{"text_format":"1","workbook":"xlsx","n_sheets":4,"sheets":["version notes","Label Inputs","blank calculator v27b","Sample EPA data"],"not_rendered":{"charts":0,"images":1,"macros":1,"external_links":0,"defined_names":1,"comments":4,"pivot_tables":0},"unopened":[],"bounds":{"document_bytes":16777216,"sheet_cells":100000,"rows_first":2000,"rows_last":500,"rows_between":2000,"halvings":0,"cell_chars":16384,"cell_head_chars":4096},"cells_cut":0,"cells_raw":0,"read":"whole","date_system":"1900"}

{"sheet":"version notes","index":0,"n_rows":19,"n_cols":3,"rows_kept":19,"cut":false,"hidden":false,"merged":[[7,0,9,0],[7,1,9,1],[10,0,12,0],[10,1,12,1]]}
[]
[]
["Version No.","Release Date","Comments"]
[23,null,"Same calculations as version 22. \nExpanded data input range to allow up to 30 charge-depleting cycles. \nUpdated label inputs (fuel prices, ratings scales, etc.) for 2018 model year based on EPA guidance. Some text changes to improve clarity."]
[24,null,"Found an error in some of the calculations for multiple test sets. These calculations referenced the transition cycle for the first test set, instead of the current test set. This would only impact the unusual situation where the transition cycle differed across test sets. "]
[25,"2017-12-27","Fixed an error where the 5-cycle adjustment (0.7 or derived 5-cycle result) was incompletely propogated throughout the charge-depleting calculations. The impact on label values should be none to very minor, affecting only those vehicles that would have been able to use an adjustment for the transition cycle that differs from 0.7. This does not happen often. \nFixed an error in the calculation of the unadjusted highway electricity Kw-Hr/100 miles, where the calculation was referencing the charge-depleting fraction from the city schedule. This does not affect any label values, only values put on the web in the online spreadsheets. \nRevised the calculation of all-electric range. Previous versions summed the distances of all-electric cycles without attention to whether the first cycle was all-electric. Thus PHEVs with no all-electric range could have appeared to have an all-electric range. You should, of course, continue to override this estimate with the actual range recorded from the test, if available.\nImproved the ability to look at all-electric range and determine whether or not a PHEV is eligible for CAFE dual fuel vehicle calculations. \nCorrected an error in the Average New Vehicle 5-Year Fuel Cost for model year 2018. The correct value is $6,750, per EPA guidance CD-16-18. \nAdded label inputs - fuel prices, ratings scales, etc. - for the 2019 model year. From EPA guidance letter cd-17-18.\nAdded error-checking where CREE will not be calculated without both charge-depleting and charge-sustaining CREE data.\nFixed some cell references in Test Set #2 and #3 cost per mile calculations where formulae inadvertently referred to Test Set #1 test data."]
["26a","2019-05-31","Added some conditional formatting to visualize non-default values entered by users. For example, fuel density and heating value.\nCorrected the equation in cell F84, for Hwy2 Unadj FE - Alternative Fuel. There was a cell referencing error that could possible affect vehilces with multiple highway tests. This does not affect CAFE, GHG, or label values.\nAdded the capability to use Deterioration Factors (DF) for CREE values. Because City and HIghway values are submitted via a table in Verify, at this point a DF must be applied separately to each value, thus adjusting each value with a DF. The user may enter different City and Highway DFs. \nEquations were changed to perform rounding consistent with EV-CIS rounding.\nSuperfluous values were removed.\nDefault method for calculating Zn is now using Amp-hours, per the regulations. This is also designed into the EV-CIS calculations.\nCalculated intermediate values were rearranged to consolidate those values calculated specifically and solely from charge-depleting test data. Those values requiring charge-sustaining or other inputs are grouped separately. Similar metrics are now grouped together. \nIncreased the number of charge-depleting cycles accommodated by the calculator tp 35.\nExplanetory comments have been added to many of the inputs and calculated parameters. "]
["26b","2019-08-15","Changed release date of v26a above from \"TBD\" to May 31, 2019. \nAdded cell borders to charge-sustaining input section. \nAmended formulae for \"CD AC electricity consumption rate (Rcda), adjusted\" to round the kW-hr input to 4 decimal places; was previously rounded to 1 decimal. \nChanged cell F23 (combind CD electricity consumption) to be rounded to 4 decimal places. Was prevoiusly rounded to one decimal. \nCorrect an error in cells D23 and E23. Values need to be multiplied by 100. "]
[null,null,"Corrected cell references in cells D15 and E15. "]
[null,null,"Changed the rounding of label cit and highway Killowatt-hours per 100 miles to 3 decimal places. Previously was rounded to 4 decimals. "]
["26c","2019-10-10","Added 2020 model year label inputs. See guidance document CD-18-13, 12/17/2018. "]
[null,null,"Revised these version notes to reflect the current state of the calculator. "]
[null,null,"Removed values from the blank version of the template. "]
["26d","2020-01-08","Added 2021 model year label inputs. See guidance document CD-19-13 (Dec. 16, 2019). "]
["26e","2020-03-24","Changed fleet utility factor calculations such that each individual calculated FUF is not rounded. Continue to round the incremental fractional FUF (i.e., FUF(n) - FUF(n-1) ) to 3 decimals. This fix was applied both the 55/44 and 43/57 utility factors.\nThe Highway calculations in column BY were found to apply slightly different rounding than the UDDS calculations in column AX. The UDDS calculations are correct, and Highway calculations were fixed to match, rounding to a whole number after the calculation. "]
["26f","2021-03-22","Added 2022 model year label inputs. See EPA Guidance Letter CD-2020-20 (Dec. 28, 2020). Added the following comments:\n     - Added a comment in cells S10, S58, S106, AA10, AA58, AA106 \"Please enter a positive amp-hour value when current is flowing out of the battery and a negative amp-hour value when current is flowing into the battery.\"  This change is needed in order to help determine whether the cycle is CD or CS based on NEC 1% Tolerance (in columns BR and CS). \n     - Added a comment in cells T10, T58, T106, AB10, AB58, AB106 \"Ref. SAE J1711 (June 2010); Section 6.3.\"\n     - Revised terms in cells C53 to C117 to be more consistent with the terms used in EPA's EV-CIS (formerly Verify) database."]
[27,"2021-09-16","Fuel properties (CWF, Specific Gravity, Net Heating Value), HC-Total, and CO added to charge-depleting data tables.  Fuel economy and CREE are now calculated by PHEV calculator.  These values are now used in the remainder of the intermediate calculations.  Values of fuel economy and CREE entered by mfr are only included for comparison.  No support for Opt-CREE, there were no Opt-CREE GHG submissions by any manufacturer for 2020.\nTransition cycle is no longer calculated automatically.  Manufacturers are now required to enter it for each CD test.\nRecharge energy (AC kilowatt-hours) fields were changed from 3 decimal to 4 decimal to match calculations in EV-CIS.  This was a pre-existing field for electric only vehicles prior to PHEV implementation.  The rounding in all formulas prior to using these values was changed from ASTM(x,3) to ASTM(x,4).\nSupport for model years prior to 2017 has been removed.\n'Average Recharge Time of Test Vehicles' calculation for both CD_UDDS and CD_Hwy added.  Combined recharge time using a 55/45 weighting and a 50/50 weighting of those values has also been added.  These new calculations were requested by manufacturers.\nData validation and conditional formatting added for most/all input fields including main CD data input tables.  Incorrect values will be highlighted in orange.\nNew table added for entering CD and CS test numbers.  CS conditional formating  based on the number of EV-CIS test numbers entered.\nNew macro for importing data from an EV-CIS validated xml file (from Request Database Report).  Can also be used to compare calculator data to xml file data and highlight differences.  To run macro: select the 'blank calculator v27' tab and select one of the cells labeled 'Miles [3]' (one of the headers of largest input tables) and type: <Alt-t>,m,m.  Select the desired macro.  Main macro can also be ran by clicking the button included in the spreadsheet.  Additional macros included for clearing a single CD test or all user data.  \nCustom 'D5C' function added to perform Derived 5-cycle FE and CO2 calculations for gasoline vehicles (2017+ coefficients only).  New function can only be used in cells for charge-sustaining adjusted FE and adjusted CO2.  These cells are in the block labeled \"ENTER CHARGE-SUSTAINING TEST RESULTS HERE\".  See \"Sample EPA data\" tab for examples on this function.  No function available for modified or full 5-cycle labels.\nCREE DF calculations corrected to add the DF for each CD/CS combination rather than after all tests have been combined. \nFor questions specifically about the changes to the V27 release, contact Robert Peavyhouse at Peavyhouse.Robert@epa.gov."]
["27a","2022-01-12","Added 2023 model year label inputs. See EPA Guidance Letter CD-2022-01, January 3, 2022."]
["27b","2022-05-03","Added support for HD 2b/3, where calculations are based on CO2 instead of CREE.  When 2b/3 is selected for 'Vehicle Category', many calculations will be disabled, and others modified to use CO2 instead of CREE.  For example: Fuel economy calculations in columns Z and AL will be disabled, and CREE calculations in columns AA and AM will be set to their corresponding CO2 values.  When 2b/3 is selected all fuel economy, 5-cycle adjusted, and CAFE values will be set to N/A.  Cell formatting will be enforced to require the CREE inputs in columns N and O to be set equal to their corresponding CO2 values in the same columns.  "]

{"sheet":"Label Inputs","index":1,"n_rows":104,"n_cols":31,"rows_kept":104,"cut":false,"hidden":false,"merged":[[2,27,2,30],[2,12,2,15],[2,17,2,20],[1,1,1,20],[2,1,2,10],[2,22,2,25]]}
[]
[null,"LABEL INPUTS: FROM EPA GUIDANCE LETTERS APPLICABLE TO THE APPROPRIATE MODEL YEAR"]
[null,"Fuel Prices",null,null,null,null,null,null,null,null,null,null,"Average New Vehicle Fuel Economy",null,null,null,null,"Average New Vehicle 5-Year Fuel Cost",null,null,null,null,"MPG Rating",null,null,null,null,"GHG Rating"]
[null,"Model Year","Regular Unleaded","Mid-Grade Unleaded","Premium Unleaded","Diesel","E85","LPG","CNG","Electricity","Hydrogen",null,"Model Year","MPG",null,null,null,"Model Year","5-Year Cost",null,null,null,"Model Year","Min","Max","Rating",null,"Model Year","Min","Max","Rating"]
[null,2011,3,3.1,3.2,3.1,2.6,null,1.9,0.11,null,null,2011,"NA",null,null,null,2011,"NA",null,null,null,2016,0,13,1,null,2016,659,null,1]
[null,2012,3.7,3.85,3.95,3.95,3.25,null,2.15,0.12,null,null,2012,"NA",null,null,null,2012,"NA",null,null,null,2016,14,15,2,null,2016,574,658,2]
[null,2013,3.55,3.65,3.8,3.8,3.1,null,2,0.12,null,null,2013,23,null,null,null,2013,11600,null,null,null,2016,16,17,3,null,2016,509,573,3]
[null,2014,3.5,3.6,3.75,3.85,3.1,null,2,0.12,null,null,2014,23,null,null,null,2014,11500,null,null,null,2016,18,20,4,null,2016,435,508,4]
[null,2015,3.5,3.65,3.8,3.75,3.1,null,2,0.12,null,null,2015,24,null,null,null,2015,11000,null,null,null,2016,21,24,5,null,2016,364,434,5]
[null,2016,3,3.15,3.3,3.35,2.6,null,1.55,0.13,null,null,2016,25,null,null,null,2016,9000,null,null,null,2016,25,27,6,null,2016,324,363,6]
[null,2017,2.4500000000000002,2.65,2.8,2.75,2.0499999999999998,null,2.1,0.13,null,null,2017,26,null,null,null,2017,7000,null,null,null,2016,28,31,7,null,2016,283,323,7]
[null,2018,2.4,2.6,2.8,2.65,1.95,null,2.1,0.13,null,null,2018,27,null,null,null,2018,6750,null,null,null,2016,32,37,8,null,2016,238,282,8]
[null,2019,2.5499999999999998,2.8,3,2.85,2.15,null,2.1,0.13,null,null,2019,27,null,null,null,2019,7000,null,null,null,2016,38,45,9,null,2016,196,237,9]
[null,2020,2.7,3,3.25,3.15,2.2999999999999998,null,2.1,0.13,null,null,2020,27,null,null,null,2020,7500,null,null,null,2016,46,99999,10,null,2016,0,195,10]
[null,2021,2.7,3,3.25,3,2.25,null,2.15,0.13,null,null,2021,27,null,null,null,2021,7500,null,null,null,2017,0,14,1,null,2017,614,null,1]
[null,2022,2.35,2.7,2.95,2.5499999999999998,1.95,null,2.15,0.13,null,null,2022,27,null,null,null,2022,6500,null,null,null,2017,15,16,2,null,2017,540,613,2]
[null,2023,2.95,3.4,3.65,3.2,2.6,null,2.15,0.14000000000000001,null,null,2023,28,null,null,null,2023,8000,null,null,null,2017,17,18,3,null,2017,481,539,3]
[null,2024,null,null,null,null,null,null,null,null,null,null,2024,null,null,null,null,2024,null,null,null,null,2017,19,21,4,null,2017,414,480,4]
[null,2025,null,null,null,null,null,null,null,null,null,null,2025,null,null,null,null,2025,null,null,null,null,2017,22,25,5,null,2017,350,413,5]
[null,null,null,null,null,null,null,null,null,null,null,null,null,null,null,null,null,null,null,null,null,null,2017,26,28,6,null,2017,313,349,6]
[null,null,null,null,null,null,null,null,null,null,null,null,null,null,null,null,null,null,null,null,null,null,2017,29,32,7,null,2017,274,312,7]
[null,null,null,null,null,null,null,null,null,null,null,null,null,null,null,null,null,null,null,null,null,null,2017,33,37,8,null,2017,238,273,8]
[null,null,null,null,null,null,null,null,null,null,null,null,null,null,null,null,null,null,null,null,null,null,2017,38,43,9,null,2017,205,237,9]
[null,null,null,null,null,null,null,null,null,null,null,null,null,null,null,null,null,null,null,null,null,null,2017,44,99999,10,null,2017,0,204,10]
[null,null,null,null,null,null,null,null,null,null,null,null,null,null,null,null,null,null,null,null,null,null,2018,0,14,1,null,2018,614,null,1]
[null,null,null,null,null,null,null,null,null,null,null,null,null,null,null,null,null,null,null,null,null,null,2018,15,16,2,null,2018,540,613,2]
[null,null,null,null,null,null,null,null,null,null,null,null,null,null,null,null,null,null,null,null,null,null,2018,17,19,3,null,2018,457,539,3]
[null,null,null,null,null,null,null,null,null,null,null,null,null,null,null,null,null,null,null,null,null,null,2018,20,22,4,null,2018,396,456,4]
[null,null,null,null,null,null,null,null,null,null,null,null,null,null,null,null,null,null,null,null,null,null,2018,23,26,5,null,2018,336,395,5]
[null,null,null,null,null,null,null,null,null,null,null,null,null,null,null,null,null,null,null,null,null,null,2018,27,29,6,null,2018,302,335,6]
[null,null,null,null,null,null,null,null,null,null,null,null,null,null,null,null,null,null,null,null,null,null,2018,30,32,7,null,2018,274,301,7]
[null,null,null,null,null,null,null,null,null,null,null,null,null,null,null,null,null,null,null,null,null,null,2018,33,37,8,null,2018,238,273,8]
[null,null,null,null,null,null,null,null,null,null,null,null,null,null,null,null,null,null,null,null,null,null,2018,38,43,9,null,2018,205,237,9]
[null,null,null,null,null,null,null,null,null,null,null,null,null,null,null,null,null,null,null,null,null,null,2018,44,99999,10,null,2018,0,204,10]
[null,null,null,null,null,null,null,null,null,null,null,null,null,null,null,null,null,null,null,null,null,null,2019,0,14,1,null,2019,614,null,1]
[null,null,null,null,null,null,null,null,null,null,null,null,null,null,null,null,null,null,null,null,null,null,2019,15,16,2,null,2019,540,613,2]
[null,null,null,null,null,null,null,null,null,null,null,null,null,null,null,null,null,null,null,null,null,null,2019,17,19,3,null,2019,457,539,3]
[null,null,null,null,null,null,null,null,null,null,null,null,null,null,null,null,null,null,null,null,null,null,2019,20,22,4,null,2019,396,456,4]
[null,null,null,null,null,null,null,null,null,null,null,null,null,null,null,null,null,null,null,null,null,null,2019,23,26,5,null,2019,336,395,5]
[null,null,null,null,null,null,null,null,null,null,null,null,null,null,null,null,null,null,null,null,null,null,2019,27,29,6,null,2019,302,335,6]
[null,null,null,null,null,null,null,null,null,null,null,null,null,null,null,null,null,null,null,null,null,null,2019,30,32,7,null,2019,274,301,7]
[null,null,null,null,null,null,null,null,null,null,null,null,null,null,null,null,null,null,null,null,null,null,2019,33,37,8,null,2019,238,273,8]
[null,null,null,null,null,null,null,null,null,null,null,null,null,null,null,null,null,null,null,null,null,null,2019,38,43,9,null,2019,205,237,9]
[null,null,null,null,null,null,null,null,null,null,null,null,null,null,null,null,null,null,null,null,null,null,2019,44,99999,10,null,2019,0,204,10]
[null,null,null,null,null,null,null,null,null,null,null,null,null,null,null,null,null,null,null,null,null,null,2020,0,14,1,null,2020,614,null,1]
[null,null,null,null,null,null,null,null,null,null,null,null,null,null,null,null,null,null,null,null,null,null,2020,15,16,2,null,2020,540,613,2]
[null,null,null,null,null,null,null,null,null,null,null,null,null,null,null,null,null,null,null,null,null,null,2020,17,19,3,null,2020,457,539,3]
[null,null,null,null,null,null,null,null,null,null,null,null,null,null,null,null,null,null,null,null,null,null,2020,20,22,4,null,2020,396,456,4]
[null,null,null,null,null,null,null,null,null,null,null,null,null,null,null,null,null,null,null,null,null,null,2020,23,26,5,null,2020,336,395,5]
[null,null,null,null,null,null,null,null,null,null,null,null,null,null,null,null,null,null,null,null,null,null,2020,27,29,6,null,2020,302,335,6]
[null,null,null,null,null,null,null,null,null,null,null,null,null,null,null,null,null,null,null,null,null,null,2020,30,33,7,null,2020,266,301,7]
[null,null,null,null,null,null,null,null,null,null,null,null,null,null,null,null,null,null,null,null,null,null,2020,34,38,8,null,2020,232,265,8]
[null,null,null,null,null,null,null,null,null,null,null,null,null,null,null,null,null,null,null,null,null,null,2020,39,44,9,null,2020,201,231,9]
[null,null,null,null,null,null,null,null,null,null,null,null,null,null,null,null,null,null,null,null,null,null,2020,45,99999,10,null,2020,0,200,10]
[null,null,null,null,null,null,null,null,null,null,null,null,null,null,null,null,null,null,null,null,null,null,2021,0,14,1,null,2021,614,null,1]
[null,null,null,null,null,null,null,null,null,null,null,null,null,null,null,null,null,null,null,null,null,null,2021,15,16,2,null,2021,540,613,2]
[null,null,null,null,null,null,null,null,null,null,null,null,null,null,null,null,null,null,null,null,null,null,2021,17,19,3,null,2021,457,539,3]
[null,null,null,null,null,null,null,null,null,null,null,null,null,null,null,null,null,null,null,null,null,null,2021,20,22,4,null,2021,396,456,4]
[null,null,null,null,null,null,null,null,null,null,null,null,null,null,null,null,null,null,null,null,null,null,2021,23,26,5,null,2021,336,395,5]
[null,null,null,null,null,null,null,null,null,null,null,null,null,null,null,null,null,null,null,null,null,null,2021,27,30,6,null,2021,292,335,6]
[null,null,null,null,null,null,null,null,null,null,null,null,null,null,null,null,null,null,null,null,null,null,2021,31,35,7,null,2021,251,291,7]
[null,null,null,null,null,null,null,null,null,null,null,null,null,null,null,null,null,null,null,null,null,null,2021,36,42,8,null,2021,210,250,8]
[null,null,null,null,null,null,null,null,null,null,null,null,null,null,null,null,null,null,null,null,null,null,2021,43,52,9,null,2021,170,209,9]
[null,null,null,null,null,null,null,null,null,null,null,null,null,null,null,null,null,null,null,null,null,null,2021,53,99999,10,null,2021,0,169,10]
[null,null,null,null,null,null,null,null,null,null,null,null,null,null,null,null,null,null,null,null,null,null,2022,0,13,1,null,2022,659,null,1]
[null,null,null,null,null,null,null,null,null,null,null,null,null,null,null,null,null,null,null,null,null,null,2022,14,15,2,null,2022,574,658,2]
[null,null,null,null,null,null,null,null,null,null,null,null,null,null,null,null,null,null,null,null,null,null,2022,16,18,3,null,2022,481,573,3]
[null,null,null,null,null,null,null,null,null,null,null,null,null,null,null,null,null,null,null,null,null,null,2022,19,21,4,null,2022,414,480,4]
[null,null,null,null,null,null,null,null,null,null,null,null,null,null,null,null,null,null,null,null,null,null,2022,22,26,5,null,2022,336,413,5]
[null,null,null,null,null,null,null,null,null,null,null,null,null,null,null,null,null,null,null,null,null,null,2022,27,30,6,null,2022,292,335,6]
[null,null,null,null,null,null,null,null,null,null,null,null,null,null,null,null,null,null,null,null,null,null,2022,31,36,7,null,2022,244,291,7]
[null,null,null,null,null,null,null,null,null,null,null,null,null,null,null,null,null,null,null,null,null,null,2022,37,44,8,null,2022,201,243,8]
[null,null,null,null,null,null,null,null,null,null,null,null,null,null,null,null,null,null,null,null,null,null,2022,45,57,9,null,2022,156,200,9]
[null,null,null,null,null,null,null,null,null,null,null,null,null,null,null,null,null,null,null,null,null,null,2022,58,99999,10,null,2022,0,155,10]
[null,null,null,null,null,null,null,null,null,null,null,null,null,null,null,null,null,null,null,null,null,null,2023,0,13,1,null,2023,659,null,1]
[null,null,null,null,null,null,null,null,null,null,null,null,null,null,null,null,null,null,null,null,null,null,2023,14,15,2,null,2023,574,658,2]
[null,null,null,null,null,null,null,null,null,null,null,null,null,null,null,null,null,null,null,null,null,null,2023,16,17,3,null,2023,509,573,3]
[null,null,null,null,null,null,null,null,null,null,null,null,null,null,null,null,null,null,null,null,null,null,2023,18,21,4,null,2023,414,508,4]
[null,null,null,null,null,null,null,null,null,null,null,null,null,null,null,null,null,null,null,null,null,null,2023,22,27,5,null,2023,324,413,5]
[null,null,null,null,null,null,null,null,null,null,null,null,null,null,null,null,null,null,null,null,null,null,2023,28,33,6,null,2023,266,323,6]
[null,null,null,null,null,null,null,null,null,null,null,null,null,null,null,null,null,null,null,null,null,null,2023,34,40,7,null,2023,220,265,7]
[null,null,null,null,null,null,null,null,null,null,null,null,null,null,null,null,null,null,null,null,null,null,2023,41,51,8,null,2023,174,219,8]
[null,null,null,null,null,null,null,null,null,null,null,null,null,null,null,null,null,null,null,null,null,null,2023,52,71,9,null,2023,125,173,9]
[null,null,null,null,null,null,null,null,null,null,null,null,null,null,null,null,null,null,null,null,null,null,2023,72,99999,10,null,2023,0,124,10]
[null,null,null,null,null,null,null,null,null,null,null,null,null,null,null,null,null,null,null,null,null,null,2024,null,null,1,null,2024,null,null,1]
[null,null,null,null,null,null,null,null,null,null,null,null,null,null,null,null,null,null,null,null,null,null,2024,null,null,2,null,2024,null,null,2]
[null,null,null,null,null,null,null,null,null,null,null,null,null,null,null,null,null,null,null,null,null,null,2024,null,null,3,null,2024,null,null,3]
[null,null,null,null,null,null,null,null,null,null,null,null,null,null,null,null,null,null,null,null,null,null,2024,null,null,4,null,2024,null,null,4]
[null,null,null,null,null,null,null,null,null,null,null,null,null,null,null,null,null,null,null,null,null,null,2024,null,null,5,null,2024,null,null,5]
[null,null,null,null,null,null,null,null,null,null,null,null,null,null,null,null,null,null,null,null,null,null,2024,null,null,6,null,2024,null,null,6]
[null,null,null,null,null,null,null,null,null,null,null,null,null,null,null,null,null,null,null,null,null,null,2024,null,null,7,null,2024,null,null,7]
[null,null,null,null,null,null,null,null,null,null,null,null,null,null,null,null,null,null,null,null,null,null,2024,null,null,8,null,2024,null,null,8]
[null,null,null,null,null,null,null,null,null,null,null,null,null,null,null,null,null,null,null,null,null,null,2024,null,null,9,null,2024,null,null,9]
[null,null,null,null,null,null,null,null,null,null,null,null,null,null,null,null,null,null,null,null,null,null,2024,null,null,10,null,2024,null,null,10]
[null,null,null,null,null,null,null,null,null,null,null,null,null,null,null,null,null,null,null,null,null,null,2025,null,null,1,null,2025,null,null,1]
[null,null,null,null,null,null,null,null,null,null,null,null,null,null,null,null,null,null,null,null,null,null,2025,null,null,2,null,2025,null,null,2]
[null,null,null,null,null,null,null,null,null,null,null,null,null,null,null,null,null,null,null,null,null,null,2025,null,null,3,null,2025,null,null,3]
[null,null,null,null,null,null,null,null,null,null,null,null,null,null,null,null,null,null,null,null,null,null,2025,null,null,4,null,2025,null,null,4]
[null,null,null,null,null,null,null,null,null,null,null,null,null,null,null,null,null,null,null,null,null,null,2025,null,null,5,null,2025,null,null,5]
[null,null,null,null,null,null,null,null,null,null,null,null,null,null,null,null,null,null,null,null,null,null,2025,null,null,6,null,2025,null,null,6]
[null,null,null,null,null,null,null,null,null,null,null,null,null,null,null,null,null,null,null,null,null,null,2025,null,null,7,null,2025,null,null,7]
[null,null,null,null,null,null,null,null,null,null,null,null,null,null,null,null,null,null,null,null,null,null,2025,null,null,8,null,2025,null,null,8]
[null,null,null,null,null,null,null,null,null,null,null,null,null,null,null,null,null,null,null,null,null,null,2025,null,null,9,null,2025,null,null,9]
[null,null,null,null,null,null,null,null,null,null,null,null,null,null,null,null,null,null,null,null,null,null,2025,null,null,10,null,2025,null,null,10]

{"sheet":"blank calculator v27b","index":2,"n_rows":145,"n_cols":100,"rows_kept":145,"cut":false,"hidden":false,"merged":[[102,110,106,110],[102,117,106,117],[130,2,130,5],[101,29,104,29],[101,30,104,30],[101,31,104,31],[101,32,104,32],[101,33,104,33],[101,34,104,34],[101,22,104,22],[101,23,104,23],[101,24,104,24],[101,25,104,25],[101,26,104,26],[101,28,104,28],[101,16,104,16],[101,17,104,17],[101,18,104,18],[101,19,104,19],[101,20,104,20],[101,21,104,21],[100,94,104,94],[100,95,104,95],[100,96,104,96],[100,97,104,97],[100,98,104,98],[100,99,104,99],[100,88,104,88],[100,89,104,89],[100,90,104,90],[100,91,104,91],[100,92,104,92],[100,93,104,93],[100,82,104,82],[100,83,104,83],[100,84,104,84],[100,85,104,85],[100,86,104,86],[100,87,104,87],[100,75,104,75],[100,76,104,76],[100,78,104,78],[100,79,104,79],[100,80,104,80],[100,81,104,81],[100,69,104,69],[100,70,104,70],[100,71,104,71],[100,72,104,72],[100,73,104,73],[100,74,104,74],[100,63,104,63],[100,64,104,64],[100,65,104,65],[100,66,104,66],[100,67,104,67],[100,68,104,68],[100,57,104,57],[100,58,104,58],[100,59,104,59],[100,60,104,60],[100,61,104,61],[100,62,104,62],[53,35,56,35],[53,36,56,36],[53,37,56,37],[53,38,56,38],[100,55,104,55],[100,56,104,56],[101,35,104,35],[101,36,104,36],[101,37,104,37],[101,38,104,38],[53,29,56,29],[53,30,56,30],[53,31,56,31],[53,32,56,32],[53,33,56,33],[53,34,56,34],[53,22,56,22],[53,23,56,23],[53,24,56,24],[53,25,56,25],[53,26,56,26],[53,28,56,28],[52,96,56,96],[52,97,56,97],[52,98,56,98],[52,99,56,99],[53,16,56,16],[53,17,56,17],[53,18,56,18],[53,19,56,19],[53,20,56,20],[53,21,56,21],[52,90,56,90],[52,91,56,91],[52,92,56,92],[52,93,56,93],[52,94,56,94],[52,95,56,95],[52,84,56,84],[52,85,56,85],[52,86,56,86],[52,87,56,87],[52,88,56,88],[52,89,56,89],[52,78,56,78],[52,79,56,79],[52,80,56,80],[52,81,56,81],[52,82,56,82],[52,83,56,83],[52,71,56,71],[52,72,56,72],[52,73,56,73],[52,74,56,74],[52,75,56,75],[52,76,56,76],[52,65,56,65],[52,66,56,66],[52,67,56,67],[52,68,56,68],[52,69,56,69],[52,70,56,70],[52,59,56,59],[52,60,56,60],[52,61,56,61],[52,62,56,62],[52,63,56,63],[52,64,56,64],[5,37,8,37],[5,38,8,38],[52,55,56,55],[52,56,56,56],[52,57,56,57],[52,58,56,58],[5,31,8,31],[5,32,8,32],[5,33,8,33],[5,34,8,34],[5,35,8,35],[5,36,8,36],[5,24,8,24],[5,25,8,25],[5,26,8,26],[5,28,8,28],[5,29,8,29],[5,30,8,30],[4,98,8,98],[4,99,8,99],[5,16,8,16],[5,17,8,17],[5,18,8,18],[5,19,8,19],[5,20,8,20],[5,21,8,21],[5,22,8,22],[5,23,8,23],[4,92,8,92],[4,93,8,93],[4,94,8,94],[4,95,8,95],[4,96,8,96],[4,97,8,97],[4,86,8,86],[4,87,8,87],[4,88,8,88],[4,89,8,89],[4,90,8,90],[4,91,8,91],[4,80,8,80],[4,81,8,81],[4,82,8,82],[4,83,8,83],[4,84,8,84],[4,85,8,85],[4,73,8,73],[4,74,8,74],[4,75,8,75],[4,76,8,76],[4,78,8,78],[4,79,8,79],[4,67,8,67],[4,68,8,68],[4,69,8,69],[4,70,8,70],[4,71,8,71],[4,72,8,72],[4,61,8,61],[4,62,8,62],[4,63,8,63],[4,64,8,64],[4,65,8,65],[4,66,8,66],[4,55,8,55],[4,56,8,56],[4,57,8,57],[4,58,8,58],[4,59,8,59],[4,60,8,60]]}
[null,"ENTER/REPLACE DATA IN GREEN CELLS ONLY!"]
[null,null,null,null,null,null,null,null,null,null,null,null,null,null,null,null,null,null,null,null,null,null,null,null,null,null,null,null,null,null,null,null,null,null,null,null,null,null,null,null,null,null," "]
[null,"CALCULATED CAFE, GHG, AND LABEL VALUES",null,null,null,null,null,null,"ENTER BASIC VEHICLE INFORMATION HERE",null,null,null,"Test Set #1",null,null,null,"Test Set #1",null,null,null,null,null,null,null,null,null,null,null,"Test Set #1",null,null,null,null,null,null,null,null,null,null,null,null,null,"Results from Test Set #1:",{"$f":"N6","v":0},null,null,null,null,"INTERMEDIATE CALCULATIONS AND INPUTS",null,"Test Set #1:",{"$f":"N6","v":0}]
[null,null,"CAFE Values",null,null,null,null,null,"Vehicle Information",null,null,null,null,null,null,null,null,null,null,null,null,null,null,null,null,null,null,null,null,null,null,null,null,null,null,null,null,null,null,null,null,null,"CAFE Values",null,null,null,null,null,"Charge-Depleting (CD) Test Results",null,null,null,null,null,null,"DETAILED CALCULATIONS",null,"UDDS",{"$f":"$AZ3","v":0},null,null,null,null,null,null,null,null,null,null,null,null,null,null,null,null,null,null,null,"DETAILED CALCULATIONS",null,"HFET",{"$f":"$AZ3","v":0}]
[null,"ü","A. PHEV meets dual fuel criteria:","City","Highway","Combined",null,null,"Model year:",null,null,null,null,null,null,null,"ENTER CHARGE-DEPLETING UDDS (CITY) DATA HERE",null,null,null,null,null,null,null,null,null,null,null,"ENTER CHARGE-DEPLETING HFET (HIGHWAY) DATA HERE",null,null,null,null,null,null,null,null,null,null,null,null,null,"A. PHEV meets dual fuel criteria:","City","Highway","Combined",null,null,null,"DRIVING DISTANCE VALUES","CITY","HIGHWAY",null,null,null,"Cycle No.","Gasoline Consumed","CO2\n[0]","Net Amp-Hours Used Per Cycle [3]","DC Electricity Consumed\n[1]","AC Electricity Consumed\n[1]","Theoretical Cumulative Cycle Distance","Electric Only Fuel Consumption Rate","Total Fuel Consumption Rate (gas + electric)","55/45 City Fleet Utility Factor\n[3]",{"$f":"IF($J$6=\"HD 2b/3\",\"55/45 City FUF\nx\nCREE (CO2)\",\"55/45 City FUF\nx\nCREE\")","v":"55/45 City FUF\nx\nCREE"},"55/45 City FUF\nx\nTotal Consumption","Total Fuel Consumption (gas + electric)","5-Cycle Adjustment","Adjusted Cycle Measured Distance","Adjusted Cycle Theoretical Cumulative Distance","MDIUF\n[3]","MDIUF\nx\nAdjusted CO2","MDIUF\nx\nAdjusted Total Fuel Consumption","43/57 City Fleet Utility Factor\n[3]","43/57 City FUF x\nAdjusted Total Fuel Consumption Rate","43/57 City FUF\nx\nAdjusted CREE",null,"Cycle No.","Gasoline Consumed","CO2\n[0]","Net Amp-Hours Used Per Cycle [3]","DC Electricity Consumed\n[1]","AC Electricity Consumed\n[1]","Theoretical Cumulative Cycle Distance","Electric Only Fuel Consumption Rate","Total Fuel Consumption Rate (gas + electric)","55/45 Highway Fleet Utility Factor\n[3]",{"$f":"IF($J$6=\"HD 2b/3\",\"55/45 City FUF\nx\nCREE (CO2)\",\"55/45 City FUF\nx\nCREE\")","v":"55/45 City FUF\nx\nCREE"},"55/45 Highway FUF\nx\nTotal Consumption","Total Fuel Consumption (gas + electric)","5-Cycle Adjustment","Adjusted Cycle Measured Distance","Adjusted Cycle Theoretical Cumulative Distance","MDIUF\n[3]","MDIUF\nx\nAdjusted CO2","MDIUF\nx\nAdjusted Total Fuel Consumption","43/57 Highway Fleet Utility Factor\n[3]","43/57 Highway FUF x\nAdjusted Total Fuel Consumption Rate","43/57 Highway FUF\nx\nAdjusted CREE"]
[null,"→"," 1. Default 50/50 Composite MPGe",{"$f":"IF($N$7+$N$55+$N$103=0,    ((AR6<>0)+(AR54<>0)+(AR102<>0))/(IFERROR(1/AR6,0)+IFERROR(1/AR54,0)+IFERROR(1/AR102,0)),    ($N$7+$N$55+$N$103) / (IFERROR($N$7/AR6,0)+IFERROR($N$55/AR54,0)+IFERROR($N$103/AR102,0))  )","v":{"$error":"#DIV/0!"}},{"$f":"IF($N$7+$N$55+$N$103=0,    ((AS6<>0)+(AS54<>0)+(AS102<>0))/(IFERROR(1/AS6,0)+IFERROR(1/AS54,0)+IFERROR(1/AS102,0)),    ($N$7+$N$55+$N$103) / (IFERROR($N$7/AS6,0)+IFERROR($N$55/AS54,0)+IFERROR($N$103/AS102,0))  )","v":{"$error":"#DIV/0!"}},{"$f":"IF(OR(ISNUMBER(D6)=FALSE,ISNUMBER(E6)=FALSE),NA(),ASTM(1/(0.55/D6+0.45/E6),4))","v":{"$error":"#N/A"}},"←",null,"Vehicle category:",null,null,null,"Test Set name (e.g., Eco, Power):",null,null,null,"Cycle No.","Cycle/\nPhase\nMeasured\nDistance","Integrated Amp-Hours Electricity Used","Average\nCycle\nVoltage","HC-Total","CO","CO2","Mfr Calc\nFuel\nEconomy","Mfr Calc\nCREE","EPA Calc\n(E0 Gas)\nFuel\nEconomy",{"$f":"IF($J$6=\"HD 2b/3\",\"EPA Calc\n(E0 Gas)\nCREE=CO2\",\"EPA Calc\n(E0 Gas)\nCREE\")","v":"EPA Calc\n(E0 Gas)\nCREE"},null,"Cycle No.","Cycle/\nPhase\nMeasured\nDistance","Integrated Amp-Hours Electricity Used","Average\nCycle\nVoltage","HC-Total","CO","CO2","Mfr Calc\nFuel\nEconomy","Mfr Calc\nCREE","EPA Calc\n(E0 Gas)\nFuel\nEconomy",{"$f":"IF($J$6=\"HD 2b/3\",\"EPA Calc\n(E0 Gas)\nCREE=CO2\",\"EPA Calc\n(E0 Gas)\nCREE\")","v":"EPA Calc\n(E0 Gas)\nCREE"},null,null,null," 1. Default 50/50 Composite MPGe [4]",{"$f":"IF($J$6=\"HD 2b/3\",NA(),IFERROR(ASTM(1/(0.5/((82049)/(AY11/AY37))+0.5/N11),4),0))","v":0},{"$f":"IF($J$6=\"HD 2b/3\",NA(),IFERROR(ASTM(1/(0.5/((82049)/(AZ11/AZ37))+0.5/O11),4),0))","v":0},{"$f":"IF($J$6=\"HD 2b/3\",NA(),IFERROR(ASTM(1/(0.55/AR6+0.45/AS6),4),0))","v":0},null,null,null,"CD driving distance (Rcda), unadjusted (miles) [3]",{"$f":"IF($J$6=\"HD 2b/3\",NA(),IFERROR(ASTM(SUMIF(Q11:Q45,\"<=\" & ($AY34-1),R11:R45) + AY33*VLOOKUP($AY34,Q11:R45,2,FALSE),3),0))","v":0},{"$f":"IF($J$6=\"HD 2b/3\",NA(),IFERROR(ASTM(SUMIF(AC11:AC45,\"<=\" & ($AZ34-1),AD11:AD45) + AZ33*VLOOKUP($AZ34,AC11:AD45,2,FALSE),3),0))","v":0}]
[null,"→"," 2. Optional Utility Factor Composite MPGe",{"$f":"IF($N$7+$N$55+$N$103=0,    ((AR7<>0)+(AR55<>0)+(AR103<>0))/(IFERROR(1/AR7,0)+IFERROR(1/AR55,0)+IFERROR(1/AR103,0)),    ($N$7+$N$55+$N$103) / (IFERROR($N$7/AR7,0)+IFERROR($N$55/AR55,0)+IFERROR($N$103/AR103,0))  )","v":{"$error":"#DIV/0!"}},{"$f":"IF($N$7+$N$55+$N$103=0,    ((AS7<>0)+(AS55<>0)+(AS103<>0))/(IFERROR(1/AS7,0)+IFERROR(1/AS55,0)+IFERROR(1/AS103,0)),    ($N$7+$N$55+$N$103) / (IFERROR($N$7/AS7,0)+IFERROR($N$55/AS55,0)+IFERROR($N$103/AS103,0))  )","v":{"$error":"#DIV/0!"}},{"$f":"IF(OR(ISNUMBER(D7)=FALSE,ISNUMBER(E7)=FALSE),NA(),ASTM(1/(0.55/D7+0.45/E7),4))","v":{"$error":"#N/A"}},"←",null,"Manufacturer name:",null,null,null,"Production Volume (projected or actual):",null,null,null,null,null,null,null,null,null,null,null,null,null,null,null,null,null,null,null,null,null,null,null,null,null,null,null,null,null," 2. Optional Utility Factor Composite MPGe [4]",{"$f":"IF($J$6=\"HD 2b/3\",NA(),IFERROR(ASTM(1/(AY40/((82049)/(AY11/AY37))+(1-AY40)/N11), 4),0))","v":0},{"$f":"IF($J$6=\"HD 2b/3\",NA(),IFERROR(ASTM(1/(AZ40/((82049)/(AZ11/AZ37))+(1-AZ40)/O11), 4),0))","v":0},{"$f":"IF($J$6=\"HD 2b/3\",NA(),IFERROR(ASTM(1/(0.55/AR7+0.45/AS7),4),0))","v":0},null,null,null,"CD driving distance (Rcda), adjusted (miles) [3]",{"$f":"IF($J$6=\"HD 2b/3\",NA(),IFERROR(ASTM(SUMIF(BD11:BD45,\"<\"&AY34,BR11:BR45)+AY33*SUMIF(BD11:BD45,\"=\"&AY34,BR11:BR45),3),0))","v":0},{"$f":"IF($J$6=\"HD 2b/3\",NA(),IFERROR(ASTM(SUMIF(CA11:CA45,\"<\"&AZ34,CO11:CO45)+AZ33*SUMIF(CA11:CA45,\"=\"&AZ34,CO11:CO45),3),0))","v":0}]
[null,"þ","B. PHEV does NOT meet dual fuel criteria:","City","Highway","Combined",null,null,"Model name:",null,null,null,null,null,null,null,null,null,null,null,null,null,null,null,null,null,null,null,null,null,null,null,null,null,null,null,null,null,null,null,null,null,"B. PHEV does NOT meet dual fuel criteria:","City","Highway","Combined",null,null,null,"CD all-electric driving distance, unadjusted (miles) [3]",{"$f":"IF($J$6=\"HD 2b/3\",NA(),IF(ISNUMBER(Y47), ASTM(Y47,3), 0))","v":0},{"$f":"IF($J$6=\"HD 2b/3\",NA(),IF(ISNUMBER(AK47), ASTM(AK47,3), 0))","v":0}]
[null,"→","  1. Utility Factor Composity MPGe",{"$f":"IF($N$7+$N$55+$N$103=0,    ((AR9<>0)+(AR57<>0)+(AR105<>0))/(IFERROR(1/AR9,0)+IFERROR(1/AR57,0)+IFERROR(1/AR105,0)),    ($N$7+$N$55+$N$103) / (IFERROR($N$7/AR9,0)+IFERROR($N$55/AR57,0)+IFERROR($N$103/AR105,0))  )","v":{"$error":"#DIV/0!"}},{"$f":"IF($N$7+$N$55+$N$103=0,    ((AS9<>0)+(AS57<>0)+(AS105<>0))/(IFERROR(1/AS9,0)+IFERROR(1/AS57,0)+IFERROR(1/AS105,0)),    ($N$7+$N$55+$N$103) / (IFERROR($N$7/AS9,0)+IFERROR($N$55/AS57,0)+IFERROR($N$103/AS105,0))  )","v":{"$error":"#DIV/0!"}},{"$f":"IF(OR(ISNUMBER(D9)=FALSE,ISNUMBER(E9)=FALSE),NA(),ASTM(1/(0.55/D9+0.45/E9),4))","v":{"$error":"#N/A"}},"←",null,"Liquid fuel type:",null,null,null,"ENTER CHARGE-SUSTAINING TEST RESULTS HERE",null,null,null,null,null,null,null,null,null,null,null,null,null,null,null,null,null,null,null,null,null,null,null,null,null,null,null,null,null,"  1. Utility Factor Composite MPGe [4]",{"$f":"IF($J$6=\"HD 2b/3\",NA(),IFERROR(ASTM(1/(AY15+(1-AY30)/N11),4),0))","v":0},{"$f":"IF($J$6=\"HD 2b/3\",NA(),IFERROR(ASTM(1/(AZ15+(1-AZ30)/O11),4),0))","v":0},{"$f":"IF($J$6=\"HD 2b/3\",NA(),IFERROR(ASTM(1/(0.55/AR9+0.45/AS9),4),0))","v":0},null,null,null,"CD All-Electric Range, adjusted (mi) [3]",{"$f":"IF($J$6=\"HD 2b/3\",NA(),ASTM( 0.7*AY8, 3))","v":0},{"$f":"IF($J$6=\"HD 2b/3\",NA(),ASTM( 0.7*AZ8, 3))","v":0}]
[null,null,"Based on the all-electric range, is this PHEV a dual fuel vehicle for CAFE?",null,null,{"$f":"IF(OR($J$6=\"LT\",AND($J$6=\"PV\",D12>=7.5,E12>=10.2)),\"YES\",\"NO\")","v":"NO"},null,null,"Additional descriptors as needed:",null,null,null,null,"City","Highway",null,"No.","Miles [3]","Amp-hrs [3]","Volts [2]","g/mi [3]","g/mi [2]","g/mi [0]","MPG [1]","g/mi [0]","MPG [1]","g/mi [0]",null,"No.","Miles [3]","Amp-hrs [3]","Volts [2]","g/mi [3]","g/mi [2]","g/mi [0]","MPG [1]","g/mi [0]","MPG [1]","g/mi [0]",null,null,null,"GHG Values","City","Highway","Combined",null,null,null,"FUEL CONSUMPTION & ECONOMY VALUES","CITY","HIGHWAY",null,null,null,"No.","gal","grams","Amp-hours","W-hours","W-hours","mi","gal/mi equiv","gal/mi equiv","UF","UF","gal/mi equiv","gal-equiv","%","miles","miles","UF","g/mi","gal/mi equiv","UF","gal/mi equiv","g/mi",null,"No.","gal","grams","Amp-hours","W-hours","W-hours","mi","gal/mi equiv","gal/mi equiv","UF","UF","gal/mi equiv","gal-equiv","%","miles","miles","UF","g/mi","gal-equiv","UF","gal-equiv","g/mi"]
[null,null,null,"City","Highway","Combined",null,null,"Fuel tank size (U.S. gallons):",null,null,null,"Fuel Economy, Unadjusted (MPG):",null,null,null,1,null,null,null,null,null,null,null,null,{"$f":"IF(ISBLANK(R11),\"\",IF(OR($J$6=\"HD 2b/3\",COUNT(R11:W11)<>6,$AA$47<>\"Yes\",$AA$49<>\"Yes\"),NA(),IF(ASTM(W11,0)=0,0,ASTM((51740000*$T$46*$T$47)/((($T$46*U11)+(0.429*V11)+(0.273*W11))*((0.6*$T$47*$T$48)+5471)),1))))","v":""},{"$f":"IF(ISBLANK(R11),\"\",IF(OR(AND($J$6<>\"HD 2b/3\",COUNT(R11:W11)<>6),AND($J$6=\"HD 2b/3\",COUNT(R11)+COUNT(W11)<>2),$AA$47<>\"Yes\",$AA$49<>\"Yes\"),NA(),IF(ASTM(W11,0)=0,0,IF($J$6=\"HD 2b/3\",W11,ASTM((($T$46/0.273)*U11)+(1.571*V11)+W11,0)))))","v":""},null,1,null,null,null,null,null,null,null,null,{"$f":"IF(ISBLANK(AD11),\"\",IF(OR($J$6=\"HD 2b/3\",COUNT(AD11:AI11)<>6,$AM$47<>\"Yes\",$AM$49<>\"Yes\"),NA(),IF(ASTM(AI11,0)=0,0,ASTM((51740000*$AF$46*$AF$47)/((($AF$46*AG11)+(0.429*AH11)+(0.273*AI11))*((0.6*$AF$47*$AF$48)+5471)),1))))","v":""},{"$f":"IF(ISBLANK(AD11),\"\",IF(OR(AND($J$6<>\"HD 2b/3\",COUNT(AD11:AI11)<>6),AND($J$6=\"HD 2b/3\",COUNT(AD11)+COUNT(AI11)<>2),$AM$47<>\"Yes\",$AM$49<>\"Yes\"),NA(),IF(ASTM(AI11,0)=0,0,IF($J$6=\"HD 2b/3\",AI11,ASTM((($AF$46/0.273)*AG11)+(1.571*AH11)+AI11,0)))))","v":""},null," ",null,"Composite CREE no DF, (g/mi) [1]",{"$f":"IFERROR(IF(OR(N13=0,ISBLANK(N13),N14=0,ISBLANK(N14),SUM(AA11:AA45)=0,LOOKUP(2,1/(AA11:AA45<>\"\"),ROW(AA11:AA45))<LOOKUP(2,1/(R11:R45<>\"\"),ROW(R11:R45))),\"ERROR\",ASTM(AY27+(1-AY30)*N13,1)),0)","v":0},{"$f":"IFERROR(IF(OR(O13=0,ISBLANK(O13),O14=0,ISBLANK(O14),SUM(AM11:AM45)=0,LOOKUP(2,1/(AM11:AM45<>\"\"),ROW(AM11:AM45))<LOOKUP(2,1/(AD11:AD45<>\"\"),ROW(AD11:AD40))),\"ERROR\",ASTM(AZ27+(1-AZ30)*O13,1)),0)","v":0},{"$f":"IF(OR(ISNUMBER(AR11)=FALSE,ISNUMBER(AS11)=FALSE),NA(),ASTM(0.55*AR11+0.45*AS11,1))","v":0},null,null,"NEW","CD AC electricity consumption (Rcdc), unadjusted (Watt-hours) [1]",{"$f":"IF($J$6=\"HD 2b/3\",NA(),ASTM(SUMIF(BD11:BD45,\"<=\" & AY34,BI11:BI45),1))","v":0},{"$f":"IF($J$6=\"HD 2b/3\",NA(),ASTM(SUMIF(CA11:CA45,\"<=\" & AZ34,CF11:CF45),1))","v":0},null,null,null,1,{"$f":"IF(ISBLANK(R11),\"\",IF(COUNT(R11:AA11)<>10,NA(),IF(ASTM(W11,0)=0,0,IFERROR(ASTM(R11,3)/ASTM(Z11,1),0))))","v":""},{"$f":"IF(ISBLANK(R11),\"\",IF(COUNT(R11:AA11)<>10,NA(),IF(W11=0,0,ASTM(ASTM(W11,0)*ASTM(R11,3),0))))","v":""},{"$f":"IF(ISBLANK(R11),\"\",IF(COUNT(R11:AA11)<>10,NA(),ASTM(S11,3)))","v":""},{"$f":"IF(ISBLANK(R11),\"\",IF(COUNT(R11:AA11)<>10,NA(),ASTM(BG11*ASTM(T11,2),1)))","v":""},{"$f":"IF(ISBLANK(R11),\"\",IF(COUNT(R11:AA11)<>10,NA(),ASTM(ASTM($Y$46,4)*1000*(BH11/$AY$13),1)))","v":""},{"$f":"IF(ISBLANK(R11),\"\",BD11*7.45)","v":""},{"$f":"IF(ISBLANK(R11),\"\",IF(COUNT(R11:AA11)<>10,NA(),BI11/(33705*ASTM(R11,3))))","v":""},{"$f":"IF(ISBLANK(R11),\"\",IF(COUNT(R11:AA11)<>10,NA(),BK11+BE11/ASTM(R11,3)))","v":""},{"$f":"IF(ISBLANK(R11),\"\",IFERROR(ASTM(cityfuf(BJ11)-0,3),\"\"))","v":""},{"$f":"IF(ISBLANK(R11),\"\",IF(OR(ISNUMBER(R11)=FALSE,ISNUMBER(AA11)=FALSE),NA(),IF(ASTM(W11,0)=0,0,BM11*ASTM(AA11,0))))","v":""},{"$f":"IF(ISBLANK(R11),\"\",IF(COUNT(R11:AA11)<>10,NA(),BL11*BM11))","v":""},{"$f":"IF(ISBLANK(R11),\"\",IF(COUNT(R11:AA11)<>10,NA(),BL11*ASTM(R11,3)))","v":""},{"$f":"IF(ISBLANK(R11),\"\",IF(COUNT(R11:AA11)<>10,NA(),MAX(1/(0.004091*(1/BL11)+1.1601),0.7)))","v":""},{"$f":"IF(ISBLANK(R11),\"\",IF(COUNT(R11:AA11)<>10,NA(),BQ11*ASTM(R11,3)))","v":""},{"$f":"IF(ISBLANK(R11),\"\",IF(COUNT(R11:AA11)<>10,NA(),BQ11*7.45))","v":""},{"$f":"IF(ISBLANK(R11),\"\",IF(COUNT(R11:AA11)<>10,NA(),ASTM(mdiuf(BS11)-0,3)))","v":""},{"$f":"IF(ISBLANK(R11),\"\",IF(COUNT(R11:AA11)<>10,NA(),IF(ASTM(W11,0)=0,0,BT11*ASTM(W11,0)/(BQ11))))","v":""},{"$f":"IF(ISBLANK(R11),\"\",IF(COUNT(R11:AA11)<>10,NA(),BT11*BL11/BQ11))","v":""},{"$f":"IF(ISBLANK(R11),\"\",IF(COUNT(R11:AA11)<>10,NA(),ASTM(cityfufalt(BS11)-0,3)))","v":""},{"$f":"IF(ISBLANK(R11),\"\",IF(COUNT(R11:AA11)<>10,NA(),BW11*BL11/BQ11))","v":""},{"$f":"IF(ISBLANK(R11),\"\",IF(COUNT(R11:AA11)<>10,NA(),IF(ASTM(W11,0)=0,0,BW11*ASTM(AA11,0)/(BQ11))))","v":""},null,1,{"$f":"IF(ISBLANK(AD11),\"\",IF(COUNT(AD11:AM11)<>10,NA(),IF(ASTM(AI11,0)=0,0,ASTM(AD11,3)/ASTM(AL11,1))))","v":""},{"$f":"IF(ISBLANK(AD11),\"\",IF(COUNT(AD11:AM11)<>10,NA(),IF(ASTM(AI11,0)=0,0,ASTM(ASTM(AI11,0)*ASTM(AD11,3),0))))","v":""},{"$f":"IF(ISBLANK(AD11),\"\",IF(COUNT(AD11:AM11)<>10,NA(),ASTM(AE11,3)))","v":""},{"$f":"IF(ISBLANK(AD11),\"\",IF(COUNT(AD11:AM11)<>10,NA(),ASTM(CD11*ASTM(AF11,2),1)))","v":""},{"$f":"IF(ISBLANK(AD11),\"\",IF(COUNT(AD11:AM11)<>10,NA(),ASTM(ASTM($AK$46,4)*1000*(CE11/$AZ$13),1)))","v":""},{"$f":"IF(ISBLANK(AD11),\"\",CA11*10.3)","v":""},{"$f":"IF(ISBLANK(AD11),\"\",IF(COUNT(AD11:AM11)<>10,NA(),CF11/(33705*ASTM(AD11,3))))","v":""},{"$f":"IF(ISBLANK(AD11),\"\",IF(COUNT(AD11:AM11)<>10,NA(),CH11+CB11/ASTM(AD11,3)))","v":""},{"$f":"IF(ISBLANK(AD11),\"\",ASTM(highwayfuf(CG11)-0,3))","v":""},{"$f":"IF(ISBLANK(AD11),\"\",IF(OR(ISNUMBER(AD11)=FALSE,ISNUMBER(AM11)=FALSE),NA(),IF(ASTM(AI11,0)=0,0,CJ11*ASTM(AM11,0))))","v":""},{"$f":"IF(ISBLANK(AD11),\"\",IF(COUNT(AD11:AM11)<>10,NA(),CI11*CJ11))","v":""},{"$f":"IF(ISBLANK(AD11),\"\",IF(COUNT(AD11:AM11)<>10,NA(),CI11*ASTM(AD11,3)))","v":""},{"$f":"IF(ISBLANK(AD11),\"\",IF(COUNT(AD11:AM11)<>10,NA(),MAX(1/(0.003191*(1/CI11)+1.2945),0.7)))","v":""},{"$f":"IF(ISBLANK(AD11),\"\",IF(COUNT(AD11:AM11)<>10,NA(),CN11*ASTM(AD11,3)))","v":""},{"$f":"IF(ISBLANK(AD11),\"\",IF(COUNT(AD11:AM11)<>10,NA(),CN11*10.3))","v":""},{"$f":"IF(ISBLANK(AD11),\"\",IF(COUNT(AD11:AM11)<>10,NA(),ASTM(mdiuf(CP11)-0,3)))","v":""},{"$f":"IF(ISBLANK(AD11),\"\",IF(COUNT(AD11:AM11)<>10,NA(),IF(ASTM(AI11,0)=0,0,CQ11*ASTM(AI11,0)/(CN11))))","v":""},{"$f":"IF(ISBLANK(AD11),\"\",IF(COUNT(AD11:AM11)<>10,NA(),CQ11*CI11/CN11))","v":""},{"$f":"IF(ISBLANK(AD11),\"\",IF(COUNT(AD11:AM11)<>10,NA(),ASTM(highwayfufalt(CP11)-0,3)))","v":""},{"$f":"IF(ISBLANK(AD11),\"\",IF(COUNT(AD11:AM11)<>10,NA(),CT11*CI11/CN11))","v":""},{"$f":"IF(ISBLANK(AD11),\"\",IF(COUNT(AD11:AM11)<>10,NA(),IF(ASTM(AI11,0)=0,0,CT11*ASTM(AM11,0)/(CN11))))","v":""}]
[null,null,"All-Electric Range (miles, unadjusted)",{"$f":"IF($J$6=\"HD 2b/3\",NA(),IFERROR( ASTM( IF($N$7+$N$55+$N$103=0,SUM(IFERROR(AY8,0),IFERROR(AY56,0),IFERROR(AY104,0)) / ((AY8<>0)+(AY56<>0)+(AY104<>0)),($N$7*AY8+$N$55*AY56+$N$103*AY104)/($N$7+$N$55+$N$103)),1),0))","v":0},{"$f":"IF($J$6=\"HD 2b/3\",NA(),IFERROR(  ASTM( IF($N$7+$N$55+$N$103=0,SUM(IFERROR(AZ8,0),IFERROR(AZ56,0),IFERROR(AZ104,0)) / ((AZ8<>0)+(AZ56<>0)+(AZ104<>0)),($N$7*AZ8+$N$55*AZ56+$N$103*AZ104)/($N$7+$N$55+$N$103)),1),0))","v":0},{"$f":"IF(OR(ISNUMBER(D12)=FALSE,ISNUMBER(E12)=FALSE),NA(),0.55*D12+0.45*E12)","v":0},null,null,"Deterioration Factors for GHG (CREE) Values (All 3 Required)",null,null,null,{"$f":"IF($J$6=\"HD 2b/3\",NA(),\"Fuel Economy, 5-Cycle Adjusted (MPG):\")","v":"Fuel Economy, 5-Cycle Adjusted (MPG):"},null,null,null,2,null,null,null,null,null,null,null,null,{"$f":"IF(ISBLANK(R12),\"\",IF(OR($J$6=\"HD 2b/3\",COUNT(R12:W12)<>6,$AA$47<>\"Yes\",$AA$49<>\"Yes\"),NA(),IF(ASTM(W12,0)=0,0,ASTM((51740000*$T$46*$T$47)/((($T$46*U12)+(0.429*V12)+(0.273*W12))*((0.6*$T$47*$T$48)+5471)),1))))","v":""},{"$f":"IF(ISBLANK(R12),\"\",IF(OR(AND($J$6<>\"HD 2b/3\",COUNT(R12:W12)<>6),AND($J$6=\"HD 2b/3\",COUNT(R12)+COUNT(W12)<>2),$AA$47<>\"Yes\",$AA$49<>\"Yes\"),NA(),IF(ASTM(W12,0)=0,0,IF($J$6=\"HD 2b/3\",W12,ASTM((($T$46/0.273)*U12)+(1.571*V12)+W12,0)))))","v":""},null,2,null,null,null,null,null,null,null,null,{"$f":"IF(ISBLANK(AD12),\"\",IF(OR($J$6=\"HD 2b/3\",COUNT(AD12:AI12)<>6,$AM$47<>\"Yes\",$AM$49<>\"Yes\"),NA(),IF(ASTM(AI12,0)=0,0,ASTM((51740000*$AF$46*$AF$47)/((($AF$46*AG12)+(0.429*AH12)+(0.273*AI12))*((0.6*$AF$47*$AF$48)+5471)),1))))","v":""},{"$f":"IF(ISBLANK(AD12),\"\",IF(OR(AND($J$6<>\"HD 2b/3\",COUNT(AD12:AI12)<>6),AND($J$6=\"HD 2b/3\",COUNT(AD12)+COUNT(AI12)<>2),$AM$47<>\"Yes\",$AM$49<>\"Yes\"),NA(),IF(ASTM(AI12,0)=0,0,IF($J$6=\"HD 2b/3\",AI12,ASTM((($AF$46/0.273)*AG12)+(1.571*AH12)+AI12,0)))))","v":""},null,null,null,"Composite CREE w/DF, (g/mi) [1]",{"$f":"IF(SUM(AA11:AA45)=0,0,IF(ISBLANK($J$14)=TRUE,\"No DF\",IF($J$13=\"Additive\",ASTM((AY27+(1-AY30)*N13),0)+ASTM($J$14,0),IF($J$13=\"Multiplicative\",ASTM(ASTM((AY27+(1-AY30)*N13),0)*$J$14,0),\"Add/Mult?\"))))","v":0},{"$f":"IF(SUM(AM11:AM45)=0,0,IF(ISBLANK($J$15)=TRUE,\"No DF\",IF($J$13=\"Additive\",ASTM((AZ27+(1-AZ30)*O13),0)+ASTM($J$15,0),IF($J$13=\"Multiplicative\",ASTM(ASTM((AZ27+(1-AZ30)*O13),0)*$J$15,0),\"Add/Mult?\"))))","v":0},{"$f":"IF(OR(ISNUMBER(AR12)=FALSE,ISNUMBER(AS12)=FALSE),NA(),ASTM(0.55*AR12+0.45*AS12,1))","v":0},null,null,null,"CD AC electricity consumption rate (Rcda), adjusted  (kW-hr/100mi) [3]",{"$f":"IF($J$6=\"HD 2b/3\",NA(),IFERROR(ASTM( ASTM(Y46,4)*100/AY7,3),0))","v":0},{"$f":"IF($J$6=\"HD 2b/3\",NA(),IFERROR(ASTM( ASTM(AK46,4)*100/AZ7,3),0))","v":0},null,null,null,2,{"$f":"IF(ISBLANK(R12),\"\",IF(COUNT(R12:AA12)<>10,NA(),IF(ASTM(W12,0)=0,0,IFERROR(ASTM(R12,3)/ASTM(Z12,1),0))))","v":""},{"$f":"IF(ISBLANK(R12),\"\",IF(COUNT(R12:AA12)<>10,NA(),IF(W12=0,0,ASTM(ASTM(W12,0)*ASTM(R12,3),0))))","v":""},{"$f":"IF(ISBLANK(R12),\"\",IF(COUNT(R12:AA12)<>10,NA(),ASTM(S12,3)-ASTM(S11,3)))","v":""},{"$f":"IF(ISBLANK(R12),\"\",IF(COUNT(R12:AA12)<>10,NA(),ASTM(BG12*ASTM(T12,2),1)))","v":""},{"$f":"IF(ISBLANK(R12),\"\",IF(COUNT(R12:AA12)<>10,NA(),ASTM(ASTM($Y$46,4)*1000*(BH12/$AY$13),1)))","v":""},{"$f":"IF(ISBLANK(R12),\"\",BD12*7.45)","v":""},{"$f":"IF(ISBLANK(R12),\"\",IF(COUNT(R12:AA12)<>10,NA(),BI12/(33705*ASTM(R12,3))))","v":""},{"$f":"IF(ISBLANK(R12),\"\",IF(COUNT(R12:AA12)<>10,NA(),BK12+BE12/ASTM(R12,3)))","v":""},{"$f":"IF(ISBLANK(R12),\"\",IFERROR(ASTM(cityfuf(BJ12)-cityfuf(BJ11),3),\"\"))","v":""},{"$f":"IF(ISBLANK(R12),\"\",IF(OR(ISNUMBER(R12)=FALSE,ISNUMBER(AA12)=FALSE),NA(),IF(ASTM(W12,0)=0,0,BM12*ASTM(AA12,0))))","v":""},{"$f":"IF(ISBLANK(R12),\"\",IF(COUNT(R12:AA12)<>10,NA(),BL12*BM12))","v":""},{"$f":"IF(ISBLANK(R12),\"\",IF(COUNT(R12:AA12)<>10,NA(),BL12*ASTM(R12,3)))","v":""},{"$f":"IF(ISBLANK(R12),\"\",IF(COUNT(R12:AA12)<>10,NA(),MAX(1/(0.004091*(1/BL12)+1.1601),0.7)))","v":""},{"$f":"IF(ISBLANK(R12),\"\",IF(COUNT(R12:AA12)<>10,NA(),BQ12*ASTM(R12,3)))","v":""},{"$f":"IF(ISBLANK(R12),\"\",IF(COUNT(R12:AA12)<>10,NA(),BQ12*7.45+BS11))","v":""},{"$f":"IF(ISBLANK(R12),\"\",IF(COUNT(R12:AA12)<>10,NA(),ASTM(mdiuf(BS12),3)-ASTM(mdiuf(BS11),3)))","v":""},{"$f":"IF(ISBLANK(R12),\"\",IF(COUNT(R12:AA12)<>10,NA(),IF(ASTM(W12,0)=0,0,BT12*ASTM(W12,0)/(BQ12))))","v":""},{"$f":"IF(ISBLANK(R12),\"\",IF(COUNT(R12:AA12)<>10,NA(),BT12*BL12/BQ12))","v":""},{"$f":"IF(ISBLANK(R12),\"\",IF(COUNT(R12:AA12)<>10,NA(),ASTM(cityfufalt(BS12)-cityfufalt(BS11),3)))","v":""},{"$f":"IF(ISBLANK(R12),\"\",IF(COUNT(R12:AA12)<>10,NA(),BW12*BL12/BQ12))","v":""},{"$f":"IF(ISBLANK(R12),\"\",IF(COUNT(R12:AA12)<>10,NA(),IF(ASTM(W12,0)=0,0,BW12*ASTM(AA12,0)/(BQ12))))","v":""},null,2,{"$f":"IF(ISBLANK(AD12),\"\",IF(COUNT(AD12:AM12)<>10,NA(),IF(ASTM(AI12,0)=0,0,ASTM(AD12,3)/ASTM(AL12,1))))","v":""},{"$f":"IF(ISBLANK(AD12),\"\",IF(COUNT(AD12:AM12)<>10,NA(),IF(ASTM(AI12,0)=0,0,ASTM(ASTM(AI12,0)*ASTM(AD12,3),0))))","v":""},{"$f":"IF(ISBLANK(AD12),\"\",IF(COUNT(AD12:AM12)<>10,NA(),ASTM(AE12,3)-ASTM(AE11,3)))","v":""},{"$f":"IF(ISBLANK(AD12),\"\",IF(COUNT(AD12:AM12)<>10,NA(),ASTM(CD12*ASTM(AF12,2),1)))","v":""},{"$f":"IF(ISBLANK(AD12),\"\",IF(COUNT(AD12:AM12)<>10,NA(),ASTM(ASTM($AK$46,4)*1000*(CE12/$AZ$13),1)))","v":""},{"$f":"IF(ISBLANK(AD12),\"\",CA12*10.3)","v":""},{"$f":"IF(ISBLANK(AD12),\"\",IF(COUNT(AD12:AM12)<>10,NA(),CF12/(33705*ASTM(AD12,3))))","v":""},"",{"$f":"IF(ISBLANK(AD12),\"\",ASTM(highwayfuf(CG12)-highwayfuf(CG11),3))","v":""},{"$f":"IF(ISBLANK(AD12),\"\",IF(OR(ISNUMBER(AD12)=FALSE,ISNUMBER(AM12)=FALSE),NA(),IF(ASTM(AI12,0)=0,0,CJ12*ASTM(AM12,0))))","v":""},"",{"$f":"IF(ISBLANK(AD12),\"\",IF(COUNT(AD12:AM12)<>10,NA(),CI12*ASTM(AD12,3)))","v":""},"",{"$f":"IF(ISBLANK(AD12),\"\",IF(COUNT(AD12:AM12)<>10,NA(),CN12*ASTM(AD12,3)))","v":""},{"$f":"IF(ISBLANK(AD12),\"\",IF(COUNT(AD12:AM12)<>10,NA(),CN12*10.3+CP11))","v":""},{"$f":"IF(ISBLANK(AD12),\"\",IF(COUNT(AD12:AM12)<>10,NA(),ASTM(mdiuf(CP12)-mdiuf(CP11),3)))","v":""},{"$f":"IF(ISBLANK(AD12),\"\",IF(COUNT(AD12:AM12)<>10,NA(),IF(ASTM(AI12,0)=0,0,CQ12*ASTM(AI12,0)/(CN12))))","v":""},"",{"$f":"IF(ISBLANK(AD12),\"\",IF(COUNT(AD12:AM12)<>10,NA(),ASTM(highwayfufalt(CP12)-highwayfufalt(CP11),3)))","v":""},"",{"$f":"IF(ISBLANK(AD12),\"\",IF(COUNT(AD12:AM12)<>10,NA(),IF(ASTM(AI12,0)=0,0,CT12*ASTM(AM12,0)/(CN12))))","v":""}]
[null,null,null,null,null,null,null,null,"Select DF type:",null,null,null,"CREE (g/mi):",null,null,null,3,null,null,null,null,null,null,null,null,{"$f":"IF(ISBLANK(R13),\"\",IF(OR($J$6=\"HD 2b/3\",COUNT(R13:W13)<>6,$AA$47<>\"Yes\",$AA$49<>\"Yes\"),NA(),IF(ASTM(W13,0)=0,0,ASTM((51740000*$T$46*$T$47)/((($T$46*U13)+(0.429*V13)+(0.273*W13))*((0.6*$T$47*$T$48)+5471)),1))))","v":""},{"$f":"IF(ISBLANK(R13),\"\",IF(OR(AND($J$6<>\"HD 2b/3\",COUNT(R13:W13)<>6),AND($J$6=\"HD 2b/3\",COUNT(R13)+COUNT(W13)<>2),$AA$47<>\"Yes\",$AA$49<>\"Yes\"),NA(),IF(ASTM(W13,0)=0,0,IF($J$6=\"HD 2b/3\",W13,ASTM((($T$46/0.273)*U13)+(1.571*V13)+W13,0)))))","v":""},null,3,null,null,null,null,null,null,null,null,{"$f":"IF(ISBLANK(AD13),\"\",IF(OR($J$6=\"HD 2b/3\",COUNT(AD13:AI13)<>6,$AM$47<>\"Yes\",$AM$49<>\"Yes\"),NA(),IF(ASTM(AI13,0)=0,0,ASTM((51740000*$AF$46*$AF$47)/((($AF$46*AG13)+(0.429*AH13)+(0.273*AI13))*((0.6*$AF$47*$AF$48)+5471)),1))))","v":""},{"$f":"IF(ISBLANK(AD13),\"\",IF(OR(AND($J$6<>\"HD 2b/3\",COUNT(AD13:AI13)<>6),AND($J$6=\"HD 2b/3\",COUNT(AD13)+COUNT(AI13)<>2),$AM$47<>\"Yes\",$AM$49<>\"Yes\"),NA(),IF(ASTM(AI13,0)=0,0,IF($J$6=\"HD 2b/3\",AI13,ASTM((($AF$46/0.273)*AG13)+(1.571*AH13)+AI13,0)))))","v":""},null,null,null,"Label Values (5-Cycle Adjusted)",null,null,null,null,null,null,"CD test total DC energy consumed, unadjusted (Watt-hours) [1]",{"$f":"IF($J$6=\"HD 2b/3\",NA(),ASTM(SUM(BH11:BH45),1))","v":0},{"$f":"IF($J$6=\"HD 2b/3\",NA(),ASTM(SUM(CE11:CE45),1))","v":0},null,null,null,3,{"$f":"IF(ISBLANK(R13),\"\",IF(COUNT(R13:AA13)<>10,NA(),IF(ASTM(W13,0)=0,0,IFERROR(ASTM(R13,3)/ASTM(Z13,1),0))))","v":""},{"$f":"IF(ISBLANK(R13),\"\",IF(COUNT(R13:AA13)<>10,NA(),IF(W13=0,0,ASTM(ASTM(W13,0)*ASTM(R13,3),0))))","v":""},{"$f":"IF(ISBLANK(R13),\"\",IF(COUNT(R13:AA13)<>10,NA(),ASTM(S13,3)-ASTM(S12,3)))","v":""},{"$f":"IF(ISBLANK(R13),\"\",IF(COUNT(R13:AA13)<>10,NA(),ASTM(BG13*ASTM(T13,2),1)))","v":""},{"$f":"IF(ISBLANK(R13),\"\",IF(COUNT(R13:AA13)<>10,NA(),ASTM(ASTM($Y$46,4)*1000*(BH13/$AY$13),1)))","v":""},"",{"$f":"IF(ISBLANK(R13),\"\",IF(COUNT(R13:AA13)<>10,NA(),BI13/(33705*ASTM(R13,3))))","v":""},"",{"$f":"IF(ISBLANK(R13),\"\",IFERROR(ASTM(cityfuf(BJ13)-cityfuf(BJ12),3),\"\"))","v":""},{"$f":"IF(ISBLANK(R13),\"\",IF(OR(ISNUMBER(R13)=FALSE,ISNUMBER(AA13)=FALSE),NA(),IF(ASTM(W13,0)=0,0,BM13*ASTM(AA13,0))))","v":""},"",{"$f":"IF(ISBLANK(R13),\"\",IF(COUNT(R13:AA13)<>10,NA(),BL13*ASTM(R13,3)))","v":""},"",{"$f":"IF(ISBLANK(R13),\"\",IF(COUNT(R13:AA13)<>10,NA(),BQ13*ASTM(R13,3)))","v":""},{"$f":"IF(ISBLANK(R13),\"\",IF(COUNT(R13:AA13)<>10,NA(),BQ13*7.45+BS12))","v":""},{"$f":"IF(ISBLANK(R13),\"\",IF(COUNT(R13:AA13)<>10,NA(),ASTM(mdiuf(BS13),3)-ASTM(mdiuf(BS12),3)))","v":""},{"$f":"IF(ISBLANK(R13),\"\",IF(COUNT(R13:AA13)<>10,NA(),IF(ASTM(W13,0)=0,0,BT13*ASTM(W13,0)/(BQ13))))","v":""},"",{"$f":"IF(ISBLANK(R13),\"\",IF(COUNT(R13:AA13)<>10,NA(),ASTM(cityfufalt(BS13)-cityfufalt(BS12),3)))","v":""},"",{"$f":"IF(ISBLANK(R13),\"\",IF(COUNT(R13:AA13)<>10,NA(),IF(ASTM(W13,0)=0,0,BW13*ASTM(AA13,0)/(BQ13))))","v":""},null,3,{"$f":"IF(ISBLANK(AD13),\"\",IF(COUNT(AD13:AM13)<>10,NA(),IF(ASTM(AI13,0)=0,0,ASTM(AD13,3)/ASTM(AL13,1))))","v":""},{"$f":"IF(ISBLANK(AD13),\"\",IF(COUNT(AD13:AM13)<>10,NA(),IF(ASTM(AI13,0)=0,0,ASTM(ASTM(AI13,0)*ASTM(AD13,3),0))))","v":""},{"$f":"IF(ISBLANK(AD13),\"\",IF(COUNT(AD13:AM13)<>10,NA(),ASTM(AE13,3)-ASTM(AE12,3)))","v":""},{"$f":"IF(ISBLANK(AD13),\"\",IF(COUNT(AD13:AM13)<>10,NA(),ASTM(CD13*ASTM(AF13,2),1)))","v":""},{"$f":"IF(ISBLANK(AD13),\"\",IF(COUNT(AD13:AM13)<>10,NA(),ASTM(ASTM($AK$46,4)*1000*(CE13/$AZ$13),1)))","v":""},"",{"$f":"IF(ISBLANK(AD13),\"\",IF(COUNT(AD13:AM13)<>10,NA(),CF13/(33705*ASTM(AD13,3))))","v":""},"",{"$f":"IF(ISBLANK(AD13),\"\",ASTM(highwayfuf(CG13)-highwayfuf(CG12),3))","v":""},{"$f":"IF(ISBLANK(AD13),\"\",IF(OR(ISNUMBER(AD13)=FALSE,ISNUMBER(AM13)=FALSE),NA(),IF(ASTM(AI13,0)=0,0,CJ13*ASTM(AM13,0))))","v":""},"",{"$f":"IF(ISBLANK(AD13),\"\",IF(COUNT(AD13:AM13)<>10,NA(),CI13*ASTM(AD13,3)))","v":""},"",{"$f":"IF(ISBLANK(AD13),\"\",IF(COUNT(AD13:AM13)<>10,NA(),CN13*ASTM(AD13,3)))","v":""},"",{"$f":"IF(ISBLANK(AD13),\"\",IF(COUNT(AD13:AM13)<>10,NA(),ASTM(mdiuf(CP13)-mdiuf(CP12),3)))","v":""},{"$f":"IF(ISBLANK(AD13),\"\",IF(COUNT(AD13:AM13)<>10,NA(),IF(ASTM(AI13,0)=0,0,CQ13*ASTM(AI13,0)/(CN13))))","v":""},"",{"$f":"IF(ISBLANK(AD13),\"\",IF(COUNT(AD13:AM13)<>10,NA(),ASTM(highwayfufalt(CP13)-highwayfufalt(CP12),3)))","v":""},"",{"$f":"IF(ISBLANK(AD13),\"\",IF(COUNT(AD13:AM13)<>10,NA(),IF(ASTM(AI13,0)=0,0,CT13*ASTM(AM13,0)/(CN13))))","v":""}]
[null,null,"GHG Values","City","Highway","Combined",null,null,"City DF:",null,null,null,"CO2, Unadjusted (g/mi):",null,null,null,4,null,null,null,null,null,null,null,null,{"$f":"IF(ISBLANK(R14),\"\",IF(OR($J$6=\"HD 2b/3\",COUNT(R14:W14)<>6,$AA$47<>\"Yes\",$AA$49<>\"Yes\"),NA(),IF(ASTM(W14,0)=0,0,ASTM((51740000*$T$46*$T$47)/((($T$46*U14)+(0.429*V14)+(0.273*W14))*((0.6*$T$47*$T$48)+5471)),1))))","v":""},{"$f":"IF(ISBLANK(R14),\"\",IF(OR(AND($J$6<>\"HD 2b/3\",COUNT(R14:W14)<>6),AND($J$6=\"HD 2b/3\",COUNT(R14)+COUNT(W14)<>2),$AA$47<>\"Yes\",$AA$49<>\"Yes\"),NA(),IF(ASTM(W14,0)=0,0,IF($J$6=\"HD 2b/3\",W14,ASTM((($T$46/0.273)*U14)+(1.571*V14)+W14,0)))))","v":""},null,4,null,null,null,null,null,null,null,null,{"$f":"IF(ISBLANK(AD14),\"\",IF(OR($J$6=\"HD 2b/3\",COUNT(AD14:AI14)<>6,$AM$47<>\"Yes\",$AM$49<>\"Yes\"),NA(),IF(ASTM(AI14,0)=0,0,ASTM((51740000*$AF$46*$AF$47)/((($AF$46*AG14)+(0.429*AH14)+(0.273*AI14))*((0.6*$AF$47*$AF$48)+5471)),1))))","v":""},{"$f":"IF(ISBLANK(AD14),\"\",IF(OR(AND($J$6<>\"HD 2b/3\",COUNT(AD14:AI14)<>6),AND($J$6=\"HD 2b/3\",COUNT(AD14)+COUNT(AI14)<>2),$AM$47<>\"Yes\",$AM$49<>\"Yes\"),NA(),IF(ASTM(AI14,0)=0,0,IF($J$6=\"HD 2b/3\",AI14,ASTM((($AF$46/0.273)*AG14)+(1.571*AH14)+AI14,0)))))","v":""},null,null,null,"Charge-Depleting",null,null,"Combined",null,null,"NEW","CD Rcda total fuel consumption (Rcda), unadjusted (gal equiv) [4]",{"$f":"IF($J$6=\"HD 2b/3\",NA(),IFERROR(ASTM(SUMIF(BD11:BD45,\"<=\" & (AY34-1),BP11:BP45) + AY33*SUMIF(BD11:BD45,\"=\" & (AY34-1),BP11:BP45),4),0))","v":0},{"$f":"IF($J$6=\"HD 2b/3\",NA(),IFERROR(ASTM(SUMIF(CA11:CA45,\"<=\" & (AZ34-1),CM11:CM45) + AZ33*SUMIF(CA11:CA45,\"=\" & (AZ34-1),CM11:CM45),4),0))","v":0},null,null,null,4,{"$f":"IF(ISBLANK(R14),\"\",IF(COUNT(R14:AA14)<>10,NA(),IF(ASTM(W14,0)=0,0,IFERROR(ASTM(R14,3)/ASTM(Z14,1),0))))","v":""},{"$f":"IF(ISBLANK(R14),\"\",IF(COUNT(R14:AA14)<>10,NA(),IF(W14=0,0,ASTM(ASTM(W14,0)*ASTM(R14,3),0))))","v":""},{"$f":"IF(ISBLANK(R14),\"\",IF(COUNT(R14:AA14)<>10,NA(),ASTM(S14,3)-ASTM(S13,3)))","v":""},{"$f":"IF(ISBLANK(R14),\"\",IF(COUNT(R14:AA14)<>10,NA(),ASTM(BG14*ASTM(T14,2),1)))","v":""},{"$f":"IF(ISBLANK(R14),\"\",IF(COUNT(R14:AA14)<>10,NA(),ASTM(ASTM($Y$46,4)*1000*(BH14/$AY$13),1)))","v":""},"",{"$f":"IF(ISBLANK(R14),\"\",IF(COUNT(R14:AA14)<>10,NA(),BI14/(33705*ASTM(R14,3))))","v":""},"",{"$f":"IF(ISBLANK(R14),\"\",IFERROR(ASTM(cityfuf(BJ14)-cityfuf(BJ13),3),\"\"))","v":""},{"$f":"IF(ISBLANK(R14),\"\",IF(OR(ISNUMBER(R14)=FALSE,ISNUMBER(AA14)=FALSE),NA(),IF(ASTM(W14,0)=0,0,BM14*ASTM(AA14,0))))","v":""},"",{"$f":"IF(ISBLANK(R14),\"\",IF(COUNT(R14:AA14)<>10,NA(),BL14*ASTM(R14,3)))","v":""},"",{"$f":"IF(ISBLANK(R14),\"\",IF(COUNT(R14:AA14)<>10,NA(),BQ14*ASTM(R14,3)))","v":""},"",{"$f":"IF(ISBLANK(R14),\"\",IF(COUNT(R14:AA14)<>10,NA(),ASTM(mdiuf(BS14),3)-ASTM(mdiuf(BS13),3)))","v":""},{"$f":"IF(ISBLANK(R14),\"\",IF(COUNT(R14:AA14)<>10,NA(),IF(ASTM(W14,0)=0,0,BT14*ASTM(W14,0)/(BQ14))))","v":""},"",{"$f":"IF(ISBLANK(R14),\"\",IF(COUNT(R14:AA14)<>10,NA(),ASTM(cityfufalt(BS14)-cityfufalt(BS13),3)))","v":""},"",{"$f":"IF(ISBLANK(R14),\"\",IF(COUNT(R14:AA14)<>10,NA(),IF(ASTM(W14,0)=0,0,BW14*ASTM(AA14,0)/(BQ14))))","v":""},null,4,{"$f":"IF(ISBLANK(AD14),\"\",IF(COUNT(AD14:AM14)<>10,NA(),IF(ASTM(AI14,0)=0,0,ASTM(AD14,3)/ASTM(AL14,1))))","v":""},{"$f":"IF(ISBLANK(AD14),\"\",IF(COUNT(AD14:AM14)<>10,NA(),IF(ASTM(AI14,0)=0,0,ASTM(ASTM(AI14,0)*ASTM(AD14,3),0))))","v":""},{"$f":"IF(ISBLANK(AD14),\"\",IF(COUNT(AD14:AM14)<>10,NA(),ASTM(AE14,3)-ASTM(AE13,3)))","v":""},{"$f":"IF(ISBLANK(AD14),\"\",IF(COUNT(AD14:AM14)<>10,NA(),ASTM(CD14*ASTM(AF14,2),1)))","v":""},{"$f":"IF(ISBLANK(AD14),\"\",IF(COUNT(AD14:AM14)<>10,NA(),ASTM(ASTM($AK$46,4)*1000*(CE14/$AZ$13),1)))","v":""},"",{"$f":"IF(ISBLANK(AD14),\"\",IF(COUNT(AD14:AM14)<>10,NA(),CF14/(33705*ASTM(AD14,3))))","v":""},"",{"$f":"IF(ISBLANK(AD14),\"\",ASTM(highwayfuf(CG14)-highwayfuf(CG13),3))","v":""},{"$f":"IF(ISBLANK(AD14),\"\",IF(OR(ISNUMBER(AD14)=FALSE,ISNUMBER(AM14)=FALSE),NA(),IF(ASTM(AI14,0)=0,0,CJ14*ASTM(AM14,0))))","v":""},"",{"$f":"IF(ISBLANK(AD14),\"\",IF(COUNT(AD14:AM14)<>10,NA(),CI14*ASTM(AD14,3)))","v":""},"",{"$f":"IF(ISBLANK(AD14),\"\",IF(COUNT(AD14:AM14)<>10,NA(),CN14*ASTM(AD14,3)))","v":""},"",{"$f":"IF(ISBLANK(AD14),\"\",IF(COUNT(AD14:AM14)<>10,NA(),ASTM(mdiuf(CP14)-mdiuf(CP13),3)))","v":""},{"$f":"IF(ISBLANK(AD14),\"\",IF(COUNT(AD14:AM14)<>10,NA(),IF(ASTM(AI14,0)=0,0,CQ14*ASTM(AI14,0)/(CN14))))","v":""},"",{"$f":"IF(ISBLANK(AD14),\"\",IF(COUNT(AD14:AM14)<>10,NA(),ASTM(highwayfufalt(CP14)-highwayfufalt(CP13),3)))","v":""},"",{"$f":"IF(ISBLANK(AD14),\"\",IF(COUNT(AD14:AM14)<>10,NA(),IF(ASTM(AI14,0)=0,0,CT14*ASTM(AM14,0)/(CN14))))","v":""}]
[null,null,"Composite CREE, without DF (g/mi)",{"$f":"IF($N$7+$N$55+$N$103=0,ASTM( SUM(IFERROR(AR11,0),IFERROR(AR59,0),IFERROR(AR107,0))/((AR11<>0)+(AR59<>0)+(AR107<>0)),1),ASTM(($N$7*AR11+$N$55*AR59+$N$103*AR107)/($N$7+$N$55+$N$103),1))","v":{"$error":"#VALUE!"}},{"$f":"IF($N$7+$N$55+$N$103=0,ASTM(SUM(IFERROR(AS11,0),IFERROR(AS59,0),IFERROR(AS107,0))/((AS11<>0)+(AS59<>0)+(AS107<>0)),1),ASTM(($N$7*AS11+$N$55*AS59+$N$103*AS107)/($N$7+$N$55+$N$103),1))","v":{"$error":"#VALUE!"}},{"$f":"IF(OR(N13=0,N14=0,O13=0,O14=0,SUM(AA11:AA45)=0,SUM(AM11:AM45)=0),\"ERROR\", IFERROR(ASTM(0.55*D15+0.45*E15,1),\"CREE ERROR\")  )","v":"ERROR"},null,null,"Highway DF:",null,null,null,{"$f":"IF($J$6=\"HD 2b/3\",NA(),\"CO2, 5-Cycle Adjusted (g/mi):\")","v":"CO2, 5-Cycle Adjusted (g/mi):"},null,null,null,5,null,null,null,null,null,null,null,null,{"$f":"IF(ISBLANK(R15),\"\",IF(OR($J$6=\"HD 2b/3\",COUNT(R15:W15)<>6,$AA$47<>\"Yes\",$AA$49<>\"Yes\"),NA(),IF(ASTM(W15,0)=0,0,ASTM((51740000*$T$46*$T$47)/((($T$46*U15)+(0.429*V15)+(0.273*W15))*((0.6*$T$47*$T$48)+5471)),1))))","v":""},{"$f":"IF(ISBLANK(R15),\"\",IF(OR(AND($J$6<>\"HD 2b/3\",COUNT(R15:W15)<>6),AND($J$6=\"HD 2b/3\",COUNT(R15)+COUNT(W15)<>2),$AA$47<>\"Yes\",$AA$49<>\"Yes\"),NA(),IF(ASTM(W15,0)=0,0,IF($J$6=\"HD 2b/3\",W15,ASTM((($T$46/0.273)*U15)+(1.571*V15)+W15,0)))))","v":""},null,5,null,null,null,null,null,null,null,null,{"$f":"IF(ISBLANK(AD15),\"\",IF(OR($J$6=\"HD 2b/3\",COUNT(AD15:AI15)<>6,$AM$47<>\"Yes\",$AM$49<>\"Yes\"),NA(),IF(ASTM(AI15,0)=0,0,ASTM((51740000*$AF$46*$AF$47)/((($AF$46*AG15)+(0.429*AH15)+(0.273*AI15))*((0.6*$AF$47*$AF$48)+5471)),1))))","v":""},{"$f":"IF(ISBLANK(AD15),\"\",IF(OR(AND($J$6<>\"HD 2b/3\",COUNT(AD15:AI15)<>6),AND($J$6=\"HD 2b/3\",COUNT(AD15)+COUNT(AI15)<>2),$AM$47<>\"Yes\",$AM$49<>\"Yes\"),NA(),IF(ASTM(AI15,0)=0,0,IF($J$6=\"HD 2b/3\",AI15,ASTM((($AF$46/0.273)*AG15)+(1.571*AH15)+AI15,0)))))","v":""},null,null,null,"CD range, adjusted (miles) [0]",null,null,{"$f":"IF($J$6=\"HD 2b/3\",NA(),IFERROR(ASTM(0.55*AY7+0.45*AZ7,0),0))","v":0},null,null,null,"CD utilitized total fuel consumption rate (55/45 FUF, Rcdc), unadjusted (gal-equiv/mile) [6]",{"$f":"IF($J$6=\"HD 2b/3\",NA(),ASTM(SUMIF(BD11:BD45,\"<=\" & (AY34),BO11:BO45)*1000000,0)/1000000)","v":0},{"$f":"IF($J$6=\"HD 2b/3\",NA(),ASTM(SUMIF(CA11:CA45,\"<=\" & (AZ34),CL11:CL45)*1000000,0)/1000000)","v":0},null,null,null,5,{"$f":"IF(ISBLANK(R15),\"\",IF(COUNT(R15:AA15)<>10,NA(),IF(ASTM(W15,0)=0,0,IFERROR(ASTM(R15,3)/ASTM(Z15,1),0))))","v":""},{"$f":"IF(ISBLANK(R15),\"\",IF(COUNT(R15:AA15)<>10,NA(),IF(W15=0,0,ASTM(ASTM(W15,0)*ASTM(R15,3),0))))","v":""},{"$f":"IF(ISBLANK(R15),\"\",IF(COUNT(R15:AA15)<>10,NA(),ASTM(S15,3)-ASTM(S14,3)))","v":""},{"$f":"IF(ISBLANK(R15),\"\",IF(COUNT(R15:AA15)<>10,NA(),ASTM(BG15*ASTM(T15,2),1)))","v":""},{"$f":"IF(ISBLANK(R15),\"\",IF(COUNT(R15:AA15)<>10,NA(),ASTM(ASTM($Y$46,4)*1000*(BH15/$AY$13),1)))","v":""},"",{"$f":"IF(ISBLANK(R15),\"\",IF(COUNT(R15:AA15)<>10,NA(),BI15/(33705*ASTM(R15,3))))","v":""},"",{"$f":"IF(ISBLANK(R15),\"\",IFERROR(ASTM(cityfuf(BJ15)-cityfuf(BJ14),3),\"\"))","v":""},{"$f":"IF(ISBLANK(R15),\"\",IF(OR(ISNUMBER(R15)=FALSE,ISNUMBER(AA15)=FALSE),NA(),IF(ASTM(W15,0)=0,0,BM15*ASTM(AA15,0))))","v":""},"",{"$f":"IF(ISBLANK(R15),\"\",IF(COUNT(R15:AA15)<>10,NA(),BL15*ASTM(R15,3)))","v":""},"",{"$f":"IF(ISBLANK(R15),\"\",IF(COUNT(R15:AA15)<>10,NA(),BQ15*ASTM(R15,3)))","v":""},"",{"$f":"IF(ISBLANK(R15),\"\",IF(COUNT(R15:AA15)<>10,NA(),ASTM(mdiuf(BS15),3)-ASTM(mdiuf(BS14),3)))","v":""},{"$f":"IF(ISBLANK(R15),\"\",IF(COUNT(R15:AA15)<>10,NA(),IF(ASTM(W15,0)=0,0,BT15*ASTM(W15,0)/(BQ15))))","v":""},"",{"$f":"IF(ISBLANK(R15),\"\",IF(COUNT(R15:AA15)<>10,NA(),ASTM(cityfufalt(BS15)-cityfufalt(BS14),3)))","v":""},"",{"$f":"IF(ISBLANK(R15),\"\",IF(COUNT(R15:AA15)<>10,NA(),IF(ASTM(W15,0)=0,0,BW15*ASTM(AA15,0)/(BQ15))))","v":""},null,5,{"$f":"IF(ISBLANK(AD15),\"\",IF(COUNT(AD15:AM15)<>10,NA(),IF(ASTM(AI15,0)=0,0,ASTM(AD15,3)/ASTM(AL15,1))))","v":""},{"$f":"IF(ISBLANK(AD15),\"\",IF(COUNT(AD15:AM15)<>10,NA(),IF(ASTM(AI15,0)=0,0,ASTM(ASTM(AI15,0)*ASTM(AD15,3),0))))","v":""},{"$f":"IF(ISBLANK(AD15),\"\",IF(COUNT(AD15:AM15)<>10,NA(),ASTM(AE15,3)-ASTM(AE14,3)))","v":""},{"$f":"IF(ISBLANK(AD15),\"\",IF(COUNT(AD15:AM15)<>10,NA(),ASTM(CD15*ASTM(AF15,2),1)))","v":""},{"$f":"IF(ISBLANK(AD15),\"\",IF(COUNT(AD15:AM15)<>10,NA(),ASTM(ASTM($AK$46,4)*1000*(CE15/$AZ$13),1)))","v":""},"",{"$f":"IF(ISBLANK(AD15),\"\",IF(COUNT(AD15:AM15)<>10,NA(),CF15/(33705*ASTM(AD15,3))))","v":""},"",{"$f":"IF(ISBLANK(AD15),\"\",ASTM(highwayfuf(CG15)-highwayfuf(CG14),3))","v":""},{"$f":"IF(ISBLANK(AD15),\"\",IF(OR(ISNUMBER(AD15)=FALSE,ISNUMBER(AM15)=FALSE),NA(),IF(ASTM(AI15,0)=0,0,CJ15*ASTM(AM15,0))))","v":""},"",{"$f":"IF(ISBLANK(AD15),\"\",IF(COUNT(AD15:AM15)<>10,NA(),CI15*ASTM(AD15,3)))","v":""},"",{"$f":"IF(ISBLANK(AD15),\"\",IF(COUNT(AD15:AM15)<>10,NA(),CN15*ASTM(AD15,3)))","v":""},"",{"$f":"IF(ISBLANK(AD15),\"\",IF(COUNT(AD15:AM15)<>10,NA(),ASTM(mdiuf(CP15)-mdiuf(CP14),3)))","v":""},{"$f":"IF(ISBLANK(AD15),\"\",IF(COUNT(AD15:AM15)<>10,NA(),IF(ASTM(AI15,0)=0,0,CQ15*ASTM(AI15,0)/(CN15))))","v":""},"",{"$f":"IF(ISBLANK(AD15),\"\",IF(COUNT(AD15:AM15)<>10,NA(),ASTM(highwayfufalt(CP15)-highwayfufalt(CP14),3)))","v":""},"",{"$f":"IF(ISBLANK(AD15),\"\",IF(COUNT(AD15:AM15)<>10,NA(),IF(ASTM(AI15,0)=0,0,CT15*ASTM(AM15,0)/(CN15))))","v":""}]
[null,null,"Composite CREE, with DF (g/mi)",{"$f":"IF(OR(AND(J13<>\"Additive\",J13<>\"Multiplicative\"),ISBLANK(J14)=TRUE),\"DF ERROR\",          ASTM(IF($N$7+$N$55+$N$103=0,SUM(IFERROR(AR12,0),IFERROR(AR60,0),IFERROR(AR108,0))/((AR12<>0)+(AR60<>0)+(AR108<>0)),($N$7*AR12+$N$55*AR60+$N$103*AR108)/($N$7+$N$55+$N$103)),1)          )","v":"DF ERROR"},{"$f":"IF(OR(AND(J13<>\"Additive\",J13<>\"Multiplicative\"),ISBLANK(J15)=TRUE),\"DF ERROR\",          ASTM(IF($N$7+$N$55+$N$103=0,SUM(IFERROR(AS12,0),IFERROR(AS60,0),IFERROR(AS108,0))/((AS12<>0)+(AS60<>0)+(AS108<>0)),($N$7*AS12+$N$55*AS60+$N$103*AS108)/($N$7+$N$55+$N$103)),1)          )","v":"DF ERROR"},{"$f":"IF(OR(N13=0,N14=0,O13=0,O14=0,SUM(AA11:AA45)=0,SUM(AM11:AM45)=0),\"ERROR\", IFERROR(ASTM(0.55*D16+0.45*E16,1),\"CREE ERROR\")  )","v":"ERROR"},null,null,null,null,null,null,null,null,null,null,6,null,null,null,null,null,null,null,null,{"$f":"IF(ISBLANK(R16),\"\",IF(OR($J$6=\"HD 2b/3\",COUNT(R16:W16)<>6,$AA$47<>\"Yes\",$AA$49<>\"Yes\"),NA(),IF(ASTM(W16,0)=0,0,ASTM((51740000*$T$46*$T$47)/((($T$46*U16)+(0.429*V16)+(0.273*W16))*((0.6*$T$47*$T$48)+5471)),1))))","v":""},{"$f":"IF(ISBLANK(R16),\"\",IF(OR(AND($J$6<>\"HD 2b/3\",COUNT(R16:W16)<>6),AND($J$6=\"HD 2b/3\",COUNT(R16)+COUNT(W16)<>2),$AA$47<>\"Yes\",$AA$49<>\"Yes\"),NA(),IF(ASTM(W16,0)=0,0,IF($J$6=\"HD 2b/3\",W16,ASTM((($T$46/0.273)*U16)+(1.571*V16)+W16,0)))))","v":""},null,6,null,null,null,null,null,null,null,null,{"$f":"IF(ISBLANK(AD16),\"\",IF(OR($J$6=\"HD 2b/3\",COUNT(AD16:AI16)<>6,$AM$47<>\"Yes\",$AM$49<>\"Yes\"),NA(),IF(ASTM(AI16,0)=0,0,ASTM((51740000*$AF$46*$AF$47)/((($AF$46*AG16)+(0.429*AH16)+(0.273*AI16))*((0.6*$AF$47*$AF$48)+5471)),1))))","v":""},{"$f":"IF(ISBLANK(AD16),\"\",IF(OR(AND($J$6<>\"HD 2b/3\",COUNT(AD16:AI16)<>6),AND($J$6=\"HD 2b/3\",COUNT(AD16)+COUNT(AI16)<>2),$AM$47<>\"Yes\",$AM$49<>\"Yes\"),NA(),IF(ASTM(AI16,0)=0,0,IF($J$6=\"HD 2b/3\",AI16,ASTM((($AF$46/0.273)*AG16)+(1.571*AH16)+AI16,0)))))","v":""},null,null,null,"CD All-Electric Range, adjusted (mi) [0]",null,null,{"$f":"IF($J$6=\"HD 2b/3\",NA(),IFERROR(ASTM(0.55*AY9+0.45*AZ9,0),0))","v":0},null,null,"NEW","CD utilitized total fuel consumption rate (43/57 FUF, Rcdc), adjusted (gal-equiv/mile) [6]",{"$f":"IF($J$6=\"HD 2b/3\",NA(),ASTM( 1000000*SUMIF(BD11:BD45,\"<=\" & (AY34),BX11:BX45), 0) / 1000000)","v":0},{"$f":"IF($J$6=\"HD 2b/3\",NA(),ASTM( 1000000*SUMIF(CA11:CA45,\"<=\" & (AZ34),CU11:CU45), 0) / 1000000)","v":0},null,null,null,6,{"$f":"IF(ISBLANK(R16),\"\",IF(COUNT(R16:AA16)<>10,NA(),IF(ASTM(W16,0)=0,0,IFERROR(ASTM(R16,3)/ASTM(Z16,1),0))))","v":""},{"$f":"IF(ISBLANK(R16),\"\",IF(COUNT(R16:AA16)<>10,NA(),IF(W16=0,0,ASTM(ASTM(W16,0)*ASTM(R16,3),0))))","v":""},{"$f":"IF(ISBLANK(R16),\"\",IF(COUNT(R16:AA16)<>10,NA(),ASTM(S16,3)-ASTM(S15,3)))","v":""},{"$f":"IF(ISBLANK(R16),\"\",IF(COUNT(R16:AA16)<>10,NA(),ASTM(BG16*ASTM(T16,2),1)))","v":""},{"$f":"IF(ISBLANK(R16),\"\",IF(COUNT(R16:AA16)<>10,NA(),ASTM(ASTM($Y$46,4)*1000*(BH16/$AY$13),1)))","v":""},"",{"$f":"IF(ISBLANK(R16),\"\",IF(COUNT(R16:AA16)<>10,NA(),BI16/(33705*ASTM(R16,3))))","v":""},"",{"$f":"IF(ISBLANK(R16),\"\",IFERROR(ASTM(cityfuf(BJ16)-cityfuf(BJ15),3),\"\"))","v":""},{"$f":"IF(ISBLANK(R16),\"\",IF(OR(ISNUMBER(R16)=FALSE,ISNUMBER(AA16)=FALSE),NA(),IF(ASTM(W16,0)=0,0,BM16*ASTM(AA16,0))))","v":""},"",{"$f":"IF(ISBLANK(R16),\"\",IF(COUNT(R16:AA16)<>10,NA(),BL16*ASTM(R16,3)))","v":""},"",{"$f":"IF(ISBLANK(R16),\"\",IF(COUNT(R16:AA16)<>10,NA(),BQ16*ASTM(R16,3)))","v":""},"",{"$f":"IF(ISBLANK(R16),\"\",IF(COUNT(R16:AA16)<>10,NA(),ASTM(mdiuf(BS16),3)-ASTM(mdiuf(BS15),3)))","v":""},{"$f":"IF(ISBLANK(R16),\"\",IF(COUNT(R16:AA16)<>10,NA(),IF(ASTM(W16,0)=0,0,BT16*ASTM(W16,0)/(BQ16))))","v":""},"",{"$f":"IF(ISBLANK(R16),\"\",IF(COUNT(R16:AA16)<>10,NA(),ASTM(cityfufalt(BS16)-cityfufalt(BS15),3)))","v":""},"",{"$f":"IF(ISBLANK(R16),\"\",IF(COUNT(R16:AA16)<>10,NA(),IF(ASTM(W16,0)=0,0,BW16*ASTM(AA16,0)/(BQ16))))","v":""},null,6,{"$f":"IF(ISBLANK(AD16),\"\",IF(COUNT(AD16:AM16)<>10,NA(),IF(ASTM(AI16,0)=0,0,ASTM(AD16,3)/ASTM(AL16,1))))","v":""},{"$f":"IF(ISBLANK(AD16),\"\",IF(COUNT(AD16:AM16)<>10,NA(),IF(ASTM(AI16,0)=0,0,ASTM(ASTM(AI16,0)*ASTM(AD16,3),0))))","v":""},{"$f":"IF(ISBLANK(AD16),\"\",IF(COUNT(AD16:AM16)<>10,NA(),ASTM(AE16,3)-ASTM(AE15,3)))","v":""},{"$f":"IF(ISBLANK(AD16),\"\",IF(COUNT(AD16:AM16)<>10,NA(),ASTM(CD16*ASTM(AF16,2),1)))","v":""},{"$f":"IF(ISBLANK(AD16),\"\",IF(COUNT(AD16:AM16)<>10,NA(),ASTM(ASTM($AK$46,4)*1000*(CE16/$AZ$13),1)))","v":""},"",{"$f":"IF(ISBLANK(AD16),\"\",IF(COUNT(AD16:AM16)<>10,NA(),CF16/(33705*ASTM(AD16,3))))","v":""},"",{"$f":"IF(ISBLANK(AD16),\"\",ASTM(highwayfuf(CG16)-highwayfuf(CG15),3))","v":""},{"$f":"IF(ISBLANK(AD16),\"\",IF(OR(ISNUMBER(AD16)=FALSE,ISNUMBER(AM16)=FALSE),NA(),IF(ASTM(AI16,0)=0,0,CJ16*ASTM(AM16,0))))","v":""},"",{"$f":"IF(ISBLANK(AD16),\"\",IF(COUNT(AD16:AM16)<>10,NA(),CI16*ASTM(AD16,3)))","v":""},"",{"$f":"IF(ISBLANK(AD16),\"\",IF(COUNT(AD16:AM16)<>10,NA(),CN16*ASTM(AD16,3)))","v":""},"",{"$f":"IF(ISBLANK(AD16),\"\",IF(COUNT(AD16:AM16)<>10,NA(),ASTM(mdiuf(CP16)-mdiuf(CP15),3)))","v":""},{"$f":"IF(ISBLANK(AD16),\"\",IF(COUNT(AD16:AM16)<>10,NA(),IF(ASTM(AI16,0)=0,0,CQ16*ASTM(AI16,0)/(CN16))))","v":""},"",{"$f":"IF(ISBLANK(AD16),\"\",IF(COUNT(AD16:AM16)<>10,NA(),ASTM(highwayfufalt(CP16)-highwayfufalt(CP15),3)))","v":""},"",{"$f":"IF(ISBLANK(AD16),\"\",IF(COUNT(AD16:AM16)<>10,NA(),IF(ASTM(AI16,0)=0,0,CT16*ASTM(AM16,0)/(CN16))))","v":""}]
[null,null,"Label Values (5-Cycle Adjusted)",null,null,null,null,null,null,null,null,null,"ENTER CHARGE-DEPLETING AND CHARGE-SUSTAINING TEST NUMBERS HERE",null,null,null,7,null,null,null,null,null,null,null,null,{"$f":"IF(ISBLANK(R17),\"\",IF(OR($J$6=\"HD 2b/3\",COUNT(R17:W17)<>6,$AA$47<>\"Yes\",$AA$49<>\"Yes\"),NA(),IF(ASTM(W17,0)=0,0,ASTM((51740000*$T$46*$T$47)/((($T$46*U17)+(0.429*V17)+(0.273*W17))*((0.6*$T$47*$T$48)+5471)),1))))","v":""},{"$f":"IF(ISBLANK(R17),\"\",IF(OR(AND($J$6<>\"HD 2b/3\",COUNT(R17:W17)<>6),AND($J$6=\"HD 2b/3\",COUNT(R17)+COUNT(W17)<>2),$AA$47<>\"Yes\",$AA$49<>\"Yes\"),NA(),IF(ASTM(W17,0)=0,0,IF($J$6=\"HD 2b/3\",W17,ASTM((($T$46/0.273)*U17)+(1.571*V17)+W17,0)))))","v":""},null,7,null,null,null,null,null,null,null,null,{"$f":"IF(ISBLANK(AD17),\"\",IF(OR($J$6=\"HD 2b/3\",COUNT(AD17:AI17)<>6,$AM$47<>\"Yes\",$AM$49<>\"Yes\"),NA(),IF(ASTM(AI17,0)=0,0,ASTM((51740000*$AF$46*$AF$47)/((($AF$46*AG17)+(0.429*AH17)+(0.273*AI17))*((0.6*$AF$47*$AF$48)+5471)),1))))","v":""},{"$f":"IF(ISBLANK(AD17),\"\",IF(OR(AND($J$6<>\"HD 2b/3\",COUNT(AD17:AI17)<>6),AND($J$6=\"HD 2b/3\",COUNT(AD17)+COUNT(AI17)<>2),$AM$47<>\"Yes\",$AM$49<>\"Yes\"),NA(),IF(ASTM(AI17,0)=0,0,IF($J$6=\"HD 2b/3\",AI17,ASTM((($AF$46/0.273)*AG17)+(1.571*AH17)+AI17,0)))))","v":""},null,null,null,"Total Driving Range (Miles) [0]",null,null,{"$f":"IF($J$6=\"HD 2b/3\",NA(),IFERROR(ASTM(IFERROR((_xlfn.SINGLE(ASTM(0.55*AY38+0.45*AZ38,0))+AT15),0) / 10,0) *10,0))","v":0},null,null,"NEW","CD utilitized total fuel consumption rate (MDIUF, Rcdc), adjusted (gal-equiv/mile) [6]",{"$f":"IF($J$6=\"HD 2b/3\",NA(),ASTM(SUMIF(BD11:BD45,\"<=\" & (AY34),BV11:BV45)*1000000,0) / 1000000)","v":0},{"$f":"IF($J$6=\"HD 2b/3\",NA(),ASTM(SUMIF(CA11:CA45,\"<=\" & (AZ34),CS11:CS45)*1000000,0) / 1000000)","v":0},null,null,null,7,{"$f":"IF(ISBLANK(R17),\"\",IF(COUNT(R17:AA17)<>10,NA(),IF(ASTM(W17,0)=0,0,IFERROR(ASTM(R17,3)/ASTM(Z17,1),0))))","v":""},{"$f":"IF(ISBLANK(R17),\"\",IF(COUNT(R17:AA17)<>10,NA(),IF(W17=0,0,ASTM(ASTM(W17,0)*ASTM(R17,3),0))))","v":""},{"$f":"IF(ISBLANK(R17),\"\",IF(COUNT(R17:AA17)<>10,NA(),ASTM(S17,3)-ASTM(S16,3)))","v":""},{"$f":"IF(ISBLANK(R17),\"\",IF(COUNT(R17:AA17)<>10,NA(),ASTM(BG17*ASTM(T17,2),1)))","v":""},{"$f":"IF(ISBLANK(R17),\"\",IF(COUNT(R17:AA17)<>10,NA(),ASTM(ASTM($Y$46,4)*1000*(BH17/$AY$13),1)))","v":""},"",{"$f":"IF(ISBLANK(R17),\"\",IF(COUNT(R17:AA17)<>10,NA(),BI17/(33705*ASTM(R17,3))))","v":""},"",{"$f":"IF(ISBLANK(R17),\"\",IFERROR(ASTM(cityfuf(BJ17)-cityfuf(BJ16),3),\"\"))","v":""},{"$f":"IF(ISBLANK(R17),\"\",IF(OR(ISNUMBER(R17)=FALSE,ISNUMBER(AA17)=FALSE),NA(),IF(ASTM(W17,0)=0,0,BM17*ASTM(AA17,0))))","v":""},"",{"$f":"IF(ISBLANK(R17),\"\",IF(COUNT(R17:AA17)<>10,NA(),BL17*ASTM(R17,3)))","v":""},"",{"$f":"IF(ISBLANK(R17),\"\",IF(COUNT(R17:AA17)<>10,NA(),BQ17*ASTM(R17,3)))","v":""},"",{"$f":"IF(ISBLANK(R17),\"\",IF(COUNT(R17:AA17)<>10,NA(),ASTM(mdiuf(BS17),3)-ASTM(mdiuf(BS16),3)))","v":""},{"$f":"IF(ISBLANK(R17),\"\",IF(COUNT(R17:AA17)<>10,NA(),IF(ASTM(W17,0)=0,0,BT17*ASTM(W17,0)/(BQ17))))","v":""},"",{"$f":"IF(ISBLANK(R17),\"\",IF(COUNT(R17:AA17)<>10,NA(),ASTM(cityfufalt(BS17)-cityfufalt(BS16),3)))","v":""},"",{"$f":"IF(ISBLANK(R17),\"\",IF(COUNT(R17:AA17)<>10,NA(),IF(ASTM(W17,0)=0,0,BW17*ASTM(AA17,0)/(BQ17))))","v":""},null,7,{"$f":"IF(ISBLANK(AD17),\"\",IF(COUNT(AD17:AM17)<>10,NA(),IF(ASTM(AI17,0)=0,0,ASTM(AD17,3)/ASTM(AL17,1))))","v":""},{"$f":"IF(ISBLANK(AD17),\"\",IF(COUNT(AD17:AM17)<>10,NA(),IF(ASTM(AI17,0)=0,0,ASTM(ASTM(AI17,0)*ASTM(AD17,3),0))))","v":""},{"$f":"IF(ISBLANK(AD17),\"\",IF(COUNT(AD17:AM17)<>10,NA(),ASTM(AE17,3)-ASTM(AE16,3)))","v":""},{"$f":"IF(ISBLANK(AD17),\"\",IF(COUNT(AD17:AM17)<>10,NA(),ASTM(CD17*ASTM(AF17,2),1)))","v":""},{"$f":"IF(ISBLANK(AD17),\"\",IF(COUNT(AD17:AM17)<>10,NA(),ASTM(ASTM($AK$46,4)*1000*(CE17/$AZ$13),1)))","v":""},"",{"$f":"IF(ISBLANK(AD17),\"\",IF(COUNT(AD17:AM17)<>10,NA(),CF17/(33705*ASTM(AD17,3))))","v":""},"",{"$f":"IF(ISBLANK(AD17),\"\",ASTM(highwayfuf(CG17)-highwayfuf(CG16),3))","v":""},{"$f":"IF(ISBLANK(AD17),\"\",IF(OR(ISNUMBER(AD17)=FALSE,ISNUMBER(AM17)=FALSE),NA(),IF(ASTM(AI17,0)=0,0,CJ17*ASTM(AM17,0))))","v":""},"",{"$f":"IF(ISBLANK(AD17),\"\",IF(COUNT(AD17:AM17)<>10,NA(),CI17*ASTM(AD17,3)))","v":""},"",{"$f":"IF(ISBLANK(AD17),\"\",IF(COUNT(AD17:AM17)<>10,NA(),CN17*ASTM(AD17,3)))","v":""},"",{"$f":"IF(ISBLANK(AD17),\"\",IF(COUNT(AD17:AM17)<>10,NA(),ASTM(mdiuf(CP17)-mdiuf(CP16),3)))","v":""},{"$f":"IF(ISBLANK(AD17),\"\",IF(COUNT(AD17:AM17)<>10,NA(),IF(ASTM(AI17,0)=0,0,CQ17*ASTM(AI17,0)/(CN17))))","v":""},"",{"$f":"IF(ISBLANK(AD17),\"\",IF(COUNT(AD17:AM17)<>10,NA(),ASTM(highwayfufalt(CP17)-highwayfufalt(CP16),3)))","v":""},"",{"$f":"IF(ISBLANK(AD17),\"\",IF(COUNT(AD17:AM17)<>10,NA(),IF(ASTM(AI17,0)=0,0,CT17*ASTM(AM17,0)/(CN17))))","v":""}]
[null,null,"Charge-Depleting","City","Highway","Combined",null,null,null,null,null,null,null,"CD_UDDS","CD_Hwy",null,8,null,null,null,null,null,null,null,null,{"$f":"IF(ISBLANK(R18),\"\",IF(OR($J$6=\"HD 2b/3\",COUNT(R18:W18)<>6,$AA$47<>\"Yes\",$AA$49<>\"Yes\"),NA(),IF(ASTM(W18,0)=0,0,ASTM((51740000*$T$46*$T$47)/((($T$46*U18)+(0.429*V18)+(0.273*W18))*((0.6*$T$47*$T$48)+5471)),1))))","v":""},{"$f":"IF(ISBLANK(R18),\"\",IF(OR(AND($J$6<>\"HD 2b/3\",COUNT(R18:W18)<>6),AND($J$6=\"HD 2b/3\",COUNT(R18)+COUNT(W18)<>2),$AA$47<>\"Yes\",$AA$49<>\"Yes\"),NA(),IF(ASTM(W18,0)=0,0,IF($J$6=\"HD 2b/3\",W18,ASTM((($T$46/0.273)*U18)+(1.571*V18)+W18,0)))))","v":""},null,8,null,null,null,null,null,null,null,null,{"$f":"IF(ISBLANK(AD18),\"\",IF(OR($J$6=\"HD 2b/3\",COUNT(AD18:AI18)<>6,$AM$47<>\"Yes\",$AM$49<>\"Yes\"),NA(),IF(ASTM(AI18,0)=0,0,ASTM((51740000*$AF$46*$AF$47)/((($AF$46*AG18)+(0.429*AH18)+(0.273*AI18))*((0.6*$AF$47*$AF$48)+5471)),1))))","v":""},{"$f":"IF(ISBLANK(AD18),\"\",IF(OR(AND($J$6<>\"HD 2b/3\",COUNT(AD18:AI18)<>6),AND($J$6=\"HD 2b/3\",COUNT(AD18)+COUNT(AI18)<>2),$AM$47<>\"Yes\",$AM$49<>\"Yes\"),NA(),IF(ASTM(AI18,0)=0,0,IF($J$6=\"HD 2b/3\",AI18,ASTM((($AF$46/0.273)*AG18)+(1.571*AH18)+AI18,0)))))","v":""},null,null,null,"CD Fuel Economy (MPGe) [0]",null,null,{"$f":"IF($J$6=\"HD 2b/3\",NA(),IFERROR(ASTM(1/(0.55/AY19+0.45/AZ19),0),0))","v":0},null,null,null,"CD gasoline consumption (Rcda), unadjusted (gal) [1]",{"$f":"IF($J$6=\"HD 2b/3\",NA(),IFERROR(SUMIF(BD11:BD45,\"<=\" & AY34-1,BE11:BE45)+AY33*SUMIF(BD11:BD45,\"=\" & AY34-1,BE11:BE45),0))","v":0},{"$f":"IF($J$6=\"HD 2b/3\",NA(),IFERROR(SUMIF(CA11:CA45,\"<=\" & AZ34-1,CB11:CB45)+AZ33*SUMIF(CA11:CA45,\"=\" & AZ34-1,CB11:CB45),0))","v":0},null,null,null,8,{"$f":"IF(ISBLANK(R18),\"\",IF(COUNT(R18:AA18)<>10,NA(),IF(ASTM(W18,0)=0,0,IFERROR(ASTM(R18,3)/ASTM(Z18,1),0))))","v":""},{"$f":"IF(ISBLANK(R18),\"\",IF(COUNT(R18:AA18)<>10,NA(),IF(W18=0,0,ASTM(ASTM(W18,0)*ASTM(R18,3),0))))","v":""},{"$f":"IF(ISBLANK(R18),\"\",IF(COUNT(R18:AA18)<>10,NA(),ASTM(S18,3)-ASTM(S17,3)))","v":""},{"$f":"IF(ISBLANK(R18),\"\",IF(COUNT(R18:AA18)<>10,NA(),ASTM(BG18*ASTM(T18,2),1)))","v":""},{"$f":"IF(ISBLANK(R18),\"\",IF(COUNT(R18:AA18)<>10,NA(),ASTM(ASTM($Y$46,4)*1000*(BH18/$AY$13),1)))","v":""},"",{"$f":"IF(ISBLANK(R18),\"\",IF(COUNT(R18:AA18)<>10,NA(),BI18/(33705*ASTM(R18,3))))","v":""},"",{"$f":"IF(ISBLANK(R18),\"\",IFERROR(ASTM(cityfuf(BJ18)-cityfuf(BJ17),3),\"\"))","v":""},{"$f":"IF(ISBLANK(R18),\"\",IF(OR(ISNUMBER(R18)=FALSE,ISNUMBER(AA18)=FALSE),NA(),IF(ASTM(W18,0)=0,0,BM18*ASTM(AA18,0))))","v":""},"",{"$f":"IF(ISBLANK(R18),\"\",IF(COUNT(R18:AA18)<>10,NA(),BL18*ASTM(R18,3)))","v":""},"",{"$f":"IF(ISBLANK(R18),\"\",IF(COUNT(R18:AA18)<>10,NA(),BQ18*ASTM(R18,3)))","v":""},"",{"$f":"IF(ISBLANK(R18),\"\",IF(COUNT(R18:AA18)<>10,NA(),ASTM(mdiuf(BS18),3)-ASTM(mdiuf(BS17),3)))","v":""},{"$f":"IF(ISBLANK(R18),\"\",IF(COUNT(R18:AA18)<>10,NA(),IF(ASTM(W18,0)=0,0,BT18*ASTM(W18,0)/(BQ18))))","v":""},"",{"$f":"IF(ISBLANK(R18),\"\",IF(COUNT(R18:AA18)<>10,NA(),ASTM(cityfufalt(BS18)-cityfufalt(BS17),3)))","v":""},"",{"$f":"IF(ISBLANK(R18),\"\",IF(COUNT(R18:AA18)<>10,NA(),IF(ASTM(W18,0)=0,0,BW18*ASTM(AA18,0)/(BQ18))))","v":""},null,8,{"$f":"IF(ISBLANK(AD18),\"\",IF(COUNT(AD18:AM18)<>10,NA(),IF(ASTM(AI18,0)=0,0,ASTM(AD18,3)/ASTM(AL18,1))))","v":""},{"$f":"IF(ISBLANK(AD18),\"\",IF(COUNT(AD18:AM18)<>10,NA(),IF(ASTM(AI18,0)=0,0,ASTM(ASTM(AI18,0)*ASTM(AD18,3),0))))","v":""},{"$f":"IF(ISBLANK(AD18),\"\",IF(COUNT(AD18:AM18)<>10,NA(),ASTM(AE18,3)-ASTM(AE17,3)))","v":""},{"$f":"IF(ISBLANK(AD18),\"\",IF(COUNT(AD18:AM18)<>10,NA(),ASTM(CD18*ASTM(AF18,2),1)))","v":""},{"$f":"IF(ISBLANK(AD18),\"\",IF(COUNT(AD18:AM18)<>10,NA(),ASTM(ASTM($AK$46,4)*1000*(CE18/$AZ$13),1)))","v":""},"",{"$f":"IF(ISBLANK(AD18),\"\",IF(COUNT(AD18:AM18)<>10,NA(),CF18/(33705*ASTM(AD18,3))))","v":""},"",{"$f":"IF(ISBLANK(AD18),\"\",ASTM(highwayfuf(CG18)-highwayfuf(CG17),3))","v":""},{"$f":"IF(ISBLANK(AD18),\"\",IF(OR(ISNUMBER(AD18)=FALSE,ISNUMBER(AM18)=FALSE),NA(),IF(ASTM(AI18,0)=0,0,CJ18*ASTM(AM18,0))))","v":""},"",{"$f":"IF(ISBLANK(AD18),\"\",IF(COUNT(AD18:AM18)<>10,NA(),CI18*ASTM(AD18,3)))","v":""},"",{"$f":"IF(ISBLANK(AD18),\"\",IF(COUNT(AD18:AM18)<>10,NA(),CN18*ASTM(AD18,3)))","v":""},"",{"$f":"IF(ISBLANK(AD18),\"\",IF(COUNT(AD18:AM18)<>10,NA(),ASTM(mdiuf(CP18)-mdiuf(CP17),3)))","v":""},{"$f":"IF(ISBLANK(AD18),\"\",IF(COUNT(AD18:AM18)<>10,NA(),IF(ASTM(AI18,0)=0,0,CQ18*ASTM(AI18,0)/(CN18))))","v":""},"",{"$f":"IF(ISBLANK(AD18),\"\",IF(COUNT(AD18:AM18)<>10,NA(),ASTM(highwayfufalt(CP18)-highwayfufalt(CP17),3)))","v":""},"",{"$f":"IF(ISBLANK(AD18),\"\",IF(COUNT(AD18:AM18)<>10,NA(),IF(ASTM(AI18,0)=0,0,CT18*ASTM(AM18,0)/(CN18))))","v":""}]
[null,null,"Charge-depleting Range (Miles)",{"$f":"IF($J$6=\"HD 2b/3\",NA(),IF($N$7+$N$55+$N$103=0,SUM(IFERROR(AY7,0),IFERROR(AY55,0),IFERROR(AY103,0)) / ((AY7<>0)+(AY55<>0)+(AY103<>0)),($N$7*AY7+$N$55*AY55+$N$103*AY103)/($N$7+$N$55+$N$103)))","v":{"$error":"#DIV/0!"}},{"$f":"IF($J$6=\"HD 2b/3\",NA(),IF($N$7+$N$55+$N$103=0,SUM(IFERROR(AZ7,0),IFERROR(AZ55,0),IFERROR(AZ103,0)) / ((AZ7<>0)+(AZ55<>0)+(AZ103<>0)),($N$7*AZ7+$N$55*AZ55+$N$103*AZ103)/($N$7+$N$55+$N$103)))","v":{"$error":"#DIV/0!"}},{"$f":"IF(OR(ISNUMBER(D19)=FALSE,ISNUMBER(E19)=FALSE),NA(),ASTM(0.55*D19+0.45*E19,0))","v":{"$error":"#N/A"}},null,null,null,null,null,null,"Charge-Depleting Test Number:",null,null,null,9,null,null,null,null,null,null,null,null,{"$f":"IF(ISBLANK(R19),\"\",IF(OR($J$6=\"HD 2b/3\",COUNT(R19:W19)<>6,$AA$47<>\"Yes\",$AA$49<>\"Yes\"),NA(),IF(ASTM(W19,0)=0,0,ASTM((51740000*$T$46*$T$47)/((($T$46*U19)+(0.429*V19)+(0.273*W19))*((0.6*$T$47*$T$48)+5471)),1))))","v":""},{"$f":"IF(ISBLANK(R19),\"\",IF(OR(AND($J$6<>\"HD 2b/3\",COUNT(R19:W19)<>6),AND($J$6=\"HD 2b/3\",COUNT(R19)+COUNT(W19)<>2),$AA$47<>\"Yes\",$AA$49<>\"Yes\"),NA(),IF(ASTM(W19,0)=0,0,IF($J$6=\"HD 2b/3\",W19,ASTM((($T$46/0.273)*U19)+(1.571*V19)+W19,0)))))","v":""},null,9,null,null,null,null,null,null,null,null,{"$f":"IF(ISBLANK(AD19),\"\",IF(OR($J$6=\"HD 2b/3\",COUNT(AD19:AI19)<>6,$AM$47<>\"Yes\",$AM$49<>\"Yes\"),NA(),IF(ASTM(AI19,0)=0,0,ASTM((51740000*$AF$46*$AF$47)/((($AF$46*AG19)+(0.429*AH19)+(0.273*AI19))*((0.6*$AF$47*$AF$48)+5471)),1))))","v":""},{"$f":"IF(ISBLANK(AD19),\"\",IF(OR(AND($J$6<>\"HD 2b/3\",COUNT(AD19:AI19)<>6),AND($J$6=\"HD 2b/3\",COUNT(AD19)+COUNT(AI19)<>2),$AM$47<>\"Yes\",$AM$49<>\"Yes\"),NA(),IF(ASTM(AI19,0)=0,0,IF($J$6=\"HD 2b/3\",AI19,ASTM((($AF$46/0.273)*AG19)+(1.571*AH19)+AI19,0)))))","v":""},null,null,null,"CD Electricity Consumption  (kW-hr/100mi) [0]",null,null,{"$f":"IF($J$6=\"HD 2b/3\",NA(),IFERROR(ASTM(0.55*AY12+0.45*AZ12,0),0))","v":0},null,null,null,"CD fuel economy (Rcda), adjusted (MPGe) [4]",{"$f":"IF($J$6=\"HD 2b/3\",NA(),IFERROR(ASTM( AY7/ ( SUMIF(BD11:BD45,\"<=\" & (AY34-1),BP11:BP45) + AY33*SUMIF(BD11:BD45,\"=\" & (AY34-1),BP11:BP45) ),4),0))","v":0},{"$f":"IF($J$6=\"HD 2b/3\",NA(),IFERROR(ASTM( AZ7/ ( SUMIF(CA11:CA45,\"<=\" & (AZ34-1),CM11:CM45) + AZ33*SUMIF(CA11:CA45,\"=\" & (AZ34-1),CM11:CM45) ),4),0))","v":0},null,null,null,9,{"$f":"IF(ISBLANK(R19),\"\",IF(COUNT(R19:AA19)<>10,NA(),IF(ASTM(W19,0)=0,0,IFERROR(ASTM(R19,3)/ASTM(Z19,1),0))))","v":""},{"$f":"IF(ISBLANK(R19),\"\",IF(COUNT(R19:AA19)<>10,NA(),IF(W19=0,0,ASTM(ASTM(W19,0)*ASTM(R19,3),0))))","v":""},{"$f":"IF(ISBLANK(R19),\"\",IF(COUNT(R19:AA19)<>10,NA(),ASTM(S19,3)-ASTM(S18,3)))","v":""},{"$f":"IF(ISBLANK(R19),\"\",IF(COUNT(R19:AA19)<>10,NA(),ASTM(BG19*ASTM(T19,2),1)))","v":""},{"$f":"IF(ISBLANK(R19),\"\",IF(COUNT(R19:AA19)<>10,NA(),ASTM(ASTM($Y$46,4)*1000*(BH19/$AY$13),1)))","v":""},"",{"$f":"IF(ISBLANK(R19),\"\",IF(COUNT(R19:AA19)<>10,NA(),BI19/(33705*ASTM(R19,3))))","v":""},"",{"$f":"IF(ISBLANK(R19),\"\",IFERROR(ASTM(cityfuf(BJ19)-cityfuf(BJ18),3),\"\"))","v":""},{"$f":"IF(ISBLANK(R19),\"\",IF(OR(ISNUMBER(R19)=FALSE,ISNUMBER(AA19)=FALSE),NA(),IF(ASTM(W19,0)=0,0,BM19*ASTM(AA19,0))))","v":""},"",{"$f":"IF(ISBLANK(R19),\"\",IF(COUNT(R19:AA19)<>10,NA(),BL19*ASTM(R19,3)))","v":""},"",{"$f":"IF(ISBLANK(R19),\"\",IF(COUNT(R19:AA19)<>10,NA(),BQ19*ASTM(R19,3)))","v":""},"",{"$f":"IF(ISBLANK(R19),\"\",IF(COUNT(R19:AA19)<>10,NA(),ASTM(mdiuf(BS19),3)-ASTM(mdiuf(BS18),3)))","v":""},{"$f":"IF(ISBLANK(R19),\"\",IF(COUNT(R19:AA19)<>10,NA(),IF(ASTM(W19,0)=0,0,BT19*ASTM(W19,0)/(BQ19))))","v":""},"",{"$f":"IF(ISBLANK(R19),\"\",IF(COUNT(R19:AA19)<>10,NA(),ASTM(cityfufalt(BS19)-cityfufalt(BS18),3)))","v":""},"",{"$f":"IF(ISBLANK(R19),\"\",IF(COUNT(R19:AA19)<>10,NA(),IF(ASTM(W19,0)=0,0,BW19*ASTM(AA19,0)/(BQ19))))","v":""},null,9,{"$f":"IF(ISBLANK(AD19),\"\",IF(COUNT(AD19:AM19)<>10,NA(),IF(ASTM(AI19,0)=0,0,ASTM(AD19,3)/ASTM(AL19,1))))","v":""},{"$f":"IF(ISBLANK(AD19),\"\",IF(COUNT(AD19:AM19)<>10,NA(),IF(ASTM(AI19,0)=0,0,ASTM(ASTM(AI19,0)*ASTM(AD19,3),0))))","v":""},{"$f":"IF(ISBLANK(AD19),\"\",IF(COUNT(AD19:AM19)<>10,NA(),ASTM(AE19,3)-ASTM(AE18,3)))","v":""},{"$f":"IF(ISBLANK(AD19),\"\",IF(COUNT(AD19:AM19)<>10,NA(),ASTM(CD19*ASTM(AF19,2),1)))","v":""},{"$f":"IF(ISBLANK(AD19),\"\",IF(COUNT(AD19:AM19)<>10,NA(),ASTM(ASTM($AK$46,4)*1000*(CE19/$AZ$13),1)))","v":""},"",{"$f":"IF(ISBLANK(AD19),\"\",IF(COUNT(AD19:AM19)<>10,NA(),CF19/(33705*ASTM(AD19,3))))","v":""},"",{"$f":"IF(ISBLANK(AD19),\"\",ASTM(highwayfuf(CG19)-highwayfuf(CG18),3))","v":""},{"$f":"IF(ISBLANK(AD19),\"\",IF(OR(ISNUMBER(AD19)=FALSE,ISNUMBER(AM19)=FALSE),NA(),IF(ASTM(AI19,0)=0,0,CJ19*ASTM(AM19,0))))","v":""},"",{"$f":"IF(ISBLANK(AD19),\"\",IF(COUNT(AD19:AM19)<>10,NA(),CI19*ASTM(AD19,3)))","v":""},"",{"$f":"IF(ISBLANK(AD19),\"\",IF(COUNT(AD19:AM19)<>10,NA(),CN19*ASTM(AD19,3)))","v":""},"",{"$f":"IF(ISBLANK(AD19),\"\",IF(COUNT(AD19:AM19)<>10,NA(),ASTM(mdiuf(CP19)-mdiuf(CP18),3)))","v":""},{"$f":"IF(ISBLANK(AD19),\"\",IF(COUNT(AD19:AM19)<>10,NA(),IF(ASTM(AI19,0)=0,0,CQ19*ASTM(AI19,0)/(CN19))))","v":""},"",{"$f":"IF(ISBLANK(AD19),\"\",IF(COUNT(AD19:AM19)<>10,NA(),ASTM(highwayfufalt(CP19)-highwayfufalt(CP18),3)))","v":""},"",{"$f":"IF(ISBLANK(AD19),\"\",IF(COUNT(AD19:AM19)<>10,NA(),IF(ASTM(AI19,0)=0,0,CT19*ASTM(AM19,0)/(CN19))))","v":""}]
[null,null," All-Electric Range (Miles)",{"$f":"IF($J$6=\"HD 2b/3\",NA(),IF($N$7+$N$55+$N$103=0,SUM(IFERROR(AY9,0),IFERROR(AY57,0),IFERROR(AY105,0)) / ((AY9<>0)+(AY57<>0)+(AY105<>0)),($N$7*AY9+$N$55*AY57+$N$103*AY105)/($N$7+$N$55+$N$103)))","v":{"$error":"#DIV/0!"}},{"$f":"IF($J$6=\"HD 2b/3\",NA(),IF($N$7+$N$55+$N$103=0,SUM(IFERROR(AZ9,0),IFERROR(AZ57,0),IFERROR(AZ105,0)) / ((AZ9<>0)+(AZ57<>0)+(AZ105<>0)),($N$7*AZ9+$N$55*AZ57+$N$103*AZ105)/($N$7+$N$55+$N$103)))","v":{"$error":"#DIV/0!"}},{"$f":"IF(OR(ISNUMBER(D20)=FALSE,ISNUMBER(E20)=FALSE),NA(),ASTM(0.55*D20+0.45*E20,0))","v":{"$error":"#N/A"}},null,null,null,null,null,null,null,"CS_FTP","CS_Hwy",null,10,null,null,null,null,null,null,null,null,{"$f":"IF(ISBLANK(R20),\"\",IF(OR($J$6=\"HD 2b/3\",COUNT(R20:W20)<>6,$AA$47<>\"Yes\",$AA$49<>\"Yes\"),NA(),IF(ASTM(W20,0)=0,0,ASTM((51740000*$T$46*$T$47)/((($T$46*U20)+(0.429*V20)+(0.273*W20))*((0.6*$T$47*$T$48)+5471)),1))))","v":""},{"$f":"IF(ISBLANK(R20),\"\",IF(OR(AND($J$6<>\"HD 2b/3\",COUNT(R20:W20)<>6),AND($J$6=\"HD 2b/3\",COUNT(R20)+COUNT(W20)<>2),$AA$47<>\"Yes\",$AA$49<>\"Yes\"),NA(),IF(ASTM(W20,0)=0,0,IF($J$6=\"HD 2b/3\",W20,ASTM((($T$46/0.273)*U20)+(1.571*V20)+W20,0)))))","v":""},null,10,null,null,null,null,null,null,null,null,{"$f":"IF(ISBLANK(AD20),\"\",IF(OR($J$6=\"HD 2b/3\",COUNT(AD20:AI20)<>6,$AM$47<>\"Yes\",$AM$49<>\"Yes\"),NA(),IF(ASTM(AI20,0)=0,0,ASTM((51740000*$AF$46*$AF$47)/((($AF$46*AG20)+(0.429*AH20)+(0.273*AI20))*((0.6*$AF$47*$AF$48)+5471)),1))))","v":""},{"$f":"IF(ISBLANK(AD20),\"\",IF(OR(AND($J$6<>\"HD 2b/3\",COUNT(AD20:AI20)<>6),AND($J$6=\"HD 2b/3\",COUNT(AD20)+COUNT(AI20)<>2),$AM$47<>\"Yes\",$AM$49<>\"Yes\"),NA(),IF(ASTM(AI20,0)=0,0,IF($J$6=\"HD 2b/3\",AI20,ASTM((($AF$46/0.273)*AG20)+(1.571*AH20)+AI20,0)))))","v":""},null,null,null,"CD Gasoline Consumption (gal/100mi) [0]",null,null,{"$f":"IF($J$6=\"HD 2b/3\",NA(),IFERROR(ASTM(0.55*AY20+0.45*AZ20,1),0))","v":0},null,null,null,"CD gasoline consumption rate (Rcda), adjusted (gal/100mi) [4]",{"$f":"IF($J$6=\"HD 2b/3\",NA(),IFERROR(ASTM(100*(SUMIF(BD11:BD45,\"<=\" & AY34-1,BE11:BE45)+AY33*SUMIF(BD11:BD45,\"=\" & AY34-1,BE11:BE45))/AY7,4),0))","v":0},{"$f":"IF($J$6=\"HD 2b/3\",NA(),IFERROR(ASTM(100*(SUMIF(CA11:CA45,\"<=\" & AZ34-1,CB11:CB45)+AZ33*SUMIF(CA11:CA45,\"=\" & AZ34-1,CB11:CB45))/AZ7,4),0))","v":0},null,null,null,10,{"$f":"IF(ISBLANK(R20),\"\",IF(COUNT(R20:AA20)<>10,NA(),IF(ASTM(W20,0)=0,0,IFERROR(ASTM(R20,3)/ASTM(Z20,1),0))))","v":""},{"$f":"IF(ISBLANK(R20),\"\",IF(COUNT(R20:AA20)<>10,NA(),IF(W20=0,0,ASTM(ASTM(W20,0)*ASTM(R20,3),0))))","v":""},{"$f":"IF(ISBLANK(R20),\"\",IF(COUNT(R20:AA20)<>10,NA(),ASTM(S20,3)-ASTM(S19,3)))","v":""},{"$f":"IF(ISBLANK(R20),\"\",IF(COUNT(R20:AA20)<>10,NA(),ASTM(BG20*ASTM(T20,2),1)))","v":""},{"$f":"IF(ISBLANK(R20),\"\",IF(COUNT(R20:AA20)<>10,NA(),ASTM(ASTM($Y$46,4)*1000*(BH20/$AY$13),1)))","v":""},"",{"$f":"IF(ISBLANK(R20),\"\",IF(COUNT(R20:AA20)<>10,NA(),BI20/(33705*ASTM(R20,3))))","v":""},"",{"$f":"IF(ISBLANK(R20),\"\",IFERROR(ASTM(cityfuf(BJ20)-cityfuf(BJ19),3),\"\"))","v":""},{"$f":"IF(ISBLANK(R20),\"\",IF(OR(ISNUMBER(R20)=FALSE,ISNUMBER(AA20)=FALSE),NA(),IF(ASTM(W20,0)=0,0,BM20*ASTM(AA20,0))))","v":""},"",{"$f":"IF(ISBLANK(R20),\"\",IF(COUNT(R20:AA20)<>10,NA(),BL20*ASTM(R20,3)))","v":""},"",{"$f":"IF(ISBLANK(R20),\"\",IF(COUNT(R20:AA20)<>10,NA(),BQ20*ASTM(R20,3)))","v":""},"",{"$f":"IF(ISBLANK(R20),\"\",IF(COUNT(R20:AA20)<>10,NA(),ASTM(mdiuf(BS20),3)-ASTM(mdiuf(BS19),3)))","v":""},{"$f":"IF(ISBLANK(R20),\"\",IF(COUNT(R20:AA20)<>10,NA(),IF(ASTM(W20,0)=0,0,BT20*ASTM(W20,0)/(BQ20))))","v":""},"",{"$f":"IF(ISBLANK(R20),\"\",IF(COUNT(R20:AA20)<>10,NA(),ASTM(cityfufalt(BS20)-cityfufalt(BS19),3)))","v":""},"",{"$f":"IF(ISBLANK(R20),\"\",IF(COUNT(R20:AA20)<>10,NA(),IF(ASTM(W20,0)=0,0,BW20*ASTM(AA20,0)/(BQ20))))","v":""},null,10,{"$f":"IF(ISBLANK(AD20),\"\",IF(COUNT(AD20:AM20)<>10,NA(),IF(ASTM(AI20,0)=0,0,ASTM(AD20,3)/ASTM(AL20,1))))","v":""},{"$f":"IF(ISBLANK(AD20),\"\",IF(COUNT(AD20:AM20)<>10,NA(),IF(ASTM(AI20,0)=0,0,ASTM(ASTM(AI20,0)*ASTM(AD20,3),0))))","v":""},{"$f":"IF(ISBLANK(AD20),\"\",IF(COUNT(AD20:AM20)<>10,NA(),ASTM(AE20,3)-ASTM(AE19,3)))","v":""},{"$f":"IF(ISBLANK(AD20),\"\",IF(COUNT(AD20:AM20)<>10,NA(),ASTM(CD20*ASTM(AF20,2),1)))","v":""},{"$f":"IF(ISBLANK(AD20),\"\",IF(COUNT(AD20:AM20)<>10,NA(),ASTM(ASTM($AK$46,4)*1000*(CE20/$AZ$13),1)))","v":""},"",{"$f":"IF(ISBLANK(AD20),\"\",IF(COUNT(AD20:AM20)<>10,NA(),CF20/(33705*ASTM(AD20,3))))","v":""},"",{"$f":"IF(ISBLANK(AD20),\"\",ASTM(highwayfuf(CG20)-highwayfuf(CG19),3))","v":""},{"$f":"IF(ISBLANK(AD20),\"\",IF(OR(ISNUMBER(AD20)=FALSE,ISNUMBER(AM20)=FALSE),NA(),IF(ASTM(AI20,0)=0,0,CJ20*ASTM(AM20,0))))","v":""},"",{"$f":"IF(ISBLANK(AD20),\"\",IF(COUNT(AD20:AM20)<>10,NA(),CI20*ASTM(AD20,3)))","v":""},"",{"$f":"IF(ISBLANK(AD20),\"\",IF(COUNT(AD20:AM20)<>10,NA(),CN20*ASTM(AD20,3)))","v":""},"",{"$f":"IF(ISBLANK(AD20),\"\",IF(COUNT(AD20:AM20)<>10,NA(),ASTM(mdiuf(CP20)-mdiuf(CP19),3)))","v":""},{"$f":"IF(ISBLANK(AD20),\"\",IF(COUNT(AD20:AM20)<>10,NA(),IF(ASTM(AI20,0)=0,0,CQ20*ASTM(AI20,0)/(CN20))))","v":""},"",{"$f":"IF(ISBLANK(AD20),\"\",IF(COUNT(AD20:AM20)<>10,NA(),ASTM(highwayfufalt(CP20)-highwayfufalt(CP19),3)))","v":""},"",{"$f":"IF(ISBLANK(AD20),\"\",IF(COUNT(AD20:AM20)<>10,NA(),IF(ASTM(AI20,0)=0,0,CT20*ASTM(AM20,0)/(CN20))))","v":""}]
[null,null,"Total Driving Range (Miles)",null,null,{"$f":"IF($J$6=\"HD 2b/3\",NA(),ASTM(   ( IF($N$7+$N$55+$N$103=0,SUM(IFERROR(( IFERROR((ASTM(0.55*AY38+0.45*AZ38,0)+AT15),0)),0),IFERROR((IFERROR((ASTM(0.55*AY86+0.45*AZ86,0)+AT63),0)),0),IFERROR(( IFERROR((ASTM(0.55*AY134+0.45*AZ134,0)+AT111),0)),0)) / ((( IFERROR((ASTM(0.55*AY38+0.45*AZ38,0)+AT15),0))<>0)+((IFERROR((ASTM(0.55*AY86+0.45*AZ86,0)+AT63),0))<>0)+(( IFERROR((ASTM(0.55*AY134+0.45*AZ134,0)+AT111),0))<>0)),($N$7*( IFERROR((ASTM(0.55*AY38+0.45*AZ38,0)+AT15),0))+$N$55*(IFERROR((ASTM(0.55*AY86+0.45*AZ86,0)+AT63),0))+$N$103*( IFERROR((ASTM(0.55*AY134+0.45*AZ134,0)+AT111),0)))/($N$7+$N$55+$N$103)) ) / 10,0 ) * 10)","v":{"$error":"#VALUE!"}},null,null,null,null,null,null,"Charge-Sustaining FTP/Hwy (Required):",null,null,null,11,null,null,null,null,null,null,null,null,{"$f":"IF(ISBLANK(R21),\"\",IF(OR($J$6=\"HD 2b/3\",COUNT(R21:W21)<>6,$AA$47<>\"Yes\",$AA$49<>\"Yes\"),NA(),IF(ASTM(W21,0)=0,0,ASTM((51740000*$T$46*$T$47)/((($T$46*U21)+(0.429*V21)+(0.273*W21))*((0.6*$T$47*$T$48)+5471)),1))))","v":""},{"$f":"IF(ISBLANK(R21),\"\",IF(OR(AND($J$6<>\"HD 2b/3\",COUNT(R21:W21)<>6),AND($J$6=\"HD 2b/3\",COUNT(R21)+COUNT(W21)<>2),$AA$47<>\"Yes\",$AA$49<>\"Yes\"),NA(),IF(ASTM(W21,0)=0,0,IF($J$6=\"HD 2b/3\",W21,ASTM((($T$46/0.273)*U21)+(1.571*V21)+W21,0)))))","v":""},null,11,null,null,null,null,null,null,null,null,{"$f":"IF(ISBLANK(AD21),\"\",IF(OR($J$6=\"HD 2b/3\",COUNT(AD21:AI21)<>6,$AM$47<>\"Yes\",$AM$49<>\"Yes\"),NA(),IF(ASTM(AI21,0)=0,0,ASTM((51740000*$AF$46*$AF$47)/((($AF$46*AG21)+(0.429*AH21)+(0.273*AI21))*((0.6*$AF$47*$AF$48)+5471)),1))))","v":""},{"$f":"IF(ISBLANK(AD21),\"\",IF(OR(AND($J$6<>\"HD 2b/3\",COUNT(AD21:AI21)<>6),AND($J$6=\"HD 2b/3\",COUNT(AD21)+COUNT(AI21)<>2),$AM$47<>\"Yes\",$AM$49<>\"Yes\"),NA(),IF(ASTM(AI21,0)=0,0,IF($J$6=\"HD 2b/3\",AI21,ASTM((($AF$46/0.273)*AG21)+(1.571*AH21)+AI21,0)))))","v":""},null,null,null,"Charge-Sustaining",null,null,"Combined",null,null,"NEW","CD fuel economy (Rcda), unadjusted (MPGe) [4]",{"$f":"IF($J$6=\"HD 2b/3\",NA(),ASTM(IFERROR(AY6/ ( SUMIF(BD11:BD45,\"<=\" & (AY34-1),BP11:BP45) + AY33*SUMIF(BD11:BD45,\"=\" & (AY34-1),BP11:BP45) ),0),4))","v":0},{"$f":"IF($J$6=\"HD 2b/3\",NA(),ASTM(IFERROR(AZ6/ ( SUMIF(CA11:CA45,\"<=\" & (AZ34-1),CM11:CM45) + AZ33*SUMIF(CA11:CA45,\"=\" & (AZ34-1),CM11:CM45) ),0),4))","v":0},null,null,null,11,{"$f":"IF(ISBLANK(R21),\"\",IF(COUNT(R21:AA21)<>10,NA(),IF(ASTM(W21,0)=0,0,IFERROR(ASTM(R21,3)/ASTM(Z21,1),0))))","v":""},{"$f":"IF(ISBLANK(R21),\"\",IF(COUNT(R21:AA21)<>10,NA(),IF(W21=0,0,ASTM(ASTM(W21,0)*ASTM(R21,3),0))))","v":""},{"$f":"IF(ISBLANK(R21),\"\",IF(COUNT(R21:AA21)<>10,NA(),ASTM(S21,3)-ASTM(S20,3)))","v":""},{"$f":"IF(ISBLANK(R21),\"\",IF(COUNT(R21:AA21)<>10,NA(),ASTM(BG21*ASTM(T21,2),1)))","v":""},{"$f":"IF(ISBLANK(R21),\"\",IF(COUNT(R21:AA21)<>10,NA(),ASTM(ASTM($Y$46,4)*1000*(BH21/$AY$13),1)))","v":""},"",{"$f":"IF(ISBLANK(R21),\"\",IF(COUNT(R21:AA21)<>10,NA(),BI21/(33705*ASTM(R21,3))))","v":""},"",{"$f":"IF(ISBLANK(R21),\"\",IFERROR(ASTM(cityfuf(BJ21)-cityfuf(BJ20),3),\"\"))","v":""},{"$f":"IF(ISBLANK(R21),\"\",IF(OR(ISNUMBER(R21)=FALSE,ISNUMBER(AA21)=FALSE),NA(),IF(ASTM(W21,0)=0,0,BM21*ASTM(AA21,0))))","v":""},"",{"$f":"IF(ISBLANK(R21),\"\",IF(COUNT(R21:AA21)<>10,NA(),BL21*ASTM(R21,3)))","v":""},"",{"$f":"IF(ISBLANK(R21),\"\",IF(COUNT(R21:AA21)<>10,NA(),BQ21*ASTM(R21,3)))","v":""},"",{"$f":"IF(ISBLANK(R21),\"\",IF(COUNT(R21:AA21)<>10,NA(),ASTM(mdiuf(BS21),3)-ASTM(mdiuf(BS20),3)))","v":""},{"$f":"IF(ISBLANK(R21),\"\",IF(COUNT(R21:AA21)<>10,NA(),IF(ASTM(W21,0)=0,0,BT21*ASTM(W21,0)/(BQ21))))","v":""},"",{"$f":"IF(ISBLANK(R21),\"\",IF(COUNT(R21:AA21)<>10,NA(),ASTM(cityfufalt(BS21)-cityfufalt(BS20),3)))","v":""},"",{"$f":"IF(ISBLANK(R21),\"\",IF(COUNT(R21:AA21)<>10,NA(),IF(ASTM(W21,0)=0,0,BW21*ASTM(AA21,0)/(BQ21))))","v":""},null,11,{"$f":"IF(ISBLANK(AD21),\"\",IF(COUNT(AD21:AM21)<>10,NA(),IF(ASTM(AI21,0)=0,0,ASTM(AD21,3)/ASTM(AL21,1))))","v":""},{"$f":"IF(ISBLANK(AD21),\"\",IF(COUNT(AD21:AM21)<>10,NA(),IF(ASTM(AI21,0)=0,0,ASTM(ASTM(AI21,0)*ASTM(AD21,3),0))))","v":""},{"$f":"IF(ISBLANK(AD21),\"\",IF(COUNT(AD21:AM21)<>10,NA(),ASTM(AE21,3)-ASTM(AE20,3)))","v":""},{"$f":"IF(ISBLANK(AD21),\"\",IF(COUNT(AD21:AM21)<>10,NA(),ASTM(CD21*ASTM(AF21,2),1)))","v":""},{"$f":"IF(ISBLANK(AD21),\"\",IF(COUNT(AD21:AM21)<>10,NA(),ASTM(ASTM($AK$46,4)*1000*(CE21/$AZ$13),1)))","v":""},"",{"$f":"IF(ISBLANK(AD21),\"\",IF(COUNT(AD21:AM21)<>10,NA(),CF21/(33705*ASTM(AD21,3))))","v":""},"",{"$f":"IF(ISBLANK(AD21),\"\",ASTM(highwayfuf(CG21)-highwayfuf(CG20),3))","v":""},{"$f":"IF(ISBLANK(AD21),\"\",IF(OR(ISNUMBER(AD21)=FALSE,ISNUMBER(AM21)=FALSE),NA(),IF(ASTM(AI21,0)=0,0,CJ21*ASTM(AM21,0))))","v":""},"",{"$f":"IF(ISBLANK(AD21),\"\",IF(COUNT(AD21:AM21)<>10,NA(),CI21*ASTM(AD21,3)))","v":""},"",{"$f":"IF(ISBLANK(AD21),\"\",IF(COUNT(AD21:AM21)<>10,NA(),CN21*ASTM(AD21,3)))","v":""},"",{"$f":"IF(ISBLANK(AD21),\"\",IF(COUNT(AD21:AM21)<>10,NA(),ASTM(mdiuf(CP21)-mdiuf(CP20),3)))","v":""},{"$f":"IF(ISBLANK(AD21),\"\",IF(COUNT(AD21:AM21)<>10,NA(),IF(ASTM(AI21,0)=0,0,CQ21*ASTM(AI21,0)/(CN21))))","v":""},"",{"$f":"IF(ISBLANK(AD21),\"\",IF(COUNT(AD21:AM21)<>10,NA(),ASTM(highwayfufalt(CP21)-highwayfufalt(CP20),3)))","v":""},"",{"$f":"IF(ISBLANK(AD21),\"\",IF(COUNT(AD21:AM21)<>10,NA(),IF(ASTM(AI21,0)=0,0,CT21*ASTM(AM21,0)/(CN21))))","v":""}]
[null,null,"CD Fuel Economy (MPGe)",{"$f":"IF($J$6=\"HD 2b/3\",NA(),ASTM(IF($N$7+$N$55+$N$103=0,((AY19<>0)+(AY67<>0)+(AY115<>0))/(IFERROR(1/AY19,0)+IFERROR(1/AY67,0)+IFERROR(1/AY115,0)),($N$7+$N$55+$N$103) / (IFERROR($N$7/AY19,0)+IFERROR($N$55/AY67,0)+IFERROR($N$103/AY115,0))  ),4))","v":{"$error":"#VALUE!"}},{"$f":"IF($J$6=\"HD 2b/3\",NA(),ASTM(IF($N$7+$N$55+$N$103=0,    ((AZ19<>0)+(AZ67<>0)+(AZ115<>0))/(IFERROR(1/AZ19,0)+IFERROR(1/AZ67,0)+IFERROR(1/AZ115,0)),    ($N$7+$N$55+$N$103) / (IFERROR($N$7/AZ19,0)+IFERROR($N$55/AZ67,0)+IFERROR($N$103/AZ115,0))  ),4))","v":{"$error":"#VALUE!"}},{"$f":"IF(OR(ISNUMBER(D22)=FALSE,ISNUMBER(E22)=FALSE),NA(),ASTM(1/(0.55/D22+0.45/E22),0))","v":{"$error":"#N/A"}},null,null,null,null,null,null,"Charge-Sustaining FTP/Hwy (Optional):",null,null,null,12,null,null,null,null,null,null,null,null,{"$f":"IF(ISBLANK(R22),\"\",IF(OR($J$6=\"HD 2b/3\",COUNT(R22:W22)<>6,$AA$47<>\"Yes\",$AA$49<>\"Yes\"),NA(),IF(ASTM(W22,0)=0,0,ASTM((51740000*$T$46*$T$47)/((($T$46*U22)+(0.429*V22)+(0.273*W22))*((0.6*$T$47*$T$48)+5471)),1))))","v":""},{"$f":"IF(ISBLANK(R22),\"\",IF(OR(AND($J$6<>\"HD 2b/3\",COUNT(R22:W22)<>6),AND($J$6=\"HD 2b/3\",COUNT(R22)+COUNT(W22)<>2),$AA$47<>\"Yes\",$AA$49<>\"Yes\"),NA(),IF(ASTM(W22,0)=0,0,IF($J$6=\"HD 2b/3\",W22,ASTM((($T$46/0.273)*U22)+(1.571*V22)+W22,0)))))","v":""},null,12,null,null,null,null,null,null,null,null,{"$f":"IF(ISBLANK(AD22),\"\",IF(OR($J$6=\"HD 2b/3\",COUNT(AD22:AI22)<>6,$AM$47<>\"Yes\",$AM$49<>\"Yes\"),NA(),IF(ASTM(AI22,0)=0,0,ASTM((51740000*$AF$46*$AF$47)/((($AF$46*AG22)+(0.429*AH22)+(0.273*AI22))*((0.6*$AF$47*$AF$48)+5471)),1))))","v":""},{"$f":"IF(ISBLANK(AD22),\"\",IF(OR(AND($J$6<>\"HD 2b/3\",COUNT(AD22:AI22)<>6),AND($J$6=\"HD 2b/3\",COUNT(AD22)+COUNT(AI22)<>2),$AM$47<>\"Yes\",$AM$49<>\"Yes\"),NA(),IF(ASTM(AI22,0)=0,0,IF($J$6=\"HD 2b/3\",AI22,ASTM((($AF$46/0.273)*AG22)+(1.571*AH22)+AI22,0)))))","v":""},null,null,null,"CS Fuel Economy (MPG) [0]",{"$f":"IF($J$6=\"HD 2b/3\",NA(),IFERROR(ASTM(N12,4),0))","v":0},{"$f":"IF($J$6=\"HD 2b/3\",NA(),IFERROR(ASTM(O12,4),0))","v":0},{"$f":"IF($J$6=\"HD 2b/3\",NA(),IFERROR(ASTM(1/(0.55/AR22+0.45/AS22),0),0))","v":0},null,null,"NEW","CD AC electricity consumption rate (Rcda), unadjusted  (kW-hr/100mi) [3]",{"$f":"IF($J$6=\"HD 2b/3\",NA(),ASTM(IFERROR((IFERROR( ( SUMIF(BD11:BD45,\"<=\" & (AY34-1),BI11:BI45) + AY33*SUMIF(BD11:BD45,\"=\" & (AY34-1),BI11:BI45) ) / AY6 *100 / 1000, 0)),0),3))","v":0},{"$f":"IF($J$6=\"HD 2b/3\",NA(),ASTM(IFERROR((IFERROR( ( SUMIF(CA11:CA45,\"<=\" & (AZ34-1),CF11:CF45) + AZ33*SUMIF(CA11:CA45,\"=\" & (AZ34-1),CF11:CF45) ) / AZ6 *100 / 1000, 0)),0),3))","v":0},null,null,null,12,{"$f":"IF(ISBLANK(R22),\"\",IF(COUNT(R22:AA22)<>10,NA(),IF(ASTM(W22,0)=0,0,IFERROR(ASTM(R22,3)/ASTM(Z22,1),0))))","v":""},{"$f":"IF(ISBLANK(R22),\"\",IF(COUNT(R22:AA22)<>10,NA(),IF(W22=0,0,ASTM(ASTM(W22,0)*ASTM(R22,3),0))))","v":""},{"$f":"IF(ISBLANK(R22),\"\",IF(COUNT(R22:AA22)<>10,NA(),ASTM(S22,3)-ASTM(S21,3)))","v":""},{"$f":"IF(ISBLANK(R22),\"\",IF(COUNT(R22:AA22)<>10,NA(),ASTM(BG22*ASTM(T22,2),1)))","v":""},{"$f":"IF(ISBLANK(R22),\"\",IF(COUNT(R22:AA22)<>10,NA(),ASTM(ASTM($Y$46,4)*1000*(BH22/$AY$13),1)))","v":""},"",{"$f":"IF(ISBLANK(R22),\"\",IF(COUNT(R22:AA22)<>10,NA(),BI22/(33705*ASTM(R22,3))))","v":""},"",{"$f":"IF(ISBLANK(R22),\"\",IFERROR(ASTM(cityfuf(BJ22)-cityfuf(BJ21),3),\"\"))","v":""},{"$f":"IF(ISBLANK(R22),\"\",IF(OR(ISNUMBER(R22)=FALSE,ISNUMBER(AA22)=FALSE),NA(),IF(ASTM(W22,0)=0,0,BM22*ASTM(AA22,0))))","v":""},"",{"$f":"IF(ISBLANK(R22),\"\",IF(COUNT(R22:AA22)<>10,NA(),BL22*ASTM(R22,3)))","v":""},"",{"$f":"IF(ISBLANK(R22),\"\",IF(COUNT(R22:AA22)<>10,NA(),BQ22*ASTM(R22,3)))","v":""},"",{"$f":"IF(ISBLANK(R22),\"\",IF(COUNT(R22:AA22)<>10,NA(),ASTM(mdiuf(BS22),3)-ASTM(mdiuf(BS21),3)))","v":""},{"$f":"IF(ISBLANK(R22),\"\",IF(COUNT(R22:AA22)<>10,NA(),IF(ASTM(W22,0)=0,0,BT22*ASTM(W22,0)/(BQ22))))","v":""},"",{"$f":"IF(ISBLANK(R22),\"\",IF(COUNT(R22:AA22)<>10,NA(),ASTM(cityfufalt(BS22)-cityfufalt(BS21),3)))","v":""},"",{"$f":"IF(ISBLANK(R22),\"\",IF(COUNT(R22:AA22)<>10,NA(),IF(ASTM(W22,0)=0,0,BW22*ASTM(AA22,0)/(BQ22))))","v":""},null,12,{"$f":"IF(ISBLANK(AD22),\"\",IF(COUNT(AD22:AM22)<>10,NA(),IF(ASTM(AI22,0)=0,0,ASTM(AD22,3)/ASTM(AL22,1))))","v":""},{"$f":"IF(ISBLANK(AD22),\"\",IF(COUNT(AD22:AM22)<>10,NA(),IF(ASTM(AI22,0)=0,0,ASTM(ASTM(AI22,0)*ASTM(AD22,3),0))))","v":""},{"$f":"IF(ISBLANK(AD22),\"\",IF(COUNT(AD22:AM22)<>10,NA(),ASTM(AE22,3)-ASTM(AE21,3)))","v":""},{"$f":"IF(ISBLANK(AD22),\"\",IF(COUNT(AD22:AM22)<>10,NA(),ASTM(CD22*ASTM(AF22,2),1)))","v":""},{"$f":"IF(ISBLANK(AD22),\"\",IF(COUNT(AD22:AM22)<>10,NA(),ASTM(ASTM($AK$46,4)*1000*(CE22/$AZ$13),1)))","v":""},"",{"$f":"IF(ISBLANK(AD22),\"\",IF(COUNT(AD22:AM22)<>10,NA(),CF22/(33705*ASTM(AD22,3))))","v":""},"",{"$f":"IF(ISBLANK(AD22),\"\",ASTM(highwayfuf(CG22)-highwayfuf(CG21),3))","v":""},{"$f":"IF(ISBLANK(AD22),\"\",IF(OR(ISNUMBER(AD22)=FALSE,ISNUMBER(AM22)=FALSE),NA(),IF(ASTM(AI22,0)=0,0,CJ22*ASTM(AM22,0))))","v":""},"",{"$f":"IF(ISBLANK(AD22),\"\",IF(COUNT(AD22:AM22)<>10,NA(),CI22*ASTM(AD22,3)))","v":""},"",{"$f":"IF(ISBLANK(AD22),\"\",IF(COUNT(AD22:AM22)<>10,NA(),CN22*ASTM(AD22,3)))","v":""},"",{"$f":"IF(ISBLANK(AD22),\"\",IF(COUNT(AD22:AM22)<>10,NA(),ASTM(mdiuf(CP22)-mdiuf(CP21),3)))","v":""},{"$f":"IF(ISBLANK(AD22),\"\",IF(COUNT(AD22:AM22)<>10,NA(),IF(ASTM(AI22,0)=0,0,CQ22*ASTM(AI22,0)/(CN22))))","v":""},"",{"$f":"IF(ISBLANK(AD22),\"\",IF(COUNT(AD22:AM22)<>10,NA(),ASTM(highwayfufalt(CP22)-highwayfufalt(CP21),3)))","v":""},"",{"$f":"IF(ISBLANK(AD22),\"\",IF(COUNT(AD22:AM22)<>10,NA(),IF(ASTM(AI22,0)=0,0,CT22*ASTM(AM22,0)/(CN22))))","v":""}]
[null,null,"CD Electricity Consumption  (kW-hr/100mi)",{"$f":"IF($J$6=\"HD 2b/3\",NA(),ASTM( IF($N$7+$N$55+$N$103=0,SUM(IFERROR(AY12,0),IFERROR(AY60,0),IFERROR(AY108,0))/((AY12<>0)+(AY60<>0)+(AY108<>0)),($N$7*AY12+$N$55*AY60+$N$103*AY108)/($N$7+$N$55+$N$103)),4))","v":{"$error":"#VALUE!"}},{"$f":"IF($J$6=\"HD 2b/3\",NA(),ASTM( IF($N$7+$N$55+$N$103=0,SUM(IFERROR(AZ12,0),IFERROR(AZ60,0),IFERROR(AZ108,0))/((AZ12<>0)+(AZ60<>0)+(AZ108<>0)),($N$7*AZ12+$N$55*AZ60+$N$103*AZ108)/($N$7+$N$55+$N$103)),4))","v":{"$error":"#VALUE!"}},{"$f":"IF(OR(ISNUMBER(D23)=FALSE,ISNUMBER(E23)=FALSE),NA(),ASTM(0.55*D23+0.45*E23,0))","v":{"$error":"#N/A"}},null,null,null,null,null,null,"Charge-Sustaining FTP/Hwy (Optional):",null,null,null,13,null,null,null,null,null,null,null,null,{"$f":"IF(ISBLANK(R23),\"\",IF(OR($J$6=\"HD 2b/3\",COUNT(R23:W23)<>6,$AA$47<>\"Yes\",$AA$49<>\"Yes\"),NA(),IF(ASTM(W23,0)=0,0,ASTM((51740000*$T$46*$T$47)/((($T$46*U23)+(0.429*V23)+(0.273*W23))*((0.6*$T$47*$T$48)+5471)),1))))","v":""},{"$f":"IF(ISBLANK(R23),\"\",IF(OR(AND($J$6<>\"HD 2b/3\",COUNT(R23:W23)<>6),AND($J$6=\"HD 2b/3\",COUNT(R23)+COUNT(W23)<>2),$AA$47<>\"Yes\",$AA$49<>\"Yes\"),NA(),IF(ASTM(W23,0)=0,0,IF($J$6=\"HD 2b/3\",W23,ASTM((($T$46/0.273)*U23)+(1.571*V23)+W23,0)))))","v":""},null,13,null,null,null,null,null,null,null,null,{"$f":"IF(ISBLANK(AD23),\"\",IF(OR($J$6=\"HD 2b/3\",COUNT(AD23:AI23)<>6,$AM$47<>\"Yes\",$AM$49<>\"Yes\"),NA(),IF(ASTM(AI23,0)=0,0,ASTM((51740000*$AF$46*$AF$47)/((($AF$46*AG23)+(0.429*AH23)+(0.273*AI23))*((0.6*$AF$47*$AF$48)+5471)),1))))","v":""},{"$f":"IF(ISBLANK(AD23),\"\",IF(OR(AND($J$6<>\"HD 2b/3\",COUNT(AD23:AI23)<>6),AND($J$6=\"HD 2b/3\",COUNT(AD23)+COUNT(AI23)<>2),$AM$47<>\"Yes\",$AM$49<>\"Yes\"),NA(),IF(ASTM(AI23,0)=0,0,IF($J$6=\"HD 2b/3\",AI23,ASTM((($AF$46/0.273)*AG23)+(1.571*AH23)+AI23,0)))))","v":""},null,null,null,"CS Fuel Consumption (gal/100mi) [1]",{"$f":"IF($J$6=\"HD 2b/3\",NA(),IFERROR(ASTM(100/AR22,1),0))","v":0},{"$f":"IF($J$6=\"HD 2b/3\",NA(),IFERROR(ASTM(100/AS22,1),0))","v":0},{"$f":"IF($J$6=\"HD 2b/3\",NA(),IFERROR(ASTM(100/AT22,1),0))","v":0},null,null,null,"GHG EMISSIONS VALUES","CITY","HIGHWAY",null,null,null,13,{"$f":"IF(ISBLANK(R23),\"\",IF(COUNT(R23:AA23)<>10,NA(),IF(ASTM(W23,0)=0,0,IFERROR(ASTM(R23,3)/ASTM(Z23,1),0))))","v":""},{"$f":"IF(ISBLANK(R23),\"\",IF(COUNT(R23:AA23)<>10,NA(),IF(W23=0,0,ASTM(ASTM(W23,0)*ASTM(R23,3),0))))","v":""},{"$f":"IF(ISBLANK(R23),\"\",IF(COUNT(R23:AA23)<>10,NA(),ASTM(S23,3)-ASTM(S22,3)))","v":""},{"$f":"IF(ISBLANK(R23),\"\",IF(COUNT(R23:AA23)<>10,NA(),ASTM(BG23*ASTM(T23,2),1)))","v":""},{"$f":"IF(ISBLANK(R23),\"\",IF(COUNT(R23:AA23)<>10,NA(),ASTM(ASTM($Y$46,4)*1000*(BH23/$AY$13),1)))","v":""},"",{"$f":"IF(ISBLANK(R23),\"\",IF(COUNT(R23:AA23)<>10,NA(),BI23/(33705*ASTM(R23,3))))","v":""},"",{"$f":"IF(ISBLANK(R23),\"\",IFERROR(ASTM(cityfuf(BJ23)-cityfuf(BJ22),3),\"\"))","v":""},{"$f":"IF(ISBLANK(R23),\"\",IF(OR(ISNUMBER(R23)=FALSE,ISNUMBER(AA23)=FALSE),NA(),IF(ASTM(W23,0)=0,0,BM23*ASTM(AA23,0))))","v":""},"",{"$f":"IF(ISBLANK(R23),\"\",IF(COUNT(R23:AA23)<>10,NA(),BL23*ASTM(R23,3)))","v":""},"",{"$f":"IF(ISBLANK(R23),\"\",IF(COUNT(R23:AA23)<>10,NA(),BQ23*ASTM(R23,3)))","v":""},"",{"$f":"IF(ISBLANK(R23),\"\",IF(COUNT(R23:AA23)<>10,NA(),ASTM(mdiuf(BS23),3)-ASTM(mdiuf(BS22),3)))","v":""},{"$f":"IF(ISBLANK(R23),\"\",IF(COUNT(R23:AA23)<>10,NA(),IF(ASTM(W23,0)=0,0,BT23*ASTM(W23,0)/(BQ23))))","v":""},"",{"$f":"IF(ISBLANK(R23),\"\",IF(COUNT(R23:AA23)<>10,NA(),ASTM(cityfufalt(BS23)-cityfufalt(BS22),3)))","v":""},"",{"$f":"IF(ISBLANK(R23),\"\",IF(COUNT(R23:AA23)<>10,NA(),IF(ASTM(W23,0)=0,0,BW23*ASTM(AA23,0)/(BQ23))))","v":""},null,13,{"$f":"IF(ISBLANK(AD23),\"\",IF(COUNT(AD23:AM23)<>10,NA(),IF(ASTM(AI23,0)=0,0,ASTM(AD23,3)/ASTM(AL23,1))))","v":""},{"$f":"IF(ISBLANK(AD23),\"\",IF(COUNT(AD23:AM23)<>10,NA(),IF(ASTM(AI23,0)=0,0,ASTM(ASTM(AI23,0)*ASTM(AD23,3),0))))","v":""},{"$f":"IF(ISBLANK(AD23),\"\",IF(COUNT(AD23:AM23)<>10,NA(),ASTM(AE23,3)-ASTM(AE22,3)))","v":""},{"$f":"IF(ISBLANK(AD23),\"\",IF(COUNT(AD23:AM23)<>10,NA(),ASTM(CD23*ASTM(AF23,2),1)))","v":""},{"$f":"IF(ISBLANK(AD23),\"\",IF(COUNT(AD23:AM23)<>10,NA(),ASTM(ASTM($AK$46,4)*1000*(CE23/$AZ$13),1)))","v":""},"",{"$f":"IF(ISBLANK(AD23),\"\",IF(COUNT(AD23:AM23)<>10,NA(),CF23/(33705*ASTM(AD23,3))))","v":""},"",{"$f":"IF(ISBLANK(AD23),\"\",ASTM(highwayfuf(CG23)-highwayfuf(CG22),3))","v":""},{"$f":"IF(ISBLANK(AD23),\"\",IF(OR(ISNUMBER(AD23)=FALSE,ISNUMBER(AM23)=FALSE),NA(),IF(ASTM(AI23,0)=0,0,CJ23*ASTM(AM23,0))))","v":""},"",{"$f":"IF(ISBLANK(AD23),\"\",IF(COUNT(AD23:AM23)<>10,NA(),CI23*ASTM(AD23,3)))","v":""},"",{"$f":"IF(ISBLANK(AD23),\"\",IF(COUNT(AD23:AM23)<>10,NA(),CN23*ASTM(AD23,3)))","v":""},"",{"$f":"IF(ISBLANK(AD23),\"\",IF(COUNT(AD23:AM23)<>10,NA(),ASTM(mdiuf(CP23)-mdiuf(CP22),3)))","v":""},{"$f":"IF(ISBLANK(AD23),\"\",IF(COUNT(AD23:AM23)<>10,NA(),IF(ASTM(AI23,0)=0,0,CQ23*ASTM(AI23,0)/(CN23))))","v":""},"",{"$f":"IF(ISBLANK(AD23),\"\",IF(COUNT(AD23:AM23)<>10,NA(),ASTM(highwayfufalt(CP23)-highwayfufalt(CP22),3)))","v":""},"",{"$f":"IF(ISBLANK(AD23),\"\",IF(COUNT(AD23:AM23)<>10,NA(),IF(ASTM(AI23,0)=0,0,CT23*ASTM(AM23,0)/(CN23))))","v":""}]
[null,null,"CD Gasoline Consumption (gal/100mi)",{"$f":"IF($J$6=\"HD 2b/3\",NA(),IF($N$7+$N$55+$N$103=0,SUM(IFERROR(AY20,0),IFERROR(AY68,0),IFERROR(AY116,0))/((AY7<>0)+(AY55<>0)+(AY103<>0)),($N$7*AY20+$N$55*AY68+$N$103*AY116)/($N$7+$N$55+$N$103)))","v":{"$error":"#DIV/0!"}},{"$f":"IF($J$6=\"HD 2b/3\",NA(),IF($N$7+$N$55+$N$103=0,SUM(IFERROR(AZ20,0),IFERROR(AZ68,0),IFERROR(AZ116,0))/((AZ7<>0)+(AZ55<>0)+(AZ103<>0)),($N$7*AZ20+$N$55*AZ68+$N$103*AZ116)/($N$7+$N$55+$N$103)))","v":{"$error":"#DIV/0!"}},{"$f":"IF(OR(ISNUMBER(D24)=FALSE,ISNUMBER(E24)=FALSE),NA(),ASTM(0.55*D24+0.45*E24,1))","v":{"$error":"#N/A"}},null,null,null,null,null,null,null,null,null,null,14,null,null,null,null,null,null,null,null,{"$f":"IF(ISBLANK(R24),\"\",IF(OR($J$6=\"HD 2b/3\",COUNT(R24:W24)<>6,$AA$47<>\"Yes\",$AA$49<>\"Yes\"),NA(),IF(ASTM(W24,0)=0,0,ASTM((51740000*$T$46*$T$47)/((($T$46*U24)+(0.429*V24)+(0.273*W24))*((0.6*$T$47*$T$48)+5471)),1))))","v":""},{"$f":"IF(ISBLANK(R24),\"\",IF(OR(AND($J$6<>\"HD 2b/3\",COUNT(R24:W24)<>6),AND($J$6=\"HD 2b/3\",COUNT(R24)+COUNT(W24)<>2),$AA$47<>\"Yes\",$AA$49<>\"Yes\"),NA(),IF(ASTM(W24,0)=0,0,IF($J$6=\"HD 2b/3\",W24,ASTM((($T$46/0.273)*U24)+(1.571*V24)+W24,0)))))","v":""},null,14,null,null,null,null,null,null,null,null,{"$f":"IF(ISBLANK(AD24),\"\",IF(OR($J$6=\"HD 2b/3\",COUNT(AD24:AI24)<>6,$AM$47<>\"Yes\",$AM$49<>\"Yes\"),NA(),IF(ASTM(AI24,0)=0,0,ASTM((51740000*$AF$46*$AF$47)/((($AF$46*AG24)+(0.429*AH24)+(0.273*AI24))*((0.6*$AF$47*$AF$48)+5471)),1))))","v":""},{"$f":"IF(ISBLANK(AD24),\"\",IF(OR(AND($J$6<>\"HD 2b/3\",COUNT(AD24:AI24)<>6),AND($J$6=\"HD 2b/3\",COUNT(AD24)+COUNT(AI24)<>2),$AM$47<>\"Yes\",$AM$49<>\"Yes\"),NA(),IF(ASTM(AI24,0)=0,0,IF($J$6=\"HD 2b/3\",AI24,ASTM((($AF$46/0.273)*AG24)+(1.571*AH24)+AI24,0)))))","v":""},null,null,null,"Composite CD/CS",null,null,"Combined",null,null,null,"CD CO2 emissions rate (Rcda), unadjusted (g/mi) [1]",{"$f":"IF($J$6=\"HD 2b/3\",NA(),IFERROR(ASTM((SUMIF(BD11:BD45,\"<=\" & AY34-1,BF11:BF45)+AY33*SUMIF(BD11:BD45,\"=\" & AY34-1,BF11:BF45))/AY6,1),0))","v":0},{"$f":"IF($J$6=\"HD 2b/3\",NA(),IFERROR(ASTM((SUMIF(CA11:CA45,\"<=\" & AZ34-1,CC11:CC45)+AZ33*SUMIF(CA11:CA45,\"=\" & AZ34-1,CC11:CC45))/AZ6,1),0))","v":0},null,null,null,14,{"$f":"IF(ISBLANK(R24),\"\",IF(COUNT(R24:AA24)<>10,NA(),IF(ASTM(W24,0)=0,0,IFERROR(ASTM(R24,3)/ASTM(Z24,1),0))))","v":""},{"$f":"IF(ISBLANK(R24),\"\",IF(COUNT(R24:AA24)<>10,NA(),IF(W24=0,0,ASTM(ASTM(W24,0)*ASTM(R24,3),0))))","v":""},{"$f":"IF(ISBLANK(R24),\"\",IF(COUNT(R24:AA24)<>10,NA(),ASTM(S24,3)-ASTM(S23,3)))","v":""},{"$f":"IF(ISBLANK(R24),\"\",IF(COUNT(R24:AA24)<>10,NA(),ASTM(BG24*ASTM(T24,2),1)))","v":""},{"$f":"IF(ISBLANK(R24),\"\",IF(COUNT(R24:AA24)<>10,NA(),ASTM(ASTM($Y$46,4)*1000*(BH24/$AY$13),1)))","v":""},"",{"$f":"IF(ISBLANK(R24),\"\",IF(COUNT(R24:AA24)<>10,NA(),BI24/(33705*ASTM(R24,3))))","v":""},"",{"$f":"IF(ISBLANK(R24),\"\",IFERROR(ASTM(cityfuf(BJ24)-cityfuf(BJ23),3),\"\"))","v":""},{"$f":"IF(ISBLANK(R24),\"\",IF(OR(ISNUMBER(R24)=FALSE,ISNUMBER(AA24)=FALSE),NA(),IF(ASTM(W24,0)=0,0,BM24*ASTM(AA24,0))))","v":""},"",{"$f":"IF(ISBLANK(R24),\"\",IF(COUNT(R24:AA24)<>10,NA(),BL24*ASTM(R24,3)))","v":""},"",{"$f":"IF(ISBLANK(R24),\"\",IF(COUNT(R24:AA24)<>10,NA(),BQ24*ASTM(R24,3)))","v":""},"",{"$f":"IF(ISBLANK(R24),\"\",IF(COUNT(R24:AA24)<>10,NA(),ASTM(mdiuf(BS24),3)-ASTM(mdiuf(BS23),3)))","v":""},{"$f":"IF(ISBLANK(R24),\"\",IF(COUNT(R24:AA24)<>10,NA(),IF(ASTM(W24,0)=0,0,BT24*ASTM(W24,0)/(BQ24))))","v":""},"",{"$f":"IF(ISBLANK(R24),\"\",IF(COUNT(R24:AA24)<>10,NA(),ASTM(cityfufalt(BS24)-cityfufalt(BS23),3)))","v":""},"",{"$f":"IF(ISBLANK(R24),\"\",IF(COUNT(R24:AA24)<>10,NA(),IF(ASTM(W24,0)=0,0,BW24*ASTM(AA24,0)/(BQ24))))","v":""},null,14,{"$f":"IF(ISBLANK(AD24),\"\",IF(COUNT(AD24:AM24)<>10,NA(),IF(ASTM(AI24,0)=0,0,ASTM(AD24,3)/ASTM(AL24,1))))","v":""},{"$f":"IF(ISBLANK(AD24),\"\",IF(COUNT(AD24:AM24)<>10,NA(),IF(ASTM(AI24,0)=0,0,ASTM(ASTM(AI24,0)*ASTM(AD24,3),0))))","v":""},{"$f":"IF(ISBLANK(AD24),\"\",IF(COUNT(AD24:AM24)<>10,NA(),ASTM(AE24,3)-ASTM(AE23,3)))","v":""},{"$f":"IF(ISBLANK(AD24),\"\",IF(COUNT(AD24:AM24)<>10,NA(),ASTM(CD24*ASTM(AF24,2),1)))","v":""},{"$f":"IF(ISBLANK(AD24),\"\",IF(COUNT(AD24:AM24)<>10,NA(),ASTM(ASTM($AK$46,4)*1000*(CE24/$AZ$13),1)))","v":""},"",{"$f":"IF(ISBLANK(AD24),\"\",IF(COUNT(AD24:AM24)<>10,NA(),CF24/(33705*ASTM(AD24,3))))","v":""},"",{"$f":"IF(ISBLANK(AD24),\"\",ASTM(highwayfuf(CG24)-highwayfuf(CG23),3))","v":""},{"$f":"IF(ISBLANK(AD24),\"\",IF(OR(ISNUMBER(AD24)=FALSE,ISNUMBER(AM24)=FALSE),NA(),IF(ASTM(AI24,0)=0,0,CJ24*ASTM(AM24,0))))","v":""},"",{"$f":"IF(ISBLANK(AD24),\"\",IF(COUNT(AD24:AM24)<>10,NA(),CI24*ASTM(AD24,3)))","v":""},"",{"$f":"IF(ISBLANK(AD24),\"\",IF(COUNT(AD24:AM24)<>10,NA(),CN24*ASTM(AD24,3)))","v":""},"",{"$f":"IF(ISBLANK(AD24),\"\",IF(COUNT(AD24:AM24)<>10,NA(),ASTM(mdiuf(CP24)-mdiuf(CP23),3)))","v":""},{"$f":"IF(ISBLANK(AD24),\"\",IF(COUNT(AD24:AM24)<>10,NA(),IF(ASTM(AI24,0)=0,0,CQ24*ASTM(AI24,0)/(CN24))))","v":""},"",{"$f":"IF(ISBLANK(AD24),\"\",IF(COUNT(AD24:AM24)<>10,NA(),ASTM(highwayfufalt(CP24)-highwayfufalt(CP23),3)))","v":""},"",{"$f":"IF(ISBLANK(AD24),\"\",IF(COUNT(AD24:AM24)<>10,NA(),IF(ASTM(AI24,0)=0,0,CT24*ASTM(AM24,0)/(CN24))))","v":""}]
[null,null,"Charge-Sustaining","City","Highway","Combined",null,null,null,null,null,null,"ENTER ADDITIONAL CHARGE-SUSTAINING 5-CYCLE TEST NUMBERS HERE",null,null,null,15,null,null,null,null,null,null,null,null,{"$f":"IF(ISBLANK(R25),\"\",IF(OR($J$6=\"HD 2b/3\",COUNT(R25:W25)<>6,$AA$47<>\"Yes\",$AA$49<>\"Yes\"),NA(),IF(ASTM(W25,0)=0,0,ASTM((51740000*$T$46*$T$47)/((($T$46*U25)+(0.429*V25)+(0.273*W25))*((0.6*$T$47*$T$48)+5471)),1))))","v":""},{"$f":"IF(ISBLANK(R25),\"\",IF(OR(AND($J$6<>\"HD 2b/3\",COUNT(R25:W25)<>6),AND($J$6=\"HD 2b/3\",COUNT(R25)+COUNT(W25)<>2),$AA$47<>\"Yes\",$AA$49<>\"Yes\"),NA(),IF(ASTM(W25,0)=0,0,IF($J$6=\"HD 2b/3\",W25,ASTM((($T$46/0.273)*U25)+(1.571*V25)+W25,0)))))","v":""},null,15,null,null,null,null,null,null,null,null,{"$f":"IF(ISBLANK(AD25),\"\",IF(OR($J$6=\"HD 2b/3\",COUNT(AD25:AI25)<>6,$AM$47<>\"Yes\",$AM$49<>\"Yes\"),NA(),IF(ASTM(AI25,0)=0,0,ASTM((51740000*$AF$46*$AF$47)/((($AF$46*AG25)+(0.429*AH25)+(0.273*AI25))*((0.6*$AF$47*$AF$48)+5471)),1))))","v":""},{"$f":"IF(ISBLANK(AD25),\"\",IF(OR(AND($J$6<>\"HD 2b/3\",COUNT(AD25:AI25)<>6),AND($J$6=\"HD 2b/3\",COUNT(AD25)+COUNT(AI25)<>2),$AM$47<>\"Yes\",$AM$49<>\"Yes\"),NA(),IF(ASTM(AI25,0)=0,0,IF($J$6=\"HD 2b/3\",AI25,ASTM((($AF$46/0.273)*AG25)+(1.571*AH25)+AI25,0)))))","v":""},null,null,null,"Annual Fuel Cost ($/year) [0]",null,null,{"$f":"IF($J$6=\"HD 2b/3\",NA(),ASTM(IFERROR(15000*_xlfn.SINGLE(ASTM(0.55*AY46+0.45*AZ46,3)),0)/50,0) * 50)","v":0},null,null,"NEW","CD CO2 emissions rate (Rcda), adjusted (g/mi) [1]",{"$f":"IF($J$6=\"HD 2b/3\",NA(),IFERROR(ASTM( IFERROR((SUMIF(BD11:BD45,\"<=\" & AY34-1,BF11:BF45)+AY33*SUMIF(BD11:BD45,\"=\" & AY34-1,BF11:BF45))/AY7,#VALUE!), 1),0))","v":0},{"$f":"IF($J$6=\"HD 2b/3\",NA(),IFERROR(ASTM( IFERROR((SUMIF(CA11:CA45,\"<=\" & AZ34-1,CC11:CC45)+AZ33*SUMIF(CA11:CA45,\"=\" & AZ34-1,CC11:CC45))/AZ7,#VALUE!), 1),0))","v":0},null,null,null,15,{"$f":"IF(ISBLANK(R25),\"\",IF(COUNT(R25:AA25)<>10,NA(),IF(ASTM(W25,0)=0,0,IFERROR(ASTM(R25,3)/ASTM(Z25,1),0))))","v":""},{"$f":"IF(ISBLANK(R25),\"\",IF(COUNT(R25:AA25)<>10,NA(),IF(W25=0,0,ASTM(ASTM(W25,0)*ASTM(R25,3),0))))","v":""},{"$f":"IF(ISBLANK(R25),\"\",IF(COUNT(R25:AA25)<>10,NA(),ASTM(S25,3)-ASTM(S24,3)))","v":""},{"$f":"IF(ISBLANK(R25),\"\",IF(COUNT(R25:AA25)<>10,NA(),ASTM(BG25*ASTM(T25,2),1)))","v":""},{"$f":"IF(ISBLANK(R25),\"\",IF(COUNT(R25:AA25)<>10,NA(),ASTM(ASTM($Y$46,4)*1000*(BH25/$AY$13),1)))","v":""},"",{"$f":"IF(ISBLANK(R25),\"\",IF(COUNT(R25:AA25)<>10,NA(),BI25/(33705*ASTM(R25,3))))","v":""},"",{"$f":"IF(ISBLANK(R25),\"\",IFERROR(ASTM(cityfuf(BJ25)-cityfuf(BJ24),3),\"\"))","v":""},{"$f":"IF(ISBLANK(R25),\"\",IF(OR(ISNUMBER(R25)=FALSE,ISNUMBER(AA25)=FALSE),NA(),IF(ASTM(W25,0)=0,0,BM25*ASTM(AA25,0))))","v":""},"",{"$f":"IF(ISBLANK(R25),\"\",IF(COUNT(R25:AA25)<>10,NA(),BL25*ASTM(R25,3)))","v":""},"",{"$f":"IF(ISBLANK(R25),\"\",IF(COUNT(R25:AA25)<>10,NA(),BQ25*ASTM(R25,3)))","v":""},"",{"$f":"IF(ISBLANK(R25),\"\",IF(COUNT(R25:AA25)<>10,NA(),ASTM(mdiuf(BS25),3)-ASTM(mdiuf(BS24),3)))","v":""},{"$f":"IF(ISBLANK(R25),\"\",IF(COUNT(R25:AA25)<>10,NA(),IF(ASTM(W25,0)=0,0,BT25*ASTM(W25,0)/(BQ25))))","v":""},"",{"$f":"IF(ISBLANK(R25),\"\",IF(COUNT(R25:AA25)<>10,NA(),ASTM(cityfufalt(BS25)-cityfufalt(BS24),3)))","v":""},"",{"$f":"IF(ISBLANK(R25),\"\",IF(COUNT(R25:AA25)<>10,NA(),IF(ASTM(W25,0)=0,0,BW25*ASTM(AA25,0)/(BQ25))))","v":""},null,15,{"$f":"IF(ISBLANK(AD25),\"\",IF(COUNT(AD25:AM25)<>10,NA(),IF(ASTM(AI25,0)=0,0,ASTM(AD25,3)/ASTM(AL25,1))))","v":""},{"$f":"IF(ISBLANK(AD25),\"\",IF(COUNT(AD25:AM25)<>10,NA(),IF(ASTM(AI25,0)=0,0,ASTM(ASTM(AI25,0)*ASTM(AD25,3),0))))","v":""},{"$f":"IF(ISBLANK(AD25),\"\",IF(COUNT(AD25:AM25)<>10,NA(),ASTM(AE25,3)-ASTM(AE24,3)))","v":""},{"$f":"IF(ISBLANK(AD25),\"\",IF(COUNT(AD25:AM25)<>10,NA(),ASTM(CD25*ASTM(AF25,2),1)))","v":""},{"$f":"IF(ISBLANK(AD25),\"\",IF(COUNT(AD25:AM25)<>10,NA(),ASTM(ASTM($AK$46,4)*1000*(CE25/$AZ$13),1)))","v":""},"",{"$f":"IF(ISBLANK(AD25),\"\",IF(COUNT(AD25:AM25)<>10,NA(),CF25/(33705*ASTM(AD25,3))))","v":""},"",{"$f":"IF(ISBLANK(AD25),\"\",ASTM(highwayfuf(CG25)-highwayfuf(CG24),3))","v":""},{"$f":"IF(ISBLANK(AD25),\"\",IF(OR(ISNUMBER(AD25)=FALSE,ISNUMBER(AM25)=FALSE),NA(),IF(ASTM(AI25,0)=0,0,CJ25*ASTM(AM25,0))))","v":""},"",{"$f":"IF(ISBLANK(AD25),\"\",IF(COUNT(AD25:AM25)<>10,NA(),CI25*ASTM(AD25,3)))","v":""},"",{"$f":"IF(ISBLANK(AD25),\"\",IF(COUNT(AD25:AM25)<>10,NA(),CN25*ASTM(AD25,3)))","v":""},"",{"$f":"IF(ISBLANK(AD25),\"\",IF(COUNT(AD25:AM25)<>10,NA(),ASTM(mdiuf(CP25)-mdiuf(CP24),3)))","v":""},{"$f":"IF(ISBLANK(AD25),\"\",IF(COUNT(AD25:AM25)<>10,NA(),IF(ASTM(AI25,0)=0,0,CQ25*ASTM(AI25,0)/(CN25))))","v":""},"",{"$f":"IF(ISBLANK(AD25),\"\",IF(COUNT(AD25:AM25)<>10,NA(),ASTM(highwayfufalt(CP25)-highwayfufalt(CP24),3)))","v":""},"",{"$f":"IF(ISBLANK(AD25),\"\",IF(COUNT(AD25:AM25)<>10,NA(),IF(ASTM(AI25,0)=0,0,CT25*ASTM(AM25,0)/(CN25))))","v":""}]
[null,null,"CS Fuel Economy (MPG)",{"$f":"IF($J$6=\"HD 2b/3\",NA(),IF($N$7+$N$55+$N$103=0,((AR22<>0)+(AR70<>0)+(AR118<>0))/(IFERROR(1/AR22,0)+IFERROR(1/AR70,0)+IFERROR(1/AR118,0)),($N$7+$N$55+$N$103) / (IFERROR($N$7/AR22,0)+IFERROR($N$55/AR70,0)+IFERROR($N$103/AR118,0))))","v":{"$error":"#DIV/0!"}},{"$f":"IF($J$6=\"HD 2b/3\",NA(),IF($N$7+$N$55+$N$103=0,((AS22<>0)+(AS70<>0)+(AS118<>0))/(IFERROR(1/AS22,0)+IFERROR(1/AS70,0)+IFERROR(1/AS118,0)),($N$7+$N$55+$N$103) / (IFERROR($N$7/AS22,0)+IFERROR($N$55/AS70,0)+IFERROR($N$103/AS118,0))))","v":{"$error":"#DIV/0!"}},{"$f":"IF(OR(ISNUMBER(D26)=FALSE,ISNUMBER(E26)=FALSE),NA(),ASTM(1/(0.55/D26+0.45/E26),0))","v":{"$error":"#N/A"}},null,null,null,null,null,null,null,"Test Procedure","Test Number",null,16,null,null,null,null,null,null,null,null,{"$f":"IF(ISBLANK(R26),\"\",IF(OR($J$6=\"HD 2b/3\",COUNT(R26:W26)<>6,$AA$47<>\"Yes\",$AA$49<>\"Yes\"),NA(),IF(ASTM(W26,0)=0,0,ASTM((51740000*$T$46*$T$47)/((($T$46*U26)+(0.429*V26)+(0.273*W26))*((0.6*$T$47*$T$48)+5471)),1))))","v":""},{"$f":"IF(ISBLANK(R26),\"\",IF(OR(AND($J$6<>\"HD 2b/3\",COUNT(R26:W26)<>6),AND($J$6=\"HD 2b/3\",COUNT(R26)+COUNT(W26)<>2),$AA$47<>\"Yes\",$AA$49<>\"Yes\"),NA(),IF(ASTM(W26,0)=0,0,IF($J$6=\"HD 2b/3\",W26,ASTM((($T$46/0.273)*U26)+(1.571*V26)+W26,0)))))","v":""},null,16,null,null,null,null,null,null,null,null,{"$f":"IF(ISBLANK(AD26),\"\",IF(OR($J$6=\"HD 2b/3\",COUNT(AD26:AI26)<>6,$AM$47<>\"Yes\",$AM$49<>\"Yes\"),NA(),IF(ASTM(AI26,0)=0,0,ASTM((51740000*$AF$46*$AF$47)/((($AF$46*AG26)+(0.429*AH26)+(0.273*AI26))*((0.6*$AF$47*$AF$48)+5471)),1))))","v":""},{"$f":"IF(ISBLANK(AD26),\"\",IF(OR(AND($J$6<>\"HD 2b/3\",COUNT(AD26:AI26)<>6),AND($J$6=\"HD 2b/3\",COUNT(AD26)+COUNT(AI26)<>2),$AM$47<>\"Yes\",$AM$49<>\"Yes\"),NA(),IF(ASTM(AI26,0)=0,0,IF($J$6=\"HD 2b/3\",AI26,ASTM((($AF$46/0.273)*AG26)+(1.571*AH26)+AI26,0)))))","v":""},null,null,null,"5-Year Fuel Savings Value ($/5 years) [0]",null,null,{"$f":"IF($J$6=\"HD 2b/3\",NA(),$F$38-5*AT25)","v":{"$error":"#N/A"}},null,null,"NEW","CD utilitized CO2 (MDIUF, Rcdc), adjusted (g/mi) [1]",{"$f":"IF($J$6=\"HD 2b/3\",NA(),ASTM(SUMIF(BD11:BD45,\"<=\" & (AY34),BU11:BU45),1))","v":0},{"$f":"IF($J$6=\"HD 2b/3\",NA(),ASTM(SUMIF(CA11:CA45,\"<=\" & (AZ34),CR11:CR45),1))","v":0},null,null,null,16,{"$f":"IF(ISBLANK(R26),\"\",IF(COUNT(R26:AA26)<>10,NA(),IF(ASTM(W26,0)=0,0,IFERROR(ASTM(R26,3)/ASTM(Z26,1),0))))","v":""},{"$f":"IF(ISBLANK(R26),\"\",IF(COUNT(R26:AA26)<>10,NA(),IF(W26=0,0,ASTM(ASTM(W26,0)*ASTM(R26,3),0))))","v":""},{"$f":"IF(ISBLANK(R26),\"\",IF(COUNT(R26:AA26)<>10,NA(),ASTM(S26,3)-ASTM(S25,3)))","v":""},{"$f":"IF(ISBLANK(R26),\"\",IF(COUNT(R26:AA26)<>10,NA(),ASTM(BG26*ASTM(T26,2),1)))","v":""},{"$f":"IF(ISBLANK(R26),\"\",IF(COUNT(R26:AA26)<>10,NA(),ASTM(ASTM($Y$46,4)*1000*(BH26/$AY$13),1)))","v":""},"",{"$f":"IF(ISBLANK(R26),\"\",IF(COUNT(R26:AA26)<>10,NA(),BI26/(33705*ASTM(R26,3))))","v":""},"",{"$f":"IF(ISBLANK(R26),\"\",IFERROR(ASTM(cityfuf(BJ26)-cityfuf(BJ25),3),\"\"))","v":""},{"$f":"IF(ISBLANK(R26),\"\",IF(OR(ISNUMBER(R26)=FALSE,ISNUMBER(AA26)=FALSE),NA(),IF(ASTM(W26,0)=0,0,BM26*ASTM(AA26,0))))","v":""},"",{"$f":"IF(ISBLANK(R26),\"\",IF(COUNT(R26:AA26)<>10,NA(),BL26*ASTM(R26,3)))","v":""},"",{"$f":"IF(ISBLANK(R26),\"\",IF(COUNT(R26:AA26)<>10,NA(),BQ26*ASTM(R26,3)))","v":""},"",{"$f":"IF(ISBLANK(R26),\"\",IF(COUNT(R26:AA26)<>10,NA(),ASTM(mdiuf(BS26),3)-ASTM(mdiuf(BS25),3)))","v":""},{"$f":"IF(ISBLANK(R26),\"\",IF(COUNT(R26:AA26)<>10,NA(),IF(ASTM(W26,0)=0,0,BT26*ASTM(W26,0)/(BQ26))))","v":""},"",{"$f":"IF(ISBLANK(R26),\"\",IF(COUNT(R26:AA26)<>10,NA(),ASTM(cityfufalt(BS26)-cityfufalt(BS25),3)))","v":""},"",{"$f":"IF(ISBLANK(R26),\"\",IF(COUNT(R26:AA26)<>10,NA(),IF(ASTM(W26,0)=0,0,BW26*ASTM(AA26,0)/(BQ26))))","v":""},null,16,{"$f":"IF(ISBLANK(AD26),\"\",IF(COUNT(AD26:AM26)<>10,NA(),IF(ASTM(AI26,0)=0,0,ASTM(AD26,3)/ASTM(AL26,1))))","v":""},{"$f":"IF(ISBLANK(AD26),\"\",IF(COUNT(AD26:AM26)<>10,NA(),IF(ASTM(AI26,0)=0,0,ASTM(ASTM(AI26,0)*ASTM(AD26,3),0))))","v":""},{"$f":"IF(ISBLANK(AD26),\"\",IF(COUNT(AD26:AM26)<>10,NA(),ASTM(AE26,3)-ASTM(AE25,3)))","v":""},{"$f":"IF(ISBLANK(AD26),\"\",IF(COUNT(AD26:AM26)<>10,NA(),ASTM(CD26*ASTM(AF26,2),1)))","v":""},{"$f":"IF(ISBLANK(AD26),\"\",IF(COUNT(AD26:AM26)<>10,NA(),ASTM(ASTM($AK$46,4)*1000*(CE26/$AZ$13),1)))","v":""},"",{"$f":"IF(ISBLANK(AD26),\"\",IF(COUNT(AD26:AM26)<>10,NA(),CF26/(33705*ASTM(AD26,3))))","v":""},"",{"$f":"IF(ISBLANK(AD26),\"\",ASTM(highwayfuf(CG26)-highwayfuf(CG25),3))","v":""},{"$f":"IF(ISBLANK(AD26),\"\",IF(OR(ISNUMBER(AD26)=FALSE,ISNUMBER(AM26)=FALSE),NA(),IF(ASTM(AI26,0)=0,0,CJ26*ASTM(AM26,0))))","v":""},"",{"$f":"IF(ISBLANK(AD26),\"\",IF(COUNT(AD26:AM26)<>10,NA(),CI26*ASTM(AD26,3)))","v":""},"",{"$f":"IF(ISBLANK(AD26),\"\",IF(COUNT(AD26:AM26)<>10,NA(),CN26*ASTM(AD26,3)))","v":""},"",{"$f":"IF(ISBLANK(AD26),\"\",IF(COUNT(AD26:AM26)<>10,NA(),ASTM(mdiuf(CP26)-mdiuf(CP25),3)))","v":""},{"$f":"IF(ISBLANK(AD26),\"\",IF(COUNT(AD26:AM26)<>10,NA(),IF(ASTM(AI26,0)=0,0,CQ26*ASTM(AI26,0)/(CN26))))","v":""},"",{"$f":"IF(ISBLANK(AD26),\"\",IF(COUNT(AD26:AM26)<>10,NA(),ASTM(highwayfufalt(CP26)-highwayfufalt(CP25),3)))","v":""},"",{"$f":"IF(ISBLANK(AD26),\"\",IF(COUNT(AD26:AM26)<>10,NA(),IF(ASTM(AI26,0)=0,0,CT26*ASTM(AM26,0)/(CN26))))","v":""}]
[null,null,"CS Fuel Consumption (gal/100mi)",{"$f":"IF($J$6=\"HD 2b/3\",NA(),IF($N$7+$N$55+$N$103=0,SUM(IFERROR(AR23,0),IFERROR(AR71,0),IFERROR(AR119,0)) / ((AR23<>0)+(AR71<>0)+(AR119<>0)),($N$7*AR23+$N$55*AR71+$N$103*AR119)/($N$7+$N$55+$N$103)))","v":{"$error":"#DIV/0!"}},{"$f":"IF($J$6=\"HD 2b/3\",NA(),IF($N$7+$N$55+$N$103=0,SUM(IFERROR(AS23,0),IFERROR(AS71,0),IFERROR(AS119,0)) / ((AS23<>0)+(AS71<>0)+(AS119<>0)),($N$7*AS23+$N$55*AS71+$N$103*AS119)/($N$7+$N$55+$N$103)))","v":{"$error":"#DIV/0!"}},{"$f":"IF(ISNUMBER(F26)=FALSE,NA(),ASTM(100/F26,1))","v":{"$error":"#N/A"}},null,null,null,null,null,null,{"$f":"IF($J$6=\"HD 2b/3\",NA(),\"Charge-Sustaining Test (Optional):\")","v":"Charge-Sustaining Test (Optional):"},null,null,null,17,null,null,null,null,null,null,null,null,{"$f":"IF(ISBLANK(R27),\"\",IF(OR($J$6=\"HD 2b/3\",COUNT(R27:W27)<>6,$AA$47<>\"Yes\",$AA$49<>\"Yes\"),NA(),IF(ASTM(W27,0)=0,0,ASTM((51740000*$T$46*$T$47)/((($T$46*U27)+(0.429*V27)+(0.273*W27))*((0.6*$T$47*$T$48)+5471)),1))))","v":""},{"$f":"IF(ISBLANK(R27),\"\",IF(OR(AND($J$6<>\"HD 2b/3\",COUNT(R27:W27)<>6),AND($J$6=\"HD 2b/3\",COUNT(R27)+COUNT(W27)<>2),$AA$47<>\"Yes\",$AA$49<>\"Yes\"),NA(),IF(ASTM(W27,0)=0,0,IF($J$6=\"HD 2b/3\",W27,ASTM((($T$46/0.273)*U27)+(1.571*V27)+W27,0)))))","v":""},null,17,null,null,null,null,null,null,null,null,{"$f":"IF(ISBLANK(AD27),\"\",IF(OR($J$6=\"HD 2b/3\",COUNT(AD27:AI27)<>6,$AM$47<>\"Yes\",$AM$49<>\"Yes\"),NA(),IF(ASTM(AI27,0)=0,0,ASTM((51740000*$AF$46*$AF$47)/((($AF$46*AG27)+(0.429*AH27)+(0.273*AI27))*((0.6*$AF$47*$AF$48)+5471)),1))))","v":""},{"$f":"IF(ISBLANK(AD27),\"\",IF(OR(AND($J$6<>\"HD 2b/3\",COUNT(AD27:AI27)<>6),AND($J$6=\"HD 2b/3\",COUNT(AD27)+COUNT(AI27)<>2),$AM$47<>\"Yes\",$AM$49<>\"Yes\"),NA(),IF(ASTM(AI27,0)=0,0,IF($J$6=\"HD 2b/3\",AI27,ASTM((($AF$46/0.273)*AG27)+(1.571*AH27)+AI27,0)))))","v":""},null,null,null,"Composite CO2 (g/mi) [0]",null,null,{"$f":"IF($J$6=\"HD 2b/3\",NA(),ASTM(0.55*AY48+0.45*AZ48,0))","v":0},null,null,null,"CD utilitized CREE (55/45 FUF, Rcdc), unadjusted (g/mi) [1]",{"$f":"ASTM(SUMIF(BD11:BD45,\"<=\" & AY34,BN11:BN45),1)","v":0},{"$f":"ASTM(SUMIF(CA11:CA45,\"<=\" & AZ34,CK11:CK45),1)","v":0},null,null,null,17,{"$f":"IF(ISBLANK(R27),\"\",IF(COUNT(R27:AA27)<>10,NA(),IF(ASTM(W27,0)=0,0,IFERROR(ASTM(R27,3)/ASTM(Z27,1),0))))","v":""},{"$f":"IF(ISBLANK(R27),\"\",IF(COUNT(R27:AA27)<>10,NA(),IF(W27=0,0,ASTM(ASTM(W27,0)*ASTM(R27,3),0))))","v":""},{"$f":"IF(ISBLANK(R27),\"\",IF(COUNT(R27:AA27)<>10,NA(),ASTM(S27,3)-ASTM(S26,3)))","v":""},{"$f":"IF(ISBLANK(R27),\"\",IF(COUNT(R27:AA27)<>10,NA(),ASTM(BG27*ASTM(T27,2),1)))","v":""},{"$f":"IF(ISBLANK(R27),\"\",IF(COUNT(R27:AA27)<>10,NA(),ASTM(ASTM($Y$46,4)*1000*(BH27/$AY$13),1)))","v":""},"",{"$f":"IF(ISBLANK(R27),\"\",IF(COUNT(R27:AA27)<>10,NA(),BI27/(33705*ASTM(R27,3))))","v":""},"",{"$f":"IF(ISBLANK(R27),\"\",IFERROR(ASTM(cityfuf(BJ27)-cityfuf(BJ26),3),\"\"))","v":""},{"$f":"IF(ISBLANK(R27),\"\",IF(OR(ISNUMBER(R27)=FALSE,ISNUMBER(AA27)=FALSE),NA(),IF(ASTM(W27,0)=0,0,BM27*ASTM(AA27,0))))","v":""},"",{"$f":"IF(ISBLANK(R27),\"\",IF(COUNT(R27:AA27)<>10,NA(),BL27*ASTM(R27,3)))","v":""},"",{"$f":"IF(ISBLANK(R27),\"\",IF(COUNT(R27:AA27)<>10,NA(),BQ27*ASTM(R27,3)))","v":""},"",{"$f":"IF(ISBLANK(R27),\"\",IF(COUNT(R27:AA27)<>10,NA(),ASTM(mdiuf(BS27),3)-ASTM(mdiuf(BS26),3)))","v":""},{"$f":"IF(ISBLANK(R27),\"\",IF(COUNT(R27:AA27)<>10,NA(),IF(ASTM(W27,0)=0,0,BT27*ASTM(W27,0)/(BQ27))))","v":""},"",{"$f":"IF(ISBLANK(R27),\"\",IF(COUNT(R27:AA27)<>10,NA(),ASTM(cityfufalt(BS27)-cityfufalt(BS26),3)))","v":""},"",{"$f":"IF(ISBLANK(R27),\"\",IF(COUNT(R27:AA27)<>10,NA(),IF(ASTM(W27,0)=0,0,BW27*ASTM(AA27,0)/(BQ27))))","v":""},null,17,{"$f":"IF(ISBLANK(AD27),\"\",IF(COUNT(AD27:AM27)<>10,NA(),IF(ASTM(AI27,0)=0,0,ASTM(AD27,3)/ASTM(AL27,1))))","v":""},{"$f":"IF(ISBLANK(AD27),\"\",IF(COUNT(AD27:AM27)<>10,NA(),IF(ASTM(AI27,0)=0,0,ASTM(ASTM(AI27,0)*ASTM(AD27,3),0))))","v":""},{"$f":"IF(ISBLANK(AD27),\"\",IF(COUNT(AD27:AM27)<>10,NA(),ASTM(AE27,3)-ASTM(AE26,3)))","v":""},{"$f":"IF(ISBLANK(AD27),\"\",IF(COUNT(AD27:AM27)<>10,NA(),ASTM(CD27*ASTM(AF27,2),1)))","v":""},{"$f":"IF(ISBLANK(AD27),\"\",IF(COUNT(AD27:AM27)<>10,NA(),ASTM(ASTM($AK$46,4)*1000*(CE27/$AZ$13),1)))","v":""},"",{"$f":"IF(ISBLANK(AD27),\"\",IF(COUNT(AD27:AM27)<>10,NA(),CF27/(33705*ASTM(AD27,3))))","v":""},"",{"$f":"IF(ISBLANK(AD27),\"\",ASTM(highwayfuf(CG27)-highwayfuf(CG26),3))","v":""},{"$f":"IF(ISBLANK(AD27),\"\",IF(OR(ISNUMBER(AD27)=FALSE,ISNUMBER(AM27)=FALSE),NA(),IF(ASTM(AI27,0)=0,0,CJ27*ASTM(AM27,0))))","v":""},"",{"$f":"IF(ISBLANK(AD27),\"\",IF(COUNT(AD27:AM27)<>10,NA(),CI27*ASTM(AD27,3)))","v":""},"",{"$f":"IF(ISBLANK(AD27),\"\",IF(COUNT(AD27:AM27)<>10,NA(),CN27*ASTM(AD27,3)))","v":""},"",{"$f":"IF(ISBLANK(AD27),\"\",IF(COUNT(AD27:AM27)<>10,NA(),ASTM(mdiuf(CP27)-mdiuf(CP26),3)))","v":""},{"$f":"IF(ISBLANK(AD27),\"\",IF(COUNT(AD27:AM27)<>10,NA(),IF(ASTM(AI27,0)=0,0,CQ27*ASTM(AI27,0)/(CN27))))","v":""},"",{"$f":"IF(ISBLANK(AD27),\"\",IF(COUNT(AD27:AM27)<>10,NA(),ASTM(highwayfufalt(CP27)-highwayfufalt(CP26),3)))","v":""},"",{"$f":"IF(ISBLANK(AD27),\"\",IF(COUNT(AD27:AM27)<>10,NA(),IF(ASTM(AI27,0)=0,0,CT27*ASTM(AM27,0)/(CN27))))","v":""}]
[null,null,"Composite CD/CS","City","Highway","Combined",null,null,null,null,null,null,{"$f":"IF($J$6=\"HD 2b/3\",NA(),\"Charge-Sustaining Test (Optional):\")","v":"Charge-Sustaining Test (Optional):"},null,null,null,18,null,null,null,null,null,null,null,null,{"$f":"IF(ISBLANK(R28),\"\",IF(OR($J$6=\"HD 2b/3\",COUNT(R28:W28)<>6,$AA$47<>\"Yes\",$AA$49<>\"Yes\"),NA(),IF(ASTM(W28,0)=0,0,ASTM((51740000*$T$46*$T$47)/((($T$46*U28)+(0.429*V28)+(0.273*W28))*((0.6*$T$47*$T$48)+5471)),1))))","v":""},{"$f":"IF(ISBLANK(R28),\"\",IF(OR(AND($J$6<>\"HD 2b/3\",COUNT(R28:W28)<>6),AND($J$6=\"HD 2b/3\",COUNT(R28)+COUNT(W28)<>2),$AA$47<>\"Yes\",$AA$49<>\"Yes\"),NA(),IF(ASTM(W28,0)=0,0,IF($J$6=\"HD 2b/3\",W28,ASTM((($T$46/0.273)*U28)+(1.571*V28)+W28,0)))))","v":""},null,18,null,null,null,null,null,null,null,null,{"$f":"IF(ISBLANK(AD28),\"\",IF(OR($J$6=\"HD 2b/3\",COUNT(AD28:AI28)<>6,$AM$47<>\"Yes\",$AM$49<>\"Yes\"),NA(),IF(ASTM(AI28,0)=0,0,ASTM((51740000*$AF$46*$AF$47)/((($AF$46*AG28)+(0.429*AH28)+(0.273*AI28))*((0.6*$AF$47*$AF$48)+5471)),1))))","v":""},{"$f":"IF(ISBLANK(AD28),\"\",IF(OR(AND($J$6<>\"HD 2b/3\",COUNT(AD28:AI28)<>6),AND($J$6=\"HD 2b/3\",COUNT(AD28)+COUNT(AI28)<>2),$AM$47<>\"Yes\",$AM$49<>\"Yes\"),NA(),IF(ASTM(AI28,0)=0,0,IF($J$6=\"HD 2b/3\",AI28,ASTM((($AF$46/0.273)*AG28)+(1.571*AH28)+AI28,0)))))","v":""},null,null,null,"Composite Fuel Economy (MPG) [0]",null,null,{"$f":"IF($J$6=\"HD 2b/3\",NA(),IFERROR(ASTM(1/(0.55/AY49+0.45/AZ49),0),0))","v":0},null,null,"NEW","CD utilitized CREE (43/57 FUF, Rcdc), adjusted (g/mi) [1]",{"$f":"IF($J$6=\"HD 2b/3\",NA(),ASTM(SUMIF(BD11:BD45,\"<=\" & (AY34),BY11:BY45),1))","v":0},{"$f":"IF($J$6=\"HD 2b/3\",NA(),ASTM(SUMIF(CA11:CA45,\"<=\" & (AZ34),CV11:CV45),1))","v":0},null,null,null,18,{"$f":"IF(ISBLANK(R28),\"\",IF(COUNT(R28:AA28)<>10,NA(),IF(ASTM(W28,0)=0,0,IFERROR(ASTM(R28,3)/ASTM(Z28,1),0))))","v":""},{"$f":"IF(ISBLANK(R28),\"\",IF(COUNT(R28:AA28)<>10,NA(),IF(W28=0,0,ASTM(ASTM(W28,0)*ASTM(R28,3),0))))","v":""},{"$f":"IF(ISBLANK(R28),\"\",IF(COUNT(R28:AA28)<>10,NA(),ASTM(S28,3)-ASTM(S27,3)))","v":""},{"$f":"IF(ISBLANK(R28),\"\",IF(COUNT(R28:AA28)<>10,NA(),ASTM(BG28*ASTM(T28,2),1)))","v":""},{"$f":"IF(ISBLANK(R28),\"\",IF(COUNT(R28:AA28)<>10,NA(),ASTM(ASTM($Y$46,4)*1000*(BH28/$AY$13),1)))","v":""},"",{"$f":"IF(ISBLANK(R28),\"\",IF(COUNT(R28:AA28)<>10,NA(),BI28/(33705*ASTM(R28,3))))","v":""},"",{"$f":"IF(ISBLANK(R28),\"\",IFERROR(ASTM(cityfuf(BJ28)-cityfuf(BJ27),3),\"\"))","v":""},{"$f":"IF(ISBLANK(R28),\"\",IF(OR(ISNUMBER(R28)=FALSE,ISNUMBER(AA28)=FALSE),NA(),IF(ASTM(W28,0)=0,0,BM28*ASTM(AA28,0))))","v":""},"",{"$f":"IF(ISBLANK(R28),\"\",IF(COUNT(R28:AA28)<>10,NA(),BL28*ASTM(R28,3)))","v":""},"",{"$f":"IF(ISBLANK(R28),\"\",IF(COUNT(R28:AA28)<>10,NA(),BQ28*ASTM(R28,3)))","v":""},"",{"$f":"IF(ISBLANK(R28),\"\",IF(COUNT(R28:AA28)<>10,NA(),ASTM(mdiuf(BS28),3)-ASTM(mdiuf(BS27),3)))","v":""},{"$f":"IF(ISBLANK(R28),\"\",IF(COUNT(R28:AA28)<>10,NA(),IF(ASTM(W28,0)=0,0,BT28*ASTM(W28,0)/(BQ28))))","v":""},"",{"$f":"IF(ISBLANK(R28),\"\",IF(COUNT(R28:AA28)<>10,NA(),ASTM(cityfufalt(BS28)-cityfufalt(BS27),3)))","v":""},"",{"$f":"IF(ISBLANK(R28),\"\",IF(COUNT(R28:AA28)<>10,NA(),IF(ASTM(W28,0)=0,0,BW28*ASTM(AA28,0)/(BQ28))))","v":""},null,18,{"$f":"IF(ISBLANK(AD28),\"\",IF(COUNT(AD28:AM28)<>10,NA(),IF(ASTM(AI28,0)=0,0,ASTM(AD28,3)/ASTM(AL28,1))))","v":""},{"$f":"IF(ISBLANK(AD28),\"\",IF(COUNT(AD28:AM28)<>10,NA(),IF(ASTM(AI28,0)=0,0,ASTM(ASTM(AI28,0)*ASTM(AD28,3),0))))","v":""},{"$f":"IF(ISBLANK(AD28),\"\",IF(COUNT(AD28:AM28)<>10,NA(),ASTM(AE28,3)-ASTM(AE27,3)))","v":""},{"$f":"IF(ISBLANK(AD28),\"\",IF(COUNT(AD28:AM28)<>10,NA(),ASTM(CD28*ASTM(AF28,2),1)))","v":""},{"$f":"IF(ISBLANK(AD28),\"\",IF(COUNT(AD28:AM28)<>10,NA(),ASTM(ASTM($AK$46,4)*1000*(CE28/$AZ$13),1)))","v":""},"",{"$f":"IF(ISBLANK(AD28),\"\",IF(COUNT(AD28:AM28)<>10,NA(),CF28/(33705*ASTM(AD28,3))))","v":""},"",{"$f":"IF(ISBLANK(AD28),\"\",ASTM(highwayfuf(CG28)-highwayfuf(CG27),3))","v":""},{"$f":"IF(ISBLANK(AD28),\"\",IF(OR(ISNUMBER(AD28)=FALSE,ISNUMBER(AM28)=FALSE),NA(),IF(ASTM(AI28,0)=0,0,CJ28*ASTM(AM28,0))))","v":""},"",{"$f":"IF(ISBLANK(AD28),\"\",IF(COUNT(AD28:AM28)<>10,NA(),CI28*ASTM(AD28,3)))","v":""},"",{"$f":"IF(ISBLANK(AD28),\"\",IF(COUNT(AD28:AM28)<>10,NA(),CN28*ASTM(AD28,3)))","v":""},"",{"$f":"IF(ISBLANK(AD28),\"\",IF(COUNT(AD28:AM28)<>10,NA(),ASTM(mdiuf(CP28)-mdiuf(CP27),3)))","v":""},{"$f":"IF(ISBLANK(AD28),\"\",IF(COUNT(AD28:AM28)<>10,NA(),IF(ASTM(AI28,0)=0,0,CQ28*ASTM(AI28,0)/(CN28))))","v":""},"",{"$f":"IF(ISBLANK(AD28),\"\",IF(COUNT(AD28:AM28)<>10,NA(),ASTM(highwayfufalt(CP28)-highwayfufalt(CP27),3)))","v":""},"",{"$f":"IF(ISBLANK(AD28),\"\",IF(COUNT(AD28:AM28)<>10,NA(),IF(ASTM(AI28,0)=0,0,CT28*ASTM(AM28,0)/(CN28))))","v":""}]
[null,null,"Annual Fuel Cost ($/year)",null,null,{"$f":"IF($J$6=\"HD 2b/3\",NA(),ASTM(   ( IF($N$7+$N$55+$N$103=0,SUM(IFERROR((IFERROR(15000*ASTM(0.55*AY46+0.45*AZ46,3),0)),0),IFERROR((IFERROR(15000*ASTM(0.55*AY94+0.45*AZ94,3),0)),0),IFERROR((IFERROR(15000*ASTM(0.55*AY142+0.45*AZ142,3),0)),0)) / (((IFERROR(15000*ASTM(0.55*AY46+0.45*AZ46,3),0))<>0)+((IFERROR(15000*ASTM(0.55*AY94+0.45*AZ94,3),0))<>0)+((IFERROR(15000*ASTM(0.55*AY142+0.45*AZ142,3),0))<>0)),($N$7*(IFERROR(15000*ASTM(0.55*AY46+0.45*AZ46,3),0))+$N$55*(IFERROR(15000*ASTM(0.55*AY94+0.45*AZ94,3),0))+$N$103*(IFERROR(15000*ASTM(0.55*AY142+0.45*AZ142,3),0)))/($N$7+$N$55+$N$103)) ) / 50,0 ) * 50)","v":{"$error":"#VALUE!"}},null,null,null,null,null,null,"Charge-Sustaining Test (Optional):",null,null,null,19,null,null,null,null,null,null,null,null,{"$f":"IF(ISBLANK(R29),\"\",IF(OR($J$6=\"HD 2b/3\",COUNT(R29:W29)<>6,$AA$47<>\"Yes\",$AA$49<>\"Yes\"),NA(),IF(ASTM(W29,0)=0,0,ASTM((51740000*$T$46*$T$47)/((($T$46*U29)+(0.429*V29)+(0.273*W29))*((0.6*$T$47*$T$48)+5471)),1))))","v":""},{"$f":"IF(ISBLANK(R29),\"\",IF(OR(AND($J$6<>\"HD 2b/3\",COUNT(R29:W29)<>6),AND($J$6=\"HD 2b/3\",COUNT(R29)+COUNT(W29)<>2),$AA$47<>\"Yes\",$AA$49<>\"Yes\"),NA(),IF(ASTM(W29,0)=0,0,IF($J$6=\"HD 2b/3\",W29,ASTM((($T$46/0.273)*U29)+(1.571*V29)+W29,0)))))","v":""},null,19,null,null,null,null,null,null,null,null,{"$f":"IF(ISBLANK(AD29),\"\",IF(OR($J$6=\"HD 2b/3\",COUNT(AD29:AI29)<>6,$AM$47<>\"Yes\",$AM$49<>\"Yes\"),NA(),IF(ASTM(AI29,0)=0,0,ASTM((51740000*$AF$46*$AF$47)/((($AF$46*AG29)+(0.429*AH29)+(0.273*AI29))*((0.6*$AF$47*$AF$48)+5471)),1))))","v":""},{"$f":"IF(ISBLANK(AD29),\"\",IF(OR(AND($J$6<>\"HD 2b/3\",COUNT(AD29:AI29)<>6),AND($J$6=\"HD 2b/3\",COUNT(AD29)+COUNT(AI29)<>2),$AM$47<>\"Yes\",$AM$49<>\"Yes\"),NA(),IF(ASTM(AI29,0)=0,0,IF($J$6=\"HD 2b/3\",AI29,ASTM((($AF$46/0.273)*AG29)+(1.571*AH29)+AI29,0)))))","v":""},null,null,null,"HOV Lane Values","City","Highway","Combined",null,null,null,"UTILITY FACTORS & OTHER METRICS","CITY","HIGHWAY",null,null,null,19,{"$f":"IF(ISBLANK(R29),\"\",IF(COUNT(R29:AA29)<>10,NA(),IF(ASTM(W29,0)=0,0,IFERROR(ASTM(R29,3)/ASTM(Z29,1),0))))","v":""},{"$f":"IF(ISBLANK(R29),\"\",IF(COUNT(R29:AA29)<>10,NA(),IF(W29=0,0,ASTM(ASTM(W29,0)*ASTM(R29,3),0))))","v":""},{"$f":"IF(ISBLANK(R29),\"\",IF(COUNT(R29:AA29)<>10,NA(),ASTM(S29,3)-ASTM(S28,3)))","v":""},{"$f":"IF(ISBLANK(R29),\"\",IF(COUNT(R29:AA29)<>10,NA(),ASTM(BG29*ASTM(T29,2),1)))","v":""},{"$f":"IF(ISBLANK(R29),\"\",IF(COUNT(R29:AA29)<>10,NA(),ASTM(ASTM($Y$46,4)*1000*(BH29/$AY$13),1)))","v":""},"",{"$f":"IF(ISBLANK(R29),\"\",IF(COUNT(R29:AA29)<>10,NA(),BI29/(33705*ASTM(R29,3))))","v":""},"",{"$f":"IF(ISBLANK(R29),\"\",IFERROR(ASTM(cityfuf(BJ29)-cityfuf(BJ28),3),\"\"))","v":""},{"$f":"IF(ISBLANK(R29),\"\",IF(OR(ISNUMBER(R29)=FALSE,ISNUMBER(AA29)=FALSE),NA(),IF(ASTM(W29,0)=0,0,BM29*ASTM(AA29,0))))","v":""},"",{"$f":"IF(ISBLANK(R29),\"\",IF(COUNT(R29:AA29)<>10,NA(),BL29*ASTM(R29,3)))","v":""},"",{"$f":"IF(ISBLANK(R29),\"\",IF(COUNT(R29:AA29)<>10,NA(),BQ29*ASTM(R29,3)))","v":""},"",{"$f":"IF(ISBLANK(R29),\"\",IF(COUNT(R29:AA29)<>10,NA(),ASTM(mdiuf(BS29),3)-ASTM(mdiuf(BS28),3)))","v":""},{"$f":"IF(ISBLANK(R29),\"\",IF(COUNT(R29:AA29)<>10,NA(),IF(ASTM(W29,0)=0,0,BT29*ASTM(W29,0)/(BQ29))))","v":""},"",{"$f":"IF(ISBLANK(R29),\"\",IF(COUNT(R29:AA29)<>10,NA(),ASTM(cityfufalt(BS29)-cityfufalt(BS28),3)))","v":""},"",{"$f":"IF(ISBLANK(R29),\"\",IF(COUNT(R29:AA29)<>10,NA(),IF(ASTM(W29,0)=0,0,BW29*ASTM(AA29,0)/(BQ29))))","v":""},null,19,{"$f":"IF(ISBLANK(AD29),\"\",IF(COUNT(AD29:AM29)<>10,NA(),IF(ASTM(AI29,0)=0,0,ASTM(AD29,3)/ASTM(AL29,1))))","v":""},{"$f":"IF(ISBLANK(AD29),\"\",IF(COUNT(AD29:AM29)<>10,NA(),IF(ASTM(AI29,0)=0,0,ASTM(ASTM(AI29,0)*ASTM(AD29,3),0))))","v":""},{"$f":"IF(ISBLANK(AD29),\"\",IF(COUNT(AD29:AM29)<>10,NA(),ASTM(AE29,3)-ASTM(AE28,3)))","v":""},{"$f":"IF(ISBLANK(AD29),\"\",IF(COUNT(AD29:AM29)<>10,NA(),ASTM(CD29*ASTM(AF29,2),1)))","v":""},{"$f":"IF(ISBLANK(AD29),\"\",IF(COUNT(AD29:AM29)<>10,NA(),ASTM(ASTM($AK$46,4)*1000*(CE29/$AZ$13),1)))","v":""},"",{"$f":"IF(ISBLANK(AD29),\"\",IF(COUNT(AD29:AM29)<>10,NA(),CF29/(33705*ASTM(AD29,3))))","v":""},"",{"$f":"IF(ISBLANK(AD29),\"\",ASTM(highwayfuf(CG29)-highwayfuf(CG28),3))","v":""},{"$f":"IF(ISBLANK(AD29),\"\",IF(OR(ISNUMBER(AD29)=FALSE,ISNUMBER(AM29)=FALSE),NA(),IF(ASTM(AI29,0)=0,0,CJ29*ASTM(AM29,0))))","v":""},"",{"$f":"IF(ISBLANK(AD29),\"\",IF(COUNT(AD29:AM29)<>10,NA(),CI29*ASTM(AD29,3)))","v":""},"",{"$f":"IF(ISBLANK(AD29),\"\",IF(COUNT(AD29:AM29)<>10,NA(),CN29*ASTM(AD29,3)))","v":""},"",{"$f":"IF(ISBLANK(AD29),\"\",IF(COUNT(AD29:AM29)<>10,NA(),ASTM(mdiuf(CP29)-mdiuf(CP28),3)))","v":""},{"$f":"IF(ISBLANK(AD29),\"\",IF(COUNT(AD29:AM29)<>10,NA(),IF(ASTM(AI29,0)=0,0,CQ29*ASTM(AI29,0)/(CN29))))","v":""},"",{"$f":"IF(ISBLANK(AD29),\"\",IF(COUNT(AD29:AM29)<>10,NA(),ASTM(highwayfufalt(CP29)-highwayfufalt(CP28),3)))","v":""},"",{"$f":"IF(ISBLANK(AD29),\"\",IF(COUNT(AD29:AM29)<>10,NA(),IF(ASTM(AI29,0)=0,0,CT29*ASTM(AM29,0)/(CN29))))","v":""}]
[null,null,"5-Year Fuel Savings Value ($/5 years)",null,{"$f":"IF($J$6=\"HD 2b/3\",NA(),\"You \" & IF(($F$38-5*F29)>=0, \"SAVE:\", \"SPEND:\"))","v":{"$error":"#N/A"}},{"$f":"IF($J$6=\"HD 2b/3\",NA(),ABS($F$38-5*F29))","v":{"$error":"#N/A"}},null,null,null,null,null,null,"Charge-Sustaining Test (Optional):",null,null,null,20,null,null,null,null,null,null,null,null,{"$f":"IF(ISBLANK(R30),\"\",IF(OR($J$6=\"HD 2b/3\",COUNT(R30:W30)<>6,$AA$47<>\"Yes\",$AA$49<>\"Yes\"),NA(),IF(ASTM(W30,0)=0,0,ASTM((51740000*$T$46*$T$47)/((($T$46*U30)+(0.429*V30)+(0.273*W30))*((0.6*$T$47*$T$48)+5471)),1))))","v":""},{"$f":"IF(ISBLANK(R30),\"\",IF(OR(AND($J$6<>\"HD 2b/3\",COUNT(R30:W30)<>6),AND($J$6=\"HD 2b/3\",COUNT(R30)+COUNT(W30)<>2),$AA$47<>\"Yes\",$AA$49<>\"Yes\"),NA(),IF(ASTM(W30,0)=0,0,IF($J$6=\"HD 2b/3\",W30,ASTM((($T$46/0.273)*U30)+(1.571*V30)+W30,0)))))","v":""},null,20,null,null,null,null,null,null,null,null,{"$f":"IF(ISBLANK(AD30),\"\",IF(OR($J$6=\"HD 2b/3\",COUNT(AD30:AI30)<>6,$AM$47<>\"Yes\",$AM$49<>\"Yes\"),NA(),IF(ASTM(AI30,0)=0,0,ASTM((51740000*$AF$46*$AF$47)/((($AF$46*AG30)+(0.429*AH30)+(0.273*AI30))*((0.6*$AF$47*$AF$48)+5471)),1))))","v":""},{"$f":"IF(ISBLANK(AD30),\"\",IF(OR(AND($J$6<>\"HD 2b/3\",COUNT(AD30:AI30)<>6),AND($J$6=\"HD 2b/3\",COUNT(AD30)+COUNT(AI30)<>2),$AM$47<>\"Yes\",$AM$49<>\"Yes\"),NA(),IF(ASTM(AI30,0)=0,0,IF($J$6=\"HD 2b/3\",AI30,ASTM((($AF$46/0.273)*AG30)+(1.571*AH30)+AI30,0)))))","v":""},null,null,null,"MDIUF based on unadjusted Rcda [3]",{"$f":"IF($J$6=\"HD 2b/3\",NA(),IFERROR(ASTM(mdiuf(AY6),3),0))","v":0},{"$f":"IF($J$6=\"HD 2b/3\",NA(),IFERROR(ASTM(mdiuf(AZ6),3),0))","v":0},null,null,null,null,"CD 55/45 Fleet Utility Factor (FUF) for Rcdc [3]",{"$f":"ASTM(SUMIF(BD11:BD45,\"<=\"&AY34,BM11:BM45),3)","v":0},{"$f":"ASTM(SUMIF(CA11:CA45,\"<=\"&AZ34,CJ11:CJ45),3)","v":0},null,null,null,20,{"$f":"IF(ISBLANK(R30),\"\",IF(COUNT(R30:AA30)<>10,NA(),IF(ASTM(W30,0)=0,0,IFERROR(ASTM(R30,3)/ASTM(Z30,1),0))))","v":""},{"$f":"IF(ISBLANK(R30),\"\",IF(COUNT(R30:AA30)<>10,NA(),IF(W30=0,0,ASTM(ASTM(W30,0)*ASTM(R30,3),0))))","v":""},{"$f":"IF(ISBLANK(R30),\"\",IF(COUNT(R30:AA30)<>10,NA(),ASTM(S30,3)-ASTM(S29,3)))","v":""},{"$f":"IF(ISBLANK(R30),\"\",IF(COUNT(R30:AA30)<>10,NA(),ASTM(BG30*ASTM(T30,2),1)))","v":""},{"$f":"IF(ISBLANK(R30),\"\",IF(COUNT(R30:AA30)<>10,NA(),ASTM(ASTM($Y$46,4)*1000*(BH30/$AY$13),1)))","v":""},"",{"$f":"IF(ISBLANK(R30),\"\",IF(COUNT(R30:AA30)<>10,NA(),BI30/(33705*ASTM(R30,3))))","v":""},"",{"$f":"IF(ISBLANK(R30),\"\",IFERROR(ASTM(cityfuf(BJ30)-cityfuf(BJ29),3),\"\"))","v":""},{"$f":"IF(ISBLANK(R30),\"\",IF(OR(ISNUMBER(R30)=FALSE,ISNUMBER(AA30)=FALSE),NA(),IF(ASTM(W30,0)=0,0,BM30*ASTM(AA30,0))))","v":""},"",{"$f":"IF(ISBLANK(R30),\"\",IF(COUNT(R30:AA30)<>10,NA(),BL30*ASTM(R30,3)))","v":""},"",{"$f":"IF(ISBLANK(R30),\"\",IF(COUNT(R30:AA30)<>10,NA(),BQ30*ASTM(R30,3)))","v":""},"",{"$f":"IF(ISBLANK(R30),\"\",IF(COUNT(R30:AA30)<>10,NA(),ASTM(mdiuf(BS30),3)-ASTM(mdiuf(BS29),3)))","v":""},{"$f":"IF(ISBLANK(R30),\"\",IF(COUNT(R30:AA30)<>10,NA(),IF(ASTM(W30,0)=0,0,BT30*ASTM(W30,0)/(BQ30))))","v":""},"",{"$f":"IF(ISBLANK(R30),\"\",IF(COUNT(R30:AA30)<>10,NA(),ASTM(cityfufalt(BS30)-cityfufalt(BS29),3)))","v":""},"",{"$f":"IF(ISBLANK(R30),\"\",IF(COUNT(R30:AA30)<>10,NA(),IF(ASTM(W30,0)=0,0,BW30*ASTM(AA30,0)/(BQ30))))","v":""},null,20,{"$f":"IF(ISBLANK(AD30),\"\",IF(COUNT(AD30:AM30)<>10,NA(),IF(ASTM(AI30,0)=0,0,ASTM(AD30,3)/ASTM(AL30,1))))","v":""},{"$f":"IF(ISBLANK(AD30),\"\",IF(COUNT(AD30:AM30)<>10,NA(),IF(ASTM(AI30,0)=0,0,ASTM(ASTM(AI30,0)*ASTM(AD30,3),0))))","v":""},{"$f":"IF(ISBLANK(AD30),\"\",IF(COUNT(AD30:AM30)<>10,NA(),ASTM(AE30,3)-ASTM(AE29,3)))","v":""},{"$f":"IF(ISBLANK(AD30),\"\",IF(COUNT(AD30:AM30)<>10,NA(),ASTM(CD30*ASTM(AF30,2),1)))","v":""},{"$f":"IF(ISBLANK(AD30),\"\",IF(COUNT(AD30:AM30)<>10,NA(),ASTM(ASTM($AK$46,4)*1000*(CE30/$AZ$13),1)))","v":""},"",{"$f":"IF(ISBLANK(AD30),\"\",IF(COUNT(AD30:AM30)<>10,NA(),CF30/(33705*ASTM(AD30,3))))","v":""},"",{"$f":"IF(ISBLANK(AD30),\"\",ASTM(highwayfuf(CG30)-highwayfuf(CG29),3))","v":""},{"$f":"IF(ISBLANK(AD30),\"\",IF(OR(ISNUMBER(AD30)=FALSE,ISNUMBER(AM30)=FALSE),NA(),IF(ASTM(AI30,0)=0,0,CJ30*ASTM(AM30,0))))","v":""},"",{"$f":"IF(ISBLANK(AD30),\"\",IF(COUNT(AD30:AM30)<>10,NA(),CI30*ASTM(AD30,3)))","v":""},"",{"$f":"IF(ISBLANK(AD30),\"\",IF(COUNT(AD30:AM30)<>10,NA(),CN30*ASTM(AD30,3)))","v":""},"",{"$f":"IF(ISBLANK(AD30),\"\",IF(COUNT(AD30:AM30)<>10,NA(),ASTM(mdiuf(CP30)-mdiuf(CP29),3)))","v":""},{"$f":"IF(ISBLANK(AD30),\"\",IF(COUNT(AD30:AM30)<>10,NA(),IF(ASTM(AI30,0)=0,0,CQ30*ASTM(AI30,0)/(CN30))))","v":""},"",{"$f":"IF(ISBLANK(AD30),\"\",IF(COUNT(AD30:AM30)<>10,NA(),ASTM(highwayfufalt(CP30)-highwayfufalt(CP29),3)))","v":""},"",{"$f":"IF(ISBLANK(AD30),\"\",IF(COUNT(AD30:AM30)<>10,NA(),IF(ASTM(AI30,0)=0,0,CT30*ASTM(AM30,0)/(CN30))))","v":""}]
[null,null,"Composite CO2 (g/mi)",{"$f":"IF($J$6=\"HD 2b/3\",NA(),_xlfn.SINGLE(ASTM(IF($N$7+$N$55+$N$103=0,SUM(IFERROR(AY48,0),IFERROR(AY96,0),IFERROR(AY144,0)) / ((AY48<>0)+(AY96<>0)+(AY144<>0)),($N$7*AY48+$N$55*AY96+$N$103*AY144)/($N$7+$N$55+$N$103)),1)))","v":{"$error":"#VALUE!"}},{"$f":"IF($J$6=\"HD 2b/3\",NA(),ASTM(IF($N$7+$N$55+$N$103=0,SUM(IFERROR(AZ48,0),IFERROR(AZ96,0),IFERROR(AZ144,0)) / ((AZ48<>0)+(AZ96<>0)+(AZ144<>0)),($N$7*AZ48+$N$55*AZ96+$N$103*AZ144)/($N$7+$N$55+$N$103)),1))","v":{"$error":"#VALUE!"}},{"$f":"IF(OR(ISNUMBER(D31)=FALSE,ISNUMBER(E31)=FALSE),NA(),ASTM(0.55*D31+0.45*E31,0))","v":{"$error":"#N/A"}},null,null,null,null,null,null,"Charge-Sustaining Test (Optional):",null,null,null,21,null,null,null,null,null,null,null,null,{"$f":"IF(ISBLANK(R31),\"\",IF(OR($J$6=\"HD 2b/3\",COUNT(R31:W31)<>6,$AA$47<>\"Yes\",$AA$49<>\"Yes\"),NA(),IF(ASTM(W31,0)=0,0,ASTM((51740000*$T$46*$T$47)/((($T$46*U31)+(0.429*V31)+(0.273*W31))*((0.6*$T$47*$T$48)+5471)),1))))","v":""},{"$f":"IF(ISBLANK(R31),\"\",IF(OR(AND($J$6<>\"HD 2b/3\",COUNT(R31:W31)<>6),AND($J$6=\"HD 2b/3\",COUNT(R31)+COUNT(W31)<>2),$AA$47<>\"Yes\",$AA$49<>\"Yes\"),NA(),IF(ASTM(W31,0)=0,0,IF($J$6=\"HD 2b/3\",W31,ASTM((($T$46/0.273)*U31)+(1.571*V31)+W31,0)))))","v":""},null,21,null,null,null,null,null,null,null,null,{"$f":"IF(ISBLANK(AD31),\"\",IF(OR($J$6=\"HD 2b/3\",COUNT(AD31:AI31)<>6,$AM$47<>\"Yes\",$AM$49<>\"Yes\"),NA(),IF(ASTM(AI31,0)=0,0,ASTM((51740000*$AF$46*$AF$47)/((($AF$46*AG31)+(0.429*AH31)+(0.273*AI31))*((0.6*$AF$47*$AF$48)+5471)),1))))","v":""},{"$f":"IF(ISBLANK(AD31),\"\",IF(OR(AND($J$6<>\"HD 2b/3\",COUNT(AD31:AI31)<>6),AND($J$6=\"HD 2b/3\",COUNT(AD31)+COUNT(AI31)<>2),$AM$47<>\"Yes\",$AM$49<>\"Yes\"),NA(),IF(ASTM(AI31,0)=0,0,IF($J$6=\"HD 2b/3\",AI31,ASTM((($AF$46/0.273)*AG31)+(1.571*AH31)+AI31,0)))))","v":""},null,null,null,"Composite CD/CS Fuel Economy (MPGe) [4]",{"$f":"IF($J$6=\"HD 2b/3\",NA(),IFERROR(ASTM(1/(AR30/(AY6/AY14)+(1-AR30)/N11),4),0))","v":0},{"$f":"IF($J$6=\"HD 2b/3\",NA(),IFERROR(ASTM(1/(AS30/(AZ6/AZ14)+(1-AS30)/O11),4),0))","v":0},{"$f":"IF($J$6=\"HD 2b/3\",NA(),IFERROR(ASTM(1/(0.55/AR31+0.45/AS31),4),0))","v":0},null,null,null,"MDIUF based on adjusted Rcda [3]",{"$f":"IF($J$6=\"HD 2b/3\",NA(),ASTM(mdiuf(AY7),3))","v":0},{"$f":"IF($J$6=\"HD 2b/3\",NA(),ASTM(mdiuf(AZ7),3))","v":0},null,null,null,21,{"$f":"IF(ISBLANK(R31),\"\",IF(COUNT(R31:AA31)<>10,NA(),IF(ASTM(W31,0)=0,0,IFERROR(ASTM(R31,3)/ASTM(Z31,1),0))))","v":""},{"$f":"IF(ISBLANK(R31),\"\",IF(COUNT(R31:AA31)<>10,NA(),IF(W31=0,0,ASTM(ASTM(W31,0)*ASTM(R31,3),0))))","v":""},{"$f":"IF(ISBLANK(R31),\"\",IF(COUNT(R31:AA31)<>10,NA(),ASTM(S31,3)-ASTM(S30,3)))","v":""},{"$f":"IF(ISBLANK(R31),\"\",IF(COUNT(R31:AA31)<>10,NA(),ASTM(BG31*ASTM(T31,2),1)))","v":""},{"$f":"IF(ISBLANK(R31),\"\",IF(COUNT(R31:AA31)<>10,NA(),ASTM(ASTM($Y$46,4)*1000*(BH31/$AY$13),1)))","v":""},"",{"$f":"IF(ISBLANK(R31),\"\",IF(COUNT(R31:AA31)<>10,NA(),BI31/(33705*ASTM(R31,3))))","v":""},"",{"$f":"IF(ISBLANK(R31),\"\",IFERROR(ASTM(cityfuf(BJ31)-cityfuf(BJ30),3),\"\"))","v":""},{"$f":"IF(ISBLANK(R31),\"\",IF(OR(ISNUMBER(R31)=FALSE,ISNUMBER(AA31)=FALSE),NA(),IF(ASTM(W31,0)=0,0,BM31*ASTM(AA31,0))))","v":""},"",{"$f":"IF(ISBLANK(R31),\"\",IF(COUNT(R31:AA31)<>10,NA(),BL31*ASTM(R31,3)))","v":""},"",{"$f":"IF(ISBLANK(R31),\"\",IF(COUNT(R31:AA31)<>10,NA(),BQ31*ASTM(R31,3)))","v":""},"",{"$f":"IF(ISBLANK(R31),\"\",IF(COUNT(R31:AA31)<>10,NA(),ASTM(mdiuf(BS31),3)-ASTM(mdiuf(BS30),3)))","v":""},{"$f":"IF(ISBLANK(R31),\"\",IF(COUNT(R31:AA31)<>10,NA(),IF(ASTM(W31,0)=0,0,BT31*ASTM(W31,0)/(BQ31))))","v":""},"",{"$f":"IF(ISBLANK(R31),\"\",IF(COUNT(R31:AA31)<>10,NA(),ASTM(cityfufalt(BS31)-cityfufalt(BS30),3)))","v":""},"",{"$f":"IF(ISBLANK(R31),\"\",IF(COUNT(R31:AA31)<>10,NA(),IF(ASTM(W31,0)=0,0,BW31*ASTM(AA31,0)/(BQ31))))","v":""},null,21,{"$f":"IF(ISBLANK(AD31),\"\",IF(COUNT(AD31:AM31)<>10,NA(),IF(ASTM(AI31,0)=0,0,ASTM(AD31,3)/ASTM(AL31,1))))","v":""},{"$f":"IF(ISBLANK(AD31),\"\",IF(COUNT(AD31:AM31)<>10,NA(),IF(ASTM(AI31,0)=0,0,ASTM(ASTM(AI31,0)*ASTM(AD31,3),0))))","v":""},{"$f":"IF(ISBLANK(AD31),\"\",IF(COUNT(AD31:AM31)<>10,NA(),ASTM(AE31,3)-ASTM(AE30,3)))","v":""},{"$f":"IF(ISBLANK(AD31),\"\",IF(COUNT(AD31:AM31)<>10,NA(),ASTM(CD31*ASTM(AF31,2),1)))","v":""},{"$f":"IF(ISBLANK(AD31),\"\",IF(COUNT(AD31:AM31)<>10,NA(),ASTM(ASTM($AK$46,4)*1000*(CE31/$AZ$13),1)))","v":""},"",{"$f":"IF(ISBLANK(AD31),\"\",IF(COUNT(AD31:AM31)<>10,NA(),CF31/(33705*ASTM(AD31,3))))","v":""},"",{"$f":"IF(ISBLANK(AD31),\"\",ASTM(highwayfuf(CG31)-highwayfuf(CG30),3))","v":""},{"$f":"IF(ISBLANK(AD31),\"\",IF(OR(ISNUMBER(AD31)=FALSE,ISNUMBER(AM31)=FALSE),NA(),IF(ASTM(AI31,0)=0,0,CJ31*ASTM(AM31,0))))","v":""},"",{"$f":"IF(ISBLANK(AD31),\"\",IF(COUNT(AD31:AM31)<>10,NA(),CI31*ASTM(AD31,3)))","v":""},"",{"$f":"IF(ISBLANK(AD31),\"\",IF(COUNT(AD31:AM31)<>10,NA(),CN31*ASTM(AD31,3)))","v":""},"",{"$f":"IF(ISBLANK(AD31),\"\",IF(COUNT(AD31:AM31)<>10,NA(),ASTM(mdiuf(CP31)-mdiuf(CP30),3)))","v":""},{"$f":"IF(ISBLANK(AD31),\"\",IF(COUNT(AD31:AM31)<>10,NA(),IF(ASTM(AI31,0)=0,0,CQ31*ASTM(AI31,0)/(CN31))))","v":""},"",{"$f":"IF(ISBLANK(AD31),\"\",IF(COUNT(AD31:AM31)<>10,NA(),ASTM(highwayfufalt(CP31)-highwayfufalt(CP30),3)))","v":""},"",{"$f":"IF(ISBLANK(AD31),\"\",IF(COUNT(AD31:AM31)<>10,NA(),IF(ASTM(AI31,0)=0,0,CT31*ASTM(AM31,0)/(CN31))))","v":""}]
[null,null,"Composite Fuel Economy (MPG)",{"$f":"IF($J$6=\"HD 2b/3\",NA(),IF($N$7+$N$55+$N$103=0,    ((AY49<>0)+(AY97<>0)+(AY145<>0))/(IFERROR(1/AY49,0)+IFERROR(1/AY97,0)+IFERROR(1/AY145,0)),    ($N$7+$N$55+$N$103) / (IFERROR($N$7/AY49,0)+IFERROR($N$55/AY97,0)+IFERROR($N$103/AY145,0))  ))","v":{"$error":"#DIV/0!"}},{"$f":"IF($J$6=\"HD 2b/3\",NA(),IF($N$7+$N$55+$N$103=0,    ((AZ49<>0)+(AZ97<>0)+(AZ145<>0))/(IFERROR(1/AZ49,0)+IFERROR(1/AZ97,0)+IFERROR(1/AZ145,0)),    ($N$7+$N$55+$N$103) / (IFERROR($N$7/AZ49,0)+IFERROR($N$55/AZ97,0)+IFERROR($N$103/AZ145,0))  ))","v":{"$error":"#DIV/0!"}},{"$f":"IF(OR(ISNUMBER(D32)=FALSE,ISNUMBER(E32)=FALSE),NA(),ASTM(1/(0.55/D32+0.45/E32),0))","v":{"$error":"#N/A"}},null,null,null,null,null,null,"Charge-Sustaining Test (Optional):",null,null,null,22,null,null,null,null,null,null,null,null,{"$f":"IF(ISBLANK(R32),\"\",IF(OR($J$6=\"HD 2b/3\",COUNT(R32:W32)<>6,$AA$47<>\"Yes\",$AA$49<>\"Yes\"),NA(),IF(ASTM(W32,0)=0,0,ASTM((51740000*$T$46*$T$47)/((($T$46*U32)+(0.429*V32)+(0.273*W32))*((0.6*$T$47*$T$48)+5471)),1))))","v":""},{"$f":"IF(ISBLANK(R32),\"\",IF(OR(AND($J$6<>\"HD 2b/3\",COUNT(R32:W32)<>6),AND($J$6=\"HD 2b/3\",COUNT(R32)+COUNT(W32)<>2),$AA$47<>\"Yes\",$AA$49<>\"Yes\"),NA(),IF(ASTM(W32,0)=0,0,IF($J$6=\"HD 2b/3\",W32,ASTM((($T$46/0.273)*U32)+(1.571*V32)+W32,0)))))","v":""},null,22,null,null,null,null,null,null,null,null,{"$f":"IF(ISBLANK(AD32),\"\",IF(OR($J$6=\"HD 2b/3\",COUNT(AD32:AI32)<>6,$AM$47<>\"Yes\",$AM$49<>\"Yes\"),NA(),IF(ASTM(AI32,0)=0,0,ASTM((51740000*$AF$46*$AF$47)/((($AF$46*AG32)+(0.429*AH32)+(0.273*AI32))*((0.6*$AF$47*$AF$48)+5471)),1))))","v":""},{"$f":"IF(ISBLANK(AD32),\"\",IF(OR(AND($J$6<>\"HD 2b/3\",COUNT(AD32:AI32)<>6),AND($J$6=\"HD 2b/3\",COUNT(AD32)+COUNT(AI32)<>2),$AM$47<>\"Yes\",$AM$49<>\"Yes\"),NA(),IF(ASTM(AI32,0)=0,0,IF($J$6=\"HD 2b/3\",AI32,ASTM((($AF$46/0.273)*AG32)+(1.571*AH32)+AI32,0)))))","v":""},null,null,null,"Trends Report Values","City","Highway","Combined",null,null,null,"MDIUF based on adjusted Rcdc [3]",{"$f":"IF($J$6=\"HD 2b/3\",NA(),ASTM(SUMIF(BD11:BD45,\"<=\" & AY34,BT11:BT45),3))","v":0},{"$f":"IF($J$6=\"HD 2b/3\",NA(),ASTM(SUMIF(CA11:CA45,\"<=\" & AZ34,CQ11:CQ45),3))","v":0},null,null,null,22,{"$f":"IF(ISBLANK(R32),\"\",IF(COUNT(R32:AA32)<>10,NA(),IF(ASTM(W32,0)=0,0,IFERROR(ASTM(R32,3)/ASTM(Z32,1),0))))","v":""},{"$f":"IF(ISBLANK(R32),\"\",IF(COUNT(R32:AA32)<>10,NA(),IF(W32=0,0,ASTM(ASTM(W32,0)*ASTM(R32,3),0))))","v":""},{"$f":"IF(ISBLANK(R32),\"\",IF(COUNT(R32:AA32)<>10,NA(),ASTM(S32,3)-ASTM(S31,3)))","v":""},{"$f":"IF(ISBLANK(R32),\"\",IF(COUNT(R32:AA32)<>10,NA(),ASTM(BG32*ASTM(T32,2),1)))","v":""},{"$f":"IF(ISBLANK(R32),\"\",IF(COUNT(R32:AA32)<>10,NA(),ASTM(ASTM($Y$46,4)*1000*(BH32/$AY$13),1)))","v":""},"",{"$f":"IF(ISBLANK(R32),\"\",IF(COUNT(R32:AA32)<>10,NA(),BI32/(33705*ASTM(R32,3))))","v":""},"",{"$f":"IF(ISBLANK(R32),\"\",IFERROR(ASTM(cityfuf(BJ32)-cityfuf(BJ31),3),\"\"))","v":""},{"$f":"IF(ISBLANK(R32),\"\",IF(OR(ISNUMBER(R32)=FALSE,ISNUMBER(AA32)=FALSE),NA(),IF(ASTM(W32,0)=0,0,BM32*ASTM(AA32,0))))","v":""},"",{"$f":"IF(ISBLANK(R32),\"\",IF(COUNT(R32:AA32)<>10,NA(),BL32*ASTM(R32,3)))","v":""},"",{"$f":"IF(ISBLANK(R32),\"\",IF(COUNT(R32:AA32)<>10,NA(),BQ32*ASTM(R32,3)))","v":""},"",{"$f":"IF(ISBLANK(R32),\"\",IF(COUNT(R32:AA32)<>10,NA(),ASTM(mdiuf(BS32),3)-ASTM(mdiuf(BS31),3)))","v":""},{"$f":"IF(ISBLANK(R32),\"\",IF(COUNT(R32:AA32)<>10,NA(),IF(ASTM(W32,0)=0,0,BT32*ASTM(W32,0)/(BQ32))))","v":""},"",{"$f":"IF(ISBLANK(R32),\"\",IF(COUNT(R32:AA32)<>10,NA(),ASTM(cityfufalt(BS32)-cityfufalt(BS31),3)))","v":""},"",{"$f":"IF(ISBLANK(R32),\"\",IF(COUNT(R32:AA32)<>10,NA(),IF(ASTM(W32,0)=0,0,BW32*ASTM(AA32,0)/(BQ32))))","v":""},null,22,{"$f":"IF(ISBLANK(AD32),\"\",IF(COUNT(AD32:AM32)<>10,NA(),IF(ASTM(AI32,0)=0,0,ASTM(AD32,3)/ASTM(AL32,1))))","v":""},{"$f":"IF(ISBLANK(AD32),\"\",IF(COUNT(AD32:AM32)<>10,NA(),IF(ASTM(AI32,0)=0,0,ASTM(ASTM(AI32,0)*ASTM(AD32,3),0))))","v":""},{"$f":"IF(ISBLANK(AD32),\"\",IF(COUNT(AD32:AM32)<>10,NA(),ASTM(AE32,3)-ASTM(AE31,3)))","v":""},{"$f":"IF(ISBLANK(AD32),\"\",IF(COUNT(AD32:AM32)<>10,NA(),ASTM(CD32*ASTM(AF32,2),1)))","v":""},{"$f":"IF(ISBLANK(AD32),\"\",IF(COUNT(AD32:AM32)<>10,NA(),ASTM(ASTM($AK$46,4)*1000*(CE32/$AZ$13),1)))","v":""},"",{"$f":"IF(ISBLANK(AD32),\"\",IF(COUNT(AD32:AM32)<>10,NA(),CF32/(33705*ASTM(AD32,3))))","v":""},"",{"$f":"IF(ISBLANK(AD32),\"\",ASTM(highwayfuf(CG32)-highwayfuf(CG31),3))","v":""},{"$f":"IF(ISBLANK(AD32),\"\",IF(OR(ISNUMBER(AD32)=FALSE,ISNUMBER(AM32)=FALSE),NA(),IF(ASTM(AI32,0)=0,0,CJ32*ASTM(AM32,0))))","v":""},"",{"$f":"IF(ISBLANK(AD32),\"\",IF(COUNT(AD32:AM32)<>10,NA(),CI32*ASTM(AD32,3)))","v":""},"",{"$f":"IF(ISBLANK(AD32),\"\",IF(COUNT(AD32:AM32)<>10,NA(),CN32*ASTM(AD32,3)))","v":""},"",{"$f":"IF(ISBLANK(AD32),\"\",IF(COUNT(AD32:AM32)<>10,NA(),ASTM(mdiuf(CP32)-mdiuf(CP31),3)))","v":""},{"$f":"IF(ISBLANK(AD32),\"\",IF(COUNT(AD32:AM32)<>10,NA(),IF(ASTM(AI32,0)=0,0,CQ32*ASTM(AI32,0)/(CN32))))","v":""},"",{"$f":"IF(ISBLANK(AD32),\"\",IF(COUNT(AD32:AM32)<>10,NA(),ASTM(highwayfufalt(CP32)-highwayfufalt(CP31),3)))","v":""},"",{"$f":"IF(ISBLANK(AD32),\"\",IF(COUNT(AD32:AM32)<>10,NA(),IF(ASTM(AI32,0)=0,0,CT32*ASTM(AM32,0)/(CN32))))","v":""}]
[null,null,"MPG Rating (on scale of 1-10)",null,null,{"$f":"INDEX('Label Inputs'!$W$5:$Z$104, MATCH(1,('Label Inputs'!$W$5:$W$104=$J$5)*('Label Inputs'!$Y$5:$Y$104>=$F$32),0),4)","v":{"$error":"#N/A"}},null,null,null,null,null,null,null,null,null,null,23,null,null,null,null,null,null,null,null,{"$f":"IF(ISBLANK(R33),\"\",IF(OR($J$6=\"HD 2b/3\",COUNT(R33:W33)<>6,$AA$47<>\"Yes\",$AA$49<>\"Yes\"),NA(),IF(ASTM(W33,0)=0,0,ASTM((51740000*$T$46*$T$47)/((($T$46*U33)+(0.429*V33)+(0.273*W33))*((0.6*$T$47*$T$48)+5471)),1))))","v":""},{"$f":"IF(ISBLANK(R33),\"\",IF(OR(AND($J$6<>\"HD 2b/3\",COUNT(R33:W33)<>6),AND($J$6=\"HD 2b/3\",COUNT(R33)+COUNT(W33)<>2),$AA$47<>\"Yes\",$AA$49<>\"Yes\"),NA(),IF(ASTM(W33,0)=0,0,IF($J$6=\"HD 2b/3\",W33,ASTM((($T$46/0.273)*U33)+(1.571*V33)+W33,0)))))","v":""},null,23,null,null,null,null,null,null,null,null,{"$f":"IF(ISBLANK(AD33),\"\",IF(OR($J$6=\"HD 2b/3\",COUNT(AD33:AI33)<>6,$AM$47<>\"Yes\",$AM$49<>\"Yes\"),NA(),IF(ASTM(AI33,0)=0,0,ASTM((51740000*$AF$46*$AF$47)/((($AF$46*AG33)+(0.429*AH33)+(0.273*AI33))*((0.6*$AF$47*$AF$48)+5471)),1))))","v":""},{"$f":"IF(ISBLANK(AD33),\"\",IF(OR(AND($J$6<>\"HD 2b/3\",COUNT(AD33:AI33)<>6),AND($J$6=\"HD 2b/3\",COUNT(AD33)+COUNT(AI33)<>2),$AM$47<>\"Yes\",$AM$49<>\"Yes\"),NA(),IF(ASTM(AI33,0)=0,0,IF($J$6=\"HD 2b/3\",AI33,ASTM((($AF$46/0.273)*AG33)+(1.571*AH33)+AI33,0)))))","v":""},null,null,null,"Fleet Utility Factor (43/57) [3]",{"$f":"IF($J$6=\"HD 2b/3\",NA(),ASTM(SUMIF(BD11:BD40,\"<=\"&AY34,BW11:BW40),3))","v":0},{"$f":"IF($J$6=\"HD 2b/3\",NA(),ASTM(SUMIF(CA11:CA40,\"<=\"&AZ34,CT11:CT40),3))","v":0},{"$f":"IF($J$6=\"HD 2b/3\",NA(),0.55*AR33+0.45*AS33)","v":0},null,null,null,"Fraction of transition cycle that is charge-depleting operation (Zn) [3]",{"$f":"IF($J$6=\"HD 2b/3\",NA(),ASTM( IF((IF( SUMIF(BD11:BD45,\"=\" & ($AY34),BG11:BG45)/SUMIF(BD11:BD45,\"=\" & ($AY34-1),BG11:BG45)<0,0, SUMIF(BD11:BD45,\"=\" & ($AY34),BG11:BG45)/SUMIF(BD11:BD45,\"=\" & ($AY34-1),BG11:BG45)))<0,0, IF((IF( SUMIF(BD11:BD45,\"=\" & ($AY34),BG11:BG45)/SUMIF(BD11:BD45,\"=\" & ($AY34-1),BG11:BG45)<0,0, SUMIF(BD11:BD45,\"=\" & ($AY34),BG11:BG45)/SUMIF(BD11:BD45,\"=\" & ($AY34-1),BG11:BG45)))>1,1, (IF( SUMIF(BD11:BD45,\"=\" & ($AY34),BG11:BG45)/SUMIF(BD11:BD45,\"=\" & ($AY34-1),BG11:BG45)<0,0, SUMIF(BD11:BD45,\"=\" & ($AY34),BG11:BG45)/SUMIF(BD11:BD45,\"=\" & ($AY34-1),BG11:BG45))))), 3))","v":{"$error":"#VALUE!"}},{"$f":"IF($J$6=\"HD 2b/3\",NA(),ASTM( IF((IF( SUMIF(CA11:CA45,\"=\" & ($AZ34),CD11:CD45)/SUMIF(CA11:CA45,\"=\" & ($AZ34-1),CD11:CD45)<0,0, SUMIF(CA11:CA45,\"=\" & ($AZ34),CD11:CD45)/SUMIF(CA11:CA45,\"=\" & ($AZ34-1),CD11:CD45)))<0,0, IF((IF( SUMIF(CA11:CA45,\"=\" & ($AZ34),CD11:CD45)/SUMIF(CA11:CA45,\"=\" & ($AZ34-1),CD11:CD45)<0,0, SUMIF(CA11:CA45,\"=\" & ($AZ34),CD11:CD45)/SUMIF(CA11:CA45,\"=\" & ($AZ34-1),CD11:CD45)))>1,1, (IF( SUMIF(CA11:CA45,\"=\" & ($AZ34),CD11:CD45)/SUMIF(CA11:CA45,\"=\" & ($AZ34-1),CD11:CD45)<0,0, SUMIF(CA11:CA45,\"=\" & ($AZ34),CD11:CD45)/SUMIF(CA11:CA45,\"=\" & ($AZ34-1),CD11:CD45))))), 3))","v":{"$error":"#VALUE!"}},null,null,null,23,{"$f":"IF(ISBLANK(R33),\"\",IF(COUNT(R33:AA33)<>10,NA(),IF(ASTM(W33,0)=0,0,IFERROR(ASTM(R33,3)/ASTM(Z33,1),0))))","v":""},{"$f":"IF(ISBLANK(R33),\"\",IF(COUNT(R33:AA33)<>10,NA(),IF(W33=0,0,ASTM(ASTM(W33,0)*ASTM(R33,3),0))))","v":""},{"$f":"IF(ISBLANK(R33),\"\",IF(COUNT(R33:AA33)<>10,NA(),ASTM(S33,3)-ASTM(S32,3)))","v":""},{"$f":"IF(ISBLANK(R33),\"\",IF(COUNT(R33:AA33)<>10,NA(),ASTM(BG33*ASTM(T33,2),1)))","v":""},{"$f":"IF(ISBLANK(R33),\"\",IF(COUNT(R33:AA33)<>10,NA(),ASTM(ASTM($Y$46,4)*1000*(BH33/$AY$13),1)))","v":""},"",{"$f":"IF(ISBLANK(R33),\"\",IF(COUNT(R33:AA33)<>10,NA(),BI33/(33705*ASTM(R33,3))))","v":""},"",{"$f":"IF(ISBLANK(R33),\"\",IFERROR(ASTM(cityfuf(BJ33)-cityfuf(BJ32),3),\"\"))","v":""},{"$f":"IF(ISBLANK(R33),\"\",IF(OR(ISNUMBER(R33)=FALSE,ISNUMBER(AA33)=FALSE),NA(),IF(ASTM(W33,0)=0,0,BM33*ASTM(AA33,0))))","v":""},"",{"$f":"IF(ISBLANK(R33),\"\",IF(COUNT(R33:AA33)<>10,NA(),BL33*ASTM(R33,3)))","v":""},"",{"$f":"IF(ISBLANK(R33),\"\",IF(COUNT(R33:AA33)<>10,NA(),BQ33*ASTM(R33,3)))","v":""},"",{"$f":"IF(ISBLANK(R33),\"\",IF(COUNT(R33:AA33)<>10,NA(),ASTM(mdiuf(BS33),3)-ASTM(mdiuf(BS32),3)))","v":""},{"$f":"IF(ISBLANK(R33),\"\",IF(COUNT(R33:AA33)<>10,NA(),IF(ASTM(W33,0)=0,0,BT33*ASTM(W33,0)/(BQ33))))","v":""},"",{"$f":"IF(ISBLANK(R33),\"\",IF(COUNT(R33:AA33)<>10,NA(),ASTM(cityfufalt(BS33)-cityfufalt(BS32),3)))","v":""},"",{"$f":"IF(ISBLANK(R33),\"\",IF(COUNT(R33:AA33)<>10,NA(),IF(ASTM(W33,0)=0,0,BW33*ASTM(AA33,0)/(BQ33))))","v":""},null,23,{"$f":"IF(ISBLANK(AD33),\"\",IF(COUNT(AD33:AM33)<>10,NA(),IF(ASTM(AI33,0)=0,0,ASTM(AD33,3)/ASTM(AL33,1))))","v":""},{"$f":"IF(ISBLANK(AD33),\"\",IF(COUNT(AD33:AM33)<>10,NA(),IF(ASTM(AI33,0)=0,0,ASTM(ASTM(AI33,0)*ASTM(AD33,3),0))))","v":""},{"$f":"IF(ISBLANK(AD33),\"\",IF(COUNT(AD33:AM33)<>10,NA(),ASTM(AE33,3)-ASTM(AE32,3)))","v":""},{"$f":"IF(ISBLANK(AD33),\"\",IF(COUNT(AD33:AM33)<>10,NA(),ASTM(CD33*ASTM(AF33,2),1)))","v":""},{"$f":"IF(ISBLANK(AD33),\"\",IF(COUNT(AD33:AM33)<>10,NA(),ASTM(ASTM($AK$46,4)*1000*(CE33/$AZ$13),1)))","v":""},"",{"$f":"IF(ISBLANK(AD33),\"\",IF(COUNT(AD33:AM33)<>10,NA(),CF33/(33705*ASTM(AD33,3))))","v":""},"",{"$f":"IF(ISBLANK(AD33),\"\",ASTM(highwayfuf(CG33)-highwayfuf(CG32),3))","v":""},{"$f":"IF(ISBLANK(AD33),\"\",IF(OR(ISNUMBER(AD33)=FALSE,ISNUMBER(AM33)=FALSE),NA(),IF(ASTM(AI33,0)=0,0,CJ33*ASTM(AM33,0))))","v":""},"",{"$f":"IF(ISBLANK(AD33),\"\",IF(COUNT(AD33:AM33)<>10,NA(),CI33*ASTM(AD33,3)))","v":""},"",{"$f":"IF(ISBLANK(AD33),\"\",IF(COUNT(AD33:AM33)<>10,NA(),CN33*ASTM(AD33,3)))","v":""},"",{"$f":"IF(ISBLANK(AD33),\"\",IF(COUNT(AD33:AM33)<>10,NA(),ASTM(mdiuf(CP33)-mdiuf(CP32),3)))","v":""},{"$f":"IF(ISBLANK(AD33),\"\",IF(COUNT(AD33:AM33)<>10,NA(),IF(ASTM(AI33,0)=0,0,CQ33*ASTM(AI33,0)/(CN33))))","v":""},"",{"$f":"IF(ISBLANK(AD33),\"\",IF(COUNT(AD33:AM33)<>10,NA(),ASTM(highwayfufalt(CP33)-highwayfufalt(CP32),3)))","v":""},"",{"$f":"IF(ISBLANK(AD33),\"\",IF(COUNT(AD33:AM33)<>10,NA(),IF(ASTM(AI33,0)=0,0,CT33*ASTM(AM33,0)/(CN33))))","v":""}]
[null,null,"GHG Rating (on scale of 1-10)",null,null,{"$f":"INDEX('Label Inputs'!$AB$5:$AE$104, MATCH(1,('Label Inputs'!$AB$5:$AB$104=$J$5)*('Label Inputs'!$AC$5:$AC$104<=$F$31),0),4)","v":{"$error":"#N/A"}},null,null,null,null,null,null,null,null,null,null,24,null,null,null,null,null,null,null,null,{"$f":"IF(ISBLANK(R34),\"\",IF(OR($J$6=\"HD 2b/3\",COUNT(R34:W34)<>6,$AA$47<>\"Yes\",$AA$49<>\"Yes\"),NA(),IF(ASTM(W34,0)=0,0,ASTM((51740000*$T$46*$T$47)/((($T$46*U34)+(0.429*V34)+(0.273*W34))*((0.6*$T$47*$T$48)+5471)),1))))","v":""},{"$f":"IF(ISBLANK(R34),\"\",IF(OR(AND($J$6<>\"HD 2b/3\",COUNT(R34:W34)<>6),AND($J$6=\"HD 2b/3\",COUNT(R34)+COUNT(W34)<>2),$AA$47<>\"Yes\",$AA$49<>\"Yes\"),NA(),IF(ASTM(W34,0)=0,0,IF($J$6=\"HD 2b/3\",W34,ASTM((($T$46/0.273)*U34)+(1.571*V34)+W34,0)))))","v":""},null,24,null,null,null,null,null,null,null,null,{"$f":"IF(ISBLANK(AD34),\"\",IF(OR($J$6=\"HD 2b/3\",COUNT(AD34:AI34)<>6,$AM$47<>\"Yes\",$AM$49<>\"Yes\"),NA(),IF(ASTM(AI34,0)=0,0,ASTM((51740000*$AF$46*$AF$47)/((($AF$46*AG34)+(0.429*AH34)+(0.273*AI34))*((0.6*$AF$47*$AF$48)+5471)),1))))","v":""},{"$f":"IF(ISBLANK(AD34),\"\",IF(OR(AND($J$6<>\"HD 2b/3\",COUNT(AD34:AI34)<>6),AND($J$6=\"HD 2b/3\",COUNT(AD34)+COUNT(AI34)<>2),$AM$47<>\"Yes\",$AM$49<>\"Yes\"),NA(),IF(ASTM(AI34,0)=0,0,IF($J$6=\"HD 2b/3\",AI34,ASTM((($AF$46/0.273)*AG34)+(1.571*AH34)+AI34,0)))))","v":""},null,null,null,"Unadjusted Fuel Economy (MPG) [4]",{"$f":"IF($J$6=\"HD 2b/3\",NA(),AR9)","v":0},{"$f":"IF($J$6=\"HD 2b/3\",NA(),AS9)","v":0},{"$f":"IF($J$6=\"HD 2b/3\",NA(),AT9)","v":0},null,null,null,"Number of last cycle number with charge-depleting operation (transition cycle) [0]",{"$f":"IF(ISNUMBER(Y48),Y48,\"EOT ERROR\")","v":"EOT ERROR"},{"$f":"IF(ISNUMBER(AK48),AK48,\"EOT ERROR\")","v":"EOT ERROR"},null,null,null,24,{"$f":"IF(ISBLANK(R34),\"\",IF(COUNT(R34:AA34)<>10,NA(),IF(ASTM(W34,0)=0,0,IFERROR(ASTM(R34,3)/ASTM(Z34,1),0))))","v":""},{"$f":"IF(ISBLANK(R34),\"\",IF(COUNT(R34:AA34)<>10,NA(),IF(W34=0,0,ASTM(ASTM(W34,0)*ASTM(R34,3),0))))","v":""},{"$f":"IF(ISBLANK(R34),\"\",IF(COUNT(R34:AA34)<>10,NA(),ASTM(S34,3)-ASTM(S33,3)))","v":""},{"$f":"IF(ISBLANK(R34),\"\",IF(COUNT(R34:AA34)<>10,NA(),ASTM(BG34*ASTM(T34,2),1)))","v":""},{"$f":"IF(ISBLANK(R34),\"\",IF(COUNT(R34:AA34)<>10,NA(),ASTM(ASTM($Y$46,4)*1000*(BH34/$AY$13),1)))","v":""},"",{"$f":"IF(ISBLANK(R34),\"\",IF(COUNT(R34:AA34)<>10,NA(),BI34/(33705*ASTM(R34,3))))","v":""},"",{"$f":"IF(ISBLANK(R34),\"\",IFERROR(ASTM(cityfuf(BJ34)-cityfuf(BJ33),3),\"\"))","v":""},{"$f":"IF(ISBLANK(R34),\"\",IF(OR(ISNUMBER(R34)=FALSE,ISNUMBER(AA34)=FALSE),NA(),IF(ASTM(W34,0)=0,0,BM34*ASTM(AA34,0))))","v":""},"",{"$f":"IF(ISBLANK(R34),\"\",IF(COUNT(R34:AA34)<>10,NA(),BL34*ASTM(R34,3)))","v":""},"",{"$f":"IF(ISBLANK(R34),\"\",IF(COUNT(R34:AA34)<>10,NA(),BQ34*ASTM(R34,3)))","v":""},"",{"$f":"IF(ISBLANK(R34),\"\",IF(COUNT(R34:AA34)<>10,NA(),ASTM(mdiuf(BS34),3)-ASTM(mdiuf(BS33),3)))","v":""},{"$f":"IF(ISBLANK(R34),\"\",IF(COUNT(R34:AA34)<>10,NA(),IF(ASTM(W34,0)=0,0,BT34*ASTM(W34,0)/(BQ34))))","v":""},"",{"$f":"IF(ISBLANK(R34),\"\",IF(COUNT(R34:AA34)<>10,NA(),ASTM(cityfufalt(BS34)-cityfufalt(BS33),3)))","v":""},"",{"$f":"IF(ISBLANK(R34),\"\",IF(COUNT(R34:AA34)<>10,NA(),IF(ASTM(W34,0)=0,0,BW34*ASTM(AA34,0)/(BQ34))))","v":""},null,24,{"$f":"IF(ISBLANK(AD34),\"\",IF(COUNT(AD34:AM34)<>10,NA(),IF(ASTM(AI34,0)=0,0,ASTM(AD34,3)/ASTM(AL34,1))))","v":""},{"$f":"IF(ISBLANK(AD34),\"\",IF(COUNT(AD34:AM34)<>10,NA(),IF(ASTM(AI34,0)=0,0,ASTM(ASTM(AI34,0)*ASTM(AD34,3),0))))","v":""},{"$f":"IF(ISBLANK(AD34),\"\",IF(COUNT(AD34:AM34)<>10,NA(),ASTM(AE34,3)-ASTM(AE33,3)))","v":""},{"$f":"IF(ISBLANK(AD34),\"\",IF(COUNT(AD34:AM34)<>10,NA(),ASTM(CD34*ASTM(AF34,2),1)))","v":""},{"$f":"IF(ISBLANK(AD34),\"\",IF(COUNT(AD34:AM34)<>10,NA(),ASTM(ASTM($AK$46,4)*1000*(CE34/$AZ$13),1)))","v":""},"",{"$f":"IF(ISBLANK(AD34),\"\",IF(COUNT(AD34:AM34)<>10,NA(),CF34/(33705*ASTM(AD34,3))))","v":""},"",{"$f":"IF(ISBLANK(AD34),\"\",ASTM(highwayfuf(CG34)-highwayfuf(CG33),3))","v":""},{"$f":"IF(ISBLANK(AD34),\"\",IF(OR(ISNUMBER(AD34)=FALSE,ISNUMBER(AM34)=FALSE),NA(),IF(ASTM(AI34,0)=0,0,CJ34*ASTM(AM34,0))))","v":""},"",{"$f":"IF(ISBLANK(AD34),\"\",IF(COUNT(AD34:AM34)<>10,NA(),CI34*ASTM(AD34,3)))","v":""},"",{"$f":"IF(ISBLANK(AD34),\"\",IF(COUNT(AD34:AM34)<>10,NA(),CN34*ASTM(AD34,3)))","v":""},"",{"$f":"IF(ISBLANK(AD34),\"\",IF(COUNT(AD34:AM34)<>10,NA(),ASTM(mdiuf(CP34)-mdiuf(CP33),3)))","v":""},{"$f":"IF(ISBLANK(AD34),\"\",IF(COUNT(AD34:AM34)<>10,NA(),IF(ASTM(AI34,0)=0,0,CQ34*ASTM(AI34,0)/(CN34))))","v":""},"",{"$f":"IF(ISBLANK(AD34),\"\",IF(COUNT(AD34:AM34)<>10,NA(),ASTM(highwayfufalt(CP34)-highwayfufalt(CP33),3)))","v":""},"",{"$f":"IF(ISBLANK(AD34),\"\",IF(COUNT(AD34:AM34)<>10,NA(),IF(ASTM(AI34,0)=0,0,CT34*ASTM(AM34,0)/(CN34))))","v":""}]
[null,null,"Label Inputs Based on Model Year and Fuel Type (generally these should not be changed)",null,null,null,null,null,null,null,null,null,null,null,null,null,25,null,null,null,null,null,null,null,null,{"$f":"IF(ISBLANK(R35),\"\",IF(OR($J$6=\"HD 2b/3\",COUNT(R35:W35)<>6,$AA$47<>\"Yes\",$AA$49<>\"Yes\"),NA(),IF(ASTM(W35,0)=0,0,ASTM((51740000*$T$46*$T$47)/((($T$46*U35)+(0.429*V35)+(0.273*W35))*((0.6*$T$47*$T$48)+5471)),1))))","v":""},{"$f":"IF(ISBLANK(R35),\"\",IF(OR(AND($J$6<>\"HD 2b/3\",COUNT(R35:W35)<>6),AND($J$6=\"HD 2b/3\",COUNT(R35)+COUNT(W35)<>2),$AA$47<>\"Yes\",$AA$49<>\"Yes\"),NA(),IF(ASTM(W35,0)=0,0,IF($J$6=\"HD 2b/3\",W35,ASTM((($T$46/0.273)*U35)+(1.571*V35)+W35,0)))))","v":""},null,25,null,null,null,null,null,null,null,null,{"$f":"IF(ISBLANK(AD35),\"\",IF(OR($J$6=\"HD 2b/3\",COUNT(AD35:AI35)<>6,$AM$47<>\"Yes\",$AM$49<>\"Yes\"),NA(),IF(ASTM(AI35,0)=0,0,ASTM((51740000*$AF$46*$AF$47)/((($AF$46*AG35)+(0.429*AH35)+(0.273*AI35))*((0.6*$AF$47*$AF$48)+5471)),1))))","v":""},{"$f":"IF(ISBLANK(AD35),\"\",IF(OR(AND($J$6<>\"HD 2b/3\",COUNT(AD35:AI35)<>6),AND($J$6=\"HD 2b/3\",COUNT(AD35)+COUNT(AI35)<>2),$AM$47<>\"Yes\",$AM$49<>\"Yes\"),NA(),IF(ASTM(AI35,0)=0,0,IF($J$6=\"HD 2b/3\",AI35,ASTM((($AF$46/0.273)*AG35)+(1.571*AH35)+AI35,0)))))","v":""},null,null,null,"Unadjusted GHG (g/mi) [1]",{"$f":"IF($J$6=\"HD 2b/3\",NA(),ASTM(AR11,1))","v":0},{"$f":"IF($J$6=\"HD 2b/3\",NA(),ASTM(AS11,1))","v":0},{"$f":"IF($J$6=\"HD 2b/3\",NA(),ASTM(0.55*AR35+0.45*AS35,1))","v":0},null,null,"Intermediate Results Requiring Charge-Sustaining (CS) Test Results or Other Inputs",null,null,null,null,null,null,25,{"$f":"IF(ISBLANK(R35),\"\",IF(COUNT(R35:AA35)<>10,NA(),IF(ASTM(W35,0)=0,0,IFERROR(ASTM(R35,3)/ASTM(Z35,1),0))))","v":""},{"$f":"IF(ISBLANK(R35),\"\",IF(COUNT(R35:AA35)<>10,NA(),IF(W35=0,0,ASTM(ASTM(W35,0)*ASTM(R35,3),0))))","v":""},{"$f":"IF(ISBLANK(R35),\"\",IF(COUNT(R35:AA35)<>10,NA(),ASTM(S35,3)-ASTM(S34,3)))","v":""},{"$f":"IF(ISBLANK(R35),\"\",IF(COUNT(R35:AA35)<>10,NA(),ASTM(BG35*ASTM(T35,2),1)))","v":""},{"$f":"IF(ISBLANK(R35),\"\",IF(COUNT(R35:AA35)<>10,NA(),ASTM(ASTM($Y$46,4)*1000*(BH35/$AY$13),1)))","v":""},"",{"$f":"IF(ISBLANK(R35),\"\",IF(COUNT(R35:AA35)<>10,NA(),BI35/(33705*ASTM(R35,3))))","v":""},"",{"$f":"IF(ISBLANK(R35),\"\",IFERROR(ASTM(cityfuf(BJ35)-cityfuf(BJ34),3),\"\"))","v":""},{"$f":"IF(ISBLANK(R35),\"\",IF(OR(ISNUMBER(R35)=FALSE,ISNUMBER(AA35)=FALSE),NA(),IF(ASTM(W35,0)=0,0,BM35*ASTM(AA35,0))))","v":""},"",{"$f":"IF(ISBLANK(R35),\"\",IF(COUNT(R35:AA35)<>10,NA(),BL35*ASTM(R35,3)))","v":""},"",{"$f":"IF(ISBLANK(R35),\"\",IF(COUNT(R35:AA35)<>10,NA(),BQ35*ASTM(R35,3)))","v":""},"",{"$f":"IF(ISBLANK(R35),\"\",IF(COUNT(R35:AA35)<>10,NA(),ASTM(mdiuf(BS35),3)-ASTM(mdiuf(BS34),3)))","v":""},{"$f":"IF(ISBLANK(R35),\"\",IF(COUNT(R35:AA35)<>10,NA(),IF(ASTM(W35,0)=0,0,BT35*ASTM(W35,0)/(BQ35))))","v":""},"",{"$f":"IF(ISBLANK(R35),\"\",IF(COUNT(R35:AA35)<>10,NA(),ASTM(cityfufalt(BS35)-cityfufalt(BS34),3)))","v":""},"",{"$f":"IF(ISBLANK(R35),\"\",IF(COUNT(R35:AA35)<>10,NA(),IF(ASTM(W35,0)=0,0,BW35*ASTM(AA35,0)/(BQ35))))","v":""},null,25,{"$f":"IF(ISBLANK(AD35),\"\",IF(COUNT(AD35:AM35)<>10,NA(),IF(ASTM(AI35,0)=0,0,ASTM(AD35,3)/ASTM(AL35,1))))","v":""},{"$f":"IF(ISBLANK(AD35),\"\",IF(COUNT(AD35:AM35)<>10,NA(),IF(ASTM(AI35,0)=0,0,ASTM(ASTM(AI35,0)*ASTM(AD35,3),0))))","v":""},{"$f":"IF(ISBLANK(AD35),\"\",IF(COUNT(AD35:AM35)<>10,NA(),ASTM(AE35,3)-ASTM(AE34,3)))","v":""},{"$f":"IF(ISBLANK(AD35),\"\",IF(COUNT(AD35:AM35)<>10,NA(),ASTM(CD35*ASTM(AF35,2),1)))","v":""},{"$f":"IF(ISBLANK(AD35),\"\",IF(COUNT(AD35:AM35)<>10,NA(),ASTM(ASTM($AK$46,4)*1000*(CE35/$AZ$13),1)))","v":""},"",{"$f":"IF(ISBLANK(AD35),\"\",IF(COUNT(AD35:AM35)<>10,NA(),CF35/(33705*ASTM(AD35,3))))","v":""},"",{"$f":"IF(ISBLANK(AD35),\"\",ASTM(highwayfuf(CG35)-highwayfuf(CG34),3))","v":""},{"$f":"IF(ISBLANK(AD35),\"\",IF(OR(ISNUMBER(AD35)=FALSE,ISNUMBER(AM35)=FALSE),NA(),IF(ASTM(AI35,0)=0,0,CJ35*ASTM(AM35,0))))","v":""},"",{"$f":"IF(ISBLANK(AD35),\"\",IF(COUNT(AD35:AM35)<>10,NA(),CI35*ASTM(AD35,3)))","v":""},"",{"$f":"IF(ISBLANK(AD35),\"\",IF(COUNT(AD35:AM35)<>10,NA(),CN35*ASTM(AD35,3)))","v":""},"",{"$f":"IF(ISBLANK(AD35),\"\",IF(COUNT(AD35:AM35)<>10,NA(),ASTM(mdiuf(CP35)-mdiuf(CP34),3)))","v":""},{"$f":"IF(ISBLANK(AD35),\"\",IF(COUNT(AD35:AM35)<>10,NA(),IF(ASTM(AI35,0)=0,0,CQ35*ASTM(AI35,0)/(CN35))))","v":""},"",{"$f":"IF(ISBLANK(AD35),\"\",IF(COUNT(AD35:AM35)<>10,NA(),ASTM(highwayfufalt(CP35)-highwayfufalt(CP34),3)))","v":""},"",{"$f":"IF(ISBLANK(AD35),\"\",IF(COUNT(AD35:AM35)<>10,NA(),IF(ASTM(AI35,0)=0,0,CT35*ASTM(AM35,0)/(CN35))))","v":""}]
[null,null,"Gasoline cost ($/gallon)",null,null,{"$f":"IF($J$6=\"HD 2b/3\",NA(),INDEX('Label Inputs'!C5:K19,MATCH(J5,'Label Inputs'!B5:B19,0),MATCH(J9,'Label Inputs'!C4:K4,0)))","v":{"$error":"#N/A"}},null,null,null,null,null,null,null,null,null,null,26,null,null,null,null,null,null,null,null,{"$f":"IF(ISBLANK(R36),\"\",IF(OR($J$6=\"HD 2b/3\",COUNT(R36:W36)<>6,$AA$47<>\"Yes\",$AA$49<>\"Yes\"),NA(),IF(ASTM(W36,0)=0,0,ASTM((51740000*$T$46*$T$47)/((($T$46*U36)+(0.429*V36)+(0.273*W36))*((0.6*$T$47*$T$48)+5471)),1))))","v":""},{"$f":"IF(ISBLANK(R36),\"\",IF(OR(AND($J$6<>\"HD 2b/3\",COUNT(R36:W36)<>6),AND($J$6=\"HD 2b/3\",COUNT(R36)+COUNT(W36)<>2),$AA$47<>\"Yes\",$AA$49<>\"Yes\"),NA(),IF(ASTM(W36,0)=0,0,IF($J$6=\"HD 2b/3\",W36,ASTM((($T$46/0.273)*U36)+(1.571*V36)+W36,0)))))","v":""},null,26,null,null,null,null,null,null,null,null,{"$f":"IF(ISBLANK(AD36),\"\",IF(OR($J$6=\"HD 2b/3\",COUNT(AD36:AI36)<>6,$AM$47<>\"Yes\",$AM$49<>\"Yes\"),NA(),IF(ASTM(AI36,0)=0,0,ASTM((51740000*$AF$46*$AF$47)/((($AF$46*AG36)+(0.429*AH36)+(0.273*AI36))*((0.6*$AF$47*$AF$48)+5471)),1))))","v":""},{"$f":"IF(ISBLANK(AD36),\"\",IF(OR(AND($J$6<>\"HD 2b/3\",COUNT(AD36:AI36)<>6),AND($J$6=\"HD 2b/3\",COUNT(AD36)+COUNT(AI36)<>2),$AM$47<>\"Yes\",$AM$49<>\"Yes\"),NA(),IF(ASTM(AI36,0)=0,0,IF($J$6=\"HD 2b/3\",AI36,ASTM((($AF$46/0.273)*AG36)+(1.571*AH36)+AI36,0)))))","v":""},null,null,null,"Adjusted Fuel Economy (MPG) [4]",{"$f":"IF($J$6=\"HD 2b/3\",NA(),IFERROR(ASTM(1/(AY16+(1-AR33)/N12),4),0))","v":0},{"$f":"IF($J$6=\"HD 2b/3\",NA(),IFERROR(ASTM(1/(AZ16+(1-AS33)/O12),4),0))","v":0},{"$f":"IF($J$6=\"HD 2b/3\",NA(),IFERROR(ASTM(1/(0.55/AR36+0.45/AS36),4),0))","v":0},null,null,null,"DRIVING DISTANCE VALUES","CITY","HIGHWAY",null,null,null,26,{"$f":"IF(ISBLANK(R36),\"\",IF(COUNT(R36:AA36)<>10,NA(),IF(ASTM(W36,0)=0,0,IFERROR(ASTM(R36,3)/ASTM(Z36,1),0))))","v":""},{"$f":"IF(ISBLANK(R36),\"\",IF(COUNT(R36:AA36)<>10,NA(),IF(W36=0,0,ASTM(ASTM(W36,0)*ASTM(R36,3),0))))","v":""},{"$f":"IF(ISBLANK(R36),\"\",IF(COUNT(R36:AA36)<>10,NA(),ASTM(S36,3)-ASTM(S35,3)))","v":""},{"$f":"IF(ISBLANK(R36),\"\",IF(COUNT(R36:AA36)<>10,NA(),ASTM(BG36*ASTM(T36,2),1)))","v":""},{"$f":"IF(ISBLANK(R36),\"\",IF(COUNT(R36:AA36)<>10,NA(),ASTM(ASTM($Y$46,4)*1000*(BH36/$AY$13),1)))","v":""},"",{"$f":"IF(ISBLANK(R36),\"\",IF(COUNT(R36:AA36)<>10,NA(),BI36/(33705*ASTM(R36,3))))","v":""},"",{"$f":"IF(ISBLANK(R36),\"\",IFERROR(ASTM(cityfuf(BJ36)-cityfuf(BJ35),3),\"\"))","v":""},{"$f":"IF(ISBLANK(R36),\"\",IF(OR(ISNUMBER(R36)=FALSE,ISNUMBER(AA36)=FALSE),NA(),IF(ASTM(W36,0)=0,0,BM36*ASTM(AA36,0))))","v":""},"",{"$f":"IF(ISBLANK(R36),\"\",IF(COUNT(R36:AA36)<>10,NA(),BL36*ASTM(R36,3)))","v":""},"",{"$f":"IF(ISBLANK(R36),\"\",IF(COUNT(R36:AA36)<>10,NA(),BQ36*ASTM(R36,3)))","v":""},"",{"$f":"IF(ISBLANK(R36),\"\",IF(COUNT(R36:AA36)<>10,NA(),ASTM(mdiuf(BS36),3)-ASTM(mdiuf(BS35),3)))","v":""},{"$f":"IF(ISBLANK(R36),\"\",IF(COUNT(R36:AA36)<>10,NA(),IF(ASTM(W36,0)=0,0,BT36*ASTM(W36,0)/(BQ36))))","v":""},"",{"$f":"IF(ISBLANK(R36),\"\",IF(COUNT(R36:AA36)<>10,NA(),ASTM(cityfufalt(BS36)-cityfufalt(BS35),3)))","v":""},"",{"$f":"IF(ISBLANK(R36),\"\",IF(COUNT(R36:AA36)<>10,NA(),IF(ASTM(W36,0)=0,0,BW36*ASTM(AA36,0)/(BQ36))))","v":""},null,26,{"$f":"IF(ISBLANK(AD36),\"\",IF(COUNT(AD36:AM36)<>10,NA(),IF(ASTM(AI36,0)=0,0,ASTM(AD36,3)/ASTM(AL36,1))))","v":""},{"$f":"IF(ISBLANK(AD36),\"\",IF(COUNT(AD36:AM36)<>10,NA(),IF(ASTM(AI36,0)=0,0,ASTM(ASTM(AI36,0)*ASTM(AD36,3),0))))","v":""},{"$f":"IF(ISBLANK(AD36),\"\",IF(COUNT(AD36:AM36)<>10,NA(),ASTM(AE36,3)-ASTM(AE35,3)))","v":""},{"$f":"IF(ISBLANK(AD36),\"\",IF(COUNT(AD36:AM36)<>10,NA(),ASTM(CD36*ASTM(AF36,2),1)))","v":""},{"$f":"IF(ISBLANK(AD36),\"\",IF(COUNT(AD36:AM36)<>10,NA(),ASTM(ASTM($AK$46,4)*1000*(CE36/$AZ$13),1)))","v":""},"",{"$f":"IF(ISBLANK(AD36),\"\",IF(COUNT(AD36:AM36)<>10,NA(),CF36/(33705*ASTM(AD36,3))))","v":""},"",{"$f":"IF(ISBLANK(AD36),\"\",ASTM(highwayfuf(CG36)-highwayfuf(CG35),3))","v":""},{"$f":"IF(ISBLANK(AD36),\"\",IF(OR(ISNUMBER(AD36)=FALSE,ISNUMBER(AM36)=FALSE),NA(),IF(ASTM(AI36,0)=0,0,CJ36*ASTM(AM36,0))))","v":""},"",{"$f":"IF(ISBLANK(AD36),\"\",IF(COUNT(AD36:AM36)<>10,NA(),CI36*ASTM(AD36,3)))","v":""},"",{"$f":"IF(ISBLANK(AD36),\"\",IF(COUNT(AD36:AM36)<>10,NA(),CN36*ASTM(AD36,3)))","v":""},"",{"$f":"IF(ISBLANK(AD36),\"\",IF(COUNT(AD36:AM36)<>10,NA(),ASTM(mdiuf(CP36)-mdiuf(CP35),3)))","v":""},{"$f":"IF(ISBLANK(AD36),\"\",IF(COUNT(AD36:AM36)<>10,NA(),IF(ASTM(AI36,0)=0,0,CQ36*ASTM(AI36,0)/(CN36))))","v":""},"",{"$f":"IF(ISBLANK(AD36),\"\",IF(COUNT(AD36:AM36)<>10,NA(),ASTM(highwayfufalt(CP36)-highwayfufalt(CP35),3)))","v":""},"",{"$f":"IF(ISBLANK(AD36),\"\",IF(COUNT(AD36:AM36)<>10,NA(),IF(ASTM(AI36,0)=0,0,CT36*ASTM(AM36,0)/(CN36))))","v":""}]
[null,null,"Electricity cost ($/kW-hour)",null,null,{"$f":"IF($J$6=\"HD 2b/3\",NA(),INDEX('Label Inputs'!C5:K19,MATCH(J5,'Label Inputs'!B5:B19,0),MATCH(\"Electricity\",'Label Inputs'!C4:K4,0)))","v":{"$error":"#N/A"}},null,null,null,null,null,null,null,null,null,null,27,null,null,null,null,null,null,null,null,{"$f":"IF(ISBLANK(R37),\"\",IF(OR($J$6=\"HD 2b/3\",COUNT(R37:W37)<>6,$AA$47<>\"Yes\",$AA$49<>\"Yes\"),NA(),IF(ASTM(W37,0)=0,0,ASTM((51740000*$T$46*$T$47)/((($T$46*U37)+(0.429*V37)+(0.273*W37))*((0.6*$T$47*$T$48)+5471)),1))))","v":""},{"$f":"IF(ISBLANK(R37),\"\",IF(OR(AND($J$6<>\"HD 2b/3\",COUNT(R37:W37)<>6),AND($J$6=\"HD 2b/3\",COUNT(R37)+COUNT(W37)<>2),$AA$47<>\"Yes\",$AA$49<>\"Yes\"),NA(),IF(ASTM(W37,0)=0,0,IF($J$6=\"HD 2b/3\",W37,ASTM((($T$46/0.273)*U37)+(1.571*V37)+W37,0)))))","v":""},null,27,null,null,null,null,null,null,null,null,{"$f":"IF(ISBLANK(AD37),\"\",IF(OR($J$6=\"HD 2b/3\",COUNT(AD37:AI37)<>6,$AM$47<>\"Yes\",$AM$49<>\"Yes\"),NA(),IF(ASTM(AI37,0)=0,0,ASTM((51740000*$AF$46*$AF$47)/((($AF$46*AG37)+(0.429*AH37)+(0.273*AI37))*((0.6*$AF$47*$AF$48)+5471)),1))))","v":""},{"$f":"IF(ISBLANK(AD37),\"\",IF(OR(AND($J$6<>\"HD 2b/3\",COUNT(AD37:AI37)<>6),AND($J$6=\"HD 2b/3\",COUNT(AD37)+COUNT(AI37)<>2),$AM$47<>\"Yes\",$AM$49<>\"Yes\"),NA(),IF(ASTM(AI37,0)=0,0,IF($J$6=\"HD 2b/3\",AI37,ASTM((($AF$46/0.273)*AG37)+(1.571*AH37)+AI37,0)))))","v":""},null,null,null,"Adjusted GHG (g/mi) [1]",{"$f":"IF($J$6=\"HD 2b/3\",NA(),IFERROR(ASTM(AY28+(1-AR33)*_xlfn.SINGLE(ASTM(N15,1)),1),0))","v":0},{"$f":"IF($J$6=\"HD 2b/3\",NA(),IFERROR(ASTM(AZ28+(1-AS33)*ASTM(O15,1),1),0))","v":0},{"$f":"IF($J$6=\"HD 2b/3\",NA(),IFERROR(ASTM(0.55*AR37+0.45*AS37,1),0))","v":0},null,null,null,"CD Equivalent All-Electric Range (EAER), Unadjusted (mi) [3]",{"$f":"IF($J$6=\"HD 2b/3\",NA(),ASTM(AY6*((N14-AY24)/N14),3))","v":{"$error":"#VALUE!"}},{"$f":"IF($J$6=\"HD 2b/3\",NA(),ASTM(AZ6*((O14-AZ24)/O14),3))","v":{"$error":"#VALUE!"}},null,null,null,27,{"$f":"IF(ISBLANK(R37),\"\",IF(COUNT(R37:AA37)<>10,NA(),IF(ASTM(W37,0)=0,0,IFERROR(ASTM(R37,3)/ASTM(Z37,1),0))))","v":""},{"$f":"IF(ISBLANK(R37),\"\",IF(COUNT(R37:AA37)<>10,NA(),IF(W37=0,0,ASTM(ASTM(W37,0)*ASTM(R37,3),0))))","v":""},{"$f":"IF(ISBLANK(R37),\"\",IF(COUNT(R37:AA37)<>10,NA(),ASTM(S37,3)-ASTM(S36,3)))","v":""},{"$f":"IF(ISBLANK(R37),\"\",IF(COUNT(R37:AA37)<>10,NA(),ASTM(BG37*ASTM(T37,2),1)))","v":""},{"$f":"IF(ISBLANK(R37),\"\",IF(COUNT(R37:AA37)<>10,NA(),ASTM(ASTM($Y$46,4)*1000*(BH37/$AY$13),1)))","v":""},"",{"$f":"IF(ISBLANK(R37),\"\",IF(COUNT(R37:AA37)<>10,NA(),BI37/(33705*ASTM(R37,3))))","v":""},"",{"$f":"IF(ISBLANK(R37),\"\",IFERROR(ASTM(cityfuf(BJ37)-cityfuf(BJ36),3),\"\"))","v":""},{"$f":"IF(ISBLANK(R37),\"\",IF(OR(ISNUMBER(R37)=FALSE,ISNUMBER(AA37)=FALSE),NA(),IF(ASTM(W37,0)=0,0,BM37*ASTM(AA37,0))))","v":""},"",{"$f":"IF(ISBLANK(R37),\"\",IF(COUNT(R37:AA37)<>10,NA(),BL37*ASTM(R37,3)))","v":""},"",{"$f":"IF(ISBLANK(R37),\"\",IF(COUNT(R37:AA37)<>10,NA(),BQ37*ASTM(R37,3)))","v":""},"",{"$f":"IF(ISBLANK(R37),\"\",IF(COUNT(R37:AA37)<>10,NA(),ASTM(mdiuf(BS37),3)-ASTM(mdiuf(BS36),3)))","v":""},{"$f":"IF(ISBLANK(R37),\"\",IF(COUNT(R37:AA37)<>10,NA(),IF(ASTM(W37,0)=0,0,BT37*ASTM(W37,0)/(BQ37))))","v":""},"",{"$f":"IF(ISBLANK(R37),\"\",IF(COUNT(R37:AA37)<>10,NA(),ASTM(cityfufalt(BS37)-cityfufalt(BS36),3)))","v":""},"",{"$f":"IF(ISBLANK(R37),\"\",IF(COUNT(R37:AA37)<>10,NA(),IF(ASTM(W37,0)=0,0,BW37*ASTM(AA37,0)/(BQ37))))","v":""},null,27,{"$f":"IF(ISBLANK(AD37),\"\",IF(COUNT(AD37:AM37)<>10,NA(),IF(ASTM(AI37,0)=0,0,ASTM(AD37,3)/ASTM(AL37,1))))","v":""},{"$f":"IF(ISBLANK(AD37),\"\",IF(COUNT(AD37:AM37)<>10,NA(),IF(ASTM(AI37,0)=0,0,ASTM(ASTM(AI37,0)*ASTM(AD37,3),0))))","v":""},{"$f":"IF(ISBLANK(AD37),\"\",IF(COUNT(AD37:AM37)<>10,NA(),ASTM(AE37,3)-ASTM(AE36,3)))","v":""},{"$f":"IF(ISBLANK(AD37),\"\",IF(COUNT(AD37:AM37)<>10,NA(),ASTM(CD37*ASTM(AF37,2),1)))","v":""},{"$f":"IF(ISBLANK(AD37),\"\",IF(COUNT(AD37:AM37)<>10,NA(),ASTM(ASTM($AK$46,4)*1000*(CE37/$AZ$13),1)))","v":""},"",{"$f":"IF(ISBLANK(AD37),\"\",IF(COUNT(AD37:AM37)<>10,NA(),CF37/(33705*ASTM(AD37,3))))","v":""},"",{"$f":"IF(ISBLANK(AD37),\"\",ASTM(highwayfuf(CG37)-highwayfuf(CG36),3))","v":""},{"$f":"IF(ISBLANK(AD37),\"\",IF(OR(ISNUMBER(AD37)=FALSE,ISNUMBER(AM37)=FALSE),NA(),IF(ASTM(AI37,0)=0,0,CJ37*ASTM(AM37,0))))","v":""},"",{"$f":"IF(ISBLANK(AD37),\"\",IF(COUNT(AD37:AM37)<>10,NA(),CI37*ASTM(AD37,3)))","v":""},"",{"$f":"IF(ISBLANK(AD37),\"\",IF(COUNT(AD37:AM37)<>10,NA(),CN37*ASTM(AD37,3)))","v":""},"",{"$f":"IF(ISBLANK(AD37),\"\",IF(COUNT(AD37:AM37)<>10,NA(),ASTM(mdiuf(CP37)-mdiuf(CP36),3)))","v":""},{"$f":"IF(ISBLANK(AD37),\"\",IF(COUNT(AD37:AM37)<>10,NA(),IF(ASTM(AI37,0)=0,0,CQ37*ASTM(AI37,0)/(CN37))))","v":""},"",{"$f":"IF(ISBLANK(AD37),\"\",IF(COUNT(AD37:AM37)<>10,NA(),ASTM(highwayfufalt(CP37)-highwayfufalt(CP36),3)))","v":""},"",{"$f":"IF(ISBLANK(AD37),\"\",IF(COUNT(AD37:AM37)<>10,NA(),IF(ASTM(AI37,0)=0,0,CT37*ASTM(AM37,0)/(CN37))))","v":""}]
[null,null,"Average vehicle 5-year cost ($)",null,null,{"$f":"IF($J$6=\"HD 2b/3\",NA(),VLOOKUP(J5,'Label Inputs'!R4:S19,2,FALSE))","v":{"$error":"#N/A"}},null,null,null,null,null,null,null,null,null,null,28,null,null,null,null,null,null,null,null,{"$f":"IF(ISBLANK(R38),\"\",IF(OR($J$6=\"HD 2b/3\",COUNT(R38:W38)<>6,$AA$47<>\"Yes\",$AA$49<>\"Yes\"),NA(),IF(ASTM(W38,0)=0,0,ASTM((51740000*$T$46*$T$47)/((($T$46*U38)+(0.429*V38)+(0.273*W38))*((0.6*$T$47*$T$48)+5471)),1))))","v":""},{"$f":"IF(ISBLANK(R38),\"\",IF(OR(AND($J$6<>\"HD 2b/3\",COUNT(R38:W38)<>6),AND($J$6=\"HD 2b/3\",COUNT(R38)+COUNT(W38)<>2),$AA$47<>\"Yes\",$AA$49<>\"Yes\"),NA(),IF(ASTM(W38,0)=0,0,IF($J$6=\"HD 2b/3\",W38,ASTM((($T$46/0.273)*U38)+(1.571*V38)+W38,0)))))","v":""},null,28,null,null,null,null,null,null,null,null,{"$f":"IF(ISBLANK(AD38),\"\",IF(OR($J$6=\"HD 2b/3\",COUNT(AD38:AI38)<>6,$AM$47<>\"Yes\",$AM$49<>\"Yes\"),NA(),IF(ASTM(AI38,0)=0,0,ASTM((51740000*$AF$46*$AF$47)/((($AF$46*AG38)+(0.429*AH38)+(0.273*AI38))*((0.6*$AF$47*$AF$48)+5471)),1))))","v":""},{"$f":"IF(ISBLANK(AD38),\"\",IF(OR(AND($J$6<>\"HD 2b/3\",COUNT(AD38:AI38)<>6),AND($J$6=\"HD 2b/3\",COUNT(AD38)+COUNT(AI38)<>2),$AM$47<>\"Yes\",$AM$49<>\"Yes\"),NA(),IF(ASTM(AI38,0)=0,0,IF($J$6=\"HD 2b/3\",AI38,ASTM((($AF$46/0.273)*AG38)+(1.571*AH38)+AI38,0)))))","v":""},null,null,null,null,null,null,null,null,null,null,"Charge-sustaining driving range, adjusted (mi) [3]",{"$f":"IF($J$6=\"HD 2b/3\",NA(),IFERROR(ASTM((ASTM($J$11,1)-AY18)*ASTM(N12,4),3),0))","v":0},{"$f":"IF($J$6=\"HD 2b/3\",NA(),IFERROR(ASTM((ASTM($J$11,1)-AZ18)*ASTM(O12,4),3),0))","v":0},null,null,null,28,{"$f":"IF(ISBLANK(R38),\"\",IF(COUNT(R38:AA38)<>10,NA(),IF(ASTM(W38,0)=0,0,IFERROR(ASTM(R38,3)/ASTM(Z38,1),0))))","v":""},{"$f":"IF(ISBLANK(R38),\"\",IF(COUNT(R38:AA38)<>10,NA(),IF(W38=0,0,ASTM(ASTM(W38,0)*ASTM(R38,3),0))))","v":""},{"$f":"IF(ISBLANK(R38),\"\",IF(COUNT(R38:AA38)<>10,NA(),ASTM(S38,3)-ASTM(S37,3)))","v":""},{"$f":"IF(ISBLANK(R38),\"\",IF(COUNT(R38:AA38)<>10,NA(),ASTM(BG38*ASTM(T38,2),1)))","v":""},{"$f":"IF(ISBLANK(R38),\"\",IF(COUNT(R38:AA38)<>10,NA(),ASTM(ASTM($Y$46,4)*1000*(BH38/$AY$13),1)))","v":""},"",{"$f":"IF(ISBLANK(R38),\"\",IF(COUNT(R38:AA38)<>10,NA(),BI38/(33705*ASTM(R38,3))))","v":""},"",{"$f":"IF(ISBLANK(R38),\"\",IFERROR(ASTM(cityfuf(BJ38)-cityfuf(BJ37),3),\"\"))","v":""},{"$f":"IF(ISBLANK(R38),\"\",IF(OR(ISNUMBER(R38)=FALSE,ISNUMBER(AA38)=FALSE),NA(),IF(ASTM(W38,0)=0,0,BM38*ASTM(AA38,0))))","v":""},"",{"$f":"IF(ISBLANK(R38),\"\",IF(COUNT(R38:AA38)<>10,NA(),BL38*ASTM(R38,3)))","v":""},"",{"$f":"IF(ISBLANK(R38),\"\",IF(COUNT(R38:AA38)<>10,NA(),BQ38*ASTM(R38,3)))","v":""},"",{"$f":"IF(ISBLANK(R38),\"\",IF(COUNT(R38:AA38)<>10,NA(),ASTM(mdiuf(BS38),3)-ASTM(mdiuf(BS37),3)))","v":""},{"$f":"IF(ISBLANK(R38),\"\",IF(COUNT(R38:AA38)<>10,NA(),IF(ASTM(W38,0)=0,0,BT38*ASTM(W38,0)/(BQ38))))","v":""},"",{"$f":"IF(ISBLANK(R38),\"\",IF(COUNT(R38:AA38)<>10,NA(),ASTM(cityfufalt(BS38)-cityfufalt(BS37),3)))","v":""},"",{"$f":"IF(ISBLANK(R38),\"\",IF(COUNT(R38:AA38)<>10,NA(),IF(ASTM(W38,0)=0,0,BW38*ASTM(AA38,0)/(BQ38))))","v":""},null,28,{"$f":"IF(ISBLANK(AD38),\"\",IF(COUNT(AD38:AM38)<>10,NA(),IF(ASTM(AI38,0)=0,0,ASTM(AD38,3)/ASTM(AL38,1))))","v":""},{"$f":"IF(ISBLANK(AD38),\"\",IF(COUNT(AD38:AM38)<>10,NA(),IF(ASTM(AI38,0)=0,0,ASTM(ASTM(AI38,0)*ASTM(AD38,3),0))))","v":""},{"$f":"IF(ISBLANK(AD38),\"\",IF(COUNT(AD38:AM38)<>10,NA(),ASTM(AE38,3)-ASTM(AE37,3)))","v":""},{"$f":"IF(ISBLANK(AD38),\"\",IF(COUNT(AD38:AM38)<>10,NA(),ASTM(CD38*ASTM(AF38,2),1)))","v":""},{"$f":"IF(ISBLANK(AD38),\"\",IF(COUNT(AD38:AM38)<>10,NA(),ASTM(ASTM($AK$46,4)*1000*(CE38/$AZ$13),1)))","v":""},"",{"$f":"IF(ISBLANK(AD38),\"\",IF(COUNT(AD38:AM38)<>10,NA(),CF38/(33705*ASTM(AD38,3))))","v":""},"",{"$f":"IF(ISBLANK(AD38),\"\",ASTM(highwayfuf(CG38)-highwayfuf(CG37),3))","v":""},{"$f":"IF(ISBLANK(AD38),\"\",IF(OR(ISNUMBER(AD38)=FALSE,ISNUMBER(AM38)=FALSE),NA(),IF(ASTM(AI38,0)=0,0,CJ38*ASTM(AM38,0))))","v":""},"",{"$f":"IF(ISBLANK(AD38),\"\",IF(COUNT(AD38:AM38)<>10,NA(),CI38*ASTM(AD38,3)))","v":""},"",{"$f":"IF(ISBLANK(AD38),\"\",IF(COUNT(AD38:AM38)<>10,NA(),CN38*ASTM(AD38,3)))","v":""},"",{"$f":"IF(ISBLANK(AD38),\"\",IF(COUNT(AD38:AM38)<>10,NA(),ASTM(mdiuf(CP38)-mdiuf(CP37),3)))","v":""},{"$f":"IF(ISBLANK(AD38),\"\",IF(COUNT(AD38:AM38)<>10,NA(),IF(ASTM(AI38,0)=0,0,CQ38*ASTM(AI38,0)/(CN38))))","v":""},"",{"$f":"IF(ISBLANK(AD38),\"\",IF(COUNT(AD38:AM38)<>10,NA(),ASTM(highwayfufalt(CP38)-highwayfufalt(CP37),3)))","v":""},"",{"$f":"IF(ISBLANK(AD38),\"\",IF(COUNT(AD38:AM38)<>10,NA(),IF(ASTM(AI38,0)=0,0,CT38*ASTM(AM38,0)/(CN38))))","v":""}]
[null,null,"Average vehicle MPG",null,null,{"$f":"IF($J$6=\"HD 2b/3\",NA(),VLOOKUP(J5,'Label Inputs'!M4:N19,2,FALSE))","v":{"$error":"#N/A"}},null,null,null,null,null,null,null,null,null,null,29,null,null,null,null,null,null,null,null,{"$f":"IF(ISBLANK(R39),\"\",IF(OR($J$6=\"HD 2b/3\",COUNT(R39:W39)<>6,$AA$47<>\"Yes\",$AA$49<>\"Yes\"),NA(),IF(ASTM(W39,0)=0,0,ASTM((51740000*$T$46*$T$47)/((($T$46*U39)+(0.429*V39)+(0.273*W39))*((0.6*$T$47*$T$48)+5471)),1))))","v":""},{"$f":"IF(ISBLANK(R39),\"\",IF(OR(AND($J$6<>\"HD 2b/3\",COUNT(R39:W39)<>6),AND($J$6=\"HD 2b/3\",COUNT(R39)+COUNT(W39)<>2),$AA$47<>\"Yes\",$AA$49<>\"Yes\"),NA(),IF(ASTM(W39,0)=0,0,IF($J$6=\"HD 2b/3\",W39,ASTM((($T$46/0.273)*U39)+(1.571*V39)+W39,0)))))","v":""},null,29,null,null,null,null,null,null,null,null,{"$f":"IF(ISBLANK(AD39),\"\",IF(OR($J$6=\"HD 2b/3\",COUNT(AD39:AI39)<>6,$AM$47<>\"Yes\",$AM$49<>\"Yes\"),NA(),IF(ASTM(AI39,0)=0,0,ASTM((51740000*$AF$46*$AF$47)/((($AF$46*AG39)+(0.429*AH39)+(0.273*AI39))*((0.6*$AF$47*$AF$48)+5471)),1))))","v":""},{"$f":"IF(ISBLANK(AD39),\"\",IF(OR(AND($J$6<>\"HD 2b/3\",COUNT(AD39:AI39)<>6),AND($J$6=\"HD 2b/3\",COUNT(AD39)+COUNT(AI39)<>2),$AM$47<>\"Yes\",$AM$49<>\"Yes\"),NA(),IF(ASTM(AI39,0)=0,0,IF($J$6=\"HD 2b/3\",AI39,ASTM((($AF$46/0.273)*AG39)+(1.571*AH39)+AI39,0)))))","v":""},null,null,null,null,null,null,null,null,null,null,"UTILITY FACTORS & OTHER METRICS","CITY","HIGHWAY",null,null,null,29,{"$f":"IF(ISBLANK(R39),\"\",IF(COUNT(R39:AA39)<>10,NA(),IF(ASTM(W39,0)=0,0,IFERROR(ASTM(R39,3)/ASTM(Z39,1),0))))","v":""},{"$f":"IF(ISBLANK(R39),\"\",IF(COUNT(R39:AA39)<>10,NA(),IF(W39=0,0,ASTM(ASTM(W39,0)*ASTM(R39,3),0))))","v":""},{"$f":"IF(ISBLANK(R39),\"\",IF(COUNT(R39:AA39)<>10,NA(),ASTM(S39,3)-ASTM(S38,3)))","v":""},{"$f":"IF(ISBLANK(R39),\"\",IF(COUNT(R39:AA39)<>10,NA(),ASTM(BG39*ASTM(T39,2),1)))","v":""},{"$f":"IF(ISBLANK(R39),\"\",IF(COUNT(R39:AA39)<>10,NA(),ASTM(ASTM($Y$46,4)*1000*(BH39/$AY$13),1)))","v":""},"",{"$f":"IF(ISBLANK(R39),\"\",IF(COUNT(R39:AA39)<>10,NA(),BI39/(33705*ASTM(R39,3))))","v":""},"",{"$f":"IF(ISBLANK(R39),\"\",IFERROR(ASTM(cityfuf(BJ39)-cityfuf(BJ38),3),\"\"))","v":""},{"$f":"IF(ISBLANK(R39),\"\",IF(OR(ISNUMBER(R39)=FALSE,ISNUMBER(AA39)=FALSE),NA(),IF(ASTM(W39,0)=0,0,BM39*ASTM(AA39,0))))","v":""},"",{"$f":"IF(ISBLANK(R39),\"\",IF(COUNT(R39:AA39)<>10,NA(),BL39*ASTM(R39,3)))","v":""},"",{"$f":"IF(ISBLANK(R39),\"\",IF(COUNT(R39:AA39)<>10,NA(),BQ39*ASTM(R39,3)))","v":""},"",{"$f":"IF(ISBLANK(R39),\"\",IF(COUNT(R39:AA39)<>10,NA(),ASTM(mdiuf(BS39),3)-ASTM(mdiuf(BS38),3)))","v":""},{"$f":"IF(ISBLANK(R39),\"\",IF(COUNT(R39:AA39)<>10,NA(),IF(ASTM(W39,0)=0,0,BT39*ASTM(W39,0)/(BQ39))))","v":""},"",{"$f":"IF(ISBLANK(R39),\"\",IF(COUNT(R39:AA39)<>10,NA(),ASTM(cityfufalt(BS39)-cityfufalt(BS38),3)))","v":""},"",{"$f":"IF(ISBLANK(R39),\"\",IF(COUNT(R39:AA39)<>10,NA(),IF(ASTM(W39,0)=0,0,BW39*ASTM(AA39,0)/(BQ39))))","v":""},null,29,{"$f":"IF(ISBLANK(AD39),\"\",IF(COUNT(AD39:AM39)<>10,NA(),IF(ASTM(AI39,0)=0,0,ASTM(AD39,3)/ASTM(AL39,1))))","v":""},{"$f":"IF(ISBLANK(AD39),\"\",IF(COUNT(AD39:AM39)<>10,NA(),IF(ASTM(AI39,0)=0,0,ASTM(ASTM(AI39,0)*ASTM(AD39,3),0))))","v":""},{"$f":"IF(ISBLANK(AD39),\"\",IF(COUNT(AD39:AM39)<>10,NA(),ASTM(AE39,3)-ASTM(AE38,3)))","v":""},{"$f":"IF(ISBLANK(AD39),\"\",IF(COUNT(AD39:AM39)<>10,NA(),ASTM(CD39*ASTM(AF39,2),1)))","v":""},{"$f":"IF(ISBLANK(AD39),\"\",IF(COUNT(AD39:AM39)<>10,NA(),ASTM(ASTM($AK$46,4)*1000*(CE39/$AZ$13),1)))","v":""},"",{"$f":"IF(ISBLANK(AD39),\"\",IF(COUNT(AD39:AM39)<>10,NA(),CF39/(33705*ASTM(AD39,3))))","v":""},"",{"$f":"IF(ISBLANK(AD39),\"\",ASTM(highwayfuf(CG39)-highwayfuf(CG38),3))","v":""},{"$f":"IF(ISBLANK(AD39),\"\",IF(OR(ISNUMBER(AD39)=FALSE,ISNUMBER(AM39)=FALSE),NA(),IF(ASTM(AI39,0)=0,0,CJ39*ASTM(AM39,0))))","v":""},"",{"$f":"IF(ISBLANK(AD39),\"\",IF(COUNT(AD39:AM39)<>10,NA(),CI39*ASTM(AD39,3)))","v":""},"",{"$f":"IF(ISBLANK(AD39),\"\",IF(COUNT(AD39:AM39)<>10,NA(),CN39*ASTM(AD39,3)))","v":""},"",{"$f":"IF(ISBLANK(AD39),\"\",IF(COUNT(AD39:AM39)<>10,NA(),ASTM(mdiuf(CP39)-mdiuf(CP38),3)))","v":""},{"$f":"IF(ISBLANK(AD39),\"\",IF(COUNT(AD39:AM39)<>10,NA(),IF(ASTM(AI39,0)=0,0,CQ39*ASTM(AI39,0)/(CN39))))","v":""},"",{"$f":"IF(ISBLANK(AD39),\"\",IF(COUNT(AD39:AM39)<>10,NA(),ASTM(highwayfufalt(CP39)-highwayfufalt(CP38),3)))","v":""},"",{"$f":"IF(ISBLANK(AD39),\"\",IF(COUNT(AD39:AM39)<>10,NA(),IF(ASTM(AI39,0)=0,0,CT39*ASTM(AM39,0)/(CN39))))","v":""}]
[null,null,null,null,null,null,null,null,null,null,null,null,null,null,null,null,30,null,null,null,null,null,null,null,null,{"$f":"IF(ISBLANK(R40),\"\",IF(OR($J$6=\"HD 2b/3\",COUNT(R40:W40)<>6,$AA$47<>\"Yes\",$AA$49<>\"Yes\"),NA(),IF(ASTM(W40,0)=0,0,ASTM((51740000*$T$46*$T$47)/((($T$46*U40)+(0.429*V40)+(0.273*W40))*((0.6*$T$47*$T$48)+5471)),1))))","v":""},{"$f":"IF(ISBLANK(R40),\"\",IF(OR(AND($J$6<>\"HD 2b/3\",COUNT(R40:W40)<>6),AND($J$6=\"HD 2b/3\",COUNT(R40)+COUNT(W40)<>2),$AA$47<>\"Yes\",$AA$49<>\"Yes\"),NA(),IF(ASTM(W40,0)=0,0,IF($J$6=\"HD 2b/3\",W40,ASTM((($T$46/0.273)*U40)+(1.571*V40)+W40,0)))))","v":""},null,30,null,null,null,null,null,null,null,null,{"$f":"IF(ISBLANK(AD40),\"\",IF(OR($J$6=\"HD 2b/3\",COUNT(AD40:AI40)<>6,$AM$47<>\"Yes\",$AM$49<>\"Yes\"),NA(),IF(ASTM(AI40,0)=0,0,ASTM((51740000*$AF$46*$AF$47)/((($AF$46*AG40)+(0.429*AH40)+(0.273*AI40))*((0.6*$AF$47*$AF$48)+5471)),1))))","v":""},{"$f":"IF(ISBLANK(AD40),\"\",IF(OR(AND($J$6<>\"HD 2b/3\",COUNT(AD40:AI40)<>6),AND($J$6=\"HD 2b/3\",COUNT(AD40)+COUNT(AI40)<>2),$AM$47<>\"Yes\",$AM$49<>\"Yes\"),NA(),IF(ASTM(AI40,0)=0,0,IF($J$6=\"HD 2b/3\",AI40,ASTM((($AF$46/0.273)*AG40)+(1.571*AH40)+AI40,0)))))","v":""},null,null,null,null,null,null,null,null,null,null,"CD 55/45 Fleet Utility Factor (FUF) for EAER [3]",{"$f":"IF($J$6=\"HD 2b/3\",NA(),ASTM(cityfuf(AY37),3))","v":{"$error":"#VALUE!"}},{"$f":"IF($J$6=\"HD 2b/3\",NA(),ASTM(highwayfuf(AZ37),3))","v":{"$error":"#VALUE!"}},null,null,null,30,{"$f":"IF(ISBLANK(R40),\"\",IF(COUNT(R40:AA40)<>10,NA(),IF(ASTM(W40,0)=0,0,IFERROR(ASTM(R40,3)/ASTM(Z40,1),0))))","v":""},{"$f":"IF(ISBLANK(R40),\"\",IF(COUNT(R40:AA40)<>10,NA(),IF(W40=0,0,ASTM(ASTM(W40,0)*ASTM(R40,3),0))))","v":""},{"$f":"IF(ISBLANK(R40),\"\",IF(COUNT(R40:AA40)<>10,NA(),ASTM(S40,3)-ASTM(S39,3)))","v":""},{"$f":"IF(ISBLANK(R40),\"\",IF(COUNT(R40:AA40)<>10,NA(),ASTM(BG40*ASTM(T40,2),1)))","v":""},{"$f":"IF(ISBLANK(R40),\"\",IF(COUNT(R40:AA40)<>10,NA(),ASTM(ASTM($Y$46,4)*1000*(BH40/$AY$13),1)))","v":""},"",{"$f":"IF(ISBLANK(R40),\"\",IF(COUNT(R40:AA40)<>10,NA(),BI40/(33705*ASTM(R40,3))))","v":""},"",{"$f":"IF(ISBLANK(R40),\"\",IFERROR(ASTM(cityfuf(BJ40)-cityfuf(BJ39),3),\"\"))","v":""},{"$f":"IF(ISBLANK(R40),\"\",IF(OR(ISNUMBER(R40)=FALSE,ISNUMBER(AA40)=FALSE),NA(),IF(ASTM(W40,0)=0,0,BM40*ASTM(AA40,0))))","v":""},"",{"$f":"IF(ISBLANK(R40),\"\",IF(COUNT(R40:AA40)<>10,NA(),BL40*ASTM(R40,3)))","v":""},"",{"$f":"IF(ISBLANK(R40),\"\",IF(COUNT(R40:AA40)<>10,NA(),BQ40*ASTM(R40,3)))","v":""},"",{"$f":"IF(ISBLANK(R40),\"\",IF(COUNT(R40:AA40)<>10,NA(),ASTM(mdiuf(BS40),3)-ASTM(mdiuf(BS39),3)))","v":""},{"$f":"IF(ISBLANK(R40),\"\",IF(COUNT(R40:AA40)<>10,NA(),IF(ASTM(W40,0)=0,0,BT40*ASTM(W40,0)/(BQ40))))","v":""},"",{"$f":"IF(ISBLANK(R40),\"\",IF(COUNT(R40:AA40)<>10,NA(),ASTM(cityfufalt(BS40)-cityfufalt(BS39),3)))","v":""},"",{"$f":"IF(ISBLANK(R40),\"\",IF(COUNT(R40:AA40)<>10,NA(),IF(ASTM(W40,0)=0,0,BW40*ASTM(AA40,0)/(BQ40))))","v":""},null,30,{"$f":"IF(ISBLANK(AD40),\"\",IF(COUNT(AD40:AM40)<>10,NA(),IF(ASTM(AI40,0)=0,0,ASTM(AD40,3)/ASTM(AL40,1))))","v":""},{"$f":"IF(ISBLANK(AD40),\"\",IF(COUNT(AD40:AM40)<>10,NA(),IF(ASTM(AI40,0)=0,0,ASTM(ASTM(AI40,0)*ASTM(AD40,3),0))))","v":""},{"$f":"IF(ISBLANK(AD40),\"\",IF(COUNT(AD40:AM40)<>10,NA(),ASTM(AE40,3)-ASTM(AE39,3)))","v":""},{"$f":"IF(ISBLANK(AD40),\"\",IF(COUNT(AD40:AM40)<>10,NA(),ASTM(CD40*ASTM(AF40,2),1)))","v":""},{"$f":"IF(ISBLANK(AD40),\"\",IF(COUNT(AD40:AM40)<>10,NA(),ASTM(ASTM($AK$46,4)*1000*(CE40/$AZ$13),1)))","v":""},"",{"$f":"IF(ISBLANK(AD40),\"\",IF(COUNT(AD40:AM40)<>10,NA(),CF40/(33705*ASTM(AD40,3))))","v":""},"",{"$f":"IF(ISBLANK(AD40),\"\",ASTM(highwayfuf(CG40)-highwayfuf(CG39),3))","v":""},{"$f":"IF(ISBLANK(AD40),\"\",IF(OR(ISNUMBER(AD40)=FALSE,ISNUMBER(AM40)=FALSE),NA(),IF(ASTM(AI40,0)=0,0,CJ40*ASTM(AM40,0))))","v":""},"",{"$f":"IF(ISBLANK(AD40),\"\",IF(COUNT(AD40:AM40)<>10,NA(),CI40*ASTM(AD40,3)))","v":""},"",{"$f":"IF(ISBLANK(AD40),\"\",IF(COUNT(AD40:AM40)<>10,NA(),CN40*ASTM(AD40,3)))","v":""},"",{"$f":"IF(ISBLANK(AD40),\"\",IF(COUNT(AD40:AM40)<>10,NA(),ASTM(mdiuf(CP40)-mdiuf(CP39),3)))","v":""},{"$f":"IF(ISBLANK(AD40),\"\",IF(COUNT(AD40:AM40)<>10,NA(),IF(ASTM(AI40,0)=0,0,CQ40*ASTM(AI40,0)/(CN40))))","v":""},"",{"$f":"IF(ISBLANK(AD40),\"\",IF(COUNT(AD40:AM40)<>10,NA(),ASTM(highwayfufalt(CP40)-highwayfufalt(CP39),3)))","v":""},"",{"$f":"IF(ISBLANK(AD40),\"\",IF(COUNT(AD40:AM40)<>10,NA(),IF(ASTM(AI40,0)=0,0,CT40*ASTM(AM40,0)/(CN40))))","v":""}]
[null,null,"Average Recharge Time of Test Vehicles",null,null,null,null,null,null,null,null,null,null,null,null,null,31,null,null,null,null,null,null,null,null,{"$f":"IF(ISBLANK(R41),\"\",IF(OR($J$6=\"HD 2b/3\",COUNT(R41:W41)<>6,$AA$47<>\"Yes\",$AA$49<>\"Yes\"),NA(),IF(ASTM(W41,0)=0,0,ASTM((51740000*$T$46*$T$47)/((($T$46*U41)+(0.429*V41)+(0.273*W41))*((0.6*$T$47*$T$48)+5471)),1))))","v":""},{"$f":"IF(ISBLANK(R41),\"\",IF(OR(AND($J$6<>\"HD 2b/3\",COUNT(R41:W41)<>6),AND($J$6=\"HD 2b/3\",COUNT(R41)+COUNT(W41)<>2),$AA$47<>\"Yes\",$AA$49<>\"Yes\"),NA(),IF(ASTM(W41,0)=0,0,IF($J$6=\"HD 2b/3\",W41,ASTM((($T$46/0.273)*U41)+(1.571*V41)+W41,0)))))","v":""},null,31,null,null,null,null,null,null,null,null,{"$f":"IF(ISBLANK(AD41),\"\",IF(OR($J$6=\"HD 2b/3\",COUNT(AD41:AI41)<>6,$AM$47<>\"Yes\",$AM$49<>\"Yes\"),NA(),IF(ASTM(AI41,0)=0,0,ASTM((51740000*$AF$46*$AF$47)/((($AF$46*AG41)+(0.429*AH41)+(0.273*AI41))*((0.6*$AF$47*$AF$48)+5471)),1))))","v":""},{"$f":"IF(ISBLANK(AD41),\"\",IF(OR(AND($J$6<>\"HD 2b/3\",COUNT(AD41:AI41)<>6),AND($J$6=\"HD 2b/3\",COUNT(AD41)+COUNT(AI41)<>2),$AM$47<>\"Yes\",$AM$49<>\"Yes\"),NA(),IF(ASTM(AI41,0)=0,0,IF($J$6=\"HD 2b/3\",AI41,ASTM((($AF$46/0.273)*AG41)+(1.571*AH41)+AI41,0)))))","v":""},null,null,null,null,null,null,null,null,null,null,"FUEL COSTS: PROCESS FOR DERIVING A COMPOSITE CD/CS COST PER MILE","CITY","HIGHWAY",null,null,null,31,{"$f":"IF(ISBLANK(R41),\"\",IF(COUNT(R41:AA41)<>10,NA(),IF(ASTM(W41,0)=0,0,IFERROR(ASTM(R41,3)/ASTM(Z41,1),0))))","v":""},{"$f":"IF(ISBLANK(R41),\"\",IF(COUNT(R41:AA41)<>10,NA(),IF(W41=0,0,ASTM(ASTM(W41,0)*ASTM(R41,3),0))))","v":""},{"$f":"IF(ISBLANK(R41),\"\",IF(COUNT(R41:AA41)<>10,NA(),ASTM(S41,3)-ASTM(S40,3)))","v":""},{"$f":"IF(ISBLANK(R41),\"\",IF(COUNT(R41:AA41)<>10,NA(),ASTM(BG41*ASTM(T41,2),1)))","v":""},{"$f":"IF(ISBLANK(R41),\"\",IF(COUNT(R41:AA41)<>10,NA(),ASTM(ASTM($Y$46,4)*1000*(BH41/$AY$13),1)))","v":""},"",{"$f":"IF(ISBLANK(R41),\"\",IF(COUNT(R41:AA41)<>10,NA(),BI41/(33705*ASTM(R41,3))))","v":""},"",{"$f":"IF(ISBLANK(R41),\"\",IFERROR(ASTM(cityfuf(BJ41)-cityfuf(BJ40),3),\"\"))","v":""},{"$f":"IF(ISBLANK(R41),\"\",IF(OR(ISNUMBER(R41)=FALSE,ISNUMBER(AA41)=FALSE),NA(),IF(ASTM(W41,0)=0,0,BM41*ASTM(AA41,0))))","v":""},"",{"$f":"IF(ISBLANK(R41),\"\",IF(COUNT(R41:AA41)<>10,NA(),BL41*ASTM(R41,3)))","v":""},"",{"$f":"IF(ISBLANK(R41),\"\",IF(COUNT(R41:AA41)<>10,NA(),BQ41*ASTM(R41,3)))","v":""},"",{"$f":"IF(ISBLANK(R41),\"\",IF(COUNT(R41:AA41)<>10,NA(),ASTM(mdiuf(BS41),3)-ASTM(mdiuf(BS40),3)))","v":""},{"$f":"IF(ISBLANK(R41),\"\",IF(COUNT(R41:AA41)<>10,NA(),IF(ASTM(W41,0)=0,0,BT41*ASTM(W41,0)/(BQ41))))","v":""},"",{"$f":"IF(ISBLANK(R41),\"\",IF(COUNT(R41:AA41)<>10,NA(),ASTM(cityfufalt(BS41)-cityfufalt(BS40),3)))","v":""},"",{"$f":"IF(ISBLANK(R41),\"\",IF(COUNT(R41:AA41)<>10,NA(),IF(ASTM(W41,0)=0,0,BW41*ASTM(AA41,0)/(BQ41))))","v":""},null,31,{"$f":"IF(ISBLANK(AD41),\"\",IF(COUNT(AD41:AM41)<>10,NA(),IF(ASTM(AI41,0)=0,0,ASTM(AD41,3)/ASTM(AL41,1))))","v":""},{"$f":"IF(ISBLANK(AD41),\"\",IF(COUNT(AD41:AM41)<>10,NA(),IF(ASTM(AI41,0)=0,0,ASTM(ASTM(AI41,0)*ASTM(AD41,3),0))))","v":""},{"$f":"IF(ISBLANK(AD41),\"\",IF(COUNT(AD41:AM41)<>10,NA(),ASTM(AE41,3)-ASTM(AE40,3)))","v":""},{"$f":"IF(ISBLANK(AD41),\"\",IF(COUNT(AD41:AM41)<>10,NA(),ASTM(CD41*ASTM(AF41,2),1)))","v":""},{"$f":"IF(ISBLANK(AD41),\"\",IF(COUNT(AD41:AM41)<>10,NA(),ASTM(ASTM($AK$46,4)*1000*(CE41/$AZ$13),1)))","v":""},"",{"$f":"IF(ISBLANK(AD41),\"\",IF(COUNT(AD41:AM41)<>10,NA(),CF41/(33705*ASTM(AD41,3))))","v":""},"",{"$f":"IF(ISBLANK(AD41),\"\",ASTM(highwayfuf(CG41)-highwayfuf(CG40),3))","v":""},{"$f":"IF(ISBLANK(AD41),\"\",IF(OR(ISNUMBER(AD41)=FALSE,ISNUMBER(AM41)=FALSE),NA(),IF(ASTM(AI41,0)=0,0,CJ41*ASTM(AM41,0))))","v":""},"",{"$f":"IF(ISBLANK(AD41),\"\",IF(COUNT(AD41:AM41)<>10,NA(),CI41*ASTM(AD41,3)))","v":""},"",{"$f":"IF(ISBLANK(AD41),\"\",IF(COUNT(AD41:AM41)<>10,NA(),CN41*ASTM(AD41,3)))","v":""},"",{"$f":"IF(ISBLANK(AD41),\"\",IF(COUNT(AD41:AM41)<>10,NA(),ASTM(mdiuf(CP41)-mdiuf(CP40),3)))","v":""},{"$f":"IF(ISBLANK(AD41),\"\",IF(COUNT(AD41:AM41)<>10,NA(),IF(ASTM(AI41,0)=0,0,CQ41*ASTM(AI41,0)/(CN41))))","v":""},"",{"$f":"IF(ISBLANK(AD41),\"\",IF(COUNT(AD41:AM41)<>10,NA(),ASTM(highwayfufalt(CP41)-highwayfufalt(CP40),3)))","v":""},"",{"$f":"IF(ISBLANK(AD41),\"\",IF(COUNT(AD41:AM41)<>10,NA(),IF(ASTM(AI41,0)=0,0,CT41*ASTM(AM41,0)/(CN41))))","v":""}]
[null,null,null,"CD_UDDS","CD_Hwy",null,null,null,null,null,null,null,null,null,null,null,32,null,null,null,null,null,null,null,null,{"$f":"IF(ISBLANK(R42),\"\",IF(OR($J$6=\"HD 2b/3\",COUNT(R42:W42)<>6,$AA$47<>\"Yes\",$AA$49<>\"Yes\"),NA(),IF(ASTM(W42,0)=0,0,ASTM((51740000*$T$46*$T$47)/((($T$46*U42)+(0.429*V42)+(0.273*W42))*((0.6*$T$47*$T$48)+5471)),1))))","v":""},{"$f":"IF(ISBLANK(R42),\"\",IF(OR(AND($J$6<>\"HD 2b/3\",COUNT(R42:W42)<>6),AND($J$6=\"HD 2b/3\",COUNT(R42)+COUNT(W42)<>2),$AA$47<>\"Yes\",$AA$49<>\"Yes\"),NA(),IF(ASTM(W42,0)=0,0,IF($J$6=\"HD 2b/3\",W42,ASTM((($T$46/0.273)*U42)+(1.571*V42)+W42,0)))))","v":""},null,32,null,null,null,null,null,null,null,null,{"$f":"IF(ISBLANK(AD42),\"\",IF(OR($J$6=\"HD 2b/3\",COUNT(AD42:AI42)<>6,$AM$47<>\"Yes\",$AM$49<>\"Yes\"),NA(),IF(ASTM(AI42,0)=0,0,ASTM((51740000*$AF$46*$AF$47)/((($AF$46*AG42)+(0.429*AH42)+(0.273*AI42))*((0.6*$AF$47*$AF$48)+5471)),1))))","v":""},{"$f":"IF(ISBLANK(AD42),\"\",IF(OR(AND($J$6<>\"HD 2b/3\",COUNT(AD42:AI42)<>6),AND($J$6=\"HD 2b/3\",COUNT(AD42)+COUNT(AI42)<>2),$AM$47<>\"Yes\",$AM$49<>\"Yes\"),NA(),IF(ASTM(AI42,0)=0,0,IF($J$6=\"HD 2b/3\",AI42,ASTM((($AF$46/0.273)*AG42)+(1.571*AH42)+AI42,0)))))","v":""},null,null,null,null,null,null,null,null,null,null,"CD cost per mile - electricity ($/mi) [3]",{"$f":"IF($J$6=\"HD 2b/3\",NA(),ASTM($F$37*$AY$12/100,3))","v":{"$error":"#VALUE!"}},{"$f":"IF($J$6=\"HD 2b/3\",NA(),ASTM($F$37*$AZ$12/100,3))","v":{"$error":"#VALUE!"}},null,null,null,32,{"$f":"IF(ISBLANK(R42),\"\",IF(COUNT(R42:AA42)<>10,NA(),IF(ASTM(W42,0)=0,0,IFERROR(ASTM(R42,3)/ASTM(Z42,1),0))))","v":""},{"$f":"IF(ISBLANK(R42),\"\",IF(COUNT(R42:AA42)<>10,NA(),IF(W42=0,0,ASTM(ASTM(W42,0)*ASTM(R42,3),0))))","v":""},{"$f":"IF(ISBLANK(R42),\"\",IF(COUNT(R42:AA42)<>10,NA(),ASTM(S42,3)-ASTM(S41,3)))","v":""},{"$f":"IF(ISBLANK(R42),\"\",IF(COUNT(R42:AA42)<>10,NA(),ASTM(BG42*ASTM(T42,2),1)))","v":""},{"$f":"IF(ISBLANK(R42),\"\",IF(COUNT(R42:AA42)<>10,NA(),ASTM(ASTM($Y$46,4)*1000*(BH42/$AY$13),1)))","v":""},"",{"$f":"IF(ISBLANK(R42),\"\",IF(COUNT(R42:AA42)<>10,NA(),BI42/(33705*ASTM(R42,3))))","v":""},"",{"$f":"IF(ISBLANK(R42),\"\",IFERROR(ASTM(cityfuf(BJ42)-cityfuf(BJ41),3),\"\"))","v":""},{"$f":"IF(ISBLANK(R42),\"\",IF(OR(ISNUMBER(R42)=FALSE,ISNUMBER(AA42)=FALSE),NA(),IF(ASTM(W42,0)=0,0,BM42*ASTM(AA42,0))))","v":""},"",{"$f":"IF(ISBLANK(R42),\"\",IF(COUNT(R42:AA42)<>10,NA(),BL42*ASTM(R42,3)))","v":""},"",{"$f":"IF(ISBLANK(R42),\"\",IF(COUNT(R42:AA42)<>10,NA(),BQ42*ASTM(R42,3)))","v":""},"",{"$f":"IF(ISBLANK(R42),\"\",IF(COUNT(R42:AA42)<>10,NA(),ASTM(mdiuf(BS42),3)-ASTM(mdiuf(BS41),3)))","v":""},{"$f":"IF(ISBLANK(R42),\"\",IF(COUNT(R42:AA42)<>10,NA(),IF(ASTM(W42,0)=0,0,BT42*ASTM(W42,0)/(BQ42))))","v":""},"",{"$f":"IF(ISBLANK(R42),\"\",IF(COUNT(R42:AA42)<>10,NA(),ASTM(cityfufalt(BS42)-cityfufalt(BS41),3)))","v":""},"",{"$f":"IF(ISBLANK(R42),\"\",IF(COUNT(R42:AA42)<>10,NA(),IF(ASTM(W42,0)=0,0,BW42*ASTM(AA42,0)/(BQ42))))","v":""},null,32,{"$f":"IF(ISBLANK(AD42),\"\",IF(COUNT(AD42:AM42)<>10,NA(),IF(ASTM(AI42,0)=0,0,ASTM(AD42,3)/ASTM(AL42,1))))","v":""},{"$f":"IF(ISBLANK(AD42),\"\",IF(COUNT(AD42:AM42)<>10,NA(),IF(ASTM(AI42,0)=0,0,ASTM(ASTM(AI42,0)*ASTM(AD42,3),0))))","v":""},{"$f":"IF(ISBLANK(AD42),\"\",IF(COUNT(AD42:AM42)<>10,NA(),ASTM(AE42,3)-ASTM(AE41,3)))","v":""},{"$f":"IF(ISBLANK(AD42),\"\",IF(COUNT(AD42:AM42)<>10,NA(),ASTM(CD42*ASTM(AF42,2),1)))","v":""},{"$f":"IF(ISBLANK(AD42),\"\",IF(COUNT(AD42:AM42)<>10,NA(),ASTM(ASTM($AK$46,4)*1000*(CE42/$AZ$13),1)))","v":""},"",{"$f":"IF(ISBLANK(AD42),\"\",IF(COUNT(AD42:AM42)<>10,NA(),CF42/(33705*ASTM(AD42,3))))","v":""},"",{"$f":"IF(ISBLANK(AD42),\"\",ASTM(highwayfuf(CG42)-highwayfuf(CG41),3))","v":""},{"$f":"IF(ISBLANK(AD42),\"\",IF(OR(ISNUMBER(AD42)=FALSE,ISNUMBER(AM42)=FALSE),NA(),IF(ASTM(AI42,0)=0,0,CJ42*ASTM(AM42,0))))","v":""},"",{"$f":"IF(ISBLANK(AD42),\"\",IF(COUNT(AD42:AM42)<>10,NA(),CI42*ASTM(AD42,3)))","v":""},"",{"$f":"IF(ISBLANK(AD42),\"\",IF(COUNT(AD42:AM42)<>10,NA(),CN42*ASTM(AD42,3)))","v":""},"",{"$f":"IF(ISBLANK(AD42),\"\",IF(COUNT(AD42:AM42)<>10,NA(),ASTM(mdiuf(CP42)-mdiuf(CP41),3)))","v":""},{"$f":"IF(ISBLANK(AD42),\"\",IF(COUNT(AD42:AM42)<>10,NA(),IF(ASTM(AI42,0)=0,0,CQ42*ASTM(AI42,0)/(CN42))))","v":""},"",{"$f":"IF(ISBLANK(AD42),\"\",IF(COUNT(AD42:AM42)<>10,NA(),ASTM(highwayfufalt(CP42)-highwayfufalt(CP41),3)))","v":""},"",{"$f":"IF(ISBLANK(AD42),\"\",IF(COUNT(AD42:AM42)<>10,NA(),IF(ASTM(AI42,0)=0,0,CT42*ASTM(AM42,0)/(CN42))))","v":""}]
[null,null,"Avg of Charge Depleting Tests (Hours)",{"$f":"IF($J$6=\"HD 2b/3\",NA(),IF(COUNT(Y49,Y97,Y145)=0,NA(),ASTM(SUM(Y49,Y97,Y145)/COUNT(Y49,Y97,Y145),2)))","v":{"$error":"#N/A"}},{"$f":"IF($J$6=\"HD 2b/3\",NA(),IF(COUNT(AK49,AK97,AK145)=0,NA(),ASTM(SUM(AK49,AK97,AK145)/COUNT(AK49,AK97,AK145),2)))","v":{"$error":"#N/A"}},null,null,null,null,null,null,null,null,null,null,null,33,null,null,null,null,null,null,null,null,{"$f":"IF(ISBLANK(R43),\"\",IF(OR($J$6=\"HD 2b/3\",COUNT(R43:W43)<>6,$AA$47<>\"Yes\",$AA$49<>\"Yes\"),NA(),IF(ASTM(W43,0)=0,0,ASTM((51740000*$T$46*$T$47)/((($T$46*U43)+(0.429*V43)+(0.273*W43))*((0.6*$T$47*$T$48)+5471)),1))))","v":""},{"$f":"IF(ISBLANK(R43),\"\",IF(OR(AND($J$6<>\"HD 2b/3\",COUNT(R43:W43)<>6),AND($J$6=\"HD 2b/3\",COUNT(R43)+COUNT(W43)<>2),$AA$47<>\"Yes\",$AA$49<>\"Yes\"),NA(),IF(ASTM(W43,0)=0,0,IF($J$6=\"HD 2b/3\",W43,ASTM((($T$46/0.273)*U43)+(1.571*V43)+W43,0)))))","v":""},null,33,null,null,null,null,null,null,null,null,{"$f":"IF(ISBLANK(AD43),\"\",IF(OR($J$6=\"HD 2b/3\",COUNT(AD43:AI43)<>6,$AM$47<>\"Yes\",$AM$49<>\"Yes\"),NA(),IF(ASTM(AI43,0)=0,0,ASTM((51740000*$AF$46*$AF$47)/((($AF$46*AG43)+(0.429*AH43)+(0.273*AI43))*((0.6*$AF$47*$AF$48)+5471)),1))))","v":""},{"$f":"IF(ISBLANK(AD43),\"\",IF(OR(AND($J$6<>\"HD 2b/3\",COUNT(AD43:AI43)<>6),AND($J$6=\"HD 2b/3\",COUNT(AD43)+COUNT(AI43)<>2),$AM$47<>\"Yes\",$AM$49<>\"Yes\"),NA(),IF(ASTM(AI43,0)=0,0,IF($J$6=\"HD 2b/3\",AI43,ASTM((($AF$46/0.273)*AG43)+(1.571*AH43)+AI43,0)))))","v":""},null,null,null,null,null,null,null,null,null,null,"CD cost per mile - gasoline ($/mi) [3]",{"$f":"IF($J$6=\"HD 2b/3\",NA(),ASTM($F$36*((SUMIF(BD11:BD45,\"<=\" & (AY34-1),BE11:BE45) + AY33*SUMIF(BD11:BD45,\"=\" & (AY34-1),BE11:BE45))/AY7),3))","v":{"$error":"#VALUE!"}},{"$f":"IF($J$6=\"HD 2b/3\",NA(),ASTM($F$36*((SUMIF(CA11:CA45,\"<=\" & (AZ34-1),CB11:CB45) + AZ33*SUMIF(CA11:CA45,\"=\" & (AZ34-1),CB11:CB45))/AZ7),3))","v":{"$error":"#VALUE!"}},null,null,null,33,{"$f":"IF(ISBLANK(R43),\"\",IF(COUNT(R43:AA43)<>10,NA(),IF(ASTM(W43,0)=0,0,IFERROR(ASTM(R43,3)/ASTM(Z43,1),0))))","v":""},{"$f":"IF(ISBLANK(R43),\"\",IF(COUNT(R43:AA43)<>10,NA(),IF(W43=0,0,ASTM(ASTM(W43,0)*ASTM(R43,3),0))))","v":""},{"$f":"IF(ISBLANK(R43),\"\",IF(COUNT(R43:AA43)<>10,NA(),ASTM(S43,3)-ASTM(S42,3)))","v":""},{"$f":"IF(ISBLANK(R43),\"\",IF(COUNT(R43:AA43)<>10,NA(),ASTM(BG43*ASTM(T43,2),1)))","v":""},{"$f":"IF(ISBLANK(R43),\"\",IF(COUNT(R43:AA43)<>10,NA(),ASTM(ASTM($Y$46,4)*1000*(BH43/$AY$13),1)))","v":""},"",{"$f":"IF(ISBLANK(R43),\"\",IF(COUNT(R43:AA43)<>10,NA(),BI43/(33705*ASTM(R43,3))))","v":""},"",{"$f":"IF(ISBLANK(R43),\"\",IFERROR(ASTM(cityfuf(BJ43)-cityfuf(BJ42),3),\"\"))","v":""},{"$f":"IF(ISBLANK(R43),\"\",IF(OR(ISNUMBER(R43)=FALSE,ISNUMBER(AA43)=FALSE),NA(),IF(ASTM(W43,0)=0,0,BM43*ASTM(AA43,0))))","v":""},"",{"$f":"IF(ISBLANK(R43),\"\",IF(COUNT(R43:AA43)<>10,NA(),BL43*ASTM(R43,3)))","v":""},"",{"$f":"IF(ISBLANK(R43),\"\",IF(COUNT(R43:AA43)<>10,NA(),BQ43*ASTM(R43,3)))","v":""},"",{"$f":"IF(ISBLANK(R43),\"\",IF(COUNT(R43:AA43)<>10,NA(),ASTM(mdiuf(BS43),3)-ASTM(mdiuf(BS42),3)))","v":""},{"$f":"IF(ISBLANK(R43),\"\",IF(COUNT(R43:AA43)<>10,NA(),IF(ASTM(W43,0)=0,0,BT43*ASTM(W43,0)/(BQ43))))","v":""},"",{"$f":"IF(ISBLANK(R43),\"\",IF(COUNT(R43:AA43)<>10,NA(),ASTM(cityfufalt(BS43)-cityfufalt(BS42),3)))","v":""},"",{"$f":"IF(ISBLANK(R43),\"\",IF(COUNT(R43:AA43)<>10,NA(),IF(ASTM(W43,0)=0,0,BW43*ASTM(AA43,0)/(BQ43))))","v":""},null,33,{"$f":"IF(ISBLANK(AD43),\"\",IF(COUNT(AD43:AM43)<>10,NA(),IF(ASTM(AI43,0)=0,0,ASTM(AD43,3)/ASTM(AL43,1))))","v":""},{"$f":"IF(ISBLANK(AD43),\"\",IF(COUNT(AD43:AM43)<>10,NA(),IF(ASTM(AI43,0)=0,0,ASTM(ASTM(AI43,0)*ASTM(AD43,3),0))))","v":""},{"$f":"IF(ISBLANK(AD43),\"\",IF(COUNT(AD43:AM43)<>10,NA(),ASTM(AE43,3)-ASTM(AE42,3)))","v":""},{"$f":"IF(ISBLANK(AD43),\"\",IF(COUNT(AD43:AM43)<>10,NA(),ASTM(CD43*ASTM(AF43,2),1)))","v":""},{"$f":"IF(ISBLANK(AD43),\"\",IF(COUNT(AD43:AM43)<>10,NA(),ASTM(ASTM($AK$46,4)*1000*(CE43/$AZ$13),1)))","v":""},"",{"$f":"IF(ISBLANK(AD43),\"\",IF(COUNT(AD43:AM43)<>10,NA(),CF43/(33705*ASTM(AD43,3))))","v":""},"",{"$f":"IF(ISBLANK(AD43),\"\",ASTM(highwayfuf(CG43)-highwayfuf(CG42),3))","v":""},{"$f":"IF(ISBLANK(AD43),\"\",IF(OR(ISNUMBER(AD43)=FALSE,ISNUMBER(AM43)=FALSE),NA(),IF(ASTM(AI43,0)=0,0,CJ43*ASTM(AM43,0))))","v":""},"",{"$f":"IF(ISBLANK(AD43),\"\",IF(COUNT(AD43:AM43)<>10,NA(),CI43*ASTM(AD43,3)))","v":""},"",{"$f":"IF(ISBLANK(AD43),\"\",IF(COUNT(AD43:AM43)<>10,NA(),CN43*ASTM(AD43,3)))","v":""},"",{"$f":"IF(ISBLANK(AD43),\"\",IF(COUNT(AD43:AM43)<>10,NA(),ASTM(mdiuf(CP43)-mdiuf(CP42),3)))","v":""},{"$f":"IF(ISBLANK(AD43),\"\",IF(COUNT(AD43:AM43)<>10,NA(),IF(ASTM(AI43,0)=0,0,CQ43*ASTM(AI43,0)/(CN43))))","v":""},"",{"$f":"IF(ISBLANK(AD43),\"\",IF(COUNT(AD43:AM43)<>10,NA(),ASTM(highwayfufalt(CP43)-highwayfufalt(CP42),3)))","v":""},"",{"$f":"IF(ISBLANK(AD43),\"\",IF(COUNT(AD43:AM43)<>10,NA(),IF(ASTM(AI43,0)=0,0,CT43*ASTM(AM43,0)/(CN43))))","v":""}]
[null,null,null,null,null,null,null,null,null,null,null,null,null,null,null,null,34,null,null,null,null,null,null,null,null,{"$f":"IF(ISBLANK(R44),\"\",IF(OR($J$6=\"HD 2b/3\",COUNT(R44:W44)<>6,$AA$47<>\"Yes\",$AA$49<>\"Yes\"),NA(),IF(ASTM(W44,0)=0,0,ASTM((51740000*$T$46*$T$47)/((($T$46*U44)+(0.429*V44)+(0.273*W44))*((0.6*$T$47*$T$48)+5471)),1))))","v":""},{"$f":"IF(ISBLANK(R44),\"\",IF(OR(AND($J$6<>\"HD 2b/3\",COUNT(R44:W44)<>6),AND($J$6=\"HD 2b/3\",COUNT(R44)+COUNT(W44)<>2),$AA$47<>\"Yes\",$AA$49<>\"Yes\"),NA(),IF(ASTM(W44,0)=0,0,IF($J$6=\"HD 2b/3\",W44,ASTM((($T$46/0.273)*U44)+(1.571*V44)+W44,0)))))","v":""},null,34,null,null,null,null,null,null,null,null,{"$f":"IF(ISBLANK(AD44),\"\",IF(OR($J$6=\"HD 2b/3\",COUNT(AD44:AI44)<>6,$AM$47<>\"Yes\",$AM$49<>\"Yes\"),NA(),IF(ASTM(AI44,0)=0,0,ASTM((51740000*$AF$46*$AF$47)/((($AF$46*AG44)+(0.429*AH44)+(0.273*AI44))*((0.6*$AF$47*$AF$48)+5471)),1))))","v":""},{"$f":"IF(ISBLANK(AD44),\"\",IF(OR(AND($J$6<>\"HD 2b/3\",COUNT(AD44:AI44)<>6),AND($J$6=\"HD 2b/3\",COUNT(AD44)+COUNT(AI44)<>2),$AM$47<>\"Yes\",$AM$49<>\"Yes\"),NA(),IF(ASTM(AI44,0)=0,0,IF($J$6=\"HD 2b/3\",AI44,ASTM((($AF$46/0.273)*AG44)+(1.571*AH44)+AI44,0)))))","v":""},null,null,null,null,null,null,null,null,null,null,"CD total cost per mile ($/mi) [3]",{"$f":"IF($J$6=\"HD 2b/3\",NA(),ASTM(AY43+AY42,3))","v":{"$error":"#VALUE!"}},{"$f":"IF($J$6=\"HD 2b/3\",NA(),ASTM(AZ43+AZ42,3))","v":{"$error":"#VALUE!"}},null,null,null,34,{"$f":"IF(ISBLANK(R44),\"\",IF(COUNT(R44:AA44)<>10,NA(),IF(ASTM(W44,0)=0,0,IFERROR(ASTM(R44,3)/ASTM(Z44,1),0))))","v":""},{"$f":"IF(ISBLANK(R44),\"\",IF(COUNT(R44:AA44)<>10,NA(),IF(W44=0,0,ASTM(ASTM(W44,0)*ASTM(R44,3),0))))","v":""},{"$f":"IF(ISBLANK(R44),\"\",IF(COUNT(R44:AA44)<>10,NA(),ASTM(S44,3)-ASTM(S43,3)))","v":""},{"$f":"IF(ISBLANK(R44),\"\",IF(COUNT(R44:AA44)<>10,NA(),ASTM(BG44*ASTM(T44,2),1)))","v":""},{"$f":"IF(ISBLANK(R44),\"\",IF(COUNT(R44:AA44)<>10,NA(),ASTM(ASTM($Y$46,4)*1000*(BH44/$AY$13),1)))","v":""},"",{"$f":"IF(ISBLANK(R44),\"\",IF(COUNT(R44:AA44)<>10,NA(),BI44/(33705*ASTM(R44,3))))","v":""},"",{"$f":"IF(ISBLANK(R44),\"\",IFERROR(ASTM(cityfuf(BJ44)-cityfuf(BJ43),3),\"\"))","v":""},{"$f":"IF(ISBLANK(R44),\"\",IF(OR(ISNUMBER(R44)=FALSE,ISNUMBER(AA44)=FALSE),NA(),IF(ASTM(W44,0)=0,0,BM44*ASTM(AA44,0))))","v":""},"",{"$f":"IF(ISBLANK(R44),\"\",IF(COUNT(R44:AA44)<>10,NA(),BL44*ASTM(R44,3)))","v":""},"",{"$f":"IF(ISBLANK(R44),\"\",IF(COUNT(R44:AA44)<>10,NA(),BQ44*ASTM(R44,3)))","v":""},"",{"$f":"IF(ISBLANK(R44),\"\",IF(COUNT(R44:AA44)<>10,NA(),ASTM(mdiuf(BS44),3)-ASTM(mdiuf(BS43),3)))","v":""},{"$f":"IF(ISBLANK(R44),\"\",IF(COUNT(R44:AA44)<>10,NA(),IF(ASTM(W44,0)=0,0,BT44*ASTM(W44,0)/(BQ44))))","v":""},"",{"$f":"IF(ISBLANK(R44),\"\",IF(COUNT(R44:AA44)<>10,NA(),ASTM(cityfufalt(BS44)-cityfufalt(BS43),3)))","v":""},"",{"$f":"IF(ISBLANK(R44),\"\",IF(COUNT(R44:AA44)<>10,NA(),IF(ASTM(W44,0)=0,0,BW44*ASTM(AA44,0)/(BQ44))))","v":""},null,34,{"$f":"IF(ISBLANK(AD44),\"\",IF(COUNT(AD44:AM44)<>10,NA(),IF(ASTM(AI44,0)=0,0,ASTM(AD44,3)/ASTM(AL44,1))))","v":""},{"$f":"IF(ISBLANK(AD44),\"\",IF(COUNT(AD44:AM44)<>10,NA(),IF(ASTM(AI44,0)=0,0,ASTM(ASTM(AI44,0)*ASTM(AD44,3),0))))","v":""},{"$f":"IF(ISBLANK(AD44),\"\",IF(COUNT(AD44:AM44)<>10,NA(),ASTM(AE44,3)-ASTM(AE43,3)))","v":""},{"$f":"IF(ISBLANK(AD44),\"\",IF(COUNT(AD44:AM44)<>10,NA(),ASTM(CD44*ASTM(AF44,2),1)))","v":""},{"$f":"IF(ISBLANK(AD44),\"\",IF(COUNT(AD44:AM44)<>10,NA(),ASTM(ASTM($AK$46,4)*1000*(CE44/$AZ$13),1)))","v":""},"",{"$f":"IF(ISBLANK(AD44),\"\",IF(COUNT(AD44:AM44)<>10,NA(),CF44/(33705*ASTM(AD44,3))))","v":""},"",{"$f":"IF(ISBLANK(AD44),\"\",ASTM(highwayfuf(CG44)-highwayfuf(CG43),3))","v":""},{"$f":"IF(ISBLANK(AD44),\"\",IF(OR(ISNUMBER(AD44)=FALSE,ISNUMBER(AM44)=FALSE),NA(),IF(ASTM(AI44,0)=0,0,CJ44*ASTM(AM44,0))))","v":""},"",{"$f":"IF(ISBLANK(AD44),\"\",IF(COUNT(AD44:AM44)<>10,NA(),CI44*ASTM(AD44,3)))","v":""},"",{"$f":"IF(ISBLANK(AD44),\"\",IF(COUNT(AD44:AM44)<>10,NA(),CN44*ASTM(AD44,3)))","v":""},"",{"$f":"IF(ISBLANK(AD44),\"\",IF(COUNT(AD44:AM44)<>10,NA(),ASTM(mdiuf(CP44)-mdiuf(CP43),3)))","v":""},{"$f":"IF(ISBLANK(AD44),\"\",IF(COUNT(AD44:AM44)<>10,NA(),IF(ASTM(AI44,0)=0,0,CQ44*ASTM(AI44,0)/(CN44))))","v":""},"",{"$f":"IF(ISBLANK(AD44),\"\",IF(COUNT(AD44:AM44)<>10,NA(),ASTM(highwayfufalt(CP44)-highwayfufalt(CP43),3)))","v":""},"",{"$f":"IF(ISBLANK(AD44),\"\",IF(COUNT(AD44:AM44)<>10,NA(),IF(ASTM(AI44,0)=0,0,CT44*ASTM(AM44,0)/(CN44))))","v":""}]
[null,null,"CD_UDDS/CD_Hwy Weighting","55/45","50/50",null,null,null,null,null,null,null,null,null,null,null,35,null,null,null,null,null,null,null,null,{"$f":"IF(ISBLANK(R45),\"\",IF(OR($J$6=\"HD 2b/3\",COUNT(R45:W45)<>6,$AA$47<>\"Yes\",$AA$49<>\"Yes\"),NA(),IF(ASTM(W45,0)=0,0,ASTM((51740000*$T$46*$T$47)/((($T$46*U45)+(0.429*V45)+(0.273*W45))*((0.6*$T$47*$T$48)+5471)),1))))","v":""},{"$f":"IF(ISBLANK(R45),\"\",IF(OR(AND($J$6<>\"HD 2b/3\",COUNT(R45:W45)<>6),AND($J$6=\"HD 2b/3\",COUNT(R45)+COUNT(W45)<>2),$AA$47<>\"Yes\",$AA$49<>\"Yes\"),NA(),IF(ASTM(W45,0)=0,0,IF($J$6=\"HD 2b/3\",W45,ASTM((($T$46/0.273)*U45)+(1.571*V45)+W45,0)))))","v":""},null,35,null,null,null,null,null,null,null,null,{"$f":"IF(ISBLANK(AD45),\"\",IF(OR($J$6=\"HD 2b/3\",COUNT(AD45:AI45)<>6,$AM$47<>\"Yes\",$AM$49<>\"Yes\"),NA(),IF(ASTM(AI45,0)=0,0,ASTM((51740000*$AF$46*$AF$47)/((($AF$46*AG45)+(0.429*AH45)+(0.273*AI45))*((0.6*$AF$47*$AF$48)+5471)),1))))","v":""},{"$f":"IF(ISBLANK(AD45),\"\",IF(OR(AND($J$6<>\"HD 2b/3\",COUNT(AD45:AI45)<>6),AND($J$6=\"HD 2b/3\",COUNT(AD45)+COUNT(AI45)<>2),$AM$47<>\"Yes\",$AM$49<>\"Yes\"),NA(),IF(ASTM(AI45,0)=0,0,IF($J$6=\"HD 2b/3\",AI45,ASTM((($AF$46/0.273)*AG45)+(1.571*AH45)+AI45,0)))))","v":""},null,null,null,null,null,null,null,null,null,null,"CS cost per mile ($/mi) [3]",{"$f":"IF($J$6=\"HD 2b/3\",NA(),ASTM($F$36/_xlfn.SINGLE(ASTM(N12,4)),3))","v":{"$error":"#VALUE!"}},{"$f":"IF($J$6=\"HD 2b/3\",NA(),ASTM($F$36/_xlfn.SINGLE(ASTM(O12,4)),3))","v":{"$error":"#VALUE!"}},null,null,null,35,{"$f":"IF(ISBLANK(R45),\"\",IF(COUNT(R45:AA45)<>10,NA(),IF(ASTM(W45,0)=0,0,IFERROR(ASTM(R45,3)/ASTM(Z45,1),0))))","v":""},{"$f":"IF(ISBLANK(R45),\"\",IF(COUNT(R45:AA45)<>10,NA(),IF(W45=0,0,ASTM(ASTM(W45,0)*ASTM(R45,3),0))))","v":""},{"$f":"IF(ISBLANK(R45),\"\",IF(COUNT(R45:AA45)<>10,NA(),ASTM(S45,3)-ASTM(S44,3)))","v":""},{"$f":"IF(ISBLANK(R45),\"\",IF(COUNT(R45:AA45)<>10,NA(),ASTM(BG45*ASTM(T45,2),1)))","v":""},{"$f":"IF(ISBLANK(R45),\"\",IF(COUNT(R45:AA45)<>10,NA(),ASTM(ASTM($Y$46,4)*1000*(BH45/$AY$13),1)))","v":""},"",{"$f":"IF(ISBLANK(R45),\"\",IF(COUNT(R45:AA45)<>10,NA(),BI45/(33705*ASTM(R45,3))))","v":""},"",{"$f":"IF(ISBLANK(R45),\"\",IFERROR(ASTM(cityfuf(BJ45)-cityfuf(BJ44),3),\"\"))","v":""},{"$f":"IF(ISBLANK(R45),\"\",IF(OR(ISNUMBER(R45)=FALSE,ISNUMBER(AA45)=FALSE),NA(),IF(ASTM(W45,0)=0,0,BM45*ASTM(AA45,0))))","v":""},"",{"$f":"IF(ISBLANK(R45),\"\",IF(COUNT(R45:AA45)<>10,NA(),BL45*ASTM(R45,3)))","v":""},"",{"$f":"IF(ISBLANK(R45),\"\",IF(COUNT(R45:AA45)<>10,NA(),BQ45*ASTM(R45,3)))","v":""},"",{"$f":"IF(ISBLANK(R45),\"\",IF(COUNT(R45:AA45)<>10,NA(),ASTM(mdiuf(BS45),3)-ASTM(mdiuf(BS44),3)))","v":""},{"$f":"IF(ISBLANK(R45),\"\",IF(COUNT(R45:AA45)<>10,NA(),IF(ASTM(W45,0)=0,0,BT45*ASTM(W45,0)/(BQ45))))","v":""},"",{"$f":"IF(ISBLANK(R45),\"\",IF(COUNT(R45:AA45)<>10,NA(),ASTM(cityfufalt(BS45)-cityfufalt(BS44),3)))","v":""},"",{"$f":"IF(ISBLANK(R45),\"\",IF(COUNT(R45:AA45)<>10,NA(),IF(ASTM(W45,0)=0,0,BW45*ASTM(AA45,0)/(BQ45))))","v":""},null,35,{"$f":"IF(ISBLANK(AD45),\"\",IF(COUNT(AD45:AM45)<>10,NA(),IF(ASTM(AI45,0)=0,0,ASTM(AD45,3)/ASTM(AL45,1))))","v":""},{"$f":"IF(ISBLANK(AD45),\"\",IF(COUNT(AD45:AM45)<>10,NA(),IF(ASTM(AI45,0)=0,0,ASTM(ASTM(AI45,0)*ASTM(AD45,3),0))))","v":""},{"$f":"IF(ISBLANK(AD45),\"\",IF(COUNT(AD45:AM45)<>10,NA(),ASTM(AE45,3)-ASTM(AE44,3)))","v":""},{"$f":"IF(ISBLANK(AD45),\"\",IF(COUNT(AD45:AM45)<>10,NA(),ASTM(CD45*ASTM(AF45,2),1)))","v":""},{"$f":"IF(ISBLANK(AD45),\"\",IF(COUNT(AD45:AM45)<>10,NA(),ASTM(ASTM($AK$46,4)*1000*(CE45/$AZ$13),1)))","v":""},"",{"$f":"IF(ISBLANK(AD45),\"\",IF(COUNT(AD45:AM45)<>10,NA(),CF45/(33705*ASTM(AD45,3))))","v":""},"",{"$f":"IF(ISBLANK(AD45),\"\",ASTM(highwayfuf(CG45)-highwayfuf(CG44),3))","v":""},{"$f":"IF(ISBLANK(AD45),\"\",IF(OR(ISNUMBER(AD45)=FALSE,ISNUMBER(AM45)=FALSE),NA(),IF(ASTM(AI45,0)=0,0,CJ45*ASTM(AM45,0))))","v":""},"",{"$f":"IF(ISBLANK(AD45),\"\",IF(COUNT(AD45:AM45)<>10,NA(),CI45*ASTM(AD45,3)))","v":""},"",{"$f":"IF(ISBLANK(AD45),\"\",IF(COUNT(AD45:AM45)<>10,NA(),CN45*ASTM(AD45,3)))","v":""},"",{"$f":"IF(ISBLANK(AD45),\"\",IF(COUNT(AD45:AM45)<>10,NA(),ASTM(mdiuf(CP45)-mdiuf(CP44),3)))","v":""},{"$f":"IF(ISBLANK(AD45),\"\",IF(COUNT(AD45:AM45)<>10,NA(),IF(ASTM(AI45,0)=0,0,CQ45*ASTM(AI45,0)/(CN45))))","v":""},"",{"$f":"IF(ISBLANK(AD45),\"\",IF(COUNT(AD45:AM45)<>10,NA(),ASTM(highwayfufalt(CP45)-highwayfufalt(CP44),3)))","v":""},"",{"$f":"IF(ISBLANK(AD45),\"\",IF(COUNT(AD45:AM45)<>10,NA(),IF(ASTM(AI45,0)=0,0,CT45*ASTM(AM45,0)/(CN45))))","v":""}]
[null,null,"Weighted avg of all recharge times (Hours)",{"$f":"IF($J$6=\"HD 2b/3\",NA(),0.55*D43+0.45*E43)","v":{"$error":"#N/A"}},{"$f":"IF($J$6=\"HD 2b/3\",NA(),0.5*D43+0.5*E43)","v":{"$error":"#N/A"}},null,null,null,null,null,null,null,null,null,null,null,null,null,"CWF [3]:",null,null,null,null,"Recharge energy (AC kilowatt-hours) [4]:",null,null,"Fuel?",null,null,null,"CWF [3]:",null,null,null,null,"Recharge energy (AC kilowatt-hours) [4]:",null,null,"Fuel?",null,null,null,null,null,null,null,null,null,null,"Composite CD/CS cost ($/mi) [3]",{"$f":"IF($J$6=\"HD 2b/3\",NA(),ASTM(AY31*AY44+(1-AY31)*AY45,3))","v":{"$error":"#VALUE!"}},{"$f":"IF($J$6=\"HD 2b/3\",NA(),ASTM(AZ31*AZ44+(1-AZ31)*AZ45,3))","v":{"$error":"#VALUE!"}}]
[null,null,null,null,null,null,null,null,null,null,null,null,null,null,null,null,null,null,"SG [3]:",null,null,null,null,"All-Electric Range (Miles) [3]:",null,null,{"$f":"IF(AND(ISNUMBER(T46),ISNUMBER(T47),ISNUMBER(T48),T46>0.5,T46<1,T47>0.5,T47<1,T48>17000,T48<20000),\"Yes\",\"No\")","v":"No"},null,null,null,"SG [3]:",null,null,null,null,"All-Electric Range (Miles) [3]:",null,null,{"$f":"IF(AND(ISNUMBER(AF46),ISNUMBER(AF47),ISNUMBER(AF48),AF46>0.5,AF46<1,AF47>0.5,AF47<1,AF48>17000,AF48<20000),\"Yes\",\"No\")","v":"No"},null,null,null,null,null,null,null,null,null,null,"COMPOSITE CD/CS FUEL ECONOMY AND CO2 VALUES, ADJUSTED","CITY","HIGHWAY"]
[null,"THE FOLLOWING VALUES ARE USED FOR OTHER EPA PUBLICATIONS OR PROGRAMS",null,null,null,null,null,null,null,null,null,null,null,null,null,null,null,null,"NHV [0]:",null,null,null,null,"Transition Cycle [0]:",null,null,"Footer?",null,null,null,"NHV [0]:",null,null,null,null,"Transition Cycle [0]:",null,null,"Footer?",null,null,null,null,null,null,null,null,null,null,"Composite CD/CS CO2, adjusted (g/mi) [1]",{"$f":"IF($J$6=\"HD 2b/3\",NA(),ASTM(IFERROR(AY26+(1-AY32)*N15,#VALUE!),1))","v":0},{"$f":"IF($J$6=\"HD 2b/3\",NA(),ASTM(IFERROR(AZ26+(1-AZ32)*O15,#VALUE!),1))","v":0}]
[null,null,"Trends Report Values","City","Highway",null,null,null,null,null,null,null,null,null,null,null,null,null,null,null,null,null,null,"Recharge time (optional)(Hours) [2]:",null,null,{"$f":"IF(AND(ISNUMBER(Y46),ISNUMBER(Y47),ISNUMBER(Y48),Y46>0,Y47>0,Y48>0,Y48<35),\"Yes\",\"No\")","v":"No"},null,null,null,null,null,null,null,null,"Recharge time (optional)(Hours) [2]:",null,null,{"$f":"IF(AND(ISNUMBER(AK46),ISNUMBER(AK47),ISNUMBER(AK48),AK46>0,AK47>0,AK48>0,AK48<35),\"Yes\",\"No\")","v":"No"},null,null,null,null,null,null,null,null,null,null,"Composite CD/CS Fuel Economy, adjusted (MPG) [4]",{"$f":"IF($J$6=\"HD 2b/3\",NA(),IFERROR(ASTM(IFERROR(1/(AY17+(1-AY32)/N12),#VALUE!),4),0))","v":0},{"$f":"IF($J$6=\"HD 2b/3\",NA(),IFERROR(ASTM(IFERROR(1/(AZ17+(1-AZ32)/O12),#VALUE!),4),0))","v":0}]
[null,null,"Fleet Utility Factor (43/57)",{"$f":"IF($J$6=\"HD 2b/3\",NA(),ASTM(IF($N$7+$N$55+$N$103=0,SUM(IFERROR(AR33,0),IFERROR(AR81,0),IFERROR(AR129,0)) / ((AR33<>0)+(AR81<>0)+(AR129<>0)),($N$7*AR33+$N$55*AR81+$N$103*AR129)/($N$7+$N$55+$N$103)),4))","v":{"$error":"#VALUE!"}},{"$f":"IF($J$6=\"HD 2b/3\",NA(),ASTM(IF($N$7+$N$55+$N$103=0,SUM(IFERROR(AS33,0),IFERROR(AS81,0),IFERROR(AS129,0)) / ((AS33<>0)+(AS81<>0)+(AS129<>0)),($N$7*AS33+$N$55*AS81+$N$103*AS129)/($N$7+$N$55+$N$103)),4))","v":{"$error":"#VALUE!"}}]
[null,null,"Unadjusted Fuel Economy (MPG)",{"$f":"IF($J$6=\"HD 2b/3\",NA(),ASTM(IF($N$7+$N$55+$N$103=0,    ((AR34<>0)+(AR82<>0)+(AR130<>0))/(IFERROR(1/AR34,0)+IFERROR(1/AR82,0)+IFERROR(1/AR130,0)),    ($N$7+$N$55+$N$103) / (IFERROR($N$7/AR34,0)+IFERROR($N$55/AR82,0)+IFERROR($N$103/AR130,0))  ),4))","v":{"$error":"#VALUE!"}},{"$f":"IF($J$6=\"HD 2b/3\",NA(),ASTM(IF($N$7+$N$55+$N$103=0,    ((AS34<>0)+(AS82<>0)+(AS130<>0))/(IFERROR(1/AS34,0)+IFERROR(1/AS82,0)+IFERROR(1/AS130,0)),    ($N$7+$N$55+$N$103) / (IFERROR($N$7/AS34,0)+IFERROR($N$55/AS82,0)+IFERROR($N$103/AS130,0))  ),4))","v":{"$error":"#VALUE!"}},null,null,null,null,null,null,null,"Test Set #2",null,null,null,"Test Set #2",null,null,null,null,null,null,null,null,null,null,null,"Test Set #2",null,null,null,null,null,null,null,null,null,null,null,null,null,"Results from Test Set #2:",{"$f":"N52","v":0},null,null,null,null,"INTERMEDIATE CALCULATIONS AND INPUTS",null,"Test Set #2:",{"$f":"N53","v":0}]
[null,null,"Unadjusted GHG (g/mi)",{"$f":"IF($J$6=\"HD 2b/3\",NA(),ASTM(IFERROR(IF($N$7+$N$55+$N$103=0,SUM(IFERROR(AR35,0),IFERROR(AR83,0),IFERROR(AR131,0)) / ((AR35<>0)+(AR83<>0)+(AR131<>0)),($N$7*AR35+$N$55*AR83+$N$103*AR131)/($N$7+$N$55+$N$103)),\"CREE data error\"),1))","v":{"$error":"#VALUE!"}},{"$f":"IF($J$6=\"HD 2b/3\",NA(),ASTM(IFERROR(IF($N$7+$N$55+$N$103=0,SUM(IFERROR(AS35,0),IFERROR(AS83,0),IFERROR(AS131,0)) / ((AS35<>0)+(AS83<>0)+(AS131<>0)),($N$7*AS35+$N$55*AS83+$N$103*AS131)/($N$7+$N$55+$N$103)),\"CREE data error\"),1))","v":{"$error":"#VALUE!"}},null,null,null," ",null,null,null,null,null,null,null,null,null,null,null,null,null,null,null,null,null,null,null,null,null,null,null,null,null,null,null,null,null,null,null,null,null,"CAFE Values",null,null,null,null,null,"Charge-Depleting (CD) Test Results",null,null,null,null,null,null,"DETAILED CALCULATIONS",null,"UDDS",{"$f":"$AZ51","v":0},null,null,null,null,null,null,null,null,null,null,null,null,null,null,null,null,null,null,null,"DETAILED CALCULATIONS",null,"HFET",{"$f":"AZ51","v":0}]
[null,null,"Adjusted Fuel Economy (MPG)",{"$f":"IF($J$6=\"HD 2b/3\",NA(),ASTM(IF($N$7+$N$55+$N$103=0,    ((AR36<>0)+(AR84<>0)+(AR132<>0))/(IFERROR(1/AR36,0)+IFERROR(1/AR84,0)+IFERROR(1/AR132,0)),    ($N$7+$N$55+$N$103) / (IFERROR($N$7/AR36,0)+IFERROR($N$55/AR84,0)+IFERROR($N$103/AR132,0))  ),4))","v":{"$error":"#VALUE!"}},{"$f":"IF($J$6=\"HD 2b/3\",NA(),ASTM(IF($N$7+$N$55+$N$103=0,    ((AS36<>0)+(AS84<>0)+(AS132<>0))/(IFERROR(1/AS36,0)+IFERROR(1/AS84,0)+IFERROR(1/AS132,0)),    ($N$7+$N$55+$N$103) / (IFERROR($N$7/AS36,0)+IFERROR($N$55/AS84,0)+IFERROR($N$103/AS132,0))  ),4))","v":{"$error":"#VALUE!"}},null,null,null,null,null,null,null,null,null,null,null,"ENTER CHARGE-DEPLETING UDDS (CITY) DATA HERE",null,null,null,null,null,null,null,null,null,null,null,"ENTER CHARGE-DEPLETING HFET (HIGHWAY) DATA HERE",null,null,null,null,null,null,null,null,null,null,null,null,null,"A. PHEV meets dual fuel criteria:","City","Highway","Combined",null,null,null,"DRIVING DISTANCE VALUES","CITY","HIGHWAY",null,null,null,"Cycle No.","Gasoline Consumed","CO2\n[0]","Net Amp-Hours Used Per Cycle [3]","DC Electricity Consumed\n[1]","AC Electricity Consumed\n[1]","Theoretical Cumulative Cycle Distance","Electric Only Fuel Consumption Rate","Total Fuel Consumption Rate (gas + electric)","55/45 City Fleet Utility Factor\n[3]",{"$f":"IF($J$6=\"HD 2b/3\",\"55/45 City FUF\nx\nCREE (CO2)\",\"55/45 City FUF\nx\nCREE\")","v":"55/45 City FUF\nx\nCREE"},"55/45 City FUF\nx\nTotal Consumption","Total Fuel Consumption (gas + electric)","5-Cycle Adjustment","Adjusted Cycle Measured Distance","Adjusted Cycle Theoretical Cumulative Distance","MDIUF\n[3]","MDIUF\nx\nAdjusted CO2","MDIUF\nx\nAdjusted Total Fuel Consumption","43/57 City Fleet Utility Factor\n[3]","43/57 City FUF x\nAdjusted Total Fuel Consumption Rate","43/57 City FUF\nx\nAdjusted CREE",null,"Cycle No.","Gasoline Consumed","CO2\n[0]","Net Amp-Hours Used Per Cycle [3]","DC Electricity Consumed\n[1]","AC Electricity Consumed\n[1]","Theoretical Cumulative Cycle Distance","Electric Only Fuel Consumption Rate","Total Fuel Consumption Rate (gas + electric)","55/45 Highway Fleet Utility Factor\n[3]",{"$f":"IF($J$6=\"HD 2b/3\",\"55/45 City FUF\nx\nCREE (CO2)\",\"55/45 City FUF\nx\nCREE\")","v":"55/45 City FUF\nx\nCREE"},"55/45 Highway FUF\nx\nTotal Consumption","Total Fuel Consumption (gas + electric)","5-Cycle Adjustment","Adjusted Cycle Measured Distance","Adjusted Cycle Theoretical Cumulative Distance","MDIUF\n[3]","MDIUF\nx\nAdjusted CO2","MDIUF\nx\nAdjusted Total Fuel Consumption","43/57 Highway Fleet Utility Factor\n[3]","43/57 Highway FUF x\nAdjusted Total Fuel Consumption Rate","43/57 Highway FUF\nx\nAdjusted CREE"]
[null,null,"Adjusted GHG (g/mi)",{"$f":"IF($J$6=\"HD 2b/3\",NA(),ASTM(IF($N$7+$N$55+$N$103=0,SUM(IFERROR(AR37,0),IFERROR(AR85,0),IFERROR(AR133,0)) / ((AR37<>0)+(AR85<>0)+(AR133<>0)),($N$7*AR37+$N$55*AR85+$N$103*AR133)/($N$7+$N$55+$N$103)),1))","v":{"$error":"#VALUE!"}},{"$f":"IF($J$6=\"HD 2b/3\",NA(),ASTM(IF($N$7+$N$55+$N$103=0,SUM(IFERROR(AS37,0),IFERROR(AS85,0),IFERROR(AS133,0)) / ((AS37<>0)+(AS85<>0)+(AS133<>0)),($N$7*AS37+$N$55*AS85+$N$103*AS133)/($N$7+$N$55+$N$103)),1))","v":{"$error":"#VALUE!"}},null,null,null,null,null,null,null,"Test Set name (e.g., Eco, Power):",null,null,null,"Cycle No.","Cycle/\nPhase\nMeasured\nDistance","Integrated Amp-Hours Electricity Used","Average\nCycle\nVoltage","HC-Total","CO","CO2","Mfr Calc\nFuel\nEconomy","Mfr Calc\nCREE","EPA Calc\n(E0 Gas)\nFuel\nEconomy",{"$f":"IF($J$6=\"HD 2b/3\",\"EPA Calc\n(E0 Gas)\nCREE=CO2\",\"EPA Calc\n(E0 Gas)\nCREE\")","v":"EPA Calc\n(E0 Gas)\nCREE"},null,"Cycle No.","Cycle/\nPhase\nMeasured\nDistance","Integrated Amp-Hours Electricity Used","Average\nCycle\nVoltage","HC-Total","CO","CO2","Mfr Calc\nFuel\nEconomy","Mfr Calc\nCREE","EPA Calc\n(E0 Gas)\nFuel\nEconomy",{"$f":"IF($J$6=\"HD 2b/3\",\"EPA Calc\n(E0 Gas)\nCREE=CO2\",\"EPA Calc\n(E0 Gas)\nCREE\")","v":"EPA Calc\n(E0 Gas)\nCREE"},null,null,null," 1. Default 50/50 Composite MPGe [4]",{"$f":"IF($J$6=\"HD 2b/3\",NA(),IFERROR(ASTM(1/(0.5/((82049)/(AY59/AY85))+0.5/N59),4),0))","v":0},{"$f":"IF($J$6=\"HD 2b/3\",NA(),IFERROR(ASTM(1/(0.5/((82049)/(AZ59/AZ85))+0.5/O59),4),0))","v":0},{"$f":"IF($J$6=\"HD 2b/3\",NA(),IFERROR(ASTM(1/(0.55/AR54+0.45/AS54),4),0))","v":0},null,null,null,"CD driving distance (Rcda), unadjusted (miles) [3]",{"$f":"IF($J$6=\"HD 2b/3\",NA(),IFERROR(ASTM(SUMIF(Q59:Q93,\"<=\" & ($AY82-1),R59:R93) + AY81*VLOOKUP($AY82,Q59:R93,2,FALSE),3),0))","v":0},{"$f":"IF($J$6=\"HD 2b/3\",NA(),IFERROR(ASTM(SUMIF(AC59:AC93,\"<=\" & ($AZ82-1),AD59:AD93) + AZ81*VLOOKUP($AZ82,AC59:AD93,2,FALSE),3),0))","v":0}]
[null,null,"HOV Lane Values","City","Highway","Combined",null,null,null,null,null,null,"Production Volume (projected or actual):",null,null,null,null,null,null,null,null,null,null,null,null,null,null,null,null,null,null,null,null,null,null,null,null,null,null,null,null,null," 2. Optional Utility Factor Composite MPGe [4]",{"$f":"IF($J$6=\"HD 2b/3\",NA(),IFERROR(ASTM(1/(AY88/((82049)/(AY59/AY85))+(1-AY88)/N59), 4),0))","v":0},{"$f":"IF($J$6=\"HD 2b/3\",NA(),IFERROR(ASTM(1/(AZ88/((82049)/(AZ59/AZ85))+(1-AZ88)/O59), 4),0))","v":0},{"$f":"IF($J$6=\"HD 2b/3\",NA(),IFERROR(ASTM(1/(0.55/AR55+0.45/AS55),4),0))","v":0},null,null,null,"CD driving distance (Rcda), adjusted (miles) [3]",{"$f":"IF($J$6=\"HD 2b/3\",NA(),IFERROR(ASTM(SUMIF(BD59:BD93,\"<\"&AY82,BR59:BR93)+AY81*SUMIF(BD59:BD93,\"=\"&AY82,BR59:BR93),3),0))","v":0},{"$f":"IF($J$6=\"HD 2b/3\",NA(),IFERROR(ASTM(SUMIF(CA59:CA93,\"<\"&AZ82,CO59:CO93)+AZ81*SUMIF(CA59:CA93,\"=\"&AZ82,CO59:CO93),3),0))","v":0}]
[null,null,"MDIUF based on unadjusted Rcda",{"$f":"IF($J$6=\"HD 2b/3\",NA(),IF($N$7+$N$55+$N$103=0,SUM(IFERROR(AR30,0),IFERROR(AR78,0),IFERROR(AR126,0)) / ((AR30<>0)+(AR78<>0)+(AR126<>0)),($N$7*AR30+$N$55*AR78+$N$103*AR126)/($N$7+$N$55+$N$103)))","v":{"$error":"#DIV/0!"}},{"$f":"IF($J$6=\"HD 2b/3\",NA(),IF($N$7+$N$55+$N$103=0,SUM(IFERROR(AS30,0),IFERROR(AS78,0),IFERROR(AS126,0)) / ((AS30<>0)+(AS78<>0)+(AS126<>0)),($N$7*AS30+$N$55*AS78+$N$103*AS126)/($N$7+$N$55+$N$103)))","v":{"$error":"#DIV/0!"}},null,null,null,null,null,null,null,null,null,null,null,null,null,null,null,null,null,null,null,null,null,null,null,null,null,null,null,null,null,null,null,null,null,null,null,null,null,"B. PHEV does NOT meet dual fuel criteria:","City","Highway","Combined",null,null,null,"CD all-electric driving distance, unadjusted (miles) [3]",{"$f":"IF($J$6=\"HD 2b/3\",NA(),IF(ISNUMBER(Y95), ASTM(Y95,3), 0))","v":0},{"$f":"IF($J$6=\"HD 2b/3\",NA(),IF(ISNUMBER(AK95), ASTM(AK95,3), 0))","v":0}]
[null,null,"Composite CD/CS Fuel Economy (MPGe)",{"$f":"IF($J$6=\"HD 2b/3\",NA(),IF($N$7+$N$55+$N$103=0,    ((AR31<>0)+(AR79<>0)+(AR127<>0))/(IFERROR(1/AR31,0)+IFERROR(1/AR79,0)+IFERROR(1/AR127,0)),    ($N$7+$N$55+$N$103) / (IFERROR($N$7/AR31,0)+IFERROR($N$55/AR79,0)+IFERROR($N$103/AR127,0))  ))","v":{"$error":"#DIV/0!"}},{"$f":"IF($J$6=\"HD 2b/3\",NA(),IF($N$7+$N$55+$N$103=0,    ((AS31<>0)+(AS79<>0)+(AS127<>0))/(IFERROR(1/AS31,0)+IFERROR(1/AS79,0)+IFERROR(1/AS127,0)),    ($N$7+$N$55+$N$103) / (IFERROR($N$7/AS31,0)+IFERROR($N$55/AS79,0)+IFERROR($N$103/AS127,0))  ))","v":{"$error":"#DIV/0!"}},{"$f":"IF(OR(ISNUMBER(D57)=FALSE,ISNUMBER(E57)=FALSE),NA(),1/(0.55/D57+0.45/E57))","v":{"$error":"#N/A"}},null,null,null,null,null,null,"ENTER CHARGE-SUSTAINING TEST RESULTS HERE",null,null,null,null,null,null,null,null,null,null,null,null,null,null,null,null,null,null,null,null,null,null,null,null,null,null,null,null,null,"  1. Utility Factor Composite MPGe [4]",{"$f":"IF($J$6=\"HD 2b/3\",NA(),IFERROR(ASTM(1/(AY63+(1-AY78)/N59),4),0))","v":0},{"$f":"IF($J$6=\"HD 2b/3\",NA(),IFERROR(ASTM(1/(AZ63+(1-AZ78)/O59),4),0))","v":0},{"$f":"IF($J$6=\"HD 2b/3\",NA(),IFERROR(ASTM(1/(0.55/AR57+0.45/AS57),4),0))","v":0},null,null,null,"CD All-Electric Range, adjusted (mi) [3]",{"$f":"IF($J$6=\"HD 2b/3\",NA(),ASTM( 0.7*AY56, 3))","v":0},{"$f":"IF($J$6=\"HD 2b/3\",NA(),ASTM( 0.7*AZ56, 3))","v":0}]
[null,null,"Fueleconomy.gov Values",null,null,null,null,null,null,null,null,null,null,"City","Highway",null,"No.","Miles [3]","Amp-hrs [3]","Volts [2]","g/mi [3]","g/mi [2]","g/mi [0]","MPG [1]","g/mi [0]","MPG [1]","g/mi [0]",null,"No.","Miles [3]","Amp-hrs [3]","Volts [2]","g/mi [3]","g/mi [2]","g/mi [0]","MPG [1]","g/mi [0]","MPG [1]","g/mi [0]",null,null,null,"GHG Values","City","Highway","Combined",null,null,null,"FUEL CONSUMPTION & ECONOMY VALUES","CITY","HIGHWAY",null,null,null,"No.","gal","grams","Amp-hours","W-hours","W-hours","mi","gal/mi equiv","gal/mi equiv","UF","UF","gal/mi equiv","gal-equiv","%","miles","miles","UF","g/mi","gal/mi equiv","UF","gal/mi equiv","g/mi",null,"No.","gal","grams","Amp-hours","W-hours","W-hours","mi","gal/mi equiv","gal/mi equiv","UF","UF","gal/mi equiv","gal-equiv","%","miles","miles","UF","g/mi","gal-equiv","UF","gal-equiv","g/mi"]
[null,null,"Charge-sustaining Efficiency",null,null,"MPG",null,null,null,null,null,null,"Fuel Economy, Unadjusted (MPG):",null,null,null,1,null,null,null,null,null,null,null,null,{"$f":"IF(ISBLANK(R59),\"\",IF(OR($J$6=\"HD 2b/3\",COUNT(R59:W59)<>6,$AA$95<>\"Yes\",$AA$97<>\"Yes\"),NA(),IF(ASTM(W59,0)=0,0,ASTM((51740000*$T$94*$T$95)/((($T$94*U59)+(0.429*V59)+(0.273*W59))*((0.6*$T$95*$T$96)+5471)),1))))","v":""},{"$f":"IF(ISBLANK(R59),\"\",IF(OR(AND($J$6<>\"HD 2b/3\",COUNT(R59:W59)<>6),AND($J$6=\"HD 2b/3\",COUNT(R59)+COUNT(W59)<>2),$AA$95<>\"Yes\",$AA$97<>\"Yes\"),NA(),IF(ASTM(W59,0)=0,0,IF($J$6=\"HD 2b/3\",W59,ASTM((($T$94/0.273)*U59)+(1.571*V59)+W59,0)))))","v":""},null,1,null,null,null,null,null,null,null,null,{"$f":"IF(ISBLANK(AD59),\"\",IF(OR($J$6=\"HD 2b/3\",COUNT(AD59:AI59)<>6,$AM$47<>\"Yes\",$AM$49<>\"Yes\"),NA(),IF(ASTM(AI59,0)=0,0,ASTM((51740000*$AF$46*$AF$47)/((($AF$46*AG59)+(0.429*AH59)+(0.273*AI59))*((0.6*$AF$47*$AF$48)+5471)),1))))","v":""},{"$f":"IF(ISBLANK(AD59),\"\",IF(OR(AND($J$6<>\"HD 2b/3\",COUNT(AD59:AI59)<>6),AND($J$6=\"HD 2b/3\",COUNT(AD59)+COUNT(AI59)<>2),$AM$95<>\"Yes\",$AM$97<>\"Yes\"),NA(),IF(ASTM(AI59,0)=0,0,IF($J$6=\"HD 2b/3\",AI59,ASTM((($AF$94/0.273)*AG59)+(1.571*AH59)+AI59,0)))))","v":""},null,null,null,"Composite CREE no DF, (g/mi) [1]",{"$f":"IFERROR(_xlfn.SINGLE(IF(OR(SUM(AA59:AA93)=0,N61=0,ISBLANK(N61), LOOKUP(2,1/(AA59:AA93<>\"\"),ROW(AA59:AA93))<LOOKUP(2,1/(R59:R93<>\"\"),ROW(R59:R93))),\"ERROR\",ASTM(AY75+(1-AY78)*N61,1))),0)","v":0},{"$f":"IFERROR(_xlfn.SINGLE(IF(OR(SUM(AM59:AM93)=0,O61=0,ISBLANK(O61), LOOKUP(2,1/(AM59:AM93<>\"\"),ROW(AM59:AM93))<LOOKUP(2,1/(AD59:AD93<>\"\"),ROW(AD59:AD88))),\"ERROR\",ASTM(AZ75+(1-AZ78)*O61,1))),0)","v":0},{"$f":"IF(OR(ISNUMBER(AR59)=FALSE,ISNUMBER(AS59)=FALSE),NA(),ASTM(0.55*AR59+0.45*AS59,1))","v":0},null,null,"NEW","CD AC electricity consumption (Rcdc), unadjusted (Watt-hours) [1]",{"$f":"IF($J$6=\"HD 2b/3\",NA(),ASTM(SUMIF(BD59:BD93,\"<=\" & AY82,BI59:BI93),1))","v":0},{"$f":"IF($J$6=\"HD 2b/3\",NA(),ASTM(SUMIF(CA59:CA93,\"<=\" & AZ82,CF59:CF93),1))","v":0},null,null,null,1,{"$f":"IF(ISBLANK(R59),\"\",IF(COUNT(R59:AA59)<>10,NA(),IF(ASTM(W59,0)=0,0,IFERROR(ASTM(R59,3)/ASTM(Z59,1),0))))","v":""},{"$f":"IF(ISBLANK(R59),\"\",IF(COUNT(R59:AA59)<>10,NA(),IF(W59=0,0,ASTM(ASTM(W59,0)*ASTM(R59,3),0))))","v":""},{"$f":"IF(ISBLANK(R59),\"\",IF(COUNT(R59:AA59)<>10,NA(),ASTM(S59,3)))","v":""},{"$f":"IF(ISBLANK(R59),\"\",IF(COUNT(R59:AA59)<>10,NA(),ASTM(BG59*ASTM(T59,2),1)))","v":""},{"$f":"IF(ISBLANK(R59),\"\",IF(COUNT(R59:AA59)<>10,NA(),ASTM(ASTM($Y$94,4)*1000*(BH59/$AY$61),1)))","v":""},{"$f":"IF(ISBLANK(R59),\"\",BD59*7.45)","v":""},{"$f":"IF(ISBLANK(R59),\"\",IF(COUNT(R59:AA59)<>10,NA(),BI59/(33705*ASTM(R59,3))))","v":""},{"$f":"IF(ISBLANK(R59),\"\",IF(COUNT(R59:AA59)<>10,NA(),BK59+BE59/ASTM(R59,3)))","v":""},{"$f":"IF(ISBLANK(R59),\"\",IFERROR(ASTM(cityfuf(BJ59)-0,3),\"\"))","v":""},{"$f":"IF(ISBLANK(R59),\"\",IF(OR(ISNUMBER(R59)=FALSE,ISNUMBER(AA59)=FALSE),NA(),IF(ASTM(W59,0)=0,0,BM59*ASTM(AA59,0))))","v":""},{"$f":"IF(ISBLANK(R59),\"\",IF(COUNT(R59:AA59)<>10,NA(),BL59*BM59))","v":""},{"$f":"IF(ISBLANK(R59),\"\",IF(COUNT(R59:AA59)<>10,NA(),BL59*ASTM(R59,3)))","v":""},{"$f":"IF(ISBLANK(R59),\"\",IF(COUNT(R59:AA59)<>10,NA(),MAX(1/(0.004091*(1/BL59)+1.1601),0.7)))","v":""},{"$f":"IF(ISBLANK(R59),\"\",IF(COUNT(R59:AA59)<>10,NA(),BQ59*ASTM(R59,3)))","v":""},{"$f":"IF(ISBLANK(R59),\"\",IF(COUNT(R59:AA59)<>10,NA(),BQ59*7.45))","v":""},{"$f":"IF(ISBLANK(R59),\"\",IF(COUNT(R59:AA59)<>10,NA(),ASTM(mdiuf(BS59)-0,3)))","v":""},{"$f":"IF(ISBLANK(R59),\"\",IF(COUNT(R59:AA59)<>10,NA(),IF(ASTM(W59,0)=0,0,BT59*ASTM(W59,0)/(BQ59))))","v":""},{"$f":"IF(ISBLANK(R59),\"\",IF(COUNT(R59:AA59)<>10,NA(),BT59*BL59/BQ59))","v":""},{"$f":"IF(ISBLANK(R59),\"\",IF(COUNT(R59:AA59)<>10,NA(),ASTM(cityfufalt(BS59)-0,3)))","v":""},{"$f":"IF(ISBLANK(R59),\"\",IF(COUNT(R59:AA59)<>10,NA(),BW59*BL59/BQ59))","v":""},{"$f":"IF(ISBLANK(R59),\"\",IF(COUNT(R59:AA59)<>10,NA(),IF(ASTM(W59,0)=0,0,BW59*ASTM(AA59,0)/(BQ59))))","v":""},null,1,{"$f":"IF(ISBLANK(AD59),\"\",IF(COUNT(AD59:AM59)<>10,NA(),IF(ASTM(AI59,0)=0,0,ASTM(AD59,3)/ASTM(AL59,1))))","v":""},{"$f":"IF(ISBLANK(AD59),\"\",IF(COUNT(AD59:AM59)<>10,NA(),IF(ASTM(AI59,0)=0,0,ASTM(ASTM(AI59,0)*ASTM(AD59,3),0))))","v":""},{"$f":"IF(ISBLANK(AD59),\"\",IF(COUNT(AD59:AM59)<>10,NA(),ASTM(AE59,3)))","v":""},{"$f":"IF(ISBLANK(AD59),\"\",IF(COUNT(AD59:AM59)<>10,NA(),ASTM(CD59*ASTM(AF59,2),1)))","v":""},{"$f":"IF(ISBLANK(AD59),\"\",IF(COUNT(AD59:AM59)<>10,NA(),ASTM(ASTM($AK$94,4)*1000*(CE59/$AZ$61),1)))","v":""},{"$f":"IF(ISBLANK(AD59),\"\",CA59*10.3)","v":""},{"$f":"IF(ISBLANK(AD59),\"\",IF(COUNT(AD59:AM59)<>10,NA(),CF59/(33705*ASTM(AD59,3))))","v":""},{"$f":"IF(ISBLANK(AD59),\"\",IF(COUNT(AD59:AM59)<>10,NA(),CH59+CB59/ASTM(AD59,3)))","v":""},{"$f":"IF(ISBLANK(AD59),\"\",ASTM(highwayfuf(CG59)-0,3))","v":""},{"$f":"IF(ISBLANK(AD59),\"\",IF(OR(ISNUMBER(AD59)=FALSE,ISNUMBER(AM59)=FALSE),NA(),IF(ASTM(AI59,0)=0,0,CJ59*ASTM(AM59,0))))","v":""},{"$f":"IF(ISBLANK(AD59),\"\",IF(COUNT(AD59:AM59)<>10,NA(),CI59*CJ59))","v":""},{"$f":"IF(ISBLANK(AD59),\"\",IF(COUNT(AD59:AM59)<>10,NA(),CI59*ASTM(AD59,3)))","v":""},{"$f":"IF(ISBLANK(AD59),\"\",IF(COUNT(AD59:AM59)<>10,NA(),MAX(1/(0.003191*(1/CI59)+1.2945),0.7)))","v":""},{"$f":"IF(ISBLANK(AD59),\"\",IF(COUNT(AD59:AM59)<>10,NA(),CN59*ASTM(AD59,3)))","v":""},{"$f":"IF(ISBLANK(AD59),\"\",IF(COUNT(AD59:AM59)<>10,NA(),CN59*10.3))","v":""},{"$f":"IF(ISBLANK(AD59),\"\",IF(COUNT(AD59:AM59)<>10,NA(),ASTM(mdiuf(CP59)-0,3)))","v":""},{"$f":"IF(ISBLANK(AD59),\"\",IF(COUNT(AD59:AM59)<>10,NA(),IF(ASTM(AI59,0)=0,0,CQ59*ASTM(AI59,0)/(CN59))))","v":""},{"$f":"IF(ISBLANK(AD59),\"\",IF(COUNT(AD59:AM59)<>10,NA(),CQ59*CI59/CN59))","v":""},{"$f":"IF(ISBLANK(AD59),\"\",IF(COUNT(AD59:AM59)<>10,NA(),ASTM(highwayfufalt(CP59)-0,3)))","v":""},{"$f":"IF(ISBLANK(AD59),\"\",IF(COUNT(AD59:AM59)<>10,NA(),CT59*CI59/CN59))","v":""},{"$f":"IF(ISBLANK(AD59),\"\",IF(COUNT(AD59:AM59)<>10,NA(),IF(ASTM(AI59,0)=0,0,CT59*ASTM(AM59,0)/(CN59))))","v":""}]
[null,null,"City Rounded Adjusted FE (Guide) - Conventional Fuel",null,null,{"$f":"IF($J$6=\"HD 2b/3\",NA(),ASTM(IF($N$7+$N$55+$N$103=0,    ((N12<>0)+(N60<>0)+(N108<>0))/(IFERROR(1/N12,0)+IFERROR(1/N60,0)+IFERROR(1/N108,0)),    ($N$7+$N$55+$N$103) / (IFERROR($N$7/N12,0)+IFERROR($N$55/N60,0)+IFERROR($N$103/N108,0))  ),0))","v":{"$error":"#VALUE!"}},null,null,null,null,null,null,{"$f":"IF($J$6=\"HD 2b/3\",NA(),\"Fuel Economy, 5-Cycle Adjusted (MPG):\")","v":"Fuel Economy, 5-Cycle Adjusted (MPG):"},null,null,null,2,null,null,null,null,null,null,null,null,{"$f":"IF(ISBLANK(R60),\"\",IF(OR($J$6=\"HD 2b/3\",COUNT(R60:W60)<>6,$AA$95<>\"Yes\",$AA$97<>\"Yes\"),NA(),IF(ASTM(W60,0)=0,0,ASTM((51740000*$T$94*$T$95)/((($T$94*U60)+(0.429*V60)+(0.273*W60))*((0.6*$T$95*$T$96)+5471)),1))))","v":""},{"$f":"IF(ISBLANK(R60),\"\",IF(OR(AND($J$6<>\"HD 2b/3\",COUNT(R60:W60)<>6),AND($J$6=\"HD 2b/3\",COUNT(R60)+COUNT(W60)<>2),$AA$95<>\"Yes\",$AA$97<>\"Yes\"),NA(),IF(ASTM(W60,0)=0,0,IF($J$6=\"HD 2b/3\",W60,ASTM((($T$94/0.273)*U60)+(1.571*V60)+W60,0)))))","v":""},null,2,null,null,null,null,null,null,null,null,{"$f":"IF(ISBLANK(AD60),\"\",IF(OR($J$6=\"HD 2b/3\",COUNT(AD60:AI60)<>6,$AM$47<>\"Yes\",$AM$49<>\"Yes\"),NA(),IF(ASTM(AI60,0)=0,0,ASTM((51740000*$AF$46*$AF$47)/((($AF$46*AG60)+(0.429*AH60)+(0.273*AI60))*((0.6*$AF$47*$AF$48)+5471)),1))))","v":""},{"$f":"IF(ISBLANK(AD60),\"\",IF(OR(AND($J$6<>\"HD 2b/3\",COUNT(AD60:AI60)<>6),AND($J$6=\"HD 2b/3\",COUNT(AD60)+COUNT(AI60)<>2),$AM$95<>\"Yes\",$AM$97<>\"Yes\"),NA(),IF(ASTM(AI60,0)=0,0,IF($J$6=\"HD 2b/3\",AI60,ASTM((($AF$94/0.273)*AG60)+(1.571*AH60)+AI60,0)))))","v":""},null,null,null,"Composite CREE w/DF, (g/mi) [1]",{"$f":"IF(SUM(AA59:AA93)=0,0,IF(ISBLANK($J$14)=TRUE,\"No DF\",IF($J$13=\"Additive\",ASTM((AY75+(1-AY78)*N61),0)+ASTM($J$14,0),IF($J$13=\"Multiplicative\",ASTM(ASTM((AY75+(1-AY78)*N61),0)*$J$14,0),\"Add/Mult?\"))))","v":0},{"$f":"IF(SUM(AM59:AM93)=0,0,IF(ISBLANK($J$15)=TRUE,\"No DF\",IF($J$13=\"Additive\",ASTM((AZ75+(1-AZ78)*O61),0)+ASTM($J$15,0),IF($J$13=\"Multiplicative\",ASTM(ASTM((AZ75+(1-AZ78)*O61),0)*$J$15,0),\"Add/Mult?\"))))","v":0},{"$f":"IF(OR(ISNUMBER(AR60)=FALSE,ISNUMBER(AS60)=FALSE),NA(),ASTM(0.55*AR60+0.45*AS60,1))","v":0},null,null,null,"CD AC electricity consumption rate (Rcda), adjusted  (kW-hr/100mi) [3]",{"$f":"IF($J$6=\"HD 2b/3\",NA(),IFERROR(ASTM(ASTM(Y94,4)*100/AY55,3),0))","v":0},{"$f":"IF($J$6=\"HD 2b/3\",NA(),IFERROR(ASTM(ASTM(AK94,4)*100/AZ55,3),0))","v":0},null,null,null,2,{"$f":"IF(ISBLANK(R60),\"\",IF(COUNT(R60:AA60)<>10,NA(),IF(ASTM(W60,0)=0,0,IFERROR(ASTM(R60,3)/ASTM(Z60,1),0))))","v":""},{"$f":"IF(ISBLANK(R60),\"\",IF(COUNT(R60:AA60)<>10,NA(),IF(W60=0,0,ASTM(ASTM(W60,0)*ASTM(R60,3),0))))","v":""},{"$f":"IF(ISBLANK(R60),\"\",IF(COUNT(R60:AA60)<>10,NA(),ASTM(S60,3)-ASTM(S59,3)))","v":""},{"$f":"IF(ISBLANK(R60),\"\",IF(COUNT(R60:AA60)<>10,NA(),ASTM(BG60*ASTM(T60,2),1)))","v":""},{"$f":"IF(ISBLANK(R60),\"\",IF(COUNT(R60:AA60)<>10,NA(),ASTM(ASTM($Y$94,4)*1000*(BH60/$AY$61),1)))","v":""},{"$f":"IF(ISBLANK(R60),\"\",BD60*7.45)","v":""},{"$f":"IF(ISBLANK(R60),\"\",IF(COUNT(R60:AA60)<>10,NA(),BI60/(33705*ASTM(R60,3))))","v":""},{"$f":"IF(ISBLANK(R60),\"\",IF(COUNT(R60:AA60)<>10,NA(),BK60+BE60/ASTM(R60,3)))","v":""},{"$f":"IF(ISBLANK(R60),\"\",IFERROR(ASTM(cityfuf(BJ60)-cityfuf(BJ59),3),\"\"))","v":""},{"$f":"IF(ISBLANK(R60),\"\",IF(OR(ISNUMBER(R60)=FALSE,ISNUMBER(AA60)=FALSE),NA(),IF(ASTM(W60,0)=0,0,BM60*ASTM(AA60,0))))","v":""},{"$f":"IF(ISBLANK(R60),\"\",IF(COUNT(R60:AA60)<>10,NA(),BL60*BM60))","v":""},{"$f":"IF(ISBLANK(R60),\"\",IF(COUNT(R60:AA60)<>10,NA(),BL60*ASTM(R60,3)))","v":""},{"$f":"IF(ISBLANK(R60),\"\",IF(COUNT(R60:AA60)<>10,NA(),MAX(1/(0.004091*(1/BL60)+1.1601),0.7)))","v":""},{"$f":"IF(ISBLANK(R60),\"\",IF(COUNT(R60:AA60)<>10,NA(),BQ60*ASTM(R60,3)))","v":""},{"$f":"IF(ISBLANK(R60),\"\",IF(COUNT(R60:AA60)<>10,NA(),BQ60*7.45+BS59))","v":""},{"$f":"IF(ISBLANK(R60),\"\",IF(COUNT(R60:AA60)<>10,NA(),ASTM(mdiuf(BS60),3)-ASTM(mdiuf(BS59),3)))","v":""},{"$f":"IF(ISBLANK(R60),\"\",IF(COUNT(R60:AA60)<>10,NA(),IF(ASTM(W60,0)=0,0,BT60*ASTM(W60,0)/(BQ60))))","v":""},{"$f":"IF(ISBLANK(R60),\"\",IF(COUNT(R60:AA60)<>10,NA(),BT60*BL60/BQ60))","v":""},{"$f":"IF(ISBLANK(R60),\"\",IF(COUNT(R60:AA60)<>10,NA(),ASTM(cityfufalt(BS60)-cityfufalt(BS59),3)))","v":""},{"$f":"IF(ISBLANK(R60),\"\",IF(COUNT(R60:AA60)<>10,NA(),BW60*BL60/BQ60))","v":""},{"$f":"IF(ISBLANK(R60),\"\",IF(COUNT(R60:AA60)<>10,NA(),IF(ASTM(W60,0)=0,0,BW60*ASTM(AA60,0)/(BQ60))))","v":""},null,2,{"$f":"IF(ISBLANK(AD60),\"\",IF(COUNT(AD60:AM60)<>10,NA(),IF(ASTM(AI60,0)=0,0,ASTM(AD60,3)/ASTM(AL60,1))))","v":""},{"$f":"IF(ISBLANK(AD60),\"\",IF(COUNT(AD60:AM60)<>10,NA(),IF(ASTM(AI60,0)=0,0,ASTM(ASTM(AI60,0)*ASTM(AD60,3),0))))","v":""},{"$f":"IF(ISBLANK(AD60),\"\",IF(COUNT(AD60:AM60)<>10,NA(),ASTM(AE60,3)-ASTM(AE59,3)))","v":""},{"$f":"IF(ISBLANK(AD60),\"\",IF(COUNT(AD60:AM60)<>10,NA(),ASTM(CD60*ASTM(AF60,2),1)))","v":""},{"$f":"IF(ISBLANK(AD60),\"\",IF(COUNT(AD60:AM60)<>10,NA(),ASTM(ASTM($AK$94,4)*1000*(CE60/$AZ$61),1)))","v":""},{"$f":"IF(ISBLANK(AD60),\"\",CA60*10.3)","v":""},{"$f":"IF(ISBLANK(AD60),\"\",IF(COUNT(AD60:AM60)<>10,NA(),CF60/(33705*ASTM(AD60,3))))","v":""},"",{"$f":"IF(ISBLANK(AD60),\"\",ASTM(highwayfuf(CG60)-highwayfuf(CG59),3))","v":""},{"$f":"IF(ISBLANK(AD60),\"\",IF(OR(ISNUMBER(AD60)=FALSE,ISNUMBER(AM60)=FALSE),NA(),IF(ASTM(AI60,0)=0,0,CJ60*ASTM(AM60,0))))","v":""},"",{"$f":"IF(ISBLANK(AD60),\"\",IF(COUNT(AD60:AM60)<>10,NA(),CI60*ASTM(AD60,3)))","v":""},"",{"$f":"IF(ISBLANK(AD60),\"\",IF(COUNT(AD60:AM60)<>10,NA(),CN60*ASTM(AD60,3)))","v":""},{"$f":"IF(ISBLANK(AD60),\"\",IF(COUNT(AD60:AM60)<>10,NA(),CN60*10.3+CP59))","v":""},{"$f":"IF(ISBLANK(AD60),\"\",IF(COUNT(AD60:AM60)<>10,NA(),ASTM(mdiuf(CP60)-mdiuf(CP59),3)))","v":""},{"$f":"IF(ISBLANK(AD60),\"\",IF(COUNT(AD60:AM60)<>10,NA(),IF(ASTM(AI60,0)=0,0,CQ60*ASTM(AI60,0)/(CN60))))","v":""},"",{"$f":"IF(ISBLANK(AD60),\"\",IF(COUNT(AD60:AM60)<>10,NA(),ASTM(highwayfufalt(CP60)-highwayfufalt(CP59),3)))","v":""},"",{"$f":"IF(ISBLANK(AD60),\"\",IF(COUNT(AD60:AM60)<>10,NA(),IF(ASTM(AI60,0)=0,0,CT60*ASTM(AM60,0)/(CN60))))","v":""}]
[null,null,"Hwy Rounded Adjusted FE (Guide) - Conventional Fuel",null,null,{"$f":"IF($J$6=\"HD 2b/3\",NA(),ASTM(IF($N$7+$N$55+$N$103=0,    ((O12<>0)+(O60<>0)+(O108<>0))/(IFERROR(1/O12,0)+IFERROR(1/O60,0)+IFERROR(1/O108,0)),    ($N$7+$N$55+$N$103) / (IFERROR($N$7/O12,0)+IFERROR($N$55/O60,0)+IFERROR($N$103/O108,0))  ),0))","v":{"$error":"#VALUE!"}},null,null,null,null,null,null,"CREE (g/mi):",null,null,null,3,null,null,null,null,null,null,null,null,{"$f":"IF(ISBLANK(R61),\"\",IF(OR($J$6=\"HD 2b/3\",COUNT(R61:W61)<>6,$AA$95<>\"Yes\",$AA$97<>\"Yes\"),NA(),IF(ASTM(W61,0)=0,0,ASTM((51740000*$T$94*$T$95)/((($T$94*U61)+(0.429*V61)+(0.273*W61))*((0.6*$T$95*$T$96)+5471)),1))))","v":""},{"$f":"IF(ISBLANK(R61),\"\",IF(OR(AND($J$6<>\"HD 2b/3\",COUNT(R61:W61)<>6),AND($J$6=\"HD 2b/3\",COUNT(R61)+COUNT(W61)<>2),$AA$95<>\"Yes\",$AA$97<>\"Yes\"),NA(),IF(ASTM(W61,0)=0,0,IF($J$6=\"HD 2b/3\",W61,ASTM((($T$94/0.273)*U61)+(1.571*V61)+W61,0)))))","v":""},null,3,null,null,null,null,null,null,null,null,{"$f":"IF(ISBLANK(AD61),\"\",IF(OR($J$6=\"HD 2b/3\",COUNT(AD61:AI61)<>6,$AM$47<>\"Yes\",$AM$49<>\"Yes\"),NA(),IF(ASTM(AI61,0)=0,0,ASTM((51740000*$AF$46*$AF$47)/((($AF$46*AG61)+(0.429*AH61)+(0.273*AI61))*((0.6*$AF$47*$AF$48)+5471)),1))))","v":""},{"$f":"IF(ISBLANK(AD61),\"\",IF(OR(AND($J$6<>\"HD 2b/3\",COUNT(AD61:AI61)<>6),AND($J$6=\"HD 2b/3\",COUNT(AD61)+COUNT(AI61)<>2),$AM$95<>\"Yes\",$AM$97<>\"Yes\"),NA(),IF(ASTM(AI61,0)=0,0,IF($J$6=\"HD 2b/3\",AI61,ASTM((($AF$94/0.273)*AG61)+(1.571*AH61)+AI61,0)))))","v":""},null,null,null,"Label Values (5-Cycle Adjusted)",null,null,null,null,null,null,"CD test total DC energy consumed, unadjusted (Watt-hours) [1]",{"$f":"IF($J$6=\"HD 2b/3\",NA(),ASTM(SUM(BH59:BH93),1))","v":0},{"$f":"IF($J$6=\"HD 2b/3\",NA(),ASTM(SUM(CE59:CE93),1))","v":0},null,null,null,3,{"$f":"IF(ISBLANK(R61),\"\",IF(COUNT(R61:AA61)<>10,NA(),IF(ASTM(W61,0)=0,0,IFERROR(ASTM(R61,3)/ASTM(Z61,1),0))))","v":""},{"$f":"IF(ISBLANK(R61),\"\",IF(COUNT(R61:AA61)<>10,NA(),IF(W61=0,0,ASTM(ASTM(W61,0)*ASTM(R61,3),0))))","v":""},{"$f":"IF(ISBLANK(R61),\"\",IF(COUNT(R61:AA61)<>10,NA(),ASTM(S61,3)-ASTM(S60,3)))","v":""},{"$f":"IF(ISBLANK(R61),\"\",IF(COUNT(R61:AA61)<>10,NA(),ASTM(BG61*ASTM(T61,2),1)))","v":""},{"$f":"IF(ISBLANK(R61),\"\",IF(COUNT(R61:AA61)<>10,NA(),ASTM(ASTM($Y$94,4)*1000*(BH61/$AY$61),1)))","v":""},"",{"$f":"IF(ISBLANK(R61),\"\",IF(COUNT(R61:AA61)<>10,NA(),BI61/(33705*ASTM(R61,3))))","v":""},"",{"$f":"IF(ISBLANK(R61),\"\",IFERROR(ASTM(cityfuf(BJ61)-cityfuf(BJ60),3),\"\"))","v":""},{"$f":"IF(ISBLANK(R61),\"\",IF(OR(ISNUMBER(R61)=FALSE,ISNUMBER(AA61)=FALSE),NA(),IF(ASTM(W61,0)=0,0,BM61*ASTM(AA61,0))))","v":""},"",{"$f":"IF(ISBLANK(R61),\"\",IF(COUNT(R61:AA61)<>10,NA(),BL61*ASTM(R61,3)))","v":""},"",{"$f":"IF(ISBLANK(R61),\"\",IF(COUNT(R61:AA61)<>10,NA(),BQ61*ASTM(R61,3)))","v":""},{"$f":"IF(ISBLANK(R61),\"\",IF(COUNT(R61:AA61)<>10,NA(),BQ61*7.45+BS60))","v":""},{"$f":"IF(ISBLANK(R61),\"\",IF(COUNT(R61:AA61)<>10,NA(),ASTM(mdiuf(BS61),3)-ASTM(mdiuf(BS60),3)))","v":""},{"$f":"IF(ISBLANK(R61),\"\",IF(COUNT(R61:AA61)<>10,NA(),IF(ASTM(W61,0)=0,0,BT61*ASTM(W61,0)/(BQ61))))","v":""},"",{"$f":"IF(ISBLANK(R61),\"\",IF(COUNT(R61:AA61)<>10,NA(),ASTM(cityfufalt(BS61)-cityfufalt(BS60),3)))","v":""},"",{"$f":"IF(ISBLANK(R61),\"\",IF(COUNT(R61:AA61)<>10,NA(),IF(ASTM(W61,0)=0,0,BW61*ASTM(AA61,0)/(BQ61))))","v":""},null,3,{"$f":"IF(ISBLANK(AD61),\"\",IF(COUNT(AD61:AM61)<>10,NA(),IF(ASTM(AI61,0)=0,0,ASTM(AD61,3)/ASTM(AL61,1))))","v":""},{"$f":"IF(ISBLANK(AD61),\"\",IF(COUNT(AD61:AM61)<>10,NA(),IF(ASTM(AI61,0)=0,0,ASTM(ASTM(AI61,0)*ASTM(AD61,3),0))))","v":""},{"$f":"IF(ISBLANK(AD61),\"\",IF(COUNT(AD61:AM61)<>10,NA(),ASTM(AE61,3)-ASTM(AE60,3)))","v":""},{"$f":"IF(ISBLANK(AD61),\"\",IF(COUNT(AD61:AM61)<>10,NA(),ASTM(CD61*ASTM(AF61,2),1)))","v":""},{"$f":"IF(ISBLANK(AD61),\"\",IF(COUNT(AD61:AM61)<>10,NA(),ASTM(ASTM($AK$94,4)*1000*(CE61/$AZ$61),1)))","v":""},"",{"$f":"IF(ISBLANK(AD61),\"\",IF(COUNT(AD61:AM61)<>10,NA(),CF61/(33705*ASTM(AD61,3))))","v":""},"",{"$f":"IF(ISBLANK(AD61),\"\",ASTM(highwayfuf(CG61)-highwayfuf(CG60),3))","v":""},{"$f":"IF(ISBLANK(AD61),\"\",IF(OR(ISNUMBER(AD61)=FALSE,ISNUMBER(AM61)=FALSE),NA(),IF(ASTM(AI61,0)=0,0,CJ61*ASTM(AM61,0))))","v":""},"",{"$f":"IF(ISBLANK(AD61),\"\",IF(COUNT(AD61:AM61)<>10,NA(),CI61*ASTM(AD61,3)))","v":""},"",{"$f":"IF(ISBLANK(AD61),\"\",IF(COUNT(AD61:AM61)<>10,NA(),CN61*ASTM(AD61,3)))","v":""},"",{"$f":"IF(ISBLANK(AD61),\"\",IF(COUNT(AD61:AM61)<>10,NA(),ASTM(mdiuf(CP61)-mdiuf(CP60),3)))","v":""},{"$f":"IF(ISBLANK(AD61),\"\",IF(COUNT(AD61:AM61)<>10,NA(),IF(ASTM(AI61,0)=0,0,CQ61*ASTM(AI61,0)/(CN61))))","v":""},"",{"$f":"IF(ISBLANK(AD61),\"\",IF(COUNT(AD61:AM61)<>10,NA(),ASTM(highwayfufalt(CP61)-highwayfufalt(CP60),3)))","v":""},"",{"$f":"IF(ISBLANK(AD61),\"\",IF(COUNT(AD61:AM61)<>10,NA(),IF(ASTM(AI61,0)=0,0,CT61*ASTM(AM61,0)/(CN61))))","v":""}]
[null,null,"Combined Rounded Adjusted  FE (Guide) - Conventional Fuel",null,null,{"$f":"IF($J$6=\"HD 2b/3\",NA(),ASTM(1/(0.55/(IF($N$7+$N$55+$N$103=0,    ((N12<>0)+(N60<>0)+(N108<>0))/(IFERROR(1/N12,0)+IFERROR(1/N60,0)+IFERROR(1/N108,0)),    ($N$7+$N$55+$N$103) / (IFERROR($N$7/N12,0)+IFERROR($N$55/N60,0)+IFERROR($N$103/N108,0))  ))+0.45/(IF($N$7+$N$55+$N$103=0,    ((O12<>0)+(O60<>0)+(O108<>0))/(IFERROR(1/O12,0)+IFERROR(1/O60,0)+IFERROR(1/O108,0)),    ($N$7+$N$55+$N$103) / (IFERROR($N$7/O12,0)+IFERROR($N$55/O60,0)+IFERROR($N$103/O108,0))  ))),0))","v":{"$error":"#VALUE!"}},null,null,null,null,null,null,"CO2, Unadjusted (g/mi):",null,null,null,4,null,null,null,null,null,null,null,null,{"$f":"IF(ISBLANK(R62),\"\",IF(OR($J$6=\"HD 2b/3\",COUNT(R62:W62)<>6,$AA$95<>\"Yes\",$AA$97<>\"Yes\"),NA(),IF(ASTM(W62,0)=0,0,ASTM((51740000*$T$94*$T$95)/((($T$94*U62)+(0.429*V62)+(0.273*W62))*((0.6*$T$95*$T$96)+5471)),1))))","v":""},{"$f":"IF(ISBLANK(R62),\"\",IF(OR(AND($J$6<>\"HD 2b/3\",COUNT(R62:W62)<>6),AND($J$6=\"HD 2b/3\",COUNT(R62)+COUNT(W62)<>2),$AA$95<>\"Yes\",$AA$97<>\"Yes\"),NA(),IF(ASTM(W62,0)=0,0,IF($J$6=\"HD 2b/3\",W62,ASTM((($T$94/0.273)*U62)+(1.571*V62)+W62,0)))))","v":""},null,4,null,null,null,null,null,null,null,null,{"$f":"IF(ISBLANK(AD62),\"\",IF(OR($J$6=\"HD 2b/3\",COUNT(AD62:AI62)<>6,$AM$47<>\"Yes\",$AM$49<>\"Yes\"),NA(),IF(ASTM(AI62,0)=0,0,ASTM((51740000*$AF$46*$AF$47)/((($AF$46*AG62)+(0.429*AH62)+(0.273*AI62))*((0.6*$AF$47*$AF$48)+5471)),1))))","v":""},{"$f":"IF(ISBLANK(AD62),\"\",IF(OR(AND($J$6<>\"HD 2b/3\",COUNT(AD62:AI62)<>6),AND($J$6=\"HD 2b/3\",COUNT(AD62)+COUNT(AI62)<>2),$AM$95<>\"Yes\",$AM$97<>\"Yes\"),NA(),IF(ASTM(AI62,0)=0,0,IF($J$6=\"HD 2b/3\",AI62,ASTM((($AF$94/0.273)*AG62)+(1.571*AH62)+AI62,0)))))","v":""},null,null,null,"Charge-Depleting",null,null,"Combined",null,null,"NEW","CD Rcda total fuel consumption (Rcda), unadjusted (gal equiv) [4]",{"$f":"IF($J$6=\"HD 2b/3\",NA(),IFERROR(ASTM(SUMIF(BD59:BD93,\"<=\" & (AY82-1),BP59:BP93) + AY81*SUMIF(BD59:BD93,\"=\" & (AY82-1),BP59:BP93),4),0))","v":0},{"$f":"IF($J$6=\"HD 2b/3\",NA(),IFERROR(ASTM(SUMIF(CA59:CA93,\"<=\" & (AZ82-1),CM59:CM93) + AZ81*SUMIF(CA59:CA93,\"=\" & (AZ82-1),CM59:CM93),4),0))","v":0},null,null,null,4,{"$f":"IF(ISBLANK(R62),\"\",IF(COUNT(R62:AA62)<>10,NA(),IF(ASTM(W62,0)=0,0,IFERROR(ASTM(R62,3)/ASTM(Z62,1),0))))","v":""},{"$f":"IF(ISBLANK(R62),\"\",IF(COUNT(R62:AA62)<>10,NA(),IF(W62=0,0,ASTM(ASTM(W62,0)*ASTM(R62,3),0))))","v":""},{"$f":"IF(ISBLANK(R62),\"\",IF(COUNT(R62:AA62)<>10,NA(),ASTM(S62,3)-ASTM(S61,3)))","v":""},{"$f":"IF(ISBLANK(R62),\"\",IF(COUNT(R62:AA62)<>10,NA(),ASTM(BG62*ASTM(T62,2),1)))","v":""},{"$f":"IF(ISBLANK(R62),\"\",IF(COUNT(R62:AA62)<>10,NA(),ASTM(ASTM($Y$94,4)*1000*(BH62/$AY$61),1)))","v":""},"",{"$f":"IF(ISBLANK(R62),\"\",IF(COUNT(R62:AA62)<>10,NA(),BI62/(33705*ASTM(R62,3))))","v":""},"",{"$f":"IF(ISBLANK(R62),\"\",IFERROR(ASTM(cityfuf(BJ62)-cityfuf(BJ61),3),\"\"))","v":""},{"$f":"IF(ISBLANK(R62),\"\",IF(OR(ISNUMBER(R62)=FALSE,ISNUMBER(AA62)=FALSE),NA(),IF(ASTM(W62,0)=0,0,BM62*ASTM(AA62,0))))","v":""},"",{"$f":"IF(ISBLANK(R62),\"\",IF(COUNT(R62:AA62)<>10,NA(),BL62*ASTM(R62,3)))","v":""},"",{"$f":"IF(ISBLANK(R62),\"\",IF(COUNT(R62:AA62)<>10,NA(),BQ62*ASTM(R62,3)))","v":""},"",{"$f":"IF(ISBLANK(R62),\"\",IF(COUNT(R62:AA62)<>10,NA(),ASTM(mdiuf(BS62),3)-ASTM(mdiuf(BS61),3)))","v":""},{"$f":"IF(ISBLANK(R62),\"\",IF(COUNT(R62:AA62)<>10,NA(),IF(ASTM(W62,0)=0,0,BT62*ASTM(W62,0)/(BQ62))))","v":""},"",{"$f":"IF(ISBLANK(R62),\"\",IF(COUNT(R62:AA62)<>10,NA(),ASTM(cityfufalt(BS62)-cityfufalt(BS61),3)))","v":""},"",{"$f":"IF(ISBLANK(R62),\"\",IF(COUNT(R62:AA62)<>10,NA(),IF(ASTM(W62,0)=0,0,BW62*ASTM(AA62,0)/(BQ62))))","v":""},null,4,{"$f":"IF(ISBLANK(AD62),\"\",IF(COUNT(AD62:AM62)<>10,NA(),IF(ASTM(AI62,0)=0,0,ASTM(AD62,3)/ASTM(AL62,1))))","v":""},{"$f":"IF(ISBLANK(AD62),\"\",IF(COUNT(AD62:AM62)<>10,NA(),IF(ASTM(AI62,0)=0,0,ASTM(ASTM(AI62,0)*ASTM(AD62,3),0))))","v":""},{"$f":"IF(ISBLANK(AD62),\"\",IF(COUNT(AD62:AM62)<>10,NA(),ASTM(AE62,3)-ASTM(AE61,3)))","v":""},{"$f":"IF(ISBLANK(AD62),\"\",IF(COUNT(AD62:AM62)<>10,NA(),ASTM(CD62*ASTM(AF62,2),1)))","v":""},{"$f":"IF(ISBLANK(AD62),\"\",IF(COUNT(AD62:AM62)<>10,NA(),ASTM(ASTM($AK$94,4)*1000*(CE62/$AZ$61),1)))","v":""},"",{"$f":"IF(ISBLANK(AD62),\"\",IF(COUNT(AD62:AM62)<>10,NA(),CF62/(33705*ASTM(AD62,3))))","v":""},"",{"$f":"IF(ISBLANK(AD62),\"\",ASTM(highwayfuf(CG62)-highwayfuf(CG61),3))","v":""},{"$f":"IF(ISBLANK(AD62),\"\",IF(OR(ISNUMBER(AD62)=FALSE,ISNUMBER(AM62)=FALSE),NA(),IF(ASTM(AI62,0)=0,0,CJ62*ASTM(AM62,0))))","v":""},"",{"$f":"IF(ISBLANK(AD62),\"\",IF(COUNT(AD62:AM62)<>10,NA(),CI62*ASTM(AD62,3)))","v":""},"",{"$f":"IF(ISBLANK(AD62),\"\",IF(COUNT(AD62:AM62)<>10,NA(),CN62*ASTM(AD62,3)))","v":""},"",{"$f":"IF(ISBLANK(AD62),\"\",IF(COUNT(AD62:AM62)<>10,NA(),ASTM(mdiuf(CP62)-mdiuf(CP61),3)))","v":""},{"$f":"IF(ISBLANK(AD62),\"\",IF(COUNT(AD62:AM62)<>10,NA(),IF(ASTM(AI62,0)=0,0,CQ62*ASTM(AI62,0)/(CN62))))","v":""},"",{"$f":"IF(ISBLANK(AD62),\"\",IF(COUNT(AD62:AM62)<>10,NA(),ASTM(highwayfufalt(CP62)-highwayfufalt(CP61),3)))","v":""},"",{"$f":"IF(ISBLANK(AD62),\"\",IF(COUNT(AD62:AM62)<>10,NA(),IF(ASTM(AI62,0)=0,0,CT62*ASTM(AM62,0)/(CN62))))","v":""}]
[null,null,"City Unrounded Unadjusted FE - Conventional Fuel",null,null,{"$f":"IF($J$6=\"HD 2b/3\",NA(),ASTM(IF($N$7+$N$55+$N$103=0,    ((N11<>0)+(N59<>0)+(N107<>0))/(IFERROR(1/N11,0)+IFERROR(1/N59,0)+IFERROR(1/N107,0)),    ($N$7+$N$55+$N$103) / (IFERROR($N$7/N11,0)+IFERROR($N$55/N59,0)+IFERROR($N$103/N107,0))  ),1))","v":{"$error":"#VALUE!"}},null,null,null,null,null,null,{"$f":"IF($J$6=\"HD 2b/3\",NA(),\"CO2, 5-Cycle Adjusted (g/mi):\")","v":"CO2, 5-Cycle Adjusted (g/mi):"},null,null,null,5,null,null,null,null,null,null,null,null,{"$f":"IF(ISBLANK(R63),\"\",IF(OR($J$6=\"HD 2b/3\",COUNT(R63:W63)<>6,$AA$95<>\"Yes\",$AA$97<>\"Yes\"),NA(),IF(ASTM(W63,0)=0,0,ASTM((51740000*$T$94*$T$95)/((($T$94*U63)+(0.429*V63)+(0.273*W63))*((0.6*$T$95*$T$96)+5471)),1))))","v":""},{"$f":"IF(ISBLANK(R63),\"\",IF(OR(AND($J$6<>\"HD 2b/3\",COUNT(R63:W63)<>6),AND($J$6=\"HD 2b/3\",COUNT(R63)+COUNT(W63)<>2),$AA$95<>\"Yes\",$AA$97<>\"Yes\"),NA(),IF(ASTM(W63,0)=0,0,IF($J$6=\"HD 2b/3\",W63,ASTM((($T$94/0.273)*U63)+(1.571*V63)+W63,0)))))","v":""},null,5,null,null,null,null,null,null,null,null,{"$f":"IF(ISBLANK(AD63),\"\",IF(OR($J$6=\"HD 2b/3\",COUNT(AD63:AI63)<>6,$AM$47<>\"Yes\",$AM$49<>\"Yes\"),NA(),IF(ASTM(AI63,0)=0,0,ASTM((51740000*$AF$46*$AF$47)/((($AF$46*AG63)+(0.429*AH63)+(0.273*AI63))*((0.6*$AF$47*$AF$48)+5471)),1))))","v":""},{"$f":"IF(ISBLANK(AD63),\"\",IF(OR(AND($J$6<>\"HD 2b/3\",COUNT(AD63:AI63)<>6),AND($J$6=\"HD 2b/3\",COUNT(AD63)+COUNT(AI63)<>2),$AM$95<>\"Yes\",$AM$97<>\"Yes\"),NA(),IF(ASTM(AI63,0)=0,0,IF($J$6=\"HD 2b/3\",AI63,ASTM((($AF$94/0.273)*AG63)+(1.571*AH63)+AI63,0)))))","v":""},null,null,null,"CD range, adjusted (miles) [0]",null,null,{"$f":"IF($J$6=\"HD 2b/3\",NA(),IFERROR(ASTM(0.55*AY55+0.45*AZ55,0),0))","v":0},null,null,null,"CD utilitized total fuel consumption rate (55/45 FUF, Rcdc), unadjusted (gal-equiv/mile) [6]",{"$f":"IF($J$6=\"HD 2b/3\",NA(),ASTM(SUMIF(BD59:BD93,\"<=\" & (AY82),BO59:BO93)*1000000,0)/1000000)","v":0},{"$f":"IF($J$6=\"HD 2b/3\",NA(),ASTM(SUMIF(CA59:CA93,\"<=\" & (AZ82),CL59:CL93)*1000000,0)/1000000)","v":0},null,null,null,5,{"$f":"IF(ISBLANK(R63),\"\",IF(COUNT(R63:AA63)<>10,NA(),IF(ASTM(W63,0)=0,0,IFERROR(ASTM(R63,3)/ASTM(Z63,1),0))))","v":""},{"$f":"IF(ISBLANK(R63),\"\",IF(COUNT(R63:AA63)<>10,NA(),IF(W63=0,0,ASTM(ASTM(W63,0)*ASTM(R63,3),0))))","v":""},{"$f":"IF(ISBLANK(R63),\"\",IF(COUNT(R63:AA63)<>10,NA(),ASTM(S63,3)-ASTM(S62,3)))","v":""},{"$f":"IF(ISBLANK(R63),\"\",IF(COUNT(R63:AA63)<>10,NA(),ASTM(BG63*ASTM(T63,2),1)))","v":""},{"$f":"IF(ISBLANK(R63),\"\",IF(COUNT(R63:AA63)<>10,NA(),ASTM(ASTM($Y$94,4)*1000*(BH63/$AY$61),1)))","v":""},"",{"$f":"IF(ISBLANK(R63),\"\",IF(COUNT(R63:AA63)<>10,NA(),BI63/(33705*ASTM(R63,3))))","v":""},"",{"$f":"IF(ISBLANK(R63),\"\",IFERROR(ASTM(cityfuf(BJ63)-cityfuf(BJ62),3),\"\"))","v":""},{"$f":"IF(ISBLANK(R63),\"\",IF(OR(ISNUMBER(R63)=FALSE,ISNUMBER(AA63)=FALSE),NA(),IF(ASTM(W63,0)=0,0,BM63*ASTM(AA63,0))))","v":""},"",{"$f":"IF(ISBLANK(R63),\"\",IF(COUNT(R63:AA63)<>10,NA(),BL63*ASTM(R63,3)))","v":""},"",{"$f":"IF(ISBLANK(R63),\"\",IF(COUNT(R63:AA63)<>10,NA(),BQ63*ASTM(R63,3)))","v":""},"",{"$f":"IF(ISBLANK(R63),\"\",IF(COUNT(R63:AA63)<>10,NA(),ASTM(mdiuf(BS63),3)-ASTM(mdiuf(BS62),3)))","v":""},{"$f":"IF(ISBLANK(R63),\"\",IF(COUNT(R63:AA63)<>10,NA(),IF(ASTM(W63,0)=0,0,BT63*ASTM(W63,0)/(BQ63))))","v":""},"",{"$f":"IF(ISBLANK(R63),\"\",IF(COUNT(R63:AA63)<>10,NA(),ASTM(cityfufalt(BS63)-cityfufalt(BS62),3)))","v":""},"",{"$f":"IF(ISBLANK(R63),\"\",IF(COUNT(R63:AA63)<>10,NA(),IF(ASTM(W63,0)=0,0,BW63*ASTM(AA63,0)/(BQ63))))","v":""},null,5,{"$f":"IF(ISBLANK(AD63),\"\",IF(COUNT(AD63:AM63)<>10,NA(),IF(ASTM(AI63,0)=0,0,ASTM(AD63,3)/ASTM(AL63,1))))","v":""},{"$f":"IF(ISBLANK(AD63),\"\",IF(COUNT(AD63:AM63)<>10,NA(),IF(ASTM(AI63,0)=0,0,ASTM(ASTM(AI63,0)*ASTM(AD63,3),0))))","v":""},{"$f":"IF(ISBLANK(AD63),\"\",IF(COUNT(AD63:AM63)<>10,NA(),ASTM(AE63,3)-ASTM(AE62,3)))","v":""},{"$f":"IF(ISBLANK(AD63),\"\",IF(COUNT(AD63:AM63)<>10,NA(),ASTM(CD63*ASTM(AF63,2),1)))","v":""},{"$f":"IF(ISBLANK(AD63),\"\",IF(COUNT(AD63:AM63)<>10,NA(),ASTM(ASTM($AK$94,4)*1000*(CE63/$AZ$61),1)))","v":""},"",{"$f":"IF(ISBLANK(AD63),\"\",IF(COUNT(AD63:AM63)<>10,NA(),CF63/(33705*ASTM(AD63,3))))","v":""},"",{"$f":"IF(ISBLANK(AD63),\"\",ASTM(highwayfuf(CG63)-highwayfuf(CG62),3))","v":""},{"$f":"IF(ISBLANK(AD63),\"\",IF(OR(ISNUMBER(AD63)=FALSE,ISNUMBER(AM63)=FALSE),NA(),IF(ASTM(AI63,0)=0,0,CJ63*ASTM(AM63,0))))","v":""},"",{"$f":"IF(ISBLANK(AD63),\"\",IF(COUNT(AD63:AM63)<>10,NA(),CI63*ASTM(AD63,3)))","v":""},"",{"$f":"IF(ISBLANK(AD63),\"\",IF(COUNT(AD63:AM63)<>10,NA(),CN63*ASTM(AD63,3)))","v":""},"",{"$f":"IF(ISBLANK(AD63),\"\",IF(COUNT(AD63:AM63)<>10,NA(),ASTM(mdiuf(CP63)-mdiuf(CP62),3)))","v":""},{"$f":"IF(ISBLANK(AD63),\"\",IF(COUNT(AD63:AM63)<>10,NA(),IF(ASTM(AI63,0)=0,0,CQ63*ASTM(AI63,0)/(CN63))))","v":""},"",{"$f":"IF(ISBLANK(AD63),\"\",IF(COUNT(AD63:AM63)<>10,NA(),ASTM(highwayfufalt(CP63)-highwayfufalt(CP62),3)))","v":""},"",{"$f":"IF(ISBLANK(AD63),\"\",IF(COUNT(AD63:AM63)<>10,NA(),IF(ASTM(AI63,0)=0,0,CT63*ASTM(AM63,0)/(CN63))))","v":""}]
[null,null,"Hwy Unrounded Unadjusted  FE - Conventional Fuel",null,null,{"$f":"IF($J$6=\"HD 2b/3\",NA(),ASTM(IF($N$7+$N$55+$N$103=0,    ((O11<>0)+(O59<>0)+(O107<>0))/(IFERROR(1/O11,0)+IFERROR(1/O59,0)+IFERROR(1/O107,0)),    ($N$7+$N$55+$N$103) / (IFERROR($N$7/O11,0)+IFERROR($N$55/O59,0)+IFERROR($N$103/O107,0))  ),1))","v":{"$error":"#VALUE!"}},null,null,null,null,null,null,null,null,null,null,6,null,null,null,null,null,null,null,null,{"$f":"IF(ISBLANK(R64),\"\",IF(OR($J$6=\"HD 2b/3\",COUNT(R64:W64)<>6,$AA$95<>\"Yes\",$AA$97<>\"Yes\"),NA(),IF(ASTM(W64,0)=0,0,ASTM((51740000*$T$94*$T$95)/((($T$94*U64)+(0.429*V64)+(0.273*W64))*((0.6*$T$95*$T$96)+5471)),1))))","v":""},{"$f":"IF(ISBLANK(R64),\"\",IF(OR(AND($J$6<>\"HD 2b/3\",COUNT(R64:W64)<>6),AND($J$6=\"HD 2b/3\",COUNT(R64)+COUNT(W64)<>2),$AA$95<>\"Yes\",$AA$97<>\"Yes\"),NA(),IF(ASTM(W64,0)=0,0,IF($J$6=\"HD 2b/3\",W64,ASTM((($T$94/0.273)*U64)+(1.571*V64)+W64,0)))))","v":""},null,6,null,null,null,null,null,null,null,null,{"$f":"IF(ISBLANK(AD64),\"\",IF(OR($J$6=\"HD 2b/3\",COUNT(AD64:AI64)<>6,$AM$47<>\"Yes\",$AM$49<>\"Yes\"),NA(),IF(ASTM(AI64,0)=0,0,ASTM((51740000*$AF$46*$AF$47)/((($AF$46*AG64)+(0.429*AH64)+(0.273*AI64))*((0.6*$AF$47*$AF$48)+5471)),1))))","v":""},{"$f":"IF(ISBLANK(AD64),\"\",IF(OR(AND($J$6<>\"HD 2b/3\",COUNT(AD64:AI64)<>6),AND($J$6=\"HD 2b/3\",COUNT(AD64)+COUNT(AI64)<>2),$AM$95<>\"Yes\",$AM$97<>\"Yes\"),NA(),IF(ASTM(AI64,0)=0,0,IF($J$6=\"HD 2b/3\",AI64,ASTM((($AF$94/0.273)*AG64)+(1.571*AH64)+AI64,0)))))","v":""},null,null,null,"CD All-Electric Range, adjusted (mi) [0]",null,null,{"$f":"IF($J$6=\"HD 2b/3\",NA(),IFERROR(ASTM(0.55*AY57+0.45*AZ57,0),0))","v":0},null,null,"NEW","CD utilitized total fuel consumption rate (43/57 FUF, Rcdc), adjusted (gal-equiv/mile) [6]",{"$f":"IF($J$6=\"HD 2b/3\",NA(),ASTM( 1000000*SUMIF(BD59:BD93,\"<=\" & (AY82),BX59:BX93), 0) / 1000000)","v":0},{"$f":"IF($J$6=\"HD 2b/3\",NA(),ASTM( 1000000*SUMIF(CA59:CA93,\"<=\" & (AZ82),CU59:CU93), 0) / 1000000)","v":0},null,null,null,6,{"$f":"IF(ISBLANK(R64),\"\",IF(COUNT(R64:AA64)<>10,NA(),IF(ASTM(W64,0)=0,0,IFERROR(ASTM(R64,3)/ASTM(Z64,1),0))))","v":""},{"$f":"IF(ISBLANK(R64),\"\",IF(COUNT(R64:AA64)<>10,NA(),IF(W64=0,0,ASTM(ASTM(W64,0)*ASTM(R64,3),0))))","v":""},{"$f":"IF(ISBLANK(R64),\"\",IF(COUNT(R64:AA64)<>10,NA(),ASTM(S64,3)-ASTM(S63,3)))","v":""},{"$f":"IF(ISBLANK(R64),\"\",IF(COUNT(R64:AA64)<>10,NA(),ASTM(BG64*ASTM(T64,2),1)))","v":""},{"$f":"IF(ISBLANK(R64),\"\",IF(COUNT(R64:AA64)<>10,NA(),ASTM(ASTM($Y$94,4)*1000*(BH64/$AY$61),1)))","v":""},"",{"$f":"IF(ISBLANK(R64),\"\",IF(COUNT(R64:AA64)<>10,NA(),BI64/(33705*ASTM(R64,3))))","v":""},"",{"$f":"IF(ISBLANK(R64),\"\",IFERROR(ASTM(cityfuf(BJ64)-cityfuf(BJ63),3),\"\"))","v":""},{"$f":"IF(ISBLANK(R64),\"\",IF(OR(ISNUMBER(R64)=FALSE,ISNUMBER(AA64)=FALSE),NA(),IF(ASTM(W64,0)=0,0,BM64*ASTM(AA64,0))))","v":""},"",{"$f":"IF(ISBLANK(R64),\"\",IF(COUNT(R64:AA64)<>10,NA(),BL64*ASTM(R64,3)))","v":""},"",{"$f":"IF(ISBLANK(R64),\"\",IF(COUNT(R64:AA64)<>10,NA(),BQ64*ASTM(R64,3)))","v":""},"",{"$f":"IF(ISBLANK(R64),\"\",IF(COUNT(R64:AA64)<>10,NA(),ASTM(mdiuf(BS64),3)-ASTM(mdiuf(BS63),3)))","v":""},{"$f":"IF(ISBLANK(R64),\"\",IF(COUNT(R64:AA64)<>10,NA(),IF(ASTM(W64,0)=0,0,BT64*ASTM(W64,0)/(BQ64))))","v":""},"",{"$f":"IF(ISBLANK(R64),\"\",IF(COUNT(R64:AA64)<>10,NA(),ASTM(cityfufalt(BS64)-cityfufalt(BS63),3)))","v":""},"",{"$f":"IF(ISBLANK(R64),\"\",IF(COUNT(R64:AA64)<>10,NA(),IF(ASTM(W64,0)=0,0,BW64*ASTM(AA64,0)/(BQ64))))","v":""},null,6,{"$f":"IF(ISBLANK(AD64),\"\",IF(COUNT(AD64:AM64)<>10,NA(),IF(ASTM(AI64,0)=0,0,ASTM(AD64,3)/ASTM(AL64,1))))","v":""},{"$f":"IF(ISBLANK(AD64),\"\",IF(COUNT(AD64:AM64)<>10,NA(),IF(ASTM(AI64,0)=0,0,ASTM(ASTM(AI64,0)*ASTM(AD64,3),0))))","v":""},{"$f":"IF(ISBLANK(AD64),\"\",IF(COUNT(AD64:AM64)<>10,NA(),ASTM(AE64,3)-ASTM(AE63,3)))","v":""},{"$f":"IF(ISBLANK(AD64),\"\",IF(COUNT(AD64:AM64)<>10,NA(),ASTM(CD64*ASTM(AF64,2),1)))","v":""},{"$f":"IF(ISBLANK(AD64),\"\",IF(COUNT(AD64:AM64)<>10,NA(),ASTM(ASTM($AK$94,4)*1000*(CE64/$AZ$61),1)))","v":""},"",{"$f":"IF(ISBLANK(AD64),\"\",IF(COUNT(AD64:AM64)<>10,NA(),CF64/(33705*ASTM(AD64,3))))","v":""},"",{"$f":"IF(ISBLANK(AD64),\"\",ASTM(highwayfuf(CG64)-highwayfuf(CG63),3))","v":""},{"$f":"IF(ISBLANK(AD64),\"\",IF(OR(ISNUMBER(AD64)=FALSE,ISNUMBER(AM64)=FALSE),NA(),IF(ASTM(AI64,0)=0,0,CJ64*ASTM(AM64,0))))","v":""},"",{"$f":"IF(ISBLANK(AD64),\"\",IF(COUNT(AD64:AM64)<>10,NA(),CI64*ASTM(AD64,3)))","v":""},"",{"$f":"IF(ISBLANK(AD64),\"\",IF(COUNT(AD64:AM64)<>10,NA(),CN64*ASTM(AD64,3)))","v":""},"",{"$f":"IF(ISBLANK(AD64),\"\",IF(COUNT(AD64:AM64)<>10,NA(),ASTM(mdiuf(CP64)-mdiuf(CP63),3)))","v":""},{"$f":"IF(ISBLANK(AD64),\"\",IF(COUNT(AD64:AM64)<>10,NA(),IF(ASTM(AI64,0)=0,0,CQ64*ASTM(AI64,0)/(CN64))))","v":""},"",{"$f":"IF(ISBLANK(AD64),\"\",IF(COUNT(AD64:AM64)<>10,NA(),ASTM(highwayfufalt(CP64)-highwayfufalt(CP63),3)))","v":""},"",{"$f":"IF(ISBLANK(AD64),\"\",IF(COUNT(AD64:AM64)<>10,NA(),IF(ASTM(AI64,0)=0,0,CT64*ASTM(AM64,0)/(CN64))))","v":""}]
[null,null,"Combined Unrounded Unadjusted  FE - Conventional Fuel",null,null,{"$f":"IF($J$6=\"HD 2b/3\",NA(),ASTM(1/(0.55/(IF($N$7+$N$55+$N$103=0,    ((N11<>0)+(N59<>0)+(N107<>0))/(IFERROR(1/N11,0)+IFERROR(1/N59,0)+IFERROR(1/N107,0)),    ($N$7+$N$55+$N$103) / (IFERROR($N$7/N11,0)+IFERROR($N$55/N59,0)+IFERROR($N$103/N107,0))  ))+0.45/(IF($N$7+$N$55+$N$103=0,    ((O11<>0)+(O59<>0)+(O107<>0))/(IFERROR(1/O11,0)+IFERROR(1/O59,0)+IFERROR(1/O107,0)),    ($N$7+$N$55+$N$103) / (IFERROR($N$7/O11,0)+IFERROR($N$55/O59,0)+IFERROR($N$103/O107,0))  ))),4))","v":{"$error":"#VALUE!"}},null,null,null,null,null,null,"ENTER CHARGE-DEPLETING AND CHARGE-SUSTAINING TEST NUMBERS HERE",null,null,null,7,null,null,null,null,null,null,null,null,{"$f":"IF(ISBLANK(R65),\"\",IF(OR($J$6=\"HD 2b/3\",COUNT(R65:W65)<>6,$AA$95<>\"Yes\",$AA$97<>\"Yes\"),NA(),IF(ASTM(W65,0)=0,0,ASTM((51740000*$T$94*$T$95)/((($T$94*U65)+(0.429*V65)+(0.273*W65))*((0.6*$T$95*$T$96)+5471)),1))))","v":""},{"$f":"IF(ISBLANK(R65),\"\",IF(OR(AND($J$6<>\"HD 2b/3\",COUNT(R65:W65)<>6),AND($J$6=\"HD 2b/3\",COUNT(R65)+COUNT(W65)<>2),$AA$95<>\"Yes\",$AA$97<>\"Yes\"),NA(),IF(ASTM(W65,0)=0,0,IF($J$6=\"HD 2b/3\",W65,ASTM((($T$94/0.273)*U65)+(1.571*V65)+W65,0)))))","v":""},null,7,null,null,null,null,null,null,null,null,{"$f":"IF(ISBLANK(AD65),\"\",IF(OR($J$6=\"HD 2b/3\",COUNT(AD65:AI65)<>6,$AM$47<>\"Yes\",$AM$49<>\"Yes\"),NA(),IF(ASTM(AI65,0)=0,0,ASTM((51740000*$AF$46*$AF$47)/((($AF$46*AG65)+(0.429*AH65)+(0.273*AI65))*((0.6*$AF$47*$AF$48)+5471)),1))))","v":""},{"$f":"IF(ISBLANK(AD65),\"\",IF(OR(AND($J$6<>\"HD 2b/3\",COUNT(AD65:AI65)<>6),AND($J$6=\"HD 2b/3\",COUNT(AD65)+COUNT(AI65)<>2),$AM$95<>\"Yes\",$AM$97<>\"Yes\"),NA(),IF(ASTM(AI65,0)=0,0,IF($J$6=\"HD 2b/3\",AI65,ASTM((($AF$94/0.273)*AG65)+(1.571*AH65)+AI65,0)))))","v":""},null,null,null,"Total Driving Range (Miles) [0]",null,null,{"$f":"IF($J$6=\"HD 2b/3\",NA(),IFERROR(ASTM(   IFERROR((_xlfn.SINGLE(ASTM(0.55*AY86+0.45*AZ86,0))+AT63),0) / 10,0) *10,0))","v":0},null,null,"NEW","CD utilitized total fuel consumption rate (MDIUF, Rcdc), adjusted (gal-equiv/mile) [6]",{"$f":"IF($J$6=\"HD 2b/3\",NA(),ASTM(SUMIF(BD59:BD93,\"<=\" & (AY82),BV59:BV93)*1000000,0) / 1000000)","v":0},{"$f":"IF($J$6=\"HD 2b/3\",NA(),ASTM(SUMIF(CA59:CA93,\"<=\" & (AZ82),CS59:CS93)*1000000,0) / 1000000)","v":0},null,null,null,7,{"$f":"IF(ISBLANK(R65),\"\",IF(COUNT(R65:AA65)<>10,NA(),IF(ASTM(W65,0)=0,0,IFERROR(ASTM(R65,3)/ASTM(Z65,1),0))))","v":""},{"$f":"IF(ISBLANK(R65),\"\",IF(COUNT(R65:AA65)<>10,NA(),IF(W65=0,0,ASTM(ASTM(W65,0)*ASTM(R65,3),0))))","v":""},{"$f":"IF(ISBLANK(R65),\"\",IF(COUNT(R65:AA65)<>10,NA(),ASTM(S65,3)-ASTM(S64,3)))","v":""},{"$f":"IF(ISBLANK(R65),\"\",IF(COUNT(R65:AA65)<>10,NA(),ASTM(BG65*ASTM(T65,2),1)))","v":""},{"$f":"IF(ISBLANK(R65),\"\",IF(COUNT(R65:AA65)<>10,NA(),ASTM(ASTM($Y$94,4)*1000*(BH65/$AY$61),1)))","v":""},"",{"$f":"IF(ISBLANK(R65),\"\",IF(COUNT(R65:AA65)<>10,NA(),BI65/(33705*ASTM(R65,3))))","v":""},"",{"$f":"IF(ISBLANK(R65),\"\",IFERROR(ASTM(cityfuf(BJ65)-cityfuf(BJ64),3),\"\"))","v":""},{"$f":"IF(ISBLANK(R65),\"\",IF(OR(ISNUMBER(R65)=FALSE,ISNUMBER(AA65)=FALSE),NA(),IF(ASTM(W65,0)=0,0,BM65*ASTM(AA65,0))))","v":""},"",{"$f":"IF(ISBLANK(R65),\"\",IF(COUNT(R65:AA65)<>10,NA(),BL65*ASTM(R65,3)))","v":""},"",{"$f":"IF(ISBLANK(R65),\"\",IF(COUNT(R65:AA65)<>10,NA(),BQ65*ASTM(R65,3)))","v":""},"",{"$f":"IF(ISBLANK(R65),\"\",IF(COUNT(R65:AA65)<>10,NA(),ASTM(mdiuf(BS65),3)-ASTM(mdiuf(BS64),3)))","v":""},{"$f":"IF(ISBLANK(R65),\"\",IF(COUNT(R65:AA65)<>10,NA(),IF(ASTM(W65,0)=0,0,BT65*ASTM(W65,0)/(BQ65))))","v":""},"",{"$f":"IF(ISBLANK(R65),\"\",IF(COUNT(R65:AA65)<>10,NA(),ASTM(cityfufalt(BS65)-cityfufalt(BS64),3)))","v":""},"",{"$f":"IF(ISBLANK(R65),\"\",IF(COUNT(R65:AA65)<>10,NA(),IF(ASTM(W65,0)=0,0,BW65*ASTM(AA65,0)/(BQ65))))","v":""},null,7,{"$f":"IF(ISBLANK(AD65),\"\",IF(COUNT(AD65:AM65)<>10,NA(),IF(ASTM(AI65,0)=0,0,ASTM(AD65,3)/ASTM(AL65,1))))","v":""},{"$f":"IF(ISBLANK(AD65),\"\",IF(COUNT(AD65:AM65)<>10,NA(),IF(ASTM(AI65,0)=0,0,ASTM(ASTM(AI65,0)*ASTM(AD65,3),0))))","v":""},{"$f":"IF(ISBLANK(AD65),\"\",IF(COUNT(AD65:AM65)<>10,NA(),ASTM(AE65,3)-ASTM(AE64,3)))","v":""},{"$f":"IF(ISBLANK(AD65),\"\",IF(COUNT(AD65:AM65)<>10,NA(),ASTM(CD65*ASTM(AF65,2),1)))","v":""},{"$f":"IF(ISBLANK(AD65),\"\",IF(COUNT(AD65:AM65)<>10,NA(),ASTM(ASTM($AK$94,4)*1000*(CE65/$AZ$61),1)))","v":""},"",{"$f":"IF(ISBLANK(AD65),\"\",IF(COUNT(AD65:AM65)<>10,NA(),CF65/(33705*ASTM(AD65,3))))","v":""},"",{"$f":"IF(ISBLANK(AD65),\"\",ASTM(highwayfuf(CG65)-highwayfuf(CG64),3))","v":""},{"$f":"IF(ISBLANK(AD65),\"\",IF(OR(ISNUMBER(AD65)=FALSE,ISNUMBER(AM65)=FALSE),NA(),IF(ASTM(AI65,0)=0,0,CJ65*ASTM(AM65,0))))","v":""},"",{"$f":"IF(ISBLANK(AD65),\"\",IF(COUNT(AD65:AM65)<>10,NA(),CI65*ASTM(AD65,3)))","v":""},"",{"$f":"IF(ISBLANK(AD65),\"\",IF(COUNT(AD65:AM65)<>10,NA(),CN65*ASTM(AD65,3)))","v":""},"",{"$f":"IF(ISBLANK(AD65),\"\",IF(COUNT(AD65:AM65)<>10,NA(),ASTM(mdiuf(CP65)-mdiuf(CP64),3)))","v":""},{"$f":"IF(ISBLANK(AD65),\"\",IF(COUNT(AD65:AM65)<>10,NA(),IF(ASTM(AI65,0)=0,0,CQ65*ASTM(AI65,0)/(CN65))))","v":""},"",{"$f":"IF(ISBLANK(AD65),\"\",IF(COUNT(AD65:AM65)<>10,NA(),ASTM(highwayfufalt(CP65)-highwayfufalt(CP64),3)))","v":""},"",{"$f":"IF(ISBLANK(AD65),\"\",IF(COUNT(AD65:AM65)<>10,NA(),IF(ASTM(AI65,0)=0,0,CT65*ASTM(AM65,0)/(CN65))))","v":""}]
[null,null,"City Unrounded Adjusted FE - Conventional Fuel",null,null,{"$f":"IF($J$6=\"HD 2b/3\",NA(),ASTM(IF($N$7+$N$55+$N$103=0,    ((N12<>0)+(N60<>0)+(N108<>0))/(IFERROR(1/N12,0)+IFERROR(1/N60,0)+IFERROR(1/N108,0)),    ($N$7+$N$55+$N$103) / (IFERROR($N$7/N12,0)+IFERROR($N$55/N60,0)+IFERROR($N$103/N108,0))  ),4))","v":{"$error":"#VALUE!"}},null,null,null,null,null,null,null,"CD_UDDS","CD_Hwy",null,8,null,null,null,null,null,null,null,null,{"$f":"IF(ISBLANK(R66),\"\",IF(OR($J$6=\"HD 2b/3\",COUNT(R66:W66)<>6,$AA$95<>\"Yes\",$AA$97<>\"Yes\"),NA(),IF(ASTM(W66,0)=0,0,ASTM((51740000*$T$94*$T$95)/((($T$94*U66)+(0.429*V66)+(0.273*W66))*((0.6*$T$95*$T$96)+5471)),1))))","v":""},{"$f":"IF(ISBLANK(R66),\"\",IF(OR(AND($J$6<>\"HD 2b/3\",COUNT(R66:W66)<>6),AND($J$6=\"HD 2b/3\",COUNT(R66)+COUNT(W66)<>2),$AA$95<>\"Yes\",$AA$97<>\"Yes\"),NA(),IF(ASTM(W66,0)=0,0,IF($J$6=\"HD 2b/3\",W66,ASTM((($T$94/0.273)*U66)+(1.571*V66)+W66,0)))))","v":""},null,8,null,null,null,null,null,null,null,null,{"$f":"IF(ISBLANK(AD66),\"\",IF(OR($J$6=\"HD 2b/3\",COUNT(AD66:AI66)<>6,$AM$47<>\"Yes\",$AM$49<>\"Yes\"),NA(),IF(ASTM(AI66,0)=0,0,ASTM((51740000*$AF$46*$AF$47)/((($AF$46*AG66)+(0.429*AH66)+(0.273*AI66))*((0.6*$AF$47*$AF$48)+5471)),1))))","v":""},{"$f":"IF(ISBLANK(AD66),\"\",IF(OR(AND($J$6<>\"HD 2b/3\",COUNT(AD66:AI66)<>6),AND($J$6=\"HD 2b/3\",COUNT(AD66)+COUNT(AI66)<>2),$AM$95<>\"Yes\",$AM$97<>\"Yes\"),NA(),IF(ASTM(AI66,0)=0,0,IF($J$6=\"HD 2b/3\",AI66,ASTM((($AF$94/0.273)*AG66)+(1.571*AH66)+AI66,0)))))","v":""},null,null,null,"CD Fuel Economy (MPGe) [0]",null,null,{"$f":"IF($J$6=\"HD 2b/3\",NA(),IFERROR(ASTM(1/(0.55/AY67+0.45/AZ67),0),0))","v":0},null,null,null,"CD gasoline consumption (Rcda), adjusted (gal) [1]",{"$f":"IF($J$6=\"HD 2b/3\",NA(),IFERROR(SUMIF(BD59:BD93,\"<=\" & AY82-1,BE59:BE93)+AY81*SUMIF(BD59:BD93,\"=\" & AY82-1,BE59:BE93),0))","v":0},{"$f":"IF($J$6=\"HD 2b/3\",NA(),IFERROR(SUMIF(CA59:CA93,\"<=\" & AZ82-1,CB59:CB93)+AZ81*SUMIF(CA59:CA93,\"=\" & AZ82-1,CB59:CB93),0))","v":0},null,null,null,8,{"$f":"IF(ISBLANK(R66),\"\",IF(COUNT(R66:AA66)<>10,NA(),IF(ASTM(W66,0)=0,0,IFERROR(ASTM(R66,3)/ASTM(Z66,1),0))))","v":""},{"$f":"IF(ISBLANK(R66),\"\",IF(COUNT(R66:AA66)<>10,NA(),IF(W66=0,0,ASTM(ASTM(W66,0)*ASTM(R66,3),0))))","v":""},{"$f":"IF(ISBLANK(R66),\"\",IF(COUNT(R66:AA66)<>10,NA(),ASTM(S66,3)-ASTM(S65,3)))","v":""},{"$f":"IF(ISBLANK(R66),\"\",IF(COUNT(R66:AA66)<>10,NA(),ASTM(BG66*ASTM(T66,2),1)))","v":""},{"$f":"IF(ISBLANK(R66),\"\",IF(COUNT(R66:AA66)<>10,NA(),ASTM(ASTM($Y$94,4)*1000*(BH66/$AY$61),1)))","v":""},"",{"$f":"IF(ISBLANK(R66),\"\",IF(COUNT(R66:AA66)<>10,NA(),BI66/(33705*ASTM(R66,3))))","v":""},"",{"$f":"IF(ISBLANK(R66),\"\",IFERROR(ASTM(cityfuf(BJ66)-cityfuf(BJ65),3),\"\"))","v":""},{"$f":"IF(ISBLANK(R66),\"\",IF(OR(ISNUMBER(R66)=FALSE,ISNUMBER(AA66)=FALSE),NA(),IF(ASTM(W66,0)=0,0,BM66*ASTM(AA66,0))))","v":""},"",{"$f":"IF(ISBLANK(R66),\"\",IF(COUNT(R66:AA66)<>10,NA(),BL66*ASTM(R66,3)))","v":""},"",{"$f":"IF(ISBLANK(R66),\"\",IF(COUNT(R66:AA66)<>10,NA(),BQ66*ASTM(R66,3)))","v":""},"",{"$f":"IF(ISBLANK(R66),\"\",IF(COUNT(R66:AA66)<>10,NA(),ASTM(mdiuf(BS66),3)-ASTM(mdiuf(BS65),3)))","v":""},{"$f":"IF(ISBLANK(R66),\"\",IF(COUNT(R66:AA66)<>10,NA(),IF(ASTM(W66,0)=0,0,BT66*ASTM(W66,0)/(BQ66))))","v":""},"",{"$f":"IF(ISBLANK(R66),\"\",IF(COUNT(R66:AA66)<>10,NA(),ASTM(cityfufalt(BS66)-cityfufalt(BS65),3)))","v":""},"",{"$f":"IF(ISBLANK(R66),\"\",IF(COUNT(R66:AA66)<>10,NA(),IF(ASTM(W66,0)=0,0,BW66*ASTM(AA66,0)/(BQ66))))","v":""},null,8,{"$f":"IF(ISBLANK(AD66),\"\",IF(COUNT(AD66:AM66)<>10,NA(),IF(ASTM(AI66,0)=0,0,ASTM(AD66,3)/ASTM(AL66,1))))","v":""},{"$f":"IF(ISBLANK(AD66),\"\",IF(COUNT(AD66:AM66)<>10,NA(),IF(ASTM(AI66,0)=0,0,ASTM(ASTM(AI66,0)*ASTM(AD66,3),0))))","v":""},{"$f":"IF(ISBLANK(AD66),\"\",IF(COUNT(AD66:AM66)<>10,NA(),ASTM(AE66,3)-ASTM(AE65,3)))","v":""},{"$f":"IF(ISBLANK(AD66),\"\",IF(COUNT(AD66:AM66)<>10,NA(),ASTM(CD66*ASTM(AF66,2),1)))","v":""},{"$f":"IF(ISBLANK(AD66),\"\",IF(COUNT(AD66:AM66)<>10,NA(),ASTM(ASTM($AK$94,4)*1000*(CE66/$AZ$61),1)))","v":""},"",{"$f":"IF(ISBLANK(AD66),\"\",IF(COUNT(AD66:AM66)<>10,NA(),CF66/(33705*ASTM(AD66,3))))","v":""},"",{"$f":"IF(ISBLANK(AD66),\"\",ASTM(highwayfuf(CG66)-highwayfuf(CG65),3))","v":""},{"$f":"IF(ISBLANK(AD66),\"\",IF(OR(ISNUMBER(AD66)=FALSE,ISNUMBER(AM66)=FALSE),NA(),IF(ASTM(AI66,0)=0,0,CJ66*ASTM(AM66,0))))","v":""},"",{"$f":"IF(ISBLANK(AD66),\"\",IF(COUNT(AD66:AM66)<>10,NA(),CI66*ASTM(AD66,3)))","v":""},"",{"$f":"IF(ISBLANK(AD66),\"\",IF(COUNT(AD66:AM66)<>10,NA(),CN66*ASTM(AD66,3)))","v":""},"",{"$f":"IF(ISBLANK(AD66),\"\",IF(COUNT(AD66:AM66)<>10,NA(),ASTM(mdiuf(CP66)-mdiuf(CP65),3)))","v":""},{"$f":"IF(ISBLANK(AD66),\"\",IF(COUNT(AD66:AM66)<>10,NA(),IF(ASTM(AI66,0)=0,0,CQ66*ASTM(AI66,0)/(CN66))))","v":""},"",{"$f":"IF(ISBLANK(AD66),\"\",IF(COUNT(AD66:AM66)<>10,NA(),ASTM(highwayfufalt(CP66)-highwayfufalt(CP65),3)))","v":""},"",{"$f":"IF(ISBLANK(AD66),\"\",IF(COUNT(AD66:AM66)<>10,NA(),IF(ASTM(AI66,0)=0,0,CT66*ASTM(AM66,0)/(CN66))))","v":""}]
[null,null,"Hwy Unrounded Adjusted FE - Conventional Fuel",null,null,{"$f":"IF($J$6=\"HD 2b/3\",NA(),ASTM(IF($N$7+$N$55+$N$103=0,    ((O12<>0)+(O60<>0)+(O108<>0))/(IFERROR(1/O12,0)+IFERROR(1/O60,0)+IFERROR(1/O108,0)),    ($N$7+$N$55+$N$103) / (IFERROR($N$7/O12,0)+IFERROR($N$55/O60,0)+IFERROR($N$103/O108,0))  ),4))","v":{"$error":"#VALUE!"}},null,null,null,null,null,null,"Charge-Depleting Test Number:",null,null,null,9,null,null,null,null,null,null,null,null,{"$f":"IF(ISBLANK(R67),\"\",IF(OR($J$6=\"HD 2b/3\",COUNT(R67:W67)<>6,$AA$95<>\"Yes\",$AA$97<>\"Yes\"),NA(),IF(ASTM(W67,0)=0,0,ASTM((51740000*$T$94*$T$95)/((($T$94*U67)+(0.429*V67)+(0.273*W67))*((0.6*$T$95*$T$96)+5471)),1))))","v":""},{"$f":"IF(ISBLANK(R67),\"\",IF(OR(AND($J$6<>\"HD 2b/3\",COUNT(R67:W67)<>6),AND($J$6=\"HD 2b/3\",COUNT(R67)+COUNT(W67)<>2),$AA$95<>\"Yes\",$AA$97<>\"Yes\"),NA(),IF(ASTM(W67,0)=0,0,IF($J$6=\"HD 2b/3\",W67,ASTM((($T$94/0.273)*U67)+(1.571*V67)+W67,0)))))","v":""},null,9,null,null,null,null,null,null,null,null,{"$f":"IF(ISBLANK(AD67),\"\",IF(OR($J$6=\"HD 2b/3\",COUNT(AD67:AI67)<>6,$AM$47<>\"Yes\",$AM$49<>\"Yes\"),NA(),IF(ASTM(AI67,0)=0,0,ASTM((51740000*$AF$46*$AF$47)/((($AF$46*AG67)+(0.429*AH67)+(0.273*AI67))*((0.6*$AF$47*$AF$48)+5471)),1))))","v":""},{"$f":"IF(ISBLANK(AD67),\"\",IF(OR(AND($J$6<>\"HD 2b/3\",COUNT(AD67:AI67)<>6),AND($J$6=\"HD 2b/3\",COUNT(AD67)+COUNT(AI67)<>2),$AM$95<>\"Yes\",$AM$97<>\"Yes\"),NA(),IF(ASTM(AI67,0)=0,0,IF($J$6=\"HD 2b/3\",AI67,ASTM((($AF$94/0.273)*AG67)+(1.571*AH67)+AI67,0)))))","v":""},null,null,null,"CD Electricity Consumption  (kW-hr/100mi) [0]",null,null,{"$f":"IF($J$6=\"HD 2b/3\",NA(),IFERROR(ASTM(0.55*AY60+0.45*AZ60,0),0))","v":0},null,null,null,"CD fuel economy (Rcda), adjusted (MPGe) [4]",{"$f":"IF($J$6=\"HD 2b/3\",NA(),IFERROR(ASTM( AY55/ ( SUMIF(BD59:BD93,\"<=\" & (AY82-1),BP59:BP93) + AY81*SUMIF(BD59:BD93,\"=\" & (AY82-1),BP59:BP93) ),4),0))","v":0},{"$f":"IF($J$6=\"HD 2b/3\",NA(),IFERROR(ASTM( AZ55/ ( SUMIF(CA59:CA93,\"<=\" & (AZ82-1),CM59:CM93) + AZ81*SUMIF(CA59:CA93,\"=\" & (AZ82-1),CM59:CM93) ),4),0))","v":0},null,null,null,9,{"$f":"IF(ISBLANK(R67),\"\",IF(COUNT(R67:AA67)<>10,NA(),IF(ASTM(W67,0)=0,0,IFERROR(ASTM(R67,3)/ASTM(Z67,1),0))))","v":""},{"$f":"IF(ISBLANK(R67),\"\",IF(COUNT(R67:AA67)<>10,NA(),IF(W67=0,0,ASTM(ASTM(W67,0)*ASTM(R67,3),0))))","v":""},{"$f":"IF(ISBLANK(R67),\"\",IF(COUNT(R67:AA67)<>10,NA(),ASTM(S67,3)-ASTM(S66,3)))","v":""},{"$f":"IF(ISBLANK(R67),\"\",IF(COUNT(R67:AA67)<>10,NA(),ASTM(BG67*ASTM(T67,2),1)))","v":""},{"$f":"IF(ISBLANK(R67),\"\",IF(COUNT(R67:AA67)<>10,NA(),ASTM(ASTM($Y$94,4)*1000*(BH67/$AY$61),1)))","v":""},"",{"$f":"IF(ISBLANK(R67),\"\",IF(COUNT(R67:AA67)<>10,NA(),BI67/(33705*ASTM(R67,3))))","v":""},"",{"$f":"IF(ISBLANK(R67),\"\",IFERROR(ASTM(cityfuf(BJ67)-cityfuf(BJ66),3),\"\"))","v":""},{"$f":"IF(ISBLANK(R67),\"\",IF(OR(ISNUMBER(R67)=FALSE,ISNUMBER(AA67)=FALSE),NA(),IF(ASTM(W67,0)=0,0,BM67*ASTM(AA67,0))))","v":""},"",{"$f":"IF(ISBLANK(R67),\"\",IF(COUNT(R67:AA67)<>10,NA(),BL67*ASTM(R67,3)))","v":""},"",{"$f":"IF(ISBLANK(R67),\"\",IF(COUNT(R67:AA67)<>10,NA(),BQ67*ASTM(R67,3)))","v":""},"",{"$f":"IF(ISBLANK(R67),\"\",IF(COUNT(R67:AA67)<>10,NA(),ASTM(mdiuf(BS67),3)-ASTM(mdiuf(BS66),3)))","v":""},{"$f":"IF(ISBLANK(R67),\"\",IF(COUNT(R67:AA67)<>10,NA(),IF(ASTM(W67,0)=0,0,BT67*ASTM(W67,0)/(BQ67))))","v":""},"",{"$f":"IF(ISBLANK(R67),\"\",IF(COUNT(R67:AA67)<>10,NA(),ASTM(cityfufalt(BS67)-cityfufalt(BS66),3)))","v":""},"",{"$f":"IF(ISBLANK(R67),\"\",IF(COUNT(R67:AA67)<>10,NA(),IF(ASTM(W67,0)=0,0,BW67*ASTM(AA67,0)/(BQ67))))","v":""},null,9,{"$f":"IF(ISBLANK(AD67),\"\",IF(COUNT(AD67:AM67)<>10,NA(),IF(ASTM(AI67,0)=0,0,ASTM(AD67,3)/ASTM(AL67,1))))","v":""},{"$f":"IF(ISBLANK(AD67),\"\",IF(COUNT(AD67:AM67)<>10,NA(),IF(ASTM(AI67,0)=0,0,ASTM(ASTM(AI67,0)*ASTM(AD67,3),0))))","v":""},{"$f":"IF(ISBLANK(AD67),\"\",IF(COUNT(AD67:AM67)<>10,NA(),ASTM(AE67,3)-ASTM(AE66,3)))","v":""},{"$f":"IF(ISBLANK(AD67),\"\",IF(COUNT(AD67:AM67)<>10,NA(),ASTM(CD67*ASTM(AF67,2),1)))","v":""},{"$f":"IF(ISBLANK(AD67),\"\",IF(COUNT(AD67:AM67)<>10,NA(),ASTM(ASTM($AK$94,4)*1000*(CE67/$AZ$61),1)))","v":""},"",{"$f":"IF(ISBLANK(AD67),\"\",IF(COUNT(AD67:AM67)<>10,NA(),CF67/(33705*ASTM(AD67,3))))","v":""},"",{"$f":"IF(ISBLANK(AD67),\"\",ASTM(highwayfuf(CG67)-highwayfuf(CG66),3))","v":""},{"$f":"IF(ISBLANK(AD67),\"\",IF(OR(ISNUMBER(AD67)=FALSE,ISNUMBER(AM67)=FALSE),NA(),IF(ASTM(AI67,0)=0,0,CJ67*ASTM(AM67,0))))","v":""},"",{"$f":"IF(ISBLANK(AD67),\"\",IF(COUNT(AD67:AM67)<>10,NA(),CI67*ASTM(AD67,3)))","v":""},"",{"$f":"IF(ISBLANK(AD67),\"\",IF(COUNT(AD67:AM67)<>10,NA(),CN67*ASTM(AD67,3)))","v":""},"",{"$f":"IF(ISBLANK(AD67),\"\",IF(COUNT(AD67:AM67)<>10,NA(),ASTM(mdiuf(CP67)-mdiuf(CP66),3)))","v":""},{"$f":"IF(ISBLANK(AD67),\"\",IF(COUNT(AD67:AM67)<>10,NA(),IF(ASTM(AI67,0)=0,0,CQ67*ASTM(AI67,0)/(CN67))))","v":""},"",{"$f":"IF(ISBLANK(AD67),\"\",IF(COUNT(AD67:AM67)<>10,NA(),ASTM(highwayfufalt(CP67)-highwayfufalt(CP66),3)))","v":""},"",{"$f":"IF(ISBLANK(AD67),\"\",IF(COUNT(AD67:AM67)<>10,NA(),IF(ASTM(AI67,0)=0,0,CT67*ASTM(AM67,0)/(CN67))))","v":""}]
[null,null,"Combined Unrounded Adjusted FE - Conventional Fuel",null,null,{"$f":"IF($J$6=\"HD 2b/3\",NA(),ASTM(1/(0.55/(IF($N$7+$N$55+$N$103=0,    ((N12<>0)+(N60<>0)+(N108<>0))/(IFERROR(1/N12,0)+IFERROR(1/N60,0)+IFERROR(1/N108,0)),    ($N$7+$N$55+$N$103) / (IFERROR($N$7/N12,0)+IFERROR($N$55/N60,0)+IFERROR($N$103/N108,0))  ))+0.45/(IF($N$7+$N$55+$N$103=0,    ((O12<>0)+(O60<>0)+(O108<>0))/(IFERROR(1/O12,0)+IFERROR(1/O60,0)+IFERROR(1/O108,0)),    ($N$7+$N$55+$N$103) / (IFERROR($N$7/O12,0)+IFERROR($N$55/O60,0)+IFERROR($N$103/O108,0))  ))),4))","v":{"$error":"#VALUE!"}},null,null,null,null,null,null,null,"CS_FTP","CS_Hwy",null,10,null,null,null,null,null,null,null,null,{"$f":"IF(ISBLANK(R68),\"\",IF(OR($J$6=\"HD 2b/3\",COUNT(R68:W68)<>6,$AA$95<>\"Yes\",$AA$97<>\"Yes\"),NA(),IF(ASTM(W68,0)=0,0,ASTM((51740000*$T$94*$T$95)/((($T$94*U68)+(0.429*V68)+(0.273*W68))*((0.6*$T$95*$T$96)+5471)),1))))","v":""},{"$f":"IF(ISBLANK(R68),\"\",IF(OR(AND($J$6<>\"HD 2b/3\",COUNT(R68:W68)<>6),AND($J$6=\"HD 2b/3\",COUNT(R68)+COUNT(W68)<>2),$AA$95<>\"Yes\",$AA$97<>\"Yes\"),NA(),IF(ASTM(W68,0)=0,0,IF($J$6=\"HD 2b/3\",W68,ASTM((($T$94/0.273)*U68)+(1.571*V68)+W68,0)))))","v":""},null,10,null,null,null,null,null,null,null,null,{"$f":"IF(ISBLANK(AD68),\"\",IF(OR($J$6=\"HD 2b/3\",COUNT(AD68:AI68)<>6,$AM$47<>\"Yes\",$AM$49<>\"Yes\"),NA(),IF(ASTM(AI68,0)=0,0,ASTM((51740000*$AF$46*$AF$47)/((($AF$46*AG68)+(0.429*AH68)+(0.273*AI68))*((0.6*$AF$47*$AF$48)+5471)),1))))","v":""},{"$f":"IF(ISBLANK(AD68),\"\",IF(OR(AND($J$6<>\"HD 2b/3\",COUNT(AD68:AI68)<>6),AND($J$6=\"HD 2b/3\",COUNT(AD68)+COUNT(AI68)<>2),$AM$95<>\"Yes\",$AM$97<>\"Yes\"),NA(),IF(ASTM(AI68,0)=0,0,IF($J$6=\"HD 2b/3\",AI68,ASTM((($AF$94/0.273)*AG68)+(1.571*AH68)+AI68,0)))))","v":""},null,null,null,"CD Gasoline Consumption (gal/100mi) [0]",null,null,{"$f":"IF($J$6=\"HD 2b/3\",NA(),IFERROR(ASTM(0.55*AY68+0.45*AZ68,1),0))","v":0},null,null,null,"CD gasoline consumption rate (Rcda), adjusted (gal/100mi) [4]",{"$f":"IF($J$6=\"HD 2b/3\",NA(),IFERROR(ASTM(100*(SUMIF(BD59:BD93,\"<=\" & AY82-1,BE59:BE93)+AY81*SUMIF(BD59:BD93,\"=\" & AY82-1,BE59:BE93))/AY55,4),0))","v":0},{"$f":"IF($J$6=\"HD 2b/3\",NA(),IFERROR(ASTM(100*(SUMIF(CA59:CA93,\"<=\" & AZ82-1,CB59:CB93)+AZ81*SUMIF(CA59:CA93,\"=\" & AZ82-1,CB59:CB93))/AZ55,4),0))","v":0},null,null,null,10,{"$f":"IF(ISBLANK(R68),\"\",IF(COUNT(R68:AA68)<>10,NA(),IF(ASTM(W68,0)=0,0,IFERROR(ASTM(R68,3)/ASTM(Z68,1),0))))","v":""},{"$f":"IF(ISBLANK(R68),\"\",IF(COUNT(R68:AA68)<>10,NA(),IF(W68=0,0,ASTM(ASTM(W68,0)*ASTM(R68,3),0))))","v":""},{"$f":"IF(ISBLANK(R68),\"\",IF(COUNT(R68:AA68)<>10,NA(),ASTM(S68,3)-ASTM(S67,3)))","v":""},{"$f":"IF(ISBLANK(R68),\"\",IF(COUNT(R68:AA68)<>10,NA(),ASTM(BG68*ASTM(T68,2),1)))","v":""},{"$f":"IF(ISBLANK(R68),\"\",IF(COUNT(R68:AA68)<>10,NA(),ASTM(ASTM($Y$94,4)*1000*(BH68/$AY$61),1)))","v":""},"",{"$f":"IF(ISBLANK(R68),\"\",IF(COUNT(R68:AA68)<>10,NA(),BI68/(33705*ASTM(R68,3))))","v":""},"",{"$f":"IF(ISBLANK(R68),\"\",IFERROR(ASTM(cityfuf(BJ68)-cityfuf(BJ67),3),\"\"))","v":""},{"$f":"IF(ISBLANK(R68),\"\",IF(OR(ISNUMBER(R68)=FALSE,ISNUMBER(AA68)=FALSE),NA(),IF(ASTM(W68,0)=0,0,BM68*ASTM(AA68,0))))","v":""},"",{"$f":"IF(ISBLANK(R68),\"\",IF(COUNT(R68:AA68)<>10,NA(),BL68*ASTM(R68,3)))","v":""},"",{"$f":"IF(ISBLANK(R68),\"\",IF(COUNT(R68:AA68)<>10,NA(),BQ68*ASTM(R68,3)))","v":""},"",{"$f":"IF(ISBLANK(R68),\"\",IF(COUNT(R68:AA68)<>10,NA(),ASTM(mdiuf(BS68),3)-ASTM(mdiuf(BS67),3)))","v":""},{"$f":"IF(ISBLANK(R68),\"\",IF(COUNT(R68:AA68)<>10,NA(),IF(ASTM(W68,0)=0,0,BT68*ASTM(W68,0)/(BQ68))))","v":""},"",{"$f":"IF(ISBLANK(R68),\"\",IF(COUNT(R68:AA68)<>10,NA(),ASTM(cityfufalt(BS68)-cityfufalt(BS67),3)))","v":""},"",{"$f":"IF(ISBLANK(R68),\"\",IF(COUNT(R68:AA68)<>10,NA(),IF(ASTM(W68,0)=0,0,BW68*ASTM(AA68,0)/(BQ68))))","v":""},null,10,{"$f":"IF(ISBLANK(AD68),\"\",IF(COUNT(AD68:AM68)<>10,NA(),IF(ASTM(AI68,0)=0,0,ASTM(AD68,3)/ASTM(AL68,1))))","v":""},{"$f":"IF(ISBLANK(AD68),\"\",IF(COUNT(AD68:AM68)<>10,NA(),IF(ASTM(AI68,0)=0,0,ASTM(ASTM(AI68,0)*ASTM(AD68,3),0))))","v":""},{"$f":"IF(ISBLANK(AD68),\"\",IF(COUNT(AD68:AM68)<>10,NA(),ASTM(AE68,3)-ASTM(AE67,3)))","v":""},{"$f":"IF(ISBLANK(AD68),\"\",IF(COUNT(AD68:AM68)<>10,NA(),ASTM(CD68*ASTM(AF68,2),1)))","v":""},{"$f":"IF(ISBLANK(AD68),\"\",IF(COUNT(AD68:AM68)<>10,NA(),ASTM(ASTM($AK$94,4)*1000*(CE68/$AZ$61),1)))","v":""},"",{"$f":"IF(ISBLANK(AD68),\"\",IF(COUNT(AD68:AM68)<>10,NA(),CF68/(33705*ASTM(AD68,3))))","v":""},"",{"$f":"IF(ISBLANK(AD68),\"\",ASTM(highwayfuf(CG68)-highwayfuf(CG67),3))","v":""},{"$f":"IF(ISBLANK(AD68),\"\",IF(OR(ISNUMBER(AD68)=FALSE,ISNUMBER(AM68)=FALSE),NA(),IF(ASTM(AI68,0)=0,0,CJ68*ASTM(AM68,0))))","v":""},"",{"$f":"IF(ISBLANK(AD68),\"\",IF(COUNT(AD68:AM68)<>10,NA(),CI68*ASTM(AD68,3)))","v":""},"",{"$f":"IF(ISBLANK(AD68),\"\",IF(COUNT(AD68:AM68)<>10,NA(),CN68*ASTM(AD68,3)))","v":""},"",{"$f":"IF(ISBLANK(AD68),\"\",IF(COUNT(AD68:AM68)<>10,NA(),ASTM(mdiuf(CP68)-mdiuf(CP67),3)))","v":""},{"$f":"IF(ISBLANK(AD68),\"\",IF(COUNT(AD68:AM68)<>10,NA(),IF(ASTM(AI68,0)=0,0,CQ68*ASTM(AI68,0)/(CN68))))","v":""},"",{"$f":"IF(ISBLANK(AD68),\"\",IF(COUNT(AD68:AM68)<>10,NA(),ASTM(highwayfufalt(CP68)-highwayfufalt(CP67),3)))","v":""},"",{"$f":"IF(ISBLANK(AD68),\"\",IF(COUNT(AD68:AM68)<>10,NA(),IF(ASTM(AI68,0)=0,0,CT68*ASTM(AM68,0)/(CN68))))","v":""}]
[null,null,"Charge-sustaining CO2",null,null,"g/mi",null,null,null,null,null,null,"Charge-Sustaining FTP/Hwy (Required):",null,null,null,11,null,null,null,null,null,null,null,null,{"$f":"IF(ISBLANK(R69),\"\",IF(OR($J$6=\"HD 2b/3\",COUNT(R69:W69)<>6,$AA$95<>\"Yes\",$AA$97<>\"Yes\"),NA(),IF(ASTM(W69,0)=0,0,ASTM((51740000*$T$94*$T$95)/((($T$94*U69)+(0.429*V69)+(0.273*W69))*((0.6*$T$95*$T$96)+5471)),1))))","v":""},{"$f":"IF(ISBLANK(R69),\"\",IF(OR(AND($J$6<>\"HD 2b/3\",COUNT(R69:W69)<>6),AND($J$6=\"HD 2b/3\",COUNT(R69)+COUNT(W69)<>2),$AA$95<>\"Yes\",$AA$97<>\"Yes\"),NA(),IF(ASTM(W69,0)=0,0,IF($J$6=\"HD 2b/3\",W69,ASTM((($T$94/0.273)*U69)+(1.571*V69)+W69,0)))))","v":""},null,11,null,null,null,null,null,null,null,null,{"$f":"IF(ISBLANK(AD69),\"\",IF(OR($J$6=\"HD 2b/3\",COUNT(AD69:AI69)<>6,$AM$47<>\"Yes\",$AM$49<>\"Yes\"),NA(),IF(ASTM(AI69,0)=0,0,ASTM((51740000*$AF$46*$AF$47)/((($AF$46*AG69)+(0.429*AH69)+(0.273*AI69))*((0.6*$AF$47*$AF$48)+5471)),1))))","v":""},{"$f":"IF(ISBLANK(AD69),\"\",IF(OR(AND($J$6<>\"HD 2b/3\",COUNT(AD69:AI69)<>6),AND($J$6=\"HD 2b/3\",COUNT(AD69)+COUNT(AI69)<>2),$AM$95<>\"Yes\",$AM$97<>\"Yes\"),NA(),IF(ASTM(AI69,0)=0,0,IF($J$6=\"HD 2b/3\",AI69,ASTM((($AF$94/0.273)*AG69)+(1.571*AH69)+AI69,0)))))","v":""},null,null,null,"Charge-Sustaining",null,null,"Combined",null,null,"NEW","CD fuel economy (Rcda), unadjusted (MPGe) [4]",{"$f":"IF($J$6=\"HD 2b/3\",NA(),ASTM(IFERROR(AY54/ ( SUMIF(BD59:BD93,\"<=\" & (AY82-1),BP59:BP93) + AY81*SUMIF(BD59:BD93,\"=\" & (AY82-1),BP59:BP93) ),0),4))","v":0},{"$f":"IF($J$6=\"HD 2b/3\",NA(),ASTM(IFERROR(AZ54/ ( SUMIF(CA59:CA93,\"<=\" & (AZ82-1),CM59:CM93) + AZ81*SUMIF(CA59:CA93,\"=\" & (AZ82-1),CM59:CM93) ),0),4))","v":0},null,null,null,11,{"$f":"IF(ISBLANK(R69),\"\",IF(COUNT(R69:AA69)<>10,NA(),IF(ASTM(W69,0)=0,0,IFERROR(ASTM(R69,3)/ASTM(Z69,1),0))))","v":""},{"$f":"IF(ISBLANK(R69),\"\",IF(COUNT(R69:AA69)<>10,NA(),IF(W69=0,0,ASTM(ASTM(W69,0)*ASTM(R69,3),0))))","v":""},{"$f":"IF(ISBLANK(R69),\"\",IF(COUNT(R69:AA69)<>10,NA(),ASTM(S69,3)-ASTM(S68,3)))","v":""},{"$f":"IF(ISBLANK(R69),\"\",IF(COUNT(R69:AA69)<>10,NA(),ASTM(BG69*ASTM(T69,2),1)))","v":""},{"$f":"IF(ISBLANK(R69),\"\",IF(COUNT(R69:AA69)<>10,NA(),ASTM(ASTM($Y$94,4)*1000*(BH69/$AY$61),1)))","v":""},"",{"$f":"IF(ISBLANK(R69),\"\",IF(COUNT(R69:AA69)<>10,NA(),BI69/(33705*ASTM(R69,3))))","v":""},"",{"$f":"IF(ISBLANK(R69),\"\",IFERROR(ASTM(cityfuf(BJ69)-cityfuf(BJ68),3),\"\"))","v":""},{"$f":"IF(ISBLANK(R69),\"\",IF(OR(ISNUMBER(R69)=FALSE,ISNUMBER(AA69)=FALSE),NA(),IF(ASTM(W69,0)=0,0,BM69*ASTM(AA69,0))))","v":""},"",{"$f":"IF(ISBLANK(R69),\"\",IF(COUNT(R69:AA69)<>10,NA(),BL69*ASTM(R69,3)))","v":""},"",{"$f":"IF(ISBLANK(R69),\"\",IF(COUNT(R69:AA69)<>10,NA(),BQ69*ASTM(R69,3)))","v":""},"",{"$f":"IF(ISBLANK(R69),\"\",IF(COUNT(R69:AA69)<>10,NA(),ASTM(mdiuf(BS69),3)-ASTM(mdiuf(BS68),3)))","v":""},{"$f":"IF(ISBLANK(R69),\"\",IF(COUNT(R69:AA69)<>10,NA(),IF(ASTM(W69,0)=0,0,BT69*ASTM(W69,0)/(BQ69))))","v":""},"",{"$f":"IF(ISBLANK(R69),\"\",IF(COUNT(R69:AA69)<>10,NA(),ASTM(cityfufalt(BS69)-cityfufalt(BS68),3)))","v":""},"",{"$f":"IF(ISBLANK(R69),\"\",IF(COUNT(R69:AA69)<>10,NA(),IF(ASTM(W69,0)=0,0,BW69*ASTM(AA69,0)/(BQ69))))","v":""},null,11,{"$f":"IF(ISBLANK(AD69),\"\",IF(COUNT(AD69:AM69)<>10,NA(),IF(ASTM(AI69,0)=0,0,ASTM(AD69,3)/ASTM(AL69,1))))","v":""},{"$f":"IF(ISBLANK(AD69),\"\",IF(COUNT(AD69:AM69)<>10,NA(),IF(ASTM(AI69,0)=0,0,ASTM(ASTM(AI69,0)*ASTM(AD69,3),0))))","v":""},{"$f":"IF(ISBLANK(AD69),\"\",IF(COUNT(AD69:AM69)<>10,NA(),ASTM(AE69,3)-ASTM(AE68,3)))","v":""},{"$f":"IF(ISBLANK(AD69),\"\",IF(COUNT(AD69:AM69)<>10,NA(),ASTM(CD69*ASTM(AF69,2),1)))","v":""},{"$f":"IF(ISBLANK(AD69),\"\",IF(COUNT(AD69:AM69)<>10,NA(),ASTM(ASTM($AK$94,4)*1000*(CE69/$AZ$61),1)))","v":""},"",{"$f":"IF(ISBLANK(AD69),\"\",IF(COUNT(AD69:AM69)<>10,NA(),CF69/(33705*ASTM(AD69,3))))","v":""},"",{"$f":"IF(ISBLANK(AD69),\"\",ASTM(highwayfuf(CG69)-highwayfuf(CG68),3))","v":""},{"$f":"IF(ISBLANK(AD69),\"\",IF(OR(ISNUMBER(AD69)=FALSE,ISNUMBER(AM69)=FALSE),NA(),IF(ASTM(AI69,0)=0,0,CJ69*ASTM(AM69,0))))","v":""},"",{"$f":"IF(ISBLANK(AD69),\"\",IF(COUNT(AD69:AM69)<>10,NA(),CI69*ASTM(AD69,3)))","v":""},"",{"$f":"IF(ISBLANK(AD69),\"\",IF(COUNT(AD69:AM69)<>10,NA(),CN69*ASTM(AD69,3)))","v":""},"",{"$f":"IF(ISBLANK(AD69),\"\",IF(COUNT(AD69:AM69)<>10,NA(),ASTM(mdiuf(CP69)-mdiuf(CP68),3)))","v":""},{"$f":"IF(ISBLANK(AD69),\"\",IF(COUNT(AD69:AM69)<>10,NA(),IF(ASTM(AI69,0)=0,0,CQ69*ASTM(AI69,0)/(CN69))))","v":""},"",{"$f":"IF(ISBLANK(AD69),\"\",IF(COUNT(AD69:AM69)<>10,NA(),ASTM(highwayfufalt(CP69)-highwayfufalt(CP68),3)))","v":""},"",{"$f":"IF(ISBLANK(AD69),\"\",IF(COUNT(AD69:AM69)<>10,NA(),IF(ASTM(AI69,0)=0,0,CT69*ASTM(AM69,0)/(CN69))))","v":""}]
[null,null,"City CO2 Rounded Adjusted",null,null,{"$f":"IF($J$6=\"HD 2b/3\",NA(),ASTM(IF($N$7+$N$55+$N$103=0,   (N15+N63+N111)/ ((N15<>0)+(N63<>0)+(N111<>0)),    (IFERROR($N$7*N15,0)+IFERROR($N$55*N63,0)+IFERROR($N$103*N111,0)) /  ($N$7+$N$55+$N$103)   ),0))","v":{"$error":"#VALUE!"}},null,null,null,null,null,null,"Charge-Sustaining FTP/Hwy (Optional):",null,null,null,12,null,null,null,null,null,null,null,null,{"$f":"IF(ISBLANK(R70),\"\",IF(OR($J$6=\"HD 2b/3\",COUNT(R70:W70)<>6,$AA$95<>\"Yes\",$AA$97<>\"Yes\"),NA(),IF(ASTM(W70,0)=0,0,ASTM((51740000*$T$94*$T$95)/((($T$94*U70)+(0.429*V70)+(0.273*W70))*((0.6*$T$95*$T$96)+5471)),1))))","v":""},{"$f":"IF(ISBLANK(R70),\"\",IF(OR(AND($J$6<>\"HD 2b/3\",COUNT(R70:W70)<>6),AND($J$6=\"HD 2b/3\",COUNT(R70)+COUNT(W70)<>2),$AA$95<>\"Yes\",$AA$97<>\"Yes\"),NA(),IF(ASTM(W70,0)=0,0,IF($J$6=\"HD 2b/3\",W70,ASTM((($T$94/0.273)*U70)+(1.571*V70)+W70,0)))))","v":""},null,12,null,null,null,null,null,null,null,null,{"$f":"IF(ISBLANK(AD70),\"\",IF(OR($J$6=\"HD 2b/3\",COUNT(AD70:AI70)<>6,$AM$47<>\"Yes\",$AM$49<>\"Yes\"),NA(),IF(ASTM(AI70,0)=0,0,ASTM((51740000*$AF$46*$AF$47)/((($AF$46*AG70)+(0.429*AH70)+(0.273*AI70))*((0.6*$AF$47*$AF$48)+5471)),1))))","v":""},{"$f":"IF(ISBLANK(AD70),\"\",IF(OR(AND($J$6<>\"HD 2b/3\",COUNT(AD70:AI70)<>6),AND($J$6=\"HD 2b/3\",COUNT(AD70)+COUNT(AI70)<>2),$AM$95<>\"Yes\",$AM$97<>\"Yes\"),NA(),IF(ASTM(AI70,0)=0,0,IF($J$6=\"HD 2b/3\",AI70,ASTM((($AF$94/0.273)*AG70)+(1.571*AH70)+AI70,0)))))","v":""},null,null,null,"CS Fuel Economy (MPG) [0]",{"$f":"IF($J$6=\"HD 2b/3\",NA(),IFERROR(ASTM(N60,4),0))","v":0},{"$f":"IF($J$6=\"HD 2b/3\",NA(),IFERROR(ASTM(O60,4),0))","v":0},{"$f":"IF($J$6=\"HD 2b/3\",NA(),IFERROR(ASTM(1/(0.55/AR70+0.45/AS70),0),0))","v":0},null,null,"NEW","CD AC electricity consumption rate (Rcda), unadjusted  (kW-hr/100mi) [3]",{"$f":"IF($J$6=\"HD 2b/3\",NA(),ASTM(IFERROR((IFERROR( ( SUMIF(BD59:BD93,\"<=\" & (AY82-1),BI59:BI93) + AY81*SUMIF(BD59:BD93,\"=\" & (AY82-1),BI59:BI93) ) / AY54 *100 / 1000, 0)),0),3))","v":0},{"$f":"IF($J$6=\"HD 2b/3\",NA(),ASTM(IFERROR((IFERROR( ( SUMIF(CA59:CA93,\"<=\" & (AZ82-1),CF59:CF93) + AZ81*SUMIF(CA59:CA93,\"=\" & (AZ82-1),CF59:CF93) ) / AZ54 *100 / 1000, 0)),0),3))","v":0},null,null,null,12,{"$f":"IF(ISBLANK(R70),\"\",IF(COUNT(R70:AA70)<>10,NA(),IF(ASTM(W70,0)=0,0,IFERROR(ASTM(R70,3)/ASTM(Z70,1),0))))","v":""},{"$f":"IF(ISBLANK(R70),\"\",IF(COUNT(R70:AA70)<>10,NA(),IF(W70=0,0,ASTM(ASTM(W70,0)*ASTM(R70,3),0))))","v":""},{"$f":"IF(ISBLANK(R70),\"\",IF(COUNT(R70:AA70)<>10,NA(),ASTM(S70,3)-ASTM(S69,3)))","v":""},{"$f":"IF(ISBLANK(R70),\"\",IF(COUNT(R70:AA70)<>10,NA(),ASTM(BG70*ASTM(T70,2),1)))","v":""},{"$f":"IF(ISBLANK(R70),\"\",IF(COUNT(R70:AA70)<>10,NA(),ASTM(ASTM($Y$94,4)*1000*(BH70/$AY$61),1)))","v":""},"",{"$f":"IF(ISBLANK(R70),\"\",IF(COUNT(R70:AA70)<>10,NA(),BI70/(33705*ASTM(R70,3))))","v":""},"",{"$f":"IF(ISBLANK(R70),\"\",IFERROR(ASTM(cityfuf(BJ70)-cityfuf(BJ69),3),\"\"))","v":""},{"$f":"IF(ISBLANK(R70),\"\",IF(OR(ISNUMBER(R70)=FALSE,ISNUMBER(AA70)=FALSE),NA(),IF(ASTM(W70,0)=0,0,BM70*ASTM(AA70,0))))","v":""},"",{"$f":"IF(ISBLANK(R70),\"\",IF(COUNT(R70:AA70)<>10,NA(),BL70*ASTM(R70,3)))","v":""},"",{"$f":"IF(ISBLANK(R70),\"\",IF(COUNT(R70:AA70)<>10,NA(),BQ70*ASTM(R70,3)))","v":""},"",{"$f":"IF(ISBLANK(R70),\"\",IF(COUNT(R70:AA70)<>10,NA(),ASTM(mdiuf(BS70),3)-ASTM(mdiuf(BS69),3)))","v":""},{"$f":"IF(ISBLANK(R70),\"\",IF(COUNT(R70:AA70)<>10,NA(),IF(ASTM(W70,0)=0,0,BT70*ASTM(W70,0)/(BQ70))))","v":""},"",{"$f":"IF(ISBLANK(R70),\"\",IF(COUNT(R70:AA70)<>10,NA(),ASTM(cityfufalt(BS70)-cityfufalt(BS69),3)))","v":""},"",{"$f":"IF(ISBLANK(R70),\"\",IF(COUNT(R70:AA70)<>10,NA(),IF(ASTM(W70,0)=0,0,BW70*ASTM(AA70,0)/(BQ70))))","v":""},null,12,{"$f":"IF(ISBLANK(AD70),\"\",IF(COUNT(AD70:AM70)<>10,NA(),IF(ASTM(AI70,0)=0,0,ASTM(AD70,3)/ASTM(AL70,1))))","v":""},{"$f":"IF(ISBLANK(AD70),\"\",IF(COUNT(AD70:AM70)<>10,NA(),IF(ASTM(AI70,0)=0,0,ASTM(ASTM(AI70,0)*ASTM(AD70,3),0))))","v":""},{"$f":"IF(ISBLANK(AD70),\"\",IF(COUNT(AD70:AM70)<>10,NA(),ASTM(AE70,3)-ASTM(AE69,3)))","v":""},{"$f":"IF(ISBLANK(AD70),\"\",IF(COUNT(AD70:AM70)<>10,NA(),ASTM(CD70*ASTM(AF70,2),1)))","v":""},{"$f":"IF(ISBLANK(AD70),\"\",IF(COUNT(AD70:AM70)<>10,NA(),ASTM(ASTM($AK$94,4)*1000*(CE70/$AZ$61),1)))","v":""},"",{"$f":"IF(ISBLANK(AD70),\"\",IF(COUNT(AD70:AM70)<>10,NA(),CF70/(33705*ASTM(AD70,3))))","v":""},"",{"$f":"IF(ISBLANK(AD70),\"\",ASTM(highwayfuf(CG70)-highwayfuf(CG69),3))","v":""},{"$f":"IF(ISBLANK(AD70),\"\",IF(OR(ISNUMBER(AD70)=FALSE,ISNUMBER(AM70)=FALSE),NA(),IF(ASTM(AI70,0)=0,0,CJ70*ASTM(AM70,0))))","v":""},"",{"$f":"IF(ISBLANK(AD70),\"\",IF(COUNT(AD70:AM70)<>10,NA(),CI70*ASTM(AD70,3)))","v":""},"",{"$f":"IF(ISBLANK(AD70),\"\",IF(COUNT(AD70:AM70)<>10,NA(),CN70*ASTM(AD70,3)))","v":""},"",{"$f":"IF(ISBLANK(AD70),\"\",IF(COUNT(AD70:AM70)<>10,NA(),ASTM(mdiuf(CP70)-mdiuf(CP69),3)))","v":""},{"$f":"IF(ISBLANK(AD70),\"\",IF(COUNT(AD70:AM70)<>10,NA(),IF(ASTM(AI70,0)=0,0,CQ70*ASTM(AI70,0)/(CN70))))","v":""},"",{"$f":"IF(ISBLANK(AD70),\"\",IF(COUNT(AD70:AM70)<>10,NA(),ASTM(highwayfufalt(CP70)-highwayfufalt(CP69),3)))","v":""},"",{"$f":"IF(ISBLANK(AD70),\"\",IF(COUNT(AD70:AM70)<>10,NA(),IF(ASTM(AI70,0)=0,0,CT70*ASTM(AM70,0)/(CN70))))","v":""}]
[null,null,"Hwy CO2 Rounded Adjusted",null,null,{"$f":"IF($J$6=\"HD 2b/3\",NA(),ASTM(IF($N$7+$N$55+$N$103=0,   (O15+O63+O111)/ ((O15<>0)+(O63<>0)+(O111<>0)),    (IFERROR($N$7*O15,0)+IFERROR($N$55*O63,0)+IFERROR($N$103*O111,0)) /  ($N$7+$N$55+$N$103)   ),0))","v":{"$error":"#VALUE!"}},null,null,null,null,null,null,"Charge-Sustaining FTP/Hwy (Optional):",null,null,null,13,null,null,null,null,null,null,null,null,{"$f":"IF(ISBLANK(R71),\"\",IF(OR($J$6=\"HD 2b/3\",COUNT(R71:W71)<>6,$AA$95<>\"Yes\",$AA$97<>\"Yes\"),NA(),IF(ASTM(W71,0)=0,0,ASTM((51740000*$T$94*$T$95)/((($T$94*U71)+(0.429*V71)+(0.273*W71))*((0.6*$T$95*$T$96)+5471)),1))))","v":""},{"$f":"IF(ISBLANK(R71),\"\",IF(OR(AND($J$6<>\"HD 2b/3\",COUNT(R71:W71)<>6),AND($J$6=\"HD 2b/3\",COUNT(R71)+COUNT(W71)<>2),$AA$95<>\"Yes\",$AA$97<>\"Yes\"),NA(),IF(ASTM(W71,0)=0,0,IF($J$6=\"HD 2b/3\",W71,ASTM((($T$94/0.273)*U71)+(1.571*V71)+W71,0)))))","v":""},null,13,null,null,null,null,null,null,null,null,{"$f":"IF(ISBLANK(AD71),\"\",IF(OR($J$6=\"HD 2b/3\",COUNT(AD71:AI71)<>6,$AM$47<>\"Yes\",$AM$49<>\"Yes\"),NA(),IF(ASTM(AI71,0)=0,0,ASTM((51740000*$AF$46*$AF$47)/((($AF$46*AG71)+(0.429*AH71)+(0.273*AI71))*((0.6*$AF$47*$AF$48)+5471)),1))))","v":""},{"$f":"IF(ISBLANK(AD71),\"\",IF(OR(AND($J$6<>\"HD 2b/3\",COUNT(AD71:AI71)<>6),AND($J$6=\"HD 2b/3\",COUNT(AD71)+COUNT(AI71)<>2),$AM$95<>\"Yes\",$AM$97<>\"Yes\"),NA(),IF(ASTM(AI71,0)=0,0,IF($J$6=\"HD 2b/3\",AI71,ASTM((($AF$94/0.273)*AG71)+(1.571*AH71)+AI71,0)))))","v":""},null,null,null,"CS Fuel Consumption (gal/100mi) [1]",{"$f":"IF($J$6=\"HD 2b/3\",NA(),IFERROR(ASTM(100/AR70,1),0))","v":0},{"$f":"IF($J$6=\"HD 2b/3\",NA(),IFERROR(ASTM(100/AS70,1),0))","v":0},{"$f":"IF($J$6=\"HD 2b/3\",NA(),IFERROR(ASTM(100/AT70,1),0))","v":0},null,null,null,"GHG EMISSIONS VALUES","CITY","HIGHWAY",null,null,null,13,{"$f":"IF(ISBLANK(R71),\"\",IF(COUNT(R71:AA71)<>10,NA(),IF(ASTM(W71,0)=0,0,IFERROR(ASTM(R71,3)/ASTM(Z71,1),0))))","v":""},{"$f":"IF(ISBLANK(R71),\"\",IF(COUNT(R71:AA71)<>10,NA(),IF(W71=0,0,ASTM(ASTM(W71,0)*ASTM(R71,3),0))))","v":""},{"$f":"IF(ISBLANK(R71),\"\",IF(COUNT(R71:AA71)<>10,NA(),ASTM(S71,3)-ASTM(S70,3)))","v":""},{"$f":"IF(ISBLANK(R71),\"\",IF(COUNT(R71:AA71)<>10,NA(),ASTM(BG71*ASTM(T71,2),1)))","v":""},{"$f":"IF(ISBLANK(R71),\"\",IF(COUNT(R71:AA71)<>10,NA(),ASTM(ASTM($Y$94,4)*1000*(BH71/$AY$61),1)))","v":""},"",{"$f":"IF(ISBLANK(R71),\"\",IF(COUNT(R71:AA71)<>10,NA(),BI71/(33705*ASTM(R71,3))))","v":""},"",{"$f":"IF(ISBLANK(R71),\"\",IFERROR(ASTM(cityfuf(BJ71)-cityfuf(BJ70),3),\"\"))","v":""},{"$f":"IF(ISBLANK(R71),\"\",IF(OR(ISNUMBER(R71)=FALSE,ISNUMBER(AA71)=FALSE),NA(),IF(ASTM(W71,0)=0,0,BM71*ASTM(AA71,0))))","v":""},"",{"$f":"IF(ISBLANK(R71),\"\",IF(COUNT(R71:AA71)<>10,NA(),BL71*ASTM(R71,3)))","v":""},"",{"$f":"IF(ISBLANK(R71),\"\",IF(COUNT(R71:AA71)<>10,NA(),BQ71*ASTM(R71,3)))","v":""},"",{"$f":"IF(ISBLANK(R71),\"\",IF(COUNT(R71:AA71)<>10,NA(),ASTM(mdiuf(BS71),3)-ASTM(mdiuf(BS70),3)))","v":""},{"$f":"IF(ISBLANK(R71),\"\",IF(COUNT(R71:AA71)<>10,NA(),IF(ASTM(W71,0)=0,0,BT71*ASTM(W71,0)/(BQ71))))","v":""},"",{"$f":"IF(ISBLANK(R71),\"\",IF(COUNT(R71:AA71)<>10,NA(),ASTM(cityfufalt(BS71)-cityfufalt(BS70),3)))","v":""},"",{"$f":"IF(ISBLANK(R71),\"\",IF(COUNT(R71:AA71)<>10,NA(),IF(ASTM(W71,0)=0,0,BW71*ASTM(AA71,0)/(BQ71))))","v":""},null,13,{"$f":"IF(ISBLANK(AD71),\"\",IF(COUNT(AD71:AM71)<>10,NA(),IF(ASTM(AI71,0)=0,0,ASTM(AD71,3)/ASTM(AL71,1))))","v":""},{"$f":"IF(ISBLANK(AD71),\"\",IF(COUNT(AD71:AM71)<>10,NA(),IF(ASTM(AI71,0)=0,0,ASTM(ASTM(AI71,0)*ASTM(AD71,3),0))))","v":""},{"$f":"IF(ISBLANK(AD71),\"\",IF(COUNT(AD71:AM71)<>10,NA(),ASTM(AE71,3)-ASTM(AE70,3)))","v":""},{"$f":"IF(ISBLANK(AD71),\"\",IF(COUNT(AD71:AM71)<>10,NA(),ASTM(CD71*ASTM(AF71,2),1)))","v":""},{"$f":"IF(ISBLANK(AD71),\"\",IF(COUNT(AD71:AM71)<>10,NA(),ASTM(ASTM($AK$94,4)*1000*(CE71/$AZ$61),1)))","v":""},"",{"$f":"IF(ISBLANK(AD71),\"\",IF(COUNT(AD71:AM71)<>10,NA(),CF71/(33705*ASTM(AD71,3))))","v":""},"",{"$f":"IF(ISBLANK(AD71),\"\",ASTM(highwayfuf(CG71)-highwayfuf(CG70),3))","v":""},{"$f":"IF(ISBLANK(AD71),\"\",IF(OR(ISNUMBER(AD71)=FALSE,ISNUMBER(AM71)=FALSE),NA(),IF(ASTM(AI71,0)=0,0,CJ71*ASTM(AM71,0))))","v":""},"",{"$f":"IF(ISBLANK(AD71),\"\",IF(COUNT(AD71:AM71)<>10,NA(),CI71*ASTM(AD71,3)))","v":""},"",{"$f":"IF(ISBLANK(AD71),\"\",IF(COUNT(AD71:AM71)<>10,NA(),CN71*ASTM(AD71,3)))","v":""},"",{"$f":"IF(ISBLANK(AD71),\"\",IF(COUNT(AD71:AM71)<>10,NA(),ASTM(mdiuf(CP71)-mdiuf(CP70),3)))","v":""},{"$f":"IF(ISBLANK(AD71),\"\",IF(COUNT(AD71:AM71)<>10,NA(),IF(ASTM(AI71,0)=0,0,CQ71*ASTM(AI71,0)/(CN71))))","v":""},"",{"$f":"IF(ISBLANK(AD71),\"\",IF(COUNT(AD71:AM71)<>10,NA(),ASTM(highwayfufalt(CP71)-highwayfufalt(CP70),3)))","v":""},"",{"$f":"IF(ISBLANK(AD71),\"\",IF(COUNT(AD71:AM71)<>10,NA(),IF(ASTM(AI71,0)=0,0,CT71*ASTM(AM71,0)/(CN71))))","v":""}]
[null,null,"Combined CO2 Rounded Adjusted",null,null,{"$f":"IF($J$6=\"HD 2b/3\",NA(),ASTM(0.55*(IF($N$7+$N$55+$N$103=0,   (N15+N63+N111)/ ((N15<>0)+(N63<>0)+(N111<>0)),    (IFERROR($N$7*N15,0)+IFERROR($N$55*N63,0)+IFERROR($N$103*N111,0)) /  ($N$7+$N$55+$N$103)   ))+0.45*(IF($N$7+$N$55+$N$103=0,   (O15+O63+O111)/ ((O15<>0)+(O63<>0)+(O111<>0)),    (IFERROR($N$7*O15,0)+IFERROR($N$55*O63,0)+IFERROR($N$103*O111,0)) /  ($N$7+$N$55+$N$103)   )),0))","v":{"$error":"#VALUE!"}},null,null,null,null,null,null,null,null,null,null,14,null,null,null,null,null,null,null,null,{"$f":"IF(ISBLANK(R72),\"\",IF(OR($J$6=\"HD 2b/3\",COUNT(R72:W72)<>6,$AA$95<>\"Yes\",$AA$97<>\"Yes\"),NA(),IF(ASTM(W72,0)=0,0,ASTM((51740000*$T$94*$T$95)/((($T$94*U72)+(0.429*V72)+(0.273*W72))*((0.6*$T$95*$T$96)+5471)),1))))","v":""},{"$f":"IF(ISBLANK(R72),\"\",IF(OR(AND($J$6<>\"HD 2b/3\",COUNT(R72:W72)<>6),AND($J$6=\"HD 2b/3\",COUNT(R72)+COUNT(W72)<>2),$AA$95<>\"Yes\",$AA$97<>\"Yes\"),NA(),IF(ASTM(W72,0)=0,0,IF($J$6=\"HD 2b/3\",W72,ASTM((($T$94/0.273)*U72)+(1.571*V72)+W72,0)))))","v":""},null,14,null,null,null,null,null,null,null,null,{"$f":"IF(ISBLANK(AD72),\"\",IF(OR($J$6=\"HD 2b/3\",COUNT(AD72:AI72)<>6,$AM$47<>\"Yes\",$AM$49<>\"Yes\"),NA(),IF(ASTM(AI72,0)=0,0,ASTM((51740000*$AF$46*$AF$47)/((($AF$46*AG72)+(0.429*AH72)+(0.273*AI72))*((0.6*$AF$47*$AF$48)+5471)),1))))","v":""},{"$f":"IF(ISBLANK(AD72),\"\",IF(OR(AND($J$6<>\"HD 2b/3\",COUNT(AD72:AI72)<>6),AND($J$6=\"HD 2b/3\",COUNT(AD72)+COUNT(AI72)<>2),$AM$95<>\"Yes\",$AM$97<>\"Yes\"),NA(),IF(ASTM(AI72,0)=0,0,IF($J$6=\"HD 2b/3\",AI72,ASTM((($AF$94/0.273)*AG72)+(1.571*AH72)+AI72,0)))))","v":""},null,null,null,"Composite CD/CS",null,null,"Combined",null,null,null,"CD CO2 emissions rate (Rcda), unadjusted (g/mi) [1]",{"$f":"IF($J$6=\"HD 2b/3\",NA(),IFERROR(ASTM((SUMIF(BD59:BD93,\"<=\" & AY82-1,BF59:BF93)+AY81*SUMIF(BD59:BD93,\"=\" & AY82-1,BF59:BF93))/AY54,1),0))","v":0},{"$f":"IF($J$6=\"HD 2b/3\",NA(),IFERROR(ASTM((SUMIF(CA59:CA93,\"<=\" & AZ82-1,CC59:CC93)+AZ81*SUMIF(CA59:CA93,\"=\" & AZ82-1,CC59:CC93))/AZ54,1),0))","v":0},null,null,null,14,{"$f":"IF(ISBLANK(R72),\"\",IF(COUNT(R72:AA72)<>10,NA(),IF(ASTM(W72,0)=0,0,IFERROR(ASTM(R72,3)/ASTM(Z72,1),0))))","v":""},{"$f":"IF(ISBLANK(R72),\"\",IF(COUNT(R72:AA72)<>10,NA(),IF(W72=0,0,ASTM(ASTM(W72,0)*ASTM(R72,3),0))))","v":""},{"$f":"IF(ISBLANK(R72),\"\",IF(COUNT(R72:AA72)<>10,NA(),ASTM(S72,3)-ASTM(S71,3)))","v":""},{"$f":"IF(ISBLANK(R72),\"\",IF(COUNT(R72:AA72)<>10,NA(),ASTM(BG72*ASTM(T72,2),1)))","v":""},{"$f":"IF(ISBLANK(R72),\"\",IF(COUNT(R72:AA72)<>10,NA(),ASTM(ASTM($Y$94,4)*1000*(BH72/$AY$61),1)))","v":""},"",{"$f":"IF(ISBLANK(R72),\"\",IF(COUNT(R72:AA72)<>10,NA(),BI72/(33705*ASTM(R72,3))))","v":""},"",{"$f":"IF(ISBLANK(R72),\"\",IFERROR(ASTM(cityfuf(BJ72)-cityfuf(BJ71),3),\"\"))","v":""},{"$f":"IF(ISBLANK(R72),\"\",IF(OR(ISNUMBER(R72)=FALSE,ISNUMBER(AA72)=FALSE),NA(),IF(ASTM(W72,0)=0,0,BM72*ASTM(AA72,0))))","v":""},"",{"$f":"IF(ISBLANK(R72),\"\",IF(COUNT(R72:AA72)<>10,NA(),BL72*ASTM(R72,3)))","v":""},"",{"$f":"IF(ISBLANK(R72),\"\",IF(COUNT(R72:AA72)<>10,NA(),BQ72*ASTM(R72,3)))","v":""},"",{"$f":"IF(ISBLANK(R72),\"\",IF(COUNT(R72:AA72)<>10,NA(),ASTM(mdiuf(BS72),3)-ASTM(mdiuf(BS71),3)))","v":""},{"$f":"IF(ISBLANK(R72),\"\",IF(COUNT(R72:AA72)<>10,NA(),IF(ASTM(W72,0)=0,0,BT72*ASTM(W72,0)/(BQ72))))","v":""},"",{"$f":"IF(ISBLANK(R72),\"\",IF(COUNT(R72:AA72)<>10,NA(),ASTM(cityfufalt(BS72)-cityfufalt(BS71),3)))","v":""},"",{"$f":"IF(ISBLANK(R72),\"\",IF(COUNT(R72:AA72)<>10,NA(),IF(ASTM(W72,0)=0,0,BW72*ASTM(AA72,0)/(BQ72))))","v":""},null,14,{"$f":"IF(ISBLANK(AD72),\"\",IF(COUNT(AD72:AM72)<>10,NA(),IF(ASTM(AI72,0)=0,0,ASTM(AD72,3)/ASTM(AL72,1))))","v":""},{"$f":"IF(ISBLANK(AD72),\"\",IF(COUNT(AD72:AM72)<>10,NA(),IF(ASTM(AI72,0)=0,0,ASTM(ASTM(AI72,0)*ASTM(AD72,3),0))))","v":""},{"$f":"IF(ISBLANK(AD72),\"\",IF(COUNT(AD72:AM72)<>10,NA(),ASTM(AE72,3)-ASTM(AE71,3)))","v":""},{"$f":"IF(ISBLANK(AD72),\"\",IF(COUNT(AD72:AM72)<>10,NA(),ASTM(CD72*ASTM(AF72,2),1)))","v":""},{"$f":"IF(ISBLANK(AD72),\"\",IF(COUNT(AD72:AM72)<>10,NA(),ASTM(ASTM($AK$94,4)*1000*(CE72/$AZ$61),1)))","v":""},"",{"$f":"IF(ISBLANK(AD72),\"\",IF(COUNT(AD72:AM72)<>10,NA(),CF72/(33705*ASTM(AD72,3))))","v":""},"",{"$f":"IF(ISBLANK(AD72),\"\",ASTM(highwayfuf(CG72)-highwayfuf(CG71),3))","v":""},{"$f":"IF(ISBLANK(AD72),\"\",IF(OR(ISNUMBER(AD72)=FALSE,ISNUMBER(AM72)=FALSE),NA(),IF(ASTM(AI72,0)=0,0,CJ72*ASTM(AM72,0))))","v":""},"",{"$f":"IF(ISBLANK(AD72),\"\",IF(COUNT(AD72:AM72)<>10,NA(),CI72*ASTM(AD72,3)))","v":""},"",{"$f":"IF(ISBLANK(AD72),\"\",IF(COUNT(AD72:AM72)<>10,NA(),CN72*ASTM(AD72,3)))","v":""},"",{"$f":"IF(ISBLANK(AD72),\"\",IF(COUNT(AD72:AM72)<>10,NA(),ASTM(mdiuf(CP72)-mdiuf(CP71),3)))","v":""},{"$f":"IF(ISBLANK(AD72),\"\",IF(COUNT(AD72:AM72)<>10,NA(),IF(ASTM(AI72,0)=0,0,CQ72*ASTM(AI72,0)/(CN72))))","v":""},"",{"$f":"IF(ISBLANK(AD72),\"\",IF(COUNT(AD72:AM72)<>10,NA(),ASTM(highwayfufalt(CP72)-highwayfufalt(CP71),3)))","v":""},"",{"$f":"IF(ISBLANK(AD72),\"\",IF(COUNT(AD72:AM72)<>10,NA(),IF(ASTM(AI72,0)=0,0,CT72*ASTM(AM72,0)/(CN72))))","v":""}]
[null,null,"*City CO2 Unrounded Unadjusted ",null,null,{"$f":"IF($J$6=\"HD 2b/3\",NA(),ASTM(IF($N$7+$N$55+$N$103=0,   (N14+N62+N110)/ ((N14<>0)+(N62<>0)+(N110<>0)),    (IFERROR($N$7*N14,0)+IFERROR($N$55*N62,0)+IFERROR($N$103*N110,0)) /  ($N$7+$N$55+$N$103)   ),1))","v":{"$error":"#VALUE!"}},null,null,null,null,null,null,"ENTER ADDITIONAL CHARGE-SUSTAINING 5-CYCLE TEST NUMBERS HERE",null,null,null,15,null,null,null,null,null,null,null,null,{"$f":"IF(ISBLANK(R73),\"\",IF(OR($J$6=\"HD 2b/3\",COUNT(R73:W73)<>6,$AA$95<>\"Yes\",$AA$97<>\"Yes\"),NA(),IF(ASTM(W73,0)=0,0,ASTM((51740000*$T$94*$T$95)/((($T$94*U73)+(0.429*V73)+(0.273*W73))*((0.6*$T$95*$T$96)+5471)),1))))","v":""},{"$f":"IF(ISBLANK(R73),\"\",IF(OR(AND($J$6<>\"HD 2b/3\",COUNT(R73:W73)<>6),AND($J$6=\"HD 2b/3\",COUNT(R73)+COUNT(W73)<>2),$AA$95<>\"Yes\",$AA$97<>\"Yes\"),NA(),IF(ASTM(W73,0)=0,0,IF($J$6=\"HD 2b/3\",W73,ASTM((($T$94/0.273)*U73)+(1.571*V73)+W73,0)))))","v":""},null,15,null,null,null,null,null,null,null,null,{"$f":"IF(ISBLANK(AD73),\"\",IF(OR($J$6=\"HD 2b/3\",COUNT(AD73:AI73)<>6,$AM$47<>\"Yes\",$AM$49<>\"Yes\"),NA(),IF(ASTM(AI73,0)=0,0,ASTM((51740000*$AF$46*$AF$47)/((($AF$46*AG73)+(0.429*AH73)+(0.273*AI73))*((0.6*$AF$47*$AF$48)+5471)),1))))","v":""},{"$f":"IF(ISBLANK(AD73),\"\",IF(OR(AND($J$6<>\"HD 2b/3\",COUNT(AD73:AI73)<>6),AND($J$6=\"HD 2b/3\",COUNT(AD73)+COUNT(AI73)<>2),$AM$95<>\"Yes\",$AM$97<>\"Yes\"),NA(),IF(ASTM(AI73,0)=0,0,IF($J$6=\"HD 2b/3\",AI73,ASTM((($AF$94/0.273)*AG73)+(1.571*AH73)+AI73,0)))))","v":""},null,null,null,"Annual Fuel Cost ($/year) [0]",null,null,{"$f":"IF($J$6=\"HD 2b/3\",NA(),ASTM(IFERROR(15000*_xlfn.SINGLE(ASTM(0.55*AY94+0.45*AZ94,3)),0)/50,0) * 50)","v":0},null,null,"NEW","CD CO2 emissions rate (Rcda), adjusted (g/mi) [1]",{"$f":"IF($J$6=\"HD 2b/3\",NA(),IFERROR(ASTM( IFERROR((SUMIF(BD59:BD93,\"<=\" & AY82-1,BF59:BF93)+AY81*SUMIF(BD59:BD93,\"=\" & AY82-1,BF59:BF93))/AY55,#VALUE!), 1),0))","v":0},{"$f":"IF($J$6=\"HD 2b/3\",NA(),IFERROR(ASTM( IFERROR((SUMIF(CA59:CA93,\"<=\" & AZ82-1,CC59:CC93)+AZ81*SUMIF(CA59:CA93,\"=\" & AZ82-1,CC59:CC93))/AZ55,#VALUE!), 1),0))","v":0},null,null,null,15,{"$f":"IF(ISBLANK(R73),\"\",IF(COUNT(R73:AA73)<>10,NA(),IF(ASTM(W73,0)=0,0,IFERROR(ASTM(R73,3)/ASTM(Z73,1),0))))","v":""},{"$f":"IF(ISBLANK(R73),\"\",IF(COUNT(R73:AA73)<>10,NA(),IF(W73=0,0,ASTM(ASTM(W73,0)*ASTM(R73,3),0))))","v":""},{"$f":"IF(ISBLANK(R73),\"\",IF(COUNT(R73:AA73)<>10,NA(),ASTM(S73,3)-ASTM(S72,3)))","v":""},{"$f":"IF(ISBLANK(R73),\"\",IF(COUNT(R73:AA73)<>10,NA(),ASTM(BG73*ASTM(T73,2),1)))","v":""},{"$f":"IF(ISBLANK(R73),\"\",IF(COUNT(R73:AA73)<>10,NA(),ASTM(ASTM($Y$94,4)*1000*(BH73/$AY$61),1)))","v":""},"",{"$f":"IF(ISBLANK(R73),\"\",IF(COUNT(R73:AA73)<>10,NA(),BI73/(33705*ASTM(R73,3))))","v":""},"",{"$f":"IF(ISBLANK(R73),\"\",IFERROR(ASTM(cityfuf(BJ73)-cityfuf(BJ72),3),\"\"))","v":""},{"$f":"IF(ISBLANK(R73),\"\",IF(OR(ISNUMBER(R73)=FALSE,ISNUMBER(AA73)=FALSE),NA(),IF(ASTM(W73,0)=0,0,BM73*ASTM(AA73,0))))","v":""},"",{"$f":"IF(ISBLANK(R73),\"\",IF(COUNT(R73:AA73)<>10,NA(),BL73*ASTM(R73,3)))","v":""},"",{"$f":"IF(ISBLANK(R73),\"\",IF(COUNT(R73:AA73)<>10,NA(),BQ73*ASTM(R73,3)))","v":""},"",{"$f":"IF(ISBLANK(R73),\"\",IF(COUNT(R73:AA73)<>10,NA(),ASTM(mdiuf(BS73),3)-ASTM(mdiuf(BS72),3)))","v":""},{"$f":"IF(ISBLANK(R73),\"\",IF(COUNT(R73:AA73)<>10,NA(),IF(ASTM(W73,0)=0,0,BT73*ASTM(W73,0)/(BQ73))))","v":""},"",{"$f":"IF(ISBLANK(R73),\"\",IF(COUNT(R73:AA73)<>10,NA(),ASTM(cityfufalt(BS73)-cityfufalt(BS72),3)))","v":""},"",{"$f":"IF(ISBLANK(R73),\"\",IF(COUNT(R73:AA73)<>10,NA(),IF(ASTM(W73,0)=0,0,BW73*ASTM(AA73,0)/(BQ73))))","v":""},null,15,{"$f":"IF(ISBLANK(AD73),\"\",IF(COUNT(AD73:AM73)<>10,NA(),IF(ASTM(AI73,0)=0,0,ASTM(AD73,3)/ASTM(AL73,1))))","v":""},{"$f":"IF(ISBLANK(AD73),\"\",IF(COUNT(AD73:AM73)<>10,NA(),IF(ASTM(AI73,0)=0,0,ASTM(ASTM(AI73,0)*ASTM(AD73,3),0))))","v":""},{"$f":"IF(ISBLANK(AD73),\"\",IF(COUNT(AD73:AM73)<>10,NA(),ASTM(AE73,3)-ASTM(AE72,3)))","v":""},{"$f":"IF(ISBLANK(AD73),\"\",IF(COUNT(AD73:AM73)<>10,NA(),ASTM(CD73*ASTM(AF73,2),1)))","v":""},{"$f":"IF(ISBLANK(AD73),\"\",IF(COUNT(AD73:AM73)<>10,NA(),ASTM(ASTM($AK$94,4)*1000*(CE73/$AZ$61),1)))","v":""},"",{"$f":"IF(ISBLANK(AD73),\"\",IF(COUNT(AD73:AM73)<>10,NA(),CF73/(33705*ASTM(AD73,3))))","v":""},"",{"$f":"IF(ISBLANK(AD73),\"\",ASTM(highwayfuf(CG73)-highwayfuf(CG72),3))","v":""},{"$f":"IF(ISBLANK(AD73),\"\",IF(OR(ISNUMBER(AD73)=FALSE,ISNUMBER(AM73)=FALSE),NA(),IF(ASTM(AI73,0)=0,0,CJ73*ASTM(AM73,0))))","v":""},"",{"$f":"IF(ISBLANK(AD73),\"\",IF(COUNT(AD73:AM73)<>10,NA(),CI73*ASTM(AD73,3)))","v":""},"",{"$f":"IF(ISBLANK(AD73),\"\",IF(COUNT(AD73:AM73)<>10,NA(),CN73*ASTM(AD73,3)))","v":""},"",{"$f":"IF(ISBLANK(AD73),\"\",IF(COUNT(AD73:AM73)<>10,NA(),ASTM(mdiuf(CP73)-mdiuf(CP72),3)))","v":""},{"$f":"IF(ISBLANK(AD73),\"\",IF(COUNT(AD73:AM73)<>10,NA(),IF(ASTM(AI73,0)=0,0,CQ73*ASTM(AI73,0)/(CN73))))","v":""},"",{"$f":"IF(ISBLANK(AD73),\"\",IF(COUNT(AD73:AM73)<>10,NA(),ASTM(highwayfufalt(CP73)-highwayfufalt(CP72),3)))","v":""},"",{"$f":"IF(ISBLANK(AD73),\"\",IF(COUNT(AD73:AM73)<>10,NA(),IF(ASTM(AI73,0)=0,0,CT73*ASTM(AM73,0)/(CN73))))","v":""}]
[null,null,"*Hwy CO2 Unrounded Unadjusted ",null,null,{"$f":"IF($J$6=\"HD 2b/3\",NA(),ASTM(IF($N$7+$N$55+$N$103=0,   (O14+O62+O110)/ ((O14<>0)+(O62<>0)+(O110<>0)),    (IFERROR($N$7*O14,0)+IFERROR($N$55*O62,0)+IFERROR($N$103*O110,0)) /  ($N$7+$N$55+$N$103)   ),1))","v":{"$error":"#VALUE!"}},null,null,null,null,null,null,null,"Test Procedure","Test Number",null,16,null,null,null,null,null,null,null,null,{"$f":"IF(ISBLANK(R74),\"\",IF(OR($J$6=\"HD 2b/3\",COUNT(R74:W74)<>6,$AA$95<>\"Yes\",$AA$97<>\"Yes\"),NA(),IF(ASTM(W74,0)=0,0,ASTM((51740000*$T$94*$T$95)/((($T$94*U74)+(0.429*V74)+(0.273*W74))*((0.6*$T$95*$T$96)+5471)),1))))","v":""},{"$f":"IF(ISBLANK(R74),\"\",IF(OR(AND($J$6<>\"HD 2b/3\",COUNT(R74:W74)<>6),AND($J$6=\"HD 2b/3\",COUNT(R74)+COUNT(W74)<>2),$AA$95<>\"Yes\",$AA$97<>\"Yes\"),NA(),IF(ASTM(W74,0)=0,0,IF($J$6=\"HD 2b/3\",W74,ASTM((($T$94/0.273)*U74)+(1.571*V74)+W74,0)))))","v":""},null,16,null,null,null,null,null,null,null,null,{"$f":"IF(ISBLANK(AD74),\"\",IF(OR($J$6=\"HD 2b/3\",COUNT(AD74:AI74)<>6,$AM$47<>\"Yes\",$AM$49<>\"Yes\"),NA(),IF(ASTM(AI74,0)=0,0,ASTM((51740000*$AF$46*$AF$47)/((($AF$46*AG74)+(0.429*AH74)+(0.273*AI74))*((0.6*$AF$47*$AF$48)+5471)),1))))","v":""},{"$f":"IF(ISBLANK(AD74),\"\",IF(OR(AND($J$6<>\"HD 2b/3\",COUNT(AD74:AI74)<>6),AND($J$6=\"HD 2b/3\",COUNT(AD74)+COUNT(AI74)<>2),$AM$95<>\"Yes\",$AM$97<>\"Yes\"),NA(),IF(ASTM(AI74,0)=0,0,IF($J$6=\"HD 2b/3\",AI74,ASTM((($AF$94/0.273)*AG74)+(1.571*AH74)+AI74,0)))))","v":""},null,null,null,"5-Year Fuel Savings Value ($/5 years) [0]",null,null,{"$f":"$F$38-5*AT73","v":{"$error":"#N/A"}},null,null,"NEW","CD utilitized CO2 (MDIUF, Rcdc), adjusted (g/mi) [1]",{"$f":"IF($J$6=\"HD 2b/3\",NA(),ASTM(SUMIF(BD59:BD93,\"<=\" & (AY82),BU59:BU93),1))","v":0},{"$f":"IF($J$6=\"HD 2b/3\",NA(),ASTM(SUMIF(CA59:CA93,\"<=\" & (AZ82),CR59:CR93),1))","v":0},null,null,null,16,{"$f":"IF(ISBLANK(R74),\"\",IF(COUNT(R74:AA74)<>10,NA(),IF(ASTM(W74,0)=0,0,IFERROR(ASTM(R74,3)/ASTM(Z74,1),0))))","v":""},{"$f":"IF(ISBLANK(R74),\"\",IF(COUNT(R74:AA74)<>10,NA(),IF(W74=0,0,ASTM(ASTM(W74,0)*ASTM(R74,3),0))))","v":""},{"$f":"IF(ISBLANK(R74),\"\",IF(COUNT(R74:AA74)<>10,NA(),ASTM(S74,3)-ASTM(S73,3)))","v":""},{"$f":"IF(ISBLANK(R74),\"\",IF(COUNT(R74:AA74)<>10,NA(),ASTM(BG74*ASTM(T74,2),1)))","v":""},{"$f":"IF(ISBLANK(R74),\"\",IF(COUNT(R74:AA74)<>10,NA(),ASTM(ASTM($Y$94,4)*1000*(BH74/$AY$61),1)))","v":""},"",{"$f":"IF(ISBLANK(R74),\"\",IF(COUNT(R74:AA74)<>10,NA(),BI74/(33705*ASTM(R74,3))))","v":""},"",{"$f":"IF(ISBLANK(R74),\"\",IFERROR(ASTM(cityfuf(BJ74)-cityfuf(BJ73),3),\"\"))","v":""},{"$f":"IF(ISBLANK(R74),\"\",IF(OR(ISNUMBER(R74)=FALSE,ISNUMBER(AA74)=FALSE),NA(),IF(ASTM(W74,0)=0,0,BM74*ASTM(AA74,0))))","v":""},"",{"$f":"IF(ISBLANK(R74),\"\",IF(COUNT(R74:AA74)<>10,NA(),BL74*ASTM(R74,3)))","v":""},"",{"$f":"IF(ISBLANK(R74),\"\",IF(COUNT(R74:AA74)<>10,NA(),BQ74*ASTM(R74,3)))","v":""},"",{"$f":"IF(ISBLANK(R74),\"\",IF(COUNT(R74:AA74)<>10,NA(),ASTM(mdiuf(BS74),3)-ASTM(mdiuf(BS73),3)))","v":""},{"$f":"IF(ISBLANK(R74),\"\",IF(COUNT(R74:AA74)<>10,NA(),IF(ASTM(W74,0)=0,0,BT74*ASTM(W74,0)/(BQ74))))","v":""},"",{"$f":"IF(ISBLANK(R74),\"\",IF(COUNT(R74:AA74)<>10,NA(),ASTM(cityfufalt(BS74)-cityfufalt(BS73),3)))","v":""},"",{"$f":"IF(ISBLANK(R74),\"\",IF(COUNT(R74:AA74)<>10,NA(),IF(ASTM(W74,0)=0,0,BW74*ASTM(AA74,0)/(BQ74))))","v":""},null,16,{"$f":"IF(ISBLANK(AD74),\"\",IF(COUNT(AD74:AM74)<>10,NA(),IF(ASTM(AI74,0)=0,0,ASTM(AD74,3)/ASTM(AL74,1))))","v":""},{"$f":"IF(ISBLANK(AD74),\"\",IF(COUNT(AD74:AM74)<>10,NA(),IF(ASTM(AI74,0)=0,0,ASTM(ASTM(AI74,0)*ASTM(AD74,3),0))))","v":""},{"$f":"IF(ISBLANK(AD74),\"\",IF(COUNT(AD74:AM74)<>10,NA(),ASTM(AE74,3)-ASTM(AE73,3)))","v":""},{"$f":"IF(ISBLANK(AD74),\"\",IF(COUNT(AD74:AM74)<>10,NA(),ASTM(CD74*ASTM(AF74,2),1)))","v":""},{"$f":"IF(ISBLANK(AD74),\"\",IF(COUNT(AD74:AM74)<>10,NA(),ASTM(ASTM($AK$94,4)*1000*(CE74/$AZ$61),1)))","v":""},"",{"$f":"IF(ISBLANK(AD74),\"\",IF(COUNT(AD74:AM74)<>10,NA(),CF74/(33705*ASTM(AD74,3))))","v":""},"",{"$f":"IF(ISBLANK(AD74),\"\",ASTM(highwayfuf(CG74)-highwayfuf(CG73),3))","v":""},{"$f":"IF(ISBLANK(AD74),\"\",IF(OR(ISNUMBER(AD74)=FALSE,ISNUMBER(AM74)=FALSE),NA(),IF(ASTM(AI74,0)=0,0,CJ74*ASTM(AM74,0))))","v":""},"",{"$f":"IF(ISBLANK(AD74),\"\",IF(COUNT(AD74:AM74)<>10,NA(),CI74*ASTM(AD74,3)))","v":""},"",{"$f":"IF(ISBLANK(AD74),\"\",IF(COUNT(AD74:AM74)<>10,NA(),CN74*ASTM(AD74,3)))","v":""},"",{"$f":"IF(ISBLANK(AD74),\"\",IF(COUNT(AD74:AM74)<>10,NA(),ASTM(mdiuf(CP74)-mdiuf(CP73),3)))","v":""},{"$f":"IF(ISBLANK(AD74),\"\",IF(COUNT(AD74:AM74)<>10,NA(),IF(ASTM(AI74,0)=0,0,CQ74*ASTM(AI74,0)/(CN74))))","v":""},"",{"$f":"IF(ISBLANK(AD74),\"\",IF(COUNT(AD74:AM74)<>10,NA(),ASTM(highwayfufalt(CP74)-highwayfufalt(CP73),3)))","v":""},"",{"$f":"IF(ISBLANK(AD74),\"\",IF(COUNT(AD74:AM74)<>10,NA(),IF(ASTM(AI74,0)=0,0,CT74*ASTM(AM74,0)/(CN74))))","v":""}]
[null,null,"*Combined CO2 Unrounded Unadjusted ",null,null,{"$f":"IF($J$6=\"HD 2b/3\",NA(),ASTM(0.55*(IF($N$7+$N$55+$N$103=0,   (N14+N62+N110)/ ((N14<>0)+(N62<>0)+(N110<>0)),    (IFERROR($N$7*N14,0)+IFERROR($N$55*N62,0)+IFERROR($N$103*N110,0)) /  ($N$7+$N$55+$N$103)   ))+0.45*(IF($N$7+$N$55+$N$103=0,   (O14+O62+O110)/ ((O14<>0)+(O62<>0)+(O110<>0)),    (IFERROR($N$7*O14,0)+IFERROR($N$55*O62,0)+IFERROR($N$103*O110,0)) /  ($N$7+$N$55+$N$103)   )),1))","v":{"$error":"#VALUE!"}},null,null,null,null,null,null,{"$f":"IF($J$6=\"HD 2b/3\",NA(),\"Charge-Sustaining Test (Optional):\")","v":"Charge-Sustaining Test (Optional):"},null,null,null,17,null,null,null,null,null,null,null,null,{"$f":"IF(ISBLANK(R75),\"\",IF(OR($J$6=\"HD 2b/3\",COUNT(R75:W75)<>6,$AA$95<>\"Yes\",$AA$97<>\"Yes\"),NA(),IF(ASTM(W75,0)=0,0,ASTM((51740000*$T$94*$T$95)/((($T$94*U75)+(0.429*V75)+(0.273*W75))*((0.6*$T$95*$T$96)+5471)),1))))","v":""},{"$f":"IF(ISBLANK(R75),\"\",IF(OR(AND($J$6<>\"HD 2b/3\",COUNT(R75:W75)<>6),AND($J$6=\"HD 2b/3\",COUNT(R75)+COUNT(W75)<>2),$AA$95<>\"Yes\",$AA$97<>\"Yes\"),NA(),IF(ASTM(W75,0)=0,0,IF($J$6=\"HD 2b/3\",W75,ASTM((($T$94/0.273)*U75)+(1.571*V75)+W75,0)))))","v":""},null,17,null,null,null,null,null,null,null,null,{"$f":"IF(ISBLANK(AD75),\"\",IF(OR($J$6=\"HD 2b/3\",COUNT(AD75:AI75)<>6,$AM$47<>\"Yes\",$AM$49<>\"Yes\"),NA(),IF(ASTM(AI75,0)=0,0,ASTM((51740000*$AF$46*$AF$47)/((($AF$46*AG75)+(0.429*AH75)+(0.273*AI75))*((0.6*$AF$47*$AF$48)+5471)),1))))","v":""},{"$f":"IF(ISBLANK(AD75),\"\",IF(OR(AND($J$6<>\"HD 2b/3\",COUNT(AD75:AI75)<>6),AND($J$6=\"HD 2b/3\",COUNT(AD75)+COUNT(AI75)<>2),$AM$95<>\"Yes\",$AM$97<>\"Yes\"),NA(),IF(ASTM(AI75,0)=0,0,IF($J$6=\"HD 2b/3\",AI75,ASTM((($AF$94/0.273)*AG75)+(1.571*AH75)+AI75,0)))))","v":""},null,null,null,"Composite CO2 (g/mi) [0]",null,null,{"$f":"IF($J$6=\"HD 2b/3\",NA(),ASTM(0.55*AY96+0.45*AZ96,0))","v":0},null,null,null,"CD utilitized CREE (55/45 FUF, Rcdc), unadjusted (g/mi) [1]",{"$f":"ASTM(SUMIF(BD59:BD93,\"<=\" & AY82,BN59:BN93),1)","v":0},{"$f":"ASTM(SUMIF(CA59:CA93,\"<=\" & AZ82,CK59:CK93),1)","v":0},null,null,null,17,{"$f":"IF(ISBLANK(R75),\"\",IF(COUNT(R75:AA75)<>10,NA(),IF(ASTM(W75,0)=0,0,IFERROR(ASTM(R75,3)/ASTM(Z75,1),0))))","v":""},{"$f":"IF(ISBLANK(R75),\"\",IF(COUNT(R75:AA75)<>10,NA(),IF(W75=0,0,ASTM(ASTM(W75,0)*ASTM(R75,3),0))))","v":""},{"$f":"IF(ISBLANK(R75),\"\",IF(COUNT(R75:AA75)<>10,NA(),ASTM(S75,3)-ASTM(S74,3)))","v":""},{"$f":"IF(ISBLANK(R75),\"\",IF(COUNT(R75:AA75)<>10,NA(),ASTM(BG75*ASTM(T75,2),1)))","v":""},{"$f":"IF(ISBLANK(R75),\"\",IF(COUNT(R75:AA75)<>10,NA(),ASTM(ASTM($Y$94,4)*1000*(BH75/$AY$61),1)))","v":""},"",{"$f":"IF(ISBLANK(R75),\"\",IF(COUNT(R75:AA75)<>10,NA(),BI75/(33705*ASTM(R75,3))))","v":""},"",{"$f":"IF(ISBLANK(R75),\"\",IFERROR(ASTM(cityfuf(BJ75)-cityfuf(BJ74),3),\"\"))","v":""},{"$f":"IF(ISBLANK(R75),\"\",IF(OR(ISNUMBER(R75)=FALSE,ISNUMBER(AA75)=FALSE),NA(),IF(ASTM(W75,0)=0,0,BM75*ASTM(AA75,0))))","v":""},"",{"$f":"IF(ISBLANK(R75),\"\",IF(COUNT(R75:AA75)<>10,NA(),BL75*ASTM(R75,3)))","v":""},"",{"$f":"IF(ISBLANK(R75),\"\",IF(COUNT(R75:AA75)<>10,NA(),BQ75*ASTM(R75,3)))","v":""},"",{"$f":"IF(ISBLANK(R75),\"\",IF(COUNT(R75:AA75)<>10,NA(),ASTM(mdiuf(BS75),3)-ASTM(mdiuf(BS74),3)))","v":""},{"$f":"IF(ISBLANK(R75),\"\",IF(COUNT(R75:AA75)<>10,NA(),IF(ASTM(W75,0)=0,0,BT75*ASTM(W75,0)/(BQ75))))","v":""},"",{"$f":"IF(ISBLANK(R75),\"\",IF(COUNT(R75:AA75)<>10,NA(),ASTM(cityfufalt(BS75)-cityfufalt(BS74),3)))","v":""},"",{"$f":"IF(ISBLANK(R75),\"\",IF(COUNT(R75:AA75)<>10,NA(),IF(ASTM(W75,0)=0,0,BW75*ASTM(AA75,0)/(BQ75))))","v":""},null,17,{"$f":"IF(ISBLANK(AD75),\"\",IF(COUNT(AD75:AM75)<>10,NA(),IF(ASTM(AI75,0)=0,0,ASTM(AD75,3)/ASTM(AL75,1))))","v":""},{"$f":"IF(ISBLANK(AD75),\"\",IF(COUNT(AD75:AM75)<>10,NA(),IF(ASTM(AI75,0)=0,0,ASTM(ASTM(AI75,0)*ASTM(AD75,3),0))))","v":""},{"$f":"IF(ISBLANK(AD75),\"\",IF(COUNT(AD75:AM75)<>10,NA(),ASTM(AE75,3)-ASTM(AE74,3)))","v":""},{"$f":"IF(ISBLANK(AD75),\"\",IF(COUNT(AD75:AM75)<>10,NA(),ASTM(CD75*ASTM(AF75,2),1)))","v":""},{"$f":"IF(ISBLANK(AD75),\"\",IF(COUNT(AD75:AM75)<>10,NA(),ASTM(ASTM($AK$94,4)*1000*(CE75/$AZ$61),1)))","v":""},"",{"$f":"IF(ISBLANK(AD75),\"\",IF(COUNT(AD75:AM75)<>10,NA(),CF75/(33705*ASTM(AD75,3))))","v":""},"",{"$f":"IF(ISBLANK(AD75),\"\",ASTM(highwayfuf(CG75)-highwayfuf(CG74),3))","v":""},{"$f":"IF(ISBLANK(AD75),\"\",IF(OR(ISNUMBER(AD75)=FALSE,ISNUMBER(AM75)=FALSE),NA(),IF(ASTM(AI75,0)=0,0,CJ75*ASTM(AM75,0))))","v":""},"",{"$f":"IF(ISBLANK(AD75),\"\",IF(COUNT(AD75:AM75)<>10,NA(),CI75*ASTM(AD75,3)))","v":""},"",{"$f":"IF(ISBLANK(AD75),\"\",IF(COUNT(AD75:AM75)<>10,NA(),CN75*ASTM(AD75,3)))","v":""},"",{"$f":"IF(ISBLANK(AD75),\"\",IF(COUNT(AD75:AM75)<>10,NA(),ASTM(mdiuf(CP75)-mdiuf(CP74),3)))","v":""},{"$f":"IF(ISBLANK(AD75),\"\",IF(COUNT(AD75:AM75)<>10,NA(),IF(ASTM(AI75,0)=0,0,CQ75*ASTM(AI75,0)/(CN75))))","v":""},"",{"$f":"IF(ISBLANK(AD75),\"\",IF(COUNT(AD75:AM75)<>10,NA(),ASTM(highwayfufalt(CP75)-highwayfufalt(CP74),3)))","v":""},"",{"$f":"IF(ISBLANK(AD75),\"\",IF(COUNT(AD75:AM75)<>10,NA(),IF(ASTM(AI75,0)=0,0,CT75*ASTM(AM75,0)/(CN75))))","v":""}]
[null,null,"*City CO2 Unrounded Adjusted ",null,null,{"$f":"IF($J$6=\"HD 2b/3\",NA(),ASTM(IF($N$7+$N$55+$N$103=0,   (N15+N63+N111)/ ((N15<>0)+(N63<>0)+(N111<>0)),    (IFERROR($N$7*N15,0)+IFERROR($N$55*N63,0)+IFERROR($N$103*N111,0)) /  ($N$7+$N$55+$N$103)   ),1))","v":{"$error":"#VALUE!"}},null,null,null,null,null,null,{"$f":"IF($J$6=\"HD 2b/3\",NA(),\"Charge-Sustaining Test (Optional):\")","v":"Charge-Sustaining Test (Optional):"},null,null,null,18,null,null,null,null,null,null,null,null,{"$f":"IF(ISBLANK(R76),\"\",IF(OR($J$6=\"HD 2b/3\",COUNT(R76:W76)<>6,$AA$95<>\"Yes\",$AA$97<>\"Yes\"),NA(),IF(ASTM(W76,0)=0,0,ASTM((51740000*$T$94*$T$95)/((($T$94*U76)+(0.429*V76)+(0.273*W76))*((0.6*$T$95*$T$96)+5471)),1))))","v":""},{"$f":"IF(ISBLANK(R76),\"\",IF(OR(AND($J$6<>\"HD 2b/3\",COUNT(R76:W76)<>6),AND($J$6=\"HD 2b/3\",COUNT(R76)+COUNT(W76)<>2),$AA$95<>\"Yes\",$AA$97<>\"Yes\"),NA(),IF(ASTM(W76,0)=0,0,IF($J$6=\"HD 2b/3\",W76,ASTM((($T$94/0.273)*U76)+(1.571*V76)+W76,0)))))","v":""},null,18,null,null,null,null,null,null,null,null,{"$f":"IF(ISBLANK(AD76),\"\",IF(OR($J$6=\"HD 2b/3\",COUNT(AD76:AI76)<>6,$AM$47<>\"Yes\",$AM$49<>\"Yes\"),NA(),IF(ASTM(AI76,0)=0,0,ASTM((51740000*$AF$46*$AF$47)/((($AF$46*AG76)+(0.429*AH76)+(0.273*AI76))*((0.6*$AF$47*$AF$48)+5471)),1))))","v":""},{"$f":"IF(ISBLANK(AD76),\"\",IF(OR(AND($J$6<>\"HD 2b/3\",COUNT(AD76:AI76)<>6),AND($J$6=\"HD 2b/3\",COUNT(AD76)+COUNT(AI76)<>2),$AM$95<>\"Yes\",$AM$97<>\"Yes\"),NA(),IF(ASTM(AI76,0)=0,0,IF($J$6=\"HD 2b/3\",AI76,ASTM((($AF$94/0.273)*AG76)+(1.571*AH76)+AI76,0)))))","v":""},null,null,null,"Composite Fuel Economy (MPG) [0]",null,null,{"$f":"IF($J$6=\"HD 2b/3\",NA(),IFERROR(ASTM(1/(0.55/AY97+0.45/AZ97),0),0))","v":0},null,null,"NEW","CD utilitized CREE (43/57 FUF, Rcdc), adjusted (g/mi) [1]",{"$f":"IF($J$6=\"HD 2b/3\",NA(),ASTM(SUMIF(BD59:BD93,\"<=\" & (AY82),BY59:BY93),1))","v":0},{"$f":"IF($J$6=\"HD 2b/3\",NA(),ASTM(SUMIF(CA59:CA93,\"<=\" & (AZ82),CV59:CV93),1))","v":0},null,null,null,18,{"$f":"IF(ISBLANK(R76),\"\",IF(COUNT(R76:AA76)<>10,NA(),IF(ASTM(W76,0)=0,0,IFERROR(ASTM(R76,3)/ASTM(Z76,1),0))))","v":""},{"$f":"IF(ISBLANK(R76),\"\",IF(COUNT(R76:AA76)<>10,NA(),IF(W76=0,0,ASTM(ASTM(W76,0)*ASTM(R76,3),0))))","v":""},{"$f":"IF(ISBLANK(R76),\"\",IF(COUNT(R76:AA76)<>10,NA(),ASTM(S76,3)-ASTM(S75,3)))","v":""},{"$f":"IF(ISBLANK(R76),\"\",IF(COUNT(R76:AA76)<>10,NA(),ASTM(BG76*ASTM(T76,2),1)))","v":""},{"$f":"IF(ISBLANK(R76),\"\",IF(COUNT(R76:AA76)<>10,NA(),ASTM(ASTM($Y$94,4)*1000*(BH76/$AY$61),1)))","v":""},"",{"$f":"IF(ISBLANK(R76),\"\",IF(COUNT(R76:AA76)<>10,NA(),BI76/(33705*ASTM(R76,3))))","v":""},"",{"$f":"IF(ISBLANK(R76),\"\",IFERROR(ASTM(cityfuf(BJ76)-cityfuf(BJ75),3),\"\"))","v":""},{"$f":"IF(ISBLANK(R76),\"\",IF(OR(ISNUMBER(R76)=FALSE,ISNUMBER(AA76)=FALSE),NA(),IF(ASTM(W76,0)=0,0,BM76*ASTM(AA76,0))))","v":""},"",{"$f":"IF(ISBLANK(R76),\"\",IF(COUNT(R76:AA76)<>10,NA(),BL76*ASTM(R76,3)))","v":""},"",{"$f":"IF(ISBLANK(R76),\"\",IF(COUNT(R76:AA76)<>10,NA(),BQ76*ASTM(R76,3)))","v":""},"",{"$f":"IF(ISBLANK(R76),\"\",IF(COUNT(R76:AA76)<>10,NA(),ASTM(mdiuf(BS76),3)-ASTM(mdiuf(BS75),3)))","v":""},{"$f":"IF(ISBLANK(R76),\"\",IF(COUNT(R76:AA76)<>10,NA(),IF(ASTM(W76,0)=0,0,BT76*ASTM(W76,0)/(BQ76))))","v":""},"",{"$f":"IF(ISBLANK(R76),\"\",IF(COUNT(R76:AA76)<>10,NA(),ASTM(cityfufalt(BS76)-cityfufalt(BS75),3)))","v":""},"",{"$f":"IF(ISBLANK(R76),\"\",IF(COUNT(R76:AA76)<>10,NA(),IF(ASTM(W76,0)=0,0,BW76*ASTM(AA76,0)/(BQ76))))","v":""},null,18,{"$f":"IF(ISBLANK(AD76),\"\",IF(COUNT(AD76:AM76)<>10,NA(),IF(ASTM(AI76,0)=0,0,ASTM(AD76,3)/ASTM(AL76,1))))","v":""},{"$f":"IF(ISBLANK(AD76),\"\",IF(COUNT(AD76:AM76)<>10,NA(),IF(ASTM(AI76,0)=0,0,ASTM(ASTM(AI76,0)*ASTM(AD76,3),0))))","v":""},{"$f":"IF(ISBLANK(AD76),\"\",IF(COUNT(AD76:AM76)<>10,NA(),ASTM(AE76,3)-ASTM(AE75,3)))","v":""},{"$f":"IF(ISBLANK(AD76),\"\",IF(COUNT(AD76:AM76)<>10,NA(),ASTM(CD76*ASTM(AF76,2),1)))","v":""},{"$f":"IF(ISBLANK(AD76),\"\",IF(COUNT(AD76:AM76)<>10,NA(),ASTM(ASTM($AK$94,4)*1000*(CE76/$AZ$61),1)))","v":""},"",{"$f":"IF(ISBLANK(AD76),\"\",IF(COUNT(AD76:AM76)<>10,NA(),CF76/(33705*ASTM(AD76,3))))","v":""},"",{"$f":"IF(ISBLANK(AD76),\"\",ASTM(highwayfuf(CG76)-highwayfuf(CG75),3))","v":""},{"$f":"IF(ISBLANK(AD76),\"\",IF(OR(ISNUMBER(AD76)=FALSE,ISNUMBER(AM76)=FALSE),NA(),IF(ASTM(AI76,0)=0,0,CJ76*ASTM(AM76,0))))","v":""},"",{"$f":"IF(ISBLANK(AD76),\"\",IF(COUNT(AD76:AM76)<>10,NA(),CI76*ASTM(AD76,3)))","v":""},"",{"$f":"IF(ISBLANK(AD76),\"\",IF(COUNT(AD76:AM76)<>10,NA(),CN76*ASTM(AD76,3)))","v":""},"",{"$f":"IF(ISBLANK(AD76),\"\",IF(COUNT(AD76:AM76)<>10,NA(),ASTM(mdiuf(CP76)-mdiuf(CP75),3)))","v":""},{"$f":"IF(ISBLANK(AD76),\"\",IF(COUNT(AD76:AM76)<>10,NA(),IF(ASTM(AI76,0)=0,0,CQ76*ASTM(AI76,0)/(CN76))))","v":""},"",{"$f":"IF(ISBLANK(AD76),\"\",IF(COUNT(AD76:AM76)<>10,NA(),ASTM(highwayfufalt(CP76)-highwayfufalt(CP75),3)))","v":""},"",{"$f":"IF(ISBLANK(AD76),\"\",IF(COUNT(AD76:AM76)<>10,NA(),IF(ASTM(AI76,0)=0,0,CT76*ASTM(AM76,0)/(CN76))))","v":""}]
[null,null,"*Hwy CO2 Unrounded Adjusted ",null,null,{"$f":"IF($J$6=\"HD 2b/3\",NA(),ASTM(IF($N$7+$N$55+$N$103=0,   (O15+O63+O111)/ ((O15<>0)+(O63<>0)+(O111<>0)),    (IFERROR($N$7*O15,0)+IFERROR($N$55*O63,0)+IFERROR($N$103*O111,0)) /  ($N$7+$N$55+$N$103)   ),1))","v":{"$error":"#VALUE!"}},null,null,null,null,null,null,"Charge-Sustaining Test (Optional):",null,null,null,19,null,null,null,null,null,null,null,null,{"$f":"IF(ISBLANK(R77),\"\",IF(OR($J$6=\"HD 2b/3\",COUNT(R77:W77)<>6,$AA$95<>\"Yes\",$AA$97<>\"Yes\"),NA(),IF(ASTM(W77,0)=0,0,ASTM((51740000*$T$94*$T$95)/((($T$94*U77)+(0.429*V77)+(0.273*W77))*((0.6*$T$95*$T$96)+5471)),1))))","v":""},{"$f":"IF(ISBLANK(R77),\"\",IF(OR(AND($J$6<>\"HD 2b/3\",COUNT(R77:W77)<>6),AND($J$6=\"HD 2b/3\",COUNT(R77)+COUNT(W77)<>2),$AA$95<>\"Yes\",$AA$97<>\"Yes\"),NA(),IF(ASTM(W77,0)=0,0,IF($J$6=\"HD 2b/3\",W77,ASTM((($T$94/0.273)*U77)+(1.571*V77)+W77,0)))))","v":""},null,19,null,null,null,null,null,null,null,null,{"$f":"IF(ISBLANK(AD77),\"\",IF(OR($J$6=\"HD 2b/3\",COUNT(AD77:AI77)<>6,$AM$47<>\"Yes\",$AM$49<>\"Yes\"),NA(),IF(ASTM(AI77,0)=0,0,ASTM((51740000*$AF$46*$AF$47)/((($AF$46*AG77)+(0.429*AH77)+(0.273*AI77))*((0.6*$AF$47*$AF$48)+5471)),1))))","v":""},{"$f":"IF(ISBLANK(AD77),\"\",IF(OR(AND($J$6<>\"HD 2b/3\",COUNT(AD77:AI77)<>6),AND($J$6=\"HD 2b/3\",COUNT(AD77)+COUNT(AI77)<>2),$AM$95<>\"Yes\",$AM$97<>\"Yes\"),NA(),IF(ASTM(AI77,0)=0,0,IF($J$6=\"HD 2b/3\",AI77,ASTM((($AF$94/0.273)*AG77)+(1.571*AH77)+AI77,0)))))","v":""},null,null,null,"HOV Lane Values","City","Highway","Combined",null,null,null,"UTILITY FACTORS & OTHER METRICS","CITY","HIGHWAY",null,null,null,19,{"$f":"IF(ISBLANK(R77),\"\",IF(COUNT(R77:AA77)<>10,NA(),IF(ASTM(W77,0)=0,0,IFERROR(ASTM(R77,3)/ASTM(Z77,1),0))))","v":""},{"$f":"IF(ISBLANK(R77),\"\",IF(COUNT(R77:AA77)<>10,NA(),IF(W77=0,0,ASTM(ASTM(W77,0)*ASTM(R77,3),0))))","v":""},{"$f":"IF(ISBLANK(R77),\"\",IF(COUNT(R77:AA77)<>10,NA(),ASTM(S77,3)-ASTM(S76,3)))","v":""},{"$f":"IF(ISBLANK(R77),\"\",IF(COUNT(R77:AA77)<>10,NA(),ASTM(BG77*ASTM(T77,2),1)))","v":""},{"$f":"IF(ISBLANK(R77),\"\",IF(COUNT(R77:AA77)<>10,NA(),ASTM(ASTM($Y$94,4)*1000*(BH77/$AY$61),1)))","v":""},"",{"$f":"IF(ISBLANK(R77),\"\",IF(COUNT(R77:AA77)<>10,NA(),BI77/(33705*ASTM(R77,3))))","v":""},"",{"$f":"IF(ISBLANK(R77),\"\",IFERROR(ASTM(cityfuf(BJ77)-cityfuf(BJ76),3),\"\"))","v":""},{"$f":"IF(ISBLANK(R77),\"\",IF(OR(ISNUMBER(R77)=FALSE,ISNUMBER(AA77)=FALSE),NA(),IF(ASTM(W77,0)=0,0,BM77*ASTM(AA77,0))))","v":""},"",{"$f":"IF(ISBLANK(R77),\"\",IF(COUNT(R77:AA77)<>10,NA(),BL77*ASTM(R77,3)))","v":""},"",{"$f":"IF(ISBLANK(R77),\"\",IF(COUNT(R77:AA77)<>10,NA(),BQ77*ASTM(R77,3)))","v":""},"",{"$f":"IF(ISBLANK(R77),\"\",IF(COUNT(R77:AA77)<>10,NA(),ASTM(mdiuf(BS77),3)-ASTM(mdiuf(BS76),3)))","v":""},{"$f":"IF(ISBLANK(R77),\"\",IF(COUNT(R77:AA77)<>10,NA(),IF(ASTM(W77,0)=0,0,BT77*ASTM(W77,0)/(BQ77))))","v":""},"",{"$f":"IF(ISBLANK(R77),\"\",IF(COUNT(R77:AA77)<>10,NA(),ASTM(cityfufalt(BS77)-cityfufalt(BS76),3)))","v":""},"",{"$f":"IF(ISBLANK(R77),\"\",IF(COUNT(R77:AA77)<>10,NA(),IF(ASTM(W77,0)=0,0,BW77*ASTM(AA77,0)/(BQ77))))","v":""},null,19,{"$f":"IF(ISBLANK(AD77),\"\",IF(COUNT(AD77:AM77)<>10,NA(),IF(ASTM(AI77,0)=0,0,ASTM(AD77,3)/ASTM(AL77,1))))","v":""},{"$f":"IF(ISBLANK(AD77),\"\",IF(COUNT(AD77:AM77)<>10,NA(),IF(ASTM(AI77,0)=0,0,ASTM(ASTM(AI77,0)*ASTM(AD77,3),0))))","v":""},{"$f":"IF(ISBLANK(AD77),\"\",IF(COUNT(AD77:AM77)<>10,NA(),ASTM(AE77,3)-ASTM(AE76,3)))","v":""},{"$f":"IF(ISBLANK(AD77),\"\",IF(COUNT(AD77:AM77)<>10,NA(),ASTM(CD77*ASTM(AF77,2),1)))","v":""},{"$f":"IF(ISBLANK(AD77),\"\",IF(COUNT(AD77:AM77)<>10,NA(),ASTM(ASTM($AK$94,4)*1000*(CE77/$AZ$61),1)))","v":""},"",{"$f":"IF(ISBLANK(AD77),\"\",IF(COUNT(AD77:AM77)<>10,NA(),CF77/(33705*ASTM(AD77,3))))","v":""},"",{"$f":"IF(ISBLANK(AD77),\"\",ASTM(highwayfuf(CG77)-highwayfuf(CG76),3))","v":""},{"$f":"IF(ISBLANK(AD77),\"\",IF(OR(ISNUMBER(AD77)=FALSE,ISNUMBER(AM77)=FALSE),NA(),IF(ASTM(AI77,0)=0,0,CJ77*ASTM(AM77,0))))","v":""},"",{"$f":"IF(ISBLANK(AD77),\"\",IF(COUNT(AD77:AM77)<>10,NA(),CI77*ASTM(AD77,3)))","v":""},"",{"$f":"IF(ISBLANK(AD77),\"\",IF(COUNT(AD77:AM77)<>10,NA(),CN77*ASTM(AD77,3)))","v":""},"",{"$f":"IF(ISBLANK(AD77),\"\",IF(COUNT(AD77:AM77)<>10,NA(),ASTM(mdiuf(CP77)-mdiuf(CP76),3)))","v":""},{"$f":"IF(ISBLANK(AD77),\"\",IF(COUNT(AD77:AM77)<>10,NA(),IF(ASTM(AI77,0)=0,0,CQ77*ASTM(AI77,0)/(CN77))))","v":""},"",{"$f":"IF(ISBLANK(AD77),\"\",IF(COUNT(AD77:AM77)<>10,NA(),ASTM(highwayfufalt(CP77)-highwayfufalt(CP76),3)))","v":""},"",{"$f":"IF(ISBLANK(AD77),\"\",IF(COUNT(AD77:AM77)<>10,NA(),IF(ASTM(AI77,0)=0,0,CT77*ASTM(AM77,0)/(CN77))))","v":""}]
[null,null,"*Combined CO2 Unrounded Adjusted ",null,null,{"$f":"IF($J$6=\"HD 2b/3\",NA(),ASTM(0.55*(IF($N$7+$N$55+$N$103=0,   (N15+N63+N111)/ ((N15<>0)+(N63<>0)+(N111<>0)),    (IFERROR($N$7*N15,0)+IFERROR($N$55*N63,0)+IFERROR($N$103*N111,0)) /  ($N$7+$N$55+$N$103)   ))+0.45*(IF($N$7+$N$55+$N$103=0,   (O15+O63+O111)/ ((O15<>0)+(O63<>0)+(O111<>0)),    (IFERROR($N$7*O15,0)+IFERROR($N$55*O63,0)+IFERROR($N$103*O111,0)) /  ($N$7+$N$55+$N$103)   )),1))","v":{"$error":"#VALUE!"}},null,null,null,null,null,null,"Charge-Sustaining Test (Optional):",null,null,null,20,null,null,null,null,null,null,null,null,{"$f":"IF(ISBLANK(R78),\"\",IF(OR($J$6=\"HD 2b/3\",COUNT(R78:W78)<>6,$AA$95<>\"Yes\",$AA$97<>\"Yes\"),NA(),IF(ASTM(W78,0)=0,0,ASTM((51740000*$T$94*$T$95)/((($T$94*U78)+(0.429*V78)+(0.273*W78))*((0.6*$T$95*$T$96)+5471)),1))))","v":""},{"$f":"IF(ISBLANK(R78),\"\",IF(OR(AND($J$6<>\"HD 2b/3\",COUNT(R78:W78)<>6),AND($J$6=\"HD 2b/3\",COUNT(R78)+COUNT(W78)<>2),$AA$95<>\"Yes\",$AA$97<>\"Yes\"),NA(),IF(ASTM(W78,0)=0,0,IF($J$6=\"HD 2b/3\",W78,ASTM((($T$94/0.273)*U78)+(1.571*V78)+W78,0)))))","v":""},null,20,null,null,null,null,null,null,null,null,{"$f":"IF(ISBLANK(AD78),\"\",IF(OR($J$6=\"HD 2b/3\",COUNT(AD78:AI78)<>6,$AM$47<>\"Yes\",$AM$49<>\"Yes\"),NA(),IF(ASTM(AI78,0)=0,0,ASTM((51740000*$AF$46*$AF$47)/((($AF$46*AG78)+(0.429*AH78)+(0.273*AI78))*((0.6*$AF$47*$AF$48)+5471)),1))))","v":""},{"$f":"IF(ISBLANK(AD78),\"\",IF(OR(AND($J$6<>\"HD 2b/3\",COUNT(AD78:AI78)<>6),AND($J$6=\"HD 2b/3\",COUNT(AD78)+COUNT(AI78)<>2),$AM$95<>\"Yes\",$AM$97<>\"Yes\"),NA(),IF(ASTM(AI78,0)=0,0,IF($J$6=\"HD 2b/3\",AI78,ASTM((($AF$94/0.273)*AG78)+(1.571*AH78)+AI78,0)))))","v":""},null,null,null,"MDIUF based on unadjusted Rcda [3]",{"$f":"IF($J$6=\"HD 2b/3\",NA(),IFERROR(ASTM(mdiuf(AY54),3),0))","v":0},{"$f":"IF($J$6=\"HD 2b/3\",NA(),IFERROR(ASTM(mdiuf(AZ54),3),0))","v":0},null,null,null,null,"CD 55/45 Fleet Utility Factor (FUF) for Rcdc [3]",{"$f":"ASTM(SUMIF(BD59:BD93,\"<=\"&AY82,BM59:BM93),3)","v":0},{"$f":"ASTM(SUMIF(CA59:CA93,\"<=\"&AZ82,CJ59:CJ93),3)","v":0},null,null,null,20,{"$f":"IF(ISBLANK(R78),\"\",IF(COUNT(R78:AA78)<>10,NA(),IF(ASTM(W78,0)=0,0,IFERROR(ASTM(R78,3)/ASTM(Z78,1),0))))","v":""},{"$f":"IF(ISBLANK(R78),\"\",IF(COUNT(R78:AA78)<>10,NA(),IF(W78=0,0,ASTM(ASTM(W78,0)*ASTM(R78,3),0))))","v":""},{"$f":"IF(ISBLANK(R78),\"\",IF(COUNT(R78:AA78)<>10,NA(),ASTM(S78,3)-ASTM(S77,3)))","v":""},{"$f":"IF(ISBLANK(R78),\"\",IF(COUNT(R78:AA78)<>10,NA(),ASTM(BG78*ASTM(T78,2),1)))","v":""},{"$f":"IF(ISBLANK(R78),\"\",IF(COUNT(R78:AA78)<>10,NA(),ASTM(ASTM($Y$94,4)*1000*(BH78/$AY$61),1)))","v":""},"",{"$f":"IF(ISBLANK(R78),\"\",IF(COUNT(R78:AA78)<>10,NA(),BI78/(33705*ASTM(R78,3))))","v":""},"",{"$f":"IF(ISBLANK(R78),\"\",IFERROR(ASTM(cityfuf(BJ78)-cityfuf(BJ77),3),\"\"))","v":""},{"$f":"IF(ISBLANK(R78),\"\",IF(OR(ISNUMBER(R78)=FALSE,ISNUMBER(AA78)=FALSE),NA(),IF(ASTM(W78,0)=0,0,BM78*ASTM(AA78,0))))","v":""},"",{"$f":"IF(ISBLANK(R78),\"\",IF(COUNT(R78:AA78)<>10,NA(),BL78*ASTM(R78,3)))","v":""},"",{"$f":"IF(ISBLANK(R78),\"\",IF(COUNT(R78:AA78)<>10,NA(),BQ78*ASTM(R78,3)))","v":""},"",{"$f":"IF(ISBLANK(R78),\"\",IF(COUNT(R78:AA78)<>10,NA(),ASTM(mdiuf(BS78),3)-ASTM(mdiuf(BS77),3)))","v":""},{"$f":"IF(ISBLANK(R78),\"\",IF(COUNT(R78:AA78)<>10,NA(),IF(ASTM(W78,0)=0,0,BT78*ASTM(W78,0)/(BQ78))))","v":""},"",{"$f":"IF(ISBLANK(R78),\"\",IF(COUNT(R78:AA78)<>10,NA(),ASTM(cityfufalt(BS78)-cityfufalt(BS77),3)))","v":""},"",{"$f":"IF(ISBLANK(R78),\"\",IF(COUNT(R78:AA78)<>10,NA(),IF(ASTM(W78,0)=0,0,BW78*ASTM(AA78,0)/(BQ78))))","v":""},null,20,{"$f":"IF(ISBLANK(AD78),\"\",IF(COUNT(AD78:AM78)<>10,NA(),IF(ASTM(AI78,0)=0,0,ASTM(AD78,3)/ASTM(AL78,1))))","v":""},{"$f":"IF(ISBLANK(AD78),\"\",IF(COUNT(AD78:AM78)<>10,NA(),IF(ASTM(AI78,0)=0,0,ASTM(ASTM(AI78,0)*ASTM(AD78,3),0))))","v":""},{"$f":"IF(ISBLANK(AD78),\"\",IF(COUNT(AD78:AM78)<>10,NA(),ASTM(AE78,3)-ASTM(AE77,3)))","v":""},{"$f":"IF(ISBLANK(AD78),\"\",IF(COUNT(AD78:AM78)<>10,NA(),ASTM(CD78*ASTM(AF78,2),1)))","v":""},{"$f":"IF(ISBLANK(AD78),\"\",IF(COUNT(AD78:AM78)<>10,NA(),ASTM(ASTM($AK$94,4)*1000*(CE78/$AZ$61),1)))","v":""},"",{"$f":"IF(ISBLANK(AD78),\"\",IF(COUNT(AD78:AM78)<>10,NA(),CF78/(33705*ASTM(AD78,3))))","v":""},"",{"$f":"IF(ISBLANK(AD78),\"\",ASTM(highwayfuf(CG78)-highwayfuf(CG77),3))","v":""},{"$f":"IF(ISBLANK(AD78),\"\",IF(OR(ISNUMBER(AD78)=FALSE,ISNUMBER(AM78)=FALSE),NA(),IF(ASTM(AI78,0)=0,0,CJ78*ASTM(AM78,0))))","v":""},"",{"$f":"IF(ISBLANK(AD78),\"\",IF(COUNT(AD78:AM78)<>10,NA(),CI78*ASTM(AD78,3)))","v":""},"",{"$f":"IF(ISBLANK(AD78),\"\",IF(COUNT(AD78:AM78)<>10,NA(),CN78*ASTM(AD78,3)))","v":""},"",{"$f":"IF(ISBLANK(AD78),\"\",IF(COUNT(AD78:AM78)<>10,NA(),ASTM(mdiuf(CP78)-mdiuf(CP77),3)))","v":""},{"$f":"IF(ISBLANK(AD78),\"\",IF(COUNT(AD78:AM78)<>10,NA(),IF(ASTM(AI78,0)=0,0,CQ78*ASTM(AI78,0)/(CN78))))","v":""},"",{"$f":"IF(ISBLANK(AD78),\"\",IF(COUNT(AD78:AM78)<>10,NA(),ASTM(highwayfufalt(CP78)-highwayfufalt(CP77),3)))","v":""},"",{"$f":"IF(ISBLANK(AD78),\"\",IF(COUNT(AD78:AM78)<>10,NA(),IF(ASTM(AI78,0)=0,0,CT78*ASTM(AM78,0)/(CN78))))","v":""}]
[null,null,"Charge-sustaining Driving Range (Adjusted)",null,null,null,null,null,null,null,null,null,"Charge-Sustaining Test (Optional):",null,null,null,21,null,null,null,null,null,null,null,null,{"$f":"IF(ISBLANK(R79),\"\",IF(OR($J$6=\"HD 2b/3\",COUNT(R79:W79)<>6,$AA$95<>\"Yes\",$AA$97<>\"Yes\"),NA(),IF(ASTM(W79,0)=0,0,ASTM((51740000*$T$94*$T$95)/((($T$94*U79)+(0.429*V79)+(0.273*W79))*((0.6*$T$95*$T$96)+5471)),1))))","v":""},{"$f":"IF(ISBLANK(R79),\"\",IF(OR(AND($J$6<>\"HD 2b/3\",COUNT(R79:W79)<>6),AND($J$6=\"HD 2b/3\",COUNT(R79)+COUNT(W79)<>2),$AA$95<>\"Yes\",$AA$97<>\"Yes\"),NA(),IF(ASTM(W79,0)=0,0,IF($J$6=\"HD 2b/3\",W79,ASTM((($T$94/0.273)*U79)+(1.571*V79)+W79,0)))))","v":""},null,21,null,null,null,null,null,null,null,null,{"$f":"IF(ISBLANK(AD79),\"\",IF(OR($J$6=\"HD 2b/3\",COUNT(AD79:AI79)<>6,$AM$47<>\"Yes\",$AM$49<>\"Yes\"),NA(),IF(ASTM(AI79,0)=0,0,ASTM((51740000*$AF$46*$AF$47)/((($AF$46*AG79)+(0.429*AH79)+(0.273*AI79))*((0.6*$AF$47*$AF$48)+5471)),1))))","v":""},{"$f":"IF(ISBLANK(AD79),\"\",IF(OR(AND($J$6<>\"HD 2b/3\",COUNT(AD79:AI79)<>6),AND($J$6=\"HD 2b/3\",COUNT(AD79)+COUNT(AI79)<>2),$AM$95<>\"Yes\",$AM$97<>\"Yes\"),NA(),IF(ASTM(AI79,0)=0,0,IF($J$6=\"HD 2b/3\",AI79,ASTM((($AF$94/0.273)*AG79)+(1.571*AH79)+AI79,0)))))","v":""},null,null,null,"Composite CD/CS Fuel Economy (MPGe) [4]",{"$f":"IF($J$6=\"HD 2b/3\",NA(),IFERROR(ASTM(1/(AR78/(AY54/     AY62  )+(1-AR78)/N59),4),0))","v":0},{"$f":"IF($J$6=\"HD 2b/3\",NA(),IFERROR(ASTM(1/(AS78/(AZ54/     AZ62  )+(1-AS78)/O59),4),0))","v":0},{"$f":"IF($J$6=\"HD 2b/3\",NA(),IFERROR(ASTM(1/(0.55/AR79+0.45/AS79),4),0))","v":0},null,null,null,"MDIUF based on adjusted Rcda [3]",{"$f":"IF($J$6=\"HD 2b/3\",NA(),ASTM(mdiuf(AY55),3))","v":0},{"$f":"IF($J$6=\"HD 2b/3\",NA(),ASTM(mdiuf(AZ55),3))","v":0},null,null,null,21,{"$f":"IF(ISBLANK(R79),\"\",IF(COUNT(R79:AA79)<>10,NA(),IF(ASTM(W79,0)=0,0,IFERROR(ASTM(R79,3)/ASTM(Z79,1),0))))","v":""},{"$f":"IF(ISBLANK(R79),\"\",IF(COUNT(R79:AA79)<>10,NA(),IF(W79=0,0,ASTM(ASTM(W79,0)*ASTM(R79,3),0))))","v":""},{"$f":"IF(ISBLANK(R79),\"\",IF(COUNT(R79:AA79)<>10,NA(),ASTM(S79,3)-ASTM(S78,3)))","v":""},{"$f":"IF(ISBLANK(R79),\"\",IF(COUNT(R79:AA79)<>10,NA(),ASTM(BG79*ASTM(T79,2),1)))","v":""},{"$f":"IF(ISBLANK(R79),\"\",IF(COUNT(R79:AA79)<>10,NA(),ASTM(ASTM($Y$94,4)*1000*(BH79/$AY$61),1)))","v":""},"",{"$f":"IF(ISBLANK(R79),\"\",IF(COUNT(R79:AA79)<>10,NA(),BI79/(33705*ASTM(R79,3))))","v":""},"",{"$f":"IF(ISBLANK(R79),\"\",IFERROR(ASTM(cityfuf(BJ79)-cityfuf(BJ78),3),\"\"))","v":""},{"$f":"IF(ISBLANK(R79),\"\",IF(OR(ISNUMBER(R79)=FALSE,ISNUMBER(AA79)=FALSE),NA(),IF(ASTM(W79,0)=0,0,BM79*ASTM(AA79,0))))","v":""},"",{"$f":"IF(ISBLANK(R79),\"\",IF(COUNT(R79:AA79)<>10,NA(),BL79*ASTM(R79,3)))","v":""},"",{"$f":"IF(ISBLANK(R79),\"\",IF(COUNT(R79:AA79)<>10,NA(),BQ79*ASTM(R79,3)))","v":""},"",{"$f":"IF(ISBLANK(R79),\"\",IF(COUNT(R79:AA79)<>10,NA(),ASTM(mdiuf(BS79),3)-ASTM(mdiuf(BS78),3)))","v":""},{"$f":"IF(ISBLANK(R79),\"\",IF(COUNT(R79:AA79)<>10,NA(),IF(ASTM(W79,0)=0,0,BT79*ASTM(W79,0)/(BQ79))))","v":""},"",{"$f":"IF(ISBLANK(R79),\"\",IF(COUNT(R79:AA79)<>10,NA(),ASTM(cityfufalt(BS79)-cityfufalt(BS78),3)))","v":""},"",{"$f":"IF(ISBLANK(R79),\"\",IF(COUNT(R79:AA79)<>10,NA(),IF(ASTM(W79,0)=0,0,BW79*ASTM(AA79,0)/(BQ79))))","v":""},null,21,{"$f":"IF(ISBLANK(AD79),\"\",IF(COUNT(AD79:AM79)<>10,NA(),IF(ASTM(AI79,0)=0,0,ASTM(AD79,3)/ASTM(AL79,1))))","v":""},{"$f":"IF(ISBLANK(AD79),\"\",IF(COUNT(AD79:AM79)<>10,NA(),IF(ASTM(AI79,0)=0,0,ASTM(ASTM(AI79,0)*ASTM(AD79,3),0))))","v":""},{"$f":"IF(ISBLANK(AD79),\"\",IF(COUNT(AD79:AM79)<>10,NA(),ASTM(AE79,3)-ASTM(AE78,3)))","v":""},{"$f":"IF(ISBLANK(AD79),\"\",IF(COUNT(AD79:AM79)<>10,NA(),ASTM(CD79*ASTM(AF79,2),1)))","v":""},{"$f":"IF(ISBLANK(AD79),\"\",IF(COUNT(AD79:AM79)<>10,NA(),ASTM(ASTM($AK$94,4)*1000*(CE79/$AZ$61),1)))","v":""},"",{"$f":"IF(ISBLANK(AD79),\"\",IF(COUNT(AD79:AM79)<>10,NA(),CF79/(33705*ASTM(AD79,3))))","v":""},"",{"$f":"IF(ISBLANK(AD79),\"\",ASTM(highwayfuf(CG79)-highwayfuf(CG78),3))","v":""},{"$f":"IF(ISBLANK(AD79),\"\",IF(OR(ISNUMBER(AD79)=FALSE,ISNUMBER(AM79)=FALSE),NA(),IF(ASTM(AI79,0)=0,0,CJ79*ASTM(AM79,0))))","v":""},"",{"$f":"IF(ISBLANK(AD79),\"\",IF(COUNT(AD79:AM79)<>10,NA(),CI79*ASTM(AD79,3)))","v":""},"",{"$f":"IF(ISBLANK(AD79),\"\",IF(COUNT(AD79:AM79)<>10,NA(),CN79*ASTM(AD79,3)))","v":""},"",{"$f":"IF(ISBLANK(AD79),\"\",IF(COUNT(AD79:AM79)<>10,NA(),ASTM(mdiuf(CP79)-mdiuf(CP78),3)))","v":""},{"$f":"IF(ISBLANK(AD79),\"\",IF(COUNT(AD79:AM79)<>10,NA(),IF(ASTM(AI79,0)=0,0,CQ79*ASTM(AI79,0)/(CN79))))","v":""},"",{"$f":"IF(ISBLANK(AD79),\"\",IF(COUNT(AD79:AM79)<>10,NA(),ASTM(highwayfufalt(CP79)-highwayfufalt(CP78),3)))","v":""},"",{"$f":"IF(ISBLANK(AD79),\"\",IF(COUNT(AD79:AM79)<>10,NA(),IF(ASTM(AI79,0)=0,0,CT79*ASTM(AM79,0)/(CN79))))","v":""}]
[null,null,"*Range1 - Model Type Driving Range - Conventional Fuel - City",null,null,{"$f":"IF($J$6=\"HD 2b/3\",NA(),ASTM(IF($N$7+$N$55+$N$103=0,SUM(IFERROR(AY38,0),IFERROR(AY86,0),IFERROR(AY134,0)) / ((AY38<>0)+(AY86<>0)+(AY134<>0)),($N$7*AY38+$N$55*AY86+$N$103*AY134)/($N$7+$N$55+$N$103)),0))","v":{"$error":"#VALUE!"}},null,null,null,null,null,null,"Charge-Sustaining Test (Optional):",null,null,null,22,null,null,null,null,null,null,null,null,{"$f":"IF(ISBLANK(R80),\"\",IF(OR($J$6=\"HD 2b/3\",COUNT(R80:W80)<>6,$AA$95<>\"Yes\",$AA$97<>\"Yes\"),NA(),IF(ASTM(W80,0)=0,0,ASTM((51740000*$T$94*$T$95)/((($T$94*U80)+(0.429*V80)+(0.273*W80))*((0.6*$T$95*$T$96)+5471)),1))))","v":""},{"$f":"IF(ISBLANK(R80),\"\",IF(OR(AND($J$6<>\"HD 2b/3\",COUNT(R80:W80)<>6),AND($J$6=\"HD 2b/3\",COUNT(R80)+COUNT(W80)<>2),$AA$95<>\"Yes\",$AA$97<>\"Yes\"),NA(),IF(ASTM(W80,0)=0,0,IF($J$6=\"HD 2b/3\",W80,ASTM((($T$94/0.273)*U80)+(1.571*V80)+W80,0)))))","v":""},null,22,null,null,null,null,null,null,null,null,{"$f":"IF(ISBLANK(AD80),\"\",IF(OR($J$6=\"HD 2b/3\",COUNT(AD80:AI80)<>6,$AM$47<>\"Yes\",$AM$49<>\"Yes\"),NA(),IF(ASTM(AI80,0)=0,0,ASTM((51740000*$AF$46*$AF$47)/((($AF$46*AG80)+(0.429*AH80)+(0.273*AI80))*((0.6*$AF$47*$AF$48)+5471)),1))))","v":""},{"$f":"IF(ISBLANK(AD80),\"\",IF(OR(AND($J$6<>\"HD 2b/3\",COUNT(AD80:AI80)<>6),AND($J$6=\"HD 2b/3\",COUNT(AD80)+COUNT(AI80)<>2),$AM$95<>\"Yes\",$AM$97<>\"Yes\"),NA(),IF(ASTM(AI80,0)=0,0,IF($J$6=\"HD 2b/3\",AI80,ASTM((($AF$94/0.273)*AG80)+(1.571*AH80)+AI80,0)))))","v":""},null,null,null,"Trends Report Values","City","Highway","Combined",null,null,null,"MDIUF based on adjusted Rcdc [3]",{"$f":"IF($J$6=\"HD 2b/3\",NA(),ASTM(SUMIF(BD59:BD93,\"<=\" & AY82,BT59:BT93),3))","v":0},{"$f":"IF($J$6=\"HD 2b/3\",NA(),ASTM(SUMIF(CA59:CA93,\"<=\" & AZ82,CQ59:CQ93),3))","v":0},null,null,null,22,{"$f":"IF(ISBLANK(R80),\"\",IF(COUNT(R80:AA80)<>10,NA(),IF(ASTM(W80,0)=0,0,IFERROR(ASTM(R80,3)/ASTM(Z80,1),0))))","v":""},{"$f":"IF(ISBLANK(R80),\"\",IF(COUNT(R80:AA80)<>10,NA(),IF(W80=0,0,ASTM(ASTM(W80,0)*ASTM(R80,3),0))))","v":""},{"$f":"IF(ISBLANK(R80),\"\",IF(COUNT(R80:AA80)<>10,NA(),ASTM(S80,3)-ASTM(S79,3)))","v":""},{"$f":"IF(ISBLANK(R80),\"\",IF(COUNT(R80:AA80)<>10,NA(),ASTM(BG80*ASTM(T80,2),1)))","v":""},{"$f":"IF(ISBLANK(R80),\"\",IF(COUNT(R80:AA80)<>10,NA(),ASTM(ASTM($Y$94,4)*1000*(BH80/$AY$61),1)))","v":""},"",{"$f":"IF(ISBLANK(R80),\"\",IF(COUNT(R80:AA80)<>10,NA(),BI80/(33705*ASTM(R80,3))))","v":""},"",{"$f":"IF(ISBLANK(R80),\"\",IFERROR(ASTM(cityfuf(BJ80)-cityfuf(BJ79),3),\"\"))","v":""},{"$f":"IF(ISBLANK(R80),\"\",IF(OR(ISNUMBER(R80)=FALSE,ISNUMBER(AA80)=FALSE),NA(),IF(ASTM(W80,0)=0,0,BM80*ASTM(AA80,0))))","v":""},"",{"$f":"IF(ISBLANK(R80),\"\",IF(COUNT(R80:AA80)<>10,NA(),BL80*ASTM(R80,3)))","v":""},"",{"$f":"IF(ISBLANK(R80),\"\",IF(COUNT(R80:AA80)<>10,NA(),BQ80*ASTM(R80,3)))","v":""},"",{"$f":"IF(ISBLANK(R80),\"\",IF(COUNT(R80:AA80)<>10,NA(),ASTM(mdiuf(BS80),3)-ASTM(mdiuf(BS79),3)))","v":""},{"$f":"IF(ISBLANK(R80),\"\",IF(COUNT(R80:AA80)<>10,NA(),IF(ASTM(W80,0)=0,0,BT80*ASTM(W80,0)/(BQ80))))","v":""},"",{"$f":"IF(ISBLANK(R80),\"\",IF(COUNT(R80:AA80)<>10,NA(),ASTM(cityfufalt(BS80)-cityfufalt(BS79),3)))","v":""},"",{"$f":"IF(ISBLANK(R80),\"\",IF(COUNT(R80:AA80)<>10,NA(),IF(ASTM(W80,0)=0,0,BW80*ASTM(AA80,0)/(BQ80))))","v":""},null,22,{"$f":"IF(ISBLANK(AD80),\"\",IF(COUNT(AD80:AM80)<>10,NA(),IF(ASTM(AI80,0)=0,0,ASTM(AD80,3)/ASTM(AL80,1))))","v":""},{"$f":"IF(ISBLANK(AD80),\"\",IF(COUNT(AD80:AM80)<>10,NA(),IF(ASTM(AI80,0)=0,0,ASTM(ASTM(AI80,0)*ASTM(AD80,3),0))))","v":""},{"$f":"IF(ISBLANK(AD80),\"\",IF(COUNT(AD80:AM80)<>10,NA(),ASTM(AE80,3)-ASTM(AE79,3)))","v":""},{"$f":"IF(ISBLANK(AD80),\"\",IF(COUNT(AD80:AM80)<>10,NA(),ASTM(CD80*ASTM(AF80,2),1)))","v":""},{"$f":"IF(ISBLANK(AD80),\"\",IF(COUNT(AD80:AM80)<>10,NA(),ASTM(ASTM($AK$94,4)*1000*(CE80/$AZ$61),1)))","v":""},"",{"$f":"IF(ISBLANK(AD80),\"\",IF(COUNT(AD80:AM80)<>10,NA(),CF80/(33705*ASTM(AD80,3))))","v":""},"",{"$f":"IF(ISBLANK(AD80),\"\",ASTM(highwayfuf(CG80)-highwayfuf(CG79),3))","v":""},{"$f":"IF(ISBLANK(AD80),\"\",IF(OR(ISNUMBER(AD80)=FALSE,ISNUMBER(AM80)=FALSE),NA(),IF(ASTM(AI80,0)=0,0,CJ80*ASTM(AM80,0))))","v":""},"",{"$f":"IF(ISBLANK(AD80),\"\",IF(COUNT(AD80:AM80)<>10,NA(),CI80*ASTM(AD80,3)))","v":""},"",{"$f":"IF(ISBLANK(AD80),\"\",IF(COUNT(AD80:AM80)<>10,NA(),CN80*ASTM(AD80,3)))","v":""},"",{"$f":"IF(ISBLANK(AD80),\"\",IF(COUNT(AD80:AM80)<>10,NA(),ASTM(mdiuf(CP80)-mdiuf(CP79),3)))","v":""},{"$f":"IF(ISBLANK(AD80),\"\",IF(COUNT(AD80:AM80)<>10,NA(),IF(ASTM(AI80,0)=0,0,CQ80*ASTM(AI80,0)/(CN80))))","v":""},"",{"$f":"IF(ISBLANK(AD80),\"\",IF(COUNT(AD80:AM80)<>10,NA(),ASTM(highwayfufalt(CP80)-highwayfufalt(CP79),3)))","v":""},"",{"$f":"IF(ISBLANK(AD80),\"\",IF(COUNT(AD80:AM80)<>10,NA(),IF(ASTM(AI80,0)=0,0,CT80*ASTM(AM80,0)/(CN80))))","v":""}]
[null,null,"*Range1 - Model Type Driving Range - Conventional Fuel - Hwy",null,null,{"$f":"IF($J$6=\"HD 2b/3\",NA(),ASTM(IF($N$7+$N$55+$N$103=0,SUM(IFERROR(AZ38,0),IFERROR(AZ86,0),IFERROR(AZ134,0)) / ((AZ38<>0)+(AZ86<>0)+(AZ134<>0)),($N$7*AZ38+$N$55*AZ86+$N$103*AZ134)/($N$7+$N$55+$N$103)),0))","v":{"$error":"#VALUE!"}},null,null,null,null,null,null,null,null,null,null,23,null,null,null,null,null,null,null,null,{"$f":"IF(ISBLANK(R81),\"\",IF(OR($J$6=\"HD 2b/3\",COUNT(R81:W81)<>6,$AA$95<>\"Yes\",$AA$97<>\"Yes\"),NA(),IF(ASTM(W81,0)=0,0,ASTM((51740000*$T$94*$T$95)/((($T$94*U81)+(0.429*V81)+(0.273*W81))*((0.6*$T$95*$T$96)+5471)),1))))","v":""},{"$f":"IF(ISBLANK(R81),\"\",IF(OR(AND($J$6<>\"HD 2b/3\",COUNT(R81:W81)<>6),AND($J$6=\"HD 2b/3\",COUNT(R81)+COUNT(W81)<>2),$AA$95<>\"Yes\",$AA$97<>\"Yes\"),NA(),IF(ASTM(W81,0)=0,0,IF($J$6=\"HD 2b/3\",W81,ASTM((($T$94/0.273)*U81)+(1.571*V81)+W81,0)))))","v":""},null,23,null,null,null,null,null,null,null,null,{"$f":"IF(ISBLANK(AD81),\"\",IF(OR($J$6=\"HD 2b/3\",COUNT(AD81:AI81)<>6,$AM$47<>\"Yes\",$AM$49<>\"Yes\"),NA(),IF(ASTM(AI81,0)=0,0,ASTM((51740000*$AF$46*$AF$47)/((($AF$46*AG81)+(0.429*AH81)+(0.273*AI81))*((0.6*$AF$47*$AF$48)+5471)),1))))","v":""},{"$f":"IF(ISBLANK(AD81),\"\",IF(OR(AND($J$6<>\"HD 2b/3\",COUNT(AD81:AI81)<>6),AND($J$6=\"HD 2b/3\",COUNT(AD81)+COUNT(AI81)<>2),$AM$95<>\"Yes\",$AM$97<>\"Yes\"),NA(),IF(ASTM(AI81,0)=0,0,IF($J$6=\"HD 2b/3\",AI81,ASTM((($AF$94/0.273)*AG81)+(1.571*AH81)+AI81,0)))))","v":""},null,null,null,"Fleet Utility Factor (43/57) [3]",{"$f":"IF($J$6=\"HD 2b/3\",NA(),ASTM(SUMIF(BD59:BD88,\"<=\"&AY82,BW59:BW88),3))","v":0},{"$f":"IF($J$6=\"HD 2b/3\",NA(),ASTM(SUMIF(CA59:CA88,\"<=\"&AZ82,CT59:CT88),3))","v":0},{"$f":"IF($J$6=\"HD 2b/3\",NA(),0.55*AR81+0.45*AS81)","v":0},null,null,null,"Fraction of transition cycle that is charge-depleting operation (Zn) [3]",{"$f":"IF($J$6=\"HD 2b/3\",NA(),ASTM( IF((IF( SUMIF(BD59:BD93,\"=\" & ($AY82),BG59:BG93)/SUMIF(BD59:BD93,\"=\" & ($AY82-1),BG59:BG93)<0,0, SUMIF(BD59:BD93,\"=\" & ($AY82),BG59:BG93)/SUMIF(BD59:BD93,\"=\" & ($AY82-1),BG59:BG93)))<0,0, IF((IF( SUMIF(BD59:BD93,\"=\" & ($AY82),BG59:BG93)/SUMIF(BD59:BD93,\"=\" & ($AY82-1),BG59:BG93)<0,0, SUMIF(BD59:BD93,\"=\" & ($AY82),BG59:BG93)/SUMIF(BD59:BD93,\"=\" & ($AY82-1),BG59:BG93)))>1,1, (IF( SUMIF(BD59:BD93,\"=\" & ($AY82),BG59:BG93)/SUMIF(BD59:BD93,\"=\" & ($AY82-1),BG59:BG93)<0,0, SUMIF(BD59:BD93,\"=\" & ($AY82),BG59:BG93)/SUMIF(BD59:BD93,\"=\" & ($AY82-1),BG59:BG93))))), 3))","v":{"$error":"#VALUE!"}},{"$f":"IF($J$6=\"HD 2b/3\",NA(),ASTM( IF((IF( SUMIF(CA59:CA93,\"=\" & ($AZ82),CD59:CD93)/SUMIF(CA59:CA93,\"=\" & ($AZ82-1),CD59:CD93)<0,0, SUMIF(CA59:CA93,\"=\" & ($AZ82),CD59:CD93)/SUMIF(CA59:CA93,\"=\" & ($AZ82-1),CD59:CD93)))<0,0, IF((IF( SUMIF(CA59:CA93,\"=\" & ($AZ82),CD59:CD93)/SUMIF(CA59:CA93,\"=\" & ($AZ82-1),CD59:CD93)<0,0, SUMIF(CA59:CA93,\"=\" & ($AZ82),CD59:CD93)/SUMIF(CA59:CA93,\"=\" & ($AZ82-1),CD59:CD93)))>1,1, (IF( SUMIF(CA59:CA93,\"=\" & ($AZ82),CD59:CD93)/SUMIF(CA59:CA93,\"=\" & ($AZ82-1),CD59:CD93)<0,0, SUMIF(CA59:CA93,\"=\" & ($AZ82),CD59:CD93)/SUMIF(CA59:CA93,\"=\" & ($AZ82-1),CD59:CD93))))), 3))","v":{"$error":"#VALUE!"}},null,null,null,23,{"$f":"IF(ISBLANK(R81),\"\",IF(COUNT(R81:AA81)<>10,NA(),IF(ASTM(W81,0)=0,0,IFERROR(ASTM(R81,3)/ASTM(Z81,1),0))))","v":""},{"$f":"IF(ISBLANK(R81),\"\",IF(COUNT(R81:AA81)<>10,NA(),IF(W81=0,0,ASTM(ASTM(W81,0)*ASTM(R81,3),0))))","v":""},{"$f":"IF(ISBLANK(R81),\"\",IF(COUNT(R81:AA81)<>10,NA(),ASTM(S81,3)-ASTM(S80,3)))","v":""},{"$f":"IF(ISBLANK(R81),\"\",IF(COUNT(R81:AA81)<>10,NA(),ASTM(BG81*ASTM(T81,2),1)))","v":""},{"$f":"IF(ISBLANK(R81),\"\",IF(COUNT(R81:AA81)<>10,NA(),ASTM(ASTM($Y$94,4)*1000*(BH81/$AY$61),1)))","v":""},"",{"$f":"IF(ISBLANK(R81),\"\",IF(COUNT(R81:AA81)<>10,NA(),BI81/(33705*ASTM(R81,3))))","v":""},"",{"$f":"IF(ISBLANK(R81),\"\",IFERROR(ASTM(cityfuf(BJ81)-cityfuf(BJ80),3),\"\"))","v":""},{"$f":"IF(ISBLANK(R81),\"\",IF(OR(ISNUMBER(R81)=FALSE,ISNUMBER(AA81)=FALSE),NA(),IF(ASTM(W81,0)=0,0,BM81*ASTM(AA81,0))))","v":""},"",{"$f":"IF(ISBLANK(R81),\"\",IF(COUNT(R81:AA81)<>10,NA(),BL81*ASTM(R81,3)))","v":""},"",{"$f":"IF(ISBLANK(R81),\"\",IF(COUNT(R81:AA81)<>10,NA(),BQ81*ASTM(R81,3)))","v":""},"",{"$f":"IF(ISBLANK(R81),\"\",IF(COUNT(R81:AA81)<>10,NA(),ASTM(mdiuf(BS81),3)-ASTM(mdiuf(BS80),3)))","v":""},{"$f":"IF(ISBLANK(R81),\"\",IF(COUNT(R81:AA81)<>10,NA(),IF(ASTM(W81,0)=0,0,BT81*ASTM(W81,0)/(BQ81))))","v":""},"",{"$f":"IF(ISBLANK(R81),\"\",IF(COUNT(R81:AA81)<>10,NA(),ASTM(cityfufalt(BS81)-cityfufalt(BS80),3)))","v":""},"",{"$f":"IF(ISBLANK(R81),\"\",IF(COUNT(R81:AA81)<>10,NA(),IF(ASTM(W81,0)=0,0,BW81*ASTM(AA81,0)/(BQ81))))","v":""},null,23,{"$f":"IF(ISBLANK(AD81),\"\",IF(COUNT(AD81:AM81)<>10,NA(),IF(ASTM(AI81,0)=0,0,ASTM(AD81,3)/ASTM(AL81,1))))","v":""},{"$f":"IF(ISBLANK(AD81),\"\",IF(COUNT(AD81:AM81)<>10,NA(),IF(ASTM(AI81,0)=0,0,ASTM(ASTM(AI81,0)*ASTM(AD81,3),0))))","v":""},{"$f":"IF(ISBLANK(AD81),\"\",IF(COUNT(AD81:AM81)<>10,NA(),ASTM(AE81,3)-ASTM(AE80,3)))","v":""},{"$f":"IF(ISBLANK(AD81),\"\",IF(COUNT(AD81:AM81)<>10,NA(),ASTM(CD81*ASTM(AF81,2),1)))","v":""},{"$f":"IF(ISBLANK(AD81),\"\",IF(COUNT(AD81:AM81)<>10,NA(),ASTM(ASTM($AK$94,4)*1000*(CE81/$AZ$61),1)))","v":""},"",{"$f":"IF(ISBLANK(AD81),\"\",IF(COUNT(AD81:AM81)<>10,NA(),CF81/(33705*ASTM(AD81,3))))","v":""},"",{"$f":"IF(ISBLANK(AD81),\"\",ASTM(highwayfuf(CG81)-highwayfuf(CG80),3))","v":""},{"$f":"IF(ISBLANK(AD81),\"\",IF(OR(ISNUMBER(AD81)=FALSE,ISNUMBER(AM81)=FALSE),NA(),IF(ASTM(AI81,0)=0,0,CJ81*ASTM(AM81,0))))","v":""},"",{"$f":"IF(ISBLANK(AD81),\"\",IF(COUNT(AD81:AM81)<>10,NA(),CI81*ASTM(AD81,3)))","v":""},"",{"$f":"IF(ISBLANK(AD81),\"\",IF(COUNT(AD81:AM81)<>10,NA(),CN81*ASTM(AD81,3)))","v":""},"",{"$f":"IF(ISBLANK(AD81),\"\",IF(COUNT(AD81:AM81)<>10,NA(),ASTM(mdiuf(CP81)-mdiuf(CP80),3)))","v":""},{"$f":"IF(ISBLANK(AD81),\"\",IF(COUNT(AD81:AM81)<>10,NA(),IF(ASTM(AI81,0)=0,0,CQ81*ASTM(AI81,0)/(CN81))))","v":""},"",{"$f":"IF(ISBLANK(AD81),\"\",IF(COUNT(AD81:AM81)<>10,NA(),ASTM(highwayfufalt(CP81)-highwayfufalt(CP80),3)))","v":""},"",{"$f":"IF(ISBLANK(AD81),\"\",IF(COUNT(AD81:AM81)<>10,NA(),IF(ASTM(AI81,0)=0,0,CT81*ASTM(AM81,0)/(CN81))))","v":""}]
[null,null,"Range1 - Model Type Driving Range - Conventional Fuel - Comb",null,null,{"$f":"IF($J$6=\"HD 2b/3\",NA(),ASTM(IF($N$7+$N$55+$N$103=0,SUM(IFERROR(ASTM(0.55*AY38+0.45*AZ38,3),0),IFERROR(ASTM(0.55*AY86+0.45*AZ86,3),0),IFERROR(ASTM(0.55*AY134+0.45*AZ134,3),0)) / ((ASTM(0.55*AY38+0.45*AZ38,3)<>0)+(ASTM(0.55*AY86+0.45*AZ86,3)<>0)+(ASTM(0.55*AY134+0.45*AZ134,3)<>0)),($N$7*ASTM(0.55*AY38+0.45*AZ38,3)+$N$55*ASTM(0.55*AY86+0.45*AZ86,3)+$N$103*ASTM(0.55*AY134+0.45*AZ134,3))/($N$7+$N$55+$N$103)),0))","v":{"$error":"#VALUE!"}},null,null,null,null,null,null,null,null,null,null,24,null,null,null,null,null,null,null,null,{"$f":"IF(ISBLANK(R82),\"\",IF(OR($J$6=\"HD 2b/3\",COUNT(R82:W82)<>6,$AA$95<>\"Yes\",$AA$97<>\"Yes\"),NA(),IF(ASTM(W82,0)=0,0,ASTM((51740000*$T$94*$T$95)/((($T$94*U82)+(0.429*V82)+(0.273*W82))*((0.6*$T$95*$T$96)+5471)),1))))","v":""},{"$f":"IF(ISBLANK(R82),\"\",IF(OR(AND($J$6<>\"HD 2b/3\",COUNT(R82:W82)<>6),AND($J$6=\"HD 2b/3\",COUNT(R82)+COUNT(W82)<>2),$AA$95<>\"Yes\",$AA$97<>\"Yes\"),NA(),IF(ASTM(W82,0)=0,0,IF($J$6=\"HD 2b/3\",W82,ASTM((($T$94/0.273)*U82)+(1.571*V82)+W82,0)))))","v":""},null,24,null,null,null,null,null,null,null,null,{"$f":"IF(ISBLANK(AD82),\"\",IF(OR($J$6=\"HD 2b/3\",COUNT(AD82:AI82)<>6,$AM$47<>\"Yes\",$AM$49<>\"Yes\"),NA(),IF(ASTM(AI82,0)=0,0,ASTM((51740000*$AF$46*$AF$47)/((($AF$46*AG82)+(0.429*AH82)+(0.273*AI82))*((0.6*$AF$47*$AF$48)+5471)),1))))","v":""},{"$f":"IF(ISBLANK(AD82),\"\",IF(OR(AND($J$6<>\"HD 2b/3\",COUNT(AD82:AI82)<>6),AND($J$6=\"HD 2b/3\",COUNT(AD82)+COUNT(AI82)<>2),$AM$95<>\"Yes\",$AM$97<>\"Yes\"),NA(),IF(ASTM(AI82,0)=0,0,IF($J$6=\"HD 2b/3\",AI82,ASTM((($AF$94/0.273)*AG82)+(1.571*AH82)+AI82,0)))))","v":""},null,null,null,"Unadjusted Fuel Economy (MPG) [4]",{"$f":"IF($J$6=\"HD 2b/3\",NA(),AR57)","v":0},{"$f":"IF($J$6=\"HD 2b/3\",NA(),AS57)","v":0},{"$f":"IF($J$6=\"HD 2b/3\",NA(),AT57)","v":0},null,null,null,"Number of last cycle number with charge-depleting operation (transition cycle) [0]",{"$f":"IF(ISNUMBER(Y96),Y96,\"EOT ERROR\")","v":"EOT ERROR"},{"$f":"IF(ISNUMBER(AK96),AK96,\"EOT ERROR\")","v":"EOT ERROR"},null,null,null,24,{"$f":"IF(ISBLANK(R82),\"\",IF(COUNT(R82:AA82)<>10,NA(),IF(ASTM(W82,0)=0,0,IFERROR(ASTM(R82,3)/ASTM(Z82,1),0))))","v":""},{"$f":"IF(ISBLANK(R82),\"\",IF(COUNT(R82:AA82)<>10,NA(),IF(W82=0,0,ASTM(ASTM(W82,0)*ASTM(R82,3),0))))","v":""},{"$f":"IF(ISBLANK(R82),\"\",IF(COUNT(R82:AA82)<>10,NA(),ASTM(S82,3)-ASTM(S81,3)))","v":""},{"$f":"IF(ISBLANK(R82),\"\",IF(COUNT(R82:AA82)<>10,NA(),ASTM(BG82*ASTM(T82,2),1)))","v":""},{"$f":"IF(ISBLANK(R82),\"\",IF(COUNT(R82:AA82)<>10,NA(),ASTM(ASTM($Y$94,4)*1000*(BH82/$AY$61),1)))","v":""},"",{"$f":"IF(ISBLANK(R82),\"\",IF(COUNT(R82:AA82)<>10,NA(),BI82/(33705*ASTM(R82,3))))","v":""},"",{"$f":"IF(ISBLANK(R82),\"\",IFERROR(ASTM(cityfuf(BJ82)-cityfuf(BJ81),3),\"\"))","v":""},{"$f":"IF(ISBLANK(R82),\"\",IF(OR(ISNUMBER(R82)=FALSE,ISNUMBER(AA82)=FALSE),NA(),IF(ASTM(W82,0)=0,0,BM82*ASTM(AA82,0))))","v":""},"",{"$f":"IF(ISBLANK(R82),\"\",IF(COUNT(R82:AA82)<>10,NA(),BL82*ASTM(R82,3)))","v":""},"",{"$f":"IF(ISBLANK(R82),\"\",IF(COUNT(R82:AA82)<>10,NA(),BQ82*ASTM(R82,3)))","v":""},"",{"$f":"IF(ISBLANK(R82),\"\",IF(COUNT(R82:AA82)<>10,NA(),ASTM(mdiuf(BS82),3)-ASTM(mdiuf(BS81),3)))","v":""},{"$f":"IF(ISBLANK(R82),\"\",IF(COUNT(R82:AA82)<>10,NA(),IF(ASTM(W82,0)=0,0,BT82*ASTM(W82,0)/(BQ82))))","v":""},"",{"$f":"IF(ISBLANK(R82),\"\",IF(COUNT(R82:AA82)<>10,NA(),ASTM(cityfufalt(BS82)-cityfufalt(BS81),3)))","v":""},"",{"$f":"IF(ISBLANK(R82),\"\",IF(COUNT(R82:AA82)<>10,NA(),IF(ASTM(W82,0)=0,0,BW82*ASTM(AA82,0)/(BQ82))))","v":""},null,24,{"$f":"IF(ISBLANK(AD82),\"\",IF(COUNT(AD82:AM82)<>10,NA(),IF(ASTM(AI82,0)=0,0,ASTM(AD82,3)/ASTM(AL82,1))))","v":""},{"$f":"IF(ISBLANK(AD82),\"\",IF(COUNT(AD82:AM82)<>10,NA(),IF(ASTM(AI82,0)=0,0,ASTM(ASTM(AI82,0)*ASTM(AD82,3),0))))","v":""},{"$f":"IF(ISBLANK(AD82),\"\",IF(COUNT(AD82:AM82)<>10,NA(),ASTM(AE82,3)-ASTM(AE81,3)))","v":""},{"$f":"IF(ISBLANK(AD82),\"\",IF(COUNT(AD82:AM82)<>10,NA(),ASTM(CD82*ASTM(AF82,2),1)))","v":""},{"$f":"IF(ISBLANK(AD82),\"\",IF(COUNT(AD82:AM82)<>10,NA(),ASTM(ASTM($AK$94,4)*1000*(CE82/$AZ$61),1)))","v":""},"",{"$f":"IF(ISBLANK(AD82),\"\",IF(COUNT(AD82:AM82)<>10,NA(),CF82/(33705*ASTM(AD82,3))))","v":""},"",{"$f":"IF(ISBLANK(AD82),\"\",ASTM(highwayfuf(CG82)-highwayfuf(CG81),3))","v":""},{"$f":"IF(ISBLANK(AD82),\"\",IF(OR(ISNUMBER(AD82)=FALSE,ISNUMBER(AM82)=FALSE),NA(),IF(ASTM(AI82,0)=0,0,CJ82*ASTM(AM82,0))))","v":""},"",{"$f":"IF(ISBLANK(AD82),\"\",IF(COUNT(AD82:AM82)<>10,NA(),CI82*ASTM(AD82,3)))","v":""},"",{"$f":"IF(ISBLANK(AD82),\"\",IF(COUNT(AD82:AM82)<>10,NA(),CN82*ASTM(AD82,3)))","v":""},"",{"$f":"IF(ISBLANK(AD82),\"\",IF(COUNT(AD82:AM82)<>10,NA(),ASTM(mdiuf(CP82)-mdiuf(CP81),3)))","v":""},{"$f":"IF(ISBLANK(AD82),\"\",IF(COUNT(AD82:AM82)<>10,NA(),IF(ASTM(AI82,0)=0,0,CQ82*ASTM(AI82,0)/(CN82))))","v":""},"",{"$f":"IF(ISBLANK(AD82),\"\",IF(COUNT(AD82:AM82)<>10,NA(),ASTM(highwayfufalt(CP82)-highwayfufalt(CP81),3)))","v":""},"",{"$f":"IF(ISBLANK(AD82),\"\",IF(COUNT(AD82:AM82)<>10,NA(),IF(ASTM(AI82,0)=0,0,CT82*ASTM(AM82,0)/(CN82))))","v":""}]
[null,null,"Charge-depleting Efficiency",null,"kW-hr/100mi","MPGe",null,null,null,null,null,null,null,null,null,null,25,null,null,null,null,null,null,null,null,{"$f":"IF(ISBLANK(R83),\"\",IF(OR($J$6=\"HD 2b/3\",COUNT(R83:W83)<>6,$AA$95<>\"Yes\",$AA$97<>\"Yes\"),NA(),IF(ASTM(W83,0)=0,0,ASTM((51740000*$T$94*$T$95)/((($T$94*U83)+(0.429*V83)+(0.273*W83))*((0.6*$T$95*$T$96)+5471)),1))))","v":""},{"$f":"IF(ISBLANK(R83),\"\",IF(OR(AND($J$6<>\"HD 2b/3\",COUNT(R83:W83)<>6),AND($J$6=\"HD 2b/3\",COUNT(R83)+COUNT(W83)<>2),$AA$95<>\"Yes\",$AA$97<>\"Yes\"),NA(),IF(ASTM(W83,0)=0,0,IF($J$6=\"HD 2b/3\",W83,ASTM((($T$94/0.273)*U83)+(1.571*V83)+W83,0)))))","v":""},null,25,null,null,null,null,null,null,null,null,{"$f":"IF(ISBLANK(AD83),\"\",IF(OR($J$6=\"HD 2b/3\",COUNT(AD83:AI83)<>6,$AM$47<>\"Yes\",$AM$49<>\"Yes\"),NA(),IF(ASTM(AI83,0)=0,0,ASTM((51740000*$AF$46*$AF$47)/((($AF$46*AG83)+(0.429*AH83)+(0.273*AI83))*((0.6*$AF$47*$AF$48)+5471)),1))))","v":""},{"$f":"IF(ISBLANK(AD83),\"\",IF(OR(AND($J$6<>\"HD 2b/3\",COUNT(AD83:AI83)<>6),AND($J$6=\"HD 2b/3\",COUNT(AD83)+COUNT(AI83)<>2),$AM$95<>\"Yes\",$AM$97<>\"Yes\"),NA(),IF(ASTM(AI83,0)=0,0,IF($J$6=\"HD 2b/3\",AI83,ASTM((($AF$94/0.273)*AG83)+(1.571*AH83)+AI83,0)))))","v":""},null,null,null,"Unadjusted GHG (g/mi) [1]",{"$f":"IF($J$6=\"HD 2b/3\",NA(),ASTM(AR59,1))","v":0},{"$f":"IF($J$6=\"HD 2b/3\",NA(),ASTM(AS59,1))","v":0},{"$f":"IF($J$6=\"HD 2b/3\",NA(),ASTM(0.55*AR83+0.45*AS83,1))","v":0},null,null,"Intermediate Results Requiring Charge-Sustaining (CS) Test Results or Other Inputs",null,null,null,null,null,null,25,{"$f":"IF(ISBLANK(R83),\"\",IF(COUNT(R83:AA83)<>10,NA(),IF(ASTM(W83,0)=0,0,IFERROR(ASTM(R83,3)/ASTM(Z83,1),0))))","v":""},{"$f":"IF(ISBLANK(R83),\"\",IF(COUNT(R83:AA83)<>10,NA(),IF(W83=0,0,ASTM(ASTM(W83,0)*ASTM(R83,3),0))))","v":""},{"$f":"IF(ISBLANK(R83),\"\",IF(COUNT(R83:AA83)<>10,NA(),ASTM(S83,3)-ASTM(S82,3)))","v":""},{"$f":"IF(ISBLANK(R83),\"\",IF(COUNT(R83:AA83)<>10,NA(),ASTM(BG83*ASTM(T83,2),1)))","v":""},{"$f":"IF(ISBLANK(R83),\"\",IF(COUNT(R83:AA83)<>10,NA(),ASTM(ASTM($Y$94,4)*1000*(BH83/$AY$61),1)))","v":""},"",{"$f":"IF(ISBLANK(R83),\"\",IF(COUNT(R83:AA83)<>10,NA(),BI83/(33705*ASTM(R83,3))))","v":""},"",{"$f":"IF(ISBLANK(R83),\"\",IFERROR(ASTM(cityfuf(BJ83)-cityfuf(BJ82),3),\"\"))","v":""},{"$f":"IF(ISBLANK(R83),\"\",IF(OR(ISNUMBER(R83)=FALSE,ISNUMBER(AA83)=FALSE),NA(),IF(ASTM(W83,0)=0,0,BM83*ASTM(AA83,0))))","v":""},"",{"$f":"IF(ISBLANK(R83),\"\",IF(COUNT(R83:AA83)<>10,NA(),BL83*ASTM(R83,3)))","v":""},"",{"$f":"IF(ISBLANK(R83),\"\",IF(COUNT(R83:AA83)<>10,NA(),BQ83*ASTM(R83,3)))","v":""},"",{"$f":"IF(ISBLANK(R83),\"\",IF(COUNT(R83:AA83)<>10,NA(),ASTM(mdiuf(BS83),3)-ASTM(mdiuf(BS82),3)))","v":""},{"$f":"IF(ISBLANK(R83),\"\",IF(COUNT(R83:AA83)<>10,NA(),IF(ASTM(W83,0)=0,0,BT83*ASTM(W83,0)/(BQ83))))","v":""},"",{"$f":"IF(ISBLANK(R83),\"\",IF(COUNT(R83:AA83)<>10,NA(),ASTM(cityfufalt(BS83)-cityfufalt(BS82),3)))","v":""},"",{"$f":"IF(ISBLANK(R83),\"\",IF(COUNT(R83:AA83)<>10,NA(),IF(ASTM(W83,0)=0,0,BW83*ASTM(AA83,0)/(BQ83))))","v":""},null,25,{"$f":"IF(ISBLANK(AD83),\"\",IF(COUNT(AD83:AM83)<>10,NA(),IF(ASTM(AI83,0)=0,0,ASTM(AD83,3)/ASTM(AL83,1))))","v":""},{"$f":"IF(ISBLANK(AD83),\"\",IF(COUNT(AD83:AM83)<>10,NA(),IF(ASTM(AI83,0)=0,0,ASTM(ASTM(AI83,0)*ASTM(AD83,3),0))))","v":""},{"$f":"IF(ISBLANK(AD83),\"\",IF(COUNT(AD83:AM83)<>10,NA(),ASTM(AE83,3)-ASTM(AE82,3)))","v":""},{"$f":"IF(ISBLANK(AD83),\"\",IF(COUNT(AD83:AM83)<>10,NA(),ASTM(CD83*ASTM(AF83,2),1)))","v":""},{"$f":"IF(ISBLANK(AD83),\"\",IF(COUNT(AD83:AM83)<>10,NA(),ASTM(ASTM($AK$94,4)*1000*(CE83/$AZ$61),1)))","v":""},"",{"$f":"IF(ISBLANK(AD83),\"\",IF(COUNT(AD83:AM83)<>10,NA(),CF83/(33705*ASTM(AD83,3))))","v":""},"",{"$f":"IF(ISBLANK(AD83),\"\",ASTM(highwayfuf(CG83)-highwayfuf(CG82),3))","v":""},{"$f":"IF(ISBLANK(AD83),\"\",IF(OR(ISNUMBER(AD83)=FALSE,ISNUMBER(AM83)=FALSE),NA(),IF(ASTM(AI83,0)=0,0,CJ83*ASTM(AM83,0))))","v":""},"",{"$f":"IF(ISBLANK(AD83),\"\",IF(COUNT(AD83:AM83)<>10,NA(),CI83*ASTM(AD83,3)))","v":""},"",{"$f":"IF(ISBLANK(AD83),\"\",IF(COUNT(AD83:AM83)<>10,NA(),CN83*ASTM(AD83,3)))","v":""},"",{"$f":"IF(ISBLANK(AD83),\"\",IF(COUNT(AD83:AM83)<>10,NA(),ASTM(mdiuf(CP83)-mdiuf(CP82),3)))","v":""},{"$f":"IF(ISBLANK(AD83),\"\",IF(COUNT(AD83:AM83)<>10,NA(),IF(ASTM(AI83,0)=0,0,CQ83*ASTM(AI83,0)/(CN83))))","v":""},"",{"$f":"IF(ISBLANK(AD83),\"\",IF(COUNT(AD83:AM83)<>10,NA(),ASTM(highwayfufalt(CP83)-highwayfufalt(CP82),3)))","v":""},"",{"$f":"IF(ISBLANK(AD83),\"\",IF(COUNT(AD83:AM83)<>10,NA(),IF(ASTM(AI83,0)=0,0,CT83*ASTM(AM83,0)/(CN83))))","v":""}]
[null,null,"City2 Rounded Adjusted FE (Guide) - Alternative Fuel",null,{"$f":"IF($J$6=\"HD 2b/3\",NA(),ASTM($D$23,0))","v":{"$error":"#VALUE!"}},{"$f":"IF($J$6=\"HD 2b/3\",NA(),ASTM($D$22,0))","v":{"$error":"#VALUE!"}},null,null,null,null,null,null,null,null,null,null,26,null,null,null,null,null,null,null,null,{"$f":"IF(ISBLANK(R84),\"\",IF(OR($J$6=\"HD 2b/3\",COUNT(R84:W84)<>6,$AA$95<>\"Yes\",$AA$97<>\"Yes\"),NA(),IF(ASTM(W84,0)=0,0,ASTM((51740000*$T$94*$T$95)/((($T$94*U84)+(0.429*V84)+(0.273*W84))*((0.6*$T$95*$T$96)+5471)),1))))","v":""},{"$f":"IF(ISBLANK(R84),\"\",IF(OR(AND($J$6<>\"HD 2b/3\",COUNT(R84:W84)<>6),AND($J$6=\"HD 2b/3\",COUNT(R84)+COUNT(W84)<>2),$AA$95<>\"Yes\",$AA$97<>\"Yes\"),NA(),IF(ASTM(W84,0)=0,0,IF($J$6=\"HD 2b/3\",W84,ASTM((($T$94/0.273)*U84)+(1.571*V84)+W84,0)))))","v":""},null,26,null,null,null,null,null,null,null,null,{"$f":"IF(ISBLANK(AD84),\"\",IF(OR($J$6=\"HD 2b/3\",COUNT(AD84:AI84)<>6,$AM$47<>\"Yes\",$AM$49<>\"Yes\"),NA(),IF(ASTM(AI84,0)=0,0,ASTM((51740000*$AF$46*$AF$47)/((($AF$46*AG84)+(0.429*AH84)+(0.273*AI84))*((0.6*$AF$47*$AF$48)+5471)),1))))","v":""},{"$f":"IF(ISBLANK(AD84),\"\",IF(OR(AND($J$6<>\"HD 2b/3\",COUNT(AD84:AI84)<>6),AND($J$6=\"HD 2b/3\",COUNT(AD84)+COUNT(AI84)<>2),$AM$95<>\"Yes\",$AM$97<>\"Yes\"),NA(),IF(ASTM(AI84,0)=0,0,IF($J$6=\"HD 2b/3\",AI84,ASTM((($AF$94/0.273)*AG84)+(1.571*AH84)+AI84,0)))))","v":""},null,null,null,"Adjusted Fuel Economy (MPG) [4]",{"$f":"IF($J$6=\"HD 2b/3\",NA(),IFERROR(ASTM(1/ ( AY64 + (1-AR81)/N60),4),0))","v":0},{"$f":"IF($J$6=\"HD 2b/3\",NA(),IFERROR(ASTM(1/ ( AZ64 + (1-AS81)/O60),4),0))","v":0},{"$f":"IF($J$6=\"HD 2b/3\",NA(),IFERROR(ASTM(1/(0.55/AR84+0.45/AS84),4),0))","v":0},null,null,null,"DRIVING DISTANCE VALUES","CITY","HIGHWAY",null,null,null,26,{"$f":"IF(ISBLANK(R84),\"\",IF(COUNT(R84:AA84)<>10,NA(),IF(ASTM(W84,0)=0,0,IFERROR(ASTM(R84,3)/ASTM(Z84,1),0))))","v":""},{"$f":"IF(ISBLANK(R84),\"\",IF(COUNT(R84:AA84)<>10,NA(),IF(W84=0,0,ASTM(ASTM(W84,0)*ASTM(R84,3),0))))","v":""},{"$f":"IF(ISBLANK(R84),\"\",IF(COUNT(R84:AA84)<>10,NA(),ASTM(S84,3)-ASTM(S83,3)))","v":""},{"$f":"IF(ISBLANK(R84),\"\",IF(COUNT(R84:AA84)<>10,NA(),ASTM(BG84*ASTM(T84,2),1)))","v":""},{"$f":"IF(ISBLANK(R84),\"\",IF(COUNT(R84:AA84)<>10,NA(),ASTM(ASTM($Y$94,4)*1000*(BH84/$AY$61),1)))","v":""},"",{"$f":"IF(ISBLANK(R84),\"\",IF(COUNT(R84:AA84)<>10,NA(),BI84/(33705*ASTM(R84,3))))","v":""},"",{"$f":"IF(ISBLANK(R84),\"\",IFERROR(ASTM(cityfuf(BJ84)-cityfuf(BJ83),3),\"\"))","v":""},{"$f":"IF(ISBLANK(R84),\"\",IF(OR(ISNUMBER(R84)=FALSE,ISNUMBER(AA84)=FALSE),NA(),IF(ASTM(W84,0)=0,0,BM84*ASTM(AA84,0))))","v":""},"",{"$f":"IF(ISBLANK(R84),\"\",IF(COUNT(R84:AA84)<>10,NA(),BL84*ASTM(R84,3)))","v":""},"",{"$f":"IF(ISBLANK(R84),\"\",IF(COUNT(R84:AA84)<>10,NA(),BQ84*ASTM(R84,3)))","v":""},"",{"$f":"IF(ISBLANK(R84),\"\",IF(COUNT(R84:AA84)<>10,NA(),ASTM(mdiuf(BS84),3)-ASTM(mdiuf(BS83),3)))","v":""},{"$f":"IF(ISBLANK(R84),\"\",IF(COUNT(R84:AA84)<>10,NA(),IF(ASTM(W84,0)=0,0,BT84*ASTM(W84,0)/(BQ84))))","v":""},"",{"$f":"IF(ISBLANK(R84),\"\",IF(COUNT(R84:AA84)<>10,NA(),ASTM(cityfufalt(BS84)-cityfufalt(BS83),3)))","v":""},"",{"$f":"IF(ISBLANK(R84),\"\",IF(COUNT(R84:AA84)<>10,NA(),IF(ASTM(W84,0)=0,0,BW84*ASTM(AA84,0)/(BQ84))))","v":""},null,26,{"$f":"IF(ISBLANK(AD84),\"\",IF(COUNT(AD84:AM84)<>10,NA(),IF(ASTM(AI84,0)=0,0,ASTM(AD84,3)/ASTM(AL84,1))))","v":""},{"$f":"IF(ISBLANK(AD84),\"\",IF(COUNT(AD84:AM84)<>10,NA(),IF(ASTM(AI84,0)=0,0,ASTM(ASTM(AI84,0)*ASTM(AD84,3),0))))","v":""},{"$f":"IF(ISBLANK(AD84),\"\",IF(COUNT(AD84:AM84)<>10,NA(),ASTM(AE84,3)-ASTM(AE83,3)))","v":""},{"$f":"IF(ISBLANK(AD84),\"\",IF(COUNT(AD84:AM84)<>10,NA(),ASTM(CD84*ASTM(AF84,2),1)))","v":""},{"$f":"IF(ISBLANK(AD84),\"\",IF(COUNT(AD84:AM84)<>10,NA(),ASTM(ASTM($AK$94,4)*1000*(CE84/$AZ$61),1)))","v":""},"",{"$f":"IF(ISBLANK(AD84),\"\",IF(COUNT(AD84:AM84)<>10,NA(),CF84/(33705*ASTM(AD84,3))))","v":""},"",{"$f":"IF(ISBLANK(AD84),\"\",ASTM(highwayfuf(CG84)-highwayfuf(CG83),3))","v":""},{"$f":"IF(ISBLANK(AD84),\"\",IF(OR(ISNUMBER(AD84)=FALSE,ISNUMBER(AM84)=FALSE),NA(),IF(ASTM(AI84,0)=0,0,CJ84*ASTM(AM84,0))))","v":""},"",{"$f":"IF(ISBLANK(AD84),\"\",IF(COUNT(AD84:AM84)<>10,NA(),CI84*ASTM(AD84,3)))","v":""},"",{"$f":"IF(ISBLANK(AD84),\"\",IF(COUNT(AD84:AM84)<>10,NA(),CN84*ASTM(AD84,3)))","v":""},"",{"$f":"IF(ISBLANK(AD84),\"\",IF(COUNT(AD84:AM84)<>10,NA(),ASTM(mdiuf(CP84)-mdiuf(CP83),3)))","v":""},{"$f":"IF(ISBLANK(AD84),\"\",IF(COUNT(AD84:AM84)<>10,NA(),IF(ASTM(AI84,0)=0,0,CQ84*ASTM(AI84,0)/(CN84))))","v":""},"",{"$f":"IF(ISBLANK(AD84),\"\",IF(COUNT(AD84:AM84)<>10,NA(),ASTM(highwayfufalt(CP84)-highwayfufalt(CP83),3)))","v":""},"",{"$f":"IF(ISBLANK(AD84),\"\",IF(COUNT(AD84:AM84)<>10,NA(),IF(ASTM(AI84,0)=0,0,CT84*ASTM(AM84,0)/(CN84))))","v":""}]
[null,null,"Hwy2 Rounded Adjusted Fuel FE (Guide) - Alternative Fuel",null,{"$f":"IF($J$6=\"HD 2b/3\",NA(),ASTM($E$23,0))","v":{"$error":"#VALUE!"}},{"$f":"IF($J$6=\"HD 2b/3\",NA(),ASTM($E$22,0))","v":{"$error":"#VALUE!"}},null,null,null,null,null,null,null,null,null,null,27,null,null,null,null,null,null,null,null,{"$f":"IF(ISBLANK(R85),\"\",IF(OR($J$6=\"HD 2b/3\",COUNT(R85:W85)<>6,$AA$95<>\"Yes\",$AA$97<>\"Yes\"),NA(),IF(ASTM(W85,0)=0,0,ASTM((51740000*$T$94*$T$95)/((($T$94*U85)+(0.429*V85)+(0.273*W85))*((0.6*$T$95*$T$96)+5471)),1))))","v":""},{"$f":"IF(ISBLANK(R85),\"\",IF(OR(AND($J$6<>\"HD 2b/3\",COUNT(R85:W85)<>6),AND($J$6=\"HD 2b/3\",COUNT(R85)+COUNT(W85)<>2),$AA$95<>\"Yes\",$AA$97<>\"Yes\"),NA(),IF(ASTM(W85,0)=0,0,IF($J$6=\"HD 2b/3\",W85,ASTM((($T$94/0.273)*U85)+(1.571*V85)+W85,0)))))","v":""},null,27,null,null,null,null,null,null,null,null,{"$f":"IF(ISBLANK(AD85),\"\",IF(OR($J$6=\"HD 2b/3\",COUNT(AD85:AI85)<>6,$AM$47<>\"Yes\",$AM$49<>\"Yes\"),NA(),IF(ASTM(AI85,0)=0,0,ASTM((51740000*$AF$46*$AF$47)/((($AF$46*AG85)+(0.429*AH85)+(0.273*AI85))*((0.6*$AF$47*$AF$48)+5471)),1))))","v":""},{"$f":"IF(ISBLANK(AD85),\"\",IF(OR(AND($J$6<>\"HD 2b/3\",COUNT(AD85:AI85)<>6),AND($J$6=\"HD 2b/3\",COUNT(AD85)+COUNT(AI85)<>2),$AM$95<>\"Yes\",$AM$97<>\"Yes\"),NA(),IF(ASTM(AI85,0)=0,0,IF($J$6=\"HD 2b/3\",AI85,ASTM((($AF$94/0.273)*AG85)+(1.571*AH85)+AI85,0)))))","v":""},null,null,null,"Adjusted GHG (g/mi) [1]",{"$f":"IF($J$6=\"HD 2b/3\",NA(),IFERROR(ASTM(  AY76    +(1-AR81)*ASTM(N63,1),1),0))","v":0},{"$f":"IF($J$6=\"HD 2b/3\",NA(),IFERROR(ASTM(  AZ76    +(1-AS81)*ASTM(O63,1),1),0))","v":0},{"$f":"IF($J$6=\"HD 2b/3\",NA(),IFERROR(ASTM(0.55*AR85+0.45*AS85,1),0))","v":0},null,null,null,"CD Equivalent All-Electric Range (EAER), Unadjusted (mi) [3]",{"$f":"IF($J$6=\"HD 2b/3\",NA(),ASTM(AY54*((N61-AY72)/N61),3))","v":{"$error":"#VALUE!"}},{"$f":"IF($J$6=\"HD 2b/3\",NA(),ASTM(AZ54*((O61-AZ72)/O61),3))","v":{"$error":"#VALUE!"}},null,null,null,27,{"$f":"IF(ISBLANK(R85),\"\",IF(COUNT(R85:AA85)<>10,NA(),IF(ASTM(W85,0)=0,0,IFERROR(ASTM(R85,3)/ASTM(Z85,1),0))))","v":""},{"$f":"IF(ISBLANK(R85),\"\",IF(COUNT(R85:AA85)<>10,NA(),IF(W85=0,0,ASTM(ASTM(W85,0)*ASTM(R85,3),0))))","v":""},{"$f":"IF(ISBLANK(R85),\"\",IF(COUNT(R85:AA85)<>10,NA(),ASTM(S85,3)-ASTM(S84,3)))","v":""},{"$f":"IF(ISBLANK(R85),\"\",IF(COUNT(R85:AA85)<>10,NA(),ASTM(BG85*ASTM(T85,2),1)))","v":""},{"$f":"IF(ISBLANK(R85),\"\",IF(COUNT(R85:AA85)<>10,NA(),ASTM(ASTM($Y$94,4)*1000*(BH85/$AY$61),1)))","v":""},"",{"$f":"IF(ISBLANK(R85),\"\",IF(COUNT(R85:AA85)<>10,NA(),BI85/(33705*ASTM(R85,3))))","v":""},"",{"$f":"IF(ISBLANK(R85),\"\",IFERROR(ASTM(cityfuf(BJ85)-cityfuf(BJ84),3),\"\"))","v":""},{"$f":"IF(ISBLANK(R85),\"\",IF(OR(ISNUMBER(R85)=FALSE,ISNUMBER(AA85)=FALSE),NA(),IF(ASTM(W85,0)=0,0,BM85*ASTM(AA85,0))))","v":""},"",{"$f":"IF(ISBLANK(R85),\"\",IF(COUNT(R85:AA85)<>10,NA(),BL85*ASTM(R85,3)))","v":""},"",{"$f":"IF(ISBLANK(R85),\"\",IF(COUNT(R85:AA85)<>10,NA(),BQ85*ASTM(R85,3)))","v":""},"",{"$f":"IF(ISBLANK(R85),\"\",IF(COUNT(R85:AA85)<>10,NA(),ASTM(mdiuf(BS85),3)-ASTM(mdiuf(BS84),3)))","v":""},{"$f":"IF(ISBLANK(R85),\"\",IF(COUNT(R85:AA85)<>10,NA(),IF(ASTM(W85,0)=0,0,BT85*ASTM(W85,0)/(BQ85))))","v":""},"",{"$f":"IF(ISBLANK(R85),\"\",IF(COUNT(R85:AA85)<>10,NA(),ASTM(cityfufalt(BS85)-cityfufalt(BS84),3)))","v":""},"",{"$f":"IF(ISBLANK(R85),\"\",IF(COUNT(R85:AA85)<>10,NA(),IF(ASTM(W85,0)=0,0,BW85*ASTM(AA85,0)/(BQ85))))","v":""},null,27,{"$f":"IF(ISBLANK(AD85),\"\",IF(COUNT(AD85:AM85)<>10,NA(),IF(ASTM(AI85,0)=0,0,ASTM(AD85,3)/ASTM(AL85,1))))","v":""},{"$f":"IF(ISBLANK(AD85),\"\",IF(COUNT(AD85:AM85)<>10,NA(),IF(ASTM(AI85,0)=0,0,ASTM(ASTM(AI85,0)*ASTM(AD85,3),0))))","v":""},{"$f":"IF(ISBLANK(AD85),\"\",IF(COUNT(AD85:AM85)<>10,NA(),ASTM(AE85,3)-ASTM(AE84,3)))","v":""},{"$f":"IF(ISBLANK(AD85),\"\",IF(COUNT(AD85:AM85)<>10,NA(),ASTM(CD85*ASTM(AF85,2),1)))","v":""},{"$f":"IF(ISBLANK(AD85),\"\",IF(COUNT(AD85:AM85)<>10,NA(),ASTM(ASTM($AK$94,4)*1000*(CE85/$AZ$61),1)))","v":""},"",{"$f":"IF(ISBLANK(AD85),\"\",IF(COUNT(AD85:AM85)<>10,NA(),CF85/(33705*ASTM(AD85,3))))","v":""},"",{"$f":"IF(ISBLANK(AD85),\"\",ASTM(highwayfuf(CG85)-highwayfuf(CG84),3))","v":""},{"$f":"IF(ISBLANK(AD85),\"\",IF(OR(ISNUMBER(AD85)=FALSE,ISNUMBER(AM85)=FALSE),NA(),IF(ASTM(AI85,0)=0,0,CJ85*ASTM(AM85,0))))","v":""},"",{"$f":"IF(ISBLANK(AD85),\"\",IF(COUNT(AD85:AM85)<>10,NA(),CI85*ASTM(AD85,3)))","v":""},"",{"$f":"IF(ISBLANK(AD85),\"\",IF(COUNT(AD85:AM85)<>10,NA(),CN85*ASTM(AD85,3)))","v":""},"",{"$f":"IF(ISBLANK(AD85),\"\",IF(COUNT(AD85:AM85)<>10,NA(),ASTM(mdiuf(CP85)-mdiuf(CP84),3)))","v":""},{"$f":"IF(ISBLANK(AD85),\"\",IF(COUNT(AD85:AM85)<>10,NA(),IF(ASTM(AI85,0)=0,0,CQ85*ASTM(AI85,0)/(CN85))))","v":""},"",{"$f":"IF(ISBLANK(AD85),\"\",IF(COUNT(AD85:AM85)<>10,NA(),ASTM(highwayfufalt(CP85)-highwayfufalt(CP84),3)))","v":""},"",{"$f":"IF(ISBLANK(AD85),\"\",IF(COUNT(AD85:AM85)<>10,NA(),IF(ASTM(AI85,0)=0,0,CT85*ASTM(AM85,0)/(CN85))))","v":""}]
[null,null,"Comb2 Rounded Adjusted Fuel FE (Guide) - Alternative Fuel",null,{"$f":"IF($J$6=\"HD 2b/3\",NA(),$F$23)","v":{"$error":"#N/A"}},{"$f":"IF($J$6=\"HD 2b/3\",NA(),$F$22)","v":{"$error":"#N/A"}},null,null,null,null,null,null,null,null,null,null,28,null,null,null,null,null,null,null,null,{"$f":"IF(ISBLANK(R86),\"\",IF(OR($J$6=\"HD 2b/3\",COUNT(R86:W86)<>6,$AA$95<>\"Yes\",$AA$97<>\"Yes\"),NA(),IF(ASTM(W86,0)=0,0,ASTM((51740000*$T$94*$T$95)/((($T$94*U86)+(0.429*V86)+(0.273*W86))*((0.6*$T$95*$T$96)+5471)),1))))","v":""},{"$f":"IF(ISBLANK(R86),\"\",IF(OR(AND($J$6<>\"HD 2b/3\",COUNT(R86:W86)<>6),AND($J$6=\"HD 2b/3\",COUNT(R86)+COUNT(W86)<>2),$AA$95<>\"Yes\",$AA$97<>\"Yes\"),NA(),IF(ASTM(W86,0)=0,0,IF($J$6=\"HD 2b/3\",W86,ASTM((($T$94/0.273)*U86)+(1.571*V86)+W86,0)))))","v":""},null,28,null,null,null,null,null,null,null,null,{"$f":"IF(ISBLANK(AD86),\"\",IF(OR($J$6=\"HD 2b/3\",COUNT(AD86:AI86)<>6,$AM$47<>\"Yes\",$AM$49<>\"Yes\"),NA(),IF(ASTM(AI86,0)=0,0,ASTM((51740000*$AF$46*$AF$47)/((($AF$46*AG86)+(0.429*AH86)+(0.273*AI86))*((0.6*$AF$47*$AF$48)+5471)),1))))","v":""},{"$f":"IF(ISBLANK(AD86),\"\",IF(OR(AND($J$6<>\"HD 2b/3\",COUNT(AD86:AI86)<>6),AND($J$6=\"HD 2b/3\",COUNT(AD86)+COUNT(AI86)<>2),$AM$95<>\"Yes\",$AM$97<>\"Yes\"),NA(),IF(ASTM(AI86,0)=0,0,IF($J$6=\"HD 2b/3\",AI86,ASTM((($AF$94/0.273)*AG86)+(1.571*AH86)+AI86,0)))))","v":""},null,null,null,null,null,null,null,null,null,null,"Charge-sustaining driving range, adjusted (mi) [3]",{"$f":"IF($J$6=\"HD 2b/3\",NA(),ASTM((ASTM($J$11,1)-AY66)*ASTM(N60,4),3))","v":0},{"$f":"IF($J$6=\"HD 2b/3\",NA(),ASTM((ASTM($J$11,1)-AZ66)*ASTM(O60,4),3))","v":0},null,null,null,28,{"$f":"IF(ISBLANK(R86),\"\",IF(COUNT(R86:AA86)<>10,NA(),IF(ASTM(W86,0)=0,0,IFERROR(ASTM(R86,3)/ASTM(Z86,1),0))))","v":""},{"$f":"IF(ISBLANK(R86),\"\",IF(COUNT(R86:AA86)<>10,NA(),IF(W86=0,0,ASTM(ASTM(W86,0)*ASTM(R86,3),0))))","v":""},{"$f":"IF(ISBLANK(R86),\"\",IF(COUNT(R86:AA86)<>10,NA(),ASTM(S86,3)-ASTM(S85,3)))","v":""},{"$f":"IF(ISBLANK(R86),\"\",IF(COUNT(R86:AA86)<>10,NA(),ASTM(BG86*ASTM(T86,2),1)))","v":""},{"$f":"IF(ISBLANK(R86),\"\",IF(COUNT(R86:AA86)<>10,NA(),ASTM(ASTM($Y$94,4)*1000*(BH86/$AY$61),1)))","v":""},"",{"$f":"IF(ISBLANK(R86),\"\",IF(COUNT(R86:AA86)<>10,NA(),BI86/(33705*ASTM(R86,3))))","v":""},"",{"$f":"IF(ISBLANK(R86),\"\",IFERROR(ASTM(cityfuf(BJ86)-cityfuf(BJ85),3),\"\"))","v":""},{"$f":"IF(ISBLANK(R86),\"\",IF(OR(ISNUMBER(R86)=FALSE,ISNUMBER(AA86)=FALSE),NA(),IF(ASTM(W86,0)=0,0,BM86*ASTM(AA86,0))))","v":""},"",{"$f":"IF(ISBLANK(R86),\"\",IF(COUNT(R86:AA86)<>10,NA(),BL86*ASTM(R86,3)))","v":""},"",{"$f":"IF(ISBLANK(R86),\"\",IF(COUNT(R86:AA86)<>10,NA(),BQ86*ASTM(R86,3)))","v":""},"",{"$f":"IF(ISBLANK(R86),\"\",IF(COUNT(R86:AA86)<>10,NA(),ASTM(mdiuf(BS86),3)-ASTM(mdiuf(BS85),3)))","v":""},{"$f":"IF(ISBLANK(R86),\"\",IF(COUNT(R86:AA86)<>10,NA(),IF(ASTM(W86,0)=0,0,BT86*ASTM(W86,0)/(BQ86))))","v":""},"",{"$f":"IF(ISBLANK(R86),\"\",IF(COUNT(R86:AA86)<>10,NA(),ASTM(cityfufalt(BS86)-cityfufalt(BS85),3)))","v":""},"",{"$f":"IF(ISBLANK(R86),\"\",IF(COUNT(R86:AA86)<>10,NA(),IF(ASTM(W86,0)=0,0,BW86*ASTM(AA86,0)/(BQ86))))","v":""},null,28,{"$f":"IF(ISBLANK(AD86),\"\",IF(COUNT(AD86:AM86)<>10,NA(),IF(ASTM(AI86,0)=0,0,ASTM(AD86,3)/ASTM(AL86,1))))","v":""},{"$f":"IF(ISBLANK(AD86),\"\",IF(COUNT(AD86:AM86)<>10,NA(),IF(ASTM(AI86,0)=0,0,ASTM(ASTM(AI86,0)*ASTM(AD86,3),0))))","v":""},{"$f":"IF(ISBLANK(AD86),\"\",IF(COUNT(AD86:AM86)<>10,NA(),ASTM(AE86,3)-ASTM(AE85,3)))","v":""},{"$f":"IF(ISBLANK(AD86),\"\",IF(COUNT(AD86:AM86)<>10,NA(),ASTM(CD86*ASTM(AF86,2),1)))","v":""},{"$f":"IF(ISBLANK(AD86),\"\",IF(COUNT(AD86:AM86)<>10,NA(),ASTM(ASTM($AK$94,4)*1000*(CE86/$AZ$61),1)))","v":""},"",{"$f":"IF(ISBLANK(AD86),\"\",IF(COUNT(AD86:AM86)<>10,NA(),CF86/(33705*ASTM(AD86,3))))","v":""},"",{"$f":"IF(ISBLANK(AD86),\"\",ASTM(highwayfuf(CG86)-highwayfuf(CG85),3))","v":""},{"$f":"IF(ISBLANK(AD86),\"\",IF(OR(ISNUMBER(AD86)=FALSE,ISNUMBER(AM86)=FALSE),NA(),IF(ASTM(AI86,0)=0,0,CJ86*ASTM(AM86,0))))","v":""},"",{"$f":"IF(ISBLANK(AD86),\"\",IF(COUNT(AD86:AM86)<>10,NA(),CI86*ASTM(AD86,3)))","v":""},"",{"$f":"IF(ISBLANK(AD86),\"\",IF(COUNT(AD86:AM86)<>10,NA(),CN86*ASTM(AD86,3)))","v":""},"",{"$f":"IF(ISBLANK(AD86),\"\",IF(COUNT(AD86:AM86)<>10,NA(),ASTM(mdiuf(CP86)-mdiuf(CP85),3)))","v":""},{"$f":"IF(ISBLANK(AD86),\"\",IF(COUNT(AD86:AM86)<>10,NA(),IF(ASTM(AI86,0)=0,0,CQ86*ASTM(AI86,0)/(CN86))))","v":""},"",{"$f":"IF(ISBLANK(AD86),\"\",IF(COUNT(AD86:AM86)<>10,NA(),ASTM(highwayfufalt(CP86)-highwayfufalt(CP85),3)))","v":""},"",{"$f":"IF(ISBLANK(AD86),\"\",IF(COUNT(AD86:AM86)<>10,NA(),IF(ASTM(AI86,0)=0,0,CT86*ASTM(AM86,0)/(CN86))))","v":""}]
[null,null,"City2 Unrounded Unadjusted FE - Alternative Fuel",null,{"$f":"IF($J$6=\"HD 2b/3\",NA(),ASTM(IF($N$7+$N$55+$N$103=0,SUM(AY22, AY70,AY118)/(((AY22)<>0)+((AY70)<>0)+((AY118)<>0)),($N$7*(AY22)+$N$55*(AY70)+ $N$103*(AY118))/($N$7+$N$55+$N$103)),1))","v":{"$error":"#VALUE!"}},{"$f":"IF($J$6=\"HD 2b/3\",NA(),ASTM(IF($N$7+$N$55+$N$103=0,(((AY21)<>0)+((AY69)<>0)+((AY117)<>0))/(IFERROR(1/(AY21),0)+IFERROR(1/(AY69),0)+IFERROR(1/(AY117),0)),($N$7+$N$55+$N$103)/(IFERROR($N$7/(AY21),0)+IFERROR($N$55/(AY69),0)+IFERROR($N$103/(AY117),0))),1))","v":{"$error":"#VALUE!"}},null,null,null,null,null,null,null,null,null,null,29,null,null,null,null,null,null,null,null,{"$f":"IF(ISBLANK(R87),\"\",IF(OR($J$6=\"HD 2b/3\",COUNT(R87:W87)<>6,$AA$95<>\"Yes\",$AA$97<>\"Yes\"),NA(),IF(ASTM(W87,0)=0,0,ASTM((51740000*$T$94*$T$95)/((($T$94*U87)+(0.429*V87)+(0.273*W87))*((0.6*$T$95*$T$96)+5471)),1))))","v":""},{"$f":"IF(ISBLANK(R87),\"\",IF(OR(AND($J$6<>\"HD 2b/3\",COUNT(R87:W87)<>6),AND($J$6=\"HD 2b/3\",COUNT(R87)+COUNT(W87)<>2),$AA$95<>\"Yes\",$AA$97<>\"Yes\"),NA(),IF(ASTM(W87,0)=0,0,IF($J$6=\"HD 2b/3\",W87,ASTM((($T$94/0.273)*U87)+(1.571*V87)+W87,0)))))","v":""},null,29,null,null,null,null,null,null,null,null,{"$f":"IF(ISBLANK(AD87),\"\",IF(OR($J$6=\"HD 2b/3\",COUNT(AD87:AI87)<>6,$AM$47<>\"Yes\",$AM$49<>\"Yes\"),NA(),IF(ASTM(AI87,0)=0,0,ASTM((51740000*$AF$46*$AF$47)/((($AF$46*AG87)+(0.429*AH87)+(0.273*AI87))*((0.6*$AF$47*$AF$48)+5471)),1))))","v":""},{"$f":"IF(ISBLANK(AD87),\"\",IF(OR(AND($J$6<>\"HD 2b/3\",COUNT(AD87:AI87)<>6),AND($J$6=\"HD 2b/3\",COUNT(AD87)+COUNT(AI87)<>2),$AM$95<>\"Yes\",$AM$97<>\"Yes\"),NA(),IF(ASTM(AI87,0)=0,0,IF($J$6=\"HD 2b/3\",AI87,ASTM((($AF$94/0.273)*AG87)+(1.571*AH87)+AI87,0)))))","v":""},null,null,null,null,null,null,null,null,null,null,"UTILITY FACTORS & OTHER METRICS","CITY","HIGHWAY",null,null,null,29,{"$f":"IF(ISBLANK(R87),\"\",IF(COUNT(R87:AA87)<>10,NA(),IF(ASTM(W87,0)=0,0,IFERROR(ASTM(R87,3)/ASTM(Z87,1),0))))","v":""},{"$f":"IF(ISBLANK(R87),\"\",IF(COUNT(R87:AA87)<>10,NA(),IF(W87=0,0,ASTM(ASTM(W87,0)*ASTM(R87,3),0))))","v":""},{"$f":"IF(ISBLANK(R87),\"\",IF(COUNT(R87:AA87)<>10,NA(),ASTM(S87,3)-ASTM(S86,3)))","v":""},{"$f":"IF(ISBLANK(R87),\"\",IF(COUNT(R87:AA87)<>10,NA(),ASTM(BG87*ASTM(T87,2),1)))","v":""},{"$f":"IF(ISBLANK(R87),\"\",IF(COUNT(R87:AA87)<>10,NA(),ASTM(ASTM($Y$94,4)*1000*(BH87/$AY$61),1)))","v":""},"",{"$f":"IF(ISBLANK(R87),\"\",IF(COUNT(R87:AA87)<>10,NA(),BI87/(33705*ASTM(R87,3))))","v":""},"",{"$f":"IF(ISBLANK(R87),\"\",IFERROR(ASTM(cityfuf(BJ87)-cityfuf(BJ86),3),\"\"))","v":""},{"$f":"IF(ISBLANK(R87),\"\",IF(OR(ISNUMBER(R87)=FALSE,ISNUMBER(AA87)=FALSE),NA(),IF(ASTM(W87,0)=0,0,BM87*ASTM(AA87,0))))","v":""},"",{"$f":"IF(ISBLANK(R87),\"\",IF(COUNT(R87:AA87)<>10,NA(),BL87*ASTM(R87,3)))","v":""},"",{"$f":"IF(ISBLANK(R87),\"\",IF(COUNT(R87:AA87)<>10,NA(),BQ87*ASTM(R87,3)))","v":""},"",{"$f":"IF(ISBLANK(R87),\"\",IF(COUNT(R87:AA87)<>10,NA(),ASTM(mdiuf(BS87),3)-ASTM(mdiuf(BS86),3)))","v":""},{"$f":"IF(ISBLANK(R87),\"\",IF(COUNT(R87:AA87)<>10,NA(),IF(ASTM(W87,0)=0,0,BT87*ASTM(W87,0)/(BQ87))))","v":""},"",{"$f":"IF(ISBLANK(R87),\"\",IF(COUNT(R87:AA87)<>10,NA(),ASTM(cityfufalt(BS87)-cityfufalt(BS86),3)))","v":""},"",{"$f":"IF(ISBLANK(R87),\"\",IF(COUNT(R87:AA87)<>10,NA(),IF(ASTM(W87,0)=0,0,BW87*ASTM(AA87,0)/(BQ87))))","v":""},null,29,{"$f":"IF(ISBLANK(AD87),\"\",IF(COUNT(AD87:AM87)<>10,NA(),IF(ASTM(AI87,0)=0,0,ASTM(AD87,3)/ASTM(AL87,1))))","v":""},{"$f":"IF(ISBLANK(AD87),\"\",IF(COUNT(AD87:AM87)<>10,NA(),IF(ASTM(AI87,0)=0,0,ASTM(ASTM(AI87,0)*ASTM(AD87,3),0))))","v":""},{"$f":"IF(ISBLANK(AD87),\"\",IF(COUNT(AD87:AM87)<>10,NA(),ASTM(AE87,3)-ASTM(AE86,3)))","v":""},{"$f":"IF(ISBLANK(AD87),\"\",IF(COUNT(AD87:AM87)<>10,NA(),ASTM(CD87*ASTM(AF87,2),1)))","v":""},{"$f":"IF(ISBLANK(AD87),\"\",IF(COUNT(AD87:AM87)<>10,NA(),ASTM(ASTM($AK$94,4)*1000*(CE87/$AZ$61),1)))","v":""},"",{"$f":"IF(ISBLANK(AD87),\"\",IF(COUNT(AD87:AM87)<>10,NA(),CF87/(33705*ASTM(AD87,3))))","v":""},"",{"$f":"IF(ISBLANK(AD87),\"\",ASTM(highwayfuf(CG87)-highwayfuf(CG86),3))","v":""},{"$f":"IF(ISBLANK(AD87),\"\",IF(OR(ISNUMBER(AD87)=FALSE,ISNUMBER(AM87)=FALSE),NA(),IF(ASTM(AI87,0)=0,0,CJ87*ASTM(AM87,0))))","v":""},"",{"$f":"IF(ISBLANK(AD87),\"\",IF(COUNT(AD87:AM87)<>10,NA(),CI87*ASTM(AD87,3)))","v":""},"",{"$f":"IF(ISBLANK(AD87),\"\",IF(COUNT(AD87:AM87)<>10,NA(),CN87*ASTM(AD87,3)))","v":""},"",{"$f":"IF(ISBLANK(AD87),\"\",IF(COUNT(AD87:AM87)<>10,NA(),ASTM(mdiuf(CP87)-mdiuf(CP86),3)))","v":""},{"$f":"IF(ISBLANK(AD87),\"\",IF(COUNT(AD87:AM87)<>10,NA(),IF(ASTM(AI87,0)=0,0,CQ87*ASTM(AI87,0)/(CN87))))","v":""},"",{"$f":"IF(ISBLANK(AD87),\"\",IF(COUNT(AD87:AM87)<>10,NA(),ASTM(highwayfufalt(CP87)-highwayfufalt(CP86),3)))","v":""},"",{"$f":"IF(ISBLANK(AD87),\"\",IF(COUNT(AD87:AM87)<>10,NA(),IF(ASTM(AI87,0)=0,0,CT87*ASTM(AM87,0)/(CN87))))","v":""}]
[null,null,"Hwy2 Unrounded Unadjusted  FE - Alternative Fuel",null,{"$f":"IF($J$6=\"HD 2b/3\",NA(),ASTM(IF($N$7+$N$55+$N$103=0,SUM(AZ22,AZ70,AZ118)/(((AZ22)<>0)+((AZ70)<>0)+((AZ118)<>0)),($N$7*(AZ22)+$N$55*(AZ70)+ $N$103*(AZ118))/($N$7+$N$55+$N$103)),1))","v":{"$error":"#VALUE!"}},{"$f":"IF($J$6=\"HD 2b/3\",NA(),ASTM(IF($N$7+$N$55+$N$103=0,(((AZ21)<>0)+((AZ69)<>0)+((AZ117)<>0))/(IFERROR(1/(AZ21),0)+IFERROR(1/(AZ69),0)+IFERROR(1/(AZ117),0)),($N$7+$N$55+$N$103) / (IFERROR($N$7/(AZ21),0)+IFERROR($N$55/(AZ69),0)+IFERROR($N$103/(AZ117),0))),1))","v":{"$error":"#VALUE!"}},null,null,null,null,null,null,null,null,null,null,30,null,null,null,null,null,null,null,null,{"$f":"IF(ISBLANK(R88),\"\",IF(OR($J$6=\"HD 2b/3\",COUNT(R88:W88)<>6,$AA$95<>\"Yes\",$AA$97<>\"Yes\"),NA(),IF(ASTM(W88,0)=0,0,ASTM((51740000*$T$94*$T$95)/((($T$94*U88)+(0.429*V88)+(0.273*W88))*((0.6*$T$95*$T$96)+5471)),1))))","v":""},{"$f":"IF(ISBLANK(R88),\"\",IF(OR(AND($J$6<>\"HD 2b/3\",COUNT(R88:W88)<>6),AND($J$6=\"HD 2b/3\",COUNT(R88)+COUNT(W88)<>2),$AA$95<>\"Yes\",$AA$97<>\"Yes\"),NA(),IF(ASTM(W88,0)=0,0,IF($J$6=\"HD 2b/3\",W88,ASTM((($T$94/0.273)*U88)+(1.571*V88)+W88,0)))))","v":""},null,30,null,null,null,null,null,null,null,null,{"$f":"IF(ISBLANK(AD88),\"\",IF(OR($J$6=\"HD 2b/3\",COUNT(AD88:AI88)<>6,$AM$47<>\"Yes\",$AM$49<>\"Yes\"),NA(),IF(ASTM(AI88,0)=0,0,ASTM((51740000*$AF$46*$AF$47)/((($AF$46*AG88)+(0.429*AH88)+(0.273*AI88))*((0.6*$AF$47*$AF$48)+5471)),1))))","v":""},{"$f":"IF(ISBLANK(AD88),\"\",IF(OR(AND($J$6<>\"HD 2b/3\",COUNT(AD88:AI88)<>6),AND($J$6=\"HD 2b/3\",COUNT(AD88)+COUNT(AI88)<>2),$AM$95<>\"Yes\",$AM$97<>\"Yes\"),NA(),IF(ASTM(AI88,0)=0,0,IF($J$6=\"HD 2b/3\",AI88,ASTM((($AF$94/0.273)*AG88)+(1.571*AH88)+AI88,0)))))","v":""},null,null,null,null,null,null,null,null,null,null,"CD 55/45 Fleet Utility Factor (FUF) for EAER [3]",{"$f":"IF($J$6=\"HD 2b/3\",NA(),ASTM(cityfuf(AY85),3))","v":{"$error":"#VALUE!"}},{"$f":"IF($J$6=\"HD 2b/3\",NA(),ASTM(highwayfuf(AZ85),3))","v":{"$error":"#VALUE!"}},null,null,null,30,{"$f":"IF(ISBLANK(R88),\"\",IF(COUNT(R88:AA88)<>10,NA(),IF(ASTM(W88,0)=0,0,IFERROR(ASTM(R88,3)/ASTM(Z88,1),0))))","v":""},{"$f":"IF(ISBLANK(R88),\"\",IF(COUNT(R88:AA88)<>10,NA(),IF(W88=0,0,ASTM(ASTM(W88,0)*ASTM(R88,3),0))))","v":""},{"$f":"IF(ISBLANK(R88),\"\",IF(COUNT(R88:AA88)<>10,NA(),ASTM(S88,3)-ASTM(S87,3)))","v":""},{"$f":"IF(ISBLANK(R88),\"\",IF(COUNT(R88:AA88)<>10,NA(),ASTM(BG88*ASTM(T88,2),1)))","v":""},{"$f":"IF(ISBLANK(R88),\"\",IF(COUNT(R88:AA88)<>10,NA(),ASTM(ASTM($Y$94,4)*1000*(BH88/$AY$61),1)))","v":""},"",{"$f":"IF(ISBLANK(R88),\"\",IF(COUNT(R88:AA88)<>10,NA(),BI88/(33705*ASTM(R88,3))))","v":""},"",{"$f":"IF(ISBLANK(R88),\"\",IFERROR(ASTM(cityfuf(BJ88)-cityfuf(BJ87),3),\"\"))","v":""},{"$f":"IF(ISBLANK(R88),\"\",IF(OR(ISNUMBER(R88)=FALSE,ISNUMBER(AA88)=FALSE),NA(),IF(ASTM(W88,0)=0,0,BM88*ASTM(AA88,0))))","v":""},"",{"$f":"IF(ISBLANK(R88),\"\",IF(COUNT(R88:AA88)<>10,NA(),BL88*ASTM(R88,3)))","v":""},"",{"$f":"IF(ISBLANK(R88),\"\",IF(COUNT(R88:AA88)<>10,NA(),BQ88*ASTM(R88,3)))","v":""},"",{"$f":"IF(ISBLANK(R88),\"\",IF(COUNT(R88:AA88)<>10,NA(),ASTM(mdiuf(BS88),3)-ASTM(mdiuf(BS87),3)))","v":""},{"$f":"IF(ISBLANK(R88),\"\",IF(COUNT(R88:AA88)<>10,NA(),IF(ASTM(W88,0)=0,0,BT88*ASTM(W88,0)/(BQ88))))","v":""},"",{"$f":"IF(ISBLANK(R88),\"\",IF(COUNT(R88:AA88)<>10,NA(),ASTM(cityfufalt(BS88)-cityfufalt(BS87),3)))","v":""},"",{"$f":"IF(ISBLANK(R88),\"\",IF(COUNT(R88:AA88)<>10,NA(),IF(ASTM(W88,0)=0,0,BW88*ASTM(AA88,0)/(BQ88))))","v":""},null,30,{"$f":"IF(ISBLANK(AD88),\"\",IF(COUNT(AD88:AM88)<>10,NA(),IF(ASTM(AI88,0)=0,0,ASTM(AD88,3)/ASTM(AL88,1))))","v":""},{"$f":"IF(ISBLANK(AD88),\"\",IF(COUNT(AD88:AM88)<>10,NA(),IF(ASTM(AI88,0)=0,0,ASTM(ASTM(AI88,0)*ASTM(AD88,3),0))))","v":""},{"$f":"IF(ISBLANK(AD88),\"\",IF(COUNT(AD88:AM88)<>10,NA(),ASTM(AE88,3)-ASTM(AE87,3)))","v":""},{"$f":"IF(ISBLANK(AD88),\"\",IF(COUNT(AD88:AM88)<>10,NA(),ASTM(CD88*ASTM(AF88,2),1)))","v":""},{"$f":"IF(ISBLANK(AD88),\"\",IF(COUNT(AD88:AM88)<>10,NA(),ASTM(ASTM($AK$94,4)*1000*(CE88/$AZ$61),1)))","v":""},"",{"$f":"IF(ISBLANK(AD88),\"\",IF(COUNT(AD88:AM88)<>10,NA(),CF88/(33705*ASTM(AD88,3))))","v":""},"",{"$f":"IF(ISBLANK(AD88),\"\",ASTM(highwayfuf(CG88)-highwayfuf(CG87),3))","v":""},{"$f":"IF(ISBLANK(AD88),\"\",IF(OR(ISNUMBER(AD88)=FALSE,ISNUMBER(AM88)=FALSE),NA(),IF(ASTM(AI88,0)=0,0,CJ88*ASTM(AM88,0))))","v":""},"",{"$f":"IF(ISBLANK(AD88),\"\",IF(COUNT(AD88:AM88)<>10,NA(),CI88*ASTM(AD88,3)))","v":""},"",{"$f":"IF(ISBLANK(AD88),\"\",IF(COUNT(AD88:AM88)<>10,NA(),CN88*ASTM(AD88,3)))","v":""},"",{"$f":"IF(ISBLANK(AD88),\"\",IF(COUNT(AD88:AM88)<>10,NA(),ASTM(mdiuf(CP88)-mdiuf(CP87),3)))","v":""},{"$f":"IF(ISBLANK(AD88),\"\",IF(COUNT(AD88:AM88)<>10,NA(),IF(ASTM(AI88,0)=0,0,CQ88*ASTM(AI88,0)/(CN88))))","v":""},"",{"$f":"IF(ISBLANK(AD88),\"\",IF(COUNT(AD88:AM88)<>10,NA(),ASTM(highwayfufalt(CP88)-highwayfufalt(CP87),3)))","v":""},"",{"$f":"IF(ISBLANK(AD88),\"\",IF(COUNT(AD88:AM88)<>10,NA(),IF(ASTM(AI88,0)=0,0,CT88*ASTM(AM88,0)/(CN88))))","v":""}]
[null,null,"Comb2 Unrounded Unadjusted FE - Alternative Fuel",null,{"$f":"IF($J$6=\"HD 2b/3\",NA(),ASTM(0.55*E87+0.45*E88,4))","v":{"$error":"#VALUE!"}},{"$f":"IF($J$6=\"HD 2b/3\",NA(),ASTM(1/(0.55/F87+0.45/F88),4))","v":{"$error":"#VALUE!"}},null,null,null,null,null,null,null,null,null,null,31,null,null,null,null,null,null,null,null,{"$f":"IF(ISBLANK(R89),\"\",IF(OR($J$6=\"HD 2b/3\",COUNT(R89:W89)<>6,$AA$95<>\"Yes\",$AA$97<>\"Yes\"),NA(),IF(ASTM(W89,0)=0,0,ASTM((51740000*$T$94*$T$95)/((($T$94*U89)+(0.429*V89)+(0.273*W89))*((0.6*$T$95*$T$96)+5471)),1))))","v":""},{"$f":"IF(ISBLANK(R89),\"\",IF(OR(AND($J$6<>\"HD 2b/3\",COUNT(R89:W89)<>6),AND($J$6=\"HD 2b/3\",COUNT(R89)+COUNT(W89)<>2),$AA$95<>\"Yes\",$AA$97<>\"Yes\"),NA(),IF(ASTM(W89,0)=0,0,IF($J$6=\"HD 2b/3\",W89,ASTM((($T$94/0.273)*U89)+(1.571*V89)+W89,0)))))","v":""},null,31,null,null,null,null,null,null,null,null,{"$f":"IF(ISBLANK(AD89),\"\",IF(OR($J$6=\"HD 2b/3\",COUNT(AD89:AI89)<>6,$AM$47<>\"Yes\",$AM$49<>\"Yes\"),NA(),IF(ASTM(AI89,0)=0,0,ASTM((51740000*$AF$46*$AF$47)/((($AF$46*AG89)+(0.429*AH89)+(0.273*AI89))*((0.6*$AF$47*$AF$48)+5471)),1))))","v":""},{"$f":"IF(ISBLANK(AD89),\"\",IF(OR(AND($J$6<>\"HD 2b/3\",COUNT(AD89:AI89)<>6),AND($J$6=\"HD 2b/3\",COUNT(AD89)+COUNT(AI89)<>2),$AM$95<>\"Yes\",$AM$97<>\"Yes\"),NA(),IF(ASTM(AI89,0)=0,0,IF($J$6=\"HD 2b/3\",AI89,ASTM((($AF$94/0.273)*AG89)+(1.571*AH89)+AI89,0)))))","v":""},null,null,null,null,null,null,null,null,null,null,"FUEL COSTS: PROCESS FOR DERIVING A COMPOSITE CD/CS COST PER MILE","CITY","HIGHWAY",null,null,null,31,{"$f":"IF(ISBLANK(R89),\"\",IF(COUNT(R89:AA89)<>10,NA(),IF(ASTM(W89,0)=0,0,IFERROR(ASTM(R89,3)/ASTM(Z89,1),0))))","v":""},{"$f":"IF(ISBLANK(R89),\"\",IF(COUNT(R89:AA89)<>10,NA(),IF(W89=0,0,ASTM(ASTM(W89,0)*ASTM(R89,3),0))))","v":""},{"$f":"IF(ISBLANK(R89),\"\",IF(COUNT(R89:AA89)<>10,NA(),ASTM(S89,3)-ASTM(S88,3)))","v":""},{"$f":"IF(ISBLANK(R89),\"\",IF(COUNT(R89:AA89)<>10,NA(),ASTM(BG89*ASTM(T89,2),1)))","v":""},{"$f":"IF(ISBLANK(R89),\"\",IF(COUNT(R89:AA89)<>10,NA(),ASTM(ASTM($Y$94,4)*1000*(BH89/$AY$61),1)))","v":""},"",{"$f":"IF(ISBLANK(R89),\"\",IF(COUNT(R89:AA89)<>10,NA(),BI89/(33705*ASTM(R89,3))))","v":""},"",{"$f":"IF(ISBLANK(R89),\"\",IFERROR(ASTM(cityfuf(BJ89)-cityfuf(BJ88),3),\"\"))","v":""},{"$f":"IF(ISBLANK(R89),\"\",IF(OR(ISNUMBER(R89)=FALSE,ISNUMBER(AA89)=FALSE),NA(),IF(ASTM(W89,0)=0,0,BM89*ASTM(AA89,0))))","v":""},"",{"$f":"IF(ISBLANK(R89),\"\",IF(COUNT(R89:AA89)<>10,NA(),BL89*ASTM(R89,3)))","v":""},"",{"$f":"IF(ISBLANK(R89),\"\",IF(COUNT(R89:AA89)<>10,NA(),BQ89*ASTM(R89,3)))","v":""},"",{"$f":"IF(ISBLANK(R89),\"\",IF(COUNT(R89:AA89)<>10,NA(),ASTM(mdiuf(BS89),3)-ASTM(mdiuf(BS88),3)))","v":""},{"$f":"IF(ISBLANK(R89),\"\",IF(COUNT(R89:AA89)<>10,NA(),IF(ASTM(W89,0)=0,0,BT89*ASTM(W89,0)/(BQ89))))","v":""},"",{"$f":"IF(ISBLANK(R89),\"\",IF(COUNT(R89:AA89)<>10,NA(),ASTM(cityfufalt(BS89)-cityfufalt(BS88),3)))","v":""},"",{"$f":"IF(ISBLANK(R89),\"\",IF(COUNT(R89:AA89)<>10,NA(),IF(ASTM(W89,0)=0,0,BW89*ASTM(AA89,0)/(BQ89))))","v":""},null,31,{"$f":"IF(ISBLANK(AD89),\"\",IF(COUNT(AD89:AM89)<>10,NA(),IF(ASTM(AI89,0)=0,0,ASTM(AD89,3)/ASTM(AL89,1))))","v":""},{"$f":"IF(ISBLANK(AD89),\"\",IF(COUNT(AD89:AM89)<>10,NA(),IF(ASTM(AI89,0)=0,0,ASTM(ASTM(AI89,0)*ASTM(AD89,3),0))))","v":""},{"$f":"IF(ISBLANK(AD89),\"\",IF(COUNT(AD89:AM89)<>10,NA(),ASTM(AE89,3)-ASTM(AE88,3)))","v":""},{"$f":"IF(ISBLANK(AD89),\"\",IF(COUNT(AD89:AM89)<>10,NA(),ASTM(CD89*ASTM(AF89,2),1)))","v":""},{"$f":"IF(ISBLANK(AD89),\"\",IF(COUNT(AD89:AM89)<>10,NA(),ASTM(ASTM($AK$94,4)*1000*(CE89/$AZ$61),1)))","v":""},"",{"$f":"IF(ISBLANK(AD89),\"\",IF(COUNT(AD89:AM89)<>10,NA(),CF89/(33705*ASTM(AD89,3))))","v":""},"",{"$f":"IF(ISBLANK(AD89),\"\",ASTM(highwayfuf(CG89)-highwayfuf(CG88),3))","v":""},{"$f":"IF(ISBLANK(AD89),\"\",IF(OR(ISNUMBER(AD89)=FALSE,ISNUMBER(AM89)=FALSE),NA(),IF(ASTM(AI89,0)=0,0,CJ89*ASTM(AM89,0))))","v":""},"",{"$f":"IF(ISBLANK(AD89),\"\",IF(COUNT(AD89:AM89)<>10,NA(),CI89*ASTM(AD89,3)))","v":""},"",{"$f":"IF(ISBLANK(AD89),\"\",IF(COUNT(AD89:AM89)<>10,NA(),CN89*ASTM(AD89,3)))","v":""},"",{"$f":"IF(ISBLANK(AD89),\"\",IF(COUNT(AD89:AM89)<>10,NA(),ASTM(mdiuf(CP89)-mdiuf(CP88),3)))","v":""},{"$f":"IF(ISBLANK(AD89),\"\",IF(COUNT(AD89:AM89)<>10,NA(),IF(ASTM(AI89,0)=0,0,CQ89*ASTM(AI89,0)/(CN89))))","v":""},"",{"$f":"IF(ISBLANK(AD89),\"\",IF(COUNT(AD89:AM89)<>10,NA(),ASTM(highwayfufalt(CP89)-highwayfufalt(CP88),3)))","v":""},"",{"$f":"IF(ISBLANK(AD89),\"\",IF(COUNT(AD89:AM89)<>10,NA(),IF(ASTM(AI89,0)=0,0,CT89*ASTM(AM89,0)/(CN89))))","v":""}]
[null,null,"City2 Unrounded Adjusted FE - Alternative Fuel",null,{"$f":"IF($J$6=\"HD 2b/3\",NA(),ASTM($D$23,4))","v":{"$error":"#VALUE!"}},{"$f":"IF($J$6=\"HD 2b/3\",NA(),ASTM($D$22,4))","v":{"$error":"#VALUE!"}},null,null,null,null,null,null,null,null,null,null,32,null,null,null,null,null,null,null,null,{"$f":"IF(ISBLANK(R90),\"\",IF(OR($J$6=\"HD 2b/3\",COUNT(R90:W90)<>6,$AA$95<>\"Yes\",$AA$97<>\"Yes\"),NA(),IF(ASTM(W90,0)=0,0,ASTM((51740000*$T$94*$T$95)/((($T$94*U90)+(0.429*V90)+(0.273*W90))*((0.6*$T$95*$T$96)+5471)),1))))","v":""},{"$f":"IF(ISBLANK(R90),\"\",IF(OR(AND($J$6<>\"HD 2b/3\",COUNT(R90:W90)<>6),AND($J$6=\"HD 2b/3\",COUNT(R90)+COUNT(W90)<>2),$AA$95<>\"Yes\",$AA$97<>\"Yes\"),NA(),IF(ASTM(W90,0)=0,0,IF($J$6=\"HD 2b/3\",W90,ASTM((($T$94/0.273)*U90)+(1.571*V90)+W90,0)))))","v":""},null,32,null,null,null,null,null,null,null,null,{"$f":"IF(ISBLANK(AD90),\"\",IF(OR($J$6=\"HD 2b/3\",COUNT(AD90:AI90)<>6,$AM$47<>\"Yes\",$AM$49<>\"Yes\"),NA(),IF(ASTM(AI90,0)=0,0,ASTM((51740000*$AF$46*$AF$47)/((($AF$46*AG90)+(0.429*AH90)+(0.273*AI90))*((0.6*$AF$47*$AF$48)+5471)),1))))","v":""},{"$f":"IF(ISBLANK(AD90),\"\",IF(OR(AND($J$6<>\"HD 2b/3\",COUNT(AD90:AI90)<>6),AND($J$6=\"HD 2b/3\",COUNT(AD90)+COUNT(AI90)<>2),$AM$95<>\"Yes\",$AM$97<>\"Yes\"),NA(),IF(ASTM(AI90,0)=0,0,IF($J$6=\"HD 2b/3\",AI90,ASTM((($AF$94/0.273)*AG90)+(1.571*AH90)+AI90,0)))))","v":""},null,null,null,null,null,null,null,null,null,null,"CD cost per mile - electricity ($/mi) [3]",{"$f":"IF($J$6=\"HD 2b/3\",NA(),ASTM($F$37*$AY$60/100,3))","v":{"$error":"#VALUE!"}},{"$f":"IF($J$6=\"HD 2b/3\",NA(),ASTM($F$37*$AZ$60/100,3))","v":{"$error":"#VALUE!"}},null,null,null,32,{"$f":"IF(ISBLANK(R90),\"\",IF(COUNT(R90:AA90)<>10,NA(),IF(ASTM(W90,0)=0,0,IFERROR(ASTM(R90,3)/ASTM(Z90,1),0))))","v":""},{"$f":"IF(ISBLANK(R90),\"\",IF(COUNT(R90:AA90)<>10,NA(),IF(W90=0,0,ASTM(ASTM(W90,0)*ASTM(R90,3),0))))","v":""},{"$f":"IF(ISBLANK(R90),\"\",IF(COUNT(R90:AA90)<>10,NA(),ASTM(S90,3)-ASTM(S89,3)))","v":""},{"$f":"IF(ISBLANK(R90),\"\",IF(COUNT(R90:AA90)<>10,NA(),ASTM(BG90*ASTM(T90,2),1)))","v":""},{"$f":"IF(ISBLANK(R90),\"\",IF(COUNT(R90:AA90)<>10,NA(),ASTM(ASTM($Y$94,4)*1000*(BH90/$AY$61),1)))","v":""},"",{"$f":"IF(ISBLANK(R90),\"\",IF(COUNT(R90:AA90)<>10,NA(),BI90/(33705*ASTM(R90,3))))","v":""},"",{"$f":"IF(ISBLANK(R90),\"\",IFERROR(ASTM(cityfuf(BJ90)-cityfuf(BJ89),3),\"\"))","v":""},{"$f":"IF(ISBLANK(R90),\"\",IF(OR(ISNUMBER(R90)=FALSE,ISNUMBER(AA90)=FALSE),NA(),IF(ASTM(W90,0)=0,0,BM90*ASTM(AA90,0))))","v":""},"",{"$f":"IF(ISBLANK(R90),\"\",IF(COUNT(R90:AA90)<>10,NA(),BL90*ASTM(R90,3)))","v":""},"",{"$f":"IF(ISBLANK(R90),\"\",IF(COUNT(R90:AA90)<>10,NA(),BQ90*ASTM(R90,3)))","v":""},"",{"$f":"IF(ISBLANK(R90),\"\",IF(COUNT(R90:AA90)<>10,NA(),ASTM(mdiuf(BS90),3)-ASTM(mdiuf(BS89),3)))","v":""},{"$f":"IF(ISBLANK(R90),\"\",IF(COUNT(R90:AA90)<>10,NA(),IF(ASTM(W90,0)=0,0,BT90*ASTM(W90,0)/(BQ90))))","v":""},"",{"$f":"IF(ISBLANK(R90),\"\",IF(COUNT(R90:AA90)<>10,NA(),ASTM(cityfufalt(BS90)-cityfufalt(BS89),3)))","v":""},"",{"$f":"IF(ISBLANK(R90),\"\",IF(COUNT(R90:AA90)<>10,NA(),IF(ASTM(W90,0)=0,0,BW90*ASTM(AA90,0)/(BQ90))))","v":""},null,32,{"$f":"IF(ISBLANK(AD90),\"\",IF(COUNT(AD90:AM90)<>10,NA(),IF(ASTM(AI90,0)=0,0,ASTM(AD90,3)/ASTM(AL90,1))))","v":""},{"$f":"IF(ISBLANK(AD90),\"\",IF(COUNT(AD90:AM90)<>10,NA(),IF(ASTM(AI90,0)=0,0,ASTM(ASTM(AI90,0)*ASTM(AD90,3),0))))","v":""},{"$f":"IF(ISBLANK(AD90),\"\",IF(COUNT(AD90:AM90)<>10,NA(),ASTM(AE90,3)-ASTM(AE89,3)))","v":""},{"$f":"IF(ISBLANK(AD90),\"\",IF(COUNT(AD90:AM90)<>10,NA(),ASTM(CD90*ASTM(AF90,2),1)))","v":""},{"$f":"IF(ISBLANK(AD90),\"\",IF(COUNT(AD90:AM90)<>10,NA(),ASTM(ASTM($AK$94,4)*1000*(CE90/$AZ$61),1)))","v":""},"",{"$f":"IF(ISBLANK(AD90),\"\",IF(COUNT(AD90:AM90)<>10,NA(),CF90/(33705*ASTM(AD90,3))))","v":""},"",{"$f":"IF(ISBLANK(AD90),\"\",ASTM(highwayfuf(CG90)-highwayfuf(CG89),3))","v":""},{"$f":"IF(ISBLANK(AD90),\"\",IF(OR(ISNUMBER(AD90)=FALSE,ISNUMBER(AM90)=FALSE),NA(),IF(ASTM(AI90,0)=0,0,CJ90*ASTM(AM90,0))))","v":""},"",{"$f":"IF(ISBLANK(AD90),\"\",IF(COUNT(AD90:AM90)<>10,NA(),CI90*ASTM(AD90,3)))","v":""},"",{"$f":"IF(ISBLANK(AD90),\"\",IF(COUNT(AD90:AM90)<>10,NA(),CN90*ASTM(AD90,3)))","v":""},"",{"$f":"IF(ISBLANK(AD90),\"\",IF(COUNT(AD90:AM90)<>10,NA(),ASTM(mdiuf(CP90)-mdiuf(CP89),3)))","v":""},{"$f":"IF(ISBLANK(AD90),\"\",IF(COUNT(AD90:AM90)<>10,NA(),IF(ASTM(AI90,0)=0,0,CQ90*ASTM(AI90,0)/(CN90))))","v":""},"",{"$f":"IF(ISBLANK(AD90),\"\",IF(COUNT(AD90:AM90)<>10,NA(),ASTM(highwayfufalt(CP90)-highwayfufalt(CP89),3)))","v":""},"",{"$f":"IF(ISBLANK(AD90),\"\",IF(COUNT(AD90:AM90)<>10,NA(),IF(ASTM(AI90,0)=0,0,CT90*ASTM(AM90,0)/(CN90))))","v":""}]
[null,null,"Hwy2 Unrounded Adjusted FE - Alternative Fuel",null,{"$f":"IF($J$6=\"HD 2b/3\",NA(),ASTM($E$23,4))","v":{"$error":"#VALUE!"}},{"$f":"IF($J$6=\"HD 2b/3\",NA(),ASTM($E$22,4))","v":{"$error":"#VALUE!"}},null,null,null,null,null,null,null,null,null,null,33,null,null,null,null,null,null,null,null,{"$f":"IF(ISBLANK(R91),\"\",IF(OR($J$6=\"HD 2b/3\",COUNT(R91:W91)<>6,$AA$95<>\"Yes\",$AA$97<>\"Yes\"),NA(),IF(ASTM(W91,0)=0,0,ASTM((51740000*$T$94*$T$95)/((($T$94*U91)+(0.429*V91)+(0.273*W91))*((0.6*$T$95*$T$96)+5471)),1))))","v":""},{"$f":"IF(ISBLANK(R91),\"\",IF(OR(AND($J$6<>\"HD 2b/3\",COUNT(R91:W91)<>6),AND($J$6=\"HD 2b/3\",COUNT(R91)+COUNT(W91)<>2),$AA$95<>\"Yes\",$AA$97<>\"Yes\"),NA(),IF(ASTM(W91,0)=0,0,IF($J$6=\"HD 2b/3\",W91,ASTM((($T$94/0.273)*U91)+(1.571*V91)+W91,0)))))","v":""},null,33,null,null,null,null,null,null,null,null,{"$f":"IF(ISBLANK(AD91),\"\",IF(OR($J$6=\"HD 2b/3\",COUNT(AD91:AI91)<>6,$AM$47<>\"Yes\",$AM$49<>\"Yes\"),NA(),IF(ASTM(AI91,0)=0,0,ASTM((51740000*$AF$46*$AF$47)/((($AF$46*AG91)+(0.429*AH91)+(0.273*AI91))*((0.6*$AF$47*$AF$48)+5471)),1))))","v":""},{"$f":"IF(ISBLANK(AD91),\"\",IF(OR(AND($J$6<>\"HD 2b/3\",COUNT(AD91:AI91)<>6),AND($J$6=\"HD 2b/3\",COUNT(AD91)+COUNT(AI91)<>2),$AM$95<>\"Yes\",$AM$97<>\"Yes\"),NA(),IF(ASTM(AI91,0)=0,0,IF($J$6=\"HD 2b/3\",AI91,ASTM((($AF$94/0.273)*AG91)+(1.571*AH91)+AI91,0)))))","v":""},null,null,null,null,null,null,null,null,null,null,"CD cost per mile - gasoline ($/mi) [3]",{"$f":"IF($J$6=\"HD 2b/3\",NA(),ASTM($F$36*((SUMIF(BD59:BD93,\"<=\" & (AY82-1),BE59:BE93) + AY81*SUMIF(BD59:BD93,\"=\" & (AY82-1),BE59:BE93))/AY55),3))","v":{"$error":"#VALUE!"}},{"$f":"IF($J$6=\"HD 2b/3\",NA(),ASTM($F$36*((SUMIF(CA59:CA93,\"<=\" & (AZ82-1),CB59:CB93) + AZ81*SUMIF(CA59:CA93,\"=\" & (AZ82-1),CB59:CB93))/AZ55),3))","v":{"$error":"#VALUE!"}},null,null,null,33,{"$f":"IF(ISBLANK(R91),\"\",IF(COUNT(R91:AA91)<>10,NA(),IF(ASTM(W91,0)=0,0,IFERROR(ASTM(R91,3)/ASTM(Z91,1),0))))","v":""},{"$f":"IF(ISBLANK(R91),\"\",IF(COUNT(R91:AA91)<>10,NA(),IF(W91=0,0,ASTM(ASTM(W91,0)*ASTM(R91,3),0))))","v":""},{"$f":"IF(ISBLANK(R91),\"\",IF(COUNT(R91:AA91)<>10,NA(),ASTM(S91,3)-ASTM(S90,3)))","v":""},{"$f":"IF(ISBLANK(R91),\"\",IF(COUNT(R91:AA91)<>10,NA(),ASTM(BG91*ASTM(T91,2),1)))","v":""},{"$f":"IF(ISBLANK(R91),\"\",IF(COUNT(R91:AA91)<>10,NA(),ASTM(ASTM($Y$94,4)*1000*(BH91/$AY$61),1)))","v":""},"",{"$f":"IF(ISBLANK(R91),\"\",IF(COUNT(R91:AA91)<>10,NA(),BI91/(33705*ASTM(R91,3))))","v":""},"",{"$f":"IF(ISBLANK(R91),\"\",IFERROR(ASTM(cityfuf(BJ91)-cityfuf(BJ90),3),\"\"))","v":""},{"$f":"IF(ISBLANK(R91),\"\",IF(OR(ISNUMBER(R91)=FALSE,ISNUMBER(AA91)=FALSE),NA(),IF(ASTM(W91,0)=0,0,BM91*ASTM(AA91,0))))","v":""},"",{"$f":"IF(ISBLANK(R91),\"\",IF(COUNT(R91:AA91)<>10,NA(),BL91*ASTM(R91,3)))","v":""},"",{"$f":"IF(ISBLANK(R91),\"\",IF(COUNT(R91:AA91)<>10,NA(),BQ91*ASTM(R91,3)))","v":""},"",{"$f":"IF(ISBLANK(R91),\"\",IF(COUNT(R91:AA91)<>10,NA(),ASTM(mdiuf(BS91),3)-ASTM(mdiuf(BS90),3)))","v":""},{"$f":"IF(ISBLANK(R91),\"\",IF(COUNT(R91:AA91)<>10,NA(),IF(ASTM(W91,0)=0,0,BT91*ASTM(W91,0)/(BQ91))))","v":""},"",{"$f":"IF(ISBLANK(R91),\"\",IF(COUNT(R91:AA91)<>10,NA(),ASTM(cityfufalt(BS91)-cityfufalt(BS90),3)))","v":""},"",{"$f":"IF(ISBLANK(R91),\"\",IF(COUNT(R91:AA91)<>10,NA(),IF(ASTM(W91,0)=0,0,BW91*ASTM(AA91,0)/(BQ91))))","v":""},null,33,{"$f":"IF(ISBLANK(AD91),\"\",IF(COUNT(AD91:AM91)<>10,NA(),IF(ASTM(AI91,0)=0,0,ASTM(AD91,3)/ASTM(AL91,1))))","v":""},{"$f":"IF(ISBLANK(AD91),\"\",IF(COUNT(AD91:AM91)<>10,NA(),IF(ASTM(AI91,0)=0,0,ASTM(ASTM(AI91,0)*ASTM(AD91,3),0))))","v":""},{"$f":"IF(ISBLANK(AD91),\"\",IF(COUNT(AD91:AM91)<>10,NA(),ASTM(AE91,3)-ASTM(AE90,3)))","v":""},{"$f":"IF(ISBLANK(AD91),\"\",IF(COUNT(AD91:AM91)<>10,NA(),ASTM(CD91*ASTM(AF91,2),1)))","v":""},{"$f":"IF(ISBLANK(AD91),\"\",IF(COUNT(AD91:AM91)<>10,NA(),ASTM(ASTM($AK$94,4)*1000*(CE91/$AZ$61),1)))","v":""},"",{"$f":"IF(ISBLANK(AD91),\"\",IF(COUNT(AD91:AM91)<>10,NA(),CF91/(33705*ASTM(AD91,3))))","v":""},"",{"$f":"IF(ISBLANK(AD91),\"\",ASTM(highwayfuf(CG91)-highwayfuf(CG90),3))","v":""},{"$f":"IF(ISBLANK(AD91),\"\",IF(OR(ISNUMBER(AD91)=FALSE,ISNUMBER(AM91)=FALSE),NA(),IF(ASTM(AI91,0)=0,0,CJ91*ASTM(AM91,0))))","v":""},"",{"$f":"IF(ISBLANK(AD91),\"\",IF(COUNT(AD91:AM91)<>10,NA(),CI91*ASTM(AD91,3)))","v":""},"",{"$f":"IF(ISBLANK(AD91),\"\",IF(COUNT(AD91:AM91)<>10,NA(),CN91*ASTM(AD91,3)))","v":""},"",{"$f":"IF(ISBLANK(AD91),\"\",IF(COUNT(AD91:AM91)<>10,NA(),ASTM(mdiuf(CP91)-mdiuf(CP90),3)))","v":""},{"$f":"IF(ISBLANK(AD91),\"\",IF(COUNT(AD91:AM91)<>10,NA(),IF(ASTM(AI91,0)=0,0,CQ91*ASTM(AI91,0)/(CN91))))","v":""},"",{"$f":"IF(ISBLANK(AD91),\"\",IF(COUNT(AD91:AM91)<>10,NA(),ASTM(highwayfufalt(CP91)-highwayfufalt(CP90),3)))","v":""},"",{"$f":"IF(ISBLANK(AD91),\"\",IF(COUNT(AD91:AM91)<>10,NA(),IF(ASTM(AI91,0)=0,0,CT91*ASTM(AM91,0)/(CN91))))","v":""}]
[null,null,"Cmb2 Unrounded Adjusted  FE - Alternative Fuel",null,{"$f":"IF($J$6=\"HD 2b/3\",NA(),ASTM(0.55*D23+0.45*E23,4))","v":{"$error":"#VALUE!"}},{"$f":"IF($J$6=\"HD 2b/3\",NA(),ASTM(1/(0.55/D22+0.45/E22),4))","v":{"$error":"#VALUE!"}},null,null,null,null,null,null,null,null,null,null,34,null,null,null,null,null,null,null,null,{"$f":"IF(ISBLANK(R92),\"\",IF(OR($J$6=\"HD 2b/3\",COUNT(R92:W92)<>6,$AA$95<>\"Yes\",$AA$97<>\"Yes\"),NA(),IF(ASTM(W92,0)=0,0,ASTM((51740000*$T$94*$T$95)/((($T$94*U92)+(0.429*V92)+(0.273*W92))*((0.6*$T$95*$T$96)+5471)),1))))","v":""},{"$f":"IF(ISBLANK(R92),\"\",IF(OR(AND($J$6<>\"HD 2b/3\",COUNT(R92:W92)<>6),AND($J$6=\"HD 2b/3\",COUNT(R92)+COUNT(W92)<>2),$AA$95<>\"Yes\",$AA$97<>\"Yes\"),NA(),IF(ASTM(W92,0)=0,0,IF($J$6=\"HD 2b/3\",W92,ASTM((($T$94/0.273)*U92)+(1.571*V92)+W92,0)))))","v":""},null,34,null,null,null,null,null,null,null,null,{"$f":"IF(ISBLANK(AD92),\"\",IF(OR($J$6=\"HD 2b/3\",COUNT(AD92:AI92)<>6,$AM$47<>\"Yes\",$AM$49<>\"Yes\"),NA(),IF(ASTM(AI92,0)=0,0,ASTM((51740000*$AF$46*$AF$47)/((($AF$46*AG92)+(0.429*AH92)+(0.273*AI92))*((0.6*$AF$47*$AF$48)+5471)),1))))","v":""},{"$f":"IF(ISBLANK(AD92),\"\",IF(OR(AND($J$6<>\"HD 2b/3\",COUNT(AD92:AI92)<>6),AND($J$6=\"HD 2b/3\",COUNT(AD92)+COUNT(AI92)<>2),$AM$95<>\"Yes\",$AM$97<>\"Yes\"),NA(),IF(ASTM(AI92,0)=0,0,IF($J$6=\"HD 2b/3\",AI92,ASTM((($AF$94/0.273)*AG92)+(1.571*AH92)+AI92,0)))))","v":""},null,null,null,null,null,null,null,null,null,null,"CD total cost per mile ($/mi) [3]",{"$f":"IF($J$6=\"HD 2b/3\",NA(),ASTM(AY91+AY90,3))","v":{"$error":"#VALUE!"}},{"$f":"IF($J$6=\"HD 2b/3\",NA(),ASTM(AZ91+AZ90,3))","v":{"$error":"#VALUE!"}},null,null,null,34,{"$f":"IF(ISBLANK(R92),\"\",IF(COUNT(R92:AA92)<>10,NA(),IF(ASTM(W92,0)=0,0,IFERROR(ASTM(R92,3)/ASTM(Z92,1),0))))","v":""},{"$f":"IF(ISBLANK(R92),\"\",IF(COUNT(R92:AA92)<>10,NA(),IF(W92=0,0,ASTM(ASTM(W92,0)*ASTM(R92,3),0))))","v":""},{"$f":"IF(ISBLANK(R92),\"\",IF(COUNT(R92:AA92)<>10,NA(),ASTM(S92,3)-ASTM(S91,3)))","v":""},{"$f":"IF(ISBLANK(R92),\"\",IF(COUNT(R92:AA92)<>10,NA(),ASTM(BG92*ASTM(T92,2),1)))","v":""},{"$f":"IF(ISBLANK(R92),\"\",IF(COUNT(R92:AA92)<>10,NA(),ASTM(ASTM($Y$94,4)*1000*(BH92/$AY$61),1)))","v":""},"",{"$f":"IF(ISBLANK(R92),\"\",IF(COUNT(R92:AA92)<>10,NA(),BI92/(33705*ASTM(R92,3))))","v":""},"",{"$f":"IF(ISBLANK(R92),\"\",IFERROR(ASTM(cityfuf(BJ92)-cityfuf(BJ91),3),\"\"))","v":""},{"$f":"IF(ISBLANK(R92),\"\",IF(OR(ISNUMBER(R92)=FALSE,ISNUMBER(AA92)=FALSE),NA(),IF(ASTM(W92,0)=0,0,BM92*ASTM(AA92,0))))","v":""},"",{"$f":"IF(ISBLANK(R92),\"\",IF(COUNT(R92:AA92)<>10,NA(),BL92*ASTM(R92,3)))","v":""},"",{"$f":"IF(ISBLANK(R92),\"\",IF(COUNT(R92:AA92)<>10,NA(),BQ92*ASTM(R92,3)))","v":""},"",{"$f":"IF(ISBLANK(R92),\"\",IF(COUNT(R92:AA92)<>10,NA(),ASTM(mdiuf(BS92),3)-ASTM(mdiuf(BS91),3)))","v":""},{"$f":"IF(ISBLANK(R92),\"\",IF(COUNT(R92:AA92)<>10,NA(),IF(ASTM(W92,0)=0,0,BT92*ASTM(W92,0)/(BQ92))))","v":""},"",{"$f":"IF(ISBLANK(R92),\"\",IF(COUNT(R92:AA92)<>10,NA(),ASTM(cityfufalt(BS92)-cityfufalt(BS91),3)))","v":""},"",{"$f":"IF(ISBLANK(R92),\"\",IF(COUNT(R92:AA92)<>10,NA(),IF(ASTM(W92,0)=0,0,BW92*ASTM(AA92,0)/(BQ92))))","v":""},null,34,{"$f":"IF(ISBLANK(AD92),\"\",IF(COUNT(AD92:AM92)<>10,NA(),IF(ASTM(AI92,0)=0,0,ASTM(AD92,3)/ASTM(AL92,1))))","v":""},{"$f":"IF(ISBLANK(AD92),\"\",IF(COUNT(AD92:AM92)<>10,NA(),IF(ASTM(AI92,0)=0,0,ASTM(ASTM(AI92,0)*ASTM(AD92,3),0))))","v":""},{"$f":"IF(ISBLANK(AD92),\"\",IF(COUNT(AD92:AM92)<>10,NA(),ASTM(AE92,3)-ASTM(AE91,3)))","v":""},{"$f":"IF(ISBLANK(AD92),\"\",IF(COUNT(AD92:AM92)<>10,NA(),ASTM(CD92*ASTM(AF92,2),1)))","v":""},{"$f":"IF(ISBLANK(AD92),\"\",IF(COUNT(AD92:AM92)<>10,NA(),ASTM(ASTM($AK$94,4)*1000*(CE92/$AZ$61),1)))","v":""},"",{"$f":"IF(ISBLANK(AD92),\"\",IF(COUNT(AD92:AM92)<>10,NA(),CF92/(33705*ASTM(AD92,3))))","v":""},"",{"$f":"IF(ISBLANK(AD92),\"\",ASTM(highwayfuf(CG92)-highwayfuf(CG91),3))","v":""},{"$f":"IF(ISBLANK(AD92),\"\",IF(OR(ISNUMBER(AD92)=FALSE,ISNUMBER(AM92)=FALSE),NA(),IF(ASTM(AI92,0)=0,0,CJ92*ASTM(AM92,0))))","v":""},"",{"$f":"IF(ISBLANK(AD92),\"\",IF(COUNT(AD92:AM92)<>10,NA(),CI92*ASTM(AD92,3)))","v":""},"",{"$f":"IF(ISBLANK(AD92),\"\",IF(COUNT(AD92:AM92)<>10,NA(),CN92*ASTM(AD92,3)))","v":""},"",{"$f":"IF(ISBLANK(AD92),\"\",IF(COUNT(AD92:AM92)<>10,NA(),ASTM(mdiuf(CP92)-mdiuf(CP91),3)))","v":""},{"$f":"IF(ISBLANK(AD92),\"\",IF(COUNT(AD92:AM92)<>10,NA(),IF(ASTM(AI92,0)=0,0,CQ92*ASTM(AI92,0)/(CN92))))","v":""},"",{"$f":"IF(ISBLANK(AD92),\"\",IF(COUNT(AD92:AM92)<>10,NA(),ASTM(highwayfufalt(CP92)-highwayfufalt(CP91),3)))","v":""},"",{"$f":"IF(ISBLANK(AD92),\"\",IF(COUNT(AD92:AM92)<>10,NA(),IF(ASTM(AI92,0)=0,0,CT92*ASTM(AM92,0)/(CN92))))","v":""}]
[null,null,"Charge-depleting CO2",null,null,"g/mi",null,null,null,null,null,null,null,null,null,null,35,null,null,null,null,null,null,null,null,{"$f":"IF(ISBLANK(R93),\"\",IF(OR($J$6=\"HD 2b/3\",COUNT(R93:W93)<>6,$AA$95<>\"Yes\",$AA$97<>\"Yes\"),NA(),IF(ASTM(W93,0)=0,0,ASTM((51740000*$T$94*$T$95)/((($T$94*U93)+(0.429*V93)+(0.273*W93))*((0.6*$T$95*$T$96)+5471)),1))))","v":""},{"$f":"IF(ISBLANK(R93),\"\",IF(OR(AND($J$6<>\"HD 2b/3\",COUNT(R93:W93)<>6),AND($J$6=\"HD 2b/3\",COUNT(R93)+COUNT(W93)<>2),$AA$95<>\"Yes\",$AA$97<>\"Yes\"),NA(),IF(ASTM(W93,0)=0,0,IF($J$6=\"HD 2b/3\",W93,ASTM((($T$94/0.273)*U93)+(1.571*V93)+W93,0)))))","v":""},null,35,null,null,null,null,null,null,null,null,{"$f":"IF(ISBLANK(AD93),\"\",IF(OR($J$6=\"HD 2b/3\",COUNT(AD93:AI93)<>6,$AM$47<>\"Yes\",$AM$49<>\"Yes\"),NA(),IF(ASTM(AI93,0)=0,0,ASTM((51740000*$AF$46*$AF$47)/((($AF$46*AG93)+(0.429*AH93)+(0.273*AI93))*((0.6*$AF$47*$AF$48)+5471)),1))))","v":""},{"$f":"IF(ISBLANK(AD93),\"\",IF(OR(AND($J$6<>\"HD 2b/3\",COUNT(AD93:AI93)<>6),AND($J$6=\"HD 2b/3\",COUNT(AD93)+COUNT(AI93)<>2),$AM$95<>\"Yes\",$AM$97<>\"Yes\"),NA(),IF(ASTM(AI93,0)=0,0,IF($J$6=\"HD 2b/3\",AI93,ASTM((($AF$94/0.273)*AG93)+(1.571*AH93)+AI93,0)))))","v":""},null,null,null,null,null,null,null,null,null,null,"CS cost per mile ($/mi) [3]",{"$f":"IF($J$6=\"HD 2b/3\",NA(),ASTM($F$36/ASTM(N60,4),3))","v":{"$error":"#VALUE!"}},{"$f":"IF($J$6=\"HD 2b/3\",NA(),ASTM($F$36/ASTM(O60,4),3))","v":{"$error":"#VALUE!"}},null,null,null,35,{"$f":"IF(ISBLANK(R93),\"\",IF(COUNT(R93:AA93)<>10,NA(),IF(ASTM(W93,0)=0,0,IFERROR(ASTM(R93,3)/ASTM(Z93,1),0))))","v":""},{"$f":"IF(ISBLANK(R93),\"\",IF(COUNT(R93:AA93)<>10,NA(),IF(W93=0,0,ASTM(ASTM(W93,0)*ASTM(R93,3),0))))","v":""},{"$f":"IF(ISBLANK(R93),\"\",IF(COUNT(R93:AA93)<>10,NA(),ASTM(S93,3)-ASTM(S92,3)))","v":""},{"$f":"IF(ISBLANK(R93),\"\",IF(COUNT(R93:AA93)<>10,NA(),ASTM(BG93*ASTM(T93,2),1)))","v":""},{"$f":"IF(ISBLANK(R93),\"\",IF(COUNT(R93:AA93)<>10,NA(),ASTM(ASTM($Y$94,4)*1000*(BH93/$AY$61),1)))","v":""},"",{"$f":"IF(ISBLANK(R93),\"\",IF(COUNT(R93:AA93)<>10,NA(),BI93/(33705*ASTM(R93,3))))","v":""},"",{"$f":"IF(ISBLANK(R93),\"\",IFERROR(ASTM(cityfuf(BJ93)-cityfuf(BJ92),3),\"\"))","v":""},{"$f":"IF(ISBLANK(R93),\"\",IF(OR(ISNUMBER(R93)=FALSE,ISNUMBER(AA93)=FALSE),NA(),IF(ASTM(W93,0)=0,0,BM93*ASTM(AA93,0))))","v":""},"",{"$f":"IF(ISBLANK(R93),\"\",IF(COUNT(R93:AA93)<>10,NA(),BL93*ASTM(R93,3)))","v":""},"",{"$f":"IF(ISBLANK(R93),\"\",IF(COUNT(R93:AA93)<>10,NA(),BQ93*ASTM(R93,3)))","v":""},"",{"$f":"IF(ISBLANK(R93),\"\",IF(COUNT(R93:AA93)<>10,NA(),ASTM(mdiuf(BS93),3)-ASTM(mdiuf(BS92),3)))","v":""},{"$f":"IF(ISBLANK(R93),\"\",IF(COUNT(R93:AA93)<>10,NA(),IF(ASTM(W93,0)=0,0,BT93*ASTM(W93,0)/(BQ93))))","v":""},"",{"$f":"IF(ISBLANK(R93),\"\",IF(COUNT(R93:AA93)<>10,NA(),ASTM(cityfufalt(BS93)-cityfufalt(BS92),3)))","v":""},"",{"$f":"IF(ISBLANK(R93),\"\",IF(COUNT(R93:AA93)<>10,NA(),IF(ASTM(W93,0)=0,0,BW93*ASTM(AA93,0)/(BQ93))))","v":""},null,35,{"$f":"IF(ISBLANK(AD93),\"\",IF(COUNT(AD93:AM93)<>10,NA(),IF(ASTM(AI93,0)=0,0,ASTM(AD93,3)/ASTM(AL93,1))))","v":""},{"$f":"IF(ISBLANK(AD93),\"\",IF(COUNT(AD93:AM93)<>10,NA(),IF(ASTM(AI93,0)=0,0,ASTM(ASTM(AI93,0)*ASTM(AD93,3),0))))","v":""},{"$f":"IF(ISBLANK(AD93),\"\",IF(COUNT(AD93:AM93)<>10,NA(),ASTM(AE93,3)-ASTM(AE92,3)))","v":""},{"$f":"IF(ISBLANK(AD93),\"\",IF(COUNT(AD93:AM93)<>10,NA(),ASTM(CD93*ASTM(AF93,2),1)))","v":""},{"$f":"IF(ISBLANK(AD93),\"\",IF(COUNT(AD93:AM93)<>10,NA(),ASTM(ASTM($AK$94,4)*1000*(CE93/$AZ$61),1)))","v":""},"",{"$f":"IF(ISBLANK(AD93),\"\",IF(COUNT(AD93:AM93)<>10,NA(),CF93/(33705*ASTM(AD93,3))))","v":""},"",{"$f":"IF(ISBLANK(AD93),\"\",ASTM(highwayfuf(CG93)-highwayfuf(CG92),3))","v":""},{"$f":"IF(ISBLANK(AD93),\"\",IF(OR(ISNUMBER(AD93)=FALSE,ISNUMBER(AM93)=FALSE),NA(),IF(ASTM(AI93,0)=0,0,CJ93*ASTM(AM93,0))))","v":""},"",{"$f":"IF(ISBLANK(AD93),\"\",IF(COUNT(AD93:AM93)<>10,NA(),CI93*ASTM(AD93,3)))","v":""},"",{"$f":"IF(ISBLANK(AD93),\"\",IF(COUNT(AD93:AM93)<>10,NA(),CN93*ASTM(AD93,3)))","v":""},"",{"$f":"IF(ISBLANK(AD93),\"\",IF(COUNT(AD93:AM93)<>10,NA(),ASTM(mdiuf(CP93)-mdiuf(CP92),3)))","v":""},{"$f":"IF(ISBLANK(AD93),\"\",IF(COUNT(AD93:AM93)<>10,NA(),IF(ASTM(AI93,0)=0,0,CQ93*ASTM(AI93,0)/(CN93))))","v":""},"",{"$f":"IF(ISBLANK(AD93),\"\",IF(COUNT(AD93:AM93)<>10,NA(),ASTM(highwayfufalt(CP93)-highwayfufalt(CP92),3)))","v":""},"",{"$f":"IF(ISBLANK(AD93),\"\",IF(COUNT(AD93:AM93)<>10,NA(),IF(ASTM(AI93,0)=0,0,CT93*ASTM(AM93,0)/(CN93))))","v":""}]
[null,null,"City CO2 Rounded Adjusted",null,null,{"$f":"IF($J$6=\"HD 2b/3\",NA(),ASTM(IF($N$7+$N$55+$N$103=0,   (AY25+AY73+AY121)/ ((AY7<>0)+(AY55<>0)+(AY103<>0)),    (IFERROR($N$7*AY25,0)+IFERROR($N$55*AY73,0)+IFERROR($N$103*AY121,0)) /  ($N$7+$N$55+$N$103)   ),0))","v":{"$error":"#VALUE!"}},null,null,null,null,null,null,null,null,null,null,null,null,"CWF [3]:",null,null,null,null,"Recharge energy (AC kilowatt-hours) [4]:",null,null,"Fuel?",null,null,null,"CWF [3]:",null,null,null,null,"Recharge energy (AC kilowatt-hours) [4]:",null,null,"Fuel?",null,null,null,null,null,null,null,null,null,null,"Composite CD/CS cost ($/mi) [3]",{"$f":"IF($J$6=\"HD 2b/3\",NA(),ASTM(AY79*AY92+(1-AY79)*AY93,3))","v":{"$error":"#VALUE!"}},{"$f":"IF($J$6=\"HD 2b/3\",NA(),ASTM(AZ79*AZ92+(1-AZ79)*AZ93,3))","v":{"$error":"#VALUE!"}}]
[null,null,"Hwy CO2 Rounded Adjusted",null,null,{"$f":"IF($J$6=\"HD 2b/3\",NA(),ASTM(IF($N$7+$N$55+$N$103=0,   (AZ25+AZ73+AZ121)/ ((AZ7<>0)+(AZ55<>0)+(AZ103<>0)),    (IFERROR($N$7*AZ25,0)+IFERROR($N$55*AZ73,0)+IFERROR($N$103*AZ121,0)) /  ($N$7+$N$55+$N$103)   ),0))","v":{"$error":"#VALUE!"}},null,null,null,null,null,null,null,null,null,null,null,null,"SG [3]:",null,null,null,null,"All-Electric Range (Miles) [3]:",null,null,{"$f":"IF(AND(ISNUMBER(T94),ISNUMBER(T95),ISNUMBER(T96),T94>0.5,T94<1,T95>0.5,T95<1,T96>17000,T96<20000),\"Yes\",\"No\")","v":"No"},null,null,null,"SG [3]:",null,null,null,null,"All-Electric Range (Miles) [3]:",null,null,{"$f":"IF(AND(ISNUMBER(AF94),ISNUMBER(AF95),ISNUMBER(AF96),AF94>0.5,AF94<1,AF95>0.5,AF95<1,AF96>17000,AF96<20000),\"Yes\",\"No\")","v":"No"},null,null,null,null,null,null,null,null,null,null,"COMPOSITE CD/CS FUEL ECONOMY AND CO2 VALUES, ADJUSTED","CITY","HIGHWAY"]
[null,null,"Comb CO2 Rounded Adjusted",null,null,{"$f":"IF($J$6=\"HD 2b/3\",NA(),ASTM(0.55*(IF($N$7+$N$55+$N$103=0,   (AY25+AY73+AY121)/ ((AY7<>0)+(AY55<>0)+(AY103<>0)),    (IFERROR($N$7*AY25,0)+IFERROR($N$55*AY73,0)+IFERROR($N$103*AY121,0)) /  ($N$7+$N$55+$N$103)   ))+0.45*(IF($N$7+$N$55+$N$103=0,   (AZ25+AZ73+AZ121)/ ((AZ7<>0)+(AZ55<>0)+(AZ103<>0)),    (IFERROR($N$7*AZ25,0)+IFERROR($N$55*AZ73,0)+IFERROR($N$103*AZ121,0)) /  ($N$7+$N$55+$N$103)   )),0))","v":{"$error":"#VALUE!"}},null,null,null,null,null,null,null,null,null,null,null,null,"NHV [0]:",null,null,null,null,"Transition Cycle [0]:",null,null,"Footer?",null,null,null,"NHV [0]:",null,null,null,null,"Transition Cycle [0]:",null,null,"Footer?",null,null,null,null,null,null,null,null,null,null,"Composite CD/CS CO2, adjusted (g/mi) [1]",{"$f":"IF($J$6=\"HD 2b/3\",NA(),ASTM(IFERROR(AY74+(1-AY80)*N63,#VALUE!),1))","v":0},{"$f":"IF($J$6=\"HD 2b/3\",NA(),ASTM(IFERROR(AZ74+(1-AZ80)*O63,#VALUE!),1))","v":0}]
[null,null,"*City CO2 Unrounded Unadjusted ",null,null,{"$f":"IF($J$6=\"HD 2b/3\",NA(),ASTM(IF($N$7+$N$55+$N$103=0,   (IFERROR(AY24,0)+IFERROR(AY72,0)+IFERROR(AY120,0))/ ((AY6<>0)+(AY54<>0)+(AY102<>0)),    (IFERROR($N$7*AY24,0)+IFERROR($N$55*AY72,0)+IFERROR($N$103*AY120,0)) /  ($N$7+$N$55+$N$103)   ),1))","v":{"$error":"#VALUE!"}},null,null,null,null,null,null,null,null,null,null,null,null,null,null,null,null,null,"Recharge time (optional)(Hours) [2]:",null,null,{"$f":"IF(AND(ISNUMBER(Y94),ISNUMBER(Y95),ISNUMBER(Y96),Y94>0,Y95>0,Y96>0,Y96<35),\"Yes\",\"No\")","v":"No"},null,null,null,null,null,null,null,null,"Recharge time (optional)(Hours) [2]:",null,null,{"$f":"IF(AND(ISNUMBER(AK94),ISNUMBER(AK95),ISNUMBER(AK96),AK94>0,AK95>0,AK96>0,AK96<35),\"Yes\",\"No\")","v":"No"},null,null,null,null,null,null,null,null,null,null,"Composite CD/CS Fuel Economy, adjusted (MPG) [4]",{"$f":"IF($J$6=\"HD 2b/3\",NA(),IFERROR(ASTM(IFERROR(1/(AY65+(1-AY80)/N60),#VALUE!),4),0))","v":0},{"$f":"IF($J$6=\"HD 2b/3\",NA(),IFERROR(ASTM(IFERROR(1/(AZ65+(1-AZ80)/O60),#VALUE!),4),0))","v":0}]
[null,null,"*Hwy CO2 Unrounded Unadjusted ",null,null,{"$f":"IF($J$6=\"HD 2b/3\",NA(),ASTM(IF($N$7+$N$55+$N$103=0,   (IFERROR(AZ24,0)+IFERROR(AZ72,0)+IFERROR(AZ120,0))/ ((AZ6<>0)+(AZ54<>0)+(AZ102<>0)),    (IFERROR($N$7*AZ24,0)+IFERROR($N$55*AZ72,0)+IFERROR($N$103*AZ120,0)) /  ($N$7+$N$55+$N$103)   ),1))","v":{"$error":"#VALUE!"}}]
[null,null,"*Comb CO2 Unrounded Unadjusted ",null,null,{"$f":"IF($J$6=\"HD 2b/3\",NA(),ASTM(0.55*(IF($N$7+$N$55+$N$103=0,   (IFERROR(AY24,0)+IFERROR(AY72,0)+IFERROR(AY120,0))/ ((AY6<>0)+(AY54<>0)+(AY102<>0)),    (IFERROR($N$7*AY24,0)+IFERROR($N$55*AY72,0)+IFERROR($N$103*AY120,0)) /  ($N$7+$N$55+$N$103)   ))+0.45*(IF($N$7+$N$55+$N$103=0,   (IFERROR(AZ24,0)+IFERROR(AZ72,0)+IFERROR(AZ120,0))/ ((AZ6<>0)+(AZ54<>0)+(AZ102<>0)),    (IFERROR($N$7*AZ24,0)+IFERROR($N$55*AZ72,0)+IFERROR($N$103*AZ120,0)) /  ($N$7+$N$55+$N$103)   )),1))","v":{"$error":"#VALUE!"}},null,null,null,null,null,null,"Test Set #3",null,null,null,"Test Set #3",null,null,null,null,null,null,null,null,null,null,null,"Test Set #3",null,null,null,null,null,null,null,null,null,null,null,null,null,"Results from Test Set #3:",{"$f":"N100","v":0},null,null,null,null,"INTERMEDIATE CALCULATIONS AND INPUTS",null,"Test Set #3:",{"$f":"N101","v":0}]
[null,null,"*City CO2 Unrounded Adjusted",null,null,{"$f":"IF($J$6=\"HD 2b/3\",NA(),ASTM(IF($N$7+$N$55+$N$103=0,   (AY25+AY73+AY121)/ ((AY7<>0)+(AY55<>0)+(AY103<>0)),    (IFERROR($N$7*AY25,0)+IFERROR($N$55*AY73,0)+IFERROR($N$103*AY121,0)) /  ($N$7+$N$55+$N$103)   ),1))","v":{"$error":"#VALUE!"}},null,null,null,null,null,null,null,null,null,null,null,null,null,null,null,null,null,null,null,null,null,null,null,null,null,null,null,null,null,null,null,null,null,null,null,null,"CAFE Values",null,null,null,null,null,"Charge-Depleting (CD) Test Results",null,null,null,null,null,null,"DETAILED CALCULATIONS",null,"UDDS",{"$f":"$AZ99","v":0},null,null,null,null,null,null,null,null,null,null,null,null,null,null,null,null,null,null,null,"DETAILED CALCULATIONS",null,"HFET",{"$f":"AZ99","v":0}]
[null,null,"*Hwy CO2 Unrounded Adjusted",null,null,{"$f":"IF($J$6=\"HD 2b/3\",NA(),ASTM(IF($N$7+$N$55+$N$103=0,   (AZ25+AZ73+AZ121)/ ((AZ7<>0)+(AZ55<>0)+(AZ103<>0)),    (IFERROR($N$7*AZ25,0)+IFERROR($N$55*AZ73,0)+IFERROR($N$103*AZ121,0)) /  ($N$7+$N$55+$N$103)   ),1))","v":{"$error":"#VALUE!"}},null,null,null,null,null,null,null,null,null,null,"ENTER CHARGE-DEPLETING UDDS (CITY) DATA HERE",null,null,null,null,null,null,null,null,null,null,null,"ENTER CHARGE-DEPLETING HFET (HIGHWAY) DATA HERE",null,null,null,null,null,null,null,null,null,null,null,null,null,"A. PHEV meets dual fuel criteria:","City","Highway","Combined",null,null,null,"DRIVING DISTANCE VALUES","CITY","HIGHWAY",null,null,null,"Cycle No.","Gasoline Consumed","CO2\n[0]","Net Amp-Hours Used Per Cycle [3]","DC Electricity Consumed\n[1]","AC Electricity Consumed\n[1]","Theoretical Cumulative Cycle Distance","Electric Only Fuel Consumption Rate","Total Fuel Consumption Rate (gas + electric)","55/45 City Fleet Utility Factor\n[3]",{"$f":"IF($J$6=\"HD 2b/3\",\"55/45 City FUF\nx\nCREE (CO2)\",\"55/45 City FUF\nx\nCREE\")","v":"55/45 City FUF\nx\nCREE"},"55/45 City FUF\nx\nTotal Consumption","Total Fuel Consumption (gas + electric)","5-Cycle Adjustment","Adjusted Cycle Measured Distance","Adjusted Cycle Theoretical Cumulative Distance","MDIUF\n[3]","MDIUF\nx\nAdjusted CO2","MDIUF\nx\nAdjusted Total Fuel Consumption","43/57 City Fleet Utility Factor\n[3]","43/57 City FUF x\nAdjusted Total Fuel Consumption Rate","43/57 City FUF\nx\nAdjusted CREE",null,"Cycle No.","Gasoline Consumed","CO2\n[0]","Net Amp-Hours Used Per Cycle [3]","DC Electricity Consumed\n[1]","AC Electricity Consumed\n[1]","Theoretical Cumulative Cycle Distance","Electric Only Fuel Consumption Rate","Total Fuel Consumption Rate (gas + electric)","55/45 Highway Fleet Utility Factor\n[3]",{"$f":"IF($J$6=\"HD 2b/3\",\"55/45 City FUF\nx\nCREE (CO2)\",\"55/45 City FUF\nx\nCREE\")","v":"55/45 City FUF\nx\nCREE"},"55/45 Highway FUF\nx\nTotal Consumption","Total Fuel Consumption (gas + electric)","5-Cycle Adjustment","Adjusted Cycle Measured Distance","Adjusted Cycle Theoretical Cumulative Distance","MDIUF\n[3]","MDIUF\nx\nAdjusted CO2","MDIUF\nx\nAdjusted Total Fuel Consumption","43/57 Highway Fleet Utility Factor\n[3]","43/57 Highway FUF x\nAdjusted Total Fuel Consumption Rate","43/57 Highway FUF\nx\nAdjusted CREE"]
[null,null,"*Combined CO2 Unrounded Adjusted",null,null,{"$f":"IF($J$6=\"HD 2b/3\",NA(),ASTM(0.55*(IF($N$7+$N$55+$N$103=0,   (AY25+AY73+AY121)/ ((AY7<>0)+(AY55<>0)+(AY103<>0)),    (IFERROR($N$7*AY25,0)+IFERROR($N$55*AY73,0)+IFERROR($N$103*AY121,0)) /  ($N$7+$N$55+$N$103)   ))+0.45*(IF($N$7+$N$55+$N$103=0,   (AZ25+AZ73+AZ121)/ ((AZ7<>0)+(AZ55<>0)+(AZ103<>0)),    (IFERROR($N$7*AZ25,0)+IFERROR($N$55*AZ73,0)+IFERROR($N$103*AZ103,0)) /  ($N$7+$N$55+$N$103)   )),1))","v":{"$error":"#VALUE!"}},null,null,null,null,null,null,"Test Set name (e.g., Eco, Power):",null,null,null,"Cycle No.","Cycle/\nPhase\nMeasured\nDistance","Integrated Amp-Hours Electricity Used","Average\nCycle\nVoltage","HC-Total","CO","CO2","Mfr Calc\nFuel\nEconomy","Mfr Calc\nCREE","EPA Calc\n(E0 Gas)\nFuel\nEconomy",{"$f":"IF($J$6=\"HD 2b/3\",\"EPA Calc\n(E0 Gas)\nCREE=CO2\",\"EPA Calc\n(E0 Gas)\nCREE\")","v":"EPA Calc\n(E0 Gas)\nCREE"},null,"Cycle No.","Cycle/\nPhase\nMeasured\nDistance","Integrated Amp-Hours Electricity Used","Average\nCycle\nVoltage","HC-Total","CO","CO2","Mfr Calc\nFuel\nEconomy","Mfr Calc\nCREE","EPA Calc\n(E0 Gas)\nFuel\nEconomy",{"$f":"IF($J$6=\"HD 2b/3\",\"EPA Calc\n(E0 Gas)\nCREE=CO2\",\"EPA Calc\n(E0 Gas)\nCREE\")","v":"EPA Calc\n(E0 Gas)\nCREE"},null,null,null," 1. Default 50/50 Composite MPGe [4]",{"$f":"IF($J$6=\"HD 2b/3\",NA(),IFERROR(ASTM(1/(0.5/((82049)/(AY107/AY133))+0.5/N107),4),0))","v":0},{"$f":"IF($J$6=\"HD 2b/3\",NA(),IFERROR(ASTM(1/(0.5/((82049)/(AZ107/AZ133))+0.5/O107),4),0))","v":0},{"$f":"IF($J$6=\"HD 2b/3\",NA(),IFERROR(ASTM(1/(0.55/AR102+0.45/AS102),4),0))","v":0},null,null,null,"CD driving distance (Rcda), unadjusted (miles) [3]",{"$f":"IF($J$6=\"HD 2b/3\",NA(),IFERROR(ASTM(SUMIF(Q107:Q141,\"<=\" & ($AY130-1),R107:R141) + AY129*VLOOKUP($AY130,Q107:R141,2,FALSE),3),0))","v":0},{"$f":"IF($J$6=\"HD 2b/3\",NA(),IFERROR(ASTM(SUMIF(AC107:AC141,\"<=\" & ($AZ130-1),AD107:AD141) + AZ129*VLOOKUP($AZ130,AC107:AD141,2,FALSE),3),0))","v":0}]
[null,null,"Charge-depleting Driving Range (Adjusted)",null,null,"miles",null,null,null,null,null,null,"Production Volume (projected or actual):",null,null,null,null,null,null,null,null,null,null,null,null,null,null,null,null,null,null,null,null,null,null,null,null,null,null,null,null,null," 2. Optional Utility Factor Composite MPGe [4]",{"$f":"IF($J$6=\"HD 2b/3\",NA(),IFERROR(ASTM(1/(AY136/((82049)/(AY107/AY133))+(1-AY136)/N107), 4),0))","v":0},{"$f":"IF($J$6=\"HD 2b/3\",NA(),IFERROR(ASTM(1/(AZ136/((82049)/(AZ107/AZ133))+(1-AZ136)/O107), 4),0))","v":0},{"$f":"IF($J$6=\"HD 2b/3\",NA(),IFERROR(ASTM(1/(0.55/AR103+0.45/AS103),4),0))","v":0},null,null,null,"CD driving distance (Rcda), adjusted (miles) [3]",{"$f":"IF($J$6=\"HD 2b/3\",NA(),IFERROR(ASTM(SUMIF(BD107:BD141,\"<\"&AY130,BR107:BR141)+AY129*SUMIF(BD107:BD141,\"=\"&AY130,BR107:BR141),3),0))","v":0},{"$f":"IF($J$6=\"HD 2b/3\",NA(),IFERROR(ASTM(SUMIF(CA107:CA141,\"<\"&AZ130,CO107:CO141)+AZ129*SUMIF(CA107:CA141,\"=\"&AZ130,CO107:CO141),3),0))","v":0}]
[null,null,"City Range on Electricity (miles)",null,null,{"$f":"IF($J$6=\"HD 2b/3\",NA(),ASTM(D19,2))","v":{"$error":"#VALUE!"}},null,null,null,null,null,null,null,null,null,null,null,null,null,null,null,null,null,null,null,null,null,null,null,null,null,null,null,null,null,null,null,null,null,null,null,null,"B. PHEV does NOT meet dual fuel criteria:","City","Highway","Combined",null,null,null,"CD all-electric driving distance, unadjusted (miles) [3]",{"$f":"IF($J$6=\"HD 2b/3\",NA(), IF(ISNUMBER(Y143), ASTM(Y143,3), 0))","v":0},{"$f":"IF($J$6=\"HD 2b/3\",NA(),IF(ISNUMBER(AK143), ASTM(AK143,3), 0))","v":0}]
[null,null,"Hwy Range on Electricity (miles)",null,null,{"$f":"IF($J$6=\"HD 2b/3\",NA(),ASTM(E19,2))","v":{"$error":"#VALUE!"}},null,null,null,null,null,null,"ENTER CHARGE-SUSTAINING TEST RESULTS HERE",null,null,null,null,null,null,null,null,null,null,null,null,null,null,null,null,null,null,null,null,null,null,null,null,null,null,null,null,null,"  1. Utility Factor Composite MPGe [4]",{"$f":"IF($J$6=\"HD 2b/3\",NA(),IFERROR(ASTM(1/ ( AY111 + (1-AY126)/N107),4),0))","v":0},{"$f":"IF($J$6=\"HD 2b/3\",NA(),IFERROR(ASTM(1/ ( AZ111 + (1-AZ126)/O107),4),0))","v":0},{"$f":"IF($J$6=\"HD 2b/3\",NA(),IFERROR(ASTM(1/(0.55/AR105+0.45/AS105),4),0))","v":0},null,null,null,"CD All-Electric Range, adjusted (mi) [3]",{"$f":"IF($J$6=\"HD 2b/3\",NA(),ASTM( 0.7*AY104, 3))","v":0},{"$f":"IF($J$6=\"HD 2b/3\",NA(),ASTM( 0.7*AZ104, 3))","v":0}]
[null,null,"Combined Range on Electricity as shown on FE Label (miles)",null,null,{"$f":"IF($J$6=\"HD 2b/3\",NA(),F19)","v":{"$error":"#N/A"}},null,null,null,null,null,null,null,"City","Highway",null,"No.","Miles [3]","Amp-hrs [3]","Volts [2]","g/mi [3]","g/mi [2]","g/mi [0]","MPG [1]","g/mi [0]","MPG [1]","g/mi [0]",null,"No.","Miles [3]","Amp-hrs [3]","Volts [2]","g/mi [3]","g/mi [2]","g/mi [0]","MPG [1]","g/mi [0]","MPG [1]","g/mi [0]",null,null,null,"GHG Values","City","Highway","Combined",null,null,null,"FUEL CONSUMPTION & ECONOMY VALUES","CITY","HIGHWAY",null,null,null,"No.","gal","grams","Amp-hours","W-hours","W-hours","mi","gal/mi equiv","gal/mi equiv","UF","UF","gal/mi equiv","gal-equiv","%","miles","miles","UF","g/mi","gal/mi equiv","UF","gal/mi equiv","g/mi",null,"No.","gal","grams","Amp-hours","W-hours","W-hours","mi","gal/mi equiv","gal/mi equiv","UF","UF","gal/mi equiv","gal-equiv","%","miles","miles","UF","g/mi","gal-equiv","UF","gal-equiv","g/mi"]
[null,null,"All-Electric Driving Range (Adjusted)",null,null,"miles",null,null,null,null,null,null,"Fuel Economy, Unadjusted (MPG):",null,null,null,1,null,null,null,null,null,null,null,null,{"$f":"IF(ISBLANK(R107),\"\",IF(OR($J$6=\"HD 2b/3\",COUNT(R107:W107)<>6,$AA$143<>\"Yes\",$AA$145<>\"Yes\"),NA(),IF(ASTM(W107,0)=0,0,ASTM((51740000*$T$142*$T$143)/((($T$142*U107)+(0.429*V107)+(0.273*W107))*((0.6*$T$143*$T$144)+5471)),1))))","v":""},{"$f":"IF(ISBLANK(R107),\"\",IF(OR(AND($J$6<>\"HD 2b/3\",COUNT(R107:W107)<>6),AND($J$6=\"HD 2b/3\",COUNT(R107)+COUNT(W107)<>2),$AA$143<>\"Yes\",$AA$145<>\"Yes\"),NA(),IF(ASTM(W107,0)=0,0,IF($J$6=\"HD 2b/3\",W107,ASTM((($T$142/0.273)*U107)+(1.571*V107)+W107,0)))))","v":""},null,1,null,null,null,null,null,null,null,null,{"$f":"IF(ISBLANK(AD107),\"\",IF(OR($J$6=\"HD 2b/3\",COUNT(AD107:AI107)<>6,$AM$47<>\"Yes\",$AM$49<>\"Yes\"),NA(),IF(ASTM(AI107,0)=0,0,ASTM((51740000*$AF$46*$AF$47)/((($AF$46*AG107)+(0.429*AH107)+(0.273*AI107))*((0.6*$AF$47*$AF$48)+5471)),1))))","v":""},{"$f":"IF(ISBLANK(AD107),\"\",IF(OR(AND($J$6<>\"HD 2b/3\",COUNT(AD107:AI107)<>6),AND($J$6=\"HD 2b/3\",COUNT(AD107)+COUNT(AI107)<>2),$AM$143<>\"Yes\",$AM$145<>\"Yes\"),NA(),IF(ASTM(AI107,0)=0,0,IF($J$6=\"HD 2b/3\",AI107,ASTM((($AF$142/0.273)*AG107)+(1.571*AH107)+AI107,0)))))","v":""},null,null,null,"Composite CREE no DF, (g/mi) [1]",{"$f":"IFERROR(_xlfn.SINGLE(IF(OR(SUM(AA107:AA141)=0,N109=0,ISBLANK(N109), LOOKUP(2,1/(AA107:AA141<>\"\"),ROW(AA107:AA141))<LOOKUP(2,1/(R107:R141<>\"\"),ROW(R107:R141))),\"ERROR\",ASTM(AY123+(1-AY126)*N109,1))),0)","v":0},{"$f":"IFERROR(_xlfn.SINGLE(IF(OR(SUM(AM107:AM141)=0,O109=0,ISBLANK(O109), LOOKUP(2,1/(AM107:AM141<>\"\"),ROW(AM107:AM141))<LOOKUP(2,1/(AD107:AD141<>\"\"),ROW(AD107:AD136))),\"ERROR\",ASTM(AZ123+(1-AZ126)*O109,1))),0)","v":0},{"$f":"IF(OR(ISNUMBER(AR107)=FALSE,ISNUMBER(AS107)=FALSE),NA(),ASTM(0.55*AR107+0.45*AS107,1))","v":0},null,null,"NEW","CD AC electricity consumption (Rcdc), unadjusted (Watt-hours) [1]",{"$f":"IF($J$6=\"HD 2b/3\",NA(),ASTM(SUMIF(BD107:BD141,\"<=\" & AY130,BI107:BI141),1))","v":0},{"$f":"IF($J$6=\"HD 2b/3\",NA(),ASTM(SUMIF(CA107:CA141,\"<=\" & AZ130,CF107:CF141),1))","v":0},null,null,null,1,{"$f":"IF(ISBLANK(R107),\"\",IF(COUNT(R107:AA107)<>10,NA(),IF(ASTM(W107,0)=0,0,IFERROR(ASTM(R107,3)/ASTM(Z107,1),0))))","v":""},{"$f":"IF(ISBLANK(R107),\"\",IF(COUNT(R107:AA107)<>10,NA(),IF(W107=0,0,ASTM(ASTM(W107,0)*ASTM(R107,3),0))))","v":""},{"$f":"IF(ISBLANK(R107),\"\",IF(COUNT(R107:AA107)<>10,NA(),ASTM(S107,3)))","v":""},{"$f":"IF(ISBLANK(R107),\"\",IF(COUNT(R107:AA107)<>10,NA(),ASTM(BG107*ASTM(T107,2),1)))","v":""},{"$f":"IF(ISBLANK(R107),\"\",IF(COUNT(R107:AA107)<>10,NA(),ASTM(ASTM($Y$142,4)*1000*(BH107/$AY$109),1)))","v":""},{"$f":"IF(ISBLANK(R107),\"\",BD107*7.45)","v":""},{"$f":"IF(ISBLANK(R107),\"\",IF(COUNT(R107:AA107)<>10,NA(),BI107/(33705*ASTM(R107,3))))","v":""},{"$f":"IF(ISBLANK(R107),\"\",IF(COUNT(R107:AA107)<>10,NA(),BK107+BE107/ASTM(R107,3)))","v":""},{"$f":"IF(ISBLANK(R107),\"\",IFERROR(ASTM(cityfuf(BJ107)-0,3),\"\"))","v":""},{"$f":"IF(ISBLANK(R107),\"\",IF(OR(ISNUMBER(R107)=FALSE,ISNUMBER(AA107)=FALSE),NA(),IF(ASTM(W107,0)=0,0,BM107*ASTM(AA107,0))))","v":""},{"$f":"IF(ISBLANK(R107),\"\",IF(COUNT(R107:AA107)<>10,NA(),BL107*BM107))","v":""},{"$f":"IF(ISBLANK(R107),\"\",IF(COUNT(R107:AA107)<>10,NA(),BL107*ASTM(R107,3)))","v":""},{"$f":"IF(ISBLANK(R107),\"\",IF(COUNT(R107:AA107)<>10,NA(),MAX(1/(0.004091*(1/BL107)+1.1601),0.7)))","v":""},{"$f":"IF(ISBLANK(R107),\"\",IF(COUNT(R107:AA107)<>10,NA(),BQ107*ASTM(R107,3)))","v":""},{"$f":"IF(ISBLANK(R107),\"\",IF(COUNT(R107:AA107)<>10,NA(),BQ107*7.45))","v":""},{"$f":"IF(ISBLANK(R107),\"\",IF(COUNT(R107:AA107)<>10,NA(),ASTM(mdiuf(BS107)-0,3)))","v":""},{"$f":"IF(ISBLANK(R107),\"\",IF(COUNT(R107:AA107)<>10,NA(),IF(ASTM(W107,0)=0,0,BT107*ASTM(W107,0)/(BQ107))))","v":""},{"$f":"IF(ISBLANK(R107),\"\",IF(COUNT(R107:AA107)<>10,NA(),BT107*BL107/BQ107))","v":""},{"$f":"IF(ISBLANK(R107),\"\",IF(COUNT(R107:AA107)<>10,NA(),ASTM(cityfufalt(BS107)-0,3)))","v":""},{"$f":"IF(ISBLANK(R107),\"\",IF(COUNT(R107:AA107)<>10,NA(),BW107*BL107/BQ107))","v":""},{"$f":"IF(ISBLANK(R107),\"\",IF(COUNT(R107:AA107)<>10,NA(),IF(ASTM(W107,0)=0,0,BW107*ASTM(AA107,0)/(BQ107))))","v":""},null,1,{"$f":"IF(ISBLANK(AD107),\"\",IF(COUNT(AD107:AM107)<>10,NA(),IF(ASTM(AI107,0)=0,0,ASTM(AD107,3)/ASTM(AL107,1))))","v":""},{"$f":"IF(ISBLANK(AD107),\"\",IF(COUNT(AD107:AM107)<>10,NA(),IF(ASTM(AI107,0)=0,0,ASTM(ASTM(AI107,0)*ASTM(AD107,3),0))))","v":""},{"$f":"IF(ISBLANK(AD107),\"\",IF(COUNT(AD107:AM107)<>10,NA(),ASTM(AE107,3)))","v":""},{"$f":"IF(ISBLANK(AD107),\"\",IF(COUNT(AD107:AM107)<>10,NA(),ASTM(CD107*ASTM(AF107,2),1)))","v":""},{"$f":"IF(ISBLANK(AD107),\"\",IF(COUNT(AD107:AM107)<>10,NA(),ASTM(ASTM($AK$142,4)*1000*(CE107/$AZ$109),1)))","v":""},{"$f":"IF(ISBLANK(AD107),\"\",CA107*10.3)","v":""},{"$f":"IF(ISBLANK(AD107),\"\",IF(COUNT(AD107:AM107)<>10,NA(),CF107/(33705*ASTM(AD107,3))))","v":""},{"$f":"IF(ISBLANK(AD107),\"\",IF(COUNT(AD107:AM107)<>10,NA(),CH107+CB107/ASTM(AD107,3)))","v":""},{"$f":"IF(ISBLANK(AD107),\"\",ASTM(highwayfuf(CG107)-0,3))","v":""},{"$f":"IF(ISBLANK(AD107),\"\",IF(OR(ISNUMBER(AD107)=FALSE,ISNUMBER(AM107)=FALSE),NA(),IF(ASTM(AI107,0)=0,0,CJ107*ASTM(AM107,0))))","v":""},{"$f":"IF(ISBLANK(AD107),\"\",IF(COUNT(AD107:AM107)<>10,NA(),CI107*CJ107))","v":""},{"$f":"IF(ISBLANK(AD107),\"\",IF(COUNT(AD107:AM107)<>10,NA(),CI107*ASTM(AD107,3)))","v":""},{"$f":"IF(ISBLANK(AD107),\"\",IF(COUNT(AD107:AM107)<>10,NA(),MAX(1/(0.003191*(1/CI107)+1.2945),0.7)))","v":""},{"$f":"IF(ISBLANK(AD107),\"\",IF(COUNT(AD107:AM107)<>10,NA(),CN107*ASTM(AD107,3)))","v":""},{"$f":"IF(ISBLANK(AD107),\"\",IF(COUNT(AD107:AM107)<>10,NA(),CN107*10.3))","v":""},{"$f":"IF(ISBLANK(AD107),\"\",IF(COUNT(AD107:AM107)<>10,NA(),ASTM(mdiuf(CP107)-0,3)))","v":""},{"$f":"IF(ISBLANK(AD107),\"\",IF(COUNT(AD107:AM107)<>10,NA(),IF(ASTM(AI107,0)=0,0,CQ107*ASTM(AI107,0)/(CN107))))","v":""},{"$f":"IF(ISBLANK(AD107),\"\",IF(COUNT(AD107:AM107)<>10,NA(),CQ107*CI107/CN107))","v":""},{"$f":"IF(ISBLANK(AD107),\"\",IF(COUNT(AD107:AM107)<>10,NA(),ASTM(highwayfufalt(CP107)-0,3)))","v":""},{"$f":"IF(ISBLANK(AD107),\"\",IF(COUNT(AD107:AM107)<>10,NA(),CT107*CI107/CN107))","v":""},{"$f":"IF(ISBLANK(AD107),\"\",IF(COUNT(AD107:AM107)<>10,NA(),IF(ASTM(AI107,0)=0,0,CT107*ASTM(AM107,0)/(CN107))))","v":""}]
[null,null,"City All-Electric Range",null,null,{"$f":"IF($J$6=\"HD 2b/3\",NA(),ASTM(D20,2))","v":{"$error":"#VALUE!"}},null,null,null,null,null,null,{"$f":"IF($J$6=\"HD 2b/3\",NA(),\"Fuel Economy, 5-Cycle Adjusted (MPG):\")","v":"Fuel Economy, 5-Cycle Adjusted (MPG):"},null,null,null,2,null,null,null,null,null,null,null,null,{"$f":"IF(ISBLANK(R108),\"\",IF(OR($J$6=\"HD 2b/3\",COUNT(R108:W108)<>6,$AA$143<>\"Yes\",$AA$145<>\"Yes\"),NA(),IF(ASTM(W108,0)=0,0,ASTM((51740000*$T$142*$T$143)/((($T$142*U108)+(0.429*V108)+(0.273*W108))*((0.6*$T$143*$T$144)+5471)),1))))","v":""},{"$f":"IF(ISBLANK(R108),\"\",IF(OR(AND($J$6<>\"HD 2b/3\",COUNT(R108:W108)<>6),AND($J$6=\"HD 2b/3\",COUNT(R108)+COUNT(W108)<>2),$AA$143<>\"Yes\",$AA$145<>\"Yes\"),NA(),IF(ASTM(W108,0)=0,0,IF($J$6=\"HD 2b/3\",W108,ASTM((($T$142/0.273)*U108)+(1.571*V108)+W108,0)))))","v":""},null,2,null,null,null,null,null,null,null,null,{"$f":"IF(ISBLANK(AD108),\"\",IF(OR($J$6=\"HD 2b/3\",COUNT(AD108:AI108)<>6,$AM$47<>\"Yes\",$AM$49<>\"Yes\"),NA(),IF(ASTM(AI108,0)=0,0,ASTM((51740000*$AF$46*$AF$47)/((($AF$46*AG108)+(0.429*AH108)+(0.273*AI108))*((0.6*$AF$47*$AF$48)+5471)),1))))","v":""},{"$f":"IF(ISBLANK(AD108),\"\",IF(OR(AND($J$6<>\"HD 2b/3\",COUNT(AD108:AI108)<>6),AND($J$6=\"HD 2b/3\",COUNT(AD108)+COUNT(AI108)<>2),$AM$143<>\"Yes\",$AM$145<>\"Yes\"),NA(),IF(ASTM(AI108,0)=0,0,IF($J$6=\"HD 2b/3\",AI108,ASTM((($AF$142/0.273)*AG108)+(1.571*AH108)+AI108,0)))))","v":""},null,null,null,"Composite CREE w/DF, (g/mi) [1]",{"$f":"IF(SUM(AA107:AA141)=0,0,IF(ISBLANK($J$14)=TRUE,\"No DF\",IF($J$13=\"Additive\",ASTM((AY123+(1-AY126)*N109),0)+ASTM($J$14,0),IF($J$13=\"Multiplicative\",ASTM(ASTM((AY123+(1-AY126)*N109),0)*$J$14,0),\"Add/Mult?\"))))","v":0},{"$f":"IF(SUM(AM107:AM141)=0,0,IF(ISBLANK($J$15)=TRUE,\"No DF\",IF($J$13=\"Additive\",ASTM((AZ123+(1-AZ126)*O109),0)+ASTM($J$15,0),IF($J$13=\"Multiplicative\",ASTM(ASTM((AZ123+(1-AZ126)*O109),0)*$J$15,0),\"Add/Mult?\"))))","v":0},{"$f":"IF(OR(ISNUMBER(AR108)=FALSE,ISNUMBER(AS108)=FALSE),NA(),ASTM(0.55*AR108+0.45*AS108,1))","v":0},null,null,null,"CD AC electricity consumption rate (Rcda), adjusted  (kW-hr/100mi) [3]",{"$f":"IF($J$6=\"HD 2b/3\",NA(),IFERROR(ASTM(ASTM(Y142,4)*100/AY103,3),0))","v":0},{"$f":"IF($J$6=\"HD 2b/3\",NA(),IFERROR(ASTM(ASTM(AK142,4)*100/AZ103,3),0))","v":0},null,null,null,2,{"$f":"IF(ISBLANK(R108),\"\",IF(COUNT(R108:AA108)<>10,NA(),IF(ASTM(W108,0)=0,0,IFERROR(ASTM(R108,3)/ASTM(Z108,1),0))))","v":""},{"$f":"IF(ISBLANK(R108),\"\",IF(COUNT(R108:AA108)<>10,NA(),IF(W108=0,0,ASTM(ASTM(W108,0)*ASTM(R108,3),0))))","v":""},{"$f":"IF(ISBLANK(R108),\"\",IF(COUNT(R108:AA108)<>10,NA(),ASTM(S108,3)-ASTM(S107,3)))","v":""},{"$f":"IF(ISBLANK(R108),\"\",IF(COUNT(R108:AA108)<>10,NA(),ASTM(BG108*ASTM(T108,2),1)))","v":""},{"$f":"IF(ISBLANK(R108),\"\",IF(COUNT(R108:AA108)<>10,NA(),ASTM(ASTM($Y$142,4)*1000*(BH108/$AY$109),1)))","v":""},{"$f":"IF(ISBLANK(R108),\"\",BD108*7.45)","v":""},{"$f":"IF(ISBLANK(R108),\"\",IF(COUNT(R108:AA108)<>10,NA(),BI108/(33705*ASTM(R108,3))))","v":""},{"$f":"IF(ISBLANK(R108),\"\",IF(COUNT(R108:AA108)<>10,NA(),BK108+BE108/ASTM(R108,3)))","v":""},{"$f":"IF(ISBLANK(R108),\"\",IFERROR(ASTM(cityfuf(BJ108)-cityfuf(BJ107),3),\"\"))","v":""},{"$f":"IF(ISBLANK(R108),\"\",IF(OR(ISNUMBER(R108)=FALSE,ISNUMBER(AA108)=FALSE),NA(),IF(ASTM(W108,0)=0,0,BM108*ASTM(AA108,0))))","v":""},{"$f":"IF(ISBLANK(R108),\"\",IF(COUNT(R108:AA108)<>10,NA(),BL108*BM108))","v":""},{"$f":"IF(ISBLANK(R108),\"\",IF(COUNT(R108:AA108)<>10,NA(),BL108*ASTM(R108,3)))","v":""},{"$f":"IF(ISBLANK(R108),\"\",IF(COUNT(R108:AA108)<>10,NA(),MAX(1/(0.004091*(1/BL108)+1.1601),0.7)))","v":""},{"$f":"IF(ISBLANK(R108),\"\",IF(COUNT(R108:AA108)<>10,NA(),BQ108*ASTM(R108,3)))","v":""},{"$f":"IF(ISBLANK(R108),\"\",IF(COUNT(R108:AA108)<>10,NA(),BQ108*7.45+BS107))","v":""},{"$f":"IF(ISBLANK(R108),\"\",IF(COUNT(R108:AA108)<>10,NA(),ASTM(mdiuf(BS108),3)-ASTM(mdiuf(BS107),3)))","v":""},{"$f":"IF(ISBLANK(R108),\"\",IF(COUNT(R108:AA108)<>10,NA(),IF(ASTM(W108,0)=0,0,BT108*ASTM(W108,0)/(BQ108))))","v":""},{"$f":"IF(ISBLANK(R108),\"\",IF(COUNT(R108:AA108)<>10,NA(),BT108*BL108/BQ108))","v":""},{"$f":"IF(ISBLANK(R108),\"\",IF(COUNT(R108:AA108)<>10,NA(),ASTM(cityfufalt(BS108)-cityfufalt(BS107),3)))","v":""},{"$f":"IF(ISBLANK(R108),\"\",IF(COUNT(R108:AA108)<>10,NA(),BW108*BL108/BQ108))","v":""},{"$f":"IF(ISBLANK(R108),\"\",IF(COUNT(R108:AA108)<>10,NA(),IF(ASTM(W108,0)=0,0,BW108*ASTM(AA108,0)/(BQ108))))","v":""},null,2,{"$f":"IF(ISBLANK(AD108),\"\",IF(COUNT(AD108:AM108)<>10,NA(),IF(ASTM(AI108,0)=0,0,ASTM(AD108,3)/ASTM(AL108,1))))","v":""},{"$f":"IF(ISBLANK(AD108),\"\",IF(COUNT(AD108:AM108)<>10,NA(),IF(ASTM(AI108,0)=0,0,ASTM(ASTM(AI108,0)*ASTM(AD108,3),0))))","v":""},{"$f":"IF(ISBLANK(AD108),\"\",IF(COUNT(AD108:AM108)<>10,NA(),ASTM(AE108,3)-ASTM(AE107,3)))","v":""},{"$f":"IF(ISBLANK(AD108),\"\",IF(COUNT(AD108:AM108)<>10,NA(),ASTM(CD108*ASTM(AF108,2),1)))","v":""},{"$f":"IF(ISBLANK(AD108),\"\",IF(COUNT(AD108:AM108)<>10,NA(),ASTM(ASTM($AK$142,4)*1000*(CE108/$AZ$109),1)))","v":""},{"$f":"IF(ISBLANK(AD108),\"\",CA108*10.3)","v":""},{"$f":"IF(ISBLANK(AD108),\"\",IF(COUNT(AD108:AM108)<>10,NA(),CF108/(33705*ASTM(AD108,3))))","v":""},"",{"$f":"IF(ISBLANK(AD108),\"\",ASTM(highwayfuf(CG108)-highwayfuf(CG107),3))","v":""},{"$f":"IF(ISBLANK(AD108),\"\",IF(OR(ISNUMBER(AD108)=FALSE,ISNUMBER(AM108)=FALSE),NA(),IF(ASTM(AI108,0)=0,0,CJ108*ASTM(AM108,0))))","v":""},"",{"$f":"IF(ISBLANK(AD108),\"\",IF(COUNT(AD108:AM108)<>10,NA(),CI108*ASTM(AD108,3)))","v":""},"",{"$f":"IF(ISBLANK(AD108),\"\",IF(COUNT(AD108:AM108)<>10,NA(),CN108*ASTM(AD108,3)))","v":""},{"$f":"IF(ISBLANK(AD108),\"\",IF(COUNT(AD108:AM108)<>10,NA(),CN108*10.3+CP107))","v":""},{"$f":"IF(ISBLANK(AD108),\"\",IF(COUNT(AD108:AM108)<>10,NA(),ASTM(mdiuf(CP108)-mdiuf(CP107),3)))","v":""},{"$f":"IF(ISBLANK(AD108),\"\",IF(COUNT(AD108:AM108)<>10,NA(),IF(ASTM(AI108,0)=0,0,CQ108*ASTM(AI108,0)/(CN108))))","v":""},"",{"$f":"IF(ISBLANK(AD108),\"\",IF(COUNT(AD108:AM108)<>10,NA(),ASTM(highwayfufalt(CP108)-highwayfufalt(CP107),3)))","v":""},"",{"$f":"IF(ISBLANK(AD108),\"\",IF(COUNT(AD108:AM108)<>10,NA(),IF(ASTM(AI108,0)=0,0,CT108*ASTM(AM108,0)/(CN108))))","v":""}]
[null,null,"Hwy All-Electric Range",null,null,{"$f":"IF($J$6=\"HD 2b/3\",NA(),ASTM(E20,2))","v":{"$error":"#VALUE!"}},null,null,null,null,null,null,"CREE (g/mi):",null,null,null,3,null,null,null,null,null,null,null,null,{"$f":"IF(ISBLANK(R109),\"\",IF(OR($J$6=\"HD 2b/3\",COUNT(R109:W109)<>6,$AA$143<>\"Yes\",$AA$145<>\"Yes\"),NA(),IF(ASTM(W109,0)=0,0,ASTM((51740000*$T$142*$T$143)/((($T$142*U109)+(0.429*V109)+(0.273*W109))*((0.6*$T$143*$T$144)+5471)),1))))","v":""},{"$f":"IF(ISBLANK(R109),\"\",IF(OR(AND($J$6<>\"HD 2b/3\",COUNT(R109:W109)<>6),AND($J$6=\"HD 2b/3\",COUNT(R109)+COUNT(W109)<>2),$AA$143<>\"Yes\",$AA$145<>\"Yes\"),NA(),IF(ASTM(W109,0)=0,0,IF($J$6=\"HD 2b/3\",W109,ASTM((($T$142/0.273)*U109)+(1.571*V109)+W109,0)))))","v":""},null,3,null,null,null,null,null,null,null,null,{"$f":"IF(ISBLANK(AD109),\"\",IF(OR($J$6=\"HD 2b/3\",COUNT(AD109:AI109)<>6,$AM$47<>\"Yes\",$AM$49<>\"Yes\"),NA(),IF(ASTM(AI109,0)=0,0,ASTM((51740000*$AF$46*$AF$47)/((($AF$46*AG109)+(0.429*AH109)+(0.273*AI109))*((0.6*$AF$47*$AF$48)+5471)),1))))","v":""},{"$f":"IF(ISBLANK(AD109),\"\",IF(OR(AND($J$6<>\"HD 2b/3\",COUNT(AD109:AI109)<>6),AND($J$6=\"HD 2b/3\",COUNT(AD109)+COUNT(AI109)<>2),$AM$143<>\"Yes\",$AM$145<>\"Yes\"),NA(),IF(ASTM(AI109,0)=0,0,IF($J$6=\"HD 2b/3\",AI109,ASTM((($AF$142/0.273)*AG109)+(1.571*AH109)+AI109,0)))))","v":""},null,null,null,"Label Values (5-Cycle Adjusted)",null,null,null,null,null,null,"CD test total DC energy consumed, unadjusted (Watt-hours) [1]",{"$f":"IF($J$6=\"HD 2b/3\",NA(),ASTM(SUM(BH107:BH141),1))","v":0},{"$f":"IF($J$6=\"HD 2b/3\",NA(),ASTM(SUM(CE107:CE141),1))","v":0},null,null,null,3,{"$f":"IF(ISBLANK(R109),\"\",IF(COUNT(R109:AA109)<>10,NA(),IF(ASTM(W109,0)=0,0,IFERROR(ASTM(R109,3)/ASTM(Z109,1),0))))","v":""},{"$f":"IF(ISBLANK(R109),\"\",IF(COUNT(R109:AA109)<>10,NA(),IF(W109=0,0,ASTM(ASTM(W109,0)*ASTM(R109,3),0))))","v":""},{"$f":"IF(ISBLANK(R109),\"\",IF(COUNT(R109:AA109)<>10,NA(),ASTM(S109,3)-ASTM(S108,3)))","v":""},{"$f":"IF(ISBLANK(R109),\"\",IF(COUNT(R109:AA109)<>10,NA(),ASTM(BG109*ASTM(T109,2),1)))","v":""},{"$f":"IF(ISBLANK(R109),\"\",IF(COUNT(R109:AA109)<>10,NA(),ASTM(ASTM($Y$142,4)*1000*(BH109/$AY$109),1)))","v":""},"",{"$f":"IF(ISBLANK(R109),\"\",IF(COUNT(R109:AA109)<>10,NA(),BI109/(33705*ASTM(R109,3))))","v":""},"",{"$f":"IF(ISBLANK(R109),\"\",IFERROR(ASTM(cityfuf(BJ109)-cityfuf(BJ108),3),\"\"))","v":""},{"$f":"IF(ISBLANK(R109),\"\",IF(OR(ISNUMBER(R109)=FALSE,ISNUMBER(AA109)=FALSE),NA(),IF(ASTM(W109,0)=0,0,BM109*ASTM(AA109,0))))","v":""},"",{"$f":"IF(ISBLANK(R109),\"\",IF(COUNT(R109:AA109)<>10,NA(),BL109*ASTM(R109,3)))","v":""},"",{"$f":"IF(ISBLANK(R109),\"\",IF(COUNT(R109:AA109)<>10,NA(),BQ109*ASTM(R109,3)))","v":""},{"$f":"IF(ISBLANK(R109),\"\",IF(COUNT(R109:AA109)<>10,NA(),BQ109*7.45+BS108))","v":""},{"$f":"IF(ISBLANK(R109),\"\",IF(COUNT(R109:AA109)<>10,NA(),ASTM(mdiuf(BS109),3)-ASTM(mdiuf(BS108),3)))","v":""},{"$f":"IF(ISBLANK(R109),\"\",IF(COUNT(R109:AA109)<>10,NA(),IF(ASTM(W109,0)=0,0,BT109*ASTM(W109,0)/(BQ109))))","v":""},"",{"$f":"IF(ISBLANK(R109),\"\",IF(COUNT(R109:AA109)<>10,NA(),ASTM(cityfufalt(BS109)-cityfufalt(BS108),3)))","v":""},"",{"$f":"IF(ISBLANK(R109),\"\",IF(COUNT(R109:AA109)<>10,NA(),IF(ASTM(W109,0)=0,0,BW109*ASTM(AA109,0)/(BQ109))))","v":""},null,3,{"$f":"IF(ISBLANK(AD109),\"\",IF(COUNT(AD109:AM109)<>10,NA(),IF(ASTM(AI109,0)=0,0,ASTM(AD109,3)/ASTM(AL109,1))))","v":""},{"$f":"IF(ISBLANK(AD109),\"\",IF(COUNT(AD109:AM109)<>10,NA(),IF(ASTM(AI109,0)=0,0,ASTM(ASTM(AI109,0)*ASTM(AD109,3),0))))","v":""},{"$f":"IF(ISBLANK(AD109),\"\",IF(COUNT(AD109:AM109)<>10,NA(),ASTM(AE109,3)-ASTM(AE108,3)))","v":""},{"$f":"IF(ISBLANK(AD109),\"\",IF(COUNT(AD109:AM109)<>10,NA(),ASTM(CD109*ASTM(AF109,2),1)))","v":""},{"$f":"IF(ISBLANK(AD109),\"\",IF(COUNT(AD109:AM109)<>10,NA(),ASTM(ASTM($AK$142,4)*1000*(CE109/$AZ$109),1)))","v":""},"",{"$f":"IF(ISBLANK(AD109),\"\",IF(COUNT(AD109:AM109)<>10,NA(),CF109/(33705*ASTM(AD109,3))))","v":""},"",{"$f":"IF(ISBLANK(AD109),\"\",ASTM(highwayfuf(CG109)-highwayfuf(CG108),3))","v":""},{"$f":"IF(ISBLANK(AD109),\"\",IF(OR(ISNUMBER(AD109)=FALSE,ISNUMBER(AM109)=FALSE),NA(),IF(ASTM(AI109,0)=0,0,CJ109*ASTM(AM109,0))))","v":""},"",{"$f":"IF(ISBLANK(AD109),\"\",IF(COUNT(AD109:AM109)<>10,NA(),CI109*ASTM(AD109,3)))","v":""},"",{"$f":"IF(ISBLANK(AD109),\"\",IF(COUNT(AD109:AM109)<>10,NA(),CN109*ASTM(AD109,3)))","v":""},"",{"$f":"IF(ISBLANK(AD109),\"\",IF(COUNT(AD109:AM109)<>10,NA(),ASTM(mdiuf(CP109)-mdiuf(CP108),3)))","v":""},{"$f":"IF(ISBLANK(AD109),\"\",IF(COUNT(AD109:AM109)<>10,NA(),IF(ASTM(AI109,0)=0,0,CQ109*ASTM(AI109,0)/(CN109))))","v":""},"",{"$f":"IF(ISBLANK(AD109),\"\",IF(COUNT(AD109:AM109)<>10,NA(),ASTM(highwayfufalt(CP109)-highwayfufalt(CP108),3)))","v":""},"",{"$f":"IF(ISBLANK(AD109),\"\",IF(COUNT(AD109:AM109)<>10,NA(),IF(ASTM(AI109,0)=0,0,CT109*ASTM(AM109,0)/(CN109))))","v":""}]
[null,null,"Combined All-Electric Range as shown on FE Label (miles)",null,null,{"$f":"IF($J$6=\"HD 2b/3\",NA(),F20)","v":{"$error":"#N/A"}},null,null,null,null,null,null,"CO2, Unadjusted (g/mi):",null,null,null,4,null,null,null,null,null,null,null,null,{"$f":"IF(ISBLANK(R110),\"\",IF(OR($J$6=\"HD 2b/3\",COUNT(R110:W110)<>6,$AA$143<>\"Yes\",$AA$145<>\"Yes\"),NA(),IF(ASTM(W110,0)=0,0,ASTM((51740000*$T$142*$T$143)/((($T$142*U110)+(0.429*V110)+(0.273*W110))*((0.6*$T$143*$T$144)+5471)),1))))","v":""},{"$f":"IF(ISBLANK(R110),\"\",IF(OR(AND($J$6<>\"HD 2b/3\",COUNT(R110:W110)<>6),AND($J$6=\"HD 2b/3\",COUNT(R110)+COUNT(W110)<>2),$AA$143<>\"Yes\",$AA$145<>\"Yes\"),NA(),IF(ASTM(W110,0)=0,0,IF($J$6=\"HD 2b/3\",W110,ASTM((($T$142/0.273)*U110)+(1.571*V110)+W110,0)))))","v":""},null,4,null,null,null,null,null,null,null,null,{"$f":"IF(ISBLANK(AD110),\"\",IF(OR($J$6=\"HD 2b/3\",COUNT(AD110:AI110)<>6,$AM$47<>\"Yes\",$AM$49<>\"Yes\"),NA(),IF(ASTM(AI110,0)=0,0,ASTM((51740000*$AF$46*$AF$47)/((($AF$46*AG110)+(0.429*AH110)+(0.273*AI110))*((0.6*$AF$47*$AF$48)+5471)),1))))","v":""},{"$f":"IF(ISBLANK(AD110),\"\",IF(OR(AND($J$6<>\"HD 2b/3\",COUNT(AD110:AI110)<>6),AND($J$6=\"HD 2b/3\",COUNT(AD110)+COUNT(AI110)<>2),$AM$143<>\"Yes\",$AM$145<>\"Yes\"),NA(),IF(ASTM(AI110,0)=0,0,IF($J$6=\"HD 2b/3\",AI110,ASTM((($AF$142/0.273)*AG110)+(1.571*AH110)+AI110,0)))))","v":""},null,null,null,"Charge-Depleting",null,null,"Combined",null,null,"NEW","CD Rcda total fuel consumption (Rcda), unadjusted (gal equiv) [4]",{"$f":"IF($J$6=\"HD 2b/3\",NA(),IFERROR(ASTM(SUMIF(BD107:BD141,\"<=\" & (AY130-1),BP107:BP141) + AY129*SUMIF(BD107:BD141,\"=\" & (AY130-1),BP107:BP141),4),0))","v":0},{"$f":"IF($J$6=\"HD 2b/3\",NA(),IFERROR(ASTM(SUMIF(CA107:CA141,\"<=\" & (AZ130-1),CM107:CM141) + AZ129*SUMIF(CA107:CA141,\"=\" & (AZ130-1),CM107:CM141),4),0))","v":0},null,null,null,4,{"$f":"IF(ISBLANK(R110),\"\",IF(COUNT(R110:AA110)<>10,NA(),IF(ASTM(W110,0)=0,0,IFERROR(ASTM(R110,3)/ASTM(Z110,1),0))))","v":""},{"$f":"IF(ISBLANK(R110),\"\",IF(COUNT(R110:AA110)<>10,NA(),IF(W110=0,0,ASTM(ASTM(W110,0)*ASTM(R110,3),0))))","v":""},{"$f":"IF(ISBLANK(R110),\"\",IF(COUNT(R110:AA110)<>10,NA(),ASTM(S110,3)-ASTM(S109,3)))","v":""},{"$f":"IF(ISBLANK(R110),\"\",IF(COUNT(R110:AA110)<>10,NA(),ASTM(BG110*ASTM(T110,2),1)))","v":""},{"$f":"IF(ISBLANK(R110),\"\",IF(COUNT(R110:AA110)<>10,NA(),ASTM(ASTM($Y$142,4)*1000*(BH110/$AY$109),1)))","v":""},"",{"$f":"IF(ISBLANK(R110),\"\",IF(COUNT(R110:AA110)<>10,NA(),BI110/(33705*ASTM(R110,3))))","v":""},"",{"$f":"IF(ISBLANK(R110),\"\",IFERROR(ASTM(cityfuf(BJ110)-cityfuf(BJ109),3),\"\"))","v":""},{"$f":"IF(ISBLANK(R110),\"\",IF(OR(ISNUMBER(R110)=FALSE,ISNUMBER(AA110)=FALSE),NA(),IF(ASTM(W110,0)=0,0,BM110*ASTM(AA110,0))))","v":""},"",{"$f":"IF(ISBLANK(R110),\"\",IF(COUNT(R110:AA110)<>10,NA(),BL110*ASTM(R110,3)))","v":""},"",{"$f":"IF(ISBLANK(R110),\"\",IF(COUNT(R110:AA110)<>10,NA(),BQ110*ASTM(R110,3)))","v":""},"",{"$f":"IF(ISBLANK(R110),\"\",IF(COUNT(R110:AA110)<>10,NA(),ASTM(mdiuf(BS110),3)-ASTM(mdiuf(BS109),3)))","v":""},{"$f":"IF(ISBLANK(R110),\"\",IF(COUNT(R110:AA110)<>10,NA(),IF(ASTM(W110,0)=0,0,BT110*ASTM(W110,0)/(BQ110))))","v":""},"",{"$f":"IF(ISBLANK(R110),\"\",IF(COUNT(R110:AA110)<>10,NA(),ASTM(cityfufalt(BS110)-cityfufalt(BS109),3)))","v":""},"",{"$f":"IF(ISBLANK(R110),\"\",IF(COUNT(R110:AA110)<>10,NA(),IF(ASTM(W110,0)=0,0,BW110*ASTM(AA110,0)/(BQ110))))","v":""},null,4,{"$f":"IF(ISBLANK(AD110),\"\",IF(COUNT(AD110:AM110)<>10,NA(),IF(ASTM(AI110,0)=0,0,ASTM(AD110,3)/ASTM(AL110,1))))","v":""},{"$f":"IF(ISBLANK(AD110),\"\",IF(COUNT(AD110:AM110)<>10,NA(),IF(ASTM(AI110,0)=0,0,ASTM(ASTM(AI110,0)*ASTM(AD110,3),0))))","v":""},{"$f":"IF(ISBLANK(AD110),\"\",IF(COUNT(AD110:AM110)<>10,NA(),ASTM(AE110,3)-ASTM(AE109,3)))","v":""},{"$f":"IF(ISBLANK(AD110),\"\",IF(COUNT(AD110:AM110)<>10,NA(),ASTM(CD110*ASTM(AF110,2),1)))","v":""},{"$f":"IF(ISBLANK(AD110),\"\",IF(COUNT(AD110:AM110)<>10,NA(),ASTM(ASTM($AK$142,4)*1000*(CE110/$AZ$109),1)))","v":""},"",{"$f":"IF(ISBLANK(AD110),\"\",IF(COUNT(AD110:AM110)<>10,NA(),CF110/(33705*ASTM(AD110,3))))","v":""},"",{"$f":"IF(ISBLANK(AD110),\"\",ASTM(highwayfuf(CG110)-highwayfuf(CG109),3))","v":""},{"$f":"IF(ISBLANK(AD110),\"\",IF(OR(ISNUMBER(AD110)=FALSE,ISNUMBER(AM110)=FALSE),NA(),IF(ASTM(AI110,0)=0,0,CJ110*ASTM(AM110,0))))","v":""},"",{"$f":"IF(ISBLANK(AD110),\"\",IF(COUNT(AD110:AM110)<>10,NA(),CI110*ASTM(AD110,3)))","v":""},"",{"$f":"IF(ISBLANK(AD110),\"\",IF(COUNT(AD110:AM110)<>10,NA(),CN110*ASTM(AD110,3)))","v":""},"",{"$f":"IF(ISBLANK(AD110),\"\",IF(COUNT(AD110:AM110)<>10,NA(),ASTM(mdiuf(CP110)-mdiuf(CP109),3)))","v":""},{"$f":"IF(ISBLANK(AD110),\"\",IF(COUNT(AD110:AM110)<>10,NA(),IF(ASTM(AI110,0)=0,0,CQ110*ASTM(AI110,0)/(CN110))))","v":""},"",{"$f":"IF(ISBLANK(AD110),\"\",IF(COUNT(AD110:AM110)<>10,NA(),ASTM(highwayfufalt(CP110)-highwayfufalt(CP109),3)))","v":""},"",{"$f":"IF(ISBLANK(AD110),\"\",IF(COUNT(AD110:AM110)<>10,NA(),IF(ASTM(AI110,0)=0,0,CT110*ASTM(AM110,0)/(CN110))))","v":""}]
[null,null,"Charge-depleting Utility Factors",null,null,"UF",null,null,null,null,null,null,{"$f":"IF($J$6=\"HD 2b/3\",NA(),\"CO2, 5-Cycle Adjusted (g/mi):\")","v":"CO2, 5-Cycle Adjusted (g/mi):"},null,null,null,5,null,null,null,null,null,null,null,null,{"$f":"IF(ISBLANK(R111),\"\",IF(OR($J$6=\"HD 2b/3\",COUNT(R111:W111)<>6,$AA$143<>\"Yes\",$AA$145<>\"Yes\"),NA(),IF(ASTM(W111,0)=0,0,ASTM((51740000*$T$142*$T$143)/((($T$142*U111)+(0.429*V111)+(0.273*W111))*((0.6*$T$143*$T$144)+5471)),1))))","v":""},{"$f":"IF(ISBLANK(R111),\"\",IF(OR(AND($J$6<>\"HD 2b/3\",COUNT(R111:W111)<>6),AND($J$6=\"HD 2b/3\",COUNT(R111)+COUNT(W111)<>2),$AA$143<>\"Yes\",$AA$145<>\"Yes\"),NA(),IF(ASTM(W111,0)=0,0,IF($J$6=\"HD 2b/3\",W111,ASTM((($T$142/0.273)*U111)+(1.571*V111)+W111,0)))))","v":""},null,5,null,null,null,null,null,null,null,null,{"$f":"IF(ISBLANK(AD111),\"\",IF(OR($J$6=\"HD 2b/3\",COUNT(AD111:AI111)<>6,$AM$47<>\"Yes\",$AM$49<>\"Yes\"),NA(),IF(ASTM(AI111,0)=0,0,ASTM((51740000*$AF$46*$AF$47)/((($AF$46*AG111)+(0.429*AH111)+(0.273*AI111))*((0.6*$AF$47*$AF$48)+5471)),1))))","v":""},{"$f":"IF(ISBLANK(AD111),\"\",IF(OR(AND($J$6<>\"HD 2b/3\",COUNT(AD111:AI111)<>6),AND($J$6=\"HD 2b/3\",COUNT(AD111)+COUNT(AI111)<>2),$AM$143<>\"Yes\",$AM$145<>\"Yes\"),NA(),IF(ASTM(AI111,0)=0,0,IF($J$6=\"HD 2b/3\",AI111,ASTM((($AF$142/0.273)*AG111)+(1.571*AH111)+AI111,0)))))","v":""},null,null,null,"CD range, adjusted (miles) [0]",null,null,{"$f":"IF($J$6=\"HD 2b/3\",NA(),IFERROR(ASTM(0.55*AY103+0.45*AZ103,0),0))","v":0},null,null,null,"CD utilitized total fuel consumption rate (55/45 FUF, Rcdc), unadjusted (gal-equiv/mile) [6]",{"$f":"IF($J$6=\"HD 2b/3\",NA(),ASTM(SUMIF(BD107:BD141,\"<=\" & (AY130),BO107:BO141)*1000000,0)/1000000)","v":0},{"$f":"IF($J$6=\"HD 2b/3\",NA(),ASTM(SUMIF(CA107:CA141,\"<=\" & (AZ130),CL107:CL141)*1000000,0)/1000000)","v":0},null,null,null,5,{"$f":"IF(ISBLANK(R111),\"\",IF(COUNT(R111:AA111)<>10,NA(),IF(ASTM(W111,0)=0,0,IFERROR(ASTM(R111,3)/ASTM(Z111,1),0))))","v":""},{"$f":"IF(ISBLANK(R111),\"\",IF(COUNT(R111:AA111)<>10,NA(),IF(W111=0,0,ASTM(ASTM(W111,0)*ASTM(R111,3),0))))","v":""},{"$f":"IF(ISBLANK(R111),\"\",IF(COUNT(R111:AA111)<>10,NA(),ASTM(S111,3)-ASTM(S110,3)))","v":""},{"$f":"IF(ISBLANK(R111),\"\",IF(COUNT(R111:AA111)<>10,NA(),ASTM(BG111*ASTM(T111,2),1)))","v":""},{"$f":"IF(ISBLANK(R111),\"\",IF(COUNT(R111:AA111)<>10,NA(),ASTM(ASTM($Y$142,4)*1000*(BH111/$AY$109),1)))","v":""},"",{"$f":"IF(ISBLANK(R111),\"\",IF(COUNT(R111:AA111)<>10,NA(),BI111/(33705*ASTM(R111,3))))","v":""},"",{"$f":"IF(ISBLANK(R111),\"\",IFERROR(ASTM(cityfuf(BJ111)-cityfuf(BJ110),3),\"\"))","v":""},{"$f":"IF(ISBLANK(R111),\"\",IF(OR(ISNUMBER(R111)=FALSE,ISNUMBER(AA111)=FALSE),NA(),IF(ASTM(W111,0)=0,0,BM111*ASTM(AA111,0))))","v":""},"",{"$f":"IF(ISBLANK(R111),\"\",IF(COUNT(R111:AA111)<>10,NA(),BL111*ASTM(R111,3)))","v":""},"",{"$f":"IF(ISBLANK(R111),\"\",IF(COUNT(R111:AA111)<>10,NA(),BQ111*ASTM(R111,3)))","v":""},"",{"$f":"IF(ISBLANK(R111),\"\",IF(COUNT(R111:AA111)<>10,NA(),ASTM(mdiuf(BS111),3)-ASTM(mdiuf(BS110),3)))","v":""},{"$f":"IF(ISBLANK(R111),\"\",IF(COUNT(R111:AA111)<>10,NA(),IF(ASTM(W111,0)=0,0,BT111*ASTM(W111,0)/(BQ111))))","v":""},"",{"$f":"IF(ISBLANK(R111),\"\",IF(COUNT(R111:AA111)<>10,NA(),ASTM(cityfufalt(BS111)-cityfufalt(BS110),3)))","v":""},"",{"$f":"IF(ISBLANK(R111),\"\",IF(COUNT(R111:AA111)<>10,NA(),IF(ASTM(W111,0)=0,0,BW111*ASTM(AA111,0)/(BQ111))))","v":""},null,5,{"$f":"IF(ISBLANK(AD111),\"\",IF(COUNT(AD111:AM111)<>10,NA(),IF(ASTM(AI111,0)=0,0,ASTM(AD111,3)/ASTM(AL111,1))))","v":""},{"$f":"IF(ISBLANK(AD111),\"\",IF(COUNT(AD111:AM111)<>10,NA(),IF(ASTM(AI111,0)=0,0,ASTM(ASTM(AI111,0)*ASTM(AD111,3),0))))","v":""},{"$f":"IF(ISBLANK(AD111),\"\",IF(COUNT(AD111:AM111)<>10,NA(),ASTM(AE111,3)-ASTM(AE110,3)))","v":""},{"$f":"IF(ISBLANK(AD111),\"\",IF(COUNT(AD111:AM111)<>10,NA(),ASTM(CD111*ASTM(AF111,2),1)))","v":""},{"$f":"IF(ISBLANK(AD111),\"\",IF(COUNT(AD111:AM111)<>10,NA(),ASTM(ASTM($AK$142,4)*1000*(CE111/$AZ$109),1)))","v":""},"",{"$f":"IF(ISBLANK(AD111),\"\",IF(COUNT(AD111:AM111)<>10,NA(),CF111/(33705*ASTM(AD111,3))))","v":""},"",{"$f":"IF(ISBLANK(AD111),\"\",ASTM(highwayfuf(CG111)-highwayfuf(CG110),3))","v":""},{"$f":"IF(ISBLANK(AD111),\"\",IF(OR(ISNUMBER(AD111)=FALSE,ISNUMBER(AM111)=FALSE),NA(),IF(ASTM(AI111,0)=0,0,CJ111*ASTM(AM111,0))))","v":""},"",{"$f":"IF(ISBLANK(AD111),\"\",IF(COUNT(AD111:AM111)<>10,NA(),CI111*ASTM(AD111,3)))","v":""},"",{"$f":"IF(ISBLANK(AD111),\"\",IF(COUNT(AD111:AM111)<>10,NA(),CN111*ASTM(AD111,3)))","v":""},"",{"$f":"IF(ISBLANK(AD111),\"\",IF(COUNT(AD111:AM111)<>10,NA(),ASTM(mdiuf(CP111)-mdiuf(CP110),3)))","v":""},{"$f":"IF(ISBLANK(AD111),\"\",IF(COUNT(AD111:AM111)<>10,NA(),IF(ASTM(AI111,0)=0,0,CQ111*ASTM(AI111,0)/(CN111))))","v":""},"",{"$f":"IF(ISBLANK(AD111),\"\",IF(COUNT(AD111:AM111)<>10,NA(),ASTM(highwayfufalt(CP111)-highwayfufalt(CP110),3)))","v":""},"",{"$f":"IF(ISBLANK(AD111),\"\",IF(COUNT(AD111:AM111)<>10,NA(),IF(ASTM(AI111,0)=0,0,CT111*ASTM(AM111,0)/(CN111))))","v":""}]
[null,null,"City Utility Factor (MDIUF)",null,null,{"$f":"IF($J$6=\"HD 2b/3\",NA(),ASTM(mdiuf(D19),3))","v":{"$error":"#VALUE!"}},null,null,null,null,null,null,null,null,null,null,6,null,null,null,null,null,null,null,null,{"$f":"IF(ISBLANK(R112),\"\",IF(OR($J$6=\"HD 2b/3\",COUNT(R112:W112)<>6,$AA$143<>\"Yes\",$AA$145<>\"Yes\"),NA(),IF(ASTM(W112,0)=0,0,ASTM((51740000*$T$142*$T$143)/((($T$142*U112)+(0.429*V112)+(0.273*W112))*((0.6*$T$143*$T$144)+5471)),1))))","v":""},{"$f":"IF(ISBLANK(R112),\"\",IF(OR(AND($J$6<>\"HD 2b/3\",COUNT(R112:W112)<>6),AND($J$6=\"HD 2b/3\",COUNT(R112)+COUNT(W112)<>2),$AA$143<>\"Yes\",$AA$145<>\"Yes\"),NA(),IF(ASTM(W112,0)=0,0,IF($J$6=\"HD 2b/3\",W112,ASTM((($T$142/0.273)*U112)+(1.571*V112)+W112,0)))))","v":""},null,6,null,null,null,null,null,null,null,null,{"$f":"IF(ISBLANK(AD112),\"\",IF(OR($J$6=\"HD 2b/3\",COUNT(AD112:AI112)<>6,$AM$47<>\"Yes\",$AM$49<>\"Yes\"),NA(),IF(ASTM(AI112,0)=0,0,ASTM((51740000*$AF$46*$AF$47)/((($AF$46*AG112)+(0.429*AH112)+(0.273*AI112))*((0.6*$AF$47*$AF$48)+5471)),1))))","v":""},{"$f":"IF(ISBLANK(AD112),\"\",IF(OR(AND($J$6<>\"HD 2b/3\",COUNT(AD112:AI112)<>6),AND($J$6=\"HD 2b/3\",COUNT(AD112)+COUNT(AI112)<>2),$AM$143<>\"Yes\",$AM$145<>\"Yes\"),NA(),IF(ASTM(AI112,0)=0,0,IF($J$6=\"HD 2b/3\",AI112,ASTM((($AF$142/0.273)*AG112)+(1.571*AH112)+AI112,0)))))","v":""},null,null,null,"CD All-Electric Range, adjusted (mi) [0]",null,null,{"$f":"IF($J$6=\"HD 2b/3\",NA(),IFERROR(ASTM(0.55*AY105+0.45*AZ105,0),0))","v":0},null,null,"NEW","CD utilitized total fuel consumption rate (43/57 FUF, Rcdc), adjusted (gal-equiv/mile) [6]",{"$f":"IF($J$6=\"HD 2b/3\",NA(),ASTM( 1000000*SUMIF(BD107:BD141,\"<=\" & (AY130),BX107:BX141), 0) / 1000000)","v":0},{"$f":"IF($J$6=\"HD 2b/3\",NA(),ASTM( 1000000*SUMIF(CA107:CA141,\"<=\" & (AZ130),CU107:CU141), 0) / 1000000)","v":0},null,null,null,6,{"$f":"IF(ISBLANK(R112),\"\",IF(COUNT(R112:AA112)<>10,NA(),IF(ASTM(W112,0)=0,0,IFERROR(ASTM(R112,3)/ASTM(Z112,1),0))))","v":""},{"$f":"IF(ISBLANK(R112),\"\",IF(COUNT(R112:AA112)<>10,NA(),IF(W112=0,0,ASTM(ASTM(W112,0)*ASTM(R112,3),0))))","v":""},{"$f":"IF(ISBLANK(R112),\"\",IF(COUNT(R112:AA112)<>10,NA(),ASTM(S112,3)-ASTM(S111,3)))","v":""},{"$f":"IF(ISBLANK(R112),\"\",IF(COUNT(R112:AA112)<>10,NA(),ASTM(BG112*ASTM(T112,2),1)))","v":""},{"$f":"IF(ISBLANK(R112),\"\",IF(COUNT(R112:AA112)<>10,NA(),ASTM(ASTM($Y$142,4)*1000*(BH112/$AY$109),1)))","v":""},"",{"$f":"IF(ISBLANK(R112),\"\",IF(COUNT(R112:AA112)<>10,NA(),BI112/(33705*ASTM(R112,3))))","v":""},"",{"$f":"IF(ISBLANK(R112),\"\",IFERROR(ASTM(cityfuf(BJ112)-cityfuf(BJ111),3),\"\"))","v":""},{"$f":"IF(ISBLANK(R112),\"\",IF(OR(ISNUMBER(R112)=FALSE,ISNUMBER(AA112)=FALSE),NA(),IF(ASTM(W112,0)=0,0,BM112*ASTM(AA112,0))))","v":""},"",{"$f":"IF(ISBLANK(R112),\"\",IF(COUNT(R112:AA112)<>10,NA(),BL112*ASTM(R112,3)))","v":""},"",{"$f":"IF(ISBLANK(R112),\"\",IF(COUNT(R112:AA112)<>10,NA(),BQ112*ASTM(R112,3)))","v":""},"",{"$f":"IF(ISBLANK(R112),\"\",IF(COUNT(R112:AA112)<>10,NA(),ASTM(mdiuf(BS112),3)-ASTM(mdiuf(BS111),3)))","v":""},{"$f":"IF(ISBLANK(R112),\"\",IF(COUNT(R112:AA112)<>10,NA(),IF(ASTM(W112,0)=0,0,BT112*ASTM(W112,0)/(BQ112))))","v":""},"",{"$f":"IF(ISBLANK(R112),\"\",IF(COUNT(R112:AA112)<>10,NA(),ASTM(cityfufalt(BS112)-cityfufalt(BS111),3)))","v":""},"",{"$f":"IF(ISBLANK(R112),\"\",IF(COUNT(R112:AA112)<>10,NA(),IF(ASTM(W112,0)=0,0,BW112*ASTM(AA112,0)/(BQ112))))","v":""},null,6,{"$f":"IF(ISBLANK(AD112),\"\",IF(COUNT(AD112:AM112)<>10,NA(),IF(ASTM(AI112,0)=0,0,ASTM(AD112,3)/ASTM(AL112,1))))","v":""},{"$f":"IF(ISBLANK(AD112),\"\",IF(COUNT(AD112:AM112)<>10,NA(),IF(ASTM(AI112,0)=0,0,ASTM(ASTM(AI112,0)*ASTM(AD112,3),0))))","v":""},{"$f":"IF(ISBLANK(AD112),\"\",IF(COUNT(AD112:AM112)<>10,NA(),ASTM(AE112,3)-ASTM(AE111,3)))","v":""},{"$f":"IF(ISBLANK(AD112),\"\",IF(COUNT(AD112:AM112)<>10,NA(),ASTM(CD112*ASTM(AF112,2),1)))","v":""},{"$f":"IF(ISBLANK(AD112),\"\",IF(COUNT(AD112:AM112)<>10,NA(),ASTM(ASTM($AK$142,4)*1000*(CE112/$AZ$109),1)))","v":""},"",{"$f":"IF(ISBLANK(AD112),\"\",IF(COUNT(AD112:AM112)<>10,NA(),CF112/(33705*ASTM(AD112,3))))","v":""},"",{"$f":"IF(ISBLANK(AD112),\"\",ASTM(highwayfuf(CG112)-highwayfuf(CG111),3))","v":""},{"$f":"IF(ISBLANK(AD112),\"\",IF(OR(ISNUMBER(AD112)=FALSE,ISNUMBER(AM112)=FALSE),NA(),IF(ASTM(AI112,0)=0,0,CJ112*ASTM(AM112,0))))","v":""},"",{"$f":"IF(ISBLANK(AD112),\"\",IF(COUNT(AD112:AM112)<>10,NA(),CI112*ASTM(AD112,3)))","v":""},"",{"$f":"IF(ISBLANK(AD112),\"\",IF(COUNT(AD112:AM112)<>10,NA(),CN112*ASTM(AD112,3)))","v":""},"",{"$f":"IF(ISBLANK(AD112),\"\",IF(COUNT(AD112:AM112)<>10,NA(),ASTM(mdiuf(CP112)-mdiuf(CP111),3)))","v":""},{"$f":"IF(ISBLANK(AD112),\"\",IF(COUNT(AD112:AM112)<>10,NA(),IF(ASTM(AI112,0)=0,0,CQ112*ASTM(AI112,0)/(CN112))))","v":""},"",{"$f":"IF(ISBLANK(AD112),\"\",IF(COUNT(AD112:AM112)<>10,NA(),ASTM(highwayfufalt(CP112)-highwayfufalt(CP111),3)))","v":""},"",{"$f":"IF(ISBLANK(AD112),\"\",IF(COUNT(AD112:AM112)<>10,NA(),IF(ASTM(AI112,0)=0,0,CT112*ASTM(AM112,0)/(CN112))))","v":""}]
[null,null,"Hwy Utility Factor (MDIUF)",null,null,{"$f":"IF($J$6=\"HD 2b/3\",NA(),ASTM(mdiuf(E19),3))","v":{"$error":"#VALUE!"}},null,null,null,null,null,null,"ENTER CHARGE-DEPLETING AND CHARGE-SUSTAINING TEST NUMBERS HERE",null,null,null,7,null,null,null,null,null,null,null,null,{"$f":"IF(ISBLANK(R113),\"\",IF(OR($J$6=\"HD 2b/3\",COUNT(R113:W113)<>6,$AA$143<>\"Yes\",$AA$145<>\"Yes\"),NA(),IF(ASTM(W113,0)=0,0,ASTM((51740000*$T$142*$T$143)/((($T$142*U113)+(0.429*V113)+(0.273*W113))*((0.6*$T$143*$T$144)+5471)),1))))","v":""},{"$f":"IF(ISBLANK(R113),\"\",IF(OR(AND($J$6<>\"HD 2b/3\",COUNT(R113:W113)<>6),AND($J$6=\"HD 2b/3\",COUNT(R113)+COUNT(W113)<>2),$AA$143<>\"Yes\",$AA$145<>\"Yes\"),NA(),IF(ASTM(W113,0)=0,0,IF($J$6=\"HD 2b/3\",W113,ASTM((($T$142/0.273)*U113)+(1.571*V113)+W113,0)))))","v":""},null,7,null,null,null,null,null,null,null,null,{"$f":"IF(ISBLANK(AD113),\"\",IF(OR($J$6=\"HD 2b/3\",COUNT(AD113:AI113)<>6,$AM$47<>\"Yes\",$AM$49<>\"Yes\"),NA(),IF(ASTM(AI113,0)=0,0,ASTM((51740000*$AF$46*$AF$47)/((($AF$46*AG113)+(0.429*AH113)+(0.273*AI113))*((0.6*$AF$47*$AF$48)+5471)),1))))","v":""},{"$f":"IF(ISBLANK(AD113),\"\",IF(OR(AND($J$6<>\"HD 2b/3\",COUNT(AD113:AI113)<>6),AND($J$6=\"HD 2b/3\",COUNT(AD113)+COUNT(AI113)<>2),$AM$143<>\"Yes\",$AM$145<>\"Yes\"),NA(),IF(ASTM(AI113,0)=0,0,IF($J$6=\"HD 2b/3\",AI113,ASTM((($AF$142/0.273)*AG113)+(1.571*AH113)+AI113,0)))))","v":""},null,null,null,"Total Driving Range (Miles) [0]",null,null,{"$f":"IF($J$6=\"HD 2b/3\",NA(),IFERROR(ASTM(   IFERROR((ASTM(0.55*AY134+0.45*AZ134,0)+AT111),0) / 10,0) *10,0))","v":0},null,null,"NEW","CD utilitized total fuel consumption rate (MDIUF, Rcdc), adjusted (gal-equiv/mile) [6]",{"$f":"IF($J$6=\"HD 2b/3\",NA(),ASTM(SUMIF(BD107:BD141,\"<=\" & (AY130),BV107:BV141)*1000000,0) / 1000000)","v":0},{"$f":"IF($J$6=\"HD 2b/3\",NA(),ASTM(SUMIF(CA107:CA141,\"<=\" & (AZ130),CS107:CS141)*1000000,0) / 1000000)","v":0},null,null,null,7,{"$f":"IF(ISBLANK(R113),\"\",IF(COUNT(R113:AA113)<>10,NA(),IF(ASTM(W113,0)=0,0,IFERROR(ASTM(R113,3)/ASTM(Z113,1),0))))","v":""},{"$f":"IF(ISBLANK(R113),\"\",IF(COUNT(R113:AA113)<>10,NA(),IF(W113=0,0,ASTM(ASTM(W113,0)*ASTM(R113,3),0))))","v":""},{"$f":"IF(ISBLANK(R113),\"\",IF(COUNT(R113:AA113)<>10,NA(),ASTM(S113,3)-ASTM(S112,3)))","v":""},{"$f":"IF(ISBLANK(R113),\"\",IF(COUNT(R113:AA113)<>10,NA(),ASTM(BG113*ASTM(T113,2),1)))","v":""},{"$f":"IF(ISBLANK(R113),\"\",IF(COUNT(R113:AA113)<>10,NA(),ASTM(ASTM($Y$142,4)*1000*(BH113/$AY$109),1)))","v":""},"",{"$f":"IF(ISBLANK(R113),\"\",IF(COUNT(R113:AA113)<>10,NA(),BI113/(33705*ASTM(R113,3))))","v":""},"",{"$f":"IF(ISBLANK(R113),\"\",IFERROR(ASTM(cityfuf(BJ113)-cityfuf(BJ112),3),\"\"))","v":""},{"$f":"IF(ISBLANK(R113),\"\",IF(OR(ISNUMBER(R113)=FALSE,ISNUMBER(AA113)=FALSE),NA(),IF(ASTM(W113,0)=0,0,BM113*ASTM(AA113,0))))","v":""},"",{"$f":"IF(ISBLANK(R113),\"\",IF(COUNT(R113:AA113)<>10,NA(),BL113*ASTM(R113,3)))","v":""},"",{"$f":"IF(ISBLANK(R113),\"\",IF(COUNT(R113:AA113)<>10,NA(),BQ113*ASTM(R113,3)))","v":""},"",{"$f":"IF(ISBLANK(R113),\"\",IF(COUNT(R113:AA113)<>10,NA(),ASTM(mdiuf(BS113),3)-ASTM(mdiuf(BS112),3)))","v":""},{"$f":"IF(ISBLANK(R113),\"\",IF(COUNT(R113:AA113)<>10,NA(),IF(ASTM(W113,0)=0,0,BT113*ASTM(W113,0)/(BQ113))))","v":""},"",{"$f":"IF(ISBLANK(R113),\"\",IF(COUNT(R113:AA113)<>10,NA(),ASTM(cityfufalt(BS113)-cityfufalt(BS112),3)))","v":""},"",{"$f":"IF(ISBLANK(R113),\"\",IF(COUNT(R113:AA113)<>10,NA(),IF(ASTM(W113,0)=0,0,BW113*ASTM(AA113,0)/(BQ113))))","v":""},null,7,{"$f":"IF(ISBLANK(AD113),\"\",IF(COUNT(AD113:AM113)<>10,NA(),IF(ASTM(AI113,0)=0,0,ASTM(AD113,3)/ASTM(AL113,1))))","v":""},{"$f":"IF(ISBLANK(AD113),\"\",IF(COUNT(AD113:AM113)<>10,NA(),IF(ASTM(AI113,0)=0,0,ASTM(ASTM(AI113,0)*ASTM(AD113,3),0))))","v":""},{"$f":"IF(ISBLANK(AD113),\"\",IF(COUNT(AD113:AM113)<>10,NA(),ASTM(AE113,3)-ASTM(AE112,3)))","v":""},{"$f":"IF(ISBLANK(AD113),\"\",IF(COUNT(AD113:AM113)<>10,NA(),ASTM(CD113*ASTM(AF113,2),1)))","v":""},{"$f":"IF(ISBLANK(AD113),\"\",IF(COUNT(AD113:AM113)<>10,NA(),ASTM(ASTM($AK$142,4)*1000*(CE113/$AZ$109),1)))","v":""},"",{"$f":"IF(ISBLANK(AD113),\"\",IF(COUNT(AD113:AM113)<>10,NA(),CF113/(33705*ASTM(AD113,3))))","v":""},"",{"$f":"IF(ISBLANK(AD113),\"\",ASTM(highwayfuf(CG113)-highwayfuf(CG112),3))","v":""},{"$f":"IF(ISBLANK(AD113),\"\",IF(OR(ISNUMBER(AD113)=FALSE,ISNUMBER(AM113)=FALSE),NA(),IF(ASTM(AI113,0)=0,0,CJ113*ASTM(AM113,0))))","v":""},"",{"$f":"IF(ISBLANK(AD113),\"\",IF(COUNT(AD113:AM113)<>10,NA(),CI113*ASTM(AD113,3)))","v":""},"",{"$f":"IF(ISBLANK(AD113),\"\",IF(COUNT(AD113:AM113)<>10,NA(),CN113*ASTM(AD113,3)))","v":""},"",{"$f":"IF(ISBLANK(AD113),\"\",IF(COUNT(AD113:AM113)<>10,NA(),ASTM(mdiuf(CP113)-mdiuf(CP112),3)))","v":""},{"$f":"IF(ISBLANK(AD113),\"\",IF(COUNT(AD113:AM113)<>10,NA(),IF(ASTM(AI113,0)=0,0,CQ113*ASTM(AI113,0)/(CN113))))","v":""},"",{"$f":"IF(ISBLANK(AD113),\"\",IF(COUNT(AD113:AM113)<>10,NA(),ASTM(highwayfufalt(CP113)-highwayfufalt(CP112),3)))","v":""},"",{"$f":"IF(ISBLANK(AD113),\"\",IF(COUNT(AD113:AM113)<>10,NA(),IF(ASTM(AI113,0)=0,0,CT113*ASTM(AM113,0)/(CN113))))","v":""}]
[null,null,"Combined Utility Factor (MDIUF)",null,null,{"$f":"IF($J$6=\"HD 2b/3\",NA(),ASTM(mdiuf(0.55*D19+0.45*E19),3))","v":{"$error":"#VALUE!"}},null,null,null,null,null,null,null,"CD_UDDS","CD_Hwy",null,8,null,null,null,null,null,null,null,null,{"$f":"IF(ISBLANK(R114),\"\",IF(OR($J$6=\"HD 2b/3\",COUNT(R114:W114)<>6,$AA$143<>\"Yes\",$AA$145<>\"Yes\"),NA(),IF(ASTM(W114,0)=0,0,ASTM((51740000*$T$142*$T$143)/((($T$142*U114)+(0.429*V114)+(0.273*W114))*((0.6*$T$143*$T$144)+5471)),1))))","v":""},{"$f":"IF(ISBLANK(R114),\"\",IF(OR(AND($J$6<>\"HD 2b/3\",COUNT(R114:W114)<>6),AND($J$6=\"HD 2b/3\",COUNT(R114)+COUNT(W114)<>2),$AA$143<>\"Yes\",$AA$145<>\"Yes\"),NA(),IF(ASTM(W114,0)=0,0,IF($J$6=\"HD 2b/3\",W114,ASTM((($T$142/0.273)*U114)+(1.571*V114)+W114,0)))))","v":""},null,8,null,null,null,null,null,null,null,null,{"$f":"IF(ISBLANK(AD114),\"\",IF(OR($J$6=\"HD 2b/3\",COUNT(AD114:AI114)<>6,$AM$47<>\"Yes\",$AM$49<>\"Yes\"),NA(),IF(ASTM(AI114,0)=0,0,ASTM((51740000*$AF$46*$AF$47)/((($AF$46*AG114)+(0.429*AH114)+(0.273*AI114))*((0.6*$AF$47*$AF$48)+5471)),1))))","v":""},{"$f":"IF(ISBLANK(AD114),\"\",IF(OR(AND($J$6<>\"HD 2b/3\",COUNT(AD114:AI114)<>6),AND($J$6=\"HD 2b/3\",COUNT(AD114)+COUNT(AI114)<>2),$AM$143<>\"Yes\",$AM$145<>\"Yes\"),NA(),IF(ASTM(AI114,0)=0,0,IF($J$6=\"HD 2b/3\",AI114,ASTM((($AF$142/0.273)*AG114)+(1.571*AH114)+AI114,0)))))","v":""},null,null,null,"CD Fuel Economy (MPGe) [0]",null,null,{"$f":"IF($J$6=\"HD 2b/3\",NA(),IFERROR(ASTM(1/(0.55/AY115+0.45/AZ115),0),0))","v":0},null,null,null,"CD gasoline consumption (Rcda), adjusted (gal) [1]",{"$f":"IF($J$6=\"HD 2b/3\",NA(),IFERROR(SUMIF(BD107:BD141,\"<=\" & AY130-1,BE107:BE141)+AY129*SUMIF(BD107:BD141,\"=\" & AY130-1,BE107:BE141),0))","v":0},{"$f":"IF($J$6=\"HD 2b/3\",NA(),IFERROR(SUMIF(CA107:CA141,\"<=\" & AZ130-1,CB107:CB141)+AZ129*SUMIF(CA107:CA141,\"=\" & AZ130-1,CB107:CB141),0))","v":0},null,null,null,8,{"$f":"IF(ISBLANK(R114),\"\",IF(COUNT(R114:AA114)<>10,NA(),IF(ASTM(W114,0)=0,0,IFERROR(ASTM(R114,3)/ASTM(Z114,1),0))))","v":""},{"$f":"IF(ISBLANK(R114),\"\",IF(COUNT(R114:AA114)<>10,NA(),IF(W114=0,0,ASTM(ASTM(W114,0)*ASTM(R114,3),0))))","v":""},{"$f":"IF(ISBLANK(R114),\"\",IF(COUNT(R114:AA114)<>10,NA(),ASTM(S114,3)-ASTM(S113,3)))","v":""},{"$f":"IF(ISBLANK(R114),\"\",IF(COUNT(R114:AA114)<>10,NA(),ASTM(BG114*ASTM(T114,2),1)))","v":""},{"$f":"IF(ISBLANK(R114),\"\",IF(COUNT(R114:AA114)<>10,NA(),ASTM(ASTM($Y$142,4)*1000*(BH114/$AY$109),1)))","v":""},"",{"$f":"IF(ISBLANK(R114),\"\",IF(COUNT(R114:AA114)<>10,NA(),BI114/(33705*ASTM(R114,3))))","v":""},"",{"$f":"IF(ISBLANK(R114),\"\",IFERROR(ASTM(cityfuf(BJ114)-cityfuf(BJ113),3),\"\"))","v":""},{"$f":"IF(ISBLANK(R114),\"\",IF(OR(ISNUMBER(R114)=FALSE,ISNUMBER(AA114)=FALSE),NA(),IF(ASTM(W114,0)=0,0,BM114*ASTM(AA114,0))))","v":""},"",{"$f":"IF(ISBLANK(R114),\"\",IF(COUNT(R114:AA114)<>10,NA(),BL114*ASTM(R114,3)))","v":""},"",{"$f":"IF(ISBLANK(R114),\"\",IF(COUNT(R114:AA114)<>10,NA(),BQ114*ASTM(R114,3)))","v":""},"",{"$f":"IF(ISBLANK(R114),\"\",IF(COUNT(R114:AA114)<>10,NA(),ASTM(mdiuf(BS114),3)-ASTM(mdiuf(BS113),3)))","v":""},{"$f":"IF(ISBLANK(R114),\"\",IF(COUNT(R114:AA114)<>10,NA(),IF(ASTM(W114,0)=0,0,BT114*ASTM(W114,0)/(BQ114))))","v":""},"",{"$f":"IF(ISBLANK(R114),\"\",IF(COUNT(R114:AA114)<>10,NA(),ASTM(cityfufalt(BS114)-cityfufalt(BS113),3)))","v":""},"",{"$f":"IF(ISBLANK(R114),\"\",IF(COUNT(R114:AA114)<>10,NA(),IF(ASTM(W114,0)=0,0,BW114*ASTM(AA114,0)/(BQ114))))","v":""},null,8,{"$f":"IF(ISBLANK(AD114),\"\",IF(COUNT(AD114:AM114)<>10,NA(),IF(ASTM(AI114,0)=0,0,ASTM(AD114,3)/ASTM(AL114,1))))","v":""},{"$f":"IF(ISBLANK(AD114),\"\",IF(COUNT(AD114:AM114)<>10,NA(),IF(ASTM(AI114,0)=0,0,ASTM(ASTM(AI114,0)*ASTM(AD114,3),0))))","v":""},{"$f":"IF(ISBLANK(AD114),\"\",IF(COUNT(AD114:AM114)<>10,NA(),ASTM(AE114,3)-ASTM(AE113,3)))","v":""},{"$f":"IF(ISBLANK(AD114),\"\",IF(COUNT(AD114:AM114)<>10,NA(),ASTM(CD114*ASTM(AF114,2),1)))","v":""},{"$f":"IF(ISBLANK(AD114),\"\",IF(COUNT(AD114:AM114)<>10,NA(),ASTM(ASTM($AK$142,4)*1000*(CE114/$AZ$109),1)))","v":""},"",{"$f":"IF(ISBLANK(AD114),\"\",IF(COUNT(AD114:AM114)<>10,NA(),CF114/(33705*ASTM(AD114,3))))","v":""},"",{"$f":"IF(ISBLANK(AD114),\"\",ASTM(highwayfuf(CG114)-highwayfuf(CG113),3))","v":""},{"$f":"IF(ISBLANK(AD114),\"\",IF(OR(ISNUMBER(AD114)=FALSE,ISNUMBER(AM114)=FALSE),NA(),IF(ASTM(AI114,0)=0,0,CJ114*ASTM(AM114,0))))","v":""},"",{"$f":"IF(ISBLANK(AD114),\"\",IF(COUNT(AD114:AM114)<>10,NA(),CI114*ASTM(AD114,3)))","v":""},"",{"$f":"IF(ISBLANK(AD114),\"\",IF(COUNT(AD114:AM114)<>10,NA(),CN114*ASTM(AD114,3)))","v":""},"",{"$f":"IF(ISBLANK(AD114),\"\",IF(COUNT(AD114:AM114)<>10,NA(),ASTM(mdiuf(CP114)-mdiuf(CP113),3)))","v":""},{"$f":"IF(ISBLANK(AD114),\"\",IF(COUNT(AD114:AM114)<>10,NA(),IF(ASTM(AI114,0)=0,0,CQ114*ASTM(AI114,0)/(CN114))))","v":""},"",{"$f":"IF(ISBLANK(AD114),\"\",IF(COUNT(AD114:AM114)<>10,NA(),ASTM(highwayfufalt(CP114)-highwayfufalt(CP113),3)))","v":""},"",{"$f":"IF(ISBLANK(AD114),\"\",IF(COUNT(AD114:AM114)<>10,NA(),IF(ASTM(AI114,0)=0,0,CT114*ASTM(AM114,0)/(CN114))))","v":""}]
[null,null,"Composite Efficiency (Adjusted)",null,null,"MPGe",null,null,null,null,null,null,"Charge-Depleting Test Number:",null,null,null,9,null,null,null,null,null,null,null,null,{"$f":"IF(ISBLANK(R115),\"\",IF(OR($J$6=\"HD 2b/3\",COUNT(R115:W115)<>6,$AA$143<>\"Yes\",$AA$145<>\"Yes\"),NA(),IF(ASTM(W115,0)=0,0,ASTM((51740000*$T$142*$T$143)/((($T$142*U115)+(0.429*V115)+(0.273*W115))*((0.6*$T$143*$T$144)+5471)),1))))","v":""},{"$f":"IF(ISBLANK(R115),\"\",IF(OR(AND($J$6<>\"HD 2b/3\",COUNT(R115:W115)<>6),AND($J$6=\"HD 2b/3\",COUNT(R115)+COUNT(W115)<>2),$AA$143<>\"Yes\",$AA$145<>\"Yes\"),NA(),IF(ASTM(W115,0)=0,0,IF($J$6=\"HD 2b/3\",W115,ASTM((($T$142/0.273)*U115)+(1.571*V115)+W115,0)))))","v":""},null,9,null,null,null,null,null,null,null,null,{"$f":"IF(ISBLANK(AD115),\"\",IF(OR($J$6=\"HD 2b/3\",COUNT(AD115:AI115)<>6,$AM$47<>\"Yes\",$AM$49<>\"Yes\"),NA(),IF(ASTM(AI115,0)=0,0,ASTM((51740000*$AF$46*$AF$47)/((($AF$46*AG115)+(0.429*AH115)+(0.273*AI115))*((0.6*$AF$47*$AF$48)+5471)),1))))","v":""},{"$f":"IF(ISBLANK(AD115),\"\",IF(OR(AND($J$6<>\"HD 2b/3\",COUNT(AD115:AI115)<>6),AND($J$6=\"HD 2b/3\",COUNT(AD115)+COUNT(AI115)<>2),$AM$143<>\"Yes\",$AM$145<>\"Yes\"),NA(),IF(ASTM(AI115,0)=0,0,IF($J$6=\"HD 2b/3\",AI115,ASTM((($AF$142/0.273)*AG115)+(1.571*AH115)+AI115,0)))))","v":""},null,null,null,"CD Electricity Consumption  (kW-hr/100mi) [0]",null,null,{"$f":"IF($J$6=\"HD 2b/3\",NA(),IFERROR(ASTM(0.55*AY108+0.45*AZ108,0),0))","v":0},null,null,null,"CD fuel economy (Rcda), adjusted (MPGe) [4]",{"$f":"IF($J$6=\"HD 2b/3\",NA(),IFERROR(ASTM( AY103/ ( SUMIF(BD107:BD141,\"<=\" & (AY130-1),BP107:BP141) + AY129*SUMIF(BD107:BD141,\"=\" & (AY130-1),BP107:BP141) ),4),0))","v":0},{"$f":"IF($J$6=\"HD 2b/3\",NA(),IFERROR(ASTM( AZ103/ ( SUMIF(CA107:CA141,\"<=\" & (AZ130-1),CM107:CM141) + AZ129*SUMIF(CA107:CA141,\"=\" & (AZ130-1),CM107:CM141) ),4),0))","v":0},null,null,null,9,{"$f":"IF(ISBLANK(R115),\"\",IF(COUNT(R115:AA115)<>10,NA(),IF(ASTM(W115,0)=0,0,IFERROR(ASTM(R115,3)/ASTM(Z115,1),0))))","v":""},{"$f":"IF(ISBLANK(R115),\"\",IF(COUNT(R115:AA115)<>10,NA(),IF(W115=0,0,ASTM(ASTM(W115,0)*ASTM(R115,3),0))))","v":""},{"$f":"IF(ISBLANK(R115),\"\",IF(COUNT(R115:AA115)<>10,NA(),ASTM(S115,3)-ASTM(S114,3)))","v":""},{"$f":"IF(ISBLANK(R115),\"\",IF(COUNT(R115:AA115)<>10,NA(),ASTM(BG115*ASTM(T115,2),1)))","v":""},{"$f":"IF(ISBLANK(R115),\"\",IF(COUNT(R115:AA115)<>10,NA(),ASTM(ASTM($Y$142,4)*1000*(BH115/$AY$109),1)))","v":""},"",{"$f":"IF(ISBLANK(R115),\"\",IF(COUNT(R115:AA115)<>10,NA(),BI115/(33705*ASTM(R115,3))))","v":""},"",{"$f":"IF(ISBLANK(R115),\"\",IFERROR(ASTM(cityfuf(BJ115)-cityfuf(BJ114),3),\"\"))","v":""},{"$f":"IF(ISBLANK(R115),\"\",IF(OR(ISNUMBER(R115)=FALSE,ISNUMBER(AA115)=FALSE),NA(),IF(ASTM(W115,0)=0,0,BM115*ASTM(AA115,0))))","v":""},"",{"$f":"IF(ISBLANK(R115),\"\",IF(COUNT(R115:AA115)<>10,NA(),BL115*ASTM(R115,3)))","v":""},"",{"$f":"IF(ISBLANK(R115),\"\",IF(COUNT(R115:AA115)<>10,NA(),BQ115*ASTM(R115,3)))","v":""},"",{"$f":"IF(ISBLANK(R115),\"\",IF(COUNT(R115:AA115)<>10,NA(),ASTM(mdiuf(BS115),3)-ASTM(mdiuf(BS114),3)))","v":""},{"$f":"IF(ISBLANK(R115),\"\",IF(COUNT(R115:AA115)<>10,NA(),IF(ASTM(W115,0)=0,0,BT115*ASTM(W115,0)/(BQ115))))","v":""},"",{"$f":"IF(ISBLANK(R115),\"\",IF(COUNT(R115:AA115)<>10,NA(),ASTM(cityfufalt(BS115)-cityfufalt(BS114),3)))","v":""},"",{"$f":"IF(ISBLANK(R115),\"\",IF(COUNT(R115:AA115)<>10,NA(),IF(ASTM(W115,0)=0,0,BW115*ASTM(AA115,0)/(BQ115))))","v":""},null,9,{"$f":"IF(ISBLANK(AD115),\"\",IF(COUNT(AD115:AM115)<>10,NA(),IF(ASTM(AI115,0)=0,0,ASTM(AD115,3)/ASTM(AL115,1))))","v":""},{"$f":"IF(ISBLANK(AD115),\"\",IF(COUNT(AD115:AM115)<>10,NA(),IF(ASTM(AI115,0)=0,0,ASTM(ASTM(AI115,0)*ASTM(AD115,3),0))))","v":""},{"$f":"IF(ISBLANK(AD115),\"\",IF(COUNT(AD115:AM115)<>10,NA(),ASTM(AE115,3)-ASTM(AE114,3)))","v":""},{"$f":"IF(ISBLANK(AD115),\"\",IF(COUNT(AD115:AM115)<>10,NA(),ASTM(CD115*ASTM(AF115,2),1)))","v":""},{"$f":"IF(ISBLANK(AD115),\"\",IF(COUNT(AD115:AM115)<>10,NA(),ASTM(ASTM($AK$142,4)*1000*(CE115/$AZ$109),1)))","v":""},"",{"$f":"IF(ISBLANK(AD115),\"\",IF(COUNT(AD115:AM115)<>10,NA(),CF115/(33705*ASTM(AD115,3))))","v":""},"",{"$f":"IF(ISBLANK(AD115),\"\",ASTM(highwayfuf(CG115)-highwayfuf(CG114),3))","v":""},{"$f":"IF(ISBLANK(AD115),\"\",IF(OR(ISNUMBER(AD115)=FALSE,ISNUMBER(AM115)=FALSE),NA(),IF(ASTM(AI115,0)=0,0,CJ115*ASTM(AM115,0))))","v":""},"",{"$f":"IF(ISBLANK(AD115),\"\",IF(COUNT(AD115:AM115)<>10,NA(),CI115*ASTM(AD115,3)))","v":""},"",{"$f":"IF(ISBLANK(AD115),\"\",IF(COUNT(AD115:AM115)<>10,NA(),CN115*ASTM(AD115,3)))","v":""},"",{"$f":"IF(ISBLANK(AD115),\"\",IF(COUNT(AD115:AM115)<>10,NA(),ASTM(mdiuf(CP115)-mdiuf(CP114),3)))","v":""},{"$f":"IF(ISBLANK(AD115),\"\",IF(COUNT(AD115:AM115)<>10,NA(),IF(ASTM(AI115,0)=0,0,CQ115*ASTM(AI115,0)/(CN115))))","v":""},"",{"$f":"IF(ISBLANK(AD115),\"\",IF(COUNT(AD115:AM115)<>10,NA(),ASTM(highwayfufalt(CP115)-highwayfufalt(CP114),3)))","v":""},"",{"$f":"IF(ISBLANK(AD115),\"\",IF(COUNT(AD115:AM115)<>10,NA(),IF(ASTM(AI115,0)=0,0,CT115*ASTM(AM115,0)/(CN115))))","v":""}]
[null,null,"City PHEV Composite MPGe",null,null,{"$f":"IF($J$6=\"HD 2b/3\",NA(),ASTM(D32,0))","v":{"$error":"#VALUE!"}},null,null,null,null,null,null,null,"CS_FTP","CS_Hwy",null,10,null,null,null,null,null,null,null,null,{"$f":"IF(ISBLANK(R116),\"\",IF(OR($J$6=\"HD 2b/3\",COUNT(R116:W116)<>6,$AA$143<>\"Yes\",$AA$145<>\"Yes\"),NA(),IF(ASTM(W116,0)=0,0,ASTM((51740000*$T$142*$T$143)/((($T$142*U116)+(0.429*V116)+(0.273*W116))*((0.6*$T$143*$T$144)+5471)),1))))","v":""},{"$f":"IF(ISBLANK(R116),\"\",IF(OR(AND($J$6<>\"HD 2b/3\",COUNT(R116:W116)<>6),AND($J$6=\"HD 2b/3\",COUNT(R116)+COUNT(W116)<>2),$AA$143<>\"Yes\",$AA$145<>\"Yes\"),NA(),IF(ASTM(W116,0)=0,0,IF($J$6=\"HD 2b/3\",W116,ASTM((($T$142/0.273)*U116)+(1.571*V116)+W116,0)))))","v":""},null,10,null,null,null,null,null,null,null,null,{"$f":"IF(ISBLANK(AD116),\"\",IF(OR($J$6=\"HD 2b/3\",COUNT(AD116:AI116)<>6,$AM$47<>\"Yes\",$AM$49<>\"Yes\"),NA(),IF(ASTM(AI116,0)=0,0,ASTM((51740000*$AF$46*$AF$47)/((($AF$46*AG116)+(0.429*AH116)+(0.273*AI116))*((0.6*$AF$47*$AF$48)+5471)),1))))","v":""},{"$f":"IF(ISBLANK(AD116),\"\",IF(OR(AND($J$6<>\"HD 2b/3\",COUNT(AD116:AI116)<>6),AND($J$6=\"HD 2b/3\",COUNT(AD116)+COUNT(AI116)<>2),$AM$143<>\"Yes\",$AM$145<>\"Yes\"),NA(),IF(ASTM(AI116,0)=0,0,IF($J$6=\"HD 2b/3\",AI116,ASTM((($AF$142/0.273)*AG116)+(1.571*AH116)+AI116,0)))))","v":""},null,null,null,"CD Gasoline Consumption (gal/100mi) [0]",null,null,{"$f":"IF($J$6=\"HD 2b/3\",NA(),IFERROR(ASTM(0.55*AY116+0.45*AZ116,1),0))","v":0},null,null,null,"CD gasoline consumption rate (Rcda), adjusted (gal/100mi) [4]",{"$f":"IF($J$6=\"HD 2b/3\",NA(),IFERROR(ASTM(100*(SUMIF(BD107:BD141,\"<=\" & AY130-1,BE107:BE141)+AY129*SUMIF(BD107:BD141,\"=\" & AY130-1,BE107:BE141))/AY103,4),0))","v":0},{"$f":"IF($J$6=\"HD 2b/3\",NA(),IFERROR(ASTM(100*(SUMIF(CA107:CA141,\"<=\" & AZ130-1,CB107:CB141)+AZ129*SUMIF(CA107:CA141,\"=\" & AZ130-1,CB107:CB141))/AZ103,4),0))","v":0},null,null,null,10,{"$f":"IF(ISBLANK(R116),\"\",IF(COUNT(R116:AA116)<>10,NA(),IF(ASTM(W116,0)=0,0,IFERROR(ASTM(R116,3)/ASTM(Z116,1),0))))","v":""},{"$f":"IF(ISBLANK(R116),\"\",IF(COUNT(R116:AA116)<>10,NA(),IF(W116=0,0,ASTM(ASTM(W116,0)*ASTM(R116,3),0))))","v":""},{"$f":"IF(ISBLANK(R116),\"\",IF(COUNT(R116:AA116)<>10,NA(),ASTM(S116,3)-ASTM(S115,3)))","v":""},{"$f":"IF(ISBLANK(R116),\"\",IF(COUNT(R116:AA116)<>10,NA(),ASTM(BG116*ASTM(T116,2),1)))","v":""},{"$f":"IF(ISBLANK(R116),\"\",IF(COUNT(R116:AA116)<>10,NA(),ASTM(ASTM($Y$142,4)*1000*(BH116/$AY$109),1)))","v":""},"",{"$f":"IF(ISBLANK(R116),\"\",IF(COUNT(R116:AA116)<>10,NA(),BI116/(33705*ASTM(R116,3))))","v":""},"",{"$f":"IF(ISBLANK(R116),\"\",IFERROR(ASTM(cityfuf(BJ116)-cityfuf(BJ115),3),\"\"))","v":""},{"$f":"IF(ISBLANK(R116),\"\",IF(OR(ISNUMBER(R116)=FALSE,ISNUMBER(AA116)=FALSE),NA(),IF(ASTM(W116,0)=0,0,BM116*ASTM(AA116,0))))","v":""},"",{"$f":"IF(ISBLANK(R116),\"\",IF(COUNT(R116:AA116)<>10,NA(),BL116*ASTM(R116,3)))","v":""},"",{"$f":"IF(ISBLANK(R116),\"\",IF(COUNT(R116:AA116)<>10,NA(),BQ116*ASTM(R116,3)))","v":""},"",{"$f":"IF(ISBLANK(R116),\"\",IF(COUNT(R116:AA116)<>10,NA(),ASTM(mdiuf(BS116),3)-ASTM(mdiuf(BS115),3)))","v":""},{"$f":"IF(ISBLANK(R116),\"\",IF(COUNT(R116:AA116)<>10,NA(),IF(ASTM(W116,0)=0,0,BT116*ASTM(W116,0)/(BQ116))))","v":""},"",{"$f":"IF(ISBLANK(R116),\"\",IF(COUNT(R116:AA116)<>10,NA(),ASTM(cityfufalt(BS116)-cityfufalt(BS115),3)))","v":""},"",{"$f":"IF(ISBLANK(R116),\"\",IF(COUNT(R116:AA116)<>10,NA(),IF(ASTM(W116,0)=0,0,BW116*ASTM(AA116,0)/(BQ116))))","v":""},null,10,{"$f":"IF(ISBLANK(AD116),\"\",IF(COUNT(AD116:AM116)<>10,NA(),IF(ASTM(AI116,0)=0,0,ASTM(AD116,3)/ASTM(AL116,1))))","v":""},{"$f":"IF(ISBLANK(AD116),\"\",IF(COUNT(AD116:AM116)<>10,NA(),IF(ASTM(AI116,0)=0,0,ASTM(ASTM(AI116,0)*ASTM(AD116,3),0))))","v":""},{"$f":"IF(ISBLANK(AD116),\"\",IF(COUNT(AD116:AM116)<>10,NA(),ASTM(AE116,3)-ASTM(AE115,3)))","v":""},{"$f":"IF(ISBLANK(AD116),\"\",IF(COUNT(AD116:AM116)<>10,NA(),ASTM(CD116*ASTM(AF116,2),1)))","v":""},{"$f":"IF(ISBLANK(AD116),\"\",IF(COUNT(AD116:AM116)<>10,NA(),ASTM(ASTM($AK$142,4)*1000*(CE116/$AZ$109),1)))","v":""},"",{"$f":"IF(ISBLANK(AD116),\"\",IF(COUNT(AD116:AM116)<>10,NA(),CF116/(33705*ASTM(AD116,3))))","v":""},"",{"$f":"IF(ISBLANK(AD116),\"\",ASTM(highwayfuf(CG116)-highwayfuf(CG115),3))","v":""},{"$f":"IF(ISBLANK(AD116),\"\",IF(OR(ISNUMBER(AD116)=FALSE,ISNUMBER(AM116)=FALSE),NA(),IF(ASTM(AI116,0)=0,0,CJ116*ASTM(AM116,0))))","v":""},"",{"$f":"IF(ISBLANK(AD116),\"\",IF(COUNT(AD116:AM116)<>10,NA(),CI116*ASTM(AD116,3)))","v":""},"",{"$f":"IF(ISBLANK(AD116),\"\",IF(COUNT(AD116:AM116)<>10,NA(),CN116*ASTM(AD116,3)))","v":""},"",{"$f":"IF(ISBLANK(AD116),\"\",IF(COUNT(AD116:AM116)<>10,NA(),ASTM(mdiuf(CP116)-mdiuf(CP115),3)))","v":""},{"$f":"IF(ISBLANK(AD116),\"\",IF(COUNT(AD116:AM116)<>10,NA(),IF(ASTM(AI116,0)=0,0,CQ116*ASTM(AI116,0)/(CN116))))","v":""},"",{"$f":"IF(ISBLANK(AD116),\"\",IF(COUNT(AD116:AM116)<>10,NA(),ASTM(highwayfufalt(CP116)-highwayfufalt(CP115),3)))","v":""},"",{"$f":"IF(ISBLANK(AD116),\"\",IF(COUNT(AD116:AM116)<>10,NA(),IF(ASTM(AI116,0)=0,0,CT116*ASTM(AM116,0)/(CN116))))","v":""}]
[null,null,"Hwy PHEV Composite MPGe",null,null,{"$f":"IF($J$6=\"HD 2b/3\",NA(),ASTM(E32,0))","v":{"$error":"#VALUE!"}},null,null,null,null,null,null,"Charge-Sustaining FTP/Hwy (Required):",null,null,null,11,null,null,null,null,null,null,null,null,{"$f":"IF(ISBLANK(R117),\"\",IF(OR($J$6=\"HD 2b/3\",COUNT(R117:W117)<>6,$AA$143<>\"Yes\",$AA$145<>\"Yes\"),NA(),IF(ASTM(W117,0)=0,0,ASTM((51740000*$T$142*$T$143)/((($T$142*U117)+(0.429*V117)+(0.273*W117))*((0.6*$T$143*$T$144)+5471)),1))))","v":""},{"$f":"IF(ISBLANK(R117),\"\",IF(OR(AND($J$6<>\"HD 2b/3\",COUNT(R117:W117)<>6),AND($J$6=\"HD 2b/3\",COUNT(R117)+COUNT(W117)<>2),$AA$143<>\"Yes\",$AA$145<>\"Yes\"),NA(),IF(ASTM(W117,0)=0,0,IF($J$6=\"HD 2b/3\",W117,ASTM((($T$142/0.273)*U117)+(1.571*V117)+W117,0)))))","v":""},null,11,null,null,null,null,null,null,null,null,{"$f":"IF(ISBLANK(AD117),\"\",IF(OR($J$6=\"HD 2b/3\",COUNT(AD117:AI117)<>6,$AM$47<>\"Yes\",$AM$49<>\"Yes\"),NA(),IF(ASTM(AI117,0)=0,0,ASTM((51740000*$AF$46*$AF$47)/((($AF$46*AG117)+(0.429*AH117)+(0.273*AI117))*((0.6*$AF$47*$AF$48)+5471)),1))))","v":""},{"$f":"IF(ISBLANK(AD117),\"\",IF(OR(AND($J$6<>\"HD 2b/3\",COUNT(AD117:AI117)<>6),AND($J$6=\"HD 2b/3\",COUNT(AD117)+COUNT(AI117)<>2),$AM$143<>\"Yes\",$AM$145<>\"Yes\"),NA(),IF(ASTM(AI117,0)=0,0,IF($J$6=\"HD 2b/3\",AI117,ASTM((($AF$142/0.273)*AG117)+(1.571*AH117)+AI117,0)))))","v":""},null,null,null,"Charge-Sustaining",null,null,"Combined",null,null,"NEW","CD fuel economy (Rcda), unadjusted (MPGe) [4]",{"$f":"IF($J$6=\"HD 2b/3\",NA(),ASTM(IFERROR(AY102/ ( SUMIF(BD107:BD141,\"<=\" & (AY130-1),BP107:BP141) + AY129*SUMIF(BD107:BD141,\"=\" & (AY130-1),BP107:BP141) ),0),4))","v":0},{"$f":"IF($J$6=\"HD 2b/3\",NA(),ASTM(IFERROR(AZ102/ ( SUMIF(CA107:CA141,\"<=\" & (AZ130-1),CM107:CM141) + AZ129*SUMIF(CA107:CA141,\"=\" & (AZ130-1),CM107:CM141) ),0),4))","v":0},null,null,null,11,{"$f":"IF(ISBLANK(R117),\"\",IF(COUNT(R117:AA117)<>10,NA(),IF(ASTM(W117,0)=0,0,IFERROR(ASTM(R117,3)/ASTM(Z117,1),0))))","v":""},{"$f":"IF(ISBLANK(R117),\"\",IF(COUNT(R117:AA117)<>10,NA(),IF(W117=0,0,ASTM(ASTM(W117,0)*ASTM(R117,3),0))))","v":""},{"$f":"IF(ISBLANK(R117),\"\",IF(COUNT(R117:AA117)<>10,NA(),ASTM(S117,3)-ASTM(S116,3)))","v":""},{"$f":"IF(ISBLANK(R117),\"\",IF(COUNT(R117:AA117)<>10,NA(),ASTM(BG117*ASTM(T117,2),1)))","v":""},{"$f":"IF(ISBLANK(R117),\"\",IF(COUNT(R117:AA117)<>10,NA(),ASTM(ASTM($Y$142,4)*1000*(BH117/$AY$109),1)))","v":""},"",{"$f":"IF(ISBLANK(R117),\"\",IF(COUNT(R117:AA117)<>10,NA(),BI117/(33705*ASTM(R117,3))))","v":""},"",{"$f":"IF(ISBLANK(R117),\"\",IFERROR(ASTM(cityfuf(BJ117)-cityfuf(BJ116),3),\"\"))","v":""},{"$f":"IF(ISBLANK(R117),\"\",IF(OR(ISNUMBER(R117)=FALSE,ISNUMBER(AA117)=FALSE),NA(),IF(ASTM(W117,0)=0,0,BM117*ASTM(AA117,0))))","v":""},"",{"$f":"IF(ISBLANK(R117),\"\",IF(COUNT(R117:AA117)<>10,NA(),BL117*ASTM(R117,3)))","v":""},"",{"$f":"IF(ISBLANK(R117),\"\",IF(COUNT(R117:AA117)<>10,NA(),BQ117*ASTM(R117,3)))","v":""},"",{"$f":"IF(ISBLANK(R117),\"\",IF(COUNT(R117:AA117)<>10,NA(),ASTM(mdiuf(BS117),3)-ASTM(mdiuf(BS116),3)))","v":""},{"$f":"IF(ISBLANK(R117),\"\",IF(COUNT(R117:AA117)<>10,NA(),IF(ASTM(W117,0)=0,0,BT117*ASTM(W117,0)/(BQ117))))","v":""},"",{"$f":"IF(ISBLANK(R117),\"\",IF(COUNT(R117:AA117)<>10,NA(),ASTM(cityfufalt(BS117)-cityfufalt(BS116),3)))","v":""},"",{"$f":"IF(ISBLANK(R117),\"\",IF(COUNT(R117:AA117)<>10,NA(),IF(ASTM(W117,0)=0,0,BW117*ASTM(AA117,0)/(BQ117))))","v":""},null,11,{"$f":"IF(ISBLANK(AD117),\"\",IF(COUNT(AD117:AM117)<>10,NA(),IF(ASTM(AI117,0)=0,0,ASTM(AD117,3)/ASTM(AL117,1))))","v":""},{"$f":"IF(ISBLANK(AD117),\"\",IF(COUNT(AD117:AM117)<>10,NA(),IF(ASTM(AI117,0)=0,0,ASTM(ASTM(AI117,0)*ASTM(AD117,3),0))))","v":""},{"$f":"IF(ISBLANK(AD117),\"\",IF(COUNT(AD117:AM117)<>10,NA(),ASTM(AE117,3)-ASTM(AE116,3)))","v":""},{"$f":"IF(ISBLANK(AD117),\"\",IF(COUNT(AD117:AM117)<>10,NA(),ASTM(CD117*ASTM(AF117,2),1)))","v":""},{"$f":"IF(ISBLANK(AD117),\"\",IF(COUNT(AD117:AM117)<>10,NA(),ASTM(ASTM($AK$142,4)*1000*(CE117/$AZ$109),1)))","v":""},"",{"$f":"IF(ISBLANK(AD117),\"\",IF(COUNT(AD117:AM117)<>10,NA(),CF117/(33705*ASTM(AD117,3))))","v":""},"",{"$f":"IF(ISBLANK(AD117),\"\",ASTM(highwayfuf(CG117)-highwayfuf(CG116),3))","v":""},{"$f":"IF(ISBLANK(AD117),\"\",IF(OR(ISNUMBER(AD117)=FALSE,ISNUMBER(AM117)=FALSE),NA(),IF(ASTM(AI117,0)=0,0,CJ117*ASTM(AM117,0))))","v":""},"",{"$f":"IF(ISBLANK(AD117),\"\",IF(COUNT(AD117:AM117)<>10,NA(),CI117*ASTM(AD117,3)))","v":""},"",{"$f":"IF(ISBLANK(AD117),\"\",IF(COUNT(AD117:AM117)<>10,NA(),CN117*ASTM(AD117,3)))","v":""},"",{"$f":"IF(ISBLANK(AD117),\"\",IF(COUNT(AD117:AM117)<>10,NA(),ASTM(mdiuf(CP117)-mdiuf(CP116),3)))","v":""},{"$f":"IF(ISBLANK(AD117),\"\",IF(COUNT(AD117:AM117)<>10,NA(),IF(ASTM(AI117,0)=0,0,CQ117*ASTM(AI117,0)/(CN117))))","v":""},"",{"$f":"IF(ISBLANK(AD117),\"\",IF(COUNT(AD117:AM117)<>10,NA(),ASTM(highwayfufalt(CP117)-highwayfufalt(CP116),3)))","v":""},"",{"$f":"IF(ISBLANK(AD117),\"\",IF(COUNT(AD117:AM117)<>10,NA(),IF(ASTM(AI117,0)=0,0,CT117*ASTM(AM117,0)/(CN117))))","v":""}]
[null,null,"Combined PHEV Composite MPGe",null,null,{"$f":"IF($J$6=\"HD 2b/3\",NA(),F32)","v":{"$error":"#N/A"}},null,null,null,null,null,null,"Charge-Sustaining FTP/Hwy (Optional):",null,null,null,12,null,null,null,null,null,null,null,null,{"$f":"IF(ISBLANK(R118),\"\",IF(OR($J$6=\"HD 2b/3\",COUNT(R118:W118)<>6,$AA$143<>\"Yes\",$AA$145<>\"Yes\"),NA(),IF(ASTM(W118,0)=0,0,ASTM((51740000*$T$142*$T$143)/((($T$142*U118)+(0.429*V118)+(0.273*W118))*((0.6*$T$143*$T$144)+5471)),1))))","v":""},{"$f":"IF(ISBLANK(R118),\"\",IF(OR(AND($J$6<>\"HD 2b/3\",COUNT(R118:W118)<>6),AND($J$6=\"HD 2b/3\",COUNT(R118)+COUNT(W118)<>2),$AA$143<>\"Yes\",$AA$145<>\"Yes\"),NA(),IF(ASTM(W118,0)=0,0,IF($J$6=\"HD 2b/3\",W118,ASTM((($T$142/0.273)*U118)+(1.571*V118)+W118,0)))))","v":""},null,12,null,null,null,null,null,null,null,null,{"$f":"IF(ISBLANK(AD118),\"\",IF(OR($J$6=\"HD 2b/3\",COUNT(AD118:AI118)<>6,$AM$47<>\"Yes\",$AM$49<>\"Yes\"),NA(),IF(ASTM(AI118,0)=0,0,ASTM((51740000*$AF$46*$AF$47)/((($AF$46*AG118)+(0.429*AH118)+(0.273*AI118))*((0.6*$AF$47*$AF$48)+5471)),1))))","v":""},{"$f":"IF(ISBLANK(AD118),\"\",IF(OR(AND($J$6<>\"HD 2b/3\",COUNT(AD118:AI118)<>6),AND($J$6=\"HD 2b/3\",COUNT(AD118)+COUNT(AI118)<>2),$AM$143<>\"Yes\",$AM$145<>\"Yes\"),NA(),IF(ASTM(AI118,0)=0,0,IF($J$6=\"HD 2b/3\",AI118,ASTM((($AF$142/0.273)*AG118)+(1.571*AH118)+AI118,0)))))","v":""},null,null,null,"CS Fuel Economy (MPG) [0]",{"$f":"IF($J$6=\"HD 2b/3\",NA(),IFERROR(ASTM(N108,4),0))","v":0},{"$f":"IF($J$6=\"HD 2b/3\",NA(),IFERROR(ASTM(O108,4),0))","v":0},{"$f":"IF($J$6=\"HD 2b/3\",NA(),IFERROR(ASTM(1/(0.55/AR118+0.45/AS118),0),0))","v":0},null,null,"NEW","CD AC electricity consumption rate (Rcda), unadjusted  (kW-hr/100mi) [3]",{"$f":"IF($J$6=\"HD 2b/3\",NA(),ASTM(IFERROR((IFERROR( ( SUMIF(BD107:BD141,\"<=\" & (AY130-1),BI107:BI141) + AY129*SUMIF(BD107:BD141,\"=\" & (AY130-1),BI107:BI141) ) / AY102 *100 / 1000, 0)),0),3))","v":0},{"$f":"IF($J$6=\"HD 2b/3\",NA(),ASTM(IFERROR((IFERROR( ( SUMIF(CA107:CA141,\"<=\" & (AZ130-1),CF107:CF141) + AZ129*SUMIF(CA107:CA141,\"=\" & (AZ130-1),CF107:CF141) ) / AZ102 *100 / 1000, 0)),0),3))","v":0},null,null,null,12,{"$f":"IF(ISBLANK(R118),\"\",IF(COUNT(R118:AA118)<>10,NA(),IF(ASTM(W118,0)=0,0,IFERROR(ASTM(R118,3)/ASTM(Z118,1),0))))","v":""},{"$f":"IF(ISBLANK(R118),\"\",IF(COUNT(R118:AA118)<>10,NA(),IF(W118=0,0,ASTM(ASTM(W118,0)*ASTM(R118,3),0))))","v":""},{"$f":"IF(ISBLANK(R118),\"\",IF(COUNT(R118:AA118)<>10,NA(),ASTM(S118,3)-ASTM(S117,3)))","v":""},{"$f":"IF(ISBLANK(R118),\"\",IF(COUNT(R118:AA118)<>10,NA(),ASTM(BG118*ASTM(T118,2),1)))","v":""},{"$f":"IF(ISBLANK(R118),\"\",IF(COUNT(R118:AA118)<>10,NA(),ASTM(ASTM($Y$142,4)*1000*(BH118/$AY$109),1)))","v":""},"",{"$f":"IF(ISBLANK(R118),\"\",IF(COUNT(R118:AA118)<>10,NA(),BI118/(33705*ASTM(R118,3))))","v":""},"",{"$f":"IF(ISBLANK(R118),\"\",IFERROR(ASTM(cityfuf(BJ118)-cityfuf(BJ117),3),\"\"))","v":""},{"$f":"IF(ISBLANK(R118),\"\",IF(OR(ISNUMBER(R118)=FALSE,ISNUMBER(AA118)=FALSE),NA(),IF(ASTM(W118,0)=0,0,BM118*ASTM(AA118,0))))","v":""},"",{"$f":"IF(ISBLANK(R118),\"\",IF(COUNT(R118:AA118)<>10,NA(),BL118*ASTM(R118,3)))","v":""},"",{"$f":"IF(ISBLANK(R118),\"\",IF(COUNT(R118:AA118)<>10,NA(),BQ118*ASTM(R118,3)))","v":""},"",{"$f":"IF(ISBLANK(R118),\"\",IF(COUNT(R118:AA118)<>10,NA(),ASTM(mdiuf(BS118),3)-ASTM(mdiuf(BS117),3)))","v":""},{"$f":"IF(ISBLANK(R118),\"\",IF(COUNT(R118:AA118)<>10,NA(),IF(ASTM(W118,0)=0,0,BT118*ASTM(W118,0)/(BQ118))))","v":""},"",{"$f":"IF(ISBLANK(R118),\"\",IF(COUNT(R118:AA118)<>10,NA(),ASTM(cityfufalt(BS118)-cityfufalt(BS117),3)))","v":""},"",{"$f":"IF(ISBLANK(R118),\"\",IF(COUNT(R118:AA118)<>10,NA(),IF(ASTM(W118,0)=0,0,BW118*ASTM(AA118,0)/(BQ118))))","v":""},null,12,{"$f":"IF(ISBLANK(AD118),\"\",IF(COUNT(AD118:AM118)<>10,NA(),IF(ASTM(AI118,0)=0,0,ASTM(AD118,3)/ASTM(AL118,1))))","v":""},{"$f":"IF(ISBLANK(AD118),\"\",IF(COUNT(AD118:AM118)<>10,NA(),IF(ASTM(AI118,0)=0,0,ASTM(ASTM(AI118,0)*ASTM(AD118,3),0))))","v":""},{"$f":"IF(ISBLANK(AD118),\"\",IF(COUNT(AD118:AM118)<>10,NA(),ASTM(AE118,3)-ASTM(AE117,3)))","v":""},{"$f":"IF(ISBLANK(AD118),\"\",IF(COUNT(AD118:AM118)<>10,NA(),ASTM(CD118*ASTM(AF118,2),1)))","v":""},{"$f":"IF(ISBLANK(AD118),\"\",IF(COUNT(AD118:AM118)<>10,NA(),ASTM(ASTM($AK$142,4)*1000*(CE118/$AZ$109),1)))","v":""},"",{"$f":"IF(ISBLANK(AD118),\"\",IF(COUNT(AD118:AM118)<>10,NA(),CF118/(33705*ASTM(AD118,3))))","v":""},"",{"$f":"IF(ISBLANK(AD118),\"\",ASTM(highwayfuf(CG118)-highwayfuf(CG117),3))","v":""},{"$f":"IF(ISBLANK(AD118),\"\",IF(OR(ISNUMBER(AD118)=FALSE,ISNUMBER(AM118)=FALSE),NA(),IF(ASTM(AI118,0)=0,0,CJ118*ASTM(AM118,0))))","v":""},"",{"$f":"IF(ISBLANK(AD118),\"\",IF(COUNT(AD118:AM118)<>10,NA(),CI118*ASTM(AD118,3)))","v":""},"",{"$f":"IF(ISBLANK(AD118),\"\",IF(COUNT(AD118:AM118)<>10,NA(),CN118*ASTM(AD118,3)))","v":""},"",{"$f":"IF(ISBLANK(AD118),\"\",IF(COUNT(AD118:AM118)<>10,NA(),ASTM(mdiuf(CP118)-mdiuf(CP117),3)))","v":""},{"$f":"IF(ISBLANK(AD118),\"\",IF(COUNT(AD118:AM118)<>10,NA(),IF(ASTM(AI118,0)=0,0,CQ118*ASTM(AI118,0)/(CN118))))","v":""},"",{"$f":"IF(ISBLANK(AD118),\"\",IF(COUNT(AD118:AM118)<>10,NA(),ASTM(highwayfufalt(CP118)-highwayfufalt(CP117),3)))","v":""},"",{"$f":"IF(ISBLANK(AD118),\"\",IF(COUNT(AD118:AM118)<>10,NA(),IF(ASTM(AI118,0)=0,0,CT118*ASTM(AM118,0)/(CN118))))","v":""}]
[null,null,"Composite CO2 (Adjusted)",null,null,"g/mi",null,null,null,null,null,null,"Charge-Sustaining FTP/Hwy (Optional):",null,null,null,13,null,null,null,null,null,null,null,null,{"$f":"IF(ISBLANK(R119),\"\",IF(OR($J$6=\"HD 2b/3\",COUNT(R119:W119)<>6,$AA$143<>\"Yes\",$AA$145<>\"Yes\"),NA(),IF(ASTM(W119,0)=0,0,ASTM((51740000*$T$142*$T$143)/((($T$142*U119)+(0.429*V119)+(0.273*W119))*((0.6*$T$143*$T$144)+5471)),1))))","v":""},{"$f":"IF(ISBLANK(R119),\"\",IF(OR(AND($J$6<>\"HD 2b/3\",COUNT(R119:W119)<>6),AND($J$6=\"HD 2b/3\",COUNT(R119)+COUNT(W119)<>2),$AA$143<>\"Yes\",$AA$145<>\"Yes\"),NA(),IF(ASTM(W119,0)=0,0,IF($J$6=\"HD 2b/3\",W119,ASTM((($T$142/0.273)*U119)+(1.571*V119)+W119,0)))))","v":""},null,13,null,null,null,null,null,null,null,null,{"$f":"IF(ISBLANK(AD119),\"\",IF(OR($J$6=\"HD 2b/3\",COUNT(AD119:AI119)<>6,$AM$47<>\"Yes\",$AM$49<>\"Yes\"),NA(),IF(ASTM(AI119,0)=0,0,ASTM((51740000*$AF$46*$AF$47)/((($AF$46*AG119)+(0.429*AH119)+(0.273*AI119))*((0.6*$AF$47*$AF$48)+5471)),1))))","v":""},{"$f":"IF(ISBLANK(AD119),\"\",IF(OR(AND($J$6<>\"HD 2b/3\",COUNT(AD119:AI119)<>6),AND($J$6=\"HD 2b/3\",COUNT(AD119)+COUNT(AI119)<>2),$AM$143<>\"Yes\",$AM$145<>\"Yes\"),NA(),IF(ASTM(AI119,0)=0,0,IF($J$6=\"HD 2b/3\",AI119,ASTM((($AF$142/0.273)*AG119)+(1.571*AH119)+AI119,0)))))","v":""},null,null,null,"CS Fuel Consumption (gal/100mi) [1]",{"$f":"IF($J$6=\"HD 2b/3\",NA(),IFERROR(ASTM(100/AR118,1),0))","v":0},{"$f":"IF($J$6=\"HD 2b/3\",NA(),IFERROR(ASTM(100/AS118,1),0))","v":0},{"$f":"IF($J$6=\"HD 2b/3\",NA(),IFERROR(ASTM(100/AT118,1),0))","v":0},null,null,null,"GHG EMISSIONS VALUES","CITY","HIGHWAY",null,null,null,13,{"$f":"IF(ISBLANK(R119),\"\",IF(COUNT(R119:AA119)<>10,NA(),IF(ASTM(W119,0)=0,0,IFERROR(ASTM(R119,3)/ASTM(Z119,1),0))))","v":""},{"$f":"IF(ISBLANK(R119),\"\",IF(COUNT(R119:AA119)<>10,NA(),IF(W119=0,0,ASTM(ASTM(W119,0)*ASTM(R119,3),0))))","v":""},{"$f":"IF(ISBLANK(R119),\"\",IF(COUNT(R119:AA119)<>10,NA(),ASTM(S119,3)-ASTM(S118,3)))","v":""},{"$f":"IF(ISBLANK(R119),\"\",IF(COUNT(R119:AA119)<>10,NA(),ASTM(BG119*ASTM(T119,2),1)))","v":""},{"$f":"IF(ISBLANK(R119),\"\",IF(COUNT(R119:AA119)<>10,NA(),ASTM(ASTM($Y$142,4)*1000*(BH119/$AY$109),1)))","v":""},"",{"$f":"IF(ISBLANK(R119),\"\",IF(COUNT(R119:AA119)<>10,NA(),BI119/(33705*ASTM(R119,3))))","v":""},"",{"$f":"IF(ISBLANK(R119),\"\",IFERROR(ASTM(cityfuf(BJ119)-cityfuf(BJ118),3),\"\"))","v":""},{"$f":"IF(ISBLANK(R119),\"\",IF(OR(ISNUMBER(R119)=FALSE,ISNUMBER(AA119)=FALSE),NA(),IF(ASTM(W119,0)=0,0,BM119*ASTM(AA119,0))))","v":""},"",{"$f":"IF(ISBLANK(R119),\"\",IF(COUNT(R119:AA119)<>10,NA(),BL119*ASTM(R119,3)))","v":""},"",{"$f":"IF(ISBLANK(R119),\"\",IF(COUNT(R119:AA119)<>10,NA(),BQ119*ASTM(R119,3)))","v":""},"",{"$f":"IF(ISBLANK(R119),\"\",IF(COUNT(R119:AA119)<>10,NA(),ASTM(mdiuf(BS119),3)-ASTM(mdiuf(BS118),3)))","v":""},{"$f":"IF(ISBLANK(R119),\"\",IF(COUNT(R119:AA119)<>10,NA(),IF(ASTM(W119,0)=0,0,BT119*ASTM(W119,0)/(BQ119))))","v":""},"",{"$f":"IF(ISBLANK(R119),\"\",IF(COUNT(R119:AA119)<>10,NA(),ASTM(cityfufalt(BS119)-cityfufalt(BS118),3)))","v":""},"",{"$f":"IF(ISBLANK(R119),\"\",IF(COUNT(R119:AA119)<>10,NA(),IF(ASTM(W119,0)=0,0,BW119*ASTM(AA119,0)/(BQ119))))","v":""},null,13,{"$f":"IF(ISBLANK(AD119),\"\",IF(COUNT(AD119:AM119)<>10,NA(),IF(ASTM(AI119,0)=0,0,ASTM(AD119,3)/ASTM(AL119,1))))","v":""},{"$f":"IF(ISBLANK(AD119),\"\",IF(COUNT(AD119:AM119)<>10,NA(),IF(ASTM(AI119,0)=0,0,ASTM(ASTM(AI119,0)*ASTM(AD119,3),0))))","v":""},{"$f":"IF(ISBLANK(AD119),\"\",IF(COUNT(AD119:AM119)<>10,NA(),ASTM(AE119,3)-ASTM(AE118,3)))","v":""},{"$f":"IF(ISBLANK(AD119),\"\",IF(COUNT(AD119:AM119)<>10,NA(),ASTM(CD119*ASTM(AF119,2),1)))","v":""},{"$f":"IF(ISBLANK(AD119),\"\",IF(COUNT(AD119:AM119)<>10,NA(),ASTM(ASTM($AK$142,4)*1000*(CE119/$AZ$109),1)))","v":""},"",{"$f":"IF(ISBLANK(AD119),\"\",IF(COUNT(AD119:AM119)<>10,NA(),CF119/(33705*ASTM(AD119,3))))","v":""},"",{"$f":"IF(ISBLANK(AD119),\"\",ASTM(highwayfuf(CG119)-highwayfuf(CG118),3))","v":""},{"$f":"IF(ISBLANK(AD119),\"\",IF(OR(ISNUMBER(AD119)=FALSE,ISNUMBER(AM119)=FALSE),NA(),IF(ASTM(AI119,0)=0,0,CJ119*ASTM(AM119,0))))","v":""},"",{"$f":"IF(ISBLANK(AD119),\"\",IF(COUNT(AD119:AM119)<>10,NA(),CI119*ASTM(AD119,3)))","v":""},"",{"$f":"IF(ISBLANK(AD119),\"\",IF(COUNT(AD119:AM119)<>10,NA(),CN119*ASTM(AD119,3)))","v":""},"",{"$f":"IF(ISBLANK(AD119),\"\",IF(COUNT(AD119:AM119)<>10,NA(),ASTM(mdiuf(CP119)-mdiuf(CP118),3)))","v":""},{"$f":"IF(ISBLANK(AD119),\"\",IF(COUNT(AD119:AM119)<>10,NA(),IF(ASTM(AI119,0)=0,0,CQ119*ASTM(AI119,0)/(CN119))))","v":""},"",{"$f":"IF(ISBLANK(AD119),\"\",IF(COUNT(AD119:AM119)<>10,NA(),ASTM(highwayfufalt(CP119)-highwayfufalt(CP118),3)))","v":""},"",{"$f":"IF(ISBLANK(AD119),\"\",IF(COUNT(AD119:AM119)<>10,NA(),IF(ASTM(AI119,0)=0,0,CT119*ASTM(AM119,0)/(CN119))))","v":""}]
[null,null,"City CO2-PHEV Composite Rounded Adjusted CO2",null,null,{"$f":"IF($J$6=\"HD 2b/3\",NA(),ASTM(D31,0))","v":{"$error":"#VALUE!"}},null,null,null,null,null,null,null,null,null,null,14,null,null,null,null,null,null,null,null,{"$f":"IF(ISBLANK(R120),\"\",IF(OR($J$6=\"HD 2b/3\",COUNT(R120:W120)<>6,$AA$143<>\"Yes\",$AA$145<>\"Yes\"),NA(),IF(ASTM(W120,0)=0,0,ASTM((51740000*$T$142*$T$143)/((($T$142*U120)+(0.429*V120)+(0.273*W120))*((0.6*$T$143*$T$144)+5471)),1))))","v":""},{"$f":"IF(ISBLANK(R120),\"\",IF(OR(AND($J$6<>\"HD 2b/3\",COUNT(R120:W120)<>6),AND($J$6=\"HD 2b/3\",COUNT(R120)+COUNT(W120)<>2),$AA$143<>\"Yes\",$AA$145<>\"Yes\"),NA(),IF(ASTM(W120,0)=0,0,IF($J$6=\"HD 2b/3\",W120,ASTM((($T$142/0.273)*U120)+(1.571*V120)+W120,0)))))","v":""},null,14,null,null,null,null,null,null,null,null,{"$f":"IF(ISBLANK(AD120),\"\",IF(OR($J$6=\"HD 2b/3\",COUNT(AD120:AI120)<>6,$AM$47<>\"Yes\",$AM$49<>\"Yes\"),NA(),IF(ASTM(AI120,0)=0,0,ASTM((51740000*$AF$46*$AF$47)/((($AF$46*AG120)+(0.429*AH120)+(0.273*AI120))*((0.6*$AF$47*$AF$48)+5471)),1))))","v":""},{"$f":"IF(ISBLANK(AD120),\"\",IF(OR(AND($J$6<>\"HD 2b/3\",COUNT(AD120:AI120)<>6),AND($J$6=\"HD 2b/3\",COUNT(AD120)+COUNT(AI120)<>2),$AM$143<>\"Yes\",$AM$145<>\"Yes\"),NA(),IF(ASTM(AI120,0)=0,0,IF($J$6=\"HD 2b/3\",AI120,ASTM((($AF$142/0.273)*AG120)+(1.571*AH120)+AI120,0)))))","v":""},null,null,null,"Composite CD/CS",null,null,"Combined",null,null,null,"CD CO2 emissions rate (Rcda), unadjusted (g/mi) [1]",{"$f":"IF($J$6=\"HD 2b/3\",NA(),IFERROR(ASTM((SUMIF(BD107:BD141,\"<=\" & AY130-1,BF107:BF141)+AY129*SUMIF(BD107:BD141,\"=\" & AY130-1,BF107:BF141))/AY102,1),0))","v":0},{"$f":"IF($J$6=\"HD 2b/3\",NA(),IFERROR(ASTM((SUMIF(CA107:CA141,\"<=\" & AZ130-1,CC107:CC141)+AZ129*SUMIF(CA107:CA141,\"=\" & AZ130-1,CC107:CC141))/AZ102,1),0))","v":0},null,null,null,14,{"$f":"IF(ISBLANK(R120),\"\",IF(COUNT(R120:AA120)<>10,NA(),IF(ASTM(W120,0)=0,0,IFERROR(ASTM(R120,3)/ASTM(Z120,1),0))))","v":""},{"$f":"IF(ISBLANK(R120),\"\",IF(COUNT(R120:AA120)<>10,NA(),IF(W120=0,0,ASTM(ASTM(W120,0)*ASTM(R120,3),0))))","v":""},{"$f":"IF(ISBLANK(R120),\"\",IF(COUNT(R120:AA120)<>10,NA(),ASTM(S120,3)-ASTM(S119,3)))","v":""},{"$f":"IF(ISBLANK(R120),\"\",IF(COUNT(R120:AA120)<>10,NA(),ASTM(BG120*ASTM(T120,2),1)))","v":""},{"$f":"IF(ISBLANK(R120),\"\",IF(COUNT(R120:AA120)<>10,NA(),ASTM(ASTM($Y$142,4)*1000*(BH120/$AY$109),1)))","v":""},"",{"$f":"IF(ISBLANK(R120),\"\",IF(COUNT(R120:AA120)<>10,NA(),BI120/(33705*ASTM(R120,3))))","v":""},"",{"$f":"IF(ISBLANK(R120),\"\",IFERROR(ASTM(cityfuf(BJ120)-cityfuf(BJ119),3),\"\"))","v":""},{"$f":"IF(ISBLANK(R120),\"\",IF(OR(ISNUMBER(R120)=FALSE,ISNUMBER(AA120)=FALSE),NA(),IF(ASTM(W120,0)=0,0,BM120*ASTM(AA120,0))))","v":""},"",{"$f":"IF(ISBLANK(R120),\"\",IF(COUNT(R120:AA120)<>10,NA(),BL120*ASTM(R120,3)))","v":""},"",{"$f":"IF(ISBLANK(R120),\"\",IF(COUNT(R120:AA120)<>10,NA(),BQ120*ASTM(R120,3)))","v":""},"",{"$f":"IF(ISBLANK(R120),\"\",IF(COUNT(R120:AA120)<>10,NA(),ASTM(mdiuf(BS120),3)-ASTM(mdiuf(BS119),3)))","v":""},{"$f":"IF(ISBLANK(R120),\"\",IF(COUNT(R120:AA120)<>10,NA(),IF(ASTM(W120,0)=0,0,BT120*ASTM(W120,0)/(BQ120))))","v":""},"",{"$f":"IF(ISBLANK(R120),\"\",IF(COUNT(R120:AA120)<>10,NA(),ASTM(cityfufalt(BS120)-cityfufalt(BS119),3)))","v":""},"",{"$f":"IF(ISBLANK(R120),\"\",IF(COUNT(R120:AA120)<>10,NA(),IF(ASTM(W120,0)=0,0,BW120*ASTM(AA120,0)/(BQ120))))","v":""},null,14,{"$f":"IF(ISBLANK(AD120),\"\",IF(COUNT(AD120:AM120)<>10,NA(),IF(ASTM(AI120,0)=0,0,ASTM(AD120,3)/ASTM(AL120,1))))","v":""},{"$f":"IF(ISBLANK(AD120),\"\",IF(COUNT(AD120:AM120)<>10,NA(),IF(ASTM(AI120,0)=0,0,ASTM(ASTM(AI120,0)*ASTM(AD120,3),0))))","v":""},{"$f":"IF(ISBLANK(AD120),\"\",IF(COUNT(AD120:AM120)<>10,NA(),ASTM(AE120,3)-ASTM(AE119,3)))","v":""},{"$f":"IF(ISBLANK(AD120),\"\",IF(COUNT(AD120:AM120)<>10,NA(),ASTM(CD120*ASTM(AF120,2),1)))","v":""},{"$f":"IF(ISBLANK(AD120),\"\",IF(COUNT(AD120:AM120)<>10,NA(),ASTM(ASTM($AK$142,4)*1000*(CE120/$AZ$109),1)))","v":""},"",{"$f":"IF(ISBLANK(AD120),\"\",IF(COUNT(AD120:AM120)<>10,NA(),CF120/(33705*ASTM(AD120,3))))","v":""},"",{"$f":"IF(ISBLANK(AD120),\"\",ASTM(highwayfuf(CG120)-highwayfuf(CG119),3))","v":""},{"$f":"IF(ISBLANK(AD120),\"\",IF(OR(ISNUMBER(AD120)=FALSE,ISNUMBER(AM120)=FALSE),NA(),IF(ASTM(AI120,0)=0,0,CJ120*ASTM(AM120,0))))","v":""},"",{"$f":"IF(ISBLANK(AD120),\"\",IF(COUNT(AD120:AM120)<>10,NA(),CI120*ASTM(AD120,3)))","v":""},"",{"$f":"IF(ISBLANK(AD120),\"\",IF(COUNT(AD120:AM120)<>10,NA(),CN120*ASTM(AD120,3)))","v":""},"",{"$f":"IF(ISBLANK(AD120),\"\",IF(COUNT(AD120:AM120)<>10,NA(),ASTM(mdiuf(CP120)-mdiuf(CP119),3)))","v":""},{"$f":"IF(ISBLANK(AD120),\"\",IF(COUNT(AD120:AM120)<>10,NA(),IF(ASTM(AI120,0)=0,0,CQ120*ASTM(AI120,0)/(CN120))))","v":""},"",{"$f":"IF(ISBLANK(AD120),\"\",IF(COUNT(AD120:AM120)<>10,NA(),ASTM(highwayfufalt(CP120)-highwayfufalt(CP119),3)))","v":""},"",{"$f":"IF(ISBLANK(AD120),\"\",IF(COUNT(AD120:AM120)<>10,NA(),IF(ASTM(AI120,0)=0,0,CT120*ASTM(AM120,0)/(CN120))))","v":""}]
[null,null,"Hwy CO2-PHEV Composite Rounded Adjusted CO2",null,null,{"$f":"IF($J$6=\"HD 2b/3\",NA(),ASTM(E31,0))","v":{"$error":"#VALUE!"}},null,null,null,null,null,null,"ENTER ADDITIONAL CHARGE-SUSTAINING 5-CYCLE TEST NUMBERS HERE",null,null,null,15,null,null,null,null,null,null,null,null,{"$f":"IF(ISBLANK(R121),\"\",IF(OR($J$6=\"HD 2b/3\",COUNT(R121:W121)<>6,$AA$143<>\"Yes\",$AA$145<>\"Yes\"),NA(),IF(ASTM(W121,0)=0,0,ASTM((51740000*$T$142*$T$143)/((($T$142*U121)+(0.429*V121)+(0.273*W121))*((0.6*$T$143*$T$144)+5471)),1))))","v":""},{"$f":"IF(ISBLANK(R121),\"\",IF(OR(AND($J$6<>\"HD 2b/3\",COUNT(R121:W121)<>6),AND($J$6=\"HD 2b/3\",COUNT(R121)+COUNT(W121)<>2),$AA$143<>\"Yes\",$AA$145<>\"Yes\"),NA(),IF(ASTM(W121,0)=0,0,IF($J$6=\"HD 2b/3\",W121,ASTM((($T$142/0.273)*U121)+(1.571*V121)+W121,0)))))","v":""},null,15,null,null,null,null,null,null,null,null,{"$f":"IF(ISBLANK(AD121),\"\",IF(OR($J$6=\"HD 2b/3\",COUNT(AD121:AI121)<>6,$AM$47<>\"Yes\",$AM$49<>\"Yes\"),NA(),IF(ASTM(AI121,0)=0,0,ASTM((51740000*$AF$46*$AF$47)/((($AF$46*AG121)+(0.429*AH121)+(0.273*AI121))*((0.6*$AF$47*$AF$48)+5471)),1))))","v":""},{"$f":"IF(ISBLANK(AD121),\"\",IF(OR(AND($J$6<>\"HD 2b/3\",COUNT(AD121:AI121)<>6),AND($J$6=\"HD 2b/3\",COUNT(AD121)+COUNT(AI121)<>2),$AM$143<>\"Yes\",$AM$145<>\"Yes\"),NA(),IF(ASTM(AI121,0)=0,0,IF($J$6=\"HD 2b/3\",AI121,ASTM((($AF$142/0.273)*AG121)+(1.571*AH121)+AI121,0)))))","v":""},null,null,null,"Annual Fuel Cost ($/year) [0]",null,null,{"$f":"IF($J$6=\"HD 2b/3\",NA(),ASTM(    IFERROR(15000*ASTM(0.55*AY142+0.45*AZ142,3),0)/50,0) * 50)","v":0},null,null,"NEW","CD CO2 emissions rate (Rcda), adjusted (g/mi) [1]",{"$f":"IF($J$6=\"HD 2b/3\",NA(),IFERROR(ASTM( IFERROR((SUMIF(BD107:BD141,\"<=\" & AY130-1,BF107:BF141)+AY129*SUMIF(BD107:BD141,\"=\" & AY130-1,BF107:BF141))/AY103,#VALUE!), 1),0))","v":0},{"$f":"IF($J$6=\"HD 2b/3\",NA(),IFERROR(ASTM( IFERROR((SUMIF(CA107:CA141,\"<=\" & AZ130-1,CC107:CC141)+AZ129*SUMIF(CA107:CA141,\"=\" & AZ130-1,CC107:CC141))/AZ103,#VALUE!), 1),0))","v":0},null,null,null,15,{"$f":"IF(ISBLANK(R121),\"\",IF(COUNT(R121:AA121)<>10,NA(),IF(ASTM(W121,0)=0,0,IFERROR(ASTM(R121,3)/ASTM(Z121,1),0))))","v":""},{"$f":"IF(ISBLANK(R121),\"\",IF(COUNT(R121:AA121)<>10,NA(),IF(W121=0,0,ASTM(ASTM(W121,0)*ASTM(R121,3),0))))","v":""},{"$f":"IF(ISBLANK(R121),\"\",IF(COUNT(R121:AA121)<>10,NA(),ASTM(S121,3)-ASTM(S120,3)))","v":""},{"$f":"IF(ISBLANK(R121),\"\",IF(COUNT(R121:AA121)<>10,NA(),ASTM(BG121*ASTM(T121,2),1)))","v":""},{"$f":"IF(ISBLANK(R121),\"\",IF(COUNT(R121:AA121)<>10,NA(),ASTM(ASTM($Y$142,4)*1000*(BH121/$AY$109),1)))","v":""},"",{"$f":"IF(ISBLANK(R121),\"\",IF(COUNT(R121:AA121)<>10,NA(),BI121/(33705*ASTM(R121,3))))","v":""},"",{"$f":"IF(ISBLANK(R121),\"\",IFERROR(ASTM(cityfuf(BJ121)-cityfuf(BJ120),3),\"\"))","v":""},{"$f":"IF(ISBLANK(R121),\"\",IF(OR(ISNUMBER(R121)=FALSE,ISNUMBER(AA121)=FALSE),NA(),IF(ASTM(W121,0)=0,0,BM121*ASTM(AA121,0))))","v":""},"",{"$f":"IF(ISBLANK(R121),\"\",IF(COUNT(R121:AA121)<>10,NA(),BL121*ASTM(R121,3)))","v":""},"",{"$f":"IF(ISBLANK(R121),\"\",IF(COUNT(R121:AA121)<>10,NA(),BQ121*ASTM(R121,3)))","v":""},"",{"$f":"IF(ISBLANK(R121),\"\",IF(COUNT(R121:AA121)<>10,NA(),ASTM(mdiuf(BS121),3)-ASTM(mdiuf(BS120),3)))","v":""},{"$f":"IF(ISBLANK(R121),\"\",IF(COUNT(R121:AA121)<>10,NA(),IF(ASTM(W121,0)=0,0,BT121*ASTM(W121,0)/(BQ121))))","v":""},"",{"$f":"IF(ISBLANK(R121),\"\",IF(COUNT(R121:AA121)<>10,NA(),ASTM(cityfufalt(BS121)-cityfufalt(BS120),3)))","v":""},"",{"$f":"IF(ISBLANK(R121),\"\",IF(COUNT(R121:AA121)<>10,NA(),IF(ASTM(W121,0)=0,0,BW121*ASTM(AA121,0)/(BQ121))))","v":""},null,15,{"$f":"IF(ISBLANK(AD121),\"\",IF(COUNT(AD121:AM121)<>10,NA(),IF(ASTM(AI121,0)=0,0,ASTM(AD121,3)/ASTM(AL121,1))))","v":""},{"$f":"IF(ISBLANK(AD121),\"\",IF(COUNT(AD121:AM121)<>10,NA(),IF(ASTM(AI121,0)=0,0,ASTM(ASTM(AI121,0)*ASTM(AD121,3),0))))","v":""},{"$f":"IF(ISBLANK(AD121),\"\",IF(COUNT(AD121:AM121)<>10,NA(),ASTM(AE121,3)-ASTM(AE120,3)))","v":""},{"$f":"IF(ISBLANK(AD121),\"\",IF(COUNT(AD121:AM121)<>10,NA(),ASTM(CD121*ASTM(AF121,2),1)))","v":""},{"$f":"IF(ISBLANK(AD121),\"\",IF(COUNT(AD121:AM121)<>10,NA(),ASTM(ASTM($AK$142,4)*1000*(CE121/$AZ$109),1)))","v":""},"",{"$f":"IF(ISBLANK(AD121),\"\",IF(COUNT(AD121:AM121)<>10,NA(),CF121/(33705*ASTM(AD121,3))))","v":""},"",{"$f":"IF(ISBLANK(AD121),\"\",ASTM(highwayfuf(CG121)-highwayfuf(CG120),3))","v":""},{"$f":"IF(ISBLANK(AD121),\"\",IF(OR(ISNUMBER(AD121)=FALSE,ISNUMBER(AM121)=FALSE),NA(),IF(ASTM(AI121,0)=0,0,CJ121*ASTM(AM121,0))))","v":""},"",{"$f":"IF(ISBLANK(AD121),\"\",IF(COUNT(AD121:AM121)<>10,NA(),CI121*ASTM(AD121,3)))","v":""},"",{"$f":"IF(ISBLANK(AD121),\"\",IF(COUNT(AD121:AM121)<>10,NA(),CN121*ASTM(AD121,3)))","v":""},"",{"$f":"IF(ISBLANK(AD121),\"\",IF(COUNT(AD121:AM121)<>10,NA(),ASTM(mdiuf(CP121)-mdiuf(CP120),3)))","v":""},{"$f":"IF(ISBLANK(AD121),\"\",IF(COUNT(AD121:AM121)<>10,NA(),IF(ASTM(AI121,0)=0,0,CQ121*ASTM(AI121,0)/(CN121))))","v":""},"",{"$f":"IF(ISBLANK(AD121),\"\",IF(COUNT(AD121:AM121)<>10,NA(),ASTM(highwayfufalt(CP121)-highwayfufalt(CP120),3)))","v":""},"",{"$f":"IF(ISBLANK(AD121),\"\",IF(COUNT(AD121:AM121)<>10,NA(),IF(ASTM(AI121,0)=0,0,CT121*ASTM(AM121,0)/(CN121))))","v":""}]
[null,null,"CO2-PHEV Composite Rounded Adjusted CO2",null,null,{"$f":"IF($J$6=\"HD 2b/3\",NA(),F31)","v":{"$error":"#N/A"}},null,null,null,null,null,null,null,"Test Procedure","Test Number",null,16,null,null,null,null,null,null,null,null,{"$f":"IF(ISBLANK(R122),\"\",IF(OR($J$6=\"HD 2b/3\",COUNT(R122:W122)<>6,$AA$143<>\"Yes\",$AA$145<>\"Yes\"),NA(),IF(ASTM(W122,0)=0,0,ASTM((51740000*$T$142*$T$143)/((($T$142*U122)+(0.429*V122)+(0.273*W122))*((0.6*$T$143*$T$144)+5471)),1))))","v":""},{"$f":"IF(ISBLANK(R122),\"\",IF(OR(AND($J$6<>\"HD 2b/3\",COUNT(R122:W122)<>6),AND($J$6=\"HD 2b/3\",COUNT(R122)+COUNT(W122)<>2),$AA$143<>\"Yes\",$AA$145<>\"Yes\"),NA(),IF(ASTM(W122,0)=0,0,IF($J$6=\"HD 2b/3\",W122,ASTM((($T$142/0.273)*U122)+(1.571*V122)+W122,0)))))","v":""},null,16,null,null,null,null,null,null,null,null,{"$f":"IF(ISBLANK(AD122),\"\",IF(OR($J$6=\"HD 2b/3\",COUNT(AD122:AI122)<>6,$AM$47<>\"Yes\",$AM$49<>\"Yes\"),NA(),IF(ASTM(AI122,0)=0,0,ASTM((51740000*$AF$46*$AF$47)/((($AF$46*AG122)+(0.429*AH122)+(0.273*AI122))*((0.6*$AF$47*$AF$48)+5471)),1))))","v":""},{"$f":"IF(ISBLANK(AD122),\"\",IF(OR(AND($J$6<>\"HD 2b/3\",COUNT(AD122:AI122)<>6),AND($J$6=\"HD 2b/3\",COUNT(AD122)+COUNT(AI122)<>2),$AM$143<>\"Yes\",$AM$145<>\"Yes\"),NA(),IF(ASTM(AI122,0)=0,0,IF($J$6=\"HD 2b/3\",AI122,ASTM((($AF$142/0.273)*AG122)+(1.571*AH122)+AI122,0)))))","v":""},null,null,null,"5-Year Fuel Savings Value ($/5 years) [0]",null,null,{"$f":"IF($J$6=\"HD 2b/3\",NA(),$F$38-5*AT121)","v":{"$error":"#N/A"}},null,null,"NEW","CD utilitized CO2 (MDIUF, Rcdc), adjusted (g/mi) [1]",{"$f":"IF($J$6=\"HD 2b/3\",NA(),ASTM(SUMIF(BD107:BD141,\"<=\" & (AY130),BU107:BU141),1))","v":0},{"$f":"IF($J$6=\"HD 2b/3\",NA(),ASTM(SUMIF(CA107:CA141,\"<=\" & (AZ130),CR107:CR141),1))","v":0},null,null,null,16,{"$f":"IF(ISBLANK(R122),\"\",IF(COUNT(R122:AA122)<>10,NA(),IF(ASTM(W122,0)=0,0,IFERROR(ASTM(R122,3)/ASTM(Z122,1),0))))","v":""},{"$f":"IF(ISBLANK(R122),\"\",IF(COUNT(R122:AA122)<>10,NA(),IF(W122=0,0,ASTM(ASTM(W122,0)*ASTM(R122,3),0))))","v":""},{"$f":"IF(ISBLANK(R122),\"\",IF(COUNT(R122:AA122)<>10,NA(),ASTM(S122,3)-ASTM(S121,3)))","v":""},{"$f":"IF(ISBLANK(R122),\"\",IF(COUNT(R122:AA122)<>10,NA(),ASTM(BG122*ASTM(T122,2),1)))","v":""},{"$f":"IF(ISBLANK(R122),\"\",IF(COUNT(R122:AA122)<>10,NA(),ASTM(ASTM($Y$142,4)*1000*(BH122/$AY$109),1)))","v":""},"",{"$f":"IF(ISBLANK(R122),\"\",IF(COUNT(R122:AA122)<>10,NA(),BI122/(33705*ASTM(R122,3))))","v":""},"",{"$f":"IF(ISBLANK(R122),\"\",IFERROR(ASTM(cityfuf(BJ122)-cityfuf(BJ121),3),\"\"))","v":""},{"$f":"IF(ISBLANK(R122),\"\",IF(OR(ISNUMBER(R122)=FALSE,ISNUMBER(AA122)=FALSE),NA(),IF(ASTM(W122,0)=0,0,BM122*ASTM(AA122,0))))","v":""},"",{"$f":"IF(ISBLANK(R122),\"\",IF(COUNT(R122:AA122)<>10,NA(),BL122*ASTM(R122,3)))","v":""},"",{"$f":"IF(ISBLANK(R122),\"\",IF(COUNT(R122:AA122)<>10,NA(),BQ122*ASTM(R122,3)))","v":""},"",{"$f":"IF(ISBLANK(R122),\"\",IF(COUNT(R122:AA122)<>10,NA(),ASTM(mdiuf(BS122),3)-ASTM(mdiuf(BS121),3)))","v":""},{"$f":"IF(ISBLANK(R122),\"\",IF(COUNT(R122:AA122)<>10,NA(),IF(ASTM(W122,0)=0,0,BT122*ASTM(W122,0)/(BQ122))))","v":""},"",{"$f":"IF(ISBLANK(R122),\"\",IF(COUNT(R122:AA122)<>10,NA(),ASTM(cityfufalt(BS122)-cityfufalt(BS121),3)))","v":""},"",{"$f":"IF(ISBLANK(R122),\"\",IF(COUNT(R122:AA122)<>10,NA(),IF(ASTM(W122,0)=0,0,BW122*ASTM(AA122,0)/(BQ122))))","v":""},null,16,{"$f":"IF(ISBLANK(AD122),\"\",IF(COUNT(AD122:AM122)<>10,NA(),IF(ASTM(AI122,0)=0,0,ASTM(AD122,3)/ASTM(AL122,1))))","v":""},{"$f":"IF(ISBLANK(AD122),\"\",IF(COUNT(AD122:AM122)<>10,NA(),IF(ASTM(AI122,0)=0,0,ASTM(ASTM(AI122,0)*ASTM(AD122,3),0))))","v":""},{"$f":"IF(ISBLANK(AD122),\"\",IF(COUNT(AD122:AM122)<>10,NA(),ASTM(AE122,3)-ASTM(AE121,3)))","v":""},{"$f":"IF(ISBLANK(AD122),\"\",IF(COUNT(AD122:AM122)<>10,NA(),ASTM(CD122*ASTM(AF122,2),1)))","v":""},{"$f":"IF(ISBLANK(AD122),\"\",IF(COUNT(AD122:AM122)<>10,NA(),ASTM(ASTM($AK$142,4)*1000*(CE122/$AZ$109),1)))","v":""},"",{"$f":"IF(ISBLANK(AD122),\"\",IF(COUNT(AD122:AM122)<>10,NA(),CF122/(33705*ASTM(AD122,3))))","v":""},"",{"$f":"IF(ISBLANK(AD122),\"\",ASTM(highwayfuf(CG122)-highwayfuf(CG121),3))","v":""},{"$f":"IF(ISBLANK(AD122),\"\",IF(OR(ISNUMBER(AD122)=FALSE,ISNUMBER(AM122)=FALSE),NA(),IF(ASTM(AI122,0)=0,0,CJ122*ASTM(AM122,0))))","v":""},"",{"$f":"IF(ISBLANK(AD122),\"\",IF(COUNT(AD122:AM122)<>10,NA(),CI122*ASTM(AD122,3)))","v":""},"",{"$f":"IF(ISBLANK(AD122),\"\",IF(COUNT(AD122:AM122)<>10,NA(),CN122*ASTM(AD122,3)))","v":""},"",{"$f":"IF(ISBLANK(AD122),\"\",IF(COUNT(AD122:AM122)<>10,NA(),ASTM(mdiuf(CP122)-mdiuf(CP121),3)))","v":""},{"$f":"IF(ISBLANK(AD122),\"\",IF(COUNT(AD122:AM122)<>10,NA(),IF(ASTM(AI122,0)=0,0,CQ122*ASTM(AI122,0)/(CN122))))","v":""},"",{"$f":"IF(ISBLANK(AD122),\"\",IF(COUNT(AD122:AM122)<>10,NA(),ASTM(highwayfufalt(CP122)-highwayfufalt(CP121),3)))","v":""},"",{"$f":"IF(ISBLANK(AD122),\"\",IF(COUNT(AD122:AM122)<>10,NA(),IF(ASTM(AI122,0)=0,0,CT122*ASTM(AM122,0)/(CN122))))","v":""}]
[null,null,"PHEV Total Driving Range (Adjusted)",null,null,"miles",null,null,null,null,null,null,{"$f":"IF($J$6=\"HD 2b/3\",NA(),\"Charge-Sustaining Test (Optional):\")","v":"Charge-Sustaining Test (Optional):"},null,null,null,17,null,null,null,null,null,null,null,null,{"$f":"IF(ISBLANK(R123),\"\",IF(OR($J$6=\"HD 2b/3\",COUNT(R123:W123)<>6,$AA$143<>\"Yes\",$AA$145<>\"Yes\"),NA(),IF(ASTM(W123,0)=0,0,ASTM((51740000*$T$142*$T$143)/((($T$142*U123)+(0.429*V123)+(0.273*W123))*((0.6*$T$143*$T$144)+5471)),1))))","v":""},{"$f":"IF(ISBLANK(R123),\"\",IF(OR(AND($J$6<>\"HD 2b/3\",COUNT(R123:W123)<>6),AND($J$6=\"HD 2b/3\",COUNT(R123)+COUNT(W123)<>2),$AA$143<>\"Yes\",$AA$145<>\"Yes\"),NA(),IF(ASTM(W123,0)=0,0,IF($J$6=\"HD 2b/3\",W123,ASTM((($T$142/0.273)*U123)+(1.571*V123)+W123,0)))))","v":""},null,17,null,null,null,null,null,null,null,null,{"$f":"IF(ISBLANK(AD123),\"\",IF(OR($J$6=\"HD 2b/3\",COUNT(AD123:AI123)<>6,$AM$47<>\"Yes\",$AM$49<>\"Yes\"),NA(),IF(ASTM(AI123,0)=0,0,ASTM((51740000*$AF$46*$AF$47)/((($AF$46*AG123)+(0.429*AH123)+(0.273*AI123))*((0.6*$AF$47*$AF$48)+5471)),1))))","v":""},{"$f":"IF(ISBLANK(AD123),\"\",IF(OR(AND($J$6<>\"HD 2b/3\",COUNT(AD123:AI123)<>6),AND($J$6=\"HD 2b/3\",COUNT(AD123)+COUNT(AI123)<>2),$AM$143<>\"Yes\",$AM$145<>\"Yes\"),NA(),IF(ASTM(AI123,0)=0,0,IF($J$6=\"HD 2b/3\",AI123,ASTM((($AF$142/0.273)*AG123)+(1.571*AH123)+AI123,0)))))","v":""},null,null,null,"Composite CO2 (g/mi) [0]",null,null,{"$f":"IF($J$6=\"HD 2b/3\",NA(),ASTM(0.55*AY144+0.45*AZ144,0))","v":0},null,null,null,"CD utilitized CREE (55/45 FUF, Rcdc), unadjusted (g/mi) [1]",{"$f":"ASTM(SUMIF(BD107:BD141,\"<=\" & AY130,BN107:BN141),1)","v":0},{"$f":"ASTM(SUMIF(CA107:CA141,\"<=\" & AZ130,CK107:CK141),1)","v":0},null,null,null,17,{"$f":"IF(ISBLANK(R123),\"\",IF(COUNT(R123:AA123)<>10,NA(),IF(ASTM(W123,0)=0,0,IFERROR(ASTM(R123,3)/ASTM(Z123,1),0))))","v":""},{"$f":"IF(ISBLANK(R123),\"\",IF(COUNT(R123:AA123)<>10,NA(),IF(W123=0,0,ASTM(ASTM(W123,0)*ASTM(R123,3),0))))","v":""},{"$f":"IF(ISBLANK(R123),\"\",IF(COUNT(R123:AA123)<>10,NA(),ASTM(S123,3)-ASTM(S122,3)))","v":""},{"$f":"IF(ISBLANK(R123),\"\",IF(COUNT(R123:AA123)<>10,NA(),ASTM(BG123*ASTM(T123,2),1)))","v":""},{"$f":"IF(ISBLANK(R123),\"\",IF(COUNT(R123:AA123)<>10,NA(),ASTM(ASTM($Y$142,4)*1000*(BH123/$AY$109),1)))","v":""},"",{"$f":"IF(ISBLANK(R123),\"\",IF(COUNT(R123:AA123)<>10,NA(),BI123/(33705*ASTM(R123,3))))","v":""},"",{"$f":"IF(ISBLANK(R123),\"\",IFERROR(ASTM(cityfuf(BJ123)-cityfuf(BJ122),3),\"\"))","v":""},{"$f":"IF(ISBLANK(R123),\"\",IF(OR(ISNUMBER(R123)=FALSE,ISNUMBER(AA123)=FALSE),NA(),IF(ASTM(W123,0)=0,0,BM123*ASTM(AA123,0))))","v":""},"",{"$f":"IF(ISBLANK(R123),\"\",IF(COUNT(R123:AA123)<>10,NA(),BL123*ASTM(R123,3)))","v":""},"",{"$f":"IF(ISBLANK(R123),\"\",IF(COUNT(R123:AA123)<>10,NA(),BQ123*ASTM(R123,3)))","v":""},"",{"$f":"IF(ISBLANK(R123),\"\",IF(COUNT(R123:AA123)<>10,NA(),ASTM(mdiuf(BS123),3)-ASTM(mdiuf(BS122),3)))","v":""},{"$f":"IF(ISBLANK(R123),\"\",IF(COUNT(R123:AA123)<>10,NA(),IF(ASTM(W123,0)=0,0,BT123*ASTM(W123,0)/(BQ123))))","v":""},"",{"$f":"IF(ISBLANK(R123),\"\",IF(COUNT(R123:AA123)<>10,NA(),ASTM(cityfufalt(BS123)-cityfufalt(BS122),3)))","v":""},"",{"$f":"IF(ISBLANK(R123),\"\",IF(COUNT(R123:AA123)<>10,NA(),IF(ASTM(W123,0)=0,0,BW123*ASTM(AA123,0)/(BQ123))))","v":""},null,17,{"$f":"IF(ISBLANK(AD123),\"\",IF(COUNT(AD123:AM123)<>10,NA(),IF(ASTM(AI123,0)=0,0,ASTM(AD123,3)/ASTM(AL123,1))))","v":""},{"$f":"IF(ISBLANK(AD123),\"\",IF(COUNT(AD123:AM123)<>10,NA(),IF(ASTM(AI123,0)=0,0,ASTM(ASTM(AI123,0)*ASTM(AD123,3),0))))","v":""},{"$f":"IF(ISBLANK(AD123),\"\",IF(COUNT(AD123:AM123)<>10,NA(),ASTM(AE123,3)-ASTM(AE122,3)))","v":""},{"$f":"IF(ISBLANK(AD123),\"\",IF(COUNT(AD123:AM123)<>10,NA(),ASTM(CD123*ASTM(AF123,2),1)))","v":""},{"$f":"IF(ISBLANK(AD123),\"\",IF(COUNT(AD123:AM123)<>10,NA(),ASTM(ASTM($AK$142,4)*1000*(CE123/$AZ$109),1)))","v":""},"",{"$f":"IF(ISBLANK(AD123),\"\",IF(COUNT(AD123:AM123)<>10,NA(),CF123/(33705*ASTM(AD123,3))))","v":""},"",{"$f":"IF(ISBLANK(AD123),\"\",ASTM(highwayfuf(CG123)-highwayfuf(CG122),3))","v":""},{"$f":"IF(ISBLANK(AD123),\"\",IF(OR(ISNUMBER(AD123)=FALSE,ISNUMBER(AM123)=FALSE),NA(),IF(ASTM(AI123,0)=0,0,CJ123*ASTM(AM123,0))))","v":""},"",{"$f":"IF(ISBLANK(AD123),\"\",IF(COUNT(AD123:AM123)<>10,NA(),CI123*ASTM(AD123,3)))","v":""},"",{"$f":"IF(ISBLANK(AD123),\"\",IF(COUNT(AD123:AM123)<>10,NA(),CN123*ASTM(AD123,3)))","v":""},"",{"$f":"IF(ISBLANK(AD123),\"\",IF(COUNT(AD123:AM123)<>10,NA(),ASTM(mdiuf(CP123)-mdiuf(CP122),3)))","v":""},{"$f":"IF(ISBLANK(AD123),\"\",IF(COUNT(AD123:AM123)<>10,NA(),IF(ASTM(AI123,0)=0,0,CQ123*ASTM(AI123,0)/(CN123))))","v":""},"",{"$f":"IF(ISBLANK(AD123),\"\",IF(COUNT(AD123:AM123)<>10,NA(),ASTM(highwayfufalt(CP123)-highwayfufalt(CP122),3)))","v":""},"",{"$f":"IF(ISBLANK(AD123),\"\",IF(COUNT(AD123:AM123)<>10,NA(),IF(ASTM(AI123,0)=0,0,CT123*ASTM(AM123,0)/(CN123))))","v":""}]
[null,null,"PHEV Total Driving Range (Adjusted)",null,null,{"$f":"IF($J$6=\"HD 2b/3\",NA(),F21)","v":{"$error":"#VALUE!"}},null,null,null,null,null,null,{"$f":"IF($J$6=\"HD 2b/3\",NA(),\"Charge-Sustaining Test (Optional):\")","v":"Charge-Sustaining Test (Optional):"},null,null,null,18,null,null,null,null,null,null,null,null,{"$f":"IF(ISBLANK(R124),\"\",IF(OR($J$6=\"HD 2b/3\",COUNT(R124:W124)<>6,$AA$143<>\"Yes\",$AA$145<>\"Yes\"),NA(),IF(ASTM(W124,0)=0,0,ASTM((51740000*$T$142*$T$143)/((($T$142*U124)+(0.429*V124)+(0.273*W124))*((0.6*$T$143*$T$144)+5471)),1))))","v":""},{"$f":"IF(ISBLANK(R124),\"\",IF(OR(AND($J$6<>\"HD 2b/3\",COUNT(R124:W124)<>6),AND($J$6=\"HD 2b/3\",COUNT(R124)+COUNT(W124)<>2),$AA$143<>\"Yes\",$AA$145<>\"Yes\"),NA(),IF(ASTM(W124,0)=0,0,IF($J$6=\"HD 2b/3\",W124,ASTM((($T$142/0.273)*U124)+(1.571*V124)+W124,0)))))","v":""},null,18,null,null,null,null,null,null,null,null,{"$f":"IF(ISBLANK(AD124),\"\",IF(OR($J$6=\"HD 2b/3\",COUNT(AD124:AI124)<>6,$AM$47<>\"Yes\",$AM$49<>\"Yes\"),NA(),IF(ASTM(AI124,0)=0,0,ASTM((51740000*$AF$46*$AF$47)/((($AF$46*AG124)+(0.429*AH124)+(0.273*AI124))*((0.6*$AF$47*$AF$48)+5471)),1))))","v":""},{"$f":"IF(ISBLANK(AD124),\"\",IF(OR(AND($J$6<>\"HD 2b/3\",COUNT(AD124:AI124)<>6),AND($J$6=\"HD 2b/3\",COUNT(AD124)+COUNT(AI124)<>2),$AM$143<>\"Yes\",$AM$145<>\"Yes\"),NA(),IF(ASTM(AI124,0)=0,0,IF($J$6=\"HD 2b/3\",AI124,ASTM((($AF$142/0.273)*AG124)+(1.571*AH124)+AI124,0)))))","v":""},null,null,null,"Composite Fuel Economy (MPG) [0]",null,null,{"$f":"IF($J$6=\"HD 2b/3\",NA(),IFERROR(ASTM(1/(0.55/AY145+0.45/AZ145),0),0))","v":0},null,null,"NEW","CD utilitized CREE (43/57 FUF, Rcdc), adjusted (g/mi) [1]",{"$f":"IF($J$6=\"HD 2b/3\",NA(),ASTM(SUMIF(BD107:BD141,\"<=\" & (AY130),BY107:BY141),1))","v":0},{"$f":"IF($J$6=\"HD 2b/3\",NA(),ASTM(SUMIF(CA107:CA141,\"<=\" & (AZ130),CV107:CV141),1))","v":0},null,null,null,18,{"$f":"IF(ISBLANK(R124),\"\",IF(COUNT(R124:AA124)<>10,NA(),IF(ASTM(W124,0)=0,0,IFERROR(ASTM(R124,3)/ASTM(Z124,1),0))))","v":""},{"$f":"IF(ISBLANK(R124),\"\",IF(COUNT(R124:AA124)<>10,NA(),IF(W124=0,0,ASTM(ASTM(W124,0)*ASTM(R124,3),0))))","v":""},{"$f":"IF(ISBLANK(R124),\"\",IF(COUNT(R124:AA124)<>10,NA(),ASTM(S124,3)-ASTM(S123,3)))","v":""},{"$f":"IF(ISBLANK(R124),\"\",IF(COUNT(R124:AA124)<>10,NA(),ASTM(BG124*ASTM(T124,2),1)))","v":""},{"$f":"IF(ISBLANK(R124),\"\",IF(COUNT(R124:AA124)<>10,NA(),ASTM(ASTM($Y$142,4)*1000*(BH124/$AY$109),1)))","v":""},"",{"$f":"IF(ISBLANK(R124),\"\",IF(COUNT(R124:AA124)<>10,NA(),BI124/(33705*ASTM(R124,3))))","v":""},"",{"$f":"IF(ISBLANK(R124),\"\",IFERROR(ASTM(cityfuf(BJ124)-cityfuf(BJ123),3),\"\"))","v":""},{"$f":"IF(ISBLANK(R124),\"\",IF(OR(ISNUMBER(R124)=FALSE,ISNUMBER(AA124)=FALSE),NA(),IF(ASTM(W124,0)=0,0,BM124*ASTM(AA124,0))))","v":""},"",{"$f":"IF(ISBLANK(R124),\"\",IF(COUNT(R124:AA124)<>10,NA(),BL124*ASTM(R124,3)))","v":""},"",{"$f":"IF(ISBLANK(R124),\"\",IF(COUNT(R124:AA124)<>10,NA(),BQ124*ASTM(R124,3)))","v":""},"",{"$f":"IF(ISBLANK(R124),\"\",IF(COUNT(R124:AA124)<>10,NA(),ASTM(mdiuf(BS124),3)-ASTM(mdiuf(BS123),3)))","v":""},{"$f":"IF(ISBLANK(R124),\"\",IF(COUNT(R124:AA124)<>10,NA(),IF(ASTM(W124,0)=0,0,BT124*ASTM(W124,0)/(BQ124))))","v":""},"",{"$f":"IF(ISBLANK(R124),\"\",IF(COUNT(R124:AA124)<>10,NA(),ASTM(cityfufalt(BS124)-cityfufalt(BS123),3)))","v":""},"",{"$f":"IF(ISBLANK(R124),\"\",IF(COUNT(R124:AA124)<>10,NA(),IF(ASTM(W124,0)=0,0,BW124*ASTM(AA124,0)/(BQ124))))","v":""},null,18,{"$f":"IF(ISBLANK(AD124),\"\",IF(COUNT(AD124:AM124)<>10,NA(),IF(ASTM(AI124,0)=0,0,ASTM(AD124,3)/ASTM(AL124,1))))","v":""},{"$f":"IF(ISBLANK(AD124),\"\",IF(COUNT(AD124:AM124)<>10,NA(),IF(ASTM(AI124,0)=0,0,ASTM(ASTM(AI124,0)*ASTM(AD124,3),0))))","v":""},{"$f":"IF(ISBLANK(AD124),\"\",IF(COUNT(AD124:AM124)<>10,NA(),ASTM(AE124,3)-ASTM(AE123,3)))","v":""},{"$f":"IF(ISBLANK(AD124),\"\",IF(COUNT(AD124:AM124)<>10,NA(),ASTM(CD124*ASTM(AF124,2),1)))","v":""},{"$f":"IF(ISBLANK(AD124),\"\",IF(COUNT(AD124:AM124)<>10,NA(),ASTM(ASTM($AK$142,4)*1000*(CE124/$AZ$109),1)))","v":""},"",{"$f":"IF(ISBLANK(AD124),\"\",IF(COUNT(AD124:AM124)<>10,NA(),CF124/(33705*ASTM(AD124,3))))","v":""},"",{"$f":"IF(ISBLANK(AD124),\"\",ASTM(highwayfuf(CG124)-highwayfuf(CG123),3))","v":""},{"$f":"IF(ISBLANK(AD124),\"\",IF(OR(ISNUMBER(AD124)=FALSE,ISNUMBER(AM124)=FALSE),NA(),IF(ASTM(AI124,0)=0,0,CJ124*ASTM(AM124,0))))","v":""},"",{"$f":"IF(ISBLANK(AD124),\"\",IF(COUNT(AD124:AM124)<>10,NA(),CI124*ASTM(AD124,3)))","v":""},"",{"$f":"IF(ISBLANK(AD124),\"\",IF(COUNT(AD124:AM124)<>10,NA(),CN124*ASTM(AD124,3)))","v":""},"",{"$f":"IF(ISBLANK(AD124),\"\",IF(COUNT(AD124:AM124)<>10,NA(),ASTM(mdiuf(CP124)-mdiuf(CP123),3)))","v":""},{"$f":"IF(ISBLANK(AD124),\"\",IF(COUNT(AD124:AM124)<>10,NA(),IF(ASTM(AI124,0)=0,0,CQ124*ASTM(AI124,0)/(CN124))))","v":""},"",{"$f":"IF(ISBLANK(AD124),\"\",IF(COUNT(AD124:AM124)<>10,NA(),ASTM(highwayfufalt(CP124)-highwayfufalt(CP123),3)))","v":""},"",{"$f":"IF(ISBLANK(AD124),\"\",IF(COUNT(AD124:AM124)<>10,NA(),IF(ASTM(AI124,0)=0,0,CT124*ASTM(AM124,0)/(CN124))))","v":""}]
[null,null,null,null,null,null,null,null,null,null,null,null,"Charge-Sustaining Test (Optional):",null,null,null,19,null,null,null,null,null,null,null,null,{"$f":"IF(ISBLANK(R125),\"\",IF(OR($J$6=\"HD 2b/3\",COUNT(R125:W125)<>6,$AA$143<>\"Yes\",$AA$145<>\"Yes\"),NA(),IF(ASTM(W125,0)=0,0,ASTM((51740000*$T$142*$T$143)/((($T$142*U125)+(0.429*V125)+(0.273*W125))*((0.6*$T$143*$T$144)+5471)),1))))","v":""},{"$f":"IF(ISBLANK(R125),\"\",IF(OR(AND($J$6<>\"HD 2b/3\",COUNT(R125:W125)<>6),AND($J$6=\"HD 2b/3\",COUNT(R125)+COUNT(W125)<>2),$AA$143<>\"Yes\",$AA$145<>\"Yes\"),NA(),IF(ASTM(W125,0)=0,0,IF($J$6=\"HD 2b/3\",W125,ASTM((($T$142/0.273)*U125)+(1.571*V125)+W125,0)))))","v":""},null,19,null,null,null,null,null,null,null,null,{"$f":"IF(ISBLANK(AD125),\"\",IF(OR($J$6=\"HD 2b/3\",COUNT(AD125:AI125)<>6,$AM$47<>\"Yes\",$AM$49<>\"Yes\"),NA(),IF(ASTM(AI125,0)=0,0,ASTM((51740000*$AF$46*$AF$47)/((($AF$46*AG125)+(0.429*AH125)+(0.273*AI125))*((0.6*$AF$47*$AF$48)+5471)),1))))","v":""},{"$f":"IF(ISBLANK(AD125),\"\",IF(OR(AND($J$6<>\"HD 2b/3\",COUNT(AD125:AI125)<>6),AND($J$6=\"HD 2b/3\",COUNT(AD125)+COUNT(AI125)<>2),$AM$143<>\"Yes\",$AM$145<>\"Yes\"),NA(),IF(ASTM(AI125,0)=0,0,IF($J$6=\"HD 2b/3\",AI125,ASTM((($AF$142/0.273)*AG125)+(1.571*AH125)+AI125,0)))))","v":""},null,null,null,"HOV Lane Values","City","Highway","Combined",null,null,null,"UTILITY FACTORS & OTHER METRICS","CITY","HIGHWAY",null,null,null,19,{"$f":"IF(ISBLANK(R125),\"\",IF(COUNT(R125:AA125)<>10,NA(),IF(ASTM(W125,0)=0,0,IFERROR(ASTM(R125,3)/ASTM(Z125,1),0))))","v":""},{"$f":"IF(ISBLANK(R125),\"\",IF(COUNT(R125:AA125)<>10,NA(),IF(W125=0,0,ASTM(ASTM(W125,0)*ASTM(R125,3),0))))","v":""},{"$f":"IF(ISBLANK(R125),\"\",IF(COUNT(R125:AA125)<>10,NA(),ASTM(S125,3)-ASTM(S124,3)))","v":""},{"$f":"IF(ISBLANK(R125),\"\",IF(COUNT(R125:AA125)<>10,NA(),ASTM(BG125*ASTM(T125,2),1)))","v":""},{"$f":"IF(ISBLANK(R125),\"\",IF(COUNT(R125:AA125)<>10,NA(),ASTM(ASTM($Y$142,4)*1000*(BH125/$AY$109),1)))","v":""},"",{"$f":"IF(ISBLANK(R125),\"\",IF(COUNT(R125:AA125)<>10,NA(),BI125/(33705*ASTM(R125,3))))","v":""},"",{"$f":"IF(ISBLANK(R125),\"\",IFERROR(ASTM(cityfuf(BJ125)-cityfuf(BJ124),3),\"\"))","v":""},{"$f":"IF(ISBLANK(R125),\"\",IF(OR(ISNUMBER(R125)=FALSE,ISNUMBER(AA125)=FALSE),NA(),IF(ASTM(W125,0)=0,0,BM125*ASTM(AA125,0))))","v":""},"",{"$f":"IF(ISBLANK(R125),\"\",IF(COUNT(R125:AA125)<>10,NA(),BL125*ASTM(R125,3)))","v":""},"",{"$f":"IF(ISBLANK(R125),\"\",IF(COUNT(R125:AA125)<>10,NA(),BQ125*ASTM(R125,3)))","v":""},"",{"$f":"IF(ISBLANK(R125),\"\",IF(COUNT(R125:AA125)<>10,NA(),ASTM(mdiuf(BS125),3)-ASTM(mdiuf(BS124),3)))","v":""},{"$f":"IF(ISBLANK(R125),\"\",IF(COUNT(R125:AA125)<>10,NA(),IF(ASTM(W125,0)=0,0,BT125*ASTM(W125,0)/(BQ125))))","v":""},"",{"$f":"IF(ISBLANK(R125),\"\",IF(COUNT(R125:AA125)<>10,NA(),ASTM(cityfufalt(BS125)-cityfufalt(BS124),3)))","v":""},"",{"$f":"IF(ISBLANK(R125),\"\",IF(COUNT(R125:AA125)<>10,NA(),IF(ASTM(W125,0)=0,0,BW125*ASTM(AA125,0)/(BQ125))))","v":""},null,19,{"$f":"IF(ISBLANK(AD125),\"\",IF(COUNT(AD125:AM125)<>10,NA(),IF(ASTM(AI125,0)=0,0,ASTM(AD125,3)/ASTM(AL125,1))))","v":""},{"$f":"IF(ISBLANK(AD125),\"\",IF(COUNT(AD125:AM125)<>10,NA(),IF(ASTM(AI125,0)=0,0,ASTM(ASTM(AI125,0)*ASTM(AD125,3),0))))","v":""},{"$f":"IF(ISBLANK(AD125),\"\",IF(COUNT(AD125:AM125)<>10,NA(),ASTM(AE125,3)-ASTM(AE124,3)))","v":""},{"$f":"IF(ISBLANK(AD125),\"\",IF(COUNT(AD125:AM125)<>10,NA(),ASTM(CD125*ASTM(AF125,2),1)))","v":""},{"$f":"IF(ISBLANK(AD125),\"\",IF(COUNT(AD125:AM125)<>10,NA(),ASTM(ASTM($AK$142,4)*1000*(CE125/$AZ$109),1)))","v":""},"",{"$f":"IF(ISBLANK(AD125),\"\",IF(COUNT(AD125:AM125)<>10,NA(),CF125/(33705*ASTM(AD125,3))))","v":""},"",{"$f":"IF(ISBLANK(AD125),\"\",ASTM(highwayfuf(CG125)-highwayfuf(CG124),3))","v":""},{"$f":"IF(ISBLANK(AD125),\"\",IF(OR(ISNUMBER(AD125)=FALSE,ISNUMBER(AM125)=FALSE),NA(),IF(ASTM(AI125,0)=0,0,CJ125*ASTM(AM125,0))))","v":""},"",{"$f":"IF(ISBLANK(AD125),\"\",IF(COUNT(AD125:AM125)<>10,NA(),CI125*ASTM(AD125,3)))","v":""},"",{"$f":"IF(ISBLANK(AD125),\"\",IF(COUNT(AD125:AM125)<>10,NA(),CN125*ASTM(AD125,3)))","v":""},"",{"$f":"IF(ISBLANK(AD125),\"\",IF(COUNT(AD125:AM125)<>10,NA(),ASTM(mdiuf(CP125)-mdiuf(CP124),3)))","v":""},{"$f":"IF(ISBLANK(AD125),\"\",IF(COUNT(AD125:AM125)<>10,NA(),IF(ASTM(AI125,0)=0,0,CQ125*ASTM(AI125,0)/(CN125))))","v":""},"",{"$f":"IF(ISBLANK(AD125),\"\",IF(COUNT(AD125:AM125)<>10,NA(),ASTM(highwayfufalt(CP125)-highwayfufalt(CP124),3)))","v":""},"",{"$f":"IF(ISBLANK(AD125),\"\",IF(COUNT(AD125:AM125)<>10,NA(),IF(ASTM(AI125,0)=0,0,CT125*ASTM(AM125,0)/(CN125))))","v":""}]
[null,null,null,null,null,null,null,null,null,null,null,null,"Charge-Sustaining Test (Optional):",null,null,null,20,null,null,null,null,null,null,null,null,{"$f":"IF(ISBLANK(R126),\"\",IF(OR($J$6=\"HD 2b/3\",COUNT(R126:W126)<>6,$AA$143<>\"Yes\",$AA$145<>\"Yes\"),NA(),IF(ASTM(W126,0)=0,0,ASTM((51740000*$T$142*$T$143)/((($T$142*U126)+(0.429*V126)+(0.273*W126))*((0.6*$T$143*$T$144)+5471)),1))))","v":""},{"$f":"IF(ISBLANK(R126),\"\",IF(OR(AND($J$6<>\"HD 2b/3\",COUNT(R126:W126)<>6),AND($J$6=\"HD 2b/3\",COUNT(R126)+COUNT(W126)<>2),$AA$143<>\"Yes\",$AA$145<>\"Yes\"),NA(),IF(ASTM(W126,0)=0,0,IF($J$6=\"HD 2b/3\",W126,ASTM((($T$142/0.273)*U126)+(1.571*V126)+W126,0)))))","v":""},null,20,null,null,null,null,null,null,null,null,{"$f":"IF(ISBLANK(AD126),\"\",IF(OR($J$6=\"HD 2b/3\",COUNT(AD126:AI126)<>6,$AM$47<>\"Yes\",$AM$49<>\"Yes\"),NA(),IF(ASTM(AI126,0)=0,0,ASTM((51740000*$AF$46*$AF$47)/((($AF$46*AG126)+(0.429*AH126)+(0.273*AI126))*((0.6*$AF$47*$AF$48)+5471)),1))))","v":""},{"$f":"IF(ISBLANK(AD126),\"\",IF(OR(AND($J$6<>\"HD 2b/3\",COUNT(AD126:AI126)<>6),AND($J$6=\"HD 2b/3\",COUNT(AD126)+COUNT(AI126)<>2),$AM$143<>\"Yes\",$AM$145<>\"Yes\"),NA(),IF(ASTM(AI126,0)=0,0,IF($J$6=\"HD 2b/3\",AI126,ASTM((($AF$142/0.273)*AG126)+(1.571*AH126)+AI126,0)))))","v":""},null,null,null,"MDIUF based on unadjusted Rcda [3]",{"$f":"IF($J$6=\"HD 2b/3\",NA(),IFERROR(ASTM(mdiuf(AY102),3),0))","v":0},{"$f":"IFERROR(ASTM(mdiuf(AZ102),3),0)","v":0},null,null,null,null,"CD 55/45 Fleet Utility Factor (FUF) for Rcdc [3]",{"$f":"ASTM(SUMIF(BD107:BD141,\"<=\"&AY130,BM107:BM141),3)","v":0},{"$f":"ASTM(SUMIF(CA107:CA141,\"<=\"&AZ130,CJ107:CJ141),3)","v":0},null,null,null,20,{"$f":"IF(ISBLANK(R126),\"\",IF(COUNT(R126:AA126)<>10,NA(),IF(ASTM(W126,0)=0,0,IFERROR(ASTM(R126,3)/ASTM(Z126,1),0))))","v":""},{"$f":"IF(ISBLANK(R126),\"\",IF(COUNT(R126:AA126)<>10,NA(),IF(W126=0,0,ASTM(ASTM(W126,0)*ASTM(R126,3),0))))","v":""},{"$f":"IF(ISBLANK(R126),\"\",IF(COUNT(R126:AA126)<>10,NA(),ASTM(S126,3)-ASTM(S125,3)))","v":""},{"$f":"IF(ISBLANK(R126),\"\",IF(COUNT(R126:AA126)<>10,NA(),ASTM(BG126*ASTM(T126,2),1)))","v":""},{"$f":"IF(ISBLANK(R126),\"\",IF(COUNT(R126:AA126)<>10,NA(),ASTM(ASTM($Y$142,4)*1000*(BH126/$AY$109),1)))","v":""},"",{"$f":"IF(ISBLANK(R126),\"\",IF(COUNT(R126:AA126)<>10,NA(),BI126/(33705*ASTM(R126,3))))","v":""},"",{"$f":"IF(ISBLANK(R126),\"\",IFERROR(ASTM(cityfuf(BJ126)-cityfuf(BJ125),3),\"\"))","v":""},{"$f":"IF(ISBLANK(R126),\"\",IF(OR(ISNUMBER(R126)=FALSE,ISNUMBER(AA126)=FALSE),NA(),IF(ASTM(W126,0)=0,0,BM126*ASTM(AA126,0))))","v":""},"",{"$f":"IF(ISBLANK(R126),\"\",IF(COUNT(R126:AA126)<>10,NA(),BL126*ASTM(R126,3)))","v":""},"",{"$f":"IF(ISBLANK(R126),\"\",IF(COUNT(R126:AA126)<>10,NA(),BQ126*ASTM(R126,3)))","v":""},"",{"$f":"IF(ISBLANK(R126),\"\",IF(COUNT(R126:AA126)<>10,NA(),ASTM(mdiuf(BS126),3)-ASTM(mdiuf(BS125),3)))","v":""},{"$f":"IF(ISBLANK(R126),\"\",IF(COUNT(R126:AA126)<>10,NA(),IF(ASTM(W126,0)=0,0,BT126*ASTM(W126,0)/(BQ126))))","v":""},"",{"$f":"IF(ISBLANK(R126),\"\",IF(COUNT(R126:AA126)<>10,NA(),ASTM(cityfufalt(BS126)-cityfufalt(BS125),3)))","v":""},"",{"$f":"IF(ISBLANK(R126),\"\",IF(COUNT(R126:AA126)<>10,NA(),IF(ASTM(W126,0)=0,0,BW126*ASTM(AA126,0)/(BQ126))))","v":""},null,20,{"$f":"IF(ISBLANK(AD126),\"\",IF(COUNT(AD126:AM126)<>10,NA(),IF(ASTM(AI126,0)=0,0,ASTM(AD126,3)/ASTM(AL126,1))))","v":""},{"$f":"IF(ISBLANK(AD126),\"\",IF(COUNT(AD126:AM126)<>10,NA(),IF(ASTM(AI126,0)=0,0,ASTM(ASTM(AI126,0)*ASTM(AD126,3),0))))","v":""},{"$f":"IF(ISBLANK(AD126),\"\",IF(COUNT(AD126:AM126)<>10,NA(),ASTM(AE126,3)-ASTM(AE125,3)))","v":""},{"$f":"IF(ISBLANK(AD126),\"\",IF(COUNT(AD126:AM126)<>10,NA(),ASTM(CD126*ASTM(AF126,2),1)))","v":""},{"$f":"IF(ISBLANK(AD126),\"\",IF(COUNT(AD126:AM126)<>10,NA(),ASTM(ASTM($AK$142,4)*1000*(CE126/$AZ$109),1)))","v":""},"",{"$f":"IF(ISBLANK(AD126),\"\",IF(COUNT(AD126:AM126)<>10,NA(),CF126/(33705*ASTM(AD126,3))))","v":""},"",{"$f":"IF(ISBLANK(AD126),\"\",ASTM(highwayfuf(CG126)-highwayfuf(CG125),3))","v":""},{"$f":"IF(ISBLANK(AD126),\"\",IF(OR(ISNUMBER(AD126)=FALSE,ISNUMBER(AM126)=FALSE),NA(),IF(ASTM(AI126,0)=0,0,CJ126*ASTM(AM126,0))))","v":""},"",{"$f":"IF(ISBLANK(AD126),\"\",IF(COUNT(AD126:AM126)<>10,NA(),CI126*ASTM(AD126,3)))","v":""},"",{"$f":"IF(ISBLANK(AD126),\"\",IF(COUNT(AD126:AM126)<>10,NA(),CN126*ASTM(AD126,3)))","v":""},"",{"$f":"IF(ISBLANK(AD126),\"\",IF(COUNT(AD126:AM126)<>10,NA(),ASTM(mdiuf(CP126)-mdiuf(CP125),3)))","v":""},{"$f":"IF(ISBLANK(AD126),\"\",IF(COUNT(AD126:AM126)<>10,NA(),IF(ASTM(AI126,0)=0,0,CQ126*ASTM(AI126,0)/(CN126))))","v":""},"",{"$f":"IF(ISBLANK(AD126),\"\",IF(COUNT(AD126:AM126)<>10,NA(),ASTM(highwayfufalt(CP126)-highwayfufalt(CP125),3)))","v":""},"",{"$f":"IF(ISBLANK(AD126),\"\",IF(COUNT(AD126:AM126)<>10,NA(),IF(ASTM(AI126,0)=0,0,CT126*ASTM(AM126,0)/(CN126))))","v":""}]
[null,null,null,null,null,null,null,null,null,null,null,null,"Charge-Sustaining Test (Optional):",null,null,null,21,null,null,null,null,null,null,null,null,{"$f":"IF(ISBLANK(R127),\"\",IF(OR($J$6=\"HD 2b/3\",COUNT(R127:W127)<>6,$AA$143<>\"Yes\",$AA$145<>\"Yes\"),NA(),IF(ASTM(W127,0)=0,0,ASTM((51740000*$T$142*$T$143)/((($T$142*U127)+(0.429*V127)+(0.273*W127))*((0.6*$T$143*$T$144)+5471)),1))))","v":""},{"$f":"IF(ISBLANK(R127),\"\",IF(OR(AND($J$6<>\"HD 2b/3\",COUNT(R127:W127)<>6),AND($J$6=\"HD 2b/3\",COUNT(R127)+COUNT(W127)<>2),$AA$143<>\"Yes\",$AA$145<>\"Yes\"),NA(),IF(ASTM(W127,0)=0,0,IF($J$6=\"HD 2b/3\",W127,ASTM((($T$142/0.273)*U127)+(1.571*V127)+W127,0)))))","v":""},null,21,null,null,null,null,null,null,null,null,{"$f":"IF(ISBLANK(AD127),\"\",IF(OR($J$6=\"HD 2b/3\",COUNT(AD127:AI127)<>6,$AM$47<>\"Yes\",$AM$49<>\"Yes\"),NA(),IF(ASTM(AI127,0)=0,0,ASTM((51740000*$AF$46*$AF$47)/((($AF$46*AG127)+(0.429*AH127)+(0.273*AI127))*((0.6*$AF$47*$AF$48)+5471)),1))))","v":""},{"$f":"IF(ISBLANK(AD127),\"\",IF(OR(AND($J$6<>\"HD 2b/3\",COUNT(AD127:AI127)<>6),AND($J$6=\"HD 2b/3\",COUNT(AD127)+COUNT(AI127)<>2),$AM$143<>\"Yes\",$AM$145<>\"Yes\"),NA(),IF(ASTM(AI127,0)=0,0,IF($J$6=\"HD 2b/3\",AI127,ASTM((($AF$142/0.273)*AG127)+(1.571*AH127)+AI127,0)))))","v":""},null,null,null,"Composite CD/CS Fuel Economy (MPGe) [4]",{"$f":"IF($J$6=\"HD 2b/3\",NA(),IFERROR(ASTM(1/(AR126/(AY102/     AY110  )+(1-AR126)/N107),4),0))","v":0},{"$f":"IFERROR(ASTM(1/(AS126/(AZ102/     AZ110  )+(1-AS126)/O107),4),0)","v":0},{"$f":"IFERROR(ASTM(1/(0.55/AR127+0.45/AS127),4),0)","v":0},null,null,null,"MDIUF based on adjusted Rcda [3]",{"$f":"IF($J$6=\"HD 2b/3\",NA(),ASTM(mdiuf(AY103),3))","v":0},{"$f":"IF($J$6=\"HD 2b/3\",NA(),ASTM(mdiuf(AZ103),3))","v":0},null,null,null,21,{"$f":"IF(ISBLANK(R127),\"\",IF(COUNT(R127:AA127)<>10,NA(),IF(ASTM(W127,0)=0,0,IFERROR(ASTM(R127,3)/ASTM(Z127,1),0))))","v":""},{"$f":"IF(ISBLANK(R127),\"\",IF(COUNT(R127:AA127)<>10,NA(),IF(W127=0,0,ASTM(ASTM(W127,0)*ASTM(R127,3),0))))","v":""},{"$f":"IF(ISBLANK(R127),\"\",IF(COUNT(R127:AA127)<>10,NA(),ASTM(S127,3)-ASTM(S126,3)))","v":""},{"$f":"IF(ISBLANK(R127),\"\",IF(COUNT(R127:AA127)<>10,NA(),ASTM(BG127*ASTM(T127,2),1)))","v":""},{"$f":"IF(ISBLANK(R127),\"\",IF(COUNT(R127:AA127)<>10,NA(),ASTM(ASTM($Y$142,4)*1000*(BH127/$AY$109),1)))","v":""},"",{"$f":"IF(ISBLANK(R127),\"\",IF(COUNT(R127:AA127)<>10,NA(),BI127/(33705*ASTM(R127,3))))","v":""},"",{"$f":"IF(ISBLANK(R127),\"\",IFERROR(ASTM(cityfuf(BJ127)-cityfuf(BJ126),3),\"\"))","v":""},{"$f":"IF(ISBLANK(R127),\"\",IF(OR(ISNUMBER(R127)=FALSE,ISNUMBER(AA127)=FALSE),NA(),IF(ASTM(W127,0)=0,0,BM127*ASTM(AA127,0))))","v":""},"",{"$f":"IF(ISBLANK(R127),\"\",IF(COUNT(R127:AA127)<>10,NA(),BL127*ASTM(R127,3)))","v":""},"",{"$f":"IF(ISBLANK(R127),\"\",IF(COUNT(R127:AA127)<>10,NA(),BQ127*ASTM(R127,3)))","v":""},"",{"$f":"IF(ISBLANK(R127),\"\",IF(COUNT(R127:AA127)<>10,NA(),ASTM(mdiuf(BS127),3)-ASTM(mdiuf(BS126),3)))","v":""},{"$f":"IF(ISBLANK(R127),\"\",IF(COUNT(R127:AA127)<>10,NA(),IF(ASTM(W127,0)=0,0,BT127*ASTM(W127,0)/(BQ127))))","v":""},"",{"$f":"IF(ISBLANK(R127),\"\",IF(COUNT(R127:AA127)<>10,NA(),ASTM(cityfufalt(BS127)-cityfufalt(BS126),3)))","v":""},"",{"$f":"IF(ISBLANK(R127),\"\",IF(COUNT(R127:AA127)<>10,NA(),IF(ASTM(W127,0)=0,0,BW127*ASTM(AA127,0)/(BQ127))))","v":""},null,21,{"$f":"IF(ISBLANK(AD127),\"\",IF(COUNT(AD127:AM127)<>10,NA(),IF(ASTM(AI127,0)=0,0,ASTM(AD127,3)/ASTM(AL127,1))))","v":""},{"$f":"IF(ISBLANK(AD127),\"\",IF(COUNT(AD127:AM127)<>10,NA(),IF(ASTM(AI127,0)=0,0,ASTM(ASTM(AI127,0)*ASTM(AD127,3),0))))","v":""},{"$f":"IF(ISBLANK(AD127),\"\",IF(COUNT(AD127:AM127)<>10,NA(),ASTM(AE127,3)-ASTM(AE126,3)))","v":""},{"$f":"IF(ISBLANK(AD127),\"\",IF(COUNT(AD127:AM127)<>10,NA(),ASTM(CD127*ASTM(AF127,2),1)))","v":""},{"$f":"IF(ISBLANK(AD127),\"\",IF(COUNT(AD127:AM127)<>10,NA(),ASTM(ASTM($AK$142,4)*1000*(CE127/$AZ$109),1)))","v":""},"",{"$f":"IF(ISBLANK(AD127),\"\",IF(COUNT(AD127:AM127)<>10,NA(),CF127/(33705*ASTM(AD127,3))))","v":""},"",{"$f":"IF(ISBLANK(AD127),\"\",ASTM(highwayfuf(CG127)-highwayfuf(CG126),3))","v":""},{"$f":"IF(ISBLANK(AD127),\"\",IF(OR(ISNUMBER(AD127)=FALSE,ISNUMBER(AM127)=FALSE),NA(),IF(ASTM(AI127,0)=0,0,CJ127*ASTM(AM127,0))))","v":""},"",{"$f":"IF(ISBLANK(AD127),\"\",IF(COUNT(AD127:AM127)<>10,NA(),CI127*ASTM(AD127,3)))","v":""},"",{"$f":"IF(ISBLANK(AD127),\"\",IF(COUNT(AD127:AM127)<>10,NA(),CN127*ASTM(AD127,3)))","v":""},"",{"$f":"IF(ISBLANK(AD127),\"\",IF(COUNT(AD127:AM127)<>10,NA(),ASTM(mdiuf(CP127)-mdiuf(CP126),3)))","v":""},{"$f":"IF(ISBLANK(AD127),\"\",IF(COUNT(AD127:AM127)<>10,NA(),IF(ASTM(AI127,0)=0,0,CQ127*ASTM(AI127,0)/(CN127))))","v":""},"",{"$f":"IF(ISBLANK(AD127),\"\",IF(COUNT(AD127:AM127)<>10,NA(),ASTM(highwayfufalt(CP127)-highwayfufalt(CP126),3)))","v":""},"",{"$f":"IF(ISBLANK(AD127),\"\",IF(COUNT(AD127:AM127)<>10,NA(),IF(ASTM(AI127,0)=0,0,CT127*ASTM(AM127,0)/(CN127))))","v":""}]
[null,null,null,null,null,null,null,null,null,null,null,null,"Charge-Sustaining Test (Optional):",null,null,null,22,null,null,null,null,null,null,null,null,{"$f":"IF(ISBLANK(R128),\"\",IF(OR($J$6=\"HD 2b/3\",COUNT(R128:W128)<>6,$AA$143<>\"Yes\",$AA$145<>\"Yes\"),NA(),IF(ASTM(W128,0)=0,0,ASTM((51740000*$T$142*$T$143)/((($T$142*U128)+(0.429*V128)+(0.273*W128))*((0.6*$T$143*$T$144)+5471)),1))))","v":""},{"$f":"IF(ISBLANK(R128),\"\",IF(OR(AND($J$6<>\"HD 2b/3\",COUNT(R128:W128)<>6),AND($J$6=\"HD 2b/3\",COUNT(R128)+COUNT(W128)<>2),$AA$143<>\"Yes\",$AA$145<>\"Yes\"),NA(),IF(ASTM(W128,0)=0,0,IF($J$6=\"HD 2b/3\",W128,ASTM((($T$142/0.273)*U128)+(1.571*V128)+W128,0)))))","v":""},null,22,null,null,null,null,null,null,null,null,{"$f":"IF(ISBLANK(AD128),\"\",IF(OR($J$6=\"HD 2b/3\",COUNT(AD128:AI128)<>6,$AM$47<>\"Yes\",$AM$49<>\"Yes\"),NA(),IF(ASTM(AI128,0)=0,0,ASTM((51740000*$AF$46*$AF$47)/((($AF$46*AG128)+(0.429*AH128)+(0.273*AI128))*((0.6*$AF$47*$AF$48)+5471)),1))))","v":""},{"$f":"IF(ISBLANK(AD128),\"\",IF(OR(AND($J$6<>\"HD 2b/3\",COUNT(AD128:AI128)<>6),AND($J$6=\"HD 2b/3\",COUNT(AD128)+COUNT(AI128)<>2),$AM$143<>\"Yes\",$AM$145<>\"Yes\"),NA(),IF(ASTM(AI128,0)=0,0,IF($J$6=\"HD 2b/3\",AI128,ASTM((($AF$142/0.273)*AG128)+(1.571*AH128)+AI128,0)))))","v":""},null,null,null,"Trends Report Values","City","Highway","Combined",null,null,null,"MDIUF based on adjusted Rcdc [3]",{"$f":"IF($J$6=\"HD 2b/3\",NA(),ASTM(SUMIF(BD107:BD141,\"<=\" & AY130,BT107:BT141),3))","v":0},{"$f":"IF($J$6=\"HD 2b/3\",NA(),ASTM(SUMIF(CA107:CA141,\"<=\" & AZ130,CQ107:CQ141),3))","v":0},null,null,null,22,{"$f":"IF(ISBLANK(R128),\"\",IF(COUNT(R128:AA128)<>10,NA(),IF(ASTM(W128,0)=0,0,IFERROR(ASTM(R128,3)/ASTM(Z128,1),0))))","v":""},{"$f":"IF(ISBLANK(R128),\"\",IF(COUNT(R128:AA128)<>10,NA(),IF(W128=0,0,ASTM(ASTM(W128,0)*ASTM(R128,3),0))))","v":""},{"$f":"IF(ISBLANK(R128),\"\",IF(COUNT(R128:AA128)<>10,NA(),ASTM(S128,3)-ASTM(S127,3)))","v":""},{"$f":"IF(ISBLANK(R128),\"\",IF(COUNT(R128:AA128)<>10,NA(),ASTM(BG128*ASTM(T128,2),1)))","v":""},{"$f":"IF(ISBLANK(R128),\"\",IF(COUNT(R128:AA128)<>10,NA(),ASTM(ASTM($Y$142,4)*1000*(BH128/$AY$109),1)))","v":""},"",{"$f":"IF(ISBLANK(R128),\"\",IF(COUNT(R128:AA128)<>10,NA(),BI128/(33705*ASTM(R128,3))))","v":""},"",{"$f":"IF(ISBLANK(R128),\"\",IFERROR(ASTM(cityfuf(BJ128)-cityfuf(BJ127),3),\"\"))","v":""},{"$f":"IF(ISBLANK(R128),\"\",IF(OR(ISNUMBER(R128)=FALSE,ISNUMBER(AA128)=FALSE),NA(),IF(ASTM(W128,0)=0,0,BM128*ASTM(AA128,0))))","v":""},"",{"$f":"IF(ISBLANK(R128),\"\",IF(COUNT(R128:AA128)<>10,NA(),BL128*ASTM(R128,3)))","v":""},"",{"$f":"IF(ISBLANK(R128),\"\",IF(COUNT(R128:AA128)<>10,NA(),BQ128*ASTM(R128,3)))","v":""},"",{"$f":"IF(ISBLANK(R128),\"\",IF(COUNT(R128:AA128)<>10,NA(),ASTM(mdiuf(BS128),3)-ASTM(mdiuf(BS127),3)))","v":""},{"$f":"IF(ISBLANK(R128),\"\",IF(COUNT(R128:AA128)<>10,NA(),IF(ASTM(W128,0)=0,0,BT128*ASTM(W128,0)/(BQ128))))","v":""},"",{"$f":"IF(ISBLANK(R128),\"\",IF(COUNT(R128:AA128)<>10,NA(),ASTM(cityfufalt(BS128)-cityfufalt(BS127),3)))","v":""},"",{"$f":"IF(ISBLANK(R128),\"\",IF(COUNT(R128:AA128)<>10,NA(),IF(ASTM(W128,0)=0,0,BW128*ASTM(AA128,0)/(BQ128))))","v":""},null,22,{"$f":"IF(ISBLANK(AD128),\"\",IF(COUNT(AD128:AM128)<>10,NA(),IF(ASTM(AI128,0)=0,0,ASTM(AD128,3)/ASTM(AL128,1))))","v":""},{"$f":"IF(ISBLANK(AD128),\"\",IF(COUNT(AD128:AM128)<>10,NA(),IF(ASTM(AI128,0)=0,0,ASTM(ASTM(AI128,0)*ASTM(AD128,3),0))))","v":""},{"$f":"IF(ISBLANK(AD128),\"\",IF(COUNT(AD128:AM128)<>10,NA(),ASTM(AE128,3)-ASTM(AE127,3)))","v":""},{"$f":"IF(ISBLANK(AD128),\"\",IF(COUNT(AD128:AM128)<>10,NA(),ASTM(CD128*ASTM(AF128,2),1)))","v":""},{"$f":"IF(ISBLANK(AD128),\"\",IF(COUNT(AD128:AM128)<>10,NA(),ASTM(ASTM($AK$142,4)*1000*(CE128/$AZ$109),1)))","v":""},"",{"$f":"IF(ISBLANK(AD128),\"\",IF(COUNT(AD128:AM128)<>10,NA(),CF128/(33705*ASTM(AD128,3))))","v":""},"",{"$f":"IF(ISBLANK(AD128),\"\",ASTM(highwayfuf(CG128)-highwayfuf(CG127),3))","v":""},{"$f":"IF(ISBLANK(AD128),\"\",IF(OR(ISNUMBER(AD128)=FALSE,ISNUMBER(AM128)=FALSE),NA(),IF(ASTM(AI128,0)=0,0,CJ128*ASTM(AM128,0))))","v":""},"",{"$f":"IF(ISBLANK(AD128),\"\",IF(COUNT(AD128:AM128)<>10,NA(),CI128*ASTM(AD128,3)))","v":""},"",{"$f":"IF(ISBLANK(AD128),\"\",IF(COUNT(AD128:AM128)<>10,NA(),CN128*ASTM(AD128,3)))","v":""},"",{"$f":"IF(ISBLANK(AD128),\"\",IF(COUNT(AD128:AM128)<>10,NA(),ASTM(mdiuf(CP128)-mdiuf(CP127),3)))","v":""},{"$f":"IF(ISBLANK(AD128),\"\",IF(COUNT(AD128:AM128)<>10,NA(),IF(ASTM(AI128,0)=0,0,CQ128*ASTM(AI128,0)/(CN128))))","v":""},"",{"$f":"IF(ISBLANK(AD128),\"\",IF(COUNT(AD128:AM128)<>10,NA(),ASTM(highwayfufalt(CP128)-highwayfufalt(CP127),3)))","v":""},"",{"$f":"IF(ISBLANK(AD128),\"\",IF(COUNT(AD128:AM128)<>10,NA(),IF(ASTM(AI128,0)=0,0,CT128*ASTM(AM128,0)/(CN128))))","v":""}]
[null,null,null,null,null,null,null,null,null,null,null,null,null,null,null,null,23,null,null,null,null,null,null,null,null,{"$f":"IF(ISBLANK(R129),\"\",IF(OR($J$6=\"HD 2b/3\",COUNT(R129:W129)<>6,$AA$143<>\"Yes\",$AA$145<>\"Yes\"),NA(),IF(ASTM(W129,0)=0,0,ASTM((51740000*$T$142*$T$143)/((($T$142*U129)+(0.429*V129)+(0.273*W129))*((0.6*$T$143*$T$144)+5471)),1))))","v":""},{"$f":"IF(ISBLANK(R129),\"\",IF(OR(AND($J$6<>\"HD 2b/3\",COUNT(R129:W129)<>6),AND($J$6=\"HD 2b/3\",COUNT(R129)+COUNT(W129)<>2),$AA$143<>\"Yes\",$AA$145<>\"Yes\"),NA(),IF(ASTM(W129,0)=0,0,IF($J$6=\"HD 2b/3\",W129,ASTM((($T$142/0.273)*U129)+(1.571*V129)+W129,0)))))","v":""},null,23,null,null,null,null,null,null,null,null,{"$f":"IF(ISBLANK(AD129),\"\",IF(OR($J$6=\"HD 2b/3\",COUNT(AD129:AI129)<>6,$AM$47<>\"Yes\",$AM$49<>\"Yes\"),NA(),IF(ASTM(AI129,0)=0,0,ASTM((51740000*$AF$46*$AF$47)/((($AF$46*AG129)+(0.429*AH129)+(0.273*AI129))*((0.6*$AF$47*$AF$48)+5471)),1))))","v":""},{"$f":"IF(ISBLANK(AD129),\"\",IF(OR(AND($J$6<>\"HD 2b/3\",COUNT(AD129:AI129)<>6),AND($J$6=\"HD 2b/3\",COUNT(AD129)+COUNT(AI129)<>2),$AM$143<>\"Yes\",$AM$145<>\"Yes\"),NA(),IF(ASTM(AI129,0)=0,0,IF($J$6=\"HD 2b/3\",AI129,ASTM((($AF$142/0.273)*AG129)+(1.571*AH129)+AI129,0)))))","v":""},null,null,null,"Fleet Utility Factor (43/57) [3]",{"$f":"IF($J$6=\"HD 2b/3\",NA(),ASTM(SUMIF(BD107:BD136,\"<=\"&AY130,BW107:BW136),3))","v":0},{"$f":"IF($J$6=\"HD 2b/3\",NA(),ASTM(SUMIF(CA107:CA136,\"<=\"&AZ130,CT107:CT136),3))","v":0},{"$f":"IF($J$6=\"HD 2b/3\",NA(),0.55*AR129+0.45*AS129)","v":0},null,null,null,"Fraction of transition cycle that is charge-depleting operation (Zn) [3]",{"$f":"IF($J$6=\"HD 2b/3\",NA(),ASTM( IF((IF( SUMIF(BD107:BD141,\"=\" & ($AY130),BG107:BG141)/SUMIF(BD107:BD141,\"=\" & ($AY130-1),BG107:BG141)<0,0, SUMIF(BD107:BD141,\"=\" & ($AY130),BG107:BG141)/SUMIF(BD107:BD141,\"=\" & ($AY130-1),BG107:BG141)))<0,0, IF((IF( SUMIF(BD107:BD141,\"=\" & ($AY130),BG107:BG141)/SUMIF(BD107:BD141,\"=\" & ($AY130-1),BG107:BG141)<0,0, SUMIF(BD107:BD141,\"=\" & ($AY130),BG107:BG141)/SUMIF(BD107:BD141,\"=\" & ($AY130-1),BG107:BG141)))>1,1, (IF( SUMIF(BD107:BD141,\"=\" & ($AY130),BG107:BG141)/SUMIF(BD107:BD141,\"=\" & ($AY130-1),BG107:BG141)<0,0, SUMIF(BD107:BD141,\"=\" & ($AY130),BG107:BG141)/SUMIF(BD107:BD141,\"=\" & ($AY130-1),BG107:BG141))))), 3))","v":{"$error":"#VALUE!"}},{"$f":"IF($J$6=\"HD 2b/3\",NA(),ASTM( IF((IF( SUMIF(CA107:CA141,\"=\" & ($AZ130),CD107:CD141)/SUMIF(CA107:CA141,\"=\" & ($AZ130-1),CD107:CD141)<0,0, SUMIF(CA107:CA141,\"=\" & ($AZ130),CD107:CD141)/SUMIF(CA107:CA141,\"=\" & ($AZ130-1),CD107:CD141)))<0,0, IF((IF( SUMIF(CA107:CA141,\"=\" & ($AZ130),CD107:CD141)/SUMIF(CA107:CA141,\"=\" & ($AZ130-1),CD107:CD141)<0,0, SUMIF(CA107:CA141,\"=\" & ($AZ130),CD107:CD141)/SUMIF(CA107:CA141,\"=\" & ($AZ130-1),CD107:CD141)))>1,1, (IF( SUMIF(CA107:CA141,\"=\" & ($AZ130),CD107:CD141)/SUMIF(CA107:CA141,\"=\" & ($AZ130-1),CD107:CD141)<0,0, SUMIF(CA107:CA141,\"=\" & ($AZ130),CD107:CD141)/SUMIF(CA107:CA141,\"=\" & ($AZ130-1),CD107:CD141))))), 3))","v":{"$error":"#VALUE!"}},null,null,null,23,{"$f":"IF(ISBLANK(R129),\"\",IF(COUNT(R129:AA129)<>10,NA(),IF(ASTM(W129,0)=0,0,IFERROR(ASTM(R129,3)/ASTM(Z129,1),0))))","v":""},{"$f":"IF(ISBLANK(R129),\"\",IF(COUNT(R129:AA129)<>10,NA(),IF(W129=0,0,ASTM(ASTM(W129,0)*ASTM(R129,3),0))))","v":""},{"$f":"IF(ISBLANK(R129),\"\",IF(COUNT(R129:AA129)<>10,NA(),ASTM(S129,3)-ASTM(S128,3)))","v":""},{"$f":"IF(ISBLANK(R129),\"\",IF(COUNT(R129:AA129)<>10,NA(),ASTM(BG129*ASTM(T129,2),1)))","v":""},{"$f":"IF(ISBLANK(R129),\"\",IF(COUNT(R129:AA129)<>10,NA(),ASTM(ASTM($Y$142,4)*1000*(BH129/$AY$109),1)))","v":""},"",{"$f":"IF(ISBLANK(R129),\"\",IF(COUNT(R129:AA129)<>10,NA(),BI129/(33705*ASTM(R129,3))))","v":""},"",{"$f":"IF(ISBLANK(R129),\"\",IFERROR(ASTM(cityfuf(BJ129)-cityfuf(BJ128),3),\"\"))","v":""},{"$f":"IF(ISBLANK(R129),\"\",IF(OR(ISNUMBER(R129)=FALSE,ISNUMBER(AA129)=FALSE),NA(),IF(ASTM(W129,0)=0,0,BM129*ASTM(AA129,0))))","v":""},"",{"$f":"IF(ISBLANK(R129),\"\",IF(COUNT(R129:AA129)<>10,NA(),BL129*ASTM(R129,3)))","v":""},"",{"$f":"IF(ISBLANK(R129),\"\",IF(COUNT(R129:AA129)<>10,NA(),BQ129*ASTM(R129,3)))","v":""},"",{"$f":"IF(ISBLANK(R129),\"\",IF(COUNT(R129:AA129)<>10,NA(),ASTM(mdiuf(BS129),3)-ASTM(mdiuf(BS128),3)))","v":""},{"$f":"IF(ISBLANK(R129),\"\",IF(COUNT(R129:AA129)<>10,NA(),IF(ASTM(W129,0)=0,0,BT129*ASTM(W129,0)/(BQ129))))","v":""},"",{"$f":"IF(ISBLANK(R129),\"\",IF(COUNT(R129:AA129)<>10,NA(),ASTM(cityfufalt(BS129)-cityfufalt(BS128),3)))","v":""},"",{"$f":"IF(ISBLANK(R129),\"\",IF(COUNT(R129:AA129)<>10,NA(),IF(ASTM(W129,0)=0,0,BW129*ASTM(AA129,0)/(BQ129))))","v":""},null,23,{"$f":"IF(ISBLANK(AD129),\"\",IF(COUNT(AD129:AM129)<>10,NA(),IF(ASTM(AI129,0)=0,0,ASTM(AD129,3)/ASTM(AL129,1))))","v":""},{"$f":"IF(ISBLANK(AD129),\"\",IF(COUNT(AD129:AM129)<>10,NA(),IF(ASTM(AI129,0)=0,0,ASTM(ASTM(AI129,0)*ASTM(AD129,3),0))))","v":""},{"$f":"IF(ISBLANK(AD129),\"\",IF(COUNT(AD129:AM129)<>10,NA(),ASTM(AE129,3)-ASTM(AE128,3)))","v":""},{"$f":"IF(ISBLANK(AD129),\"\",IF(COUNT(AD129:AM129)<>10,NA(),ASTM(CD129*ASTM(AF129,2),1)))","v":""},{"$f":"IF(ISBLANK(AD129),\"\",IF(COUNT(AD129:AM129)<>10,NA(),ASTM(ASTM($AK$142,4)*1000*(CE129/$AZ$109),1)))","v":""},"",{"$f":"IF(ISBLANK(AD129),\"\",IF(COUNT(AD129:AM129)<>10,NA(),CF129/(33705*ASTM(AD129,3))))","v":""},"",{"$f":"IF(ISBLANK(AD129),\"\",ASTM(highwayfuf(CG129)-highwayfuf(CG128),3))","v":""},{"$f":"IF(ISBLANK(AD129),\"\",IF(OR(ISNUMBER(AD129)=FALSE,ISNUMBER(AM129)=FALSE),NA(),IF(ASTM(AI129,0)=0,0,CJ129*ASTM(AM129,0))))","v":""},"",{"$f":"IF(ISBLANK(AD129),\"\",IF(COUNT(AD129:AM129)<>10,NA(),CI129*ASTM(AD129,3)))","v":""},"",{"$f":"IF(ISBLANK(AD129),\"\",IF(COUNT(AD129:AM129)<>10,NA(),CN129*ASTM(AD129,3)))","v":""},"",{"$f":"IF(ISBLANK(AD129),\"\",IF(COUNT(AD129:AM129)<>10,NA(),ASTM(mdiuf(CP129)-mdiuf(CP128),3)))","v":""},{"$f":"IF(ISBLANK(AD129),\"\",IF(COUNT(AD129:AM129)<>10,NA(),IF(ASTM(AI129,0)=0,0,CQ129*ASTM(AI129,0)/(CN129))))","v":""},"",{"$f":"IF(ISBLANK(AD129),\"\",IF(COUNT(AD129:AM129)<>10,NA(),ASTM(highwayfufalt(CP129)-highwayfufalt(CP128),3)))","v":""},"",{"$f":"IF(ISBLANK(AD129),\"\",IF(COUNT(AD129:AM129)<>10,NA(),IF(ASTM(AI129,0)=0,0,CT129*ASTM(AM129,0)/(CN129))))","v":""}]
[null,null,null,null,null,null,null,null,null,null,null,null,null,null,null,null,24,null,null,null,null,null,null,null,null,{"$f":"IF(ISBLANK(R130),\"\",IF(OR($J$6=\"HD 2b/3\",COUNT(R130:W130)<>6,$AA$143<>\"Yes\",$AA$145<>\"Yes\"),NA(),IF(ASTM(W130,0)=0,0,ASTM((51740000*$T$142*$T$143)/((($T$142*U130)+(0.429*V130)+(0.273*W130))*((0.6*$T$143*$T$144)+5471)),1))))","v":""},{"$f":"IF(ISBLANK(R130),\"\",IF(OR(AND($J$6<>\"HD 2b/3\",COUNT(R130:W130)<>6),AND($J$6=\"HD 2b/3\",COUNT(R130)+COUNT(W130)<>2),$AA$143<>\"Yes\",$AA$145<>\"Yes\"),NA(),IF(ASTM(W130,0)=0,0,IF($J$6=\"HD 2b/3\",W130,ASTM((($T$142/0.273)*U130)+(1.571*V130)+W130,0)))))","v":""},null,24,null,null,null,null,null,null,null,null,{"$f":"IF(ISBLANK(AD130),\"\",IF(OR($J$6=\"HD 2b/3\",COUNT(AD130:AI130)<>6,$AM$47<>\"Yes\",$AM$49<>\"Yes\"),NA(),IF(ASTM(AI130,0)=0,0,ASTM((51740000*$AF$46*$AF$47)/((($AF$46*AG130)+(0.429*AH130)+(0.273*AI130))*((0.6*$AF$47*$AF$48)+5471)),1))))","v":""},{"$f":"IF(ISBLANK(AD130),\"\",IF(OR(AND($J$6<>\"HD 2b/3\",COUNT(AD130:AI130)<>6),AND($J$6=\"HD 2b/3\",COUNT(AD130)+COUNT(AI130)<>2),$AM$143<>\"Yes\",$AM$145<>\"Yes\"),NA(),IF(ASTM(AI130,0)=0,0,IF($J$6=\"HD 2b/3\",AI130,ASTM((($AF$142/0.273)*AG130)+(1.571*AH130)+AI130,0)))))","v":""},null,null,null,"Unadjusted Fuel Economy (MPG) [4]",{"$f":"IF($J$6=\"HD 2b/3\",NA(),AR105)","v":0},{"$f":"IF($J$6=\"HD 2b/3\",NA(),AS105)","v":0},{"$f":"IF($J$6=\"HD 2b/3\",NA(),AT105)","v":0},null,null,null,"Number of last cycle number with charge-depleting operation (transition cycle) [0]",{"$f":"IF(ISNUMBER(Y144),Y144,\"EOT ERROR\")","v":"EOT ERROR"},{"$f":"IF(ISNUMBER(AK144),AK144,\"EOT ERROR\")","v":"EOT ERROR"},null,null,null,24,{"$f":"IF(ISBLANK(R130),\"\",IF(COUNT(R130:AA130)<>10,NA(),IF(ASTM(W130,0)=0,0,IFERROR(ASTM(R130,3)/ASTM(Z130,1),0))))","v":""},{"$f":"IF(ISBLANK(R130),\"\",IF(COUNT(R130:AA130)<>10,NA(),IF(W130=0,0,ASTM(ASTM(W130,0)*ASTM(R130,3),0))))","v":""},{"$f":"IF(ISBLANK(R130),\"\",IF(COUNT(R130:AA130)<>10,NA(),ASTM(S130,3)-ASTM(S129,3)))","v":""},{"$f":"IF(ISBLANK(R130),\"\",IF(COUNT(R130:AA130)<>10,NA(),ASTM(BG130*ASTM(T130,2),1)))","v":""},{"$f":"IF(ISBLANK(R130),\"\",IF(COUNT(R130:AA130)<>10,NA(),ASTM(ASTM($Y$142,4)*1000*(BH130/$AY$109),1)))","v":""},"",{"$f":"IF(ISBLANK(R130),\"\",IF(COUNT(R130:AA130)<>10,NA(),BI130/(33705*ASTM(R130,3))))","v":""},"",{"$f":"IF(ISBLANK(R130),\"\",IFERROR(ASTM(cityfuf(BJ130)-cityfuf(BJ129),3),\"\"))","v":""},{"$f":"IF(ISBLANK(R130),\"\",IF(OR(ISNUMBER(R130)=FALSE,ISNUMBER(AA130)=FALSE),NA(),IF(ASTM(W130,0)=0,0,BM130*ASTM(AA130,0))))","v":""},"",{"$f":"IF(ISBLANK(R130),\"\",IF(COUNT(R130:AA130)<>10,NA(),BL130*ASTM(R130,3)))","v":""},"",{"$f":"IF(ISBLANK(R130),\"\",IF(COUNT(R130:AA130)<>10,NA(),BQ130*ASTM(R130,3)))","v":""},"",{"$f":"IF(ISBLANK(R130),\"\",IF(COUNT(R130:AA130)<>10,NA(),ASTM(mdiuf(BS130),3)-ASTM(mdiuf(BS129),3)))","v":""},{"$f":"IF(ISBLANK(R130),\"\",IF(COUNT(R130:AA130)<>10,NA(),IF(ASTM(W130,0)=0,0,BT130*ASTM(W130,0)/(BQ130))))","v":""},"",{"$f":"IF(ISBLANK(R130),\"\",IF(COUNT(R130:AA130)<>10,NA(),ASTM(cityfufalt(BS130)-cityfufalt(BS129),3)))","v":""},"",{"$f":"IF(ISBLANK(R130),\"\",IF(COUNT(R130:AA130)<>10,NA(),IF(ASTM(W130,0)=0,0,BW130*ASTM(AA130,0)/(BQ130))))","v":""},null,24,{"$f":"IF(ISBLANK(AD130),\"\",IF(COUNT(AD130:AM130)<>10,NA(),IF(ASTM(AI130,0)=0,0,ASTM(AD130,3)/ASTM(AL130,1))))","v":""},{"$f":"IF(ISBLANK(AD130),\"\",IF(COUNT(AD130:AM130)<>10,NA(),IF(ASTM(AI130,0)=0,0,ASTM(ASTM(AI130,0)*ASTM(AD130,3),0))))","v":""},{"$f":"IF(ISBLANK(AD130),\"\",IF(COUNT(AD130:AM130)<>10,NA(),ASTM(AE130,3)-ASTM(AE129,3)))","v":""},{"$f":"IF(ISBLANK(AD130),\"\",IF(COUNT(AD130:AM130)<>10,NA(),ASTM(CD130*ASTM(AF130,2),1)))","v":""},{"$f":"IF(ISBLANK(AD130),\"\",IF(COUNT(AD130:AM130)<>10,NA(),ASTM(ASTM($AK$142,4)*1000*(CE130/$AZ$109),1)))","v":""},"",{"$f":"IF(ISBLANK(AD130),\"\",IF(COUNT(AD130:AM130)<>10,NA(),CF130/(33705*ASTM(AD130,3))))","v":""},"",{"$f":"IF(ISBLANK(AD130),\"\",ASTM(highwayfuf(CG130)-highwayfuf(CG129),3))","v":""},{"$f":"IF(ISBLANK(AD130),\"\",IF(OR(ISNUMBER(AD130)=FALSE,ISNUMBER(AM130)=FALSE),NA(),IF(ASTM(AI130,0)=0,0,CJ130*ASTM(AM130,0))))","v":""},"",{"$f":"IF(ISBLANK(AD130),\"\",IF(COUNT(AD130:AM130)<>10,NA(),CI130*ASTM(AD130,3)))","v":""},"",{"$f":"IF(ISBLANK(AD130),\"\",IF(COUNT(AD130:AM130)<>10,NA(),CN130*ASTM(AD130,3)))","v":""},"",{"$f":"IF(ISBLANK(AD130),\"\",IF(COUNT(AD130:AM130)<>10,NA(),ASTM(mdiuf(CP130)-mdiuf(CP129),3)))","v":""},{"$f":"IF(ISBLANK(AD130),\"\",IF(COUNT(AD130:AM130)<>10,NA(),IF(ASTM(AI130,0)=0,0,CQ130*ASTM(AI130,0)/(CN130))))","v":""},"",{"$f":"IF(ISBLANK(AD130),\"\",IF(COUNT(AD130:AM130)<>10,NA(),ASTM(highwayfufalt(CP130)-highwayfufalt(CP129),3)))","v":""},"",{"$f":"IF(ISBLANK(AD130),\"\",IF(COUNT(AD130:AM130)<>10,NA(),IF(ASTM(AI130,0)=0,0,CT130*ASTM(AM130,0)/(CN130))))","v":""}]
[null,null,null,null,null,null,null,null,null,null,null,null,null,null,null,null,25,null,null,null,null,null,null,null,null,{"$f":"IF(ISBLANK(R131),\"\",IF(OR($J$6=\"HD 2b/3\",COUNT(R131:W131)<>6,$AA$143<>\"Yes\",$AA$145<>\"Yes\"),NA(),IF(ASTM(W131,0)=0,0,ASTM((51740000*$T$142*$T$143)/((($T$142*U131)+(0.429*V131)+(0.273*W131))*((0.6*$T$143*$T$144)+5471)),1))))","v":""},{"$f":"IF(ISBLANK(R131),\"\",IF(OR(AND($J$6<>\"HD 2b/3\",COUNT(R131:W131)<>6),AND($J$6=\"HD 2b/3\",COUNT(R131)+COUNT(W131)<>2),$AA$143<>\"Yes\",$AA$145<>\"Yes\"),NA(),IF(ASTM(W131,0)=0,0,IF($J$6=\"HD 2b/3\",W131,ASTM((($T$142/0.273)*U131)+(1.571*V131)+W131,0)))))","v":""},null,25,null,null,null,null,null,null,null,null,{"$f":"IF(ISBLANK(AD131),\"\",IF(OR($J$6=\"HD 2b/3\",COUNT(AD131:AI131)<>6,$AM$47<>\"Yes\",$AM$49<>\"Yes\"),NA(),IF(ASTM(AI131,0)=0,0,ASTM((51740000*$AF$46*$AF$47)/((($AF$46*AG131)+(0.429*AH131)+(0.273*AI131))*((0.6*$AF$47*$AF$48)+5471)),1))))","v":""},{"$f":"IF(ISBLANK(AD131),\"\",IF(OR(AND($J$6<>\"HD 2b/3\",COUNT(AD131:AI131)<>6),AND($J$6=\"HD 2b/3\",COUNT(AD131)+COUNT(AI131)<>2),$AM$143<>\"Yes\",$AM$145<>\"Yes\"),NA(),IF(ASTM(AI131,0)=0,0,IF($J$6=\"HD 2b/3\",AI131,ASTM((($AF$142/0.273)*AG131)+(1.571*AH131)+AI131,0)))))","v":""},null,null,null,"Unadjusted GHG (g/mi) [1]",{"$f":"IF($J$6=\"HD 2b/3\",NA(),ASTM(AR107,1))","v":0},{"$f":"IF($J$6=\"HD 2b/3\",NA(),ASTM(AS107,1))","v":0},{"$f":"IF($J$6=\"HD 2b/3\",NA(),ASTM(0.55*AR131+0.45*AS131,1))","v":0},null,null,"Intermediate Results Requiring Charge-Sustaining (CS) Test Results or Other Inputs",null,null,null,null,null,null,25,{"$f":"IF(ISBLANK(R131),\"\",IF(COUNT(R131:AA131)<>10,NA(),IF(ASTM(W131,0)=0,0,IFERROR(ASTM(R131,3)/ASTM(Z131,1),0))))","v":""},{"$f":"IF(ISBLANK(R131),\"\",IF(COUNT(R131:AA131)<>10,NA(),IF(W131=0,0,ASTM(ASTM(W131,0)*ASTM(R131,3),0))))","v":""},{"$f":"IF(ISBLANK(R131),\"\",IF(COUNT(R131:AA131)<>10,NA(),ASTM(S131,3)-ASTM(S130,3)))","v":""},{"$f":"IF(ISBLANK(R131),\"\",IF(COUNT(R131:AA131)<>10,NA(),ASTM(BG131*ASTM(T131,2),1)))","v":""},{"$f":"IF(ISBLANK(R131),\"\",IF(COUNT(R131:AA131)<>10,NA(),ASTM(ASTM($Y$142,4)*1000*(BH131/$AY$109),1)))","v":""},"",{"$f":"IF(ISBLANK(R131),\"\",IF(COUNT(R131:AA131)<>10,NA(),BI131/(33705*ASTM(R131,3))))","v":""},"",{"$f":"IF(ISBLANK(R131),\"\",IFERROR(ASTM(cityfuf(BJ131)-cityfuf(BJ130),3),\"\"))","v":""},{"$f":"IF(ISBLANK(R131),\"\",IF(OR(ISNUMBER(R131)=FALSE,ISNUMBER(AA131)=FALSE),NA(),IF(ASTM(W131,0)=0,0,BM131*ASTM(AA131,0))))","v":""},"",{"$f":"IF(ISBLANK(R131),\"\",IF(COUNT(R131:AA131)<>10,NA(),BL131*ASTM(R131,3)))","v":""},"",{"$f":"IF(ISBLANK(R131),\"\",IF(COUNT(R131:AA131)<>10,NA(),BQ131*ASTM(R131,3)))","v":""},"",{"$f":"IF(ISBLANK(R131),\"\",IF(COUNT(R131:AA131)<>10,NA(),ASTM(mdiuf(BS131),3)-ASTM(mdiuf(BS130),3)))","v":""},{"$f":"IF(ISBLANK(R131),\"\",IF(COUNT(R131:AA131)<>10,NA(),IF(ASTM(W131,0)=0,0,BT131*ASTM(W131,0)/(BQ131))))","v":""},"",{"$f":"IF(ISBLANK(R131),\"\",IF(COUNT(R131:AA131)<>10,NA(),ASTM(cityfufalt(BS131)-cityfufalt(BS130),3)))","v":""},"",{"$f":"IF(ISBLANK(R131),\"\",IF(COUNT(R131:AA131)<>10,NA(),IF(ASTM(W131,0)=0,0,BW131*ASTM(AA131,0)/(BQ131))))","v":""},null,25,{"$f":"IF(ISBLANK(AD131),\"\",IF(COUNT(AD131:AM131)<>10,NA(),IF(ASTM(AI131,0)=0,0,ASTM(AD131,3)/ASTM(AL131,1))))","v":""},{"$f":"IF(ISBLANK(AD131),\"\",IF(COUNT(AD131:AM131)<>10,NA(),IF(ASTM(AI131,0)=0,0,ASTM(ASTM(AI131,0)*ASTM(AD131,3),0))))","v":""},{"$f":"IF(ISBLANK(AD131),\"\",IF(COUNT(AD131:AM131)<>10,NA(),ASTM(AE131,3)-ASTM(AE130,3)))","v":""},{"$f":"IF(ISBLANK(AD131),\"\",IF(COUNT(AD131:AM131)<>10,NA(),ASTM(CD131*ASTM(AF131,2),1)))","v":""},{"$f":"IF(ISBLANK(AD131),\"\",IF(COUNT(AD131:AM131)<>10,NA(),ASTM(ASTM($AK$142,4)*1000*(CE131/$AZ$109),1)))","v":""},"",{"$f":"IF(ISBLANK(AD131),\"\",IF(COUNT(AD131:AM131)<>10,NA(),CF131/(33705*ASTM(AD131,3))))","v":""},"",{"$f":"IF(ISBLANK(AD131),\"\",ASTM(highwayfuf(CG131)-highwayfuf(CG130),3))","v":""},{"$f":"IF(ISBLANK(AD131),\"\",IF(OR(ISNUMBER(AD131)=FALSE,ISNUMBER(AM131)=FALSE),NA(),IF(ASTM(AI131,0)=0,0,CJ131*ASTM(AM131,0))))","v":""},"",{"$f":"IF(ISBLANK(AD131),\"\",IF(COUNT(AD131:AM131)<>10,NA(),CI131*ASTM(AD131,3)))","v":""},"",{"$f":"IF(ISBLANK(AD131),\"\",IF(COUNT(AD131:AM131)<>10,NA(),CN131*ASTM(AD131,3)))","v":""},"",{"$f":"IF(ISBLANK(AD131),\"\",IF(COUNT(AD131:AM131)<>10,NA(),ASTM(mdiuf(CP131)-mdiuf(CP130),3)))","v":""},{"$f":"IF(ISBLANK(AD131),\"\",IF(COUNT(AD131:AM131)<>10,NA(),IF(ASTM(AI131,0)=0,0,CQ131*ASTM(AI131,0)/(CN131))))","v":""},"",{"$f":"IF(ISBLANK(AD131),\"\",IF(COUNT(AD131:AM131)<>10,NA(),ASTM(highwayfufalt(CP131)-highwayfufalt(CP130),3)))","v":""},"",{"$f":"IF(ISBLANK(AD131),\"\",IF(COUNT(AD131:AM131)<>10,NA(),IF(ASTM(AI131,0)=0,0,CT131*ASTM(AM131,0)/(CN131))))","v":""}]
[null,null,null,null,null,null,null,null,null,null,null,null,null,null,null,null,26,null,null,null,null,null,null,null,null,{"$f":"IF(ISBLANK(R132),\"\",IF(OR($J$6=\"HD 2b/3\",COUNT(R132:W132)<>6,$AA$143<>\"Yes\",$AA$145<>\"Yes\"),NA(),IF(ASTM(W132,0)=0,0,ASTM((51740000*$T$142*$T$143)/((($T$142*U132)+(0.429*V132)+(0.273*W132))*((0.6*$T$143*$T$144)+5471)),1))))","v":""},{"$f":"IF(ISBLANK(R132),\"\",IF(OR(AND($J$6<>\"HD 2b/3\",COUNT(R132:W132)<>6),AND($J$6=\"HD 2b/3\",COUNT(R132)+COUNT(W132)<>2),$AA$143<>\"Yes\",$AA$145<>\"Yes\"),NA(),IF(ASTM(W132,0)=0,0,IF($J$6=\"HD 2b/3\",W132,ASTM((($T$142/0.273)*U132)+(1.571*V132)+W132,0)))))","v":""},null,26,null,null,null,null,null,null,null,null,{"$f":"IF(ISBLANK(AD132),\"\",IF(OR($J$6=\"HD 2b/3\",COUNT(AD132:AI132)<>6,$AM$47<>\"Yes\",$AM$49<>\"Yes\"),NA(),IF(ASTM(AI132,0)=0,0,ASTM((51740000*$AF$46*$AF$47)/((($AF$46*AG132)+(0.429*AH132)+(0.273*AI132))*((0.6*$AF$47*$AF$48)+5471)),1))))","v":""},{"$f":"IF(ISBLANK(AD132),\"\",IF(OR(AND($J$6<>\"HD 2b/3\",COUNT(AD132:AI132)<>6),AND($J$6=\"HD 2b/3\",COUNT(AD132)+COUNT(AI132)<>2),$AM$143<>\"Yes\",$AM$145<>\"Yes\"),NA(),IF(ASTM(AI132,0)=0,0,IF($J$6=\"HD 2b/3\",AI132,ASTM((($AF$142/0.273)*AG132)+(1.571*AH132)+AI132,0)))))","v":""},null,null,null,"Adjusted Fuel Economy (MPG) [4]",{"$f":"IF($J$6=\"HD 2b/3\",NA(),IFERROR(ASTM(1/ ( AY112 + (1-AR129)/N108),4),0))","v":0},{"$f":"IF($J$6=\"HD 2b/3\",NA(),IFERROR(ASTM(1/ ( AZ112 + (1-AS129)/O108),4),0))","v":0},{"$f":"IF($J$6=\"HD 2b/3\",NA(),IFERROR(ASTM(1/(0.55/AR132+0.45/AS132),4),0))","v":0},null,null,null,"DRIVING DISTANCE VALUES","CITY","HIGHWAY",null,null,null,26,{"$f":"IF(ISBLANK(R132),\"\",IF(COUNT(R132:AA132)<>10,NA(),IF(ASTM(W132,0)=0,0,IFERROR(ASTM(R132,3)/ASTM(Z132,1),0))))","v":""},{"$f":"IF(ISBLANK(R132),\"\",IF(COUNT(R132:AA132)<>10,NA(),IF(W132=0,0,ASTM(ASTM(W132,0)*ASTM(R132,3),0))))","v":""},{"$f":"IF(ISBLANK(R132),\"\",IF(COUNT(R132:AA132)<>10,NA(),ASTM(S132,3)-ASTM(S131,3)))","v":""},{"$f":"IF(ISBLANK(R132),\"\",IF(COUNT(R132:AA132)<>10,NA(),ASTM(BG132*ASTM(T132,2),1)))","v":""},{"$f":"IF(ISBLANK(R132),\"\",IF(COUNT(R132:AA132)<>10,NA(),ASTM(ASTM($Y$142,4)*1000*(BH132/$AY$109),1)))","v":""},"",{"$f":"IF(ISBLANK(R132),\"\",IF(COUNT(R132:AA132)<>10,NA(),BI132/(33705*ASTM(R132,3))))","v":""},"",{"$f":"IF(ISBLANK(R132),\"\",IFERROR(ASTM(cityfuf(BJ132)-cityfuf(BJ131),3),\"\"))","v":""},{"$f":"IF(ISBLANK(R132),\"\",IF(OR(ISNUMBER(R132)=FALSE,ISNUMBER(AA132)=FALSE),NA(),IF(ASTM(W132,0)=0,0,BM132*ASTM(AA132,0))))","v":""},"",{"$f":"IF(ISBLANK(R132),\"\",IF(COUNT(R132:AA132)<>10,NA(),BL132*ASTM(R132,3)))","v":""},"",{"$f":"IF(ISBLANK(R132),\"\",IF(COUNT(R132:AA132)<>10,NA(),BQ132*ASTM(R132,3)))","v":""},"",{"$f":"IF(ISBLANK(R132),\"\",IF(COUNT(R132:AA132)<>10,NA(),ASTM(mdiuf(BS132),3)-ASTM(mdiuf(BS131),3)))","v":""},{"$f":"IF(ISBLANK(R132),\"\",IF(COUNT(R132:AA132)<>10,NA(),IF(ASTM(W132,0)=0,0,BT132*ASTM(W132,0)/(BQ132))))","v":""},"",{"$f":"IF(ISBLANK(R132),\"\",IF(COUNT(R132:AA132)<>10,NA(),ASTM(cityfufalt(BS132)-cityfufalt(BS131),3)))","v":""},"",{"$f":"IF(ISBLANK(R132),\"\",IF(COUNT(R132:AA132)<>10,NA(),IF(ASTM(W132,0)=0,0,BW132*ASTM(AA132,0)/(BQ132))))","v":""},null,26,{"$f":"IF(ISBLANK(AD132),\"\",IF(COUNT(AD132:AM132)<>10,NA(),IF(ASTM(AI132,0)=0,0,ASTM(AD132,3)/ASTM(AL132,1))))","v":""},{"$f":"IF(ISBLANK(AD132),\"\",IF(COUNT(AD132:AM132)<>10,NA(),IF(ASTM(AI132,0)=0,0,ASTM(ASTM(AI132,0)*ASTM(AD132,3),0))))","v":""},{"$f":"IF(ISBLANK(AD132),\"\",IF(COUNT(AD132:AM132)<>10,NA(),ASTM(AE132,3)-ASTM(AE131,3)))","v":""},{"$f":"IF(ISBLANK(AD132),\"\",IF(COUNT(AD132:AM132)<>10,NA(),ASTM(CD132*ASTM(AF132,2),1)))","v":""},{"$f":"IF(ISBLANK(AD132),\"\",IF(COUNT(AD132:AM132)<>10,NA(),ASTM(ASTM($AK$142,4)*1000*(CE132/$AZ$109),1)))","v":""},"",{"$f":"IF(ISBLANK(AD132),\"\",IF(COUNT(AD132:AM132)<>10,NA(),CF132/(33705*ASTM(AD132,3))))","v":""},"",{"$f":"IF(ISBLANK(AD132),\"\",ASTM(highwayfuf(CG132)-highwayfuf(CG131),3))","v":""},{"$f":"IF(ISBLANK(AD132),\"\",IF(OR(ISNUMBER(AD132)=FALSE,ISNUMBER(AM132)=FALSE),NA(),IF(ASTM(AI132,0)=0,0,CJ132*ASTM(AM132,0))))","v":""},"",{"$f":"IF(ISBLANK(AD132),\"\",IF(COUNT(AD132:AM132)<>10,NA(),CI132*ASTM(AD132,3)))","v":""},"",{"$f":"IF(ISBLANK(AD132),\"\",IF(COUNT(AD132:AM132)<>10,NA(),CN132*ASTM(AD132,3)))","v":""},"",{"$f":"IF(ISBLANK(AD132),\"\",IF(COUNT(AD132:AM132)<>10,NA(),ASTM(mdiuf(CP132)-mdiuf(CP131),3)))","v":""},{"$f":"IF(ISBLANK(AD132),\"\",IF(COUNT(AD132:AM132)<>10,NA(),IF(ASTM(AI132,0)=0,0,CQ132*ASTM(AI132,0)/(CN132))))","v":""},"",{"$f":"IF(ISBLANK(AD132),\"\",IF(COUNT(AD132:AM132)<>10,NA(),ASTM(highwayfufalt(CP132)-highwayfufalt(CP131),3)))","v":""},"",{"$f":"IF(ISBLANK(AD132),\"\",IF(COUNT(AD132:AM132)<>10,NA(),IF(ASTM(AI132,0)=0,0,CT132*ASTM(AM132,0)/(CN132))))","v":""}]
[null,null,null,null,null,null,null,null,null,null,null,null,null,null,null,null,27,null,null,null,null,null,null,null,null,{"$f":"IF(ISBLANK(R133),\"\",IF(OR($J$6=\"HD 2b/3\",COUNT(R133:W133)<>6,$AA$143<>\"Yes\",$AA$145<>\"Yes\"),NA(),IF(ASTM(W133,0)=0,0,ASTM((51740000*$T$142*$T$143)/((($T$142*U133)+(0.429*V133)+(0.273*W133))*((0.6*$T$143*$T$144)+5471)),1))))","v":""},{"$f":"IF(ISBLANK(R133),\"\",IF(OR(AND($J$6<>\"HD 2b/3\",COUNT(R133:W133)<>6),AND($J$6=\"HD 2b/3\",COUNT(R133)+COUNT(W133)<>2),$AA$143<>\"Yes\",$AA$145<>\"Yes\"),NA(),IF(ASTM(W133,0)=0,0,IF($J$6=\"HD 2b/3\",W133,ASTM((($T$142/0.273)*U133)+(1.571*V133)+W133,0)))))","v":""},null,27,null,null,null,null,null,null,null,null,{"$f":"IF(ISBLANK(AD133),\"\",IF(OR($J$6=\"HD 2b/3\",COUNT(AD133:AI133)<>6,$AM$47<>\"Yes\",$AM$49<>\"Yes\"),NA(),IF(ASTM(AI133,0)=0,0,ASTM((51740000*$AF$46*$AF$47)/((($AF$46*AG133)+(0.429*AH133)+(0.273*AI133))*((0.6*$AF$47*$AF$48)+5471)),1))))","v":""},{"$f":"IF(ISBLANK(AD133),\"\",IF(OR(AND($J$6<>\"HD 2b/3\",COUNT(AD133:AI133)<>6),AND($J$6=\"HD 2b/3\",COUNT(AD133)+COUNT(AI133)<>2),$AM$143<>\"Yes\",$AM$145<>\"Yes\"),NA(),IF(ASTM(AI133,0)=0,0,IF($J$6=\"HD 2b/3\",AI133,ASTM((($AF$142/0.273)*AG133)+(1.571*AH133)+AI133,0)))))","v":""},null,null,null,"Adjusted GHG (g/mi) [1]",{"$f":"IF($J$6=\"HD 2b/3\",NA(),IFERROR(ASTM(  AY124    +(1-AR129)*ASTM(N111,1),1),0))","v":0},{"$f":"IF($J$6=\"HD 2b/3\",NA(),IFERROR(ASTM(  AZ124    +(1-AS129)*ASTM(O111,1),1),0))","v":0},{"$f":"IF($J$6=\"HD 2b/3\",NA(),IFERROR(ASTM(0.55*AR133+0.45*AS133,1),0))","v":0},null,null,null,"CD Equivalent All-Electric Range (EAER), Unadjusted (mi) [3]",{"$f":"IF($J$6=\"HD 2b/3\",NA(),ASTM(AY102*((N109-AY120)/N109),3))","v":{"$error":"#VALUE!"}},{"$f":"IF($J$6=\"HD 2b/3\",NA(),ASTM(AZ102*((O109-AZ120)/O109),3))","v":{"$error":"#VALUE!"}},null,null,null,27,{"$f":"IF(ISBLANK(R133),\"\",IF(COUNT(R133:AA133)<>10,NA(),IF(ASTM(W133,0)=0,0,IFERROR(ASTM(R133,3)/ASTM(Z133,1),0))))","v":""},{"$f":"IF(ISBLANK(R133),\"\",IF(COUNT(R133:AA133)<>10,NA(),IF(W133=0,0,ASTM(ASTM(W133,0)*ASTM(R133,3),0))))","v":""},{"$f":"IF(ISBLANK(R133),\"\",IF(COUNT(R133:AA133)<>10,NA(),ASTM(S133,3)-ASTM(S132,3)))","v":""},{"$f":"IF(ISBLANK(R133),\"\",IF(COUNT(R133:AA133)<>10,NA(),ASTM(BG133*ASTM(T133,2),1)))","v":""},{"$f":"IF(ISBLANK(R133),\"\",IF(COUNT(R133:AA133)<>10,NA(),ASTM(ASTM($Y$142,4)*1000*(BH133/$AY$109),1)))","v":""},"",{"$f":"IF(ISBLANK(R133),\"\",IF(COUNT(R133:AA133)<>10,NA(),BI133/(33705*ASTM(R133,3))))","v":""},"",{"$f":"IF(ISBLANK(R133),\"\",IFERROR(ASTM(cityfuf(BJ133)-cityfuf(BJ132),3),\"\"))","v":""},{"$f":"IF(ISBLANK(R133),\"\",IF(OR(ISNUMBER(R133)=FALSE,ISNUMBER(AA133)=FALSE),NA(),IF(ASTM(W133,0)=0,0,BM133*ASTM(AA133,0))))","v":""},"",{"$f":"IF(ISBLANK(R133),\"\",IF(COUNT(R133:AA133)<>10,NA(),BL133*ASTM(R133,3)))","v":""},"",{"$f":"IF(ISBLANK(R133),\"\",IF(COUNT(R133:AA133)<>10,NA(),BQ133*ASTM(R133,3)))","v":""},"",{"$f":"IF(ISBLANK(R133),\"\",IF(COUNT(R133:AA133)<>10,NA(),ASTM(mdiuf(BS133),3)-ASTM(mdiuf(BS132),3)))","v":""},{"$f":"IF(ISBLANK(R133),\"\",IF(COUNT(R133:AA133)<>10,NA(),IF(ASTM(W133,0)=0,0,BT133*ASTM(W133,0)/(BQ133))))","v":""},"",{"$f":"IF(ISBLANK(R133),\"\",IF(COUNT(R133:AA133)<>10,NA(),ASTM(cityfufalt(BS133)-cityfufalt(BS132),3)))","v":""},"",{"$f":"IF(ISBLANK(R133),\"\",IF(COUNT(R133:AA133)<>10,NA(),IF(ASTM(W133,0)=0,0,BW133*ASTM(AA133,0)/(BQ133))))","v":""},null,27,{"$f":"IF(ISBLANK(AD133),\"\",IF(COUNT(AD133:AM133)<>10,NA(),IF(ASTM(AI133,0)=0,0,ASTM(AD133,3)/ASTM(AL133,1))))","v":""},{"$f":"IF(ISBLANK(AD133),\"\",IF(COUNT(AD133:AM133)<>10,NA(),IF(ASTM(AI133,0)=0,0,ASTM(ASTM(AI133,0)*ASTM(AD133,3),0))))","v":""},{"$f":"IF(ISBLANK(AD133),\"\",IF(COUNT(AD133:AM133)<>10,NA(),ASTM(AE133,3)-ASTM(AE132,3)))","v":""},{"$f":"IF(ISBLANK(AD133),\"\",IF(COUNT(AD133:AM133)<>10,NA(),ASTM(CD133*ASTM(AF133,2),1)))","v":""},{"$f":"IF(ISBLANK(AD133),\"\",IF(COUNT(AD133:AM133)<>10,NA(),ASTM(ASTM($AK$142,4)*1000*(CE133/$AZ$109),1)))","v":""},"",{"$f":"IF(ISBLANK(AD133),\"\",IF(COUNT(AD133:AM133)<>10,NA(),CF133/(33705*ASTM(AD133,3))))","v":""},"",{"$f":"IF(ISBLANK(AD133),\"\",ASTM(highwayfuf(CG133)-highwayfuf(CG132),3))","v":""},{"$f":"IF(ISBLANK(AD133),\"\",IF(OR(ISNUMBER(AD133)=FALSE,ISNUMBER(AM133)=FALSE),NA(),IF(ASTM(AI133,0)=0,0,CJ133*ASTM(AM133,0))))","v":""},"",{"$f":"IF(ISBLANK(AD133),\"\",IF(COUNT(AD133:AM133)<>10,NA(),CI133*ASTM(AD133,3)))","v":""},"",{"$f":"IF(ISBLANK(AD133),\"\",IF(COUNT(AD133:AM133)<>10,NA(),CN133*ASTM(AD133,3)))","v":""},"",{"$f":"IF(ISBLANK(AD133),\"\",IF(COUNT(AD133:AM133)<>10,NA(),ASTM(mdiuf(CP133)-mdiuf(CP132),3)))","v":""},{"$f":"IF(ISBLANK(AD133),\"\",IF(COUNT(AD133:AM133)<>10,NA(),IF(ASTM(AI133,0)=0,0,CQ133*ASTM(AI133,0)/(CN133))))","v":""},"",{"$f":"IF(ISBLANK(AD133),\"\",IF(COUNT(AD133:AM133)<>10,NA(),ASTM(highwayfufalt(CP133)-highwayfufalt(CP132),3)))","v":""},"",{"$f":"IF(ISBLANK(AD133),\"\",IF(COUNT(AD133:AM133)<>10,NA(),IF(ASTM(AI133,0)=0,0,CT133*ASTM(AM133,0)/(CN133))))","v":""}]
[null,null,null,null,null,null,null,null,null,null,null,null,null,null,null,null,28,null,null,null,null,null,null,null,null,{"$f":"IF(ISBLANK(R134),\"\",IF(OR($J$6=\"HD 2b/3\",COUNT(R134:W134)<>6,$AA$143<>\"Yes\",$AA$145<>\"Yes\"),NA(),IF(ASTM(W134,0)=0,0,ASTM((51740000*$T$142*$T$143)/((($T$142*U134)+(0.429*V134)+(0.273*W134))*((0.6*$T$143*$T$144)+5471)),1))))","v":""},{"$f":"IF(ISBLANK(R134),\"\",IF(OR(AND($J$6<>\"HD 2b/3\",COUNT(R134:W134)<>6),AND($J$6=\"HD 2b/3\",COUNT(R134)+COUNT(W134)<>2),$AA$143<>\"Yes\",$AA$145<>\"Yes\"),NA(),IF(ASTM(W134,0)=0,0,IF($J$6=\"HD 2b/3\",W134,ASTM((($T$142/0.273)*U134)+(1.571*V134)+W134,0)))))","v":""},null,28,null,null,null,null,null,null,null,null,{"$f":"IF(ISBLANK(AD134),\"\",IF(OR($J$6=\"HD 2b/3\",COUNT(AD134:AI134)<>6,$AM$47<>\"Yes\",$AM$49<>\"Yes\"),NA(),IF(ASTM(AI134,0)=0,0,ASTM((51740000*$AF$46*$AF$47)/((($AF$46*AG134)+(0.429*AH134)+(0.273*AI134))*((0.6*$AF$47*$AF$48)+5471)),1))))","v":""},{"$f":"IF(ISBLANK(AD134),\"\",IF(OR(AND($J$6<>\"HD 2b/3\",COUNT(AD134:AI134)<>6),AND($J$6=\"HD 2b/3\",COUNT(AD134)+COUNT(AI134)<>2),$AM$143<>\"Yes\",$AM$145<>\"Yes\"),NA(),IF(ASTM(AI134,0)=0,0,IF($J$6=\"HD 2b/3\",AI134,ASTM((($AF$142/0.273)*AG134)+(1.571*AH134)+AI134,0)))))","v":""},null,null,null,null,null,null,null,null,null,null,"Charge-sustaining driving range, adjusted (mi) [3]",{"$f":"IF($J$6=\"HD 2b/3\",NA(),ASTM((ASTM($J$11,1)-AY114)*ASTM(N108,4),3))","v":0},{"$f":"IF($J$6=\"HD 2b/3\",NA(),ASTM((ASTM($J$11,1)-AZ114)*ASTM(O108,4),3))","v":0},null,null,null,28,{"$f":"IF(ISBLANK(R134),\"\",IF(COUNT(R134:AA134)<>10,NA(),IF(ASTM(W134,0)=0,0,IFERROR(ASTM(R134,3)/ASTM(Z134,1),0))))","v":""},{"$f":"IF(ISBLANK(R134),\"\",IF(COUNT(R134:AA134)<>10,NA(),IF(W134=0,0,ASTM(ASTM(W134,0)*ASTM(R134,3),0))))","v":""},{"$f":"IF(ISBLANK(R134),\"\",IF(COUNT(R134:AA134)<>10,NA(),ASTM(S134,3)-ASTM(S133,3)))","v":""},{"$f":"IF(ISBLANK(R134),\"\",IF(COUNT(R134:AA134)<>10,NA(),ASTM(BG134*ASTM(T134,2),1)))","v":""},{"$f":"IF(ISBLANK(R134),\"\",IF(COUNT(R134:AA134)<>10,NA(),ASTM(ASTM($Y$142,4)*1000*(BH134/$AY$109),1)))","v":""},"",{"$f":"IF(ISBLANK(R134),\"\",IF(COUNT(R134:AA134)<>10,NA(),BI134/(33705*ASTM(R134,3))))","v":""},"",{"$f":"IF(ISBLANK(R134),\"\",IFERROR(ASTM(cityfuf(BJ134)-cityfuf(BJ133),3),\"\"))","v":""},{"$f":"IF(ISBLANK(R134),\"\",IF(OR(ISNUMBER(R134)=FALSE,ISNUMBER(AA134)=FALSE),NA(),IF(ASTM(W134,0)=0,0,BM134*ASTM(AA134,0))))","v":""},"",{"$f":"IF(ISBLANK(R134),\"\",IF(COUNT(R134:AA134)<>10,NA(),BL134*ASTM(R134,3)))","v":""},"",{"$f":"IF(ISBLANK(R134),\"\",IF(COUNT(R134:AA134)<>10,NA(),BQ134*ASTM(R134,3)))","v":""},"",{"$f":"IF(ISBLANK(R134),\"\",IF(COUNT(R134:AA134)<>10,NA(),ASTM(mdiuf(BS134),3)-ASTM(mdiuf(BS133),3)))","v":""},{"$f":"IF(ISBLANK(R134),\"\",IF(COUNT(R134:AA134)<>10,NA(),IF(ASTM(W134,0)=0,0,BT134*ASTM(W134,0)/(BQ134))))","v":""},"",{"$f":"IF(ISBLANK(R134),\"\",IF(COUNT(R134:AA134)<>10,NA(),ASTM(cityfufalt(BS134)-cityfufalt(BS133),3)))","v":""},"",{"$f":"IF(ISBLANK(R134),\"\",IF(COUNT(R134:AA134)<>10,NA(),IF(ASTM(W134,0)=0,0,BW134*ASTM(AA134,0)/(BQ134))))","v":""},null,28,{"$f":"IF(ISBLANK(AD134),\"\",IF(COUNT(AD134:AM134)<>10,NA(),IF(ASTM(AI134,0)=0,0,ASTM(AD134,3)/ASTM(AL134,1))))","v":""},{"$f":"IF(ISBLANK(AD134),\"\",IF(COUNT(AD134:AM134)<>10,NA(),IF(ASTM(AI134,0)=0,0,ASTM(ASTM(AI134,0)*ASTM(AD134,3),0))))","v":""},{"$f":"IF(ISBLANK(AD134),\"\",IF(COUNT(AD134:AM134)<>10,NA(),ASTM(AE134,3)-ASTM(AE133,3)))","v":""},{"$f":"IF(ISBLANK(AD134),\"\",IF(COUNT(AD134:AM134)<>10,NA(),ASTM(CD134*ASTM(AF134,2),1)))","v":""},{"$f":"IF(ISBLANK(AD134),\"\",IF(COUNT(AD134:AM134)<>10,NA(),ASTM(ASTM($AK$142,4)*1000*(CE134/$AZ$109),1)))","v":""},"",{"$f":"IF(ISBLANK(AD134),\"\",IF(COUNT(AD134:AM134)<>10,NA(),CF134/(33705*ASTM(AD134,3))))","v":""},"",{"$f":"IF(ISBLANK(AD134),\"\",ASTM(highwayfuf(CG134)-highwayfuf(CG133),3))","v":""},{"$f":"IF(ISBLANK(AD134),\"\",IF(OR(ISNUMBER(AD134)=FALSE,ISNUMBER(AM134)=FALSE),NA(),IF(ASTM(AI134,0)=0,0,CJ134*ASTM(AM134,0))))","v":""},"",{"$f":"IF(ISBLANK(AD134),\"\",IF(COUNT(AD134:AM134)<>10,NA(),CI134*ASTM(AD134,3)))","v":""},"",{"$f":"IF(ISBLANK(AD134),\"\",IF(COUNT(AD134:AM134)<>10,NA(),CN134*ASTM(AD134,3)))","v":""},"",{"$f":"IF(ISBLANK(AD134),\"\",IF(COUNT(AD134:AM134)<>10,NA(),ASTM(mdiuf(CP134)-mdiuf(CP133),3)))","v":""},{"$f":"IF(ISBLANK(AD134),\"\",IF(COUNT(AD134:AM134)<>10,NA(),IF(ASTM(AI134,0)=0,0,CQ134*ASTM(AI134,0)/(CN134))))","v":""},"",{"$f":"IF(ISBLANK(AD134),\"\",IF(COUNT(AD134:AM134)<>10,NA(),ASTM(highwayfufalt(CP134)-highwayfufalt(CP133),3)))","v":""},"",{"$f":"IF(ISBLANK(AD134),\"\",IF(COUNT(AD134:AM134)<>10,NA(),IF(ASTM(AI134,0)=0,0,CT134*ASTM(AM134,0)/(CN134))))","v":""}]
[null,null,null,null,null,null,null,null,null,null,null,null,null,null,null,null,29,null,null,null,null,null,null,null,null,{"$f":"IF(ISBLANK(R135),\"\",IF(OR($J$6=\"HD 2b/3\",COUNT(R135:W135)<>6,$AA$143<>\"Yes\",$AA$145<>\"Yes\"),NA(),IF(ASTM(W135,0)=0,0,ASTM((51740000*$T$142*$T$143)/((($T$142*U135)+(0.429*V135)+(0.273*W135))*((0.6*$T$143*$T$144)+5471)),1))))","v":""},{"$f":"IF(ISBLANK(R135),\"\",IF(OR(AND($J$6<>\"HD 2b/3\",COUNT(R135:W135)<>6),AND($J$6=\"HD 2b/3\",COUNT(R135)+COUNT(W135)<>2),$AA$143<>\"Yes\",$AA$145<>\"Yes\"),NA(),IF(ASTM(W135,0)=0,0,IF($J$6=\"HD 2b/3\",W135,ASTM((($T$142/0.273)*U135)+(1.571*V135)+W135,0)))))","v":""},null,29,null,null,null,null,null,null,null,null,{"$f":"IF(ISBLANK(AD135),\"\",IF(OR($J$6=\"HD 2b/3\",COUNT(AD135:AI135)<>6,$AM$47<>\"Yes\",$AM$49<>\"Yes\"),NA(),IF(ASTM(AI135,0)=0,0,ASTM((51740000*$AF$46*$AF$47)/((($AF$46*AG135)+(0.429*AH135)+(0.273*AI135))*((0.6*$AF$47*$AF$48)+5471)),1))))","v":""},{"$f":"IF(ISBLANK(AD135),\"\",IF(OR(AND($J$6<>\"HD 2b/3\",COUNT(AD135:AI135)<>6),AND($J$6=\"HD 2b/3\",COUNT(AD135)+COUNT(AI135)<>2),$AM$143<>\"Yes\",$AM$145<>\"Yes\"),NA(),IF(ASTM(AI135,0)=0,0,IF($J$6=\"HD 2b/3\",AI135,ASTM((($AF$142/0.273)*AG135)+(1.571*AH135)+AI135,0)))))","v":""},null,null,null,null,null,null,null,null,null,null,"UTILITY FACTORS & OTHER METRICS","CITY","HIGHWAY",null,null,null,29,{"$f":"IF(ISBLANK(R135),\"\",IF(COUNT(R135:AA135)<>10,NA(),IF(ASTM(W135,0)=0,0,IFERROR(ASTM(R135,3)/ASTM(Z135,1),0))))","v":""},{"$f":"IF(ISBLANK(R135),\"\",IF(COUNT(R135:AA135)<>10,NA(),IF(W135=0,0,ASTM(ASTM(W135,0)*ASTM(R135,3),0))))","v":""},{"$f":"IF(ISBLANK(R135),\"\",IF(COUNT(R135:AA135)<>10,NA(),ASTM(S135,3)-ASTM(S134,3)))","v":""},{"$f":"IF(ISBLANK(R135),\"\",IF(COUNT(R135:AA135)<>10,NA(),ASTM(BG135*ASTM(T135,2),1)))","v":""},{"$f":"IF(ISBLANK(R135),\"\",IF(COUNT(R135:AA135)<>10,NA(),ASTM(ASTM($Y$142,4)*1000*(BH135/$AY$109),1)))","v":""},"",{"$f":"IF(ISBLANK(R135),\"\",IF(COUNT(R135:AA135)<>10,NA(),BI135/(33705*ASTM(R135,3))))","v":""},"",{"$f":"IF(ISBLANK(R135),\"\",IFERROR(ASTM(cityfuf(BJ135)-cityfuf(BJ134),3),\"\"))","v":""},{"$f":"IF(ISBLANK(R135),\"\",IF(OR(ISNUMBER(R135)=FALSE,ISNUMBER(AA135)=FALSE),NA(),IF(ASTM(W135,0)=0,0,BM135*ASTM(AA135,0))))","v":""},"",{"$f":"IF(ISBLANK(R135),\"\",IF(COUNT(R135:AA135)<>10,NA(),BL135*ASTM(R135,3)))","v":""},"",{"$f":"IF(ISBLANK(R135),\"\",IF(COUNT(R135:AA135)<>10,NA(),BQ135*ASTM(R135,3)))","v":""},"",{"$f":"IF(ISBLANK(R135),\"\",IF(COUNT(R135:AA135)<>10,NA(),ASTM(mdiuf(BS135),3)-ASTM(mdiuf(BS134),3)))","v":""},{"$f":"IF(ISBLANK(R135),\"\",IF(COUNT(R135:AA135)<>10,NA(),IF(ASTM(W135,0)=0,0,BT135*ASTM(W135,0)/(BQ135))))","v":""},"",{"$f":"IF(ISBLANK(R135),\"\",IF(COUNT(R135:AA135)<>10,NA(),ASTM(cityfufalt(BS135)-cityfufalt(BS134),3)))","v":""},"",{"$f":"IF(ISBLANK(R135),\"\",IF(COUNT(R135:AA135)<>10,NA(),IF(ASTM(W135,0)=0,0,BW135*ASTM(AA135,0)/(BQ135))))","v":""},null,29,{"$f":"IF(ISBLANK(AD135),\"\",IF(COUNT(AD135:AM135)<>10,NA(),IF(ASTM(AI135,0)=0,0,ASTM(AD135,3)/ASTM(AL135,1))))","v":""},{"$f":"IF(ISBLANK(AD135),\"\",IF(COUNT(AD135:AM135)<>10,NA(),IF(ASTM(AI135,0)=0,0,ASTM(ASTM(AI135,0)*ASTM(AD135,3),0))))","v":""},{"$f":"IF(ISBLANK(AD135),\"\",IF(COUNT(AD135:AM135)<>10,NA(),ASTM(AE135,3)-ASTM(AE134,3)))","v":""},{"$f":"IF(ISBLANK(AD135),\"\",IF(COUNT(AD135:AM135)<>10,NA(),ASTM(CD135*ASTM(AF135,2),1)))","v":""},{"$f":"IF(ISBLANK(AD135),\"\",IF(COUNT(AD135:AM135)<>10,NA(),ASTM(ASTM($AK$142,4)*1000*(CE135/$AZ$109),1)))","v":""},"",{"$f":"IF(ISBLANK(AD135),\"\",IF(COUNT(AD135:AM135)<>10,NA(),CF135/(33705*ASTM(AD135,3))))","v":""},"",{"$f":"IF(ISBLANK(AD135),\"\",ASTM(highwayfuf(CG135)-highwayfuf(CG134),3))","v":""},{"$f":"IF(ISBLANK(AD135),\"\",IF(OR(ISNUMBER(AD135)=FALSE,ISNUMBER(AM135)=FALSE),NA(),IF(ASTM(AI135,0)=0,0,CJ135*ASTM(AM135,0))))","v":""},"",{"$f":"IF(ISBLANK(AD135),\"\",IF(COUNT(AD135:AM135)<>10,NA(),CI135*ASTM(AD135,3)))","v":""},"",{"$f":"IF(ISBLANK(AD135),\"\",IF(COUNT(AD135:AM135)<>10,NA(),CN135*ASTM(AD135,3)))","v":""},"",{"$f":"IF(ISBLANK(AD135),\"\",IF(COUNT(AD135:AM135)<>10,NA(),ASTM(mdiuf(CP135)-mdiuf(CP134),3)))","v":""},{"$f":"IF(ISBLANK(AD135),\"\",IF(COUNT(AD135:AM135)<>10,NA(),IF(ASTM(AI135,0)=0,0,CQ135*ASTM(AI135,0)/(CN135))))","v":""},"",{"$f":"IF(ISBLANK(AD135),\"\",IF(COUNT(AD135:AM135)<>10,NA(),ASTM(highwayfufalt(CP135)-highwayfufalt(CP134),3)))","v":""},"",{"$f":"IF(ISBLANK(AD135),\"\",IF(COUNT(AD135:AM135)<>10,NA(),IF(ASTM(AI135,0)=0,0,CT135*ASTM(AM135,0)/(CN135))))","v":""}]
[null,null,null,null,null,null,null,null,null,null,null,null,null,null,null,null,30,null,null,null,null,null,null,null,null,{"$f":"IF(ISBLANK(R136),\"\",IF(OR($J$6=\"HD 2b/3\",COUNT(R136:W136)<>6,$AA$143<>\"Yes\",$AA$145<>\"Yes\"),NA(),IF(ASTM(W136,0)=0,0,ASTM((51740000*$T$142*$T$143)/((($T$142*U136)+(0.429*V136)+(0.273*W136))*((0.6*$T$143*$T$144)+5471)),1))))","v":""},{"$f":"IF(ISBLANK(R136),\"\",IF(OR(AND($J$6<>\"HD 2b/3\",COUNT(R136:W136)<>6),AND($J$6=\"HD 2b/3\",COUNT(R136)+COUNT(W136)<>2),$AA$143<>\"Yes\",$AA$145<>\"Yes\"),NA(),IF(ASTM(W136,0)=0,0,IF($J$6=\"HD 2b/3\",W136,ASTM((($T$142/0.273)*U136)+(1.571*V136)+W136,0)))))","v":""},null,30,null,null,null,null,null,null,null,null,{"$f":"IF(ISBLANK(AD136),\"\",IF(OR($J$6=\"HD 2b/3\",COUNT(AD136:AI136)<>6,$AM$47<>\"Yes\",$AM$49<>\"Yes\"),NA(),IF(ASTM(AI136,0)=0,0,ASTM((51740000*$AF$46*$AF$47)/((($AF$46*AG136)+(0.429*AH136)+(0.273*AI136))*((0.6*$AF$47*$AF$48)+5471)),1))))","v":""},{"$f":"IF(ISBLANK(AD136),\"\",IF(OR(AND($J$6<>\"HD 2b/3\",COUNT(AD136:AI136)<>6),AND($J$6=\"HD 2b/3\",COUNT(AD136)+COUNT(AI136)<>2),$AM$143<>\"Yes\",$AM$145<>\"Yes\"),NA(),IF(ASTM(AI136,0)=0,0,IF($J$6=\"HD 2b/3\",AI136,ASTM((($AF$142/0.273)*AG136)+(1.571*AH136)+AI136,0)))))","v":""},null,null,null,null,null,null,null,null,null,null,"CD 55/45 Fleet Utility Factor (FUF) for EAER [3]",{"$f":"IF($J$6=\"HD 2b/3\",NA(),ASTM(cityfuf(AY133),3))","v":{"$error":"#VALUE!"}},{"$f":"IF($J$6=\"HD 2b/3\",NA(),ASTM(highwayfuf(AZ133),3))","v":{"$error":"#VALUE!"}},null,null,null,30,{"$f":"IF(ISBLANK(R136),\"\",IF(COUNT(R136:AA136)<>10,NA(),IF(ASTM(W136,0)=0,0,IFERROR(ASTM(R136,3)/ASTM(Z136,1),0))))","v":""},{"$f":"IF(ISBLANK(R136),\"\",IF(COUNT(R136:AA136)<>10,NA(),IF(W136=0,0,ASTM(ASTM(W136,0)*ASTM(R136,3),0))))","v":""},{"$f":"IF(ISBLANK(R136),\"\",IF(COUNT(R136:AA136)<>10,NA(),ASTM(S136,3)-ASTM(S135,3)))","v":""},{"$f":"IF(ISBLANK(R136),\"\",IF(COUNT(R136:AA136)<>10,NA(),ASTM(BG136*ASTM(T136,2),1)))","v":""},{"$f":"IF(ISBLANK(R136),\"\",IF(COUNT(R136:AA136)<>10,NA(),ASTM(ASTM($Y$142,4)*1000*(BH136/$AY$109),1)))","v":""},"",{"$f":"IF(ISBLANK(R136),\"\",IF(COUNT(R136:AA136)<>10,NA(),BI136/(33705*ASTM(R136,3))))","v":""},"",{"$f":"IF(ISBLANK(R136),\"\",IFERROR(ASTM(cityfuf(BJ136)-cityfuf(BJ135),3),\"\"))","v":""},{"$f":"IF(ISBLANK(R136),\"\",IF(OR(ISNUMBER(R136)=FALSE,ISNUMBER(AA136)=FALSE),NA(),IF(ASTM(W136,0)=0,0,BM136*ASTM(AA136,0))))","v":""},"",{"$f":"IF(ISBLANK(R136),\"\",IF(COUNT(R136:AA136)<>10,NA(),BL136*ASTM(R136,3)))","v":""},"",{"$f":"IF(ISBLANK(R136),\"\",IF(COUNT(R136:AA136)<>10,NA(),BQ136*ASTM(R136,3)))","v":""},"",{"$f":"IF(ISBLANK(R136),\"\",IF(COUNT(R136:AA136)<>10,NA(),ASTM(mdiuf(BS136),3)-ASTM(mdiuf(BS135),3)))","v":""},{"$f":"IF(ISBLANK(R136),\"\",IF(COUNT(R136:AA136)<>10,NA(),IF(ASTM(W136,0)=0,0,BT136*ASTM(W136,0)/(BQ136))))","v":""},"",{"$f":"IF(ISBLANK(R136),\"\",IF(COUNT(R136:AA136)<>10,NA(),ASTM(cityfufalt(BS136)-cityfufalt(BS135),3)))","v":""},"",{"$f":"IF(ISBLANK(R136),\"\",IF(COUNT(R136:AA136)<>10,NA(),IF(ASTM(W136,0)=0,0,BW136*ASTM(AA136,0)/(BQ136))))","v":""},null,30,{"$f":"IF(ISBLANK(AD136),\"\",IF(COUNT(AD136:AM136)<>10,NA(),IF(ASTM(AI136,0)=0,0,ASTM(AD136,3)/ASTM(AL136,1))))","v":""},{"$f":"IF(ISBLANK(AD136),\"\",IF(COUNT(AD136:AM136)<>10,NA(),IF(ASTM(AI136,0)=0,0,ASTM(ASTM(AI136,0)*ASTM(AD136,3),0))))","v":""},{"$f":"IF(ISBLANK(AD136),\"\",IF(COUNT(AD136:AM136)<>10,NA(),ASTM(AE136,3)-ASTM(AE135,3)))","v":""},{"$f":"IF(ISBLANK(AD136),\"\",IF(COUNT(AD136:AM136)<>10,NA(),ASTM(CD136*ASTM(AF136,2),1)))","v":""},{"$f":"IF(ISBLANK(AD136),\"\",IF(COUNT(AD136:AM136)<>10,NA(),ASTM(ASTM($AK$142,4)*1000*(CE136/$AZ$109),1)))","v":""},"",{"$f":"IF(ISBLANK(AD136),\"\",IF(COUNT(AD136:AM136)<>10,NA(),CF136/(33705*ASTM(AD136,3))))","v":""},"",{"$f":"IF(ISBLANK(AD136),\"\",ASTM(highwayfuf(CG136)-highwayfuf(CG135),3))","v":""},{"$f":"IF(ISBLANK(AD136),\"\",IF(OR(ISNUMBER(AD136)=FALSE,ISNUMBER(AM136)=FALSE),NA(),IF(ASTM(AI136,0)=0,0,CJ136*ASTM(AM136,0))))","v":""},"",{"$f":"IF(ISBLANK(AD136),\"\",IF(COUNT(AD136:AM136)<>10,NA(),CI136*ASTM(AD136,3)))","v":""},"",{"$f":"IF(ISBLANK(AD136),\"\",IF(COUNT(AD136:AM136)<>10,NA(),CN136*ASTM(AD136,3)))","v":""},"",{"$f":"IF(ISBLANK(AD136),\"\",IF(COUNT(AD136:AM136)<>10,NA(),ASTM(mdiuf(CP136)-mdiuf(CP135),3)))","v":""},{"$f":"IF(ISBLANK(AD136),\"\",IF(COUNT(AD136:AM136)<>10,NA(),IF(ASTM(AI136,0)=0,0,CQ136*ASTM(AI136,0)/(CN136))))","v":""},"",{"$f":"IF(ISBLANK(AD136),\"\",IF(COUNT(AD136:AM136)<>10,NA(),ASTM(highwayfufalt(CP136)-highwayfufalt(CP135),3)))","v":""},"",{"$f":"IF(ISBLANK(AD136),\"\",IF(COUNT(AD136:AM136)<>10,NA(),IF(ASTM(AI136,0)=0,0,CT136*ASTM(AM136,0)/(CN136))))","v":""}]
[null,null,null,null,null,null,null,null,null,null,null,null,null,null,null,null,31,null,null,null,null,null,null,null,null,{"$f":"IF(ISBLANK(R137),\"\",IF(OR($J$6=\"HD 2b/3\",COUNT(R137:W137)<>6,$AA$143<>\"Yes\",$AA$145<>\"Yes\"),NA(),IF(ASTM(W137,0)=0,0,ASTM((51740000*$T$142*$T$143)/((($T$142*U137)+(0.429*V137)+(0.273*W137))*((0.6*$T$143*$T$144)+5471)),1))))","v":""},{"$f":"IF(ISBLANK(R137),\"\",IF(OR(AND($J$6<>\"HD 2b/3\",COUNT(R137:W137)<>6),AND($J$6=\"HD 2b/3\",COUNT(R137)+COUNT(W137)<>2),$AA$143<>\"Yes\",$AA$145<>\"Yes\"),NA(),IF(ASTM(W137,0)=0,0,IF($J$6=\"HD 2b/3\",W137,ASTM((($T$142/0.273)*U137)+(1.571*V137)+W137,0)))))","v":""},null,31,null,null,null,null,null,null,null,null,{"$f":"IF(ISBLANK(AD137),\"\",IF(OR($J$6=\"HD 2b/3\",COUNT(AD137:AI137)<>6,$AM$47<>\"Yes\",$AM$49<>\"Yes\"),NA(),IF(ASTM(AI137,0)=0,0,ASTM((51740000*$AF$46*$AF$47)/((($AF$46*AG137)+(0.429*AH137)+(0.273*AI137))*((0.6*$AF$47*$AF$48)+5471)),1))))","v":""},{"$f":"IF(ISBLANK(AD137),\"\",IF(OR(AND($J$6<>\"HD 2b/3\",COUNT(AD137:AI137)<>6),AND($J$6=\"HD 2b/3\",COUNT(AD137)+COUNT(AI137)<>2),$AM$143<>\"Yes\",$AM$145<>\"Yes\"),NA(),IF(ASTM(AI137,0)=0,0,IF($J$6=\"HD 2b/3\",AI137,ASTM((($AF$142/0.273)*AG137)+(1.571*AH137)+AI137,0)))))","v":""},null,null,null,null,null,null,null,null,null,null,"FUEL COSTS: PROCESS FOR DERIVING A COMPOSITE CD/CS COST PER MILE","CITY","HIGHWAY",null,null,null,31,{"$f":"IF(ISBLANK(R137),\"\",IF(COUNT(R137:AA137)<>10,NA(),IF(ASTM(W137,0)=0,0,IFERROR(ASTM(R137,3)/ASTM(Z137,1),0))))","v":""},{"$f":"IF(ISBLANK(R137),\"\",IF(COUNT(R137:AA137)<>10,NA(),IF(W137=0,0,ASTM(ASTM(W137,0)*ASTM(R137,3),0))))","v":""},{"$f":"IF(ISBLANK(R137),\"\",IF(COUNT(R137:AA137)<>10,NA(),ASTM(S137,3)-ASTM(S136,3)))","v":""},{"$f":"IF(ISBLANK(R137),\"\",IF(COUNT(R137:AA137)<>10,NA(),ASTM(BG137*ASTM(T137,2),1)))","v":""},{"$f":"IF(ISBLANK(R137),\"\",IF(COUNT(R137:AA137)<>10,NA(),ASTM(ASTM($Y$142,4)*1000*(BH137/$AY$109),1)))","v":""},"",{"$f":"IF(ISBLANK(R137),\"\",IF(COUNT(R137:AA137)<>10,NA(),BI137/(33705*ASTM(R137,3))))","v":""},"",{"$f":"IF(ISBLANK(R137),\"\",IFERROR(ASTM(cityfuf(BJ137)-cityfuf(BJ136),3),\"\"))","v":""},{"$f":"IF(ISBLANK(R137),\"\",IF(OR(ISNUMBER(R137)=FALSE,ISNUMBER(AA137)=FALSE),NA(),IF(ASTM(W137,0)=0,0,BM137*ASTM(AA137,0))))","v":""},"",{"$f":"IF(ISBLANK(R137),\"\",IF(COUNT(R137:AA137)<>10,NA(),BL137*ASTM(R137,3)))","v":""},"",{"$f":"IF(ISBLANK(R137),\"\",IF(COUNT(R137:AA137)<>10,NA(),BQ137*ASTM(R137,3)))","v":""},"",{"$f":"IF(ISBLANK(R137),\"\",IF(COUNT(R137:AA137)<>10,NA(),ASTM(mdiuf(BS137),3)-ASTM(mdiuf(BS136),3)))","v":""},{"$f":"IF(ISBLANK(R137),\"\",IF(COUNT(R137:AA137)<>10,NA(),IF(ASTM(W137,0)=0,0,BT137*ASTM(W137,0)/(BQ137))))","v":""},"",{"$f":"IF(ISBLANK(R137),\"\",IF(COUNT(R137:AA137)<>10,NA(),ASTM(cityfufalt(BS137)-cityfufalt(BS136),3)))","v":""},"",{"$f":"IF(ISBLANK(R137),\"\",IF(COUNT(R137:AA137)<>10,NA(),IF(ASTM(W137,0)=0,0,BW137*ASTM(AA137,0)/(BQ137))))","v":""},null,31,{"$f":"IF(ISBLANK(AD137),\"\",IF(COUNT(AD137:AM137)<>10,NA(),IF(ASTM(AI137,0)=0,0,ASTM(AD137,3)/ASTM(AL137,1))))","v":""},{"$f":"IF(ISBLANK(AD137),\"\",IF(COUNT(AD137:AM137)<>10,NA(),IF(ASTM(AI137,0)=0,0,ASTM(ASTM(AI137,0)*ASTM(AD137,3),0))))","v":""},{"$f":"IF(ISBLANK(AD137),\"\",IF(COUNT(AD137:AM137)<>10,NA(),ASTM(AE137,3)-ASTM(AE136,3)))","v":""},{"$f":"IF(ISBLANK(AD137),\"\",IF(COUNT(AD137:AM137)<>10,NA(),ASTM(CD137*ASTM(AF137,2),1)))","v":""},{"$f":"IF(ISBLANK(AD137),\"\",IF(COUNT(AD137:AM137)<>10,NA(),ASTM(ASTM($AK$142,4)*1000*(CE137/$AZ$109),1)))","v":""},"",{"$f":"IF(ISBLANK(AD137),\"\",IF(COUNT(AD137:AM137)<>10,NA(),CF137/(33705*ASTM(AD137,3))))","v":""},"",{"$f":"IF(ISBLANK(AD137),\"\",ASTM(highwayfuf(CG137)-highwayfuf(CG136),3))","v":""},{"$f":"IF(ISBLANK(AD137),\"\",IF(OR(ISNUMBER(AD137)=FALSE,ISNUMBER(AM137)=FALSE),NA(),IF(ASTM(AI137,0)=0,0,CJ137*ASTM(AM137,0))))","v":""},"",{"$f":"IF(ISBLANK(AD137),\"\",IF(COUNT(AD137:AM137)<>10,NA(),CI137*ASTM(AD137,3)))","v":""},"",{"$f":"IF(ISBLANK(AD137),\"\",IF(COUNT(AD137:AM137)<>10,NA(),CN137*ASTM(AD137,3)))","v":""},"",{"$f":"IF(ISBLANK(AD137),\"\",IF(COUNT(AD137:AM137)<>10,NA(),ASTM(mdiuf(CP137)-mdiuf(CP136),3)))","v":""},{"$f":"IF(ISBLANK(AD137),\"\",IF(COUNT(AD137:AM137)<>10,NA(),IF(ASTM(AI137,0)=0,0,CQ137*ASTM(AI137,0)/(CN137))))","v":""},"",{"$f":"IF(ISBLANK(AD137),\"\",IF(COUNT(AD137:AM137)<>10,NA(),ASTM(highwayfufalt(CP137)-highwayfufalt(CP136),3)))","v":""},"",{"$f":"IF(ISBLANK(AD137),\"\",IF(COUNT(AD137:AM137)<>10,NA(),IF(ASTM(AI137,0)=0,0,CT137*ASTM(AM137,0)/(CN137))))","v":""}]
[null,null,null,null,null,null,null,null,null,null,null,null,null,null,null,null,32,null,null,null,null,null,null,null,null,{"$f":"IF(ISBLANK(R138),\"\",IF(OR($J$6=\"HD 2b/3\",COUNT(R138:W138)<>6,$AA$143<>\"Yes\",$AA$145<>\"Yes\"),NA(),IF(ASTM(W138,0)=0,0,ASTM((51740000*$T$142*$T$143)/((($T$142*U138)+(0.429*V138)+(0.273*W138))*((0.6*$T$143*$T$144)+5471)),1))))","v":""},{"$f":"IF(ISBLANK(R138),\"\",IF(OR(AND($J$6<>\"HD 2b/3\",COUNT(R138:W138)<>6),AND($J$6=\"HD 2b/3\",COUNT(R138)+COUNT(W138)<>2),$AA$143<>\"Yes\",$AA$145<>\"Yes\"),NA(),IF(ASTM(W138,0)=0,0,IF($J$6=\"HD 2b/3\",W138,ASTM((($T$142/0.273)*U138)+(1.571*V138)+W138,0)))))","v":""},null,32,null,null,null,null,null,null,null,null,{"$f":"IF(ISBLANK(AD138),\"\",IF(OR($J$6=\"HD 2b/3\",COUNT(AD138:AI138)<>6,$AM$47<>\"Yes\",$AM$49<>\"Yes\"),NA(),IF(ASTM(AI138,0)=0,0,ASTM((51740000*$AF$46*$AF$47)/((($AF$46*AG138)+(0.429*AH138)+(0.273*AI138))*((0.6*$AF$47*$AF$48)+5471)),1))))","v":""},{"$f":"IF(ISBLANK(AD138),\"\",IF(OR(AND($J$6<>\"HD 2b/3\",COUNT(AD138:AI138)<>6),AND($J$6=\"HD 2b/3\",COUNT(AD138)+COUNT(AI138)<>2),$AM$143<>\"Yes\",$AM$145<>\"Yes\"),NA(),IF(ASTM(AI138,0)=0,0,IF($J$6=\"HD 2b/3\",AI138,ASTM((($AF$142/0.273)*AG138)+(1.571*AH138)+AI138,0)))))","v":""},null,null,null,null,null,null,null,null,null,null,"CD cost per mile - electricity ($/mi) [3]",{"$f":"IF($J$6=\"HD 2b/3\",NA(),ASTM($F$37*$AY$108/100,3))","v":{"$error":"#VALUE!"}},{"$f":"IF($J$6=\"HD 2b/3\",NA(),ASTM($F$37*$AZ$108/100,3))","v":{"$error":"#VALUE!"}},null,null,null,32,{"$f":"IF(ISBLANK(R138),\"\",IF(COUNT(R138:AA138)<>10,NA(),IF(ASTM(W138,0)=0,0,IFERROR(ASTM(R138,3)/ASTM(Z138,1),0))))","v":""},{"$f":"IF(ISBLANK(R138),\"\",IF(COUNT(R138:AA138)<>10,NA(),IF(W138=0,0,ASTM(ASTM(W138,0)*ASTM(R138,3),0))))","v":""},{"$f":"IF(ISBLANK(R138),\"\",IF(COUNT(R138:AA138)<>10,NA(),ASTM(S138,3)-ASTM(S137,3)))","v":""},{"$f":"IF(ISBLANK(R138),\"\",IF(COUNT(R138:AA138)<>10,NA(),ASTM(BG138*ASTM(T138,2),1)))","v":""},{"$f":"IF(ISBLANK(R138),\"\",IF(COUNT(R138:AA138)<>10,NA(),ASTM(ASTM($Y$142,4)*1000*(BH138/$AY$109),1)))","v":""},"",{"$f":"IF(ISBLANK(R138),\"\",IF(COUNT(R138:AA138)<>10,NA(),BI138/(33705*ASTM(R138,3))))","v":""},"",{"$f":"IF(ISBLANK(R138),\"\",IFERROR(ASTM(cityfuf(BJ138)-cityfuf(BJ137),3),\"\"))","v":""},{"$f":"IF(ISBLANK(R138),\"\",IF(OR(ISNUMBER(R138)=FALSE,ISNUMBER(AA138)=FALSE),NA(),IF(ASTM(W138,0)=0,0,BM138*ASTM(AA138,0))))","v":""},"",{"$f":"IF(ISBLANK(R138),\"\",IF(COUNT(R138:AA138)<>10,NA(),BL138*ASTM(R138,3)))","v":""},"",{"$f":"IF(ISBLANK(R138),\"\",IF(COUNT(R138:AA138)<>10,NA(),BQ138*ASTM(R138,3)))","v":""},"",{"$f":"IF(ISBLANK(R138),\"\",IF(COUNT(R138:AA138)<>10,NA(),ASTM(mdiuf(BS138),3)-ASTM(mdiuf(BS137),3)))","v":""},{"$f":"IF(ISBLANK(R138),\"\",IF(COUNT(R138:AA138)<>10,NA(),IF(ASTM(W138,0)=0,0,BT138*ASTM(W138,0)/(BQ138))))","v":""},"",{"$f":"IF(ISBLANK(R138),\"\",IF(COUNT(R138:AA138)<>10,NA(),ASTM(cityfufalt(BS138)-cityfufalt(BS137),3)))","v":""},"",{"$f":"IF(ISBLANK(R138),\"\",IF(COUNT(R138:AA138)<>10,NA(),IF(ASTM(W138,0)=0,0,BW138*ASTM(AA138,0)/(BQ138))))","v":""},null,32,{"$f":"IF(ISBLANK(AD138),\"\",IF(COUNT(AD138:AM138)<>10,NA(),IF(ASTM(AI138,0)=0,0,ASTM(AD138,3)/ASTM(AL138,1))))","v":""},{"$f":"IF(ISBLANK(AD138),\"\",IF(COUNT(AD138:AM138)<>10,NA(),IF(ASTM(AI138,0)=0,0,ASTM(ASTM(AI138,0)*ASTM(AD138,3),0))))","v":""},{"$f":"IF(ISBLANK(AD138),\"\",IF(COUNT(AD138:AM138)<>10,NA(),ASTM(AE138,3)-ASTM(AE137,3)))","v":""},{"$f":"IF(ISBLANK(AD138),\"\",IF(COUNT(AD138:AM138)<>10,NA(),ASTM(CD138*ASTM(AF138,2),1)))","v":""},{"$f":"IF(ISBLANK(AD138),\"\",IF(COUNT(AD138:AM138)<>10,NA(),ASTM(ASTM($AK$142,4)*1000*(CE138/$AZ$109),1)))","v":""},"",{"$f":"IF(ISBLANK(AD138),\"\",IF(COUNT(AD138:AM138)<>10,NA(),CF138/(33705*ASTM(AD138,3))))","v":""},"",{"$f":"IF(ISBLANK(AD138),\"\",ASTM(highwayfuf(CG138)-highwayfuf(CG137),3))","v":""},{"$f":"IF(ISBLANK(AD138),\"\",IF(OR(ISNUMBER(AD138)=FALSE,ISNUMBER(AM138)=FALSE),NA(),IF(ASTM(AI138,0)=0,0,CJ138*ASTM(AM138,0))))","v":""},"",{"$f":"IF(ISBLANK(AD138),\"\",IF(COUNT(AD138:AM138)<>10,NA(),CI138*ASTM(AD138,3)))","v":""},"",{"$f":"IF(ISBLANK(AD138),\"\",IF(COUNT(AD138:AM138)<>10,NA(),CN138*ASTM(AD138,3)))","v":""},"",{"$f":"IF(ISBLANK(AD138),\"\",IF(COUNT(AD138:AM138)<>10,NA(),ASTM(mdiuf(CP138)-mdiuf(CP137),3)))","v":""},{"$f":"IF(ISBLANK(AD138),\"\",IF(COUNT(AD138:AM138)<>10,NA(),IF(ASTM(AI138,0)=0,0,CQ138*ASTM(AI138,0)/(CN138))))","v":""},"",{"$f":"IF(ISBLANK(AD138),\"\",IF(COUNT(AD138:AM138)<>10,NA(),ASTM(highwayfufalt(CP138)-highwayfufalt(CP137),3)))","v":""},"",{"$f":"IF(ISBLANK(AD138),\"\",IF(COUNT(AD138:AM138)<>10,NA(),IF(ASTM(AI138,0)=0,0,CT138*ASTM(AM138,0)/(CN138))))","v":""}]
[null,null,null,null,null,null,null,null,null,null,null,null,null,null,null,null,33,null,null,null,null,null,null,null,null,{"$f":"IF(ISBLANK(R139),\"\",IF(OR($J$6=\"HD 2b/3\",COUNT(R139:W139)<>6,$AA$143<>\"Yes\",$AA$145<>\"Yes\"),NA(),IF(ASTM(W139,0)=0,0,ASTM((51740000*$T$142*$T$143)/((($T$142*U139)+(0.429*V139)+(0.273*W139))*((0.6*$T$143*$T$144)+5471)),1))))","v":""},{"$f":"IF(ISBLANK(R139),\"\",IF(OR(AND($J$6<>\"HD 2b/3\",COUNT(R139:W139)<>6),AND($J$6=\"HD 2b/3\",COUNT(R139)+COUNT(W139)<>2),$AA$143<>\"Yes\",$AA$145<>\"Yes\"),NA(),IF(ASTM(W139,0)=0,0,IF($J$6=\"HD 2b/3\",W139,ASTM((($T$142/0.273)*U139)+(1.571*V139)+W139,0)))))","v":""},null,33,null,null,null,null,null,null,null,null,{"$f":"IF(ISBLANK(AD139),\"\",IF(OR($J$6=\"HD 2b/3\",COUNT(AD139:AI139)<>6,$AM$47<>\"Yes\",$AM$49<>\"Yes\"),NA(),IF(ASTM(AI139,0)=0,0,ASTM((51740000*$AF$46*$AF$47)/((($AF$46*AG139)+(0.429*AH139)+(0.273*AI139))*((0.6*$AF$47*$AF$48)+5471)),1))))","v":""},{"$f":"IF(ISBLANK(AD139),\"\",IF(OR(AND($J$6<>\"HD 2b/3\",COUNT(AD139:AI139)<>6),AND($J$6=\"HD 2b/3\",COUNT(AD139)+COUNT(AI139)<>2),$AM$143<>\"Yes\",$AM$145<>\"Yes\"),NA(),IF(ASTM(AI139,0)=0,0,IF($J$6=\"HD 2b/3\",AI139,ASTM((($AF$142/0.273)*AG139)+(1.571*AH139)+AI139,0)))))","v":""},null,null,null,null,null,null,null,null,null,null,"CD cost per mile - gasoline ($/mi) [3]",{"$f":"IF($J$6=\"HD 2b/3\",NA(),ASTM($F$36*((SUMIF(BD107:BD141,\"<=\" & (AY130-1),BE107:BE141) + AY129*SUMIF(BD107:BD141,\"=\" & (AY130-1),BE107:BE141))/AY103),3))","v":{"$error":"#VALUE!"}},{"$f":"IF($J$6=\"HD 2b/3\",NA(),ASTM($F$36*((SUMIF(CA107:CA141,\"<=\" & (AZ130-1),CB107:CB141) + AZ129*SUMIF(CA107:CA141,\"=\" & (AZ130-1),CB107:CB141))/AZ103),3))","v":{"$error":"#VALUE!"}},null,null,null,33,{"$f":"IF(ISBLANK(R139),\"\",IF(COUNT(R139:AA139)<>10,NA(),IF(ASTM(W139,0)=0,0,IFERROR(ASTM(R139,3)/ASTM(Z139,1),0))))","v":""},{"$f":"IF(ISBLANK(R139),\"\",IF(COUNT(R139:AA139)<>10,NA(),IF(W139=0,0,ASTM(ASTM(W139,0)*ASTM(R139,3),0))))","v":""},{"$f":"IF(ISBLANK(R139),\"\",IF(COUNT(R139:AA139)<>10,NA(),ASTM(S139,3)-ASTM(S138,3)))","v":""},{"$f":"IF(ISBLANK(R139),\"\",IF(COUNT(R139:AA139)<>10,NA(),ASTM(BG139*ASTM(T139,2),1)))","v":""},{"$f":"IF(ISBLANK(R139),\"\",IF(COUNT(R139:AA139)<>10,NA(),ASTM(ASTM($Y$142,4)*1000*(BH139/$AY$109),1)))","v":""},"",{"$f":"IF(ISBLANK(R139),\"\",IF(COUNT(R139:AA139)<>10,NA(),BI139/(33705*ASTM(R139,3))))","v":""},"",{"$f":"IF(ISBLANK(R139),\"\",IFERROR(ASTM(cityfuf(BJ139)-cityfuf(BJ138),3),\"\"))","v":""},{"$f":"IF(ISBLANK(R139),\"\",IF(OR(ISNUMBER(R139)=FALSE,ISNUMBER(AA139)=FALSE),NA(),IF(ASTM(W139,0)=0,0,BM139*ASTM(AA139,0))))","v":""},"",{"$f":"IF(ISBLANK(R139),\"\",IF(COUNT(R139:AA139)<>10,NA(),BL139*ASTM(R139,3)))","v":""},"",{"$f":"IF(ISBLANK(R139),\"\",IF(COUNT(R139:AA139)<>10,NA(),BQ139*ASTM(R139,3)))","v":""},"",{"$f":"IF(ISBLANK(R139),\"\",IF(COUNT(R139:AA139)<>10,NA(),ASTM(mdiuf(BS139),3)-ASTM(mdiuf(BS138),3)))","v":""},{"$f":"IF(ISBLANK(R139),\"\",IF(COUNT(R139:AA139)<>10,NA(),IF(ASTM(W139,0)=0,0,BT139*ASTM(W139,0)/(BQ139))))","v":""},"",{"$f":"IF(ISBLANK(R139),\"\",IF(COUNT(R139:AA139)<>10,NA(),ASTM(cityfufalt(BS139)-cityfufalt(BS138),3)))","v":""},"",{"$f":"IF(ISBLANK(R139),\"\",IF(COUNT(R139:AA139)<>10,NA(),IF(ASTM(W139,0)=0,0,BW139*ASTM(AA139,0)/(BQ139))))","v":""},null,33,{"$f":"IF(ISBLANK(AD139),\"\",IF(COUNT(AD139:AM139)<>10,NA(),IF(ASTM(AI139,0)=0,0,ASTM(AD139,3)/ASTM(AL139,1))))","v":""},{"$f":"IF(ISBLANK(AD139),\"\",IF(COUNT(AD139:AM139)<>10,NA(),IF(ASTM(AI139,0)=0,0,ASTM(ASTM(AI139,0)*ASTM(AD139,3),0))))","v":""},{"$f":"IF(ISBLANK(AD139),\"\",IF(COUNT(AD139:AM139)<>10,NA(),ASTM(AE139,3)-ASTM(AE138,3)))","v":""},{"$f":"IF(ISBLANK(AD139),\"\",IF(COUNT(AD139:AM139)<>10,NA(),ASTM(CD139*ASTM(AF139,2),1)))","v":""},{"$f":"IF(ISBLANK(AD139),\"\",IF(COUNT(AD139:AM139)<>10,NA(),ASTM(ASTM($AK$142,4)*1000*(CE139/$AZ$109),1)))","v":""},"",{"$f":"IF(ISBLANK(AD139),\"\",IF(COUNT(AD139:AM139)<>10,NA(),CF139/(33705*ASTM(AD139,3))))","v":""},"",{"$f":"IF(ISBLANK(AD139),\"\",ASTM(highwayfuf(CG139)-highwayfuf(CG138),3))","v":""},{"$f":"IF(ISBLANK(AD139),\"\",IF(OR(ISNUMBER(AD139)=FALSE,ISNUMBER(AM139)=FALSE),NA(),IF(ASTM(AI139,0)=0,0,CJ139*ASTM(AM139,0))))","v":""},"",{"$f":"IF(ISBLANK(AD139),\"\",IF(COUNT(AD139:AM139)<>10,NA(),CI139*ASTM(AD139,3)))","v":""},"",{"$f":"IF(ISBLANK(AD139),\"\",IF(COUNT(AD139:AM139)<>10,NA(),CN139*ASTM(AD139,3)))","v":""},"",{"$f":"IF(ISBLANK(AD139),\"\",IF(COUNT(AD139:AM139)<>10,NA(),ASTM(mdiuf(CP139)-mdiuf(CP138),3)))","v":""},{"$f":"IF(ISBLANK(AD139),\"\",IF(COUNT(AD139:AM139)<>10,NA(),IF(ASTM(AI139,0)=0,0,CQ139*ASTM(AI139,0)/(CN139))))","v":""},"",{"$f":"IF(ISBLANK(AD139),\"\",IF(COUNT(AD139:AM139)<>10,NA(),ASTM(highwayfufalt(CP139)-highwayfufalt(CP138),3)))","v":""},"",{"$f":"IF(ISBLANK(AD139),\"\",IF(COUNT(AD139:AM139)<>10,NA(),IF(ASTM(AI139,0)=0,0,CT139*ASTM(AM139,0)/(CN139))))","v":""}]
[null,null,null,null,null,null,null,null,null,null,null,null,null,null,null,null,34,null,null,null,null,null,null,null,null,{"$f":"IF(ISBLANK(R140),\"\",IF(OR($J$6=\"HD 2b/3\",COUNT(R140:W140)<>6,$AA$143<>\"Yes\",$AA$145<>\"Yes\"),NA(),IF(ASTM(W140,0)=0,0,ASTM((51740000*$T$142*$T$143)/((($T$142*U140)+(0.429*V140)+(0.273*W140))*((0.6*$T$143*$T$144)+5471)),1))))","v":""},{"$f":"IF(ISBLANK(R140),\"\",IF(OR(AND($J$6<>\"HD 2b/3\",COUNT(R140:W140)<>6),AND($J$6=\"HD 2b/3\",COUNT(R140)+COUNT(W140)<>2),$AA$143<>\"Yes\",$AA$145<>\"Yes\"),NA(),IF(ASTM(W140,0)=0,0,IF($J$6=\"HD 2b/3\",W140,ASTM((($T$142/0.273)*U140)+(1.571*V140)+W140,0)))))","v":""},null,34,null,null,null,null,null,null,null,null,{"$f":"IF(ISBLANK(AD140),\"\",IF(OR($J$6=\"HD 2b/3\",COUNT(AD140:AI140)<>6,$AM$47<>\"Yes\",$AM$49<>\"Yes\"),NA(),IF(ASTM(AI140,0)=0,0,ASTM((51740000*$AF$46*$AF$47)/((($AF$46*AG140)+(0.429*AH140)+(0.273*AI140))*((0.6*$AF$47*$AF$48)+5471)),1))))","v":""},{"$f":"IF(ISBLANK(AD140),\"\",IF(OR(AND($J$6<>\"HD 2b/3\",COUNT(AD140:AI140)<>6),AND($J$6=\"HD 2b/3\",COUNT(AD140)+COUNT(AI140)<>2),$AM$143<>\"Yes\",$AM$145<>\"Yes\"),NA(),IF(ASTM(AI140,0)=0,0,IF($J$6=\"HD 2b/3\",AI140,ASTM((($AF$142/0.273)*AG140)+(1.571*AH140)+AI140,0)))))","v":""},null,null,null,null,null,null,null,null,null,null,"CD total cost per mile ($/mi) [3]",{"$f":"IF($J$6=\"HD 2b/3\",NA(),ASTM(AY139+AY138,3))","v":{"$error":"#VALUE!"}},{"$f":"IF($J$6=\"HD 2b/3\",NA(),ASTM(AZ139+AZ138,3))","v":{"$error":"#VALUE!"}},null,null,null,34,{"$f":"IF(ISBLANK(R140),\"\",IF(COUNT(R140:AA140)<>10,NA(),IF(ASTM(W140,0)=0,0,IFERROR(ASTM(R140,3)/ASTM(Z140,1),0))))","v":""},{"$f":"IF(ISBLANK(R140),\"\",IF(COUNT(R140:AA140)<>10,NA(),IF(W140=0,0,ASTM(ASTM(W140,0)*ASTM(R140,3),0))))","v":""},{"$f":"IF(ISBLANK(R140),\"\",IF(COUNT(R140:AA140)<>10,NA(),ASTM(S140,3)-ASTM(S139,3)))","v":""},{"$f":"IF(ISBLANK(R140),\"\",IF(COUNT(R140:AA140)<>10,NA(),ASTM(BG140*ASTM(T140,2),1)))","v":""},{"$f":"IF(ISBLANK(R140),\"\",IF(COUNT(R140:AA140)<>10,NA(),ASTM(ASTM($Y$142,4)*1000*(BH140/$AY$109),1)))","v":""},"",{"$f":"IF(ISBLANK(R140),\"\",IF(COUNT(R140:AA140)<>10,NA(),BI140/(33705*ASTM(R140,3))))","v":""},"",{"$f":"IF(ISBLANK(R140),\"\",IFERROR(ASTM(cityfuf(BJ140)-cityfuf(BJ139),3),\"\"))","v":""},{"$f":"IF(ISBLANK(R140),\"\",IF(OR(ISNUMBER(R140)=FALSE,ISNUMBER(AA140)=FALSE),NA(),IF(ASTM(W140,0)=0,0,BM140*ASTM(AA140,0))))","v":""},"",{"$f":"IF(ISBLANK(R140),\"\",IF(COUNT(R140:AA140)<>10,NA(),BL140*ASTM(R140,3)))","v":""},"",{"$f":"IF(ISBLANK(R140),\"\",IF(COUNT(R140:AA140)<>10,NA(),BQ140*ASTM(R140,3)))","v":""},"",{"$f":"IF(ISBLANK(R140),\"\",IF(COUNT(R140:AA140)<>10,NA(),ASTM(mdiuf(BS140),3)-ASTM(mdiuf(BS139),3)))","v":""},{"$f":"IF(ISBLANK(R140),\"\",IF(COUNT(R140:AA140)<>10,NA(),IF(ASTM(W140,0)=0,0,BT140*ASTM(W140,0)/(BQ140))))","v":""},"",{"$f":"IF(ISBLANK(R140),\"\",IF(COUNT(R140:AA140)<>10,NA(),ASTM(cityfufalt(BS140)-cityfufalt(BS139),3)))","v":""},"",{"$f":"IF(ISBLANK(R140),\"\",IF(COUNT(R140:AA140)<>10,NA(),IF(ASTM(W140,0)=0,0,BW140*ASTM(AA140,0)/(BQ140))))","v":""},null,34,{"$f":"IF(ISBLANK(AD140),\"\",IF(COUNT(AD140:AM140)<>10,NA(),IF(ASTM(AI140,0)=0,0,ASTM(AD140,3)/ASTM(AL140,1))))","v":""},{"$f":"IF(ISBLANK(AD140),\"\",IF(COUNT(AD140:AM140)<>10,NA(),IF(ASTM(AI140,0)=0,0,ASTM(ASTM(AI140,0)*ASTM(AD140,3),0))))","v":""},{"$f":"IF(ISBLANK(AD140),\"\",IF(COUNT(AD140:AM140)<>10,NA(),ASTM(AE140,3)-ASTM(AE139,3)))","v":""},{"$f":"IF(ISBLANK(AD140),\"\",IF(COUNT(AD140:AM140)<>10,NA(),ASTM(CD140*ASTM(AF140,2),1)))","v":""},{"$f":"IF(ISBLANK(AD140),\"\",IF(COUNT(AD140:AM140)<>10,NA(),ASTM(ASTM($AK$142,4)*1000*(CE140/$AZ$109),1)))","v":""},"",{"$f":"IF(ISBLANK(AD140),\"\",IF(COUNT(AD140:AM140)<>10,NA(),CF140/(33705*ASTM(AD140,3))))","v":""},"",{"$f":"IF(ISBLANK(AD140),\"\",ASTM(highwayfuf(CG140)-highwayfuf(CG139),3))","v":""},{"$f":"IF(ISBLANK(AD140),\"\",IF(OR(ISNUMBER(AD140)=FALSE,ISNUMBER(AM140)=FALSE),NA(),IF(ASTM(AI140,0)=0,0,CJ140*ASTM(AM140,0))))","v":""},"",{"$f":"IF(ISBLANK(AD140),\"\",IF(COUNT(AD140:AM140)<>10,NA(),CI140*ASTM(AD140,3)))","v":""},"",{"$f":"IF(ISBLANK(AD140),\"\",IF(COUNT(AD140:AM140)<>10,NA(),CN140*ASTM(AD140,3)))","v":""},"",{"$f":"IF(ISBLANK(AD140),\"\",IF(COUNT(AD140:AM140)<>10,NA(),ASTM(mdiuf(CP140)-mdiuf(CP139),3)))","v":""},{"$f":"IF(ISBLANK(AD140),\"\",IF(COUNT(AD140:AM140)<>10,NA(),IF(ASTM(AI140,0)=0,0,CQ140*ASTM(AI140,0)/(CN140))))","v":""},"",{"$f":"IF(ISBLANK(AD140),\"\",IF(COUNT(AD140:AM140)<>10,NA(),ASTM(highwayfufalt(CP140)-highwayfufalt(CP139),3)))","v":""},"",{"$f":"IF(ISBLANK(AD140),\"\",IF(COUNT(AD140:AM140)<>10,NA(),IF(ASTM(AI140,0)=0,0,CT140*ASTM(AM140,0)/(CN140))))","v":""}]
[null,null,null,null,null,null,null,null,null,null,null,null,null,null,null,null,35,null,null,null,null,null,null,null,null,{"$f":"IF(ISBLANK(R141),\"\",IF(OR($J$6=\"HD 2b/3\",COUNT(R141:W141)<>6,$AA$143<>\"Yes\",$AA$145<>\"Yes\"),NA(),IF(ASTM(W141,0)=0,0,ASTM((51740000*$T$142*$T$143)/((($T$142*U141)+(0.429*V141)+(0.273*W141))*((0.6*$T$143*$T$144)+5471)),1))))","v":""},{"$f":"IF(ISBLANK(R141),\"\",IF(OR(AND($J$6<>\"HD 2b/3\",COUNT(R141:W141)<>6),AND($J$6=\"HD 2b/3\",COUNT(R141)+COUNT(W141)<>2),$AA$143<>\"Yes\",$AA$145<>\"Yes\"),NA(),IF(ASTM(W141,0)=0,0,IF($J$6=\"HD 2b/3\",W141,ASTM((($T$142/0.273)*U141)+(1.571*V141)+W141,0)))))","v":""},null,35,null,null,null,null,null,null,null,null,{"$f":"IF(ISBLANK(AD141),\"\",IF(OR($J$6=\"HD 2b/3\",COUNT(AD141:AI141)<>6,$AM$47<>\"Yes\",$AM$49<>\"Yes\"),NA(),IF(ASTM(AI141,0)=0,0,ASTM((51740000*$AF$46*$AF$47)/((($AF$46*AG141)+(0.429*AH141)+(0.273*AI141))*((0.6*$AF$47*$AF$48)+5471)),1))))","v":""},{"$f":"IF(ISBLANK(AD141),\"\",IF(OR(AND($J$6<>\"HD 2b/3\",COUNT(AD141:AI141)<>6),AND($J$6=\"HD 2b/3\",COUNT(AD141)+COUNT(AI141)<>2),$AM$143<>\"Yes\",$AM$145<>\"Yes\"),NA(),IF(ASTM(AI141,0)=0,0,IF($J$6=\"HD 2b/3\",AI141,ASTM((($AF$142/0.273)*AG141)+(1.571*AH141)+AI141,0)))))","v":""},null,null,null,null,null,null,null,null,null,null,"CS cost per mile ($/mi) [3]",{"$f":"IF($J$6=\"HD 2b/3\",NA(),ASTM($F$36/ASTM(N108,4),3))","v":{"$error":"#VALUE!"}},{"$f":"IF($J$6=\"HD 2b/3\",NA(),ASTM($F$36/ASTM(O108,4),3))","v":{"$error":"#VALUE!"}},null,null,null,35,{"$f":"IF(ISBLANK(R141),\"\",IF(COUNT(R141:AA141)<>10,NA(),IF(ASTM(W141,0)=0,0,IFERROR(ASTM(R141,3)/ASTM(Z141,1),0))))","v":""},{"$f":"IF(ISBLANK(R141),\"\",IF(COUNT(R141:AA141)<>10,NA(),IF(W141=0,0,ASTM(ASTM(W141,0)*ASTM(R141,3),0))))","v":""},{"$f":"IF(ISBLANK(R141),\"\",IF(COUNT(R141:AA141)<>10,NA(),ASTM(S141,3)-ASTM(S140,3)))","v":""},{"$f":"IF(ISBLANK(R141),\"\",IF(COUNT(R141:AA141)<>10,NA(),ASTM(BG141*ASTM(T141,2),1)))","v":""},{"$f":"IF(ISBLANK(R141),\"\",IF(COUNT(R141:AA141)<>10,NA(),ASTM(ASTM($Y$142,4)*1000*(BH141/$AY$109),1)))","v":""},"",{"$f":"IF(ISBLANK(R141),\"\",IF(COUNT(R141:AA141)<>10,NA(),BI141/(33705*ASTM(R141,3))))","v":""},"",{"$f":"IF(ISBLANK(R141),\"\",IFERROR(ASTM(cityfuf(BJ141)-cityfuf(BJ140),3),\"\"))","v":""},{"$f":"IF(ISBLANK(R141),\"\",IF(OR(ISNUMBER(R141)=FALSE,ISNUMBER(AA141)=FALSE),NA(),IF(ASTM(W141,0)=0,0,BM141*ASTM(AA141,0))))","v":""},"",{"$f":"IF(ISBLANK(R141),\"\",IF(COUNT(R141:AA141)<>10,NA(),BL141*ASTM(R141,3)))","v":""},"",{"$f":"IF(ISBLANK(R141),\"\",IF(COUNT(R141:AA141)<>10,NA(),BQ141*ASTM(R141,3)))","v":""},"",{"$f":"IF(ISBLANK(R141),\"\",IF(COUNT(R141:AA141)<>10,NA(),ASTM(mdiuf(BS141),3)-ASTM(mdiuf(BS140),3)))","v":""},{"$f":"IF(ISBLANK(R141),\"\",IF(COUNT(R141:AA141)<>10,NA(),IF(ASTM(W141,0)=0,0,BT141*ASTM(W141,0)/(BQ141))))","v":""},"",{"$f":"IF(ISBLANK(R141),\"\",IF(COUNT(R141:AA141)<>10,NA(),ASTM(cityfufalt(BS141)-cityfufalt(BS140),3)))","v":""},"",{"$f":"IF(ISBLANK(R141),\"\",IF(COUNT(R141:AA141)<>10,NA(),IF(ASTM(W141,0)=0,0,BW141*ASTM(AA141,0)/(BQ141))))","v":""},null,35,{"$f":"IF(ISBLANK(AD141),\"\",IF(COUNT(AD141:AM141)<>10,NA(),IF(ASTM(AI141,0)=0,0,ASTM(AD141,3)/ASTM(AL141,1))))","v":""},{"$f":"IF(ISBLANK(AD141),\"\",IF(COUNT(AD141:AM141)<>10,NA(),IF(ASTM(AI141,0)=0,0,ASTM(ASTM(AI141,0)*ASTM(AD141,3),0))))","v":""},{"$f":"IF(ISBLANK(AD141),\"\",IF(COUNT(AD141:AM141)<>10,NA(),ASTM(AE141,3)-ASTM(AE140,3)))","v":""},{"$f":"IF(ISBLANK(AD141),\"\",IF(COUNT(AD141:AM141)<>10,NA(),ASTM(CD141*ASTM(AF141,2),1)))","v":""},{"$f":"IF(ISBLANK(AD141),\"\",IF(COUNT(AD141:AM141)<>10,NA(),ASTM(ASTM($AK$142,4)*1000*(CE141/$AZ$109),1)))","v":""},"",{"$f":"IF(ISBLANK(AD141),\"\",IF(COUNT(AD141:AM141)<>10,NA(),CF141/(33705*ASTM(AD141,3))))","v":""},"",{"$f":"IF(ISBLANK(AD141),\"\",ASTM(highwayfuf(CG141)-highwayfuf(CG140),3))","v":""},{"$f":"IF(ISBLANK(AD141),\"\",IF(OR(ISNUMBER(AD141)=FALSE,ISNUMBER(AM141)=FALSE),NA(),IF(ASTM(AI141,0)=0,0,CJ141*ASTM(AM141,0))))","v":""},"",{"$f":"IF(ISBLANK(AD141),\"\",IF(COUNT(AD141:AM141)<>10,NA(),CI141*ASTM(AD141,3)))","v":""},"",{"$f":"IF(ISBLANK(AD141),\"\",IF(COUNT(AD141:AM141)<>10,NA(),CN141*ASTM(AD141,3)))","v":""},"",{"$f":"IF(ISBLANK(AD141),\"\",IF(COUNT(AD141:AM141)<>10,NA(),ASTM(mdiuf(CP141)-mdiuf(CP140),3)))","v":""},{"$f":"IF(ISBLANK(AD141),\"\",IF(COUNT(AD141:AM141)<>10,NA(),IF(ASTM(AI141,0)=0,0,CQ141*ASTM(AI141,0)/(CN141))))","v":""},"",{"$f":"IF(ISBLANK(AD141),\"\",IF(COUNT(AD141:AM141)<>10,NA(),ASTM(highwayfufalt(CP141)-highwayfufalt(CP140),3)))","v":""},"",{"$f":"IF(ISBLANK(AD141),\"\",IF(COUNT(AD141:AM141)<>10,NA(),IF(ASTM(AI141,0)=0,0,CT141*ASTM(AM141,0)/(CN141))))","v":""}]
[null,null,null,null,null,null,null,null,null,null,null,null,null,null,null,null,null,null,"CWF [3]:",null,null,null,null,"Recharge energy (AC kilowatt-hours) [4]:",null,null,"Fuel?",null,null,null,"CWF [3]:",null,null,null,null,"Recharge energy (AC kilowatt-hours) [4]:",null,null,"Fuel?",null,null,null,null,null,null,null,null,null,null,"Composite CD/CS cost ($/mi) [3]",{"$f":"IF($J$6=\"HD 2b/3\",NA(),ASTM(AY127*AY140+(1-AY127)*AY141,3))","v":{"$error":"#VALUE!"}},{"$f":"IF($J$6=\"HD 2b/3\",NA(),ASTM(AZ127*AZ140+(1-AZ127)*AZ141,3))","v":{"$error":"#VALUE!"}}]
[null,null,null,null,null,null,null,null,null,null,null,null,null,null,null,null,null,null,"SG [3]:",null,null,null,null,"All-Electric Range (Miles) [3]:",null,null,{"$f":"IF(AND(ISNUMBER(T142),ISNUMBER(T143),ISNUMBER(T144),T142>0.5,T142<1,T143>0.5,T143<1,T144>17000,T144<20000),\"Yes\",\"No\")","v":"No"},null,null,null,"SG [3]:",null,null,null,null,"All-Electric Range (Miles) [3]:",null,null,{"$f":"IF(AND(ISNUMBER(AF142),ISNUMBER(AF143),ISNUMBER(AF144),AF142>0.5,AF142<1,AF143>0.5,AF143<1,AF144>17000,AF144<20000),\"Yes\",\"No\")","v":"No"},null,null,null,null,null,null,null,null,null,null,"COMPOSITE CD/CS FUEL ECONOMY AND CO2 VALUES, ADJUSTED","CITY","HIGHWAY"]
[null,null,null,null,null,null,null,null,null,null,null,null,null,null,null,null,null,null,"NHV [0]:",null,null,null,null,"Transition Cycle [0]:",null,null,"Footer?",null,null,null,"NHV [0]:",null,null,null,null,"Transition Cycle [0]:",null,null,"Footer?",null,null,null,null,null,null,null,null,null,null,"Composite CD/CS CO2, adjusted (g/mi) [1]",{"$f":"IF($J$6=\"HD 2b/3\",NA(),ASTM(IFERROR(AY122+(1-AY128)*N111,#VALUE!),1))","v":0},{"$f":"IF($J$6=\"HD 2b/3\",NA(),ASTM(IFERROR(AZ122+(1-AZ128)*O111,#VALUE!),1))","v":0}]
[null,null,null,null,null,null,null,null,null,null,null,null,null,null,null,null,null,null,null,null,null,null,null,"Recharge time (optional)(Hours) [2]:",null,null,{"$f":"IF(AND(ISNUMBER(Y142),ISNUMBER(Y143),ISNUMBER(Y144),Y142>0,Y143>0,Y144>0,Y144<35),\"Yes\",\"No\")","v":"No"},null,null,null,null,null,null,null,null,"Recharge time (optional)(Hours) [2]:",null,null,{"$f":"IF(AND(ISNUMBER(AK142),ISNUMBER(AK143),ISNUMBER(AK144),AK142>0,AK143>0,AK144>0,AK144<35),\"Yes\",\"No\")","v":"No"},null,null,null,null,null,null,null,null,null,null,"Composite CD/CS Fuel Economy, adjusted (MPG) [4]",{"$f":"IF($J$6=\"HD 2b/3\",NA(),IFERROR(ASTM(IFERROR(1/(AY113+(1-AY128)/N108),#VALUE!),4),0))","v":0},{"$f":"IF($J$6=\"HD 2b/3\",NA(),IFERROR(ASTM(IFERROR(1/(AZ113+(1-AZ128)/O108),#VALUE!),4),0))","v":0}]

{"sheet":"Sample EPA data","index":3,"n_rows":145,"n_cols":100,"rows_kept":145,"cut":false,"hidden":false,"merged":[[4,66,8,66],[4,97,8,97],[4,98,8,98],[4,99,8,99],[4,88,8,88],[4,89,8,89],[4,90,8,90],[4,91,8,91],[4,92,8,92],[4,93,8,93],[5,16,8,16],[5,17,8,17],[5,18,8,18],[5,19,8,19],[5,20,8,20],[5,21,8,21],[4,94,8,94],[4,95,8,95],[4,96,8,96],[4,82,8,82],[4,83,8,83],[4,84,8,84],[4,85,8,85],[4,86,8,86],[4,87,8,87],[4,78,8,78],[4,79,8,79],[4,80,8,80],[4,81,8,81],[4,73,8,73],[4,74,8,74],[4,75,8,75],[4,76,8,76],[4,67,8,67],[4,55,8,55],[4,56,8,56],[4,57,8,57],[4,58,8,58],[4,59,8,59],[4,60,8,60],[5,35,8,35],[5,36,8,36],[5,37,8,37],[5,38,8,38],[5,29,8,29],[5,30,8,30],[5,31,8,31],[5,32,8,32],[5,33,8,33],[5,34,8,34],[5,22,8,22],[5,23,8,23],[5,24,8,24],[5,25,8,25],[5,26,8,26],[5,28,8,28],[4,61,8,61],[52,75,56,75],[52,76,56,76],[52,69,56,69],[52,70,56,70],[52,71,56,71],[52,72,56,72],[52,73,56,73],[52,74,56,74],[52,63,56,63],[52,64,56,64],[52,65,56,65],[52,66,56,66],[52,67,56,67],[52,68,56,68],[4,62,8,62],[4,68,8,68],[4,69,8,69],[4,70,8,70],[4,71,8,71],[4,72,8,72],[4,63,8,63],[4,64,8,64],[4,65,8,65],[52,84,56,84],[52,85,56,85],[52,86,56,86],[52,87,56,87],[52,88,56,88],[52,89,56,89],[52,78,56,78],[52,79,56,79],[52,80,56,80],[52,81,56,81],[52,82,56,82],[52,83,56,83],[52,96,56,96],[52,97,56,97],[52,98,56,98],[52,99,56,99],[52,90,56,90],[52,91,56,91],[52,92,56,92],[52,93,56,93],[52,94,56,94],[52,95,56,95],[53,24,56,24],[53,25,56,25],[53,26,56,26],[53,28,56,28],[53,29,56,29],[53,30,56,30],[53,16,56,16],[53,17,56,17],[53,18,56,18],[53,19,56,19],[53,20,56,20],[53,21,56,21],[53,22,56,22],[53,23,56,23],[100,66,104,66],[100,55,104,55],[100,56,104,56],[100,57,104,57],[100,58,104,58],[100,59,104,59],[100,60,104,60],[53,31,56,31],[53,32,56,32],[53,33,56,33],[53,34,56,34],[53,35,56,35],[53,36,56,36],[52,57,56,57],[52,58,56,58],[52,59,56,59],[52,60,56,60],[52,61,56,61],[52,62,56,62],[52,55,56,55],[52,56,56,56],[53,37,56,37],[53,38,56,38],[100,98,104,98],[100,99,104,99],[100,88,104,88],[100,89,104,89],[100,90,104,90],[100,91,104,91],[100,92,104,92],[100,93,104,93],[100,82,104,82],[100,83,104,83],[100,84,104,84],[100,85,104,85],[100,86,104,86],[100,87,104,87],[101,21,104,21],[100,94,104,94],[100,95,104,95],[100,96,104,96],[100,97,104,97],[100,78,104,78],[100,79,104,79],[100,80,104,80],[100,81,104,81],[100,73,104,73],[100,74,104,74],[100,75,104,75],[100,76,104,76],[100,67,104,67],[100,68,104,68],[100,69,104,69],[100,70,104,70],[100,71,104,71],[100,72,104,72],[100,61,104,61],[100,62,104,62],[100,63,104,63],[100,64,104,64],[100,65,104,65],[130,2,130,5],[101,35,104,35],[101,36,104,36],[101,37,104,37],[101,38,104,38],[102,110,106,110],[102,117,106,117],[101,29,104,29],[101,30,104,30],[101,31,104,31],[101,32,104,32],[101,33,104,33],[101,34,104,34],[101,22,104,22],[101,23,104,23],[101,24,104,24],[101,25,104,25],[101,26,104,26],[101,28,104,28],[101,16,104,16],[101,17,104,17],[101,18,104,18],[101,19,104,19],[101,20,104,20]]}
[null,"ENTER/REPLACE DATA IN GREEN CELLS ONLY!"]
[null,null,null,null,null,null,null,null,null,null,null,null,null,null,null,null,null,null,null,null,null,null,null,null,null,null,null,null,null,null,null,null,null,null,null,null,null,null,null,null,null,null," "]
[null,"CALCULATED CAFE, GHG, AND LABEL VALUES",null,null,null,null,null,null,"ENTER BASIC VEHICLE INFORMATION HERE",null,null,null,"Test Set #1",null,null,null,"Test Set #1",null,null,null,null,null,null,null,null,null,null,null,"Test Set #1",null,null,null,null,null,null,null,null,null,null,null,null,null,"Results from Test Set #1:",{"$f":"N6","v":0},null,null,null,null,"INTERMEDIATE CALCULATIONS AND INPUTS",null,"Test Set #1:",{"$f":"N6","v":0}]
[null,null,"CAFE Values",null,null,null,null,null,"Vehicle Information",null,null,null,null,null,null,null,null,null,null,null,null,null,null,null,null,null,null,null,null,null,null,null,null,null,null,null,null,null,null,null,null,null,"CAFE Values",null,null,null,null,null,"Charge-Depleting (CD) Test Results",null,null,null,null,null,null,"DETAILED CALCULATIONS",null,"UDDS",{"$f":"$AZ3","v":0},null,null,null,null,null,null,null,null,null,null,null,null,null,null,null,null,null,null,null,"DETAILED CALCULATIONS",null,"HFET",{"$f":"$AZ3","v":0}]
[null,"ü","A. PHEV meets dual fuel criteria:","City","Highway","Combined",null,null,"Model year:",2022,null,null,null,null,null,null,"ENTER CHARGE-DEPLETING UDDS (CITY) DATA HERE",null,null,null,null,null,null,null,null,null,null,null,"ENTER CHARGE-DEPLETING HFET (HIGHWAY) DATA HERE",null,null,null,null,null,null,null,null,null,null,null,null,null,"A. PHEV meets dual fuel criteria:","City","Highway","Combined",null,null,null,"DRIVING DISTANCE VALUES","CITY","HIGHWAY",null,null,null,"Cycle No.","Gasoline Consumed","CO2\n[0]","Net Amp-Hours Used Per Cycle [3]","DC Electricity Consumed\n[1]","AC Electricity Consumed\n[1]","Theoretical Cumulative Cycle Distance","Electric Only Fuel Consumption Rate","Total Fuel Consumption Rate (gas + electric)","55/45 City Fleet Utility Factor\n[3]",{"$f":"IF($J$6=\"HD 2b/3\",\"55/45 City FUF\nx\nCREE (CO2)\",\"55/45 City FUF\nx\nCREE\")","v":"55/45 City FUF\nx\nCREE (CO2)"},"55/45 City FUF\nx\nTotal Consumption","Total Fuel Consumption (gas + electric)","5-Cycle Adjustment","Adjusted Cycle Measured Distance","Adjusted Cycle Theoretical Cumulative Distance","MDIUF\n[3]","MDIUF\nx\nAdjusted CO2","MDIUF\nx\nAdjusted Total Fuel Consumption","43/57 City Fleet Utility Factor\n[3]","43/57 City FUF x\nAdjusted Total Fuel Consumption Rate","43/57 City FUF\nx\nAdjusted CREE",null,"Cycle No.","Gasoline Consumed","CO2\n[0]","Net Amp-Hours Used Per Cycle [3]","DC Electricity Consumed\n[1]","AC Electricity Consumed\n[1]","Theoretical Cumulative Cycle Distance","Electric Only Fuel Consumption Rate","Total Fuel Consumption Rate (gas + electric)","55/45 Highway Fleet Utility Factor\n[3]",{"$f":"IF($J$6=\"HD 2b/3\",\"55/45 City FUF\nx\nCREE (CO2)\",\"55/45 City FUF\nx\nCREE\")","v":"55/45 City FUF\nx\nCREE (CO2)"},"55/45 Highway FUF\nx\nTotal Consumption","Total Fuel Consumption (gas + electric)","5-Cycle Adjustment","Adjusted Cycle Measured Distance","Adjusted Cycle Theoretical Cumulative Distance","MDIUF\n[3]","MDIUF\nx\nAdjusted CO2","MDIUF\nx\nAdjusted Total Fuel Consumption","43/57 Highway Fleet Utility Factor\n[3]","43/57 Highway FUF x\nAdjusted Total Fuel Consumption Rate","43/57 Highway FUF\nx\nAdjusted CREE"]
[null,"→"," 1. Default 50/50 Composite MPGe",{"$f":"IF($N$7+$N$55+$N$103=0,    ((AR6<>0)+(AR54<>0)+(AR102<>0))/(IFERROR(1/AR6,0)+IFERROR(1/AR54,0)+IFERROR(1/AR102,0)),    ($N$7+$N$55+$N$103) / (IFERROR($N$7/AR6,0)+IFERROR($N$55/AR54,0)+IFERROR($N$103/AR102,0))  )","v":{"$error":"#N/A"}},{"$f":"IF($N$7+$N$55+$N$103=0,    ((AS6<>0)+(AS54<>0)+(AS102<>0))/(IFERROR(1/AS6,0)+IFERROR(1/AS54,0)+IFERROR(1/AS102,0)),    ($N$7+$N$55+$N$103) / (IFERROR($N$7/AS6,0)+IFERROR($N$55/AS54,0)+IFERROR($N$103/AS102,0))  )","v":{"$error":"#N/A"}},{"$f":"IF(OR(ISNUMBER(D6)=FALSE,ISNUMBER(E6)=FALSE),NA(),ASTM(1/(0.55/D6+0.45/E6),4))","v":{"$error":"#N/A"}},"←",null,"Vehicle category:","HD 2b/3",null,null,"Test Set name (e.g., Eco, Power):",null,null,null,"Cycle No.","Cycle/\nPhase\nMeasured\nDistance","Integrated Amp-Hours Electricity Used","Average\nCycle\nVoltage","HC-Total","CO","CO2","Mfr Calc\nFuel\nEconomy","Mfr Calc\nCREE","EPA Calc\n(E0 Gas)\nFuel\nEconomy",{"$f":"IF($J$6=\"HD 2b/3\",\"EPA Calc\n(E0 Gas)\nCREE=CO2\",\"EPA Calc\n(E0 Gas)\nCREE\")","v":"EPA Calc\n(E0 Gas)\nCREE=CO2"},null,"Cycle No.","Cycle/\nPhase\nMeasured\nDistance","Integrated Amp-Hours Electricity Used","Average\nCycle\nVoltage","HC-Total","CO","CO2","Mfr Calc\nFuel\nEconomy","Mfr Calc\nCREE","EPA Calc\n(E0 Gas)\nFuel\nEconomy",{"$f":"IF($J$6=\"HD 2b/3\",\"EPA Calc\n(E0 Gas)\nCREE=CO2\",\"EPA Calc\n(E0 Gas)\nCREE\")","v":"EPA Calc\n(E0 Gas)\nCREE=CO2"},null,null,null," 1. Default 50/50 Composite MPGe [4]",{"$f":"IF($J$6=\"HD 2b/3\",NA(),IFERROR(ASTM(1/(0.5/((82049)/(AY11/AY37))+0.5/N11),4),0))","v":{"$error":"#N/A"}},{"$f":"IF($J$6=\"HD 2b/3\",NA(),IFERROR(ASTM(1/(0.5/((82049)/(AZ11/AZ37))+0.5/O11),4),0))","v":{"$error":"#N/A"}},{"$f":"IF($J$6=\"HD 2b/3\",NA(),IFERROR(ASTM(1/(0.55/AR6+0.45/AS6),4),0))","v":{"$error":"#N/A"}},null,null,null,"CD driving distance (Rcda), unadjusted (miles) [3]",{"$f":"IF($J$6=\"HD 2b/3\",NA(),IFERROR(ASTM(SUMIF(Q11:Q45,\"<=\" & ($AY34-1),R11:R45) + AY33*VLOOKUP($AY34,Q11:R45,2,FALSE),3),0))","v":{"$error":"#N/A"}},{"$f":"IF($J$6=\"HD 2b/3\",NA(),IFERROR(ASTM(SUMIF(AC11:AC45,\"<=\" & ($AZ34-1),AD11:AD45) + AZ33*VLOOKUP($AZ34,AC11:AD45,2,FALSE),3),0))","v":{"$error":"#N/A"}}]
[null,"→"," 2. Optional Utility Factor Composite MPGe",{"$f":"IF($N$7+$N$55+$N$103=0,    ((AR7<>0)+(AR55<>0)+(AR103<>0))/(IFERROR(1/AR7,0)+IFERROR(1/AR55,0)+IFERROR(1/AR103,0)),    ($N$7+$N$55+$N$103) / (IFERROR($N$7/AR7,0)+IFERROR($N$55/AR55,0)+IFERROR($N$103/AR103,0))  )","v":{"$error":"#N/A"}},{"$f":"IF($N$7+$N$55+$N$103=0,    ((AS7<>0)+(AS55<>0)+(AS103<>0))/(IFERROR(1/AS7,0)+IFERROR(1/AS55,0)+IFERROR(1/AS103,0)),    ($N$7+$N$55+$N$103) / (IFERROR($N$7/AS7,0)+IFERROR($N$55/AS55,0)+IFERROR($N$103/AS103,0))  )","v":{"$error":"#N/A"}},{"$f":"IF(OR(ISNUMBER(D7)=FALSE,ISNUMBER(E7)=FALSE),NA(),ASTM(1/(0.55/D7+0.45/E7),4))","v":{"$error":"#N/A"}},"←",null,"Manufacturer name:","PHEVs-R-Us",null,null,"Production Volume (projected or actual):",null,null,null,null,null,null,null,null,null,null,null,null,null,null,null,null,null,null,null,null,null,null,null,null,null,null,null,null,null," 2. Optional Utility Factor Composite MPGe [4]",{"$f":"IF($J$6=\"HD 2b/3\",NA(),IFERROR(ASTM(1/(AY40/((82049)/(AY11/AY37))+(1-AY40)/N11), 4),0))","v":{"$error":"#N/A"}},{"$f":"IF($J$6=\"HD 2b/3\",NA(),IFERROR(ASTM(1/(AZ40/((82049)/(AZ11/AZ37))+(1-AZ40)/O11), 4),0))","v":{"$error":"#N/A"}},{"$f":"IF($J$6=\"HD 2b/3\",NA(),IFERROR(ASTM(1/(0.55/AR7+0.45/AS7),4),0))","v":{"$error":"#N/A"}},null,null,null,"CD driving distance (Rcda), adjusted (miles) [3]",{"$f":"IF($J$6=\"HD 2b/3\",NA(),IFERROR(ASTM(SUMIF(BD11:BD45,\"<\"&AY34,BR11:BR45)+AY33*SUMIF(BD11:BD45,\"=\"&AY34,BR11:BR45),3),0))","v":{"$error":"#N/A"}},{"$f":"IF($J$6=\"HD 2b/3\",NA(),IFERROR(ASTM(SUMIF(CA11:CA45,\"<\"&AZ34,CO11:CO45)+AZ33*SUMIF(CA11:CA45,\"=\"&AZ34,CO11:CO45),3),0))","v":{"$error":"#N/A"}}]
[null,"þ","B. PHEV does NOT meet dual fuel criteria:","City","Highway","Combined",null,null,"Model name:","PHEV1",null,null,null,null,null,null,null,null,null,null,null,null,null,null,null,null,null,null,null,null,null,null,null,null,null,null,null,null,null,null,null,null,"B. PHEV does NOT meet dual fuel criteria:","City","Highway","Combined",null,null,null,"CD all-electric driving distance, unadjusted (miles) [3]",{"$f":"IF($J$6=\"HD 2b/3\",NA(),IF(ISNUMBER(Y47), ASTM(Y47,3), 0))","v":{"$error":"#N/A"}},{"$f":"IF($J$6=\"HD 2b/3\",NA(),IF(ISNUMBER(AK47), ASTM(AK47,3), 0))","v":{"$error":"#N/A"}}]
[null,"→","  1. Utility Factor Composity MPGe",{"$f":"IF($N$7+$N$55+$N$103=0,    ((AR9<>0)+(AR57<>0)+(AR105<>0))/(IFERROR(1/AR9,0)+IFERROR(1/AR57,0)+IFERROR(1/AR105,0)),    ($N$7+$N$55+$N$103) / (IFERROR($N$7/AR9,0)+IFERROR($N$55/AR57,0)+IFERROR($N$103/AR105,0))  )","v":{"$error":"#N/A"}},{"$f":"IF($N$7+$N$55+$N$103=0,    ((AS9<>0)+(AS57<>0)+(AS105<>0))/(IFERROR(1/AS9,0)+IFERROR(1/AS57,0)+IFERROR(1/AS105,0)),    ($N$7+$N$55+$N$103) / (IFERROR($N$7/AS9,0)+IFERROR($N$55/AS57,0)+IFERROR($N$103/AS105,0))  )","v":{"$error":"#N/A"}},{"$f":"IF(OR(ISNUMBER(D9)=FALSE,ISNUMBER(E9)=FALSE),NA(),ASTM(1/(0.55/D9+0.45/E9),4))","v":{"$error":"#N/A"}},"←",null,"Liquid fuel type:","Regular Unleaded",null,null,"ENTER CHARGE-SUSTAINING TEST RESULTS HERE",null,null,null,null,null,null,null,null,null,null,null,null,null,null,null,null,null,null,null,null,null,null,null,null,null,null,null,null,null,"  1. Utility Factor Composite MPGe [4]",{"$f":"IF($J$6=\"HD 2b/3\",NA(),IFERROR(ASTM(1/(AY15+(1-AY30)/N11),4),0))","v":{"$error":"#N/A"}},{"$f":"IF($J$6=\"HD 2b/3\",NA(),IFERROR(ASTM(1/(AZ15+(1-AZ30)/O11),4),0))","v":{"$error":"#N/A"}},{"$f":"IF($J$6=\"HD 2b/3\",NA(),IFERROR(ASTM(1/(0.55/AR9+0.45/AS9),4),0))","v":{"$error":"#N/A"}},null,null,null,"CD All-Electric Range, adjusted (mi) [3]",{"$f":"IF($J$6=\"HD 2b/3\",NA(),ASTM( 0.7*AY8, 3))","v":{"$error":"#N/A"}},{"$f":"IF($J$6=\"HD 2b/3\",NA(),ASTM( 0.7*AZ8, 3))","v":{"$error":"#N/A"}}]
[null,null,"Based on the all-electric range, is this PHEV a dual fuel vehicle for CAFE?",null,null,{"$f":"IF(OR($J$6=\"LT\",AND($J$6=\"PV\",D12>=7.5,E12>=10.2)),\"YES\",\"NO\")","v":{"$error":"#N/A"}},null,null,"Additional descriptors as needed:",null,null,null,null,"City","Highway",null,"No.","Miles [3]","Amp-hrs [3]","Volts [2]","g/mi [3]","g/mi [2]","g/mi [0]","MPG [1]","g/mi [0]","MPG [1]","g/mi [0]",null,"No.","Miles [3]","Amp-hrs [3]","Volts [2]","g/mi [3]","g/mi [2]","g/mi [0]","MPG [1]","g/mi [0]","MPG [1]","g/mi [0]",null,null,null,"GHG Values","City","Highway","Combined",null,null,null,"FUEL CONSUMPTION & ECONOMY VALUES","CITY","HIGHWAY",null,null,null,"No.","gal","grams","Amp-hours","W-hours","W-hours","mi","gal/mi equiv","gal/mi equiv","UF","UF","gal/mi equiv","gal-equiv","%","miles","miles","UF","g/mi","gal/mi equiv","UF","gal/mi equiv","g/mi",null,"No.","gal","grams","Amp-hours","W-hours","W-hours","mi","gal/mi equiv","gal/mi equiv","UF","UF","gal/mi equiv","gal-equiv","%","miles","miles","UF","g/mi","gal-equiv","UF","gal-equiv","g/mi"]
[null,null,null,"City","Highway","Combined",null,null,"Fuel tank size (U.S. gallons):",10.7,null,null,"Fuel Economy, Unadjusted (MPG):",57.9,54.8,null,1,7.4550000000000001,4.742,314.2,0,0,0,0,0,{"$f":"IF(ISBLANK(R11),\"\",IF(OR($J$6=\"HD 2b/3\",COUNT(R11:W11)<>6,$AA$47<>\"Yes\",$AA$49<>\"Yes\"),NA(),IF(ASTM(W11,0)=0,0,ASTM((51740000*$T$46*$T$47)/((($T$46*U11)+(0.429*V11)+(0.273*W11))*((0.6*$T$47*$T$48)+5471)),1))))","v":{"$error":"#N/A"}},{"$f":"IF(ISBLANK(R11),\"\",IF(OR(AND($J$6<>\"HD 2b/3\",COUNT(R11:W11)<>6),AND($J$6=\"HD 2b/3\",COUNT(R11)+COUNT(W11)<>2),$AA$47<>\"Yes\",$AA$49<>\"Yes\"),NA(),IF(ASTM(W11,0)=0,0,IF($J$6=\"HD 2b/3\",W11,ASTM((($T$46/0.273)*U11)+(1.571*V11)+W11,0)))))","v":0},null,1,10.25,7.1440000000000001,333.3,0,0,0,0,0,{"$f":"IF(ISBLANK(AD11),\"\",IF(OR($J$6=\"HD 2b/3\",COUNT(AD11:AI11)<>6,$AM$47<>\"Yes\",$AM$49<>\"Yes\"),NA(),IF(ASTM(AI11,0)=0,0,ASTM((51740000*$AF$46*$AF$47)/((($AF$46*AG11)+(0.429*AH11)+(0.273*AI11))*((0.6*$AF$47*$AF$48)+5471)),1))))","v":{"$error":"#N/A"}},{"$f":"IF(ISBLANK(AD11),\"\",IF(OR(AND($J$6<>\"HD 2b/3\",COUNT(AD11:AI11)<>6),AND($J$6=\"HD 2b/3\",COUNT(AD11)+COUNT(AI11)<>2),$AM$47<>\"Yes\",$AM$49<>\"Yes\"),NA(),IF(ASTM(AI11,0)=0,0,IF($J$6=\"HD 2b/3\",AI11,ASTM((($AF$46/0.273)*AG11)+(1.571*AH11)+AI11,0)))))","v":0},null," ",null,"Composite CREE no DF, (g/mi) [1]",{"$f":"IFERROR(IF(OR(N13=0,ISBLANK(N13),N14=0,ISBLANK(N14),SUM(AA11:AA45)=0,LOOKUP(2,1/(AA11:AA45<>\"\"),ROW(AA11:AA45))<LOOKUP(2,1/(R11:R45<>\"\"),ROW(R11:R45))),\"ERROR\",ASTM(AY27+(1-AY30)*N13,1)),0)","v":20.100000000000001},{"$f":"IFERROR(IF(OR(O13=0,ISBLANK(O13),O14=0,ISBLANK(O14),SUM(AM11:AM45)=0,LOOKUP(2,1/(AM11:AM45<>\"\"),ROW(AM11:AM45))<LOOKUP(2,1/(AD11:AD45<>\"\"),ROW(AD11:AD40))),\"ERROR\",ASTM(AZ27+(1-AZ30)*O13,1)),0)","v":83.5},{"$f":"IF(OR(ISNUMBER(AR11)=FALSE,ISNUMBER(AS11)=FALSE),NA(),ASTM(0.55*AR11+0.45*AS11,1))","v":48.6},null,null,"NEW","CD AC electricity consumption (Rcdc), unadjusted (Watt-hours) [1]",{"$f":"IF($J$6=\"HD 2b/3\",NA(),ASTM(SUMIF(BD11:BD45,\"<=\" & AY34,BI11:BI45),1))","v":{"$error":"#N/A"}},{"$f":"IF($J$6=\"HD 2b/3\",NA(),ASTM(SUMIF(CA11:CA45,\"<=\" & AZ34,CF11:CF45),1))","v":{"$error":"#N/A"}},null,null,null,1,{"$f":"IF(ISBLANK(R11),\"\",IF(COUNT(R11:AA11)<>10,NA(),IF(ASTM(W11,0)=0,0,IFERROR(ASTM(R11,3)/ASTM(Z11,1),0))))","v":{"$error":"#N/A"}},{"$f":"IF(ISBLANK(R11),\"\",IF(COUNT(R11:AA11)<>10,NA(),IF(W11=0,0,ASTM(ASTM(W11,0)*ASTM(R11,3),0))))","v":{"$error":"#N/A"}},{"$f":"IF(ISBLANK(R11),\"\",IF(COUNT(R11:AA11)<>10,NA(),ASTM(S11,3)))","v":{"$error":"#N/A"}},{"$f":"IF(ISBLANK(R11),\"\",IF(COUNT(R11:AA11)<>10,NA(),ASTM(BG11*ASTM(T11,2),1)))","v":{"$error":"#N/A"}},{"$f":"IF(ISBLANK(R11),\"\",IF(COUNT(R11:AA11)<>10,NA(),ASTM(ASTM($Y$46,4)*1000*(BH11/$AY$13),1)))","v":{"$error":"#N/A"}},{"$f":"IF(ISBLANK(R11),\"\",BD11*7.45)","v":7.45},{"$f":"IF(ISBLANK(R11),\"\",IF(COUNT(R11:AA11)<>10,NA(),BI11/(33705*ASTM(R11,3))))","v":{"$error":"#N/A"}},{"$f":"IF(ISBLANK(R11),\"\",IF(COUNT(R11:AA11)<>10,NA(),BK11+BE11/ASTM(R11,3)))","v":{"$error":"#N/A"}},{"$f":"IF(ISBLANK(R11),\"\",IFERROR(ASTM(cityfuf(BJ11)-0,3),\"\"))","v":0.24299999999999999},{"$f":"IF(ISBLANK(R11),\"\",IF(OR(ISNUMBER(R11)=FALSE,ISNUMBER(AA11)=FALSE),NA(),IF(ASTM(W11,0)=0,0,BM11*ASTM(AA11,0))))","v":0},{"$f":"IF(ISBLANK(R11),\"\",IF(COUNT(R11:AA11)<>10,NA(),BL11*BM11))","v":{"$error":"#N/A"}},{"$f":"IF(ISBLANK(R11),\"\",IF(COUNT(R11:AA11)<>10,NA(),BL11*ASTM(R11,3)))","v":{"$error":"#N/A"}},{"$f":"IF(ISBLANK(R11),\"\",IF(COUNT(R11:AA11)<>10,NA(),MAX(1/(0.004091*(1/BL11)+1.1601),0.7)))","v":{"$error":"#N/A"}},{"$f":"IF(ISBLANK(R11),\"\",IF(COUNT(R11:AA11)<>10,NA(),BQ11*ASTM(R11,3)))","v":{"$error":"#N/A"}},{"$f":"IF(ISBLANK(R11),\"\",IF(COUNT(R11:AA11)<>10,NA(),BQ11*7.45))","v":{"$error":"#N/A"}},{"$f":"IF(ISBLANK(R11),\"\",IF(COUNT(R11:AA11)<>10,NA(),ASTM(mdiuf(BS11)-0,3)))","v":{"$error":"#N/A"}},{"$f":"IF(ISBLANK(R11),\"\",IF(COUNT(R11:AA11)<>10,NA(),IF(ASTM(W11,0)=0,0,BT11*ASTM(W11,0)/(BQ11))))","v":{"$error":"#N/A"}},{"$f":"IF(ISBLANK(R11),\"\",IF(COUNT(R11:AA11)<>10,NA(),BT11*BL11/BQ11))","v":{"$error":"#N/A"}},{"$f":"IF(ISBLANK(R11),\"\",IF(COUNT(R11:AA11)<>10,NA(),ASTM(cityfufalt(BS11)-0,3)))","v":{"$error":"#N/A"}},{"$f":"IF(ISBLANK(R11),\"\",IF(COUNT(R11:AA11)<>10,NA(),BW11*BL11/BQ11))","v":{"$error":"#N/A"}},{"$f":"IF(ISBLANK(R11),\"\",IF(COUNT(R11:AA11)<>10,NA(),IF(ASTM(W11,0)=0,0,BW11*ASTM(AA11,0)/(BQ11))))","v":{"$error":"#N/A"}},null,1,{"$f":"IF(ISBLANK(AD11),\"\",IF(COUNT(AD11:AM11)<>10,NA(),IF(ASTM(AI11,0)=0,0,ASTM(AD11,3)/ASTM(AL11,1))))","v":{"$error":"#N/A"}},{"$f":"IF(ISBLANK(AD11),\"\",IF(COUNT(AD11:AM11)<>10,NA(),IF(ASTM(AI11,0)=0,0,ASTM(ASTM(AI11,0)*ASTM(AD11,3),0))))","v":{"$error":"#N/A"}},{"$f":"IF(ISBLANK(AD11),\"\",IF(COUNT(AD11:AM11)<>10,NA(),ASTM(AE11,3)))","v":{"$error":"#N/A"}},{"$f":"IF(ISBLANK(AD11),\"\",IF(COUNT(AD11:AM11)<>10,NA(),ASTM(CD11*ASTM(AF11,2),1)))","v":{"$error":"#N/A"}},{"$f":"IF(ISBLANK(AD11),\"\",IF(COUNT(AD11:AM11)<>10,NA(),ASTM(ASTM($AK$46,4)*1000*(CE11/$AZ$13),1)))","v":{"$error":"#N/A"}},{"$f":"IF(ISBLANK(AD11),\"\",CA11*10.3)","v":10.3},{"$f":"IF(ISBLANK(AD11),\"\",IF(COUNT(AD11:AM11)<>10,NA(),CF11/(33705*ASTM(AD11,3))))","v":{"$error":"#N/A"}},{"$f":"IF(ISBLANK(AD11),\"\",IF(COUNT(AD11:AM11)<>10,NA(),CH11+CB11/ASTM(AD11,3)))","v":{"$error":"#N/A"}},{"$f":"IF(ISBLANK(AD11),\"\",ASTM(highwayfuf(CG11)-0,3))","v":0.123},{"$f":"IF(ISBLANK(AD11),\"\",IF(OR(ISNUMBER(AD11)=FALSE,ISNUMBER(AM11)=FALSE),NA(),IF(ASTM(AI11,0)=0,0,CJ11*ASTM(AM11,0))))","v":0},{"$f":"IF(ISBLANK(AD11),\"\",IF(COUNT(AD11:AM11)<>10,NA(),CI11*CJ11))","v":{"$error":"#N/A"}},{"$f":"IF(ISBLANK(AD11),\"\",IF(COUNT(AD11:AM11)<>10,NA(),CI11*ASTM(AD11,3)))","v":{"$error":"#N/A"}},{"$f":"IF(ISBLANK(AD11),\"\",IF(COUNT(AD11:AM11)<>10,NA(),MAX(1/(0.003191*(1/CI11)+1.2945),0.7)))","v":{"$error":"#N/A"}},{"$f":"IF(ISBLANK(AD11),\"\",IF(COUNT(AD11:AM11)<>10,NA(),CN11*ASTM(AD11,3)))","v":{"$error":"#N/A"}},{"$f":"IF(ISBLANK(AD11),\"\",IF(COUNT(AD11:AM11)<>10,NA(),CN11*10.3))","v":{"$error":"#N/A"}},{"$f":"IF(ISBLANK(AD11),\"\",IF(COUNT(AD11:AM11)<>10,NA(),ASTM(mdiuf(CP11)-0,3)))","v":{"$error":"#N/A"}},{"$f":"IF(ISBLANK(AD11),\"\",IF(COUNT(AD11:AM11)<>10,NA(),IF(ASTM(AI11,0)=0,0,CQ11*ASTM(AI11,0)/(CN11))))","v":{"$error":"#N/A"}},{"$f":"IF(ISBLANK(AD11),\"\",IF(COUNT(AD11:AM11)<>10,NA(),CQ11*CI11/CN11))","v":{"$error":"#N/A"}},{"$f":"IF(ISBLANK(AD11),\"\",IF(COUNT(AD11:AM11)<>10,NA(),ASTM(highwayfufalt(CP11)-0,3)))","v":{"$error":"#N/A"}},{"$f":"IF(ISBLANK(AD11),\"\",IF(COUNT(AD11:AM11)<>10,NA(),CT11*CI11/CN11))","v":{"$error":"#N/A"}},{"$f":"IF(ISBLANK(AD11),\"\",IF(COUNT(AD11:AM11)<>10,NA(),IF(ASTM(AI11,0)=0,0,CT11*ASTM(AM11,0)/(CN11))))","v":{"$error":"#N/A"}}]
[null,null,"All-Electric Range (miles, unadjusted)",{"$f":"IF($J$6=\"HD 2b/3\",NA(),IFERROR( ASTM( IF($N$7+$N$55+$N$103=0,SUM(IFERROR(AY8,0),IFERROR(AY56,0),IFERROR(AY104,0)) / ((AY8<>0)+(AY56<>0)+(AY104<>0)),($N$7*AY8+$N$55*AY56+$N$103*AY104)/($N$7+$N$55+$N$103)),1),0))","v":{"$error":"#N/A"}},{"$f":"IF($J$6=\"HD 2b/3\",NA(),IFERROR(  ASTM( IF($N$7+$N$55+$N$103=0,SUM(IFERROR(AZ8,0),IFERROR(AZ56,0),IFERROR(AZ104,0)) / ((AZ8<>0)+(AZ56<>0)+(AZ104<>0)),($N$7*AZ8+$N$55*AZ56+$N$103*AZ104)/($N$7+$N$55+$N$103)),1),0))","v":{"$error":"#N/A"}},{"$f":"IF(OR(ISNUMBER(D12)=FALSE,ISNUMBER(E12)=FALSE),NA(),0.55*D12+0.45*E12)","v":{"$error":"#N/A"}},null,null,"Deterioration Factors for GHG (CREE) Values (All 3 Required)",null,null,null,{"$f":"IF($J$6=\"HD 2b/3\",NA(),\"Fuel Economy, 5-Cycle Adjusted (MPG):\")","v":{"$error":"#N/A"}},{"$f":"d5c(N11)","v":{"$error":"#VALUE!"}},{"$f":"d5c(O11)","v":{"$error":"#VALUE!"}},null,2,7.4619999999999997,8.782,310.83,0,0,0,0,0,{"$f":"IF(ISBLANK(R12),\"\",IF(OR($J$6=\"HD 2b/3\",COUNT(R12:W12)<>6,$AA$47<>\"Yes\",$AA$49<>\"Yes\"),NA(),IF(ASTM(W12,0)=0,0,ASTM((51740000*$T$46*$T$47)/((($T$46*U12)+(0.429*V12)+(0.273*W12))*((0.6*$T$47*$T$48)+5471)),1))))","v":{"$error":"#N/A"}},{"$f":"IF(ISBLANK(R12),\"\",IF(OR(AND($J$6<>\"HD 2b/3\",COUNT(R12:W12)<>6),AND($J$6=\"HD 2b/3\",COUNT(R12)+COUNT(W12)<>2),$AA$47<>\"Yes\",$AA$49<>\"Yes\"),NA(),IF(ASTM(W12,0)=0,0,IF($J$6=\"HD 2b/3\",W12,ASTM((($T$46/0.273)*U12)+(1.571*V12)+W12,0)))))","v":0},null,2,10.247999999999999,14.275,319.5,0,0,0,0,0,{"$f":"IF(ISBLANK(AD12),\"\",IF(OR($J$6=\"HD 2b/3\",COUNT(AD12:AI12)<>6,$AM$47<>\"Yes\",$AM$49<>\"Yes\"),NA(),IF(ASTM(AI12,0)=0,0,ASTM((51740000*$AF$46*$AF$47)/((($AF$46*AG12)+(0.429*AH12)+(0.273*AI12))*((0.6*$AF$47*$AF$48)+5471)),1))))","v":{"$error":"#N/A"}},{"$f":"IF(ISBLANK(AD12),\"\",IF(OR(AND($J$6<>\"HD 2b/3\",COUNT(AD12:AI12)<>6),AND($J$6=\"HD 2b/3\",COUNT(AD12)+COUNT(AI12)<>2),$AM$47<>\"Yes\",$AM$49<>\"Yes\"),NA(),IF(ASTM(AI12,0)=0,0,IF($J$6=\"HD 2b/3\",AI12,ASTM((($AF$46/0.273)*AG12)+(1.571*AH12)+AI12,0)))))","v":0},null,null,null,"Composite CREE w/DF, (g/mi) [1]",{"$f":"IF(SUM(AA11:AA45)=0,0,IF(ISBLANK($J$14)=TRUE,\"No DF\",IF($J$13=\"Additive\",ASTM((AY27+(1-AY30)*N13),0)+ASTM($J$14,0),IF($J$13=\"Multiplicative\",ASTM(ASTM((AY27+(1-AY30)*N13),0)*$J$14,0),\"Add/Mult?\"))))","v":22},{"$f":"IF(SUM(AM11:AM45)=0,0,IF(ISBLANK($J$15)=TRUE,\"No DF\",IF($J$13=\"Additive\",ASTM((AZ27+(1-AZ30)*O13),0)+ASTM($J$15,0),IF($J$13=\"Multiplicative\",ASTM(ASTM((AZ27+(1-AZ30)*O13),0)*$J$15,0),\"Add/Mult?\"))))","v":86},{"$f":"IF(OR(ISNUMBER(AR12)=FALSE,ISNUMBER(AS12)=FALSE),NA(),ASTM(0.55*AR12+0.45*AS12,1))","v":50.8},null,null,null,"CD AC electricity consumption rate (Rcda), adjusted  (kW-hr/100mi) [3]",{"$f":"IF($J$6=\"HD 2b/3\",NA(),IFERROR(ASTM( ASTM(Y46,4)*100/AY7,3),0))","v":{"$error":"#N/A"}},{"$f":"IF($J$6=\"HD 2b/3\",NA(),IFERROR(ASTM( ASTM(AK46,4)*100/AZ7,3),0))","v":{"$error":"#N/A"}},null,null,null,2,{"$f":"IF(ISBLANK(R12),\"\",IF(COUNT(R12:AA12)<>10,NA(),IF(ASTM(W12,0)=0,0,IFERROR(ASTM(R12,3)/ASTM(Z12,1),0))))","v":{"$error":"#N/A"}},{"$f":"IF(ISBLANK(R12),\"\",IF(COUNT(R12:AA12)<>10,NA(),IF(W12=0,0,ASTM(ASTM(W12,0)*ASTM(R12,3),0))))","v":{"$error":"#N/A"}},{"$f":"IF(ISBLANK(R12),\"\",IF(COUNT(R12:AA12)<>10,NA(),ASTM(S12,3)-ASTM(S11,3)))","v":{"$error":"#N/A"}},{"$f":"IF(ISBLANK(R12),\"\",IF(COUNT(R12:AA12)<>10,NA(),ASTM(BG12*ASTM(T12,2),1)))","v":{"$error":"#N/A"}},{"$f":"IF(ISBLANK(R12),\"\",IF(COUNT(R12:AA12)<>10,NA(),ASTM(ASTM($Y$46,4)*1000*(BH12/$AY$13),1)))","v":{"$error":"#N/A"}},{"$f":"IF(ISBLANK(R12),\"\",BD12*7.45)","v":14.9},{"$f":"IF(ISBLANK(R12),\"\",IF(COUNT(R12:AA12)<>10,NA(),BI12/(33705*ASTM(R12,3))))","v":{"$error":"#N/A"}},{"$f":"IF(ISBLANK(R12),\"\",IF(COUNT(R12:AA12)<>10,NA(),BK12+BE12/ASTM(R12,3)))","v":{"$error":"#N/A"}},{"$f":"IF(ISBLANK(R12),\"\",IFERROR(ASTM(cityfuf(BJ12)-cityfuf(BJ11),3),\"\"))","v":0.183},{"$f":"IF(ISBLANK(R12),\"\",IF(OR(ISNUMBER(R12)=FALSE,ISNUMBER(AA12)=FALSE),NA(),IF(ASTM(W12,0)=0,0,BM12*ASTM(AA12,0))))","v":0},{"$f":"IF(ISBLANK(R12),\"\",IF(COUNT(R12:AA12)<>10,NA(),BL12*BM12))","v":{"$error":"#N/A"}},{"$f":"IF(ISBLANK(R12),\"\",IF(COUNT(R12:AA12)<>10,NA(),BL12*ASTM(R12,3)))","v":{"$error":"#N/A"}},{"$f":"IF(ISBLANK(R12),\"\",IF(COUNT(R12:AA12)<>10,NA(),MAX(1/(0.004091*(1/BL12)+1.1601),0.7)))","v":{"$error":"#N/A"}},{"$f":"IF(ISBLANK(R12),\"\",IF(COUNT(R12:AA12)<>10,NA(),BQ12*ASTM(R12,3)))","v":{"$error":"#N/A"}},{"$f":"IF(ISBLANK(R12),\"\",IF(COUNT(R12:AA12)<>10,NA(),BQ12*7.45+BS11))","v":{"$error":"#N/A"}},{"$f":"IF(ISBLANK(R12),\"\",IF(COUNT(R12:AA12)<>10,NA(),ASTM(mdiuf(BS12),3)-ASTM(mdiuf(BS11),3)))","v":{"$error":"#N/A"}},{"$f":"IF(ISBLANK(R12),\"\",IF(COUNT(R12:AA12)<>10,NA(),IF(ASTM(W12,0)=0,0,BT12*ASTM(W12,0)/(BQ12))))","v":{"$error":"#N/A"}},{"$f":"IF(ISBLANK(R12),\"\",IF(COUNT(R12:AA12)<>10,NA(),BT12*BL12/BQ12))","v":{"$error":"#N/A"}},{"$f":"IF(ISBLANK(R12),\"\",IF(COUNT(R12:AA12)<>10,NA(),ASTM(cityfufalt(BS12)-cityfufalt(BS11),3)))","v":{"$error":"#N/A"}},{"$f":"IF(ISBLANK(R12),\"\",IF(COUNT(R12:AA12)<>10,NA(),BW12*BL12/BQ12))","v":{"$error":"#N/A"}},{"$f":"IF(ISBLANK(R12),\"\",IF(COUNT(R12:AA12)<>10,NA(),IF(ASTM(W12,0)=0,0,BW12*ASTM(AA12,0)/(BQ12))))","v":{"$error":"#N/A"}},null,2,{"$f":"IF(ISBLANK(AD12),\"\",IF(COUNT(AD12:AM12)<>10,NA(),IF(ASTM(AI12,0)=0,0,ASTM(AD12,3)/ASTM(AL12,1))))","v":{"$error":"#N/A"}},{"$f":"IF(ISBLANK(AD12),\"\",IF(COUNT(AD12:AM12)<>10,NA(),IF(ASTM(AI12,0)=0,0,ASTM(ASTM(AI12,0)*ASTM(AD12,3),0))))","v":{"$error":"#N/A"}},{"$f":"IF(ISBLANK(AD12),\"\",IF(COUNT(AD12:AM12)<>10,NA(),ASTM(AE12,3)-ASTM(AE11,3)))","v":{"$error":"#N/A"}},{"$f":"IF(ISBLANK(AD12),\"\",IF(COUNT(AD12:AM12)<>10,NA(),ASTM(CD12*ASTM(AF12,2),1)))","v":{"$error":"#N/A"}},{"$f":"IF(ISBLANK(AD12),\"\",IF(COUNT(AD12:AM12)<>10,NA(),ASTM(ASTM($AK$46,4)*1000*(CE12/$AZ$13),1)))","v":{"$error":"#N/A"}},{"$f":"IF(ISBLANK(AD12),\"\",CA12*10.3)","v":20.6},{"$f":"IF(ISBLANK(AD12),\"\",IF(COUNT(AD12:AM12)<>10,NA(),CF12/(33705*ASTM(AD12,3))))","v":{"$error":"#N/A"}},{"$error":"#N/A"},{"$f":"IF(ISBLANK(AD12),\"\",ASTM(highwayfuf(CG12)-highwayfuf(CG11),3))","v":0.11700000000000001},{"$f":"IF(ISBLANK(AD12),\"\",IF(OR(ISNUMBER(AD12)=FALSE,ISNUMBER(AM12)=FALSE),NA(),IF(ASTM(AI12,0)=0,0,CJ12*ASTM(AM12,0))))","v":0},{"$error":"#N/A"},{"$f":"IF(ISBLANK(AD12),\"\",IF(COUNT(AD12:AM12)<>10,NA(),CI12*ASTM(AD12,3)))","v":{"$error":"#N/A"}},{"$error":"#N/A"},{"$f":"IF(ISBLANK(AD12),\"\",IF(COUNT(AD12:AM12)<>10,NA(),CN12*ASTM(AD12,3)))","v":{"$error":"#N/A"}},{"$f":"IF(ISBLANK(AD12),\"\",IF(COUNT(AD12:AM12)<>10,NA(),CN12*10.3+CP11))","v":{"$error":"#N/A"}},{"$f":"IF(ISBLANK(AD12),\"\",IF(COUNT(AD12:AM12)<>10,NA(),ASTM(mdiuf(CP12)-mdiuf(CP11),3)))","v":{"$error":"#N/A"}},{"$f":"IF(ISBLANK(AD12),\"\",IF(COUNT(AD12:AM12)<>10,NA(),IF(ASTM(AI12,0)=0,0,CQ12*ASTM(AI12,0)/(CN12))))","v":{"$error":"#N/A"}},{"$error":"#N/A"},{"$f":"IF(ISBLANK(AD12),\"\",IF(COUNT(AD12:AM12)<>10,NA(),ASTM(highwayfufalt(CP12)-highwayfufalt(CP11),3)))","v":{"$error":"#N/A"}},{"$error":"#N/A"},{"$f":"IF(ISBLANK(AD12),\"\",IF(COUNT(AD12:AM12)<>10,NA(),IF(ASTM(AI12,0)=0,0,CT12*ASTM(AM12,0)/(CN12))))","v":{"$error":"#N/A"}}]
[null,null,null,null,null,null,null,null,"Select DF type:","Additive",null,null,"CREE (g/mi):",153,161,null,3,7.4749999999999996,12.89,305.77,0,0,0,0,0,{"$f":"IF(ISBLANK(R13),\"\",IF(OR($J$6=\"HD 2b/3\",COUNT(R13:W13)<>6,$AA$47<>\"Yes\",$AA$49<>\"Yes\"),NA(),IF(ASTM(W13,0)=0,0,ASTM((51740000*$T$46*$T$47)/((($T$46*U13)+(0.429*V13)+(0.273*W13))*((0.6*$T$47*$T$48)+5471)),1))))","v":{"$error":"#N/A"}},{"$f":"IF(ISBLANK(R13),\"\",IF(OR(AND($J$6<>\"HD 2b/3\",COUNT(R13:W13)<>6),AND($J$6=\"HD 2b/3\",COUNT(R13)+COUNT(W13)<>2),$AA$47<>\"Yes\",$AA$49<>\"Yes\"),NA(),IF(ASTM(W13,0)=0,0,IF($J$6=\"HD 2b/3\",W13,ASTM((($T$46/0.273)*U13)+(1.571*V13)+W13,0)))))","v":0},null,3,10.246,21.663,309.3,0,0,0,0,0,{"$f":"IF(ISBLANK(AD13),\"\",IF(OR($J$6=\"HD 2b/3\",COUNT(AD13:AI13)<>6,$AM$47<>\"Yes\",$AM$49<>\"Yes\"),NA(),IF(ASTM(AI13,0)=0,0,ASTM((51740000*$AF$46*$AF$47)/((($AF$46*AG13)+(0.429*AH13)+(0.273*AI13))*((0.6*$AF$47*$AF$48)+5471)),1))))","v":{"$error":"#N/A"}},{"$f":"IF(ISBLANK(AD13),\"\",IF(OR(AND($J$6<>\"HD 2b/3\",COUNT(AD13:AI13)<>6),AND($J$6=\"HD 2b/3\",COUNT(AD13)+COUNT(AI13)<>2),$AM$47<>\"Yes\",$AM$49<>\"Yes\"),NA(),IF(ASTM(AI13,0)=0,0,IF($J$6=\"HD 2b/3\",AI13,ASTM((($AF$46/0.273)*AG13)+(1.571*AH13)+AI13,0)))))","v":0},null,null,null,"Label Values (5-Cycle Adjusted)",null,null,null,null,null,null,"CD test total DC energy consumed, unadjusted (Watt-hours) [1]",{"$f":"IF($J$6=\"HD 2b/3\",NA(),ASTM(SUM(BH11:BH45),1))","v":{"$error":"#N/A"}},{"$f":"IF($J$6=\"HD 2b/3\",NA(),ASTM(SUM(CE11:CE45),1))","v":{"$error":"#N/A"}},null,null,null,3,{"$f":"IF(ISBLANK(R13),\"\",IF(COUNT(R13:AA13)<>10,NA(),IF(ASTM(W13,0)=0,0,IFERROR(ASTM(R13,3)/ASTM(Z13,1),0))))","v":{"$error":"#N/A"}},{"$f":"IF(ISBLANK(R13),\"\",IF(COUNT(R13:AA13)<>10,NA(),IF(W13=0,0,ASTM(ASTM(W13,0)*ASTM(R13,3),0))))","v":{"$error":"#N/A"}},{"$f":"IF(ISBLANK(R13),\"\",IF(COUNT(R13:AA13)<>10,NA(),ASTM(S13,3)-ASTM(S12,3)))","v":{"$error":"#N/A"}},{"$f":"IF(ISBLANK(R13),\"\",IF(COUNT(R13:AA13)<>10,NA(),ASTM(BG13*ASTM(T13,2),1)))","v":{"$error":"#N/A"}},{"$f":"IF(ISBLANK(R13),\"\",IF(COUNT(R13:AA13)<>10,NA(),ASTM(ASTM($Y$46,4)*1000*(BH13/$AY$13),1)))","v":{"$error":"#N/A"}},22.35,{"$f":"IF(ISBLANK(R13),\"\",IF(COUNT(R13:AA13)<>10,NA(),BI13/(33705*ASTM(R13,3))))","v":{"$error":"#N/A"}},{"$error":"#N/A"},{"$f":"IF(ISBLANK(R13),\"\",IFERROR(ASTM(cityfuf(BJ13)-cityfuf(BJ12),3),\"\"))","v":0.13700000000000001},{"$f":"IF(ISBLANK(R13),\"\",IF(OR(ISNUMBER(R13)=FALSE,ISNUMBER(AA13)=FALSE),NA(),IF(ASTM(W13,0)=0,0,BM13*ASTM(AA13,0))))","v":0},{"$error":"#N/A"},{"$f":"IF(ISBLANK(R13),\"\",IF(COUNT(R13:AA13)<>10,NA(),BL13*ASTM(R13,3)))","v":{"$error":"#N/A"}},{"$error":"#N/A"},{"$f":"IF(ISBLANK(R13),\"\",IF(COUNT(R13:AA13)<>10,NA(),BQ13*ASTM(R13,3)))","v":{"$error":"#N/A"}},{"$f":"IF(ISBLANK(R13),\"\",IF(COUNT(R13:AA13)<>10,NA(),BQ13*7.45+BS12))","v":{"$error":"#N/A"}},{"$f":"IF(ISBLANK(R13),\"\",IF(COUNT(R13:AA13)<>10,NA(),ASTM(mdiuf(BS13),3)-ASTM(mdiuf(BS12),3)))","v":{"$error":"#N/A"}},{"$f":"IF(ISBLANK(R13),\"\",IF(COUNT(R13:AA13)<>10,NA(),IF(ASTM(W13,0)=0,0,BT13*ASTM(W13,0)/(BQ13))))","v":{"$error":"#N/A"}},{"$error":"#N/A"},{"$f":"IF(ISBLANK(R13),\"\",IF(COUNT(R13:AA13)<>10,NA(),ASTM(cityfufalt(BS13)-cityfufalt(BS12),3)))","v":{"$error":"#N/A"}},{"$error":"#N/A"},{"$f":"IF(ISBLANK(R13),\"\",IF(COUNT(R13:AA13)<>10,NA(),IF(ASTM(W13,0)=0,0,BW13*ASTM(AA13,0)/(BQ13))))","v":{"$error":"#N/A"}},null,3,{"$f":"IF(ISBLANK(AD13),\"\",IF(COUNT(AD13:AM13)<>10,NA(),IF(ASTM(AI13,0)=0,0,ASTM(AD13,3)/ASTM(AL13,1))))","v":{"$error":"#N/A"}},{"$f":"IF(ISBLANK(AD13),\"\",IF(COUNT(AD13:AM13)<>10,NA(),IF(ASTM(AI13,0)=0,0,ASTM(ASTM(AI13,0)*ASTM(AD13,3),0))))","v":{"$error":"#N/A"}},{"$f":"IF(ISBLANK(AD13),\"\",IF(COUNT(AD13:AM13)<>10,NA(),ASTM(AE13,3)-ASTM(AE12,3)))","v":{"$error":"#N/A"}},{"$f":"IF(ISBLANK(AD13),\"\",IF(COUNT(AD13:AM13)<>10,NA(),ASTM(CD13*ASTM(AF13,2),1)))","v":{"$error":"#N/A"}},{"$f":"IF(ISBLANK(AD13),\"\",IF(COUNT(AD13:AM13)<>10,NA(),ASTM(ASTM($AK$46,4)*1000*(CE13/$AZ$13),1)))","v":{"$error":"#N/A"}},30.900000000000002,{"$f":"IF(ISBLANK(AD13),\"\",IF(COUNT(AD13:AM13)<>10,NA(),CF13/(33705*ASTM(AD13,3))))","v":{"$error":"#N/A"}},{"$error":"#N/A"},{"$f":"IF(ISBLANK(AD13),\"\",ASTM(highwayfuf(CG13)-highwayfuf(CG12),3))","v":0.105},{"$f":"IF(ISBLANK(AD13),\"\",IF(OR(ISNUMBER(AD13)=FALSE,ISNUMBER(AM13)=FALSE),NA(),IF(ASTM(AI13,0)=0,0,CJ13*ASTM(AM13,0))))","v":0},{"$error":"#N/A"},{"$f":"IF(ISBLANK(AD13),\"\",IF(COUNT(AD13:AM13)<>10,NA(),CI13*ASTM(AD13,3)))","v":{"$error":"#N/A"}},{"$error":"#N/A"},{"$f":"IF(ISBLANK(AD13),\"\",IF(COUNT(AD13:AM13)<>10,NA(),CN13*ASTM(AD13,3)))","v":{"$error":"#N/A"}},{"$error":"#N/A"},{"$f":"IF(ISBLANK(AD13),\"\",IF(COUNT(AD13:AM13)<>10,NA(),ASTM(mdiuf(CP13)-mdiuf(CP12),3)))","v":{"$error":"#N/A"}},{"$f":"IF(ISBLANK(AD13),\"\",IF(COUNT(AD13:AM13)<>10,NA(),IF(ASTM(AI13,0)=0,0,CQ13*ASTM(AI13,0)/(CN13))))","v":{"$error":"#N/A"}},{"$error":"#N/A"},{"$f":"IF(ISBLANK(AD13),\"\",IF(COUNT(AD13:AM13)<>10,NA(),ASTM(highwayfufalt(CP13)-highwayfufalt(CP12),3)))","v":{"$error":"#N/A"}},{"$error":"#N/A"},{"$f":"IF(ISBLANK(AD13),\"\",IF(COUNT(AD13:AM13)<>10,NA(),IF(ASTM(AI13,0)=0,0,CT13*ASTM(AM13,0)/(CN13))))","v":{"$error":"#N/A"}}]
[null,null,"GHG Values","City","Highway","Combined",null,null,"City DF:",1.6,null,null,"CO2, Unadjusted (g/mi):",153,161,null,4,7.4630000000000001,17.07,303.25,0,0,0,0,0,{"$f":"IF(ISBLANK(R14),\"\",IF(OR($J$6=\"HD 2b/3\",COUNT(R14:W14)<>6,$AA$47<>\"Yes\",$AA$49<>\"Yes\"),NA(),IF(ASTM(W14,0)=0,0,ASTM((51740000*$T$46*$T$47)/((($T$46*U14)+(0.429*V14)+(0.273*W14))*((0.6*$T$47*$T$48)+5471)),1))))","v":{"$error":"#N/A"}},{"$f":"IF(ISBLANK(R14),\"\",IF(OR(AND($J$6<>\"HD 2b/3\",COUNT(R14:W14)<>6),AND($J$6=\"HD 2b/3\",COUNT(R14)+COUNT(W14)<>2),$AA$47<>\"Yes\",$AA$49<>\"Yes\"),NA(),IF(ASTM(W14,0)=0,0,IF($J$6=\"HD 2b/3\",W14,ASTM((($T$46/0.273)*U14)+(1.571*V14)+W14,0)))))","v":0},null,4,10.247999999999999,29.175000000000001,301.7,0,0,0,0,0,{"$f":"IF(ISBLANK(AD14),\"\",IF(OR($J$6=\"HD 2b/3\",COUNT(AD14:AI14)<>6,$AM$47<>\"Yes\",$AM$49<>\"Yes\"),NA(),IF(ASTM(AI14,0)=0,0,ASTM((51740000*$AF$46*$AF$47)/((($AF$46*AG14)+(0.429*AH14)+(0.273*AI14))*((0.6*$AF$47*$AF$48)+5471)),1))))","v":{"$error":"#N/A"}},{"$f":"IF(ISBLANK(AD14),\"\",IF(OR(AND($J$6<>\"HD 2b/3\",COUNT(AD14:AI14)<>6),AND($J$6=\"HD 2b/3\",COUNT(AD14)+COUNT(AI14)<>2),$AM$47<>\"Yes\",$AM$49<>\"Yes\"),NA(),IF(ASTM(AI14,0)=0,0,IF($J$6=\"HD 2b/3\",AI14,ASTM((($AF$46/0.273)*AG14)+(1.571*AH14)+AI14,0)))))","v":0},null,null,null,"Charge-Depleting",null,null,"Combined",null,null,"NEW","CD Rcda total fuel consumption (Rcda), unadjusted (gal equiv) [4]",{"$f":"IF($J$6=\"HD 2b/3\",NA(),IFERROR(ASTM(SUMIF(BD11:BD45,\"<=\" & (AY34-1),BP11:BP45) + AY33*SUMIF(BD11:BD45,\"=\" & (AY34-1),BP11:BP45),4),0))","v":{"$error":"#N/A"}},{"$f":"IF($J$6=\"HD 2b/3\",NA(),IFERROR(ASTM(SUMIF(CA11:CA45,\"<=\" & (AZ34-1),CM11:CM45) + AZ33*SUMIF(CA11:CA45,\"=\" & (AZ34-1),CM11:CM45),4),0))","v":{"$error":"#N/A"}},null,null,null,4,{"$f":"IF(ISBLANK(R14),\"\",IF(COUNT(R14:AA14)<>10,NA(),IF(ASTM(W14,0)=0,0,IFERROR(ASTM(R14,3)/ASTM(Z14,1),0))))","v":{"$error":"#N/A"}},{"$f":"IF(ISBLANK(R14),\"\",IF(COUNT(R14:AA14)<>10,NA(),IF(W14=0,0,ASTM(ASTM(W14,0)*ASTM(R14,3),0))))","v":{"$error":"#N/A"}},{"$f":"IF(ISBLANK(R14),\"\",IF(COUNT(R14:AA14)<>10,NA(),ASTM(S14,3)-ASTM(S13,3)))","v":{"$error":"#N/A"}},{"$f":"IF(ISBLANK(R14),\"\",IF(COUNT(R14:AA14)<>10,NA(),ASTM(BG14*ASTM(T14,2),1)))","v":{"$error":"#N/A"}},{"$f":"IF(ISBLANK(R14),\"\",IF(COUNT(R14:AA14)<>10,NA(),ASTM(ASTM($Y$46,4)*1000*(BH14/$AY$13),1)))","v":{"$error":"#N/A"}},29.8,{"$f":"IF(ISBLANK(R14),\"\",IF(COUNT(R14:AA14)<>10,NA(),BI14/(33705*ASTM(R14,3))))","v":{"$error":"#N/A"}},{"$error":"#N/A"},{"$f":"IF(ISBLANK(R14),\"\",IFERROR(ASTM(cityfuf(BJ14)-cityfuf(BJ13),3),\"\"))","v":0.10299999999999999},{"$f":"IF(ISBLANK(R14),\"\",IF(OR(ISNUMBER(R14)=FALSE,ISNUMBER(AA14)=FALSE),NA(),IF(ASTM(W14,0)=0,0,BM14*ASTM(AA14,0))))","v":0},{"$error":"#N/A"},{"$f":"IF(ISBLANK(R14),\"\",IF(COUNT(R14:AA14)<>10,NA(),BL14*ASTM(R14,3)))","v":{"$error":"#N/A"}},{"$error":"#N/A"},{"$f":"IF(ISBLANK(R14),\"\",IF(COUNT(R14:AA14)<>10,NA(),BQ14*ASTM(R14,3)))","v":{"$error":"#N/A"}},{"$error":"#N/A"},{"$f":"IF(ISBLANK(R14),\"\",IF(COUNT(R14:AA14)<>10,NA(),ASTM(mdiuf(BS14),3)-ASTM(mdiuf(BS13),3)))","v":{"$error":"#N/A"}},{"$f":"IF(ISBLANK(R14),\"\",IF(COUNT(R14:AA14)<>10,NA(),IF(ASTM(W14,0)=0,0,BT14*ASTM(W14,0)/(BQ14))))","v":{"$error":"#N/A"}},{"$error":"#N/A"},{"$f":"IF(ISBLANK(R14),\"\",IF(COUNT(R14:AA14)<>10,NA(),ASTM(cityfufalt(BS14)-cityfufalt(BS13),3)))","v":{"$error":"#N/A"}},{"$error":"#N/A"},{"$f":"IF(ISBLANK(R14),\"\",IF(COUNT(R14:AA14)<>10,NA(),IF(ASTM(W14,0)=0,0,BW14*ASTM(AA14,0)/(BQ14))))","v":{"$error":"#N/A"}},null,4,{"$f":"IF(ISBLANK(AD14),\"\",IF(COUNT(AD14:AM14)<>10,NA(),IF(ASTM(AI14,0)=0,0,ASTM(AD14,3)/ASTM(AL14,1))))","v":{"$error":"#N/A"}},{"$f":"IF(ISBLANK(AD14),\"\",IF(COUNT(AD14:AM14)<>10,NA(),IF(ASTM(AI14,0)=0,0,ASTM(ASTM(AI14,0)*ASTM(AD14,3),0))))","v":{"$error":"#N/A"}},{"$f":"IF(ISBLANK(AD14),\"\",IF(COUNT(AD14:AM14)<>10,NA(),ASTM(AE14,3)-ASTM(AE13,3)))","v":{"$error":"#N/A"}},{"$f":"IF(ISBLANK(AD14),\"\",IF(COUNT(AD14:AM14)<>10,NA(),ASTM(CD14*ASTM(AF14,2),1)))","v":{"$error":"#N/A"}},{"$f":"IF(ISBLANK(AD14),\"\",IF(COUNT(AD14:AM14)<>10,NA(),ASTM(ASTM($AK$46,4)*1000*(CE14/$AZ$13),1)))","v":{"$error":"#N/A"}},41.2,{"$f":"IF(ISBLANK(AD14),\"\",IF(COUNT(AD14:AM14)<>10,NA(),CF14/(33705*ASTM(AD14,3))))","v":{"$error":"#N/A"}},{"$error":"#N/A"},{"$f":"IF(ISBLANK(AD14),\"\",ASTM(highwayfuf(CG14)-highwayfuf(CG13),3))","v":9.1999999999999998E-2},{"$f":"IF(ISBLANK(AD14),\"\",IF(OR(ISNUMBER(AD14)=FALSE,ISNUMBER(AM14)=FALSE),NA(),IF(ASTM(AI14,0)=0,0,CJ14*ASTM(AM14,0))))","v":0},{"$error":"#N/A"},{"$f":"IF(ISBLANK(AD14),\"\",IF(COUNT(AD14:AM14)<>10,NA(),CI14*ASTM(AD14,3)))","v":{"$error":"#N/A"}},{"$error":"#N/A"},{"$f":"IF(ISBLANK(AD14),\"\",IF(COUNT(AD14:AM14)<>10,NA(),CN14*ASTM(AD14,3)))","v":{"$error":"#N/A"}},{"$error":"#N/A"},{"$f":"IF(ISBLANK(AD14),\"\",IF(COUNT(AD14:AM14)<>10,NA(),ASTM(mdiuf(CP14)-mdiuf(CP13),3)))","v":{"$error":"#N/A"}},{"$f":"IF(ISBLANK(AD14),\"\",IF(COUNT(AD14:AM14)<>10,NA(),IF(ASTM(AI14,0)=0,0,CQ14*ASTM(AI14,0)/(CN14))))","v":{"$error":"#N/A"}},{"$error":"#N/A"},{"$f":"IF(ISBLANK(AD14),\"\",IF(COUNT(AD14:AM14)<>10,NA(),ASTM(highwayfufalt(CP14)-highwayfufalt(CP13),3)))","v":{"$error":"#N/A"}},{"$error":"#N/A"},{"$f":"IF(ISBLANK(AD14),\"\",IF(COUNT(AD14:AM14)<>10,NA(),IF(ASTM(AI14,0)=0,0,CT14*ASTM(AM14,0)/(CN14))))","v":{"$error":"#N/A"}}]
[null,null,"Composite CREE, without DF (g/mi)",{"$f":"IF($N$7+$N$55+$N$103=0,ASTM( SUM(IFERROR(AR11,0),IFERROR(AR59,0),IFERROR(AR107,0))/((AR11<>0)+(AR59<>0)+(AR107<>0)),1),ASTM(($N$7*AR11+$N$55*AR59+$N$103*AR107)/($N$7+$N$55+$N$103),1))","v":20.2},{"$f":"IF($N$7+$N$55+$N$103=0,ASTM(SUM(IFERROR(AS11,0),IFERROR(AS59,0),IFERROR(AS107,0))/((AS11<>0)+(AS59<>0)+(AS107<>0)),1),ASTM(($N$7*AS11+$N$55*AS59+$N$103*AS107)/($N$7+$N$55+$N$103),1))","v":84.2},{"$f":"IF(OR(N13=0,N14=0,O13=0,O14=0,SUM(AA11:AA45)=0,SUM(AM11:AM45)=0),\"ERROR\", IFERROR(ASTM(0.55*D15+0.45*E15,1),\"CREE ERROR\")  )","v":49},null,null,"Highway DF:",1.6,null,null,{"$f":"IF($J$6=\"HD 2b/3\",NA(),\"CO2, 5-Cycle Adjusted (g/mi):\")","v":{"$error":"#N/A"}},{"$f":"d5c(N14)","v":{"$error":"#VALUE!"}},{"$f":"d5c(O14)","v":{"$error":"#VALUE!"}},null,5,7.4619999999999997,21.311,300.18,0,0,0,0,0,{"$f":"IF(ISBLANK(R15),\"\",IF(OR($J$6=\"HD 2b/3\",COUNT(R15:W15)<>6,$AA$47<>\"Yes\",$AA$49<>\"Yes\"),NA(),IF(ASTM(W15,0)=0,0,ASTM((51740000*$T$46*$T$47)/((($T$46*U15)+(0.429*V15)+(0.273*W15))*((0.6*$T$47*$T$48)+5471)),1))))","v":{"$error":"#N/A"}},{"$f":"IF(ISBLANK(R15),\"\",IF(OR(AND($J$6<>\"HD 2b/3\",COUNT(R15:W15)<>6),AND($J$6=\"HD 2b/3\",COUNT(R15)+COUNT(W15)<>2),$AA$47<>\"Yes\",$AA$49<>\"Yes\"),NA(),IF(ASTM(W15,0)=0,0,IF($J$6=\"HD 2b/3\",W15,ASTM((($T$46/0.273)*U15)+(1.571*V15)+W15,0)))))","v":0},null,5,10.246,33.857999999999997,298.3,1.7000000000000001E-2,0.14000000000000001,71,125.5,71,{"$f":"IF(ISBLANK(AD15),\"\",IF(OR($J$6=\"HD 2b/3\",COUNT(AD15:AI15)<>6,$AM$47<>\"Yes\",$AM$49<>\"Yes\"),NA(),IF(ASTM(AI15,0)=0,0,ASTM((51740000*$AF$46*$AF$47)/((($AF$46*AG15)+(0.429*AH15)+(0.273*AI15))*((0.6*$AF$47*$AF$48)+5471)),1))))","v":{"$error":"#N/A"}},{"$f":"IF(ISBLANK(AD15),\"\",IF(OR(AND($J$6<>\"HD 2b/3\",COUNT(AD15:AI15)<>6),AND($J$6=\"HD 2b/3\",COUNT(AD15)+COUNT(AI15)<>2),$AM$47<>\"Yes\",$AM$49<>\"Yes\"),NA(),IF(ASTM(AI15,0)=0,0,IF($J$6=\"HD 2b/3\",AI15,ASTM((($AF$46/0.273)*AG15)+(1.571*AH15)+AI15,0)))))","v":71},null,null,null,"CD range, adjusted (miles) [0]",null,null,{"$f":"IF($J$6=\"HD 2b/3\",NA(),IFERROR(ASTM(0.55*AY7+0.45*AZ7,0),0))","v":{"$error":"#N/A"}},null,null,null,"CD utilitized total fuel consumption rate (55/45 FUF, Rcdc), unadjusted (gal-equiv/mile) [6]",{"$f":"IF($J$6=\"HD 2b/3\",NA(),ASTM(SUMIF(BD11:BD45,\"<=\" & (AY34),BO11:BO45)*1000000,0)/1000000)","v":{"$error":"#N/A"}},{"$f":"IF($J$6=\"HD 2b/3\",NA(),ASTM(SUMIF(CA11:CA45,\"<=\" & (AZ34),CL11:CL45)*1000000,0)/1000000)","v":{"$error":"#N/A"}},null,null,null,5,{"$f":"IF(ISBLANK(R15),\"\",IF(COUNT(R15:AA15)<>10,NA(),IF(ASTM(W15,0)=0,0,IFERROR(ASTM(R15,3)/ASTM(Z15,1),0))))","v":{"$error":"#N/A"}},{"$f":"IF(ISBLANK(R15),\"\",IF(COUNT(R15:AA15)<>10,NA(),IF(W15=0,0,ASTM(ASTM(W15,0)*ASTM(R15,3),0))))","v":{"$error":"#N/A"}},{"$f":"IF(ISBLANK(R15),\"\",IF(COUNT(R15:AA15)<>10,NA(),ASTM(S15,3)-ASTM(S14,3)))","v":{"$error":"#N/A"}},{"$f":"IF(ISBLANK(R15),\"\",IF(COUNT(R15:AA15)<>10,NA(),ASTM(BG15*ASTM(T15,2),1)))","v":{"$error":"#N/A"}},{"$f":"IF(ISBLANK(R15),\"\",IF(COUNT(R15:AA15)<>10,NA(),ASTM(ASTM($Y$46,4)*1000*(BH15/$AY$13),1)))","v":{"$error":"#N/A"}},37.25,{"$f":"IF(ISBLANK(R15),\"\",IF(COUNT(R15:AA15)<>10,NA(),BI15/(33705*ASTM(R15,3))))","v":{"$error":"#N/A"}},{"$error":"#N/A"},{"$f":"IF(ISBLANK(R15),\"\",IFERROR(ASTM(cityfuf(BJ15)-cityfuf(BJ14),3),\"\"))","v":7.6999999999999999E-2},{"$f":"IF(ISBLANK(R15),\"\",IF(OR(ISNUMBER(R15)=FALSE,ISNUMBER(AA15)=FALSE),NA(),IF(ASTM(W15,0)=0,0,BM15*ASTM(AA15,0))))","v":0},{"$error":"#N/A"},{"$f":"IF(ISBLANK(R15),\"\",IF(COUNT(R15:AA15)<>10,NA(),BL15*ASTM(R15,3)))","v":{"$error":"#N/A"}},{"$error":"#N/A"},{"$f":"IF(ISBLANK(R15),\"\",IF(COUNT(R15:AA15)<>10,NA(),BQ15*ASTM(R15,3)))","v":{"$error":"#N/A"}},{"$error":"#N/A"},{"$f":"IF(ISBLANK(R15),\"\",IF(COUNT(R15:AA15)<>10,NA(),ASTM(mdiuf(BS15),3)-ASTM(mdiuf(BS14),3)))","v":{"$error":"#N/A"}},{"$f":"IF(ISBLANK(R15),\"\",IF(COUNT(R15:AA15)<>10,NA(),IF(ASTM(W15,0)=0,0,BT15*ASTM(W15,0)/(BQ15))))","v":{"$error":"#N/A"}},{"$error":"#N/A"},{"$f":"IF(ISBLANK(R15),\"\",IF(COUNT(R15:AA15)<>10,NA(),ASTM(cityfufalt(BS15)-cityfufalt(BS14),3)))","v":{"$error":"#N/A"}},{"$error":"#N/A"},{"$f":"IF(ISBLANK(R15),\"\",IF(COUNT(R15:AA15)<>10,NA(),IF(ASTM(W15,0)=0,0,BW15*ASTM(AA15,0)/(BQ15))))","v":{"$error":"#N/A"}},null,5,{"$f":"IF(ISBLANK(AD15),\"\",IF(COUNT(AD15:AM15)<>10,NA(),IF(ASTM(AI15,0)=0,0,ASTM(AD15,3)/ASTM(AL15,1))))","v":{"$error":"#N/A"}},{"$f":"IF(ISBLANK(AD15),\"\",IF(COUNT(AD15:AM15)<>10,NA(),IF(ASTM(AI15,0)=0,0,ASTM(ASTM(AI15,0)*ASTM(AD15,3),0))))","v":{"$error":"#N/A"}},{"$f":"IF(ISBLANK(AD15),\"\",IF(COUNT(AD15:AM15)<>10,NA(),ASTM(AE15,3)-ASTM(AE14,3)))","v":{"$error":"#N/A"}},{"$f":"IF(ISBLANK(AD15),\"\",IF(COUNT(AD15:AM15)<>10,NA(),ASTM(CD15*ASTM(AF15,2),1)))","v":{"$error":"#N/A"}},{"$f":"IF(ISBLANK(AD15),\"\",IF(COUNT(AD15:AM15)<>10,NA(),ASTM(ASTM($AK$46,4)*1000*(CE15/$AZ$13),1)))","v":{"$error":"#N/A"}},51.5,{"$f":"IF(ISBLANK(AD15),\"\",IF(COUNT(AD15:AM15)<>10,NA(),CF15/(33705*ASTM(AD15,3))))","v":{"$error":"#N/A"}},{"$error":"#N/A"},{"$f":"IF(ISBLANK(AD15),\"\",ASTM(highwayfuf(CG15)-highwayfuf(CG14),3))","v":7.9000000000000001E-2},{"$f":"IF(ISBLANK(AD15),\"\",IF(OR(ISNUMBER(AD15)=FALSE,ISNUMBER(AM15)=FALSE),NA(),IF(ASTM(AI15,0)=0,0,CJ15*ASTM(AM15,0))))","v":5.609},{"$error":"#N/A"},{"$f":"IF(ISBLANK(AD15),\"\",IF(COUNT(AD15:AM15)<>10,NA(),CI15*ASTM(AD15,3)))","v":{"$error":"#N/A"}},{"$error":"#N/A"},{"$f":"IF(ISBLANK(AD15),\"\",IF(COUNT(AD15:AM15)<>10,NA(),CN15*ASTM(AD15,3)))","v":{"$error":"#N/A"}},{"$error":"#N/A"},{"$f":"IF(ISBLANK(AD15),\"\",IF(COUNT(AD15:AM15)<>10,NA(),ASTM(mdiuf(CP15)-mdiuf(CP14),3)))","v":{"$error":"#N/A"}},{"$f":"IF(ISBLANK(AD15),\"\",IF(COUNT(AD15:AM15)<>10,NA(),IF(ASTM(AI15,0)=0,0,CQ15*ASTM(AI15,0)/(CN15))))","v":{"$error":"#N/A"}},{"$error":"#N/A"},{"$f":"IF(ISBLANK(AD15),\"\",IF(COUNT(AD15:AM15)<>10,NA(),ASTM(highwayfufalt(CP15)-highwayfufalt(CP14),3)))","v":{"$error":"#N/A"}},{"$error":"#N/A"},{"$f":"IF(ISBLANK(AD15),\"\",IF(COUNT(AD15:AM15)<>10,NA(),IF(ASTM(AI15,0)=0,0,CT15*ASTM(AM15,0)/(CN15))))","v":{"$error":"#N/A"}}]
[null,null,"Composite CREE, with DF (g/mi)",{"$f":"IF(OR(AND(J13<>\"Additive\",J13<>\"Multiplicative\"),ISBLANK(J14)=TRUE),\"DF ERROR\",          ASTM(IF($N$7+$N$55+$N$103=0,SUM(IFERROR(AR12,0),IFERROR(AR60,0),IFERROR(AR108,0))/((AR12<>0)+(AR60<>0)+(AR108<>0)),($N$7*AR12+$N$55*AR60+$N$103*AR108)/($N$7+$N$55+$N$103)),1)          )","v":22},{"$f":"IF(OR(AND(J13<>\"Additive\",J13<>\"Multiplicative\"),ISBLANK(J15)=TRUE),\"DF ERROR\",          ASTM(IF($N$7+$N$55+$N$103=0,SUM(IFERROR(AS12,0),IFERROR(AS60,0),IFERROR(AS108,0))/((AS12<>0)+(AS60<>0)+(AS108<>0)),($N$7*AS12+$N$55*AS60+$N$103*AS108)/($N$7+$N$55+$N$103)),1)          )","v":86.5},{"$f":"IF(OR(N13=0,N14=0,O13=0,O14=0,SUM(AA11:AA45)=0,SUM(AM11:AM45)=0),\"ERROR\", IFERROR(ASTM(0.55*D16+0.45*E16,1),\"CREE ERROR\")  )","v":51},null,null,null,null,null,null,null,null,null,null,6,7.468,25.609000000000002,299.02,0,0,0,0,0,{"$f":"IF(ISBLANK(R16),\"\",IF(OR($J$6=\"HD 2b/3\",COUNT(R16:W16)<>6,$AA$47<>\"Yes\",$AA$49<>\"Yes\"),NA(),IF(ASTM(W16,0)=0,0,ASTM((51740000*$T$46*$T$47)/((($T$46*U16)+(0.429*V16)+(0.273*W16))*((0.6*$T$47*$T$48)+5471)),1))))","v":{"$error":"#N/A"}},{"$f":"IF(ISBLANK(R16),\"\",IF(OR(AND($J$6<>\"HD 2b/3\",COUNT(R16:W16)<>6),AND($J$6=\"HD 2b/3\",COUNT(R16)+COUNT(W16)<>2),$AA$47<>\"Yes\",$AA$49<>\"Yes\"),NA(),IF(ASTM(W16,0)=0,0,IF($J$6=\"HD 2b/3\",W16,ASTM((($T$46/0.273)*U16)+(1.571*V16)+W16,0)))))","v":0},null,6,10.255000000000001,33.872,297,0,0.1,160,55.6,160,{"$f":"IF(ISBLANK(AD16),\"\",IF(OR($J$6=\"HD 2b/3\",COUNT(AD16:AI16)<>6,$AM$47<>\"Yes\",$AM$49<>\"Yes\"),NA(),IF(ASTM(AI16,0)=0,0,ASTM((51740000*$AF$46*$AF$47)/((($AF$46*AG16)+(0.429*AH16)+(0.273*AI16))*((0.6*$AF$47*$AF$48)+5471)),1))))","v":{"$error":"#N/A"}},{"$f":"IF(ISBLANK(AD16),\"\",IF(OR(AND($J$6<>\"HD 2b/3\",COUNT(AD16:AI16)<>6),AND($J$6=\"HD 2b/3\",COUNT(AD16)+COUNT(AI16)<>2),$AM$47<>\"Yes\",$AM$49<>\"Yes\"),NA(),IF(ASTM(AI16,0)=0,0,IF($J$6=\"HD 2b/3\",AI16,ASTM((($AF$46/0.273)*AG16)+(1.571*AH16)+AI16,0)))))","v":160},null,null,null,"CD All-Electric Range, adjusted (mi) [0]",null,null,{"$f":"IF($J$6=\"HD 2b/3\",NA(),IFERROR(ASTM(0.55*AY9+0.45*AZ9,0),0))","v":{"$error":"#N/A"}},null,null,"NEW","CD utilitized total fuel consumption rate (43/57 FUF, Rcdc), adjusted (gal-equiv/mile) [6]",{"$f":"IF($J$6=\"HD 2b/3\",NA(),ASTM( 1000000*SUMIF(BD11:BD45,\"<=\" & (AY34),BX11:BX45), 0) / 1000000)","v":{"$error":"#N/A"}},{"$f":"IF($J$6=\"HD 2b/3\",NA(),ASTM( 1000000*SUMIF(CA11:CA45,\"<=\" & (AZ34),CU11:CU45), 0) / 1000000)","v":{"$error":"#N/A"}},null,null,null,6,{"$f":"IF(ISBLANK(R16),\"\",IF(COUNT(R16:AA16)<>10,NA(),IF(ASTM(W16,0)=0,0,IFERROR(ASTM(R16,3)/ASTM(Z16,1),0))))","v":{"$error":"#N/A"}},{"$f":"IF(ISBLANK(R16),\"\",IF(COUNT(R16:AA16)<>10,NA(),IF(W16=0,0,ASTM(ASTM(W16,0)*ASTM(R16,3),0))))","v":{"$error":"#N/A"}},{"$f":"IF(ISBLANK(R16),\"\",IF(COUNT(R16:AA16)<>10,NA(),ASTM(S16,3)-ASTM(S15,3)))","v":{"$error":"#N/A"}},{"$f":"IF(ISBLANK(R16),\"\",IF(COUNT(R16:AA16)<>10,NA(),ASTM(BG16*ASTM(T16,2),1)))","v":{"$error":"#N/A"}},{"$f":"IF(ISBLANK(R16),\"\",IF(COUNT(R16:AA16)<>10,NA(),ASTM(ASTM($Y$46,4)*1000*(BH16/$AY$13),1)))","v":{"$error":"#N/A"}},44.7,{"$f":"IF(ISBLANK(R16),\"\",IF(COUNT(R16:AA16)<>10,NA(),BI16/(33705*ASTM(R16,3))))","v":{"$error":"#N/A"}},{"$error":"#N/A"},{"$f":"IF(ISBLANK(R16),\"\",IFERROR(ASTM(cityfuf(BJ16)-cityfuf(BJ15),3),\"\"))","v":5.7000000000000002E-2},{"$f":"IF(ISBLANK(R16),\"\",IF(OR(ISNUMBER(R16)=FALSE,ISNUMBER(AA16)=FALSE),NA(),IF(ASTM(W16,0)=0,0,BM16*ASTM(AA16,0))))","v":0},{"$error":"#N/A"},{"$f":"IF(ISBLANK(R16),\"\",IF(COUNT(R16:AA16)<>10,NA(),BL16*ASTM(R16,3)))","v":{"$error":"#N/A"}},{"$error":"#N/A"},{"$f":"IF(ISBLANK(R16),\"\",IF(COUNT(R16:AA16)<>10,NA(),BQ16*ASTM(R16,3)))","v":{"$error":"#N/A"}},{"$error":"#N/A"},{"$f":"IF(ISBLANK(R16),\"\",IF(COUNT(R16:AA16)<>10,NA(),ASTM(mdiuf(BS16),3)-ASTM(mdiuf(BS15),3)))","v":{"$error":"#N/A"}},{"$f":"IF(ISBLANK(R16),\"\",IF(COUNT(R16:AA16)<>10,NA(),IF(ASTM(W16,0)=0,0,BT16*ASTM(W16,0)/(BQ16))))","v":{"$error":"#N/A"}},{"$error":"#N/A"},{"$f":"IF(ISBLANK(R16),\"\",IF(COUNT(R16:AA16)<>10,NA(),ASTM(cityfufalt(BS16)-cityfufalt(BS15),3)))","v":{"$error":"#N/A"}},{"$error":"#N/A"},{"$f":"IF(ISBLANK(R16),\"\",IF(COUNT(R16:AA16)<>10,NA(),IF(ASTM(W16,0)=0,0,BW16*ASTM(AA16,0)/(BQ16))))","v":{"$error":"#N/A"}},null,6,{"$f":"IF(ISBLANK(AD16),\"\",IF(COUNT(AD16:AM16)<>10,NA(),IF(ASTM(AI16,0)=0,0,ASTM(AD16,3)/ASTM(AL16,1))))","v":{"$error":"#N/A"}},{"$f":"IF(ISBLANK(AD16),\"\",IF(COUNT(AD16:AM16)<>10,NA(),IF(ASTM(AI16,0)=0,0,ASTM(ASTM(AI16,0)*ASTM(AD16,3),0))))","v":{"$error":"#N/A"}},{"$f":"IF(ISBLANK(AD16),\"\",IF(COUNT(AD16:AM16)<>10,NA(),ASTM(AE16,3)-ASTM(AE15,3)))","v":{"$error":"#N/A"}},{"$f":"IF(ISBLANK(AD16),\"\",IF(COUNT(AD16:AM16)<>10,NA(),ASTM(CD16*ASTM(AF16,2),1)))","v":{"$error":"#N/A"}},{"$f":"IF(ISBLANK(AD16),\"\",IF(COUNT(AD16:AM16)<>10,NA(),ASTM(ASTM($AK$46,4)*1000*(CE16/$AZ$13),1)))","v":{"$error":"#N/A"}},61.800000000000004,{"$f":"IF(ISBLANK(AD16),\"\",IF(COUNT(AD16:AM16)<>10,NA(),CF16/(33705*ASTM(AD16,3))))","v":{"$error":"#N/A"}},{"$error":"#N/A"},{"$f":"IF(ISBLANK(AD16),\"\",ASTM(highwayfuf(CG16)-highwayfuf(CG15),3))","v":6.7000000000000004E-2},{"$f":"IF(ISBLANK(AD16),\"\",IF(OR(ISNUMBER(AD16)=FALSE,ISNUMBER(AM16)=FALSE),NA(),IF(ASTM(AI16,0)=0,0,CJ16*ASTM(AM16,0))))","v":10.72},{"$error":"#N/A"},{"$f":"IF(ISBLANK(AD16),\"\",IF(COUNT(AD16:AM16)<>10,NA(),CI16*ASTM(AD16,3)))","v":{"$error":"#N/A"}},{"$error":"#N/A"},{"$f":"IF(ISBLANK(AD16),\"\",IF(COUNT(AD16:AM16)<>10,NA(),CN16*ASTM(AD16,3)))","v":{"$error":"#N/A"}},{"$error":"#N/A"},{"$f":"IF(ISBLANK(AD16),\"\",IF(COUNT(AD16:AM16)<>10,NA(),ASTM(mdiuf(CP16)-mdiuf(CP15),3)))","v":{"$error":"#N/A"}},{"$f":"IF(ISBLANK(AD16),\"\",IF(COUNT(AD16:AM16)<>10,NA(),IF(ASTM(AI16,0)=0,0,CQ16*ASTM(AI16,0)/(CN16))))","v":{"$error":"#N/A"}},{"$error":"#N/A"},{"$f":"IF(ISBLANK(AD16),\"\",IF(COUNT(AD16:AM16)<>10,NA(),ASTM(highwayfufalt(CP16)-highwayfufalt(CP15),3)))","v":{"$error":"#N/A"}},{"$error":"#N/A"},{"$f":"IF(ISBLANK(AD16),\"\",IF(COUNT(AD16:AM16)<>10,NA(),IF(ASTM(AI16,0)=0,0,CT16*ASTM(AM16,0)/(CN16))))","v":{"$error":"#N/A"}}]
[null,null,"Label Values (5-Cycle Adjusted)",null,null,null,null,null,null,null,null,null,"ENTER CHARGE-DEPLETING AND CHARGE-SUSTAINING TEST NUMBERS HERE",null,null,null,7,7.4740000000000002,29.946000000000002,297.33999999999997,0,0,0,0,0,{"$f":"IF(ISBLANK(R17),\"\",IF(OR($J$6=\"HD 2b/3\",COUNT(R17:W17)<>6,$AA$47<>\"Yes\",$AA$49<>\"Yes\"),NA(),IF(ASTM(W17,0)=0,0,ASTM((51740000*$T$46*$T$47)/((($T$46*U17)+(0.429*V17)+(0.273*W17))*((0.6*$T$47*$T$48)+5471)),1))))","v":{"$error":"#N/A"}},{"$f":"IF(ISBLANK(R17),\"\",IF(OR(AND($J$6<>\"HD 2b/3\",COUNT(R17:W17)<>6),AND($J$6=\"HD 2b/3\",COUNT(R17)+COUNT(W17)<>2),$AA$47<>\"Yes\",$AA$49<>\"Yes\"),NA(),IF(ASTM(W17,0)=0,0,IF($J$6=\"HD 2b/3\",W17,ASTM((($T$46/0.273)*U17)+(1.571*V17)+W17,0)))))","v":0},null,7,null,null,null,null,null,null,null,null,{"$f":"IF(ISBLANK(AD17),\"\",IF(OR($J$6=\"HD 2b/3\",COUNT(AD17:AI17)<>6,$AM$47<>\"Yes\",$AM$49<>\"Yes\"),NA(),IF(ASTM(AI17,0)=0,0,ASTM((51740000*$AF$46*$AF$47)/((($AF$46*AG17)+(0.429*AH17)+(0.273*AI17))*((0.6*$AF$47*$AF$48)+5471)),1))))","v":""},{"$f":"IF(ISBLANK(AD17),\"\",IF(OR(AND($J$6<>\"HD 2b/3\",COUNT(AD17:AI17)<>6),AND($J$6=\"HD 2b/3\",COUNT(AD17)+COUNT(AI17)<>2),$AM$47<>\"Yes\",$AM$49<>\"Yes\"),NA(),IF(ASTM(AI17,0)=0,0,IF($J$6=\"HD 2b/3\",AI17,ASTM((($AF$46/0.273)*AG17)+(1.571*AH17)+AI17,0)))))","v":""},null,null,null,"Total Driving Range (Miles) [0]",null,null,{"$f":"IF($J$6=\"HD 2b/3\",NA(),IFERROR(ASTM(IFERROR((_xlfn.SINGLE(ASTM(0.55*AY38+0.45*AZ38,0))+AT15),0) / 10,0) *10,0))","v":{"$error":"#N/A"}},null,null,"NEW","CD utilitized total fuel consumption rate (MDIUF, Rcdc), adjusted (gal-equiv/mile) [6]",{"$f":"IF($J$6=\"HD 2b/3\",NA(),ASTM(SUMIF(BD11:BD45,\"<=\" & (AY34),BV11:BV45)*1000000,0) / 1000000)","v":{"$error":"#N/A"}},{"$f":"IF($J$6=\"HD 2b/3\",NA(),ASTM(SUMIF(CA11:CA45,\"<=\" & (AZ34),CS11:CS45)*1000000,0) / 1000000)","v":{"$error":"#N/A"}},null,null,null,7,{"$f":"IF(ISBLANK(R17),\"\",IF(COUNT(R17:AA17)<>10,NA(),IF(ASTM(W17,0)=0,0,IFERROR(ASTM(R17,3)/ASTM(Z17,1),0))))","v":{"$error":"#N/A"}},{"$f":"IF(ISBLANK(R17),\"\",IF(COUNT(R17:AA17)<>10,NA(),IF(W17=0,0,ASTM(ASTM(W17,0)*ASTM(R17,3),0))))","v":{"$error":"#N/A"}},{"$f":"IF(ISBLANK(R17),\"\",IF(COUNT(R17:AA17)<>10,NA(),ASTM(S17,3)-ASTM(S16,3)))","v":{"$error":"#N/A"}},{"$f":"IF(ISBLANK(R17),\"\",IF(COUNT(R17:AA17)<>10,NA(),ASTM(BG17*ASTM(T17,2),1)))","v":{"$error":"#N/A"}},{"$f":"IF(ISBLANK(R17),\"\",IF(COUNT(R17:AA17)<>10,NA(),ASTM(ASTM($Y$46,4)*1000*(BH17/$AY$13),1)))","v":{"$error":"#N/A"}},52.15,{"$f":"IF(ISBLANK(R17),\"\",IF(COUNT(R17:AA17)<>10,NA(),BI17/(33705*ASTM(R17,3))))","v":{"$error":"#N/A"}},{"$error":"#N/A"},{"$f":"IF(ISBLANK(R17),\"\",IFERROR(ASTM(cityfuf(BJ17)-cityfuf(BJ16),3),\"\"))","v":4.2999999999999997E-2},{"$f":"IF(ISBLANK(R17),\"\",IF(OR(ISNUMBER(R17)=FALSE,ISNUMBER(AA17)=FALSE),NA(),IF(ASTM(W17,0)=0,0,BM17*ASTM(AA17,0))))","v":0},{"$error":"#N/A"},{"$f":"IF(ISBLANK(R17),\"\",IF(COUNT(R17:AA17)<>10,NA(),BL17*ASTM(R17,3)))","v":{"$error":"#N/A"}},{"$error":"#N/A"},{"$f":"IF(ISBLANK(R17),\"\",IF(COUNT(R17:AA17)<>10,NA(),BQ17*ASTM(R17,3)))","v":{"$error":"#N/A"}},{"$error":"#N/A"},{"$f":"IF(ISBLANK(R17),\"\",IF(COUNT(R17:AA17)<>10,NA(),ASTM(mdiuf(BS17),3)-ASTM(mdiuf(BS16),3)))","v":{"$error":"#N/A"}},{"$f":"IF(ISBLANK(R17),\"\",IF(COUNT(R17:AA17)<>10,NA(),IF(ASTM(W17,0)=0,0,BT17*ASTM(W17,0)/(BQ17))))","v":{"$error":"#N/A"}},{"$error":"#N/A"},{"$f":"IF(ISBLANK(R17),\"\",IF(COUNT(R17:AA17)<>10,NA(),ASTM(cityfufalt(BS17)-cityfufalt(BS16),3)))","v":{"$error":"#N/A"}},{"$error":"#N/A"},{"$f":"IF(ISBLANK(R17),\"\",IF(COUNT(R17:AA17)<>10,NA(),IF(ASTM(W17,0)=0,0,BW17*ASTM(AA17,0)/(BQ17))))","v":{"$error":"#N/A"}},null,7,{"$f":"IF(ISBLANK(AD17),\"\",IF(COUNT(AD17:AM17)<>10,NA(),IF(ASTM(AI17,0)=0,0,ASTM(AD17,3)/ASTM(AL17,1))))","v":""},{"$f":"IF(ISBLANK(AD17),\"\",IF(COUNT(AD17:AM17)<>10,NA(),IF(ASTM(AI17,0)=0,0,ASTM(ASTM(AI17,0)*ASTM(AD17,3),0))))","v":""},{"$f":"IF(ISBLANK(AD17),\"\",IF(COUNT(AD17:AM17)<>10,NA(),ASTM(AE17,3)-ASTM(AE16,3)))","v":""},{"$f":"IF(ISBLANK(AD17),\"\",IF(COUNT(AD17:AM17)<>10,NA(),ASTM(CD17*ASTM(AF17,2),1)))","v":""},{"$f":"IF(ISBLANK(AD17),\"\",IF(COUNT(AD17:AM17)<>10,NA(),ASTM(ASTM($AK$46,4)*1000*(CE17/$AZ$13),1)))","v":""},"",{"$f":"IF(ISBLANK(AD17),\"\",IF(COUNT(AD17:AM17)<>10,NA(),CF17/(33705*ASTM(AD17,3))))","v":""},"",{"$f":"IF(ISBLANK(AD17),\"\",ASTM(highwayfuf(CG17)-highwayfuf(CG16),3))","v":""},{"$f":"IF(ISBLANK(AD17),\"\",IF(OR(ISNUMBER(AD17)=FALSE,ISNUMBER(AM17)=FALSE),NA(),IF(ASTM(AI17,0)=0,0,CJ17*ASTM(AM17,0))))","v":""},"",{"$f":"IF(ISBLANK(AD17),\"\",IF(COUNT(AD17:AM17)<>10,NA(),CI17*ASTM(AD17,3)))","v":""},"",{"$f":"IF(ISBLANK(AD17),\"\",IF(COUNT(AD17:AM17)<>10,NA(),CN17*ASTM(AD17,3)))","v":""},"",{"$f":"IF(ISBLANK(AD17),\"\",IF(COUNT(AD17:AM17)<>10,NA(),ASTM(mdiuf(CP17)-mdiuf(CP16),3)))","v":""},{"$f":"IF(ISBLANK(AD17),\"\",IF(COUNT(AD17:AM17)<>10,NA(),IF(ASTM(AI17,0)=0,0,CQ17*ASTM(AI17,0)/(CN17))))","v":""},"",{"$f":"IF(ISBLANK(AD17),\"\",IF(COUNT(AD17:AM17)<>10,NA(),ASTM(highwayfufalt(CP17)-highwayfufalt(CP16),3)))","v":""},"",{"$f":"IF(ISBLANK(AD17),\"\",IF(COUNT(AD17:AM17)<>10,NA(),IF(ASTM(AI17,0)=0,0,CT17*ASTM(AM17,0)/(CN17))))","v":""}]
[null,null,"Charge-Depleting","City","Highway","Combined",null,null,null,null,null,null,null,"CD_UDDS","CD_Hwy",null,8,7.4729999999999999,33.6,295.68,1.7999999999999999E-2,0.12,31,281.10000000000002,32,{"$f":"IF(ISBLANK(R18),\"\",IF(OR($J$6=\"HD 2b/3\",COUNT(R18:W18)<>6,$AA$47<>\"Yes\",$AA$49<>\"Yes\"),NA(),IF(ASTM(W18,0)=0,0,ASTM((51740000*$T$46*$T$47)/((($T$46*U18)+(0.429*V18)+(0.273*W18))*((0.6*$T$47*$T$48)+5471)),1))))","v":{"$error":"#N/A"}},{"$f":"IF(ISBLANK(R18),\"\",IF(OR(AND($J$6<>\"HD 2b/3\",COUNT(R18:W18)<>6),AND($J$6=\"HD 2b/3\",COUNT(R18)+COUNT(W18)<>2),$AA$47<>\"Yes\",$AA$49<>\"Yes\"),NA(),IF(ASTM(W18,0)=0,0,IF($J$6=\"HD 2b/3\",W18,ASTM((($T$46/0.273)*U18)+(1.571*V18)+W18,0)))))","v":31},null,8,null,null,null,null,null,null,null,null,{"$f":"IF(ISBLANK(AD18),\"\",IF(OR($J$6=\"HD 2b/3\",COUNT(AD18:AI18)<>6,$AM$47<>\"Yes\",$AM$49<>\"Yes\"),NA(),IF(ASTM(AI18,0)=0,0,ASTM((51740000*$AF$46*$AF$47)/((($AF$46*AG18)+(0.429*AH18)+(0.273*AI18))*((0.6*$AF$47*$AF$48)+5471)),1))))","v":""},{"$f":"IF(ISBLANK(AD18),\"\",IF(OR(AND($J$6<>\"HD 2b/3\",COUNT(AD18:AI18)<>6),AND($J$6=\"HD 2b/3\",COUNT(AD18)+COUNT(AI18)<>2),$AM$47<>\"Yes\",$AM$49<>\"Yes\"),NA(),IF(ASTM(AI18,0)=0,0,IF($J$6=\"HD 2b/3\",AI18,ASTM((($AF$46/0.273)*AG18)+(1.571*AH18)+AI18,0)))))","v":""},null,null,null,"CD Fuel Economy (MPGe) [0]",null,null,{"$f":"IF($J$6=\"HD 2b/3\",NA(),IFERROR(ASTM(1/(0.55/AY19+0.45/AZ19),0),0))","v":{"$error":"#N/A"}},null,null,null,"CD gasoline consumption (Rcda), unadjusted (gal) [1]",{"$f":"IF($J$6=\"HD 2b/3\",NA(),IFERROR(SUMIF(BD11:BD45,\"<=\" & AY34-1,BE11:BE45)+AY33*SUMIF(BD11:BD45,\"=\" & AY34-1,BE11:BE45),0))","v":{"$error":"#N/A"}},{"$f":"IF($J$6=\"HD 2b/3\",NA(),IFERROR(SUMIF(CA11:CA45,\"<=\" & AZ34-1,CB11:CB45)+AZ33*SUMIF(CA11:CA45,\"=\" & AZ34-1,CB11:CB45),0))","v":{"$error":"#N/A"}},null,null,null,8,{"$f":"IF(ISBLANK(R18),\"\",IF(COUNT(R18:AA18)<>10,NA(),IF(ASTM(W18,0)=0,0,IFERROR(ASTM(R18,3)/ASTM(Z18,1),0))))","v":{"$error":"#N/A"}},{"$f":"IF(ISBLANK(R18),\"\",IF(COUNT(R18:AA18)<>10,NA(),IF(W18=0,0,ASTM(ASTM(W18,0)*ASTM(R18,3),0))))","v":{"$error":"#N/A"}},{"$f":"IF(ISBLANK(R18),\"\",IF(COUNT(R18:AA18)<>10,NA(),ASTM(S18,3)-ASTM(S17,3)))","v":{"$error":"#N/A"}},{"$f":"IF(ISBLANK(R18),\"\",IF(COUNT(R18:AA18)<>10,NA(),ASTM(BG18*ASTM(T18,2),1)))","v":{"$error":"#N/A"}},{"$f":"IF(ISBLANK(R18),\"\",IF(COUNT(R18:AA18)<>10,NA(),ASTM(ASTM($Y$46,4)*1000*(BH18/$AY$13),1)))","v":{"$error":"#N/A"}},59.6,{"$f":"IF(ISBLANK(R18),\"\",IF(COUNT(R18:AA18)<>10,NA(),BI18/(33705*ASTM(R18,3))))","v":{"$error":"#N/A"}},{"$error":"#N/A"},{"$f":"IF(ISBLANK(R18),\"\",IFERROR(ASTM(cityfuf(BJ18)-cityfuf(BJ17),3),\"\"))","v":3.2000000000000001E-2},{"$f":"IF(ISBLANK(R18),\"\",IF(OR(ISNUMBER(R18)=FALSE,ISNUMBER(AA18)=FALSE),NA(),IF(ASTM(W18,0)=0,0,BM18*ASTM(AA18,0))))","v":0.99199999999999999},{"$error":"#N/A"},{"$f":"IF(ISBLANK(R18),\"\",IF(COUNT(R18:AA18)<>10,NA(),BL18*ASTM(R18,3)))","v":{"$error":"#N/A"}},{"$error":"#N/A"},{"$f":"IF(ISBLANK(R18),\"\",IF(COUNT(R18:AA18)<>10,NA(),BQ18*ASTM(R18,3)))","v":{"$error":"#N/A"}},{"$error":"#N/A"},{"$f":"IF(ISBLANK(R18),\"\",IF(COUNT(R18:AA18)<>10,NA(),ASTM(mdiuf(BS18),3)-ASTM(mdiuf(BS17),3)))","v":{"$error":"#N/A"}},{"$f":"IF(ISBLANK(R18),\"\",IF(COUNT(R18:AA18)<>10,NA(),IF(ASTM(W18,0)=0,0,BT18*ASTM(W18,0)/(BQ18))))","v":{"$error":"#N/A"}},{"$error":"#N/A"},{"$f":"IF(ISBLANK(R18),\"\",IF(COUNT(R18:AA18)<>10,NA(),ASTM(cityfufalt(BS18)-cityfufalt(BS17),3)))","v":{"$error":"#N/A"}},{"$error":"#N/A"},{"$f":"IF(ISBLANK(R18),\"\",IF(COUNT(R18:AA18)<>10,NA(),IF(ASTM(W18,0)=0,0,BW18*ASTM(AA18,0)/(BQ18))))","v":{"$error":"#N/A"}},null,8,{"$f":"IF(ISBLANK(AD18),\"\",IF(COUNT(AD18:AM18)<>10,NA(),IF(ASTM(AI18,0)=0,0,ASTM(AD18,3)/ASTM(AL18,1))))","v":""},{"$f":"IF(ISBLANK(AD18),\"\",IF(COUNT(AD18:AM18)<>10,NA(),IF(ASTM(AI18,0)=0,0,ASTM(ASTM(AI18,0)*ASTM(AD18,3),0))))","v":""},{"$f":"IF(ISBLANK(AD18),\"\",IF(COUNT(AD18:AM18)<>10,NA(),ASTM(AE18,3)-ASTM(AE17,3)))","v":""},{"$f":"IF(ISBLANK(AD18),\"\",IF(COUNT(AD18:AM18)<>10,NA(),ASTM(CD18*ASTM(AF18,2),1)))","v":""},{"$f":"IF(ISBLANK(AD18),\"\",IF(COUNT(AD18:AM18)<>10,NA(),ASTM(ASTM($AK$46,4)*1000*(CE18/$AZ$13),1)))","v":""},"",{"$f":"IF(ISBLANK(AD18),\"\",IF(COUNT(AD18:AM18)<>10,NA(),CF18/(33705*ASTM(AD18,3))))","v":""},"",{"$f":"IF(ISBLANK(AD18),\"\",ASTM(highwayfuf(CG18)-highwayfuf(CG17),3))","v":""},{"$f":"IF(ISBLANK(AD18),\"\",IF(OR(ISNUMBER(AD18)=FALSE,ISNUMBER(AM18)=FALSE),NA(),IF(ASTM(AI18,0)=0,0,CJ18*ASTM(AM18,0))))","v":""},"",{"$f":"IF(ISBLANK(AD18),\"\",IF(COUNT(AD18:AM18)<>10,NA(),CI18*ASTM(AD18,3)))","v":""},"",{"$f":"IF(ISBLANK(AD18),\"\",IF(COUNT(AD18:AM18)<>10,NA(),CN18*ASTM(AD18,3)))","v":""},"",{"$f":"IF(ISBLANK(AD18),\"\",IF(COUNT(AD18:AM18)<>10,NA(),ASTM(mdiuf(CP18)-mdiuf(CP17),3)))","v":""},{"$f":"IF(ISBLANK(AD18),\"\",IF(COUNT(AD18:AM18)<>10,NA(),IF(ASTM(AI18,0)=0,0,CQ18*ASTM(AI18,0)/(CN18))))","v":""},"",{"$f":"IF(ISBLANK(AD18),\"\",IF(COUNT(AD18:AM18)<>10,NA(),ASTM(highwayfufalt(CP18)-highwayfufalt(CP17),3)))","v":""},"",{"$f":"IF(ISBLANK(AD18),\"\",IF(COUNT(AD18:AM18)<>10,NA(),IF(ASTM(AI18,0)=0,0,CT18*ASTM(AM18,0)/(CN18))))","v":""}]
[null,null,"Charge-depleting Range (Miles)",{"$f":"IF($J$6=\"HD 2b/3\",NA(),IF($N$7+$N$55+$N$103=0,SUM(IFERROR(AY7,0),IFERROR(AY55,0),IFERROR(AY103,0)) / ((AY7<>0)+(AY55<>0)+(AY103<>0)),($N$7*AY7+$N$55*AY55+$N$103*AY103)/($N$7+$N$55+$N$103)))","v":{"$error":"#N/A"}},{"$f":"IF($J$6=\"HD 2b/3\",NA(),IF($N$7+$N$55+$N$103=0,SUM(IFERROR(AZ7,0),IFERROR(AZ55,0),IFERROR(AZ103,0)) / ((AZ7<>0)+(AZ55<>0)+(AZ103<>0)),($N$7*AZ7+$N$55*AZ55+$N$103*AZ103)/($N$7+$N$55+$N$103)))","v":{"$error":"#N/A"}},{"$f":"IF(OR(ISNUMBER(D19)=FALSE,ISNUMBER(E19)=FALSE),NA(),ASTM(0.55*D19+0.45*E19,0))","v":{"$error":"#N/A"}},null,null,null,null,null,null,"Charge-Depleting Test Number:","LEPA10069450","LEPA10069453",null,9,7.4660000000000002,34.140999999999998,295.47000000000003,7.0000000000000001E-3,0.2,125,71.400000000000006,125,{"$f":"IF(ISBLANK(R19),\"\",IF(OR($J$6=\"HD 2b/3\",COUNT(R19:W19)<>6,$AA$47<>\"Yes\",$AA$49<>\"Yes\"),NA(),IF(ASTM(W19,0)=0,0,ASTM((51740000*$T$46*$T$47)/((($T$46*U19)+(0.429*V19)+(0.273*W19))*((0.6*$T$47*$T$48)+5471)),1))))","v":{"$error":"#N/A"}},{"$f":"IF(ISBLANK(R19),\"\",IF(OR(AND($J$6<>\"HD 2b/3\",COUNT(R19:W19)<>6),AND($J$6=\"HD 2b/3\",COUNT(R19)+COUNT(W19)<>2),$AA$47<>\"Yes\",$AA$49<>\"Yes\"),NA(),IF(ASTM(W19,0)=0,0,IF($J$6=\"HD 2b/3\",W19,ASTM((($T$46/0.273)*U19)+(1.571*V19)+W19,0)))))","v":125},null,9,null,null,null,null,null,null,null,null,{"$f":"IF(ISBLANK(AD19),\"\",IF(OR($J$6=\"HD 2b/3\",COUNT(AD19:AI19)<>6,$AM$47<>\"Yes\",$AM$49<>\"Yes\"),NA(),IF(ASTM(AI19,0)=0,0,ASTM((51740000*$AF$46*$AF$47)/((($AF$46*AG19)+(0.429*AH19)+(0.273*AI19))*((0.6*$AF$47*$AF$48)+5471)),1))))","v":""},{"$f":"IF(ISBLANK(AD19),\"\",IF(OR(AND($J$6<>\"HD 2b/3\",COUNT(AD19:AI19)<>6),AND($J$6=\"HD 2b/3\",COUNT(AD19)+COUNT(AI19)<>2),$AM$47<>\"Yes\",$AM$49<>\"Yes\"),NA(),IF(ASTM(AI19,0)=0,0,IF($J$6=\"HD 2b/3\",AI19,ASTM((($AF$46/0.273)*AG19)+(1.571*AH19)+AI19,0)))))","v":""},null,null,null,"CD Electricity Consumption  (kW-hr/100mi) [0]",null,null,{"$f":"IF($J$6=\"HD 2b/3\",NA(),IFERROR(ASTM(0.55*AY12+0.45*AZ12,0),0))","v":{"$error":"#N/A"}},null,null,null,"CD fuel economy (Rcda), adjusted (MPGe) [4]",{"$f":"IF($J$6=\"HD 2b/3\",NA(),IFERROR(ASTM( AY7/ ( SUMIF(BD11:BD45,\"<=\" & (AY34-1),BP11:BP45) + AY33*SUMIF(BD11:BD45,\"=\" & (AY34-1),BP11:BP45) ),4),0))","v":{"$error":"#N/A"}},{"$f":"IF($J$6=\"HD 2b/3\",NA(),IFERROR(ASTM( AZ7/ ( SUMIF(CA11:CA45,\"<=\" & (AZ34-1),CM11:CM45) + AZ33*SUMIF(CA11:CA45,\"=\" & (AZ34-1),CM11:CM45) ),4),0))","v":{"$error":"#N/A"}},null,null,null,9,{"$f":"IF(ISBLANK(R19),\"\",IF(COUNT(R19:AA19)<>10,NA(),IF(ASTM(W19,0)=0,0,IFERROR(ASTM(R19,3)/ASTM(Z19,1),0))))","v":{"$error":"#N/A"}},{"$f":"IF(ISBLANK(R19),\"\",IF(COUNT(R19:AA19)<>10,NA(),IF(W19=0,0,ASTM(ASTM(W19,0)*ASTM(R19,3),0))))","v":{"$error":"#N/A"}},{"$f":"IF(ISBLANK(R19),\"\",IF(COUNT(R19:AA19)<>10,NA(),ASTM(S19,3)-ASTM(S18,3)))","v":{"$error":"#N/A"}},{"$f":"IF(ISBLANK(R19),\"\",IF(COUNT(R19:AA19)<>10,NA(),ASTM(BG19*ASTM(T19,2),1)))","v":{"$error":"#N/A"}},{"$f":"IF(ISBLANK(R19),\"\",IF(COUNT(R19:AA19)<>10,NA(),ASTM(ASTM($Y$46,4)*1000*(BH19/$AY$13),1)))","v":{"$error":"#N/A"}},67.05,{"$f":"IF(ISBLANK(R19),\"\",IF(COUNT(R19:AA19)<>10,NA(),BI19/(33705*ASTM(R19,3))))","v":{"$error":"#N/A"}},{"$error":"#N/A"},{"$f":"IF(ISBLANK(R19),\"\",IFERROR(ASTM(cityfuf(BJ19)-cityfuf(BJ18),3),\"\"))","v":2.5000000000000001E-2},{"$f":"IF(ISBLANK(R19),\"\",IF(OR(ISNUMBER(R19)=FALSE,ISNUMBER(AA19)=FALSE),NA(),IF(ASTM(W19,0)=0,0,BM19*ASTM(AA19,0))))","v":3.125},{"$error":"#N/A"},{"$f":"IF(ISBLANK(R19),\"\",IF(COUNT(R19:AA19)<>10,NA(),BL19*ASTM(R19,3)))","v":{"$error":"#N/A"}},{"$error":"#N/A"},{"$f":"IF(ISBLANK(R19),\"\",IF(COUNT(R19:AA19)<>10,NA(),BQ19*ASTM(R19,3)))","v":{"$error":"#N/A"}},{"$error":"#N/A"},{"$f":"IF(ISBLANK(R19),\"\",IF(COUNT(R19:AA19)<>10,NA(),ASTM(mdiuf(BS19),3)-ASTM(mdiuf(BS18),3)))","v":{"$error":"#N/A"}},{"$f":"IF(ISBLANK(R19),\"\",IF(COUNT(R19:AA19)<>10,NA(),IF(ASTM(W19,0)=0,0,BT19*ASTM(W19,0)/(BQ19))))","v":{"$error":"#N/A"}},{"$error":"#N/A"},{"$f":"IF(ISBLANK(R19),\"\",IF(COUNT(R19:AA19)<>10,NA(),ASTM(cityfufalt(BS19)-cityfufalt(BS18),3)))","v":{"$error":"#N/A"}},{"$error":"#N/A"},{"$f":"IF(ISBLANK(R19),\"\",IF(COUNT(R19:AA19)<>10,NA(),IF(ASTM(W19,0)=0,0,BW19*ASTM(AA19,0)/(BQ19))))","v":{"$error":"#N/A"}},null,9,{"$f":"IF(ISBLANK(AD19),\"\",IF(COUNT(AD19:AM19)<>10,NA(),IF(ASTM(AI19,0)=0,0,ASTM(AD19,3)/ASTM(AL19,1))))","v":""},{"$f":"IF(ISBLANK(AD19),\"\",IF(COUNT(AD19:AM19)<>10,NA(),IF(ASTM(AI19,0)=0,0,ASTM(ASTM(AI19,0)*ASTM(AD19,3),0))))","v":""},{"$f":"IF(ISBLANK(AD19),\"\",IF(COUNT(AD19:AM19)<>10,NA(),ASTM(AE19,3)-ASTM(AE18,3)))","v":""},{"$f":"IF(ISBLANK(AD19),\"\",IF(COUNT(AD19:AM19)<>10,NA(),ASTM(CD19*ASTM(AF19,2),1)))","v":""},{"$f":"IF(ISBLANK(AD19),\"\",IF(COUNT(AD19:AM19)<>10,NA(),ASTM(ASTM($AK$46,4)*1000*(CE19/$AZ$13),1)))","v":""},"",{"$f":"IF(ISBLANK(AD19),\"\",IF(COUNT(AD19:AM19)<>10,NA(),CF19/(33705*ASTM(AD19,3))))","v":""},"",{"$f":"IF(ISBLANK(AD19),\"\",ASTM(highwayfuf(CG19)-highwayfuf(CG18),3))","v":""},{"$f":"IF(ISBLANK(AD19),\"\",IF(OR(ISNUMBER(AD19)=FALSE,ISNUMBER(AM19)=FALSE),NA(),IF(ASTM(AI19,0)=0,0,CJ19*ASTM(AM19,0))))","v":""},"",{"$f":"IF(ISBLANK(AD19),\"\",IF(COUNT(AD19:AM19)<>10,NA(),CI19*ASTM(AD19,3)))","v":""},"",{"$f":"IF(ISBLANK(AD19),\"\",IF(COUNT(AD19:AM19)<>10,NA(),CN19*ASTM(AD19,3)))","v":""},"",{"$f":"IF(ISBLANK(AD19),\"\",IF(COUNT(AD19:AM19)<>10,NA(),ASTM(mdiuf(CP19)-mdiuf(CP18),3)))","v":""},{"$f":"IF(ISBLANK(AD19),\"\",IF(COUNT(AD19:AM19)<>10,NA(),IF(ASTM(AI19,0)=0,0,CQ19*ASTM(AI19,0)/(CN19))))","v":""},"",{"$f":"IF(ISBLANK(AD19),\"\",IF(COUNT(AD19:AM19)<>10,NA(),ASTM(highwayfufalt(CP19)-highwayfufalt(CP18),3)))","v":""},"",{"$f":"IF(ISBLANK(AD19),\"\",IF(COUNT(AD19:AM19)<>10,NA(),IF(ASTM(AI19,0)=0,0,CT19*ASTM(AM19,0)/(CN19))))","v":""}]
[null,null," All-Electric Range (Miles)",{"$f":"IF($J$6=\"HD 2b/3\",NA(),IF($N$7+$N$55+$N$103=0,SUM(IFERROR(AY9,0),IFERROR(AY57,0),IFERROR(AY105,0)) / ((AY9<>0)+(AY57<>0)+(AY105<>0)),($N$7*AY9+$N$55*AY57+$N$103*AY105)/($N$7+$N$55+$N$103)))","v":{"$error":"#N/A"}},{"$f":"IF($J$6=\"HD 2b/3\",NA(),IF($N$7+$N$55+$N$103=0,SUM(IFERROR(AZ9,0),IFERROR(AZ57,0),IFERROR(AZ105,0)) / ((AZ9<>0)+(AZ57<>0)+(AZ105<>0)),($N$7*AZ9+$N$55*AZ57+$N$103*AZ105)/($N$7+$N$55+$N$103)))","v":{"$error":"#N/A"}},{"$f":"IF(OR(ISNUMBER(D20)=FALSE,ISNUMBER(E20)=FALSE),NA(),ASTM(0.55*D20+0.45*E20,0))","v":{"$error":"#N/A"}},null,null,null,null,null,null,null,"CS_FTP","CS_Hwy",null,10,null,null,null,null,null,null,null,null,{"$f":"IF(ISBLANK(R20),\"\",IF(OR($J$6=\"HD 2b/3\",COUNT(R20:W20)<>6,$AA$47<>\"Yes\",$AA$49<>\"Yes\"),NA(),IF(ASTM(W20,0)=0,0,ASTM((51740000*$T$46*$T$47)/((($T$46*U20)+(0.429*V20)+(0.273*W20))*((0.6*$T$47*$T$48)+5471)),1))))","v":""},{"$f":"IF(ISBLANK(R20),\"\",IF(OR(AND($J$6<>\"HD 2b/3\",COUNT(R20:W20)<>6),AND($J$6=\"HD 2b/3\",COUNT(R20)+COUNT(W20)<>2),$AA$47<>\"Yes\",$AA$49<>\"Yes\"),NA(),IF(ASTM(W20,0)=0,0,IF($J$6=\"HD 2b/3\",W20,ASTM((($T$46/0.273)*U20)+(1.571*V20)+W20,0)))))","v":""},null,10,null,null,null,null,null,null,null,null,{"$f":"IF(ISBLANK(AD20),\"\",IF(OR($J$6=\"HD 2b/3\",COUNT(AD20:AI20)<>6,$AM$47<>\"Yes\",$AM$49<>\"Yes\"),NA(),IF(ASTM(AI20,0)=0,0,ASTM((51740000*$AF$46*$AF$47)/((($AF$46*AG20)+(0.429*AH20)+(0.273*AI20))*((0.6*$AF$47*$AF$48)+5471)),1))))","v":""},{"$f":"IF(ISBLANK(AD20),\"\",IF(OR(AND($J$6<>\"HD 2b/3\",COUNT(AD20:AI20)<>6),AND($J$6=\"HD 2b/3\",COUNT(AD20)+COUNT(AI20)<>2),$AM$47<>\"Yes\",$AM$49<>\"Yes\"),NA(),IF(ASTM(AI20,0)=0,0,IF($J$6=\"HD 2b/3\",AI20,ASTM((($AF$46/0.273)*AG20)+(1.571*AH20)+AI20,0)))))","v":""},null,null,null,"CD Gasoline Consumption (gal/100mi) [0]",null,null,{"$f":"IF($J$6=\"HD 2b/3\",NA(),IFERROR(ASTM(0.55*AY20+0.45*AZ20,1),0))","v":{"$error":"#N/A"}},null,null,null,"CD gasoline consumption rate (Rcda), adjusted (gal/100mi) [4]",{"$f":"IF($J$6=\"HD 2b/3\",NA(),IFERROR(ASTM(100*(SUMIF(BD11:BD45,\"<=\" & AY34-1,BE11:BE45)+AY33*SUMIF(BD11:BD45,\"=\" & AY34-1,BE11:BE45))/AY7,4),0))","v":{"$error":"#N/A"}},{"$f":"IF($J$6=\"HD 2b/3\",NA(),IFERROR(ASTM(100*(SUMIF(CA11:CA45,\"<=\" & AZ34-1,CB11:CB45)+AZ33*SUMIF(CA11:CA45,\"=\" & AZ34-1,CB11:CB45))/AZ7,4),0))","v":{"$error":"#N/A"}},null,null,null,10,{"$f":"IF(ISBLANK(R20),\"\",IF(COUNT(R20:AA20)<>10,NA(),IF(ASTM(W20,0)=0,0,IFERROR(ASTM(R20,3)/ASTM(Z20,1),0))))","v":""},{"$f":"IF(ISBLANK(R20),\"\",IF(COUNT(R20:AA20)<>10,NA(),IF(W20=0,0,ASTM(ASTM(W20,0)*ASTM(R20,3),0))))","v":""},{"$f":"IF(ISBLANK(R20),\"\",IF(COUNT(R20:AA20)<>10,NA(),ASTM(S20,3)-ASTM(S19,3)))","v":""},{"$f":"IF(ISBLANK(R20),\"\",IF(COUNT(R20:AA20)<>10,NA(),ASTM(BG20*ASTM(T20,2),1)))","v":""},{"$f":"IF(ISBLANK(R20),\"\",IF(COUNT(R20:AA20)<>10,NA(),ASTM(ASTM($Y$46,4)*1000*(BH20/$AY$13),1)))","v":""},"",{"$f":"IF(ISBLANK(R20),\"\",IF(COUNT(R20:AA20)<>10,NA(),BI20/(33705*ASTM(R20,3))))","v":""},"",{"$f":"IF(ISBLANK(R20),\"\",IFERROR(ASTM(cityfuf(BJ20)-cityfuf(BJ19),3),\"\"))","v":""},{"$f":"IF(ISBLANK(R20),\"\",IF(OR(ISNUMBER(R20)=FALSE,ISNUMBER(AA20)=FALSE),NA(),IF(ASTM(W20,0)=0,0,BM20*ASTM(AA20,0))))","v":""},"",{"$f":"IF(ISBLANK(R20),\"\",IF(COUNT(R20:AA20)<>10,NA(),BL20*ASTM(R20,3)))","v":""},"",{"$f":"IF(ISBLANK(R20),\"\",IF(COUNT(R20:AA20)<>10,NA(),BQ20*ASTM(R20,3)))","v":""},"",{"$f":"IF(ISBLANK(R20),\"\",IF(COUNT(R20:AA20)<>10,NA(),ASTM(mdiuf(BS20),3)-ASTM(mdiuf(BS19),3)))","v":""},{"$f":"IF(ISBLANK(R20),\"\",IF(COUNT(R20:AA20)<>10,NA(),IF(ASTM(W20,0)=0,0,BT20*ASTM(W20,0)/(BQ20))))","v":""},"",{"$f":"IF(ISBLANK(R20),\"\",IF(COUNT(R20:AA20)<>10,NA(),ASTM(cityfufalt(BS20)-cityfufalt(BS19),3)))","v":""},"",{"$f":"IF(ISBLANK(R20),\"\",IF(COUNT(R20:AA20)<>10,NA(),IF(ASTM(W20,0)=0,0,BW20*ASTM(AA20,0)/(BQ20))))","v":""},null,10,{"$f":"IF(ISBLANK(AD20),\"\",IF(COUNT(AD20:AM20)<>10,NA(),IF(ASTM(AI20,0)=0,0,ASTM(AD20,3)/ASTM(AL20,1))))","v":""},{"$f":"IF(ISBLANK(AD20),\"\",IF(COUNT(AD20:AM20)<>10,NA(),IF(ASTM(AI20,0)=0,0,ASTM(ASTM(AI20,0)*ASTM(AD20,3),0))))","v":""},{"$f":"IF(ISBLANK(AD20),\"\",IF(COUNT(AD20:AM20)<>10,NA(),ASTM(AE20,3)-ASTM(AE19,3)))","v":""},{"$f":"IF(ISBLANK(AD20),\"\",IF(COUNT(AD20:AM20)<>10,NA(),ASTM(CD20*ASTM(AF20,2),1)))","v":""},{"$f":"IF(ISBLANK(AD20),\"\",IF(COUNT(AD20:AM20)<>10,NA(),ASTM(ASTM($AK$46,4)*1000*(CE20/$AZ$13),1)))","v":""},"",{"$f":"IF(ISBLANK(AD20),\"\",IF(COUNT(AD20:AM20)<>10,NA(),CF20/(33705*ASTM(AD20,3))))","v":""},"",{"$f":"IF(ISBLANK(AD20),\"\",ASTM(highwayfuf(CG20)-highwayfuf(CG19),3))","v":""},{"$f":"IF(ISBLANK(AD20),\"\",IF(OR(ISNUMBER(AD20)=FALSE,ISNUMBER(AM20)=FALSE),NA(),IF(ASTM(AI20,0)=0,0,CJ20*ASTM(AM20,0))))","v":""},"",{"$f":"IF(ISBLANK(AD20),\"\",IF(COUNT(AD20:AM20)<>10,NA(),CI20*ASTM(AD20,3)))","v":""},"",{"$f":"IF(ISBLANK(AD20),\"\",IF(COUNT(AD20:AM20)<>10,NA(),CN20*ASTM(AD20,3)))","v":""},"",{"$f":"IF(ISBLANK(AD20),\"\",IF(COUNT(AD20:AM20)<>10,NA(),ASTM(mdiuf(CP20)-mdiuf(CP19),3)))","v":""},{"$f":"IF(ISBLANK(AD20),\"\",IF(COUNT(AD20:AM20)<>10,NA(),IF(ASTM(AI20,0)=0,0,CQ20*ASTM(AI20,0)/(CN20))))","v":""},"",{"$f":"IF(ISBLANK(AD20),\"\",IF(COUNT(AD20:AM20)<>10,NA(),ASTM(highwayfufalt(CP20)-highwayfufalt(CP19),3)))","v":""},"",{"$f":"IF(ISBLANK(AD20),\"\",IF(COUNT(AD20:AM20)<>10,NA(),IF(ASTM(AI20,0)=0,0,CT20*ASTM(AM20,0)/(CN20))))","v":""}]
[null,null,"Total Driving Range (Miles)",null,null,{"$f":"IF($J$6=\"HD 2b/3\",NA(),ASTM(   ( IF($N$7+$N$55+$N$103=0,SUM(IFERROR(( IFERROR((ASTM(0.55*AY38+0.45*AZ38,0)+AT15),0)),0),IFERROR((IFERROR((ASTM(0.55*AY86+0.45*AZ86,0)+AT63),0)),0),IFERROR(( IFERROR((ASTM(0.55*AY134+0.45*AZ134,0)+AT111),0)),0)) / ((( IFERROR((ASTM(0.55*AY38+0.45*AZ38,0)+AT15),0))<>0)+((IFERROR((ASTM(0.55*AY86+0.45*AZ86,0)+AT63),0))<>0)+(( IFERROR((ASTM(0.55*AY134+0.45*AZ134,0)+AT111),0))<>0)),($N$7*( IFERROR((ASTM(0.55*AY38+0.45*AZ38,0)+AT15),0))+$N$55*(IFERROR((ASTM(0.55*AY86+0.45*AZ86,0)+AT63),0))+$N$103*( IFERROR((ASTM(0.55*AY134+0.45*AZ134,0)+AT111),0)))/($N$7+$N$55+$N$103)) ) / 10,0 ) * 10)","v":{"$error":"#N/A"}},null,null,null,null,null,null,"Charge-Sustaining FTP/Hwy (Required):","LEPA10069434","LEPA10069445",null,11,null,null,null,null,null,null,null,null,{"$f":"IF(ISBLANK(R21),\"\",IF(OR($J$6=\"HD 2b/3\",COUNT(R21:W21)<>6,$AA$47<>\"Yes\",$AA$49<>\"Yes\"),NA(),IF(ASTM(W21,0)=0,0,ASTM((51740000*$T$46*$T$47)/((($T$46*U21)+(0.429*V21)+(0.273*W21))*((0.6*$T$47*$T$48)+5471)),1))))","v":""},{"$f":"IF(ISBLANK(R21),\"\",IF(OR(AND($J$6<>\"HD 2b/3\",COUNT(R21:W21)<>6),AND($J$6=\"HD 2b/3\",COUNT(R21)+COUNT(W21)<>2),$AA$47<>\"Yes\",$AA$49<>\"Yes\"),NA(),IF(ASTM(W21,0)=0,0,IF($J$6=\"HD 2b/3\",W21,ASTM((($T$46/0.273)*U21)+(1.571*V21)+W21,0)))))","v":""},null,11,null,null,null,null,null,null,null,null,{"$f":"IF(ISBLANK(AD21),\"\",IF(OR($J$6=\"HD 2b/3\",COUNT(AD21:AI21)<>6,$AM$47<>\"Yes\",$AM$49<>\"Yes\"),NA(),IF(ASTM(AI21,0)=0,0,ASTM((51740000*$AF$46*$AF$47)/((($AF$46*AG21)+(0.429*AH21)+(0.273*AI21))*((0.6*$AF$47*$AF$48)+5471)),1))))","v":""},{"$f":"IF(ISBLANK(AD21),\"\",IF(OR(AND($J$6<>\"HD 2b/3\",COUNT(AD21:AI21)<>6),AND($J$6=\"HD 2b/3\",COUNT(AD21)+COUNT(AI21)<>2),$AM$47<>\"Yes\",$AM$49<>\"Yes\"),NA(),IF(ASTM(AI21,0)=0,0,IF($J$6=\"HD 2b/3\",AI21,ASTM((($AF$46/0.273)*AG21)+(1.571*AH21)+AI21,0)))))","v":""},null,null,null,"Charge-Sustaining",null,null,"Combined",null,null,"NEW","CD fuel economy (Rcda), unadjusted (MPGe) [4]",{"$f":"IF($J$6=\"HD 2b/3\",NA(),ASTM(IFERROR(AY6/ ( SUMIF(BD11:BD45,\"<=\" & (AY34-1),BP11:BP45) + AY33*SUMIF(BD11:BD45,\"=\" & (AY34-1),BP11:BP45) ),0),4))","v":{"$error":"#N/A"}},{"$f":"IF($J$6=\"HD 2b/3\",NA(),ASTM(IFERROR(AZ6/ ( SUMIF(CA11:CA45,\"<=\" & (AZ34-1),CM11:CM45) + AZ33*SUMIF(CA11:CA45,\"=\" & (AZ34-1),CM11:CM45) ),0),4))","v":{"$error":"#N/A"}},null,null,null,11,{"$f":"IF(ISBLANK(R21),\"\",IF(COUNT(R21:AA21)<>10,NA(),IF(ASTM(W21,0)=0,0,IFERROR(ASTM(R21,3)/ASTM(Z21,1),0))))","v":""},{"$f":"IF(ISBLANK(R21),\"\",IF(COUNT(R21:AA21)<>10,NA(),IF(W21=0,0,ASTM(ASTM(W21,0)*ASTM(R21,3),0))))","v":""},{"$f":"IF(ISBLANK(R21),\"\",IF(COUNT(R21:AA21)<>10,NA(),ASTM(S21,3)-ASTM(S20,3)))","v":""},{"$f":"IF(ISBLANK(R21),\"\",IF(COUNT(R21:AA21)<>10,NA(),ASTM(BG21*ASTM(T21,2),1)))","v":""},{"$f":"IF(ISBLANK(R21),\"\",IF(COUNT(R21:AA21)<>10,NA(),ASTM(ASTM($Y$46,4)*1000*(BH21/$AY$13),1)))","v":""},"",{"$f":"IF(ISBLANK(R21),\"\",IF(COUNT(R21:AA21)<>10,NA(),BI21/(33705*ASTM(R21,3))))","v":""},"",{"$f":"IF(ISBLANK(R21),\"\",IFERROR(ASTM(cityfuf(BJ21)-cityfuf(BJ20),3),\"\"))","v":""},{"$f":"IF(ISBLANK(R21),\"\",IF(OR(ISNUMBER(R21)=FALSE,ISNUMBER(AA21)=FALSE),NA(),IF(ASTM(W21,0)=0,0,BM21*ASTM(AA21,0))))","v":""},"",{"$f":"IF(ISBLANK(R21),\"\",IF(COUNT(R21:AA21)<>10,NA(),BL21*ASTM(R21,3)))","v":""},"",{"$f":"IF(ISBLANK(R21),\"\",IF(COUNT(R21:AA21)<>10,NA(),BQ21*ASTM(R21,3)))","v":""},"",{"$f":"IF(ISBLANK(R21),\"\",IF(COUNT(R21:AA21)<>10,NA(),ASTM(mdiuf(BS21),3)-ASTM(mdiuf(BS20),3)))","v":""},{"$f":"IF(ISBLANK(R21),\"\",IF(COUNT(R21:AA21)<>10,NA(),IF(ASTM(W21,0)=0,0,BT21*ASTM(W21,0)/(BQ21))))","v":""},"",{"$f":"IF(ISBLANK(R21),\"\",IF(COUNT(R21:AA21)<>10,NA(),ASTM(cityfufalt(BS21)-cityfufalt(BS20),3)))","v":""},"",{"$f":"IF(ISBLANK(R21),\"\",IF(COUNT(R21:AA21)<>10,NA(),IF(ASTM(W21,0)=0,0,BW21*ASTM(AA21,0)/(BQ21))))","v":""},null,11,{"$f":"IF(ISBLANK(AD21),\"\",IF(COUNT(AD21:AM21)<>10,NA(),IF(ASTM(AI21,0)=0,0,ASTM(AD21,3)/ASTM(AL21,1))))","v":""},{"$f":"IF(ISBLANK(AD21),\"\",IF(COUNT(AD21:AM21)<>10,NA(),IF(ASTM(AI21,0)=0,0,ASTM(ASTM(AI21,0)*ASTM(AD21,3),0))))","v":""},{"$f":"IF(ISBLANK(AD21),\"\",IF(COUNT(AD21:AM21)<>10,NA(),ASTM(AE21,3)-ASTM(AE20,3)))","v":""},{"$f":"IF(ISBLANK(AD21),\"\",IF(COUNT(AD21:AM21)<>10,NA(),ASTM(CD21*ASTM(AF21,2),1)))","v":""},{"$f":"IF(ISBLANK(AD21),\"\",IF(COUNT(AD21:AM21)<>10,NA(),ASTM(ASTM($AK$46,4)*1000*(CE21/$AZ$13),1)))","v":""},"",{"$f":"IF(ISBLANK(AD21),\"\",IF(COUNT(AD21:AM21)<>10,NA(),CF21/(33705*ASTM(AD21,3))))","v":""},"",{"$f":"IF(ISBLANK(AD21),\"\",ASTM(highwayfuf(CG21)-highwayfuf(CG20),3))","v":""},{"$f":"IF(ISBLANK(AD21),\"\",IF(OR(ISNUMBER(AD21)=FALSE,ISNUMBER(AM21)=FALSE),NA(),IF(ASTM(AI21,0)=0,0,CJ21*ASTM(AM21,0))))","v":""},"",{"$f":"IF(ISBLANK(AD21),\"\",IF(COUNT(AD21:AM21)<>10,NA(),CI21*ASTM(AD21,3)))","v":""},"",{"$f":"IF(ISBLANK(AD21),\"\",IF(COUNT(AD21:AM21)<>10,NA(),CN21*ASTM(AD21,3)))","v":""},"",{"$f":"IF(ISBLANK(AD21),\"\",IF(COUNT(AD21:AM21)<>10,NA(),ASTM(mdiuf(CP21)-mdiuf(CP20),3)))","v":""},{"$f":"IF(ISBLANK(AD21),\"\",IF(COUNT(AD21:AM21)<>10,NA(),IF(ASTM(AI21,0)=0,0,CQ21*ASTM(AI21,0)/(CN21))))","v":""},"",{"$f":"IF(ISBLANK(AD21),\"\",IF(COUNT(AD21:AM21)<>10,NA(),ASTM(highwayfufalt(CP21)-highwayfufalt(CP20),3)))","v":""},"",{"$f":"IF(ISBLANK(AD21),\"\",IF(COUNT(AD21:AM21)<>10,NA(),IF(ASTM(AI21,0)=0,0,CT21*ASTM(AM21,0)/(CN21))))","v":""}]
[null,null,"CD Fuel Economy (MPGe)",{"$f":"IF($J$6=\"HD 2b/3\",NA(),ASTM(IF($N$7+$N$55+$N$103=0,((AY19<>0)+(AY67<>0)+(AY115<>0))/(IFERROR(1/AY19,0)+IFERROR(1/AY67,0)+IFERROR(1/AY115,0)),($N$7+$N$55+$N$103) / (IFERROR($N$7/AY19,0)+IFERROR($N$55/AY67,0)+IFERROR($N$103/AY115,0))  ),4))","v":{"$error":"#N/A"}},{"$f":"IF($J$6=\"HD 2b/3\",NA(),ASTM(IF($N$7+$N$55+$N$103=0,    ((AZ19<>0)+(AZ67<>0)+(AZ115<>0))/(IFERROR(1/AZ19,0)+IFERROR(1/AZ67,0)+IFERROR(1/AZ115,0)),    ($N$7+$N$55+$N$103) / (IFERROR($N$7/AZ19,0)+IFERROR($N$55/AZ67,0)+IFERROR($N$103/AZ115,0))  ),4))","v":{"$error":"#N/A"}},{"$f":"IF(OR(ISNUMBER(D22)=FALSE,ISNUMBER(E22)=FALSE),NA(),ASTM(1/(0.55/D22+0.45/E22),0))","v":{"$error":"#N/A"}},null,null,null,null,null,null,"Charge-Sustaining FTP/Hwy (Optional):",null,null,null,12,null,null,null,null,null,null,null,null,{"$f":"IF(ISBLANK(R22),\"\",IF(OR($J$6=\"HD 2b/3\",COUNT(R22:W22)<>6,$AA$47<>\"Yes\",$AA$49<>\"Yes\"),NA(),IF(ASTM(W22,0)=0,0,ASTM((51740000*$T$46*$T$47)/((($T$46*U22)+(0.429*V22)+(0.273*W22))*((0.6*$T$47*$T$48)+5471)),1))))","v":""},{"$f":"IF(ISBLANK(R22),\"\",IF(OR(AND($J$6<>\"HD 2b/3\",COUNT(R22:W22)<>6),AND($J$6=\"HD 2b/3\",COUNT(R22)+COUNT(W22)<>2),$AA$47<>\"Yes\",$AA$49<>\"Yes\"),NA(),IF(ASTM(W22,0)=0,0,IF($J$6=\"HD 2b/3\",W22,ASTM((($T$46/0.273)*U22)+(1.571*V22)+W22,0)))))","v":""},null,12,null,null,null,null,null,null,null,null,{"$f":"IF(ISBLANK(AD22),\"\",IF(OR($J$6=\"HD 2b/3\",COUNT(AD22:AI22)<>6,$AM$47<>\"Yes\",$AM$49<>\"Yes\"),NA(),IF(ASTM(AI22,0)=0,0,ASTM((51740000*$AF$46*$AF$47)/((($AF$46*AG22)+(0.429*AH22)+(0.273*AI22))*((0.6*$AF$47*$AF$48)+5471)),1))))","v":""},{"$f":"IF(ISBLANK(AD22),\"\",IF(OR(AND($J$6<>\"HD 2b/3\",COUNT(AD22:AI22)<>6),AND($J$6=\"HD 2b/3\",COUNT(AD22)+COUNT(AI22)<>2),$AM$47<>\"Yes\",$AM$49<>\"Yes\"),NA(),IF(ASTM(AI22,0)=0,0,IF($J$6=\"HD 2b/3\",AI22,ASTM((($AF$46/0.273)*AG22)+(1.571*AH22)+AI22,0)))))","v":""},null,null,null,"CS Fuel Economy (MPG) [0]",{"$f":"IF($J$6=\"HD 2b/3\",NA(),IFERROR(ASTM(N12,4),0))","v":{"$error":"#N/A"}},{"$f":"IF($J$6=\"HD 2b/3\",NA(),IFERROR(ASTM(O12,4),0))","v":{"$error":"#N/A"}},{"$f":"IF($J$6=\"HD 2b/3\",NA(),IFERROR(ASTM(1/(0.55/AR22+0.45/AS22),0),0))","v":{"$error":"#N/A"}},null,null,"NEW","CD AC electricity consumption rate (Rcda), unadjusted  (kW-hr/100mi) [3]",{"$f":"IF($J$6=\"HD 2b/3\",NA(),ASTM(IFERROR((IFERROR( ( SUMIF(BD11:BD45,\"<=\" & (AY34-1),BI11:BI45) + AY33*SUMIF(BD11:BD45,\"=\" & (AY34-1),BI11:BI45) ) / AY6 *100 / 1000, 0)),0),3))","v":{"$error":"#N/A"}},{"$f":"IF($J$6=\"HD 2b/3\",NA(),ASTM(IFERROR((IFERROR( ( SUMIF(CA11:CA45,\"<=\" & (AZ34-1),CF11:CF45) + AZ33*SUMIF(CA11:CA45,\"=\" & (AZ34-1),CF11:CF45) ) / AZ6 *100 / 1000, 0)),0),3))","v":{"$error":"#N/A"}},null,null,null,12,{"$f":"IF(ISBLANK(R22),\"\",IF(COUNT(R22:AA22)<>10,NA(),IF(ASTM(W22,0)=0,0,IFERROR(ASTM(R22,3)/ASTM(Z22,1),0))))","v":""},{"$f":"IF(ISBLANK(R22),\"\",IF(COUNT(R22:AA22)<>10,NA(),IF(W22=0,0,ASTM(ASTM(W22,0)*ASTM(R22,3),0))))","v":""},{"$f":"IF(ISBLANK(R22),\"\",IF(COUNT(R22:AA22)<>10,NA(),ASTM(S22,3)-ASTM(S21,3)))","v":""},{"$f":"IF(ISBLANK(R22),\"\",IF(COUNT(R22:AA22)<>10,NA(),ASTM(BG22*ASTM(T22,2),1)))","v":""},{"$f":"IF(ISBLANK(R22),\"\",IF(COUNT(R22:AA22)<>10,NA(),ASTM(ASTM($Y$46,4)*1000*(BH22/$AY$13),1)))","v":""},"",{"$f":"IF(ISBLANK(R22),\"\",IF(COUNT(R22:AA22)<>10,NA(),BI22/(33705*ASTM(R22,3))))","v":""},"",{"$f":"IF(ISBLANK(R22),\"\",IFERROR(ASTM(cityfuf(BJ22)-cityfuf(BJ21),3),\"\"))","v":""},{"$f":"IF(ISBLANK(R22),\"\",IF(OR(ISNUMBER(R22)=FALSE,ISNUMBER(AA22)=FALSE),NA(),IF(ASTM(W22,0)=0,0,BM22*ASTM(AA22,0))))","v":""},"",{"$f":"IF(ISBLANK(R22),\"\",IF(COUNT(R22:AA22)<>10,NA(),BL22*ASTM(R22,3)))","v":""},"",{"$f":"IF(ISBLANK(R22),\"\",IF(COUNT(R22:AA22)<>10,NA(),BQ22*ASTM(R22,3)))","v":""},"",{"$f":"IF(ISBLANK(R22),\"\",IF(COUNT(R22:AA22)<>10,NA(),ASTM(mdiuf(BS22),3)-ASTM(mdiuf(BS21),3)))","v":""},{"$f":"IF(ISBLANK(R22),\"\",IF(COUNT(R22:AA22)<>10,NA(),IF(ASTM(W22,0)=0,0,BT22*ASTM(W22,0)/(BQ22))))","v":""},"",{"$f":"IF(ISBLANK(R22),\"\",IF(COUNT(R22:AA22)<>10,NA(),ASTM(cityfufalt(BS22)-cityfufalt(BS21),3)))","v":""},"",{"$f":"IF(ISBLANK(R22),\"\",IF(COUNT(R22:AA22)<>10,NA(),IF(ASTM(W22,0)=0,0,BW22*ASTM(AA22,0)/(BQ22))))","v":""},null,12,{"$f":"IF(ISBLANK(AD22),\"\",IF(COUNT(AD22:AM22)<>10,NA(),IF(ASTM(AI22,0)=0,0,ASTM(AD22,3)/ASTM(AL22,1))))","v":""},{"$f":"IF(ISBLANK(AD22),\"\",IF(COUNT(AD22:AM22)<>10,NA(),IF(ASTM(AI22,0)=0,0,ASTM(ASTM(AI22,0)*ASTM(AD22,3),0))))","v":""},{"$f":"IF(ISBLANK(AD22),\"\",IF(COUNT(AD22:AM22)<>10,NA(),ASTM(AE22,3)-ASTM(AE21,3)))","v":""},{"$f":"IF(ISBLANK(AD22),\"\",IF(COUNT(AD22:AM22)<>10,NA(),ASTM(CD22*ASTM(AF22,2),1)))","v":""},{"$f":"IF(ISBLANK(AD22),\"\",IF(COUNT(AD22:AM22)<>10,NA(),ASTM(ASTM($AK$46,4)*1000*(CE22/$AZ$13),1)))","v":""},"",{"$f":"IF(ISBLANK(AD22),\"\",IF(COUNT(AD22:AM22)<>10,NA(),CF22/(33705*ASTM(AD22,3))))","v":""},"",{"$f":"IF(ISBLANK(AD22),\"\",ASTM(highwayfuf(CG22)-highwayfuf(CG21),3))","v":""},{"$f":"IF(ISBLANK(AD22),\"\",IF(OR(ISNUMBER(AD22)=FALSE,ISNUMBER(AM22)=FALSE),NA(),IF(ASTM(AI22,0)=0,0,CJ22*ASTM(AM22,0))))","v":""},"",{"$f":"IF(ISBLANK(AD22),\"\",IF(COUNT(AD22:AM22)<>10,NA(),CI22*ASTM(AD22,3)))","v":""},"",{"$f":"IF(ISBLANK(AD22),\"\",IF(COUNT(AD22:AM22)<>10,NA(),CN22*ASTM(AD22,3)))","v":""},"",{"$f":"IF(ISBLANK(AD22),\"\",IF(COUNT(AD22:AM22)<>10,NA(),ASTM(mdiuf(CP22)-mdiuf(CP21),3)))","v":""},{"$f":"IF(ISBLANK(AD22),\"\",IF(COUNT(AD22:AM22)<>10,NA(),IF(ASTM(AI22,0)=0,0,CQ22*ASTM(AI22,0)/(CN22))))","v":""},"",{"$f":"IF(ISBLANK(AD22),\"\",IF(COUNT(AD22:AM22)<>10,NA(),ASTM(highwayfufalt(CP22)-highwayfufalt(CP21),3)))","v":""},"",{"$f":"IF(ISBLANK(AD22),\"\",IF(COUNT(AD22:AM22)<>10,NA(),IF(ASTM(AI22,0)=0,0,CT22*ASTM(AM22,0)/(CN22))))","v":""}]
[null,null,"CD Electricity Consumption  (kW-hr/100mi)",{"$f":"IF($J$6=\"HD 2b/3\",NA(),ASTM( IF($N$7+$N$55+$N$103=0,SUM(IFERROR(AY12,0),IFERROR(AY60,0),IFERROR(AY108,0))/((AY12<>0)+(AY60<>0)+(AY108<>0)),($N$7*AY12+$N$55*AY60+$N$103*AY108)/($N$7+$N$55+$N$103)),4))","v":{"$error":"#N/A"}},{"$f":"IF($J$6=\"HD 2b/3\",NA(),ASTM( IF($N$7+$N$55+$N$103=0,SUM(IFERROR(AZ12,0),IFERROR(AZ60,0),IFERROR(AZ108,0))/((AZ12<>0)+(AZ60<>0)+(AZ108<>0)),($N$7*AZ12+$N$55*AZ60+$N$103*AZ108)/($N$7+$N$55+$N$103)),4))","v":{"$error":"#N/A"}},{"$f":"IF(OR(ISNUMBER(D23)=FALSE,ISNUMBER(E23)=FALSE),NA(),ASTM(0.55*D23+0.45*E23,0))","v":{"$error":"#N/A"}},null,null,null,null,null,null,"Charge-Sustaining FTP/Hwy (Optional):",null,null,null,13,null,null,null,null,null,null,null,null,{"$f":"IF(ISBLANK(R23),\"\",IF(OR($J$6=\"HD 2b/3\",COUNT(R23:W23)<>6,$AA$47<>\"Yes\",$AA$49<>\"Yes\"),NA(),IF(ASTM(W23,0)=0,0,ASTM((51740000*$T$46*$T$47)/((($T$46*U23)+(0.429*V23)+(0.273*W23))*((0.6*$T$47*$T$48)+5471)),1))))","v":""},{"$f":"IF(ISBLANK(R23),\"\",IF(OR(AND($J$6<>\"HD 2b/3\",COUNT(R23:W23)<>6),AND($J$6=\"HD 2b/3\",COUNT(R23)+COUNT(W23)<>2),$AA$47<>\"Yes\",$AA$49<>\"Yes\"),NA(),IF(ASTM(W23,0)=0,0,IF($J$6=\"HD 2b/3\",W23,ASTM((($T$46/0.273)*U23)+(1.571*V23)+W23,0)))))","v":""},null,13,null,null,null,null,null,null,null,null,{"$f":"IF(ISBLANK(AD23),\"\",IF(OR($J$6=\"HD 2b/3\",COUNT(AD23:AI23)<>6,$AM$47<>\"Yes\",$AM$49<>\"Yes\"),NA(),IF(ASTM(AI23,0)=0,0,ASTM((51740000*$AF$46*$AF$47)/((($AF$46*AG23)+(0.429*AH23)+(0.273*AI23))*((0.6*$AF$47*$AF$48)+5471)),1))))","v":""},{"$f":"IF(ISBLANK(AD23),\"\",IF(OR(AND($J$6<>\"HD 2b/3\",COUNT(AD23:AI23)<>6),AND($J$6=\"HD 2b/3\",COUNT(AD23)+COUNT(AI23)<>2),$AM$47<>\"Yes\",$AM$49<>\"Yes\"),NA(),IF(ASTM(AI23,0)=0,0,IF($J$6=\"HD 2b/3\",AI23,ASTM((($AF$46/0.273)*AG23)+(1.571*AH23)+AI23,0)))))","v":""},null,null,null,"CS Fuel Consumption (gal/100mi) [1]",{"$f":"IF($J$6=\"HD 2b/3\",NA(),IFERROR(ASTM(100/AR22,1),0))","v":{"$error":"#N/A"}},{"$f":"IF($J$6=\"HD 2b/3\",NA(),IFERROR(ASTM(100/AS22,1),0))","v":{"$error":"#N/A"}},{"$f":"IF($J$6=\"HD 2b/3\",NA(),IFERROR(ASTM(100/AT22,1),0))","v":{"$error":"#N/A"}},null,null,null,"GHG EMISSIONS VALUES","CITY","HIGHWAY",null,null,null,13,{"$f":"IF(ISBLANK(R23),\"\",IF(COUNT(R23:AA23)<>10,NA(),IF(ASTM(W23,0)=0,0,IFERROR(ASTM(R23,3)/ASTM(Z23,1),0))))","v":""},{"$f":"IF(ISBLANK(R23),\"\",IF(COUNT(R23:AA23)<>10,NA(),IF(W23=0,0,ASTM(ASTM(W23,0)*ASTM(R23,3),0))))","v":""},{"$f":"IF(ISBLANK(R23),\"\",IF(COUNT(R23:AA23)<>10,NA(),ASTM(S23,3)-ASTM(S22,3)))","v":""},{"$f":"IF(ISBLANK(R23),\"\",IF(COUNT(R23:AA23)<>10,NA(),ASTM(BG23*ASTM(T23,2),1)))","v":""},{"$f":"IF(ISBLANK(R23),\"\",IF(COUNT(R23:AA23)<>10,NA(),ASTM(ASTM($Y$46,4)*1000*(BH23/$AY$13),1)))","v":""},"",{"$f":"IF(ISBLANK(R23),\"\",IF(COUNT(R23:AA23)<>10,NA(),BI23/(33705*ASTM(R23,3))))","v":""},"",{"$f":"IF(ISBLANK(R23),\"\",IFERROR(ASTM(cityfuf(BJ23)-cityfuf(BJ22),3),\"\"))","v":""},{"$f":"IF(ISBLANK(R23),\"\",IF(OR(ISNUMBER(R23)=FALSE,ISNUMBER(AA23)=FALSE),NA(),IF(ASTM(W23,0)=0,0,BM23*ASTM(AA23,0))))","v":""},"",{"$f":"IF(ISBLANK(R23),\"\",IF(COUNT(R23:AA23)<>10,NA(),BL23*ASTM(R23,3)))","v":""},"",{"$f":"IF(ISBLANK(R23),\"\",IF(COUNT(R23:AA23)<>10,NA(),BQ23*ASTM(R23,3)))","v":""},"",{"$f":"IF(ISBLANK(R23),\"\",IF(COUNT(R23:AA23)<>10,NA(),ASTM(mdiuf(BS23),3)-ASTM(mdiuf(BS22),3)))","v":""},{"$f":"IF(ISBLANK(R23),\"\",IF(COUNT(R23:AA23)<>10,NA(),IF(ASTM(W23,0)=0,0,BT23*ASTM(W23,0)/(BQ23))))","v":""},"",{"$f":"IF(ISBLANK(R23),\"\",IF(COUNT(R23:AA23)<>10,NA(),ASTM(cityfufalt(BS23)-cityfufalt(BS22),3)))","v":""},"",{"$f":"IF(ISBLANK(R23),\"\",IF(COUNT(R23:AA23)<>10,NA(),IF(ASTM(W23,0)=0,0,BW23*ASTM(AA23,0)/(BQ23))))","v":""},null,13,{"$f":"IF(ISBLANK(AD23),\"\",IF(COUNT(AD23:AM23)<>10,NA(),IF(ASTM(AI23,0)=0,0,ASTM(AD23,3)/ASTM(AL23,1))))","v":""},{"$f":"IF(ISBLANK(AD23),\"\",IF(COUNT(AD23:AM23)<>10,NA(),IF(ASTM(AI23,0)=0,0,ASTM(ASTM(AI23,0)*ASTM(AD23,3),0))))","v":""},{"$f":"IF(ISBLANK(AD23),\"\",IF(COUNT(AD23:AM23)<>10,NA(),ASTM(AE23,3)-ASTM(AE22,3)))","v":""},{"$f":"IF(ISBLANK(AD23),\"\",IF(COUNT(AD23:AM23)<>10,NA(),ASTM(CD23*ASTM(AF23,2),1)))","v":""},{"$f":"IF(ISBLANK(AD23),\"\",IF(COUNT(AD23:AM23)<>10,NA(),ASTM(ASTM($AK$46,4)*1000*(CE23/$AZ$13),1)))","v":""},"",{"$f":"IF(ISBLANK(AD23),\"\",IF(COUNT(AD23:AM23)<>10,NA(),CF23/(33705*ASTM(AD23,3))))","v":""},"",{"$f":"IF(ISBLANK(AD23),\"\",ASTM(highwayfuf(CG23)-highwayfuf(CG22),3))","v":""},{"$f":"IF(ISBLANK(AD23),\"\",IF(OR(ISNUMBER(AD23)=FALSE,ISNUMBER(AM23)=FALSE),NA(),IF(ASTM(AI23,0)=0,0,CJ23*ASTM(AM23,0))))","v":""},"",{"$f":"IF(ISBLANK(AD23),\"\",IF(COUNT(AD23:AM23)<>10,NA(),CI23*ASTM(AD23,3)))","v":""},"",{"$f":"IF(ISBLANK(AD23),\"\",IF(COUNT(AD23:AM23)<>10,NA(),CN23*ASTM(AD23,3)))","v":""},"",{"$f":"IF(ISBLANK(AD23),\"\",IF(COUNT(AD23:AM23)<>10,NA(),ASTM(mdiuf(CP23)-mdiuf(CP22),3)))","v":""},{"$f":"IF(ISBLANK(AD23),\"\",IF(COUNT(AD23:AM23)<>10,NA(),IF(ASTM(AI23,0)=0,0,CQ23*ASTM(AI23,0)/(CN23))))","v":""},"",{"$f":"IF(ISBLANK(AD23),\"\",IF(COUNT(AD23:AM23)<>10,NA(),ASTM(highwayfufalt(CP23)-highwayfufalt(CP22),3)))","v":""},"",{"$f":"IF(ISBLANK(AD23),\"\",IF(COUNT(AD23:AM23)<>10,NA(),IF(ASTM(AI23,0)=0,0,CT23*ASTM(AM23,0)/(CN23))))","v":""}]
[null,null,"CD Gasoline Consumption (gal/100mi)",{"$f":"IF($J$6=\"HD 2b/3\",NA(),IF($N$7+$N$55+$N$103=0,SUM(IFERROR(AY20,0),IFERROR(AY68,0),IFERROR(AY116,0))/((AY7<>0)+(AY55<>0)+(AY103<>0)),($N$7*AY20+$N$55*AY68+$N$103*AY116)/($N$7+$N$55+$N$103)))","v":{"$error":"#N/A"}},{"$f":"IF($J$6=\"HD 2b/3\",NA(),IF($N$7+$N$55+$N$103=0,SUM(IFERROR(AZ20,0),IFERROR(AZ68,0),IFERROR(AZ116,0))/((AZ7<>0)+(AZ55<>0)+(AZ103<>0)),($N$7*AZ20+$N$55*AZ68+$N$103*AZ116)/($N$7+$N$55+$N$103)))","v":{"$error":"#N/A"}},{"$f":"IF(OR(ISNUMBER(D24)=FALSE,ISNUMBER(E24)=FALSE),NA(),ASTM(0.55*D24+0.45*E24,1))","v":{"$error":"#N/A"}},null,null,null,null,null,null,null,null,null,null,14,null,null,null,null,null,null,null,null,{"$f":"IF(ISBLANK(R24),\"\",IF(OR($J$6=\"HD 2b/3\",COUNT(R24:W24)<>6,$AA$47<>\"Yes\",$AA$49<>\"Yes\"),NA(),IF(ASTM(W24,0)=0,0,ASTM((51740000*$T$46*$T$47)/((($T$46*U24)+(0.429*V24)+(0.273*W24))*((0.6*$T$47*$T$48)+5471)),1))))","v":""},{"$f":"IF(ISBLANK(R24),\"\",IF(OR(AND($J$6<>\"HD 2b/3\",COUNT(R24:W24)<>6),AND($J$6=\"HD 2b/3\",COUNT(R24)+COUNT(W24)<>2),$AA$47<>\"Yes\",$AA$49<>\"Yes\"),NA(),IF(ASTM(W24,0)=0,0,IF($J$6=\"HD 2b/3\",W24,ASTM((($T$46/0.273)*U24)+(1.571*V24)+W24,0)))))","v":""},null,14,null,null,null,null,null,null,null,null,{"$f":"IF(ISBLANK(AD24),\"\",IF(OR($J$6=\"HD 2b/3\",COUNT(AD24:AI24)<>6,$AM$47<>\"Yes\",$AM$49<>\"Yes\"),NA(),IF(ASTM(AI24,0)=0,0,ASTM((51740000*$AF$46*$AF$47)/((($AF$46*AG24)+(0.429*AH24)+(0.273*AI24))*((0.6*$AF$47*$AF$48)+5471)),1))))","v":""},{"$f":"IF(ISBLANK(AD24),\"\",IF(OR(AND($J$6<>\"HD 2b/3\",COUNT(AD24:AI24)<>6),AND($J$6=\"HD 2b/3\",COUNT(AD24)+COUNT(AI24)<>2),$AM$47<>\"Yes\",$AM$49<>\"Yes\"),NA(),IF(ASTM(AI24,0)=0,0,IF($J$6=\"HD 2b/3\",AI24,ASTM((($AF$46/0.273)*AG24)+(1.571*AH24)+AI24,0)))))","v":""},null,null,null,"Composite CD/CS",null,null,"Combined",null,null,null,"CD CO2 emissions rate (Rcda), unadjusted (g/mi) [1]",{"$f":"IF($J$6=\"HD 2b/3\",NA(),IFERROR(ASTM((SUMIF(BD11:BD45,\"<=\" & AY34-1,BF11:BF45)+AY33*SUMIF(BD11:BD45,\"=\" & AY34-1,BF11:BF45))/AY6,1),0))","v":{"$error":"#N/A"}},{"$f":"IF($J$6=\"HD 2b/3\",NA(),IFERROR(ASTM((SUMIF(CA11:CA45,\"<=\" & AZ34-1,CC11:CC45)+AZ33*SUMIF(CA11:CA45,\"=\" & AZ34-1,CC11:CC45))/AZ6,1),0))","v":{"$error":"#N/A"}},null,null,null,14,{"$f":"IF(ISBLANK(R24),\"\",IF(COUNT(R24:AA24)<>10,NA(),IF(ASTM(W24,0)=0,0,IFERROR(ASTM(R24,3)/ASTM(Z24,1),0))))","v":""},{"$f":"IF(ISBLANK(R24),\"\",IF(COUNT(R24:AA24)<>10,NA(),IF(W24=0,0,ASTM(ASTM(W24,0)*ASTM(R24,3),0))))","v":""},{"$f":"IF(ISBLANK(R24),\"\",IF(COUNT(R24:AA24)<>10,NA(),ASTM(S24,3)-ASTM(S23,3)))","v":""},{"$f":"IF(ISBLANK(R24),\"\",IF(COUNT(R24:AA24)<>10,NA(),ASTM(BG24*ASTM(T24,2),1)))","v":""},{"$f":"IF(ISBLANK(R24),\"\",IF(COUNT(R24:AA24)<>10,NA(),ASTM(ASTM($Y$46,4)*1000*(BH24/$AY$13),1)))","v":""},"",{"$f":"IF(ISBLANK(R24),\"\",IF(COUNT(R24:AA24)<>10,NA(),BI24/(33705*ASTM(R24,3))))","v":""},"",{"$f":"IF(ISBLANK(R24),\"\",IFERROR(ASTM(cityfuf(BJ24)-cityfuf(BJ23),3),\"\"))","v":""},{"$f":"IF(ISBLANK(R24),\"\",IF(OR(ISNUMBER(R24)=FALSE,ISNUMBER(AA24)=FALSE),NA(),IF(ASTM(W24,0)=0,0,BM24*ASTM(AA24,0))))","v":""},"",{"$f":"IF(ISBLANK(R24),\"\",IF(COUNT(R24:AA24)<>10,NA(),BL24*ASTM(R24,3)))","v":""},"",{"$f":"IF(ISBLANK(R24),\"\",IF(COUNT(R24:AA24)<>10,NA(),BQ24*ASTM(R24,3)))","v":""},"",{"$f":"IF(ISBLANK(R24),\"\",IF(COUNT(R24:AA24)<>10,NA(),ASTM(mdiuf(BS24),3)-ASTM(mdiuf(BS23),3)))","v":""},{"$f":"IF(ISBLANK(R24),\"\",IF(COUNT(R24:AA24)<>10,NA(),IF(ASTM(W24,0)=0,0,BT24*ASTM(W24,0)/(BQ24))))","v":""},"",{"$f":"IF(ISBLANK(R24),\"\",IF(COUNT(R24:AA24)<>10,NA(),ASTM(cityfufalt(BS24)-cityfufalt(BS23),3)))","v":""},"",{"$f":"IF(ISBLANK(R24),\"\",IF(COUNT(R24:AA24)<>10,NA(),IF(ASTM(W24,0)=0,0,BW24*ASTM(AA24,0)/(BQ24))))","v":""},null,14,{"$f":"IF(ISBLANK(AD24),\"\",IF(COUNT(AD24:AM24)<>10,NA(),IF(ASTM(AI24,0)=0,0,ASTM(AD24,3)/ASTM(AL24,1))))","v":""},{"$f":"IF(ISBLANK(AD24),\"\",IF(COUNT(AD24:AM24)<>10,NA(),IF(ASTM(AI24,0)=0,0,ASTM(ASTM(AI24,0)*ASTM(AD24,3),0))))","v":""},{"$f":"IF(ISBLANK(AD24),\"\",IF(COUNT(AD24:AM24)<>10,NA(),ASTM(AE24,3)-ASTM(AE23,3)))","v":""},{"$f":"IF(ISBLANK(AD24),\"\",IF(COUNT(AD24:AM24)<>10,NA(),ASTM(CD24*ASTM(AF24,2),1)))","v":""},{"$f":"IF(ISBLANK(AD24),\"\",IF(COUNT(AD24:AM24)<>10,NA(),ASTM(ASTM($AK$46,4)*1000*(CE24/$AZ$13),1)))","v":""},"",{"$f":"IF(ISBLANK(AD24),\"\",IF(COUNT(AD24:AM24)<>10,NA(),CF24/(33705*ASTM(AD24,3))))","v":""},"",{"$f":"IF(ISBLANK(AD24),\"\",ASTM(highwayfuf(CG24)-highwayfuf(CG23),3))","v":""},{"$f":"IF(ISBLANK(AD24),\"\",IF(OR(ISNUMBER(AD24)=FALSE,ISNUMBER(AM24)=FALSE),NA(),IF(ASTM(AI24,0)=0,0,CJ24*ASTM(AM24,0))))","v":""},"",{"$f":"IF(ISBLANK(AD24),\"\",IF(COUNT(AD24:AM24)<>10,NA(),CI24*ASTM(AD24,3)))","v":""},"",{"$f":"IF(ISBLANK(AD24),\"\",IF(COUNT(AD24:AM24)<>10,NA(),CN24*ASTM(AD24,3)))","v":""},"",{"$f":"IF(ISBLANK(AD24),\"\",IF(COUNT(AD24:AM24)<>10,NA(),ASTM(mdiuf(CP24)-mdiuf(CP23),3)))","v":""},{"$f":"IF(ISBLANK(AD24),\"\",IF(COUNT(AD24:AM24)<>10,NA(),IF(ASTM(AI24,0)=0,0,CQ24*ASTM(AI24,0)/(CN24))))","v":""},"",{"$f":"IF(ISBLANK(AD24),\"\",IF(COUNT(AD24:AM24)<>10,NA(),ASTM(highwayfufalt(CP24)-highwayfufalt(CP23),3)))","v":""},"",{"$f":"IF(ISBLANK(AD24),\"\",IF(COUNT(AD24:AM24)<>10,NA(),IF(ASTM(AI24,0)=0,0,CT24*ASTM(AM24,0)/(CN24))))","v":""}]
[null,null,"Charge-Sustaining","City","Highway","Combined",null,null,null,null,null,null,"ENTER ADDITIONAL CHARGE-SUSTAINING 5-CYCLE TEST NUMBERS HERE",null,null,null,15,null,null,null,null,null,null,null,null,{"$f":"IF(ISBLANK(R25),\"\",IF(OR($J$6=\"HD 2b/3\",COUNT(R25:W25)<>6,$AA$47<>\"Yes\",$AA$49<>\"Yes\"),NA(),IF(ASTM(W25,0)=0,0,ASTM((51740000*$T$46*$T$47)/((($T$46*U25)+(0.429*V25)+(0.273*W25))*((0.6*$T$47*$T$48)+5471)),1))))","v":""},{"$f":"IF(ISBLANK(R25),\"\",IF(OR(AND($J$6<>\"HD 2b/3\",COUNT(R25:W25)<>6),AND($J$6=\"HD 2b/3\",COUNT(R25)+COUNT(W25)<>2),$AA$47<>\"Yes\",$AA$49<>\"Yes\"),NA(),IF(ASTM(W25,0)=0,0,IF($J$6=\"HD 2b/3\",W25,ASTM((($T$46/0.273)*U25)+(1.571*V25)+W25,0)))))","v":""},null,15,null,null,null,null,null,null,null,null,{"$f":"IF(ISBLANK(AD25),\"\",IF(OR($J$6=\"HD 2b/3\",COUNT(AD25:AI25)<>6,$AM$47<>\"Yes\",$AM$49<>\"Yes\"),NA(),IF(ASTM(AI25,0)=0,0,ASTM((51740000*$AF$46*$AF$47)/((($AF$46*AG25)+(0.429*AH25)+(0.273*AI25))*((0.6*$AF$47*$AF$48)+5471)),1))))","v":""},{"$f":"IF(ISBLANK(AD25),\"\",IF(OR(AND($J$6<>\"HD 2b/3\",COUNT(AD25:AI25)<>6),AND($J$6=\"HD 2b/3\",COUNT(AD25)+COUNT(AI25)<>2),$AM$47<>\"Yes\",$AM$49<>\"Yes\"),NA(),IF(ASTM(AI25,0)=0,0,IF($J$6=\"HD 2b/3\",AI25,ASTM((($AF$46/0.273)*AG25)+(1.571*AH25)+AI25,0)))))","v":""},null,null,null,"Annual Fuel Cost ($/year) [0]",null,null,{"$f":"IF($J$6=\"HD 2b/3\",NA(),ASTM(IFERROR(15000*_xlfn.SINGLE(ASTM(0.55*AY46+0.45*AZ46,3)),0)/50,0) * 50)","v":{"$error":"#N/A"}},null,null,"NEW","CD CO2 emissions rate (Rcda), adjusted (g/mi) [1]",{"$f":"IF($J$6=\"HD 2b/3\",NA(),IFERROR(ASTM( IFERROR((SUMIF(BD11:BD45,\"<=\" & AY34-1,BF11:BF45)+AY33*SUMIF(BD11:BD45,\"=\" & AY34-1,BF11:BF45))/AY7,#VALUE!), 1),0))","v":{"$error":"#N/A"}},{"$f":"IF($J$6=\"HD 2b/3\",NA(),IFERROR(ASTM( IFERROR((SUMIF(CA11:CA45,\"<=\" & AZ34-1,CC11:CC45)+AZ33*SUMIF(CA11:CA45,\"=\" & AZ34-1,CC11:CC45))/AZ7,#VALUE!), 1),0))","v":{"$error":"#N/A"}},null,null,null,15,{"$f":"IF(ISBLANK(R25),\"\",IF(COUNT(R25:AA25)<>10,NA(),IF(ASTM(W25,0)=0,0,IFERROR(ASTM(R25,3)/ASTM(Z25,1),0))))","v":""},{"$f":"IF(ISBLANK(R25),\"\",IF(COUNT(R25:AA25)<>10,NA(),IF(W25=0,0,ASTM(ASTM(W25,0)*ASTM(R25,3),0))))","v":""},{"$f":"IF(ISBLANK(R25),\"\",IF(COUNT(R25:AA25)<>10,NA(),ASTM(S25,3)-ASTM(S24,3)))","v":""},{"$f":"IF(ISBLANK(R25),\"\",IF(COUNT(R25:AA25)<>10,NA(),ASTM(BG25*ASTM(T25,2),1)))","v":""},{"$f":"IF(ISBLANK(R25),\"\",IF(COUNT(R25:AA25)<>10,NA(),ASTM(ASTM($Y$46,4)*1000*(BH25/$AY$13),1)))","v":""},"",{"$f":"IF(ISBLANK(R25),\"\",IF(COUNT(R25:AA25)<>10,NA(),BI25/(33705*ASTM(R25,3))))","v":""},"",{"$f":"IF(ISBLANK(R25),\"\",IFERROR(ASTM(cityfuf(BJ25)-cityfuf(BJ24),3),\"\"))","v":""},{"$f":"IF(ISBLANK(R25),\"\",IF(OR(ISNUMBER(R25)=FALSE,ISNUMBER(AA25)=FALSE),NA(),IF(ASTM(W25,0)=0,0,BM25*ASTM(AA25,0))))","v":""},"",{"$f":"IF(ISBLANK(R25),\"\",IF(COUNT(R25:AA25)<>10,NA(),BL25*ASTM(R25,3)))","v":""},"",{"$f":"IF(ISBLANK(R25),\"\",IF(COUNT(R25:AA25)<>10,NA(),BQ25*ASTM(R25,3)))","v":""},"",{"$f":"IF(ISBLANK(R25),\"\",IF(COUNT(R25:AA25)<>10,NA(),ASTM(mdiuf(BS25),3)-ASTM(mdiuf(BS24),3)))","v":""},{"$f":"IF(ISBLANK(R25),\"\",IF(COUNT(R25:AA25)<>10,NA(),IF(ASTM(W25,0)=0,0,BT25*ASTM(W25,0)/(BQ25))))","v":""},"",{"$f":"IF(ISBLANK(R25),\"\",IF(COUNT(R25:AA25)<>10,NA(),ASTM(cityfufalt(BS25)-cityfufalt(BS24),3)))","v":""},"",{"$f":"IF(ISBLANK(R25),\"\",IF(COUNT(R25:AA25)<>10,NA(),IF(ASTM(W25,0)=0,0,BW25*ASTM(AA25,0)/(BQ25))))","v":""},null,15,{"$f":"IF(ISBLANK(AD25),\"\",IF(COUNT(AD25:AM25)<>10,NA(),IF(ASTM(AI25,0)=0,0,ASTM(AD25,3)/ASTM(AL25,1))))","v":""},{"$f":"IF(ISBLANK(AD25),\"\",IF(COUNT(AD25:AM25)<>10,NA(),IF(ASTM(AI25,0)=0,0,ASTM(ASTM(AI25,0)*ASTM(AD25,3),0))))","v":""},{"$f":"IF(ISBLANK(AD25),\"\",IF(COUNT(AD25:AM25)<>10,NA(),ASTM(AE25,3)-ASTM(AE24,3)))","v":""},{"$f":"IF(ISBLANK(AD25),\"\",IF(COUNT(AD25:AM25)<>10,NA(),ASTM(CD25*ASTM(AF25,2),1)))","v":""},{"$f":"IF(ISBLANK(AD25),\"\",IF(COUNT(AD25:AM25)<>10,NA(),ASTM(ASTM($AK$46,4)*1000*(CE25/$AZ$13),1)))","v":""},"",{"$f":"IF(ISBLANK(AD25),\"\",IF(COUNT(AD25:AM25)<>10,NA(),CF25/(33705*ASTM(AD25,3))))","v":""},"",{"$f":"IF(ISBLANK(AD25),\"\",ASTM(highwayfuf(CG25)-highwayfuf(CG24),3))","v":""},{"$f":"IF(ISBLANK(AD25),\"\",IF(OR(ISNUMBER(AD25)=FALSE,ISNUMBER(AM25)=FALSE),NA(),IF(ASTM(AI25,0)=0,0,CJ25*ASTM(AM25,0))))","v":""},"",{"$f":"IF(ISBLANK(AD25),\"\",IF(COUNT(AD25:AM25)<>10,NA(),CI25*ASTM(AD25,3)))","v":""},"",{"$f":"IF(ISBLANK(AD25),\"\",IF(COUNT(AD25:AM25)<>10,NA(),CN25*ASTM(AD25,3)))","v":""},"",{"$f":"IF(ISBLANK(AD25),\"\",IF(COUNT(AD25:AM25)<>10,NA(),ASTM(mdiuf(CP25)-mdiuf(CP24),3)))","v":""},{"$f":"IF(ISBLANK(AD25),\"\",IF(COUNT(AD25:AM25)<>10,NA(),IF(ASTM(AI25,0)=0,0,CQ25*ASTM(AI25,0)/(CN25))))","v":""},"",{"$f":"IF(ISBLANK(AD25),\"\",IF(COUNT(AD25:AM25)<>10,NA(),ASTM(highwayfufalt(CP25)-highwayfufalt(CP24),3)))","v":""},"",{"$f":"IF(ISBLANK(AD25),\"\",IF(COUNT(AD25:AM25)<>10,NA(),IF(ASTM(AI25,0)=0,0,CT25*ASTM(AM25,0)/(CN25))))","v":""}]
[null,null,"CS Fuel Economy (MPG)",{"$f":"IF($J$6=\"HD 2b/3\",NA(),IF($N$7+$N$55+$N$103=0,((AR22<>0)+(AR70<>0)+(AR118<>0))/(IFERROR(1/AR22,0)+IFERROR(1/AR70,0)+IFERROR(1/AR118,0)),($N$7+$N$55+$N$103) / (IFERROR($N$7/AR22,0)+IFERROR($N$55/AR70,0)+IFERROR($N$103/AR118,0))))","v":{"$error":"#N/A"}},{"$f":"IF($J$6=\"HD 2b/3\",NA(),IF($N$7+$N$55+$N$103=0,((AS22<>0)+(AS70<>0)+(AS118<>0))/(IFERROR(1/AS22,0)+IFERROR(1/AS70,0)+IFERROR(1/AS118,0)),($N$7+$N$55+$N$103) / (IFERROR($N$7/AS22,0)+IFERROR($N$55/AS70,0)+IFERROR($N$103/AS118,0))))","v":{"$error":"#N/A"}},{"$f":"IF(OR(ISNUMBER(D26)=FALSE,ISNUMBER(E26)=FALSE),NA(),ASTM(1/(0.55/D26+0.45/E26),0))","v":{"$error":"#N/A"}},null,null,null,null,null,null,null,"Test Procedure","Test Number",null,16,null,null,null,null,null,null,null,null,{"$f":"IF(ISBLANK(R26),\"\",IF(OR($J$6=\"HD 2b/3\",COUNT(R26:W26)<>6,$AA$47<>\"Yes\",$AA$49<>\"Yes\"),NA(),IF(ASTM(W26,0)=0,0,ASTM((51740000*$T$46*$T$47)/((($T$46*U26)+(0.429*V26)+(0.273*W26))*((0.6*$T$47*$T$48)+5471)),1))))","v":""},{"$f":"IF(ISBLANK(R26),\"\",IF(OR(AND($J$6<>\"HD 2b/3\",COUNT(R26:W26)<>6),AND($J$6=\"HD 2b/3\",COUNT(R26)+COUNT(W26)<>2),$AA$47<>\"Yes\",$AA$49<>\"Yes\"),NA(),IF(ASTM(W26,0)=0,0,IF($J$6=\"HD 2b/3\",W26,ASTM((($T$46/0.273)*U26)+(1.571*V26)+W26,0)))))","v":""},null,16,null,null,null,null,null,null,null,null,{"$f":"IF(ISBLANK(AD26),\"\",IF(OR($J$6=\"HD 2b/3\",COUNT(AD26:AI26)<>6,$AM$47<>\"Yes\",$AM$49<>\"Yes\"),NA(),IF(ASTM(AI26,0)=0,0,ASTM((51740000*$AF$46*$AF$47)/((($AF$46*AG26)+(0.429*AH26)+(0.273*AI26))*((0.6*$AF$47*$AF$48)+5471)),1))))","v":""},{"$f":"IF(ISBLANK(AD26),\"\",IF(OR(AND($J$6<>\"HD 2b/3\",COUNT(AD26:AI26)<>6),AND($J$6=\"HD 2b/3\",COUNT(AD26)+COUNT(AI26)<>2),$AM$47<>\"Yes\",$AM$49<>\"Yes\"),NA(),IF(ASTM(AI26,0)=0,0,IF($J$6=\"HD 2b/3\",AI26,ASTM((($AF$46/0.273)*AG26)+(1.571*AH26)+AI26,0)))))","v":""},null,null,null,"5-Year Fuel Savings Value ($/5 years) [0]",null,null,{"$f":"IF($J$6=\"HD 2b/3\",NA(),$F$38-5*AT25)","v":{"$error":"#N/A"}},null,null,"NEW","CD utilitized CO2 (MDIUF, Rcdc), adjusted (g/mi) [1]",{"$f":"IF($J$6=\"HD 2b/3\",NA(),ASTM(SUMIF(BD11:BD45,\"<=\" & (AY34),BU11:BU45),1))","v":{"$error":"#N/A"}},{"$f":"IF($J$6=\"HD 2b/3\",NA(),ASTM(SUMIF(CA11:CA45,\"<=\" & (AZ34),CR11:CR45),1))","v":{"$error":"#N/A"}},null,null,null,16,{"$f":"IF(ISBLANK(R26),\"\",IF(COUNT(R26:AA26)<>10,NA(),IF(ASTM(W26,0)=0,0,IFERROR(ASTM(R26,3)/ASTM(Z26,1),0))))","v":""},{"$f":"IF(ISBLANK(R26),\"\",IF(COUNT(R26:AA26)<>10,NA(),IF(W26=0,0,ASTM(ASTM(W26,0)*ASTM(R26,3),0))))","v":""},{"$f":"IF(ISBLANK(R26),\"\",IF(COUNT(R26:AA26)<>10,NA(),ASTM(S26,3)-ASTM(S25,3)))","v":""},{"$f":"IF(ISBLANK(R26),\"\",IF(COUNT(R26:AA26)<>10,NA(),ASTM(BG26*ASTM(T26,2),1)))","v":""},{"$f":"IF(ISBLANK(R26),\"\",IF(COUNT(R26:AA26)<>10,NA(),ASTM(ASTM($Y$46,4)*1000*(BH26/$AY$13),1)))","v":""},"",{"$f":"IF(ISBLANK(R26),\"\",IF(COUNT(R26:AA26)<>10,NA(),BI26/(33705*ASTM(R26,3))))","v":""},"",{"$f":"IF(ISBLANK(R26),\"\",IFERROR(ASTM(cityfuf(BJ26)-cityfuf(BJ25),3),\"\"))","v":""},{"$f":"IF(ISBLANK(R26),\"\",IF(OR(ISNUMBER(R26)=FALSE,ISNUMBER(AA26)=FALSE),NA(),IF(ASTM(W26,0)=0,0,BM26*ASTM(AA26,0))))","v":""},"",{"$f":"IF(ISBLANK(R26),\"\",IF(COUNT(R26:AA26)<>10,NA(),BL26*ASTM(R26,3)))","v":""},"",{"$f":"IF(ISBLANK(R26),\"\",IF(COUNT(R26:AA26)<>10,NA(),BQ26*ASTM(R26,3)))","v":""},"",{"$f":"IF(ISBLANK(R26),\"\",IF(COUNT(R26:AA26)<>10,NA(),ASTM(mdiuf(BS26),3)-ASTM(mdiuf(BS25),3)))","v":""},{"$f":"IF(ISBLANK(R26),\"\",IF(COUNT(R26:AA26)<>10,NA(),IF(ASTM(W26,0)=0,0,BT26*ASTM(W26,0)/(BQ26))))","v":""},"",{"$f":"IF(ISBLANK(R26),\"\",IF(COUNT(R26:AA26)<>10,NA(),ASTM(cityfufalt(BS26)-cityfufalt(BS25),3)))","v":""},"",{"$f":"IF(ISBLANK(R26),\"\",IF(COUNT(R26:AA26)<>10,NA(),IF(ASTM(W26,0)=0,0,BW26*ASTM(AA26,0)/(BQ26))))","v":""},null,16,{"$f":"IF(ISBLANK(AD26),\"\",IF(COUNT(AD26:AM26)<>10,NA(),IF(ASTM(AI26,0)=0,0,ASTM(AD26,3)/ASTM(AL26,1))))","v":""},{"$f":"IF(ISBLANK(AD26),\"\",IF(COUNT(AD26:AM26)<>10,NA(),IF(ASTM(AI26,0)=0,0,ASTM(ASTM(AI26,0)*ASTM(AD26,3),0))))","v":""},{"$f":"IF(ISBLANK(AD26),\"\",IF(COUNT(AD26:AM26)<>10,NA(),ASTM(AE26,3)-ASTM(AE25,3)))","v":""},{"$f":"IF(ISBLANK(AD26),\"\",IF(COUNT(AD26:AM26)<>10,NA(),ASTM(CD26*ASTM(AF26,2),1)))","v":""},{"$f":"IF(ISBLANK(AD26),\"\",IF(COUNT(AD26:AM26)<>10,NA(),ASTM(ASTM($AK$46,4)*1000*(CE26/$AZ$13),1)))","v":""},"",{"$f":"IF(ISBLANK(AD26),\"\",IF(COUNT(AD26:AM26)<>10,NA(),CF26/(33705*ASTM(AD26,3))))","v":""},"",{"$f":"IF(ISBLANK(AD26),\"\",ASTM(highwayfuf(CG26)-highwayfuf(CG25),3))","v":""},{"$f":"IF(ISBLANK(AD26),\"\",IF(OR(ISNUMBER(AD26)=FALSE,ISNUMBER(AM26)=FALSE),NA(),IF(ASTM(AI26,0)=0,0,CJ26*ASTM(AM26,0))))","v":""},"",{"$f":"IF(ISBLANK(AD26),\"\",IF(COUNT(AD26:AM26)<>10,NA(),CI26*ASTM(AD26,3)))","v":""},"",{"$f":"IF(ISBLANK(AD26),\"\",IF(COUNT(AD26:AM26)<>10,NA(),CN26*ASTM(AD26,3)))","v":""},"",{"$f":"IF(ISBLANK(AD26),\"\",IF(COUNT(AD26:AM26)<>10,NA(),ASTM(mdiuf(CP26)-mdiuf(CP25),3)))","v":""},{"$f":"IF(ISBLANK(AD26),\"\",IF(COUNT(AD26:AM26)<>10,NA(),IF(ASTM(AI26,0)=0,0,CQ26*ASTM(AI26,0)/(CN26))))","v":""},"",{"$f":"IF(ISBLANK(AD26),\"\",IF(COUNT(AD26:AM26)<>10,NA(),ASTM(highwayfufalt(CP26)-highwayfufalt(CP25),3)))","v":""},"",{"$f":"IF(ISBLANK(AD26),\"\",IF(COUNT(AD26:AM26)<>10,NA(),IF(ASTM(AI26,0)=0,0,CT26*ASTM(AM26,0)/(CN26))))","v":""}]
[null,null,"CS Fuel Consumption (gal/100mi)",{"$f":"IF($J$6=\"HD 2b/3\",NA(),IF($N$7+$N$55+$N$103=0,SUM(IFERROR(AR23,0),IFERROR(AR71,0),IFERROR(AR119,0)) / ((AR23<>0)+(AR71<>0)+(AR119<>0)),($N$7*AR23+$N$55*AR71+$N$103*AR119)/($N$7+$N$55+$N$103)))","v":{"$error":"#N/A"}},{"$f":"IF($J$6=\"HD 2b/3\",NA(),IF($N$7+$N$55+$N$103=0,SUM(IFERROR(AS23,0),IFERROR(AS71,0),IFERROR(AS119,0)) / ((AS23<>0)+(AS71<>0)+(AS119<>0)),($N$7*AS23+$N$55*AS71+$N$103*AS119)/($N$7+$N$55+$N$103)))","v":{"$error":"#N/A"}},{"$f":"IF(ISNUMBER(F26)=FALSE,NA(),ASTM(100/F26,1))","v":{"$error":"#N/A"}},null,null,null,null,null,null,{"$f":"IF($J$6=\"HD 2b/3\",NA(),\"Charge-Sustaining Test (Optional):\")","v":{"$error":"#N/A"}},null,null,null,17,null,null,null,null,null,null,null,null,{"$f":"IF(ISBLANK(R27),\"\",IF(OR($J$6=\"HD 2b/3\",COUNT(R27:W27)<>6,$AA$47<>\"Yes\",$AA$49<>\"Yes\"),NA(),IF(ASTM(W27,0)=0,0,ASTM((51740000*$T$46*$T$47)/((($T$46*U27)+(0.429*V27)+(0.273*W27))*((0.6*$T$47*$T$48)+5471)),1))))","v":""},{"$f":"IF(ISBLANK(R27),\"\",IF(OR(AND($J$6<>\"HD 2b/3\",COUNT(R27:W27)<>6),AND($J$6=\"HD 2b/3\",COUNT(R27)+COUNT(W27)<>2),$AA$47<>\"Yes\",$AA$49<>\"Yes\"),NA(),IF(ASTM(W27,0)=0,0,IF($J$6=\"HD 2b/3\",W27,ASTM((($T$46/0.273)*U27)+(1.571*V27)+W27,0)))))","v":""},null,17,null,null,null,null,null,null,null,null,{"$f":"IF(ISBLANK(AD27),\"\",IF(OR($J$6=\"HD 2b/3\",COUNT(AD27:AI27)<>6,$AM$47<>\"Yes\",$AM$49<>\"Yes\"),NA(),IF(ASTM(AI27,0)=0,0,ASTM((51740000*$AF$46*$AF$47)/((($AF$46*AG27)+(0.429*AH27)+(0.273*AI27))*((0.6*$AF$47*$AF$48)+5471)),1))))","v":""},{"$f":"IF(ISBLANK(AD27),\"\",IF(OR(AND($J$6<>\"HD 2b/3\",COUNT(AD27:AI27)<>6),AND($J$6=\"HD 2b/3\",COUNT(AD27)+COUNT(AI27)<>2),$AM$47<>\"Yes\",$AM$49<>\"Yes\"),NA(),IF(ASTM(AI27,0)=0,0,IF($J$6=\"HD 2b/3\",AI27,ASTM((($AF$46/0.273)*AG27)+(1.571*AH27)+AI27,0)))))","v":""},null,null,null,"Composite CO2 (g/mi) [0]",null,null,{"$f":"IF($J$6=\"HD 2b/3\",NA(),ASTM(0.55*AY48+0.45*AZ48,0))","v":{"$error":"#N/A"}},null,null,null,"CD utilitized CREE (55/45 FUF, Rcdc), unadjusted (g/mi) [1]",{"$f":"ASTM(SUMIF(BD11:BD45,\"<=\" & AY34,BN11:BN45),1)","v":1},{"$f":"ASTM(SUMIF(CA11:CA45,\"<=\" & AZ34,CK11:CK45),1)","v":5.6},null,null,null,17,{"$f":"IF(ISBLANK(R27),\"\",IF(COUNT(R27:AA27)<>10,NA(),IF(ASTM(W27,0)=0,0,IFERROR(ASTM(R27,3)/ASTM(Z27,1),0))))","v":""},{"$f":"IF(ISBLANK(R27),\"\",IF(COUNT(R27:AA27)<>10,NA(),IF(W27=0,0,ASTM(ASTM(W27,0)*ASTM(R27,3),0))))","v":""},{"$f":"IF(ISBLANK(R27),\"\",IF(COUNT(R27:AA27)<>10,NA(),ASTM(S27,3)-ASTM(S26,3)))","v":""},{"$f":"IF(ISBLANK(R27),\"\",IF(COUNT(R27:AA27)<>10,NA(),ASTM(BG27*ASTM(T27,2),1)))","v":""},{"$f":"IF(ISBLANK(R27),\"\",IF(COUNT(R27:AA27)<>10,NA(),ASTM(ASTM($Y$46,4)*1000*(BH27/$AY$13),1)))","v":""},"",{"$f":"IF(ISBLANK(R27),\"\",IF(COUNT(R27:AA27)<>10,NA(),BI27/(33705*ASTM(R27,3))))","v":""},"",{"$f":"IF(ISBLANK(R27),\"\",IFERROR(ASTM(cityfuf(BJ27)-cityfuf(BJ26),3),\"\"))","v":""},{"$f":"IF(ISBLANK(R27),\"\",IF(OR(ISNUMBER(R27)=FALSE,ISNUMBER(AA27)=FALSE),NA(),IF(ASTM(W27,0)=0,0,BM27*ASTM(AA27,0))))","v":""},"",{"$f":"IF(ISBLANK(R27),\"\",IF(COUNT(R27:AA27)<>10,NA(),BL27*ASTM(R27,3)))","v":""},"",{"$f":"IF(ISBLANK(R27),\"\",IF(COUNT(R27:AA27)<>10,NA(),BQ27*ASTM(R27,3)))","v":""},"",{"$f":"IF(ISBLANK(R27),\"\",IF(COUNT(R27:AA27)<>10,NA(),ASTM(mdiuf(BS27),3)-ASTM(mdiuf(BS26),3)))","v":""},{"$f":"IF(ISBLANK(R27),\"\",IF(COUNT(R27:AA27)<>10,NA(),IF(ASTM(W27,0)=0,0,BT27*ASTM(W27,0)/(BQ27))))","v":""},"",{"$f":"IF(ISBLANK(R27),\"\",IF(COUNT(R27:AA27)<>10,NA(),ASTM(cityfufalt(BS27)-cityfufalt(BS26),3)))","v":""},"",{"$f":"IF(ISBLANK(R27),\"\",IF(COUNT(R27:AA27)<>10,NA(),IF(ASTM(W27,0)=0,0,BW27*ASTM(AA27,0)/(BQ27))))","v":""},null,17,{"$f":"IF(ISBLANK(AD27),\"\",IF(COUNT(AD27:AM27)<>10,NA(),IF(ASTM(AI27,0)=0,0,ASTM(AD27,3)/ASTM(AL27,1))))","v":""},{"$f":"IF(ISBLANK(AD27),\"\",IF(COUNT(AD27:AM27)<>10,NA(),IF(ASTM(AI27,0)=0,0,ASTM(ASTM(AI27,0)*ASTM(AD27,3),0))))","v":""},{"$f":"IF(ISBLANK(AD27),\"\",IF(COUNT(AD27:AM27)<>10,NA(),ASTM(AE27,3)-ASTM(AE26,3)))","v":""},{"$f":"IF(ISBLANK(AD27),\"\",IF(COUNT(AD27:AM27)<>10,NA(),ASTM(CD27*ASTM(AF27,2),1)))","v":""},{"$f":"IF(ISBLANK(AD27),\"\",IF(COUNT(AD27:AM27)<>10,NA(),ASTM(ASTM($AK$46,4)*1000*(CE27/$AZ$13),1)))","v":""},"",{"$f":"IF(ISBLANK(AD27),\"\",IF(COUNT(AD27:AM27)<>10,NA(),CF27/(33705*ASTM(AD27,3))))","v":""},"",{"$f":"IF(ISBLANK(AD27),\"\",ASTM(highwayfuf(CG27)-highwayfuf(CG26),3))","v":""},{"$f":"IF(ISBLANK(AD27),\"\",IF(OR(ISNUMBER(AD27)=FALSE,ISNUMBER(AM27)=FALSE),NA(),IF(ASTM(AI27,0)=0,0,CJ27*ASTM(AM27,0))))","v":""},"",{"$f":"IF(ISBLANK(AD27),\"\",IF(COUNT(AD27:AM27)<>10,NA(),CI27*ASTM(AD27,3)))","v":""},"",{"$f":"IF(ISBLANK(AD27),\"\",IF(COUNT(AD27:AM27)<>10,NA(),CN27*ASTM(AD27,3)))","v":""},"",{"$f":"IF(ISBLANK(AD27),\"\",IF(COUNT(AD27:AM27)<>10,NA(),ASTM(mdiuf(CP27)-mdiuf(CP26),3)))","v":""},{"$f":"IF(ISBLANK(AD27),\"\",IF(COUNT(AD27:AM27)<>10,NA(),IF(ASTM(AI27,0)=0,0,CQ27*ASTM(AI27,0)/(CN27))))","v":""},"",{"$f":"IF(ISBLANK(AD27),\"\",IF(COUNT(AD27:AM27)<>10,NA(),ASTM(highwayfufalt(CP27)-highwayfufalt(CP26),3)))","v":""},"",{"$f":"IF(ISBLANK(AD27),\"\",IF(COUNT(AD27:AM27)<>10,NA(),IF(ASTM(AI27,0)=0,0,CT27*ASTM(AM27,0)/(CN27))))","v":""}]
[null,null,"Composite CD/CS","City","Highway","Combined",null,null,null,null,null,null,{"$f":"IF($J$6=\"HD 2b/3\",NA(),\"Charge-Sustaining Test (Optional):\")","v":{"$error":"#N/A"}},null,null,null,18,null,null,null,null,null,null,null,null,{"$f":"IF(ISBLANK(R28),\"\",IF(OR($J$6=\"HD 2b/3\",COUNT(R28:W28)<>6,$AA$47<>\"Yes\",$AA$49<>\"Yes\"),NA(),IF(ASTM(W28,0)=0,0,ASTM((51740000*$T$46*$T$47)/((($T$46*U28)+(0.429*V28)+(0.273*W28))*((0.6*$T$47*$T$48)+5471)),1))))","v":""},{"$f":"IF(ISBLANK(R28),\"\",IF(OR(AND($J$6<>\"HD 2b/3\",COUNT(R28:W28)<>6),AND($J$6=\"HD 2b/3\",COUNT(R28)+COUNT(W28)<>2),$AA$47<>\"Yes\",$AA$49<>\"Yes\"),NA(),IF(ASTM(W28,0)=0,0,IF($J$6=\"HD 2b/3\",W28,ASTM((($T$46/0.273)*U28)+(1.571*V28)+W28,0)))))","v":""},null,18,null,null,null,null,null,null,null,null,{"$f":"IF(ISBLANK(AD28),\"\",IF(OR($J$6=\"HD 2b/3\",COUNT(AD28:AI28)<>6,$AM$47<>\"Yes\",$AM$49<>\"Yes\"),NA(),IF(ASTM(AI28,0)=0,0,ASTM((51740000*$AF$46*$AF$47)/((($AF$46*AG28)+(0.429*AH28)+(0.273*AI28))*((0.6*$AF$47*$AF$48)+5471)),1))))","v":""},{"$f":"IF(ISBLANK(AD28),\"\",IF(OR(AND($J$6<>\"HD 2b/3\",COUNT(AD28:AI28)<>6),AND($J$6=\"HD 2b/3\",COUNT(AD28)+COUNT(AI28)<>2),$AM$47<>\"Yes\",$AM$49<>\"Yes\"),NA(),IF(ASTM(AI28,0)=0,0,IF($J$6=\"HD 2b/3\",AI28,ASTM((($AF$46/0.273)*AG28)+(1.571*AH28)+AI28,0)))))","v":""},null,null,null,"Composite Fuel Economy (MPG) [0]",null,null,{"$f":"IF($J$6=\"HD 2b/3\",NA(),IFERROR(ASTM(1/(0.55/AY49+0.45/AZ49),0),0))","v":{"$error":"#N/A"}},null,null,"NEW","CD utilitized CREE (43/57 FUF, Rcdc), adjusted (g/mi) [1]",{"$f":"IF($J$6=\"HD 2b/3\",NA(),ASTM(SUMIF(BD11:BD45,\"<=\" & (AY34),BY11:BY45),1))","v":{"$error":"#N/A"}},{"$f":"IF($J$6=\"HD 2b/3\",NA(),ASTM(SUMIF(CA11:CA45,\"<=\" & (AZ34),CV11:CV45),1))","v":{"$error":"#N/A"}},null,null,null,18,{"$f":"IF(ISBLANK(R28),\"\",IF(COUNT(R28:AA28)<>10,NA(),IF(ASTM(W28,0)=0,0,IFERROR(ASTM(R28,3)/ASTM(Z28,1),0))))","v":""},{"$f":"IF(ISBLANK(R28),\"\",IF(COUNT(R28:AA28)<>10,NA(),IF(W28=0,0,ASTM(ASTM(W28,0)*ASTM(R28,3),0))))","v":""},{"$f":"IF(ISBLANK(R28),\"\",IF(COUNT(R28:AA28)<>10,NA(),ASTM(S28,3)-ASTM(S27,3)))","v":""},{"$f":"IF(ISBLANK(R28),\"\",IF(COUNT(R28:AA28)<>10,NA(),ASTM(BG28*ASTM(T28,2),1)))","v":""},{"$f":"IF(ISBLANK(R28),\"\",IF(COUNT(R28:AA28)<>10,NA(),ASTM(ASTM($Y$46,4)*1000*(BH28/$AY$13),1)))","v":""},"",{"$f":"IF(ISBLANK(R28),\"\",IF(COUNT(R28:AA28)<>10,NA(),BI28/(33705*ASTM(R28,3))))","v":""},"",{"$f":"IF(ISBLANK(R28),\"\",IFERROR(ASTM(cityfuf(BJ28)-cityfuf(BJ27),3),\"\"))","v":""},{"$f":"IF(ISBLANK(R28),\"\",IF(OR(ISNUMBER(R28)=FALSE,ISNUMBER(AA28)=FALSE),NA(),IF(ASTM(W28,0)=0,0,BM28*ASTM(AA28,0))))","v":""},"",{"$f":"IF(ISBLANK(R28),\"\",IF(COUNT(R28:AA28)<>10,NA(),BL28*ASTM(R28,3)))","v":""},"",{"$f":"IF(ISBLANK(R28),\"\",IF(COUNT(R28:AA28)<>10,NA(),BQ28*ASTM(R28,3)))","v":""},"",{"$f":"IF(ISBLANK(R28),\"\",IF(COUNT(R28:AA28)<>10,NA(),ASTM(mdiuf(BS28),3)-ASTM(mdiuf(BS27),3)))","v":""},{"$f":"IF(ISBLANK(R28),\"\",IF(COUNT(R28:AA28)<>10,NA(),IF(ASTM(W28,0)=0,0,BT28*ASTM(W28,0)/(BQ28))))","v":""},"",{"$f":"IF(ISBLANK(R28),\"\",IF(COUNT(R28:AA28)<>10,NA(),ASTM(cityfufalt(BS28)-cityfufalt(BS27),3)))","v":""},"",{"$f":"IF(ISBLANK(R28),\"\",IF(COUNT(R28:AA28)<>10,NA(),IF(ASTM(W28,0)=0,0,BW28*ASTM(AA28,0)/(BQ28))))","v":""},null,18,{"$f":"IF(ISBLANK(AD28),\"\",IF(COUNT(AD28:AM28)<>10,NA(),IF(ASTM(AI28,0)=0,0,ASTM(AD28,3)/ASTM(AL28,1))))","v":""},{"$f":"IF(ISBLANK(AD28),\"\",IF(COUNT(AD28:AM28)<>10,NA(),IF(ASTM(AI28,0)=0,0,ASTM(ASTM(AI28,0)*ASTM(AD28,3),0))))","v":""},{"$f":"IF(ISBLANK(AD28),\"\",IF(COUNT(AD28:AM28)<>10,NA(),ASTM(AE28,3)-ASTM(AE27,3)))","v":""},{"$f":"IF(ISBLANK(AD28),\"\",IF(COUNT(AD28:AM28)<>10,NA(),ASTM(CD28*ASTM(AF28,2),1)))","v":""},{"$f":"IF(ISBLANK(AD28),\"\",IF(COUNT(AD28:AM28)<>10,NA(),ASTM(ASTM($AK$46,4)*1000*(CE28/$AZ$13),1)))","v":""},"",{"$f":"IF(ISBLANK(AD28),\"\",IF(COUNT(AD28:AM28)<>10,NA(),CF28/(33705*ASTM(AD28,3))))","v":""},"",{"$f":"IF(ISBLANK(AD28),\"\",ASTM(highwayfuf(CG28)-highwayfuf(CG27),3))","v":""},{"$f":"IF(ISBLANK(AD28),\"\",IF(OR(ISNUMBER(AD28)=FALSE,ISNUMBER(AM28)=FALSE),NA(),IF(ASTM(AI28,0)=0,0,CJ28*ASTM(AM28,0))))","v":""},"",{"$f":"IF(ISBLANK(AD28),\"\",IF(COUNT(AD28:AM28)<>10,NA(),CI28*ASTM(AD28,3)))","v":""},"",{"$f":"IF(ISBLANK(AD28),\"\",IF(COUNT(AD28:AM28)<>10,NA(),CN28*ASTM(AD28,3)))","v":""},"",{"$f":"IF(ISBLANK(AD28),\"\",IF(COUNT(AD28:AM28)<>10,NA(),ASTM(mdiuf(CP28)-mdiuf(CP27),3)))","v":""},{"$f":"IF(ISBLANK(AD28),\"\",IF(COUNT(AD28:AM28)<>10,NA(),IF(ASTM(AI28,0)=0,0,CQ28*ASTM(AI28,0)/(CN28))))","v":""},"",{"$f":"IF(ISBLANK(AD28),\"\",IF(COUNT(AD28:AM28)<>10,NA(),ASTM(highwayfufalt(CP28)-highwayfufalt(CP27),3)))","v":""},"",{"$f":"IF(ISBLANK(AD28),\"\",IF(COUNT(AD28:AM28)<>10,NA(),IF(ASTM(AI28,0)=0,0,CT28*ASTM(AM28,0)/(CN28))))","v":""}]
[null,null,"Annual Fuel Cost ($/year)",null,null,{"$f":"IF($J$6=\"HD 2b/3\",NA(),ASTM(   ( IF($N$7+$N$55+$N$103=0,SUM(IFERROR((IFERROR(15000*ASTM(0.55*AY46+0.45*AZ46,3),0)),0),IFERROR((IFERROR(15000*ASTM(0.55*AY94+0.45*AZ94,3),0)),0),IFERROR((IFERROR(15000*ASTM(0.55*AY142+0.45*AZ142,3),0)),0)) / (((IFERROR(15000*ASTM(0.55*AY46+0.45*AZ46,3),0))<>0)+((IFERROR(15000*ASTM(0.55*AY94+0.45*AZ94,3),0))<>0)+((IFERROR(15000*ASTM(0.55*AY142+0.45*AZ142,3),0))<>0)),($N$7*(IFERROR(15000*ASTM(0.55*AY46+0.45*AZ46,3),0))+$N$55*(IFERROR(15000*ASTM(0.55*AY94+0.45*AZ94,3),0))+$N$103*(IFERROR(15000*ASTM(0.55*AY142+0.45*AZ142,3),0)))/($N$7+$N$55+$N$103)) ) / 50,0 ) * 50)","v":{"$error":"#N/A"}},null,null,null,null,null,null,{"$error":"#N/A"},null,null,null,19,null,null,null,null,null,null,null,null,{"$f":"IF(ISBLANK(R29),\"\",IF(OR($J$6=\"HD 2b/3\",COUNT(R29:W29)<>6,$AA$47<>\"Yes\",$AA$49<>\"Yes\"),NA(),IF(ASTM(W29,0)=0,0,ASTM((51740000*$T$46*$T$47)/((($T$46*U29)+(0.429*V29)+(0.273*W29))*((0.6*$T$47*$T$48)+5471)),1))))","v":""},{"$f":"IF(ISBLANK(R29),\"\",IF(OR(AND($J$6<>\"HD 2b/3\",COUNT(R29:W29)<>6),AND($J$6=\"HD 2b/3\",COUNT(R29)+COUNT(W29)<>2),$AA$47<>\"Yes\",$AA$49<>\"Yes\"),NA(),IF(ASTM(W29,0)=0,0,IF($J$6=\"HD 2b/3\",W29,ASTM((($T$46/0.273)*U29)+(1.571*V29)+W29,0)))))","v":""},null,19,null,null,null,null,null,null,null,null,{"$f":"IF(ISBLANK(AD29),\"\",IF(OR($J$6=\"HD 2b/3\",COUNT(AD29:AI29)<>6,$AM$47<>\"Yes\",$AM$49<>\"Yes\"),NA(),IF(ASTM(AI29,0)=0,0,ASTM((51740000*$AF$46*$AF$47)/((($AF$46*AG29)+(0.429*AH29)+(0.273*AI29))*((0.6*$AF$47*$AF$48)+5471)),1))))","v":""},{"$f":"IF(ISBLANK(AD29),\"\",IF(OR(AND($J$6<>\"HD 2b/3\",COUNT(AD29:AI29)<>6),AND($J$6=\"HD 2b/3\",COUNT(AD29)+COUNT(AI29)<>2),$AM$47<>\"Yes\",$AM$49<>\"Yes\"),NA(),IF(ASTM(AI29,0)=0,0,IF($J$6=\"HD 2b/3\",AI29,ASTM((($AF$46/0.273)*AG29)+(1.571*AH29)+AI29,0)))))","v":""},null,null,null,"HOV Lane Values","City","Highway","Combined",null,null,null,"UTILITY FACTORS & OTHER METRICS","CITY","HIGHWAY",null,null,null,19,{"$f":"IF(ISBLANK(R29),\"\",IF(COUNT(R29:AA29)<>10,NA(),IF(ASTM(W29,0)=0,0,IFERROR(ASTM(R29,3)/ASTM(Z29,1),0))))","v":""},{"$f":"IF(ISBLANK(R29),\"\",IF(COUNT(R29:AA29)<>10,NA(),IF(W29=0,0,ASTM(ASTM(W29,0)*ASTM(R29,3),0))))","v":""},{"$f":"IF(ISBLANK(R29),\"\",IF(COUNT(R29:AA29)<>10,NA(),ASTM(S29,3)-ASTM(S28,3)))","v":""},{"$f":"IF(ISBLANK(R29),\"\",IF(COUNT(R29:AA29)<>10,NA(),ASTM(BG29*ASTM(T29,2),1)))","v":""},{"$f":"IF(ISBLANK(R29),\"\",IF(COUNT(R29:AA29)<>10,NA(),ASTM(ASTM($Y$46,4)*1000*(BH29/$AY$13),1)))","v":""},"",{"$f":"IF(ISBLANK(R29),\"\",IF(COUNT(R29:AA29)<>10,NA(),BI29/(33705*ASTM(R29,3))))","v":""},"",{"$f":"IF(ISBLANK(R29),\"\",IFERROR(ASTM(cityfuf(BJ29)-cityfuf(BJ28),3),\"\"))","v":""},{"$f":"IF(ISBLANK(R29),\"\",IF(OR(ISNUMBER(R29)=FALSE,ISNUMBER(AA29)=FALSE),NA(),IF(ASTM(W29,0)=0,0,BM29*ASTM(AA29,0))))","v":""},"",{"$f":"IF(ISBLANK(R29),\"\",IF(COUNT(R29:AA29)<>10,NA(),BL29*ASTM(R29,3)))","v":""},"",{"$f":"IF(ISBLANK(R29),\"\",IF(COUNT(R29:AA29)<>10,NA(),BQ29*ASTM(R29,3)))","v":""},"",{"$f":"IF(ISBLANK(R29),\"\",IF(COUNT(R29:AA29)<>10,NA(),ASTM(mdiuf(BS29),3)-ASTM(mdiuf(BS28),3)))","v":""},{"$f":"IF(ISBLANK(R29),\"\",IF(COUNT(R29:AA29)<>10,NA(),IF(ASTM(W29,0)=0,0,BT29*ASTM(W29,0)/(BQ29))))","v":""},"",{"$f":"IF(ISBLANK(R29),\"\",IF(COUNT(R29:AA29)<>10,NA(),ASTM(cityfufalt(BS29)-cityfufalt(BS28),3)))","v":""},"",{"$f":"IF(ISBLANK(R29),\"\",IF(COUNT(R29:AA29)<>10,NA(),IF(ASTM(W29,0)=0,0,BW29*ASTM(AA29,0)/(BQ29))))","v":""},null,19,{"$f":"IF(ISBLANK(AD29),\"\",IF(COUNT(AD29:AM29)<>10,NA(),IF(ASTM(AI29,0)=0,0,ASTM(AD29,3)/ASTM(AL29,1))))","v":""},{"$f":"IF(ISBLANK(AD29),\"\",IF(COUNT(AD29:AM29)<>10,NA(),IF(ASTM(AI29,0)=0,0,ASTM(ASTM(AI29,0)*ASTM(AD29,3),0))))","v":""},{"$f":"IF(ISBLANK(AD29),\"\",IF(COUNT(AD29:AM29)<>10,NA(),ASTM(AE29,3)-ASTM(AE28,3)))","v":""},{"$f":"IF(ISBLANK(AD29),\"\",IF(COUNT(AD29:AM29)<>10,NA(),ASTM(CD29*ASTM(AF29,2),1)))","v":""},{"$f":"IF(ISBLANK(AD29),\"\",IF(COUNT(AD29:AM29)<>10,NA(),ASTM(ASTM($AK$46,4)*1000*(CE29/$AZ$13),1)))","v":""},"",{"$f":"IF(ISBLANK(AD29),\"\",IF(COUNT(AD29:AM29)<>10,NA(),CF29/(33705*ASTM(AD29,3))))","v":""},"",{"$f":"IF(ISBLANK(AD29),\"\",ASTM(highwayfuf(CG29)-highwayfuf(CG28),3))","v":""},{"$f":"IF(ISBLANK(AD29),\"\",IF(OR(ISNUMBER(AD29)=FALSE,ISNUMBER(AM29)=FALSE),NA(),IF(ASTM(AI29,0)=0,0,CJ29*ASTM(AM29,0))))","v":""},"",{"$f":"IF(ISBLANK(AD29),\"\",IF(COUNT(AD29:AM29)<>10,NA(),CI29*ASTM(AD29,3)))","v":""},"",{"$f":"IF(ISBLANK(AD29),\"\",IF(COUNT(AD29:AM29)<>10,NA(),CN29*ASTM(AD29,3)))","v":""},"",{"$f":"IF(ISBLANK(AD29),\"\",IF(COUNT(AD29:AM29)<>10,NA(),ASTM(mdiuf(CP29)-mdiuf(CP28),3)))","v":""},{"$f":"IF(ISBLANK(AD29),\"\",IF(COUNT(AD29:AM29)<>10,NA(),IF(ASTM(AI29,0)=0,0,CQ29*ASTM(AI29,0)/(CN29))))","v":""},"",{"$f":"IF(ISBLANK(AD29),\"\",IF(COUNT(AD29:AM29)<>10,NA(),ASTM(highwayfufalt(CP29)-highwayfufalt(CP28),3)))","v":""},"",{"$f":"IF(ISBLANK(AD29),\"\",IF(COUNT(AD29:AM29)<>10,NA(),IF(ASTM(AI29,0)=0,0,CT29*ASTM(AM29,0)/(CN29))))","v":""}]
[null,null,"5-Year Fuel Savings Value ($/5 years)",null,{"$f":"IF($J$6=\"HD 2b/3\",NA(),\"You \" & IF(($F$38-5*F29)>=0, \"SAVE:\", \"SPEND:\"))","v":{"$error":"#N/A"}},{"$f":"IF($J$6=\"HD 2b/3\",NA(),ABS($F$38-5*F29))","v":{"$error":"#N/A"}},null,null,null,null,null,null,{"$error":"#N/A"},null,null,null,20,null,null,null,null,null,null,null,null,{"$f":"IF(ISBLANK(R30),\"\",IF(OR($J$6=\"HD 2b/3\",COUNT(R30:W30)<>6,$AA$47<>\"Yes\",$AA$49<>\"Yes\"),NA(),IF(ASTM(W30,0)=0,0,ASTM((51740000*$T$46*$T$47)/((($T$46*U30)+(0.429*V30)+(0.273*W30))*((0.6*$T$47*$T$48)+5471)),1))))","v":""},{"$f":"IF(ISBLANK(R30),\"\",IF(OR(AND($J$6<>\"HD 2b/3\",COUNT(R30:W30)<>6),AND($J$6=\"HD 2b/3\",COUNT(R30)+COUNT(W30)<>2),$AA$47<>\"Yes\",$AA$49<>\"Yes\"),NA(),IF(ASTM(W30,0)=0,0,IF($J$6=\"HD 2b/3\",W30,ASTM((($T$46/0.273)*U30)+(1.571*V30)+W30,0)))))","v":""},null,20,null,null,null,null,null,null,null,null,{"$f":"IF(ISBLANK(AD30),\"\",IF(OR($J$6=\"HD 2b/3\",COUNT(AD30:AI30)<>6,$AM$47<>\"Yes\",$AM$49<>\"Yes\"),NA(),IF(ASTM(AI30,0)=0,0,ASTM((51740000*$AF$46*$AF$47)/((($AF$46*AG30)+(0.429*AH30)+(0.273*AI30))*((0.6*$AF$47*$AF$48)+5471)),1))))","v":""},{"$f":"IF(ISBLANK(AD30),\"\",IF(OR(AND($J$6<>\"HD 2b/3\",COUNT(AD30:AI30)<>6),AND($J$6=\"HD 2b/3\",COUNT(AD30)+COUNT(AI30)<>2),$AM$47<>\"Yes\",$AM$49<>\"Yes\"),NA(),IF(ASTM(AI30,0)=0,0,IF($J$6=\"HD 2b/3\",AI30,ASTM((($AF$46/0.273)*AG30)+(1.571*AH30)+AI30,0)))))","v":""},null,null,null,"MDIUF based on unadjusted Rcda [3]",{"$f":"IF($J$6=\"HD 2b/3\",NA(),IFERROR(ASTM(mdiuf(AY6),3),0))","v":{"$error":"#N/A"}},{"$f":"IF($J$6=\"HD 2b/3\",NA(),IFERROR(ASTM(mdiuf(AZ6),3),0))","v":{"$error":"#N/A"}},null,null,null,null,"CD 55/45 Fleet Utility Factor (FUF) for Rcdc [3]",{"$f":"ASTM(SUMIF(BD11:BD45,\"<=\"&AY34,BM11:BM45),3)","v":0.875},{"$f":"ASTM(SUMIF(CA11:CA45,\"<=\"&AZ34,CJ11:CJ45),3)","v":0.51600000000000001},null,null,null,20,{"$f":"IF(ISBLANK(R30),\"\",IF(COUNT(R30:AA30)<>10,NA(),IF(ASTM(W30,0)=0,0,IFERROR(ASTM(R30,3)/ASTM(Z30,1),0))))","v":""},{"$f":"IF(ISBLANK(R30),\"\",IF(COUNT(R30:AA30)<>10,NA(),IF(W30=0,0,ASTM(ASTM(W30,0)*ASTM(R30,3),0))))","v":""},{"$f":"IF(ISBLANK(R30),\"\",IF(COUNT(R30:AA30)<>10,NA(),ASTM(S30,3)-ASTM(S29,3)))","v":""},{"$f":"IF(ISBLANK(R30),\"\",IF(COUNT(R30:AA30)<>10,NA(),ASTM(BG30*ASTM(T30,2),1)))","v":""},{"$f":"IF(ISBLANK(R30),\"\",IF(COUNT(R30:AA30)<>10,NA(),ASTM(ASTM($Y$46,4)*1000*(BH30/$AY$13),1)))","v":""},"",{"$f":"IF(ISBLANK(R30),\"\",IF(COUNT(R30:AA30)<>10,NA(),BI30/(33705*ASTM(R30,3))))","v":""},"",{"$f":"IF(ISBLANK(R30),\"\",IFERROR(ASTM(cityfuf(BJ30)-cityfuf(BJ29),3),\"\"))","v":""},{"$f":"IF(ISBLANK(R30),\"\",IF(OR(ISNUMBER(R30)=FALSE,ISNUMBER(AA30)=FALSE),NA(),IF(ASTM(W30,0)=0,0,BM30*ASTM(AA30,0))))","v":""},"",{"$f":"IF(ISBLANK(R30),\"\",IF(COUNT(R30:AA30)<>10,NA(),BL30*ASTM(R30,3)))","v":""},"",{"$f":"IF(ISBLANK(R30),\"\",IF(COUNT(R30:AA30)<>10,NA(),BQ30*ASTM(R30,3)))","v":""},"",{"$f":"IF(ISBLANK(R30),\"\",IF(COUNT(R30:AA30)<>10,NA(),ASTM(mdiuf(BS30),3)-ASTM(mdiuf(BS29),3)))","v":""},{"$f":"IF(ISBLANK(R30),\"\",IF(COUNT(R30:AA30)<>10,NA(),IF(ASTM(W30,0)=0,0,BT30*ASTM(W30,0)/(BQ30))))","v":""},"",{"$f":"IF(ISBLANK(R30),\"\",IF(COUNT(R30:AA30)<>10,NA(),ASTM(cityfufalt(BS30)-cityfufalt(BS29),3)))","v":""},"",{"$f":"IF(ISBLANK(R30),\"\",IF(COUNT(R30:AA30)<>10,NA(),IF(ASTM(W30,0)=0,0,BW30*ASTM(AA30,0)/(BQ30))))","v":""},null,20,{"$f":"IF(ISBLANK(AD30),\"\",IF(COUNT(AD30:AM30)<>10,NA(),IF(ASTM(AI30,0)=0,0,ASTM(AD30,3)/ASTM(AL30,1))))","v":""},{"$f":"IF(ISBLANK(AD30),\"\",IF(COUNT(AD30:AM30)<>10,NA(),IF(ASTM(AI30,0)=0,0,ASTM(ASTM(AI30,0)*ASTM(AD30,3),0))))","v":""},{"$f":"IF(ISBLANK(AD30),\"\",IF(COUNT(AD30:AM30)<>10,NA(),ASTM(AE30,3)-ASTM(AE29,3)))","v":""},{"$f":"IF(ISBLANK(AD30),\"\",IF(COUNT(AD30:AM30)<>10,NA(),ASTM(CD30*ASTM(AF30,2),1)))","v":""},{"$f":"IF(ISBLANK(AD30),\"\",IF(COUNT(AD30:AM30)<>10,NA(),ASTM(ASTM($AK$46,4)*1000*(CE30/$AZ$13),1)))","v":""},"",{"$f":"IF(ISBLANK(AD30),\"\",IF(COUNT(AD30:AM30)<>10,NA(),CF30/(33705*ASTM(AD30,3))))","v":""},"",{"$f":"IF(ISBLANK(AD30),\"\",ASTM(highwayfuf(CG30)-highwayfuf(CG29),3))","v":""},{"$f":"IF(ISBLANK(AD30),\"\",IF(OR(ISNUMBER(AD30)=FALSE,ISNUMBER(AM30)=FALSE),NA(),IF(ASTM(AI30,0)=0,0,CJ30*ASTM(AM30,0))))","v":""},"",{"$f":"IF(ISBLANK(AD30),\"\",IF(COUNT(AD30:AM30)<>10,NA(),CI30*ASTM(AD30,3)))","v":""},"",{"$f":"IF(ISBLANK(AD30),\"\",IF(COUNT(AD30:AM30)<>10,NA(),CN30*ASTM(AD30,3)))","v":""},"",{"$f":"IF(ISBLANK(AD30),\"\",IF(COUNT(AD30:AM30)<>10,NA(),ASTM(mdiuf(CP30)-mdiuf(CP29),3)))","v":""},{"$f":"IF(ISBLANK(AD30),\"\",IF(COUNT(AD30:AM30)<>10,NA(),IF(ASTM(AI30,0)=0,0,CQ30*ASTM(AI30,0)/(CN30))))","v":""},"",{"$f":"IF(ISBLANK(AD30),\"\",IF(COUNT(AD30:AM30)<>10,NA(),ASTM(highwayfufalt(CP30)-highwayfufalt(CP29),3)))","v":""},"",{"$f":"IF(ISBLANK(AD30),\"\",IF(COUNT(AD30:AM30)<>10,NA(),IF(ASTM(AI30,0)=0,0,CT30*ASTM(AM30,0)/(CN30))))","v":""}]
[null,null,"Composite CO2 (g/mi)",{"$f":"IF($J$6=\"HD 2b/3\",NA(),_xlfn.SINGLE(ASTM(IF($N$7+$N$55+$N$103=0,SUM(IFERROR(AY48,0),IFERROR(AY96,0),IFERROR(AY144,0)) / ((AY48<>0)+(AY96<>0)+(AY144<>0)),($N$7*AY48+$N$55*AY96+$N$103*AY144)/($N$7+$N$55+$N$103)),1)))","v":{"$error":"#N/A"}},{"$f":"IF($J$6=\"HD 2b/3\",NA(),ASTM(IF($N$7+$N$55+$N$103=0,SUM(IFERROR(AZ48,0),IFERROR(AZ96,0),IFERROR(AZ144,0)) / ((AZ48<>0)+(AZ96<>0)+(AZ144<>0)),($N$7*AZ48+$N$55*AZ96+$N$103*AZ144)/($N$7+$N$55+$N$103)),1))","v":{"$error":"#N/A"}},{"$f":"IF(OR(ISNUMBER(D31)=FALSE,ISNUMBER(E31)=FALSE),NA(),ASTM(0.55*D31+0.45*E31,0))","v":{"$error":"#N/A"}},null,null,null,null,null,null,{"$error":"#N/A"},null,null,null,21,null,null,null,null,null,null,null,null,{"$f":"IF(ISBLANK(R31),\"\",IF(OR($J$6=\"HD 2b/3\",COUNT(R31:W31)<>6,$AA$47<>\"Yes\",$AA$49<>\"Yes\"),NA(),IF(ASTM(W31,0)=0,0,ASTM((51740000*$T$46*$T$47)/((($T$46*U31)+(0.429*V31)+(0.273*W31))*((0.6*$T$47*$T$48)+5471)),1))))","v":""},{"$f":"IF(ISBLANK(R31),\"\",IF(OR(AND($J$6<>\"HD 2b/3\",COUNT(R31:W31)<>6),AND($J$6=\"HD 2b/3\",COUNT(R31)+COUNT(W31)<>2),$AA$47<>\"Yes\",$AA$49<>\"Yes\"),NA(),IF(ASTM(W31,0)=0,0,IF($J$6=\"HD 2b/3\",W31,ASTM((($T$46/0.273)*U31)+(1.571*V31)+W31,0)))))","v":""},null,21,null,null,null,null,null,null,null,null,{"$f":"IF(ISBLANK(AD31),\"\",IF(OR($J$6=\"HD 2b/3\",COUNT(AD31:AI31)<>6,$AM$47<>\"Yes\",$AM$49<>\"Yes\"),NA(),IF(ASTM(AI31,0)=0,0,ASTM((51740000*$AF$46*$AF$47)/((($AF$46*AG31)+(0.429*AH31)+(0.273*AI31))*((0.6*$AF$47*$AF$48)+5471)),1))))","v":""},{"$f":"IF(ISBLANK(AD31),\"\",IF(OR(AND($J$6<>\"HD 2b/3\",COUNT(AD31:AI31)<>6),AND($J$6=\"HD 2b/3\",COUNT(AD31)+COUNT(AI31)<>2),$AM$47<>\"Yes\",$AM$49<>\"Yes\"),NA(),IF(ASTM(AI31,0)=0,0,IF($J$6=\"HD 2b/3\",AI31,ASTM((($AF$46/0.273)*AG31)+(1.571*AH31)+AI31,0)))))","v":""},null,null,null,"Composite CD/CS Fuel Economy (MPGe) [4]",{"$f":"IF($J$6=\"HD 2b/3\",NA(),IFERROR(ASTM(1/(AR30/(AY6/AY14)+(1-AR30)/N11),4),0))","v":{"$error":"#N/A"}},{"$f":"IF($J$6=\"HD 2b/3\",NA(),IFERROR(ASTM(1/(AS30/(AZ6/AZ14)+(1-AS30)/O11),4),0))","v":{"$error":"#N/A"}},{"$f":"IF($J$6=\"HD 2b/3\",NA(),IFERROR(ASTM(1/(0.55/AR31+0.45/AS31),4),0))","v":{"$error":"#N/A"}},null,null,null,"MDIUF based on adjusted Rcda [3]",{"$f":"IF($J$6=\"HD 2b/3\",NA(),ASTM(mdiuf(AY7),3))","v":{"$error":"#N/A"}},{"$f":"IF($J$6=\"HD 2b/3\",NA(),ASTM(mdiuf(AZ7),3))","v":{"$error":"#N/A"}},null,null,null,21,{"$f":"IF(ISBLANK(R31),\"\",IF(COUNT(R31:AA31)<>10,NA(),IF(ASTM(W31,0)=0,0,IFERROR(ASTM(R31,3)/ASTM(Z31,1),0))))","v":""},{"$f":"IF(ISBLANK(R31),\"\",IF(COUNT(R31:AA31)<>10,NA(),IF(W31=0,0,ASTM(ASTM(W31,0)*ASTM(R31,3),0))))","v":""},{"$f":"IF(ISBLANK(R31),\"\",IF(COUNT(R31:AA31)<>10,NA(),ASTM(S31,3)-ASTM(S30,3)))","v":""},{"$f":"IF(ISBLANK(R31),\"\",IF(COUNT(R31:AA31)<>10,NA(),ASTM(BG31*ASTM(T31,2),1)))","v":""},{"$f":"IF(ISBLANK(R31),\"\",IF(COUNT(R31:AA31)<>10,NA(),ASTM(ASTM($Y$46,4)*1000*(BH31/$AY$13),1)))","v":""},"",{"$f":"IF(ISBLANK(R31),\"\",IF(COUNT(R31:AA31)<>10,NA(),BI31/(33705*ASTM(R31,3))))","v":""},"",{"$f":"IF(ISBLANK(R31),\"\",IFERROR(ASTM(cityfuf(BJ31)-cityfuf(BJ30),3),\"\"))","v":""},{"$f":"IF(ISBLANK(R31),\"\",IF(OR(ISNUMBER(R31)=FALSE,ISNUMBER(AA31)=FALSE),NA(),IF(ASTM(W31,0)=0,0,BM31*ASTM(AA31,0))))","v":""},"",{"$f":"IF(ISBLANK(R31),\"\",IF(COUNT(R31:AA31)<>10,NA(),BL31*ASTM(R31,3)))","v":""},"",{"$f":"IF(ISBLANK(R31),\"\",IF(COUNT(R31:AA31)<>10,NA(),BQ31*ASTM(R31,3)))","v":""},"",{"$f":"IF(ISBLANK(R31),\"\",IF(COUNT(R31:AA31)<>10,NA(),ASTM(mdiuf(BS31),3)-ASTM(mdiuf(BS30),3)))","v":""},{"$f":"IF(ISBLANK(R31),\"\",IF(COUNT(R31:AA31)<>10,NA(),IF(ASTM(W31,0)=0,0,BT31*ASTM(W31,0)/(BQ31))))","v":""},"",{"$f":"IF(ISBLANK(R31),\"\",IF(COUNT(R31:AA31)<>10,NA(),ASTM(cityfufalt(BS31)-cityfufalt(BS30),3)))","v":""},"",{"$f":"IF(ISBLANK(R31),\"\",IF(COUNT(R31:AA31)<>10,NA(),IF(ASTM(W31,0)=0,0,BW31*ASTM(AA31,0)/(BQ31))))","v":""},null,21,{"$f":"IF(ISBLANK(AD31),\"\",IF(COUNT(AD31:AM31)<>10,NA(),IF(ASTM(AI31,0)=0,0,ASTM(AD31,3)/ASTM(AL31,1))))","v":""},{"$f":"IF(ISBLANK(AD31),\"\",IF(COUNT(AD31:AM31)<>10,NA(),IF(ASTM(AI31,0)=0,0,ASTM(ASTM(AI31,0)*ASTM(AD31,3),0))))","v":""},{"$f":"IF(ISBLANK(AD31),\"\",IF(COUNT(AD31:AM31)<>10,NA(),ASTM(AE31,3)-ASTM(AE30,3)))","v":""},{"$f":"IF(ISBLANK(AD31),\"\",IF(COUNT(AD31:AM31)<>10,NA(),ASTM(CD31*ASTM(AF31,2),1)))","v":""},{"$f":"IF(ISBLANK(AD31),\"\",IF(COUNT(AD31:AM31)<>10,NA(),ASTM(ASTM($AK$46,4)*1000*(CE31/$AZ$13),1)))","v":""},"",{"$f":"IF(ISBLANK(AD31),\"\",IF(COUNT(AD31:AM31)<>10,NA(),CF31/(33705*ASTM(AD31,3))))","v":""},"",{"$f":"IF(ISBLANK(AD31),\"\",ASTM(highwayfuf(CG31)-highwayfuf(CG30),3))","v":""},{"$f":"IF(ISBLANK(AD31),\"\",IF(OR(ISNUMBER(AD31)=FALSE,ISNUMBER(AM31)=FALSE),NA(),IF(ASTM(AI31,0)=0,0,CJ31*ASTM(AM31,0))))","v":""},"",{"$f":"IF(ISBLANK(AD31),\"\",IF(COUNT(AD31:AM31)<>10,NA(),CI31*ASTM(AD31,3)))","v":""},"",{"$f":"IF(ISBLANK(AD31),\"\",IF(COUNT(AD31:AM31)<>10,NA(),CN31*ASTM(AD31,3)))","v":""},"",{"$f":"IF(ISBLANK(AD31),\"\",IF(COUNT(AD31:AM31)<>10,NA(),ASTM(mdiuf(CP31)-mdiuf(CP30),3)))","v":""},{"$f":"IF(ISBLANK(AD31),\"\",IF(COUNT(AD31:AM31)<>10,NA(),IF(ASTM(AI31,0)=0,0,CQ31*ASTM(AI31,0)/(CN31))))","v":""},"",{"$f":"IF(ISBLANK(AD31),\"\",IF(COUNT(AD31:AM31)<>10,NA(),ASTM(highwayfufalt(CP31)-highwayfufalt(CP30),3)))","v":""},"",{"$f":"IF(ISBLANK(AD31),\"\",IF(COUNT(AD31:AM31)<>10,NA(),IF(ASTM(AI31,0)=0,0,CT31*ASTM(AM31,0)/(CN31))))","v":""}]
[null,null,"Composite Fuel Economy (MPG)",{"$f":"IF($J$6=\"HD 2b/3\",NA(),IF($N$7+$N$55+$N$103=0,    ((AY49<>0)+(AY97<>0)+(AY145<>0))/(IFERROR(1/AY49,0)+IFERROR(1/AY97,0)+IFERROR(1/AY145,0)),    ($N$7+$N$55+$N$103) / (IFERROR($N$7/AY49,0)+IFERROR($N$55/AY97,0)+IFERROR($N$103/AY145,0))  ))","v":{"$error":"#N/A"}},{"$f":"IF($J$6=\"HD 2b/3\",NA(),IF($N$7+$N$55+$N$103=0,    ((AZ49<>0)+(AZ97<>0)+(AZ145<>0))/(IFERROR(1/AZ49,0)+IFERROR(1/AZ97,0)+IFERROR(1/AZ145,0)),    ($N$7+$N$55+$N$103) / (IFERROR($N$7/AZ49,0)+IFERROR($N$55/AZ97,0)+IFERROR($N$103/AZ145,0))  ))","v":{"$error":"#N/A"}},{"$f":"IF(OR(ISNUMBER(D32)=FALSE,ISNUMBER(E32)=FALSE),NA(),ASTM(1/(0.55/D32+0.45/E32),0))","v":{"$error":"#N/A"}},null,null,null,null,null,null,{"$error":"#N/A"},null,null,null,22,null,null,null,null,null,null,null,null,{"$f":"IF(ISBLANK(R32),\"\",IF(OR($J$6=\"HD 2b/3\",COUNT(R32:W32)<>6,$AA$47<>\"Yes\",$AA$49<>\"Yes\"),NA(),IF(ASTM(W32,0)=0,0,ASTM((51740000*$T$46*$T$47)/((($T$46*U32)+(0.429*V32)+(0.273*W32))*((0.6*$T$47*$T$48)+5471)),1))))","v":""},{"$f":"IF(ISBLANK(R32),\"\",IF(OR(AND($J$6<>\"HD 2b/3\",COUNT(R32:W32)<>6),AND($J$6=\"HD 2b/3\",COUNT(R32)+COUNT(W32)<>2),$AA$47<>\"Yes\",$AA$49<>\"Yes\"),NA(),IF(ASTM(W32,0)=0,0,IF($J$6=\"HD 2b/3\",W32,ASTM((($T$46/0.273)*U32)+(1.571*V32)+W32,0)))))","v":""},null,22,null,null,null,null,null,null,null,null,{"$f":"IF(ISBLANK(AD32),\"\",IF(OR($J$6=\"HD 2b/3\",COUNT(AD32:AI32)<>6,$AM$47<>\"Yes\",$AM$49<>\"Yes\"),NA(),IF(ASTM(AI32,0)=0,0,ASTM((51740000*$AF$46*$AF$47)/((($AF$46*AG32)+(0.429*AH32)+(0.273*AI32))*((0.6*$AF$47*$AF$48)+5471)),1))))","v":""},{"$f":"IF(ISBLANK(AD32),\"\",IF(OR(AND($J$6<>\"HD 2b/3\",COUNT(AD32:AI32)<>6),AND($J$6=\"HD 2b/3\",COUNT(AD32)+COUNT(AI32)<>2),$AM$47<>\"Yes\",$AM$49<>\"Yes\"),NA(),IF(ASTM(AI32,0)=0,0,IF($J$6=\"HD 2b/3\",AI32,ASTM((($AF$46/0.273)*AG32)+(1.571*AH32)+AI32,0)))))","v":""},null,null,null,"Trends Report Values","City","Highway","Combined",null,null,null,"MDIUF based on adjusted Rcdc [3]",{"$f":"IF($J$6=\"HD 2b/3\",NA(),ASTM(SUMIF(BD11:BD45,\"<=\" & AY34,BT11:BT45),3))","v":{"$error":"#N/A"}},{"$f":"IF($J$6=\"HD 2b/3\",NA(),ASTM(SUMIF(CA11:CA45,\"<=\" & AZ34,CQ11:CQ45),3))","v":{"$error":"#N/A"}},null,null,null,22,{"$f":"IF(ISBLANK(R32),\"\",IF(COUNT(R32:AA32)<>10,NA(),IF(ASTM(W32,0)=0,0,IFERROR(ASTM(R32,3)/ASTM(Z32,1),0))))","v":""},{"$f":"IF(ISBLANK(R32),\"\",IF(COUNT(R32:AA32)<>10,NA(),IF(W32=0,0,ASTM(ASTM(W32,0)*ASTM(R32,3),0))))","v":""},{"$f":"IF(ISBLANK(R32),\"\",IF(COUNT(R32:AA32)<>10,NA(),ASTM(S32,3)-ASTM(S31,3)))","v":""},{"$f":"IF(ISBLANK(R32),\"\",IF(COUNT(R32:AA32)<>10,NA(),ASTM(BG32*ASTM(T32,2),1)))","v":""},{"$f":"IF(ISBLANK(R32),\"\",IF(COUNT(R32:AA32)<>10,NA(),ASTM(ASTM($Y$46,4)*1000*(BH32/$AY$13),1)))","v":""},"",{"$f":"IF(ISBLANK(R32),\"\",IF(COUNT(R32:AA32)<>10,NA(),BI32/(33705*ASTM(R32,3))))","v":""},"",{"$f":"IF(ISBLANK(R32),\"\",IFERROR(ASTM(cityfuf(BJ32)-cityfuf(BJ31),3),\"\"))","v":""},{"$f":"IF(ISBLANK(R32),\"\",IF(OR(ISNUMBER(R32)=FALSE,ISNUMBER(AA32)=FALSE),NA(),IF(ASTM(W32,0)=0,0,BM32*ASTM(AA32,0))))","v":""},"",{"$f":"IF(ISBLANK(R32),\"\",IF(COUNT(R32:AA32)<>10,NA(),BL32*ASTM(R32,3)))","v":""},"",{"$f":"IF(ISBLANK(R32),\"\",IF(COUNT(R32:AA32)<>10,NA(),BQ32*ASTM(R32,3)))","v":""},"",{"$f":"IF(ISBLANK(R32),\"\",IF(COUNT(R32:AA32)<>10,NA(),ASTM(mdiuf(BS32),3)-ASTM(mdiuf(BS31),3)))","v":""},{"$f":"IF(ISBLANK(R32),\"\",IF(COUNT(R32:AA32)<>10,NA(),IF(ASTM(W32,0)=0,0,BT32*ASTM(W32,0)/(BQ32))))","v":""},"",{"$f":"IF(ISBLANK(R32),\"\",IF(COUNT(R32:AA32)<>10,NA(),ASTM(cityfufalt(BS32)-cityfufalt(BS31),3)))","v":""},"",{"$f":"IF(ISBLANK(R32),\"\",IF(COUNT(R32:AA32)<>10,NA(),IF(ASTM(W32,0)=0,0,BW32*ASTM(AA32,0)/(BQ32))))","v":""},null,22,{"$f":"IF(ISBLANK(AD32),\"\",IF(COUNT(AD32:AM32)<>10,NA(),IF(ASTM(AI32,0)=0,0,ASTM(AD32,3)/ASTM(AL32,1))))","v":""},{"$f":"IF(ISBLANK(AD32),\"\",IF(COUNT(AD32:AM32)<>10,NA(),IF(ASTM(AI32,0)=0,0,ASTM(ASTM(AI32,0)*ASTM(AD32,3),0))))","v":""},{"$f":"IF(ISBLANK(AD32),\"\",IF(COUNT(AD32:AM32)<>10,NA(),ASTM(AE32,3)-ASTM(AE31,3)))","v":""},{"$f":"IF(ISBLANK(AD32),\"\",IF(COUNT(AD32:AM32)<>10,NA(),ASTM(CD32*ASTM(AF32,2),1)))","v":""},{"$f":"IF(ISBLANK(AD32),\"\",IF(COUNT(AD32:AM32)<>10,NA(),ASTM(ASTM($AK$46,4)*1000*(CE32/$AZ$13),1)))","v":""},"",{"$f":"IF(ISBLANK(AD32),\"\",IF(COUNT(AD32:AM32)<>10,NA(),CF32/(33705*ASTM(AD32,3))))","v":""},"",{"$f":"IF(ISBLANK(AD32),\"\",ASTM(highwayfuf(CG32)-highwayfuf(CG31),3))","v":""},{"$f":"IF(ISBLANK(AD32),\"\",IF(OR(ISNUMBER(AD32)=FALSE,ISNUMBER(AM32)=FALSE),NA(),IF(ASTM(AI32,0)=0,0,CJ32*ASTM(AM32,0))))","v":""},"",{"$f":"IF(ISBLANK(AD32),\"\",IF(COUNT(AD32:AM32)<>10,NA(),CI32*ASTM(AD32,3)))","v":""},"",{"$f":"IF(ISBLANK(AD32),\"\",IF(COUNT(AD32:AM32)<>10,NA(),CN32*ASTM(AD32,3)))","v":""},"",{"$f":"IF(ISBLANK(AD32),\"\",IF(COUNT(AD32:AM32)<>10,NA(),ASTM(mdiuf(CP32)-mdiuf(CP31),3)))","v":""},{"$f":"IF(ISBLANK(AD32),\"\",IF(COUNT(AD32:AM32)<>10,NA(),IF(ASTM(AI32,0)=0,0,CQ32*ASTM(AI32,0)/(CN32))))","v":""},"",{"$f":"IF(ISBLANK(AD32),\"\",IF(COUNT(AD32:AM32)<>10,NA(),ASTM(highwayfufalt(CP32)-highwayfufalt(CP31),3)))","v":""},"",{"$f":"IF(ISBLANK(AD32),\"\",IF(COUNT(AD32:AM32)<>10,NA(),IF(ASTM(AI32,0)=0,0,CT32*ASTM(AM32,0)/(CN32))))","v":""}]
[null,null,"MPG Rating (on scale of 1-10)",null,null,{"$f":"INDEX('Label Inputs'!$W$5:$Z$104, MATCH(1,('Label Inputs'!$W$5:$W$104=$J$5)*('Label Inputs'!$Y$5:$Y$104>=$F$32),0),4)","v":{"$error":"#N/A"}},null,null,null,null,null,null,null,null,null,null,23,null,null,null,null,null,null,null,null,{"$f":"IF(ISBLANK(R33),\"\",IF(OR($J$6=\"HD 2b/3\",COUNT(R33:W33)<>6,$AA$47<>\"Yes\",$AA$49<>\"Yes\"),NA(),IF(ASTM(W33,0)=0,0,ASTM((51740000*$T$46*$T$47)/((($T$46*U33)+(0.429*V33)+(0.273*W33))*((0.6*$T$47*$T$48)+5471)),1))))","v":""},{"$f":"IF(ISBLANK(R33),\"\",IF(OR(AND($J$6<>\"HD 2b/3\",COUNT(R33:W33)<>6),AND($J$6=\"HD 2b/3\",COUNT(R33)+COUNT(W33)<>2),$AA$47<>\"Yes\",$AA$49<>\"Yes\"),NA(),IF(ASTM(W33,0)=0,0,IF($J$6=\"HD 2b/3\",W33,ASTM((($T$46/0.273)*U33)+(1.571*V33)+W33,0)))))","v":""},null,23,null,null,null,null,null,null,null,null,{"$f":"IF(ISBLANK(AD33),\"\",IF(OR($J$6=\"HD 2b/3\",COUNT(AD33:AI33)<>6,$AM$47<>\"Yes\",$AM$49<>\"Yes\"),NA(),IF(ASTM(AI33,0)=0,0,ASTM((51740000*$AF$46*$AF$47)/((($AF$46*AG33)+(0.429*AH33)+(0.273*AI33))*((0.6*$AF$47*$AF$48)+5471)),1))))","v":""},{"$f":"IF(ISBLANK(AD33),\"\",IF(OR(AND($J$6<>\"HD 2b/3\",COUNT(AD33:AI33)<>6),AND($J$6=\"HD 2b/3\",COUNT(AD33)+COUNT(AI33)<>2),$AM$47<>\"Yes\",$AM$49<>\"Yes\"),NA(),IF(ASTM(AI33,0)=0,0,IF($J$6=\"HD 2b/3\",AI33,ASTM((($AF$46/0.273)*AG33)+(1.571*AH33)+AI33,0)))))","v":""},null,null,null,"Fleet Utility Factor (43/57) [3]",{"$f":"IF($J$6=\"HD 2b/3\",NA(),ASTM(SUMIF(BD11:BD40,\"<=\"&AY34,BW11:BW40),3))","v":{"$error":"#N/A"}},{"$f":"IF($J$6=\"HD 2b/3\",NA(),ASTM(SUMIF(CA11:CA40,\"<=\"&AZ34,CT11:CT40),3))","v":{"$error":"#N/A"}},{"$f":"IF($J$6=\"HD 2b/3\",NA(),0.55*AR33+0.45*AS33)","v":{"$error":"#N/A"}},null,null,null,"Fraction of transition cycle that is charge-depleting operation (Zn) [3]",{"$f":"IF($J$6=\"HD 2b/3\",NA(),ASTM( IF((IF( SUMIF(BD11:BD45,\"=\" & ($AY34),BG11:BG45)/SUMIF(BD11:BD45,\"=\" & ($AY34-1),BG11:BG45)<0,0, SUMIF(BD11:BD45,\"=\" & ($AY34),BG11:BG45)/SUMIF(BD11:BD45,\"=\" & ($AY34-1),BG11:BG45)))<0,0, IF((IF( SUMIF(BD11:BD45,\"=\" & ($AY34),BG11:BG45)/SUMIF(BD11:BD45,\"=\" & ($AY34-1),BG11:BG45)<0,0, SUMIF(BD11:BD45,\"=\" & ($AY34),BG11:BG45)/SUMIF(BD11:BD45,\"=\" & ($AY34-1),BG11:BG45)))>1,1, (IF( SUMIF(BD11:BD45,\"=\" & ($AY34),BG11:BG45)/SUMIF(BD11:BD45,\"=\" & ($AY34-1),BG11:BG45)<0,0, SUMIF(BD11:BD45,\"=\" & ($AY34),BG11:BG45)/SUMIF(BD11:BD45,\"=\" & ($AY34-1),BG11:BG45))))), 3))","v":{"$error":"#N/A"}},{"$f":"IF($J$6=\"HD 2b/3\",NA(),ASTM( IF((IF( SUMIF(CA11:CA45,\"=\" & ($AZ34),CD11:CD45)/SUMIF(CA11:CA45,\"=\" & ($AZ34-1),CD11:CD45)<0,0, SUMIF(CA11:CA45,\"=\" & ($AZ34),CD11:CD45)/SUMIF(CA11:CA45,\"=\" & ($AZ34-1),CD11:CD45)))<0,0, IF((IF( SUMIF(CA11:CA45,\"=\" & ($AZ34),CD11:CD45)/SUMIF(CA11:CA45,\"=\" & ($AZ34-1),CD11:CD45)<0,0, SUMIF(CA11:CA45,\"=\" & ($AZ34),CD11:CD45)/SUMIF(CA11:CA45,\"=\" & ($AZ34-1),CD11:CD45)))>1,1, (IF( SUMIF(CA11:CA45,\"=\" & ($AZ34),CD11:CD45)/SUMIF(CA11:CA45,\"=\" & ($AZ34-1),CD11:CD45)<0,0, SUMIF(CA11:CA45,\"=\" & ($AZ34),CD11:CD45)/SUMIF(CA11:CA45,\"=\" & ($AZ34-1),CD11:CD45))))), 3))","v":{"$error":"#N/A"}},null,null,null,23,{"$f":"IF(ISBLANK(R33),\"\",IF(COUNT(R33:AA33)<>10,NA(),IF(ASTM(W33,0)=0,0,IFERROR(ASTM(R33,3)/ASTM(Z33,1),0))))","v":""},{"$f":"IF(ISBLANK(R33),\"\",IF(COUNT(R33:AA33)<>10,NA(),IF(W33=0,0,ASTM(ASTM(W33,0)*ASTM(R33,3),0))))","v":""},{"$f":"IF(ISBLANK(R33),\"\",IF(COUNT(R33:AA33)<>10,NA(),ASTM(S33,3)-ASTM(S32,3)))","v":""},{"$f":"IF(ISBLANK(R33),\"\",IF(COUNT(R33:AA33)<>10,NA(),ASTM(BG33*ASTM(T33,2),1)))","v":""},{"$f":"IF(ISBLANK(R33),\"\",IF(COUNT(R33:AA33)<>10,NA(),ASTM(ASTM($Y$46,4)*1000*(BH33/$AY$13),1)))","v":""},"",{"$f":"IF(ISBLANK(R33),\"\",IF(COUNT(R33:AA33)<>10,NA(),BI33/(33705*ASTM(R33,3))))","v":""},"",{"$f":"IF(ISBLANK(R33),\"\",IFERROR(ASTM(cityfuf(BJ33)-cityfuf(BJ32),3),\"\"))","v":""},{"$f":"IF(ISBLANK(R33),\"\",IF(OR(ISNUMBER(R33)=FALSE,ISNUMBER(AA33)=FALSE),NA(),IF(ASTM(W33,0)=0,0,BM33*ASTM(AA33,0))))","v":""},"",{"$f":"IF(ISBLANK(R33),\"\",IF(COUNT(R33:AA33)<>10,NA(),BL33*ASTM(R33,3)))","v":""},"",{"$f":"IF(ISBLANK(R33),\"\",IF(COUNT(R33:AA33)<>10,NA(),BQ33*ASTM(R33,3)))","v":""},"",{"$f":"IF(ISBLANK(R33),\"\",IF(COUNT(R33:AA33)<>10,NA(),ASTM(mdiuf(BS33),3)-ASTM(mdiuf(BS32),3)))","v":""},{"$f":"IF(ISBLANK(R33),\"\",IF(COUNT(R33:AA33)<>10,NA(),IF(ASTM(W33,0)=0,0,BT33*ASTM(W33,0)/(BQ33))))","v":""},"",{"$f":"IF(ISBLANK(R33),\"\",IF(COUNT(R33:AA33)<>10,NA(),ASTM(cityfufalt(BS33)-cityfufalt(BS32),3)))","v":""},"",{"$f":"IF(ISBLANK(R33),\"\",IF(COUNT(R33:AA33)<>10,NA(),IF(ASTM(W33,0)=0,0,BW33*ASTM(AA33,0)/(BQ33))))","v":""},null,23,{"$f":"IF(ISBLANK(AD33),\"\",IF(COUNT(AD33:AM33)<>10,NA(),IF(ASTM(AI33,0)=0,0,ASTM(AD33,3)/ASTM(AL33,1))))","v":""},{"$f":"IF(ISBLANK(AD33),\"\",IF(COUNT(AD33:AM33)<>10,NA(),IF(ASTM(AI33,0)=0,0,ASTM(ASTM(AI33,0)*ASTM(AD33,3),0))))","v":""},{"$f":"IF(ISBLANK(AD33),\"\",IF(COUNT(AD33:AM33)<>10,NA(),ASTM(AE33,3)-ASTM(AE32,3)))","v":""},{"$f":"IF(ISBLANK(AD33),\"\",IF(COUNT(AD33:AM33)<>10,NA(),ASTM(CD33*ASTM(AF33,2),1)))","v":""},{"$f":"IF(ISBLANK(AD33),\"\",IF(COUNT(AD33:AM33)<>10,NA(),ASTM(ASTM($AK$46,4)*1000*(CE33/$AZ$13),1)))","v":""},"",{"$f":"IF(ISBLANK(AD33),\"\",IF(COUNT(AD33:AM33)<>10,NA(),CF33/(33705*ASTM(AD33,3))))","v":""},"",{"$f":"IF(ISBLANK(AD33),\"\",ASTM(highwayfuf(CG33)-highwayfuf(CG32),3))","v":""},{"$f":"IF(ISBLANK(AD33),\"\",IF(OR(ISNUMBER(AD33)=FALSE,ISNUMBER(AM33)=FALSE),NA(),IF(ASTM(AI33,0)=0,0,CJ33*ASTM(AM33,0))))","v":""},"",{"$f":"IF(ISBLANK(AD33),\"\",IF(COUNT(AD33:AM33)<>10,NA(),CI33*ASTM(AD33,3)))","v":""},"",{"$f":"IF(ISBLANK(AD33),\"\",IF(COUNT(AD33:AM33)<>10,NA(),CN33*ASTM(AD33,3)))","v":""},"",{"$f":"IF(ISBLANK(AD33),\"\",IF(COUNT(AD33:AM33)<>10,NA(),ASTM(mdiuf(CP33)-mdiuf(CP32),3)))","v":""},{"$f":"IF(ISBLANK(AD33),\"\",IF(COUNT(AD33:AM33)<>10,NA(),IF(ASTM(AI33,0)=0,0,CQ33*ASTM(AI33,0)/(CN33))))","v":""},"",{"$f":"IF(ISBLANK(AD33),\"\",IF(COUNT(AD33:AM33)<>10,NA(),ASTM(highwayfufalt(CP33)-highwayfufalt(CP32),3)))","v":""},"",{"$f":"IF(ISBLANK(AD33),\"\",IF(COUNT(AD33:AM33)<>10,NA(),IF(ASTM(AI33,0)=0,0,CT33*ASTM(AM33,0)/(CN33))))","v":""}]
[null,null,"GHG Rating (on scale of 1-10)",null,null,{"$f":"INDEX('Label Inputs'!$AB$5:$AE$104, MATCH(1,('Label Inputs'!$AB$5:$AB$104=$J$5)*('Label Inputs'!$AC$5:$AC$104<=$F$31),0),4)","v":{"$error":"#N/A"}},null,null,null,null,null,null,null,null,null,null,24,null,null,null,null,null,null,null,null,{"$f":"IF(ISBLANK(R34),\"\",IF(OR($J$6=\"HD 2b/3\",COUNT(R34:W34)<>6,$AA$47<>\"Yes\",$AA$49<>\"Yes\"),NA(),IF(ASTM(W34,0)=0,0,ASTM((51740000*$T$46*$T$47)/((($T$46*U34)+(0.429*V34)+(0.273*W34))*((0.6*$T$47*$T$48)+5471)),1))))","v":""},{"$f":"IF(ISBLANK(R34),\"\",IF(OR(AND($J$6<>\"HD 2b/3\",COUNT(R34:W34)<>6),AND($J$6=\"HD 2b/3\",COUNT(R34)+COUNT(W34)<>2),$AA$47<>\"Yes\",$AA$49<>\"Yes\"),NA(),IF(ASTM(W34,0)=0,0,IF($J$6=\"HD 2b/3\",W34,ASTM((($T$46/0.273)*U34)+(1.571*V34)+W34,0)))))","v":""},null,24,null,null,null,null,null,null,null,null,{"$f":"IF(ISBLANK(AD34),\"\",IF(OR($J$6=\"HD 2b/3\",COUNT(AD34:AI34)<>6,$AM$47<>\"Yes\",$AM$49<>\"Yes\"),NA(),IF(ASTM(AI34,0)=0,0,ASTM((51740000*$AF$46*$AF$47)/((($AF$46*AG34)+(0.429*AH34)+(0.273*AI34))*((0.6*$AF$47*$AF$48)+5471)),1))))","v":""},{"$f":"IF(ISBLANK(AD34),\"\",IF(OR(AND($J$6<>\"HD 2b/3\",COUNT(AD34:AI34)<>6),AND($J$6=\"HD 2b/3\",COUNT(AD34)+COUNT(AI34)<>2),$AM$47<>\"Yes\",$AM$49<>\"Yes\"),NA(),IF(ASTM(AI34,0)=0,0,IF($J$6=\"HD 2b/3\",AI34,ASTM((($AF$46/0.273)*AG34)+(1.571*AH34)+AI34,0)))))","v":""},null,null,null,"Unadjusted Fuel Economy (MPG) [4]",{"$f":"IF($J$6=\"HD 2b/3\",NA(),AR9)","v":{"$error":"#N/A"}},{"$f":"IF($J$6=\"HD 2b/3\",NA(),AS9)","v":{"$error":"#N/A"}},{"$f":"IF($J$6=\"HD 2b/3\",NA(),AT9)","v":{"$error":"#N/A"}},null,null,null,"Number of last cycle number with charge-depleting operation (transition cycle) [0]",{"$f":"IF(ISNUMBER(Y48),Y48,\"EOT ERROR\")","v":8},{"$f":"IF(ISNUMBER(AK48),AK48,\"EOT ERROR\")","v":5},null,null,null,24,{"$f":"IF(ISBLANK(R34),\"\",IF(COUNT(R34:AA34)<>10,NA(),IF(ASTM(W34,0)=0,0,IFERROR(ASTM(R34,3)/ASTM(Z34,1),0))))","v":""},{"$f":"IF(ISBLANK(R34),\"\",IF(COUNT(R34:AA34)<>10,NA(),IF(W34=0,0,ASTM(ASTM(W34,0)*ASTM(R34,3),0))))","v":""},{"$f":"IF(ISBLANK(R34),\"\",IF(COUNT(R34:AA34)<>10,NA(),ASTM(S34,3)-ASTM(S33,3)))","v":""},{"$f":"IF(ISBLANK(R34),\"\",IF(COUNT(R34:AA34)<>10,NA(),ASTM(BG34*ASTM(T34,2),1)))","v":""},{"$f":"IF(ISBLANK(R34),\"\",IF(COUNT(R34:AA34)<>10,NA(),ASTM(ASTM($Y$46,4)*1000*(BH34/$AY$13),1)))","v":""},"",{"$f":"IF(ISBLANK(R34),\"\",IF(COUNT(R34:AA34)<>10,NA(),BI34/(33705*ASTM(R34,3))))","v":""},"",{"$f":"IF(ISBLANK(R34),\"\",IFERROR(ASTM(cityfuf(BJ34)-cityfuf(BJ33),3),\"\"))","v":""},{"$f":"IF(ISBLANK(R34),\"\",IF(OR(ISNUMBER(R34)=FALSE,ISNUMBER(AA34)=FALSE),NA(),IF(ASTM(W34,0)=0,0,BM34*ASTM(AA34,0))))","v":""},"",{"$f":"IF(ISBLANK(R34),\"\",IF(COUNT(R34:AA34)<>10,NA(),BL34*ASTM(R34,3)))","v":""},"",{"$f":"IF(ISBLANK(R34),\"\",IF(COUNT(R34:AA34)<>10,NA(),BQ34*ASTM(R34,3)))","v":""},"",{"$f":"IF(ISBLANK(R34),\"\",IF(COUNT(R34:AA34)<>10,NA(),ASTM(mdiuf(BS34),3)-ASTM(mdiuf(BS33),3)))","v":""},{"$f":"IF(ISBLANK(R34),\"\",IF(COUNT(R34:AA34)<>10,NA(),IF(ASTM(W34,0)=0,0,BT34*ASTM(W34,0)/(BQ34))))","v":""},"",{"$f":"IF(ISBLANK(R34),\"\",IF(COUNT(R34:AA34)<>10,NA(),ASTM(cityfufalt(BS34)-cityfufalt(BS33),3)))","v":""},"",{"$f":"IF(ISBLANK(R34),\"\",IF(COUNT(R34:AA34)<>10,NA(),IF(ASTM(W34,0)=0,0,BW34*ASTM(AA34,0)/(BQ34))))","v":""},null,24,{"$f":"IF(ISBLANK(AD34),\"\",IF(COUNT(AD34:AM34)<>10,NA(),IF(ASTM(AI34,0)=0,0,ASTM(AD34,3)/ASTM(AL34,1))))","v":""},{"$f":"IF(ISBLANK(AD34),\"\",IF(COUNT(AD34:AM34)<>10,NA(),IF(ASTM(AI34,0)=0,0,ASTM(ASTM(AI34,0)*ASTM(AD34,3),0))))","v":""},{"$f":"IF(ISBLANK(AD34),\"\",IF(COUNT(AD34:AM34)<>10,NA(),ASTM(AE34,3)-ASTM(AE33,3)))","v":""},{"$f":"IF(ISBLANK(AD34),\"\",IF(COUNT(AD34:AM34)<>10,NA(),ASTM(CD34*ASTM(AF34,2),1)))","v":""},{"$f":"IF(ISBLANK(AD34),\"\",IF(COUNT(AD34:AM34)<>10,NA(),ASTM(ASTM($AK$46,4)*1000*(CE34/$AZ$13),1)))","v":""},"",{"$f":"IF(ISBLANK(AD34),\"\",IF(COUNT(AD34:AM34)<>10,NA(),CF34/(33705*ASTM(AD34,3))))","v":""},"",{"$f":"IF(ISBLANK(AD34),\"\",ASTM(highwayfuf(CG34)-highwayfuf(CG33),3))","v":""},{"$f":"IF(ISBLANK(AD34),\"\",IF(OR(ISNUMBER(AD34)=FALSE,ISNUMBER(AM34)=FALSE),NA(),IF(ASTM(AI34,0)=0,0,CJ34*ASTM(AM34,0))))","v":""},"",{"$f":"IF(ISBLANK(AD34),\"\",IF(COUNT(AD34:AM34)<>10,NA(),CI34*ASTM(AD34,3)))","v":""},"",{"$f":"IF(ISBLANK(AD34),\"\",IF(COUNT(AD34:AM34)<>10,NA(),CN34*ASTM(AD34,3)))","v":""},"",{"$f":"IF(ISBLANK(AD34),\"\",IF(COUNT(AD34:AM34)<>10,NA(),ASTM(mdiuf(CP34)-mdiuf(CP33),3)))","v":""},{"$f":"IF(ISBLANK(AD34),\"\",IF(COUNT(AD34:AM34)<>10,NA(),IF(ASTM(AI34,0)=0,0,CQ34*ASTM(AI34,0)/(CN34))))","v":""},"",{"$f":"IF(ISBLANK(AD34),\"\",IF(COUNT(AD34:AM34)<>10,NA(),ASTM(highwayfufalt(CP34)-highwayfufalt(CP33),3)))","v":""},"",{"$f":"IF(ISBLANK(AD34),\"\",IF(COUNT(AD34:AM34)<>10,NA(),IF(ASTM(AI34,0)=0,0,CT34*ASTM(AM34,0)/(CN34))))","v":""}]
[null,null,"Label Inputs Based on Model Year and Fuel Type (generally these should not be changed)",null,null,null,null,null,null,null,null,null,null,null,null,null,25,null,null,null,null,null,null,null,null,{"$f":"IF(ISBLANK(R35),\"\",IF(OR($J$6=\"HD 2b/3\",COUNT(R35:W35)<>6,$AA$47<>\"Yes\",$AA$49<>\"Yes\"),NA(),IF(ASTM(W35,0)=0,0,ASTM((51740000*$T$46*$T$47)/((($T$46*U35)+(0.429*V35)+(0.273*W35))*((0.6*$T$47*$T$48)+5471)),1))))","v":""},{"$f":"IF(ISBLANK(R35),\"\",IF(OR(AND($J$6<>\"HD 2b/3\",COUNT(R35:W35)<>6),AND($J$6=\"HD 2b/3\",COUNT(R35)+COUNT(W35)<>2),$AA$47<>\"Yes\",$AA$49<>\"Yes\"),NA(),IF(ASTM(W35,0)=0,0,IF($J$6=\"HD 2b/3\",W35,ASTM((($T$46/0.273)*U35)+(1.571*V35)+W35,0)))))","v":""},null,25,null,null,null,null,null,null,null,null,{"$f":"IF(ISBLANK(AD35),\"\",IF(OR($J$6=\"HD 2b/3\",COUNT(AD35:AI35)<>6,$AM$47<>\"Yes\",$AM$49<>\"Yes\"),NA(),IF(ASTM(AI35,0)=0,0,ASTM((51740000*$AF$46*$AF$47)/((($AF$46*AG35)+(0.429*AH35)+(0.273*AI35))*((0.6*$AF$47*$AF$48)+5471)),1))))","v":""},{"$f":"IF(ISBLANK(AD35),\"\",IF(OR(AND($J$6<>\"HD 2b/3\",COUNT(AD35:AI35)<>6),AND($J$6=\"HD 2b/3\",COUNT(AD35)+COUNT(AI35)<>2),$AM$47<>\"Yes\",$AM$49<>\"Yes\"),NA(),IF(ASTM(AI35,0)=0,0,IF($J$6=\"HD 2b/3\",AI35,ASTM((($AF$46/0.273)*AG35)+(1.571*AH35)+AI35,0)))))","v":""},null,null,null,"Unadjusted GHG (g/mi) [1]",{"$f":"IF($J$6=\"HD 2b/3\",NA(),ASTM(AR11,1))","v":{"$error":"#N/A"}},{"$f":"IF($J$6=\"HD 2b/3\",NA(),ASTM(AS11,1))","v":{"$error":"#N/A"}},{"$f":"IF($J$6=\"HD 2b/3\",NA(),ASTM(0.55*AR35+0.45*AS35,1))","v":{"$error":"#N/A"}},null,null,"Intermediate Results Requiring Charge-Sustaining (CS) Test Results or Other Inputs",null,null,null,null,null,null,25,{"$f":"IF(ISBLANK(R35),\"\",IF(COUNT(R35:AA35)<>10,NA(),IF(ASTM(W35,0)=0,0,IFERROR(ASTM(R35,3)/ASTM(Z35,1),0))))","v":""},{"$f":"IF(ISBLANK(R35),\"\",IF(COUNT(R35:AA35)<>10,NA(),IF(W35=0,0,ASTM(ASTM(W35,0)*ASTM(R35,3),0))))","v":""},{"$f":"IF(ISBLANK(R35),\"\",IF(COUNT(R35:AA35)<>10,NA(),ASTM(S35,3)-ASTM(S34,3)))","v":""},{"$f":"IF(ISBLANK(R35),\"\",IF(COUNT(R35:AA35)<>10,NA(),ASTM(BG35*ASTM(T35,2),1)))","v":""},{"$f":"IF(ISBLANK(R35),\"\",IF(COUNT(R35:AA35)<>10,NA(),ASTM(ASTM($Y$46,4)*1000*(BH35/$AY$13),1)))","v":""},"",{"$f":"IF(ISBLANK(R35),\"\",IF(COUNT(R35:AA35)<>10,NA(),BI35/(33705*ASTM(R35,3))))","v":""},"",{"$f":"IF(ISBLANK(R35),\"\",IFERROR(ASTM(cityfuf(BJ35)-cityfuf(BJ34),3),\"\"))","v":""},{"$f":"IF(ISBLANK(R35),\"\",IF(OR(ISNUMBER(R35)=FALSE,ISNUMBER(AA35)=FALSE),NA(),IF(ASTM(W35,0)=0,0,BM35*ASTM(AA35,0))))","v":""},"",{"$f":"IF(ISBLANK(R35),\"\",IF(COUNT(R35:AA35)<>10,NA(),BL35*ASTM(R35,3)))","v":""},"",{"$f":"IF(ISBLANK(R35),\"\",IF(COUNT(R35:AA35)<>10,NA(),BQ35*ASTM(R35,3)))","v":""},"",{"$f":"IF(ISBLANK(R35),\"\",IF(COUNT(R35:AA35)<>10,NA(),ASTM(mdiuf(BS35),3)-ASTM(mdiuf(BS34),3)))","v":""},{"$f":"IF(ISBLANK(R35),\"\",IF(COUNT(R35:AA35)<>10,NA(),IF(ASTM(W35,0)=0,0,BT35*ASTM(W35,0)/(BQ35))))","v":""},"",{"$f":"IF(ISBLANK(R35),\"\",IF(COUNT(R35:AA35)<>10,NA(),ASTM(cityfufalt(BS35)-cityfufalt(BS34),3)))","v":""},"",{"$f":"IF(ISBLANK(R35),\"\",IF(COUNT(R35:AA35)<>10,NA(),IF(ASTM(W35,0)=0,0,BW35*ASTM(AA35,0)/(BQ35))))","v":""},null,25,{"$f":"IF(ISBLANK(AD35),\"\",IF(COUNT(AD35:AM35)<>10,NA(),IF(ASTM(AI35,0)=0,0,ASTM(AD35,3)/ASTM(AL35,1))))","v":""},{"$f":"IF(ISBLANK(AD35),\"\",IF(COUNT(AD35:AM35)<>10,NA(),IF(ASTM(AI35,0)=0,0,ASTM(ASTM(AI35,0)*ASTM(AD35,3),0))))","v":""},{"$f":"IF(ISBLANK(AD35),\"\",IF(COUNT(AD35:AM35)<>10,NA(),ASTM(AE35,3)-ASTM(AE34,3)))","v":""},{"$f":"IF(ISBLANK(AD35),\"\",IF(COUNT(AD35:AM35)<>10,NA(),ASTM(CD35*ASTM(AF35,2),1)))","v":""},{"$f":"IF(ISBLANK(AD35),\"\",IF(COUNT(AD35:AM35)<>10,NA(),ASTM(ASTM($AK$46,4)*1000*(CE35/$AZ$13),1)))","v":""},"",{"$f":"IF(ISBLANK(AD35),\"\",IF(COUNT(AD35:AM35)<>10,NA(),CF35/(33705*ASTM(AD35,3))))","v":""},"",{"$f":"IF(ISBLANK(AD35),\"\",ASTM(highwayfuf(CG35)-highwayfuf(CG34),3))","v":""},{"$f":"IF(ISBLANK(AD35),\"\",IF(OR(ISNUMBER(AD35)=FALSE,ISNUMBER(AM35)=FALSE),NA(),IF(ASTM(AI35,0)=0,0,CJ35*ASTM(AM35,0))))","v":""},"",{"$f":"IF(ISBLANK(AD35),\"\",IF(COUNT(AD35:AM35)<>10,NA(),CI35*ASTM(AD35,3)))","v":""},"",{"$f":"IF(ISBLANK(AD35),\"\",IF(COUNT(AD35:AM35)<>10,NA(),CN35*ASTM(AD35,3)))","v":""},"",{"$f":"IF(ISBLANK(AD35),\"\",IF(COUNT(AD35:AM35)<>10,NA(),ASTM(mdiuf(CP35)-mdiuf(CP34),3)))","v":""},{"$f":"IF(ISBLANK(AD35),\"\",IF(COUNT(AD35:AM35)<>10,NA(),IF(ASTM(AI35,0)=0,0,CQ35*ASTM(AI35,0)/(CN35))))","v":""},"",{"$f":"IF(ISBLANK(AD35),\"\",IF(COUNT(AD35:AM35)<>10,NA(),ASTM(highwayfufalt(CP35)-highwayfufalt(CP34),3)))","v":""},"",{"$f":"IF(ISBLANK(AD35),\"\",IF(COUNT(AD35:AM35)<>10,NA(),IF(ASTM(AI35,0)=0,0,CT35*ASTM(AM35,0)/(CN35))))","v":""}]
[null,null,"Gasoline cost ($/gallon)",null,null,{"$f":"IF($J$6=\"HD 2b/3\",NA(),INDEX('Label Inputs'!C5:K19,MATCH(J5,'Label Inputs'!B5:B19,0),MATCH(J9,'Label Inputs'!C4:K4,0)))","v":{"$error":"#N/A"}},null,null,null,null,null,null,null,null,null,null,26,null,null,null,null,null,null,null,null,{"$f":"IF(ISBLANK(R36),\"\",IF(OR($J$6=\"HD 2b/3\",COUNT(R36:W36)<>6,$AA$47<>\"Yes\",$AA$49<>\"Yes\"),NA(),IF(ASTM(W36,0)=0,0,ASTM((51740000*$T$46*$T$47)/((($T$46*U36)+(0.429*V36)+(0.273*W36))*((0.6*$T$47*$T$48)+5471)),1))))","v":""},{"$f":"IF(ISBLANK(R36),\"\",IF(OR(AND($J$6<>\"HD 2b/3\",COUNT(R36:W36)<>6),AND($J$6=\"HD 2b/3\",COUNT(R36)+COUNT(W36)<>2),$AA$47<>\"Yes\",$AA$49<>\"Yes\"),NA(),IF(ASTM(W36,0)=0,0,IF($J$6=\"HD 2b/3\",W36,ASTM((($T$46/0.273)*U36)+(1.571*V36)+W36,0)))))","v":""},null,26,null,null,null,null,null,null,null,null,{"$f":"IF(ISBLANK(AD36),\"\",IF(OR($J$6=\"HD 2b/3\",COUNT(AD36:AI36)<>6,$AM$47<>\"Yes\",$AM$49<>\"Yes\"),NA(),IF(ASTM(AI36,0)=0,0,ASTM((51740000*$AF$46*$AF$47)/((($AF$46*AG36)+(0.429*AH36)+(0.273*AI36))*((0.6*$AF$47*$AF$48)+5471)),1))))","v":""},{"$f":"IF(ISBLANK(AD36),\"\",IF(OR(AND($J$6<>\"HD 2b/3\",COUNT(AD36:AI36)<>6),AND($J$6=\"HD 2b/3\",COUNT(AD36)+COUNT(AI36)<>2),$AM$47<>\"Yes\",$AM$49<>\"Yes\"),NA(),IF(ASTM(AI36,0)=0,0,IF($J$6=\"HD 2b/3\",AI36,ASTM((($AF$46/0.273)*AG36)+(1.571*AH36)+AI36,0)))))","v":""},null,null,null,"Adjusted Fuel Economy (MPG) [4]",{"$f":"IF($J$6=\"HD 2b/3\",NA(),IFERROR(ASTM(1/(AY16+(1-AR33)/N12),4),0))","v":{"$error":"#N/A"}},{"$f":"IF($J$6=\"HD 2b/3\",NA(),IFERROR(ASTM(1/(AZ16+(1-AS33)/O12),4),0))","v":{"$error":"#N/A"}},{"$f":"IF($J$6=\"HD 2b/3\",NA(),IFERROR(ASTM(1/(0.55/AR36+0.45/AS36),4),0))","v":{"$error":"#N/A"}},null,null,null,"DRIVING DISTANCE VALUES","CITY","HIGHWAY",null,null,null,26,{"$f":"IF(ISBLANK(R36),\"\",IF(COUNT(R36:AA36)<>10,NA(),IF(ASTM(W36,0)=0,0,IFERROR(ASTM(R36,3)/ASTM(Z36,1),0))))","v":""},{"$f":"IF(ISBLANK(R36),\"\",IF(COUNT(R36:AA36)<>10,NA(),IF(W36=0,0,ASTM(ASTM(W36,0)*ASTM(R36,3),0))))","v":""},{"$f":"IF(ISBLANK(R36),\"\",IF(COUNT(R36:AA36)<>10,NA(),ASTM(S36,3)-ASTM(S35,3)))","v":""},{"$f":"IF(ISBLANK(R36),\"\",IF(COUNT(R36:AA36)<>10,NA(),ASTM(BG36*ASTM(T36,2),1)))","v":""},{"$f":"IF(ISBLANK(R36),\"\",IF(COUNT(R36:AA36)<>10,NA(),ASTM(ASTM($Y$46,4)*1000*(BH36/$AY$13),1)))","v":""},"",{"$f":"IF(ISBLANK(R36),\"\",IF(COUNT(R36:AA36)<>10,NA(),BI36/(33705*ASTM(R36,3))))","v":""},"",{"$f":"IF(ISBLANK(R36),\"\",IFERROR(ASTM(cityfuf(BJ36)-cityfuf(BJ35),3),\"\"))","v":""},{"$f":"IF(ISBLANK(R36),\"\",IF(OR(ISNUMBER(R36)=FALSE,ISNUMBER(AA36)=FALSE),NA(),IF(ASTM(W36,0)=0,0,BM36*ASTM(AA36,0))))","v":""},"",{"$f":"IF(ISBLANK(R36),\"\",IF(COUNT(R36:AA36)<>10,NA(),BL36*ASTM(R36,3)))","v":""},"",{"$f":"IF(ISBLANK(R36),\"\",IF(COUNT(R36:AA36)<>10,NA(),BQ36*ASTM(R36,3)))","v":""},"",{"$f":"IF(ISBLANK(R36),\"\",IF(COUNT(R36:AA36)<>10,NA(),ASTM(mdiuf(BS36),3)-ASTM(mdiuf(BS35),3)))","v":""},{"$f":"IF(ISBLANK(R36),\"\",IF(COUNT(R36:AA36)<>10,NA(),IF(ASTM(W36,0)=0,0,BT36*ASTM(W36,0)/(BQ36))))","v":""},"",{"$f":"IF(ISBLANK(R36),\"\",IF(COUNT(R36:AA36)<>10,NA(),ASTM(cityfufalt(BS36)-cityfufalt(BS35),3)))","v":""},"",{"$f":"IF(ISBLANK(R36),\"\",IF(COUNT(R36:AA36)<>10,NA(),IF(ASTM(W36,0)=0,0,BW36*ASTM(AA36,0)/(BQ36))))","v":""},null,26,{"$f":"IF(ISBLANK(AD36),\"\",IF(COUNT(AD36:AM36)<>10,NA(),IF(ASTM(AI36,0)=0,0,ASTM(AD36,3)/ASTM(AL36,1))))","v":""},{"$f":"IF(ISBLANK(AD36),\"\",IF(COUNT(AD36:AM36)<>10,NA(),IF(ASTM(AI36,0)=0,0,ASTM(ASTM(AI36,0)*ASTM(AD36,3),0))))","v":""},{"$f":"IF(ISBLANK(AD36),\"\",IF(COUNT(AD36:AM36)<>10,NA(),ASTM(AE36,3)-ASTM(AE35,3)))","v":""},{"$f":"IF(ISBLANK(AD36),\"\",IF(COUNT(AD36:AM36)<>10,NA(),ASTM(CD36*ASTM(AF36,2),1)))","v":""},{"$f":"IF(ISBLANK(AD36),\"\",IF(COUNT(AD36:AM36)<>10,NA(),ASTM(ASTM($AK$46,4)*1000*(CE36/$AZ$13),1)))","v":""},"",{"$f":"IF(ISBLANK(AD36),\"\",IF(COUNT(AD36:AM36)<>10,NA(),CF36/(33705*ASTM(AD36,3))))","v":""},"",{"$f":"IF(ISBLANK(AD36),\"\",ASTM(highwayfuf(CG36)-highwayfuf(CG35),3))","v":""},{"$f":"IF(ISBLANK(AD36),\"\",IF(OR(ISNUMBER(AD36)=FALSE,ISNUMBER(AM36)=FALSE),NA(),IF(ASTM(AI36,0)=0,0,CJ36*ASTM(AM36,0))))","v":""},"",{"$f":"IF(ISBLANK(AD36),\"\",IF(COUNT(AD36:AM36)<>10,NA(),CI36*ASTM(AD36,3)))","v":""},"",{"$f":"IF(ISBLANK(AD36),\"\",IF(COUNT(AD36:AM36)<>10,NA(),CN36*ASTM(AD36,3)))","v":""},"",{"$f":"IF(ISBLANK(AD36),\"\",IF(COUNT(AD36:AM36)<>10,NA(),ASTM(mdiuf(CP36)-mdiuf(CP35),3)))","v":""},{"$f":"IF(ISBLANK(AD36),\"\",IF(COUNT(AD36:AM36)<>10,NA(),IF(ASTM(AI36,0)=0,0,CQ36*ASTM(AI36,0)/(CN36))))","v":""},"",{"$f":"IF(ISBLANK(AD36),\"\",IF(COUNT(AD36:AM36)<>10,NA(),ASTM(highwayfufalt(CP36)-highwayfufalt(CP35),3)))","v":""},"",{"$f":"IF(ISBLANK(AD36),\"\",IF(COUNT(AD36:AM36)<>10,NA(),IF(ASTM(AI36,0)=0,0,CT36*ASTM(AM36,0)/(CN36))))","v":""}]
[null,null,"Electricity cost ($/kW-hour)",null,null,{"$f":"IF($J$6=\"HD 2b/3\",NA(),INDEX('Label Inputs'!C5:K19,MATCH(J5,'Label Inputs'!B5:B19,0),MATCH(\"Electricity\",'Label Inputs'!C4:K4,0)))","v":{"$error":"#N/A"}},null,null,null,null,null,null,null,null,null,null,27,null,null,null,null,null,null,null,null,{"$f":"IF(ISBLANK(R37),\"\",IF(OR($J$6=\"HD 2b/3\",COUNT(R37:W37)<>6,$AA$47<>\"Yes\",$AA$49<>\"Yes\"),NA(),IF(ASTM(W37,0)=0,0,ASTM((51740000*$T$46*$T$47)/((($T$46*U37)+(0.429*V37)+(0.273*W37))*((0.6*$T$47*$T$48)+5471)),1))))","v":""},{"$f":"IF(ISBLANK(R37),\"\",IF(OR(AND($J$6<>\"HD 2b/3\",COUNT(R37:W37)<>6),AND($J$6=\"HD 2b/3\",COUNT(R37)+COUNT(W37)<>2),$AA$47<>\"Yes\",$AA$49<>\"Yes\"),NA(),IF(ASTM(W37,0)=0,0,IF($J$6=\"HD 2b/3\",W37,ASTM((($T$46/0.273)*U37)+(1.571*V37)+W37,0)))))","v":""},null,27,null,null,null,null,null,null,null,null,{"$f":"IF(ISBLANK(AD37),\"\",IF(OR($J$6=\"HD 2b/3\",COUNT(AD37:AI37)<>6,$AM$47<>\"Yes\",$AM$49<>\"Yes\"),NA(),IF(ASTM(AI37,0)=0,0,ASTM((51740000*$AF$46*$AF$47)/((($AF$46*AG37)+(0.429*AH37)+(0.273*AI37))*((0.6*$AF$47*$AF$48)+5471)),1))))","v":""},{"$f":"IF(ISBLANK(AD37),\"\",IF(OR(AND($J$6<>\"HD 2b/3\",COUNT(AD37:AI37)<>6),AND($J$6=\"HD 2b/3\",COUNT(AD37)+COUNT(AI37)<>2),$AM$47<>\"Yes\",$AM$49<>\"Yes\"),NA(),IF(ASTM(AI37,0)=0,0,IF($J$6=\"HD 2b/3\",AI37,ASTM((($AF$46/0.273)*AG37)+(1.571*AH37)+AI37,0)))))","v":""},null,null,null,"Adjusted GHG (g/mi) [1]",{"$f":"IF($J$6=\"HD 2b/3\",NA(),IFERROR(ASTM(AY28+(1-AR33)*_xlfn.SINGLE(ASTM(N15,1)),1),0))","v":{"$error":"#N/A"}},{"$f":"IF($J$6=\"HD 2b/3\",NA(),IFERROR(ASTM(AZ28+(1-AS33)*ASTM(O15,1),1),0))","v":{"$error":"#N/A"}},{"$f":"IF($J$6=\"HD 2b/3\",NA(),IFERROR(ASTM(0.55*AR37+0.45*AS37,1),0))","v":{"$error":"#N/A"}},null,null,null,"CD Equivalent All-Electric Range (EAER), Unadjusted (mi) [3]",{"$f":"IF($J$6=\"HD 2b/3\",NA(),ASTM(AY6*((N14-AY24)/N14),3))","v":{"$error":"#N/A"}},{"$f":"IF($J$6=\"HD 2b/3\",NA(),ASTM(AZ6*((O14-AZ24)/O14),3))","v":{"$error":"#N/A"}},null,null,null,27,{"$f":"IF(ISBLANK(R37),\"\",IF(COUNT(R37:AA37)<>10,NA(),IF(ASTM(W37,0)=0,0,IFERROR(ASTM(R37,3)/ASTM(Z37,1),0))))","v":""},{"$f":"IF(ISBLANK(R37),\"\",IF(COUNT(R37:AA37)<>10,NA(),IF(W37=0,0,ASTM(ASTM(W37,0)*ASTM(R37,3),0))))","v":""},{"$f":"IF(ISBLANK(R37),\"\",IF(COUNT(R37:AA37)<>10,NA(),ASTM(S37,3)-ASTM(S36,3)))","v":""},{"$f":"IF(ISBLANK(R37),\"\",IF(COUNT(R37:AA37)<>10,NA(),ASTM(BG37*ASTM(T37,2),1)))","v":""},{"$f":"IF(ISBLANK(R37),\"\",IF(COUNT(R37:AA37)<>10,NA(),ASTM(ASTM($Y$46,4)*1000*(BH37/$AY$13),1)))","v":""},"",{"$f":"IF(ISBLANK(R37),\"\",IF(COUNT(R37:AA37)<>10,NA(),BI37/(33705*ASTM(R37,3))))","v":""},"",{"$f":"IF(ISBLANK(R37),\"\",IFERROR(ASTM(cityfuf(BJ37)-cityfuf(BJ36),3),\"\"))","v":""},{"$f":"IF(ISBLANK(R37),\"\",IF(OR(ISNUMBER(R37)=FALSE,ISNUMBER(AA37)=FALSE),NA(),IF(ASTM(W37,0)=0,0,BM37*ASTM(AA37,0))))","v":""},"",{"$f":"IF(ISBLANK(R37),\"\",IF(COUNT(R37:AA37)<>10,NA(),BL37*ASTM(R37,3)))","v":""},"",{"$f":"IF(ISBLANK(R37),\"\",IF(COUNT(R37:AA37)<>10,NA(),BQ37*ASTM(R37,3)))","v":""},"",{"$f":"IF(ISBLANK(R37),\"\",IF(COUNT(R37:AA37)<>10,NA(),ASTM(mdiuf(BS37),3)-ASTM(mdiuf(BS36),3)))","v":""},{"$f":"IF(ISBLANK(R37),\"\",IF(COUNT(R37:AA37)<>10,NA(),IF(ASTM(W37,0)=0,0,BT37*ASTM(W37,0)/(BQ37))))","v":""},"",{"$f":"IF(ISBLANK(R37),\"\",IF(COUNT(R37:AA37)<>10,NA(),ASTM(cityfufalt(BS37)-cityfufalt(BS36),3)))","v":""},"",{"$f":"IF(ISBLANK(R37),\"\",IF(COUNT(R37:AA37)<>10,NA(),IF(ASTM(W37,0)=0,0,BW37*ASTM(AA37,0)/(BQ37))))","v":""},null,27,{"$f":"IF(ISBLANK(AD37),\"\",IF(COUNT(AD37:AM37)<>10,NA(),IF(ASTM(AI37,0)=0,0,ASTM(AD37,3)/ASTM(AL37,1))))","v":""},{"$f":"IF(ISBLANK(AD37),\"\",IF(COUNT(AD37:AM37)<>10,NA(),IF(ASTM(AI37,0)=0,0,ASTM(ASTM(AI37,0)*ASTM(AD37,3),0))))","v":""},{"$f":"IF(ISBLANK(AD37),\"\",IF(COUNT(AD37:AM37)<>10,NA(),ASTM(AE37,3)-ASTM(AE36,3)))","v":""},{"$f":"IF(ISBLANK(AD37),\"\",IF(COUNT(AD37:AM37)<>10,NA(),ASTM(CD37*ASTM(AF37,2),1)))","v":""},{"$f":"IF(ISBLANK(AD37),\"\",IF(COUNT(AD37:AM37)<>10,NA(),ASTM(ASTM($AK$46,4)*1000*(CE37/$AZ$13),1)))","v":""},"",{"$f":"IF(ISBLANK(AD37),\"\",IF(COUNT(AD37:AM37)<>10,NA(),CF37/(33705*ASTM(AD37,3))))","v":""},"",{"$f":"IF(ISBLANK(AD37),\"\",ASTM(highwayfuf(CG37)-highwayfuf(CG36),3))","v":""},{"$f":"IF(ISBLANK(AD37),\"\",IF(OR(ISNUMBER(AD37)=FALSE,ISNUMBER(AM37)=FALSE),NA(),IF(ASTM(AI37,0)=0,0,CJ37*ASTM(AM37,0))))","v":""},"",{"$f":"IF(ISBLANK(AD37),\"\",IF(COUNT(AD37:AM37)<>10,NA(),CI37*ASTM(AD37,3)))","v":""},"",{"$f":"IF(ISBLANK(AD37),\"\",IF(COUNT(AD37:AM37)<>10,NA(),CN37*ASTM(AD37,3)))","v":""},"",{"$f":"IF(ISBLANK(AD37),\"\",IF(COUNT(AD37:AM37)<>10,NA(),ASTM(mdiuf(CP37)-mdiuf(CP36),3)))","v":""},{"$f":"IF(ISBLANK(AD37),\"\",IF(COUNT(AD37:AM37)<>10,NA(),IF(ASTM(AI37,0)=0,0,CQ37*ASTM(AI37,0)/(CN37))))","v":""},"",{"$f":"IF(ISBLANK(AD37),\"\",IF(COUNT(AD37:AM37)<>10,NA(),ASTM(highwayfufalt(CP37)-highwayfufalt(CP36),3)))","v":""},"",{"$f":"IF(ISBLANK(AD37),\"\",IF(COUNT(AD37:AM37)<>10,NA(),IF(ASTM(AI37,0)=0,0,CT37*ASTM(AM37,0)/(CN37))))","v":""}]
[null,null,"Average vehicle 5-year cost ($)",null,null,{"$f":"IF($J$6=\"HD 2b/3\",NA(),VLOOKUP(J5,'Label Inputs'!R4:S19,2,FALSE))","v":{"$error":"#N/A"}},null,null,null,null,null,null,null,null,null,null,28,null,null,null,null,null,null,null,null,{"$f":"IF(ISBLANK(R38),\"\",IF(OR($J$6=\"HD 2b/3\",COUNT(R38:W38)<>6,$AA$47<>\"Yes\",$AA$49<>\"Yes\"),NA(),IF(ASTM(W38,0)=0,0,ASTM((51740000*$T$46*$T$47)/((($T$46*U38)+(0.429*V38)+(0.273*W38))*((0.6*$T$47*$T$48)+5471)),1))))","v":""},{"$f":"IF(ISBLANK(R38),\"\",IF(OR(AND($J$6<>\"HD 2b/3\",COUNT(R38:W38)<>6),AND($J$6=\"HD 2b/3\",COUNT(R38)+COUNT(W38)<>2),$AA$47<>\"Yes\",$AA$49<>\"Yes\"),NA(),IF(ASTM(W38,0)=0,0,IF($J$6=\"HD 2b/3\",W38,ASTM((($T$46/0.273)*U38)+(1.571*V38)+W38,0)))))","v":""},null,28,null,null,null,null,null,null,null,null,{"$f":"IF(ISBLANK(AD38),\"\",IF(OR($J$6=\"HD 2b/3\",COUNT(AD38:AI38)<>6,$AM$47<>\"Yes\",$AM$49<>\"Yes\"),NA(),IF(ASTM(AI38,0)=0,0,ASTM((51740000*$AF$46*$AF$47)/((($AF$46*AG38)+(0.429*AH38)+(0.273*AI38))*((0.6*$AF$47*$AF$48)+5471)),1))))","v":""},{"$f":"IF(ISBLANK(AD38),\"\",IF(OR(AND($J$6<>\"HD 2b/3\",COUNT(AD38:AI38)<>6),AND($J$6=\"HD 2b/3\",COUNT(AD38)+COUNT(AI38)<>2),$AM$47<>\"Yes\",$AM$49<>\"Yes\"),NA(),IF(ASTM(AI38,0)=0,0,IF($J$6=\"HD 2b/3\",AI38,ASTM((($AF$46/0.273)*AG38)+(1.571*AH38)+AI38,0)))))","v":""},null,null,null,null,null,null,null,null,null,null,"Charge-sustaining driving range, adjusted (mi) [3]",{"$f":"IF($J$6=\"HD 2b/3\",NA(),IFERROR(ASTM((ASTM($J$11,1)-AY18)*ASTM(N12,4),3),0))","v":{"$error":"#N/A"}},{"$f":"IF($J$6=\"HD 2b/3\",NA(),IFERROR(ASTM((ASTM($J$11,1)-AZ18)*ASTM(O12,4),3),0))","v":{"$error":"#N/A"}},null,null,null,28,{"$f":"IF(ISBLANK(R38),\"\",IF(COUNT(R38:AA38)<>10,NA(),IF(ASTM(W38,0)=0,0,IFERROR(ASTM(R38,3)/ASTM(Z38,1),0))))","v":""},{"$f":"IF(ISBLANK(R38),\"\",IF(COUNT(R38:AA38)<>10,NA(),IF(W38=0,0,ASTM(ASTM(W38,0)*ASTM(R38,3),0))))","v":""},{"$f":"IF(ISBLANK(R38),\"\",IF(COUNT(R38:AA38)<>10,NA(),ASTM(S38,3)-ASTM(S37,3)))","v":""},{"$f":"IF(ISBLANK(R38),\"\",IF(COUNT(R38:AA38)<>10,NA(),ASTM(BG38*ASTM(T38,2),1)))","v":""},{"$f":"IF(ISBLANK(R38),\"\",IF(COUNT(R38:AA38)<>10,NA(),ASTM(ASTM($Y$46,4)*1000*(BH38/$AY$13),1)))","v":""},"",{"$f":"IF(ISBLANK(R38),\"\",IF(COUNT(R38:AA38)<>10,NA(),BI38/(33705*ASTM(R38,3))))","v":""},"",{"$f":"IF(ISBLANK(R38),\"\",IFERROR(ASTM(cityfuf(BJ38)-cityfuf(BJ37),3),\"\"))","v":""},{"$f":"IF(ISBLANK(R38),\"\",IF(OR(ISNUMBER(R38)=FALSE,ISNUMBER(AA38)=FALSE),NA(),IF(ASTM(W38,0)=0,0,BM38*ASTM(AA38,0))))","v":""},"",{"$f":"IF(ISBLANK(R38),\"\",IF(COUNT(R38:AA38)<>10,NA(),BL38*ASTM(R38,3)))","v":""},"",{"$f":"IF(ISBLANK(R38),\"\",IF(COUNT(R38:AA38)<>10,NA(),BQ38*ASTM(R38,3)))","v":""},"",{"$f":"IF(ISBLANK(R38),\"\",IF(COUNT(R38:AA38)<>10,NA(),ASTM(mdiuf(BS38),3)-ASTM(mdiuf(BS37),3)))","v":""},{"$f":"IF(ISBLANK(R38),\"\",IF(COUNT(R38:AA38)<>10,NA(),IF(ASTM(W38,0)=0,0,BT38*ASTM(W38,0)/(BQ38))))","v":""},"",{"$f":"IF(ISBLANK(R38),\"\",IF(COUNT(R38:AA38)<>10,NA(),ASTM(cityfufalt(BS38)-cityfufalt(BS37),3)))","v":""},"",{"$f":"IF(ISBLANK(R38),\"\",IF(COUNT(R38:AA38)<>10,NA(),IF(ASTM(W38,0)=0,0,BW38*ASTM(AA38,0)/(BQ38))))","v":""},null,28,{"$f":"IF(ISBLANK(AD38),\"\",IF(COUNT(AD38:AM38)<>10,NA(),IF(ASTM(AI38,0)=0,0,ASTM(AD38,3)/ASTM(AL38,1))))","v":""},{"$f":"IF(ISBLANK(AD38),\"\",IF(COUNT(AD38:AM38)<>10,NA(),IF(ASTM(AI38,0)=0,0,ASTM(ASTM(AI38,0)*ASTM(AD38,3),0))))","v":""},{"$f":"IF(ISBLANK(AD38),\"\",IF(COUNT(AD38:AM38)<>10,NA(),ASTM(AE38,3)-ASTM(AE37,3)))","v":""},{"$f":"IF(ISBLANK(AD38),\"\",IF(COUNT(AD38:AM38)<>10,NA(),ASTM(CD38*ASTM(AF38,2),1)))","v":""},{"$f":"IF(ISBLANK(AD38),\"\",IF(COUNT(AD38:AM38)<>10,NA(),ASTM(ASTM($AK$46,4)*1000*(CE38/$AZ$13),1)))","v":""},"",{"$f":"IF(ISBLANK(AD38),\"\",IF(COUNT(AD38:AM38)<>10,NA(),CF38/(33705*ASTM(AD38,3))))","v":""},"",{"$f":"IF(ISBLANK(AD38),\"\",ASTM(highwayfuf(CG38)-highwayfuf(CG37),3))","v":""},{"$f":"IF(ISBLANK(AD38),\"\",IF(OR(ISNUMBER(AD38)=FALSE,ISNUMBER(AM38)=FALSE),NA(),IF(ASTM(AI38,0)=0,0,CJ38*ASTM(AM38,0))))","v":""},"",{"$f":"IF(ISBLANK(AD38),\"\",IF(COUNT(AD38:AM38)<>10,NA(),CI38*ASTM(AD38,3)))","v":""},"",{"$f":"IF(ISBLANK(AD38),\"\",IF(COUNT(AD38:AM38)<>10,NA(),CN38*ASTM(AD38,3)))","v":""},"",{"$f":"IF(ISBLANK(AD38),\"\",IF(COUNT(AD38:AM38)<>10,NA(),ASTM(mdiuf(CP38)-mdiuf(CP37),3)))","v":""},{"$f":"IF(ISBLANK(AD38),\"\",IF(COUNT(AD38:AM38)<>10,NA(),IF(ASTM(AI38,0)=0,0,CQ38*ASTM(AI38,0)/(CN38))))","v":""},"",{"$f":"IF(ISBLANK(AD38),\"\",IF(COUNT(AD38:AM38)<>10,NA(),ASTM(highwayfufalt(CP38)-highwayfufalt(CP37),3)))","v":""},"",{"$f":"IF(ISBLANK(AD38),\"\",IF(COUNT(AD38:AM38)<>10,NA(),IF(ASTM(AI38,0)=0,0,CT38*ASTM(AM38,0)/(CN38))))","v":""}]
[null,null,"Average vehicle MPG",null,null,{"$f":"IF($J$6=\"HD 2b/3\",NA(),VLOOKUP(J5,'Label Inputs'!M4:N19,2,FALSE))","v":{"$error":"#N/A"}},null,null,null,null,null,null,null,null,null,null,29,null,null,null,null,null,null,null,null,{"$f":"IF(ISBLANK(R39),\"\",IF(OR($J$6=\"HD 2b/3\",COUNT(R39:W39)<>6,$AA$47<>\"Yes\",$AA$49<>\"Yes\"),NA(),IF(ASTM(W39,0)=0,0,ASTM((51740000*$T$46*$T$47)/((($T$46*U39)+(0.429*V39)+(0.273*W39))*((0.6*$T$47*$T$48)+5471)),1))))","v":""},{"$f":"IF(ISBLANK(R39),\"\",IF(OR(AND($J$6<>\"HD 2b/3\",COUNT(R39:W39)<>6),AND($J$6=\"HD 2b/3\",COUNT(R39)+COUNT(W39)<>2),$AA$47<>\"Yes\",$AA$49<>\"Yes\"),NA(),IF(ASTM(W39,0)=0,0,IF($J$6=\"HD 2b/3\",W39,ASTM((($T$46/0.273)*U39)+(1.571*V39)+W39,0)))))","v":""},null,29,null,null,null,null,null,null,null,null,{"$f":"IF(ISBLANK(AD39),\"\",IF(OR($J$6=\"HD 2b/3\",COUNT(AD39:AI39)<>6,$AM$47<>\"Yes\",$AM$49<>\"Yes\"),NA(),IF(ASTM(AI39,0)=0,0,ASTM((51740000*$AF$46*$AF$47)/((($AF$46*AG39)+(0.429*AH39)+(0.273*AI39))*((0.6*$AF$47*$AF$48)+5471)),1))))","v":""},{"$f":"IF(ISBLANK(AD39),\"\",IF(OR(AND($J$6<>\"HD 2b/3\",COUNT(AD39:AI39)<>6),AND($J$6=\"HD 2b/3\",COUNT(AD39)+COUNT(AI39)<>2),$AM$47<>\"Yes\",$AM$49<>\"Yes\"),NA(),IF(ASTM(AI39,0)=0,0,IF($J$6=\"HD 2b/3\",AI39,ASTM((($AF$46/0.273)*AG39)+(1.571*AH39)+AI39,0)))))","v":""},null,null,null,null,null,null,null,null,null,null,"UTILITY FACTORS & OTHER METRICS","CITY","HIGHWAY",null,null,null,29,{"$f":"IF(ISBLANK(R39),\"\",IF(COUNT(R39:AA39)<>10,NA(),IF(ASTM(W39,0)=0,0,IFERROR(ASTM(R39,3)/ASTM(Z39,1),0))))","v":""},{"$f":"IF(ISBLANK(R39),\"\",IF(COUNT(R39:AA39)<>10,NA(),IF(W39=0,0,ASTM(ASTM(W39,0)*ASTM(R39,3),0))))","v":""},{"$f":"IF(ISBLANK(R39),\"\",IF(COUNT(R39:AA39)<>10,NA(),ASTM(S39,3)-ASTM(S38,3)))","v":""},{"$f":"IF(ISBLANK(R39),\"\",IF(COUNT(R39:AA39)<>10,NA(),ASTM(BG39*ASTM(T39,2),1)))","v":""},{"$f":"IF(ISBLANK(R39),\"\",IF(COUNT(R39:AA39)<>10,NA(),ASTM(ASTM($Y$46,4)*1000*(BH39/$AY$13),1)))","v":""},"",{"$f":"IF(ISBLANK(R39),\"\",IF(COUNT(R39:AA39)<>10,NA(),BI39/(33705*ASTM(R39,3))))","v":""},"",{"$f":"IF(ISBLANK(R39),\"\",IFERROR(ASTM(cityfuf(BJ39)-cityfuf(BJ38),3),\"\"))","v":""},{"$f":"IF(ISBLANK(R39),\"\",IF(OR(ISNUMBER(R39)=FALSE,ISNUMBER(AA39)=FALSE),NA(),IF(ASTM(W39,0)=0,0,BM39*ASTM(AA39,0))))","v":""},"",{"$f":"IF(ISBLANK(R39),\"\",IF(COUNT(R39:AA39)<>10,NA(),BL39*ASTM(R39,3)))","v":""},"",{"$f":"IF(ISBLANK(R39),\"\",IF(COUNT(R39:AA39)<>10,NA(),BQ39*ASTM(R39,3)))","v":""},"",{"$f":"IF(ISBLANK(R39),\"\",IF(COUNT(R39:AA39)<>10,NA(),ASTM(mdiuf(BS39),3)-ASTM(mdiuf(BS38),3)))","v":""},{"$f":"IF(ISBLANK(R39),\"\",IF(COUNT(R39:AA39)<>10,NA(),IF(ASTM(W39,0)=0,0,BT39*ASTM(W39,0)/(BQ39))))","v":""},"",{"$f":"IF(ISBLANK(R39),\"\",IF(COUNT(R39:AA39)<>10,NA(),ASTM(cityfufalt(BS39)-cityfufalt(BS38),3)))","v":""},"",{"$f":"IF(ISBLANK(R39),\"\",IF(COUNT(R39:AA39)<>10,NA(),IF(ASTM(W39,0)=0,0,BW39*ASTM(AA39,0)/(BQ39))))","v":""},null,29,{"$f":"IF(ISBLANK(AD39),\"\",IF(COUNT(AD39:AM39)<>10,NA(),IF(ASTM(AI39,0)=0,0,ASTM(AD39,3)/ASTM(AL39,1))))","v":""},{"$f":"IF(ISBLANK(AD39),\"\",IF(COUNT(AD39:AM39)<>10,NA(),IF(ASTM(AI39,0)=0,0,ASTM(ASTM(AI39,0)*ASTM(AD39,3),0))))","v":""},{"$f":"IF(ISBLANK(AD39),\"\",IF(COUNT(AD39:AM39)<>10,NA(),ASTM(AE39,3)-ASTM(AE38,3)))","v":""},{"$f":"IF(ISBLANK(AD39),\"\",IF(COUNT(AD39:AM39)<>10,NA(),ASTM(CD39*ASTM(AF39,2),1)))","v":""},{"$f":"IF(ISBLANK(AD39),\"\",IF(COUNT(AD39:AM39)<>10,NA(),ASTM(ASTM($AK$46,4)*1000*(CE39/$AZ$13),1)))","v":""},"",{"$f":"IF(ISBLANK(AD39),\"\",IF(COUNT(AD39:AM39)<>10,NA(),CF39/(33705*ASTM(AD39,3))))","v":""},"",{"$f":"IF(ISBLANK(AD39),\"\",ASTM(highwayfuf(CG39)-highwayfuf(CG38),3))","v":""},{"$f":"IF(ISBLANK(AD39),\"\",IF(OR(ISNUMBER(AD39)=FALSE,ISNUMBER(AM39)=FALSE),NA(),IF(ASTM(AI39,0)=0,0,CJ39*ASTM(AM39,0))))","v":""},"",{"$f":"IF(ISBLANK(AD39),\"\",IF(COUNT(AD39:AM39)<>10,NA(),CI39*ASTM(AD39,3)))","v":""},"",{"$f":"IF(ISBLANK(AD39),\"\",IF(COUNT(AD39:AM39)<>10,NA(),CN39*ASTM(AD39,3)))","v":""},"",{"$f":"IF(ISBLANK(AD39),\"\",IF(COUNT(AD39:AM39)<>10,NA(),ASTM(mdiuf(CP39)-mdiuf(CP38),3)))","v":""},{"$f":"IF(ISBLANK(AD39),\"\",IF(COUNT(AD39:AM39)<>10,NA(),IF(ASTM(AI39,0)=0,0,CQ39*ASTM(AI39,0)/(CN39))))","v":""},"",{"$f":"IF(ISBLANK(AD39),\"\",IF(COUNT(AD39:AM39)<>10,NA(),ASTM(highwayfufalt(CP39)-highwayfufalt(CP38),3)))","v":""},"",{"$f":"IF(ISBLANK(AD39),\"\",IF(COUNT(AD39:AM39)<>10,NA(),IF(ASTM(AI39,0)=0,0,CT39*ASTM(AM39,0)/(CN39))))","v":""}]
[null,null,null,null,null,null,null,null,null,null,null,null,null,null,null,null,30,null,null,null,null,null,null,null,null,{"$f":"IF(ISBLANK(R40),\"\",IF(OR($J$6=\"HD 2b/3\",COUNT(R40:W40)<>6,$AA$47<>\"Yes\",$AA$49<>\"Yes\"),NA(),IF(ASTM(W40,0)=0,0,ASTM((51740000*$T$46*$T$47)/((($T$46*U40)+(0.429*V40)+(0.273*W40))*((0.6*$T$47*$T$48)+5471)),1))))","v":""},{"$f":"IF(ISBLANK(R40),\"\",IF(OR(AND($J$6<>\"HD 2b/3\",COUNT(R40:W40)<>6),AND($J$6=\"HD 2b/3\",COUNT(R40)+COUNT(W40)<>2),$AA$47<>\"Yes\",$AA$49<>\"Yes\"),NA(),IF(ASTM(W40,0)=0,0,IF($J$6=\"HD 2b/3\",W40,ASTM((($T$46/0.273)*U40)+(1.571*V40)+W40,0)))))","v":""},null,30,null,null,null,null,null,null,null,null,{"$f":"IF(ISBLANK(AD40),\"\",IF(OR($J$6=\"HD 2b/3\",COUNT(AD40:AI40)<>6,$AM$47<>\"Yes\",$AM$49<>\"Yes\"),NA(),IF(ASTM(AI40,0)=0,0,ASTM((51740000*$AF$46*$AF$47)/((($AF$46*AG40)+(0.429*AH40)+(0.273*AI40))*((0.6*$AF$47*$AF$48)+5471)),1))))","v":""},{"$f":"IF(ISBLANK(AD40),\"\",IF(OR(AND($J$6<>\"HD 2b/3\",COUNT(AD40:AI40)<>6),AND($J$6=\"HD 2b/3\",COUNT(AD40)+COUNT(AI40)<>2),$AM$47<>\"Yes\",$AM$49<>\"Yes\"),NA(),IF(ASTM(AI40,0)=0,0,IF($J$6=\"HD 2b/3\",AI40,ASTM((($AF$46/0.273)*AG40)+(1.571*AH40)+AI40,0)))))","v":""},null,null,null,null,null,null,null,null,null,null,"CD 55/45 Fleet Utility Factor (FUF) for EAER [3]",{"$f":"IF($J$6=\"HD 2b/3\",NA(),ASTM(cityfuf(AY37),3))","v":{"$error":"#N/A"}},{"$f":"IF($J$6=\"HD 2b/3\",NA(),ASTM(highwayfuf(AZ37),3))","v":{"$error":"#N/A"}},null,null,null,30,{"$f":"IF(ISBLANK(R40),\"\",IF(COUNT(R40:AA40)<>10,NA(),IF(ASTM(W40,0)=0,0,IFERROR(ASTM(R40,3)/ASTM(Z40,1),0))))","v":""},{"$f":"IF(ISBLANK(R40),\"\",IF(COUNT(R40:AA40)<>10,NA(),IF(W40=0,0,ASTM(ASTM(W40,0)*ASTM(R40,3),0))))","v":""},{"$f":"IF(ISBLANK(R40),\"\",IF(COUNT(R40:AA40)<>10,NA(),ASTM(S40,3)-ASTM(S39,3)))","v":""},{"$f":"IF(ISBLANK(R40),\"\",IF(COUNT(R40:AA40)<>10,NA(),ASTM(BG40*ASTM(T40,2),1)))","v":""},{"$f":"IF(ISBLANK(R40),\"\",IF(COUNT(R40:AA40)<>10,NA(),ASTM(ASTM($Y$46,4)*1000*(BH40/$AY$13),1)))","v":""},"",{"$f":"IF(ISBLANK(R40),\"\",IF(COUNT(R40:AA40)<>10,NA(),BI40/(33705*ASTM(R40,3))))","v":""},"",{"$f":"IF(ISBLANK(R40),\"\",IFERROR(ASTM(cityfuf(BJ40)-cityfuf(BJ39),3),\"\"))","v":""},{"$f":"IF(ISBLANK(R40),\"\",IF(OR(ISNUMBER(R40)=FALSE,ISNUMBER(AA40)=FALSE),NA(),IF(ASTM(W40,0)=0,0,BM40*ASTM(AA40,0))))","v":""},"",{"$f":"IF(ISBLANK(R40),\"\",IF(COUNT(R40:AA40)<>10,NA(),BL40*ASTM(R40,3)))","v":""},"",{"$f":"IF(ISBLANK(R40),\"\",IF(COUNT(R40:AA40)<>10,NA(),BQ40*ASTM(R40,3)))","v":""},"",{"$f":"IF(ISBLANK(R40),\"\",IF(COUNT(R40:AA40)<>10,NA(),ASTM(mdiuf(BS40),3)-ASTM(mdiuf(BS39),3)))","v":""},{"$f":"IF(ISBLANK(R40),\"\",IF(COUNT(R40:AA40)<>10,NA(),IF(ASTM(W40,0)=0,0,BT40*ASTM(W40,0)/(BQ40))))","v":""},"",{"$f":"IF(ISBLANK(R40),\"\",IF(COUNT(R40:AA40)<>10,NA(),ASTM(cityfufalt(BS40)-cityfufalt(BS39),3)))","v":""},"",{"$f":"IF(ISBLANK(R40),\"\",IF(COUNT(R40:AA40)<>10,NA(),IF(ASTM(W40,0)=0,0,BW40*ASTM(AA40,0)/(BQ40))))","v":""},null,30,{"$f":"IF(ISBLANK(AD40),\"\",IF(COUNT(AD40:AM40)<>10,NA(),IF(ASTM(AI40,0)=0,0,ASTM(AD40,3)/ASTM(AL40,1))))","v":""},{"$f":"IF(ISBLANK(AD40),\"\",IF(COUNT(AD40:AM40)<>10,NA(),IF(ASTM(AI40,0)=0,0,ASTM(ASTM(AI40,0)*ASTM(AD40,3),0))))","v":""},{"$f":"IF(ISBLANK(AD40),\"\",IF(COUNT(AD40:AM40)<>10,NA(),ASTM(AE40,3)-ASTM(AE39,3)))","v":""},{"$f":"IF(ISBLANK(AD40),\"\",IF(COUNT(AD40:AM40)<>10,NA(),ASTM(CD40*ASTM(AF40,2),1)))","v":""},{"$f":"IF(ISBLANK(AD40),\"\",IF(COUNT(AD40:AM40)<>10,NA(),ASTM(ASTM($AK$46,4)*1000*(CE40/$AZ$13),1)))","v":""},"",{"$f":"IF(ISBLANK(AD40),\"\",IF(COUNT(AD40:AM40)<>10,NA(),CF40/(33705*ASTM(AD40,3))))","v":""},"",{"$f":"IF(ISBLANK(AD40),\"\",ASTM(highwayfuf(CG40)-highwayfuf(CG39),3))","v":""},{"$f":"IF(ISBLANK(AD40),\"\",IF(OR(ISNUMBER(AD40)=FALSE,ISNUMBER(AM40)=FALSE),NA(),IF(ASTM(AI40,0)=0,0,CJ40*ASTM(AM40,0))))","v":""},"",{"$f":"IF(ISBLANK(AD40),\"\",IF(COUNT(AD40:AM40)<>10,NA(),CI40*ASTM(AD40,3)))","v":""},"",{"$f":"IF(ISBLANK(AD40),\"\",IF(COUNT(AD40:AM40)<>10,NA(),CN40*ASTM(AD40,3)))","v":""},"",{"$f":"IF(ISBLANK(AD40),\"\",IF(COUNT(AD40:AM40)<>10,NA(),ASTM(mdiuf(CP40)-mdiuf(CP39),3)))","v":""},{"$f":"IF(ISBLANK(AD40),\"\",IF(COUNT(AD40:AM40)<>10,NA(),IF(ASTM(AI40,0)=0,0,CQ40*ASTM(AI40,0)/(CN40))))","v":""},"",{"$f":"IF(ISBLANK(AD40),\"\",IF(COUNT(AD40:AM40)<>10,NA(),ASTM(highwayfufalt(CP40)-highwayfufalt(CP39),3)))","v":""},"",{"$f":"IF(ISBLANK(AD40),\"\",IF(COUNT(AD40:AM40)<>10,NA(),IF(ASTM(AI40,0)=0,0,CT40*ASTM(AM40,0)/(CN40))))","v":""}]
[null,null,"Average Recharge Time of Test Vehicles",null,null,null,null,null,null,null,null,null,null,null,null,null,31,null,null,null,null,null,null,null,null,{"$f":"IF(ISBLANK(R41),\"\",IF(OR($J$6=\"HD 2b/3\",COUNT(R41:W41)<>6,$AA$47<>\"Yes\",$AA$49<>\"Yes\"),NA(),IF(ASTM(W41,0)=0,0,ASTM((51740000*$T$46*$T$47)/((($T$46*U41)+(0.429*V41)+(0.273*W41))*((0.6*$T$47*$T$48)+5471)),1))))","v":""},{"$f":"IF(ISBLANK(R41),\"\",IF(OR(AND($J$6<>\"HD 2b/3\",COUNT(R41:W41)<>6),AND($J$6=\"HD 2b/3\",COUNT(R41)+COUNT(W41)<>2),$AA$47<>\"Yes\",$AA$49<>\"Yes\"),NA(),IF(ASTM(W41,0)=0,0,IF($J$6=\"HD 2b/3\",W41,ASTM((($T$46/0.273)*U41)+(1.571*V41)+W41,0)))))","v":""},null,31,null,null,null,null,null,null,null,null,{"$f":"IF(ISBLANK(AD41),\"\",IF(OR($J$6=\"HD 2b/3\",COUNT(AD41:AI41)<>6,$AM$47<>\"Yes\",$AM$49<>\"Yes\"),NA(),IF(ASTM(AI41,0)=0,0,ASTM((51740000*$AF$46*$AF$47)/((($AF$46*AG41)+(0.429*AH41)+(0.273*AI41))*((0.6*$AF$47*$AF$48)+5471)),1))))","v":""},{"$f":"IF(ISBLANK(AD41),\"\",IF(OR(AND($J$6<>\"HD 2b/3\",COUNT(AD41:AI41)<>6),AND($J$6=\"HD 2b/3\",COUNT(AD41)+COUNT(AI41)<>2),$AM$47<>\"Yes\",$AM$49<>\"Yes\"),NA(),IF(ASTM(AI41,0)=0,0,IF($J$6=\"HD 2b/3\",AI41,ASTM((($AF$46/0.273)*AG41)+(1.571*AH41)+AI41,0)))))","v":""},null,null,null,null,null,null,null,null,null,null,"FUEL COSTS: PROCESS FOR DERIVING A COMPOSITE CD/CS COST PER MILE","CITY","HIGHWAY",null,null,null,31,{"$f":"IF(ISBLANK(R41),\"\",IF(COUNT(R41:AA41)<>10,NA(),IF(ASTM(W41,0)=0,0,IFERROR(ASTM(R41,3)/ASTM(Z41,1),0))))","v":""},{"$f":"IF(ISBLANK(R41),\"\",IF(COUNT(R41:AA41)<>10,NA(),IF(W41=0,0,ASTM(ASTM(W41,0)*ASTM(R41,3),0))))","v":""},{"$f":"IF(ISBLANK(R41),\"\",IF(COUNT(R41:AA41)<>10,NA(),ASTM(S41,3)-ASTM(S40,3)))","v":""},{"$f":"IF(ISBLANK(R41),\"\",IF(COUNT(R41:AA41)<>10,NA(),ASTM(BG41*ASTM(T41,2),1)))","v":""},{"$f":"IF(ISBLANK(R41),\"\",IF(COUNT(R41:AA41)<>10,NA(),ASTM(ASTM($Y$46,4)*1000*(BH41/$AY$13),1)))","v":""},"",{"$f":"IF(ISBLANK(R41),\"\",IF(COUNT(R41:AA41)<>10,NA(),BI41/(33705*ASTM(R41,3))))","v":""},"",{"$f":"IF(ISBLANK(R41),\"\",IFERROR(ASTM(cityfuf(BJ41)-cityfuf(BJ40),3),\"\"))","v":""},{"$f":"IF(ISBLANK(R41),\"\",IF(OR(ISNUMBER(R41)=FALSE,ISNUMBER(AA41)=FALSE),NA(),IF(ASTM(W41,0)=0,0,BM41*ASTM(AA41,0))))","v":""},"",{"$f":"IF(ISBLANK(R41),\"\",IF(COUNT(R41:AA41)<>10,NA(),BL41*ASTM(R41,3)))","v":""},"",{"$f":"IF(ISBLANK(R41),\"\",IF(COUNT(R41:AA41)<>10,NA(),BQ41*ASTM(R41,3)))","v":""},"",{"$f":"IF(ISBLANK(R41),\"\",IF(COUNT(R41:AA41)<>10,NA(),ASTM(mdiuf(BS41),3)-ASTM(mdiuf(BS40),3)))","v":""},{"$f":"IF(ISBLANK(R41),\"\",IF(COUNT(R41:AA41)<>10,NA(),IF(ASTM(W41,0)=0,0,BT41*ASTM(W41,0)/(BQ41))))","v":""},"",{"$f":"IF(ISBLANK(R41),\"\",IF(COUNT(R41:AA41)<>10,NA(),ASTM(cityfufalt(BS41)-cityfufalt(BS40),3)))","v":""},"",{"$f":"IF(ISBLANK(R41),\"\",IF(COUNT(R41:AA41)<>10,NA(),IF(ASTM(W41,0)=0,0,BW41*ASTM(AA41,0)/(BQ41))))","v":""},null,31,{"$f":"IF(ISBLANK(AD41),\"\",IF(COUNT(AD41:AM41)<>10,NA(),IF(ASTM(AI41,0)=0,0,ASTM(AD41,3)/ASTM(AL41,1))))","v":""},{"$f":"IF(ISBLANK(AD41),\"\",IF(COUNT(AD41:AM41)<>10,NA(),IF(ASTM(AI41,0)=0,0,ASTM(ASTM(AI41,0)*ASTM(AD41,3),0))))","v":""},{"$f":"IF(ISBLANK(AD41),\"\",IF(COUNT(AD41:AM41)<>10,NA(),ASTM(AE41,3)-ASTM(AE40,3)))","v":""},{"$f":"IF(ISBLANK(AD41),\"\",IF(COUNT(AD41:AM41)<>10,NA(),ASTM(CD41*ASTM(AF41,2),1)))","v":""},{"$f":"IF(ISBLANK(AD41),\"\",IF(COUNT(AD41:AM41)<>10,NA(),ASTM(ASTM($AK$46,4)*1000*(CE41/$AZ$13),1)))","v":""},"",{"$f":"IF(ISBLANK(AD41),\"\",IF(COUNT(AD41:AM41)<>10,NA(),CF41/(33705*ASTM(AD41,3))))","v":""},"",{"$f":"IF(ISBLANK(AD41),\"\",ASTM(highwayfuf(CG41)-highwayfuf(CG40),3))","v":""},{"$f":"IF(ISBLANK(AD41),\"\",IF(OR(ISNUMBER(AD41)=FALSE,ISNUMBER(AM41)=FALSE),NA(),IF(ASTM(AI41,0)=0,0,CJ41*ASTM(AM41,0))))","v":""},"",{"$f":"IF(ISBLANK(AD41),\"\",IF(COUNT(AD41:AM41)<>10,NA(),CI41*ASTM(AD41,3)))","v":""},"",{"$f":"IF(ISBLANK(AD41),\"\",IF(COUNT(AD41:AM41)<>10,NA(),CN41*ASTM(AD41,3)))","v":""},"",{"$f":"IF(ISBLANK(AD41),\"\",IF(COUNT(AD41:AM41)<>10,NA(),ASTM(mdiuf(CP41)-mdiuf(CP40),3)))","v":""},{"$f":"IF(ISBLANK(AD41),\"\",IF(COUNT(AD41:AM41)<>10,NA(),IF(ASTM(AI41,0)=0,0,CQ41*ASTM(AI41,0)/(CN41))))","v":""},"",{"$f":"IF(ISBLANK(AD41),\"\",IF(COUNT(AD41:AM41)<>10,NA(),ASTM(highwayfufalt(CP41)-highwayfufalt(CP40),3)))","v":""},"",{"$f":"IF(ISBLANK(AD41),\"\",IF(COUNT(AD41:AM41)<>10,NA(),IF(ASTM(AI41,0)=0,0,CT41*ASTM(AM41,0)/(CN41))))","v":""}]
[null,null,null,"CD_UDDS","CD_Hwy",null,null,null,null,null,null,null,null,null,null,null,32,null,null,null,null,null,null,null,null,{"$f":"IF(ISBLANK(R42),\"\",IF(OR($J$6=\"HD 2b/3\",COUNT(R42:W42)<>6,$AA$47<>\"Yes\",$AA$49<>\"Yes\"),NA(),IF(ASTM(W42,0)=0,0,ASTM((51740000*$T$46*$T$47)/((($T$46*U42)+(0.429*V42)+(0.273*W42))*((0.6*$T$47*$T$48)+5471)),1))))","v":""},{"$f":"IF(ISBLANK(R42),\"\",IF(OR(AND($J$6<>\"HD 2b/3\",COUNT(R42:W42)<>6),AND($J$6=\"HD 2b/3\",COUNT(R42)+COUNT(W42)<>2),$AA$47<>\"Yes\",$AA$49<>\"Yes\"),NA(),IF(ASTM(W42,0)=0,0,IF($J$6=\"HD 2b/3\",W42,ASTM((($T$46/0.273)*U42)+(1.571*V42)+W42,0)))))","v":""},null,32,null,null,null,null,null,null,null,null,{"$f":"IF(ISBLANK(AD42),\"\",IF(OR($J$6=\"HD 2b/3\",COUNT(AD42:AI42)<>6,$AM$47<>\"Yes\",$AM$49<>\"Yes\"),NA(),IF(ASTM(AI42,0)=0,0,ASTM((51740000*$AF$46*$AF$47)/((($AF$46*AG42)+(0.429*AH42)+(0.273*AI42))*((0.6*$AF$47*$AF$48)+5471)),1))))","v":""},{"$f":"IF(ISBLANK(AD42),\"\",IF(OR(AND($J$6<>\"HD 2b/3\",COUNT(AD42:AI42)<>6),AND($J$6=\"HD 2b/3\",COUNT(AD42)+COUNT(AI42)<>2),$AM$47<>\"Yes\",$AM$49<>\"Yes\"),NA(),IF(ASTM(AI42,0)=0,0,IF($J$6=\"HD 2b/3\",AI42,ASTM((($AF$46/0.273)*AG42)+(1.571*AH42)+AI42,0)))))","v":""},null,null,null,null,null,null,null,null,null,null,"CD cost per mile - electricity ($/mi) [3]",{"$f":"IF($J$6=\"HD 2b/3\",NA(),ASTM($F$37*$AY$12/100,3))","v":{"$error":"#N/A"}},{"$f":"IF($J$6=\"HD 2b/3\",NA(),ASTM($F$37*$AZ$12/100,3))","v":{"$error":"#N/A"}},null,null,null,32,{"$f":"IF(ISBLANK(R42),\"\",IF(COUNT(R42:AA42)<>10,NA(),IF(ASTM(W42,0)=0,0,IFERROR(ASTM(R42,3)/ASTM(Z42,1),0))))","v":""},{"$f":"IF(ISBLANK(R42),\"\",IF(COUNT(R42:AA42)<>10,NA(),IF(W42=0,0,ASTM(ASTM(W42,0)*ASTM(R42,3),0))))","v":""},{"$f":"IF(ISBLANK(R42),\"\",IF(COUNT(R42:AA42)<>10,NA(),ASTM(S42,3)-ASTM(S41,3)))","v":""},{"$f":"IF(ISBLANK(R42),\"\",IF(COUNT(R42:AA42)<>10,NA(),ASTM(BG42*ASTM(T42,2),1)))","v":""},{"$f":"IF(ISBLANK(R42),\"\",IF(COUNT(R42:AA42)<>10,NA(),ASTM(ASTM($Y$46,4)*1000*(BH42/$AY$13),1)))","v":""},"",{"$f":"IF(ISBLANK(R42),\"\",IF(COUNT(R42:AA42)<>10,NA(),BI42/(33705*ASTM(R42,3))))","v":""},"",{"$f":"IF(ISBLANK(R42),\"\",IFERROR(ASTM(cityfuf(BJ42)-cityfuf(BJ41),3),\"\"))","v":""},{"$f":"IF(ISBLANK(R42),\"\",IF(OR(ISNUMBER(R42)=FALSE,ISNUMBER(AA42)=FALSE),NA(),IF(ASTM(W42,0)=0,0,BM42*ASTM(AA42,0))))","v":""},"",{"$f":"IF(ISBLANK(R42),\"\",IF(COUNT(R42:AA42)<>10,NA(),BL42*ASTM(R42,3)))","v":""},"",{"$f":"IF(ISBLANK(R42),\"\",IF(COUNT(R42:AA42)<>10,NA(),BQ42*ASTM(R42,3)))","v":""},"",{"$f":"IF(ISBLANK(R42),\"\",IF(COUNT(R42:AA42)<>10,NA(),ASTM(mdiuf(BS42),3)-ASTM(mdiuf(BS41),3)))","v":""},{"$f":"IF(ISBLANK(R42),\"\",IF(COUNT(R42:AA42)<>10,NA(),IF(ASTM(W42,0)=0,0,BT42*ASTM(W42,0)/(BQ42))))","v":""},"",{"$f":"IF(ISBLANK(R42),\"\",IF(COUNT(R42:AA42)<>10,NA(),ASTM(cityfufalt(BS42)-cityfufalt(BS41),3)))","v":""},"",{"$f":"IF(ISBLANK(R42),\"\",IF(COUNT(R42:AA42)<>10,NA(),IF(ASTM(W42,0)=0,0,BW42*ASTM(AA42,0)/(BQ42))))","v":""},null,32,{"$f":"IF(ISBLANK(AD42),\"\",IF(COUNT(AD42:AM42)<>10,NA(),IF(ASTM(AI42,0)=0,0,ASTM(AD42,3)/ASTM(AL42,1))))","v":""},{"$f":"IF(ISBLANK(AD42),\"\",IF(COUNT(AD42:AM42)<>10,NA(),IF(ASTM(AI42,0)=0,0,ASTM(ASTM(AI42,0)*ASTM(AD42,3),0))))","v":""},{"$f":"IF(ISBLANK(AD42),\"\",IF(COUNT(AD42:AM42)<>10,NA(),ASTM(AE42,3)-ASTM(AE41,3)))","v":""},{"$f":"IF(ISBLANK(AD42),\"\",IF(COUNT(AD42:AM42)<>10,NA(),ASTM(CD42*ASTM(AF42,2),1)))","v":""},{"$f":"IF(ISBLANK(AD42),\"\",IF(COUNT(AD42:AM42)<>10,NA(),ASTM(ASTM($AK$46,4)*1000*(CE42/$AZ$13),1)))","v":""},"",{"$f":"IF(ISBLANK(AD42),\"\",IF(COUNT(AD42:AM42)<>10,NA(),CF42/(33705*ASTM(AD42,3))))","v":""},"",{"$f":"IF(ISBLANK(AD42),\"\",ASTM(highwayfuf(CG42)-highwayfuf(CG41),3))","v":""},{"$f":"IF(ISBLANK(AD42),\"\",IF(OR(ISNUMBER(AD42)=FALSE,ISNUMBER(AM42)=FALSE),NA(),IF(ASTM(AI42,0)=0,0,CJ42*ASTM(AM42,0))))","v":""},"",{"$f":"IF(ISBLANK(AD42),\"\",IF(COUNT(AD42:AM42)<>10,NA(),CI42*ASTM(AD42,3)))","v":""},"",{"$f":"IF(ISBLANK(AD42),\"\",IF(COUNT(AD42:AM42)<>10,NA(),CN42*ASTM(AD42,3)))","v":""},"",{"$f":"IF(ISBLANK(AD42),\"\",IF(COUNT(AD42:AM42)<>10,NA(),ASTM(mdiuf(CP42)-mdiuf(CP41),3)))","v":""},{"$f":"IF(ISBLANK(AD42),\"\",IF(COUNT(AD42:AM42)<>10,NA(),IF(ASTM(AI42,0)=0,0,CQ42*ASTM(AI42,0)/(CN42))))","v":""},"",{"$f":"IF(ISBLANK(AD42),\"\",IF(COUNT(AD42:AM42)<>10,NA(),ASTM(highwayfufalt(CP42)-highwayfufalt(CP41),3)))","v":""},"",{"$f":"IF(ISBLANK(AD42),\"\",IF(COUNT(AD42:AM42)<>10,NA(),IF(ASTM(AI42,0)=0,0,CT42*ASTM(AM42,0)/(CN42))))","v":""}]
[null,null,"Avg of Charge Depleting Tests (Hours)",{"$f":"IF($J$6=\"HD 2b/3\",NA(),IF(COUNT(Y49,Y97,Y145)=0,NA(),ASTM(SUM(Y49,Y97,Y145)/COUNT(Y49,Y97,Y145),2)))","v":{"$error":"#N/A"}},{"$f":"IF($J$6=\"HD 2b/3\",NA(),IF(COUNT(AK49,AK97,AK145)=0,NA(),ASTM(SUM(AK49,AK97,AK145)/COUNT(AK49,AK97,AK145),2)))","v":{"$error":"#N/A"}},null,null,null,null,null,null,null,null,null,null,null,33,null,null,null,null,null,null,null,null,{"$f":"IF(ISBLANK(R43),\"\",IF(OR($J$6=\"HD 2b/3\",COUNT(R43:W43)<>6,$AA$47<>\"Yes\",$AA$49<>\"Yes\"),NA(),IF(ASTM(W43,0)=0,0,ASTM((51740000*$T$46*$T$47)/((($T$46*U43)+(0.429*V43)+(0.273*W43))*((0.6*$T$47*$T$48)+5471)),1))))","v":""},{"$f":"IF(ISBLANK(R43),\"\",IF(OR(AND($J$6<>\"HD 2b/3\",COUNT(R43:W43)<>6),AND($J$6=\"HD 2b/3\",COUNT(R43)+COUNT(W43)<>2),$AA$47<>\"Yes\",$AA$49<>\"Yes\"),NA(),IF(ASTM(W43,0)=0,0,IF($J$6=\"HD 2b/3\",W43,ASTM((($T$46/0.273)*U43)+(1.571*V43)+W43,0)))))","v":""},null,33,null,null,null,null,null,null,null,null,{"$f":"IF(ISBLANK(AD43),\"\",IF(OR($J$6=\"HD 2b/3\",COUNT(AD43:AI43)<>6,$AM$47<>\"Yes\",$AM$49<>\"Yes\"),NA(),IF(ASTM(AI43,0)=0,0,ASTM((51740000*$AF$46*$AF$47)/((($AF$46*AG43)+(0.429*AH43)+(0.273*AI43))*((0.6*$AF$47*$AF$48)+5471)),1))))","v":""},{"$f":"IF(ISBLANK(AD43),\"\",IF(OR(AND($J$6<>\"HD 2b/3\",COUNT(AD43:AI43)<>6),AND($J$6=\"HD 2b/3\",COUNT(AD43)+COUNT(AI43)<>2),$AM$47<>\"Yes\",$AM$49<>\"Yes\"),NA(),IF(ASTM(AI43,0)=0,0,IF($J$6=\"HD 2b/3\",AI43,ASTM((($AF$46/0.273)*AG43)+(1.571*AH43)+AI43,0)))))","v":""},null,null,null,null,null,null,null,null,null,null,"CD cost per mile - gasoline ($/mi) [3]",{"$f":"IF($J$6=\"HD 2b/3\",NA(),ASTM($F$36*((SUMIF(BD11:BD45,\"<=\" & (AY34-1),BE11:BE45) + AY33*SUMIF(BD11:BD45,\"=\" & (AY34-1),BE11:BE45))/AY7),3))","v":{"$error":"#N/A"}},{"$f":"IF($J$6=\"HD 2b/3\",NA(),ASTM($F$36*((SUMIF(CA11:CA45,\"<=\" & (AZ34-1),CB11:CB45) + AZ33*SUMIF(CA11:CA45,\"=\" & (AZ34-1),CB11:CB45))/AZ7),3))","v":{"$error":"#N/A"}},null,null,null,33,{"$f":"IF(ISBLANK(R43),\"\",IF(COUNT(R43:AA43)<>10,NA(),IF(ASTM(W43,0)=0,0,IFERROR(ASTM(R43,3)/ASTM(Z43,1),0))))","v":""},{"$f":"IF(ISBLANK(R43),\"\",IF(COUNT(R43:AA43)<>10,NA(),IF(W43=0,0,ASTM(ASTM(W43,0)*ASTM(R43,3),0))))","v":""},{"$f":"IF(ISBLANK(R43),\"\",IF(COUNT(R43:AA43)<>10,NA(),ASTM(S43,3)-ASTM(S42,3)))","v":""},{"$f":"IF(ISBLANK(R43),\"\",IF(COUNT(R43:AA43)<>10,NA(),ASTM(BG43*ASTM(T43,2),1)))","v":""},{"$f":"IF(ISBLANK(R43),\"\",IF(COUNT(R43:AA43)<>10,NA(),ASTM(ASTM($Y$46,4)*1000*(BH43/$AY$13),1)))","v":""},"",{"$f":"IF(ISBLANK(R43),\"\",IF(COUNT(R43:AA43)<>10,NA(),BI43/(33705*ASTM(R43,3))))","v":""},"",{"$f":"IF(ISBLANK(R43),\"\",IFERROR(ASTM(cityfuf(BJ43)-cityfuf(BJ42),3),\"\"))","v":""},{"$f":"IF(ISBLANK(R43),\"\",IF(OR(ISNUMBER(R43)=FALSE,ISNUMBER(AA43)=FALSE),NA(),IF(ASTM(W43,0)=0,0,BM43*ASTM(AA43,0))))","v":""},"",{"$f":"IF(ISBLANK(R43),\"\",IF(COUNT(R43:AA43)<>10,NA(),BL43*ASTM(R43,3)))","v":""},"",{"$f":"IF(ISBLANK(R43),\"\",IF(COUNT(R43:AA43)<>10,NA(),BQ43*ASTM(R43,3)))","v":""},"",{"$f":"IF(ISBLANK(R43),\"\",IF(COUNT(R43:AA43)<>10,NA(),ASTM(mdiuf(BS43),3)-ASTM(mdiuf(BS42),3)))","v":""},{"$f":"IF(ISBLANK(R43),\"\",IF(COUNT(R43:AA43)<>10,NA(),IF(ASTM(W43,0)=0,0,BT43*ASTM(W43,0)/(BQ43))))","v":""},"",{"$f":"IF(ISBLANK(R43),\"\",IF(COUNT(R43:AA43)<>10,NA(),ASTM(cityfufalt(BS43)-cityfufalt(BS42),3)))","v":""},"",{"$f":"IF(ISBLANK(R43),\"\",IF(COUNT(R43:AA43)<>10,NA(),IF(ASTM(W43,0)=0,0,BW43*ASTM(AA43,0)/(BQ43))))","v":""},null,33,{"$f":"IF(ISBLANK(AD43),\"\",IF(COUNT(AD43:AM43)<>10,NA(),IF(ASTM(AI43,0)=0,0,ASTM(AD43,3)/ASTM(AL43,1))))","v":""},{"$f":"IF(ISBLANK(AD43),\"\",IF(COUNT(AD43:AM43)<>10,NA(),IF(ASTM(AI43,0)=0,0,ASTM(ASTM(AI43,0)*ASTM(AD43,3),0))))","v":""},{"$f":"IF(ISBLANK(AD43),\"\",IF(COUNT(AD43:AM43)<>10,NA(),ASTM(AE43,3)-ASTM(AE42,3)))","v":""},{"$f":"IF(ISBLANK(AD43),\"\",IF(COUNT(AD43:AM43)<>10,NA(),ASTM(CD43*ASTM(AF43,2),1)))","v":""},{"$f":"IF(ISBLANK(AD43),\"\",IF(COUNT(AD43:AM43)<>10,NA(),ASTM(ASTM($AK$46,4)*1000*(CE43/$AZ$13),1)))","v":""},"",{"$f":"IF(ISBLANK(AD43),\"\",IF(COUNT(AD43:AM43)<>10,NA(),CF43/(33705*ASTM(AD43,3))))","v":""},"",{"$f":"IF(ISBLANK(AD43),\"\",ASTM(highwayfuf(CG43)-highwayfuf(CG42),3))","v":""},{"$f":"IF(ISBLANK(AD43),\"\",IF(OR(ISNUMBER(AD43)=FALSE,ISNUMBER(AM43)=FALSE),NA(),IF(ASTM(AI43,0)=0,0,CJ43*ASTM(AM43,0))))","v":""},"",{"$f":"IF(ISBLANK(AD43),\"\",IF(COUNT(AD43:AM43)<>10,NA(),CI43*ASTM(AD43,3)))","v":""},"",{"$f":"IF(ISBLANK(AD43),\"\",IF(COUNT(AD43:AM43)<>10,NA(),CN43*ASTM(AD43,3)))","v":""},"",{"$f":"IF(ISBLANK(AD43),\"\",IF(COUNT(AD43:AM43)<>10,NA(),ASTM(mdiuf(CP43)-mdiuf(CP42),3)))","v":""},{"$f":"IF(ISBLANK(AD43),\"\",IF(COUNT(AD43:AM43)<>10,NA(),IF(ASTM(AI43,0)=0,0,CQ43*ASTM(AI43,0)/(CN43))))","v":""},"",{"$f":"IF(ISBLANK(AD43),\"\",IF(COUNT(AD43:AM43)<>10,NA(),ASTM(highwayfufalt(CP43)-highwayfufalt(CP42),3)))","v":""},"",{"$f":"IF(ISBLANK(AD43),\"\",IF(COUNT(AD43:AM43)<>10,NA(),IF(ASTM(AI43,0)=0,0,CT43*ASTM(AM43,0)/(CN43))))","v":""}]
[null,null,null,null,null,null,null,null,null,null,null,null,null,null,null,null,34,null,null,null,null,null,null,null,null,{"$f":"IF(ISBLANK(R44),\"\",IF(OR($J$6=\"HD 2b/3\",COUNT(R44:W44)<>6,$AA$47<>\"Yes\",$AA$49<>\"Yes\"),NA(),IF(ASTM(W44,0)=0,0,ASTM((51740000*$T$46*$T$47)/((($T$46*U44)+(0.429*V44)+(0.273*W44))*((0.6*$T$47*$T$48)+5471)),1))))","v":""},{"$f":"IF(ISBLANK(R44),\"\",IF(OR(AND($J$6<>\"HD 2b/3\",COUNT(R44:W44)<>6),AND($J$6=\"HD 2b/3\",COUNT(R44)+COUNT(W44)<>2),$AA$47<>\"Yes\",$AA$49<>\"Yes\"),NA(),IF(ASTM(W44,0)=0,0,IF($J$6=\"HD 2b/3\",W44,ASTM((($T$46/0.273)*U44)+(1.571*V44)+W44,0)))))","v":""},null,34,null,null,null,null,null,null,null,null,{"$f":"IF(ISBLANK(AD44),\"\",IF(OR($J$6=\"HD 2b/3\",COUNT(AD44:AI44)<>6,$AM$47<>\"Yes\",$AM$49<>\"Yes\"),NA(),IF(ASTM(AI44,0)=0,0,ASTM((51740000*$AF$46*$AF$47)/((($AF$46*AG44)+(0.429*AH44)+(0.273*AI44))*((0.6*$AF$47*$AF$48)+5471)),1))))","v":""},{"$f":"IF(ISBLANK(AD44),\"\",IF(OR(AND($J$6<>\"HD 2b/3\",COUNT(AD44:AI44)<>6),AND($J$6=\"HD 2b/3\",COUNT(AD44)+COUNT(AI44)<>2),$AM$47<>\"Yes\",$AM$49<>\"Yes\"),NA(),IF(ASTM(AI44,0)=0,0,IF($J$6=\"HD 2b/3\",AI44,ASTM((($AF$46/0.273)*AG44)+(1.571*AH44)+AI44,0)))))","v":""},null,null,null,null,null,null,null,null,null,null,"CD total cost per mile ($/mi) [3]",{"$f":"IF($J$6=\"HD 2b/3\",NA(),ASTM(AY43+AY42,3))","v":{"$error":"#N/A"}},{"$f":"IF($J$6=\"HD 2b/3\",NA(),ASTM(AZ43+AZ42,3))","v":{"$error":"#N/A"}},null,null,null,34,{"$f":"IF(ISBLANK(R44),\"\",IF(COUNT(R44:AA44)<>10,NA(),IF(ASTM(W44,0)=0,0,IFERROR(ASTM(R44,3)/ASTM(Z44,1),0))))","v":""},{"$f":"IF(ISBLANK(R44),\"\",IF(COUNT(R44:AA44)<>10,NA(),IF(W44=0,0,ASTM(ASTM(W44,0)*ASTM(R44,3),0))))","v":""},{"$f":"IF(ISBLANK(R44),\"\",IF(COUNT(R44:AA44)<>10,NA(),ASTM(S44,3)-ASTM(S43,3)))","v":""},{"$f":"IF(ISBLANK(R44),\"\",IF(COUNT(R44:AA44)<>10,NA(),ASTM(BG44*ASTM(T44,2),1)))","v":""},{"$f":"IF(ISBLANK(R44),\"\",IF(COUNT(R44:AA44)<>10,NA(),ASTM(ASTM($Y$46,4)*1000*(BH44/$AY$13),1)))","v":""},"",{"$f":"IF(ISBLANK(R44),\"\",IF(COUNT(R44:AA44)<>10,NA(),BI44/(33705*ASTM(R44,3))))","v":""},"",{"$f":"IF(ISBLANK(R44),\"\",IFERROR(ASTM(cityfuf(BJ44)-cityfuf(BJ43),3),\"\"))","v":""},{"$f":"IF(ISBLANK(R44),\"\",IF(OR(ISNUMBER(R44)=FALSE,ISNUMBER(AA44)=FALSE),NA(),IF(ASTM(W44,0)=0,0,BM44*ASTM(AA44,0))))","v":""},"",{"$f":"IF(ISBLANK(R44),\"\",IF(COUNT(R44:AA44)<>10,NA(),BL44*ASTM(R44,3)))","v":""},"",{"$f":"IF(ISBLANK(R44),\"\",IF(COUNT(R44:AA44)<>10,NA(),BQ44*ASTM(R44,3)))","v":""},"",{"$f":"IF(ISBLANK(R44),\"\",IF(COUNT(R44:AA44)<>10,NA(),ASTM(mdiuf(BS44),3)-ASTM(mdiuf(BS43),3)))","v":""},{"$f":"IF(ISBLANK(R44),\"\",IF(COUNT(R44:AA44)<>10,NA(),IF(ASTM(W44,0)=0,0,BT44*ASTM(W44,0)/(BQ44))))","v":""},"",{"$f":"IF(ISBLANK(R44),\"\",IF(COUNT(R44:AA44)<>10,NA(),ASTM(cityfufalt(BS44)-cityfufalt(BS43),3)))","v":""},"",{"$f":"IF(ISBLANK(R44),\"\",IF(COUNT(R44:AA44)<>10,NA(),IF(ASTM(W44,0)=0,0,BW44*ASTM(AA44,0)/(BQ44))))","v":""},null,34,{"$f":"IF(ISBLANK(AD44),\"\",IF(COUNT(AD44:AM44)<>10,NA(),IF(ASTM(AI44,0)=0,0,ASTM(AD44,3)/ASTM(AL44,1))))","v":""},{"$f":"IF(ISBLANK(AD44),\"\",IF(COUNT(AD44:AM44)<>10,NA(),IF(ASTM(AI44,0)=0,0,ASTM(ASTM(AI44,0)*ASTM(AD44,3),0))))","v":""},{"$f":"IF(ISBLANK(AD44),\"\",IF(COUNT(AD44:AM44)<>10,NA(),ASTM(AE44,3)-ASTM(AE43,3)))","v":""},{"$f":"IF(ISBLANK(AD44),\"\",IF(COUNT(AD44:AM44)<>10,NA(),ASTM(CD44*ASTM(AF44,2),1)))","v":""},{"$f":"IF(ISBLANK(AD44),\"\",IF(COUNT(AD44:AM44)<>10,NA(),ASTM(ASTM($AK$46,4)*1000*(CE44/$AZ$13),1)))","v":""},"",{"$f":"IF(ISBLANK(AD44),\"\",IF(COUNT(AD44:AM44)<>10,NA(),CF44/(33705*ASTM(AD44,3))))","v":""},"",{"$f":"IF(ISBLANK(AD44),\"\",ASTM(highwayfuf(CG44)-highwayfuf(CG43),3))","v":""},{"$f":"IF(ISBLANK(AD44),\"\",IF(OR(ISNUMBER(AD44)=FALSE,ISNUMBER(AM44)=FALSE),NA(),IF(ASTM(AI44,0)=0,0,CJ44*ASTM(AM44,0))))","v":""},"",{"$f":"IF(ISBLANK(AD44),\"\",IF(COUNT(AD44:AM44)<>10,NA(),CI44*ASTM(AD44,3)))","v":""},"",{"$f":"IF(ISBLANK(AD44),\"\",IF(COUNT(AD44:AM44)<>10,NA(),CN44*ASTM(AD44,3)))","v":""},"",{"$f":"IF(ISBLANK(AD44),\"\",IF(COUNT(AD44:AM44)<>10,NA(),ASTM(mdiuf(CP44)-mdiuf(CP43),3)))","v":""},{"$f":"IF(ISBLANK(AD44),\"\",IF(COUNT(AD44:AM44)<>10,NA(),IF(ASTM(AI44,0)=0,0,CQ44*ASTM(AI44,0)/(CN44))))","v":""},"",{"$f":"IF(ISBLANK(AD44),\"\",IF(COUNT(AD44:AM44)<>10,NA(),ASTM(highwayfufalt(CP44)-highwayfufalt(CP43),3)))","v":""},"",{"$f":"IF(ISBLANK(AD44),\"\",IF(COUNT(AD44:AM44)<>10,NA(),IF(ASTM(AI44,0)=0,0,CT44*ASTM(AM44,0)/(CN44))))","v":""}]
[null,null,"CD_UDDS/CD_Hwy Weighting","55/45","50/50",null,null,null,null,null,null,null,null,null,null,null,35,null,null,null,null,null,null,null,null,{"$f":"IF(ISBLANK(R45),\"\",IF(OR($J$6=\"HD 2b/3\",COUNT(R45:W45)<>6,$AA$47<>\"Yes\",$AA$49<>\"Yes\"),NA(),IF(ASTM(W45,0)=0,0,ASTM((51740000*$T$46*$T$47)/((($T$46*U45)+(0.429*V45)+(0.273*W45))*((0.6*$T$47*$T$48)+5471)),1))))","v":""},{"$f":"IF(ISBLANK(R45),\"\",IF(OR(AND($J$6<>\"HD 2b/3\",COUNT(R45:W45)<>6),AND($J$6=\"HD 2b/3\",COUNT(R45)+COUNT(W45)<>2),$AA$47<>\"Yes\",$AA$49<>\"Yes\"),NA(),IF(ASTM(W45,0)=0,0,IF($J$6=\"HD 2b/3\",W45,ASTM((($T$46/0.273)*U45)+(1.571*V45)+W45,0)))))","v":""},null,35,null,null,null,null,null,null,null,null,{"$f":"IF(ISBLANK(AD45),\"\",IF(OR($J$6=\"HD 2b/3\",COUNT(AD45:AI45)<>6,$AM$47<>\"Yes\",$AM$49<>\"Yes\"),NA(),IF(ASTM(AI45,0)=0,0,ASTM((51740000*$AF$46*$AF$47)/((($AF$46*AG45)+(0.429*AH45)+(0.273*AI45))*((0.6*$AF$47*$AF$48)+5471)),1))))","v":""},{"$f":"IF(ISBLANK(AD45),\"\",IF(OR(AND($J$6<>\"HD 2b/3\",COUNT(AD45:AI45)<>6),AND($J$6=\"HD 2b/3\",COUNT(AD45)+COUNT(AI45)<>2),$AM$47<>\"Yes\",$AM$49<>\"Yes\"),NA(),IF(ASTM(AI45,0)=0,0,IF($J$6=\"HD 2b/3\",AI45,ASTM((($AF$46/0.273)*AG45)+(1.571*AH45)+AI45,0)))))","v":""},null,null,null,null,null,null,null,null,null,null,"CS cost per mile ($/mi) [3]",{"$f":"IF($J$6=\"HD 2b/3\",NA(),ASTM($F$36/_xlfn.SINGLE(ASTM(N12,4)),3))","v":{"$error":"#N/A"}},{"$f":"IF($J$6=\"HD 2b/3\",NA(),ASTM($F$36/_xlfn.SINGLE(ASTM(O12,4)),3))","v":{"$error":"#N/A"}},null,null,null,35,{"$f":"IF(ISBLANK(R45),\"\",IF(COUNT(R45:AA45)<>10,NA(),IF(ASTM(W45,0)=0,0,IFERROR(ASTM(R45,3)/ASTM(Z45,1),0))))","v":""},{"$f":"IF(ISBLANK(R45),\"\",IF(COUNT(R45:AA45)<>10,NA(),IF(W45=0,0,ASTM(ASTM(W45,0)*ASTM(R45,3),0))))","v":""},{"$f":"IF(ISBLANK(R45),\"\",IF(COUNT(R45:AA45)<>10,NA(),ASTM(S45,3)-ASTM(S44,3)))","v":""},{"$f":"IF(ISBLANK(R45),\"\",IF(COUNT(R45:AA45)<>10,NA(),ASTM(BG45*ASTM(T45,2),1)))","v":""},{"$f":"IF(ISBLANK(R45),\"\",IF(COUNT(R45:AA45)<>10,NA(),ASTM(ASTM($Y$46,4)*1000*(BH45/$AY$13),1)))","v":""},"",{"$f":"IF(ISBLANK(R45),\"\",IF(COUNT(R45:AA45)<>10,NA(),BI45/(33705*ASTM(R45,3))))","v":""},"",{"$f":"IF(ISBLANK(R45),\"\",IFERROR(ASTM(cityfuf(BJ45)-cityfuf(BJ44),3),\"\"))","v":""},{"$f":"IF(ISBLANK(R45),\"\",IF(OR(ISNUMBER(R45)=FALSE,ISNUMBER(AA45)=FALSE),NA(),IF(ASTM(W45,0)=0,0,BM45*ASTM(AA45,0))))","v":""},"",{"$f":"IF(ISBLANK(R45),\"\",IF(COUNT(R45:AA45)<>10,NA(),BL45*ASTM(R45,3)))","v":""},"",{"$f":"IF(ISBLANK(R45),\"\",IF(COUNT(R45:AA45)<>10,NA(),BQ45*ASTM(R45,3)))","v":""},"",{"$f":"IF(ISBLANK(R45),\"\",IF(COUNT(R45:AA45)<>10,NA(),ASTM(mdiuf(BS45),3)-ASTM(mdiuf(BS44),3)))","v":""},{"$f":"IF(ISBLANK(R45),\"\",IF(COUNT(R45:AA45)<>10,NA(),IF(ASTM(W45,0)=0,0,BT45*ASTM(W45,0)/(BQ45))))","v":""},"",{"$f":"IF(ISBLANK(R45),\"\",IF(COUNT(R45:AA45)<>10,NA(),ASTM(cityfufalt(BS45)-cityfufalt(BS44),3)))","v":""},"",{"$f":"IF(ISBLANK(R45),\"\",IF(COUNT(R45:AA45)<>10,NA(),IF(ASTM(W45,0)=0,0,BW45*ASTM(AA45,0)/(BQ45))))","v":""},null,35,{"$f":"IF(ISBLANK(AD45),\"\",IF(COUNT(AD45:AM45)<>10,NA(),IF(ASTM(AI45,0)=0,0,ASTM(AD45,3)/ASTM(AL45,1))))","v":""},{"$f":"IF(ISBLANK(AD45),\"\",IF(COUNT(AD45:AM45)<>10,NA(),IF(ASTM(AI45,0)=0,0,ASTM(ASTM(AI45,0)*ASTM(AD45,3),0))))","v":""},{"$f":"IF(ISBLANK(AD45),\"\",IF(COUNT(AD45:AM45)<>10,NA(),ASTM(AE45,3)-ASTM(AE44,3)))","v":""},{"$f":"IF(ISBLANK(AD45),\"\",IF(COUNT(AD45:AM45)<>10,NA(),ASTM(CD45*ASTM(AF45,2),1)))","v":""},{"$f":"IF(ISBLANK(AD45),\"\",IF(COUNT(AD45:AM45)<>10,NA(),ASTM(ASTM($AK$46,4)*1000*(CE45/$AZ$13),1)))","v":""},"",{"$f":"IF(ISBLANK(AD45),\"\",IF(COUNT(AD45:AM45)<>10,NA(),CF45/(33705*ASTM(AD45,3))))","v":""},"",{"$f":"IF(ISBLANK(AD45),\"\",ASTM(highwayfuf(CG45)-highwayfuf(CG44),3))","v":""},{"$f":"IF(ISBLANK(AD45),\"\",IF(OR(ISNUMBER(AD45)=FALSE,ISNUMBER(AM45)=FALSE),NA(),IF(ASTM(AI45,0)=0,0,CJ45*ASTM(AM45,0))))","v":""},"",{"$f":"IF(ISBLANK(AD45),\"\",IF(COUNT(AD45:AM45)<>10,NA(),CI45*ASTM(AD45,3)))","v":""},"",{"$f":"IF(ISBLANK(AD45),\"\",IF(COUNT(AD45:AM45)<>10,NA(),CN45*ASTM(AD45,3)))","v":""},"",{"$f":"IF(ISBLANK(AD45),\"\",IF(COUNT(AD45:AM45)<>10,NA(),ASTM(mdiuf(CP45)-mdiuf(CP44),3)))","v":""},{"$f":"IF(ISBLANK(AD45),\"\",IF(COUNT(AD45:AM45)<>10,NA(),IF(ASTM(AI45,0)=0,0,CQ45*ASTM(AI45,0)/(CN45))))","v":""},"",{"$f":"IF(ISBLANK(AD45),\"\",IF(COUNT(AD45:AM45)<>10,NA(),ASTM(highwayfufalt(CP45)-highwayfufalt(CP44),3)))","v":""},"",{"$f":"IF(ISBLANK(AD45),\"\",IF(COUNT(AD45:AM45)<>10,NA(),IF(ASTM(AI45,0)=0,0,CT45*ASTM(AM45,0)/(CN45))))","v":""}]
[null,null,"Weighted avg of all recharge times (Hours)",{"$f":"IF($J$6=\"HD 2b/3\",NA(),0.55*D43+0.45*E43)","v":{"$error":"#N/A"}},{"$f":"IF($J$6=\"HD 2b/3\",NA(),0.5*D43+0.5*E43)","v":{"$error":"#N/A"}},null,null,null,null,null,null,null,null,null,null,null,null,null,"CWF [3]:",0.86499999999999999,null,null,null,"Recharge energy (AC kilowatt-hours) [4]:",12.015000000000001,null,"Fuel?",null,null,null,"CWF [3]:",0.86499999999999999,null,null,null,"Recharge energy (AC kilowatt-hours) [4]:",12.023999999999999,null,"Fuel?",null,null,null,null,null,null,null,null,null,null,"Composite CD/CS cost ($/mi) [3]",{"$f":"IF($J$6=\"HD 2b/3\",NA(),ASTM(AY31*AY44+(1-AY31)*AY45,3))","v":{"$error":"#N/A"}},{"$f":"IF($J$6=\"HD 2b/3\",NA(),ASTM(AZ31*AZ44+(1-AZ31)*AZ45,3))","v":{"$error":"#N/A"}}]
[null,null,null,null,null,null,null,null,null,null,null,null,null,null,null,null,null,null,"SG [3]:",0.73499999999999999,null,null,null,"All-Electric Range (Miles) [3]:",59.055,null,{"$f":"IF(AND(ISNUMBER(T46),ISNUMBER(T47),ISNUMBER(T48),T46>0.5,T46<1,T47>0.5,T47<1,T48>17000,T48<20000),\"Yes\",\"No\")","v":"Yes"},null,null,null,"SG [3]:",0.73499999999999999,null,null,null,"All-Electric Range (Miles) [3]:",47.262,null,{"$f":"IF(AND(ISNUMBER(AF46),ISNUMBER(AF47),ISNUMBER(AF48),AF46>0.5,AF46<1,AF47>0.5,AF47<1,AF48>17000,AF48<20000),\"Yes\",\"No\")","v":"Yes"},null,null,null,null,null,null,null,null,null,null,"COMPOSITE CD/CS FUEL ECONOMY AND CO2 VALUES, ADJUSTED","CITY","HIGHWAY"]
[null,"THE FOLLOWING VALUES ARE USED FOR OTHER EPA PUBLICATIONS OR PROGRAMS",null,null,null,null,null,null,null,null,null,null,null,null,null,null,null,null,"NHV [0]:",18487,null,null,null,"Transition Cycle [0]:",8,null,"Footer?",null,null,null,"NHV [0]:",18487,null,null,null,"Transition Cycle [0]:",5,null,"Footer?",null,null,null,null,null,null,null,null,null,null,"Composite CD/CS CO2, adjusted (g/mi) [1]",{"$f":"IF($J$6=\"HD 2b/3\",NA(),ASTM(IFERROR(AY26+(1-AY32)*N15,#VALUE!),1))","v":{"$error":"#N/A"}},{"$f":"IF($J$6=\"HD 2b/3\",NA(),ASTM(IFERROR(AZ26+(1-AZ32)*O15,#VALUE!),1))","v":{"$error":"#N/A"}}]
[null,null,"Trends Report Values","City","Highway",null,null,null,null,null,null,null,null,null,null,null,null,null,null,null,null,null,null,"Recharge time (optional)(Hours) [2]:",null,null,{"$f":"IF(AND(ISNUMBER(Y46),ISNUMBER(Y47),ISNUMBER(Y48),Y46>0,Y47>0,Y48>0,Y48<35),\"Yes\",\"No\")","v":"Yes"},null,null,null,null,null,null,null,null,"Recharge time (optional)(Hours) [2]:",null,null,{"$f":"IF(AND(ISNUMBER(AK46),ISNUMBER(AK47),ISNUMBER(AK48),AK46>0,AK47>0,AK48>0,AK48<35),\"Yes\",\"No\")","v":"Yes"},null,null,null,null,null,null,null,null,null,null,"Composite CD/CS Fuel Economy, adjusted (MPG) [4]",{"$f":"IF($J$6=\"HD 2b/3\",NA(),IFERROR(ASTM(IFERROR(1/(AY17+(1-AY32)/N12),#VALUE!),4),0))","v":{"$error":"#N/A"}},{"$f":"IF($J$6=\"HD 2b/3\",NA(),IFERROR(ASTM(IFERROR(1/(AZ17+(1-AZ32)/O12),#VALUE!),4),0))","v":{"$error":"#N/A"}}]
[null,null,"Fleet Utility Factor (43/57)",{"$f":"IF($J$6=\"HD 2b/3\",NA(),ASTM(IF($N$7+$N$55+$N$103=0,SUM(IFERROR(AR33,0),IFERROR(AR81,0),IFERROR(AR129,0)) / ((AR33<>0)+(AR81<>0)+(AR129<>0)),($N$7*AR33+$N$55*AR81+$N$103*AR129)/($N$7+$N$55+$N$103)),4))","v":{"$error":"#N/A"}},{"$f":"IF($J$6=\"HD 2b/3\",NA(),ASTM(IF($N$7+$N$55+$N$103=0,SUM(IFERROR(AS33,0),IFERROR(AS81,0),IFERROR(AS129,0)) / ((AS33<>0)+(AS81<>0)+(AS129<>0)),($N$7*AS33+$N$55*AS81+$N$103*AS129)/($N$7+$N$55+$N$103)),4))","v":{"$error":"#N/A"}}]
[null,null,"Unadjusted Fuel Economy (MPG)",{"$f":"IF($J$6=\"HD 2b/3\",NA(),ASTM(IF($N$7+$N$55+$N$103=0,    ((AR34<>0)+(AR82<>0)+(AR130<>0))/(IFERROR(1/AR34,0)+IFERROR(1/AR82,0)+IFERROR(1/AR130,0)),    ($N$7+$N$55+$N$103) / (IFERROR($N$7/AR34,0)+IFERROR($N$55/AR82,0)+IFERROR($N$103/AR130,0))  ),4))","v":{"$error":"#N/A"}},{"$f":"IF($J$6=\"HD 2b/3\",NA(),ASTM(IF($N$7+$N$55+$N$103=0,    ((AS34<>0)+(AS82<>0)+(AS130<>0))/(IFERROR(1/AS34,0)+IFERROR(1/AS82,0)+IFERROR(1/AS130,0)),    ($N$7+$N$55+$N$103) / (IFERROR($N$7/AS34,0)+IFERROR($N$55/AS82,0)+IFERROR($N$103/AS130,0))  ),4))","v":{"$error":"#N/A"}},null,null,null,null,null,null,null,"Test Set #2",null,null,null,"Test Set #2",null,null,null,null,null,null,null,null,null,null,null,"Test Set #2",null,null,null,null,null,null,null,null,null,null,null,null,null,"Results from Test Set #2:",{"$f":"N52","v":0},null,null,null,null,"INTERMEDIATE CALCULATIONS AND INPUTS",null,"Test Set #2:",{"$f":"N53","v":0}]
[null,null,"Unadjusted GHG (g/mi)",{"$f":"IF($J$6=\"HD 2b/3\",NA(),ASTM(IFERROR(IF($N$7+$N$55+$N$103=0,SUM(IFERROR(AR35,0),IFERROR(AR83,0),IFERROR(AR131,0)) / ((AR35<>0)+(AR83<>0)+(AR131<>0)),($N$7*AR35+$N$55*AR83+$N$103*AR131)/($N$7+$N$55+$N$103)),\"CREE data error\"),1))","v":{"$error":"#N/A"}},{"$f":"IF($J$6=\"HD 2b/3\",NA(),ASTM(IFERROR(IF($N$7+$N$55+$N$103=0,SUM(IFERROR(AS35,0),IFERROR(AS83,0),IFERROR(AS131,0)) / ((AS35<>0)+(AS83<>0)+(AS131<>0)),($N$7*AS35+$N$55*AS83+$N$103*AS131)/($N$7+$N$55+$N$103)),\"CREE data error\"),1))","v":{"$error":"#N/A"}},null,null,null," ",null,null,null,null,null,null,null,null,null,null,null,null,null,null,null,null,null,null,null,null,null,null,null,null,null,null,null,null,null,null,null,null,null,"CAFE Values",null,null,null,null,null,"Charge-Depleting (CD) Test Results",null,null,null,null,null,null,"DETAILED CALCULATIONS",null,"UDDS",{"$f":"$AZ51","v":0},null,null,null,null,null,null,null,null,null,null,null,null,null,null,null,null,null,null,null,"DETAILED CALCULATIONS",null,"HFET",{"$f":"AZ51","v":0}]
[null,null,"Adjusted Fuel Economy (MPG)",{"$f":"IF($J$6=\"HD 2b/3\",NA(),ASTM(IF($N$7+$N$55+$N$103=0,    ((AR36<>0)+(AR84<>0)+(AR132<>0))/(IFERROR(1/AR36,0)+IFERROR(1/AR84,0)+IFERROR(1/AR132,0)),    ($N$7+$N$55+$N$103) / (IFERROR($N$7/AR36,0)+IFERROR($N$55/AR84,0)+IFERROR($N$103/AR132,0))  ),4))","v":{"$error":"#N/A"}},{"$f":"IF($J$6=\"HD 2b/3\",NA(),ASTM(IF($N$7+$N$55+$N$103=0,    ((AS36<>0)+(AS84<>0)+(AS132<>0))/(IFERROR(1/AS36,0)+IFERROR(1/AS84,0)+IFERROR(1/AS132,0)),    ($N$7+$N$55+$N$103) / (IFERROR($N$7/AS36,0)+IFERROR($N$55/AS84,0)+IFERROR($N$103/AS132,0))  ),4))","v":{"$error":"#N/A"}},null,null,null,null,null,null,null,null,null,null,null,"ENTER CHARGE-DEPLETING UDDS (CITY) DATA HERE",null,null,null,null,null,null,null,null,null,null,null,"ENTER CHARGE-DEPLETING HFET (HIGHWAY) DATA HERE",null,null,null,null,null,null,null,null,null,null,null,null,null,"A. PHEV meets dual fuel criteria:","City","Highway","Combined",null,null,null,"DRIVING DISTANCE VALUES","CITY","HIGHWAY",null,null,null,"Cycle No.","Gasoline Consumed","CO2\n[0]","Net Amp-Hours Used Per Cycle [3]","DC Electricity Consumed\n[1]","AC Electricity Consumed\n[1]","Theoretical Cumulative Cycle Distance","Electric Only Fuel Consumption Rate","Total Fuel Consumption Rate (gas + electric)","55/45 City Fleet Utility Factor\n[3]",{"$f":"IF($J$6=\"HD 2b/3\",\"55/45 City FUF\nx\nCREE (CO2)\",\"55/45 City FUF\nx\nCREE\")","v":"55/45 City FUF\nx\nCREE (CO2)"},"55/45 City FUF\nx\nTotal Consumption","Total Fuel Consumption (gas + electric)","5-Cycle Adjustment","Adjusted Cycle Measured Distance","Adjusted Cycle Theoretical Cumulative Distance","MDIUF\n[3]","MDIUF\nx\nAdjusted CO2","MDIUF\nx\nAdjusted Total Fuel Consumption","43/57 City Fleet Utility Factor\n[3]","43/57 City FUF x\nAdjusted Total Fuel Consumption Rate","43/57 City FUF\nx\nAdjusted CREE",null,"Cycle No.","Gasoline Consumed","CO2\n[0]","Net Amp-Hours Used Per Cycle [3]","DC Electricity Consumed\n[1]","AC Electricity Consumed\n[1]","Theoretical Cumulative Cycle Distance","Electric Only Fuel Consumption Rate","Total Fuel Consumption Rate (gas + electric)","55/45 Highway Fleet Utility Factor\n[3]",{"$f":"IF($J$6=\"HD 2b/3\",\"55/45 City FUF\nx\nCREE (CO2)\",\"55/45 City FUF\nx\nCREE\")","v":"55/45 City FUF\nx\nCREE (CO2)"},"55/45 Highway FUF\nx\nTotal Consumption","Total Fuel Consumption (gas + electric)","5-Cycle Adjustment","Adjusted Cycle Measured Distance","Adjusted Cycle Theoretical Cumulative Distance","MDIUF\n[3]","MDIUF\nx\nAdjusted CO2","MDIUF\nx\nAdjusted Total Fuel Consumption","43/57 Highway Fleet Utility Factor\n[3]","43/57 Highway FUF x\nAdjusted Total Fuel Consumption Rate","43/57 Highway FUF\nx\nAdjusted CREE"]
[null,null,"Adjusted GHG (g/mi)",{"$f":"IF($J$6=\"HD 2b/3\",NA(),ASTM(IF($N$7+$N$55+$N$103=0,SUM(IFERROR(AR37,0),IFERROR(AR85,0),IFERROR(AR133,0)) / ((AR37<>0)+(AR85<>0)+(AR133<>0)),($N$7*AR37+$N$55*AR85+$N$103*AR133)/($N$7+$N$55+$N$103)),1))","v":{"$error":"#N/A"}},{"$f":"IF($J$6=\"HD 2b/3\",NA(),ASTM(IF($N$7+$N$55+$N$103=0,SUM(IFERROR(AS37,0),IFERROR(AS85,0),IFERROR(AS133,0)) / ((AS37<>0)+(AS85<>0)+(AS133<>0)),($N$7*AS37+$N$55*AS85+$N$103*AS133)/($N$7+$N$55+$N$103)),1))","v":{"$error":"#N/A"}},null,null,null,null,null,null,null,"Test Set name (e.g., Eco, Power):",null,null,null,"Cycle No.","Cycle/\nPhase\nMeasured\nDistance","Integrated Amp-Hours Electricity Used","Average\nCycle\nVoltage","HC-Total","CO","CO2","Mfr Calc\nFuel\nEconomy","Mfr Calc\nCREE","EPA Calc\n(E0 Gas)\nFuel\nEconomy",{"$f":"IF($J$6=\"HD 2b/3\",\"EPA Calc\n(E0 Gas)\nCREE=CO2\",\"EPA Calc\n(E0 Gas)\nCREE\")","v":"EPA Calc\n(E0 Gas)\nCREE=CO2"},null,"Cycle No.","Cycle/\nPhase\nMeasured\nDistance","Integrated Amp-Hours Electricity Used","Average\nCycle\nVoltage","HC-Total","CO","CO2","Mfr Calc\nFuel\nEconomy","Mfr Calc\nCREE","EPA Calc\n(E0 Gas)\nFuel\nEconomy",{"$f":"IF($J$6=\"HD 2b/3\",\"EPA Calc\n(E0 Gas)\nCREE=CO2\",\"EPA Calc\n(E0 Gas)\nCREE\")","v":"EPA Calc\n(E0 Gas)\nCREE=CO2"},null,null,null," 1. Default 50/50 Composite MPGe [4]",{"$f":"IF($J$6=\"HD 2b/3\",NA(),IFERROR(ASTM(1/(0.5/((82049)/(AY59/AY85))+0.5/N59),4),0))","v":{"$error":"#N/A"}},{"$f":"IF($J$6=\"HD 2b/3\",NA(),IFERROR(ASTM(1/(0.5/((82049)/(AZ59/AZ85))+0.5/O59),4),0))","v":{"$error":"#N/A"}},{"$f":"IF($J$6=\"HD 2b/3\",NA(),IFERROR(ASTM(1/(0.55/AR54+0.45/AS54),4),0))","v":{"$error":"#N/A"}},null,null,null,"CD driving distance (Rcda), unadjusted (miles) [3]",{"$f":"IF($J$6=\"HD 2b/3\",NA(),IFERROR(ASTM(SUMIF(Q59:Q93,\"<=\" & ($AY82-1),R59:R93) + AY81*VLOOKUP($AY82,Q59:R93,2,FALSE),3),0))","v":{"$error":"#N/A"}},{"$f":"IF($J$6=\"HD 2b/3\",NA(),IFERROR(ASTM(SUMIF(AC59:AC93,\"<=\" & ($AZ82-1),AD59:AD93) + AZ81*VLOOKUP($AZ82,AC59:AD93,2,FALSE),3),0))","v":{"$error":"#N/A"}}]
[null,null,"HOV Lane Values","City","Highway","Combined",null,null,null,null,null,null,"Production Volume (projected or actual):",null,null,null,null,null,null,null,null,null,null,null,null,null,null,null,null,null,null,null,null,null,null,null,null,null,null,null,null,null," 2. Optional Utility Factor Composite MPGe [4]",{"$f":"IF($J$6=\"HD 2b/3\",NA(),IFERROR(ASTM(1/(AY88/((82049)/(AY59/AY85))+(1-AY88)/N59), 4),0))","v":{"$error":"#N/A"}},{"$f":"IF($J$6=\"HD 2b/3\",NA(),IFERROR(ASTM(1/(AZ88/((82049)/(AZ59/AZ85))+(1-AZ88)/O59), 4),0))","v":{"$error":"#N/A"}},{"$f":"IF($J$6=\"HD 2b/3\",NA(),IFERROR(ASTM(1/(0.55/AR55+0.45/AS55),4),0))","v":{"$error":"#N/A"}},null,null,null,"CD driving distance (Rcda), adjusted (miles) [3]",{"$f":"IF($J$6=\"HD 2b/3\",NA(),IFERROR(ASTM(SUMIF(BD59:BD93,\"<\"&AY82,BR59:BR93)+AY81*SUMIF(BD59:BD93,\"=\"&AY82,BR59:BR93),3),0))","v":{"$error":"#N/A"}},{"$f":"IF($J$6=\"HD 2b/3\",NA(),IFERROR(ASTM(SUMIF(CA59:CA93,\"<\"&AZ82,CO59:CO93)+AZ81*SUMIF(CA59:CA93,\"=\"&AZ82,CO59:CO93),3),0))","v":{"$error":"#N/A"}}]
[null,null,"MDIUF based on unadjusted Rcda",{"$f":"IF($J$6=\"HD 2b/3\",NA(),IF($N$7+$N$55+$N$103=0,SUM(IFERROR(AR30,0),IFERROR(AR78,0),IFERROR(AR126,0)) / ((AR30<>0)+(AR78<>0)+(AR126<>0)),($N$7*AR30+$N$55*AR78+$N$103*AR126)/($N$7+$N$55+$N$103)))","v":{"$error":"#N/A"}},{"$f":"IF($J$6=\"HD 2b/3\",NA(),IF($N$7+$N$55+$N$103=0,SUM(IFERROR(AS30,0),IFERROR(AS78,0),IFERROR(AS126,0)) / ((AS30<>0)+(AS78<>0)+(AS126<>0)),($N$7*AS30+$N$55*AS78+$N$103*AS126)/($N$7+$N$55+$N$103)))","v":{"$error":"#N/A"}},null,null,null,null,null,null,null,null,null,null,null,null,null,null,null,null,null,null,null,null,null,null,null,null,null,null,null,null,null,null,null,null,null,null,null,null,null,"B. PHEV does NOT meet dual fuel criteria:","City","Highway","Combined",null,null,null,"CD all-electric driving distance, unadjusted (miles) [3]",{"$f":"IF($J$6=\"HD 2b/3\",NA(),IF(ISNUMBER(Y95), ASTM(Y95,3), 0))","v":{"$error":"#N/A"}},{"$f":"IF($J$6=\"HD 2b/3\",NA(),IF(ISNUMBER(AK95), ASTM(AK95,3), 0))","v":{"$error":"#N/A"}}]
[null,null,"Composite CD/CS Fuel Economy (MPGe)",{"$f":"IF($J$6=\"HD 2b/3\",NA(),IF($N$7+$N$55+$N$103=0,    ((AR31<>0)+(AR79<>0)+(AR127<>0))/(IFERROR(1/AR31,0)+IFERROR(1/AR79,0)+IFERROR(1/AR127,0)),    ($N$7+$N$55+$N$103) / (IFERROR($N$7/AR31,0)+IFERROR($N$55/AR79,0)+IFERROR($N$103/AR127,0))  ))","v":{"$error":"#N/A"}},{"$f":"IF($J$6=\"HD 2b/3\",NA(),IF($N$7+$N$55+$N$103=0,    ((AS31<>0)+(AS79<>0)+(AS127<>0))/(IFERROR(1/AS31,0)+IFERROR(1/AS79,0)+IFERROR(1/AS127,0)),    ($N$7+$N$55+$N$103) / (IFERROR($N$7/AS31,0)+IFERROR($N$55/AS79,0)+IFERROR($N$103/AS127,0))  ))","v":{"$error":"#N/A"}},{"$f":"IF(OR(ISNUMBER(D57)=FALSE,ISNUMBER(E57)=FALSE),NA(),1/(0.55/D57+0.45/E57))","v":{"$error":"#N/A"}},null,null,null,null,null,null,"ENTER CHARGE-SUSTAINING TEST RESULTS HERE",null,null,null,null,null,null,null,null,null,null,null,null,null,null,null,null,null,null,null,null,null,null,null,null,null,null,null,null,null,"  1. Utility Factor Composite MPGe [4]",{"$f":"IF($J$6=\"HD 2b/3\",NA(),IFERROR(ASTM(1/(AY63+(1-AY78)/N59),4),0))","v":{"$error":"#N/A"}},{"$f":"IF($J$6=\"HD 2b/3\",NA(),IFERROR(ASTM(1/(AZ63+(1-AZ78)/O59),4),0))","v":{"$error":"#N/A"}},{"$f":"IF($J$6=\"HD 2b/3\",NA(),IFERROR(ASTM(1/(0.55/AR57+0.45/AS57),4),0))","v":{"$error":"#N/A"}},null,null,null,"CD All-Electric Range, adjusted (mi) [3]",{"$f":"IF($J$6=\"HD 2b/3\",NA(),ASTM( 0.7*AY56, 3))","v":{"$error":"#N/A"}},{"$f":"IF($J$6=\"HD 2b/3\",NA(),ASTM( 0.7*AZ56, 3))","v":{"$error":"#N/A"}}]
[null,null,"Fueleconomy.gov Values",null,null,null,null,null,null,null,null,null,null,"City","Highway",null,"No.","Miles [3]","Amp-hrs [3]","Volts [2]","g/mi [3]","g/mi [2]","g/mi [0]","MPG [1]","g/mi [0]","MPG [1]","g/mi [0]",null,"No.","Miles [3]","Amp-hrs [3]","Volts [2]","g/mi [3]","g/mi [2]","g/mi [0]","MPG [1]","g/mi [0]","MPG [1]","g/mi [0]",null,null,null,"GHG Values","City","Highway","Combined",null,null,null,"FUEL CONSUMPTION & ECONOMY VALUES","CITY","HIGHWAY",null,null,null,"No.","gal","grams","Amp-hours","W-hours","W-hours","mi","gal/mi equiv","gal/mi equiv","UF","UF","gal/mi equiv","gal-equiv","%","miles","miles","UF","g/mi","gal/mi equiv","UF","gal/mi equiv","g/mi",null,"No.","gal","grams","Amp-hours","W-hours","W-hours","mi","gal/mi equiv","gal/mi equiv","UF","UF","gal/mi equiv","gal-equiv","%","miles","miles","UF","g/mi","gal-equiv","UF","gal-equiv","g/mi"]
[null,null,"Charge-sustaining Efficiency",null,null,"MPG",null,null,null,null,null,null,"Fuel Economy, Unadjusted (MPG):",56.934199999999997,53.884999999999998,null,1,7.4550000000000001,4.742,314.2,0,0,0,0,0,{"$f":"IF(ISBLANK(R59),\"\",IF(OR($J$6=\"HD 2b/3\",COUNT(R59:W59)<>6,$AA$95<>\"Yes\",$AA$97<>\"Yes\"),NA(),IF(ASTM(W59,0)=0,0,ASTM((51740000*$T$94*$T$95)/((($T$94*U59)+(0.429*V59)+(0.273*W59))*((0.6*$T$95*$T$96)+5471)),1))))","v":{"$error":"#N/A"}},{"$f":"IF(ISBLANK(R59),\"\",IF(OR(AND($J$6<>\"HD 2b/3\",COUNT(R59:W59)<>6),AND($J$6=\"HD 2b/3\",COUNT(R59)+COUNT(W59)<>2),$AA$95<>\"Yes\",$AA$97<>\"Yes\"),NA(),IF(ASTM(W59,0)=0,0,IF($J$6=\"HD 2b/3\",W59,ASTM((($T$94/0.273)*U59)+(1.571*V59)+W59,0)))))","v":0},null,1,10.25,7.1440000000000001,333.3,0,0,0,0,0,{"$f":"IF(ISBLANK(AD59),\"\",IF(OR($J$6=\"HD 2b/3\",COUNT(AD59:AI59)<>6,$AM$47<>\"Yes\",$AM$49<>\"Yes\"),NA(),IF(ASTM(AI59,0)=0,0,ASTM((51740000*$AF$46*$AF$47)/((($AF$46*AG59)+(0.429*AH59)+(0.273*AI59))*((0.6*$AF$47*$AF$48)+5471)),1))))","v":{"$error":"#N/A"}},{"$f":"IF(ISBLANK(AD59),\"\",IF(OR(AND($J$6<>\"HD 2b/3\",COUNT(AD59:AI59)<>6),AND($J$6=\"HD 2b/3\",COUNT(AD59)+COUNT(AI59)<>2),$AM$95<>\"Yes\",$AM$97<>\"Yes\"),NA(),IF(ASTM(AI59,0)=0,0,IF($J$6=\"HD 2b/3\",AI59,ASTM((($AF$94/0.273)*AG59)+(1.571*AH59)+AI59,0)))))","v":0},null,null,null,"Composite CREE no DF, (g/mi) [1]",{"$f":"IFERROR(_xlfn.SINGLE(IF(OR(SUM(AA59:AA93)=0,N61=0,ISBLANK(N61), LOOKUP(2,1/(AA59:AA93<>\"\"),ROW(AA59:AA93))<LOOKUP(2,1/(R59:R93<>\"\"),ROW(R59:R93))),\"ERROR\",ASTM(AY75+(1-AY78)*N61,1))),0)","v":20.399999999999999},{"$f":"IFERROR(_xlfn.SINGLE(IF(OR(SUM(AM59:AM93)=0,O61=0,ISBLANK(O61), LOOKUP(2,1/(AM59:AM93<>\"\"),ROW(AM59:AM93))<LOOKUP(2,1/(AD59:AD93<>\"\"),ROW(AD59:AD88))),\"ERROR\",ASTM(AZ75+(1-AZ78)*O61,1))),0)","v":85},{"$f":"IF(OR(ISNUMBER(AR59)=FALSE,ISNUMBER(AS59)=FALSE),NA(),ASTM(0.55*AR59+0.45*AS59,1))","v":49.5},null,null,"NEW","CD AC electricity consumption (Rcdc), unadjusted (Watt-hours) [1]",{"$f":"IF($J$6=\"HD 2b/3\",NA(),ASTM(SUMIF(BD59:BD93,\"<=\" & AY82,BI59:BI93),1))","v":{"$error":"#N/A"}},{"$f":"IF($J$6=\"HD 2b/3\",NA(),ASTM(SUMIF(CA59:CA93,\"<=\" & AZ82,CF59:CF93),1))","v":{"$error":"#N/A"}},null,null,null,1,{"$f":"IF(ISBLANK(R59),\"\",IF(COUNT(R59:AA59)<>10,NA(),IF(ASTM(W59,0)=0,0,IFERROR(ASTM(R59,3)/ASTM(Z59,1),0))))","v":{"$error":"#N/A"}},{"$f":"IF(ISBLANK(R59),\"\",IF(COUNT(R59:AA59)<>10,NA(),IF(W59=0,0,ASTM(ASTM(W59,0)*ASTM(R59,3),0))))","v":{"$error":"#N/A"}},{"$f":"IF(ISBLANK(R59),\"\",IF(COUNT(R59:AA59)<>10,NA(),ASTM(S59,3)))","v":{"$error":"#N/A"}},{"$f":"IF(ISBLANK(R59),\"\",IF(COUNT(R59:AA59)<>10,NA(),ASTM(BG59*ASTM(T59,2),1)))","v":{"$error":"#N/A"}},{"$f":"IF(ISBLANK(R59),\"\",IF(COUNT(R59:AA59)<>10,NA(),ASTM(ASTM($Y$94,4)*1000*(BH59/$AY$61),1)))","v":{"$error":"#N/A"}},{"$f":"IF(ISBLANK(R59),\"\",BD59*7.45)","v":7.45},{"$f":"IF(ISBLANK(R59),\"\",IF(COUNT(R59:AA59)<>10,NA(),BI59/(33705*ASTM(R59,3))))","v":{"$error":"#N/A"}},{"$f":"IF(ISBLANK(R59),\"\",IF(COUNT(R59:AA59)<>10,NA(),BK59+BE59/ASTM(R59,3)))","v":{"$error":"#N/A"}},{"$f":"IF(ISBLANK(R59),\"\",IFERROR(ASTM(cityfuf(BJ59)-0,3),\"\"))","v":0.24299999999999999},{"$f":"IF(ISBLANK(R59),\"\",IF(OR(ISNUMBER(R59)=FALSE,ISNUMBER(AA59)=FALSE),NA(),IF(ASTM(W59,0)=0,0,BM59*ASTM(AA59,0))))","v":0},{"$f":"IF(ISBLANK(R59),\"\",IF(COUNT(R59:AA59)<>10,NA(),BL59*BM59))","v":{"$error":"#N/A"}},{"$f":"IF(ISBLANK(R59),\"\",IF(COUNT(R59:AA59)<>10,NA(),BL59*ASTM(R59,3)))","v":{"$error":"#N/A"}},{"$f":"IF(ISBLANK(R59),\"\",IF(COUNT(R59:AA59)<>10,NA(),MAX(1/(0.004091*(1/BL59)+1.1601),0.7)))","v":{"$error":"#N/A"}},{"$f":"IF(ISBLANK(R59),\"\",IF(COUNT(R59:AA59)<>10,NA(),BQ59*ASTM(R59,3)))","v":{"$error":"#N/A"}},{"$f":"IF(ISBLANK(R59),\"\",IF(COUNT(R59:AA59)<>10,NA(),BQ59*7.45))","v":{"$error":"#N/A"}},{"$f":"IF(ISBLANK(R59),\"\",IF(COUNT(R59:AA59)<>10,NA(),ASTM(mdiuf(BS59)-0,3)))","v":{"$error":"#N/A"}},{"$f":"IF(ISBLANK(R59),\"\",IF(COUNT(R59:AA59)<>10,NA(),IF(ASTM(W59,0)=0,0,BT59*ASTM(W59,0)/(BQ59))))","v":{"$error":"#N/A"}},{"$f":"IF(ISBLANK(R59),\"\",IF(COUNT(R59:AA59)<>10,NA(),BT59*BL59/BQ59))","v":{"$error":"#N/A"}},{"$f":"IF(ISBLANK(R59),\"\",IF(COUNT(R59:AA59)<>10,NA(),ASTM(cityfufalt(BS59)-0,3)))","v":{"$error":"#N/A"}},{"$f":"IF(ISBLANK(R59),\"\",IF(COUNT(R59:AA59)<>10,NA(),BW59*BL59/BQ59))","v":{"$error":"#N/A"}},{"$f":"IF(ISBLANK(R59),\"\",IF(COUNT(R59:AA59)<>10,NA(),IF(ASTM(W59,0)=0,0,BW59*ASTM(AA59,0)/(BQ59))))","v":{"$error":"#N/A"}},null,1,{"$f":"IF(ISBLANK(AD59),\"\",IF(COUNT(AD59:AM59)<>10,NA(),IF(ASTM(AI59,0)=0,0,ASTM(AD59,3)/ASTM(AL59,1))))","v":{"$error":"#N/A"}},{"$f":"IF(ISBLANK(AD59),\"\",IF(COUNT(AD59:AM59)<>10,NA(),IF(ASTM(AI59,0)=0,0,ASTM(ASTM(AI59,0)*ASTM(AD59,3),0))))","v":{"$error":"#N/A"}},{"$f":"IF(ISBLANK(AD59),\"\",IF(COUNT(AD59:AM59)<>10,NA(),ASTM(AE59,3)))","v":{"$error":"#N/A"}},{"$f":"IF(ISBLANK(AD59),\"\",IF(COUNT(AD59:AM59)<>10,NA(),ASTM(CD59*ASTM(AF59,2),1)))","v":{"$error":"#N/A"}},{"$f":"IF(ISBLANK(AD59),\"\",IF(COUNT(AD59:AM59)<>10,NA(),ASTM(ASTM($AK$94,4)*1000*(CE59/$AZ$61),1)))","v":{"$error":"#N/A"}},{"$f":"IF(ISBLANK(AD59),\"\",CA59*10.3)","v":10.3},{"$f":"IF(ISBLANK(AD59),\"\",IF(COUNT(AD59:AM59)<>10,NA(),CF59/(33705*ASTM(AD59,3))))","v":{"$error":"#N/A"}},{"$f":"IF(ISBLANK(AD59),\"\",IF(COUNT(AD59:AM59)<>10,NA(),CH59+CB59/ASTM(AD59,3)))","v":{"$error":"#N/A"}},{"$f":"IF(ISBLANK(AD59),\"\",ASTM(highwayfuf(CG59)-0,3))","v":0.123},{"$f":"IF(ISBLANK(AD59),\"\",IF(OR(ISNUMBER(AD59)=FALSE,ISNUMBER(AM59)=FALSE),NA(),IF(ASTM(AI59,0)=0,0,CJ59*ASTM(AM59,0))))","v":0},{"$f":"IF(ISBLANK(AD59),\"\",IF(COUNT(AD59:AM59)<>10,NA(),CI59*CJ59))","v":{"$error":"#N/A"}},{"$f":"IF(ISBLANK(AD59),\"\",IF(COUNT(AD59:AM59)<>10,NA(),CI59*ASTM(AD59,3)))","v":{"$error":"#N/A"}},{"$f":"IF(ISBLANK(AD59),\"\",IF(COUNT(AD59:AM59)<>10,NA(),MAX(1/(0.003191*(1/CI59)+1.2945),0.7)))","v":{"$error":"#N/A"}},{"$f":"IF(ISBLANK(AD59),\"\",IF(COUNT(AD59:AM59)<>10,NA(),CN59*ASTM(AD59,3)))","v":{"$error":"#N/A"}},{"$f":"IF(ISBLANK(AD59),\"\",IF(COUNT(AD59:AM59)<>10,NA(),CN59*10.3))","v":{"$error":"#N/A"}},{"$f":"IF(ISBLANK(AD59),\"\",IF(COUNT(AD59:AM59)<>10,NA(),ASTM(mdiuf(CP59)-0,3)))","v":{"$error":"#N/A"}},{"$f":"IF(ISBLANK(AD59),\"\",IF(COUNT(AD59:AM59)<>10,NA(),IF(ASTM(AI59,0)=0,0,CQ59*ASTM(AI59,0)/(CN59))))","v":{"$error":"#N/A"}},{"$f":"IF(ISBLANK(AD59),\"\",IF(COUNT(AD59:AM59)<>10,NA(),CQ59*CI59/CN59))","v":{"$error":"#N/A"}},{"$f":"IF(ISBLANK(AD59),\"\",IF(COUNT(AD59:AM59)<>10,NA(),ASTM(highwayfufalt(CP59)-0,3)))","v":{"$error":"#N/A"}},{"$f":"IF(ISBLANK(AD59),\"\",IF(COUNT(AD59:AM59)<>10,NA(),CT59*CI59/CN59))","v":{"$error":"#N/A"}},{"$f":"IF(ISBLANK(AD59),\"\",IF(COUNT(AD59:AM59)<>10,NA(),IF(ASTM(AI59,0)=0,0,CT59*ASTM(AM59,0)/(CN59))))","v":{"$error":"#N/A"}}]
[null,null,"City Rounded Adjusted FE (Guide) - Conventional Fuel",null,null,{"$f":"IF($J$6=\"HD 2b/3\",NA(),ASTM(IF($N$7+$N$55+$N$103=0,    ((N12<>0)+(N60<>0)+(N108<>0))/(IFERROR(1/N12,0)+IFERROR(1/N60,0)+IFERROR(1/N108,0)),    ($N$7+$N$55+$N$103) / (IFERROR($N$7/N12,0)+IFERROR($N$55/N60,0)+IFERROR($N$103/N108,0))  ),0))","v":{"$error":"#N/A"}},null,null,null,null,null,null,{"$f":"IF($J$6=\"HD 2b/3\",NA(),\"Fuel Economy, 5-Cycle Adjusted (MPG):\")","v":{"$error":"#N/A"}},{"$f":"d5c(N59)","v":{"$error":"#VALUE!"}},{"$f":"d5c(O59)","v":{"$error":"#VALUE!"}},null,2,7.4619999999999997,8.782,310.83,0,0,0,0,0,{"$f":"IF(ISBLANK(R60),\"\",IF(OR($J$6=\"HD 2b/3\",COUNT(R60:W60)<>6,$AA$95<>\"Yes\",$AA$97<>\"Yes\"),NA(),IF(ASTM(W60,0)=0,0,ASTM((51740000*$T$94*$T$95)/((($T$94*U60)+(0.429*V60)+(0.273*W60))*((0.6*$T$95*$T$96)+5471)),1))))","v":{"$error":"#N/A"}},{"$f":"IF(ISBLANK(R60),\"\",IF(OR(AND($J$6<>\"HD 2b/3\",COUNT(R60:W60)<>6),AND($J$6=\"HD 2b/3\",COUNT(R60)+COUNT(W60)<>2),$AA$95<>\"Yes\",$AA$97<>\"Yes\"),NA(),IF(ASTM(W60,0)=0,0,IF($J$6=\"HD 2b/3\",W60,ASTM((($T$94/0.273)*U60)+(1.571*V60)+W60,0)))))","v":0},null,2,10.247999999999999,14.275,319.5,0,0,0,0,0,{"$f":"IF(ISBLANK(AD60),\"\",IF(OR($J$6=\"HD 2b/3\",COUNT(AD60:AI60)<>6,$AM$47<>\"Yes\",$AM$49<>\"Yes\"),NA(),IF(ASTM(AI60,0)=0,0,ASTM((51740000*$AF$46*$AF$47)/((($AF$46*AG60)+(0.429*AH60)+(0.273*AI60))*((0.6*$AF$47*$AF$48)+5471)),1))))","v":{"$error":"#N/A"}},{"$f":"IF(ISBLANK(AD60),\"\",IF(OR(AND($J$6<>\"HD 2b/3\",COUNT(AD60:AI60)<>6),AND($J$6=\"HD 2b/3\",COUNT(AD60)+COUNT(AI60)<>2),$AM$95<>\"Yes\",$AM$97<>\"Yes\"),NA(),IF(ASTM(AI60,0)=0,0,IF($J$6=\"HD 2b/3\",AI60,ASTM((($AF$94/0.273)*AG60)+(1.571*AH60)+AI60,0)))))","v":0},null,null,null,"Composite CREE w/DF, (g/mi) [1]",{"$f":"IF(SUM(AA59:AA93)=0,0,IF(ISBLANK($J$14)=TRUE,\"No DF\",IF($J$13=\"Additive\",ASTM((AY75+(1-AY78)*N61),0)+ASTM($J$14,0),IF($J$13=\"Multiplicative\",ASTM(ASTM((AY75+(1-AY78)*N61),0)*$J$14,0),\"Add/Mult?\"))))","v":22},{"$f":"IF(SUM(AM59:AM93)=0,0,IF(ISBLANK($J$15)=TRUE,\"No DF\",IF($J$13=\"Additive\",ASTM((AZ75+(1-AZ78)*O61),0)+ASTM($J$15,0),IF($J$13=\"Multiplicative\",ASTM(ASTM((AZ75+(1-AZ78)*O61),0)*$J$15,0),\"Add/Mult?\"))))","v":87},{"$f":"IF(OR(ISNUMBER(AR60)=FALSE,ISNUMBER(AS60)=FALSE),NA(),ASTM(0.55*AR60+0.45*AS60,1))","v":51.2},null,null,null,"CD AC electricity consumption rate (Rcda), adjusted  (kW-hr/100mi) [3]",{"$f":"IF($J$6=\"HD 2b/3\",NA(),IFERROR(ASTM(ASTM(Y94,4)*100/AY55,3),0))","v":{"$error":"#N/A"}},{"$f":"IF($J$6=\"HD 2b/3\",NA(),IFERROR(ASTM(ASTM(AK94,4)*100/AZ55,3),0))","v":{"$error":"#N/A"}},null,null,null,2,{"$f":"IF(ISBLANK(R60),\"\",IF(COUNT(R60:AA60)<>10,NA(),IF(ASTM(W60,0)=0,0,IFERROR(ASTM(R60,3)/ASTM(Z60,1),0))))","v":{"$error":"#N/A"}},{"$f":"IF(ISBLANK(R60),\"\",IF(COUNT(R60:AA60)<>10,NA(),IF(W60=0,0,ASTM(ASTM(W60,0)*ASTM(R60,3),0))))","v":{"$error":"#N/A"}},{"$f":"IF(ISBLANK(R60),\"\",IF(COUNT(R60:AA60)<>10,NA(),ASTM(S60,3)-ASTM(S59,3)))","v":{"$error":"#N/A"}},{"$f":"IF(ISBLANK(R60),\"\",IF(COUNT(R60:AA60)<>10,NA(),ASTM(BG60*ASTM(T60,2),1)))","v":{"$error":"#N/A"}},{"$f":"IF(ISBLANK(R60),\"\",IF(COUNT(R60:AA60)<>10,NA(),ASTM(ASTM($Y$94,4)*1000*(BH60/$AY$61),1)))","v":{"$error":"#N/A"}},{"$f":"IF(ISBLANK(R60),\"\",BD60*7.45)","v":14.9},{"$f":"IF(ISBLANK(R60),\"\",IF(COUNT(R60:AA60)<>10,NA(),BI60/(33705*ASTM(R60,3))))","v":{"$error":"#N/A"}},{"$f":"IF(ISBLANK(R60),\"\",IF(COUNT(R60:AA60)<>10,NA(),BK60+BE60/ASTM(R60,3)))","v":{"$error":"#N/A"}},{"$f":"IF(ISBLANK(R60),\"\",IFERROR(ASTM(cityfuf(BJ60)-cityfuf(BJ59),3),\"\"))","v":0.183},{"$f":"IF(ISBLANK(R60),\"\",IF(OR(ISNUMBER(R60)=FALSE,ISNUMBER(AA60)=FALSE),NA(),IF(ASTM(W60,0)=0,0,BM60*ASTM(AA60,0))))","v":0},{"$f":"IF(ISBLANK(R60),\"\",IF(COUNT(R60:AA60)<>10,NA(),BL60*BM60))","v":{"$error":"#N/A"}},{"$f":"IF(ISBLANK(R60),\"\",IF(COUNT(R60:AA60)<>10,NA(),BL60*ASTM(R60,3)))","v":{"$error":"#N/A"}},{"$f":"IF(ISBLANK(R60),\"\",IF(COUNT(R60:AA60)<>10,NA(),MAX(1/(0.004091*(1/BL60)+1.1601),0.7)))","v":{"$error":"#N/A"}},{"$f":"IF(ISBLANK(R60),\"\",IF(COUNT(R60:AA60)<>10,NA(),BQ60*ASTM(R60,3)))","v":{"$error":"#N/A"}},{"$f":"IF(ISBLANK(R60),\"\",IF(COUNT(R60:AA60)<>10,NA(),BQ60*7.45+BS59))","v":{"$error":"#N/A"}},{"$f":"IF(ISBLANK(R60),\"\",IF(COUNT(R60:AA60)<>10,NA(),ASTM(mdiuf(BS60),3)-ASTM(mdiuf(BS59),3)))","v":{"$error":"#N/A"}},{"$f":"IF(ISBLANK(R60),\"\",IF(COUNT(R60:AA60)<>10,NA(),IF(ASTM(W60,0)=0,0,BT60*ASTM(W60,0)/(BQ60))))","v":{"$error":"#N/A"}},{"$f":"IF(ISBLANK(R60),\"\",IF(COUNT(R60:AA60)<>10,NA(),BT60*BL60/BQ60))","v":{"$error":"#N/A"}},{"$f":"IF(ISBLANK(R60),\"\",IF(COUNT(R60:AA60)<>10,NA(),ASTM(cityfufalt(BS60)-cityfufalt(BS59),3)))","v":{"$error":"#N/A"}},{"$f":"IF(ISBLANK(R60),\"\",IF(COUNT(R60:AA60)<>10,NA(),BW60*BL60/BQ60))","v":{"$error":"#N/A"}},{"$f":"IF(ISBLANK(R60),\"\",IF(COUNT(R60:AA60)<>10,NA(),IF(ASTM(W60,0)=0,0,BW60*ASTM(AA60,0)/(BQ60))))","v":{"$error":"#N/A"}},null,2,{"$f":"IF(ISBLANK(AD60),\"\",IF(COUNT(AD60:AM60)<>10,NA(),IF(ASTM(AI60,0)=0,0,ASTM(AD60,3)/ASTM(AL60,1))))","v":{"$error":"#N/A"}},{"$f":"IF(ISBLANK(AD60),\"\",IF(COUNT(AD60:AM60)<>10,NA(),IF(ASTM(AI60,0)=0,0,ASTM(ASTM(AI60,0)*ASTM(AD60,3),0))))","v":{"$error":"#N/A"}},{"$f":"IF(ISBLANK(AD60),\"\",IF(COUNT(AD60:AM60)<>10,NA(),ASTM(AE60,3)-ASTM(AE59,3)))","v":{"$error":"#N/A"}},{"$f":"IF(ISBLANK(AD60),\"\",IF(COUNT(AD60:AM60)<>10,NA(),ASTM(CD60*ASTM(AF60,2),1)))","v":{"$error":"#N/A"}},{"$f":"IF(ISBLANK(AD60),\"\",IF(COUNT(AD60:AM60)<>10,NA(),ASTM(ASTM($AK$94,4)*1000*(CE60/$AZ$61),1)))","v":{"$error":"#N/A"}},{"$f":"IF(ISBLANK(AD60),\"\",CA60*10.3)","v":20.6},{"$f":"IF(ISBLANK(AD60),\"\",IF(COUNT(AD60:AM60)<>10,NA(),CF60/(33705*ASTM(AD60,3))))","v":{"$error":"#N/A"}},{"$error":"#N/A"},{"$f":"IF(ISBLANK(AD60),\"\",ASTM(highwayfuf(CG60)-highwayfuf(CG59),3))","v":0.11700000000000001},{"$f":"IF(ISBLANK(AD60),\"\",IF(OR(ISNUMBER(AD60)=FALSE,ISNUMBER(AM60)=FALSE),NA(),IF(ASTM(AI60,0)=0,0,CJ60*ASTM(AM60,0))))","v":0},{"$error":"#N/A"},{"$f":"IF(ISBLANK(AD60),\"\",IF(COUNT(AD60:AM60)<>10,NA(),CI60*ASTM(AD60,3)))","v":{"$error":"#N/A"}},{"$error":"#N/A"},{"$f":"IF(ISBLANK(AD60),\"\",IF(COUNT(AD60:AM60)<>10,NA(),CN60*ASTM(AD60,3)))","v":{"$error":"#N/A"}},{"$f":"IF(ISBLANK(AD60),\"\",IF(COUNT(AD60:AM60)<>10,NA(),CN60*10.3+CP59))","v":{"$error":"#N/A"}},{"$f":"IF(ISBLANK(AD60),\"\",IF(COUNT(AD60:AM60)<>10,NA(),ASTM(mdiuf(CP60)-mdiuf(CP59),3)))","v":{"$error":"#N/A"}},{"$f":"IF(ISBLANK(AD60),\"\",IF(COUNT(AD60:AM60)<>10,NA(),IF(ASTM(AI60,0)=0,0,CQ60*ASTM(AI60,0)/(CN60))))","v":{"$error":"#N/A"}},{"$error":"#N/A"},{"$f":"IF(ISBLANK(AD60),\"\",IF(COUNT(AD60:AM60)<>10,NA(),ASTM(highwayfufalt(CP60)-highwayfufalt(CP59),3)))","v":{"$error":"#N/A"}},{"$error":"#N/A"},{"$f":"IF(ISBLANK(AD60),\"\",IF(COUNT(AD60:AM60)<>10,NA(),IF(ASTM(AI60,0)=0,0,CT60*ASTM(AM60,0)/(CN60))))","v":{"$error":"#N/A"}}]
[null,null,"Hwy Rounded Adjusted FE (Guide) - Conventional Fuel",null,null,{"$f":"IF($J$6=\"HD 2b/3\",NA(),ASTM(IF($N$7+$N$55+$N$103=0,    ((O12<>0)+(O60<>0)+(O108<>0))/(IFERROR(1/O12,0)+IFERROR(1/O60,0)+IFERROR(1/O108,0)),    ($N$7+$N$55+$N$103) / (IFERROR($N$7/O12,0)+IFERROR($N$55/O60,0)+IFERROR($N$103/O108,0))  ),0))","v":{"$error":"#N/A"}},null,null,null,null,null,null,"CREE (g/mi):",155.5,164,null,3,7.4749999999999996,12.89,305.77,0,0,0,0,0,{"$f":"IF(ISBLANK(R61),\"\",IF(OR($J$6=\"HD 2b/3\",COUNT(R61:W61)<>6,$AA$95<>\"Yes\",$AA$97<>\"Yes\"),NA(),IF(ASTM(W61,0)=0,0,ASTM((51740000*$T$94*$T$95)/((($T$94*U61)+(0.429*V61)+(0.273*W61))*((0.6*$T$95*$T$96)+5471)),1))))","v":{"$error":"#N/A"}},{"$f":"IF(ISBLANK(R61),\"\",IF(OR(AND($J$6<>\"HD 2b/3\",COUNT(R61:W61)<>6),AND($J$6=\"HD 2b/3\",COUNT(R61)+COUNT(W61)<>2),$AA$95<>\"Yes\",$AA$97<>\"Yes\"),NA(),IF(ASTM(W61,0)=0,0,IF($J$6=\"HD 2b/3\",W61,ASTM((($T$94/0.273)*U61)+(1.571*V61)+W61,0)))))","v":0},null,3,10.246,21.663,309.3,0,0,0,0,0,{"$f":"IF(ISBLANK(AD61),\"\",IF(OR($J$6=\"HD 2b/3\",COUNT(AD61:AI61)<>6,$AM$47<>\"Yes\",$AM$49<>\"Yes\"),NA(),IF(ASTM(AI61,0)=0,0,ASTM((51740000*$AF$46*$AF$47)/((($AF$46*AG61)+(0.429*AH61)+(0.273*AI61))*((0.6*$AF$47*$AF$48)+5471)),1))))","v":{"$error":"#N/A"}},{"$f":"IF(ISBLANK(AD61),\"\",IF(OR(AND($J$6<>\"HD 2b/3\",COUNT(AD61:AI61)<>6),AND($J$6=\"HD 2b/3\",COUNT(AD61)+COUNT(AI61)<>2),$AM$95<>\"Yes\",$AM$97<>\"Yes\"),NA(),IF(ASTM(AI61,0)=0,0,IF($J$6=\"HD 2b/3\",AI61,ASTM((($AF$94/0.273)*AG61)+(1.571*AH61)+AI61,0)))))","v":0},null,null,null,"Label Values (5-Cycle Adjusted)",null,null,null,null,null,null,"CD test total DC energy consumed, unadjusted (Watt-hours) [1]",{"$f":"IF($J$6=\"HD 2b/3\",NA(),ASTM(SUM(BH59:BH93),1))","v":{"$error":"#N/A"}},{"$f":"IF($J$6=\"HD 2b/3\",NA(),ASTM(SUM(CE59:CE93),1))","v":{"$error":"#N/A"}},null,null,null,3,{"$f":"IF(ISBLANK(R61),\"\",IF(COUNT(R61:AA61)<>10,NA(),IF(ASTM(W61,0)=0,0,IFERROR(ASTM(R61,3)/ASTM(Z61,1),0))))","v":{"$error":"#N/A"}},{"$f":"IF(ISBLANK(R61),\"\",IF(COUNT(R61:AA61)<>10,NA(),IF(W61=0,0,ASTM(ASTM(W61,0)*ASTM(R61,3),0))))","v":{"$error":"#N/A"}},{"$f":"IF(ISBLANK(R61),\"\",IF(COUNT(R61:AA61)<>10,NA(),ASTM(S61,3)-ASTM(S60,3)))","v":{"$error":"#N/A"}},{"$f":"IF(ISBLANK(R61),\"\",IF(COUNT(R61:AA61)<>10,NA(),ASTM(BG61*ASTM(T61,2),1)))","v":{"$error":"#N/A"}},{"$f":"IF(ISBLANK(R61),\"\",IF(COUNT(R61:AA61)<>10,NA(),ASTM(ASTM($Y$94,4)*1000*(BH61/$AY$61),1)))","v":{"$error":"#N/A"}},22.35,{"$f":"IF(ISBLANK(R61),\"\",IF(COUNT(R61:AA61)<>10,NA(),BI61/(33705*ASTM(R61,3))))","v":{"$error":"#N/A"}},{"$error":"#N/A"},{"$f":"IF(ISBLANK(R61),\"\",IFERROR(ASTM(cityfuf(BJ61)-cityfuf(BJ60),3),\"\"))","v":0.13700000000000001},{"$f":"IF(ISBLANK(R61),\"\",IF(OR(ISNUMBER(R61)=FALSE,ISNUMBER(AA61)=FALSE),NA(),IF(ASTM(W61,0)=0,0,BM61*ASTM(AA61,0))))","v":0},{"$error":"#N/A"},{"$f":"IF(ISBLANK(R61),\"\",IF(COUNT(R61:AA61)<>10,NA(),BL61*ASTM(R61,3)))","v":{"$error":"#N/A"}},{"$error":"#N/A"},{"$f":"IF(ISBLANK(R61),\"\",IF(COUNT(R61:AA61)<>10,NA(),BQ61*ASTM(R61,3)))","v":{"$error":"#N/A"}},{"$f":"IF(ISBLANK(R61),\"\",IF(COUNT(R61:AA61)<>10,NA(),BQ61*7.45+BS60))","v":{"$error":"#N/A"}},{"$f":"IF(ISBLANK(R61),\"\",IF(COUNT(R61:AA61)<>10,NA(),ASTM(mdiuf(BS61),3)-ASTM(mdiuf(BS60),3)))","v":{"$error":"#N/A"}},{"$f":"IF(ISBLANK(R61),\"\",IF(COUNT(R61:AA61)<>10,NA(),IF(ASTM(W61,0)=0,0,BT61*ASTM(W61,0)/(BQ61))))","v":{"$error":"#N/A"}},{"$error":"#N/A"},{"$f":"IF(ISBLANK(R61),\"\",IF(COUNT(R61:AA61)<>10,NA(),ASTM(cityfufalt(BS61)-cityfufalt(BS60),3)))","v":{"$error":"#N/A"}},{"$error":"#N/A"},{"$f":"IF(ISBLANK(R61),\"\",IF(COUNT(R61:AA61)<>10,NA(),IF(ASTM(W61,0)=0,0,BW61*ASTM(AA61,0)/(BQ61))))","v":{"$error":"#N/A"}},null,3,{"$f":"IF(ISBLANK(AD61),\"\",IF(COUNT(AD61:AM61)<>10,NA(),IF(ASTM(AI61,0)=0,0,ASTM(AD61,3)/ASTM(AL61,1))))","v":{"$error":"#N/A"}},{"$f":"IF(ISBLANK(AD61),\"\",IF(COUNT(AD61:AM61)<>10,NA(),IF(ASTM(AI61,0)=0,0,ASTM(ASTM(AI61,0)*ASTM(AD61,3),0))))","v":{"$error":"#N/A"}},{"$f":"IF(ISBLANK(AD61),\"\",IF(COUNT(AD61:AM61)<>10,NA(),ASTM(AE61,3)-ASTM(AE60,3)))","v":{"$error":"#N/A"}},{"$f":"IF(ISBLANK(AD61),\"\",IF(COUNT(AD61:AM61)<>10,NA(),ASTM(CD61*ASTM(AF61,2),1)))","v":{"$error":"#N/A"}},{"$f":"IF(ISBLANK(AD61),\"\",IF(COUNT(AD61:AM61)<>10,NA(),ASTM(ASTM($AK$94,4)*1000*(CE61/$AZ$61),1)))","v":{"$error":"#N/A"}},30.900000000000002,{"$f":"IF(ISBLANK(AD61),\"\",IF(COUNT(AD61:AM61)<>10,NA(),CF61/(33705*ASTM(AD61,3))))","v":{"$error":"#N/A"}},{"$error":"#N/A"},{"$f":"IF(ISBLANK(AD61),\"\",ASTM(highwayfuf(CG61)-highwayfuf(CG60),3))","v":0.105},{"$f":"IF(ISBLANK(AD61),\"\",IF(OR(ISNUMBER(AD61)=FALSE,ISNUMBER(AM61)=FALSE),NA(),IF(ASTM(AI61,0)=0,0,CJ61*ASTM(AM61,0))))","v":0},{"$error":"#N/A"},{"$f":"IF(ISBLANK(AD61),\"\",IF(COUNT(AD61:AM61)<>10,NA(),CI61*ASTM(AD61,3)))","v":{"$error":"#N/A"}},{"$error":"#N/A"},{"$f":"IF(ISBLANK(AD61),\"\",IF(COUNT(AD61:AM61)<>10,NA(),CN61*ASTM(AD61,3)))","v":{"$error":"#N/A"}},{"$error":"#N/A"},{"$f":"IF(ISBLANK(AD61),\"\",IF(COUNT(AD61:AM61)<>10,NA(),ASTM(mdiuf(CP61)-mdiuf(CP60),3)))","v":{"$error":"#N/A"}},{"$f":"IF(ISBLANK(AD61),\"\",IF(COUNT(AD61:AM61)<>10,NA(),IF(ASTM(AI61,0)=0,0,CQ61*ASTM(AI61,0)/(CN61))))","v":{"$error":"#N/A"}},{"$error":"#N/A"},{"$f":"IF(ISBLANK(AD61),\"\",IF(COUNT(AD61:AM61)<>10,NA(),ASTM(highwayfufalt(CP61)-highwayfufalt(CP60),3)))","v":{"$error":"#N/A"}},{"$error":"#N/A"},{"$f":"IF(ISBLANK(AD61),\"\",IF(COUNT(AD61:AM61)<>10,NA(),IF(ASTM(AI61,0)=0,0,CT61*ASTM(AM61,0)/(CN61))))","v":{"$error":"#N/A"}}]
[null,null,"Combined Rounded Adjusted  FE (Guide) - Conventional Fuel",null,null,{"$f":"IF($J$6=\"HD 2b/3\",NA(),ASTM(1/(0.55/(IF($N$7+$N$55+$N$103=0,    ((N12<>0)+(N60<>0)+(N108<>0))/(IFERROR(1/N12,0)+IFERROR(1/N60,0)+IFERROR(1/N108,0)),    ($N$7+$N$55+$N$103) / (IFERROR($N$7/N12,0)+IFERROR($N$55/N60,0)+IFERROR($N$103/N108,0))  ))+0.45/(IF($N$7+$N$55+$N$103=0,    ((O12<>0)+(O60<>0)+(O108<>0))/(IFERROR(1/O12,0)+IFERROR(1/O60,0)+IFERROR(1/O108,0)),    ($N$7+$N$55+$N$103) / (IFERROR($N$7/O12,0)+IFERROR($N$55/O60,0)+IFERROR($N$103/O108,0))  ))),0))","v":{"$error":"#N/A"}},null,null,null,null,null,null,"CO2, Unadjusted (g/mi):",155.5,164,null,4,7.4630000000000001,17.07,303.25,0,0,0,0,0,{"$f":"IF(ISBLANK(R62),\"\",IF(OR($J$6=\"HD 2b/3\",COUNT(R62:W62)<>6,$AA$95<>\"Yes\",$AA$97<>\"Yes\"),NA(),IF(ASTM(W62,0)=0,0,ASTM((51740000*$T$94*$T$95)/((($T$94*U62)+(0.429*V62)+(0.273*W62))*((0.6*$T$95*$T$96)+5471)),1))))","v":{"$error":"#N/A"}},{"$f":"IF(ISBLANK(R62),\"\",IF(OR(AND($J$6<>\"HD 2b/3\",COUNT(R62:W62)<>6),AND($J$6=\"HD 2b/3\",COUNT(R62)+COUNT(W62)<>2),$AA$95<>\"Yes\",$AA$97<>\"Yes\"),NA(),IF(ASTM(W62,0)=0,0,IF($J$6=\"HD 2b/3\",W62,ASTM((($T$94/0.273)*U62)+(1.571*V62)+W62,0)))))","v":0},null,4,10.247999999999999,29.175000000000001,301.7,0,0,0,0,0,{"$f":"IF(ISBLANK(AD62),\"\",IF(OR($J$6=\"HD 2b/3\",COUNT(AD62:AI62)<>6,$AM$47<>\"Yes\",$AM$49<>\"Yes\"),NA(),IF(ASTM(AI62,0)=0,0,ASTM((51740000*$AF$46*$AF$47)/((($AF$46*AG62)+(0.429*AH62)+(0.273*AI62))*((0.6*$AF$47*$AF$48)+5471)),1))))","v":{"$error":"#N/A"}},{"$f":"IF(ISBLANK(AD62),\"\",IF(OR(AND($J$6<>\"HD 2b/3\",COUNT(AD62:AI62)<>6),AND($J$6=\"HD 2b/3\",COUNT(AD62)+COUNT(AI62)<>2),$AM$95<>\"Yes\",$AM$97<>\"Yes\"),NA(),IF(ASTM(AI62,0)=0,0,IF($J$6=\"HD 2b/3\",AI62,ASTM((($AF$94/0.273)*AG62)+(1.571*AH62)+AI62,0)))))","v":0},null,null,null,"Charge-Depleting",null,null,"Combined",null,null,"NEW","CD Rcda total fuel consumption (Rcda), unadjusted (gal equiv) [4]",{"$f":"IF($J$6=\"HD 2b/3\",NA(),IFERROR(ASTM(SUMIF(BD59:BD93,\"<=\" & (AY82-1),BP59:BP93) + AY81*SUMIF(BD59:BD93,\"=\" & (AY82-1),BP59:BP93),4),0))","v":{"$error":"#N/A"}},{"$f":"IF($J$6=\"HD 2b/3\",NA(),IFERROR(ASTM(SUMIF(CA59:CA93,\"<=\" & (AZ82-1),CM59:CM93) + AZ81*SUMIF(CA59:CA93,\"=\" & (AZ82-1),CM59:CM93),4),0))","v":{"$error":"#N/A"}},null,null,null,4,{"$f":"IF(ISBLANK(R62),\"\",IF(COUNT(R62:AA62)<>10,NA(),IF(ASTM(W62,0)=0,0,IFERROR(ASTM(R62,3)/ASTM(Z62,1),0))))","v":{"$error":"#N/A"}},{"$f":"IF(ISBLANK(R62),\"\",IF(COUNT(R62:AA62)<>10,NA(),IF(W62=0,0,ASTM(ASTM(W62,0)*ASTM(R62,3),0))))","v":{"$error":"#N/A"}},{"$f":"IF(ISBLANK(R62),\"\",IF(COUNT(R62:AA62)<>10,NA(),ASTM(S62,3)-ASTM(S61,3)))","v":{"$error":"#N/A"}},{"$f":"IF(ISBLANK(R62),\"\",IF(COUNT(R62:AA62)<>10,NA(),ASTM(BG62*ASTM(T62,2),1)))","v":{"$error":"#N/A"}},{"$f":"IF(ISBLANK(R62),\"\",IF(COUNT(R62:AA62)<>10,NA(),ASTM(ASTM($Y$94,4)*1000*(BH62/$AY$61),1)))","v":{"$error":"#N/A"}},29.8,{"$f":"IF(ISBLANK(R62),\"\",IF(COUNT(R62:AA62)<>10,NA(),BI62/(33705*ASTM(R62,3))))","v":{"$error":"#N/A"}},{"$error":"#N/A"},{"$f":"IF(ISBLANK(R62),\"\",IFERROR(ASTM(cityfuf(BJ62)-cityfuf(BJ61),3),\"\"))","v":0.10299999999999999},{"$f":"IF(ISBLANK(R62),\"\",IF(OR(ISNUMBER(R62)=FALSE,ISNUMBER(AA62)=FALSE),NA(),IF(ASTM(W62,0)=0,0,BM62*ASTM(AA62,0))))","v":0},{"$error":"#N/A"},{"$f":"IF(ISBLANK(R62),\"\",IF(COUNT(R62:AA62)<>10,NA(),BL62*ASTM(R62,3)))","v":{"$error":"#N/A"}},{"$error":"#N/A"},{"$f":"IF(ISBLANK(R62),\"\",IF(COUNT(R62:AA62)<>10,NA(),BQ62*ASTM(R62,3)))","v":{"$error":"#N/A"}},{"$error":"#N/A"},{"$f":"IF(ISBLANK(R62),\"\",IF(COUNT(R62:AA62)<>10,NA(),ASTM(mdiuf(BS62),3)-ASTM(mdiuf(BS61),3)))","v":{"$error":"#N/A"}},{"$f":"IF(ISBLANK(R62),\"\",IF(COUNT(R62:AA62)<>10,NA(),IF(ASTM(W62,0)=0,0,BT62*ASTM(W62,0)/(BQ62))))","v":{"$error":"#N/A"}},{"$error":"#N/A"},{"$f":"IF(ISBLANK(R62),\"\",IF(COUNT(R62:AA62)<>10,NA(),ASTM(cityfufalt(BS62)-cityfufalt(BS61),3)))","v":{"$error":"#N/A"}},{"$error":"#N/A"},{"$f":"IF(ISBLANK(R62),\"\",IF(COUNT(R62:AA62)<>10,NA(),IF(ASTM(W62,0)=0,0,BW62*ASTM(AA62,0)/(BQ62))))","v":{"$error":"#N/A"}},null,4,{"$f":"IF(ISBLANK(AD62),\"\",IF(COUNT(AD62:AM62)<>10,NA(),IF(ASTM(AI62,0)=0,0,ASTM(AD62,3)/ASTM(AL62,1))))","v":{"$error":"#N/A"}},{"$f":"IF(ISBLANK(AD62),\"\",IF(COUNT(AD62:AM62)<>10,NA(),IF(ASTM(AI62,0)=0,0,ASTM(ASTM(AI62,0)*ASTM(AD62,3),0))))","v":{"$error":"#N/A"}},{"$f":"IF(ISBLANK(AD62),\"\",IF(COUNT(AD62:AM62)<>10,NA(),ASTM(AE62,3)-ASTM(AE61,3)))","v":{"$error":"#N/A"}},{"$f":"IF(ISBLANK(AD62),\"\",IF(COUNT(AD62:AM62)<>10,NA(),ASTM(CD62*ASTM(AF62,2),1)))","v":{"$error":"#N/A"}},{"$f":"IF(ISBLANK(AD62),\"\",IF(COUNT(AD62:AM62)<>10,NA(),ASTM(ASTM($AK$94,4)*1000*(CE62/$AZ$61),1)))","v":{"$error":"#N/A"}},41.2,{"$f":"IF(ISBLANK(AD62),\"\",IF(COUNT(AD62:AM62)<>10,NA(),CF62/(33705*ASTM(AD62,3))))","v":{"$error":"#N/A"}},{"$error":"#N/A"},{"$f":"IF(ISBLANK(AD62),\"\",ASTM(highwayfuf(CG62)-highwayfuf(CG61),3))","v":9.1999999999999998E-2},{"$f":"IF(ISBLANK(AD62),\"\",IF(OR(ISNUMBER(AD62)=FALSE,ISNUMBER(AM62)=FALSE),NA(),IF(ASTM(AI62,0)=0,0,CJ62*ASTM(AM62,0))))","v":0},{"$error":"#N/A"},{"$f":"IF(ISBLANK(AD62),\"\",IF(COUNT(AD62:AM62)<>10,NA(),CI62*ASTM(AD62,3)))","v":{"$error":"#N/A"}},{"$error":"#N/A"},{"$f":"IF(ISBLANK(AD62),\"\",IF(COUNT(AD62:AM62)<>10,NA(),CN62*ASTM(AD62,3)))","v":{"$error":"#N/A"}},{"$error":"#N/A"},{"$f":"IF(ISBLANK(AD62),\"\",IF(COUNT(AD62:AM62)<>10,NA(),ASTM(mdiuf(CP62)-mdiuf(CP61),3)))","v":{"$error":"#N/A"}},{"$f":"IF(ISBLANK(AD62),\"\",IF(COUNT(AD62:AM62)<>10,NA(),IF(ASTM(AI62,0)=0,0,CQ62*ASTM(AI62,0)/(CN62))))","v":{"$error":"#N/A"}},{"$error":"#N/A"},{"$f":"IF(ISBLANK(AD62),\"\",IF(COUNT(AD62:AM62)<>10,NA(),ASTM(highwayfufalt(CP62)-highwayfufalt(CP61),3)))","v":{"$error":"#N/A"}},{"$error":"#N/A"},{"$f":"IF(ISBLANK(AD62),\"\",IF(COUNT(AD62:AM62)<>10,NA(),IF(ASTM(AI62,0)=0,0,CT62*ASTM(AM62,0)/(CN62))))","v":{"$error":"#N/A"}}]
[null,null,"City Unrounded Unadjusted FE - Conventional Fuel",null,null,{"$f":"IF($J$6=\"HD 2b/3\",NA(),ASTM(IF($N$7+$N$55+$N$103=0,    ((N11<>0)+(N59<>0)+(N107<>0))/(IFERROR(1/N11,0)+IFERROR(1/N59,0)+IFERROR(1/N107,0)),    ($N$7+$N$55+$N$103) / (IFERROR($N$7/N11,0)+IFERROR($N$55/N59,0)+IFERROR($N$103/N107,0))  ),1))","v":{"$error":"#N/A"}},null,null,null,null,null,null,{"$f":"IF($J$6=\"HD 2b/3\",NA(),\"CO2, 5-Cycle Adjusted (g/mi):\")","v":{"$error":"#N/A"}},{"$f":"d5c(N62)","v":{"$error":"#VALUE!"}},{"$f":"d5c(O62)","v":{"$error":"#VALUE!"}},null,5,7.4619999999999997,21.311,300.18,0,0,0,0,0,{"$f":"IF(ISBLANK(R63),\"\",IF(OR($J$6=\"HD 2b/3\",COUNT(R63:W63)<>6,$AA$95<>\"Yes\",$AA$97<>\"Yes\"),NA(),IF(ASTM(W63,0)=0,0,ASTM((51740000*$T$94*$T$95)/((($T$94*U63)+(0.429*V63)+(0.273*W63))*((0.6*$T$95*$T$96)+5471)),1))))","v":{"$error":"#N/A"}},{"$f":"IF(ISBLANK(R63),\"\",IF(OR(AND($J$6<>\"HD 2b/3\",COUNT(R63:W63)<>6),AND($J$6=\"HD 2b/3\",COUNT(R63)+COUNT(W63)<>2),$AA$95<>\"Yes\",$AA$97<>\"Yes\"),NA(),IF(ASTM(W63,0)=0,0,IF($J$6=\"HD 2b/3\",W63,ASTM((($T$94/0.273)*U63)+(1.571*V63)+W63,0)))))","v":0},null,5,10.246,33.857999999999997,298.3,1.7000000000000001E-2,0.14000000000000001,71,125.5,71,{"$f":"IF(ISBLANK(AD63),\"\",IF(OR($J$6=\"HD 2b/3\",COUNT(AD63:AI63)<>6,$AM$47<>\"Yes\",$AM$49<>\"Yes\"),NA(),IF(ASTM(AI63,0)=0,0,ASTM((51740000*$AF$46*$AF$47)/((($AF$46*AG63)+(0.429*AH63)+(0.273*AI63))*((0.6*$AF$47*$AF$48)+5471)),1))))","v":{"$error":"#N/A"}},{"$f":"IF(ISBLANK(AD63),\"\",IF(OR(AND($J$6<>\"HD 2b/3\",COUNT(AD63:AI63)<>6),AND($J$6=\"HD 2b/3\",COUNT(AD63)+COUNT(AI63)<>2),$AM$95<>\"Yes\",$AM$97<>\"Yes\"),NA(),IF(ASTM(AI63,0)=0,0,IF($J$6=\"HD 2b/3\",AI63,ASTM((($AF$94/0.273)*AG63)+(1.571*AH63)+AI63,0)))))","v":71},null,null,null,"CD range, adjusted (miles) [0]",null,null,{"$f":"IF($J$6=\"HD 2b/3\",NA(),IFERROR(ASTM(0.55*AY55+0.45*AZ55,0),0))","v":{"$error":"#N/A"}},null,null,null,"CD utilitized total fuel consumption rate (55/45 FUF, Rcdc), unadjusted (gal-equiv/mile) [6]",{"$f":"IF($J$6=\"HD 2b/3\",NA(),ASTM(SUMIF(BD59:BD93,\"<=\" & (AY82),BO59:BO93)*1000000,0)/1000000)","v":{"$error":"#N/A"}},{"$f":"IF($J$6=\"HD 2b/3\",NA(),ASTM(SUMIF(CA59:CA93,\"<=\" & (AZ82),CL59:CL93)*1000000,0)/1000000)","v":{"$error":"#N/A"}},null,null,null,5,{"$f":"IF(ISBLANK(R63),\"\",IF(COUNT(R63:AA63)<>10,NA(),IF(ASTM(W63,0)=0,0,IFERROR(ASTM(R63,3)/ASTM(Z63,1),0))))","v":{"$error":"#N/A"}},{"$f":"IF(ISBLANK(R63),\"\",IF(COUNT(R63:AA63)<>10,NA(),IF(W63=0,0,ASTM(ASTM(W63,0)*ASTM(R63,3),0))))","v":{"$error":"#N/A"}},{"$f":"IF(ISBLANK(R63),\"\",IF(COUNT(R63:AA63)<>10,NA(),ASTM(S63,3)-ASTM(S62,3)))","v":{"$error":"#N/A"}},{"$f":"IF(ISBLANK(R63),\"\",IF(COUNT(R63:AA63)<>10,NA(),ASTM(BG63*ASTM(T63,2),1)))","v":{"$error":"#N/A"}},{"$f":"IF(ISBLANK(R63),\"\",IF(COUNT(R63:AA63)<>10,NA(),ASTM(ASTM($Y$94,4)*1000*(BH63/$AY$61),1)))","v":{"$error":"#N/A"}},37.25,{"$f":"IF(ISBLANK(R63),\"\",IF(COUNT(R63:AA63)<>10,NA(),BI63/(33705*ASTM(R63,3))))","v":{"$error":"#N/A"}},{"$error":"#N/A"},{"$f":"IF(ISBLANK(R63),\"\",IFERROR(ASTM(cityfuf(BJ63)-cityfuf(BJ62),3),\"\"))","v":7.6999999999999999E-2},{"$f":"IF(ISBLANK(R63),\"\",IF(OR(ISNUMBER(R63)=FALSE,ISNUMBER(AA63)=FALSE),NA(),IF(ASTM(W63,0)=0,0,BM63*ASTM(AA63,0))))","v":0},{"$error":"#N/A"},{"$f":"IF(ISBLANK(R63),\"\",IF(COUNT(R63:AA63)<>10,NA(),BL63*ASTM(R63,3)))","v":{"$error":"#N/A"}},{"$error":"#N/A"},{"$f":"IF(ISBLANK(R63),\"\",IF(COUNT(R63:AA63)<>10,NA(),BQ63*ASTM(R63,3)))","v":{"$error":"#N/A"}},{"$error":"#N/A"},{"$f":"IF(ISBLANK(R63),\"\",IF(COUNT(R63:AA63)<>10,NA(),ASTM(mdiuf(BS63),3)-ASTM(mdiuf(BS62),3)))","v":{"$error":"#N/A"}},{"$f":"IF(ISBLANK(R63),\"\",IF(COUNT(R63:AA63)<>10,NA(),IF(ASTM(W63,0)=0,0,BT63*ASTM(W63,0)/(BQ63))))","v":{"$error":"#N/A"}},{"$error":"#N/A"},{"$f":"IF(ISBLANK(R63),\"\",IF(COUNT(R63:AA63)<>10,NA(),ASTM(cityfufalt(BS63)-cityfufalt(BS62),3)))","v":{"$error":"#N/A"}},{"$error":"#N/A"},{"$f":"IF(ISBLANK(R63),\"\",IF(COUNT(R63:AA63)<>10,NA(),IF(ASTM(W63,0)=0,0,BW63*ASTM(AA63,0)/(BQ63))))","v":{"$error":"#N/A"}},null,5,{"$f":"IF(ISBLANK(AD63),\"\",IF(COUNT(AD63:AM63)<>10,NA(),IF(ASTM(AI63,0)=0,0,ASTM(AD63,3)/ASTM(AL63,1))))","v":{"$error":"#N/A"}},{"$f":"IF(ISBLANK(AD63),\"\",IF(COUNT(AD63:AM63)<>10,NA(),IF(ASTM(AI63,0)=0,0,ASTM(ASTM(AI63,0)*ASTM(AD63,3),0))))","v":{"$error":"#N/A"}},{"$f":"IF(ISBLANK(AD63),\"\",IF(COUNT(AD63:AM63)<>10,NA(),ASTM(AE63,3)-ASTM(AE62,3)))","v":{"$error":"#N/A"}},{"$f":"IF(ISBLANK(AD63),\"\",IF(COUNT(AD63:AM63)<>10,NA(),ASTM(CD63*ASTM(AF63,2),1)))","v":{"$error":"#N/A"}},{"$f":"IF(ISBLANK(AD63),\"\",IF(COUNT(AD63:AM63)<>10,NA(),ASTM(ASTM($AK$94,4)*1000*(CE63/$AZ$61),1)))","v":{"$error":"#N/A"}},51.5,{"$f":"IF(ISBLANK(AD63),\"\",IF(COUNT(AD63:AM63)<>10,NA(),CF63/(33705*ASTM(AD63,3))))","v":{"$error":"#N/A"}},{"$error":"#N/A"},{"$f":"IF(ISBLANK(AD63),\"\",ASTM(highwayfuf(CG63)-highwayfuf(CG62),3))","v":7.9000000000000001E-2},{"$f":"IF(ISBLANK(AD63),\"\",IF(OR(ISNUMBER(AD63)=FALSE,ISNUMBER(AM63)=FALSE),NA(),IF(ASTM(AI63,0)=0,0,CJ63*ASTM(AM63,0))))","v":5.609},{"$error":"#N/A"},{"$f":"IF(ISBLANK(AD63),\"\",IF(COUNT(AD63:AM63)<>10,NA(),CI63*ASTM(AD63,3)))","v":{"$error":"#N/A"}},{"$error":"#N/A"},{"$f":"IF(ISBLANK(AD63),\"\",IF(COUNT(AD63:AM63)<>10,NA(),CN63*ASTM(AD63,3)))","v":{"$error":"#N/A"}},{"$error":"#N/A"},{"$f":"IF(ISBLANK(AD63),\"\",IF(COUNT(AD63:AM63)<>10,NA(),ASTM(mdiuf(CP63)-mdiuf(CP62),3)))","v":{"$error":"#N/A"}},{"$f":"IF(ISBLANK(AD63),\"\",IF(COUNT(AD63:AM63)<>10,NA(),IF(ASTM(AI63,0)=0,0,CQ63*ASTM(AI63,0)/(CN63))))","v":{"$error":"#N/A"}},{"$error":"#N/A"},{"$f":"IF(ISBLANK(AD63),\"\",IF(COUNT(AD63:AM63)<>10,NA(),ASTM(highwayfufalt(CP63)-highwayfufalt(CP62),3)))","v":{"$error":"#N/A"}},{"$error":"#N/A"},{"$f":"IF(ISBLANK(AD63),\"\",IF(COUNT(AD63:AM63)<>10,NA(),IF(ASTM(AI63,0)=0,0,CT63*ASTM(AM63,0)/(CN63))))","v":{"$error":"#N/A"}}]
[null,null,"Hwy Unrounded Unadjusted  FE - Conventional Fuel",null,null,{"$f":"IF($J$6=\"HD 2b/3\",NA(),ASTM(IF($N$7+$N$55+$N$103=0,    ((O11<>0)+(O59<>0)+(O107<>0))/(IFERROR(1/O11,0)+IFERROR(1/O59,0)+IFERROR(1/O107,0)),    ($N$7+$N$55+$N$103) / (IFERROR($N$7/O11,0)+IFERROR($N$55/O59,0)+IFERROR($N$103/O107,0))  ),1))","v":{"$error":"#N/A"}},null,null,null,null,null,null,null,null,null,null,6,7.468,25.609000000000002,299.02,0,0,0,0,0,{"$f":"IF(ISBLANK(R64),\"\",IF(OR($J$6=\"HD 2b/3\",COUNT(R64:W64)<>6,$AA$95<>\"Yes\",$AA$97<>\"Yes\"),NA(),IF(ASTM(W64,0)=0,0,ASTM((51740000*$T$94*$T$95)/((($T$94*U64)+(0.429*V64)+(0.273*W64))*((0.6*$T$95*$T$96)+5471)),1))))","v":{"$error":"#N/A"}},{"$f":"IF(ISBLANK(R64),\"\",IF(OR(AND($J$6<>\"HD 2b/3\",COUNT(R64:W64)<>6),AND($J$6=\"HD 2b/3\",COUNT(R64)+COUNT(W64)<>2),$AA$95<>\"Yes\",$AA$97<>\"Yes\"),NA(),IF(ASTM(W64,0)=0,0,IF($J$6=\"HD 2b/3\",W64,ASTM((($T$94/0.273)*U64)+(1.571*V64)+W64,0)))))","v":0},null,6,10.255000000000001,33.872,297,0,0.1,160,55.6,160,{"$f":"IF(ISBLANK(AD64),\"\",IF(OR($J$6=\"HD 2b/3\",COUNT(AD64:AI64)<>6,$AM$47<>\"Yes\",$AM$49<>\"Yes\"),NA(),IF(ASTM(AI64,0)=0,0,ASTM((51740000*$AF$46*$AF$47)/((($AF$46*AG64)+(0.429*AH64)+(0.273*AI64))*((0.6*$AF$47*$AF$48)+5471)),1))))","v":{"$error":"#N/A"}},{"$f":"IF(ISBLANK(AD64),\"\",IF(OR(AND($J$6<>\"HD 2b/3\",COUNT(AD64:AI64)<>6),AND($J$6=\"HD 2b/3\",COUNT(AD64)+COUNT(AI64)<>2),$AM$95<>\"Yes\",$AM$97<>\"Yes\"),NA(),IF(ASTM(AI64,0)=0,0,IF($J$6=\"HD 2b/3\",AI64,ASTM((($AF$94/0.273)*AG64)+(1.571*AH64)+AI64,0)))))","v":160},null,null,null,"CD All-Electric Range, adjusted (mi) [0]",null,null,{"$f":"IF($J$6=\"HD 2b/3\",NA(),IFERROR(ASTM(0.55*AY57+0.45*AZ57,0),0))","v":{"$error":"#N/A"}},null,null,"NEW","CD utilitized total fuel consumption rate (43/57 FUF, Rcdc), adjusted (gal-equiv/mile) [6]",{"$f":"IF($J$6=\"HD 2b/3\",NA(),ASTM( 1000000*SUMIF(BD59:BD93,\"<=\" & (AY82),BX59:BX93), 0) / 1000000)","v":{"$error":"#N/A"}},{"$f":"IF($J$6=\"HD 2b/3\",NA(),ASTM( 1000000*SUMIF(CA59:CA93,\"<=\" & (AZ82),CU59:CU93), 0) / 1000000)","v":{"$error":"#N/A"}},null,null,null,6,{"$f":"IF(ISBLANK(R64),\"\",IF(COUNT(R64:AA64)<>10,NA(),IF(ASTM(W64,0)=0,0,IFERROR(ASTM(R64,3)/ASTM(Z64,1),0))))","v":{"$error":"#N/A"}},{"$f":"IF(ISBLANK(R64),\"\",IF(COUNT(R64:AA64)<>10,NA(),IF(W64=0,0,ASTM(ASTM(W64,0)*ASTM(R64,3),0))))","v":{"$error":"#N/A"}},{"$f":"IF(ISBLANK(R64),\"\",IF(COUNT(R64:AA64)<>10,NA(),ASTM(S64,3)-ASTM(S63,3)))","v":{"$error":"#N/A"}},{"$f":"IF(ISBLANK(R64),\"\",IF(COUNT(R64:AA64)<>10,NA(),ASTM(BG64*ASTM(T64,2),1)))","v":{"$error":"#N/A"}},{"$f":"IF(ISBLANK(R64),\"\",IF(COUNT(R64:AA64)<>10,NA(),ASTM(ASTM($Y$94,4)*1000*(BH64/$AY$61),1)))","v":{"$error":"#N/A"}},44.7,{"$f":"IF(ISBLANK(R64),\"\",IF(COUNT(R64:AA64)<>10,NA(),BI64/(33705*ASTM(R64,3))))","v":{"$error":"#N/A"}},{"$error":"#N/A"},{"$f":"IF(ISBLANK(R64),\"\",IFERROR(ASTM(cityfuf(BJ64)-cityfuf(BJ63),3),\"\"))","v":5.7000000000000002E-2},{"$f":"IF(ISBLANK(R64),\"\",IF(OR(ISNUMBER(R64)=FALSE,ISNUMBER(AA64)=FALSE),NA(),IF(ASTM(W64,0)=0,0,BM64*ASTM(AA64,0))))","v":0},{"$error":"#N/A"},{"$f":"IF(ISBLANK(R64),\"\",IF(COUNT(R64:AA64)<>10,NA(),BL64*ASTM(R64,3)))","v":{"$error":"#N/A"}},{"$error":"#N/A"},{"$f":"IF(ISBLANK(R64),\"\",IF(COUNT(R64:AA64)<>10,NA(),BQ64*ASTM(R64,3)))","v":{"$error":"#N/A"}},{"$error":"#N/A"},{"$f":"IF(ISBLANK(R64),\"\",IF(COUNT(R64:AA64)<>10,NA(),ASTM(mdiuf(BS64),3)-ASTM(mdiuf(BS63),3)))","v":{"$error":"#N/A"}},{"$f":"IF(ISBLANK(R64),\"\",IF(COUNT(R64:AA64)<>10,NA(),IF(ASTM(W64,0)=0,0,BT64*ASTM(W64,0)/(BQ64))))","v":{"$error":"#N/A"}},{"$error":"#N/A"},{"$f":"IF(ISBLANK(R64),\"\",IF(COUNT(R64:AA64)<>10,NA(),ASTM(cityfufalt(BS64)-cityfufalt(BS63),3)))","v":{"$error":"#N/A"}},{"$error":"#N/A"},{"$f":"IF(ISBLANK(R64),\"\",IF(COUNT(R64:AA64)<>10,NA(),IF(ASTM(W64,0)=0,0,BW64*ASTM(AA64,0)/(BQ64))))","v":{"$error":"#N/A"}},null,6,{"$f":"IF(ISBLANK(AD64),\"\",IF(COUNT(AD64:AM64)<>10,NA(),IF(ASTM(AI64,0)=0,0,ASTM(AD64,3)/ASTM(AL64,1))))","v":{"$error":"#N/A"}},{"$f":"IF(ISBLANK(AD64),\"\",IF(COUNT(AD64:AM64)<>10,NA(),IF(ASTM(AI64,0)=0,0,ASTM(ASTM(AI64,0)*ASTM(AD64,3),0))))","v":{"$error":"#N/A"}},{"$f":"IF(ISBLANK(AD64),\"\",IF(COUNT(AD64:AM64)<>10,NA(),ASTM(AE64,3)-ASTM(AE63,3)))","v":{"$error":"#N/A"}},{"$f":"IF(ISBLANK(AD64),\"\",IF(COUNT(AD64:AM64)<>10,NA(),ASTM(CD64*ASTM(AF64,2),1)))","v":{"$error":"#N/A"}},{"$f":"IF(ISBLANK(AD64),\"\",IF(COUNT(AD64:AM64)<>10,NA(),ASTM(ASTM($AK$94,4)*1000*(CE64/$AZ$61),1)))","v":{"$error":"#N/A"}},61.800000000000004,{"$f":"IF(ISBLANK(AD64),\"\",IF(COUNT(AD64:AM64)<>10,NA(),CF64/(33705*ASTM(AD64,3))))","v":{"$error":"#N/A"}},{"$error":"#N/A"},{"$f":"IF(ISBLANK(AD64),\"\",ASTM(highwayfuf(CG64)-highwayfuf(CG63),3))","v":6.7000000000000004E-2},{"$f":"IF(ISBLANK(AD64),\"\",IF(OR(ISNUMBER(AD64)=FALSE,ISNUMBER(AM64)=FALSE),NA(),IF(ASTM(AI64,0)=0,0,CJ64*ASTM(AM64,0))))","v":10.72},{"$error":"#N/A"},{"$f":"IF(ISBLANK(AD64),\"\",IF(COUNT(AD64:AM64)<>10,NA(),CI64*ASTM(AD64,3)))","v":{"$error":"#N/A"}},{"$error":"#N/A"},{"$f":"IF(ISBLANK(AD64),\"\",IF(COUNT(AD64:AM64)<>10,NA(),CN64*ASTM(AD64,3)))","v":{"$error":"#N/A"}},{"$error":"#N/A"},{"$f":"IF(ISBLANK(AD64),\"\",IF(COUNT(AD64:AM64)<>10,NA(),ASTM(mdiuf(CP64)-mdiuf(CP63),3)))","v":{"$error":"#N/A"}},{"$f":"IF(ISBLANK(AD64),\"\",IF(COUNT(AD64:AM64)<>10,NA(),IF(ASTM(AI64,0)=0,0,CQ64*ASTM(AI64,0)/(CN64))))","v":{"$error":"#N/A"}},{"$error":"#N/A"},{"$f":"IF(ISBLANK(AD64),\"\",IF(COUNT(AD64:AM64)<>10,NA(),ASTM(highwayfufalt(CP64)-highwayfufalt(CP63),3)))","v":{"$error":"#N/A"}},{"$error":"#N/A"},{"$f":"IF(ISBLANK(AD64),\"\",IF(COUNT(AD64:AM64)<>10,NA(),IF(ASTM(AI64,0)=0,0,CT64*ASTM(AM64,0)/(CN64))))","v":{"$error":"#N/A"}}]
[null,null,"Combined Unrounded Unadjusted  FE - Conventional Fuel",null,null,{"$f":"IF($J$6=\"HD 2b/3\",NA(),ASTM(1/(0.55/(IF($N$7+$N$55+$N$103=0,    ((N11<>0)+(N59<>0)+(N107<>0))/(IFERROR(1/N11,0)+IFERROR(1/N59,0)+IFERROR(1/N107,0)),    ($N$7+$N$55+$N$103) / (IFERROR($N$7/N11,0)+IFERROR($N$55/N59,0)+IFERROR($N$103/N107,0))  ))+0.45/(IF($N$7+$N$55+$N$103=0,    ((O11<>0)+(O59<>0)+(O107<>0))/(IFERROR(1/O11,0)+IFERROR(1/O59,0)+IFERROR(1/O107,0)),    ($N$7+$N$55+$N$103) / (IFERROR($N$7/O11,0)+IFERROR($N$55/O59,0)+IFERROR($N$103/O107,0))  ))),4))","v":{"$error":"#N/A"}},null,null,null,null,null,null,"ENTER CHARGE-DEPLETING AND CHARGE-SUSTAINING TEST NUMBERS HERE",null,null,null,7,7.4740000000000002,29.946000000000002,297.33999999999997,0,0,0,0,0,{"$f":"IF(ISBLANK(R65),\"\",IF(OR($J$6=\"HD 2b/3\",COUNT(R65:W65)<>6,$AA$95<>\"Yes\",$AA$97<>\"Yes\"),NA(),IF(ASTM(W65,0)=0,0,ASTM((51740000*$T$94*$T$95)/((($T$94*U65)+(0.429*V65)+(0.273*W65))*((0.6*$T$95*$T$96)+5471)),1))))","v":{"$error":"#N/A"}},{"$f":"IF(ISBLANK(R65),\"\",IF(OR(AND($J$6<>\"HD 2b/3\",COUNT(R65:W65)<>6),AND($J$6=\"HD 2b/3\",COUNT(R65)+COUNT(W65)<>2),$AA$95<>\"Yes\",$AA$97<>\"Yes\"),NA(),IF(ASTM(W65,0)=0,0,IF($J$6=\"HD 2b/3\",W65,ASTM((($T$94/0.273)*U65)+(1.571*V65)+W65,0)))))","v":0},null,7,null,null,null,null,null,null,null,null,{"$f":"IF(ISBLANK(AD65),\"\",IF(OR($J$6=\"HD 2b/3\",COUNT(AD65:AI65)<>6,$AM$47<>\"Yes\",$AM$49<>\"Yes\"),NA(),IF(ASTM(AI65,0)=0,0,ASTM((51740000*$AF$46*$AF$47)/((($AF$46*AG65)+(0.429*AH65)+(0.273*AI65))*((0.6*$AF$47*$AF$48)+5471)),1))))","v":""},{"$f":"IF(ISBLANK(AD65),\"\",IF(OR(AND($J$6<>\"HD 2b/3\",COUNT(AD65:AI65)<>6),AND($J$6=\"HD 2b/3\",COUNT(AD65)+COUNT(AI65)<>2),$AM$95<>\"Yes\",$AM$97<>\"Yes\"),NA(),IF(ASTM(AI65,0)=0,0,IF($J$6=\"HD 2b/3\",AI65,ASTM((($AF$94/0.273)*AG65)+(1.571*AH65)+AI65,0)))))","v":""},null,null,null,"Total Driving Range (Miles) [0]",null,null,{"$f":"IF($J$6=\"HD 2b/3\",NA(),IFERROR(ASTM(   IFERROR((_xlfn.SINGLE(ASTM(0.55*AY86+0.45*AZ86,0))+AT63),0) / 10,0) *10,0))","v":{"$error":"#N/A"}},null,null,"NEW","CD utilitized total fuel consumption rate (MDIUF, Rcdc), adjusted (gal-equiv/mile) [6]",{"$f":"IF($J$6=\"HD 2b/3\",NA(),ASTM(SUMIF(BD59:BD93,\"<=\" & (AY82),BV59:BV93)*1000000,0) / 1000000)","v":{"$error":"#N/A"}},{"$f":"IF($J$6=\"HD 2b/3\",NA(),ASTM(SUMIF(CA59:CA93,\"<=\" & (AZ82),CS59:CS93)*1000000,0) / 1000000)","v":{"$error":"#N/A"}},null,null,null,7,{"$f":"IF(ISBLANK(R65),\"\",IF(COUNT(R65:AA65)<>10,NA(),IF(ASTM(W65,0)=0,0,IFERROR(ASTM(R65,3)/ASTM(Z65,1),0))))","v":{"$error":"#N/A"}},{"$f":"IF(ISBLANK(R65),\"\",IF(COUNT(R65:AA65)<>10,NA(),IF(W65=0,0,ASTM(ASTM(W65,0)*ASTM(R65,3),0))))","v":{"$error":"#N/A"}},{"$f":"IF(ISBLANK(R65),\"\",IF(COUNT(R65:AA65)<>10,NA(),ASTM(S65,3)-ASTM(S64,3)))","v":{"$error":"#N/A"}},{"$f":"IF(ISBLANK(R65),\"\",IF(COUNT(R65:AA65)<>10,NA(),ASTM(BG65*ASTM(T65,2),1)))","v":{"$error":"#N/A"}},{"$f":"IF(ISBLANK(R65),\"\",IF(COUNT(R65:AA65)<>10,NA(),ASTM(ASTM($Y$94,4)*1000*(BH65/$AY$61),1)))","v":{"$error":"#N/A"}},52.15,{"$f":"IF(ISBLANK(R65),\"\",IF(COUNT(R65:AA65)<>10,NA(),BI65/(33705*ASTM(R65,3))))","v":{"$error":"#N/A"}},{"$error":"#N/A"},{"$f":"IF(ISBLANK(R65),\"\",IFERROR(ASTM(cityfuf(BJ65)-cityfuf(BJ64),3),\"\"))","v":4.2999999999999997E-2},{"$f":"IF(ISBLANK(R65),\"\",IF(OR(ISNUMBER(R65)=FALSE,ISNUMBER(AA65)=FALSE),NA(),IF(ASTM(W65,0)=0,0,BM65*ASTM(AA65,0))))","v":0},{"$error":"#N/A"},{"$f":"IF(ISBLANK(R65),\"\",IF(COUNT(R65:AA65)<>10,NA(),BL65*ASTM(R65,3)))","v":{"$error":"#N/A"}},{"$error":"#N/A"},{"$f":"IF(ISBLANK(R65),\"\",IF(COUNT(R65:AA65)<>10,NA(),BQ65*ASTM(R65,3)))","v":{"$error":"#N/A"}},{"$error":"#N/A"},{"$f":"IF(ISBLANK(R65),\"\",IF(COUNT(R65:AA65)<>10,NA(),ASTM(mdiuf(BS65),3)-ASTM(mdiuf(BS64),3)))","v":{"$error":"#N/A"}},{"$f":"IF(ISBLANK(R65),\"\",IF(COUNT(R65:AA65)<>10,NA(),IF(ASTM(W65,0)=0,0,BT65*ASTM(W65,0)/(BQ65))))","v":{"$error":"#N/A"}},{"$error":"#N/A"},{"$f":"IF(ISBLANK(R65),\"\",IF(COUNT(R65:AA65)<>10,NA(),ASTM(cityfufalt(BS65)-cityfufalt(BS64),3)))","v":{"$error":"#N/A"}},{"$error":"#N/A"},{"$f":"IF(ISBLANK(R65),\"\",IF(COUNT(R65:AA65)<>10,NA(),IF(ASTM(W65,0)=0,0,BW65*ASTM(AA65,0)/(BQ65))))","v":{"$error":"#N/A"}},null,7,{"$f":"IF(ISBLANK(AD65),\"\",IF(COUNT(AD65:AM65)<>10,NA(),IF(ASTM(AI65,0)=0,0,ASTM(AD65,3)/ASTM(AL65,1))))","v":""},{"$f":"IF(ISBLANK(AD65),\"\",IF(COUNT(AD65:AM65)<>10,NA(),IF(ASTM(AI65,0)=0,0,ASTM(ASTM(AI65,0)*ASTM(AD65,3),0))))","v":""},{"$f":"IF(ISBLANK(AD65),\"\",IF(COUNT(AD65:AM65)<>10,NA(),ASTM(AE65,3)-ASTM(AE64,3)))","v":""},{"$f":"IF(ISBLANK(AD65),\"\",IF(COUNT(AD65:AM65)<>10,NA(),ASTM(CD65*ASTM(AF65,2),1)))","v":""},{"$f":"IF(ISBLANK(AD65),\"\",IF(COUNT(AD65:AM65)<>10,NA(),ASTM(ASTM($AK$94,4)*1000*(CE65/$AZ$61),1)))","v":""},"",{"$f":"IF(ISBLANK(AD65),\"\",IF(COUNT(AD65:AM65)<>10,NA(),CF65/(33705*ASTM(AD65,3))))","v":""},"",{"$f":"IF(ISBLANK(AD65),\"\",ASTM(highwayfuf(CG65)-highwayfuf(CG64),3))","v":""},{"$f":"IF(ISBLANK(AD65),\"\",IF(OR(ISNUMBER(AD65)=FALSE,ISNUMBER(AM65)=FALSE),NA(),IF(ASTM(AI65,0)=0,0,CJ65*ASTM(AM65,0))))","v":""},"",{"$f":"IF(ISBLANK(AD65),\"\",IF(COUNT(AD65:AM65)<>10,NA(),CI65*ASTM(AD65,3)))","v":""},"",{"$f":"IF(ISBLANK(AD65),\"\",IF(COUNT(AD65:AM65)<>10,NA(),CN65*ASTM(AD65,3)))","v":""},"",{"$f":"IF(ISBLANK(AD65),\"\",IF(COUNT(AD65:AM65)<>10,NA(),ASTM(mdiuf(CP65)-mdiuf(CP64),3)))","v":""},{"$f":"IF(ISBLANK(AD65),\"\",IF(COUNT(AD65:AM65)<>10,NA(),IF(ASTM(AI65,0)=0,0,CQ65*ASTM(AI65,0)/(CN65))))","v":""},"",{"$f":"IF(ISBLANK(AD65),\"\",IF(COUNT(AD65:AM65)<>10,NA(),ASTM(highwayfufalt(CP65)-highwayfufalt(CP64),3)))","v":""},"",{"$f":"IF(ISBLANK(AD65),\"\",IF(COUNT(AD65:AM65)<>10,NA(),IF(ASTM(AI65,0)=0,0,CT65*ASTM(AM65,0)/(CN65))))","v":""}]
[null,null,"City Unrounded Adjusted FE - Conventional Fuel",null,null,{"$f":"IF($J$6=\"HD 2b/3\",NA(),ASTM(IF($N$7+$N$55+$N$103=0,    ((N12<>0)+(N60<>0)+(N108<>0))/(IFERROR(1/N12,0)+IFERROR(1/N60,0)+IFERROR(1/N108,0)),    ($N$7+$N$55+$N$103) / (IFERROR($N$7/N12,0)+IFERROR($N$55/N60,0)+IFERROR($N$103/N108,0))  ),4))","v":{"$error":"#N/A"}},null,null,null,null,null,null,null,"CD_UDDS","CD_Hwy",null,8,7.4729999999999999,33.6,295.68,1.7999999999999999E-2,0.12,31,281.10000000000002,32,{"$f":"IF(ISBLANK(R66),\"\",IF(OR($J$6=\"HD 2b/3\",COUNT(R66:W66)<>6,$AA$95<>\"Yes\",$AA$97<>\"Yes\"),NA(),IF(ASTM(W66,0)=0,0,ASTM((51740000*$T$94*$T$95)/((($T$94*U66)+(0.429*V66)+(0.273*W66))*((0.6*$T$95*$T$96)+5471)),1))))","v":{"$error":"#N/A"}},{"$f":"IF(ISBLANK(R66),\"\",IF(OR(AND($J$6<>\"HD 2b/3\",COUNT(R66:W66)<>6),AND($J$6=\"HD 2b/3\",COUNT(R66)+COUNT(W66)<>2),$AA$95<>\"Yes\",$AA$97<>\"Yes\"),NA(),IF(ASTM(W66,0)=0,0,IF($J$6=\"HD 2b/3\",W66,ASTM((($T$94/0.273)*U66)+(1.571*V66)+W66,0)))))","v":31},null,8,null,null,null,null,null,null,null,null,{"$f":"IF(ISBLANK(AD66),\"\",IF(OR($J$6=\"HD 2b/3\",COUNT(AD66:AI66)<>6,$AM$47<>\"Yes\",$AM$49<>\"Yes\"),NA(),IF(ASTM(AI66,0)=0,0,ASTM((51740000*$AF$46*$AF$47)/((($AF$46*AG66)+(0.429*AH66)+(0.273*AI66))*((0.6*$AF$47*$AF$48)+5471)),1))))","v":""},{"$f":"IF(ISBLANK(AD66),\"\",IF(OR(AND($J$6<>\"HD 2b/3\",COUNT(AD66:AI66)<>6),AND($J$6=\"HD 2b/3\",COUNT(AD66)+COUNT(AI66)<>2),$AM$95<>\"Yes\",$AM$97<>\"Yes\"),NA(),IF(ASTM(AI66,0)=0,0,IF($J$6=\"HD 2b/3\",AI66,ASTM((($AF$94/0.273)*AG66)+(1.571*AH66)+AI66,0)))))","v":""},null,null,null,"CD Fuel Economy (MPGe) [0]",null,null,{"$f":"IF($J$6=\"HD 2b/3\",NA(),IFERROR(ASTM(1/(0.55/AY67+0.45/AZ67),0),0))","v":{"$error":"#N/A"}},null,null,null,"CD gasoline consumption (Rcda), adjusted (gal) [1]",{"$f":"IF($J$6=\"HD 2b/3\",NA(),IFERROR(SUMIF(BD59:BD93,\"<=\" & AY82-1,BE59:BE93)+AY81*SUMIF(BD59:BD93,\"=\" & AY82-1,BE59:BE93),0))","v":{"$error":"#N/A"}},{"$f":"IF($J$6=\"HD 2b/3\",NA(),IFERROR(SUMIF(CA59:CA93,\"<=\" & AZ82-1,CB59:CB93)+AZ81*SUMIF(CA59:CA93,\"=\" & AZ82-1,CB59:CB93),0))","v":{"$error":"#N/A"}},null,null,null,8,{"$f":"IF(ISBLANK(R66),\"\",IF(COUNT(R66:AA66)<>10,NA(),IF(ASTM(W66,0)=0,0,IFERROR(ASTM(R66,3)/ASTM(Z66,1),0))))","v":{"$error":"#N/A"}},{"$f":"IF(ISBLANK(R66),\"\",IF(COUNT(R66:AA66)<>10,NA(),IF(W66=0,0,ASTM(ASTM(W66,0)*ASTM(R66,3),0))))","v":{"$error":"#N/A"}},{"$f":"IF(ISBLANK(R66),\"\",IF(COUNT(R66:AA66)<>10,NA(),ASTM(S66,3)-ASTM(S65,3)))","v":{"$error":"#N/A"}},{"$f":"IF(ISBLANK(R66),\"\",IF(COUNT(R66:AA66)<>10,NA(),ASTM(BG66*ASTM(T66,2),1)))","v":{"$error":"#N/A"}},{"$f":"IF(ISBLANK(R66),\"\",IF(COUNT(R66:AA66)<>10,NA(),ASTM(ASTM($Y$94,4)*1000*(BH66/$AY$61),1)))","v":{"$error":"#N/A"}},59.6,{"$f":"IF(ISBLANK(R66),\"\",IF(COUNT(R66:AA66)<>10,NA(),BI66/(33705*ASTM(R66,3))))","v":{"$error":"#N/A"}},{"$error":"#N/A"},{"$f":"IF(ISBLANK(R66),\"\",IFERROR(ASTM(cityfuf(BJ66)-cityfuf(BJ65),3),\"\"))","v":3.2000000000000001E-2},{"$f":"IF(ISBLANK(R66),\"\",IF(OR(ISNUMBER(R66)=FALSE,ISNUMBER(AA66)=FALSE),NA(),IF(ASTM(W66,0)=0,0,BM66*ASTM(AA66,0))))","v":0.99199999999999999},{"$error":"#N/A"},{"$f":"IF(ISBLANK(R66),\"\",IF(COUNT(R66:AA66)<>10,NA(),BL66*ASTM(R66,3)))","v":{"$error":"#N/A"}},{"$error":"#N/A"},{"$f":"IF(ISBLANK(R66),\"\",IF(COUNT(R66:AA66)<>10,NA(),BQ66*ASTM(R66,3)))","v":{"$error":"#N/A"}},{"$error":"#N/A"},{"$f":"IF(ISBLANK(R66),\"\",IF(COUNT(R66:AA66)<>10,NA(),ASTM(mdiuf(BS66),3)-ASTM(mdiuf(BS65),3)))","v":{"$error":"#N/A"}},{"$f":"IF(ISBLANK(R66),\"\",IF(COUNT(R66:AA66)<>10,NA(),IF(ASTM(W66,0)=0,0,BT66*ASTM(W66,0)/(BQ66))))","v":{"$error":"#N/A"}},{"$error":"#N/A"},{"$f":"IF(ISBLANK(R66),\"\",IF(COUNT(R66:AA66)<>10,NA(),ASTM(cityfufalt(BS66)-cityfufalt(BS65),3)))","v":{"$error":"#N/A"}},{"$error":"#N/A"},{"$f":"IF(ISBLANK(R66),\"\",IF(COUNT(R66:AA66)<>10,NA(),IF(ASTM(W66,0)=0,0,BW66*ASTM(AA66,0)/(BQ66))))","v":{"$error":"#N/A"}},null,8,{"$f":"IF(ISBLANK(AD66),\"\",IF(COUNT(AD66:AM66)<>10,NA(),IF(ASTM(AI66,0)=0,0,ASTM(AD66,3)/ASTM(AL66,1))))","v":""},{"$f":"IF(ISBLANK(AD66),\"\",IF(COUNT(AD66:AM66)<>10,NA(),IF(ASTM(AI66,0)=0,0,ASTM(ASTM(AI66,0)*ASTM(AD66,3),0))))","v":""},{"$f":"IF(ISBLANK(AD66),\"\",IF(COUNT(AD66:AM66)<>10,NA(),ASTM(AE66,3)-ASTM(AE65,3)))","v":""},{"$f":"IF(ISBLANK(AD66),\"\",IF(COUNT(AD66:AM66)<>10,NA(),ASTM(CD66*ASTM(AF66,2),1)))","v":""},{"$f":"IF(ISBLANK(AD66),\"\",IF(COUNT(AD66:AM66)<>10,NA(),ASTM(ASTM($AK$94,4)*1000*(CE66/$AZ$61),1)))","v":""},"",{"$f":"IF(ISBLANK(AD66),\"\",IF(COUNT(AD66:AM66)<>10,NA(),CF66/(33705*ASTM(AD66,3))))","v":""},"",{"$f":"IF(ISBLANK(AD66),\"\",ASTM(highwayfuf(CG66)-highwayfuf(CG65),3))","v":""},{"$f":"IF(ISBLANK(AD66),\"\",IF(OR(ISNUMBER(AD66)=FALSE,ISNUMBER(AM66)=FALSE),NA(),IF(ASTM(AI66,0)=0,0,CJ66*ASTM(AM66,0))))","v":""},"",{"$f":"IF(ISBLANK(AD66),\"\",IF(COUNT(AD66:AM66)<>10,NA(),CI66*ASTM(AD66,3)))","v":""},"",{"$f":"IF(ISBLANK(AD66),\"\",IF(COUNT(AD66:AM66)<>10,NA(),CN66*ASTM(AD66,3)))","v":""},"",{"$f":"IF(ISBLANK(AD66),\"\",IF(COUNT(AD66:AM66)<>10,NA(),ASTM(mdiuf(CP66)-mdiuf(CP65),3)))","v":""},{"$f":"IF(ISBLANK(AD66),\"\",IF(COUNT(AD66:AM66)<>10,NA(),IF(ASTM(AI66,0)=0,0,CQ66*ASTM(AI66,0)/(CN66))))","v":""},"",{"$f":"IF(ISBLANK(AD66),\"\",IF(COUNT(AD66:AM66)<>10,NA(),ASTM(highwayfufalt(CP66)-highwayfufalt(CP65),3)))","v":""},"",{"$f":"IF(ISBLANK(AD66),\"\",IF(COUNT(AD66:AM66)<>10,NA(),IF(ASTM(AI66,0)=0,0,CT66*ASTM(AM66,0)/(CN66))))","v":""}]
[null,null,"Hwy Unrounded Adjusted FE - Conventional Fuel",null,null,{"$f":"IF($J$6=\"HD 2b/3\",NA(),ASTM(IF($N$7+$N$55+$N$103=0,    ((O12<>0)+(O60<>0)+(O108<>0))/(IFERROR(1/O12,0)+IFERROR(1/O60,0)+IFERROR(1/O108,0)),    ($N$7+$N$55+$N$103) / (IFERROR($N$7/O12,0)+IFERROR($N$55/O60,0)+IFERROR($N$103/O108,0))  ),4))","v":{"$error":"#N/A"}},null,null,null,null,null,null,"Charge-Depleting Test Number:","LEPA10069546","LEPA10069547",null,9,7.4660000000000002,34.140999999999998,295.47000000000003,7.0000000000000001E-3,0.2,125,71.400000000000006,125,{"$f":"IF(ISBLANK(R67),\"\",IF(OR($J$6=\"HD 2b/3\",COUNT(R67:W67)<>6,$AA$95<>\"Yes\",$AA$97<>\"Yes\"),NA(),IF(ASTM(W67,0)=0,0,ASTM((51740000*$T$94*$T$95)/((($T$94*U67)+(0.429*V67)+(0.273*W67))*((0.6*$T$95*$T$96)+5471)),1))))","v":{"$error":"#N/A"}},{"$f":"IF(ISBLANK(R67),\"\",IF(OR(AND($J$6<>\"HD 2b/3\",COUNT(R67:W67)<>6),AND($J$6=\"HD 2b/3\",COUNT(R67)+COUNT(W67)<>2),$AA$95<>\"Yes\",$AA$97<>\"Yes\"),NA(),IF(ASTM(W67,0)=0,0,IF($J$6=\"HD 2b/3\",W67,ASTM((($T$94/0.273)*U67)+(1.571*V67)+W67,0)))))","v":125},null,9,null,null,null,null,null,null,null,null,{"$f":"IF(ISBLANK(AD67),\"\",IF(OR($J$6=\"HD 2b/3\",COUNT(AD67:AI67)<>6,$AM$47<>\"Yes\",$AM$49<>\"Yes\"),NA(),IF(ASTM(AI67,0)=0,0,ASTM((51740000*$AF$46*$AF$47)/((($AF$46*AG67)+(0.429*AH67)+(0.273*AI67))*((0.6*$AF$47*$AF$48)+5471)),1))))","v":""},{"$f":"IF(ISBLANK(AD67),\"\",IF(OR(AND($J$6<>\"HD 2b/3\",COUNT(AD67:AI67)<>6),AND($J$6=\"HD 2b/3\",COUNT(AD67)+COUNT(AI67)<>2),$AM$95<>\"Yes\",$AM$97<>\"Yes\"),NA(),IF(ASTM(AI67,0)=0,0,IF($J$6=\"HD 2b/3\",AI67,ASTM((($AF$94/0.273)*AG67)+(1.571*AH67)+AI67,0)))))","v":""},null,null,null,"CD Electricity Consumption  (kW-hr/100mi) [0]",null,null,{"$f":"IF($J$6=\"HD 2b/3\",NA(),IFERROR(ASTM(0.55*AY60+0.45*AZ60,0),0))","v":{"$error":"#N/A"}},null,null,null,"CD fuel economy (Rcda), adjusted (MPGe) [4]",{"$f":"IF($J$6=\"HD 2b/3\",NA(),IFERROR(ASTM( AY55/ ( SUMIF(BD59:BD93,\"<=\" & (AY82-1),BP59:BP93) + AY81*SUMIF(BD59:BD93,\"=\" & (AY82-1),BP59:BP93) ),4),0))","v":{"$error":"#N/A"}},{"$f":"IF($J$6=\"HD 2b/3\",NA(),IFERROR(ASTM( AZ55/ ( SUMIF(CA59:CA93,\"<=\" & (AZ82-1),CM59:CM93) + AZ81*SUMIF(CA59:CA93,\"=\" & (AZ82-1),CM59:CM93) ),4),0))","v":{"$error":"#N/A"}},null,null,null,9,{"$f":"IF(ISBLANK(R67),\"\",IF(COUNT(R67:AA67)<>10,NA(),IF(ASTM(W67,0)=0,0,IFERROR(ASTM(R67,3)/ASTM(Z67,1),0))))","v":{"$error":"#N/A"}},{"$f":"IF(ISBLANK(R67),\"\",IF(COUNT(R67:AA67)<>10,NA(),IF(W67=0,0,ASTM(ASTM(W67,0)*ASTM(R67,3),0))))","v":{"$error":"#N/A"}},{"$f":"IF(ISBLANK(R67),\"\",IF(COUNT(R67:AA67)<>10,NA(),ASTM(S67,3)-ASTM(S66,3)))","v":{"$error":"#N/A"}},{"$f":"IF(ISBLANK(R67),\"\",IF(COUNT(R67:AA67)<>10,NA(),ASTM(BG67*ASTM(T67,2),1)))","v":{"$error":"#N/A"}},{"$f":"IF(ISBLANK(R67),\"\",IF(COUNT(R67:AA67)<>10,NA(),ASTM(ASTM($Y$94,4)*1000*(BH67/$AY$61),1)))","v":{"$error":"#N/A"}},67.05,{"$f":"IF(ISBLANK(R67),\"\",IF(COUNT(R67:AA67)<>10,NA(),BI67/(33705*ASTM(R67,3))))","v":{"$error":"#N/A"}},{"$error":"#N/A"},{"$f":"IF(ISBLANK(R67),\"\",IFERROR(ASTM(cityfuf(BJ67)-cityfuf(BJ66),3),\"\"))","v":2.5000000000000001E-2},{"$f":"IF(ISBLANK(R67),\"\",IF(OR(ISNUMBER(R67)=FALSE,ISNUMBER(AA67)=FALSE),NA(),IF(ASTM(W67,0)=0,0,BM67*ASTM(AA67,0))))","v":3.125},{"$error":"#N/A"},{"$f":"IF(ISBLANK(R67),\"\",IF(COUNT(R67:AA67)<>10,NA(),BL67*ASTM(R67,3)))","v":{"$error":"#N/A"}},{"$error":"#N/A"},{"$f":"IF(ISBLANK(R67),\"\",IF(COUNT(R67:AA67)<>10,NA(),BQ67*ASTM(R67,3)))","v":{"$error":"#N/A"}},{"$error":"#N/A"},{"$f":"IF(ISBLANK(R67),\"\",IF(COUNT(R67:AA67)<>10,NA(),ASTM(mdiuf(BS67),3)-ASTM(mdiuf(BS66),3)))","v":{"$error":"#N/A"}},{"$f":"IF(ISBLANK(R67),\"\",IF(COUNT(R67:AA67)<>10,NA(),IF(ASTM(W67,0)=0,0,BT67*ASTM(W67,0)/(BQ67))))","v":{"$error":"#N/A"}},{"$error":"#N/A"},{"$f":"IF(ISBLANK(R67),\"\",IF(COUNT(R67:AA67)<>10,NA(),ASTM(cityfufalt(BS67)-cityfufalt(BS66),3)))","v":{"$error":"#N/A"}},{"$error":"#N/A"},{"$f":"IF(ISBLANK(R67),\"\",IF(COUNT(R67:AA67)<>10,NA(),IF(ASTM(W67,0)=0,0,BW67*ASTM(AA67,0)/(BQ67))))","v":{"$error":"#N/A"}},null,9,{"$f":"IF(ISBLANK(AD67),\"\",IF(COUNT(AD67:AM67)<>10,NA(),IF(ASTM(AI67,0)=0,0,ASTM(AD67,3)/ASTM(AL67,1))))","v":""},{"$f":"IF(ISBLANK(AD67),\"\",IF(COUNT(AD67:AM67)<>10,NA(),IF(ASTM(AI67,0)=0,0,ASTM(ASTM(AI67,0)*ASTM(AD67,3),0))))","v":""},{"$f":"IF(ISBLANK(AD67),\"\",IF(COUNT(AD67:AM67)<>10,NA(),ASTM(AE67,3)-ASTM(AE66,3)))","v":""},{"$f":"IF(ISBLANK(AD67),\"\",IF(COUNT(AD67:AM67)<>10,NA(),ASTM(CD67*ASTM(AF67,2),1)))","v":""},{"$f":"IF(ISBLANK(AD67),\"\",IF(COUNT(AD67:AM67)<>10,NA(),ASTM(ASTM($AK$94,4)*1000*(CE67/$AZ$61),1)))","v":""},"",{"$f":"IF(ISBLANK(AD67),\"\",IF(COUNT(AD67:AM67)<>10,NA(),CF67/(33705*ASTM(AD67,3))))","v":""},"",{"$f":"IF(ISBLANK(AD67),\"\",ASTM(highwayfuf(CG67)-highwayfuf(CG66),3))","v":""},{"$f":"IF(ISBLANK(AD67),\"\",IF(OR(ISNUMBER(AD67)=FALSE,ISNUMBER(AM67)=FALSE),NA(),IF(ASTM(AI67,0)=0,0,CJ67*ASTM(AM67,0))))","v":""},"",{"$f":"IF(ISBLANK(AD67),\"\",IF(COUNT(AD67:AM67)<>10,NA(),CI67*ASTM(AD67,3)))","v":""},"",{"$f":"IF(ISBLANK(AD67),\"\",IF(COUNT(AD67:AM67)<>10,NA(),CN67*ASTM(AD67,3)))","v":""},"",{"$f":"IF(ISBLANK(AD67),\"\",IF(COUNT(AD67:AM67)<>10,NA(),ASTM(mdiuf(CP67)-mdiuf(CP66),3)))","v":""},{"$f":"IF(ISBLANK(AD67),\"\",IF(COUNT(AD67:AM67)<>10,NA(),IF(ASTM(AI67,0)=0,0,CQ67*ASTM(AI67,0)/(CN67))))","v":""},"",{"$f":"IF(ISBLANK(AD67),\"\",IF(COUNT(AD67:AM67)<>10,NA(),ASTM(highwayfufalt(CP67)-highwayfufalt(CP66),3)))","v":""},"",{"$f":"IF(ISBLANK(AD67),\"\",IF(COUNT(AD67:AM67)<>10,NA(),IF(ASTM(AI67,0)=0,0,CT67*ASTM(AM67,0)/(CN67))))","v":""}]
[null,null,"Combined Unrounded Adjusted FE - Conventional Fuel",null,null,{"$f":"IF($J$6=\"HD 2b/3\",NA(),ASTM(1/(0.55/(IF($N$7+$N$55+$N$103=0,    ((N12<>0)+(N60<>0)+(N108<>0))/(IFERROR(1/N12,0)+IFERROR(1/N60,0)+IFERROR(1/N108,0)),    ($N$7+$N$55+$N$103) / (IFERROR($N$7/N12,0)+IFERROR($N$55/N60,0)+IFERROR($N$103/N108,0))  ))+0.45/(IF($N$7+$N$55+$N$103=0,    ((O12<>0)+(O60<>0)+(O108<>0))/(IFERROR(1/O12,0)+IFERROR(1/O60,0)+IFERROR(1/O108,0)),    ($N$7+$N$55+$N$103) / (IFERROR($N$7/O12,0)+IFERROR($N$55/O60,0)+IFERROR($N$103/O108,0))  ))),4))","v":{"$error":"#N/A"}},null,null,null,null,null,null,null,"CS_FTP","CS_Hwy",null,10,null,null,null,null,null,null,null,null,{"$f":"IF(ISBLANK(R68),\"\",IF(OR($J$6=\"HD 2b/3\",COUNT(R68:W68)<>6,$AA$95<>\"Yes\",$AA$97<>\"Yes\"),NA(),IF(ASTM(W68,0)=0,0,ASTM((51740000*$T$94*$T$95)/((($T$94*U68)+(0.429*V68)+(0.273*W68))*((0.6*$T$95*$T$96)+5471)),1))))","v":""},{"$f":"IF(ISBLANK(R68),\"\",IF(OR(AND($J$6<>\"HD 2b/3\",COUNT(R68:W68)<>6),AND($J$6=\"HD 2b/3\",COUNT(R68)+COUNT(W68)<>2),$AA$95<>\"Yes\",$AA$97<>\"Yes\"),NA(),IF(ASTM(W68,0)=0,0,IF($J$6=\"HD 2b/3\",W68,ASTM((($T$94/0.273)*U68)+(1.571*V68)+W68,0)))))","v":""},null,10,null,null,null,null,null,null,null,null,{"$f":"IF(ISBLANK(AD68),\"\",IF(OR($J$6=\"HD 2b/3\",COUNT(AD68:AI68)<>6,$AM$47<>\"Yes\",$AM$49<>\"Yes\"),NA(),IF(ASTM(AI68,0)=0,0,ASTM((51740000*$AF$46*$AF$47)/((($AF$46*AG68)+(0.429*AH68)+(0.273*AI68))*((0.6*$AF$47*$AF$48)+5471)),1))))","v":""},{"$f":"IF(ISBLANK(AD68),\"\",IF(OR(AND($J$6<>\"HD 2b/3\",COUNT(AD68:AI68)<>6),AND($J$6=\"HD 2b/3\",COUNT(AD68)+COUNT(AI68)<>2),$AM$95<>\"Yes\",$AM$97<>\"Yes\"),NA(),IF(ASTM(AI68,0)=0,0,IF($J$6=\"HD 2b/3\",AI68,ASTM((($AF$94/0.273)*AG68)+(1.571*AH68)+AI68,0)))))","v":""},null,null,null,"CD Gasoline Consumption (gal/100mi) [0]",null,null,{"$f":"IF($J$6=\"HD 2b/3\",NA(),IFERROR(ASTM(0.55*AY68+0.45*AZ68,1),0))","v":{"$error":"#N/A"}},null,null,null,"CD gasoline consumption rate (Rcda), adjusted (gal/100mi) [4]",{"$f":"IF($J$6=\"HD 2b/3\",NA(),IFERROR(ASTM(100*(SUMIF(BD59:BD93,\"<=\" & AY82-1,BE59:BE93)+AY81*SUMIF(BD59:BD93,\"=\" & AY82-1,BE59:BE93))/AY55,4),0))","v":{"$error":"#N/A"}},{"$f":"IF($J$6=\"HD 2b/3\",NA(),IFERROR(ASTM(100*(SUMIF(CA59:CA93,\"<=\" & AZ82-1,CB59:CB93)+AZ81*SUMIF(CA59:CA93,\"=\" & AZ82-1,CB59:CB93))/AZ55,4),0))","v":{"$error":"#N/A"}},null,null,null,10,{"$f":"IF(ISBLANK(R68),\"\",IF(COUNT(R68:AA68)<>10,NA(),IF(ASTM(W68,0)=0,0,IFERROR(ASTM(R68,3)/ASTM(Z68,1),0))))","v":""},{"$f":"IF(ISBLANK(R68),\"\",IF(COUNT(R68:AA68)<>10,NA(),IF(W68=0,0,ASTM(ASTM(W68,0)*ASTM(R68,3),0))))","v":""},{"$f":"IF(ISBLANK(R68),\"\",IF(COUNT(R68:AA68)<>10,NA(),ASTM(S68,3)-ASTM(S67,3)))","v":""},{"$f":"IF(ISBLANK(R68),\"\",IF(COUNT(R68:AA68)<>10,NA(),ASTM(BG68*ASTM(T68,2),1)))","v":""},{"$f":"IF(ISBLANK(R68),\"\",IF(COUNT(R68:AA68)<>10,NA(),ASTM(ASTM($Y$94,4)*1000*(BH68/$AY$61),1)))","v":""},"",{"$f":"IF(ISBLANK(R68),\"\",IF(COUNT(R68:AA68)<>10,NA(),BI68/(33705*ASTM(R68,3))))","v":""},"",{"$f":"IF(ISBLANK(R68),\"\",IFERROR(ASTM(cityfuf(BJ68)-cityfuf(BJ67),3),\"\"))","v":""},{"$f":"IF(ISBLANK(R68),\"\",IF(OR(ISNUMBER(R68)=FALSE,ISNUMBER(AA68)=FALSE),NA(),IF(ASTM(W68,0)=0,0,BM68*ASTM(AA68,0))))","v":""},"",{"$f":"IF(ISBLANK(R68),\"\",IF(COUNT(R68:AA68)<>10,NA(),BL68*ASTM(R68,3)))","v":""},"",{"$f":"IF(ISBLANK(R68),\"\",IF(COUNT(R68:AA68)<>10,NA(),BQ68*ASTM(R68,3)))","v":""},"",{"$f":"IF(ISBLANK(R68),\"\",IF(COUNT(R68:AA68)<>10,NA(),ASTM(mdiuf(BS68),3)-ASTM(mdiuf(BS67),3)))","v":""},{"$f":"IF(ISBLANK(R68),\"\",IF(COUNT(R68:AA68)<>10,NA(),IF(ASTM(W68,0)=0,0,BT68*ASTM(W68,0)/(BQ68))))","v":""},"",{"$f":"IF(ISBLANK(R68),\"\",IF(COUNT(R68:AA68)<>10,NA(),ASTM(cityfufalt(BS68)-cityfufalt(BS67),3)))","v":""},"",{"$f":"IF(ISBLANK(R68),\"\",IF(COUNT(R68:AA68)<>10,NA(),IF(ASTM(W68,0)=0,0,BW68*ASTM(AA68,0)/(BQ68))))","v":""},null,10,{"$f":"IF(ISBLANK(AD68),\"\",IF(COUNT(AD68:AM68)<>10,NA(),IF(ASTM(AI68,0)=0,0,ASTM(AD68,3)/ASTM(AL68,1))))","v":""},{"$f":"IF(ISBLANK(AD68),\"\",IF(COUNT(AD68:AM68)<>10,NA(),IF(ASTM(AI68,0)=0,0,ASTM(ASTM(AI68,0)*ASTM(AD68,3),0))))","v":""},{"$f":"IF(ISBLANK(AD68),\"\",IF(COUNT(AD68:AM68)<>10,NA(),ASTM(AE68,3)-ASTM(AE67,3)))","v":""},{"$f":"IF(ISBLANK(AD68),\"\",IF(COUNT(AD68:AM68)<>10,NA(),ASTM(CD68*ASTM(AF68,2),1)))","v":""},{"$f":"IF(ISBLANK(AD68),\"\",IF(COUNT(AD68:AM68)<>10,NA(),ASTM(ASTM($AK$94,4)*1000*(CE68/$AZ$61),1)))","v":""},"",{"$f":"IF(ISBLANK(AD68),\"\",IF(COUNT(AD68:AM68)<>10,NA(),CF68/(33705*ASTM(AD68,3))))","v":""},"",{"$f":"IF(ISBLANK(AD68),\"\",ASTM(highwayfuf(CG68)-highwayfuf(CG67),3))","v":""},{"$f":"IF(ISBLANK(AD68),\"\",IF(OR(ISNUMBER(AD68)=FALSE,ISNUMBER(AM68)=FALSE),NA(),IF(ASTM(AI68,0)=0,0,CJ68*ASTM(AM68,0))))","v":""},"",{"$f":"IF(ISBLANK(AD68),\"\",IF(COUNT(AD68:AM68)<>10,NA(),CI68*ASTM(AD68,3)))","v":""},"",{"$f":"IF(ISBLANK(AD68),\"\",IF(COUNT(AD68:AM68)<>10,NA(),CN68*ASTM(AD68,3)))","v":""},"",{"$f":"IF(ISBLANK(AD68),\"\",IF(COUNT(AD68:AM68)<>10,NA(),ASTM(mdiuf(CP68)-mdiuf(CP67),3)))","v":""},{"$f":"IF(ISBLANK(AD68),\"\",IF(COUNT(AD68:AM68)<>10,NA(),IF(ASTM(AI68,0)=0,0,CQ68*ASTM(AI68,0)/(CN68))))","v":""},"",{"$f":"IF(ISBLANK(AD68),\"\",IF(COUNT(AD68:AM68)<>10,NA(),ASTM(highwayfufalt(CP68)-highwayfufalt(CP67),3)))","v":""},"",{"$f":"IF(ISBLANK(AD68),\"\",IF(COUNT(AD68:AM68)<>10,NA(),IF(ASTM(AI68,0)=0,0,CT68*ASTM(AM68,0)/(CN68))))","v":""}]
[null,null,"Charge-sustaining CO2",null,null,"g/mi",null,null,null,null,null,null,"Charge-Sustaining FTP/Hwy (Required):","LEPA10069542","LEPA10069544",null,11,null,null,null,null,null,null,null,null,{"$f":"IF(ISBLANK(R69),\"\",IF(OR($J$6=\"HD 2b/3\",COUNT(R69:W69)<>6,$AA$95<>\"Yes\",$AA$97<>\"Yes\"),NA(),IF(ASTM(W69,0)=0,0,ASTM((51740000*$T$94*$T$95)/((($T$94*U69)+(0.429*V69)+(0.273*W69))*((0.6*$T$95*$T$96)+5471)),1))))","v":""},{"$f":"IF(ISBLANK(R69),\"\",IF(OR(AND($J$6<>\"HD 2b/3\",COUNT(R69:W69)<>6),AND($J$6=\"HD 2b/3\",COUNT(R69)+COUNT(W69)<>2),$AA$95<>\"Yes\",$AA$97<>\"Yes\"),NA(),IF(ASTM(W69,0)=0,0,IF($J$6=\"HD 2b/3\",W69,ASTM((($T$94/0.273)*U69)+(1.571*V69)+W69,0)))))","v":""},null,11,null,null,null,null,null,null,null,null,{"$f":"IF(ISBLANK(AD69),\"\",IF(OR($J$6=\"HD 2b/3\",COUNT(AD69:AI69)<>6,$AM$47<>\"Yes\",$AM$49<>\"Yes\"),NA(),IF(ASTM(AI69,0)=0,0,ASTM((51740000*$AF$46*$AF$47)/((($AF$46*AG69)+(0.429*AH69)+(0.273*AI69))*((0.6*$AF$47*$AF$48)+5471)),1))))","v":""},{"$f":"IF(ISBLANK(AD69),\"\",IF(OR(AND($J$6<>\"HD 2b/3\",COUNT(AD69:AI69)<>6),AND($J$6=\"HD 2b/3\",COUNT(AD69)+COUNT(AI69)<>2),$AM$95<>\"Yes\",$AM$97<>\"Yes\"),NA(),IF(ASTM(AI69,0)=0,0,IF($J$6=\"HD 2b/3\",AI69,ASTM((($AF$94/0.273)*AG69)+(1.571*AH69)+AI69,0)))))","v":""},null,null,null,"Charge-Sustaining",null,null,"Combined",null,null,"NEW","CD fuel economy (Rcda), unadjusted (MPGe) [4]",{"$f":"IF($J$6=\"HD 2b/3\",NA(),ASTM(IFERROR(AY54/ ( SUMIF(BD59:BD93,\"<=\" & (AY82-1),BP59:BP93) + AY81*SUMIF(BD59:BD93,\"=\" & (AY82-1),BP59:BP93) ),0),4))","v":{"$error":"#N/A"}},{"$f":"IF($J$6=\"HD 2b/3\",NA(),ASTM(IFERROR(AZ54/ ( SUMIF(CA59:CA93,\"<=\" & (AZ82-1),CM59:CM93) + AZ81*SUMIF(CA59:CA93,\"=\" & (AZ82-1),CM59:CM93) ),0),4))","v":{"$error":"#N/A"}},null,null,null,11,{"$f":"IF(ISBLANK(R69),\"\",IF(COUNT(R69:AA69)<>10,NA(),IF(ASTM(W69,0)=0,0,IFERROR(ASTM(R69,3)/ASTM(Z69,1),0))))","v":""},{"$f":"IF(ISBLANK(R69),\"\",IF(COUNT(R69:AA69)<>10,NA(),IF(W69=0,0,ASTM(ASTM(W69,0)*ASTM(R69,3),0))))","v":""},{"$f":"IF(ISBLANK(R69),\"\",IF(COUNT(R69:AA69)<>10,NA(),ASTM(S69,3)-ASTM(S68,3)))","v":""},{"$f":"IF(ISBLANK(R69),\"\",IF(COUNT(R69:AA69)<>10,NA(),ASTM(BG69*ASTM(T69,2),1)))","v":""},{"$f":"IF(ISBLANK(R69),\"\",IF(COUNT(R69:AA69)<>10,NA(),ASTM(ASTM($Y$94,4)*1000*(BH69/$AY$61),1)))","v":""},"",{"$f":"IF(ISBLANK(R69),\"\",IF(COUNT(R69:AA69)<>10,NA(),BI69/(33705*ASTM(R69,3))))","v":""},"",{"$f":"IF(ISBLANK(R69),\"\",IFERROR(ASTM(cityfuf(BJ69)-cityfuf(BJ68),3),\"\"))","v":""},{"$f":"IF(ISBLANK(R69),\"\",IF(OR(ISNUMBER(R69)=FALSE,ISNUMBER(AA69)=FALSE),NA(),IF(ASTM(W69,0)=0,0,BM69*ASTM(AA69,0))))","v":""},"",{"$f":"IF(ISBLANK(R69),\"\",IF(COUNT(R69:AA69)<>10,NA(),BL69*ASTM(R69,3)))","v":""},"",{"$f":"IF(ISBLANK(R69),\"\",IF(COUNT(R69:AA69)<>10,NA(),BQ69*ASTM(R69,3)))","v":""},"",{"$f":"IF(ISBLANK(R69),\"\",IF(COUNT(R69:AA69)<>10,NA(),ASTM(mdiuf(BS69),3)-ASTM(mdiuf(BS68),3)))","v":""},{"$f":"IF(ISBLANK(R69),\"\",IF(COUNT(R69:AA69)<>10,NA(),IF(ASTM(W69,0)=0,0,BT69*ASTM(W69,0)/(BQ69))))","v":""},"",{"$f":"IF(ISBLANK(R69),\"\",IF(COUNT(R69:AA69)<>10,NA(),ASTM(cityfufalt(BS69)-cityfufalt(BS68),3)))","v":""},"",{"$f":"IF(ISBLANK(R69),\"\",IF(COUNT(R69:AA69)<>10,NA(),IF(ASTM(W69,0)=0,0,BW69*ASTM(AA69,0)/(BQ69))))","v":""},null,11,{"$f":"IF(ISBLANK(AD69),\"\",IF(COUNT(AD69:AM69)<>10,NA(),IF(ASTM(AI69,0)=0,0,ASTM(AD69,3)/ASTM(AL69,1))))","v":""},{"$f":"IF(ISBLANK(AD69),\"\",IF(COUNT(AD69:AM69)<>10,NA(),IF(ASTM(AI69,0)=0,0,ASTM(ASTM(AI69,0)*ASTM(AD69,3),0))))","v":""},{"$f":"IF(ISBLANK(AD69),\"\",IF(COUNT(AD69:AM69)<>10,NA(),ASTM(AE69,3)-ASTM(AE68,3)))","v":""},{"$f":"IF(ISBLANK(AD69),\"\",IF(COUNT(AD69:AM69)<>10,NA(),ASTM(CD69*ASTM(AF69,2),1)))","v":""},{"$f":"IF(ISBLANK(AD69),\"\",IF(COUNT(AD69:AM69)<>10,NA(),ASTM(ASTM($AK$94,4)*1000*(CE69/$AZ$61),1)))","v":""},"",{"$f":"IF(ISBLANK(AD69),\"\",IF(COUNT(AD69:AM69)<>10,NA(),CF69/(33705*ASTM(AD69,3))))","v":""},"",{"$f":"IF(ISBLANK(AD69),\"\",ASTM(highwayfuf(CG69)-highwayfuf(CG68),3))","v":""},{"$f":"IF(ISBLANK(AD69),\"\",IF(OR(ISNUMBER(AD69)=FALSE,ISNUMBER(AM69)=FALSE),NA(),IF(ASTM(AI69,0)=0,0,CJ69*ASTM(AM69,0))))","v":""},"",{"$f":"IF(ISBLANK(AD69),\"\",IF(COUNT(AD69:AM69)<>10,NA(),CI69*ASTM(AD69,3)))","v":""},"",{"$f":"IF(ISBLANK(AD69),\"\",IF(COUNT(AD69:AM69)<>10,NA(),CN69*ASTM(AD69,3)))","v":""},"",{"$f":"IF(ISBLANK(AD69),\"\",IF(COUNT(AD69:AM69)<>10,NA(),ASTM(mdiuf(CP69)-mdiuf(CP68),3)))","v":""},{"$f":"IF(ISBLANK(AD69),\"\",IF(COUNT(AD69:AM69)<>10,NA(),IF(ASTM(AI69,0)=0,0,CQ69*ASTM(AI69,0)/(CN69))))","v":""},"",{"$f":"IF(ISBLANK(AD69),\"\",IF(COUNT(AD69:AM69)<>10,NA(),ASTM(highwayfufalt(CP69)-highwayfufalt(CP68),3)))","v":""},"",{"$f":"IF(ISBLANK(AD69),\"\",IF(COUNT(AD69:AM69)<>10,NA(),IF(ASTM(AI69,0)=0,0,CT69*ASTM(AM69,0)/(CN69))))","v":""}]
[null,null,"City CO2 Rounded Adjusted",null,null,{"$f":"IF($J$6=\"HD 2b/3\",NA(),ASTM(IF($N$7+$N$55+$N$103=0,   (N15+N63+N111)/ ((N15<>0)+(N63<>0)+(N111<>0)),    (IFERROR($N$7*N15,0)+IFERROR($N$55*N63,0)+IFERROR($N$103*N111,0)) /  ($N$7+$N$55+$N$103)   ),0))","v":{"$error":"#N/A"}},null,null,null,null,null,null,"Charge-Sustaining FTP/Hwy (Optional):","LEPA10069541","LEPA10069543",null,12,null,null,null,null,null,null,null,null,{"$f":"IF(ISBLANK(R70),\"\",IF(OR($J$6=\"HD 2b/3\",COUNT(R70:W70)<>6,$AA$95<>\"Yes\",$AA$97<>\"Yes\"),NA(),IF(ASTM(W70,0)=0,0,ASTM((51740000*$T$94*$T$95)/((($T$94*U70)+(0.429*V70)+(0.273*W70))*((0.6*$T$95*$T$96)+5471)),1))))","v":""},{"$f":"IF(ISBLANK(R70),\"\",IF(OR(AND($J$6<>\"HD 2b/3\",COUNT(R70:W70)<>6),AND($J$6=\"HD 2b/3\",COUNT(R70)+COUNT(W70)<>2),$AA$95<>\"Yes\",$AA$97<>\"Yes\"),NA(),IF(ASTM(W70,0)=0,0,IF($J$6=\"HD 2b/3\",W70,ASTM((($T$94/0.273)*U70)+(1.571*V70)+W70,0)))))","v":""},null,12,null,null,null,null,null,null,null,null,{"$f":"IF(ISBLANK(AD70),\"\",IF(OR($J$6=\"HD 2b/3\",COUNT(AD70:AI70)<>6,$AM$47<>\"Yes\",$AM$49<>\"Yes\"),NA(),IF(ASTM(AI70,0)=0,0,ASTM((51740000*$AF$46*$AF$47)/((($AF$46*AG70)+(0.429*AH70)+(0.273*AI70))*((0.6*$AF$47*$AF$48)+5471)),1))))","v":""},{"$f":"IF(ISBLANK(AD70),\"\",IF(OR(AND($J$6<>\"HD 2b/3\",COUNT(AD70:AI70)<>6),AND($J$6=\"HD 2b/3\",COUNT(AD70)+COUNT(AI70)<>2),$AM$95<>\"Yes\",$AM$97<>\"Yes\"),NA(),IF(ASTM(AI70,0)=0,0,IF($J$6=\"HD 2b/3\",AI70,ASTM((($AF$94/0.273)*AG70)+(1.571*AH70)+AI70,0)))))","v":""},null,null,null,"CS Fuel Economy (MPG) [0]",{"$f":"IF($J$6=\"HD 2b/3\",NA(),IFERROR(ASTM(N60,4),0))","v":{"$error":"#N/A"}},{"$f":"IF($J$6=\"HD 2b/3\",NA(),IFERROR(ASTM(O60,4),0))","v":{"$error":"#N/A"}},{"$f":"IF($J$6=\"HD 2b/3\",NA(),IFERROR(ASTM(1/(0.55/AR70+0.45/AS70),0),0))","v":{"$error":"#N/A"}},null,null,"NEW","CD AC electricity consumption rate (Rcda), unadjusted  (kW-hr/100mi) [3]",{"$f":"IF($J$6=\"HD 2b/3\",NA(),ASTM(IFERROR((IFERROR( ( SUMIF(BD59:BD93,\"<=\" & (AY82-1),BI59:BI93) + AY81*SUMIF(BD59:BD93,\"=\" & (AY82-1),BI59:BI93) ) / AY54 *100 / 1000, 0)),0),3))","v":{"$error":"#N/A"}},{"$f":"IF($J$6=\"HD 2b/3\",NA(),ASTM(IFERROR((IFERROR( ( SUMIF(CA59:CA93,\"<=\" & (AZ82-1),CF59:CF93) + AZ81*SUMIF(CA59:CA93,\"=\" & (AZ82-1),CF59:CF93) ) / AZ54 *100 / 1000, 0)),0),3))","v":{"$error":"#N/A"}},null,null,null,12,{"$f":"IF(ISBLANK(R70),\"\",IF(COUNT(R70:AA70)<>10,NA(),IF(ASTM(W70,0)=0,0,IFERROR(ASTM(R70,3)/ASTM(Z70,1),0))))","v":""},{"$f":"IF(ISBLANK(R70),\"\",IF(COUNT(R70:AA70)<>10,NA(),IF(W70=0,0,ASTM(ASTM(W70,0)*ASTM(R70,3),0))))","v":""},{"$f":"IF(ISBLANK(R70),\"\",IF(COUNT(R70:AA70)<>10,NA(),ASTM(S70,3)-ASTM(S69,3)))","v":""},{"$f":"IF(ISBLANK(R70),\"\",IF(COUNT(R70:AA70)<>10,NA(),ASTM(BG70*ASTM(T70,2),1)))","v":""},{"$f":"IF(ISBLANK(R70),\"\",IF(COUNT(R70:AA70)<>10,NA(),ASTM(ASTM($Y$94,4)*1000*(BH70/$AY$61),1)))","v":""},"",{"$f":"IF(ISBLANK(R70),\"\",IF(COUNT(R70:AA70)<>10,NA(),BI70/(33705*ASTM(R70,3))))","v":""},"",{"$f":"IF(ISBLANK(R70),\"\",IFERROR(ASTM(cityfuf(BJ70)-cityfuf(BJ69),3),\"\"))","v":""},{"$f":"IF(ISBLANK(R70),\"\",IF(OR(ISNUMBER(R70)=FALSE,ISNUMBER(AA70)=FALSE),NA(),IF(ASTM(W70,0)=0,0,BM70*ASTM(AA70,0))))","v":""},"",{"$f":"IF(ISBLANK(R70),\"\",IF(COUNT(R70:AA70)<>10,NA(),BL70*ASTM(R70,3)))","v":""},"",{"$f":"IF(ISBLANK(R70),\"\",IF(COUNT(R70:AA70)<>10,NA(),BQ70*ASTM(R70,3)))","v":""},"",{"$f":"IF(ISBLANK(R70),\"\",IF(COUNT(R70:AA70)<>10,NA(),ASTM(mdiuf(BS70),3)-ASTM(mdiuf(BS69),3)))","v":""},{"$f":"IF(ISBLANK(R70),\"\",IF(COUNT(R70:AA70)<>10,NA(),IF(ASTM(W70,0)=0,0,BT70*ASTM(W70,0)/(BQ70))))","v":""},"",{"$f":"IF(ISBLANK(R70),\"\",IF(COUNT(R70:AA70)<>10,NA(),ASTM(cityfufalt(BS70)-cityfufalt(BS69),3)))","v":""},"",{"$f":"IF(ISBLANK(R70),\"\",IF(COUNT(R70:AA70)<>10,NA(),IF(ASTM(W70,0)=0,0,BW70*ASTM(AA70,0)/(BQ70))))","v":""},null,12,{"$f":"IF(ISBLANK(AD70),\"\",IF(COUNT(AD70:AM70)<>10,NA(),IF(ASTM(AI70,0)=0,0,ASTM(AD70,3)/ASTM(AL70,1))))","v":""},{"$f":"IF(ISBLANK(AD70),\"\",IF(COUNT(AD70:AM70)<>10,NA(),IF(ASTM(AI70,0)=0,0,ASTM(ASTM(AI70,0)*ASTM(AD70,3),0))))","v":""},{"$f":"IF(ISBLANK(AD70),\"\",IF(COUNT(AD70:AM70)<>10,NA(),ASTM(AE70,3)-ASTM(AE69,3)))","v":""},{"$f":"IF(ISBLANK(AD70),\"\",IF(COUNT(AD70:AM70)<>10,NA(),ASTM(CD70*ASTM(AF70,2),1)))","v":""},{"$f":"IF(ISBLANK(AD70),\"\",IF(COUNT(AD70:AM70)<>10,NA(),ASTM(ASTM($AK$94,4)*1000*(CE70/$AZ$61),1)))","v":""},"",{"$f":"IF(ISBLANK(AD70),\"\",IF(COUNT(AD70:AM70)<>10,NA(),CF70/(33705*ASTM(AD70,3))))","v":""},"",{"$f":"IF(ISBLANK(AD70),\"\",ASTM(highwayfuf(CG70)-highwayfuf(CG69),3))","v":""},{"$f":"IF(ISBLANK(AD70),\"\",IF(OR(ISNUMBER(AD70)=FALSE,ISNUMBER(AM70)=FALSE),NA(),IF(ASTM(AI70,0)=0,0,CJ70*ASTM(AM70,0))))","v":""},"",{"$f":"IF(ISBLANK(AD70),\"\",IF(COUNT(AD70:AM70)<>10,NA(),CI70*ASTM(AD70,3)))","v":""},"",{"$f":"IF(ISBLANK(AD70),\"\",IF(COUNT(AD70:AM70)<>10,NA(),CN70*ASTM(AD70,3)))","v":""},"",{"$f":"IF(ISBLANK(AD70),\"\",IF(COUNT(AD70:AM70)<>10,NA(),ASTM(mdiuf(CP70)-mdiuf(CP69),3)))","v":""},{"$f":"IF(ISBLANK(AD70),\"\",IF(COUNT(AD70:AM70)<>10,NA(),IF(ASTM(AI70,0)=0,0,CQ70*ASTM(AI70,0)/(CN70))))","v":""},"",{"$f":"IF(ISBLANK(AD70),\"\",IF(COUNT(AD70:AM70)<>10,NA(),ASTM(highwayfufalt(CP70)-highwayfufalt(CP69),3)))","v":""},"",{"$f":"IF(ISBLANK(AD70),\"\",IF(COUNT(AD70:AM70)<>10,NA(),IF(ASTM(AI70,0)=0,0,CT70*ASTM(AM70,0)/(CN70))))","v":""}]
[null,null,"Hwy CO2 Rounded Adjusted",null,null,{"$f":"IF($J$6=\"HD 2b/3\",NA(),ASTM(IF($N$7+$N$55+$N$103=0,   (O15+O63+O111)/ ((O15<>0)+(O63<>0)+(O111<>0)),    (IFERROR($N$7*O15,0)+IFERROR($N$55*O63,0)+IFERROR($N$103*O111,0)) /  ($N$7+$N$55+$N$103)   ),0))","v":{"$error":"#N/A"}},null,null,null,null,null,null,"Charge-Sustaining FTP/Hwy (Optional):",null,null,null,13,null,null,null,null,null,null,null,null,{"$f":"IF(ISBLANK(R71),\"\",IF(OR($J$6=\"HD 2b/3\",COUNT(R71:W71)<>6,$AA$95<>\"Yes\",$AA$97<>\"Yes\"),NA(),IF(ASTM(W71,0)=0,0,ASTM((51740000*$T$94*$T$95)/((($T$94*U71)+(0.429*V71)+(0.273*W71))*((0.6*$T$95*$T$96)+5471)),1))))","v":""},{"$f":"IF(ISBLANK(R71),\"\",IF(OR(AND($J$6<>\"HD 2b/3\",COUNT(R71:W71)<>6),AND($J$6=\"HD 2b/3\",COUNT(R71)+COUNT(W71)<>2),$AA$95<>\"Yes\",$AA$97<>\"Yes\"),NA(),IF(ASTM(W71,0)=0,0,IF($J$6=\"HD 2b/3\",W71,ASTM((($T$94/0.273)*U71)+(1.571*V71)+W71,0)))))","v":""},null,13,null,null,null,null,null,null,null,null,{"$f":"IF(ISBLANK(AD71),\"\",IF(OR($J$6=\"HD 2b/3\",COUNT(AD71:AI71)<>6,$AM$47<>\"Yes\",$AM$49<>\"Yes\"),NA(),IF(ASTM(AI71,0)=0,0,ASTM((51740000*$AF$46*$AF$47)/((($AF$46*AG71)+(0.429*AH71)+(0.273*AI71))*((0.6*$AF$47*$AF$48)+5471)),1))))","v":""},{"$f":"IF(ISBLANK(AD71),\"\",IF(OR(AND($J$6<>\"HD 2b/3\",COUNT(AD71:AI71)<>6),AND($J$6=\"HD 2b/3\",COUNT(AD71)+COUNT(AI71)<>2),$AM$95<>\"Yes\",$AM$97<>\"Yes\"),NA(),IF(ASTM(AI71,0)=0,0,IF($J$6=\"HD 2b/3\",AI71,ASTM((($AF$94/0.273)*AG71)+(1.571*AH71)+AI71,0)))))","v":""},null,null,null,"CS Fuel Consumption (gal/100mi) [1]",{"$f":"IF($J$6=\"HD 2b/3\",NA(),IFERROR(ASTM(100/AR70,1),0))","v":{"$error":"#N/A"}},{"$f":"IF($J$6=\"HD 2b/3\",NA(),IFERROR(ASTM(100/AS70,1),0))","v":{"$error":"#N/A"}},{"$f":"IF($J$6=\"HD 2b/3\",NA(),IFERROR(ASTM(100/AT70,1),0))","v":{"$error":"#N/A"}},null,null,null,"GHG EMISSIONS VALUES","CITY","HIGHWAY",null,null,null,13,{"$f":"IF(ISBLANK(R71),\"\",IF(COUNT(R71:AA71)<>10,NA(),IF(ASTM(W71,0)=0,0,IFERROR(ASTM(R71,3)/ASTM(Z71,1),0))))","v":""},{"$f":"IF(ISBLANK(R71),\"\",IF(COUNT(R71:AA71)<>10,NA(),IF(W71=0,0,ASTM(ASTM(W71,0)*ASTM(R71,3),0))))","v":""},{"$f":"IF(ISBLANK(R71),\"\",IF(COUNT(R71:AA71)<>10,NA(),ASTM(S71,3)-ASTM(S70,3)))","v":""},{"$f":"IF(ISBLANK(R71),\"\",IF(COUNT(R71:AA71)<>10,NA(),ASTM(BG71*ASTM(T71,2),1)))","v":""},{"$f":"IF(ISBLANK(R71),\"\",IF(COUNT(R71:AA71)<>10,NA(),ASTM(ASTM($Y$94,4)*1000*(BH71/$AY$61),1)))","v":""},"",{"$f":"IF(ISBLANK(R71),\"\",IF(COUNT(R71:AA71)<>10,NA(),BI71/(33705*ASTM(R71,3))))","v":""},"",{"$f":"IF(ISBLANK(R71),\"\",IFERROR(ASTM(cityfuf(BJ71)-cityfuf(BJ70),3),\"\"))","v":""},{"$f":"IF(ISBLANK(R71),\"\",IF(OR(ISNUMBER(R71)=FALSE,ISNUMBER(AA71)=FALSE),NA(),IF(ASTM(W71,0)=0,0,BM71*ASTM(AA71,0))))","v":""},"",{"$f":"IF(ISBLANK(R71),\"\",IF(COUNT(R71:AA71)<>10,NA(),BL71*ASTM(R71,3)))","v":""},"",{"$f":"IF(ISBLANK(R71),\"\",IF(COUNT(R71:AA71)<>10,NA(),BQ71*ASTM(R71,3)))","v":""},"",{"$f":"IF(ISBLANK(R71),\"\",IF(COUNT(R71:AA71)<>10,NA(),ASTM(mdiuf(BS71),3)-ASTM(mdiuf(BS70),3)))","v":""},{"$f":"IF(ISBLANK(R71),\"\",IF(COUNT(R71:AA71)<>10,NA(),IF(ASTM(W71,0)=0,0,BT71*ASTM(W71,0)/(BQ71))))","v":""},"",{"$f":"IF(ISBLANK(R71),\"\",IF(COUNT(R71:AA71)<>10,NA(),ASTM(cityfufalt(BS71)-cityfufalt(BS70),3)))","v":""},"",{"$f":"IF(ISBLANK(R71),\"\",IF(COUNT(R71:AA71)<>10,NA(),IF(ASTM(W71,0)=0,0,BW71*ASTM(AA71,0)/(BQ71))))","v":""},null,13,{"$f":"IF(ISBLANK(AD71),\"\",IF(COUNT(AD71:AM71)<>10,NA(),IF(ASTM(AI71,0)=0,0,ASTM(AD71,3)/ASTM(AL71,1))))","v":""},{"$f":"IF(ISBLANK(AD71),\"\",IF(COUNT(AD71:AM71)<>10,NA(),IF(ASTM(AI71,0)=0,0,ASTM(ASTM(AI71,0)*ASTM(AD71,3),0))))","v":""},{"$f":"IF(ISBLANK(AD71),\"\",IF(COUNT(AD71:AM71)<>10,NA(),ASTM(AE71,3)-ASTM(AE70,3)))","v":""},{"$f":"IF(ISBLANK(AD71),\"\",IF(COUNT(AD71:AM71)<>10,NA(),ASTM(CD71*ASTM(AF71,2),1)))","v":""},{"$f":"IF(ISBLANK(AD71),\"\",IF(COUNT(AD71:AM71)<>10,NA(),ASTM(ASTM($AK$94,4)*1000*(CE71/$AZ$61),1)))","v":""},"",{"$f":"IF(ISBLANK(AD71),\"\",IF(COUNT(AD71:AM71)<>10,NA(),CF71/(33705*ASTM(AD71,3))))","v":""},"",{"$f":"IF(ISBLANK(AD71),\"\",ASTM(highwayfuf(CG71)-highwayfuf(CG70),3))","v":""},{"$f":"IF(ISBLANK(AD71),\"\",IF(OR(ISNUMBER(AD71)=FALSE,ISNUMBER(AM71)=FALSE),NA(),IF(ASTM(AI71,0)=0,0,CJ71*ASTM(AM71,0))))","v":""},"",{"$f":"IF(ISBLANK(AD71),\"\",IF(COUNT(AD71:AM71)<>10,NA(),CI71*ASTM(AD71,3)))","v":""},"",{"$f":"IF(ISBLANK(AD71),\"\",IF(COUNT(AD71:AM71)<>10,NA(),CN71*ASTM(AD71,3)))","v":""},"",{"$f":"IF(ISBLANK(AD71),\"\",IF(COUNT(AD71:AM71)<>10,NA(),ASTM(mdiuf(CP71)-mdiuf(CP70),3)))","v":""},{"$f":"IF(ISBLANK(AD71),\"\",IF(COUNT(AD71:AM71)<>10,NA(),IF(ASTM(AI71,0)=0,0,CQ71*ASTM(AI71,0)/(CN71))))","v":""},"",{"$f":"IF(ISBLANK(AD71),\"\",IF(COUNT(AD71:AM71)<>10,NA(),ASTM(highwayfufalt(CP71)-highwayfufalt(CP70),3)))","v":""},"",{"$f":"IF(ISBLANK(AD71),\"\",IF(COUNT(AD71:AM71)<>10,NA(),IF(ASTM(AI71,0)=0,0,CT71*ASTM(AM71,0)/(CN71))))","v":""}]
[null,null,"Combined CO2 Rounded Adjusted",null,null,{"$f":"IF($J$6=\"HD 2b/3\",NA(),ASTM(0.55*(IF($N$7+$N$55+$N$103=0,   (N15+N63+N111)/ ((N15<>0)+(N63<>0)+(N111<>0)),    (IFERROR($N$7*N15,0)+IFERROR($N$55*N63,0)+IFERROR($N$103*N111,0)) /  ($N$7+$N$55+$N$103)   ))+0.45*(IF($N$7+$N$55+$N$103=0,   (O15+O63+O111)/ ((O15<>0)+(O63<>0)+(O111<>0)),    (IFERROR($N$7*O15,0)+IFERROR($N$55*O63,0)+IFERROR($N$103*O111,0)) /  ($N$7+$N$55+$N$103)   )),0))","v":{"$error":"#N/A"}},null,null,null,null,null,null,null,null,null,null,14,null,null,null,null,null,null,null,null,{"$f":"IF(ISBLANK(R72),\"\",IF(OR($J$6=\"HD 2b/3\",COUNT(R72:W72)<>6,$AA$95<>\"Yes\",$AA$97<>\"Yes\"),NA(),IF(ASTM(W72,0)=0,0,ASTM((51740000*$T$94*$T$95)/((($T$94*U72)+(0.429*V72)+(0.273*W72))*((0.6*$T$95*$T$96)+5471)),1))))","v":""},{"$f":"IF(ISBLANK(R72),\"\",IF(OR(AND($J$6<>\"HD 2b/3\",COUNT(R72:W72)<>6),AND($J$6=\"HD 2b/3\",COUNT(R72)+COUNT(W72)<>2),$AA$95<>\"Yes\",$AA$97<>\"Yes\"),NA(),IF(ASTM(W72,0)=0,0,IF($J$6=\"HD 2b/3\",W72,ASTM((($T$94/0.273)*U72)+(1.571*V72)+W72,0)))))","v":""},null,14,null,null,null,null,null,null,null,null,{"$f":"IF(ISBLANK(AD72),\"\",IF(OR($J$6=\"HD 2b/3\",COUNT(AD72:AI72)<>6,$AM$47<>\"Yes\",$AM$49<>\"Yes\"),NA(),IF(ASTM(AI72,0)=0,0,ASTM((51740000*$AF$46*$AF$47)/((($AF$46*AG72)+(0.429*AH72)+(0.273*AI72))*((0.6*$AF$47*$AF$48)+5471)),1))))","v":""},{"$f":"IF(ISBLANK(AD72),\"\",IF(OR(AND($J$6<>\"HD 2b/3\",COUNT(AD72:AI72)<>6),AND($J$6=\"HD 2b/3\",COUNT(AD72)+COUNT(AI72)<>2),$AM$95<>\"Yes\",$AM$97<>\"Yes\"),NA(),IF(ASTM(AI72,0)=0,0,IF($J$6=\"HD 2b/3\",AI72,ASTM((($AF$94/0.273)*AG72)+(1.571*AH72)+AI72,0)))))","v":""},null,null,null,"Composite CD/CS",null,null,"Combined",null,null,null,"CD CO2 emissions rate (Rcda), unadjusted (g/mi) [1]",{"$f":"IF($J$6=\"HD 2b/3\",NA(),IFERROR(ASTM((SUMIF(BD59:BD93,\"<=\" & AY82-1,BF59:BF93)+AY81*SUMIF(BD59:BD93,\"=\" & AY82-1,BF59:BF93))/AY54,1),0))","v":{"$error":"#N/A"}},{"$f":"IF($J$6=\"HD 2b/3\",NA(),IFERROR(ASTM((SUMIF(CA59:CA93,\"<=\" & AZ82-1,CC59:CC93)+AZ81*SUMIF(CA59:CA93,\"=\" & AZ82-1,CC59:CC93))/AZ54,1),0))","v":{"$error":"#N/A"}},null,null,null,14,{"$f":"IF(ISBLANK(R72),\"\",IF(COUNT(R72:AA72)<>10,NA(),IF(ASTM(W72,0)=0,0,IFERROR(ASTM(R72,3)/ASTM(Z72,1),0))))","v":""},{"$f":"IF(ISBLANK(R72),\"\",IF(COUNT(R72:AA72)<>10,NA(),IF(W72=0,0,ASTM(ASTM(W72,0)*ASTM(R72,3),0))))","v":""},{"$f":"IF(ISBLANK(R72),\"\",IF(COUNT(R72:AA72)<>10,NA(),ASTM(S72,3)-ASTM(S71,3)))","v":""},{"$f":"IF(ISBLANK(R72),\"\",IF(COUNT(R72:AA72)<>10,NA(),ASTM(BG72*ASTM(T72,2),1)))","v":""},{"$f":"IF(ISBLANK(R72),\"\",IF(COUNT(R72:AA72)<>10,NA(),ASTM(ASTM($Y$94,4)*1000*(BH72/$AY$61),1)))","v":""},"",{"$f":"IF(ISBLANK(R72),\"\",IF(COUNT(R72:AA72)<>10,NA(),BI72/(33705*ASTM(R72,3))))","v":""},"",{"$f":"IF(ISBLANK(R72),\"\",IFERROR(ASTM(cityfuf(BJ72)-cityfuf(BJ71),3),\"\"))","v":""},{"$f":"IF(ISBLANK(R72),\"\",IF(OR(ISNUMBER(R72)=FALSE,ISNUMBER(AA72)=FALSE),NA(),IF(ASTM(W72,0)=0,0,BM72*ASTM(AA72,0))))","v":""},"",{"$f":"IF(ISBLANK(R72),\"\",IF(COUNT(R72:AA72)<>10,NA(),BL72*ASTM(R72,3)))","v":""},"",{"$f":"IF(ISBLANK(R72),\"\",IF(COUNT(R72:AA72)<>10,NA(),BQ72*ASTM(R72,3)))","v":""},"",{"$f":"IF(ISBLANK(R72),\"\",IF(COUNT(R72:AA72)<>10,NA(),ASTM(mdiuf(BS72),3)-ASTM(mdiuf(BS71),3)))","v":""},{"$f":"IF(ISBLANK(R72),\"\",IF(COUNT(R72:AA72)<>10,NA(),IF(ASTM(W72,0)=0,0,BT72*ASTM(W72,0)/(BQ72))))","v":""},"",{"$f":"IF(ISBLANK(R72),\"\",IF(COUNT(R72:AA72)<>10,NA(),ASTM(cityfufalt(BS72)-cityfufalt(BS71),3)))","v":""},"",{"$f":"IF(ISBLANK(R72),\"\",IF(COUNT(R72:AA72)<>10,NA(),IF(ASTM(W72,0)=0,0,BW72*ASTM(AA72,0)/(BQ72))))","v":""},null,14,{"$f":"IF(ISBLANK(AD72),\"\",IF(COUNT(AD72:AM72)<>10,NA(),IF(ASTM(AI72,0)=0,0,ASTM(AD72,3)/ASTM(AL72,1))))","v":""},{"$f":"IF(ISBLANK(AD72),\"\",IF(COUNT(AD72:AM72)<>10,NA(),IF(ASTM(AI72,0)=0,0,ASTM(ASTM(AI72,0)*ASTM(AD72,3),0))))","v":""},{"$f":"IF(ISBLANK(AD72),\"\",IF(COUNT(AD72:AM72)<>10,NA(),ASTM(AE72,3)-ASTM(AE71,3)))","v":""},{"$f":"IF(ISBLANK(AD72),\"\",IF(COUNT(AD72:AM72)<>10,NA(),ASTM(CD72*ASTM(AF72,2),1)))","v":""},{"$f":"IF(ISBLANK(AD72),\"\",IF(COUNT(AD72:AM72)<>10,NA(),ASTM(ASTM($AK$94,4)*1000*(CE72/$AZ$61),1)))","v":""},"",{"$f":"IF(ISBLANK(AD72),\"\",IF(COUNT(AD72:AM72)<>10,NA(),CF72/(33705*ASTM(AD72,3))))","v":""},"",{"$f":"IF(ISBLANK(AD72),\"\",ASTM(highwayfuf(CG72)-highwayfuf(CG71),3))","v":""},{"$f":"IF(ISBLANK(AD72),\"\",IF(OR(ISNUMBER(AD72)=FALSE,ISNUMBER(AM72)=FALSE),NA(),IF(ASTM(AI72,0)=0,0,CJ72*ASTM(AM72,0))))","v":""},"",{"$f":"IF(ISBLANK(AD72),\"\",IF(COUNT(AD72:AM72)<>10,NA(),CI72*ASTM(AD72,3)))","v":""},"",{"$f":"IF(ISBLANK(AD72),\"\",IF(COUNT(AD72:AM72)<>10,NA(),CN72*ASTM(AD72,3)))","v":""},"",{"$f":"IF(ISBLANK(AD72),\"\",IF(COUNT(AD72:AM72)<>10,NA(),ASTM(mdiuf(CP72)-mdiuf(CP71),3)))","v":""},{"$f":"IF(ISBLANK(AD72),\"\",IF(COUNT(AD72:AM72)<>10,NA(),IF(ASTM(AI72,0)=0,0,CQ72*ASTM(AI72,0)/(CN72))))","v":""},"",{"$f":"IF(ISBLANK(AD72),\"\",IF(COUNT(AD72:AM72)<>10,NA(),ASTM(highwayfufalt(CP72)-highwayfufalt(CP71),3)))","v":""},"",{"$f":"IF(ISBLANK(AD72),\"\",IF(COUNT(AD72:AM72)<>10,NA(),IF(ASTM(AI72,0)=0,0,CT72*ASTM(AM72,0)/(CN72))))","v":""}]
[null,null,"*City CO2 Unrounded Unadjusted ",null,null,{"$f":"IF($J$6=\"HD 2b/3\",NA(),ASTM(IF($N$7+$N$55+$N$103=0,   (N14+N62+N110)/ ((N14<>0)+(N62<>0)+(N110<>0)),    (IFERROR($N$7*N14,0)+IFERROR($N$55*N62,0)+IFERROR($N$103*N110,0)) /  ($N$7+$N$55+$N$103)   ),1))","v":{"$error":"#N/A"}},null,null,null,null,null,null,"ENTER ADDITIONAL CHARGE-SUSTAINING 5-CYCLE TEST NUMBERS HERE",null,null,null,15,null,null,null,null,null,null,null,null,{"$f":"IF(ISBLANK(R73),\"\",IF(OR($J$6=\"HD 2b/3\",COUNT(R73:W73)<>6,$AA$95<>\"Yes\",$AA$97<>\"Yes\"),NA(),IF(ASTM(W73,0)=0,0,ASTM((51740000*$T$94*$T$95)/((($T$94*U73)+(0.429*V73)+(0.273*W73))*((0.6*$T$95*$T$96)+5471)),1))))","v":""},{"$f":"IF(ISBLANK(R73),\"\",IF(OR(AND($J$6<>\"HD 2b/3\",COUNT(R73:W73)<>6),AND($J$6=\"HD 2b/3\",COUNT(R73)+COUNT(W73)<>2),$AA$95<>\"Yes\",$AA$97<>\"Yes\"),NA(),IF(ASTM(W73,0)=0,0,IF($J$6=\"HD 2b/3\",W73,ASTM((($T$94/0.273)*U73)+(1.571*V73)+W73,0)))))","v":""},null,15,null,null,null,null,null,null,null,null,{"$f":"IF(ISBLANK(AD73),\"\",IF(OR($J$6=\"HD 2b/3\",COUNT(AD73:AI73)<>6,$AM$47<>\"Yes\",$AM$49<>\"Yes\"),NA(),IF(ASTM(AI73,0)=0,0,ASTM((51740000*$AF$46*$AF$47)/((($AF$46*AG73)+(0.429*AH73)+(0.273*AI73))*((0.6*$AF$47*$AF$48)+5471)),1))))","v":""},{"$f":"IF(ISBLANK(AD73),\"\",IF(OR(AND($J$6<>\"HD 2b/3\",COUNT(AD73:AI73)<>6),AND($J$6=\"HD 2b/3\",COUNT(AD73)+COUNT(AI73)<>2),$AM$95<>\"Yes\",$AM$97<>\"Yes\"),NA(),IF(ASTM(AI73,0)=0,0,IF($J$6=\"HD 2b/3\",AI73,ASTM((($AF$94/0.273)*AG73)+(1.571*AH73)+AI73,0)))))","v":""},null,null,null,"Annual Fuel Cost ($/year) [0]",null,null,{"$f":"IF($J$6=\"HD 2b/3\",NA(),ASTM(IFERROR(15000*_xlfn.SINGLE(ASTM(0.55*AY94+0.45*AZ94,3)),0)/50,0) * 50)","v":{"$error":"#N/A"}},null,null,"NEW","CD CO2 emissions rate (Rcda), adjusted (g/mi) [1]",{"$f":"IF($J$6=\"HD 2b/3\",NA(),IFERROR(ASTM( IFERROR((SUMIF(BD59:BD93,\"<=\" & AY82-1,BF59:BF93)+AY81*SUMIF(BD59:BD93,\"=\" & AY82-1,BF59:BF93))/AY55,#VALUE!), 1),0))","v":{"$error":"#N/A"}},{"$f":"IF($J$6=\"HD 2b/3\",NA(),IFERROR(ASTM( IFERROR((SUMIF(CA59:CA93,\"<=\" & AZ82-1,CC59:CC93)+AZ81*SUMIF(CA59:CA93,\"=\" & AZ82-1,CC59:CC93))/AZ55,#VALUE!), 1),0))","v":{"$error":"#N/A"}},null,null,null,15,{"$f":"IF(ISBLANK(R73),\"\",IF(COUNT(R73:AA73)<>10,NA(),IF(ASTM(W73,0)=0,0,IFERROR(ASTM(R73,3)/ASTM(Z73,1),0))))","v":""},{"$f":"IF(ISBLANK(R73),\"\",IF(COUNT(R73:AA73)<>10,NA(),IF(W73=0,0,ASTM(ASTM(W73,0)*ASTM(R73,3),0))))","v":""},{"$f":"IF(ISBLANK(R73),\"\",IF(COUNT(R73:AA73)<>10,NA(),ASTM(S73,3)-ASTM(S72,3)))","v":""},{"$f":"IF(ISBLANK(R73),\"\",IF(COUNT(R73:AA73)<>10,NA(),ASTM(BG73*ASTM(T73,2),1)))","v":""},{"$f":"IF(ISBLANK(R73),\"\",IF(COUNT(R73:AA73)<>10,NA(),ASTM(ASTM($Y$94,4)*1000*(BH73/$AY$61),1)))","v":""},"",{"$f":"IF(ISBLANK(R73),\"\",IF(COUNT(R73:AA73)<>10,NA(),BI73/(33705*ASTM(R73,3))))","v":""},"",{"$f":"IF(ISBLANK(R73),\"\",IFERROR(ASTM(cityfuf(BJ73)-cityfuf(BJ72),3),\"\"))","v":""},{"$f":"IF(ISBLANK(R73),\"\",IF(OR(ISNUMBER(R73)=FALSE,ISNUMBER(AA73)=FALSE),NA(),IF(ASTM(W73,0)=0,0,BM73*ASTM(AA73,0))))","v":""},"",{"$f":"IF(ISBLANK(R73),\"\",IF(COUNT(R73:AA73)<>10,NA(),BL73*ASTM(R73,3)))","v":""},"",{"$f":"IF(ISBLANK(R73),\"\",IF(COUNT(R73:AA73)<>10,NA(),BQ73*ASTM(R73,3)))","v":""},"",{"$f":"IF(ISBLANK(R73),\"\",IF(COUNT(R73:AA73)<>10,NA(),ASTM(mdiuf(BS73),3)-ASTM(mdiuf(BS72),3)))","v":""},{"$f":"IF(ISBLANK(R73),\"\",IF(COUNT(R73:AA73)<>10,NA(),IF(ASTM(W73,0)=0,0,BT73*ASTM(W73,0)/(BQ73))))","v":""},"",{"$f":"IF(ISBLANK(R73),\"\",IF(COUNT(R73:AA73)<>10,NA(),ASTM(cityfufalt(BS73)-cityfufalt(BS72),3)))","v":""},"",{"$f":"IF(ISBLANK(R73),\"\",IF(COUNT(R73:AA73)<>10,NA(),IF(ASTM(W73,0)=0,0,BW73*ASTM(AA73,0)/(BQ73))))","v":""},null,15,{"$f":"IF(ISBLANK(AD73),\"\",IF(COUNT(AD73:AM73)<>10,NA(),IF(ASTM(AI73,0)=0,0,ASTM(AD73,3)/ASTM(AL73,1))))","v":""},{"$f":"IF(ISBLANK(AD73),\"\",IF(COUNT(AD73:AM73)<>10,NA(),IF(ASTM(AI73,0)=0,0,ASTM(ASTM(AI73,0)*ASTM(AD73,3),0))))","v":""},{"$f":"IF(ISBLANK(AD73),\"\",IF(COUNT(AD73:AM73)<>10,NA(),ASTM(AE73,3)-ASTM(AE72,3)))","v":""},{"$f":"IF(ISBLANK(AD73),\"\",IF(COUNT(AD73:AM73)<>10,NA(),ASTM(CD73*ASTM(AF73,2),1)))","v":""},{"$f":"IF(ISBLANK(AD73),\"\",IF(COUNT(AD73:AM73)<>10,NA(),ASTM(ASTM($AK$94,4)*1000*(CE73/$AZ$61),1)))","v":""},"",{"$f":"IF(ISBLANK(AD73),\"\",IF(COUNT(AD73:AM73)<>10,NA(),CF73/(33705*ASTM(AD73,3))))","v":""},"",{"$f":"IF(ISBLANK(AD73),\"\",ASTM(highwayfuf(CG73)-highwayfuf(CG72),3))","v":""},{"$f":"IF(ISBLANK(AD73),\"\",IF(OR(ISNUMBER(AD73)=FALSE,ISNUMBER(AM73)=FALSE),NA(),IF(ASTM(AI73,0)=0,0,CJ73*ASTM(AM73,0))))","v":""},"",{"$f":"IF(ISBLANK(AD73),\"\",IF(COUNT(AD73:AM73)<>10,NA(),CI73*ASTM(AD73,3)))","v":""},"",{"$f":"IF(ISBLANK(AD73),\"\",IF(COUNT(AD73:AM73)<>10,NA(),CN73*ASTM(AD73,3)))","v":""},"",{"$f":"IF(ISBLANK(AD73),\"\",IF(COUNT(AD73:AM73)<>10,NA(),ASTM(mdiuf(CP73)-mdiuf(CP72),3)))","v":""},{"$f":"IF(ISBLANK(AD73),\"\",IF(COUNT(AD73:AM73)<>10,NA(),IF(ASTM(AI73,0)=0,0,CQ73*ASTM(AI73,0)/(CN73))))","v":""},"",{"$f":"IF(ISBLANK(AD73),\"\",IF(COUNT(AD73:AM73)<>10,NA(),ASTM(highwayfufalt(CP73)-highwayfufalt(CP72),3)))","v":""},"",{"$f":"IF(ISBLANK(AD73),\"\",IF(COUNT(AD73:AM73)<>10,NA(),IF(ASTM(AI73,0)=0,0,CT73*ASTM(AM73,0)/(CN73))))","v":""}]
[null,null,"*Hwy CO2 Unrounded Unadjusted ",null,null,{"$f":"IF($J$6=\"HD 2b/3\",NA(),ASTM(IF($N$7+$N$55+$N$103=0,   (O14+O62+O110)/ ((O14<>0)+(O62<>0)+(O110<>0)),    (IFERROR($N$7*O14,0)+IFERROR($N$55*O62,0)+IFERROR($N$103*O110,0)) /  ($N$7+$N$55+$N$103)   ),1))","v":{"$error":"#N/A"}},null,null,null,null,null,null,null,"Test Procedure","Test Number",null,16,null,null,null,null,null,null,null,null,{"$f":"IF(ISBLANK(R74),\"\",IF(OR($J$6=\"HD 2b/3\",COUNT(R74:W74)<>6,$AA$95<>\"Yes\",$AA$97<>\"Yes\"),NA(),IF(ASTM(W74,0)=0,0,ASTM((51740000*$T$94*$T$95)/((($T$94*U74)+(0.429*V74)+(0.273*W74))*((0.6*$T$95*$T$96)+5471)),1))))","v":""},{"$f":"IF(ISBLANK(R74),\"\",IF(OR(AND($J$6<>\"HD 2b/3\",COUNT(R74:W74)<>6),AND($J$6=\"HD 2b/3\",COUNT(R74)+COUNT(W74)<>2),$AA$95<>\"Yes\",$AA$97<>\"Yes\"),NA(),IF(ASTM(W74,0)=0,0,IF($J$6=\"HD 2b/3\",W74,ASTM((($T$94/0.273)*U74)+(1.571*V74)+W74,0)))))","v":""},null,16,null,null,null,null,null,null,null,null,{"$f":"IF(ISBLANK(AD74),\"\",IF(OR($J$6=\"HD 2b/3\",COUNT(AD74:AI74)<>6,$AM$47<>\"Yes\",$AM$49<>\"Yes\"),NA(),IF(ASTM(AI74,0)=0,0,ASTM((51740000*$AF$46*$AF$47)/((($AF$46*AG74)+(0.429*AH74)+(0.273*AI74))*((0.6*$AF$47*$AF$48)+5471)),1))))","v":""},{"$f":"IF(ISBLANK(AD74),\"\",IF(OR(AND($J$6<>\"HD 2b/3\",COUNT(AD74:AI74)<>6),AND($J$6=\"HD 2b/3\",COUNT(AD74)+COUNT(AI74)<>2),$AM$95<>\"Yes\",$AM$97<>\"Yes\"),NA(),IF(ASTM(AI74,0)=0,0,IF($J$6=\"HD 2b/3\",AI74,ASTM((($AF$94/0.273)*AG74)+(1.571*AH74)+AI74,0)))))","v":""},null,null,null,"5-Year Fuel Savings Value ($/5 years) [0]",null,null,{"$f":"$F$38-5*AT73","v":{"$error":"#N/A"}},null,null,"NEW","CD utilitized CO2 (MDIUF, Rcdc), adjusted (g/mi) [1]",{"$f":"IF($J$6=\"HD 2b/3\",NA(),ASTM(SUMIF(BD59:BD93,\"<=\" & (AY82),BU59:BU93),1))","v":{"$error":"#N/A"}},{"$f":"IF($J$6=\"HD 2b/3\",NA(),ASTM(SUMIF(CA59:CA93,\"<=\" & (AZ82),CR59:CR93),1))","v":{"$error":"#N/A"}},null,null,null,16,{"$f":"IF(ISBLANK(R74),\"\",IF(COUNT(R74:AA74)<>10,NA(),IF(ASTM(W74,0)=0,0,IFERROR(ASTM(R74,3)/ASTM(Z74,1),0))))","v":""},{"$f":"IF(ISBLANK(R74),\"\",IF(COUNT(R74:AA74)<>10,NA(),IF(W74=0,0,ASTM(ASTM(W74,0)*ASTM(R74,3),0))))","v":""},{"$f":"IF(ISBLANK(R74),\"\",IF(COUNT(R74:AA74)<>10,NA(),ASTM(S74,3)-ASTM(S73,3)))","v":""},{"$f":"IF(ISBLANK(R74),\"\",IF(COUNT(R74:AA74)<>10,NA(),ASTM(BG74*ASTM(T74,2),1)))","v":""},{"$f":"IF(ISBLANK(R74),\"\",IF(COUNT(R74:AA74)<>10,NA(),ASTM(ASTM($Y$94,4)*1000*(BH74/$AY$61),1)))","v":""},"",{"$f":"IF(ISBLANK(R74),\"\",IF(COUNT(R74:AA74)<>10,NA(),BI74/(33705*ASTM(R74,3))))","v":""},"",{"$f":"IF(ISBLANK(R74),\"\",IFERROR(ASTM(cityfuf(BJ74)-cityfuf(BJ73),3),\"\"))","v":""},{"$f":"IF(ISBLANK(R74),\"\",IF(OR(ISNUMBER(R74)=FALSE,ISNUMBER(AA74)=FALSE),NA(),IF(ASTM(W74,0)=0,0,BM74*ASTM(AA74,0))))","v":""},"",{"$f":"IF(ISBLANK(R74),\"\",IF(COUNT(R74:AA74)<>10,NA(),BL74*ASTM(R74,3)))","v":""},"",{"$f":"IF(ISBLANK(R74),\"\",IF(COUNT(R74:AA74)<>10,NA(),BQ74*ASTM(R74,3)))","v":""},"",{"$f":"IF(ISBLANK(R74),\"\",IF(COUNT(R74:AA74)<>10,NA(),ASTM(mdiuf(BS74),3)-ASTM(mdiuf(BS73),3)))","v":""},{"$f":"IF(ISBLANK(R74),\"\",IF(COUNT(R74:AA74)<>10,NA(),IF(ASTM(W74,0)=0,0,BT74*ASTM(W74,0)/(BQ74))))","v":""},"",{"$f":"IF(ISBLANK(R74),\"\",IF(COUNT(R74:AA74)<>10,NA(),ASTM(cityfufalt(BS74)-cityfufalt(BS73),3)))","v":""},"",{"$f":"IF(ISBLANK(R74),\"\",IF(COUNT(R74:AA74)<>10,NA(),IF(ASTM(W74,0)=0,0,BW74*ASTM(AA74,0)/(BQ74))))","v":""},null,16,{"$f":"IF(ISBLANK(AD74),\"\",IF(COUNT(AD74:AM74)<>10,NA(),IF(ASTM(AI74,0)=0,0,ASTM(AD74,3)/ASTM(AL74,1))))","v":""},{"$f":"IF(ISBLANK(AD74),\"\",IF(COUNT(AD74:AM74)<>10,NA(),IF(ASTM(AI74,0)=0,0,ASTM(ASTM(AI74,0)*ASTM(AD74,3),0))))","v":""},{"$f":"IF(ISBLANK(AD74),\"\",IF(COUNT(AD74:AM74)<>10,NA(),ASTM(AE74,3)-ASTM(AE73,3)))","v":""},{"$f":"IF(ISBLANK(AD74),\"\",IF(COUNT(AD74:AM74)<>10,NA(),ASTM(CD74*ASTM(AF74,2),1)))","v":""},{"$f":"IF(ISBLANK(AD74),\"\",IF(COUNT(AD74:AM74)<>10,NA(),ASTM(ASTM($AK$94,4)*1000*(CE74/$AZ$61),1)))","v":""},"",{"$f":"IF(ISBLANK(AD74),\"\",IF(COUNT(AD74:AM74)<>10,NA(),CF74/(33705*ASTM(AD74,3))))","v":""},"",{"$f":"IF(ISBLANK(AD74),\"\",ASTM(highwayfuf(CG74)-highwayfuf(CG73),3))","v":""},{"$f":"IF(ISBLANK(AD74),\"\",IF(OR(ISNUMBER(AD74)=FALSE,ISNUMBER(AM74)=FALSE),NA(),IF(ASTM(AI74,0)=0,0,CJ74*ASTM(AM74,0))))","v":""},"",{"$f":"IF(ISBLANK(AD74),\"\",IF(COUNT(AD74:AM74)<>10,NA(),CI74*ASTM(AD74,3)))","v":""},"",{"$f":"IF(ISBLANK(AD74),\"\",IF(COUNT(AD74:AM74)<>10,NA(),CN74*ASTM(AD74,3)))","v":""},"",{"$f":"IF(ISBLANK(AD74),\"\",IF(COUNT(AD74:AM74)<>10,NA(),ASTM(mdiuf(CP74)-mdiuf(CP73),3)))","v":""},{"$f":"IF(ISBLANK(AD74),\"\",IF(COUNT(AD74:AM74)<>10,NA(),IF(ASTM(AI74,0)=0,0,CQ74*ASTM(AI74,0)/(CN74))))","v":""},"",{"$f":"IF(ISBLANK(AD74),\"\",IF(COUNT(AD74:AM74)<>10,NA(),ASTM(highwayfufalt(CP74)-highwayfufalt(CP73),3)))","v":""},"",{"$f":"IF(ISBLANK(AD74),\"\",IF(COUNT(AD74:AM74)<>10,NA(),IF(ASTM(AI74,0)=0,0,CT74*ASTM(AM74,0)/(CN74))))","v":""}]
[null,null,"*Combined CO2 Unrounded Unadjusted ",null,null,{"$f":"IF($J$6=\"HD 2b/3\",NA(),ASTM(0.55*(IF($N$7+$N$55+$N$103=0,   (N14+N62+N110)/ ((N14<>0)+(N62<>0)+(N110<>0)),    (IFERROR($N$7*N14,0)+IFERROR($N$55*N62,0)+IFERROR($N$103*N110,0)) /  ($N$7+$N$55+$N$103)   ))+0.45*(IF($N$7+$N$55+$N$103=0,   (O14+O62+O110)/ ((O14<>0)+(O62<>0)+(O110<>0)),    (IFERROR($N$7*O14,0)+IFERROR($N$55*O62,0)+IFERROR($N$103*O110,0)) /  ($N$7+$N$55+$N$103)   )),1))","v":{"$error":"#N/A"}},null,null,null,null,null,null,{"$f":"IF($J$6=\"HD 2b/3\",NA(),\"Charge-Sustaining Test (Optional):\")","v":{"$error":"#N/A"}},null,null,null,17,null,null,null,null,null,null,null,null,{"$f":"IF(ISBLANK(R75),\"\",IF(OR($J$6=\"HD 2b/3\",COUNT(R75:W75)<>6,$AA$95<>\"Yes\",$AA$97<>\"Yes\"),NA(),IF(ASTM(W75,0)=0,0,ASTM((51740000*$T$94*$T$95)/((($T$94*U75)+(0.429*V75)+(0.273*W75))*((0.6*$T$95*$T$96)+5471)),1))))","v":""},{"$f":"IF(ISBLANK(R75),\"\",IF(OR(AND($J$6<>\"HD 2b/3\",COUNT(R75:W75)<>6),AND($J$6=\"HD 2b/3\",COUNT(R75)+COUNT(W75)<>2),$AA$95<>\"Yes\",$AA$97<>\"Yes\"),NA(),IF(ASTM(W75,0)=0,0,IF($J$6=\"HD 2b/3\",W75,ASTM((($T$94/0.273)*U75)+(1.571*V75)+W75,0)))))","v":""},null,17,null,null,null,null,null,null,null,null,{"$f":"IF(ISBLANK(AD75),\"\",IF(OR($J$6=\"HD 2b/3\",COUNT(AD75:AI75)<>6,$AM$47<>\"Yes\",$AM$49<>\"Yes\"),NA(),IF(ASTM(AI75,0)=0,0,ASTM((51740000*$AF$46*$AF$47)/((($AF$46*AG75)+(0.429*AH75)+(0.273*AI75))*((0.6*$AF$47*$AF$48)+5471)),1))))","v":""},{"$f":"IF(ISBLANK(AD75),\"\",IF(OR(AND($J$6<>\"HD 2b/3\",COUNT(AD75:AI75)<>6),AND($J$6=\"HD 2b/3\",COUNT(AD75)+COUNT(AI75)<>2),$AM$95<>\"Yes\",$AM$97<>\"Yes\"),NA(),IF(ASTM(AI75,0)=0,0,IF($J$6=\"HD 2b/3\",AI75,ASTM((($AF$94/0.273)*AG75)+(1.571*AH75)+AI75,0)))))","v":""},null,null,null,"Composite CO2 (g/mi) [0]",null,null,{"$f":"IF($J$6=\"HD 2b/3\",NA(),ASTM(0.55*AY96+0.45*AZ96,0))","v":{"$error":"#N/A"}},null,null,null,"CD utilitized CREE (55/45 FUF, Rcdc), unadjusted (g/mi) [1]",{"$f":"ASTM(SUMIF(BD59:BD93,\"<=\" & AY82,BN59:BN93),1)","v":1},{"$f":"ASTM(SUMIF(CA59:CA93,\"<=\" & AZ82,CK59:CK93),1)","v":5.6},null,null,null,17,{"$f":"IF(ISBLANK(R75),\"\",IF(COUNT(R75:AA75)<>10,NA(),IF(ASTM(W75,0)=0,0,IFERROR(ASTM(R75,3)/ASTM(Z75,1),0))))","v":""},{"$f":"IF(ISBLANK(R75),\"\",IF(COUNT(R75:AA75)<>10,NA(),IF(W75=0,0,ASTM(ASTM(W75,0)*ASTM(R75,3),0))))","v":""},{"$f":"IF(ISBLANK(R75),\"\",IF(COUNT(R75:AA75)<>10,NA(),ASTM(S75,3)-ASTM(S74,3)))","v":""},{"$f":"IF(ISBLANK(R75),\"\",IF(COUNT(R75:AA75)<>10,NA(),ASTM(BG75*ASTM(T75,2),1)))","v":""},{"$f":"IF(ISBLANK(R75),\"\",IF(COUNT(R75:AA75)<>10,NA(),ASTM(ASTM($Y$94,4)*1000*(BH75/$AY$61),1)))","v":""},"",{"$f":"IF(ISBLANK(R75),\"\",IF(COUNT(R75:AA75)<>10,NA(),BI75/(33705*ASTM(R75,3))))","v":""},"",{"$f":"IF(ISBLANK(R75),\"\",IFERROR(ASTM(cityfuf(BJ75)-cityfuf(BJ74),3),\"\"))","v":""},{"$f":"IF(ISBLANK(R75),\"\",IF(OR(ISNUMBER(R75)=FALSE,ISNUMBER(AA75)=FALSE),NA(),IF(ASTM(W75,0)=0,0,BM75*ASTM(AA75,0))))","v":""},"",{"$f":"IF(ISBLANK(R75),\"\",IF(COUNT(R75:AA75)<>10,NA(),BL75*ASTM(R75,3)))","v":""},"",{"$f":"IF(ISBLANK(R75),\"\",IF(COUNT(R75:AA75)<>10,NA(),BQ75*ASTM(R75,3)))","v":""},"",{"$f":"IF(ISBLANK(R75),\"\",IF(COUNT(R75:AA75)<>10,NA(),ASTM(mdiuf(BS75),3)-ASTM(mdiuf(BS74),3)))","v":""},{"$f":"IF(ISBLANK(R75),\"\",IF(COUNT(R75:AA75)<>10,NA(),IF(ASTM(W75,0)=0,0,BT75*ASTM(W75,0)/(BQ75))))","v":""},"",{"$f":"IF(ISBLANK(R75),\"\",IF(COUNT(R75:AA75)<>10,NA(),ASTM(cityfufalt(BS75)-cityfufalt(BS74),3)))","v":""},"",{"$f":"IF(ISBLANK(R75),\"\",IF(COUNT(R75:AA75)<>10,NA(),IF(ASTM(W75,0)=0,0,BW75*ASTM(AA75,0)/(BQ75))))","v":""},null,17,{"$f":"IF(ISBLANK(AD75),\"\",IF(COUNT(AD75:AM75)<>10,NA(),IF(ASTM(AI75,0)=0,0,ASTM(AD75,3)/ASTM(AL75,1))))","v":""},{"$f":"IF(ISBLANK(AD75),\"\",IF(COUNT(AD75:AM75)<>10,NA(),IF(ASTM(AI75,0)=0,0,ASTM(ASTM(AI75,0)*ASTM(AD75,3),0))))","v":""},{"$f":"IF(ISBLANK(AD75),\"\",IF(COUNT(AD75:AM75)<>10,NA(),ASTM(AE75,3)-ASTM(AE74,3)))","v":""},{"$f":"IF(ISBLANK(AD75),\"\",IF(COUNT(AD75:AM75)<>10,NA(),ASTM(CD75*ASTM(AF75,2),1)))","v":""},{"$f":"IF(ISBLANK(AD75),\"\",IF(COUNT(AD75:AM75)<>10,NA(),ASTM(ASTM($AK$94,4)*1000*(CE75/$AZ$61),1)))","v":""},"",{"$f":"IF(ISBLANK(AD75),\"\",IF(COUNT(AD75:AM75)<>10,NA(),CF75/(33705*ASTM(AD75,3))))","v":""},"",{"$f":"IF(ISBLANK(AD75),\"\",ASTM(highwayfuf(CG75)-highwayfuf(CG74),3))","v":""},{"$f":"IF(ISBLANK(AD75),\"\",IF(OR(ISNUMBER(AD75)=FALSE,ISNUMBER(AM75)=FALSE),NA(),IF(ASTM(AI75,0)=0,0,CJ75*ASTM(AM75,0))))","v":""},"",{"$f":"IF(ISBLANK(AD75),\"\",IF(COUNT(AD75:AM75)<>10,NA(),CI75*ASTM(AD75,3)))","v":""},"",{"$f":"IF(ISBLANK(AD75),\"\",IF(COUNT(AD75:AM75)<>10,NA(),CN75*ASTM(AD75,3)))","v":""},"",{"$f":"IF(ISBLANK(AD75),\"\",IF(COUNT(AD75:AM75)<>10,NA(),ASTM(mdiuf(CP75)-mdiuf(CP74),3)))","v":""},{"$f":"IF(ISBLANK(AD75),\"\",IF(COUNT(AD75:AM75)<>10,NA(),IF(ASTM(AI75,0)=0,0,CQ75*ASTM(AI75,0)/(CN75))))","v":""},"",{"$f":"IF(ISBLANK(AD75),\"\",IF(COUNT(AD75:AM75)<>10,NA(),ASTM(highwayfufalt(CP75)-highwayfufalt(CP74),3)))","v":""},"",{"$f":"IF(ISBLANK(AD75),\"\",IF(COUNT(AD75:AM75)<>10,NA(),IF(ASTM(AI75,0)=0,0,CT75*ASTM(AM75,0)/(CN75))))","v":""}]
[null,null,"*City CO2 Unrounded Adjusted ",null,null,{"$f":"IF($J$6=\"HD 2b/3\",NA(),ASTM(IF($N$7+$N$55+$N$103=0,   (N15+N63+N111)/ ((N15<>0)+(N63<>0)+(N111<>0)),    (IFERROR($N$7*N15,0)+IFERROR($N$55*N63,0)+IFERROR($N$103*N111,0)) /  ($N$7+$N$55+$N$103)   ),1))","v":{"$error":"#N/A"}},null,null,null,null,null,null,{"$f":"IF($J$6=\"HD 2b/3\",NA(),\"Charge-Sustaining Test (Optional):\")","v":{"$error":"#N/A"}},null,null,null,18,null,null,null,null,null,null,null,null,{"$f":"IF(ISBLANK(R76),\"\",IF(OR($J$6=\"HD 2b/3\",COUNT(R76:W76)<>6,$AA$95<>\"Yes\",$AA$97<>\"Yes\"),NA(),IF(ASTM(W76,0)=0,0,ASTM((51740000*$T$94*$T$95)/((($T$94*U76)+(0.429*V76)+(0.273*W76))*((0.6*$T$95*$T$96)+5471)),1))))","v":""},{"$f":"IF(ISBLANK(R76),\"\",IF(OR(AND($J$6<>\"HD 2b/3\",COUNT(R76:W76)<>6),AND($J$6=\"HD 2b/3\",COUNT(R76)+COUNT(W76)<>2),$AA$95<>\"Yes\",$AA$97<>\"Yes\"),NA(),IF(ASTM(W76,0)=0,0,IF($J$6=\"HD 2b/3\",W76,ASTM((($T$94/0.273)*U76)+(1.571*V76)+W76,0)))))","v":""},null,18,null,null,null,null,null,null,null,null,{"$f":"IF(ISBLANK(AD76),\"\",IF(OR($J$6=\"HD 2b/3\",COUNT(AD76:AI76)<>6,$AM$47<>\"Yes\",$AM$49<>\"Yes\"),NA(),IF(ASTM(AI76,0)=0,0,ASTM((51740000*$AF$46*$AF$47)/((($AF$46*AG76)+(0.429*AH76)+(0.273*AI76))*((0.6*$AF$47*$AF$48)+5471)),1))))","v":""},{"$f":"IF(ISBLANK(AD76),\"\",IF(OR(AND($J$6<>\"HD 2b/3\",COUNT(AD76:AI76)<>6),AND($J$6=\"HD 2b/3\",COUNT(AD76)+COUNT(AI76)<>2),$AM$95<>\"Yes\",$AM$97<>\"Yes\"),NA(),IF(ASTM(AI76,0)=0,0,IF($J$6=\"HD 2b/3\",AI76,ASTM((($AF$94/0.273)*AG76)+(1.571*AH76)+AI76,0)))))","v":""},null,null,null,"Composite Fuel Economy (MPG) [0]",null,null,{"$f":"IF($J$6=\"HD 2b/3\",NA(),IFERROR(ASTM(1/(0.55/AY97+0.45/AZ97),0),0))","v":{"$error":"#N/A"}},null,null,"NEW","CD utilitized CREE (43/57 FUF, Rcdc), adjusted (g/mi) [1]",{"$f":"IF($J$6=\"HD 2b/3\",NA(),ASTM(SUMIF(BD59:BD93,\"<=\" & (AY82),BY59:BY93),1))","v":{"$error":"#N/A"}},{"$f":"IF($J$6=\"HD 2b/3\",NA(),ASTM(SUMIF(CA59:CA93,\"<=\" & (AZ82),CV59:CV93),1))","v":{"$error":"#N/A"}},null,null,null,18,{"$f":"IF(ISBLANK(R76),\"\",IF(COUNT(R76:AA76)<>10,NA(),IF(ASTM(W76,0)=0,0,IFERROR(ASTM(R76,3)/ASTM(Z76,1),0))))","v":""},{"$f":"IF(ISBLANK(R76),\"\",IF(COUNT(R76:AA76)<>10,NA(),IF(W76=0,0,ASTM(ASTM(W76,0)*ASTM(R76,3),0))))","v":""},{"$f":"IF(ISBLANK(R76),\"\",IF(COUNT(R76:AA76)<>10,NA(),ASTM(S76,3)-ASTM(S75,3)))","v":""},{"$f":"IF(ISBLANK(R76),\"\",IF(COUNT(R76:AA76)<>10,NA(),ASTM(BG76*ASTM(T76,2),1)))","v":""},{"$f":"IF(ISBLANK(R76),\"\",IF(COUNT(R76:AA76)<>10,NA(),ASTM(ASTM($Y$94,4)*1000*(BH76/$AY$61),1)))","v":""},"",{"$f":"IF(ISBLANK(R76),\"\",IF(COUNT(R76:AA76)<>10,NA(),BI76/(33705*ASTM(R76,3))))","v":""},"",{"$f":"IF(ISBLANK(R76),\"\",IFERROR(ASTM(cityfuf(BJ76)-cityfuf(BJ75),3),\"\"))","v":""},{"$f":"IF(ISBLANK(R76),\"\",IF(OR(ISNUMBER(R76)=FALSE,ISNUMBER(AA76)=FALSE),NA(),IF(ASTM(W76,0)=0,0,BM76*ASTM(AA76,0))))","v":""},"",{"$f":"IF(ISBLANK(R76),\"\",IF(COUNT(R76:AA76)<>10,NA(),BL76*ASTM(R76,3)))","v":""},"",{"$f":"IF(ISBLANK(R76),\"\",IF(COUNT(R76:AA76)<>10,NA(),BQ76*ASTM(R76,3)))","v":""},"",{"$f":"IF(ISBLANK(R76),\"\",IF(COUNT(R76:AA76)<>10,NA(),ASTM(mdiuf(BS76),3)-ASTM(mdiuf(BS75),3)))","v":""},{"$f":"IF(ISBLANK(R76),\"\",IF(COUNT(R76:AA76)<>10,NA(),IF(ASTM(W76,0)=0,0,BT76*ASTM(W76,0)/(BQ76))))","v":""},"",{"$f":"IF(ISBLANK(R76),\"\",IF(COUNT(R76:AA76)<>10,NA(),ASTM(cityfufalt(BS76)-cityfufalt(BS75),3)))","v":""},"",{"$f":"IF(ISBLANK(R76),\"\",IF(COUNT(R76:AA76)<>10,NA(),IF(ASTM(W76,0)=0,0,BW76*ASTM(AA76,0)/(BQ76))))","v":""},null,18,{"$f":"IF(ISBLANK(AD76),\"\",IF(COUNT(AD76:AM76)<>10,NA(),IF(ASTM(AI76,0)=0,0,ASTM(AD76,3)/ASTM(AL76,1))))","v":""},{"$f":"IF(ISBLANK(AD76),\"\",IF(COUNT(AD76:AM76)<>10,NA(),IF(ASTM(AI76,0)=0,0,ASTM(ASTM(AI76,0)*ASTM(AD76,3),0))))","v":""},{"$f":"IF(ISBLANK(AD76),\"\",IF(COUNT(AD76:AM76)<>10,NA(),ASTM(AE76,3)-ASTM(AE75,3)))","v":""},{"$f":"IF(ISBLANK(AD76),\"\",IF(COUNT(AD76:AM76)<>10,NA(),ASTM(CD76*ASTM(AF76,2),1)))","v":""},{"$f":"IF(ISBLANK(AD76),\"\",IF(COUNT(AD76:AM76)<>10,NA(),ASTM(ASTM($AK$94,4)*1000*(CE76/$AZ$61),1)))","v":""},"",{"$f":"IF(ISBLANK(AD76),\"\",IF(COUNT(AD76:AM76)<>10,NA(),CF76/(33705*ASTM(AD76,3))))","v":""},"",{"$f":"IF(ISBLANK(AD76),\"\",ASTM(highwayfuf(CG76)-highwayfuf(CG75),3))","v":""},{"$f":"IF(ISBLANK(AD76),\"\",IF(OR(ISNUMBER(AD76)=FALSE,ISNUMBER(AM76)=FALSE),NA(),IF(ASTM(AI76,0)=0,0,CJ76*ASTM(AM76,0))))","v":""},"",{"$f":"IF(ISBLANK(AD76),\"\",IF(COUNT(AD76:AM76)<>10,NA(),CI76*ASTM(AD76,3)))","v":""},"",{"$f":"IF(ISBLANK(AD76),\"\",IF(COUNT(AD76:AM76)<>10,NA(),CN76*ASTM(AD76,3)))","v":""},"",{"$f":"IF(ISBLANK(AD76),\"\",IF(COUNT(AD76:AM76)<>10,NA(),ASTM(mdiuf(CP76)-mdiuf(CP75),3)))","v":""},{"$f":"IF(ISBLANK(AD76),\"\",IF(COUNT(AD76:AM76)<>10,NA(),IF(ASTM(AI76,0)=0,0,CQ76*ASTM(AI76,0)/(CN76))))","v":""},"",{"$f":"IF(ISBLANK(AD76),\"\",IF(COUNT(AD76:AM76)<>10,NA(),ASTM(highwayfufalt(CP76)-highwayfufalt(CP75),3)))","v":""},"",{"$f":"IF(ISBLANK(AD76),\"\",IF(COUNT(AD76:AM76)<>10,NA(),IF(ASTM(AI76,0)=0,0,CT76*ASTM(AM76,0)/(CN76))))","v":""}]
[null,null,"*Hwy CO2 Unrounded Adjusted ",null,null,{"$f":"IF($J$6=\"HD 2b/3\",NA(),ASTM(IF($N$7+$N$55+$N$103=0,   (O15+O63+O111)/ ((O15<>0)+(O63<>0)+(O111<>0)),    (IFERROR($N$7*O15,0)+IFERROR($N$55*O63,0)+IFERROR($N$103*O111,0)) /  ($N$7+$N$55+$N$103)   ),1))","v":{"$error":"#N/A"}},null,null,null,null,null,null,{"$error":"#N/A"},null,null,null,19,null,null,null,null,null,null,null,null,{"$f":"IF(ISBLANK(R77),\"\",IF(OR($J$6=\"HD 2b/3\",COUNT(R77:W77)<>6,$AA$95<>\"Yes\",$AA$97<>\"Yes\"),NA(),IF(ASTM(W77,0)=0,0,ASTM((51740000*$T$94*$T$95)/((($T$94*U77)+(0.429*V77)+(0.273*W77))*((0.6*$T$95*$T$96)+5471)),1))))","v":""},{"$f":"IF(ISBLANK(R77),\"\",IF(OR(AND($J$6<>\"HD 2b/3\",COUNT(R77:W77)<>6),AND($J$6=\"HD 2b/3\",COUNT(R77)+COUNT(W77)<>2),$AA$95<>\"Yes\",$AA$97<>\"Yes\"),NA(),IF(ASTM(W77,0)=0,0,IF($J$6=\"HD 2b/3\",W77,ASTM((($T$94/0.273)*U77)+(1.571*V77)+W77,0)))))","v":""},null,19,null,null,null,null,null,null,null,null,{"$f":"IF(ISBLANK(AD77),\"\",IF(OR($J$6=\"HD 2b/3\",COUNT(AD77:AI77)<>6,$AM$47<>\"Yes\",$AM$49<>\"Yes\"),NA(),IF(ASTM(AI77,0)=0,0,ASTM((51740000*$AF$46*$AF$47)/((($AF$46*AG77)+(0.429*AH77)+(0.273*AI77))*((0.6*$AF$47*$AF$48)+5471)),1))))","v":""},{"$f":"IF(ISBLANK(AD77),\"\",IF(OR(AND($J$6<>\"HD 2b/3\",COUNT(AD77:AI77)<>6),AND($J$6=\"HD 2b/3\",COUNT(AD77)+COUNT(AI77)<>2),$AM$95<>\"Yes\",$AM$97<>\"Yes\"),NA(),IF(ASTM(AI77,0)=0,0,IF($J$6=\"HD 2b/3\",AI77,ASTM((($AF$94/0.273)*AG77)+(1.571*AH77)+AI77,0)))))","v":""},null,null,null,"HOV Lane Values","City","Highway","Combined",null,null,null,"UTILITY FACTORS & OTHER METRICS","CITY","HIGHWAY",null,null,null,19,{"$f":"IF(ISBLANK(R77),\"\",IF(COUNT(R77:AA77)<>10,NA(),IF(ASTM(W77,0)=0,0,IFERROR(ASTM(R77,3)/ASTM(Z77,1),0))))","v":""},{"$f":"IF(ISBLANK(R77),\"\",IF(COUNT(R77:AA77)<>10,NA(),IF(W77=0,0,ASTM(ASTM(W77,0)*ASTM(R77,3),0))))","v":""},{"$f":"IF(ISBLANK(R77),\"\",IF(COUNT(R77:AA77)<>10,NA(),ASTM(S77,3)-ASTM(S76,3)))","v":""},{"$f":"IF(ISBLANK(R77),\"\",IF(COUNT(R77:AA77)<>10,NA(),ASTM(BG77*ASTM(T77,2),1)))","v":""},{"$f":"IF(ISBLANK(R77),\"\",IF(COUNT(R77:AA77)<>10,NA(),ASTM(ASTM($Y$94,4)*1000*(BH77/$AY$61),1)))","v":""},"",{"$f":"IF(ISBLANK(R77),\"\",IF(COUNT(R77:AA77)<>10,NA(),BI77/(33705*ASTM(R77,3))))","v":""},"",{"$f":"IF(ISBLANK(R77),\"\",IFERROR(ASTM(cityfuf(BJ77)-cityfuf(BJ76),3),\"\"))","v":""},{"$f":"IF(ISBLANK(R77),\"\",IF(OR(ISNUMBER(R77)=FALSE,ISNUMBER(AA77)=FALSE),NA(),IF(ASTM(W77,0)=0,0,BM77*ASTM(AA77,0))))","v":""},"",{"$f":"IF(ISBLANK(R77),\"\",IF(COUNT(R77:AA77)<>10,NA(),BL77*ASTM(R77,3)))","v":""},"",{"$f":"IF(ISBLANK(R77),\"\",IF(COUNT(R77:AA77)<>10,NA(),BQ77*ASTM(R77,3)))","v":""},"",{"$f":"IF(ISBLANK(R77),\"\",IF(COUNT(R77:AA77)<>10,NA(),ASTM(mdiuf(BS77),3)-ASTM(mdiuf(BS76),3)))","v":""},{"$f":"IF(ISBLANK(R77),\"\",IF(COUNT(R77:AA77)<>10,NA(),IF(ASTM(W77,0)=0,0,BT77*ASTM(W77,0)/(BQ77))))","v":""},"",{"$f":"IF(ISBLANK(R77),\"\",IF(COUNT(R77:AA77)<>10,NA(),ASTM(cityfufalt(BS77)-cityfufalt(BS76),3)))","v":""},"",{"$f":"IF(ISBLANK(R77),\"\",IF(COUNT(R77:AA77)<>10,NA(),IF(ASTM(W77,0)=0,0,BW77*ASTM(AA77,0)/(BQ77))))","v":""},null,19,{"$f":"IF(ISBLANK(AD77),\"\",IF(COUNT(AD77:AM77)<>10,NA(),IF(ASTM(AI77,0)=0,0,ASTM(AD77,3)/ASTM(AL77,1))))","v":""},{"$f":"IF(ISBLANK(AD77),\"\",IF(COUNT(AD77:AM77)<>10,NA(),IF(ASTM(AI77,0)=0,0,ASTM(ASTM(AI77,0)*ASTM(AD77,3),0))))","v":""},{"$f":"IF(ISBLANK(AD77),\"\",IF(COUNT(AD77:AM77)<>10,NA(),ASTM(AE77,3)-ASTM(AE76,3)))","v":""},{"$f":"IF(ISBLANK(AD77),\"\",IF(COUNT(AD77:AM77)<>10,NA(),ASTM(CD77*ASTM(AF77,2),1)))","v":""},{"$f":"IF(ISBLANK(AD77),\"\",IF(COUNT(AD77:AM77)<>10,NA(),ASTM(ASTM($AK$94,4)*1000*(CE77/$AZ$61),1)))","v":""},"",{"$f":"IF(ISBLANK(AD77),\"\",IF(COUNT(AD77:AM77)<>10,NA(),CF77/(33705*ASTM(AD77,3))))","v":""},"",{"$f":"IF(ISBLANK(AD77),\"\",ASTM(highwayfuf(CG77)-highwayfuf(CG76),3))","v":""},{"$f":"IF(ISBLANK(AD77),\"\",IF(OR(ISNUMBER(AD77)=FALSE,ISNUMBER(AM77)=FALSE),NA(),IF(ASTM(AI77,0)=0,0,CJ77*ASTM(AM77,0))))","v":""},"",{"$f":"IF(ISBLANK(AD77),\"\",IF(COUNT(AD77:AM77)<>10,NA(),CI77*ASTM(AD77,3)))","v":""},"",{"$f":"IF(ISBLANK(AD77),\"\",IF(COUNT(AD77:AM77)<>10,NA(),CN77*ASTM(AD77,3)))","v":""},"",{"$f":"IF(ISBLANK(AD77),\"\",IF(COUNT(AD77:AM77)<>10,NA(),ASTM(mdiuf(CP77)-mdiuf(CP76),3)))","v":""},{"$f":"IF(ISBLANK(AD77),\"\",IF(COUNT(AD77:AM77)<>10,NA(),IF(ASTM(AI77,0)=0,0,CQ77*ASTM(AI77,0)/(CN77))))","v":""},"",{"$f":"IF(ISBLANK(AD77),\"\",IF(COUNT(AD77:AM77)<>10,NA(),ASTM(highwayfufalt(CP77)-highwayfufalt(CP76),3)))","v":""},"",{"$f":"IF(ISBLANK(AD77),\"\",IF(COUNT(AD77:AM77)<>10,NA(),IF(ASTM(AI77,0)=0,0,CT77*ASTM(AM77,0)/(CN77))))","v":""}]
[null,null,"*Combined CO2 Unrounded Adjusted ",null,null,{"$f":"IF($J$6=\"HD 2b/3\",NA(),ASTM(0.55*(IF($N$7+$N$55+$N$103=0,   (N15+N63+N111)/ ((N15<>0)+(N63<>0)+(N111<>0)),    (IFERROR($N$7*N15,0)+IFERROR($N$55*N63,0)+IFERROR($N$103*N111,0)) /  ($N$7+$N$55+$N$103)   ))+0.45*(IF($N$7+$N$55+$N$103=0,   (O15+O63+O111)/ ((O15<>0)+(O63<>0)+(O111<>0)),    (IFERROR($N$7*O15,0)+IFERROR($N$55*O63,0)+IFERROR($N$103*O111,0)) /  ($N$7+$N$55+$N$103)   )),1))","v":{"$error":"#N/A"}},null,null,null,null,null,null,{"$error":"#N/A"},null,null,null,20,null,null,null,null,null,null,null,null,{"$f":"IF(ISBLANK(R78),\"\",IF(OR($J$6=\"HD 2b/3\",COUNT(R78:W78)<>6,$AA$95<>\"Yes\",$AA$97<>\"Yes\"),NA(),IF(ASTM(W78,0)=0,0,ASTM((51740000*$T$94*$T$95)/((($T$94*U78)+(0.429*V78)+(0.273*W78))*((0.6*$T$95*$T$96)+5471)),1))))","v":""},{"$f":"IF(ISBLANK(R78),\"\",IF(OR(AND($J$6<>\"HD 2b/3\",COUNT(R78:W78)<>6),AND($J$6=\"HD 2b/3\",COUNT(R78)+COUNT(W78)<>2),$AA$95<>\"Yes\",$AA$97<>\"Yes\"),NA(),IF(ASTM(W78,0)=0,0,IF($J$6=\"HD 2b/3\",W78,ASTM((($T$94/0.273)*U78)+(1.571*V78)+W78,0)))))","v":""},null,20,null,null,null,null,null,null,null,null,{"$f":"IF(ISBLANK(AD78),\"\",IF(OR($J$6=\"HD 2b/3\",COUNT(AD78:AI78)<>6,$AM$47<>\"Yes\",$AM$49<>\"Yes\"),NA(),IF(ASTM(AI78,0)=0,0,ASTM((51740000*$AF$46*$AF$47)/((($AF$46*AG78)+(0.429*AH78)+(0.273*AI78))*((0.6*$AF$47*$AF$48)+5471)),1))))","v":""},{"$f":"IF(ISBLANK(AD78),\"\",IF(OR(AND($J$6<>\"HD 2b/3\",COUNT(AD78:AI78)<>6),AND($J$6=\"HD 2b/3\",COUNT(AD78)+COUNT(AI78)<>2),$AM$95<>\"Yes\",$AM$97<>\"Yes\"),NA(),IF(ASTM(AI78,0)=0,0,IF($J$6=\"HD 2b/3\",AI78,ASTM((($AF$94/0.273)*AG78)+(1.571*AH78)+AI78,0)))))","v":""},null,null,null,"MDIUF based on unadjusted Rcda [3]",{"$f":"IF($J$6=\"HD 2b/3\",NA(),IFERROR(ASTM(mdiuf(AY54),3),0))","v":{"$error":"#N/A"}},{"$f":"IF($J$6=\"HD 2b/3\",NA(),IFERROR(ASTM(mdiuf(AZ54),3),0))","v":{"$error":"#N/A"}},null,null,null,null,"CD 55/45 Fleet Utility Factor (FUF) for Rcdc [3]",{"$f":"ASTM(SUMIF(BD59:BD93,\"<=\"&AY82,BM59:BM93),3)","v":0.875},{"$f":"ASTM(SUMIF(CA59:CA93,\"<=\"&AZ82,CJ59:CJ93),3)","v":0.51600000000000001},null,null,null,20,{"$f":"IF(ISBLANK(R78),\"\",IF(COUNT(R78:AA78)<>10,NA(),IF(ASTM(W78,0)=0,0,IFERROR(ASTM(R78,3)/ASTM(Z78,1),0))))","v":""},{"$f":"IF(ISBLANK(R78),\"\",IF(COUNT(R78:AA78)<>10,NA(),IF(W78=0,0,ASTM(ASTM(W78,0)*ASTM(R78,3),0))))","v":""},{"$f":"IF(ISBLANK(R78),\"\",IF(COUNT(R78:AA78)<>10,NA(),ASTM(S78,3)-ASTM(S77,3)))","v":""},{"$f":"IF(ISBLANK(R78),\"\",IF(COUNT(R78:AA78)<>10,NA(),ASTM(BG78*ASTM(T78,2),1)))","v":""},{"$f":"IF(ISBLANK(R78),\"\",IF(COUNT(R78:AA78)<>10,NA(),ASTM(ASTM($Y$94,4)*1000*(BH78/$AY$61),1)))","v":""},"",{"$f":"IF(ISBLANK(R78),\"\",IF(COUNT(R78:AA78)<>10,NA(),BI78/(33705*ASTM(R78,3))))","v":""},"",{"$f":"IF(ISBLANK(R78),\"\",IFERROR(ASTM(cityfuf(BJ78)-cityfuf(BJ77),3),\"\"))","v":""},{"$f":"IF(ISBLANK(R78),\"\",IF(OR(ISNUMBER(R78)=FALSE,ISNUMBER(AA78)=FALSE),NA(),IF(ASTM(W78,0)=0,0,BM78*ASTM(AA78,0))))","v":""},"",{"$f":"IF(ISBLANK(R78),\"\",IF(COUNT(R78:AA78)<>10,NA(),BL78*ASTM(R78,3)))","v":""},"",{"$f":"IF(ISBLANK(R78),\"\",IF(COUNT(R78:AA78)<>10,NA(),BQ78*ASTM(R78,3)))","v":""},"",{"$f":"IF(ISBLANK(R78),\"\",IF(COUNT(R78:AA78)<>10,NA(),ASTM(mdiuf(BS78),3)-ASTM(mdiuf(BS77),3)))","v":""},{"$f":"IF(ISBLANK(R78),\"\",IF(COUNT(R78:AA78)<>10,NA(),IF(ASTM(W78,0)=0,0,BT78*ASTM(W78,0)/(BQ78))))","v":""},"",{"$f":"IF(ISBLANK(R78),\"\",IF(COUNT(R78:AA78)<>10,NA(),ASTM(cityfufalt(BS78)-cityfufalt(BS77),3)))","v":""},"",{"$f":"IF(ISBLANK(R78),\"\",IF(COUNT(R78:AA78)<>10,NA(),IF(ASTM(W78,0)=0,0,BW78*ASTM(AA78,0)/(BQ78))))","v":""},null,20,{"$f":"IF(ISBLANK(AD78),\"\",IF(COUNT(AD78:AM78)<>10,NA(),IF(ASTM(AI78,0)=0,0,ASTM(AD78,3)/ASTM(AL78,1))))","v":""},{"$f":"IF(ISBLANK(AD78),\"\",IF(COUNT(AD78:AM78)<>10,NA(),IF(ASTM(AI78,0)=0,0,ASTM(ASTM(AI78,0)*ASTM(AD78,3),0))))","v":""},{"$f":"IF(ISBLANK(AD78),\"\",IF(COUNT(AD78:AM78)<>10,NA(),ASTM(AE78,3)-ASTM(AE77,3)))","v":""},{"$f":"IF(ISBLANK(AD78),\"\",IF(COUNT(AD78:AM78)<>10,NA(),ASTM(CD78*ASTM(AF78,2),1)))","v":""},{"$f":"IF(ISBLANK(AD78),\"\",IF(COUNT(AD78:AM78)<>10,NA(),ASTM(ASTM($AK$94,4)*1000*(CE78/$AZ$61),1)))","v":""},"",{"$f":"IF(ISBLANK(AD78),\"\",IF(COUNT(AD78:AM78)<>10,NA(),CF78/(33705*ASTM(AD78,3))))","v":""},"",{"$f":"IF(ISBLANK(AD78),\"\",ASTM(highwayfuf(CG78)-highwayfuf(CG77),3))","v":""},{"$f":"IF(ISBLANK(AD78),\"\",IF(OR(ISNUMBER(AD78)=FALSE,ISNUMBER(AM78)=FALSE),NA(),IF(ASTM(AI78,0)=0,0,CJ78*ASTM(AM78,0))))","v":""},"",{"$f":"IF(ISBLANK(AD78),\"\",IF(COUNT(AD78:AM78)<>10,NA(),CI78*ASTM(AD78,3)))","v":""},"",{"$f":"IF(ISBLANK(AD78),\"\",IF(COUNT(AD78:AM78)<>10,NA(),CN78*ASTM(AD78,3)))","v":""},"",{"$f":"IF(ISBLANK(AD78),\"\",IF(COUNT(AD78:AM78)<>10,NA(),ASTM(mdiuf(CP78)-mdiuf(CP77),3)))","v":""},{"$f":"IF(ISBLANK(AD78),\"\",IF(COUNT(AD78:AM78)<>10,NA(),IF(ASTM(AI78,0)=0,0,CQ78*ASTM(AI78,0)/(CN78))))","v":""},"",{"$f":"IF(ISBLANK(AD78),\"\",IF(COUNT(AD78:AM78)<>10,NA(),ASTM(highwayfufalt(CP78)-highwayfufalt(CP77),3)))","v":""},"",{"$f":"IF(ISBLANK(AD78),\"\",IF(COUNT(AD78:AM78)<>10,NA(),IF(ASTM(AI78,0)=0,0,CT78*ASTM(AM78,0)/(CN78))))","v":""}]
[null,null,"Charge-sustaining Driving Range (Adjusted)",null,null,null,null,null,null,null,null,null,{"$error":"#N/A"},null,null,null,21,null,null,null,null,null,null,null,null,{"$f":"IF(ISBLANK(R79),\"\",IF(OR($J$6=\"HD 2b/3\",COUNT(R79:W79)<>6,$AA$95<>\"Yes\",$AA$97<>\"Yes\"),NA(),IF(ASTM(W79,0)=0,0,ASTM((51740000*$T$94*$T$95)/((($T$94*U79)+(0.429*V79)+(0.273*W79))*((0.6*$T$95*$T$96)+5471)),1))))","v":""},{"$f":"IF(ISBLANK(R79),\"\",IF(OR(AND($J$6<>\"HD 2b/3\",COUNT(R79:W79)<>6),AND($J$6=\"HD 2b/3\",COUNT(R79)+COUNT(W79)<>2),$AA$95<>\"Yes\",$AA$97<>\"Yes\"),NA(),IF(ASTM(W79,0)=0,0,IF($J$6=\"HD 2b/3\",W79,ASTM((($T$94/0.273)*U79)+(1.571*V79)+W79,0)))))","v":""},null,21,null,null,null,null,null,null,null,null,{"$f":"IF(ISBLANK(AD79),\"\",IF(OR($J$6=\"HD 2b/3\",COUNT(AD79:AI79)<>6,$AM$47<>\"Yes\",$AM$49<>\"Yes\"),NA(),IF(ASTM(AI79,0)=0,0,ASTM((51740000*$AF$46*$AF$47)/((($AF$46*AG79)+(0.429*AH79)+(0.273*AI79))*((0.6*$AF$47*$AF$48)+5471)),1))))","v":""},{"$f":"IF(ISBLANK(AD79),\"\",IF(OR(AND($J$6<>\"HD 2b/3\",COUNT(AD79:AI79)<>6),AND($J$6=\"HD 2b/3\",COUNT(AD79)+COUNT(AI79)<>2),$AM$95<>\"Yes\",$AM$97<>\"Yes\"),NA(),IF(ASTM(AI79,0)=0,0,IF($J$6=\"HD 2b/3\",AI79,ASTM((($AF$94/0.273)*AG79)+(1.571*AH79)+AI79,0)))))","v":""},null,null,null,"Composite CD/CS Fuel Economy (MPGe) [4]",{"$f":"IF($J$6=\"HD 2b/3\",NA(),IFERROR(ASTM(1/(AR78/(AY54/     AY62  )+(1-AR78)/N59),4),0))","v":{"$error":"#N/A"}},{"$f":"IF($J$6=\"HD 2b/3\",NA(),IFERROR(ASTM(1/(AS78/(AZ54/     AZ62  )+(1-AS78)/O59),4),0))","v":{"$error":"#N/A"}},{"$f":"IF($J$6=\"HD 2b/3\",NA(),IFERROR(ASTM(1/(0.55/AR79+0.45/AS79),4),0))","v":{"$error":"#N/A"}},null,null,null,"MDIUF based on adjusted Rcda [3]",{"$f":"IF($J$6=\"HD 2b/3\",NA(),ASTM(mdiuf(AY55),3))","v":{"$error":"#N/A"}},{"$f":"IF($J$6=\"HD 2b/3\",NA(),ASTM(mdiuf(AZ55),3))","v":{"$error":"#N/A"}},null,null,null,21,{"$f":"IF(ISBLANK(R79),\"\",IF(COUNT(R79:AA79)<>10,NA(),IF(ASTM(W79,0)=0,0,IFERROR(ASTM(R79,3)/ASTM(Z79,1),0))))","v":""},{"$f":"IF(ISBLANK(R79),\"\",IF(COUNT(R79:AA79)<>10,NA(),IF(W79=0,0,ASTM(ASTM(W79,0)*ASTM(R79,3),0))))","v":""},{"$f":"IF(ISBLANK(R79),\"\",IF(COUNT(R79:AA79)<>10,NA(),ASTM(S79,3)-ASTM(S78,3)))","v":""},{"$f":"IF(ISBLANK(R79),\"\",IF(COUNT(R79:AA79)<>10,NA(),ASTM(BG79*ASTM(T79,2),1)))","v":""},{"$f":"IF(ISBLANK(R79),\"\",IF(COUNT(R79:AA79)<>10,NA(),ASTM(ASTM($Y$94,4)*1000*(BH79/$AY$61),1)))","v":""},"",{"$f":"IF(ISBLANK(R79),\"\",IF(COUNT(R79:AA79)<>10,NA(),BI79/(33705*ASTM(R79,3))))","v":""},"",{"$f":"IF(ISBLANK(R79),\"\",IFERROR(ASTM(cityfuf(BJ79)-cityfuf(BJ78),3),\"\"))","v":""},{"$f":"IF(ISBLANK(R79),\"\",IF(OR(ISNUMBER(R79)=FALSE,ISNUMBER(AA79)=FALSE),NA(),IF(ASTM(W79,0)=0,0,BM79*ASTM(AA79,0))))","v":""},"",{"$f":"IF(ISBLANK(R79),\"\",IF(COUNT(R79:AA79)<>10,NA(),BL79*ASTM(R79,3)))","v":""},"",{"$f":"IF(ISBLANK(R79),\"\",IF(COUNT(R79:AA79)<>10,NA(),BQ79*ASTM(R79,3)))","v":""},"",{"$f":"IF(ISBLANK(R79),\"\",IF(COUNT(R79:AA79)<>10,NA(),ASTM(mdiuf(BS79),3)-ASTM(mdiuf(BS78),3)))","v":""},{"$f":"IF(ISBLANK(R79),\"\",IF(COUNT(R79:AA79)<>10,NA(),IF(ASTM(W79,0)=0,0,BT79*ASTM(W79,0)/(BQ79))))","v":""},"",{"$f":"IF(ISBLANK(R79),\"\",IF(COUNT(R79:AA79)<>10,NA(),ASTM(cityfufalt(BS79)-cityfufalt(BS78),3)))","v":""},"",{"$f":"IF(ISBLANK(R79),\"\",IF(COUNT(R79:AA79)<>10,NA(),IF(ASTM(W79,0)=0,0,BW79*ASTM(AA79,0)/(BQ79))))","v":""},null,21,{"$f":"IF(ISBLANK(AD79),\"\",IF(COUNT(AD79:AM79)<>10,NA(),IF(ASTM(AI79,0)=0,0,ASTM(AD79,3)/ASTM(AL79,1))))","v":""},{"$f":"IF(ISBLANK(AD79),\"\",IF(COUNT(AD79:AM79)<>10,NA(),IF(ASTM(AI79,0)=0,0,ASTM(ASTM(AI79,0)*ASTM(AD79,3),0))))","v":""},{"$f":"IF(ISBLANK(AD79),\"\",IF(COUNT(AD79:AM79)<>10,NA(),ASTM(AE79,3)-ASTM(AE78,3)))","v":""},{"$f":"IF(ISBLANK(AD79),\"\",IF(COUNT(AD79:AM79)<>10,NA(),ASTM(CD79*ASTM(AF79,2),1)))","v":""},{"$f":"IF(ISBLANK(AD79),\"\",IF(COUNT(AD79:AM79)<>10,NA(),ASTM(ASTM($AK$94,4)*1000*(CE79/$AZ$61),1)))","v":""},"",{"$f":"IF(ISBLANK(AD79),\"\",IF(COUNT(AD79:AM79)<>10,NA(),CF79/(33705*ASTM(AD79,3))))","v":""},"",{"$f":"IF(ISBLANK(AD79),\"\",ASTM(highwayfuf(CG79)-highwayfuf(CG78),3))","v":""},{"$f":"IF(ISBLANK(AD79),\"\",IF(OR(ISNUMBER(AD79)=FALSE,ISNUMBER(AM79)=FALSE),NA(),IF(ASTM(AI79,0)=0,0,CJ79*ASTM(AM79,0))))","v":""},"",{"$f":"IF(ISBLANK(AD79),\"\",IF(COUNT(AD79:AM79)<>10,NA(),CI79*ASTM(AD79,3)))","v":""},"",{"$f":"IF(ISBLANK(AD79),\"\",IF(COUNT(AD79:AM79)<>10,NA(),CN79*ASTM(AD79,3)))","v":""},"",{"$f":"IF(ISBLANK(AD79),\"\",IF(COUNT(AD79:AM79)<>10,NA(),ASTM(mdiuf(CP79)-mdiuf(CP78),3)))","v":""},{"$f":"IF(ISBLANK(AD79),\"\",IF(COUNT(AD79:AM79)<>10,NA(),IF(ASTM(AI79,0)=0,0,CQ79*ASTM(AI79,0)/(CN79))))","v":""},"",{"$f":"IF(ISBLANK(AD79),\"\",IF(COUNT(AD79:AM79)<>10,NA(),ASTM(highwayfufalt(CP79)-highwayfufalt(CP78),3)))","v":""},"",{"$f":"IF(ISBLANK(AD79),\"\",IF(COUNT(AD79:AM79)<>10,NA(),IF(ASTM(AI79,0)=0,0,CT79*ASTM(AM79,0)/(CN79))))","v":""}]
[null,null,"*Range1 - Model Type Driving Range - Conventional Fuel - City",null,null,{"$f":"IF($J$6=\"HD 2b/3\",NA(),ASTM(IF($N$7+$N$55+$N$103=0,SUM(IFERROR(AY38,0),IFERROR(AY86,0),IFERROR(AY134,0)) / ((AY38<>0)+(AY86<>0)+(AY134<>0)),($N$7*AY38+$N$55*AY86+$N$103*AY134)/($N$7+$N$55+$N$103)),0))","v":{"$error":"#N/A"}},null,null,null,null,null,null,{"$error":"#N/A"},null,null,null,22,null,null,null,null,null,null,null,null,{"$f":"IF(ISBLANK(R80),\"\",IF(OR($J$6=\"HD 2b/3\",COUNT(R80:W80)<>6,$AA$95<>\"Yes\",$AA$97<>\"Yes\"),NA(),IF(ASTM(W80,0)=0,0,ASTM((51740000*$T$94*$T$95)/((($T$94*U80)+(0.429*V80)+(0.273*W80))*((0.6*$T$95*$T$96)+5471)),1))))","v":""},{"$f":"IF(ISBLANK(R80),\"\",IF(OR(AND($J$6<>\"HD 2b/3\",COUNT(R80:W80)<>6),AND($J$6=\"HD 2b/3\",COUNT(R80)+COUNT(W80)<>2),$AA$95<>\"Yes\",$AA$97<>\"Yes\"),NA(),IF(ASTM(W80,0)=0,0,IF($J$6=\"HD 2b/3\",W80,ASTM((($T$94/0.273)*U80)+(1.571*V80)+W80,0)))))","v":""},null,22,null,null,null,null,null,null,null,null,{"$f":"IF(ISBLANK(AD80),\"\",IF(OR($J$6=\"HD 2b/3\",COUNT(AD80:AI80)<>6,$AM$47<>\"Yes\",$AM$49<>\"Yes\"),NA(),IF(ASTM(AI80,0)=0,0,ASTM((51740000*$AF$46*$AF$47)/((($AF$46*AG80)+(0.429*AH80)+(0.273*AI80))*((0.6*$AF$47*$AF$48)+5471)),1))))","v":""},{"$f":"IF(ISBLANK(AD80),\"\",IF(OR(AND($J$6<>\"HD 2b/3\",COUNT(AD80:AI80)<>6),AND($J$6=\"HD 2b/3\",COUNT(AD80)+COUNT(AI80)<>2),$AM$95<>\"Yes\",$AM$97<>\"Yes\"),NA(),IF(ASTM(AI80,0)=0,0,IF($J$6=\"HD 2b/3\",AI80,ASTM((($AF$94/0.273)*AG80)+(1.571*AH80)+AI80,0)))))","v":""},null,null,null,"Trends Report Values","City","Highway","Combined",null,null,null,"MDIUF based on adjusted Rcdc [3]",{"$f":"IF($J$6=\"HD 2b/3\",NA(),ASTM(SUMIF(BD59:BD93,\"<=\" & AY82,BT59:BT93),3))","v":{"$error":"#N/A"}},{"$f":"IF($J$6=\"HD 2b/3\",NA(),ASTM(SUMIF(CA59:CA93,\"<=\" & AZ82,CQ59:CQ93),3))","v":{"$error":"#N/A"}},null,null,null,22,{"$f":"IF(ISBLANK(R80),\"\",IF(COUNT(R80:AA80)<>10,NA(),IF(ASTM(W80,0)=0,0,IFERROR(ASTM(R80,3)/ASTM(Z80,1),0))))","v":""},{"$f":"IF(ISBLANK(R80),\"\",IF(COUNT(R80:AA80)<>10,NA(),IF(W80=0,0,ASTM(ASTM(W80,0)*ASTM(R80,3),0))))","v":""},{"$f":"IF(ISBLANK(R80),\"\",IF(COUNT(R80:AA80)<>10,NA(),ASTM(S80,3)-ASTM(S79,3)))","v":""},{"$f":"IF(ISBLANK(R80),\"\",IF(COUNT(R80:AA80)<>10,NA(),ASTM(BG80*ASTM(T80,2),1)))","v":""},{"$f":"IF(ISBLANK(R80),\"\",IF(COUNT(R80:AA80)<>10,NA(),ASTM(ASTM($Y$94,4)*1000*(BH80/$AY$61),1)))","v":""},"",{"$f":"IF(ISBLANK(R80),\"\",IF(COUNT(R80:AA80)<>10,NA(),BI80/(33705*ASTM(R80,3))))","v":""},"",{"$f":"IF(ISBLANK(R80),\"\",IFERROR(ASTM(cityfuf(BJ80)-cityfuf(BJ79),3),\"\"))","v":""},{"$f":"IF(ISBLANK(R80),\"\",IF(OR(ISNUMBER(R80)=FALSE,ISNUMBER(AA80)=FALSE),NA(),IF(ASTM(W80,0)=0,0,BM80*ASTM(AA80,0))))","v":""},"",{"$f":"IF(ISBLANK(R80),\"\",IF(COUNT(R80:AA80)<>10,NA(),BL80*ASTM(R80,3)))","v":""},"",{"$f":"IF(ISBLANK(R80),\"\",IF(COUNT(R80:AA80)<>10,NA(),BQ80*ASTM(R80,3)))","v":""},"",{"$f":"IF(ISBLANK(R80),\"\",IF(COUNT(R80:AA80)<>10,NA(),ASTM(mdiuf(BS80),3)-ASTM(mdiuf(BS79),3)))","v":""},{"$f":"IF(ISBLANK(R80),\"\",IF(COUNT(R80:AA80)<>10,NA(),IF(ASTM(W80,0)=0,0,BT80*ASTM(W80,0)/(BQ80))))","v":""},"",{"$f":"IF(ISBLANK(R80),\"\",IF(COUNT(R80:AA80)<>10,NA(),ASTM(cityfufalt(BS80)-cityfufalt(BS79),3)))","v":""},"",{"$f":"IF(ISBLANK(R80),\"\",IF(COUNT(R80:AA80)<>10,NA(),IF(ASTM(W80,0)=0,0,BW80*ASTM(AA80,0)/(BQ80))))","v":""},null,22,{"$f":"IF(ISBLANK(AD80),\"\",IF(COUNT(AD80:AM80)<>10,NA(),IF(ASTM(AI80,0)=0,0,ASTM(AD80,3)/ASTM(AL80,1))))","v":""},{"$f":"IF(ISBLANK(AD80),\"\",IF(COUNT(AD80:AM80)<>10,NA(),IF(ASTM(AI80,0)=0,0,ASTM(ASTM(AI80,0)*ASTM(AD80,3),0))))","v":""},{"$f":"IF(ISBLANK(AD80),\"\",IF(COUNT(AD80:AM80)<>10,NA(),ASTM(AE80,3)-ASTM(AE79,3)))","v":""},{"$f":"IF(ISBLANK(AD80),\"\",IF(COUNT(AD80:AM80)<>10,NA(),ASTM(CD80*ASTM(AF80,2),1)))","v":""},{"$f":"IF(ISBLANK(AD80),\"\",IF(COUNT(AD80:AM80)<>10,NA(),ASTM(ASTM($AK$94,4)*1000*(CE80/$AZ$61),1)))","v":""},"",{"$f":"IF(ISBLANK(AD80),\"\",IF(COUNT(AD80:AM80)<>10,NA(),CF80/(33705*ASTM(AD80,3))))","v":""},"",{"$f":"IF(ISBLANK(AD80),\"\",ASTM(highwayfuf(CG80)-highwayfuf(CG79),3))","v":""},{"$f":"IF(ISBLANK(AD80),\"\",IF(OR(ISNUMBER(AD80)=FALSE,ISNUMBER(AM80)=FALSE),NA(),IF(ASTM(AI80,0)=0,0,CJ80*ASTM(AM80,0))))","v":""},"",{"$f":"IF(ISBLANK(AD80),\"\",IF(COUNT(AD80:AM80)<>10,NA(),CI80*ASTM(AD80,3)))","v":""},"",{"$f":"IF(ISBLANK(AD80),\"\",IF(COUNT(AD80:AM80)<>10,NA(),CN80*ASTM(AD80,3)))","v":""},"",{"$f":"IF(ISBLANK(AD80),\"\",IF(COUNT(AD80:AM80)<>10,NA(),ASTM(mdiuf(CP80)-mdiuf(CP79),3)))","v":""},{"$f":"IF(ISBLANK(AD80),\"\",IF(COUNT(AD80:AM80)<>10,NA(),IF(ASTM(AI80,0)=0,0,CQ80*ASTM(AI80,0)/(CN80))))","v":""},"",{"$f":"IF(ISBLANK(AD80),\"\",IF(COUNT(AD80:AM80)<>10,NA(),ASTM(highwayfufalt(CP80)-highwayfufalt(CP79),3)))","v":""},"",{"$f":"IF(ISBLANK(AD80),\"\",IF(COUNT(AD80:AM80)<>10,NA(),IF(ASTM(AI80,0)=0,0,CT80*ASTM(AM80,0)/(CN80))))","v":""}]
[null,null,"*Range1 - Model Type Driving Range - Conventional Fuel - Hwy",null,null,{"$f":"IF($J$6=\"HD 2b/3\",NA(),ASTM(IF($N$7+$N$55+$N$103=0,SUM(IFERROR(AZ38,0),IFERROR(AZ86,0),IFERROR(AZ134,0)) / ((AZ38<>0)+(AZ86<>0)+(AZ134<>0)),($N$7*AZ38+$N$55*AZ86+$N$103*AZ134)/($N$7+$N$55+$N$103)),0))","v":{"$error":"#N/A"}},null,null,null,null,null,null,null,null,null,null,23,null,null,null,null,null,null,null,null,{"$f":"IF(ISBLANK(R81),\"\",IF(OR($J$6=\"HD 2b/3\",COUNT(R81:W81)<>6,$AA$95<>\"Yes\",$AA$97<>\"Yes\"),NA(),IF(ASTM(W81,0)=0,0,ASTM((51740000*$T$94*$T$95)/((($T$94*U81)+(0.429*V81)+(0.273*W81))*((0.6*$T$95*$T$96)+5471)),1))))","v":""},{"$f":"IF(ISBLANK(R81),\"\",IF(OR(AND($J$6<>\"HD 2b/3\",COUNT(R81:W81)<>6),AND($J$6=\"HD 2b/3\",COUNT(R81)+COUNT(W81)<>2),$AA$95<>\"Yes\",$AA$97<>\"Yes\"),NA(),IF(ASTM(W81,0)=0,0,IF($J$6=\"HD 2b/3\",W81,ASTM((($T$94/0.273)*U81)+(1.571*V81)+W81,0)))))","v":""},null,23,null,null,null,null,null,null,null,null,{"$f":"IF(ISBLANK(AD81),\"\",IF(OR($J$6=\"HD 2b/3\",COUNT(AD81:AI81)<>6,$AM$47<>\"Yes\",$AM$49<>\"Yes\"),NA(),IF(ASTM(AI81,0)=0,0,ASTM((51740000*$AF$46*$AF$47)/((($AF$46*AG81)+(0.429*AH81)+(0.273*AI81))*((0.6*$AF$47*$AF$48)+5471)),1))))","v":""},{"$f":"IF(ISBLANK(AD81),\"\",IF(OR(AND($J$6<>\"HD 2b/3\",COUNT(AD81:AI81)<>6),AND($J$6=\"HD 2b/3\",COUNT(AD81)+COUNT(AI81)<>2),$AM$95<>\"Yes\",$AM$97<>\"Yes\"),NA(),IF(ASTM(AI81,0)=0,0,IF($J$6=\"HD 2b/3\",AI81,ASTM((($AF$94/0.273)*AG81)+(1.571*AH81)+AI81,0)))))","v":""},null,null,null,"Fleet Utility Factor (43/57) [3]",{"$f":"IF($J$6=\"HD 2b/3\",NA(),ASTM(SUMIF(BD59:BD88,\"<=\"&AY82,BW59:BW88),3))","v":{"$error":"#N/A"}},{"$f":"IF($J$6=\"HD 2b/3\",NA(),ASTM(SUMIF(CA59:CA88,\"<=\"&AZ82,CT59:CT88),3))","v":{"$error":"#N/A"}},{"$f":"IF($J$6=\"HD 2b/3\",NA(),0.55*AR81+0.45*AS81)","v":{"$error":"#N/A"}},null,null,null,"Fraction of transition cycle that is charge-depleting operation (Zn) [3]",{"$f":"IF($J$6=\"HD 2b/3\",NA(),ASTM( IF((IF( SUMIF(BD59:BD93,\"=\" & ($AY82),BG59:BG93)/SUMIF(BD59:BD93,\"=\" & ($AY82-1),BG59:BG93)<0,0, SUMIF(BD59:BD93,\"=\" & ($AY82),BG59:BG93)/SUMIF(BD59:BD93,\"=\" & ($AY82-1),BG59:BG93)))<0,0, IF((IF( SUMIF(BD59:BD93,\"=\" & ($AY82),BG59:BG93)/SUMIF(BD59:BD93,\"=\" & ($AY82-1),BG59:BG93)<0,0, SUMIF(BD59:BD93,\"=\" & ($AY82),BG59:BG93)/SUMIF(BD59:BD93,\"=\" & ($AY82-1),BG59:BG93)))>1,1, (IF( SUMIF(BD59:BD93,\"=\" & ($AY82),BG59:BG93)/SUMIF(BD59:BD93,\"=\" & ($AY82-1),BG59:BG93)<0,0, SUMIF(BD59:BD93,\"=\" & ($AY82),BG59:BG93)/SUMIF(BD59:BD93,\"=\" & ($AY82-1),BG59:BG93))))), 3))","v":{"$error":"#N/A"}},{"$f":"IF($J$6=\"HD 2b/3\",NA(),ASTM( IF((IF( SUMIF(CA59:CA93,\"=\" & ($AZ82),CD59:CD93)/SUMIF(CA59:CA93,\"=\" & ($AZ82-1),CD59:CD93)<0,0, SUMIF(CA59:CA93,\"=\" & ($AZ82),CD59:CD93)/SUMIF(CA59:CA93,\"=\" & ($AZ82-1),CD59:CD93)))<0,0, IF((IF( SUMIF(CA59:CA93,\"=\" & ($AZ82),CD59:CD93)/SUMIF(CA59:CA93,\"=\" & ($AZ82-1),CD59:CD93)<0,0, SUMIF(CA59:CA93,\"=\" & ($AZ82),CD59:CD93)/SUMIF(CA59:CA93,\"=\" & ($AZ82-1),CD59:CD93)))>1,1, (IF( SUMIF(CA59:CA93,\"=\" & ($AZ82),CD59:CD93)/SUMIF(CA59:CA93,\"=\" & ($AZ82-1),CD59:CD93)<0,0, SUMIF(CA59:CA93,\"=\" & ($AZ82),CD59:CD93)/SUMIF(CA59:CA93,\"=\" & ($AZ82-1),CD59:CD93))))), 3))","v":{"$error":"#N/A"}},null,null,null,23,{"$f":"IF(ISBLANK(R81),\"\",IF(COUNT(R81:AA81)<>10,NA(),IF(ASTM(W81,0)=0,0,IFERROR(ASTM(R81,3)/ASTM(Z81,1),0))))","v":""},{"$f":"IF(ISBLANK(R81),\"\",IF(COUNT(R81:AA81)<>10,NA(),IF(W81=0,0,ASTM(ASTM(W81,0)*ASTM(R81,3),0))))","v":""},{"$f":"IF(ISBLANK(R81),\"\",IF(COUNT(R81:AA81)<>10,NA(),ASTM(S81,3)-ASTM(S80,3)))","v":""},{"$f":"IF(ISBLANK(R81),\"\",IF(COUNT(R81:AA81)<>10,NA(),ASTM(BG81*ASTM(T81,2),1)))","v":""},{"$f":"IF(ISBLANK(R81),\"\",IF(COUNT(R81:AA81)<>10,NA(),ASTM(ASTM($Y$94,4)*1000*(BH81/$AY$61),1)))","v":""},"",{"$f":"IF(ISBLANK(R81),\"\",IF(COUNT(R81:AA81)<>10,NA(),BI81/(33705*ASTM(R81,3))))","v":""},"",{"$f":"IF(ISBLANK(R81),\"\",IFERROR(ASTM(cityfuf(BJ81)-cityfuf(BJ80),3),\"\"))","v":""},{"$f":"IF(ISBLANK(R81),\"\",IF(OR(ISNUMBER(R81)=FALSE,ISNUMBER(AA81)=FALSE),NA(),IF(ASTM(W81,0)=0,0,BM81*ASTM(AA81,0))))","v":""},"",{"$f":"IF(ISBLANK(R81),\"\",IF(COUNT(R81:AA81)<>10,NA(),BL81*ASTM(R81,3)))","v":""},"",{"$f":"IF(ISBLANK(R81),\"\",IF(COUNT(R81:AA81)<>10,NA(),BQ81*ASTM(R81,3)))","v":""},"",{"$f":"IF(ISBLANK(R81),\"\",IF(COUNT(R81:AA81)<>10,NA(),ASTM(mdiuf(BS81),3)-ASTM(mdiuf(BS80),3)))","v":""},{"$f":"IF(ISBLANK(R81),\"\",IF(COUNT(R81:AA81)<>10,NA(),IF(ASTM(W81,0)=0,0,BT81*ASTM(W81,0)/(BQ81))))","v":""},"",{"$f":"IF(ISBLANK(R81),\"\",IF(COUNT(R81:AA81)<>10,NA(),ASTM(cityfufalt(BS81)-cityfufalt(BS80),3)))","v":""},"",{"$f":"IF(ISBLANK(R81),\"\",IF(COUNT(R81:AA81)<>10,NA(),IF(ASTM(W81,0)=0,0,BW81*ASTM(AA81,0)/(BQ81))))","v":""},null,23,{"$f":"IF(ISBLANK(AD81),\"\",IF(COUNT(AD81:AM81)<>10,NA(),IF(ASTM(AI81,0)=0,0,ASTM(AD81,3)/ASTM(AL81,1))))","v":""},{"$f":"IF(ISBLANK(AD81),\"\",IF(COUNT(AD81:AM81)<>10,NA(),IF(ASTM(AI81,0)=0,0,ASTM(ASTM(AI81,0)*ASTM(AD81,3),0))))","v":""},{"$f":"IF(ISBLANK(AD81),\"\",IF(COUNT(AD81:AM81)<>10,NA(),ASTM(AE81,3)-ASTM(AE80,3)))","v":""},{"$f":"IF(ISBLANK(AD81),\"\",IF(COUNT(AD81:AM81)<>10,NA(),ASTM(CD81*ASTM(AF81,2),1)))","v":""},{"$f":"IF(ISBLANK(AD81),\"\",IF(COUNT(AD81:AM81)<>10,NA(),ASTM(ASTM($AK$94,4)*1000*(CE81/$AZ$61),1)))","v":""},"",{"$f":"IF(ISBLANK(AD81),\"\",IF(COUNT(AD81:AM81)<>10,NA(),CF81/(33705*ASTM(AD81,3))))","v":""},"",{"$f":"IF(ISBLANK(AD81),\"\",ASTM(highwayfuf(CG81)-highwayfuf(CG80),3))","v":""},{"$f":"IF(ISBLANK(AD81),\"\",IF(OR(ISNUMBER(AD81)=FALSE,ISNUMBER(AM81)=FALSE),NA(),IF(ASTM(AI81,0)=0,0,CJ81*ASTM(AM81,0))))","v":""},"",{"$f":"IF(ISBLANK(AD81),\"\",IF(COUNT(AD81:AM81)<>10,NA(),CI81*ASTM(AD81,3)))","v":""},"",{"$f":"IF(ISBLANK(AD81),\"\",IF(COUNT(AD81:AM81)<>10,NA(),CN81*ASTM(AD81,3)))","v":""},"",{"$f":"IF(ISBLANK(AD81),\"\",IF(COUNT(AD81:AM81)<>10,NA(),ASTM(mdiuf(CP81)-mdiuf(CP80),3)))","v":""},{"$f":"IF(ISBLANK(AD81),\"\",IF(COUNT(AD81:AM81)<>10,NA(),IF(ASTM(AI81,0)=0,0,CQ81*ASTM(AI81,0)/(CN81))))","v":""},"",{"$f":"IF(ISBLANK(AD81),\"\",IF(COUNT(AD81:AM81)<>10,NA(),ASTM(highwayfufalt(CP81)-highwayfufalt(CP80),3)))","v":""},"",{"$f":"IF(ISBLANK(AD81),\"\",IF(COUNT(AD81:AM81)<>10,NA(),IF(ASTM(AI81,0)=0,0,CT81*ASTM(AM81,0)/(CN81))))","v":""}]
[null,null,"Range1 - Model Type Driving Range - Conventional Fuel - Comb",null,null,{"$f":"IF($J$6=\"HD 2b/3\",NA(),ASTM(IF($N$7+$N$55+$N$103=0,SUM(IFERROR(ASTM(0.55*AY38+0.45*AZ38,3),0),IFERROR(ASTM(0.55*AY86+0.45*AZ86,3),0),IFERROR(ASTM(0.55*AY134+0.45*AZ134,3),0)) / ((ASTM(0.55*AY38+0.45*AZ38,3)<>0)+(ASTM(0.55*AY86+0.45*AZ86,3)<>0)+(ASTM(0.55*AY134+0.45*AZ134,3)<>0)),($N$7*ASTM(0.55*AY38+0.45*AZ38,3)+$N$55*ASTM(0.55*AY86+0.45*AZ86,3)+$N$103*ASTM(0.55*AY134+0.45*AZ134,3))/($N$7+$N$55+$N$103)),0))","v":{"$error":"#N/A"}},null,null,null,null,null,null,null,null,null,null,24,null,null,null,null,null,null,null,null,{"$f":"IF(ISBLANK(R82),\"\",IF(OR($J$6=\"HD 2b/3\",COUNT(R82:W82)<>6,$AA$95<>\"Yes\",$AA$97<>\"Yes\"),NA(),IF(ASTM(W82,0)=0,0,ASTM((51740000*$T$94*$T$95)/((($T$94*U82)+(0.429*V82)+(0.273*W82))*((0.6*$T$95*$T$96)+5471)),1))))","v":""},{"$f":"IF(ISBLANK(R82),\"\",IF(OR(AND($J$6<>\"HD 2b/3\",COUNT(R82:W82)<>6),AND($J$6=\"HD 2b/3\",COUNT(R82)+COUNT(W82)<>2),$AA$95<>\"Yes\",$AA$97<>\"Yes\"),NA(),IF(ASTM(W82,0)=0,0,IF($J$6=\"HD 2b/3\",W82,ASTM((($T$94/0.273)*U82)+(1.571*V82)+W82,0)))))","v":""},null,24,null,null,null,null,null,null,null,null,{"$f":"IF(ISBLANK(AD82),\"\",IF(OR($J$6=\"HD 2b/3\",COUNT(AD82:AI82)<>6,$AM$47<>\"Yes\",$AM$49<>\"Yes\"),NA(),IF(ASTM(AI82,0)=0,0,ASTM((51740000*$AF$46*$AF$47)/((($AF$46*AG82)+(0.429*AH82)+(0.273*AI82))*((0.6*$AF$47*$AF$48)+5471)),1))))","v":""},{"$f":"IF(ISBLANK(AD82),\"\",IF(OR(AND($J$6<>\"HD 2b/3\",COUNT(AD82:AI82)<>6),AND($J$6=\"HD 2b/3\",COUNT(AD82)+COUNT(AI82)<>2),$AM$95<>\"Yes\",$AM$97<>\"Yes\"),NA(),IF(ASTM(AI82,0)=0,0,IF($J$6=\"HD 2b/3\",AI82,ASTM((($AF$94/0.273)*AG82)+(1.571*AH82)+AI82,0)))))","v":""},null,null,null,"Unadjusted Fuel Economy (MPG) [4]",{"$f":"IF($J$6=\"HD 2b/3\",NA(),AR57)","v":{"$error":"#N/A"}},{"$f":"IF($J$6=\"HD 2b/3\",NA(),AS57)","v":{"$error":"#N/A"}},{"$f":"IF($J$6=\"HD 2b/3\",NA(),AT57)","v":{"$error":"#N/A"}},null,null,null,"Number of last cycle number with charge-depleting operation (transition cycle) [0]",{"$f":"IF(ISNUMBER(Y96),Y96,\"EOT ERROR\")","v":8},{"$f":"IF(ISNUMBER(AK96),AK96,\"EOT ERROR\")","v":5},null,null,null,24,{"$f":"IF(ISBLANK(R82),\"\",IF(COUNT(R82:AA82)<>10,NA(),IF(ASTM(W82,0)=0,0,IFERROR(ASTM(R82,3)/ASTM(Z82,1),0))))","v":""},{"$f":"IF(ISBLANK(R82),\"\",IF(COUNT(R82:AA82)<>10,NA(),IF(W82=0,0,ASTM(ASTM(W82,0)*ASTM(R82,3),0))))","v":""},{"$f":"IF(ISBLANK(R82),\"\",IF(COUNT(R82:AA82)<>10,NA(),ASTM(S82,3)-ASTM(S81,3)))","v":""},{"$f":"IF(ISBLANK(R82),\"\",IF(COUNT(R82:AA82)<>10,NA(),ASTM(BG82*ASTM(T82,2),1)))","v":""},{"$f":"IF(ISBLANK(R82),\"\",IF(COUNT(R82:AA82)<>10,NA(),ASTM(ASTM($Y$94,4)*1000*(BH82/$AY$61),1)))","v":""},"",{"$f":"IF(ISBLANK(R82),\"\",IF(COUNT(R82:AA82)<>10,NA(),BI82/(33705*ASTM(R82,3))))","v":""},"",{"$f":"IF(ISBLANK(R82),\"\",IFERROR(ASTM(cityfuf(BJ82)-cityfuf(BJ81),3),\"\"))","v":""},{"$f":"IF(ISBLANK(R82),\"\",IF(OR(ISNUMBER(R82)=FALSE,ISNUMBER(AA82)=FALSE),NA(),IF(ASTM(W82,0)=0,0,BM82*ASTM(AA82,0))))","v":""},"",{"$f":"IF(ISBLANK(R82),\"\",IF(COUNT(R82:AA82)<>10,NA(),BL82*ASTM(R82,3)))","v":""},"",{"$f":"IF(ISBLANK(R82),\"\",IF(COUNT(R82:AA82)<>10,NA(),BQ82*ASTM(R82,3)))","v":""},"",{"$f":"IF(ISBLANK(R82),\"\",IF(COUNT(R82:AA82)<>10,NA(),ASTM(mdiuf(BS82),3)-ASTM(mdiuf(BS81),3)))","v":""},{"$f":"IF(ISBLANK(R82),\"\",IF(COUNT(R82:AA82)<>10,NA(),IF(ASTM(W82,0)=0,0,BT82*ASTM(W82,0)/(BQ82))))","v":""},"",{"$f":"IF(ISBLANK(R82),\"\",IF(COUNT(R82:AA82)<>10,NA(),ASTM(cityfufalt(BS82)-cityfufalt(BS81),3)))","v":""},"",{"$f":"IF(ISBLANK(R82),\"\",IF(COUNT(R82:AA82)<>10,NA(),IF(ASTM(W82,0)=0,0,BW82*ASTM(AA82,0)/(BQ82))))","v":""},null,24,{"$f":"IF(ISBLANK(AD82),\"\",IF(COUNT(AD82:AM82)<>10,NA(),IF(ASTM(AI82,0)=0,0,ASTM(AD82,3)/ASTM(AL82,1))))","v":""},{"$f":"IF(ISBLANK(AD82),\"\",IF(COUNT(AD82:AM82)<>10,NA(),IF(ASTM(AI82,0)=0,0,ASTM(ASTM(AI82,0)*ASTM(AD82,3),0))))","v":""},{"$f":"IF(ISBLANK(AD82),\"\",IF(COUNT(AD82:AM82)<>10,NA(),ASTM(AE82,3)-ASTM(AE81,3)))","v":""},{"$f":"IF(ISBLANK(AD82),\"\",IF(COUNT(AD82:AM82)<>10,NA(),ASTM(CD82*ASTM(AF82,2),1)))","v":""},{"$f":"IF(ISBLANK(AD82),\"\",IF(COUNT(AD82:AM82)<>10,NA(),ASTM(ASTM($AK$94,4)*1000*(CE82/$AZ$61),1)))","v":""},"",{"$f":"IF(ISBLANK(AD82),\"\",IF(COUNT(AD82:AM82)<>10,NA(),CF82/(33705*ASTM(AD82,3))))","v":""},"",{"$f":"IF(ISBLANK(AD82),\"\",ASTM(highwayfuf(CG82)-highwayfuf(CG81),3))","v":""},{"$f":"IF(ISBLANK(AD82),\"\",IF(OR(ISNUMBER(AD82)=FALSE,ISNUMBER(AM82)=FALSE),NA(),IF(ASTM(AI82,0)=0,0,CJ82*ASTM(AM82,0))))","v":""},"",{"$f":"IF(ISBLANK(AD82),\"\",IF(COUNT(AD82:AM82)<>10,NA(),CI82*ASTM(AD82,3)))","v":""},"",{"$f":"IF(ISBLANK(AD82),\"\",IF(COUNT(AD82:AM82)<>10,NA(),CN82*ASTM(AD82,3)))","v":""},"",{"$f":"IF(ISBLANK(AD82),\"\",IF(COUNT(AD82:AM82)<>10,NA(),ASTM(mdiuf(CP82)-mdiuf(CP81),3)))","v":""},{"$f":"IF(ISBLANK(AD82),\"\",IF(COUNT(AD82:AM82)<>10,NA(),IF(ASTM(AI82,0)=0,0,CQ82*ASTM(AI82,0)/(CN82))))","v":""},"",{"$f":"IF(ISBLANK(AD82),\"\",IF(COUNT(AD82:AM82)<>10,NA(),ASTM(highwayfufalt(CP82)-highwayfufalt(CP81),3)))","v":""},"",{"$f":"IF(ISBLANK(AD82),\"\",IF(COUNT(AD82:AM82)<>10,NA(),IF(ASTM(AI82,0)=0,0,CT82*ASTM(AM82,0)/(CN82))))","v":""}]
[null,null,"Charge-depleting Efficiency",null,"kW-hr/100mi","MPGe",null,null,null,null,null,null,null,null,null,null,25,null,null,null,null,null,null,null,null,{"$f":"IF(ISBLANK(R83),\"\",IF(OR($J$6=\"HD 2b/3\",COUNT(R83:W83)<>6,$AA$95<>\"Yes\",$AA$97<>\"Yes\"),NA(),IF(ASTM(W83,0)=0,0,ASTM((51740000*$T$94*$T$95)/((($T$94*U83)+(0.429*V83)+(0.273*W83))*((0.6*$T$95*$T$96)+5471)),1))))","v":""},{"$f":"IF(ISBLANK(R83),\"\",IF(OR(AND($J$6<>\"HD 2b/3\",COUNT(R83:W83)<>6),AND($J$6=\"HD 2b/3\",COUNT(R83)+COUNT(W83)<>2),$AA$95<>\"Yes\",$AA$97<>\"Yes\"),NA(),IF(ASTM(W83,0)=0,0,IF($J$6=\"HD 2b/3\",W83,ASTM((($T$94/0.273)*U83)+(1.571*V83)+W83,0)))))","v":""},null,25,null,null,null,null,null,null,null,null,{"$f":"IF(ISBLANK(AD83),\"\",IF(OR($J$6=\"HD 2b/3\",COUNT(AD83:AI83)<>6,$AM$47<>\"Yes\",$AM$49<>\"Yes\"),NA(),IF(ASTM(AI83,0)=0,0,ASTM((51740000*$AF$46*$AF$47)/((($AF$46*AG83)+(0.429*AH83)+(0.273*AI83))*((0.6*$AF$47*$AF$48)+5471)),1))))","v":""},{"$f":"IF(ISBLANK(AD83),\"\",IF(OR(AND($J$6<>\"HD 2b/3\",COUNT(AD83:AI83)<>6),AND($J$6=\"HD 2b/3\",COUNT(AD83)+COUNT(AI83)<>2),$AM$95<>\"Yes\",$AM$97<>\"Yes\"),NA(),IF(ASTM(AI83,0)=0,0,IF($J$6=\"HD 2b/3\",AI83,ASTM((($AF$94/0.273)*AG83)+(1.571*AH83)+AI83,0)))))","v":""},null,null,null,"Unadjusted GHG (g/mi) [1]",{"$f":"IF($J$6=\"HD 2b/3\",NA(),ASTM(AR59,1))","v":{"$error":"#N/A"}},{"$f":"IF($J$6=\"HD 2b/3\",NA(),ASTM(AS59,1))","v":{"$error":"#N/A"}},{"$f":"IF($J$6=\"HD 2b/3\",NA(),ASTM(0.55*AR83+0.45*AS83,1))","v":{"$error":"#N/A"}},null,null,"Intermediate Results Requiring Charge-Sustaining (CS) Test Results or Other Inputs",null,null,null,null,null,null,25,{"$f":"IF(ISBLANK(R83),\"\",IF(COUNT(R83:AA83)<>10,NA(),IF(ASTM(W83,0)=0,0,IFERROR(ASTM(R83,3)/ASTM(Z83,1),0))))","v":""},{"$f":"IF(ISBLANK(R83),\"\",IF(COUNT(R83:AA83)<>10,NA(),IF(W83=0,0,ASTM(ASTM(W83,0)*ASTM(R83,3),0))))","v":""},{"$f":"IF(ISBLANK(R83),\"\",IF(COUNT(R83:AA83)<>10,NA(),ASTM(S83,3)-ASTM(S82,3)))","v":""},{"$f":"IF(ISBLANK(R83),\"\",IF(COUNT(R83:AA83)<>10,NA(),ASTM(BG83*ASTM(T83,2),1)))","v":""},{"$f":"IF(ISBLANK(R83),\"\",IF(COUNT(R83:AA83)<>10,NA(),ASTM(ASTM($Y$94,4)*1000*(BH83/$AY$61),1)))","v":""},"",{"$f":"IF(ISBLANK(R83),\"\",IF(COUNT(R83:AA83)<>10,NA(),BI83/(33705*ASTM(R83,3))))","v":""},"",{"$f":"IF(ISBLANK(R83),\"\",IFERROR(ASTM(cityfuf(BJ83)-cityfuf(BJ82),3),\"\"))","v":""},{"$f":"IF(ISBLANK(R83),\"\",IF(OR(ISNUMBER(R83)=FALSE,ISNUMBER(AA83)=FALSE),NA(),IF(ASTM(W83,0)=0,0,BM83*ASTM(AA83,0))))","v":""},"",{"$f":"IF(ISBLANK(R83),\"\",IF(COUNT(R83:AA83)<>10,NA(),BL83*ASTM(R83,3)))","v":""},"",{"$f":"IF(ISBLANK(R83),\"\",IF(COUNT(R83:AA83)<>10,NA(),BQ83*ASTM(R83,3)))","v":""},"",{"$f":"IF(ISBLANK(R83),\"\",IF(COUNT(R83:AA83)<>10,NA(),ASTM(mdiuf(BS83),3)-ASTM(mdiuf(BS82),3)))","v":""},{"$f":"IF(ISBLANK(R83),\"\",IF(COUNT(R83:AA83)<>10,NA(),IF(ASTM(W83,0)=0,0,BT83*ASTM(W83,0)/(BQ83))))","v":""},"",{"$f":"IF(ISBLANK(R83),\"\",IF(COUNT(R83:AA83)<>10,NA(),ASTM(cityfufalt(BS83)-cityfufalt(BS82),3)))","v":""},"",{"$f":"IF(ISBLANK(R83),\"\",IF(COUNT(R83:AA83)<>10,NA(),IF(ASTM(W83,0)=0,0,BW83*ASTM(AA83,0)/(BQ83))))","v":""},null,25,{"$f":"IF(ISBLANK(AD83),\"\",IF(COUNT(AD83:AM83)<>10,NA(),IF(ASTM(AI83,0)=0,0,ASTM(AD83,3)/ASTM(AL83,1))))","v":""},{"$f":"IF(ISBLANK(AD83),\"\",IF(COUNT(AD83:AM83)<>10,NA(),IF(ASTM(AI83,0)=0,0,ASTM(ASTM(AI83,0)*ASTM(AD83,3),0))))","v":""},{"$f":"IF(ISBLANK(AD83),\"\",IF(COUNT(AD83:AM83)<>10,NA(),ASTM(AE83,3)-ASTM(AE82,3)))","v":""},{"$f":"IF(ISBLANK(AD83),\"\",IF(COUNT(AD83:AM83)<>10,NA(),ASTM(CD83*ASTM(AF83,2),1)))","v":""},{"$f":"IF(ISBLANK(AD83),\"\",IF(COUNT(AD83:AM83)<>10,NA(),ASTM(ASTM($AK$94,4)*1000*(CE83/$AZ$61),1)))","v":""},"",{"$f":"IF(ISBLANK(AD83),\"\",IF(COUNT(AD83:AM83)<>10,NA(),CF83/(33705*ASTM(AD83,3))))","v":""},"",{"$f":"IF(ISBLANK(AD83),\"\",ASTM(highwayfuf(CG83)-highwayfuf(CG82),3))","v":""},{"$f":"IF(ISBLANK(AD83),\"\",IF(OR(ISNUMBER(AD83)=FALSE,ISNUMBER(AM83)=FALSE),NA(),IF(ASTM(AI83,0)=0,0,CJ83*ASTM(AM83,0))))","v":""},"",{"$f":"IF(ISBLANK(AD83),\"\",IF(COUNT(AD83:AM83)<>10,NA(),CI83*ASTM(AD83,3)))","v":""},"",{"$f":"IF(ISBLANK(AD83),\"\",IF(COUNT(AD83:AM83)<>10,NA(),CN83*ASTM(AD83,3)))","v":""},"",{"$f":"IF(ISBLANK(AD83),\"\",IF(COUNT(AD83:AM83)<>10,NA(),ASTM(mdiuf(CP83)-mdiuf(CP82),3)))","v":""},{"$f":"IF(ISBLANK(AD83),\"\",IF(COUNT(AD83:AM83)<>10,NA(),IF(ASTM(AI83,0)=0,0,CQ83*ASTM(AI83,0)/(CN83))))","v":""},"",{"$f":"IF(ISBLANK(AD83),\"\",IF(COUNT(AD83:AM83)<>10,NA(),ASTM(highwayfufalt(CP83)-highwayfufalt(CP82),3)))","v":""},"",{"$f":"IF(ISBLANK(AD83),\"\",IF(COUNT(AD83:AM83)<>10,NA(),IF(ASTM(AI83,0)=0,0,CT83*ASTM(AM83,0)/(CN83))))","v":""}]
[null,null,"City2 Rounded Adjusted FE (Guide) - Alternative Fuel",null,{"$f":"IF($J$6=\"HD 2b/3\",NA(),ASTM($D$23,0))","v":{"$error":"#N/A"}},{"$f":"IF($J$6=\"HD 2b/3\",NA(),ASTM($D$22,0))","v":{"$error":"#N/A"}},null,null,null,null,null,null,null,null,null,null,26,null,null,null,null,null,null,null,null,{"$f":"IF(ISBLANK(R84),\"\",IF(OR($J$6=\"HD 2b/3\",COUNT(R84:W84)<>6,$AA$95<>\"Yes\",$AA$97<>\"Yes\"),NA(),IF(ASTM(W84,0)=0,0,ASTM((51740000*$T$94*$T$95)/((($T$94*U84)+(0.429*V84)+(0.273*W84))*((0.6*$T$95*$T$96)+5471)),1))))","v":""},{"$f":"IF(ISBLANK(R84),\"\",IF(OR(AND($J$6<>\"HD 2b/3\",COUNT(R84:W84)<>6),AND($J$6=\"HD 2b/3\",COUNT(R84)+COUNT(W84)<>2),$AA$95<>\"Yes\",$AA$97<>\"Yes\"),NA(),IF(ASTM(W84,0)=0,0,IF($J$6=\"HD 2b/3\",W84,ASTM((($T$94/0.273)*U84)+(1.571*V84)+W84,0)))))","v":""},null,26,null,null,null,null,null,null,null,null,{"$f":"IF(ISBLANK(AD84),\"\",IF(OR($J$6=\"HD 2b/3\",COUNT(AD84:AI84)<>6,$AM$47<>\"Yes\",$AM$49<>\"Yes\"),NA(),IF(ASTM(AI84,0)=0,0,ASTM((51740000*$AF$46*$AF$47)/((($AF$46*AG84)+(0.429*AH84)+(0.273*AI84))*((0.6*$AF$47*$AF$48)+5471)),1))))","v":""},{"$f":"IF(ISBLANK(AD84),\"\",IF(OR(AND($J$6<>\"HD 2b/3\",COUNT(AD84:AI84)<>6),AND($J$6=\"HD 2b/3\",COUNT(AD84)+COUNT(AI84)<>2),$AM$95<>\"Yes\",$AM$97<>\"Yes\"),NA(),IF(ASTM(AI84,0)=0,0,IF($J$6=\"HD 2b/3\",AI84,ASTM((($AF$94/0.273)*AG84)+(1.571*AH84)+AI84,0)))))","v":""},null,null,null,"Adjusted Fuel Economy (MPG) [4]",{"$f":"IF($J$6=\"HD 2b/3\",NA(),IFERROR(ASTM(1/ ( AY64 + (1-AR81)/N60),4),0))","v":{"$error":"#N/A"}},{"$f":"IF($J$6=\"HD 2b/3\",NA(),IFERROR(ASTM(1/ ( AZ64 + (1-AS81)/O60),4),0))","v":{"$error":"#N/A"}},{"$f":"IF($J$6=\"HD 2b/3\",NA(),IFERROR(ASTM(1/(0.55/AR84+0.45/AS84),4),0))","v":{"$error":"#N/A"}},null,null,null,"DRIVING DISTANCE VALUES","CITY","HIGHWAY",null,null,null,26,{"$f":"IF(ISBLANK(R84),\"\",IF(COUNT(R84:AA84)<>10,NA(),IF(ASTM(W84,0)=0,0,IFERROR(ASTM(R84,3)/ASTM(Z84,1),0))))","v":""},{"$f":"IF(ISBLANK(R84),\"\",IF(COUNT(R84:AA84)<>10,NA(),IF(W84=0,0,ASTM(ASTM(W84,0)*ASTM(R84,3),0))))","v":""},{"$f":"IF(ISBLANK(R84),\"\",IF(COUNT(R84:AA84)<>10,NA(),ASTM(S84,3)-ASTM(S83,3)))","v":""},{"$f":"IF(ISBLANK(R84),\"\",IF(COUNT(R84:AA84)<>10,NA(),ASTM(BG84*ASTM(T84,2),1)))","v":""},{"$f":"IF(ISBLANK(R84),\"\",IF(COUNT(R84:AA84)<>10,NA(),ASTM(ASTM($Y$94,4)*1000*(BH84/$AY$61),1)))","v":""},"",{"$f":"IF(ISBLANK(R84),\"\",IF(COUNT(R84:AA84)<>10,NA(),BI84/(33705*ASTM(R84,3))))","v":""},"",{"$f":"IF(ISBLANK(R84),\"\",IFERROR(ASTM(cityfuf(BJ84)-cityfuf(BJ83),3),\"\"))","v":""},{"$f":"IF(ISBLANK(R84),\"\",IF(OR(ISNUMBER(R84)=FALSE,ISNUMBER(AA84)=FALSE),NA(),IF(ASTM(W84,0)=0,0,BM84*ASTM(AA84,0))))","v":""},"",{"$f":"IF(ISBLANK(R84),\"\",IF(COUNT(R84:AA84)<>10,NA(),BL84*ASTM(R84,3)))","v":""},"",{"$f":"IF(ISBLANK(R84),\"\",IF(COUNT(R84:AA84)<>10,NA(),BQ84*ASTM(R84,3)))","v":""},"",{"$f":"IF(ISBLANK(R84),\"\",IF(COUNT(R84:AA84)<>10,NA(),ASTM(mdiuf(BS84),3)-ASTM(mdiuf(BS83),3)))","v":""},{"$f":"IF(ISBLANK(R84),\"\",IF(COUNT(R84:AA84)<>10,NA(),IF(ASTM(W84,0)=0,0,BT84*ASTM(W84,0)/(BQ84))))","v":""},"",{"$f":"IF(ISBLANK(R84),\"\",IF(COUNT(R84:AA84)<>10,NA(),ASTM(cityfufalt(BS84)-cityfufalt(BS83),3)))","v":""},"",{"$f":"IF(ISBLANK(R84),\"\",IF(COUNT(R84:AA84)<>10,NA(),IF(ASTM(W84,0)=0,0,BW84*ASTM(AA84,0)/(BQ84))))","v":""},null,26,{"$f":"IF(ISBLANK(AD84),\"\",IF(COUNT(AD84:AM84)<>10,NA(),IF(ASTM(AI84,0)=0,0,ASTM(AD84,3)/ASTM(AL84,1))))","v":""},{"$f":"IF(ISBLANK(AD84),\"\",IF(COUNT(AD84:AM84)<>10,NA(),IF(ASTM(AI84,0)=0,0,ASTM(ASTM(AI84,0)*ASTM(AD84,3),0))))","v":""},{"$f":"IF(ISBLANK(AD84),\"\",IF(COUNT(AD84:AM84)<>10,NA(),ASTM(AE84,3)-ASTM(AE83,3)))","v":""},{"$f":"IF(ISBLANK(AD84),\"\",IF(COUNT(AD84:AM84)<>10,NA(),ASTM(CD84*ASTM(AF84,2),1)))","v":""},{"$f":"IF(ISBLANK(AD84),\"\",IF(COUNT(AD84:AM84)<>10,NA(),ASTM(ASTM($AK$94,4)*1000*(CE84/$AZ$61),1)))","v":""},"",{"$f":"IF(ISBLANK(AD84),\"\",IF(COUNT(AD84:AM84)<>10,NA(),CF84/(33705*ASTM(AD84,3))))","v":""},"",{"$f":"IF(ISBLANK(AD84),\"\",ASTM(highwayfuf(CG84)-highwayfuf(CG83),3))","v":""},{"$f":"IF(ISBLANK(AD84),\"\",IF(OR(ISNUMBER(AD84)=FALSE,ISNUMBER(AM84)=FALSE),NA(),IF(ASTM(AI84,0)=0,0,CJ84*ASTM(AM84,0))))","v":""},"",{"$f":"IF(ISBLANK(AD84),\"\",IF(COUNT(AD84:AM84)<>10,NA(),CI84*ASTM(AD84,3)))","v":""},"",{"$f":"IF(ISBLANK(AD84),\"\",IF(COUNT(AD84:AM84)<>10,NA(),CN84*ASTM(AD84,3)))","v":""},"",{"$f":"IF(ISBLANK(AD84),\"\",IF(COUNT(AD84:AM84)<>10,NA(),ASTM(mdiuf(CP84)-mdiuf(CP83),3)))","v":""},{"$f":"IF(ISBLANK(AD84),\"\",IF(COUNT(AD84:AM84)<>10,NA(),IF(ASTM(AI84,0)=0,0,CQ84*ASTM(AI84,0)/(CN84))))","v":""},"",{"$f":"IF(ISBLANK(AD84),\"\",IF(COUNT(AD84:AM84)<>10,NA(),ASTM(highwayfufalt(CP84)-highwayfufalt(CP83),3)))","v":""},"",{"$f":"IF(ISBLANK(AD84),\"\",IF(COUNT(AD84:AM84)<>10,NA(),IF(ASTM(AI84,0)=0,0,CT84*ASTM(AM84,0)/(CN84))))","v":""}]
[null,null,"Hwy2 Rounded Adjusted Fuel FE (Guide) - Alternative Fuel",null,{"$f":"IF($J$6=\"HD 2b/3\",NA(),ASTM($E$23,0))","v":{"$error":"#N/A"}},{"$f":"IF($J$6=\"HD 2b/3\",NA(),ASTM($E$22,0))","v":{"$error":"#N/A"}},null,null,null,null,null,null,null,null,null,null,27,null,null,null,null,null,null,null,null,{"$f":"IF(ISBLANK(R85),\"\",IF(OR($J$6=\"HD 2b/3\",COUNT(R85:W85)<>6,$AA$95<>\"Yes\",$AA$97<>\"Yes\"),NA(),IF(ASTM(W85,0)=0,0,ASTM((51740000*$T$94*$T$95)/((($T$94*U85)+(0.429*V85)+(0.273*W85))*((0.6*$T$95*$T$96)+5471)),1))))","v":""},{"$f":"IF(ISBLANK(R85),\"\",IF(OR(AND($J$6<>\"HD 2b/3\",COUNT(R85:W85)<>6),AND($J$6=\"HD 2b/3\",COUNT(R85)+COUNT(W85)<>2),$AA$95<>\"Yes\",$AA$97<>\"Yes\"),NA(),IF(ASTM(W85,0)=0,0,IF($J$6=\"HD 2b/3\",W85,ASTM((($T$94/0.273)*U85)+(1.571*V85)+W85,0)))))","v":""},null,27,null,null,null,null,null,null,null,null,{"$f":"IF(ISBLANK(AD85),\"\",IF(OR($J$6=\"HD 2b/3\",COUNT(AD85:AI85)<>6,$AM$47<>\"Yes\",$AM$49<>\"Yes\"),NA(),IF(ASTM(AI85,0)=0,0,ASTM((51740000*$AF$46*$AF$47)/((($AF$46*AG85)+(0.429*AH85)+(0.273*AI85))*((0.6*$AF$47*$AF$48)+5471)),1))))","v":""},{"$f":"IF(ISBLANK(AD85),\"\",IF(OR(AND($J$6<>\"HD 2b/3\",COUNT(AD85:AI85)<>6),AND($J$6=\"HD 2b/3\",COUNT(AD85)+COUNT(AI85)<>2),$AM$95<>\"Yes\",$AM$97<>\"Yes\"),NA(),IF(ASTM(AI85,0)=0,0,IF($J$6=\"HD 2b/3\",AI85,ASTM((($AF$94/0.273)*AG85)+(1.571*AH85)+AI85,0)))))","v":""},null,null,null,"Adjusted GHG (g/mi) [1]",{"$f":"IF($J$6=\"HD 2b/3\",NA(),IFERROR(ASTM(  AY76    +(1-AR81)*ASTM(N63,1),1),0))","v":{"$error":"#N/A"}},{"$f":"IF($J$6=\"HD 2b/3\",NA(),IFERROR(ASTM(  AZ76    +(1-AS81)*ASTM(O63,1),1),0))","v":{"$error":"#N/A"}},{"$f":"IF($J$6=\"HD 2b/3\",NA(),IFERROR(ASTM(0.55*AR85+0.45*AS85,1),0))","v":{"$error":"#N/A"}},null,null,null,"CD Equivalent All-Electric Range (EAER), Unadjusted (mi) [3]",{"$f":"IF($J$6=\"HD 2b/3\",NA(),ASTM(AY54*((N61-AY72)/N61),3))","v":{"$error":"#N/A"}},{"$f":"IF($J$6=\"HD 2b/3\",NA(),ASTM(AZ54*((O61-AZ72)/O61),3))","v":{"$error":"#N/A"}},null,null,null,27,{"$f":"IF(ISBLANK(R85),\"\",IF(COUNT(R85:AA85)<>10,NA(),IF(ASTM(W85,0)=0,0,IFERROR(ASTM(R85,3)/ASTM(Z85,1),0))))","v":""},{"$f":"IF(ISBLANK(R85),\"\",IF(COUNT(R85:AA85)<>10,NA(),IF(W85=0,0,ASTM(ASTM(W85,0)*ASTM(R85,3),0))))","v":""},{"$f":"IF(ISBLANK(R85),\"\",IF(COUNT(R85:AA85)<>10,NA(),ASTM(S85,3)-ASTM(S84,3)))","v":""},{"$f":"IF(ISBLANK(R85),\"\",IF(COUNT(R85:AA85)<>10,NA(),ASTM(BG85*ASTM(T85,2),1)))","v":""},{"$f":"IF(ISBLANK(R85),\"\",IF(COUNT(R85:AA85)<>10,NA(),ASTM(ASTM($Y$94,4)*1000*(BH85/$AY$61),1)))","v":""},"",{"$f":"IF(ISBLANK(R85),\"\",IF(COUNT(R85:AA85)<>10,NA(),BI85/(33705*ASTM(R85,3))))","v":""},"",{"$f":"IF(ISBLANK(R85),\"\",IFERROR(ASTM(cityfuf(BJ85)-cityfuf(BJ84),3),\"\"))","v":""},{"$f":"IF(ISBLANK(R85),\"\",IF(OR(ISNUMBER(R85)=FALSE,ISNUMBER(AA85)=FALSE),NA(),IF(ASTM(W85,0)=0,0,BM85*ASTM(AA85,0))))","v":""},"",{"$f":"IF(ISBLANK(R85),\"\",IF(COUNT(R85:AA85)<>10,NA(),BL85*ASTM(R85,3)))","v":""},"",{"$f":"IF(ISBLANK(R85),\"\",IF(COUNT(R85:AA85)<>10,NA(),BQ85*ASTM(R85,3)))","v":""},"",{"$f":"IF(ISBLANK(R85),\"\",IF(COUNT(R85:AA85)<>10,NA(),ASTM(mdiuf(BS85),3)-ASTM(mdiuf(BS84),3)))","v":""},{"$f":"IF(ISBLANK(R85),\"\",IF(COUNT(R85:AA85)<>10,NA(),IF(ASTM(W85,0)=0,0,BT85*ASTM(W85,0)/(BQ85))))","v":""},"",{"$f":"IF(ISBLANK(R85),\"\",IF(COUNT(R85:AA85)<>10,NA(),ASTM(cityfufalt(BS85)-cityfufalt(BS84),3)))","v":""},"",{"$f":"IF(ISBLANK(R85),\"\",IF(COUNT(R85:AA85)<>10,NA(),IF(ASTM(W85,0)=0,0,BW85*ASTM(AA85,0)/(BQ85))))","v":""},null,27,{"$f":"IF(ISBLANK(AD85),\"\",IF(COUNT(AD85:AM85)<>10,NA(),IF(ASTM(AI85,0)=0,0,ASTM(AD85,3)/ASTM(AL85,1))))","v":""},{"$f":"IF(ISBLANK(AD85),\"\",IF(COUNT(AD85:AM85)<>10,NA(),IF(ASTM(AI85,0)=0,0,ASTM(ASTM(AI85,0)*ASTM(AD85,3),0))))","v":""},{"$f":"IF(ISBLANK(AD85),\"\",IF(COUNT(AD85:AM85)<>10,NA(),ASTM(AE85,3)-ASTM(AE84,3)))","v":""},{"$f":"IF(ISBLANK(AD85),\"\",IF(COUNT(AD85:AM85)<>10,NA(),ASTM(CD85*ASTM(AF85,2),1)))","v":""},{"$f":"IF(ISBLANK(AD85),\"\",IF(COUNT(AD85:AM85)<>10,NA(),ASTM(ASTM($AK$94,4)*1000*(CE85/$AZ$61),1)))","v":""},"",{"$f":"IF(ISBLANK(AD85),\"\",IF(COUNT(AD85:AM85)<>10,NA(),CF85/(33705*ASTM(AD85,3))))","v":""},"",{"$f":"IF(ISBLANK(AD85),\"\",ASTM(highwayfuf(CG85)-highwayfuf(CG84),3))","v":""},{"$f":"IF(ISBLANK(AD85),\"\",IF(OR(ISNUMBER(AD85)=FALSE,ISNUMBER(AM85)=FALSE),NA(),IF(ASTM(AI85,0)=0,0,CJ85*ASTM(AM85,0))))","v":""},"",{"$f":"IF(ISBLANK(AD85),\"\",IF(COUNT(AD85:AM85)<>10,NA(),CI85*ASTM(AD85,3)))","v":""},"",{"$f":"IF(ISBLANK(AD85),\"\",IF(COUNT(AD85:AM85)<>10,NA(),CN85*ASTM(AD85,3)))","v":""},"",{"$f":"IF(ISBLANK(AD85),\"\",IF(COUNT(AD85:AM85)<>10,NA(),ASTM(mdiuf(CP85)-mdiuf(CP84),3)))","v":""},{"$f":"IF(ISBLANK(AD85),\"\",IF(COUNT(AD85:AM85)<>10,NA(),IF(ASTM(AI85,0)=0,0,CQ85*ASTM(AI85,0)/(CN85))))","v":""},"",{"$f":"IF(ISBLANK(AD85),\"\",IF(COUNT(AD85:AM85)<>10,NA(),ASTM(highwayfufalt(CP85)-highwayfufalt(CP84),3)))","v":""},"",{"$f":"IF(ISBLANK(AD85),\"\",IF(COUNT(AD85:AM85)<>10,NA(),IF(ASTM(AI85,0)=0,0,CT85*ASTM(AM85,0)/(CN85))))","v":""}]
[null,null,"Comb2 Rounded Adjusted Fuel FE (Guide) - Alternative Fuel",null,{"$f":"IF($J$6=\"HD 2b/3\",NA(),$F$23)","v":{"$error":"#N/A"}},{"$f":"IF($J$6=\"HD 2b/3\",NA(),$F$22)","v":{"$error":"#N/A"}},null,null,null,null,null,null,null,null,null,null,28,null,null,null,null,null,null,null,null,{"$f":"IF(ISBLANK(R86),\"\",IF(OR($J$6=\"HD 2b/3\",COUNT(R86:W86)<>6,$AA$95<>\"Yes\",$AA$97<>\"Yes\"),NA(),IF(ASTM(W86,0)=0,0,ASTM((51740000*$T$94*$T$95)/((($T$94*U86)+(0.429*V86)+(0.273*W86))*((0.6*$T$95*$T$96)+5471)),1))))","v":""},{"$f":"IF(ISBLANK(R86),\"\",IF(OR(AND($J$6<>\"HD 2b/3\",COUNT(R86:W86)<>6),AND($J$6=\"HD 2b/3\",COUNT(R86)+COUNT(W86)<>2),$AA$95<>\"Yes\",$AA$97<>\"Yes\"),NA(),IF(ASTM(W86,0)=0,0,IF($J$6=\"HD 2b/3\",W86,ASTM((($T$94/0.273)*U86)+(1.571*V86)+W86,0)))))","v":""},null,28,null,null,null,null,null,null,null,null,{"$f":"IF(ISBLANK(AD86),\"\",IF(OR($J$6=\"HD 2b/3\",COUNT(AD86:AI86)<>6,$AM$47<>\"Yes\",$AM$49<>\"Yes\"),NA(),IF(ASTM(AI86,0)=0,0,ASTM((51740000*$AF$46*$AF$47)/((($AF$46*AG86)+(0.429*AH86)+(0.273*AI86))*((0.6*$AF$47*$AF$48)+5471)),1))))","v":""},{"$f":"IF(ISBLANK(AD86),\"\",IF(OR(AND($J$6<>\"HD 2b/3\",COUNT(AD86:AI86)<>6),AND($J$6=\"HD 2b/3\",COUNT(AD86)+COUNT(AI86)<>2),$AM$95<>\"Yes\",$AM$97<>\"Yes\"),NA(),IF(ASTM(AI86,0)=0,0,IF($J$6=\"HD 2b/3\",AI86,ASTM((($AF$94/0.273)*AG86)+(1.571*AH86)+AI86,0)))))","v":""},null,null,null,null,null,null,null,null,null,null,"Charge-sustaining driving range, adjusted (mi) [3]",{"$f":"IF($J$6=\"HD 2b/3\",NA(),ASTM((ASTM($J$11,1)-AY66)*ASTM(N60,4),3))","v":{"$error":"#N/A"}},{"$f":"IF($J$6=\"HD 2b/3\",NA(),ASTM((ASTM($J$11,1)-AZ66)*ASTM(O60,4),3))","v":{"$error":"#N/A"}},null,null,null,28,{"$f":"IF(ISBLANK(R86),\"\",IF(COUNT(R86:AA86)<>10,NA(),IF(ASTM(W86,0)=0,0,IFERROR(ASTM(R86,3)/ASTM(Z86,1),0))))","v":""},{"$f":"IF(ISBLANK(R86),\"\",IF(COUNT(R86:AA86)<>10,NA(),IF(W86=0,0,ASTM(ASTM(W86,0)*ASTM(R86,3),0))))","v":""},{"$f":"IF(ISBLANK(R86),\"\",IF(COUNT(R86:AA86)<>10,NA(),ASTM(S86,3)-ASTM(S85,3)))","v":""},{"$f":"IF(ISBLANK(R86),\"\",IF(COUNT(R86:AA86)<>10,NA(),ASTM(BG86*ASTM(T86,2),1)))","v":""},{"$f":"IF(ISBLANK(R86),\"\",IF(COUNT(R86:AA86)<>10,NA(),ASTM(ASTM($Y$94,4)*1000*(BH86/$AY$61),1)))","v":""},"",{"$f":"IF(ISBLANK(R86),\"\",IF(COUNT(R86:AA86)<>10,NA(),BI86/(33705*ASTM(R86,3))))","v":""},"",{"$f":"IF(ISBLANK(R86),\"\",IFERROR(ASTM(cityfuf(BJ86)-cityfuf(BJ85),3),\"\"))","v":""},{"$f":"IF(ISBLANK(R86),\"\",IF(OR(ISNUMBER(R86)=FALSE,ISNUMBER(AA86)=FALSE),NA(),IF(ASTM(W86,0)=0,0,BM86*ASTM(AA86,0))))","v":""},"",{"$f":"IF(ISBLANK(R86),\"\",IF(COUNT(R86:AA86)<>10,NA(),BL86*ASTM(R86,3)))","v":""},"",{"$f":"IF(ISBLANK(R86),\"\",IF(COUNT(R86:AA86)<>10,NA(),BQ86*ASTM(R86,3)))","v":""},"",{"$f":"IF(ISBLANK(R86),\"\",IF(COUNT(R86:AA86)<>10,NA(),ASTM(mdiuf(BS86),3)-ASTM(mdiuf(BS85),3)))","v":""},{"$f":"IF(ISBLANK(R86),\"\",IF(COUNT(R86:AA86)<>10,NA(),IF(ASTM(W86,0)=0,0,BT86*ASTM(W86,0)/(BQ86))))","v":""},"",{"$f":"IF(ISBLANK(R86),\"\",IF(COUNT(R86:AA86)<>10,NA(),ASTM(cityfufalt(BS86)-cityfufalt(BS85),3)))","v":""},"",{"$f":"IF(ISBLANK(R86),\"\",IF(COUNT(R86:AA86)<>10,NA(),IF(ASTM(W86,0)=0,0,BW86*ASTM(AA86,0)/(BQ86))))","v":""},null,28,{"$f":"IF(ISBLANK(AD86),\"\",IF(COUNT(AD86:AM86)<>10,NA(),IF(ASTM(AI86,0)=0,0,ASTM(AD86,3)/ASTM(AL86,1))))","v":""},{"$f":"IF(ISBLANK(AD86),\"\",IF(COUNT(AD86:AM86)<>10,NA(),IF(ASTM(AI86,0)=0,0,ASTM(ASTM(AI86,0)*ASTM(AD86,3),0))))","v":""},{"$f":"IF(ISBLANK(AD86),\"\",IF(COUNT(AD86:AM86)<>10,NA(),ASTM(AE86,3)-ASTM(AE85,3)))","v":""},{"$f":"IF(ISBLANK(AD86),\"\",IF(COUNT(AD86:AM86)<>10,NA(),ASTM(CD86*ASTM(AF86,2),1)))","v":""},{"$f":"IF(ISBLANK(AD86),\"\",IF(COUNT(AD86:AM86)<>10,NA(),ASTM(ASTM($AK$94,4)*1000*(CE86/$AZ$61),1)))","v":""},"",{"$f":"IF(ISBLANK(AD86),\"\",IF(COUNT(AD86:AM86)<>10,NA(),CF86/(33705*ASTM(AD86,3))))","v":""},"",{"$f":"IF(ISBLANK(AD86),\"\",ASTM(highwayfuf(CG86)-highwayfuf(CG85),3))","v":""},{"$f":"IF(ISBLANK(AD86),\"\",IF(OR(ISNUMBER(AD86)=FALSE,ISNUMBER(AM86)=FALSE),NA(),IF(ASTM(AI86,0)=0,0,CJ86*ASTM(AM86,0))))","v":""},"",{"$f":"IF(ISBLANK(AD86),\"\",IF(COUNT(AD86:AM86)<>10,NA(),CI86*ASTM(AD86,3)))","v":""},"",{"$f":"IF(ISBLANK(AD86),\"\",IF(COUNT(AD86:AM86)<>10,NA(),CN86*ASTM(AD86,3)))","v":""},"",{"$f":"IF(ISBLANK(AD86),\"\",IF(COUNT(AD86:AM86)<>10,NA(),ASTM(mdiuf(CP86)-mdiuf(CP85),3)))","v":""},{"$f":"IF(ISBLANK(AD86),\"\",IF(COUNT(AD86:AM86)<>10,NA(),IF(ASTM(AI86,0)=0,0,CQ86*ASTM(AI86,0)/(CN86))))","v":""},"",{"$f":"IF(ISBLANK(AD86),\"\",IF(COUNT(AD86:AM86)<>10,NA(),ASTM(highwayfufalt(CP86)-highwayfufalt(CP85),3)))","v":""},"",{"$f":"IF(ISBLANK(AD86),\"\",IF(COUNT(AD86:AM86)<>10,NA(),IF(ASTM(AI86,0)=0,0,CT86*ASTM(AM86,0)/(CN86))))","v":""}]
[null,null,"City2 Unrounded Unadjusted FE - Alternative Fuel",null,{"$f":"IF($J$6=\"HD 2b/3\",NA(),ASTM(IF($N$7+$N$55+$N$103=0,SUM(AY22, AY70,AY118)/(((AY22)<>0)+((AY70)<>0)+((AY118)<>0)),($N$7*(AY22)+$N$55*(AY70)+ $N$103*(AY118))/($N$7+$N$55+$N$103)),1))","v":{"$error":"#N/A"}},{"$f":"IF($J$6=\"HD 2b/3\",NA(),ASTM(IF($N$7+$N$55+$N$103=0,(((AY21)<>0)+((AY69)<>0)+((AY117)<>0))/(IFERROR(1/(AY21),0)+IFERROR(1/(AY69),0)+IFERROR(1/(AY117),0)),($N$7+$N$55+$N$103)/(IFERROR($N$7/(AY21),0)+IFERROR($N$55/(AY69),0)+IFERROR($N$103/(AY117),0))),1))","v":{"$error":"#N/A"}},null,null,null,null,null,null,null,null,null,null,29,null,null,null,null,null,null,null,null,{"$f":"IF(ISBLANK(R87),\"\",IF(OR($J$6=\"HD 2b/3\",COUNT(R87:W87)<>6,$AA$95<>\"Yes\",$AA$97<>\"Yes\"),NA(),IF(ASTM(W87,0)=0,0,ASTM((51740000*$T$94*$T$95)/((($T$94*U87)+(0.429*V87)+(0.273*W87))*((0.6*$T$95*$T$96)+5471)),1))))","v":""},{"$f":"IF(ISBLANK(R87),\"\",IF(OR(AND($J$6<>\"HD 2b/3\",COUNT(R87:W87)<>6),AND($J$6=\"HD 2b/3\",COUNT(R87)+COUNT(W87)<>2),$AA$95<>\"Yes\",$AA$97<>\"Yes\"),NA(),IF(ASTM(W87,0)=0,0,IF($J$6=\"HD 2b/3\",W87,ASTM((($T$94/0.273)*U87)+(1.571*V87)+W87,0)))))","v":""},null,29,null,null,null,null,null,null,null,null,{"$f":"IF(ISBLANK(AD87),\"\",IF(OR($J$6=\"HD 2b/3\",COUNT(AD87:AI87)<>6,$AM$47<>\"Yes\",$AM$49<>\"Yes\"),NA(),IF(ASTM(AI87,0)=0,0,ASTM((51740000*$AF$46*$AF$47)/((($AF$46*AG87)+(0.429*AH87)+(0.273*AI87))*((0.6*$AF$47*$AF$48)+5471)),1))))","v":""},{"$f":"IF(ISBLANK(AD87),\"\",IF(OR(AND($J$6<>\"HD 2b/3\",COUNT(AD87:AI87)<>6),AND($J$6=\"HD 2b/3\",COUNT(AD87)+COUNT(AI87)<>2),$AM$95<>\"Yes\",$AM$97<>\"Yes\"),NA(),IF(ASTM(AI87,0)=0,0,IF($J$6=\"HD 2b/3\",AI87,ASTM((($AF$94/0.273)*AG87)+(1.571*AH87)+AI87,0)))))","v":""},null,null,null,null,null,null,null,null,null,null,"UTILITY FACTORS & OTHER METRICS","CITY","HIGHWAY",null,null,null,29,{"$f":"IF(ISBLANK(R87),\"\",IF(COUNT(R87:AA87)<>10,NA(),IF(ASTM(W87,0)=0,0,IFERROR(ASTM(R87,3)/ASTM(Z87,1),0))))","v":""},{"$f":"IF(ISBLANK(R87),\"\",IF(COUNT(R87:AA87)<>10,NA(),IF(W87=0,0,ASTM(ASTM(W87,0)*ASTM(R87,3),0))))","v":""},{"$f":"IF(ISBLANK(R87),\"\",IF(COUNT(R87:AA87)<>10,NA(),ASTM(S87,3)-ASTM(S86,3)))","v":""},{"$f":"IF(ISBLANK(R87),\"\",IF(COUNT(R87:AA87)<>10,NA(),ASTM(BG87*ASTM(T87,2),1)))","v":""},{"$f":"IF(ISBLANK(R87),\"\",IF(COUNT(R87:AA87)<>10,NA(),ASTM(ASTM($Y$94,4)*1000*(BH87/$AY$61),1)))","v":""},"",{"$f":"IF(ISBLANK(R87),\"\",IF(COUNT(R87:AA87)<>10,NA(),BI87/(33705*ASTM(R87,3))))","v":""},"",{"$f":"IF(ISBLANK(R87),\"\",IFERROR(ASTM(cityfuf(BJ87)-cityfuf(BJ86),3),\"\"))","v":""},{"$f":"IF(ISBLANK(R87),\"\",IF(OR(ISNUMBER(R87)=FALSE,ISNUMBER(AA87)=FALSE),NA(),IF(ASTM(W87,0)=0,0,BM87*ASTM(AA87,0))))","v":""},"",{"$f":"IF(ISBLANK(R87),\"\",IF(COUNT(R87:AA87)<>10,NA(),BL87*ASTM(R87,3)))","v":""},"",{"$f":"IF(ISBLANK(R87),\"\",IF(COUNT(R87:AA87)<>10,NA(),BQ87*ASTM(R87,3)))","v":""},"",{"$f":"IF(ISBLANK(R87),\"\",IF(COUNT(R87:AA87)<>10,NA(),ASTM(mdiuf(BS87),3)-ASTM(mdiuf(BS86),3)))","v":""},{"$f":"IF(ISBLANK(R87),\"\",IF(COUNT(R87:AA87)<>10,NA(),IF(ASTM(W87,0)=0,0,BT87*ASTM(W87,0)/(BQ87))))","v":""},"",{"$f":"IF(ISBLANK(R87),\"\",IF(COUNT(R87:AA87)<>10,NA(),ASTM(cityfufalt(BS87)-cityfufalt(BS86),3)))","v":""},"",{"$f":"IF(ISBLANK(R87),\"\",IF(COUNT(R87:AA87)<>10,NA(),IF(ASTM(W87,0)=0,0,BW87*ASTM(AA87,0)/(BQ87))))","v":""},null,29,{"$f":"IF(ISBLANK(AD87),\"\",IF(COUNT(AD87:AM87)<>10,NA(),IF(ASTM(AI87,0)=0,0,ASTM(AD87,3)/ASTM(AL87,1))))","v":""},{"$f":"IF(ISBLANK(AD87),\"\",IF(COUNT(AD87:AM87)<>10,NA(),IF(ASTM(AI87,0)=0,0,ASTM(ASTM(AI87,0)*ASTM(AD87,3),0))))","v":""},{"$f":"IF(ISBLANK(AD87),\"\",IF(COUNT(AD87:AM87)<>10,NA(),ASTM(AE87,3)-ASTM(AE86,3)))","v":""},{"$f":"IF(ISBLANK(AD87),\"\",IF(COUNT(AD87:AM87)<>10,NA(),ASTM(CD87*ASTM(AF87,2),1)))","v":""},{"$f":"IF(ISBLANK(AD87),\"\",IF(COUNT(AD87:AM87)<>10,NA(),ASTM(ASTM($AK$94,4)*1000*(CE87/$AZ$61),1)))","v":""},"",{"$f":"IF(ISBLANK(AD87),\"\",IF(COUNT(AD87:AM87)<>10,NA(),CF87/(33705*ASTM(AD87,3))))","v":""},"",{"$f":"IF(ISBLANK(AD87),\"\",ASTM(highwayfuf(CG87)-highwayfuf(CG86),3))","v":""},{"$f":"IF(ISBLANK(AD87),\"\",IF(OR(ISNUMBER(AD87)=FALSE,ISNUMBER(AM87)=FALSE),NA(),IF(ASTM(AI87,0)=0,0,CJ87*ASTM(AM87,0))))","v":""},"",{"$f":"IF(ISBLANK(AD87),\"\",IF(COUNT(AD87:AM87)<>10,NA(),CI87*ASTM(AD87,3)))","v":""},"",{"$f":"IF(ISBLANK(AD87),\"\",IF(COUNT(AD87:AM87)<>10,NA(),CN87*ASTM(AD87,3)))","v":""},"",{"$f":"IF(ISBLANK(AD87),\"\",IF(COUNT(AD87:AM87)<>10,NA(),ASTM(mdiuf(CP87)-mdiuf(CP86),3)))","v":""},{"$f":"IF(ISBLANK(AD87),\"\",IF(COUNT(AD87:AM87)<>10,NA(),IF(ASTM(AI87,0)=0,0,CQ87*ASTM(AI87,0)/(CN87))))","v":""},"",{"$f":"IF(ISBLANK(AD87),\"\",IF(COUNT(AD87:AM87)<>10,NA(),ASTM(highwayfufalt(CP87)-highwayfufalt(CP86),3)))","v":""},"",{"$f":"IF(ISBLANK(AD87),\"\",IF(COUNT(AD87:AM87)<>10,NA(),IF(ASTM(AI87,0)=0,0,CT87*ASTM(AM87,0)/(CN87))))","v":""}]
[null,null,"Hwy2 Unrounded Unadjusted  FE - Alternative Fuel",null,{"$f":"IF($J$6=\"HD 2b/3\",NA(),ASTM(IF($N$7+$N$55+$N$103=0,SUM(AZ22,AZ70,AZ118)/(((AZ22)<>0)+((AZ70)<>0)+((AZ118)<>0)),($N$7*(AZ22)+$N$55*(AZ70)+ $N$103*(AZ118))/($N$7+$N$55+$N$103)),1))","v":{"$error":"#N/A"}},{"$f":"IF($J$6=\"HD 2b/3\",NA(),ASTM(IF($N$7+$N$55+$N$103=0,(((AZ21)<>0)+((AZ69)<>0)+((AZ117)<>0))/(IFERROR(1/(AZ21),0)+IFERROR(1/(AZ69),0)+IFERROR(1/(AZ117),0)),($N$7+$N$55+$N$103) / (IFERROR($N$7/(AZ21),0)+IFERROR($N$55/(AZ69),0)+IFERROR($N$103/(AZ117),0))),1))","v":{"$error":"#N/A"}},null,null,null,null,null,null,null,null,null,null,30,null,null,null,null,null,null,null,null,{"$f":"IF(ISBLANK(R88),\"\",IF(OR($J$6=\"HD 2b/3\",COUNT(R88:W88)<>6,$AA$95<>\"Yes\",$AA$97<>\"Yes\"),NA(),IF(ASTM(W88,0)=0,0,ASTM((51740000*$T$94*$T$95)/((($T$94*U88)+(0.429*V88)+(0.273*W88))*((0.6*$T$95*$T$96)+5471)),1))))","v":""},{"$f":"IF(ISBLANK(R88),\"\",IF(OR(AND($J$6<>\"HD 2b/3\",COUNT(R88:W88)<>6),AND($J$6=\"HD 2b/3\",COUNT(R88)+COUNT(W88)<>2),$AA$95<>\"Yes\",$AA$97<>\"Yes\"),NA(),IF(ASTM(W88,0)=0,0,IF($J$6=\"HD 2b/3\",W88,ASTM((($T$94/0.273)*U88)+(1.571*V88)+W88,0)))))","v":""},null,30,null,null,null,null,null,null,null,null,{"$f":"IF(ISBLANK(AD88),\"\",IF(OR($J$6=\"HD 2b/3\",COUNT(AD88:AI88)<>6,$AM$47<>\"Yes\",$AM$49<>\"Yes\"),NA(),IF(ASTM(AI88,0)=0,0,ASTM((51740000*$AF$46*$AF$47)/((($AF$46*AG88)+(0.429*AH88)+(0.273*AI88))*((0.6*$AF$47*$AF$48)+5471)),1))))","v":""},{"$f":"IF(ISBLANK(AD88),\"\",IF(OR(AND($J$6<>\"HD 2b/3\",COUNT(AD88:AI88)<>6),AND($J$6=\"HD 2b/3\",COUNT(AD88)+COUNT(AI88)<>2),$AM$95<>\"Yes\",$AM$97<>\"Yes\"),NA(),IF(ASTM(AI88,0)=0,0,IF($J$6=\"HD 2b/3\",AI88,ASTM((($AF$94/0.273)*AG88)+(1.571*AH88)+AI88,0)))))","v":""},null,null,null,null,null,null,null,null,null,null,"CD 55/45 Fleet Utility Factor (FUF) for EAER [3]",{"$f":"IF($J$6=\"HD 2b/3\",NA(),ASTM(cityfuf(AY85),3))","v":{"$error":"#N/A"}},{"$f":"IF($J$6=\"HD 2b/3\",NA(),ASTM(highwayfuf(AZ85),3))","v":{"$error":"#N/A"}},null,null,null,30,{"$f":"IF(ISBLANK(R88),\"\",IF(COUNT(R88:AA88)<>10,NA(),IF(ASTM(W88,0)=0,0,IFERROR(ASTM(R88,3)/ASTM(Z88,1),0))))","v":""},{"$f":"IF(ISBLANK(R88),\"\",IF(COUNT(R88:AA88)<>10,NA(),IF(W88=0,0,ASTM(ASTM(W88,0)*ASTM(R88,3),0))))","v":""},{"$f":"IF(ISBLANK(R88),\"\",IF(COUNT(R88:AA88)<>10,NA(),ASTM(S88,3)-ASTM(S87,3)))","v":""},{"$f":"IF(ISBLANK(R88),\"\",IF(COUNT(R88:AA88)<>10,NA(),ASTM(BG88*ASTM(T88,2),1)))","v":""},{"$f":"IF(ISBLANK(R88),\"\",IF(COUNT(R88:AA88)<>10,NA(),ASTM(ASTM($Y$94,4)*1000*(BH88/$AY$61),1)))","v":""},"",{"$f":"IF(ISBLANK(R88),\"\",IF(COUNT(R88:AA88)<>10,NA(),BI88/(33705*ASTM(R88,3))))","v":""},"",{"$f":"IF(ISBLANK(R88),\"\",IFERROR(ASTM(cityfuf(BJ88)-cityfuf(BJ87),3),\"\"))","v":""},{"$f":"IF(ISBLANK(R88),\"\",IF(OR(ISNUMBER(R88)=FALSE,ISNUMBER(AA88)=FALSE),NA(),IF(ASTM(W88,0)=0,0,BM88*ASTM(AA88,0))))","v":""},"",{"$f":"IF(ISBLANK(R88),\"\",IF(COUNT(R88:AA88)<>10,NA(),BL88*ASTM(R88,3)))","v":""},"",{"$f":"IF(ISBLANK(R88),\"\",IF(COUNT(R88:AA88)<>10,NA(),BQ88*ASTM(R88,3)))","v":""},"",{"$f":"IF(ISBLANK(R88),\"\",IF(COUNT(R88:AA88)<>10,NA(),ASTM(mdiuf(BS88),3)-ASTM(mdiuf(BS87),3)))","v":""},{"$f":"IF(ISBLANK(R88),\"\",IF(COUNT(R88:AA88)<>10,NA(),IF(ASTM(W88,0)=0,0,BT88*ASTM(W88,0)/(BQ88))))","v":""},"",{"$f":"IF(ISBLANK(R88),\"\",IF(COUNT(R88:AA88)<>10,NA(),ASTM(cityfufalt(BS88)-cityfufalt(BS87),3)))","v":""},"",{"$f":"IF(ISBLANK(R88),\"\",IF(COUNT(R88:AA88)<>10,NA(),IF(ASTM(W88,0)=0,0,BW88*ASTM(AA88,0)/(BQ88))))","v":""},null,30,{"$f":"IF(ISBLANK(AD88),\"\",IF(COUNT(AD88:AM88)<>10,NA(),IF(ASTM(AI88,0)=0,0,ASTM(AD88,3)/ASTM(AL88,1))))","v":""},{"$f":"IF(ISBLANK(AD88),\"\",IF(COUNT(AD88:AM88)<>10,NA(),IF(ASTM(AI88,0)=0,0,ASTM(ASTM(AI88,0)*ASTM(AD88,3),0))))","v":""},{"$f":"IF(ISBLANK(AD88),\"\",IF(COUNT(AD88:AM88)<>10,NA(),ASTM(AE88,3)-ASTM(AE87,3)))","v":""},{"$f":"IF(ISBLANK(AD88),\"\",IF(COUNT(AD88:AM88)<>10,NA(),ASTM(CD88*ASTM(AF88,2),1)))","v":""},{"$f":"IF(ISBLANK(AD88),\"\",IF(COUNT(AD88:AM88)<>10,NA(),ASTM(ASTM($AK$94,4)*1000*(CE88/$AZ$61),1)))","v":""},"",{"$f":"IF(ISBLANK(AD88),\"\",IF(COUNT(AD88:AM88)<>10,NA(),CF88/(33705*ASTM(AD88,3))))","v":""},"",{"$f":"IF(ISBLANK(AD88),\"\",ASTM(highwayfuf(CG88)-highwayfuf(CG87),3))","v":""},{"$f":"IF(ISBLANK(AD88),\"\",IF(OR(ISNUMBER(AD88)=FALSE,ISNUMBER(AM88)=FALSE),NA(),IF(ASTM(AI88,0)=0,0,CJ88*ASTM(AM88,0))))","v":""},"",{"$f":"IF(ISBLANK(AD88),\"\",IF(COUNT(AD88:AM88)<>10,NA(),CI88*ASTM(AD88,3)))","v":""},"",{"$f":"IF(ISBLANK(AD88),\"\",IF(COUNT(AD88:AM88)<>10,NA(),CN88*ASTM(AD88,3)))","v":""},"",{"$f":"IF(ISBLANK(AD88),\"\",IF(COUNT(AD88:AM88)<>10,NA(),ASTM(mdiuf(CP88)-mdiuf(CP87),3)))","v":""},{"$f":"IF(ISBLANK(AD88),\"\",IF(COUNT(AD88:AM88)<>10,NA(),IF(ASTM(AI88,0)=0,0,CQ88*ASTM(AI88,0)/(CN88))))","v":""},"",{"$f":"IF(ISBLANK(AD88),\"\",IF(COUNT(AD88:AM88)<>10,NA(),ASTM(highwayfufalt(CP88)-highwayfufalt(CP87),3)))","v":""},"",{"$f":"IF(ISBLANK(AD88),\"\",IF(COUNT(AD88:AM88)<>10,NA(),IF(ASTM(AI88,0)=0,0,CT88*ASTM(AM88,0)/(CN88))))","v":""}]
[null,null,"Comb2 Unrounded Unadjusted FE - Alternative Fuel",null,{"$f":"IF($J$6=\"HD 2b/3\",NA(),ASTM(0.55*E87+0.45*E88,4))","v":{"$error":"#N/A"}},{"$f":"IF($J$6=\"HD 2b/3\",NA(),ASTM(1/(0.55/F87+0.45/F88),4))","v":{"$error":"#N/A"}},null,null,null,null,null,null,null,null,null,null,31,null,null,null,null,null,null,null,null,{"$f":"IF(ISBLANK(R89),\"\",IF(OR($J$6=\"HD 2b/3\",COUNT(R89:W89)<>6,$AA$95<>\"Yes\",$AA$97<>\"Yes\"),NA(),IF(ASTM(W89,0)=0,0,ASTM((51740000*$T$94*$T$95)/((($T$94*U89)+(0.429*V89)+(0.273*W89))*((0.6*$T$95*$T$96)+5471)),1))))","v":""},{"$f":"IF(ISBLANK(R89),\"\",IF(OR(AND($J$6<>\"HD 2b/3\",COUNT(R89:W89)<>6),AND($J$6=\"HD 2b/3\",COUNT(R89)+COUNT(W89)<>2),$AA$95<>\"Yes\",$AA$97<>\"Yes\"),NA(),IF(ASTM(W89,0)=0,0,IF($J$6=\"HD 2b/3\",W89,ASTM((($T$94/0.273)*U89)+(1.571*V89)+W89,0)))))","v":""},null,31,null,null,null,null,null,null,null,null,{"$f":"IF(ISBLANK(AD89),\"\",IF(OR($J$6=\"HD 2b/3\",COUNT(AD89:AI89)<>6,$AM$47<>\"Yes\",$AM$49<>\"Yes\"),NA(),IF(ASTM(AI89,0)=0,0,ASTM((51740000*$AF$46*$AF$47)/((($AF$46*AG89)+(0.429*AH89)+(0.273*AI89))*((0.6*$AF$47*$AF$48)+5471)),1))))","v":""},{"$f":"IF(ISBLANK(AD89),\"\",IF(OR(AND($J$6<>\"HD 2b/3\",COUNT(AD89:AI89)<>6),AND($J$6=\"HD 2b/3\",COUNT(AD89)+COUNT(AI89)<>2),$AM$95<>\"Yes\",$AM$97<>\"Yes\"),NA(),IF(ASTM(AI89,0)=0,0,IF($J$6=\"HD 2b/3\",AI89,ASTM((($AF$94/0.273)*AG89)+(1.571*AH89)+AI89,0)))))","v":""},null,null,null,null,null,null,null,null,null,null,"FUEL COSTS: PROCESS FOR DERIVING A COMPOSITE CD/CS COST PER MILE","CITY","HIGHWAY",null,null,null,31,{"$f":"IF(ISBLANK(R89),\"\",IF(COUNT(R89:AA89)<>10,NA(),IF(ASTM(W89,0)=0,0,IFERROR(ASTM(R89,3)/ASTM(Z89,1),0))))","v":""},{"$f":"IF(ISBLANK(R89),\"\",IF(COUNT(R89:AA89)<>10,NA(),IF(W89=0,0,ASTM(ASTM(W89,0)*ASTM(R89,3),0))))","v":""},{"$f":"IF(ISBLANK(R89),\"\",IF(COUNT(R89:AA89)<>10,NA(),ASTM(S89,3)-ASTM(S88,3)))","v":""},{"$f":"IF(ISBLANK(R89),\"\",IF(COUNT(R89:AA89)<>10,NA(),ASTM(BG89*ASTM(T89,2),1)))","v":""},{"$f":"IF(ISBLANK(R89),\"\",IF(COUNT(R89:AA89)<>10,NA(),ASTM(ASTM($Y$94,4)*1000*(BH89/$AY$61),1)))","v":""},"",{"$f":"IF(ISBLANK(R89),\"\",IF(COUNT(R89:AA89)<>10,NA(),BI89/(33705*ASTM(R89,3))))","v":""},"",{"$f":"IF(ISBLANK(R89),\"\",IFERROR(ASTM(cityfuf(BJ89)-cityfuf(BJ88),3),\"\"))","v":""},{"$f":"IF(ISBLANK(R89),\"\",IF(OR(ISNUMBER(R89)=FALSE,ISNUMBER(AA89)=FALSE),NA(),IF(ASTM(W89,0)=0,0,BM89*ASTM(AA89,0))))","v":""},"",{"$f":"IF(ISBLANK(R89),\"\",IF(COUNT(R89:AA89)<>10,NA(),BL89*ASTM(R89,3)))","v":""},"",{"$f":"IF(ISBLANK(R89),\"\",IF(COUNT(R89:AA89)<>10,NA(),BQ89*ASTM(R89,3)))","v":""},"",{"$f":"IF(ISBLANK(R89),\"\",IF(COUNT(R89:AA89)<>10,NA(),ASTM(mdiuf(BS89),3)-ASTM(mdiuf(BS88),3)))","v":""},{"$f":"IF(ISBLANK(R89),\"\",IF(COUNT(R89:AA89)<>10,NA(),IF(ASTM(W89,0)=0,0,BT89*ASTM(W89,0)/(BQ89))))","v":""},"",{"$f":"IF(ISBLANK(R89),\"\",IF(COUNT(R89:AA89)<>10,NA(),ASTM(cityfufalt(BS89)-cityfufalt(BS88),3)))","v":""},"",{"$f":"IF(ISBLANK(R89),\"\",IF(COUNT(R89:AA89)<>10,NA(),IF(ASTM(W89,0)=0,0,BW89*ASTM(AA89,0)/(BQ89))))","v":""},null,31,{"$f":"IF(ISBLANK(AD89),\"\",IF(COUNT(AD89:AM89)<>10,NA(),IF(ASTM(AI89,0)=0,0,ASTM(AD89,3)/ASTM(AL89,1))))","v":""},{"$f":"IF(ISBLANK(AD89),\"\",IF(COUNT(AD89:AM89)<>10,NA(),IF(ASTM(AI89,0)=0,0,ASTM(ASTM(AI89,0)*ASTM(AD89,3),0))))","v":""},{"$f":"IF(ISBLANK(AD89),\"\",IF(COUNT(AD89:AM89)<>10,NA(),ASTM(AE89,3)-ASTM(AE88,3)))","v":""},{"$f":"IF(ISBLANK(AD89),\"\",IF(COUNT(AD89:AM89)<>10,NA(),ASTM(CD89*ASTM(AF89,2),1)))","v":""},{"$f":"IF(ISBLANK(AD89),\"\",IF(COUNT(AD89:AM89)<>10,NA(),ASTM(ASTM($AK$94,4)*1000*(CE89/$AZ$61),1)))","v":""},"",{"$f":"IF(ISBLANK(AD89),\"\",IF(COUNT(AD89:AM89)<>10,NA(),CF89/(33705*ASTM(AD89,3))))","v":""},"",{"$f":"IF(ISBLANK(AD89),\"\",ASTM(highwayfuf(CG89)-highwayfuf(CG88),3))","v":""},{"$f":"IF(ISBLANK(AD89),\"\",IF(OR(ISNUMBER(AD89)=FALSE,ISNUMBER(AM89)=FALSE),NA(),IF(ASTM(AI89,0)=0,0,CJ89*ASTM(AM89,0))))","v":""},"",{"$f":"IF(ISBLANK(AD89),\"\",IF(COUNT(AD89:AM89)<>10,NA(),CI89*ASTM(AD89,3)))","v":""},"",{"$f":"IF(ISBLANK(AD89),\"\",IF(COUNT(AD89:AM89)<>10,NA(),CN89*ASTM(AD89,3)))","v":""},"",{"$f":"IF(ISBLANK(AD89),\"\",IF(COUNT(AD89:AM89)<>10,NA(),ASTM(mdiuf(CP89)-mdiuf(CP88),3)))","v":""},{"$f":"IF(ISBLANK(AD89),\"\",IF(COUNT(AD89:AM89)<>10,NA(),IF(ASTM(AI89,0)=0,0,CQ89*ASTM(AI89,0)/(CN89))))","v":""},"",{"$f":"IF(ISBLANK(AD89),\"\",IF(COUNT(AD89:AM89)<>10,NA(),ASTM(highwayfufalt(CP89)-highwayfufalt(CP88),3)))","v":""},"",{"$f":"IF(ISBLANK(AD89),\"\",IF(COUNT(AD89:AM89)<>10,NA(),IF(ASTM(AI89,0)=0,0,CT89*ASTM(AM89,0)/(CN89))))","v":""}]
[null,null,"City2 Unrounded Adjusted FE - Alternative Fuel",null,{"$f":"IF($J$6=\"HD 2b/3\",NA(),ASTM($D$23,4))","v":{"$error":"#N/A"}},{"$f":"IF($J$6=\"HD 2b/3\",NA(),ASTM($D$22,4))","v":{"$error":"#N/A"}},null,null,null,null,null,null,null,null,null,null,32,null,null,null,null,null,null,null,null,{"$f":"IF(ISBLANK(R90),\"\",IF(OR($J$6=\"HD 2b/3\",COUNT(R90:W90)<>6,$AA$95<>\"Yes\",$AA$97<>\"Yes\"),NA(),IF(ASTM(W90,0)=0,0,ASTM((51740000*$T$94*$T$95)/((($T$94*U90)+(0.429*V90)+(0.273*W90))*((0.6*$T$95*$T$96)+5471)),1))))","v":""},{"$f":"IF(ISBLANK(R90),\"\",IF(OR(AND($J$6<>\"HD 2b/3\",COUNT(R90:W90)<>6),AND($J$6=\"HD 2b/3\",COUNT(R90)+COUNT(W90)<>2),$AA$95<>\"Yes\",$AA$97<>\"Yes\"),NA(),IF(ASTM(W90,0)=0,0,IF($J$6=\"HD 2b/3\",W90,ASTM((($T$94/0.273)*U90)+(1.571*V90)+W90,0)))))","v":""},null,32,null,null,null,null,null,null,null,null,{"$f":"IF(ISBLANK(AD90),\"\",IF(OR($J$6=\"HD 2b/3\",COUNT(AD90:AI90)<>6,$AM$47<>\"Yes\",$AM$49<>\"Yes\"),NA(),IF(ASTM(AI90,0)=0,0,ASTM((51740000*$AF$46*$AF$47)/((($AF$46*AG90)+(0.429*AH90)+(0.273*AI90))*((0.6*$AF$47*$AF$48)+5471)),1))))","v":""},{"$f":"IF(ISBLANK(AD90),\"\",IF(OR(AND($J$6<>\"HD 2b/3\",COUNT(AD90:AI90)<>6),AND($J$6=\"HD 2b/3\",COUNT(AD90)+COUNT(AI90)<>2),$AM$95<>\"Yes\",$AM$97<>\"Yes\"),NA(),IF(ASTM(AI90,0)=0,0,IF($J$6=\"HD 2b/3\",AI90,ASTM((($AF$94/0.273)*AG90)+(1.571*AH90)+AI90,0)))))","v":""},null,null,null,null,null,null,null,null,null,null,"CD cost per mile - electricity ($/mi) [3]",{"$f":"IF($J$6=\"HD 2b/3\",NA(),ASTM($F$37*$AY$60/100,3))","v":{"$error":"#N/A"}},{"$f":"IF($J$6=\"HD 2b/3\",NA(),ASTM($F$37*$AZ$60/100,3))","v":{"$error":"#N/A"}},null,null,null,32,{"$f":"IF(ISBLANK(R90),\"\",IF(COUNT(R90:AA90)<>10,NA(),IF(ASTM(W90,0)=0,0,IFERROR(ASTM(R90,3)/ASTM(Z90,1),0))))","v":""},{"$f":"IF(ISBLANK(R90),\"\",IF(COUNT(R90:AA90)<>10,NA(),IF(W90=0,0,ASTM(ASTM(W90,0)*ASTM(R90,3),0))))","v":""},{"$f":"IF(ISBLANK(R90),\"\",IF(COUNT(R90:AA90)<>10,NA(),ASTM(S90,3)-ASTM(S89,3)))","v":""},{"$f":"IF(ISBLANK(R90),\"\",IF(COUNT(R90:AA90)<>10,NA(),ASTM(BG90*ASTM(T90,2),1)))","v":""},{"$f":"IF(ISBLANK(R90),\"\",IF(COUNT(R90:AA90)<>10,NA(),ASTM(ASTM($Y$94,4)*1000*(BH90/$AY$61),1)))","v":""},"",{"$f":"IF(ISBLANK(R90),\"\",IF(COUNT(R90:AA90)<>10,NA(),BI90/(33705*ASTM(R90,3))))","v":""},"",{"$f":"IF(ISBLANK(R90),\"\",IFERROR(ASTM(cityfuf(BJ90)-cityfuf(BJ89),3),\"\"))","v":""},{"$f":"IF(ISBLANK(R90),\"\",IF(OR(ISNUMBER(R90)=FALSE,ISNUMBER(AA90)=FALSE),NA(),IF(ASTM(W90,0)=0,0,BM90*ASTM(AA90,0))))","v":""},"",{"$f":"IF(ISBLANK(R90),\"\",IF(COUNT(R90:AA90)<>10,NA(),BL90*ASTM(R90,3)))","v":""},"",{"$f":"IF(ISBLANK(R90),\"\",IF(COUNT(R90:AA90)<>10,NA(),BQ90*ASTM(R90,3)))","v":""},"",{"$f":"IF(ISBLANK(R90),\"\",IF(COUNT(R90:AA90)<>10,NA(),ASTM(mdiuf(BS90),3)-ASTM(mdiuf(BS89),3)))","v":""},{"$f":"IF(ISBLANK(R90),\"\",IF(COUNT(R90:AA90)<>10,NA(),IF(ASTM(W90,0)=0,0,BT90*ASTM(W90,0)/(BQ90))))","v":""},"",{"$f":"IF(ISBLANK(R90),\"\",IF(COUNT(R90:AA90)<>10,NA(),ASTM(cityfufalt(BS90)-cityfufalt(BS89),3)))","v":""},"",{"$f":"IF(ISBLANK(R90),\"\",IF(COUNT(R90:AA90)<>10,NA(),IF(ASTM(W90,0)=0,0,BW90*ASTM(AA90,0)/(BQ90))))","v":""},null,32,{"$f":"IF(ISBLANK(AD90),\"\",IF(COUNT(AD90:AM90)<>10,NA(),IF(ASTM(AI90,0)=0,0,ASTM(AD90,3)/ASTM(AL90,1))))","v":""},{"$f":"IF(ISBLANK(AD90),\"\",IF(COUNT(AD90:AM90)<>10,NA(),IF(ASTM(AI90,0)=0,0,ASTM(ASTM(AI90,0)*ASTM(AD90,3),0))))","v":""},{"$f":"IF(ISBLANK(AD90),\"\",IF(COUNT(AD90:AM90)<>10,NA(),ASTM(AE90,3)-ASTM(AE89,3)))","v":""},{"$f":"IF(ISBLANK(AD90),\"\",IF(COUNT(AD90:AM90)<>10,NA(),ASTM(CD90*ASTM(AF90,2),1)))","v":""},{"$f":"IF(ISBLANK(AD90),\"\",IF(COUNT(AD90:AM90)<>10,NA(),ASTM(ASTM($AK$94,4)*1000*(CE90/$AZ$61),1)))","v":""},"",{"$f":"IF(ISBLANK(AD90),\"\",IF(COUNT(AD90:AM90)<>10,NA(),CF90/(33705*ASTM(AD90,3))))","v":""},"",{"$f":"IF(ISBLANK(AD90),\"\",ASTM(highwayfuf(CG90)-highwayfuf(CG89),3))","v":""},{"$f":"IF(ISBLANK(AD90),\"\",IF(OR(ISNUMBER(AD90)=FALSE,ISNUMBER(AM90)=FALSE),NA(),IF(ASTM(AI90,0)=0,0,CJ90*ASTM(AM90,0))))","v":""},"",{"$f":"IF(ISBLANK(AD90),\"\",IF(COUNT(AD90:AM90)<>10,NA(),CI90*ASTM(AD90,3)))","v":""},"",{"$f":"IF(ISBLANK(AD90),\"\",IF(COUNT(AD90:AM90)<>10,NA(),CN90*ASTM(AD90,3)))","v":""},"",{"$f":"IF(ISBLANK(AD90),\"\",IF(COUNT(AD90:AM90)<>10,NA(),ASTM(mdiuf(CP90)-mdiuf(CP89),3)))","v":""},{"$f":"IF(ISBLANK(AD90),\"\",IF(COUNT(AD90:AM90)<>10,NA(),IF(ASTM(AI90,0)=0,0,CQ90*ASTM(AI90,0)/(CN90))))","v":""},"",{"$f":"IF(ISBLANK(AD90),\"\",IF(COUNT(AD90:AM90)<>10,NA(),ASTM(highwayfufalt(CP90)-highwayfufalt(CP89),3)))","v":""},"",{"$f":"IF(ISBLANK(AD90),\"\",IF(COUNT(AD90:AM90)<>10,NA(),IF(ASTM(AI90,0)=0,0,CT90*ASTM(AM90,0)/(CN90))))","v":""}]
[null,null,"Hwy2 Unrounded Adjusted FE - Alternative Fuel",null,{"$f":"IF($J$6=\"HD 2b/3\",NA(),ASTM($E$23,4))","v":{"$error":"#N/A"}},{"$f":"IF($J$6=\"HD 2b/3\",NA(),ASTM($E$22,4))","v":{"$error":"#N/A"}},null,null,null,null,null,null,null,null,null,null,33,null,null,null,null,null,null,null,null,{"$f":"IF(ISBLANK(R91),\"\",IF(OR($J$6=\"HD 2b/3\",COUNT(R91:W91)<>6,$AA$95<>\"Yes\",$AA$97<>\"Yes\"),NA(),IF(ASTM(W91,0)=0,0,ASTM((51740000*$T$94*$T$95)/((($T$94*U91)+(0.429*V91)+(0.273*W91))*((0.6*$T$95*$T$96)+5471)),1))))","v":""},{"$f":"IF(ISBLANK(R91),\"\",IF(OR(AND($J$6<>\"HD 2b/3\",COUNT(R91:W91)<>6),AND($J$6=\"HD 2b/3\",COUNT(R91)+COUNT(W91)<>2),$AA$95<>\"Yes\",$AA$97<>\"Yes\"),NA(),IF(ASTM(W91,0)=0,0,IF($J$6=\"HD 2b/3\",W91,ASTM((($T$94/0.273)*U91)+(1.571*V91)+W91,0)))))","v":""},null,33,null,null,null,null,null,null,null,null,{"$f":"IF(ISBLANK(AD91),\"\",IF(OR($J$6=\"HD 2b/3\",COUNT(AD91:AI91)<>6,$AM$47<>\"Yes\",$AM$49<>\"Yes\"),NA(),IF(ASTM(AI91,0)=0,0,ASTM((51740000*$AF$46*$AF$47)/((($AF$46*AG91)+(0.429*AH91)+(0.273*AI91))*((0.6*$AF$47*$AF$48)+5471)),1))))","v":""},{"$f":"IF(ISBLANK(AD91),\"\",IF(OR(AND($J$6<>\"HD 2b/3\",COUNT(AD91:AI91)<>6),AND($J$6=\"HD 2b/3\",COUNT(AD91)+COUNT(AI91)<>2),$AM$95<>\"Yes\",$AM$97<>\"Yes\"),NA(),IF(ASTM(AI91,0)=0,0,IF($J$6=\"HD 2b/3\",AI91,ASTM((($AF$94/0.273)*AG91)+(1.571*AH91)+AI91,0)))))","v":""},null,null,null,null,null,null,null,null,null,null,"CD cost per mile - gasoline ($/mi) [3]",{"$f":"IF($J$6=\"HD 2b/3\",NA(),ASTM($F$36*((SUMIF(BD59:BD93,\"<=\" & (AY82-1),BE59:BE93) + AY81*SUMIF(BD59:BD93,\"=\" & (AY82-1),BE59:BE93))/AY55),3))","v":{"$error":"#N/A"}},{"$f":"IF($J$6=\"HD 2b/3\",NA(),ASTM($F$36*((SUMIF(CA59:CA93,\"<=\" & (AZ82-1),CB59:CB93) + AZ81*SUMIF(CA59:CA93,\"=\" & (AZ82-1),CB59:CB93))/AZ55),3))","v":{"$error":"#N/A"}},null,null,null,33,{"$f":"IF(ISBLANK(R91),\"\",IF(COUNT(R91:AA91)<>10,NA(),IF(ASTM(W91,0)=0,0,IFERROR(ASTM(R91,3)/ASTM(Z91,1),0))))","v":""},{"$f":"IF(ISBLANK(R91),\"\",IF(COUNT(R91:AA91)<>10,NA(),IF(W91=0,0,ASTM(ASTM(W91,0)*ASTM(R91,3),0))))","v":""},{"$f":"IF(ISBLANK(R91),\"\",IF(COUNT(R91:AA91)<>10,NA(),ASTM(S91,3)-ASTM(S90,3)))","v":""},{"$f":"IF(ISBLANK(R91),\"\",IF(COUNT(R91:AA91)<>10,NA(),ASTM(BG91*ASTM(T91,2),1)))","v":""},{"$f":"IF(ISBLANK(R91),\"\",IF(COUNT(R91:AA91)<>10,NA(),ASTM(ASTM($Y$94,4)*1000*(BH91/$AY$61),1)))","v":""},"",{"$f":"IF(ISBLANK(R91),\"\",IF(COUNT(R91:AA91)<>10,NA(),BI91/(33705*ASTM(R91,3))))","v":""},"",{"$f":"IF(ISBLANK(R91),\"\",IFERROR(ASTM(cityfuf(BJ91)-cityfuf(BJ90),3),\"\"))","v":""},{"$f":"IF(ISBLANK(R91),\"\",IF(OR(ISNUMBER(R91)=FALSE,ISNUMBER(AA91)=FALSE),NA(),IF(ASTM(W91,0)=0,0,BM91*ASTM(AA91,0))))","v":""},"",{"$f":"IF(ISBLANK(R91),\"\",IF(COUNT(R91:AA91)<>10,NA(),BL91*ASTM(R91,3)))","v":""},"",{"$f":"IF(ISBLANK(R91),\"\",IF(COUNT(R91:AA91)<>10,NA(),BQ91*ASTM(R91,3)))","v":""},"",{"$f":"IF(ISBLANK(R91),\"\",IF(COUNT(R91:AA91)<>10,NA(),ASTM(mdiuf(BS91),3)-ASTM(mdiuf(BS90),3)))","v":""},{"$f":"IF(ISBLANK(R91),\"\",IF(COUNT(R91:AA91)<>10,NA(),IF(ASTM(W91,0)=0,0,BT91*ASTM(W91,0)/(BQ91))))","v":""},"",{"$f":"IF(ISBLANK(R91),\"\",IF(COUNT(R91:AA91)<>10,NA(),ASTM(cityfufalt(BS91)-cityfufalt(BS90),3)))","v":""},"",{"$f":"IF(ISBLANK(R91),\"\",IF(COUNT(R91:AA91)<>10,NA(),IF(ASTM(W91,0)=0,0,BW91*ASTM(AA91,0)/(BQ91))))","v":""},null,33,{"$f":"IF(ISBLANK(AD91),\"\",IF(COUNT(AD91:AM91)<>10,NA(),IF(ASTM(AI91,0)=0,0,ASTM(AD91,3)/ASTM(AL91,1))))","v":""},{"$f":"IF(ISBLANK(AD91),\"\",IF(COUNT(AD91:AM91)<>10,NA(),IF(ASTM(AI91,0)=0,0,ASTM(ASTM(AI91,0)*ASTM(AD91,3),0))))","v":""},{"$f":"IF(ISBLANK(AD91),\"\",IF(COUNT(AD91:AM91)<>10,NA(),ASTM(AE91,3)-ASTM(AE90,3)))","v":""},{"$f":"IF(ISBLANK(AD91),\"\",IF(COUNT(AD91:AM91)<>10,NA(),ASTM(CD91*ASTM(AF91,2),1)))","v":""},{"$f":"IF(ISBLANK(AD91),\"\",IF(COUNT(AD91:AM91)<>10,NA(),ASTM(ASTM($AK$94,4)*1000*(CE91/$AZ$61),1)))","v":""},"",{"$f":"IF(ISBLANK(AD91),\"\",IF(COUNT(AD91:AM91)<>10,NA(),CF91/(33705*ASTM(AD91,3))))","v":""},"",{"$f":"IF(ISBLANK(AD91),\"\",ASTM(highwayfuf(CG91)-highwayfuf(CG90),3))","v":""},{"$f":"IF(ISBLANK(AD91),\"\",IF(OR(ISNUMBER(AD91)=FALSE,ISNUMBER(AM91)=FALSE),NA(),IF(ASTM(AI91,0)=0,0,CJ91*ASTM(AM91,0))))","v":""},"",{"$f":"IF(ISBLANK(AD91),\"\",IF(COUNT(AD91:AM91)<>10,NA(),CI91*ASTM(AD91,3)))","v":""},"",{"$f":"IF(ISBLANK(AD91),\"\",IF(COUNT(AD91:AM91)<>10,NA(),CN91*ASTM(AD91,3)))","v":""},"",{"$f":"IF(ISBLANK(AD91),\"\",IF(COUNT(AD91:AM91)<>10,NA(),ASTM(mdiuf(CP91)-mdiuf(CP90),3)))","v":""},{"$f":"IF(ISBLANK(AD91),\"\",IF(COUNT(AD91:AM91)<>10,NA(),IF(ASTM(AI91,0)=0,0,CQ91*ASTM(AI91,0)/(CN91))))","v":""},"",{"$f":"IF(ISBLANK(AD91),\"\",IF(COUNT(AD91:AM91)<>10,NA(),ASTM(highwayfufalt(CP91)-highwayfufalt(CP90),3)))","v":""},"",{"$f":"IF(ISBLANK(AD91),\"\",IF(COUNT(AD91:AM91)<>10,NA(),IF(ASTM(AI91,0)=0,0,CT91*ASTM(AM91,0)/(CN91))))","v":""}]
[null,null,"Cmb2 Unrounded Adjusted  FE - Alternative Fuel",null,{"$f":"IF($J$6=\"HD 2b/3\",NA(),ASTM(0.55*D23+0.45*E23,4))","v":{"$error":"#N/A"}},{"$f":"IF($J$6=\"HD 2b/3\",NA(),ASTM(1/(0.55/D22+0.45/E22),4))","v":{"$error":"#N/A"}},null,null,null,null,null,null,null,null,null,null,34,null,null,null,null,null,null,null,null,{"$f":"IF(ISBLANK(R92),\"\",IF(OR($J$6=\"HD 2b/3\",COUNT(R92:W92)<>6,$AA$95<>\"Yes\",$AA$97<>\"Yes\"),NA(),IF(ASTM(W92,0)=0,0,ASTM((51740000*$T$94*$T$95)/((($T$94*U92)+(0.429*V92)+(0.273*W92))*((0.6*$T$95*$T$96)+5471)),1))))","v":""},{"$f":"IF(ISBLANK(R92),\"\",IF(OR(AND($J$6<>\"HD 2b/3\",COUNT(R92:W92)<>6),AND($J$6=\"HD 2b/3\",COUNT(R92)+COUNT(W92)<>2),$AA$95<>\"Yes\",$AA$97<>\"Yes\"),NA(),IF(ASTM(W92,0)=0,0,IF($J$6=\"HD 2b/3\",W92,ASTM((($T$94/0.273)*U92)+(1.571*V92)+W92,0)))))","v":""},null,34,null,null,null,null,null,null,null,null,{"$f":"IF(ISBLANK(AD92),\"\",IF(OR($J$6=\"HD 2b/3\",COUNT(AD92:AI92)<>6,$AM$47<>\"Yes\",$AM$49<>\"Yes\"),NA(),IF(ASTM(AI92,0)=0,0,ASTM((51740000*$AF$46*$AF$47)/((($AF$46*AG92)+(0.429*AH92)+(0.273*AI92))*((0.6*$AF$47*$AF$48)+5471)),1))))","v":""},{"$f":"IF(ISBLANK(AD92),\"\",IF(OR(AND($J$6<>\"HD 2b/3\",COUNT(AD92:AI92)<>6),AND($J$6=\"HD 2b/3\",COUNT(AD92)+COUNT(AI92)<>2),$AM$95<>\"Yes\",$AM$97<>\"Yes\"),NA(),IF(ASTM(AI92,0)=0,0,IF($J$6=\"HD 2b/3\",AI92,ASTM((($AF$94/0.273)*AG92)+(1.571*AH92)+AI92,0)))))","v":""},null,null,null,null,null,null,null,null,null,null,"CD total cost per mile ($/mi) [3]",{"$f":"IF($J$6=\"HD 2b/3\",NA(),ASTM(AY91+AY90,3))","v":{"$error":"#N/A"}},{"$f":"IF($J$6=\"HD 2b/3\",NA(),ASTM(AZ91+AZ90,3))","v":{"$error":"#N/A"}},null,null,null,34,{"$f":"IF(ISBLANK(R92),\"\",IF(COUNT(R92:AA92)<>10,NA(),IF(ASTM(W92,0)=0,0,IFERROR(ASTM(R92,3)/ASTM(Z92,1),0))))","v":""},{"$f":"IF(ISBLANK(R92),\"\",IF(COUNT(R92:AA92)<>10,NA(),IF(W92=0,0,ASTM(ASTM(W92,0)*ASTM(R92,3),0))))","v":""},{"$f":"IF(ISBLANK(R92),\"\",IF(COUNT(R92:AA92)<>10,NA(),ASTM(S92,3)-ASTM(S91,3)))","v":""},{"$f":"IF(ISBLANK(R92),\"\",IF(COUNT(R92:AA92)<>10,NA(),ASTM(BG92*ASTM(T92,2),1)))","v":""},{"$f":"IF(ISBLANK(R92),\"\",IF(COUNT(R92:AA92)<>10,NA(),ASTM(ASTM($Y$94,4)*1000*(BH92/$AY$61),1)))","v":""},"",{"$f":"IF(ISBLANK(R92),\"\",IF(COUNT(R92:AA92)<>10,NA(),BI92/(33705*ASTM(R92,3))))","v":""},"",{"$f":"IF(ISBLANK(R92),\"\",IFERROR(ASTM(cityfuf(BJ92)-cityfuf(BJ91),3),\"\"))","v":""},{"$f":"IF(ISBLANK(R92),\"\",IF(OR(ISNUMBER(R92)=FALSE,ISNUMBER(AA92)=FALSE),NA(),IF(ASTM(W92,0)=0,0,BM92*ASTM(AA92,0))))","v":""},"",{"$f":"IF(ISBLANK(R92),\"\",IF(COUNT(R92:AA92)<>10,NA(),BL92*ASTM(R92,3)))","v":""},"",{"$f":"IF(ISBLANK(R92),\"\",IF(COUNT(R92:AA92)<>10,NA(),BQ92*ASTM(R92,3)))","v":""},"",{"$f":"IF(ISBLANK(R92),\"\",IF(COUNT(R92:AA92)<>10,NA(),ASTM(mdiuf(BS92),3)-ASTM(mdiuf(BS91),3)))","v":""},{"$f":"IF(ISBLANK(R92),\"\",IF(COUNT(R92:AA92)<>10,NA(),IF(ASTM(W92,0)=0,0,BT92*ASTM(W92,0)/(BQ92))))","v":""},"",{"$f":"IF(ISBLANK(R92),\"\",IF(COUNT(R92:AA92)<>10,NA(),ASTM(cityfufalt(BS92)-cityfufalt(BS91),3)))","v":""},"",{"$f":"IF(ISBLANK(R92),\"\",IF(COUNT(R92:AA92)<>10,NA(),IF(ASTM(W92,0)=0,0,BW92*ASTM(AA92,0)/(BQ92))))","v":""},null,34,{"$f":"IF(ISBLANK(AD92),\"\",IF(COUNT(AD92:AM92)<>10,NA(),IF(ASTM(AI92,0)=0,0,ASTM(AD92,3)/ASTM(AL92,1))))","v":""},{"$f":"IF(ISBLANK(AD92),\"\",IF(COUNT(AD92:AM92)<>10,NA(),IF(ASTM(AI92,0)=0,0,ASTM(ASTM(AI92,0)*ASTM(AD92,3),0))))","v":""},{"$f":"IF(ISBLANK(AD92),\"\",IF(COUNT(AD92:AM92)<>10,NA(),ASTM(AE92,3)-ASTM(AE91,3)))","v":""},{"$f":"IF(ISBLANK(AD92),\"\",IF(COUNT(AD92:AM92)<>10,NA(),ASTM(CD92*ASTM(AF92,2),1)))","v":""},{"$f":"IF(ISBLANK(AD92),\"\",IF(COUNT(AD92:AM92)<>10,NA(),ASTM(ASTM($AK$94,4)*1000*(CE92/$AZ$61),1)))","v":""},"",{"$f":"IF(ISBLANK(AD92),\"\",IF(COUNT(AD92:AM92)<>10,NA(),CF92/(33705*ASTM(AD92,3))))","v":""},"",{"$f":"IF(ISBLANK(AD92),\"\",ASTM(highwayfuf(CG92)-highwayfuf(CG91),3))","v":""},{"$f":"IF(ISBLANK(AD92),\"\",IF(OR(ISNUMBER(AD92)=FALSE,ISNUMBER(AM92)=FALSE),NA(),IF(ASTM(AI92,0)=0,0,CJ92*ASTM(AM92,0))))","v":""},"",{"$f":"IF(ISBLANK(AD92),\"\",IF(COUNT(AD92:AM92)<>10,NA(),CI92*ASTM(AD92,3)))","v":""},"",{"$f":"IF(ISBLANK(AD92),\"\",IF(COUNT(AD92:AM92)<>10,NA(),CN92*ASTM(AD92,3)))","v":""},"",{"$f":"IF(ISBLANK(AD92),\"\",IF(COUNT(AD92:AM92)<>10,NA(),ASTM(mdiuf(CP92)-mdiuf(CP91),3)))","v":""},{"$f":"IF(ISBLANK(AD92),\"\",IF(COUNT(AD92:AM92)<>10,NA(),IF(ASTM(AI92,0)=0,0,CQ92*ASTM(AI92,0)/(CN92))))","v":""},"",{"$f":"IF(ISBLANK(AD92),\"\",IF(COUNT(AD92:AM92)<>10,NA(),ASTM(highwayfufalt(CP92)-highwayfufalt(CP91),3)))","v":""},"",{"$f":"IF(ISBLANK(AD92),\"\",IF(COUNT(AD92:AM92)<>10,NA(),IF(ASTM(AI92,0)=0,0,CT92*ASTM(AM92,0)/(CN92))))","v":""}]
[null,null,"Charge-depleting CO2",null,null,"g/mi",null,null,null,null,null,null,null,null,null,null,35,null,null,null,null,null,null,null,null,{"$f":"IF(ISBLANK(R93),\"\",IF(OR($J$6=\"HD 2b/3\",COUNT(R93:W93)<>6,$AA$95<>\"Yes\",$AA$97<>\"Yes\"),NA(),IF(ASTM(W93,0)=0,0,ASTM((51740000*$T$94*$T$95)/((($T$94*U93)+(0.429*V93)+(0.273*W93))*((0.6*$T$95*$T$96)+5471)),1))))","v":""},{"$f":"IF(ISBLANK(R93),\"\",IF(OR(AND($J$6<>\"HD 2b/3\",COUNT(R93:W93)<>6),AND($J$6=\"HD 2b/3\",COUNT(R93)+COUNT(W93)<>2),$AA$95<>\"Yes\",$AA$97<>\"Yes\"),NA(),IF(ASTM(W93,0)=0,0,IF($J$6=\"HD 2b/3\",W93,ASTM((($T$94/0.273)*U93)+(1.571*V93)+W93,0)))))","v":""},null,35,null,null,null,null,null,null,null,null,{"$f":"IF(ISBLANK(AD93),\"\",IF(OR($J$6=\"HD 2b/3\",COUNT(AD93:AI93)<>6,$AM$47<>\"Yes\",$AM$49<>\"Yes\"),NA(),IF(ASTM(AI93,0)=0,0,ASTM((51740000*$AF$46*$AF$47)/((($AF$46*AG93)+(0.429*AH93)+(0.273*AI93))*((0.6*$AF$47*$AF$48)+5471)),1))))","v":""},{"$f":"IF(ISBLANK(AD93),\"\",IF(OR(AND($J$6<>\"HD 2b/3\",COUNT(AD93:AI93)<>6),AND($J$6=\"HD 2b/3\",COUNT(AD93)+COUNT(AI93)<>2),$AM$95<>\"Yes\",$AM$97<>\"Yes\"),NA(),IF(ASTM(AI93,0)=0,0,IF($J$6=\"HD 2b/3\",AI93,ASTM((($AF$94/0.273)*AG93)+(1.571*AH93)+AI93,0)))))","v":""},null,null,null,null,null,null,null,null,null,null,"CS cost per mile ($/mi) [3]",{"$f":"IF($J$6=\"HD 2b/3\",NA(),ASTM($F$36/ASTM(N60,4),3))","v":{"$error":"#N/A"}},{"$f":"IF($J$6=\"HD 2b/3\",NA(),ASTM($F$36/ASTM(O60,4),3))","v":{"$error":"#N/A"}},null,null,null,35,{"$f":"IF(ISBLANK(R93),\"\",IF(COUNT(R93:AA93)<>10,NA(),IF(ASTM(W93,0)=0,0,IFERROR(ASTM(R93,3)/ASTM(Z93,1),0))))","v":""},{"$f":"IF(ISBLANK(R93),\"\",IF(COUNT(R93:AA93)<>10,NA(),IF(W93=0,0,ASTM(ASTM(W93,0)*ASTM(R93,3),0))))","v":""},{"$f":"IF(ISBLANK(R93),\"\",IF(COUNT(R93:AA93)<>10,NA(),ASTM(S93,3)-ASTM(S92,3)))","v":""},{"$f":"IF(ISBLANK(R93),\"\",IF(COUNT(R93:AA93)<>10,NA(),ASTM(BG93*ASTM(T93,2),1)))","v":""},{"$f":"IF(ISBLANK(R93),\"\",IF(COUNT(R93:AA93)<>10,NA(),ASTM(ASTM($Y$94,4)*1000*(BH93/$AY$61),1)))","v":""},"",{"$f":"IF(ISBLANK(R93),\"\",IF(COUNT(R93:AA93)<>10,NA(),BI93/(33705*ASTM(R93,3))))","v":""},"",{"$f":"IF(ISBLANK(R93),\"\",IFERROR(ASTM(cityfuf(BJ93)-cityfuf(BJ92),3),\"\"))","v":""},{"$f":"IF(ISBLANK(R93),\"\",IF(OR(ISNUMBER(R93)=FALSE,ISNUMBER(AA93)=FALSE),NA(),IF(ASTM(W93,0)=0,0,BM93*ASTM(AA93,0))))","v":""},"",{"$f":"IF(ISBLANK(R93),\"\",IF(COUNT(R93:AA93)<>10,NA(),BL93*ASTM(R93,3)))","v":""},"",{"$f":"IF(ISBLANK(R93),\"\",IF(COUNT(R93:AA93)<>10,NA(),BQ93*ASTM(R93,3)))","v":""},"",{"$f":"IF(ISBLANK(R93),\"\",IF(COUNT(R93:AA93)<>10,NA(),ASTM(mdiuf(BS93),3)-ASTM(mdiuf(BS92),3)))","v":""},{"$f":"IF(ISBLANK(R93),\"\",IF(COUNT(R93:AA93)<>10,NA(),IF(ASTM(W93,0)=0,0,BT93*ASTM(W93,0)/(BQ93))))","v":""},"",{"$f":"IF(ISBLANK(R93),\"\",IF(COUNT(R93:AA93)<>10,NA(),ASTM(cityfufalt(BS93)-cityfufalt(BS92),3)))","v":""},"",{"$f":"IF(ISBLANK(R93),\"\",IF(COUNT(R93:AA93)<>10,NA(),IF(ASTM(W93,0)=0,0,BW93*ASTM(AA93,0)/(BQ93))))","v":""},null,35,{"$f":"IF(ISBLANK(AD93),\"\",IF(COUNT(AD93:AM93)<>10,NA(),IF(ASTM(AI93,0)=0,0,ASTM(AD93,3)/ASTM(AL93,1))))","v":""},{"$f":"IF(ISBLANK(AD93),\"\",IF(COUNT(AD93:AM93)<>10,NA(),IF(ASTM(AI93,0)=0,0,ASTM(ASTM(AI93,0)*ASTM(AD93,3),0))))","v":""},{"$f":"IF(ISBLANK(AD93),\"\",IF(COUNT(AD93:AM93)<>10,NA(),ASTM(AE93,3)-ASTM(AE92,3)))","v":""},{"$f":"IF(ISBLANK(AD93),\"\",IF(COUNT(AD93:AM93)<>10,NA(),ASTM(CD93*ASTM(AF93,2),1)))","v":""},{"$f":"IF(ISBLANK(AD93),\"\",IF(COUNT(AD93:AM93)<>10,NA(),ASTM(ASTM($AK$94,4)*1000*(CE93/$AZ$61),1)))","v":""},"",{"$f":"IF(ISBLANK(AD93),\"\",IF(COUNT(AD93:AM93)<>10,NA(),CF93/(33705*ASTM(AD93,3))))","v":""},"",{"$f":"IF(ISBLANK(AD93),\"\",ASTM(highwayfuf(CG93)-highwayfuf(CG92),3))","v":""},{"$f":"IF(ISBLANK(AD93),\"\",IF(OR(ISNUMBER(AD93)=FALSE,ISNUMBER(AM93)=FALSE),NA(),IF(ASTM(AI93,0)=0,0,CJ93*ASTM(AM93,0))))","v":""},"",{"$f":"IF(ISBLANK(AD93),\"\",IF(COUNT(AD93:AM93)<>10,NA(),CI93*ASTM(AD93,3)))","v":""},"",{"$f":"IF(ISBLANK(AD93),\"\",IF(COUNT(AD93:AM93)<>10,NA(),CN93*ASTM(AD93,3)))","v":""},"",{"$f":"IF(ISBLANK(AD93),\"\",IF(COUNT(AD93:AM93)<>10,NA(),ASTM(mdiuf(CP93)-mdiuf(CP92),3)))","v":""},{"$f":"IF(ISBLANK(AD93),\"\",IF(COUNT(AD93:AM93)<>10,NA(),IF(ASTM(AI93,0)=0,0,CQ93*ASTM(AI93,0)/(CN93))))","v":""},"",{"$f":"IF(ISBLANK(AD93),\"\",IF(COUNT(AD93:AM93)<>10,NA(),ASTM(highwayfufalt(CP93)-highwayfufalt(CP92),3)))","v":""},"",{"$f":"IF(ISBLANK(AD93),\"\",IF(COUNT(AD93:AM93)<>10,NA(),IF(ASTM(AI93,0)=0,0,CT93*ASTM(AM93,0)/(CN93))))","v":""}]
[null,null,"City CO2 Rounded Adjusted",null,null,{"$f":"IF($J$6=\"HD 2b/3\",NA(),ASTM(IF($N$7+$N$55+$N$103=0,   (AY25+AY73+AY121)/ ((AY7<>0)+(AY55<>0)+(AY103<>0)),    (IFERROR($N$7*AY25,0)+IFERROR($N$55*AY73,0)+IFERROR($N$103*AY121,0)) /  ($N$7+$N$55+$N$103)   ),0))","v":{"$error":"#N/A"}},null,null,null,null,null,null,null,null,null,null,null,null,"CWF [3]:",0.86499999999999999,null,null,null,"Recharge energy (AC kilowatt-hours) [4]:",12.015000000000001,null,"Fuel?",null,null,null,"CWF [3]:",0.86499999999999999,null,null,null,"Recharge energy (AC kilowatt-hours) [4]:",12.023999999999999,null,"Fuel?",null,null,null,null,null,null,null,null,null,null,"Composite CD/CS cost ($/mi) [3]",{"$f":"IF($J$6=\"HD 2b/3\",NA(),ASTM(AY79*AY92+(1-AY79)*AY93,3))","v":{"$error":"#N/A"}},{"$f":"IF($J$6=\"HD 2b/3\",NA(),ASTM(AZ79*AZ92+(1-AZ79)*AZ93,3))","v":{"$error":"#N/A"}}]
[null,null,"Hwy CO2 Rounded Adjusted",null,null,{"$f":"IF($J$6=\"HD 2b/3\",NA(),ASTM(IF($N$7+$N$55+$N$103=0,   (AZ25+AZ73+AZ121)/ ((AZ7<>0)+(AZ55<>0)+(AZ103<>0)),    (IFERROR($N$7*AZ25,0)+IFERROR($N$55*AZ73,0)+IFERROR($N$103*AZ121,0)) /  ($N$7+$N$55+$N$103)   ),0))","v":{"$error":"#N/A"}},null,null,null,null,null,null,null,null,null,null,null,null,"SG [3]:",0.73499999999999999,null,null,null,"All-Electric Range (Miles) [3]:",59.055,null,{"$f":"IF(AND(ISNUMBER(T94),ISNUMBER(T95),ISNUMBER(T96),T94>0.5,T94<1,T95>0.5,T95<1,T96>17000,T96<20000),\"Yes\",\"No\")","v":"Yes"},null,null,null,"SG [3]:",0.73499999999999999,null,null,null,"All-Electric Range (Miles) [3]:",47.262,null,{"$f":"IF(AND(ISNUMBER(AF94),ISNUMBER(AF95),ISNUMBER(AF96),AF94>0.5,AF94<1,AF95>0.5,AF95<1,AF96>17000,AF96<20000),\"Yes\",\"No\")","v":"Yes"},null,null,null,null,null,null,null,null,null,null,"COMPOSITE CD/CS FUEL ECONOMY AND CO2 VALUES, ADJUSTED","CITY","HIGHWAY"]
[null,null,"Comb CO2 Rounded Adjusted",null,null,{"$f":"IF($J$6=\"HD 2b/3\",NA(),ASTM(0.55*(IF($N$7+$N$55+$N$103=0,   (AY25+AY73+AY121)/ ((AY7<>0)+(AY55<>0)+(AY103<>0)),    (IFERROR($N$7*AY25,0)+IFERROR($N$55*AY73,0)+IFERROR($N$103*AY121,0)) /  ($N$7+$N$55+$N$103)   ))+0.45*(IF($N$7+$N$55+$N$103=0,   (AZ25+AZ73+AZ121)/ ((AZ7<>0)+(AZ55<>0)+(AZ103<>0)),    (IFERROR($N$7*AZ25,0)+IFERROR($N$55*AZ73,0)+IFERROR($N$103*AZ121,0)) /  ($N$7+$N$55+$N$103)   )),0))","v":{"$error":"#N/A"}},null,null,null,null,null,null,null,null,null,null,null,null,"NHV [0]:",18487,null,null,null,"Transition Cycle [0]:",8,null,"Footer?",null,null,null,"NHV [0]:",18487,null,null,null,"Transition Cycle [0]:",5,null,"Footer?",null,null,null,null,null,null,null,null,null,null,"Composite CD/CS CO2, adjusted (g/mi) [1]",{"$f":"IF($J$6=\"HD 2b/3\",NA(),ASTM(IFERROR(AY74+(1-AY80)*N63,#VALUE!),1))","v":{"$error":"#N/A"}},{"$f":"IF($J$6=\"HD 2b/3\",NA(),ASTM(IFERROR(AZ74+(1-AZ80)*O63,#VALUE!),1))","v":{"$error":"#N/A"}}]
[null,null,"*City CO2 Unrounded Unadjusted ",null,null,{"$f":"IF($J$6=\"HD 2b/3\",NA(),ASTM(IF($N$7+$N$55+$N$103=0,   (IFERROR(AY24,0)+IFERROR(AY72,0)+IFERROR(AY120,0))/ ((AY6<>0)+(AY54<>0)+(AY102<>0)),    (IFERROR($N$7*AY24,0)+IFERROR($N$55*AY72,0)+IFERROR($N$103*AY120,0)) /  ($N$7+$N$55+$N$103)   ),1))","v":{"$error":"#N/A"}},null,null,null,null,null,null,null,null,null,null,null,null,null,null,null,null,null,"Recharge time (optional)(Hours) [2]:",6.18,null,{"$f":"IF(AND(ISNUMBER(Y94),ISNUMBER(Y95),ISNUMBER(Y96),Y94>0,Y95>0,Y96>0,Y96<35),\"Yes\",\"No\")","v":"Yes"},null,null,null,null,null,null,null,null,"Recharge time (optional)(Hours) [2]:",7.48,null,{"$f":"IF(AND(ISNUMBER(AK94),ISNUMBER(AK95),ISNUMBER(AK96),AK94>0,AK95>0,AK96>0,AK96<35),\"Yes\",\"No\")","v":"Yes"},null,null,null,null,null,null,null,null,null,null,"Composite CD/CS Fuel Economy, adjusted (MPG) [4]",{"$f":"IF($J$6=\"HD 2b/3\",NA(),IFERROR(ASTM(IFERROR(1/(AY65+(1-AY80)/N60),#VALUE!),4),0))","v":{"$error":"#N/A"}},{"$f":"IF($J$6=\"HD 2b/3\",NA(),IFERROR(ASTM(IFERROR(1/(AZ65+(1-AZ80)/O60),#VALUE!),4),0))","v":{"$error":"#N/A"}}]
[null,null,"*Hwy CO2 Unrounded Unadjusted ",null,null,{"$f":"IF($J$6=\"HD 2b/3\",NA(),ASTM(IF($N$7+$N$55+$N$103=0,   (IFERROR(AZ24,0)+IFERROR(AZ72,0)+IFERROR(AZ120,0))/ ((AZ6<>0)+(AZ54<>0)+(AZ102<>0)),    (IFERROR($N$7*AZ24,0)+IFERROR($N$55*AZ72,0)+IFERROR($N$103*AZ120,0)) /  ($N$7+$N$55+$N$103)   ),1))","v":{"$error":"#N/A"}}]
[null,null,"*Comb CO2 Unrounded Unadjusted ",null,null,{"$f":"IF($J$6=\"HD 2b/3\",NA(),ASTM(0.55*(IF($N$7+$N$55+$N$103=0,   (IFERROR(AY24,0)+IFERROR(AY72,0)+IFERROR(AY120,0))/ ((AY6<>0)+(AY54<>0)+(AY102<>0)),    (IFERROR($N$7*AY24,0)+IFERROR($N$55*AY72,0)+IFERROR($N$103*AY120,0)) /  ($N$7+$N$55+$N$103)   ))+0.45*(IF($N$7+$N$55+$N$103=0,   (IFERROR(AZ24,0)+IFERROR(AZ72,0)+IFERROR(AZ120,0))/ ((AZ6<>0)+(AZ54<>0)+(AZ102<>0)),    (IFERROR($N$7*AZ24,0)+IFERROR($N$55*AZ72,0)+IFERROR($N$103*AZ120,0)) /  ($N$7+$N$55+$N$103)   )),1))","v":{"$error":"#N/A"}},null,null,null,null,null,null,"Test Set #3",null,null,null,"Test Set #3",null,null,null,null,null,null,null,null,null,null,null,"Test Set #3",null,null,null,null,null,null,null,null,null,null,null,null,null,"Results from Test Set #3:",{"$f":"N100","v":0},null,null,null,null,"INTERMEDIATE CALCULATIONS AND INPUTS",null,"Test Set #3:",{"$f":"N101","v":0}]
[null,null,"*City CO2 Unrounded Adjusted",null,null,{"$f":"IF($J$6=\"HD 2b/3\",NA(),ASTM(IF($N$7+$N$55+$N$103=0,   (AY25+AY73+AY121)/ ((AY7<>0)+(AY55<>0)+(AY103<>0)),    (IFERROR($N$7*AY25,0)+IFERROR($N$55*AY73,0)+IFERROR($N$103*AY121,0)) /  ($N$7+$N$55+$N$103)   ),1))","v":{"$error":"#N/A"}},null,null,null,null,null,null,null,null,null,null,null,null,null,null,null,null,null,null,null,null,null,null,null,null,null,null,null,null,null,null,null,null,null,null,null,null,"CAFE Values",null,null,null,null,null,"Charge-Depleting (CD) Test Results",null,null,null,null,null,null,"DETAILED CALCULATIONS",null,"UDDS",{"$f":"$AZ99","v":0},null,null,null,null,null,null,null,null,null,null,null,null,null,null,null,null,null,null,null,"DETAILED CALCULATIONS",null,"HFET",{"$f":"AZ99","v":0}]
[null,null,"*Hwy CO2 Unrounded Adjusted",null,null,{"$f":"IF($J$6=\"HD 2b/3\",NA(),ASTM(IF($N$7+$N$55+$N$103=0,   (AZ25+AZ73+AZ121)/ ((AZ7<>0)+(AZ55<>0)+(AZ103<>0)),    (IFERROR($N$7*AZ25,0)+IFERROR($N$55*AZ73,0)+IFERROR($N$103*AZ121,0)) /  ($N$7+$N$55+$N$103)   ),1))","v":{"$error":"#N/A"}},null,null,null,null,null,null,null,null,null,null,"ENTER CHARGE-DEPLETING UDDS (CITY) DATA HERE",null,null,null,null,null,null,null,null,null,null,null,"ENTER CHARGE-DEPLETING HFET (HIGHWAY) DATA HERE",null,null,null,null,null,null,null,null,null,null,null,null,null,"A. PHEV meets dual fuel criteria:","City","Highway","Combined",null,null,null,"DRIVING DISTANCE VALUES","CITY","HIGHWAY",null,null,null,"Cycle No.","Gasoline Consumed","CO2\n[0]","Net Amp-Hours Used Per Cycle [3]","DC Electricity Consumed\n[1]","AC Electricity Consumed\n[1]","Theoretical Cumulative Cycle Distance","Electric Only Fuel Consumption Rate","Total Fuel Consumption Rate (gas + electric)","55/45 City Fleet Utility Factor\n[3]",{"$f":"IF($J$6=\"HD 2b/3\",\"55/45 City FUF\nx\nCREE (CO2)\",\"55/45 City FUF\nx\nCREE\")","v":"55/45 City FUF\nx\nCREE (CO2)"},"55/45 City FUF\nx\nTotal Consumption","Total Fuel Consumption (gas + electric)","5-Cycle Adjustment","Adjusted Cycle Measured Distance","Adjusted Cycle Theoretical Cumulative Distance","MDIUF\n[3]","MDIUF\nx\nAdjusted CO2","MDIUF\nx\nAdjusted Total Fuel Consumption","43/57 City Fleet Utility Factor\n[3]","43/57 City FUF x\nAdjusted Total Fuel Consumption Rate","43/57 City FUF\nx\nAdjusted CREE",null,"Cycle No.","Gasoline Consumed","CO2\n[0]","Net Amp-Hours Used Per Cycle [3]","DC Electricity Consumed\n[1]","AC Electricity Consumed\n[1]","Theoretical Cumulative Cycle Distance","Electric Only Fuel Consumption Rate","Total Fuel Consumption Rate (gas + electric)","55/45 Highway Fleet Utility Factor\n[3]",{"$f":"IF($J$6=\"HD 2b/3\",\"55/45 City FUF\nx\nCREE (CO2)\",\"55/45 City FUF\nx\nCREE\")","v":"55/45 City FUF\nx\nCREE (CO2)"},"55/45 Highway FUF\nx\nTotal Consumption","Total Fuel Consumption (gas + electric)","5-Cycle Adjustment","Adjusted Cycle Measured Distance","Adjusted Cycle Theoretical Cumulative Distance","MDIUF\n[3]","MDIUF\nx\nAdjusted CO2","MDIUF\nx\nAdjusted Total Fuel Consumption","43/57 Highway Fleet Utility Factor\n[3]","43/57 Highway FUF x\nAdjusted Total Fuel Consumption Rate","43/57 Highway FUF\nx\nAdjusted CREE"]
[null,null,"*Combined CO2 Unrounded Adjusted",null,null,{"$f":"IF($J$6=\"HD 2b/3\",NA(),ASTM(0.55*(IF($N$7+$N$55+$N$103=0,   (AY25+AY73+AY121)/ ((AY7<>0)+(AY55<>0)+(AY103<>0)),    (IFERROR($N$7*AY25,0)+IFERROR($N$55*AY73,0)+IFERROR($N$103*AY121,0)) /  ($N$7+$N$55+$N$103)   ))+0.45*(IF($N$7+$N$55+$N$103=0,   (AZ25+AZ73+AZ121)/ ((AZ7<>0)+(AZ55<>0)+(AZ103<>0)),    (IFERROR($N$7*AZ25,0)+IFERROR($N$55*AZ73,0)+IFERROR($N$103*AZ103,0)) /  ($N$7+$N$55+$N$103)   )),1))","v":{"$error":"#N/A"}},null,null,null,null,null,null,"Test Set name (e.g., Eco, Power):",null,null,null,"Cycle No.","Cycle/\nPhase\nMeasured\nDistance","Integrated Amp-Hours Electricity Used","Average\nCycle\nVoltage","HC-Total","CO","CO2","Mfr Calc\nFuel\nEconomy","Mfr Calc\nCREE","EPA Calc\n(E0 Gas)\nFuel\nEconomy",{"$f":"IF($J$6=\"HD 2b/3\",\"EPA Calc\n(E0 Gas)\nCREE=CO2\",\"EPA Calc\n(E0 Gas)\nCREE\")","v":"EPA Calc\n(E0 Gas)\nCREE=CO2"},null,"Cycle No.","Cycle/\nPhase\nMeasured\nDistance","Integrated Amp-Hours Electricity Used","Average\nCycle\nVoltage","HC-Total","CO","CO2","Mfr Calc\nFuel\nEconomy","Mfr Calc\nCREE","EPA Calc\n(E0 Gas)\nFuel\nEconomy",{"$f":"IF($J$6=\"HD 2b/3\",\"EPA Calc\n(E0 Gas)\nCREE=CO2\",\"EPA Calc\n(E0 Gas)\nCREE\")","v":"EPA Calc\n(E0 Gas)\nCREE=CO2"},null,null,null," 1. Default 50/50 Composite MPGe [4]",{"$f":"IF($J$6=\"HD 2b/3\",NA(),IFERROR(ASTM(1/(0.5/((82049)/(AY107/AY133))+0.5/N107),4),0))","v":{"$error":"#N/A"}},{"$f":"IF($J$6=\"HD 2b/3\",NA(),IFERROR(ASTM(1/(0.5/((82049)/(AZ107/AZ133))+0.5/O107),4),0))","v":{"$error":"#N/A"}},{"$f":"IF($J$6=\"HD 2b/3\",NA(),IFERROR(ASTM(1/(0.55/AR102+0.45/AS102),4),0))","v":{"$error":"#N/A"}},null,null,null,"CD driving distance (Rcda), unadjusted (miles) [3]",{"$f":"IF($J$6=\"HD 2b/3\",NA(),IFERROR(ASTM(SUMIF(Q107:Q141,\"<=\" & ($AY130-1),R107:R141) + AY129*VLOOKUP($AY130,Q107:R141,2,FALSE),3),0))","v":{"$error":"#N/A"}},{"$f":"IF($J$6=\"HD 2b/3\",NA(),IFERROR(ASTM(SUMIF(AC107:AC141,\"<=\" & ($AZ130-1),AD107:AD141) + AZ129*VLOOKUP($AZ130,AC107:AD141,2,FALSE),3),0))","v":{"$error":"#N/A"}}]
[null,null,"Charge-depleting Driving Range (Adjusted)",null,null,"miles",null,null,null,null,null,null,"Production Volume (projected or actual):",null,null,null,null,null,null,null,null,null,null,null,null,null,null,null,null,null,null,null,null,null,null,null,null,null,null,null,null,null," 2. Optional Utility Factor Composite MPGe [4]",{"$f":"IF($J$6=\"HD 2b/3\",NA(),IFERROR(ASTM(1/(AY136/((82049)/(AY107/AY133))+(1-AY136)/N107), 4),0))","v":{"$error":"#N/A"}},{"$f":"IF($J$6=\"HD 2b/3\",NA(),IFERROR(ASTM(1/(AZ136/((82049)/(AZ107/AZ133))+(1-AZ136)/O107), 4),0))","v":{"$error":"#N/A"}},{"$f":"IF($J$6=\"HD 2b/3\",NA(),IFERROR(ASTM(1/(0.55/AR103+0.45/AS103),4),0))","v":{"$error":"#N/A"}},null,null,null,"CD driving distance (Rcda), adjusted (miles) [3]",{"$f":"IF($J$6=\"HD 2b/3\",NA(),IFERROR(ASTM(SUMIF(BD107:BD141,\"<\"&AY130,BR107:BR141)+AY129*SUMIF(BD107:BD141,\"=\"&AY130,BR107:BR141),3),0))","v":{"$error":"#N/A"}},{"$f":"IF($J$6=\"HD 2b/3\",NA(),IFERROR(ASTM(SUMIF(CA107:CA141,\"<\"&AZ130,CO107:CO141)+AZ129*SUMIF(CA107:CA141,\"=\"&AZ130,CO107:CO141),3),0))","v":{"$error":"#N/A"}}]
[null,null,"City Range on Electricity (miles)",null,null,{"$f":"IF($J$6=\"HD 2b/3\",NA(),ASTM(D19,2))","v":{"$error":"#N/A"}},null,null,null,null,null,null,null,null,null,null,null,null,null,null,null,null,null,null,null,null,null,null,null,null,null,null,null,null,null,null,null,null,null,null,null,null,"B. PHEV does NOT meet dual fuel criteria:","City","Highway","Combined",null,null,null,"CD all-electric driving distance, unadjusted (miles) [3]",{"$f":"IF($J$6=\"HD 2b/3\",NA(), IF(ISNUMBER(Y143), ASTM(Y143,3), 0))","v":{"$error":"#N/A"}},{"$f":"IF($J$6=\"HD 2b/3\",NA(),IF(ISNUMBER(AK143), ASTM(AK143,3), 0))","v":{"$error":"#N/A"}}]
[null,null,"Hwy Range on Electricity (miles)",null,null,{"$f":"IF($J$6=\"HD 2b/3\",NA(),ASTM(E19,2))","v":{"$error":"#N/A"}},null,null,null,null,null,null,"ENTER CHARGE-SUSTAINING TEST RESULTS HERE",null,null,null,null,null,null,null,null,null,null,null,null,null,null,null,null,null,null,null,null,null,null,null,null,null,null,null,null,null,"  1. Utility Factor Composite MPGe [4]",{"$f":"IF($J$6=\"HD 2b/3\",NA(),IFERROR(ASTM(1/ ( AY111 + (1-AY126)/N107),4),0))","v":{"$error":"#N/A"}},{"$f":"IF($J$6=\"HD 2b/3\",NA(),IFERROR(ASTM(1/ ( AZ111 + (1-AZ126)/O107),4),0))","v":{"$error":"#N/A"}},{"$f":"IF($J$6=\"HD 2b/3\",NA(),IFERROR(ASTM(1/(0.55/AR105+0.45/AS105),4),0))","v":{"$error":"#N/A"}},null,null,null,"CD All-Electric Range, adjusted (mi) [3]",{"$f":"IF($J$6=\"HD 2b/3\",NA(),ASTM( 0.7*AY104, 3))","v":{"$error":"#N/A"}},{"$f":"IF($J$6=\"HD 2b/3\",NA(),ASTM( 0.7*AZ104, 3))","v":{"$error":"#N/A"}}]
[null,null,"Combined Range on Electricity as shown on FE Label (miles)",null,null,{"$f":"IF($J$6=\"HD 2b/3\",NA(),F19)","v":{"$error":"#N/A"}},null,null,null,null,null,null,null,"City","Highway",null,"No.","Miles [3]","Amp-hrs [3]","Volts [2]","g/mi [3]","g/mi [2]","g/mi [0]","MPG [1]","g/mi [0]","MPG [1]","g/mi [0]",null,"No.","Miles [3]","Amp-hrs [3]","Volts [2]","g/mi [3]","g/mi [2]","g/mi [0]","MPG [1]","g/mi [0]","MPG [1]","g/mi [0]",null,null,null,"GHG Values","City","Highway","Combined",null,null,null,"FUEL CONSUMPTION & ECONOMY VALUES","CITY","HIGHWAY",null,null,null,"No.","gal","grams","Amp-hours","W-hours","W-hours","mi","gal/mi equiv","gal/mi equiv","UF","UF","gal/mi equiv","gal-equiv","%","miles","miles","UF","g/mi","gal/mi equiv","UF","gal/mi equiv","g/mi",null,"No.","gal","grams","Amp-hours","W-hours","W-hours","mi","gal/mi equiv","gal/mi equiv","UF","UF","gal/mi equiv","gal-equiv","%","miles","miles","UF","g/mi","gal-equiv","UF","gal-equiv","g/mi"]
[null,null,"All-Electric Driving Range (Adjusted)",null,null,"miles",null,null,null,null,null,null,"Fuel Economy, Unadjusted (MPG):",null,null,null,1,null,null,null,null,null,null,null,null,{"$f":"IF(ISBLANK(R107),\"\",IF(OR($J$6=\"HD 2b/3\",COUNT(R107:W107)<>6,$AA$143<>\"Yes\",$AA$145<>\"Yes\"),NA(),IF(ASTM(W107,0)=0,0,ASTM((51740000*$T$142*$T$143)/((($T$142*U107)+(0.429*V107)+(0.273*W107))*((0.6*$T$143*$T$144)+5471)),1))))","v":""},{"$f":"IF(ISBLANK(R107),\"\",IF(OR(AND($J$6<>\"HD 2b/3\",COUNT(R107:W107)<>6),AND($J$6=\"HD 2b/3\",COUNT(R107)+COUNT(W107)<>2),$AA$143<>\"Yes\",$AA$145<>\"Yes\"),NA(),IF(ASTM(W107,0)=0,0,IF($J$6=\"HD 2b/3\",W107,ASTM((($T$142/0.273)*U107)+(1.571*V107)+W107,0)))))","v":""},null,1,null,null,null,null,null,null,null,null,{"$f":"IF(ISBLANK(AD107),\"\",IF(OR($J$6=\"HD 2b/3\",COUNT(AD107:AI107)<>6,$AM$47<>\"Yes\",$AM$49<>\"Yes\"),NA(),IF(ASTM(AI107,0)=0,0,ASTM((51740000*$AF$46*$AF$47)/((($AF$46*AG107)+(0.429*AH107)+(0.273*AI107))*((0.6*$AF$47*$AF$48)+5471)),1))))","v":""},{"$f":"IF(ISBLANK(AD107),\"\",IF(OR(AND($J$6<>\"HD 2b/3\",COUNT(AD107:AI107)<>6),AND($J$6=\"HD 2b/3\",COUNT(AD107)+COUNT(AI107)<>2),$AM$143<>\"Yes\",$AM$145<>\"Yes\"),NA(),IF(ASTM(AI107,0)=0,0,IF($J$6=\"HD 2b/3\",AI107,ASTM((($AF$142/0.273)*AG107)+(1.571*AH107)+AI107,0)))))","v":""},null,null,null,"Composite CREE no DF, (g/mi) [1]",{"$f":"IFERROR(_xlfn.SINGLE(IF(OR(SUM(AA107:AA141)=0,N109=0,ISBLANK(N109), LOOKUP(2,1/(AA107:AA141<>\"\"),ROW(AA107:AA141))<LOOKUP(2,1/(R107:R141<>\"\"),ROW(R107:R141))),\"ERROR\",ASTM(AY123+(1-AY126)*N109,1))),0)","v":0},{"$f":"IFERROR(_xlfn.SINGLE(IF(OR(SUM(AM107:AM141)=0,O109=0,ISBLANK(O109), LOOKUP(2,1/(AM107:AM141<>\"\"),ROW(AM107:AM141))<LOOKUP(2,1/(AD107:AD141<>\"\"),ROW(AD107:AD136))),\"ERROR\",ASTM(AZ123+(1-AZ126)*O109,1))),0)","v":0},{"$f":"IF(OR(ISNUMBER(AR107)=FALSE,ISNUMBER(AS107)=FALSE),NA(),ASTM(0.55*AR107+0.45*AS107,1))","v":0},null,null,"NEW","CD AC electricity consumption (Rcdc), unadjusted (Watt-hours) [1]",{"$f":"IF($J$6=\"HD 2b/3\",NA(),ASTM(SUMIF(BD107:BD141,\"<=\" & AY130,BI107:BI141),1))","v":{"$error":"#N/A"}},{"$f":"IF($J$6=\"HD 2b/3\",NA(),ASTM(SUMIF(CA107:CA141,\"<=\" & AZ130,CF107:CF141),1))","v":{"$error":"#N/A"}},null,null,null,1,{"$f":"IF(ISBLANK(R107),\"\",IF(COUNT(R107:AA107)<>10,NA(),IF(ASTM(W107,0)=0,0,IFERROR(ASTM(R107,3)/ASTM(Z107,1),0))))","v":""},{"$f":"IF(ISBLANK(R107),\"\",IF(COUNT(R107:AA107)<>10,NA(),IF(W107=0,0,ASTM(ASTM(W107,0)*ASTM(R107,3),0))))","v":""},{"$f":"IF(ISBLANK(R107),\"\",IF(COUNT(R107:AA107)<>10,NA(),ASTM(S107,3)))","v":""},{"$f":"IF(ISBLANK(R107),\"\",IF(COUNT(R107:AA107)<>10,NA(),ASTM(BG107*ASTM(T107,2),1)))","v":""},{"$f":"IF(ISBLANK(R107),\"\",IF(COUNT(R107:AA107)<>10,NA(),ASTM(ASTM($Y$142,4)*1000*(BH107/$AY$109),1)))","v":""},{"$f":"IF(ISBLANK(R107),\"\",BD107*7.45)","v":""},{"$f":"IF(ISBLANK(R107),\"\",IF(COUNT(R107:AA107)<>10,NA(),BI107/(33705*ASTM(R107,3))))","v":""},{"$f":"IF(ISBLANK(R107),\"\",IF(COUNT(R107:AA107)<>10,NA(),BK107+BE107/ASTM(R107,3)))","v":""},{"$f":"IF(ISBLANK(R107),\"\",IFERROR(ASTM(cityfuf(BJ107)-0,3),\"\"))","v":""},{"$f":"IF(ISBLANK(R107),\"\",IF(OR(ISNUMBER(R107)=FALSE,ISNUMBER(AA107)=FALSE),NA(),IF(ASTM(W107,0)=0,0,BM107*ASTM(AA107,0))))","v":""},{"$f":"IF(ISBLANK(R107),\"\",IF(COUNT(R107:AA107)<>10,NA(),BL107*BM107))","v":""},{"$f":"IF(ISBLANK(R107),\"\",IF(COUNT(R107:AA107)<>10,NA(),BL107*ASTM(R107,3)))","v":""},{"$f":"IF(ISBLANK(R107),\"\",IF(COUNT(R107:AA107)<>10,NA(),MAX(1/(0.004091*(1/BL107)+1.1601),0.7)))","v":""},{"$f":"IF(ISBLANK(R107),\"\",IF(COUNT(R107:AA107)<>10,NA(),BQ107*ASTM(R107,3)))","v":""},{"$f":"IF(ISBLANK(R107),\"\",IF(COUNT(R107:AA107)<>10,NA(),BQ107*7.45))","v":""},{"$f":"IF(ISBLANK(R107),\"\",IF(COUNT(R107:AA107)<>10,NA(),ASTM(mdiuf(BS107)-0,3)))","v":""},{"$f":"IF(ISBLANK(R107),\"\",IF(COUNT(R107:AA107)<>10,NA(),IF(ASTM(W107,0)=0,0,BT107*ASTM(W107,0)/(BQ107))))","v":""},{"$f":"IF(ISBLANK(R107),\"\",IF(COUNT(R107:AA107)<>10,NA(),BT107*BL107/BQ107))","v":""},{"$f":"IF(ISBLANK(R107),\"\",IF(COUNT(R107:AA107)<>10,NA(),ASTM(cityfufalt(BS107)-0,3)))","v":""},{"$f":"IF(ISBLANK(R107),\"\",IF(COUNT(R107:AA107)<>10,NA(),BW107*BL107/BQ107))","v":""},{"$f":"IF(ISBLANK(R107),\"\",IF(COUNT(R107:AA107)<>10,NA(),IF(ASTM(W107,0)=0,0,BW107*ASTM(AA107,0)/(BQ107))))","v":""},null,1,{"$f":"IF(ISBLANK(AD107),\"\",IF(COUNT(AD107:AM107)<>10,NA(),IF(ASTM(AI107,0)=0,0,ASTM(AD107,3)/ASTM(AL107,1))))","v":""},{"$f":"IF(ISBLANK(AD107),\"\",IF(COUNT(AD107:AM107)<>10,NA(),IF(ASTM(AI107,0)=0,0,ASTM(ASTM(AI107,0)*ASTM(AD107,3),0))))","v":""},{"$f":"IF(ISBLANK(AD107),\"\",IF(COUNT(AD107:AM107)<>10,NA(),ASTM(AE107,3)))","v":""},{"$f":"IF(ISBLANK(AD107),\"\",IF(COUNT(AD107:AM107)<>10,NA(),ASTM(CD107*ASTM(AF107,2),1)))","v":""},{"$f":"IF(ISBLANK(AD107),\"\",IF(COUNT(AD107:AM107)<>10,NA(),ASTM(ASTM($AK$142,4)*1000*(CE107/$AZ$109),1)))","v":""},{"$f":"IF(ISBLANK(AD107),\"\",CA107*10.3)","v":""},{"$f":"IF(ISBLANK(AD107),\"\",IF(COUNT(AD107:AM107)<>10,NA(),CF107/(33705*ASTM(AD107,3))))","v":""},{"$f":"IF(ISBLANK(AD107),\"\",IF(COUNT(AD107:AM107)<>10,NA(),CH107+CB107/ASTM(AD107,3)))","v":""},{"$f":"IF(ISBLANK(AD107),\"\",ASTM(highwayfuf(CG107)-0,3))","v":""},{"$f":"IF(ISBLANK(AD107),\"\",IF(OR(ISNUMBER(AD107)=FALSE,ISNUMBER(AM107)=FALSE),NA(),IF(ASTM(AI107,0)=0,0,CJ107*ASTM(AM107,0))))","v":""},{"$f":"IF(ISBLANK(AD107),\"\",IF(COUNT(AD107:AM107)<>10,NA(),CI107*CJ107))","v":""},{"$f":"IF(ISBLANK(AD107),\"\",IF(COUNT(AD107:AM107)<>10,NA(),CI107*ASTM(AD107,3)))","v":""},{"$f":"IF(ISBLANK(AD107),\"\",IF(COUNT(AD107:AM107)<>10,NA(),MAX(1/(0.003191*(1/CI107)+1.2945),0.7)))","v":""},{"$f":"IF(ISBLANK(AD107),\"\",IF(COUNT(AD107:AM107)<>10,NA(),CN107*ASTM(AD107,3)))","v":""},{"$f":"IF(ISBLANK(AD107),\"\",IF(COUNT(AD107:AM107)<>10,NA(),CN107*10.3))","v":""},{"$f":"IF(ISBLANK(AD107),\"\",IF(COUNT(AD107:AM107)<>10,NA(),ASTM(mdiuf(CP107)-0,3)))","v":""},{"$f":"IF(ISBLANK(AD107),\"\",IF(COUNT(AD107:AM107)<>10,NA(),IF(ASTM(AI107,0)=0,0,CQ107*ASTM(AI107,0)/(CN107))))","v":""},{"$f":"IF(ISBLANK(AD107),\"\",IF(COUNT(AD107:AM107)<>10,NA(),CQ107*CI107/CN107))","v":""},{"$f":"IF(ISBLANK(AD107),\"\",IF(COUNT(AD107:AM107)<>10,NA(),ASTM(highwayfufalt(CP107)-0,3)))","v":""},{"$f":"IF(ISBLANK(AD107),\"\",IF(COUNT(AD107:AM107)<>10,NA(),CT107*CI107/CN107))","v":""},{"$f":"IF(ISBLANK(AD107),\"\",IF(COUNT(AD107:AM107)<>10,NA(),IF(ASTM(AI107,0)=0,0,CT107*ASTM(AM107,0)/(CN107))))","v":""}]
[null,null,"City All-Electric Range",null,null,{"$f":"IF($J$6=\"HD 2b/3\",NA(),ASTM(D20,2))","v":{"$error":"#N/A"}},null,null,null,null,null,null,{"$f":"IF($J$6=\"HD 2b/3\",NA(),\"Fuel Economy, 5-Cycle Adjusted (MPG):\")","v":{"$error":"#N/A"}},null,null,null,2,null,null,null,null,null,null,null,null,{"$f":"IF(ISBLANK(R108),\"\",IF(OR($J$6=\"HD 2b/3\",COUNT(R108:W108)<>6,$AA$143<>\"Yes\",$AA$145<>\"Yes\"),NA(),IF(ASTM(W108,0)=0,0,ASTM((51740000*$T$142*$T$143)/((($T$142*U108)+(0.429*V108)+(0.273*W108))*((0.6*$T$143*$T$144)+5471)),1))))","v":""},{"$f":"IF(ISBLANK(R108),\"\",IF(OR(AND($J$6<>\"HD 2b/3\",COUNT(R108:W108)<>6),AND($J$6=\"HD 2b/3\",COUNT(R108)+COUNT(W108)<>2),$AA$143<>\"Yes\",$AA$145<>\"Yes\"),NA(),IF(ASTM(W108,0)=0,0,IF($J$6=\"HD 2b/3\",W108,ASTM((($T$142/0.273)*U108)+(1.571*V108)+W108,0)))))","v":""},null,2,null,null,null,null,null,null,null,null,{"$f":"IF(ISBLANK(AD108),\"\",IF(OR($J$6=\"HD 2b/3\",COUNT(AD108:AI108)<>6,$AM$47<>\"Yes\",$AM$49<>\"Yes\"),NA(),IF(ASTM(AI108,0)=0,0,ASTM((51740000*$AF$46*$AF$47)/((($AF$46*AG108)+(0.429*AH108)+(0.273*AI108))*((0.6*$AF$47*$AF$48)+5471)),1))))","v":""},{"$f":"IF(ISBLANK(AD108),\"\",IF(OR(AND($J$6<>\"HD 2b/3\",COUNT(AD108:AI108)<>6),AND($J$6=\"HD 2b/3\",COUNT(AD108)+COUNT(AI108)<>2),$AM$143<>\"Yes\",$AM$145<>\"Yes\"),NA(),IF(ASTM(AI108,0)=0,0,IF($J$6=\"HD 2b/3\",AI108,ASTM((($AF$142/0.273)*AG108)+(1.571*AH108)+AI108,0)))))","v":""},null,null,null,"Composite CREE w/DF, (g/mi) [1]",{"$f":"IF(SUM(AA107:AA141)=0,0,IF(ISBLANK($J$14)=TRUE,\"No DF\",IF($J$13=\"Additive\",ASTM((AY123+(1-AY126)*N109),0)+ASTM($J$14,0),IF($J$13=\"Multiplicative\",ASTM(ASTM((AY123+(1-AY126)*N109),0)*$J$14,0),\"Add/Mult?\"))))","v":0},{"$f":"IF(SUM(AM107:AM141)=0,0,IF(ISBLANK($J$15)=TRUE,\"No DF\",IF($J$13=\"Additive\",ASTM((AZ123+(1-AZ126)*O109),0)+ASTM($J$15,0),IF($J$13=\"Multiplicative\",ASTM(ASTM((AZ123+(1-AZ126)*O109),0)*$J$15,0),\"Add/Mult?\"))))","v":0},{"$f":"IF(OR(ISNUMBER(AR108)=FALSE,ISNUMBER(AS108)=FALSE),NA(),ASTM(0.55*AR108+0.45*AS108,1))","v":0},null,null,null,"CD AC electricity consumption rate (Rcda), adjusted  (kW-hr/100mi) [3]",{"$f":"IF($J$6=\"HD 2b/3\",NA(),IFERROR(ASTM(ASTM(Y142,4)*100/AY103,3),0))","v":{"$error":"#N/A"}},{"$f":"IF($J$6=\"HD 2b/3\",NA(),IFERROR(ASTM(ASTM(AK142,4)*100/AZ103,3),0))","v":{"$error":"#N/A"}},null,null,null,2,{"$f":"IF(ISBLANK(R108),\"\",IF(COUNT(R108:AA108)<>10,NA(),IF(ASTM(W108,0)=0,0,IFERROR(ASTM(R108,3)/ASTM(Z108,1),0))))","v":""},{"$f":"IF(ISBLANK(R108),\"\",IF(COUNT(R108:AA108)<>10,NA(),IF(W108=0,0,ASTM(ASTM(W108,0)*ASTM(R108,3),0))))","v":""},{"$f":"IF(ISBLANK(R108),\"\",IF(COUNT(R108:AA108)<>10,NA(),ASTM(S108,3)-ASTM(S107,3)))","v":""},{"$f":"IF(ISBLANK(R108),\"\",IF(COUNT(R108:AA108)<>10,NA(),ASTM(BG108*ASTM(T108,2),1)))","v":""},{"$f":"IF(ISBLANK(R108),\"\",IF(COUNT(R108:AA108)<>10,NA(),ASTM(ASTM($Y$142,4)*1000*(BH108/$AY$109),1)))","v":""},{"$f":"IF(ISBLANK(R108),\"\",BD108*7.45)","v":""},{"$f":"IF(ISBLANK(R108),\"\",IF(COUNT(R108:AA108)<>10,NA(),BI108/(33705*ASTM(R108,3))))","v":""},{"$f":"IF(ISBLANK(R108),\"\",IF(COUNT(R108:AA108)<>10,NA(),BK108+BE108/ASTM(R108,3)))","v":""},{"$f":"IF(ISBLANK(R108),\"\",IFERROR(ASTM(cityfuf(BJ108)-cityfuf(BJ107),3),\"\"))","v":""},{"$f":"IF(ISBLANK(R108),\"\",IF(OR(ISNUMBER(R108)=FALSE,ISNUMBER(AA108)=FALSE),NA(),IF(ASTM(W108,0)=0,0,BM108*ASTM(AA108,0))))","v":""},{"$f":"IF(ISBLANK(R108),\"\",IF(COUNT(R108:AA108)<>10,NA(),BL108*BM108))","v":""},{"$f":"IF(ISBLANK(R108),\"\",IF(COUNT(R108:AA108)<>10,NA(),BL108*ASTM(R108,3)))","v":""},{"$f":"IF(ISBLANK(R108),\"\",IF(COUNT(R108:AA108)<>10,NA(),MAX(1/(0.004091*(1/BL108)+1.1601),0.7)))","v":""},{"$f":"IF(ISBLANK(R108),\"\",IF(COUNT(R108:AA108)<>10,NA(),BQ108*ASTM(R108,3)))","v":""},{"$f":"IF(ISBLANK(R108),\"\",IF(COUNT(R108:AA108)<>10,NA(),BQ108*7.45+BS107))","v":""},{"$f":"IF(ISBLANK(R108),\"\",IF(COUNT(R108:AA108)<>10,NA(),ASTM(mdiuf(BS108),3)-ASTM(mdiuf(BS107),3)))","v":""},{"$f":"IF(ISBLANK(R108),\"\",IF(COUNT(R108:AA108)<>10,NA(),IF(ASTM(W108,0)=0,0,BT108*ASTM(W108,0)/(BQ108))))","v":""},{"$f":"IF(ISBLANK(R108),\"\",IF(COUNT(R108:AA108)<>10,NA(),BT108*BL108/BQ108))","v":""},{"$f":"IF(ISBLANK(R108),\"\",IF(COUNT(R108:AA108)<>10,NA(),ASTM(cityfufalt(BS108)-cityfufalt(BS107),3)))","v":""},{"$f":"IF(ISBLANK(R108),\"\",IF(COUNT(R108:AA108)<>10,NA(),BW108*BL108/BQ108))","v":""},{"$f":"IF(ISBLANK(R108),\"\",IF(COUNT(R108:AA108)<>10,NA(),IF(ASTM(W108,0)=0,0,BW108*ASTM(AA108,0)/(BQ108))))","v":""},null,2,{"$f":"IF(ISBLANK(AD108),\"\",IF(COUNT(AD108:AM108)<>10,NA(),IF(ASTM(AI108,0)=0,0,ASTM(AD108,3)/ASTM(AL108,1))))","v":""},{"$f":"IF(ISBLANK(AD108),\"\",IF(COUNT(AD108:AM108)<>10,NA(),IF(ASTM(AI108,0)=0,0,ASTM(ASTM(AI108,0)*ASTM(AD108,3),0))))","v":""},{"$f":"IF(ISBLANK(AD108),\"\",IF(COUNT(AD108:AM108)<>10,NA(),ASTM(AE108,3)-ASTM(AE107,3)))","v":""},{"$f":"IF(ISBLANK(AD108),\"\",IF(COUNT(AD108:AM108)<>10,NA(),ASTM(CD108*ASTM(AF108,2),1)))","v":""},{"$f":"IF(ISBLANK(AD108),\"\",IF(COUNT(AD108:AM108)<>10,NA(),ASTM(ASTM($AK$142,4)*1000*(CE108/$AZ$109),1)))","v":""},{"$f":"IF(ISBLANK(AD108),\"\",CA108*10.3)","v":""},{"$f":"IF(ISBLANK(AD108),\"\",IF(COUNT(AD108:AM108)<>10,NA(),CF108/(33705*ASTM(AD108,3))))","v":""},"",{"$f":"IF(ISBLANK(AD108),\"\",ASTM(highwayfuf(CG108)-highwayfuf(CG107),3))","v":""},{"$f":"IF(ISBLANK(AD108),\"\",IF(OR(ISNUMBER(AD108)=FALSE,ISNUMBER(AM108)=FALSE),NA(),IF(ASTM(AI108,0)=0,0,CJ108*ASTM(AM108,0))))","v":""},"",{"$f":"IF(ISBLANK(AD108),\"\",IF(COUNT(AD108:AM108)<>10,NA(),CI108*ASTM(AD108,3)))","v":""},"",{"$f":"IF(ISBLANK(AD108),\"\",IF(COUNT(AD108:AM108)<>10,NA(),CN108*ASTM(AD108,3)))","v":""},{"$f":"IF(ISBLANK(AD108),\"\",IF(COUNT(AD108:AM108)<>10,NA(),CN108*10.3+CP107))","v":""},{"$f":"IF(ISBLANK(AD108),\"\",IF(COUNT(AD108:AM108)<>10,NA(),ASTM(mdiuf(CP108)-mdiuf(CP107),3)))","v":""},{"$f":"IF(ISBLANK(AD108),\"\",IF(COUNT(AD108:AM108)<>10,NA(),IF(ASTM(AI108,0)=0,0,CQ108*ASTM(AI108,0)/(CN108))))","v":""},"",{"$f":"IF(ISBLANK(AD108),\"\",IF(COUNT(AD108:AM108)<>10,NA(),ASTM(highwayfufalt(CP108)-highwayfufalt(CP107),3)))","v":""},"",{"$f":"IF(ISBLANK(AD108),\"\",IF(COUNT(AD108:AM108)<>10,NA(),IF(ASTM(AI108,0)=0,0,CT108*ASTM(AM108,0)/(CN108))))","v":""}]
[null,null,"Hwy All-Electric Range",null,null,{"$f":"IF($J$6=\"HD 2b/3\",NA(),ASTM(E20,2))","v":{"$error":"#N/A"}},null,null,null,null,null,null,"CREE (g/mi):",null,null,null,3,null,null,null,null,null,null,null,null,{"$f":"IF(ISBLANK(R109),\"\",IF(OR($J$6=\"HD 2b/3\",COUNT(R109:W109)<>6,$AA$143<>\"Yes\",$AA$145<>\"Yes\"),NA(),IF(ASTM(W109,0)=0,0,ASTM((51740000*$T$142*$T$143)/((($T$142*U109)+(0.429*V109)+(0.273*W109))*((0.6*$T$143*$T$144)+5471)),1))))","v":""},{"$f":"IF(ISBLANK(R109),\"\",IF(OR(AND($J$6<>\"HD 2b/3\",COUNT(R109:W109)<>6),AND($J$6=\"HD 2b/3\",COUNT(R109)+COUNT(W109)<>2),$AA$143<>\"Yes\",$AA$145<>\"Yes\"),NA(),IF(ASTM(W109,0)=0,0,IF($J$6=\"HD 2b/3\",W109,ASTM((($T$142/0.273)*U109)+(1.571*V109)+W109,0)))))","v":""},null,3,null,null,null,null,null,null,null,null,{"$f":"IF(ISBLANK(AD109),\"\",IF(OR($J$6=\"HD 2b/3\",COUNT(AD109:AI109)<>6,$AM$47<>\"Yes\",$AM$49<>\"Yes\"),NA(),IF(ASTM(AI109,0)=0,0,ASTM((51740000*$AF$46*$AF$47)/((($AF$46*AG109)+(0.429*AH109)+(0.273*AI109))*((0.6*$AF$47*$AF$48)+5471)),1))))","v":""},{"$f":"IF(ISBLANK(AD109),\"\",IF(OR(AND($J$6<>\"HD 2b/3\",COUNT(AD109:AI109)<>6),AND($J$6=\"HD 2b/3\",COUNT(AD109)+COUNT(AI109)<>2),$AM$143<>\"Yes\",$AM$145<>\"Yes\"),NA(),IF(ASTM(AI109,0)=0,0,IF($J$6=\"HD 2b/3\",AI109,ASTM((($AF$142/0.273)*AG109)+(1.571*AH109)+AI109,0)))))","v":""},null,null,null,"Label Values (5-Cycle Adjusted)",null,null,null,null,null,null,"CD test total DC energy consumed, unadjusted (Watt-hours) [1]",{"$f":"IF($J$6=\"HD 2b/3\",NA(),ASTM(SUM(BH107:BH141),1))","v":{"$error":"#N/A"}},{"$f":"IF($J$6=\"HD 2b/3\",NA(),ASTM(SUM(CE107:CE141),1))","v":{"$error":"#N/A"}},null,null,null,3,{"$f":"IF(ISBLANK(R109),\"\",IF(COUNT(R109:AA109)<>10,NA(),IF(ASTM(W109,0)=0,0,IFERROR(ASTM(R109,3)/ASTM(Z109,1),0))))","v":""},{"$f":"IF(ISBLANK(R109),\"\",IF(COUNT(R109:AA109)<>10,NA(),IF(W109=0,0,ASTM(ASTM(W109,0)*ASTM(R109,3),0))))","v":""},{"$f":"IF(ISBLANK(R109),\"\",IF(COUNT(R109:AA109)<>10,NA(),ASTM(S109,3)-ASTM(S108,3)))","v":""},{"$f":"IF(ISBLANK(R109),\"\",IF(COUNT(R109:AA109)<>10,NA(),ASTM(BG109*ASTM(T109,2),1)))","v":""},{"$f":"IF(ISBLANK(R109),\"\",IF(COUNT(R109:AA109)<>10,NA(),ASTM(ASTM($Y$142,4)*1000*(BH109/$AY$109),1)))","v":""},"",{"$f":"IF(ISBLANK(R109),\"\",IF(COUNT(R109:AA109)<>10,NA(),BI109/(33705*ASTM(R109,3))))","v":""},"",{"$f":"IF(ISBLANK(R109),\"\",IFERROR(ASTM(cityfuf(BJ109)-cityfuf(BJ108),3),\"\"))","v":""},{"$f":"IF(ISBLANK(R109),\"\",IF(OR(ISNUMBER(R109)=FALSE,ISNUMBER(AA109)=FALSE),NA(),IF(ASTM(W109,0)=0,0,BM109*ASTM(AA109,0))))","v":""},"",{"$f":"IF(ISBLANK(R109),\"\",IF(COUNT(R109:AA109)<>10,NA(),BL109*ASTM(R109,3)))","v":""},"",{"$f":"IF(ISBLANK(R109),\"\",IF(COUNT(R109:AA109)<>10,NA(),BQ109*ASTM(R109,3)))","v":""},{"$f":"IF(ISBLANK(R109),\"\",IF(COUNT(R109:AA109)<>10,NA(),BQ109*7.45+BS108))","v":""},{"$f":"IF(ISBLANK(R109),\"\",IF(COUNT(R109:AA109)<>10,NA(),ASTM(mdiuf(BS109),3)-ASTM(mdiuf(BS108),3)))","v":""},{"$f":"IF(ISBLANK(R109),\"\",IF(COUNT(R109:AA109)<>10,NA(),IF(ASTM(W109,0)=0,0,BT109*ASTM(W109,0)/(BQ109))))","v":""},"",{"$f":"IF(ISBLANK(R109),\"\",IF(COUNT(R109:AA109)<>10,NA(),ASTM(cityfufalt(BS109)-cityfufalt(BS108),3)))","v":""},"",{"$f":"IF(ISBLANK(R109),\"\",IF(COUNT(R109:AA109)<>10,NA(),IF(ASTM(W109,0)=0,0,BW109*ASTM(AA109,0)/(BQ109))))","v":""},null,3,{"$f":"IF(ISBLANK(AD109),\"\",IF(COUNT(AD109:AM109)<>10,NA(),IF(ASTM(AI109,0)=0,0,ASTM(AD109,3)/ASTM(AL109,1))))","v":""},{"$f":"IF(ISBLANK(AD109),\"\",IF(COUNT(AD109:AM109)<>10,NA(),IF(ASTM(AI109,0)=0,0,ASTM(ASTM(AI109,0)*ASTM(AD109,3),0))))","v":""},{"$f":"IF(ISBLANK(AD109),\"\",IF(COUNT(AD109:AM109)<>10,NA(),ASTM(AE109,3)-ASTM(AE108,3)))","v":""},{"$f":"IF(ISBLANK(AD109),\"\",IF(COUNT(AD109:AM109)<>10,NA(),ASTM(CD109*ASTM(AF109,2),1)))","v":""},{"$f":"IF(ISBLANK(AD109),\"\",IF(COUNT(AD109:AM109)<>10,NA(),ASTM(ASTM($AK$142,4)*1000*(CE109/$AZ$109),1)))","v":""},"",{"$f":"IF(ISBLANK(AD109),\"\",IF(COUNT(AD109:AM109)<>10,NA(),CF109/(33705*ASTM(AD109,3))))","v":""},"",{"$f":"IF(ISBLANK(AD109),\"\",ASTM(highwayfuf(CG109)-highwayfuf(CG108),3))","v":""},{"$f":"IF(ISBLANK(AD109),\"\",IF(OR(ISNUMBER(AD109)=FALSE,ISNUMBER(AM109)=FALSE),NA(),IF(ASTM(AI109,0)=0,0,CJ109*ASTM(AM109,0))))","v":""},"",{"$f":"IF(ISBLANK(AD109),\"\",IF(COUNT(AD109:AM109)<>10,NA(),CI109*ASTM(AD109,3)))","v":""},"",{"$f":"IF(ISBLANK(AD109),\"\",IF(COUNT(AD109:AM109)<>10,NA(),CN109*ASTM(AD109,3)))","v":""},"",{"$f":"IF(ISBLANK(AD109),\"\",IF(COUNT(AD109:AM109)<>10,NA(),ASTM(mdiuf(CP109)-mdiuf(CP108),3)))","v":""},{"$f":"IF(ISBLANK(AD109),\"\",IF(COUNT(AD109:AM109)<>10,NA(),IF(ASTM(AI109,0)=0,0,CQ109*ASTM(AI109,0)/(CN109))))","v":""},"",{"$f":"IF(ISBLANK(AD109),\"\",IF(COUNT(AD109:AM109)<>10,NA(),ASTM(highwayfufalt(CP109)-highwayfufalt(CP108),3)))","v":""},"",{"$f":"IF(ISBLANK(AD109),\"\",IF(COUNT(AD109:AM109)<>10,NA(),IF(ASTM(AI109,0)=0,0,CT109*ASTM(AM109,0)/(CN109))))","v":""}]
[null,null,"Combined All-Electric Range as shown on FE Label (miles)",null,null,{"$f":"IF($J$6=\"HD 2b/3\",NA(),F20)","v":{"$error":"#N/A"}},null,null,null,null,null,null,"CO2, Unadjusted (g/mi):",null,null,null,4,null,null,null,null,null,null,null,null,{"$f":"IF(ISBLANK(R110),\"\",IF(OR($J$6=\"HD 2b/3\",COUNT(R110:W110)<>6,$AA$143<>\"Yes\",$AA$145<>\"Yes\"),NA(),IF(ASTM(W110,0)=0,0,ASTM((51740000*$T$142*$T$143)/((($T$142*U110)+(0.429*V110)+(0.273*W110))*((0.6*$T$143*$T$144)+5471)),1))))","v":""},{"$f":"IF(ISBLANK(R110),\"\",IF(OR(AND($J$6<>\"HD 2b/3\",COUNT(R110:W110)<>6),AND($J$6=\"HD 2b/3\",COUNT(R110)+COUNT(W110)<>2),$AA$143<>\"Yes\",$AA$145<>\"Yes\"),NA(),IF(ASTM(W110,0)=0,0,IF($J$6=\"HD 2b/3\",W110,ASTM((($T$142/0.273)*U110)+(1.571*V110)+W110,0)))))","v":""},null,4,null,null,null,null,null,null,null,null,{"$f":"IF(ISBLANK(AD110),\"\",IF(OR($J$6=\"HD 2b/3\",COUNT(AD110:AI110)<>6,$AM$47<>\"Yes\",$AM$49<>\"Yes\"),NA(),IF(ASTM(AI110,0)=0,0,ASTM((51740000*$AF$46*$AF$47)/((($AF$46*AG110)+(0.429*AH110)+(0.273*AI110))*((0.6*$AF$47*$AF$48)+5471)),1))))","v":""},{"$f":"IF(ISBLANK(AD110),\"\",IF(OR(AND($J$6<>\"HD 2b/3\",COUNT(AD110:AI110)<>6),AND($J$6=\"HD 2b/3\",COUNT(AD110)+COUNT(AI110)<>2),$AM$143<>\"Yes\",$AM$145<>\"Yes\"),NA(),IF(ASTM(AI110,0)=0,0,IF($J$6=\"HD 2b/3\",AI110,ASTM((($AF$142/0.273)*AG110)+(1.571*AH110)+AI110,0)))))","v":""},null,null,null,"Charge-Depleting",null,null,"Combined",null,null,"NEW","CD Rcda total fuel consumption (Rcda), unadjusted (gal equiv) [4]",{"$f":"IF($J$6=\"HD 2b/3\",NA(),IFERROR(ASTM(SUMIF(BD107:BD141,\"<=\" & (AY130-1),BP107:BP141) + AY129*SUMIF(BD107:BD141,\"=\" & (AY130-1),BP107:BP141),4),0))","v":{"$error":"#N/A"}},{"$f":"IF($J$6=\"HD 2b/3\",NA(),IFERROR(ASTM(SUMIF(CA107:CA141,\"<=\" & (AZ130-1),CM107:CM141) + AZ129*SUMIF(CA107:CA141,\"=\" & (AZ130-1),CM107:CM141),4),0))","v":{"$error":"#N/A"}},null,null,null,4,{"$f":"IF(ISBLANK(R110),\"\",IF(COUNT(R110:AA110)<>10,NA(),IF(ASTM(W110,0)=0,0,IFERROR(ASTM(R110,3)/ASTM(Z110,1),0))))","v":""},{"$f":"IF(ISBLANK(R110),\"\",IF(COUNT(R110:AA110)<>10,NA(),IF(W110=0,0,ASTM(ASTM(W110,0)*ASTM(R110,3),0))))","v":""},{"$f":"IF(ISBLANK(R110),\"\",IF(COUNT(R110:AA110)<>10,NA(),ASTM(S110,3)-ASTM(S109,3)))","v":""},{"$f":"IF(ISBLANK(R110),\"\",IF(COUNT(R110:AA110)<>10,NA(),ASTM(BG110*ASTM(T110,2),1)))","v":""},{"$f":"IF(ISBLANK(R110),\"\",IF(COUNT(R110:AA110)<>10,NA(),ASTM(ASTM($Y$142,4)*1000*(BH110/$AY$109),1)))","v":""},"",{"$f":"IF(ISBLANK(R110),\"\",IF(COUNT(R110:AA110)<>10,NA(),BI110/(33705*ASTM(R110,3))))","v":""},"",{"$f":"IF(ISBLANK(R110),\"\",IFERROR(ASTM(cityfuf(BJ110)-cityfuf(BJ109),3),\"\"))","v":""},{"$f":"IF(ISBLANK(R110),\"\",IF(OR(ISNUMBER(R110)=FALSE,ISNUMBER(AA110)=FALSE),NA(),IF(ASTM(W110,0)=0,0,BM110*ASTM(AA110,0))))","v":""},"",{"$f":"IF(ISBLANK(R110),\"\",IF(COUNT(R110:AA110)<>10,NA(),BL110*ASTM(R110,3)))","v":""},"",{"$f":"IF(ISBLANK(R110),\"\",IF(COUNT(R110:AA110)<>10,NA(),BQ110*ASTM(R110,3)))","v":""},"",{"$f":"IF(ISBLANK(R110),\"\",IF(COUNT(R110:AA110)<>10,NA(),ASTM(mdiuf(BS110),3)-ASTM(mdiuf(BS109),3)))","v":""},{"$f":"IF(ISBLANK(R110),\"\",IF(COUNT(R110:AA110)<>10,NA(),IF(ASTM(W110,0)=0,0,BT110*ASTM(W110,0)/(BQ110))))","v":""},"",{"$f":"IF(ISBLANK(R110),\"\",IF(COUNT(R110:AA110)<>10,NA(),ASTM(cityfufalt(BS110)-cityfufalt(BS109),3)))","v":""},"",{"$f":"IF(ISBLANK(R110),\"\",IF(COUNT(R110:AA110)<>10,NA(),IF(ASTM(W110,0)=0,0,BW110*ASTM(AA110,0)/(BQ110))))","v":""},null,4,{"$f":"IF(ISBLANK(AD110),\"\",IF(COUNT(AD110:AM110)<>10,NA(),IF(ASTM(AI110,0)=0,0,ASTM(AD110,3)/ASTM(AL110,1))))","v":""},{"$f":"IF(ISBLANK(AD110),\"\",IF(COUNT(AD110:AM110)<>10,NA(),IF(ASTM(AI110,0)=0,0,ASTM(ASTM(AI110,0)*ASTM(AD110,3),0))))","v":""},{"$f":"IF(ISBLANK(AD110),\"\",IF(COUNT(AD110:AM110)<>10,NA(),ASTM(AE110,3)-ASTM(AE109,3)))","v":""},{"$f":"IF(ISBLANK(AD110),\"\",IF(COUNT(AD110:AM110)<>10,NA(),ASTM(CD110*ASTM(AF110,2),1)))","v":""},{"$f":"IF(ISBLANK(AD110),\"\",IF(COUNT(AD110:AM110)<>10,NA(),ASTM(ASTM($AK$142,4)*1000*(CE110/$AZ$109),1)))","v":""},"",{"$f":"IF(ISBLANK(AD110),\"\",IF(COUNT(AD110:AM110)<>10,NA(),CF110/(33705*ASTM(AD110,3))))","v":""},"",{"$f":"IF(ISBLANK(AD110),\"\",ASTM(highwayfuf(CG110)-highwayfuf(CG109),3))","v":""},{"$f":"IF(ISBLANK(AD110),\"\",IF(OR(ISNUMBER(AD110)=FALSE,ISNUMBER(AM110)=FALSE),NA(),IF(ASTM(AI110,0)=0,0,CJ110*ASTM(AM110,0))))","v":""},"",{"$f":"IF(ISBLANK(AD110),\"\",IF(COUNT(AD110:AM110)<>10,NA(),CI110*ASTM(AD110,3)))","v":""},"",{"$f":"IF(ISBLANK(AD110),\"\",IF(COUNT(AD110:AM110)<>10,NA(),CN110*ASTM(AD110,3)))","v":""},"",{"$f":"IF(ISBLANK(AD110),\"\",IF(COUNT(AD110:AM110)<>10,NA(),ASTM(mdiuf(CP110)-mdiuf(CP109),3)))","v":""},{"$f":"IF(ISBLANK(AD110),\"\",IF(COUNT(AD110:AM110)<>10,NA(),IF(ASTM(AI110,0)=0,0,CQ110*ASTM(AI110,0)/(CN110))))","v":""},"",{"$f":"IF(ISBLANK(AD110),\"\",IF(COUNT(AD110:AM110)<>10,NA(),ASTM(highwayfufalt(CP110)-highwayfufalt(CP109),3)))","v":""},"",{"$f":"IF(ISBLANK(AD110),\"\",IF(COUNT(AD110:AM110)<>10,NA(),IF(ASTM(AI110,0)=0,0,CT110*ASTM(AM110,0)/(CN110))))","v":""}]
[null,null,"Charge-depleting Utility Factors",null,null,"UF",null,null,null,null,null,null,{"$f":"IF($J$6=\"HD 2b/3\",NA(),\"CO2, 5-Cycle Adjusted (g/mi):\")","v":{"$error":"#N/A"}},null,null,null,5,null,null,null,null,null,null,null,null,{"$f":"IF(ISBLANK(R111),\"\",IF(OR($J$6=\"HD 2b/3\",COUNT(R111:W111)<>6,$AA$143<>\"Yes\",$AA$145<>\"Yes\"),NA(),IF(ASTM(W111,0)=0,0,ASTM((51740000*$T$142*$T$143)/((($T$142*U111)+(0.429*V111)+(0.273*W111))*((0.6*$T$143*$T$144)+5471)),1))))","v":""},{"$f":"IF(ISBLANK(R111),\"\",IF(OR(AND($J$6<>\"HD 2b/3\",COUNT(R111:W111)<>6),AND($J$6=\"HD 2b/3\",COUNT(R111)+COUNT(W111)<>2),$AA$143<>\"Yes\",$AA$145<>\"Yes\"),NA(),IF(ASTM(W111,0)=0,0,IF($J$6=\"HD 2b/3\",W111,ASTM((($T$142/0.273)*U111)+(1.571*V111)+W111,0)))))","v":""},null,5,null,null,null,null,null,null,null,null,{"$f":"IF(ISBLANK(AD111),\"\",IF(OR($J$6=\"HD 2b/3\",COUNT(AD111:AI111)<>6,$AM$47<>\"Yes\",$AM$49<>\"Yes\"),NA(),IF(ASTM(AI111,0)=0,0,ASTM((51740000*$AF$46*$AF$47)/((($AF$46*AG111)+(0.429*AH111)+(0.273*AI111))*((0.6*$AF$47*$AF$48)+5471)),1))))","v":""},{"$f":"IF(ISBLANK(AD111),\"\",IF(OR(AND($J$6<>\"HD 2b/3\",COUNT(AD111:AI111)<>6),AND($J$6=\"HD 2b/3\",COUNT(AD111)+COUNT(AI111)<>2),$AM$143<>\"Yes\",$AM$145<>\"Yes\"),NA(),IF(ASTM(AI111,0)=0,0,IF($J$6=\"HD 2b/3\",AI111,ASTM((($AF$142/0.273)*AG111)+(1.571*AH111)+AI111,0)))))","v":""},null,null,null,"CD range, adjusted (miles) [0]",null,null,{"$f":"IF($J$6=\"HD 2b/3\",NA(),IFERROR(ASTM(0.55*AY103+0.45*AZ103,0),0))","v":{"$error":"#N/A"}},null,null,null,"CD utilitized total fuel consumption rate (55/45 FUF, Rcdc), unadjusted (gal-equiv/mile) [6]",{"$f":"IF($J$6=\"HD 2b/3\",NA(),ASTM(SUMIF(BD107:BD141,\"<=\" & (AY130),BO107:BO141)*1000000,0)/1000000)","v":{"$error":"#N/A"}},{"$f":"IF($J$6=\"HD 2b/3\",NA(),ASTM(SUMIF(CA107:CA141,\"<=\" & (AZ130),CL107:CL141)*1000000,0)/1000000)","v":{"$error":"#N/A"}},null,null,null,5,{"$f":"IF(ISBLANK(R111),\"\",IF(COUNT(R111:AA111)<>10,NA(),IF(ASTM(W111,0)=0,0,IFERROR(ASTM(R111,3)/ASTM(Z111,1),0))))","v":""},{"$f":"IF(ISBLANK(R111),\"\",IF(COUNT(R111:AA111)<>10,NA(),IF(W111=0,0,ASTM(ASTM(W111,0)*ASTM(R111,3),0))))","v":""},{"$f":"IF(ISBLANK(R111),\"\",IF(COUNT(R111:AA111)<>10,NA(),ASTM(S111,3)-ASTM(S110,3)))","v":""},{"$f":"IF(ISBLANK(R111),\"\",IF(COUNT(R111:AA111)<>10,NA(),ASTM(BG111*ASTM(T111,2),1)))","v":""},{"$f":"IF(ISBLANK(R111),\"\",IF(COUNT(R111:AA111)<>10,NA(),ASTM(ASTM($Y$142,4)*1000*(BH111/$AY$109),1)))","v":""},"",{"$f":"IF(ISBLANK(R111),\"\",IF(COUNT(R111:AA111)<>10,NA(),BI111/(33705*ASTM(R111,3))))","v":""},"",{"$f":"IF(ISBLANK(R111),\"\",IFERROR(ASTM(cityfuf(BJ111)-cityfuf(BJ110),3),\"\"))","v":""},{"$f":"IF(ISBLANK(R111),\"\",IF(OR(ISNUMBER(R111)=FALSE,ISNUMBER(AA111)=FALSE),NA(),IF(ASTM(W111,0)=0,0,BM111*ASTM(AA111,0))))","v":""},"",{"$f":"IF(ISBLANK(R111),\"\",IF(COUNT(R111:AA111)<>10,NA(),BL111*ASTM(R111,3)))","v":""},"",{"$f":"IF(ISBLANK(R111),\"\",IF(COUNT(R111:AA111)<>10,NA(),BQ111*ASTM(R111,3)))","v":""},"",{"$f":"IF(ISBLANK(R111),\"\",IF(COUNT(R111:AA111)<>10,NA(),ASTM(mdiuf(BS111),3)-ASTM(mdiuf(BS110),3)))","v":""},{"$f":"IF(ISBLANK(R111),\"\",IF(COUNT(R111:AA111)<>10,NA(),IF(ASTM(W111,0)=0,0,BT111*ASTM(W111,0)/(BQ111))))","v":""},"",{"$f":"IF(ISBLANK(R111),\"\",IF(COUNT(R111:AA111)<>10,NA(),ASTM(cityfufalt(BS111)-cityfufalt(BS110),3)))","v":""},"",{"$f":"IF(ISBLANK(R111),\"\",IF(COUNT(R111:AA111)<>10,NA(),IF(ASTM(W111,0)=0,0,BW111*ASTM(AA111,0)/(BQ111))))","v":""},null,5,{"$f":"IF(ISBLANK(AD111),\"\",IF(COUNT(AD111:AM111)<>10,NA(),IF(ASTM(AI111,0)=0,0,ASTM(AD111,3)/ASTM(AL111,1))))","v":""},{"$f":"IF(ISBLANK(AD111),\"\",IF(COUNT(AD111:AM111)<>10,NA(),IF(ASTM(AI111,0)=0,0,ASTM(ASTM(AI111,0)*ASTM(AD111,3),0))))","v":""},{"$f":"IF(ISBLANK(AD111),\"\",IF(COUNT(AD111:AM111)<>10,NA(),ASTM(AE111,3)-ASTM(AE110,3)))","v":""},{"$f":"IF(ISBLANK(AD111),\"\",IF(COUNT(AD111:AM111)<>10,NA(),ASTM(CD111*ASTM(AF111,2),1)))","v":""},{"$f":"IF(ISBLANK(AD111),\"\",IF(COUNT(AD111:AM111)<>10,NA(),ASTM(ASTM($AK$142,4)*1000*(CE111/$AZ$109),1)))","v":""},"",{"$f":"IF(ISBLANK(AD111),\"\",IF(COUNT(AD111:AM111)<>10,NA(),CF111/(33705*ASTM(AD111,3))))","v":""},"",{"$f":"IF(ISBLANK(AD111),\"\",ASTM(highwayfuf(CG111)-highwayfuf(CG110),3))","v":""},{"$f":"IF(ISBLANK(AD111),\"\",IF(OR(ISNUMBER(AD111)=FALSE,ISNUMBER(AM111)=FALSE),NA(),IF(ASTM(AI111,0)=0,0,CJ111*ASTM(AM111,0))))","v":""},"",{"$f":"IF(ISBLANK(AD111),\"\",IF(COUNT(AD111:AM111)<>10,NA(),CI111*ASTM(AD111,3)))","v":""},"",{"$f":"IF(ISBLANK(AD111),\"\",IF(COUNT(AD111:AM111)<>10,NA(),CN111*ASTM(AD111,3)))","v":""},"",{"$f":"IF(ISBLANK(AD111),\"\",IF(COUNT(AD111:AM111)<>10,NA(),ASTM(mdiuf(CP111)-mdiuf(CP110),3)))","v":""},{"$f":"IF(ISBLANK(AD111),\"\",IF(COUNT(AD111:AM111)<>10,NA(),IF(ASTM(AI111,0)=0,0,CQ111*ASTM(AI111,0)/(CN111))))","v":""},"",{"$f":"IF(ISBLANK(AD111),\"\",IF(COUNT(AD111:AM111)<>10,NA(),ASTM(highwayfufalt(CP111)-highwayfufalt(CP110),3)))","v":""},"",{"$f":"IF(ISBLANK(AD111),\"\",IF(COUNT(AD111:AM111)<>10,NA(),IF(ASTM(AI111,0)=0,0,CT111*ASTM(AM111,0)/(CN111))))","v":""}]
[null,null,"City Utility Factor (MDIUF)",null,null,{"$f":"IF($J$6=\"HD 2b/3\",NA(),ASTM(mdiuf(D19),3))","v":{"$error":"#N/A"}},null,null,null,null,null,null,null,null,null,null,6,null,null,null,null,null,null,null,null,{"$f":"IF(ISBLANK(R112),\"\",IF(OR($J$6=\"HD 2b/3\",COUNT(R112:W112)<>6,$AA$143<>\"Yes\",$AA$145<>\"Yes\"),NA(),IF(ASTM(W112,0)=0,0,ASTM((51740000*$T$142*$T$143)/((($T$142*U112)+(0.429*V112)+(0.273*W112))*((0.6*$T$143*$T$144)+5471)),1))))","v":""},{"$f":"IF(ISBLANK(R112),\"\",IF(OR(AND($J$6<>\"HD 2b/3\",COUNT(R112:W112)<>6),AND($J$6=\"HD 2b/3\",COUNT(R112)+COUNT(W112)<>2),$AA$143<>\"Yes\",$AA$145<>\"Yes\"),NA(),IF(ASTM(W112,0)=0,0,IF($J$6=\"HD 2b/3\",W112,ASTM((($T$142/0.273)*U112)+(1.571*V112)+W112,0)))))","v":""},null,6,null,null,null,null,null,null,null,null,{"$f":"IF(ISBLANK(AD112),\"\",IF(OR($J$6=\"HD 2b/3\",COUNT(AD112:AI112)<>6,$AM$47<>\"Yes\",$AM$49<>\"Yes\"),NA(),IF(ASTM(AI112,0)=0,0,ASTM((51740000*$AF$46*$AF$47)/((($AF$46*AG112)+(0.429*AH112)+(0.273*AI112))*((0.6*$AF$47*$AF$48)+5471)),1))))","v":""},{"$f":"IF(ISBLANK(AD112),\"\",IF(OR(AND($J$6<>\"HD 2b/3\",COUNT(AD112:AI112)<>6),AND($J$6=\"HD 2b/3\",COUNT(AD112)+COUNT(AI112)<>2),$AM$143<>\"Yes\",$AM$145<>\"Yes\"),NA(),IF(ASTM(AI112,0)=0,0,IF($J$6=\"HD 2b/3\",AI112,ASTM((($AF$142/0.273)*AG112)+(1.571*AH112)+AI112,0)))))","v":""},null,null,null,"CD All-Electric Range, adjusted (mi) [0]",null,null,{"$f":"IF($J$6=\"HD 2b/3\",NA(),IFERROR(ASTM(0.55*AY105+0.45*AZ105,0),0))","v":{"$error":"#N/A"}},null,null,"NEW","CD utilitized total fuel consumption rate (43/57 FUF, Rcdc), adjusted (gal-equiv/mile) [6]",{"$f":"IF($J$6=\"HD 2b/3\",NA(),ASTM( 1000000*SUMIF(BD107:BD141,\"<=\" & (AY130),BX107:BX141), 0) / 1000000)","v":{"$error":"#N/A"}},{"$f":"IF($J$6=\"HD 2b/3\",NA(),ASTM( 1000000*SUMIF(CA107:CA141,\"<=\" & (AZ130),CU107:CU141), 0) / 1000000)","v":{"$error":"#N/A"}},null,null,null,6,{"$f":"IF(ISBLANK(R112),\"\",IF(COUNT(R112:AA112)<>10,NA(),IF(ASTM(W112,0)=0,0,IFERROR(ASTM(R112,3)/ASTM(Z112,1),0))))","v":""},{"$f":"IF(ISBLANK(R112),\"\",IF(COUNT(R112:AA112)<>10,NA(),IF(W112=0,0,ASTM(ASTM(W112,0)*ASTM(R112,3),0))))","v":""},{"$f":"IF(ISBLANK(R112),\"\",IF(COUNT(R112:AA112)<>10,NA(),ASTM(S112,3)-ASTM(S111,3)))","v":""},{"$f":"IF(ISBLANK(R112),\"\",IF(COUNT(R112:AA112)<>10,NA(),ASTM(BG112*ASTM(T112,2),1)))","v":""},{"$f":"IF(ISBLANK(R112),\"\",IF(COUNT(R112:AA112)<>10,NA(),ASTM(ASTM($Y$142,4)*1000*(BH112/$AY$109),1)))","v":""},"",{"$f":"IF(ISBLANK(R112),\"\",IF(COUNT(R112:AA112)<>10,NA(),BI112/(33705*ASTM(R112,3))))","v":""},"",{"$f":"IF(ISBLANK(R112),\"\",IFERROR(ASTM(cityfuf(BJ112)-cityfuf(BJ111),3),\"\"))","v":""},{"$f":"IF(ISBLANK(R112),\"\",IF(OR(ISNUMBER(R112)=FALSE,ISNUMBER(AA112)=FALSE),NA(),IF(ASTM(W112,0)=0,0,BM112*ASTM(AA112,0))))","v":""},"",{"$f":"IF(ISBLANK(R112),\"\",IF(COUNT(R112:AA112)<>10,NA(),BL112*ASTM(R112,3)))","v":""},"",{"$f":"IF(ISBLANK(R112),\"\",IF(COUNT(R112:AA112)<>10,NA(),BQ112*ASTM(R112,3)))","v":""},"",{"$f":"IF(ISBLANK(R112),\"\",IF(COUNT(R112:AA112)<>10,NA(),ASTM(mdiuf(BS112),3)-ASTM(mdiuf(BS111),3)))","v":""},{"$f":"IF(ISBLANK(R112),\"\",IF(COUNT(R112:AA112)<>10,NA(),IF(ASTM(W112,0)=0,0,BT112*ASTM(W112,0)/(BQ112))))","v":""},"",{"$f":"IF(ISBLANK(R112),\"\",IF(COUNT(R112:AA112)<>10,NA(),ASTM(cityfufalt(BS112)-cityfufalt(BS111),3)))","v":""},"",{"$f":"IF(ISBLANK(R112),\"\",IF(COUNT(R112:AA112)<>10,NA(),IF(ASTM(W112,0)=0,0,BW112*ASTM(AA112,0)/(BQ112))))","v":""},null,6,{"$f":"IF(ISBLANK(AD112),\"\",IF(COUNT(AD112:AM112)<>10,NA(),IF(ASTM(AI112,0)=0,0,ASTM(AD112,3)/ASTM(AL112,1))))","v":""},{"$f":"IF(ISBLANK(AD112),\"\",IF(COUNT(AD112:AM112)<>10,NA(),IF(ASTM(AI112,0)=0,0,ASTM(ASTM(AI112,0)*ASTM(AD112,3),0))))","v":""},{"$f":"IF(ISBLANK(AD112),\"\",IF(COUNT(AD112:AM112)<>10,NA(),ASTM(AE112,3)-ASTM(AE111,3)))","v":""},{"$f":"IF(ISBLANK(AD112),\"\",IF(COUNT(AD112:AM112)<>10,NA(),ASTM(CD112*ASTM(AF112,2),1)))","v":""},{"$f":"IF(ISBLANK(AD112),\"\",IF(COUNT(AD112:AM112)<>10,NA(),ASTM(ASTM($AK$142,4)*1000*(CE112/$AZ$109),1)))","v":""},"",{"$f":"IF(ISBLANK(AD112),\"\",IF(COUNT(AD112:AM112)<>10,NA(),CF112/(33705*ASTM(AD112,3))))","v":""},"",{"$f":"IF(ISBLANK(AD112),\"\",ASTM(highwayfuf(CG112)-highwayfuf(CG111),3))","v":""},{"$f":"IF(ISBLANK(AD112),\"\",IF(OR(ISNUMBER(AD112)=FALSE,ISNUMBER(AM112)=FALSE),NA(),IF(ASTM(AI112,0)=0,0,CJ112*ASTM(AM112,0))))","v":""},"",{"$f":"IF(ISBLANK(AD112),\"\",IF(COUNT(AD112:AM112)<>10,NA(),CI112*ASTM(AD112,3)))","v":""},"",{"$f":"IF(ISBLANK(AD112),\"\",IF(COUNT(AD112:AM112)<>10,NA(),CN112*ASTM(AD112,3)))","v":""},"",{"$f":"IF(ISBLANK(AD112),\"\",IF(COUNT(AD112:AM112)<>10,NA(),ASTM(mdiuf(CP112)-mdiuf(CP111),3)))","v":""},{"$f":"IF(ISBLANK(AD112),\"\",IF(COUNT(AD112:AM112)<>10,NA(),IF(ASTM(AI112,0)=0,0,CQ112*ASTM(AI112,0)/(CN112))))","v":""},"",{"$f":"IF(ISBLANK(AD112),\"\",IF(COUNT(AD112:AM112)<>10,NA(),ASTM(highwayfufalt(CP112)-highwayfufalt(CP111),3)))","v":""},"",{"$f":"IF(ISBLANK(AD112),\"\",IF(COUNT(AD112:AM112)<>10,NA(),IF(ASTM(AI112,0)=0,0,CT112*ASTM(AM112,0)/(CN112))))","v":""}]
[null,null,"Hwy Utility Factor (MDIUF)",null,null,{"$f":"IF($J$6=\"HD 2b/3\",NA(),ASTM(mdiuf(E19),3))","v":{"$error":"#N/A"}},null,null,null,null,null,null,"ENTER CHARGE-DEPLETING AND CHARGE-SUSTAINING TEST NUMBERS HERE",null,null,null,7,null,null,null,null,null,null,null,null,{"$f":"IF(ISBLANK(R113),\"\",IF(OR($J$6=\"HD 2b/3\",COUNT(R113:W113)<>6,$AA$143<>\"Yes\",$AA$145<>\"Yes\"),NA(),IF(ASTM(W113,0)=0,0,ASTM((51740000*$T$142*$T$143)/((($T$142*U113)+(0.429*V113)+(0.273*W113))*((0.6*$T$143*$T$144)+5471)),1))))","v":""},{"$f":"IF(ISBLANK(R113),\"\",IF(OR(AND($J$6<>\"HD 2b/3\",COUNT(R113:W113)<>6),AND($J$6=\"HD 2b/3\",COUNT(R113)+COUNT(W113)<>2),$AA$143<>\"Yes\",$AA$145<>\"Yes\"),NA(),IF(ASTM(W113,0)=0,0,IF($J$6=\"HD 2b/3\",W113,ASTM((($T$142/0.273)*U113)+(1.571*V113)+W113,0)))))","v":""},null,7,null,null,null,null,null,null,null,null,{"$f":"IF(ISBLANK(AD113),\"\",IF(OR($J$6=\"HD 2b/3\",COUNT(AD113:AI113)<>6,$AM$47<>\"Yes\",$AM$49<>\"Yes\"),NA(),IF(ASTM(AI113,0)=0,0,ASTM((51740000*$AF$46*$AF$47)/((($AF$46*AG113)+(0.429*AH113)+(0.273*AI113))*((0.6*$AF$47*$AF$48)+5471)),1))))","v":""},{"$f":"IF(ISBLANK(AD113),\"\",IF(OR(AND($J$6<>\"HD 2b/3\",COUNT(AD113:AI113)<>6),AND($J$6=\"HD 2b/3\",COUNT(AD113)+COUNT(AI113)<>2),$AM$143<>\"Yes\",$AM$145<>\"Yes\"),NA(),IF(ASTM(AI113,0)=0,0,IF($J$6=\"HD 2b/3\",AI113,ASTM((($AF$142/0.273)*AG113)+(1.571*AH113)+AI113,0)))))","v":""},null,null,null,"Total Driving Range (Miles) [0]",null,null,{"$f":"IF($J$6=\"HD 2b/3\",NA(),IFERROR(ASTM(   IFERROR((ASTM(0.55*AY134+0.45*AZ134,0)+AT111),0) / 10,0) *10,0))","v":{"$error":"#N/A"}},null,null,"NEW","CD utilitized total fuel consumption rate (MDIUF, Rcdc), adjusted (gal-equiv/mile) [6]",{"$f":"IF($J$6=\"HD 2b/3\",NA(),ASTM(SUMIF(BD107:BD141,\"<=\" & (AY130),BV107:BV141)*1000000,0) / 1000000)","v":{"$error":"#N/A"}},{"$f":"IF($J$6=\"HD 2b/3\",NA(),ASTM(SUMIF(CA107:CA141,\"<=\" & (AZ130),CS107:CS141)*1000000,0) / 1000000)","v":{"$error":"#N/A"}},null,null,null,7,{"$f":"IF(ISBLANK(R113),\"\",IF(COUNT(R113:AA113)<>10,NA(),IF(ASTM(W113,0)=0,0,IFERROR(ASTM(R113,3)/ASTM(Z113,1),0))))","v":""},{"$f":"IF(ISBLANK(R113),\"\",IF(COUNT(R113:AA113)<>10,NA(),IF(W113=0,0,ASTM(ASTM(W113,0)*ASTM(R113,3),0))))","v":""},{"$f":"IF(ISBLANK(R113),\"\",IF(COUNT(R113:AA113)<>10,NA(),ASTM(S113,3)-ASTM(S112,3)))","v":""},{"$f":"IF(ISBLANK(R113),\"\",IF(COUNT(R113:AA113)<>10,NA(),ASTM(BG113*ASTM(T113,2),1)))","v":""},{"$f":"IF(ISBLANK(R113),\"\",IF(COUNT(R113:AA113)<>10,NA(),ASTM(ASTM($Y$142,4)*1000*(BH113/$AY$109),1)))","v":""},"",{"$f":"IF(ISBLANK(R113),\"\",IF(COUNT(R113:AA113)<>10,NA(),BI113/(33705*ASTM(R113,3))))","v":""},"",{"$f":"IF(ISBLANK(R113),\"\",IFERROR(ASTM(cityfuf(BJ113)-cityfuf(BJ112),3),\"\"))","v":""},{"$f":"IF(ISBLANK(R113),\"\",IF(OR(ISNUMBER(R113)=FALSE,ISNUMBER(AA113)=FALSE),NA(),IF(ASTM(W113,0)=0,0,BM113*ASTM(AA113,0))))","v":""},"",{"$f":"IF(ISBLANK(R113),\"\",IF(COUNT(R113:AA113)<>10,NA(),BL113*ASTM(R113,3)))","v":""},"",{"$f":"IF(ISBLANK(R113),\"\",IF(COUNT(R113:AA113)<>10,NA(),BQ113*ASTM(R113,3)))","v":""},"",{"$f":"IF(ISBLANK(R113),\"\",IF(COUNT(R113:AA113)<>10,NA(),ASTM(mdiuf(BS113),3)-ASTM(mdiuf(BS112),3)))","v":""},{"$f":"IF(ISBLANK(R113),\"\",IF(COUNT(R113:AA113)<>10,NA(),IF(ASTM(W113,0)=0,0,BT113*ASTM(W113,0)/(BQ113))))","v":""},"",{"$f":"IF(ISBLANK(R113),\"\",IF(COUNT(R113:AA113)<>10,NA(),ASTM(cityfufalt(BS113)-cityfufalt(BS112),3)))","v":""},"",{"$f":"IF(ISBLANK(R113),\"\",IF(COUNT(R113:AA113)<>10,NA(),IF(ASTM(W113,0)=0,0,BW113*ASTM(AA113,0)/(BQ113))))","v":""},null,7,{"$f":"IF(ISBLANK(AD113),\"\",IF(COUNT(AD113:AM113)<>10,NA(),IF(ASTM(AI113,0)=0,0,ASTM(AD113,3)/ASTM(AL113,1))))","v":""},{"$f":"IF(ISBLANK(AD113),\"\",IF(COUNT(AD113:AM113)<>10,NA(),IF(ASTM(AI113,0)=0,0,ASTM(ASTM(AI113,0)*ASTM(AD113,3),0))))","v":""},{"$f":"IF(ISBLANK(AD113),\"\",IF(COUNT(AD113:AM113)<>10,NA(),ASTM(AE113,3)-ASTM(AE112,3)))","v":""},{"$f":"IF(ISBLANK(AD113),\"\",IF(COUNT(AD113:AM113)<>10,NA(),ASTM(CD113*ASTM(AF113,2),1)))","v":""},{"$f":"IF(ISBLANK(AD113),\"\",IF(COUNT(AD113:AM113)<>10,NA(),ASTM(ASTM($AK$142,4)*1000*(CE113/$AZ$109),1)))","v":""},"",{"$f":"IF(ISBLANK(AD113),\"\",IF(COUNT(AD113:AM113)<>10,NA(),CF113/(33705*ASTM(AD113,3))))","v":""},"",{"$f":"IF(ISBLANK(AD113),\"\",ASTM(highwayfuf(CG113)-highwayfuf(CG112),3))","v":""},{"$f":"IF(ISBLANK(AD113),\"\",IF(OR(ISNUMBER(AD113)=FALSE,ISNUMBER(AM113)=FALSE),NA(),IF(ASTM(AI113,0)=0,0,CJ113*ASTM(AM113,0))))","v":""},"",{"$f":"IF(ISBLANK(AD113),\"\",IF(COUNT(AD113:AM113)<>10,NA(),CI113*ASTM(AD113,3)))","v":""},"",{"$f":"IF(ISBLANK(AD113),\"\",IF(COUNT(AD113:AM113)<>10,NA(),CN113*ASTM(AD113,3)))","v":""},"",{"$f":"IF(ISBLANK(AD113),\"\",IF(COUNT(AD113:AM113)<>10,NA(),ASTM(mdiuf(CP113)-mdiuf(CP112),3)))","v":""},{"$f":"IF(ISBLANK(AD113),\"\",IF(COUNT(AD113:AM113)<>10,NA(),IF(ASTM(AI113,0)=0,0,CQ113*ASTM(AI113,0)/(CN113))))","v":""},"",{"$f":"IF(ISBLANK(AD113),\"\",IF(COUNT(AD113:AM113)<>10,NA(),ASTM(highwayfufalt(CP113)-highwayfufalt(CP112),3)))","v":""},"",{"$f":"IF(ISBLANK(AD113),\"\",IF(COUNT(AD113:AM113)<>10,NA(),IF(ASTM(AI113,0)=0,0,CT113*ASTM(AM113,0)/(CN113))))","v":""}]
[null,null,"Combined Utility Factor (MDIUF)",null,null,{"$f":"IF($J$6=\"HD 2b/3\",NA(),ASTM(mdiuf(0.55*D19+0.45*E19),3))","v":{"$error":"#N/A"}},null,null,null,null,null,null,null,"CD_UDDS","CD_Hwy",null,8,null,null,null,null,null,null,null,null,{"$f":"IF(ISBLANK(R114),\"\",IF(OR($J$6=\"HD 2b/3\",COUNT(R114:W114)<>6,$AA$143<>\"Yes\",$AA$145<>\"Yes\"),NA(),IF(ASTM(W114,0)=0,0,ASTM((51740000*$T$142*$T$143)/((($T$142*U114)+(0.429*V114)+(0.273*W114))*((0.6*$T$143*$T$144)+5471)),1))))","v":""},{"$f":"IF(ISBLANK(R114),\"\",IF(OR(AND($J$6<>\"HD 2b/3\",COUNT(R114:W114)<>6),AND($J$6=\"HD 2b/3\",COUNT(R114)+COUNT(W114)<>2),$AA$143<>\"Yes\",$AA$145<>\"Yes\"),NA(),IF(ASTM(W114,0)=0,0,IF($J$6=\"HD 2b/3\",W114,ASTM((($T$142/0.273)*U114)+(1.571*V114)+W114,0)))))","v":""},null,8,null,null,null,null,null,null,null,null,{"$f":"IF(ISBLANK(AD114),\"\",IF(OR($J$6=\"HD 2b/3\",COUNT(AD114:AI114)<>6,$AM$47<>\"Yes\",$AM$49<>\"Yes\"),NA(),IF(ASTM(AI114,0)=0,0,ASTM((51740000*$AF$46*$AF$47)/((($AF$46*AG114)+(0.429*AH114)+(0.273*AI114))*((0.6*$AF$47*$AF$48)+5471)),1))))","v":""},{"$f":"IF(ISBLANK(AD114),\"\",IF(OR(AND($J$6<>\"HD 2b/3\",COUNT(AD114:AI114)<>6),AND($J$6=\"HD 2b/3\",COUNT(AD114)+COUNT(AI114)<>2),$AM$143<>\"Yes\",$AM$145<>\"Yes\"),NA(),IF(ASTM(AI114,0)=0,0,IF($J$6=\"HD 2b/3\",AI114,ASTM((($AF$142/0.273)*AG114)+(1.571*AH114)+AI114,0)))))","v":""},null,null,null,"CD Fuel Economy (MPGe) [0]",null,null,{"$f":"IF($J$6=\"HD 2b/3\",NA(),IFERROR(ASTM(1/(0.55/AY115+0.45/AZ115),0),0))","v":{"$error":"#N/A"}},null,null,null,"CD gasoline consumption (Rcda), adjusted (gal) [1]",{"$f":"IF($J$6=\"HD 2b/3\",NA(),IFERROR(SUMIF(BD107:BD141,\"<=\" & AY130-1,BE107:BE141)+AY129*SUMIF(BD107:BD141,\"=\" & AY130-1,BE107:BE141),0))","v":{"$error":"#N/A"}},{"$f":"IF($J$6=\"HD 2b/3\",NA(),IFERROR(SUMIF(CA107:CA141,\"<=\" & AZ130-1,CB107:CB141)+AZ129*SUMIF(CA107:CA141,\"=\" & AZ130-1,CB107:CB141),0))","v":{"$error":"#N/A"}},null,null,null,8,{"$f":"IF(ISBLANK(R114),\"\",IF(COUNT(R114:AA114)<>10,NA(),IF(ASTM(W114,0)=0,0,IFERROR(ASTM(R114,3)/ASTM(Z114,1),0))))","v":""},{"$f":"IF(ISBLANK(R114),\"\",IF(COUNT(R114:AA114)<>10,NA(),IF(W114=0,0,ASTM(ASTM(W114,0)*ASTM(R114,3),0))))","v":""},{"$f":"IF(ISBLANK(R114),\"\",IF(COUNT(R114:AA114)<>10,NA(),ASTM(S114,3)-ASTM(S113,3)))","v":""},{"$f":"IF(ISBLANK(R114),\"\",IF(COUNT(R114:AA114)<>10,NA(),ASTM(BG114*ASTM(T114,2),1)))","v":""},{"$f":"IF(ISBLANK(R114),\"\",IF(COUNT(R114:AA114)<>10,NA(),ASTM(ASTM($Y$142,4)*1000*(BH114/$AY$109),1)))","v":""},"",{"$f":"IF(ISBLANK(R114),\"\",IF(COUNT(R114:AA114)<>10,NA(),BI114/(33705*ASTM(R114,3))))","v":""},"",{"$f":"IF(ISBLANK(R114),\"\",IFERROR(ASTM(cityfuf(BJ114)-cityfuf(BJ113),3),\"\"))","v":""},{"$f":"IF(ISBLANK(R114),\"\",IF(OR(ISNUMBER(R114)=FALSE,ISNUMBER(AA114)=FALSE),NA(),IF(ASTM(W114,0)=0,0,BM114*ASTM(AA114,0))))","v":""},"",{"$f":"IF(ISBLANK(R114),\"\",IF(COUNT(R114:AA114)<>10,NA(),BL114*ASTM(R114,3)))","v":""},"",{"$f":"IF(ISBLANK(R114),\"\",IF(COUNT(R114:AA114)<>10,NA(),BQ114*ASTM(R114,3)))","v":""},"",{"$f":"IF(ISBLANK(R114),\"\",IF(COUNT(R114:AA114)<>10,NA(),ASTM(mdiuf(BS114),3)-ASTM(mdiuf(BS113),3)))","v":""},{"$f":"IF(ISBLANK(R114),\"\",IF(COUNT(R114:AA114)<>10,NA(),IF(ASTM(W114,0)=0,0,BT114*ASTM(W114,0)/(BQ114))))","v":""},"",{"$f":"IF(ISBLANK(R114),\"\",IF(COUNT(R114:AA114)<>10,NA(),ASTM(cityfufalt(BS114)-cityfufalt(BS113),3)))","v":""},"",{"$f":"IF(ISBLANK(R114),\"\",IF(COUNT(R114:AA114)<>10,NA(),IF(ASTM(W114,0)=0,0,BW114*ASTM(AA114,0)/(BQ114))))","v":""},null,8,{"$f":"IF(ISBLANK(AD114),\"\",IF(COUNT(AD114:AM114)<>10,NA(),IF(ASTM(AI114,0)=0,0,ASTM(AD114,3)/ASTM(AL114,1))))","v":""},{"$f":"IF(ISBLANK(AD114),\"\",IF(COUNT(AD114:AM114)<>10,NA(),IF(ASTM(AI114,0)=0,0,ASTM(ASTM(AI114,0)*ASTM(AD114,3),0))))","v":""},{"$f":"IF(ISBLANK(AD114),\"\",IF(COUNT(AD114:AM114)<>10,NA(),ASTM(AE114,3)-ASTM(AE113,3)))","v":""},{"$f":"IF(ISBLANK(AD114),\"\",IF(COUNT(AD114:AM114)<>10,NA(),ASTM(CD114*ASTM(AF114,2),1)))","v":""},{"$f":"IF(ISBLANK(AD114),\"\",IF(COUNT(AD114:AM114)<>10,NA(),ASTM(ASTM($AK$142,4)*1000*(CE114/$AZ$109),1)))","v":""},"",{"$f":"IF(ISBLANK(AD114),\"\",IF(COUNT(AD114:AM114)<>10,NA(),CF114/(33705*ASTM(AD114,3))))","v":""},"",{"$f":"IF(ISBLANK(AD114),\"\",ASTM(highwayfuf(CG114)-highwayfuf(CG113),3))","v":""},{"$f":"IF(ISBLANK(AD114),\"\",IF(OR(ISNUMBER(AD114)=FALSE,ISNUMBER(AM114)=FALSE),NA(),IF(ASTM(AI114,0)=0,0,CJ114*ASTM(AM114,0))))","v":""},"",{"$f":"IF(ISBLANK(AD114),\"\",IF(COUNT(AD114:AM114)<>10,NA(),CI114*ASTM(AD114,3)))","v":""},"",{"$f":"IF(ISBLANK(AD114),\"\",IF(COUNT(AD114:AM114)<>10,NA(),CN114*ASTM(AD114,3)))","v":""},"",{"$f":"IF(ISBLANK(AD114),\"\",IF(COUNT(AD114:AM114)<>10,NA(),ASTM(mdiuf(CP114)-mdiuf(CP113),3)))","v":""},{"$f":"IF(ISBLANK(AD114),\"\",IF(COUNT(AD114:AM114)<>10,NA(),IF(ASTM(AI114,0)=0,0,CQ114*ASTM(AI114,0)/(CN114))))","v":""},"",{"$f":"IF(ISBLANK(AD114),\"\",IF(COUNT(AD114:AM114)<>10,NA(),ASTM(highwayfufalt(CP114)-highwayfufalt(CP113),3)))","v":""},"",{"$f":"IF(ISBLANK(AD114),\"\",IF(COUNT(AD114:AM114)<>10,NA(),IF(ASTM(AI114,0)=0,0,CT114*ASTM(AM114,0)/(CN114))))","v":""}]
[null,null,"Composite Efficiency (Adjusted)",null,null,"MPGe",null,null,null,null,null,null,"Charge-Depleting Test Number:",null,null,null,9,null,null,null,null,null,null,null,null,{"$f":"IF(ISBLANK(R115),\"\",IF(OR($J$6=\"HD 2b/3\",COUNT(R115:W115)<>6,$AA$143<>\"Yes\",$AA$145<>\"Yes\"),NA(),IF(ASTM(W115,0)=0,0,ASTM((51740000*$T$142*$T$143)/((($T$142*U115)+(0.429*V115)+(0.273*W115))*((0.6*$T$143*$T$144)+5471)),1))))","v":""},{"$f":"IF(ISBLANK(R115),\"\",IF(OR(AND($J$6<>\"HD 2b/3\",COUNT(R115:W115)<>6),AND($J$6=\"HD 2b/3\",COUNT(R115)+COUNT(W115)<>2),$AA$143<>\"Yes\",$AA$145<>\"Yes\"),NA(),IF(ASTM(W115,0)=0,0,IF($J$6=\"HD 2b/3\",W115,ASTM((($T$142/0.273)*U115)+(1.571*V115)+W115,0)))))","v":""},null,9,null,null,null,null,null,null,null,null,{"$f":"IF(ISBLANK(AD115),\"\",IF(OR($J$6=\"HD 2b/3\",COUNT(AD115:AI115)<>6,$AM$47<>\"Yes\",$AM$49<>\"Yes\"),NA(),IF(ASTM(AI115,0)=0,0,ASTM((51740000*$AF$46*$AF$47)/((($AF$46*AG115)+(0.429*AH115)+(0.273*AI115))*((0.6*$AF$47*$AF$48)+5471)),1))))","v":""},{"$f":"IF(ISBLANK(AD115),\"\",IF(OR(AND($J$6<>\"HD 2b/3\",COUNT(AD115:AI115)<>6),AND($J$6=\"HD 2b/3\",COUNT(AD115)+COUNT(AI115)<>2),$AM$143<>\"Yes\",$AM$145<>\"Yes\"),NA(),IF(ASTM(AI115,0)=0,0,IF($J$6=\"HD 2b/3\",AI115,ASTM((($AF$142/0.273)*AG115)+(1.571*AH115)+AI115,0)))))","v":""},null,null,null,"CD Electricity Consumption  (kW-hr/100mi) [0]",null,null,{"$f":"IF($J$6=\"HD 2b/3\",NA(),IFERROR(ASTM(0.55*AY108+0.45*AZ108,0),0))","v":{"$error":"#N/A"}},null,null,null,"CD fuel economy (Rcda), adjusted (MPGe) [4]",{"$f":"IF($J$6=\"HD 2b/3\",NA(),IFERROR(ASTM( AY103/ ( SUMIF(BD107:BD141,\"<=\" & (AY130-1),BP107:BP141) + AY129*SUMIF(BD107:BD141,\"=\" & (AY130-1),BP107:BP141) ),4),0))","v":{"$error":"#N/A"}},{"$f":"IF($J$6=\"HD 2b/3\",NA(),IFERROR(ASTM( AZ103/ ( SUMIF(CA107:CA141,\"<=\" & (AZ130-1),CM107:CM141) + AZ129*SUMIF(CA107:CA141,\"=\" & (AZ130-1),CM107:CM141) ),4),0))","v":{"$error":"#N/A"}},null,null,null,9,{"$f":"IF(ISBLANK(R115),\"\",IF(COUNT(R115:AA115)<>10,NA(),IF(ASTM(W115,0)=0,0,IFERROR(ASTM(R115,3)/ASTM(Z115,1),0))))","v":""},{"$f":"IF(ISBLANK(R115),\"\",IF(COUNT(R115:AA115)<>10,NA(),IF(W115=0,0,ASTM(ASTM(W115,0)*ASTM(R115,3),0))))","v":""},{"$f":"IF(ISBLANK(R115),\"\",IF(COUNT(R115:AA115)<>10,NA(),ASTM(S115,3)-ASTM(S114,3)))","v":""},{"$f":"IF(ISBLANK(R115),\"\",IF(COUNT(R115:AA115)<>10,NA(),ASTM(BG115*ASTM(T115,2),1)))","v":""},{"$f":"IF(ISBLANK(R115),\"\",IF(COUNT(R115:AA115)<>10,NA(),ASTM(ASTM($Y$142,4)*1000*(BH115/$AY$109),1)))","v":""},"",{"$f":"IF(ISBLANK(R115),\"\",IF(COUNT(R115:AA115)<>10,NA(),BI115/(33705*ASTM(R115,3))))","v":""},"",{"$f":"IF(ISBLANK(R115),\"\",IFERROR(ASTM(cityfuf(BJ115)-cityfuf(BJ114),3),\"\"))","v":""},{"$f":"IF(ISBLANK(R115),\"\",IF(OR(ISNUMBER(R115)=FALSE,ISNUMBER(AA115)=FALSE),NA(),IF(ASTM(W115,0)=0,0,BM115*ASTM(AA115,0))))","v":""},"",{"$f":"IF(ISBLANK(R115),\"\",IF(COUNT(R115:AA115)<>10,NA(),BL115*ASTM(R115,3)))","v":""},"",{"$f":"IF(ISBLANK(R115),\"\",IF(COUNT(R115:AA115)<>10,NA(),BQ115*ASTM(R115,3)))","v":""},"",{"$f":"IF(ISBLANK(R115),\"\",IF(COUNT(R115:AA115)<>10,NA(),ASTM(mdiuf(BS115),3)-ASTM(mdiuf(BS114),3)))","v":""},{"$f":"IF(ISBLANK(R115),\"\",IF(COUNT(R115:AA115)<>10,NA(),IF(ASTM(W115,0)=0,0,BT115*ASTM(W115,0)/(BQ115))))","v":""},"",{"$f":"IF(ISBLANK(R115),\"\",IF(COUNT(R115:AA115)<>10,NA(),ASTM(cityfufalt(BS115)-cityfufalt(BS114),3)))","v":""},"",{"$f":"IF(ISBLANK(R115),\"\",IF(COUNT(R115:AA115)<>10,NA(),IF(ASTM(W115,0)=0,0,BW115*ASTM(AA115,0)/(BQ115))))","v":""},null,9,{"$f":"IF(ISBLANK(AD115),\"\",IF(COUNT(AD115:AM115)<>10,NA(),IF(ASTM(AI115,0)=0,0,ASTM(AD115,3)/ASTM(AL115,1))))","v":""},{"$f":"IF(ISBLANK(AD115),\"\",IF(COUNT(AD115:AM115)<>10,NA(),IF(ASTM(AI115,0)=0,0,ASTM(ASTM(AI115,0)*ASTM(AD115,3),0))))","v":""},{"$f":"IF(ISBLANK(AD115),\"\",IF(COUNT(AD115:AM115)<>10,NA(),ASTM(AE115,3)-ASTM(AE114,3)))","v":""},{"$f":"IF(ISBLANK(AD115),\"\",IF(COUNT(AD115:AM115)<>10,NA(),ASTM(CD115*ASTM(AF115,2),1)))","v":""},{"$f":"IF(ISBLANK(AD115),\"\",IF(COUNT(AD115:AM115)<>10,NA(),ASTM(ASTM($AK$142,4)*1000*(CE115/$AZ$109),1)))","v":""},"",{"$f":"IF(ISBLANK(AD115),\"\",IF(COUNT(AD115:AM115)<>10,NA(),CF115/(33705*ASTM(AD115,3))))","v":""},"",{"$f":"IF(ISBLANK(AD115),\"\",ASTM(highwayfuf(CG115)-highwayfuf(CG114),3))","v":""},{"$f":"IF(ISBLANK(AD115),\"\",IF(OR(ISNUMBER(AD115)=FALSE,ISNUMBER(AM115)=FALSE),NA(),IF(ASTM(AI115,0)=0,0,CJ115*ASTM(AM115,0))))","v":""},"",{"$f":"IF(ISBLANK(AD115),\"\",IF(COUNT(AD115:AM115)<>10,NA(),CI115*ASTM(AD115,3)))","v":""},"",{"$f":"IF(ISBLANK(AD115),\"\",IF(COUNT(AD115:AM115)<>10,NA(),CN115*ASTM(AD115,3)))","v":""},"",{"$f":"IF(ISBLANK(AD115),\"\",IF(COUNT(AD115:AM115)<>10,NA(),ASTM(mdiuf(CP115)-mdiuf(CP114),3)))","v":""},{"$f":"IF(ISBLANK(AD115),\"\",IF(COUNT(AD115:AM115)<>10,NA(),IF(ASTM(AI115,0)=0,0,CQ115*ASTM(AI115,0)/(CN115))))","v":""},"",{"$f":"IF(ISBLANK(AD115),\"\",IF(COUNT(AD115:AM115)<>10,NA(),ASTM(highwayfufalt(CP115)-highwayfufalt(CP114),3)))","v":""},"",{"$f":"IF(ISBLANK(AD115),\"\",IF(COUNT(AD115:AM115)<>10,NA(),IF(ASTM(AI115,0)=0,0,CT115*ASTM(AM115,0)/(CN115))))","v":""}]
[null,null,"City PHEV Composite MPGe",null,null,{"$f":"IF($J$6=\"HD 2b/3\",NA(),ASTM(D32,0))","v":{"$error":"#N/A"}},null,null,null,null,null,null,null,"CS_FTP","CS_Hwy",null,10,null,null,null,null,null,null,null,null,{"$f":"IF(ISBLANK(R116),\"\",IF(OR($J$6=\"HD 2b/3\",COUNT(R116:W116)<>6,$AA$143<>\"Yes\",$AA$145<>\"Yes\"),NA(),IF(ASTM(W116,0)=0,0,ASTM((51740000*$T$142*$T$143)/((($T$142*U116)+(0.429*V116)+(0.273*W116))*((0.6*$T$143*$T$144)+5471)),1))))","v":""},{"$f":"IF(ISBLANK(R116),\"\",IF(OR(AND($J$6<>\"HD 2b/3\",COUNT(R116:W116)<>6),AND($J$6=\"HD 2b/3\",COUNT(R116)+COUNT(W116)<>2),$AA$143<>\"Yes\",$AA$145<>\"Yes\"),NA(),IF(ASTM(W116,0)=0,0,IF($J$6=\"HD 2b/3\",W116,ASTM((($T$142/0.273)*U116)+(1.571*V116)+W116,0)))))","v":""},null,10,null,null,null,null,null,null,null,null,{"$f":"IF(ISBLANK(AD116),\"\",IF(OR($J$6=\"HD 2b/3\",COUNT(AD116:AI116)<>6,$AM$47<>\"Yes\",$AM$49<>\"Yes\"),NA(),IF(ASTM(AI116,0)=0,0,ASTM((51740000*$AF$46*$AF$47)/((($AF$46*AG116)+(0.429*AH116)+(0.273*AI116))*((0.6*$AF$47*$AF$48)+5471)),1))))","v":""},{"$f":"IF(ISBLANK(AD116),\"\",IF(OR(AND($J$6<>\"HD 2b/3\",COUNT(AD116:AI116)<>6),AND($J$6=\"HD 2b/3\",COUNT(AD116)+COUNT(AI116)<>2),$AM$143<>\"Yes\",$AM$145<>\"Yes\"),NA(),IF(ASTM(AI116,0)=0,0,IF($J$6=\"HD 2b/3\",AI116,ASTM((($AF$142/0.273)*AG116)+(1.571*AH116)+AI116,0)))))","v":""},null,null,null,"CD Gasoline Consumption (gal/100mi) [0]",null,null,{"$f":"IF($J$6=\"HD 2b/3\",NA(),IFERROR(ASTM(0.55*AY116+0.45*AZ116,1),0))","v":{"$error":"#N/A"}},null,null,null,"CD gasoline consumption rate (Rcda), adjusted (gal/100mi) [4]",{"$f":"IF($J$6=\"HD 2b/3\",NA(),IFERROR(ASTM(100*(SUMIF(BD107:BD141,\"<=\" & AY130-1,BE107:BE141)+AY129*SUMIF(BD107:BD141,\"=\" & AY130-1,BE107:BE141))/AY103,4),0))","v":{"$error":"#N/A"}},{"$f":"IF($J$6=\"HD 2b/3\",NA(),IFERROR(ASTM(100*(SUMIF(CA107:CA141,\"<=\" & AZ130-1,CB107:CB141)+AZ129*SUMIF(CA107:CA141,\"=\" & AZ130-1,CB107:CB141))/AZ103,4),0))","v":{"$error":"#N/A"}},null,null,null,10,{"$f":"IF(ISBLANK(R116),\"\",IF(COUNT(R116:AA116)<>10,NA(),IF(ASTM(W116,0)=0,0,IFERROR(ASTM(R116,3)/ASTM(Z116,1),0))))","v":""},{"$f":"IF(ISBLANK(R116),\"\",IF(COUNT(R116:AA116)<>10,NA(),IF(W116=0,0,ASTM(ASTM(W116,0)*ASTM(R116,3),0))))","v":""},{"$f":"IF(ISBLANK(R116),\"\",IF(COUNT(R116:AA116)<>10,NA(),ASTM(S116,3)-ASTM(S115,3)))","v":""},{"$f":"IF(ISBLANK(R116),\"\",IF(COUNT(R116:AA116)<>10,NA(),ASTM(BG116*ASTM(T116,2),1)))","v":""},{"$f":"IF(ISBLANK(R116),\"\",IF(COUNT(R116:AA116)<>10,NA(),ASTM(ASTM($Y$142,4)*1000*(BH116/$AY$109),1)))","v":""},"",{"$f":"IF(ISBLANK(R116),\"\",IF(COUNT(R116:AA116)<>10,NA(),BI116/(33705*ASTM(R116,3))))","v":""},"",{"$f":"IF(ISBLANK(R116),\"\",IFERROR(ASTM(cityfuf(BJ116)-cityfuf(BJ115),3),\"\"))","v":""},{"$f":"IF(ISBLANK(R116),\"\",IF(OR(ISNUMBER(R116)=FALSE,ISNUMBER(AA116)=FALSE),NA(),IF(ASTM(W116,0)=0,0,BM116*ASTM(AA116,0))))","v":""},"",{"$f":"IF(ISBLANK(R116),\"\",IF(COUNT(R116:AA116)<>10,NA(),BL116*ASTM(R116,3)))","v":""},"",{"$f":"IF(ISBLANK(R116),\"\",IF(COUNT(R116:AA116)<>10,NA(),BQ116*ASTM(R116,3)))","v":""},"",{"$f":"IF(ISBLANK(R116),\"\",IF(COUNT(R116:AA116)<>10,NA(),ASTM(mdiuf(BS116),3)-ASTM(mdiuf(BS115),3)))","v":""},{"$f":"IF(ISBLANK(R116),\"\",IF(COUNT(R116:AA116)<>10,NA(),IF(ASTM(W116,0)=0,0,BT116*ASTM(W116,0)/(BQ116))))","v":""},"",{"$f":"IF(ISBLANK(R116),\"\",IF(COUNT(R116:AA116)<>10,NA(),ASTM(cityfufalt(BS116)-cityfufalt(BS115),3)))","v":""},"",{"$f":"IF(ISBLANK(R116),\"\",IF(COUNT(R116:AA116)<>10,NA(),IF(ASTM(W116,0)=0,0,BW116*ASTM(AA116,0)/(BQ116))))","v":""},null,10,{"$f":"IF(ISBLANK(AD116),\"\",IF(COUNT(AD116:AM116)<>10,NA(),IF(ASTM(AI116,0)=0,0,ASTM(AD116,3)/ASTM(AL116,1))))","v":""},{"$f":"IF(ISBLANK(AD116),\"\",IF(COUNT(AD116:AM116)<>10,NA(),IF(ASTM(AI116,0)=0,0,ASTM(ASTM(AI116,0)*ASTM(AD116,3),0))))","v":""},{"$f":"IF(ISBLANK(AD116),\"\",IF(COUNT(AD116:AM116)<>10,NA(),ASTM(AE116,3)-ASTM(AE115,3)))","v":""},{"$f":"IF(ISBLANK(AD116),\"\",IF(COUNT(AD116:AM116)<>10,NA(),ASTM(CD116*ASTM(AF116,2),1)))","v":""},{"$f":"IF(ISBLANK(AD116),\"\",IF(COUNT(AD116:AM116)<>10,NA(),ASTM(ASTM($AK$142,4)*1000*(CE116/$AZ$109),1)))","v":""},"",{"$f":"IF(ISBLANK(AD116),\"\",IF(COUNT(AD116:AM116)<>10,NA(),CF116/(33705*ASTM(AD116,3))))","v":""},"",{"$f":"IF(ISBLANK(AD116),\"\",ASTM(highwayfuf(CG116)-highwayfuf(CG115),3))","v":""},{"$f":"IF(ISBLANK(AD116),\"\",IF(OR(ISNUMBER(AD116)=FALSE,ISNUMBER(AM116)=FALSE),NA(),IF(ASTM(AI116,0)=0,0,CJ116*ASTM(AM116,0))))","v":""},"",{"$f":"IF(ISBLANK(AD116),\"\",IF(COUNT(AD116:AM116)<>10,NA(),CI116*ASTM(AD116,3)))","v":""},"",{"$f":"IF(ISBLANK(AD116),\"\",IF(COUNT(AD116:AM116)<>10,NA(),CN116*ASTM(AD116,3)))","v":""},"",{"$f":"IF(ISBLANK(AD116),\"\",IF(COUNT(AD116:AM116)<>10,NA(),ASTM(mdiuf(CP116)-mdiuf(CP115),3)))","v":""},{"$f":"IF(ISBLANK(AD116),\"\",IF(COUNT(AD116:AM116)<>10,NA(),IF(ASTM(AI116,0)=0,0,CQ116*ASTM(AI116,0)/(CN116))))","v":""},"",{"$f":"IF(ISBLANK(AD116),\"\",IF(COUNT(AD116:AM116)<>10,NA(),ASTM(highwayfufalt(CP116)-highwayfufalt(CP115),3)))","v":""},"",{"$f":"IF(ISBLANK(AD116),\"\",IF(COUNT(AD116:AM116)<>10,NA(),IF(ASTM(AI116,0)=0,0,CT116*ASTM(AM116,0)/(CN116))))","v":""}]
[null,null,"Hwy PHEV Composite MPGe",null,null,{"$f":"IF($J$6=\"HD 2b/3\",NA(),ASTM(E32,0))","v":{"$error":"#N/A"}},null,null,null,null,null,null,"Charge-Sustaining FTP/Hwy (Required):",null,null,null,11,null,null,null,null,null,null,null,null,{"$f":"IF(ISBLANK(R117),\"\",IF(OR($J$6=\"HD 2b/3\",COUNT(R117:W117)<>6,$AA$143<>\"Yes\",$AA$145<>\"Yes\"),NA(),IF(ASTM(W117,0)=0,0,ASTM((51740000*$T$142*$T$143)/((($T$142*U117)+(0.429*V117)+(0.273*W117))*((0.6*$T$143*$T$144)+5471)),1))))","v":""},{"$f":"IF(ISBLANK(R117),\"\",IF(OR(AND($J$6<>\"HD 2b/3\",COUNT(R117:W117)<>6),AND($J$6=\"HD 2b/3\",COUNT(R117)+COUNT(W117)<>2),$AA$143<>\"Yes\",$AA$145<>\"Yes\"),NA(),IF(ASTM(W117,0)=0,0,IF($J$6=\"HD 2b/3\",W117,ASTM((($T$142/0.273)*U117)+(1.571*V117)+W117,0)))))","v":""},null,11,null,null,null,null,null,null,null,null,{"$f":"IF(ISBLANK(AD117),\"\",IF(OR($J$6=\"HD 2b/3\",COUNT(AD117:AI117)<>6,$AM$47<>\"Yes\",$AM$49<>\"Yes\"),NA(),IF(ASTM(AI117,0)=0,0,ASTM((51740000*$AF$46*$AF$47)/((($AF$46*AG117)+(0.429*AH117)+(0.273*AI117))*((0.6*$AF$47*$AF$48)+5471)),1))))","v":""},{"$f":"IF(ISBLANK(AD117),\"\",IF(OR(AND($J$6<>\"HD 2b/3\",COUNT(AD117:AI117)<>6),AND($J$6=\"HD 2b/3\",COUNT(AD117)+COUNT(AI117)<>2),$AM$143<>\"Yes\",$AM$145<>\"Yes\"),NA(),IF(ASTM(AI117,0)=0,0,IF($J$6=\"HD 2b/3\",AI117,ASTM((($AF$142/0.273)*AG117)+(1.571*AH117)+AI117,0)))))","v":""},null,null,null,"Charge-Sustaining",null,null,"Combined",null,null,"NEW","CD fuel economy (Rcda), unadjusted (MPGe) [4]",{"$f":"IF($J$6=\"HD 2b/3\",NA(),ASTM(IFERROR(AY102/ ( SUMIF(BD107:BD141,\"<=\" & (AY130-1),BP107:BP141) + AY129*SUMIF(BD107:BD141,\"=\" & (AY130-1),BP107:BP141) ),0),4))","v":{"$error":"#N/A"}},{"$f":"IF($J$6=\"HD 2b/3\",NA(),ASTM(IFERROR(AZ102/ ( SUMIF(CA107:CA141,\"<=\" & (AZ130-1),CM107:CM141) + AZ129*SUMIF(CA107:CA141,\"=\" & (AZ130-1),CM107:CM141) ),0),4))","v":{"$error":"#N/A"}},null,null,null,11,{"$f":"IF(ISBLANK(R117),\"\",IF(COUNT(R117:AA117)<>10,NA(),IF(ASTM(W117,0)=0,0,IFERROR(ASTM(R117,3)/ASTM(Z117,1),0))))","v":""},{"$f":"IF(ISBLANK(R117),\"\",IF(COUNT(R117:AA117)<>10,NA(),IF(W117=0,0,ASTM(ASTM(W117,0)*ASTM(R117,3),0))))","v":""},{"$f":"IF(ISBLANK(R117),\"\",IF(COUNT(R117:AA117)<>10,NA(),ASTM(S117,3)-ASTM(S116,3)))","v":""},{"$f":"IF(ISBLANK(R117),\"\",IF(COUNT(R117:AA117)<>10,NA(),ASTM(BG117*ASTM(T117,2),1)))","v":""},{"$f":"IF(ISBLANK(R117),\"\",IF(COUNT(R117:AA117)<>10,NA(),ASTM(ASTM($Y$142,4)*1000*(BH117/$AY$109),1)))","v":""},"",{"$f":"IF(ISBLANK(R117),\"\",IF(COUNT(R117:AA117)<>10,NA(),BI117/(33705*ASTM(R117,3))))","v":""},"",{"$f":"IF(ISBLANK(R117),\"\",IFERROR(ASTM(cityfuf(BJ117)-cityfuf(BJ116),3),\"\"))","v":""},{"$f":"IF(ISBLANK(R117),\"\",IF(OR(ISNUMBER(R117)=FALSE,ISNUMBER(AA117)=FALSE),NA(),IF(ASTM(W117,0)=0,0,BM117*ASTM(AA117,0))))","v":""},"",{"$f":"IF(ISBLANK(R117),\"\",IF(COUNT(R117:AA117)<>10,NA(),BL117*ASTM(R117,3)))","v":""},"",{"$f":"IF(ISBLANK(R117),\"\",IF(COUNT(R117:AA117)<>10,NA(),BQ117*ASTM(R117,3)))","v":""},"",{"$f":"IF(ISBLANK(R117),\"\",IF(COUNT(R117:AA117)<>10,NA(),ASTM(mdiuf(BS117),3)-ASTM(mdiuf(BS116),3)))","v":""},{"$f":"IF(ISBLANK(R117),\"\",IF(COUNT(R117:AA117)<>10,NA(),IF(ASTM(W117,0)=0,0,BT117*ASTM(W117,0)/(BQ117))))","v":""},"",{"$f":"IF(ISBLANK(R117),\"\",IF(COUNT(R117:AA117)<>10,NA(),ASTM(cityfufalt(BS117)-cityfufalt(BS116),3)))","v":""},"",{"$f":"IF(ISBLANK(R117),\"\",IF(COUNT(R117:AA117)<>10,NA(),IF(ASTM(W117,0)=0,0,BW117*ASTM(AA117,0)/(BQ117))))","v":""},null,11,{"$f":"IF(ISBLANK(AD117),\"\",IF(COUNT(AD117:AM117)<>10,NA(),IF(ASTM(AI117,0)=0,0,ASTM(AD117,3)/ASTM(AL117,1))))","v":""},{"$f":"IF(ISBLANK(AD117),\"\",IF(COUNT(AD117:AM117)<>10,NA(),IF(ASTM(AI117,0)=0,0,ASTM(ASTM(AI117,0)*ASTM(AD117,3),0))))","v":""},{"$f":"IF(ISBLANK(AD117),\"\",IF(COUNT(AD117:AM117)<>10,NA(),ASTM(AE117,3)-ASTM(AE116,3)))","v":""},{"$f":"IF(ISBLANK(AD117),\"\",IF(COUNT(AD117:AM117)<>10,NA(),ASTM(CD117*ASTM(AF117,2),1)))","v":""},{"$f":"IF(ISBLANK(AD117),\"\",IF(COUNT(AD117:AM117)<>10,NA(),ASTM(ASTM($AK$142,4)*1000*(CE117/$AZ$109),1)))","v":""},"",{"$f":"IF(ISBLANK(AD117),\"\",IF(COUNT(AD117:AM117)<>10,NA(),CF117/(33705*ASTM(AD117,3))))","v":""},"",{"$f":"IF(ISBLANK(AD117),\"\",ASTM(highwayfuf(CG117)-highwayfuf(CG116),3))","v":""},{"$f":"IF(ISBLANK(AD117),\"\",IF(OR(ISNUMBER(AD117)=FALSE,ISNUMBER(AM117)=FALSE),NA(),IF(ASTM(AI117,0)=0,0,CJ117*ASTM(AM117,0))))","v":""},"",{"$f":"IF(ISBLANK(AD117),\"\",IF(COUNT(AD117:AM117)<>10,NA(),CI117*ASTM(AD117,3)))","v":""},"",{"$f":"IF(ISBLANK(AD117),\"\",IF(COUNT(AD117:AM117)<>10,NA(),CN117*ASTM(AD117,3)))","v":""},"",{"$f":"IF(ISBLANK(AD117),\"\",IF(COUNT(AD117:AM117)<>10,NA(),ASTM(mdiuf(CP117)-mdiuf(CP116),3)))","v":""},{"$f":"IF(ISBLANK(AD117),\"\",IF(COUNT(AD117:AM117)<>10,NA(),IF(ASTM(AI117,0)=0,0,CQ117*ASTM(AI117,0)/(CN117))))","v":""},"",{"$f":"IF(ISBLANK(AD117),\"\",IF(COUNT(AD117:AM117)<>10,NA(),ASTM(highwayfufalt(CP117)-highwayfufalt(CP116),3)))","v":""},"",{"$f":"IF(ISBLANK(AD117),\"\",IF(COUNT(AD117:AM117)<>10,NA(),IF(ASTM(AI117,0)=0,0,CT117*ASTM(AM117,0)/(CN117))))","v":""}]
[null,null,"Combined PHEV Composite MPGe",null,null,{"$f":"IF($J$6=\"HD 2b/3\",NA(),F32)","v":{"$error":"#N/A"}},null,null,null,null,null,null,"Charge-Sustaining FTP/Hwy (Optional):",null,null,null,12,null,null,null,null,null,null,null,null,{"$f":"IF(ISBLANK(R118),\"\",IF(OR($J$6=\"HD 2b/3\",COUNT(R118:W118)<>6,$AA$143<>\"Yes\",$AA$145<>\"Yes\"),NA(),IF(ASTM(W118,0)=0,0,ASTM((51740000*$T$142*$T$143)/((($T$142*U118)+(0.429*V118)+(0.273*W118))*((0.6*$T$143*$T$144)+5471)),1))))","v":""},{"$f":"IF(ISBLANK(R118),\"\",IF(OR(AND($J$6<>\"HD 2b/3\",COUNT(R118:W118)<>6),AND($J$6=\"HD 2b/3\",COUNT(R118)+COUNT(W118)<>2),$AA$143<>\"Yes\",$AA$145<>\"Yes\"),NA(),IF(ASTM(W118,0)=0,0,IF($J$6=\"HD 2b/3\",W118,ASTM((($T$142/0.273)*U118)+(1.571*V118)+W118,0)))))","v":""},null,12,null,null,null,null,null,null,null,null,{"$f":"IF(ISBLANK(AD118),\"\",IF(OR($J$6=\"HD 2b/3\",COUNT(AD118:AI118)<>6,$AM$47<>\"Yes\",$AM$49<>\"Yes\"),NA(),IF(ASTM(AI118,0)=0,0,ASTM((51740000*$AF$46*$AF$47)/((($AF$46*AG118)+(0.429*AH118)+(0.273*AI118))*((0.6*$AF$47*$AF$48)+5471)),1))))","v":""},{"$f":"IF(ISBLANK(AD118),\"\",IF(OR(AND($J$6<>\"HD 2b/3\",COUNT(AD118:AI118)<>6),AND($J$6=\"HD 2b/3\",COUNT(AD118)+COUNT(AI118)<>2),$AM$143<>\"Yes\",$AM$145<>\"Yes\"),NA(),IF(ASTM(AI118,0)=0,0,IF($J$6=\"HD 2b/3\",AI118,ASTM((($AF$142/0.273)*AG118)+(1.571*AH118)+AI118,0)))))","v":""},null,null,null,"CS Fuel Economy (MPG) [0]",{"$f":"IF($J$6=\"HD 2b/3\",NA(),IFERROR(ASTM(N108,4),0))","v":{"$error":"#N/A"}},{"$f":"IF($J$6=\"HD 2b/3\",NA(),IFERROR(ASTM(O108,4),0))","v":{"$error":"#N/A"}},{"$f":"IF($J$6=\"HD 2b/3\",NA(),IFERROR(ASTM(1/(0.55/AR118+0.45/AS118),0),0))","v":{"$error":"#N/A"}},null,null,"NEW","CD AC electricity consumption rate (Rcda), unadjusted  (kW-hr/100mi) [3]",{"$f":"IF($J$6=\"HD 2b/3\",NA(),ASTM(IFERROR((IFERROR( ( SUMIF(BD107:BD141,\"<=\" & (AY130-1),BI107:BI141) + AY129*SUMIF(BD107:BD141,\"=\" & (AY130-1),BI107:BI141) ) / AY102 *100 / 1000, 0)),0),3))","v":{"$error":"#N/A"}},{"$f":"IF($J$6=\"HD 2b/3\",NA(),ASTM(IFERROR((IFERROR( ( SUMIF(CA107:CA141,\"<=\" & (AZ130-1),CF107:CF141) + AZ129*SUMIF(CA107:CA141,\"=\" & (AZ130-1),CF107:CF141) ) / AZ102 *100 / 1000, 0)),0),3))","v":{"$error":"#N/A"}},null,null,null,12,{"$f":"IF(ISBLANK(R118),\"\",IF(COUNT(R118:AA118)<>10,NA(),IF(ASTM(W118,0)=0,0,IFERROR(ASTM(R118,3)/ASTM(Z118,1),0))))","v":""},{"$f":"IF(ISBLANK(R118),\"\",IF(COUNT(R118:AA118)<>10,NA(),IF(W118=0,0,ASTM(ASTM(W118,0)*ASTM(R118,3),0))))","v":""},{"$f":"IF(ISBLANK(R118),\"\",IF(COUNT(R118:AA118)<>10,NA(),ASTM(S118,3)-ASTM(S117,3)))","v":""},{"$f":"IF(ISBLANK(R118),\"\",IF(COUNT(R118:AA118)<>10,NA(),ASTM(BG118*ASTM(T118,2),1)))","v":""},{"$f":"IF(ISBLANK(R118),\"\",IF(COUNT(R118:AA118)<>10,NA(),ASTM(ASTM($Y$142,4)*1000*(BH118/$AY$109),1)))","v":""},"",{"$f":"IF(ISBLANK(R118),\"\",IF(COUNT(R118:AA118)<>10,NA(),BI118/(33705*ASTM(R118,3))))","v":""},"",{"$f":"IF(ISBLANK(R118),\"\",IFERROR(ASTM(cityfuf(BJ118)-cityfuf(BJ117),3),\"\"))","v":""},{"$f":"IF(ISBLANK(R118),\"\",IF(OR(ISNUMBER(R118)=FALSE,ISNUMBER(AA118)=FALSE),NA(),IF(ASTM(W118,0)=0,0,BM118*ASTM(AA118,0))))","v":""},"",{"$f":"IF(ISBLANK(R118),\"\",IF(COUNT(R118:AA118)<>10,NA(),BL118*ASTM(R118,3)))","v":""},"",{"$f":"IF(ISBLANK(R118),\"\",IF(COUNT(R118:AA118)<>10,NA(),BQ118*ASTM(R118,3)))","v":""},"",{"$f":"IF(ISBLANK(R118),\"\",IF(COUNT(R118:AA118)<>10,NA(),ASTM(mdiuf(BS118),3)-ASTM(mdiuf(BS117),3)))","v":""},{"$f":"IF(ISBLANK(R118),\"\",IF(COUNT(R118:AA118)<>10,NA(),IF(ASTM(W118,0)=0,0,BT118*ASTM(W118,0)/(BQ118))))","v":""},"",{"$f":"IF(ISBLANK(R118),\"\",IF(COUNT(R118:AA118)<>10,NA(),ASTM(cityfufalt(BS118)-cityfufalt(BS117),3)))","v":""},"",{"$f":"IF(ISBLANK(R118),\"\",IF(COUNT(R118:AA118)<>10,NA(),IF(ASTM(W118,0)=0,0,BW118*ASTM(AA118,0)/(BQ118))))","v":""},null,12,{"$f":"IF(ISBLANK(AD118),\"\",IF(COUNT(AD118:AM118)<>10,NA(),IF(ASTM(AI118,0)=0,0,ASTM(AD118,3)/ASTM(AL118,1))))","v":""},{"$f":"IF(ISBLANK(AD118),\"\",IF(COUNT(AD118:AM118)<>10,NA(),IF(ASTM(AI118,0)=0,0,ASTM(ASTM(AI118,0)*ASTM(AD118,3),0))))","v":""},{"$f":"IF(ISBLANK(AD118),\"\",IF(COUNT(AD118:AM118)<>10,NA(),ASTM(AE118,3)-ASTM(AE117,3)))","v":""},{"$f":"IF(ISBLANK(AD118),\"\",IF(COUNT(AD118:AM118)<>10,NA(),ASTM(CD118*ASTM(AF118,2),1)))","v":""},{"$f":"IF(ISBLANK(AD118),\"\",IF(COUNT(AD118:AM118)<>10,NA(),ASTM(ASTM($AK$142,4)*1000*(CE118/$AZ$109),1)))","v":""},"",{"$f":"IF(ISBLANK(AD118),\"\",IF(COUNT(AD118:AM118)<>10,NA(),CF118/(33705*ASTM(AD118,3))))","v":""},"",{"$f":"IF(ISBLANK(AD118),\"\",ASTM(highwayfuf(CG118)-highwayfuf(CG117),3))","v":""},{"$f":"IF(ISBLANK(AD118),\"\",IF(OR(ISNUMBER(AD118)=FALSE,ISNUMBER(AM118)=FALSE),NA(),IF(ASTM(AI118,0)=0,0,CJ118*ASTM(AM118,0))))","v":""},"",{"$f":"IF(ISBLANK(AD118),\"\",IF(COUNT(AD118:AM118)<>10,NA(),CI118*ASTM(AD118,3)))","v":""},"",{"$f":"IF(ISBLANK(AD118),\"\",IF(COUNT(AD118:AM118)<>10,NA(),CN118*ASTM(AD118,3)))","v":""},"",{"$f":"IF(ISBLANK(AD118),\"\",IF(COUNT(AD118:AM118)<>10,NA(),ASTM(mdiuf(CP118)-mdiuf(CP117),3)))","v":""},{"$f":"IF(ISBLANK(AD118),\"\",IF(COUNT(AD118:AM118)<>10,NA(),IF(ASTM(AI118,0)=0,0,CQ118*ASTM(AI118,0)/(CN118))))","v":""},"",{"$f":"IF(ISBLANK(AD118),\"\",IF(COUNT(AD118:AM118)<>10,NA(),ASTM(highwayfufalt(CP118)-highwayfufalt(CP117),3)))","v":""},"",{"$f":"IF(ISBLANK(AD118),\"\",IF(COUNT(AD118:AM118)<>10,NA(),IF(ASTM(AI118,0)=0,0,CT118*ASTM(AM118,0)/(CN118))))","v":""}]
[null,null,"Composite CO2 (Adjusted)",null,null,"g/mi",null,null,null,null,null,null,"Charge-Sustaining FTP/Hwy (Optional):",null,null,null,13,null,null,null,null,null,null,null,null,{"$f":"IF(ISBLANK(R119),\"\",IF(OR($J$6=\"HD 2b/3\",COUNT(R119:W119)<>6,$AA$143<>\"Yes\",$AA$145<>\"Yes\"),NA(),IF(ASTM(W119,0)=0,0,ASTM((51740000*$T$142*$T$143)/((($T$142*U119)+(0.429*V119)+(0.273*W119))*((0.6*$T$143*$T$144)+5471)),1))))","v":""},{"$f":"IF(ISBLANK(R119),\"\",IF(OR(AND($J$6<>\"HD 2b/3\",COUNT(R119:W119)<>6),AND($J$6=\"HD 2b/3\",COUNT(R119)+COUNT(W119)<>2),$AA$143<>\"Yes\",$AA$145<>\"Yes\"),NA(),IF(ASTM(W119,0)=0,0,IF($J$6=\"HD 2b/3\",W119,ASTM((($T$142/0.273)*U119)+(1.571*V119)+W119,0)))))","v":""},null,13,null,null,null,null,null,null,null,null,{"$f":"IF(ISBLANK(AD119),\"\",IF(OR($J$6=\"HD 2b/3\",COUNT(AD119:AI119)<>6,$AM$47<>\"Yes\",$AM$49<>\"Yes\"),NA(),IF(ASTM(AI119,0)=0,0,ASTM((51740000*$AF$46*$AF$47)/((($AF$46*AG119)+(0.429*AH119)+(0.273*AI119))*((0.6*$AF$47*$AF$48)+5471)),1))))","v":""},{"$f":"IF(ISBLANK(AD119),\"\",IF(OR(AND($J$6<>\"HD 2b/3\",COUNT(AD119:AI119)<>6),AND($J$6=\"HD 2b/3\",COUNT(AD119)+COUNT(AI119)<>2),$AM$143<>\"Yes\",$AM$145<>\"Yes\"),NA(),IF(ASTM(AI119,0)=0,0,IF($J$6=\"HD 2b/3\",AI119,ASTM((($AF$142/0.273)*AG119)+(1.571*AH119)+AI119,0)))))","v":""},null,null,null,"CS Fuel Consumption (gal/100mi) [1]",{"$f":"IF($J$6=\"HD 2b/3\",NA(),IFERROR(ASTM(100/AR118,1),0))","v":{"$error":"#N/A"}},{"$f":"IF($J$6=\"HD 2b/3\",NA(),IFERROR(ASTM(100/AS118,1),0))","v":{"$error":"#N/A"}},{"$f":"IF($J$6=\"HD 2b/3\",NA(),IFERROR(ASTM(100/AT118,1),0))","v":{"$error":"#N/A"}},null,null,null,"GHG EMISSIONS VALUES","CITY","HIGHWAY",null,null,null,13,{"$f":"IF(ISBLANK(R119),\"\",IF(COUNT(R119:AA119)<>10,NA(),IF(ASTM(W119,0)=0,0,IFERROR(ASTM(R119,3)/ASTM(Z119,1),0))))","v":""},{"$f":"IF(ISBLANK(R119),\"\",IF(COUNT(R119:AA119)<>10,NA(),IF(W119=0,0,ASTM(ASTM(W119,0)*ASTM(R119,3),0))))","v":""},{"$f":"IF(ISBLANK(R119),\"\",IF(COUNT(R119:AA119)<>10,NA(),ASTM(S119,3)-ASTM(S118,3)))","v":""},{"$f":"IF(ISBLANK(R119),\"\",IF(COUNT(R119:AA119)<>10,NA(),ASTM(BG119*ASTM(T119,2),1)))","v":""},{"$f":"IF(ISBLANK(R119),\"\",IF(COUNT(R119:AA119)<>10,NA(),ASTM(ASTM($Y$142,4)*1000*(BH119/$AY$109),1)))","v":""},"",{"$f":"IF(ISBLANK(R119),\"\",IF(COUNT(R119:AA119)<>10,NA(),BI119/(33705*ASTM(R119,3))))","v":""},"",{"$f":"IF(ISBLANK(R119),\"\",IFERROR(ASTM(cityfuf(BJ119)-cityfuf(BJ118),3),\"\"))","v":""},{"$f":"IF(ISBLANK(R119),\"\",IF(OR(ISNUMBER(R119)=FALSE,ISNUMBER(AA119)=FALSE),NA(),IF(ASTM(W119,0)=0,0,BM119*ASTM(AA119,0))))","v":""},"",{"$f":"IF(ISBLANK(R119),\"\",IF(COUNT(R119:AA119)<>10,NA(),BL119*ASTM(R119,3)))","v":""},"",{"$f":"IF(ISBLANK(R119),\"\",IF(COUNT(R119:AA119)<>10,NA(),BQ119*ASTM(R119,3)))","v":""},"",{"$f":"IF(ISBLANK(R119),\"\",IF(COUNT(R119:AA119)<>10,NA(),ASTM(mdiuf(BS119),3)-ASTM(mdiuf(BS118),3)))","v":""},{"$f":"IF(ISBLANK(R119),\"\",IF(COUNT(R119:AA119)<>10,NA(),IF(ASTM(W119,0)=0,0,BT119*ASTM(W119,0)/(BQ119))))","v":""},"",{"$f":"IF(ISBLANK(R119),\"\",IF(COUNT(R119:AA119)<>10,NA(),ASTM(cityfufalt(BS119)-cityfufalt(BS118),3)))","v":""},"",{"$f":"IF(ISBLANK(R119),\"\",IF(COUNT(R119:AA119)<>10,NA(),IF(ASTM(W119,0)=0,0,BW119*ASTM(AA119,0)/(BQ119))))","v":""},null,13,{"$f":"IF(ISBLANK(AD119),\"\",IF(COUNT(AD119:AM119)<>10,NA(),IF(ASTM(AI119,0)=0,0,ASTM(AD119,3)/ASTM(AL119,1))))","v":""},{"$f":"IF(ISBLANK(AD119),\"\",IF(COUNT(AD119:AM119)<>10,NA(),IF(ASTM(AI119,0)=0,0,ASTM(ASTM(AI119,0)*ASTM(AD119,3),0))))","v":""},{"$f":"IF(ISBLANK(AD119),\"\",IF(COUNT(AD119:AM119)<>10,NA(),ASTM(AE119,3)-ASTM(AE118,3)))","v":""},{"$f":"IF(ISBLANK(AD119),\"\",IF(COUNT(AD119:AM119)<>10,NA(),ASTM(CD119*ASTM(AF119,2),1)))","v":""},{"$f":"IF(ISBLANK(AD119),\"\",IF(COUNT(AD119:AM119)<>10,NA(),ASTM(ASTM($AK$142,4)*1000*(CE119/$AZ$109),1)))","v":""},"",{"$f":"IF(ISBLANK(AD119),\"\",IF(COUNT(AD119:AM119)<>10,NA(),CF119/(33705*ASTM(AD119,3))))","v":""},"",{"$f":"IF(ISBLANK(AD119),\"\",ASTM(highwayfuf(CG119)-highwayfuf(CG118),3))","v":""},{"$f":"IF(ISBLANK(AD119),\"\",IF(OR(ISNUMBER(AD119)=FALSE,ISNUMBER(AM119)=FALSE),NA(),IF(ASTM(AI119,0)=0,0,CJ119*ASTM(AM119,0))))","v":""},"",{"$f":"IF(ISBLANK(AD119),\"\",IF(COUNT(AD119:AM119)<>10,NA(),CI119*ASTM(AD119,3)))","v":""},"",{"$f":"IF(ISBLANK(AD119),\"\",IF(COUNT(AD119:AM119)<>10,NA(),CN119*ASTM(AD119,3)))","v":""},"",{"$f":"IF(ISBLANK(AD119),\"\",IF(COUNT(AD119:AM119)<>10,NA(),ASTM(mdiuf(CP119)-mdiuf(CP118),3)))","v":""},{"$f":"IF(ISBLANK(AD119),\"\",IF(COUNT(AD119:AM119)<>10,NA(),IF(ASTM(AI119,0)=0,0,CQ119*ASTM(AI119,0)/(CN119))))","v":""},"",{"$f":"IF(ISBLANK(AD119),\"\",IF(COUNT(AD119:AM119)<>10,NA(),ASTM(highwayfufalt(CP119)-highwayfufalt(CP118),3)))","v":""},"",{"$f":"IF(ISBLANK(AD119),\"\",IF(COUNT(AD119:AM119)<>10,NA(),IF(ASTM(AI119,0)=0,0,CT119*ASTM(AM119,0)/(CN119))))","v":""}]
[null,null,"City CO2-PHEV Composite Rounded Adjusted CO2",null,null,{"$f":"IF($J$6=\"HD 2b/3\",NA(),ASTM(D31,0))","v":{"$error":"#N/A"}},null,null,null,null,null,null,null,null,null,null,14,null,null,null,null,null,null,null,null,{"$f":"IF(ISBLANK(R120),\"\",IF(OR($J$6=\"HD 2b/3\",COUNT(R120:W120)<>6,$AA$143<>\"Yes\",$AA$145<>\"Yes\"),NA(),IF(ASTM(W120,0)=0,0,ASTM((51740000*$T$142*$T$143)/((($T$142*U120)+(0.429*V120)+(0.273*W120))*((0.6*$T$143*$T$144)+5471)),1))))","v":""},{"$f":"IF(ISBLANK(R120),\"\",IF(OR(AND($J$6<>\"HD 2b/3\",COUNT(R120:W120)<>6),AND($J$6=\"HD 2b/3\",COUNT(R120)+COUNT(W120)<>2),$AA$143<>\"Yes\",$AA$145<>\"Yes\"),NA(),IF(ASTM(W120,0)=0,0,IF($J$6=\"HD 2b/3\",W120,ASTM((($T$142/0.273)*U120)+(1.571*V120)+W120,0)))))","v":""},null,14,null,null,null,null,null,null,null,null,{"$f":"IF(ISBLANK(AD120),\"\",IF(OR($J$6=\"HD 2b/3\",COUNT(AD120:AI120)<>6,$AM$47<>\"Yes\",$AM$49<>\"Yes\"),NA(),IF(ASTM(AI120,0)=0,0,ASTM((51740000*$AF$46*$AF$47)/((($AF$46*AG120)+(0.429*AH120)+(0.273*AI120))*((0.6*$AF$47*$AF$48)+5471)),1))))","v":""},{"$f":"IF(ISBLANK(AD120),\"\",IF(OR(AND($J$6<>\"HD 2b/3\",COUNT(AD120:AI120)<>6),AND($J$6=\"HD 2b/3\",COUNT(AD120)+COUNT(AI120)<>2),$AM$143<>\"Yes\",$AM$145<>\"Yes\"),NA(),IF(ASTM(AI120,0)=0,0,IF($J$6=\"HD 2b/3\",AI120,ASTM((($AF$142/0.273)*AG120)+(1.571*AH120)+AI120,0)))))","v":""},null,null,null,"Composite CD/CS",null,null,"Combined",null,null,null,"CD CO2 emissions rate (Rcda), unadjusted (g/mi) [1]",{"$f":"IF($J$6=\"HD 2b/3\",NA(),IFERROR(ASTM((SUMIF(BD107:BD141,\"<=\" & AY130-1,BF107:BF141)+AY129*SUMIF(BD107:BD141,\"=\" & AY130-1,BF107:BF141))/AY102,1),0))","v":{"$error":"#N/A"}},{"$f":"IF($J$6=\"HD 2b/3\",NA(),IFERROR(ASTM((SUMIF(CA107:CA141,\"<=\" & AZ130-1,CC107:CC141)+AZ129*SUMIF(CA107:CA141,\"=\" & AZ130-1,CC107:CC141))/AZ102,1),0))","v":{"$error":"#N/A"}},null,null,null,14,{"$f":"IF(ISBLANK(R120),\"\",IF(COUNT(R120:AA120)<>10,NA(),IF(ASTM(W120,0)=0,0,IFERROR(ASTM(R120,3)/ASTM(Z120,1),0))))","v":""},{"$f":"IF(ISBLANK(R120),\"\",IF(COUNT(R120:AA120)<>10,NA(),IF(W120=0,0,ASTM(ASTM(W120,0)*ASTM(R120,3),0))))","v":""},{"$f":"IF(ISBLANK(R120),\"\",IF(COUNT(R120:AA120)<>10,NA(),ASTM(S120,3)-ASTM(S119,3)))","v":""},{"$f":"IF(ISBLANK(R120),\"\",IF(COUNT(R120:AA120)<>10,NA(),ASTM(BG120*ASTM(T120,2),1)))","v":""},{"$f":"IF(ISBLANK(R120),\"\",IF(COUNT(R120:AA120)<>10,NA(),ASTM(ASTM($Y$142,4)*1000*(BH120/$AY$109),1)))","v":""},"",{"$f":"IF(ISBLANK(R120),\"\",IF(COUNT(R120:AA120)<>10,NA(),BI120/(33705*ASTM(R120,3))))","v":""},"",{"$f":"IF(ISBLANK(R120),\"\",IFERROR(ASTM(cityfuf(BJ120)-cityfuf(BJ119),3),\"\"))","v":""},{"$f":"IF(ISBLANK(R120),\"\",IF(OR(ISNUMBER(R120)=FALSE,ISNUMBER(AA120)=FALSE),NA(),IF(ASTM(W120,0)=0,0,BM120*ASTM(AA120,0))))","v":""},"",{"$f":"IF(ISBLANK(R120),\"\",IF(COUNT(R120:AA120)<>10,NA(),BL120*ASTM(R120,3)))","v":""},"",{"$f":"IF(ISBLANK(R120),\"\",IF(COUNT(R120:AA120)<>10,NA(),BQ120*ASTM(R120,3)))","v":""},"",{"$f":"IF(ISBLANK(R120),\"\",IF(COUNT(R120:AA120)<>10,NA(),ASTM(mdiuf(BS120),3)-ASTM(mdiuf(BS119),3)))","v":""},{"$f":"IF(ISBLANK(R120),\"\",IF(COUNT(R120:AA120)<>10,NA(),IF(ASTM(W120,0)=0,0,BT120*ASTM(W120,0)/(BQ120))))","v":""},"",{"$f":"IF(ISBLANK(R120),\"\",IF(COUNT(R120:AA120)<>10,NA(),ASTM(cityfufalt(BS120)-cityfufalt(BS119),3)))","v":""},"",{"$f":"IF(ISBLANK(R120),\"\",IF(COUNT(R120:AA120)<>10,NA(),IF(ASTM(W120,0)=0,0,BW120*ASTM(AA120,0)/(BQ120))))","v":""},null,14,{"$f":"IF(ISBLANK(AD120),\"\",IF(COUNT(AD120:AM120)<>10,NA(),IF(ASTM(AI120,0)=0,0,ASTM(AD120,3)/ASTM(AL120,1))))","v":""},{"$f":"IF(ISBLANK(AD120),\"\",IF(COUNT(AD120:AM120)<>10,NA(),IF(ASTM(AI120,0)=0,0,ASTM(ASTM(AI120,0)*ASTM(AD120,3),0))))","v":""},{"$f":"IF(ISBLANK(AD120),\"\",IF(COUNT(AD120:AM120)<>10,NA(),ASTM(AE120,3)-ASTM(AE119,3)))","v":""},{"$f":"IF(ISBLANK(AD120),\"\",IF(COUNT(AD120:AM120)<>10,NA(),ASTM(CD120*ASTM(AF120,2),1)))","v":""},{"$f":"IF(ISBLANK(AD120),\"\",IF(COUNT(AD120:AM120)<>10,NA(),ASTM(ASTM($AK$142,4)*1000*(CE120/$AZ$109),1)))","v":""},"",{"$f":"IF(ISBLANK(AD120),\"\",IF(COUNT(AD120:AM120)<>10,NA(),CF120/(33705*ASTM(AD120,3))))","v":""},"",{"$f":"IF(ISBLANK(AD120),\"\",ASTM(highwayfuf(CG120)-highwayfuf(CG119),3))","v":""},{"$f":"IF(ISBLANK(AD120),\"\",IF(OR(ISNUMBER(AD120)=FALSE,ISNUMBER(AM120)=FALSE),NA(),IF(ASTM(AI120,0)=0,0,CJ120*ASTM(AM120,0))))","v":""},"",{"$f":"IF(ISBLANK(AD120),\"\",IF(COUNT(AD120:AM120)<>10,NA(),CI120*ASTM(AD120,3)))","v":""},"",{"$f":"IF(ISBLANK(AD120),\"\",IF(COUNT(AD120:AM120)<>10,NA(),CN120*ASTM(AD120,3)))","v":""},"",{"$f":"IF(ISBLANK(AD120),\"\",IF(COUNT(AD120:AM120)<>10,NA(),ASTM(mdiuf(CP120)-mdiuf(CP119),3)))","v":""},{"$f":"IF(ISBLANK(AD120),\"\",IF(COUNT(AD120:AM120)<>10,NA(),IF(ASTM(AI120,0)=0,0,CQ120*ASTM(AI120,0)/(CN120))))","v":""},"",{"$f":"IF(ISBLANK(AD120),\"\",IF(COUNT(AD120:AM120)<>10,NA(),ASTM(highwayfufalt(CP120)-highwayfufalt(CP119),3)))","v":""},"",{"$f":"IF(ISBLANK(AD120),\"\",IF(COUNT(AD120:AM120)<>10,NA(),IF(ASTM(AI120,0)=0,0,CT120*ASTM(AM120,0)/(CN120))))","v":""}]
[null,null,"Hwy CO2-PHEV Composite Rounded Adjusted CO2",null,null,{"$f":"IF($J$6=\"HD 2b/3\",NA(),ASTM(E31,0))","v":{"$error":"#N/A"}},null,null,null,null,null,null,"ENTER ADDITIONAL CHARGE-SUSTAINING 5-CYCLE TEST NUMBERS HERE",null,null,null,15,null,null,null,null,null,null,null,null,{"$f":"IF(ISBLANK(R121),\"\",IF(OR($J$6=\"HD 2b/3\",COUNT(R121:W121)<>6,$AA$143<>\"Yes\",$AA$145<>\"Yes\"),NA(),IF(ASTM(W121,0)=0,0,ASTM((51740000*$T$142*$T$143)/((($T$142*U121)+(0.429*V121)+(0.273*W121))*((0.6*$T$143*$T$144)+5471)),1))))","v":""},{"$f":"IF(ISBLANK(R121),\"\",IF(OR(AND($J$6<>\"HD 2b/3\",COUNT(R121:W121)<>6),AND($J$6=\"HD 2b/3\",COUNT(R121)+COUNT(W121)<>2),$AA$143<>\"Yes\",$AA$145<>\"Yes\"),NA(),IF(ASTM(W121,0)=0,0,IF($J$6=\"HD 2b/3\",W121,ASTM((($T$142/0.273)*U121)+(1.571*V121)+W121,0)))))","v":""},null,15,null,null,null,null,null,null,null,null,{"$f":"IF(ISBLANK(AD121),\"\",IF(OR($J$6=\"HD 2b/3\",COUNT(AD121:AI121)<>6,$AM$47<>\"Yes\",$AM$49<>\"Yes\"),NA(),IF(ASTM(AI121,0)=0,0,ASTM((51740000*$AF$46*$AF$47)/((($AF$46*AG121)+(0.429*AH121)+(0.273*AI121))*((0.6*$AF$47*$AF$48)+5471)),1))))","v":""},{"$f":"IF(ISBLANK(AD121),\"\",IF(OR(AND($J$6<>\"HD 2b/3\",COUNT(AD121:AI121)<>6),AND($J$6=\"HD 2b/3\",COUNT(AD121)+COUNT(AI121)<>2),$AM$143<>\"Yes\",$AM$145<>\"Yes\"),NA(),IF(ASTM(AI121,0)=0,0,IF($J$6=\"HD 2b/3\",AI121,ASTM((($AF$142/0.273)*AG121)+(1.571*AH121)+AI121,0)))))","v":""},null,null,null,"Annual Fuel Cost ($/year) [0]",null,null,{"$f":"IF($J$6=\"HD 2b/3\",NA(),ASTM(    IFERROR(15000*ASTM(0.55*AY142+0.45*AZ142,3),0)/50,0) * 50)","v":{"$error":"#N/A"}},null,null,"NEW","CD CO2 emissions rate (Rcda), adjusted (g/mi) [1]",{"$f":"IF($J$6=\"HD 2b/3\",NA(),IFERROR(ASTM( IFERROR((SUMIF(BD107:BD141,\"<=\" & AY130-1,BF107:BF141)+AY129*SUMIF(BD107:BD141,\"=\" & AY130-1,BF107:BF141))/AY103,#VALUE!), 1),0))","v":{"$error":"#N/A"}},{"$f":"IF($J$6=\"HD 2b/3\",NA(),IFERROR(ASTM( IFERROR((SUMIF(CA107:CA141,\"<=\" & AZ130-1,CC107:CC141)+AZ129*SUMIF(CA107:CA141,\"=\" & AZ130-1,CC107:CC141))/AZ103,#VALUE!), 1),0))","v":{"$error":"#N/A"}},null,null,null,15,{"$f":"IF(ISBLANK(R121),\"\",IF(COUNT(R121:AA121)<>10,NA(),IF(ASTM(W121,0)=0,0,IFERROR(ASTM(R121,3)/ASTM(Z121,1),0))))","v":""},{"$f":"IF(ISBLANK(R121),\"\",IF(COUNT(R121:AA121)<>10,NA(),IF(W121=0,0,ASTM(ASTM(W121,0)*ASTM(R121,3),0))))","v":""},{"$f":"IF(ISBLANK(R121),\"\",IF(COUNT(R121:AA121)<>10,NA(),ASTM(S121,3)-ASTM(S120,3)))","v":""},{"$f":"IF(ISBLANK(R121),\"\",IF(COUNT(R121:AA121)<>10,NA(),ASTM(BG121*ASTM(T121,2),1)))","v":""},{"$f":"IF(ISBLANK(R121),\"\",IF(COUNT(R121:AA121)<>10,NA(),ASTM(ASTM($Y$142,4)*1000*(BH121/$AY$109),1)))","v":""},"",{"$f":"IF(ISBLANK(R121),\"\",IF(COUNT(R121:AA121)<>10,NA(),BI121/(33705*ASTM(R121,3))))","v":""},"",{"$f":"IF(ISBLANK(R121),\"\",IFERROR(ASTM(cityfuf(BJ121)-cityfuf(BJ120),3),\"\"))","v":""},{"$f":"IF(ISBLANK(R121),\"\",IF(OR(ISNUMBER(R121)=FALSE,ISNUMBER(AA121)=FALSE),NA(),IF(ASTM(W121,0)=0,0,BM121*ASTM(AA121,0))))","v":""},"",{"$f":"IF(ISBLANK(R121),\"\",IF(COUNT(R121:AA121)<>10,NA(),BL121*ASTM(R121,3)))","v":""},"",{"$f":"IF(ISBLANK(R121),\"\",IF(COUNT(R121:AA121)<>10,NA(),BQ121*ASTM(R121,3)))","v":""},"",{"$f":"IF(ISBLANK(R121),\"\",IF(COUNT(R121:AA121)<>10,NA(),ASTM(mdiuf(BS121),3)-ASTM(mdiuf(BS120),3)))","v":""},{"$f":"IF(ISBLANK(R121),\"\",IF(COUNT(R121:AA121)<>10,NA(),IF(ASTM(W121,0)=0,0,BT121*ASTM(W121,0)/(BQ121))))","v":""},"",{"$f":"IF(ISBLANK(R121),\"\",IF(COUNT(R121:AA121)<>10,NA(),ASTM(cityfufalt(BS121)-cityfufalt(BS120),3)))","v":""},"",{"$f":"IF(ISBLANK(R121),\"\",IF(COUNT(R121:AA121)<>10,NA(),IF(ASTM(W121,0)=0,0,BW121*ASTM(AA121,0)/(BQ121))))","v":""},null,15,{"$f":"IF(ISBLANK(AD121),\"\",IF(COUNT(AD121:AM121)<>10,NA(),IF(ASTM(AI121,0)=0,0,ASTM(AD121,3)/ASTM(AL121,1))))","v":""},{"$f":"IF(ISBLANK(AD121),\"\",IF(COUNT(AD121:AM121)<>10,NA(),IF(ASTM(AI121,0)=0,0,ASTM(ASTM(AI121,0)*ASTM(AD121,3),0))))","v":""},{"$f":"IF(ISBLANK(AD121),\"\",IF(COUNT(AD121:AM121)<>10,NA(),ASTM(AE121,3)-ASTM(AE120,3)))","v":""},{"$f":"IF(ISBLANK(AD121),\"\",IF(COUNT(AD121:AM121)<>10,NA(),ASTM(CD121*ASTM(AF121,2),1)))","v":""},{"$f":"IF(ISBLANK(AD121),\"\",IF(COUNT(AD121:AM121)<>10,NA(),ASTM(ASTM($AK$142,4)*1000*(CE121/$AZ$109),1)))","v":""},"",{"$f":"IF(ISBLANK(AD121),\"\",IF(COUNT(AD121:AM121)<>10,NA(),CF121/(33705*ASTM(AD121,3))))","v":""},"",{"$f":"IF(ISBLANK(AD121),\"\",ASTM(highwayfuf(CG121)-highwayfuf(CG120),3))","v":""},{"$f":"IF(ISBLANK(AD121),\"\",IF(OR(ISNUMBER(AD121)=FALSE,ISNUMBER(AM121)=FALSE),NA(),IF(ASTM(AI121,0)=0,0,CJ121*ASTM(AM121,0))))","v":""},"",{"$f":"IF(ISBLANK(AD121),\"\",IF(COUNT(AD121:AM121)<>10,NA(),CI121*ASTM(AD121,3)))","v":""},"",{"$f":"IF(ISBLANK(AD121),\"\",IF(COUNT(AD121:AM121)<>10,NA(),CN121*ASTM(AD121,3)))","v":""},"",{"$f":"IF(ISBLANK(AD121),\"\",IF(COUNT(AD121:AM121)<>10,NA(),ASTM(mdiuf(CP121)-mdiuf(CP120),3)))","v":""},{"$f":"IF(ISBLANK(AD121),\"\",IF(COUNT(AD121:AM121)<>10,NA(),IF(ASTM(AI121,0)=0,0,CQ121*ASTM(AI121,0)/(CN121))))","v":""},"",{"$f":"IF(ISBLANK(AD121),\"\",IF(COUNT(AD121:AM121)<>10,NA(),ASTM(highwayfufalt(CP121)-highwayfufalt(CP120),3)))","v":""},"",{"$f":"IF(ISBLANK(AD121),\"\",IF(COUNT(AD121:AM121)<>10,NA(),IF(ASTM(AI121,0)=0,0,CT121*ASTM(AM121,0)/(CN121))))","v":""}]
[null,null,"CO2-PHEV Composite Rounded Adjusted CO2",null,null,{"$f":"IF($J$6=\"HD 2b/3\",NA(),F31)","v":{"$error":"#N/A"}},null,null,null,null,null,null,null,"Test Procedure","Test Number",null,16,null,null,null,null,null,null,null,null,{"$f":"IF(ISBLANK(R122),\"\",IF(OR($J$6=\"HD 2b/3\",COUNT(R122:W122)<>6,$AA$143<>\"Yes\",$AA$145<>\"Yes\"),NA(),IF(ASTM(W122,0)=0,0,ASTM((51740000*$T$142*$T$143)/((($T$142*U122)+(0.429*V122)+(0.273*W122))*((0.6*$T$143*$T$144)+5471)),1))))","v":""},{"$f":"IF(ISBLANK(R122),\"\",IF(OR(AND($J$6<>\"HD 2b/3\",COUNT(R122:W122)<>6),AND($J$6=\"HD 2b/3\",COUNT(R122)+COUNT(W122)<>2),$AA$143<>\"Yes\",$AA$145<>\"Yes\"),NA(),IF(ASTM(W122,0)=0,0,IF($J$6=\"HD 2b/3\",W122,ASTM((($T$142/0.273)*U122)+(1.571*V122)+W122,0)))))","v":""},null,16,null,null,null,null,null,null,null,null,{"$f":"IF(ISBLANK(AD122),\"\",IF(OR($J$6=\"HD 2b/3\",COUNT(AD122:AI122)<>6,$AM$47<>\"Yes\",$AM$49<>\"Yes\"),NA(),IF(ASTM(AI122,0)=0,0,ASTM((51740000*$AF$46*$AF$47)/((($AF$46*AG122)+(0.429*AH122)+(0.273*AI122))*((0.6*$AF$47*$AF$48)+5471)),1))))","v":""},{"$f":"IF(ISBLANK(AD122),\"\",IF(OR(AND($J$6<>\"HD 2b/3\",COUNT(AD122:AI122)<>6),AND($J$6=\"HD 2b/3\",COUNT(AD122)+COUNT(AI122)<>2),$AM$143<>\"Yes\",$AM$145<>\"Yes\"),NA(),IF(ASTM(AI122,0)=0,0,IF($J$6=\"HD 2b/3\",AI122,ASTM((($AF$142/0.273)*AG122)+(1.571*AH122)+AI122,0)))))","v":""},null,null,null,"5-Year Fuel Savings Value ($/5 years) [0]",null,null,{"$f":"IF($J$6=\"HD 2b/3\",NA(),$F$38-5*AT121)","v":{"$error":"#N/A"}},null,null,"NEW","CD utilitized CO2 (MDIUF, Rcdc), adjusted (g/mi) [1]",{"$f":"IF($J$6=\"HD 2b/3\",NA(),ASTM(SUMIF(BD107:BD141,\"<=\" & (AY130),BU107:BU141),1))","v":{"$error":"#N/A"}},{"$f":"IF($J$6=\"HD 2b/3\",NA(),ASTM(SUMIF(CA107:CA141,\"<=\" & (AZ130),CR107:CR141),1))","v":{"$error":"#N/A"}},null,null,null,16,{"$f":"IF(ISBLANK(R122),\"\",IF(COUNT(R122:AA122)<>10,NA(),IF(ASTM(W122,0)=0,0,IFERROR(ASTM(R122,3)/ASTM(Z122,1),0))))","v":""},{"$f":"IF(ISBLANK(R122),\"\",IF(COUNT(R122:AA122)<>10,NA(),IF(W122=0,0,ASTM(ASTM(W122,0)*ASTM(R122,3),0))))","v":""},{"$f":"IF(ISBLANK(R122),\"\",IF(COUNT(R122:AA122)<>10,NA(),ASTM(S122,3)-ASTM(S121,3)))","v":""},{"$f":"IF(ISBLANK(R122),\"\",IF(COUNT(R122:AA122)<>10,NA(),ASTM(BG122*ASTM(T122,2),1)))","v":""},{"$f":"IF(ISBLANK(R122),\"\",IF(COUNT(R122:AA122)<>10,NA(),ASTM(ASTM($Y$142,4)*1000*(BH122/$AY$109),1)))","v":""},"",{"$f":"IF(ISBLANK(R122),\"\",IF(COUNT(R122:AA122)<>10,NA(),BI122/(33705*ASTM(R122,3))))","v":""},"",{"$f":"IF(ISBLANK(R122),\"\",IFERROR(ASTM(cityfuf(BJ122)-cityfuf(BJ121),3),\"\"))","v":""},{"$f":"IF(ISBLANK(R122),\"\",IF(OR(ISNUMBER(R122)=FALSE,ISNUMBER(AA122)=FALSE),NA(),IF(ASTM(W122,0)=0,0,BM122*ASTM(AA122,0))))","v":""},"",{"$f":"IF(ISBLANK(R122),\"\",IF(COUNT(R122:AA122)<>10,NA(),BL122*ASTM(R122,3)))","v":""},"",{"$f":"IF(ISBLANK(R122),\"\",IF(COUNT(R122:AA122)<>10,NA(),BQ122*ASTM(R122,3)))","v":""},"",{"$f":"IF(ISBLANK(R122),\"\",IF(COUNT(R122:AA122)<>10,NA(),ASTM(mdiuf(BS122),3)-ASTM(mdiuf(BS121),3)))","v":""},{"$f":"IF(ISBLANK(R122),\"\",IF(COUNT(R122:AA122)<>10,NA(),IF(ASTM(W122,0)=0,0,BT122*ASTM(W122,0)/(BQ122))))","v":""},"",{"$f":"IF(ISBLANK(R122),\"\",IF(COUNT(R122:AA122)<>10,NA(),ASTM(cityfufalt(BS122)-cityfufalt(BS121),3)))","v":""},"",{"$f":"IF(ISBLANK(R122),\"\",IF(COUNT(R122:AA122)<>10,NA(),IF(ASTM(W122,0)=0,0,BW122*ASTM(AA122,0)/(BQ122))))","v":""},null,16,{"$f":"IF(ISBLANK(AD122),\"\",IF(COUNT(AD122:AM122)<>10,NA(),IF(ASTM(AI122,0)=0,0,ASTM(AD122,3)/ASTM(AL122,1))))","v":""},{"$f":"IF(ISBLANK(AD122),\"\",IF(COUNT(AD122:AM122)<>10,NA(),IF(ASTM(AI122,0)=0,0,ASTM(ASTM(AI122,0)*ASTM(AD122,3),0))))","v":""},{"$f":"IF(ISBLANK(AD122),\"\",IF(COUNT(AD122:AM122)<>10,NA(),ASTM(AE122,3)-ASTM(AE121,3)))","v":""},{"$f":"IF(ISBLANK(AD122),\"\",IF(COUNT(AD122:AM122)<>10,NA(),ASTM(CD122*ASTM(AF122,2),1)))","v":""},{"$f":"IF(ISBLANK(AD122),\"\",IF(COUNT(AD122:AM122)<>10,NA(),ASTM(ASTM($AK$142,4)*1000*(CE122/$AZ$109),1)))","v":""},"",{"$f":"IF(ISBLANK(AD122),\"\",IF(COUNT(AD122:AM122)<>10,NA(),CF122/(33705*ASTM(AD122,3))))","v":""},"",{"$f":"IF(ISBLANK(AD122),\"\",ASTM(highwayfuf(CG122)-highwayfuf(CG121),3))","v":""},{"$f":"IF(ISBLANK(AD122),\"\",IF(OR(ISNUMBER(AD122)=FALSE,ISNUMBER(AM122)=FALSE),NA(),IF(ASTM(AI122,0)=0,0,CJ122*ASTM(AM122,0))))","v":""},"",{"$f":"IF(ISBLANK(AD122),\"\",IF(COUNT(AD122:AM122)<>10,NA(),CI122*ASTM(AD122,3)))","v":""},"",{"$f":"IF(ISBLANK(AD122),\"\",IF(COUNT(AD122:AM122)<>10,NA(),CN122*ASTM(AD122,3)))","v":""},"",{"$f":"IF(ISBLANK(AD122),\"\",IF(COUNT(AD122:AM122)<>10,NA(),ASTM(mdiuf(CP122)-mdiuf(CP121),3)))","v":""},{"$f":"IF(ISBLANK(AD122),\"\",IF(COUNT(AD122:AM122)<>10,NA(),IF(ASTM(AI122,0)=0,0,CQ122*ASTM(AI122,0)/(CN122))))","v":""},"",{"$f":"IF(ISBLANK(AD122),\"\",IF(COUNT(AD122:AM122)<>10,NA(),ASTM(highwayfufalt(CP122)-highwayfufalt(CP121),3)))","v":""},"",{"$f":"IF(ISBLANK(AD122),\"\",IF(COUNT(AD122:AM122)<>10,NA(),IF(ASTM(AI122,0)=0,0,CT122*ASTM(AM122,0)/(CN122))))","v":""}]
[null,null,"PHEV Total Driving Range (Adjusted)",null,null,"miles",null,null,null,null,null,null,{"$f":"IF($J$6=\"HD 2b/3\",NA(),\"Charge-Sustaining Test (Optional):\")","v":{"$error":"#N/A"}},null,null,null,17,null,null,null,null,null,null,null,null,{"$f":"IF(ISBLANK(R123),\"\",IF(OR($J$6=\"HD 2b/3\",COUNT(R123:W123)<>6,$AA$143<>\"Yes\",$AA$145<>\"Yes\"),NA(),IF(ASTM(W123,0)=0,0,ASTM((51740000*$T$142*$T$143)/((($T$142*U123)+(0.429*V123)+(0.273*W123))*((0.6*$T$143*$T$144)+5471)),1))))","v":""},{"$f":"IF(ISBLANK(R123),\"\",IF(OR(AND($J$6<>\"HD 2b/3\",COUNT(R123:W123)<>6),AND($J$6=\"HD 2b/3\",COUNT(R123)+COUNT(W123)<>2),$AA$143<>\"Yes\",$AA$145<>\"Yes\"),NA(),IF(ASTM(W123,0)=0,0,IF($J$6=\"HD 2b/3\",W123,ASTM((($T$142/0.273)*U123)+(1.571*V123)+W123,0)))))","v":""},null,17,null,null,null,null,null,null,null,null,{"$f":"IF(ISBLANK(AD123),\"\",IF(OR($J$6=\"HD 2b/3\",COUNT(AD123:AI123)<>6,$AM$47<>\"Yes\",$AM$49<>\"Yes\"),NA(),IF(ASTM(AI123,0)=0,0,ASTM((51740000*$AF$46*$AF$47)/((($AF$46*AG123)+(0.429*AH123)+(0.273*AI123))*((0.6*$AF$47*$AF$48)+5471)),1))))","v":""},{"$f":"IF(ISBLANK(AD123),\"\",IF(OR(AND($J$6<>\"HD 2b/3\",COUNT(AD123:AI123)<>6),AND($J$6=\"HD 2b/3\",COUNT(AD123)+COUNT(AI123)<>2),$AM$143<>\"Yes\",$AM$145<>\"Yes\"),NA(),IF(ASTM(AI123,0)=0,0,IF($J$6=\"HD 2b/3\",AI123,ASTM((($AF$142/0.273)*AG123)+(1.571*AH123)+AI123,0)))))","v":""},null,null,null,"Composite CO2 (g/mi) [0]",null,null,{"$f":"IF($J$6=\"HD 2b/3\",NA(),ASTM(0.55*AY144+0.45*AZ144,0))","v":{"$error":"#N/A"}},null,null,null,"CD utilitized CREE (55/45 FUF, Rcdc), unadjusted (g/mi) [1]",{"$f":"ASTM(SUMIF(BD107:BD141,\"<=\" & AY130,BN107:BN141),1)","v":0},{"$f":"ASTM(SUMIF(CA107:CA141,\"<=\" & AZ130,CK107:CK141),1)","v":0},null,null,null,17,{"$f":"IF(ISBLANK(R123),\"\",IF(COUNT(R123:AA123)<>10,NA(),IF(ASTM(W123,0)=0,0,IFERROR(ASTM(R123,3)/ASTM(Z123,1),0))))","v":""},{"$f":"IF(ISBLANK(R123),\"\",IF(COUNT(R123:AA123)<>10,NA(),IF(W123=0,0,ASTM(ASTM(W123,0)*ASTM(R123,3),0))))","v":""},{"$f":"IF(ISBLANK(R123),\"\",IF(COUNT(R123:AA123)<>10,NA(),ASTM(S123,3)-ASTM(S122,3)))","v":""},{"$f":"IF(ISBLANK(R123),\"\",IF(COUNT(R123:AA123)<>10,NA(),ASTM(BG123*ASTM(T123,2),1)))","v":""},{"$f":"IF(ISBLANK(R123),\"\",IF(COUNT(R123:AA123)<>10,NA(),ASTM(ASTM($Y$142,4)*1000*(BH123/$AY$109),1)))","v":""},"",{"$f":"IF(ISBLANK(R123),\"\",IF(COUNT(R123:AA123)<>10,NA(),BI123/(33705*ASTM(R123,3))))","v":""},"",{"$f":"IF(ISBLANK(R123),\"\",IFERROR(ASTM(cityfuf(BJ123)-cityfuf(BJ122),3),\"\"))","v":""},{"$f":"IF(ISBLANK(R123),\"\",IF(OR(ISNUMBER(R123)=FALSE,ISNUMBER(AA123)=FALSE),NA(),IF(ASTM(W123,0)=0,0,BM123*ASTM(AA123,0))))","v":""},"",{"$f":"IF(ISBLANK(R123),\"\",IF(COUNT(R123:AA123)<>10,NA(),BL123*ASTM(R123,3)))","v":""},"",{"$f":"IF(ISBLANK(R123),\"\",IF(COUNT(R123:AA123)<>10,NA(),BQ123*ASTM(R123,3)))","v":""},"",{"$f":"IF(ISBLANK(R123),\"\",IF(COUNT(R123:AA123)<>10,NA(),ASTM(mdiuf(BS123),3)-ASTM(mdiuf(BS122),3)))","v":""},{"$f":"IF(ISBLANK(R123),\"\",IF(COUNT(R123:AA123)<>10,NA(),IF(ASTM(W123,0)=0,0,BT123*ASTM(W123,0)/(BQ123))))","v":""},"",{"$f":"IF(ISBLANK(R123),\"\",IF(COUNT(R123:AA123)<>10,NA(),ASTM(cityfufalt(BS123)-cityfufalt(BS122),3)))","v":""},"",{"$f":"IF(ISBLANK(R123),\"\",IF(COUNT(R123:AA123)<>10,NA(),IF(ASTM(W123,0)=0,0,BW123*ASTM(AA123,0)/(BQ123))))","v":""},null,17,{"$f":"IF(ISBLANK(AD123),\"\",IF(COUNT(AD123:AM123)<>10,NA(),IF(ASTM(AI123,0)=0,0,ASTM(AD123,3)/ASTM(AL123,1))))","v":""},{"$f":"IF(ISBLANK(AD123),\"\",IF(COUNT(AD123:AM123)<>10,NA(),IF(ASTM(AI123,0)=0,0,ASTM(ASTM(AI123,0)*ASTM(AD123,3),0))))","v":""},{"$f":"IF(ISBLANK(AD123),\"\",IF(COUNT(AD123:AM123)<>10,NA(),ASTM(AE123,3)-ASTM(AE122,3)))","v":""},{"$f":"IF(ISBLANK(AD123),\"\",IF(COUNT(AD123:AM123)<>10,NA(),ASTM(CD123*ASTM(AF123,2),1)))","v":""},{"$f":"IF(ISBLANK(AD123),\"\",IF(COUNT(AD123:AM123)<>10,NA(),ASTM(ASTM($AK$142,4)*1000*(CE123/$AZ$109),1)))","v":""},"",{"$f":"IF(ISBLANK(AD123),\"\",IF(COUNT(AD123:AM123)<>10,NA(),CF123/(33705*ASTM(AD123,3))))","v":""},"",{"$f":"IF(ISBLANK(AD123),\"\",ASTM(highwayfuf(CG123)-highwayfuf(CG122),3))","v":""},{"$f":"IF(ISBLANK(AD123),\"\",IF(OR(ISNUMBER(AD123)=FALSE,ISNUMBER(AM123)=FALSE),NA(),IF(ASTM(AI123,0)=0,0,CJ123*ASTM(AM123,0))))","v":""},"",{"$f":"IF(ISBLANK(AD123),\"\",IF(COUNT(AD123:AM123)<>10,NA(),CI123*ASTM(AD123,3)))","v":""},"",{"$f":"IF(ISBLANK(AD123),\"\",IF(COUNT(AD123:AM123)<>10,NA(),CN123*ASTM(AD123,3)))","v":""},"",{"$f":"IF(ISBLANK(AD123),\"\",IF(COUNT(AD123:AM123)<>10,NA(),ASTM(mdiuf(CP123)-mdiuf(CP122),3)))","v":""},{"$f":"IF(ISBLANK(AD123),\"\",IF(COUNT(AD123:AM123)<>10,NA(),IF(ASTM(AI123,0)=0,0,CQ123*ASTM(AI123,0)/(CN123))))","v":""},"",{"$f":"IF(ISBLANK(AD123),\"\",IF(COUNT(AD123:AM123)<>10,NA(),ASTM(highwayfufalt(CP123)-highwayfufalt(CP122),3)))","v":""},"",{"$f":"IF(ISBLANK(AD123),\"\",IF(COUNT(AD123:AM123)<>10,NA(),IF(ASTM(AI123,0)=0,0,CT123*ASTM(AM123,0)/(CN123))))","v":""}]
[null,null,"PHEV Total Driving Range (Adjusted)",null,null,{"$f":"IF($J$6=\"HD 2b/3\",NA(),F21)","v":{"$error":"#N/A"}},null,null,null,null,null,null,{"$f":"IF($J$6=\"HD 2b/3\",NA(),\"Charge-Sustaining Test (Optional):\")","v":{"$error":"#N/A"}},null,null,null,18,null,null,null,null,null,null,null,null,{"$f":"IF(ISBLANK(R124),\"\",IF(OR($J$6=\"HD 2b/3\",COUNT(R124:W124)<>6,$AA$143<>\"Yes\",$AA$145<>\"Yes\"),NA(),IF(ASTM(W124,0)=0,0,ASTM((51740000*$T$142*$T$143)/((($T$142*U124)+(0.429*V124)+(0.273*W124))*((0.6*$T$143*$T$144)+5471)),1))))","v":""},{"$f":"IF(ISBLANK(R124),\"\",IF(OR(AND($J$6<>\"HD 2b/3\",COUNT(R124:W124)<>6),AND($J$6=\"HD 2b/3\",COUNT(R124)+COUNT(W124)<>2),$AA$143<>\"Yes\",$AA$145<>\"Yes\"),NA(),IF(ASTM(W124,0)=0,0,IF($J$6=\"HD 2b/3\",W124,ASTM((($T$142/0.273)*U124)+(1.571*V124)+W124,0)))))","v":""},null,18,null,null,null,null,null,null,null,null,{"$f":"IF(ISBLANK(AD124),\"\",IF(OR($J$6=\"HD 2b/3\",COUNT(AD124:AI124)<>6,$AM$47<>\"Yes\",$AM$49<>\"Yes\"),NA(),IF(ASTM(AI124,0)=0,0,ASTM((51740000*$AF$46*$AF$47)/((($AF$46*AG124)+(0.429*AH124)+(0.273*AI124))*((0.6*$AF$47*$AF$48)+5471)),1))))","v":""},{"$f":"IF(ISBLANK(AD124),\"\",IF(OR(AND($J$6<>\"HD 2b/3\",COUNT(AD124:AI124)<>6),AND($J$6=\"HD 2b/3\",COUNT(AD124)+COUNT(AI124)<>2),$AM$143<>\"Yes\",$AM$145<>\"Yes\"),NA(),IF(ASTM(AI124,0)=0,0,IF($J$6=\"HD 2b/3\",AI124,ASTM((($AF$142/0.273)*AG124)+(1.571*AH124)+AI124,0)))))","v":""},null,null,null,"Composite Fuel Economy (MPG) [0]",null,null,{"$f":"IF($J$6=\"HD 2b/3\",NA(),IFERROR(ASTM(1/(0.55/AY145+0.45/AZ145),0),0))","v":{"$error":"#N/A"}},null,null,"NEW","CD utilitized CREE (43/57 FUF, Rcdc), adjusted (g/mi) [1]",{"$f":"IF($J$6=\"HD 2b/3\",NA(),ASTM(SUMIF(BD107:BD141,\"<=\" & (AY130),BY107:BY141),1))","v":{"$error":"#N/A"}},{"$f":"IF($J$6=\"HD 2b/3\",NA(),ASTM(SUMIF(CA107:CA141,\"<=\" & (AZ130),CV107:CV141),1))","v":{"$error":"#N/A"}},null,null,null,18,{"$f":"IF(ISBLANK(R124),\"\",IF(COUNT(R124:AA124)<>10,NA(),IF(ASTM(W124,0)=0,0,IFERROR(ASTM(R124,3)/ASTM(Z124,1),0))))","v":""},{"$f":"IF(ISBLANK(R124),\"\",IF(COUNT(R124:AA124)<>10,NA(),IF(W124=0,0,ASTM(ASTM(W124,0)*ASTM(R124,3),0))))","v":""},{"$f":"IF(ISBLANK(R124),\"\",IF(COUNT(R124:AA124)<>10,NA(),ASTM(S124,3)-ASTM(S123,3)))","v":""},{"$f":"IF(ISBLANK(R124),\"\",IF(COUNT(R124:AA124)<>10,NA(),ASTM(BG124*ASTM(T124,2),1)))","v":""},{"$f":"IF(ISBLANK(R124),\"\",IF(COUNT(R124:AA124)<>10,NA(),ASTM(ASTM($Y$142,4)*1000*(BH124/$AY$109),1)))","v":""},"",{"$f":"IF(ISBLANK(R124),\"\",IF(COUNT(R124:AA124)<>10,NA(),BI124/(33705*ASTM(R124,3))))","v":""},"",{"$f":"IF(ISBLANK(R124),\"\",IFERROR(ASTM(cityfuf(BJ124)-cityfuf(BJ123),3),\"\"))","v":""},{"$f":"IF(ISBLANK(R124),\"\",IF(OR(ISNUMBER(R124)=FALSE,ISNUMBER(AA124)=FALSE),NA(),IF(ASTM(W124,0)=0,0,BM124*ASTM(AA124,0))))","v":""},"",{"$f":"IF(ISBLANK(R124),\"\",IF(COUNT(R124:AA124)<>10,NA(),BL124*ASTM(R124,3)))","v":""},"",{"$f":"IF(ISBLANK(R124),\"\",IF(COUNT(R124:AA124)<>10,NA(),BQ124*ASTM(R124,3)))","v":""},"",{"$f":"IF(ISBLANK(R124),\"\",IF(COUNT(R124:AA124)<>10,NA(),ASTM(mdiuf(BS124),3)-ASTM(mdiuf(BS123),3)))","v":""},{"$f":"IF(ISBLANK(R124),\"\",IF(COUNT(R124:AA124)<>10,NA(),IF(ASTM(W124,0)=0,0,BT124*ASTM(W124,0)/(BQ124))))","v":""},"",{"$f":"IF(ISBLANK(R124),\"\",IF(COUNT(R124:AA124)<>10,NA(),ASTM(cityfufalt(BS124)-cityfufalt(BS123),3)))","v":""},"",{"$f":"IF(ISBLANK(R124),\"\",IF(COUNT(R124:AA124)<>10,NA(),IF(ASTM(W124,0)=0,0,BW124*ASTM(AA124,0)/(BQ124))))","v":""},null,18,{"$f":"IF(ISBLANK(AD124),\"\",IF(COUNT(AD124:AM124)<>10,NA(),IF(ASTM(AI124,0)=0,0,ASTM(AD124,3)/ASTM(AL124,1))))","v":""},{"$f":"IF(ISBLANK(AD124),\"\",IF(COUNT(AD124:AM124)<>10,NA(),IF(ASTM(AI124,0)=0,0,ASTM(ASTM(AI124,0)*ASTM(AD124,3),0))))","v":""},{"$f":"IF(ISBLANK(AD124),\"\",IF(COUNT(AD124:AM124)<>10,NA(),ASTM(AE124,3)-ASTM(AE123,3)))","v":""},{"$f":"IF(ISBLANK(AD124),\"\",IF(COUNT(AD124:AM124)<>10,NA(),ASTM(CD124*ASTM(AF124,2),1)))","v":""},{"$f":"IF(ISBLANK(AD124),\"\",IF(COUNT(AD124:AM124)<>10,NA(),ASTM(ASTM($AK$142,4)*1000*(CE124/$AZ$109),1)))","v":""},"",{"$f":"IF(ISBLANK(AD124),\"\",IF(COUNT(AD124:AM124)<>10,NA(),CF124/(33705*ASTM(AD124,3))))","v":""},"",{"$f":"IF(ISBLANK(AD124),\"\",ASTM(highwayfuf(CG124)-highwayfuf(CG123),3))","v":""},{"$f":"IF(ISBLANK(AD124),\"\",IF(OR(ISNUMBER(AD124)=FALSE,ISNUMBER(AM124)=FALSE),NA(),IF(ASTM(AI124,0)=0,0,CJ124*ASTM(AM124,0))))","v":""},"",{"$f":"IF(ISBLANK(AD124),\"\",IF(COUNT(AD124:AM124)<>10,NA(),CI124*ASTM(AD124,3)))","v":""},"",{"$f":"IF(ISBLANK(AD124),\"\",IF(COUNT(AD124:AM124)<>10,NA(),CN124*ASTM(AD124,3)))","v":""},"",{"$f":"IF(ISBLANK(AD124),\"\",IF(COUNT(AD124:AM124)<>10,NA(),ASTM(mdiuf(CP124)-mdiuf(CP123),3)))","v":""},{"$f":"IF(ISBLANK(AD124),\"\",IF(COUNT(AD124:AM124)<>10,NA(),IF(ASTM(AI124,0)=0,0,CQ124*ASTM(AI124,0)/(CN124))))","v":""},"",{"$f":"IF(ISBLANK(AD124),\"\",IF(COUNT(AD124:AM124)<>10,NA(),ASTM(highwayfufalt(CP124)-highwayfufalt(CP123),3)))","v":""},"",{"$f":"IF(ISBLANK(AD124),\"\",IF(COUNT(AD124:AM124)<>10,NA(),IF(ASTM(AI124,0)=0,0,CT124*ASTM(AM124,0)/(CN124))))","v":""}]
[null,null,null,null,null,null,null,null,null,null,null,null,{"$error":"#N/A"},null,null,null,19,null,null,null,null,null,null,null,null,{"$f":"IF(ISBLANK(R125),\"\",IF(OR($J$6=\"HD 2b/3\",COUNT(R125:W125)<>6,$AA$143<>\"Yes\",$AA$145<>\"Yes\"),NA(),IF(ASTM(W125,0)=0,0,ASTM((51740000*$T$142*$T$143)/((($T$142*U125)+(0.429*V125)+(0.273*W125))*((0.6*$T$143*$T$144)+5471)),1))))","v":""},{"$f":"IF(ISBLANK(R125),\"\",IF(OR(AND($J$6<>\"HD 2b/3\",COUNT(R125:W125)<>6),AND($J$6=\"HD 2b/3\",COUNT(R125)+COUNT(W125)<>2),$AA$143<>\"Yes\",$AA$145<>\"Yes\"),NA(),IF(ASTM(W125,0)=0,0,IF($J$6=\"HD 2b/3\",W125,ASTM((($T$142/0.273)*U125)+(1.571*V125)+W125,0)))))","v":""},null,19,null,null,null,null,null,null,null,null,{"$f":"IF(ISBLANK(AD125),\"\",IF(OR($J$6=\"HD 2b/3\",COUNT(AD125:AI125)<>6,$AM$47<>\"Yes\",$AM$49<>\"Yes\"),NA(),IF(ASTM(AI125,0)=0,0,ASTM((51740000*$AF$46*$AF$47)/((($AF$46*AG125)+(0.429*AH125)+(0.273*AI125))*((0.6*$AF$47*$AF$48)+5471)),1))))","v":""},{"$f":"IF(ISBLANK(AD125),\"\",IF(OR(AND($J$6<>\"HD 2b/3\",COUNT(AD125:AI125)<>6),AND($J$6=\"HD 2b/3\",COUNT(AD125)+COUNT(AI125)<>2),$AM$143<>\"Yes\",$AM$145<>\"Yes\"),NA(),IF(ASTM(AI125,0)=0,0,IF($J$6=\"HD 2b/3\",AI125,ASTM((($AF$142/0.273)*AG125)+(1.571*AH125)+AI125,0)))))","v":""},null,null,null,"HOV Lane Values","City","Highway","Combined",null,null,null,"UTILITY FACTORS & OTHER METRICS","CITY","HIGHWAY",null,null,null,19,{"$f":"IF(ISBLANK(R125),\"\",IF(COUNT(R125:AA125)<>10,NA(),IF(ASTM(W125,0)=0,0,IFERROR(ASTM(R125,3)/ASTM(Z125,1),0))))","v":""},{"$f":"IF(ISBLANK(R125),\"\",IF(COUNT(R125:AA125)<>10,NA(),IF(W125=0,0,ASTM(ASTM(W125,0)*ASTM(R125,3),0))))","v":""},{"$f":"IF(ISBLANK(R125),\"\",IF(COUNT(R125:AA125)<>10,NA(),ASTM(S125,3)-ASTM(S124,3)))","v":""},{"$f":"IF(ISBLANK(R125),\"\",IF(COUNT(R125:AA125)<>10,NA(),ASTM(BG125*ASTM(T125,2),1)))","v":""},{"$f":"IF(ISBLANK(R125),\"\",IF(COUNT(R125:AA125)<>10,NA(),ASTM(ASTM($Y$142,4)*1000*(BH125/$AY$109),1)))","v":""},"",{"$f":"IF(ISBLANK(R125),\"\",IF(COUNT(R125:AA125)<>10,NA(),BI125/(33705*ASTM(R125,3))))","v":""},"",{"$f":"IF(ISBLANK(R125),\"\",IFERROR(ASTM(cityfuf(BJ125)-cityfuf(BJ124),3),\"\"))","v":""},{"$f":"IF(ISBLANK(R125),\"\",IF(OR(ISNUMBER(R125)=FALSE,ISNUMBER(AA125)=FALSE),NA(),IF(ASTM(W125,0)=0,0,BM125*ASTM(AA125,0))))","v":""},"",{"$f":"IF(ISBLANK(R125),\"\",IF(COUNT(R125:AA125)<>10,NA(),BL125*ASTM(R125,3)))","v":""},"",{"$f":"IF(ISBLANK(R125),\"\",IF(COUNT(R125:AA125)<>10,NA(),BQ125*ASTM(R125,3)))","v":""},"",{"$f":"IF(ISBLANK(R125),\"\",IF(COUNT(R125:AA125)<>10,NA(),ASTM(mdiuf(BS125),3)-ASTM(mdiuf(BS124),3)))","v":""},{"$f":"IF(ISBLANK(R125),\"\",IF(COUNT(R125:AA125)<>10,NA(),IF(ASTM(W125,0)=0,0,BT125*ASTM(W125,0)/(BQ125))))","v":""},"",{"$f":"IF(ISBLANK(R125),\"\",IF(COUNT(R125:AA125)<>10,NA(),ASTM(cityfufalt(BS125)-cityfufalt(BS124),3)))","v":""},"",{"$f":"IF(ISBLANK(R125),\"\",IF(COUNT(R125:AA125)<>10,NA(),IF(ASTM(W125,0)=0,0,BW125*ASTM(AA125,0)/(BQ125))))","v":""},null,19,{"$f":"IF(ISBLANK(AD125),\"\",IF(COUNT(AD125:AM125)<>10,NA(),IF(ASTM(AI125,0)=0,0,ASTM(AD125,3)/ASTM(AL125,1))))","v":""},{"$f":"IF(ISBLANK(AD125),\"\",IF(COUNT(AD125:AM125)<>10,NA(),IF(ASTM(AI125,0)=0,0,ASTM(ASTM(AI125,0)*ASTM(AD125,3),0))))","v":""},{"$f":"IF(ISBLANK(AD125),\"\",IF(COUNT(AD125:AM125)<>10,NA(),ASTM(AE125,3)-ASTM(AE124,3)))","v":""},{"$f":"IF(ISBLANK(AD125),\"\",IF(COUNT(AD125:AM125)<>10,NA(),ASTM(CD125*ASTM(AF125,2),1)))","v":""},{"$f":"IF(ISBLANK(AD125),\"\",IF(COUNT(AD125:AM125)<>10,NA(),ASTM(ASTM($AK$142,4)*1000*(CE125/$AZ$109),1)))","v":""},"",{"$f":"IF(ISBLANK(AD125),\"\",IF(COUNT(AD125:AM125)<>10,NA(),CF125/(33705*ASTM(AD125,3))))","v":""},"",{"$f":"IF(ISBLANK(AD125),\"\",ASTM(highwayfuf(CG125)-highwayfuf(CG124),3))","v":""},{"$f":"IF(ISBLANK(AD125),\"\",IF(OR(ISNUMBER(AD125)=FALSE,ISNUMBER(AM125)=FALSE),NA(),IF(ASTM(AI125,0)=0,0,CJ125*ASTM(AM125,0))))","v":""},"",{"$f":"IF(ISBLANK(AD125),\"\",IF(COUNT(AD125:AM125)<>10,NA(),CI125*ASTM(AD125,3)))","v":""},"",{"$f":"IF(ISBLANK(AD125),\"\",IF(COUNT(AD125:AM125)<>10,NA(),CN125*ASTM(AD125,3)))","v":""},"",{"$f":"IF(ISBLANK(AD125),\"\",IF(COUNT(AD125:AM125)<>10,NA(),ASTM(mdiuf(CP125)-mdiuf(CP124),3)))","v":""},{"$f":"IF(ISBLANK(AD125),\"\",IF(COUNT(AD125:AM125)<>10,NA(),IF(ASTM(AI125,0)=0,0,CQ125*ASTM(AI125,0)/(CN125))))","v":""},"",{"$f":"IF(ISBLANK(AD125),\"\",IF(COUNT(AD125:AM125)<>10,NA(),ASTM(highwayfufalt(CP125)-highwayfufalt(CP124),3)))","v":""},"",{"$f":"IF(ISBLANK(AD125),\"\",IF(COUNT(AD125:AM125)<>10,NA(),IF(ASTM(AI125,0)=0,0,CT125*ASTM(AM125,0)/(CN125))))","v":""}]
[null,null,null,null,null,null,null,null,null,null,null,null,{"$error":"#N/A"},null,null,null,20,null,null,null,null,null,null,null,null,{"$f":"IF(ISBLANK(R126),\"\",IF(OR($J$6=\"HD 2b/3\",COUNT(R126:W126)<>6,$AA$143<>\"Yes\",$AA$145<>\"Yes\"),NA(),IF(ASTM(W126,0)=0,0,ASTM((51740000*$T$142*$T$143)/((($T$142*U126)+(0.429*V126)+(0.273*W126))*((0.6*$T$143*$T$144)+5471)),1))))","v":""},{"$f":"IF(ISBLANK(R126),\"\",IF(OR(AND($J$6<>\"HD 2b/3\",COUNT(R126:W126)<>6),AND($J$6=\"HD 2b/3\",COUNT(R126)+COUNT(W126)<>2),$AA$143<>\"Yes\",$AA$145<>\"Yes\"),NA(),IF(ASTM(W126,0)=0,0,IF($J$6=\"HD 2b/3\",W126,ASTM((($T$142/0.273)*U126)+(1.571*V126)+W126,0)))))","v":""},null,20,null,null,null,null,null,null,null,null,{"$f":"IF(ISBLANK(AD126),\"\",IF(OR($J$6=\"HD 2b/3\",COUNT(AD126:AI126)<>6,$AM$47<>\"Yes\",$AM$49<>\"Yes\"),NA(),IF(ASTM(AI126,0)=0,0,ASTM((51740000*$AF$46*$AF$47)/((($AF$46*AG126)+(0.429*AH126)+(0.273*AI126))*((0.6*$AF$47*$AF$48)+5471)),1))))","v":""},{"$f":"IF(ISBLANK(AD126),\"\",IF(OR(AND($J$6<>\"HD 2b/3\",COUNT(AD126:AI126)<>6),AND($J$6=\"HD 2b/3\",COUNT(AD126)+COUNT(AI126)<>2),$AM$143<>\"Yes\",$AM$145<>\"Yes\"),NA(),IF(ASTM(AI126,0)=0,0,IF($J$6=\"HD 2b/3\",AI126,ASTM((($AF$142/0.273)*AG126)+(1.571*AH126)+AI126,0)))))","v":""},null,null,null,"MDIUF based on unadjusted Rcda [3]",{"$f":"IF($J$6=\"HD 2b/3\",NA(),IFERROR(ASTM(mdiuf(AY102),3),0))","v":{"$error":"#N/A"}},{"$f":"IFERROR(ASTM(mdiuf(AZ102),3),0)","v":0},null,null,null,null,"CD 55/45 Fleet Utility Factor (FUF) for Rcdc [3]",{"$f":"ASTM(SUMIF(BD107:BD141,\"<=\"&AY130,BM107:BM141),3)","v":0},{"$f":"ASTM(SUMIF(CA107:CA141,\"<=\"&AZ130,CJ107:CJ141),3)","v":0},null,null,null,20,{"$f":"IF(ISBLANK(R126),\"\",IF(COUNT(R126:AA126)<>10,NA(),IF(ASTM(W126,0)=0,0,IFERROR(ASTM(R126,3)/ASTM(Z126,1),0))))","v":""},{"$f":"IF(ISBLANK(R126),\"\",IF(COUNT(R126:AA126)<>10,NA(),IF(W126=0,0,ASTM(ASTM(W126,0)*ASTM(R126,3),0))))","v":""},{"$f":"IF(ISBLANK(R126),\"\",IF(COUNT(R126:AA126)<>10,NA(),ASTM(S126,3)-ASTM(S125,3)))","v":""},{"$f":"IF(ISBLANK(R126),\"\",IF(COUNT(R126:AA126)<>10,NA(),ASTM(BG126*ASTM(T126,2),1)))","v":""},{"$f":"IF(ISBLANK(R126),\"\",IF(COUNT(R126:AA126)<>10,NA(),ASTM(ASTM($Y$142,4)*1000*(BH126/$AY$109),1)))","v":""},"",{"$f":"IF(ISBLANK(R126),\"\",IF(COUNT(R126:AA126)<>10,NA(),BI126/(33705*ASTM(R126,3))))","v":""},"",{"$f":"IF(ISBLANK(R126),\"\",IFERROR(ASTM(cityfuf(BJ126)-cityfuf(BJ125),3),\"\"))","v":""},{"$f":"IF(ISBLANK(R126),\"\",IF(OR(ISNUMBER(R126)=FALSE,ISNUMBER(AA126)=FALSE),NA(),IF(ASTM(W126,0)=0,0,BM126*ASTM(AA126,0))))","v":""},"",{"$f":"IF(ISBLANK(R126),\"\",IF(COUNT(R126:AA126)<>10,NA(),BL126*ASTM(R126,3)))","v":""},"",{"$f":"IF(ISBLANK(R126),\"\",IF(COUNT(R126:AA126)<>10,NA(),BQ126*ASTM(R126,3)))","v":""},"",{"$f":"IF(ISBLANK(R126),\"\",IF(COUNT(R126:AA126)<>10,NA(),ASTM(mdiuf(BS126),3)-ASTM(mdiuf(BS125),3)))","v":""},{"$f":"IF(ISBLANK(R126),\"\",IF(COUNT(R126:AA126)<>10,NA(),IF(ASTM(W126,0)=0,0,BT126*ASTM(W126,0)/(BQ126))))","v":""},"",{"$f":"IF(ISBLANK(R126),\"\",IF(COUNT(R126:AA126)<>10,NA(),ASTM(cityfufalt(BS126)-cityfufalt(BS125),3)))","v":""},"",{"$f":"IF(ISBLANK(R126),\"\",IF(COUNT(R126:AA126)<>10,NA(),IF(ASTM(W126,0)=0,0,BW126*ASTM(AA126,0)/(BQ126))))","v":""},null,20,{"$f":"IF(ISBLANK(AD126),\"\",IF(COUNT(AD126:AM126)<>10,NA(),IF(ASTM(AI126,0)=0,0,ASTM(AD126,3)/ASTM(AL126,1))))","v":""},{"$f":"IF(ISBLANK(AD126),\"\",IF(COUNT(AD126:AM126)<>10,NA(),IF(ASTM(AI126,0)=0,0,ASTM(ASTM(AI126,0)*ASTM(AD126,3),0))))","v":""},{"$f":"IF(ISBLANK(AD126),\"\",IF(COUNT(AD126:AM126)<>10,NA(),ASTM(AE126,3)-ASTM(AE125,3)))","v":""},{"$f":"IF(ISBLANK(AD126),\"\",IF(COUNT(AD126:AM126)<>10,NA(),ASTM(CD126*ASTM(AF126,2),1)))","v":""},{"$f":"IF(ISBLANK(AD126),\"\",IF(COUNT(AD126:AM126)<>10,NA(),ASTM(ASTM($AK$142,4)*1000*(CE126/$AZ$109),1)))","v":""},"",{"$f":"IF(ISBLANK(AD126),\"\",IF(COUNT(AD126:AM126)<>10,NA(),CF126/(33705*ASTM(AD126,3))))","v":""},"",{"$f":"IF(ISBLANK(AD126),\"\",ASTM(highwayfuf(CG126)-highwayfuf(CG125),3))","v":""},{"$f":"IF(ISBLANK(AD126),\"\",IF(OR(ISNUMBER(AD126)=FALSE,ISNUMBER(AM126)=FALSE),NA(),IF(ASTM(AI126,0)=0,0,CJ126*ASTM(AM126,0))))","v":""},"",{"$f":"IF(ISBLANK(AD126),\"\",IF(COUNT(AD126:AM126)<>10,NA(),CI126*ASTM(AD126,3)))","v":""},"",{"$f":"IF(ISBLANK(AD126),\"\",IF(COUNT(AD126:AM126)<>10,NA(),CN126*ASTM(AD126,3)))","v":""},"",{"$f":"IF(ISBLANK(AD126),\"\",IF(COUNT(AD126:AM126)<>10,NA(),ASTM(mdiuf(CP126)-mdiuf(CP125),3)))","v":""},{"$f":"IF(ISBLANK(AD126),\"\",IF(COUNT(AD126:AM126)<>10,NA(),IF(ASTM(AI126,0)=0,0,CQ126*ASTM(AI126,0)/(CN126))))","v":""},"",{"$f":"IF(ISBLANK(AD126),\"\",IF(COUNT(AD126:AM126)<>10,NA(),ASTM(highwayfufalt(CP126)-highwayfufalt(CP125),3)))","v":""},"",{"$f":"IF(ISBLANK(AD126),\"\",IF(COUNT(AD126:AM126)<>10,NA(),IF(ASTM(AI126,0)=0,0,CT126*ASTM(AM126,0)/(CN126))))","v":""}]
[null,null,null,null,null,null,null,null,null,null,null,null,{"$error":"#N/A"},null,null,null,21,null,null,null,null,null,null,null,null,{"$f":"IF(ISBLANK(R127),\"\",IF(OR($J$6=\"HD 2b/3\",COUNT(R127:W127)<>6,$AA$143<>\"Yes\",$AA$145<>\"Yes\"),NA(),IF(ASTM(W127,0)=0,0,ASTM((51740000*$T$142*$T$143)/((($T$142*U127)+(0.429*V127)+(0.273*W127))*((0.6*$T$143*$T$144)+5471)),1))))","v":""},{"$f":"IF(ISBLANK(R127),\"\",IF(OR(AND($J$6<>\"HD 2b/3\",COUNT(R127:W127)<>6),AND($J$6=\"HD 2b/3\",COUNT(R127)+COUNT(W127)<>2),$AA$143<>\"Yes\",$AA$145<>\"Yes\"),NA(),IF(ASTM(W127,0)=0,0,IF($J$6=\"HD 2b/3\",W127,ASTM((($T$142/0.273)*U127)+(1.571*V127)+W127,0)))))","v":""},null,21,null,null,null,null,null,null,null,null,{"$f":"IF(ISBLANK(AD127),\"\",IF(OR($J$6=\"HD 2b/3\",COUNT(AD127:AI127)<>6,$AM$47<>\"Yes\",$AM$49<>\"Yes\"),NA(),IF(ASTM(AI127,0)=0,0,ASTM((51740000*$AF$46*$AF$47)/((($AF$46*AG127)+(0.429*AH127)+(0.273*AI127))*((0.6*$AF$47*$AF$48)+5471)),1))))","v":""},{"$f":"IF(ISBLANK(AD127),\"\",IF(OR(AND($J$6<>\"HD 2b/3\",COUNT(AD127:AI127)<>6),AND($J$6=\"HD 2b/3\",COUNT(AD127)+COUNT(AI127)<>2),$AM$143<>\"Yes\",$AM$145<>\"Yes\"),NA(),IF(ASTM(AI127,0)=0,0,IF($J$6=\"HD 2b/3\",AI127,ASTM((($AF$142/0.273)*AG127)+(1.571*AH127)+AI127,0)))))","v":""},null,null,null,"Composite CD/CS Fuel Economy (MPGe) [4]",{"$f":"IF($J$6=\"HD 2b/3\",NA(),IFERROR(ASTM(1/(AR126/(AY102/     AY110  )+(1-AR126)/N107),4),0))","v":{"$error":"#N/A"}},{"$f":"IFERROR(ASTM(1/(AS126/(AZ102/     AZ110  )+(1-AS126)/O107),4),0)","v":0},{"$f":"IFERROR(ASTM(1/(0.55/AR127+0.45/AS127),4),0)","v":0},null,null,null,"MDIUF based on adjusted Rcda [3]",{"$f":"IF($J$6=\"HD 2b/3\",NA(),ASTM(mdiuf(AY103),3))","v":{"$error":"#N/A"}},{"$f":"IF($J$6=\"HD 2b/3\",NA(),ASTM(mdiuf(AZ103),3))","v":{"$error":"#N/A"}},null,null,null,21,{"$f":"IF(ISBLANK(R127),\"\",IF(COUNT(R127:AA127)<>10,NA(),IF(ASTM(W127,0)=0,0,IFERROR(ASTM(R127,3)/ASTM(Z127,1),0))))","v":""},{"$f":"IF(ISBLANK(R127),\"\",IF(COUNT(R127:AA127)<>10,NA(),IF(W127=0,0,ASTM(ASTM(W127,0)*ASTM(R127,3),0))))","v":""},{"$f":"IF(ISBLANK(R127),\"\",IF(COUNT(R127:AA127)<>10,NA(),ASTM(S127,3)-ASTM(S126,3)))","v":""},{"$f":"IF(ISBLANK(R127),\"\",IF(COUNT(R127:AA127)<>10,NA(),ASTM(BG127*ASTM(T127,2),1)))","v":""},{"$f":"IF(ISBLANK(R127),\"\",IF(COUNT(R127:AA127)<>10,NA(),ASTM(ASTM($Y$142,4)*1000*(BH127/$AY$109),1)))","v":""},"",{"$f":"IF(ISBLANK(R127),\"\",IF(COUNT(R127:AA127)<>10,NA(),BI127/(33705*ASTM(R127,3))))","v":""},"",{"$f":"IF(ISBLANK(R127),\"\",IFERROR(ASTM(cityfuf(BJ127)-cityfuf(BJ126),3),\"\"))","v":""},{"$f":"IF(ISBLANK(R127),\"\",IF(OR(ISNUMBER(R127)=FALSE,ISNUMBER(AA127)=FALSE),NA(),IF(ASTM(W127,0)=0,0,BM127*ASTM(AA127,0))))","v":""},"",{"$f":"IF(ISBLANK(R127),\"\",IF(COUNT(R127:AA127)<>10,NA(),BL127*ASTM(R127,3)))","v":""},"",{"$f":"IF(ISBLANK(R127),\"\",IF(COUNT(R127:AA127)<>10,NA(),BQ127*ASTM(R127,3)))","v":""},"",{"$f":"IF(ISBLANK(R127),\"\",IF(COUNT(R127:AA127)<>10,NA(),ASTM(mdiuf(BS127),3)-ASTM(mdiuf(BS126),3)))","v":""},{"$f":"IF(ISBLANK(R127),\"\",IF(COUNT(R127:AA127)<>10,NA(),IF(ASTM(W127,0)=0,0,BT127*ASTM(W127,0)/(BQ127))))","v":""},"",{"$f":"IF(ISBLANK(R127),\"\",IF(COUNT(R127:AA127)<>10,NA(),ASTM(cityfufalt(BS127)-cityfufalt(BS126),3)))","v":""},"",{"$f":"IF(ISBLANK(R127),\"\",IF(COUNT(R127:AA127)<>10,NA(),IF(ASTM(W127,0)=0,0,BW127*ASTM(AA127,0)/(BQ127))))","v":""},null,21,{"$f":"IF(ISBLANK(AD127),\"\",IF(COUNT(AD127:AM127)<>10,NA(),IF(ASTM(AI127,0)=0,0,ASTM(AD127,3)/ASTM(AL127,1))))","v":""},{"$f":"IF(ISBLANK(AD127),\"\",IF(COUNT(AD127:AM127)<>10,NA(),IF(ASTM(AI127,0)=0,0,ASTM(ASTM(AI127,0)*ASTM(AD127,3),0))))","v":""},{"$f":"IF(ISBLANK(AD127),\"\",IF(COUNT(AD127:AM127)<>10,NA(),ASTM(AE127,3)-ASTM(AE126,3)))","v":""},{"$f":"IF(ISBLANK(AD127),\"\",IF(COUNT(AD127:AM127)<>10,NA(),ASTM(CD127*ASTM(AF127,2),1)))","v":""},{"$f":"IF(ISBLANK(AD127),\"\",IF(COUNT(AD127:AM127)<>10,NA(),ASTM(ASTM($AK$142,4)*1000*(CE127/$AZ$109),1)))","v":""},"",{"$f":"IF(ISBLANK(AD127),\"\",IF(COUNT(AD127:AM127)<>10,NA(),CF127/(33705*ASTM(AD127,3))))","v":""},"",{"$f":"IF(ISBLANK(AD127),\"\",ASTM(highwayfuf(CG127)-highwayfuf(CG126),3))","v":""},{"$f":"IF(ISBLANK(AD127),\"\",IF(OR(ISNUMBER(AD127)=FALSE,ISNUMBER(AM127)=FALSE),NA(),IF(ASTM(AI127,0)=0,0,CJ127*ASTM(AM127,0))))","v":""},"",{"$f":"IF(ISBLANK(AD127),\"\",IF(COUNT(AD127:AM127)<>10,NA(),CI127*ASTM(AD127,3)))","v":""},"",{"$f":"IF(ISBLANK(AD127),\"\",IF(COUNT(AD127:AM127)<>10,NA(),CN127*ASTM(AD127,3)))","v":""},"",{"$f":"IF(ISBLANK(AD127),\"\",IF(COUNT(AD127:AM127)<>10,NA(),ASTM(mdiuf(CP127)-mdiuf(CP126),3)))","v":""},{"$f":"IF(ISBLANK(AD127),\"\",IF(COUNT(AD127:AM127)<>10,NA(),IF(ASTM(AI127,0)=0,0,CQ127*ASTM(AI127,0)/(CN127))))","v":""},"",{"$f":"IF(ISBLANK(AD127),\"\",IF(COUNT(AD127:AM127)<>10,NA(),ASTM(highwayfufalt(CP127)-highwayfufalt(CP126),3)))","v":""},"",{"$f":"IF(ISBLANK(AD127),\"\",IF(COUNT(AD127:AM127)<>10,NA(),IF(ASTM(AI127,0)=0,0,CT127*ASTM(AM127,0)/(CN127))))","v":""}]
[null,null,null,null,null,null,null,null,null,null,null,null,{"$error":"#N/A"},null,null,null,22,null,null,null,null,null,null,null,null,{"$f":"IF(ISBLANK(R128),\"\",IF(OR($J$6=\"HD 2b/3\",COUNT(R128:W128)<>6,$AA$143<>\"Yes\",$AA$145<>\"Yes\"),NA(),IF(ASTM(W128,0)=0,0,ASTM((51740000*$T$142*$T$143)/((($T$142*U128)+(0.429*V128)+(0.273*W128))*((0.6*$T$143*$T$144)+5471)),1))))","v":""},{"$f":"IF(ISBLANK(R128),\"\",IF(OR(AND($J$6<>\"HD 2b/3\",COUNT(R128:W128)<>6),AND($J$6=\"HD 2b/3\",COUNT(R128)+COUNT(W128)<>2),$AA$143<>\"Yes\",$AA$145<>\"Yes\"),NA(),IF(ASTM(W128,0)=0,0,IF($J$6=\"HD 2b/3\",W128,ASTM((($T$142/0.273)*U128)+(1.571*V128)+W128,0)))))","v":""},null,22,null,null,null,null,null,null,null,null,{"$f":"IF(ISBLANK(AD128),\"\",IF(OR($J$6=\"HD 2b/3\",COUNT(AD128:AI128)<>6,$AM$47<>\"Yes\",$AM$49<>\"Yes\"),NA(),IF(ASTM(AI128,0)=0,0,ASTM((51740000*$AF$46*$AF$47)/((($AF$46*AG128)+(0.429*AH128)+(0.273*AI128))*((0.6*$AF$47*$AF$48)+5471)),1))))","v":""},{"$f":"IF(ISBLANK(AD128),\"\",IF(OR(AND($J$6<>\"HD 2b/3\",COUNT(AD128:AI128)<>6),AND($J$6=\"HD 2b/3\",COUNT(AD128)+COUNT(AI128)<>2),$AM$143<>\"Yes\",$AM$145<>\"Yes\"),NA(),IF(ASTM(AI128,0)=0,0,IF($J$6=\"HD 2b/3\",AI128,ASTM((($AF$142/0.273)*AG128)+(1.571*AH128)+AI128,0)))))","v":""},null,null,null,"Trends Report Values","City","Highway","Combined",null,null,null,"MDIUF based on adjusted Rcdc [3]",{"$f":"IF($J$6=\"HD 2b/3\",NA(),ASTM(SUMIF(BD107:BD141,\"<=\" & AY130,BT107:BT141),3))","v":{"$error":"#N/A"}},{"$f":"IF($J$6=\"HD 2b/3\",NA(),ASTM(SUMIF(CA107:CA141,\"<=\" & AZ130,CQ107:CQ141),3))","v":{"$error":"#N/A"}},null,null,null,22,{"$f":"IF(ISBLANK(R128),\"\",IF(COUNT(R128:AA128)<>10,NA(),IF(ASTM(W128,0)=0,0,IFERROR(ASTM(R128,3)/ASTM(Z128,1),0))))","v":""},{"$f":"IF(ISBLANK(R128),\"\",IF(COUNT(R128:AA128)<>10,NA(),IF(W128=0,0,ASTM(ASTM(W128,0)*ASTM(R128,3),0))))","v":""},{"$f":"IF(ISBLANK(R128),\"\",IF(COUNT(R128:AA128)<>10,NA(),ASTM(S128,3)-ASTM(S127,3)))","v":""},{"$f":"IF(ISBLANK(R128),\"\",IF(COUNT(R128:AA128)<>10,NA(),ASTM(BG128*ASTM(T128,2),1)))","v":""},{"$f":"IF(ISBLANK(R128),\"\",IF(COUNT(R128:AA128)<>10,NA(),ASTM(ASTM($Y$142,4)*1000*(BH128/$AY$109),1)))","v":""},"",{"$f":"IF(ISBLANK(R128),\"\",IF(COUNT(R128:AA128)<>10,NA(),BI128/(33705*ASTM(R128,3))))","v":""},"",{"$f":"IF(ISBLANK(R128),\"\",IFERROR(ASTM(cityfuf(BJ128)-cityfuf(BJ127),3),\"\"))","v":""},{"$f":"IF(ISBLANK(R128),\"\",IF(OR(ISNUMBER(R128)=FALSE,ISNUMBER(AA128)=FALSE),NA(),IF(ASTM(W128,0)=0,0,BM128*ASTM(AA128,0))))","v":""},"",{"$f":"IF(ISBLANK(R128),\"\",IF(COUNT(R128:AA128)<>10,NA(),BL128*ASTM(R128,3)))","v":""},"",{"$f":"IF(ISBLANK(R128),\"\",IF(COUNT(R128:AA128)<>10,NA(),BQ128*ASTM(R128,3)))","v":""},"",{"$f":"IF(ISBLANK(R128),\"\",IF(COUNT(R128:AA128)<>10,NA(),ASTM(mdiuf(BS128),3)-ASTM(mdiuf(BS127),3)))","v":""},{"$f":"IF(ISBLANK(R128),\"\",IF(COUNT(R128:AA128)<>10,NA(),IF(ASTM(W128,0)=0,0,BT128*ASTM(W128,0)/(BQ128))))","v":""},"",{"$f":"IF(ISBLANK(R128),\"\",IF(COUNT(R128:AA128)<>10,NA(),ASTM(cityfufalt(BS128)-cityfufalt(BS127),3)))","v":""},"",{"$f":"IF(ISBLANK(R128),\"\",IF(COUNT(R128:AA128)<>10,NA(),IF(ASTM(W128,0)=0,0,BW128*ASTM(AA128,0)/(BQ128))))","v":""},null,22,{"$f":"IF(ISBLANK(AD128),\"\",IF(COUNT(AD128:AM128)<>10,NA(),IF(ASTM(AI128,0)=0,0,ASTM(AD128,3)/ASTM(AL128,1))))","v":""},{"$f":"IF(ISBLANK(AD128),\"\",IF(COUNT(AD128:AM128)<>10,NA(),IF(ASTM(AI128,0)=0,0,ASTM(ASTM(AI128,0)*ASTM(AD128,3),0))))","v":""},{"$f":"IF(ISBLANK(AD128),\"\",IF(COUNT(AD128:AM128)<>10,NA(),ASTM(AE128,3)-ASTM(AE127,3)))","v":""},{"$f":"IF(ISBLANK(AD128),\"\",IF(COUNT(AD128:AM128)<>10,NA(),ASTM(CD128*ASTM(AF128,2),1)))","v":""},{"$f":"IF(ISBLANK(AD128),\"\",IF(COUNT(AD128:AM128)<>10,NA(),ASTM(ASTM($AK$142,4)*1000*(CE128/$AZ$109),1)))","v":""},"",{"$f":"IF(ISBLANK(AD128),\"\",IF(COUNT(AD128:AM128)<>10,NA(),CF128/(33705*ASTM(AD128,3))))","v":""},"",{"$f":"IF(ISBLANK(AD128),\"\",ASTM(highwayfuf(CG128)-highwayfuf(CG127),3))","v":""},{"$f":"IF(ISBLANK(AD128),\"\",IF(OR(ISNUMBER(AD128)=FALSE,ISNUMBER(AM128)=FALSE),NA(),IF(ASTM(AI128,0)=0,0,CJ128*ASTM(AM128,0))))","v":""},"",{"$f":"IF(ISBLANK(AD128),\"\",IF(COUNT(AD128:AM128)<>10,NA(),CI128*ASTM(AD128,3)))","v":""},"",{"$f":"IF(ISBLANK(AD128),\"\",IF(COUNT(AD128:AM128)<>10,NA(),CN128*ASTM(AD128,3)))","v":""},"",{"$f":"IF(ISBLANK(AD128),\"\",IF(COUNT(AD128:AM128)<>10,NA(),ASTM(mdiuf(CP128)-mdiuf(CP127),3)))","v":""},{"$f":"IF(ISBLANK(AD128),\"\",IF(COUNT(AD128:AM128)<>10,NA(),IF(ASTM(AI128,0)=0,0,CQ128*ASTM(AI128,0)/(CN128))))","v":""},"",{"$f":"IF(ISBLANK(AD128),\"\",IF(COUNT(AD128:AM128)<>10,NA(),ASTM(highwayfufalt(CP128)-highwayfufalt(CP127),3)))","v":""},"",{"$f":"IF(ISBLANK(AD128),\"\",IF(COUNT(AD128:AM128)<>10,NA(),IF(ASTM(AI128,0)=0,0,CT128*ASTM(AM128,0)/(CN128))))","v":""}]
[null,null,null,null,null,null,null,null,null,null,null,null,null,null,null,null,23,null,null,null,null,null,null,null,null,{"$f":"IF(ISBLANK(R129),\"\",IF(OR($J$6=\"HD 2b/3\",COUNT(R129:W129)<>6,$AA$143<>\"Yes\",$AA$145<>\"Yes\"),NA(),IF(ASTM(W129,0)=0,0,ASTM((51740000*$T$142*$T$143)/((($T$142*U129)+(0.429*V129)+(0.273*W129))*((0.6*$T$143*$T$144)+5471)),1))))","v":""},{"$f":"IF(ISBLANK(R129),\"\",IF(OR(AND($J$6<>\"HD 2b/3\",COUNT(R129:W129)<>6),AND($J$6=\"HD 2b/3\",COUNT(R129)+COUNT(W129)<>2),$AA$143<>\"Yes\",$AA$145<>\"Yes\"),NA(),IF(ASTM(W129,0)=0,0,IF($J$6=\"HD 2b/3\",W129,ASTM((($T$142/0.273)*U129)+(1.571*V129)+W129,0)))))","v":""},null,23,null,null,null,null,null,null,null,null,{"$f":"IF(ISBLANK(AD129),\"\",IF(OR($J$6=\"HD 2b/3\",COUNT(AD129:AI129)<>6,$AM$47<>\"Yes\",$AM$49<>\"Yes\"),NA(),IF(ASTM(AI129,0)=0,0,ASTM((51740000*$AF$46*$AF$47)/((($AF$46*AG129)+(0.429*AH129)+(0.273*AI129))*((0.6*$AF$47*$AF$48)+5471)),1))))","v":""},{"$f":"IF(ISBLANK(AD129),\"\",IF(OR(AND($J$6<>\"HD 2b/3\",COUNT(AD129:AI129)<>6),AND($J$6=\"HD 2b/3\",COUNT(AD129)+COUNT(AI129)<>2),$AM$143<>\"Yes\",$AM$145<>\"Yes\"),NA(),IF(ASTM(AI129,0)=0,0,IF($J$6=\"HD 2b/3\",AI129,ASTM((($AF$142/0.273)*AG129)+(1.571*AH129)+AI129,0)))))","v":""},null,null,null,"Fleet Utility Factor (43/57) [3]",{"$f":"IF($J$6=\"HD 2b/3\",NA(),ASTM(SUMIF(BD107:BD136,\"<=\"&AY130,BW107:BW136),3))","v":{"$error":"#N/A"}},{"$f":"IF($J$6=\"HD 2b/3\",NA(),ASTM(SUMIF(CA107:CA136,\"<=\"&AZ130,CT107:CT136),3))","v":{"$error":"#N/A"}},{"$f":"IF($J$6=\"HD 2b/3\",NA(),0.55*AR129+0.45*AS129)","v":{"$error":"#N/A"}},null,null,null,"Fraction of transition cycle that is charge-depleting operation (Zn) [3]",{"$f":"IF($J$6=\"HD 2b/3\",NA(),ASTM( IF((IF( SUMIF(BD107:BD141,\"=\" & ($AY130),BG107:BG141)/SUMIF(BD107:BD141,\"=\" & ($AY130-1),BG107:BG141)<0,0, SUMIF(BD107:BD141,\"=\" & ($AY130),BG107:BG141)/SUMIF(BD107:BD141,\"=\" & ($AY130-1),BG107:BG141)))<0,0, IF((IF( SUMIF(BD107:BD141,\"=\" & ($AY130),BG107:BG141)/SUMIF(BD107:BD141,\"=\" & ($AY130-1),BG107:BG141)<0,0, SUMIF(BD107:BD141,\"=\" & ($AY130),BG107:BG141)/SUMIF(BD107:BD141,\"=\" & ($AY130-1),BG107:BG141)))>1,1, (IF( SUMIF(BD107:BD141,\"=\" & ($AY130),BG107:BG141)/SUMIF(BD107:BD141,\"=\" & ($AY130-1),BG107:BG141)<0,0, SUMIF(BD107:BD141,\"=\" & ($AY130),BG107:BG141)/SUMIF(BD107:BD141,\"=\" & ($AY130-1),BG107:BG141))))), 3))","v":{"$error":"#N/A"}},{"$f":"IF($J$6=\"HD 2b/3\",NA(),ASTM( IF((IF( SUMIF(CA107:CA141,\"=\" & ($AZ130),CD107:CD141)/SUMIF(CA107:CA141,\"=\" & ($AZ130-1),CD107:CD141)<0,0, SUMIF(CA107:CA141,\"=\" & ($AZ130),CD107:CD141)/SUMIF(CA107:CA141,\"=\" & ($AZ130-1),CD107:CD141)))<0,0, IF((IF( SUMIF(CA107:CA141,\"=\" & ($AZ130),CD107:CD141)/SUMIF(CA107:CA141,\"=\" & ($AZ130-1),CD107:CD141)<0,0, SUMIF(CA107:CA141,\"=\" & ($AZ130),CD107:CD141)/SUMIF(CA107:CA141,\"=\" & ($AZ130-1),CD107:CD141)))>1,1, (IF( SUMIF(CA107:CA141,\"=\" & ($AZ130),CD107:CD141)/SUMIF(CA107:CA141,\"=\" & ($AZ130-1),CD107:CD141)<0,0, SUMIF(CA107:CA141,\"=\" & ($AZ130),CD107:CD141)/SUMIF(CA107:CA141,\"=\" & ($AZ130-1),CD107:CD141))))), 3))","v":{"$error":"#N/A"}},null,null,null,23,{"$f":"IF(ISBLANK(R129),\"\",IF(COUNT(R129:AA129)<>10,NA(),IF(ASTM(W129,0)=0,0,IFERROR(ASTM(R129,3)/ASTM(Z129,1),0))))","v":""},{"$f":"IF(ISBLANK(R129),\"\",IF(COUNT(R129:AA129)<>10,NA(),IF(W129=0,0,ASTM(ASTM(W129,0)*ASTM(R129,3),0))))","v":""},{"$f":"IF(ISBLANK(R129),\"\",IF(COUNT(R129:AA129)<>10,NA(),ASTM(S129,3)-ASTM(S128,3)))","v":""},{"$f":"IF(ISBLANK(R129),\"\",IF(COUNT(R129:AA129)<>10,NA(),ASTM(BG129*ASTM(T129,2),1)))","v":""},{"$f":"IF(ISBLANK(R129),\"\",IF(COUNT(R129:AA129)<>10,NA(),ASTM(ASTM($Y$142,4)*1000*(BH129/$AY$109),1)))","v":""},"",{"$f":"IF(ISBLANK(R129),\"\",IF(COUNT(R129:AA129)<>10,NA(),BI129/(33705*ASTM(R129,3))))","v":""},"",{"$f":"IF(ISBLANK(R129),\"\",IFERROR(ASTM(cityfuf(BJ129)-cityfuf(BJ128),3),\"\"))","v":""},{"$f":"IF(ISBLANK(R129),\"\",IF(OR(ISNUMBER(R129)=FALSE,ISNUMBER(AA129)=FALSE),NA(),IF(ASTM(W129,0)=0,0,BM129*ASTM(AA129,0))))","v":""},"",{"$f":"IF(ISBLANK(R129),\"\",IF(COUNT(R129:AA129)<>10,NA(),BL129*ASTM(R129,3)))","v":""},"",{"$f":"IF(ISBLANK(R129),\"\",IF(COUNT(R129:AA129)<>10,NA(),BQ129*ASTM(R129,3)))","v":""},"",{"$f":"IF(ISBLANK(R129),\"\",IF(COUNT(R129:AA129)<>10,NA(),ASTM(mdiuf(BS129),3)-ASTM(mdiuf(BS128),3)))","v":""},{"$f":"IF(ISBLANK(R129),\"\",IF(COUNT(R129:AA129)<>10,NA(),IF(ASTM(W129,0)=0,0,BT129*ASTM(W129,0)/(BQ129))))","v":""},"",{"$f":"IF(ISBLANK(R129),\"\",IF(COUNT(R129:AA129)<>10,NA(),ASTM(cityfufalt(BS129)-cityfufalt(BS128),3)))","v":""},"",{"$f":"IF(ISBLANK(R129),\"\",IF(COUNT(R129:AA129)<>10,NA(),IF(ASTM(W129,0)=0,0,BW129*ASTM(AA129,0)/(BQ129))))","v":""},null,23,{"$f":"IF(ISBLANK(AD129),\"\",IF(COUNT(AD129:AM129)<>10,NA(),IF(ASTM(AI129,0)=0,0,ASTM(AD129,3)/ASTM(AL129,1))))","v":""},{"$f":"IF(ISBLANK(AD129),\"\",IF(COUNT(AD129:AM129)<>10,NA(),IF(ASTM(AI129,0)=0,0,ASTM(ASTM(AI129,0)*ASTM(AD129,3),0))))","v":""},{"$f":"IF(ISBLANK(AD129),\"\",IF(COUNT(AD129:AM129)<>10,NA(),ASTM(AE129,3)-ASTM(AE128,3)))","v":""},{"$f":"IF(ISBLANK(AD129),\"\",IF(COUNT(AD129:AM129)<>10,NA(),ASTM(CD129*ASTM(AF129,2),1)))","v":""},{"$f":"IF(ISBLANK(AD129),\"\",IF(COUNT(AD129:AM129)<>10,NA(),ASTM(ASTM($AK$142,4)*1000*(CE129/$AZ$109),1)))","v":""},"",{"$f":"IF(ISBLANK(AD129),\"\",IF(COUNT(AD129:AM129)<>10,NA(),CF129/(33705*ASTM(AD129,3))))","v":""},"",{"$f":"IF(ISBLANK(AD129),\"\",ASTM(highwayfuf(CG129)-highwayfuf(CG128),3))","v":""},{"$f":"IF(ISBLANK(AD129),\"\",IF(OR(ISNUMBER(AD129)=FALSE,ISNUMBER(AM129)=FALSE),NA(),IF(ASTM(AI129,0)=0,0,CJ129*ASTM(AM129,0))))","v":""},"",{"$f":"IF(ISBLANK(AD129),\"\",IF(COUNT(AD129:AM129)<>10,NA(),CI129*ASTM(AD129,3)))","v":""},"",{"$f":"IF(ISBLANK(AD129),\"\",IF(COUNT(AD129:AM129)<>10,NA(),CN129*ASTM(AD129,3)))","v":""},"",{"$f":"IF(ISBLANK(AD129),\"\",IF(COUNT(AD129:AM129)<>10,NA(),ASTM(mdiuf(CP129)-mdiuf(CP128),3)))","v":""},{"$f":"IF(ISBLANK(AD129),\"\",IF(COUNT(AD129:AM129)<>10,NA(),IF(ASTM(AI129,0)=0,0,CQ129*ASTM(AI129,0)/(CN129))))","v":""},"",{"$f":"IF(ISBLANK(AD129),\"\",IF(COUNT(AD129:AM129)<>10,NA(),ASTM(highwayfufalt(CP129)-highwayfufalt(CP128),3)))","v":""},"",{"$f":"IF(ISBLANK(AD129),\"\",IF(COUNT(AD129:AM129)<>10,NA(),IF(ASTM(AI129,0)=0,0,CT129*ASTM(AM129,0)/(CN129))))","v":""}]
[null,null,null,null,null,null,null,null,null,null,null,null,null,null,null,null,24,null,null,null,null,null,null,null,null,{"$f":"IF(ISBLANK(R130),\"\",IF(OR($J$6=\"HD 2b/3\",COUNT(R130:W130)<>6,$AA$143<>\"Yes\",$AA$145<>\"Yes\"),NA(),IF(ASTM(W130,0)=0,0,ASTM((51740000*$T$142*$T$143)/((($T$142*U130)+(0.429*V130)+(0.273*W130))*((0.6*$T$143*$T$144)+5471)),1))))","v":""},{"$f":"IF(ISBLANK(R130),\"\",IF(OR(AND($J$6<>\"HD 2b/3\",COUNT(R130:W130)<>6),AND($J$6=\"HD 2b/3\",COUNT(R130)+COUNT(W130)<>2),$AA$143<>\"Yes\",$AA$145<>\"Yes\"),NA(),IF(ASTM(W130,0)=0,0,IF($J$6=\"HD 2b/3\",W130,ASTM((($T$142/0.273)*U130)+(1.571*V130)+W130,0)))))","v":""},null,24,null,null,null,null,null,null,null,null,{"$f":"IF(ISBLANK(AD130),\"\",IF(OR($J$6=\"HD 2b/3\",COUNT(AD130:AI130)<>6,$AM$47<>\"Yes\",$AM$49<>\"Yes\"),NA(),IF(ASTM(AI130,0)=0,0,ASTM((51740000*$AF$46*$AF$47)/((($AF$46*AG130)+(0.429*AH130)+(0.273*AI130))*((0.6*$AF$47*$AF$48)+5471)),1))))","v":""},{"$f":"IF(ISBLANK(AD130),\"\",IF(OR(AND($J$6<>\"HD 2b/3\",COUNT(AD130:AI130)<>6),AND($J$6=\"HD 2b/3\",COUNT(AD130)+COUNT(AI130)<>2),$AM$143<>\"Yes\",$AM$145<>\"Yes\"),NA(),IF(ASTM(AI130,0)=0,0,IF($J$6=\"HD 2b/3\",AI130,ASTM((($AF$142/0.273)*AG130)+(1.571*AH130)+AI130,0)))))","v":""},null,null,null,"Unadjusted Fuel Economy (MPG) [4]",{"$f":"IF($J$6=\"HD 2b/3\",NA(),AR105)","v":{"$error":"#N/A"}},{"$f":"IF($J$6=\"HD 2b/3\",NA(),AS105)","v":{"$error":"#N/A"}},{"$f":"IF($J$6=\"HD 2b/3\",NA(),AT105)","v":{"$error":"#N/A"}},null,null,null,"Number of last cycle number with charge-depleting operation (transition cycle) [0]",{"$f":"IF(ISNUMBER(Y144),Y144,\"EOT ERROR\")","v":"EOT ERROR"},{"$f":"IF(ISNUMBER(AK144),AK144,\"EOT ERROR\")","v":"EOT ERROR"},null,null,null,24,{"$f":"IF(ISBLANK(R130),\"\",IF(COUNT(R130:AA130)<>10,NA(),IF(ASTM(W130,0)=0,0,IFERROR(ASTM(R130,3)/ASTM(Z130,1),0))))","v":""},{"$f":"IF(ISBLANK(R130),\"\",IF(COUNT(R130:AA130)<>10,NA(),IF(W130=0,0,ASTM(ASTM(W130,0)*ASTM(R130,3),0))))","v":""},{"$f":"IF(ISBLANK(R130),\"\",IF(COUNT(R130:AA130)<>10,NA(),ASTM(S130,3)-ASTM(S129,3)))","v":""},{"$f":"IF(ISBLANK(R130),\"\",IF(COUNT(R130:AA130)<>10,NA(),ASTM(BG130*ASTM(T130,2),1)))","v":""},{"$f":"IF(ISBLANK(R130),\"\",IF(COUNT(R130:AA130)<>10,NA(),ASTM(ASTM($Y$142,4)*1000*(BH130/$AY$109),1)))","v":""},"",{"$f":"IF(ISBLANK(R130),\"\",IF(COUNT(R130:AA130)<>10,NA(),BI130/(33705*ASTM(R130,3))))","v":""},"",{"$f":"IF(ISBLANK(R130),\"\",IFERROR(ASTM(cityfuf(BJ130)-cityfuf(BJ129),3),\"\"))","v":""},{"$f":"IF(ISBLANK(R130),\"\",IF(OR(ISNUMBER(R130)=FALSE,ISNUMBER(AA130)=FALSE),NA(),IF(ASTM(W130,0)=0,0,BM130*ASTM(AA130,0))))","v":""},"",{"$f":"IF(ISBLANK(R130),\"\",IF(COUNT(R130:AA130)<>10,NA(),BL130*ASTM(R130,3)))","v":""},"",{"$f":"IF(ISBLANK(R130),\"\",IF(COUNT(R130:AA130)<>10,NA(),BQ130*ASTM(R130,3)))","v":""},"",{"$f":"IF(ISBLANK(R130),\"\",IF(COUNT(R130:AA130)<>10,NA(),ASTM(mdiuf(BS130),3)-ASTM(mdiuf(BS129),3)))","v":""},{"$f":"IF(ISBLANK(R130),\"\",IF(COUNT(R130:AA130)<>10,NA(),IF(ASTM(W130,0)=0,0,BT130*ASTM(W130,0)/(BQ130))))","v":""},"",{"$f":"IF(ISBLANK(R130),\"\",IF(COUNT(R130:AA130)<>10,NA(),ASTM(cityfufalt(BS130)-cityfufalt(BS129),3)))","v":""},"",{"$f":"IF(ISBLANK(R130),\"\",IF(COUNT(R130:AA130)<>10,NA(),IF(ASTM(W130,0)=0,0,BW130*ASTM(AA130,0)/(BQ130))))","v":""},null,24,{"$f":"IF(ISBLANK(AD130),\"\",IF(COUNT(AD130:AM130)<>10,NA(),IF(ASTM(AI130,0)=0,0,ASTM(AD130,3)/ASTM(AL130,1))))","v":""},{"$f":"IF(ISBLANK(AD130),\"\",IF(COUNT(AD130:AM130)<>10,NA(),IF(ASTM(AI130,0)=0,0,ASTM(ASTM(AI130,0)*ASTM(AD130,3),0))))","v":""},{"$f":"IF(ISBLANK(AD130),\"\",IF(COUNT(AD130:AM130)<>10,NA(),ASTM(AE130,3)-ASTM(AE129,3)))","v":""},{"$f":"IF(ISBLANK(AD130),\"\",IF(COUNT(AD130:AM130)<>10,NA(),ASTM(CD130*ASTM(AF130,2),1)))","v":""},{"$f":"IF(ISBLANK(AD130),\"\",IF(COUNT(AD130:AM130)<>10,NA(),ASTM(ASTM($AK$142,4)*1000*(CE130/$AZ$109),1)))","v":""},"",{"$f":"IF(ISBLANK(AD130),\"\",IF(COUNT(AD130:AM130)<>10,NA(),CF130/(33705*ASTM(AD130,3))))","v":""},"",{"$f":"IF(ISBLANK(AD130),\"\",ASTM(highwayfuf(CG130)-highwayfuf(CG129),3))","v":""},{"$f":"IF(ISBLANK(AD130),\"\",IF(OR(ISNUMBER(AD130)=FALSE,ISNUMBER(AM130)=FALSE),NA(),IF(ASTM(AI130,0)=0,0,CJ130*ASTM(AM130,0))))","v":""},"",{"$f":"IF(ISBLANK(AD130),\"\",IF(COUNT(AD130:AM130)<>10,NA(),CI130*ASTM(AD130,3)))","v":""},"",{"$f":"IF(ISBLANK(AD130),\"\",IF(COUNT(AD130:AM130)<>10,NA(),CN130*ASTM(AD130,3)))","v":""},"",{"$f":"IF(ISBLANK(AD130),\"\",IF(COUNT(AD130:AM130)<>10,NA(),ASTM(mdiuf(CP130)-mdiuf(CP129),3)))","v":""},{"$f":"IF(ISBLANK(AD130),\"\",IF(COUNT(AD130:AM130)<>10,NA(),IF(ASTM(AI130,0)=0,0,CQ130*ASTM(AI130,0)/(CN130))))","v":""},"",{"$f":"IF(ISBLANK(AD130),\"\",IF(COUNT(AD130:AM130)<>10,NA(),ASTM(highwayfufalt(CP130)-highwayfufalt(CP129),3)))","v":""},"",{"$f":"IF(ISBLANK(AD130),\"\",IF(COUNT(AD130:AM130)<>10,NA(),IF(ASTM(AI130,0)=0,0,CT130*ASTM(AM130,0)/(CN130))))","v":""}]
[null,null,null,null,null,null,null,null,null,null,null,null,null,null,null,null,25,null,null,null,null,null,null,null,null,{"$f":"IF(ISBLANK(R131),\"\",IF(OR($J$6=\"HD 2b/3\",COUNT(R131:W131)<>6,$AA$143<>\"Yes\",$AA$145<>\"Yes\"),NA(),IF(ASTM(W131,0)=0,0,ASTM((51740000*$T$142*$T$143)/((($T$142*U131)+(0.429*V131)+(0.273*W131))*((0.6*$T$143*$T$144)+5471)),1))))","v":""},{"$f":"IF(ISBLANK(R131),\"\",IF(OR(AND($J$6<>\"HD 2b/3\",COUNT(R131:W131)<>6),AND($J$6=\"HD 2b/3\",COUNT(R131)+COUNT(W131)<>2),$AA$143<>\"Yes\",$AA$145<>\"Yes\"),NA(),IF(ASTM(W131,0)=0,0,IF($J$6=\"HD 2b/3\",W131,ASTM((($T$142/0.273)*U131)+(1.571*V131)+W131,0)))))","v":""},null,25,null,null,null,null,null,null,null,null,{"$f":"IF(ISBLANK(AD131),\"\",IF(OR($J$6=\"HD 2b/3\",COUNT(AD131:AI131)<>6,$AM$47<>\"Yes\",$AM$49<>\"Yes\"),NA(),IF(ASTM(AI131,0)=0,0,ASTM((51740000*$AF$46*$AF$47)/((($AF$46*AG131)+(0.429*AH131)+(0.273*AI131))*((0.6*$AF$47*$AF$48)+5471)),1))))","v":""},{"$f":"IF(ISBLANK(AD131),\"\",IF(OR(AND($J$6<>\"HD 2b/3\",COUNT(AD131:AI131)<>6),AND($J$6=\"HD 2b/3\",COUNT(AD131)+COUNT(AI131)<>2),$AM$143<>\"Yes\",$AM$145<>\"Yes\"),NA(),IF(ASTM(AI131,0)=0,0,IF($J$6=\"HD 2b/3\",AI131,ASTM((($AF$142/0.273)*AG131)+(1.571*AH131)+AI131,0)))))","v":""},null,null,null,"Unadjusted GHG (g/mi) [1]",{"$f":"IF($J$6=\"HD 2b/3\",NA(),ASTM(AR107,1))","v":{"$error":"#N/A"}},{"$f":"IF($J$6=\"HD 2b/3\",NA(),ASTM(AS107,1))","v":{"$error":"#N/A"}},{"$f":"IF($J$6=\"HD 2b/3\",NA(),ASTM(0.55*AR131+0.45*AS131,1))","v":{"$error":"#N/A"}},null,null,"Intermediate Results Requiring Charge-Sustaining (CS) Test Results or Other Inputs",null,null,null,null,null,null,25,{"$f":"IF(ISBLANK(R131),\"\",IF(COUNT(R131:AA131)<>10,NA(),IF(ASTM(W131,0)=0,0,IFERROR(ASTM(R131,3)/ASTM(Z131,1),0))))","v":""},{"$f":"IF(ISBLANK(R131),\"\",IF(COUNT(R131:AA131)<>10,NA(),IF(W131=0,0,ASTM(ASTM(W131,0)*ASTM(R131,3),0))))","v":""},{"$f":"IF(ISBLANK(R131),\"\",IF(COUNT(R131:AA131)<>10,NA(),ASTM(S131,3)-ASTM(S130,3)))","v":""},{"$f":"IF(ISBLANK(R131),\"\",IF(COUNT(R131:AA131)<>10,NA(),ASTM(BG131*ASTM(T131,2),1)))","v":""},{"$f":"IF(ISBLANK(R131),\"\",IF(COUNT(R131:AA131)<>10,NA(),ASTM(ASTM($Y$142,4)*1000*(BH131/$AY$109),1)))","v":""},"",{"$f":"IF(ISBLANK(R131),\"\",IF(COUNT(R131:AA131)<>10,NA(),BI131/(33705*ASTM(R131,3))))","v":""},"",{"$f":"IF(ISBLANK(R131),\"\",IFERROR(ASTM(cityfuf(BJ131)-cityfuf(BJ130),3),\"\"))","v":""},{"$f":"IF(ISBLANK(R131),\"\",IF(OR(ISNUMBER(R131)=FALSE,ISNUMBER(AA131)=FALSE),NA(),IF(ASTM(W131,0)=0,0,BM131*ASTM(AA131,0))))","v":""},"",{"$f":"IF(ISBLANK(R131),\"\",IF(COUNT(R131:AA131)<>10,NA(),BL131*ASTM(R131,3)))","v":""},"",{"$f":"IF(ISBLANK(R131),\"\",IF(COUNT(R131:AA131)<>10,NA(),BQ131*ASTM(R131,3)))","v":""},"",{"$f":"IF(ISBLANK(R131),\"\",IF(COUNT(R131:AA131)<>10,NA(),ASTM(mdiuf(BS131),3)-ASTM(mdiuf(BS130),3)))","v":""},{"$f":"IF(ISBLANK(R131),\"\",IF(COUNT(R131:AA131)<>10,NA(),IF(ASTM(W131,0)=0,0,BT131*ASTM(W131,0)/(BQ131))))","v":""},"",{"$f":"IF(ISBLANK(R131),\"\",IF(COUNT(R131:AA131)<>10,NA(),ASTM(cityfufalt(BS131)-cityfufalt(BS130),3)))","v":""},"",{"$f":"IF(ISBLANK(R131),\"\",IF(COUNT(R131:AA131)<>10,NA(),IF(ASTM(W131,0)=0,0,BW131*ASTM(AA131,0)/(BQ131))))","v":""},null,25,{"$f":"IF(ISBLANK(AD131),\"\",IF(COUNT(AD131:AM131)<>10,NA(),IF(ASTM(AI131,0)=0,0,ASTM(AD131,3)/ASTM(AL131,1))))","v":""},{"$f":"IF(ISBLANK(AD131),\"\",IF(COUNT(AD131:AM131)<>10,NA(),IF(ASTM(AI131,0)=0,0,ASTM(ASTM(AI131,0)*ASTM(AD131,3),0))))","v":""},{"$f":"IF(ISBLANK(AD131),\"\",IF(COUNT(AD131:AM131)<>10,NA(),ASTM(AE131,3)-ASTM(AE130,3)))","v":""},{"$f":"IF(ISBLANK(AD131),\"\",IF(COUNT(AD131:AM131)<>10,NA(),ASTM(CD131*ASTM(AF131,2),1)))","v":""},{"$f":"IF(ISBLANK(AD131),\"\",IF(COUNT(AD131:AM131)<>10,NA(),ASTM(ASTM($AK$142,4)*1000*(CE131/$AZ$109),1)))","v":""},"",{"$f":"IF(ISBLANK(AD131),\"\",IF(COUNT(AD131:AM131)<>10,NA(),CF131/(33705*ASTM(AD131,3))))","v":""},"",{"$f":"IF(ISBLANK(AD131),\"\",ASTM(highwayfuf(CG131)-highwayfuf(CG130),3))","v":""},{"$f":"IF(ISBLANK(AD131),\"\",IF(OR(ISNUMBER(AD131)=FALSE,ISNUMBER(AM131)=FALSE),NA(),IF(ASTM(AI131,0)=0,0,CJ131*ASTM(AM131,0))))","v":""},"",{"$f":"IF(ISBLANK(AD131),\"\",IF(COUNT(AD131:AM131)<>10,NA(),CI131*ASTM(AD131,3)))","v":""},"",{"$f":"IF(ISBLANK(AD131),\"\",IF(COUNT(AD131:AM131)<>10,NA(),CN131*ASTM(AD131,3)))","v":""},"",{"$f":"IF(ISBLANK(AD131),\"\",IF(COUNT(AD131:AM131)<>10,NA(),ASTM(mdiuf(CP131)-mdiuf(CP130),3)))","v":""},{"$f":"IF(ISBLANK(AD131),\"\",IF(COUNT(AD131:AM131)<>10,NA(),IF(ASTM(AI131,0)=0,0,CQ131*ASTM(AI131,0)/(CN131))))","v":""},"",{"$f":"IF(ISBLANK(AD131),\"\",IF(COUNT(AD131:AM131)<>10,NA(),ASTM(highwayfufalt(CP131)-highwayfufalt(CP130),3)))","v":""},"",{"$f":"IF(ISBLANK(AD131),\"\",IF(COUNT(AD131:AM131)<>10,NA(),IF(ASTM(AI131,0)=0,0,CT131*ASTM(AM131,0)/(CN131))))","v":""}]
[null,null,null,null,null,null,null,null,null,null,null,null,null,null,null,null,26,null,null,null,null,null,null,null,null,{"$f":"IF(ISBLANK(R132),\"\",IF(OR($J$6=\"HD 2b/3\",COUNT(R132:W132)<>6,$AA$143<>\"Yes\",$AA$145<>\"Yes\"),NA(),IF(ASTM(W132,0)=0,0,ASTM((51740000*$T$142*$T$143)/((($T$142*U132)+(0.429*V132)+(0.273*W132))*((0.6*$T$143*$T$144)+5471)),1))))","v":""},{"$f":"IF(ISBLANK(R132),\"\",IF(OR(AND($J$6<>\"HD 2b/3\",COUNT(R132:W132)<>6),AND($J$6=\"HD 2b/3\",COUNT(R132)+COUNT(W132)<>2),$AA$143<>\"Yes\",$AA$145<>\"Yes\"),NA(),IF(ASTM(W132,0)=0,0,IF($J$6=\"HD 2b/3\",W132,ASTM((($T$142/0.273)*U132)+(1.571*V132)+W132,0)))))","v":""},null,26,null,null,null,null,null,null,null,null,{"$f":"IF(ISBLANK(AD132),\"\",IF(OR($J$6=\"HD 2b/3\",COUNT(AD132:AI132)<>6,$AM$47<>\"Yes\",$AM$49<>\"Yes\"),NA(),IF(ASTM(AI132,0)=0,0,ASTM((51740000*$AF$46*$AF$47)/((($AF$46*AG132)+(0.429*AH132)+(0.273*AI132))*((0.6*$AF$47*$AF$48)+5471)),1))))","v":""},{"$f":"IF(ISBLANK(AD132),\"\",IF(OR(AND($J$6<>\"HD 2b/3\",COUNT(AD132:AI132)<>6),AND($J$6=\"HD 2b/3\",COUNT(AD132)+COUNT(AI132)<>2),$AM$143<>\"Yes\",$AM$145<>\"Yes\"),NA(),IF(ASTM(AI132,0)=0,0,IF($J$6=\"HD 2b/3\",AI132,ASTM((($AF$142/0.273)*AG132)+(1.571*AH132)+AI132,0)))))","v":""},null,null,null,"Adjusted Fuel Economy (MPG) [4]",{"$f":"IF($J$6=\"HD 2b/3\",NA(),IFERROR(ASTM(1/ ( AY112 + (1-AR129)/N108),4),0))","v":{"$error":"#N/A"}},{"$f":"IF($J$6=\"HD 2b/3\",NA(),IFERROR(ASTM(1/ ( AZ112 + (1-AS129)/O108),4),0))","v":{"$error":"#N/A"}},{"$f":"IF($J$6=\"HD 2b/3\",NA(),IFERROR(ASTM(1/(0.55/AR132+0.45/AS132),4),0))","v":{"$error":"#N/A"}},null,null,null,"DRIVING DISTANCE VALUES","CITY","HIGHWAY",null,null,null,26,{"$f":"IF(ISBLANK(R132),\"\",IF(COUNT(R132:AA132)<>10,NA(),IF(ASTM(W132,0)=0,0,IFERROR(ASTM(R132,3)/ASTM(Z132,1),0))))","v":""},{"$f":"IF(ISBLANK(R132),\"\",IF(COUNT(R132:AA132)<>10,NA(),IF(W132=0,0,ASTM(ASTM(W132,0)*ASTM(R132,3),0))))","v":""},{"$f":"IF(ISBLANK(R132),\"\",IF(COUNT(R132:AA132)<>10,NA(),ASTM(S132,3)-ASTM(S131,3)))","v":""},{"$f":"IF(ISBLANK(R132),\"\",IF(COUNT(R132:AA132)<>10,NA(),ASTM(BG132*ASTM(T132,2),1)))","v":""},{"$f":"IF(ISBLANK(R132),\"\",IF(COUNT(R132:AA132)<>10,NA(),ASTM(ASTM($Y$142,4)*1000*(BH132/$AY$109),1)))","v":""},"",{"$f":"IF(ISBLANK(R132),\"\",IF(COUNT(R132:AA132)<>10,NA(),BI132/(33705*ASTM(R132,3))))","v":""},"",{"$f":"IF(ISBLANK(R132),\"\",IFERROR(ASTM(cityfuf(BJ132)-cityfuf(BJ131),3),\"\"))","v":""},{"$f":"IF(ISBLANK(R132),\"\",IF(OR(ISNUMBER(R132)=FALSE,ISNUMBER(AA132)=FALSE),NA(),IF(ASTM(W132,0)=0,0,BM132*ASTM(AA132,0))))","v":""},"",{"$f":"IF(ISBLANK(R132),\"\",IF(COUNT(R132:AA132)<>10,NA(),BL132*ASTM(R132,3)))","v":""},"",{"$f":"IF(ISBLANK(R132),\"\",IF(COUNT(R132:AA132)<>10,NA(),BQ132*ASTM(R132,3)))","v":""},"",{"$f":"IF(ISBLANK(R132),\"\",IF(COUNT(R132:AA132)<>10,NA(),ASTM(mdiuf(BS132),3)-ASTM(mdiuf(BS131),3)))","v":""},{"$f":"IF(ISBLANK(R132),\"\",IF(COUNT(R132:AA132)<>10,NA(),IF(ASTM(W132,0)=0,0,BT132*ASTM(W132,0)/(BQ132))))","v":""},"",{"$f":"IF(ISBLANK(R132),\"\",IF(COUNT(R132:AA132)<>10,NA(),ASTM(cityfufalt(BS132)-cityfufalt(BS131),3)))","v":""},"",{"$f":"IF(ISBLANK(R132),\"\",IF(COUNT(R132:AA132)<>10,NA(),IF(ASTM(W132,0)=0,0,BW132*ASTM(AA132,0)/(BQ132))))","v":""},null,26,{"$f":"IF(ISBLANK(AD132),\"\",IF(COUNT(AD132:AM132)<>10,NA(),IF(ASTM(AI132,0)=0,0,ASTM(AD132,3)/ASTM(AL132,1))))","v":""},{"$f":"IF(ISBLANK(AD132),\"\",IF(COUNT(AD132:AM132)<>10,NA(),IF(ASTM(AI132,0)=0,0,ASTM(ASTM(AI132,0)*ASTM(AD132,3),0))))","v":""},{"$f":"IF(ISBLANK(AD132),\"\",IF(COUNT(AD132:AM132)<>10,NA(),ASTM(AE132,3)-ASTM(AE131,3)))","v":""},{"$f":"IF(ISBLANK(AD132),\"\",IF(COUNT(AD132:AM132)<>10,NA(),ASTM(CD132*ASTM(AF132,2),1)))","v":""},{"$f":"IF(ISBLANK(AD132),\"\",IF(COUNT(AD132:AM132)<>10,NA(),ASTM(ASTM($AK$142,4)*1000*(CE132/$AZ$109),1)))","v":""},"",{"$f":"IF(ISBLANK(AD132),\"\",IF(COUNT(AD132:AM132)<>10,NA(),CF132/(33705*ASTM(AD132,3))))","v":""},"",{"$f":"IF(ISBLANK(AD132),\"\",ASTM(highwayfuf(CG132)-highwayfuf(CG131),3))","v":""},{"$f":"IF(ISBLANK(AD132),\"\",IF(OR(ISNUMBER(AD132)=FALSE,ISNUMBER(AM132)=FALSE),NA(),IF(ASTM(AI132,0)=0,0,CJ132*ASTM(AM132,0))))","v":""},"",{"$f":"IF(ISBLANK(AD132),\"\",IF(COUNT(AD132:AM132)<>10,NA(),CI132*ASTM(AD132,3)))","v":""},"",{"$f":"IF(ISBLANK(AD132),\"\",IF(COUNT(AD132:AM132)<>10,NA(),CN132*ASTM(AD132,3)))","v":""},"",{"$f":"IF(ISBLANK(AD132),\"\",IF(COUNT(AD132:AM132)<>10,NA(),ASTM(mdiuf(CP132)-mdiuf(CP131),3)))","v":""},{"$f":"IF(ISBLANK(AD132),\"\",IF(COUNT(AD132:AM132)<>10,NA(),IF(ASTM(AI132,0)=0,0,CQ132*ASTM(AI132,0)/(CN132))))","v":""},"",{"$f":"IF(ISBLANK(AD132),\"\",IF(COUNT(AD132:AM132)<>10,NA(),ASTM(highwayfufalt(CP132)-highwayfufalt(CP131),3)))","v":""},"",{"$f":"IF(ISBLANK(AD132),\"\",IF(COUNT(AD132:AM132)<>10,NA(),IF(ASTM(AI132,0)=0,0,CT132*ASTM(AM132,0)/(CN132))))","v":""}]
[null,null,null,null,null,null,null,null,null,null,null,null,null,null,null,null,27,null,null,null,null,null,null,null,null,{"$f":"IF(ISBLANK(R133),\"\",IF(OR($J$6=\"HD 2b/3\",COUNT(R133:W133)<>6,$AA$143<>\"Yes\",$AA$145<>\"Yes\"),NA(),IF(ASTM(W133,0)=0,0,ASTM((51740000*$T$142*$T$143)/((($T$142*U133)+(0.429*V133)+(0.273*W133))*((0.6*$T$143*$T$144)+5471)),1))))","v":""},{"$f":"IF(ISBLANK(R133),\"\",IF(OR(AND($J$6<>\"HD 2b/3\",COUNT(R133:W133)<>6),AND($J$6=\"HD 2b/3\",COUNT(R133)+COUNT(W133)<>2),$AA$143<>\"Yes\",$AA$145<>\"Yes\"),NA(),IF(ASTM(W133,0)=0,0,IF($J$6=\"HD 2b/3\",W133,ASTM((($T$142/0.273)*U133)+(1.571*V133)+W133,0)))))","v":""},null,27,null,null,null,null,null,null,null,null,{"$f":"IF(ISBLANK(AD133),\"\",IF(OR($J$6=\"HD 2b/3\",COUNT(AD133:AI133)<>6,$AM$47<>\"Yes\",$AM$49<>\"Yes\"),NA(),IF(ASTM(AI133,0)=0,0,ASTM((51740000*$AF$46*$AF$47)/((($AF$46*AG133)+(0.429*AH133)+(0.273*AI133))*((0.6*$AF$47*$AF$48)+5471)),1))))","v":""},{"$f":"IF(ISBLANK(AD133),\"\",IF(OR(AND($J$6<>\"HD 2b/3\",COUNT(AD133:AI133)<>6),AND($J$6=\"HD 2b/3\",COUNT(AD133)+COUNT(AI133)<>2),$AM$143<>\"Yes\",$AM$145<>\"Yes\"),NA(),IF(ASTM(AI133,0)=0,0,IF($J$6=\"HD 2b/3\",AI133,ASTM((($AF$142/0.273)*AG133)+(1.571*AH133)+AI133,0)))))","v":""},null,null,null,"Adjusted GHG (g/mi) [1]",{"$f":"IF($J$6=\"HD 2b/3\",NA(),IFERROR(ASTM(  AY124    +(1-AR129)*ASTM(N111,1),1),0))","v":{"$error":"#N/A"}},{"$f":"IF($J$6=\"HD 2b/3\",NA(),IFERROR(ASTM(  AZ124    +(1-AS129)*ASTM(O111,1),1),0))","v":{"$error":"#N/A"}},{"$f":"IF($J$6=\"HD 2b/3\",NA(),IFERROR(ASTM(0.55*AR133+0.45*AS133,1),0))","v":{"$error":"#N/A"}},null,null,null,"CD Equivalent All-Electric Range (EAER), Unadjusted (mi) [3]",{"$f":"IF($J$6=\"HD 2b/3\",NA(),ASTM(AY102*((N109-AY120)/N109),3))","v":{"$error":"#N/A"}},{"$f":"IF($J$6=\"HD 2b/3\",NA(),ASTM(AZ102*((O109-AZ120)/O109),3))","v":{"$error":"#N/A"}},null,null,null,27,{"$f":"IF(ISBLANK(R133),\"\",IF(COUNT(R133:AA133)<>10,NA(),IF(ASTM(W133,0)=0,0,IFERROR(ASTM(R133,3)/ASTM(Z133,1),0))))","v":""},{"$f":"IF(ISBLANK(R133),\"\",IF(COUNT(R133:AA133)<>10,NA(),IF(W133=0,0,ASTM(ASTM(W133,0)*ASTM(R133,3),0))))","v":""},{"$f":"IF(ISBLANK(R133),\"\",IF(COUNT(R133:AA133)<>10,NA(),ASTM(S133,3)-ASTM(S132,3)))","v":""},{"$f":"IF(ISBLANK(R133),\"\",IF(COUNT(R133:AA133)<>10,NA(),ASTM(BG133*ASTM(T133,2),1)))","v":""},{"$f":"IF(ISBLANK(R133),\"\",IF(COUNT(R133:AA133)<>10,NA(),ASTM(ASTM($Y$142,4)*1000*(BH133/$AY$109),1)))","v":""},"",{"$f":"IF(ISBLANK(R133),\"\",IF(COUNT(R133:AA133)<>10,NA(),BI133/(33705*ASTM(R133,3))))","v":""},"",{"$f":"IF(ISBLANK(R133),\"\",IFERROR(ASTM(cityfuf(BJ133)-cityfuf(BJ132),3),\"\"))","v":""},{"$f":"IF(ISBLANK(R133),\"\",IF(OR(ISNUMBER(R133)=FALSE,ISNUMBER(AA133)=FALSE),NA(),IF(ASTM(W133,0)=0,0,BM133*ASTM(AA133,0))))","v":""},"",{"$f":"IF(ISBLANK(R133),\"\",IF(COUNT(R133:AA133)<>10,NA(),BL133*ASTM(R133,3)))","v":""},"",{"$f":"IF(ISBLANK(R133),\"\",IF(COUNT(R133:AA133)<>10,NA(),BQ133*ASTM(R133,3)))","v":""},"",{"$f":"IF(ISBLANK(R133),\"\",IF(COUNT(R133:AA133)<>10,NA(),ASTM(mdiuf(BS133),3)-ASTM(mdiuf(BS132),3)))","v":""},{"$f":"IF(ISBLANK(R133),\"\",IF(COUNT(R133:AA133)<>10,NA(),IF(ASTM(W133,0)=0,0,BT133*ASTM(W133,0)/(BQ133))))","v":""},"",{"$f":"IF(ISBLANK(R133),\"\",IF(COUNT(R133:AA133)<>10,NA(),ASTM(cityfufalt(BS133)-cityfufalt(BS132),3)))","v":""},"",{"$f":"IF(ISBLANK(R133),\"\",IF(COUNT(R133:AA133)<>10,NA(),IF(ASTM(W133,0)=0,0,BW133*ASTM(AA133,0)/(BQ133))))","v":""},null,27,{"$f":"IF(ISBLANK(AD133),\"\",IF(COUNT(AD133:AM133)<>10,NA(),IF(ASTM(AI133,0)=0,0,ASTM(AD133,3)/ASTM(AL133,1))))","v":""},{"$f":"IF(ISBLANK(AD133),\"\",IF(COUNT(AD133:AM133)<>10,NA(),IF(ASTM(AI133,0)=0,0,ASTM(ASTM(AI133,0)*ASTM(AD133,3),0))))","v":""},{"$f":"IF(ISBLANK(AD133),\"\",IF(COUNT(AD133:AM133)<>10,NA(),ASTM(AE133,3)-ASTM(AE132,3)))","v":""},{"$f":"IF(ISBLANK(AD133),\"\",IF(COUNT(AD133:AM133)<>10,NA(),ASTM(CD133*ASTM(AF133,2),1)))","v":""},{"$f":"IF(ISBLANK(AD133),\"\",IF(COUNT(AD133:AM133)<>10,NA(),ASTM(ASTM($AK$142,4)*1000*(CE133/$AZ$109),1)))","v":""},"",{"$f":"IF(ISBLANK(AD133),\"\",IF(COUNT(AD133:AM133)<>10,NA(),CF133/(33705*ASTM(AD133,3))))","v":""},"",{"$f":"IF(ISBLANK(AD133),\"\",ASTM(highwayfuf(CG133)-highwayfuf(CG132),3))","v":""},{"$f":"IF(ISBLANK(AD133),\"\",IF(OR(ISNUMBER(AD133)=FALSE,ISNUMBER(AM133)=FALSE),NA(),IF(ASTM(AI133,0)=0,0,CJ133*ASTM(AM133,0))))","v":""},"",{"$f":"IF(ISBLANK(AD133),\"\",IF(COUNT(AD133:AM133)<>10,NA(),CI133*ASTM(AD133,3)))","v":""},"",{"$f":"IF(ISBLANK(AD133),\"\",IF(COUNT(AD133:AM133)<>10,NA(),CN133*ASTM(AD133,3)))","v":""},"",{"$f":"IF(ISBLANK(AD133),\"\",IF(COUNT(AD133:AM133)<>10,NA(),ASTM(mdiuf(CP133)-mdiuf(CP132),3)))","v":""},{"$f":"IF(ISBLANK(AD133),\"\",IF(COUNT(AD133:AM133)<>10,NA(),IF(ASTM(AI133,0)=0,0,CQ133*ASTM(AI133,0)/(CN133))))","v":""},"",{"$f":"IF(ISBLANK(AD133),\"\",IF(COUNT(AD133:AM133)<>10,NA(),ASTM(highwayfufalt(CP133)-highwayfufalt(CP132),3)))","v":""},"",{"$f":"IF(ISBLANK(AD133),\"\",IF(COUNT(AD133:AM133)<>10,NA(),IF(ASTM(AI133,0)=0,0,CT133*ASTM(AM133,0)/(CN133))))","v":""}]
[null,null,null,null,null,null,null,null,null,null,null,null,null,null,null,null,28,null,null,null,null,null,null,null,null,{"$f":"IF(ISBLANK(R134),\"\",IF(OR($J$6=\"HD 2b/3\",COUNT(R134:W134)<>6,$AA$143<>\"Yes\",$AA$145<>\"Yes\"),NA(),IF(ASTM(W134,0)=0,0,ASTM((51740000*$T$142*$T$143)/((($T$142*U134)+(0.429*V134)+(0.273*W134))*((0.6*$T$143*$T$144)+5471)),1))))","v":""},{"$f":"IF(ISBLANK(R134),\"\",IF(OR(AND($J$6<>\"HD 2b/3\",COUNT(R134:W134)<>6),AND($J$6=\"HD 2b/3\",COUNT(R134)+COUNT(W134)<>2),$AA$143<>\"Yes\",$AA$145<>\"Yes\"),NA(),IF(ASTM(W134,0)=0,0,IF($J$6=\"HD 2b/3\",W134,ASTM((($T$142/0.273)*U134)+(1.571*V134)+W134,0)))))","v":""},null,28,null,null,null,null,null,null,null,null,{"$f":"IF(ISBLANK(AD134),\"\",IF(OR($J$6=\"HD 2b/3\",COUNT(AD134:AI134)<>6,$AM$47<>\"Yes\",$AM$49<>\"Yes\"),NA(),IF(ASTM(AI134,0)=0,0,ASTM((51740000*$AF$46*$AF$47)/((($AF$46*AG134)+(0.429*AH134)+(0.273*AI134))*((0.6*$AF$47*$AF$48)+5471)),1))))","v":""},{"$f":"IF(ISBLANK(AD134),\"\",IF(OR(AND($J$6<>\"HD 2b/3\",COUNT(AD134:AI134)<>6),AND($J$6=\"HD 2b/3\",COUNT(AD134)+COUNT(AI134)<>2),$AM$143<>\"Yes\",$AM$145<>\"Yes\"),NA(),IF(ASTM(AI134,0)=0,0,IF($J$6=\"HD 2b/3\",AI134,ASTM((($AF$142/0.273)*AG134)+(1.571*AH134)+AI134,0)))))","v":""},null,null,null,null,null,null,null,null,null,null,"Charge-sustaining driving range, adjusted (mi) [3]",{"$f":"IF($J$6=\"HD 2b/3\",NA(),ASTM((ASTM($J$11,1)-AY114)*ASTM(N108,4),3))","v":{"$error":"#N/A"}},{"$f":"IF($J$6=\"HD 2b/3\",NA(),ASTM((ASTM($J$11,1)-AZ114)*ASTM(O108,4),3))","v":{"$error":"#N/A"}},null,null,null,28,{"$f":"IF(ISBLANK(R134),\"\",IF(COUNT(R134:AA134)<>10,NA(),IF(ASTM(W134,0)=0,0,IFERROR(ASTM(R134,3)/ASTM(Z134,1),0))))","v":""},{"$f":"IF(ISBLANK(R134),\"\",IF(COUNT(R134:AA134)<>10,NA(),IF(W134=0,0,ASTM(ASTM(W134,0)*ASTM(R134,3),0))))","v":""},{"$f":"IF(ISBLANK(R134),\"\",IF(COUNT(R134:AA134)<>10,NA(),ASTM(S134,3)-ASTM(S133,3)))","v":""},{"$f":"IF(ISBLANK(R134),\"\",IF(COUNT(R134:AA134)<>10,NA(),ASTM(BG134*ASTM(T134,2),1)))","v":""},{"$f":"IF(ISBLANK(R134),\"\",IF(COUNT(R134:AA134)<>10,NA(),ASTM(ASTM($Y$142,4)*1000*(BH134/$AY$109),1)))","v":""},"",{"$f":"IF(ISBLANK(R134),\"\",IF(COUNT(R134:AA134)<>10,NA(),BI134/(33705*ASTM(R134,3))))","v":""},"",{"$f":"IF(ISBLANK(R134),\"\",IFERROR(ASTM(cityfuf(BJ134)-cityfuf(BJ133),3),\"\"))","v":""},{"$f":"IF(ISBLANK(R134),\"\",IF(OR(ISNUMBER(R134)=FALSE,ISNUMBER(AA134)=FALSE),NA(),IF(ASTM(W134,0)=0,0,BM134*ASTM(AA134,0))))","v":""},"",{"$f":"IF(ISBLANK(R134),\"\",IF(COUNT(R134:AA134)<>10,NA(),BL134*ASTM(R134,3)))","v":""},"",{"$f":"IF(ISBLANK(R134),\"\",IF(COUNT(R134:AA134)<>10,NA(),BQ134*ASTM(R134,3)))","v":""},"",{"$f":"IF(ISBLANK(R134),\"\",IF(COUNT(R134:AA134)<>10,NA(),ASTM(mdiuf(BS134),3)-ASTM(mdiuf(BS133),3)))","v":""},{"$f":"IF(ISBLANK(R134),\"\",IF(COUNT(R134:AA134)<>10,NA(),IF(ASTM(W134,0)=0,0,BT134*ASTM(W134,0)/(BQ134))))","v":""},"",{"$f":"IF(ISBLANK(R134),\"\",IF(COUNT(R134:AA134)<>10,NA(),ASTM(cityfufalt(BS134)-cityfufalt(BS133),3)))","v":""},"",{"$f":"IF(ISBLANK(R134),\"\",IF(COUNT(R134:AA134)<>10,NA(),IF(ASTM(W134,0)=0,0,BW134*ASTM(AA134,0)/(BQ134))))","v":""},null,28,{"$f":"IF(ISBLANK(AD134),\"\",IF(COUNT(AD134:AM134)<>10,NA(),IF(ASTM(AI134,0)=0,0,ASTM(AD134,3)/ASTM(AL134,1))))","v":""},{"$f":"IF(ISBLANK(AD134),\"\",IF(COUNT(AD134:AM134)<>10,NA(),IF(ASTM(AI134,0)=0,0,ASTM(ASTM(AI134,0)*ASTM(AD134,3),0))))","v":""},{"$f":"IF(ISBLANK(AD134),\"\",IF(COUNT(AD134:AM134)<>10,NA(),ASTM(AE134,3)-ASTM(AE133,3)))","v":""},{"$f":"IF(ISBLANK(AD134),\"\",IF(COUNT(AD134:AM134)<>10,NA(),ASTM(CD134*ASTM(AF134,2),1)))","v":""},{"$f":"IF(ISBLANK(AD134),\"\",IF(COUNT(AD134:AM134)<>10,NA(),ASTM(ASTM($AK$142,4)*1000*(CE134/$AZ$109),1)))","v":""},"",{"$f":"IF(ISBLANK(AD134),\"\",IF(COUNT(AD134:AM134)<>10,NA(),CF134/(33705*ASTM(AD134,3))))","v":""},"",{"$f":"IF(ISBLANK(AD134),\"\",ASTM(highwayfuf(CG134)-highwayfuf(CG133),3))","v":""},{"$f":"IF(ISBLANK(AD134),\"\",IF(OR(ISNUMBER(AD134)=FALSE,ISNUMBER(AM134)=FALSE),NA(),IF(ASTM(AI134,0)=0,0,CJ134*ASTM(AM134,0))))","v":""},"",{"$f":"IF(ISBLANK(AD134),\"\",IF(COUNT(AD134:AM134)<>10,NA(),CI134*ASTM(AD134,3)))","v":""},"",{"$f":"IF(ISBLANK(AD134),\"\",IF(COUNT(AD134:AM134)<>10,NA(),CN134*ASTM(AD134,3)))","v":""},"",{"$f":"IF(ISBLANK(AD134),\"\",IF(COUNT(AD134:AM134)<>10,NA(),ASTM(mdiuf(CP134)-mdiuf(CP133),3)))","v":""},{"$f":"IF(ISBLANK(AD134),\"\",IF(COUNT(AD134:AM134)<>10,NA(),IF(ASTM(AI134,0)=0,0,CQ134*ASTM(AI134,0)/(CN134))))","v":""},"",{"$f":"IF(ISBLANK(AD134),\"\",IF(COUNT(AD134:AM134)<>10,NA(),ASTM(highwayfufalt(CP134)-highwayfufalt(CP133),3)))","v":""},"",{"$f":"IF(ISBLANK(AD134),\"\",IF(COUNT(AD134:AM134)<>10,NA(),IF(ASTM(AI134,0)=0,0,CT134*ASTM(AM134,0)/(CN134))))","v":""}]
[null,null,null,null,null,null,null,null,null,null,null,null,null,null,null,null,29,null,null,null,null,null,null,null,null,{"$f":"IF(ISBLANK(R135),\"\",IF(OR($J$6=\"HD 2b/3\",COUNT(R135:W135)<>6,$AA$143<>\"Yes\",$AA$145<>\"Yes\"),NA(),IF(ASTM(W135,0)=0,0,ASTM((51740000*$T$142*$T$143)/((($T$142*U135)+(0.429*V135)+(0.273*W135))*((0.6*$T$143*$T$144)+5471)),1))))","v":""},{"$f":"IF(ISBLANK(R135),\"\",IF(OR(AND($J$6<>\"HD 2b/3\",COUNT(R135:W135)<>6),AND($J$6=\"HD 2b/3\",COUNT(R135)+COUNT(W135)<>2),$AA$143<>\"Yes\",$AA$145<>\"Yes\"),NA(),IF(ASTM(W135,0)=0,0,IF($J$6=\"HD 2b/3\",W135,ASTM((($T$142/0.273)*U135)+(1.571*V135)+W135,0)))))","v":""},null,29,null,null,null,null,null,null,null,null,{"$f":"IF(ISBLANK(AD135),\"\",IF(OR($J$6=\"HD 2b/3\",COUNT(AD135:AI135)<>6,$AM$47<>\"Yes\",$AM$49<>\"Yes\"),NA(),IF(ASTM(AI135,0)=0,0,ASTM((51740000*$AF$46*$AF$47)/((($AF$46*AG135)+(0.429*AH135)+(0.273*AI135))*((0.6*$AF$47*$AF$48)+5471)),1))))","v":""},{"$f":"IF(ISBLANK(AD135),\"\",IF(OR(AND($J$6<>\"HD 2b/3\",COUNT(AD135:AI135)<>6),AND($J$6=\"HD 2b/3\",COUNT(AD135)+COUNT(AI135)<>2),$AM$143<>\"Yes\",$AM$145<>\"Yes\"),NA(),IF(ASTM(AI135,0)=0,0,IF($J$6=\"HD 2b/3\",AI135,ASTM((($AF$142/0.273)*AG135)+(1.571*AH135)+AI135,0)))))","v":""},null,null,null,null,null,null,null,null,null,null,"UTILITY FACTORS & OTHER METRICS","CITY","HIGHWAY",null,null,null,29,{"$f":"IF(ISBLANK(R135),\"\",IF(COUNT(R135:AA135)<>10,NA(),IF(ASTM(W135,0)=0,0,IFERROR(ASTM(R135,3)/ASTM(Z135,1),0))))","v":""},{"$f":"IF(ISBLANK(R135),\"\",IF(COUNT(R135:AA135)<>10,NA(),IF(W135=0,0,ASTM(ASTM(W135,0)*ASTM(R135,3),0))))","v":""},{"$f":"IF(ISBLANK(R135),\"\",IF(COUNT(R135:AA135)<>10,NA(),ASTM(S135,3)-ASTM(S134,3)))","v":""},{"$f":"IF(ISBLANK(R135),\"\",IF(COUNT(R135:AA135)<>10,NA(),ASTM(BG135*ASTM(T135,2),1)))","v":""},{"$f":"IF(ISBLANK(R135),\"\",IF(COUNT(R135:AA135)<>10,NA(),ASTM(ASTM($Y$142,4)*1000*(BH135/$AY$109),1)))","v":""},"",{"$f":"IF(ISBLANK(R135),\"\",IF(COUNT(R135:AA135)<>10,NA(),BI135/(33705*ASTM(R135,3))))","v":""},"",{"$f":"IF(ISBLANK(R135),\"\",IFERROR(ASTM(cityfuf(BJ135)-cityfuf(BJ134),3),\"\"))","v":""},{"$f":"IF(ISBLANK(R135),\"\",IF(OR(ISNUMBER(R135)=FALSE,ISNUMBER(AA135)=FALSE),NA(),IF(ASTM(W135,0)=0,0,BM135*ASTM(AA135,0))))","v":""},"",{"$f":"IF(ISBLANK(R135),\"\",IF(COUNT(R135:AA135)<>10,NA(),BL135*ASTM(R135,3)))","v":""},"",{"$f":"IF(ISBLANK(R135),\"\",IF(COUNT(R135:AA135)<>10,NA(),BQ135*ASTM(R135,3)))","v":""},"",{"$f":"IF(ISBLANK(R135),\"\",IF(COUNT(R135:AA135)<>10,NA(),ASTM(mdiuf(BS135),3)-ASTM(mdiuf(BS134),3)))","v":""},{"$f":"IF(ISBLANK(R135),\"\",IF(COUNT(R135:AA135)<>10,NA(),IF(ASTM(W135,0)=0,0,BT135*ASTM(W135,0)/(BQ135))))","v":""},"",{"$f":"IF(ISBLANK(R135),\"\",IF(COUNT(R135:AA135)<>10,NA(),ASTM(cityfufalt(BS135)-cityfufalt(BS134),3)))","v":""},"",{"$f":"IF(ISBLANK(R135),\"\",IF(COUNT(R135:AA135)<>10,NA(),IF(ASTM(W135,0)=0,0,BW135*ASTM(AA135,0)/(BQ135))))","v":""},null,29,{"$f":"IF(ISBLANK(AD135),\"\",IF(COUNT(AD135:AM135)<>10,NA(),IF(ASTM(AI135,0)=0,0,ASTM(AD135,3)/ASTM(AL135,1))))","v":""},{"$f":"IF(ISBLANK(AD135),\"\",IF(COUNT(AD135:AM135)<>10,NA(),IF(ASTM(AI135,0)=0,0,ASTM(ASTM(AI135,0)*ASTM(AD135,3),0))))","v":""},{"$f":"IF(ISBLANK(AD135),\"\",IF(COUNT(AD135:AM135)<>10,NA(),ASTM(AE135,3)-ASTM(AE134,3)))","v":""},{"$f":"IF(ISBLANK(AD135),\"\",IF(COUNT(AD135:AM135)<>10,NA(),ASTM(CD135*ASTM(AF135,2),1)))","v":""},{"$f":"IF(ISBLANK(AD135),\"\",IF(COUNT(AD135:AM135)<>10,NA(),ASTM(ASTM($AK$142,4)*1000*(CE135/$AZ$109),1)))","v":""},"",{"$f":"IF(ISBLANK(AD135),\"\",IF(COUNT(AD135:AM135)<>10,NA(),CF135/(33705*ASTM(AD135,3))))","v":""},"",{"$f":"IF(ISBLANK(AD135),\"\",ASTM(highwayfuf(CG135)-highwayfuf(CG134),3))","v":""},{"$f":"IF(ISBLANK(AD135),\"\",IF(OR(ISNUMBER(AD135)=FALSE,ISNUMBER(AM135)=FALSE),NA(),IF(ASTM(AI135,0)=0,0,CJ135*ASTM(AM135,0))))","v":""},"",{"$f":"IF(ISBLANK(AD135),\"\",IF(COUNT(AD135:AM135)<>10,NA(),CI135*ASTM(AD135,3)))","v":""},"",{"$f":"IF(ISBLANK(AD135),\"\",IF(COUNT(AD135:AM135)<>10,NA(),CN135*ASTM(AD135,3)))","v":""},"",{"$f":"IF(ISBLANK(AD135),\"\",IF(COUNT(AD135:AM135)<>10,NA(),ASTM(mdiuf(CP135)-mdiuf(CP134),3)))","v":""},{"$f":"IF(ISBLANK(AD135),\"\",IF(COUNT(AD135:AM135)<>10,NA(),IF(ASTM(AI135,0)=0,0,CQ135*ASTM(AI135,0)/(CN135))))","v":""},"",{"$f":"IF(ISBLANK(AD135),\"\",IF(COUNT(AD135:AM135)<>10,NA(),ASTM(highwayfufalt(CP135)-highwayfufalt(CP134),3)))","v":""},"",{"$f":"IF(ISBLANK(AD135),\"\",IF(COUNT(AD135:AM135)<>10,NA(),IF(ASTM(AI135,0)=0,0,CT135*ASTM(AM135,0)/(CN135))))","v":""}]
[null,null,null,null,null,null,null,null,null,null,null,null,null,null,null,null,30,null,null,null,null,null,null,null,null,{"$f":"IF(ISBLANK(R136),\"\",IF(OR($J$6=\"HD 2b/3\",COUNT(R136:W136)<>6,$AA$143<>\"Yes\",$AA$145<>\"Yes\"),NA(),IF(ASTM(W136,0)=0,0,ASTM((51740000*$T$142*$T$143)/((($T$142*U136)+(0.429*V136)+(0.273*W136))*((0.6*$T$143*$T$144)+5471)),1))))","v":""},{"$f":"IF(ISBLANK(R136),\"\",IF(OR(AND($J$6<>\"HD 2b/3\",COUNT(R136:W136)<>6),AND($J$6=\"HD 2b/3\",COUNT(R136)+COUNT(W136)<>2),$AA$143<>\"Yes\",$AA$145<>\"Yes\"),NA(),IF(ASTM(W136,0)=0,0,IF($J$6=\"HD 2b/3\",W136,ASTM((($T$142/0.273)*U136)+(1.571*V136)+W136,0)))))","v":""},null,30,null,null,null,null,null,null,null,null,{"$f":"IF(ISBLANK(AD136),\"\",IF(OR($J$6=\"HD 2b/3\",COUNT(AD136:AI136)<>6,$AM$47<>\"Yes\",$AM$49<>\"Yes\"),NA(),IF(ASTM(AI136,0)=0,0,ASTM((51740000*$AF$46*$AF$47)/((($AF$46*AG136)+(0.429*AH136)+(0.273*AI136))*((0.6*$AF$47*$AF$48)+5471)),1))))","v":""},{"$f":"IF(ISBLANK(AD136),\"\",IF(OR(AND($J$6<>\"HD 2b/3\",COUNT(AD136:AI136)<>6),AND($J$6=\"HD 2b/3\",COUNT(AD136)+COUNT(AI136)<>2),$AM$143<>\"Yes\",$AM$145<>\"Yes\"),NA(),IF(ASTM(AI136,0)=0,0,IF($J$6=\"HD 2b/3\",AI136,ASTM((($AF$142/0.273)*AG136)+(1.571*AH136)+AI136,0)))))","v":""},null,null,null,null,null,null,null,null,null,null,"CD 55/45 Fleet Utility Factor (FUF) for EAER [3]",{"$f":"IF($J$6=\"HD 2b/3\",NA(),ASTM(cityfuf(AY133),3))","v":{"$error":"#N/A"}},{"$f":"IF($J$6=\"HD 2b/3\",NA(),ASTM(highwayfuf(AZ133),3))","v":{"$error":"#N/A"}},null,null,null,30,{"$f":"IF(ISBLANK(R136),\"\",IF(COUNT(R136:AA136)<>10,NA(),IF(ASTM(W136,0)=0,0,IFERROR(ASTM(R136,3)/ASTM(Z136,1),0))))","v":""},{"$f":"IF(ISBLANK(R136),\"\",IF(COUNT(R136:AA136)<>10,NA(),IF(W136=0,0,ASTM(ASTM(W136,0)*ASTM(R136,3),0))))","v":""},{"$f":"IF(ISBLANK(R136),\"\",IF(COUNT(R136:AA136)<>10,NA(),ASTM(S136,3)-ASTM(S135,3)))","v":""},{"$f":"IF(ISBLANK(R136),\"\",IF(COUNT(R136:AA136)<>10,NA(),ASTM(BG136*ASTM(T136,2),1)))","v":""},{"$f":"IF(ISBLANK(R136),\"\",IF(COUNT(R136:AA136)<>10,NA(),ASTM(ASTM($Y$142,4)*1000*(BH136/$AY$109),1)))","v":""},"",{"$f":"IF(ISBLANK(R136),\"\",IF(COUNT(R136:AA136)<>10,NA(),BI136/(33705*ASTM(R136,3))))","v":""},"",{"$f":"IF(ISBLANK(R136),\"\",IFERROR(ASTM(cityfuf(BJ136)-cityfuf(BJ135),3),\"\"))","v":""},{"$f":"IF(ISBLANK(R136),\"\",IF(OR(ISNUMBER(R136)=FALSE,ISNUMBER(AA136)=FALSE),NA(),IF(ASTM(W136,0)=0,0,BM136*ASTM(AA136,0))))","v":""},"",{"$f":"IF(ISBLANK(R136),\"\",IF(COUNT(R136:AA136)<>10,NA(),BL136*ASTM(R136,3)))","v":""},"",{"$f":"IF(ISBLANK(R136),\"\",IF(COUNT(R136:AA136)<>10,NA(),BQ136*ASTM(R136,3)))","v":""},"",{"$f":"IF(ISBLANK(R136),\"\",IF(COUNT(R136:AA136)<>10,NA(),ASTM(mdiuf(BS136),3)-ASTM(mdiuf(BS135),3)))","v":""},{"$f":"IF(ISBLANK(R136),\"\",IF(COUNT(R136:AA136)<>10,NA(),IF(ASTM(W136,0)=0,0,BT136*ASTM(W136,0)/(BQ136))))","v":""},"",{"$f":"IF(ISBLANK(R136),\"\",IF(COUNT(R136:AA136)<>10,NA(),ASTM(cityfufalt(BS136)-cityfufalt(BS135),3)))","v":""},"",{"$f":"IF(ISBLANK(R136),\"\",IF(COUNT(R136:AA136)<>10,NA(),IF(ASTM(W136,0)=0,0,BW136*ASTM(AA136,0)/(BQ136))))","v":""},null,30,{"$f":"IF(ISBLANK(AD136),\"\",IF(COUNT(AD136:AM136)<>10,NA(),IF(ASTM(AI136,0)=0,0,ASTM(AD136,3)/ASTM(AL136,1))))","v":""},{"$f":"IF(ISBLANK(AD136),\"\",IF(COUNT(AD136:AM136)<>10,NA(),IF(ASTM(AI136,0)=0,0,ASTM(ASTM(AI136,0)*ASTM(AD136,3),0))))","v":""},{"$f":"IF(ISBLANK(AD136),\"\",IF(COUNT(AD136:AM136)<>10,NA(),ASTM(AE136,3)-ASTM(AE135,3)))","v":""},{"$f":"IF(ISBLANK(AD136),\"\",IF(COUNT(AD136:AM136)<>10,NA(),ASTM(CD136*ASTM(AF136,2),1)))","v":""},{"$f":"IF(ISBLANK(AD136),\"\",IF(COUNT(AD136:AM136)<>10,NA(),ASTM(ASTM($AK$142,4)*1000*(CE136/$AZ$109),1)))","v":""},"",{"$f":"IF(ISBLANK(AD136),\"\",IF(COUNT(AD136:AM136)<>10,NA(),CF136/(33705*ASTM(AD136,3))))","v":""},"",{"$f":"IF(ISBLANK(AD136),\"\",ASTM(highwayfuf(CG136)-highwayfuf(CG135),3))","v":""},{"$f":"IF(ISBLANK(AD136),\"\",IF(OR(ISNUMBER(AD136)=FALSE,ISNUMBER(AM136)=FALSE),NA(),IF(ASTM(AI136,0)=0,0,CJ136*ASTM(AM136,0))))","v":""},"",{"$f":"IF(ISBLANK(AD136),\"\",IF(COUNT(AD136:AM136)<>10,NA(),CI136*ASTM(AD136,3)))","v":""},"",{"$f":"IF(ISBLANK(AD136),\"\",IF(COUNT(AD136:AM136)<>10,NA(),CN136*ASTM(AD136,3)))","v":""},"",{"$f":"IF(ISBLANK(AD136),\"\",IF(COUNT(AD136:AM136)<>10,NA(),ASTM(mdiuf(CP136)-mdiuf(CP135),3)))","v":""},{"$f":"IF(ISBLANK(AD136),\"\",IF(COUNT(AD136:AM136)<>10,NA(),IF(ASTM(AI136,0)=0,0,CQ136*ASTM(AI136,0)/(CN136))))","v":""},"",{"$f":"IF(ISBLANK(AD136),\"\",IF(COUNT(AD136:AM136)<>10,NA(),ASTM(highwayfufalt(CP136)-highwayfufalt(CP135),3)))","v":""},"",{"$f":"IF(ISBLANK(AD136),\"\",IF(COUNT(AD136:AM136)<>10,NA(),IF(ASTM(AI136,0)=0,0,CT136*ASTM(AM136,0)/(CN136))))","v":""}]
[null,null,null,null,null,null,null,null,null,null,null,null,null,null,null,null,31,null,null,null,null,null,null,null,null,{"$f":"IF(ISBLANK(R137),\"\",IF(OR($J$6=\"HD 2b/3\",COUNT(R137:W137)<>6,$AA$143<>\"Yes\",$AA$145<>\"Yes\"),NA(),IF(ASTM(W137,0)=0,0,ASTM((51740000*$T$142*$T$143)/((($T$142*U137)+(0.429*V137)+(0.273*W137))*((0.6*$T$143*$T$144)+5471)),1))))","v":""},{"$f":"IF(ISBLANK(R137),\"\",IF(OR(AND($J$6<>\"HD 2b/3\",COUNT(R137:W137)<>6),AND($J$6=\"HD 2b/3\",COUNT(R137)+COUNT(W137)<>2),$AA$143<>\"Yes\",$AA$145<>\"Yes\"),NA(),IF(ASTM(W137,0)=0,0,IF($J$6=\"HD 2b/3\",W137,ASTM((($T$142/0.273)*U137)+(1.571*V137)+W137,0)))))","v":""},null,31,null,null,null,null,null,null,null,null,{"$f":"IF(ISBLANK(AD137),\"\",IF(OR($J$6=\"HD 2b/3\",COUNT(AD137:AI137)<>6,$AM$47<>\"Yes\",$AM$49<>\"Yes\"),NA(),IF(ASTM(AI137,0)=0,0,ASTM((51740000*$AF$46*$AF$47)/((($AF$46*AG137)+(0.429*AH137)+(0.273*AI137))*((0.6*$AF$47*$AF$48)+5471)),1))))","v":""},{"$f":"IF(ISBLANK(AD137),\"\",IF(OR(AND($J$6<>\"HD 2b/3\",COUNT(AD137:AI137)<>6),AND($J$6=\"HD 2b/3\",COUNT(AD137)+COUNT(AI137)<>2),$AM$143<>\"Yes\",$AM$145<>\"Yes\"),NA(),IF(ASTM(AI137,0)=0,0,IF($J$6=\"HD 2b/3\",AI137,ASTM((($AF$142/0.273)*AG137)+(1.571*AH137)+AI137,0)))))","v":""},null,null,null,null,null,null,null,null,null,null,"FUEL COSTS: PROCESS FOR DERIVING A COMPOSITE CD/CS COST PER MILE","CITY","HIGHWAY",null,null,null,31,{"$f":"IF(ISBLANK(R137),\"\",IF(COUNT(R137:AA137)<>10,NA(),IF(ASTM(W137,0)=0,0,IFERROR(ASTM(R137,3)/ASTM(Z137,1),0))))","v":""},{"$f":"IF(ISBLANK(R137),\"\",IF(COUNT(R137:AA137)<>10,NA(),IF(W137=0,0,ASTM(ASTM(W137,0)*ASTM(R137,3),0))))","v":""},{"$f":"IF(ISBLANK(R137),\"\",IF(COUNT(R137:AA137)<>10,NA(),ASTM(S137,3)-ASTM(S136,3)))","v":""},{"$f":"IF(ISBLANK(R137),\"\",IF(COUNT(R137:AA137)<>10,NA(),ASTM(BG137*ASTM(T137,2),1)))","v":""},{"$f":"IF(ISBLANK(R137),\"\",IF(COUNT(R137:AA137)<>10,NA(),ASTM(ASTM($Y$142,4)*1000*(BH137/$AY$109),1)))","v":""},"",{"$f":"IF(ISBLANK(R137),\"\",IF(COUNT(R137:AA137)<>10,NA(),BI137/(33705*ASTM(R137,3))))","v":""},"",{"$f":"IF(ISBLANK(R137),\"\",IFERROR(ASTM(cityfuf(BJ137)-cityfuf(BJ136),3),\"\"))","v":""},{"$f":"IF(ISBLANK(R137),\"\",IF(OR(ISNUMBER(R137)=FALSE,ISNUMBER(AA137)=FALSE),NA(),IF(ASTM(W137,0)=0,0,BM137*ASTM(AA137,0))))","v":""},"",{"$f":"IF(ISBLANK(R137),\"\",IF(COUNT(R137:AA137)<>10,NA(),BL137*ASTM(R137,3)))","v":""},"",{"$f":"IF(ISBLANK(R137),\"\",IF(COUNT(R137:AA137)<>10,NA(),BQ137*ASTM(R137,3)))","v":""},"",{"$f":"IF(ISBLANK(R137),\"\",IF(COUNT(R137:AA137)<>10,NA(),ASTM(mdiuf(BS137),3)-ASTM(mdiuf(BS136),3)))","v":""},{"$f":"IF(ISBLANK(R137),\"\",IF(COUNT(R137:AA137)<>10,NA(),IF(ASTM(W137,0)=0,0,BT137*ASTM(W137,0)/(BQ137))))","v":""},"",{"$f":"IF(ISBLANK(R137),\"\",IF(COUNT(R137:AA137)<>10,NA(),ASTM(cityfufalt(BS137)-cityfufalt(BS136),3)))","v":""},"",{"$f":"IF(ISBLANK(R137),\"\",IF(COUNT(R137:AA137)<>10,NA(),IF(ASTM(W137,0)=0,0,BW137*ASTM(AA137,0)/(BQ137))))","v":""},null,31,{"$f":"IF(ISBLANK(AD137),\"\",IF(COUNT(AD137:AM137)<>10,NA(),IF(ASTM(AI137,0)=0,0,ASTM(AD137,3)/ASTM(AL137,1))))","v":""},{"$f":"IF(ISBLANK(AD137),\"\",IF(COUNT(AD137:AM137)<>10,NA(),IF(ASTM(AI137,0)=0,0,ASTM(ASTM(AI137,0)*ASTM(AD137,3),0))))","v":""},{"$f":"IF(ISBLANK(AD137),\"\",IF(COUNT(AD137:AM137)<>10,NA(),ASTM(AE137,3)-ASTM(AE136,3)))","v":""},{"$f":"IF(ISBLANK(AD137),\"\",IF(COUNT(AD137:AM137)<>10,NA(),ASTM(CD137*ASTM(AF137,2),1)))","v":""},{"$f":"IF(ISBLANK(AD137),\"\",IF(COUNT(AD137:AM137)<>10,NA(),ASTM(ASTM($AK$142,4)*1000*(CE137/$AZ$109),1)))","v":""},"",{"$f":"IF(ISBLANK(AD137),\"\",IF(COUNT(AD137:AM137)<>10,NA(),CF137/(33705*ASTM(AD137,3))))","v":""},"",{"$f":"IF(ISBLANK(AD137),\"\",ASTM(highwayfuf(CG137)-highwayfuf(CG136),3))","v":""},{"$f":"IF(ISBLANK(AD137),\"\",IF(OR(ISNUMBER(AD137)=FALSE,ISNUMBER(AM137)=FALSE),NA(),IF(ASTM(AI137,0)=0,0,CJ137*ASTM(AM137,0))))","v":""},"",{"$f":"IF(ISBLANK(AD137),\"\",IF(COUNT(AD137:AM137)<>10,NA(),CI137*ASTM(AD137,3)))","v":""},"",{"$f":"IF(ISBLANK(AD137),\"\",IF(COUNT(AD137:AM137)<>10,NA(),CN137*ASTM(AD137,3)))","v":""},"",{"$f":"IF(ISBLANK(AD137),\"\",IF(COUNT(AD137:AM137)<>10,NA(),ASTM(mdiuf(CP137)-mdiuf(CP136),3)))","v":""},{"$f":"IF(ISBLANK(AD137),\"\",IF(COUNT(AD137:AM137)<>10,NA(),IF(ASTM(AI137,0)=0,0,CQ137*ASTM(AI137,0)/(CN137))))","v":""},"",{"$f":"IF(ISBLANK(AD137),\"\",IF(COUNT(AD137:AM137)<>10,NA(),ASTM(highwayfufalt(CP137)-highwayfufalt(CP136),3)))","v":""},"",{"$f":"IF(ISBLANK(AD137),\"\",IF(COUNT(AD137:AM137)<>10,NA(),IF(ASTM(AI137,0)=0,0,CT137*ASTM(AM137,0)/(CN137))))","v":""}]
[null,null,null,null,null,null,null,null,null,null,null,null,null,null,null,null,32,null,null,null,null,null,null,null,null,{"$f":"IF(ISBLANK(R138),\"\",IF(OR($J$6=\"HD 2b/3\",COUNT(R138:W138)<>6,$AA$143<>\"Yes\",$AA$145<>\"Yes\"),NA(),IF(ASTM(W138,0)=0,0,ASTM((51740000*$T$142*$T$143)/((($T$142*U138)+(0.429*V138)+(0.273*W138))*((0.6*$T$143*$T$144)+5471)),1))))","v":""},{"$f":"IF(ISBLANK(R138),\"\",IF(OR(AND($J$6<>\"HD 2b/3\",COUNT(R138:W138)<>6),AND($J$6=\"HD 2b/3\",COUNT(R138)+COUNT(W138)<>2),$AA$143<>\"Yes\",$AA$145<>\"Yes\"),NA(),IF(ASTM(W138,0)=0,0,IF($J$6=\"HD 2b/3\",W138,ASTM((($T$142/0.273)*U138)+(1.571*V138)+W138,0)))))","v":""},null,32,null,null,null,null,null,null,null,null,{"$f":"IF(ISBLANK(AD138),\"\",IF(OR($J$6=\"HD 2b/3\",COUNT(AD138:AI138)<>6,$AM$47<>\"Yes\",$AM$49<>\"Yes\"),NA(),IF(ASTM(AI138,0)=0,0,ASTM((51740000*$AF$46*$AF$47)/((($AF$46*AG138)+(0.429*AH138)+(0.273*AI138))*((0.6*$AF$47*$AF$48)+5471)),1))))","v":""},{"$f":"IF(ISBLANK(AD138),\"\",IF(OR(AND($J$6<>\"HD 2b/3\",COUNT(AD138:AI138)<>6),AND($J$6=\"HD 2b/3\",COUNT(AD138)+COUNT(AI138)<>2),$AM$143<>\"Yes\",$AM$145<>\"Yes\"),NA(),IF(ASTM(AI138,0)=0,0,IF($J$6=\"HD 2b/3\",AI138,ASTM((($AF$142/0.273)*AG138)+(1.571*AH138)+AI138,0)))))","v":""},null,null,null,null,null,null,null,null,null,null,"CD cost per mile - electricity ($/mi) [3]",{"$f":"IF($J$6=\"HD 2b/3\",NA(),ASTM($F$37*$AY$108/100,3))","v":{"$error":"#N/A"}},{"$f":"IF($J$6=\"HD 2b/3\",NA(),ASTM($F$37*$AZ$108/100,3))","v":{"$error":"#N/A"}},null,null,null,32,{"$f":"IF(ISBLANK(R138),\"\",IF(COUNT(R138:AA138)<>10,NA(),IF(ASTM(W138,0)=0,0,IFERROR(ASTM(R138,3)/ASTM(Z138,1),0))))","v":""},{"$f":"IF(ISBLANK(R138),\"\",IF(COUNT(R138:AA138)<>10,NA(),IF(W138=0,0,ASTM(ASTM(W138,0)*ASTM(R138,3),0))))","v":""},{"$f":"IF(ISBLANK(R138),\"\",IF(COUNT(R138:AA138)<>10,NA(),ASTM(S138,3)-ASTM(S137,3)))","v":""},{"$f":"IF(ISBLANK(R138),\"\",IF(COUNT(R138:AA138)<>10,NA(),ASTM(BG138*ASTM(T138,2),1)))","v":""},{"$f":"IF(ISBLANK(R138),\"\",IF(COUNT(R138:AA138)<>10,NA(),ASTM(ASTM($Y$142,4)*1000*(BH138/$AY$109),1)))","v":""},"",{"$f":"IF(ISBLANK(R138),\"\",IF(COUNT(R138:AA138)<>10,NA(),BI138/(33705*ASTM(R138,3))))","v":""},"",{"$f":"IF(ISBLANK(R138),\"\",IFERROR(ASTM(cityfuf(BJ138)-cityfuf(BJ137),3),\"\"))","v":""},{"$f":"IF(ISBLANK(R138),\"\",IF(OR(ISNUMBER(R138)=FALSE,ISNUMBER(AA138)=FALSE),NA(),IF(ASTM(W138,0)=0,0,BM138*ASTM(AA138,0))))","v":""},"",{"$f":"IF(ISBLANK(R138),\"\",IF(COUNT(R138:AA138)<>10,NA(),BL138*ASTM(R138,3)))","v":""},"",{"$f":"IF(ISBLANK(R138),\"\",IF(COUNT(R138:AA138)<>10,NA(),BQ138*ASTM(R138,3)))","v":""},"",{"$f":"IF(ISBLANK(R138),\"\",IF(COUNT(R138:AA138)<>10,NA(),ASTM(mdiuf(BS138),3)-ASTM(mdiuf(BS137),3)))","v":""},{"$f":"IF(ISBLANK(R138),\"\",IF(COUNT(R138:AA138)<>10,NA(),IF(ASTM(W138,0)=0,0,BT138*ASTM(W138,0)/(BQ138))))","v":""},"",{"$f":"IF(ISBLANK(R138),\"\",IF(COUNT(R138:AA138)<>10,NA(),ASTM(cityfufalt(BS138)-cityfufalt(BS137),3)))","v":""},"",{"$f":"IF(ISBLANK(R138),\"\",IF(COUNT(R138:AA138)<>10,NA(),IF(ASTM(W138,0)=0,0,BW138*ASTM(AA138,0)/(BQ138))))","v":""},null,32,{"$f":"IF(ISBLANK(AD138),\"\",IF(COUNT(AD138:AM138)<>10,NA(),IF(ASTM(AI138,0)=0,0,ASTM(AD138,3)/ASTM(AL138,1))))","v":""},{"$f":"IF(ISBLANK(AD138),\"\",IF(COUNT(AD138:AM138)<>10,NA(),IF(ASTM(AI138,0)=0,0,ASTM(ASTM(AI138,0)*ASTM(AD138,3),0))))","v":""},{"$f":"IF(ISBLANK(AD138),\"\",IF(COUNT(AD138:AM138)<>10,NA(),ASTM(AE138,3)-ASTM(AE137,3)))","v":""},{"$f":"IF(ISBLANK(AD138),\"\",IF(COUNT(AD138:AM138)<>10,NA(),ASTM(CD138*ASTM(AF138,2),1)))","v":""},{"$f":"IF(ISBLANK(AD138),\"\",IF(COUNT(AD138:AM138)<>10,NA(),ASTM(ASTM($AK$142,4)*1000*(CE138/$AZ$109),1)))","v":""},"",{"$f":"IF(ISBLANK(AD138),\"\",IF(COUNT(AD138:AM138)<>10,NA(),CF138/(33705*ASTM(AD138,3))))","v":""},"",{"$f":"IF(ISBLANK(AD138),\"\",ASTM(highwayfuf(CG138)-highwayfuf(CG137),3))","v":""},{"$f":"IF(ISBLANK(AD138),\"\",IF(OR(ISNUMBER(AD138)=FALSE,ISNUMBER(AM138)=FALSE),NA(),IF(ASTM(AI138,0)=0,0,CJ138*ASTM(AM138,0))))","v":""},"",{"$f":"IF(ISBLANK(AD138),\"\",IF(COUNT(AD138:AM138)<>10,NA(),CI138*ASTM(AD138,3)))","v":""},"",{"$f":"IF(ISBLANK(AD138),\"\",IF(COUNT(AD138:AM138)<>10,NA(),CN138*ASTM(AD138,3)))","v":""},"",{"$f":"IF(ISBLANK(AD138),\"\",IF(COUNT(AD138:AM138)<>10,NA(),ASTM(mdiuf(CP138)-mdiuf(CP137),3)))","v":""},{"$f":"IF(ISBLANK(AD138),\"\",IF(COUNT(AD138:AM138)<>10,NA(),IF(ASTM(AI138,0)=0,0,CQ138*ASTM(AI138,0)/(CN138))))","v":""},"",{"$f":"IF(ISBLANK(AD138),\"\",IF(COUNT(AD138:AM138)<>10,NA(),ASTM(highwayfufalt(CP138)-highwayfufalt(CP137),3)))","v":""},"",{"$f":"IF(ISBLANK(AD138),\"\",IF(COUNT(AD138:AM138)<>10,NA(),IF(ASTM(AI138,0)=0,0,CT138*ASTM(AM138,0)/(CN138))))","v":""}]
[null,null,null,null,null,null,null,null,null,null,null,null,null,null,null,null,33,null,null,null,null,null,null,null,null,{"$f":"IF(ISBLANK(R139),\"\",IF(OR($J$6=\"HD 2b/3\",COUNT(R139:W139)<>6,$AA$143<>\"Yes\",$AA$145<>\"Yes\"),NA(),IF(ASTM(W139,0)=0,0,ASTM((51740000*$T$142*$T$143)/((($T$142*U139)+(0.429*V139)+(0.273*W139))*((0.6*$T$143*$T$144)+5471)),1))))","v":""},{"$f":"IF(ISBLANK(R139),\"\",IF(OR(AND($J$6<>\"HD 2b/3\",COUNT(R139:W139)<>6),AND($J$6=\"HD 2b/3\",COUNT(R139)+COUNT(W139)<>2),$AA$143<>\"Yes\",$AA$145<>\"Yes\"),NA(),IF(ASTM(W139,0)=0,0,IF($J$6=\"HD 2b/3\",W139,ASTM((($T$142/0.273)*U139)+(1.571*V139)+W139,0)))))","v":""},null,33,null,null,null,null,null,null,null,null,{"$f":"IF(ISBLANK(AD139),\"\",IF(OR($J$6=\"HD 2b/3\",COUNT(AD139:AI139)<>6,$AM$47<>\"Yes\",$AM$49<>\"Yes\"),NA(),IF(ASTM(AI139,0)=0,0,ASTM((51740000*$AF$46*$AF$47)/((($AF$46*AG139)+(0.429*AH139)+(0.273*AI139))*((0.6*$AF$47*$AF$48)+5471)),1))))","v":""},{"$f":"IF(ISBLANK(AD139),\"\",IF(OR(AND($J$6<>\"HD 2b/3\",COUNT(AD139:AI139)<>6),AND($J$6=\"HD 2b/3\",COUNT(AD139)+COUNT(AI139)<>2),$AM$143<>\"Yes\",$AM$145<>\"Yes\"),NA(),IF(ASTM(AI139,0)=0,0,IF($J$6=\"HD 2b/3\",AI139,ASTM((($AF$142/0.273)*AG139)+(1.571*AH139)+AI139,0)))))","v":""},null,null,null,null,null,null,null,null,null,null,"CD cost per mile - gasoline ($/mi) [3]",{"$f":"IF($J$6=\"HD 2b/3\",NA(),ASTM($F$36*((SUMIF(BD107:BD141,\"<=\" & (AY130-1),BE107:BE141) + AY129*SUMIF(BD107:BD141,\"=\" & (AY130-1),BE107:BE141))/AY103),3))","v":{"$error":"#N/A"}},{"$f":"IF($J$6=\"HD 2b/3\",NA(),ASTM($F$36*((SUMIF(CA107:CA141,\"<=\" & (AZ130-1),CB107:CB141) + AZ129*SUMIF(CA107:CA141,\"=\" & (AZ130-1),CB107:CB141))/AZ103),3))","v":{"$error":"#N/A"}},null,null,null,33,{"$f":"IF(ISBLANK(R139),\"\",IF(COUNT(R139:AA139)<>10,NA(),IF(ASTM(W139,0)=0,0,IFERROR(ASTM(R139,3)/ASTM(Z139,1),0))))","v":""},{"$f":"IF(ISBLANK(R139),\"\",IF(COUNT(R139:AA139)<>10,NA(),IF(W139=0,0,ASTM(ASTM(W139,0)*ASTM(R139,3),0))))","v":""},{"$f":"IF(ISBLANK(R139),\"\",IF(COUNT(R139:AA139)<>10,NA(),ASTM(S139,3)-ASTM(S138,3)))","v":""},{"$f":"IF(ISBLANK(R139),\"\",IF(COUNT(R139:AA139)<>10,NA(),ASTM(BG139*ASTM(T139,2),1)))","v":""},{"$f":"IF(ISBLANK(R139),\"\",IF(COUNT(R139:AA139)<>10,NA(),ASTM(ASTM($Y$142,4)*1000*(BH139/$AY$109),1)))","v":""},"",{"$f":"IF(ISBLANK(R139),\"\",IF(COUNT(R139:AA139)<>10,NA(),BI139/(33705*ASTM(R139,3))))","v":""},"",{"$f":"IF(ISBLANK(R139),\"\",IFERROR(ASTM(cityfuf(BJ139)-cityfuf(BJ138),3),\"\"))","v":""},{"$f":"IF(ISBLANK(R139),\"\",IF(OR(ISNUMBER(R139)=FALSE,ISNUMBER(AA139)=FALSE),NA(),IF(ASTM(W139,0)=0,0,BM139*ASTM(AA139,0))))","v":""},"",{"$f":"IF(ISBLANK(R139),\"\",IF(COUNT(R139:AA139)<>10,NA(),BL139*ASTM(R139,3)))","v":""},"",{"$f":"IF(ISBLANK(R139),\"\",IF(COUNT(R139:AA139)<>10,NA(),BQ139*ASTM(R139,3)))","v":""},"",{"$f":"IF(ISBLANK(R139),\"\",IF(COUNT(R139:AA139)<>10,NA(),ASTM(mdiuf(BS139),3)-ASTM(mdiuf(BS138),3)))","v":""},{"$f":"IF(ISBLANK(R139),\"\",IF(COUNT(R139:AA139)<>10,NA(),IF(ASTM(W139,0)=0,0,BT139*ASTM(W139,0)/(BQ139))))","v":""},"",{"$f":"IF(ISBLANK(R139),\"\",IF(COUNT(R139:AA139)<>10,NA(),ASTM(cityfufalt(BS139)-cityfufalt(BS138),3)))","v":""},"",{"$f":"IF(ISBLANK(R139),\"\",IF(COUNT(R139:AA139)<>10,NA(),IF(ASTM(W139,0)=0,0,BW139*ASTM(AA139,0)/(BQ139))))","v":""},null,33,{"$f":"IF(ISBLANK(AD139),\"\",IF(COUNT(AD139:AM139)<>10,NA(),IF(ASTM(AI139,0)=0,0,ASTM(AD139,3)/ASTM(AL139,1))))","v":""},{"$f":"IF(ISBLANK(AD139),\"\",IF(COUNT(AD139:AM139)<>10,NA(),IF(ASTM(AI139,0)=0,0,ASTM(ASTM(AI139,0)*ASTM(AD139,3),0))))","v":""},{"$f":"IF(ISBLANK(AD139),\"\",IF(COUNT(AD139:AM139)<>10,NA(),ASTM(AE139,3)-ASTM(AE138,3)))","v":""},{"$f":"IF(ISBLANK(AD139),\"\",IF(COUNT(AD139:AM139)<>10,NA(),ASTM(CD139*ASTM(AF139,2),1)))","v":""},{"$f":"IF(ISBLANK(AD139),\"\",IF(COUNT(AD139:AM139)<>10,NA(),ASTM(ASTM($AK$142,4)*1000*(CE139/$AZ$109),1)))","v":""},"",{"$f":"IF(ISBLANK(AD139),\"\",IF(COUNT(AD139:AM139)<>10,NA(),CF139/(33705*ASTM(AD139,3))))","v":""},"",{"$f":"IF(ISBLANK(AD139),\"\",ASTM(highwayfuf(CG139)-highwayfuf(CG138),3))","v":""},{"$f":"IF(ISBLANK(AD139),\"\",IF(OR(ISNUMBER(AD139)=FALSE,ISNUMBER(AM139)=FALSE),NA(),IF(ASTM(AI139,0)=0,0,CJ139*ASTM(AM139,0))))","v":""},"",{"$f":"IF(ISBLANK(AD139),\"\",IF(COUNT(AD139:AM139)<>10,NA(),CI139*ASTM(AD139,3)))","v":""},"",{"$f":"IF(ISBLANK(AD139),\"\",IF(COUNT(AD139:AM139)<>10,NA(),CN139*ASTM(AD139,3)))","v":""},"",{"$f":"IF(ISBLANK(AD139),\"\",IF(COUNT(AD139:AM139)<>10,NA(),ASTM(mdiuf(CP139)-mdiuf(CP138),3)))","v":""},{"$f":"IF(ISBLANK(AD139),\"\",IF(COUNT(AD139:AM139)<>10,NA(),IF(ASTM(AI139,0)=0,0,CQ139*ASTM(AI139,0)/(CN139))))","v":""},"",{"$f":"IF(ISBLANK(AD139),\"\",IF(COUNT(AD139:AM139)<>10,NA(),ASTM(highwayfufalt(CP139)-highwayfufalt(CP138),3)))","v":""},"",{"$f":"IF(ISBLANK(AD139),\"\",IF(COUNT(AD139:AM139)<>10,NA(),IF(ASTM(AI139,0)=0,0,CT139*ASTM(AM139,0)/(CN139))))","v":""}]
[null,null,null,null,null,null,null,null,null,null,null,null,null,null,null,null,34,null,null,null,null,null,null,null,null,{"$f":"IF(ISBLANK(R140),\"\",IF(OR($J$6=\"HD 2b/3\",COUNT(R140:W140)<>6,$AA$143<>\"Yes\",$AA$145<>\"Yes\"),NA(),IF(ASTM(W140,0)=0,0,ASTM((51740000*$T$142*$T$143)/((($T$142*U140)+(0.429*V140)+(0.273*W140))*((0.6*$T$143*$T$144)+5471)),1))))","v":""},{"$f":"IF(ISBLANK(R140),\"\",IF(OR(AND($J$6<>\"HD 2b/3\",COUNT(R140:W140)<>6),AND($J$6=\"HD 2b/3\",COUNT(R140)+COUNT(W140)<>2),$AA$143<>\"Yes\",$AA$145<>\"Yes\"),NA(),IF(ASTM(W140,0)=0,0,IF($J$6=\"HD 2b/3\",W140,ASTM((($T$142/0.273)*U140)+(1.571*V140)+W140,0)))))","v":""},null,34,null,null,null,null,null,null,null,null,{"$f":"IF(ISBLANK(AD140),\"\",IF(OR($J$6=\"HD 2b/3\",COUNT(AD140:AI140)<>6,$AM$47<>\"Yes\",$AM$49<>\"Yes\"),NA(),IF(ASTM(AI140,0)=0,0,ASTM((51740000*$AF$46*$AF$47)/((($AF$46*AG140)+(0.429*AH140)+(0.273*AI140))*((0.6*$AF$47*$AF$48)+5471)),1))))","v":""},{"$f":"IF(ISBLANK(AD140),\"\",IF(OR(AND($J$6<>\"HD 2b/3\",COUNT(AD140:AI140)<>6),AND($J$6=\"HD 2b/3\",COUNT(AD140)+COUNT(AI140)<>2),$AM$143<>\"Yes\",$AM$145<>\"Yes\"),NA(),IF(ASTM(AI140,0)=0,0,IF($J$6=\"HD 2b/3\",AI140,ASTM((($AF$142/0.273)*AG140)+(1.571*AH140)+AI140,0)))))","v":""},null,null,null,null,null,null,null,null,null,null,"CD total cost per mile ($/mi) [3]",{"$f":"IF($J$6=\"HD 2b/3\",NA(),ASTM(AY139+AY138,3))","v":{"$error":"#N/A"}},{"$f":"IF($J$6=\"HD 2b/3\",NA(),ASTM(AZ139+AZ138,3))","v":{"$error":"#N/A"}},null,null,null,34,{"$f":"IF(ISBLANK(R140),\"\",IF(COUNT(R140:AA140)<>10,NA(),IF(ASTM(W140,0)=0,0,IFERROR(ASTM(R140,3)/ASTM(Z140,1),0))))","v":""},{"$f":"IF(ISBLANK(R140),\"\",IF(COUNT(R140:AA140)<>10,NA(),IF(W140=0,0,ASTM(ASTM(W140,0)*ASTM(R140,3),0))))","v":""},{"$f":"IF(ISBLANK(R140),\"\",IF(COUNT(R140:AA140)<>10,NA(),ASTM(S140,3)-ASTM(S139,3)))","v":""},{"$f":"IF(ISBLANK(R140),\"\",IF(COUNT(R140:AA140)<>10,NA(),ASTM(BG140*ASTM(T140,2),1)))","v":""},{"$f":"IF(ISBLANK(R140),\"\",IF(COUNT(R140:AA140)<>10,NA(),ASTM(ASTM($Y$142,4)*1000*(BH140/$AY$109),1)))","v":""},"",{"$f":"IF(ISBLANK(R140),\"\",IF(COUNT(R140:AA140)<>10,NA(),BI140/(33705*ASTM(R140,3))))","v":""},"",{"$f":"IF(ISBLANK(R140),\"\",IFERROR(ASTM(cityfuf(BJ140)-cityfuf(BJ139),3),\"\"))","v":""},{"$f":"IF(ISBLANK(R140),\"\",IF(OR(ISNUMBER(R140)=FALSE,ISNUMBER(AA140)=FALSE),NA(),IF(ASTM(W140,0)=0,0,BM140*ASTM(AA140,0))))","v":""},"",{"$f":"IF(ISBLANK(R140),\"\",IF(COUNT(R140:AA140)<>10,NA(),BL140*ASTM(R140,3)))","v":""},"",{"$f":"IF(ISBLANK(R140),\"\",IF(COUNT(R140:AA140)<>10,NA(),BQ140*ASTM(R140,3)))","v":""},"",{"$f":"IF(ISBLANK(R140),\"\",IF(COUNT(R140:AA140)<>10,NA(),ASTM(mdiuf(BS140),3)-ASTM(mdiuf(BS139),3)))","v":""},{"$f":"IF(ISBLANK(R140),\"\",IF(COUNT(R140:AA140)<>10,NA(),IF(ASTM(W140,0)=0,0,BT140*ASTM(W140,0)/(BQ140))))","v":""},"",{"$f":"IF(ISBLANK(R140),\"\",IF(COUNT(R140:AA140)<>10,NA(),ASTM(cityfufalt(BS140)-cityfufalt(BS139),3)))","v":""},"",{"$f":"IF(ISBLANK(R140),\"\",IF(COUNT(R140:AA140)<>10,NA(),IF(ASTM(W140,0)=0,0,BW140*ASTM(AA140,0)/(BQ140))))","v":""},null,34,{"$f":"IF(ISBLANK(AD140),\"\",IF(COUNT(AD140:AM140)<>10,NA(),IF(ASTM(AI140,0)=0,0,ASTM(AD140,3)/ASTM(AL140,1))))","v":""},{"$f":"IF(ISBLANK(AD140),\"\",IF(COUNT(AD140:AM140)<>10,NA(),IF(ASTM(AI140,0)=0,0,ASTM(ASTM(AI140,0)*ASTM(AD140,3),0))))","v":""},{"$f":"IF(ISBLANK(AD140),\"\",IF(COUNT(AD140:AM140)<>10,NA(),ASTM(AE140,3)-ASTM(AE139,3)))","v":""},{"$f":"IF(ISBLANK(AD140),\"\",IF(COUNT(AD140:AM140)<>10,NA(),ASTM(CD140*ASTM(AF140,2),1)))","v":""},{"$f":"IF(ISBLANK(AD140),\"\",IF(COUNT(AD140:AM140)<>10,NA(),ASTM(ASTM($AK$142,4)*1000*(CE140/$AZ$109),1)))","v":""},"",{"$f":"IF(ISBLANK(AD140),\"\",IF(COUNT(AD140:AM140)<>10,NA(),CF140/(33705*ASTM(AD140,3))))","v":""},"",{"$f":"IF(ISBLANK(AD140),\"\",ASTM(highwayfuf(CG140)-highwayfuf(CG139),3))","v":""},{"$f":"IF(ISBLANK(AD140),\"\",IF(OR(ISNUMBER(AD140)=FALSE,ISNUMBER(AM140)=FALSE),NA(),IF(ASTM(AI140,0)=0,0,CJ140*ASTM(AM140,0))))","v":""},"",{"$f":"IF(ISBLANK(AD140),\"\",IF(COUNT(AD140:AM140)<>10,NA(),CI140*ASTM(AD140,3)))","v":""},"",{"$f":"IF(ISBLANK(AD140),\"\",IF(COUNT(AD140:AM140)<>10,NA(),CN140*ASTM(AD140,3)))","v":""},"",{"$f":"IF(ISBLANK(AD140),\"\",IF(COUNT(AD140:AM140)<>10,NA(),ASTM(mdiuf(CP140)-mdiuf(CP139),3)))","v":""},{"$f":"IF(ISBLANK(AD140),\"\",IF(COUNT(AD140:AM140)<>10,NA(),IF(ASTM(AI140,0)=0,0,CQ140*ASTM(AI140,0)/(CN140))))","v":""},"",{"$f":"IF(ISBLANK(AD140),\"\",IF(COUNT(AD140:AM140)<>10,NA(),ASTM(highwayfufalt(CP140)-highwayfufalt(CP139),3)))","v":""},"",{"$f":"IF(ISBLANK(AD140),\"\",IF(COUNT(AD140:AM140)<>10,NA(),IF(ASTM(AI140,0)=0,0,CT140*ASTM(AM140,0)/(CN140))))","v":""}]
[null,null,null,null,null,null,null,null,null,null,null,null,null,null,null,null,35,null,null,null,null,null,null,null,null,{"$f":"IF(ISBLANK(R141),\"\",IF(OR($J$6=\"HD 2b/3\",COUNT(R141:W141)<>6,$AA$143<>\"Yes\",$AA$145<>\"Yes\"),NA(),IF(ASTM(W141,0)=0,0,ASTM((51740000*$T$142*$T$143)/((($T$142*U141)+(0.429*V141)+(0.273*W141))*((0.6*$T$143*$T$144)+5471)),1))))","v":""},{"$f":"IF(ISBLANK(R141),\"\",IF(OR(AND($J$6<>\"HD 2b/3\",COUNT(R141:W141)<>6),AND($J$6=\"HD 2b/3\",COUNT(R141)+COUNT(W141)<>2),$AA$143<>\"Yes\",$AA$145<>\"Yes\"),NA(),IF(ASTM(W141,0)=0,0,IF($J$6=\"HD 2b/3\",W141,ASTM((($T$142/0.273)*U141)+(1.571*V141)+W141,0)))))","v":""},null,35,null,null,null,null,null,null,null,null,{"$f":"IF(ISBLANK(AD141),\"\",IF(OR($J$6=\"HD 2b/3\",COUNT(AD141:AI141)<>6,$AM$47<>\"Yes\",$AM$49<>\"Yes\"),NA(),IF(ASTM(AI141,0)=0,0,ASTM((51740000*$AF$46*$AF$47)/((($AF$46*AG141)+(0.429*AH141)+(0.273*AI141))*((0.6*$AF$47*$AF$48)+5471)),1))))","v":""},{"$f":"IF(ISBLANK(AD141),\"\",IF(OR(AND($J$6<>\"HD 2b/3\",COUNT(AD141:AI141)<>6),AND($J$6=\"HD 2b/3\",COUNT(AD141)+COUNT(AI141)<>2),$AM$143<>\"Yes\",$AM$145<>\"Yes\"),NA(),IF(ASTM(AI141,0)=0,0,IF($J$6=\"HD 2b/3\",AI141,ASTM((($AF$142/0.273)*AG141)+(1.571*AH141)+AI141,0)))))","v":""},null,null,null,null,null,null,null,null,null,null,"CS cost per mile ($/mi) [3]",{"$f":"IF($J$6=\"HD 2b/3\",NA(),ASTM($F$36/ASTM(N108,4),3))","v":{"$error":"#N/A"}},{"$f":"IF($J$6=\"HD 2b/3\",NA(),ASTM($F$36/ASTM(O108,4),3))","v":{"$error":"#N/A"}},null,null,null,35,{"$f":"IF(ISBLANK(R141),\"\",IF(COUNT(R141:AA141)<>10,NA(),IF(ASTM(W141,0)=0,0,IFERROR(ASTM(R141,3)/ASTM(Z141,1),0))))","v":""},{"$f":"IF(ISBLANK(R141),\"\",IF(COUNT(R141:AA141)<>10,NA(),IF(W141=0,0,ASTM(ASTM(W141,0)*ASTM(R141,3),0))))","v":""},{"$f":"IF(ISBLANK(R141),\"\",IF(COUNT(R141:AA141)<>10,NA(),ASTM(S141,3)-ASTM(S140,3)))","v":""},{"$f":"IF(ISBLANK(R141),\"\",IF(COUNT(R141:AA141)<>10,NA(),ASTM(BG141*ASTM(T141,2),1)))","v":""},{"$f":"IF(ISBLANK(R141),\"\",IF(COUNT(R141:AA141)<>10,NA(),ASTM(ASTM($Y$142,4)*1000*(BH141/$AY$109),1)))","v":""},"",{"$f":"IF(ISBLANK(R141),\"\",IF(COUNT(R141:AA141)<>10,NA(),BI141/(33705*ASTM(R141,3))))","v":""},"",{"$f":"IF(ISBLANK(R141),\"\",IFERROR(ASTM(cityfuf(BJ141)-cityfuf(BJ140),3),\"\"))","v":""},{"$f":"IF(ISBLANK(R141),\"\",IF(OR(ISNUMBER(R141)=FALSE,ISNUMBER(AA141)=FALSE),NA(),IF(ASTM(W141,0)=0,0,BM141*ASTM(AA141,0))))","v":""},"",{"$f":"IF(ISBLANK(R141),\"\",IF(COUNT(R141:AA141)<>10,NA(),BL141*ASTM(R141,3)))","v":""},"",{"$f":"IF(ISBLANK(R141),\"\",IF(COUNT(R141:AA141)<>10,NA(),BQ141*ASTM(R141,3)))","v":""},"",{"$f":"IF(ISBLANK(R141),\"\",IF(COUNT(R141:AA141)<>10,NA(),ASTM(mdiuf(BS141),3)-ASTM(mdiuf(BS140),3)))","v":""},{"$f":"IF(ISBLANK(R141),\"\",IF(COUNT(R141:AA141)<>10,NA(),IF(ASTM(W141,0)=0,0,BT141*ASTM(W141,0)/(BQ141))))","v":""},"",{"$f":"IF(ISBLANK(R141),\"\",IF(COUNT(R141:AA141)<>10,NA(),ASTM(cityfufalt(BS141)-cityfufalt(BS140),3)))","v":""},"",{"$f":"IF(ISBLANK(R141),\"\",IF(COUNT(R141:AA141)<>10,NA(),IF(ASTM(W141,0)=0,0,BW141*ASTM(AA141,0)/(BQ141))))","v":""},null,35,{"$f":"IF(ISBLANK(AD141),\"\",IF(COUNT(AD141:AM141)<>10,NA(),IF(ASTM(AI141,0)=0,0,ASTM(AD141,3)/ASTM(AL141,1))))","v":""},{"$f":"IF(ISBLANK(AD141),\"\",IF(COUNT(AD141:AM141)<>10,NA(),IF(ASTM(AI141,0)=0,0,ASTM(ASTM(AI141,0)*ASTM(AD141,3),0))))","v":""},{"$f":"IF(ISBLANK(AD141),\"\",IF(COUNT(AD141:AM141)<>10,NA(),ASTM(AE141,3)-ASTM(AE140,3)))","v":""},{"$f":"IF(ISBLANK(AD141),\"\",IF(COUNT(AD141:AM141)<>10,NA(),ASTM(CD141*ASTM(AF141,2),1)))","v":""},{"$f":"IF(ISBLANK(AD141),\"\",IF(COUNT(AD141:AM141)<>10,NA(),ASTM(ASTM($AK$142,4)*1000*(CE141/$AZ$109),1)))","v":""},"",{"$f":"IF(ISBLANK(AD141),\"\",IF(COUNT(AD141:AM141)<>10,NA(),CF141/(33705*ASTM(AD141,3))))","v":""},"",{"$f":"IF(ISBLANK(AD141),\"\",ASTM(highwayfuf(CG141)-highwayfuf(CG140),3))","v":""},{"$f":"IF(ISBLANK(AD141),\"\",IF(OR(ISNUMBER(AD141)=FALSE,ISNUMBER(AM141)=FALSE),NA(),IF(ASTM(AI141,0)=0,0,CJ141*ASTM(AM141,0))))","v":""},"",{"$f":"IF(ISBLANK(AD141),\"\",IF(COUNT(AD141:AM141)<>10,NA(),CI141*ASTM(AD141,3)))","v":""},"",{"$f":"IF(ISBLANK(AD141),\"\",IF(COUNT(AD141:AM141)<>10,NA(),CN141*ASTM(AD141,3)))","v":""},"",{"$f":"IF(ISBLANK(AD141),\"\",IF(COUNT(AD141:AM141)<>10,NA(),ASTM(mdiuf(CP141)-mdiuf(CP140),3)))","v":""},{"$f":"IF(ISBLANK(AD141),\"\",IF(COUNT(AD141:AM141)<>10,NA(),IF(ASTM(AI141,0)=0,0,CQ141*ASTM(AI141,0)/(CN141))))","v":""},"",{"$f":"IF(ISBLANK(AD141),\"\",IF(COUNT(AD141:AM141)<>10,NA(),ASTM(highwayfufalt(CP141)-highwayfufalt(CP140),3)))","v":""},"",{"$f":"IF(ISBLANK(AD141),\"\",IF(COUNT(AD141:AM141)<>10,NA(),IF(ASTM(AI141,0)=0,0,CT141*ASTM(AM141,0)/(CN141))))","v":""}]
[null,null,null,null,null,null,null,null,null,null,null,null,null,null,null,null,null,null,"CWF [3]:",null,null,null,null,"Recharge energy (AC kilowatt-hours) [4]:",null,null,"Fuel?",null,null,null,"CWF [3]:",null,null,null,null,"Recharge energy (AC kilowatt-hours) [4]:",null,null,"Fuel?",null,null,null,null,null,null,null,null,null,null,"Composite CD/CS cost ($/mi) [3]",{"$f":"IF($J$6=\"HD 2b/3\",NA(),ASTM(AY127*AY140+(1-AY127)*AY141,3))","v":{"$error":"#N/A"}},{"$f":"IF($J$6=\"HD 2b/3\",NA(),ASTM(AZ127*AZ140+(1-AZ127)*AZ141,3))","v":{"$error":"#N/A"}}]
[null,null,null,null,null,null,null,null,null,null,null,null,null,null,null,null,null,null,"SG [3]:",null,null,null,null,"All-Electric Range (Miles) [3]:",null,null,{"$f":"IF(AND(ISNUMBER(T142),ISNUMBER(T143),ISNUMBER(T144),T142>0.5,T142<1,T143>0.5,T143<1,T144>17000,T144<20000),\"Yes\",\"No\")","v":"No"},null,null,null,"SG [3]:",null,null,null,null,"All-Electric Range (Miles) [3]:",null,null,{"$f":"IF(AND(ISNUMBER(AF142),ISNUMBER(AF143),ISNUMBER(AF144),AF142>0.5,AF142<1,AF143>0.5,AF143<1,AF144>17000,AF144<20000),\"Yes\",\"No\")","v":"No"},null,null,null,null,null,null,null,null,null,null,"COMPOSITE CD/CS FUEL ECONOMY AND CO2 VALUES, ADJUSTED","CITY","HIGHWAY"]
[null,null,null,null,null,null,null,null,null,null,null,null,null,null,null,null,null,null,"NHV [0]:",null,null,null,null,"Transition Cycle [0]:",null,null,"Footer?",null,null,null,"NHV [0]:",null,null,null,null,"Transition Cycle [0]:",null,null,"Footer?",null,null,null,null,null,null,null,null,null,null,"Composite CD/CS CO2, adjusted (g/mi) [1]",{"$f":"IF($J$6=\"HD 2b/3\",NA(),ASTM(IFERROR(AY122+(1-AY128)*N111,#VALUE!),1))","v":{"$error":"#N/A"}},{"$f":"IF($J$6=\"HD 2b/3\",NA(),ASTM(IFERROR(AZ122+(1-AZ128)*O111,#VALUE!),1))","v":{"$error":"#N/A"}}]
[null,null,null,null,null,null,null,null,null,null,null,null,null,null,null,null,null,null,null,null,null,null,null,"Recharge time (optional)(Hours) [2]:",null,null,{"$f":"IF(AND(ISNUMBER(Y142),ISNUMBER(Y143),ISNUMBER(Y144),Y142>0,Y143>0,Y144>0,Y144<35),\"Yes\",\"No\")","v":"No"},null,null,null,null,null,null,null,null,"Recharge time (optional)(Hours) [2]:",null,null,{"$f":"IF(AND(ISNUMBER(AK142),ISNUMBER(AK143),ISNUMBER(AK144),AK142>0,AK143>0,AK144>0,AK144<35),\"Yes\",\"No\")","v":"No"},null,null,null,null,null,null,null,null,null,null,"Composite CD/CS Fuel Economy, adjusted (MPG) [4]",{"$f":"IF($J$6=\"HD 2b/3\",NA(),IFERROR(ASTM(IFERROR(1/(AY113+(1-AY128)/N108),#VALUE!),4),0))","v":{"$error":"#N/A"}},{"$f":"IF($J$6=\"HD 2b/3\",NA(),IFERROR(ASTM(IFERROR(1/(AZ113+(1-AZ128)/O108),#VALUE!),4),0))","v":{"$error":"#N/A"}}]