{"text_format":"1","workbook":"xlsx","n_sheets":24,"sheets":["Welcome","Company_Information","Report Info","General_Compliance","CMS_Identification","CMS_Malfunction","CMS_Downtime","CMS_Deviation","CMS_Summary","Regenerative_Carbon_Bed","CVS_Leaks","Bypasses","Flares","New_Tanks_Racks","Tanks","LDAR_initial_TT","LDAR_TT_summary","LDAR_TT_shutdowns","LDAR_initial_H_UU","LDAR_H_UU_general","LDAR_H_UU_summary","Revisions","Worksheet Map","Lists"],"not_rendered":{"charts":0,"images":1,"macros":1,"external_links":0,"defined_names":23,"comments":19,"pivot_tables":0},"unopened":[],"bounds":{"document_bytes":16777216,"sheet_cells":100000,"rows_first":2000,"rows_last":500,"rows_between":2000,"halvings":0,"cell_chars":16384,"cell_head_chars":4096},"cells_cut":0,"cells_raw":0,"read":"whole","date_system":"1900"}

{"sheet":"Welcome","index":0,"n_rows":19,"n_cols":2,"rows_kept":19,"cut":false,"hidden":false,"merged":[]}
["DO NOT REMOVE OR EDIT INFORMATION IN ROWS 1 THROUGH 5\nFOR INTERNAL USE ONLY"]
["Template Name","63.2386(a), (c), and (d) Compliance Report (Spreadsheet Template)"]
["CitationID","63.2386(a), (c), and (d)"]
["Template Version","v1.01"]
["Last Updated Date","2024-04-09"]
[null,"OMB No.: 2060-0539 Form 5900-703 For further Paperwork Reduction Act information see: \nhttps://www.epa.gov/electronic-reporting-air-emissions/paperwork-reduction-act-pra-cedri-and-ert"]
[null,"For further Paperwork Reduction Act information see: \nhttps://www.epa.gov/electronic-reporting-air-emissions/paperwork-reduction-act-pra-cedri-and-ert"]
[null,"40 CFR Part 63, Subpart EEEE National Emission Standards for Hazardous Air Pollutants: Organic Liquids Distribution (Non-Gasoline)\n§63.2386(a), (c), and (d)  Compliance Report Spreadsheet Template"]
[null,"Instructions for Spreadsheet Template"]
[null,"Purpose:\nThis spreadsheet template was designed by the U.S. EPA to facilitate compliance reporting for facilities subject under the 40 CFR part 63, subpart EEEE National Emission Standard for Hazardous Air Pollutants: Organic Liquids Distribution (Non-Gasoline). Use of this template is required on and after the compliance date specified in §63.2342(e). As such, this template reflects the requirements for reports as of that compliance date. This template may not accurately reflect reporting requirements prior to the compliance date specified in §63.2342(e)."]
[null,"Electronic reporting:\nElectronic submission of Compliance Reports through the EPA's Compliance and Emissions Data Reporting Interface (CEDRI) is required under §63.2386(f). CEDRI is accessed through the EPA's Central Data Exchange (https://cdx.epa.gov)."]
[null,"Do not submit confidential business information (CBI) to EPA via CEDRI. EPA will make all the information submitted through this form via CEDRI available to the public without further notice to you. All CBI claims must be asserted at the time of submission. Anything submitted using CEDRI cannot later be claimed to be CBI. Furthermore, under CAA section 114(c) emissions data is not entitled to confidential treatment, and EPA is required to make emissions data available to the public. Thus, emissions data will not be protected as CBI and will be made publicly available."]
[null,"Although we do not expect persons to assert a claim of CBI, if persons wish to assert a CBI claim for some of the information in this report, you must submit a version of the report with the CBI omitted via CEDRI and submit a complete report, including any information claimed to be CBI, to EPA. The preferred method to receive CBI is for it to be transmitted electronically using email attachments, File Transfer Protocol, or other online file sharing services. Electronic submissions must be transmitted directly to the OAQPS CBI Office at the email address oaqpscbi@epa.gov to the attention of the Bulk Gasoline Terminal Sector Lead. If assistance is needed with submitting large electronic files that exceed the file size limit for email attachments, and if you do not have your own file sharing service, please email oaqpscbi@epa.gov to request a file transfer link. If you cannot transmit the file electronically, you may send CBI information through the postal service to the following address:"]
[null,"OAQPS Document Control Officer (C404-02)\nOAQPS, U.S. Environmental Protection Agency\nAttn: Organic Liquids Distribution Sector Lead\nResearch Triangle Park, North Carolina 27711 "]
[null,"The mailed CBI material should be double wrapped and clearly marked. Any CBI markings should not show through the outer envelope. Clearly mark the part or all of the information that you claim to be CBI. Information not marked as CBI may be authorized for public release without prior notice. Information marked as CBI will not be disclosed except in accordance with procedures set forth in 40 CFR part 2."]
[null,"The CEDRI spreadsheet template upload feature allows you to submit data in a single report for a single facility or multiple facilities using this EPA provided Excel workbook.  Data for each facility must be entered into the worksheet labeled \"Company Information\" in this Excel workbook.  Each row in the \"Company Information\" worksheet includes the data for a single facility. The Company Record No. will be used to match the information on each tab to the appropriate facility."]
[null,"IMPORTANT: The final CEDRI upload file must be a single ZIP file, which must include this Excel workbook and any related attachments that were referenced in the workbook (i.e., additional information file found in the \"Company_Information\" tab)."]
[null,"For each facility record found in the \"Company Information\" worksheet, you may reference a single file attachment that includes additional information. If you are uploading file attachments for your report, the uploaded files may be in any format (e.g., zip, docx, PDF). If you would like to include an Excel file(s) as an attachment, you must first zip the excel file(s) into a separate ZIP file to the master ZIP file that will be uploaded into CEDRI.\n\nFor example, the file “Jan-June2019-Report.zip” uploaded into CEDRI may contain 2 files:\n                1. Completed_semiannual_reporting_spreadsheet_Jan-June2019.xlsx\n                2. Attachments.zip \nThe “Attachments.zip” file could contain as many attachments of any format (xlsx, xls, docx, pdf, zip, etc.) as needed.\nIf you only have one file to attach, you do not need to zip it unless it is an Excel file (.xlsx, .xls).\n"]
[null,"Template Navigation and Tabs to Complete:\nGray Tabs:  The gray tabs (Company_Information, Report Info, and General_Compliance) contain general information. If you choose to complete the \"Report Info\" tab, worksheets that are not relevant to your report will be hidden from view. \n\nGreen Tabs:  Green tabs (CMS_Identification, CMS_Malfunction,  CMS_Downtime, CMS_Deviation, and CMS_Summary) contain information on continuous monitoring systems.   Some cells are linked to previous tabs or are calculations dependent upon data entry.\n\nYellow Tabs: Yellow tabs (LDAR_initial_TT, LDAR_TT_summary, LDAR_TT_shutdowns, LDAR_initial_H_UU, LDAR_H_UU_general, and LDAR_H_UU_summary) contain information on leak detection and repair programs.\n\nBlue Tabs: blue tabs (Regenerative_Carbon_Bed, CVS_Leaks, Bypasses, Flares, New_Tanks_Racks, and Tanks) contain information on specific pieces of equipment.\n\nIn each worksheet, example rows are colored light red (rows 14 through 23), and the XML tags (row 13) are colored green.  These rows are locked; no data entry is made in these rows. "]

{"sheet":"Company_Information","index":1,"n_rows":33,"n_cols":15,"rows_kept":33,"cut":false,"hidden":false,"merged":[]}
[null,"DO NOT REMOVE OR EDIT INFORMATION IN ROWS 1 THROUGH 5\nFOR INTERNAL USE ONLY"]
[null,"Template Name",{"$f":"Welcome!B2","v":"63.2386(a), (c), and (d) Compliance Report (Spreadsheet Template)"}]
[null,"CitationID",{"$f":"Welcome!B3","v":"63.2386(a), (c), and (d)"}]
[null,"Template Version",{"$f":"Welcome!B4","v":"v1.01"}]
[null,"Last Updated Date",{"$f":"Welcome!B5","v":"2024-04-09"}]
[]
[null,"40 CFR Part 63, Subpart EEEE National Emission Standards for Hazardous Air Pollutants: Organic Liquids Distribution (Non-Gasoline)"]
[null,"§63.2386(a), (c), and (d) Compliance Report Spreadsheet Template"]
[null,"This tab includes information on the site(s) for which you are reporting and the reporting period."]
[]
[null,null,"SITE INFORMATION",null,null,null,null,null,null,null,"REPORTING PERIOD",null,null,"ADDITIONAL INFORMATION"]
[null,"Company Record No.\n(Field value will automatically generate if a value is not entered.)","Company Name\n(§63.2386(c)(1))","Address\n(§63.2386(c)(1))","Address 2 ","City\n(§63.2386(c)(1))","County","State Abbreviation\n(§63.2386(c)(1))\n(Select from Dropdown)","Zip Code\n(§63.2386(c)(1))","Responsible Agency Facility ID \n(State Facility Identifier)","Beginning Date of Reporting Period\n(§63.2386(c)(3), §63.999(c)(1))","Ending Date of\n Reporting Period\n(§63.2386(c)(3), §63.999(c)(1))","Total Source Operating Time\n(hours)\n(§63.999(c)(1))","Please enter any additional information.","Enter associated file name reference. "]
[null,"RecordId","CompanyName","AddressLine1","AddressLine2","CityName","CountyName","StateName","ZIPCode","StateFacID","PeriodStartDate","PeriodEndDate","TotalTime","AddInfo","AddFile"]
[null,"e.g.: 1","e.g.: ABC Company","e.g.: 123 Main Street","e.g.: Suite 100","e.g.: Brooklyn","e.g.: Kings","e.g.: NY","e.g.: 11221","e.g.: 9145555555","e.g.: 01/01/17","e.g.: 6/30/17","e.g.: 4000",null,"e.g.: addlinfo.zip "]
[null,"e.g.","e.g.","e.g.","e.g.","e.g.","e.g.","e.g.","e.g.","e.g.","e.g.","e.g.","e.g.","e.g.","e.g."]
[null,"e.g.","e.g.","e.g.","e.g.","e.g.","e.g.","e.g.","e.g.","e.g.","e.g.","e.g.","e.g.","e.g.","e.g."]
[null,"e.g.","e.g.","e.g.","e.g.","e.g.","e.g.","e.g.","e.g.","e.g.","e.g.","e.g.","e.g.","e.g.","e.g."]
[null,"e.g.","e.g.","e.g.","e.g.","e.g.","e.g.","e.g.","e.g.","e.g.","e.g.","e.g.","e.g.","e.g.","e.g."]
[null,"e.g.","e.g.","e.g.","e.g.","e.g.","e.g.","e.g.","e.g.","e.g.","e.g.","e.g.","e.g.","e.g.","e.g."]
[null,"e.g.","e.g.","e.g.","e.g.","e.g.","e.g.","e.g.","e.g.","e.g.","e.g.","e.g.","e.g.","e.g.","e.g."]
[null,"e.g.","e.g.","e.g.","e.g.","e.g.","e.g.","e.g.","e.g.","e.g.","e.g.","e.g.","e.g.","e.g.","e.g."]
[null,"e.g.","e.g.","e.g.","e.g.","e.g.","e.g.","e.g.","e.g.","e.g.","e.g.","e.g.","e.g.","e.g.","e.g."]
[null,"e.g.","e.g.","e.g.","e.g.","e.g.","e.g.","e.g.","e.g.","e.g.","e.g.","e.g.","e.g.","e.g.","e.g."]
[null,{"$f":"IF(C24=\"\",\"\",ROW(B24)-23)","v":""}]
[null,{"$f":"IF(C25=\"\",\"\",ROW(B25)-23)","v":""}]
[null,""]
[null,""]
[null,""]
[null,""]
[null,""]
[null,""]
[null,""]
[null,""]

{"sheet":"Report Info","index":2,"n_rows":16,"n_cols":3,"rows_kept":16,"cut":false,"hidden":false,"merged":[]}
[null,"DO NOT REMOVE OR EDIT INFORMATION IN ROWS 1-5 \nFOR INTERNAL USE ONLY"]
[null,"Template Name",{"$f":"Welcome!B2","v":"63.2386(a), (c), and (d) Compliance Report (Spreadsheet Template)"}]
[null,"CitationID",{"$f":"Welcome!B3","v":"63.2386(a), (c), and (d)"}]
[null,"Template Version",{"$f":"Welcome!B4","v":"v1.01"}]
[null,"Last Updated Date",{"$f":"Welcome!B5","v":"2024-04-09"}]
[]
[null,"This tab is optional."]
[null,"If you answer \"No\" to a question, tabs covering that area will be hidden in this workbook."]
[null,"Will you be reporting for the following:"]
[null,"Continuous Monitoring Systems?"]
[null,"Regenerative Carbon Beds?"]
[null,"Closed Vent System Leaks?"]
[null,"Bypass Events?"]
[null,"Flares?"]
[null,"New Storage Tanks or New Loading Racks?"]
[null,"LDAR?"]

{"sheet":"General_Compliance","index":3,"n_rows":23,"n_cols":11,"rows_kept":23,"cut":false,"hidden":false,"merged":[]}
[null,"DO NOT REMOVE OR EDIT INFORMATION IN ROWS 1 THROUGH 5\nFOR INTERNAL USE ONLY"]
[null,"Template Name",{"$f":"Welcome!B2","v":"63.2386(a), (c), and (d) Compliance Report (Spreadsheet Template)"}]
[null,"CitationID",{"$f":"Welcome!B3","v":"63.2386(a), (c), and (d)"}]
[null,"Template Version",{"$f":"Welcome!B4","v":"v1.01"}]
[null,"Last Updated Date",{"$f":"Welcome!B5","v":"2024-04-09"}]
[]
[null,{"$f":"Company_Information!B7","v":"40 CFR Part 63, Subpart EEEE National Emission Standards for Hazardous Air Pollutants: Organic Liquids Distribution (Non-Gasoline)"}]
[null,{"$f":"Company_Information!B8","v":"§63.2386(a), (c), and (d) Compliance Report Spreadsheet Template"}]
[null,"This tab contains information related to general compliance report requirements."]
[null,"Note: Company Record No. selections will appear once information is entered onto the \"Company_Information\" tab."]
[null,null,null,null,null,null,"If you are implementing alternative recordkeeping provisions §63.998(b)(5)"]
[null,"Company Record No.\n(Select from Dropdown)","Were there deviations from the emission limitations, operating limits, or work practice standards during the reporting period?\n(§63.2386(c)(6))\n(Select from Dropdown)","Were there periods during which the CMS were out of control during the reporting period?\n(§63.2386(c)(7))\n(Select from Dropdown)","If any changes to the information listed in §63.2382(d)(2) have occurred since the submittal of the Notification of Compliance Status, please provide the name for the attachment containing the information.\n(§63.2386(c)(4))","List all transport vehicle into which organic liquids were loaded at transfer racks that are subject to control for which vapor tightness documentation as required in §63.2390(c) was not on file at the facility.\n(§63.2386(c)(9))","Have you elected to not retain the daily average values pursuant to §63.998(b)(5)(ii)(A)?\n(§63.999(c)(6)(i))\n(Select from Dropdown)","Parameter\n(§63.999(c)(6)(iv), §63.998(b)(5)(ii)(A))","Unit of Equipment\n(§63.999(c)(6)(iv), §63.998(b)(5)(ii)(A))","Was there an excursion during the reporting period?\n(§63.999(c)(6)(iv), §63.998(b)(5)(ii)(B))\n(Select from Dropdown)","Comments or Additional Information"]
[null,"RecordId","PeriodDeviationFlag","CMSOutOfControlFlag","NocsChange","TransportDocumentation","NoDailyAverage","NoDailyParameter","NoDailyEquip","NoDailyExcursion","GeneralComment"]
[null,"e.g.: 1","e.g.: There were deviations.","e.g.: There were periods during which the CMS was out of control.","e.g.: changes.pdf","e.g.: ","e.g.: yes","e.g.:","e.g.:","e.g.: yes"]
[null,"e.g.","e.g.","e.g.","e.g.","e.g.","e.g.","e.g.","e.g.","e.g.","e.g."]
[null,"e.g.","e.g.","e.g.","e.g.","e.g.","e.g.","e.g.","e.g.","e.g.","e.g."]
[null,"e.g.","e.g.","e.g.","e.g.","e.g.","e.g.","e.g.","e.g.","e.g.","e.g."]
[null,"e.g.","e.g.","e.g.","e.g.","e.g.","e.g.","e.g.","e.g.","e.g.","e.g."]
[null,"e.g.","e.g.","e.g.","e.g.","e.g.","e.g.","e.g.","e.g.","e.g.","e.g."]
[null,"e.g.","e.g.","e.g.","e.g.","e.g.","e.g.","e.g.","e.g.","e.g.","e.g."]
[null,"e.g.","e.g.","e.g.","e.g.","e.g.","e.g.","e.g.","e.g.","e.g.","e.g."]
[null,"e.g.","e.g.","e.g.","e.g.","e.g.","e.g.","e.g.","e.g.","e.g.","e.g."]
[null,"e.g.","e.g.","e.g.","e.g.","e.g.","e.g.","e.g.","e.g.","e.g.","e.g."]

{"sheet":"CMS_Identification","index":4,"n_rows":523,"n_cols":11,"rows_kept":523,"cut":false,"hidden":false,"merged":[]}
[null,"DO NOT REMOVE OR EDIT INFORMATION IN ROWS 1 THROUGH 5\nFOR INTERNAL USE ONLY"]
[null,"Template Name",{"$f":"Welcome!B2","v":"63.2386(a), (c), and (d) Compliance Report (Spreadsheet Template)"}]
[null,"CitationID",{"$f":"Welcome!B3","v":"63.2386(a), (c), and (d)"}]
[null,"Template Version",{"$f":"Welcome!B4","v":"v1.01"}]
[null,"Last Updated Date",{"$f":"Welcome!B5","v":"2024-04-09"}]
[]
[null,{"$f":"Company_Information!B7","v":"40 CFR Part 63, Subpart EEEE National Emission Standards for Hazardous Air Pollutants: Organic Liquids Distribution (Non-Gasoline)"}]
[null,{"$f":"Company_Information!B8","v":"§63.2386(a), (c), and (d) Compliance Report Spreadsheet Template"}]
[null,"This tab contains identifying and general information for each CMS at your site(s). This information will be used to populate the dropdown located on the other CMS tabs."]
[null,"Note: Company Record No. selections will appear once information is entered onto the \"Company_Information\" tab."]
[]
[null,"Company Record No.\n(Select from dropdown)","Emission Source Description\n(§63.2386(d)(1)(ix))","Total Process/Source Operating Time\n(in hours)\n(§63.2386(d)(1)(xv), §63.999(c)(1))","CMS Manufacturer\n(§63.2386(d)(1)(x))","CMS Model Number\n(§63.2386(d)(1)(x))","Affected CMS","Pollutant or Parameter Monitored\n(§63.2386(d)(1)(x))","Date of Last CMS Certification or Audit\n(§63.2386(d)(1)(xi))","Brief Description of Changes in CMS, Process, or Controls\n(§63.2386(d)(1)(xii))","Comments or Additional Information"]
[null,"RecordId","ProcessUnitDesc","TotalOperatingTime","EquipmentMfr","EquipmentModelNo","CMSDescription","CMSParameter","CMSAuditDate","CMSChangesDesc","CMSComments"]
[null,"e.g.: 1","e.g.: Tank 300B","e.g.: 4000","e.g.: Manufacturer","e.g.: 2020AB","e.g.: Tank 300B Manufacturer 2020AB","e.g.: temperature","e.g.: 02/01/20","e.g.: thermocouple replaced in kind with same model","e.g.:"]
[null,"e.g.","e.g.","e.g.","e.g.","e.g.","e.g.","e.g.","e.g.","e.g.","e.g."]
[null,"e.g.","e.g.","e.g.","e.g.","e.g.","e.g.","e.g.","e.g.","e.g.","e.g."]
[null,"e.g.","e.g.","e.g.","e.g.","e.g.","e.g.","e.g.","e.g.","e.g.","e.g."]
[null,"e.g.","e.g.","e.g.","e.g.","e.g.","e.g.","e.g.","e.g.","e.g.","e.g."]
[null,"e.g.","e.g.","e.g.","e.g.","e.g.","e.g.","e.g.","e.g.","e.g.","e.g."]
[null,"e.g.","e.g.","e.g.","e.g.","e.g.","e.g.","e.g.","e.g.","e.g.","e.g."]
[null,"e.g.","e.g.","e.g.","e.g.","e.g.","e.g.","e.g.","e.g.","e.g.","e.g."]
[null,"e.g.","e.g.","e.g.","e.g.","e.g.","e.g.","e.g.","e.g.","e.g.","e.g."]
[null,"e.g.","e.g.","e.g.","e.g.","e.g.","e.g.","e.g.","e.g.","e.g.","e.g."]
[null,null,null,null,null,null,{"$f":"IF(C24=\"\",\"\",CONCATENATE(B24,\" \",C24,\" \",E24,\" \",F24))","v":""}]
[null,null,null,null,null,null,{"$f":"IF(C25=\"\",\"\",CONCATENATE(B25,\" \",C25,\" \",E25,\" \",F25))","v":""}]
[null,null,null,null,null,null,""]
[null,null,null,null,null,null,""]
[null,null,null,null,null,null,""]
[null,null,null,null,null,null,""]
[null,null,null,null,null,null,""]
[null,null,null,null,null,null,""]
[null,null,null,null,null,null,""]
[null,null,null,null,null,null,""]
[null,null,null,null,null,null,""]
[null,null,null,null,null,null,""]
[null,null,null,null,null,null,""]
[null,null,null,null,null,null,""]
[null,null,null,null,null,null,""]
[null,null,null,null,null,null,""]
[null,null,null,null,null,null,""]
[null,null,null,null,null,null,""]
[null,null,null,null,null,null,""]
[null,null,null,null,null,null,""]
[null,null,null,null,null,null,""]
[null,null,null,null,null,null,""]
[null,null,null,null,null,null,""]
[null,null,null,null,null,null,""]
[null,null,null,null,null,null,""]
[null,null,null,null,null,null,""]
[null,null,null,null,null,null,""]
[null,null,null,null,null,null,""]
[null,null,null,null,null,null,""]
[null,null,null,null,null,null,""]
[null,null,null,null,null,null,""]
[null,null,null,null,null,null,""]
[null,null,null,null,null,null,""]
[null,null,null,null,null,null,""]
[null,null,null,null,null,null,""]
[null,null,null,null,null,null,""]
[null,null,null,null,null,null,""]
[null,null,null,null,null,null,""]
[null,null,null,null,null,null,""]
[null,null,null,null,null,null,""]
[null,null,null,null,null,null,""]
[null,null,null,null,null,null,""]
[null,null,null,null,null,null,""]
[null,null,null,null,null,null,""]
[null,null,null,null,null,null,""]
[null,null,null,null,null,null,""]
[null,null,null,null,null,null,""]
[null,null,null,null,null,null,""]
[null,null,null,null,null,null,""]
[null,null,null,null,null,null,""]
[null,null,null,null,null,null,""]
[null,null,null,null,null,null,""]
[null,null,null,null,null,null,""]
[null,null,null,null,null,null,{"$f":"IF(C77=\"\",\"\",CONCATENATE(B77,\" \",C77,\" \",E77,\" \",F77))","v":""}]
[null,null,null,null,null,null,""]
[null,null,null,null,null,null,""]
[null,null,null,null,null,null,""]
[null,null,null,null,null,null,""]
[null,null,null,null,null,null,""]
[null,null,null,null,null,null,""]
[null,null,null,null,null,null,""]
[null,null,null,null,null,null,""]
[null,null,null,null,null,null,""]
[null,null,null,null,null,null,""]
[null,null,null,null,null,null,""]
[null,null,null,null,null,null,""]
[null,null,null,null,null,null,""]
[null,null,null,null,null,null,""]
[null,null,null,null,null,null,""]
[null,null,null,null,null,null,""]
[null,null,null,null,null,null,""]
[null,null,null,null,null,null,""]
[null,null,null,null,null,null,""]
[null,null,null,null,null,null,""]
[null,null,null,null,null,null,""]
[null,null,null,null,null,null,""]
[null,null,null,null,null,null,""]
[null,null,null,null,null,null,""]
[null,null,null,null,null,null,""]
[null,null,null,null,null,null,""]
[null,null,null,null,null,null,""]
[null,null,null,null,null,null,""]
[null,null,null,null,null,null,""]
[null,null,null,null,null,null,""]
[null,null,null,null,null,null,""]
[null,null,null,null,null,null,""]
[null,null,null,null,null,null,""]
[null,null,null,null,null,null,""]
[null,null,null,null,null,null,""]
[null,null,null,null,null,null,""]
[null,null,null,null,null,null,""]
[null,null,null,null,null,null,""]
[null,null,null,null,null,null,""]
[null,null,null,null,null,null,""]
[null,null,null,null,null,null,""]
[null,null,null,null,null,null,""]
[null,null,null,null,null,null,""]
[null,null,null,null,null,null,""]
[null,null,null,null,null,null,""]
[null,null,null,null,null,null,""]
[null,null,null,null,null,null,""]
[null,null,null,null,null,null,""]
[null,null,null,null,null,null,""]
[null,null,null,null,null,null,""]
[null,null,null,null,null,null,""]
[null,null,null,null,null,null,""]
[null,null,null,null,null,null,""]
[null,null,null,null,null,null,""]
[null,null,null,null,null,null,""]
[null,null,null,null,null,null,""]
[null,null,null,null,null,null,""]
[null,null,null,null,null,null,""]
[null,null,null,null,null,null,""]
[null,null,null,null,null,null,""]
[null,null,null,null,null,null,""]
[null,null,null,null,null,null,""]
[null,null,null,null,null,null,""]
[null,null,null,null,null,null,{"$f":"IF(C141=\"\",\"\",CONCATENATE(B141,\" \",C141,\" \",E141,\" \",F141))","v":""}]
[null,null,null,null,null,null,""]
[null,null,null,null,null,null,""]
[null,null,null,null,null,null,""]
[null,null,null,null,null,null,""]
[null,null,null,null,null,null,""]
[null,null,null,null,null,null,""]
[null,null,null,null,null,null,""]
[null,null,null,null,null,null,""]
[null,null,null,null,null,null,""]
[null,null,null,null,null,null,""]
[null,null,null,null,null,null,""]
[null,null,null,null,null,null,""]
[null,null,null,null,null,null,""]
[null,null,null,null,null,null,""]
[null,null,null,null,null,null,""]
[null,null,null,null,null,null,""]
[null,null,null,null,null,null,""]
[null,null,null,null,null,null,""]
[null,null,null,null,null,null,""]
[null,null,null,null,null,null,""]
[null,null,null,null,null,null,""]
[null,null,null,null,null,null,""]
[null,null,null,null,null,null,""]
[null,null,null,null,null,null,""]
[null,null,null,null,null,null,""]
[null,null,null,null,null,null,""]
[null,null,null,null,null,null,""]
[null,null,null,null,null,null,""]
[null,null,null,null,null,null,""]
[null,null,null,null,null,null,""]
[null,null,null,null,null,null,""]
[null,null,null,null,null,null,""]
[null,null,null,null,null,null,""]
[null,null,null,null,null,null,""]
[null,null,null,null,null,null,""]
[null,null,null,null,null,null,""]
[null,null,null,null,null,null,""]
[null,null,null,null,null,null,""]
[null,null,null,null,null,null,""]
[null,null,null,null,null,null,""]
[null,null,null,null,null,null,""]
[null,null,null,null,null,null,""]
[null,null,null,null,null,null,""]
[null,null,null,null,null,null,""]
[null,null,null,null,null,null,""]
[null,null,null,null,null,null,""]
[null,null,null,null,null,null,""]
[null,null,null,null,null,null,""]
[null,null,null,null,null,null,""]
[null,null,null,null,null,null,""]
[null,null,null,null,null,null,""]
[null,null,null,null,null,null,""]
[null,null,null,null,null,null,""]
[null,null,null,null,null,null,""]
[null,null,null,null,null,null,""]
[null,null,null,null,null,null,""]
[null,null,null,null,null,null,""]
[null,null,null,null,null,null,""]
[null,null,null,null,null,null,""]
[null,null,null,null,null,null,""]
[null,null,null,null,null,null,""]
[null,null,null,null,null,null,""]
[null,null,null,null,null,null,""]
[null,null,null,null,null,null,{"$f":"IF(C205=\"\",\"\",CONCATENATE(B205,\" \",C205,\" \",E205,\" \",F205))","v":""}]
[null,null,null,null,null,null,""]
[null,null,null,null,null,null,""]
[null,null,null,null,null,null,""]
[null,null,null,null,null,null,""]
[null,null,null,null,null,null,""]
[null,null,null,null,null,null,""]
[null,null,null,null,null,null,""]
[null,null,null,null,null,null,""]
[null,null,null,null,null,null,""]
[null,null,null,null,null,null,""]
[null,null,null,null,null,null,""]
[null,null,null,null,null,null,""]
[null,null,null,null,null,null,""]
[null,null,null,null,null,null,""]
[null,null,null,null,null,null,""]
[null,null,null,null,null,null,""]
[null,null,null,null,null,null,""]
[null,null,null,null,null,null,""]
[null,null,null,null,null,null,""]
[null,null,null,null,null,null,""]
[null,null,null,null,null,null,""]
[null,null,null,null,null,null,""]
[null,null,null,null,null,null,""]
[null,null,null,null,null,null,""]
[null,null,null,null,null,null,""]
[null,null,null,null,null,null,""]
[null,null,null,null,null,null,""]
[null,null,null,null,null,null,""]
[null,null,null,null,null,null,""]
[null,null,null,null,null,null,""]
[null,null,null,null,null,null,""]
[null,null,null,null,null,null,""]
[null,null,null,null,null,null,""]
[null,null,null,null,null,null,""]
[null,null,null,null,null,null,""]
[null,null,null,null,null,null,""]
[null,null,null,null,null,null,""]
[null,null,null,null,null,null,""]
[null,null,null,null,null,null,""]
[null,null,null,null,null,null,""]
[null,null,null,null,null,null,""]
[null,null,null,null,null,null,""]
[null,null,null,null,null,null,""]
[null,null,null,null,null,null,""]
[null,null,null,null,null,null,""]
[null,null,null,null,null,null,""]
[null,null,null,null,null,null,""]
[null,null,null,null,null,null,""]
[null,null,null,null,null,null,""]
[null,null,null,null,null,null,""]
[null,null,null,null,null,null,""]
[null,null,null,null,null,null,""]
[null,null,null,null,null,null,""]
[null,null,null,null,null,null,""]
[null,null,null,null,null,null,""]
[null,null,null,null,null,null,""]
[null,null,null,null,null,null,""]
[null,null,null,null,null,null,""]
[null,null,null,null,null,null,""]
[null,null,null,null,null,null,""]
[null,null,null,null,null,null,""]
[null,null,null,null,null,null,""]
[null,null,null,null,null,null,""]
[null,null,null,null,null,null,{"$f":"IF(C269=\"\",\"\",CONCATENATE(B269,\" \",C269,\" \",E269,\" \",F269))","v":""}]
[null,null,null,null,null,null,""]
[null,null,null,null,null,null,""]
[null,null,null,null,null,null,""]
[null,null,null,null,null,null,""]
[null,null,null,null,null,null,""]
[null,null,null,null,null,null,""]
[null,null,null,null,null,null,""]
[null,null,null,null,null,null,""]
[null,null,null,null,null,null,""]
[null,null,null,null,null,null,""]
[null,null,null,null,null,null,""]
[null,null,null,null,null,null,""]
[null,null,null,null,null,null,""]
[null,null,null,null,null,null,""]
[null,null,null,null,null,null,""]
[null,null,null,null,null,null,""]
[null,null,null,null,null,null,""]
[null,null,null,null,null,null,""]
[null,null,null,null,null,null,""]
[null,null,null,null,null,null,""]
[null,null,null,null,null,null,""]
[null,null,null,null,null,null,""]
[null,null,null,null,null,null,""]
[null,null,null,null,null,null,""]
[null,null,null,null,null,null,""]
[null,null,null,null,null,null,""]
[null,null,null,null,null,null,""]
[null,null,null,null,null,null,""]
[null,null,null,null,null,null,""]
[null,null,null,null,null,null,""]
[null,null,null,null,null,null,""]
[null,null,null,null,null,null,""]
[null,null,null,null,null,null,""]
[null,null,null,null,null,null,""]
[null,null,null,null,null,null,""]
[null,null,null,null,null,null,""]
[null,null,null,null,null,null,""]
[null,null,null,null,null,null,""]
[null,null,null,null,null,null,""]
[null,null,null,null,null,null,""]
[null,null,null,null,null,null,""]
[null,null,null,null,null,null,""]
[null,null,null,null,null,null,""]
[null,null,null,null,null,null,""]
[null,null,null,null,null,null,""]
[null,null,null,null,null,null,""]
[null,null,null,null,null,null,""]
[null,null,null,null,null,null,""]
[null,null,null,null,null,null,""]
[null,null,null,null,null,null,""]
[null,null,null,null,null,null,""]
[null,null,null,null,null,null,""]
[null,null,null,null,null,null,""]
[null,null,null,null,null,null,""]
[null,null,null,null,null,null,""]
[null,null,null,null,null,null,""]
[null,null,null,null,null,null,""]
[null,null,null,null,null,null,""]
[null,null,null,null,null,null,""]
[null,null,null,null,null,null,""]
[null,null,null,null,null,null,""]
[null,null,null,null,null,null,""]
[null,null,null,null,null,null,""]
[null,null,null,null,null,null,{"$f":"IF(C333=\"\",\"\",CONCATENATE(B333,\" \",C333,\" \",E333,\" \",F333))","v":""}]
[null,null,null,null,null,null,""]
[null,null,null,null,null,null,""]
[null,null,null,null,null,null,""]
[null,null,null,null,null,null,""]
[null,null,null,null,null,null,""]
[null,null,null,null,null,null,""]
[null,null,null,null,null,null,""]
[null,null,null,null,null,null,""]
[null,null,null,null,null,null,""]
[null,null,null,null,null,null,""]
[null,null,null,null,null,null,""]
[null,null,null,null,null,null,""]
[null,null,null,null,null,null,""]
[null,null,null,null,null,null,""]
[null,null,null,null,null,null,""]
[null,null,null,null,null,null,""]
[null,null,null,null,null,null,""]
[null,null,null,null,null,null,""]
[null,null,null,null,null,null,""]
[null,null,null,null,null,null,""]
[null,null,null,null,null,null,""]
[null,null,null,null,null,null,""]
[null,null,null,null,null,null,""]
[null,null,null,null,null,null,""]
[null,null,null,null,null,null,""]
[null,null,null,null,null,null,""]
[null,null,null,null,null,null,""]
[null,null,null,null,null,null,""]
[null,null,null,null,null,null,""]
[null,null,null,null,null,null,""]
[null,null,null,null,null,null,""]
[null,null,null,null,null,null,""]
[null,null,null,null,null,null,""]
[null,null,null,null,null,null,""]
[null,null,null,null,null,null,""]
[null,null,null,null,null,null,""]
[null,null,null,null,null,null,""]
[null,null,null,null,null,null,""]
[null,null,null,null,null,null,""]
[null,null,null,null,null,null,""]
[null,null,null,null,null,null,""]
[null,null,null,null,null,null,""]
[null,null,null,null,null,null,""]
[null,null,null,null,null,null,""]
[null,null,null,null,null,null,""]
[null,null,null,null,null,null,""]
[null,null,null,null,null,null,""]
[null,null,null,null,null,null,""]
[null,null,null,null,null,null,""]
[null,null,null,null,null,null,""]
[null,null,null,null,null,null,""]
[null,null,null,null,null,null,""]
[null,null,null,null,null,null,""]
[null,null,null,null,null,null,""]
[null,null,null,null,null,null,""]
[null,null,null,null,null,null,""]
[null,null,null,null,null,null,""]
[null,null,null,null,null,null,""]
[null,null,null,null,null,null,""]
[null,null,null,null,null,null,""]
[null,null,null,null,null,null,""]
[null,null,null,null,null,null,""]
[null,null,null,null,null,null,""]
[null,null,null,null,null,null,{"$f":"IF(C397=\"\",\"\",CONCATENATE(B397,\" \",C397,\" \",E397,\" \",F397))","v":""}]
[null,null,null,null,null,null,""]
[null,null,null,null,null,null,""]
[null,null,null,null,null,null,""]
[null,null,null,null,null,null,""]
[null,null,null,null,null,null,""]
[null,null,null,null,null,null,""]
[null,null,null,null,null,null,""]
[null,null,null,null,null,null,""]
[null,null,null,null,null,null,""]
[null,null,null,null,null,null,""]
[null,null,null,null,null,null,""]
[null,null,null,null,null,null,""]
[null,null,null,null,null,null,""]
[null,null,null,null,null,null,""]
[null,null,null,null,null,null,""]
[null,null,null,null,null,null,""]
[null,null,null,null,null,null,""]
[null,null,null,null,null,null,""]
[null,null,null,null,null,null,""]
[null,null,null,null,null,null,""]
[null,null,null,null,null,null,""]
[null,null,null,null,null,null,""]
[null,null,null,null,null,null,""]
[null,null,null,null,null,null,""]
[null,null,null,null,null,null,""]
[null,null,null,null,null,null,""]
[null,null,null,null,null,null,""]
[null,null,null,null,null,null,""]
[null,null,null,null,null,null,""]
[null,null,null,null,null,null,""]
[null,null,null,null,null,null,""]
[null,null,null,null,null,null,""]
[null,null,null,null,null,null,""]
[null,null,null,null,null,null,""]
[null,null,null,null,null,null,""]
[null,null,null,null,null,null,""]
[null,null,null,null,null,null,""]
[null,null,null,null,null,null,""]
[null,null,null,null,null,null,""]
[null,null,null,null,null,null,""]
[null,null,null,null,null,null,""]
[null,null,null,null,null,null,""]
[null,null,null,null,null,null,""]
[null,null,null,null,null,null,""]
[null,null,null,null,null,null,""]
[null,null,null,null,null,null,""]
[null,null,null,null,null,null,""]
[null,null,null,null,null,null,""]
[null,null,null,null,null,null,""]
[null,null,null,null,null,null,""]
[null,null,null,null,null,null,""]
[null,null,null,null,null,null,""]
[null,null,null,null,null,null,""]
[null,null,null,null,null,null,""]
[null,null,null,null,null,null,""]
[null,null,null,null,null,null,""]
[null,null,null,null,null,null,""]
[null,null,null,null,null,null,""]
[null,null,null,null,null,null,""]
[null,null,null,null,null,null,""]
[null,null,null,null,null,null,""]
[null,null,null,null,null,null,""]
[null,null,null,null,null,null,""]
[null,null,null,null,null,null,{"$f":"IF(C461=\"\",\"\",CONCATENATE(B461,\" \",C461,\" \",E461,\" \",F461))","v":""}]
[null,null,null,null,null,null,""]
[null,null,null,null,null,null,""]
[null,null,null,null,null,null,""]
[null,null,null,null,null,null,""]
[null,null,null,null,null,null,""]
[null,null,null,null,null,null,""]
[null,null,null,null,null,null,""]
[null,null,null,null,null,null,""]
[null,null,null,null,null,null,""]
[null,null,null,null,null,null,""]
[null,null,null,null,null,null,""]
[null,null,null,null,null,null,""]
[null,null,null,null,null,null,""]
[null,null,null,null,null,null,""]
[null,null,null,null,null,null,""]
[null,null,null,null,null,null,""]
[null,null,null,null,null,null,""]
[null,null,null,null,null,null,""]
[null,null,null,null,null,null,""]
[null,null,null,null,null,null,""]
[null,null,null,null,null,null,""]
[null,null,null,null,null,null,""]
[null,null,null,null,null,null,""]
[null,null,null,null,null,null,""]
[null,null,null,null,null,null,""]
[null,null,null,null,null,null,""]
[null,null,null,null,null,null,""]
[null,null,null,null,null,null,""]
[null,null,null,null,null,null,""]
[null,null,null,null,null,null,""]
[null,null,null,null,null,null,""]
[null,null,null,null,null,null,""]
[null,null,null,null,null,null,""]
[null,null,null,null,null,null,""]
[null,null,null,null,null,null,""]
[null,null,null,null,null,null,""]
[null,null,null,null,null,null,""]
[null,null,null,null,null,null,""]
[null,null,null,null,null,null,""]
[null,null,null,null,null,null,""]
[null,null,null,null,null,null,""]
[null,null,null,null,null,null,""]
[null,null,null,null,null,null,""]
[null,null,null,null,null,null,""]
[null,null,null,null,null,null,""]
[null,null,null,null,null,null,""]
[null,null,null,null,null,null,""]
[null,null,null,null,null,null,""]
[null,null,null,null,null,null,""]
[null,null,null,null,null,null,""]
[null,null,null,null,null,null,""]
[null,null,null,null,null,null,""]
[null,null,null,null,null,null,""]
[null,null,null,null,null,null,""]
[null,null,null,null,null,null,""]
[null,null,null,null,null,null,""]
[null,null,null,null,null,null,""]
[null,null,null,null,null,null,""]
[null,null,null,null,null,null,""]
[null,null,null,null,null,null,""]
[null,null,null,null,null,null,""]
[null,null,null,null,null,null,""]

{"sheet":"CMS_Malfunction","index":5,"n_rows":1023,"n_cols":10,"rows_kept":1023,"cut":false,"hidden":false,"merged":[]}
[null,"DO NOT REMOVE OR EDIT INFORMATION IN ROWS 1 THROUGH 5\nFOR INTERNAL USE ONLY"]
[null,"Template Name",{"$f":"Welcome!B2","v":"63.2386(a), (c), and (d) Compliance Report (Spreadsheet Template)"}]
[null,"CitationID",{"$f":"Welcome!B3","v":"63.2386(a), (c), and (d)"}]
[null,"Template Version",{"$f":"Welcome!B4","v":"v1.01"}]
[null,"Last Updated Date",{"$f":"Welcome!B5","v":"2024-04-09"}]
[]
[null,null,{"$f":"Company_Information!B7","v":"40 CFR Part 63, Subpart EEEE National Emission Standards for Hazardous Air Pollutants: Organic Liquids Distribution (Non-Gasoline)"}]
[null,null,{"$f":"Company_Information!B8","v":"§63.2386(a), (c), and (d) Compliance Report Spreadsheet Template"}]
[null,null,"This tab contains information on CMS malfunction events."]
[null,null,"Note: Affected CMS selections appear once information is added to the CMS_Identification worksheet. The Company Record No. is hidden and will autopopulate from the selection of the Affected CMS."]
[]
[null,"Company Record No.\n(Autofilled)","Affected CMS\n(§63.2386(d)(1)(ix))\n(Select from dropdown)","Nature\n(§63.2386(d)(1)(i))","Cause (if known)\n(§63.2386(d)(1)(i))","Start Date of Malfunction\n(§63.2386(d)(1)(i))","Start Time of Malfunction\n(§63.2386(d)(1)(i))","End Date of Malfunction\n(§63.2386(d)(1)(i))","End Time of Malfunction\n(§63.2386(d)(1)(i))","Comments or Additional Information"]
[null,"RecordId","CMSDescription","MalfunctionNature","MalfunctionReason","MalfunctionStartDate","MalfunctionStartTime","MalfunctionEndDate","MalfunctionEndTime","CMSMalfunctionComments"]
[null,"e.g.: 1","e.g.: 1 Tank 300B Manufacturer 2020AB","e.g.: thermocouple stopped reading","e.g.: power surge from lightning strike","e.g.: 01/05/20","e.g.: 1:30 PM","e.g.: 01/05/20","e.g.: 2:30 PM","e.g.:"]
[null,null,"e.g.","e.g.","e.g.","e.g.","e.g.","e.g.","e.g.","e.g."]
[null,null,"e.g.","e.g.","e.g.","e.g.","e.g.","e.g.","e.g.","e.g."]
[null,null,"e.g.","e.g.","e.g.","e.g.","e.g.","e.g.","e.g.","e.g."]
[null,null,"e.g.","e.g.","e.g.","e.g.","e.g.","e.g.","e.g.","e.g."]
[null,null,"e.g.","e.g.","e.g.","e.g.","e.g.","e.g.","e.g.","e.g."]
[null,null,"e.g.","e.g.","e.g.","e.g.","e.g.","e.g.","e.g.","e.g."]
[null,null,"e.g.","e.g.","e.g.","e.g.","e.g.","e.g.","e.g.","e.g."]
[null,null,"e.g.","e.g.","e.g.","e.g.","e.g.","e.g.","e.g.","e.g."]
[null,null,"e.g.","e.g.","e.g.","e.g.","e.g.","e.g.","e.g.","e.g."]
[null,{"$f":"IF(Table23[[#This Row],[Affected CMS\n(§63.2386(d)(1)(ix))\n(Select from dropdown)]]=\"\",\"\",VLOOKUP(Table23[[#This Row],[Affected CMS\n(§63.2386(d)(1)(ix))\n(Select from dropdown)]],Table22[],2,FALSE))","v":""}]
[null,{"$f":"IF(Table23[[#This Row],[Affected CMS\n(§63.2386(d)(1)(ix))\n(Select from dropdown)]]=\"\",\"\",VLOOKUP(Table23[[#This Row],[Affected CMS\n(§63.2386(d)(1)(ix))\n(Select from dropdown)]],Table22[],2,FALSE))","v":""}]
[null,{"$f":"IF(Table23[[#This Row],[Affected CMS\n(§63.2386(d)(1)(ix))\n(Select from dropdown)]]=\"\",\"\",VLOOKUP(Table23[[#This Row],[Affected CMS\n(§63.2386(d)(1)(ix))\n(Select from dropdown)]],Table22[],2,FALSE))","v":""}]
[null,{"$f":"IF(Table23[[#This Row],[Affected CMS\n(§63.2386(d)(1)(ix))\n(Select from dropdown)]]=\"\",\"\",VLOOKUP(Table23[[#This Row],[Affected CMS\n(§63.2386(d)(1)(ix))\n(Select from dropdown)]],Table22[],2,FALSE))","v":""}]
[null,{"$f":"IF(Table23[[#This Row],[Affected CMS\n(§63.2386(d)(1)(ix))\n(Select from dropdown)]]=\"\",\"\",VLOOKUP(Table23[[#This Row],[Affected CMS\n(§63.2386(d)(1)(ix))\n(Select from dropdown)]],Table22[],2,FALSE))","v":""}]
[null,{"$f":"IF(Table23[[#This Row],[Affected CMS\n(§63.2386(d)(1)(ix))\n(Select from dropdown)]]=\"\",\"\",VLOOKUP(Table23[[#This Row],[Affected CMS\n(§63.2386(d)(1)(ix))\n(Select from dropdown)]],Table22[],2,FALSE))","v":""}]
[null,{"$f":"IF(Table23[[#This Row],[Affected CMS\n(§63.2386(d)(1)(ix))\n(Select from dropdown)]]=\"\",\"\",VLOOKUP(Table23[[#This Row],[Affected CMS\n(§63.2386(d)(1)(ix))\n(Select from dropdown)]],Table22[],2,FALSE))","v":""}]
[null,{"$f":"IF(Table23[[#This Row],[Affected CMS\n(§63.2386(d)(1)(ix))\n(Select from dropdown)]]=\"\",\"\",VLOOKUP(Table23[[#This Row],[Affected CMS\n(§63.2386(d)(1)(ix))\n(Select from dropdown)]],Table22[],2,FALSE))","v":""}]
[null,{"$f":"IF(Table23[[#This Row],[Affected CMS\n(§63.2386(d)(1)(ix))\n(Select from dropdown)]]=\"\",\"\",VLOOKUP(Table23[[#This Row],[Affected CMS\n(§63.2386(d)(1)(ix))\n(Select from dropdown)]],Table22[],2,FALSE))","v":""}]
[null,{"$f":"IF(Table23[[#This Row],[Affected CMS\n(§63.2386(d)(1)(ix))\n(Select from dropdown)]]=\"\",\"\",VLOOKUP(Table23[[#This Row],[Affected CMS\n(§63.2386(d)(1)(ix))\n(Select from dropdown)]],Table22[],2,FALSE))","v":""}]
[null,{"$f":"IF(Table23[[#This Row],[Affected CMS\n(§63.2386(d)(1)(ix))\n(Select from dropdown)]]=\"\",\"\",VLOOKUP(Table23[[#This Row],[Affected CMS\n(§63.2386(d)(1)(ix))\n(Select from dropdown)]],Table22[],2,FALSE))","v":""}]
[null,{"$f":"IF(Table23[[#This Row],[Affected CMS\n(§63.2386(d)(1)(ix))\n(Select from dropdown)]]=\"\",\"\",VLOOKUP(Table23[[#This Row],[Affected CMS\n(§63.2386(d)(1)(ix))\n(Select from dropdown)]],Table22[],2,FALSE))","v":""}]
[null,{"$f":"IF(Table23[[#This Row],[Affected CMS\n(§63.2386(d)(1)(ix))\n(Select from dropdown)]]=\"\",\"\",VLOOKUP(Table23[[#This Row],[Affected CMS\n(§63.2386(d)(1)(ix))\n(Select from dropdown)]],Table22[],2,FALSE))","v":""}]
[null,{"$f":"IF(Table23[[#This Row],[Affected CMS\n(§63.2386(d)(1)(ix))\n(Select from dropdown)]]=\"\",\"\",VLOOKUP(Table23[[#This Row],[Affected CMS\n(§63.2386(d)(1)(ix))\n(Select from dropdown)]],Table22[],2,FALSE))","v":""}]
[null,{"$f":"IF(Table23[[#This Row],[Affected CMS\n(§63.2386(d)(1)(ix))\n(Select from dropdown)]]=\"\",\"\",VLOOKUP(Table23[[#This Row],[Affected CMS\n(§63.2386(d)(1)(ix))\n(Select from dropdown)]],Table22[],2,FALSE))","v":""}]
[null,{"$f":"IF(Table23[[#This Row],[Affected CMS\n(§63.2386(d)(1)(ix))\n(Select from dropdown)]]=\"\",\"\",VLOOKUP(Table23[[#This Row],[Affected CMS\n(§63.2386(d)(1)(ix))\n(Select from dropdown)]],Table22[],2,FALSE))","v":""}]
[null,{"$f":"IF(Table23[[#This Row],[Affected CMS\n(§63.2386(d)(1)(ix))\n(Select from dropdown)]]=\"\",\"\",VLOOKUP(Table23[[#This Row],[Affected CMS\n(§63.2386(d)(1)(ix))\n(Select from dropdown)]],Table22[],2,FALSE))","v":""}]
[null,{"$f":"IF(Table23[[#This Row],[Affected CMS\n(§63.2386(d)(1)(ix))\n(Select from dropdown)]]=\"\",\"\",VLOOKUP(Table23[[#This Row],[Affected CMS\n(§63.2386(d)(1)(ix))\n(Select from dropdown)]],Table22[],2,FALSE))","v":""}]
[null,{"$f":"IF(Table23[[#This Row],[Affected CMS\n(§63.2386(d)(1)(ix))\n(Select from dropdown)]]=\"\",\"\",VLOOKUP(Table23[[#This Row],[Affected CMS\n(§63.2386(d)(1)(ix))\n(Select from dropdown)]],Table22[],2,FALSE))","v":""}]
[null,{"$f":"IF(Table23[[#This Row],[Affected CMS\n(§63.2386(d)(1)(ix))\n(Select from dropdown)]]=\"\",\"\",VLOOKUP(Table23[[#This Row],[Affected CMS\n(§63.2386(d)(1)(ix))\n(Select from dropdown)]],Table22[],2,FALSE))","v":""}]
[null,{"$f":"IF(Table23[[#This Row],[Affected CMS\n(§63.2386(d)(1)(ix))\n(Select from dropdown)]]=\"\",\"\",VLOOKUP(Table23[[#This Row],[Affected CMS\n(§63.2386(d)(1)(ix))\n(Select from dropdown)]],Table22[],2,FALSE))","v":""}]
[null,{"$f":"IF(Table23[[#This Row],[Affected CMS\n(§63.2386(d)(1)(ix))\n(Select from dropdown)]]=\"\",\"\",VLOOKUP(Table23[[#This Row],[Affected CMS\n(§63.2386(d)(1)(ix))\n(Select from dropdown)]],Table22[],2,FALSE))","v":""}]
[null,{"$f":"IF(Table23[[#This Row],[Affected CMS\n(§63.2386(d)(1)(ix))\n(Select from dropdown)]]=\"\",\"\",VLOOKUP(Table23[[#This Row],[Affected CMS\n(§63.2386(d)(1)(ix))\n(Select from dropdown)]],Table22[],2,FALSE))","v":""}]
[null,{"$f":"IF(Table23[[#This Row],[Affected CMS\n(§63.2386(d)(1)(ix))\n(Select from dropdown)]]=\"\",\"\",VLOOKUP(Table23[[#This Row],[Affected CMS\n(§63.2386(d)(1)(ix))\n(Select from dropdown)]],Table22[],2,FALSE))","v":""}]
[null,{"$f":"IF(Table23[[#This Row],[Affected CMS\n(§63.2386(d)(1)(ix))\n(Select from dropdown)]]=\"\",\"\",VLOOKUP(Table23[[#This Row],[Affected CMS\n(§63.2386(d)(1)(ix))\n(Select from dropdown)]],Table22[],2,FALSE))","v":""}]
[null,{"$f":"IF(Table23[[#This Row],[Affected CMS\n(§63.2386(d)(1)(ix))\n(Select from dropdown)]]=\"\",\"\",VLOOKUP(Table23[[#This Row],[Affected CMS\n(§63.2386(d)(1)(ix))\n(Select from dropdown)]],Table22[],2,FALSE))","v":""}]
[null,{"$f":"IF(Table23[[#This Row],[Affected CMS\n(§63.2386(d)(1)(ix))\n(Select from dropdown)]]=\"\",\"\",VLOOKUP(Table23[[#This Row],[Affected CMS\n(§63.2386(d)(1)(ix))\n(Select from dropdown)]],Table22[],2,FALSE))","v":""}]
[null,{"$f":"IF(Table23[[#This Row],[Affected CMS\n(§63.2386(d)(1)(ix))\n(Select from dropdown)]]=\"\",\"\",VLOOKUP(Table23[[#This Row],[Affected CMS\n(§63.2386(d)(1)(ix))\n(Select from dropdown)]],Table22[],2,FALSE))","v":""}]
[null,{"$f":"IF(Table23[[#This Row],[Affected CMS\n(§63.2386(d)(1)(ix))\n(Select from dropdown)]]=\"\",\"\",VLOOKUP(Table23[[#This Row],[Affected CMS\n(§63.2386(d)(1)(ix))\n(Select from dropdown)]],Table22[],2,FALSE))","v":""}]
[null,{"$f":"IF(Table23[[#This Row],[Affected CMS\n(§63.2386(d)(1)(ix))\n(Select from dropdown)]]=\"\",\"\",VLOOKUP(Table23[[#This Row],[Affected CMS\n(§63.2386(d)(1)(ix))\n(Select from dropdown)]],Table22[],2,FALSE))","v":""}]
[null,{"$f":"IF(Table23[[#This Row],[Affected CMS\n(§63.2386(d)(1)(ix))\n(Select from dropdown)]]=\"\",\"\",VLOOKUP(Table23[[#This Row],[Affected CMS\n(§63.2386(d)(1)(ix))\n(Select from dropdown)]],Table22[],2,FALSE))","v":""}]
[null,{"$f":"IF(Table23[[#This Row],[Affected CMS\n(§63.2386(d)(1)(ix))\n(Select from dropdown)]]=\"\",\"\",VLOOKUP(Table23[[#This Row],[Affected CMS\n(§63.2386(d)(1)(ix))\n(Select from dropdown)]],Table22[],2,FALSE))","v":""}]
[null,{"$f":"IF(Table23[[#This Row],[Affected CMS\n(§63.2386(d)(1)(ix))\n(Select from dropdown)]]=\"\",\"\",VLOOKUP(Table23[[#This Row],[Affected CMS\n(§63.2386(d)(1)(ix))\n(Select from dropdown)]],Table22[],2,FALSE))","v":""}]
[null,{"$f":"IF(Table23[[#This Row],[Affected CMS\n(§63.2386(d)(1)(ix))\n(Select from dropdown)]]=\"\",\"\",VLOOKUP(Table23[[#This Row],[Affected CMS\n(§63.2386(d)(1)(ix))\n(Select from dropdown)]],Table22[],2,FALSE))","v":""}]
[null,{"$f":"IF(Table23[[#This Row],[Affected CMS\n(§63.2386(d)(1)(ix))\n(Select from dropdown)]]=\"\",\"\",VLOOKUP(Table23[[#This Row],[Affected CMS\n(§63.2386(d)(1)(ix))\n(Select from dropdown)]],Table22[],2,FALSE))","v":""}]
[null,{"$f":"IF(Table23[[#This Row],[Affected CMS\n(§63.2386(d)(1)(ix))\n(Select from dropdown)]]=\"\",\"\",VLOOKUP(Table23[[#This Row],[Affected CMS\n(§63.2386(d)(1)(ix))\n(Select from dropdown)]],Table22[],2,FALSE))","v":""}]
[null,{"$f":"IF(Table23[[#This Row],[Affected CMS\n(§63.2386(d)(1)(ix))\n(Select from dropdown)]]=\"\",\"\",VLOOKUP(Table23[[#This Row],[Affected CMS\n(§63.2386(d)(1)(ix))\n(Select from dropdown)]],Table22[],2,FALSE))","v":""}]
[null,{"$f":"IF(Table23[[#This Row],[Affected CMS\n(§63.2386(d)(1)(ix))\n(Select from dropdown)]]=\"\",\"\",VLOOKUP(Table23[[#This Row],[Affected CMS\n(§63.2386(d)(1)(ix))\n(Select from dropdown)]],Table22[],2,FALSE))","v":""}]
[null,{"$f":"IF(Table23[[#This Row],[Affected CMS\n(§63.2386(d)(1)(ix))\n(Select from dropdown)]]=\"\",\"\",VLOOKUP(Table23[[#This Row],[Affected CMS\n(§63.2386(d)(1)(ix))\n(Select from dropdown)]],Table22[],2,FALSE))","v":""}]
[null,{"$f":"IF(Table23[[#This Row],[Affected CMS\n(§63.2386(d)(1)(ix))\n(Select from dropdown)]]=\"\",\"\",VLOOKUP(Table23[[#This Row],[Affected CMS\n(§63.2386(d)(1)(ix))\n(Select from dropdown)]],Table22[],2,FALSE))","v":""}]
[null,{"$f":"IF(Table23[[#This Row],[Affected CMS\n(§63.2386(d)(1)(ix))\n(Select from dropdown)]]=\"\",\"\",VLOOKUP(Table23[[#This Row],[Affected CMS\n(§63.2386(d)(1)(ix))\n(Select from dropdown)]],Table22[],2,FALSE))","v":""}]
[null,{"$f":"IF(Table23[[#This Row],[Affected CMS\n(§63.2386(d)(1)(ix))\n(Select from dropdown)]]=\"\",\"\",VLOOKUP(Table23[[#This Row],[Affected CMS\n(§63.2386(d)(1)(ix))\n(Select from dropdown)]],Table22[],2,FALSE))","v":""}]
[null,{"$f":"IF(Table23[[#This Row],[Affected CMS\n(§63.2386(d)(1)(ix))\n(Select from dropdown)]]=\"\",\"\",VLOOKUP(Table23[[#This Row],[Affected CMS\n(§63.2386(d)(1)(ix))\n(Select from dropdown)]],Table22[],2,FALSE))","v":""}]
[null,{"$f":"IF(Table23[[#This Row],[Affected CMS\n(§63.2386(d)(1)(ix))\n(Select from dropdown)]]=\"\",\"\",VLOOKUP(Table23[[#This Row],[Affected CMS\n(§63.2386(d)(1)(ix))\n(Select from dropdown)]],Table22[],2,FALSE))","v":""}]
[null,{"$f":"IF(Table23[[#This Row],[Affected CMS\n(§63.2386(d)(1)(ix))\n(Select from dropdown)]]=\"\",\"\",VLOOKUP(Table23[[#This Row],[Affected CMS\n(§63.2386(d)(1)(ix))\n(Select from dropdown)]],Table22[],2,FALSE))","v":""}]
[null,{"$f":"IF(Table23[[#This Row],[Affected CMS\n(§63.2386(d)(1)(ix))\n(Select from dropdown)]]=\"\",\"\",VLOOKUP(Table23[[#This Row],[Affected CMS\n(§63.2386(d)(1)(ix))\n(Select from dropdown)]],Table22[],2,FALSE))","v":""}]
[null,{"$f":"IF(Table23[[#This Row],[Affected CMS\n(§63.2386(d)(1)(ix))\n(Select from dropdown)]]=\"\",\"\",VLOOKUP(Table23[[#This Row],[Affected CMS\n(§63.2386(d)(1)(ix))\n(Select from dropdown)]],Table22[],2,FALSE))","v":""}]
[null,{"$f":"IF(Table23[[#This Row],[Affected CMS\n(§63.2386(d)(1)(ix))\n(Select from dropdown)]]=\"\",\"\",VLOOKUP(Table23[[#This Row],[Affected CMS\n(§63.2386(d)(1)(ix))\n(Select from dropdown)]],Table22[],2,FALSE))","v":""}]
[null,{"$f":"IF(Table23[[#This Row],[Affected CMS\n(§63.2386(d)(1)(ix))\n(Select from dropdown)]]=\"\",\"\",VLOOKUP(Table23[[#This Row],[Affected CMS\n(§63.2386(d)(1)(ix))\n(Select from dropdown)]],Table22[],2,FALSE))","v":""}]
[null,{"$f":"IF(Table23[[#This Row],[Affected CMS\n(§63.2386(d)(1)(ix))\n(Select from dropdown)]]=\"\",\"\",VLOOKUP(Table23[[#This Row],[Affected CMS\n(§63.2386(d)(1)(ix))\n(Select from dropdown)]],Table22[],2,FALSE))","v":""}]
[null,{"$f":"IF(Table23[[#This Row],[Affected CMS\n(§63.2386(d)(1)(ix))\n(Select from dropdown)]]=\"\",\"\",VLOOKUP(Table23[[#This Row],[Affected CMS\n(§63.2386(d)(1)(ix))\n(Select from dropdown)]],Table22[],2,FALSE))","v":""}]
[null,{"$f":"IF(Table23[[#This Row],[Affected CMS\n(§63.2386(d)(1)(ix))\n(Select from dropdown)]]=\"\",\"\",VLOOKUP(Table23[[#This Row],[Affected CMS\n(§63.2386(d)(1)(ix))\n(Select from dropdown)]],Table22[],2,FALSE))","v":""}]
[null,{"$f":"IF(Table23[[#This Row],[Affected CMS\n(§63.2386(d)(1)(ix))\n(Select from dropdown)]]=\"\",\"\",VLOOKUP(Table23[[#This Row],[Affected CMS\n(§63.2386(d)(1)(ix))\n(Select from dropdown)]],Table22[],2,FALSE))","v":""}]
[null,{"$f":"IF(Table23[[#This Row],[Affected CMS\n(§63.2386(d)(1)(ix))\n(Select from dropdown)]]=\"\",\"\",VLOOKUP(Table23[[#This Row],[Affected CMS\n(§63.2386(d)(1)(ix))\n(Select from dropdown)]],Table22[],2,FALSE))","v":""}]
[null,{"$f":"IF(Table23[[#This Row],[Affected CMS\n(§63.2386(d)(1)(ix))\n(Select from dropdown)]]=\"\",\"\",VLOOKUP(Table23[[#This Row],[Affected CMS\n(§63.2386(d)(1)(ix))\n(Select from dropdown)]],Table22[],2,FALSE))","v":""}]
[null,{"$f":"IF(Table23[[#This Row],[Affected CMS\n(§63.2386(d)(1)(ix))\n(Select from dropdown)]]=\"\",\"\",VLOOKUP(Table23[[#This Row],[Affected CMS\n(§63.2386(d)(1)(ix))\n(Select from dropdown)]],Table22[],2,FALSE))","v":""}]
[null,{"$f":"IF(Table23[[#This Row],[Affected CMS\n(§63.2386(d)(1)(ix))\n(Select from dropdown)]]=\"\",\"\",VLOOKUP(Table23[[#This Row],[Affected CMS\n(§63.2386(d)(1)(ix))\n(Select from dropdown)]],Table22[],2,FALSE))","v":""}]
[null,{"$f":"IF(Table23[[#This Row],[Affected CMS\n(§63.2386(d)(1)(ix))\n(Select from dropdown)]]=\"\",\"\",VLOOKUP(Table23[[#This Row],[Affected CMS\n(§63.2386(d)(1)(ix))\n(Select from dropdown)]],Table22[],2,FALSE))","v":""}]
[null,{"$f":"IF(Table23[[#This Row],[Affected CMS\n(§63.2386(d)(1)(ix))\n(Select from dropdown)]]=\"\",\"\",VLOOKUP(Table23[[#This Row],[Affected CMS\n(§63.2386(d)(1)(ix))\n(Select from dropdown)]],Table22[],2,FALSE))","v":""}]
[null,{"$f":"IF(Table23[[#This Row],[Affected CMS\n(§63.2386(d)(1)(ix))\n(Select from dropdown)]]=\"\",\"\",VLOOKUP(Table23[[#This Row],[Affected CMS\n(§63.2386(d)(1)(ix))\n(Select from dropdown)]],Table22[],2,FALSE))","v":""}]
[null,{"$f":"IF(Table23[[#This Row],[Affected CMS\n(§63.2386(d)(1)(ix))\n(Select from dropdown)]]=\"\",\"\",VLOOKUP(Table23[[#This Row],[Affected CMS\n(§63.2386(d)(1)(ix))\n(Select from dropdown)]],Table22[],2,FALSE))","v":""}]
[null,{"$f":"IF(Table23[[#This Row],[Affected CMS\n(§63.2386(d)(1)(ix))\n(Select from dropdown)]]=\"\",\"\",VLOOKUP(Table23[[#This Row],[Affected CMS\n(§63.2386(d)(1)(ix))\n(Select from dropdown)]],Table22[],2,FALSE))","v":""}]
[null,{"$f":"IF(Table23[[#This Row],[Affected CMS\n(§63.2386(d)(1)(ix))\n(Select from dropdown)]]=\"\",\"\",VLOOKUP(Table23[[#This Row],[Affected CMS\n(§63.2386(d)(1)(ix))\n(Select from dropdown)]],Table22[],2,FALSE))","v":""}]
[null,{"$f":"IF(Table23[[#This Row],[Affected CMS\n(§63.2386(d)(1)(ix))\n(Select from dropdown)]]=\"\",\"\",VLOOKUP(Table23[[#This Row],[Affected CMS\n(§63.2386(d)(1)(ix))\n(Select from dropdown)]],Table22[],2,FALSE))","v":""}]
[null,{"$f":"IF(Table23[[#This Row],[Affected CMS\n(§63.2386(d)(1)(ix))\n(Select from dropdown)]]=\"\",\"\",VLOOKUP(Table23[[#This Row],[Affected CMS\n(§63.2386(d)(1)(ix))\n(Select from dropdown)]],Table22[],2,FALSE))","v":""}]
[null,{"$f":"IF(Table23[[#This Row],[Affected CMS\n(§63.2386(d)(1)(ix))\n(Select from dropdown)]]=\"\",\"\",VLOOKUP(Table23[[#This Row],[Affected CMS\n(§63.2386(d)(1)(ix))\n(Select from dropdown)]],Table22[],2,FALSE))","v":""}]
[null,{"$f":"IF(Table23[[#This Row],[Affected CMS\n(§63.2386(d)(1)(ix))\n(Select from dropdown)]]=\"\",\"\",VLOOKUP(Table23[[#This Row],[Affected CMS\n(§63.2386(d)(1)(ix))\n(Select from dropdown)]],Table22[],2,FALSE))","v":""}]
[null,{"$f":"IF(Table23[[#This Row],[Affected CMS\n(§63.2386(d)(1)(ix))\n(Select from dropdown)]]=\"\",\"\",VLOOKUP(Table23[[#This Row],[Affected CMS\n(§63.2386(d)(1)(ix))\n(Select from dropdown)]],Table22[],2,FALSE))","v":""}]
[null,{"$f":"IF(Table23[[#This Row],[Affected CMS\n(§63.2386(d)(1)(ix))\n(Select from dropdown)]]=\"\",\"\",VLOOKUP(Table23[[#This Row],[Affected CMS\n(§63.2386(d)(1)(ix))\n(Select from dropdown)]],Table22[],2,FALSE))","v":""}]
[null,{"$f":"IF(Table23[[#This Row],[Affected CMS\n(§63.2386(d)(1)(ix))\n(Select from dropdown)]]=\"\",\"\",VLOOKUP(Table23[[#This Row],[Affected CMS\n(§63.2386(d)(1)(ix))\n(Select from dropdown)]],Table22[],2,FALSE))","v":""}]
[null,{"$f":"IF(Table23[[#This Row],[Affected CMS\n(§63.2386(d)(1)(ix))\n(Select from dropdown)]]=\"\",\"\",VLOOKUP(Table23[[#This Row],[Affected CMS\n(§63.2386(d)(1)(ix))\n(Select from dropdown)]],Table22[],2,FALSE))","v":""}]
[null,{"$f":"IF(Table23[[#This Row],[Affected CMS\n(§63.2386(d)(1)(ix))\n(Select from dropdown)]]=\"\",\"\",VLOOKUP(Table23[[#This Row],[Affected CMS\n(§63.2386(d)(1)(ix))\n(Select from dropdown)]],Table22[],2,FALSE))","v":""}]
[null,{"$f":"IF(Table23[[#This Row],[Affected CMS\n(§63.2386(d)(1)(ix))\n(Select from dropdown)]]=\"\",\"\",VLOOKUP(Table23[[#This Row],[Affected CMS\n(§63.2386(d)(1)(ix))\n(Select from dropdown)]],Table22[],2,FALSE))","v":""}]
[null,{"$f":"IF(Table23[[#This Row],[Affected CMS\n(§63.2386(d)(1)(ix))\n(Select from dropdown)]]=\"\",\"\",VLOOKUP(Table23[[#This Row],[Affected CMS\n(§63.2386(d)(1)(ix))\n(Select from dropdown)]],Table22[],2,FALSE))","v":""}]
[null,{"$f":"IF(Table23[[#This Row],[Affected CMS\n(§63.2386(d)(1)(ix))\n(Select from dropdown)]]=\"\",\"\",VLOOKUP(Table23[[#This Row],[Affected CMS\n(§63.2386(d)(1)(ix))\n(Select from dropdown)]],Table22[],2,FALSE))","v":""}]
[null,{"$f":"IF(Table23[[#This Row],[Affected CMS\n(§63.2386(d)(1)(ix))\n(Select from dropdown)]]=\"\",\"\",VLOOKUP(Table23[[#This Row],[Affected CMS\n(§63.2386(d)(1)(ix))\n(Select from dropdown)]],Table22[],2,FALSE))","v":""}]
[null,{"$f":"IF(Table23[[#This Row],[Affected CMS\n(§63.2386(d)(1)(ix))\n(Select from dropdown)]]=\"\",\"\",VLOOKUP(Table23[[#This Row],[Affected CMS\n(§63.2386(d)(1)(ix))\n(Select from dropdown)]],Table22[],2,FALSE))","v":""}]
[null,{"$f":"IF(Table23[[#This Row],[Affected CMS\n(§63.2386(d)(1)(ix))\n(Select from dropdown)]]=\"\",\"\",VLOOKUP(Table23[[#This Row],[Affected CMS\n(§63.2386(d)(1)(ix))\n(Select from dropdown)]],Table22[],2,FALSE))","v":""}]
[null,{"$f":"IF(Table23[[#This Row],[Affected CMS\n(§63.2386(d)(1)(ix))\n(Select from dropdown)]]=\"\",\"\",VLOOKUP(Table23[[#This Row],[Affected CMS\n(§63.2386(d)(1)(ix))\n(Select from dropdown)]],Table22[],2,FALSE))","v":""}]
[null,{"$f":"IF(Table23[[#This Row],[Affected CMS\n(§63.2386(d)(1)(ix))\n(Select from dropdown)]]=\"\",\"\",VLOOKUP(Table23[[#This Row],[Affected CMS\n(§63.2386(d)(1)(ix))\n(Select from dropdown)]],Table22[],2,FALSE))","v":""}]
[null,{"$f":"IF(Table23[[#This Row],[Affected CMS\n(§63.2386(d)(1)(ix))\n(Select from dropdown)]]=\"\",\"\",VLOOKUP(Table23[[#This Row],[Affected CMS\n(§63.2386(d)(1)(ix))\n(Select from dropdown)]],Table22[],2,FALSE))","v":""}]
[null,{"$f":"IF(Table23[[#This Row],[Affected CMS\n(§63.2386(d)(1)(ix))\n(Select from dropdown)]]=\"\",\"\",VLOOKUP(Table23[[#This Row],[Affected CMS\n(§63.2386(d)(1)(ix))\n(Select from dropdown)]],Table22[],2,FALSE))","v":""}]
[null,{"$f":"IF(Table23[[#This Row],[Affected CMS\n(§63.2386(d)(1)(ix))\n(Select from dropdown)]]=\"\",\"\",VLOOKUP(Table23[[#This Row],[Affected CMS\n(§63.2386(d)(1)(ix))\n(Select from dropdown)]],Table22[],2,FALSE))","v":""}]
[null,{"$f":"IF(Table23[[#This Row],[Affected CMS\n(§63.2386(d)(1)(ix))\n(Select from dropdown)]]=\"\",\"\",VLOOKUP(Table23[[#This Row],[Affected CMS\n(§63.2386(d)(1)(ix))\n(Select from dropdown)]],Table22[],2,FALSE))","v":""}]
[null,{"$f":"IF(Table23[[#This Row],[Affected CMS\n(§63.2386(d)(1)(ix))\n(Select from dropdown)]]=\"\",\"\",VLOOKUP(Table23[[#This Row],[Affected CMS\n(§63.2386(d)(1)(ix))\n(Select from dropdown)]],Table22[],2,FALSE))","v":""}]
[null,{"$f":"IF(Table23[[#This Row],[Affected CMS\n(§63.2386(d)(1)(ix))\n(Select from dropdown)]]=\"\",\"\",VLOOKUP(Table23[[#This Row],[Affected CMS\n(§63.2386(d)(1)(ix))\n(Select from dropdown)]],Table22[],2,FALSE))","v":""}]
[null,{"$f":"IF(Table23[[#This Row],[Affected CMS\n(§63.2386(d)(1)(ix))\n(Select from dropdown)]]=\"\",\"\",VLOOKUP(Table23[[#This Row],[Affected CMS\n(§63.2386(d)(1)(ix))\n(Select from dropdown)]],Table22[],2,FALSE))","v":""}]
[null,{"$f":"IF(Table23[[#This Row],[Affected CMS\n(§63.2386(d)(1)(ix))\n(Select from dropdown)]]=\"\",\"\",VLOOKUP(Table23[[#This Row],[Affected CMS\n(§63.2386(d)(1)(ix))\n(Select from dropdown)]],Table22[],2,FALSE))","v":""}]
[null,{"$f":"IF(Table23[[#This Row],[Affected CMS\n(§63.2386(d)(1)(ix))\n(Select from dropdown)]]=\"\",\"\",VLOOKUP(Table23[[#This Row],[Affected CMS\n(§63.2386(d)(1)(ix))\n(Select from dropdown)]],Table22[],2,FALSE))","v":""}]
[null,{"$f":"IF(Table23[[#This Row],[Affected CMS\n(§63.2386(d)(1)(ix))\n(Select from dropdown)]]=\"\",\"\",VLOOKUP(Table23[[#This Row],[Affected CMS\n(§63.2386(d)(1)(ix))\n(Select from dropdown)]],Table22[],2,FALSE))","v":""}]
[null,{"$f":"IF(Table23[[#This Row],[Affected CMS\n(§63.2386(d)(1)(ix))\n(Select from dropdown)]]=\"\",\"\",VLOOKUP(Table23[[#This Row],[Affected CMS\n(§63.2386(d)(1)(ix))\n(Select from dropdown)]],Table22[],2,FALSE))","v":""}]
[null,{"$f":"IF(Table23[[#This Row],[Affected CMS\n(§63.2386(d)(1)(ix))\n(Select from dropdown)]]=\"\",\"\",VLOOKUP(Table23[[#This Row],[Affected CMS\n(§63.2386(d)(1)(ix))\n(Select from dropdown)]],Table22[],2,FALSE))","v":""}]
[null,{"$f":"IF(Table23[[#This Row],[Affected CMS\n(§63.2386(d)(1)(ix))\n(Select from dropdown)]]=\"\",\"\",VLOOKUP(Table23[[#This Row],[Affected CMS\n(§63.2386(d)(1)(ix))\n(Select from dropdown)]],Table22[],2,FALSE))","v":""}]
[null,{"$f":"IF(Table23[[#This Row],[Affected CMS\n(§63.2386(d)(1)(ix))\n(Select from dropdown)]]=\"\",\"\",VLOOKUP(Table23[[#This Row],[Affected CMS\n(§63.2386(d)(1)(ix))\n(Select from dropdown)]],Table22[],2,FALSE))","v":""}]
[null,{"$f":"IF(Table23[[#This Row],[Affected CMS\n(§63.2386(d)(1)(ix))\n(Select from dropdown)]]=\"\",\"\",VLOOKUP(Table23[[#This Row],[Affected CMS\n(§63.2386(d)(1)(ix))\n(Select from dropdown)]],Table22[],2,FALSE))","v":""}]
[null,{"$f":"IF(Table23[[#This Row],[Affected CMS\n(§63.2386(d)(1)(ix))\n(Select from dropdown)]]=\"\",\"\",VLOOKUP(Table23[[#This Row],[Affected CMS\n(§63.2386(d)(1)(ix))\n(Select from dropdown)]],Table22[],2,FALSE))","v":""}]
[null,{"$f":"IF(Table23[[#This Row],[Affected CMS\n(§63.2386(d)(1)(ix))\n(Select from dropdown)]]=\"\",\"\",VLOOKUP(Table23[[#This Row],[Affected CMS\n(§63.2386(d)(1)(ix))\n(Select from dropdown)]],Table22[],2,FALSE))","v":""}]
[null,{"$f":"IF(Table23[[#This Row],[Affected CMS\n(§63.2386(d)(1)(ix))\n(Select from dropdown)]]=\"\",\"\",VLOOKUP(Table23[[#This Row],[Affected CMS\n(§63.2386(d)(1)(ix))\n(Select from dropdown)]],Table22[],2,FALSE))","v":""}]
[null,{"$f":"IF(Table23[[#This Row],[Affected CMS\n(§63.2386(d)(1)(ix))\n(Select from dropdown)]]=\"\",\"\",VLOOKUP(Table23[[#This Row],[Affected CMS\n(§63.2386(d)(1)(ix))\n(Select from dropdown)]],Table22[],2,FALSE))","v":""}]
[null,{"$f":"IF(Table23[[#This Row],[Affected CMS\n(§63.2386(d)(1)(ix))\n(Select from dropdown)]]=\"\",\"\",VLOOKUP(Table23[[#This Row],[Affected CMS\n(§63.2386(d)(1)(ix))\n(Select from dropdown)]],Table22[],2,FALSE))","v":""}]
[null,{"$f":"IF(Table23[[#This Row],[Affected CMS\n(§63.2386(d)(1)(ix))\n(Select from dropdown)]]=\"\",\"\",VLOOKUP(Table23[[#This Row],[Affected CMS\n(§63.2386(d)(1)(ix))\n(Select from dropdown)]],Table22[],2,FALSE))","v":""}]
[null,{"$f":"IF(Table23[[#This Row],[Affected CMS\n(§63.2386(d)(1)(ix))\n(Select from dropdown)]]=\"\",\"\",VLOOKUP(Table23[[#This Row],[Affected CMS\n(§63.2386(d)(1)(ix))\n(Select from dropdown)]],Table22[],2,FALSE))","v":""}]
[null,{"$f":"IF(Table23[[#This Row],[Affected CMS\n(§63.2386(d)(1)(ix))\n(Select from dropdown)]]=\"\",\"\",VLOOKUP(Table23[[#This Row],[Affected CMS\n(§63.2386(d)(1)(ix))\n(Select from dropdown)]],Table22[],2,FALSE))","v":""}]
[null,{"$f":"IF(Table23[[#This Row],[Affected CMS\n(§63.2386(d)(1)(ix))\n(Select from dropdown)]]=\"\",\"\",VLOOKUP(Table23[[#This Row],[Affected CMS\n(§63.2386(d)(1)(ix))\n(Select from dropdown)]],Table22[],2,FALSE))","v":""}]
[null,{"$f":"IF(Table23[[#This Row],[Affected CMS\n(§63.2386(d)(1)(ix))\n(Select from dropdown)]]=\"\",\"\",VLOOKUP(Table23[[#This Row],[Affected CMS\n(§63.2386(d)(1)(ix))\n(Select from dropdown)]],Table22[],2,FALSE))","v":""}]
[null,{"$f":"IF(Table23[[#This Row],[Affected CMS\n(§63.2386(d)(1)(ix))\n(Select from dropdown)]]=\"\",\"\",VLOOKUP(Table23[[#This Row],[Affected CMS\n(§63.2386(d)(1)(ix))\n(Select from dropdown)]],Table22[],2,FALSE))","v":""}]
[null,{"$f":"IF(Table23[[#This Row],[Affected CMS\n(§63.2386(d)(1)(ix))\n(Select from dropdown)]]=\"\",\"\",VLOOKUP(Table23[[#This Row],[Affected CMS\n(§63.2386(d)(1)(ix))\n(Select from dropdown)]],Table22[],2,FALSE))","v":""}]
[null,{"$f":"IF(Table23[[#This Row],[Affected CMS\n(§63.2386(d)(1)(ix))\n(Select from dropdown)]]=\"\",\"\",VLOOKUP(Table23[[#This Row],[Affected CMS\n(§63.2386(d)(1)(ix))\n(Select from dropdown)]],Table22[],2,FALSE))","v":""}]
[null,{"$f":"IF(Table23[[#This Row],[Affected CMS\n(§63.2386(d)(1)(ix))\n(Select from dropdown)]]=\"\",\"\",VLOOKUP(Table23[[#This Row],[Affected CMS\n(§63.2386(d)(1)(ix))\n(Select from dropdown)]],Table22[],2,FALSE))","v":""}]
[null,{"$f":"IF(Table23[[#This Row],[Affected CMS\n(§63.2386(d)(1)(ix))\n(Select from dropdown)]]=\"\",\"\",VLOOKUP(Table23[[#This Row],[Affected CMS\n(§63.2386(d)(1)(ix))\n(Select from dropdown)]],Table22[],2,FALSE))","v":""}]
[null,{"$f":"IF(Table23[[#This Row],[Affected CMS\n(§63.2386(d)(1)(ix))\n(Select from dropdown)]]=\"\",\"\",VLOOKUP(Table23[[#This Row],[Affected CMS\n(§63.2386(d)(1)(ix))\n(Select from dropdown)]],Table22[],2,FALSE))","v":""}]
[null,{"$f":"IF(Table23[[#This Row],[Affected CMS\n(§63.2386(d)(1)(ix))\n(Select from dropdown)]]=\"\",\"\",VLOOKUP(Table23[[#This Row],[Affected CMS\n(§63.2386(d)(1)(ix))\n(Select from dropdown)]],Table22[],2,FALSE))","v":""}]
[null,{"$f":"IF(Table23[[#This Row],[Affected CMS\n(§63.2386(d)(1)(ix))\n(Select from dropdown)]]=\"\",\"\",VLOOKUP(Table23[[#This Row],[Affected CMS\n(§63.2386(d)(1)(ix))\n(Select from dropdown)]],Table22[],2,FALSE))","v":""}]
[null,{"$f":"IF(Table23[[#This Row],[Affected CMS\n(§63.2386(d)(1)(ix))\n(Select from dropdown)]]=\"\",\"\",VLOOKUP(Table23[[#This Row],[Affected CMS\n(§63.2386(d)(1)(ix))\n(Select from dropdown)]],Table22[],2,FALSE))","v":""}]
[null,{"$f":"IF(Table23[[#This Row],[Affected CMS\n(§63.2386(d)(1)(ix))\n(Select from dropdown)]]=\"\",\"\",VLOOKUP(Table23[[#This Row],[Affected CMS\n(§63.2386(d)(1)(ix))\n(Select from dropdown)]],Table22[],2,FALSE))","v":""}]
[null,{"$f":"IF(Table23[[#This Row],[Affected CMS\n(§63.2386(d)(1)(ix))\n(Select from dropdown)]]=\"\",\"\",VLOOKUP(Table23[[#This Row],[Affected CMS\n(§63.2386(d)(1)(ix))\n(Select from dropdown)]],Table22[],2,FALSE))","v":""}]
[null,{"$f":"IF(Table23[[#This Row],[Affected CMS\n(§63.2386(d)(1)(ix))\n(Select from dropdown)]]=\"\",\"\",VLOOKUP(Table23[[#This Row],[Affected CMS\n(§63.2386(d)(1)(ix))\n(Select from dropdown)]],Table22[],2,FALSE))","v":""}]
[null,{"$f":"IF(Table23[[#This Row],[Affected CMS\n(§63.2386(d)(1)(ix))\n(Select from dropdown)]]=\"\",\"\",VLOOKUP(Table23[[#This Row],[Affected CMS\n(§63.2386(d)(1)(ix))\n(Select from dropdown)]],Table22[],2,FALSE))","v":""}]
[null,{"$f":"IF(Table23[[#This Row],[Affected CMS\n(§63.2386(d)(1)(ix))\n(Select from dropdown)]]=\"\",\"\",VLOOKUP(Table23[[#This Row],[Affected CMS\n(§63.2386(d)(1)(ix))\n(Select from dropdown)]],Table22[],2,FALSE))","v":""}]
[null,{"$f":"IF(Table23[[#This Row],[Affected CMS\n(§63.2386(d)(1)(ix))\n(Select from dropdown)]]=\"\",\"\",VLOOKUP(Table23[[#This Row],[Affected CMS\n(§63.2386(d)(1)(ix))\n(Select from dropdown)]],Table22[],2,FALSE))","v":""}]
[null,{"$f":"IF(Table23[[#This Row],[Affected CMS\n(§63.2386(d)(1)(ix))\n(Select from dropdown)]]=\"\",\"\",VLOOKUP(Table23[[#This Row],[Affected CMS\n(§63.2386(d)(1)(ix))\n(Select from dropdown)]],Table22[],2,FALSE))","v":""}]
[null,{"$f":"IF(Table23[[#This Row],[Affected CMS\n(§63.2386(d)(1)(ix))\n(Select from dropdown)]]=\"\",\"\",VLOOKUP(Table23[[#This Row],[Affected CMS\n(§63.2386(d)(1)(ix))\n(Select from dropdown)]],Table22[],2,FALSE))","v":""}]
[null,{"$f":"IF(Table23[[#This Row],[Affected CMS\n(§63.2386(d)(1)(ix))\n(Select from dropdown)]]=\"\",\"\",VLOOKUP(Table23[[#This Row],[Affected CMS\n(§63.2386(d)(1)(ix))\n(Select from dropdown)]],Table22[],2,FALSE))","v":""}]
[null,{"$f":"IF(Table23[[#This Row],[Affected CMS\n(§63.2386(d)(1)(ix))\n(Select from dropdown)]]=\"\",\"\",VLOOKUP(Table23[[#This Row],[Affected CMS\n(§63.2386(d)(1)(ix))\n(Select from dropdown)]],Table22[],2,FALSE))","v":""}]
[null,{"$f":"IF(Table23[[#This Row],[Affected CMS\n(§63.2386(d)(1)(ix))\n(Select from dropdown)]]=\"\",\"\",VLOOKUP(Table23[[#This Row],[Affected CMS\n(§63.2386(d)(1)(ix))\n(Select from dropdown)]],Table22[],2,FALSE))","v":""}]
[null,{"$f":"IF(Table23[[#This Row],[Affected CMS\n(§63.2386(d)(1)(ix))\n(Select from dropdown)]]=\"\",\"\",VLOOKUP(Table23[[#This Row],[Affected CMS\n(§63.2386(d)(1)(ix))\n(Select from dropdown)]],Table22[],2,FALSE))","v":""}]
[null,{"$f":"IF(Table23[[#This Row],[Affected CMS\n(§63.2386(d)(1)(ix))\n(Select from dropdown)]]=\"\",\"\",VLOOKUP(Table23[[#This Row],[Affected CMS\n(§63.2386(d)(1)(ix))\n(Select from dropdown)]],Table22[],2,FALSE))","v":""}]
[null,{"$f":"IF(Table23[[#This Row],[Affected CMS\n(§63.2386(d)(1)(ix))\n(Select from dropdown)]]=\"\",\"\",VLOOKUP(Table23[[#This Row],[Affected CMS\n(§63.2386(d)(1)(ix))\n(Select from dropdown)]],Table22[],2,FALSE))","v":""}]
[null,{"$f":"IF(Table23[[#This Row],[Affected CMS\n(§63.2386(d)(1)(ix))\n(Select from dropdown)]]=\"\",\"\",VLOOKUP(Table23[[#This Row],[Affected CMS\n(§63.2386(d)(1)(ix))\n(Select from dropdown)]],Table22[],2,FALSE))","v":""}]
[null,{"$f":"IF(Table23[[#This Row],[Affected CMS\n(§63.2386(d)(1)(ix))\n(Select from dropdown)]]=\"\",\"\",VLOOKUP(Table23[[#This Row],[Affected CMS\n(§63.2386(d)(1)(ix))\n(Select from dropdown)]],Table22[],2,FALSE))","v":""}]
[null,{"$f":"IF(Table23[[#This Row],[Affected CMS\n(§63.2386(d)(1)(ix))\n(Select from dropdown)]]=\"\",\"\",VLOOKUP(Table23[[#This Row],[Affected CMS\n(§63.2386(d)(1)(ix))\n(Select from dropdown)]],Table22[],2,FALSE))","v":""}]
[null,{"$f":"IF(Table23[[#This Row],[Affected CMS\n(§63.2386(d)(1)(ix))\n(Select from dropdown)]]=\"\",\"\",VLOOKUP(Table23[[#This Row],[Affected CMS\n(§63.2386(d)(1)(ix))\n(Select from dropdown)]],Table22[],2,FALSE))","v":""}]
[null,{"$f":"IF(Table23[[#This Row],[Affected CMS\n(§63.2386(d)(1)(ix))\n(Select from dropdown)]]=\"\",\"\",VLOOKUP(Table23[[#This Row],[Affected CMS\n(§63.2386(d)(1)(ix))\n(Select from dropdown)]],Table22[],2,FALSE))","v":""}]
[null,{"$f":"IF(Table23[[#This Row],[Affected CMS\n(§63.2386(d)(1)(ix))\n(Select from dropdown)]]=\"\",\"\",VLOOKUP(Table23[[#This Row],[Affected CMS\n(§63.2386(d)(1)(ix))\n(Select from dropdown)]],Table22[],2,FALSE))","v":""}]
[null,{"$f":"IF(Table23[[#This Row],[Affected CMS\n(§63.2386(d)(1)(ix))\n(Select from dropdown)]]=\"\",\"\",VLOOKUP(Table23[[#This Row],[Affected CMS\n(§63.2386(d)(1)(ix))\n(Select from dropdown)]],Table22[],2,FALSE))","v":""}]
[null,{"$f":"IF(Table23[[#This Row],[Affected CMS\n(§63.2386(d)(1)(ix))\n(Select from dropdown)]]=\"\",\"\",VLOOKUP(Table23[[#This Row],[Affected CMS\n(§63.2386(d)(1)(ix))\n(Select from dropdown)]],Table22[],2,FALSE))","v":""}]
[null,{"$f":"IF(Table23[[#This Row],[Affected CMS\n(§63.2386(d)(1)(ix))\n(Select from dropdown)]]=\"\",\"\",VLOOKUP(Table23[[#This Row],[Affected CMS\n(§63.2386(d)(1)(ix))\n(Select from dropdown)]],Table22[],2,FALSE))","v":""}]
[null,{"$f":"IF(Table23[[#This Row],[Affected CMS\n(§63.2386(d)(1)(ix))\n(Select from dropdown)]]=\"\",\"\",VLOOKUP(Table23[[#This Row],[Affected CMS\n(§63.2386(d)(1)(ix))\n(Select from dropdown)]],Table22[],2,FALSE))","v":""}]
[null,{"$f":"IF(Table23[[#This Row],[Affected CMS\n(§63.2386(d)(1)(ix))\n(Select from dropdown)]]=\"\",\"\",VLOOKUP(Table23[[#This Row],[Affected CMS\n(§63.2386(d)(1)(ix))\n(Select from dropdown)]],Table22[],2,FALSE))","v":""}]
[null,{"$f":"IF(Table23[[#This Row],[Affected CMS\n(§63.2386(d)(1)(ix))\n(Select from dropdown)]]=\"\",\"\",VLOOKUP(Table23[[#This Row],[Affected CMS\n(§63.2386(d)(1)(ix))\n(Select from dropdown)]],Table22[],2,FALSE))","v":""}]
[null,{"$f":"IF(Table23[[#This Row],[Affected CMS\n(§63.2386(d)(1)(ix))\n(Select from dropdown)]]=\"\",\"\",VLOOKUP(Table23[[#This Row],[Affected CMS\n(§63.2386(d)(1)(ix))\n(Select from dropdown)]],Table22[],2,FALSE))","v":""}]
[null,{"$f":"IF(Table23[[#This Row],[Affected CMS\n(§63.2386(d)(1)(ix))\n(Select from dropdown)]]=\"\",\"\",VLOOKUP(Table23[[#This Row],[Affected CMS\n(§63.2386(d)(1)(ix))\n(Select from dropdown)]],Table22[],2,FALSE))","v":""}]
[null,{"$f":"IF(Table23[[#This Row],[Affected CMS\n(§63.2386(d)(1)(ix))\n(Select from dropdown)]]=\"\",\"\",VLOOKUP(Table23[[#This Row],[Affected CMS\n(§63.2386(d)(1)(ix))\n(Select from dropdown)]],Table22[],2,FALSE))","v":""}]
[null,{"$f":"IF(Table23[[#This Row],[Affected CMS\n(§63.2386(d)(1)(ix))\n(Select from dropdown)]]=\"\",\"\",VLOOKUP(Table23[[#This Row],[Affected CMS\n(§63.2386(d)(1)(ix))\n(Select from dropdown)]],Table22[],2,FALSE))","v":""}]
[null,{"$f":"IF(Table23[[#This Row],[Affected CMS\n(§63.2386(d)(1)(ix))\n(Select from dropdown)]]=\"\",\"\",VLOOKUP(Table23[[#This Row],[Affected CMS\n(§63.2386(d)(1)(ix))\n(Select from dropdown)]],Table22[],2,FALSE))","v":""}]
[null,{"$f":"IF(Table23[[#This Row],[Affected CMS\n(§63.2386(d)(1)(ix))\n(Select from dropdown)]]=\"\",\"\",VLOOKUP(Table23[[#This Row],[Affected CMS\n(§63.2386(d)(1)(ix))\n(Select from dropdown)]],Table22[],2,FALSE))","v":""}]
[null,{"$f":"IF(Table23[[#This Row],[Affected CMS\n(§63.2386(d)(1)(ix))\n(Select from dropdown)]]=\"\",\"\",VLOOKUP(Table23[[#This Row],[Affected CMS\n(§63.2386(d)(1)(ix))\n(Select from dropdown)]],Table22[],2,FALSE))","v":""}]
[null,{"$f":"IF(Table23[[#This Row],[Affected CMS\n(§63.2386(d)(1)(ix))\n(Select from dropdown)]]=\"\",\"\",VLOOKUP(Table23[[#This Row],[Affected CMS\n(§63.2386(d)(1)(ix))\n(Select from dropdown)]],Table22[],2,FALSE))","v":""}]
[null,{"$f":"IF(Table23[[#This Row],[Affected CMS\n(§63.2386(d)(1)(ix))\n(Select from dropdown)]]=\"\",\"\",VLOOKUP(Table23[[#This Row],[Affected CMS\n(§63.2386(d)(1)(ix))\n(Select from dropdown)]],Table22[],2,FALSE))","v":""}]
[null,{"$f":"IF(Table23[[#This Row],[Affected CMS\n(§63.2386(d)(1)(ix))\n(Select from dropdown)]]=\"\",\"\",VLOOKUP(Table23[[#This Row],[Affected CMS\n(§63.2386(d)(1)(ix))\n(Select from dropdown)]],Table22[],2,FALSE))","v":""}]
[null,{"$f":"IF(Table23[[#This Row],[Affected CMS\n(§63.2386(d)(1)(ix))\n(Select from dropdown)]]=\"\",\"\",VLOOKUP(Table23[[#This Row],[Affected CMS\n(§63.2386(d)(1)(ix))\n(Select from dropdown)]],Table22[],2,FALSE))","v":""}]
[null,{"$f":"IF(Table23[[#This Row],[Affected CMS\n(§63.2386(d)(1)(ix))\n(Select from dropdown)]]=\"\",\"\",VLOOKUP(Table23[[#This Row],[Affected CMS\n(§63.2386(d)(1)(ix))\n(Select from dropdown)]],Table22[],2,FALSE))","v":""}]
[null,{"$f":"IF(Table23[[#This Row],[Affected CMS\n(§63.2386(d)(1)(ix))\n(Select from dropdown)]]=\"\",\"\",VLOOKUP(Table23[[#This Row],[Affected CMS\n(§63.2386(d)(1)(ix))\n(Select from dropdown)]],Table22[],2,FALSE))","v":""}]
[null,{"$f":"IF(Table23[[#This Row],[Affected CMS\n(§63.2386(d)(1)(ix))\n(Select from dropdown)]]=\"\",\"\",VLOOKUP(Table23[[#This Row],[Affected CMS\n(§63.2386(d)(1)(ix))\n(Select from dropdown)]],Table22[],2,FALSE))","v":""}]
[null,{"$f":"IF(Table23[[#This Row],[Affected CMS\n(§63.2386(d)(1)(ix))\n(Select from dropdown)]]=\"\",\"\",VLOOKUP(Table23[[#This Row],[Affected CMS\n(§63.2386(d)(1)(ix))\n(Select from dropdown)]],Table22[],2,FALSE))","v":""}]
[null,{"$f":"IF(Table23[[#This Row],[Affected CMS\n(§63.2386(d)(1)(ix))\n(Select from dropdown)]]=\"\",\"\",VLOOKUP(Table23[[#This Row],[Affected CMS\n(§63.2386(d)(1)(ix))\n(Select from dropdown)]],Table22[],2,FALSE))","v":""}]
[null,{"$f":"IF(Table23[[#This Row],[Affected CMS\n(§63.2386(d)(1)(ix))\n(Select from dropdown)]]=\"\",\"\",VLOOKUP(Table23[[#This Row],[Affected CMS\n(§63.2386(d)(1)(ix))\n(Select from dropdown)]],Table22[],2,FALSE))","v":""}]
[null,{"$f":"IF(Table23[[#This Row],[Affected CMS\n(§63.2386(d)(1)(ix))\n(Select from dropdown)]]=\"\",\"\",VLOOKUP(Table23[[#This Row],[Affected CMS\n(§63.2386(d)(1)(ix))\n(Select from dropdown)]],Table22[],2,FALSE))","v":""}]
[null,{"$f":"IF(Table23[[#This Row],[Affected CMS\n(§63.2386(d)(1)(ix))\n(Select from dropdown)]]=\"\",\"\",VLOOKUP(Table23[[#This Row],[Affected CMS\n(§63.2386(d)(1)(ix))\n(Select from dropdown)]],Table22[],2,FALSE))","v":""}]
[null,{"$f":"IF(Table23[[#This Row],[Affected CMS\n(§63.2386(d)(1)(ix))\n(Select from dropdown)]]=\"\",\"\",VLOOKUP(Table23[[#This Row],[Affected CMS\n(§63.2386(d)(1)(ix))\n(Select from dropdown)]],Table22[],2,FALSE))","v":""}]
[null,{"$f":"IF(Table23[[#This Row],[Affected CMS\n(§63.2386(d)(1)(ix))\n(Select from dropdown)]]=\"\",\"\",VLOOKUP(Table23[[#This Row],[Affected CMS\n(§63.2386(d)(1)(ix))\n(Select from dropdown)]],Table22[],2,FALSE))","v":""}]
[null,{"$f":"IF(Table23[[#This Row],[Affected CMS\n(§63.2386(d)(1)(ix))\n(Select from dropdown)]]=\"\",\"\",VLOOKUP(Table23[[#This Row],[Affected CMS\n(§63.2386(d)(1)(ix))\n(Select from dropdown)]],Table22[],2,FALSE))","v":""}]
[null,{"$f":"IF(Table23[[#This Row],[Affected CMS\n(§63.2386(d)(1)(ix))\n(Select from dropdown)]]=\"\",\"\",VLOOKUP(Table23[[#This Row],[Affected CMS\n(§63.2386(d)(1)(ix))\n(Select from dropdown)]],Table22[],2,FALSE))","v":""}]
[null,{"$f":"IF(Table23[[#This Row],[Affected CMS\n(§63.2386(d)(1)(ix))\n(Select from dropdown)]]=\"\",\"\",VLOOKUP(Table23[[#This Row],[Affected CMS\n(§63.2386(d)(1)(ix))\n(Select from dropdown)]],Table22[],2,FALSE))","v":""}]
[null,{"$f":"IF(Table23[[#This Row],[Affected CMS\n(§63.2386(d)(1)(ix))\n(Select from dropdown)]]=\"\",\"\",VLOOKUP(Table23[[#This Row],[Affected CMS\n(§63.2386(d)(1)(ix))\n(Select from dropdown)]],Table22[],2,FALSE))","v":""}]
[null,{"$f":"IF(Table23[[#This Row],[Affected CMS\n(§63.2386(d)(1)(ix))\n(Select from dropdown)]]=\"\",\"\",VLOOKUP(Table23[[#This Row],[Affected CMS\n(§63.2386(d)(1)(ix))\n(Select from dropdown)]],Table22[],2,FALSE))","v":""}]
[null,{"$f":"IF(Table23[[#This Row],[Affected CMS\n(§63.2386(d)(1)(ix))\n(Select from dropdown)]]=\"\",\"\",VLOOKUP(Table23[[#This Row],[Affected CMS\n(§63.2386(d)(1)(ix))\n(Select from dropdown)]],Table22[],2,FALSE))","v":""}]
[null,{"$f":"IF(Table23[[#This Row],[Affected CMS\n(§63.2386(d)(1)(ix))\n(Select from dropdown)]]=\"\",\"\",VLOOKUP(Table23[[#This Row],[Affected CMS\n(§63.2386(d)(1)(ix))\n(Select from dropdown)]],Table22[],2,FALSE))","v":""}]
[null,{"$f":"IF(Table23[[#This Row],[Affected CMS\n(§63.2386(d)(1)(ix))\n(Select from dropdown)]]=\"\",\"\",VLOOKUP(Table23[[#This Row],[Affected CMS\n(§63.2386(d)(1)(ix))\n(Select from dropdown)]],Table22[],2,FALSE))","v":""}]
[null,{"$f":"IF(Table23[[#This Row],[Affected CMS\n(§63.2386(d)(1)(ix))\n(Select from dropdown)]]=\"\",\"\",VLOOKUP(Table23[[#This Row],[Affected CMS\n(§63.2386(d)(1)(ix))\n(Select from dropdown)]],Table22[],2,FALSE))","v":""}]
[null,{"$f":"IF(Table23[[#This Row],[Affected CMS\n(§63.2386(d)(1)(ix))\n(Select from dropdown)]]=\"\",\"\",VLOOKUP(Table23[[#This Row],[Affected CMS\n(§63.2386(d)(1)(ix))\n(Select from dropdown)]],Table22[],2,FALSE))","v":""}]
[null,{"$f":"IF(Table23[[#This Row],[Affected CMS\n(§63.2386(d)(1)(ix))\n(Select from dropdown)]]=\"\",\"\",VLOOKUP(Table23[[#This Row],[Affected CMS\n(§63.2386(d)(1)(ix))\n(Select from dropdown)]],Table22[],2,FALSE))","v":""}]
[null,{"$f":"IF(Table23[[#This Row],[Affected CMS\n(§63.2386(d)(1)(ix))\n(Select from dropdown)]]=\"\",\"\",VLOOKUP(Table23[[#This Row],[Affected CMS\n(§63.2386(d)(1)(ix))\n(Select from dropdown)]],Table22[],2,FALSE))","v":""}]
[null,{"$f":"IF(Table23[[#This Row],[Affected CMS\n(§63.2386(d)(1)(ix))\n(Select from dropdown)]]=\"\",\"\",VLOOKUP(Table23[[#This Row],[Affected CMS\n(§63.2386(d)(1)(ix))\n(Select from dropdown)]],Table22[],2,FALSE))","v":""}]
[null,{"$f":"IF(Table23[[#This Row],[Affected CMS\n(§63.2386(d)(1)(ix))\n(Select from dropdown)]]=\"\",\"\",VLOOKUP(Table23[[#This Row],[Affected CMS\n(§63.2386(d)(1)(ix))\n(Select from dropdown)]],Table22[],2,FALSE))","v":""}]
[null,{"$f":"IF(Table23[[#This Row],[Affected CMS\n(§63.2386(d)(1)(ix))\n(Select from dropdown)]]=\"\",\"\",VLOOKUP(Table23[[#This Row],[Affected CMS\n(§63.2386(d)(1)(ix))\n(Select from dropdown)]],Table22[],2,FALSE))","v":""}]
[null,{"$f":"IF(Table23[[#This Row],[Affected CMS\n(§63.2386(d)(1)(ix))\n(Select from dropdown)]]=\"\",\"\",VLOOKUP(Table23[[#This Row],[Affected CMS\n(§63.2386(d)(1)(ix))\n(Select from dropdown)]],Table22[],2,FALSE))","v":""}]
[null,{"$f":"IF(Table23[[#This Row],[Affected CMS\n(§63.2386(d)(1)(ix))\n(Select from dropdown)]]=\"\",\"\",VLOOKUP(Table23[[#This Row],[Affected CMS\n(§63.2386(d)(1)(ix))\n(Select from dropdown)]],Table22[],2,FALSE))","v":""}]
[null,{"$f":"IF(Table23[[#This Row],[Affected CMS\n(§63.2386(d)(1)(ix))\n(Select from dropdown)]]=\"\",\"\",VLOOKUP(Table23[[#This Row],[Affected CMS\n(§63.2386(d)(1)(ix))\n(Select from dropdown)]],Table22[],2,FALSE))","v":""}]
[null,{"$f":"IF(Table23[[#This Row],[Affected CMS\n(§63.2386(d)(1)(ix))\n(Select from dropdown)]]=\"\",\"\",VLOOKUP(Table23[[#This Row],[Affected CMS\n(§63.2386(d)(1)(ix))\n(Select from dropdown)]],Table22[],2,FALSE))","v":""}]
[null,{"$f":"IF(Table23[[#This Row],[Affected CMS\n(§63.2386(d)(1)(ix))\n(Select from dropdown)]]=\"\",\"\",VLOOKUP(Table23[[#This Row],[Affected CMS\n(§63.2386(d)(1)(ix))\n(Select from dropdown)]],Table22[],2,FALSE))","v":""}]
[null,{"$f":"IF(Table23[[#This Row],[Affected CMS\n(§63.2386(d)(1)(ix))\n(Select from dropdown)]]=\"\",\"\",VLOOKUP(Table23[[#This Row],[Affected CMS\n(§63.2386(d)(1)(ix))\n(Select from dropdown)]],Table22[],2,FALSE))","v":""}]
[null,{"$f":"IF(Table23[[#This Row],[Affected CMS\n(§63.2386(d)(1)(ix))\n(Select from dropdown)]]=\"\",\"\",VLOOKUP(Table23[[#This Row],[Affected CMS\n(§63.2386(d)(1)(ix))\n(Select from dropdown)]],Table22[],2,FALSE))","v":""}]
[null,{"$f":"IF(Table23[[#This Row],[Affected CMS\n(§63.2386(d)(1)(ix))\n(Select from dropdown)]]=\"\",\"\",VLOOKUP(Table23[[#This Row],[Affected CMS\n(§63.2386(d)(1)(ix))\n(Select from dropdown)]],Table22[],2,FALSE))","v":""}]
[null,{"$f":"IF(Table23[[#This Row],[Affected CMS\n(§63.2386(d)(1)(ix))\n(Select from dropdown)]]=\"\",\"\",VLOOKUP(Table23[[#This Row],[Affected CMS\n(§63.2386(d)(1)(ix))\n(Select from dropdown)]],Table22[],2,FALSE))","v":""}]
[null,{"$f":"IF(Table23[[#This Row],[Affected CMS\n(§63.2386(d)(1)(ix))\n(Select from dropdown)]]=\"\",\"\",VLOOKUP(Table23[[#This Row],[Affected CMS\n(§63.2386(d)(1)(ix))\n(Select from dropdown)]],Table22[],2,FALSE))","v":""}]
[null,{"$f":"IF(Table23[[#This Row],[Affected CMS\n(§63.2386(d)(1)(ix))\n(Select from dropdown)]]=\"\",\"\",VLOOKUP(Table23[[#This Row],[Affected CMS\n(§63.2386(d)(1)(ix))\n(Select from dropdown)]],Table22[],2,FALSE))","v":""}]
[null,{"$f":"IF(Table23[[#This Row],[Affected CMS\n(§63.2386(d)(1)(ix))\n(Select from dropdown)]]=\"\",\"\",VLOOKUP(Table23[[#This Row],[Affected CMS\n(§63.2386(d)(1)(ix))\n(Select from dropdown)]],Table22[],2,FALSE))","v":""}]
[null,{"$f":"IF(Table23[[#This Row],[Affected CMS\n(§63.2386(d)(1)(ix))\n(Select from dropdown)]]=\"\",\"\",VLOOKUP(Table23[[#This Row],[Affected CMS\n(§63.2386(d)(1)(ix))\n(Select from dropdown)]],Table22[],2,FALSE))","v":""}]
[null,{"$f":"IF(Table23[[#This Row],[Affected CMS\n(§63.2386(d)(1)(ix))\n(Select from dropdown)]]=\"\",\"\",VLOOKUP(Table23[[#This Row],[Affected CMS\n(§63.2386(d)(1)(ix))\n(Select from dropdown)]],Table22[],2,FALSE))","v":""}]
[null,{"$f":"IF(Table23[[#This Row],[Affected CMS\n(§63.2386(d)(1)(ix))\n(Select from dropdown)]]=\"\",\"\",VLOOKUP(Table23[[#This Row],[Affected CMS\n(§63.2386(d)(1)(ix))\n(Select from dropdown)]],Table22[],2,FALSE))","v":""}]
[null,{"$f":"IF(Table23[[#This Row],[Affected CMS\n(§63.2386(d)(1)(ix))\n(Select from dropdown)]]=\"\",\"\",VLOOKUP(Table23[[#This Row],[Affected CMS\n(§63.2386(d)(1)(ix))\n(Select from dropdown)]],Table22[],2,FALSE))","v":""}]
[null,{"$f":"IF(Table23[[#This Row],[Affected CMS\n(§63.2386(d)(1)(ix))\n(Select from dropdown)]]=\"\",\"\",VLOOKUP(Table23[[#This Row],[Affected CMS\n(§63.2386(d)(1)(ix))\n(Select from dropdown)]],Table22[],2,FALSE))","v":""}]
[null,{"$f":"IF(Table23[[#This Row],[Affected CMS\n(§63.2386(d)(1)(ix))\n(Select from dropdown)]]=\"\",\"\",VLOOKUP(Table23[[#This Row],[Affected CMS\n(§63.2386(d)(1)(ix))\n(Select from dropdown)]],Table22[],2,FALSE))","v":""}]
[null,{"$f":"IF(Table23[[#This Row],[Affected CMS\n(§63.2386(d)(1)(ix))\n(Select from dropdown)]]=\"\",\"\",VLOOKUP(Table23[[#This Row],[Affected CMS\n(§63.2386(d)(1)(ix))\n(Select from dropdown)]],Table22[],2,FALSE))","v":""}]
[null,{"$f":"IF(Table23[[#This Row],[Affected CMS\n(§63.2386(d)(1)(ix))\n(Select from dropdown)]]=\"\",\"\",VLOOKUP(Table23[[#This Row],[Affected CMS\n(§63.2386(d)(1)(ix))\n(Select from dropdown)]],Table22[],2,FALSE))","v":""}]
[null,{"$f":"IF(Table23[[#This Row],[Affected CMS\n(§63.2386(d)(1)(ix))\n(Select from dropdown)]]=\"\",\"\",VLOOKUP(Table23[[#This Row],[Affected CMS\n(§63.2386(d)(1)(ix))\n(Select from dropdown)]],Table22[],2,FALSE))","v":""}]
[null,{"$f":"IF(Table23[[#This Row],[Affected CMS\n(§63.2386(d)(1)(ix))\n(Select from dropdown)]]=\"\",\"\",VLOOKUP(Table23[[#This Row],[Affected CMS\n(§63.2386(d)(1)(ix))\n(Select from dropdown)]],Table22[],2,FALSE))","v":""}]
[null,{"$f":"IF(Table23[[#This Row],[Affected CMS\n(§63.2386(d)(1)(ix))\n(Select from dropdown)]]=\"\",\"\",VLOOKUP(Table23[[#This Row],[Affected CMS\n(§63.2386(d)(1)(ix))\n(Select from dropdown)]],Table22[],2,FALSE))","v":""}]
[null,{"$f":"IF(Table23[[#This Row],[Affected CMS\n(§63.2386(d)(1)(ix))\n(Select from dropdown)]]=\"\",\"\",VLOOKUP(Table23[[#This Row],[Affected CMS\n(§63.2386(d)(1)(ix))\n(Select from dropdown)]],Table22[],2,FALSE))","v":""}]
[null,{"$f":"IF(Table23[[#This Row],[Affected CMS\n(§63.2386(d)(1)(ix))\n(Select from dropdown)]]=\"\",\"\",VLOOKUP(Table23[[#This Row],[Affected CMS\n(§63.2386(d)(1)(ix))\n(Select from dropdown)]],Table22[],2,FALSE))","v":""}]
[null,{"$f":"IF(Table23[[#This Row],[Affected CMS\n(§63.2386(d)(1)(ix))\n(Select from dropdown)]]=\"\",\"\",VLOOKUP(Table23[[#This Row],[Affected CMS\n(§63.2386(d)(1)(ix))\n(Select from dropdown)]],Table22[],2,FALSE))","v":""}]
[null,{"$f":"IF(Table23[[#This Row],[Affected CMS\n(§63.2386(d)(1)(ix))\n(Select from dropdown)]]=\"\",\"\",VLOOKUP(Table23[[#This Row],[Affected CMS\n(§63.2386(d)(1)(ix))\n(Select from dropdown)]],Table22[],2,FALSE))","v":""}]
[null,{"$f":"IF(Table23[[#This Row],[Affected CMS\n(§63.2386(d)(1)(ix))\n(Select from dropdown)]]=\"\",\"\",VLOOKUP(Table23[[#This Row],[Affected CMS\n(§63.2386(d)(1)(ix))\n(Select from dropdown)]],Table22[],2,FALSE))","v":""}]
[null,{"$f":"IF(Table23[[#This Row],[Affected CMS\n(§63.2386(d)(1)(ix))\n(Select from dropdown)]]=\"\",\"\",VLOOKUP(Table23[[#This Row],[Affected CMS\n(§63.2386(d)(1)(ix))\n(Select from dropdown)]],Table22[],2,FALSE))","v":""}]
[null,{"$f":"IF(Table23[[#This Row],[Affected CMS\n(§63.2386(d)(1)(ix))\n(Select from dropdown)]]=\"\",\"\",VLOOKUP(Table23[[#This Row],[Affected CMS\n(§63.2386(d)(1)(ix))\n(Select from dropdown)]],Table22[],2,FALSE))","v":""}]
[null,{"$f":"IF(Table23[[#This Row],[Affected CMS\n(§63.2386(d)(1)(ix))\n(Select from dropdown)]]=\"\",\"\",VLOOKUP(Table23[[#This Row],[Affected CMS\n(§63.2386(d)(1)(ix))\n(Select from dropdown)]],Table22[],2,FALSE))","v":""}]
[null,{"$f":"IF(Table23[[#This Row],[Affected CMS\n(§63.2386(d)(1)(ix))\n(Select from dropdown)]]=\"\",\"\",VLOOKUP(Table23[[#This Row],[Affected CMS\n(§63.2386(d)(1)(ix))\n(Select from dropdown)]],Table22[],2,FALSE))","v":""}]
[null,{"$f":"IF(Table23[[#This Row],[Affected CMS\n(§63.2386(d)(1)(ix))\n(Select from dropdown)]]=\"\",\"\",VLOOKUP(Table23[[#This Row],[Affected CMS\n(§63.2386(d)(1)(ix))\n(Select from dropdown)]],Table22[],2,FALSE))","v":""}]
[null,{"$f":"IF(Table23[[#This Row],[Affected CMS\n(§63.2386(d)(1)(ix))\n(Select from dropdown)]]=\"\",\"\",VLOOKUP(Table23[[#This Row],[Affected CMS\n(§63.2386(d)(1)(ix))\n(Select from dropdown)]],Table22[],2,FALSE))","v":""}]
[null,{"$f":"IF(Table23[[#This Row],[Affected CMS\n(§63.2386(d)(1)(ix))\n(Select from dropdown)]]=\"\",\"\",VLOOKUP(Table23[[#This Row],[Affected CMS\n(§63.2386(d)(1)(ix))\n(Select from dropdown)]],Table22[],2,FALSE))","v":""}]
[null,{"$f":"IF(Table23[[#This Row],[Affected CMS\n(§63.2386(d)(1)(ix))\n(Select from dropdown)]]=\"\",\"\",VLOOKUP(Table23[[#This Row],[Affected CMS\n(§63.2386(d)(1)(ix))\n(Select from dropdown)]],Table22[],2,FALSE))","v":""}]
[null,{"$f":"IF(Table23[[#This Row],[Affected CMS\n(§63.2386(d)(1)(ix))\n(Select from dropdown)]]=\"\",\"\",VLOOKUP(Table23[[#This Row],[Affected CMS\n(§63.2386(d)(1)(ix))\n(Select from dropdown)]],Table22[],2,FALSE))","v":""}]
[null,{"$f":"IF(Table23[[#This Row],[Affected CMS\n(§63.2386(d)(1)(ix))\n(Select from dropdown)]]=\"\",\"\",VLOOKUP(Table23[[#This Row],[Affected CMS\n(§63.2386(d)(1)(ix))\n(Select from dropdown)]],Table22[],2,FALSE))","v":""}]
[null,{"$f":"IF(Table23[[#This Row],[Affected CMS\n(§63.2386(d)(1)(ix))\n(Select from dropdown)]]=\"\",\"\",VLOOKUP(Table23[[#This Row],[Affected CMS\n(§63.2386(d)(1)(ix))\n(Select from dropdown)]],Table22[],2,FALSE))","v":""}]
[null,{"$f":"IF(Table23[[#This Row],[Affected CMS\n(§63.2386(d)(1)(ix))\n(Select from dropdown)]]=\"\",\"\",VLOOKUP(Table23[[#This Row],[Affected CMS\n(§63.2386(d)(1)(ix))\n(Select from dropdown)]],Table22[],2,FALSE))","v":""}]
[null,{"$f":"IF(Table23[[#This Row],[Affected CMS\n(§63.2386(d)(1)(ix))\n(Select from dropdown)]]=\"\",\"\",VLOOKUP(Table23[[#This Row],[Affected CMS\n(§63.2386(d)(1)(ix))\n(Select from dropdown)]],Table22[],2,FALSE))","v":""}]
[null,{"$f":"IF(Table23[[#This Row],[Affected CMS\n(§63.2386(d)(1)(ix))\n(Select from dropdown)]]=\"\",\"\",VLOOKUP(Table23[[#This Row],[Affected CMS\n(§63.2386(d)(1)(ix))\n(Select from dropdown)]],Table22[],2,FALSE))","v":""}]
[null,{"$f":"IF(Table23[[#This Row],[Affected CMS\n(§63.2386(d)(1)(ix))\n(Select from dropdown)]]=\"\",\"\",VLOOKUP(Table23[[#This Row],[Affected CMS\n(§63.2386(d)(1)(ix))\n(Select from dropdown)]],Table22[],2,FALSE))","v":""}]
[null,{"$f":"IF(Table23[[#This Row],[Affected CMS\n(§63.2386(d)(1)(ix))\n(Select from dropdown)]]=\"\",\"\",VLOOKUP(Table23[[#This Row],[Affected CMS\n(§63.2386(d)(1)(ix))\n(Select from dropdown)]],Table22[],2,FALSE))","v":""}]
[null,{"$f":"IF(Table23[[#This Row],[Affected CMS\n(§63.2386(d)(1)(ix))\n(Select from dropdown)]]=\"\",\"\",VLOOKUP(Table23[[#This Row],[Affected CMS\n(§63.2386(d)(1)(ix))\n(Select from dropdown)]],Table22[],2,FALSE))","v":""}]
[null,{"$f":"IF(Table23[[#This Row],[Affected CMS\n(§63.2386(d)(1)(ix))\n(Select from dropdown)]]=\"\",\"\",VLOOKUP(Table23[[#This Row],[Affected CMS\n(§63.2386(d)(1)(ix))\n(Select from dropdown)]],Table22[],2,FALSE))","v":""}]
[null,{"$f":"IF(Table23[[#This Row],[Affected CMS\n(§63.2386(d)(1)(ix))\n(Select from dropdown)]]=\"\",\"\",VLOOKUP(Table23[[#This Row],[Affected CMS\n(§63.2386(d)(1)(ix))\n(Select from dropdown)]],Table22[],2,FALSE))","v":""}]
[null,{"$f":"IF(Table23[[#This Row],[Affected CMS\n(§63.2386(d)(1)(ix))\n(Select from dropdown)]]=\"\",\"\",VLOOKUP(Table23[[#This Row],[Affected CMS\n(§63.2386(d)(1)(ix))\n(Select from dropdown)]],Table22[],2,FALSE))","v":""}]
[null,{"$f":"IF(Table23[[#This Row],[Affected CMS\n(§63.2386(d)(1)(ix))\n(Select from dropdown)]]=\"\",\"\",VLOOKUP(Table23[[#This Row],[Affected CMS\n(§63.2386(d)(1)(ix))\n(Select from dropdown)]],Table22[],2,FALSE))","v":""}]
[null,{"$f":"IF(Table23[[#This Row],[Affected CMS\n(§63.2386(d)(1)(ix))\n(Select from dropdown)]]=\"\",\"\",VLOOKUP(Table23[[#This Row],[Affected CMS\n(§63.2386(d)(1)(ix))\n(Select from dropdown)]],Table22[],2,FALSE))","v":""}]
[null,{"$f":"IF(Table23[[#This Row],[Affected CMS\n(§63.2386(d)(1)(ix))\n(Select from dropdown)]]=\"\",\"\",VLOOKUP(Table23[[#This Row],[Affected CMS\n(§63.2386(d)(1)(ix))\n(Select from dropdown)]],Table22[],2,FALSE))","v":""}]
[null,{"$f":"IF(Table23[[#This Row],[Affected CMS\n(§63.2386(d)(1)(ix))\n(Select from dropdown)]]=\"\",\"\",VLOOKUP(Table23[[#This Row],[Affected CMS\n(§63.2386(d)(1)(ix))\n(Select from dropdown)]],Table22[],2,FALSE))","v":""}]
[null,{"$f":"IF(Table23[[#This Row],[Affected CMS\n(§63.2386(d)(1)(ix))\n(Select from dropdown)]]=\"\",\"\",VLOOKUP(Table23[[#This Row],[Affected CMS\n(§63.2386(d)(1)(ix))\n(Select from dropdown)]],Table22[],2,FALSE))","v":""}]
[null,{"$f":"IF(Table23[[#This Row],[Affected CMS\n(§63.2386(d)(1)(ix))\n(Select from dropdown)]]=\"\",\"\",VLOOKUP(Table23[[#This Row],[Affected CMS\n(§63.2386(d)(1)(ix))\n(Select from dropdown)]],Table22[],2,FALSE))","v":""}]
[null,{"$f":"IF(Table23[[#This Row],[Affected CMS\n(§63.2386(d)(1)(ix))\n(Select from dropdown)]]=\"\",\"\",VLOOKUP(Table23[[#This Row],[Affected CMS\n(§63.2386(d)(1)(ix))\n(Select from dropdown)]],Table22[],2,FALSE))","v":""}]
[null,{"$f":"IF(Table23[[#This Row],[Affected CMS\n(§63.2386(d)(1)(ix))\n(Select from dropdown)]]=\"\",\"\",VLOOKUP(Table23[[#This Row],[Affected CMS\n(§63.2386(d)(1)(ix))\n(Select from dropdown)]],Table22[],2,FALSE))","v":""}]
[null,{"$f":"IF(Table23[[#This Row],[Affected CMS\n(§63.2386(d)(1)(ix))\n(Select from dropdown)]]=\"\",\"\",VLOOKUP(Table23[[#This Row],[Affected CMS\n(§63.2386(d)(1)(ix))\n(Select from dropdown)]],Table22[],2,FALSE))","v":""}]
[null,{"$f":"IF(Table23[[#This Row],[Affected CMS\n(§63.2386(d)(1)(ix))\n(Select from dropdown)]]=\"\",\"\",VLOOKUP(Table23[[#This Row],[Affected CMS\n(§63.2386(d)(1)(ix))\n(Select from dropdown)]],Table22[],2,FALSE))","v":""}]
[null,{"$f":"IF(Table23[[#This Row],[Affected CMS\n(§63.2386(d)(1)(ix))\n(Select from dropdown)]]=\"\",\"\",VLOOKUP(Table23[[#This Row],[Affected CMS\n(§63.2386(d)(1)(ix))\n(Select from dropdown)]],Table22[],2,FALSE))","v":""}]
[null,{"$f":"IF(Table23[[#This Row],[Affected CMS\n(§63.2386(d)(1)(ix))\n(Select from dropdown)]]=\"\",\"\",VLOOKUP(Table23[[#This Row],[Affected CMS\n(§63.2386(d)(1)(ix))\n(Select from dropdown)]],Table22[],2,FALSE))","v":""}]
[null,{"$f":"IF(Table23[[#This Row],[Affected CMS\n(§63.2386(d)(1)(ix))\n(Select from dropdown)]]=\"\",\"\",VLOOKUP(Table23[[#This Row],[Affected CMS\n(§63.2386(d)(1)(ix))\n(Select from dropdown)]],Table22[],2,FALSE))","v":""}]
[null,{"$f":"IF(Table23[[#This Row],[Affected CMS\n(§63.2386(d)(1)(ix))\n(Select from dropdown)]]=\"\",\"\",VLOOKUP(Table23[[#This Row],[Affected CMS\n(§63.2386(d)(1)(ix))\n(Select from dropdown)]],Table22[],2,FALSE))","v":""}]
[null,{"$f":"IF(Table23[[#This Row],[Affected CMS\n(§63.2386(d)(1)(ix))\n(Select from dropdown)]]=\"\",\"\",VLOOKUP(Table23[[#This Row],[Affected CMS\n(§63.2386(d)(1)(ix))\n(Select from dropdown)]],Table22[],2,FALSE))","v":""}]
[null,{"$f":"IF(Table23[[#This Row],[Affected CMS\n(§63.2386(d)(1)(ix))\n(Select from dropdown)]]=\"\",\"\",VLOOKUP(Table23[[#This Row],[Affected CMS\n(§63.2386(d)(1)(ix))\n(Select from dropdown)]],Table22[],2,FALSE))","v":""}]
[null,{"$f":"IF(Table23[[#This Row],[Affected CMS\n(§63.2386(d)(1)(ix))\n(Select from dropdown)]]=\"\",\"\",VLOOKUP(Table23[[#This Row],[Affected CMS\n(§63.2386(d)(1)(ix))\n(Select from dropdown)]],Table22[],2,FALSE))","v":""}]
[null,{"$f":"IF(Table23[[#This Row],[Affected CMS\n(§63.2386(d)(1)(ix))\n(Select from dropdown)]]=\"\",\"\",VLOOKUP(Table23[[#This Row],[Affected CMS\n(§63.2386(d)(1)(ix))\n(Select from dropdown)]],Table22[],2,FALSE))","v":""}]
[null,{"$f":"IF(Table23[[#This Row],[Affected CMS\n(§63.2386(d)(1)(ix))\n(Select from dropdown)]]=\"\",\"\",VLOOKUP(Table23[[#This Row],[Affected CMS\n(§63.2386(d)(1)(ix))\n(Select from dropdown)]],Table22[],2,FALSE))","v":""}]
[null,{"$f":"IF(Table23[[#This Row],[Affected CMS\n(§63.2386(d)(1)(ix))\n(Select from dropdown)]]=\"\",\"\",VLOOKUP(Table23[[#This Row],[Affected CMS\n(§63.2386(d)(1)(ix))\n(Select from dropdown)]],Table22[],2,FALSE))","v":""}]
[null,{"$f":"IF(Table23[[#This Row],[Affected CMS\n(§63.2386(d)(1)(ix))\n(Select from dropdown)]]=\"\",\"\",VLOOKUP(Table23[[#This Row],[Affected CMS\n(§63.2386(d)(1)(ix))\n(Select from dropdown)]],Table22[],2,FALSE))","v":""}]
[null,{"$f":"IF(Table23[[#This Row],[Affected CMS\n(§63.2386(d)(1)(ix))\n(Select from dropdown)]]=\"\",\"\",VLOOKUP(Table23[[#This Row],[Affected CMS\n(§63.2386(d)(1)(ix))\n(Select from dropdown)]],Table22[],2,FALSE))","v":""}]
[null,{"$f":"IF(Table23[[#This Row],[Affected CMS\n(§63.2386(d)(1)(ix))\n(Select from dropdown)]]=\"\",\"\",VLOOKUP(Table23[[#This Row],[Affected CMS\n(§63.2386(d)(1)(ix))\n(Select from dropdown)]],Table22[],2,FALSE))","v":""}]
[null,{"$f":"IF(Table23[[#This Row],[Affected CMS\n(§63.2386(d)(1)(ix))\n(Select from dropdown)]]=\"\",\"\",VLOOKUP(Table23[[#This Row],[Affected CMS\n(§63.2386(d)(1)(ix))\n(Select from dropdown)]],Table22[],2,FALSE))","v":""}]
[null,{"$f":"IF(Table23[[#This Row],[Affected CMS\n(§63.2386(d)(1)(ix))\n(Select from dropdown)]]=\"\",\"\",VLOOKUP(Table23[[#This Row],[Affected CMS\n(§63.2386(d)(1)(ix))\n(Select from dropdown)]],Table22[],2,FALSE))","v":""}]
[null,{"$f":"IF(Table23[[#This Row],[Affected CMS\n(§63.2386(d)(1)(ix))\n(Select from dropdown)]]=\"\",\"\",VLOOKUP(Table23[[#This Row],[Affected CMS\n(§63.2386(d)(1)(ix))\n(Select from dropdown)]],Table22[],2,FALSE))","v":""}]
[null,{"$f":"IF(Table23[[#This Row],[Affected CMS\n(§63.2386(d)(1)(ix))\n(Select from dropdown)]]=\"\",\"\",VLOOKUP(Table23[[#This Row],[Affected CMS\n(§63.2386(d)(1)(ix))\n(Select from dropdown)]],Table22[],2,FALSE))","v":""}]
[null,{"$f":"IF(Table23[[#This Row],[Affected CMS\n(§63.2386(d)(1)(ix))\n(Select from dropdown)]]=\"\",\"\",VLOOKUP(Table23[[#This Row],[Affected CMS\n(§63.2386(d)(1)(ix))\n(Select from dropdown)]],Table22[],2,FALSE))","v":""}]
[null,{"$f":"IF(Table23[[#This Row],[Affected CMS\n(§63.2386(d)(1)(ix))\n(Select from dropdown)]]=\"\",\"\",VLOOKUP(Table23[[#This Row],[Affected CMS\n(§63.2386(d)(1)(ix))\n(Select from dropdown)]],Table22[],2,FALSE))","v":""}]
[null,{"$f":"IF(Table23[[#This Row],[Affected CMS\n(§63.2386(d)(1)(ix))\n(Select from dropdown)]]=\"\",\"\",VLOOKUP(Table23[[#This Row],[Affected CMS\n(§63.2386(d)(1)(ix))\n(Select from dropdown)]],Table22[],2,FALSE))","v":""}]
[null,{"$f":"IF(Table23[[#This Row],[Affected CMS\n(§63.2386(d)(1)(ix))\n(Select from dropdown)]]=\"\",\"\",VLOOKUP(Table23[[#This Row],[Affected CMS\n(§63.2386(d)(1)(ix))\n(Select from dropdown)]],Table22[],2,FALSE))","v":""}]
[null,{"$f":"IF(Table23[[#This Row],[Affected CMS\n(§63.2386(d)(1)(ix))\n(Select from dropdown)]]=\"\",\"\",VLOOKUP(Table23[[#This Row],[Affected CMS\n(§63.2386(d)(1)(ix))\n(Select from dropdown)]],Table22[],2,FALSE))","v":""}]
[null,{"$f":"IF(Table23[[#This Row],[Affected CMS\n(§63.2386(d)(1)(ix))\n(Select from dropdown)]]=\"\",\"\",VLOOKUP(Table23[[#This Row],[Affected CMS\n(§63.2386(d)(1)(ix))\n(Select from dropdown)]],Table22[],2,FALSE))","v":""}]
[null,{"$f":"IF(Table23[[#This Row],[Affected CMS\n(§63.2386(d)(1)(ix))\n(Select from dropdown)]]=\"\",\"\",VLOOKUP(Table23[[#This Row],[Affected CMS\n(§63.2386(d)(1)(ix))\n(Select from dropdown)]],Table22[],2,FALSE))","v":""}]
[null,{"$f":"IF(Table23[[#This Row],[Affected CMS\n(§63.2386(d)(1)(ix))\n(Select from dropdown)]]=\"\",\"\",VLOOKUP(Table23[[#This Row],[Affected CMS\n(§63.2386(d)(1)(ix))\n(Select from dropdown)]],Table22[],2,FALSE))","v":""}]
[null,{"$f":"IF(Table23[[#This Row],[Affected CMS\n(§63.2386(d)(1)(ix))\n(Select from dropdown)]]=\"\",\"\",VLOOKUP(Table23[[#This Row],[Affected CMS\n(§63.2386(d)(1)(ix))\n(Select from dropdown)]],Table22[],2,FALSE))","v":""}]
[null,{"$f":"IF(Table23[[#This Row],[Affected CMS\n(§63.2386(d)(1)(ix))\n(Select from dropdown)]]=\"\",\"\",VLOOKUP(Table23[[#This Row],[Affected CMS\n(§63.2386(d)(1)(ix))\n(Select from dropdown)]],Table22[],2,FALSE))","v":""}]
[null,{"$f":"IF(Table23[[#This Row],[Affected CMS\n(§63.2386(d)(1)(ix))\n(Select from dropdown)]]=\"\",\"\",VLOOKUP(Table23[[#This Row],[Affected CMS\n(§63.2386(d)(1)(ix))\n(Select from dropdown)]],Table22[],2,FALSE))","v":""}]
[null,{"$f":"IF(Table23[[#This Row],[Affected CMS\n(§63.2386(d)(1)(ix))\n(Select from dropdown)]]=\"\",\"\",VLOOKUP(Table23[[#This Row],[Affected CMS\n(§63.2386(d)(1)(ix))\n(Select from dropdown)]],Table22[],2,FALSE))","v":""}]
[null,{"$f":"IF(Table23[[#This Row],[Affected CMS\n(§63.2386(d)(1)(ix))\n(Select from dropdown)]]=\"\",\"\",VLOOKUP(Table23[[#This Row],[Affected CMS\n(§63.2386(d)(1)(ix))\n(Select from dropdown)]],Table22[],2,FALSE))","v":""}]
[null,{"$f":"IF(Table23[[#This Row],[Affected CMS\n(§63.2386(d)(1)(ix))\n(Select from dropdown)]]=\"\",\"\",VLOOKUP(Table23[[#This Row],[Affected CMS\n(§63.2386(d)(1)(ix))\n(Select from dropdown)]],Table22[],2,FALSE))","v":""}]
[null,{"$f":"IF(Table23[[#This Row],[Affected CMS\n(§63.2386(d)(1)(ix))\n(Select from dropdown)]]=\"\",\"\",VLOOKUP(Table23[[#This Row],[Affected CMS\n(§63.2386(d)(1)(ix))\n(Select from dropdown)]],Table22[],2,FALSE))","v":""}]
[null,{"$f":"IF(Table23[[#This Row],[Affected CMS\n(§63.2386(d)(1)(ix))\n(Select from dropdown)]]=\"\",\"\",VLOOKUP(Table23[[#This Row],[Affected CMS\n(§63.2386(d)(1)(ix))\n(Select from dropdown)]],Table22[],2,FALSE))","v":""}]
[null,{"$f":"IF(Table23[[#This Row],[Affected CMS\n(§63.2386(d)(1)(ix))\n(Select from dropdown)]]=\"\",\"\",VLOOKUP(Table23[[#This Row],[Affected CMS\n(§63.2386(d)(1)(ix))\n(Select from dropdown)]],Table22[],2,FALSE))","v":""}]
[null,{"$f":"IF(Table23[[#This Row],[Affected CMS\n(§63.2386(d)(1)(ix))\n(Select from dropdown)]]=\"\",\"\",VLOOKUP(Table23[[#This Row],[Affected CMS\n(§63.2386(d)(1)(ix))\n(Select from dropdown)]],Table22[],2,FALSE))","v":""}]
[null,{"$f":"IF(Table23[[#This Row],[Affected CMS\n(§63.2386(d)(1)(ix))\n(Select from dropdown)]]=\"\",\"\",VLOOKUP(Table23[[#This Row],[Affected CMS\n(§63.2386(d)(1)(ix))\n(Select from dropdown)]],Table22[],2,FALSE))","v":""}]
[null,{"$f":"IF(Table23[[#This Row],[Affected CMS\n(§63.2386(d)(1)(ix))\n(Select from dropdown)]]=\"\",\"\",VLOOKUP(Table23[[#This Row],[Affected CMS\n(§63.2386(d)(1)(ix))\n(Select from dropdown)]],Table22[],2,FALSE))","v":""}]
[null,{"$f":"IF(Table23[[#This Row],[Affected CMS\n(§63.2386(d)(1)(ix))\n(Select from dropdown)]]=\"\",\"\",VLOOKUP(Table23[[#This Row],[Affected CMS\n(§63.2386(d)(1)(ix))\n(Select from dropdown)]],Table22[],2,FALSE))","v":""}]
[null,{"$f":"IF(Table23[[#This Row],[Affected CMS\n(§63.2386(d)(1)(ix))\n(Select from dropdown)]]=\"\",\"\",VLOOKUP(Table23[[#This Row],[Affected CMS\n(§63.2386(d)(1)(ix))\n(Select from dropdown)]],Table22[],2,FALSE))","v":""}]
[null,{"$f":"IF(Table23[[#This Row],[Affected CMS\n(§63.2386(d)(1)(ix))\n(Select from dropdown)]]=\"\",\"\",VLOOKUP(Table23[[#This Row],[Affected CMS\n(§63.2386(d)(1)(ix))\n(Select from dropdown)]],Table22[],2,FALSE))","v":""}]
[null,{"$f":"IF(Table23[[#This Row],[Affected CMS\n(§63.2386(d)(1)(ix))\n(Select from dropdown)]]=\"\",\"\",VLOOKUP(Table23[[#This Row],[Affected CMS\n(§63.2386(d)(1)(ix))\n(Select from dropdown)]],Table22[],2,FALSE))","v":""}]
[null,{"$f":"IF(Table23[[#This Row],[Affected CMS\n(§63.2386(d)(1)(ix))\n(Select from dropdown)]]=\"\",\"\",VLOOKUP(Table23[[#This Row],[Affected CMS\n(§63.2386(d)(1)(ix))\n(Select from dropdown)]],Table22[],2,FALSE))","v":""}]
[null,{"$f":"IF(Table23[[#This Row],[Affected CMS\n(§63.2386(d)(1)(ix))\n(Select from dropdown)]]=\"\",\"\",VLOOKUP(Table23[[#This Row],[Affected CMS\n(§63.2386(d)(1)(ix))\n(Select from dropdown)]],Table22[],2,FALSE))","v":""}]
[null,{"$f":"IF(Table23[[#This Row],[Affected CMS\n(§63.2386(d)(1)(ix))\n(Select from dropdown)]]=\"\",\"\",VLOOKUP(Table23[[#This Row],[Affected CMS\n(§63.2386(d)(1)(ix))\n(Select from dropdown)]],Table22[],2,FALSE))","v":""}]
[null,{"$f":"IF(Table23[[#This Row],[Affected CMS\n(§63.2386(d)(1)(ix))\n(Select from dropdown)]]=\"\",\"\",VLOOKUP(Table23[[#This Row],[Affected CMS\n(§63.2386(d)(1)(ix))\n(Select from dropdown)]],Table22[],2,FALSE))","v":""}]
[null,{"$f":"IF(Table23[[#This Row],[Affected CMS\n(§63.2386(d)(1)(ix))\n(Select from dropdown)]]=\"\",\"\",VLOOKUP(Table23[[#This Row],[Affected CMS\n(§63.2386(d)(1)(ix))\n(Select from dropdown)]],Table22[],2,FALSE))","v":""}]
[null,{"$f":"IF(Table23[[#This Row],[Affected CMS\n(§63.2386(d)(1)(ix))\n(Select from dropdown)]]=\"\",\"\",VLOOKUP(Table23[[#This Row],[Affected CMS\n(§63.2386(d)(1)(ix))\n(Select from dropdown)]],Table22[],2,FALSE))","v":""}]
[null,{"$f":"IF(Table23[[#This Row],[Affected CMS\n(§63.2386(d)(1)(ix))\n(Select from dropdown)]]=\"\",\"\",VLOOKUP(Table23[[#This Row],[Affected CMS\n(§63.2386(d)(1)(ix))\n(Select from dropdown)]],Table22[],2,FALSE))","v":""}]
[null,{"$f":"IF(Table23[[#This Row],[Affected CMS\n(§63.2386(d)(1)(ix))\n(Select from dropdown)]]=\"\",\"\",VLOOKUP(Table23[[#This Row],[Affected CMS\n(§63.2386(d)(1)(ix))\n(Select from dropdown)]],Table22[],2,FALSE))","v":""}]
[null,{"$f":"IF(Table23[[#This Row],[Affected CMS\n(§63.2386(d)(1)(ix))\n(Select from dropdown)]]=\"\",\"\",VLOOKUP(Table23[[#This Row],[Affected CMS\n(§63.2386(d)(1)(ix))\n(Select from dropdown)]],Table22[],2,FALSE))","v":""}]
[null,{"$f":"IF(Table23[[#This Row],[Affected CMS\n(§63.2386(d)(1)(ix))\n(Select from dropdown)]]=\"\",\"\",VLOOKUP(Table23[[#This Row],[Affected CMS\n(§63.2386(d)(1)(ix))\n(Select from dropdown)]],Table22[],2,FALSE))","v":""}]
[null,{"$f":"IF(Table23[[#This Row],[Affected CMS\n(§63.2386(d)(1)(ix))\n(Select from dropdown)]]=\"\",\"\",VLOOKUP(Table23[[#This Row],[Affected CMS\n(§63.2386(d)(1)(ix))\n(Select from dropdown)]],Table22[],2,FALSE))","v":""}]
[null,{"$f":"IF(Table23[[#This Row],[Affected CMS\n(§63.2386(d)(1)(ix))\n(Select from dropdown)]]=\"\",\"\",VLOOKUP(Table23[[#This Row],[Affected CMS\n(§63.2386(d)(1)(ix))\n(Select from dropdown)]],Table22[],2,FALSE))","v":""}]
[null,{"$f":"IF(Table23[[#This Row],[Affected CMS\n(§63.2386(d)(1)(ix))\n(Select from dropdown)]]=\"\",\"\",VLOOKUP(Table23[[#This Row],[Affected CMS\n(§63.2386(d)(1)(ix))\n(Select from dropdown)]],Table22[],2,FALSE))","v":""}]
[null,{"$f":"IF(Table23[[#This Row],[Affected CMS\n(§63.2386(d)(1)(ix))\n(Select from dropdown)]]=\"\",\"\",VLOOKUP(Table23[[#This Row],[Affected CMS\n(§63.2386(d)(1)(ix))\n(Select from dropdown)]],Table22[],2,FALSE))","v":""}]
[null,{"$f":"IF(Table23[[#This Row],[Affected CMS\n(§63.2386(d)(1)(ix))\n(Select from dropdown)]]=\"\",\"\",VLOOKUP(Table23[[#This Row],[Affected CMS\n(§63.2386(d)(1)(ix))\n(Select from dropdown)]],Table22[],2,FALSE))","v":""}]
[null,{"$f":"IF(Table23[[#This Row],[Affected CMS\n(§63.2386(d)(1)(ix))\n(Select from dropdown)]]=\"\",\"\",VLOOKUP(Table23[[#This Row],[Affected CMS\n(§63.2386(d)(1)(ix))\n(Select from dropdown)]],Table22[],2,FALSE))","v":""}]
[null,{"$f":"IF(Table23[[#This Row],[Affected CMS\n(§63.2386(d)(1)(ix))\n(Select from dropdown)]]=\"\",\"\",VLOOKUP(Table23[[#This Row],[Affected CMS\n(§63.2386(d)(1)(ix))\n(Select from dropdown)]],Table22[],2,FALSE))","v":""}]
[null,{"$f":"IF(Table23[[#This Row],[Affected CMS\n(§63.2386(d)(1)(ix))\n(Select from dropdown)]]=\"\",\"\",VLOOKUP(Table23[[#This Row],[Affected CMS\n(§63.2386(d)(1)(ix))\n(Select from dropdown)]],Table22[],2,FALSE))","v":""}]
[null,{"$f":"IF(Table23[[#This Row],[Affected CMS\n(§63.2386(d)(1)(ix))\n(Select from dropdown)]]=\"\",\"\",VLOOKUP(Table23[[#This Row],[Affected CMS\n(§63.2386(d)(1)(ix))\n(Select from dropdown)]],Table22[],2,FALSE))","v":""}]
[null,{"$f":"IF(Table23[[#This Row],[Affected CMS\n(§63.2386(d)(1)(ix))\n(Select from dropdown)]]=\"\",\"\",VLOOKUP(Table23[[#This Row],[Affected CMS\n(§63.2386(d)(1)(ix))\n(Select from dropdown)]],Table22[],2,FALSE))","v":""}]
[null,{"$f":"IF(Table23[[#This Row],[Affected CMS\n(§63.2386(d)(1)(ix))\n(Select from dropdown)]]=\"\",\"\",VLOOKUP(Table23[[#This Row],[Affected CMS\n(§63.2386(d)(1)(ix))\n(Select from dropdown)]],Table22[],2,FALSE))","v":""}]
[null,{"$f":"IF(Table23[[#This Row],[Affected CMS\n(§63.2386(d)(1)(ix))\n(Select from dropdown)]]=\"\",\"\",VLOOKUP(Table23[[#This Row],[Affected CMS\n(§63.2386(d)(1)(ix))\n(Select from dropdown)]],Table22[],2,FALSE))","v":""}]
[null,{"$f":"IF(Table23[[#This Row],[Affected CMS\n(§63.2386(d)(1)(ix))\n(Select from dropdown)]]=\"\",\"\",VLOOKUP(Table23[[#This Row],[Affected CMS\n(§63.2386(d)(1)(ix))\n(Select from dropdown)]],Table22[],2,FALSE))","v":""}]
[null,{"$f":"IF(Table23[[#This Row],[Affected CMS\n(§63.2386(d)(1)(ix))\n(Select from dropdown)]]=\"\",\"\",VLOOKUP(Table23[[#This Row],[Affected CMS\n(§63.2386(d)(1)(ix))\n(Select from dropdown)]],Table22[],2,FALSE))","v":""}]
[null,{"$f":"IF(Table23[[#This Row],[Affected CMS\n(§63.2386(d)(1)(ix))\n(Select from dropdown)]]=\"\",\"\",VLOOKUP(Table23[[#This Row],[Affected CMS\n(§63.2386(d)(1)(ix))\n(Select from dropdown)]],Table22[],2,FALSE))","v":""}]
[null,{"$f":"IF(Table23[[#This Row],[Affected CMS\n(§63.2386(d)(1)(ix))\n(Select from dropdown)]]=\"\",\"\",VLOOKUP(Table23[[#This Row],[Affected CMS\n(§63.2386(d)(1)(ix))\n(Select from dropdown)]],Table22[],2,FALSE))","v":""}]
[null,{"$f":"IF(Table23[[#This Row],[Affected CMS\n(§63.2386(d)(1)(ix))\n(Select from dropdown)]]=\"\",\"\",VLOOKUP(Table23[[#This Row],[Affected CMS\n(§63.2386(d)(1)(ix))\n(Select from dropdown)]],Table22[],2,FALSE))","v":""}]
[null,{"$f":"IF(Table23[[#This Row],[Affected CMS\n(§63.2386(d)(1)(ix))\n(Select from dropdown)]]=\"\",\"\",VLOOKUP(Table23[[#This Row],[Affected CMS\n(§63.2386(d)(1)(ix))\n(Select from dropdown)]],Table22[],2,FALSE))","v":""}]
[null,{"$f":"IF(Table23[[#This Row],[Affected CMS\n(§63.2386(d)(1)(ix))\n(Select from dropdown)]]=\"\",\"\",VLOOKUP(Table23[[#This Row],[Affected CMS\n(§63.2386(d)(1)(ix))\n(Select from dropdown)]],Table22[],2,FALSE))","v":""}]
[null,{"$f":"IF(Table23[[#This Row],[Affected CMS\n(§63.2386(d)(1)(ix))\n(Select from dropdown)]]=\"\",\"\",VLOOKUP(Table23[[#This Row],[Affected CMS\n(§63.2386(d)(1)(ix))\n(Select from dropdown)]],Table22[],2,FALSE))","v":""}]
[null,{"$f":"IF(Table23[[#This Row],[Affected CMS\n(§63.2386(d)(1)(ix))\n(Select from dropdown)]]=\"\",\"\",VLOOKUP(Table23[[#This Row],[Affected CMS\n(§63.2386(d)(1)(ix))\n(Select from dropdown)]],Table22[],2,FALSE))","v":""}]
[null,{"$f":"IF(Table23[[#This Row],[Affected CMS\n(§63.2386(d)(1)(ix))\n(Select from dropdown)]]=\"\",\"\",VLOOKUP(Table23[[#This Row],[Affected CMS\n(§63.2386(d)(1)(ix))\n(Select from dropdown)]],Table22[],2,FALSE))","v":""}]
[null,{"$f":"IF(Table23[[#This Row],[Affected CMS\n(§63.2386(d)(1)(ix))\n(Select from dropdown)]]=\"\",\"\",VLOOKUP(Table23[[#This Row],[Affected CMS\n(§63.2386(d)(1)(ix))\n(Select from dropdown)]],Table22[],2,FALSE))","v":""}]
[null,{"$f":"IF(Table23[[#This Row],[Affected CMS\n(§63.2386(d)(1)(ix))\n(Select from dropdown)]]=\"\",\"\",VLOOKUP(Table23[[#This Row],[Affected CMS\n(§63.2386(d)(1)(ix))\n(Select from dropdown)]],Table22[],2,FALSE))","v":""}]
[null,{"$f":"IF(Table23[[#This Row],[Affected CMS\n(§63.2386(d)(1)(ix))\n(Select from dropdown)]]=\"\",\"\",VLOOKUP(Table23[[#This Row],[Affected CMS\n(§63.2386(d)(1)(ix))\n(Select from dropdown)]],Table22[],2,FALSE))","v":""}]
[null,{"$f":"IF(Table23[[#This Row],[Affected CMS\n(§63.2386(d)(1)(ix))\n(Select from dropdown)]]=\"\",\"\",VLOOKUP(Table23[[#This Row],[Affected CMS\n(§63.2386(d)(1)(ix))\n(Select from dropdown)]],Table22[],2,FALSE))","v":""}]
[null,{"$f":"IF(Table23[[#This Row],[Affected CMS\n(§63.2386(d)(1)(ix))\n(Select from dropdown)]]=\"\",\"\",VLOOKUP(Table23[[#This Row],[Affected CMS\n(§63.2386(d)(1)(ix))\n(Select from dropdown)]],Table22[],2,FALSE))","v":""}]
[null,{"$f":"IF(Table23[[#This Row],[Affected CMS\n(§63.2386(d)(1)(ix))\n(Select from dropdown)]]=\"\",\"\",VLOOKUP(Table23[[#This Row],[Affected CMS\n(§63.2386(d)(1)(ix))\n(Select from dropdown)]],Table22[],2,FALSE))","v":""}]
[null,{"$f":"IF(Table23[[#This Row],[Affected CMS\n(§63.2386(d)(1)(ix))\n(Select from dropdown)]]=\"\",\"\",VLOOKUP(Table23[[#This Row],[Affected CMS\n(§63.2386(d)(1)(ix))\n(Select from dropdown)]],Table22[],2,FALSE))","v":""}]
[null,{"$f":"IF(Table23[[#This Row],[Affected CMS\n(§63.2386(d)(1)(ix))\n(Select from dropdown)]]=\"\",\"\",VLOOKUP(Table23[[#This Row],[Affected CMS\n(§63.2386(d)(1)(ix))\n(Select from dropdown)]],Table22[],2,FALSE))","v":""}]
[null,{"$f":"IF(Table23[[#This Row],[Affected CMS\n(§63.2386(d)(1)(ix))\n(Select from dropdown)]]=\"\",\"\",VLOOKUP(Table23[[#This Row],[Affected CMS\n(§63.2386(d)(1)(ix))\n(Select from dropdown)]],Table22[],2,FALSE))","v":""}]
[null,{"$f":"IF(Table23[[#This Row],[Affected CMS\n(§63.2386(d)(1)(ix))\n(Select from dropdown)]]=\"\",\"\",VLOOKUP(Table23[[#This Row],[Affected CMS\n(§63.2386(d)(1)(ix))\n(Select from dropdown)]],Table22[],2,FALSE))","v":""}]
[null,{"$f":"IF(Table23[[#This Row],[Affected CMS\n(§63.2386(d)(1)(ix))\n(Select from dropdown)]]=\"\",\"\",VLOOKUP(Table23[[#This Row],[Affected CMS\n(§63.2386(d)(1)(ix))\n(Select from dropdown)]],Table22[],2,FALSE))","v":""}]
[null,{"$f":"IF(Table23[[#This Row],[Affected CMS\n(§63.2386(d)(1)(ix))\n(Select from dropdown)]]=\"\",\"\",VLOOKUP(Table23[[#This Row],[Affected CMS\n(§63.2386(d)(1)(ix))\n(Select from dropdown)]],Table22[],2,FALSE))","v":""}]
[null,{"$f":"IF(Table23[[#This Row],[Affected CMS\n(§63.2386(d)(1)(ix))\n(Select from dropdown)]]=\"\",\"\",VLOOKUP(Table23[[#This Row],[Affected CMS\n(§63.2386(d)(1)(ix))\n(Select from dropdown)]],Table22[],2,FALSE))","v":""}]
[null,{"$f":"IF(Table23[[#This Row],[Affected CMS\n(§63.2386(d)(1)(ix))\n(Select from dropdown)]]=\"\",\"\",VLOOKUP(Table23[[#This Row],[Affected CMS\n(§63.2386(d)(1)(ix))\n(Select from dropdown)]],Table22[],2,FALSE))","v":""}]
[null,{"$f":"IF(Table23[[#This Row],[Affected CMS\n(§63.2386(d)(1)(ix))\n(Select from dropdown)]]=\"\",\"\",VLOOKUP(Table23[[#This Row],[Affected CMS\n(§63.2386(d)(1)(ix))\n(Select from dropdown)]],Table22[],2,FALSE))","v":""}]
[null,{"$f":"IF(Table23[[#This Row],[Affected CMS\n(§63.2386(d)(1)(ix))\n(Select from dropdown)]]=\"\",\"\",VLOOKUP(Table23[[#This Row],[Affected CMS\n(§63.2386(d)(1)(ix))\n(Select from dropdown)]],Table22[],2,FALSE))","v":""}]
[null,{"$f":"IF(Table23[[#This Row],[Affected CMS\n(§63.2386(d)(1)(ix))\n(Select from dropdown)]]=\"\",\"\",VLOOKUP(Table23[[#This Row],[Affected CMS\n(§63.2386(d)(1)(ix))\n(Select from dropdown)]],Table22[],2,FALSE))","v":""}]
[null,{"$f":"IF(Table23[[#This Row],[Affected CMS\n(§63.2386(d)(1)(ix))\n(Select from dropdown)]]=\"\",\"\",VLOOKUP(Table23[[#This Row],[Affected CMS\n(§63.2386(d)(1)(ix))\n(Select from dropdown)]],Table22[],2,FALSE))","v":""}]
[null,{"$f":"IF(Table23[[#This Row],[Affected CMS\n(§63.2386(d)(1)(ix))\n(Select from dropdown)]]=\"\",\"\",VLOOKUP(Table23[[#This Row],[Affected CMS\n(§63.2386(d)(1)(ix))\n(Select from dropdown)]],Table22[],2,FALSE))","v":""}]
[null,{"$f":"IF(Table23[[#This Row],[Affected CMS\n(§63.2386(d)(1)(ix))\n(Select from dropdown)]]=\"\",\"\",VLOOKUP(Table23[[#This Row],[Affected CMS\n(§63.2386(d)(1)(ix))\n(Select from dropdown)]],Table22[],2,FALSE))","v":""}]
[null,{"$f":"IF(Table23[[#This Row],[Affected CMS\n(§63.2386(d)(1)(ix))\n(Select from dropdown)]]=\"\",\"\",VLOOKUP(Table23[[#This Row],[Affected CMS\n(§63.2386(d)(1)(ix))\n(Select from dropdown)]],Table22[],2,FALSE))","v":""}]
[null,{"$f":"IF(Table23[[#This Row],[Affected CMS\n(§63.2386(d)(1)(ix))\n(Select from dropdown)]]=\"\",\"\",VLOOKUP(Table23[[#This Row],[Affected CMS\n(§63.2386(d)(1)(ix))\n(Select from dropdown)]],Table22[],2,FALSE))","v":""}]
[null,{"$f":"IF(Table23[[#This Row],[Affected CMS\n(§63.2386(d)(1)(ix))\n(Select from dropdown)]]=\"\",\"\",VLOOKUP(Table23[[#This Row],[Affected CMS\n(§63.2386(d)(1)(ix))\n(Select from dropdown)]],Table22[],2,FALSE))","v":""}]
[null,{"$f":"IF(Table23[[#This Row],[Affected CMS\n(§63.2386(d)(1)(ix))\n(Select from dropdown)]]=\"\",\"\",VLOOKUP(Table23[[#This Row],[Affected CMS\n(§63.2386(d)(1)(ix))\n(Select from dropdown)]],Table22[],2,FALSE))","v":""}]
[null,{"$f":"IF(Table23[[#This Row],[Affected CMS\n(§63.2386(d)(1)(ix))\n(Select from dropdown)]]=\"\",\"\",VLOOKUP(Table23[[#This Row],[Affected CMS\n(§63.2386(d)(1)(ix))\n(Select from dropdown)]],Table22[],2,FALSE))","v":""}]
[null,{"$f":"IF(Table23[[#This Row],[Affected CMS\n(§63.2386(d)(1)(ix))\n(Select from dropdown)]]=\"\",\"\",VLOOKUP(Table23[[#This Row],[Affected CMS\n(§63.2386(d)(1)(ix))\n(Select from dropdown)]],Table22[],2,FALSE))","v":""}]
[null,{"$f":"IF(Table23[[#This Row],[Affected CMS\n(§63.2386(d)(1)(ix))\n(Select from dropdown)]]=\"\",\"\",VLOOKUP(Table23[[#This Row],[Affected CMS\n(§63.2386(d)(1)(ix))\n(Select from dropdown)]],Table22[],2,FALSE))","v":""}]
[null,{"$f":"IF(Table23[[#This Row],[Affected CMS\n(§63.2386(d)(1)(ix))\n(Select from dropdown)]]=\"\",\"\",VLOOKUP(Table23[[#This Row],[Affected CMS\n(§63.2386(d)(1)(ix))\n(Select from dropdown)]],Table22[],2,FALSE))","v":""}]
[null,{"$f":"IF(Table23[[#This Row],[Affected CMS\n(§63.2386(d)(1)(ix))\n(Select from dropdown)]]=\"\",\"\",VLOOKUP(Table23[[#This Row],[Affected CMS\n(§63.2386(d)(1)(ix))\n(Select from dropdown)]],Table22[],2,FALSE))","v":""}]
[null,{"$f":"IF(Table23[[#This Row],[Affected CMS\n(§63.2386(d)(1)(ix))\n(Select from dropdown)]]=\"\",\"\",VLOOKUP(Table23[[#This Row],[Affected CMS\n(§63.2386(d)(1)(ix))\n(Select from dropdown)]],Table22[],2,FALSE))","v":""}]
[null,{"$f":"IF(Table23[[#This Row],[Affected CMS\n(§63.2386(d)(1)(ix))\n(Select from dropdown)]]=\"\",\"\",VLOOKUP(Table23[[#This Row],[Affected CMS\n(§63.2386(d)(1)(ix))\n(Select from dropdown)]],Table22[],2,FALSE))","v":""}]
[null,{"$f":"IF(Table23[[#This Row],[Affected CMS\n(§63.2386(d)(1)(ix))\n(Select from dropdown)]]=\"\",\"\",VLOOKUP(Table23[[#This Row],[Affected CMS\n(§63.2386(d)(1)(ix))\n(Select from dropdown)]],Table22[],2,FALSE))","v":""}]
[null,{"$f":"IF(Table23[[#This Row],[Affected CMS\n(§63.2386(d)(1)(ix))\n(Select from dropdown)]]=\"\",\"\",VLOOKUP(Table23[[#This Row],[Affected CMS\n(§63.2386(d)(1)(ix))\n(Select from dropdown)]],Table22[],2,FALSE))","v":""}]
[null,{"$f":"IF(Table23[[#This Row],[Affected CMS\n(§63.2386(d)(1)(ix))\n(Select from dropdown)]]=\"\",\"\",VLOOKUP(Table23[[#This Row],[Affected CMS\n(§63.2386(d)(1)(ix))\n(Select from dropdown)]],Table22[],2,FALSE))","v":""}]
[null,{"$f":"IF(Table23[[#This Row],[Affected CMS\n(§63.2386(d)(1)(ix))\n(Select from dropdown)]]=\"\",\"\",VLOOKUP(Table23[[#This Row],[Affected CMS\n(§63.2386(d)(1)(ix))\n(Select from dropdown)]],Table22[],2,FALSE))","v":""}]
[null,{"$f":"IF(Table23[[#This Row],[Affected CMS\n(§63.2386(d)(1)(ix))\n(Select from dropdown)]]=\"\",\"\",VLOOKUP(Table23[[#This Row],[Affected CMS\n(§63.2386(d)(1)(ix))\n(Select from dropdown)]],Table22[],2,FALSE))","v":""}]
[null,{"$f":"IF(Table23[[#This Row],[Affected CMS\n(§63.2386(d)(1)(ix))\n(Select from dropdown)]]=\"\",\"\",VLOOKUP(Table23[[#This Row],[Affected CMS\n(§63.2386(d)(1)(ix))\n(Select from dropdown)]],Table22[],2,FALSE))","v":""}]
[null,{"$f":"IF(Table23[[#This Row],[Affected CMS\n(§63.2386(d)(1)(ix))\n(Select from dropdown)]]=\"\",\"\",VLOOKUP(Table23[[#This Row],[Affected CMS\n(§63.2386(d)(1)(ix))\n(Select from dropdown)]],Table22[],2,FALSE))","v":""}]
[null,{"$f":"IF(Table23[[#This Row],[Affected CMS\n(§63.2386(d)(1)(ix))\n(Select from dropdown)]]=\"\",\"\",VLOOKUP(Table23[[#This Row],[Affected CMS\n(§63.2386(d)(1)(ix))\n(Select from dropdown)]],Table22[],2,FALSE))","v":""}]
[null,{"$f":"IF(Table23[[#This Row],[Affected CMS\n(§63.2386(d)(1)(ix))\n(Select from dropdown)]]=\"\",\"\",VLOOKUP(Table23[[#This Row],[Affected CMS\n(§63.2386(d)(1)(ix))\n(Select from dropdown)]],Table22[],2,FALSE))","v":""}]
[null,{"$f":"IF(Table23[[#This Row],[Affected CMS\n(§63.2386(d)(1)(ix))\n(Select from dropdown)]]=\"\",\"\",VLOOKUP(Table23[[#This Row],[Affected CMS\n(§63.2386(d)(1)(ix))\n(Select from dropdown)]],Table22[],2,FALSE))","v":""}]
[null,{"$f":"IF(Table23[[#This Row],[Affected CMS\n(§63.2386(d)(1)(ix))\n(Select from dropdown)]]=\"\",\"\",VLOOKUP(Table23[[#This Row],[Affected CMS\n(§63.2386(d)(1)(ix))\n(Select from dropdown)]],Table22[],2,FALSE))","v":""}]
[null,{"$f":"IF(Table23[[#This Row],[Affected CMS\n(§63.2386(d)(1)(ix))\n(Select from dropdown)]]=\"\",\"\",VLOOKUP(Table23[[#This Row],[Affected CMS\n(§63.2386(d)(1)(ix))\n(Select from dropdown)]],Table22[],2,FALSE))","v":""}]
[null,{"$f":"IF(Table23[[#This Row],[Affected CMS\n(§63.2386(d)(1)(ix))\n(Select from dropdown)]]=\"\",\"\",VLOOKUP(Table23[[#This Row],[Affected CMS\n(§63.2386(d)(1)(ix))\n(Select from dropdown)]],Table22[],2,FALSE))","v":""}]
[null,{"$f":"IF(Table23[[#This Row],[Affected CMS\n(§63.2386(d)(1)(ix))\n(Select from dropdown)]]=\"\",\"\",VLOOKUP(Table23[[#This Row],[Affected CMS\n(§63.2386(d)(1)(ix))\n(Select from dropdown)]],Table22[],2,FALSE))","v":""}]
[null,{"$f":"IF(Table23[[#This Row],[Affected CMS\n(§63.2386(d)(1)(ix))\n(Select from dropdown)]]=\"\",\"\",VLOOKUP(Table23[[#This Row],[Affected CMS\n(§63.2386(d)(1)(ix))\n(Select from dropdown)]],Table22[],2,FALSE))","v":""}]
[null,{"$f":"IF(Table23[[#This Row],[Affected CMS\n(§63.2386(d)(1)(ix))\n(Select from dropdown)]]=\"\",\"\",VLOOKUP(Table23[[#This Row],[Affected CMS\n(§63.2386(d)(1)(ix))\n(Select from dropdown)]],Table22[],2,FALSE))","v":""}]
[null,{"$f":"IF(Table23[[#This Row],[Affected CMS\n(§63.2386(d)(1)(ix))\n(Select from dropdown)]]=\"\",\"\",VLOOKUP(Table23[[#This Row],[Affected CMS\n(§63.2386(d)(1)(ix))\n(Select from dropdown)]],Table22[],2,FALSE))","v":""}]
[null,{"$f":"IF(Table23[[#This Row],[Affected CMS\n(§63.2386(d)(1)(ix))\n(Select from dropdown)]]=\"\",\"\",VLOOKUP(Table23[[#This Row],[Affected CMS\n(§63.2386(d)(1)(ix))\n(Select from dropdown)]],Table22[],2,FALSE))","v":""}]
[null,{"$f":"IF(Table23[[#This Row],[Affected CMS\n(§63.2386(d)(1)(ix))\n(Select from dropdown)]]=\"\",\"\",VLOOKUP(Table23[[#This Row],[Affected CMS\n(§63.2386(d)(1)(ix))\n(Select from dropdown)]],Table22[],2,FALSE))","v":""}]
[null,{"$f":"IF(Table23[[#This Row],[Affected CMS\n(§63.2386(d)(1)(ix))\n(Select from dropdown)]]=\"\",\"\",VLOOKUP(Table23[[#This Row],[Affected CMS\n(§63.2386(d)(1)(ix))\n(Select from dropdown)]],Table22[],2,FALSE))","v":""}]
[null,{"$f":"IF(Table23[[#This Row],[Affected CMS\n(§63.2386(d)(1)(ix))\n(Select from dropdown)]]=\"\",\"\",VLOOKUP(Table23[[#This Row],[Affected CMS\n(§63.2386(d)(1)(ix))\n(Select from dropdown)]],Table22[],2,FALSE))","v":""}]
[null,{"$f":"IF(Table23[[#This Row],[Affected CMS\n(§63.2386(d)(1)(ix))\n(Select from dropdown)]]=\"\",\"\",VLOOKUP(Table23[[#This Row],[Affected CMS\n(§63.2386(d)(1)(ix))\n(Select from dropdown)]],Table22[],2,FALSE))","v":""}]
[null,{"$f":"IF(Table23[[#This Row],[Affected CMS\n(§63.2386(d)(1)(ix))\n(Select from dropdown)]]=\"\",\"\",VLOOKUP(Table23[[#This Row],[Affected CMS\n(§63.2386(d)(1)(ix))\n(Select from dropdown)]],Table22[],2,FALSE))","v":""}]
[null,{"$f":"IF(Table23[[#This Row],[Affected CMS\n(§63.2386(d)(1)(ix))\n(Select from dropdown)]]=\"\",\"\",VLOOKUP(Table23[[#This Row],[Affected CMS\n(§63.2386(d)(1)(ix))\n(Select from dropdown)]],Table22[],2,FALSE))","v":""}]
[null,{"$f":"IF(Table23[[#This Row],[Affected CMS\n(§63.2386(d)(1)(ix))\n(Select from dropdown)]]=\"\",\"\",VLOOKUP(Table23[[#This Row],[Affected CMS\n(§63.2386(d)(1)(ix))\n(Select from dropdown)]],Table22[],2,FALSE))","v":""}]
[null,{"$f":"IF(Table23[[#This Row],[Affected CMS\n(§63.2386(d)(1)(ix))\n(Select from dropdown)]]=\"\",\"\",VLOOKUP(Table23[[#This Row],[Affected CMS\n(§63.2386(d)(1)(ix))\n(Select from dropdown)]],Table22[],2,FALSE))","v":""}]
[null,{"$f":"IF(Table23[[#This Row],[Affected CMS\n(§63.2386(d)(1)(ix))\n(Select from dropdown)]]=\"\",\"\",VLOOKUP(Table23[[#This Row],[Affected CMS\n(§63.2386(d)(1)(ix))\n(Select from dropdown)]],Table22[],2,FALSE))","v":""}]
[null,{"$f":"IF(Table23[[#This Row],[Affected CMS\n(§63.2386(d)(1)(ix))\n(Select from dropdown)]]=\"\",\"\",VLOOKUP(Table23[[#This Row],[Affected CMS\n(§63.2386(d)(1)(ix))\n(Select from dropdown)]],Table22[],2,FALSE))","v":""}]
[null,{"$f":"IF(Table23[[#This Row],[Affected CMS\n(§63.2386(d)(1)(ix))\n(Select from dropdown)]]=\"\",\"\",VLOOKUP(Table23[[#This Row],[Affected CMS\n(§63.2386(d)(1)(ix))\n(Select from dropdown)]],Table22[],2,FALSE))","v":""}]
[null,{"$f":"IF(Table23[[#This Row],[Affected CMS\n(§63.2386(d)(1)(ix))\n(Select from dropdown)]]=\"\",\"\",VLOOKUP(Table23[[#This Row],[Affected CMS\n(§63.2386(d)(1)(ix))\n(Select from dropdown)]],Table22[],2,FALSE))","v":""}]
[null,{"$f":"IF(Table23[[#This Row],[Affected CMS\n(§63.2386(d)(1)(ix))\n(Select from dropdown)]]=\"\",\"\",VLOOKUP(Table23[[#This Row],[Affected CMS\n(§63.2386(d)(1)(ix))\n(Select from dropdown)]],Table22[],2,FALSE))","v":""}]
[null,{"$f":"IF(Table23[[#This Row],[Affected CMS\n(§63.2386(d)(1)(ix))\n(Select from dropdown)]]=\"\",\"\",VLOOKUP(Table23[[#This Row],[Affected CMS\n(§63.2386(d)(1)(ix))\n(Select from dropdown)]],Table22[],2,FALSE))","v":""}]
[null,{"$f":"IF(Table23[[#This Row],[Affected CMS\n(§63.2386(d)(1)(ix))\n(Select from dropdown)]]=\"\",\"\",VLOOKUP(Table23[[#This Row],[Affected CMS\n(§63.2386(d)(1)(ix))\n(Select from dropdown)]],Table22[],2,FALSE))","v":""}]
[null,{"$f":"IF(Table23[[#This Row],[Affected CMS\n(§63.2386(d)(1)(ix))\n(Select from dropdown)]]=\"\",\"\",VLOOKUP(Table23[[#This Row],[Affected CMS\n(§63.2386(d)(1)(ix))\n(Select from dropdown)]],Table22[],2,FALSE))","v":""}]
[null,{"$f":"IF(Table23[[#This Row],[Affected CMS\n(§63.2386(d)(1)(ix))\n(Select from dropdown)]]=\"\",\"\",VLOOKUP(Table23[[#This Row],[Affected CMS\n(§63.2386(d)(1)(ix))\n(Select from dropdown)]],Table22[],2,FALSE))","v":""}]
[null,{"$f":"IF(Table23[[#This Row],[Affected CMS\n(§63.2386(d)(1)(ix))\n(Select from dropdown)]]=\"\",\"\",VLOOKUP(Table23[[#This Row],[Affected CMS\n(§63.2386(d)(1)(ix))\n(Select from dropdown)]],Table22[],2,FALSE))","v":""}]
[null,{"$f":"IF(Table23[[#This Row],[Affected CMS\n(§63.2386(d)(1)(ix))\n(Select from dropdown)]]=\"\",\"\",VLOOKUP(Table23[[#This Row],[Affected CMS\n(§63.2386(d)(1)(ix))\n(Select from dropdown)]],Table22[],2,FALSE))","v":""}]
[null,{"$f":"IF(Table23[[#This Row],[Affected CMS\n(§63.2386(d)(1)(ix))\n(Select from dropdown)]]=\"\",\"\",VLOOKUP(Table23[[#This Row],[Affected CMS\n(§63.2386(d)(1)(ix))\n(Select from dropdown)]],Table22[],2,FALSE))","v":""}]
[null,{"$f":"IF(Table23[[#This Row],[Affected CMS\n(§63.2386(d)(1)(ix))\n(Select from dropdown)]]=\"\",\"\",VLOOKUP(Table23[[#This Row],[Affected CMS\n(§63.2386(d)(1)(ix))\n(Select from dropdown)]],Table22[],2,FALSE))","v":""}]
[null,{"$f":"IF(Table23[[#This Row],[Affected CMS\n(§63.2386(d)(1)(ix))\n(Select from dropdown)]]=\"\",\"\",VLOOKUP(Table23[[#This Row],[Affected CMS\n(§63.2386(d)(1)(ix))\n(Select from dropdown)]],Table22[],2,FALSE))","v":""}]
[null,{"$f":"IF(Table23[[#This Row],[Affected CMS\n(§63.2386(d)(1)(ix))\n(Select from dropdown)]]=\"\",\"\",VLOOKUP(Table23[[#This Row],[Affected CMS\n(§63.2386(d)(1)(ix))\n(Select from dropdown)]],Table22[],2,FALSE))","v":""}]
[null,{"$f":"IF(Table23[[#This Row],[Affected CMS\n(§63.2386(d)(1)(ix))\n(Select from dropdown)]]=\"\",\"\",VLOOKUP(Table23[[#This Row],[Affected CMS\n(§63.2386(d)(1)(ix))\n(Select from dropdown)]],Table22[],2,FALSE))","v":""}]
[null,{"$f":"IF(Table23[[#This Row],[Affected CMS\n(§63.2386(d)(1)(ix))\n(Select from dropdown)]]=\"\",\"\",VLOOKUP(Table23[[#This Row],[Affected CMS\n(§63.2386(d)(1)(ix))\n(Select from dropdown)]],Table22[],2,FALSE))","v":""}]
[null,{"$f":"IF(Table23[[#This Row],[Affected CMS\n(§63.2386(d)(1)(ix))\n(Select from dropdown)]]=\"\",\"\",VLOOKUP(Table23[[#This Row],[Affected CMS\n(§63.2386(d)(1)(ix))\n(Select from dropdown)]],Table22[],2,FALSE))","v":""}]
[null,{"$f":"IF(Table23[[#This Row],[Affected CMS\n(§63.2386(d)(1)(ix))\n(Select from dropdown)]]=\"\",\"\",VLOOKUP(Table23[[#This Row],[Affected CMS\n(§63.2386(d)(1)(ix))\n(Select from dropdown)]],Table22[],2,FALSE))","v":""}]
[null,{"$f":"IF(Table23[[#This Row],[Affected CMS\n(§63.2386(d)(1)(ix))\n(Select from dropdown)]]=\"\",\"\",VLOOKUP(Table23[[#This Row],[Affected CMS\n(§63.2386(d)(1)(ix))\n(Select from dropdown)]],Table22[],2,FALSE))","v":""}]
[null,{"$f":"IF(Table23[[#This Row],[Affected CMS\n(§63.2386(d)(1)(ix))\n(Select from dropdown)]]=\"\",\"\",VLOOKUP(Table23[[#This Row],[Affected CMS\n(§63.2386(d)(1)(ix))\n(Select from dropdown)]],Table22[],2,FALSE))","v":""}]
[null,{"$f":"IF(Table23[[#This Row],[Affected CMS\n(§63.2386(d)(1)(ix))\n(Select from dropdown)]]=\"\",\"\",VLOOKUP(Table23[[#This Row],[Affected CMS\n(§63.2386(d)(1)(ix))\n(Select from dropdown)]],Table22[],2,FALSE))","v":""}]
[null,{"$f":"IF(Table23[[#This Row],[Affected CMS\n(§63.2386(d)(1)(ix))\n(Select from dropdown)]]=\"\",\"\",VLOOKUP(Table23[[#This Row],[Affected CMS\n(§63.2386(d)(1)(ix))\n(Select from dropdown)]],Table22[],2,FALSE))","v":""}]
[null,{"$f":"IF(Table23[[#This Row],[Affected CMS\n(§63.2386(d)(1)(ix))\n(Select from dropdown)]]=\"\",\"\",VLOOKUP(Table23[[#This Row],[Affected CMS\n(§63.2386(d)(1)(ix))\n(Select from dropdown)]],Table22[],2,FALSE))","v":""}]
[null,{"$f":"IF(Table23[[#This Row],[Affected CMS\n(§63.2386(d)(1)(ix))\n(Select from dropdown)]]=\"\",\"\",VLOOKUP(Table23[[#This Row],[Affected CMS\n(§63.2386(d)(1)(ix))\n(Select from dropdown)]],Table22[],2,FALSE))","v":""}]
[null,{"$f":"IF(Table23[[#This Row],[Affected CMS\n(§63.2386(d)(1)(ix))\n(Select from dropdown)]]=\"\",\"\",VLOOKUP(Table23[[#This Row],[Affected CMS\n(§63.2386(d)(1)(ix))\n(Select from dropdown)]],Table22[],2,FALSE))","v":""}]
[null,{"$f":"IF(Table23[[#This Row],[Affected CMS\n(§63.2386(d)(1)(ix))\n(Select from dropdown)]]=\"\",\"\",VLOOKUP(Table23[[#This Row],[Affected CMS\n(§63.2386(d)(1)(ix))\n(Select from dropdown)]],Table22[],2,FALSE))","v":""}]
[null,{"$f":"IF(Table23[[#This Row],[Affected CMS\n(§63.2386(d)(1)(ix))\n(Select from dropdown)]]=\"\",\"\",VLOOKUP(Table23[[#This Row],[Affected CMS\n(§63.2386(d)(1)(ix))\n(Select from dropdown)]],Table22[],2,FALSE))","v":""}]
[null,{"$f":"IF(Table23[[#This Row],[Affected CMS\n(§63.2386(d)(1)(ix))\n(Select from dropdown)]]=\"\",\"\",VLOOKUP(Table23[[#This Row],[Affected CMS\n(§63.2386(d)(1)(ix))\n(Select from dropdown)]],Table22[],2,FALSE))","v":""}]
[null,{"$f":"IF(Table23[[#This Row],[Affected CMS\n(§63.2386(d)(1)(ix))\n(Select from dropdown)]]=\"\",\"\",VLOOKUP(Table23[[#This Row],[Affected CMS\n(§63.2386(d)(1)(ix))\n(Select from dropdown)]],Table22[],2,FALSE))","v":""}]
[null,{"$f":"IF(Table23[[#This Row],[Affected CMS\n(§63.2386(d)(1)(ix))\n(Select from dropdown)]]=\"\",\"\",VLOOKUP(Table23[[#This Row],[Affected CMS\n(§63.2386(d)(1)(ix))\n(Select from dropdown)]],Table22[],2,FALSE))","v":""}]
[null,{"$f":"IF(Table23[[#This Row],[Affected CMS\n(§63.2386(d)(1)(ix))\n(Select from dropdown)]]=\"\",\"\",VLOOKUP(Table23[[#This Row],[Affected CMS\n(§63.2386(d)(1)(ix))\n(Select from dropdown)]],Table22[],2,FALSE))","v":""}]
[null,{"$f":"IF(Table23[[#This Row],[Affected CMS\n(§63.2386(d)(1)(ix))\n(Select from dropdown)]]=\"\",\"\",VLOOKUP(Table23[[#This Row],[Affected CMS\n(§63.2386(d)(1)(ix))\n(Select from dropdown)]],Table22[],2,FALSE))","v":""}]
[null,{"$f":"IF(Table23[[#This Row],[Affected CMS\n(§63.2386(d)(1)(ix))\n(Select from dropdown)]]=\"\",\"\",VLOOKUP(Table23[[#This Row],[Affected CMS\n(§63.2386(d)(1)(ix))\n(Select from dropdown)]],Table22[],2,FALSE))","v":""}]
[null,{"$f":"IF(Table23[[#This Row],[Affected CMS\n(§63.2386(d)(1)(ix))\n(Select from dropdown)]]=\"\",\"\",VLOOKUP(Table23[[#This Row],[Affected CMS\n(§63.2386(d)(1)(ix))\n(Select from dropdown)]],Table22[],2,FALSE))","v":""}]
[null,{"$f":"IF(Table23[[#This Row],[Affected CMS\n(§63.2386(d)(1)(ix))\n(Select from dropdown)]]=\"\",\"\",VLOOKUP(Table23[[#This Row],[Affected CMS\n(§63.2386(d)(1)(ix))\n(Select from dropdown)]],Table22[],2,FALSE))","v":""}]
[null,{"$f":"IF(Table23[[#This Row],[Affected CMS\n(§63.2386(d)(1)(ix))\n(Select from dropdown)]]=\"\",\"\",VLOOKUP(Table23[[#This Row],[Affected CMS\n(§63.2386(d)(1)(ix))\n(Select from dropdown)]],Table22[],2,FALSE))","v":""}]
[null,{"$f":"IF(Table23[[#This Row],[Affected CMS\n(§63.2386(d)(1)(ix))\n(Select from dropdown)]]=\"\",\"\",VLOOKUP(Table23[[#This Row],[Affected CMS\n(§63.2386(d)(1)(ix))\n(Select from dropdown)]],Table22[],2,FALSE))","v":""}]
[null,{"$f":"IF(Table23[[#This Row],[Affected CMS\n(§63.2386(d)(1)(ix))\n(Select from dropdown)]]=\"\",\"\",VLOOKUP(Table23[[#This Row],[Affected CMS\n(§63.2386(d)(1)(ix))\n(Select from dropdown)]],Table22[],2,FALSE))","v":""}]
[null,{"$f":"IF(Table23[[#This Row],[Affected CMS\n(§63.2386(d)(1)(ix))\n(Select from dropdown)]]=\"\",\"\",VLOOKUP(Table23[[#This Row],[Affected CMS\n(§63.2386(d)(1)(ix))\n(Select from dropdown)]],Table22[],2,FALSE))","v":""}]
[null,{"$f":"IF(Table23[[#This Row],[Affected CMS\n(§63.2386(d)(1)(ix))\n(Select from dropdown)]]=\"\",\"\",VLOOKUP(Table23[[#This Row],[Affected CMS\n(§63.2386(d)(1)(ix))\n(Select from dropdown)]],Table22[],2,FALSE))","v":""}]
[null,{"$f":"IF(Table23[[#This Row],[Affected CMS\n(§63.2386(d)(1)(ix))\n(Select from dropdown)]]=\"\",\"\",VLOOKUP(Table23[[#This Row],[Affected CMS\n(§63.2386(d)(1)(ix))\n(Select from dropdown)]],Table22[],2,FALSE))","v":""}]
[null,{"$f":"IF(Table23[[#This Row],[Affected CMS\n(§63.2386(d)(1)(ix))\n(Select from dropdown)]]=\"\",\"\",VLOOKUP(Table23[[#This Row],[Affected CMS\n(§63.2386(d)(1)(ix))\n(Select from dropdown)]],Table22[],2,FALSE))","v":""}]
[null,{"$f":"IF(Table23[[#This Row],[Affected CMS\n(§63.2386(d)(1)(ix))\n(Select from dropdown)]]=\"\",\"\",VLOOKUP(Table23[[#This Row],[Affected CMS\n(§63.2386(d)(1)(ix))\n(Select from dropdown)]],Table22[],2,FALSE))","v":""}]
[null,{"$f":"IF(Table23[[#This Row],[Affected CMS\n(§63.2386(d)(1)(ix))\n(Select from dropdown)]]=\"\",\"\",VLOOKUP(Table23[[#This Row],[Affected CMS\n(§63.2386(d)(1)(ix))\n(Select from dropdown)]],Table22[],2,FALSE))","v":""}]
[null,{"$f":"IF(Table23[[#This Row],[Affected CMS\n(§63.2386(d)(1)(ix))\n(Select from dropdown)]]=\"\",\"\",VLOOKUP(Table23[[#This Row],[Affected CMS\n(§63.2386(d)(1)(ix))\n(Select from dropdown)]],Table22[],2,FALSE))","v":""}]
[null,{"$f":"IF(Table23[[#This Row],[Affected CMS\n(§63.2386(d)(1)(ix))\n(Select from dropdown)]]=\"\",\"\",VLOOKUP(Table23[[#This Row],[Affected CMS\n(§63.2386(d)(1)(ix))\n(Select from dropdown)]],Table22[],2,FALSE))","v":""}]
[null,{"$f":"IF(Table23[[#This Row],[Affected CMS\n(§63.2386(d)(1)(ix))\n(Select from dropdown)]]=\"\",\"\",VLOOKUP(Table23[[#This Row],[Affected CMS\n(§63.2386(d)(1)(ix))\n(Select from dropdown)]],Table22[],2,FALSE))","v":""}]
[null,{"$f":"IF(Table23[[#This Row],[Affected CMS\n(§63.2386(d)(1)(ix))\n(Select from dropdown)]]=\"\",\"\",VLOOKUP(Table23[[#This Row],[Affected CMS\n(§63.2386(d)(1)(ix))\n(Select from dropdown)]],Table22[],2,FALSE))","v":""}]
[null,{"$f":"IF(Table23[[#This Row],[Affected CMS\n(§63.2386(d)(1)(ix))\n(Select from dropdown)]]=\"\",\"\",VLOOKUP(Table23[[#This Row],[Affected CMS\n(§63.2386(d)(1)(ix))\n(Select from dropdown)]],Table22[],2,FALSE))","v":""}]
[null,{"$f":"IF(Table23[[#This Row],[Affected CMS\n(§63.2386(d)(1)(ix))\n(Select from dropdown)]]=\"\",\"\",VLOOKUP(Table23[[#This Row],[Affected CMS\n(§63.2386(d)(1)(ix))\n(Select from dropdown)]],Table22[],2,FALSE))","v":""}]
[null,{"$f":"IF(Table23[[#This Row],[Affected CMS\n(§63.2386(d)(1)(ix))\n(Select from dropdown)]]=\"\",\"\",VLOOKUP(Table23[[#This Row],[Affected CMS\n(§63.2386(d)(1)(ix))\n(Select from dropdown)]],Table22[],2,FALSE))","v":""}]
[null,{"$f":"IF(Table23[[#This Row],[Affected CMS\n(§63.2386(d)(1)(ix))\n(Select from dropdown)]]=\"\",\"\",VLOOKUP(Table23[[#This Row],[Affected CMS\n(§63.2386(d)(1)(ix))\n(Select from dropdown)]],Table22[],2,FALSE))","v":""}]
[null,{"$f":"IF(Table23[[#This Row],[Affected CMS\n(§63.2386(d)(1)(ix))\n(Select from dropdown)]]=\"\",\"\",VLOOKUP(Table23[[#This Row],[Affected CMS\n(§63.2386(d)(1)(ix))\n(Select from dropdown)]],Table22[],2,FALSE))","v":""}]
[null,{"$f":"IF(Table23[[#This Row],[Affected CMS\n(§63.2386(d)(1)(ix))\n(Select from dropdown)]]=\"\",\"\",VLOOKUP(Table23[[#This Row],[Affected CMS\n(§63.2386(d)(1)(ix))\n(Select from dropdown)]],Table22[],2,FALSE))","v":""}]
[null,{"$f":"IF(Table23[[#This Row],[Affected CMS\n(§63.2386(d)(1)(ix))\n(Select from dropdown)]]=\"\",\"\",VLOOKUP(Table23[[#This Row],[Affected CMS\n(§63.2386(d)(1)(ix))\n(Select from dropdown)]],Table22[],2,FALSE))","v":""}]
[null,{"$f":"IF(Table23[[#This Row],[Affected CMS\n(§63.2386(d)(1)(ix))\n(Select from dropdown)]]=\"\",\"\",VLOOKUP(Table23[[#This Row],[Affected CMS\n(§63.2386(d)(1)(ix))\n(Select from dropdown)]],Table22[],2,FALSE))","v":""}]
[null,{"$f":"IF(Table23[[#This Row],[Affected CMS\n(§63.2386(d)(1)(ix))\n(Select from dropdown)]]=\"\",\"\",VLOOKUP(Table23[[#This Row],[Affected CMS\n(§63.2386(d)(1)(ix))\n(Select from dropdown)]],Table22[],2,FALSE))","v":""}]
[null,{"$f":"IF(Table23[[#This Row],[Affected CMS\n(§63.2386(d)(1)(ix))\n(Select from dropdown)]]=\"\",\"\",VLOOKUP(Table23[[#This Row],[Affected CMS\n(§63.2386(d)(1)(ix))\n(Select from dropdown)]],Table22[],2,FALSE))","v":""}]
[null,{"$f":"IF(Table23[[#This Row],[Affected CMS\n(§63.2386(d)(1)(ix))\n(Select from dropdown)]]=\"\",\"\",VLOOKUP(Table23[[#This Row],[Affected CMS\n(§63.2386(d)(1)(ix))\n(Select from dropdown)]],Table22[],2,FALSE))","v":""}]
[null,{"$f":"IF(Table23[[#This Row],[Affected CMS\n(§63.2386(d)(1)(ix))\n(Select from dropdown)]]=\"\",\"\",VLOOKUP(Table23[[#This Row],[Affected CMS\n(§63.2386(d)(1)(ix))\n(Select from dropdown)]],Table22[],2,FALSE))","v":""}]
[null,{"$f":"IF(Table23[[#This Row],[Affected CMS\n(§63.2386(d)(1)(ix))\n(Select from dropdown)]]=\"\",\"\",VLOOKUP(Table23[[#This Row],[Affected CMS\n(§63.2386(d)(1)(ix))\n(Select from dropdown)]],Table22[],2,FALSE))","v":""}]
[null,{"$f":"IF(Table23[[#This Row],[Affected CMS\n(§63.2386(d)(1)(ix))\n(Select from dropdown)]]=\"\",\"\",VLOOKUP(Table23[[#This Row],[Affected CMS\n(§63.2386(d)(1)(ix))\n(Select from dropdown)]],Table22[],2,FALSE))","v":""}]
[null,{"$f":"IF(Table23[[#This Row],[Affected CMS\n(§63.2386(d)(1)(ix))\n(Select from dropdown)]]=\"\",\"\",VLOOKUP(Table23[[#This Row],[Affected CMS\n(§63.2386(d)(1)(ix))\n(Select from dropdown)]],Table22[],2,FALSE))","v":""}]
[null,{"$f":"IF(Table23[[#This Row],[Affected CMS\n(§63.2386(d)(1)(ix))\n(Select from dropdown)]]=\"\",\"\",VLOOKUP(Table23[[#This Row],[Affected CMS\n(§63.2386(d)(1)(ix))\n(Select from dropdown)]],Table22[],2,FALSE))","v":""}]
[null,{"$f":"IF(Table23[[#This Row],[Affected CMS\n(§63.2386(d)(1)(ix))\n(Select from dropdown)]]=\"\",\"\",VLOOKUP(Table23[[#This Row],[Affected CMS\n(§63.2386(d)(1)(ix))\n(Select from dropdown)]],Table22[],2,FALSE))","v":""}]
[null,{"$f":"IF(Table23[[#This Row],[Affected CMS\n(§63.2386(d)(1)(ix))\n(Select from dropdown)]]=\"\",\"\",VLOOKUP(Table23[[#This Row],[Affected CMS\n(§63.2386(d)(1)(ix))\n(Select from dropdown)]],Table22[],2,FALSE))","v":""}]
[null,{"$f":"IF(Table23[[#This Row],[Affected CMS\n(§63.2386(d)(1)(ix))\n(Select from dropdown)]]=\"\",\"\",VLOOKUP(Table23[[#This Row],[Affected CMS\n(§63.2386(d)(1)(ix))\n(Select from dropdown)]],Table22[],2,FALSE))","v":""}]
[null,{"$f":"IF(Table23[[#This Row],[Affected CMS\n(§63.2386(d)(1)(ix))\n(Select from dropdown)]]=\"\",\"\",VLOOKUP(Table23[[#This Row],[Affected CMS\n(§63.2386(d)(1)(ix))\n(Select from dropdown)]],Table22[],2,FALSE))","v":""}]
[null,{"$f":"IF(Table23[[#This Row],[Affected CMS\n(§63.2386(d)(1)(ix))\n(Select from dropdown)]]=\"\",\"\",VLOOKUP(Table23[[#This Row],[Affected CMS\n(§63.2386(d)(1)(ix))\n(Select from dropdown)]],Table22[],2,FALSE))","v":""}]
[null,{"$f":"IF(Table23[[#This Row],[Affected CMS\n(§63.2386(d)(1)(ix))\n(Select from dropdown)]]=\"\",\"\",VLOOKUP(Table23[[#This Row],[Affected CMS\n(§63.2386(d)(1)(ix))\n(Select from dropdown)]],Table22[],2,FALSE))","v":""}]
[null,{"$f":"IF(Table23[[#This Row],[Affected CMS\n(§63.2386(d)(1)(ix))\n(Select from dropdown)]]=\"\",\"\",VLOOKUP(Table23[[#This Row],[Affected CMS\n(§63.2386(d)(1)(ix))\n(Select from dropdown)]],Table22[],2,FALSE))","v":""}]
[null,{"$f":"IF(Table23[[#This Row],[Affected CMS\n(§63.2386(d)(1)(ix))\n(Select from dropdown)]]=\"\",\"\",VLOOKUP(Table23[[#This Row],[Affected CMS\n(§63.2386(d)(1)(ix))\n(Select from dropdown)]],Table22[],2,FALSE))","v":""}]
[null,{"$f":"IF(Table23[[#This Row],[Affected CMS\n(§63.2386(d)(1)(ix))\n(Select from dropdown)]]=\"\",\"\",VLOOKUP(Table23[[#This Row],[Affected CMS\n(§63.2386(d)(1)(ix))\n(Select from dropdown)]],Table22[],2,FALSE))","v":""}]
[null,{"$f":"IF(Table23[[#This Row],[Affected CMS\n(§63.2386(d)(1)(ix))\n(Select from dropdown)]]=\"\",\"\",VLOOKUP(Table23[[#This Row],[Affected CMS\n(§63.2386(d)(1)(ix))\n(Select from dropdown)]],Table22[],2,FALSE))","v":""}]
[null,{"$f":"IF(Table23[[#This Row],[Affected CMS\n(§63.2386(d)(1)(ix))\n(Select from dropdown)]]=\"\",\"\",VLOOKUP(Table23[[#This Row],[Affected CMS\n(§63.2386(d)(1)(ix))\n(Select from dropdown)]],Table22[],2,FALSE))","v":""}]
[null,{"$f":"IF(Table23[[#This Row],[Affected CMS\n(§63.2386(d)(1)(ix))\n(Select from dropdown)]]=\"\",\"\",VLOOKUP(Table23[[#This Row],[Affected CMS\n(§63.2386(d)(1)(ix))\n(Select from dropdown)]],Table22[],2,FALSE))","v":""}]
[null,{"$f":"IF(Table23[[#This Row],[Affected CMS\n(§63.2386(d)(1)(ix))\n(Select from dropdown)]]=\"\",\"\",VLOOKUP(Table23[[#This Row],[Affected CMS\n(§63.2386(d)(1)(ix))\n(Select from dropdown)]],Table22[],2,FALSE))","v":""}]
[null,{"$f":"IF(Table23[[#This Row],[Affected CMS\n(§63.2386(d)(1)(ix))\n(Select from dropdown)]]=\"\",\"\",VLOOKUP(Table23[[#This Row],[Affected CMS\n(§63.2386(d)(1)(ix))\n(Select from dropdown)]],Table22[],2,FALSE))","v":""}]
[null,{"$f":"IF(Table23[[#This Row],[Affected CMS\n(§63.2386(d)(1)(ix))\n(Select from dropdown)]]=\"\",\"\",VLOOKUP(Table23[[#This Row],[Affected CMS\n(§63.2386(d)(1)(ix))\n(Select from dropdown)]],Table22[],2,FALSE))","v":""}]
[null,{"$f":"IF(Table23[[#This Row],[Affected CMS\n(§63.2386(d)(1)(ix))\n(Select from dropdown)]]=\"\",\"\",VLOOKUP(Table23[[#This Row],[Affected CMS\n(§63.2386(d)(1)(ix))\n(Select from dropdown)]],Table22[],2,FALSE))","v":""}]
[null,{"$f":"IF(Table23[[#This Row],[Affected CMS\n(§63.2386(d)(1)(ix))\n(Select from dropdown)]]=\"\",\"\",VLOOKUP(Table23[[#This Row],[Affected CMS\n(§63.2386(d)(1)(ix))\n(Select from dropdown)]],Table22[],2,FALSE))","v":""}]
[null,{"$f":"IF(Table23[[#This Row],[Affected CMS\n(§63.2386(d)(1)(ix))\n(Select from dropdown)]]=\"\",\"\",VLOOKUP(Table23[[#This Row],[Affected CMS\n(§63.2386(d)(1)(ix))\n(Select from dropdown)]],Table22[],2,FALSE))","v":""}]
[null,{"$f":"IF(Table23[[#This Row],[Affected CMS\n(§63.2386(d)(1)(ix))\n(Select from dropdown)]]=\"\",\"\",VLOOKUP(Table23[[#This Row],[Affected CMS\n(§63.2386(d)(1)(ix))\n(Select from dropdown)]],Table22[],2,FALSE))","v":""}]
[null,{"$f":"IF(Table23[[#This Row],[Affected CMS\n(§63.2386(d)(1)(ix))\n(Select from dropdown)]]=\"\",\"\",VLOOKUP(Table23[[#This Row],[Affected CMS\n(§63.2386(d)(1)(ix))\n(Select from dropdown)]],Table22[],2,FALSE))","v":""}]
[null,{"$f":"IF(Table23[[#This Row],[Affected CMS\n(§63.2386(d)(1)(ix))\n(Select from dropdown)]]=\"\",\"\",VLOOKUP(Table23[[#This Row],[Affected CMS\n(§63.2386(d)(1)(ix))\n(Select from dropdown)]],Table22[],2,FALSE))","v":""}]
[null,{"$f":"IF(Table23[[#This Row],[Affected CMS\n(§63.2386(d)(1)(ix))\n(Select from dropdown)]]=\"\",\"\",VLOOKUP(Table23[[#This Row],[Affected CMS\n(§63.2386(d)(1)(ix))\n(Select from dropdown)]],Table22[],2,FALSE))","v":""}]
[null,{"$f":"IF(Table23[[#This Row],[Affected CMS\n(§63.2386(d)(1)(ix))\n(Select from dropdown)]]=\"\",\"\",VLOOKUP(Table23[[#This Row],[Affected CMS\n(§63.2386(d)(1)(ix))\n(Select from dropdown)]],Table22[],2,FALSE))","v":""}]
[null,{"$f":"IF(Table23[[#This Row],[Affected CMS\n(§63.2386(d)(1)(ix))\n(Select from dropdown)]]=\"\",\"\",VLOOKUP(Table23[[#This Row],[Affected CMS\n(§63.2386(d)(1)(ix))\n(Select from dropdown)]],Table22[],2,FALSE))","v":""}]
[null,{"$f":"IF(Table23[[#This Row],[Affected CMS\n(§63.2386(d)(1)(ix))\n(Select from dropdown)]]=\"\",\"\",VLOOKUP(Table23[[#This Row],[Affected CMS\n(§63.2386(d)(1)(ix))\n(Select from dropdown)]],Table22[],2,FALSE))","v":""}]
[null,{"$f":"IF(Table23[[#This Row],[Affected CMS\n(§63.2386(d)(1)(ix))\n(Select from dropdown)]]=\"\",\"\",VLOOKUP(Table23[[#This Row],[Affected CMS\n(§63.2386(d)(1)(ix))\n(Select from dropdown)]],Table22[],2,FALSE))","v":""}]
[null,{"$f":"IF(Table23[[#This Row],[Affected CMS\n(§63.2386(d)(1)(ix))\n(Select from dropdown)]]=\"\",\"\",VLOOKUP(Table23[[#This Row],[Affected CMS\n(§63.2386(d)(1)(ix))\n(Select from dropdown)]],Table22[],2,FALSE))","v":""}]
[null,{"$f":"IF(Table23[[#This Row],[Affected CMS\n(§63.2386(d)(1)(ix))\n(Select from dropdown)]]=\"\",\"\",VLOOKUP(Table23[[#This Row],[Affected CMS\n(§63.2386(d)(1)(ix))\n(Select from dropdown)]],Table22[],2,FALSE))","v":""}]
[null,{"$f":"IF(Table23[[#This Row],[Affected CMS\n(§63.2386(d)(1)(ix))\n(Select from dropdown)]]=\"\",\"\",VLOOKUP(Table23[[#This Row],[Affected CMS\n(§63.2386(d)(1)(ix))\n(Select from dropdown)]],Table22[],2,FALSE))","v":""}]
[null,{"$f":"IF(Table23[[#This Row],[Affected CMS\n(§63.2386(d)(1)(ix))\n(Select from dropdown)]]=\"\",\"\",VLOOKUP(Table23[[#This Row],[Affected CMS\n(§63.2386(d)(1)(ix))\n(Select from dropdown)]],Table22[],2,FALSE))","v":""}]
[null,{"$f":"IF(Table23[[#This Row],[Affected CMS\n(§63.2386(d)(1)(ix))\n(Select from dropdown)]]=\"\",\"\",VLOOKUP(Table23[[#This Row],[Affected CMS\n(§63.2386(d)(1)(ix))\n(Select from dropdown)]],Table22[],2,FALSE))","v":""}]
[null,{"$f":"IF(Table23[[#This Row],[Affected CMS\n(§63.2386(d)(1)(ix))\n(Select from dropdown)]]=\"\",\"\",VLOOKUP(Table23[[#This Row],[Affected CMS\n(§63.2386(d)(1)(ix))\n(Select from dropdown)]],Table22[],2,FALSE))","v":""}]
[null,{"$f":"IF(Table23[[#This Row],[Affected CMS\n(§63.2386(d)(1)(ix))\n(Select from dropdown)]]=\"\",\"\",VLOOKUP(Table23[[#This Row],[Affected CMS\n(§63.2386(d)(1)(ix))\n(Select from dropdown)]],Table22[],2,FALSE))","v":""}]
[null,{"$f":"IF(Table23[[#This Row],[Affected CMS\n(§63.2386(d)(1)(ix))\n(Select from dropdown)]]=\"\",\"\",VLOOKUP(Table23[[#This Row],[Affected CMS\n(§63.2386(d)(1)(ix))\n(Select from dropdown)]],Table22[],2,FALSE))","v":""}]
[null,{"$f":"IF(Table23[[#This Row],[Affected CMS\n(§63.2386(d)(1)(ix))\n(Select from dropdown)]]=\"\",\"\",VLOOKUP(Table23[[#This Row],[Affected CMS\n(§63.2386(d)(1)(ix))\n(Select from dropdown)]],Table22[],2,FALSE))","v":""}]
[null,{"$f":"IF(Table23[[#This Row],[Affected CMS\n(§63.2386(d)(1)(ix))\n(Select from dropdown)]]=\"\",\"\",VLOOKUP(Table23[[#This Row],[Affected CMS\n(§63.2386(d)(1)(ix))\n(Select from dropdown)]],Table22[],2,FALSE))","v":""}]
[null,{"$f":"IF(Table23[[#This Row],[Affected CMS\n(§63.2386(d)(1)(ix))\n(Select from dropdown)]]=\"\",\"\",VLOOKUP(Table23[[#This Row],[Affected CMS\n(§63.2386(d)(1)(ix))\n(Select from dropdown)]],Table22[],2,FALSE))","v":""}]
[null,{"$f":"IF(Table23[[#This Row],[Affected CMS\n(§63.2386(d)(1)(ix))\n(Select from dropdown)]]=\"\",\"\",VLOOKUP(Table23[[#This Row],[Affected CMS\n(§63.2386(d)(1)(ix))\n(Select from dropdown)]],Table22[],2,FALSE))","v":""}]
[null,{"$f":"IF(Table23[[#This Row],[Affected CMS\n(§63.2386(d)(1)(ix))\n(Select from dropdown)]]=\"\",\"\",VLOOKUP(Table23[[#This Row],[Affected CMS\n(§63.2386(d)(1)(ix))\n(Select from dropdown)]],Table22[],2,FALSE))","v":""}]
[null,{"$f":"IF(Table23[[#This Row],[Affected CMS\n(§63.2386(d)(1)(ix))\n(Select from dropdown)]]=\"\",\"\",VLOOKUP(Table23[[#This Row],[Affected CMS\n(§63.2386(d)(1)(ix))\n(Select from dropdown)]],Table22[],2,FALSE))","v":""}]
[null,{"$f":"IF(Table23[[#This Row],[Affected CMS\n(§63.2386(d)(1)(ix))\n(Select from dropdown)]]=\"\",\"\",VLOOKUP(Table23[[#This Row],[Affected CMS\n(§63.2386(d)(1)(ix))\n(Select from dropdown)]],Table22[],2,FALSE))","v":""}]
[null,{"$f":"IF(Table23[[#This Row],[Affected CMS\n(§63.2386(d)(1)(ix))\n(Select from dropdown)]]=\"\",\"\",VLOOKUP(Table23[[#This Row],[Affected CMS\n(§63.2386(d)(1)(ix))\n(Select from dropdown)]],Table22[],2,FALSE))","v":""}]
[null,{"$f":"IF(Table23[[#This Row],[Affected CMS\n(§63.2386(d)(1)(ix))\n(Select from dropdown)]]=\"\",\"\",VLOOKUP(Table23[[#This Row],[Affected CMS\n(§63.2386(d)(1)(ix))\n(Select from dropdown)]],Table22[],2,FALSE))","v":""}]
[null,{"$f":"IF(Table23[[#This Row],[Affected CMS\n(§63.2386(d)(1)(ix))\n(Select from dropdown)]]=\"\",\"\",VLOOKUP(Table23[[#This Row],[Affected CMS\n(§63.2386(d)(1)(ix))\n(Select from dropdown)]],Table22[],2,FALSE))","v":""}]
[null,{"$f":"IF(Table23[[#This Row],[Affected CMS\n(§63.2386(d)(1)(ix))\n(Select from dropdown)]]=\"\",\"\",VLOOKUP(Table23[[#This Row],[Affected CMS\n(§63.2386(d)(1)(ix))\n(Select from dropdown)]],Table22[],2,FALSE))","v":""}]
[null,{"$f":"IF(Table23[[#This Row],[Affected CMS\n(§63.2386(d)(1)(ix))\n(Select from dropdown)]]=\"\",\"\",VLOOKUP(Table23[[#This Row],[Affected CMS\n(§63.2386(d)(1)(ix))\n(Select from dropdown)]],Table22[],2,FALSE))","v":""}]
[null,{"$f":"IF(Table23[[#This Row],[Affected CMS\n(§63.2386(d)(1)(ix))\n(Select from dropdown)]]=\"\",\"\",VLOOKUP(Table23[[#This Row],[Affected CMS\n(§63.2386(d)(1)(ix))\n(Select from dropdown)]],Table22[],2,FALSE))","v":""}]
[null,{"$f":"IF(Table23[[#This Row],[Affected CMS\n(§63.2386(d)(1)(ix))\n(Select from dropdown)]]=\"\",\"\",VLOOKUP(Table23[[#This Row],[Affected CMS\n(§63.2386(d)(1)(ix))\n(Select from dropdown)]],Table22[],2,FALSE))","v":""}]
[null,{"$f":"IF(Table23[[#This Row],[Affected CMS\n(§63.2386(d)(1)(ix))\n(Select from dropdown)]]=\"\",\"\",VLOOKUP(Table23[[#This Row],[Affected CMS\n(§63.2386(d)(1)(ix))\n(Select from dropdown)]],Table22[],2,FALSE))","v":""}]
[null,{"$f":"IF(Table23[[#This Row],[Affected CMS\n(§63.2386(d)(1)(ix))\n(Select from dropdown)]]=\"\",\"\",VLOOKUP(Table23[[#This Row],[Affected CMS\n(§63.2386(d)(1)(ix))\n(Select from dropdown)]],Table22[],2,FALSE))","v":""}]
[null,{"$f":"IF(Table23[[#This Row],[Affected CMS\n(§63.2386(d)(1)(ix))\n(Select from dropdown)]]=\"\",\"\",VLOOKUP(Table23[[#This Row],[Affected CMS\n(§63.2386(d)(1)(ix))\n(Select from dropdown)]],Table22[],2,FALSE))","v":""}]
[null,{"$f":"IF(Table23[[#This Row],[Affected CMS\n(§63.2386(d)(1)(ix))\n(Select from dropdown)]]=\"\",\"\",VLOOKUP(Table23[[#This Row],[Affected CMS\n(§63.2386(d)(1)(ix))\n(Select from dropdown)]],Table22[],2,FALSE))","v":""}]
[null,{"$f":"IF(Table23[[#This Row],[Affected CMS\n(§63.2386(d)(1)(ix))\n(Select from dropdown)]]=\"\",\"\",VLOOKUP(Table23[[#This Row],[Affected CMS\n(§63.2386(d)(1)(ix))\n(Select from dropdown)]],Table22[],2,FALSE))","v":""}]
[null,{"$f":"IF(Table23[[#This Row],[Affected CMS\n(§63.2386(d)(1)(ix))\n(Select from dropdown)]]=\"\",\"\",VLOOKUP(Table23[[#This Row],[Affected CMS\n(§63.2386(d)(1)(ix))\n(Select from dropdown)]],Table22[],2,FALSE))","v":""}]
[null,{"$f":"IF(Table23[[#This Row],[Affected CMS\n(§63.2386(d)(1)(ix))\n(Select from dropdown)]]=\"\",\"\",VLOOKUP(Table23[[#This Row],[Affected CMS\n(§63.2386(d)(1)(ix))\n(Select from dropdown)]],Table22[],2,FALSE))","v":""}]
[null,{"$f":"IF(Table23[[#This Row],[Affected CMS\n(§63.2386(d)(1)(ix))\n(Select from dropdown)]]=\"\",\"\",VLOOKUP(Table23[[#This Row],[Affected CMS\n(§63.2386(d)(1)(ix))\n(Select from dropdown)]],Table22[],2,FALSE))","v":""}]
[null,{"$f":"IF(Table23[[#This Row],[Affected CMS\n(§63.2386(d)(1)(ix))\n(Select from dropdown)]]=\"\",\"\",VLOOKUP(Table23[[#This Row],[Affected CMS\n(§63.2386(d)(1)(ix))\n(Select from dropdown)]],Table22[],2,FALSE))","v":""}]
[null,{"$f":"IF(Table23[[#This Row],[Affected CMS\n(§63.2386(d)(1)(ix))\n(Select from dropdown)]]=\"\",\"\",VLOOKUP(Table23[[#This Row],[Affected CMS\n(§63.2386(d)(1)(ix))\n(Select from dropdown)]],Table22[],2,FALSE))","v":""}]
[null,{"$f":"IF(Table23[[#This Row],[Affected CMS\n(§63.2386(d)(1)(ix))\n(Select from dropdown)]]=\"\",\"\",VLOOKUP(Table23[[#This Row],[Affected CMS\n(§63.2386(d)(1)(ix))\n(Select from dropdown)]],Table22[],2,FALSE))","v":""}]
[null,{"$f":"IF(Table23[[#This Row],[Affected CMS\n(§63.2386(d)(1)(ix))\n(Select from dropdown)]]=\"\",\"\",VLOOKUP(Table23[[#This Row],[Affected CMS\n(§63.2386(d)(1)(ix))\n(Select from dropdown)]],Table22[],2,FALSE))","v":""}]
[null,{"$f":"IF(Table23[[#This Row],[Affected CMS\n(§63.2386(d)(1)(ix))\n(Select from dropdown)]]=\"\",\"\",VLOOKUP(Table23[[#This Row],[Affected CMS\n(§63.2386(d)(1)(ix))\n(Select from dropdown)]],Table22[],2,FALSE))","v":""}]
[null,{"$f":"IF(Table23[[#This Row],[Affected CMS\n(§63.2386(d)(1)(ix))\n(Select from dropdown)]]=\"\",\"\",VLOOKUP(Table23[[#This Row],[Affected CMS\n(§63.2386(d)(1)(ix))\n(Select from dropdown)]],Table22[],2,FALSE))","v":""}]
[null,{"$f":"IF(Table23[[#This Row],[Affected CMS\n(§63.2386(d)(1)(ix))\n(Select from dropdown)]]=\"\",\"\",VLOOKUP(Table23[[#This Row],[Affected CMS\n(§63.2386(d)(1)(ix))\n(Select from dropdown)]],Table22[],2,FALSE))","v":""}]
[null,{"$f":"IF(Table23[[#This Row],[Affected CMS\n(§63.2386(d)(1)(ix))\n(Select from dropdown)]]=\"\",\"\",VLOOKUP(Table23[[#This Row],[Affected CMS\n(§63.2386(d)(1)(ix))\n(Select from dropdown)]],Table22[],2,FALSE))","v":""}]
[null,{"$f":"IF(Table23[[#This Row],[Affected CMS\n(§63.2386(d)(1)(ix))\n(Select from dropdown)]]=\"\",\"\",VLOOKUP(Table23[[#This Row],[Affected CMS\n(§63.2386(d)(1)(ix))\n(Select from dropdown)]],Table22[],2,FALSE))","v":""}]
[null,{"$f":"IF(Table23[[#This Row],[Affected CMS\n(§63.2386(d)(1)(ix))\n(Select from dropdown)]]=\"\",\"\",VLOOKUP(Table23[[#This Row],[Affected CMS\n(§63.2386(d)(1)(ix))\n(Select from dropdown)]],Table22[],2,FALSE))","v":""}]
[null,{"$f":"IF(Table23[[#This Row],[Affected CMS\n(§63.2386(d)(1)(ix))\n(Select from dropdown)]]=\"\",\"\",VLOOKUP(Table23[[#This Row],[Affected CMS\n(§63.2386(d)(1)(ix))\n(Select from dropdown)]],Table22[],2,FALSE))","v":""}]
[null,{"$f":"IF(Table23[[#This Row],[Affected CMS\n(§63.2386(d)(1)(ix))\n(Select from dropdown)]]=\"\",\"\",VLOOKUP(Table23[[#This Row],[Affected CMS\n(§63.2386(d)(1)(ix))\n(Select from dropdown)]],Table22[],2,FALSE))","v":""}]
[null,{"$f":"IF(Table23[[#This Row],[Affected CMS\n(§63.2386(d)(1)(ix))\n(Select from dropdown)]]=\"\",\"\",VLOOKUP(Table23[[#This Row],[Affected CMS\n(§63.2386(d)(1)(ix))\n(Select from dropdown)]],Table22[],2,FALSE))","v":""}]
[null,{"$f":"IF(Table23[[#This Row],[Affected CMS\n(§63.2386(d)(1)(ix))\n(Select from dropdown)]]=\"\",\"\",VLOOKUP(Table23[[#This Row],[Affected CMS\n(§63.2386(d)(1)(ix))\n(Select from dropdown)]],Table22[],2,FALSE))","v":""}]
[null,{"$f":"IF(Table23[[#This Row],[Affected CMS\n(§63.2386(d)(1)(ix))\n(Select from dropdown)]]=\"\",\"\",VLOOKUP(Table23[[#This Row],[Affected CMS\n(§63.2386(d)(1)(ix))\n(Select from dropdown)]],Table22[],2,FALSE))","v":""}]
[null,{"$f":"IF(Table23[[#This Row],[Affected CMS\n(§63.2386(d)(1)(ix))\n(Select from dropdown)]]=\"\",\"\",VLOOKUP(Table23[[#This Row],[Affected CMS\n(§63.2386(d)(1)(ix))\n(Select from dropdown)]],Table22[],2,FALSE))","v":""}]
[null,{"$f":"IF(Table23[[#This Row],[Affected CMS\n(§63.2386(d)(1)(ix))\n(Select from dropdown)]]=\"\",\"\",VLOOKUP(Table23[[#This Row],[Affected CMS\n(§63.2386(d)(1)(ix))\n(Select from dropdown)]],Table22[],2,FALSE))","v":""}]
[null,{"$f":"IF(Table23[[#This Row],[Affected CMS\n(§63.2386(d)(1)(ix))\n(Select from dropdown)]]=\"\",\"\",VLOOKUP(Table23[[#This Row],[Affected CMS\n(§63.2386(d)(1)(ix))\n(Select from dropdown)]],Table22[],2,FALSE))","v":""}]
[null,{"$f":"IF(Table23[[#This Row],[Affected CMS\n(§63.2386(d)(1)(ix))\n(Select from dropdown)]]=\"\",\"\",VLOOKUP(Table23[[#This Row],[Affected CMS\n(§63.2386(d)(1)(ix))\n(Select from dropdown)]],Table22[],2,FALSE))","v":""}]
[null,{"$f":"IF(Table23[[#This Row],[Affected CMS\n(§63.2386(d)(1)(ix))\n(Select from dropdown)]]=\"\",\"\",VLOOKUP(Table23[[#This Row],[Affected CMS\n(§63.2386(d)(1)(ix))\n(Select from dropdown)]],Table22[],2,FALSE))","v":""}]
[null,{"$f":"IF(Table23[[#This Row],[Affected CMS\n(§63.2386(d)(1)(ix))\n(Select from dropdown)]]=\"\",\"\",VLOOKUP(Table23[[#This Row],[Affected CMS\n(§63.2386(d)(1)(ix))\n(Select from dropdown)]],Table22[],2,FALSE))","v":""}]
[null,{"$f":"IF(Table23[[#This Row],[Affected CMS\n(§63.2386(d)(1)(ix))\n(Select from dropdown)]]=\"\",\"\",VLOOKUP(Table23[[#This Row],[Affected CMS\n(§63.2386(d)(1)(ix))\n(Select from dropdown)]],Table22[],2,FALSE))","v":""}]
[null,{"$f":"IF(Table23[[#This Row],[Affected CMS\n(§63.2386(d)(1)(ix))\n(Select from dropdown)]]=\"\",\"\",VLOOKUP(Table23[[#This Row],[Affected CMS\n(§63.2386(d)(1)(ix))\n(Select from dropdown)]],Table22[],2,FALSE))","v":""}]
[null,{"$f":"IF(Table23[[#This Row],[Affected CMS\n(§63.2386(d)(1)(ix))\n(Select from dropdown)]]=\"\",\"\",VLOOKUP(Table23[[#This Row],[Affected CMS\n(§63.2386(d)(1)(ix))\n(Select from dropdown)]],Table22[],2,FALSE))","v":""}]
[null,{"$f":"IF(Table23[[#This Row],[Affected CMS\n(§63.2386(d)(1)(ix))\n(Select from dropdown)]]=\"\",\"\",VLOOKUP(Table23[[#This Row],[Affected CMS\n(§63.2386(d)(1)(ix))\n(Select from dropdown)]],Table22[],2,FALSE))","v":""}]
[null,{"$f":"IF(Table23[[#This Row],[Affected CMS\n(§63.2386(d)(1)(ix))\n(Select from dropdown)]]=\"\",\"\",VLOOKUP(Table23[[#This Row],[Affected CMS\n(§63.2386(d)(1)(ix))\n(Select from dropdown)]],Table22[],2,FALSE))","v":""}]
[null,{"$f":"IF(Table23[[#This Row],[Affected CMS\n(§63.2386(d)(1)(ix))\n(Select from dropdown)]]=\"\",\"\",VLOOKUP(Table23[[#This Row],[Affected CMS\n(§63.2386(d)(1)(ix))\n(Select from dropdown)]],Table22[],2,FALSE))","v":""}]
[null,{"$f":"IF(Table23[[#This Row],[Affected CMS\n(§63.2386(d)(1)(ix))\n(Select from dropdown)]]=\"\",\"\",VLOOKUP(Table23[[#This Row],[Affected CMS\n(§63.2386(d)(1)(ix))\n(Select from dropdown)]],Table22[],2,FALSE))","v":""}]
[null,{"$f":"IF(Table23[[#This Row],[Affected CMS\n(§63.2386(d)(1)(ix))\n(Select from dropdown)]]=\"\",\"\",VLOOKUP(Table23[[#This Row],[Affected CMS\n(§63.2386(d)(1)(ix))\n(Select from dropdown)]],Table22[],2,FALSE))","v":""}]
[null,{"$f":"IF(Table23[[#This Row],[Affected CMS\n(§63.2386(d)(1)(ix))\n(Select from dropdown)]]=\"\",\"\",VLOOKUP(Table23[[#This Row],[Affected CMS\n(§63.2386(d)(1)(ix))\n(Select from dropdown)]],Table22[],2,FALSE))","v":""}]
[null,{"$f":"IF(Table23[[#This Row],[Affected CMS\n(§63.2386(d)(1)(ix))\n(Select from dropdown)]]=\"\",\"\",VLOOKUP(Table23[[#This Row],[Affected CMS\n(§63.2386(d)(1)(ix))\n(Select from dropdown)]],Table22[],2,FALSE))","v":""}]
[null,{"$f":"IF(Table23[[#This Row],[Affected CMS\n(§63.2386(d)(1)(ix))\n(Select from dropdown)]]=\"\",\"\",VLOOKUP(Table23[[#This Row],[Affected CMS\n(§63.2386(d)(1)(ix))\n(Select from dropdown)]],Table22[],2,FALSE))","v":""}]
[null,{"$f":"IF(Table23[[#This Row],[Affected CMS\n(§63.2386(d)(1)(ix))\n(Select from dropdown)]]=\"\",\"\",VLOOKUP(Table23[[#This Row],[Affected CMS\n(§63.2386(d)(1)(ix))\n(Select from dropdown)]],Table22[],2,FALSE))","v":""}]
[null,{"$f":"IF(Table23[[#This Row],[Affected CMS\n(§63.2386(d)(1)(ix))\n(Select from dropdown)]]=\"\",\"\",VLOOKUP(Table23[[#This Row],[Affected CMS\n(§63.2386(d)(1)(ix))\n(Select from dropdown)]],Table22[],2,FALSE))","v":""}]
[null,{"$f":"IF(Table23[[#This Row],[Affected CMS\n(§63.2386(d)(1)(ix))\n(Select from dropdown)]]=\"\",\"\",VLOOKUP(Table23[[#This Row],[Affected CMS\n(§63.2386(d)(1)(ix))\n(Select from dropdown)]],Table22[],2,FALSE))","v":""}]
[null,{"$f":"IF(Table23[[#This Row],[Affected CMS\n(§63.2386(d)(1)(ix))\n(Select from dropdown)]]=\"\",\"\",VLOOKUP(Table23[[#This Row],[Affected CMS\n(§63.2386(d)(1)(ix))\n(Select from dropdown)]],Table22[],2,FALSE))","v":""}]
[null,{"$f":"IF(Table23[[#This Row],[Affected CMS\n(§63.2386(d)(1)(ix))\n(Select from dropdown)]]=\"\",\"\",VLOOKUP(Table23[[#This Row],[Affected CMS\n(§63.2386(d)(1)(ix))\n(Select from dropdown)]],Table22[],2,FALSE))","v":""}]
[null,{"$f":"IF(Table23[[#This Row],[Affected CMS\n(§63.2386(d)(1)(ix))\n(Select from dropdown)]]=\"\",\"\",VLOOKUP(Table23[[#This Row],[Affected CMS\n(§63.2386(d)(1)(ix))\n(Select from dropdown)]],Table22[],2,FALSE))","v":""}]
[null,{"$f":"IF(Table23[[#This Row],[Affected CMS\n(§63.2386(d)(1)(ix))\n(Select from dropdown)]]=\"\",\"\",VLOOKUP(Table23[[#This Row],[Affected CMS\n(§63.2386(d)(1)(ix))\n(Select from dropdown)]],Table22[],2,FALSE))","v":""}]
[null,{"$f":"IF(Table23[[#This Row],[Affected CMS\n(§63.2386(d)(1)(ix))\n(Select from dropdown)]]=\"\",\"\",VLOOKUP(Table23[[#This Row],[Affected CMS\n(§63.2386(d)(1)(ix))\n(Select from dropdown)]],Table22[],2,FALSE))","v":""}]
[null,{"$f":"IF(Table23[[#This Row],[Affected CMS\n(§63.2386(d)(1)(ix))\n(Select from dropdown)]]=\"\",\"\",VLOOKUP(Table23[[#This Row],[Affected CMS\n(§63.2386(d)(1)(ix))\n(Select from dropdown)]],Table22[],2,FALSE))","v":""}]
[null,{"$f":"IF(Table23[[#This Row],[Affected CMS\n(§63.2386(d)(1)(ix))\n(Select from dropdown)]]=\"\",\"\",VLOOKUP(Table23[[#This Row],[Affected CMS\n(§63.2386(d)(1)(ix))\n(Select from dropdown)]],Table22[],2,FALSE))","v":""}]
[null,{"$f":"IF(Table23[[#This Row],[Affected CMS\n(§63.2386(d)(1)(ix))\n(Select from dropdown)]]=\"\",\"\",VLOOKUP(Table23[[#This Row],[Affected CMS\n(§63.2386(d)(1)(ix))\n(Select from dropdown)]],Table22[],2,FALSE))","v":""}]
[null,{"$f":"IF(Table23[[#This Row],[Affected CMS\n(§63.2386(d)(1)(ix))\n(Select from dropdown)]]=\"\",\"\",VLOOKUP(Table23[[#This Row],[Affected CMS\n(§63.2386(d)(1)(ix))\n(Select from dropdown)]],Table22[],2,FALSE))","v":""}]
[null,{"$f":"IF(Table23[[#This Row],[Affected CMS\n(§63.2386(d)(1)(ix))\n(Select from dropdown)]]=\"\",\"\",VLOOKUP(Table23[[#This Row],[Affected CMS\n(§63.2386(d)(1)(ix))\n(Select from dropdown)]],Table22[],2,FALSE))","v":""}]
[null,{"$f":"IF(Table23[[#This Row],[Affected CMS\n(§63.2386(d)(1)(ix))\n(Select from dropdown)]]=\"\",\"\",VLOOKUP(Table23[[#This Row],[Affected CMS\n(§63.2386(d)(1)(ix))\n(Select from dropdown)]],Table22[],2,FALSE))","v":""}]
[null,{"$f":"IF(Table23[[#This Row],[Affected CMS\n(§63.2386(d)(1)(ix))\n(Select from dropdown)]]=\"\",\"\",VLOOKUP(Table23[[#This Row],[Affected CMS\n(§63.2386(d)(1)(ix))\n(Select from dropdown)]],Table22[],2,FALSE))","v":""}]
[null,{"$f":"IF(Table23[[#This Row],[Affected CMS\n(§63.2386(d)(1)(ix))\n(Select from dropdown)]]=\"\",\"\",VLOOKUP(Table23[[#This Row],[Affected CMS\n(§63.2386(d)(1)(ix))\n(Select from dropdown)]],Table22[],2,FALSE))","v":""}]
[null,{"$f":"IF(Table23[[#This Row],[Affected CMS\n(§63.2386(d)(1)(ix))\n(Select from dropdown)]]=\"\",\"\",VLOOKUP(Table23[[#This Row],[Affected CMS\n(§63.2386(d)(1)(ix))\n(Select from dropdown)]],Table22[],2,FALSE))","v":""}]
[null,{"$f":"IF(Table23[[#This Row],[Affected CMS\n(§63.2386(d)(1)(ix))\n(Select from dropdown)]]=\"\",\"\",VLOOKUP(Table23[[#This Row],[Affected CMS\n(§63.2386(d)(1)(ix))\n(Select from dropdown)]],Table22[],2,FALSE))","v":""}]
[null,{"$f":"IF(Table23[[#This Row],[Affected CMS\n(§63.2386(d)(1)(ix))\n(Select from dropdown)]]=\"\",\"\",VLOOKUP(Table23[[#This Row],[Affected CMS\n(§63.2386(d)(1)(ix))\n(Select from dropdown)]],Table22[],2,FALSE))","v":""}]
[null,{"$f":"IF(Table23[[#This Row],[Affected CMS\n(§63.2386(d)(1)(ix))\n(Select from dropdown)]]=\"\",\"\",VLOOKUP(Table23[[#This Row],[Affected CMS\n(§63.2386(d)(1)(ix))\n(Select from dropdown)]],Table22[],2,FALSE))","v":""}]
[null,{"$f":"IF(Table23[[#This Row],[Affected CMS\n(§63.2386(d)(1)(ix))\n(Select from dropdown)]]=\"\",\"\",VLOOKUP(Table23[[#This Row],[Affected CMS\n(§63.2386(d)(1)(ix))\n(Select from dropdown)]],Table22[],2,FALSE))","v":""}]
[null,{"$f":"IF(Table23[[#This Row],[Affected CMS\n(§63.2386(d)(1)(ix))\n(Select from dropdown)]]=\"\",\"\",VLOOKUP(Table23[[#This Row],[Affected CMS\n(§63.2386(d)(1)(ix))\n(Select from dropdown)]],Table22[],2,FALSE))","v":""}]
[null,{"$f":"IF(Table23[[#This Row],[Affected CMS\n(§63.2386(d)(1)(ix))\n(Select from dropdown)]]=\"\",\"\",VLOOKUP(Table23[[#This Row],[Affected CMS\n(§63.2386(d)(1)(ix))\n(Select from dropdown)]],Table22[],2,FALSE))","v":""}]
[null,{"$f":"IF(Table23[[#This Row],[Affected CMS\n(§63.2386(d)(1)(ix))\n(Select from dropdown)]]=\"\",\"\",VLOOKUP(Table23[[#This Row],[Affected CMS\n(§63.2386(d)(1)(ix))\n(Select from dropdown)]],Table22[],2,FALSE))","v":""}]
[null,{"$f":"IF(Table23[[#This Row],[Affected CMS\n(§63.2386(d)(1)(ix))\n(Select from dropdown)]]=\"\",\"\",VLOOKUP(Table23[[#This Row],[Affected CMS\n(§63.2386(d)(1)(ix))\n(Select from dropdown)]],Table22[],2,FALSE))","v":""}]
[null,{"$f":"IF(Table23[[#This Row],[Affected CMS\n(§63.2386(d)(1)(ix))\n(Select from dropdown)]]=\"\",\"\",VLOOKUP(Table23[[#This Row],[Affected CMS\n(§63.2386(d)(1)(ix))\n(Select from dropdown)]],Table22[],2,FALSE))","v":""}]
[null,{"$f":"IF(Table23[[#This Row],[Affected CMS\n(§63.2386(d)(1)(ix))\n(Select from dropdown)]]=\"\",\"\",VLOOKUP(Table23[[#This Row],[Affected CMS\n(§63.2386(d)(1)(ix))\n(Select from dropdown)]],Table22[],2,FALSE))","v":""}]
[null,{"$f":"IF(Table23[[#This Row],[Affected CMS\n(§63.2386(d)(1)(ix))\n(Select from dropdown)]]=\"\",\"\",VLOOKUP(Table23[[#This Row],[Affected CMS\n(§63.2386(d)(1)(ix))\n(Select from dropdown)]],Table22[],2,FALSE))","v":""}]
[null,{"$f":"IF(Table23[[#This Row],[Affected CMS\n(§63.2386(d)(1)(ix))\n(Select from dropdown)]]=\"\",\"\",VLOOKUP(Table23[[#This Row],[Affected CMS\n(§63.2386(d)(1)(ix))\n(Select from dropdown)]],Table22[],2,FALSE))","v":""}]
[null,{"$f":"IF(Table23[[#This Row],[Affected CMS\n(§63.2386(d)(1)(ix))\n(Select from dropdown)]]=\"\",\"\",VLOOKUP(Table23[[#This Row],[Affected CMS\n(§63.2386(d)(1)(ix))\n(Select from dropdown)]],Table22[],2,FALSE))","v":""}]
[null,{"$f":"IF(Table23[[#This Row],[Affected CMS\n(§63.2386(d)(1)(ix))\n(Select from dropdown)]]=\"\",\"\",VLOOKUP(Table23[[#This Row],[Affected CMS\n(§63.2386(d)(1)(ix))\n(Select from dropdown)]],Table22[],2,FALSE))","v":""}]
[null,{"$f":"IF(Table23[[#This Row],[Affected CMS\n(§63.2386(d)(1)(ix))\n(Select from dropdown)]]=\"\",\"\",VLOOKUP(Table23[[#This Row],[Affected CMS\n(§63.2386(d)(1)(ix))\n(Select from dropdown)]],Table22[],2,FALSE))","v":""}]
[null,{"$f":"IF(Table23[[#This Row],[Affected CMS\n(§63.2386(d)(1)(ix))\n(Select from dropdown)]]=\"\",\"\",VLOOKUP(Table23[[#This Row],[Affected CMS\n(§63.2386(d)(1)(ix))\n(Select from dropdown)]],Table22[],2,FALSE))","v":""}]
[null,{"$f":"IF(Table23[[#This Row],[Affected CMS\n(§63.2386(d)(1)(ix))\n(Select from dropdown)]]=\"\",\"\",VLOOKUP(Table23[[#This Row],[Affected CMS\n(§63.2386(d)(1)(ix))\n(Select from dropdown)]],Table22[],2,FALSE))","v":""}]
[null,{"$f":"IF(Table23[[#This Row],[Affected CMS\n(§63.2386(d)(1)(ix))\n(Select from dropdown)]]=\"\",\"\",VLOOKUP(Table23[[#This Row],[Affected CMS\n(§63.2386(d)(1)(ix))\n(Select from dropdown)]],Table22[],2,FALSE))","v":""}]
[null,{"$f":"IF(Table23[[#This Row],[Affected CMS\n(§63.2386(d)(1)(ix))\n(Select from dropdown)]]=\"\",\"\",VLOOKUP(Table23[[#This Row],[Affected CMS\n(§63.2386(d)(1)(ix))\n(Select from dropdown)]],Table22[],2,FALSE))","v":""}]
[null,{"$f":"IF(Table23[[#This Row],[Affected CMS\n(§63.2386(d)(1)(ix))\n(Select from dropdown)]]=\"\",\"\",VLOOKUP(Table23[[#This Row],[Affected CMS\n(§63.2386(d)(1)(ix))\n(Select from dropdown)]],Table22[],2,FALSE))","v":""}]
[null,{"$f":"IF(Table23[[#This Row],[Affected CMS\n(§63.2386(d)(1)(ix))\n(Select from dropdown)]]=\"\",\"\",VLOOKUP(Table23[[#This Row],[Affected CMS\n(§63.2386(d)(1)(ix))\n(Select from dropdown)]],Table22[],2,FALSE))","v":""}]
[null,{"$f":"IF(Table23[[#This Row],[Affected CMS\n(§63.2386(d)(1)(ix))\n(Select from dropdown)]]=\"\",\"\",VLOOKUP(Table23[[#This Row],[Affected CMS\n(§63.2386(d)(1)(ix))\n(Select from dropdown)]],Table22[],2,FALSE))","v":""}]
[null,{"$f":"IF(Table23[[#This Row],[Affected CMS\n(§63.2386(d)(1)(ix))\n(Select from dropdown)]]=\"\",\"\",VLOOKUP(Table23[[#This Row],[Affected CMS\n(§63.2386(d)(1)(ix))\n(Select from dropdown)]],Table22[],2,FALSE))","v":""}]
[null,{"$f":"IF(Table23[[#This Row],[Affected CMS\n(§63.2386(d)(1)(ix))\n(Select from dropdown)]]=\"\",\"\",VLOOKUP(Table23[[#This Row],[Affected CMS\n(§63.2386(d)(1)(ix))\n(Select from dropdown)]],Table22[],2,FALSE))","v":""}]
[null,{"$f":"IF(Table23[[#This Row],[Affected CMS\n(§63.2386(d)(1)(ix))\n(Select from dropdown)]]=\"\",\"\",VLOOKUP(Table23[[#This Row],[Affected CMS\n(§63.2386(d)(1)(ix))\n(Select from dropdown)]],Table22[],2,FALSE))","v":""}]
[null,{"$f":"IF(Table23[[#This Row],[Affected CMS\n(§63.2386(d)(1)(ix))\n(Select from dropdown)]]=\"\",\"\",VLOOKUP(Table23[[#This Row],[Affected CMS\n(§63.2386(d)(1)(ix))\n(Select from dropdown)]],Table22[],2,FALSE))","v":""}]
[null,{"$f":"IF(Table23[[#This Row],[Affected CMS\n(§63.2386(d)(1)(ix))\n(Select from dropdown)]]=\"\",\"\",VLOOKUP(Table23[[#This Row],[Affected CMS\n(§63.2386(d)(1)(ix))\n(Select from dropdown)]],Table22[],2,FALSE))","v":""}]
[null,{"$f":"IF(Table23[[#This Row],[Affected CMS\n(§63.2386(d)(1)(ix))\n(Select from dropdown)]]=\"\",\"\",VLOOKUP(Table23[[#This Row],[Affected CMS\n(§63.2386(d)(1)(ix))\n(Select from dropdown)]],Table22[],2,FALSE))","v":""}]
[null,{"$f":"IF(Table23[[#This Row],[Affected CMS\n(§63.2386(d)(1)(ix))\n(Select from dropdown)]]=\"\",\"\",VLOOKUP(Table23[[#This Row],[Affected CMS\n(§63.2386(d)(1)(ix))\n(Select from dropdown)]],Table22[],2,FALSE))","v":""}]
[null,{"$f":"IF(Table23[[#This Row],[Affected CMS\n(§63.2386(d)(1)(ix))\n(Select from dropdown)]]=\"\",\"\",VLOOKUP(Table23[[#This Row],[Affected CMS\n(§63.2386(d)(1)(ix))\n(Select from dropdown)]],Table22[],2,FALSE))","v":""}]
[null,{"$f":"IF(Table23[[#This Row],[Affected CMS\n(§63.2386(d)(1)(ix))\n(Select from dropdown)]]=\"\",\"\",VLOOKUP(Table23[[#This Row],[Affected CMS\n(§63.2386(d)(1)(ix))\n(Select from dropdown)]],Table22[],2,FALSE))","v":""}]
[null,{"$f":"IF(Table23[[#This Row],[Affected CMS\n(§63.2386(d)(1)(ix))\n(Select from dropdown)]]=\"\",\"\",VLOOKUP(Table23[[#This Row],[Affected CMS\n(§63.2386(d)(1)(ix))\n(Select from dropdown)]],Table22[],2,FALSE))","v":""}]
[null,{"$f":"IF(Table23[[#This Row],[Affected CMS\n(§63.2386(d)(1)(ix))\n(Select from dropdown)]]=\"\",\"\",VLOOKUP(Table23[[#This Row],[Affected CMS\n(§63.2386(d)(1)(ix))\n(Select from dropdown)]],Table22[],2,FALSE))","v":""}]
[null,{"$f":"IF(Table23[[#This Row],[Affected CMS\n(§63.2386(d)(1)(ix))\n(Select from dropdown)]]=\"\",\"\",VLOOKUP(Table23[[#This Row],[Affected CMS\n(§63.2386(d)(1)(ix))\n(Select from dropdown)]],Table22[],2,FALSE))","v":""}]
[null,{"$f":"IF(Table23[[#This Row],[Affected CMS\n(§63.2386(d)(1)(ix))\n(Select from dropdown)]]=\"\",\"\",VLOOKUP(Table23[[#This Row],[Affected CMS\n(§63.2386(d)(1)(ix))\n(Select from dropdown)]],Table22[],2,FALSE))","v":""}]
[null,{"$f":"IF(Table23[[#This Row],[Affected CMS\n(§63.2386(d)(1)(ix))\n(Select from dropdown)]]=\"\",\"\",VLOOKUP(Table23[[#This Row],[Affected CMS\n(§63.2386(d)(1)(ix))\n(Select from dropdown)]],Table22[],2,FALSE))","v":""}]
[null,{"$f":"IF(Table23[[#This Row],[Affected CMS\n(§63.2386(d)(1)(ix))\n(Select from dropdown)]]=\"\",\"\",VLOOKUP(Table23[[#This Row],[Affected CMS\n(§63.2386(d)(1)(ix))\n(Select from dropdown)]],Table22[],2,FALSE))","v":""}]
[null,{"$f":"IF(Table23[[#This Row],[Affected CMS\n(§63.2386(d)(1)(ix))\n(Select from dropdown)]]=\"\",\"\",VLOOKUP(Table23[[#This Row],[Affected CMS\n(§63.2386(d)(1)(ix))\n(Select from dropdown)]],Table22[],2,FALSE))","v":""}]
[null,{"$f":"IF(Table23[[#This Row],[Affected CMS\n(§63.2386(d)(1)(ix))\n(Select from dropdown)]]=\"\",\"\",VLOOKUP(Table23[[#This Row],[Affected CMS\n(§63.2386(d)(1)(ix))\n(Select from dropdown)]],Table22[],2,FALSE))","v":""}]
[null,{"$f":"IF(Table23[[#This Row],[Affected CMS\n(§63.2386(d)(1)(ix))\n(Select from dropdown)]]=\"\",\"\",VLOOKUP(Table23[[#This Row],[Affected CMS\n(§63.2386(d)(1)(ix))\n(Select from dropdown)]],Table22[],2,FALSE))","v":""}]
[null,{"$f":"IF(Table23[[#This Row],[Affected CMS\n(§63.2386(d)(1)(ix))\n(Select from dropdown)]]=\"\",\"\",VLOOKUP(Table23[[#This Row],[Affected CMS\n(§63.2386(d)(1)(ix))\n(Select from dropdown)]],Table22[],2,FALSE))","v":""}]
[null,{"$f":"IF(Table23[[#This Row],[Affected CMS\n(§63.2386(d)(1)(ix))\n(Select from dropdown)]]=\"\",\"\",VLOOKUP(Table23[[#This Row],[Affected CMS\n(§63.2386(d)(1)(ix))\n(Select from dropdown)]],Table22[],2,FALSE))","v":""}]
[null,{"$f":"IF(Table23[[#This Row],[Affected CMS\n(§63.2386(d)(1)(ix))\n(Select from dropdown)]]=\"\",\"\",VLOOKUP(Table23[[#This Row],[Affected CMS\n(§63.2386(d)(1)(ix))\n(Select from dropdown)]],Table22[],2,FALSE))","v":""}]
[null,{"$f":"IF(Table23[[#This Row],[Affected CMS\n(§63.2386(d)(1)(ix))\n(Select from dropdown)]]=\"\",\"\",VLOOKUP(Table23[[#This Row],[Affected CMS\n(§63.2386(d)(1)(ix))\n(Select from dropdown)]],Table22[],2,FALSE))","v":""}]
[null,{"$f":"IF(Table23[[#This Row],[Affected CMS\n(§63.2386(d)(1)(ix))\n(Select from dropdown)]]=\"\",\"\",VLOOKUP(Table23[[#This Row],[Affected CMS\n(§63.2386(d)(1)(ix))\n(Select from dropdown)]],Table22[],2,FALSE))","v":""}]
[null,{"$f":"IF(Table23[[#This Row],[Affected CMS\n(§63.2386(d)(1)(ix))\n(Select from dropdown)]]=\"\",\"\",VLOOKUP(Table23[[#This Row],[Affected CMS\n(§63.2386(d)(1)(ix))\n(Select from dropdown)]],Table22[],2,FALSE))","v":""}]
[null,{"$f":"IF(Table23[[#This Row],[Affected CMS\n(§63.2386(d)(1)(ix))\n(Select from dropdown)]]=\"\",\"\",VLOOKUP(Table23[[#This Row],[Affected CMS\n(§63.2386(d)(1)(ix))\n(Select from dropdown)]],Table22[],2,FALSE))","v":""}]
[null,{"$f":"IF(Table23[[#This Row],[Affected CMS\n(§63.2386(d)(1)(ix))\n(Select from dropdown)]]=\"\",\"\",VLOOKUP(Table23[[#This Row],[Affected CMS\n(§63.2386(d)(1)(ix))\n(Select from dropdown)]],Table22[],2,FALSE))","v":""}]
[null,{"$f":"IF(Table23[[#This Row],[Affected CMS\n(§63.2386(d)(1)(ix))\n(Select from dropdown)]]=\"\",\"\",VLOOKUP(Table23[[#This Row],[Affected CMS\n(§63.2386(d)(1)(ix))\n(Select from dropdown)]],Table22[],2,FALSE))","v":""}]
[null,{"$f":"IF(Table23[[#This Row],[Affected CMS\n(§63.2386(d)(1)(ix))\n(Select from dropdown)]]=\"\",\"\",VLOOKUP(Table23[[#This Row],[Affected CMS\n(§63.2386(d)(1)(ix))\n(Select from dropdown)]],Table22[],2,FALSE))","v":""}]
[null,{"$f":"IF(Table23[[#This Row],[Affected CMS\n(§63.2386(d)(1)(ix))\n(Select from dropdown)]]=\"\",\"\",VLOOKUP(Table23[[#This Row],[Affected CMS\n(§63.2386(d)(1)(ix))\n(Select from dropdown)]],Table22[],2,FALSE))","v":""}]
[null,{"$f":"IF(Table23[[#This Row],[Affected CMS\n(§63.2386(d)(1)(ix))\n(Select from dropdown)]]=\"\",\"\",VLOOKUP(Table23[[#This Row],[Affected CMS\n(§63.2386(d)(1)(ix))\n(Select from dropdown)]],Table22[],2,FALSE))","v":""}]
[null,{"$f":"IF(Table23[[#This Row],[Affected CMS\n(§63.2386(d)(1)(ix))\n(Select from dropdown)]]=\"\",\"\",VLOOKUP(Table23[[#This Row],[Affected CMS\n(§63.2386(d)(1)(ix))\n(Select from dropdown)]],Table22[],2,FALSE))","v":""}]
[null,{"$f":"IF(Table23[[#This Row],[Affected CMS\n(§63.2386(d)(1)(ix))\n(Select from dropdown)]]=\"\",\"\",VLOOKUP(Table23[[#This Row],[Affected CMS\n(§63.2386(d)(1)(ix))\n(Select from dropdown)]],Table22[],2,FALSE))","v":""}]
[null,{"$f":"IF(Table23[[#This Row],[Affected CMS\n(§63.2386(d)(1)(ix))\n(Select from dropdown)]]=\"\",\"\",VLOOKUP(Table23[[#This Row],[Affected CMS\n(§63.2386(d)(1)(ix))\n(Select from dropdown)]],Table22[],2,FALSE))","v":""}]
[null,{"$f":"IF(Table23[[#This Row],[Affected CMS\n(§63.2386(d)(1)(ix))\n(Select from dropdown)]]=\"\",\"\",VLOOKUP(Table23[[#This Row],[Affected CMS\n(§63.2386(d)(1)(ix))\n(Select from dropdown)]],Table22[],2,FALSE))","v":""}]
[null,{"$f":"IF(Table23[[#This Row],[Affected CMS\n(§63.2386(d)(1)(ix))\n(Select from dropdown)]]=\"\",\"\",VLOOKUP(Table23[[#This Row],[Affected CMS\n(§63.2386(d)(1)(ix))\n(Select from dropdown)]],Table22[],2,FALSE))","v":""}]
[null,{"$f":"IF(Table23[[#This Row],[Affected CMS\n(§63.2386(d)(1)(ix))\n(Select from dropdown)]]=\"\",\"\",VLOOKUP(Table23[[#This Row],[Affected CMS\n(§63.2386(d)(1)(ix))\n(Select from dropdown)]],Table22[],2,FALSE))","v":""}]
[null,{"$f":"IF(Table23[[#This Row],[Affected CMS\n(§63.2386(d)(1)(ix))\n(Select from dropdown)]]=\"\",\"\",VLOOKUP(Table23[[#This Row],[Affected CMS\n(§63.2386(d)(1)(ix))\n(Select from dropdown)]],Table22[],2,FALSE))","v":""}]
[null,{"$f":"IF(Table23[[#This Row],[Affected CMS\n(§63.2386(d)(1)(ix))\n(Select from dropdown)]]=\"\",\"\",VLOOKUP(Table23[[#This Row],[Affected CMS\n(§63.2386(d)(1)(ix))\n(Select from dropdown)]],Table22[],2,FALSE))","v":""}]
[null,{"$f":"IF(Table23[[#This Row],[Affected CMS\n(§63.2386(d)(1)(ix))\n(Select from dropdown)]]=\"\",\"\",VLOOKUP(Table23[[#This Row],[Affected CMS\n(§63.2386(d)(1)(ix))\n(Select from dropdown)]],Table22[],2,FALSE))","v":""}]
[null,{"$f":"IF(Table23[[#This Row],[Affected CMS\n(§63.2386(d)(1)(ix))\n(Select from dropdown)]]=\"\",\"\",VLOOKUP(Table23[[#This Row],[Affected CMS\n(§63.2386(d)(1)(ix))\n(Select from dropdown)]],Table22[],2,FALSE))","v":""}]
[null,{"$f":"IF(Table23[[#This Row],[Affected CMS\n(§63.2386(d)(1)(ix))\n(Select from dropdown)]]=\"\",\"\",VLOOKUP(Table23[[#This Row],[Affected CMS\n(§63.2386(d)(1)(ix))\n(Select from dropdown)]],Table22[],2,FALSE))","v":""}]
[null,{"$f":"IF(Table23[[#This Row],[Affected CMS\n(§63.2386(d)(1)(ix))\n(Select from dropdown)]]=\"\",\"\",VLOOKUP(Table23[[#This Row],[Affected CMS\n(§63.2386(d)(1)(ix))\n(Select from dropdown)]],Table22[],2,FALSE))","v":""}]
[null,{"$f":"IF(Table23[[#This Row],[Affected CMS\n(§63.2386(d)(1)(ix))\n(Select from dropdown)]]=\"\",\"\",VLOOKUP(Table23[[#This Row],[Affected CMS\n(§63.2386(d)(1)(ix))\n(Select from dropdown)]],Table22[],2,FALSE))","v":""}]
[null,{"$f":"IF(Table23[[#This Row],[Affected CMS\n(§63.2386(d)(1)(ix))\n(Select from dropdown)]]=\"\",\"\",VLOOKUP(Table23[[#This Row],[Affected CMS\n(§63.2386(d)(1)(ix))\n(Select from dropdown)]],Table22[],2,FALSE))","v":""}]
[null,{"$f":"IF(Table23[[#This Row],[Affected CMS\n(§63.2386(d)(1)(ix))\n(Select from dropdown)]]=\"\",\"\",VLOOKUP(Table23[[#This Row],[Affected CMS\n(§63.2386(d)(1)(ix))\n(Select from dropdown)]],Table22[],2,FALSE))","v":""}]
[null,{"$f":"IF(Table23[[#This Row],[Affected CMS\n(§63.2386(d)(1)(ix))\n(Select from dropdown)]]=\"\",\"\",VLOOKUP(Table23[[#This Row],[Affected CMS\n(§63.2386(d)(1)(ix))\n(Select from dropdown)]],Table22[],2,FALSE))","v":""}]
[null,{"$f":"IF(Table23[[#This Row],[Affected CMS\n(§63.2386(d)(1)(ix))\n(Select from dropdown)]]=\"\",\"\",VLOOKUP(Table23[[#This Row],[Affected CMS\n(§63.2386(d)(1)(ix))\n(Select from dropdown)]],Table22[],2,FALSE))","v":""}]
[null,{"$f":"IF(Table23[[#This Row],[Affected CMS\n(§63.2386(d)(1)(ix))\n(Select from dropdown)]]=\"\",\"\",VLOOKUP(Table23[[#This Row],[Affected CMS\n(§63.2386(d)(1)(ix))\n(Select from dropdown)]],Table22[],2,FALSE))","v":""}]
[null,{"$f":"IF(Table23[[#This Row],[Affected CMS\n(§63.2386(d)(1)(ix))\n(Select from dropdown)]]=\"\",\"\",VLOOKUP(Table23[[#This Row],[Affected CMS\n(§63.2386(d)(1)(ix))\n(Select from dropdown)]],Table22[],2,FALSE))","v":""}]
[null,{"$f":"IF(Table23[[#This Row],[Affected CMS\n(§63.2386(d)(1)(ix))\n(Select from dropdown)]]=\"\",\"\",VLOOKUP(Table23[[#This Row],[Affected CMS\n(§63.2386(d)(1)(ix))\n(Select from dropdown)]],Table22[],2,FALSE))","v":""}]
[null,{"$f":"IF(Table23[[#This Row],[Affected CMS\n(§63.2386(d)(1)(ix))\n(Select from dropdown)]]=\"\",\"\",VLOOKUP(Table23[[#This Row],[Affected CMS\n(§63.2386(d)(1)(ix))\n(Select from dropdown)]],Table22[],2,FALSE))","v":""}]
[null,{"$f":"IF(Table23[[#This Row],[Affected CMS\n(§63.2386(d)(1)(ix))\n(Select from dropdown)]]=\"\",\"\",VLOOKUP(Table23[[#This Row],[Affected CMS\n(§63.2386(d)(1)(ix))\n(Select from dropdown)]],Table22[],2,FALSE))","v":""}]
[null,{"$f":"IF(Table23[[#This Row],[Affected CMS\n(§63.2386(d)(1)(ix))\n(Select from dropdown)]]=\"\",\"\",VLOOKUP(Table23[[#This Row],[Affected CMS\n(§63.2386(d)(1)(ix))\n(Select from dropdown)]],Table22[],2,FALSE))","v":""}]
[null,{"$f":"IF(Table23[[#This Row],[Affected CMS\n(§63.2386(d)(1)(ix))\n(Select from dropdown)]]=\"\",\"\",VLOOKUP(Table23[[#This Row],[Affected CMS\n(§63.2386(d)(1)(ix))\n(Select from dropdown)]],Table22[],2,FALSE))","v":""}]
[null,{"$f":"IF(Table23[[#This Row],[Affected CMS\n(§63.2386(d)(1)(ix))\n(Select from dropdown)]]=\"\",\"\",VLOOKUP(Table23[[#This Row],[Affected CMS\n(§63.2386(d)(1)(ix))\n(Select from dropdown)]],Table22[],2,FALSE))","v":""}]
[null,{"$f":"IF(Table23[[#This Row],[Affected CMS\n(§63.2386(d)(1)(ix))\n(Select from dropdown)]]=\"\",\"\",VLOOKUP(Table23[[#This Row],[Affected CMS\n(§63.2386(d)(1)(ix))\n(Select from dropdown)]],Table22[],2,FALSE))","v":""}]
[null,{"$f":"IF(Table23[[#This Row],[Affected CMS\n(§63.2386(d)(1)(ix))\n(Select from dropdown)]]=\"\",\"\",VLOOKUP(Table23[[#This Row],[Affected CMS\n(§63.2386(d)(1)(ix))\n(Select from dropdown)]],Table22[],2,FALSE))","v":""}]
[null,{"$f":"IF(Table23[[#This Row],[Affected CMS\n(§63.2386(d)(1)(ix))\n(Select from dropdown)]]=\"\",\"\",VLOOKUP(Table23[[#This Row],[Affected CMS\n(§63.2386(d)(1)(ix))\n(Select from dropdown)]],Table22[],2,FALSE))","v":""}]
[null,{"$f":"IF(Table23[[#This Row],[Affected CMS\n(§63.2386(d)(1)(ix))\n(Select from dropdown)]]=\"\",\"\",VLOOKUP(Table23[[#This Row],[Affected CMS\n(§63.2386(d)(1)(ix))\n(Select from dropdown)]],Table22[],2,FALSE))","v":""}]
[null,{"$f":"IF(Table23[[#This Row],[Affected CMS\n(§63.2386(d)(1)(ix))\n(Select from dropdown)]]=\"\",\"\",VLOOKUP(Table23[[#This Row],[Affected CMS\n(§63.2386(d)(1)(ix))\n(Select from dropdown)]],Table22[],2,FALSE))","v":""}]
[null,{"$f":"IF(Table23[[#This Row],[Affected CMS\n(§63.2386(d)(1)(ix))\n(Select from dropdown)]]=\"\",\"\",VLOOKUP(Table23[[#This Row],[Affected CMS\n(§63.2386(d)(1)(ix))\n(Select from dropdown)]],Table22[],2,FALSE))","v":""}]
[null,{"$f":"IF(Table23[[#This Row],[Affected CMS\n(§63.2386(d)(1)(ix))\n(Select from dropdown)]]=\"\",\"\",VLOOKUP(Table23[[#This Row],[Affected CMS\n(§63.2386(d)(1)(ix))\n(Select from dropdown)]],Table22[],2,FALSE))","v":""}]
[null,{"$f":"IF(Table23[[#This Row],[Affected CMS\n(§63.2386(d)(1)(ix))\n(Select from dropdown)]]=\"\",\"\",VLOOKUP(Table23[[#This Row],[Affected CMS\n(§63.2386(d)(1)(ix))\n(Select from dropdown)]],Table22[],2,FALSE))","v":""}]
[null,{"$f":"IF(Table23[[#This Row],[Affected CMS\n(§63.2386(d)(1)(ix))\n(Select from dropdown)]]=\"\",\"\",VLOOKUP(Table23[[#This Row],[Affected CMS\n(§63.2386(d)(1)(ix))\n(Select from dropdown)]],Table22[],2,FALSE))","v":""}]
[null,{"$f":"IF(Table23[[#This Row],[Affected CMS\n(§63.2386(d)(1)(ix))\n(Select from dropdown)]]=\"\",\"\",VLOOKUP(Table23[[#This Row],[Affected CMS\n(§63.2386(d)(1)(ix))\n(Select from dropdown)]],Table22[],2,FALSE))","v":""}]
[null,{"$f":"IF(Table23[[#This Row],[Affected CMS\n(§63.2386(d)(1)(ix))\n(Select from dropdown)]]=\"\",\"\",VLOOKUP(Table23[[#This Row],[Affected CMS\n(§63.2386(d)(1)(ix))\n(Select from dropdown)]],Table22[],2,FALSE))","v":""}]
[null,{"$f":"IF(Table23[[#This Row],[Affected CMS\n(§63.2386(d)(1)(ix))\n(Select from dropdown)]]=\"\",\"\",VLOOKUP(Table23[[#This Row],[Affected CMS\n(§63.2386(d)(1)(ix))\n(Select from dropdown)]],Table22[],2,FALSE))","v":""}]
[null,{"$f":"IF(Table23[[#This Row],[Affected CMS\n(§63.2386(d)(1)(ix))\n(Select from dropdown)]]=\"\",\"\",VLOOKUP(Table23[[#This Row],[Affected CMS\n(§63.2386(d)(1)(ix))\n(Select from dropdown)]],Table22[],2,FALSE))","v":""}]
[null,{"$f":"IF(Table23[[#This Row],[Affected CMS\n(§63.2386(d)(1)(ix))\n(Select from dropdown)]]=\"\",\"\",VLOOKUP(Table23[[#This Row],[Affected CMS\n(§63.2386(d)(1)(ix))\n(Select from dropdown)]],Table22[],2,FALSE))","v":""}]
[null,{"$f":"IF(Table23[[#This Row],[Affected CMS\n(§63.2386(d)(1)(ix))\n(Select from dropdown)]]=\"\",\"\",VLOOKUP(Table23[[#This Row],[Affected CMS\n(§63.2386(d)(1)(ix))\n(Select from dropdown)]],Table22[],2,FALSE))","v":""}]
[null,{"$f":"IF(Table23[[#This Row],[Affected CMS\n(§63.2386(d)(1)(ix))\n(Select from dropdown)]]=\"\",\"\",VLOOKUP(Table23[[#This Row],[Affected CMS\n(§63.2386(d)(1)(ix))\n(Select from dropdown)]],Table22[],2,FALSE))","v":""}]
[null,{"$f":"IF(Table23[[#This Row],[Affected CMS\n(§63.2386(d)(1)(ix))\n(Select from dropdown)]]=\"\",\"\",VLOOKUP(Table23[[#This Row],[Affected CMS\n(§63.2386(d)(1)(ix))\n(Select from dropdown)]],Table22[],2,FALSE))","v":""}]
[null,{"$f":"IF(Table23[[#This Row],[Affected CMS\n(§63.2386(d)(1)(ix))\n(Select from dropdown)]]=\"\",\"\",VLOOKUP(Table23[[#This Row],[Affected CMS\n(§63.2386(d)(1)(ix))\n(Select from dropdown)]],Table22[],2,FALSE))","v":""}]
[null,{"$f":"IF(Table23[[#This Row],[Affected CMS\n(§63.2386(d)(1)(ix))\n(Select from dropdown)]]=\"\",\"\",VLOOKUP(Table23[[#This Row],[Affected CMS\n(§63.2386(d)(1)(ix))\n(Select from dropdown)]],Table22[],2,FALSE))","v":""}]
[null,{"$f":"IF(Table23[[#This Row],[Affected CMS\n(§63.2386(d)(1)(ix))\n(Select from dropdown)]]=\"\",\"\",VLOOKUP(Table23[[#This Row],[Affected CMS\n(§63.2386(d)(1)(ix))\n(Select from dropdown)]],Table22[],2,FALSE))","v":""}]
[null,{"$f":"IF(Table23[[#This Row],[Affected CMS\n(§63.2386(d)(1)(ix))\n(Select from dropdown)]]=\"\",\"\",VLOOKUP(Table23[[#This Row],[Affected CMS\n(§63.2386(d)(1)(ix))\n(Select from dropdown)]],Table22[],2,FALSE))","v":""}]
[null,{"$f":"IF(Table23[[#This Row],[Affected CMS\n(§63.2386(d)(1)(ix))\n(Select from dropdown)]]=\"\",\"\",VLOOKUP(Table23[[#This Row],[Affected CMS\n(§63.2386(d)(1)(ix))\n(Select from dropdown)]],Table22[],2,FALSE))","v":""}]
[null,{"$f":"IF(Table23[[#This Row],[Affected CMS\n(§63.2386(d)(1)(ix))\n(Select from dropdown)]]=\"\",\"\",VLOOKUP(Table23[[#This Row],[Affected CMS\n(§63.2386(d)(1)(ix))\n(Select from dropdown)]],Table22[],2,FALSE))","v":""}]
[null,{"$f":"IF(Table23[[#This Row],[Affected CMS\n(§63.2386(d)(1)(ix))\n(Select from dropdown)]]=\"\",\"\",VLOOKUP(Table23[[#This Row],[Affected CMS\n(§63.2386(d)(1)(ix))\n(Select from dropdown)]],Table22[],2,FALSE))","v":""}]
[null,{"$f":"IF(Table23[[#This Row],[Affected CMS\n(§63.2386(d)(1)(ix))\n(Select from dropdown)]]=\"\",\"\",VLOOKUP(Table23[[#This Row],[Affected CMS\n(§63.2386(d)(1)(ix))\n(Select from dropdown)]],Table22[],2,FALSE))","v":""}]
[null,{"$f":"IF(Table23[[#This Row],[Affected CMS\n(§63.2386(d)(1)(ix))\n(Select from dropdown)]]=\"\",\"\",VLOOKUP(Table23[[#This Row],[Affected CMS\n(§63.2386(d)(1)(ix))\n(Select from dropdown)]],Table22[],2,FALSE))","v":""}]
[null,{"$f":"IF(Table23[[#This Row],[Affected CMS\n(§63.2386(d)(1)(ix))\n(Select from dropdown)]]=\"\",\"\",VLOOKUP(Table23[[#This Row],[Affected CMS\n(§63.2386(d)(1)(ix))\n(Select from dropdown)]],Table22[],2,FALSE))","v":""}]
[null,{"$f":"IF(Table23[[#This Row],[Affected CMS\n(§63.2386(d)(1)(ix))\n(Select from dropdown)]]=\"\",\"\",VLOOKUP(Table23[[#This Row],[Affected CMS\n(§63.2386(d)(1)(ix))\n(Select from dropdown)]],Table22[],2,FALSE))","v":""}]
[null,{"$f":"IF(Table23[[#This Row],[Affected CMS\n(§63.2386(d)(1)(ix))\n(Select from dropdown)]]=\"\",\"\",VLOOKUP(Table23[[#This Row],[Affected CMS\n(§63.2386(d)(1)(ix))\n(Select from dropdown)]],Table22[],2,FALSE))","v":""}]
[null,{"$f":"IF(Table23[[#This Row],[Affected CMS\n(§63.2386(d)(1)(ix))\n(Select from dropdown)]]=\"\",\"\",VLOOKUP(Table23[[#This Row],[Affected CMS\n(§63.2386(d)(1)(ix))\n(Select from dropdown)]],Table22[],2,FALSE))","v":""}]
[null,{"$f":"IF(Table23[[#This Row],[Affected CMS\n(§63.2386(d)(1)(ix))\n(Select from dropdown)]]=\"\",\"\",VLOOKUP(Table23[[#This Row],[Affected CMS\n(§63.2386(d)(1)(ix))\n(Select from dropdown)]],Table22[],2,FALSE))","v":""}]
[null,{"$f":"IF(Table23[[#This Row],[Affected CMS\n(§63.2386(d)(1)(ix))\n(Select from dropdown)]]=\"\",\"\",VLOOKUP(Table23[[#This Row],[Affected CMS\n(§63.2386(d)(1)(ix))\n(Select from dropdown)]],Table22[],2,FALSE))","v":""}]
[null,{"$f":"IF(Table23[[#This Row],[Affected CMS\n(§63.2386(d)(1)(ix))\n(Select from dropdown)]]=\"\",\"\",VLOOKUP(Table23[[#This Row],[Affected CMS\n(§63.2386(d)(1)(ix))\n(Select from dropdown)]],Table22[],2,FALSE))","v":""}]
[null,{"$f":"IF(Table23[[#This Row],[Affected CMS\n(§63.2386(d)(1)(ix))\n(Select from dropdown)]]=\"\",\"\",VLOOKUP(Table23[[#This Row],[Affected CMS\n(§63.2386(d)(1)(ix))\n(Select from dropdown)]],Table22[],2,FALSE))","v":""}]
[null,{"$f":"IF(Table23[[#This Row],[Affected CMS\n(§63.2386(d)(1)(ix))\n(Select from dropdown)]]=\"\",\"\",VLOOKUP(Table23[[#This Row],[Affected CMS\n(§63.2386(d)(1)(ix))\n(Select from dropdown)]],Table22[],2,FALSE))","v":""}]
[null,{"$f":"IF(Table23[[#This Row],[Affected CMS\n(§63.2386(d)(1)(ix))\n(Select from dropdown)]]=\"\",\"\",VLOOKUP(Table23[[#This Row],[Affected CMS\n(§63.2386(d)(1)(ix))\n(Select from dropdown)]],Table22[],2,FALSE))","v":""}]
[null,{"$f":"IF(Table23[[#This Row],[Affected CMS\n(§63.2386(d)(1)(ix))\n(Select from dropdown)]]=\"\",\"\",VLOOKUP(Table23[[#This Row],[Affected CMS\n(§63.2386(d)(1)(ix))\n(Select from dropdown)]],Table22[],2,FALSE))","v":""}]
[null,{"$f":"IF(Table23[[#This Row],[Affected CMS\n(§63.2386(d)(1)(ix))\n(Select from dropdown)]]=\"\",\"\",VLOOKUP(Table23[[#This Row],[Affected CMS\n(§63.2386(d)(1)(ix))\n(Select from dropdown)]],Table22[],2,FALSE))","v":""}]
[null,{"$f":"IF(Table23[[#This Row],[Affected CMS\n(§63.2386(d)(1)(ix))\n(Select from dropdown)]]=\"\",\"\",VLOOKUP(Table23[[#This Row],[Affected CMS\n(§63.2386(d)(1)(ix))\n(Select from dropdown)]],Table22[],2,FALSE))","v":""}]
[null,{"$f":"IF(Table23[[#This Row],[Affected CMS\n(§63.2386(d)(1)(ix))\n(Select from dropdown)]]=\"\",\"\",VLOOKUP(Table23[[#This Row],[Affected CMS\n(§63.2386(d)(1)(ix))\n(Select from dropdown)]],Table22[],2,FALSE))","v":""}]
[null,{"$f":"IF(Table23[[#This Row],[Affected CMS\n(§63.2386(d)(1)(ix))\n(Select from dropdown)]]=\"\",\"\",VLOOKUP(Table23[[#This Row],[Affected CMS\n(§63.2386(d)(1)(ix))\n(Select from dropdown)]],Table22[],2,FALSE))","v":""}]
[null,{"$f":"IF(Table23[[#This Row],[Affected CMS\n(§63.2386(d)(1)(ix))\n(Select from dropdown)]]=\"\",\"\",VLOOKUP(Table23[[#This Row],[Affected CMS\n(§63.2386(d)(1)(ix))\n(Select from dropdown)]],Table22[],2,FALSE))","v":""}]
[null,{"$f":"IF(Table23[[#This Row],[Affected CMS\n(§63.2386(d)(1)(ix))\n(Select from dropdown)]]=\"\",\"\",VLOOKUP(Table23[[#This Row],[Affected CMS\n(§63.2386(d)(1)(ix))\n(Select from dropdown)]],Table22[],2,FALSE))","v":""}]
[null,{"$f":"IF(Table23[[#This Row],[Affected CMS\n(§63.2386(d)(1)(ix))\n(Select from dropdown)]]=\"\",\"\",VLOOKUP(Table23[[#This Row],[Affected CMS\n(§63.2386(d)(1)(ix))\n(Select from dropdown)]],Table22[],2,FALSE))","v":""}]
[null,{"$f":"IF(Table23[[#This Row],[Affected CMS\n(§63.2386(d)(1)(ix))\n(Select from dropdown)]]=\"\",\"\",VLOOKUP(Table23[[#This Row],[Affected CMS\n(§63.2386(d)(1)(ix))\n(Select from dropdown)]],Table22[],2,FALSE))","v":""}]
[null,{"$f":"IF(Table23[[#This Row],[Affected CMS\n(§63.2386(d)(1)(ix))\n(Select from dropdown)]]=\"\",\"\",VLOOKUP(Table23[[#This Row],[Affected CMS\n(§63.2386(d)(1)(ix))\n(Select from dropdown)]],Table22[],2,FALSE))","v":""}]
[null,{"$f":"IF(Table23[[#This Row],[Affected CMS\n(§63.2386(d)(1)(ix))\n(Select from dropdown)]]=\"\",\"\",VLOOKUP(Table23[[#This Row],[Affected CMS\n(§63.2386(d)(1)(ix))\n(Select from dropdown)]],Table22[],2,FALSE))","v":""}]
[null,{"$f":"IF(Table23[[#This Row],[Affected CMS\n(§63.2386(d)(1)(ix))\n(Select from dropdown)]]=\"\",\"\",VLOOKUP(Table23[[#This Row],[Affected CMS\n(§63.2386(d)(1)(ix))\n(Select from dropdown)]],Table22[],2,FALSE))","v":""}]
[null,{"$f":"IF(Table23[[#This Row],[Affected CMS\n(§63.2386(d)(1)(ix))\n(Select from dropdown)]]=\"\",\"\",VLOOKUP(Table23[[#This Row],[Affected CMS\n(§63.2386(d)(1)(ix))\n(Select from dropdown)]],Table22[],2,FALSE))","v":""}]
[null,{"$f":"IF(Table23[[#This Row],[Affected CMS\n(§63.2386(d)(1)(ix))\n(Select from dropdown)]]=\"\",\"\",VLOOKUP(Table23[[#This Row],[Affected CMS\n(§63.2386(d)(1)(ix))\n(Select from dropdown)]],Table22[],2,FALSE))","v":""}]
[null,{"$f":"IF(Table23[[#This Row],[Affected CMS\n(§63.2386(d)(1)(ix))\n(Select from dropdown)]]=\"\",\"\",VLOOKUP(Table23[[#This Row],[Affected CMS\n(§63.2386(d)(1)(ix))\n(Select from dropdown)]],Table22[],2,FALSE))","v":""}]
[null,{"$f":"IF(Table23[[#This Row],[Affected CMS\n(§63.2386(d)(1)(ix))\n(Select from dropdown)]]=\"\",\"\",VLOOKUP(Table23[[#This Row],[Affected CMS\n(§63.2386(d)(1)(ix))\n(Select from dropdown)]],Table22[],2,FALSE))","v":""}]
[null,{"$f":"IF(Table23[[#This Row],[Affected CMS\n(§63.2386(d)(1)(ix))\n(Select from dropdown)]]=\"\",\"\",VLOOKUP(Table23[[#This Row],[Affected CMS\n(§63.2386(d)(1)(ix))\n(Select from dropdown)]],Table22[],2,FALSE))","v":""}]
[null,{"$f":"IF(Table23[[#This Row],[Affected CMS\n(§63.2386(d)(1)(ix))\n(Select from dropdown)]]=\"\",\"\",VLOOKUP(Table23[[#This Row],[Affected CMS\n(§63.2386(d)(1)(ix))\n(Select from dropdown)]],Table22[],2,FALSE))","v":""}]
[null,{"$f":"IF(Table23[[#This Row],[Affected CMS\n(§63.2386(d)(1)(ix))\n(Select from dropdown)]]=\"\",\"\",VLOOKUP(Table23[[#This Row],[Affected CMS\n(§63.2386(d)(1)(ix))\n(Select from dropdown)]],Table22[],2,FALSE))","v":""}]
[null,{"$f":"IF(Table23[[#This Row],[Affected CMS\n(§63.2386(d)(1)(ix))\n(Select from dropdown)]]=\"\",\"\",VLOOKUP(Table23[[#This Row],[Affected CMS\n(§63.2386(d)(1)(ix))\n(Select from dropdown)]],Table22[],2,FALSE))","v":""}]
[null,{"$f":"IF(Table23[[#This Row],[Affected CMS\n(§63.2386(d)(1)(ix))\n(Select from dropdown)]]=\"\",\"\",VLOOKUP(Table23[[#This Row],[Affected CMS\n(§63.2386(d)(1)(ix))\n(Select from dropdown)]],Table22[],2,FALSE))","v":""}]
[null,{"$f":"IF(Table23[[#This Row],[Affected CMS\n(§63.2386(d)(1)(ix))\n(Select from dropdown)]]=\"\",\"\",VLOOKUP(Table23[[#This Row],[Affected CMS\n(§63.2386(d)(1)(ix))\n(Select from dropdown)]],Table22[],2,FALSE))","v":""}]
[null,{"$f":"IF(Table23[[#This Row],[Affected CMS\n(§63.2386(d)(1)(ix))\n(Select from dropdown)]]=\"\",\"\",VLOOKUP(Table23[[#This Row],[Affected CMS\n(§63.2386(d)(1)(ix))\n(Select from dropdown)]],Table22[],2,FALSE))","v":""}]
[null,{"$f":"IF(Table23[[#This Row],[Affected CMS\n(§63.2386(d)(1)(ix))\n(Select from dropdown)]]=\"\",\"\",VLOOKUP(Table23[[#This Row],[Affected CMS\n(§63.2386(d)(1)(ix))\n(Select from dropdown)]],Table22[],2,FALSE))","v":""}]
[null,{"$f":"IF(Table23[[#This Row],[Affected CMS\n(§63.2386(d)(1)(ix))\n(Select from dropdown)]]=\"\",\"\",VLOOKUP(Table23[[#This Row],[Affected CMS\n(§63.2386(d)(1)(ix))\n(Select from dropdown)]],Table22[],2,FALSE))","v":""}]
[null,{"$f":"IF(Table23[[#This Row],[Affected CMS\n(§63.2386(d)(1)(ix))\n(Select from dropdown)]]=\"\",\"\",VLOOKUP(Table23[[#This Row],[Affected CMS\n(§63.2386(d)(1)(ix))\n(Select from dropdown)]],Table22[],2,FALSE))","v":""}]
[null,{"$f":"IF(Table23[[#This Row],[Affected CMS\n(§63.2386(d)(1)(ix))\n(Select from dropdown)]]=\"\",\"\",VLOOKUP(Table23[[#This Row],[Affected CMS\n(§63.2386(d)(1)(ix))\n(Select from dropdown)]],Table22[],2,FALSE))","v":""}]
[null,{"$f":"IF(Table23[[#This Row],[Affected CMS\n(§63.2386(d)(1)(ix))\n(Select from dropdown)]]=\"\",\"\",VLOOKUP(Table23[[#This Row],[Affected CMS\n(§63.2386(d)(1)(ix))\n(Select from dropdown)]],Table22[],2,FALSE))","v":""}]
[null,{"$f":"IF(Table23[[#This Row],[Affected CMS\n(§63.2386(d)(1)(ix))\n(Select from dropdown)]]=\"\",\"\",VLOOKUP(Table23[[#This Row],[Affected CMS\n(§63.2386(d)(1)(ix))\n(Select from dropdown)]],Table22[],2,FALSE))","v":""}]
[null,{"$f":"IF(Table23[[#This Row],[Affected CMS\n(§63.2386(d)(1)(ix))\n(Select from dropdown)]]=\"\",\"\",VLOOKUP(Table23[[#This Row],[Affected CMS\n(§63.2386(d)(1)(ix))\n(Select from dropdown)]],Table22[],2,FALSE))","v":""}]
[null,{"$f":"IF(Table23[[#This Row],[Affected CMS\n(§63.2386(d)(1)(ix))\n(Select from dropdown)]]=\"\",\"\",VLOOKUP(Table23[[#This Row],[Affected CMS\n(§63.2386(d)(1)(ix))\n(Select from dropdown)]],Table22[],2,FALSE))","v":""}]
[null,{"$f":"IF(Table23[[#This Row],[Affected CMS\n(§63.2386(d)(1)(ix))\n(Select from dropdown)]]=\"\",\"\",VLOOKUP(Table23[[#This Row],[Affected CMS\n(§63.2386(d)(1)(ix))\n(Select from dropdown)]],Table22[],2,FALSE))","v":""}]
[null,{"$f":"IF(Table23[[#This Row],[Affected CMS\n(§63.2386(d)(1)(ix))\n(Select from dropdown)]]=\"\",\"\",VLOOKUP(Table23[[#This Row],[Affected CMS\n(§63.2386(d)(1)(ix))\n(Select from dropdown)]],Table22[],2,FALSE))","v":""}]
[null,{"$f":"IF(Table23[[#This Row],[Affected CMS\n(§63.2386(d)(1)(ix))\n(Select from dropdown)]]=\"\",\"\",VLOOKUP(Table23[[#This Row],[Affected CMS\n(§63.2386(d)(1)(ix))\n(Select from dropdown)]],Table22[],2,FALSE))","v":""}]
[null,{"$f":"IF(Table23[[#This Row],[Affected CMS\n(§63.2386(d)(1)(ix))\n(Select from dropdown)]]=\"\",\"\",VLOOKUP(Table23[[#This Row],[Affected CMS\n(§63.2386(d)(1)(ix))\n(Select from dropdown)]],Table22[],2,FALSE))","v":""}]
[null,{"$f":"IF(Table23[[#This Row],[Affected CMS\n(§63.2386(d)(1)(ix))\n(Select from dropdown)]]=\"\",\"\",VLOOKUP(Table23[[#This Row],[Affected CMS\n(§63.2386(d)(1)(ix))\n(Select from dropdown)]],Table22[],2,FALSE))","v":""}]
[null,{"$f":"IF(Table23[[#This Row],[Affected CMS\n(§63.2386(d)(1)(ix))\n(Select from dropdown)]]=\"\",\"\",VLOOKUP(Table23[[#This Row],[Affected CMS\n(§63.2386(d)(1)(ix))\n(Select from dropdown)]],Table22[],2,FALSE))","v":""}]
[null,{"$f":"IF(Table23[[#This Row],[Affected CMS\n(§63.2386(d)(1)(ix))\n(Select from dropdown)]]=\"\",\"\",VLOOKUP(Table23[[#This Row],[Affected CMS\n(§63.2386(d)(1)(ix))\n(Select from dropdown)]],Table22[],2,FALSE))","v":""}]
[null,{"$f":"IF(Table23[[#This Row],[Affected CMS\n(§63.2386(d)(1)(ix))\n(Select from dropdown)]]=\"\",\"\",VLOOKUP(Table23[[#This Row],[Affected CMS\n(§63.2386(d)(1)(ix))\n(Select from dropdown)]],Table22[],2,FALSE))","v":""}]
[null,{"$f":"IF(Table23[[#This Row],[Affected CMS\n(§63.2386(d)(1)(ix))\n(Select from dropdown)]]=\"\",\"\",VLOOKUP(Table23[[#This Row],[Affected CMS\n(§63.2386(d)(1)(ix))\n(Select from dropdown)]],Table22[],2,FALSE))","v":""}]
[null,{"$f":"IF(Table23[[#This Row],[Affected CMS\n(§63.2386(d)(1)(ix))\n(Select from dropdown)]]=\"\",\"\",VLOOKUP(Table23[[#This Row],[Affected CMS\n(§63.2386(d)(1)(ix))\n(Select from dropdown)]],Table22[],2,FALSE))","v":""}]
[null,{"$f":"IF(Table23[[#This Row],[Affected CMS\n(§63.2386(d)(1)(ix))\n(Select from dropdown)]]=\"\",\"\",VLOOKUP(Table23[[#This Row],[Affected CMS\n(§63.2386(d)(1)(ix))\n(Select from dropdown)]],Table22[],2,FALSE))","v":""}]
[null,{"$f":"IF(Table23[[#This Row],[Affected CMS\n(§63.2386(d)(1)(ix))\n(Select from dropdown)]]=\"\",\"\",VLOOKUP(Table23[[#This Row],[Affected CMS\n(§63.2386(d)(1)(ix))\n(Select from dropdown)]],Table22[],2,FALSE))","v":""}]
[null,{"$f":"IF(Table23[[#This Row],[Affected CMS\n(§63.2386(d)(1)(ix))\n(Select from dropdown)]]=\"\",\"\",VLOOKUP(Table23[[#This Row],[Affected CMS\n(§63.2386(d)(1)(ix))\n(Select from dropdown)]],Table22[],2,FALSE))","v":""}]
[null,{"$f":"IF(Table23[[#This Row],[Affected CMS\n(§63.2386(d)(1)(ix))\n(Select from dropdown)]]=\"\",\"\",VLOOKUP(Table23[[#This Row],[Affected CMS\n(§63.2386(d)(1)(ix))\n(Select from dropdown)]],Table22[],2,FALSE))","v":""}]
[null,{"$f":"IF(Table23[[#This Row],[Affected CMS\n(§63.2386(d)(1)(ix))\n(Select from dropdown)]]=\"\",\"\",VLOOKUP(Table23[[#This Row],[Affected CMS\n(§63.2386(d)(1)(ix))\n(Select from dropdown)]],Table22[],2,FALSE))","v":""}]
[null,{"$f":"IF(Table23[[#This Row],[Affected CMS\n(§63.2386(d)(1)(ix))\n(Select from dropdown)]]=\"\",\"\",VLOOKUP(Table23[[#This Row],[Affected CMS\n(§63.2386(d)(1)(ix))\n(Select from dropdown)]],Table22[],2,FALSE))","v":""}]
[null,{"$f":"IF(Table23[[#This Row],[Affected CMS\n(§63.2386(d)(1)(ix))\n(Select from dropdown)]]=\"\",\"\",VLOOKUP(Table23[[#This Row],[Affected CMS\n(§63.2386(d)(1)(ix))\n(Select from dropdown)]],Table22[],2,FALSE))","v":""}]
[null,{"$f":"IF(Table23[[#This Row],[Affected CMS\n(§63.2386(d)(1)(ix))\n(Select from dropdown)]]=\"\",\"\",VLOOKUP(Table23[[#This Row],[Affected CMS\n(§63.2386(d)(1)(ix))\n(Select from dropdown)]],Table22[],2,FALSE))","v":""}]
[null,{"$f":"IF(Table23[[#This Row],[Affected CMS\n(§63.2386(d)(1)(ix))\n(Select from dropdown)]]=\"\",\"\",VLOOKUP(Table23[[#This Row],[Affected CMS\n(§63.2386(d)(1)(ix))\n(Select from dropdown)]],Table22[],2,FALSE))","v":""}]
[null,{"$f":"IF(Table23[[#This Row],[Affected CMS\n(§63.2386(d)(1)(ix))\n(Select from dropdown)]]=\"\",\"\",VLOOKUP(Table23[[#This Row],[Affected CMS\n(§63.2386(d)(1)(ix))\n(Select from dropdown)]],Table22[],2,FALSE))","v":""}]
[null,{"$f":"IF(Table23[[#This Row],[Affected CMS\n(§63.2386(d)(1)(ix))\n(Select from dropdown)]]=\"\",\"\",VLOOKUP(Table23[[#This Row],[Affected CMS\n(§63.2386(d)(1)(ix))\n(Select from dropdown)]],Table22[],2,FALSE))","v":""}]
[null,{"$f":"IF(Table23[[#This Row],[Affected CMS\n(§63.2386(d)(1)(ix))\n(Select from dropdown)]]=\"\",\"\",VLOOKUP(Table23[[#This Row],[Affected CMS\n(§63.2386(d)(1)(ix))\n(Select from dropdown)]],Table22[],2,FALSE))","v":""}]
[null,{"$f":"IF(Table23[[#This Row],[Affected CMS\n(§63.2386(d)(1)(ix))\n(Select from dropdown)]]=\"\",\"\",VLOOKUP(Table23[[#This Row],[Affected CMS\n(§63.2386(d)(1)(ix))\n(Select from dropdown)]],Table22[],2,FALSE))","v":""}]
[null,{"$f":"IF(Table23[[#This Row],[Affected CMS\n(§63.2386(d)(1)(ix))\n(Select from dropdown)]]=\"\",\"\",VLOOKUP(Table23[[#This Row],[Affected CMS\n(§63.2386(d)(1)(ix))\n(Select from dropdown)]],Table22[],2,FALSE))","v":""}]
[null,{"$f":"IF(Table23[[#This Row],[Affected CMS\n(§63.2386(d)(1)(ix))\n(Select from dropdown)]]=\"\",\"\",VLOOKUP(Table23[[#This Row],[Affected CMS\n(§63.2386(d)(1)(ix))\n(Select from dropdown)]],Table22[],2,FALSE))","v":""}]
[null,{"$f":"IF(Table23[[#This Row],[Affected CMS\n(§63.2386(d)(1)(ix))\n(Select from dropdown)]]=\"\",\"\",VLOOKUP(Table23[[#This Row],[Affected CMS\n(§63.2386(d)(1)(ix))\n(Select from dropdown)]],Table22[],2,FALSE))","v":""}]
[null,{"$f":"IF(Table23[[#This Row],[Affected CMS\n(§63.2386(d)(1)(ix))\n(Select from dropdown)]]=\"\",\"\",VLOOKUP(Table23[[#This Row],[Affected CMS\n(§63.2386(d)(1)(ix))\n(Select from dropdown)]],Table22[],2,FALSE))","v":""}]
[null,{"$f":"IF(Table23[[#This Row],[Affected CMS\n(§63.2386(d)(1)(ix))\n(Select from dropdown)]]=\"\",\"\",VLOOKUP(Table23[[#This Row],[Affected CMS\n(§63.2386(d)(1)(ix))\n(Select from dropdown)]],Table22[],2,FALSE))","v":""}]
[null,{"$f":"IF(Table23[[#This Row],[Affected CMS\n(§63.2386(d)(1)(ix))\n(Select from dropdown)]]=\"\",\"\",VLOOKUP(Table23[[#This Row],[Affected CMS\n(§63.2386(d)(1)(ix))\n(Select from dropdown)]],Table22[],2,FALSE))","v":""}]
[null,{"$f":"IF(Table23[[#This Row],[Affected CMS\n(§63.2386(d)(1)(ix))\n(Select from dropdown)]]=\"\",\"\",VLOOKUP(Table23[[#This Row],[Affected CMS\n(§63.2386(d)(1)(ix))\n(Select from dropdown)]],Table22[],2,FALSE))","v":""}]
[null,{"$f":"IF(Table23[[#This Row],[Affected CMS\n(§63.2386(d)(1)(ix))\n(Select from dropdown)]]=\"\",\"\",VLOOKUP(Table23[[#This Row],[Affected CMS\n(§63.2386(d)(1)(ix))\n(Select from dropdown)]],Table22[],2,FALSE))","v":""}]
[null,{"$f":"IF(Table23[[#This Row],[Affected CMS\n(§63.2386(d)(1)(ix))\n(Select from dropdown)]]=\"\",\"\",VLOOKUP(Table23[[#This Row],[Affected CMS\n(§63.2386(d)(1)(ix))\n(Select from dropdown)]],Table22[],2,FALSE))","v":""}]
[null,{"$f":"IF(Table23[[#This Row],[Affected CMS\n(§63.2386(d)(1)(ix))\n(Select from dropdown)]]=\"\",\"\",VLOOKUP(Table23[[#This Row],[Affected CMS\n(§63.2386(d)(1)(ix))\n(Select from dropdown)]],Table22[],2,FALSE))","v":""}]
[null,{"$f":"IF(Table23[[#This Row],[Affected CMS\n(§63.2386(d)(1)(ix))\n(Select from dropdown)]]=\"\",\"\",VLOOKUP(Table23[[#This Row],[Affected CMS\n(§63.2386(d)(1)(ix))\n(Select from dropdown)]],Table22[],2,FALSE))","v":""}]
[null,{"$f":"IF(Table23[[#This Row],[Affected CMS\n(§63.2386(d)(1)(ix))\n(Select from dropdown)]]=\"\",\"\",VLOOKUP(Table23[[#This Row],[Affected CMS\n(§63.2386(d)(1)(ix))\n(Select from dropdown)]],Table22[],2,FALSE))","v":""}]
[null,{"$f":"IF(Table23[[#This Row],[Affected CMS\n(§63.2386(d)(1)(ix))\n(Select from dropdown)]]=\"\",\"\",VLOOKUP(Table23[[#This Row],[Affected CMS\n(§63.2386(d)(1)(ix))\n(Select from dropdown)]],Table22[],2,FALSE))","v":""}]
[null,{"$f":"IF(Table23[[#This Row],[Affected CMS\n(§63.2386(d)(1)(ix))\n(Select from dropdown)]]=\"\",\"\",VLOOKUP(Table23[[#This Row],[Affected CMS\n(§63.2386(d)(1)(ix))\n(Select from dropdown)]],Table22[],2,FALSE))","v":""}]
[null,{"$f":"IF(Table23[[#This Row],[Affected CMS\n(§63.2386(d)(1)(ix))\n(Select from dropdown)]]=\"\",\"\",VLOOKUP(Table23[[#This Row],[Affected CMS\n(§63.2386(d)(1)(ix))\n(Select from dropdown)]],Table22[],2,FALSE))","v":""}]
[null,{"$f":"IF(Table23[[#This Row],[Affected CMS\n(§63.2386(d)(1)(ix))\n(Select from dropdown)]]=\"\",\"\",VLOOKUP(Table23[[#This Row],[Affected CMS\n(§63.2386(d)(1)(ix))\n(Select from dropdown)]],Table22[],2,FALSE))","v":""}]
[null,{"$f":"IF(Table23[[#This Row],[Affected CMS\n(§63.2386(d)(1)(ix))\n(Select from dropdown)]]=\"\",\"\",VLOOKUP(Table23[[#This Row],[Affected CMS\n(§63.2386(d)(1)(ix))\n(Select from dropdown)]],Table22[],2,FALSE))","v":""}]
[null,{"$f":"IF(Table23[[#This Row],[Affected CMS\n(§63.2386(d)(1)(ix))\n(Select from dropdown)]]=\"\",\"\",VLOOKUP(Table23[[#This Row],[Affected CMS\n(§63.2386(d)(1)(ix))\n(Select from dropdown)]],Table22[],2,FALSE))","v":""}]
[null,{"$f":"IF(Table23[[#This Row],[Affected CMS\n(§63.2386(d)(1)(ix))\n(Select from dropdown)]]=\"\",\"\",VLOOKUP(Table23[[#This Row],[Affected CMS\n(§63.2386(d)(1)(ix))\n(Select from dropdown)]],Table22[],2,FALSE))","v":""}]
[null,{"$f":"IF(Table23[[#This Row],[Affected CMS\n(§63.2386(d)(1)(ix))\n(Select from dropdown)]]=\"\",\"\",VLOOKUP(Table23[[#This Row],[Affected CMS\n(§63.2386(d)(1)(ix))\n(Select from dropdown)]],Table22[],2,FALSE))","v":""}]
[null,{"$f":"IF(Table23[[#This Row],[Affected CMS\n(§63.2386(d)(1)(ix))\n(Select from dropdown)]]=\"\",\"\",VLOOKUP(Table23[[#This Row],[Affected CMS\n(§63.2386(d)(1)(ix))\n(Select from dropdown)]],Table22[],2,FALSE))","v":""}]
[null,{"$f":"IF(Table23[[#This Row],[Affected CMS\n(§63.2386(d)(1)(ix))\n(Select from dropdown)]]=\"\",\"\",VLOOKUP(Table23[[#This Row],[Affected CMS\n(§63.2386(d)(1)(ix))\n(Select from dropdown)]],Table22[],2,FALSE))","v":""}]
[null,{"$f":"IF(Table23[[#This Row],[Affected CMS\n(§63.2386(d)(1)(ix))\n(Select from dropdown)]]=\"\",\"\",VLOOKUP(Table23[[#This Row],[Affected CMS\n(§63.2386(d)(1)(ix))\n(Select from dropdown)]],Table22[],2,FALSE))","v":""}]
[null,{"$f":"IF(Table23[[#This Row],[Affected CMS\n(§63.2386(d)(1)(ix))\n(Select from dropdown)]]=\"\",\"\",VLOOKUP(Table23[[#This Row],[Affected CMS\n(§63.2386(d)(1)(ix))\n(Select from dropdown)]],Table22[],2,FALSE))","v":""}]
[null,{"$f":"IF(Table23[[#This Row],[Affected CMS\n(§63.2386(d)(1)(ix))\n(Select from dropdown)]]=\"\",\"\",VLOOKUP(Table23[[#This Row],[Affected CMS\n(§63.2386(d)(1)(ix))\n(Select from dropdown)]],Table22[],2,FALSE))","v":""}]
[null,{"$f":"IF(Table23[[#This Row],[Affected CMS\n(§63.2386(d)(1)(ix))\n(Select from dropdown)]]=\"\",\"\",VLOOKUP(Table23[[#This Row],[Affected CMS\n(§63.2386(d)(1)(ix))\n(Select from dropdown)]],Table22[],2,FALSE))","v":""}]
[null,{"$f":"IF(Table23[[#This Row],[Affected CMS\n(§63.2386(d)(1)(ix))\n(Select from dropdown)]]=\"\",\"\",VLOOKUP(Table23[[#This Row],[Affected CMS\n(§63.2386(d)(1)(ix))\n(Select from dropdown)]],Table22[],2,FALSE))","v":""}]
[null,{"$f":"IF(Table23[[#This Row],[Affected CMS\n(§63.2386(d)(1)(ix))\n(Select from dropdown)]]=\"\",\"\",VLOOKUP(Table23[[#This Row],[Affected CMS\n(§63.2386(d)(1)(ix))\n(Select from dropdown)]],Table22[],2,FALSE))","v":""}]
[null,{"$f":"IF(Table23[[#This Row],[Affected CMS\n(§63.2386(d)(1)(ix))\n(Select from dropdown)]]=\"\",\"\",VLOOKUP(Table23[[#This Row],[Affected CMS\n(§63.2386(d)(1)(ix))\n(Select from dropdown)]],Table22[],2,FALSE))","v":""}]
[null,{"$f":"IF(Table23[[#This Row],[Affected CMS\n(§63.2386(d)(1)(ix))\n(Select from dropdown)]]=\"\",\"\",VLOOKUP(Table23[[#This Row],[Affected CMS\n(§63.2386(d)(1)(ix))\n(Select from dropdown)]],Table22[],2,FALSE))","v":""}]
[null,{"$f":"IF(Table23[[#This Row],[Affected CMS\n(§63.2386(d)(1)(ix))\n(Select from dropdown)]]=\"\",\"\",VLOOKUP(Table23[[#This Row],[Affected CMS\n(§63.2386(d)(1)(ix))\n(Select from dropdown)]],Table22[],2,FALSE))","v":""}]
[null,{"$f":"IF(Table23[[#This Row],[Affected CMS\n(§63.2386(d)(1)(ix))\n(Select from dropdown)]]=\"\",\"\",VLOOKUP(Table23[[#This Row],[Affected CMS\n(§63.2386(d)(1)(ix))\n(Select from dropdown)]],Table22[],2,FALSE))","v":""}]
[null,{"$f":"IF(Table23[[#This Row],[Affected CMS\n(§63.2386(d)(1)(ix))\n(Select from dropdown)]]=\"\",\"\",VLOOKUP(Table23[[#This Row],[Affected CMS\n(§63.2386(d)(1)(ix))\n(Select from dropdown)]],Table22[],2,FALSE))","v":""}]
[null,{"$f":"IF(Table23[[#This Row],[Affected CMS\n(§63.2386(d)(1)(ix))\n(Select from dropdown)]]=\"\",\"\",VLOOKUP(Table23[[#This Row],[Affected CMS\n(§63.2386(d)(1)(ix))\n(Select from dropdown)]],Table22[],2,FALSE))","v":""}]
[null,{"$f":"IF(Table23[[#This Row],[Affected CMS\n(§63.2386(d)(1)(ix))\n(Select from dropdown)]]=\"\",\"\",VLOOKUP(Table23[[#This Row],[Affected CMS\n(§63.2386(d)(1)(ix))\n(Select from dropdown)]],Table22[],2,FALSE))","v":""}]
[null,{"$f":"IF(Table23[[#This Row],[Affected CMS\n(§63.2386(d)(1)(ix))\n(Select from dropdown)]]=\"\",\"\",VLOOKUP(Table23[[#This Row],[Affected CMS\n(§63.2386(d)(1)(ix))\n(Select from dropdown)]],Table22[],2,FALSE))","v":""}]
[null,{"$f":"IF(Table23[[#This Row],[Affected CMS\n(§63.2386(d)(1)(ix))\n(Select from dropdown)]]=\"\",\"\",VLOOKUP(Table23[[#This Row],[Affected CMS\n(§63.2386(d)(1)(ix))\n(Select from dropdown)]],Table22[],2,FALSE))","v":""}]
[null,{"$f":"IF(Table23[[#This Row],[Affected CMS\n(§63.2386(d)(1)(ix))\n(Select from dropdown)]]=\"\",\"\",VLOOKUP(Table23[[#This Row],[Affected CMS\n(§63.2386(d)(1)(ix))\n(Select from dropdown)]],Table22[],2,FALSE))","v":""}]
[null,{"$f":"IF(Table23[[#This Row],[Affected CMS\n(§63.2386(d)(1)(ix))\n(Select from dropdown)]]=\"\",\"\",VLOOKUP(Table23[[#This Row],[Affected CMS\n(§63.2386(d)(1)(ix))\n(Select from dropdown)]],Table22[],2,FALSE))","v":""}]
[null,{"$f":"IF(Table23[[#This Row],[Affected CMS\n(§63.2386(d)(1)(ix))\n(Select from dropdown)]]=\"\",\"\",VLOOKUP(Table23[[#This Row],[Affected CMS\n(§63.2386(d)(1)(ix))\n(Select from dropdown)]],Table22[],2,FALSE))","v":""}]
[null,{"$f":"IF(Table23[[#This Row],[Affected CMS\n(§63.2386(d)(1)(ix))\n(Select from dropdown)]]=\"\",\"\",VLOOKUP(Table23[[#This Row],[Affected CMS\n(§63.2386(d)(1)(ix))\n(Select from dropdown)]],Table22[],2,FALSE))","v":""}]
[null,{"$f":"IF(Table23[[#This Row],[Affected CMS\n(§63.2386(d)(1)(ix))\n(Select from dropdown)]]=\"\",\"\",VLOOKUP(Table23[[#This Row],[Affected CMS\n(§63.2386(d)(1)(ix))\n(Select from dropdown)]],Table22[],2,FALSE))","v":""}]
[null,{"$f":"IF(Table23[[#This Row],[Affected CMS\n(§63.2386(d)(1)(ix))\n(Select from dropdown)]]=\"\",\"\",VLOOKUP(Table23[[#This Row],[Affected CMS\n(§63.2386(d)(1)(ix))\n(Select from dropdown)]],Table22[],2,FALSE))","v":""}]
[null,{"$f":"IF(Table23[[#This Row],[Affected CMS\n(§63.2386(d)(1)(ix))\n(Select from dropdown)]]=\"\",\"\",VLOOKUP(Table23[[#This Row],[Affected CMS\n(§63.2386(d)(1)(ix))\n(Select from dropdown)]],Table22[],2,FALSE))","v":""}]
[null,{"$f":"IF(Table23[[#This Row],[Affected CMS\n(§63.2386(d)(1)(ix))\n(Select from dropdown)]]=\"\",\"\",VLOOKUP(Table23[[#This Row],[Affected CMS\n(§63.2386(d)(1)(ix))\n(Select from dropdown)]],Table22[],2,FALSE))","v":""}]
[null,{"$f":"IF(Table23[[#This Row],[Affected CMS\n(§63.2386(d)(1)(ix))\n(Select from dropdown)]]=\"\",\"\",VLOOKUP(Table23[[#This Row],[Affected CMS\n(§63.2386(d)(1)(ix))\n(Select from dropdown)]],Table22[],2,FALSE))","v":""}]
[null,{"$f":"IF(Table23[[#This Row],[Affected CMS\n(§63.2386(d)(1)(ix))\n(Select from dropdown)]]=\"\",\"\",VLOOKUP(Table23[[#This Row],[Affected CMS\n(§63.2386(d)(1)(ix))\n(Select from dropdown)]],Table22[],2,FALSE))","v":""}]
[null,{"$f":"IF(Table23[[#This Row],[Affected CMS\n(§63.2386(d)(1)(ix))\n(Select from dropdown)]]=\"\",\"\",VLOOKUP(Table23[[#This Row],[Affected CMS\n(§63.2386(d)(1)(ix))\n(Select from dropdown)]],Table22[],2,FALSE))","v":""}]
[null,{"$f":"IF(Table23[[#This Row],[Affected CMS\n(§63.2386(d)(1)(ix))\n(Select from dropdown)]]=\"\",\"\",VLOOKUP(Table23[[#This Row],[Affected CMS\n(§63.2386(d)(1)(ix))\n(Select from dropdown)]],Table22[],2,FALSE))","v":""}]
[null,{"$f":"IF(Table23[[#This Row],[Affected CMS\n(§63.2386(d)(1)(ix))\n(Select from dropdown)]]=\"\",\"\",VLOOKUP(Table23[[#This Row],[Affected CMS\n(§63.2386(d)(1)(ix))\n(Select from dropdown)]],Table22[],2,FALSE))","v":""}]
[null,{"$f":"IF(Table23[[#This Row],[Affected CMS\n(§63.2386(d)(1)(ix))\n(Select from dropdown)]]=\"\",\"\",VLOOKUP(Table23[[#This Row],[Affected CMS\n(§63.2386(d)(1)(ix))\n(Select from dropdown)]],Table22[],2,FALSE))","v":""}]
[null,{"$f":"IF(Table23[[#This Row],[Affected CMS\n(§63.2386(d)(1)(ix))\n(Select from dropdown)]]=\"\",\"\",VLOOKUP(Table23[[#This Row],[Affected CMS\n(§63.2386(d)(1)(ix))\n(Select from dropdown)]],Table22[],2,FALSE))","v":""}]
[null,{"$f":"IF(Table23[[#This Row],[Affected CMS\n(§63.2386(d)(1)(ix))\n(Select from dropdown)]]=\"\",\"\",VLOOKUP(Table23[[#This Row],[Affected CMS\n(§63.2386(d)(1)(ix))\n(Select from dropdown)]],Table22[],2,FALSE))","v":""}]
[null,{"$f":"IF(Table23[[#This Row],[Affected CMS\n(§63.2386(d)(1)(ix))\n(Select from dropdown)]]=\"\",\"\",VLOOKUP(Table23[[#This Row],[Affected CMS\n(§63.2386(d)(1)(ix))\n(Select from dropdown)]],Table22[],2,FALSE))","v":""}]
[null,{"$f":"IF(Table23[[#This Row],[Affected CMS\n(§63.2386(d)(1)(ix))\n(Select from dropdown)]]=\"\",\"\",VLOOKUP(Table23[[#This Row],[Affected CMS\n(§63.2386(d)(1)(ix))\n(Select from dropdown)]],Table22[],2,FALSE))","v":""}]
[null,{"$f":"IF(Table23[[#This Row],[Affected CMS\n(§63.2386(d)(1)(ix))\n(Select from dropdown)]]=\"\",\"\",VLOOKUP(Table23[[#This Row],[Affected CMS\n(§63.2386(d)(1)(ix))\n(Select from dropdown)]],Table22[],2,FALSE))","v":""}]
[null,{"$f":"IF(Table23[[#This Row],[Affected CMS\n(§63.2386(d)(1)(ix))\n(Select from dropdown)]]=\"\",\"\",VLOOKUP(Table23[[#This Row],[Affected CMS\n(§63.2386(d)(1)(ix))\n(Select from dropdown)]],Table22[],2,FALSE))","v":""}]
[null,{"$f":"IF(Table23[[#This Row],[Affected CMS\n(§63.2386(d)(1)(ix))\n(Select from dropdown)]]=\"\",\"\",VLOOKUP(Table23[[#This Row],[Affected CMS\n(§63.2386(d)(1)(ix))\n(Select from dropdown)]],Table22[],2,FALSE))","v":""}]
[null,{"$f":"IF(Table23[[#This Row],[Affected CMS\n(§63.2386(d)(1)(ix))\n(Select from dropdown)]]=\"\",\"\",VLOOKUP(Table23[[#This Row],[Affected CMS\n(§63.2386(d)(1)(ix))\n(Select from dropdown)]],Table22[],2,FALSE))","v":""}]
[null,{"$f":"IF(Table23[[#This Row],[Affected CMS\n(§63.2386(d)(1)(ix))\n(Select from dropdown)]]=\"\",\"\",VLOOKUP(Table23[[#This Row],[Affected CMS\n(§63.2386(d)(1)(ix))\n(Select from dropdown)]],Table22[],2,FALSE))","v":""}]
[null,{"$f":"IF(Table23[[#This Row],[Affected CMS\n(§63.2386(d)(1)(ix))\n(Select from dropdown)]]=\"\",\"\",VLOOKUP(Table23[[#This Row],[Affected CMS\n(§63.2386(d)(1)(ix))\n(Select from dropdown)]],Table22[],2,FALSE))","v":""}]
[null,{"$f":"IF(Table23[[#This Row],[Affected CMS\n(§63.2386(d)(1)(ix))\n(Select from dropdown)]]=\"\",\"\",VLOOKUP(Table23[[#This Row],[Affected CMS\n(§63.2386(d)(1)(ix))\n(Select from dropdown)]],Table22[],2,FALSE))","v":""}]
[null,{"$f":"IF(Table23[[#This Row],[Affected CMS\n(§63.2386(d)(1)(ix))\n(Select from dropdown)]]=\"\",\"\",VLOOKUP(Table23[[#This Row],[Affected CMS\n(§63.2386(d)(1)(ix))\n(Select from dropdown)]],Table22[],2,FALSE))","v":""}]
[null,{"$f":"IF(Table23[[#This Row],[Affected CMS\n(§63.2386(d)(1)(ix))\n(Select from dropdown)]]=\"\",\"\",VLOOKUP(Table23[[#This Row],[Affected CMS\n(§63.2386(d)(1)(ix))\n(Select from dropdown)]],Table22[],2,FALSE))","v":""}]
[null,{"$f":"IF(Table23[[#This Row],[Affected CMS\n(§63.2386(d)(1)(ix))\n(Select from dropdown)]]=\"\",\"\",VLOOKUP(Table23[[#This Row],[Affected CMS\n(§63.2386(d)(1)(ix))\n(Select from dropdown)]],Table22[],2,FALSE))","v":""}]
[null,{"$f":"IF(Table23[[#This Row],[Affected CMS\n(§63.2386(d)(1)(ix))\n(Select from dropdown)]]=\"\",\"\",VLOOKUP(Table23[[#This Row],[Affected CMS\n(§63.2386(d)(1)(ix))\n(Select from dropdown)]],Table22[],2,FALSE))","v":""}]
[null,{"$f":"IF(Table23[[#This Row],[Affected CMS\n(§63.2386(d)(1)(ix))\n(Select from dropdown)]]=\"\",\"\",VLOOKUP(Table23[[#This Row],[Affected CMS\n(§63.2386(d)(1)(ix))\n(Select from dropdown)]],Table22[],2,FALSE))","v":""}]
[null,{"$f":"IF(Table23[[#This Row],[Affected CMS\n(§63.2386(d)(1)(ix))\n(Select from dropdown)]]=\"\",\"\",VLOOKUP(Table23[[#This Row],[Affected CMS\n(§63.2386(d)(1)(ix))\n(Select from dropdown)]],Table22[],2,FALSE))","v":""}]
[null,{"$f":"IF(Table23[[#This Row],[Affected CMS\n(§63.2386(d)(1)(ix))\n(Select from dropdown)]]=\"\",\"\",VLOOKUP(Table23[[#This Row],[Affected CMS\n(§63.2386(d)(1)(ix))\n(Select from dropdown)]],Table22[],2,FALSE))","v":""}]
[null,{"$f":"IF(Table23[[#This Row],[Affected CMS\n(§63.2386(d)(1)(ix))\n(Select from dropdown)]]=\"\",\"\",VLOOKUP(Table23[[#This Row],[Affected CMS\n(§63.2386(d)(1)(ix))\n(Select from dropdown)]],Table22[],2,FALSE))","v":""}]
[null,{"$f":"IF(Table23[[#This Row],[Affected CMS\n(§63.2386(d)(1)(ix))\n(Select from dropdown)]]=\"\",\"\",VLOOKUP(Table23[[#This Row],[Affected CMS\n(§63.2386(d)(1)(ix))\n(Select from dropdown)]],Table22[],2,FALSE))","v":""}]
[null,{"$f":"IF(Table23[[#This Row],[Affected CMS\n(§63.2386(d)(1)(ix))\n(Select from dropdown)]]=\"\",\"\",VLOOKUP(Table23[[#This Row],[Affected CMS\n(§63.2386(d)(1)(ix))\n(Select from dropdown)]],Table22[],2,FALSE))","v":""}]
[null,{"$f":"IF(Table23[[#This Row],[Affected CMS\n(§63.2386(d)(1)(ix))\n(Select from dropdown)]]=\"\",\"\",VLOOKUP(Table23[[#This Row],[Affected CMS\n(§63.2386(d)(1)(ix))\n(Select from dropdown)]],Table22[],2,FALSE))","v":""}]
[null,{"$f":"IF(Table23[[#This Row],[Affected CMS\n(§63.2386(d)(1)(ix))\n(Select from dropdown)]]=\"\",\"\",VLOOKUP(Table23[[#This Row],[Affected CMS\n(§63.2386(d)(1)(ix))\n(Select from dropdown)]],Table22[],2,FALSE))","v":""}]
[null,{"$f":"IF(Table23[[#This Row],[Affected CMS\n(§63.2386(d)(1)(ix))\n(Select from dropdown)]]=\"\",\"\",VLOOKUP(Table23[[#This Row],[Affected CMS\n(§63.2386(d)(1)(ix))\n(Select from dropdown)]],Table22[],2,FALSE))","v":""}]
[null,{"$f":"IF(Table23[[#This Row],[Affected CMS\n(§63.2386(d)(1)(ix))\n(Select from dropdown)]]=\"\",\"\",VLOOKUP(Table23[[#This Row],[Affected CMS\n(§63.2386(d)(1)(ix))\n(Select from dropdown)]],Table22[],2,FALSE))","v":""}]
[null,{"$f":"IF(Table23[[#This Row],[Affected CMS\n(§63.2386(d)(1)(ix))\n(Select from dropdown)]]=\"\",\"\",VLOOKUP(Table23[[#This Row],[Affected CMS\n(§63.2386(d)(1)(ix))\n(Select from dropdown)]],Table22[],2,FALSE))","v":""}]
[null,{"$f":"IF(Table23[[#This Row],[Affected CMS\n(§63.2386(d)(1)(ix))\n(Select from dropdown)]]=\"\",\"\",VLOOKUP(Table23[[#This Row],[Affected CMS\n(§63.2386(d)(1)(ix))\n(Select from dropdown)]],Table22[],2,FALSE))","v":""}]
[null,{"$f":"IF(Table23[[#This Row],[Affected CMS\n(§63.2386(d)(1)(ix))\n(Select from dropdown)]]=\"\",\"\",VLOOKUP(Table23[[#This Row],[Affected CMS\n(§63.2386(d)(1)(ix))\n(Select from dropdown)]],Table22[],2,FALSE))","v":""}]
[null,{"$f":"IF(Table23[[#This Row],[Affected CMS\n(§63.2386(d)(1)(ix))\n(Select from dropdown)]]=\"\",\"\",VLOOKUP(Table23[[#This Row],[Affected CMS\n(§63.2386(d)(1)(ix))\n(Select from dropdown)]],Table22[],2,FALSE))","v":""}]
[null,{"$f":"IF(Table23[[#This Row],[Affected CMS\n(§63.2386(d)(1)(ix))\n(Select from dropdown)]]=\"\",\"\",VLOOKUP(Table23[[#This Row],[Affected CMS\n(§63.2386(d)(1)(ix))\n(Select from dropdown)]],Table22[],2,FALSE))","v":""}]
[null,{"$f":"IF(Table23[[#This Row],[Affected CMS\n(§63.2386(d)(1)(ix))\n(Select from dropdown)]]=\"\",\"\",VLOOKUP(Table23[[#This Row],[Affected CMS\n(§63.2386(d)(1)(ix))\n(Select from dropdown)]],Table22[],2,FALSE))","v":""}]
[null,{"$f":"IF(Table23[[#This Row],[Affected CMS\n(§63.2386(d)(1)(ix))\n(Select from dropdown)]]=\"\",\"\",VLOOKUP(Table23[[#This Row],[Affected CMS\n(§63.2386(d)(1)(ix))\n(Select from dropdown)]],Table22[],2,FALSE))","v":""}]
[null,{"$f":"IF(Table23[[#This Row],[Affected CMS\n(§63.2386(d)(1)(ix))\n(Select from dropdown)]]=\"\",\"\",VLOOKUP(Table23[[#This Row],[Affected CMS\n(§63.2386(d)(1)(ix))\n(Select from dropdown)]],Table22[],2,FALSE))","v":""}]
[null,{"$f":"IF(Table23[[#This Row],[Affected CMS\n(§63.2386(d)(1)(ix))\n(Select from dropdown)]]=\"\",\"\",VLOOKUP(Table23[[#This Row],[Affected CMS\n(§63.2386(d)(1)(ix))\n(Select from dropdown)]],Table22[],2,FALSE))","v":""}]
[null,{"$f":"IF(Table23[[#This Row],[Affected CMS\n(§63.2386(d)(1)(ix))\n(Select from dropdown)]]=\"\",\"\",VLOOKUP(Table23[[#This Row],[Affected CMS\n(§63.2386(d)(1)(ix))\n(Select from dropdown)]],Table22[],2,FALSE))","v":""}]
[null,{"$f":"IF(Table23[[#This Row],[Affected CMS\n(§63.2386(d)(1)(ix))\n(Select from dropdown)]]=\"\",\"\",VLOOKUP(Table23[[#This Row],[Affected CMS\n(§63.2386(d)(1)(ix))\n(Select from dropdown)]],Table22[],2,FALSE))","v":""}]
[null,{"$f":"IF(Table23[[#This Row],[Affected CMS\n(§63.2386(d)(1)(ix))\n(Select from dropdown)]]=\"\",\"\",VLOOKUP(Table23[[#This Row],[Affected CMS\n(§63.2386(d)(1)(ix))\n(Select from dropdown)]],Table22[],2,FALSE))","v":""}]
[null,{"$f":"IF(Table23[[#This Row],[Affected CMS\n(§63.2386(d)(1)(ix))\n(Select from dropdown)]]=\"\",\"\",VLOOKUP(Table23[[#This Row],[Affected CMS\n(§63.2386(d)(1)(ix))\n(Select from dropdown)]],Table22[],2,FALSE))","v":""}]
[null,{"$f":"IF(Table23[[#This Row],[Affected CMS\n(§63.2386(d)(1)(ix))\n(Select from dropdown)]]=\"\",\"\",VLOOKUP(Table23[[#This Row],[Affected CMS\n(§63.2386(d)(1)(ix))\n(Select from dropdown)]],Table22[],2,FALSE))","v":""}]
[null,{"$f":"IF(Table23[[#This Row],[Affected CMS\n(§63.2386(d)(1)(ix))\n(Select from dropdown)]]=\"\",\"\",VLOOKUP(Table23[[#This Row],[Affected CMS\n(§63.2386(d)(1)(ix))\n(Select from dropdown)]],Table22[],2,FALSE))","v":""}]
[null,{"$f":"IF(Table23[[#This Row],[Affected CMS\n(§63.2386(d)(1)(ix))\n(Select from dropdown)]]=\"\",\"\",VLOOKUP(Table23[[#This Row],[Affected CMS\n(§63.2386(d)(1)(ix))\n(Select from dropdown)]],Table22[],2,FALSE))","v":""}]
[null,{"$f":"IF(Table23[[#This Row],[Affected CMS\n(§63.2386(d)(1)(ix))\n(Select from dropdown)]]=\"\",\"\",VLOOKUP(Table23[[#This Row],[Affected CMS\n(§63.2386(d)(1)(ix))\n(Select from dropdown)]],Table22[],2,FALSE))","v":""}]
[null,{"$f":"IF(Table23[[#This Row],[Affected CMS\n(§63.2386(d)(1)(ix))\n(Select from dropdown)]]=\"\",\"\",VLOOKUP(Table23[[#This Row],[Affected CMS\n(§63.2386(d)(1)(ix))\n(Select from dropdown)]],Table22[],2,FALSE))","v":""}]
[null,{"$f":"IF(Table23[[#This Row],[Affected CMS\n(§63.2386(d)(1)(ix))\n(Select from dropdown)]]=\"\",\"\",VLOOKUP(Table23[[#This Row],[Affected CMS\n(§63.2386(d)(1)(ix))\n(Select from dropdown)]],Table22[],2,FALSE))","v":""}]
[null,{"$f":"IF(Table23[[#This Row],[Affected CMS\n(§63.2386(d)(1)(ix))\n(Select from dropdown)]]=\"\",\"\",VLOOKUP(Table23[[#This Row],[Affected CMS\n(§63.2386(d)(1)(ix))\n(Select from dropdown)]],Table22[],2,FALSE))","v":""}]
[null,{"$f":"IF(Table23[[#This Row],[Affected CMS\n(§63.2386(d)(1)(ix))\n(Select from dropdown)]]=\"\",\"\",VLOOKUP(Table23[[#This Row],[Affected CMS\n(§63.2386(d)(1)(ix))\n(Select from dropdown)]],Table22[],2,FALSE))","v":""}]
[null,{"$f":"IF(Table23[[#This Row],[Affected CMS\n(§63.2386(d)(1)(ix))\n(Select from dropdown)]]=\"\",\"\",VLOOKUP(Table23[[#This Row],[Affected CMS\n(§63.2386(d)(1)(ix))\n(Select from dropdown)]],Table22[],2,FALSE))","v":""}]
[null,{"$f":"IF(Table23[[#This Row],[Affected CMS\n(§63.2386(d)(1)(ix))\n(Select from dropdown)]]=\"\",\"\",VLOOKUP(Table23[[#This Row],[Affected CMS\n(§63.2386(d)(1)(ix))\n(Select from dropdown)]],Table22[],2,FALSE))","v":""}]
[null,{"$f":"IF(Table23[[#This Row],[Affected CMS\n(§63.2386(d)(1)(ix))\n(Select from dropdown)]]=\"\",\"\",VLOOKUP(Table23[[#This Row],[Affected CMS\n(§63.2386(d)(1)(ix))\n(Select from dropdown)]],Table22[],2,FALSE))","v":""}]
[null,{"$f":"IF(Table23[[#This Row],[Affected CMS\n(§63.2386(d)(1)(ix))\n(Select from dropdown)]]=\"\",\"\",VLOOKUP(Table23[[#This Row],[Affected CMS\n(§63.2386(d)(1)(ix))\n(Select from dropdown)]],Table22[],2,FALSE))","v":""}]
[null,{"$f":"IF(Table23[[#This Row],[Affected CMS\n(§63.2386(d)(1)(ix))\n(Select from dropdown)]]=\"\",\"\",VLOOKUP(Table23[[#This Row],[Affected CMS\n(§63.2386(d)(1)(ix))\n(Select from dropdown)]],Table22[],2,FALSE))","v":""}]
[null,{"$f":"IF(Table23[[#This Row],[Affected CMS\n(§63.2386(d)(1)(ix))\n(Select from dropdown)]]=\"\",\"\",VLOOKUP(Table23[[#This Row],[Affected CMS\n(§63.2386(d)(1)(ix))\n(Select from dropdown)]],Table22[],2,FALSE))","v":""}]
[null,{"$f":"IF(Table23[[#This Row],[Affected CMS\n(§63.2386(d)(1)(ix))\n(Select from dropdown)]]=\"\",\"\",VLOOKUP(Table23[[#This Row],[Affected CMS\n(§63.2386(d)(1)(ix))\n(Select from dropdown)]],Table22[],2,FALSE))","v":""}]
[null,{"$f":"IF(Table23[[#This Row],[Affected CMS\n(§63.2386(d)(1)(ix))\n(Select from dropdown)]]=\"\",\"\",VLOOKUP(Table23[[#This Row],[Affected CMS\n(§63.2386(d)(1)(ix))\n(Select from dropdown)]],Table22[],2,FALSE))","v":""}]
[null,{"$f":"IF(Table23[[#This Row],[Affected CMS\n(§63.2386(d)(1)(ix))\n(Select from dropdown)]]=\"\",\"\",VLOOKUP(Table23[[#This Row],[Affected CMS\n(§63.2386(d)(1)(ix))\n(Select from dropdown)]],Table22[],2,FALSE))","v":""}]
[null,{"$f":"IF(Table23[[#This Row],[Affected CMS\n(§63.2386(d)(1)(ix))\n(Select from dropdown)]]=\"\",\"\",VLOOKUP(Table23[[#This Row],[Affected CMS\n(§63.2386(d)(1)(ix))\n(Select from dropdown)]],Table22[],2,FALSE))","v":""}]
[null,{"$f":"IF(Table23[[#This Row],[Affected CMS\n(§63.2386(d)(1)(ix))\n(Select from dropdown)]]=\"\",\"\",VLOOKUP(Table23[[#This Row],[Affected CMS\n(§63.2386(d)(1)(ix))\n(Select from dropdown)]],Table22[],2,FALSE))","v":""}]
[null,{"$f":"IF(Table23[[#This Row],[Affected CMS\n(§63.2386(d)(1)(ix))\n(Select from dropdown)]]=\"\",\"\",VLOOKUP(Table23[[#This Row],[Affected CMS\n(§63.2386(d)(1)(ix))\n(Select from dropdown)]],Table22[],2,FALSE))","v":""}]
[null,{"$f":"IF(Table23[[#This Row],[Affected CMS\n(§63.2386(d)(1)(ix))\n(Select from dropdown)]]=\"\",\"\",VLOOKUP(Table23[[#This Row],[Affected CMS\n(§63.2386(d)(1)(ix))\n(Select from dropdown)]],Table22[],2,FALSE))","v":""}]
[null,{"$f":"IF(Table23[[#This Row],[Affected CMS\n(§63.2386(d)(1)(ix))\n(Select from dropdown)]]=\"\",\"\",VLOOKUP(Table23[[#This Row],[Affected CMS\n(§63.2386(d)(1)(ix))\n(Select from dropdown)]],Table22[],2,FALSE))","v":""}]
[null,{"$f":"IF(Table23[[#This Row],[Affected CMS\n(§63.2386(d)(1)(ix))\n(Select from dropdown)]]=\"\",\"\",VLOOKUP(Table23[[#This Row],[Affected CMS\n(§63.2386(d)(1)(ix))\n(Select from dropdown)]],Table22[],2,FALSE))","v":""}]
[null,{"$f":"IF(Table23[[#This Row],[Affected CMS\n(§63.2386(d)(1)(ix))\n(Select from dropdown)]]=\"\",\"\",VLOOKUP(Table23[[#This Row],[Affected CMS\n(§63.2386(d)(1)(ix))\n(Select from dropdown)]],Table22[],2,FALSE))","v":""}]
[null,{"$f":"IF(Table23[[#This Row],[Affected CMS\n(§63.2386(d)(1)(ix))\n(Select from dropdown)]]=\"\",\"\",VLOOKUP(Table23[[#This Row],[Affected CMS\n(§63.2386(d)(1)(ix))\n(Select from dropdown)]],Table22[],2,FALSE))","v":""}]
[null,{"$f":"IF(Table23[[#This Row],[Affected CMS\n(§63.2386(d)(1)(ix))\n(Select from dropdown)]]=\"\",\"\",VLOOKUP(Table23[[#This Row],[Affected CMS\n(§63.2386(d)(1)(ix))\n(Select from dropdown)]],Table22[],2,FALSE))","v":""}]
[null,{"$f":"IF(Table23[[#This Row],[Affected CMS\n(§63.2386(d)(1)(ix))\n(Select from dropdown)]]=\"\",\"\",VLOOKUP(Table23[[#This Row],[Affected CMS\n(§63.2386(d)(1)(ix))\n(Select from dropdown)]],Table22[],2,FALSE))","v":""}]
[null,{"$f":"IF(Table23[[#This Row],[Affected CMS\n(§63.2386(d)(1)(ix))\n(Select from dropdown)]]=\"\",\"\",VLOOKUP(Table23[[#This Row],[Affected CMS\n(§63.2386(d)(1)(ix))\n(Select from dropdown)]],Table22[],2,FALSE))","v":""}]
[null,{"$f":"IF(Table23[[#This Row],[Affected CMS\n(§63.2386(d)(1)(ix))\n(Select from dropdown)]]=\"\",\"\",VLOOKUP(Table23[[#This Row],[Affected CMS\n(§63.2386(d)(1)(ix))\n(Select from dropdown)]],Table22[],2,FALSE))","v":""}]
[null,{"$f":"IF(Table23[[#This Row],[Affected CMS\n(§63.2386(d)(1)(ix))\n(Select from dropdown)]]=\"\",\"\",VLOOKUP(Table23[[#This Row],[Affected CMS\n(§63.2386(d)(1)(ix))\n(Select from dropdown)]],Table22[],2,FALSE))","v":""}]
[null,{"$f":"IF(Table23[[#This Row],[Affected CMS\n(§63.2386(d)(1)(ix))\n(Select from dropdown)]]=\"\",\"\",VLOOKUP(Table23[[#This Row],[Affected CMS\n(§63.2386(d)(1)(ix))\n(Select from dropdown)]],Table22[],2,FALSE))","v":""}]
[null,{"$f":"IF(Table23[[#This Row],[Affected CMS\n(§63.2386(d)(1)(ix))\n(Select from dropdown)]]=\"\",\"\",VLOOKUP(Table23[[#This Row],[Affected CMS\n(§63.2386(d)(1)(ix))\n(Select from dropdown)]],Table22[],2,FALSE))","v":""}]
[null,{"$f":"IF(Table23[[#This Row],[Affected CMS\n(§63.2386(d)(1)(ix))\n(Select from dropdown)]]=\"\",\"\",VLOOKUP(Table23[[#This Row],[Affected CMS\n(§63.2386(d)(1)(ix))\n(Select from dropdown)]],Table22[],2,FALSE))","v":""}]
[null,{"$f":"IF(Table23[[#This Row],[Affected CMS\n(§63.2386(d)(1)(ix))\n(Select from dropdown)]]=\"\",\"\",VLOOKUP(Table23[[#This Row],[Affected CMS\n(§63.2386(d)(1)(ix))\n(Select from dropdown)]],Table22[],2,FALSE))","v":""}]
[null,{"$f":"IF(Table23[[#This Row],[Affected CMS\n(§63.2386(d)(1)(ix))\n(Select from dropdown)]]=\"\",\"\",VLOOKUP(Table23[[#This Row],[Affected CMS\n(§63.2386(d)(1)(ix))\n(Select from dropdown)]],Table22[],2,FALSE))","v":""}]
[null,{"$f":"IF(Table23[[#This Row],[Affected CMS\n(§63.2386(d)(1)(ix))\n(Select from dropdown)]]=\"\",\"\",VLOOKUP(Table23[[#This Row],[Affected CMS\n(§63.2386(d)(1)(ix))\n(Select from dropdown)]],Table22[],2,FALSE))","v":""}]
[null,{"$f":"IF(Table23[[#This Row],[Affected CMS\n(§63.2386(d)(1)(ix))\n(Select from dropdown)]]=\"\",\"\",VLOOKUP(Table23[[#This Row],[Affected CMS\n(§63.2386(d)(1)(ix))\n(Select from dropdown)]],Table22[],2,FALSE))","v":""}]
[null,{"$f":"IF(Table23[[#This Row],[Affected CMS\n(§63.2386(d)(1)(ix))\n(Select from dropdown)]]=\"\",\"\",VLOOKUP(Table23[[#This Row],[Affected CMS\n(§63.2386(d)(1)(ix))\n(Select from dropdown)]],Table22[],2,FALSE))","v":""}]
[null,{"$f":"IF(Table23[[#This Row],[Affected CMS\n(§63.2386(d)(1)(ix))\n(Select from dropdown)]]=\"\",\"\",VLOOKUP(Table23[[#This Row],[Affected CMS\n(§63.2386(d)(1)(ix))\n(Select from dropdown)]],Table22[],2,FALSE))","v":""}]
[null,{"$f":"IF(Table23[[#This Row],[Affected CMS\n(§63.2386(d)(1)(ix))\n(Select from dropdown)]]=\"\",\"\",VLOOKUP(Table23[[#This Row],[Affected CMS\n(§63.2386(d)(1)(ix))\n(Select from dropdown)]],Table22[],2,FALSE))","v":""}]
[null,{"$f":"IF(Table23[[#This Row],[Affected CMS\n(§63.2386(d)(1)(ix))\n(Select from dropdown)]]=\"\",\"\",VLOOKUP(Table23[[#This Row],[Affected CMS\n(§63.2386(d)(1)(ix))\n(Select from dropdown)]],Table22[],2,FALSE))","v":""}]
[null,{"$f":"IF(Table23[[#This Row],[Affected CMS\n(§63.2386(d)(1)(ix))\n(Select from dropdown)]]=\"\",\"\",VLOOKUP(Table23[[#This Row],[Affected CMS\n(§63.2386(d)(1)(ix))\n(Select from dropdown)]],Table22[],2,FALSE))","v":""}]
[null,{"$f":"IF(Table23[[#This Row],[Affected CMS\n(§63.2386(d)(1)(ix))\n(Select from dropdown)]]=\"\",\"\",VLOOKUP(Table23[[#This Row],[Affected CMS\n(§63.2386(d)(1)(ix))\n(Select from dropdown)]],Table22[],2,FALSE))","v":""}]
[null,{"$f":"IF(Table23[[#This Row],[Affected CMS\n(§63.2386(d)(1)(ix))\n(Select from dropdown)]]=\"\",\"\",VLOOKUP(Table23[[#This Row],[Affected CMS\n(§63.2386(d)(1)(ix))\n(Select from dropdown)]],Table22[],2,FALSE))","v":""}]
[null,{"$f":"IF(Table23[[#This Row],[Affected CMS\n(§63.2386(d)(1)(ix))\n(Select from dropdown)]]=\"\",\"\",VLOOKUP(Table23[[#This Row],[Affected CMS\n(§63.2386(d)(1)(ix))\n(Select from dropdown)]],Table22[],2,FALSE))","v":""}]
[null,{"$f":"IF(Table23[[#This Row],[Affected CMS\n(§63.2386(d)(1)(ix))\n(Select from dropdown)]]=\"\",\"\",VLOOKUP(Table23[[#This Row],[Affected CMS\n(§63.2386(d)(1)(ix))\n(Select from dropdown)]],Table22[],2,FALSE))","v":""}]
[null,{"$f":"IF(Table23[[#This Row],[Affected CMS\n(§63.2386(d)(1)(ix))\n(Select from dropdown)]]=\"\",\"\",VLOOKUP(Table23[[#This Row],[Affected CMS\n(§63.2386(d)(1)(ix))\n(Select from dropdown)]],Table22[],2,FALSE))","v":""}]
[null,{"$f":"IF(Table23[[#This Row],[Affected CMS\n(§63.2386(d)(1)(ix))\n(Select from dropdown)]]=\"\",\"\",VLOOKUP(Table23[[#This Row],[Affected CMS\n(§63.2386(d)(1)(ix))\n(Select from dropdown)]],Table22[],2,FALSE))","v":""}]
[null,{"$f":"IF(Table23[[#This Row],[Affected CMS\n(§63.2386(d)(1)(ix))\n(Select from dropdown)]]=\"\",\"\",VLOOKUP(Table23[[#This Row],[Affected CMS\n(§63.2386(d)(1)(ix))\n(Select from dropdown)]],Table22[],2,FALSE))","v":""}]
[null,{"$f":"IF(Table23[[#This Row],[Affected CMS\n(§63.2386(d)(1)(ix))\n(Select from dropdown)]]=\"\",\"\",VLOOKUP(Table23[[#This Row],[Affected CMS\n(§63.2386(d)(1)(ix))\n(Select from dropdown)]],Table22[],2,FALSE))","v":""}]
[null,{"$f":"IF(Table23[[#This Row],[Affected CMS\n(§63.2386(d)(1)(ix))\n(Select from dropdown)]]=\"\",\"\",VLOOKUP(Table23[[#This Row],[Affected CMS\n(§63.2386(d)(1)(ix))\n(Select from dropdown)]],Table22[],2,FALSE))","v":""}]
[null,{"$f":"IF(Table23[[#This Row],[Affected CMS\n(§63.2386(d)(1)(ix))\n(Select from dropdown)]]=\"\",\"\",VLOOKUP(Table23[[#This Row],[Affected CMS\n(§63.2386(d)(1)(ix))\n(Select from dropdown)]],Table22[],2,FALSE))","v":""}]
[null,{"$f":"IF(Table23[[#This Row],[Affected CMS\n(§63.2386(d)(1)(ix))\n(Select from dropdown)]]=\"\",\"\",VLOOKUP(Table23[[#This Row],[Affected CMS\n(§63.2386(d)(1)(ix))\n(Select from dropdown)]],Table22[],2,FALSE))","v":""}]
[null,{"$f":"IF(Table23[[#This Row],[Affected CMS\n(§63.2386(d)(1)(ix))\n(Select from dropdown)]]=\"\",\"\",VLOOKUP(Table23[[#This Row],[Affected CMS\n(§63.2386(d)(1)(ix))\n(Select from dropdown)]],Table22[],2,FALSE))","v":""}]
[null,{"$f":"IF(Table23[[#This Row],[Affected CMS\n(§63.2386(d)(1)(ix))\n(Select from dropdown)]]=\"\",\"\",VLOOKUP(Table23[[#This Row],[Affected CMS\n(§63.2386(d)(1)(ix))\n(Select from dropdown)]],Table22[],2,FALSE))","v":""}]
[null,{"$f":"IF(Table23[[#This Row],[Affected CMS\n(§63.2386(d)(1)(ix))\n(Select from dropdown)]]=\"\",\"\",VLOOKUP(Table23[[#This Row],[Affected CMS\n(§63.2386(d)(1)(ix))\n(Select from dropdown)]],Table22[],2,FALSE))","v":""}]
[null,{"$f":"IF(Table23[[#This Row],[Affected CMS\n(§63.2386(d)(1)(ix))\n(Select from dropdown)]]=\"\",\"\",VLOOKUP(Table23[[#This Row],[Affected CMS\n(§63.2386(d)(1)(ix))\n(Select from dropdown)]],Table22[],2,FALSE))","v":""}]
[null,{"$f":"IF(Table23[[#This Row],[Affected CMS\n(§63.2386(d)(1)(ix))\n(Select from dropdown)]]=\"\",\"\",VLOOKUP(Table23[[#This Row],[Affected CMS\n(§63.2386(d)(1)(ix))\n(Select from dropdown)]],Table22[],2,FALSE))","v":""}]
[null,{"$f":"IF(Table23[[#This Row],[Affected CMS\n(§63.2386(d)(1)(ix))\n(Select from dropdown)]]=\"\",\"\",VLOOKUP(Table23[[#This Row],[Affected CMS\n(§63.2386(d)(1)(ix))\n(Select from dropdown)]],Table22[],2,FALSE))","v":""}]
[null,{"$f":"IF(Table23[[#This Row],[Affected CMS\n(§63.2386(d)(1)(ix))\n(Select from dropdown)]]=\"\",\"\",VLOOKUP(Table23[[#This Row],[Affected CMS\n(§63.2386(d)(1)(ix))\n(Select from dropdown)]],Table22[],2,FALSE))","v":""}]
[null,{"$f":"IF(Table23[[#This Row],[Affected CMS\n(§63.2386(d)(1)(ix))\n(Select from dropdown)]]=\"\",\"\",VLOOKUP(Table23[[#This Row],[Affected CMS\n(§63.2386(d)(1)(ix))\n(Select from dropdown)]],Table22[],2,FALSE))","v":""}]
[null,{"$f":"IF(Table23[[#This Row],[Affected CMS\n(§63.2386(d)(1)(ix))\n(Select from dropdown)]]=\"\",\"\",VLOOKUP(Table23[[#This Row],[Affected CMS\n(§63.2386(d)(1)(ix))\n(Select from dropdown)]],Table22[],2,FALSE))","v":""}]
[null,{"$f":"IF(Table23[[#This Row],[Affected CMS\n(§63.2386(d)(1)(ix))\n(Select from dropdown)]]=\"\",\"\",VLOOKUP(Table23[[#This Row],[Affected CMS\n(§63.2386(d)(1)(ix))\n(Select from dropdown)]],Table22[],2,FALSE))","v":""}]
[null,{"$f":"IF(Table23[[#This Row],[Affected CMS\n(§63.2386(d)(1)(ix))\n(Select from dropdown)]]=\"\",\"\",VLOOKUP(Table23[[#This Row],[Affected CMS\n(§63.2386(d)(1)(ix))\n(Select from dropdown)]],Table22[],2,FALSE))","v":""}]
[null,{"$f":"IF(Table23[[#This Row],[Affected CMS\n(§63.2386(d)(1)(ix))\n(Select from dropdown)]]=\"\",\"\",VLOOKUP(Table23[[#This Row],[Affected CMS\n(§63.2386(d)(1)(ix))\n(Select from dropdown)]],Table22[],2,FALSE))","v":""}]
[null,{"$f":"IF(Table23[[#This Row],[Affected CMS\n(§63.2386(d)(1)(ix))\n(Select from dropdown)]]=\"\",\"\",VLOOKUP(Table23[[#This Row],[Affected CMS\n(§63.2386(d)(1)(ix))\n(Select from dropdown)]],Table22[],2,FALSE))","v":""}]
[null,{"$f":"IF(Table23[[#This Row],[Affected CMS\n(§63.2386(d)(1)(ix))\n(Select from dropdown)]]=\"\",\"\",VLOOKUP(Table23[[#This Row],[Affected CMS\n(§63.2386(d)(1)(ix))\n(Select from dropdown)]],Table22[],2,FALSE))","v":""}]
[null,{"$f":"IF(Table23[[#This Row],[Affected CMS\n(§63.2386(d)(1)(ix))\n(Select from dropdown)]]=\"\",\"\",VLOOKUP(Table23[[#This Row],[Affected CMS\n(§63.2386(d)(1)(ix))\n(Select from dropdown)]],Table22[],2,FALSE))","v":""}]
[null,{"$f":"IF(Table23[[#This Row],[Affected CMS\n(§63.2386(d)(1)(ix))\n(Select from dropdown)]]=\"\",\"\",VLOOKUP(Table23[[#This Row],[Affected CMS\n(§63.2386(d)(1)(ix))\n(Select from dropdown)]],Table22[],2,FALSE))","v":""}]
[null,{"$f":"IF(Table23[[#This Row],[Affected CMS\n(§63.2386(d)(1)(ix))\n(Select from dropdown)]]=\"\",\"\",VLOOKUP(Table23[[#This Row],[Affected CMS\n(§63.2386(d)(1)(ix))\n(Select from dropdown)]],Table22[],2,FALSE))","v":""}]
[null,{"$f":"IF(Table23[[#This Row],[Affected CMS\n(§63.2386(d)(1)(ix))\n(Select from dropdown)]]=\"\",\"\",VLOOKUP(Table23[[#This Row],[Affected CMS\n(§63.2386(d)(1)(ix))\n(Select from dropdown)]],Table22[],2,FALSE))","v":""}]
[null,{"$f":"IF(Table23[[#This Row],[Affected CMS\n(§63.2386(d)(1)(ix))\n(Select from dropdown)]]=\"\",\"\",VLOOKUP(Table23[[#This Row],[Affected CMS\n(§63.2386(d)(1)(ix))\n(Select from dropdown)]],Table22[],2,FALSE))","v":""}]
[null,{"$f":"IF(Table23[[#This Row],[Affected CMS\n(§63.2386(d)(1)(ix))\n(Select from dropdown)]]=\"\",\"\",VLOOKUP(Table23[[#This Row],[Affected CMS\n(§63.2386(d)(1)(ix))\n(Select from dropdown)]],Table22[],2,FALSE))","v":""}]
[null,{"$f":"IF(Table23[[#This Row],[Affected CMS\n(§63.2386(d)(1)(ix))\n(Select from dropdown)]]=\"\",\"\",VLOOKUP(Table23[[#This Row],[Affected CMS\n(§63.2386(d)(1)(ix))\n(Select from dropdown)]],Table22[],2,FALSE))","v":""}]
[null,{"$f":"IF(Table23[[#This Row],[Affected CMS\n(§63.2386(d)(1)(ix))\n(Select from dropdown)]]=\"\",\"\",VLOOKUP(Table23[[#This Row],[Affected CMS\n(§63.2386(d)(1)(ix))\n(Select from dropdown)]],Table22[],2,FALSE))","v":""}]
[null,{"$f":"IF(Table23[[#This Row],[Affected CMS\n(§63.2386(d)(1)(ix))\n(Select from dropdown)]]=\"\",\"\",VLOOKUP(Table23[[#This Row],[Affected CMS\n(§63.2386(d)(1)(ix))\n(Select from dropdown)]],Table22[],2,FALSE))","v":""}]
[null,{"$f":"IF(Table23[[#This Row],[Affected CMS\n(§63.2386(d)(1)(ix))\n(Select from dropdown)]]=\"\",\"\",VLOOKUP(Table23[[#This Row],[Affected CMS\n(§63.2386(d)(1)(ix))\n(Select from dropdown)]],Table22[],2,FALSE))","v":""}]
[null,{"$f":"IF(Table23[[#This Row],[Affected CMS\n(§63.2386(d)(1)(ix))\n(Select from dropdown)]]=\"\",\"\",VLOOKUP(Table23[[#This Row],[Affected CMS\n(§63.2386(d)(1)(ix))\n(Select from dropdown)]],Table22[],2,FALSE))","v":""}]
[null,{"$f":"IF(Table23[[#This Row],[Affected CMS\n(§63.2386(d)(1)(ix))\n(Select from dropdown)]]=\"\",\"\",VLOOKUP(Table23[[#This Row],[Affected CMS\n(§63.2386(d)(1)(ix))\n(Select from dropdown)]],Table22[],2,FALSE))","v":""}]
[null,{"$f":"IF(Table23[[#This Row],[Affected CMS\n(§63.2386(d)(1)(ix))\n(Select from dropdown)]]=\"\",\"\",VLOOKUP(Table23[[#This Row],[Affected CMS\n(§63.2386(d)(1)(ix))\n(Select from dropdown)]],Table22[],2,FALSE))","v":""}]
[null,{"$f":"IF(Table23[[#This Row],[Affected CMS\n(§63.2386(d)(1)(ix))\n(Select from dropdown)]]=\"\",\"\",VLOOKUP(Table23[[#This Row],[Affected CMS\n(§63.2386(d)(1)(ix))\n(Select from dropdown)]],Table22[],2,FALSE))","v":""}]
[null,{"$f":"IF(Table23[[#This Row],[Affected CMS\n(§63.2386(d)(1)(ix))\n(Select from dropdown)]]=\"\",\"\",VLOOKUP(Table23[[#This Row],[Affected CMS\n(§63.2386(d)(1)(ix))\n(Select from dropdown)]],Table22[],2,FALSE))","v":""}]
[null,{"$f":"IF(Table23[[#This Row],[Affected CMS\n(§63.2386(d)(1)(ix))\n(Select from dropdown)]]=\"\",\"\",VLOOKUP(Table23[[#This Row],[Affected CMS\n(§63.2386(d)(1)(ix))\n(Select from dropdown)]],Table22[],2,FALSE))","v":""}]
[null,{"$f":"IF(Table23[[#This Row],[Affected CMS\n(§63.2386(d)(1)(ix))\n(Select from dropdown)]]=\"\",\"\",VLOOKUP(Table23[[#This Row],[Affected CMS\n(§63.2386(d)(1)(ix))\n(Select from dropdown)]],Table22[],2,FALSE))","v":""}]
[null,{"$f":"IF(Table23[[#This Row],[Affected CMS\n(§63.2386(d)(1)(ix))\n(Select from dropdown)]]=\"\",\"\",VLOOKUP(Table23[[#This Row],[Affected CMS\n(§63.2386(d)(1)(ix))\n(Select from dropdown)]],Table22[],2,FALSE))","v":""}]
[null,{"$f":"IF(Table23[[#This Row],[Affected CMS\n(§63.2386(d)(1)(ix))\n(Select from dropdown)]]=\"\",\"\",VLOOKUP(Table23[[#This Row],[Affected CMS\n(§63.2386(d)(1)(ix))\n(Select from dropdown)]],Table22[],2,FALSE))","v":""}]
[null,{"$f":"IF(Table23[[#This Row],[Affected CMS\n(§63.2386(d)(1)(ix))\n(Select from dropdown)]]=\"\",\"\",VLOOKUP(Table23[[#This Row],[Affected CMS\n(§63.2386(d)(1)(ix))\n(Select from dropdown)]],Table22[],2,FALSE))","v":""}]
[null,{"$f":"IF(Table23[[#This Row],[Affected CMS\n(§63.2386(d)(1)(ix))\n(Select from dropdown)]]=\"\",\"\",VLOOKUP(Table23[[#This Row],[Affected CMS\n(§63.2386(d)(1)(ix))\n(Select from dropdown)]],Table22[],2,FALSE))","v":""}]
[null,{"$f":"IF(Table23[[#This Row],[Affected CMS\n(§63.2386(d)(1)(ix))\n(Select from dropdown)]]=\"\",\"\",VLOOKUP(Table23[[#This Row],[Affected CMS\n(§63.2386(d)(1)(ix))\n(Select from dropdown)]],Table22[],2,FALSE))","v":""}]
[null,{"$f":"IF(Table23[[#This Row],[Affected CMS\n(§63.2386(d)(1)(ix))\n(Select from dropdown)]]=\"\",\"\",VLOOKUP(Table23[[#This Row],[Affected CMS\n(§63.2386(d)(1)(ix))\n(Select from dropdown)]],Table22[],2,FALSE))","v":""}]
[null,{"$f":"IF(Table23[[#This Row],[Affected CMS\n(§63.2386(d)(1)(ix))\n(Select from dropdown)]]=\"\",\"\",VLOOKUP(Table23[[#This Row],[Affected CMS\n(§63.2386(d)(1)(ix))\n(Select from dropdown)]],Table22[],2,FALSE))","v":""}]
[null,{"$f":"IF(Table23[[#This Row],[Affected CMS\n(§63.2386(d)(1)(ix))\n(Select from dropdown)]]=\"\",\"\",VLOOKUP(Table23[[#This Row],[Affected CMS\n(§63.2386(d)(1)(ix))\n(Select from dropdown)]],Table22[],2,FALSE))","v":""}]
[null,{"$f":"IF(Table23[[#This Row],[Affected CMS\n(§63.2386(d)(1)(ix))\n(Select from dropdown)]]=\"\",\"\",VLOOKUP(Table23[[#This Row],[Affected CMS\n(§63.2386(d)(1)(ix))\n(Select from dropdown)]],Table22[],2,FALSE))","v":""}]
[null,{"$f":"IF(Table23[[#This Row],[Affected CMS\n(§63.2386(d)(1)(ix))\n(Select from dropdown)]]=\"\",\"\",VLOOKUP(Table23[[#This Row],[Affected CMS\n(§63.2386(d)(1)(ix))\n(Select from dropdown)]],Table22[],2,FALSE))","v":""}]
[null,{"$f":"IF(Table23[[#This Row],[Affected CMS\n(§63.2386(d)(1)(ix))\n(Select from dropdown)]]=\"\",\"\",VLOOKUP(Table23[[#This Row],[Affected CMS\n(§63.2386(d)(1)(ix))\n(Select from dropdown)]],Table22[],2,FALSE))","v":""}]
[null,{"$f":"IF(Table23[[#This Row],[Affected CMS\n(§63.2386(d)(1)(ix))\n(Select from dropdown)]]=\"\",\"\",VLOOKUP(Table23[[#This Row],[Affected CMS\n(§63.2386(d)(1)(ix))\n(Select from dropdown)]],Table22[],2,FALSE))","v":""}]
[null,{"$f":"IF(Table23[[#This Row],[Affected CMS\n(§63.2386(d)(1)(ix))\n(Select from dropdown)]]=\"\",\"\",VLOOKUP(Table23[[#This Row],[Affected CMS\n(§63.2386(d)(1)(ix))\n(Select from dropdown)]],Table22[],2,FALSE))","v":""}]
[null,{"$f":"IF(Table23[[#This Row],[Affected CMS\n(§63.2386(d)(1)(ix))\n(Select from dropdown)]]=\"\",\"\",VLOOKUP(Table23[[#This Row],[Affected CMS\n(§63.2386(d)(1)(ix))\n(Select from dropdown)]],Table22[],2,FALSE))","v":""}]
[null,{"$f":"IF(Table23[[#This Row],[Affected CMS\n(§63.2386(d)(1)(ix))\n(Select from dropdown)]]=\"\",\"\",VLOOKUP(Table23[[#This Row],[Affected CMS\n(§63.2386(d)(1)(ix))\n(Select from dropdown)]],Table22[],2,FALSE))","v":""}]
[null,{"$f":"IF(Table23[[#This Row],[Affected CMS\n(§63.2386(d)(1)(ix))\n(Select from dropdown)]]=\"\",\"\",VLOOKUP(Table23[[#This Row],[Affected CMS\n(§63.2386(d)(1)(ix))\n(Select from dropdown)]],Table22[],2,FALSE))","v":""}]
[null,{"$f":"IF(Table23[[#This Row],[Affected CMS\n(§63.2386(d)(1)(ix))\n(Select from dropdown)]]=\"\",\"\",VLOOKUP(Table23[[#This Row],[Affected CMS\n(§63.2386(d)(1)(ix))\n(Select from dropdown)]],Table22[],2,FALSE))","v":""}]
[null,{"$f":"IF(Table23[[#This Row],[Affected CMS\n(§63.2386(d)(1)(ix))\n(Select from dropdown)]]=\"\",\"\",VLOOKUP(Table23[[#This Row],[Affected CMS\n(§63.2386(d)(1)(ix))\n(Select from dropdown)]],Table22[],2,FALSE))","v":""}]
[null,{"$f":"IF(Table23[[#This Row],[Affected CMS\n(§63.2386(d)(1)(ix))\n(Select from dropdown)]]=\"\",\"\",VLOOKUP(Table23[[#This Row],[Affected CMS\n(§63.2386(d)(1)(ix))\n(Select from dropdown)]],Table22[],2,FALSE))","v":""}]
[null,{"$f":"IF(Table23[[#This Row],[Affected CMS\n(§63.2386(d)(1)(ix))\n(Select from dropdown)]]=\"\",\"\",VLOOKUP(Table23[[#This Row],[Affected CMS\n(§63.2386(d)(1)(ix))\n(Select from dropdown)]],Table22[],2,FALSE))","v":""}]
[null,{"$f":"IF(Table23[[#This Row],[Affected CMS\n(§63.2386(d)(1)(ix))\n(Select from dropdown)]]=\"\",\"\",VLOOKUP(Table23[[#This Row],[Affected CMS\n(§63.2386(d)(1)(ix))\n(Select from dropdown)]],Table22[],2,FALSE))","v":""}]
[null,{"$f":"IF(Table23[[#This Row],[Affected CMS\n(§63.2386(d)(1)(ix))\n(Select from dropdown)]]=\"\",\"\",VLOOKUP(Table23[[#This Row],[Affected CMS\n(§63.2386(d)(1)(ix))\n(Select from dropdown)]],Table22[],2,FALSE))","v":""}]
[null,{"$f":"IF(Table23[[#This Row],[Affected CMS\n(§63.2386(d)(1)(ix))\n(Select from dropdown)]]=\"\",\"\",VLOOKUP(Table23[[#This Row],[Affected CMS\n(§63.2386(d)(1)(ix))\n(Select from dropdown)]],Table22[],2,FALSE))","v":""}]
[null,{"$f":"IF(Table23[[#This Row],[Affected CMS\n(§63.2386(d)(1)(ix))\n(Select from dropdown)]]=\"\",\"\",VLOOKUP(Table23[[#This Row],[Affected CMS\n(§63.2386(d)(1)(ix))\n(Select from dropdown)]],Table22[],2,FALSE))","v":""}]
[null,{"$f":"IF(Table23[[#This Row],[Affected CMS\n(§63.2386(d)(1)(ix))\n(Select from dropdown)]]=\"\",\"\",VLOOKUP(Table23[[#This Row],[Affected CMS\n(§63.2386(d)(1)(ix))\n(Select from dropdown)]],Table22[],2,FALSE))","v":""}]
[null,{"$f":"IF(Table23[[#This Row],[Affected CMS\n(§63.2386(d)(1)(ix))\n(Select from dropdown)]]=\"\",\"\",VLOOKUP(Table23[[#This Row],[Affected CMS\n(§63.2386(d)(1)(ix))\n(Select from dropdown)]],Table22[],2,FALSE))","v":""}]
[null,{"$f":"IF(Table23[[#This Row],[Affected CMS\n(§63.2386(d)(1)(ix))\n(Select from dropdown)]]=\"\",\"\",VLOOKUP(Table23[[#This Row],[Affected CMS\n(§63.2386(d)(1)(ix))\n(Select from dropdown)]],Table22[],2,FALSE))","v":""}]
[null,{"$f":"IF(Table23[[#This Row],[Affected CMS\n(§63.2386(d)(1)(ix))\n(Select from dropdown)]]=\"\",\"\",VLOOKUP(Table23[[#This Row],[Affected CMS\n(§63.2386(d)(1)(ix))\n(Select from dropdown)]],Table22[],2,FALSE))","v":""}]
[null,{"$f":"IF(Table23[[#This Row],[Affected CMS\n(§63.2386(d)(1)(ix))\n(Select from dropdown)]]=\"\",\"\",VLOOKUP(Table23[[#This Row],[Affected CMS\n(§63.2386(d)(1)(ix))\n(Select from dropdown)]],Table22[],2,FALSE))","v":""}]
[null,{"$f":"IF(Table23[[#This Row],[Affected CMS\n(§63.2386(d)(1)(ix))\n(Select from dropdown)]]=\"\",\"\",VLOOKUP(Table23[[#This Row],[Affected CMS\n(§63.2386(d)(1)(ix))\n(Select from dropdown)]],Table22[],2,FALSE))","v":""}]
[null,{"$f":"IF(Table23[[#This Row],[Affected CMS\n(§63.2386(d)(1)(ix))\n(Select from dropdown)]]=\"\",\"\",VLOOKUP(Table23[[#This Row],[Affected CMS\n(§63.2386(d)(1)(ix))\n(Select from dropdown)]],Table22[],2,FALSE))","v":""}]
[null,{"$f":"IF(Table23[[#This Row],[Affected CMS\n(§63.2386(d)(1)(ix))\n(Select from dropdown)]]=\"\",\"\",VLOOKUP(Table23[[#This Row],[Affected CMS\n(§63.2386(d)(1)(ix))\n(Select from dropdown)]],Table22[],2,FALSE))","v":""}]
[null,{"$f":"IF(Table23[[#This Row],[Affected CMS\n(§63.2386(d)(1)(ix))\n(Select from dropdown)]]=\"\",\"\",VLOOKUP(Table23[[#This Row],[Affected CMS\n(§63.2386(d)(1)(ix))\n(Select from dropdown)]],Table22[],2,FALSE))","v":""}]
[null,{"$f":"IF(Table23[[#This Row],[Affected CMS\n(§63.2386(d)(1)(ix))\n(Select from dropdown)]]=\"\",\"\",VLOOKUP(Table23[[#This Row],[Affected CMS\n(§63.2386(d)(1)(ix))\n(Select from dropdown)]],Table22[],2,FALSE))","v":""}]
[null,{"$f":"IF(Table23[[#This Row],[Affected CMS\n(§63.2386(d)(1)(ix))\n(Select from dropdown)]]=\"\",\"\",VLOOKUP(Table23[[#This Row],[Affected CMS\n(§63.2386(d)(1)(ix))\n(Select from dropdown)]],Table22[],2,FALSE))","v":""}]
[null,{"$f":"IF(Table23[[#This Row],[Affected CMS\n(§63.2386(d)(1)(ix))\n(Select from dropdown)]]=\"\",\"\",VLOOKUP(Table23[[#This Row],[Affected CMS\n(§63.2386(d)(1)(ix))\n(Select from dropdown)]],Table22[],2,FALSE))","v":""}]
[null,{"$f":"IF(Table23[[#This Row],[Affected CMS\n(§63.2386(d)(1)(ix))\n(Select from dropdown)]]=\"\",\"\",VLOOKUP(Table23[[#This Row],[Affected CMS\n(§63.2386(d)(1)(ix))\n(Select from dropdown)]],Table22[],2,FALSE))","v":""}]
[null,{"$f":"IF(Table23[[#This Row],[Affected CMS\n(§63.2386(d)(1)(ix))\n(Select from dropdown)]]=\"\",\"\",VLOOKUP(Table23[[#This Row],[Affected CMS\n(§63.2386(d)(1)(ix))\n(Select from dropdown)]],Table22[],2,FALSE))","v":""}]
[null,{"$f":"IF(Table23[[#This Row],[Affected CMS\n(§63.2386(d)(1)(ix))\n(Select from dropdown)]]=\"\",\"\",VLOOKUP(Table23[[#This Row],[Affected CMS\n(§63.2386(d)(1)(ix))\n(Select from dropdown)]],Table22[],2,FALSE))","v":""}]
[null,{"$f":"IF(Table23[[#This Row],[Affected CMS\n(§63.2386(d)(1)(ix))\n(Select from dropdown)]]=\"\",\"\",VLOOKUP(Table23[[#This Row],[Affected CMS\n(§63.2386(d)(1)(ix))\n(Select from dropdown)]],Table22[],2,FALSE))","v":""}]
[null,{"$f":"IF(Table23[[#This Row],[Affected CMS\n(§63.2386(d)(1)(ix))\n(Select from dropdown)]]=\"\",\"\",VLOOKUP(Table23[[#This Row],[Affected CMS\n(§63.2386(d)(1)(ix))\n(Select from dropdown)]],Table22[],2,FALSE))","v":""}]
[null,{"$f":"IF(Table23[[#This Row],[Affected CMS\n(§63.2386(d)(1)(ix))\n(Select from dropdown)]]=\"\",\"\",VLOOKUP(Table23[[#This Row],[Affected CMS\n(§63.2386(d)(1)(ix))\n(Select from dropdown)]],Table22[],2,FALSE))","v":""}]
[null,{"$f":"IF(Table23[[#This Row],[Affected CMS\n(§63.2386(d)(1)(ix))\n(Select from dropdown)]]=\"\",\"\",VLOOKUP(Table23[[#This Row],[Affected CMS\n(§63.2386(d)(1)(ix))\n(Select from dropdown)]],Table22[],2,FALSE))","v":""}]
[null,{"$f":"IF(Table23[[#This Row],[Affected CMS\n(§63.2386(d)(1)(ix))\n(Select from dropdown)]]=\"\",\"\",VLOOKUP(Table23[[#This Row],[Affected CMS\n(§63.2386(d)(1)(ix))\n(Select from dropdown)]],Table22[],2,FALSE))","v":""}]
[null,{"$f":"IF(Table23[[#This Row],[Affected CMS\n(§63.2386(d)(1)(ix))\n(Select from dropdown)]]=\"\",\"\",VLOOKUP(Table23[[#This Row],[Affected CMS\n(§63.2386(d)(1)(ix))\n(Select from dropdown)]],Table22[],2,FALSE))","v":""}]
[null,{"$f":"IF(Table23[[#This Row],[Affected CMS\n(§63.2386(d)(1)(ix))\n(Select from dropdown)]]=\"\",\"\",VLOOKUP(Table23[[#This Row],[Affected CMS\n(§63.2386(d)(1)(ix))\n(Select from dropdown)]],Table22[],2,FALSE))","v":""}]
[null,{"$f":"IF(Table23[[#This Row],[Affected CMS\n(§63.2386(d)(1)(ix))\n(Select from dropdown)]]=\"\",\"\",VLOOKUP(Table23[[#This Row],[Affected CMS\n(§63.2386(d)(1)(ix))\n(Select from dropdown)]],Table22[],2,FALSE))","v":""}]
[null,{"$f":"IF(Table23[[#This Row],[Affected CMS\n(§63.2386(d)(1)(ix))\n(Select from dropdown)]]=\"\",\"\",VLOOKUP(Table23[[#This Row],[Affected CMS\n(§63.2386(d)(1)(ix))\n(Select from dropdown)]],Table22[],2,FALSE))","v":""}]
[null,{"$f":"IF(Table23[[#This Row],[Affected CMS\n(§63.2386(d)(1)(ix))\n(Select from dropdown)]]=\"\",\"\",VLOOKUP(Table23[[#This Row],[Affected CMS\n(§63.2386(d)(1)(ix))\n(Select from dropdown)]],Table22[],2,FALSE))","v":""}]
[null,{"$f":"IF(Table23[[#This Row],[Affected CMS\n(§63.2386(d)(1)(ix))\n(Select from dropdown)]]=\"\",\"\",VLOOKUP(Table23[[#This Row],[Affected CMS\n(§63.2386(d)(1)(ix))\n(Select from dropdown)]],Table22[],2,FALSE))","v":""}]
[null,{"$f":"IF(Table23[[#This Row],[Affected CMS\n(§63.2386(d)(1)(ix))\n(Select from dropdown)]]=\"\",\"\",VLOOKUP(Table23[[#This Row],[Affected CMS\n(§63.2386(d)(1)(ix))\n(Select from dropdown)]],Table22[],2,FALSE))","v":""}]
[null,{"$f":"IF(Table23[[#This Row],[Affected CMS\n(§63.2386(d)(1)(ix))\n(Select from dropdown)]]=\"\",\"\",VLOOKUP(Table23[[#This Row],[Affected CMS\n(§63.2386(d)(1)(ix))\n(Select from dropdown)]],Table22[],2,FALSE))","v":""}]
[null,{"$f":"IF(Table23[[#This Row],[Affected CMS\n(§63.2386(d)(1)(ix))\n(Select from dropdown)]]=\"\",\"\",VLOOKUP(Table23[[#This Row],[Affected CMS\n(§63.2386(d)(1)(ix))\n(Select from dropdown)]],Table22[],2,FALSE))","v":""}]
[null,{"$f":"IF(Table23[[#This Row],[Affected CMS\n(§63.2386(d)(1)(ix))\n(Select from dropdown)]]=\"\",\"\",VLOOKUP(Table23[[#This Row],[Affected CMS\n(§63.2386(d)(1)(ix))\n(Select from dropdown)]],Table22[],2,FALSE))","v":""}]
[null,{"$f":"IF(Table23[[#This Row],[Affected CMS\n(§63.2386(d)(1)(ix))\n(Select from dropdown)]]=\"\",\"\",VLOOKUP(Table23[[#This Row],[Affected CMS\n(§63.2386(d)(1)(ix))\n(Select from dropdown)]],Table22[],2,FALSE))","v":""}]
[null,{"$f":"IF(Table23[[#This Row],[Affected CMS\n(§63.2386(d)(1)(ix))\n(Select from dropdown)]]=\"\",\"\",VLOOKUP(Table23[[#This Row],[Affected CMS\n(§63.2386(d)(1)(ix))\n(Select from dropdown)]],Table22[],2,FALSE))","v":""}]
[null,{"$f":"IF(Table23[[#This Row],[Affected CMS\n(§63.2386(d)(1)(ix))\n(Select from dropdown)]]=\"\",\"\",VLOOKUP(Table23[[#This Row],[Affected CMS\n(§63.2386(d)(1)(ix))\n(Select from dropdown)]],Table22[],2,FALSE))","v":""}]
[null,{"$f":"IF(Table23[[#This Row],[Affected CMS\n(§63.2386(d)(1)(ix))\n(Select from dropdown)]]=\"\",\"\",VLOOKUP(Table23[[#This Row],[Affected CMS\n(§63.2386(d)(1)(ix))\n(Select from dropdown)]],Table22[],2,FALSE))","v":""}]
[null,{"$f":"IF(Table23[[#This Row],[Affected CMS\n(§63.2386(d)(1)(ix))\n(Select from dropdown)]]=\"\",\"\",VLOOKUP(Table23[[#This Row],[Affected CMS\n(§63.2386(d)(1)(ix))\n(Select from dropdown)]],Table22[],2,FALSE))","v":""}]
[null,{"$f":"IF(Table23[[#This Row],[Affected CMS\n(§63.2386(d)(1)(ix))\n(Select from dropdown)]]=\"\",\"\",VLOOKUP(Table23[[#This Row],[Affected CMS\n(§63.2386(d)(1)(ix))\n(Select from dropdown)]],Table22[],2,FALSE))","v":""}]
[null,{"$f":"IF(Table23[[#This Row],[Affected CMS\n(§63.2386(d)(1)(ix))\n(Select from dropdown)]]=\"\",\"\",VLOOKUP(Table23[[#This Row],[Affected CMS\n(§63.2386(d)(1)(ix))\n(Select from dropdown)]],Table22[],2,FALSE))","v":""}]
[null,{"$f":"IF(Table23[[#This Row],[Affected CMS\n(§63.2386(d)(1)(ix))\n(Select from dropdown)]]=\"\",\"\",VLOOKUP(Table23[[#This Row],[Affected CMS\n(§63.2386(d)(1)(ix))\n(Select from dropdown)]],Table22[],2,FALSE))","v":""}]
[null,{"$f":"IF(Table23[[#This Row],[Affected CMS\n(§63.2386(d)(1)(ix))\n(Select from dropdown)]]=\"\",\"\",VLOOKUP(Table23[[#This Row],[Affected CMS\n(§63.2386(d)(1)(ix))\n(Select from dropdown)]],Table22[],2,FALSE))","v":""}]
[null,{"$f":"IF(Table23[[#This Row],[Affected CMS\n(§63.2386(d)(1)(ix))\n(Select from dropdown)]]=\"\",\"\",VLOOKUP(Table23[[#This Row],[Affected CMS\n(§63.2386(d)(1)(ix))\n(Select from dropdown)]],Table22[],2,FALSE))","v":""}]
[null,{"$f":"IF(Table23[[#This Row],[Affected CMS\n(§63.2386(d)(1)(ix))\n(Select from dropdown)]]=\"\",\"\",VLOOKUP(Table23[[#This Row],[Affected CMS\n(§63.2386(d)(1)(ix))\n(Select from dropdown)]],Table22[],2,FALSE))","v":""}]
[null,{"$f":"IF(Table23[[#This Row],[Affected CMS\n(§63.2386(d)(1)(ix))\n(Select from dropdown)]]=\"\",\"\",VLOOKUP(Table23[[#This Row],[Affected CMS\n(§63.2386(d)(1)(ix))\n(Select from dropdown)]],Table22[],2,FALSE))","v":""}]
[null,{"$f":"IF(Table23[[#This Row],[Affected CMS\n(§63.2386(d)(1)(ix))\n(Select from dropdown)]]=\"\",\"\",VLOOKUP(Table23[[#This Row],[Affected CMS\n(§63.2386(d)(1)(ix))\n(Select from dropdown)]],Table22[],2,FALSE))","v":""}]
[null,{"$f":"IF(Table23[[#This Row],[Affected CMS\n(§63.2386(d)(1)(ix))\n(Select from dropdown)]]=\"\",\"\",VLOOKUP(Table23[[#This Row],[Affected CMS\n(§63.2386(d)(1)(ix))\n(Select from dropdown)]],Table22[],2,FALSE))","v":""}]
[null,{"$f":"IF(Table23[[#This Row],[Affected CMS\n(§63.2386(d)(1)(ix))\n(Select from dropdown)]]=\"\",\"\",VLOOKUP(Table23[[#This Row],[Affected CMS\n(§63.2386(d)(1)(ix))\n(Select from dropdown)]],Table22[],2,FALSE))","v":""}]
[null,{"$f":"IF(Table23[[#This Row],[Affected CMS\n(§63.2386(d)(1)(ix))\n(Select from dropdown)]]=\"\",\"\",VLOOKUP(Table23[[#This Row],[Affected CMS\n(§63.2386(d)(1)(ix))\n(Select from dropdown)]],Table22[],2,FALSE))","v":""}]
[null,{"$f":"IF(Table23[[#This Row],[Affected CMS\n(§63.2386(d)(1)(ix))\n(Select from dropdown)]]=\"\",\"\",VLOOKUP(Table23[[#This Row],[Affected CMS\n(§63.2386(d)(1)(ix))\n(Select from dropdown)]],Table22[],2,FALSE))","v":""}]
[null,{"$f":"IF(Table23[[#This Row],[Affected CMS\n(§63.2386(d)(1)(ix))\n(Select from dropdown)]]=\"\",\"\",VLOOKUP(Table23[[#This Row],[Affected CMS\n(§63.2386(d)(1)(ix))\n(Select from dropdown)]],Table22[],2,FALSE))","v":""}]
[null,{"$f":"IF(Table23[[#This Row],[Affected CMS\n(§63.2386(d)(1)(ix))\n(Select from dropdown)]]=\"\",\"\",VLOOKUP(Table23[[#This Row],[Affected CMS\n(§63.2386(d)(1)(ix))\n(Select from dropdown)]],Table22[],2,FALSE))","v":""}]
[null,{"$f":"IF(Table23[[#This Row],[Affected CMS\n(§63.2386(d)(1)(ix))\n(Select from dropdown)]]=\"\",\"\",VLOOKUP(Table23[[#This Row],[Affected CMS\n(§63.2386(d)(1)(ix))\n(Select from dropdown)]],Table22[],2,FALSE))","v":""}]
[null,{"$f":"IF(Table23[[#This Row],[Affected CMS\n(§63.2386(d)(1)(ix))\n(Select from dropdown)]]=\"\",\"\",VLOOKUP(Table23[[#This Row],[Affected CMS\n(§63.2386(d)(1)(ix))\n(Select from dropdown)]],Table22[],2,FALSE))","v":""}]
[null,{"$f":"IF(Table23[[#This Row],[Affected CMS\n(§63.2386(d)(1)(ix))\n(Select from dropdown)]]=\"\",\"\",VLOOKUP(Table23[[#This Row],[Affected CMS\n(§63.2386(d)(1)(ix))\n(Select from dropdown)]],Table22[],2,FALSE))","v":""}]
[null,{"$f":"IF(Table23[[#This Row],[Affected CMS\n(§63.2386(d)(1)(ix))\n(Select from dropdown)]]=\"\",\"\",VLOOKUP(Table23[[#This Row],[Affected CMS\n(§63.2386(d)(1)(ix))\n(Select from dropdown)]],Table22[],2,FALSE))","v":""}]
[null,{"$f":"IF(Table23[[#This Row],[Affected CMS\n(§63.2386(d)(1)(ix))\n(Select from dropdown)]]=\"\",\"\",VLOOKUP(Table23[[#This Row],[Affected CMS\n(§63.2386(d)(1)(ix))\n(Select from dropdown)]],Table22[],2,FALSE))","v":""}]
[null,{"$f":"IF(Table23[[#This Row],[Affected CMS\n(§63.2386(d)(1)(ix))\n(Select from dropdown)]]=\"\",\"\",VLOOKUP(Table23[[#This Row],[Affected CMS\n(§63.2386(d)(1)(ix))\n(Select from dropdown)]],Table22[],2,FALSE))","v":""}]
[null,{"$f":"IF(Table23[[#This Row],[Affected CMS\n(§63.2386(d)(1)(ix))\n(Select from dropdown)]]=\"\",\"\",VLOOKUP(Table23[[#This Row],[Affected CMS\n(§63.2386(d)(1)(ix))\n(Select from dropdown)]],Table22[],2,FALSE))","v":""}]
[null,{"$f":"IF(Table23[[#This Row],[Affected CMS\n(§63.2386(d)(1)(ix))\n(Select from dropdown)]]=\"\",\"\",VLOOKUP(Table23[[#This Row],[Affected CMS\n(§63.2386(d)(1)(ix))\n(Select from dropdown)]],Table22[],2,FALSE))","v":""}]
[null,{"$f":"IF(Table23[[#This Row],[Affected CMS\n(§63.2386(d)(1)(ix))\n(Select from dropdown)]]=\"\",\"\",VLOOKUP(Table23[[#This Row],[Affected CMS\n(§63.2386(d)(1)(ix))\n(Select from dropdown)]],Table22[],2,FALSE))","v":""}]
[null,{"$f":"IF(Table23[[#This Row],[Affected CMS\n(§63.2386(d)(1)(ix))\n(Select from dropdown)]]=\"\",\"\",VLOOKUP(Table23[[#This Row],[Affected CMS\n(§63.2386(d)(1)(ix))\n(Select from dropdown)]],Table22[],2,FALSE))","v":""}]
[null,{"$f":"IF(Table23[[#This Row],[Affected CMS\n(§63.2386(d)(1)(ix))\n(Select from dropdown)]]=\"\",\"\",VLOOKUP(Table23[[#This Row],[Affected CMS\n(§63.2386(d)(1)(ix))\n(Select from dropdown)]],Table22[],2,FALSE))","v":""}]
[null,{"$f":"IF(Table23[[#This Row],[Affected CMS\n(§63.2386(d)(1)(ix))\n(Select from dropdown)]]=\"\",\"\",VLOOKUP(Table23[[#This Row],[Affected CMS\n(§63.2386(d)(1)(ix))\n(Select from dropdown)]],Table22[],2,FALSE))","v":""}]
[null,{"$f":"IF(Table23[[#This Row],[Affected CMS\n(§63.2386(d)(1)(ix))\n(Select from dropdown)]]=\"\",\"\",VLOOKUP(Table23[[#This Row],[Affected CMS\n(§63.2386(d)(1)(ix))\n(Select from dropdown)]],Table22[],2,FALSE))","v":""}]
[null,{"$f":"IF(Table23[[#This Row],[Affected CMS\n(§63.2386(d)(1)(ix))\n(Select from dropdown)]]=\"\",\"\",VLOOKUP(Table23[[#This Row],[Affected CMS\n(§63.2386(d)(1)(ix))\n(Select from dropdown)]],Table22[],2,FALSE))","v":""}]
[null,{"$f":"IF(Table23[[#This Row],[Affected CMS\n(§63.2386(d)(1)(ix))\n(Select from dropdown)]]=\"\",\"\",VLOOKUP(Table23[[#This Row],[Affected CMS\n(§63.2386(d)(1)(ix))\n(Select from dropdown)]],Table22[],2,FALSE))","v":""}]
[null,{"$f":"IF(Table23[[#This Row],[Affected CMS\n(§63.2386(d)(1)(ix))\n(Select from dropdown)]]=\"\",\"\",VLOOKUP(Table23[[#This Row],[Affected CMS\n(§63.2386(d)(1)(ix))\n(Select from dropdown)]],Table22[],2,FALSE))","v":""}]
[null,{"$f":"IF(Table23[[#This Row],[Affected CMS\n(§63.2386(d)(1)(ix))\n(Select from dropdown)]]=\"\",\"\",VLOOKUP(Table23[[#This Row],[Affected CMS\n(§63.2386(d)(1)(ix))\n(Select from dropdown)]],Table22[],2,FALSE))","v":""}]
[null,{"$f":"IF(Table23[[#This Row],[Affected CMS\n(§63.2386(d)(1)(ix))\n(Select from dropdown)]]=\"\",\"\",VLOOKUP(Table23[[#This Row],[Affected CMS\n(§63.2386(d)(1)(ix))\n(Select from dropdown)]],Table22[],2,FALSE))","v":""}]
[null,{"$f":"IF(Table23[[#This Row],[Affected CMS\n(§63.2386(d)(1)(ix))\n(Select from dropdown)]]=\"\",\"\",VLOOKUP(Table23[[#This Row],[Affected CMS\n(§63.2386(d)(1)(ix))\n(Select from dropdown)]],Table22[],2,FALSE))","v":""}]
[null,{"$f":"IF(Table23[[#This Row],[Affected CMS\n(§63.2386(d)(1)(ix))\n(Select from dropdown)]]=\"\",\"\",VLOOKUP(Table23[[#This Row],[Affected CMS\n(§63.2386(d)(1)(ix))\n(Select from dropdown)]],Table22[],2,FALSE))","v":""}]
[null,{"$f":"IF(Table23[[#This Row],[Affected CMS\n(§63.2386(d)(1)(ix))\n(Select from dropdown)]]=\"\",\"\",VLOOKUP(Table23[[#This Row],[Affected CMS\n(§63.2386(d)(1)(ix))\n(Select from dropdown)]],Table22[],2,FALSE))","v":""}]
[null,{"$f":"IF(Table23[[#This Row],[Affected CMS\n(§63.2386(d)(1)(ix))\n(Select from dropdown)]]=\"\",\"\",VLOOKUP(Table23[[#This Row],[Affected CMS\n(§63.2386(d)(1)(ix))\n(Select from dropdown)]],Table22[],2,FALSE))","v":""}]
[null,{"$f":"IF(Table23[[#This Row],[Affected CMS\n(§63.2386(d)(1)(ix))\n(Select from dropdown)]]=\"\",\"\",VLOOKUP(Table23[[#This Row],[Affected CMS\n(§63.2386(d)(1)(ix))\n(Select from dropdown)]],Table22[],2,FALSE))","v":""}]
[null,{"$f":"IF(Table23[[#This Row],[Affected CMS\n(§63.2386(d)(1)(ix))\n(Select from dropdown)]]=\"\",\"\",VLOOKUP(Table23[[#This Row],[Affected CMS\n(§63.2386(d)(1)(ix))\n(Select from dropdown)]],Table22[],2,FALSE))","v":""}]
[null,{"$f":"IF(Table23[[#This Row],[Affected CMS\n(§63.2386(d)(1)(ix))\n(Select from dropdown)]]=\"\",\"\",VLOOKUP(Table23[[#This Row],[Affected CMS\n(§63.2386(d)(1)(ix))\n(Select from dropdown)]],Table22[],2,FALSE))","v":""}]
[null,{"$f":"IF(Table23[[#This Row],[Affected CMS\n(§63.2386(d)(1)(ix))\n(Select from dropdown)]]=\"\",\"\",VLOOKUP(Table23[[#This Row],[Affected CMS\n(§63.2386(d)(1)(ix))\n(Select from dropdown)]],Table22[],2,FALSE))","v":""}]
[null,{"$f":"IF(Table23[[#This Row],[Affected CMS\n(§63.2386(d)(1)(ix))\n(Select from dropdown)]]=\"\",\"\",VLOOKUP(Table23[[#This Row],[Affected CMS\n(§63.2386(d)(1)(ix))\n(Select from dropdown)]],Table22[],2,FALSE))","v":""}]
[null,{"$f":"IF(Table23[[#This Row],[Affected CMS\n(§63.2386(d)(1)(ix))\n(Select from dropdown)]]=\"\",\"\",VLOOKUP(Table23[[#This Row],[Affected CMS\n(§63.2386(d)(1)(ix))\n(Select from dropdown)]],Table22[],2,FALSE))","v":""}]
[null,{"$f":"IF(Table23[[#This Row],[Affected CMS\n(§63.2386(d)(1)(ix))\n(Select from dropdown)]]=\"\",\"\",VLOOKUP(Table23[[#This Row],[Affected CMS\n(§63.2386(d)(1)(ix))\n(Select from dropdown)]],Table22[],2,FALSE))","v":""}]
[null,{"$f":"IF(Table23[[#This Row],[Affected CMS\n(§63.2386(d)(1)(ix))\n(Select from dropdown)]]=\"\",\"\",VLOOKUP(Table23[[#This Row],[Affected CMS\n(§63.2386(d)(1)(ix))\n(Select from dropdown)]],Table22[],2,FALSE))","v":""}]
[null,{"$f":"IF(Table23[[#This Row],[Affected CMS\n(§63.2386(d)(1)(ix))\n(Select from dropdown)]]=\"\",\"\",VLOOKUP(Table23[[#This Row],[Affected CMS\n(§63.2386(d)(1)(ix))\n(Select from dropdown)]],Table22[],2,FALSE))","v":""}]
[null,{"$f":"IF(Table23[[#This Row],[Affected CMS\n(§63.2386(d)(1)(ix))\n(Select from dropdown)]]=\"\",\"\",VLOOKUP(Table23[[#This Row],[Affected CMS\n(§63.2386(d)(1)(ix))\n(Select from dropdown)]],Table22[],2,FALSE))","v":""}]
[null,{"$f":"IF(Table23[[#This Row],[Affected CMS\n(§63.2386(d)(1)(ix))\n(Select from dropdown)]]=\"\",\"\",VLOOKUP(Table23[[#This Row],[Affected CMS\n(§63.2386(d)(1)(ix))\n(Select from dropdown)]],Table22[],2,FALSE))","v":""}]
[null,{"$f":"IF(Table23[[#This Row],[Affected CMS\n(§63.2386(d)(1)(ix))\n(Select from dropdown)]]=\"\",\"\",VLOOKUP(Table23[[#This Row],[Affected CMS\n(§63.2386(d)(1)(ix))\n(Select from dropdown)]],Table22[],2,FALSE))","v":""}]
[null,{"$f":"IF(Table23[[#This Row],[Affected CMS\n(§63.2386(d)(1)(ix))\n(Select from dropdown)]]=\"\",\"\",VLOOKUP(Table23[[#This Row],[Affected CMS\n(§63.2386(d)(1)(ix))\n(Select from dropdown)]],Table22[],2,FALSE))","v":""}]
[null,{"$f":"IF(Table23[[#This Row],[Affected CMS\n(§63.2386(d)(1)(ix))\n(Select from dropdown)]]=\"\",\"\",VLOOKUP(Table23[[#This Row],[Affected CMS\n(§63.2386(d)(1)(ix))\n(Select from dropdown)]],Table22[],2,FALSE))","v":""}]
[null,{"$f":"IF(Table23[[#This Row],[Affected CMS\n(§63.2386(d)(1)(ix))\n(Select from dropdown)]]=\"\",\"\",VLOOKUP(Table23[[#This Row],[Affected CMS\n(§63.2386(d)(1)(ix))\n(Select from dropdown)]],Table22[],2,FALSE))","v":""}]
[null,{"$f":"IF(Table23[[#This Row],[Affected CMS\n(§63.2386(d)(1)(ix))\n(Select from dropdown)]]=\"\",\"\",VLOOKUP(Table23[[#This Row],[Affected CMS\n(§63.2386(d)(1)(ix))\n(Select from dropdown)]],Table22[],2,FALSE))","v":""}]
[null,{"$f":"IF(Table23[[#This Row],[Affected CMS\n(§63.2386(d)(1)(ix))\n(Select from dropdown)]]=\"\",\"\",VLOOKUP(Table23[[#This Row],[Affected CMS\n(§63.2386(d)(1)(ix))\n(Select from dropdown)]],Table22[],2,FALSE))","v":""}]
[null,{"$f":"IF(Table23[[#This Row],[Affected CMS\n(§63.2386(d)(1)(ix))\n(Select from dropdown)]]=\"\",\"\",VLOOKUP(Table23[[#This Row],[Affected CMS\n(§63.2386(d)(1)(ix))\n(Select from dropdown)]],Table22[],2,FALSE))","v":""}]
[null,{"$f":"IF(Table23[[#This Row],[Affected CMS\n(§63.2386(d)(1)(ix))\n(Select from dropdown)]]=\"\",\"\",VLOOKUP(Table23[[#This Row],[Affected CMS\n(§63.2386(d)(1)(ix))\n(Select from dropdown)]],Table22[],2,FALSE))","v":""}]
[null,{"$f":"IF(Table23[[#This Row],[Affected CMS\n(§63.2386(d)(1)(ix))\n(Select from dropdown)]]=\"\",\"\",VLOOKUP(Table23[[#This Row],[Affected CMS\n(§63.2386(d)(1)(ix))\n(Select from dropdown)]],Table22[],2,FALSE))","v":""}]
[null,{"$f":"IF(Table23[[#This Row],[Affected CMS\n(§63.2386(d)(1)(ix))\n(Select from dropdown)]]=\"\",\"\",VLOOKUP(Table23[[#This Row],[Affected CMS\n(§63.2386(d)(1)(ix))\n(Select from dropdown)]],Table22[],2,FALSE))","v":""}]
[null,{"$f":"IF(Table23[[#This Row],[Affected CMS\n(§63.2386(d)(1)(ix))\n(Select from dropdown)]]=\"\",\"\",VLOOKUP(Table23[[#This Row],[Affected CMS\n(§63.2386(d)(1)(ix))\n(Select from dropdown)]],Table22[],2,FALSE))","v":""}]
[null,{"$f":"IF(Table23[[#This Row],[Affected CMS\n(§63.2386(d)(1)(ix))\n(Select from dropdown)]]=\"\",\"\",VLOOKUP(Table23[[#This Row],[Affected CMS\n(§63.2386(d)(1)(ix))\n(Select from dropdown)]],Table22[],2,FALSE))","v":""}]
[null,{"$f":"IF(Table23[[#This Row],[Affected CMS\n(§63.2386(d)(1)(ix))\n(Select from dropdown)]]=\"\",\"\",VLOOKUP(Table23[[#This Row],[Affected CMS\n(§63.2386(d)(1)(ix))\n(Select from dropdown)]],Table22[],2,FALSE))","v":""}]
[null,{"$f":"IF(Table23[[#This Row],[Affected CMS\n(§63.2386(d)(1)(ix))\n(Select from dropdown)]]=\"\",\"\",VLOOKUP(Table23[[#This Row],[Affected CMS\n(§63.2386(d)(1)(ix))\n(Select from dropdown)]],Table22[],2,FALSE))","v":""}]
[null,{"$f":"IF(Table23[[#This Row],[Affected CMS\n(§63.2386(d)(1)(ix))\n(Select from dropdown)]]=\"\",\"\",VLOOKUP(Table23[[#This Row],[Affected CMS\n(§63.2386(d)(1)(ix))\n(Select from dropdown)]],Table22[],2,FALSE))","v":""}]
[null,{"$f":"IF(Table23[[#This Row],[Affected CMS\n(§63.2386(d)(1)(ix))\n(Select from dropdown)]]=\"\",\"\",VLOOKUP(Table23[[#This Row],[Affected CMS\n(§63.2386(d)(1)(ix))\n(Select from dropdown)]],Table22[],2,FALSE))","v":""}]
[null,{"$f":"IF(Table23[[#This Row],[Affected CMS\n(§63.2386(d)(1)(ix))\n(Select from dropdown)]]=\"\",\"\",VLOOKUP(Table23[[#This Row],[Affected CMS\n(§63.2386(d)(1)(ix))\n(Select from dropdown)]],Table22[],2,FALSE))","v":""}]
[null,{"$f":"IF(Table23[[#This Row],[Affected CMS\n(§63.2386(d)(1)(ix))\n(Select from dropdown)]]=\"\",\"\",VLOOKUP(Table23[[#This Row],[Affected CMS\n(§63.2386(d)(1)(ix))\n(Select from dropdown)]],Table22[],2,FALSE))","v":""}]
[null,{"$f":"IF(Table23[[#This Row],[Affected CMS\n(§63.2386(d)(1)(ix))\n(Select from dropdown)]]=\"\",\"\",VLOOKUP(Table23[[#This Row],[Affected CMS\n(§63.2386(d)(1)(ix))\n(Select from dropdown)]],Table22[],2,FALSE))","v":""}]
[null,{"$f":"IF(Table23[[#This Row],[Affected CMS\n(§63.2386(d)(1)(ix))\n(Select from dropdown)]]=\"\",\"\",VLOOKUP(Table23[[#This Row],[Affected CMS\n(§63.2386(d)(1)(ix))\n(Select from dropdown)]],Table22[],2,FALSE))","v":""}]

{"sheet":"CMS_Downtime","index":6,"n_rows":1023,"n_cols":12,"rows_kept":1023,"cut":false,"hidden":false,"merged":[]}
[null,"DO NOT REMOVE OR EDIT INFORMATION IN ROWS 1 THROUGH 5\nFOR INTERNAL USE ONLY"]
[null,"Template Name",{"$f":"Welcome!B2","v":"63.2386(a), (c), and (d) Compliance Report (Spreadsheet Template)"}]
[null,"CitationID",{"$f":"Welcome!B3","v":"63.2386(a), (c), and (d)"}]
[null,"Template Version",{"$f":"Welcome!B4","v":"v1.01"}]
[null,"Last Updated Date",{"$f":"Welcome!B5","v":"2024-04-09"}]
[]
[null,null,{"$f":"Company_Information!B7","v":"40 CFR Part 63, Subpart EEEE National Emission Standards for Hazardous Air Pollutants: Organic Liquids Distribution (Non-Gasoline)"}]
[null,null,{"$f":"Company_Information!B8","v":"§63.2386(a), (c), and (d) Compliance Report Spreadsheet Template"}]
[null,null,"This tab contains information related to events where a CMS was inoperative or out of control. (The definition of out of control in 40 CFR part 63 subpart EEEE is specific to CEMS, but the term inoperative applies to all CMS.) It includes space to provide information on whether the event met the definition of an excursion in 40 CFR part 63 subpart SS."]
[null,null,"Note: Affected CMS selections appear once information is added to the CMS_Identification worksheet. The Company Record No. is hidden and will autopopulate from the selection of the Affected CMS."]
[null,null,null,null,null,null,null,null,"Transfer Racks"]
[null,"Company Record No. *\n(Autofill)","Affected CMS\n(§63.2386(d)(1)(ix))\n(Select from dropdown)","CMS Inoperative or \nOut of Control?\n(§63.2386(d)(1))\n(Select from dropdown)","Start Date CMS \nInoperative or Out of Control\n(§63.2386(d)(1)(ii) or (iii))","Start Time CMS Inoperative or Out of Control\n(§63.2386(d)(1)(ii) or (iii))","Duration CMS Inoperative \nor Out of Control\n(in hours)\n(§63.2386(d)(1)(ii) or (iii), §63.999(c)(6))","Corrective Action Taken\n(§63.2386(d)(1)(xiv))","Does this event meet the 40 CFR part 63 subpart SS definition of an excursion due to lack of monitoring data?\n(Select from dropdown)","Daily Average Value of Monitored Parameter\n(§63.999(c)(6)(i))","Unit of Measure for Monitored Parameter\n(§63.999(c)(6)(i))","Comments or Additional Information"]
[null,"RecordId","CMSDescription","CMSOutageDescription","CMSOutageStartDate","CMSOutageStartTime","CMSOutageDuration","DowntimeCorrectiveAction","CMSSSExcursion","CMSOutageDailyAverage","OutageDailyAverageUnits","CMSOutageComments"]
[null,"e.g.: 1","e.g.: 1 Tank 300B Manufacturer 2020AB","e.g.: inoperative","e.g.: 03/15/20","e.g.: 2:15 PM","e.g.: 2.0","e.g.: thermocouple replaced","e.g.: yes","e.g.: 150","e.g.: Fahrenheit","e.g.:"]
[null,null,"e.g.","e.g.","e.g.","e.g.","e.g.","e.g.","e.g.","e.g.","e.g.","e.g."]
[null,null,"e.g.","e.g.","e.g.","e.g.","e.g.","e.g.","e.g.","e.g.","e.g.","e.g."]
[null,null,"e.g.","e.g.","e.g.","e.g.","e.g.","e.g.","e.g.","e.g.","e.g.","e.g."]
[null,null,"e.g.","e.g.","e.g.","e.g.","e.g.","e.g.","e.g.","e.g.","e.g.","e.g."]
[null,null,"e.g.","e.g.","e.g.","e.g.","e.g.","e.g.","e.g.","e.g.","e.g.","e.g."]
[null,null,"e.g.","e.g.","e.g.","e.g.","e.g.","e.g.","e.g.","e.g.","e.g.","e.g."]
[null,null,"e.g.","e.g.","e.g.","e.g.","e.g.","e.g.","e.g.","e.g.","e.g.","e.g."]
[null,null,"e.g.","e.g.","e.g.","e.g.","e.g.","e.g.","e.g.","e.g.","e.g.","e.g."]
[null,null,"e.g.","e.g.","e.g.","e.g.","e.g.","e.g.","e.g.","e.g.","e.g.","e.g."]
[null,{"$f":"IF(Table24[[#This Row],[Affected CMS\n(§63.2386(d)(1)(ix))\n(Select from dropdown)]]=\"\",\"\",VLOOKUP(Table24[[#This Row],[Affected CMS\n(§63.2386(d)(1)(ix))\n(Select from dropdown)]],Table22[],2,FALSE))","v":""}]
[null,{"$f":"IF(Table24[[#This Row],[Affected CMS\n(§63.2386(d)(1)(ix))\n(Select from dropdown)]]=\"\",\"\",VLOOKUP(Table24[[#This Row],[Affected CMS\n(§63.2386(d)(1)(ix))\n(Select from dropdown)]],Table22[],2,FALSE))","v":""}]
[null,{"$f":"IF(Table24[[#This Row],[Affected CMS\n(§63.2386(d)(1)(ix))\n(Select from dropdown)]]=\"\",\"\",VLOOKUP(Table24[[#This Row],[Affected CMS\n(§63.2386(d)(1)(ix))\n(Select from dropdown)]],Table22[],2,FALSE))","v":""}]
[null,{"$f":"IF(Table24[[#This Row],[Affected CMS\n(§63.2386(d)(1)(ix))\n(Select from dropdown)]]=\"\",\"\",VLOOKUP(Table24[[#This Row],[Affected CMS\n(§63.2386(d)(1)(ix))\n(Select from dropdown)]],Table22[],2,FALSE))","v":""}]
[null,{"$f":"IF(Table24[[#This Row],[Affected CMS\n(§63.2386(d)(1)(ix))\n(Select from dropdown)]]=\"\",\"\",VLOOKUP(Table24[[#This Row],[Affected CMS\n(§63.2386(d)(1)(ix))\n(Select from dropdown)]],Table22[],2,FALSE))","v":""}]
[null,{"$f":"IF(Table24[[#This Row],[Affected CMS\n(§63.2386(d)(1)(ix))\n(Select from dropdown)]]=\"\",\"\",VLOOKUP(Table24[[#This Row],[Affected CMS\n(§63.2386(d)(1)(ix))\n(Select from dropdown)]],Table22[],2,FALSE))","v":""}]
[null,{"$f":"IF(Table24[[#This Row],[Affected CMS\n(§63.2386(d)(1)(ix))\n(Select from dropdown)]]=\"\",\"\",VLOOKUP(Table24[[#This Row],[Affected CMS\n(§63.2386(d)(1)(ix))\n(Select from dropdown)]],Table22[],2,FALSE))","v":""}]
[null,{"$f":"IF(Table24[[#This Row],[Affected CMS\n(§63.2386(d)(1)(ix))\n(Select from dropdown)]]=\"\",\"\",VLOOKUP(Table24[[#This Row],[Affected CMS\n(§63.2386(d)(1)(ix))\n(Select from dropdown)]],Table22[],2,FALSE))","v":""}]
[null,{"$f":"IF(Table24[[#This Row],[Affected CMS\n(§63.2386(d)(1)(ix))\n(Select from dropdown)]]=\"\",\"\",VLOOKUP(Table24[[#This Row],[Affected CMS\n(§63.2386(d)(1)(ix))\n(Select from dropdown)]],Table22[],2,FALSE))","v":""}]
[null,{"$f":"IF(Table24[[#This Row],[Affected CMS\n(§63.2386(d)(1)(ix))\n(Select from dropdown)]]=\"\",\"\",VLOOKUP(Table24[[#This Row],[Affected CMS\n(§63.2386(d)(1)(ix))\n(Select from dropdown)]],Table22[],2,FALSE))","v":""}]
[null,{"$f":"IF(Table24[[#This Row],[Affected CMS\n(§63.2386(d)(1)(ix))\n(Select from dropdown)]]=\"\",\"\",VLOOKUP(Table24[[#This Row],[Affected CMS\n(§63.2386(d)(1)(ix))\n(Select from dropdown)]],Table22[],2,FALSE))","v":""}]
[null,{"$f":"IF(Table24[[#This Row],[Affected CMS\n(§63.2386(d)(1)(ix))\n(Select from dropdown)]]=\"\",\"\",VLOOKUP(Table24[[#This Row],[Affected CMS\n(§63.2386(d)(1)(ix))\n(Select from dropdown)]],Table22[],2,FALSE))","v":""}]
[null,{"$f":"IF(Table24[[#This Row],[Affected CMS\n(§63.2386(d)(1)(ix))\n(Select from dropdown)]]=\"\",\"\",VLOOKUP(Table24[[#This Row],[Affected CMS\n(§63.2386(d)(1)(ix))\n(Select from dropdown)]],Table22[],2,FALSE))","v":""}]
[null,{"$f":"IF(Table24[[#This Row],[Affected CMS\n(§63.2386(d)(1)(ix))\n(Select from dropdown)]]=\"\",\"\",VLOOKUP(Table24[[#This Row],[Affected CMS\n(§63.2386(d)(1)(ix))\n(Select from dropdown)]],Table22[],2,FALSE))","v":""}]
[null,{"$f":"IF(Table24[[#This Row],[Affected CMS\n(§63.2386(d)(1)(ix))\n(Select from dropdown)]]=\"\",\"\",VLOOKUP(Table24[[#This Row],[Affected CMS\n(§63.2386(d)(1)(ix))\n(Select from dropdown)]],Table22[],2,FALSE))","v":""}]
[null,{"$f":"IF(Table24[[#This Row],[Affected CMS\n(§63.2386(d)(1)(ix))\n(Select from dropdown)]]=\"\",\"\",VLOOKUP(Table24[[#This Row],[Affected CMS\n(§63.2386(d)(1)(ix))\n(Select from dropdown)]],Table22[],2,FALSE))","v":""}]
[null,{"$f":"IF(Table24[[#This Row],[Affected CMS\n(§63.2386(d)(1)(ix))\n(Select from dropdown)]]=\"\",\"\",VLOOKUP(Table24[[#This Row],[Affected CMS\n(§63.2386(d)(1)(ix))\n(Select from dropdown)]],Table22[],2,FALSE))","v":""}]
[null,{"$f":"IF(Table24[[#This Row],[Affected CMS\n(§63.2386(d)(1)(ix))\n(Select from dropdown)]]=\"\",\"\",VLOOKUP(Table24[[#This Row],[Affected CMS\n(§63.2386(d)(1)(ix))\n(Select from dropdown)]],Table22[],2,FALSE))","v":""}]
[null,{"$f":"IF(Table24[[#This Row],[Affected CMS\n(§63.2386(d)(1)(ix))\n(Select from dropdown)]]=\"\",\"\",VLOOKUP(Table24[[#This Row],[Affected CMS\n(§63.2386(d)(1)(ix))\n(Select from dropdown)]],Table22[],2,FALSE))","v":""}]
[null,{"$f":"IF(Table24[[#This Row],[Affected CMS\n(§63.2386(d)(1)(ix))\n(Select from dropdown)]]=\"\",\"\",VLOOKUP(Table24[[#This Row],[Affected CMS\n(§63.2386(d)(1)(ix))\n(Select from dropdown)]],Table22[],2,FALSE))","v":""}]
[null,{"$f":"IF(Table24[[#This Row],[Affected CMS\n(§63.2386(d)(1)(ix))\n(Select from dropdown)]]=\"\",\"\",VLOOKUP(Table24[[#This Row],[Affected CMS\n(§63.2386(d)(1)(ix))\n(Select from dropdown)]],Table22[],2,FALSE))","v":""}]
[null,{"$f":"IF(Table24[[#This Row],[Affected CMS\n(§63.2386(d)(1)(ix))\n(Select from dropdown)]]=\"\",\"\",VLOOKUP(Table24[[#This Row],[Affected CMS\n(§63.2386(d)(1)(ix))\n(Select from dropdown)]],Table22[],2,FALSE))","v":""}]
[null,{"$f":"IF(Table24[[#This Row],[Affected CMS\n(§63.2386(d)(1)(ix))\n(Select from dropdown)]]=\"\",\"\",VLOOKUP(Table24[[#This Row],[Affected CMS\n(§63.2386(d)(1)(ix))\n(Select from dropdown)]],Table22[],2,FALSE))","v":""}]
[null,{"$f":"IF(Table24[[#This Row],[Affected CMS\n(§63.2386(d)(1)(ix))\n(Select from dropdown)]]=\"\",\"\",VLOOKUP(Table24[[#This Row],[Affected CMS\n(§63.2386(d)(1)(ix))\n(Select from dropdown)]],Table22[],2,FALSE))","v":""}]
[null,{"$f":"IF(Table24[[#This Row],[Affected CMS\n(§63.2386(d)(1)(ix))\n(Select from dropdown)]]=\"\",\"\",VLOOKUP(Table24[[#This Row],[Affected CMS\n(§63.2386(d)(1)(ix))\n(Select from dropdown)]],Table22[],2,FALSE))","v":""}]
[null,{"$f":"IF(Table24[[#This Row],[Affected CMS\n(§63.2386(d)(1)(ix))\n(Select from dropdown)]]=\"\",\"\",VLOOKUP(Table24[[#This Row],[Affected CMS\n(§63.2386(d)(1)(ix))\n(Select from dropdown)]],Table22[],2,FALSE))","v":""}]
[null,{"$f":"IF(Table24[[#This Row],[Affected CMS\n(§63.2386(d)(1)(ix))\n(Select from dropdown)]]=\"\",\"\",VLOOKUP(Table24[[#This Row],[Affected CMS\n(§63.2386(d)(1)(ix))\n(Select from dropdown)]],Table22[],2,FALSE))","v":""}]
[null,{"$f":"IF(Table24[[#This Row],[Affected CMS\n(§63.2386(d)(1)(ix))\n(Select from dropdown)]]=\"\",\"\",VLOOKUP(Table24[[#This Row],[Affected CMS\n(§63.2386(d)(1)(ix))\n(Select from dropdown)]],Table22[],2,FALSE))","v":""}]
[null,{"$f":"IF(Table24[[#This Row],[Affected CMS\n(§63.2386(d)(1)(ix))\n(Select from dropdown)]]=\"\",\"\",VLOOKUP(Table24[[#This Row],[Affected CMS\n(§63.2386(d)(1)(ix))\n(Select from dropdown)]],Table22[],2,FALSE))","v":""}]
[null,{"$f":"IF(Table24[[#This Row],[Affected CMS\n(§63.2386(d)(1)(ix))\n(Select from dropdown)]]=\"\",\"\",VLOOKUP(Table24[[#This Row],[Affected CMS\n(§63.2386(d)(1)(ix))\n(Select from dropdown)]],Table22[],2,FALSE))","v":""}]
[null,{"$f":"IF(Table24[[#This Row],[Affected CMS\n(§63.2386(d)(1)(ix))\n(Select from dropdown)]]=\"\",\"\",VLOOKUP(Table24[[#This Row],[Affected CMS\n(§63.2386(d)(1)(ix))\n(Select from dropdown)]],Table22[],2,FALSE))","v":""}]
[null,{"$f":"IF(Table24[[#This Row],[Affected CMS\n(§63.2386(d)(1)(ix))\n(Select from dropdown)]]=\"\",\"\",VLOOKUP(Table24[[#This Row],[Affected CMS\n(§63.2386(d)(1)(ix))\n(Select from dropdown)]],Table22[],2,FALSE))","v":""}]
[null,{"$f":"IF(Table24[[#This Row],[Affected CMS\n(§63.2386(d)(1)(ix))\n(Select from dropdown)]]=\"\",\"\",VLOOKUP(Table24[[#This Row],[Affected CMS\n(§63.2386(d)(1)(ix))\n(Select from dropdown)]],Table22[],2,FALSE))","v":""}]
[null,{"$f":"IF(Table24[[#This Row],[Affected CMS\n(§63.2386(d)(1)(ix))\n(Select from dropdown)]]=\"\",\"\",VLOOKUP(Table24[[#This Row],[Affected CMS\n(§63.2386(d)(1)(ix))\n(Select from dropdown)]],Table22[],2,FALSE))","v":""}]
[null,{"$f":"IF(Table24[[#This Row],[Affected CMS\n(§63.2386(d)(1)(ix))\n(Select from dropdown)]]=\"\",\"\",VLOOKUP(Table24[[#This Row],[Affected CMS\n(§63.2386(d)(1)(ix))\n(Select from dropdown)]],Table22[],2,FALSE))","v":""}]
[null,{"$f":"IF(Table24[[#This Row],[Affected CMS\n(§63.2386(d)(1)(ix))\n(Select from dropdown)]]=\"\",\"\",VLOOKUP(Table24[[#This Row],[Affected CMS\n(§63.2386(d)(1)(ix))\n(Select from dropdown)]],Table22[],2,FALSE))","v":""}]
[null,{"$f":"IF(Table24[[#This Row],[Affected CMS\n(§63.2386(d)(1)(ix))\n(Select from dropdown)]]=\"\",\"\",VLOOKUP(Table24[[#This Row],[Affected CMS\n(§63.2386(d)(1)(ix))\n(Select from dropdown)]],Table22[],2,FALSE))","v":""}]
[null,{"$f":"IF(Table24[[#This Row],[Affected CMS\n(§63.2386(d)(1)(ix))\n(Select from dropdown)]]=\"\",\"\",VLOOKUP(Table24[[#This Row],[Affected CMS\n(§63.2386(d)(1)(ix))\n(Select from dropdown)]],Table22[],2,FALSE))","v":""}]
[null,{"$f":"IF(Table24[[#This Row],[Affected CMS\n(§63.2386(d)(1)(ix))\n(Select from dropdown)]]=\"\",\"\",VLOOKUP(Table24[[#This Row],[Affected CMS\n(§63.2386(d)(1)(ix))\n(Select from dropdown)]],Table22[],2,FALSE))","v":""}]
[null,{"$f":"IF(Table24[[#This Row],[Affected CMS\n(§63.2386(d)(1)(ix))\n(Select from dropdown)]]=\"\",\"\",VLOOKUP(Table24[[#This Row],[Affected CMS\n(§63.2386(d)(1)(ix))\n(Select from dropdown)]],Table22[],2,FALSE))","v":""}]
[null,{"$f":"IF(Table24[[#This Row],[Affected CMS\n(§63.2386(d)(1)(ix))\n(Select from dropdown)]]=\"\",\"\",VLOOKUP(Table24[[#This Row],[Affected CMS\n(§63.2386(d)(1)(ix))\n(Select from dropdown)]],Table22[],2,FALSE))","v":""}]
[null,{"$f":"IF(Table24[[#This Row],[Affected CMS\n(§63.2386(d)(1)(ix))\n(Select from dropdown)]]=\"\",\"\",VLOOKUP(Table24[[#This Row],[Affected CMS\n(§63.2386(d)(1)(ix))\n(Select from dropdown)]],Table22[],2,FALSE))","v":""}]
[null,{"$f":"IF(Table24[[#This Row],[Affected CMS\n(§63.2386(d)(1)(ix))\n(Select from dropdown)]]=\"\",\"\",VLOOKUP(Table24[[#This Row],[Affected CMS\n(§63.2386(d)(1)(ix))\n(Select from dropdown)]],Table22[],2,FALSE))","v":""}]
[null,{"$f":"IF(Table24[[#This Row],[Affected CMS\n(§63.2386(d)(1)(ix))\n(Select from dropdown)]]=\"\",\"\",VLOOKUP(Table24[[#This Row],[Affected CMS\n(§63.2386(d)(1)(ix))\n(Select from dropdown)]],Table22[],2,FALSE))","v":""}]
[null,{"$f":"IF(Table24[[#This Row],[Affected CMS\n(§63.2386(d)(1)(ix))\n(Select from dropdown)]]=\"\",\"\",VLOOKUP(Table24[[#This Row],[Affected CMS\n(§63.2386(d)(1)(ix))\n(Select from dropdown)]],Table22[],2,FALSE))","v":""}]
[null,{"$f":"IF(Table24[[#This Row],[Affected CMS\n(§63.2386(d)(1)(ix))\n(Select from dropdown)]]=\"\",\"\",VLOOKUP(Table24[[#This Row],[Affected CMS\n(§63.2386(d)(1)(ix))\n(Select from dropdown)]],Table22[],2,FALSE))","v":""}]
[null,{"$f":"IF(Table24[[#This Row],[Affected CMS\n(§63.2386(d)(1)(ix))\n(Select from dropdown)]]=\"\",\"\",VLOOKUP(Table24[[#This Row],[Affected CMS\n(§63.2386(d)(1)(ix))\n(Select from dropdown)]],Table22[],2,FALSE))","v":""}]
[null,{"$f":"IF(Table24[[#This Row],[Affected CMS\n(§63.2386(d)(1)(ix))\n(Select from dropdown)]]=\"\",\"\",VLOOKUP(Table24[[#This Row],[Affected CMS\n(§63.2386(d)(1)(ix))\n(Select from dropdown)]],Table22[],2,FALSE))","v":""}]
[null,{"$f":"IF(Table24[[#This Row],[Affected CMS\n(§63.2386(d)(1)(ix))\n(Select from dropdown)]]=\"\",\"\",VLOOKUP(Table24[[#This Row],[Affected CMS\n(§63.2386(d)(1)(ix))\n(Select from dropdown)]],Table22[],2,FALSE))","v":""}]
[null,{"$f":"IF(Table24[[#This Row],[Affected CMS\n(§63.2386(d)(1)(ix))\n(Select from dropdown)]]=\"\",\"\",VLOOKUP(Table24[[#This Row],[Affected CMS\n(§63.2386(d)(1)(ix))\n(Select from dropdown)]],Table22[],2,FALSE))","v":""}]
[null,{"$f":"IF(Table24[[#This Row],[Affected CMS\n(§63.2386(d)(1)(ix))\n(Select from dropdown)]]=\"\",\"\",VLOOKUP(Table24[[#This Row],[Affected CMS\n(§63.2386(d)(1)(ix))\n(Select from dropdown)]],Table22[],2,FALSE))","v":""}]
[null,{"$f":"IF(Table24[[#This Row],[Affected CMS\n(§63.2386(d)(1)(ix))\n(Select from dropdown)]]=\"\",\"\",VLOOKUP(Table24[[#This Row],[Affected CMS\n(§63.2386(d)(1)(ix))\n(Select from dropdown)]],Table22[],2,FALSE))","v":""}]
[null,{"$f":"IF(Table24[[#This Row],[Affected CMS\n(§63.2386(d)(1)(ix))\n(Select from dropdown)]]=\"\",\"\",VLOOKUP(Table24[[#This Row],[Affected CMS\n(§63.2386(d)(1)(ix))\n(Select from dropdown)]],Table22[],2,FALSE))","v":""}]
[null,{"$f":"IF(Table24[[#This Row],[Affected CMS\n(§63.2386(d)(1)(ix))\n(Select from dropdown)]]=\"\",\"\",VLOOKUP(Table24[[#This Row],[Affected CMS\n(§63.2386(d)(1)(ix))\n(Select from dropdown)]],Table22[],2,FALSE))","v":""}]
[null,{"$f":"IF(Table24[[#This Row],[Affected CMS\n(§63.2386(d)(1)(ix))\n(Select from dropdown)]]=\"\",\"\",VLOOKUP(Table24[[#This Row],[Affected CMS\n(§63.2386(d)(1)(ix))\n(Select from dropdown)]],Table22[],2,FALSE))","v":""}]
[null,{"$f":"IF(Table24[[#This Row],[Affected CMS\n(§63.2386(d)(1)(ix))\n(Select from dropdown)]]=\"\",\"\",VLOOKUP(Table24[[#This Row],[Affected CMS\n(§63.2386(d)(1)(ix))\n(Select from dropdown)]],Table22[],2,FALSE))","v":""}]
[null,{"$f":"IF(Table24[[#This Row],[Affected CMS\n(§63.2386(d)(1)(ix))\n(Select from dropdown)]]=\"\",\"\",VLOOKUP(Table24[[#This Row],[Affected CMS\n(§63.2386(d)(1)(ix))\n(Select from dropdown)]],Table22[],2,FALSE))","v":""}]
[null,{"$f":"IF(Table24[[#This Row],[Affected CMS\n(§63.2386(d)(1)(ix))\n(Select from dropdown)]]=\"\",\"\",VLOOKUP(Table24[[#This Row],[Affected CMS\n(§63.2386(d)(1)(ix))\n(Select from dropdown)]],Table22[],2,FALSE))","v":""}]
[null,{"$f":"IF(Table24[[#This Row],[Affected CMS\n(§63.2386(d)(1)(ix))\n(Select from dropdown)]]=\"\",\"\",VLOOKUP(Table24[[#This Row],[Affected CMS\n(§63.2386(d)(1)(ix))\n(Select from dropdown)]],Table22[],2,FALSE))","v":""}]
[null,{"$f":"IF(Table24[[#This Row],[Affected CMS\n(§63.2386(d)(1)(ix))\n(Select from dropdown)]]=\"\",\"\",VLOOKUP(Table24[[#This Row],[Affected CMS\n(§63.2386(d)(1)(ix))\n(Select from dropdown)]],Table22[],2,FALSE))","v":""}]
[null,{"$f":"IF(Table24[[#This Row],[Affected CMS\n(§63.2386(d)(1)(ix))\n(Select from dropdown)]]=\"\",\"\",VLOOKUP(Table24[[#This Row],[Affected CMS\n(§63.2386(d)(1)(ix))\n(Select from dropdown)]],Table22[],2,FALSE))","v":""}]
[null,{"$f":"IF(Table24[[#This Row],[Affected CMS\n(§63.2386(d)(1)(ix))\n(Select from dropdown)]]=\"\",\"\",VLOOKUP(Table24[[#This Row],[Affected CMS\n(§63.2386(d)(1)(ix))\n(Select from dropdown)]],Table22[],2,FALSE))","v":""}]
[null,{"$f":"IF(Table24[[#This Row],[Affected CMS\n(§63.2386(d)(1)(ix))\n(Select from dropdown)]]=\"\",\"\",VLOOKUP(Table24[[#This Row],[Affected CMS\n(§63.2386(d)(1)(ix))\n(Select from dropdown)]],Table22[],2,FALSE))","v":""}]
[null,{"$f":"IF(Table24[[#This Row],[Affected CMS\n(§63.2386(d)(1)(ix))\n(Select from dropdown)]]=\"\",\"\",VLOOKUP(Table24[[#This Row],[Affected CMS\n(§63.2386(d)(1)(ix))\n(Select from dropdown)]],Table22[],2,FALSE))","v":""}]
[null,{"$f":"IF(Table24[[#This Row],[Affected CMS\n(§63.2386(d)(1)(ix))\n(Select from dropdown)]]=\"\",\"\",VLOOKUP(Table24[[#This Row],[Affected CMS\n(§63.2386(d)(1)(ix))\n(Select from dropdown)]],Table22[],2,FALSE))","v":""}]
[null,{"$f":"IF(Table24[[#This Row],[Affected CMS\n(§63.2386(d)(1)(ix))\n(Select from dropdown)]]=\"\",\"\",VLOOKUP(Table24[[#This Row],[Affected CMS\n(§63.2386(d)(1)(ix))\n(Select from dropdown)]],Table22[],2,FALSE))","v":""}]
[null,{"$f":"IF(Table24[[#This Row],[Affected CMS\n(§63.2386(d)(1)(ix))\n(Select from dropdown)]]=\"\",\"\",VLOOKUP(Table24[[#This Row],[Affected CMS\n(§63.2386(d)(1)(ix))\n(Select from dropdown)]],Table22[],2,FALSE))","v":""}]
[null,{"$f":"IF(Table24[[#This Row],[Affected CMS\n(§63.2386(d)(1)(ix))\n(Select from dropdown)]]=\"\",\"\",VLOOKUP(Table24[[#This Row],[Affected CMS\n(§63.2386(d)(1)(ix))\n(Select from dropdown)]],Table22[],2,FALSE))","v":""}]
[null,{"$f":"IF(Table24[[#This Row],[Affected CMS\n(§63.2386(d)(1)(ix))\n(Select from dropdown)]]=\"\",\"\",VLOOKUP(Table24[[#This Row],[Affected CMS\n(§63.2386(d)(1)(ix))\n(Select from dropdown)]],Table22[],2,FALSE))","v":""}]
[null,{"$f":"IF(Table24[[#This Row],[Affected CMS\n(§63.2386(d)(1)(ix))\n(Select from dropdown)]]=\"\",\"\",VLOOKUP(Table24[[#This Row],[Affected CMS\n(§63.2386(d)(1)(ix))\n(Select from dropdown)]],Table22[],2,FALSE))","v":""}]
[null,{"$f":"IF(Table24[[#This Row],[Affected CMS\n(§63.2386(d)(1)(ix))\n(Select from dropdown)]]=\"\",\"\",VLOOKUP(Table24[[#This Row],[Affected CMS\n(§63.2386(d)(1)(ix))\n(Select from dropdown)]],Table22[],2,FALSE))","v":""}]
[null,{"$f":"IF(Table24[[#This Row],[Affected CMS\n(§63.2386(d)(1)(ix))\n(Select from dropdown)]]=\"\",\"\",VLOOKUP(Table24[[#This Row],[Affected CMS\n(§63.2386(d)(1)(ix))\n(Select from dropdown)]],Table22[],2,FALSE))","v":""}]
[null,{"$f":"IF(Table24[[#This Row],[Affected CMS\n(§63.2386(d)(1)(ix))\n(Select from dropdown)]]=\"\",\"\",VLOOKUP(Table24[[#This Row],[Affected CMS\n(§63.2386(d)(1)(ix))\n(Select from dropdown)]],Table22[],2,FALSE))","v":""}]
[null,{"$f":"IF(Table24[[#This Row],[Affected CMS\n(§63.2386(d)(1)(ix))\n(Select from dropdown)]]=\"\",\"\",VLOOKUP(Table24[[#This Row],[Affected CMS\n(§63.2386(d)(1)(ix))\n(Select from dropdown)]],Table22[],2,FALSE))","v":""}]
[null,{"$f":"IF(Table24[[#This Row],[Affected CMS\n(§63.2386(d)(1)(ix))\n(Select from dropdown)]]=\"\",\"\",VLOOKUP(Table24[[#This Row],[Affected CMS\n(§63.2386(d)(1)(ix))\n(Select from dropdown)]],Table22[],2,FALSE))","v":""}]
[null,{"$f":"IF(Table24[[#This Row],[Affected CMS\n(§63.2386(d)(1)(ix))\n(Select from dropdown)]]=\"\",\"\",VLOOKUP(Table24[[#This Row],[Affected CMS\n(§63.2386(d)(1)(ix))\n(Select from dropdown)]],Table22[],2,FALSE))","v":""}]
[null,{"$f":"IF(Table24[[#This Row],[Affected CMS\n(§63.2386(d)(1)(ix))\n(Select from dropdown)]]=\"\",\"\",VLOOKUP(Table24[[#This Row],[Affected CMS\n(§63.2386(d)(1)(ix))\n(Select from dropdown)]],Table22[],2,FALSE))","v":""}]
[null,{"$f":"IF(Table24[[#This Row],[Affected CMS\n(§63.2386(d)(1)(ix))\n(Select from dropdown)]]=\"\",\"\",VLOOKUP(Table24[[#This Row],[Affected CMS\n(§63.2386(d)(1)(ix))\n(Select from dropdown)]],Table22[],2,FALSE))","v":""}]
[null,{"$f":"IF(Table24[[#This Row],[Affected CMS\n(§63.2386(d)(1)(ix))\n(Select from dropdown)]]=\"\",\"\",VLOOKUP(Table24[[#This Row],[Affected CMS\n(§63.2386(d)(1)(ix))\n(Select from dropdown)]],Table22[],2,FALSE))","v":""}]
[null,{"$f":"IF(Table24[[#This Row],[Affected CMS\n(§63.2386(d)(1)(ix))\n(Select from dropdown)]]=\"\",\"\",VLOOKUP(Table24[[#This Row],[Affected CMS\n(§63.2386(d)(1)(ix))\n(Select from dropdown)]],Table22[],2,FALSE))","v":""}]
[null,{"$f":"IF(Table24[[#This Row],[Affected CMS\n(§63.2386(d)(1)(ix))\n(Select from dropdown)]]=\"\",\"\",VLOOKUP(Table24[[#This Row],[Affected CMS\n(§63.2386(d)(1)(ix))\n(Select from dropdown)]],Table22[],2,FALSE))","v":""}]
[null,{"$f":"IF(Table24[[#This Row],[Affected CMS\n(§63.2386(d)(1)(ix))\n(Select from dropdown)]]=\"\",\"\",VLOOKUP(Table24[[#This Row],[Affected CMS\n(§63.2386(d)(1)(ix))\n(Select from dropdown)]],Table22[],2,FALSE))","v":""}]
[null,{"$f":"IF(Table24[[#This Row],[Affected CMS\n(§63.2386(d)(1)(ix))\n(Select from dropdown)]]=\"\",\"\",VLOOKUP(Table24[[#This Row],[Affected CMS\n(§63.2386(d)(1)(ix))\n(Select from dropdown)]],Table22[],2,FALSE))","v":""}]
[null,{"$f":"IF(Table24[[#This Row],[Affected CMS\n(§63.2386(d)(1)(ix))\n(Select from dropdown)]]=\"\",\"\",VLOOKUP(Table24[[#This Row],[Affected CMS\n(§63.2386(d)(1)(ix))\n(Select from dropdown)]],Table22[],2,FALSE))","v":""}]
[null,{"$f":"IF(Table24[[#This Row],[Affected CMS\n(§63.2386(d)(1)(ix))\n(Select from dropdown)]]=\"\",\"\",VLOOKUP(Table24[[#This Row],[Affected CMS\n(§63.2386(d)(1)(ix))\n(Select from dropdown)]],Table22[],2,FALSE))","v":""}]
[null,{"$f":"IF(Table24[[#This Row],[Affected CMS\n(§63.2386(d)(1)(ix))\n(Select from dropdown)]]=\"\",\"\",VLOOKUP(Table24[[#This Row],[Affected CMS\n(§63.2386(d)(1)(ix))\n(Select from dropdown)]],Table22[],2,FALSE))","v":""}]
[null,{"$f":"IF(Table24[[#This Row],[Affected CMS\n(§63.2386(d)(1)(ix))\n(Select from dropdown)]]=\"\",\"\",VLOOKUP(Table24[[#This Row],[Affected CMS\n(§63.2386(d)(1)(ix))\n(Select from dropdown)]],Table22[],2,FALSE))","v":""}]
[null,{"$f":"IF(Table24[[#This Row],[Affected CMS\n(§63.2386(d)(1)(ix))\n(Select from dropdown)]]=\"\",\"\",VLOOKUP(Table24[[#This Row],[Affected CMS\n(§63.2386(d)(1)(ix))\n(Select from dropdown)]],Table22[],2,FALSE))","v":""}]
[null,{"$f":"IF(Table24[[#This Row],[Affected CMS\n(§63.2386(d)(1)(ix))\n(Select from dropdown)]]=\"\",\"\",VLOOKUP(Table24[[#This Row],[Affected CMS\n(§63.2386(d)(1)(ix))\n(Select from dropdown)]],Table22[],2,FALSE))","v":""}]
[null,{"$f":"IF(Table24[[#This Row],[Affected CMS\n(§63.2386(d)(1)(ix))\n(Select from dropdown)]]=\"\",\"\",VLOOKUP(Table24[[#This Row],[Affected CMS\n(§63.2386(d)(1)(ix))\n(Select from dropdown)]],Table22[],2,FALSE))","v":""}]
[null,{"$f":"IF(Table24[[#This Row],[Affected CMS\n(§63.2386(d)(1)(ix))\n(Select from dropdown)]]=\"\",\"\",VLOOKUP(Table24[[#This Row],[Affected CMS\n(§63.2386(d)(1)(ix))\n(Select from dropdown)]],Table22[],2,FALSE))","v":""}]
[null,{"$f":"IF(Table24[[#This Row],[Affected CMS\n(§63.2386(d)(1)(ix))\n(Select from dropdown)]]=\"\",\"\",VLOOKUP(Table24[[#This Row],[Affected CMS\n(§63.2386(d)(1)(ix))\n(Select from dropdown)]],Table22[],2,FALSE))","v":""}]
[null,{"$f":"IF(Table24[[#This Row],[Affected CMS\n(§63.2386(d)(1)(ix))\n(Select from dropdown)]]=\"\",\"\",VLOOKUP(Table24[[#This Row],[Affected CMS\n(§63.2386(d)(1)(ix))\n(Select from dropdown)]],Table22[],2,FALSE))","v":""}]
[null,{"$f":"IF(Table24[[#This Row],[Affected CMS\n(§63.2386(d)(1)(ix))\n(Select from dropdown)]]=\"\",\"\",VLOOKUP(Table24[[#This Row],[Affected CMS\n(§63.2386(d)(1)(ix))\n(Select from dropdown)]],Table22[],2,FALSE))","v":""}]
[null,{"$f":"IF(Table24[[#This Row],[Affected CMS\n(§63.2386(d)(1)(ix))\n(Select from dropdown)]]=\"\",\"\",VLOOKUP(Table24[[#This Row],[Affected CMS\n(§63.2386(d)(1)(ix))\n(Select from dropdown)]],Table22[],2,FALSE))","v":""}]
[null,{"$f":"IF(Table24[[#This Row],[Affected CMS\n(§63.2386(d)(1)(ix))\n(Select from dropdown)]]=\"\",\"\",VLOOKUP(Table24[[#This Row],[Affected CMS\n(§63.2386(d)(1)(ix))\n(Select from dropdown)]],Table22[],2,FALSE))","v":""}]
[null,{"$f":"IF(Table24[[#This Row],[Affected CMS\n(§63.2386(d)(1)(ix))\n(Select from dropdown)]]=\"\",\"\",VLOOKUP(Table24[[#This Row],[Affected CMS\n(§63.2386(d)(1)(ix))\n(Select from dropdown)]],Table22[],2,FALSE))","v":""}]
[null,{"$f":"IF(Table24[[#This Row],[Affected CMS\n(§63.2386(d)(1)(ix))\n(Select from dropdown)]]=\"\",\"\",VLOOKUP(Table24[[#This Row],[Affected CMS\n(§63.2386(d)(1)(ix))\n(Select from dropdown)]],Table22[],2,FALSE))","v":""}]
[null,{"$f":"IF(Table24[[#This Row],[Affected CMS\n(§63.2386(d)(1)(ix))\n(Select from dropdown)]]=\"\",\"\",VLOOKUP(Table24[[#This Row],[Affected CMS\n(§63.2386(d)(1)(ix))\n(Select from dropdown)]],Table22[],2,FALSE))","v":""}]
[null,{"$f":"IF(Table24[[#This Row],[Affected CMS\n(§63.2386(d)(1)(ix))\n(Select from dropdown)]]=\"\",\"\",VLOOKUP(Table24[[#This Row],[Affected CMS\n(§63.2386(d)(1)(ix))\n(Select from dropdown)]],Table22[],2,FALSE))","v":""}]
[null,{"$f":"IF(Table24[[#This Row],[Affected CMS\n(§63.2386(d)(1)(ix))\n(Select from dropdown)]]=\"\",\"\",VLOOKUP(Table24[[#This Row],[Affected CMS\n(§63.2386(d)(1)(ix))\n(Select from dropdown)]],Table22[],2,FALSE))","v":""}]
[null,{"$f":"IF(Table24[[#This Row],[Affected CMS\n(§63.2386(d)(1)(ix))\n(Select from dropdown)]]=\"\",\"\",VLOOKUP(Table24[[#This Row],[Affected CMS\n(§63.2386(d)(1)(ix))\n(Select from dropdown)]],Table22[],2,FALSE))","v":""}]
[null,{"$f":"IF(Table24[[#This Row],[Affected CMS\n(§63.2386(d)(1)(ix))\n(Select from dropdown)]]=\"\",\"\",VLOOKUP(Table24[[#This Row],[Affected CMS\n(§63.2386(d)(1)(ix))\n(Select from dropdown)]],Table22[],2,FALSE))","v":""}]
[null,{"$f":"IF(Table24[[#This Row],[Affected CMS\n(§63.2386(d)(1)(ix))\n(Select from dropdown)]]=\"\",\"\",VLOOKUP(Table24[[#This Row],[Affected CMS\n(§63.2386(d)(1)(ix))\n(Select from dropdown)]],Table22[],2,FALSE))","v":""}]
[null,{"$f":"IF(Table24[[#This Row],[Affected CMS\n(§63.2386(d)(1)(ix))\n(Select from dropdown)]]=\"\",\"\",VLOOKUP(Table24[[#This Row],[Affected CMS\n(§63.2386(d)(1)(ix))\n(Select from dropdown)]],Table22[],2,FALSE))","v":""}]
[null,{"$f":"IF(Table24[[#This Row],[Affected CMS\n(§63.2386(d)(1)(ix))\n(Select from dropdown)]]=\"\",\"\",VLOOKUP(Table24[[#This Row],[Affected CMS\n(§63.2386(d)(1)(ix))\n(Select from dropdown)]],Table22[],2,FALSE))","v":""}]
[null,{"$f":"IF(Table24[[#This Row],[Affected CMS\n(§63.2386(d)(1)(ix))\n(Select from dropdown)]]=\"\",\"\",VLOOKUP(Table24[[#This Row],[Affected CMS\n(§63.2386(d)(1)(ix))\n(Select from dropdown)]],Table22[],2,FALSE))","v":""}]
[null,{"$f":"IF(Table24[[#This Row],[Affected CMS\n(§63.2386(d)(1)(ix))\n(Select from dropdown)]]=\"\",\"\",VLOOKUP(Table24[[#This Row],[Affected CMS\n(§63.2386(d)(1)(ix))\n(Select from dropdown)]],Table22[],2,FALSE))","v":""}]
[null,{"$f":"IF(Table24[[#This Row],[Affected CMS\n(§63.2386(d)(1)(ix))\n(Select from dropdown)]]=\"\",\"\",VLOOKUP(Table24[[#This Row],[Affected CMS\n(§63.2386(d)(1)(ix))\n(Select from dropdown)]],Table22[],2,FALSE))","v":""}]
[null,{"$f":"IF(Table24[[#This Row],[Affected CMS\n(§63.2386(d)(1)(ix))\n(Select from dropdown)]]=\"\",\"\",VLOOKUP(Table24[[#This Row],[Affected CMS\n(§63.2386(d)(1)(ix))\n(Select from dropdown)]],Table22[],2,FALSE))","v":""}]
[null,{"$f":"IF(Table24[[#This Row],[Affected CMS\n(§63.2386(d)(1)(ix))\n(Select from dropdown)]]=\"\",\"\",VLOOKUP(Table24[[#This Row],[Affected CMS\n(§63.2386(d)(1)(ix))\n(Select from dropdown)]],Table22[],2,FALSE))","v":""}]
[null,{"$f":"IF(Table24[[#This Row],[Affected CMS\n(§63.2386(d)(1)(ix))\n(Select from dropdown)]]=\"\",\"\",VLOOKUP(Table24[[#This Row],[Affected CMS\n(§63.2386(d)(1)(ix))\n(Select from dropdown)]],Table22[],2,FALSE))","v":""}]
[null,{"$f":"IF(Table24[[#This Row],[Affected CMS\n(§63.2386(d)(1)(ix))\n(Select from dropdown)]]=\"\",\"\",VLOOKUP(Table24[[#This Row],[Affected CMS\n(§63.2386(d)(1)(ix))\n(Select from dropdown)]],Table22[],2,FALSE))","v":""}]
[null,{"$f":"IF(Table24[[#This Row],[Affected CMS\n(§63.2386(d)(1)(ix))\n(Select from dropdown)]]=\"\",\"\",VLOOKUP(Table24[[#This Row],[Affected CMS\n(§63.2386(d)(1)(ix))\n(Select from dropdown)]],Table22[],2,FALSE))","v":""}]
[null,{"$f":"IF(Table24[[#This Row],[Affected CMS\n(§63.2386(d)(1)(ix))\n(Select from dropdown)]]=\"\",\"\",VLOOKUP(Table24[[#This Row],[Affected CMS\n(§63.2386(d)(1)(ix))\n(Select from dropdown)]],Table22[],2,FALSE))","v":""}]
[null,{"$f":"IF(Table24[[#This Row],[Affected CMS\n(§63.2386(d)(1)(ix))\n(Select from dropdown)]]=\"\",\"\",VLOOKUP(Table24[[#This Row],[Affected CMS\n(§63.2386(d)(1)(ix))\n(Select from dropdown)]],Table22[],2,FALSE))","v":""}]
[null,{"$f":"IF(Table24[[#This Row],[Affected CMS\n(§63.2386(d)(1)(ix))\n(Select from dropdown)]]=\"\",\"\",VLOOKUP(Table24[[#This Row],[Affected CMS\n(§63.2386(d)(1)(ix))\n(Select from dropdown)]],Table22[],2,FALSE))","v":""}]
[null,{"$f":"IF(Table24[[#This Row],[Affected CMS\n(§63.2386(d)(1)(ix))\n(Select from dropdown)]]=\"\",\"\",VLOOKUP(Table24[[#This Row],[Affected CMS\n(§63.2386(d)(1)(ix))\n(Select from dropdown)]],Table22[],2,FALSE))","v":""}]
[null,{"$f":"IF(Table24[[#This Row],[Affected CMS\n(§63.2386(d)(1)(ix))\n(Select from dropdown)]]=\"\",\"\",VLOOKUP(Table24[[#This Row],[Affected CMS\n(§63.2386(d)(1)(ix))\n(Select from dropdown)]],Table22[],2,FALSE))","v":""}]
[null,{"$f":"IF(Table24[[#This Row],[Affected CMS\n(§63.2386(d)(1)(ix))\n(Select from dropdown)]]=\"\",\"\",VLOOKUP(Table24[[#This Row],[Affected CMS\n(§63.2386(d)(1)(ix))\n(Select from dropdown)]],Table22[],2,FALSE))","v":""}]
[null,{"$f":"IF(Table24[[#This Row],[Affected CMS\n(§63.2386(d)(1)(ix))\n(Select from dropdown)]]=\"\",\"\",VLOOKUP(Table24[[#This Row],[Affected CMS\n(§63.2386(d)(1)(ix))\n(Select from dropdown)]],Table22[],2,FALSE))","v":""}]
[null,{"$f":"IF(Table24[[#This Row],[Affected CMS\n(§63.2386(d)(1)(ix))\n(Select from dropdown)]]=\"\",\"\",VLOOKUP(Table24[[#This Row],[Affected CMS\n(§63.2386(d)(1)(ix))\n(Select from dropdown)]],Table22[],2,FALSE))","v":""}]
[null,{"$f":"IF(Table24[[#This Row],[Affected CMS\n(§63.2386(d)(1)(ix))\n(Select from dropdown)]]=\"\",\"\",VLOOKUP(Table24[[#This Row],[Affected CMS\n(§63.2386(d)(1)(ix))\n(Select from dropdown)]],Table22[],2,FALSE))","v":""}]
[null,{"$f":"IF(Table24[[#This Row],[Affected CMS\n(§63.2386(d)(1)(ix))\n(Select from dropdown)]]=\"\",\"\",VLOOKUP(Table24[[#This Row],[Affected CMS\n(§63.2386(d)(1)(ix))\n(Select from dropdown)]],Table22[],2,FALSE))","v":""}]
[null,{"$f":"IF(Table24[[#This Row],[Affected CMS\n(§63.2386(d)(1)(ix))\n(Select from dropdown)]]=\"\",\"\",VLOOKUP(Table24[[#This Row],[Affected CMS\n(§63.2386(d)(1)(ix))\n(Select from dropdown)]],Table22[],2,FALSE))","v":""}]
[null,{"$f":"IF(Table24[[#This Row],[Affected CMS\n(§63.2386(d)(1)(ix))\n(Select from dropdown)]]=\"\",\"\",VLOOKUP(Table24[[#This Row],[Affected CMS\n(§63.2386(d)(1)(ix))\n(Select from dropdown)]],Table22[],2,FALSE))","v":""}]
[null,{"$f":"IF(Table24[[#This Row],[Affected CMS\n(§63.2386(d)(1)(ix))\n(Select from dropdown)]]=\"\",\"\",VLOOKUP(Table24[[#This Row],[Affected CMS\n(§63.2386(d)(1)(ix))\n(Select from dropdown)]],Table22[],2,FALSE))","v":""}]
[null,{"$f":"IF(Table24[[#This Row],[Affected CMS\n(§63.2386(d)(1)(ix))\n(Select from dropdown)]]=\"\",\"\",VLOOKUP(Table24[[#This Row],[Affected CMS\n(§63.2386(d)(1)(ix))\n(Select from dropdown)]],Table22[],2,FALSE))","v":""}]
[null,{"$f":"IF(Table24[[#This Row],[Affected CMS\n(§63.2386(d)(1)(ix))\n(Select from dropdown)]]=\"\",\"\",VLOOKUP(Table24[[#This Row],[Affected CMS\n(§63.2386(d)(1)(ix))\n(Select from dropdown)]],Table22[],2,FALSE))","v":""}]
[null,{"$f":"IF(Table24[[#This Row],[Affected CMS\n(§63.2386(d)(1)(ix))\n(Select from dropdown)]]=\"\",\"\",VLOOKUP(Table24[[#This Row],[Affected CMS\n(§63.2386(d)(1)(ix))\n(Select from dropdown)]],Table22[],2,FALSE))","v":""}]
[null,{"$f":"IF(Table24[[#This Row],[Affected CMS\n(§63.2386(d)(1)(ix))\n(Select from dropdown)]]=\"\",\"\",VLOOKUP(Table24[[#This Row],[Affected CMS\n(§63.2386(d)(1)(ix))\n(Select from dropdown)]],Table22[],2,FALSE))","v":""}]
[null,{"$f":"IF(Table24[[#This Row],[Affected CMS\n(§63.2386(d)(1)(ix))\n(Select from dropdown)]]=\"\",\"\",VLOOKUP(Table24[[#This Row],[Affected CMS\n(§63.2386(d)(1)(ix))\n(Select from dropdown)]],Table22[],2,FALSE))","v":""}]
[null,{"$f":"IF(Table24[[#This Row],[Affected CMS\n(§63.2386(d)(1)(ix))\n(Select from dropdown)]]=\"\",\"\",VLOOKUP(Table24[[#This Row],[Affected CMS\n(§63.2386(d)(1)(ix))\n(Select from dropdown)]],Table22[],2,FALSE))","v":""}]
[null,{"$f":"IF(Table24[[#This Row],[Affected CMS\n(§63.2386(d)(1)(ix))\n(Select from dropdown)]]=\"\",\"\",VLOOKUP(Table24[[#This Row],[Affected CMS\n(§63.2386(d)(1)(ix))\n(Select from dropdown)]],Table22[],2,FALSE))","v":""}]
[null,{"$f":"IF(Table24[[#This Row],[Affected CMS\n(§63.2386(d)(1)(ix))\n(Select from dropdown)]]=\"\",\"\",VLOOKUP(Table24[[#This Row],[Affected CMS\n(§63.2386(d)(1)(ix))\n(Select from dropdown)]],Table22[],2,FALSE))","v":""}]
[null,{"$f":"IF(Table24[[#This Row],[Affected CMS\n(§63.2386(d)(1)(ix))\n(Select from dropdown)]]=\"\",\"\",VLOOKUP(Table24[[#This Row],[Affected CMS\n(§63.2386(d)(1)(ix))\n(Select from dropdown)]],Table22[],2,FALSE))","v":""}]
[null,{"$f":"IF(Table24[[#This Row],[Affected CMS\n(§63.2386(d)(1)(ix))\n(Select from dropdown)]]=\"\",\"\",VLOOKUP(Table24[[#This Row],[Affected CMS\n(§63.2386(d)(1)(ix))\n(Select from dropdown)]],Table22[],2,FALSE))","v":""}]
[null,{"$f":"IF(Table24[[#This Row],[Affected CMS\n(§63.2386(d)(1)(ix))\n(Select from dropdown)]]=\"\",\"\",VLOOKUP(Table24[[#This Row],[Affected CMS\n(§63.2386(d)(1)(ix))\n(Select from dropdown)]],Table22[],2,FALSE))","v":""}]
[null,{"$f":"IF(Table24[[#This Row],[Affected CMS\n(§63.2386(d)(1)(ix))\n(Select from dropdown)]]=\"\",\"\",VLOOKUP(Table24[[#This Row],[Affected CMS\n(§63.2386(d)(1)(ix))\n(Select from dropdown)]],Table22[],2,FALSE))","v":""}]
[null,{"$f":"IF(Table24[[#This Row],[Affected CMS\n(§63.2386(d)(1)(ix))\n(Select from dropdown)]]=\"\",\"\",VLOOKUP(Table24[[#This Row],[Affected CMS\n(§63.2386(d)(1)(ix))\n(Select from dropdown)]],Table22[],2,FALSE))","v":""}]
[null,{"$f":"IF(Table24[[#This Row],[Affected CMS\n(§63.2386(d)(1)(ix))\n(Select from dropdown)]]=\"\",\"\",VLOOKUP(Table24[[#This Row],[Affected CMS\n(§63.2386(d)(1)(ix))\n(Select from dropdown)]],Table22[],2,FALSE))","v":""}]
[null,{"$f":"IF(Table24[[#This Row],[Affected CMS\n(§63.2386(d)(1)(ix))\n(Select from dropdown)]]=\"\",\"\",VLOOKUP(Table24[[#This Row],[Affected CMS\n(§63.2386(d)(1)(ix))\n(Select from dropdown)]],Table22[],2,FALSE))","v":""}]
[null,{"$f":"IF(Table24[[#This Row],[Affected CMS\n(§63.2386(d)(1)(ix))\n(Select from dropdown)]]=\"\",\"\",VLOOKUP(Table24[[#This Row],[Affected CMS\n(§63.2386(d)(1)(ix))\n(Select from dropdown)]],Table22[],2,FALSE))","v":""}]
[null,{"$f":"IF(Table24[[#This Row],[Affected CMS\n(§63.2386(d)(1)(ix))\n(Select from dropdown)]]=\"\",\"\",VLOOKUP(Table24[[#This Row],[Affected CMS\n(§63.2386(d)(1)(ix))\n(Select from dropdown)]],Table22[],2,FALSE))","v":""}]
[null,{"$f":"IF(Table24[[#This Row],[Affected CMS\n(§63.2386(d)(1)(ix))\n(Select from dropdown)]]=\"\",\"\",VLOOKUP(Table24[[#This Row],[Affected CMS\n(§63.2386(d)(1)(ix))\n(Select from dropdown)]],Table22[],2,FALSE))","v":""}]
[null,{"$f":"IF(Table24[[#This Row],[Affected CMS\n(§63.2386(d)(1)(ix))\n(Select from dropdown)]]=\"\",\"\",VLOOKUP(Table24[[#This Row],[Affected CMS\n(§63.2386(d)(1)(ix))\n(Select from dropdown)]],Table22[],2,FALSE))","v":""}]
[null,{"$f":"IF(Table24[[#This Row],[Affected CMS\n(§63.2386(d)(1)(ix))\n(Select from dropdown)]]=\"\",\"\",VLOOKUP(Table24[[#This Row],[Affected CMS\n(§63.2386(d)(1)(ix))\n(Select from dropdown)]],Table22[],2,FALSE))","v":""}]
[null,{"$f":"IF(Table24[[#This Row],[Affected CMS\n(§63.2386(d)(1)(ix))\n(Select from dropdown)]]=\"\",\"\",VLOOKUP(Table24[[#This Row],[Affected CMS\n(§63.2386(d)(1)(ix))\n(Select from dropdown)]],Table22[],2,FALSE))","v":""}]
[null,{"$f":"IF(Table24[[#This Row],[Affected CMS\n(§63.2386(d)(1)(ix))\n(Select from dropdown)]]=\"\",\"\",VLOOKUP(Table24[[#This Row],[Affected CMS\n(§63.2386(d)(1)(ix))\n(Select from dropdown)]],Table22[],2,FALSE))","v":""}]
[null,{"$f":"IF(Table24[[#This Row],[Affected CMS\n(§63.2386(d)(1)(ix))\n(Select from dropdown)]]=\"\",\"\",VLOOKUP(Table24[[#This Row],[Affected CMS\n(§63.2386(d)(1)(ix))\n(Select from dropdown)]],Table22[],2,FALSE))","v":""}]
[null,{"$f":"IF(Table24[[#This Row],[Affected CMS\n(§63.2386(d)(1)(ix))\n(Select from dropdown)]]=\"\",\"\",VLOOKUP(Table24[[#This Row],[Affected CMS\n(§63.2386(d)(1)(ix))\n(Select from dropdown)]],Table22[],2,FALSE))","v":""}]
[null,{"$f":"IF(Table24[[#This Row],[Affected CMS\n(§63.2386(d)(1)(ix))\n(Select from dropdown)]]=\"\",\"\",VLOOKUP(Table24[[#This Row],[Affected CMS\n(§63.2386(d)(1)(ix))\n(Select from dropdown)]],Table22[],2,FALSE))","v":""}]
[null,{"$f":"IF(Table24[[#This Row],[Affected CMS\n(§63.2386(d)(1)(ix))\n(Select from dropdown)]]=\"\",\"\",VLOOKUP(Table24[[#This Row],[Affected CMS\n(§63.2386(d)(1)(ix))\n(Select from dropdown)]],Table22[],2,FALSE))","v":""}]
[null,{"$f":"IF(Table24[[#This Row],[Affected CMS\n(§63.2386(d)(1)(ix))\n(Select from dropdown)]]=\"\",\"\",VLOOKUP(Table24[[#This Row],[Affected CMS\n(§63.2386(d)(1)(ix))\n(Select from dropdown)]],Table22[],2,FALSE))","v":""}]
[null,{"$f":"IF(Table24[[#This Row],[Affected CMS\n(§63.2386(d)(1)(ix))\n(Select from dropdown)]]=\"\",\"\",VLOOKUP(Table24[[#This Row],[Affected CMS\n(§63.2386(d)(1)(ix))\n(Select from dropdown)]],Table22[],2,FALSE))","v":""}]
[null,{"$f":"IF(Table24[[#This Row],[Affected CMS\n(§63.2386(d)(1)(ix))\n(Select from dropdown)]]=\"\",\"\",VLOOKUP(Table24[[#This Row],[Affected CMS\n(§63.2386(d)(1)(ix))\n(Select from dropdown)]],Table22[],2,FALSE))","v":""}]
[null,{"$f":"IF(Table24[[#This Row],[Affected CMS\n(§63.2386(d)(1)(ix))\n(Select from dropdown)]]=\"\",\"\",VLOOKUP(Table24[[#This Row],[Affected CMS\n(§63.2386(d)(1)(ix))\n(Select from dropdown)]],Table22[],2,FALSE))","v":""}]
[null,{"$f":"IF(Table24[[#This Row],[Affected CMS\n(§63.2386(d)(1)(ix))\n(Select from dropdown)]]=\"\",\"\",VLOOKUP(Table24[[#This Row],[Affected CMS\n(§63.2386(d)(1)(ix))\n(Select from dropdown)]],Table22[],2,FALSE))","v":""}]
[null,{"$f":"IF(Table24[[#This Row],[Affected CMS\n(§63.2386(d)(1)(ix))\n(Select from dropdown)]]=\"\",\"\",VLOOKUP(Table24[[#This Row],[Affected CMS\n(§63.2386(d)(1)(ix))\n(Select from dropdown)]],Table22[],2,FALSE))","v":""}]
[null,{"$f":"IF(Table24[[#This Row],[Affected CMS\n(§63.2386(d)(1)(ix))\n(Select from dropdown)]]=\"\",\"\",VLOOKUP(Table24[[#This Row],[Affected CMS\n(§63.2386(d)(1)(ix))\n(Select from dropdown)]],Table22[],2,FALSE))","v":""}]
[null,{"$f":"IF(Table24[[#This Row],[Affected CMS\n(§63.2386(d)(1)(ix))\n(Select from dropdown)]]=\"\",\"\",VLOOKUP(Table24[[#This Row],[Affected CMS\n(§63.2386(d)(1)(ix))\n(Select from dropdown)]],Table22[],2,FALSE))","v":""}]
[null,{"$f":"IF(Table24[[#This Row],[Affected CMS\n(§63.2386(d)(1)(ix))\n(Select from dropdown)]]=\"\",\"\",VLOOKUP(Table24[[#This Row],[Affected CMS\n(§63.2386(d)(1)(ix))\n(Select from dropdown)]],Table22[],2,FALSE))","v":""}]
[null,{"$f":"IF(Table24[[#This Row],[Affected CMS\n(§63.2386(d)(1)(ix))\n(Select from dropdown)]]=\"\",\"\",VLOOKUP(Table24[[#This Row],[Affected CMS\n(§63.2386(d)(1)(ix))\n(Select from dropdown)]],Table22[],2,FALSE))","v":""}]
[null,{"$f":"IF(Table24[[#This Row],[Affected CMS\n(§63.2386(d)(1)(ix))\n(Select from dropdown)]]=\"\",\"\",VLOOKUP(Table24[[#This Row],[Affected CMS\n(§63.2386(d)(1)(ix))\n(Select from dropdown)]],Table22[],2,FALSE))","v":""}]
[null,{"$f":"IF(Table24[[#This Row],[Affected CMS\n(§63.2386(d)(1)(ix))\n(Select from dropdown)]]=\"\",\"\",VLOOKUP(Table24[[#This Row],[Affected CMS\n(§63.2386(d)(1)(ix))\n(Select from dropdown)]],Table22[],2,FALSE))","v":""}]
[null,{"$f":"IF(Table24[[#This Row],[Affected CMS\n(§63.2386(d)(1)(ix))\n(Select from dropdown)]]=\"\",\"\",VLOOKUP(Table24[[#This Row],[Affected CMS\n(§63.2386(d)(1)(ix))\n(Select from dropdown)]],Table22[],2,FALSE))","v":""}]
[null,{"$f":"IF(Table24[[#This Row],[Affected CMS\n(§63.2386(d)(1)(ix))\n(Select from dropdown)]]=\"\",\"\",VLOOKUP(Table24[[#This Row],[Affected CMS\n(§63.2386(d)(1)(ix))\n(Select from dropdown)]],Table22[],2,FALSE))","v":""}]
[null,{"$f":"IF(Table24[[#This Row],[Affected CMS\n(§63.2386(d)(1)(ix))\n(Select from dropdown)]]=\"\",\"\",VLOOKUP(Table24[[#This Row],[Affected CMS\n(§63.2386(d)(1)(ix))\n(Select from dropdown)]],Table22[],2,FALSE))","v":""}]
[null,{"$f":"IF(Table24[[#This Row],[Affected CMS\n(§63.2386(d)(1)(ix))\n(Select from dropdown)]]=\"\",\"\",VLOOKUP(Table24[[#This Row],[Affected CMS\n(§63.2386(d)(1)(ix))\n(Select from dropdown)]],Table22[],2,FALSE))","v":""}]
[null,{"$f":"IF(Table24[[#This Row],[Affected CMS\n(§63.2386(d)(1)(ix))\n(Select from dropdown)]]=\"\",\"\",VLOOKUP(Table24[[#This Row],[Affected CMS\n(§63.2386(d)(1)(ix))\n(Select from dropdown)]],Table22[],2,FALSE))","v":""}]
[null,{"$f":"IF(Table24[[#This Row],[Affected CMS\n(§63.2386(d)(1)(ix))\n(Select from dropdown)]]=\"\",\"\",VLOOKUP(Table24[[#This Row],[Affected CMS\n(§63.2386(d)(1)(ix))\n(Select from dropdown)]],Table22[],2,FALSE))","v":""}]
[null,{"$f":"IF(Table24[[#This Row],[Affected CMS\n(§63.2386(d)(1)(ix))\n(Select from dropdown)]]=\"\",\"\",VLOOKUP(Table24[[#This Row],[Affected CMS\n(§63.2386(d)(1)(ix))\n(Select from dropdown)]],Table22[],2,FALSE))","v":""}]
[null,{"$f":"IF(Table24[[#This Row],[Affected CMS\n(§63.2386(d)(1)(ix))\n(Select from dropdown)]]=\"\",\"\",VLOOKUP(Table24[[#This Row],[Affected CMS\n(§63.2386(d)(1)(ix))\n(Select from dropdown)]],Table22[],2,FALSE))","v":""}]
[null,{"$f":"IF(Table24[[#This Row],[Affected CMS\n(§63.2386(d)(1)(ix))\n(Select from dropdown)]]=\"\",\"\",VLOOKUP(Table24[[#This Row],[Affected CMS\n(§63.2386(d)(1)(ix))\n(Select from dropdown)]],Table22[],2,FALSE))","v":""}]
[null,{"$f":"IF(Table24[[#This Row],[Affected CMS\n(§63.2386(d)(1)(ix))\n(Select from dropdown)]]=\"\",\"\",VLOOKUP(Table24[[#This Row],[Affected CMS\n(§63.2386(d)(1)(ix))\n(Select from dropdown)]],Table22[],2,FALSE))","v":""}]
[null,{"$f":"IF(Table24[[#This Row],[Affected CMS\n(§63.2386(d)(1)(ix))\n(Select from dropdown)]]=\"\",\"\",VLOOKUP(Table24[[#This Row],[Affected CMS\n(§63.2386(d)(1)(ix))\n(Select from dropdown)]],Table22[],2,FALSE))","v":""}]
[null,{"$f":"IF(Table24[[#This Row],[Affected CMS\n(§63.2386(d)(1)(ix))\n(Select from dropdown)]]=\"\",\"\",VLOOKUP(Table24[[#This Row],[Affected CMS\n(§63.2386(d)(1)(ix))\n(Select from dropdown)]],Table22[],2,FALSE))","v":""}]
[null,{"$f":"IF(Table24[[#This Row],[Affected CMS\n(§63.2386(d)(1)(ix))\n(Select from dropdown)]]=\"\",\"\",VLOOKUP(Table24[[#This Row],[Affected CMS\n(§63.2386(d)(1)(ix))\n(Select from dropdown)]],Table22[],2,FALSE))","v":""}]
[null,{"$f":"IF(Table24[[#This Row],[Affected CMS\n(§63.2386(d)(1)(ix))\n(Select from dropdown)]]=\"\",\"\",VLOOKUP(Table24[[#This Row],[Affected CMS\n(§63.2386(d)(1)(ix))\n(Select from dropdown)]],Table22[],2,FALSE))","v":""}]
[null,{"$f":"IF(Table24[[#This Row],[Affected CMS\n(§63.2386(d)(1)(ix))\n(Select from dropdown)]]=\"\",\"\",VLOOKUP(Table24[[#This Row],[Affected CMS\n(§63.2386(d)(1)(ix))\n(Select from dropdown)]],Table22[],2,FALSE))","v":""}]
[null,{"$f":"IF(Table24[[#This Row],[Affected CMS\n(§63.2386(d)(1)(ix))\n(Select from dropdown)]]=\"\",\"\",VLOOKUP(Table24[[#This Row],[Affected CMS\n(§63.2386(d)(1)(ix))\n(Select from dropdown)]],Table22[],2,FALSE))","v":""}]
[null,{"$f":"IF(Table24[[#This Row],[Affected CMS\n(§63.2386(d)(1)(ix))\n(Select from dropdown)]]=\"\",\"\",VLOOKUP(Table24[[#This Row],[Affected CMS\n(§63.2386(d)(1)(ix))\n(Select from dropdown)]],Table22[],2,FALSE))","v":""}]
[null,{"$f":"IF(Table24[[#This Row],[Affected CMS\n(§63.2386(d)(1)(ix))\n(Select from dropdown)]]=\"\",\"\",VLOOKUP(Table24[[#This Row],[Affected CMS\n(§63.2386(d)(1)(ix))\n(Select from dropdown)]],Table22[],2,FALSE))","v":""}]
[null,{"$f":"IF(Table24[[#This Row],[Affected CMS\n(§63.2386(d)(1)(ix))\n(Select from dropdown)]]=\"\",\"\",VLOOKUP(Table24[[#This Row],[Affected CMS\n(§63.2386(d)(1)(ix))\n(Select from dropdown)]],Table22[],2,FALSE))","v":""}]
[null,{"$f":"IF(Table24[[#This Row],[Affected CMS\n(§63.2386(d)(1)(ix))\n(Select from dropdown)]]=\"\",\"\",VLOOKUP(Table24[[#This Row],[Affected CMS\n(§63.2386(d)(1)(ix))\n(Select from dropdown)]],Table22[],2,FALSE))","v":""}]
[null,{"$f":"IF(Table24[[#This Row],[Affected CMS\n(§63.2386(d)(1)(ix))\n(Select from dropdown)]]=\"\",\"\",VLOOKUP(Table24[[#This Row],[Affected CMS\n(§63.2386(d)(1)(ix))\n(Select from dropdown)]],Table22[],2,FALSE))","v":""}]
[null,{"$f":"IF(Table24[[#This Row],[Affected CMS\n(§63.2386(d)(1)(ix))\n(Select from dropdown)]]=\"\",\"\",VLOOKUP(Table24[[#This Row],[Affected CMS\n(§63.2386(d)(1)(ix))\n(Select from dropdown)]],Table22[],2,FALSE))","v":""}]
[null,{"$f":"IF(Table24[[#This Row],[Affected CMS\n(§63.2386(d)(1)(ix))\n(Select from dropdown)]]=\"\",\"\",VLOOKUP(Table24[[#This Row],[Affected CMS\n(§63.2386(d)(1)(ix))\n(Select from dropdown)]],Table22[],2,FALSE))","v":""}]
[null,{"$f":"IF(Table24[[#This Row],[Affected CMS\n(§63.2386(d)(1)(ix))\n(Select from dropdown)]]=\"\",\"\",VLOOKUP(Table24[[#This Row],[Affected CMS\n(§63.2386(d)(1)(ix))\n(Select from dropdown)]],Table22[],2,FALSE))","v":""}]
[null,{"$f":"IF(Table24[[#This Row],[Affected CMS\n(§63.2386(d)(1)(ix))\n(Select from dropdown)]]=\"\",\"\",VLOOKUP(Table24[[#This Row],[Affected CMS\n(§63.2386(d)(1)(ix))\n(Select from dropdown)]],Table22[],2,FALSE))","v":""}]
[null,{"$f":"IF(Table24[[#This Row],[Affected CMS\n(§63.2386(d)(1)(ix))\n(Select from dropdown)]]=\"\",\"\",VLOOKUP(Table24[[#This Row],[Affected CMS\n(§63.2386(d)(1)(ix))\n(Select from dropdown)]],Table22[],2,FALSE))","v":""}]
[null,{"$f":"IF(Table24[[#This Row],[Affected CMS\n(§63.2386(d)(1)(ix))\n(Select from dropdown)]]=\"\",\"\",VLOOKUP(Table24[[#This Row],[Affected CMS\n(§63.2386(d)(1)(ix))\n(Select from dropdown)]],Table22[],2,FALSE))","v":""}]
[null,{"$f":"IF(Table24[[#This Row],[Affected CMS\n(§63.2386(d)(1)(ix))\n(Select from dropdown)]]=\"\",\"\",VLOOKUP(Table24[[#This Row],[Affected CMS\n(§63.2386(d)(1)(ix))\n(Select from dropdown)]],Table22[],2,FALSE))","v":""}]
[null,{"$f":"IF(Table24[[#This Row],[Affected CMS\n(§63.2386(d)(1)(ix))\n(Select from dropdown)]]=\"\",\"\",VLOOKUP(Table24[[#This Row],[Affected CMS\n(§63.2386(d)(1)(ix))\n(Select from dropdown)]],Table22[],2,FALSE))","v":""}]
[null,{"$f":"IF(Table24[[#This Row],[Affected CMS\n(§63.2386(d)(1)(ix))\n(Select from dropdown)]]=\"\",\"\",VLOOKUP(Table24[[#This Row],[Affected CMS\n(§63.2386(d)(1)(ix))\n(Select from dropdown)]],Table22[],2,FALSE))","v":""}]
[null,{"$f":"IF(Table24[[#This Row],[Affected CMS\n(§63.2386(d)(1)(ix))\n(Select from dropdown)]]=\"\",\"\",VLOOKUP(Table24[[#This Row],[Affected CMS\n(§63.2386(d)(1)(ix))\n(Select from dropdown)]],Table22[],2,FALSE))","v":""}]
[null,{"$f":"IF(Table24[[#This Row],[Affected CMS\n(§63.2386(d)(1)(ix))\n(Select from dropdown)]]=\"\",\"\",VLOOKUP(Table24[[#This Row],[Affected CMS\n(§63.2386(d)(1)(ix))\n(Select from dropdown)]],Table22[],2,FALSE))","v":""}]
[null,{"$f":"IF(Table24[[#This Row],[Affected CMS\n(§63.2386(d)(1)(ix))\n(Select from dropdown)]]=\"\",\"\",VLOOKUP(Table24[[#This Row],[Affected CMS\n(§63.2386(d)(1)(ix))\n(Select from dropdown)]],Table22[],2,FALSE))","v":""}]
[null,{"$f":"IF(Table24[[#This Row],[Affected CMS\n(§63.2386(d)(1)(ix))\n(Select from dropdown)]]=\"\",\"\",VLOOKUP(Table24[[#This Row],[Affected CMS\n(§63.2386(d)(1)(ix))\n(Select from dropdown)]],Table22[],2,FALSE))","v":""}]
[null,{"$f":"IF(Table24[[#This Row],[Affected CMS\n(§63.2386(d)(1)(ix))\n(Select from dropdown)]]=\"\",\"\",VLOOKUP(Table24[[#This Row],[Affected CMS\n(§63.2386(d)(1)(ix))\n(Select from dropdown)]],Table22[],2,FALSE))","v":""}]
[null,{"$f":"IF(Table24[[#This Row],[Affected CMS\n(§63.2386(d)(1)(ix))\n(Select from dropdown)]]=\"\",\"\",VLOOKUP(Table24[[#This Row],[Affected CMS\n(§63.2386(d)(1)(ix))\n(Select from dropdown)]],Table22[],2,FALSE))","v":""}]
[null,{"$f":"IF(Table24[[#This Row],[Affected CMS\n(§63.2386(d)(1)(ix))\n(Select from dropdown)]]=\"\",\"\",VLOOKUP(Table24[[#This Row],[Affected CMS\n(§63.2386(d)(1)(ix))\n(Select from dropdown)]],Table22[],2,FALSE))","v":""}]
[null,{"$f":"IF(Table24[[#This Row],[Affected CMS\n(§63.2386(d)(1)(ix))\n(Select from dropdown)]]=\"\",\"\",VLOOKUP(Table24[[#This Row],[Affected CMS\n(§63.2386(d)(1)(ix))\n(Select from dropdown)]],Table22[],2,FALSE))","v":""}]
[null,{"$f":"IF(Table24[[#This Row],[Affected CMS\n(§63.2386(d)(1)(ix))\n(Select from dropdown)]]=\"\",\"\",VLOOKUP(Table24[[#This Row],[Affected CMS\n(§63.2386(d)(1)(ix))\n(Select from dropdown)]],Table22[],2,FALSE))","v":""}]
[null,{"$f":"IF(Table24[[#This Row],[Affected CMS\n(§63.2386(d)(1)(ix))\n(Select from dropdown)]]=\"\",\"\",VLOOKUP(Table24[[#This Row],[Affected CMS\n(§63.2386(d)(1)(ix))\n(Select from dropdown)]],Table22[],2,FALSE))","v":""}]
[null,{"$f":"IF(Table24[[#This Row],[Affected CMS\n(§63.2386(d)(1)(ix))\n(Select from dropdown)]]=\"\",\"\",VLOOKUP(Table24[[#This Row],[Affected CMS\n(§63.2386(d)(1)(ix))\n(Select from dropdown)]],Table22[],2,FALSE))","v":""}]
[null,{"$f":"IF(Table24[[#This Row],[Affected CMS\n(§63.2386(d)(1)(ix))\n(Select from dropdown)]]=\"\",\"\",VLOOKUP(Table24[[#This Row],[Affected CMS\n(§63.2386(d)(1)(ix))\n(Select from dropdown)]],Table22[],2,FALSE))","v":""}]
[null,{"$f":"IF(Table24[[#This Row],[Affected CMS\n(§63.2386(d)(1)(ix))\n(Select from dropdown)]]=\"\",\"\",VLOOKUP(Table24[[#This Row],[Affected CMS\n(§63.2386(d)(1)(ix))\n(Select from dropdown)]],Table22[],2,FALSE))","v":""}]
[null,{"$f":"IF(Table24[[#This Row],[Affected CMS\n(§63.2386(d)(1)(ix))\n(Select from dropdown)]]=\"\",\"\",VLOOKUP(Table24[[#This Row],[Affected CMS\n(§63.2386(d)(1)(ix))\n(Select from dropdown)]],Table22[],2,FALSE))","v":""}]
[null,{"$f":"IF(Table24[[#This Row],[Affected CMS\n(§63.2386(d)(1)(ix))\n(Select from dropdown)]]=\"\",\"\",VLOOKUP(Table24[[#This Row],[Affected CMS\n(§63.2386(d)(1)(ix))\n(Select from dropdown)]],Table22[],2,FALSE))","v":""}]
[null,{"$f":"IF(Table24[[#This Row],[Affected CMS\n(§63.2386(d)(1)(ix))\n(Select from dropdown)]]=\"\",\"\",VLOOKUP(Table24[[#This Row],[Affected CMS\n(§63.2386(d)(1)(ix))\n(Select from dropdown)]],Table22[],2,FALSE))","v":""}]
[null,{"$f":"IF(Table24[[#This Row],[Affected CMS\n(§63.2386(d)(1)(ix))\n(Select from dropdown)]]=\"\",\"\",VLOOKUP(Table24[[#This Row],[Affected CMS\n(§63.2386(d)(1)(ix))\n(Select from dropdown)]],Table22[],2,FALSE))","v":""}]
[null,{"$f":"IF(Table24[[#This Row],[Affected CMS\n(§63.2386(d)(1)(ix))\n(Select from dropdown)]]=\"\",\"\",VLOOKUP(Table24[[#This Row],[Affected CMS\n(§63.2386(d)(1)(ix))\n(Select from dropdown)]],Table22[],2,FALSE))","v":""}]
[null,{"$f":"IF(Table24[[#This Row],[Affected CMS\n(§63.2386(d)(1)(ix))\n(Select from dropdown)]]=\"\",\"\",VLOOKUP(Table24[[#This Row],[Affected CMS\n(§63.2386(d)(1)(ix))\n(Select from dropdown)]],Table22[],2,FALSE))","v":""}]
[null,{"$f":"IF(Table24[[#This Row],[Affected CMS\n(§63.2386(d)(1)(ix))\n(Select from dropdown)]]=\"\",\"\",VLOOKUP(Table24[[#This Row],[Affected CMS\n(§63.2386(d)(1)(ix))\n(Select from dropdown)]],Table22[],2,FALSE))","v":""}]
[null,{"$f":"IF(Table24[[#This Row],[Affected CMS\n(§63.2386(d)(1)(ix))\n(Select from dropdown)]]=\"\",\"\",VLOOKUP(Table24[[#This Row],[Affected CMS\n(§63.2386(d)(1)(ix))\n(Select from dropdown)]],Table22[],2,FALSE))","v":""}]
[null,{"$f":"IF(Table24[[#This Row],[Affected CMS\n(§63.2386(d)(1)(ix))\n(Select from dropdown)]]=\"\",\"\",VLOOKUP(Table24[[#This Row],[Affected CMS\n(§63.2386(d)(1)(ix))\n(Select from dropdown)]],Table22[],2,FALSE))","v":""}]
[null,{"$f":"IF(Table24[[#This Row],[Affected CMS\n(§63.2386(d)(1)(ix))\n(Select from dropdown)]]=\"\",\"\",VLOOKUP(Table24[[#This Row],[Affected CMS\n(§63.2386(d)(1)(ix))\n(Select from dropdown)]],Table22[],2,FALSE))","v":""}]
[null,{"$f":"IF(Table24[[#This Row],[Affected CMS\n(§63.2386(d)(1)(ix))\n(Select from dropdown)]]=\"\",\"\",VLOOKUP(Table24[[#This Row],[Affected CMS\n(§63.2386(d)(1)(ix))\n(Select from dropdown)]],Table22[],2,FALSE))","v":""}]
[null,{"$f":"IF(Table24[[#This Row],[Affected CMS\n(§63.2386(d)(1)(ix))\n(Select from dropdown)]]=\"\",\"\",VLOOKUP(Table24[[#This Row],[Affected CMS\n(§63.2386(d)(1)(ix))\n(Select from dropdown)]],Table22[],2,FALSE))","v":""}]
[null,{"$f":"IF(Table24[[#This Row],[Affected CMS\n(§63.2386(d)(1)(ix))\n(Select from dropdown)]]=\"\",\"\",VLOOKUP(Table24[[#This Row],[Affected CMS\n(§63.2386(d)(1)(ix))\n(Select from dropdown)]],Table22[],2,FALSE))","v":""}]
[null,{"$f":"IF(Table24[[#This Row],[Affected CMS\n(§63.2386(d)(1)(ix))\n(Select from dropdown)]]=\"\",\"\",VLOOKUP(Table24[[#This Row],[Affected CMS\n(§63.2386(d)(1)(ix))\n(Select from dropdown)]],Table22[],2,FALSE))","v":""}]
[null,{"$f":"IF(Table24[[#This Row],[Affected CMS\n(§63.2386(d)(1)(ix))\n(Select from dropdown)]]=\"\",\"\",VLOOKUP(Table24[[#This Row],[Affected CMS\n(§63.2386(d)(1)(ix))\n(Select from dropdown)]],Table22[],2,FALSE))","v":""}]
[null,{"$f":"IF(Table24[[#This Row],[Affected CMS\n(§63.2386(d)(1)(ix))\n(Select from dropdown)]]=\"\",\"\",VLOOKUP(Table24[[#This Row],[Affected CMS\n(§63.2386(d)(1)(ix))\n(Select from dropdown)]],Table22[],2,FALSE))","v":""}]
[null,{"$f":"IF(Table24[[#This Row],[Affected CMS\n(§63.2386(d)(1)(ix))\n(Select from dropdown)]]=\"\",\"\",VLOOKUP(Table24[[#This Row],[Affected CMS\n(§63.2386(d)(1)(ix))\n(Select from dropdown)]],Table22[],2,FALSE))","v":""}]
[null,{"$f":"IF(Table24[[#This Row],[Affected CMS\n(§63.2386(d)(1)(ix))\n(Select from dropdown)]]=\"\",\"\",VLOOKUP(Table24[[#This Row],[Affected CMS\n(§63.2386(d)(1)(ix))\n(Select from dropdown)]],Table22[],2,FALSE))","v":""}]
[null,{"$f":"IF(Table24[[#This Row],[Affected CMS\n(§63.2386(d)(1)(ix))\n(Select from dropdown)]]=\"\",\"\",VLOOKUP(Table24[[#This Row],[Affected CMS\n(§63.2386(d)(1)(ix))\n(Select from dropdown)]],Table22[],2,FALSE))","v":""}]
[null,{"$f":"IF(Table24[[#This Row],[Affected CMS\n(§63.2386(d)(1)(ix))\n(Select from dropdown)]]=\"\",\"\",VLOOKUP(Table24[[#This Row],[Affected CMS\n(§63.2386(d)(1)(ix))\n(Select from dropdown)]],Table22[],2,FALSE))","v":""}]
[null,{"$f":"IF(Table24[[#This Row],[Affected CMS\n(§63.2386(d)(1)(ix))\n(Select from dropdown)]]=\"\",\"\",VLOOKUP(Table24[[#This Row],[Affected CMS\n(§63.2386(d)(1)(ix))\n(Select from dropdown)]],Table22[],2,FALSE))","v":""}]
[null,{"$f":"IF(Table24[[#This Row],[Affected CMS\n(§63.2386(d)(1)(ix))\n(Select from dropdown)]]=\"\",\"\",VLOOKUP(Table24[[#This Row],[Affected CMS\n(§63.2386(d)(1)(ix))\n(Select from dropdown)]],Table22[],2,FALSE))","v":""}]
[null,{"$f":"IF(Table24[[#This Row],[Affected CMS\n(§63.2386(d)(1)(ix))\n(Select from dropdown)]]=\"\",\"\",VLOOKUP(Table24[[#This Row],[Affected CMS\n(§63.2386(d)(1)(ix))\n(Select from dropdown)]],Table22[],2,FALSE))","v":""}]
[null,{"$f":"IF(Table24[[#This Row],[Affected CMS\n(§63.2386(d)(1)(ix))\n(Select from dropdown)]]=\"\",\"\",VLOOKUP(Table24[[#This Row],[Affected CMS\n(§63.2386(d)(1)(ix))\n(Select from dropdown)]],Table22[],2,FALSE))","v":""}]
[null,{"$f":"IF(Table24[[#This Row],[Affected CMS\n(§63.2386(d)(1)(ix))\n(Select from dropdown)]]=\"\",\"\",VLOOKUP(Table24[[#This Row],[Affected CMS\n(§63.2386(d)(1)(ix))\n(Select from dropdown)]],Table22[],2,FALSE))","v":""}]
[null,{"$f":"IF(Table24[[#This Row],[Affected CMS\n(§63.2386(d)(1)(ix))\n(Select from dropdown)]]=\"\",\"\",VLOOKUP(Table24[[#This Row],[Affected CMS\n(§63.2386(d)(1)(ix))\n(Select from dropdown)]],Table22[],2,FALSE))","v":""}]
[null,{"$f":"IF(Table24[[#This Row],[Affected CMS\n(§63.2386(d)(1)(ix))\n(Select from dropdown)]]=\"\",\"\",VLOOKUP(Table24[[#This Row],[Affected CMS\n(§63.2386(d)(1)(ix))\n(Select from dropdown)]],Table22[],2,FALSE))","v":""}]
[null,{"$f":"IF(Table24[[#This Row],[Affected CMS\n(§63.2386(d)(1)(ix))\n(Select from dropdown)]]=\"\",\"\",VLOOKUP(Table24[[#This Row],[Affected CMS\n(§63.2386(d)(1)(ix))\n(Select from dropdown)]],Table22[],2,FALSE))","v":""}]
[null,{"$f":"IF(Table24[[#This Row],[Affected CMS\n(§63.2386(d)(1)(ix))\n(Select from dropdown)]]=\"\",\"\",VLOOKUP(Table24[[#This Row],[Affected CMS\n(§63.2386(d)(1)(ix))\n(Select from dropdown)]],Table22[],2,FALSE))","v":""}]
[null,{"$f":"IF(Table24[[#This Row],[Affected CMS\n(§63.2386(d)(1)(ix))\n(Select from dropdown)]]=\"\",\"\",VLOOKUP(Table24[[#This Row],[Affected CMS\n(§63.2386(d)(1)(ix))\n(Select from dropdown)]],Table22[],2,FALSE))","v":""}]
[null,{"$f":"IF(Table24[[#This Row],[Affected CMS\n(§63.2386(d)(1)(ix))\n(Select from dropdown)]]=\"\",\"\",VLOOKUP(Table24[[#This Row],[Affected CMS\n(§63.2386(d)(1)(ix))\n(Select from dropdown)]],Table22[],2,FALSE))","v":""}]
[null,{"$f":"IF(Table24[[#This Row],[Affected CMS\n(§63.2386(d)(1)(ix))\n(Select from dropdown)]]=\"\",\"\",VLOOKUP(Table24[[#This Row],[Affected CMS\n(§63.2386(d)(1)(ix))\n(Select from dropdown)]],Table22[],2,FALSE))","v":""}]
[null,{"$f":"IF(Table24[[#This Row],[Affected CMS\n(§63.2386(d)(1)(ix))\n(Select from dropdown)]]=\"\",\"\",VLOOKUP(Table24[[#This Row],[Affected CMS\n(§63.2386(d)(1)(ix))\n(Select from dropdown)]],Table22[],2,FALSE))","v":""}]
[null,{"$f":"IF(Table24[[#This Row],[Affected CMS\n(§63.2386(d)(1)(ix))\n(Select from dropdown)]]=\"\",\"\",VLOOKUP(Table24[[#This Row],[Affected CMS\n(§63.2386(d)(1)(ix))\n(Select from dropdown)]],Table22[],2,FALSE))","v":""}]
[null,{"$f":"IF(Table24[[#This Row],[Affected CMS\n(§63.2386(d)(1)(ix))\n(Select from dropdown)]]=\"\",\"\",VLOOKUP(Table24[[#This Row],[Affected CMS\n(§63.2386(d)(1)(ix))\n(Select from dropdown)]],Table22[],2,FALSE))","v":""}]
[null,{"$f":"IF(Table24[[#This Row],[Affected CMS\n(§63.2386(d)(1)(ix))\n(Select from dropdown)]]=\"\",\"\",VLOOKUP(Table24[[#This Row],[Affected CMS\n(§63.2386(d)(1)(ix))\n(Select from dropdown)]],Table22[],2,FALSE))","v":""}]
[null,{"$f":"IF(Table24[[#This Row],[Affected CMS\n(§63.2386(d)(1)(ix))\n(Select from dropdown)]]=\"\",\"\",VLOOKUP(Table24[[#This Row],[Affected CMS\n(§63.2386(d)(1)(ix))\n(Select from dropdown)]],Table22[],2,FALSE))","v":""}]
[null,{"$f":"IF(Table24[[#This Row],[Affected CMS\n(§63.2386(d)(1)(ix))\n(Select from dropdown)]]=\"\",\"\",VLOOKUP(Table24[[#This Row],[Affected CMS\n(§63.2386(d)(1)(ix))\n(Select from dropdown)]],Table22[],2,FALSE))","v":""}]
[null,{"$f":"IF(Table24[[#This Row],[Affected CMS\n(§63.2386(d)(1)(ix))\n(Select from dropdown)]]=\"\",\"\",VLOOKUP(Table24[[#This Row],[Affected CMS\n(§63.2386(d)(1)(ix))\n(Select from dropdown)]],Table22[],2,FALSE))","v":""}]
[null,{"$f":"IF(Table24[[#This Row],[Affected CMS\n(§63.2386(d)(1)(ix))\n(Select from dropdown)]]=\"\",\"\",VLOOKUP(Table24[[#This Row],[Affected CMS\n(§63.2386(d)(1)(ix))\n(Select from dropdown)]],Table22[],2,FALSE))","v":""}]
[null,{"$f":"IF(Table24[[#This Row],[Affected CMS\n(§63.2386(d)(1)(ix))\n(Select from dropdown)]]=\"\",\"\",VLOOKUP(Table24[[#This Row],[Affected CMS\n(§63.2386(d)(1)(ix))\n(Select from dropdown)]],Table22[],2,FALSE))","v":""}]
[null,{"$f":"IF(Table24[[#This Row],[Affected CMS\n(§63.2386(d)(1)(ix))\n(Select from dropdown)]]=\"\",\"\",VLOOKUP(Table24[[#This Row],[Affected CMS\n(§63.2386(d)(1)(ix))\n(Select from dropdown)]],Table22[],2,FALSE))","v":""}]
[null,{"$f":"IF(Table24[[#This Row],[Affected CMS\n(§63.2386(d)(1)(ix))\n(Select from dropdown)]]=\"\",\"\",VLOOKUP(Table24[[#This Row],[Affected CMS\n(§63.2386(d)(1)(ix))\n(Select from dropdown)]],Table22[],2,FALSE))","v":""}]
[null,{"$f":"IF(Table24[[#This Row],[Affected CMS\n(§63.2386(d)(1)(ix))\n(Select from dropdown)]]=\"\",\"\",VLOOKUP(Table24[[#This Row],[Affected CMS\n(§63.2386(d)(1)(ix))\n(Select from dropdown)]],Table22[],2,FALSE))","v":""}]
[null,{"$f":"IF(Table24[[#This Row],[Affected CMS\n(§63.2386(d)(1)(ix))\n(Select from dropdown)]]=\"\",\"\",VLOOKUP(Table24[[#This Row],[Affected CMS\n(§63.2386(d)(1)(ix))\n(Select from dropdown)]],Table22[],2,FALSE))","v":""}]
[null,{"$f":"IF(Table24[[#This Row],[Affected CMS\n(§63.2386(d)(1)(ix))\n(Select from dropdown)]]=\"\",\"\",VLOOKUP(Table24[[#This Row],[Affected CMS\n(§63.2386(d)(1)(ix))\n(Select from dropdown)]],Table22[],2,FALSE))","v":""}]
[null,{"$f":"IF(Table24[[#This Row],[Affected CMS\n(§63.2386(d)(1)(ix))\n(Select from dropdown)]]=\"\",\"\",VLOOKUP(Table24[[#This Row],[Affected CMS\n(§63.2386(d)(1)(ix))\n(Select from dropdown)]],Table22[],2,FALSE))","v":""}]
[null,{"$f":"IF(Table24[[#This Row],[Affected CMS\n(§63.2386(d)(1)(ix))\n(Select from dropdown)]]=\"\",\"\",VLOOKUP(Table24[[#This Row],[Affected CMS\n(§63.2386(d)(1)(ix))\n(Select from dropdown)]],Table22[],2,FALSE))","v":""}]
[null,{"$f":"IF(Table24[[#This Row],[Affected CMS\n(§63.2386(d)(1)(ix))\n(Select from dropdown)]]=\"\",\"\",VLOOKUP(Table24[[#This Row],[Affected CMS\n(§63.2386(d)(1)(ix))\n(Select from dropdown)]],Table22[],2,FALSE))","v":""}]
[null,{"$f":"IF(Table24[[#This Row],[Affected CMS\n(§63.2386(d)(1)(ix))\n(Select from dropdown)]]=\"\",\"\",VLOOKUP(Table24[[#This Row],[Affected CMS\n(§63.2386(d)(1)(ix))\n(Select from dropdown)]],Table22[],2,FALSE))","v":""}]
[null,{"$f":"IF(Table24[[#This Row],[Affected CMS\n(§63.2386(d)(1)(ix))\n(Select from dropdown)]]=\"\",\"\",VLOOKUP(Table24[[#This Row],[Affected CMS\n(§63.2386(d)(1)(ix))\n(Select from dropdown)]],Table22[],2,FALSE))","v":""}]
[null,{"$f":"IF(Table24[[#This Row],[Affected CMS\n(§63.2386(d)(1)(ix))\n(Select from dropdown)]]=\"\",\"\",VLOOKUP(Table24[[#This Row],[Affected CMS\n(§63.2386(d)(1)(ix))\n(Select from dropdown)]],Table22[],2,FALSE))","v":""}]
[null,{"$f":"IF(Table24[[#This Row],[Affected CMS\n(§63.2386(d)(1)(ix))\n(Select from dropdown)]]=\"\",\"\",VLOOKUP(Table24[[#This Row],[Affected CMS\n(§63.2386(d)(1)(ix))\n(Select from dropdown)]],Table22[],2,FALSE))","v":""}]
[null,{"$f":"IF(Table24[[#This Row],[Affected CMS\n(§63.2386(d)(1)(ix))\n(Select from dropdown)]]=\"\",\"\",VLOOKUP(Table24[[#This Row],[Affected CMS\n(§63.2386(d)(1)(ix))\n(Select from dropdown)]],Table22[],2,FALSE))","v":""}]
[null,{"$f":"IF(Table24[[#This Row],[Affected CMS\n(§63.2386(d)(1)(ix))\n(Select from dropdown)]]=\"\",\"\",VLOOKUP(Table24[[#This Row],[Affected CMS\n(§63.2386(d)(1)(ix))\n(Select from dropdown)]],Table22[],2,FALSE))","v":""}]
[null,{"$f":"IF(Table24[[#This Row],[Affected CMS\n(§63.2386(d)(1)(ix))\n(Select from dropdown)]]=\"\",\"\",VLOOKUP(Table24[[#This Row],[Affected CMS\n(§63.2386(d)(1)(ix))\n(Select from dropdown)]],Table22[],2,FALSE))","v":""}]
[null,{"$f":"IF(Table24[[#This Row],[Affected CMS\n(§63.2386(d)(1)(ix))\n(Select from dropdown)]]=\"\",\"\",VLOOKUP(Table24[[#This Row],[Affected CMS\n(§63.2386(d)(1)(ix))\n(Select from dropdown)]],Table22[],2,FALSE))","v":""}]
[null,{"$f":"IF(Table24[[#This Row],[Affected CMS\n(§63.2386(d)(1)(ix))\n(Select from dropdown)]]=\"\",\"\",VLOOKUP(Table24[[#This Row],[Affected CMS\n(§63.2386(d)(1)(ix))\n(Select from dropdown)]],Table22[],2,FALSE))","v":""}]
[null,{"$f":"IF(Table24[[#This Row],[Affected CMS\n(§63.2386(d)(1)(ix))\n(Select from dropdown)]]=\"\",\"\",VLOOKUP(Table24[[#This Row],[Affected CMS\n(§63.2386(d)(1)(ix))\n(Select from dropdown)]],Table22[],2,FALSE))","v":""}]
[null,{"$f":"IF(Table24[[#This Row],[Affected CMS\n(§63.2386(d)(1)(ix))\n(Select from dropdown)]]=\"\",\"\",VLOOKUP(Table24[[#This Row],[Affected CMS\n(§63.2386(d)(1)(ix))\n(Select from dropdown)]],Table22[],2,FALSE))","v":""}]
[null,{"$f":"IF(Table24[[#This Row],[Affected CMS\n(§63.2386(d)(1)(ix))\n(Select from dropdown)]]=\"\",\"\",VLOOKUP(Table24[[#This Row],[Affected CMS\n(§63.2386(d)(1)(ix))\n(Select from dropdown)]],Table22[],2,FALSE))","v":""}]
[null,{"$f":"IF(Table24[[#This Row],[Affected CMS\n(§63.2386(d)(1)(ix))\n(Select from dropdown)]]=\"\",\"\",VLOOKUP(Table24[[#This Row],[Affected CMS\n(§63.2386(d)(1)(ix))\n(Select from dropdown)]],Table22[],2,FALSE))","v":""}]
[null,{"$f":"IF(Table24[[#This Row],[Affected CMS\n(§63.2386(d)(1)(ix))\n(Select from dropdown)]]=\"\",\"\",VLOOKUP(Table24[[#This Row],[Affected CMS\n(§63.2386(d)(1)(ix))\n(Select from dropdown)]],Table22[],2,FALSE))","v":""}]
[null,{"$f":"IF(Table24[[#This Row],[Affected CMS\n(§63.2386(d)(1)(ix))\n(Select from dropdown)]]=\"\",\"\",VLOOKUP(Table24[[#This Row],[Affected CMS\n(§63.2386(d)(1)(ix))\n(Select from dropdown)]],Table22[],2,FALSE))","v":""}]
[null,{"$f":"IF(Table24[[#This Row],[Affected CMS\n(§63.2386(d)(1)(ix))\n(Select from dropdown)]]=\"\",\"\",VLOOKUP(Table24[[#This Row],[Affected CMS\n(§63.2386(d)(1)(ix))\n(Select from dropdown)]],Table22[],2,FALSE))","v":""}]
[null,{"$f":"IF(Table24[[#This Row],[Affected CMS\n(§63.2386(d)(1)(ix))\n(Select from dropdown)]]=\"\",\"\",VLOOKUP(Table24[[#This Row],[Affected CMS\n(§63.2386(d)(1)(ix))\n(Select from dropdown)]],Table22[],2,FALSE))","v":""}]
[null,{"$f":"IF(Table24[[#This Row],[Affected CMS\n(§63.2386(d)(1)(ix))\n(Select from dropdown)]]=\"\",\"\",VLOOKUP(Table24[[#This Row],[Affected CMS\n(§63.2386(d)(1)(ix))\n(Select from dropdown)]],Table22[],2,FALSE))","v":""}]
[null,{"$f":"IF(Table24[[#This Row],[Affected CMS\n(§63.2386(d)(1)(ix))\n(Select from dropdown)]]=\"\",\"\",VLOOKUP(Table24[[#This Row],[Affected CMS\n(§63.2386(d)(1)(ix))\n(Select from dropdown)]],Table22[],2,FALSE))","v":""}]
[null,{"$f":"IF(Table24[[#This Row],[Affected CMS\n(§63.2386(d)(1)(ix))\n(Select from dropdown)]]=\"\",\"\",VLOOKUP(Table24[[#This Row],[Affected CMS\n(§63.2386(d)(1)(ix))\n(Select from dropdown)]],Table22[],2,FALSE))","v":""}]
[null,{"$f":"IF(Table24[[#This Row],[Affected CMS\n(§63.2386(d)(1)(ix))\n(Select from dropdown)]]=\"\",\"\",VLOOKUP(Table24[[#This Row],[Affected CMS\n(§63.2386(d)(1)(ix))\n(Select from dropdown)]],Table22[],2,FALSE))","v":""}]
[null,{"$f":"IF(Table24[[#This Row],[Affected CMS\n(§63.2386(d)(1)(ix))\n(Select from dropdown)]]=\"\",\"\",VLOOKUP(Table24[[#This Row],[Affected CMS\n(§63.2386(d)(1)(ix))\n(Select from dropdown)]],Table22[],2,FALSE))","v":""}]
[null,{"$f":"IF(Table24[[#This Row],[Affected CMS\n(§63.2386(d)(1)(ix))\n(Select from dropdown)]]=\"\",\"\",VLOOKUP(Table24[[#This Row],[Affected CMS\n(§63.2386(d)(1)(ix))\n(Select from dropdown)]],Table22[],2,FALSE))","v":""}]
[null,{"$f":"IF(Table24[[#This Row],[Affected CMS\n(§63.2386(d)(1)(ix))\n(Select from dropdown)]]=\"\",\"\",VLOOKUP(Table24[[#This Row],[Affected CMS\n(§63.2386(d)(1)(ix))\n(Select from dropdown)]],Table22[],2,FALSE))","v":""}]
[null,{"$f":"IF(Table24[[#This Row],[Affected CMS\n(§63.2386(d)(1)(ix))\n(Select from dropdown)]]=\"\",\"\",VLOOKUP(Table24[[#This Row],[Affected CMS\n(§63.2386(d)(1)(ix))\n(Select from dropdown)]],Table22[],2,FALSE))","v":""}]
[null,{"$f":"IF(Table24[[#This Row],[Affected CMS\n(§63.2386(d)(1)(ix))\n(Select from dropdown)]]=\"\",\"\",VLOOKUP(Table24[[#This Row],[Affected CMS\n(§63.2386(d)(1)(ix))\n(Select from dropdown)]],Table22[],2,FALSE))","v":""}]
[null,{"$f":"IF(Table24[[#This Row],[Affected CMS\n(§63.2386(d)(1)(ix))\n(Select from dropdown)]]=\"\",\"\",VLOOKUP(Table24[[#This Row],[Affected CMS\n(§63.2386(d)(1)(ix))\n(Select from dropdown)]],Table22[],2,FALSE))","v":""}]
[null,{"$f":"IF(Table24[[#This Row],[Affected CMS\n(§63.2386(d)(1)(ix))\n(Select from dropdown)]]=\"\",\"\",VLOOKUP(Table24[[#This Row],[Affected CMS\n(§63.2386(d)(1)(ix))\n(Select from dropdown)]],Table22[],2,FALSE))","v":""}]
[null,{"$f":"IF(Table24[[#This Row],[Affected CMS\n(§63.2386(d)(1)(ix))\n(Select from dropdown)]]=\"\",\"\",VLOOKUP(Table24[[#This Row],[Affected CMS\n(§63.2386(d)(1)(ix))\n(Select from dropdown)]],Table22[],2,FALSE))","v":""}]
[null,{"$f":"IF(Table24[[#This Row],[Affected CMS\n(§63.2386(d)(1)(ix))\n(Select from dropdown)]]=\"\",\"\",VLOOKUP(Table24[[#This Row],[Affected CMS\n(§63.2386(d)(1)(ix))\n(Select from dropdown)]],Table22[],2,FALSE))","v":""}]
[null,{"$f":"IF(Table24[[#This Row],[Affected CMS\n(§63.2386(d)(1)(ix))\n(Select from dropdown)]]=\"\",\"\",VLOOKUP(Table24[[#This Row],[Affected CMS\n(§63.2386(d)(1)(ix))\n(Select from dropdown)]],Table22[],2,FALSE))","v":""}]
[null,{"$f":"IF(Table24[[#This Row],[Affected CMS\n(§63.2386(d)(1)(ix))\n(Select from dropdown)]]=\"\",\"\",VLOOKUP(Table24[[#This Row],[Affected CMS\n(§63.2386(d)(1)(ix))\n(Select from dropdown)]],Table22[],2,FALSE))","v":""}]
[null,{"$f":"IF(Table24[[#This Row],[Affected CMS\n(§63.2386(d)(1)(ix))\n(Select from dropdown)]]=\"\",\"\",VLOOKUP(Table24[[#This Row],[Affected CMS\n(§63.2386(d)(1)(ix))\n(Select from dropdown)]],Table22[],2,FALSE))","v":""}]
[null,{"$f":"IF(Table24[[#This Row],[Affected CMS\n(§63.2386(d)(1)(ix))\n(Select from dropdown)]]=\"\",\"\",VLOOKUP(Table24[[#This Row],[Affected CMS\n(§63.2386(d)(1)(ix))\n(Select from dropdown)]],Table22[],2,FALSE))","v":""}]
[null,{"$f":"IF(Table24[[#This Row],[Affected CMS\n(§63.2386(d)(1)(ix))\n(Select from dropdown)]]=\"\",\"\",VLOOKUP(Table24[[#This Row],[Affected CMS\n(§63.2386(d)(1)(ix))\n(Select from dropdown)]],Table22[],2,FALSE))","v":""}]
[null,{"$f":"IF(Table24[[#This Row],[Affected CMS\n(§63.2386(d)(1)(ix))\n(Select from dropdown)]]=\"\",\"\",VLOOKUP(Table24[[#This Row],[Affected CMS\n(§63.2386(d)(1)(ix))\n(Select from dropdown)]],Table22[],2,FALSE))","v":""}]
[null,{"$f":"IF(Table24[[#This Row],[Affected CMS\n(§63.2386(d)(1)(ix))\n(Select from dropdown)]]=\"\",\"\",VLOOKUP(Table24[[#This Row],[Affected CMS\n(§63.2386(d)(1)(ix))\n(Select from dropdown)]],Table22[],2,FALSE))","v":""}]
[null,{"$f":"IF(Table24[[#This Row],[Affected CMS\n(§63.2386(d)(1)(ix))\n(Select from dropdown)]]=\"\",\"\",VLOOKUP(Table24[[#This Row],[Affected CMS\n(§63.2386(d)(1)(ix))\n(Select from dropdown)]],Table22[],2,FALSE))","v":""}]
[null,{"$f":"IF(Table24[[#This Row],[Affected CMS\n(§63.2386(d)(1)(ix))\n(Select from dropdown)]]=\"\",\"\",VLOOKUP(Table24[[#This Row],[Affected CMS\n(§63.2386(d)(1)(ix))\n(Select from dropdown)]],Table22[],2,FALSE))","v":""}]
[null,{"$f":"IF(Table24[[#This Row],[Affected CMS\n(§63.2386(d)(1)(ix))\n(Select from dropdown)]]=\"\",\"\",VLOOKUP(Table24[[#This Row],[Affected CMS\n(§63.2386(d)(1)(ix))\n(Select from dropdown)]],Table22[],2,FALSE))","v":""}]
[null,{"$f":"IF(Table24[[#This Row],[Affected CMS\n(§63.2386(d)(1)(ix))\n(Select from dropdown)]]=\"\",\"\",VLOOKUP(Table24[[#This Row],[Affected CMS\n(§63.2386(d)(1)(ix))\n(Select from dropdown)]],Table22[],2,FALSE))","v":""}]
[null,{"$f":"IF(Table24[[#This Row],[Affected CMS\n(§63.2386(d)(1)(ix))\n(Select from dropdown)]]=\"\",\"\",VLOOKUP(Table24[[#This Row],[Affected CMS\n(§63.2386(d)(1)(ix))\n(Select from dropdown)]],Table22[],2,FALSE))","v":""}]
[null,{"$f":"IF(Table24[[#This Row],[Affected CMS\n(§63.2386(d)(1)(ix))\n(Select from dropdown)]]=\"\",\"\",VLOOKUP(Table24[[#This Row],[Affected CMS\n(§63.2386(d)(1)(ix))\n(Select from dropdown)]],Table22[],2,FALSE))","v":""}]
[null,{"$f":"IF(Table24[[#This Row],[Affected CMS\n(§63.2386(d)(1)(ix))\n(Select from dropdown)]]=\"\",\"\",VLOOKUP(Table24[[#This Row],[Affected CMS\n(§63.2386(d)(1)(ix))\n(Select from dropdown)]],Table22[],2,FALSE))","v":""}]
[null,{"$f":"IF(Table24[[#This Row],[Affected CMS\n(§63.2386(d)(1)(ix))\n(Select from dropdown)]]=\"\",\"\",VLOOKUP(Table24[[#This Row],[Affected CMS\n(§63.2386(d)(1)(ix))\n(Select from dropdown)]],Table22[],2,FALSE))","v":""}]
[null,{"$f":"IF(Table24[[#This Row],[Affected CMS\n(§63.2386(d)(1)(ix))\n(Select from dropdown)]]=\"\",\"\",VLOOKUP(Table24[[#This Row],[Affected CMS\n(§63.2386(d)(1)(ix))\n(Select from dropdown)]],Table22[],2,FALSE))","v":""}]
[null,{"$f":"IF(Table24[[#This Row],[Affected CMS\n(§63.2386(d)(1)(ix))\n(Select from dropdown)]]=\"\",\"\",VLOOKUP(Table24[[#This Row],[Affected CMS\n(§63.2386(d)(1)(ix))\n(Select from dropdown)]],Table22[],2,FALSE))","v":""}]
[null,{"$f":"IF(Table24[[#This Row],[Affected CMS\n(§63.2386(d)(1)(ix))\n(Select from dropdown)]]=\"\",\"\",VLOOKUP(Table24[[#This Row],[Affected CMS\n(§63.2386(d)(1)(ix))\n(Select from dropdown)]],Table22[],2,FALSE))","v":""}]
[null,{"$f":"IF(Table24[[#This Row],[Affected CMS\n(§63.2386(d)(1)(ix))\n(Select from dropdown)]]=\"\",\"\",VLOOKUP(Table24[[#This Row],[Affected CMS\n(§63.2386(d)(1)(ix))\n(Select from dropdown)]],Table22[],2,FALSE))","v":""}]
[null,{"$f":"IF(Table24[[#This Row],[Affected CMS\n(§63.2386(d)(1)(ix))\n(Select from dropdown)]]=\"\",\"\",VLOOKUP(Table24[[#This Row],[Affected CMS\n(§63.2386(d)(1)(ix))\n(Select from dropdown)]],Table22[],2,FALSE))","v":""}]
[null,{"$f":"IF(Table24[[#This Row],[Affected CMS\n(§63.2386(d)(1)(ix))\n(Select from dropdown)]]=\"\",\"\",VLOOKUP(Table24[[#This Row],[Affected CMS\n(§63.2386(d)(1)(ix))\n(Select from dropdown)]],Table22[],2,FALSE))","v":""}]
[null,{"$f":"IF(Table24[[#This Row],[Affected CMS\n(§63.2386(d)(1)(ix))\n(Select from dropdown)]]=\"\",\"\",VLOOKUP(Table24[[#This Row],[Affected CMS\n(§63.2386(d)(1)(ix))\n(Select from dropdown)]],Table22[],2,FALSE))","v":""}]
[null,{"$f":"IF(Table24[[#This Row],[Affected CMS\n(§63.2386(d)(1)(ix))\n(Select from dropdown)]]=\"\",\"\",VLOOKUP(Table24[[#This Row],[Affected CMS\n(§63.2386(d)(1)(ix))\n(Select from dropdown)]],Table22[],2,FALSE))","v":""}]
[null,{"$f":"IF(Table24[[#This Row],[Affected CMS\n(§63.2386(d)(1)(ix))\n(Select from dropdown)]]=\"\",\"\",VLOOKUP(Table24[[#This Row],[Affected CMS\n(§63.2386(d)(1)(ix))\n(Select from dropdown)]],Table22[],2,FALSE))","v":""}]
[null,{"$f":"IF(Table24[[#This Row],[Affected CMS\n(§63.2386(d)(1)(ix))\n(Select from dropdown)]]=\"\",\"\",VLOOKUP(Table24[[#This Row],[Affected CMS\n(§63.2386(d)(1)(ix))\n(Select from dropdown)]],Table22[],2,FALSE))","v":""}]
[null,{"$f":"IF(Table24[[#This Row],[Affected CMS\n(§63.2386(d)(1)(ix))\n(Select from dropdown)]]=\"\",\"\",VLOOKUP(Table24[[#This Row],[Affected CMS\n(§63.2386(d)(1)(ix))\n(Select from dropdown)]],Table22[],2,FALSE))","v":""}]
[null,{"$f":"IF(Table24[[#This Row],[Affected CMS\n(§63.2386(d)(1)(ix))\n(Select from dropdown)]]=\"\",\"\",VLOOKUP(Table24[[#This Row],[Affected CMS\n(§63.2386(d)(1)(ix))\n(Select from dropdown)]],Table22[],2,FALSE))","v":""}]
[null,{"$f":"IF(Table24[[#This Row],[Affected CMS\n(§63.2386(d)(1)(ix))\n(Select from dropdown)]]=\"\",\"\",VLOOKUP(Table24[[#This Row],[Affected CMS\n(§63.2386(d)(1)(ix))\n(Select from dropdown)]],Table22[],2,FALSE))","v":""}]
[null,{"$f":"IF(Table24[[#This Row],[Affected CMS\n(§63.2386(d)(1)(ix))\n(Select from dropdown)]]=\"\",\"\",VLOOKUP(Table24[[#This Row],[Affected CMS\n(§63.2386(d)(1)(ix))\n(Select from dropdown)]],Table22[],2,FALSE))","v":""}]
[null,{"$f":"IF(Table24[[#This Row],[Affected CMS\n(§63.2386(d)(1)(ix))\n(Select from dropdown)]]=\"\",\"\",VLOOKUP(Table24[[#This Row],[Affected CMS\n(§63.2386(d)(1)(ix))\n(Select from dropdown)]],Table22[],2,FALSE))","v":""}]
[null,{"$f":"IF(Table24[[#This Row],[Affected CMS\n(§63.2386(d)(1)(ix))\n(Select from dropdown)]]=\"\",\"\",VLOOKUP(Table24[[#This Row],[Affected CMS\n(§63.2386(d)(1)(ix))\n(Select from dropdown)]],Table22[],2,FALSE))","v":""}]
[null,{"$f":"IF(Table24[[#This Row],[Affected CMS\n(§63.2386(d)(1)(ix))\n(Select from dropdown)]]=\"\",\"\",VLOOKUP(Table24[[#This Row],[Affected CMS\n(§63.2386(d)(1)(ix))\n(Select from dropdown)]],Table22[],2,FALSE))","v":""}]
[null,{"$f":"IF(Table24[[#This Row],[Affected CMS\n(§63.2386(d)(1)(ix))\n(Select from dropdown)]]=\"\",\"\",VLOOKUP(Table24[[#This Row],[Affected CMS\n(§63.2386(d)(1)(ix))\n(Select from dropdown)]],Table22[],2,FALSE))","v":""}]
[null,{"$f":"IF(Table24[[#This Row],[Affected CMS\n(§63.2386(d)(1)(ix))\n(Select from dropdown)]]=\"\",\"\",VLOOKUP(Table24[[#This Row],[Affected CMS\n(§63.2386(d)(1)(ix))\n(Select from dropdown)]],Table22[],2,FALSE))","v":""}]
[null,{"$f":"IF(Table24[[#This Row],[Affected CMS\n(§63.2386(d)(1)(ix))\n(Select from dropdown)]]=\"\",\"\",VLOOKUP(Table24[[#This Row],[Affected CMS\n(§63.2386(d)(1)(ix))\n(Select from dropdown)]],Table22[],2,FALSE))","v":""}]
[null,{"$f":"IF(Table24[[#This Row],[Affected CMS\n(§63.2386(d)(1)(ix))\n(Select from dropdown)]]=\"\",\"\",VLOOKUP(Table24[[#This Row],[Affected CMS\n(§63.2386(d)(1)(ix))\n(Select from dropdown)]],Table22[],2,FALSE))","v":""}]
[null,{"$f":"IF(Table24[[#This Row],[Affected CMS\n(§63.2386(d)(1)(ix))\n(Select from dropdown)]]=\"\",\"\",VLOOKUP(Table24[[#This Row],[Affected CMS\n(§63.2386(d)(1)(ix))\n(Select from dropdown)]],Table22[],2,FALSE))","v":""}]
[null,{"$f":"IF(Table24[[#This Row],[Affected CMS\n(§63.2386(d)(1)(ix))\n(Select from dropdown)]]=\"\",\"\",VLOOKUP(Table24[[#This Row],[Affected CMS\n(§63.2386(d)(1)(ix))\n(Select from dropdown)]],Table22[],2,FALSE))","v":""}]
[null,{"$f":"IF(Table24[[#This Row],[Affected CMS\n(§63.2386(d)(1)(ix))\n(Select from dropdown)]]=\"\",\"\",VLOOKUP(Table24[[#This Row],[Affected CMS\n(§63.2386(d)(1)(ix))\n(Select from dropdown)]],Table22[],2,FALSE))","v":""}]
[null,{"$f":"IF(Table24[[#This Row],[Affected CMS\n(§63.2386(d)(1)(ix))\n(Select from dropdown)]]=\"\",\"\",VLOOKUP(Table24[[#This Row],[Affected CMS\n(§63.2386(d)(1)(ix))\n(Select from dropdown)]],Table22[],2,FALSE))","v":""}]
[null,{"$f":"IF(Table24[[#This Row],[Affected CMS\n(§63.2386(d)(1)(ix))\n(Select from dropdown)]]=\"\",\"\",VLOOKUP(Table24[[#This Row],[Affected CMS\n(§63.2386(d)(1)(ix))\n(Select from dropdown)]],Table22[],2,FALSE))","v":""}]
[null,{"$f":"IF(Table24[[#This Row],[Affected CMS\n(§63.2386(d)(1)(ix))\n(Select from dropdown)]]=\"\",\"\",VLOOKUP(Table24[[#This Row],[Affected CMS\n(§63.2386(d)(1)(ix))\n(Select from dropdown)]],Table22[],2,FALSE))","v":""}]
[null,{"$f":"IF(Table24[[#This Row],[Affected CMS\n(§63.2386(d)(1)(ix))\n(Select from dropdown)]]=\"\",\"\",VLOOKUP(Table24[[#This Row],[Affected CMS\n(§63.2386(d)(1)(ix))\n(Select from dropdown)]],Table22[],2,FALSE))","v":""}]
[null,{"$f":"IF(Table24[[#This Row],[Affected CMS\n(§63.2386(d)(1)(ix))\n(Select from dropdown)]]=\"\",\"\",VLOOKUP(Table24[[#This Row],[Affected CMS\n(§63.2386(d)(1)(ix))\n(Select from dropdown)]],Table22[],2,FALSE))","v":""}]
[null,{"$f":"IF(Table24[[#This Row],[Affected CMS\n(§63.2386(d)(1)(ix))\n(Select from dropdown)]]=\"\",\"\",VLOOKUP(Table24[[#This Row],[Affected CMS\n(§63.2386(d)(1)(ix))\n(Select from dropdown)]],Table22[],2,FALSE))","v":""}]
[null,{"$f":"IF(Table24[[#This Row],[Affected CMS\n(§63.2386(d)(1)(ix))\n(Select from dropdown)]]=\"\",\"\",VLOOKUP(Table24[[#This Row],[Affected CMS\n(§63.2386(d)(1)(ix))\n(Select from dropdown)]],Table22[],2,FALSE))","v":""}]
[null,{"$f":"IF(Table24[[#This Row],[Affected CMS\n(§63.2386(d)(1)(ix))\n(Select from dropdown)]]=\"\",\"\",VLOOKUP(Table24[[#This Row],[Affected CMS\n(§63.2386(d)(1)(ix))\n(Select from dropdown)]],Table22[],2,FALSE))","v":""}]
[null,{"$f":"IF(Table24[[#This Row],[Affected CMS\n(§63.2386(d)(1)(ix))\n(Select from dropdown)]]=\"\",\"\",VLOOKUP(Table24[[#This Row],[Affected CMS\n(§63.2386(d)(1)(ix))\n(Select from dropdown)]],Table22[],2,FALSE))","v":""}]
[null,{"$f":"IF(Table24[[#This Row],[Affected CMS\n(§63.2386(d)(1)(ix))\n(Select from dropdown)]]=\"\",\"\",VLOOKUP(Table24[[#This Row],[Affected CMS\n(§63.2386(d)(1)(ix))\n(Select from dropdown)]],Table22[],2,FALSE))","v":""}]
[null,{"$f":"IF(Table24[[#This Row],[Affected CMS\n(§63.2386(d)(1)(ix))\n(Select from dropdown)]]=\"\",\"\",VLOOKUP(Table24[[#This Row],[Affected CMS\n(§63.2386(d)(1)(ix))\n(Select from dropdown)]],Table22[],2,FALSE))","v":""}]
[null,{"$f":"IF(Table24[[#This Row],[Affected CMS\n(§63.2386(d)(1)(ix))\n(Select from dropdown)]]=\"\",\"\",VLOOKUP(Table24[[#This Row],[Affected CMS\n(§63.2386(d)(1)(ix))\n(Select from dropdown)]],Table22[],2,FALSE))","v":""}]
[null,{"$f":"IF(Table24[[#This Row],[Affected CMS\n(§63.2386(d)(1)(ix))\n(Select from dropdown)]]=\"\",\"\",VLOOKUP(Table24[[#This Row],[Affected CMS\n(§63.2386(d)(1)(ix))\n(Select from dropdown)]],Table22[],2,FALSE))","v":""}]
[null,{"$f":"IF(Table24[[#This Row],[Affected CMS\n(§63.2386(d)(1)(ix))\n(Select from dropdown)]]=\"\",\"\",VLOOKUP(Table24[[#This Row],[Affected CMS\n(§63.2386(d)(1)(ix))\n(Select from dropdown)]],Table22[],2,FALSE))","v":""}]
[null,{"$f":"IF(Table24[[#This Row],[Affected CMS\n(§63.2386(d)(1)(ix))\n(Select from dropdown)]]=\"\",\"\",VLOOKUP(Table24[[#This Row],[Affected CMS\n(§63.2386(d)(1)(ix))\n(Select from dropdown)]],Table22[],2,FALSE))","v":""}]
[null,{"$f":"IF(Table24[[#This Row],[Affected CMS\n(§63.2386(d)(1)(ix))\n(Select from dropdown)]]=\"\",\"\",VLOOKUP(Table24[[#This Row],[Affected CMS\n(§63.2386(d)(1)(ix))\n(Select from dropdown)]],Table22[],2,FALSE))","v":""}]
[null,{"$f":"IF(Table24[[#This Row],[Affected CMS\n(§63.2386(d)(1)(ix))\n(Select from dropdown)]]=\"\",\"\",VLOOKUP(Table24[[#This Row],[Affected CMS\n(§63.2386(d)(1)(ix))\n(Select from dropdown)]],Table22[],2,FALSE))","v":""}]
[null,{"$f":"IF(Table24[[#This Row],[Affected CMS\n(§63.2386(d)(1)(ix))\n(Select from dropdown)]]=\"\",\"\",VLOOKUP(Table24[[#This Row],[Affected CMS\n(§63.2386(d)(1)(ix))\n(Select from dropdown)]],Table22[],2,FALSE))","v":""}]
[null,{"$f":"IF(Table24[[#This Row],[Affected CMS\n(§63.2386(d)(1)(ix))\n(Select from dropdown)]]=\"\",\"\",VLOOKUP(Table24[[#This Row],[Affected CMS\n(§63.2386(d)(1)(ix))\n(Select from dropdown)]],Table22[],2,FALSE))","v":""}]
[null,{"$f":"IF(Table24[[#This Row],[Affected CMS\n(§63.2386(d)(1)(ix))\n(Select from dropdown)]]=\"\",\"\",VLOOKUP(Table24[[#This Row],[Affected CMS\n(§63.2386(d)(1)(ix))\n(Select from dropdown)]],Table22[],2,FALSE))","v":""}]
[null,{"$f":"IF(Table24[[#This Row],[Affected CMS\n(§63.2386(d)(1)(ix))\n(Select from dropdown)]]=\"\",\"\",VLOOKUP(Table24[[#This Row],[Affected CMS\n(§63.2386(d)(1)(ix))\n(Select from dropdown)]],Table22[],2,FALSE))","v":""}]
[null,{"$f":"IF(Table24[[#This Row],[Affected CMS\n(§63.2386(d)(1)(ix))\n(Select from dropdown)]]=\"\",\"\",VLOOKUP(Table24[[#This Row],[Affected CMS\n(§63.2386(d)(1)(ix))\n(Select from dropdown)]],Table22[],2,FALSE))","v":""}]
[null,{"$f":"IF(Table24[[#This Row],[Affected CMS\n(§63.2386(d)(1)(ix))\n(Select from dropdown)]]=\"\",\"\",VLOOKUP(Table24[[#This Row],[Affected CMS\n(§63.2386(d)(1)(ix))\n(Select from dropdown)]],Table22[],2,FALSE))","v":""}]
[null,{"$f":"IF(Table24[[#This Row],[Affected CMS\n(§63.2386(d)(1)(ix))\n(Select from dropdown)]]=\"\",\"\",VLOOKUP(Table24[[#This Row],[Affected CMS\n(§63.2386(d)(1)(ix))\n(Select from dropdown)]],Table22[],2,FALSE))","v":""}]
[null,{"$f":"IF(Table24[[#This Row],[Affected CMS\n(§63.2386(d)(1)(ix))\n(Select from dropdown)]]=\"\",\"\",VLOOKUP(Table24[[#This Row],[Affected CMS\n(§63.2386(d)(1)(ix))\n(Select from dropdown)]],Table22[],2,FALSE))","v":""}]
[null,{"$f":"IF(Table24[[#This Row],[Affected CMS\n(§63.2386(d)(1)(ix))\n(Select from dropdown)]]=\"\",\"\",VLOOKUP(Table24[[#This Row],[Affected CMS\n(§63.2386(d)(1)(ix))\n(Select from dropdown)]],Table22[],2,FALSE))","v":""}]
[null,{"$f":"IF(Table24[[#This Row],[Affected CMS\n(§63.2386(d)(1)(ix))\n(Select from dropdown)]]=\"\",\"\",VLOOKUP(Table24[[#This Row],[Affected CMS\n(§63.2386(d)(1)(ix))\n(Select from dropdown)]],Table22[],2,FALSE))","v":""}]
[null,{"$f":"IF(Table24[[#This Row],[Affected CMS\n(§63.2386(d)(1)(ix))\n(Select from dropdown)]]=\"\",\"\",VLOOKUP(Table24[[#This Row],[Affected CMS\n(§63.2386(d)(1)(ix))\n(Select from dropdown)]],Table22[],2,FALSE))","v":""}]
[null,{"$f":"IF(Table24[[#This Row],[Affected CMS\n(§63.2386(d)(1)(ix))\n(Select from dropdown)]]=\"\",\"\",VLOOKUP(Table24[[#This Row],[Affected CMS\n(§63.2386(d)(1)(ix))\n(Select from dropdown)]],Table22[],2,FALSE))","v":""}]
[null,{"$f":"IF(Table24[[#This Row],[Affected CMS\n(§63.2386(d)(1)(ix))\n(Select from dropdown)]]=\"\",\"\",VLOOKUP(Table24[[#This Row],[Affected CMS\n(§63.2386(d)(1)(ix))\n(Select from dropdown)]],Table22[],2,FALSE))","v":""}]
[null,{"$f":"IF(Table24[[#This Row],[Affected CMS\n(§63.2386(d)(1)(ix))\n(Select from dropdown)]]=\"\",\"\",VLOOKUP(Table24[[#This Row],[Affected CMS\n(§63.2386(d)(1)(ix))\n(Select from dropdown)]],Table22[],2,FALSE))","v":""}]
[null,{"$f":"IF(Table24[[#This Row],[Affected CMS\n(§63.2386(d)(1)(ix))\n(Select from dropdown)]]=\"\",\"\",VLOOKUP(Table24[[#This Row],[Affected CMS\n(§63.2386(d)(1)(ix))\n(Select from dropdown)]],Table22[],2,FALSE))","v":""}]
[null,{"$f":"IF(Table24[[#This Row],[Affected CMS\n(§63.2386(d)(1)(ix))\n(Select from dropdown)]]=\"\",\"\",VLOOKUP(Table24[[#This Row],[Affected CMS\n(§63.2386(d)(1)(ix))\n(Select from dropdown)]],Table22[],2,FALSE))","v":""}]
[null,{"$f":"IF(Table24[[#This Row],[Affected CMS\n(§63.2386(d)(1)(ix))\n(Select from dropdown)]]=\"\",\"\",VLOOKUP(Table24[[#This Row],[Affected CMS\n(§63.2386(d)(1)(ix))\n(Select from dropdown)]],Table22[],2,FALSE))","v":""}]
[null,{"$f":"IF(Table24[[#This Row],[Affected CMS\n(§63.2386(d)(1)(ix))\n(Select from dropdown)]]=\"\",\"\",VLOOKUP(Table24[[#This Row],[Affected CMS\n(§63.2386(d)(1)(ix))\n(Select from dropdown)]],Table22[],2,FALSE))","v":""}]
[null,{"$f":"IF(Table24[[#This Row],[Affected CMS\n(§63.2386(d)(1)(ix))\n(Select from dropdown)]]=\"\",\"\",VLOOKUP(Table24[[#This Row],[Affected CMS\n(§63.2386(d)(1)(ix))\n(Select from dropdown)]],Table22[],2,FALSE))","v":""}]
[null,{"$f":"IF(Table24[[#This Row],[Affected CMS\n(§63.2386(d)(1)(ix))\n(Select from dropdown)]]=\"\",\"\",VLOOKUP(Table24[[#This Row],[Affected CMS\n(§63.2386(d)(1)(ix))\n(Select from dropdown)]],Table22[],2,FALSE))","v":""}]
[null,{"$f":"IF(Table24[[#This Row],[Affected CMS\n(§63.2386(d)(1)(ix))\n(Select from dropdown)]]=\"\",\"\",VLOOKUP(Table24[[#This Row],[Affected CMS\n(§63.2386(d)(1)(ix))\n(Select from dropdown)]],Table22[],2,FALSE))","v":""}]
[null,{"$f":"IF(Table24[[#This Row],[Affected CMS\n(§63.2386(d)(1)(ix))\n(Select from dropdown)]]=\"\",\"\",VLOOKUP(Table24[[#This Row],[Affected CMS\n(§63.2386(d)(1)(ix))\n(Select from dropdown)]],Table22[],2,FALSE))","v":""}]
[null,{"$f":"IF(Table24[[#This Row],[Affected CMS\n(§63.2386(d)(1)(ix))\n(Select from dropdown)]]=\"\",\"\",VLOOKUP(Table24[[#This Row],[Affected CMS\n(§63.2386(d)(1)(ix))\n(Select from dropdown)]],Table22[],2,FALSE))","v":""}]
[null,{"$f":"IF(Table24[[#This Row],[Affected CMS\n(§63.2386(d)(1)(ix))\n(Select from dropdown)]]=\"\",\"\",VLOOKUP(Table24[[#This Row],[Affected CMS\n(§63.2386(d)(1)(ix))\n(Select from dropdown)]],Table22[],2,FALSE))","v":""}]
[null,{"$f":"IF(Table24[[#This Row],[Affected CMS\n(§63.2386(d)(1)(ix))\n(Select from dropdown)]]=\"\",\"\",VLOOKUP(Table24[[#This Row],[Affected CMS\n(§63.2386(d)(1)(ix))\n(Select from dropdown)]],Table22[],2,FALSE))","v":""}]
[null,{"$f":"IF(Table24[[#This Row],[Affected CMS\n(§63.2386(d)(1)(ix))\n(Select from dropdown)]]=\"\",\"\",VLOOKUP(Table24[[#This Row],[Affected CMS\n(§63.2386(d)(1)(ix))\n(Select from dropdown)]],Table22[],2,FALSE))","v":""}]
[null,{"$f":"IF(Table24[[#This Row],[Affected CMS\n(§63.2386(d)(1)(ix))\n(Select from dropdown)]]=\"\",\"\",VLOOKUP(Table24[[#This Row],[Affected CMS\n(§63.2386(d)(1)(ix))\n(Select from dropdown)]],Table22[],2,FALSE))","v":""}]
[null,{"$f":"IF(Table24[[#This Row],[Affected CMS\n(§63.2386(d)(1)(ix))\n(Select from dropdown)]]=\"\",\"\",VLOOKUP(Table24[[#This Row],[Affected CMS\n(§63.2386(d)(1)(ix))\n(Select from dropdown)]],Table22[],2,FALSE))","v":""}]
[null,{"$f":"IF(Table24[[#This Row],[Affected CMS\n(§63.2386(d)(1)(ix))\n(Select from dropdown)]]=\"\",\"\",VLOOKUP(Table24[[#This Row],[Affected CMS\n(§63.2386(d)(1)(ix))\n(Select from dropdown)]],Table22[],2,FALSE))","v":""}]
[null,{"$f":"IF(Table24[[#This Row],[Affected CMS\n(§63.2386(d)(1)(ix))\n(Select from dropdown)]]=\"\",\"\",VLOOKUP(Table24[[#This Row],[Affected CMS\n(§63.2386(d)(1)(ix))\n(Select from dropdown)]],Table22[],2,FALSE))","v":""}]
[null,{"$f":"IF(Table24[[#This Row],[Affected CMS\n(§63.2386(d)(1)(ix))\n(Select from dropdown)]]=\"\",\"\",VLOOKUP(Table24[[#This Row],[Affected CMS\n(§63.2386(d)(1)(ix))\n(Select from dropdown)]],Table22[],2,FALSE))","v":""}]
[null,{"$f":"IF(Table24[[#This Row],[Affected CMS\n(§63.2386(d)(1)(ix))\n(Select from dropdown)]]=\"\",\"\",VLOOKUP(Table24[[#This Row],[Affected CMS\n(§63.2386(d)(1)(ix))\n(Select from dropdown)]],Table22[],2,FALSE))","v":""}]
[null,{"$f":"IF(Table24[[#This Row],[Affected CMS\n(§63.2386(d)(1)(ix))\n(Select from dropdown)]]=\"\",\"\",VLOOKUP(Table24[[#This Row],[Affected CMS\n(§63.2386(d)(1)(ix))\n(Select from dropdown)]],Table22[],2,FALSE))","v":""}]
[null,{"$f":"IF(Table24[[#This Row],[Affected CMS\n(§63.2386(d)(1)(ix))\n(Select from dropdown)]]=\"\",\"\",VLOOKUP(Table24[[#This Row],[Affected CMS\n(§63.2386(d)(1)(ix))\n(Select from dropdown)]],Table22[],2,FALSE))","v":""}]
[null,{"$f":"IF(Table24[[#This Row],[Affected CMS\n(§63.2386(d)(1)(ix))\n(Select from dropdown)]]=\"\",\"\",VLOOKUP(Table24[[#This Row],[Affected CMS\n(§63.2386(d)(1)(ix))\n(Select from dropdown)]],Table22[],2,FALSE))","v":""}]
[null,{"$f":"IF(Table24[[#This Row],[Affected CMS\n(§63.2386(d)(1)(ix))\n(Select from dropdown)]]=\"\",\"\",VLOOKUP(Table24[[#This Row],[Affected CMS\n(§63.2386(d)(1)(ix))\n(Select from dropdown)]],Table22[],2,FALSE))","v":""}]
[null,{"$f":"IF(Table24[[#This Row],[Affected CMS\n(§63.2386(d)(1)(ix))\n(Select from dropdown)]]=\"\",\"\",VLOOKUP(Table24[[#This Row],[Affected CMS\n(§63.2386(d)(1)(ix))\n(Select from dropdown)]],Table22[],2,FALSE))","v":""}]
[null,{"$f":"IF(Table24[[#This Row],[Affected CMS\n(§63.2386(d)(1)(ix))\n(Select from dropdown)]]=\"\",\"\",VLOOKUP(Table24[[#This Row],[Affected CMS\n(§63.2386(d)(1)(ix))\n(Select from dropdown)]],Table22[],2,FALSE))","v":""}]
[null,{"$f":"IF(Table24[[#This Row],[Affected CMS\n(§63.2386(d)(1)(ix))\n(Select from dropdown)]]=\"\",\"\",VLOOKUP(Table24[[#This Row],[Affected CMS\n(§63.2386(d)(1)(ix))\n(Select from dropdown)]],Table22[],2,FALSE))","v":""}]
[null,{"$f":"IF(Table24[[#This Row],[Affected CMS\n(§63.2386(d)(1)(ix))\n(Select from dropdown)]]=\"\",\"\",VLOOKUP(Table24[[#This Row],[Affected CMS\n(§63.2386(d)(1)(ix))\n(Select from dropdown)]],Table22[],2,FALSE))","v":""}]
[null,{"$f":"IF(Table24[[#This Row],[Affected CMS\n(§63.2386(d)(1)(ix))\n(Select from dropdown)]]=\"\",\"\",VLOOKUP(Table24[[#This Row],[Affected CMS\n(§63.2386(d)(1)(ix))\n(Select from dropdown)]],Table22[],2,FALSE))","v":""}]
[null,{"$f":"IF(Table24[[#This Row],[Affected CMS\n(§63.2386(d)(1)(ix))\n(Select from dropdown)]]=\"\",\"\",VLOOKUP(Table24[[#This Row],[Affected CMS\n(§63.2386(d)(1)(ix))\n(Select from dropdown)]],Table22[],2,FALSE))","v":""}]
[null,{"$f":"IF(Table24[[#This Row],[Affected CMS\n(§63.2386(d)(1)(ix))\n(Select from dropdown)]]=\"\",\"\",VLOOKUP(Table24[[#This Row],[Affected CMS\n(§63.2386(d)(1)(ix))\n(Select from dropdown)]],Table22[],2,FALSE))","v":""}]
[null,{"$f":"IF(Table24[[#This Row],[Affected CMS\n(§63.2386(d)(1)(ix))\n(Select from dropdown)]]=\"\",\"\",VLOOKUP(Table24[[#This Row],[Affected CMS\n(§63.2386(d)(1)(ix))\n(Select from dropdown)]],Table22[],2,FALSE))","v":""}]
[null,{"$f":"IF(Table24[[#This Row],[Affected CMS\n(§63.2386(d)(1)(ix))\n(Select from dropdown)]]=\"\",\"\",VLOOKUP(Table24[[#This Row],[Affected CMS\n(§63.2386(d)(1)(ix))\n(Select from dropdown)]],Table22[],2,FALSE))","v":""}]
[null,{"$f":"IF(Table24[[#This Row],[Affected CMS\n(§63.2386(d)(1)(ix))\n(Select from dropdown)]]=\"\",\"\",VLOOKUP(Table24[[#This Row],[Affected CMS\n(§63.2386(d)(1)(ix))\n(Select from dropdown)]],Table22[],2,FALSE))","v":""}]
[null,{"$f":"IF(Table24[[#This Row],[Affected CMS\n(§63.2386(d)(1)(ix))\n(Select from dropdown)]]=\"\",\"\",VLOOKUP(Table24[[#This Row],[Affected CMS\n(§63.2386(d)(1)(ix))\n(Select from dropdown)]],Table22[],2,FALSE))","v":""}]
[null,{"$f":"IF(Table24[[#This Row],[Affected CMS\n(§63.2386(d)(1)(ix))\n(Select from dropdown)]]=\"\",\"\",VLOOKUP(Table24[[#This Row],[Affected CMS\n(§63.2386(d)(1)(ix))\n(Select from dropdown)]],Table22[],2,FALSE))","v":""}]
[null,{"$f":"IF(Table24[[#This Row],[Affected CMS\n(§63.2386(d)(1)(ix))\n(Select from dropdown)]]=\"\",\"\",VLOOKUP(Table24[[#This Row],[Affected CMS\n(§63.2386(d)(1)(ix))\n(Select from dropdown)]],Table22[],2,FALSE))","v":""}]
[null,{"$f":"IF(Table24[[#This Row],[Affected CMS\n(§63.2386(d)(1)(ix))\n(Select from dropdown)]]=\"\",\"\",VLOOKUP(Table24[[#This Row],[Affected CMS\n(§63.2386(d)(1)(ix))\n(Select from dropdown)]],Table22[],2,FALSE))","v":""}]
[null,{"$f":"IF(Table24[[#This Row],[Affected CMS\n(§63.2386(d)(1)(ix))\n(Select from dropdown)]]=\"\",\"\",VLOOKUP(Table24[[#This Row],[Affected CMS\n(§63.2386(d)(1)(ix))\n(Select from dropdown)]],Table22[],2,FALSE))","v":""}]
[null,{"$f":"IF(Table24[[#This Row],[Affected CMS\n(§63.2386(d)(1)(ix))\n(Select from dropdown)]]=\"\",\"\",VLOOKUP(Table24[[#This Row],[Affected CMS\n(§63.2386(d)(1)(ix))\n(Select from dropdown)]],Table22[],2,FALSE))","v":""}]
[null,{"$f":"IF(Table24[[#This Row],[Affected CMS\n(§63.2386(d)(1)(ix))\n(Select from dropdown)]]=\"\",\"\",VLOOKUP(Table24[[#This Row],[Affected CMS\n(§63.2386(d)(1)(ix))\n(Select from dropdown)]],Table22[],2,FALSE))","v":""}]
[null,{"$f":"IF(Table24[[#This Row],[Affected CMS\n(§63.2386(d)(1)(ix))\n(Select from dropdown)]]=\"\",\"\",VLOOKUP(Table24[[#This Row],[Affected CMS\n(§63.2386(d)(1)(ix))\n(Select from dropdown)]],Table22[],2,FALSE))","v":""}]
[null,{"$f":"IF(Table24[[#This Row],[Affected CMS\n(§63.2386(d)(1)(ix))\n(Select from dropdown)]]=\"\",\"\",VLOOKUP(Table24[[#This Row],[Affected CMS\n(§63.2386(d)(1)(ix))\n(Select from dropdown)]],Table22[],2,FALSE))","v":""}]
[null,{"$f":"IF(Table24[[#This Row],[Affected CMS\n(§63.2386(d)(1)(ix))\n(Select from dropdown)]]=\"\",\"\",VLOOKUP(Table24[[#This Row],[Affected CMS\n(§63.2386(d)(1)(ix))\n(Select from dropdown)]],Table22[],2,FALSE))","v":""}]
[null,{"$f":"IF(Table24[[#This Row],[Affected CMS\n(§63.2386(d)(1)(ix))\n(Select from dropdown)]]=\"\",\"\",VLOOKUP(Table24[[#This Row],[Affected CMS\n(§63.2386(d)(1)(ix))\n(Select from dropdown)]],Table22[],2,FALSE))","v":""}]
[null,{"$f":"IF(Table24[[#This Row],[Affected CMS\n(§63.2386(d)(1)(ix))\n(Select from dropdown)]]=\"\",\"\",VLOOKUP(Table24[[#This Row],[Affected CMS\n(§63.2386(d)(1)(ix))\n(Select from dropdown)]],Table22[],2,FALSE))","v":""}]
[null,{"$f":"IF(Table24[[#This Row],[Affected CMS\n(§63.2386(d)(1)(ix))\n(Select from dropdown)]]=\"\",\"\",VLOOKUP(Table24[[#This Row],[Affected CMS\n(§63.2386(d)(1)(ix))\n(Select from dropdown)]],Table22[],2,FALSE))","v":""}]
[null,{"$f":"IF(Table24[[#This Row],[Affected CMS\n(§63.2386(d)(1)(ix))\n(Select from dropdown)]]=\"\",\"\",VLOOKUP(Table24[[#This Row],[Affected CMS\n(§63.2386(d)(1)(ix))\n(Select from dropdown)]],Table22[],2,FALSE))","v":""}]
[null,{"$f":"IF(Table24[[#This Row],[Affected CMS\n(§63.2386(d)(1)(ix))\n(Select from dropdown)]]=\"\",\"\",VLOOKUP(Table24[[#This Row],[Affected CMS\n(§63.2386(d)(1)(ix))\n(Select from dropdown)]],Table22[],2,FALSE))","v":""}]
[null,{"$f":"IF(Table24[[#This Row],[Affected CMS\n(§63.2386(d)(1)(ix))\n(Select from dropdown)]]=\"\",\"\",VLOOKUP(Table24[[#This Row],[Affected CMS\n(§63.2386(d)(1)(ix))\n(Select from dropdown)]],Table22[],2,FALSE))","v":""}]
[null,{"$f":"IF(Table24[[#This Row],[Affected CMS\n(§63.2386(d)(1)(ix))\n(Select from dropdown)]]=\"\",\"\",VLOOKUP(Table24[[#This Row],[Affected CMS\n(§63.2386(d)(1)(ix))\n(Select from dropdown)]],Table22[],2,FALSE))","v":""}]
[null,{"$f":"IF(Table24[[#This Row],[Affected CMS\n(§63.2386(d)(1)(ix))\n(Select from dropdown)]]=\"\",\"\",VLOOKUP(Table24[[#This Row],[Affected CMS\n(§63.2386(d)(1)(ix))\n(Select from dropdown)]],Table22[],2,FALSE))","v":""}]
[null,{"$f":"IF(Table24[[#This Row],[Affected CMS\n(§63.2386(d)(1)(ix))\n(Select from dropdown)]]=\"\",\"\",VLOOKUP(Table24[[#This Row],[Affected CMS\n(§63.2386(d)(1)(ix))\n(Select from dropdown)]],Table22[],2,FALSE))","v":""}]
[null,{"$f":"IF(Table24[[#This Row],[Affected CMS\n(§63.2386(d)(1)(ix))\n(Select from dropdown)]]=\"\",\"\",VLOOKUP(Table24[[#This Row],[Affected CMS\n(§63.2386(d)(1)(ix))\n(Select from dropdown)]],Table22[],2,FALSE))","v":""}]
[null,{"$f":"IF(Table24[[#This Row],[Affected CMS\n(§63.2386(d)(1)(ix))\n(Select from dropdown)]]=\"\",\"\",VLOOKUP(Table24[[#This Row],[Affected CMS\n(§63.2386(d)(1)(ix))\n(Select from dropdown)]],Table22[],2,FALSE))","v":""}]
[null,{"$f":"IF(Table24[[#This Row],[Affected CMS\n(§63.2386(d)(1)(ix))\n(Select from dropdown)]]=\"\",\"\",VLOOKUP(Table24[[#This Row],[Affected CMS\n(§63.2386(d)(1)(ix))\n(Select from dropdown)]],Table22[],2,FALSE))","v":""}]
[null,{"$f":"IF(Table24[[#This Row],[Affected CMS\n(§63.2386(d)(1)(ix))\n(Select from dropdown)]]=\"\",\"\",VLOOKUP(Table24[[#This Row],[Affected CMS\n(§63.2386(d)(1)(ix))\n(Select from dropdown)]],Table22[],2,FALSE))","v":""}]
[null,{"$f":"IF(Table24[[#This Row],[Affected CMS\n(§63.2386(d)(1)(ix))\n(Select from dropdown)]]=\"\",\"\",VLOOKUP(Table24[[#This Row],[Affected CMS\n(§63.2386(d)(1)(ix))\n(Select from dropdown)]],Table22[],2,FALSE))","v":""}]
[null,{"$f":"IF(Table24[[#This Row],[Affected CMS\n(§63.2386(d)(1)(ix))\n(Select from dropdown)]]=\"\",\"\",VLOOKUP(Table24[[#This Row],[Affected CMS\n(§63.2386(d)(1)(ix))\n(Select from dropdown)]],Table22[],2,FALSE))","v":""}]
[null,{"$f":"IF(Table24[[#This Row],[Affected CMS\n(§63.2386(d)(1)(ix))\n(Select from dropdown)]]=\"\",\"\",VLOOKUP(Table24[[#This Row],[Affected CMS\n(§63.2386(d)(1)(ix))\n(Select from dropdown)]],Table22[],2,FALSE))","v":""}]
[null,{"$f":"IF(Table24[[#This Row],[Affected CMS\n(§63.2386(d)(1)(ix))\n(Select from dropdown)]]=\"\",\"\",VLOOKUP(Table24[[#This Row],[Affected CMS\n(§63.2386(d)(1)(ix))\n(Select from dropdown)]],Table22[],2,FALSE))","v":""}]
[null,{"$f":"IF(Table24[[#This Row],[Affected CMS\n(§63.2386(d)(1)(ix))\n(Select from dropdown)]]=\"\",\"\",VLOOKUP(Table24[[#This Row],[Affected CMS\n(§63.2386(d)(1)(ix))\n(Select from dropdown)]],Table22[],2,FALSE))","v":""}]
[null,{"$f":"IF(Table24[[#This Row],[Affected CMS\n(§63.2386(d)(1)(ix))\n(Select from dropdown)]]=\"\",\"\",VLOOKUP(Table24[[#This Row],[Affected CMS\n(§63.2386(d)(1)(ix))\n(Select from dropdown)]],Table22[],2,FALSE))","v":""}]
[null,{"$f":"IF(Table24[[#This Row],[Affected CMS\n(§63.2386(d)(1)(ix))\n(Select from dropdown)]]=\"\",\"\",VLOOKUP(Table24[[#This Row],[Affected CMS\n(§63.2386(d)(1)(ix))\n(Select from dropdown)]],Table22[],2,FALSE))","v":""}]
[null,{"$f":"IF(Table24[[#This Row],[Affected CMS\n(§63.2386(d)(1)(ix))\n(Select from dropdown)]]=\"\",\"\",VLOOKUP(Table24[[#This Row],[Affected CMS\n(§63.2386(d)(1)(ix))\n(Select from dropdown)]],Table22[],2,FALSE))","v":""}]
[null,{"$f":"IF(Table24[[#This Row],[Affected CMS\n(§63.2386(d)(1)(ix))\n(Select from dropdown)]]=\"\",\"\",VLOOKUP(Table24[[#This Row],[Affected CMS\n(§63.2386(d)(1)(ix))\n(Select from dropdown)]],Table22[],2,FALSE))","v":""}]
[null,{"$f":"IF(Table24[[#This Row],[Affected CMS\n(§63.2386(d)(1)(ix))\n(Select from dropdown)]]=\"\",\"\",VLOOKUP(Table24[[#This Row],[Affected CMS\n(§63.2386(d)(1)(ix))\n(Select from dropdown)]],Table22[],2,FALSE))","v":""}]
[null,{"$f":"IF(Table24[[#This Row],[Affected CMS\n(§63.2386(d)(1)(ix))\n(Select from dropdown)]]=\"\",\"\",VLOOKUP(Table24[[#This Row],[Affected CMS\n(§63.2386(d)(1)(ix))\n(Select from dropdown)]],Table22[],2,FALSE))","v":""}]
[null,{"$f":"IF(Table24[[#This Row],[Affected CMS\n(§63.2386(d)(1)(ix))\n(Select from dropdown)]]=\"\",\"\",VLOOKUP(Table24[[#This Row],[Affected CMS\n(§63.2386(d)(1)(ix))\n(Select from dropdown)]],Table22[],2,FALSE))","v":""}]
[null,{"$f":"IF(Table24[[#This Row],[Affected CMS\n(§63.2386(d)(1)(ix))\n(Select from dropdown)]]=\"\",\"\",VLOOKUP(Table24[[#This Row],[Affected CMS\n(§63.2386(d)(1)(ix))\n(Select from dropdown)]],Table22[],2,FALSE))","v":""}]
[null,{"$f":"IF(Table24[[#This Row],[Affected CMS\n(§63.2386(d)(1)(ix))\n(Select from dropdown)]]=\"\",\"\",VLOOKUP(Table24[[#This Row],[Affected CMS\n(§63.2386(d)(1)(ix))\n(Select from dropdown)]],Table22[],2,FALSE))","v":""}]
[null,{"$f":"IF(Table24[[#This Row],[Affected CMS\n(§63.2386(d)(1)(ix))\n(Select from dropdown)]]=\"\",\"\",VLOOKUP(Table24[[#This Row],[Affected CMS\n(§63.2386(d)(1)(ix))\n(Select from dropdown)]],Table22[],2,FALSE))","v":""}]
[null,{"$f":"IF(Table24[[#This Row],[Affected CMS\n(§63.2386(d)(1)(ix))\n(Select from dropdown)]]=\"\",\"\",VLOOKUP(Table24[[#This Row],[Affected CMS\n(§63.2386(d)(1)(ix))\n(Select from dropdown)]],Table22[],2,FALSE))","v":""}]
[null,{"$f":"IF(Table24[[#This Row],[Affected CMS\n(§63.2386(d)(1)(ix))\n(Select from dropdown)]]=\"\",\"\",VLOOKUP(Table24[[#This Row],[Affected CMS\n(§63.2386(d)(1)(ix))\n(Select from dropdown)]],Table22[],2,FALSE))","v":""}]
[null,{"$f":"IF(Table24[[#This Row],[Affected CMS\n(§63.2386(d)(1)(ix))\n(Select from dropdown)]]=\"\",\"\",VLOOKUP(Table24[[#This Row],[Affected CMS\n(§63.2386(d)(1)(ix))\n(Select from dropdown)]],Table22[],2,FALSE))","v":""}]
[null,{"$f":"IF(Table24[[#This Row],[Affected CMS\n(§63.2386(d)(1)(ix))\n(Select from dropdown)]]=\"\",\"\",VLOOKUP(Table24[[#This Row],[Affected CMS\n(§63.2386(d)(1)(ix))\n(Select from dropdown)]],Table22[],2,FALSE))","v":""}]
[null,{"$f":"IF(Table24[[#This Row],[Affected CMS\n(§63.2386(d)(1)(ix))\n(Select from dropdown)]]=\"\",\"\",VLOOKUP(Table24[[#This Row],[Affected CMS\n(§63.2386(d)(1)(ix))\n(Select from dropdown)]],Table22[],2,FALSE))","v":""}]
[null,{"$f":"IF(Table24[[#This Row],[Affected CMS\n(§63.2386(d)(1)(ix))\n(Select from dropdown)]]=\"\",\"\",VLOOKUP(Table24[[#This Row],[Affected CMS\n(§63.2386(d)(1)(ix))\n(Select from dropdown)]],Table22[],2,FALSE))","v":""}]
[null,{"$f":"IF(Table24[[#This Row],[Affected CMS\n(§63.2386(d)(1)(ix))\n(Select from dropdown)]]=\"\",\"\",VLOOKUP(Table24[[#This Row],[Affected CMS\n(§63.2386(d)(1)(ix))\n(Select from dropdown)]],Table22[],2,FALSE))","v":""}]
[null,{"$f":"IF(Table24[[#This Row],[Affected CMS\n(§63.2386(d)(1)(ix))\n(Select from dropdown)]]=\"\",\"\",VLOOKUP(Table24[[#This Row],[Affected CMS\n(§63.2386(d)(1)(ix))\n(Select from dropdown)]],Table22[],2,FALSE))","v":""}]
[null,{"$f":"IF(Table24[[#This Row],[Affected CMS\n(§63.2386(d)(1)(ix))\n(Select from dropdown)]]=\"\",\"\",VLOOKUP(Table24[[#This Row],[Affected CMS\n(§63.2386(d)(1)(ix))\n(Select from dropdown)]],Table22[],2,FALSE))","v":""}]
[null,{"$f":"IF(Table24[[#This Row],[Affected CMS\n(§63.2386(d)(1)(ix))\n(Select from dropdown)]]=\"\",\"\",VLOOKUP(Table24[[#This Row],[Affected CMS\n(§63.2386(d)(1)(ix))\n(Select from dropdown)]],Table22[],2,FALSE))","v":""}]
[null,{"$f":"IF(Table24[[#This Row],[Affected CMS\n(§63.2386(d)(1)(ix))\n(Select from dropdown)]]=\"\",\"\",VLOOKUP(Table24[[#This Row],[Affected CMS\n(§63.2386(d)(1)(ix))\n(Select from dropdown)]],Table22[],2,FALSE))","v":""}]
[null,{"$f":"IF(Table24[[#This Row],[Affected CMS\n(§63.2386(d)(1)(ix))\n(Select from dropdown)]]=\"\",\"\",VLOOKUP(Table24[[#This Row],[Affected CMS\n(§63.2386(d)(1)(ix))\n(Select from dropdown)]],Table22[],2,FALSE))","v":""}]
[null,{"$f":"IF(Table24[[#This Row],[Affected CMS\n(§63.2386(d)(1)(ix))\n(Select from dropdown)]]=\"\",\"\",VLOOKUP(Table24[[#This Row],[Affected CMS\n(§63.2386(d)(1)(ix))\n(Select from dropdown)]],Table22[],2,FALSE))","v":""}]
[null,{"$f":"IF(Table24[[#This Row],[Affected CMS\n(§63.2386(d)(1)(ix))\n(Select from dropdown)]]=\"\",\"\",VLOOKUP(Table24[[#This Row],[Affected CMS\n(§63.2386(d)(1)(ix))\n(Select from dropdown)]],Table22[],2,FALSE))","v":""}]
[null,{"$f":"IF(Table24[[#This Row],[Affected CMS\n(§63.2386(d)(1)(ix))\n(Select from dropdown)]]=\"\",\"\",VLOOKUP(Table24[[#This Row],[Affected CMS\n(§63.2386(d)(1)(ix))\n(Select from dropdown)]],Table22[],2,FALSE))","v":""}]
[null,{"$f":"IF(Table24[[#This Row],[Affected CMS\n(§63.2386(d)(1)(ix))\n(Select from dropdown)]]=\"\",\"\",VLOOKUP(Table24[[#This Row],[Affected CMS\n(§63.2386(d)(1)(ix))\n(Select from dropdown)]],Table22[],2,FALSE))","v":""}]
[null,{"$f":"IF(Table24[[#This Row],[Affected CMS\n(§63.2386(d)(1)(ix))\n(Select from dropdown)]]=\"\",\"\",VLOOKUP(Table24[[#This Row],[Affected CMS\n(§63.2386(d)(1)(ix))\n(Select from dropdown)]],Table22[],2,FALSE))","v":""}]
[null,{"$f":"IF(Table24[[#This Row],[Affected CMS\n(§63.2386(d)(1)(ix))\n(Select from dropdown)]]=\"\",\"\",VLOOKUP(Table24[[#This Row],[Affected CMS\n(§63.2386(d)(1)(ix))\n(Select from dropdown)]],Table22[],2,FALSE))","v":""}]
[null,{"$f":"IF(Table24[[#This Row],[Affected CMS\n(§63.2386(d)(1)(ix))\n(Select from dropdown)]]=\"\",\"\",VLOOKUP(Table24[[#This Row],[Affected CMS\n(§63.2386(d)(1)(ix))\n(Select from dropdown)]],Table22[],2,FALSE))","v":""}]
[null,{"$f":"IF(Table24[[#This Row],[Affected CMS\n(§63.2386(d)(1)(ix))\n(Select from dropdown)]]=\"\",\"\",VLOOKUP(Table24[[#This Row],[Affected CMS\n(§63.2386(d)(1)(ix))\n(Select from dropdown)]],Table22[],2,FALSE))","v":""}]
[null,{"$f":"IF(Table24[[#This Row],[Affected CMS\n(§63.2386(d)(1)(ix))\n(Select from dropdown)]]=\"\",\"\",VLOOKUP(Table24[[#This Row],[Affected CMS\n(§63.2386(d)(1)(ix))\n(Select from dropdown)]],Table22[],2,FALSE))","v":""}]
[null,{"$f":"IF(Table24[[#This Row],[Affected CMS\n(§63.2386(d)(1)(ix))\n(Select from dropdown)]]=\"\",\"\",VLOOKUP(Table24[[#This Row],[Affected CMS\n(§63.2386(d)(1)(ix))\n(Select from dropdown)]],Table22[],2,FALSE))","v":""}]
[null,{"$f":"IF(Table24[[#This Row],[Affected CMS\n(§63.2386(d)(1)(ix))\n(Select from dropdown)]]=\"\",\"\",VLOOKUP(Table24[[#This Row],[Affected CMS\n(§63.2386(d)(1)(ix))\n(Select from dropdown)]],Table22[],2,FALSE))","v":""}]
[null,{"$f":"IF(Table24[[#This Row],[Affected CMS\n(§63.2386(d)(1)(ix))\n(Select from dropdown)]]=\"\",\"\",VLOOKUP(Table24[[#This Row],[Affected CMS\n(§63.2386(d)(1)(ix))\n(Select from dropdown)]],Table22[],2,FALSE))","v":""}]
[null,{"$f":"IF(Table24[[#This Row],[Affected CMS\n(§63.2386(d)(1)(ix))\n(Select from dropdown)]]=\"\",\"\",VLOOKUP(Table24[[#This Row],[Affected CMS\n(§63.2386(d)(1)(ix))\n(Select from dropdown)]],Table22[],2,FALSE))","v":""}]
[null,{"$f":"IF(Table24[[#This Row],[Affected CMS\n(§63.2386(d)(1)(ix))\n(Select from dropdown)]]=\"\",\"\",VLOOKUP(Table24[[#This Row],[Affected CMS\n(§63.2386(d)(1)(ix))\n(Select from dropdown)]],Table22[],2,FALSE))","v":""}]
[null,{"$f":"IF(Table24[[#This Row],[Affected CMS\n(§63.2386(d)(1)(ix))\n(Select from dropdown)]]=\"\",\"\",VLOOKUP(Table24[[#This Row],[Affected CMS\n(§63.2386(d)(1)(ix))\n(Select from dropdown)]],Table22[],2,FALSE))","v":""}]
[null,{"$f":"IF(Table24[[#This Row],[Affected CMS\n(§63.2386(d)(1)(ix))\n(Select from dropdown)]]=\"\",\"\",VLOOKUP(Table24[[#This Row],[Affected CMS\n(§63.2386(d)(1)(ix))\n(Select from dropdown)]],Table22[],2,FALSE))","v":""}]
[null,{"$f":"IF(Table24[[#This Row],[Affected CMS\n(§63.2386(d)(1)(ix))\n(Select from dropdown)]]=\"\",\"\",VLOOKUP(Table24[[#This Row],[Affected CMS\n(§63.2386(d)(1)(ix))\n(Select from dropdown)]],Table22[],2,FALSE))","v":""}]
[null,{"$f":"IF(Table24[[#This Row],[Affected CMS\n(§63.2386(d)(1)(ix))\n(Select from dropdown)]]=\"\",\"\",VLOOKUP(Table24[[#This Row],[Affected CMS\n(§63.2386(d)(1)(ix))\n(Select from dropdown)]],Table22[],2,FALSE))","v":""}]
[null,{"$f":"IF(Table24[[#This Row],[Affected CMS\n(§63.2386(d)(1)(ix))\n(Select from dropdown)]]=\"\",\"\",VLOOKUP(Table24[[#This Row],[Affected CMS\n(§63.2386(d)(1)(ix))\n(Select from dropdown)]],Table22[],2,FALSE))","v":""}]
[null,{"$f":"IF(Table24[[#This Row],[Affected CMS\n(§63.2386(d)(1)(ix))\n(Select from dropdown)]]=\"\",\"\",VLOOKUP(Table24[[#This Row],[Affected CMS\n(§63.2386(d)(1)(ix))\n(Select from dropdown)]],Table22[],2,FALSE))","v":""}]
[null,{"$f":"IF(Table24[[#This Row],[Affected CMS\n(§63.2386(d)(1)(ix))\n(Select from dropdown)]]=\"\",\"\",VLOOKUP(Table24[[#This Row],[Affected CMS\n(§63.2386(d)(1)(ix))\n(Select from dropdown)]],Table22[],2,FALSE))","v":""}]
[null,{"$f":"IF(Table24[[#This Row],[Affected CMS\n(§63.2386(d)(1)(ix))\n(Select from dropdown)]]=\"\",\"\",VLOOKUP(Table24[[#This Row],[Affected CMS\n(§63.2386(d)(1)(ix))\n(Select from dropdown)]],Table22[],2,FALSE))","v":""}]
[null,{"$f":"IF(Table24[[#This Row],[Affected CMS\n(§63.2386(d)(1)(ix))\n(Select from dropdown)]]=\"\",\"\",VLOOKUP(Table24[[#This Row],[Affected CMS\n(§63.2386(d)(1)(ix))\n(Select from dropdown)]],Table22[],2,FALSE))","v":""}]
[null,{"$f":"IF(Table24[[#This Row],[Affected CMS\n(§63.2386(d)(1)(ix))\n(Select from dropdown)]]=\"\",\"\",VLOOKUP(Table24[[#This Row],[Affected CMS\n(§63.2386(d)(1)(ix))\n(Select from dropdown)]],Table22[],2,FALSE))","v":""}]
[null,{"$f":"IF(Table24[[#This Row],[Affected CMS\n(§63.2386(d)(1)(ix))\n(Select from dropdown)]]=\"\",\"\",VLOOKUP(Table24[[#This Row],[Affected CMS\n(§63.2386(d)(1)(ix))\n(Select from dropdown)]],Table22[],2,FALSE))","v":""}]
[null,{"$f":"IF(Table24[[#This Row],[Affected CMS\n(§63.2386(d)(1)(ix))\n(Select from dropdown)]]=\"\",\"\",VLOOKUP(Table24[[#This Row],[Affected CMS\n(§63.2386(d)(1)(ix))\n(Select from dropdown)]],Table22[],2,FALSE))","v":""}]
[null,{"$f":"IF(Table24[[#This Row],[Affected CMS\n(§63.2386(d)(1)(ix))\n(Select from dropdown)]]=\"\",\"\",VLOOKUP(Table24[[#This Row],[Affected CMS\n(§63.2386(d)(1)(ix))\n(Select from dropdown)]],Table22[],2,FALSE))","v":""}]
[null,{"$f":"IF(Table24[[#This Row],[Affected CMS\n(§63.2386(d)(1)(ix))\n(Select from dropdown)]]=\"\",\"\",VLOOKUP(Table24[[#This Row],[Affected CMS\n(§63.2386(d)(1)(ix))\n(Select from dropdown)]],Table22[],2,FALSE))","v":""}]
[null,{"$f":"IF(Table24[[#This Row],[Affected CMS\n(§63.2386(d)(1)(ix))\n(Select from dropdown)]]=\"\",\"\",VLOOKUP(Table24[[#This Row],[Affected CMS\n(§63.2386(d)(1)(ix))\n(Select from dropdown)]],Table22[],2,FALSE))","v":""}]
[null,{"$f":"IF(Table24[[#This Row],[Affected CMS\n(§63.2386(d)(1)(ix))\n(Select from dropdown)]]=\"\",\"\",VLOOKUP(Table24[[#This Row],[Affected CMS\n(§63.2386(d)(1)(ix))\n(Select from dropdown)]],Table22[],2,FALSE))","v":""}]
[null,{"$f":"IF(Table24[[#This Row],[Affected CMS\n(§63.2386(d)(1)(ix))\n(Select from dropdown)]]=\"\",\"\",VLOOKUP(Table24[[#This Row],[Affected CMS\n(§63.2386(d)(1)(ix))\n(Select from dropdown)]],Table22[],2,FALSE))","v":""}]
[null,{"$f":"IF(Table24[[#This Row],[Affected CMS\n(§63.2386(d)(1)(ix))\n(Select from dropdown)]]=\"\",\"\",VLOOKUP(Table24[[#This Row],[Affected CMS\n(§63.2386(d)(1)(ix))\n(Select from dropdown)]],Table22[],2,FALSE))","v":""}]
[null,{"$f":"IF(Table24[[#This Row],[Affected CMS\n(§63.2386(d)(1)(ix))\n(Select from dropdown)]]=\"\",\"\",VLOOKUP(Table24[[#This Row],[Affected CMS\n(§63.2386(d)(1)(ix))\n(Select from dropdown)]],Table22[],2,FALSE))","v":""}]
[null,{"$f":"IF(Table24[[#This Row],[Affected CMS\n(§63.2386(d)(1)(ix))\n(Select from dropdown)]]=\"\",\"\",VLOOKUP(Table24[[#This Row],[Affected CMS\n(§63.2386(d)(1)(ix))\n(Select from dropdown)]],Table22[],2,FALSE))","v":""}]
[null,{"$f":"IF(Table24[[#This Row],[Affected CMS\n(§63.2386(d)(1)(ix))\n(Select from dropdown)]]=\"\",\"\",VLOOKUP(Table24[[#This Row],[Affected CMS\n(§63.2386(d)(1)(ix))\n(Select from dropdown)]],Table22[],2,FALSE))","v":""}]
[null,{"$f":"IF(Table24[[#This Row],[Affected CMS\n(§63.2386(d)(1)(ix))\n(Select from dropdown)]]=\"\",\"\",VLOOKUP(Table24[[#This Row],[Affected CMS\n(§63.2386(d)(1)(ix))\n(Select from dropdown)]],Table22[],2,FALSE))","v":""}]
[null,{"$f":"IF(Table24[[#This Row],[Affected CMS\n(§63.2386(d)(1)(ix))\n(Select from dropdown)]]=\"\",\"\",VLOOKUP(Table24[[#This Row],[Affected CMS\n(§63.2386(d)(1)(ix))\n(Select from dropdown)]],Table22[],2,FALSE))","v":""}]
[null,{"$f":"IF(Table24[[#This Row],[Affected CMS\n(§63.2386(d)(1)(ix))\n(Select from dropdown)]]=\"\",\"\",VLOOKUP(Table24[[#This Row],[Affected CMS\n(§63.2386(d)(1)(ix))\n(Select from dropdown)]],Table22[],2,FALSE))","v":""}]
[null,{"$f":"IF(Table24[[#This Row],[Affected CMS\n(§63.2386(d)(1)(ix))\n(Select from dropdown)]]=\"\",\"\",VLOOKUP(Table24[[#This Row],[Affected CMS\n(§63.2386(d)(1)(ix))\n(Select from dropdown)]],Table22[],2,FALSE))","v":""}]
[null,{"$f":"IF(Table24[[#This Row],[Affected CMS\n(§63.2386(d)(1)(ix))\n(Select from dropdown)]]=\"\",\"\",VLOOKUP(Table24[[#This Row],[Affected CMS\n(§63.2386(d)(1)(ix))\n(Select from dropdown)]],Table22[],2,FALSE))","v":""}]
[null,{"$f":"IF(Table24[[#This Row],[Affected CMS\n(§63.2386(d)(1)(ix))\n(Select from dropdown)]]=\"\",\"\",VLOOKUP(Table24[[#This Row],[Affected CMS\n(§63.2386(d)(1)(ix))\n(Select from dropdown)]],Table22[],2,FALSE))","v":""}]
[null,{"$f":"IF(Table24[[#This Row],[Affected CMS\n(§63.2386(d)(1)(ix))\n(Select from dropdown)]]=\"\",\"\",VLOOKUP(Table24[[#This Row],[Affected CMS\n(§63.2386(d)(1)(ix))\n(Select from dropdown)]],Table22[],2,FALSE))","v":""}]
[null,{"$f":"IF(Table24[[#This Row],[Affected CMS\n(§63.2386(d)(1)(ix))\n(Select from dropdown)]]=\"\",\"\",VLOOKUP(Table24[[#This Row],[Affected CMS\n(§63.2386(d)(1)(ix))\n(Select from dropdown)]],Table22[],2,FALSE))","v":""}]
[null,{"$f":"IF(Table24[[#This Row],[Affected CMS\n(§63.2386(d)(1)(ix))\n(Select from dropdown)]]=\"\",\"\",VLOOKUP(Table24[[#This Row],[Affected CMS\n(§63.2386(d)(1)(ix))\n(Select from dropdown)]],Table22[],2,FALSE))","v":""}]
[null,{"$f":"IF(Table24[[#This Row],[Affected CMS\n(§63.2386(d)(1)(ix))\n(Select from dropdown)]]=\"\",\"\",VLOOKUP(Table24[[#This Row],[Affected CMS\n(§63.2386(d)(1)(ix))\n(Select from dropdown)]],Table22[],2,FALSE))","v":""}]
[null,{"$f":"IF(Table24[[#This Row],[Affected CMS\n(§63.2386(d)(1)(ix))\n(Select from dropdown)]]=\"\",\"\",VLOOKUP(Table24[[#This Row],[Affected CMS\n(§63.2386(d)(1)(ix))\n(Select from dropdown)]],Table22[],2,FALSE))","v":""}]
[null,{"$f":"IF(Table24[[#This Row],[Affected CMS\n(§63.2386(d)(1)(ix))\n(Select from dropdown)]]=\"\",\"\",VLOOKUP(Table24[[#This Row],[Affected CMS\n(§63.2386(d)(1)(ix))\n(Select from dropdown)]],Table22[],2,FALSE))","v":""}]
[null,{"$f":"IF(Table24[[#This Row],[Affected CMS\n(§63.2386(d)(1)(ix))\n(Select from dropdown)]]=\"\",\"\",VLOOKUP(Table24[[#This Row],[Affected CMS\n(§63.2386(d)(1)(ix))\n(Select from dropdown)]],Table22[],2,FALSE))","v":""}]
[null,{"$f":"IF(Table24[[#This Row],[Affected CMS\n(§63.2386(d)(1)(ix))\n(Select from dropdown)]]=\"\",\"\",VLOOKUP(Table24[[#This Row],[Affected CMS\n(§63.2386(d)(1)(ix))\n(Select from dropdown)]],Table22[],2,FALSE))","v":""}]
[null,{"$f":"IF(Table24[[#This Row],[Affected CMS\n(§63.2386(d)(1)(ix))\n(Select from dropdown)]]=\"\",\"\",VLOOKUP(Table24[[#This Row],[Affected CMS\n(§63.2386(d)(1)(ix))\n(Select from dropdown)]],Table22[],2,FALSE))","v":""}]
[null,{"$f":"IF(Table24[[#This Row],[Affected CMS\n(§63.2386(d)(1)(ix))\n(Select from dropdown)]]=\"\",\"\",VLOOKUP(Table24[[#This Row],[Affected CMS\n(§63.2386(d)(1)(ix))\n(Select from dropdown)]],Table22[],2,FALSE))","v":""}]
[null,{"$f":"IF(Table24[[#This Row],[Affected CMS\n(§63.2386(d)(1)(ix))\n(Select from dropdown)]]=\"\",\"\",VLOOKUP(Table24[[#This Row],[Affected CMS\n(§63.2386(d)(1)(ix))\n(Select from dropdown)]],Table22[],2,FALSE))","v":""}]
[null,{"$f":"IF(Table24[[#This Row],[Affected CMS\n(§63.2386(d)(1)(ix))\n(Select from dropdown)]]=\"\",\"\",VLOOKUP(Table24[[#This Row],[Affected CMS\n(§63.2386(d)(1)(ix))\n(Select from dropdown)]],Table22[],2,FALSE))","v":""}]
[null,{"$f":"IF(Table24[[#This Row],[Affected CMS\n(§63.2386(d)(1)(ix))\n(Select from dropdown)]]=\"\",\"\",VLOOKUP(Table24[[#This Row],[Affected CMS\n(§63.2386(d)(1)(ix))\n(Select from dropdown)]],Table22[],2,FALSE))","v":""}]
[null,{"$f":"IF(Table24[[#This Row],[Affected CMS\n(§63.2386(d)(1)(ix))\n(Select from dropdown)]]=\"\",\"\",VLOOKUP(Table24[[#This Row],[Affected CMS\n(§63.2386(d)(1)(ix))\n(Select from dropdown)]],Table22[],2,FALSE))","v":""}]
[null,{"$f":"IF(Table24[[#This Row],[Affected CMS\n(§63.2386(d)(1)(ix))\n(Select from dropdown)]]=\"\",\"\",VLOOKUP(Table24[[#This Row],[Affected CMS\n(§63.2386(d)(1)(ix))\n(Select from dropdown)]],Table22[],2,FALSE))","v":""}]
[null,{"$f":"IF(Table24[[#This Row],[Affected CMS\n(§63.2386(d)(1)(ix))\n(Select from dropdown)]]=\"\",\"\",VLOOKUP(Table24[[#This Row],[Affected CMS\n(§63.2386(d)(1)(ix))\n(Select from dropdown)]],Table22[],2,FALSE))","v":""}]
[null,{"$f":"IF(Table24[[#This Row],[Affected CMS\n(§63.2386(d)(1)(ix))\n(Select from dropdown)]]=\"\",\"\",VLOOKUP(Table24[[#This Row],[Affected CMS\n(§63.2386(d)(1)(ix))\n(Select from dropdown)]],Table22[],2,FALSE))","v":""}]
[null,{"$f":"IF(Table24[[#This Row],[Affected CMS\n(§63.2386(d)(1)(ix))\n(Select from dropdown)]]=\"\",\"\",VLOOKUP(Table24[[#This Row],[Affected CMS\n(§63.2386(d)(1)(ix))\n(Select from dropdown)]],Table22[],2,FALSE))","v":""}]
[null,{"$f":"IF(Table24[[#This Row],[Affected CMS\n(§63.2386(d)(1)(ix))\n(Select from dropdown)]]=\"\",\"\",VLOOKUP(Table24[[#This Row],[Affected CMS\n(§63.2386(d)(1)(ix))\n(Select from dropdown)]],Table22[],2,FALSE))","v":""}]
[null,{"$f":"IF(Table24[[#This Row],[Affected CMS\n(§63.2386(d)(1)(ix))\n(Select from dropdown)]]=\"\",\"\",VLOOKUP(Table24[[#This Row],[Affected CMS\n(§63.2386(d)(1)(ix))\n(Select from dropdown)]],Table22[],2,FALSE))","v":""}]
[null,{"$f":"IF(Table24[[#This Row],[Affected CMS\n(§63.2386(d)(1)(ix))\n(Select from dropdown)]]=\"\",\"\",VLOOKUP(Table24[[#This Row],[Affected CMS\n(§63.2386(d)(1)(ix))\n(Select from dropdown)]],Table22[],2,FALSE))","v":""}]
[null,{"$f":"IF(Table24[[#This Row],[Affected CMS\n(§63.2386(d)(1)(ix))\n(Select from dropdown)]]=\"\",\"\",VLOOKUP(Table24[[#This Row],[Affected CMS\n(§63.2386(d)(1)(ix))\n(Select from dropdown)]],Table22[],2,FALSE))","v":""}]
[null,{"$f":"IF(Table24[[#This Row],[Affected CMS\n(§63.2386(d)(1)(ix))\n(Select from dropdown)]]=\"\",\"\",VLOOKUP(Table24[[#This Row],[Affected CMS\n(§63.2386(d)(1)(ix))\n(Select from dropdown)]],Table22[],2,FALSE))","v":""}]
[null,{"$f":"IF(Table24[[#This Row],[Affected CMS\n(§63.2386(d)(1)(ix))\n(Select from dropdown)]]=\"\",\"\",VLOOKUP(Table24[[#This Row],[Affected CMS\n(§63.2386(d)(1)(ix))\n(Select from dropdown)]],Table22[],2,FALSE))","v":""}]
[null,{"$f":"IF(Table24[[#This Row],[Affected CMS\n(§63.2386(d)(1)(ix))\n(Select from dropdown)]]=\"\",\"\",VLOOKUP(Table24[[#This Row],[Affected CMS\n(§63.2386(d)(1)(ix))\n(Select from dropdown)]],Table22[],2,FALSE))","v":""}]
[null,{"$f":"IF(Table24[[#This Row],[Affected CMS\n(§63.2386(d)(1)(ix))\n(Select from dropdown)]]=\"\",\"\",VLOOKUP(Table24[[#This Row],[Affected CMS\n(§63.2386(d)(1)(ix))\n(Select from dropdown)]],Table22[],2,FALSE))","v":""}]
[null,{"$f":"IF(Table24[[#This Row],[Affected CMS\n(§63.2386(d)(1)(ix))\n(Select from dropdown)]]=\"\",\"\",VLOOKUP(Table24[[#This Row],[Affected CMS\n(§63.2386(d)(1)(ix))\n(Select from dropdown)]],Table22[],2,FALSE))","v":""}]
[null,{"$f":"IF(Table24[[#This Row],[Affected CMS\n(§63.2386(d)(1)(ix))\n(Select from dropdown)]]=\"\",\"\",VLOOKUP(Table24[[#This Row],[Affected CMS\n(§63.2386(d)(1)(ix))\n(Select from dropdown)]],Table22[],2,FALSE))","v":""}]
[null,{"$f":"IF(Table24[[#This Row],[Affected CMS\n(§63.2386(d)(1)(ix))\n(Select from dropdown)]]=\"\",\"\",VLOOKUP(Table24[[#This Row],[Affected CMS\n(§63.2386(d)(1)(ix))\n(Select from dropdown)]],Table22[],2,FALSE))","v":""}]
[null,{"$f":"IF(Table24[[#This Row],[Affected CMS\n(§63.2386(d)(1)(ix))\n(Select from dropdown)]]=\"\",\"\",VLOOKUP(Table24[[#This Row],[Affected CMS\n(§63.2386(d)(1)(ix))\n(Select from dropdown)]],Table22[],2,FALSE))","v":""}]
[null,{"$f":"IF(Table24[[#This Row],[Affected CMS\n(§63.2386(d)(1)(ix))\n(Select from dropdown)]]=\"\",\"\",VLOOKUP(Table24[[#This Row],[Affected CMS\n(§63.2386(d)(1)(ix))\n(Select from dropdown)]],Table22[],2,FALSE))","v":""}]
[null,{"$f":"IF(Table24[[#This Row],[Affected CMS\n(§63.2386(d)(1)(ix))\n(Select from dropdown)]]=\"\",\"\",VLOOKUP(Table24[[#This Row],[Affected CMS\n(§63.2386(d)(1)(ix))\n(Select from dropdown)]],Table22[],2,FALSE))","v":""}]
[null,{"$f":"IF(Table24[[#This Row],[Affected CMS\n(§63.2386(d)(1)(ix))\n(Select from dropdown)]]=\"\",\"\",VLOOKUP(Table24[[#This Row],[Affected CMS\n(§63.2386(d)(1)(ix))\n(Select from dropdown)]],Table22[],2,FALSE))","v":""}]
[null,{"$f":"IF(Table24[[#This Row],[Affected CMS\n(§63.2386(d)(1)(ix))\n(Select from dropdown)]]=\"\",\"\",VLOOKUP(Table24[[#This Row],[Affected CMS\n(§63.2386(d)(1)(ix))\n(Select from dropdown)]],Table22[],2,FALSE))","v":""}]
[null,{"$f":"IF(Table24[[#This Row],[Affected CMS\n(§63.2386(d)(1)(ix))\n(Select from dropdown)]]=\"\",\"\",VLOOKUP(Table24[[#This Row],[Affected CMS\n(§63.2386(d)(1)(ix))\n(Select from dropdown)]],Table22[],2,FALSE))","v":""}]
[null,{"$f":"IF(Table24[[#This Row],[Affected CMS\n(§63.2386(d)(1)(ix))\n(Select from dropdown)]]=\"\",\"\",VLOOKUP(Table24[[#This Row],[Affected CMS\n(§63.2386(d)(1)(ix))\n(Select from dropdown)]],Table22[],2,FALSE))","v":""}]
[null,{"$f":"IF(Table24[[#This Row],[Affected CMS\n(§63.2386(d)(1)(ix))\n(Select from dropdown)]]=\"\",\"\",VLOOKUP(Table24[[#This Row],[Affected CMS\n(§63.2386(d)(1)(ix))\n(Select from dropdown)]],Table22[],2,FALSE))","v":""}]
[null,{"$f":"IF(Table24[[#This Row],[Affected CMS\n(§63.2386(d)(1)(ix))\n(Select from dropdown)]]=\"\",\"\",VLOOKUP(Table24[[#This Row],[Affected CMS\n(§63.2386(d)(1)(ix))\n(Select from dropdown)]],Table22[],2,FALSE))","v":""}]
[null,{"$f":"IF(Table24[[#This Row],[Affected CMS\n(§63.2386(d)(1)(ix))\n(Select from dropdown)]]=\"\",\"\",VLOOKUP(Table24[[#This Row],[Affected CMS\n(§63.2386(d)(1)(ix))\n(Select from dropdown)]],Table22[],2,FALSE))","v":""}]
[null,{"$f":"IF(Table24[[#This Row],[Affected CMS\n(§63.2386(d)(1)(ix))\n(Select from dropdown)]]=\"\",\"\",VLOOKUP(Table24[[#This Row],[Affected CMS\n(§63.2386(d)(1)(ix))\n(Select from dropdown)]],Table22[],2,FALSE))","v":""}]
[null,{"$f":"IF(Table24[[#This Row],[Affected CMS\n(§63.2386(d)(1)(ix))\n(Select from dropdown)]]=\"\",\"\",VLOOKUP(Table24[[#This Row],[Affected CMS\n(§63.2386(d)(1)(ix))\n(Select from dropdown)]],Table22[],2,FALSE))","v":""}]
[null,{"$f":"IF(Table24[[#This Row],[Affected CMS\n(§63.2386(d)(1)(ix))\n(Select from dropdown)]]=\"\",\"\",VLOOKUP(Table24[[#This Row],[Affected CMS\n(§63.2386(d)(1)(ix))\n(Select from dropdown)]],Table22[],2,FALSE))","v":""}]
[null,{"$f":"IF(Table24[[#This Row],[Affected CMS\n(§63.2386(d)(1)(ix))\n(Select from dropdown)]]=\"\",\"\",VLOOKUP(Table24[[#This Row],[Affected CMS\n(§63.2386(d)(1)(ix))\n(Select from dropdown)]],Table22[],2,FALSE))","v":""}]
[null,{"$f":"IF(Table24[[#This Row],[Affected CMS\n(§63.2386(d)(1)(ix))\n(Select from dropdown)]]=\"\",\"\",VLOOKUP(Table24[[#This Row],[Affected CMS\n(§63.2386(d)(1)(ix))\n(Select from dropdown)]],Table22[],2,FALSE))","v":""}]
[null,{"$f":"IF(Table24[[#This Row],[Affected CMS\n(§63.2386(d)(1)(ix))\n(Select from dropdown)]]=\"\",\"\",VLOOKUP(Table24[[#This Row],[Affected CMS\n(§63.2386(d)(1)(ix))\n(Select from dropdown)]],Table22[],2,FALSE))","v":""}]
[null,{"$f":"IF(Table24[[#This Row],[Affected CMS\n(§63.2386(d)(1)(ix))\n(Select from dropdown)]]=\"\",\"\",VLOOKUP(Table24[[#This Row],[Affected CMS\n(§63.2386(d)(1)(ix))\n(Select from dropdown)]],Table22[],2,FALSE))","v":""}]
[null,{"$f":"IF(Table24[[#This Row],[Affected CMS\n(§63.2386(d)(1)(ix))\n(Select from dropdown)]]=\"\",\"\",VLOOKUP(Table24[[#This Row],[Affected CMS\n(§63.2386(d)(1)(ix))\n(Select from dropdown)]],Table22[],2,FALSE))","v":""}]
[null,{"$f":"IF(Table24[[#This Row],[Affected CMS\n(§63.2386(d)(1)(ix))\n(Select from dropdown)]]=\"\",\"\",VLOOKUP(Table24[[#This Row],[Affected CMS\n(§63.2386(d)(1)(ix))\n(Select from dropdown)]],Table22[],2,FALSE))","v":""}]
[null,{"$f":"IF(Table24[[#This Row],[Affected CMS\n(§63.2386(d)(1)(ix))\n(Select from dropdown)]]=\"\",\"\",VLOOKUP(Table24[[#This Row],[Affected CMS\n(§63.2386(d)(1)(ix))\n(Select from dropdown)]],Table22[],2,FALSE))","v":""}]
[null,{"$f":"IF(Table24[[#This Row],[Affected CMS\n(§63.2386(d)(1)(ix))\n(Select from dropdown)]]=\"\",\"\",VLOOKUP(Table24[[#This Row],[Affected CMS\n(§63.2386(d)(1)(ix))\n(Select from dropdown)]],Table22[],2,FALSE))","v":""}]
[null,{"$f":"IF(Table24[[#This Row],[Affected CMS\n(§63.2386(d)(1)(ix))\n(Select from dropdown)]]=\"\",\"\",VLOOKUP(Table24[[#This Row],[Affected CMS\n(§63.2386(d)(1)(ix))\n(Select from dropdown)]],Table22[],2,FALSE))","v":""}]
[null,{"$f":"IF(Table24[[#This Row],[Affected CMS\n(§63.2386(d)(1)(ix))\n(Select from dropdown)]]=\"\",\"\",VLOOKUP(Table24[[#This Row],[Affected CMS\n(§63.2386(d)(1)(ix))\n(Select from dropdown)]],Table22[],2,FALSE))","v":""}]
[null,{"$f":"IF(Table24[[#This Row],[Affected CMS\n(§63.2386(d)(1)(ix))\n(Select from dropdown)]]=\"\",\"\",VLOOKUP(Table24[[#This Row],[Affected CMS\n(§63.2386(d)(1)(ix))\n(Select from dropdown)]],Table22[],2,FALSE))","v":""}]
[null,{"$f":"IF(Table24[[#This Row],[Affected CMS\n(§63.2386(d)(1)(ix))\n(Select from dropdown)]]=\"\",\"\",VLOOKUP(Table24[[#This Row],[Affected CMS\n(§63.2386(d)(1)(ix))\n(Select from dropdown)]],Table22[],2,FALSE))","v":""}]
[null,{"$f":"IF(Table24[[#This Row],[Affected CMS\n(§63.2386(d)(1)(ix))\n(Select from dropdown)]]=\"\",\"\",VLOOKUP(Table24[[#This Row],[Affected CMS\n(§63.2386(d)(1)(ix))\n(Select from dropdown)]],Table22[],2,FALSE))","v":""}]
[null,{"$f":"IF(Table24[[#This Row],[Affected CMS\n(§63.2386(d)(1)(ix))\n(Select from dropdown)]]=\"\",\"\",VLOOKUP(Table24[[#This Row],[Affected CMS\n(§63.2386(d)(1)(ix))\n(Select from dropdown)]],Table22[],2,FALSE))","v":""}]
[null,{"$f":"IF(Table24[[#This Row],[Affected CMS\n(§63.2386(d)(1)(ix))\n(Select from dropdown)]]=\"\",\"\",VLOOKUP(Table24[[#This Row],[Affected CMS\n(§63.2386(d)(1)(ix))\n(Select from dropdown)]],Table22[],2,FALSE))","v":""}]
[null,{"$f":"IF(Table24[[#This Row],[Affected CMS\n(§63.2386(d)(1)(ix))\n(Select from dropdown)]]=\"\",\"\",VLOOKUP(Table24[[#This Row],[Affected CMS\n(§63.2386(d)(1)(ix))\n(Select from dropdown)]],Table22[],2,FALSE))","v":""}]
[null,{"$f":"IF(Table24[[#This Row],[Affected CMS\n(§63.2386(d)(1)(ix))\n(Select from dropdown)]]=\"\",\"\",VLOOKUP(Table24[[#This Row],[Affected CMS\n(§63.2386(d)(1)(ix))\n(Select from dropdown)]],Table22[],2,FALSE))","v":""}]
[null,{"$f":"IF(Table24[[#This Row],[Affected CMS\n(§63.2386(d)(1)(ix))\n(Select from dropdown)]]=\"\",\"\",VLOOKUP(Table24[[#This Row],[Affected CMS\n(§63.2386(d)(1)(ix))\n(Select from dropdown)]],Table22[],2,FALSE))","v":""}]
[null,{"$f":"IF(Table24[[#This Row],[Affected CMS\n(§63.2386(d)(1)(ix))\n(Select from dropdown)]]=\"\",\"\",VLOOKUP(Table24[[#This Row],[Affected CMS\n(§63.2386(d)(1)(ix))\n(Select from dropdown)]],Table22[],2,FALSE))","v":""}]
[null,{"$f":"IF(Table24[[#This Row],[Affected CMS\n(§63.2386(d)(1)(ix))\n(Select from dropdown)]]=\"\",\"\",VLOOKUP(Table24[[#This Row],[Affected CMS\n(§63.2386(d)(1)(ix))\n(Select from dropdown)]],Table22[],2,FALSE))","v":""}]
[null,{"$f":"IF(Table24[[#This Row],[Affected CMS\n(§63.2386(d)(1)(ix))\n(Select from dropdown)]]=\"\",\"\",VLOOKUP(Table24[[#This Row],[Affected CMS\n(§63.2386(d)(1)(ix))\n(Select from dropdown)]],Table22[],2,FALSE))","v":""}]
[null,{"$f":"IF(Table24[[#This Row],[Affected CMS\n(§63.2386(d)(1)(ix))\n(Select from dropdown)]]=\"\",\"\",VLOOKUP(Table24[[#This Row],[Affected CMS\n(§63.2386(d)(1)(ix))\n(Select from dropdown)]],Table22[],2,FALSE))","v":""}]
[null,{"$f":"IF(Table24[[#This Row],[Affected CMS\n(§63.2386(d)(1)(ix))\n(Select from dropdown)]]=\"\",\"\",VLOOKUP(Table24[[#This Row],[Affected CMS\n(§63.2386(d)(1)(ix))\n(Select from dropdown)]],Table22[],2,FALSE))","v":""}]
[null,{"$f":"IF(Table24[[#This Row],[Affected CMS\n(§63.2386(d)(1)(ix))\n(Select from dropdown)]]=\"\",\"\",VLOOKUP(Table24[[#This Row],[Affected CMS\n(§63.2386(d)(1)(ix))\n(Select from dropdown)]],Table22[],2,FALSE))","v":""}]
[null,{"$f":"IF(Table24[[#This Row],[Affected CMS\n(§63.2386(d)(1)(ix))\n(Select from dropdown)]]=\"\",\"\",VLOOKUP(Table24[[#This Row],[Affected CMS\n(§63.2386(d)(1)(ix))\n(Select from dropdown)]],Table22[],2,FALSE))","v":""}]
[null,{"$f":"IF(Table24[[#This Row],[Affected CMS\n(§63.2386(d)(1)(ix))\n(Select from dropdown)]]=\"\",\"\",VLOOKUP(Table24[[#This Row],[Affected CMS\n(§63.2386(d)(1)(ix))\n(Select from dropdown)]],Table22[],2,FALSE))","v":""}]
[null,{"$f":"IF(Table24[[#This Row],[Affected CMS\n(§63.2386(d)(1)(ix))\n(Select from dropdown)]]=\"\",\"\",VLOOKUP(Table24[[#This Row],[Affected CMS\n(§63.2386(d)(1)(ix))\n(Select from dropdown)]],Table22[],2,FALSE))","v":""}]
[null,{"$f":"IF(Table24[[#This Row],[Affected CMS\n(§63.2386(d)(1)(ix))\n(Select from dropdown)]]=\"\",\"\",VLOOKUP(Table24[[#This Row],[Affected CMS\n(§63.2386(d)(1)(ix))\n(Select from dropdown)]],Table22[],2,FALSE))","v":""}]
[null,{"$f":"IF(Table24[[#This Row],[Affected CMS\n(§63.2386(d)(1)(ix))\n(Select from dropdown)]]=\"\",\"\",VLOOKUP(Table24[[#This Row],[Affected CMS\n(§63.2386(d)(1)(ix))\n(Select from dropdown)]],Table22[],2,FALSE))","v":""}]
[null,{"$f":"IF(Table24[[#This Row],[Affected CMS\n(§63.2386(d)(1)(ix))\n(Select from dropdown)]]=\"\",\"\",VLOOKUP(Table24[[#This Row],[Affected CMS\n(§63.2386(d)(1)(ix))\n(Select from dropdown)]],Table22[],2,FALSE))","v":""}]
[null,{"$f":"IF(Table24[[#This Row],[Affected CMS\n(§63.2386(d)(1)(ix))\n(Select from dropdown)]]=\"\",\"\",VLOOKUP(Table24[[#This Row],[Affected CMS\n(§63.2386(d)(1)(ix))\n(Select from dropdown)]],Table22[],2,FALSE))","v":""}]
[null,{"$f":"IF(Table24[[#This Row],[Affected CMS\n(§63.2386(d)(1)(ix))\n(Select from dropdown)]]=\"\",\"\",VLOOKUP(Table24[[#This Row],[Affected CMS\n(§63.2386(d)(1)(ix))\n(Select from dropdown)]],Table22[],2,FALSE))","v":""}]
[null,{"$f":"IF(Table24[[#This Row],[Affected CMS\n(§63.2386(d)(1)(ix))\n(Select from dropdown)]]=\"\",\"\",VLOOKUP(Table24[[#This Row],[Affected CMS\n(§63.2386(d)(1)(ix))\n(Select from dropdown)]],Table22[],2,FALSE))","v":""}]
[null,{"$f":"IF(Table24[[#This Row],[Affected CMS\n(§63.2386(d)(1)(ix))\n(Select from dropdown)]]=\"\",\"\",VLOOKUP(Table24[[#This Row],[Affected CMS\n(§63.2386(d)(1)(ix))\n(Select from dropdown)]],Table22[],2,FALSE))","v":""}]
[null,{"$f":"IF(Table24[[#This Row],[Affected CMS\n(§63.2386(d)(1)(ix))\n(Select from dropdown)]]=\"\",\"\",VLOOKUP(Table24[[#This Row],[Affected CMS\n(§63.2386(d)(1)(ix))\n(Select from dropdown)]],Table22[],2,FALSE))","v":""}]
[null,{"$f":"IF(Table24[[#This Row],[Affected CMS\n(§63.2386(d)(1)(ix))\n(Select from dropdown)]]=\"\",\"\",VLOOKUP(Table24[[#This Row],[Affected CMS\n(§63.2386(d)(1)(ix))\n(Select from dropdown)]],Table22[],2,FALSE))","v":""}]
[null,{"$f":"IF(Table24[[#This Row],[Affected CMS\n(§63.2386(d)(1)(ix))\n(Select from dropdown)]]=\"\",\"\",VLOOKUP(Table24[[#This Row],[Affected CMS\n(§63.2386(d)(1)(ix))\n(Select from dropdown)]],Table22[],2,FALSE))","v":""}]
[null,{"$f":"IF(Table24[[#This Row],[Affected CMS\n(§63.2386(d)(1)(ix))\n(Select from dropdown)]]=\"\",\"\",VLOOKUP(Table24[[#This Row],[Affected CMS\n(§63.2386(d)(1)(ix))\n(Select from dropdown)]],Table22[],2,FALSE))","v":""}]
[null,{"$f":"IF(Table24[[#This Row],[Affected CMS\n(§63.2386(d)(1)(ix))\n(Select from dropdown)]]=\"\",\"\",VLOOKUP(Table24[[#This Row],[Affected CMS\n(§63.2386(d)(1)(ix))\n(Select from dropdown)]],Table22[],2,FALSE))","v":""}]
[null,{"$f":"IF(Table24[[#This Row],[Affected CMS\n(§63.2386(d)(1)(ix))\n(Select from dropdown)]]=\"\",\"\",VLOOKUP(Table24[[#This Row],[Affected CMS\n(§63.2386(d)(1)(ix))\n(Select from dropdown)]],Table22[],2,FALSE))","v":""}]
[null,{"$f":"IF(Table24[[#This Row],[Affected CMS\n(§63.2386(d)(1)(ix))\n(Select from dropdown)]]=\"\",\"\",VLOOKUP(Table24[[#This Row],[Affected CMS\n(§63.2386(d)(1)(ix))\n(Select from dropdown)]],Table22[],2,FALSE))","v":""}]
[null,{"$f":"IF(Table24[[#This Row],[Affected CMS\n(§63.2386(d)(1)(ix))\n(Select from dropdown)]]=\"\",\"\",VLOOKUP(Table24[[#This Row],[Affected CMS\n(§63.2386(d)(1)(ix))\n(Select from dropdown)]],Table22[],2,FALSE))","v":""}]
[null,{"$f":"IF(Table24[[#This Row],[Affected CMS\n(§63.2386(d)(1)(ix))\n(Select from dropdown)]]=\"\",\"\",VLOOKUP(Table24[[#This Row],[Affected CMS\n(§63.2386(d)(1)(ix))\n(Select from dropdown)]],Table22[],2,FALSE))","v":""}]
[null,{"$f":"IF(Table24[[#This Row],[Affected CMS\n(§63.2386(d)(1)(ix))\n(Select from dropdown)]]=\"\",\"\",VLOOKUP(Table24[[#This Row],[Affected CMS\n(§63.2386(d)(1)(ix))\n(Select from dropdown)]],Table22[],2,FALSE))","v":""}]
[null,{"$f":"IF(Table24[[#This Row],[Affected CMS\n(§63.2386(d)(1)(ix))\n(Select from dropdown)]]=\"\",\"\",VLOOKUP(Table24[[#This Row],[Affected CMS\n(§63.2386(d)(1)(ix))\n(Select from dropdown)]],Table22[],2,FALSE))","v":""}]
[null,{"$f":"IF(Table24[[#This Row],[Affected CMS\n(§63.2386(d)(1)(ix))\n(Select from dropdown)]]=\"\",\"\",VLOOKUP(Table24[[#This Row],[Affected CMS\n(§63.2386(d)(1)(ix))\n(Select from dropdown)]],Table22[],2,FALSE))","v":""}]
[null,{"$f":"IF(Table24[[#This Row],[Affected CMS\n(§63.2386(d)(1)(ix))\n(Select from dropdown)]]=\"\",\"\",VLOOKUP(Table24[[#This Row],[Affected CMS\n(§63.2386(d)(1)(ix))\n(Select from dropdown)]],Table22[],2,FALSE))","v":""}]
[null,{"$f":"IF(Table24[[#This Row],[Affected CMS\n(§63.2386(d)(1)(ix))\n(Select from dropdown)]]=\"\",\"\",VLOOKUP(Table24[[#This Row],[Affected CMS\n(§63.2386(d)(1)(ix))\n(Select from dropdown)]],Table22[],2,FALSE))","v":""}]
[null,{"$f":"IF(Table24[[#This Row],[Affected CMS\n(§63.2386(d)(1)(ix))\n(Select from dropdown)]]=\"\",\"\",VLOOKUP(Table24[[#This Row],[Affected CMS\n(§63.2386(d)(1)(ix))\n(Select from dropdown)]],Table22[],2,FALSE))","v":""}]
[null,{"$f":"IF(Table24[[#This Row],[Affected CMS\n(§63.2386(d)(1)(ix))\n(Select from dropdown)]]=\"\",\"\",VLOOKUP(Table24[[#This Row],[Affected CMS\n(§63.2386(d)(1)(ix))\n(Select from dropdown)]],Table22[],2,FALSE))","v":""}]
[null,{"$f":"IF(Table24[[#This Row],[Affected CMS\n(§63.2386(d)(1)(ix))\n(Select from dropdown)]]=\"\",\"\",VLOOKUP(Table24[[#This Row],[Affected CMS\n(§63.2386(d)(1)(ix))\n(Select from dropdown)]],Table22[],2,FALSE))","v":""}]
[null,{"$f":"IF(Table24[[#This Row],[Affected CMS\n(§63.2386(d)(1)(ix))\n(Select from dropdown)]]=\"\",\"\",VLOOKUP(Table24[[#This Row],[Affected CMS\n(§63.2386(d)(1)(ix))\n(Select from dropdown)]],Table22[],2,FALSE))","v":""}]
[null,{"$f":"IF(Table24[[#This Row],[Affected CMS\n(§63.2386(d)(1)(ix))\n(Select from dropdown)]]=\"\",\"\",VLOOKUP(Table24[[#This Row],[Affected CMS\n(§63.2386(d)(1)(ix))\n(Select from dropdown)]],Table22[],2,FALSE))","v":""}]
[null,{"$f":"IF(Table24[[#This Row],[Affected CMS\n(§63.2386(d)(1)(ix))\n(Select from dropdown)]]=\"\",\"\",VLOOKUP(Table24[[#This Row],[Affected CMS\n(§63.2386(d)(1)(ix))\n(Select from dropdown)]],Table22[],2,FALSE))","v":""}]
[null,{"$f":"IF(Table24[[#This Row],[Affected CMS\n(§63.2386(d)(1)(ix))\n(Select from dropdown)]]=\"\",\"\",VLOOKUP(Table24[[#This Row],[Affected CMS\n(§63.2386(d)(1)(ix))\n(Select from dropdown)]],Table22[],2,FALSE))","v":""}]
[null,{"$f":"IF(Table24[[#This Row],[Affected CMS\n(§63.2386(d)(1)(ix))\n(Select from dropdown)]]=\"\",\"\",VLOOKUP(Table24[[#This Row],[Affected CMS\n(§63.2386(d)(1)(ix))\n(Select from dropdown)]],Table22[],2,FALSE))","v":""}]
[null,{"$f":"IF(Table24[[#This Row],[Affected CMS\n(§63.2386(d)(1)(ix))\n(Select from dropdown)]]=\"\",\"\",VLOOKUP(Table24[[#This Row],[Affected CMS\n(§63.2386(d)(1)(ix))\n(Select from dropdown)]],Table22[],2,FALSE))","v":""}]
[null,{"$f":"IF(Table24[[#This Row],[Affected CMS\n(§63.2386(d)(1)(ix))\n(Select from dropdown)]]=\"\",\"\",VLOOKUP(Table24[[#This Row],[Affected CMS\n(§63.2386(d)(1)(ix))\n(Select from dropdown)]],Table22[],2,FALSE))","v":""}]
[null,{"$f":"IF(Table24[[#This Row],[Affected CMS\n(§63.2386(d)(1)(ix))\n(Select from dropdown)]]=\"\",\"\",VLOOKUP(Table24[[#This Row],[Affected CMS\n(§63.2386(d)(1)(ix))\n(Select from dropdown)]],Table22[],2,FALSE))","v":""}]
[null,{"$f":"IF(Table24[[#This Row],[Affected CMS\n(§63.2386(d)(1)(ix))\n(Select from dropdown)]]=\"\",\"\",VLOOKUP(Table24[[#This Row],[Affected CMS\n(§63.2386(d)(1)(ix))\n(Select from dropdown)]],Table22[],2,FALSE))","v":""}]
[null,{"$f":"IF(Table24[[#This Row],[Affected CMS\n(§63.2386(d)(1)(ix))\n(Select from dropdown)]]=\"\",\"\",VLOOKUP(Table24[[#This Row],[Affected CMS\n(§63.2386(d)(1)(ix))\n(Select from dropdown)]],Table22[],2,FALSE))","v":""}]
[null,{"$f":"IF(Table24[[#This Row],[Affected CMS\n(§63.2386(d)(1)(ix))\n(Select from dropdown)]]=\"\",\"\",VLOOKUP(Table24[[#This Row],[Affected CMS\n(§63.2386(d)(1)(ix))\n(Select from dropdown)]],Table22[],2,FALSE))","v":""}]
[null,{"$f":"IF(Table24[[#This Row],[Affected CMS\n(§63.2386(d)(1)(ix))\n(Select from dropdown)]]=\"\",\"\",VLOOKUP(Table24[[#This Row],[Affected CMS\n(§63.2386(d)(1)(ix))\n(Select from dropdown)]],Table22[],2,FALSE))","v":""}]
[null,{"$f":"IF(Table24[[#This Row],[Affected CMS\n(§63.2386(d)(1)(ix))\n(Select from dropdown)]]=\"\",\"\",VLOOKUP(Table24[[#This Row],[Affected CMS\n(§63.2386(d)(1)(ix))\n(Select from dropdown)]],Table22[],2,FALSE))","v":""}]
[null,{"$f":"IF(Table24[[#This Row],[Affected CMS\n(§63.2386(d)(1)(ix))\n(Select from dropdown)]]=\"\",\"\",VLOOKUP(Table24[[#This Row],[Affected CMS\n(§63.2386(d)(1)(ix))\n(Select from dropdown)]],Table22[],2,FALSE))","v":""}]
[null,{"$f":"IF(Table24[[#This Row],[Affected CMS\n(§63.2386(d)(1)(ix))\n(Select from dropdown)]]=\"\",\"\",VLOOKUP(Table24[[#This Row],[Affected CMS\n(§63.2386(d)(1)(ix))\n(Select from dropdown)]],Table22[],2,FALSE))","v":""}]
[null,{"$f":"IF(Table24[[#This Row],[Affected CMS\n(§63.2386(d)(1)(ix))\n(Select from dropdown)]]=\"\",\"\",VLOOKUP(Table24[[#This Row],[Affected CMS\n(§63.2386(d)(1)(ix))\n(Select from dropdown)]],Table22[],2,FALSE))","v":""}]
[null,{"$f":"IF(Table24[[#This Row],[Affected CMS\n(§63.2386(d)(1)(ix))\n(Select from dropdown)]]=\"\",\"\",VLOOKUP(Table24[[#This Row],[Affected CMS\n(§63.2386(d)(1)(ix))\n(Select from dropdown)]],Table22[],2,FALSE))","v":""}]
[null,{"$f":"IF(Table24[[#This Row],[Affected CMS\n(§63.2386(d)(1)(ix))\n(Select from dropdown)]]=\"\",\"\",VLOOKUP(Table24[[#This Row],[Affected CMS\n(§63.2386(d)(1)(ix))\n(Select from dropdown)]],Table22[],2,FALSE))","v":""}]
[null,{"$f":"IF(Table24[[#This Row],[Affected CMS\n(§63.2386(d)(1)(ix))\n(Select from dropdown)]]=\"\",\"\",VLOOKUP(Table24[[#This Row],[Affected CMS\n(§63.2386(d)(1)(ix))\n(Select from dropdown)]],Table22[],2,FALSE))","v":""}]
[null,{"$f":"IF(Table24[[#This Row],[Affected CMS\n(§63.2386(d)(1)(ix))\n(Select from dropdown)]]=\"\",\"\",VLOOKUP(Table24[[#This Row],[Affected CMS\n(§63.2386(d)(1)(ix))\n(Select from dropdown)]],Table22[],2,FALSE))","v":""}]
[null,{"$f":"IF(Table24[[#This Row],[Affected CMS\n(§63.2386(d)(1)(ix))\n(Select from dropdown)]]=\"\",\"\",VLOOKUP(Table24[[#This Row],[Affected CMS\n(§63.2386(d)(1)(ix))\n(Select from dropdown)]],Table22[],2,FALSE))","v":""}]
[null,{"$f":"IF(Table24[[#This Row],[Affected CMS\n(§63.2386(d)(1)(ix))\n(Select from dropdown)]]=\"\",\"\",VLOOKUP(Table24[[#This Row],[Affected CMS\n(§63.2386(d)(1)(ix))\n(Select from dropdown)]],Table22[],2,FALSE))","v":""}]
[null,{"$f":"IF(Table24[[#This Row],[Affected CMS\n(§63.2386(d)(1)(ix))\n(Select from dropdown)]]=\"\",\"\",VLOOKUP(Table24[[#This Row],[Affected CMS\n(§63.2386(d)(1)(ix))\n(Select from dropdown)]],Table22[],2,FALSE))","v":""}]
[null,{"$f":"IF(Table24[[#This Row],[Affected CMS\n(§63.2386(d)(1)(ix))\n(Select from dropdown)]]=\"\",\"\",VLOOKUP(Table24[[#This Row],[Affected CMS\n(§63.2386(d)(1)(ix))\n(Select from dropdown)]],Table22[],2,FALSE))","v":""}]
[null,{"$f":"IF(Table24[[#This Row],[Affected CMS\n(§63.2386(d)(1)(ix))\n(Select from dropdown)]]=\"\",\"\",VLOOKUP(Table24[[#This Row],[Affected CMS\n(§63.2386(d)(1)(ix))\n(Select from dropdown)]],Table22[],2,FALSE))","v":""}]
[null,{"$f":"IF(Table24[[#This Row],[Affected CMS\n(§63.2386(d)(1)(ix))\n(Select from dropdown)]]=\"\",\"\",VLOOKUP(Table24[[#This Row],[Affected CMS\n(§63.2386(d)(1)(ix))\n(Select from dropdown)]],Table22[],2,FALSE))","v":""}]
[null,{"$f":"IF(Table24[[#This Row],[Affected CMS\n(§63.2386(d)(1)(ix))\n(Select from dropdown)]]=\"\",\"\",VLOOKUP(Table24[[#This Row],[Affected CMS\n(§63.2386(d)(1)(ix))\n(Select from dropdown)]],Table22[],2,FALSE))","v":""}]
[null,{"$f":"IF(Table24[[#This Row],[Affected CMS\n(§63.2386(d)(1)(ix))\n(Select from dropdown)]]=\"\",\"\",VLOOKUP(Table24[[#This Row],[Affected CMS\n(§63.2386(d)(1)(ix))\n(Select from dropdown)]],Table22[],2,FALSE))","v":""}]
[null,{"$f":"IF(Table24[[#This Row],[Affected CMS\n(§63.2386(d)(1)(ix))\n(Select from dropdown)]]=\"\",\"\",VLOOKUP(Table24[[#This Row],[Affected CMS\n(§63.2386(d)(1)(ix))\n(Select from dropdown)]],Table22[],2,FALSE))","v":""}]
[null,{"$f":"IF(Table24[[#This Row],[Affected CMS\n(§63.2386(d)(1)(ix))\n(Select from dropdown)]]=\"\",\"\",VLOOKUP(Table24[[#This Row],[Affected CMS\n(§63.2386(d)(1)(ix))\n(Select from dropdown)]],Table22[],2,FALSE))","v":""}]
[null,{"$f":"IF(Table24[[#This Row],[Affected CMS\n(§63.2386(d)(1)(ix))\n(Select from dropdown)]]=\"\",\"\",VLOOKUP(Table24[[#This Row],[Affected CMS\n(§63.2386(d)(1)(ix))\n(Select from dropdown)]],Table22[],2,FALSE))","v":""}]
[null,{"$f":"IF(Table24[[#This Row],[Affected CMS\n(§63.2386(d)(1)(ix))\n(Select from dropdown)]]=\"\",\"\",VLOOKUP(Table24[[#This Row],[Affected CMS\n(§63.2386(d)(1)(ix))\n(Select from dropdown)]],Table22[],2,FALSE))","v":""}]
[null,{"$f":"IF(Table24[[#This Row],[Affected CMS\n(§63.2386(d)(1)(ix))\n(Select from dropdown)]]=\"\",\"\",VLOOKUP(Table24[[#This Row],[Affected CMS\n(§63.2386(d)(1)(ix))\n(Select from dropdown)]],Table22[],2,FALSE))","v":""}]
[null,{"$f":"IF(Table24[[#This Row],[Affected CMS\n(§63.2386(d)(1)(ix))\n(Select from dropdown)]]=\"\",\"\",VLOOKUP(Table24[[#This Row],[Affected CMS\n(§63.2386(d)(1)(ix))\n(Select from dropdown)]],Table22[],2,FALSE))","v":""}]
[null,{"$f":"IF(Table24[[#This Row],[Affected CMS\n(§63.2386(d)(1)(ix))\n(Select from dropdown)]]=\"\",\"\",VLOOKUP(Table24[[#This Row],[Affected CMS\n(§63.2386(d)(1)(ix))\n(Select from dropdown)]],Table22[],2,FALSE))","v":""}]
[null,{"$f":"IF(Table24[[#This Row],[Affected CMS\n(§63.2386(d)(1)(ix))\n(Select from dropdown)]]=\"\",\"\",VLOOKUP(Table24[[#This Row],[Affected CMS\n(§63.2386(d)(1)(ix))\n(Select from dropdown)]],Table22[],2,FALSE))","v":""}]
[null,{"$f":"IF(Table24[[#This Row],[Affected CMS\n(§63.2386(d)(1)(ix))\n(Select from dropdown)]]=\"\",\"\",VLOOKUP(Table24[[#This Row],[Affected CMS\n(§63.2386(d)(1)(ix))\n(Select from dropdown)]],Table22[],2,FALSE))","v":""}]
[null,{"$f":"IF(Table24[[#This Row],[Affected CMS\n(§63.2386(d)(1)(ix))\n(Select from dropdown)]]=\"\",\"\",VLOOKUP(Table24[[#This Row],[Affected CMS\n(§63.2386(d)(1)(ix))\n(Select from dropdown)]],Table22[],2,FALSE))","v":""}]
[null,{"$f":"IF(Table24[[#This Row],[Affected CMS\n(§63.2386(d)(1)(ix))\n(Select from dropdown)]]=\"\",\"\",VLOOKUP(Table24[[#This Row],[Affected CMS\n(§63.2386(d)(1)(ix))\n(Select from dropdown)]],Table22[],2,FALSE))","v":""}]
[null,{"$f":"IF(Table24[[#This Row],[Affected CMS\n(§63.2386(d)(1)(ix))\n(Select from dropdown)]]=\"\",\"\",VLOOKUP(Table24[[#This Row],[Affected CMS\n(§63.2386(d)(1)(ix))\n(Select from dropdown)]],Table22[],2,FALSE))","v":""}]
[null,{"$f":"IF(Table24[[#This Row],[Affected CMS\n(§63.2386(d)(1)(ix))\n(Select from dropdown)]]=\"\",\"\",VLOOKUP(Table24[[#This Row],[Affected CMS\n(§63.2386(d)(1)(ix))\n(Select from dropdown)]],Table22[],2,FALSE))","v":""}]
[null,{"$f":"IF(Table24[[#This Row],[Affected CMS\n(§63.2386(d)(1)(ix))\n(Select from dropdown)]]=\"\",\"\",VLOOKUP(Table24[[#This Row],[Affected CMS\n(§63.2386(d)(1)(ix))\n(Select from dropdown)]],Table22[],2,FALSE))","v":""}]
[null,{"$f":"IF(Table24[[#This Row],[Affected CMS\n(§63.2386(d)(1)(ix))\n(Select from dropdown)]]=\"\",\"\",VLOOKUP(Table24[[#This Row],[Affected CMS\n(§63.2386(d)(1)(ix))\n(Select from dropdown)]],Table22[],2,FALSE))","v":""}]
[null,{"$f":"IF(Table24[[#This Row],[Affected CMS\n(§63.2386(d)(1)(ix))\n(Select from dropdown)]]=\"\",\"\",VLOOKUP(Table24[[#This Row],[Affected CMS\n(§63.2386(d)(1)(ix))\n(Select from dropdown)]],Table22[],2,FALSE))","v":""}]
[null,{"$f":"IF(Table24[[#This Row],[Affected CMS\n(§63.2386(d)(1)(ix))\n(Select from dropdown)]]=\"\",\"\",VLOOKUP(Table24[[#This Row],[Affected CMS\n(§63.2386(d)(1)(ix))\n(Select from dropdown)]],Table22[],2,FALSE))","v":""}]
[null,{"$f":"IF(Table24[[#This Row],[Affected CMS\n(§63.2386(d)(1)(ix))\n(Select from dropdown)]]=\"\",\"\",VLOOKUP(Table24[[#This Row],[Affected CMS\n(§63.2386(d)(1)(ix))\n(Select from dropdown)]],Table22[],2,FALSE))","v":""}]
[null,{"$f":"IF(Table24[[#This Row],[Affected CMS\n(§63.2386(d)(1)(ix))\n(Select from dropdown)]]=\"\",\"\",VLOOKUP(Table24[[#This Row],[Affected CMS\n(§63.2386(d)(1)(ix))\n(Select from dropdown)]],Table22[],2,FALSE))","v":""}]
[null,{"$f":"IF(Table24[[#This Row],[Affected CMS\n(§63.2386(d)(1)(ix))\n(Select from dropdown)]]=\"\",\"\",VLOOKUP(Table24[[#This Row],[Affected CMS\n(§63.2386(d)(1)(ix))\n(Select from dropdown)]],Table22[],2,FALSE))","v":""}]
[null,{"$f":"IF(Table24[[#This Row],[Affected CMS\n(§63.2386(d)(1)(ix))\n(Select from dropdown)]]=\"\",\"\",VLOOKUP(Table24[[#This Row],[Affected CMS\n(§63.2386(d)(1)(ix))\n(Select from dropdown)]],Table22[],2,FALSE))","v":""}]
[null,{"$f":"IF(Table24[[#This Row],[Affected CMS\n(§63.2386(d)(1)(ix))\n(Select from dropdown)]]=\"\",\"\",VLOOKUP(Table24[[#This Row],[Affected CMS\n(§63.2386(d)(1)(ix))\n(Select from dropdown)]],Table22[],2,FALSE))","v":""}]
[null,{"$f":"IF(Table24[[#This Row],[Affected CMS\n(§63.2386(d)(1)(ix))\n(Select from dropdown)]]=\"\",\"\",VLOOKUP(Table24[[#This Row],[Affected CMS\n(§63.2386(d)(1)(ix))\n(Select from dropdown)]],Table22[],2,FALSE))","v":""}]
[null,{"$f":"IF(Table24[[#This Row],[Affected CMS\n(§63.2386(d)(1)(ix))\n(Select from dropdown)]]=\"\",\"\",VLOOKUP(Table24[[#This Row],[Affected CMS\n(§63.2386(d)(1)(ix))\n(Select from dropdown)]],Table22[],2,FALSE))","v":""}]
[null,{"$f":"IF(Table24[[#This Row],[Affected CMS\n(§63.2386(d)(1)(ix))\n(Select from dropdown)]]=\"\",\"\",VLOOKUP(Table24[[#This Row],[Affected CMS\n(§63.2386(d)(1)(ix))\n(Select from dropdown)]],Table22[],2,FALSE))","v":""}]
[null,{"$f":"IF(Table24[[#This Row],[Affected CMS\n(§63.2386(d)(1)(ix))\n(Select from dropdown)]]=\"\",\"\",VLOOKUP(Table24[[#This Row],[Affected CMS\n(§63.2386(d)(1)(ix))\n(Select from dropdown)]],Table22[],2,FALSE))","v":""}]
[null,{"$f":"IF(Table24[[#This Row],[Affected CMS\n(§63.2386(d)(1)(ix))\n(Select from dropdown)]]=\"\",\"\",VLOOKUP(Table24[[#This Row],[Affected CMS\n(§63.2386(d)(1)(ix))\n(Select from dropdown)]],Table22[],2,FALSE))","v":""}]
[null,{"$f":"IF(Table24[[#This Row],[Affected CMS\n(§63.2386(d)(1)(ix))\n(Select from dropdown)]]=\"\",\"\",VLOOKUP(Table24[[#This Row],[Affected CMS\n(§63.2386(d)(1)(ix))\n(Select from dropdown)]],Table22[],2,FALSE))","v":""}]
[null,{"$f":"IF(Table24[[#This Row],[Affected CMS\n(§63.2386(d)(1)(ix))\n(Select from dropdown)]]=\"\",\"\",VLOOKUP(Table24[[#This Row],[Affected CMS\n(§63.2386(d)(1)(ix))\n(Select from dropdown)]],Table22[],2,FALSE))","v":""}]
[null,{"$f":"IF(Table24[[#This Row],[Affected CMS\n(§63.2386(d)(1)(ix))\n(Select from dropdown)]]=\"\",\"\",VLOOKUP(Table24[[#This Row],[Affected CMS\n(§63.2386(d)(1)(ix))\n(Select from dropdown)]],Table22[],2,FALSE))","v":""}]
[null,{"$f":"IF(Table24[[#This Row],[Affected CMS\n(§63.2386(d)(1)(ix))\n(Select from dropdown)]]=\"\",\"\",VLOOKUP(Table24[[#This Row],[Affected CMS\n(§63.2386(d)(1)(ix))\n(Select from dropdown)]],Table22[],2,FALSE))","v":""}]
[null,{"$f":"IF(Table24[[#This Row],[Affected CMS\n(§63.2386(d)(1)(ix))\n(Select from dropdown)]]=\"\",\"\",VLOOKUP(Table24[[#This Row],[Affected CMS\n(§63.2386(d)(1)(ix))\n(Select from dropdown)]],Table22[],2,FALSE))","v":""}]
[null,{"$f":"IF(Table24[[#This Row],[Affected CMS\n(§63.2386(d)(1)(ix))\n(Select from dropdown)]]=\"\",\"\",VLOOKUP(Table24[[#This Row],[Affected CMS\n(§63.2386(d)(1)(ix))\n(Select from dropdown)]],Table22[],2,FALSE))","v":""}]
[null,{"$f":"IF(Table24[[#This Row],[Affected CMS\n(§63.2386(d)(1)(ix))\n(Select from dropdown)]]=\"\",\"\",VLOOKUP(Table24[[#This Row],[Affected CMS\n(§63.2386(d)(1)(ix))\n(Select from dropdown)]],Table22[],2,FALSE))","v":""}]
[null,{"$f":"IF(Table24[[#This Row],[Affected CMS\n(§63.2386(d)(1)(ix))\n(Select from dropdown)]]=\"\",\"\",VLOOKUP(Table24[[#This Row],[Affected CMS\n(§63.2386(d)(1)(ix))\n(Select from dropdown)]],Table22[],2,FALSE))","v":""}]
[null,{"$f":"IF(Table24[[#This Row],[Affected CMS\n(§63.2386(d)(1)(ix))\n(Select from dropdown)]]=\"\",\"\",VLOOKUP(Table24[[#This Row],[Affected CMS\n(§63.2386(d)(1)(ix))\n(Select from dropdown)]],Table22[],2,FALSE))","v":""}]
[null,{"$f":"IF(Table24[[#This Row],[Affected CMS\n(§63.2386(d)(1)(ix))\n(Select from dropdown)]]=\"\",\"\",VLOOKUP(Table24[[#This Row],[Affected CMS\n(§63.2386(d)(1)(ix))\n(Select from dropdown)]],Table22[],2,FALSE))","v":""}]
[null,{"$f":"IF(Table24[[#This Row],[Affected CMS\n(§63.2386(d)(1)(ix))\n(Select from dropdown)]]=\"\",\"\",VLOOKUP(Table24[[#This Row],[Affected CMS\n(§63.2386(d)(1)(ix))\n(Select from dropdown)]],Table22[],2,FALSE))","v":""}]
[null,{"$f":"IF(Table24[[#This Row],[Affected CMS\n(§63.2386(d)(1)(ix))\n(Select from dropdown)]]=\"\",\"\",VLOOKUP(Table24[[#This Row],[Affected CMS\n(§63.2386(d)(1)(ix))\n(Select from dropdown)]],Table22[],2,FALSE))","v":""}]
[null,{"$f":"IF(Table24[[#This Row],[Affected CMS\n(§63.2386(d)(1)(ix))\n(Select from dropdown)]]=\"\",\"\",VLOOKUP(Table24[[#This Row],[Affected CMS\n(§63.2386(d)(1)(ix))\n(Select from dropdown)]],Table22[],2,FALSE))","v":""}]
[null,{"$f":"IF(Table24[[#This Row],[Affected CMS\n(§63.2386(d)(1)(ix))\n(Select from dropdown)]]=\"\",\"\",VLOOKUP(Table24[[#This Row],[Affected CMS\n(§63.2386(d)(1)(ix))\n(Select from dropdown)]],Table22[],2,FALSE))","v":""}]
[null,{"$f":"IF(Table24[[#This Row],[Affected CMS\n(§63.2386(d)(1)(ix))\n(Select from dropdown)]]=\"\",\"\",VLOOKUP(Table24[[#This Row],[Affected CMS\n(§63.2386(d)(1)(ix))\n(Select from dropdown)]],Table22[],2,FALSE))","v":""}]
[null,{"$f":"IF(Table24[[#This Row],[Affected CMS\n(§63.2386(d)(1)(ix))\n(Select from dropdown)]]=\"\",\"\",VLOOKUP(Table24[[#This Row],[Affected CMS\n(§63.2386(d)(1)(ix))\n(Select from dropdown)]],Table22[],2,FALSE))","v":""}]
[null,{"$f":"IF(Table24[[#This Row],[Affected CMS\n(§63.2386(d)(1)(ix))\n(Select from dropdown)]]=\"\",\"\",VLOOKUP(Table24[[#This Row],[Affected CMS\n(§63.2386(d)(1)(ix))\n(Select from dropdown)]],Table22[],2,FALSE))","v":""}]
[null,{"$f":"IF(Table24[[#This Row],[Affected CMS\n(§63.2386(d)(1)(ix))\n(Select from dropdown)]]=\"\",\"\",VLOOKUP(Table24[[#This Row],[Affected CMS\n(§63.2386(d)(1)(ix))\n(Select from dropdown)]],Table22[],2,FALSE))","v":""}]
[null,{"$f":"IF(Table24[[#This Row],[Affected CMS\n(§63.2386(d)(1)(ix))\n(Select from dropdown)]]=\"\",\"\",VLOOKUP(Table24[[#This Row],[Affected CMS\n(§63.2386(d)(1)(ix))\n(Select from dropdown)]],Table22[],2,FALSE))","v":""}]
[null,{"$f":"IF(Table24[[#This Row],[Affected CMS\n(§63.2386(d)(1)(ix))\n(Select from dropdown)]]=\"\",\"\",VLOOKUP(Table24[[#This Row],[Affected CMS\n(§63.2386(d)(1)(ix))\n(Select from dropdown)]],Table22[],2,FALSE))","v":""}]
[null,{"$f":"IF(Table24[[#This Row],[Affected CMS\n(§63.2386(d)(1)(ix))\n(Select from dropdown)]]=\"\",\"\",VLOOKUP(Table24[[#This Row],[Affected CMS\n(§63.2386(d)(1)(ix))\n(Select from dropdown)]],Table22[],2,FALSE))","v":""}]
[null,{"$f":"IF(Table24[[#This Row],[Affected CMS\n(§63.2386(d)(1)(ix))\n(Select from dropdown)]]=\"\",\"\",VLOOKUP(Table24[[#This Row],[Affected CMS\n(§63.2386(d)(1)(ix))\n(Select from dropdown)]],Table22[],2,FALSE))","v":""}]
[null,{"$f":"IF(Table24[[#This Row],[Affected CMS\n(§63.2386(d)(1)(ix))\n(Select from dropdown)]]=\"\",\"\",VLOOKUP(Table24[[#This Row],[Affected CMS\n(§63.2386(d)(1)(ix))\n(Select from dropdown)]],Table22[],2,FALSE))","v":""}]
[null,{"$f":"IF(Table24[[#This Row],[Affected CMS\n(§63.2386(d)(1)(ix))\n(Select from dropdown)]]=\"\",\"\",VLOOKUP(Table24[[#This Row],[Affected CMS\n(§63.2386(d)(1)(ix))\n(Select from dropdown)]],Table22[],2,FALSE))","v":""}]
[null,{"$f":"IF(Table24[[#This Row],[Affected CMS\n(§63.2386(d)(1)(ix))\n(Select from dropdown)]]=\"\",\"\",VLOOKUP(Table24[[#This Row],[Affected CMS\n(§63.2386(d)(1)(ix))\n(Select from dropdown)]],Table22[],2,FALSE))","v":""}]
[null,{"$f":"IF(Table24[[#This Row],[Affected CMS\n(§63.2386(d)(1)(ix))\n(Select from dropdown)]]=\"\",\"\",VLOOKUP(Table24[[#This Row],[Affected CMS\n(§63.2386(d)(1)(ix))\n(Select from dropdown)]],Table22[],2,FALSE))","v":""}]
[null,{"$f":"IF(Table24[[#This Row],[Affected CMS\n(§63.2386(d)(1)(ix))\n(Select from dropdown)]]=\"\",\"\",VLOOKUP(Table24[[#This Row],[Affected CMS\n(§63.2386(d)(1)(ix))\n(Select from dropdown)]],Table22[],2,FALSE))","v":""}]
[null,{"$f":"IF(Table24[[#This Row],[Affected CMS\n(§63.2386(d)(1)(ix))\n(Select from dropdown)]]=\"\",\"\",VLOOKUP(Table24[[#This Row],[Affected CMS\n(§63.2386(d)(1)(ix))\n(Select from dropdown)]],Table22[],2,FALSE))","v":""}]
[null,{"$f":"IF(Table24[[#This Row],[Affected CMS\n(§63.2386(d)(1)(ix))\n(Select from dropdown)]]=\"\",\"\",VLOOKUP(Table24[[#This Row],[Affected CMS\n(§63.2386(d)(1)(ix))\n(Select from dropdown)]],Table22[],2,FALSE))","v":""}]
[null,{"$f":"IF(Table24[[#This Row],[Affected CMS\n(§63.2386(d)(1)(ix))\n(Select from dropdown)]]=\"\",\"\",VLOOKUP(Table24[[#This Row],[Affected CMS\n(§63.2386(d)(1)(ix))\n(Select from dropdown)]],Table22[],2,FALSE))","v":""}]
[null,{"$f":"IF(Table24[[#This Row],[Affected CMS\n(§63.2386(d)(1)(ix))\n(Select from dropdown)]]=\"\",\"\",VLOOKUP(Table24[[#This Row],[Affected CMS\n(§63.2386(d)(1)(ix))\n(Select from dropdown)]],Table22[],2,FALSE))","v":""}]
[null,{"$f":"IF(Table24[[#This Row],[Affected CMS\n(§63.2386(d)(1)(ix))\n(Select from dropdown)]]=\"\",\"\",VLOOKUP(Table24[[#This Row],[Affected CMS\n(§63.2386(d)(1)(ix))\n(Select from dropdown)]],Table22[],2,FALSE))","v":""}]
[null,{"$f":"IF(Table24[[#This Row],[Affected CMS\n(§63.2386(d)(1)(ix))\n(Select from dropdown)]]=\"\",\"\",VLOOKUP(Table24[[#This Row],[Affected CMS\n(§63.2386(d)(1)(ix))\n(Select from dropdown)]],Table22[],2,FALSE))","v":""}]
[null,{"$f":"IF(Table24[[#This Row],[Affected CMS\n(§63.2386(d)(1)(ix))\n(Select from dropdown)]]=\"\",\"\",VLOOKUP(Table24[[#This Row],[Affected CMS\n(§63.2386(d)(1)(ix))\n(Select from dropdown)]],Table22[],2,FALSE))","v":""}]
[null,{"$f":"IF(Table24[[#This Row],[Affected CMS\n(§63.2386(d)(1)(ix))\n(Select from dropdown)]]=\"\",\"\",VLOOKUP(Table24[[#This Row],[Affected CMS\n(§63.2386(d)(1)(ix))\n(Select from dropdown)]],Table22[],2,FALSE))","v":""}]
[null,{"$f":"IF(Table24[[#This Row],[Affected CMS\n(§63.2386(d)(1)(ix))\n(Select from dropdown)]]=\"\",\"\",VLOOKUP(Table24[[#This Row],[Affected CMS\n(§63.2386(d)(1)(ix))\n(Select from dropdown)]],Table22[],2,FALSE))","v":""}]
[null,{"$f":"IF(Table24[[#This Row],[Affected CMS\n(§63.2386(d)(1)(ix))\n(Select from dropdown)]]=\"\",\"\",VLOOKUP(Table24[[#This Row],[Affected CMS\n(§63.2386(d)(1)(ix))\n(Select from dropdown)]],Table22[],2,FALSE))","v":""}]
[null,{"$f":"IF(Table24[[#This Row],[Affected CMS\n(§63.2386(d)(1)(ix))\n(Select from dropdown)]]=\"\",\"\",VLOOKUP(Table24[[#This Row],[Affected CMS\n(§63.2386(d)(1)(ix))\n(Select from dropdown)]],Table22[],2,FALSE))","v":""}]
[null,{"$f":"IF(Table24[[#This Row],[Affected CMS\n(§63.2386(d)(1)(ix))\n(Select from dropdown)]]=\"\",\"\",VLOOKUP(Table24[[#This Row],[Affected CMS\n(§63.2386(d)(1)(ix))\n(Select from dropdown)]],Table22[],2,FALSE))","v":""}]
[null,{"$f":"IF(Table24[[#This Row],[Affected CMS\n(§63.2386(d)(1)(ix))\n(Select from dropdown)]]=\"\",\"\",VLOOKUP(Table24[[#This Row],[Affected CMS\n(§63.2386(d)(1)(ix))\n(Select from dropdown)]],Table22[],2,FALSE))","v":""}]
[null,{"$f":"IF(Table24[[#This Row],[Affected CMS\n(§63.2386(d)(1)(ix))\n(Select from dropdown)]]=\"\",\"\",VLOOKUP(Table24[[#This Row],[Affected CMS\n(§63.2386(d)(1)(ix))\n(Select from dropdown)]],Table22[],2,FALSE))","v":""}]
[null,{"$f":"IF(Table24[[#This Row],[Affected CMS\n(§63.2386(d)(1)(ix))\n(Select from dropdown)]]=\"\",\"\",VLOOKUP(Table24[[#This Row],[Affected CMS\n(§63.2386(d)(1)(ix))\n(Select from dropdown)]],Table22[],2,FALSE))","v":""}]
[null,{"$f":"IF(Table24[[#This Row],[Affected CMS\n(§63.2386(d)(1)(ix))\n(Select from dropdown)]]=\"\",\"\",VLOOKUP(Table24[[#This Row],[Affected CMS\n(§63.2386(d)(1)(ix))\n(Select from dropdown)]],Table22[],2,FALSE))","v":""}]
[null,{"$f":"IF(Table24[[#This Row],[Affected CMS\n(§63.2386(d)(1)(ix))\n(Select from dropdown)]]=\"\",\"\",VLOOKUP(Table24[[#This Row],[Affected CMS\n(§63.2386(d)(1)(ix))\n(Select from dropdown)]],Table22[],2,FALSE))","v":""}]
[null,{"$f":"IF(Table24[[#This Row],[Affected CMS\n(§63.2386(d)(1)(ix))\n(Select from dropdown)]]=\"\",\"\",VLOOKUP(Table24[[#This Row],[Affected CMS\n(§63.2386(d)(1)(ix))\n(Select from dropdown)]],Table22[],2,FALSE))","v":""}]
[null,{"$f":"IF(Table24[[#This Row],[Affected CMS\n(§63.2386(d)(1)(ix))\n(Select from dropdown)]]=\"\",\"\",VLOOKUP(Table24[[#This Row],[Affected CMS\n(§63.2386(d)(1)(ix))\n(Select from dropdown)]],Table22[],2,FALSE))","v":""}]
[null,{"$f":"IF(Table24[[#This Row],[Affected CMS\n(§63.2386(d)(1)(ix))\n(Select from dropdown)]]=\"\",\"\",VLOOKUP(Table24[[#This Row],[Affected CMS\n(§63.2386(d)(1)(ix))\n(Select from dropdown)]],Table22[],2,FALSE))","v":""}]
[null,{"$f":"IF(Table24[[#This Row],[Affected CMS\n(§63.2386(d)(1)(ix))\n(Select from dropdown)]]=\"\",\"\",VLOOKUP(Table24[[#This Row],[Affected CMS\n(§63.2386(d)(1)(ix))\n(Select from dropdown)]],Table22[],2,FALSE))","v":""}]
[null,{"$f":"IF(Table24[[#This Row],[Affected CMS\n(§63.2386(d)(1)(ix))\n(Select from dropdown)]]=\"\",\"\",VLOOKUP(Table24[[#This Row],[Affected CMS\n(§63.2386(d)(1)(ix))\n(Select from dropdown)]],Table22[],2,FALSE))","v":""}]
[null,{"$f":"IF(Table24[[#This Row],[Affected CMS\n(§63.2386(d)(1)(ix))\n(Select from dropdown)]]=\"\",\"\",VLOOKUP(Table24[[#This Row],[Affected CMS\n(§63.2386(d)(1)(ix))\n(Select from dropdown)]],Table22[],2,FALSE))","v":""}]
[null,{"$f":"IF(Table24[[#This Row],[Affected CMS\n(§63.2386(d)(1)(ix))\n(Select from dropdown)]]=\"\",\"\",VLOOKUP(Table24[[#This Row],[Affected CMS\n(§63.2386(d)(1)(ix))\n(Select from dropdown)]],Table22[],2,FALSE))","v":""}]
[null,{"$f":"IF(Table24[[#This Row],[Affected CMS\n(§63.2386(d)(1)(ix))\n(Select from dropdown)]]=\"\",\"\",VLOOKUP(Table24[[#This Row],[Affected CMS\n(§63.2386(d)(1)(ix))\n(Select from dropdown)]],Table22[],2,FALSE))","v":""}]
[null,{"$f":"IF(Table24[[#This Row],[Affected CMS\n(§63.2386(d)(1)(ix))\n(Select from dropdown)]]=\"\",\"\",VLOOKUP(Table24[[#This Row],[Affected CMS\n(§63.2386(d)(1)(ix))\n(Select from dropdown)]],Table22[],2,FALSE))","v":""}]
[null,{"$f":"IF(Table24[[#This Row],[Affected CMS\n(§63.2386(d)(1)(ix))\n(Select from dropdown)]]=\"\",\"\",VLOOKUP(Table24[[#This Row],[Affected CMS\n(§63.2386(d)(1)(ix))\n(Select from dropdown)]],Table22[],2,FALSE))","v":""}]
[null,{"$f":"IF(Table24[[#This Row],[Affected CMS\n(§63.2386(d)(1)(ix))\n(Select from dropdown)]]=\"\",\"\",VLOOKUP(Table24[[#This Row],[Affected CMS\n(§63.2386(d)(1)(ix))\n(Select from dropdown)]],Table22[],2,FALSE))","v":""}]
[null,{"$f":"IF(Table24[[#This Row],[Affected CMS\n(§63.2386(d)(1)(ix))\n(Select from dropdown)]]=\"\",\"\",VLOOKUP(Table24[[#This Row],[Affected CMS\n(§63.2386(d)(1)(ix))\n(Select from dropdown)]],Table22[],2,FALSE))","v":""}]
[null,{"$f":"IF(Table24[[#This Row],[Affected CMS\n(§63.2386(d)(1)(ix))\n(Select from dropdown)]]=\"\",\"\",VLOOKUP(Table24[[#This Row],[Affected CMS\n(§63.2386(d)(1)(ix))\n(Select from dropdown)]],Table22[],2,FALSE))","v":""}]
[null,{"$f":"IF(Table24[[#This Row],[Affected CMS\n(§63.2386(d)(1)(ix))\n(Select from dropdown)]]=\"\",\"\",VLOOKUP(Table24[[#This Row],[Affected CMS\n(§63.2386(d)(1)(ix))\n(Select from dropdown)]],Table22[],2,FALSE))","v":""}]
[null,{"$f":"IF(Table24[[#This Row],[Affected CMS\n(§63.2386(d)(1)(ix))\n(Select from dropdown)]]=\"\",\"\",VLOOKUP(Table24[[#This Row],[Affected CMS\n(§63.2386(d)(1)(ix))\n(Select from dropdown)]],Table22[],2,FALSE))","v":""}]
[null,{"$f":"IF(Table24[[#This Row],[Affected CMS\n(§63.2386(d)(1)(ix))\n(Select from dropdown)]]=\"\",\"\",VLOOKUP(Table24[[#This Row],[Affected CMS\n(§63.2386(d)(1)(ix))\n(Select from dropdown)]],Table22[],2,FALSE))","v":""}]
[null,{"$f":"IF(Table24[[#This Row],[Affected CMS\n(§63.2386(d)(1)(ix))\n(Select from dropdown)]]=\"\",\"\",VLOOKUP(Table24[[#This Row],[Affected CMS\n(§63.2386(d)(1)(ix))\n(Select from dropdown)]],Table22[],2,FALSE))","v":""}]
[null,{"$f":"IF(Table24[[#This Row],[Affected CMS\n(§63.2386(d)(1)(ix))\n(Select from dropdown)]]=\"\",\"\",VLOOKUP(Table24[[#This Row],[Affected CMS\n(§63.2386(d)(1)(ix))\n(Select from dropdown)]],Table22[],2,FALSE))","v":""}]
[null,{"$f":"IF(Table24[[#This Row],[Affected CMS\n(§63.2386(d)(1)(ix))\n(Select from dropdown)]]=\"\",\"\",VLOOKUP(Table24[[#This Row],[Affected CMS\n(§63.2386(d)(1)(ix))\n(Select from dropdown)]],Table22[],2,FALSE))","v":""}]
[null,{"$f":"IF(Table24[[#This Row],[Affected CMS\n(§63.2386(d)(1)(ix))\n(Select from dropdown)]]=\"\",\"\",VLOOKUP(Table24[[#This Row],[Affected CMS\n(§63.2386(d)(1)(ix))\n(Select from dropdown)]],Table22[],2,FALSE))","v":""}]
[null,{"$f":"IF(Table24[[#This Row],[Affected CMS\n(§63.2386(d)(1)(ix))\n(Select from dropdown)]]=\"\",\"\",VLOOKUP(Table24[[#This Row],[Affected CMS\n(§63.2386(d)(1)(ix))\n(Select from dropdown)]],Table22[],2,FALSE))","v":""}]
[null,{"$f":"IF(Table24[[#This Row],[Affected CMS\n(§63.2386(d)(1)(ix))\n(Select from dropdown)]]=\"\",\"\",VLOOKUP(Table24[[#This Row],[Affected CMS\n(§63.2386(d)(1)(ix))\n(Select from dropdown)]],Table22[],2,FALSE))","v":""}]
[null,{"$f":"IF(Table24[[#This Row],[Affected CMS\n(§63.2386(d)(1)(ix))\n(Select from dropdown)]]=\"\",\"\",VLOOKUP(Table24[[#This Row],[Affected CMS\n(§63.2386(d)(1)(ix))\n(Select from dropdown)]],Table22[],2,FALSE))","v":""}]
[null,{"$f":"IF(Table24[[#This Row],[Affected CMS\n(§63.2386(d)(1)(ix))\n(Select from dropdown)]]=\"\",\"\",VLOOKUP(Table24[[#This Row],[Affected CMS\n(§63.2386(d)(1)(ix))\n(Select from dropdown)]],Table22[],2,FALSE))","v":""}]
[null,{"$f":"IF(Table24[[#This Row],[Affected CMS\n(§63.2386(d)(1)(ix))\n(Select from dropdown)]]=\"\",\"\",VLOOKUP(Table24[[#This Row],[Affected CMS\n(§63.2386(d)(1)(ix))\n(Select from dropdown)]],Table22[],2,FALSE))","v":""}]
[null,{"$f":"IF(Table24[[#This Row],[Affected CMS\n(§63.2386(d)(1)(ix))\n(Select from dropdown)]]=\"\",\"\",VLOOKUP(Table24[[#This Row],[Affected CMS\n(§63.2386(d)(1)(ix))\n(Select from dropdown)]],Table22[],2,FALSE))","v":""}]
[null,{"$f":"IF(Table24[[#This Row],[Affected CMS\n(§63.2386(d)(1)(ix))\n(Select from dropdown)]]=\"\",\"\",VLOOKUP(Table24[[#This Row],[Affected CMS\n(§63.2386(d)(1)(ix))\n(Select from dropdown)]],Table22[],2,FALSE))","v":""}]
[null,{"$f":"IF(Table24[[#This Row],[Affected CMS\n(§63.2386(d)(1)(ix))\n(Select from dropdown)]]=\"\",\"\",VLOOKUP(Table24[[#This Row],[Affected CMS\n(§63.2386(d)(1)(ix))\n(Select from dropdown)]],Table22[],2,FALSE))","v":""}]
[null,{"$f":"IF(Table24[[#This Row],[Affected CMS\n(§63.2386(d)(1)(ix))\n(Select from dropdown)]]=\"\",\"\",VLOOKUP(Table24[[#This Row],[Affected CMS\n(§63.2386(d)(1)(ix))\n(Select from dropdown)]],Table22[],2,FALSE))","v":""}]
[null,{"$f":"IF(Table24[[#This Row],[Affected CMS\n(§63.2386(d)(1)(ix))\n(Select from dropdown)]]=\"\",\"\",VLOOKUP(Table24[[#This Row],[Affected CMS\n(§63.2386(d)(1)(ix))\n(Select from dropdown)]],Table22[],2,FALSE))","v":""}]
[null,{"$f":"IF(Table24[[#This Row],[Affected CMS\n(§63.2386(d)(1)(ix))\n(Select from dropdown)]]=\"\",\"\",VLOOKUP(Table24[[#This Row],[Affected CMS\n(§63.2386(d)(1)(ix))\n(Select from dropdown)]],Table22[],2,FALSE))","v":""}]
[null,{"$f":"IF(Table24[[#This Row],[Affected CMS\n(§63.2386(d)(1)(ix))\n(Select from dropdown)]]=\"\",\"\",VLOOKUP(Table24[[#This Row],[Affected CMS\n(§63.2386(d)(1)(ix))\n(Select from dropdown)]],Table22[],2,FALSE))","v":""}]
[null,{"$f":"IF(Table24[[#This Row],[Affected CMS\n(§63.2386(d)(1)(ix))\n(Select from dropdown)]]=\"\",\"\",VLOOKUP(Table24[[#This Row],[Affected CMS\n(§63.2386(d)(1)(ix))\n(Select from dropdown)]],Table22[],2,FALSE))","v":""}]
[null,{"$f":"IF(Table24[[#This Row],[Affected CMS\n(§63.2386(d)(1)(ix))\n(Select from dropdown)]]=\"\",\"\",VLOOKUP(Table24[[#This Row],[Affected CMS\n(§63.2386(d)(1)(ix))\n(Select from dropdown)]],Table22[],2,FALSE))","v":""}]
[null,{"$f":"IF(Table24[[#This Row],[Affected CMS\n(§63.2386(d)(1)(ix))\n(Select from dropdown)]]=\"\",\"\",VLOOKUP(Table24[[#This Row],[Affected CMS\n(§63.2386(d)(1)(ix))\n(Select from dropdown)]],Table22[],2,FALSE))","v":""}]
[null,{"$f":"IF(Table24[[#This Row],[Affected CMS\n(§63.2386(d)(1)(ix))\n(Select from dropdown)]]=\"\",\"\",VLOOKUP(Table24[[#This Row],[Affected CMS\n(§63.2386(d)(1)(ix))\n(Select from dropdown)]],Table22[],2,FALSE))","v":""}]
[null,{"$f":"IF(Table24[[#This Row],[Affected CMS\n(§63.2386(d)(1)(ix))\n(Select from dropdown)]]=\"\",\"\",VLOOKUP(Table24[[#This Row],[Affected CMS\n(§63.2386(d)(1)(ix))\n(Select from dropdown)]],Table22[],2,FALSE))","v":""}]
[null,{"$f":"IF(Table24[[#This Row],[Affected CMS\n(§63.2386(d)(1)(ix))\n(Select from dropdown)]]=\"\",\"\",VLOOKUP(Table24[[#This Row],[Affected CMS\n(§63.2386(d)(1)(ix))\n(Select from dropdown)]],Table22[],2,FALSE))","v":""}]
[null,{"$f":"IF(Table24[[#This Row],[Affected CMS\n(§63.2386(d)(1)(ix))\n(Select from dropdown)]]=\"\",\"\",VLOOKUP(Table24[[#This Row],[Affected CMS\n(§63.2386(d)(1)(ix))\n(Select from dropdown)]],Table22[],2,FALSE))","v":""}]
[null,{"$f":"IF(Table24[[#This Row],[Affected CMS\n(§63.2386(d)(1)(ix))\n(Select from dropdown)]]=\"\",\"\",VLOOKUP(Table24[[#This Row],[Affected CMS\n(§63.2386(d)(1)(ix))\n(Select from dropdown)]],Table22[],2,FALSE))","v":""}]
[null,{"$f":"IF(Table24[[#This Row],[Affected CMS\n(§63.2386(d)(1)(ix))\n(Select from dropdown)]]=\"\",\"\",VLOOKUP(Table24[[#This Row],[Affected CMS\n(§63.2386(d)(1)(ix))\n(Select from dropdown)]],Table22[],2,FALSE))","v":""}]
[null,{"$f":"IF(Table24[[#This Row],[Affected CMS\n(§63.2386(d)(1)(ix))\n(Select from dropdown)]]=\"\",\"\",VLOOKUP(Table24[[#This Row],[Affected CMS\n(§63.2386(d)(1)(ix))\n(Select from dropdown)]],Table22[],2,FALSE))","v":""}]
[null,{"$f":"IF(Table24[[#This Row],[Affected CMS\n(§63.2386(d)(1)(ix))\n(Select from dropdown)]]=\"\",\"\",VLOOKUP(Table24[[#This Row],[Affected CMS\n(§63.2386(d)(1)(ix))\n(Select from dropdown)]],Table22[],2,FALSE))","v":""}]
[null,{"$f":"IF(Table24[[#This Row],[Affected CMS\n(§63.2386(d)(1)(ix))\n(Select from dropdown)]]=\"\",\"\",VLOOKUP(Table24[[#This Row],[Affected CMS\n(§63.2386(d)(1)(ix))\n(Select from dropdown)]],Table22[],2,FALSE))","v":""}]
[null,{"$f":"IF(Table24[[#This Row],[Affected CMS\n(§63.2386(d)(1)(ix))\n(Select from dropdown)]]=\"\",\"\",VLOOKUP(Table24[[#This Row],[Affected CMS\n(§63.2386(d)(1)(ix))\n(Select from dropdown)]],Table22[],2,FALSE))","v":""}]
[null,{"$f":"IF(Table24[[#This Row],[Affected CMS\n(§63.2386(d)(1)(ix))\n(Select from dropdown)]]=\"\",\"\",VLOOKUP(Table24[[#This Row],[Affected CMS\n(§63.2386(d)(1)(ix))\n(Select from dropdown)]],Table22[],2,FALSE))","v":""}]
[null,{"$f":"IF(Table24[[#This Row],[Affected CMS\n(§63.2386(d)(1)(ix))\n(Select from dropdown)]]=\"\",\"\",VLOOKUP(Table24[[#This Row],[Affected CMS\n(§63.2386(d)(1)(ix))\n(Select from dropdown)]],Table22[],2,FALSE))","v":""}]
[null,{"$f":"IF(Table24[[#This Row],[Affected CMS\n(§63.2386(d)(1)(ix))\n(Select from dropdown)]]=\"\",\"\",VLOOKUP(Table24[[#This Row],[Affected CMS\n(§63.2386(d)(1)(ix))\n(Select from dropdown)]],Table22[],2,FALSE))","v":""}]
[null,{"$f":"IF(Table24[[#This Row],[Affected CMS\n(§63.2386(d)(1)(ix))\n(Select from dropdown)]]=\"\",\"\",VLOOKUP(Table24[[#This Row],[Affected CMS\n(§63.2386(d)(1)(ix))\n(Select from dropdown)]],Table22[],2,FALSE))","v":""}]
[null,{"$f":"IF(Table24[[#This Row],[Affected CMS\n(§63.2386(d)(1)(ix))\n(Select from dropdown)]]=\"\",\"\",VLOOKUP(Table24[[#This Row],[Affected CMS\n(§63.2386(d)(1)(ix))\n(Select from dropdown)]],Table22[],2,FALSE))","v":""}]
[null,{"$f":"IF(Table24[[#This Row],[Affected CMS\n(§63.2386(d)(1)(ix))\n(Select from dropdown)]]=\"\",\"\",VLOOKUP(Table24[[#This Row],[Affected CMS\n(§63.2386(d)(1)(ix))\n(Select from dropdown)]],Table22[],2,FALSE))","v":""}]
[null,{"$f":"IF(Table24[[#This Row],[Affected CMS\n(§63.2386(d)(1)(ix))\n(Select from dropdown)]]=\"\",\"\",VLOOKUP(Table24[[#This Row],[Affected CMS\n(§63.2386(d)(1)(ix))\n(Select from dropdown)]],Table22[],2,FALSE))","v":""}]
[null,{"$f":"IF(Table24[[#This Row],[Affected CMS\n(§63.2386(d)(1)(ix))\n(Select from dropdown)]]=\"\",\"\",VLOOKUP(Table24[[#This Row],[Affected CMS\n(§63.2386(d)(1)(ix))\n(Select from dropdown)]],Table22[],2,FALSE))","v":""}]
[null,{"$f":"IF(Table24[[#This Row],[Affected CMS\n(§63.2386(d)(1)(ix))\n(Select from dropdown)]]=\"\",\"\",VLOOKUP(Table24[[#This Row],[Affected CMS\n(§63.2386(d)(1)(ix))\n(Select from dropdown)]],Table22[],2,FALSE))","v":""}]
[null,{"$f":"IF(Table24[[#This Row],[Affected CMS\n(§63.2386(d)(1)(ix))\n(Select from dropdown)]]=\"\",\"\",VLOOKUP(Table24[[#This Row],[Affected CMS\n(§63.2386(d)(1)(ix))\n(Select from dropdown)]],Table22[],2,FALSE))","v":""}]
[null,{"$f":"IF(Table24[[#This Row],[Affected CMS\n(§63.2386(d)(1)(ix))\n(Select from dropdown)]]=\"\",\"\",VLOOKUP(Table24[[#This Row],[Affected CMS\n(§63.2386(d)(1)(ix))\n(Select from dropdown)]],Table22[],2,FALSE))","v":""}]
[null,{"$f":"IF(Table24[[#This Row],[Affected CMS\n(§63.2386(d)(1)(ix))\n(Select from dropdown)]]=\"\",\"\",VLOOKUP(Table24[[#This Row],[Affected CMS\n(§63.2386(d)(1)(ix))\n(Select from dropdown)]],Table22[],2,FALSE))","v":""}]
[null,{"$f":"IF(Table24[[#This Row],[Affected CMS\n(§63.2386(d)(1)(ix))\n(Select from dropdown)]]=\"\",\"\",VLOOKUP(Table24[[#This Row],[Affected CMS\n(§63.2386(d)(1)(ix))\n(Select from dropdown)]],Table22[],2,FALSE))","v":""}]
[null,{"$f":"IF(Table24[[#This Row],[Affected CMS\n(§63.2386(d)(1)(ix))\n(Select from dropdown)]]=\"\",\"\",VLOOKUP(Table24[[#This Row],[Affected CMS\n(§63.2386(d)(1)(ix))\n(Select from dropdown)]],Table22[],2,FALSE))","v":""}]
[null,{"$f":"IF(Table24[[#This Row],[Affected CMS\n(§63.2386(d)(1)(ix))\n(Select from dropdown)]]=\"\",\"\",VLOOKUP(Table24[[#This Row],[Affected CMS\n(§63.2386(d)(1)(ix))\n(Select from dropdown)]],Table22[],2,FALSE))","v":""}]
[null,{"$f":"IF(Table24[[#This Row],[Affected CMS\n(§63.2386(d)(1)(ix))\n(Select from dropdown)]]=\"\",\"\",VLOOKUP(Table24[[#This Row],[Affected CMS\n(§63.2386(d)(1)(ix))\n(Select from dropdown)]],Table22[],2,FALSE))","v":""}]
[null,{"$f":"IF(Table24[[#This Row],[Affected CMS\n(§63.2386(d)(1)(ix))\n(Select from dropdown)]]=\"\",\"\",VLOOKUP(Table24[[#This Row],[Affected CMS\n(§63.2386(d)(1)(ix))\n(Select from dropdown)]],Table22[],2,FALSE))","v":""}]
[null,{"$f":"IF(Table24[[#This Row],[Affected CMS\n(§63.2386(d)(1)(ix))\n(Select from dropdown)]]=\"\",\"\",VLOOKUP(Table24[[#This Row],[Affected CMS\n(§63.2386(d)(1)(ix))\n(Select from dropdown)]],Table22[],2,FALSE))","v":""}]
[null,{"$f":"IF(Table24[[#This Row],[Affected CMS\n(§63.2386(d)(1)(ix))\n(Select from dropdown)]]=\"\",\"\",VLOOKUP(Table24[[#This Row],[Affected CMS\n(§63.2386(d)(1)(ix))\n(Select from dropdown)]],Table22[],2,FALSE))","v":""}]
[null,{"$f":"IF(Table24[[#This Row],[Affected CMS\n(§63.2386(d)(1)(ix))\n(Select from dropdown)]]=\"\",\"\",VLOOKUP(Table24[[#This Row],[Affected CMS\n(§63.2386(d)(1)(ix))\n(Select from dropdown)]],Table22[],2,FALSE))","v":""}]
[null,{"$f":"IF(Table24[[#This Row],[Affected CMS\n(§63.2386(d)(1)(ix))\n(Select from dropdown)]]=\"\",\"\",VLOOKUP(Table24[[#This Row],[Affected CMS\n(§63.2386(d)(1)(ix))\n(Select from dropdown)]],Table22[],2,FALSE))","v":""}]
[null,{"$f":"IF(Table24[[#This Row],[Affected CMS\n(§63.2386(d)(1)(ix))\n(Select from dropdown)]]=\"\",\"\",VLOOKUP(Table24[[#This Row],[Affected CMS\n(§63.2386(d)(1)(ix))\n(Select from dropdown)]],Table22[],2,FALSE))","v":""}]
[null,{"$f":"IF(Table24[[#This Row],[Affected CMS\n(§63.2386(d)(1)(ix))\n(Select from dropdown)]]=\"\",\"\",VLOOKUP(Table24[[#This Row],[Affected CMS\n(§63.2386(d)(1)(ix))\n(Select from dropdown)]],Table22[],2,FALSE))","v":""}]
[null,{"$f":"IF(Table24[[#This Row],[Affected CMS\n(§63.2386(d)(1)(ix))\n(Select from dropdown)]]=\"\",\"\",VLOOKUP(Table24[[#This Row],[Affected CMS\n(§63.2386(d)(1)(ix))\n(Select from dropdown)]],Table22[],2,FALSE))","v":""}]
[null,{"$f":"IF(Table24[[#This Row],[Affected CMS\n(§63.2386(d)(1)(ix))\n(Select from dropdown)]]=\"\",\"\",VLOOKUP(Table24[[#This Row],[Affected CMS\n(§63.2386(d)(1)(ix))\n(Select from dropdown)]],Table22[],2,FALSE))","v":""}]
[null,{"$f":"IF(Table24[[#This Row],[Affected CMS\n(§63.2386(d)(1)(ix))\n(Select from dropdown)]]=\"\",\"\",VLOOKUP(Table24[[#This Row],[Affected CMS\n(§63.2386(d)(1)(ix))\n(Select from dropdown)]],Table22[],2,FALSE))","v":""}]
[null,{"$f":"IF(Table24[[#This Row],[Affected CMS\n(§63.2386(d)(1)(ix))\n(Select from dropdown)]]=\"\",\"\",VLOOKUP(Table24[[#This Row],[Affected CMS\n(§63.2386(d)(1)(ix))\n(Select from dropdown)]],Table22[],2,FALSE))","v":""}]
[null,{"$f":"IF(Table24[[#This Row],[Affected CMS\n(§63.2386(d)(1)(ix))\n(Select from dropdown)]]=\"\",\"\",VLOOKUP(Table24[[#This Row],[Affected CMS\n(§63.2386(d)(1)(ix))\n(Select from dropdown)]],Table22[],2,FALSE))","v":""}]
[null,{"$f":"IF(Table24[[#This Row],[Affected CMS\n(§63.2386(d)(1)(ix))\n(Select from dropdown)]]=\"\",\"\",VLOOKUP(Table24[[#This Row],[Affected CMS\n(§63.2386(d)(1)(ix))\n(Select from dropdown)]],Table22[],2,FALSE))","v":""}]
[null,{"$f":"IF(Table24[[#This Row],[Affected CMS\n(§63.2386(d)(1)(ix))\n(Select from dropdown)]]=\"\",\"\",VLOOKUP(Table24[[#This Row],[Affected CMS\n(§63.2386(d)(1)(ix))\n(Select from dropdown)]],Table22[],2,FALSE))","v":""}]
[null,{"$f":"IF(Table24[[#This Row],[Affected CMS\n(§63.2386(d)(1)(ix))\n(Select from dropdown)]]=\"\",\"\",VLOOKUP(Table24[[#This Row],[Affected CMS\n(§63.2386(d)(1)(ix))\n(Select from dropdown)]],Table22[],2,FALSE))","v":""}]
[null,{"$f":"IF(Table24[[#This Row],[Affected CMS\n(§63.2386(d)(1)(ix))\n(Select from dropdown)]]=\"\",\"\",VLOOKUP(Table24[[#This Row],[Affected CMS\n(§63.2386(d)(1)(ix))\n(Select from dropdown)]],Table22[],2,FALSE))","v":""}]
[null,{"$f":"IF(Table24[[#This Row],[Affected CMS\n(§63.2386(d)(1)(ix))\n(Select from dropdown)]]=\"\",\"\",VLOOKUP(Table24[[#This Row],[Affected CMS\n(§63.2386(d)(1)(ix))\n(Select from dropdown)]],Table22[],2,FALSE))","v":""}]
[null,{"$f":"IF(Table24[[#This Row],[Affected CMS\n(§63.2386(d)(1)(ix))\n(Select from dropdown)]]=\"\",\"\",VLOOKUP(Table24[[#This Row],[Affected CMS\n(§63.2386(d)(1)(ix))\n(Select from dropdown)]],Table22[],2,FALSE))","v":""}]
[null,{"$f":"IF(Table24[[#This Row],[Affected CMS\n(§63.2386(d)(1)(ix))\n(Select from dropdown)]]=\"\",\"\",VLOOKUP(Table24[[#This Row],[Affected CMS\n(§63.2386(d)(1)(ix))\n(Select from dropdown)]],Table22[],2,FALSE))","v":""}]
[null,{"$f":"IF(Table24[[#This Row],[Affected CMS\n(§63.2386(d)(1)(ix))\n(Select from dropdown)]]=\"\",\"\",VLOOKUP(Table24[[#This Row],[Affected CMS\n(§63.2386(d)(1)(ix))\n(Select from dropdown)]],Table22[],2,FALSE))","v":""}]
[null,{"$f":"IF(Table24[[#This Row],[Affected CMS\n(§63.2386(d)(1)(ix))\n(Select from dropdown)]]=\"\",\"\",VLOOKUP(Table24[[#This Row],[Affected CMS\n(§63.2386(d)(1)(ix))\n(Select from dropdown)]],Table22[],2,FALSE))","v":""}]
[null,{"$f":"IF(Table24[[#This Row],[Affected CMS\n(§63.2386(d)(1)(ix))\n(Select from dropdown)]]=\"\",\"\",VLOOKUP(Table24[[#This Row],[Affected CMS\n(§63.2386(d)(1)(ix))\n(Select from dropdown)]],Table22[],2,FALSE))","v":""}]
[null,{"$f":"IF(Table24[[#This Row],[Affected CMS\n(§63.2386(d)(1)(ix))\n(Select from dropdown)]]=\"\",\"\",VLOOKUP(Table24[[#This Row],[Affected CMS\n(§63.2386(d)(1)(ix))\n(Select from dropdown)]],Table22[],2,FALSE))","v":""}]
[null,{"$f":"IF(Table24[[#This Row],[Affected CMS\n(§63.2386(d)(1)(ix))\n(Select from dropdown)]]=\"\",\"\",VLOOKUP(Table24[[#This Row],[Affected CMS\n(§63.2386(d)(1)(ix))\n(Select from dropdown)]],Table22[],2,FALSE))","v":""}]
[null,{"$f":"IF(Table24[[#This Row],[Affected CMS\n(§63.2386(d)(1)(ix))\n(Select from dropdown)]]=\"\",\"\",VLOOKUP(Table24[[#This Row],[Affected CMS\n(§63.2386(d)(1)(ix))\n(Select from dropdown)]],Table22[],2,FALSE))","v":""}]
[null,{"$f":"IF(Table24[[#This Row],[Affected CMS\n(§63.2386(d)(1)(ix))\n(Select from dropdown)]]=\"\",\"\",VLOOKUP(Table24[[#This Row],[Affected CMS\n(§63.2386(d)(1)(ix))\n(Select from dropdown)]],Table22[],2,FALSE))","v":""}]
[null,{"$f":"IF(Table24[[#This Row],[Affected CMS\n(§63.2386(d)(1)(ix))\n(Select from dropdown)]]=\"\",\"\",VLOOKUP(Table24[[#This Row],[Affected CMS\n(§63.2386(d)(1)(ix))\n(Select from dropdown)]],Table22[],2,FALSE))","v":""}]
[null,{"$f":"IF(Table24[[#This Row],[Affected CMS\n(§63.2386(d)(1)(ix))\n(Select from dropdown)]]=\"\",\"\",VLOOKUP(Table24[[#This Row],[Affected CMS\n(§63.2386(d)(1)(ix))\n(Select from dropdown)]],Table22[],2,FALSE))","v":""}]
[null,{"$f":"IF(Table24[[#This Row],[Affected CMS\n(§63.2386(d)(1)(ix))\n(Select from dropdown)]]=\"\",\"\",VLOOKUP(Table24[[#This Row],[Affected CMS\n(§63.2386(d)(1)(ix))\n(Select from dropdown)]],Table22[],2,FALSE))","v":""}]
[null,{"$f":"IF(Table24[[#This Row],[Affected CMS\n(§63.2386(d)(1)(ix))\n(Select from dropdown)]]=\"\",\"\",VLOOKUP(Table24[[#This Row],[Affected CMS\n(§63.2386(d)(1)(ix))\n(Select from dropdown)]],Table22[],2,FALSE))","v":""}]
[null,{"$f":"IF(Table24[[#This Row],[Affected CMS\n(§63.2386(d)(1)(ix))\n(Select from dropdown)]]=\"\",\"\",VLOOKUP(Table24[[#This Row],[Affected CMS\n(§63.2386(d)(1)(ix))\n(Select from dropdown)]],Table22[],2,FALSE))","v":""}]
[null,{"$f":"IF(Table24[[#This Row],[Affected CMS\n(§63.2386(d)(1)(ix))\n(Select from dropdown)]]=\"\",\"\",VLOOKUP(Table24[[#This Row],[Affected CMS\n(§63.2386(d)(1)(ix))\n(Select from dropdown)]],Table22[],2,FALSE))","v":""}]
[null,{"$f":"IF(Table24[[#This Row],[Affected CMS\n(§63.2386(d)(1)(ix))\n(Select from dropdown)]]=\"\",\"\",VLOOKUP(Table24[[#This Row],[Affected CMS\n(§63.2386(d)(1)(ix))\n(Select from dropdown)]],Table22[],2,FALSE))","v":""}]
[null,{"$f":"IF(Table24[[#This Row],[Affected CMS\n(§63.2386(d)(1)(ix))\n(Select from dropdown)]]=\"\",\"\",VLOOKUP(Table24[[#This Row],[Affected CMS\n(§63.2386(d)(1)(ix))\n(Select from dropdown)]],Table22[],2,FALSE))","v":""}]
[null,{"$f":"IF(Table24[[#This Row],[Affected CMS\n(§63.2386(d)(1)(ix))\n(Select from dropdown)]]=\"\",\"\",VLOOKUP(Table24[[#This Row],[Affected CMS\n(§63.2386(d)(1)(ix))\n(Select from dropdown)]],Table22[],2,FALSE))","v":""}]
[null,{"$f":"IF(Table24[[#This Row],[Affected CMS\n(§63.2386(d)(1)(ix))\n(Select from dropdown)]]=\"\",\"\",VLOOKUP(Table24[[#This Row],[Affected CMS\n(§63.2386(d)(1)(ix))\n(Select from dropdown)]],Table22[],2,FALSE))","v":""}]
[null,{"$f":"IF(Table24[[#This Row],[Affected CMS\n(§63.2386(d)(1)(ix))\n(Select from dropdown)]]=\"\",\"\",VLOOKUP(Table24[[#This Row],[Affected CMS\n(§63.2386(d)(1)(ix))\n(Select from dropdown)]],Table22[],2,FALSE))","v":""}]
[null,{"$f":"IF(Table24[[#This Row],[Affected CMS\n(§63.2386(d)(1)(ix))\n(Select from dropdown)]]=\"\",\"\",VLOOKUP(Table24[[#This Row],[Affected CMS\n(§63.2386(d)(1)(ix))\n(Select from dropdown)]],Table22[],2,FALSE))","v":""}]
[null,{"$f":"IF(Table24[[#This Row],[Affected CMS\n(§63.2386(d)(1)(ix))\n(Select from dropdown)]]=\"\",\"\",VLOOKUP(Table24[[#This Row],[Affected CMS\n(§63.2386(d)(1)(ix))\n(Select from dropdown)]],Table22[],2,FALSE))","v":""}]
[null,{"$f":"IF(Table24[[#This Row],[Affected CMS\n(§63.2386(d)(1)(ix))\n(Select from dropdown)]]=\"\",\"\",VLOOKUP(Table24[[#This Row],[Affected CMS\n(§63.2386(d)(1)(ix))\n(Select from dropdown)]],Table22[],2,FALSE))","v":""}]
[null,{"$f":"IF(Table24[[#This Row],[Affected CMS\n(§63.2386(d)(1)(ix))\n(Select from dropdown)]]=\"\",\"\",VLOOKUP(Table24[[#This Row],[Affected CMS\n(§63.2386(d)(1)(ix))\n(Select from dropdown)]],Table22[],2,FALSE))","v":""}]
[null,{"$f":"IF(Table24[[#This Row],[Affected CMS\n(§63.2386(d)(1)(ix))\n(Select from dropdown)]]=\"\",\"\",VLOOKUP(Table24[[#This Row],[Affected CMS\n(§63.2386(d)(1)(ix))\n(Select from dropdown)]],Table22[],2,FALSE))","v":""}]
[null,{"$f":"IF(Table24[[#This Row],[Affected CMS\n(§63.2386(d)(1)(ix))\n(Select from dropdown)]]=\"\",\"\",VLOOKUP(Table24[[#This Row],[Affected CMS\n(§63.2386(d)(1)(ix))\n(Select from dropdown)]],Table22[],2,FALSE))","v":""}]
[null,{"$f":"IF(Table24[[#This Row],[Affected CMS\n(§63.2386(d)(1)(ix))\n(Select from dropdown)]]=\"\",\"\",VLOOKUP(Table24[[#This Row],[Affected CMS\n(§63.2386(d)(1)(ix))\n(Select from dropdown)]],Table22[],2,FALSE))","v":""}]
[null,{"$f":"IF(Table24[[#This Row],[Affected CMS\n(§63.2386(d)(1)(ix))\n(Select from dropdown)]]=\"\",\"\",VLOOKUP(Table24[[#This Row],[Affected CMS\n(§63.2386(d)(1)(ix))\n(Select from dropdown)]],Table22[],2,FALSE))","v":""}]
[null,{"$f":"IF(Table24[[#This Row],[Affected CMS\n(§63.2386(d)(1)(ix))\n(Select from dropdown)]]=\"\",\"\",VLOOKUP(Table24[[#This Row],[Affected CMS\n(§63.2386(d)(1)(ix))\n(Select from dropdown)]],Table22[],2,FALSE))","v":""}]
[null,{"$f":"IF(Table24[[#This Row],[Affected CMS\n(§63.2386(d)(1)(ix))\n(Select from dropdown)]]=\"\",\"\",VLOOKUP(Table24[[#This Row],[Affected CMS\n(§63.2386(d)(1)(ix))\n(Select from dropdown)]],Table22[],2,FALSE))","v":""}]
[null,{"$f":"IF(Table24[[#This Row],[Affected CMS\n(§63.2386(d)(1)(ix))\n(Select from dropdown)]]=\"\",\"\",VLOOKUP(Table24[[#This Row],[Affected CMS\n(§63.2386(d)(1)(ix))\n(Select from dropdown)]],Table22[],2,FALSE))","v":""}]
[null,{"$f":"IF(Table24[[#This Row],[Affected CMS\n(§63.2386(d)(1)(ix))\n(Select from dropdown)]]=\"\",\"\",VLOOKUP(Table24[[#This Row],[Affected CMS\n(§63.2386(d)(1)(ix))\n(Select from dropdown)]],Table22[],2,FALSE))","v":""}]
[null,{"$f":"IF(Table24[[#This Row],[Affected CMS\n(§63.2386(d)(1)(ix))\n(Select from dropdown)]]=\"\",\"\",VLOOKUP(Table24[[#This Row],[Affected CMS\n(§63.2386(d)(1)(ix))\n(Select from dropdown)]],Table22[],2,FALSE))","v":""}]
[null,{"$f":"IF(Table24[[#This Row],[Affected CMS\n(§63.2386(d)(1)(ix))\n(Select from dropdown)]]=\"\",\"\",VLOOKUP(Table24[[#This Row],[Affected CMS\n(§63.2386(d)(1)(ix))\n(Select from dropdown)]],Table22[],2,FALSE))","v":""}]
[null,{"$f":"IF(Table24[[#This Row],[Affected CMS\n(§63.2386(d)(1)(ix))\n(Select from dropdown)]]=\"\",\"\",VLOOKUP(Table24[[#This Row],[Affected CMS\n(§63.2386(d)(1)(ix))\n(Select from dropdown)]],Table22[],2,FALSE))","v":""}]
[null,{"$f":"IF(Table24[[#This Row],[Affected CMS\n(§63.2386(d)(1)(ix))\n(Select from dropdown)]]=\"\",\"\",VLOOKUP(Table24[[#This Row],[Affected CMS\n(§63.2386(d)(1)(ix))\n(Select from dropdown)]],Table22[],2,FALSE))","v":""}]
[null,{"$f":"IF(Table24[[#This Row],[Affected CMS\n(§63.2386(d)(1)(ix))\n(Select from dropdown)]]=\"\",\"\",VLOOKUP(Table24[[#This Row],[Affected CMS\n(§63.2386(d)(1)(ix))\n(Select from dropdown)]],Table22[],2,FALSE))","v":""}]
[null,{"$f":"IF(Table24[[#This Row],[Affected CMS\n(§63.2386(d)(1)(ix))\n(Select from dropdown)]]=\"\",\"\",VLOOKUP(Table24[[#This Row],[Affected CMS\n(§63.2386(d)(1)(ix))\n(Select from dropdown)]],Table22[],2,FALSE))","v":""}]
[null,{"$f":"IF(Table24[[#This Row],[Affected CMS\n(§63.2386(d)(1)(ix))\n(Select from dropdown)]]=\"\",\"\",VLOOKUP(Table24[[#This Row],[Affected CMS\n(§63.2386(d)(1)(ix))\n(Select from dropdown)]],Table22[],2,FALSE))","v":""}]
[null,{"$f":"IF(Table24[[#This Row],[Affected CMS\n(§63.2386(d)(1)(ix))\n(Select from dropdown)]]=\"\",\"\",VLOOKUP(Table24[[#This Row],[Affected CMS\n(§63.2386(d)(1)(ix))\n(Select from dropdown)]],Table22[],2,FALSE))","v":""}]
[null,{"$f":"IF(Table24[[#This Row],[Affected CMS\n(§63.2386(d)(1)(ix))\n(Select from dropdown)]]=\"\",\"\",VLOOKUP(Table24[[#This Row],[Affected CMS\n(§63.2386(d)(1)(ix))\n(Select from dropdown)]],Table22[],2,FALSE))","v":""}]
[null,{"$f":"IF(Table24[[#This Row],[Affected CMS\n(§63.2386(d)(1)(ix))\n(Select from dropdown)]]=\"\",\"\",VLOOKUP(Table24[[#This Row],[Affected CMS\n(§63.2386(d)(1)(ix))\n(Select from dropdown)]],Table22[],2,FALSE))","v":""}]
[null,{"$f":"IF(Table24[[#This Row],[Affected CMS\n(§63.2386(d)(1)(ix))\n(Select from dropdown)]]=\"\",\"\",VLOOKUP(Table24[[#This Row],[Affected CMS\n(§63.2386(d)(1)(ix))\n(Select from dropdown)]],Table22[],2,FALSE))","v":""}]
[null,{"$f":"IF(Table24[[#This Row],[Affected CMS\n(§63.2386(d)(1)(ix))\n(Select from dropdown)]]=\"\",\"\",VLOOKUP(Table24[[#This Row],[Affected CMS\n(§63.2386(d)(1)(ix))\n(Select from dropdown)]],Table22[],2,FALSE))","v":""}]
[null,{"$f":"IF(Table24[[#This Row],[Affected CMS\n(§63.2386(d)(1)(ix))\n(Select from dropdown)]]=\"\",\"\",VLOOKUP(Table24[[#This Row],[Affected CMS\n(§63.2386(d)(1)(ix))\n(Select from dropdown)]],Table22[],2,FALSE))","v":""}]
[null,{"$f":"IF(Table24[[#This Row],[Affected CMS\n(§63.2386(d)(1)(ix))\n(Select from dropdown)]]=\"\",\"\",VLOOKUP(Table24[[#This Row],[Affected CMS\n(§63.2386(d)(1)(ix))\n(Select from dropdown)]],Table22[],2,FALSE))","v":""}]
[null,{"$f":"IF(Table24[[#This Row],[Affected CMS\n(§63.2386(d)(1)(ix))\n(Select from dropdown)]]=\"\",\"\",VLOOKUP(Table24[[#This Row],[Affected CMS\n(§63.2386(d)(1)(ix))\n(Select from dropdown)]],Table22[],2,FALSE))","v":""}]
[null,{"$f":"IF(Table24[[#This Row],[Affected CMS\n(§63.2386(d)(1)(ix))\n(Select from dropdown)]]=\"\",\"\",VLOOKUP(Table24[[#This Row],[Affected CMS\n(§63.2386(d)(1)(ix))\n(Select from dropdown)]],Table22[],2,FALSE))","v":""}]
[null,{"$f":"IF(Table24[[#This Row],[Affected CMS\n(§63.2386(d)(1)(ix))\n(Select from dropdown)]]=\"\",\"\",VLOOKUP(Table24[[#This Row],[Affected CMS\n(§63.2386(d)(1)(ix))\n(Select from dropdown)]],Table22[],2,FALSE))","v":""}]
[null,{"$f":"IF(Table24[[#This Row],[Affected CMS\n(§63.2386(d)(1)(ix))\n(Select from dropdown)]]=\"\",\"\",VLOOKUP(Table24[[#This Row],[Affected CMS\n(§63.2386(d)(1)(ix))\n(Select from dropdown)]],Table22[],2,FALSE))","v":""}]
[null,{"$f":"IF(Table24[[#This Row],[Affected CMS\n(§63.2386(d)(1)(ix))\n(Select from dropdown)]]=\"\",\"\",VLOOKUP(Table24[[#This Row],[Affected CMS\n(§63.2386(d)(1)(ix))\n(Select from dropdown)]],Table22[],2,FALSE))","v":""}]
[null,{"$f":"IF(Table24[[#This Row],[Affected CMS\n(§63.2386(d)(1)(ix))\n(Select from dropdown)]]=\"\",\"\",VLOOKUP(Table24[[#This Row],[Affected CMS\n(§63.2386(d)(1)(ix))\n(Select from dropdown)]],Table22[],2,FALSE))","v":""}]
[null,{"$f":"IF(Table24[[#This Row],[Affected CMS\n(§63.2386(d)(1)(ix))\n(Select from dropdown)]]=\"\",\"\",VLOOKUP(Table24[[#This Row],[Affected CMS\n(§63.2386(d)(1)(ix))\n(Select from dropdown)]],Table22[],2,FALSE))","v":""}]
[null,{"$f":"IF(Table24[[#This Row],[Affected CMS\n(§63.2386(d)(1)(ix))\n(Select from dropdown)]]=\"\",\"\",VLOOKUP(Table24[[#This Row],[Affected CMS\n(§63.2386(d)(1)(ix))\n(Select from dropdown)]],Table22[],2,FALSE))","v":""}]
[null,{"$f":"IF(Table24[[#This Row],[Affected CMS\n(§63.2386(d)(1)(ix))\n(Select from dropdown)]]=\"\",\"\",VLOOKUP(Table24[[#This Row],[Affected CMS\n(§63.2386(d)(1)(ix))\n(Select from dropdown)]],Table22[],2,FALSE))","v":""}]
[null,{"$f":"IF(Table24[[#This Row],[Affected CMS\n(§63.2386(d)(1)(ix))\n(Select from dropdown)]]=\"\",\"\",VLOOKUP(Table24[[#This Row],[Affected CMS\n(§63.2386(d)(1)(ix))\n(Select from dropdown)]],Table22[],2,FALSE))","v":""}]
[null,{"$f":"IF(Table24[[#This Row],[Affected CMS\n(§63.2386(d)(1)(ix))\n(Select from dropdown)]]=\"\",\"\",VLOOKUP(Table24[[#This Row],[Affected CMS\n(§63.2386(d)(1)(ix))\n(Select from dropdown)]],Table22[],2,FALSE))","v":""}]
[null,{"$f":"IF(Table24[[#This Row],[Affected CMS\n(§63.2386(d)(1)(ix))\n(Select from dropdown)]]=\"\",\"\",VLOOKUP(Table24[[#This Row],[Affected CMS\n(§63.2386(d)(1)(ix))\n(Select from dropdown)]],Table22[],2,FALSE))","v":""}]
[null,{"$f":"IF(Table24[[#This Row],[Affected CMS\n(§63.2386(d)(1)(ix))\n(Select from dropdown)]]=\"\",\"\",VLOOKUP(Table24[[#This Row],[Affected CMS\n(§63.2386(d)(1)(ix))\n(Select from dropdown)]],Table22[],2,FALSE))","v":""}]
[null,{"$f":"IF(Table24[[#This Row],[Affected CMS\n(§63.2386(d)(1)(ix))\n(Select from dropdown)]]=\"\",\"\",VLOOKUP(Table24[[#This Row],[Affected CMS\n(§63.2386(d)(1)(ix))\n(Select from dropdown)]],Table22[],2,FALSE))","v":""}]
[null,{"$f":"IF(Table24[[#This Row],[Affected CMS\n(§63.2386(d)(1)(ix))\n(Select from dropdown)]]=\"\",\"\",VLOOKUP(Table24[[#This Row],[Affected CMS\n(§63.2386(d)(1)(ix))\n(Select from dropdown)]],Table22[],2,FALSE))","v":""}]
[null,{"$f":"IF(Table24[[#This Row],[Affected CMS\n(§63.2386(d)(1)(ix))\n(Select from dropdown)]]=\"\",\"\",VLOOKUP(Table24[[#This Row],[Affected CMS\n(§63.2386(d)(1)(ix))\n(Select from dropdown)]],Table22[],2,FALSE))","v":""}]
[null,{"$f":"IF(Table24[[#This Row],[Affected CMS\n(§63.2386(d)(1)(ix))\n(Select from dropdown)]]=\"\",\"\",VLOOKUP(Table24[[#This Row],[Affected CMS\n(§63.2386(d)(1)(ix))\n(Select from dropdown)]],Table22[],2,FALSE))","v":""}]
[null,{"$f":"IF(Table24[[#This Row],[Affected CMS\n(§63.2386(d)(1)(ix))\n(Select from dropdown)]]=\"\",\"\",VLOOKUP(Table24[[#This Row],[Affected CMS\n(§63.2386(d)(1)(ix))\n(Select from dropdown)]],Table22[],2,FALSE))","v":""}]
[null,{"$f":"IF(Table24[[#This Row],[Affected CMS\n(§63.2386(d)(1)(ix))\n(Select from dropdown)]]=\"\",\"\",VLOOKUP(Table24[[#This Row],[Affected CMS\n(§63.2386(d)(1)(ix))\n(Select from dropdown)]],Table22[],2,FALSE))","v":""}]
[null,{"$f":"IF(Table24[[#This Row],[Affected CMS\n(§63.2386(d)(1)(ix))\n(Select from dropdown)]]=\"\",\"\",VLOOKUP(Table24[[#This Row],[Affected CMS\n(§63.2386(d)(1)(ix))\n(Select from dropdown)]],Table22[],2,FALSE))","v":""}]
[null,{"$f":"IF(Table24[[#This Row],[Affected CMS\n(§63.2386(d)(1)(ix))\n(Select from dropdown)]]=\"\",\"\",VLOOKUP(Table24[[#This Row],[Affected CMS\n(§63.2386(d)(1)(ix))\n(Select from dropdown)]],Table22[],2,FALSE))","v":""}]
[null,{"$f":"IF(Table24[[#This Row],[Affected CMS\n(§63.2386(d)(1)(ix))\n(Select from dropdown)]]=\"\",\"\",VLOOKUP(Table24[[#This Row],[Affected CMS\n(§63.2386(d)(1)(ix))\n(Select from dropdown)]],Table22[],2,FALSE))","v":""}]
[null,{"$f":"IF(Table24[[#This Row],[Affected CMS\n(§63.2386(d)(1)(ix))\n(Select from dropdown)]]=\"\",\"\",VLOOKUP(Table24[[#This Row],[Affected CMS\n(§63.2386(d)(1)(ix))\n(Select from dropdown)]],Table22[],2,FALSE))","v":""}]
[null,{"$f":"IF(Table24[[#This Row],[Affected CMS\n(§63.2386(d)(1)(ix))\n(Select from dropdown)]]=\"\",\"\",VLOOKUP(Table24[[#This Row],[Affected CMS\n(§63.2386(d)(1)(ix))\n(Select from dropdown)]],Table22[],2,FALSE))","v":""}]
[null,{"$f":"IF(Table24[[#This Row],[Affected CMS\n(§63.2386(d)(1)(ix))\n(Select from dropdown)]]=\"\",\"\",VLOOKUP(Table24[[#This Row],[Affected CMS\n(§63.2386(d)(1)(ix))\n(Select from dropdown)]],Table22[],2,FALSE))","v":""}]
[null,{"$f":"IF(Table24[[#This Row],[Affected CMS\n(§63.2386(d)(1)(ix))\n(Select from dropdown)]]=\"\",\"\",VLOOKUP(Table24[[#This Row],[Affected CMS\n(§63.2386(d)(1)(ix))\n(Select from dropdown)]],Table22[],2,FALSE))","v":""}]
[null,{"$f":"IF(Table24[[#This Row],[Affected CMS\n(§63.2386(d)(1)(ix))\n(Select from dropdown)]]=\"\",\"\",VLOOKUP(Table24[[#This Row],[Affected CMS\n(§63.2386(d)(1)(ix))\n(Select from dropdown)]],Table22[],2,FALSE))","v":""}]
[null,{"$f":"IF(Table24[[#This Row],[Affected CMS\n(§63.2386(d)(1)(ix))\n(Select from dropdown)]]=\"\",\"\",VLOOKUP(Table24[[#This Row],[Affected CMS\n(§63.2386(d)(1)(ix))\n(Select from dropdown)]],Table22[],2,FALSE))","v":""}]
[null,{"$f":"IF(Table24[[#This Row],[Affected CMS\n(§63.2386(d)(1)(ix))\n(Select from dropdown)]]=\"\",\"\",VLOOKUP(Table24[[#This Row],[Affected CMS\n(§63.2386(d)(1)(ix))\n(Select from dropdown)]],Table22[],2,FALSE))","v":""}]
[null,{"$f":"IF(Table24[[#This Row],[Affected CMS\n(§63.2386(d)(1)(ix))\n(Select from dropdown)]]=\"\",\"\",VLOOKUP(Table24[[#This Row],[Affected CMS\n(§63.2386(d)(1)(ix))\n(Select from dropdown)]],Table22[],2,FALSE))","v":""}]
[null,{"$f":"IF(Table24[[#This Row],[Affected CMS\n(§63.2386(d)(1)(ix))\n(Select from dropdown)]]=\"\",\"\",VLOOKUP(Table24[[#This Row],[Affected CMS\n(§63.2386(d)(1)(ix))\n(Select from dropdown)]],Table22[],2,FALSE))","v":""}]
[null,{"$f":"IF(Table24[[#This Row],[Affected CMS\n(§63.2386(d)(1)(ix))\n(Select from dropdown)]]=\"\",\"\",VLOOKUP(Table24[[#This Row],[Affected CMS\n(§63.2386(d)(1)(ix))\n(Select from dropdown)]],Table22[],2,FALSE))","v":""}]
[null,{"$f":"IF(Table24[[#This Row],[Affected CMS\n(§63.2386(d)(1)(ix))\n(Select from dropdown)]]=\"\",\"\",VLOOKUP(Table24[[#This Row],[Affected CMS\n(§63.2386(d)(1)(ix))\n(Select from dropdown)]],Table22[],2,FALSE))","v":""}]
[null,{"$f":"IF(Table24[[#This Row],[Affected CMS\n(§63.2386(d)(1)(ix))\n(Select from dropdown)]]=\"\",\"\",VLOOKUP(Table24[[#This Row],[Affected CMS\n(§63.2386(d)(1)(ix))\n(Select from dropdown)]],Table22[],2,FALSE))","v":""}]
[null,{"$f":"IF(Table24[[#This Row],[Affected CMS\n(§63.2386(d)(1)(ix))\n(Select from dropdown)]]=\"\",\"\",VLOOKUP(Table24[[#This Row],[Affected CMS\n(§63.2386(d)(1)(ix))\n(Select from dropdown)]],Table22[],2,FALSE))","v":""}]
[null,{"$f":"IF(Table24[[#This Row],[Affected CMS\n(§63.2386(d)(1)(ix))\n(Select from dropdown)]]=\"\",\"\",VLOOKUP(Table24[[#This Row],[Affected CMS\n(§63.2386(d)(1)(ix))\n(Select from dropdown)]],Table22[],2,FALSE))","v":""}]
[null,{"$f":"IF(Table24[[#This Row],[Affected CMS\n(§63.2386(d)(1)(ix))\n(Select from dropdown)]]=\"\",\"\",VLOOKUP(Table24[[#This Row],[Affected CMS\n(§63.2386(d)(1)(ix))\n(Select from dropdown)]],Table22[],2,FALSE))","v":""}]
[null,{"$f":"IF(Table24[[#This Row],[Affected CMS\n(§63.2386(d)(1)(ix))\n(Select from dropdown)]]=\"\",\"\",VLOOKUP(Table24[[#This Row],[Affected CMS\n(§63.2386(d)(1)(ix))\n(Select from dropdown)]],Table22[],2,FALSE))","v":""}]
[null,{"$f":"IF(Table24[[#This Row],[Affected CMS\n(§63.2386(d)(1)(ix))\n(Select from dropdown)]]=\"\",\"\",VLOOKUP(Table24[[#This Row],[Affected CMS\n(§63.2386(d)(1)(ix))\n(Select from dropdown)]],Table22[],2,FALSE))","v":""}]
[null,{"$f":"IF(Table24[[#This Row],[Affected CMS\n(§63.2386(d)(1)(ix))\n(Select from dropdown)]]=\"\",\"\",VLOOKUP(Table24[[#This Row],[Affected CMS\n(§63.2386(d)(1)(ix))\n(Select from dropdown)]],Table22[],2,FALSE))","v":""}]
[null,{"$f":"IF(Table24[[#This Row],[Affected CMS\n(§63.2386(d)(1)(ix))\n(Select from dropdown)]]=\"\",\"\",VLOOKUP(Table24[[#This Row],[Affected CMS\n(§63.2386(d)(1)(ix))\n(Select from dropdown)]],Table22[],2,FALSE))","v":""}]
[null,{"$f":"IF(Table24[[#This Row],[Affected CMS\n(§63.2386(d)(1)(ix))\n(Select from dropdown)]]=\"\",\"\",VLOOKUP(Table24[[#This Row],[Affected CMS\n(§63.2386(d)(1)(ix))\n(Select from dropdown)]],Table22[],2,FALSE))","v":""}]
[null,{"$f":"IF(Table24[[#This Row],[Affected CMS\n(§63.2386(d)(1)(ix))\n(Select from dropdown)]]=\"\",\"\",VLOOKUP(Table24[[#This Row],[Affected CMS\n(§63.2386(d)(1)(ix))\n(Select from dropdown)]],Table22[],2,FALSE))","v":""}]
[null,{"$f":"IF(Table24[[#This Row],[Affected CMS\n(§63.2386(d)(1)(ix))\n(Select from dropdown)]]=\"\",\"\",VLOOKUP(Table24[[#This Row],[Affected CMS\n(§63.2386(d)(1)(ix))\n(Select from dropdown)]],Table22[],2,FALSE))","v":""}]
[null,{"$f":"IF(Table24[[#This Row],[Affected CMS\n(§63.2386(d)(1)(ix))\n(Select from dropdown)]]=\"\",\"\",VLOOKUP(Table24[[#This Row],[Affected CMS\n(§63.2386(d)(1)(ix))\n(Select from dropdown)]],Table22[],2,FALSE))","v":""}]
[null,{"$f":"IF(Table24[[#This Row],[Affected CMS\n(§63.2386(d)(1)(ix))\n(Select from dropdown)]]=\"\",\"\",VLOOKUP(Table24[[#This Row],[Affected CMS\n(§63.2386(d)(1)(ix))\n(Select from dropdown)]],Table22[],2,FALSE))","v":""}]
[null,{"$f":"IF(Table24[[#This Row],[Affected CMS\n(§63.2386(d)(1)(ix))\n(Select from dropdown)]]=\"\",\"\",VLOOKUP(Table24[[#This Row],[Affected CMS\n(§63.2386(d)(1)(ix))\n(Select from dropdown)]],Table22[],2,FALSE))","v":""}]
[null,{"$f":"IF(Table24[[#This Row],[Affected CMS\n(§63.2386(d)(1)(ix))\n(Select from dropdown)]]=\"\",\"\",VLOOKUP(Table24[[#This Row],[Affected CMS\n(§63.2386(d)(1)(ix))\n(Select from dropdown)]],Table22[],2,FALSE))","v":""}]
[null,{"$f":"IF(Table24[[#This Row],[Affected CMS\n(§63.2386(d)(1)(ix))\n(Select from dropdown)]]=\"\",\"\",VLOOKUP(Table24[[#This Row],[Affected CMS\n(§63.2386(d)(1)(ix))\n(Select from dropdown)]],Table22[],2,FALSE))","v":""}]
[null,{"$f":"IF(Table24[[#This Row],[Affected CMS\n(§63.2386(d)(1)(ix))\n(Select from dropdown)]]=\"\",\"\",VLOOKUP(Table24[[#This Row],[Affected CMS\n(§63.2386(d)(1)(ix))\n(Select from dropdown)]],Table22[],2,FALSE))","v":""}]
[null,{"$f":"IF(Table24[[#This Row],[Affected CMS\n(§63.2386(d)(1)(ix))\n(Select from dropdown)]]=\"\",\"\",VLOOKUP(Table24[[#This Row],[Affected CMS\n(§63.2386(d)(1)(ix))\n(Select from dropdown)]],Table22[],2,FALSE))","v":""}]
[null,{"$f":"IF(Table24[[#This Row],[Affected CMS\n(§63.2386(d)(1)(ix))\n(Select from dropdown)]]=\"\",\"\",VLOOKUP(Table24[[#This Row],[Affected CMS\n(§63.2386(d)(1)(ix))\n(Select from dropdown)]],Table22[],2,FALSE))","v":""}]
[null,{"$f":"IF(Table24[[#This Row],[Affected CMS\n(§63.2386(d)(1)(ix))\n(Select from dropdown)]]=\"\",\"\",VLOOKUP(Table24[[#This Row],[Affected CMS\n(§63.2386(d)(1)(ix))\n(Select from dropdown)]],Table22[],2,FALSE))","v":""}]
[null,{"$f":"IF(Table24[[#This Row],[Affected CMS\n(§63.2386(d)(1)(ix))\n(Select from dropdown)]]=\"\",\"\",VLOOKUP(Table24[[#This Row],[Affected CMS\n(§63.2386(d)(1)(ix))\n(Select from dropdown)]],Table22[],2,FALSE))","v":""}]
[null,{"$f":"IF(Table24[[#This Row],[Affected CMS\n(§63.2386(d)(1)(ix))\n(Select from dropdown)]]=\"\",\"\",VLOOKUP(Table24[[#This Row],[Affected CMS\n(§63.2386(d)(1)(ix))\n(Select from dropdown)]],Table22[],2,FALSE))","v":""}]
[null,{"$f":"IF(Table24[[#This Row],[Affected CMS\n(§63.2386(d)(1)(ix))\n(Select from dropdown)]]=\"\",\"\",VLOOKUP(Table24[[#This Row],[Affected CMS\n(§63.2386(d)(1)(ix))\n(Select from dropdown)]],Table22[],2,FALSE))","v":""}]
[null,{"$f":"IF(Table24[[#This Row],[Affected CMS\n(§63.2386(d)(1)(ix))\n(Select from dropdown)]]=\"\",\"\",VLOOKUP(Table24[[#This Row],[Affected CMS\n(§63.2386(d)(1)(ix))\n(Select from dropdown)]],Table22[],2,FALSE))","v":""}]
[null,{"$f":"IF(Table24[[#This Row],[Affected CMS\n(§63.2386(d)(1)(ix))\n(Select from dropdown)]]=\"\",\"\",VLOOKUP(Table24[[#This Row],[Affected CMS\n(§63.2386(d)(1)(ix))\n(Select from dropdown)]],Table22[],2,FALSE))","v":""}]
[null,{"$f":"IF(Table24[[#This Row],[Affected CMS\n(§63.2386(d)(1)(ix))\n(Select from dropdown)]]=\"\",\"\",VLOOKUP(Table24[[#This Row],[Affected CMS\n(§63.2386(d)(1)(ix))\n(Select from dropdown)]],Table22[],2,FALSE))","v":""}]
[null,{"$f":"IF(Table24[[#This Row],[Affected CMS\n(§63.2386(d)(1)(ix))\n(Select from dropdown)]]=\"\",\"\",VLOOKUP(Table24[[#This Row],[Affected CMS\n(§63.2386(d)(1)(ix))\n(Select from dropdown)]],Table22[],2,FALSE))","v":""}]
[null,{"$f":"IF(Table24[[#This Row],[Affected CMS\n(§63.2386(d)(1)(ix))\n(Select from dropdown)]]=\"\",\"\",VLOOKUP(Table24[[#This Row],[Affected CMS\n(§63.2386(d)(1)(ix))\n(Select from dropdown)]],Table22[],2,FALSE))","v":""}]
[null,{"$f":"IF(Table24[[#This Row],[Affected CMS\n(§63.2386(d)(1)(ix))\n(Select from dropdown)]]=\"\",\"\",VLOOKUP(Table24[[#This Row],[Affected CMS\n(§63.2386(d)(1)(ix))\n(Select from dropdown)]],Table22[],2,FALSE))","v":""}]
[null,{"$f":"IF(Table24[[#This Row],[Affected CMS\n(§63.2386(d)(1)(ix))\n(Select from dropdown)]]=\"\",\"\",VLOOKUP(Table24[[#This Row],[Affected CMS\n(§63.2386(d)(1)(ix))\n(Select from dropdown)]],Table22[],2,FALSE))","v":""}]
[null,{"$f":"IF(Table24[[#This Row],[Affected CMS\n(§63.2386(d)(1)(ix))\n(Select from dropdown)]]=\"\",\"\",VLOOKUP(Table24[[#This Row],[Affected CMS\n(§63.2386(d)(1)(ix))\n(Select from dropdown)]],Table22[],2,FALSE))","v":""}]
[null,{"$f":"IF(Table24[[#This Row],[Affected CMS\n(§63.2386(d)(1)(ix))\n(Select from dropdown)]]=\"\",\"\",VLOOKUP(Table24[[#This Row],[Affected CMS\n(§63.2386(d)(1)(ix))\n(Select from dropdown)]],Table22[],2,FALSE))","v":""}]
[null,{"$f":"IF(Table24[[#This Row],[Affected CMS\n(§63.2386(d)(1)(ix))\n(Select from dropdown)]]=\"\",\"\",VLOOKUP(Table24[[#This Row],[Affected CMS\n(§63.2386(d)(1)(ix))\n(Select from dropdown)]],Table22[],2,FALSE))","v":""}]
[null,{"$f":"IF(Table24[[#This Row],[Affected CMS\n(§63.2386(d)(1)(ix))\n(Select from dropdown)]]=\"\",\"\",VLOOKUP(Table24[[#This Row],[Affected CMS\n(§63.2386(d)(1)(ix))\n(Select from dropdown)]],Table22[],2,FALSE))","v":""}]
[null,{"$f":"IF(Table24[[#This Row],[Affected CMS\n(§63.2386(d)(1)(ix))\n(Select from dropdown)]]=\"\",\"\",VLOOKUP(Table24[[#This Row],[Affected CMS\n(§63.2386(d)(1)(ix))\n(Select from dropdown)]],Table22[],2,FALSE))","v":""}]
[null,{"$f":"IF(Table24[[#This Row],[Affected CMS\n(§63.2386(d)(1)(ix))\n(Select from dropdown)]]=\"\",\"\",VLOOKUP(Table24[[#This Row],[Affected CMS\n(§63.2386(d)(1)(ix))\n(Select from dropdown)]],Table22[],2,FALSE))","v":""}]
[null,{"$f":"IF(Table24[[#This Row],[Affected CMS\n(§63.2386(d)(1)(ix))\n(Select from dropdown)]]=\"\",\"\",VLOOKUP(Table24[[#This Row],[Affected CMS\n(§63.2386(d)(1)(ix))\n(Select from dropdown)]],Table22[],2,FALSE))","v":""}]
[null,{"$f":"IF(Table24[[#This Row],[Affected CMS\n(§63.2386(d)(1)(ix))\n(Select from dropdown)]]=\"\",\"\",VLOOKUP(Table24[[#This Row],[Affected CMS\n(§63.2386(d)(1)(ix))\n(Select from dropdown)]],Table22[],2,FALSE))","v":""}]
[null,{"$f":"IF(Table24[[#This Row],[Affected CMS\n(§63.2386(d)(1)(ix))\n(Select from dropdown)]]=\"\",\"\",VLOOKUP(Table24[[#This Row],[Affected CMS\n(§63.2386(d)(1)(ix))\n(Select from dropdown)]],Table22[],2,FALSE))","v":""}]
[null,{"$f":"IF(Table24[[#This Row],[Affected CMS\n(§63.2386(d)(1)(ix))\n(Select from dropdown)]]=\"\",\"\",VLOOKUP(Table24[[#This Row],[Affected CMS\n(§63.2386(d)(1)(ix))\n(Select from dropdown)]],Table22[],2,FALSE))","v":""}]
[null,{"$f":"IF(Table24[[#This Row],[Affected CMS\n(§63.2386(d)(1)(ix))\n(Select from dropdown)]]=\"\",\"\",VLOOKUP(Table24[[#This Row],[Affected CMS\n(§63.2386(d)(1)(ix))\n(Select from dropdown)]],Table22[],2,FALSE))","v":""}]
[null,{"$f":"IF(Table24[[#This Row],[Affected CMS\n(§63.2386(d)(1)(ix))\n(Select from dropdown)]]=\"\",\"\",VLOOKUP(Table24[[#This Row],[Affected CMS\n(§63.2386(d)(1)(ix))\n(Select from dropdown)]],Table22[],2,FALSE))","v":""}]
[null,{"$f":"IF(Table24[[#This Row],[Affected CMS\n(§63.2386(d)(1)(ix))\n(Select from dropdown)]]=\"\",\"\",VLOOKUP(Table24[[#This Row],[Affected CMS\n(§63.2386(d)(1)(ix))\n(Select from dropdown)]],Table22[],2,FALSE))","v":""}]
[null,{"$f":"IF(Table24[[#This Row],[Affected CMS\n(§63.2386(d)(1)(ix))\n(Select from dropdown)]]=\"\",\"\",VLOOKUP(Table24[[#This Row],[Affected CMS\n(§63.2386(d)(1)(ix))\n(Select from dropdown)]],Table22[],2,FALSE))","v":""}]
[null,{"$f":"IF(Table24[[#This Row],[Affected CMS\n(§63.2386(d)(1)(ix))\n(Select from dropdown)]]=\"\",\"\",VLOOKUP(Table24[[#This Row],[Affected CMS\n(§63.2386(d)(1)(ix))\n(Select from dropdown)]],Table22[],2,FALSE))","v":""}]
[null,{"$f":"IF(Table24[[#This Row],[Affected CMS\n(§63.2386(d)(1)(ix))\n(Select from dropdown)]]=\"\",\"\",VLOOKUP(Table24[[#This Row],[Affected CMS\n(§63.2386(d)(1)(ix))\n(Select from dropdown)]],Table22[],2,FALSE))","v":""}]
[null,{"$f":"IF(Table24[[#This Row],[Affected CMS\n(§63.2386(d)(1)(ix))\n(Select from dropdown)]]=\"\",\"\",VLOOKUP(Table24[[#This Row],[Affected CMS\n(§63.2386(d)(1)(ix))\n(Select from dropdown)]],Table22[],2,FALSE))","v":""}]
[null,{"$f":"IF(Table24[[#This Row],[Affected CMS\n(§63.2386(d)(1)(ix))\n(Select from dropdown)]]=\"\",\"\",VLOOKUP(Table24[[#This Row],[Affected CMS\n(§63.2386(d)(1)(ix))\n(Select from dropdown)]],Table22[],2,FALSE))","v":""}]
[null,{"$f":"IF(Table24[[#This Row],[Affected CMS\n(§63.2386(d)(1)(ix))\n(Select from dropdown)]]=\"\",\"\",VLOOKUP(Table24[[#This Row],[Affected CMS\n(§63.2386(d)(1)(ix))\n(Select from dropdown)]],Table22[],2,FALSE))","v":""}]
[null,{"$f":"IF(Table24[[#This Row],[Affected CMS\n(§63.2386(d)(1)(ix))\n(Select from dropdown)]]=\"\",\"\",VLOOKUP(Table24[[#This Row],[Affected CMS\n(§63.2386(d)(1)(ix))\n(Select from dropdown)]],Table22[],2,FALSE))","v":""}]
[null,{"$f":"IF(Table24[[#This Row],[Affected CMS\n(§63.2386(d)(1)(ix))\n(Select from dropdown)]]=\"\",\"\",VLOOKUP(Table24[[#This Row],[Affected CMS\n(§63.2386(d)(1)(ix))\n(Select from dropdown)]],Table22[],2,FALSE))","v":""}]
[null,{"$f":"IF(Table24[[#This Row],[Affected CMS\n(§63.2386(d)(1)(ix))\n(Select from dropdown)]]=\"\",\"\",VLOOKUP(Table24[[#This Row],[Affected CMS\n(§63.2386(d)(1)(ix))\n(Select from dropdown)]],Table22[],2,FALSE))","v":""}]
[null,{"$f":"IF(Table24[[#This Row],[Affected CMS\n(§63.2386(d)(1)(ix))\n(Select from dropdown)]]=\"\",\"\",VLOOKUP(Table24[[#This Row],[Affected CMS\n(§63.2386(d)(1)(ix))\n(Select from dropdown)]],Table22[],2,FALSE))","v":""}]
[null,{"$f":"IF(Table24[[#This Row],[Affected CMS\n(§63.2386(d)(1)(ix))\n(Select from dropdown)]]=\"\",\"\",VLOOKUP(Table24[[#This Row],[Affected CMS\n(§63.2386(d)(1)(ix))\n(Select from dropdown)]],Table22[],2,FALSE))","v":""}]
[null,{"$f":"IF(Table24[[#This Row],[Affected CMS\n(§63.2386(d)(1)(ix))\n(Select from dropdown)]]=\"\",\"\",VLOOKUP(Table24[[#This Row],[Affected CMS\n(§63.2386(d)(1)(ix))\n(Select from dropdown)]],Table22[],2,FALSE))","v":""}]
[null,{"$f":"IF(Table24[[#This Row],[Affected CMS\n(§63.2386(d)(1)(ix))\n(Select from dropdown)]]=\"\",\"\",VLOOKUP(Table24[[#This Row],[Affected CMS\n(§63.2386(d)(1)(ix))\n(Select from dropdown)]],Table22[],2,FALSE))","v":""}]
[null,{"$f":"IF(Table24[[#This Row],[Affected CMS\n(§63.2386(d)(1)(ix))\n(Select from dropdown)]]=\"\",\"\",VLOOKUP(Table24[[#This Row],[Affected CMS\n(§63.2386(d)(1)(ix))\n(Select from dropdown)]],Table22[],2,FALSE))","v":""}]
[null,{"$f":"IF(Table24[[#This Row],[Affected CMS\n(§63.2386(d)(1)(ix))\n(Select from dropdown)]]=\"\",\"\",VLOOKUP(Table24[[#This Row],[Affected CMS\n(§63.2386(d)(1)(ix))\n(Select from dropdown)]],Table22[],2,FALSE))","v":""}]
[null,{"$f":"IF(Table24[[#This Row],[Affected CMS\n(§63.2386(d)(1)(ix))\n(Select from dropdown)]]=\"\",\"\",VLOOKUP(Table24[[#This Row],[Affected CMS\n(§63.2386(d)(1)(ix))\n(Select from dropdown)]],Table22[],2,FALSE))","v":""}]
[null,{"$f":"IF(Table24[[#This Row],[Affected CMS\n(§63.2386(d)(1)(ix))\n(Select from dropdown)]]=\"\",\"\",VLOOKUP(Table24[[#This Row],[Affected CMS\n(§63.2386(d)(1)(ix))\n(Select from dropdown)]],Table22[],2,FALSE))","v":""}]
[null,{"$f":"IF(Table24[[#This Row],[Affected CMS\n(§63.2386(d)(1)(ix))\n(Select from dropdown)]]=\"\",\"\",VLOOKUP(Table24[[#This Row],[Affected CMS\n(§63.2386(d)(1)(ix))\n(Select from dropdown)]],Table22[],2,FALSE))","v":""}]
[null,{"$f":"IF(Table24[[#This Row],[Affected CMS\n(§63.2386(d)(1)(ix))\n(Select from dropdown)]]=\"\",\"\",VLOOKUP(Table24[[#This Row],[Affected CMS\n(§63.2386(d)(1)(ix))\n(Select from dropdown)]],Table22[],2,FALSE))","v":""}]
[null,{"$f":"IF(Table24[[#This Row],[Affected CMS\n(§63.2386(d)(1)(ix))\n(Select from dropdown)]]=\"\",\"\",VLOOKUP(Table24[[#This Row],[Affected CMS\n(§63.2386(d)(1)(ix))\n(Select from dropdown)]],Table22[],2,FALSE))","v":""}]
[null,{"$f":"IF(Table24[[#This Row],[Affected CMS\n(§63.2386(d)(1)(ix))\n(Select from dropdown)]]=\"\",\"\",VLOOKUP(Table24[[#This Row],[Affected CMS\n(§63.2386(d)(1)(ix))\n(Select from dropdown)]],Table22[],2,FALSE))","v":""}]
[null,{"$f":"IF(Table24[[#This Row],[Affected CMS\n(§63.2386(d)(1)(ix))\n(Select from dropdown)]]=\"\",\"\",VLOOKUP(Table24[[#This Row],[Affected CMS\n(§63.2386(d)(1)(ix))\n(Select from dropdown)]],Table22[],2,FALSE))","v":""}]
[null,{"$f":"IF(Table24[[#This Row],[Affected CMS\n(§63.2386(d)(1)(ix))\n(Select from dropdown)]]=\"\",\"\",VLOOKUP(Table24[[#This Row],[Affected CMS\n(§63.2386(d)(1)(ix))\n(Select from dropdown)]],Table22[],2,FALSE))","v":""}]
[null,{"$f":"IF(Table24[[#This Row],[Affected CMS\n(§63.2386(d)(1)(ix))\n(Select from dropdown)]]=\"\",\"\",VLOOKUP(Table24[[#This Row],[Affected CMS\n(§63.2386(d)(1)(ix))\n(Select from dropdown)]],Table22[],2,FALSE))","v":""}]
[null,{"$f":"IF(Table24[[#This Row],[Affected CMS\n(§63.2386(d)(1)(ix))\n(Select from dropdown)]]=\"\",\"\",VLOOKUP(Table24[[#This Row],[Affected CMS\n(§63.2386(d)(1)(ix))\n(Select from dropdown)]],Table22[],2,FALSE))","v":""}]
[null,{"$f":"IF(Table24[[#This Row],[Affected CMS\n(§63.2386(d)(1)(ix))\n(Select from dropdown)]]=\"\",\"\",VLOOKUP(Table24[[#This Row],[Affected CMS\n(§63.2386(d)(1)(ix))\n(Select from dropdown)]],Table22[],2,FALSE))","v":""}]
[null,{"$f":"IF(Table24[[#This Row],[Affected CMS\n(§63.2386(d)(1)(ix))\n(Select from dropdown)]]=\"\",\"\",VLOOKUP(Table24[[#This Row],[Affected CMS\n(§63.2386(d)(1)(ix))\n(Select from dropdown)]],Table22[],2,FALSE))","v":""}]
[null,{"$f":"IF(Table24[[#This Row],[Affected CMS\n(§63.2386(d)(1)(ix))\n(Select from dropdown)]]=\"\",\"\",VLOOKUP(Table24[[#This Row],[Affected CMS\n(§63.2386(d)(1)(ix))\n(Select from dropdown)]],Table22[],2,FALSE))","v":""}]
[null,{"$f":"IF(Table24[[#This Row],[Affected CMS\n(§63.2386(d)(1)(ix))\n(Select from dropdown)]]=\"\",\"\",VLOOKUP(Table24[[#This Row],[Affected CMS\n(§63.2386(d)(1)(ix))\n(Select from dropdown)]],Table22[],2,FALSE))","v":""}]
[null,{"$f":"IF(Table24[[#This Row],[Affected CMS\n(§63.2386(d)(1)(ix))\n(Select from dropdown)]]=\"\",\"\",VLOOKUP(Table24[[#This Row],[Affected CMS\n(§63.2386(d)(1)(ix))\n(Select from dropdown)]],Table22[],2,FALSE))","v":""}]
[null,{"$f":"IF(Table24[[#This Row],[Affected CMS\n(§63.2386(d)(1)(ix))\n(Select from dropdown)]]=\"\",\"\",VLOOKUP(Table24[[#This Row],[Affected CMS\n(§63.2386(d)(1)(ix))\n(Select from dropdown)]],Table22[],2,FALSE))","v":""}]
[null,{"$f":"IF(Table24[[#This Row],[Affected CMS\n(§63.2386(d)(1)(ix))\n(Select from dropdown)]]=\"\",\"\",VLOOKUP(Table24[[#This Row],[Affected CMS\n(§63.2386(d)(1)(ix))\n(Select from dropdown)]],Table22[],2,FALSE))","v":""}]
[null,{"$f":"IF(Table24[[#This Row],[Affected CMS\n(§63.2386(d)(1)(ix))\n(Select from dropdown)]]=\"\",\"\",VLOOKUP(Table24[[#This Row],[Affected CMS\n(§63.2386(d)(1)(ix))\n(Select from dropdown)]],Table22[],2,FALSE))","v":""}]
[null,{"$f":"IF(Table24[[#This Row],[Affected CMS\n(§63.2386(d)(1)(ix))\n(Select from dropdown)]]=\"\",\"\",VLOOKUP(Table24[[#This Row],[Affected CMS\n(§63.2386(d)(1)(ix))\n(Select from dropdown)]],Table22[],2,FALSE))","v":""}]
[null,{"$f":"IF(Table24[[#This Row],[Affected CMS\n(§63.2386(d)(1)(ix))\n(Select from dropdown)]]=\"\",\"\",VLOOKUP(Table24[[#This Row],[Affected CMS\n(§63.2386(d)(1)(ix))\n(Select from dropdown)]],Table22[],2,FALSE))","v":""}]
[null,{"$f":"IF(Table24[[#This Row],[Affected CMS\n(§63.2386(d)(1)(ix))\n(Select from dropdown)]]=\"\",\"\",VLOOKUP(Table24[[#This Row],[Affected CMS\n(§63.2386(d)(1)(ix))\n(Select from dropdown)]],Table22[],2,FALSE))","v":""}]
[null,{"$f":"IF(Table24[[#This Row],[Affected CMS\n(§63.2386(d)(1)(ix))\n(Select from dropdown)]]=\"\",\"\",VLOOKUP(Table24[[#This Row],[Affected CMS\n(§63.2386(d)(1)(ix))\n(Select from dropdown)]],Table22[],2,FALSE))","v":""}]
[null,{"$f":"IF(Table24[[#This Row],[Affected CMS\n(§63.2386(d)(1)(ix))\n(Select from dropdown)]]=\"\",\"\",VLOOKUP(Table24[[#This Row],[Affected CMS\n(§63.2386(d)(1)(ix))\n(Select from dropdown)]],Table22[],2,FALSE))","v":""}]
[null,{"$f":"IF(Table24[[#This Row],[Affected CMS\n(§63.2386(d)(1)(ix))\n(Select from dropdown)]]=\"\",\"\",VLOOKUP(Table24[[#This Row],[Affected CMS\n(§63.2386(d)(1)(ix))\n(Select from dropdown)]],Table22[],2,FALSE))","v":""}]
[null,{"$f":"IF(Table24[[#This Row],[Affected CMS\n(§63.2386(d)(1)(ix))\n(Select from dropdown)]]=\"\",\"\",VLOOKUP(Table24[[#This Row],[Affected CMS\n(§63.2386(d)(1)(ix))\n(Select from dropdown)]],Table22[],2,FALSE))","v":""}]
[null,{"$f":"IF(Table24[[#This Row],[Affected CMS\n(§63.2386(d)(1)(ix))\n(Select from dropdown)]]=\"\",\"\",VLOOKUP(Table24[[#This Row],[Affected CMS\n(§63.2386(d)(1)(ix))\n(Select from dropdown)]],Table22[],2,FALSE))","v":""}]
[null,{"$f":"IF(Table24[[#This Row],[Affected CMS\n(§63.2386(d)(1)(ix))\n(Select from dropdown)]]=\"\",\"\",VLOOKUP(Table24[[#This Row],[Affected CMS\n(§63.2386(d)(1)(ix))\n(Select from dropdown)]],Table22[],2,FALSE))","v":""}]
[null,{"$f":"IF(Table24[[#This Row],[Affected CMS\n(§63.2386(d)(1)(ix))\n(Select from dropdown)]]=\"\",\"\",VLOOKUP(Table24[[#This Row],[Affected CMS\n(§63.2386(d)(1)(ix))\n(Select from dropdown)]],Table22[],2,FALSE))","v":""}]
[null,{"$f":"IF(Table24[[#This Row],[Affected CMS\n(§63.2386(d)(1)(ix))\n(Select from dropdown)]]=\"\",\"\",VLOOKUP(Table24[[#This Row],[Affected CMS\n(§63.2386(d)(1)(ix))\n(Select from dropdown)]],Table22[],2,FALSE))","v":""}]
[null,{"$f":"IF(Table24[[#This Row],[Affected CMS\n(§63.2386(d)(1)(ix))\n(Select from dropdown)]]=\"\",\"\",VLOOKUP(Table24[[#This Row],[Affected CMS\n(§63.2386(d)(1)(ix))\n(Select from dropdown)]],Table22[],2,FALSE))","v":""}]
[null,{"$f":"IF(Table24[[#This Row],[Affected CMS\n(§63.2386(d)(1)(ix))\n(Select from dropdown)]]=\"\",\"\",VLOOKUP(Table24[[#This Row],[Affected CMS\n(§63.2386(d)(1)(ix))\n(Select from dropdown)]],Table22[],2,FALSE))","v":""}]
[null,{"$f":"IF(Table24[[#This Row],[Affected CMS\n(§63.2386(d)(1)(ix))\n(Select from dropdown)]]=\"\",\"\",VLOOKUP(Table24[[#This Row],[Affected CMS\n(§63.2386(d)(1)(ix))\n(Select from dropdown)]],Table22[],2,FALSE))","v":""}]
[null,{"$f":"IF(Table24[[#This Row],[Affected CMS\n(§63.2386(d)(1)(ix))\n(Select from dropdown)]]=\"\",\"\",VLOOKUP(Table24[[#This Row],[Affected CMS\n(§63.2386(d)(1)(ix))\n(Select from dropdown)]],Table22[],2,FALSE))","v":""}]
[null,{"$f":"IF(Table24[[#This Row],[Affected CMS\n(§63.2386(d)(1)(ix))\n(Select from dropdown)]]=\"\",\"\",VLOOKUP(Table24[[#This Row],[Affected CMS\n(§63.2386(d)(1)(ix))\n(Select from dropdown)]],Table22[],2,FALSE))","v":""}]
[null,{"$f":"IF(Table24[[#This Row],[Affected CMS\n(§63.2386(d)(1)(ix))\n(Select from dropdown)]]=\"\",\"\",VLOOKUP(Table24[[#This Row],[Affected CMS\n(§63.2386(d)(1)(ix))\n(Select from dropdown)]],Table22[],2,FALSE))","v":""}]
[null,{"$f":"IF(Table24[[#This Row],[Affected CMS\n(§63.2386(d)(1)(ix))\n(Select from dropdown)]]=\"\",\"\",VLOOKUP(Table24[[#This Row],[Affected CMS\n(§63.2386(d)(1)(ix))\n(Select from dropdown)]],Table22[],2,FALSE))","v":""}]
[null,{"$f":"IF(Table24[[#This Row],[Affected CMS\n(§63.2386(d)(1)(ix))\n(Select from dropdown)]]=\"\",\"\",VLOOKUP(Table24[[#This Row],[Affected CMS\n(§63.2386(d)(1)(ix))\n(Select from dropdown)]],Table22[],2,FALSE))","v":""}]
[null,{"$f":"IF(Table24[[#This Row],[Affected CMS\n(§63.2386(d)(1)(ix))\n(Select from dropdown)]]=\"\",\"\",VLOOKUP(Table24[[#This Row],[Affected CMS\n(§63.2386(d)(1)(ix))\n(Select from dropdown)]],Table22[],2,FALSE))","v":""}]
[null,{"$f":"IF(Table24[[#This Row],[Affected CMS\n(§63.2386(d)(1)(ix))\n(Select from dropdown)]]=\"\",\"\",VLOOKUP(Table24[[#This Row],[Affected CMS\n(§63.2386(d)(1)(ix))\n(Select from dropdown)]],Table22[],2,FALSE))","v":""}]
[null,{"$f":"IF(Table24[[#This Row],[Affected CMS\n(§63.2386(d)(1)(ix))\n(Select from dropdown)]]=\"\",\"\",VLOOKUP(Table24[[#This Row],[Affected CMS\n(§63.2386(d)(1)(ix))\n(Select from dropdown)]],Table22[],2,FALSE))","v":""}]
[null,{"$f":"IF(Table24[[#This Row],[Affected CMS\n(§63.2386(d)(1)(ix))\n(Select from dropdown)]]=\"\",\"\",VLOOKUP(Table24[[#This Row],[Affected CMS\n(§63.2386(d)(1)(ix))\n(Select from dropdown)]],Table22[],2,FALSE))","v":""}]
[null,{"$f":"IF(Table24[[#This Row],[Affected CMS\n(§63.2386(d)(1)(ix))\n(Select from dropdown)]]=\"\",\"\",VLOOKUP(Table24[[#This Row],[Affected CMS\n(§63.2386(d)(1)(ix))\n(Select from dropdown)]],Table22[],2,FALSE))","v":""}]
[null,{"$f":"IF(Table24[[#This Row],[Affected CMS\n(§63.2386(d)(1)(ix))\n(Select from dropdown)]]=\"\",\"\",VLOOKUP(Table24[[#This Row],[Affected CMS\n(§63.2386(d)(1)(ix))\n(Select from dropdown)]],Table22[],2,FALSE))","v":""}]
[null,{"$f":"IF(Table24[[#This Row],[Affected CMS\n(§63.2386(d)(1)(ix))\n(Select from dropdown)]]=\"\",\"\",VLOOKUP(Table24[[#This Row],[Affected CMS\n(§63.2386(d)(1)(ix))\n(Select from dropdown)]],Table22[],2,FALSE))","v":""}]
[null,{"$f":"IF(Table24[[#This Row],[Affected CMS\n(§63.2386(d)(1)(ix))\n(Select from dropdown)]]=\"\",\"\",VLOOKUP(Table24[[#This Row],[Affected CMS\n(§63.2386(d)(1)(ix))\n(Select from dropdown)]],Table22[],2,FALSE))","v":""}]
[null,{"$f":"IF(Table24[[#This Row],[Affected CMS\n(§63.2386(d)(1)(ix))\n(Select from dropdown)]]=\"\",\"\",VLOOKUP(Table24[[#This Row],[Affected CMS\n(§63.2386(d)(1)(ix))\n(Select from dropdown)]],Table22[],2,FALSE))","v":""}]
[null,{"$f":"IF(Table24[[#This Row],[Affected CMS\n(§63.2386(d)(1)(ix))\n(Select from dropdown)]]=\"\",\"\",VLOOKUP(Table24[[#This Row],[Affected CMS\n(§63.2386(d)(1)(ix))\n(Select from dropdown)]],Table22[],2,FALSE))","v":""}]
[null,{"$f":"IF(Table24[[#This Row],[Affected CMS\n(§63.2386(d)(1)(ix))\n(Select from dropdown)]]=\"\",\"\",VLOOKUP(Table24[[#This Row],[Affected CMS\n(§63.2386(d)(1)(ix))\n(Select from dropdown)]],Table22[],2,FALSE))","v":""}]
[null,{"$f":"IF(Table24[[#This Row],[Affected CMS\n(§63.2386(d)(1)(ix))\n(Select from dropdown)]]=\"\",\"\",VLOOKUP(Table24[[#This Row],[Affected CMS\n(§63.2386(d)(1)(ix))\n(Select from dropdown)]],Table22[],2,FALSE))","v":""}]
[null,{"$f":"IF(Table24[[#This Row],[Affected CMS\n(§63.2386(d)(1)(ix))\n(Select from dropdown)]]=\"\",\"\",VLOOKUP(Table24[[#This Row],[Affected CMS\n(§63.2386(d)(1)(ix))\n(Select from dropdown)]],Table22[],2,FALSE))","v":""}]
[null,{"$f":"IF(Table24[[#This Row],[Affected CMS\n(§63.2386(d)(1)(ix))\n(Select from dropdown)]]=\"\",\"\",VLOOKUP(Table24[[#This Row],[Affected CMS\n(§63.2386(d)(1)(ix))\n(Select from dropdown)]],Table22[],2,FALSE))","v":""}]
[null,{"$f":"IF(Table24[[#This Row],[Affected CMS\n(§63.2386(d)(1)(ix))\n(Select from dropdown)]]=\"\",\"\",VLOOKUP(Table24[[#This Row],[Affected CMS\n(§63.2386(d)(1)(ix))\n(Select from dropdown)]],Table22[],2,FALSE))","v":""}]
[null,{"$f":"IF(Table24[[#This Row],[Affected CMS\n(§63.2386(d)(1)(ix))\n(Select from dropdown)]]=\"\",\"\",VLOOKUP(Table24[[#This Row],[Affected CMS\n(§63.2386(d)(1)(ix))\n(Select from dropdown)]],Table22[],2,FALSE))","v":""}]
[null,{"$f":"IF(Table24[[#This Row],[Affected CMS\n(§63.2386(d)(1)(ix))\n(Select from dropdown)]]=\"\",\"\",VLOOKUP(Table24[[#This Row],[Affected CMS\n(§63.2386(d)(1)(ix))\n(Select from dropdown)]],Table22[],2,FALSE))","v":""}]
[null,{"$f":"IF(Table24[[#This Row],[Affected CMS\n(§63.2386(d)(1)(ix))\n(Select from dropdown)]]=\"\",\"\",VLOOKUP(Table24[[#This Row],[Affected CMS\n(§63.2386(d)(1)(ix))\n(Select from dropdown)]],Table22[],2,FALSE))","v":""}]
[null,{"$f":"IF(Table24[[#This Row],[Affected CMS\n(§63.2386(d)(1)(ix))\n(Select from dropdown)]]=\"\",\"\",VLOOKUP(Table24[[#This Row],[Affected CMS\n(§63.2386(d)(1)(ix))\n(Select from dropdown)]],Table22[],2,FALSE))","v":""}]
[null,{"$f":"IF(Table24[[#This Row],[Affected CMS\n(§63.2386(d)(1)(ix))\n(Select from dropdown)]]=\"\",\"\",VLOOKUP(Table24[[#This Row],[Affected CMS\n(§63.2386(d)(1)(ix))\n(Select from dropdown)]],Table22[],2,FALSE))","v":""}]
[null,{"$f":"IF(Table24[[#This Row],[Affected CMS\n(§63.2386(d)(1)(ix))\n(Select from dropdown)]]=\"\",\"\",VLOOKUP(Table24[[#This Row],[Affected CMS\n(§63.2386(d)(1)(ix))\n(Select from dropdown)]],Table22[],2,FALSE))","v":""}]
[null,{"$f":"IF(Table24[[#This Row],[Affected CMS\n(§63.2386(d)(1)(ix))\n(Select from dropdown)]]=\"\",\"\",VLOOKUP(Table24[[#This Row],[Affected CMS\n(§63.2386(d)(1)(ix))\n(Select from dropdown)]],Table22[],2,FALSE))","v":""}]
[null,{"$f":"IF(Table24[[#This Row],[Affected CMS\n(§63.2386(d)(1)(ix))\n(Select from dropdown)]]=\"\",\"\",VLOOKUP(Table24[[#This Row],[Affected CMS\n(§63.2386(d)(1)(ix))\n(Select from dropdown)]],Table22[],2,FALSE))","v":""}]
[null,{"$f":"IF(Table24[[#This Row],[Affected CMS\n(§63.2386(d)(1)(ix))\n(Select from dropdown)]]=\"\",\"\",VLOOKUP(Table24[[#This Row],[Affected CMS\n(§63.2386(d)(1)(ix))\n(Select from dropdown)]],Table22[],2,FALSE))","v":""}]
[null,{"$f":"IF(Table24[[#This Row],[Affected CMS\n(§63.2386(d)(1)(ix))\n(Select from dropdown)]]=\"\",\"\",VLOOKUP(Table24[[#This Row],[Affected CMS\n(§63.2386(d)(1)(ix))\n(Select from dropdown)]],Table22[],2,FALSE))","v":""}]
[null,{"$f":"IF(Table24[[#This Row],[Affected CMS\n(§63.2386(d)(1)(ix))\n(Select from dropdown)]]=\"\",\"\",VLOOKUP(Table24[[#This Row],[Affected CMS\n(§63.2386(d)(1)(ix))\n(Select from dropdown)]],Table22[],2,FALSE))","v":""}]
[null,{"$f":"IF(Table24[[#This Row],[Affected CMS\n(§63.2386(d)(1)(ix))\n(Select from dropdown)]]=\"\",\"\",VLOOKUP(Table24[[#This Row],[Affected CMS\n(§63.2386(d)(1)(ix))\n(Select from dropdown)]],Table22[],2,FALSE))","v":""}]
[null,{"$f":"IF(Table24[[#This Row],[Affected CMS\n(§63.2386(d)(1)(ix))\n(Select from dropdown)]]=\"\",\"\",VLOOKUP(Table24[[#This Row],[Affected CMS\n(§63.2386(d)(1)(ix))\n(Select from dropdown)]],Table22[],2,FALSE))","v":""}]
[null,{"$f":"IF(Table24[[#This Row],[Affected CMS\n(§63.2386(d)(1)(ix))\n(Select from dropdown)]]=\"\",\"\",VLOOKUP(Table24[[#This Row],[Affected CMS\n(§63.2386(d)(1)(ix))\n(Select from dropdown)]],Table22[],2,FALSE))","v":""}]
[null,{"$f":"IF(Table24[[#This Row],[Affected CMS\n(§63.2386(d)(1)(ix))\n(Select from dropdown)]]=\"\",\"\",VLOOKUP(Table24[[#This Row],[Affected CMS\n(§63.2386(d)(1)(ix))\n(Select from dropdown)]],Table22[],2,FALSE))","v":""}]
[null,{"$f":"IF(Table24[[#This Row],[Affected CMS\n(§63.2386(d)(1)(ix))\n(Select from dropdown)]]=\"\",\"\",VLOOKUP(Table24[[#This Row],[Affected CMS\n(§63.2386(d)(1)(ix))\n(Select from dropdown)]],Table22[],2,FALSE))","v":""}]
[null,{"$f":"IF(Table24[[#This Row],[Affected CMS\n(§63.2386(d)(1)(ix))\n(Select from dropdown)]]=\"\",\"\",VLOOKUP(Table24[[#This Row],[Affected CMS\n(§63.2386(d)(1)(ix))\n(Select from dropdown)]],Table22[],2,FALSE))","v":""}]
[null,{"$f":"IF(Table24[[#This Row],[Affected CMS\n(§63.2386(d)(1)(ix))\n(Select from dropdown)]]=\"\",\"\",VLOOKUP(Table24[[#This Row],[Affected CMS\n(§63.2386(d)(1)(ix))\n(Select from dropdown)]],Table22[],2,FALSE))","v":""}]
[null,{"$f":"IF(Table24[[#This Row],[Affected CMS\n(§63.2386(d)(1)(ix))\n(Select from dropdown)]]=\"\",\"\",VLOOKUP(Table24[[#This Row],[Affected CMS\n(§63.2386(d)(1)(ix))\n(Select from dropdown)]],Table22[],2,FALSE))","v":""}]
[null,{"$f":"IF(Table24[[#This Row],[Affected CMS\n(§63.2386(d)(1)(ix))\n(Select from dropdown)]]=\"\",\"\",VLOOKUP(Table24[[#This Row],[Affected CMS\n(§63.2386(d)(1)(ix))\n(Select from dropdown)]],Table22[],2,FALSE))","v":""}]
[null,{"$f":"IF(Table24[[#This Row],[Affected CMS\n(§63.2386(d)(1)(ix))\n(Select from dropdown)]]=\"\",\"\",VLOOKUP(Table24[[#This Row],[Affected CMS\n(§63.2386(d)(1)(ix))\n(Select from dropdown)]],Table22[],2,FALSE))","v":""}]
[null,{"$f":"IF(Table24[[#This Row],[Affected CMS\n(§63.2386(d)(1)(ix))\n(Select from dropdown)]]=\"\",\"\",VLOOKUP(Table24[[#This Row],[Affected CMS\n(§63.2386(d)(1)(ix))\n(Select from dropdown)]],Table22[],2,FALSE))","v":""}]
[null,{"$f":"IF(Table24[[#This Row],[Affected CMS\n(§63.2386(d)(1)(ix))\n(Select from dropdown)]]=\"\",\"\",VLOOKUP(Table24[[#This Row],[Affected CMS\n(§63.2386(d)(1)(ix))\n(Select from dropdown)]],Table22[],2,FALSE))","v":""}]
[null,{"$f":"IF(Table24[[#This Row],[Affected CMS\n(§63.2386(d)(1)(ix))\n(Select from dropdown)]]=\"\",\"\",VLOOKUP(Table24[[#This Row],[Affected CMS\n(§63.2386(d)(1)(ix))\n(Select from dropdown)]],Table22[],2,FALSE))","v":""}]
[null,{"$f":"IF(Table24[[#This Row],[Affected CMS\n(§63.2386(d)(1)(ix))\n(Select from dropdown)]]=\"\",\"\",VLOOKUP(Table24[[#This Row],[Affected CMS\n(§63.2386(d)(1)(ix))\n(Select from dropdown)]],Table22[],2,FALSE))","v":""}]
[null,{"$f":"IF(Table24[[#This Row],[Affected CMS\n(§63.2386(d)(1)(ix))\n(Select from dropdown)]]=\"\",\"\",VLOOKUP(Table24[[#This Row],[Affected CMS\n(§63.2386(d)(1)(ix))\n(Select from dropdown)]],Table22[],2,FALSE))","v":""}]
[null,{"$f":"IF(Table24[[#This Row],[Affected CMS\n(§63.2386(d)(1)(ix))\n(Select from dropdown)]]=\"\",\"\",VLOOKUP(Table24[[#This Row],[Affected CMS\n(§63.2386(d)(1)(ix))\n(Select from dropdown)]],Table22[],2,FALSE))","v":""}]
[null,{"$f":"IF(Table24[[#This Row],[Affected CMS\n(§63.2386(d)(1)(ix))\n(Select from dropdown)]]=\"\",\"\",VLOOKUP(Table24[[#This Row],[Affected CMS\n(§63.2386(d)(1)(ix))\n(Select from dropdown)]],Table22[],2,FALSE))","v":""}]
[null,{"$f":"IF(Table24[[#This Row],[Affected CMS\n(§63.2386(d)(1)(ix))\n(Select from dropdown)]]=\"\",\"\",VLOOKUP(Table24[[#This Row],[Affected CMS\n(§63.2386(d)(1)(ix))\n(Select from dropdown)]],Table22[],2,FALSE))","v":""}]
[null,{"$f":"IF(Table24[[#This Row],[Affected CMS\n(§63.2386(d)(1)(ix))\n(Select from dropdown)]]=\"\",\"\",VLOOKUP(Table24[[#This Row],[Affected CMS\n(§63.2386(d)(1)(ix))\n(Select from dropdown)]],Table22[],2,FALSE))","v":""}]
[null,{"$f":"IF(Table24[[#This Row],[Affected CMS\n(§63.2386(d)(1)(ix))\n(Select from dropdown)]]=\"\",\"\",VLOOKUP(Table24[[#This Row],[Affected CMS\n(§63.2386(d)(1)(ix))\n(Select from dropdown)]],Table22[],2,FALSE))","v":""}]
[null,{"$f":"IF(Table24[[#This Row],[Affected CMS\n(§63.2386(d)(1)(ix))\n(Select from dropdown)]]=\"\",\"\",VLOOKUP(Table24[[#This Row],[Affected CMS\n(§63.2386(d)(1)(ix))\n(Select from dropdown)]],Table22[],2,FALSE))","v":""}]
[null,{"$f":"IF(Table24[[#This Row],[Affected CMS\n(§63.2386(d)(1)(ix))\n(Select from dropdown)]]=\"\",\"\",VLOOKUP(Table24[[#This Row],[Affected CMS\n(§63.2386(d)(1)(ix))\n(Select from dropdown)]],Table22[],2,FALSE))","v":""}]
[null,{"$f":"IF(Table24[[#This Row],[Affected CMS\n(§63.2386(d)(1)(ix))\n(Select from dropdown)]]=\"\",\"\",VLOOKUP(Table24[[#This Row],[Affected CMS\n(§63.2386(d)(1)(ix))\n(Select from dropdown)]],Table22[],2,FALSE))","v":""}]
[null,{"$f":"IF(Table24[[#This Row],[Affected CMS\n(§63.2386(d)(1)(ix))\n(Select from dropdown)]]=\"\",\"\",VLOOKUP(Table24[[#This Row],[Affected CMS\n(§63.2386(d)(1)(ix))\n(Select from dropdown)]],Table22[],2,FALSE))","v":""}]
[null,{"$f":"IF(Table24[[#This Row],[Affected CMS\n(§63.2386(d)(1)(ix))\n(Select from dropdown)]]=\"\",\"\",VLOOKUP(Table24[[#This Row],[Affected CMS\n(§63.2386(d)(1)(ix))\n(Select from dropdown)]],Table22[],2,FALSE))","v":""}]
[null,{"$f":"IF(Table24[[#This Row],[Affected CMS\n(§63.2386(d)(1)(ix))\n(Select from dropdown)]]=\"\",\"\",VLOOKUP(Table24[[#This Row],[Affected CMS\n(§63.2386(d)(1)(ix))\n(Select from dropdown)]],Table22[],2,FALSE))","v":""}]
[null,{"$f":"IF(Table24[[#This Row],[Affected CMS\n(§63.2386(d)(1)(ix))\n(Select from dropdown)]]=\"\",\"\",VLOOKUP(Table24[[#This Row],[Affected CMS\n(§63.2386(d)(1)(ix))\n(Select from dropdown)]],Table22[],2,FALSE))","v":""}]
[null,{"$f":"IF(Table24[[#This Row],[Affected CMS\n(§63.2386(d)(1)(ix))\n(Select from dropdown)]]=\"\",\"\",VLOOKUP(Table24[[#This Row],[Affected CMS\n(§63.2386(d)(1)(ix))\n(Select from dropdown)]],Table22[],2,FALSE))","v":""}]
[null,{"$f":"IF(Table24[[#This Row],[Affected CMS\n(§63.2386(d)(1)(ix))\n(Select from dropdown)]]=\"\",\"\",VLOOKUP(Table24[[#This Row],[Affected CMS\n(§63.2386(d)(1)(ix))\n(Select from dropdown)]],Table22[],2,FALSE))","v":""}]
[null,{"$f":"IF(Table24[[#This Row],[Affected CMS\n(§63.2386(d)(1)(ix))\n(Select from dropdown)]]=\"\",\"\",VLOOKUP(Table24[[#This Row],[Affected CMS\n(§63.2386(d)(1)(ix))\n(Select from dropdown)]],Table22[],2,FALSE))","v":""}]
[null,{"$f":"IF(Table24[[#This Row],[Affected CMS\n(§63.2386(d)(1)(ix))\n(Select from dropdown)]]=\"\",\"\",VLOOKUP(Table24[[#This Row],[Affected CMS\n(§63.2386(d)(1)(ix))\n(Select from dropdown)]],Table22[],2,FALSE))","v":""}]
[null,{"$f":"IF(Table24[[#This Row],[Affected CMS\n(§63.2386(d)(1)(ix))\n(Select from dropdown)]]=\"\",\"\",VLOOKUP(Table24[[#This Row],[Affected CMS\n(§63.2386(d)(1)(ix))\n(Select from dropdown)]],Table22[],2,FALSE))","v":""}]
[null,{"$f":"IF(Table24[[#This Row],[Affected CMS\n(§63.2386(d)(1)(ix))\n(Select from dropdown)]]=\"\",\"\",VLOOKUP(Table24[[#This Row],[Affected CMS\n(§63.2386(d)(1)(ix))\n(Select from dropdown)]],Table22[],2,FALSE))","v":""}]
[null,{"$f":"IF(Table24[[#This Row],[Affected CMS\n(§63.2386(d)(1)(ix))\n(Select from dropdown)]]=\"\",\"\",VLOOKUP(Table24[[#This Row],[Affected CMS\n(§63.2386(d)(1)(ix))\n(Select from dropdown)]],Table22[],2,FALSE))","v":""}]
[null,{"$f":"IF(Table24[[#This Row],[Affected CMS\n(§63.2386(d)(1)(ix))\n(Select from dropdown)]]=\"\",\"\",VLOOKUP(Table24[[#This Row],[Affected CMS\n(§63.2386(d)(1)(ix))\n(Select from dropdown)]],Table22[],2,FALSE))","v":""}]
[null,{"$f":"IF(Table24[[#This Row],[Affected CMS\n(§63.2386(d)(1)(ix))\n(Select from dropdown)]]=\"\",\"\",VLOOKUP(Table24[[#This Row],[Affected CMS\n(§63.2386(d)(1)(ix))\n(Select from dropdown)]],Table22[],2,FALSE))","v":""}]
[null,{"$f":"IF(Table24[[#This Row],[Affected CMS\n(§63.2386(d)(1)(ix))\n(Select from dropdown)]]=\"\",\"\",VLOOKUP(Table24[[#This Row],[Affected CMS\n(§63.2386(d)(1)(ix))\n(Select from dropdown)]],Table22[],2,FALSE))","v":""}]
[null,{"$f":"IF(Table24[[#This Row],[Affected CMS\n(§63.2386(d)(1)(ix))\n(Select from dropdown)]]=\"\",\"\",VLOOKUP(Table24[[#This Row],[Affected CMS\n(§63.2386(d)(1)(ix))\n(Select from dropdown)]],Table22[],2,FALSE))","v":""}]
[null,{"$f":"IF(Table24[[#This Row],[Affected CMS\n(§63.2386(d)(1)(ix))\n(Select from dropdown)]]=\"\",\"\",VLOOKUP(Table24[[#This Row],[Affected CMS\n(§63.2386(d)(1)(ix))\n(Select from dropdown)]],Table22[],2,FALSE))","v":""}]
[null,{"$f":"IF(Table24[[#This Row],[Affected CMS\n(§63.2386(d)(1)(ix))\n(Select from dropdown)]]=\"\",\"\",VLOOKUP(Table24[[#This Row],[Affected CMS\n(§63.2386(d)(1)(ix))\n(Select from dropdown)]],Table22[],2,FALSE))","v":""}]
[null,{"$f":"IF(Table24[[#This Row],[Affected CMS\n(§63.2386(d)(1)(ix))\n(Select from dropdown)]]=\"\",\"\",VLOOKUP(Table24[[#This Row],[Affected CMS\n(§63.2386(d)(1)(ix))\n(Select from dropdown)]],Table22[],2,FALSE))","v":""}]
[null,{"$f":"IF(Table24[[#This Row],[Affected CMS\n(§63.2386(d)(1)(ix))\n(Select from dropdown)]]=\"\",\"\",VLOOKUP(Table24[[#This Row],[Affected CMS\n(§63.2386(d)(1)(ix))\n(Select from dropdown)]],Table22[],2,FALSE))","v":""}]
[null,{"$f":"IF(Table24[[#This Row],[Affected CMS\n(§63.2386(d)(1)(ix))\n(Select from dropdown)]]=\"\",\"\",VLOOKUP(Table24[[#This Row],[Affected CMS\n(§63.2386(d)(1)(ix))\n(Select from dropdown)]],Table22[],2,FALSE))","v":""}]
[null,{"$f":"IF(Table24[[#This Row],[Affected CMS\n(§63.2386(d)(1)(ix))\n(Select from dropdown)]]=\"\",\"\",VLOOKUP(Table24[[#This Row],[Affected CMS\n(§63.2386(d)(1)(ix))\n(Select from dropdown)]],Table22[],2,FALSE))","v":""}]
[null,{"$f":"IF(Table24[[#This Row],[Affected CMS\n(§63.2386(d)(1)(ix))\n(Select from dropdown)]]=\"\",\"\",VLOOKUP(Table24[[#This Row],[Affected CMS\n(§63.2386(d)(1)(ix))\n(Select from dropdown)]],Table22[],2,FALSE))","v":""}]
[null,{"$f":"IF(Table24[[#This Row],[Affected CMS\n(§63.2386(d)(1)(ix))\n(Select from dropdown)]]=\"\",\"\",VLOOKUP(Table24[[#This Row],[Affected CMS\n(§63.2386(d)(1)(ix))\n(Select from dropdown)]],Table22[],2,FALSE))","v":""}]
[null,{"$f":"IF(Table24[[#This Row],[Affected CMS\n(§63.2386(d)(1)(ix))\n(Select from dropdown)]]=\"\",\"\",VLOOKUP(Table24[[#This Row],[Affected CMS\n(§63.2386(d)(1)(ix))\n(Select from dropdown)]],Table22[],2,FALSE))","v":""}]
[null,{"$f":"IF(Table24[[#This Row],[Affected CMS\n(§63.2386(d)(1)(ix))\n(Select from dropdown)]]=\"\",\"\",VLOOKUP(Table24[[#This Row],[Affected CMS\n(§63.2386(d)(1)(ix))\n(Select from dropdown)]],Table22[],2,FALSE))","v":""}]
[null,{"$f":"IF(Table24[[#This Row],[Affected CMS\n(§63.2386(d)(1)(ix))\n(Select from dropdown)]]=\"\",\"\",VLOOKUP(Table24[[#This Row],[Affected CMS\n(§63.2386(d)(1)(ix))\n(Select from dropdown)]],Table22[],2,FALSE))","v":""}]
[null,{"$f":"IF(Table24[[#This Row],[Affected CMS\n(§63.2386(d)(1)(ix))\n(Select from dropdown)]]=\"\",\"\",VLOOKUP(Table24[[#This Row],[Affected CMS\n(§63.2386(d)(1)(ix))\n(Select from dropdown)]],Table22[],2,FALSE))","v":""}]

{"sheet":"CMS_Deviation","index":7,"n_rows":1023,"n_cols":17,"rows_kept":1023,"cut":false,"hidden":false,"merged":[]}
[null,"DO NOT REMOVE OR EDIT INFORMATION IN ROWS 1 THROUGH 5\nFOR INTERNAL USE ONLY"]
[null,"Template Name",{"$f":"Welcome!B2","v":"63.2386(a), (c), and (d) Compliance Report (Spreadsheet Template)"}]
[null,"CitationID",{"$f":"Welcome!B3","v":"63.2386(a), (c), and (d)"}]
[null,"Template Version",{"$f":"Welcome!B4","v":"v1.01"}]
[null,"Last Updated Date",{"$f":"Welcome!B5","v":"2024-04-09"}]
[]
[null,null,{"$f":"Company_Information!B7","v":"40 CFR Part 63, Subpart EEEE National Emission Standards for Hazardous Air Pollutants: Organic Liquids Distribution (Non-Gasoline)"}]
[null,null,{"$f":"Company_Information!B8","v":"§63.2386(a), (c), and (d) Compliance Report Spreadsheet Template"}]
[null,null,"This tab contains information related to deviations where a CMS is used to comply. It includes space to provide information for excursions under 40 CFR part 63 subpart SS."]
[null,null,"Note: Affected CMS selections appear once information is added to the CMS_Identification worksheet. The Company Record No. is hidden and will autopopulate from the selection of the Affected CMS."]
[null,null,null,null,null,null,null,null,null,null,null,null,null,"Storage Vessels and Low Throughput Racks","Transfer Racks"]
[null,"Company Record No.\n(Autofill)","Affected CMS\n(§63.2386(d)(1)(ix))\n(Select from dropdown)","List of Affected Sources or Equipment\n(§63.2386(d)(1)(xiii))","Start Date of Deviation\n(§63.2386(d)(1)(xiii))","Start Time of Deviation\n(§63.2386(d)(1)(xiii))","Duration of Deviation\n(in hours)  \n(§63.2386(d)(1)(xiii))","Cause of Deviation\n(§63.2386(d)(1)(xiii),\n§63.999(c)(5)(ii))","Correction Action Taken\n(§63.2386(d)(1)(xiii))","Identification of Each Organic HAP Potentially Emitted\n(§63.2386(d)(1)(viii))","Organic HAP Emitted Over Emission Limitation\n(§63.2386(d)(1)(xiii))","Estimate of Emissions\n(in pounds)\n(§63.2386(d)(1)(xiii))","Method Used to Estimate Emissions\n(§63.2386(d)(1)(xiii))","Identification of Control Device\n(§63.999(c)(5)(i))","Daily Average Value of Monitored Parameter\n(§63.999(c)(6)(i))","Unit of Measure for Monitored Parameter\n(§63.999(c)(6)(i))","Comments or Additional Information"]
[null,"RecordId","CMSDescription","AffectedSource","ParameterExcessStartDate","ParameterExcessStartTime","ParameterExcessDuration","ExceedanceCause","DeviationCorrectiveAction","EmittedPollutants","DeviationPollutant","EmissionQuantity","EstimationMethod","CMSControlDevice","CMSDeviationDailyAverage","DeviationDailyAverageUnits","CMSDeviationComments"]
[null,"e.g.: 1","e.g.: 1 Tank 300B Manufacturer 2020AB","e.g.: Tank 300B","e.g.: 03/15/20","e.g.: 2:15 PM","e.g.: 2","e.g.: Loose wire","e.g.: Wire was tightened.","e.g.: benzene","e.g.: benzene","e.g.: 20","e.g.: tank calculations using AP-42 Section 7.1","e.g.: Incinerator 200","e.g.: 150","e.g.: Fahrenheit","e.g.:"]
[null,null,"e.g.","e.g.","e.g.","e.g.","e.g.","e.g.","e.g.","e.g.","e.g.","e.g.","e.g.","e.g.","e.g.","e.g.","e.g."]
[null,null,"e.g.","e.g.","e.g.","e.g.","e.g.","e.g.","e.g.","e.g.","e.g.","e.g.","e.g.","e.g.","e.g.","e.g.","e.g."]
[null,null,"e.g.","e.g.","e.g.","e.g.","e.g.","e.g.","e.g.","e.g.","e.g.","e.g.","e.g.","e.g.","e.g.","e.g.","e.g."]
[null,null,"e.g.","e.g.","e.g.","e.g.","e.g.","e.g.","e.g.","e.g.","e.g.","e.g.","e.g.","e.g.","e.g.","e.g.","e.g."]
[null,null,"e.g.","e.g.","e.g.","e.g.","e.g.","e.g.","e.g.","e.g.","e.g.","e.g.","e.g.","e.g.","e.g.","e.g.","e.g."]
[null,null,"e.g.","e.g.","e.g.","e.g.","e.g.","e.g.","e.g.","e.g.","e.g.","e.g.","e.g.","e.g.","e.g.","e.g.","e.g."]
[null,null,"e.g.","e.g.","e.g.","e.g.","e.g.","e.g.","e.g.","e.g.","e.g.","e.g.","e.g.","e.g.","e.g.","e.g.","e.g."]
[null,null,"e.g.","e.g.","e.g.","e.g.","e.g.","e.g.","e.g.","e.g.","e.g.","e.g.","e.g.","e.g.","e.g.","e.g.","e.g."]
[null,null,"e.g.","e.g.","e.g.","e.g.","e.g.","e.g.","e.g.","e.g.","e.g.","e.g.","e.g.","e.g.","e.g.","e.g.","e.g."]
[null,{"$f":"IF(Table25[[#This Row],[Affected CMS\n(§63.2386(d)(1)(ix))\n(Select from dropdown)]]=\"\",\"\",VLOOKUP(Table25[[#This Row],[Affected CMS\n(§63.2386(d)(1)(ix))\n(Select from dropdown)]],Table22[],2,FALSE))","v":""}]
[null,{"$f":"IF(Table25[[#This Row],[Affected CMS\n(§63.2386(d)(1)(ix))\n(Select from dropdown)]]=\"\",\"\",VLOOKUP(Table25[[#This Row],[Affected CMS\n(§63.2386(d)(1)(ix))\n(Select from dropdown)]],Table22[],2,FALSE))","v":""}]
[null,{"$f":"IF(Table25[[#This Row],[Affected CMS\n(§63.2386(d)(1)(ix))\n(Select from dropdown)]]=\"\",\"\",VLOOKUP(Table25[[#This Row],[Affected CMS\n(§63.2386(d)(1)(ix))\n(Select from dropdown)]],Table22[],2,FALSE))","v":""}]
[null,{"$f":"IF(Table25[[#This Row],[Affected CMS\n(§63.2386(d)(1)(ix))\n(Select from dropdown)]]=\"\",\"\",VLOOKUP(Table25[[#This Row],[Affected CMS\n(§63.2386(d)(1)(ix))\n(Select from dropdown)]],Table22[],2,FALSE))","v":""}]
[null,{"$f":"IF(Table25[[#This Row],[Affected CMS\n(§63.2386(d)(1)(ix))\n(Select from dropdown)]]=\"\",\"\",VLOOKUP(Table25[[#This Row],[Affected CMS\n(§63.2386(d)(1)(ix))\n(Select from dropdown)]],Table22[],2,FALSE))","v":""}]
[null,{"$f":"IF(Table25[[#This Row],[Affected CMS\n(§63.2386(d)(1)(ix))\n(Select from dropdown)]]=\"\",\"\",VLOOKUP(Table25[[#This Row],[Affected CMS\n(§63.2386(d)(1)(ix))\n(Select from dropdown)]],Table22[],2,FALSE))","v":""}]
[null,{"$f":"IF(Table25[[#This Row],[Affected CMS\n(§63.2386(d)(1)(ix))\n(Select from dropdown)]]=\"\",\"\",VLOOKUP(Table25[[#This Row],[Affected CMS\n(§63.2386(d)(1)(ix))\n(Select from dropdown)]],Table22[],2,FALSE))","v":""}]
[null,{"$f":"IF(Table25[[#This Row],[Affected CMS\n(§63.2386(d)(1)(ix))\n(Select from dropdown)]]=\"\",\"\",VLOOKUP(Table25[[#This Row],[Affected CMS\n(§63.2386(d)(1)(ix))\n(Select from dropdown)]],Table22[],2,FALSE))","v":""}]
[null,{"$f":"IF(Table25[[#This Row],[Affected CMS\n(§63.2386(d)(1)(ix))\n(Select from dropdown)]]=\"\",\"\",VLOOKUP(Table25[[#This Row],[Affected CMS\n(§63.2386(d)(1)(ix))\n(Select from dropdown)]],Table22[],2,FALSE))","v":""}]
[null,{"$f":"IF(Table25[[#This Row],[Affected CMS\n(§63.2386(d)(1)(ix))\n(Select from dropdown)]]=\"\",\"\",VLOOKUP(Table25[[#This Row],[Affected CMS\n(§63.2386(d)(1)(ix))\n(Select from dropdown)]],Table22[],2,FALSE))","v":""}]
[null,{"$f":"IF(Table25[[#This Row],[Affected CMS\n(§63.2386(d)(1)(ix))\n(Select from dropdown)]]=\"\",\"\",VLOOKUP(Table25[[#This Row],[Affected CMS\n(§63.2386(d)(1)(ix))\n(Select from dropdown)]],Table22[],2,FALSE))","v":""}]
[null,{"$f":"IF(Table25[[#This Row],[Affected CMS\n(§63.2386(d)(1)(ix))\n(Select from dropdown)]]=\"\",\"\",VLOOKUP(Table25[[#This Row],[Affected CMS\n(§63.2386(d)(1)(ix))\n(Select from dropdown)]],Table22[],2,FALSE))","v":""}]
[null,{"$f":"IF(Table25[[#This Row],[Affected CMS\n(§63.2386(d)(1)(ix))\n(Select from dropdown)]]=\"\",\"\",VLOOKUP(Table25[[#This Row],[Affected CMS\n(§63.2386(d)(1)(ix))\n(Select from dropdown)]],Table22[],2,FALSE))","v":""}]
[null,{"$f":"IF(Table25[[#This Row],[Affected CMS\n(§63.2386(d)(1)(ix))\n(Select from dropdown)]]=\"\",\"\",VLOOKUP(Table25[[#This Row],[Affected CMS\n(§63.2386(d)(1)(ix))\n(Select from dropdown)]],Table22[],2,FALSE))","v":""}]
[null,{"$f":"IF(Table25[[#This Row],[Affected CMS\n(§63.2386(d)(1)(ix))\n(Select from dropdown)]]=\"\",\"\",VLOOKUP(Table25[[#This Row],[Affected CMS\n(§63.2386(d)(1)(ix))\n(Select from dropdown)]],Table22[],2,FALSE))","v":""}]
[null,{"$f":"IF(Table25[[#This Row],[Affected CMS\n(§63.2386(d)(1)(ix))\n(Select from dropdown)]]=\"\",\"\",VLOOKUP(Table25[[#This Row],[Affected CMS\n(§63.2386(d)(1)(ix))\n(Select from dropdown)]],Table22[],2,FALSE))","v":""}]
[null,{"$f":"IF(Table25[[#This Row],[Affected CMS\n(§63.2386(d)(1)(ix))\n(Select from dropdown)]]=\"\",\"\",VLOOKUP(Table25[[#This Row],[Affected CMS\n(§63.2386(d)(1)(ix))\n(Select from dropdown)]],Table22[],2,FALSE))","v":""}]
[null,{"$f":"IF(Table25[[#This Row],[Affected CMS\n(§63.2386(d)(1)(ix))\n(Select from dropdown)]]=\"\",\"\",VLOOKUP(Table25[[#This Row],[Affected CMS\n(§63.2386(d)(1)(ix))\n(Select from dropdown)]],Table22[],2,FALSE))","v":""}]
[null,{"$f":"IF(Table25[[#This Row],[Affected CMS\n(§63.2386(d)(1)(ix))\n(Select from dropdown)]]=\"\",\"\",VLOOKUP(Table25[[#This Row],[Affected CMS\n(§63.2386(d)(1)(ix))\n(Select from dropdown)]],Table22[],2,FALSE))","v":""}]
[null,{"$f":"IF(Table25[[#This Row],[Affected CMS\n(§63.2386(d)(1)(ix))\n(Select from dropdown)]]=\"\",\"\",VLOOKUP(Table25[[#This Row],[Affected CMS\n(§63.2386(d)(1)(ix))\n(Select from dropdown)]],Table22[],2,FALSE))","v":""}]
[null,{"$f":"IF(Table25[[#This Row],[Affected CMS\n(§63.2386(d)(1)(ix))\n(Select from dropdown)]]=\"\",\"\",VLOOKUP(Table25[[#This Row],[Affected CMS\n(§63.2386(d)(1)(ix))\n(Select from dropdown)]],Table22[],2,FALSE))","v":""}]
[null,{"$f":"IF(Table25[[#This Row],[Affected CMS\n(§63.2386(d)(1)(ix))\n(Select from dropdown)]]=\"\",\"\",VLOOKUP(Table25[[#This Row],[Affected CMS\n(§63.2386(d)(1)(ix))\n(Select from dropdown)]],Table22[],2,FALSE))","v":""}]
[null,{"$f":"IF(Table25[[#This Row],[Affected CMS\n(§63.2386(d)(1)(ix))\n(Select from dropdown)]]=\"\",\"\",VLOOKUP(Table25[[#This Row],[Affected CMS\n(§63.2386(d)(1)(ix))\n(Select from dropdown)]],Table22[],2,FALSE))","v":""}]
[null,{"$f":"IF(Table25[[#This Row],[Affected CMS\n(§63.2386(d)(1)(ix))\n(Select from dropdown)]]=\"\",\"\",VLOOKUP(Table25[[#This Row],[Affected CMS\n(§63.2386(d)(1)(ix))\n(Select from dropdown)]],Table22[],2,FALSE))","v":""}]
[null,{"$f":"IF(Table25[[#This Row],[Affected CMS\n(§63.2386(d)(1)(ix))\n(Select from dropdown)]]=\"\",\"\",VLOOKUP(Table25[[#This Row],[Affected CMS\n(§63.2386(d)(1)(ix))\n(Select from dropdown)]],Table22[],2,FALSE))","v":""}]
[null,{"$f":"IF(Table25[[#This Row],[Affected CMS\n(§63.2386(d)(1)(ix))\n(Select from dropdown)]]=\"\",\"\",VLOOKUP(Table25[[#This Row],[Affected CMS\n(§63.2386(d)(1)(ix))\n(Select from dropdown)]],Table22[],2,FALSE))","v":""}]
[null,{"$f":"IF(Table25[[#This Row],[Affected CMS\n(§63.2386(d)(1)(ix))\n(Select from dropdown)]]=\"\",\"\",VLOOKUP(Table25[[#This Row],[Affected CMS\n(§63.2386(d)(1)(ix))\n(Select from dropdown)]],Table22[],2,FALSE))","v":""}]
[null,{"$f":"IF(Table25[[#This Row],[Affected CMS\n(§63.2386(d)(1)(ix))\n(Select from dropdown)]]=\"\",\"\",VLOOKUP(Table25[[#This Row],[Affected CMS\n(§63.2386(d)(1)(ix))\n(Select from dropdown)]],Table22[],2,FALSE))","v":""}]
[null,{"$f":"IF(Table25[[#This Row],[Affected CMS\n(§63.2386(d)(1)(ix))\n(Select from dropdown)]]=\"\",\"\",VLOOKUP(Table25[[#This Row],[Affected CMS\n(§63.2386(d)(1)(ix))\n(Select from dropdown)]],Table22[],2,FALSE))","v":""}]
[null,{"$f":"IF(Table25[[#This Row],[Affected CMS\n(§63.2386(d)(1)(ix))\n(Select from dropdown)]]=\"\",\"\",VLOOKUP(Table25[[#This Row],[Affected CMS\n(§63.2386(d)(1)(ix))\n(Select from dropdown)]],Table22[],2,FALSE))","v":""}]
[null,{"$f":"IF(Table25[[#This Row],[Affected CMS\n(§63.2386(d)(1)(ix))\n(Select from dropdown)]]=\"\",\"\",VLOOKUP(Table25[[#This Row],[Affected CMS\n(§63.2386(d)(1)(ix))\n(Select from dropdown)]],Table22[],2,FALSE))","v":""}]
[null,{"$f":"IF(Table25[[#This Row],[Affected CMS\n(§63.2386(d)(1)(ix))\n(Select from dropdown)]]=\"\",\"\",VLOOKUP(Table25[[#This Row],[Affected CMS\n(§63.2386(d)(1)(ix))\n(Select from dropdown)]],Table22[],2,FALSE))","v":""}]
[null,{"$f":"IF(Table25[[#This Row],[Affected CMS\n(§63.2386(d)(1)(ix))\n(Select from dropdown)]]=\"\",\"\",VLOOKUP(Table25[[#This Row],[Affected CMS\n(§63.2386(d)(1)(ix))\n(Select from dropdown)]],Table22[],2,FALSE))","v":""}]
[null,{"$f":"IF(Table25[[#This Row],[Affected CMS\n(§63.2386(d)(1)(ix))\n(Select from dropdown)]]=\"\",\"\",VLOOKUP(Table25[[#This Row],[Affected CMS\n(§63.2386(d)(1)(ix))\n(Select from dropdown)]],Table22[],2,FALSE))","v":""}]
[null,{"$f":"IF(Table25[[#This Row],[Affected CMS\n(§63.2386(d)(1)(ix))\n(Select from dropdown)]]=\"\",\"\",VLOOKUP(Table25[[#This Row],[Affected CMS\n(§63.2386(d)(1)(ix))\n(Select from dropdown)]],Table22[],2,FALSE))","v":""}]
[null,{"$f":"IF(Table25[[#This Row],[Affected CMS\n(§63.2386(d)(1)(ix))\n(Select from dropdown)]]=\"\",\"\",VLOOKUP(Table25[[#This Row],[Affected CMS\n(§63.2386(d)(1)(ix))\n(Select from dropdown)]],Table22[],2,FALSE))","v":""}]
[null,{"$f":"IF(Table25[[#This Row],[Affected CMS\n(§63.2386(d)(1)(ix))\n(Select from dropdown)]]=\"\",\"\",VLOOKUP(Table25[[#This Row],[Affected CMS\n(§63.2386(d)(1)(ix))\n(Select from dropdown)]],Table22[],2,FALSE))","v":""}]
[null,{"$f":"IF(Table25[[#This Row],[Affected CMS\n(§63.2386(d)(1)(ix))\n(Select from dropdown)]]=\"\",\"\",VLOOKUP(Table25[[#This Row],[Affected CMS\n(§63.2386(d)(1)(ix))\n(Select from dropdown)]],Table22[],2,FALSE))","v":""}]
[null,{"$f":"IF(Table25[[#This Row],[Affected CMS\n(§63.2386(d)(1)(ix))\n(Select from dropdown)]]=\"\",\"\",VLOOKUP(Table25[[#This Row],[Affected CMS\n(§63.2386(d)(1)(ix))\n(Select from dropdown)]],Table22[],2,FALSE))","v":""}]
[null,{"$f":"IF(Table25[[#This Row],[Affected CMS\n(§63.2386(d)(1)(ix))\n(Select from dropdown)]]=\"\",\"\",VLOOKUP(Table25[[#This Row],[Affected CMS\n(§63.2386(d)(1)(ix))\n(Select from dropdown)]],Table22[],2,FALSE))","v":""}]
[null,{"$f":"IF(Table25[[#This Row],[Affected CMS\n(§63.2386(d)(1)(ix))\n(Select from dropdown)]]=\"\",\"\",VLOOKUP(Table25[[#This Row],[Affected CMS\n(§63.2386(d)(1)(ix))\n(Select from dropdown)]],Table22[],2,FALSE))","v":""}]
[null,{"$f":"IF(Table25[[#This Row],[Affected CMS\n(§63.2386(d)(1)(ix))\n(Select from dropdown)]]=\"\",\"\",VLOOKUP(Table25[[#This Row],[Affected CMS\n(§63.2386(d)(1)(ix))\n(Select from dropdown)]],Table22[],2,FALSE))","v":""}]
[null,{"$f":"IF(Table25[[#This Row],[Affected CMS\n(§63.2386(d)(1)(ix))\n(Select from dropdown)]]=\"\",\"\",VLOOKUP(Table25[[#This Row],[Affected CMS\n(§63.2386(d)(1)(ix))\n(Select from dropdown)]],Table22[],2,FALSE))","v":""}]
[null,{"$f":"IF(Table25[[#This Row],[Affected CMS\n(§63.2386(d)(1)(ix))\n(Select from dropdown)]]=\"\",\"\",VLOOKUP(Table25[[#This Row],[Affected CMS\n(§63.2386(d)(1)(ix))\n(Select from dropdown)]],Table22[],2,FALSE))","v":""}]
[null,{"$f":"IF(Table25[[#This Row],[Affected CMS\n(§63.2386(d)(1)(ix))\n(Select from dropdown)]]=\"\",\"\",VLOOKUP(Table25[[#This Row],[Affected CMS\n(§63.2386(d)(1)(ix))\n(Select from dropdown)]],Table22[],2,FALSE))","v":""}]
[null,{"$f":"IF(Table25[[#This Row],[Affected CMS\n(§63.2386(d)(1)(ix))\n(Select from dropdown)]]=\"\",\"\",VLOOKUP(Table25[[#This Row],[Affected CMS\n(§63.2386(d)(1)(ix))\n(Select from dropdown)]],Table22[],2,FALSE))","v":""}]
[null,{"$f":"IF(Table25[[#This Row],[Affected CMS\n(§63.2386(d)(1)(ix))\n(Select from dropdown)]]=\"\",\"\",VLOOKUP(Table25[[#This Row],[Affected CMS\n(§63.2386(d)(1)(ix))\n(Select from dropdown)]],Table22[],2,FALSE))","v":""}]
[null,{"$f":"IF(Table25[[#This Row],[Affected CMS\n(§63.2386(d)(1)(ix))\n(Select from dropdown)]]=\"\",\"\",VLOOKUP(Table25[[#This Row],[Affected CMS\n(§63.2386(d)(1)(ix))\n(Select from dropdown)]],Table22[],2,FALSE))","v":""}]
[null,{"$f":"IF(Table25[[#This Row],[Affected CMS\n(§63.2386(d)(1)(ix))\n(Select from dropdown)]]=\"\",\"\",VLOOKUP(Table25[[#This Row],[Affected CMS\n(§63.2386(d)(1)(ix))\n(Select from dropdown)]],Table22[],2,FALSE))","v":""}]
[null,{"$f":"IF(Table25[[#This Row],[Affected CMS\n(§63.2386(d)(1)(ix))\n(Select from dropdown)]]=\"\",\"\",VLOOKUP(Table25[[#This Row],[Affected CMS\n(§63.2386(d)(1)(ix))\n(Select from dropdown)]],Table22[],2,FALSE))","v":""}]
[null,{"$f":"IF(Table25[[#This Row],[Affected CMS\n(§63.2386(d)(1)(ix))\n(Select from dropdown)]]=\"\",\"\",VLOOKUP(Table25[[#This Row],[Affected CMS\n(§63.2386(d)(1)(ix))\n(Select from dropdown)]],Table22[],2,FALSE))","v":""}]
[null,{"$f":"IF(Table25[[#This Row],[Affected CMS\n(§63.2386(d)(1)(ix))\n(Select from dropdown)]]=\"\",\"\",VLOOKUP(Table25[[#This Row],[Affected CMS\n(§63.2386(d)(1)(ix))\n(Select from dropdown)]],Table22[],2,FALSE))","v":""}]
[null,{"$f":"IF(Table25[[#This Row],[Affected CMS\n(§63.2386(d)(1)(ix))\n(Select from dropdown)]]=\"\",\"\",VLOOKUP(Table25[[#This Row],[Affected CMS\n(§63.2386(d)(1)(ix))\n(Select from dropdown)]],Table22[],2,FALSE))","v":""}]
[null,{"$f":"IF(Table25[[#This Row],[Affected CMS\n(§63.2386(d)(1)(ix))\n(Select from dropdown)]]=\"\",\"\",VLOOKUP(Table25[[#This Row],[Affected CMS\n(§63.2386(d)(1)(ix))\n(Select from dropdown)]],Table22[],2,FALSE))","v":""}]
[null,{"$f":"IF(Table25[[#This Row],[Affected CMS\n(§63.2386(d)(1)(ix))\n(Select from dropdown)]]=\"\",\"\",VLOOKUP(Table25[[#This Row],[Affected CMS\n(§63.2386(d)(1)(ix))\n(Select from dropdown)]],Table22[],2,FALSE))","v":""}]
[null,{"$f":"IF(Table25[[#This Row],[Affected CMS\n(§63.2386(d)(1)(ix))\n(Select from dropdown)]]=\"\",\"\",VLOOKUP(Table25[[#This Row],[Affected CMS\n(§63.2386(d)(1)(ix))\n(Select from dropdown)]],Table22[],2,FALSE))","v":""}]
[null,{"$f":"IF(Table25[[#This Row],[Affected CMS\n(§63.2386(d)(1)(ix))\n(Select from dropdown)]]=\"\",\"\",VLOOKUP(Table25[[#This Row],[Affected CMS\n(§63.2386(d)(1)(ix))\n(Select from dropdown)]],Table22[],2,FALSE))","v":""}]
[null,{"$f":"IF(Table25[[#This Row],[Affected CMS\n(§63.2386(d)(1)(ix))\n(Select from dropdown)]]=\"\",\"\",VLOOKUP(Table25[[#This Row],[Affected CMS\n(§63.2386(d)(1)(ix))\n(Select from dropdown)]],Table22[],2,FALSE))","v":""}]
[null,{"$f":"IF(Table25[[#This Row],[Affected CMS\n(§63.2386(d)(1)(ix))\n(Select from dropdown)]]=\"\",\"\",VLOOKUP(Table25[[#This Row],[Affected CMS\n(§63.2386(d)(1)(ix))\n(Select from dropdown)]],Table22[],2,FALSE))","v":""}]
[null,{"$f":"IF(Table25[[#This Row],[Affected CMS\n(§63.2386(d)(1)(ix))\n(Select from dropdown)]]=\"\",\"\",VLOOKUP(Table25[[#This Row],[Affected CMS\n(§63.2386(d)(1)(ix))\n(Select from dropdown)]],Table22[],2,FALSE))","v":""}]
[null,{"$f":"IF(Table25[[#This Row],[Affected CMS\n(§63.2386(d)(1)(ix))\n(Select from dropdown)]]=\"\",\"\",VLOOKUP(Table25[[#This Row],[Affected CMS\n(§63.2386(d)(1)(ix))\n(Select from dropdown)]],Table22[],2,FALSE))","v":""}]
[null,{"$f":"IF(Table25[[#This Row],[Affected CMS\n(§63.2386(d)(1)(ix))\n(Select from dropdown)]]=\"\",\"\",VLOOKUP(Table25[[#This Row],[Affected CMS\n(§63.2386(d)(1)(ix))\n(Select from dropdown)]],Table22[],2,FALSE))","v":""}]
[null,{"$f":"IF(Table25[[#This Row],[Affected CMS\n(§63.2386(d)(1)(ix))\n(Select from dropdown)]]=\"\",\"\",VLOOKUP(Table25[[#This Row],[Affected CMS\n(§63.2386(d)(1)(ix))\n(Select from dropdown)]],Table22[],2,FALSE))","v":""}]
[null,{"$f":"IF(Table25[[#This Row],[Affected CMS\n(§63.2386(d)(1)(ix))\n(Select from dropdown)]]=\"\",\"\",VLOOKUP(Table25[[#This Row],[Affected CMS\n(§63.2386(d)(1)(ix))\n(Select from dropdown)]],Table22[],2,FALSE))","v":""}]
[null,{"$f":"IF(Table25[[#This Row],[Affected CMS\n(§63.2386(d)(1)(ix))\n(Select from dropdown)]]=\"\",\"\",VLOOKUP(Table25[[#This Row],[Affected CMS\n(§63.2386(d)(1)(ix))\n(Select from dropdown)]],Table22[],2,FALSE))","v":""}]
[null,{"$f":"IF(Table25[[#This Row],[Affected CMS\n(§63.2386(d)(1)(ix))\n(Select from dropdown)]]=\"\",\"\",VLOOKUP(Table25[[#This Row],[Affected CMS\n(§63.2386(d)(1)(ix))\n(Select from dropdown)]],Table22[],2,FALSE))","v":""}]
[null,{"$f":"IF(Table25[[#This Row],[Affected CMS\n(§63.2386(d)(1)(ix))\n(Select from dropdown)]]=\"\",\"\",VLOOKUP(Table25[[#This Row],[Affected CMS\n(§63.2386(d)(1)(ix))\n(Select from dropdown)]],Table22[],2,FALSE))","v":""}]
[null,{"$f":"IF(Table25[[#This Row],[Affected CMS\n(§63.2386(d)(1)(ix))\n(Select from dropdown)]]=\"\",\"\",VLOOKUP(Table25[[#This Row],[Affected CMS\n(§63.2386(d)(1)(ix))\n(Select from dropdown)]],Table22[],2,FALSE))","v":""}]
[null,{"$f":"IF(Table25[[#This Row],[Affected CMS\n(§63.2386(d)(1)(ix))\n(Select from dropdown)]]=\"\",\"\",VLOOKUP(Table25[[#This Row],[Affected CMS\n(§63.2386(d)(1)(ix))\n(Select from dropdown)]],Table22[],2,FALSE))","v":""}]
[null,{"$f":"IF(Table25[[#This Row],[Affected CMS\n(§63.2386(d)(1)(ix))\n(Select from dropdown)]]=\"\",\"\",VLOOKUP(Table25[[#This Row],[Affected CMS\n(§63.2386(d)(1)(ix))\n(Select from dropdown)]],Table22[],2,FALSE))","v":""}]
[null,{"$f":"IF(Table25[[#This Row],[Affected CMS\n(§63.2386(d)(1)(ix))\n(Select from dropdown)]]=\"\",\"\",VLOOKUP(Table25[[#This Row],[Affected CMS\n(§63.2386(d)(1)(ix))\n(Select from dropdown)]],Table22[],2,FALSE))","v":""}]
[null,{"$f":"IF(Table25[[#This Row],[Affected CMS\n(§63.2386(d)(1)(ix))\n(Select from dropdown)]]=\"\",\"\",VLOOKUP(Table25[[#This Row],[Affected CMS\n(§63.2386(d)(1)(ix))\n(Select from dropdown)]],Table22[],2,FALSE))","v":""}]
[null,{"$f":"IF(Table25[[#This Row],[Affected CMS\n(§63.2386(d)(1)(ix))\n(Select from dropdown)]]=\"\",\"\",VLOOKUP(Table25[[#This Row],[Affected CMS\n(§63.2386(d)(1)(ix))\n(Select from dropdown)]],Table22[],2,FALSE))","v":""}]
[null,{"$f":"IF(Table25[[#This Row],[Affected CMS\n(§63.2386(d)(1)(ix))\n(Select from dropdown)]]=\"\",\"\",VLOOKUP(Table25[[#This Row],[Affected CMS\n(§63.2386(d)(1)(ix))\n(Select from dropdown)]],Table22[],2,FALSE))","v":""}]
[null,{"$f":"IF(Table25[[#This Row],[Affected CMS\n(§63.2386(d)(1)(ix))\n(Select from dropdown)]]=\"\",\"\",VLOOKUP(Table25[[#This Row],[Affected CMS\n(§63.2386(d)(1)(ix))\n(Select from dropdown)]],Table22[],2,FALSE))","v":""}]
[null,{"$f":"IF(Table25[[#This Row],[Affected CMS\n(§63.2386(d)(1)(ix))\n(Select from dropdown)]]=\"\",\"\",VLOOKUP(Table25[[#This Row],[Affected CMS\n(§63.2386(d)(1)(ix))\n(Select from dropdown)]],Table22[],2,FALSE))","v":""}]
[null,{"$f":"IF(Table25[[#This Row],[Affected CMS\n(§63.2386(d)(1)(ix))\n(Select from dropdown)]]=\"\",\"\",VLOOKUP(Table25[[#This Row],[Affected CMS\n(§63.2386(d)(1)(ix))\n(Select from dropdown)]],Table22[],2,FALSE))","v":""}]
[null,{"$f":"IF(Table25[[#This Row],[Affected CMS\n(§63.2386(d)(1)(ix))\n(Select from dropdown)]]=\"\",\"\",VLOOKUP(Table25[[#This Row],[Affected CMS\n(§63.2386(d)(1)(ix))\n(Select from dropdown)]],Table22[],2,FALSE))","v":""}]
[null,{"$f":"IF(Table25[[#This Row],[Affected CMS\n(§63.2386(d)(1)(ix))\n(Select from dropdown)]]=\"\",\"\",VLOOKUP(Table25[[#This Row],[Affected CMS\n(§63.2386(d)(1)(ix))\n(Select from dropdown)]],Table22[],2,FALSE))","v":""}]
[null,{"$f":"IF(Table25[[#This Row],[Affected CMS\n(§63.2386(d)(1)(ix))\n(Select from dropdown)]]=\"\",\"\",VLOOKUP(Table25[[#This Row],[Affected CMS\n(§63.2386(d)(1)(ix))\n(Select from dropdown)]],Table22[],2,FALSE))","v":""}]
[null,{"$f":"IF(Table25[[#This Row],[Affected CMS\n(§63.2386(d)(1)(ix))\n(Select from dropdown)]]=\"\",\"\",VLOOKUP(Table25[[#This Row],[Affected CMS\n(§63.2386(d)(1)(ix))\n(Select from dropdown)]],Table22[],2,FALSE))","v":""}]
[null,{"$f":"IF(Table25[[#This Row],[Affected CMS\n(§63.2386(d)(1)(ix))\n(Select from dropdown)]]=\"\",\"\",VLOOKUP(Table25[[#This Row],[Affected CMS\n(§63.2386(d)(1)(ix))\n(Select from dropdown)]],Table22[],2,FALSE))","v":""}]
[null,{"$f":"IF(Table25[[#This Row],[Affected CMS\n(§63.2386(d)(1)(ix))\n(Select from dropdown)]]=\"\",\"\",VLOOKUP(Table25[[#This Row],[Affected CMS\n(§63.2386(d)(1)(ix))\n(Select from dropdown)]],Table22[],2,FALSE))","v":""}]
[null,{"$f":"IF(Table25[[#This Row],[Affected CMS\n(§63.2386(d)(1)(ix))\n(Select from dropdown)]]=\"\",\"\",VLOOKUP(Table25[[#This Row],[Affected CMS\n(§63.2386(d)(1)(ix))\n(Select from dropdown)]],Table22[],2,FALSE))","v":""}]
[null,{"$f":"IF(Table25[[#This Row],[Affected CMS\n(§63.2386(d)(1)(ix))\n(Select from dropdown)]]=\"\",\"\",VLOOKUP(Table25[[#This Row],[Affected CMS\n(§63.2386(d)(1)(ix))\n(Select from dropdown)]],Table22[],2,FALSE))","v":""}]
[null,{"$f":"IF(Table25[[#This Row],[Affected CMS\n(§63.2386(d)(1)(ix))\n(Select from dropdown)]]=\"\",\"\",VLOOKUP(Table25[[#This Row],[Affected CMS\n(§63.2386(d)(1)(ix))\n(Select from dropdown)]],Table22[],2,FALSE))","v":""}]
[null,{"$f":"IF(Table25[[#This Row],[Affected CMS\n(§63.2386(d)(1)(ix))\n(Select from dropdown)]]=\"\",\"\",VLOOKUP(Table25[[#This Row],[Affected CMS\n(§63.2386(d)(1)(ix))\n(Select from dropdown)]],Table22[],2,FALSE))","v":""}]
[null,{"$f":"IF(Table25[[#This Row],[Affected CMS\n(§63.2386(d)(1)(ix))\n(Select from dropdown)]]=\"\",\"\",VLOOKUP(Table25[[#This Row],[Affected CMS\n(§63.2386(d)(1)(ix))\n(Select from dropdown)]],Table22[],2,FALSE))","v":""}]
[null,{"$f":"IF(Table25[[#This Row],[Affected CMS\n(§63.2386(d)(1)(ix))\n(Select from dropdown)]]=\"\",\"\",VLOOKUP(Table25[[#This Row],[Affected CMS\n(§63.2386(d)(1)(ix))\n(Select from dropdown)]],Table22[],2,FALSE))","v":""}]
[null,{"$f":"IF(Table25[[#This Row],[Affected CMS\n(§63.2386(d)(1)(ix))\n(Select from dropdown)]]=\"\",\"\",VLOOKUP(Table25[[#This Row],[Affected CMS\n(§63.2386(d)(1)(ix))\n(Select from dropdown)]],Table22[],2,FALSE))","v":""}]
[null,{"$f":"IF(Table25[[#This Row],[Affected CMS\n(§63.2386(d)(1)(ix))\n(Select from dropdown)]]=\"\",\"\",VLOOKUP(Table25[[#This Row],[Affected CMS\n(§63.2386(d)(1)(ix))\n(Select from dropdown)]],Table22[],2,FALSE))","v":""}]
[null,{"$f":"IF(Table25[[#This Row],[Affected CMS\n(§63.2386(d)(1)(ix))\n(Select from dropdown)]]=\"\",\"\",VLOOKUP(Table25[[#This Row],[Affected CMS\n(§63.2386(d)(1)(ix))\n(Select from dropdown)]],Table22[],2,FALSE))","v":""}]
[null,{"$f":"IF(Table25[[#This Row],[Affected CMS\n(§63.2386(d)(1)(ix))\n(Select from dropdown)]]=\"\",\"\",VLOOKUP(Table25[[#This Row],[Affected CMS\n(§63.2386(d)(1)(ix))\n(Select from dropdown)]],Table22[],2,FALSE))","v":""}]
[null,{"$f":"IF(Table25[[#This Row],[Affected CMS\n(§63.2386(d)(1)(ix))\n(Select from dropdown)]]=\"\",\"\",VLOOKUP(Table25[[#This Row],[Affected CMS\n(§63.2386(d)(1)(ix))\n(Select from dropdown)]],Table22[],2,FALSE))","v":""}]
[null,{"$f":"IF(Table25[[#This Row],[Affected CMS\n(§63.2386(d)(1)(ix))\n(Select from dropdown)]]=\"\",\"\",VLOOKUP(Table25[[#This Row],[Affected CMS\n(§63.2386(d)(1)(ix))\n(Select from dropdown)]],Table22[],2,FALSE))","v":""}]
[null,{"$f":"IF(Table25[[#This Row],[Affected CMS\n(§63.2386(d)(1)(ix))\n(Select from dropdown)]]=\"\",\"\",VLOOKUP(Table25[[#This Row],[Affected CMS\n(§63.2386(d)(1)(ix))\n(Select from dropdown)]],Table22[],2,FALSE))","v":""}]
[null,{"$f":"IF(Table25[[#This Row],[Affected CMS\n(§63.2386(d)(1)(ix))\n(Select from dropdown)]]=\"\",\"\",VLOOKUP(Table25[[#This Row],[Affected CMS\n(§63.2386(d)(1)(ix))\n(Select from dropdown)]],Table22[],2,FALSE))","v":""}]
[null,{"$f":"IF(Table25[[#This Row],[Affected CMS\n(§63.2386(d)(1)(ix))\n(Select from dropdown)]]=\"\",\"\",VLOOKUP(Table25[[#This Row],[Affected CMS\n(§63.2386(d)(1)(ix))\n(Select from dropdown)]],Table22[],2,FALSE))","v":""}]
[null,{"$f":"IF(Table25[[#This Row],[Affected CMS\n(§63.2386(d)(1)(ix))\n(Select from dropdown)]]=\"\",\"\",VLOOKUP(Table25[[#This Row],[Affected CMS\n(§63.2386(d)(1)(ix))\n(Select from dropdown)]],Table22[],2,FALSE))","v":""}]
[null,{"$f":"IF(Table25[[#This Row],[Affected CMS\n(§63.2386(d)(1)(ix))\n(Select from dropdown)]]=\"\",\"\",VLOOKUP(Table25[[#This Row],[Affected CMS\n(§63.2386(d)(1)(ix))\n(Select from dropdown)]],Table22[],2,FALSE))","v":""}]
[null,{"$f":"IF(Table25[[#This Row],[Affected CMS\n(§63.2386(d)(1)(ix))\n(Select from dropdown)]]=\"\",\"\",VLOOKUP(Table25[[#This Row],[Affected CMS\n(§63.2386(d)(1)(ix))\n(Select from dropdown)]],Table22[],2,FALSE))","v":""}]
[null,{"$f":"IF(Table25[[#This Row],[Affected CMS\n(§63.2386(d)(1)(ix))\n(Select from dropdown)]]=\"\",\"\",VLOOKUP(Table25[[#This Row],[Affected CMS\n(§63.2386(d)(1)(ix))\n(Select from dropdown)]],Table22[],2,FALSE))","v":""}]
[null,{"$f":"IF(Table25[[#This Row],[Affected CMS\n(§63.2386(d)(1)(ix))\n(Select from dropdown)]]=\"\",\"\",VLOOKUP(Table25[[#This Row],[Affected CMS\n(§63.2386(d)(1)(ix))\n(Select from dropdown)]],Table22[],2,FALSE))","v":""}]
[null,{"$f":"IF(Table25[[#This Row],[Affected CMS\n(§63.2386(d)(1)(ix))\n(Select from dropdown)]]=\"\",\"\",VLOOKUP(Table25[[#This Row],[Affected CMS\n(§63.2386(d)(1)(ix))\n(Select from dropdown)]],Table22[],2,FALSE))","v":""}]
[null,{"$f":"IF(Table25[[#This Row],[Affected CMS\n(§63.2386(d)(1)(ix))\n(Select from dropdown)]]=\"\",\"\",VLOOKUP(Table25[[#This Row],[Affected CMS\n(§63.2386(d)(1)(ix))\n(Select from dropdown)]],Table22[],2,FALSE))","v":""}]
[null,{"$f":"IF(Table25[[#This Row],[Affected CMS\n(§63.2386(d)(1)(ix))\n(Select from dropdown)]]=\"\",\"\",VLOOKUP(Table25[[#This Row],[Affected CMS\n(§63.2386(d)(1)(ix))\n(Select from dropdown)]],Table22[],2,FALSE))","v":""}]
[null,{"$f":"IF(Table25[[#This Row],[Affected CMS\n(§63.2386(d)(1)(ix))\n(Select from dropdown)]]=\"\",\"\",VLOOKUP(Table25[[#This Row],[Affected CMS\n(§63.2386(d)(1)(ix))\n(Select from dropdown)]],Table22[],2,FALSE))","v":""}]
[null,{"$f":"IF(Table25[[#This Row],[Affected CMS\n(§63.2386(d)(1)(ix))\n(Select from dropdown)]]=\"\",\"\",VLOOKUP(Table25[[#This Row],[Affected CMS\n(§63.2386(d)(1)(ix))\n(Select from dropdown)]],Table22[],2,FALSE))","v":""}]
[null,{"$f":"IF(Table25[[#This Row],[Affected CMS\n(§63.2386(d)(1)(ix))\n(Select from dropdown)]]=\"\",\"\",VLOOKUP(Table25[[#This Row],[Affected CMS\n(§63.2386(d)(1)(ix))\n(Select from dropdown)]],Table22[],2,FALSE))","v":""}]
[null,{"$f":"IF(Table25[[#This Row],[Affected CMS\n(§63.2386(d)(1)(ix))\n(Select from dropdown)]]=\"\",\"\",VLOOKUP(Table25[[#This Row],[Affected CMS\n(§63.2386(d)(1)(ix))\n(Select from dropdown)]],Table22[],2,FALSE))","v":""}]
[null,{"$f":"IF(Table25[[#This Row],[Affected CMS\n(§63.2386(d)(1)(ix))\n(Select from dropdown)]]=\"\",\"\",VLOOKUP(Table25[[#This Row],[Affected CMS\n(§63.2386(d)(1)(ix))\n(Select from dropdown)]],Table22[],2,FALSE))","v":""}]
[null,{"$f":"IF(Table25[[#This Row],[Affected CMS\n(§63.2386(d)(1)(ix))\n(Select from dropdown)]]=\"\",\"\",VLOOKUP(Table25[[#This Row],[Affected CMS\n(§63.2386(d)(1)(ix))\n(Select from dropdown)]],Table22[],2,FALSE))","v":""}]
[null,{"$f":"IF(Table25[[#This Row],[Affected CMS\n(§63.2386(d)(1)(ix))\n(Select from dropdown)]]=\"\",\"\",VLOOKUP(Table25[[#This Row],[Affected CMS\n(§63.2386(d)(1)(ix))\n(Select from dropdown)]],Table22[],2,FALSE))","v":""}]
[null,{"$f":"IF(Table25[[#This Row],[Affected CMS\n(§63.2386(d)(1)(ix))\n(Select from dropdown)]]=\"\",\"\",VLOOKUP(Table25[[#This Row],[Affected CMS\n(§63.2386(d)(1)(ix))\n(Select from dropdown)]],Table22[],2,FALSE))","v":""}]
[null,{"$f":"IF(Table25[[#This Row],[Affected CMS\n(§63.2386(d)(1)(ix))\n(Select from dropdown)]]=\"\",\"\",VLOOKUP(Table25[[#This Row],[Affected CMS\n(§63.2386(d)(1)(ix))\n(Select from dropdown)]],Table22[],2,FALSE))","v":""}]
[null,{"$f":"IF(Table25[[#This Row],[Affected CMS\n(§63.2386(d)(1)(ix))\n(Select from dropdown)]]=\"\",\"\",VLOOKUP(Table25[[#This Row],[Affected CMS\n(§63.2386(d)(1)(ix))\n(Select from dropdown)]],Table22[],2,FALSE))","v":""}]
[null,{"$f":"IF(Table25[[#This Row],[Affected CMS\n(§63.2386(d)(1)(ix))\n(Select from dropdown)]]=\"\",\"\",VLOOKUP(Table25[[#This Row],[Affected CMS\n(§63.2386(d)(1)(ix))\n(Select from dropdown)]],Table22[],2,FALSE))","v":""}]
[null,{"$f":"IF(Table25[[#This Row],[Affected CMS\n(§63.2386(d)(1)(ix))\n(Select from dropdown)]]=\"\",\"\",VLOOKUP(Table25[[#This Row],[Affected CMS\n(§63.2386(d)(1)(ix))\n(Select from dropdown)]],Table22[],2,FALSE))","v":""}]
[null,{"$f":"IF(Table25[[#This Row],[Affected CMS\n(§63.2386(d)(1)(ix))\n(Select from dropdown)]]=\"\",\"\",VLOOKUP(Table25[[#This Row],[Affected CMS\n(§63.2386(d)(1)(ix))\n(Select from dropdown)]],Table22[],2,FALSE))","v":""}]
[null,{"$f":"IF(Table25[[#This Row],[Affected CMS\n(§63.2386(d)(1)(ix))\n(Select from dropdown)]]=\"\",\"\",VLOOKUP(Table25[[#This Row],[Affected CMS\n(§63.2386(d)(1)(ix))\n(Select from dropdown)]],Table22[],2,FALSE))","v":""}]
[null,{"$f":"IF(Table25[[#This Row],[Affected CMS\n(§63.2386(d)(1)(ix))\n(Select from dropdown)]]=\"\",\"\",VLOOKUP(Table25[[#This Row],[Affected CMS\n(§63.2386(d)(1)(ix))\n(Select from dropdown)]],Table22[],2,FALSE))","v":""}]
[null,{"$f":"IF(Table25[[#This Row],[Affected CMS\n(§63.2386(d)(1)(ix))\n(Select from dropdown)]]=\"\",\"\",VLOOKUP(Table25[[#This Row],[Affected CMS\n(§63.2386(d)(1)(ix))\n(Select from dropdown)]],Table22[],2,FALSE))","v":""}]
[null,{"$f":"IF(Table25[[#This Row],[Affected CMS\n(§63.2386(d)(1)(ix))\n(Select from dropdown)]]=\"\",\"\",VLOOKUP(Table25[[#This Row],[Affected CMS\n(§63.2386(d)(1)(ix))\n(Select from dropdown)]],Table22[],2,FALSE))","v":""}]
[null,{"$f":"IF(Table25[[#This Row],[Affected CMS\n(§63.2386(d)(1)(ix))\n(Select from dropdown)]]=\"\",\"\",VLOOKUP(Table25[[#This Row],[Affected CMS\n(§63.2386(d)(1)(ix))\n(Select from dropdown)]],Table22[],2,FALSE))","v":""}]
[null,{"$f":"IF(Table25[[#This Row],[Affected CMS\n(§63.2386(d)(1)(ix))\n(Select from dropdown)]]=\"\",\"\",VLOOKUP(Table25[[#This Row],[Affected CMS\n(§63.2386(d)(1)(ix))\n(Select from dropdown)]],Table22[],2,FALSE))","v":""}]
[null,{"$f":"IF(Table25[[#This Row],[Affected CMS\n(§63.2386(d)(1)(ix))\n(Select from dropdown)]]=\"\",\"\",VLOOKUP(Table25[[#This Row],[Affected CMS\n(§63.2386(d)(1)(ix))\n(Select from dropdown)]],Table22[],2,FALSE))","v":""}]
[null,{"$f":"IF(Table25[[#This Row],[Affected CMS\n(§63.2386(d)(1)(ix))\n(Select from dropdown)]]=\"\",\"\",VLOOKUP(Table25[[#This Row],[Affected CMS\n(§63.2386(d)(1)(ix))\n(Select from dropdown)]],Table22[],2,FALSE))","v":""}]
[null,{"$f":"IF(Table25[[#This Row],[Affected CMS\n(§63.2386(d)(1)(ix))\n(Select from dropdown)]]=\"\",\"\",VLOOKUP(Table25[[#This Row],[Affected CMS\n(§63.2386(d)(1)(ix))\n(Select from dropdown)]],Table22[],2,FALSE))","v":""}]
[null,{"$f":"IF(Table25[[#This Row],[Affected CMS\n(§63.2386(d)(1)(ix))\n(Select from dropdown)]]=\"\",\"\",VLOOKUP(Table25[[#This Row],[Affected CMS\n(§63.2386(d)(1)(ix))\n(Select from dropdown)]],Table22[],2,FALSE))","v":""}]
[null,{"$f":"IF(Table25[[#This Row],[Affected CMS\n(§63.2386(d)(1)(ix))\n(Select from dropdown)]]=\"\",\"\",VLOOKUP(Table25[[#This Row],[Affected CMS\n(§63.2386(d)(1)(ix))\n(Select from dropdown)]],Table22[],2,FALSE))","v":""}]
[null,{"$f":"IF(Table25[[#This Row],[Affected CMS\n(§63.2386(d)(1)(ix))\n(Select from dropdown)]]=\"\",\"\",VLOOKUP(Table25[[#This Row],[Affected CMS\n(§63.2386(d)(1)(ix))\n(Select from dropdown)]],Table22[],2,FALSE))","v":""}]
[null,{"$f":"IF(Table25[[#This Row],[Affected CMS\n(§63.2386(d)(1)(ix))\n(Select from dropdown)]]=\"\",\"\",VLOOKUP(Table25[[#This Row],[Affected CMS\n(§63.2386(d)(1)(ix))\n(Select from dropdown)]],Table22[],2,FALSE))","v":""}]
[null,{"$f":"IF(Table25[[#This Row],[Affected CMS\n(§63.2386(d)(1)(ix))\n(Select from dropdown)]]=\"\",\"\",VLOOKUP(Table25[[#This Row],[Affected CMS\n(§63.2386(d)(1)(ix))\n(Select from dropdown)]],Table22[],2,FALSE))","v":""}]
[null,{"$f":"IF(Table25[[#This Row],[Affected CMS\n(§63.2386(d)(1)(ix))\n(Select from dropdown)]]=\"\",\"\",VLOOKUP(Table25[[#This Row],[Affected CMS\n(§63.2386(d)(1)(ix))\n(Select from dropdown)]],Table22[],2,FALSE))","v":""}]
[null,{"$f":"IF(Table25[[#This Row],[Affected CMS\n(§63.2386(d)(1)(ix))\n(Select from dropdown)]]=\"\",\"\",VLOOKUP(Table25[[#This Row],[Affected CMS\n(§63.2386(d)(1)(ix))\n(Select from dropdown)]],Table22[],2,FALSE))","v":""}]
[null,{"$f":"IF(Table25[[#This Row],[Affected CMS\n(§63.2386(d)(1)(ix))\n(Select from dropdown)]]=\"\",\"\",VLOOKUP(Table25[[#This Row],[Affected CMS\n(§63.2386(d)(1)(ix))\n(Select from dropdown)]],Table22[],2,FALSE))","v":""}]
[null,{"$f":"IF(Table25[[#This Row],[Affected CMS\n(§63.2386(d)(1)(ix))\n(Select from dropdown)]]=\"\",\"\",VLOOKUP(Table25[[#This Row],[Affected CMS\n(§63.2386(d)(1)(ix))\n(Select from dropdown)]],Table22[],2,FALSE))","v":""}]
[null,{"$f":"IF(Table25[[#This Row],[Affected CMS\n(§63.2386(d)(1)(ix))\n(Select from dropdown)]]=\"\",\"\",VLOOKUP(Table25[[#This Row],[Affected CMS\n(§63.2386(d)(1)(ix))\n(Select from dropdown)]],Table22[],2,FALSE))","v":""}]
[null,{"$f":"IF(Table25[[#This Row],[Affected CMS\n(§63.2386(d)(1)(ix))\n(Select from dropdown)]]=\"\",\"\",VLOOKUP(Table25[[#This Row],[Affected CMS\n(§63.2386(d)(1)(ix))\n(Select from dropdown)]],Table22[],2,FALSE))","v":""}]
[null,{"$f":"IF(Table25[[#This Row],[Affected CMS\n(§63.2386(d)(1)(ix))\n(Select from dropdown)]]=\"\",\"\",VLOOKUP(Table25[[#This Row],[Affected CMS\n(§63.2386(d)(1)(ix))\n(Select from dropdown)]],Table22[],2,FALSE))","v":""}]
[null,{"$f":"IF(Table25[[#This Row],[Affected CMS\n(§63.2386(d)(1)(ix))\n(Select from dropdown)]]=\"\",\"\",VLOOKUP(Table25[[#This Row],[Affected CMS\n(§63.2386(d)(1)(ix))\n(Select from dropdown)]],Table22[],2,FALSE))","v":""}]
[null,{"$f":"IF(Table25[[#This Row],[Affected CMS\n(§63.2386(d)(1)(ix))\n(Select from dropdown)]]=\"\",\"\",VLOOKUP(Table25[[#This Row],[Affected CMS\n(§63.2386(d)(1)(ix))\n(Select from dropdown)]],Table22[],2,FALSE))","v":""}]
[null,{"$f":"IF(Table25[[#This Row],[Affected CMS\n(§63.2386(d)(1)(ix))\n(Select from dropdown)]]=\"\",\"\",VLOOKUP(Table25[[#This Row],[Affected CMS\n(§63.2386(d)(1)(ix))\n(Select from dropdown)]],Table22[],2,FALSE))","v":""}]
[null,{"$f":"IF(Table25[[#This Row],[Affected CMS\n(§63.2386(d)(1)(ix))\n(Select from dropdown)]]=\"\",\"\",VLOOKUP(Table25[[#This Row],[Affected CMS\n(§63.2386(d)(1)(ix))\n(Select from dropdown)]],Table22[],2,FALSE))","v":""}]
[null,{"$f":"IF(Table25[[#This Row],[Affected CMS\n(§63.2386(d)(1)(ix))\n(Select from dropdown)]]=\"\",\"\",VLOOKUP(Table25[[#This Row],[Affected CMS\n(§63.2386(d)(1)(ix))\n(Select from dropdown)]],Table22[],2,FALSE))","v":""}]
[null,{"$f":"IF(Table25[[#This Row],[Affected CMS\n(§63.2386(d)(1)(ix))\n(Select from dropdown)]]=\"\",\"\",VLOOKUP(Table25[[#This Row],[Affected CMS\n(§63.2386(d)(1)(ix))\n(Select from dropdown)]],Table22[],2,FALSE))","v":""}]
[null,{"$f":"IF(Table25[[#This Row],[Affected CMS\n(§63.2386(d)(1)(ix))\n(Select from dropdown)]]=\"\",\"\",VLOOKUP(Table25[[#This Row],[Affected CMS\n(§63.2386(d)(1)(ix))\n(Select from dropdown)]],Table22[],2,FALSE))","v":""}]
[null,{"$f":"IF(Table25[[#This Row],[Affected CMS\n(§63.2386(d)(1)(ix))\n(Select from dropdown)]]=\"\",\"\",VLOOKUP(Table25[[#This Row],[Affected CMS\n(§63.2386(d)(1)(ix))\n(Select from dropdown)]],Table22[],2,FALSE))","v":""}]
[null,{"$f":"IF(Table25[[#This Row],[Affected CMS\n(§63.2386(d)(1)(ix))\n(Select from dropdown)]]=\"\",\"\",VLOOKUP(Table25[[#This Row],[Affected CMS\n(§63.2386(d)(1)(ix))\n(Select from dropdown)]],Table22[],2,FALSE))","v":""}]
[null,{"$f":"IF(Table25[[#This Row],[Affected CMS\n(§63.2386(d)(1)(ix))\n(Select from dropdown)]]=\"\",\"\",VLOOKUP(Table25[[#This Row],[Affected CMS\n(§63.2386(d)(1)(ix))\n(Select from dropdown)]],Table22[],2,FALSE))","v":""}]
[null,{"$f":"IF(Table25[[#This Row],[Affected CMS\n(§63.2386(d)(1)(ix))\n(Select from dropdown)]]=\"\",\"\",VLOOKUP(Table25[[#This Row],[Affected CMS\n(§63.2386(d)(1)(ix))\n(Select from dropdown)]],Table22[],2,FALSE))","v":""}]
[null,{"$f":"IF(Table25[[#This Row],[Affected CMS\n(§63.2386(d)(1)(ix))\n(Select from dropdown)]]=\"\",\"\",VLOOKUP(Table25[[#This Row],[Affected CMS\n(§63.2386(d)(1)(ix))\n(Select from dropdown)]],Table22[],2,FALSE))","v":""}]
[null,{"$f":"IF(Table25[[#This Row],[Affected CMS\n(§63.2386(d)(1)(ix))\n(Select from dropdown)]]=\"\",\"\",VLOOKUP(Table25[[#This Row],[Affected CMS\n(§63.2386(d)(1)(ix))\n(Select from dropdown)]],Table22[],2,FALSE))","v":""}]
[null,{"$f":"IF(Table25[[#This Row],[Affected CMS\n(§63.2386(d)(1)(ix))\n(Select from dropdown)]]=\"\",\"\",VLOOKUP(Table25[[#This Row],[Affected CMS\n(§63.2386(d)(1)(ix))\n(Select from dropdown)]],Table22[],2,FALSE))","v":""}]
[null,{"$f":"IF(Table25[[#This Row],[Affected CMS\n(§63.2386(d)(1)(ix))\n(Select from dropdown)]]=\"\",\"\",VLOOKUP(Table25[[#This Row],[Affected CMS\n(§63.2386(d)(1)(ix))\n(Select from dropdown)]],Table22[],2,FALSE))","v":""}]
[null,{"$f":"IF(Table25[[#This Row],[Affected CMS\n(§63.2386(d)(1)(ix))\n(Select from dropdown)]]=\"\",\"\",VLOOKUP(Table25[[#This Row],[Affected CMS\n(§63.2386(d)(1)(ix))\n(Select from dropdown)]],Table22[],2,FALSE))","v":""}]
[null,{"$f":"IF(Table25[[#This Row],[Affected CMS\n(§63.2386(d)(1)(ix))\n(Select from dropdown)]]=\"\",\"\",VLOOKUP(Table25[[#This Row],[Affected CMS\n(§63.2386(d)(1)(ix))\n(Select from dropdown)]],Table22[],2,FALSE))","v":""}]
[null,{"$f":"IF(Table25[[#This Row],[Affected CMS\n(§63.2386(d)(1)(ix))\n(Select from dropdown)]]=\"\",\"\",VLOOKUP(Table25[[#This Row],[Affected CMS\n(§63.2386(d)(1)(ix))\n(Select from dropdown)]],Table22[],2,FALSE))","v":""}]
[null,{"$f":"IF(Table25[[#This Row],[Affected CMS\n(§63.2386(d)(1)(ix))\n(Select from dropdown)]]=\"\",\"\",VLOOKUP(Table25[[#This Row],[Affected CMS\n(§63.2386(d)(1)(ix))\n(Select from dropdown)]],Table22[],2,FALSE))","v":""}]
[null,{"$f":"IF(Table25[[#This Row],[Affected CMS\n(§63.2386(d)(1)(ix))\n(Select from dropdown)]]=\"\",\"\",VLOOKUP(Table25[[#This Row],[Affected CMS\n(§63.2386(d)(1)(ix))\n(Select from dropdown)]],Table22[],2,FALSE))","v":""}]
[null,{"$f":"IF(Table25[[#This Row],[Affected CMS\n(§63.2386(d)(1)(ix))\n(Select from dropdown)]]=\"\",\"\",VLOOKUP(Table25[[#This Row],[Affected CMS\n(§63.2386(d)(1)(ix))\n(Select from dropdown)]],Table22[],2,FALSE))","v":""}]
[null,{"$f":"IF(Table25[[#This Row],[Affected CMS\n(§63.2386(d)(1)(ix))\n(Select from dropdown)]]=\"\",\"\",VLOOKUP(Table25[[#This Row],[Affected CMS\n(§63.2386(d)(1)(ix))\n(Select from dropdown)]],Table22[],2,FALSE))","v":""}]
[null,{"$f":"IF(Table25[[#This Row],[Affected CMS\n(§63.2386(d)(1)(ix))\n(Select from dropdown)]]=\"\",\"\",VLOOKUP(Table25[[#This Row],[Affected CMS\n(§63.2386(d)(1)(ix))\n(Select from dropdown)]],Table22[],2,FALSE))","v":""}]
[null,{"$f":"IF(Table25[[#This Row],[Affected CMS\n(§63.2386(d)(1)(ix))\n(Select from dropdown)]]=\"\",\"\",VLOOKUP(Table25[[#This Row],[Affected CMS\n(§63.2386(d)(1)(ix))\n(Select from dropdown)]],Table22[],2,FALSE))","v":""}]
[null,{"$f":"IF(Table25[[#This Row],[Affected CMS\n(§63.2386(d)(1)(ix))\n(Select from dropdown)]]=\"\",\"\",VLOOKUP(Table25[[#This Row],[Affected CMS\n(§63.2386(d)(1)(ix))\n(Select from dropdown)]],Table22[],2,FALSE))","v":""}]
[null,{"$f":"IF(Table25[[#This Row],[Affected CMS\n(§63.2386(d)(1)(ix))\n(Select from dropdown)]]=\"\",\"\",VLOOKUP(Table25[[#This Row],[Affected CMS\n(§63.2386(d)(1)(ix))\n(Select from dropdown)]],Table22[],2,FALSE))","v":""}]
[null,{"$f":"IF(Table25[[#This Row],[Affected CMS\n(§63.2386(d)(1)(ix))\n(Select from dropdown)]]=\"\",\"\",VLOOKUP(Table25[[#This Row],[Affected CMS\n(§63.2386(d)(1)(ix))\n(Select from dropdown)]],Table22[],2,FALSE))","v":""}]
[null,{"$f":"IF(Table25[[#This Row],[Affected CMS\n(§63.2386(d)(1)(ix))\n(Select from dropdown)]]=\"\",\"\",VLOOKUP(Table25[[#This Row],[Affected CMS\n(§63.2386(d)(1)(ix))\n(Select from dropdown)]],Table22[],2,FALSE))","v":""}]
[null,{"$f":"IF(Table25[[#This Row],[Affected CMS\n(§63.2386(d)(1)(ix))\n(Select from dropdown)]]=\"\",\"\",VLOOKUP(Table25[[#This Row],[Affected CMS\n(§63.2386(d)(1)(ix))\n(Select from dropdown)]],Table22[],2,FALSE))","v":""}]
[null,{"$f":"IF(Table25[[#This Row],[Affected CMS\n(§63.2386(d)(1)(ix))\n(Select from dropdown)]]=\"\",\"\",VLOOKUP(Table25[[#This Row],[Affected CMS\n(§63.2386(d)(1)(ix))\n(Select from dropdown)]],Table22[],2,FALSE))","v":""}]
[null,{"$f":"IF(Table25[[#This Row],[Affected CMS\n(§63.2386(d)(1)(ix))\n(Select from dropdown)]]=\"\",\"\",VLOOKUP(Table25[[#This Row],[Affected CMS\n(§63.2386(d)(1)(ix))\n(Select from dropdown)]],Table22[],2,FALSE))","v":""}]
[null,{"$f":"IF(Table25[[#This Row],[Affected CMS\n(§63.2386(d)(1)(ix))\n(Select from dropdown)]]=\"\",\"\",VLOOKUP(Table25[[#This Row],[Affected CMS\n(§63.2386(d)(1)(ix))\n(Select from dropdown)]],Table22[],2,FALSE))","v":""}]
[null,{"$f":"IF(Table25[[#This Row],[Affected CMS\n(§63.2386(d)(1)(ix))\n(Select from dropdown)]]=\"\",\"\",VLOOKUP(Table25[[#This Row],[Affected CMS\n(§63.2386(d)(1)(ix))\n(Select from dropdown)]],Table22[],2,FALSE))","v":""}]
[null,{"$f":"IF(Table25[[#This Row],[Affected CMS\n(§63.2386(d)(1)(ix))\n(Select from dropdown)]]=\"\",\"\",VLOOKUP(Table25[[#This Row],[Affected CMS\n(§63.2386(d)(1)(ix))\n(Select from dropdown)]],Table22[],2,FALSE))","v":""}]
[null,{"$f":"IF(Table25[[#This Row],[Affected CMS\n(§63.2386(d)(1)(ix))\n(Select from dropdown)]]=\"\",\"\",VLOOKUP(Table25[[#This Row],[Affected CMS\n(§63.2386(d)(1)(ix))\n(Select from dropdown)]],Table22[],2,FALSE))","v":""}]
[null,{"$f":"IF(Table25[[#This Row],[Affected CMS\n(§63.2386(d)(1)(ix))\n(Select from dropdown)]]=\"\",\"\",VLOOKUP(Table25[[#This Row],[Affected CMS\n(§63.2386(d)(1)(ix))\n(Select from dropdown)]],Table22[],2,FALSE))","v":""}]
[null,{"$f":"IF(Table25[[#This Row],[Affected CMS\n(§63.2386(d)(1)(ix))\n(Select from dropdown)]]=\"\",\"\",VLOOKUP(Table25[[#This Row],[Affected CMS\n(§63.2386(d)(1)(ix))\n(Select from dropdown)]],Table22[],2,FALSE))","v":""}]
[null,{"$f":"IF(Table25[[#This Row],[Affected CMS\n(§63.2386(d)(1)(ix))\n(Select from dropdown)]]=\"\",\"\",VLOOKUP(Table25[[#This Row],[Affected CMS\n(§63.2386(d)(1)(ix))\n(Select from dropdown)]],Table22[],2,FALSE))","v":""}]
[null,{"$f":"IF(Table25[[#This Row],[Affected CMS\n(§63.2386(d)(1)(ix))\n(Select from dropdown)]]=\"\",\"\",VLOOKUP(Table25[[#This Row],[Affected CMS\n(§63.2386(d)(1)(ix))\n(Select from dropdown)]],Table22[],2,FALSE))","v":""}]
[null,{"$f":"IF(Table25[[#This Row],[Affected CMS\n(§63.2386(d)(1)(ix))\n(Select from dropdown)]]=\"\",\"\",VLOOKUP(Table25[[#This Row],[Affected CMS\n(§63.2386(d)(1)(ix))\n(Select from dropdown)]],Table22[],2,FALSE))","v":""}]
[null,{"$f":"IF(Table25[[#This Row],[Affected CMS\n(§63.2386(d)(1)(ix))\n(Select from dropdown)]]=\"\",\"\",VLOOKUP(Table25[[#This Row],[Affected CMS\n(§63.2386(d)(1)(ix))\n(Select from dropdown)]],Table22[],2,FALSE))","v":""}]
[null,{"$f":"IF(Table25[[#This Row],[Affected CMS\n(§63.2386(d)(1)(ix))\n(Select from dropdown)]]=\"\",\"\",VLOOKUP(Table25[[#This Row],[Affected CMS\n(§63.2386(d)(1)(ix))\n(Select from dropdown)]],Table22[],2,FALSE))","v":""}]
[null,{"$f":"IF(Table25[[#This Row],[Affected CMS\n(§63.2386(d)(1)(ix))\n(Select from dropdown)]]=\"\",\"\",VLOOKUP(Table25[[#This Row],[Affected CMS\n(§63.2386(d)(1)(ix))\n(Select from dropdown)]],Table22[],2,FALSE))","v":""}]
[null,{"$f":"IF(Table25[[#This Row],[Affected CMS\n(§63.2386(d)(1)(ix))\n(Select from dropdown)]]=\"\",\"\",VLOOKUP(Table25[[#This Row],[Affected CMS\n(§63.2386(d)(1)(ix))\n(Select from dropdown)]],Table22[],2,FALSE))","v":""}]
[null,{"$f":"IF(Table25[[#This Row],[Affected CMS\n(§63.2386(d)(1)(ix))\n(Select from dropdown)]]=\"\",\"\",VLOOKUP(Table25[[#This Row],[Affected CMS\n(§63.2386(d)(1)(ix))\n(Select from dropdown)]],Table22[],2,FALSE))","v":""}]
[null,{"$f":"IF(Table25[[#This Row],[Affected CMS\n(§63.2386(d)(1)(ix))\n(Select from dropdown)]]=\"\",\"\",VLOOKUP(Table25[[#This Row],[Affected CMS\n(§63.2386(d)(1)(ix))\n(Select from dropdown)]],Table22[],2,FALSE))","v":""}]
[null,{"$f":"IF(Table25[[#This Row],[Affected CMS\n(§63.2386(d)(1)(ix))\n(Select from dropdown)]]=\"\",\"\",VLOOKUP(Table25[[#This Row],[Affected CMS\n(§63.2386(d)(1)(ix))\n(Select from dropdown)]],Table22[],2,FALSE))","v":""}]
[null,{"$f":"IF(Table25[[#This Row],[Affected CMS\n(§63.2386(d)(1)(ix))\n(Select from dropdown)]]=\"\",\"\",VLOOKUP(Table25[[#This Row],[Affected CMS\n(§63.2386(d)(1)(ix))\n(Select from dropdown)]],Table22[],2,FALSE))","v":""}]
[null,{"$f":"IF(Table25[[#This Row],[Affected CMS\n(§63.2386(d)(1)(ix))\n(Select from dropdown)]]=\"\",\"\",VLOOKUP(Table25[[#This Row],[Affected CMS\n(§63.2386(d)(1)(ix))\n(Select from dropdown)]],Table22[],2,FALSE))","v":""}]
[null,{"$f":"IF(Table25[[#This Row],[Affected CMS\n(§63.2386(d)(1)(ix))\n(Select from dropdown)]]=\"\",\"\",VLOOKUP(Table25[[#This Row],[Affected CMS\n(§63.2386(d)(1)(ix))\n(Select from dropdown)]],Table22[],2,FALSE))","v":""}]
[null,{"$f":"IF(Table25[[#This Row],[Affected CMS\n(§63.2386(d)(1)(ix))\n(Select from dropdown)]]=\"\",\"\",VLOOKUP(Table25[[#This Row],[Affected CMS\n(§63.2386(d)(1)(ix))\n(Select from dropdown)]],Table22[],2,FALSE))","v":""}]
[null,{"$f":"IF(Table25[[#This Row],[Affected CMS\n(§63.2386(d)(1)(ix))\n(Select from dropdown)]]=\"\",\"\",VLOOKUP(Table25[[#This Row],[Affected CMS\n(§63.2386(d)(1)(ix))\n(Select from dropdown)]],Table22[],2,FALSE))","v":""}]
[null,{"$f":"IF(Table25[[#This Row],[Affected CMS\n(§63.2386(d)(1)(ix))\n(Select from dropdown)]]=\"\",\"\",VLOOKUP(Table25[[#This Row],[Affected CMS\n(§63.2386(d)(1)(ix))\n(Select from dropdown)]],Table22[],2,FALSE))","v":""}]
[null,{"$f":"IF(Table25[[#This Row],[Affected CMS\n(§63.2386(d)(1)(ix))\n(Select from dropdown)]]=\"\",\"\",VLOOKUP(Table25[[#This Row],[Affected CMS\n(§63.2386(d)(1)(ix))\n(Select from dropdown)]],Table22[],2,FALSE))","v":""}]
[null,{"$f":"IF(Table25[[#This Row],[Affected CMS\n(§63.2386(d)(1)(ix))\n(Select from dropdown)]]=\"\",\"\",VLOOKUP(Table25[[#This Row],[Affected CMS\n(§63.2386(d)(1)(ix))\n(Select from dropdown)]],Table22[],2,FALSE))","v":""}]
[null,{"$f":"IF(Table25[[#This Row],[Affected CMS\n(§63.2386(d)(1)(ix))\n(Select from dropdown)]]=\"\",\"\",VLOOKUP(Table25[[#This Row],[Affected CMS\n(§63.2386(d)(1)(ix))\n(Select from dropdown)]],Table22[],2,FALSE))","v":""}]
[null,{"$f":"IF(Table25[[#This Row],[Affected CMS\n(§63.2386(d)(1)(ix))\n(Select from dropdown)]]=\"\",\"\",VLOOKUP(Table25[[#This Row],[Affected CMS\n(§63.2386(d)(1)(ix))\n(Select from dropdown)]],Table22[],2,FALSE))","v":""}]
[null,{"$f":"IF(Table25[[#This Row],[Affected CMS\n(§63.2386(d)(1)(ix))\n(Select from dropdown)]]=\"\",\"\",VLOOKUP(Table25[[#This Row],[Affected CMS\n(§63.2386(d)(1)(ix))\n(Select from dropdown)]],Table22[],2,FALSE))","v":""}]
[null,{"$f":"IF(Table25[[#This Row],[Affected CMS\n(§63.2386(d)(1)(ix))\n(Select from dropdown)]]=\"\",\"\",VLOOKUP(Table25[[#This Row],[Affected CMS\n(§63.2386(d)(1)(ix))\n(Select from dropdown)]],Table22[],2,FALSE))","v":""}]
[null,{"$f":"IF(Table25[[#This Row],[Affected CMS\n(§63.2386(d)(1)(ix))\n(Select from dropdown)]]=\"\",\"\",VLOOKUP(Table25[[#This Row],[Affected CMS\n(§63.2386(d)(1)(ix))\n(Select from dropdown)]],Table22[],2,FALSE))","v":""}]
[null,{"$f":"IF(Table25[[#This Row],[Affected CMS\n(§63.2386(d)(1)(ix))\n(Select from dropdown)]]=\"\",\"\",VLOOKUP(Table25[[#This Row],[Affected CMS\n(§63.2386(d)(1)(ix))\n(Select from dropdown)]],Table22[],2,FALSE))","v":""}]
[null,{"$f":"IF(Table25[[#This Row],[Affected CMS\n(§63.2386(d)(1)(ix))\n(Select from dropdown)]]=\"\",\"\",VLOOKUP(Table25[[#This Row],[Affected CMS\n(§63.2386(d)(1)(ix))\n(Select from dropdown)]],Table22[],2,FALSE))","v":""}]
[null,{"$f":"IF(Table25[[#This Row],[Affected CMS\n(§63.2386(d)(1)(ix))\n(Select from dropdown)]]=\"\",\"\",VLOOKUP(Table25[[#This Row],[Affected CMS\n(§63.2386(d)(1)(ix))\n(Select from dropdown)]],Table22[],2,FALSE))","v":""}]
[null,{"$f":"IF(Table25[[#This Row],[Affected CMS\n(§63.2386(d)(1)(ix))\n(Select from dropdown)]]=\"\",\"\",VLOOKUP(Table25[[#This Row],[Affected CMS\n(§63.2386(d)(1)(ix))\n(Select from dropdown)]],Table22[],2,FALSE))","v":""}]
[null,{"$f":"IF(Table25[[#This Row],[Affected CMS\n(§63.2386(d)(1)(ix))\n(Select from dropdown)]]=\"\",\"\",VLOOKUP(Table25[[#This Row],[Affected CMS\n(§63.2386(d)(1)(ix))\n(Select from dropdown)]],Table22[],2,FALSE))","v":""}]
[null,{"$f":"IF(Table25[[#This Row],[Affected CMS\n(§63.2386(d)(1)(ix))\n(Select from dropdown)]]=\"\",\"\",VLOOKUP(Table25[[#This Row],[Affected CMS\n(§63.2386(d)(1)(ix))\n(Select from dropdown)]],Table22[],2,FALSE))","v":""}]
[null,{"$f":"IF(Table25[[#This Row],[Affected CMS\n(§63.2386(d)(1)(ix))\n(Select from dropdown)]]=\"\",\"\",VLOOKUP(Table25[[#This Row],[Affected CMS\n(§63.2386(d)(1)(ix))\n(Select from dropdown)]],Table22[],2,FALSE))","v":""}]
[null,{"$f":"IF(Table25[[#This Row],[Affected CMS\n(§63.2386(d)(1)(ix))\n(Select from dropdown)]]=\"\",\"\",VLOOKUP(Table25[[#This Row],[Affected CMS\n(§63.2386(d)(1)(ix))\n(Select from dropdown)]],Table22[],2,FALSE))","v":""}]
[null,{"$f":"IF(Table25[[#This Row],[Affected CMS\n(§63.2386(d)(1)(ix))\n(Select from dropdown)]]=\"\",\"\",VLOOKUP(Table25[[#This Row],[Affected CMS\n(§63.2386(d)(1)(ix))\n(Select from dropdown)]],Table22[],2,FALSE))","v":""}]
[null,{"$f":"IF(Table25[[#This Row],[Affected CMS\n(§63.2386(d)(1)(ix))\n(Select from dropdown)]]=\"\",\"\",VLOOKUP(Table25[[#This Row],[Affected CMS\n(§63.2386(d)(1)(ix))\n(Select from dropdown)]],Table22[],2,FALSE))","v":""}]
[null,{"$f":"IF(Table25[[#This Row],[Affected CMS\n(§63.2386(d)(1)(ix))\n(Select from dropdown)]]=\"\",\"\",VLOOKUP(Table25[[#This Row],[Affected CMS\n(§63.2386(d)(1)(ix))\n(Select from dropdown)]],Table22[],2,FALSE))","v":""}]
[null,{"$f":"IF(Table25[[#This Row],[Affected CMS\n(§63.2386(d)(1)(ix))\n(Select from dropdown)]]=\"\",\"\",VLOOKUP(Table25[[#This Row],[Affected CMS\n(§63.2386(d)(1)(ix))\n(Select from dropdown)]],Table22[],2,FALSE))","v":""}]
[null,{"$f":"IF(Table25[[#This Row],[Affected CMS\n(§63.2386(d)(1)(ix))\n(Select from dropdown)]]=\"\",\"\",VLOOKUP(Table25[[#This Row],[Affected CMS\n(§63.2386(d)(1)(ix))\n(Select from dropdown)]],Table22[],2,FALSE))","v":""}]
[null,{"$f":"IF(Table25[[#This Row],[Affected CMS\n(§63.2386(d)(1)(ix))\n(Select from dropdown)]]=\"\",\"\",VLOOKUP(Table25[[#This Row],[Affected CMS\n(§63.2386(d)(1)(ix))\n(Select from dropdown)]],Table22[],2,FALSE))","v":""}]
[null,{"$f":"IF(Table25[[#This Row],[Affected CMS\n(§63.2386(d)(1)(ix))\n(Select from dropdown)]]=\"\",\"\",VLOOKUP(Table25[[#This Row],[Affected CMS\n(§63.2386(d)(1)(ix))\n(Select from dropdown)]],Table22[],2,FALSE))","v":""}]
[null,{"$f":"IF(Table25[[#This Row],[Affected CMS\n(§63.2386(d)(1)(ix))\n(Select from dropdown)]]=\"\",\"\",VLOOKUP(Table25[[#This Row],[Affected CMS\n(§63.2386(d)(1)(ix))\n(Select from dropdown)]],Table22[],2,FALSE))","v":""}]
[null,{"$f":"IF(Table25[[#This Row],[Affected CMS\n(§63.2386(d)(1)(ix))\n(Select from dropdown)]]=\"\",\"\",VLOOKUP(Table25[[#This Row],[Affected CMS\n(§63.2386(d)(1)(ix))\n(Select from dropdown)]],Table22[],2,FALSE))","v":""}]
[null,{"$f":"IF(Table25[[#This Row],[Affected CMS\n(§63.2386(d)(1)(ix))\n(Select from dropdown)]]=\"\",\"\",VLOOKUP(Table25[[#This Row],[Affected CMS\n(§63.2386(d)(1)(ix))\n(Select from dropdown)]],Table22[],2,FALSE))","v":""}]
[null,{"$f":"IF(Table25[[#This Row],[Affected CMS\n(§63.2386(d)(1)(ix))\n(Select from dropdown)]]=\"\",\"\",VLOOKUP(Table25[[#This Row],[Affected CMS\n(§63.2386(d)(1)(ix))\n(Select from dropdown)]],Table22[],2,FALSE))","v":""}]
[null,{"$f":"IF(Table25[[#This Row],[Affected CMS\n(§63.2386(d)(1)(ix))\n(Select from dropdown)]]=\"\",\"\",VLOOKUP(Table25[[#This Row],[Affected CMS\n(§63.2386(d)(1)(ix))\n(Select from dropdown)]],Table22[],2,FALSE))","v":""}]
[null,{"$f":"IF(Table25[[#This Row],[Affected CMS\n(§63.2386(d)(1)(ix))\n(Select from dropdown)]]=\"\",\"\",VLOOKUP(Table25[[#This Row],[Affected CMS\n(§63.2386(d)(1)(ix))\n(Select from dropdown)]],Table22[],2,FALSE))","v":""}]
[null,{"$f":"IF(Table25[[#This Row],[Affected CMS\n(§63.2386(d)(1)(ix))\n(Select from dropdown)]]=\"\",\"\",VLOOKUP(Table25[[#This Row],[Affected CMS\n(§63.2386(d)(1)(ix))\n(Select from dropdown)]],Table22[],2,FALSE))","v":""}]
[null,{"$f":"IF(Table25[[#This Row],[Affected CMS\n(§63.2386(d)(1)(ix))\n(Select from dropdown)]]=\"\",\"\",VLOOKUP(Table25[[#This Row],[Affected CMS\n(§63.2386(d)(1)(ix))\n(Select from dropdown)]],Table22[],2,FALSE))","v":""}]
[null,{"$f":"IF(Table25[[#This Row],[Affected CMS\n(§63.2386(d)(1)(ix))\n(Select from dropdown)]]=\"\",\"\",VLOOKUP(Table25[[#This Row],[Affected CMS\n(§63.2386(d)(1)(ix))\n(Select from dropdown)]],Table22[],2,FALSE))","v":""}]
[null,{"$f":"IF(Table25[[#This Row],[Affected CMS\n(§63.2386(d)(1)(ix))\n(Select from dropdown)]]=\"\",\"\",VLOOKUP(Table25[[#This Row],[Affected CMS\n(§63.2386(d)(1)(ix))\n(Select from dropdown)]],Table22[],2,FALSE))","v":""}]
[null,{"$f":"IF(Table25[[#This Row],[Affected CMS\n(§63.2386(d)(1)(ix))\n(Select from dropdown)]]=\"\",\"\",VLOOKUP(Table25[[#This Row],[Affected CMS\n(§63.2386(d)(1)(ix))\n(Select from dropdown)]],Table22[],2,FALSE))","v":""}]
[null,{"$f":"IF(Table25[[#This Row],[Affected CMS\n(§63.2386(d)(1)(ix))\n(Select from dropdown)]]=\"\",\"\",VLOOKUP(Table25[[#This Row],[Affected CMS\n(§63.2386(d)(1)(ix))\n(Select from dropdown)]],Table22[],2,FALSE))","v":""}]
[null,{"$f":"IF(Table25[[#This Row],[Affected CMS\n(§63.2386(d)(1)(ix))\n(Select from dropdown)]]=\"\",\"\",VLOOKUP(Table25[[#This Row],[Affected CMS\n(§63.2386(d)(1)(ix))\n(Select from dropdown)]],Table22[],2,FALSE))","v":""}]
[null,{"$f":"IF(Table25[[#This Row],[Affected CMS\n(§63.2386(d)(1)(ix))\n(Select from dropdown)]]=\"\",\"\",VLOOKUP(Table25[[#This Row],[Affected CMS\n(§63.2386(d)(1)(ix))\n(Select from dropdown)]],Table22[],2,FALSE))","v":""}]
[null,{"$f":"IF(Table25[[#This Row],[Affected CMS\n(§63.2386(d)(1)(ix))\n(Select from dropdown)]]=\"\",\"\",VLOOKUP(Table25[[#This Row],[Affected CMS\n(§63.2386(d)(1)(ix))\n(Select from dropdown)]],Table22[],2,FALSE))","v":""}]
[null,{"$f":"IF(Table25[[#This Row],[Affected CMS\n(§63.2386(d)(1)(ix))\n(Select from dropdown)]]=\"\",\"\",VLOOKUP(Table25[[#This Row],[Affected CMS\n(§63.2386(d)(1)(ix))\n(Select from dropdown)]],Table22[],2,FALSE))","v":""}]
[null,{"$f":"IF(Table25[[#This Row],[Affected CMS\n(§63.2386(d)(1)(ix))\n(Select from dropdown)]]=\"\",\"\",VLOOKUP(Table25[[#This Row],[Affected CMS\n(§63.2386(d)(1)(ix))\n(Select from dropdown)]],Table22[],2,FALSE))","v":""}]
[null,{"$f":"IF(Table25[[#This Row],[Affected CMS\n(§63.2386(d)(1)(ix))\n(Select from dropdown)]]=\"\",\"\",VLOOKUP(Table25[[#This Row],[Affected CMS\n(§63.2386(d)(1)(ix))\n(Select from dropdown)]],Table22[],2,FALSE))","v":""}]
[null,{"$f":"IF(Table25[[#This Row],[Affected CMS\n(§63.2386(d)(1)(ix))\n(Select from dropdown)]]=\"\",\"\",VLOOKUP(Table25[[#This Row],[Affected CMS\n(§63.2386(d)(1)(ix))\n(Select from dropdown)]],Table22[],2,FALSE))","v":""}]
[null,{"$f":"IF(Table25[[#This Row],[Affected CMS\n(§63.2386(d)(1)(ix))\n(Select from dropdown)]]=\"\",\"\",VLOOKUP(Table25[[#This Row],[Affected CMS\n(§63.2386(d)(1)(ix))\n(Select from dropdown)]],Table22[],2,FALSE))","v":""}]
[null,{"$f":"IF(Table25[[#This Row],[Affected CMS\n(§63.2386(d)(1)(ix))\n(Select from dropdown)]]=\"\",\"\",VLOOKUP(Table25[[#This Row],[Affected CMS\n(§63.2386(d)(1)(ix))\n(Select from dropdown)]],Table22[],2,FALSE))","v":""}]
[null,{"$f":"IF(Table25[[#This Row],[Affected CMS\n(§63.2386(d)(1)(ix))\n(Select from dropdown)]]=\"\",\"\",VLOOKUP(Table25[[#This Row],[Affected CMS\n(§63.2386(d)(1)(ix))\n(Select from dropdown)]],Table22[],2,FALSE))","v":""}]
[null,{"$f":"IF(Table25[[#This Row],[Affected CMS\n(§63.2386(d)(1)(ix))\n(Select from dropdown)]]=\"\",\"\",VLOOKUP(Table25[[#This Row],[Affected CMS\n(§63.2386(d)(1)(ix))\n(Select from dropdown)]],Table22[],2,FALSE))","v":""}]
[null,{"$f":"IF(Table25[[#This Row],[Affected CMS\n(§63.2386(d)(1)(ix))\n(Select from dropdown)]]=\"\",\"\",VLOOKUP(Table25[[#This Row],[Affected CMS\n(§63.2386(d)(1)(ix))\n(Select from dropdown)]],Table22[],2,FALSE))","v":""}]
[null,{"$f":"IF(Table25[[#This Row],[Affected CMS\n(§63.2386(d)(1)(ix))\n(Select from dropdown)]]=\"\",\"\",VLOOKUP(Table25[[#This Row],[Affected CMS\n(§63.2386(d)(1)(ix))\n(Select from dropdown)]],Table22[],2,FALSE))","v":""}]
[null,{"$f":"IF(Table25[[#This Row],[Affected CMS\n(§63.2386(d)(1)(ix))\n(Select from dropdown)]]=\"\",\"\",VLOOKUP(Table25[[#This Row],[Affected CMS\n(§63.2386(d)(1)(ix))\n(Select from dropdown)]],Table22[],2,FALSE))","v":""}]
[null,{"$f":"IF(Table25[[#This Row],[Affected CMS\n(§63.2386(d)(1)(ix))\n(Select from dropdown)]]=\"\",\"\",VLOOKUP(Table25[[#This Row],[Affected CMS\n(§63.2386(d)(1)(ix))\n(Select from dropdown)]],Table22[],2,FALSE))","v":""}]
[null,{"$f":"IF(Table25[[#This Row],[Affected CMS\n(§63.2386(d)(1)(ix))\n(Select from dropdown)]]=\"\",\"\",VLOOKUP(Table25[[#This Row],[Affected CMS\n(§63.2386(d)(1)(ix))\n(Select from dropdown)]],Table22[],2,FALSE))","v":""}]
[null,{"$f":"IF(Table25[[#This Row],[Affected CMS\n(§63.2386(d)(1)(ix))\n(Select from dropdown)]]=\"\",\"\",VLOOKUP(Table25[[#This Row],[Affected CMS\n(§63.2386(d)(1)(ix))\n(Select from dropdown)]],Table22[],2,FALSE))","v":""}]
[null,{"$f":"IF(Table25[[#This Row],[Affected CMS\n(§63.2386(d)(1)(ix))\n(Select from dropdown)]]=\"\",\"\",VLOOKUP(Table25[[#This Row],[Affected CMS\n(§63.2386(d)(1)(ix))\n(Select from dropdown)]],Table22[],2,FALSE))","v":""}]
[null,{"$f":"IF(Table25[[#This Row],[Affected CMS\n(§63.2386(d)(1)(ix))\n(Select from dropdown)]]=\"\",\"\",VLOOKUP(Table25[[#This Row],[Affected CMS\n(§63.2386(d)(1)(ix))\n(Select from dropdown)]],Table22[],2,FALSE))","v":""}]
[null,{"$f":"IF(Table25[[#This Row],[Affected CMS\n(§63.2386(d)(1)(ix))\n(Select from dropdown)]]=\"\",\"\",VLOOKUP(Table25[[#This Row],[Affected CMS\n(§63.2386(d)(1)(ix))\n(Select from dropdown)]],Table22[],2,FALSE))","v":""}]
[null,{"$f":"IF(Table25[[#This Row],[Affected CMS\n(§63.2386(d)(1)(ix))\n(Select from dropdown)]]=\"\",\"\",VLOOKUP(Table25[[#This Row],[Affected CMS\n(§63.2386(d)(1)(ix))\n(Select from dropdown)]],Table22[],2,FALSE))","v":""}]
[null,{"$f":"IF(Table25[[#This Row],[Affected CMS\n(§63.2386(d)(1)(ix))\n(Select from dropdown)]]=\"\",\"\",VLOOKUP(Table25[[#This Row],[Affected CMS\n(§63.2386(d)(1)(ix))\n(Select from dropdown)]],Table22[],2,FALSE))","v":""}]
[null,{"$f":"IF(Table25[[#This Row],[Affected CMS\n(§63.2386(d)(1)(ix))\n(Select from dropdown)]]=\"\",\"\",VLOOKUP(Table25[[#This Row],[Affected CMS\n(§63.2386(d)(1)(ix))\n(Select from dropdown)]],Table22[],2,FALSE))","v":""}]
[null,{"$f":"IF(Table25[[#This Row],[Affected CMS\n(§63.2386(d)(1)(ix))\n(Select from dropdown)]]=\"\",\"\",VLOOKUP(Table25[[#This Row],[Affected CMS\n(§63.2386(d)(1)(ix))\n(Select from dropdown)]],Table22[],2,FALSE))","v":""}]
[null,{"$f":"IF(Table25[[#This Row],[Affected CMS\n(§63.2386(d)(1)(ix))\n(Select from dropdown)]]=\"\",\"\",VLOOKUP(Table25[[#This Row],[Affected CMS\n(§63.2386(d)(1)(ix))\n(Select from dropdown)]],Table22[],2,FALSE))","v":""}]
[null,{"$f":"IF(Table25[[#This Row],[Affected CMS\n(§63.2386(d)(1)(ix))\n(Select from dropdown)]]=\"\",\"\",VLOOKUP(Table25[[#This Row],[Affected CMS\n(§63.2386(d)(1)(ix))\n(Select from dropdown)]],Table22[],2,FALSE))","v":""}]
[null,{"$f":"IF(Table25[[#This Row],[Affected CMS\n(§63.2386(d)(1)(ix))\n(Select from dropdown)]]=\"\",\"\",VLOOKUP(Table25[[#This Row],[Affected CMS\n(§63.2386(d)(1)(ix))\n(Select from dropdown)]],Table22[],2,FALSE))","v":""}]
[null,{"$f":"IF(Table25[[#This Row],[Affected CMS\n(§63.2386(d)(1)(ix))\n(Select from dropdown)]]=\"\",\"\",VLOOKUP(Table25[[#This Row],[Affected CMS\n(§63.2386(d)(1)(ix))\n(Select from dropdown)]],Table22[],2,FALSE))","v":""}]
[null,{"$f":"IF(Table25[[#This Row],[Affected CMS\n(§63.2386(d)(1)(ix))\n(Select from dropdown)]]=\"\",\"\",VLOOKUP(Table25[[#This Row],[Affected CMS\n(§63.2386(d)(1)(ix))\n(Select from dropdown)]],Table22[],2,FALSE))","v":""}]
[null,{"$f":"IF(Table25[[#This Row],[Affected CMS\n(§63.2386(d)(1)(ix))\n(Select from dropdown)]]=\"\",\"\",VLOOKUP(Table25[[#This Row],[Affected CMS\n(§63.2386(d)(1)(ix))\n(Select from dropdown)]],Table22[],2,FALSE))","v":""}]
[null,{"$f":"IF(Table25[[#This Row],[Affected CMS\n(§63.2386(d)(1)(ix))\n(Select from dropdown)]]=\"\",\"\",VLOOKUP(Table25[[#This Row],[Affected CMS\n(§63.2386(d)(1)(ix))\n(Select from dropdown)]],Table22[],2,FALSE))","v":""}]
[null,{"$f":"IF(Table25[[#This Row],[Affected CMS\n(§63.2386(d)(1)(ix))\n(Select from dropdown)]]=\"\",\"\",VLOOKUP(Table25[[#This Row],[Affected CMS\n(§63.2386(d)(1)(ix))\n(Select from dropdown)]],Table22[],2,FALSE))","v":""}]
[null,{"$f":"IF(Table25[[#This Row],[Affected CMS\n(§63.2386(d)(1)(ix))\n(Select from dropdown)]]=\"\",\"\",VLOOKUP(Table25[[#This Row],[Affected CMS\n(§63.2386(d)(1)(ix))\n(Select from dropdown)]],Table22[],2,FALSE))","v":""}]
[null,{"$f":"IF(Table25[[#This Row],[Affected CMS\n(§63.2386(d)(1)(ix))\n(Select from dropdown)]]=\"\",\"\",VLOOKUP(Table25[[#This Row],[Affected CMS\n(§63.2386(d)(1)(ix))\n(Select from dropdown)]],Table22[],2,FALSE))","v":""}]
[null,{"$f":"IF(Table25[[#This Row],[Affected CMS\n(§63.2386(d)(1)(ix))\n(Select from dropdown)]]=\"\",\"\",VLOOKUP(Table25[[#This Row],[Affected CMS\n(§63.2386(d)(1)(ix))\n(Select from dropdown)]],Table22[],2,FALSE))","v":""}]
[null,{"$f":"IF(Table25[[#This Row],[Affected CMS\n(§63.2386(d)(1)(ix))\n(Select from dropdown)]]=\"\",\"\",VLOOKUP(Table25[[#This Row],[Affected CMS\n(§63.2386(d)(1)(ix))\n(Select from dropdown)]],Table22[],2,FALSE))","v":""}]
[null,{"$f":"IF(Table25[[#This Row],[Affected CMS\n(§63.2386(d)(1)(ix))\n(Select from dropdown)]]=\"\",\"\",VLOOKUP(Table25[[#This Row],[Affected CMS\n(§63.2386(d)(1)(ix))\n(Select from dropdown)]],Table22[],2,FALSE))","v":""}]
[null,{"$f":"IF(Table25[[#This Row],[Affected CMS\n(§63.2386(d)(1)(ix))\n(Select from dropdown)]]=\"\",\"\",VLOOKUP(Table25[[#This Row],[Affected CMS\n(§63.2386(d)(1)(ix))\n(Select from dropdown)]],Table22[],2,FALSE))","v":""}]
[null,{"$f":"IF(Table25[[#This Row],[Affected CMS\n(§63.2386(d)(1)(ix))\n(Select from dropdown)]]=\"\",\"\",VLOOKUP(Table25[[#This Row],[Affected CMS\n(§63.2386(d)(1)(ix))\n(Select from dropdown)]],Table22[],2,FALSE))","v":""}]
[null,{"$f":"IF(Table25[[#This Row],[Affected CMS\n(§63.2386(d)(1)(ix))\n(Select from dropdown)]]=\"\",\"\",VLOOKUP(Table25[[#This Row],[Affected CMS\n(§63.2386(d)(1)(ix))\n(Select from dropdown)]],Table22[],2,FALSE))","v":""}]
[null,{"$f":"IF(Table25[[#This Row],[Affected CMS\n(§63.2386(d)(1)(ix))\n(Select from dropdown)]]=\"\",\"\",VLOOKUP(Table25[[#This Row],[Affected CMS\n(§63.2386(d)(1)(ix))\n(Select from dropdown)]],Table22[],2,FALSE))","v":""}]
[null,{"$f":"IF(Table25[[#This Row],[Affected CMS\n(§63.2386(d)(1)(ix))\n(Select from dropdown)]]=\"\",\"\",VLOOKUP(Table25[[#This Row],[Affected CMS\n(§63.2386(d)(1)(ix))\n(Select from dropdown)]],Table22[],2,FALSE))","v":""}]
[null,{"$f":"IF(Table25[[#This Row],[Affected CMS\n(§63.2386(d)(1)(ix))\n(Select from dropdown)]]=\"\",\"\",VLOOKUP(Table25[[#This Row],[Affected CMS\n(§63.2386(d)(1)(ix))\n(Select from dropdown)]],Table22[],2,FALSE))","v":""}]
[null,{"$f":"IF(Table25[[#This Row],[Affected CMS\n(§63.2386(d)(1)(ix))\n(Select from dropdown)]]=\"\",\"\",VLOOKUP(Table25[[#This Row],[Affected CMS\n(§63.2386(d)(1)(ix))\n(Select from dropdown)]],Table22[],2,FALSE))","v":""}]
[null,{"$f":"IF(Table25[[#This Row],[Affected CMS\n(§63.2386(d)(1)(ix))\n(Select from dropdown)]]=\"\",\"\",VLOOKUP(Table25[[#This Row],[Affected CMS\n(§63.2386(d)(1)(ix))\n(Select from dropdown)]],Table22[],2,FALSE))","v":""}]
[null,{"$f":"IF(Table25[[#This Row],[Affected CMS\n(§63.2386(d)(1)(ix))\n(Select from dropdown)]]=\"\",\"\",VLOOKUP(Table25[[#This Row],[Affected CMS\n(§63.2386(d)(1)(ix))\n(Select from dropdown)]],Table22[],2,FALSE))","v":""}]
[null,{"$f":"IF(Table25[[#This Row],[Affected CMS\n(§63.2386(d)(1)(ix))\n(Select from dropdown)]]=\"\",\"\",VLOOKUP(Table25[[#This Row],[Affected CMS\n(§63.2386(d)(1)(ix))\n(Select from dropdown)]],Table22[],2,FALSE))","v":""}]
[null,{"$f":"IF(Table25[[#This Row],[Affected CMS\n(§63.2386(d)(1)(ix))\n(Select from dropdown)]]=\"\",\"\",VLOOKUP(Table25[[#This Row],[Affected CMS\n(§63.2386(d)(1)(ix))\n(Select from dropdown)]],Table22[],2,FALSE))","v":""}]
[null,{"$f":"IF(Table25[[#This Row],[Affected CMS\n(§63.2386(d)(1)(ix))\n(Select from dropdown)]]=\"\",\"\",VLOOKUP(Table25[[#This Row],[Affected CMS\n(§63.2386(d)(1)(ix))\n(Select from dropdown)]],Table22[],2,FALSE))","v":""}]
[null,{"$f":"IF(Table25[[#This Row],[Affected CMS\n(§63.2386(d)(1)(ix))\n(Select from dropdown)]]=\"\",\"\",VLOOKUP(Table25[[#This Row],[Affected CMS\n(§63.2386(d)(1)(ix))\n(Select from dropdown)]],Table22[],2,FALSE))","v":""}]
[null,{"$f":"IF(Table25[[#This Row],[Affected CMS\n(§63.2386(d)(1)(ix))\n(Select from dropdown)]]=\"\",\"\",VLOOKUP(Table25[[#This Row],[Affected CMS\n(§63.2386(d)(1)(ix))\n(Select from dropdown)]],Table22[],2,FALSE))","v":""}]
[null,{"$f":"IF(Table25[[#This Row],[Affected CMS\n(§63.2386(d)(1)(ix))\n(Select from dropdown)]]=\"\",\"\",VLOOKUP(Table25[[#This Row],[Affected CMS\n(§63.2386(d)(1)(ix))\n(Select from dropdown)]],Table22[],2,FALSE))","v":""}]
[null,{"$f":"IF(Table25[[#This Row],[Affected CMS\n(§63.2386(d)(1)(ix))\n(Select from dropdown)]]=\"\",\"\",VLOOKUP(Table25[[#This Row],[Affected CMS\n(§63.2386(d)(1)(ix))\n(Select from dropdown)]],Table22[],2,FALSE))","v":""}]
[null,{"$f":"IF(Table25[[#This Row],[Affected CMS\n(§63.2386(d)(1)(ix))\n(Select from dropdown)]]=\"\",\"\",VLOOKUP(Table25[[#This Row],[Affected CMS\n(§63.2386(d)(1)(ix))\n(Select from dropdown)]],Table22[],2,FALSE))","v":""}]
[null,{"$f":"IF(Table25[[#This Row],[Affected CMS\n(§63.2386(d)(1)(ix))\n(Select from dropdown)]]=\"\",\"\",VLOOKUP(Table25[[#This Row],[Affected CMS\n(§63.2386(d)(1)(ix))\n(Select from dropdown)]],Table22[],2,FALSE))","v":""}]
[null,{"$f":"IF(Table25[[#This Row],[Affected CMS\n(§63.2386(d)(1)(ix))\n(Select from dropdown)]]=\"\",\"\",VLOOKUP(Table25[[#This Row],[Affected CMS\n(§63.2386(d)(1)(ix))\n(Select from dropdown)]],Table22[],2,FALSE))","v":""}]
[null,{"$f":"IF(Table25[[#This Row],[Affected CMS\n(§63.2386(d)(1)(ix))\n(Select from dropdown)]]=\"\",\"\",VLOOKUP(Table25[[#This Row],[Affected CMS\n(§63.2386(d)(1)(ix))\n(Select from dropdown)]],Table22[],2,FALSE))","v":""}]
[null,{"$f":"IF(Table25[[#This Row],[Affected CMS\n(§63.2386(d)(1)(ix))\n(Select from dropdown)]]=\"\",\"\",VLOOKUP(Table25[[#This Row],[Affected CMS\n(§63.2386(d)(1)(ix))\n(Select from dropdown)]],Table22[],2,FALSE))","v":""}]
[null,{"$f":"IF(Table25[[#This Row],[Affected CMS\n(§63.2386(d)(1)(ix))\n(Select from dropdown)]]=\"\",\"\",VLOOKUP(Table25[[#This Row],[Affected CMS\n(§63.2386(d)(1)(ix))\n(Select from dropdown)]],Table22[],2,FALSE))","v":""}]
[null,{"$f":"IF(Table25[[#This Row],[Affected CMS\n(§63.2386(d)(1)(ix))\n(Select from dropdown)]]=\"\",\"\",VLOOKUP(Table25[[#This Row],[Affected CMS\n(§63.2386(d)(1)(ix))\n(Select from dropdown)]],Table22[],2,FALSE))","v":""}]
[null,{"$f":"IF(Table25[[#This Row],[Affected CMS\n(§63.2386(d)(1)(ix))\n(Select from dropdown)]]=\"\",\"\",VLOOKUP(Table25[[#This Row],[Affected CMS\n(§63.2386(d)(1)(ix))\n(Select from dropdown)]],Table22[],2,FALSE))","v":""}]
[null,{"$f":"IF(Table25[[#This Row],[Affected CMS\n(§63.2386(d)(1)(ix))\n(Select from dropdown)]]=\"\",\"\",VLOOKUP(Table25[[#This Row],[Affected CMS\n(§63.2386(d)(1)(ix))\n(Select from dropdown)]],Table22[],2,FALSE))","v":""}]
[null,{"$f":"IF(Table25[[#This Row],[Affected CMS\n(§63.2386(d)(1)(ix))\n(Select from dropdown)]]=\"\",\"\",VLOOKUP(Table25[[#This Row],[Affected CMS\n(§63.2386(d)(1)(ix))\n(Select from dropdown)]],Table22[],2,FALSE))","v":""}]
[null,{"$f":"IF(Table25[[#This Row],[Affected CMS\n(§63.2386(d)(1)(ix))\n(Select from dropdown)]]=\"\",\"\",VLOOKUP(Table25[[#This Row],[Affected CMS\n(§63.2386(d)(1)(ix))\n(Select from dropdown)]],Table22[],2,FALSE))","v":""}]
[null,{"$f":"IF(Table25[[#This Row],[Affected CMS\n(§63.2386(d)(1)(ix))\n(Select from dropdown)]]=\"\",\"\",VLOOKUP(Table25[[#This Row],[Affected CMS\n(§63.2386(d)(1)(ix))\n(Select from dropdown)]],Table22[],2,FALSE))","v":""}]
[null,{"$f":"IF(Table25[[#This Row],[Affected CMS\n(§63.2386(d)(1)(ix))\n(Select from dropdown)]]=\"\",\"\",VLOOKUP(Table25[[#This Row],[Affected CMS\n(§63.2386(d)(1)(ix))\n(Select from dropdown)]],Table22[],2,FALSE))","v":""}]
[null,{"$f":"IF(Table25[[#This Row],[Affected CMS\n(§63.2386(d)(1)(ix))\n(Select from dropdown)]]=\"\",\"\",VLOOKUP(Table25[[#This Row],[Affected CMS\n(§63.2386(d)(1)(ix))\n(Select from dropdown)]],Table22[],2,FALSE))","v":""}]
[null,{"$f":"IF(Table25[[#This Row],[Affected CMS\n(§63.2386(d)(1)(ix))\n(Select from dropdown)]]=\"\",\"\",VLOOKUP(Table25[[#This Row],[Affected CMS\n(§63.2386(d)(1)(ix))\n(Select from dropdown)]],Table22[],2,FALSE))","v":""}]
[null,{"$f":"IF(Table25[[#This Row],[Affected CMS\n(§63.2386(d)(1)(ix))\n(Select from dropdown)]]=\"\",\"\",VLOOKUP(Table25[[#This Row],[Affected CMS\n(§63.2386(d)(1)(ix))\n(Select from dropdown)]],Table22[],2,FALSE))","v":""}]
[null,{"$f":"IF(Table25[[#This Row],[Affected CMS\n(§63.2386(d)(1)(ix))\n(Select from dropdown)]]=\"\",\"\",VLOOKUP(Table25[[#This Row],[Affected CMS\n(§63.2386(d)(1)(ix))\n(Select from dropdown)]],Table22[],2,FALSE))","v":""}]
[null,{"$f":"IF(Table25[[#This Row],[Affected CMS\n(§63.2386(d)(1)(ix))\n(Select from dropdown)]]=\"\",\"\",VLOOKUP(Table25[[#This Row],[Affected CMS\n(§63.2386(d)(1)(ix))\n(Select from dropdown)]],Table22[],2,FALSE))","v":""}]
[null,{"$f":"IF(Table25[[#This Row],[Affected CMS\n(§63.2386(d)(1)(ix))\n(Select from dropdown)]]=\"\",\"\",VLOOKUP(Table25[[#This Row],[Affected CMS\n(§63.2386(d)(1)(ix))\n(Select from dropdown)]],Table22[],2,FALSE))","v":""}]
[null,{"$f":"IF(Table25[[#This Row],[Affected CMS\n(§63.2386(d)(1)(ix))\n(Select from dropdown)]]=\"\",\"\",VLOOKUP(Table25[[#This Row],[Affected CMS\n(§63.2386(d)(1)(ix))\n(Select from dropdown)]],Table22[],2,FALSE))","v":""}]
[null,{"$f":"IF(Table25[[#This Row],[Affected CMS\n(§63.2386(d)(1)(ix))\n(Select from dropdown)]]=\"\",\"\",VLOOKUP(Table25[[#This Row],[Affected CMS\n(§63.2386(d)(1)(ix))\n(Select from dropdown)]],Table22[],2,FALSE))","v":""}]
[null,{"$f":"IF(Table25[[#This Row],[Affected CMS\n(§63.2386(d)(1)(ix))\n(Select from dropdown)]]=\"\",\"\",VLOOKUP(Table25[[#This Row],[Affected CMS\n(§63.2386(d)(1)(ix))\n(Select from dropdown)]],Table22[],2,FALSE))","v":""}]
[null,{"$f":"IF(Table25[[#This Row],[Affected CMS\n(§63.2386(d)(1)(ix))\n(Select from dropdown)]]=\"\",\"\",VLOOKUP(Table25[[#This Row],[Affected CMS\n(§63.2386(d)(1)(ix))\n(Select from dropdown)]],Table22[],2,FALSE))","v":""}]
[null,{"$f":"IF(Table25[[#This Row],[Affected CMS\n(§63.2386(d)(1)(ix))\n(Select from dropdown)]]=\"\",\"\",VLOOKUP(Table25[[#This Row],[Affected CMS\n(§63.2386(d)(1)(ix))\n(Select from dropdown)]],Table22[],2,FALSE))","v":""}]
[null,{"$f":"IF(Table25[[#This Row],[Affected CMS\n(§63.2386(d)(1)(ix))\n(Select from dropdown)]]=\"\",\"\",VLOOKUP(Table25[[#This Row],[Affected CMS\n(§63.2386(d)(1)(ix))\n(Select from dropdown)]],Table22[],2,FALSE))","v":""}]
[null,{"$f":"IF(Table25[[#This Row],[Affected CMS\n(§63.2386(d)(1)(ix))\n(Select from dropdown)]]=\"\",\"\",VLOOKUP(Table25[[#This Row],[Affected CMS\n(§63.2386(d)(1)(ix))\n(Select from dropdown)]],Table22[],2,FALSE))","v":""}]
[null,{"$f":"IF(Table25[[#This Row],[Affected CMS\n(§63.2386(d)(1)(ix))\n(Select from dropdown)]]=\"\",\"\",VLOOKUP(Table25[[#This Row],[Affected CMS\n(§63.2386(d)(1)(ix))\n(Select from dropdown)]],Table22[],2,FALSE))","v":""}]
[null,{"$f":"IF(Table25[[#This Row],[Affected CMS\n(§63.2386(d)(1)(ix))\n(Select from dropdown)]]=\"\",\"\",VLOOKUP(Table25[[#This Row],[Affected CMS\n(§63.2386(d)(1)(ix))\n(Select from dropdown)]],Table22[],2,FALSE))","v":""}]
[null,{"$f":"IF(Table25[[#This Row],[Affected CMS\n(§63.2386(d)(1)(ix))\n(Select from dropdown)]]=\"\",\"\",VLOOKUP(Table25[[#This Row],[Affected CMS\n(§63.2386(d)(1)(ix))\n(Select from dropdown)]],Table22[],2,FALSE))","v":""}]
[null,{"$f":"IF(Table25[[#This Row],[Affected CMS\n(§63.2386(d)(1)(ix))\n(Select from dropdown)]]=\"\",\"\",VLOOKUP(Table25[[#This Row],[Affected CMS\n(§63.2386(d)(1)(ix))\n(Select from dropdown)]],Table22[],2,FALSE))","v":""}]
[null,{"$f":"IF(Table25[[#This Row],[Affected CMS\n(§63.2386(d)(1)(ix))\n(Select from dropdown)]]=\"\",\"\",VLOOKUP(Table25[[#This Row],[Affected CMS\n(§63.2386(d)(1)(ix))\n(Select from dropdown)]],Table22[],2,FALSE))","v":""}]
[null,{"$f":"IF(Table25[[#This Row],[Affected CMS\n(§63.2386(d)(1)(ix))\n(Select from dropdown)]]=\"\",\"\",VLOOKUP(Table25[[#This Row],[Affected CMS\n(§63.2386(d)(1)(ix))\n(Select from dropdown)]],Table22[],2,FALSE))","v":""}]
[null,{"$f":"IF(Table25[[#This Row],[Affected CMS\n(§63.2386(d)(1)(ix))\n(Select from dropdown)]]=\"\",\"\",VLOOKUP(Table25[[#This Row],[Affected CMS\n(§63.2386(d)(1)(ix))\n(Select from dropdown)]],Table22[],2,FALSE))","v":""}]
[null,{"$f":"IF(Table25[[#This Row],[Affected CMS\n(§63.2386(d)(1)(ix))\n(Select from dropdown)]]=\"\",\"\",VLOOKUP(Table25[[#This Row],[Affected CMS\n(§63.2386(d)(1)(ix))\n(Select from dropdown)]],Table22[],2,FALSE))","v":""}]
[null,{"$f":"IF(Table25[[#This Row],[Affected CMS\n(§63.2386(d)(1)(ix))\n(Select from dropdown)]]=\"\",\"\",VLOOKUP(Table25[[#This Row],[Affected CMS\n(§63.2386(d)(1)(ix))\n(Select from dropdown)]],Table22[],2,FALSE))","v":""}]
[null,{"$f":"IF(Table25[[#This Row],[Affected CMS\n(§63.2386(d)(1)(ix))\n(Select from dropdown)]]=\"\",\"\",VLOOKUP(Table25[[#This Row],[Affected CMS\n(§63.2386(d)(1)(ix))\n(Select from dropdown)]],Table22[],2,FALSE))","v":""}]
[null,{"$f":"IF(Table25[[#This Row],[Affected CMS\n(§63.2386(d)(1)(ix))\n(Select from dropdown)]]=\"\",\"\",VLOOKUP(Table25[[#This Row],[Affected CMS\n(§63.2386(d)(1)(ix))\n(Select from dropdown)]],Table22[],2,FALSE))","v":""}]
[null,{"$f":"IF(Table25[[#This Row],[Affected CMS\n(§63.2386(d)(1)(ix))\n(Select from dropdown)]]=\"\",\"\",VLOOKUP(Table25[[#This Row],[Affected CMS\n(§63.2386(d)(1)(ix))\n(Select from dropdown)]],Table22[],2,FALSE))","v":""}]
[null,{"$f":"IF(Table25[[#This Row],[Affected CMS\n(§63.2386(d)(1)(ix))\n(Select from dropdown)]]=\"\",\"\",VLOOKUP(Table25[[#This Row],[Affected CMS\n(§63.2386(d)(1)(ix))\n(Select from dropdown)]],Table22[],2,FALSE))","v":""}]
[null,{"$f":"IF(Table25[[#This Row],[Affected CMS\n(§63.2386(d)(1)(ix))\n(Select from dropdown)]]=\"\",\"\",VLOOKUP(Table25[[#This Row],[Affected CMS\n(§63.2386(d)(1)(ix))\n(Select from dropdown)]],Table22[],2,FALSE))","v":""}]
[null,{"$f":"IF(Table25[[#This Row],[Affected CMS\n(§63.2386(d)(1)(ix))\n(Select from dropdown)]]=\"\",\"\",VLOOKUP(Table25[[#This Row],[Affected CMS\n(§63.2386(d)(1)(ix))\n(Select from dropdown)]],Table22[],2,FALSE))","v":""}]
[null,{"$f":"IF(Table25[[#This Row],[Affected CMS\n(§63.2386(d)(1)(ix))\n(Select from dropdown)]]=\"\",\"\",VLOOKUP(Table25[[#This Row],[Affected CMS\n(§63.2386(d)(1)(ix))\n(Select from dropdown)]],Table22[],2,FALSE))","v":""}]
[null,{"$f":"IF(Table25[[#This Row],[Affected CMS\n(§63.2386(d)(1)(ix))\n(Select from dropdown)]]=\"\",\"\",VLOOKUP(Table25[[#This Row],[Affected CMS\n(§63.2386(d)(1)(ix))\n(Select from dropdown)]],Table22[],2,FALSE))","v":""}]
[null,{"$f":"IF(Table25[[#This Row],[Affected CMS\n(§63.2386(d)(1)(ix))\n(Select from dropdown)]]=\"\",\"\",VLOOKUP(Table25[[#This Row],[Affected CMS\n(§63.2386(d)(1)(ix))\n(Select from dropdown)]],Table22[],2,FALSE))","v":""}]
[null,{"$f":"IF(Table25[[#This Row],[Affected CMS\n(§63.2386(d)(1)(ix))\n(Select from dropdown)]]=\"\",\"\",VLOOKUP(Table25[[#This Row],[Affected CMS\n(§63.2386(d)(1)(ix))\n(Select from dropdown)]],Table22[],2,FALSE))","v":""}]
[null,{"$f":"IF(Table25[[#This Row],[Affected CMS\n(§63.2386(d)(1)(ix))\n(Select from dropdown)]]=\"\",\"\",VLOOKUP(Table25[[#This Row],[Affected CMS\n(§63.2386(d)(1)(ix))\n(Select from dropdown)]],Table22[],2,FALSE))","v":""}]
[null,{"$f":"IF(Table25[[#This Row],[Affected CMS\n(§63.2386(d)(1)(ix))\n(Select from dropdown)]]=\"\",\"\",VLOOKUP(Table25[[#This Row],[Affected CMS\n(§63.2386(d)(1)(ix))\n(Select from dropdown)]],Table22[],2,FALSE))","v":""}]
[null,{"$f":"IF(Table25[[#This Row],[Affected CMS\n(§63.2386(d)(1)(ix))\n(Select from dropdown)]]=\"\",\"\",VLOOKUP(Table25[[#This Row],[Affected CMS\n(§63.2386(d)(1)(ix))\n(Select from dropdown)]],Table22[],2,FALSE))","v":""}]
[null,{"$f":"IF(Table25[[#This Row],[Affected CMS\n(§63.2386(d)(1)(ix))\n(Select from dropdown)]]=\"\",\"\",VLOOKUP(Table25[[#This Row],[Affected CMS\n(§63.2386(d)(1)(ix))\n(Select from dropdown)]],Table22[],2,FALSE))","v":""}]
[null,{"$f":"IF(Table25[[#This Row],[Affected CMS\n(§63.2386(d)(1)(ix))\n(Select from dropdown)]]=\"\",\"\",VLOOKUP(Table25[[#This Row],[Affected CMS\n(§63.2386(d)(1)(ix))\n(Select from dropdown)]],Table22[],2,FALSE))","v":""}]
[null,{"$f":"IF(Table25[[#This Row],[Affected CMS\n(§63.2386(d)(1)(ix))\n(Select from dropdown)]]=\"\",\"\",VLOOKUP(Table25[[#This Row],[Affected CMS\n(§63.2386(d)(1)(ix))\n(Select from dropdown)]],Table22[],2,FALSE))","v":""}]
[null,{"$f":"IF(Table25[[#This Row],[Affected CMS\n(§63.2386(d)(1)(ix))\n(Select from dropdown)]]=\"\",\"\",VLOOKUP(Table25[[#This Row],[Affected CMS\n(§63.2386(d)(1)(ix))\n(Select from dropdown)]],Table22[],2,FALSE))","v":""}]
[null,{"$f":"IF(Table25[[#This Row],[Affected CMS\n(§63.2386(d)(1)(ix))\n(Select from dropdown)]]=\"\",\"\",VLOOKUP(Table25[[#This Row],[Affected CMS\n(§63.2386(d)(1)(ix))\n(Select from dropdown)]],Table22[],2,FALSE))","v":""}]
[null,{"$f":"IF(Table25[[#This Row],[Affected CMS\n(§63.2386(d)(1)(ix))\n(Select from dropdown)]]=\"\",\"\",VLOOKUP(Table25[[#This Row],[Affected CMS\n(§63.2386(d)(1)(ix))\n(Select from dropdown)]],Table22[],2,FALSE))","v":""}]
[null,{"$f":"IF(Table25[[#This Row],[Affected CMS\n(§63.2386(d)(1)(ix))\n(Select from dropdown)]]=\"\",\"\",VLOOKUP(Table25[[#This Row],[Affected CMS\n(§63.2386(d)(1)(ix))\n(Select from dropdown)]],Table22[],2,FALSE))","v":""}]
[null,{"$f":"IF(Table25[[#This Row],[Affected CMS\n(§63.2386(d)(1)(ix))\n(Select from dropdown)]]=\"\",\"\",VLOOKUP(Table25[[#This Row],[Affected CMS\n(§63.2386(d)(1)(ix))\n(Select from dropdown)]],Table22[],2,FALSE))","v":""}]
[null,{"$f":"IF(Table25[[#This Row],[Affected CMS\n(§63.2386(d)(1)(ix))\n(Select from dropdown)]]=\"\",\"\",VLOOKUP(Table25[[#This Row],[Affected CMS\n(§63.2386(d)(1)(ix))\n(Select from dropdown)]],Table22[],2,FALSE))","v":""}]
[null,{"$f":"IF(Table25[[#This Row],[Affected CMS\n(§63.2386(d)(1)(ix))\n(Select from dropdown)]]=\"\",\"\",VLOOKUP(Table25[[#This Row],[Affected CMS\n(§63.2386(d)(1)(ix))\n(Select from dropdown)]],Table22[],2,FALSE))","v":""}]
[null,{"$f":"IF(Table25[[#This Row],[Affected CMS\n(§63.2386(d)(1)(ix))\n(Select from dropdown)]]=\"\",\"\",VLOOKUP(Table25[[#This Row],[Affected CMS\n(§63.2386(d)(1)(ix))\n(Select from dropdown)]],Table22[],2,FALSE))","v":""}]
[null,{"$f":"IF(Table25[[#This Row],[Affected CMS\n(§63.2386(d)(1)(ix))\n(Select from dropdown)]]=\"\",\"\",VLOOKUP(Table25[[#This Row],[Affected CMS\n(§63.2386(d)(1)(ix))\n(Select from dropdown)]],Table22[],2,FALSE))","v":""}]
[null,{"$f":"IF(Table25[[#This Row],[Affected CMS\n(§63.2386(d)(1)(ix))\n(Select from dropdown)]]=\"\",\"\",VLOOKUP(Table25[[#This Row],[Affected CMS\n(§63.2386(d)(1)(ix))\n(Select from dropdown)]],Table22[],2,FALSE))","v":""}]
[null,{"$f":"IF(Table25[[#This Row],[Affected CMS\n(§63.2386(d)(1)(ix))\n(Select from dropdown)]]=\"\",\"\",VLOOKUP(Table25[[#This Row],[Affected CMS\n(§63.2386(d)(1)(ix))\n(Select from dropdown)]],Table22[],2,FALSE))","v":""}]
[null,{"$f":"IF(Table25[[#This Row],[Affected CMS\n(§63.2386(d)(1)(ix))\n(Select from dropdown)]]=\"\",\"\",VLOOKUP(Table25[[#This Row],[Affected CMS\n(§63.2386(d)(1)(ix))\n(Select from dropdown)]],Table22[],2,FALSE))","v":""}]
[null,{"$f":"IF(Table25[[#This Row],[Affected CMS\n(§63.2386(d)(1)(ix))\n(Select from dropdown)]]=\"\",\"\",VLOOKUP(Table25[[#This Row],[Affected CMS\n(§63.2386(d)(1)(ix))\n(Select from dropdown)]],Table22[],2,FALSE))","v":""}]
[null,{"$f":"IF(Table25[[#This Row],[Affected CMS\n(§63.2386(d)(1)(ix))\n(Select from dropdown)]]=\"\",\"\",VLOOKUP(Table25[[#This Row],[Affected CMS\n(§63.2386(d)(1)(ix))\n(Select from dropdown)]],Table22[],2,FALSE))","v":""}]
[null,{"$f":"IF(Table25[[#This Row],[Affected CMS\n(§63.2386(d)(1)(ix))\n(Select from dropdown)]]=\"\",\"\",VLOOKUP(Table25[[#This Row],[Affected CMS\n(§63.2386(d)(1)(ix))\n(Select from dropdown)]],Table22[],2,FALSE))","v":""}]
[null,{"$f":"IF(Table25[[#This Row],[Affected CMS\n(§63.2386(d)(1)(ix))\n(Select from dropdown)]]=\"\",\"\",VLOOKUP(Table25[[#This Row],[Affected CMS\n(§63.2386(d)(1)(ix))\n(Select from dropdown)]],Table22[],2,FALSE))","v":""}]
[null,{"$f":"IF(Table25[[#This Row],[Affected CMS\n(§63.2386(d)(1)(ix))\n(Select from dropdown)]]=\"\",\"\",VLOOKUP(Table25[[#This Row],[Affected CMS\n(§63.2386(d)(1)(ix))\n(Select from dropdown)]],Table22[],2,FALSE))","v":""}]
[null,{"$f":"IF(Table25[[#This Row],[Affected CMS\n(§63.2386(d)(1)(ix))\n(Select from dropdown)]]=\"\",\"\",VLOOKUP(Table25[[#This Row],[Affected CMS\n(§63.2386(d)(1)(ix))\n(Select from dropdown)]],Table22[],2,FALSE))","v":""}]
[null,{"$f":"IF(Table25[[#This Row],[Affected CMS\n(§63.2386(d)(1)(ix))\n(Select from dropdown)]]=\"\",\"\",VLOOKUP(Table25[[#This Row],[Affected CMS\n(§63.2386(d)(1)(ix))\n(Select from dropdown)]],Table22[],2,FALSE))","v":""}]
[null,{"$f":"IF(Table25[[#This Row],[Affected CMS\n(§63.2386(d)(1)(ix))\n(Select from dropdown)]]=\"\",\"\",VLOOKUP(Table25[[#This Row],[Affected CMS\n(§63.2386(d)(1)(ix))\n(Select from dropdown)]],Table22[],2,FALSE))","v":""}]
[null,{"$f":"IF(Table25[[#This Row],[Affected CMS\n(§63.2386(d)(1)(ix))\n(Select from dropdown)]]=\"\",\"\",VLOOKUP(Table25[[#This Row],[Affected CMS\n(§63.2386(d)(1)(ix))\n(Select from dropdown)]],Table22[],2,FALSE))","v":""}]
[null,{"$f":"IF(Table25[[#This Row],[Affected CMS\n(§63.2386(d)(1)(ix))\n(Select from dropdown)]]=\"\",\"\",VLOOKUP(Table25[[#This Row],[Affected CMS\n(§63.2386(d)(1)(ix))\n(Select from dropdown)]],Table22[],2,FALSE))","v":""}]
[null,{"$f":"IF(Table25[[#This Row],[Affected CMS\n(§63.2386(d)(1)(ix))\n(Select from dropdown)]]=\"\",\"\",VLOOKUP(Table25[[#This Row],[Affected CMS\n(§63.2386(d)(1)(ix))\n(Select from dropdown)]],Table22[],2,FALSE))","v":""}]
[null,{"$f":"IF(Table25[[#This Row],[Affected CMS\n(§63.2386(d)(1)(ix))\n(Select from dropdown)]]=\"\",\"\",VLOOKUP(Table25[[#This Row],[Affected CMS\n(§63.2386(d)(1)(ix))\n(Select from dropdown)]],Table22[],2,FALSE))","v":""}]
[null,{"$f":"IF(Table25[[#This Row],[Affected CMS\n(§63.2386(d)(1)(ix))\n(Select from dropdown)]]=\"\",\"\",VLOOKUP(Table25[[#This Row],[Affected CMS\n(§63.2386(d)(1)(ix))\n(Select from dropdown)]],Table22[],2,FALSE))","v":""}]
[null,{"$f":"IF(Table25[[#This Row],[Affected CMS\n(§63.2386(d)(1)(ix))\n(Select from dropdown)]]=\"\",\"\",VLOOKUP(Table25[[#This Row],[Affected CMS\n(§63.2386(d)(1)(ix))\n(Select from dropdown)]],Table22[],2,FALSE))","v":""}]
[null,{"$f":"IF(Table25[[#This Row],[Affected CMS\n(§63.2386(d)(1)(ix))\n(Select from dropdown)]]=\"\",\"\",VLOOKUP(Table25[[#This Row],[Affected CMS\n(§63.2386(d)(1)(ix))\n(Select from dropdown)]],Table22[],2,FALSE))","v":""}]
[null,{"$f":"IF(Table25[[#This Row],[Affected CMS\n(§63.2386(d)(1)(ix))\n(Select from dropdown)]]=\"\",\"\",VLOOKUP(Table25[[#This Row],[Affected CMS\n(§63.2386(d)(1)(ix))\n(Select from dropdown)]],Table22[],2,FALSE))","v":""}]
[null,{"$f":"IF(Table25[[#This Row],[Affected CMS\n(§63.2386(d)(1)(ix))\n(Select from dropdown)]]=\"\",\"\",VLOOKUP(Table25[[#This Row],[Affected CMS\n(§63.2386(d)(1)(ix))\n(Select from dropdown)]],Table22[],2,FALSE))","v":""}]
[null,{"$f":"IF(Table25[[#This Row],[Affected CMS\n(§63.2386(d)(1)(ix))\n(Select from dropdown)]]=\"\",\"\",VLOOKUP(Table25[[#This Row],[Affected CMS\n(§63.2386(d)(1)(ix))\n(Select from dropdown)]],Table22[],2,FALSE))","v":""}]
[null,{"$f":"IF(Table25[[#This Row],[Affected CMS\n(§63.2386(d)(1)(ix))\n(Select from dropdown)]]=\"\",\"\",VLOOKUP(Table25[[#This Row],[Affected CMS\n(§63.2386(d)(1)(ix))\n(Select from dropdown)]],Table22[],2,FALSE))","v":""}]
[null,{"$f":"IF(Table25[[#This Row],[Affected CMS\n(§63.2386(d)(1)(ix))\n(Select from dropdown)]]=\"\",\"\",VLOOKUP(Table25[[#This Row],[Affected CMS\n(§63.2386(d)(1)(ix))\n(Select from dropdown)]],Table22[],2,FALSE))","v":""}]
[null,{"$f":"IF(Table25[[#This Row],[Affected CMS\n(§63.2386(d)(1)(ix))\n(Select from dropdown)]]=\"\",\"\",VLOOKUP(Table25[[#This Row],[Affected CMS\n(§63.2386(d)(1)(ix))\n(Select from dropdown)]],Table22[],2,FALSE))","v":""}]
[null,{"$f":"IF(Table25[[#This Row],[Affected CMS\n(§63.2386(d)(1)(ix))\n(Select from dropdown)]]=\"\",\"\",VLOOKUP(Table25[[#This Row],[Affected CMS\n(§63.2386(d)(1)(ix))\n(Select from dropdown)]],Table22[],2,FALSE))","v":""}]
[null,{"$f":"IF(Table25[[#This Row],[Affected CMS\n(§63.2386(d)(1)(ix))\n(Select from dropdown)]]=\"\",\"\",VLOOKUP(Table25[[#This Row],[Affected CMS\n(§63.2386(d)(1)(ix))\n(Select from dropdown)]],Table22[],2,FALSE))","v":""}]
[null,{"$f":"IF(Table25[[#This Row],[Affected CMS\n(§63.2386(d)(1)(ix))\n(Select from dropdown)]]=\"\",\"\",VLOOKUP(Table25[[#This Row],[Affected CMS\n(§63.2386(d)(1)(ix))\n(Select from dropdown)]],Table22[],2,FALSE))","v":""}]
[null,{"$f":"IF(Table25[[#This Row],[Affected CMS\n(§63.2386(d)(1)(ix))\n(Select from dropdown)]]=\"\",\"\",VLOOKUP(Table25[[#This Row],[Affected CMS\n(§63.2386(d)(1)(ix))\n(Select from dropdown)]],Table22[],2,FALSE))","v":""}]
[null,{"$f":"IF(Table25[[#This Row],[Affected CMS\n(§63.2386(d)(1)(ix))\n(Select from dropdown)]]=\"\",\"\",VLOOKUP(Table25[[#This Row],[Affected CMS\n(§63.2386(d)(1)(ix))\n(Select from dropdown)]],Table22[],2,FALSE))","v":""}]
[null,{"$f":"IF(Table25[[#This Row],[Affected CMS\n(§63.2386(d)(1)(ix))\n(Select from dropdown)]]=\"\",\"\",VLOOKUP(Table25[[#This Row],[Affected CMS\n(§63.2386(d)(1)(ix))\n(Select from dropdown)]],Table22[],2,FALSE))","v":""}]
[null,{"$f":"IF(Table25[[#This Row],[Affected CMS\n(§63.2386(d)(1)(ix))\n(Select from dropdown)]]=\"\",\"\",VLOOKUP(Table25[[#This Row],[Affected CMS\n(§63.2386(d)(1)(ix))\n(Select from dropdown)]],Table22[],2,FALSE))","v":""}]
[null,{"$f":"IF(Table25[[#This Row],[Affected CMS\n(§63.2386(d)(1)(ix))\n(Select from dropdown)]]=\"\",\"\",VLOOKUP(Table25[[#This Row],[Affected CMS\n(§63.2386(d)(1)(ix))\n(Select from dropdown)]],Table22[],2,FALSE))","v":""}]
[null,{"$f":"IF(Table25[[#This Row],[Affected CMS\n(§63.2386(d)(1)(ix))\n(Select from dropdown)]]=\"\",\"\",VLOOKUP(Table25[[#This Row],[Affected CMS\n(§63.2386(d)(1)(ix))\n(Select from dropdown)]],Table22[],2,FALSE))","v":""}]
[null,{"$f":"IF(Table25[[#This Row],[Affected CMS\n(§63.2386(d)(1)(ix))\n(Select from dropdown)]]=\"\",\"\",VLOOKUP(Table25[[#This Row],[Affected CMS\n(§63.2386(d)(1)(ix))\n(Select from dropdown)]],Table22[],2,FALSE))","v":""}]
[null,{"$f":"IF(Table25[[#This Row],[Affected CMS\n(§63.2386(d)(1)(ix))\n(Select from dropdown)]]=\"\",\"\",VLOOKUP(Table25[[#This Row],[Affected CMS\n(§63.2386(d)(1)(ix))\n(Select from dropdown)]],Table22[],2,FALSE))","v":""}]
[null,{"$f":"IF(Table25[[#This Row],[Affected CMS\n(§63.2386(d)(1)(ix))\n(Select from dropdown)]]=\"\",\"\",VLOOKUP(Table25[[#This Row],[Affected CMS\n(§63.2386(d)(1)(ix))\n(Select from dropdown)]],Table22[],2,FALSE))","v":""}]
[null,{"$f":"IF(Table25[[#This Row],[Affected CMS\n(§63.2386(d)(1)(ix))\n(Select from dropdown)]]=\"\",\"\",VLOOKUP(Table25[[#This Row],[Affected CMS\n(§63.2386(d)(1)(ix))\n(Select from dropdown)]],Table22[],2,FALSE))","v":""}]
[null,{"$f":"IF(Table25[[#This Row],[Affected CMS\n(§63.2386(d)(1)(ix))\n(Select from dropdown)]]=\"\",\"\",VLOOKUP(Table25[[#This Row],[Affected CMS\n(§63.2386(d)(1)(ix))\n(Select from dropdown)]],Table22[],2,FALSE))","v":""}]
[null,{"$f":"IF(Table25[[#This Row],[Affected CMS\n(§63.2386(d)(1)(ix))\n(Select from dropdown)]]=\"\",\"\",VLOOKUP(Table25[[#This Row],[Affected CMS\n(§63.2386(d)(1)(ix))\n(Select from dropdown)]],Table22[],2,FALSE))","v":""}]
[null,{"$f":"IF(Table25[[#This Row],[Affected CMS\n(§63.2386(d)(1)(ix))\n(Select from dropdown)]]=\"\",\"\",VLOOKUP(Table25[[#This Row],[Affected CMS\n(§63.2386(d)(1)(ix))\n(Select from dropdown)]],Table22[],2,FALSE))","v":""}]
[null,{"$f":"IF(Table25[[#This Row],[Affected CMS\n(§63.2386(d)(1)(ix))\n(Select from dropdown)]]=\"\",\"\",VLOOKUP(Table25[[#This Row],[Affected CMS\n(§63.2386(d)(1)(ix))\n(Select from dropdown)]],Table22[],2,FALSE))","v":""}]
[null,{"$f":"IF(Table25[[#This Row],[Affected CMS\n(§63.2386(d)(1)(ix))\n(Select from dropdown)]]=\"\",\"\",VLOOKUP(Table25[[#This Row],[Affected CMS\n(§63.2386(d)(1)(ix))\n(Select from dropdown)]],Table22[],2,FALSE))","v":""}]
[null,{"$f":"IF(Table25[[#This Row],[Affected CMS\n(§63.2386(d)(1)(ix))\n(Select from dropdown)]]=\"\",\"\",VLOOKUP(Table25[[#This Row],[Affected CMS\n(§63.2386(d)(1)(ix))\n(Select from dropdown)]],Table22[],2,FALSE))","v":""}]
[null,{"$f":"IF(Table25[[#This Row],[Affected CMS\n(§63.2386(d)(1)(ix))\n(Select from dropdown)]]=\"\",\"\",VLOOKUP(Table25[[#This Row],[Affected CMS\n(§63.2386(d)(1)(ix))\n(Select from dropdown)]],Table22[],2,FALSE))","v":""}]
[null,{"$f":"IF(Table25[[#This Row],[Affected CMS\n(§63.2386(d)(1)(ix))\n(Select from dropdown)]]=\"\",\"\",VLOOKUP(Table25[[#This Row],[Affected CMS\n(§63.2386(d)(1)(ix))\n(Select from dropdown)]],Table22[],2,FALSE))","v":""}]
[null,{"$f":"IF(Table25[[#This Row],[Affected CMS\n(§63.2386(d)(1)(ix))\n(Select from dropdown)]]=\"\",\"\",VLOOKUP(Table25[[#This Row],[Affected CMS\n(§63.2386(d)(1)(ix))\n(Select from dropdown)]],Table22[],2,FALSE))","v":""}]
[null,{"$f":"IF(Table25[[#This Row],[Affected CMS\n(§63.2386(d)(1)(ix))\n(Select from dropdown)]]=\"\",\"\",VLOOKUP(Table25[[#This Row],[Affected CMS\n(§63.2386(d)(1)(ix))\n(Select from dropdown)]],Table22[],2,FALSE))","v":""}]
[null,{"$f":"IF(Table25[[#This Row],[Affected CMS\n(§63.2386(d)(1)(ix))\n(Select from dropdown)]]=\"\",\"\",VLOOKUP(Table25[[#This Row],[Affected CMS\n(§63.2386(d)(1)(ix))\n(Select from dropdown)]],Table22[],2,FALSE))","v":""}]
[null,{"$f":"IF(Table25[[#This Row],[Affected CMS\n(§63.2386(d)(1)(ix))\n(Select from dropdown)]]=\"\",\"\",VLOOKUP(Table25[[#This Row],[Affected CMS\n(§63.2386(d)(1)(ix))\n(Select from dropdown)]],Table22[],2,FALSE))","v":""}]
[null,{"$f":"IF(Table25[[#This Row],[Affected CMS\n(§63.2386(d)(1)(ix))\n(Select from dropdown)]]=\"\",\"\",VLOOKUP(Table25[[#This Row],[Affected CMS\n(§63.2386(d)(1)(ix))\n(Select from dropdown)]],Table22[],2,FALSE))","v":""}]
[null,{"$f":"IF(Table25[[#This Row],[Affected CMS\n(§63.2386(d)(1)(ix))\n(Select from dropdown)]]=\"\",\"\",VLOOKUP(Table25[[#This Row],[Affected CMS\n(§63.2386(d)(1)(ix))\n(Select from dropdown)]],Table22[],2,FALSE))","v":""}]
[null,{"$f":"IF(Table25[[#This Row],[Affected CMS\n(§63.2386(d)(1)(ix))\n(Select from dropdown)]]=\"\",\"\",VLOOKUP(Table25[[#This Row],[Affected CMS\n(§63.2386(d)(1)(ix))\n(Select from dropdown)]],Table22[],2,FALSE))","v":""}]
[null,{"$f":"IF(Table25[[#This Row],[Affected CMS\n(§63.2386(d)(1)(ix))\n(Select from dropdown)]]=\"\",\"\",VLOOKUP(Table25[[#This Row],[Affected CMS\n(§63.2386(d)(1)(ix))\n(Select from dropdown)]],Table22[],2,FALSE))","v":""}]
[null,{"$f":"IF(Table25[[#This Row],[Affected CMS\n(§63.2386(d)(1)(ix))\n(Select from dropdown)]]=\"\",\"\",VLOOKUP(Table25[[#This Row],[Affected CMS\n(§63.2386(d)(1)(ix))\n(Select from dropdown)]],Table22[],2,FALSE))","v":""}]
[null,{"$f":"IF(Table25[[#This Row],[Affected CMS\n(§63.2386(d)(1)(ix))\n(Select from dropdown)]]=\"\",\"\",VLOOKUP(Table25[[#This Row],[Affected CMS\n(§63.2386(d)(1)(ix))\n(Select from dropdown)]],Table22[],2,FALSE))","v":""}]
[null,{"$f":"IF(Table25[[#This Row],[Affected CMS\n(§63.2386(d)(1)(ix))\n(Select from dropdown)]]=\"\",\"\",VLOOKUP(Table25[[#This Row],[Affected CMS\n(§63.2386(d)(1)(ix))\n(Select from dropdown)]],Table22[],2,FALSE))","v":""}]
[null,{"$f":"IF(Table25[[#This Row],[Affected CMS\n(§63.2386(d)(1)(ix))\n(Select from dropdown)]]=\"\",\"\",VLOOKUP(Table25[[#This Row],[Affected CMS\n(§63.2386(d)(1)(ix))\n(Select from dropdown)]],Table22[],2,FALSE))","v":""}]
[null,{"$f":"IF(Table25[[#This Row],[Affected CMS\n(§63.2386(d)(1)(ix))\n(Select from dropdown)]]=\"\",\"\",VLOOKUP(Table25[[#This Row],[Affected CMS\n(§63.2386(d)(1)(ix))\n(Select from dropdown)]],Table22[],2,FALSE))","v":""}]
[null,{"$f":"IF(Table25[[#This Row],[Affected CMS\n(§63.2386(d)(1)(ix))\n(Select from dropdown)]]=\"\",\"\",VLOOKUP(Table25[[#This Row],[Affected CMS\n(§63.2386(d)(1)(ix))\n(Select from dropdown)]],Table22[],2,FALSE))","v":""}]
[null,{"$f":"IF(Table25[[#This Row],[Affected CMS\n(§63.2386(d)(1)(ix))\n(Select from dropdown)]]=\"\",\"\",VLOOKUP(Table25[[#This Row],[Affected CMS\n(§63.2386(d)(1)(ix))\n(Select from dropdown)]],Table22[],2,FALSE))","v":""}]
[null,{"$f":"IF(Table25[[#This Row],[Affected CMS\n(§63.2386(d)(1)(ix))\n(Select from dropdown)]]=\"\",\"\",VLOOKUP(Table25[[#This Row],[Affected CMS\n(§63.2386(d)(1)(ix))\n(Select from dropdown)]],Table22[],2,FALSE))","v":""}]
[null,{"$f":"IF(Table25[[#This Row],[Affected CMS\n(§63.2386(d)(1)(ix))\n(Select from dropdown)]]=\"\",\"\",VLOOKUP(Table25[[#This Row],[Affected CMS\n(§63.2386(d)(1)(ix))\n(Select from dropdown)]],Table22[],2,FALSE))","v":""}]
[null,{"$f":"IF(Table25[[#This Row],[Affected CMS\n(§63.2386(d)(1)(ix))\n(Select from dropdown)]]=\"\",\"\",VLOOKUP(Table25[[#This Row],[Affected CMS\n(§63.2386(d)(1)(ix))\n(Select from dropdown)]],Table22[],2,FALSE))","v":""}]
[null,{"$f":"IF(Table25[[#This Row],[Affected CMS\n(§63.2386(d)(1)(ix))\n(Select from dropdown)]]=\"\",\"\",VLOOKUP(Table25[[#This Row],[Affected CMS\n(§63.2386(d)(1)(ix))\n(Select from dropdown)]],Table22[],2,FALSE))","v":""}]
[null,{"$f":"IF(Table25[[#This Row],[Affected CMS\n(§63.2386(d)(1)(ix))\n(Select from dropdown)]]=\"\",\"\",VLOOKUP(Table25[[#This Row],[Affected CMS\n(§63.2386(d)(1)(ix))\n(Select from dropdown)]],Table22[],2,FALSE))","v":""}]
[null,{"$f":"IF(Table25[[#This Row],[Affected CMS\n(§63.2386(d)(1)(ix))\n(Select from dropdown)]]=\"\",\"\",VLOOKUP(Table25[[#This Row],[Affected CMS\n(§63.2386(d)(1)(ix))\n(Select from dropdown)]],Table22[],2,FALSE))","v":""}]
[null,{"$f":"IF(Table25[[#This Row],[Affected CMS\n(§63.2386(d)(1)(ix))\n(Select from dropdown)]]=\"\",\"\",VLOOKUP(Table25[[#This Row],[Affected CMS\n(§63.2386(d)(1)(ix))\n(Select from dropdown)]],Table22[],2,FALSE))","v":""}]
[null,{"$f":"IF(Table25[[#This Row],[Affected CMS\n(§63.2386(d)(1)(ix))\n(Select from dropdown)]]=\"\",\"\",VLOOKUP(Table25[[#This Row],[Affected CMS\n(§63.2386(d)(1)(ix))\n(Select from dropdown)]],Table22[],2,FALSE))","v":""}]
[null,{"$f":"IF(Table25[[#This Row],[Affected CMS\n(§63.2386(d)(1)(ix))\n(Select from dropdown)]]=\"\",\"\",VLOOKUP(Table25[[#This Row],[Affected CMS\n(§63.2386(d)(1)(ix))\n(Select from dropdown)]],Table22[],2,FALSE))","v":""}]
[null,{"$f":"IF(Table25[[#This Row],[Affected CMS\n(§63.2386(d)(1)(ix))\n(Select from dropdown)]]=\"\",\"\",VLOOKUP(Table25[[#This Row],[Affected CMS\n(§63.2386(d)(1)(ix))\n(Select from dropdown)]],Table22[],2,FALSE))","v":""}]
[null,{"$f":"IF(Table25[[#This Row],[Affected CMS\n(§63.2386(d)(1)(ix))\n(Select from dropdown)]]=\"\",\"\",VLOOKUP(Table25[[#This Row],[Affected CMS\n(§63.2386(d)(1)(ix))\n(Select from dropdown)]],Table22[],2,FALSE))","v":""}]
[null,{"$f":"IF(Table25[[#This Row],[Affected CMS\n(§63.2386(d)(1)(ix))\n(Select from dropdown)]]=\"\",\"\",VLOOKUP(Table25[[#This Row],[Affected CMS\n(§63.2386(d)(1)(ix))\n(Select from dropdown)]],Table22[],2,FALSE))","v":""}]
[null,{"$f":"IF(Table25[[#This Row],[Affected CMS\n(§63.2386(d)(1)(ix))\n(Select from dropdown)]]=\"\",\"\",VLOOKUP(Table25[[#This Row],[Affected CMS\n(§63.2386(d)(1)(ix))\n(Select from dropdown)]],Table22[],2,FALSE))","v":""}]
[null,{"$f":"IF(Table25[[#This Row],[Affected CMS\n(§63.2386(d)(1)(ix))\n(Select from dropdown)]]=\"\",\"\",VLOOKUP(Table25[[#This Row],[Affected CMS\n(§63.2386(d)(1)(ix))\n(Select from dropdown)]],Table22[],2,FALSE))","v":""}]
[null,{"$f":"IF(Table25[[#This Row],[Affected CMS\n(§63.2386(d)(1)(ix))\n(Select from dropdown)]]=\"\",\"\",VLOOKUP(Table25[[#This Row],[Affected CMS\n(§63.2386(d)(1)(ix))\n(Select from dropdown)]],Table22[],2,FALSE))","v":""}]
[null,{"$f":"IF(Table25[[#This Row],[Affected CMS\n(§63.2386(d)(1)(ix))\n(Select from dropdown)]]=\"\",\"\",VLOOKUP(Table25[[#This Row],[Affected CMS\n(§63.2386(d)(1)(ix))\n(Select from dropdown)]],Table22[],2,FALSE))","v":""}]
[null,{"$f":"IF(Table25[[#This Row],[Affected CMS\n(§63.2386(d)(1)(ix))\n(Select from dropdown)]]=\"\",\"\",VLOOKUP(Table25[[#This Row],[Affected CMS\n(§63.2386(d)(1)(ix))\n(Select from dropdown)]],Table22[],2,FALSE))","v":""}]
[null,{"$f":"IF(Table25[[#This Row],[Affected CMS\n(§63.2386(d)(1)(ix))\n(Select from dropdown)]]=\"\",\"\",VLOOKUP(Table25[[#This Row],[Affected CMS\n(§63.2386(d)(1)(ix))\n(Select from dropdown)]],Table22[],2,FALSE))","v":""}]
[null,{"$f":"IF(Table25[[#This Row],[Affected CMS\n(§63.2386(d)(1)(ix))\n(Select from dropdown)]]=\"\",\"\",VLOOKUP(Table25[[#This Row],[Affected CMS\n(§63.2386(d)(1)(ix))\n(Select from dropdown)]],Table22[],2,FALSE))","v":""}]
[null,{"$f":"IF(Table25[[#This Row],[Affected CMS\n(§63.2386(d)(1)(ix))\n(Select from dropdown)]]=\"\",\"\",VLOOKUP(Table25[[#This Row],[Affected CMS\n(§63.2386(d)(1)(ix))\n(Select from dropdown)]],Table22[],2,FALSE))","v":""}]
[null,{"$f":"IF(Table25[[#This Row],[Affected CMS\n(§63.2386(d)(1)(ix))\n(Select from dropdown)]]=\"\",\"\",VLOOKUP(Table25[[#This Row],[Affected CMS\n(§63.2386(d)(1)(ix))\n(Select from dropdown)]],Table22[],2,FALSE))","v":""}]
[null,{"$f":"IF(Table25[[#This Row],[Affected CMS\n(§63.2386(d)(1)(ix))\n(Select from dropdown)]]=\"\",\"\",VLOOKUP(Table25[[#This Row],[Affected CMS\n(§63.2386(d)(1)(ix))\n(Select from dropdown)]],Table22[],2,FALSE))","v":""}]
[null,{"$f":"IF(Table25[[#This Row],[Affected CMS\n(§63.2386(d)(1)(ix))\n(Select from dropdown)]]=\"\",\"\",VLOOKUP(Table25[[#This Row],[Affected CMS\n(§63.2386(d)(1)(ix))\n(Select from dropdown)]],Table22[],2,FALSE))","v":""}]
[null,{"$f":"IF(Table25[[#This Row],[Affected CMS\n(§63.2386(d)(1)(ix))\n(Select from dropdown)]]=\"\",\"\",VLOOKUP(Table25[[#This Row],[Affected CMS\n(§63.2386(d)(1)(ix))\n(Select from dropdown)]],Table22[],2,FALSE))","v":""}]
[null,{"$f":"IF(Table25[[#This Row],[Affected CMS\n(§63.2386(d)(1)(ix))\n(Select from dropdown)]]=\"\",\"\",VLOOKUP(Table25[[#This Row],[Affected CMS\n(§63.2386(d)(1)(ix))\n(Select from dropdown)]],Table22[],2,FALSE))","v":""}]
[null,{"$f":"IF(Table25[[#This Row],[Affected CMS\n(§63.2386(d)(1)(ix))\n(Select from dropdown)]]=\"\",\"\",VLOOKUP(Table25[[#This Row],[Affected CMS\n(§63.2386(d)(1)(ix))\n(Select from dropdown)]],Table22[],2,FALSE))","v":""}]
[null,{"$f":"IF(Table25[[#This Row],[Affected CMS\n(§63.2386(d)(1)(ix))\n(Select from dropdown)]]=\"\",\"\",VLOOKUP(Table25[[#This Row],[Affected CMS\n(§63.2386(d)(1)(ix))\n(Select from dropdown)]],Table22[],2,FALSE))","v":""}]
[null,{"$f":"IF(Table25[[#This Row],[Affected CMS\n(§63.2386(d)(1)(ix))\n(Select from dropdown)]]=\"\",\"\",VLOOKUP(Table25[[#This Row],[Affected CMS\n(§63.2386(d)(1)(ix))\n(Select from dropdown)]],Table22[],2,FALSE))","v":""}]
[null,{"$f":"IF(Table25[[#This Row],[Affected CMS\n(§63.2386(d)(1)(ix))\n(Select from dropdown)]]=\"\",\"\",VLOOKUP(Table25[[#This Row],[Affected CMS\n(§63.2386(d)(1)(ix))\n(Select from dropdown)]],Table22[],2,FALSE))","v":""}]
[null,{"$f":"IF(Table25[[#This Row],[Affected CMS\n(§63.2386(d)(1)(ix))\n(Select from dropdown)]]=\"\",\"\",VLOOKUP(Table25[[#This Row],[Affected CMS\n(§63.2386(d)(1)(ix))\n(Select from dropdown)]],Table22[],2,FALSE))","v":""}]
[null,{"$f":"IF(Table25[[#This Row],[Affected CMS\n(§63.2386(d)(1)(ix))\n(Select from dropdown)]]=\"\",\"\",VLOOKUP(Table25[[#This Row],[Affected CMS\n(§63.2386(d)(1)(ix))\n(Select from dropdown)]],Table22[],2,FALSE))","v":""}]
[null,{"$f":"IF(Table25[[#This Row],[Affected CMS\n(§63.2386(d)(1)(ix))\n(Select from dropdown)]]=\"\",\"\",VLOOKUP(Table25[[#This Row],[Affected CMS\n(§63.2386(d)(1)(ix))\n(Select from dropdown)]],Table22[],2,FALSE))","v":""}]
[null,{"$f":"IF(Table25[[#This Row],[Affected CMS\n(§63.2386(d)(1)(ix))\n(Select from dropdown)]]=\"\",\"\",VLOOKUP(Table25[[#This Row],[Affected CMS\n(§63.2386(d)(1)(ix))\n(Select from dropdown)]],Table22[],2,FALSE))","v":""}]
[null,{"$f":"IF(Table25[[#This Row],[Affected CMS\n(§63.2386(d)(1)(ix))\n(Select from dropdown)]]=\"\",\"\",VLOOKUP(Table25[[#This Row],[Affected CMS\n(§63.2386(d)(1)(ix))\n(Select from dropdown)]],Table22[],2,FALSE))","v":""}]
[null,{"$f":"IF(Table25[[#This Row],[Affected CMS\n(§63.2386(d)(1)(ix))\n(Select from dropdown)]]=\"\",\"\",VLOOKUP(Table25[[#This Row],[Affected CMS\n(§63.2386(d)(1)(ix))\n(Select from dropdown)]],Table22[],2,FALSE))","v":""}]
[null,{"$f":"IF(Table25[[#This Row],[Affected CMS\n(§63.2386(d)(1)(ix))\n(Select from dropdown)]]=\"\",\"\",VLOOKUP(Table25[[#This Row],[Affected CMS\n(§63.2386(d)(1)(ix))\n(Select from dropdown)]],Table22[],2,FALSE))","v":""}]
[null,{"$f":"IF(Table25[[#This Row],[Affected CMS\n(§63.2386(d)(1)(ix))\n(Select from dropdown)]]=\"\",\"\",VLOOKUP(Table25[[#This Row],[Affected CMS\n(§63.2386(d)(1)(ix))\n(Select from dropdown)]],Table22[],2,FALSE))","v":""}]
[null,{"$f":"IF(Table25[[#This Row],[Affected CMS\n(§63.2386(d)(1)(ix))\n(Select from dropdown)]]=\"\",\"\",VLOOKUP(Table25[[#This Row],[Affected CMS\n(§63.2386(d)(1)(ix))\n(Select from dropdown)]],Table22[],2,FALSE))","v":""}]
[null,{"$f":"IF(Table25[[#This Row],[Affected CMS\n(§63.2386(d)(1)(ix))\n(Select from dropdown)]]=\"\",\"\",VLOOKUP(Table25[[#This Row],[Affected CMS\n(§63.2386(d)(1)(ix))\n(Select from dropdown)]],Table22[],2,FALSE))","v":""}]
[null,{"$f":"IF(Table25[[#This Row],[Affected CMS\n(§63.2386(d)(1)(ix))\n(Select from dropdown)]]=\"\",\"\",VLOOKUP(Table25[[#This Row],[Affected CMS\n(§63.2386(d)(1)(ix))\n(Select from dropdown)]],Table22[],2,FALSE))","v":""}]
[null,{"$f":"IF(Table25[[#This Row],[Affected CMS\n(§63.2386(d)(1)(ix))\n(Select from dropdown)]]=\"\",\"\",VLOOKUP(Table25[[#This Row],[Affected CMS\n(§63.2386(d)(1)(ix))\n(Select from dropdown)]],Table22[],2,FALSE))","v":""}]
[null,{"$f":"IF(Table25[[#This Row],[Affected CMS\n(§63.2386(d)(1)(ix))\n(Select from dropdown)]]=\"\",\"\",VLOOKUP(Table25[[#This Row],[Affected CMS\n(§63.2386(d)(1)(ix))\n(Select from dropdown)]],Table22[],2,FALSE))","v":""}]
[null,{"$f":"IF(Table25[[#This Row],[Affected CMS\n(§63.2386(d)(1)(ix))\n(Select from dropdown)]]=\"\",\"\",VLOOKUP(Table25[[#This Row],[Affected CMS\n(§63.2386(d)(1)(ix))\n(Select from dropdown)]],Table22[],2,FALSE))","v":""}]
[null,{"$f":"IF(Table25[[#This Row],[Affected CMS\n(§63.2386(d)(1)(ix))\n(Select from dropdown)]]=\"\",\"\",VLOOKUP(Table25[[#This Row],[Affected CMS\n(§63.2386(d)(1)(ix))\n(Select from dropdown)]],Table22[],2,FALSE))","v":""}]
[null,{"$f":"IF(Table25[[#This Row],[Affected CMS\n(§63.2386(d)(1)(ix))\n(Select from dropdown)]]=\"\",\"\",VLOOKUP(Table25[[#This Row],[Affected CMS\n(§63.2386(d)(1)(ix))\n(Select from dropdown)]],Table22[],2,FALSE))","v":""}]
[null,{"$f":"IF(Table25[[#This Row],[Affected CMS\n(§63.2386(d)(1)(ix))\n(Select from dropdown)]]=\"\",\"\",VLOOKUP(Table25[[#This Row],[Affected CMS\n(§63.2386(d)(1)(ix))\n(Select from dropdown)]],Table22[],2,FALSE))","v":""}]
[null,{"$f":"IF(Table25[[#This Row],[Affected CMS\n(§63.2386(d)(1)(ix))\n(Select from dropdown)]]=\"\",\"\",VLOOKUP(Table25[[#This Row],[Affected CMS\n(§63.2386(d)(1)(ix))\n(Select from dropdown)]],Table22[],2,FALSE))","v":""}]
[null,{"$f":"IF(Table25[[#This Row],[Affected CMS\n(§63.2386(d)(1)(ix))\n(Select from dropdown)]]=\"\",\"\",VLOOKUP(Table25[[#This Row],[Affected CMS\n(§63.2386(d)(1)(ix))\n(Select from dropdown)]],Table22[],2,FALSE))","v":""}]
[null,{"$f":"IF(Table25[[#This Row],[Affected CMS\n(§63.2386(d)(1)(ix))\n(Select from dropdown)]]=\"\",\"\",VLOOKUP(Table25[[#This Row],[Affected CMS\n(§63.2386(d)(1)(ix))\n(Select from dropdown)]],Table22[],2,FALSE))","v":""}]
[null,{"$f":"IF(Table25[[#This Row],[Affected CMS\n(§63.2386(d)(1)(ix))\n(Select from dropdown)]]=\"\",\"\",VLOOKUP(Table25[[#This Row],[Affected CMS\n(§63.2386(d)(1)(ix))\n(Select from dropdown)]],Table22[],2,FALSE))","v":""}]
[null,{"$f":"IF(Table25[[#This Row],[Affected CMS\n(§63.2386(d)(1)(ix))\n(Select from dropdown)]]=\"\",\"\",VLOOKUP(Table25[[#This Row],[Affected CMS\n(§63.2386(d)(1)(ix))\n(Select from dropdown)]],Table22[],2,FALSE))","v":""}]
[null,{"$f":"IF(Table25[[#This Row],[Affected CMS\n(§63.2386(d)(1)(ix))\n(Select from dropdown)]]=\"\",\"\",VLOOKUP(Table25[[#This Row],[Affected CMS\n(§63.2386(d)(1)(ix))\n(Select from dropdown)]],Table22[],2,FALSE))","v":""}]
[null,{"$f":"IF(Table25[[#This Row],[Affected CMS\n(§63.2386(d)(1)(ix))\n(Select from dropdown)]]=\"\",\"\",VLOOKUP(Table25[[#This Row],[Affected CMS\n(§63.2386(d)(1)(ix))\n(Select from dropdown)]],Table22[],2,FALSE))","v":""}]
[null,{"$f":"IF(Table25[[#This Row],[Affected CMS\n(§63.2386(d)(1)(ix))\n(Select from dropdown)]]=\"\",\"\",VLOOKUP(Table25[[#This Row],[Affected CMS\n(§63.2386(d)(1)(ix))\n(Select from dropdown)]],Table22[],2,FALSE))","v":""}]
[null,{"$f":"IF(Table25[[#This Row],[Affected CMS\n(§63.2386(d)(1)(ix))\n(Select from dropdown)]]=\"\",\"\",VLOOKUP(Table25[[#This Row],[Affected CMS\n(§63.2386(d)(1)(ix))\n(Select from dropdown)]],Table22[],2,FALSE))","v":""}]
[null,{"$f":"IF(Table25[[#This Row],[Affected CMS\n(§63.2386(d)(1)(ix))\n(Select from dropdown)]]=\"\",\"\",VLOOKUP(Table25[[#This Row],[Affected CMS\n(§63.2386(d)(1)(ix))\n(Select from dropdown)]],Table22[],2,FALSE))","v":""}]
[null,{"$f":"IF(Table25[[#This Row],[Affected CMS\n(§63.2386(d)(1)(ix))\n(Select from dropdown)]]=\"\",\"\",VLOOKUP(Table25[[#This Row],[Affected CMS\n(§63.2386(d)(1)(ix))\n(Select from dropdown)]],Table22[],2,FALSE))","v":""}]
[null,{"$f":"IF(Table25[[#This Row],[Affected CMS\n(§63.2386(d)(1)(ix))\n(Select from dropdown)]]=\"\",\"\",VLOOKUP(Table25[[#This Row],[Affected CMS\n(§63.2386(d)(1)(ix))\n(Select from dropdown)]],Table22[],2,FALSE))","v":""}]
[null,{"$f":"IF(Table25[[#This Row],[Affected CMS\n(§63.2386(d)(1)(ix))\n(Select from dropdown)]]=\"\",\"\",VLOOKUP(Table25[[#This Row],[Affected CMS\n(§63.2386(d)(1)(ix))\n(Select from dropdown)]],Table22[],2,FALSE))","v":""}]
[null,{"$f":"IF(Table25[[#This Row],[Affected CMS\n(§63.2386(d)(1)(ix))\n(Select from dropdown)]]=\"\",\"\",VLOOKUP(Table25[[#This Row],[Affected CMS\n(§63.2386(d)(1)(ix))\n(Select from dropdown)]],Table22[],2,FALSE))","v":""}]
[null,{"$f":"IF(Table25[[#This Row],[Affected CMS\n(§63.2386(d)(1)(ix))\n(Select from dropdown)]]=\"\",\"\",VLOOKUP(Table25[[#This Row],[Affected CMS\n(§63.2386(d)(1)(ix))\n(Select from dropdown)]],Table22[],2,FALSE))","v":""}]
[null,{"$f":"IF(Table25[[#This Row],[Affected CMS\n(§63.2386(d)(1)(ix))\n(Select from dropdown)]]=\"\",\"\",VLOOKUP(Table25[[#This Row],[Affected CMS\n(§63.2386(d)(1)(ix))\n(Select from dropdown)]],Table22[],2,FALSE))","v":""}]
[null,{"$f":"IF(Table25[[#This Row],[Affected CMS\n(§63.2386(d)(1)(ix))\n(Select from dropdown)]]=\"\",\"\",VLOOKUP(Table25[[#This Row],[Affected CMS\n(§63.2386(d)(1)(ix))\n(Select from dropdown)]],Table22[],2,FALSE))","v":""}]
[null,{"$f":"IF(Table25[[#This Row],[Affected CMS\n(§63.2386(d)(1)(ix))\n(Select from dropdown)]]=\"\",\"\",VLOOKUP(Table25[[#This Row],[Affected CMS\n(§63.2386(d)(1)(ix))\n(Select from dropdown)]],Table22[],2,FALSE))","v":""}]
[null,{"$f":"IF(Table25[[#This Row],[Affected CMS\n(§63.2386(d)(1)(ix))\n(Select from dropdown)]]=\"\",\"\",VLOOKUP(Table25[[#This Row],[Affected CMS\n(§63.2386(d)(1)(ix))\n(Select from dropdown)]],Table22[],2,FALSE))","v":""}]
[null,{"$f":"IF(Table25[[#This Row],[Affected CMS\n(§63.2386(d)(1)(ix))\n(Select from dropdown)]]=\"\",\"\",VLOOKUP(Table25[[#This Row],[Affected CMS\n(§63.2386(d)(1)(ix))\n(Select from dropdown)]],Table22[],2,FALSE))","v":""}]
[null,{"$f":"IF(Table25[[#This Row],[Affected CMS\n(§63.2386(d)(1)(ix))\n(Select from dropdown)]]=\"\",\"\",VLOOKUP(Table25[[#This Row],[Affected CMS\n(§63.2386(d)(1)(ix))\n(Select from dropdown)]],Table22[],2,FALSE))","v":""}]
[null,{"$f":"IF(Table25[[#This Row],[Affected CMS\n(§63.2386(d)(1)(ix))\n(Select from dropdown)]]=\"\",\"\",VLOOKUP(Table25[[#This Row],[Affected CMS\n(§63.2386(d)(1)(ix))\n(Select from dropdown)]],Table22[],2,FALSE))","v":""}]
[null,{"$f":"IF(Table25[[#This Row],[Affected CMS\n(§63.2386(d)(1)(ix))\n(Select from dropdown)]]=\"\",\"\",VLOOKUP(Table25[[#This Row],[Affected CMS\n(§63.2386(d)(1)(ix))\n(Select from dropdown)]],Table22[],2,FALSE))","v":""}]
[null,{"$f":"IF(Table25[[#This Row],[Affected CMS\n(§63.2386(d)(1)(ix))\n(Select from dropdown)]]=\"\",\"\",VLOOKUP(Table25[[#This Row],[Affected CMS\n(§63.2386(d)(1)(ix))\n(Select from dropdown)]],Table22[],2,FALSE))","v":""}]
[null,{"$f":"IF(Table25[[#This Row],[Affected CMS\n(§63.2386(d)(1)(ix))\n(Select from dropdown)]]=\"\",\"\",VLOOKUP(Table25[[#This Row],[Affected CMS\n(§63.2386(d)(1)(ix))\n(Select from dropdown)]],Table22[],2,FALSE))","v":""}]
[null,{"$f":"IF(Table25[[#This Row],[Affected CMS\n(§63.2386(d)(1)(ix))\n(Select from dropdown)]]=\"\",\"\",VLOOKUP(Table25[[#This Row],[Affected CMS\n(§63.2386(d)(1)(ix))\n(Select from dropdown)]],Table22[],2,FALSE))","v":""}]
[null,{"$f":"IF(Table25[[#This Row],[Affected CMS\n(§63.2386(d)(1)(ix))\n(Select from dropdown)]]=\"\",\"\",VLOOKUP(Table25[[#This Row],[Affected CMS\n(§63.2386(d)(1)(ix))\n(Select from dropdown)]],Table22[],2,FALSE))","v":""}]
[null,{"$f":"IF(Table25[[#This Row],[Affected CMS\n(§63.2386(d)(1)(ix))\n(Select from dropdown)]]=\"\",\"\",VLOOKUP(Table25[[#This Row],[Affected CMS\n(§63.2386(d)(1)(ix))\n(Select from dropdown)]],Table22[],2,FALSE))","v":""}]
[null,{"$f":"IF(Table25[[#This Row],[Affected CMS\n(§63.2386(d)(1)(ix))\n(Select from dropdown)]]=\"\",\"\",VLOOKUP(Table25[[#This Row],[Affected CMS\n(§63.2386(d)(1)(ix))\n(Select from dropdown)]],Table22[],2,FALSE))","v":""}]
[null,{"$f":"IF(Table25[[#This Row],[Affected CMS\n(§63.2386(d)(1)(ix))\n(Select from dropdown)]]=\"\",\"\",VLOOKUP(Table25[[#This Row],[Affected CMS\n(§63.2386(d)(1)(ix))\n(Select from dropdown)]],Table22[],2,FALSE))","v":""}]
[null,{"$f":"IF(Table25[[#This Row],[Affected CMS\n(§63.2386(d)(1)(ix))\n(Select from dropdown)]]=\"\",\"\",VLOOKUP(Table25[[#This Row],[Affected CMS\n(§63.2386(d)(1)(ix))\n(Select from dropdown)]],Table22[],2,FALSE))","v":""}]
[null,{"$f":"IF(Table25[[#This Row],[Affected CMS\n(§63.2386(d)(1)(ix))\n(Select from dropdown)]]=\"\",\"\",VLOOKUP(Table25[[#This Row],[Affected CMS\n(§63.2386(d)(1)(ix))\n(Select from dropdown)]],Table22[],2,FALSE))","v":""}]
[null,{"$f":"IF(Table25[[#This Row],[Affected CMS\n(§63.2386(d)(1)(ix))\n(Select from dropdown)]]=\"\",\"\",VLOOKUP(Table25[[#This Row],[Affected CMS\n(§63.2386(d)(1)(ix))\n(Select from dropdown)]],Table22[],2,FALSE))","v":""}]
[null,{"$f":"IF(Table25[[#This Row],[Affected CMS\n(§63.2386(d)(1)(ix))\n(Select from dropdown)]]=\"\",\"\",VLOOKUP(Table25[[#This Row],[Affected CMS\n(§63.2386(d)(1)(ix))\n(Select from dropdown)]],Table22[],2,FALSE))","v":""}]
[null,{"$f":"IF(Table25[[#This Row],[Affected CMS\n(§63.2386(d)(1)(ix))\n(Select from dropdown)]]=\"\",\"\",VLOOKUP(Table25[[#This Row],[Affected CMS\n(§63.2386(d)(1)(ix))\n(Select from dropdown)]],Table22[],2,FALSE))","v":""}]
[null,{"$f":"IF(Table25[[#This Row],[Affected CMS\n(§63.2386(d)(1)(ix))\n(Select from dropdown)]]=\"\",\"\",VLOOKUP(Table25[[#This Row],[Affected CMS\n(§63.2386(d)(1)(ix))\n(Select from dropdown)]],Table22[],2,FALSE))","v":""}]
[null,{"$f":"IF(Table25[[#This Row],[Affected CMS\n(§63.2386(d)(1)(ix))\n(Select from dropdown)]]=\"\",\"\",VLOOKUP(Table25[[#This Row],[Affected CMS\n(§63.2386(d)(1)(ix))\n(Select from dropdown)]],Table22[],2,FALSE))","v":""}]
[null,{"$f":"IF(Table25[[#This Row],[Affected CMS\n(§63.2386(d)(1)(ix))\n(Select from dropdown)]]=\"\",\"\",VLOOKUP(Table25[[#This Row],[Affected CMS\n(§63.2386(d)(1)(ix))\n(Select from dropdown)]],Table22[],2,FALSE))","v":""}]
[null,{"$f":"IF(Table25[[#This Row],[Affected CMS\n(§63.2386(d)(1)(ix))\n(Select from dropdown)]]=\"\",\"\",VLOOKUP(Table25[[#This Row],[Affected CMS\n(§63.2386(d)(1)(ix))\n(Select from dropdown)]],Table22[],2,FALSE))","v":""}]
[null,{"$f":"IF(Table25[[#This Row],[Affected CMS\n(§63.2386(d)(1)(ix))\n(Select from dropdown)]]=\"\",\"\",VLOOKUP(Table25[[#This Row],[Affected CMS\n(§63.2386(d)(1)(ix))\n(Select from dropdown)]],Table22[],2,FALSE))","v":""}]
[null,{"$f":"IF(Table25[[#This Row],[Affected CMS\n(§63.2386(d)(1)(ix))\n(Select from dropdown)]]=\"\",\"\",VLOOKUP(Table25[[#This Row],[Affected CMS\n(§63.2386(d)(1)(ix))\n(Select from dropdown)]],Table22[],2,FALSE))","v":""}]
[null,{"$f":"IF(Table25[[#This Row],[Affected CMS\n(§63.2386(d)(1)(ix))\n(Select from dropdown)]]=\"\",\"\",VLOOKUP(Table25[[#This Row],[Affected CMS\n(§63.2386(d)(1)(ix))\n(Select from dropdown)]],Table22[],2,FALSE))","v":""}]
[null,{"$f":"IF(Table25[[#This Row],[Affected CMS\n(§63.2386(d)(1)(ix))\n(Select from dropdown)]]=\"\",\"\",VLOOKUP(Table25[[#This Row],[Affected CMS\n(§63.2386(d)(1)(ix))\n(Select from dropdown)]],Table22[],2,FALSE))","v":""}]
[null,{"$f":"IF(Table25[[#This Row],[Affected CMS\n(§63.2386(d)(1)(ix))\n(Select from dropdown)]]=\"\",\"\",VLOOKUP(Table25[[#This Row],[Affected CMS\n(§63.2386(d)(1)(ix))\n(Select from dropdown)]],Table22[],2,FALSE))","v":""}]
[null,{"$f":"IF(Table25[[#This Row],[Affected CMS\n(§63.2386(d)(1)(ix))\n(Select from dropdown)]]=\"\",\"\",VLOOKUP(Table25[[#This Row],[Affected CMS\n(§63.2386(d)(1)(ix))\n(Select from dropdown)]],Table22[],2,FALSE))","v":""}]
[null,{"$f":"IF(Table25[[#This Row],[Affected CMS\n(§63.2386(d)(1)(ix))\n(Select from dropdown)]]=\"\",\"\",VLOOKUP(Table25[[#This Row],[Affected CMS\n(§63.2386(d)(1)(ix))\n(Select from dropdown)]],Table22[],2,FALSE))","v":""}]
[null,{"$f":"IF(Table25[[#This Row],[Affected CMS\n(§63.2386(d)(1)(ix))\n(Select from dropdown)]]=\"\",\"\",VLOOKUP(Table25[[#This Row],[Affected CMS\n(§63.2386(d)(1)(ix))\n(Select from dropdown)]],Table22[],2,FALSE))","v":""}]
[null,{"$f":"IF(Table25[[#This Row],[Affected CMS\n(§63.2386(d)(1)(ix))\n(Select from dropdown)]]=\"\",\"\",VLOOKUP(Table25[[#This Row],[Affected CMS\n(§63.2386(d)(1)(ix))\n(Select from dropdown)]],Table22[],2,FALSE))","v":""}]
[null,{"$f":"IF(Table25[[#This Row],[Affected CMS\n(§63.2386(d)(1)(ix))\n(Select from dropdown)]]=\"\",\"\",VLOOKUP(Table25[[#This Row],[Affected CMS\n(§63.2386(d)(1)(ix))\n(Select from dropdown)]],Table22[],2,FALSE))","v":""}]
[null,{"$f":"IF(Table25[[#This Row],[Affected CMS\n(§63.2386(d)(1)(ix))\n(Select from dropdown)]]=\"\",\"\",VLOOKUP(Table25[[#This Row],[Affected CMS\n(§63.2386(d)(1)(ix))\n(Select from dropdown)]],Table22[],2,FALSE))","v":""}]
[null,{"$f":"IF(Table25[[#This Row],[Affected CMS\n(§63.2386(d)(1)(ix))\n(Select from dropdown)]]=\"\",\"\",VLOOKUP(Table25[[#This Row],[Affected CMS\n(§63.2386(d)(1)(ix))\n(Select from dropdown)]],Table22[],2,FALSE))","v":""}]
[null,{"$f":"IF(Table25[[#This Row],[Affected CMS\n(§63.2386(d)(1)(ix))\n(Select from dropdown)]]=\"\",\"\",VLOOKUP(Table25[[#This Row],[Affected CMS\n(§63.2386(d)(1)(ix))\n(Select from dropdown)]],Table22[],2,FALSE))","v":""}]
[null,{"$f":"IF(Table25[[#This Row],[Affected CMS\n(§63.2386(d)(1)(ix))\n(Select from dropdown)]]=\"\",\"\",VLOOKUP(Table25[[#This Row],[Affected CMS\n(§63.2386(d)(1)(ix))\n(Select from dropdown)]],Table22[],2,FALSE))","v":""}]
[null,{"$f":"IF(Table25[[#This Row],[Affected CMS\n(§63.2386(d)(1)(ix))\n(Select from dropdown)]]=\"\",\"\",VLOOKUP(Table25[[#This Row],[Affected CMS\n(§63.2386(d)(1)(ix))\n(Select from dropdown)]],Table22[],2,FALSE))","v":""}]
[null,{"$f":"IF(Table25[[#This Row],[Affected CMS\n(§63.2386(d)(1)(ix))\n(Select from dropdown)]]=\"\",\"\",VLOOKUP(Table25[[#This Row],[Affected CMS\n(§63.2386(d)(1)(ix))\n(Select from dropdown)]],Table22[],2,FALSE))","v":""}]
[null,{"$f":"IF(Table25[[#This Row],[Affected CMS\n(§63.2386(d)(1)(ix))\n(Select from dropdown)]]=\"\",\"\",VLOOKUP(Table25[[#This Row],[Affected CMS\n(§63.2386(d)(1)(ix))\n(Select from dropdown)]],Table22[],2,FALSE))","v":""}]
[null,{"$f":"IF(Table25[[#This Row],[Affected CMS\n(§63.2386(d)(1)(ix))\n(Select from dropdown)]]=\"\",\"\",VLOOKUP(Table25[[#This Row],[Affected CMS\n(§63.2386(d)(1)(ix))\n(Select from dropdown)]],Table22[],2,FALSE))","v":""}]
[null,{"$f":"IF(Table25[[#This Row],[Affected CMS\n(§63.2386(d)(1)(ix))\n(Select from dropdown)]]=\"\",\"\",VLOOKUP(Table25[[#This Row],[Affected CMS\n(§63.2386(d)(1)(ix))\n(Select from dropdown)]],Table22[],2,FALSE))","v":""}]
[null,{"$f":"IF(Table25[[#This Row],[Affected CMS\n(§63.2386(d)(1)(ix))\n(Select from dropdown)]]=\"\",\"\",VLOOKUP(Table25[[#This Row],[Affected CMS\n(§63.2386(d)(1)(ix))\n(Select from dropdown)]],Table22[],2,FALSE))","v":""}]
[null,{"$f":"IF(Table25[[#This Row],[Affected CMS\n(§63.2386(d)(1)(ix))\n(Select from dropdown)]]=\"\",\"\",VLOOKUP(Table25[[#This Row],[Affected CMS\n(§63.2386(d)(1)(ix))\n(Select from dropdown)]],Table22[],2,FALSE))","v":""}]
[null,{"$f":"IF(Table25[[#This Row],[Affected CMS\n(§63.2386(d)(1)(ix))\n(Select from dropdown)]]=\"\",\"\",VLOOKUP(Table25[[#This Row],[Affected CMS\n(§63.2386(d)(1)(ix))\n(Select from dropdown)]],Table22[],2,FALSE))","v":""}]
[null,{"$f":"IF(Table25[[#This Row],[Affected CMS\n(§63.2386(d)(1)(ix))\n(Select from dropdown)]]=\"\",\"\",VLOOKUP(Table25[[#This Row],[Affected CMS\n(§63.2386(d)(1)(ix))\n(Select from dropdown)]],Table22[],2,FALSE))","v":""}]
[null,{"$f":"IF(Table25[[#This Row],[Affected CMS\n(§63.2386(d)(1)(ix))\n(Select from dropdown)]]=\"\",\"\",VLOOKUP(Table25[[#This Row],[Affected CMS\n(§63.2386(d)(1)(ix))\n(Select from dropdown)]],Table22[],2,FALSE))","v":""}]
[null,{"$f":"IF(Table25[[#This Row],[Affected CMS\n(§63.2386(d)(1)(ix))\n(Select from dropdown)]]=\"\",\"\",VLOOKUP(Table25[[#This Row],[Affected CMS\n(§63.2386(d)(1)(ix))\n(Select from dropdown)]],Table22[],2,FALSE))","v":""}]
[null,{"$f":"IF(Table25[[#This Row],[Affected CMS\n(§63.2386(d)(1)(ix))\n(Select from dropdown)]]=\"\",\"\",VLOOKUP(Table25[[#This Row],[Affected CMS\n(§63.2386(d)(1)(ix))\n(Select from dropdown)]],Table22[],2,FALSE))","v":""}]
[null,{"$f":"IF(Table25[[#This Row],[Affected CMS\n(§63.2386(d)(1)(ix))\n(Select from dropdown)]]=\"\",\"\",VLOOKUP(Table25[[#This Row],[Affected CMS\n(§63.2386(d)(1)(ix))\n(Select from dropdown)]],Table22[],2,FALSE))","v":""}]
[null,{"$f":"IF(Table25[[#This Row],[Affected CMS\n(§63.2386(d)(1)(ix))\n(Select from dropdown)]]=\"\",\"\",VLOOKUP(Table25[[#This Row],[Affected CMS\n(§63.2386(d)(1)(ix))\n(Select from dropdown)]],Table22[],2,FALSE))","v":""}]
[null,{"$f":"IF(Table25[[#This Row],[Affected CMS\n(§63.2386(d)(1)(ix))\n(Select from dropdown)]]=\"\",\"\",VLOOKUP(Table25[[#This Row],[Affected CMS\n(§63.2386(d)(1)(ix))\n(Select from dropdown)]],Table22[],2,FALSE))","v":""}]
[null,{"$f":"IF(Table25[[#This Row],[Affected CMS\n(§63.2386(d)(1)(ix))\n(Select from dropdown)]]=\"\",\"\",VLOOKUP(Table25[[#This Row],[Affected CMS\n(§63.2386(d)(1)(ix))\n(Select from dropdown)]],Table22[],2,FALSE))","v":""}]
[null,{"$f":"IF(Table25[[#This Row],[Affected CMS\n(§63.2386(d)(1)(ix))\n(Select from dropdown)]]=\"\",\"\",VLOOKUP(Table25[[#This Row],[Affected CMS\n(§63.2386(d)(1)(ix))\n(Select from dropdown)]],Table22[],2,FALSE))","v":""}]
[null,{"$f":"IF(Table25[[#This Row],[Affected CMS\n(§63.2386(d)(1)(ix))\n(Select from dropdown)]]=\"\",\"\",VLOOKUP(Table25[[#This Row],[Affected CMS\n(§63.2386(d)(1)(ix))\n(Select from dropdown)]],Table22[],2,FALSE))","v":""}]
[null,{"$f":"IF(Table25[[#This Row],[Affected CMS\n(§63.2386(d)(1)(ix))\n(Select from dropdown)]]=\"\",\"\",VLOOKUP(Table25[[#This Row],[Affected CMS\n(§63.2386(d)(1)(ix))\n(Select from dropdown)]],Table22[],2,FALSE))","v":""}]
[null,{"$f":"IF(Table25[[#This Row],[Affected CMS\n(§63.2386(d)(1)(ix))\n(Select from dropdown)]]=\"\",\"\",VLOOKUP(Table25[[#This Row],[Affected CMS\n(§63.2386(d)(1)(ix))\n(Select from dropdown)]],Table22[],2,FALSE))","v":""}]
[null,{"$f":"IF(Table25[[#This Row],[Affected CMS\n(§63.2386(d)(1)(ix))\n(Select from dropdown)]]=\"\",\"\",VLOOKUP(Table25[[#This Row],[Affected CMS\n(§63.2386(d)(1)(ix))\n(Select from dropdown)]],Table22[],2,FALSE))","v":""}]
[null,{"$f":"IF(Table25[[#This Row],[Affected CMS\n(§63.2386(d)(1)(ix))\n(Select from dropdown)]]=\"\",\"\",VLOOKUP(Table25[[#This Row],[Affected CMS\n(§63.2386(d)(1)(ix))\n(Select from dropdown)]],Table22[],2,FALSE))","v":""}]
[null,{"$f":"IF(Table25[[#This Row],[Affected CMS\n(§63.2386(d)(1)(ix))\n(Select from dropdown)]]=\"\",\"\",VLOOKUP(Table25[[#This Row],[Affected CMS\n(§63.2386(d)(1)(ix))\n(Select from dropdown)]],Table22[],2,FALSE))","v":""}]
[null,{"$f":"IF(Table25[[#This Row],[Affected CMS\n(§63.2386(d)(1)(ix))\n(Select from dropdown)]]=\"\",\"\",VLOOKUP(Table25[[#This Row],[Affected CMS\n(§63.2386(d)(1)(ix))\n(Select from dropdown)]],Table22[],2,FALSE))","v":""}]
[null,{"$f":"IF(Table25[[#This Row],[Affected CMS\n(§63.2386(d)(1)(ix))\n(Select from dropdown)]]=\"\",\"\",VLOOKUP(Table25[[#This Row],[Affected CMS\n(§63.2386(d)(1)(ix))\n(Select from dropdown)]],Table22[],2,FALSE))","v":""}]
[null,{"$f":"IF(Table25[[#This Row],[Affected CMS\n(§63.2386(d)(1)(ix))\n(Select from dropdown)]]=\"\",\"\",VLOOKUP(Table25[[#This Row],[Affected CMS\n(§63.2386(d)(1)(ix))\n(Select from dropdown)]],Table22[],2,FALSE))","v":""}]
[null,{"$f":"IF(Table25[[#This Row],[Affected CMS\n(§63.2386(d)(1)(ix))\n(Select from dropdown)]]=\"\",\"\",VLOOKUP(Table25[[#This Row],[Affected CMS\n(§63.2386(d)(1)(ix))\n(Select from dropdown)]],Table22[],2,FALSE))","v":""}]
[null,{"$f":"IF(Table25[[#This Row],[Affected CMS\n(§63.2386(d)(1)(ix))\n(Select from dropdown)]]=\"\",\"\",VLOOKUP(Table25[[#This Row],[Affected CMS\n(§63.2386(d)(1)(ix))\n(Select from dropdown)]],Table22[],2,FALSE))","v":""}]
[null,{"$f":"IF(Table25[[#This Row],[Affected CMS\n(§63.2386(d)(1)(ix))\n(Select from dropdown)]]=\"\",\"\",VLOOKUP(Table25[[#This Row],[Affected CMS\n(§63.2386(d)(1)(ix))\n(Select from dropdown)]],Table22[],2,FALSE))","v":""}]
[null,{"$f":"IF(Table25[[#This Row],[Affected CMS\n(§63.2386(d)(1)(ix))\n(Select from dropdown)]]=\"\",\"\",VLOOKUP(Table25[[#This Row],[Affected CMS\n(§63.2386(d)(1)(ix))\n(Select from dropdown)]],Table22[],2,FALSE))","v":""}]
[null,{"$f":"IF(Table25[[#This Row],[Affected CMS\n(§63.2386(d)(1)(ix))\n(Select from dropdown)]]=\"\",\"\",VLOOKUP(Table25[[#This Row],[Affected CMS\n(§63.2386(d)(1)(ix))\n(Select from dropdown)]],Table22[],2,FALSE))","v":""}]
[null,{"$f":"IF(Table25[[#This Row],[Affected CMS\n(§63.2386(d)(1)(ix))\n(Select from dropdown)]]=\"\",\"\",VLOOKUP(Table25[[#This Row],[Affected CMS\n(§63.2386(d)(1)(ix))\n(Select from dropdown)]],Table22[],2,FALSE))","v":""}]
[null,{"$f":"IF(Table25[[#This Row],[Affected CMS\n(§63.2386(d)(1)(ix))\n(Select from dropdown)]]=\"\",\"\",VLOOKUP(Table25[[#This Row],[Affected CMS\n(§63.2386(d)(1)(ix))\n(Select from dropdown)]],Table22[],2,FALSE))","v":""}]
[null,{"$f":"IF(Table25[[#This Row],[Affected CMS\n(§63.2386(d)(1)(ix))\n(Select from dropdown)]]=\"\",\"\",VLOOKUP(Table25[[#This Row],[Affected CMS\n(§63.2386(d)(1)(ix))\n(Select from dropdown)]],Table22[],2,FALSE))","v":""}]
[null,{"$f":"IF(Table25[[#This Row],[Affected CMS\n(§63.2386(d)(1)(ix))\n(Select from dropdown)]]=\"\",\"\",VLOOKUP(Table25[[#This Row],[Affected CMS\n(§63.2386(d)(1)(ix))\n(Select from dropdown)]],Table22[],2,FALSE))","v":""}]
[null,{"$f":"IF(Table25[[#This Row],[Affected CMS\n(§63.2386(d)(1)(ix))\n(Select from dropdown)]]=\"\",\"\",VLOOKUP(Table25[[#This Row],[Affected CMS\n(§63.2386(d)(1)(ix))\n(Select from dropdown)]],Table22[],2,FALSE))","v":""}]
[null,{"$f":"IF(Table25[[#This Row],[Affected CMS\n(§63.2386(d)(1)(ix))\n(Select from dropdown)]]=\"\",\"\",VLOOKUP(Table25[[#This Row],[Affected CMS\n(§63.2386(d)(1)(ix))\n(Select from dropdown)]],Table22[],2,FALSE))","v":""}]
[null,{"$f":"IF(Table25[[#This Row],[Affected CMS\n(§63.2386(d)(1)(ix))\n(Select from dropdown)]]=\"\",\"\",VLOOKUP(Table25[[#This Row],[Affected CMS\n(§63.2386(d)(1)(ix))\n(Select from dropdown)]],Table22[],2,FALSE))","v":""}]
[null,{"$f":"IF(Table25[[#This Row],[Affected CMS\n(§63.2386(d)(1)(ix))\n(Select from dropdown)]]=\"\",\"\",VLOOKUP(Table25[[#This Row],[Affected CMS\n(§63.2386(d)(1)(ix))\n(Select from dropdown)]],Table22[],2,FALSE))","v":""}]
[null,{"$f":"IF(Table25[[#This Row],[Affected CMS\n(§63.2386(d)(1)(ix))\n(Select from dropdown)]]=\"\",\"\",VLOOKUP(Table25[[#This Row],[Affected CMS\n(§63.2386(d)(1)(ix))\n(Select from dropdown)]],Table22[],2,FALSE))","v":""}]
[null,{"$f":"IF(Table25[[#This Row],[Affected CMS\n(§63.2386(d)(1)(ix))\n(Select from dropdown)]]=\"\",\"\",VLOOKUP(Table25[[#This Row],[Affected CMS\n(§63.2386(d)(1)(ix))\n(Select from dropdown)]],Table22[],2,FALSE))","v":""}]
[null,{"$f":"IF(Table25[[#This Row],[Affected CMS\n(§63.2386(d)(1)(ix))\n(Select from dropdown)]]=\"\",\"\",VLOOKUP(Table25[[#This Row],[Affected CMS\n(§63.2386(d)(1)(ix))\n(Select from dropdown)]],Table22[],2,FALSE))","v":""}]
[null,{"$f":"IF(Table25[[#This Row],[Affected CMS\n(§63.2386(d)(1)(ix))\n(Select from dropdown)]]=\"\",\"\",VLOOKUP(Table25[[#This Row],[Affected CMS\n(§63.2386(d)(1)(ix))\n(Select from dropdown)]],Table22[],2,FALSE))","v":""}]
[null,{"$f":"IF(Table25[[#This Row],[Affected CMS\n(§63.2386(d)(1)(ix))\n(Select from dropdown)]]=\"\",\"\",VLOOKUP(Table25[[#This Row],[Affected CMS\n(§63.2386(d)(1)(ix))\n(Select from dropdown)]],Table22[],2,FALSE))","v":""}]
[null,{"$f":"IF(Table25[[#This Row],[Affected CMS\n(§63.2386(d)(1)(ix))\n(Select from dropdown)]]=\"\",\"\",VLOOKUP(Table25[[#This Row],[Affected CMS\n(§63.2386(d)(1)(ix))\n(Select from dropdown)]],Table22[],2,FALSE))","v":""}]
[null,{"$f":"IF(Table25[[#This Row],[Affected CMS\n(§63.2386(d)(1)(ix))\n(Select from dropdown)]]=\"\",\"\",VLOOKUP(Table25[[#This Row],[Affected CMS\n(§63.2386(d)(1)(ix))\n(Select from dropdown)]],Table22[],2,FALSE))","v":""}]
[null,{"$f":"IF(Table25[[#This Row],[Affected CMS\n(§63.2386(d)(1)(ix))\n(Select from dropdown)]]=\"\",\"\",VLOOKUP(Table25[[#This Row],[Affected CMS\n(§63.2386(d)(1)(ix))\n(Select from dropdown)]],Table22[],2,FALSE))","v":""}]
[null,{"$f":"IF(Table25[[#This Row],[Affected CMS\n(§63.2386(d)(1)(ix))\n(Select from dropdown)]]=\"\",\"\",VLOOKUP(Table25[[#This Row],[Affected CMS\n(§63.2386(d)(1)(ix))\n(Select from dropdown)]],Table22[],2,FALSE))","v":""}]
[null,{"$f":"IF(Table25[[#This Row],[Affected CMS\n(§63.2386(d)(1)(ix))\n(Select from dropdown)]]=\"\",\"\",VLOOKUP(Table25[[#This Row],[Affected CMS\n(§63.2386(d)(1)(ix))\n(Select from dropdown)]],Table22[],2,FALSE))","v":""}]
[null,{"$f":"IF(Table25[[#This Row],[Affected CMS\n(§63.2386(d)(1)(ix))\n(Select from dropdown)]]=\"\",\"\",VLOOKUP(Table25[[#This Row],[Affected CMS\n(§63.2386(d)(1)(ix))\n(Select from dropdown)]],Table22[],2,FALSE))","v":""}]
[null,{"$f":"IF(Table25[[#This Row],[Affected CMS\n(§63.2386(d)(1)(ix))\n(Select from dropdown)]]=\"\",\"\",VLOOKUP(Table25[[#This Row],[Affected CMS\n(§63.2386(d)(1)(ix))\n(Select from dropdown)]],Table22[],2,FALSE))","v":""}]
[null,{"$f":"IF(Table25[[#This Row],[Affected CMS\n(§63.2386(d)(1)(ix))\n(Select from dropdown)]]=\"\",\"\",VLOOKUP(Table25[[#This Row],[Affected CMS\n(§63.2386(d)(1)(ix))\n(Select from dropdown)]],Table22[],2,FALSE))","v":""}]
[null,{"$f":"IF(Table25[[#This Row],[Affected CMS\n(§63.2386(d)(1)(ix))\n(Select from dropdown)]]=\"\",\"\",VLOOKUP(Table25[[#This Row],[Affected CMS\n(§63.2386(d)(1)(ix))\n(Select from dropdown)]],Table22[],2,FALSE))","v":""}]
[null,{"$f":"IF(Table25[[#This Row],[Affected CMS\n(§63.2386(d)(1)(ix))\n(Select from dropdown)]]=\"\",\"\",VLOOKUP(Table25[[#This Row],[Affected CMS\n(§63.2386(d)(1)(ix))\n(Select from dropdown)]],Table22[],2,FALSE))","v":""}]
[null,{"$f":"IF(Table25[[#This Row],[Affected CMS\n(§63.2386(d)(1)(ix))\n(Select from dropdown)]]=\"\",\"\",VLOOKUP(Table25[[#This Row],[Affected CMS\n(§63.2386(d)(1)(ix))\n(Select from dropdown)]],Table22[],2,FALSE))","v":""}]
[null,{"$f":"IF(Table25[[#This Row],[Affected CMS\n(§63.2386(d)(1)(ix))\n(Select from dropdown)]]=\"\",\"\",VLOOKUP(Table25[[#This Row],[Affected CMS\n(§63.2386(d)(1)(ix))\n(Select from dropdown)]],Table22[],2,FALSE))","v":""}]
[null,{"$f":"IF(Table25[[#This Row],[Affected CMS\n(§63.2386(d)(1)(ix))\n(Select from dropdown)]]=\"\",\"\",VLOOKUP(Table25[[#This Row],[Affected CMS\n(§63.2386(d)(1)(ix))\n(Select from dropdown)]],Table22[],2,FALSE))","v":""}]
[null,{"$f":"IF(Table25[[#This Row],[Affected CMS\n(§63.2386(d)(1)(ix))\n(Select from dropdown)]]=\"\",\"\",VLOOKUP(Table25[[#This Row],[Affected CMS\n(§63.2386(d)(1)(ix))\n(Select from dropdown)]],Table22[],2,FALSE))","v":""}]
[null,{"$f":"IF(Table25[[#This Row],[Affected CMS\n(§63.2386(d)(1)(ix))\n(Select from dropdown)]]=\"\",\"\",VLOOKUP(Table25[[#This Row],[Affected CMS\n(§63.2386(d)(1)(ix))\n(Select from dropdown)]],Table22[],2,FALSE))","v":""}]
[null,{"$f":"IF(Table25[[#This Row],[Affected CMS\n(§63.2386(d)(1)(ix))\n(Select from dropdown)]]=\"\",\"\",VLOOKUP(Table25[[#This Row],[Affected CMS\n(§63.2386(d)(1)(ix))\n(Select from dropdown)]],Table22[],2,FALSE))","v":""}]
[null,{"$f":"IF(Table25[[#This Row],[Affected CMS\n(§63.2386(d)(1)(ix))\n(Select from dropdown)]]=\"\",\"\",VLOOKUP(Table25[[#This Row],[Affected CMS\n(§63.2386(d)(1)(ix))\n(Select from dropdown)]],Table22[],2,FALSE))","v":""}]
[null,{"$f":"IF(Table25[[#This Row],[Affected CMS\n(§63.2386(d)(1)(ix))\n(Select from dropdown)]]=\"\",\"\",VLOOKUP(Table25[[#This Row],[Affected CMS\n(§63.2386(d)(1)(ix))\n(Select from dropdown)]],Table22[],2,FALSE))","v":""}]
[null,{"$f":"IF(Table25[[#This Row],[Affected CMS\n(§63.2386(d)(1)(ix))\n(Select from dropdown)]]=\"\",\"\",VLOOKUP(Table25[[#This Row],[Affected CMS\n(§63.2386(d)(1)(ix))\n(Select from dropdown)]],Table22[],2,FALSE))","v":""}]
[null,{"$f":"IF(Table25[[#This Row],[Affected CMS\n(§63.2386(d)(1)(ix))\n(Select from dropdown)]]=\"\",\"\",VLOOKUP(Table25[[#This Row],[Affected CMS\n(§63.2386(d)(1)(ix))\n(Select from dropdown)]],Table22[],2,FALSE))","v":""}]
[null,{"$f":"IF(Table25[[#This Row],[Affected CMS\n(§63.2386(d)(1)(ix))\n(Select from dropdown)]]=\"\",\"\",VLOOKUP(Table25[[#This Row],[Affected CMS\n(§63.2386(d)(1)(ix))\n(Select from dropdown)]],Table22[],2,FALSE))","v":""}]
[null,{"$f":"IF(Table25[[#This Row],[Affected CMS\n(§63.2386(d)(1)(ix))\n(Select from dropdown)]]=\"\",\"\",VLOOKUP(Table25[[#This Row],[Affected CMS\n(§63.2386(d)(1)(ix))\n(Select from dropdown)]],Table22[],2,FALSE))","v":""}]
[null,{"$f":"IF(Table25[[#This Row],[Affected CMS\n(§63.2386(d)(1)(ix))\n(Select from dropdown)]]=\"\",\"\",VLOOKUP(Table25[[#This Row],[Affected CMS\n(§63.2386(d)(1)(ix))\n(Select from dropdown)]],Table22[],2,FALSE))","v":""}]
[null,{"$f":"IF(Table25[[#This Row],[Affected CMS\n(§63.2386(d)(1)(ix))\n(Select from dropdown)]]=\"\",\"\",VLOOKUP(Table25[[#This Row],[Affected CMS\n(§63.2386(d)(1)(ix))\n(Select from dropdown)]],Table22[],2,FALSE))","v":""}]
[null,{"$f":"IF(Table25[[#This Row],[Affected CMS\n(§63.2386(d)(1)(ix))\n(Select from dropdown)]]=\"\",\"\",VLOOKUP(Table25[[#This Row],[Affected CMS\n(§63.2386(d)(1)(ix))\n(Select from dropdown)]],Table22[],2,FALSE))","v":""}]
[null,{"$f":"IF(Table25[[#This Row],[Affected CMS\n(§63.2386(d)(1)(ix))\n(Select from dropdown)]]=\"\",\"\",VLOOKUP(Table25[[#This Row],[Affected CMS\n(§63.2386(d)(1)(ix))\n(Select from dropdown)]],Table22[],2,FALSE))","v":""}]
[null,{"$f":"IF(Table25[[#This Row],[Affected CMS\n(§63.2386(d)(1)(ix))\n(Select from dropdown)]]=\"\",\"\",VLOOKUP(Table25[[#This Row],[Affected CMS\n(§63.2386(d)(1)(ix))\n(Select from dropdown)]],Table22[],2,FALSE))","v":""}]
[null,{"$f":"IF(Table25[[#This Row],[Affected CMS\n(§63.2386(d)(1)(ix))\n(Select from dropdown)]]=\"\",\"\",VLOOKUP(Table25[[#This Row],[Affected CMS\n(§63.2386(d)(1)(ix))\n(Select from dropdown)]],Table22[],2,FALSE))","v":""}]
[null,{"$f":"IF(Table25[[#This Row],[Affected CMS\n(§63.2386(d)(1)(ix))\n(Select from dropdown)]]=\"\",\"\",VLOOKUP(Table25[[#This Row],[Affected CMS\n(§63.2386(d)(1)(ix))\n(Select from dropdown)]],Table22[],2,FALSE))","v":""}]
[null,{"$f":"IF(Table25[[#This Row],[Affected CMS\n(§63.2386(d)(1)(ix))\n(Select from dropdown)]]=\"\",\"\",VLOOKUP(Table25[[#This Row],[Affected CMS\n(§63.2386(d)(1)(ix))\n(Select from dropdown)]],Table22[],2,FALSE))","v":""}]
[null,{"$f":"IF(Table25[[#This Row],[Affected CMS\n(§63.2386(d)(1)(ix))\n(Select from dropdown)]]=\"\",\"\",VLOOKUP(Table25[[#This Row],[Affected CMS\n(§63.2386(d)(1)(ix))\n(Select from dropdown)]],Table22[],2,FALSE))","v":""}]
[null,{"$f":"IF(Table25[[#This Row],[Affected CMS\n(§63.2386(d)(1)(ix))\n(Select from dropdown)]]=\"\",\"\",VLOOKUP(Table25[[#This Row],[Affected CMS\n(§63.2386(d)(1)(ix))\n(Select from dropdown)]],Table22[],2,FALSE))","v":""}]
[null,{"$f":"IF(Table25[[#This Row],[Affected CMS\n(§63.2386(d)(1)(ix))\n(Select from dropdown)]]=\"\",\"\",VLOOKUP(Table25[[#This Row],[Affected CMS\n(§63.2386(d)(1)(ix))\n(Select from dropdown)]],Table22[],2,FALSE))","v":""}]
[null,{"$f":"IF(Table25[[#This Row],[Affected CMS\n(§63.2386(d)(1)(ix))\n(Select from dropdown)]]=\"\",\"\",VLOOKUP(Table25[[#This Row],[Affected CMS\n(§63.2386(d)(1)(ix))\n(Select from dropdown)]],Table22[],2,FALSE))","v":""}]
[null,{"$f":"IF(Table25[[#This Row],[Affected CMS\n(§63.2386(d)(1)(ix))\n(Select from dropdown)]]=\"\",\"\",VLOOKUP(Table25[[#This Row],[Affected CMS\n(§63.2386(d)(1)(ix))\n(Select from dropdown)]],Table22[],2,FALSE))","v":""}]
[null,{"$f":"IF(Table25[[#This Row],[Affected CMS\n(§63.2386(d)(1)(ix))\n(Select from dropdown)]]=\"\",\"\",VLOOKUP(Table25[[#This Row],[Affected CMS\n(§63.2386(d)(1)(ix))\n(Select from dropdown)]],Table22[],2,FALSE))","v":""}]
[null,{"$f":"IF(Table25[[#This Row],[Affected CMS\n(§63.2386(d)(1)(ix))\n(Select from dropdown)]]=\"\",\"\",VLOOKUP(Table25[[#This Row],[Affected CMS\n(§63.2386(d)(1)(ix))\n(Select from dropdown)]],Table22[],2,FALSE))","v":""}]
[null,{"$f":"IF(Table25[[#This Row],[Affected CMS\n(§63.2386(d)(1)(ix))\n(Select from dropdown)]]=\"\",\"\",VLOOKUP(Table25[[#This Row],[Affected CMS\n(§63.2386(d)(1)(ix))\n(Select from dropdown)]],Table22[],2,FALSE))","v":""}]
[null,{"$f":"IF(Table25[[#This Row],[Affected CMS\n(§63.2386(d)(1)(ix))\n(Select from dropdown)]]=\"\",\"\",VLOOKUP(Table25[[#This Row],[Affected CMS\n(§63.2386(d)(1)(ix))\n(Select from dropdown)]],Table22[],2,FALSE))","v":""}]
[null,{"$f":"IF(Table25[[#This Row],[Affected CMS\n(§63.2386(d)(1)(ix))\n(Select from dropdown)]]=\"\",\"\",VLOOKUP(Table25[[#This Row],[Affected CMS\n(§63.2386(d)(1)(ix))\n(Select from dropdown)]],Table22[],2,FALSE))","v":""}]
[null,{"$f":"IF(Table25[[#This Row],[Affected CMS\n(§63.2386(d)(1)(ix))\n(Select from dropdown)]]=\"\",\"\",VLOOKUP(Table25[[#This Row],[Affected CMS\n(§63.2386(d)(1)(ix))\n(Select from dropdown)]],Table22[],2,FALSE))","v":""}]
[null,{"$f":"IF(Table25[[#This Row],[Affected CMS\n(§63.2386(d)(1)(ix))\n(Select from dropdown)]]=\"\",\"\",VLOOKUP(Table25[[#This Row],[Affected CMS\n(§63.2386(d)(1)(ix))\n(Select from dropdown)]],Table22[],2,FALSE))","v":""}]
[null,{"$f":"IF(Table25[[#This Row],[Affected CMS\n(§63.2386(d)(1)(ix))\n(Select from dropdown)]]=\"\",\"\",VLOOKUP(Table25[[#This Row],[Affected CMS\n(§63.2386(d)(1)(ix))\n(Select from dropdown)]],Table22[],2,FALSE))","v":""}]
[null,{"$f":"IF(Table25[[#This Row],[Affected CMS\n(§63.2386(d)(1)(ix))\n(Select from dropdown)]]=\"\",\"\",VLOOKUP(Table25[[#This Row],[Affected CMS\n(§63.2386(d)(1)(ix))\n(Select from dropdown)]],Table22[],2,FALSE))","v":""}]
[null,{"$f":"IF(Table25[[#This Row],[Affected CMS\n(§63.2386(d)(1)(ix))\n(Select from dropdown)]]=\"\",\"\",VLOOKUP(Table25[[#This Row],[Affected CMS\n(§63.2386(d)(1)(ix))\n(Select from dropdown)]],Table22[],2,FALSE))","v":""}]
[null,{"$f":"IF(Table25[[#This Row],[Affected CMS\n(§63.2386(d)(1)(ix))\n(Select from dropdown)]]=\"\",\"\",VLOOKUP(Table25[[#This Row],[Affected CMS\n(§63.2386(d)(1)(ix))\n(Select from dropdown)]],Table22[],2,FALSE))","v":""}]
[null,{"$f":"IF(Table25[[#This Row],[Affected CMS\n(§63.2386(d)(1)(ix))\n(Select from dropdown)]]=\"\",\"\",VLOOKUP(Table25[[#This Row],[Affected CMS\n(§63.2386(d)(1)(ix))\n(Select from dropdown)]],Table22[],2,FALSE))","v":""}]
[null,{"$f":"IF(Table25[[#This Row],[Affected CMS\n(§63.2386(d)(1)(ix))\n(Select from dropdown)]]=\"\",\"\",VLOOKUP(Table25[[#This Row],[Affected CMS\n(§63.2386(d)(1)(ix))\n(Select from dropdown)]],Table22[],2,FALSE))","v":""}]
[null,{"$f":"IF(Table25[[#This Row],[Affected CMS\n(§63.2386(d)(1)(ix))\n(Select from dropdown)]]=\"\",\"\",VLOOKUP(Table25[[#This Row],[Affected CMS\n(§63.2386(d)(1)(ix))\n(Select from dropdown)]],Table22[],2,FALSE))","v":""}]
[null,{"$f":"IF(Table25[[#This Row],[Affected CMS\n(§63.2386(d)(1)(ix))\n(Select from dropdown)]]=\"\",\"\",VLOOKUP(Table25[[#This Row],[Affected CMS\n(§63.2386(d)(1)(ix))\n(Select from dropdown)]],Table22[],2,FALSE))","v":""}]
[null,{"$f":"IF(Table25[[#This Row],[Affected CMS\n(§63.2386(d)(1)(ix))\n(Select from dropdown)]]=\"\",\"\",VLOOKUP(Table25[[#This Row],[Affected CMS\n(§63.2386(d)(1)(ix))\n(Select from dropdown)]],Table22[],2,FALSE))","v":""}]
[null,{"$f":"IF(Table25[[#This Row],[Affected CMS\n(§63.2386(d)(1)(ix))\n(Select from dropdown)]]=\"\",\"\",VLOOKUP(Table25[[#This Row],[Affected CMS\n(§63.2386(d)(1)(ix))\n(Select from dropdown)]],Table22[],2,FALSE))","v":""}]
[null,{"$f":"IF(Table25[[#This Row],[Affected CMS\n(§63.2386(d)(1)(ix))\n(Select from dropdown)]]=\"\",\"\",VLOOKUP(Table25[[#This Row],[Affected CMS\n(§63.2386(d)(1)(ix))\n(Select from dropdown)]],Table22[],2,FALSE))","v":""}]
[null,{"$f":"IF(Table25[[#This Row],[Affected CMS\n(§63.2386(d)(1)(ix))\n(Select from dropdown)]]=\"\",\"\",VLOOKUP(Table25[[#This Row],[Affected CMS\n(§63.2386(d)(1)(ix))\n(Select from dropdown)]],Table22[],2,FALSE))","v":""}]
[null,{"$f":"IF(Table25[[#This Row],[Affected CMS\n(§63.2386(d)(1)(ix))\n(Select from dropdown)]]=\"\",\"\",VLOOKUP(Table25[[#This Row],[Affected CMS\n(§63.2386(d)(1)(ix))\n(Select from dropdown)]],Table22[],2,FALSE))","v":""}]
[null,{"$f":"IF(Table25[[#This Row],[Affected CMS\n(§63.2386(d)(1)(ix))\n(Select from dropdown)]]=\"\",\"\",VLOOKUP(Table25[[#This Row],[Affected CMS\n(§63.2386(d)(1)(ix))\n(Select from dropdown)]],Table22[],2,FALSE))","v":""}]
[null,{"$f":"IF(Table25[[#This Row],[Affected CMS\n(§63.2386(d)(1)(ix))\n(Select from dropdown)]]=\"\",\"\",VLOOKUP(Table25[[#This Row],[Affected CMS\n(§63.2386(d)(1)(ix))\n(Select from dropdown)]],Table22[],2,FALSE))","v":""}]
[null,{"$f":"IF(Table25[[#This Row],[Affected CMS\n(§63.2386(d)(1)(ix))\n(Select from dropdown)]]=\"\",\"\",VLOOKUP(Table25[[#This Row],[Affected CMS\n(§63.2386(d)(1)(ix))\n(Select from dropdown)]],Table22[],2,FALSE))","v":""}]
[null,{"$f":"IF(Table25[[#This Row],[Affected CMS\n(§63.2386(d)(1)(ix))\n(Select from dropdown)]]=\"\",\"\",VLOOKUP(Table25[[#This Row],[Affected CMS\n(§63.2386(d)(1)(ix))\n(Select from dropdown)]],Table22[],2,FALSE))","v":""}]
[null,{"$f":"IF(Table25[[#This Row],[Affected CMS\n(§63.2386(d)(1)(ix))\n(Select from dropdown)]]=\"\",\"\",VLOOKUP(Table25[[#This Row],[Affected CMS\n(§63.2386(d)(1)(ix))\n(Select from dropdown)]],Table22[],2,FALSE))","v":""}]
[null,{"$f":"IF(Table25[[#This Row],[Affected CMS\n(§63.2386(d)(1)(ix))\n(Select from dropdown)]]=\"\",\"\",VLOOKUP(Table25[[#This Row],[Affected CMS\n(§63.2386(d)(1)(ix))\n(Select from dropdown)]],Table22[],2,FALSE))","v":""}]
[null,{"$f":"IF(Table25[[#This Row],[Affected CMS\n(§63.2386(d)(1)(ix))\n(Select from dropdown)]]=\"\",\"\",VLOOKUP(Table25[[#This Row],[Affected CMS\n(§63.2386(d)(1)(ix))\n(Select from dropdown)]],Table22[],2,FALSE))","v":""}]
[null,{"$f":"IF(Table25[[#This Row],[Affected CMS\n(§63.2386(d)(1)(ix))\n(Select from dropdown)]]=\"\",\"\",VLOOKUP(Table25[[#This Row],[Affected CMS\n(§63.2386(d)(1)(ix))\n(Select from dropdown)]],Table22[],2,FALSE))","v":""}]
[null,{"$f":"IF(Table25[[#This Row],[Affected CMS\n(§63.2386(d)(1)(ix))\n(Select from dropdown)]]=\"\",\"\",VLOOKUP(Table25[[#This Row],[Affected CMS\n(§63.2386(d)(1)(ix))\n(Select from dropdown)]],Table22[],2,FALSE))","v":""}]
[null,{"$f":"IF(Table25[[#This Row],[Affected CMS\n(§63.2386(d)(1)(ix))\n(Select from dropdown)]]=\"\",\"\",VLOOKUP(Table25[[#This Row],[Affected CMS\n(§63.2386(d)(1)(ix))\n(Select from dropdown)]],Table22[],2,FALSE))","v":""}]
[null,{"$f":"IF(Table25[[#This Row],[Affected CMS\n(§63.2386(d)(1)(ix))\n(Select from dropdown)]]=\"\",\"\",VLOOKUP(Table25[[#This Row],[Affected CMS\n(§63.2386(d)(1)(ix))\n(Select from dropdown)]],Table22[],2,FALSE))","v":""}]
[null,{"$f":"IF(Table25[[#This Row],[Affected CMS\n(§63.2386(d)(1)(ix))\n(Select from dropdown)]]=\"\",\"\",VLOOKUP(Table25[[#This Row],[Affected CMS\n(§63.2386(d)(1)(ix))\n(Select from dropdown)]],Table22[],2,FALSE))","v":""}]
[null,{"$f":"IF(Table25[[#This Row],[Affected CMS\n(§63.2386(d)(1)(ix))\n(Select from dropdown)]]=\"\",\"\",VLOOKUP(Table25[[#This Row],[Affected CMS\n(§63.2386(d)(1)(ix))\n(Select from dropdown)]],Table22[],2,FALSE))","v":""}]
[null,{"$f":"IF(Table25[[#This Row],[Affected CMS\n(§63.2386(d)(1)(ix))\n(Select from dropdown)]]=\"\",\"\",VLOOKUP(Table25[[#This Row],[Affected CMS\n(§63.2386(d)(1)(ix))\n(Select from dropdown)]],Table22[],2,FALSE))","v":""}]
[null,{"$f":"IF(Table25[[#This Row],[Affected CMS\n(§63.2386(d)(1)(ix))\n(Select from dropdown)]]=\"\",\"\",VLOOKUP(Table25[[#This Row],[Affected CMS\n(§63.2386(d)(1)(ix))\n(Select from dropdown)]],Table22[],2,FALSE))","v":""}]
[null,{"$f":"IF(Table25[[#This Row],[Affected CMS\n(§63.2386(d)(1)(ix))\n(Select from dropdown)]]=\"\",\"\",VLOOKUP(Table25[[#This Row],[Affected CMS\n(§63.2386(d)(1)(ix))\n(Select from dropdown)]],Table22[],2,FALSE))","v":""}]
[null,{"$f":"IF(Table25[[#This Row],[Affected CMS\n(§63.2386(d)(1)(ix))\n(Select from dropdown)]]=\"\",\"\",VLOOKUP(Table25[[#This Row],[Affected CMS\n(§63.2386(d)(1)(ix))\n(Select from dropdown)]],Table22[],2,FALSE))","v":""}]
[null,{"$f":"IF(Table25[[#This Row],[Affected CMS\n(§63.2386(d)(1)(ix))\n(Select from dropdown)]]=\"\",\"\",VLOOKUP(Table25[[#This Row],[Affected CMS\n(§63.2386(d)(1)(ix))\n(Select from dropdown)]],Table22[],2,FALSE))","v":""}]
[null,{"$f":"IF(Table25[[#This Row],[Affected CMS\n(§63.2386(d)(1)(ix))\n(Select from dropdown)]]=\"\",\"\",VLOOKUP(Table25[[#This Row],[Affected CMS\n(§63.2386(d)(1)(ix))\n(Select from dropdown)]],Table22[],2,FALSE))","v":""}]
[null,{"$f":"IF(Table25[[#This Row],[Affected CMS\n(§63.2386(d)(1)(ix))\n(Select from dropdown)]]=\"\",\"\",VLOOKUP(Table25[[#This Row],[Affected CMS\n(§63.2386(d)(1)(ix))\n(Select from dropdown)]],Table22[],2,FALSE))","v":""}]
[null,{"$f":"IF(Table25[[#This Row],[Affected CMS\n(§63.2386(d)(1)(ix))\n(Select from dropdown)]]=\"\",\"\",VLOOKUP(Table25[[#This Row],[Affected CMS\n(§63.2386(d)(1)(ix))\n(Select from dropdown)]],Table22[],2,FALSE))","v":""}]
[null,{"$f":"IF(Table25[[#This Row],[Affected CMS\n(§63.2386(d)(1)(ix))\n(Select from dropdown)]]=\"\",\"\",VLOOKUP(Table25[[#This Row],[Affected CMS\n(§63.2386(d)(1)(ix))\n(Select from dropdown)]],Table22[],2,FALSE))","v":""}]
[null,{"$f":"IF(Table25[[#This Row],[Affected CMS\n(§63.2386(d)(1)(ix))\n(Select from dropdown)]]=\"\",\"\",VLOOKUP(Table25[[#This Row],[Affected CMS\n(§63.2386(d)(1)(ix))\n(Select from dropdown)]],Table22[],2,FALSE))","v":""}]
[null,{"$f":"IF(Table25[[#This Row],[Affected CMS\n(§63.2386(d)(1)(ix))\n(Select from dropdown)]]=\"\",\"\",VLOOKUP(Table25[[#This Row],[Affected CMS\n(§63.2386(d)(1)(ix))\n(Select from dropdown)]],Table22[],2,FALSE))","v":""}]
[null,{"$f":"IF(Table25[[#This Row],[Affected CMS\n(§63.2386(d)(1)(ix))\n(Select from dropdown)]]=\"\",\"\",VLOOKUP(Table25[[#This Row],[Affected CMS\n(§63.2386(d)(1)(ix))\n(Select from dropdown)]],Table22[],2,FALSE))","v":""}]
[null,{"$f":"IF(Table25[[#This Row],[Affected CMS\n(§63.2386(d)(1)(ix))\n(Select from dropdown)]]=\"\",\"\",VLOOKUP(Table25[[#This Row],[Affected CMS\n(§63.2386(d)(1)(ix))\n(Select from dropdown)]],Table22[],2,FALSE))","v":""}]
[null,{"$f":"IF(Table25[[#This Row],[Affected CMS\n(§63.2386(d)(1)(ix))\n(Select from dropdown)]]=\"\",\"\",VLOOKUP(Table25[[#This Row],[Affected CMS\n(§63.2386(d)(1)(ix))\n(Select from dropdown)]],Table22[],2,FALSE))","v":""}]
[null,{"$f":"IF(Table25[[#This Row],[Affected CMS\n(§63.2386(d)(1)(ix))\n(Select from dropdown)]]=\"\",\"\",VLOOKUP(Table25[[#This Row],[Affected CMS\n(§63.2386(d)(1)(ix))\n(Select from dropdown)]],Table22[],2,FALSE))","v":""}]
[null,{"$f":"IF(Table25[[#This Row],[Affected CMS\n(§63.2386(d)(1)(ix))\n(Select from dropdown)]]=\"\",\"\",VLOOKUP(Table25[[#This Row],[Affected CMS\n(§63.2386(d)(1)(ix))\n(Select from dropdown)]],Table22[],2,FALSE))","v":""}]
[null,{"$f":"IF(Table25[[#This Row],[Affected CMS\n(§63.2386(d)(1)(ix))\n(Select from dropdown)]]=\"\",\"\",VLOOKUP(Table25[[#This Row],[Affected CMS\n(§63.2386(d)(1)(ix))\n(Select from dropdown)]],Table22[],2,FALSE))","v":""}]
[null,{"$f":"IF(Table25[[#This Row],[Affected CMS\n(§63.2386(d)(1)(ix))\n(Select from dropdown)]]=\"\",\"\",VLOOKUP(Table25[[#This Row],[Affected CMS\n(§63.2386(d)(1)(ix))\n(Select from dropdown)]],Table22[],2,FALSE))","v":""}]
[null,{"$f":"IF(Table25[[#This Row],[Affected CMS\n(§63.2386(d)(1)(ix))\n(Select from dropdown)]]=\"\",\"\",VLOOKUP(Table25[[#This Row],[Affected CMS\n(§63.2386(d)(1)(ix))\n(Select from dropdown)]],Table22[],2,FALSE))","v":""}]
[null,{"$f":"IF(Table25[[#This Row],[Affected CMS\n(§63.2386(d)(1)(ix))\n(Select from dropdown)]]=\"\",\"\",VLOOKUP(Table25[[#This Row],[Affected CMS\n(§63.2386(d)(1)(ix))\n(Select from dropdown)]],Table22[],2,FALSE))","v":""}]
[null,{"$f":"IF(Table25[[#This Row],[Affected CMS\n(§63.2386(d)(1)(ix))\n(Select from dropdown)]]=\"\",\"\",VLOOKUP(Table25[[#This Row],[Affected CMS\n(§63.2386(d)(1)(ix))\n(Select from dropdown)]],Table22[],2,FALSE))","v":""}]
[null,{"$f":"IF(Table25[[#This Row],[Affected CMS\n(§63.2386(d)(1)(ix))\n(Select from dropdown)]]=\"\",\"\",VLOOKUP(Table25[[#This Row],[Affected CMS\n(§63.2386(d)(1)(ix))\n(Select from dropdown)]],Table22[],2,FALSE))","v":""}]
[null,{"$f":"IF(Table25[[#This Row],[Affected CMS\n(§63.2386(d)(1)(ix))\n(Select from dropdown)]]=\"\",\"\",VLOOKUP(Table25[[#This Row],[Affected CMS\n(§63.2386(d)(1)(ix))\n(Select from dropdown)]],Table22[],2,FALSE))","v":""}]
[null,{"$f":"IF(Table25[[#This Row],[Affected CMS\n(§63.2386(d)(1)(ix))\n(Select from dropdown)]]=\"\",\"\",VLOOKUP(Table25[[#This Row],[Affected CMS\n(§63.2386(d)(1)(ix))\n(Select from dropdown)]],Table22[],2,FALSE))","v":""}]
[null,{"$f":"IF(Table25[[#This Row],[Affected CMS\n(§63.2386(d)(1)(ix))\n(Select from dropdown)]]=\"\",\"\",VLOOKUP(Table25[[#This Row],[Affected CMS\n(§63.2386(d)(1)(ix))\n(Select from dropdown)]],Table22[],2,FALSE))","v":""}]
[null,{"$f":"IF(Table25[[#This Row],[Affected CMS\n(§63.2386(d)(1)(ix))\n(Select from dropdown)]]=\"\",\"\",VLOOKUP(Table25[[#This Row],[Affected CMS\n(§63.2386(d)(1)(ix))\n(Select from dropdown)]],Table22[],2,FALSE))","v":""}]
[null,{"$f":"IF(Table25[[#This Row],[Affected CMS\n(§63.2386(d)(1)(ix))\n(Select from dropdown)]]=\"\",\"\",VLOOKUP(Table25[[#This Row],[Affected CMS\n(§63.2386(d)(1)(ix))\n(Select from dropdown)]],Table22[],2,FALSE))","v":""}]
[null,{"$f":"IF(Table25[[#This Row],[Affected CMS\n(§63.2386(d)(1)(ix))\n(Select from dropdown)]]=\"\",\"\",VLOOKUP(Table25[[#This Row],[Affected CMS\n(§63.2386(d)(1)(ix))\n(Select from dropdown)]],Table22[],2,FALSE))","v":""}]
[null,{"$f":"IF(Table25[[#This Row],[Affected CMS\n(§63.2386(d)(1)(ix))\n(Select from dropdown)]]=\"\",\"\",VLOOKUP(Table25[[#This Row],[Affected CMS\n(§63.2386(d)(1)(ix))\n(Select from dropdown)]],Table22[],2,FALSE))","v":""}]
[null,{"$f":"IF(Table25[[#This Row],[Affected CMS\n(§63.2386(d)(1)(ix))\n(Select from dropdown)]]=\"\",\"\",VLOOKUP(Table25[[#This Row],[Affected CMS\n(§63.2386(d)(1)(ix))\n(Select from dropdown)]],Table22[],2,FALSE))","v":""}]
[null,{"$f":"IF(Table25[[#This Row],[Affected CMS\n(§63.2386(d)(1)(ix))\n(Select from dropdown)]]=\"\",\"\",VLOOKUP(Table25[[#This Row],[Affected CMS\n(§63.2386(d)(1)(ix))\n(Select from dropdown)]],Table22[],2,FALSE))","v":""}]
[null,{"$f":"IF(Table25[[#This Row],[Affected CMS\n(§63.2386(d)(1)(ix))\n(Select from dropdown)]]=\"\",\"\",VLOOKUP(Table25[[#This Row],[Affected CMS\n(§63.2386(d)(1)(ix))\n(Select from dropdown)]],Table22[],2,FALSE))","v":""}]
[null,{"$f":"IF(Table25[[#This Row],[Affected CMS\n(§63.2386(d)(1)(ix))\n(Select from dropdown)]]=\"\",\"\",VLOOKUP(Table25[[#This Row],[Affected CMS\n(§63.2386(d)(1)(ix))\n(Select from dropdown)]],Table22[],2,FALSE))","v":""}]
[null,{"$f":"IF(Table25[[#This Row],[Affected CMS\n(§63.2386(d)(1)(ix))\n(Select from dropdown)]]=\"\",\"\",VLOOKUP(Table25[[#This Row],[Affected CMS\n(§63.2386(d)(1)(ix))\n(Select from dropdown)]],Table22[],2,FALSE))","v":""}]
[null,{"$f":"IF(Table25[[#This Row],[Affected CMS\n(§63.2386(d)(1)(ix))\n(Select from dropdown)]]=\"\",\"\",VLOOKUP(Table25[[#This Row],[Affected CMS\n(§63.2386(d)(1)(ix))\n(Select from dropdown)]],Table22[],2,FALSE))","v":""}]
[null,{"$f":"IF(Table25[[#This Row],[Affected CMS\n(§63.2386(d)(1)(ix))\n(Select from dropdown)]]=\"\",\"\",VLOOKUP(Table25[[#This Row],[Affected CMS\n(§63.2386(d)(1)(ix))\n(Select from dropdown)]],Table22[],2,FALSE))","v":""}]
[null,{"$f":"IF(Table25[[#This Row],[Affected CMS\n(§63.2386(d)(1)(ix))\n(Select from dropdown)]]=\"\",\"\",VLOOKUP(Table25[[#This Row],[Affected CMS\n(§63.2386(d)(1)(ix))\n(Select from dropdown)]],Table22[],2,FALSE))","v":""}]
[null,{"$f":"IF(Table25[[#This Row],[Affected CMS\n(§63.2386(d)(1)(ix))\n(Select from dropdown)]]=\"\",\"\",VLOOKUP(Table25[[#This Row],[Affected CMS\n(§63.2386(d)(1)(ix))\n(Select from dropdown)]],Table22[],2,FALSE))","v":""}]
[null,{"$f":"IF(Table25[[#This Row],[Affected CMS\n(§63.2386(d)(1)(ix))\n(Select from dropdown)]]=\"\",\"\",VLOOKUP(Table25[[#This Row],[Affected CMS\n(§63.2386(d)(1)(ix))\n(Select from dropdown)]],Table22[],2,FALSE))","v":""}]
[null,{"$f":"IF(Table25[[#This Row],[Affected CMS\n(§63.2386(d)(1)(ix))\n(Select from dropdown)]]=\"\",\"\",VLOOKUP(Table25[[#This Row],[Affected CMS\n(§63.2386(d)(1)(ix))\n(Select from dropdown)]],Table22[],2,FALSE))","v":""}]
[null,{"$f":"IF(Table25[[#This Row],[Affected CMS\n(§63.2386(d)(1)(ix))\n(Select from dropdown)]]=\"\",\"\",VLOOKUP(Table25[[#This Row],[Affected CMS\n(§63.2386(d)(1)(ix))\n(Select from dropdown)]],Table22[],2,FALSE))","v":""}]
[null,{"$f":"IF(Table25[[#This Row],[Affected CMS\n(§63.2386(d)(1)(ix))\n(Select from dropdown)]]=\"\",\"\",VLOOKUP(Table25[[#This Row],[Affected CMS\n(§63.2386(d)(1)(ix))\n(Select from dropdown)]],Table22[],2,FALSE))","v":""}]
[null,{"$f":"IF(Table25[[#This Row],[Affected CMS\n(§63.2386(d)(1)(ix))\n(Select from dropdown)]]=\"\",\"\",VLOOKUP(Table25[[#This Row],[Affected CMS\n(§63.2386(d)(1)(ix))\n(Select from dropdown)]],Table22[],2,FALSE))","v":""}]
[null,{"$f":"IF(Table25[[#This Row],[Affected CMS\n(§63.2386(d)(1)(ix))\n(Select from dropdown)]]=\"\",\"\",VLOOKUP(Table25[[#This Row],[Affected CMS\n(§63.2386(d)(1)(ix))\n(Select from dropdown)]],Table22[],2,FALSE))","v":""}]
[null,{"$f":"IF(Table25[[#This Row],[Affected CMS\n(§63.2386(d)(1)(ix))\n(Select from dropdown)]]=\"\",\"\",VLOOKUP(Table25[[#This Row],[Affected CMS\n(§63.2386(d)(1)(ix))\n(Select from dropdown)]],Table22[],2,FALSE))","v":""}]
[null,{"$f":"IF(Table25[[#This Row],[Affected CMS\n(§63.2386(d)(1)(ix))\n(Select from dropdown)]]=\"\",\"\",VLOOKUP(Table25[[#This Row],[Affected CMS\n(§63.2386(d)(1)(ix))\n(Select from dropdown)]],Table22[],2,FALSE))","v":""}]
[null,{"$f":"IF(Table25[[#This Row],[Affected CMS\n(§63.2386(d)(1)(ix))\n(Select from dropdown)]]=\"\",\"\",VLOOKUP(Table25[[#This Row],[Affected CMS\n(§63.2386(d)(1)(ix))\n(Select from dropdown)]],Table22[],2,FALSE))","v":""}]
[null,{"$f":"IF(Table25[[#This Row],[Affected CMS\n(§63.2386(d)(1)(ix))\n(Select from dropdown)]]=\"\",\"\",VLOOKUP(Table25[[#This Row],[Affected CMS\n(§63.2386(d)(1)(ix))\n(Select from dropdown)]],Table22[],2,FALSE))","v":""}]
[null,{"$f":"IF(Table25[[#This Row],[Affected CMS\n(§63.2386(d)(1)(ix))\n(Select from dropdown)]]=\"\",\"\",VLOOKUP(Table25[[#This Row],[Affected CMS\n(§63.2386(d)(1)(ix))\n(Select from dropdown)]],Table22[],2,FALSE))","v":""}]
[null,{"$f":"IF(Table25[[#This Row],[Affected CMS\n(§63.2386(d)(1)(ix))\n(Select from dropdown)]]=\"\",\"\",VLOOKUP(Table25[[#This Row],[Affected CMS\n(§63.2386(d)(1)(ix))\n(Select from dropdown)]],Table22[],2,FALSE))","v":""}]
[null,{"$f":"IF(Table25[[#This Row],[Affected CMS\n(§63.2386(d)(1)(ix))\n(Select from dropdown)]]=\"\",\"\",VLOOKUP(Table25[[#This Row],[Affected CMS\n(§63.2386(d)(1)(ix))\n(Select from dropdown)]],Table22[],2,FALSE))","v":""}]
[null,{"$f":"IF(Table25[[#This Row],[Affected CMS\n(§63.2386(d)(1)(ix))\n(Select from dropdown)]]=\"\",\"\",VLOOKUP(Table25[[#This Row],[Affected CMS\n(§63.2386(d)(1)(ix))\n(Select from dropdown)]],Table22[],2,FALSE))","v":""}]
[null,{"$f":"IF(Table25[[#This Row],[Affected CMS\n(§63.2386(d)(1)(ix))\n(Select from dropdown)]]=\"\",\"\",VLOOKUP(Table25[[#This Row],[Affected CMS\n(§63.2386(d)(1)(ix))\n(Select from dropdown)]],Table22[],2,FALSE))","v":""}]
[null,{"$f":"IF(Table25[[#This Row],[Affected CMS\n(§63.2386(d)(1)(ix))\n(Select from dropdown)]]=\"\",\"\",VLOOKUP(Table25[[#This Row],[Affected CMS\n(§63.2386(d)(1)(ix))\n(Select from dropdown)]],Table22[],2,FALSE))","v":""}]
[null,{"$f":"IF(Table25[[#This Row],[Affected CMS\n(§63.2386(d)(1)(ix))\n(Select from dropdown)]]=\"\",\"\",VLOOKUP(Table25[[#This Row],[Affected CMS\n(§63.2386(d)(1)(ix))\n(Select from dropdown)]],Table22[],2,FALSE))","v":""}]
[null,{"$f":"IF(Table25[[#This Row],[Affected CMS\n(§63.2386(d)(1)(ix))\n(Select from dropdown)]]=\"\",\"\",VLOOKUP(Table25[[#This Row],[Affected CMS\n(§63.2386(d)(1)(ix))\n(Select from dropdown)]],Table22[],2,FALSE))","v":""}]
[null,{"$f":"IF(Table25[[#This Row],[Affected CMS\n(§63.2386(d)(1)(ix))\n(Select from dropdown)]]=\"\",\"\",VLOOKUP(Table25[[#This Row],[Affected CMS\n(§63.2386(d)(1)(ix))\n(Select from dropdown)]],Table22[],2,FALSE))","v":""}]
[null,{"$f":"IF(Table25[[#This Row],[Affected CMS\n(§63.2386(d)(1)(ix))\n(Select from dropdown)]]=\"\",\"\",VLOOKUP(Table25[[#This Row],[Affected CMS\n(§63.2386(d)(1)(ix))\n(Select from dropdown)]],Table22[],2,FALSE))","v":""}]
[null,{"$f":"IF(Table25[[#This Row],[Affected CMS\n(§63.2386(d)(1)(ix))\n(Select from dropdown)]]=\"\",\"\",VLOOKUP(Table25[[#This Row],[Affected CMS\n(§63.2386(d)(1)(ix))\n(Select from dropdown)]],Table22[],2,FALSE))","v":""}]
[null,{"$f":"IF(Table25[[#This Row],[Affected CMS\n(§63.2386(d)(1)(ix))\n(Select from dropdown)]]=\"\",\"\",VLOOKUP(Table25[[#This Row],[Affected CMS\n(§63.2386(d)(1)(ix))\n(Select from dropdown)]],Table22[],2,FALSE))","v":""}]
[null,{"$f":"IF(Table25[[#This Row],[Affected CMS\n(§63.2386(d)(1)(ix))\n(Select from dropdown)]]=\"\",\"\",VLOOKUP(Table25[[#This Row],[Affected CMS\n(§63.2386(d)(1)(ix))\n(Select from dropdown)]],Table22[],2,FALSE))","v":""}]
[null,{"$f":"IF(Table25[[#This Row],[Affected CMS\n(§63.2386(d)(1)(ix))\n(Select from dropdown)]]=\"\",\"\",VLOOKUP(Table25[[#This Row],[Affected CMS\n(§63.2386(d)(1)(ix))\n(Select from dropdown)]],Table22[],2,FALSE))","v":""}]
[null,{"$f":"IF(Table25[[#This Row],[Affected CMS\n(§63.2386(d)(1)(ix))\n(Select from dropdown)]]=\"\",\"\",VLOOKUP(Table25[[#This Row],[Affected CMS\n(§63.2386(d)(1)(ix))\n(Select from dropdown)]],Table22[],2,FALSE))","v":""}]
[null,{"$f":"IF(Table25[[#This Row],[Affected CMS\n(§63.2386(d)(1)(ix))\n(Select from dropdown)]]=\"\",\"\",VLOOKUP(Table25[[#This Row],[Affected CMS\n(§63.2386(d)(1)(ix))\n(Select from dropdown)]],Table22[],2,FALSE))","v":""}]
[null,{"$f":"IF(Table25[[#This Row],[Affected CMS\n(§63.2386(d)(1)(ix))\n(Select from dropdown)]]=\"\",\"\",VLOOKUP(Table25[[#This Row],[Affected CMS\n(§63.2386(d)(1)(ix))\n(Select from dropdown)]],Table22[],2,FALSE))","v":""}]
[null,{"$f":"IF(Table25[[#This Row],[Affected CMS\n(§63.2386(d)(1)(ix))\n(Select from dropdown)]]=\"\",\"\",VLOOKUP(Table25[[#This Row],[Affected CMS\n(§63.2386(d)(1)(ix))\n(Select from dropdown)]],Table22[],2,FALSE))","v":""}]
[null,{"$f":"IF(Table25[[#This Row],[Affected CMS\n(§63.2386(d)(1)(ix))\n(Select from dropdown)]]=\"\",\"\",VLOOKUP(Table25[[#This Row],[Affected CMS\n(§63.2386(d)(1)(ix))\n(Select from dropdown)]],Table22[],2,FALSE))","v":""}]
[null,{"$f":"IF(Table25[[#This Row],[Affected CMS\n(§63.2386(d)(1)(ix))\n(Select from dropdown)]]=\"\",\"\",VLOOKUP(Table25[[#This Row],[Affected CMS\n(§63.2386(d)(1)(ix))\n(Select from dropdown)]],Table22[],2,FALSE))","v":""}]
[null,{"$f":"IF(Table25[[#This Row],[Affected CMS\n(§63.2386(d)(1)(ix))\n(Select from dropdown)]]=\"\",\"\",VLOOKUP(Table25[[#This Row],[Affected CMS\n(§63.2386(d)(1)(ix))\n(Select from dropdown)]],Table22[],2,FALSE))","v":""}]
[null,{"$f":"IF(Table25[[#This Row],[Affected CMS\n(§63.2386(d)(1)(ix))\n(Select from dropdown)]]=\"\",\"\",VLOOKUP(Table25[[#This Row],[Affected CMS\n(§63.2386(d)(1)(ix))\n(Select from dropdown)]],Table22[],2,FALSE))","v":""}]
[null,{"$f":"IF(Table25[[#This Row],[Affected CMS\n(§63.2386(d)(1)(ix))\n(Select from dropdown)]]=\"\",\"\",VLOOKUP(Table25[[#This Row],[Affected CMS\n(§63.2386(d)(1)(ix))\n(Select from dropdown)]],Table22[],2,FALSE))","v":""}]
[null,{"$f":"IF(Table25[[#This Row],[Affected CMS\n(§63.2386(d)(1)(ix))\n(Select from dropdown)]]=\"\",\"\",VLOOKUP(Table25[[#This Row],[Affected CMS\n(§63.2386(d)(1)(ix))\n(Select from dropdown)]],Table22[],2,FALSE))","v":""}]
[null,{"$f":"IF(Table25[[#This Row],[Affected CMS\n(§63.2386(d)(1)(ix))\n(Select from dropdown)]]=\"\",\"\",VLOOKUP(Table25[[#This Row],[Affected CMS\n(§63.2386(d)(1)(ix))\n(Select from dropdown)]],Table22[],2,FALSE))","v":""}]
[null,{"$f":"IF(Table25[[#This Row],[Affected CMS\n(§63.2386(d)(1)(ix))\n(Select from dropdown)]]=\"\",\"\",VLOOKUP(Table25[[#This Row],[Affected CMS\n(§63.2386(d)(1)(ix))\n(Select from dropdown)]],Table22[],2,FALSE))","v":""}]
[null,{"$f":"IF(Table25[[#This Row],[Affected CMS\n(§63.2386(d)(1)(ix))\n(Select from dropdown)]]=\"\",\"\",VLOOKUP(Table25[[#This Row],[Affected CMS\n(§63.2386(d)(1)(ix))\n(Select from dropdown)]],Table22[],2,FALSE))","v":""}]
[null,{"$f":"IF(Table25[[#This Row],[Affected CMS\n(§63.2386(d)(1)(ix))\n(Select from dropdown)]]=\"\",\"\",VLOOKUP(Table25[[#This Row],[Affected CMS\n(§63.2386(d)(1)(ix))\n(Select from dropdown)]],Table22[],2,FALSE))","v":""}]
[null,{"$f":"IF(Table25[[#This Row],[Affected CMS\n(§63.2386(d)(1)(ix))\n(Select from dropdown)]]=\"\",\"\",VLOOKUP(Table25[[#This Row],[Affected CMS\n(§63.2386(d)(1)(ix))\n(Select from dropdown)]],Table22[],2,FALSE))","v":""}]
[null,{"$f":"IF(Table25[[#This Row],[Affected CMS\n(§63.2386(d)(1)(ix))\n(Select from dropdown)]]=\"\",\"\",VLOOKUP(Table25[[#This Row],[Affected CMS\n(§63.2386(d)(1)(ix))\n(Select from dropdown)]],Table22[],2,FALSE))","v":""}]
[null,{"$f":"IF(Table25[[#This Row],[Affected CMS\n(§63.2386(d)(1)(ix))\n(Select from dropdown)]]=\"\",\"\",VLOOKUP(Table25[[#This Row],[Affected CMS\n(§63.2386(d)(1)(ix))\n(Select from dropdown)]],Table22[],2,FALSE))","v":""}]
[null,{"$f":"IF(Table25[[#This Row],[Affected CMS\n(§63.2386(d)(1)(ix))\n(Select from dropdown)]]=\"\",\"\",VLOOKUP(Table25[[#This Row],[Affected CMS\n(§63.2386(d)(1)(ix))\n(Select from dropdown)]],Table22[],2,FALSE))","v":""}]
[null,{"$f":"IF(Table25[[#This Row],[Affected CMS\n(§63.2386(d)(1)(ix))\n(Select from dropdown)]]=\"\",\"\",VLOOKUP(Table25[[#This Row],[Affected CMS\n(§63.2386(d)(1)(ix))\n(Select from dropdown)]],Table22[],2,FALSE))","v":""}]
[null,{"$f":"IF(Table25[[#This Row],[Affected CMS\n(§63.2386(d)(1)(ix))\n(Select from dropdown)]]=\"\",\"\",VLOOKUP(Table25[[#This Row],[Affected CMS\n(§63.2386(d)(1)(ix))\n(Select from dropdown)]],Table22[],2,FALSE))","v":""}]
[null,{"$f":"IF(Table25[[#This Row],[Affected CMS\n(§63.2386(d)(1)(ix))\n(Select from dropdown)]]=\"\",\"\",VLOOKUP(Table25[[#This Row],[Affected CMS\n(§63.2386(d)(1)(ix))\n(Select from dropdown)]],Table22[],2,FALSE))","v":""}]
[null,{"$f":"IF(Table25[[#This Row],[Affected CMS\n(§63.2386(d)(1)(ix))\n(Select from dropdown)]]=\"\",\"\",VLOOKUP(Table25[[#This Row],[Affected CMS\n(§63.2386(d)(1)(ix))\n(Select from dropdown)]],Table22[],2,FALSE))","v":""}]
[null,{"$f":"IF(Table25[[#This Row],[Affected CMS\n(§63.2386(d)(1)(ix))\n(Select from dropdown)]]=\"\",\"\",VLOOKUP(Table25[[#This Row],[Affected CMS\n(§63.2386(d)(1)(ix))\n(Select from dropdown)]],Table22[],2,FALSE))","v":""}]
[null,{"$f":"IF(Table25[[#This Row],[Affected CMS\n(§63.2386(d)(1)(ix))\n(Select from dropdown)]]=\"\",\"\",VLOOKUP(Table25[[#This Row],[Affected CMS\n(§63.2386(d)(1)(ix))\n(Select from dropdown)]],Table22[],2,FALSE))","v":""}]
[null,{"$f":"IF(Table25[[#This Row],[Affected CMS\n(§63.2386(d)(1)(ix))\n(Select from dropdown)]]=\"\",\"\",VLOOKUP(Table25[[#This Row],[Affected CMS\n(§63.2386(d)(1)(ix))\n(Select from dropdown)]],Table22[],2,FALSE))","v":""}]
[null,{"$f":"IF(Table25[[#This Row],[Affected CMS\n(§63.2386(d)(1)(ix))\n(Select from dropdown)]]=\"\",\"\",VLOOKUP(Table25[[#This Row],[Affected CMS\n(§63.2386(d)(1)(ix))\n(Select from dropdown)]],Table22[],2,FALSE))","v":""}]
[null,{"$f":"IF(Table25[[#This Row],[Affected CMS\n(§63.2386(d)(1)(ix))\n(Select from dropdown)]]=\"\",\"\",VLOOKUP(Table25[[#This Row],[Affected CMS\n(§63.2386(d)(1)(ix))\n(Select from dropdown)]],Table22[],2,FALSE))","v":""}]
[null,{"$f":"IF(Table25[[#This Row],[Affected CMS\n(§63.2386(d)(1)(ix))\n(Select from dropdown)]]=\"\",\"\",VLOOKUP(Table25[[#This Row],[Affected CMS\n(§63.2386(d)(1)(ix))\n(Select from dropdown)]],Table22[],2,FALSE))","v":""}]
[null,{"$f":"IF(Table25[[#This Row],[Affected CMS\n(§63.2386(d)(1)(ix))\n(Select from dropdown)]]=\"\",\"\",VLOOKUP(Table25[[#This Row],[Affected CMS\n(§63.2386(d)(1)(ix))\n(Select from dropdown)]],Table22[],2,FALSE))","v":""}]
[null,{"$f":"IF(Table25[[#This Row],[Affected CMS\n(§63.2386(d)(1)(ix))\n(Select from dropdown)]]=\"\",\"\",VLOOKUP(Table25[[#This Row],[Affected CMS\n(§63.2386(d)(1)(ix))\n(Select from dropdown)]],Table22[],2,FALSE))","v":""}]
[null,{"$f":"IF(Table25[[#This Row],[Affected CMS\n(§63.2386(d)(1)(ix))\n(Select from dropdown)]]=\"\",\"\",VLOOKUP(Table25[[#This Row],[Affected CMS\n(§63.2386(d)(1)(ix))\n(Select from dropdown)]],Table22[],2,FALSE))","v":""}]
[null,{"$f":"IF(Table25[[#This Row],[Affected CMS\n(§63.2386(d)(1)(ix))\n(Select from dropdown)]]=\"\",\"\",VLOOKUP(Table25[[#This Row],[Affected CMS\n(§63.2386(d)(1)(ix))\n(Select from dropdown)]],Table22[],2,FALSE))","v":""}]
[null,{"$f":"IF(Table25[[#This Row],[Affected CMS\n(§63.2386(d)(1)(ix))\n(Select from dropdown)]]=\"\",\"\",VLOOKUP(Table25[[#This Row],[Affected CMS\n(§63.2386(d)(1)(ix))\n(Select from dropdown)]],Table22[],2,FALSE))","v":""}]
[null,{"$f":"IF(Table25[[#This Row],[Affected CMS\n(§63.2386(d)(1)(ix))\n(Select from dropdown)]]=\"\",\"\",VLOOKUP(Table25[[#This Row],[Affected CMS\n(§63.2386(d)(1)(ix))\n(Select from dropdown)]],Table22[],2,FALSE))","v":""}]
[null,{"$f":"IF(Table25[[#This Row],[Affected CMS\n(§63.2386(d)(1)(ix))\n(Select from dropdown)]]=\"\",\"\",VLOOKUP(Table25[[#This Row],[Affected CMS\n(§63.2386(d)(1)(ix))\n(Select from dropdown)]],Table22[],2,FALSE))","v":""}]
[null,{"$f":"IF(Table25[[#This Row],[Affected CMS\n(§63.2386(d)(1)(ix))\n(Select from dropdown)]]=\"\",\"\",VLOOKUP(Table25[[#This Row],[Affected CMS\n(§63.2386(d)(1)(ix))\n(Select from dropdown)]],Table22[],2,FALSE))","v":""}]
[null,{"$f":"IF(Table25[[#This Row],[Affected CMS\n(§63.2386(d)(1)(ix))\n(Select from dropdown)]]=\"\",\"\",VLOOKUP(Table25[[#This Row],[Affected CMS\n(§63.2386(d)(1)(ix))\n(Select from dropdown)]],Table22[],2,FALSE))","v":""}]
[null,{"$f":"IF(Table25[[#This Row],[Affected CMS\n(§63.2386(d)(1)(ix))\n(Select from dropdown)]]=\"\",\"\",VLOOKUP(Table25[[#This Row],[Affected CMS\n(§63.2386(d)(1)(ix))\n(Select from dropdown)]],Table22[],2,FALSE))","v":""}]
[null,{"$f":"IF(Table25[[#This Row],[Affected CMS\n(§63.2386(d)(1)(ix))\n(Select from dropdown)]]=\"\",\"\",VLOOKUP(Table25[[#This Row],[Affected CMS\n(§63.2386(d)(1)(ix))\n(Select from dropdown)]],Table22[],2,FALSE))","v":""}]
[null,{"$f":"IF(Table25[[#This Row],[Affected CMS\n(§63.2386(d)(1)(ix))\n(Select from dropdown)]]=\"\",\"\",VLOOKUP(Table25[[#This Row],[Affected CMS\n(§63.2386(d)(1)(ix))\n(Select from dropdown)]],Table22[],2,FALSE))","v":""}]
[null,{"$f":"IF(Table25[[#This Row],[Affected CMS\n(§63.2386(d)(1)(ix))\n(Select from dropdown)]]=\"\",\"\",VLOOKUP(Table25[[#This Row],[Affected CMS\n(§63.2386(d)(1)(ix))\n(Select from dropdown)]],Table22[],2,FALSE))","v":""}]
[null,{"$f":"IF(Table25[[#This Row],[Affected CMS\n(§63.2386(d)(1)(ix))\n(Select from dropdown)]]=\"\",\"\",VLOOKUP(Table25[[#This Row],[Affected CMS\n(§63.2386(d)(1)(ix))\n(Select from dropdown)]],Table22[],2,FALSE))","v":""}]
[null,{"$f":"IF(Table25[[#This Row],[Affected CMS\n(§63.2386(d)(1)(ix))\n(Select from dropdown)]]=\"\",\"\",VLOOKUP(Table25[[#This Row],[Affected CMS\n(§63.2386(d)(1)(ix))\n(Select from dropdown)]],Table22[],2,FALSE))","v":""}]
[null,{"$f":"IF(Table25[[#This Row],[Affected CMS\n(§63.2386(d)(1)(ix))\n(Select from dropdown)]]=\"\",\"\",VLOOKUP(Table25[[#This Row],[Affected CMS\n(§63.2386(d)(1)(ix))\n(Select from dropdown)]],Table22[],2,FALSE))","v":""}]
[null,{"$f":"IF(Table25[[#This Row],[Affected CMS\n(§63.2386(d)(1)(ix))\n(Select from dropdown)]]=\"\",\"\",VLOOKUP(Table25[[#This Row],[Affected CMS\n(§63.2386(d)(1)(ix))\n(Select from dropdown)]],Table22[],2,FALSE))","v":""}]
[null,{"$f":"IF(Table25[[#This Row],[Affected CMS\n(§63.2386(d)(1)(ix))\n(Select from dropdown)]]=\"\",\"\",VLOOKUP(Table25[[#This Row],[Affected CMS\n(§63.2386(d)(1)(ix))\n(Select from dropdown)]],Table22[],2,FALSE))","v":""}]
[null,{"$f":"IF(Table25[[#This Row],[Affected CMS\n(§63.2386(d)(1)(ix))\n(Select from dropdown)]]=\"\",\"\",VLOOKUP(Table25[[#This Row],[Affected CMS\n(§63.2386(d)(1)(ix))\n(Select from dropdown)]],Table22[],2,FALSE))","v":""}]
[null,{"$f":"IF(Table25[[#This Row],[Affected CMS\n(§63.2386(d)(1)(ix))\n(Select from dropdown)]]=\"\",\"\",VLOOKUP(Table25[[#This Row],[Affected CMS\n(§63.2386(d)(1)(ix))\n(Select from dropdown)]],Table22[],2,FALSE))","v":""}]
[null,{"$f":"IF(Table25[[#This Row],[Affected CMS\n(§63.2386(d)(1)(ix))\n(Select from dropdown)]]=\"\",\"\",VLOOKUP(Table25[[#This Row],[Affected CMS\n(§63.2386(d)(1)(ix))\n(Select from dropdown)]],Table22[],2,FALSE))","v":""}]
[null,{"$f":"IF(Table25[[#This Row],[Affected CMS\n(§63.2386(d)(1)(ix))\n(Select from dropdown)]]=\"\",\"\",VLOOKUP(Table25[[#This Row],[Affected CMS\n(§63.2386(d)(1)(ix))\n(Select from dropdown)]],Table22[],2,FALSE))","v":""}]
[null,{"$f":"IF(Table25[[#This Row],[Affected CMS\n(§63.2386(d)(1)(ix))\n(Select from dropdown)]]=\"\",\"\",VLOOKUP(Table25[[#This Row],[Affected CMS\n(§63.2386(d)(1)(ix))\n(Select from dropdown)]],Table22[],2,FALSE))","v":""}]
[null,{"$f":"IF(Table25[[#This Row],[Affected CMS\n(§63.2386(d)(1)(ix))\n(Select from dropdown)]]=\"\",\"\",VLOOKUP(Table25[[#This Row],[Affected CMS\n(§63.2386(d)(1)(ix))\n(Select from dropdown)]],Table22[],2,FALSE))","v":""}]
[null,{"$f":"IF(Table25[[#This Row],[Affected CMS\n(§63.2386(d)(1)(ix))\n(Select from dropdown)]]=\"\",\"\",VLOOKUP(Table25[[#This Row],[Affected CMS\n(§63.2386(d)(1)(ix))\n(Select from dropdown)]],Table22[],2,FALSE))","v":""}]
[null,{"$f":"IF(Table25[[#This Row],[Affected CMS\n(§63.2386(d)(1)(ix))\n(Select from dropdown)]]=\"\",\"\",VLOOKUP(Table25[[#This Row],[Affected CMS\n(§63.2386(d)(1)(ix))\n(Select from dropdown)]],Table22[],2,FALSE))","v":""}]
[null,{"$f":"IF(Table25[[#This Row],[Affected CMS\n(§63.2386(d)(1)(ix))\n(Select from dropdown)]]=\"\",\"\",VLOOKUP(Table25[[#This Row],[Affected CMS\n(§63.2386(d)(1)(ix))\n(Select from dropdown)]],Table22[],2,FALSE))","v":""}]
[null,{"$f":"IF(Table25[[#This Row],[Affected CMS\n(§63.2386(d)(1)(ix))\n(Select from dropdown)]]=\"\",\"\",VLOOKUP(Table25[[#This Row],[Affected CMS\n(§63.2386(d)(1)(ix))\n(Select from dropdown)]],Table22[],2,FALSE))","v":""}]
[null,{"$f":"IF(Table25[[#This Row],[Affected CMS\n(§63.2386(d)(1)(ix))\n(Select from dropdown)]]=\"\",\"\",VLOOKUP(Table25[[#This Row],[Affected CMS\n(§63.2386(d)(1)(ix))\n(Select from dropdown)]],Table22[],2,FALSE))","v":""}]
[null,{"$f":"IF(Table25[[#This Row],[Affected CMS\n(§63.2386(d)(1)(ix))\n(Select from dropdown)]]=\"\",\"\",VLOOKUP(Table25[[#This Row],[Affected CMS\n(§63.2386(d)(1)(ix))\n(Select from dropdown)]],Table22[],2,FALSE))","v":""}]
[null,{"$f":"IF(Table25[[#This Row],[Affected CMS\n(§63.2386(d)(1)(ix))\n(Select from dropdown)]]=\"\",\"\",VLOOKUP(Table25[[#This Row],[Affected CMS\n(§63.2386(d)(1)(ix))\n(Select from dropdown)]],Table22[],2,FALSE))","v":""}]
[null,{"$f":"IF(Table25[[#This Row],[Affected CMS\n(§63.2386(d)(1)(ix))\n(Select from dropdown)]]=\"\",\"\",VLOOKUP(Table25[[#This Row],[Affected CMS\n(§63.2386(d)(1)(ix))\n(Select from dropdown)]],Table22[],2,FALSE))","v":""}]
[null,{"$f":"IF(Table25[[#This Row],[Affected CMS\n(§63.2386(d)(1)(ix))\n(Select from dropdown)]]=\"\",\"\",VLOOKUP(Table25[[#This Row],[Affected CMS\n(§63.2386(d)(1)(ix))\n(Select from dropdown)]],Table22[],2,FALSE))","v":""}]
[null,{"$f":"IF(Table25[[#This Row],[Affected CMS\n(§63.2386(d)(1)(ix))\n(Select from dropdown)]]=\"\",\"\",VLOOKUP(Table25[[#This Row],[Affected CMS\n(§63.2386(d)(1)(ix))\n(Select from dropdown)]],Table22[],2,FALSE))","v":""}]
[null,{"$f":"IF(Table25[[#This Row],[Affected CMS\n(§63.2386(d)(1)(ix))\n(Select from dropdown)]]=\"\",\"\",VLOOKUP(Table25[[#This Row],[Affected CMS\n(§63.2386(d)(1)(ix))\n(Select from dropdown)]],Table22[],2,FALSE))","v":""}]
[null,{"$f":"IF(Table25[[#This Row],[Affected CMS\n(§63.2386(d)(1)(ix))\n(Select from dropdown)]]=\"\",\"\",VLOOKUP(Table25[[#This Row],[Affected CMS\n(§63.2386(d)(1)(ix))\n(Select from dropdown)]],Table22[],2,FALSE))","v":""}]
[null,{"$f":"IF(Table25[[#This Row],[Affected CMS\n(§63.2386(d)(1)(ix))\n(Select from dropdown)]]=\"\",\"\",VLOOKUP(Table25[[#This Row],[Affected CMS\n(§63.2386(d)(1)(ix))\n(Select from dropdown)]],Table22[],2,FALSE))","v":""}]
[null,{"$f":"IF(Table25[[#This Row],[Affected CMS\n(§63.2386(d)(1)(ix))\n(Select from dropdown)]]=\"\",\"\",VLOOKUP(Table25[[#This Row],[Affected CMS\n(§63.2386(d)(1)(ix))\n(Select from dropdown)]],Table22[],2,FALSE))","v":""}]
[null,{"$f":"IF(Table25[[#This Row],[Affected CMS\n(§63.2386(d)(1)(ix))\n(Select from dropdown)]]=\"\",\"\",VLOOKUP(Table25[[#This Row],[Affected CMS\n(§63.2386(d)(1)(ix))\n(Select from dropdown)]],Table22[],2,FALSE))","v":""}]
[null,{"$f":"IF(Table25[[#This Row],[Affected CMS\n(§63.2386(d)(1)(ix))\n(Select from dropdown)]]=\"\",\"\",VLOOKUP(Table25[[#This Row],[Affected CMS\n(§63.2386(d)(1)(ix))\n(Select from dropdown)]],Table22[],2,FALSE))","v":""}]
[null,{"$f":"IF(Table25[[#This Row],[Affected CMS\n(§63.2386(d)(1)(ix))\n(Select from dropdown)]]=\"\",\"\",VLOOKUP(Table25[[#This Row],[Affected CMS\n(§63.2386(d)(1)(ix))\n(Select from dropdown)]],Table22[],2,FALSE))","v":""}]
[null,{"$f":"IF(Table25[[#This Row],[Affected CMS\n(§63.2386(d)(1)(ix))\n(Select from dropdown)]]=\"\",\"\",VLOOKUP(Table25[[#This Row],[Affected CMS\n(§63.2386(d)(1)(ix))\n(Select from dropdown)]],Table22[],2,FALSE))","v":""}]
[null,{"$f":"IF(Table25[[#This Row],[Affected CMS\n(§63.2386(d)(1)(ix))\n(Select from dropdown)]]=\"\",\"\",VLOOKUP(Table25[[#This Row],[Affected CMS\n(§63.2386(d)(1)(ix))\n(Select from dropdown)]],Table22[],2,FALSE))","v":""}]
[null,{"$f":"IF(Table25[[#This Row],[Affected CMS\n(§63.2386(d)(1)(ix))\n(Select from dropdown)]]=\"\",\"\",VLOOKUP(Table25[[#This Row],[Affected CMS\n(§63.2386(d)(1)(ix))\n(Select from dropdown)]],Table22[],2,FALSE))","v":""}]
[null,{"$f":"IF(Table25[[#This Row],[Affected CMS\n(§63.2386(d)(1)(ix))\n(Select from dropdown)]]=\"\",\"\",VLOOKUP(Table25[[#This Row],[Affected CMS\n(§63.2386(d)(1)(ix))\n(Select from dropdown)]],Table22[],2,FALSE))","v":""}]
[null,{"$f":"IF(Table25[[#This Row],[Affected CMS\n(§63.2386(d)(1)(ix))\n(Select from dropdown)]]=\"\",\"\",VLOOKUP(Table25[[#This Row],[Affected CMS\n(§63.2386(d)(1)(ix))\n(Select from dropdown)]],Table22[],2,FALSE))","v":""}]
[null,{"$f":"IF(Table25[[#This Row],[Affected CMS\n(§63.2386(d)(1)(ix))\n(Select from dropdown)]]=\"\",\"\",VLOOKUP(Table25[[#This Row],[Affected CMS\n(§63.2386(d)(1)(ix))\n(Select from dropdown)]],Table22[],2,FALSE))","v":""}]
[null,{"$f":"IF(Table25[[#This Row],[Affected CMS\n(§63.2386(d)(1)(ix))\n(Select from dropdown)]]=\"\",\"\",VLOOKUP(Table25[[#This Row],[Affected CMS\n(§63.2386(d)(1)(ix))\n(Select from dropdown)]],Table22[],2,FALSE))","v":""}]
[null,{"$f":"IF(Table25[[#This Row],[Affected CMS\n(§63.2386(d)(1)(ix))\n(Select from dropdown)]]=\"\",\"\",VLOOKUP(Table25[[#This Row],[Affected CMS\n(§63.2386(d)(1)(ix))\n(Select from dropdown)]],Table22[],2,FALSE))","v":""}]
[null,{"$f":"IF(Table25[[#This Row],[Affected CMS\n(§63.2386(d)(1)(ix))\n(Select from dropdown)]]=\"\",\"\",VLOOKUP(Table25[[#This Row],[Affected CMS\n(§63.2386(d)(1)(ix))\n(Select from dropdown)]],Table22[],2,FALSE))","v":""}]
[null,{"$f":"IF(Table25[[#This Row],[Affected CMS\n(§63.2386(d)(1)(ix))\n(Select from dropdown)]]=\"\",\"\",VLOOKUP(Table25[[#This Row],[Affected CMS\n(§63.2386(d)(1)(ix))\n(Select from dropdown)]],Table22[],2,FALSE))","v":""}]
[null,{"$f":"IF(Table25[[#This Row],[Affected CMS\n(§63.2386(d)(1)(ix))\n(Select from dropdown)]]=\"\",\"\",VLOOKUP(Table25[[#This Row],[Affected CMS\n(§63.2386(d)(1)(ix))\n(Select from dropdown)]],Table22[],2,FALSE))","v":""}]
[null,{"$f":"IF(Table25[[#This Row],[Affected CMS\n(§63.2386(d)(1)(ix))\n(Select from dropdown)]]=\"\",\"\",VLOOKUP(Table25[[#This Row],[Affected CMS\n(§63.2386(d)(1)(ix))\n(Select from dropdown)]],Table22[],2,FALSE))","v":""}]
[null,{"$f":"IF(Table25[[#This Row],[Affected CMS\n(§63.2386(d)(1)(ix))\n(Select from dropdown)]]=\"\",\"\",VLOOKUP(Table25[[#This Row],[Affected CMS\n(§63.2386(d)(1)(ix))\n(Select from dropdown)]],Table22[],2,FALSE))","v":""}]
[null,{"$f":"IF(Table25[[#This Row],[Affected CMS\n(§63.2386(d)(1)(ix))\n(Select from dropdown)]]=\"\",\"\",VLOOKUP(Table25[[#This Row],[Affected CMS\n(§63.2386(d)(1)(ix))\n(Select from dropdown)]],Table22[],2,FALSE))","v":""}]
[null,{"$f":"IF(Table25[[#This Row],[Affected CMS\n(§63.2386(d)(1)(ix))\n(Select from dropdown)]]=\"\",\"\",VLOOKUP(Table25[[#This Row],[Affected CMS\n(§63.2386(d)(1)(ix))\n(Select from dropdown)]],Table22[],2,FALSE))","v":""}]
[null,{"$f":"IF(Table25[[#This Row],[Affected CMS\n(§63.2386(d)(1)(ix))\n(Select from dropdown)]]=\"\",\"\",VLOOKUP(Table25[[#This Row],[Affected CMS\n(§63.2386(d)(1)(ix))\n(Select from dropdown)]],Table22[],2,FALSE))","v":""}]
[null,{"$f":"IF(Table25[[#This Row],[Affected CMS\n(§63.2386(d)(1)(ix))\n(Select from dropdown)]]=\"\",\"\",VLOOKUP(Table25[[#This Row],[Affected CMS\n(§63.2386(d)(1)(ix))\n(Select from dropdown)]],Table22[],2,FALSE))","v":""}]
[null,{"$f":"IF(Table25[[#This Row],[Affected CMS\n(§63.2386(d)(1)(ix))\n(Select from dropdown)]]=\"\",\"\",VLOOKUP(Table25[[#This Row],[Affected CMS\n(§63.2386(d)(1)(ix))\n(Select from dropdown)]],Table22[],2,FALSE))","v":""}]
[null,{"$f":"IF(Table25[[#This Row],[Affected CMS\n(§63.2386(d)(1)(ix))\n(Select from dropdown)]]=\"\",\"\",VLOOKUP(Table25[[#This Row],[Affected CMS\n(§63.2386(d)(1)(ix))\n(Select from dropdown)]],Table22[],2,FALSE))","v":""}]
[null,{"$f":"IF(Table25[[#This Row],[Affected CMS\n(§63.2386(d)(1)(ix))\n(Select from dropdown)]]=\"\",\"\",VLOOKUP(Table25[[#This Row],[Affected CMS\n(§63.2386(d)(1)(ix))\n(Select from dropdown)]],Table22[],2,FALSE))","v":""}]
[null,{"$f":"IF(Table25[[#This Row],[Affected CMS\n(§63.2386(d)(1)(ix))\n(Select from dropdown)]]=\"\",\"\",VLOOKUP(Table25[[#This Row],[Affected CMS\n(§63.2386(d)(1)(ix))\n(Select from dropdown)]],Table22[],2,FALSE))","v":""}]
[null,{"$f":"IF(Table25[[#This Row],[Affected CMS\n(§63.2386(d)(1)(ix))\n(Select from dropdown)]]=\"\",\"\",VLOOKUP(Table25[[#This Row],[Affected CMS\n(§63.2386(d)(1)(ix))\n(Select from dropdown)]],Table22[],2,FALSE))","v":""}]
[null,{"$f":"IF(Table25[[#This Row],[Affected CMS\n(§63.2386(d)(1)(ix))\n(Select from dropdown)]]=\"\",\"\",VLOOKUP(Table25[[#This Row],[Affected CMS\n(§63.2386(d)(1)(ix))\n(Select from dropdown)]],Table22[],2,FALSE))","v":""}]
[null,{"$f":"IF(Table25[[#This Row],[Affected CMS\n(§63.2386(d)(1)(ix))\n(Select from dropdown)]]=\"\",\"\",VLOOKUP(Table25[[#This Row],[Affected CMS\n(§63.2386(d)(1)(ix))\n(Select from dropdown)]],Table22[],2,FALSE))","v":""}]
[null,{"$f":"IF(Table25[[#This Row],[Affected CMS\n(§63.2386(d)(1)(ix))\n(Select from dropdown)]]=\"\",\"\",VLOOKUP(Table25[[#This Row],[Affected CMS\n(§63.2386(d)(1)(ix))\n(Select from dropdown)]],Table22[],2,FALSE))","v":""}]
[null,{"$f":"IF(Table25[[#This Row],[Affected CMS\n(§63.2386(d)(1)(ix))\n(Select from dropdown)]]=\"\",\"\",VLOOKUP(Table25[[#This Row],[Affected CMS\n(§63.2386(d)(1)(ix))\n(Select from dropdown)]],Table22[],2,FALSE))","v":""}]
[null,{"$f":"IF(Table25[[#This Row],[Affected CMS\n(§63.2386(d)(1)(ix))\n(Select from dropdown)]]=\"\",\"\",VLOOKUP(Table25[[#This Row],[Affected CMS\n(§63.2386(d)(1)(ix))\n(Select from dropdown)]],Table22[],2,FALSE))","v":""}]
[null,{"$f":"IF(Table25[[#This Row],[Affected CMS\n(§63.2386(d)(1)(ix))\n(Select from dropdown)]]=\"\",\"\",VLOOKUP(Table25[[#This Row],[Affected CMS\n(§63.2386(d)(1)(ix))\n(Select from dropdown)]],Table22[],2,FALSE))","v":""}]
[null,{"$f":"IF(Table25[[#This Row],[Affected CMS\n(§63.2386(d)(1)(ix))\n(Select from dropdown)]]=\"\",\"\",VLOOKUP(Table25[[#This Row],[Affected CMS\n(§63.2386(d)(1)(ix))\n(Select from dropdown)]],Table22[],2,FALSE))","v":""}]
[null,{"$f":"IF(Table25[[#This Row],[Affected CMS\n(§63.2386(d)(1)(ix))\n(Select from dropdown)]]=\"\",\"\",VLOOKUP(Table25[[#This Row],[Affected CMS\n(§63.2386(d)(1)(ix))\n(Select from dropdown)]],Table22[],2,FALSE))","v":""}]
[null,{"$f":"IF(Table25[[#This Row],[Affected CMS\n(§63.2386(d)(1)(ix))\n(Select from dropdown)]]=\"\",\"\",VLOOKUP(Table25[[#This Row],[Affected CMS\n(§63.2386(d)(1)(ix))\n(Select from dropdown)]],Table22[],2,FALSE))","v":""}]
[null,{"$f":"IF(Table25[[#This Row],[Affected CMS\n(§63.2386(d)(1)(ix))\n(Select from dropdown)]]=\"\",\"\",VLOOKUP(Table25[[#This Row],[Affected CMS\n(§63.2386(d)(1)(ix))\n(Select from dropdown)]],Table22[],2,FALSE))","v":""}]
[null,{"$f":"IF(Table25[[#This Row],[Affected CMS\n(§63.2386(d)(1)(ix))\n(Select from dropdown)]]=\"\",\"\",VLOOKUP(Table25[[#This Row],[Affected CMS\n(§63.2386(d)(1)(ix))\n(Select from dropdown)]],Table22[],2,FALSE))","v":""}]
[null,{"$f":"IF(Table25[[#This Row],[Affected CMS\n(§63.2386(d)(1)(ix))\n(Select from dropdown)]]=\"\",\"\",VLOOKUP(Table25[[#This Row],[Affected CMS\n(§63.2386(d)(1)(ix))\n(Select from dropdown)]],Table22[],2,FALSE))","v":""}]
[null,{"$f":"IF(Table25[[#This Row],[Affected CMS\n(§63.2386(d)(1)(ix))\n(Select from dropdown)]]=\"\",\"\",VLOOKUP(Table25[[#This Row],[Affected CMS\n(§63.2386(d)(1)(ix))\n(Select from dropdown)]],Table22[],2,FALSE))","v":""}]
[null,{"$f":"IF(Table25[[#This Row],[Affected CMS\n(§63.2386(d)(1)(ix))\n(Select from dropdown)]]=\"\",\"\",VLOOKUP(Table25[[#This Row],[Affected CMS\n(§63.2386(d)(1)(ix))\n(Select from dropdown)]],Table22[],2,FALSE))","v":""}]
[null,{"$f":"IF(Table25[[#This Row],[Affected CMS\n(§63.2386(d)(1)(ix))\n(Select from dropdown)]]=\"\",\"\",VLOOKUP(Table25[[#This Row],[Affected CMS\n(§63.2386(d)(1)(ix))\n(Select from dropdown)]],Table22[],2,FALSE))","v":""}]
[null,{"$f":"IF(Table25[[#This Row],[Affected CMS\n(§63.2386(d)(1)(ix))\n(Select from dropdown)]]=\"\",\"\",VLOOKUP(Table25[[#This Row],[Affected CMS\n(§63.2386(d)(1)(ix))\n(Select from dropdown)]],Table22[],2,FALSE))","v":""}]
[null,{"$f":"IF(Table25[[#This Row],[Affected CMS\n(§63.2386(d)(1)(ix))\n(Select from dropdown)]]=\"\",\"\",VLOOKUP(Table25[[#This Row],[Affected CMS\n(§63.2386(d)(1)(ix))\n(Select from dropdown)]],Table22[],2,FALSE))","v":""}]
[null,{"$f":"IF(Table25[[#This Row],[Affected CMS\n(§63.2386(d)(1)(ix))\n(Select from dropdown)]]=\"\",\"\",VLOOKUP(Table25[[#This Row],[Affected CMS\n(§63.2386(d)(1)(ix))\n(Select from dropdown)]],Table22[],2,FALSE))","v":""}]
[null,{"$f":"IF(Table25[[#This Row],[Affected CMS\n(§63.2386(d)(1)(ix))\n(Select from dropdown)]]=\"\",\"\",VLOOKUP(Table25[[#This Row],[Affected CMS\n(§63.2386(d)(1)(ix))\n(Select from dropdown)]],Table22[],2,FALSE))","v":""}]
[null,{"$f":"IF(Table25[[#This Row],[Affected CMS\n(§63.2386(d)(1)(ix))\n(Select from dropdown)]]=\"\",\"\",VLOOKUP(Table25[[#This Row],[Affected CMS\n(§63.2386(d)(1)(ix))\n(Select from dropdown)]],Table22[],2,FALSE))","v":""}]
[null,{"$f":"IF(Table25[[#This Row],[Affected CMS\n(§63.2386(d)(1)(ix))\n(Select from dropdown)]]=\"\",\"\",VLOOKUP(Table25[[#This Row],[Affected CMS\n(§63.2386(d)(1)(ix))\n(Select from dropdown)]],Table22[],2,FALSE))","v":""}]
[null,{"$f":"IF(Table25[[#This Row],[Affected CMS\n(§63.2386(d)(1)(ix))\n(Select from dropdown)]]=\"\",\"\",VLOOKUP(Table25[[#This Row],[Affected CMS\n(§63.2386(d)(1)(ix))\n(Select from dropdown)]],Table22[],2,FALSE))","v":""}]
[null,{"$f":"IF(Table25[[#This Row],[Affected CMS\n(§63.2386(d)(1)(ix))\n(Select from dropdown)]]=\"\",\"\",VLOOKUP(Table25[[#This Row],[Affected CMS\n(§63.2386(d)(1)(ix))\n(Select from dropdown)]],Table22[],2,FALSE))","v":""}]
[null,{"$f":"IF(Table25[[#This Row],[Affected CMS\n(§63.2386(d)(1)(ix))\n(Select from dropdown)]]=\"\",\"\",VLOOKUP(Table25[[#This Row],[Affected CMS\n(§63.2386(d)(1)(ix))\n(Select from dropdown)]],Table22[],2,FALSE))","v":""}]
[null,{"$f":"IF(Table25[[#This Row],[Affected CMS\n(§63.2386(d)(1)(ix))\n(Select from dropdown)]]=\"\",\"\",VLOOKUP(Table25[[#This Row],[Affected CMS\n(§63.2386(d)(1)(ix))\n(Select from dropdown)]],Table22[],2,FALSE))","v":""}]
[null,{"$f":"IF(Table25[[#This Row],[Affected CMS\n(§63.2386(d)(1)(ix))\n(Select from dropdown)]]=\"\",\"\",VLOOKUP(Table25[[#This Row],[Affected CMS\n(§63.2386(d)(1)(ix))\n(Select from dropdown)]],Table22[],2,FALSE))","v":""}]
[null,{"$f":"IF(Table25[[#This Row],[Affected CMS\n(§63.2386(d)(1)(ix))\n(Select from dropdown)]]=\"\",\"\",VLOOKUP(Table25[[#This Row],[Affected CMS\n(§63.2386(d)(1)(ix))\n(Select from dropdown)]],Table22[],2,FALSE))","v":""}]
[null,{"$f":"IF(Table25[[#This Row],[Affected CMS\n(§63.2386(d)(1)(ix))\n(Select from dropdown)]]=\"\",\"\",VLOOKUP(Table25[[#This Row],[Affected CMS\n(§63.2386(d)(1)(ix))\n(Select from dropdown)]],Table22[],2,FALSE))","v":""}]
[null,{"$f":"IF(Table25[[#This Row],[Affected CMS\n(§63.2386(d)(1)(ix))\n(Select from dropdown)]]=\"\",\"\",VLOOKUP(Table25[[#This Row],[Affected CMS\n(§63.2386(d)(1)(ix))\n(Select from dropdown)]],Table22[],2,FALSE))","v":""}]
[null,{"$f":"IF(Table25[[#This Row],[Affected CMS\n(§63.2386(d)(1)(ix))\n(Select from dropdown)]]=\"\",\"\",VLOOKUP(Table25[[#This Row],[Affected CMS\n(§63.2386(d)(1)(ix))\n(Select from dropdown)]],Table22[],2,FALSE))","v":""}]
[null,{"$f":"IF(Table25[[#This Row],[Affected CMS\n(§63.2386(d)(1)(ix))\n(Select from dropdown)]]=\"\",\"\",VLOOKUP(Table25[[#This Row],[Affected CMS\n(§63.2386(d)(1)(ix))\n(Select from dropdown)]],Table22[],2,FALSE))","v":""}]
[null,{"$f":"IF(Table25[[#This Row],[Affected CMS\n(§63.2386(d)(1)(ix))\n(Select from dropdown)]]=\"\",\"\",VLOOKUP(Table25[[#This Row],[Affected CMS\n(§63.2386(d)(1)(ix))\n(Select from dropdown)]],Table22[],2,FALSE))","v":""}]
[null,{"$f":"IF(Table25[[#This Row],[Affected CMS\n(§63.2386(d)(1)(ix))\n(Select from dropdown)]]=\"\",\"\",VLOOKUP(Table25[[#This Row],[Affected CMS\n(§63.2386(d)(1)(ix))\n(Select from dropdown)]],Table22[],2,FALSE))","v":""}]
[null,{"$f":"IF(Table25[[#This Row],[Affected CMS\n(§63.2386(d)(1)(ix))\n(Select from dropdown)]]=\"\",\"\",VLOOKUP(Table25[[#This Row],[Affected CMS\n(§63.2386(d)(1)(ix))\n(Select from dropdown)]],Table22[],2,FALSE))","v":""}]
[null,{"$f":"IF(Table25[[#This Row],[Affected CMS\n(§63.2386(d)(1)(ix))\n(Select from dropdown)]]=\"\",\"\",VLOOKUP(Table25[[#This Row],[Affected CMS\n(§63.2386(d)(1)(ix))\n(Select from dropdown)]],Table22[],2,FALSE))","v":""}]
[null,{"$f":"IF(Table25[[#This Row],[Affected CMS\n(§63.2386(d)(1)(ix))\n(Select from dropdown)]]=\"\",\"\",VLOOKUP(Table25[[#This Row],[Affected CMS\n(§63.2386(d)(1)(ix))\n(Select from dropdown)]],Table22[],2,FALSE))","v":""}]
[null,{"$f":"IF(Table25[[#This Row],[Affected CMS\n(§63.2386(d)(1)(ix))\n(Select from dropdown)]]=\"\",\"\",VLOOKUP(Table25[[#This Row],[Affected CMS\n(§63.2386(d)(1)(ix))\n(Select from dropdown)]],Table22[],2,FALSE))","v":""}]
[null,{"$f":"IF(Table25[[#This Row],[Affected CMS\n(§63.2386(d)(1)(ix))\n(Select from dropdown)]]=\"\",\"\",VLOOKUP(Table25[[#This Row],[Affected CMS\n(§63.2386(d)(1)(ix))\n(Select from dropdown)]],Table22[],2,FALSE))","v":""}]
[null,{"$f":"IF(Table25[[#This Row],[Affected CMS\n(§63.2386(d)(1)(ix))\n(Select from dropdown)]]=\"\",\"\",VLOOKUP(Table25[[#This Row],[Affected CMS\n(§63.2386(d)(1)(ix))\n(Select from dropdown)]],Table22[],2,FALSE))","v":""}]
[null,{"$f":"IF(Table25[[#This Row],[Affected CMS\n(§63.2386(d)(1)(ix))\n(Select from dropdown)]]=\"\",\"\",VLOOKUP(Table25[[#This Row],[Affected CMS\n(§63.2386(d)(1)(ix))\n(Select from dropdown)]],Table22[],2,FALSE))","v":""}]
[null,{"$f":"IF(Table25[[#This Row],[Affected CMS\n(§63.2386(d)(1)(ix))\n(Select from dropdown)]]=\"\",\"\",VLOOKUP(Table25[[#This Row],[Affected CMS\n(§63.2386(d)(1)(ix))\n(Select from dropdown)]],Table22[],2,FALSE))","v":""}]
[null,{"$f":"IF(Table25[[#This Row],[Affected CMS\n(§63.2386(d)(1)(ix))\n(Select from dropdown)]]=\"\",\"\",VLOOKUP(Table25[[#This Row],[Affected CMS\n(§63.2386(d)(1)(ix))\n(Select from dropdown)]],Table22[],2,FALSE))","v":""}]
[null,{"$f":"IF(Table25[[#This Row],[Affected CMS\n(§63.2386(d)(1)(ix))\n(Select from dropdown)]]=\"\",\"\",VLOOKUP(Table25[[#This Row],[Affected CMS\n(§63.2386(d)(1)(ix))\n(Select from dropdown)]],Table22[],2,FALSE))","v":""}]
[null,{"$f":"IF(Table25[[#This Row],[Affected CMS\n(§63.2386(d)(1)(ix))\n(Select from dropdown)]]=\"\",\"\",VLOOKUP(Table25[[#This Row],[Affected CMS\n(§63.2386(d)(1)(ix))\n(Select from dropdown)]],Table22[],2,FALSE))","v":""}]
[null,{"$f":"IF(Table25[[#This Row],[Affected CMS\n(§63.2386(d)(1)(ix))\n(Select from dropdown)]]=\"\",\"\",VLOOKUP(Table25[[#This Row],[Affected CMS\n(§63.2386(d)(1)(ix))\n(Select from dropdown)]],Table22[],2,FALSE))","v":""}]
[null,{"$f":"IF(Table25[[#This Row],[Affected CMS\n(§63.2386(d)(1)(ix))\n(Select from dropdown)]]=\"\",\"\",VLOOKUP(Table25[[#This Row],[Affected CMS\n(§63.2386(d)(1)(ix))\n(Select from dropdown)]],Table22[],2,FALSE))","v":""}]
[null,{"$f":"IF(Table25[[#This Row],[Affected CMS\n(§63.2386(d)(1)(ix))\n(Select from dropdown)]]=\"\",\"\",VLOOKUP(Table25[[#This Row],[Affected CMS\n(§63.2386(d)(1)(ix))\n(Select from dropdown)]],Table22[],2,FALSE))","v":""}]
[null,{"$f":"IF(Table25[[#This Row],[Affected CMS\n(§63.2386(d)(1)(ix))\n(Select from dropdown)]]=\"\",\"\",VLOOKUP(Table25[[#This Row],[Affected CMS\n(§63.2386(d)(1)(ix))\n(Select from dropdown)]],Table22[],2,FALSE))","v":""}]
[null,{"$f":"IF(Table25[[#This Row],[Affected CMS\n(§63.2386(d)(1)(ix))\n(Select from dropdown)]]=\"\",\"\",VLOOKUP(Table25[[#This Row],[Affected CMS\n(§63.2386(d)(1)(ix))\n(Select from dropdown)]],Table22[],2,FALSE))","v":""}]
[null,{"$f":"IF(Table25[[#This Row],[Affected CMS\n(§63.2386(d)(1)(ix))\n(Select from dropdown)]]=\"\",\"\",VLOOKUP(Table25[[#This Row],[Affected CMS\n(§63.2386(d)(1)(ix))\n(Select from dropdown)]],Table22[],2,FALSE))","v":""}]
[null,{"$f":"IF(Table25[[#This Row],[Affected CMS\n(§63.2386(d)(1)(ix))\n(Select from dropdown)]]=\"\",\"\",VLOOKUP(Table25[[#This Row],[Affected CMS\n(§63.2386(d)(1)(ix))\n(Select from dropdown)]],Table22[],2,FALSE))","v":""}]
[null,{"$f":"IF(Table25[[#This Row],[Affected CMS\n(§63.2386(d)(1)(ix))\n(Select from dropdown)]]=\"\",\"\",VLOOKUP(Table25[[#This Row],[Affected CMS\n(§63.2386(d)(1)(ix))\n(Select from dropdown)]],Table22[],2,FALSE))","v":""}]
[null,{"$f":"IF(Table25[[#This Row],[Affected CMS\n(§63.2386(d)(1)(ix))\n(Select from dropdown)]]=\"\",\"\",VLOOKUP(Table25[[#This Row],[Affected CMS\n(§63.2386(d)(1)(ix))\n(Select from dropdown)]],Table22[],2,FALSE))","v":""}]
[null,{"$f":"IF(Table25[[#This Row],[Affected CMS\n(§63.2386(d)(1)(ix))\n(Select from dropdown)]]=\"\",\"\",VLOOKUP(Table25[[#This Row],[Affected CMS\n(§63.2386(d)(1)(ix))\n(Select from dropdown)]],Table22[],2,FALSE))","v":""}]
[null,{"$f":"IF(Table25[[#This Row],[Affected CMS\n(§63.2386(d)(1)(ix))\n(Select from dropdown)]]=\"\",\"\",VLOOKUP(Table25[[#This Row],[Affected CMS\n(§63.2386(d)(1)(ix))\n(Select from dropdown)]],Table22[],2,FALSE))","v":""}]
[null,{"$f":"IF(Table25[[#This Row],[Affected CMS\n(§63.2386(d)(1)(ix))\n(Select from dropdown)]]=\"\",\"\",VLOOKUP(Table25[[#This Row],[Affected CMS\n(§63.2386(d)(1)(ix))\n(Select from dropdown)]],Table22[],2,FALSE))","v":""}]
[null,{"$f":"IF(Table25[[#This Row],[Affected CMS\n(§63.2386(d)(1)(ix))\n(Select from dropdown)]]=\"\",\"\",VLOOKUP(Table25[[#This Row],[Affected CMS\n(§63.2386(d)(1)(ix))\n(Select from dropdown)]],Table22[],2,FALSE))","v":""}]
[null,{"$f":"IF(Table25[[#This Row],[Affected CMS\n(§63.2386(d)(1)(ix))\n(Select from dropdown)]]=\"\",\"\",VLOOKUP(Table25[[#This Row],[Affected CMS\n(§63.2386(d)(1)(ix))\n(Select from dropdown)]],Table22[],2,FALSE))","v":""}]
[null,{"$f":"IF(Table25[[#This Row],[Affected CMS\n(§63.2386(d)(1)(ix))\n(Select from dropdown)]]=\"\",\"\",VLOOKUP(Table25[[#This Row],[Affected CMS\n(§63.2386(d)(1)(ix))\n(Select from dropdown)]],Table22[],2,FALSE))","v":""}]
[null,{"$f":"IF(Table25[[#This Row],[Affected CMS\n(§63.2386(d)(1)(ix))\n(Select from dropdown)]]=\"\",\"\",VLOOKUP(Table25[[#This Row],[Affected CMS\n(§63.2386(d)(1)(ix))\n(Select from dropdown)]],Table22[],2,FALSE))","v":""}]
[null,{"$f":"IF(Table25[[#This Row],[Affected CMS\n(§63.2386(d)(1)(ix))\n(Select from dropdown)]]=\"\",\"\",VLOOKUP(Table25[[#This Row],[Affected CMS\n(§63.2386(d)(1)(ix))\n(Select from dropdown)]],Table22[],2,FALSE))","v":""}]
[null,{"$f":"IF(Table25[[#This Row],[Affected CMS\n(§63.2386(d)(1)(ix))\n(Select from dropdown)]]=\"\",\"\",VLOOKUP(Table25[[#This Row],[Affected CMS\n(§63.2386(d)(1)(ix))\n(Select from dropdown)]],Table22[],2,FALSE))","v":""}]
[null,{"$f":"IF(Table25[[#This Row],[Affected CMS\n(§63.2386(d)(1)(ix))\n(Select from dropdown)]]=\"\",\"\",VLOOKUP(Table25[[#This Row],[Affected CMS\n(§63.2386(d)(1)(ix))\n(Select from dropdown)]],Table22[],2,FALSE))","v":""}]
[null,{"$f":"IF(Table25[[#This Row],[Affected CMS\n(§63.2386(d)(1)(ix))\n(Select from dropdown)]]=\"\",\"\",VLOOKUP(Table25[[#This Row],[Affected CMS\n(§63.2386(d)(1)(ix))\n(Select from dropdown)]],Table22[],2,FALSE))","v":""}]
[null,{"$f":"IF(Table25[[#This Row],[Affected CMS\n(§63.2386(d)(1)(ix))\n(Select from dropdown)]]=\"\",\"\",VLOOKUP(Table25[[#This Row],[Affected CMS\n(§63.2386(d)(1)(ix))\n(Select from dropdown)]],Table22[],2,FALSE))","v":""}]
[null,{"$f":"IF(Table25[[#This Row],[Affected CMS\n(§63.2386(d)(1)(ix))\n(Select from dropdown)]]=\"\",\"\",VLOOKUP(Table25[[#This Row],[Affected CMS\n(§63.2386(d)(1)(ix))\n(Select from dropdown)]],Table22[],2,FALSE))","v":""}]
[null,{"$f":"IF(Table25[[#This Row],[Affected CMS\n(§63.2386(d)(1)(ix))\n(Select from dropdown)]]=\"\",\"\",VLOOKUP(Table25[[#This Row],[Affected CMS\n(§63.2386(d)(1)(ix))\n(Select from dropdown)]],Table22[],2,FALSE))","v":""}]
[null,{"$f":"IF(Table25[[#This Row],[Affected CMS\n(§63.2386(d)(1)(ix))\n(Select from dropdown)]]=\"\",\"\",VLOOKUP(Table25[[#This Row],[Affected CMS\n(§63.2386(d)(1)(ix))\n(Select from dropdown)]],Table22[],2,FALSE))","v":""}]
[null,{"$f":"IF(Table25[[#This Row],[Affected CMS\n(§63.2386(d)(1)(ix))\n(Select from dropdown)]]=\"\",\"\",VLOOKUP(Table25[[#This Row],[Affected CMS\n(§63.2386(d)(1)(ix))\n(Select from dropdown)]],Table22[],2,FALSE))","v":""}]
[null,{"$f":"IF(Table25[[#This Row],[Affected CMS\n(§63.2386(d)(1)(ix))\n(Select from dropdown)]]=\"\",\"\",VLOOKUP(Table25[[#This Row],[Affected CMS\n(§63.2386(d)(1)(ix))\n(Select from dropdown)]],Table22[],2,FALSE))","v":""}]
[null,{"$f":"IF(Table25[[#This Row],[Affected CMS\n(§63.2386(d)(1)(ix))\n(Select from dropdown)]]=\"\",\"\",VLOOKUP(Table25[[#This Row],[Affected CMS\n(§63.2386(d)(1)(ix))\n(Select from dropdown)]],Table22[],2,FALSE))","v":""}]
[null,{"$f":"IF(Table25[[#This Row],[Affected CMS\n(§63.2386(d)(1)(ix))\n(Select from dropdown)]]=\"\",\"\",VLOOKUP(Table25[[#This Row],[Affected CMS\n(§63.2386(d)(1)(ix))\n(Select from dropdown)]],Table22[],2,FALSE))","v":""}]
[null,{"$f":"IF(Table25[[#This Row],[Affected CMS\n(§63.2386(d)(1)(ix))\n(Select from dropdown)]]=\"\",\"\",VLOOKUP(Table25[[#This Row],[Affected CMS\n(§63.2386(d)(1)(ix))\n(Select from dropdown)]],Table22[],2,FALSE))","v":""}]
[null,{"$f":"IF(Table25[[#This Row],[Affected CMS\n(§63.2386(d)(1)(ix))\n(Select from dropdown)]]=\"\",\"\",VLOOKUP(Table25[[#This Row],[Affected CMS\n(§63.2386(d)(1)(ix))\n(Select from dropdown)]],Table22[],2,FALSE))","v":""}]
[null,{"$f":"IF(Table25[[#This Row],[Affected CMS\n(§63.2386(d)(1)(ix))\n(Select from dropdown)]]=\"\",\"\",VLOOKUP(Table25[[#This Row],[Affected CMS\n(§63.2386(d)(1)(ix))\n(Select from dropdown)]],Table22[],2,FALSE))","v":""}]
[null,{"$f":"IF(Table25[[#This Row],[Affected CMS\n(§63.2386(d)(1)(ix))\n(Select from dropdown)]]=\"\",\"\",VLOOKUP(Table25[[#This Row],[Affected CMS\n(§63.2386(d)(1)(ix))\n(Select from dropdown)]],Table22[],2,FALSE))","v":""}]
[null,{"$f":"IF(Table25[[#This Row],[Affected CMS\n(§63.2386(d)(1)(ix))\n(Select from dropdown)]]=\"\",\"\",VLOOKUP(Table25[[#This Row],[Affected CMS\n(§63.2386(d)(1)(ix))\n(Select from dropdown)]],Table22[],2,FALSE))","v":""}]
[null,{"$f":"IF(Table25[[#This Row],[Affected CMS\n(§63.2386(d)(1)(ix))\n(Select from dropdown)]]=\"\",\"\",VLOOKUP(Table25[[#This Row],[Affected CMS\n(§63.2386(d)(1)(ix))\n(Select from dropdown)]],Table22[],2,FALSE))","v":""}]
[null,{"$f":"IF(Table25[[#This Row],[Affected CMS\n(§63.2386(d)(1)(ix))\n(Select from dropdown)]]=\"\",\"\",VLOOKUP(Table25[[#This Row],[Affected CMS\n(§63.2386(d)(1)(ix))\n(Select from dropdown)]],Table22[],2,FALSE))","v":""}]
[null,{"$f":"IF(Table25[[#This Row],[Affected CMS\n(§63.2386(d)(1)(ix))\n(Select from dropdown)]]=\"\",\"\",VLOOKUP(Table25[[#This Row],[Affected CMS\n(§63.2386(d)(1)(ix))\n(Select from dropdown)]],Table22[],2,FALSE))","v":""}]
[null,{"$f":"IF(Table25[[#This Row],[Affected CMS\n(§63.2386(d)(1)(ix))\n(Select from dropdown)]]=\"\",\"\",VLOOKUP(Table25[[#This Row],[Affected CMS\n(§63.2386(d)(1)(ix))\n(Select from dropdown)]],Table22[],2,FALSE))","v":""}]
[null,{"$f":"IF(Table25[[#This Row],[Affected CMS\n(§63.2386(d)(1)(ix))\n(Select from dropdown)]]=\"\",\"\",VLOOKUP(Table25[[#This Row],[Affected CMS\n(§63.2386(d)(1)(ix))\n(Select from dropdown)]],Table22[],2,FALSE))","v":""}]
[null,{"$f":"IF(Table25[[#This Row],[Affected CMS\n(§63.2386(d)(1)(ix))\n(Select from dropdown)]]=\"\",\"\",VLOOKUP(Table25[[#This Row],[Affected CMS\n(§63.2386(d)(1)(ix))\n(Select from dropdown)]],Table22[],2,FALSE))","v":""}]
[null,{"$f":"IF(Table25[[#This Row],[Affected CMS\n(§63.2386(d)(1)(ix))\n(Select from dropdown)]]=\"\",\"\",VLOOKUP(Table25[[#This Row],[Affected CMS\n(§63.2386(d)(1)(ix))\n(Select from dropdown)]],Table22[],2,FALSE))","v":""}]
[null,{"$f":"IF(Table25[[#This Row],[Affected CMS\n(§63.2386(d)(1)(ix))\n(Select from dropdown)]]=\"\",\"\",VLOOKUP(Table25[[#This Row],[Affected CMS\n(§63.2386(d)(1)(ix))\n(Select from dropdown)]],Table22[],2,FALSE))","v":""}]
[null,{"$f":"IF(Table25[[#This Row],[Affected CMS\n(§63.2386(d)(1)(ix))\n(Select from dropdown)]]=\"\",\"\",VLOOKUP(Table25[[#This Row],[Affected CMS\n(§63.2386(d)(1)(ix))\n(Select from dropdown)]],Table22[],2,FALSE))","v":""}]
[null,{"$f":"IF(Table25[[#This Row],[Affected CMS\n(§63.2386(d)(1)(ix))\n(Select from dropdown)]]=\"\",\"\",VLOOKUP(Table25[[#This Row],[Affected CMS\n(§63.2386(d)(1)(ix))\n(Select from dropdown)]],Table22[],2,FALSE))","v":""}]
[null,{"$f":"IF(Table25[[#This Row],[Affected CMS\n(§63.2386(d)(1)(ix))\n(Select from dropdown)]]=\"\",\"\",VLOOKUP(Table25[[#This Row],[Affected CMS\n(§63.2386(d)(1)(ix))\n(Select from dropdown)]],Table22[],2,FALSE))","v":""}]
[null,{"$f":"IF(Table25[[#This Row],[Affected CMS\n(§63.2386(d)(1)(ix))\n(Select from dropdown)]]=\"\",\"\",VLOOKUP(Table25[[#This Row],[Affected CMS\n(§63.2386(d)(1)(ix))\n(Select from dropdown)]],Table22[],2,FALSE))","v":""}]
[null,{"$f":"IF(Table25[[#This Row],[Affected CMS\n(§63.2386(d)(1)(ix))\n(Select from dropdown)]]=\"\",\"\",VLOOKUP(Table25[[#This Row],[Affected CMS\n(§63.2386(d)(1)(ix))\n(Select from dropdown)]],Table22[],2,FALSE))","v":""}]
[null,{"$f":"IF(Table25[[#This Row],[Affected CMS\n(§63.2386(d)(1)(ix))\n(Select from dropdown)]]=\"\",\"\",VLOOKUP(Table25[[#This Row],[Affected CMS\n(§63.2386(d)(1)(ix))\n(Select from dropdown)]],Table22[],2,FALSE))","v":""}]
[null,{"$f":"IF(Table25[[#This Row],[Affected CMS\n(§63.2386(d)(1)(ix))\n(Select from dropdown)]]=\"\",\"\",VLOOKUP(Table25[[#This Row],[Affected CMS\n(§63.2386(d)(1)(ix))\n(Select from dropdown)]],Table22[],2,FALSE))","v":""}]
[null,{"$f":"IF(Table25[[#This Row],[Affected CMS\n(§63.2386(d)(1)(ix))\n(Select from dropdown)]]=\"\",\"\",VLOOKUP(Table25[[#This Row],[Affected CMS\n(§63.2386(d)(1)(ix))\n(Select from dropdown)]],Table22[],2,FALSE))","v":""}]
[null,{"$f":"IF(Table25[[#This Row],[Affected CMS\n(§63.2386(d)(1)(ix))\n(Select from dropdown)]]=\"\",\"\",VLOOKUP(Table25[[#This Row],[Affected CMS\n(§63.2386(d)(1)(ix))\n(Select from dropdown)]],Table22[],2,FALSE))","v":""}]
[null,{"$f":"IF(Table25[[#This Row],[Affected CMS\n(§63.2386(d)(1)(ix))\n(Select from dropdown)]]=\"\",\"\",VLOOKUP(Table25[[#This Row],[Affected CMS\n(§63.2386(d)(1)(ix))\n(Select from dropdown)]],Table22[],2,FALSE))","v":""}]
[null,{"$f":"IF(Table25[[#This Row],[Affected CMS\n(§63.2386(d)(1)(ix))\n(Select from dropdown)]]=\"\",\"\",VLOOKUP(Table25[[#This Row],[Affected CMS\n(§63.2386(d)(1)(ix))\n(Select from dropdown)]],Table22[],2,FALSE))","v":""}]
[null,{"$f":"IF(Table25[[#This Row],[Affected CMS\n(§63.2386(d)(1)(ix))\n(Select from dropdown)]]=\"\",\"\",VLOOKUP(Table25[[#This Row],[Affected CMS\n(§63.2386(d)(1)(ix))\n(Select from dropdown)]],Table22[],2,FALSE))","v":""}]
[null,{"$f":"IF(Table25[[#This Row],[Affected CMS\n(§63.2386(d)(1)(ix))\n(Select from dropdown)]]=\"\",\"\",VLOOKUP(Table25[[#This Row],[Affected CMS\n(§63.2386(d)(1)(ix))\n(Select from dropdown)]],Table22[],2,FALSE))","v":""}]
[null,{"$f":"IF(Table25[[#This Row],[Affected CMS\n(§63.2386(d)(1)(ix))\n(Select from dropdown)]]=\"\",\"\",VLOOKUP(Table25[[#This Row],[Affected CMS\n(§63.2386(d)(1)(ix))\n(Select from dropdown)]],Table22[],2,FALSE))","v":""}]
[null,{"$f":"IF(Table25[[#This Row],[Affected CMS\n(§63.2386(d)(1)(ix))\n(Select from dropdown)]]=\"\",\"\",VLOOKUP(Table25[[#This Row],[Affected CMS\n(§63.2386(d)(1)(ix))\n(Select from dropdown)]],Table22[],2,FALSE))","v":""}]
[null,{"$f":"IF(Table25[[#This Row],[Affected CMS\n(§63.2386(d)(1)(ix))\n(Select from dropdown)]]=\"\",\"\",VLOOKUP(Table25[[#This Row],[Affected CMS\n(§63.2386(d)(1)(ix))\n(Select from dropdown)]],Table22[],2,FALSE))","v":""}]
[null,{"$f":"IF(Table25[[#This Row],[Affected CMS\n(§63.2386(d)(1)(ix))\n(Select from dropdown)]]=\"\",\"\",VLOOKUP(Table25[[#This Row],[Affected CMS\n(§63.2386(d)(1)(ix))\n(Select from dropdown)]],Table22[],2,FALSE))","v":""}]
[null,{"$f":"IF(Table25[[#This Row],[Affected CMS\n(§63.2386(d)(1)(ix))\n(Select from dropdown)]]=\"\",\"\",VLOOKUP(Table25[[#This Row],[Affected CMS\n(§63.2386(d)(1)(ix))\n(Select from dropdown)]],Table22[],2,FALSE))","v":""}]
[null,{"$f":"IF(Table25[[#This Row],[Affected CMS\n(§63.2386(d)(1)(ix))\n(Select from dropdown)]]=\"\",\"\",VLOOKUP(Table25[[#This Row],[Affected CMS\n(§63.2386(d)(1)(ix))\n(Select from dropdown)]],Table22[],2,FALSE))","v":""}]
[null,{"$f":"IF(Table25[[#This Row],[Affected CMS\n(§63.2386(d)(1)(ix))\n(Select from dropdown)]]=\"\",\"\",VLOOKUP(Table25[[#This Row],[Affected CMS\n(§63.2386(d)(1)(ix))\n(Select from dropdown)]],Table22[],2,FALSE))","v":""}]
[null,{"$f":"IF(Table25[[#This Row],[Affected CMS\n(§63.2386(d)(1)(ix))\n(Select from dropdown)]]=\"\",\"\",VLOOKUP(Table25[[#This Row],[Affected CMS\n(§63.2386(d)(1)(ix))\n(Select from dropdown)]],Table22[],2,FALSE))","v":""}]
[null,{"$f":"IF(Table25[[#This Row],[Affected CMS\n(§63.2386(d)(1)(ix))\n(Select from dropdown)]]=\"\",\"\",VLOOKUP(Table25[[#This Row],[Affected CMS\n(§63.2386(d)(1)(ix))\n(Select from dropdown)]],Table22[],2,FALSE))","v":""}]
[null,{"$f":"IF(Table25[[#This Row],[Affected CMS\n(§63.2386(d)(1)(ix))\n(Select from dropdown)]]=\"\",\"\",VLOOKUP(Table25[[#This Row],[Affected CMS\n(§63.2386(d)(1)(ix))\n(Select from dropdown)]],Table22[],2,FALSE))","v":""}]
[null,{"$f":"IF(Table25[[#This Row],[Affected CMS\n(§63.2386(d)(1)(ix))\n(Select from dropdown)]]=\"\",\"\",VLOOKUP(Table25[[#This Row],[Affected CMS\n(§63.2386(d)(1)(ix))\n(Select from dropdown)]],Table22[],2,FALSE))","v":""}]
[null,{"$f":"IF(Table25[[#This Row],[Affected CMS\n(§63.2386(d)(1)(ix))\n(Select from dropdown)]]=\"\",\"\",VLOOKUP(Table25[[#This Row],[Affected CMS\n(§63.2386(d)(1)(ix))\n(Select from dropdown)]],Table22[],2,FALSE))","v":""}]
[null,{"$f":"IF(Table25[[#This Row],[Affected CMS\n(§63.2386(d)(1)(ix))\n(Select from dropdown)]]=\"\",\"\",VLOOKUP(Table25[[#This Row],[Affected CMS\n(§63.2386(d)(1)(ix))\n(Select from dropdown)]],Table22[],2,FALSE))","v":""}]
[null,{"$f":"IF(Table25[[#This Row],[Affected CMS\n(§63.2386(d)(1)(ix))\n(Select from dropdown)]]=\"\",\"\",VLOOKUP(Table25[[#This Row],[Affected CMS\n(§63.2386(d)(1)(ix))\n(Select from dropdown)]],Table22[],2,FALSE))","v":""}]
[null,{"$f":"IF(Table25[[#This Row],[Affected CMS\n(§63.2386(d)(1)(ix))\n(Select from dropdown)]]=\"\",\"\",VLOOKUP(Table25[[#This Row],[Affected CMS\n(§63.2386(d)(1)(ix))\n(Select from dropdown)]],Table22[],2,FALSE))","v":""}]
[null,{"$f":"IF(Table25[[#This Row],[Affected CMS\n(§63.2386(d)(1)(ix))\n(Select from dropdown)]]=\"\",\"\",VLOOKUP(Table25[[#This Row],[Affected CMS\n(§63.2386(d)(1)(ix))\n(Select from dropdown)]],Table22[],2,FALSE))","v":""}]
[null,{"$f":"IF(Table25[[#This Row],[Affected CMS\n(§63.2386(d)(1)(ix))\n(Select from dropdown)]]=\"\",\"\",VLOOKUP(Table25[[#This Row],[Affected CMS\n(§63.2386(d)(1)(ix))\n(Select from dropdown)]],Table22[],2,FALSE))","v":""}]
[null,{"$f":"IF(Table25[[#This Row],[Affected CMS\n(§63.2386(d)(1)(ix))\n(Select from dropdown)]]=\"\",\"\",VLOOKUP(Table25[[#This Row],[Affected CMS\n(§63.2386(d)(1)(ix))\n(Select from dropdown)]],Table22[],2,FALSE))","v":""}]
[null,{"$f":"IF(Table25[[#This Row],[Affected CMS\n(§63.2386(d)(1)(ix))\n(Select from dropdown)]]=\"\",\"\",VLOOKUP(Table25[[#This Row],[Affected CMS\n(§63.2386(d)(1)(ix))\n(Select from dropdown)]],Table22[],2,FALSE))","v":""}]
[null,{"$f":"IF(Table25[[#This Row],[Affected CMS\n(§63.2386(d)(1)(ix))\n(Select from dropdown)]]=\"\",\"\",VLOOKUP(Table25[[#This Row],[Affected CMS\n(§63.2386(d)(1)(ix))\n(Select from dropdown)]],Table22[],2,FALSE))","v":""}]
[null,{"$f":"IF(Table25[[#This Row],[Affected CMS\n(§63.2386(d)(1)(ix))\n(Select from dropdown)]]=\"\",\"\",VLOOKUP(Table25[[#This Row],[Affected CMS\n(§63.2386(d)(1)(ix))\n(Select from dropdown)]],Table22[],2,FALSE))","v":""}]
[null,{"$f":"IF(Table25[[#This Row],[Affected CMS\n(§63.2386(d)(1)(ix))\n(Select from dropdown)]]=\"\",\"\",VLOOKUP(Table25[[#This Row],[Affected CMS\n(§63.2386(d)(1)(ix))\n(Select from dropdown)]],Table22[],2,FALSE))","v":""}]
[null,{"$f":"IF(Table25[[#This Row],[Affected CMS\n(§63.2386(d)(1)(ix))\n(Select from dropdown)]]=\"\",\"\",VLOOKUP(Table25[[#This Row],[Affected CMS\n(§63.2386(d)(1)(ix))\n(Select from dropdown)]],Table22[],2,FALSE))","v":""}]
[null,{"$f":"IF(Table25[[#This Row],[Affected CMS\n(§63.2386(d)(1)(ix))\n(Select from dropdown)]]=\"\",\"\",VLOOKUP(Table25[[#This Row],[Affected CMS\n(§63.2386(d)(1)(ix))\n(Select from dropdown)]],Table22[],2,FALSE))","v":""}]
[null,{"$f":"IF(Table25[[#This Row],[Affected CMS\n(§63.2386(d)(1)(ix))\n(Select from dropdown)]]=\"\",\"\",VLOOKUP(Table25[[#This Row],[Affected CMS\n(§63.2386(d)(1)(ix))\n(Select from dropdown)]],Table22[],2,FALSE))","v":""}]
[null,{"$f":"IF(Table25[[#This Row],[Affected CMS\n(§63.2386(d)(1)(ix))\n(Select from dropdown)]]=\"\",\"\",VLOOKUP(Table25[[#This Row],[Affected CMS\n(§63.2386(d)(1)(ix))\n(Select from dropdown)]],Table22[],2,FALSE))","v":""}]
[null,{"$f":"IF(Table25[[#This Row],[Affected CMS\n(§63.2386(d)(1)(ix))\n(Select from dropdown)]]=\"\",\"\",VLOOKUP(Table25[[#This Row],[Affected CMS\n(§63.2386(d)(1)(ix))\n(Select from dropdown)]],Table22[],2,FALSE))","v":""}]
[null,{"$f":"IF(Table25[[#This Row],[Affected CMS\n(§63.2386(d)(1)(ix))\n(Select from dropdown)]]=\"\",\"\",VLOOKUP(Table25[[#This Row],[Affected CMS\n(§63.2386(d)(1)(ix))\n(Select from dropdown)]],Table22[],2,FALSE))","v":""}]
[null,{"$f":"IF(Table25[[#This Row],[Affected CMS\n(§63.2386(d)(1)(ix))\n(Select from dropdown)]]=\"\",\"\",VLOOKUP(Table25[[#This Row],[Affected CMS\n(§63.2386(d)(1)(ix))\n(Select from dropdown)]],Table22[],2,FALSE))","v":""}]
[null,{"$f":"IF(Table25[[#This Row],[Affected CMS\n(§63.2386(d)(1)(ix))\n(Select from dropdown)]]=\"\",\"\",VLOOKUP(Table25[[#This Row],[Affected CMS\n(§63.2386(d)(1)(ix))\n(Select from dropdown)]],Table22[],2,FALSE))","v":""}]
[null,{"$f":"IF(Table25[[#This Row],[Affected CMS\n(§63.2386(d)(1)(ix))\n(Select from dropdown)]]=\"\",\"\",VLOOKUP(Table25[[#This Row],[Affected CMS\n(§63.2386(d)(1)(ix))\n(Select from dropdown)]],Table22[],2,FALSE))","v":""}]
[null,{"$f":"IF(Table25[[#This Row],[Affected CMS\n(§63.2386(d)(1)(ix))\n(Select from dropdown)]]=\"\",\"\",VLOOKUP(Table25[[#This Row],[Affected CMS\n(§63.2386(d)(1)(ix))\n(Select from dropdown)]],Table22[],2,FALSE))","v":""}]
[null,{"$f":"IF(Table25[[#This Row],[Affected CMS\n(§63.2386(d)(1)(ix))\n(Select from dropdown)]]=\"\",\"\",VLOOKUP(Table25[[#This Row],[Affected CMS\n(§63.2386(d)(1)(ix))\n(Select from dropdown)]],Table22[],2,FALSE))","v":""}]
[null,{"$f":"IF(Table25[[#This Row],[Affected CMS\n(§63.2386(d)(1)(ix))\n(Select from dropdown)]]=\"\",\"\",VLOOKUP(Table25[[#This Row],[Affected CMS\n(§63.2386(d)(1)(ix))\n(Select from dropdown)]],Table22[],2,FALSE))","v":""}]
[null,{"$f":"IF(Table25[[#This Row],[Affected CMS\n(§63.2386(d)(1)(ix))\n(Select from dropdown)]]=\"\",\"\",VLOOKUP(Table25[[#This Row],[Affected CMS\n(§63.2386(d)(1)(ix))\n(Select from dropdown)]],Table22[],2,FALSE))","v":""}]
[null,{"$f":"IF(Table25[[#This Row],[Affected CMS\n(§63.2386(d)(1)(ix))\n(Select from dropdown)]]=\"\",\"\",VLOOKUP(Table25[[#This Row],[Affected CMS\n(§63.2386(d)(1)(ix))\n(Select from dropdown)]],Table22[],2,FALSE))","v":""}]
[null,{"$f":"IF(Table25[[#This Row],[Affected CMS\n(§63.2386(d)(1)(ix))\n(Select from dropdown)]]=\"\",\"\",VLOOKUP(Table25[[#This Row],[Affected CMS\n(§63.2386(d)(1)(ix))\n(Select from dropdown)]],Table22[],2,FALSE))","v":""}]
[null,{"$f":"IF(Table25[[#This Row],[Affected CMS\n(§63.2386(d)(1)(ix))\n(Select from dropdown)]]=\"\",\"\",VLOOKUP(Table25[[#This Row],[Affected CMS\n(§63.2386(d)(1)(ix))\n(Select from dropdown)]],Table22[],2,FALSE))","v":""}]
[null,{"$f":"IF(Table25[[#This Row],[Affected CMS\n(§63.2386(d)(1)(ix))\n(Select from dropdown)]]=\"\",\"\",VLOOKUP(Table25[[#This Row],[Affected CMS\n(§63.2386(d)(1)(ix))\n(Select from dropdown)]],Table22[],2,FALSE))","v":""}]
[null,{"$f":"IF(Table25[[#This Row],[Affected CMS\n(§63.2386(d)(1)(ix))\n(Select from dropdown)]]=\"\",\"\",VLOOKUP(Table25[[#This Row],[Affected CMS\n(§63.2386(d)(1)(ix))\n(Select from dropdown)]],Table22[],2,FALSE))","v":""}]
[null,{"$f":"IF(Table25[[#This Row],[Affected CMS\n(§63.2386(d)(1)(ix))\n(Select from dropdown)]]=\"\",\"\",VLOOKUP(Table25[[#This Row],[Affected CMS\n(§63.2386(d)(1)(ix))\n(Select from dropdown)]],Table22[],2,FALSE))","v":""}]
[null,{"$f":"IF(Table25[[#This Row],[Affected CMS\n(§63.2386(d)(1)(ix))\n(Select from dropdown)]]=\"\",\"\",VLOOKUP(Table25[[#This Row],[Affected CMS\n(§63.2386(d)(1)(ix))\n(Select from dropdown)]],Table22[],2,FALSE))","v":""}]
[null,{"$f":"IF(Table25[[#This Row],[Affected CMS\n(§63.2386(d)(1)(ix))\n(Select from dropdown)]]=\"\",\"\",VLOOKUP(Table25[[#This Row],[Affected CMS\n(§63.2386(d)(1)(ix))\n(Select from dropdown)]],Table22[],2,FALSE))","v":""}]
[null,{"$f":"IF(Table25[[#This Row],[Affected CMS\n(§63.2386(d)(1)(ix))\n(Select from dropdown)]]=\"\",\"\",VLOOKUP(Table25[[#This Row],[Affected CMS\n(§63.2386(d)(1)(ix))\n(Select from dropdown)]],Table22[],2,FALSE))","v":""}]
[null,{"$f":"IF(Table25[[#This Row],[Affected CMS\n(§63.2386(d)(1)(ix))\n(Select from dropdown)]]=\"\",\"\",VLOOKUP(Table25[[#This Row],[Affected CMS\n(§63.2386(d)(1)(ix))\n(Select from dropdown)]],Table22[],2,FALSE))","v":""}]
[null,{"$f":"IF(Table25[[#This Row],[Affected CMS\n(§63.2386(d)(1)(ix))\n(Select from dropdown)]]=\"\",\"\",VLOOKUP(Table25[[#This Row],[Affected CMS\n(§63.2386(d)(1)(ix))\n(Select from dropdown)]],Table22[],2,FALSE))","v":""}]
[null,{"$f":"IF(Table25[[#This Row],[Affected CMS\n(§63.2386(d)(1)(ix))\n(Select from dropdown)]]=\"\",\"\",VLOOKUP(Table25[[#This Row],[Affected CMS\n(§63.2386(d)(1)(ix))\n(Select from dropdown)]],Table22[],2,FALSE))","v":""}]
[null,{"$f":"IF(Table25[[#This Row],[Affected CMS\n(§63.2386(d)(1)(ix))\n(Select from dropdown)]]=\"\",\"\",VLOOKUP(Table25[[#This Row],[Affected CMS\n(§63.2386(d)(1)(ix))\n(Select from dropdown)]],Table22[],2,FALSE))","v":""}]
[null,{"$f":"IF(Table25[[#This Row],[Affected CMS\n(§63.2386(d)(1)(ix))\n(Select from dropdown)]]=\"\",\"\",VLOOKUP(Table25[[#This Row],[Affected CMS\n(§63.2386(d)(1)(ix))\n(Select from dropdown)]],Table22[],2,FALSE))","v":""}]
[null,{"$f":"IF(Table25[[#This Row],[Affected CMS\n(§63.2386(d)(1)(ix))\n(Select from dropdown)]]=\"\",\"\",VLOOKUP(Table25[[#This Row],[Affected CMS\n(§63.2386(d)(1)(ix))\n(Select from dropdown)]],Table22[],2,FALSE))","v":""}]
[null,{"$f":"IF(Table25[[#This Row],[Affected CMS\n(§63.2386(d)(1)(ix))\n(Select from dropdown)]]=\"\",\"\",VLOOKUP(Table25[[#This Row],[Affected CMS\n(§63.2386(d)(1)(ix))\n(Select from dropdown)]],Table22[],2,FALSE))","v":""}]
[null,{"$f":"IF(Table25[[#This Row],[Affected CMS\n(§63.2386(d)(1)(ix))\n(Select from dropdown)]]=\"\",\"\",VLOOKUP(Table25[[#This Row],[Affected CMS\n(§63.2386(d)(1)(ix))\n(Select from dropdown)]],Table22[],2,FALSE))","v":""}]
[null,{"$f":"IF(Table25[[#This Row],[Affected CMS\n(§63.2386(d)(1)(ix))\n(Select from dropdown)]]=\"\",\"\",VLOOKUP(Table25[[#This Row],[Affected CMS\n(§63.2386(d)(1)(ix))\n(Select from dropdown)]],Table22[],2,FALSE))","v":""}]
[null,{"$f":"IF(Table25[[#This Row],[Affected CMS\n(§63.2386(d)(1)(ix))\n(Select from dropdown)]]=\"\",\"\",VLOOKUP(Table25[[#This Row],[Affected CMS\n(§63.2386(d)(1)(ix))\n(Select from dropdown)]],Table22[],2,FALSE))","v":""}]
[null,{"$f":"IF(Table25[[#This Row],[Affected CMS\n(§63.2386(d)(1)(ix))\n(Select from dropdown)]]=\"\",\"\",VLOOKUP(Table25[[#This Row],[Affected CMS\n(§63.2386(d)(1)(ix))\n(Select from dropdown)]],Table22[],2,FALSE))","v":""}]
[null,{"$f":"IF(Table25[[#This Row],[Affected CMS\n(§63.2386(d)(1)(ix))\n(Select from dropdown)]]=\"\",\"\",VLOOKUP(Table25[[#This Row],[Affected CMS\n(§63.2386(d)(1)(ix))\n(Select from dropdown)]],Table22[],2,FALSE))","v":""}]
[null,{"$f":"IF(Table25[[#This Row],[Affected CMS\n(§63.2386(d)(1)(ix))\n(Select from dropdown)]]=\"\",\"\",VLOOKUP(Table25[[#This Row],[Affected CMS\n(§63.2386(d)(1)(ix))\n(Select from dropdown)]],Table22[],2,FALSE))","v":""}]
[null,{"$f":"IF(Table25[[#This Row],[Affected CMS\n(§63.2386(d)(1)(ix))\n(Select from dropdown)]]=\"\",\"\",VLOOKUP(Table25[[#This Row],[Affected CMS\n(§63.2386(d)(1)(ix))\n(Select from dropdown)]],Table22[],2,FALSE))","v":""}]
[null,{"$f":"IF(Table25[[#This Row],[Affected CMS\n(§63.2386(d)(1)(ix))\n(Select from dropdown)]]=\"\",\"\",VLOOKUP(Table25[[#This Row],[Affected CMS\n(§63.2386(d)(1)(ix))\n(Select from dropdown)]],Table22[],2,FALSE))","v":""}]
[null,{"$f":"IF(Table25[[#This Row],[Affected CMS\n(§63.2386(d)(1)(ix))\n(Select from dropdown)]]=\"\",\"\",VLOOKUP(Table25[[#This Row],[Affected CMS\n(§63.2386(d)(1)(ix))\n(Select from dropdown)]],Table22[],2,FALSE))","v":""}]
[null,{"$f":"IF(Table25[[#This Row],[Affected CMS\n(§63.2386(d)(1)(ix))\n(Select from dropdown)]]=\"\",\"\",VLOOKUP(Table25[[#This Row],[Affected CMS\n(§63.2386(d)(1)(ix))\n(Select from dropdown)]],Table22[],2,FALSE))","v":""}]
[null,{"$f":"IF(Table25[[#This Row],[Affected CMS\n(§63.2386(d)(1)(ix))\n(Select from dropdown)]]=\"\",\"\",VLOOKUP(Table25[[#This Row],[Affected CMS\n(§63.2386(d)(1)(ix))\n(Select from dropdown)]],Table22[],2,FALSE))","v":""}]
[null,{"$f":"IF(Table25[[#This Row],[Affected CMS\n(§63.2386(d)(1)(ix))\n(Select from dropdown)]]=\"\",\"\",VLOOKUP(Table25[[#This Row],[Affected CMS\n(§63.2386(d)(1)(ix))\n(Select from dropdown)]],Table22[],2,FALSE))","v":""}]
[null,{"$f":"IF(Table25[[#This Row],[Affected CMS\n(§63.2386(d)(1)(ix))\n(Select from dropdown)]]=\"\",\"\",VLOOKUP(Table25[[#This Row],[Affected CMS\n(§63.2386(d)(1)(ix))\n(Select from dropdown)]],Table22[],2,FALSE))","v":""}]
[null,{"$f":"IF(Table25[[#This Row],[Affected CMS\n(§63.2386(d)(1)(ix))\n(Select from dropdown)]]=\"\",\"\",VLOOKUP(Table25[[#This Row],[Affected CMS\n(§63.2386(d)(1)(ix))\n(Select from dropdown)]],Table22[],2,FALSE))","v":""}]
[null,{"$f":"IF(Table25[[#This Row],[Affected CMS\n(§63.2386(d)(1)(ix))\n(Select from dropdown)]]=\"\",\"\",VLOOKUP(Table25[[#This Row],[Affected CMS\n(§63.2386(d)(1)(ix))\n(Select from dropdown)]],Table22[],2,FALSE))","v":""}]
[null,{"$f":"IF(Table25[[#This Row],[Affected CMS\n(§63.2386(d)(1)(ix))\n(Select from dropdown)]]=\"\",\"\",VLOOKUP(Table25[[#This Row],[Affected CMS\n(§63.2386(d)(1)(ix))\n(Select from dropdown)]],Table22[],2,FALSE))","v":""}]
[null,{"$f":"IF(Table25[[#This Row],[Affected CMS\n(§63.2386(d)(1)(ix))\n(Select from dropdown)]]=\"\",\"\",VLOOKUP(Table25[[#This Row],[Affected CMS\n(§63.2386(d)(1)(ix))\n(Select from dropdown)]],Table22[],2,FALSE))","v":""}]
[null,{"$f":"IF(Table25[[#This Row],[Affected CMS\n(§63.2386(d)(1)(ix))\n(Select from dropdown)]]=\"\",\"\",VLOOKUP(Table25[[#This Row],[Affected CMS\n(§63.2386(d)(1)(ix))\n(Select from dropdown)]],Table22[],2,FALSE))","v":""}]
[null,{"$f":"IF(Table25[[#This Row],[Affected CMS\n(§63.2386(d)(1)(ix))\n(Select from dropdown)]]=\"\",\"\",VLOOKUP(Table25[[#This Row],[Affected CMS\n(§63.2386(d)(1)(ix))\n(Select from dropdown)]],Table22[],2,FALSE))","v":""}]
[null,{"$f":"IF(Table25[[#This Row],[Affected CMS\n(§63.2386(d)(1)(ix))\n(Select from dropdown)]]=\"\",\"\",VLOOKUP(Table25[[#This Row],[Affected CMS\n(§63.2386(d)(1)(ix))\n(Select from dropdown)]],Table22[],2,FALSE))","v":""}]
[null,{"$f":"IF(Table25[[#This Row],[Affected CMS\n(§63.2386(d)(1)(ix))\n(Select from dropdown)]]=\"\",\"\",VLOOKUP(Table25[[#This Row],[Affected CMS\n(§63.2386(d)(1)(ix))\n(Select from dropdown)]],Table22[],2,FALSE))","v":""}]
[null,{"$f":"IF(Table25[[#This Row],[Affected CMS\n(§63.2386(d)(1)(ix))\n(Select from dropdown)]]=\"\",\"\",VLOOKUP(Table25[[#This Row],[Affected CMS\n(§63.2386(d)(1)(ix))\n(Select from dropdown)]],Table22[],2,FALSE))","v":""}]
[null,{"$f":"IF(Table25[[#This Row],[Affected CMS\n(§63.2386(d)(1)(ix))\n(Select from dropdown)]]=\"\",\"\",VLOOKUP(Table25[[#This Row],[Affected CMS\n(§63.2386(d)(1)(ix))\n(Select from dropdown)]],Table22[],2,FALSE))","v":""}]
[null,{"$f":"IF(Table25[[#This Row],[Affected CMS\n(§63.2386(d)(1)(ix))\n(Select from dropdown)]]=\"\",\"\",VLOOKUP(Table25[[#This Row],[Affected CMS\n(§63.2386(d)(1)(ix))\n(Select from dropdown)]],Table22[],2,FALSE))","v":""}]
[null,{"$f":"IF(Table25[[#This Row],[Affected CMS\n(§63.2386(d)(1)(ix))\n(Select from dropdown)]]=\"\",\"\",VLOOKUP(Table25[[#This Row],[Affected CMS\n(§63.2386(d)(1)(ix))\n(Select from dropdown)]],Table22[],2,FALSE))","v":""}]
[null,{"$f":"IF(Table25[[#This Row],[Affected CMS\n(§63.2386(d)(1)(ix))\n(Select from dropdown)]]=\"\",\"\",VLOOKUP(Table25[[#This Row],[Affected CMS\n(§63.2386(d)(1)(ix))\n(Select from dropdown)]],Table22[],2,FALSE))","v":""}]
[null,{"$f":"IF(Table25[[#This Row],[Affected CMS\n(§63.2386(d)(1)(ix))\n(Select from dropdown)]]=\"\",\"\",VLOOKUP(Table25[[#This Row],[Affected CMS\n(§63.2386(d)(1)(ix))\n(Select from dropdown)]],Table22[],2,FALSE))","v":""}]
[null,{"$f":"IF(Table25[[#This Row],[Affected CMS\n(§63.2386(d)(1)(ix))\n(Select from dropdown)]]=\"\",\"\",VLOOKUP(Table25[[#This Row],[Affected CMS\n(§63.2386(d)(1)(ix))\n(Select from dropdown)]],Table22[],2,FALSE))","v":""}]
[null,{"$f":"IF(Table25[[#This Row],[Affected CMS\n(§63.2386(d)(1)(ix))\n(Select from dropdown)]]=\"\",\"\",VLOOKUP(Table25[[#This Row],[Affected CMS\n(§63.2386(d)(1)(ix))\n(Select from dropdown)]],Table22[],2,FALSE))","v":""}]
[null,{"$f":"IF(Table25[[#This Row],[Affected CMS\n(§63.2386(d)(1)(ix))\n(Select from dropdown)]]=\"\",\"\",VLOOKUP(Table25[[#This Row],[Affected CMS\n(§63.2386(d)(1)(ix))\n(Select from dropdown)]],Table22[],2,FALSE))","v":""}]
[null,{"$f":"IF(Table25[[#This Row],[Affected CMS\n(§63.2386(d)(1)(ix))\n(Select from dropdown)]]=\"\",\"\",VLOOKUP(Table25[[#This Row],[Affected CMS\n(§63.2386(d)(1)(ix))\n(Select from dropdown)]],Table22[],2,FALSE))","v":""}]
[null,{"$f":"IF(Table25[[#This Row],[Affected CMS\n(§63.2386(d)(1)(ix))\n(Select from dropdown)]]=\"\",\"\",VLOOKUP(Table25[[#This Row],[Affected CMS\n(§63.2386(d)(1)(ix))\n(Select from dropdown)]],Table22[],2,FALSE))","v":""}]
[null,{"$f":"IF(Table25[[#This Row],[Affected CMS\n(§63.2386(d)(1)(ix))\n(Select from dropdown)]]=\"\",\"\",VLOOKUP(Table25[[#This Row],[Affected CMS\n(§63.2386(d)(1)(ix))\n(Select from dropdown)]],Table22[],2,FALSE))","v":""}]
[null,{"$f":"IF(Table25[[#This Row],[Affected CMS\n(§63.2386(d)(1)(ix))\n(Select from dropdown)]]=\"\",\"\",VLOOKUP(Table25[[#This Row],[Affected CMS\n(§63.2386(d)(1)(ix))\n(Select from dropdown)]],Table22[],2,FALSE))","v":""}]
[null,{"$f":"IF(Table25[[#This Row],[Affected CMS\n(§63.2386(d)(1)(ix))\n(Select from dropdown)]]=\"\",\"\",VLOOKUP(Table25[[#This Row],[Affected CMS\n(§63.2386(d)(1)(ix))\n(Select from dropdown)]],Table22[],2,FALSE))","v":""}]
[null,{"$f":"IF(Table25[[#This Row],[Affected CMS\n(§63.2386(d)(1)(ix))\n(Select from dropdown)]]=\"\",\"\",VLOOKUP(Table25[[#This Row],[Affected CMS\n(§63.2386(d)(1)(ix))\n(Select from dropdown)]],Table22[],2,FALSE))","v":""}]
[null,{"$f":"IF(Table25[[#This Row],[Affected CMS\n(§63.2386(d)(1)(ix))\n(Select from dropdown)]]=\"\",\"\",VLOOKUP(Table25[[#This Row],[Affected CMS\n(§63.2386(d)(1)(ix))\n(Select from dropdown)]],Table22[],2,FALSE))","v":""}]
[null,{"$f":"IF(Table25[[#This Row],[Affected CMS\n(§63.2386(d)(1)(ix))\n(Select from dropdown)]]=\"\",\"\",VLOOKUP(Table25[[#This Row],[Affected CMS\n(§63.2386(d)(1)(ix))\n(Select from dropdown)]],Table22[],2,FALSE))","v":""}]
[null,{"$f":"IF(Table25[[#This Row],[Affected CMS\n(§63.2386(d)(1)(ix))\n(Select from dropdown)]]=\"\",\"\",VLOOKUP(Table25[[#This Row],[Affected CMS\n(§63.2386(d)(1)(ix))\n(Select from dropdown)]],Table22[],2,FALSE))","v":""}]
[null,{"$f":"IF(Table25[[#This Row],[Affected CMS\n(§63.2386(d)(1)(ix))\n(Select from dropdown)]]=\"\",\"\",VLOOKUP(Table25[[#This Row],[Affected CMS\n(§63.2386(d)(1)(ix))\n(Select from dropdown)]],Table22[],2,FALSE))","v":""}]
[null,{"$f":"IF(Table25[[#This Row],[Affected CMS\n(§63.2386(d)(1)(ix))\n(Select from dropdown)]]=\"\",\"\",VLOOKUP(Table25[[#This Row],[Affected CMS\n(§63.2386(d)(1)(ix))\n(Select from dropdown)]],Table22[],2,FALSE))","v":""}]
[null,{"$f":"IF(Table25[[#This Row],[Affected CMS\n(§63.2386(d)(1)(ix))\n(Select from dropdown)]]=\"\",\"\",VLOOKUP(Table25[[#This Row],[Affected CMS\n(§63.2386(d)(1)(ix))\n(Select from dropdown)]],Table22[],2,FALSE))","v":""}]
[null,{"$f":"IF(Table25[[#This Row],[Affected CMS\n(§63.2386(d)(1)(ix))\n(Select from dropdown)]]=\"\",\"\",VLOOKUP(Table25[[#This Row],[Affected CMS\n(§63.2386(d)(1)(ix))\n(Select from dropdown)]],Table22[],2,FALSE))","v":""}]
[null,{"$f":"IF(Table25[[#This Row],[Affected CMS\n(§63.2386(d)(1)(ix))\n(Select from dropdown)]]=\"\",\"\",VLOOKUP(Table25[[#This Row],[Affected CMS\n(§63.2386(d)(1)(ix))\n(Select from dropdown)]],Table22[],2,FALSE))","v":""}]
[null,{"$f":"IF(Table25[[#This Row],[Affected CMS\n(§63.2386(d)(1)(ix))\n(Select from dropdown)]]=\"\",\"\",VLOOKUP(Table25[[#This Row],[Affected CMS\n(§63.2386(d)(1)(ix))\n(Select from dropdown)]],Table22[],2,FALSE))","v":""}]
[null,{"$f":"IF(Table25[[#This Row],[Affected CMS\n(§63.2386(d)(1)(ix))\n(Select from dropdown)]]=\"\",\"\",VLOOKUP(Table25[[#This Row],[Affected CMS\n(§63.2386(d)(1)(ix))\n(Select from dropdown)]],Table22[],2,FALSE))","v":""}]
[null,{"$f":"IF(Table25[[#This Row],[Affected CMS\n(§63.2386(d)(1)(ix))\n(Select from dropdown)]]=\"\",\"\",VLOOKUP(Table25[[#This Row],[Affected CMS\n(§63.2386(d)(1)(ix))\n(Select from dropdown)]],Table22[],2,FALSE))","v":""}]
[null,{"$f":"IF(Table25[[#This Row],[Affected CMS\n(§63.2386(d)(1)(ix))\n(Select from dropdown)]]=\"\",\"\",VLOOKUP(Table25[[#This Row],[Affected CMS\n(§63.2386(d)(1)(ix))\n(Select from dropdown)]],Table22[],2,FALSE))","v":""}]
[null,{"$f":"IF(Table25[[#This Row],[Affected CMS\n(§63.2386(d)(1)(ix))\n(Select from dropdown)]]=\"\",\"\",VLOOKUP(Table25[[#This Row],[Affected CMS\n(§63.2386(d)(1)(ix))\n(Select from dropdown)]],Table22[],2,FALSE))","v":""}]
[null,{"$f":"IF(Table25[[#This Row],[Affected CMS\n(§63.2386(d)(1)(ix))\n(Select from dropdown)]]=\"\",\"\",VLOOKUP(Table25[[#This Row],[Affected CMS\n(§63.2386(d)(1)(ix))\n(Select from dropdown)]],Table22[],2,FALSE))","v":""}]
[null,{"$f":"IF(Table25[[#This Row],[Affected CMS\n(§63.2386(d)(1)(ix))\n(Select from dropdown)]]=\"\",\"\",VLOOKUP(Table25[[#This Row],[Affected CMS\n(§63.2386(d)(1)(ix))\n(Select from dropdown)]],Table22[],2,FALSE))","v":""}]
[null,{"$f":"IF(Table25[[#This Row],[Affected CMS\n(§63.2386(d)(1)(ix))\n(Select from dropdown)]]=\"\",\"\",VLOOKUP(Table25[[#This Row],[Affected CMS\n(§63.2386(d)(1)(ix))\n(Select from dropdown)]],Table22[],2,FALSE))","v":""}]
[null,{"$f":"IF(Table25[[#This Row],[Affected CMS\n(§63.2386(d)(1)(ix))\n(Select from dropdown)]]=\"\",\"\",VLOOKUP(Table25[[#This Row],[Affected CMS\n(§63.2386(d)(1)(ix))\n(Select from dropdown)]],Table22[],2,FALSE))","v":""}]
[null,{"$f":"IF(Table25[[#This Row],[Affected CMS\n(§63.2386(d)(1)(ix))\n(Select from dropdown)]]=\"\",\"\",VLOOKUP(Table25[[#This Row],[Affected CMS\n(§63.2386(d)(1)(ix))\n(Select from dropdown)]],Table22[],2,FALSE))","v":""}]
[null,{"$f":"IF(Table25[[#This Row],[Affected CMS\n(§63.2386(d)(1)(ix))\n(Select from dropdown)]]=\"\",\"\",VLOOKUP(Table25[[#This Row],[Affected CMS\n(§63.2386(d)(1)(ix))\n(Select from dropdown)]],Table22[],2,FALSE))","v":""}]
[null,{"$f":"IF(Table25[[#This Row],[Affected CMS\n(§63.2386(d)(1)(ix))\n(Select from dropdown)]]=\"\",\"\",VLOOKUP(Table25[[#This Row],[Affected CMS\n(§63.2386(d)(1)(ix))\n(Select from dropdown)]],Table22[],2,FALSE))","v":""}]
[null,{"$f":"IF(Table25[[#This Row],[Affected CMS\n(§63.2386(d)(1)(ix))\n(Select from dropdown)]]=\"\",\"\",VLOOKUP(Table25[[#This Row],[Affected CMS\n(§63.2386(d)(1)(ix))\n(Select from dropdown)]],Table22[],2,FALSE))","v":""}]
[null,{"$f":"IF(Table25[[#This Row],[Affected CMS\n(§63.2386(d)(1)(ix))\n(Select from dropdown)]]=\"\",\"\",VLOOKUP(Table25[[#This Row],[Affected CMS\n(§63.2386(d)(1)(ix))\n(Select from dropdown)]],Table22[],2,FALSE))","v":""}]
[null,{"$f":"IF(Table25[[#This Row],[Affected CMS\n(§63.2386(d)(1)(ix))\n(Select from dropdown)]]=\"\",\"\",VLOOKUP(Table25[[#This Row],[Affected CMS\n(§63.2386(d)(1)(ix))\n(Select from dropdown)]],Table22[],2,FALSE))","v":""}]
[null,{"$f":"IF(Table25[[#This Row],[Affected CMS\n(§63.2386(d)(1)(ix))\n(Select from dropdown)]]=\"\",\"\",VLOOKUP(Table25[[#This Row],[Affected CMS\n(§63.2386(d)(1)(ix))\n(Select from dropdown)]],Table22[],2,FALSE))","v":""}]
[null,{"$f":"IF(Table25[[#This Row],[Affected CMS\n(§63.2386(d)(1)(ix))\n(Select from dropdown)]]=\"\",\"\",VLOOKUP(Table25[[#This Row],[Affected CMS\n(§63.2386(d)(1)(ix))\n(Select from dropdown)]],Table22[],2,FALSE))","v":""}]
[null,{"$f":"IF(Table25[[#This Row],[Affected CMS\n(§63.2386(d)(1)(ix))\n(Select from dropdown)]]=\"\",\"\",VLOOKUP(Table25[[#This Row],[Affected CMS\n(§63.2386(d)(1)(ix))\n(Select from dropdown)]],Table22[],2,FALSE))","v":""}]
[null,{"$f":"IF(Table25[[#This Row],[Affected CMS\n(§63.2386(d)(1)(ix))\n(Select from dropdown)]]=\"\",\"\",VLOOKUP(Table25[[#This Row],[Affected CMS\n(§63.2386(d)(1)(ix))\n(Select from dropdown)]],Table22[],2,FALSE))","v":""}]
[null,{"$f":"IF(Table25[[#This Row],[Affected CMS\n(§63.2386(d)(1)(ix))\n(Select from dropdown)]]=\"\",\"\",VLOOKUP(Table25[[#This Row],[Affected CMS\n(§63.2386(d)(1)(ix))\n(Select from dropdown)]],Table22[],2,FALSE))","v":""}]
[null,{"$f":"IF(Table25[[#This Row],[Affected CMS\n(§63.2386(d)(1)(ix))\n(Select from dropdown)]]=\"\",\"\",VLOOKUP(Table25[[#This Row],[Affected CMS\n(§63.2386(d)(1)(ix))\n(Select from dropdown)]],Table22[],2,FALSE))","v":""}]
[null,{"$f":"IF(Table25[[#This Row],[Affected CMS\n(§63.2386(d)(1)(ix))\n(Select from dropdown)]]=\"\",\"\",VLOOKUP(Table25[[#This Row],[Affected CMS\n(§63.2386(d)(1)(ix))\n(Select from dropdown)]],Table22[],2,FALSE))","v":""}]
[null,{"$f":"IF(Table25[[#This Row],[Affected CMS\n(§63.2386(d)(1)(ix))\n(Select from dropdown)]]=\"\",\"\",VLOOKUP(Table25[[#This Row],[Affected CMS\n(§63.2386(d)(1)(ix))\n(Select from dropdown)]],Table22[],2,FALSE))","v":""}]
[null,{"$f":"IF(Table25[[#This Row],[Affected CMS\n(§63.2386(d)(1)(ix))\n(Select from dropdown)]]=\"\",\"\",VLOOKUP(Table25[[#This Row],[Affected CMS\n(§63.2386(d)(1)(ix))\n(Select from dropdown)]],Table22[],2,FALSE))","v":""}]
[null,{"$f":"IF(Table25[[#This Row],[Affected CMS\n(§63.2386(d)(1)(ix))\n(Select from dropdown)]]=\"\",\"\",VLOOKUP(Table25[[#This Row],[Affected CMS\n(§63.2386(d)(1)(ix))\n(Select from dropdown)]],Table22[],2,FALSE))","v":""}]
[null,{"$f":"IF(Table25[[#This Row],[Affected CMS\n(§63.2386(d)(1)(ix))\n(Select from dropdown)]]=\"\",\"\",VLOOKUP(Table25[[#This Row],[Affected CMS\n(§63.2386(d)(1)(ix))\n(Select from dropdown)]],Table22[],2,FALSE))","v":""}]
[null,{"$f":"IF(Table25[[#This Row],[Affected CMS\n(§63.2386(d)(1)(ix))\n(Select from dropdown)]]=\"\",\"\",VLOOKUP(Table25[[#This Row],[Affected CMS\n(§63.2386(d)(1)(ix))\n(Select from dropdown)]],Table22[],2,FALSE))","v":""}]
[null,{"$f":"IF(Table25[[#This Row],[Affected CMS\n(§63.2386(d)(1)(ix))\n(Select from dropdown)]]=\"\",\"\",VLOOKUP(Table25[[#This Row],[Affected CMS\n(§63.2386(d)(1)(ix))\n(Select from dropdown)]],Table22[],2,FALSE))","v":""}]
[null,{"$f":"IF(Table25[[#This Row],[Affected CMS\n(§63.2386(d)(1)(ix))\n(Select from dropdown)]]=\"\",\"\",VLOOKUP(Table25[[#This Row],[Affected CMS\n(§63.2386(d)(1)(ix))\n(Select from dropdown)]],Table22[],2,FALSE))","v":""}]
[null,{"$f":"IF(Table25[[#This Row],[Affected CMS\n(§63.2386(d)(1)(ix))\n(Select from dropdown)]]=\"\",\"\",VLOOKUP(Table25[[#This Row],[Affected CMS\n(§63.2386(d)(1)(ix))\n(Select from dropdown)]],Table22[],2,FALSE))","v":""}]
[null,{"$f":"IF(Table25[[#This Row],[Affected CMS\n(§63.2386(d)(1)(ix))\n(Select from dropdown)]]=\"\",\"\",VLOOKUP(Table25[[#This Row],[Affected CMS\n(§63.2386(d)(1)(ix))\n(Select from dropdown)]],Table22[],2,FALSE))","v":""}]
[null,{"$f":"IF(Table25[[#This Row],[Affected CMS\n(§63.2386(d)(1)(ix))\n(Select from dropdown)]]=\"\",\"\",VLOOKUP(Table25[[#This Row],[Affected CMS\n(§63.2386(d)(1)(ix))\n(Select from dropdown)]],Table22[],2,FALSE))","v":""}]
[null,{"$f":"IF(Table25[[#This Row],[Affected CMS\n(§63.2386(d)(1)(ix))\n(Select from dropdown)]]=\"\",\"\",VLOOKUP(Table25[[#This Row],[Affected CMS\n(§63.2386(d)(1)(ix))\n(Select from dropdown)]],Table22[],2,FALSE))","v":""}]
[null,{"$f":"IF(Table25[[#This Row],[Affected CMS\n(§63.2386(d)(1)(ix))\n(Select from dropdown)]]=\"\",\"\",VLOOKUP(Table25[[#This Row],[Affected CMS\n(§63.2386(d)(1)(ix))\n(Select from dropdown)]],Table22[],2,FALSE))","v":""}]
[null,{"$f":"IF(Table25[[#This Row],[Affected CMS\n(§63.2386(d)(1)(ix))\n(Select from dropdown)]]=\"\",\"\",VLOOKUP(Table25[[#This Row],[Affected CMS\n(§63.2386(d)(1)(ix))\n(Select from dropdown)]],Table22[],2,FALSE))","v":""}]
[null,{"$f":"IF(Table25[[#This Row],[Affected CMS\n(§63.2386(d)(1)(ix))\n(Select from dropdown)]]=\"\",\"\",VLOOKUP(Table25[[#This Row],[Affected CMS\n(§63.2386(d)(1)(ix))\n(Select from dropdown)]],Table22[],2,FALSE))","v":""}]
[null,{"$f":"IF(Table25[[#This Row],[Affected CMS\n(§63.2386(d)(1)(ix))\n(Select from dropdown)]]=\"\",\"\",VLOOKUP(Table25[[#This Row],[Affected CMS\n(§63.2386(d)(1)(ix))\n(Select from dropdown)]],Table22[],2,FALSE))","v":""}]
[null,{"$f":"IF(Table25[[#This Row],[Affected CMS\n(§63.2386(d)(1)(ix))\n(Select from dropdown)]]=\"\",\"\",VLOOKUP(Table25[[#This Row],[Affected CMS\n(§63.2386(d)(1)(ix))\n(Select from dropdown)]],Table22[],2,FALSE))","v":""}]
[null,{"$f":"IF(Table25[[#This Row],[Affected CMS\n(§63.2386(d)(1)(ix))\n(Select from dropdown)]]=\"\",\"\",VLOOKUP(Table25[[#This Row],[Affected CMS\n(§63.2386(d)(1)(ix))\n(Select from dropdown)]],Table22[],2,FALSE))","v":""}]
[null,{"$f":"IF(Table25[[#This Row],[Affected CMS\n(§63.2386(d)(1)(ix))\n(Select from dropdown)]]=\"\",\"\",VLOOKUP(Table25[[#This Row],[Affected CMS\n(§63.2386(d)(1)(ix))\n(Select from dropdown)]],Table22[],2,FALSE))","v":""}]
[null,{"$f":"IF(Table25[[#This Row],[Affected CMS\n(§63.2386(d)(1)(ix))\n(Select from dropdown)]]=\"\",\"\",VLOOKUP(Table25[[#This Row],[Affected CMS\n(§63.2386(d)(1)(ix))\n(Select from dropdown)]],Table22[],2,FALSE))","v":""}]
[null,{"$f":"IF(Table25[[#This Row],[Affected CMS\n(§63.2386(d)(1)(ix))\n(Select from dropdown)]]=\"\",\"\",VLOOKUP(Table25[[#This Row],[Affected CMS\n(§63.2386(d)(1)(ix))\n(Select from dropdown)]],Table22[],2,FALSE))","v":""}]
[null,{"$f":"IF(Table25[[#This Row],[Affected CMS\n(§63.2386(d)(1)(ix))\n(Select from dropdown)]]=\"\",\"\",VLOOKUP(Table25[[#This Row],[Affected CMS\n(§63.2386(d)(1)(ix))\n(Select from dropdown)]],Table22[],2,FALSE))","v":""}]

{"sheet":"CMS_Summary","index":8,"n_rows":523,"n_cols":9,"rows_kept":523,"cut":false,"hidden":false,"merged":[]}
[null,"DO NOT REMOVE OR EDIT INFORMATION IN ROWS 1 THROUGH 5\nFOR INTERNAL USE ONLY"]
[null,"Template Name",{"$f":"Welcome!B2","v":"63.2386(a), (c), and (d) Compliance Report (Spreadsheet Template)"}]
[null,"CitationID",{"$f":"Welcome!B3","v":"63.2386(a), (c), and (d)"}]
[null,"Template Version",{"$f":"Welcome!B4","v":"v1.01"}]
[null,"Last Updated Date",{"$f":"Welcome!B5","v":"2024-04-09"}]
[]
[null,null,{"$f":"Company_Information!B7","v":"40 CFR Part 63, Subpart EEEE National Emission Standards for Hazardous Air Pollutants: Organic Liquids Distribution (Non-Gasoline)"}]
[null,null,{"$f":"Company_Information!B8","v":"§63.2386(a), (c), and (d) Compliance Report Spreadsheet Template"}]
[null,null,"This tab summarizes the total time and percent of time each CMS experienced deviations and periods of inoperability."]
[null,null,"Note: The information on this tab will autocomplete based on data entered in previous tabs. There is a comment field for any additional information you would like to provide."]
[]
[null,"Company Record No.\n(Autofill)","Affected CMS\n(§63.2386(d)(1)(ix))\n(Autofill)","Total Process/Source Operating Time\n(in hours)\n(§63.2386(d)(1)(xv), §63.999(c)(1))\n(Autofill)","Total Duration of Deviations\n(in hours) \n(§63.2386(d)(1)(v))\n(Calculated value)","Total Duration of Deviations as a Percent of Total Source Operating Time\n(§63.2386(d)(1)(v))\n(Calculated value)","Total Duration of CMS Downtime\n(in hours) \n(§63.2386(d)(1)(vii))\n(Calculated value)","Total Duration of CMS Downtime as a Percent of Total Source Operating Time\n(§63.2386(d)(1)(vii))\n(Calculated value)","Comments or Additional Information"]
[null,"RecordId","CMSDescription","TotalOperatingTime","EmissionsDeviationDuration","EmissionsDeviationPercent","CMSDowntimeDuration","CMSDowntimePercent","CMSSummaryComments"]
[null,"e.g.: 1","e.g.: 1 Tank 300B Manufacturer 2020AB","e.g.: 4000","e.g.: 40","e.g.: 1.0%","e.g.: 40","e.g.: 1.0%"]
[null,null,"e.g.","e.g.","e.g.","e.g.","e.g.","e.g.","e.g."]
[null,null,"e.g.","e.g.","e.g.","e.g.","e.g.","e.g.","e.g."]
[null,null,"e.g.","e.g.","e.g.","e.g.","e.g.","e.g.","e.g."]
[null,null,"e.g.","e.g.","e.g.","e.g.","e.g.","e.g.","e.g."]
[null,null,"e.g.","e.g.","e.g.","e.g.","e.g.","e.g.","e.g."]
[null,null,"e.g.","e.g.","e.g.","e.g.","e.g.","e.g.","e.g."]
[null,null,"e.g.","e.g.","e.g.","e.g.","e.g.","e.g.","e.g."]
[null,null,"e.g.","e.g.","e.g.","e.g.","e.g.","e.g.","e.g."]
[null,null,"e.g.","e.g.","e.g.","e.g.","e.g.","e.g.","e.g."]
[null,{"$f":"Lists!AD2","v":""},{"$f":"Lists!AE2","v":""},{"$f":"Lists!AF2","v":""},{"$f":"IF(C24=\"\",\"\",SUMIFS(CMS_Deviation!$G$24:$G$1023,CMS_Deviation!$C$24:$C$1023,$C24))","v":""},{"$f":"IF(C24=\"\",\"\",E24/D24)","v":""},{"$f":"IF(C24=\"\",\"\",SUMIFS(CMS_Downtime!$G$24:$G$1023,CMS_Downtime!$C$24:$C$1023,$C24))","v":""},{"$f":"IF(C24=\"\",\"\",G24/D24)","v":""}]
[null,{"$f":"Lists!AD3","v":""},{"$f":"Lists!AE3","v":""},{"$f":"Lists!AF3","v":""},{"$f":"IF(C25=\"\",\"\",SUMIFS(CMS_Deviation!$G$24:$G$1023,CMS_Deviation!$C$24:$C$1023,$C25))","v":""},"",{"$f":"IF(C25=\"\",\"\",SUMIFS(CMS_Downtime!$G$24:$G$1023,CMS_Downtime!$C$24:$C$1023,$C25))","v":""},""]
[null,{"$f":"Lists!AD4","v":""},{"$f":"Lists!AE4","v":""},{"$f":"Lists!AF4","v":""},{"$f":"IF(C26=\"\",\"\",SUMIFS(CMS_Deviation!$G$24:$G$1023,CMS_Deviation!$C$24:$C$1023,$C26))","v":""},"",{"$f":"IF(C26=\"\",\"\",SUMIFS(CMS_Downtime!$G$24:$G$1023,CMS_Downtime!$C$24:$C$1023,$C26))","v":""},""]
[null,{"$f":"Lists!AD5","v":""},{"$f":"Lists!AE5","v":""},{"$f":"Lists!AF5","v":""},{"$f":"IF(C27=\"\",\"\",SUMIFS(CMS_Deviation!$G$24:$G$1023,CMS_Deviation!$C$24:$C$1023,$C27))","v":""},"",{"$f":"IF(C27=\"\",\"\",SUMIFS(CMS_Downtime!$G$24:$G$1023,CMS_Downtime!$C$24:$C$1023,$C27))","v":""},""]
[null,{"$f":"Lists!AD6","v":""},{"$f":"Lists!AE6","v":""},{"$f":"Lists!AF6","v":""},{"$f":"IF(C28=\"\",\"\",SUMIFS(CMS_Deviation!$G$24:$G$1023,CMS_Deviation!$C$24:$C$1023,$C28))","v":""},"",{"$f":"IF(C28=\"\",\"\",SUMIFS(CMS_Downtime!$G$24:$G$1023,CMS_Downtime!$C$24:$C$1023,$C28))","v":""},""]
[null,{"$f":"Lists!AD7","v":""},{"$f":"Lists!AE7","v":""},{"$f":"Lists!AF7","v":""},{"$f":"IF(C29=\"\",\"\",SUMIFS(CMS_Deviation!$G$24:$G$1023,CMS_Deviation!$C$24:$C$1023,$C29))","v":""},"",{"$f":"IF(C29=\"\",\"\",SUMIFS(CMS_Downtime!$G$24:$G$1023,CMS_Downtime!$C$24:$C$1023,$C29))","v":""},""]
[null,{"$f":"Lists!AD8","v":""},{"$f":"Lists!AE8","v":""},{"$f":"Lists!AF8","v":""},{"$f":"IF(C30=\"\",\"\",SUMIFS(CMS_Deviation!$G$24:$G$1023,CMS_Deviation!$C$24:$C$1023,$C30))","v":""},"",{"$f":"IF(C30=\"\",\"\",SUMIFS(CMS_Downtime!$G$24:$G$1023,CMS_Downtime!$C$24:$C$1023,$C30))","v":""},""]
[null,{"$f":"Lists!AD9","v":""},{"$f":"Lists!AE9","v":""},{"$f":"Lists!AF9","v":""},{"$f":"IF(C31=\"\",\"\",SUMIFS(CMS_Deviation!$G$24:$G$1023,CMS_Deviation!$C$24:$C$1023,$C31))","v":""},"",{"$f":"IF(C31=\"\",\"\",SUMIFS(CMS_Downtime!$G$24:$G$1023,CMS_Downtime!$C$24:$C$1023,$C31))","v":""},""]
[null,{"$f":"Lists!AD10","v":""},{"$f":"Lists!AE10","v":""},{"$f":"Lists!AF10","v":""},{"$f":"IF(C32=\"\",\"\",SUMIFS(CMS_Deviation!$G$24:$G$1023,CMS_Deviation!$C$24:$C$1023,$C32))","v":""},"",{"$f":"IF(C32=\"\",\"\",SUMIFS(CMS_Downtime!$G$24:$G$1023,CMS_Downtime!$C$24:$C$1023,$C32))","v":""},""]
[null,{"$f":"Lists!AD11","v":""},{"$f":"Lists!AE11","v":""},{"$f":"Lists!AF11","v":""},{"$f":"IF(C33=\"\",\"\",SUMIFS(CMS_Deviation!$G$24:$G$1023,CMS_Deviation!$C$24:$C$1023,$C33))","v":""},"",{"$f":"IF(C33=\"\",\"\",SUMIFS(CMS_Downtime!$G$24:$G$1023,CMS_Downtime!$C$24:$C$1023,$C33))","v":""},""]
[null,{"$f":"Lists!AD12","v":""},{"$f":"Lists!AE12","v":""},{"$f":"Lists!AF12","v":""},{"$f":"IF(C34=\"\",\"\",SUMIFS(CMS_Deviation!$G$24:$G$1023,CMS_Deviation!$C$24:$C$1023,$C34))","v":""},"",{"$f":"IF(C34=\"\",\"\",SUMIFS(CMS_Downtime!$G$24:$G$1023,CMS_Downtime!$C$24:$C$1023,$C34))","v":""},""]
[null,{"$f":"Lists!AD13","v":""},{"$f":"Lists!AE13","v":""},{"$f":"Lists!AF13","v":""},{"$f":"IF(C35=\"\",\"\",SUMIFS(CMS_Deviation!$G$24:$G$1023,CMS_Deviation!$C$24:$C$1023,$C35))","v":""},"",{"$f":"IF(C35=\"\",\"\",SUMIFS(CMS_Downtime!$G$24:$G$1023,CMS_Downtime!$C$24:$C$1023,$C35))","v":""},""]
[null,{"$f":"Lists!AD14","v":""},{"$f":"Lists!AE14","v":""},{"$f":"Lists!AF14","v":""},{"$f":"IF(C36=\"\",\"\",SUMIFS(CMS_Deviation!$G$24:$G$1023,CMS_Deviation!$C$24:$C$1023,$C36))","v":""},"",{"$f":"IF(C36=\"\",\"\",SUMIFS(CMS_Downtime!$G$24:$G$1023,CMS_Downtime!$C$24:$C$1023,$C36))","v":""},""]
[null,{"$f":"Lists!AD15","v":""},{"$f":"Lists!AE15","v":""},{"$f":"Lists!AF15","v":""},{"$f":"IF(C37=\"\",\"\",SUMIFS(CMS_Deviation!$G$24:$G$1023,CMS_Deviation!$C$24:$C$1023,$C37))","v":""},"",{"$f":"IF(C37=\"\",\"\",SUMIFS(CMS_Downtime!$G$24:$G$1023,CMS_Downtime!$C$24:$C$1023,$C37))","v":""},""]
[null,{"$f":"Lists!AD16","v":""},{"$f":"Lists!AE16","v":""},{"$f":"Lists!AF16","v":""},{"$f":"IF(C38=\"\",\"\",SUMIFS(CMS_Deviation!$G$24:$G$1023,CMS_Deviation!$C$24:$C$1023,$C38))","v":""},"",{"$f":"IF(C38=\"\",\"\",SUMIFS(CMS_Downtime!$G$24:$G$1023,CMS_Downtime!$C$24:$C$1023,$C38))","v":""},""]
[null,{"$f":"Lists!AD17","v":""},{"$f":"Lists!AE17","v":""},{"$f":"Lists!AF17","v":""},{"$f":"IF(C39=\"\",\"\",SUMIFS(CMS_Deviation!$G$24:$G$1023,CMS_Deviation!$C$24:$C$1023,$C39))","v":""},"",{"$f":"IF(C39=\"\",\"\",SUMIFS(CMS_Downtime!$G$24:$G$1023,CMS_Downtime!$C$24:$C$1023,$C39))","v":""},""]
[null,{"$f":"Lists!AD18","v":""},{"$f":"Lists!AE18","v":""},{"$f":"Lists!AF18","v":""},{"$f":"IF(C40=\"\",\"\",SUMIFS(CMS_Deviation!$G$24:$G$1023,CMS_Deviation!$C$24:$C$1023,$C40))","v":""},"",{"$f":"IF(C40=\"\",\"\",SUMIFS(CMS_Downtime!$G$24:$G$1023,CMS_Downtime!$C$24:$C$1023,$C40))","v":""},""]
[null,{"$f":"Lists!AD19","v":""},{"$f":"Lists!AE19","v":""},{"$f":"Lists!AF19","v":""},{"$f":"IF(C41=\"\",\"\",SUMIFS(CMS_Deviation!$G$24:$G$1023,CMS_Deviation!$C$24:$C$1023,$C41))","v":""},"",{"$f":"IF(C41=\"\",\"\",SUMIFS(CMS_Downtime!$G$24:$G$1023,CMS_Downtime!$C$24:$C$1023,$C41))","v":""},""]
[null,{"$f":"Lists!AD20","v":""},{"$f":"Lists!AE20","v":""},{"$f":"Lists!AF20","v":""},{"$f":"IF(C42=\"\",\"\",SUMIFS(CMS_Deviation!$G$24:$G$1023,CMS_Deviation!$C$24:$C$1023,$C42))","v":""},"",{"$f":"IF(C42=\"\",\"\",SUMIFS(CMS_Downtime!$G$24:$G$1023,CMS_Downtime!$C$24:$C$1023,$C42))","v":""},""]
[null,{"$f":"Lists!AD21","v":""},{"$f":"Lists!AE21","v":""},{"$f":"Lists!AF21","v":""},{"$f":"IF(C43=\"\",\"\",SUMIFS(CMS_Deviation!$G$24:$G$1023,CMS_Deviation!$C$24:$C$1023,$C43))","v":""},"",{"$f":"IF(C43=\"\",\"\",SUMIFS(CMS_Downtime!$G$24:$G$1023,CMS_Downtime!$C$24:$C$1023,$C43))","v":""},""]
[null,{"$f":"Lists!AD22","v":""},{"$f":"Lists!AE22","v":""},{"$f":"Lists!AF22","v":""},{"$f":"IF(C44=\"\",\"\",SUMIFS(CMS_Deviation!$G$24:$G$1023,CMS_Deviation!$C$24:$C$1023,$C44))","v":""},"",{"$f":"IF(C44=\"\",\"\",SUMIFS(CMS_Downtime!$G$24:$G$1023,CMS_Downtime!$C$24:$C$1023,$C44))","v":""},""]
[null,{"$f":"Lists!AD23","v":""},{"$f":"Lists!AE23","v":""},{"$f":"Lists!AF23","v":""},{"$f":"IF(C45=\"\",\"\",SUMIFS(CMS_Deviation!$G$24:$G$1023,CMS_Deviation!$C$24:$C$1023,$C45))","v":""},"",{"$f":"IF(C45=\"\",\"\",SUMIFS(CMS_Downtime!$G$24:$G$1023,CMS_Downtime!$C$24:$C$1023,$C45))","v":""},""]
[null,{"$f":"Lists!AD24","v":""},{"$f":"Lists!AE24","v":""},{"$f":"Lists!AF24","v":""},{"$f":"IF(C46=\"\",\"\",SUMIFS(CMS_Deviation!$G$24:$G$1023,CMS_Deviation!$C$24:$C$1023,$C46))","v":""},"",{"$f":"IF(C46=\"\",\"\",SUMIFS(CMS_Downtime!$G$24:$G$1023,CMS_Downtime!$C$24:$C$1023,$C46))","v":""},""]
[null,{"$f":"Lists!AD25","v":""},{"$f":"Lists!AE25","v":""},{"$f":"Lists!AF25","v":""},{"$f":"IF(C47=\"\",\"\",SUMIFS(CMS_Deviation!$G$24:$G$1023,CMS_Deviation!$C$24:$C$1023,$C47))","v":""},"",{"$f":"IF(C47=\"\",\"\",SUMIFS(CMS_Downtime!$G$24:$G$1023,CMS_Downtime!$C$24:$C$1023,$C47))","v":""},""]
[null,{"$f":"Lists!AD26","v":""},{"$f":"Lists!AE26","v":""},{"$f":"Lists!AF26","v":""},{"$f":"IF(C48=\"\",\"\",SUMIFS(CMS_Deviation!$G$24:$G$1023,CMS_Deviation!$C$24:$C$1023,$C48))","v":""},"",{"$f":"IF(C48=\"\",\"\",SUMIFS(CMS_Downtime!$G$24:$G$1023,CMS_Downtime!$C$24:$C$1023,$C48))","v":""},""]
[null,{"$f":"Lists!AD27","v":""},{"$f":"Lists!AE27","v":""},{"$f":"Lists!AF27","v":""},{"$f":"IF(C49=\"\",\"\",SUMIFS(CMS_Deviation!$G$24:$G$1023,CMS_Deviation!$C$24:$C$1023,$C49))","v":""},"",{"$f":"IF(C49=\"\",\"\",SUMIFS(CMS_Downtime!$G$24:$G$1023,CMS_Downtime!$C$24:$C$1023,$C49))","v":""},""]
[null,{"$f":"Lists!AD28","v":""},{"$f":"Lists!AE28","v":""},{"$f":"Lists!AF28","v":""},{"$f":"IF(C50=\"\",\"\",SUMIFS(CMS_Deviation!$G$24:$G$1023,CMS_Deviation!$C$24:$C$1023,$C50))","v":""},"",{"$f":"IF(C50=\"\",\"\",SUMIFS(CMS_Downtime!$G$24:$G$1023,CMS_Downtime!$C$24:$C$1023,$C50))","v":""},""]
[null,{"$f":"Lists!AD29","v":""},{"$f":"Lists!AE29","v":""},{"$f":"Lists!AF29","v":""},{"$f":"IF(C51=\"\",\"\",SUMIFS(CMS_Deviation!$G$24:$G$1023,CMS_Deviation!$C$24:$C$1023,$C51))","v":""},"",{"$f":"IF(C51=\"\",\"\",SUMIFS(CMS_Downtime!$G$24:$G$1023,CMS_Downtime!$C$24:$C$1023,$C51))","v":""},""]
[null,{"$f":"Lists!AD30","v":""},{"$f":"Lists!AE30","v":""},{"$f":"Lists!AF30","v":""},{"$f":"IF(C52=\"\",\"\",SUMIFS(CMS_Deviation!$G$24:$G$1023,CMS_Deviation!$C$24:$C$1023,$C52))","v":""},"",{"$f":"IF(C52=\"\",\"\",SUMIFS(CMS_Downtime!$G$24:$G$1023,CMS_Downtime!$C$24:$C$1023,$C52))","v":""},""]
[null,{"$f":"Lists!AD31","v":""},{"$f":"Lists!AE31","v":""},{"$f":"Lists!AF31","v":""},{"$f":"IF(C53=\"\",\"\",SUMIFS(CMS_Deviation!$G$24:$G$1023,CMS_Deviation!$C$24:$C$1023,$C53))","v":""},"",{"$f":"IF(C53=\"\",\"\",SUMIFS(CMS_Downtime!$G$24:$G$1023,CMS_Downtime!$C$24:$C$1023,$C53))","v":""},""]
[null,{"$f":"Lists!AD32","v":""},{"$f":"Lists!AE32","v":""},{"$f":"Lists!AF32","v":""},{"$f":"IF(C54=\"\",\"\",SUMIFS(CMS_Deviation!$G$24:$G$1023,CMS_Deviation!$C$24:$C$1023,$C54))","v":""},"",{"$f":"IF(C54=\"\",\"\",SUMIFS(CMS_Downtime!$G$24:$G$1023,CMS_Downtime!$C$24:$C$1023,$C54))","v":""},""]
[null,{"$f":"Lists!AD33","v":""},{"$f":"Lists!AE33","v":""},{"$f":"Lists!AF33","v":""},{"$f":"IF(C55=\"\",\"\",SUMIFS(CMS_Deviation!$G$24:$G$1023,CMS_Deviation!$C$24:$C$1023,$C55))","v":""},"",{"$f":"IF(C55=\"\",\"\",SUMIFS(CMS_Downtime!$G$24:$G$1023,CMS_Downtime!$C$24:$C$1023,$C55))","v":""},""]
[null,{"$f":"Lists!AD34","v":""},{"$f":"Lists!AE34","v":""},{"$f":"Lists!AF34","v":""},{"$f":"IF(C56=\"\",\"\",SUMIFS(CMS_Deviation!$G$24:$G$1023,CMS_Deviation!$C$24:$C$1023,$C56))","v":""},"",{"$f":"IF(C56=\"\",\"\",SUMIFS(CMS_Downtime!$G$24:$G$1023,CMS_Downtime!$C$24:$C$1023,$C56))","v":""},""]
[null,{"$f":"Lists!AD35","v":""},{"$f":"Lists!AE35","v":""},{"$f":"Lists!AF35","v":""},{"$f":"IF(C57=\"\",\"\",SUMIFS(CMS_Deviation!$G$24:$G$1023,CMS_Deviation!$C$24:$C$1023,$C57))","v":""},"",{"$f":"IF(C57=\"\",\"\",SUMIFS(CMS_Downtime!$G$24:$G$1023,CMS_Downtime!$C$24:$C$1023,$C57))","v":""},""]
[null,{"$f":"Lists!AD36","v":""},{"$f":"Lists!AE36","v":""},{"$f":"Lists!AF36","v":""},{"$f":"IF(C58=\"\",\"\",SUMIFS(CMS_Deviation!$G$24:$G$1023,CMS_Deviation!$C$24:$C$1023,$C58))","v":""},"",{"$f":"IF(C58=\"\",\"\",SUMIFS(CMS_Downtime!$G$24:$G$1023,CMS_Downtime!$C$24:$C$1023,$C58))","v":""},""]
[null,{"$f":"Lists!AD37","v":""},{"$f":"Lists!AE37","v":""},{"$f":"Lists!AF37","v":""},{"$f":"IF(C59=\"\",\"\",SUMIFS(CMS_Deviation!$G$24:$G$1023,CMS_Deviation!$C$24:$C$1023,$C59))","v":""},"",{"$f":"IF(C59=\"\",\"\",SUMIFS(CMS_Downtime!$G$24:$G$1023,CMS_Downtime!$C$24:$C$1023,$C59))","v":""},""]
[null,{"$f":"Lists!AD38","v":""},{"$f":"Lists!AE38","v":""},{"$f":"Lists!AF38","v":""},{"$f":"IF(C60=\"\",\"\",SUMIFS(CMS_Deviation!$G$24:$G$1023,CMS_Deviation!$C$24:$C$1023,$C60))","v":""},"",{"$f":"IF(C60=\"\",\"\",SUMIFS(CMS_Downtime!$G$24:$G$1023,CMS_Downtime!$C$24:$C$1023,$C60))","v":""},""]
[null,{"$f":"Lists!AD39","v":""},{"$f":"Lists!AE39","v":""},{"$f":"Lists!AF39","v":""},{"$f":"IF(C61=\"\",\"\",SUMIFS(CMS_Deviation!$G$24:$G$1023,CMS_Deviation!$C$24:$C$1023,$C61))","v":""},"",{"$f":"IF(C61=\"\",\"\",SUMIFS(CMS_Downtime!$G$24:$G$1023,CMS_Downtime!$C$24:$C$1023,$C61))","v":""},""]
[null,{"$f":"Lists!AD40","v":""},{"$f":"Lists!AE40","v":""},{"$f":"Lists!AF40","v":""},{"$f":"IF(C62=\"\",\"\",SUMIFS(CMS_Deviation!$G$24:$G$1023,CMS_Deviation!$C$24:$C$1023,$C62))","v":""},"",{"$f":"IF(C62=\"\",\"\",SUMIFS(CMS_Downtime!$G$24:$G$1023,CMS_Downtime!$C$24:$C$1023,$C62))","v":""},""]
[null,{"$f":"Lists!AD41","v":""},{"$f":"Lists!AE41","v":""},{"$f":"Lists!AF41","v":""},{"$f":"IF(C63=\"\",\"\",SUMIFS(CMS_Deviation!$G$24:$G$1023,CMS_Deviation!$C$24:$C$1023,$C63))","v":""},"",{"$f":"IF(C63=\"\",\"\",SUMIFS(CMS_Downtime!$G$24:$G$1023,CMS_Downtime!$C$24:$C$1023,$C63))","v":""},""]
[null,{"$f":"Lists!AD42","v":""},{"$f":"Lists!AE42","v":""},{"$f":"Lists!AF42","v":""},{"$f":"IF(C64=\"\",\"\",SUMIFS(CMS_Deviation!$G$24:$G$1023,CMS_Deviation!$C$24:$C$1023,$C64))","v":""},"",{"$f":"IF(C64=\"\",\"\",SUMIFS(CMS_Downtime!$G$24:$G$1023,CMS_Downtime!$C$24:$C$1023,$C64))","v":""},""]
[null,{"$f":"Lists!AD43","v":""},{"$f":"Lists!AE43","v":""},{"$f":"Lists!AF43","v":""},{"$f":"IF(C65=\"\",\"\",SUMIFS(CMS_Deviation!$G$24:$G$1023,CMS_Deviation!$C$24:$C$1023,$C65))","v":""},"",{"$f":"IF(C65=\"\",\"\",SUMIFS(CMS_Downtime!$G$24:$G$1023,CMS_Downtime!$C$24:$C$1023,$C65))","v":""},""]
[null,{"$f":"Lists!AD44","v":""},{"$f":"Lists!AE44","v":""},{"$f":"Lists!AF44","v":""},{"$f":"IF(C66=\"\",\"\",SUMIFS(CMS_Deviation!$G$24:$G$1023,CMS_Deviation!$C$24:$C$1023,$C66))","v":""},"",{"$f":"IF(C66=\"\",\"\",SUMIFS(CMS_Downtime!$G$24:$G$1023,CMS_Downtime!$C$24:$C$1023,$C66))","v":""},""]
[null,{"$f":"Lists!AD45","v":""},{"$f":"Lists!AE45","v":""},{"$f":"Lists!AF45","v":""},{"$f":"IF(C67=\"\",\"\",SUMIFS(CMS_Deviation!$G$24:$G$1023,CMS_Deviation!$C$24:$C$1023,$C67))","v":""},"",{"$f":"IF(C67=\"\",\"\",SUMIFS(CMS_Downtime!$G$24:$G$1023,CMS_Downtime!$C$24:$C$1023,$C67))","v":""},""]
[null,{"$f":"Lists!AD46","v":""},{"$f":"Lists!AE46","v":""},{"$f":"Lists!AF46","v":""},{"$f":"IF(C68=\"\",\"\",SUMIFS(CMS_Deviation!$G$24:$G$1023,CMS_Deviation!$C$24:$C$1023,$C68))","v":""},"",{"$f":"IF(C68=\"\",\"\",SUMIFS(CMS_Downtime!$G$24:$G$1023,CMS_Downtime!$C$24:$C$1023,$C68))","v":""},""]
[null,{"$f":"Lists!AD47","v":""},{"$f":"Lists!AE47","v":""},{"$f":"Lists!AF47","v":""},{"$f":"IF(C69=\"\",\"\",SUMIFS(CMS_Deviation!$G$24:$G$1023,CMS_Deviation!$C$24:$C$1023,$C69))","v":""},"",{"$f":"IF(C69=\"\",\"\",SUMIFS(CMS_Downtime!$G$24:$G$1023,CMS_Downtime!$C$24:$C$1023,$C69))","v":""},""]
[null,{"$f":"Lists!AD48","v":""},{"$f":"Lists!AE48","v":""},{"$f":"Lists!AF48","v":""},{"$f":"IF(C70=\"\",\"\",SUMIFS(CMS_Deviation!$G$24:$G$1023,CMS_Deviation!$C$24:$C$1023,$C70))","v":""},"",{"$f":"IF(C70=\"\",\"\",SUMIFS(CMS_Downtime!$G$24:$G$1023,CMS_Downtime!$C$24:$C$1023,$C70))","v":""},""]
[null,{"$f":"Lists!AD49","v":""},{"$f":"Lists!AE49","v":""},{"$f":"Lists!AF49","v":""},{"$f":"IF(C71=\"\",\"\",SUMIFS(CMS_Deviation!$G$24:$G$1023,CMS_Deviation!$C$24:$C$1023,$C71))","v":""},"",{"$f":"IF(C71=\"\",\"\",SUMIFS(CMS_Downtime!$G$24:$G$1023,CMS_Downtime!$C$24:$C$1023,$C71))","v":""},""]
[null,{"$f":"Lists!AD50","v":""},{"$f":"Lists!AE50","v":""},{"$f":"Lists!AF50","v":""},{"$f":"IF(C72=\"\",\"\",SUMIFS(CMS_Deviation!$G$24:$G$1023,CMS_Deviation!$C$24:$C$1023,$C72))","v":""},"",{"$f":"IF(C72=\"\",\"\",SUMIFS(CMS_Downtime!$G$24:$G$1023,CMS_Downtime!$C$24:$C$1023,$C72))","v":""},""]
[null,{"$f":"Lists!AD51","v":""},{"$f":"Lists!AE51","v":""},{"$f":"Lists!AF51","v":""},{"$f":"IF(C73=\"\",\"\",SUMIFS(CMS_Deviation!$G$24:$G$1023,CMS_Deviation!$C$24:$C$1023,$C73))","v":""},"",{"$f":"IF(C73=\"\",\"\",SUMIFS(CMS_Downtime!$G$24:$G$1023,CMS_Downtime!$C$24:$C$1023,$C73))","v":""},""]
[null,{"$f":"Lists!AD52","v":""},{"$f":"Lists!AE52","v":""},{"$f":"Lists!AF52","v":""},{"$f":"IF(C74=\"\",\"\",SUMIFS(CMS_Deviation!$G$24:$G$1023,CMS_Deviation!$C$24:$C$1023,$C74))","v":""},"",{"$f":"IF(C74=\"\",\"\",SUMIFS(CMS_Downtime!$G$24:$G$1023,CMS_Downtime!$C$24:$C$1023,$C74))","v":""},""]
[null,{"$f":"Lists!AD53","v":""},{"$f":"Lists!AE53","v":""},{"$f":"Lists!AF53","v":""},{"$f":"IF(C75=\"\",\"\",SUMIFS(CMS_Deviation!$G$24:$G$1023,CMS_Deviation!$C$24:$C$1023,$C75))","v":""},"",{"$f":"IF(C75=\"\",\"\",SUMIFS(CMS_Downtime!$G$24:$G$1023,CMS_Downtime!$C$24:$C$1023,$C75))","v":""},""]
[null,{"$f":"Lists!AD54","v":""},{"$f":"Lists!AE54","v":""},{"$f":"Lists!AF54","v":""},{"$f":"IF(C76=\"\",\"\",SUMIFS(CMS_Deviation!$G$24:$G$1023,CMS_Deviation!$C$24:$C$1023,$C76))","v":""},"",{"$f":"IF(C76=\"\",\"\",SUMIFS(CMS_Downtime!$G$24:$G$1023,CMS_Downtime!$C$24:$C$1023,$C76))","v":""},""]
[null,{"$f":"Lists!AD55","v":""},{"$f":"Lists!AE55","v":""},{"$f":"Lists!AF55","v":""},{"$f":"IF(C77=\"\",\"\",SUMIFS(CMS_Deviation!$G$24:$G$1023,CMS_Deviation!$C$24:$C$1023,$C77))","v":""},{"$f":"IF(C77=\"\",\"\",E77/D77)","v":""},{"$f":"IF(C77=\"\",\"\",SUMIFS(CMS_Downtime!$G$24:$G$1023,CMS_Downtime!$C$24:$C$1023,$C77))","v":""},{"$f":"IF(C77=\"\",\"\",G77/D77)","v":""}]
[null,{"$f":"Lists!AD56","v":""},{"$f":"Lists!AE56","v":""},{"$f":"Lists!AF56","v":""},{"$f":"IF(C78=\"\",\"\",SUMIFS(CMS_Deviation!$G$24:$G$1023,CMS_Deviation!$C$24:$C$1023,$C78))","v":""},"",{"$f":"IF(C78=\"\",\"\",SUMIFS(CMS_Downtime!$G$24:$G$1023,CMS_Downtime!$C$24:$C$1023,$C78))","v":""},""]
[null,{"$f":"Lists!AD57","v":""},{"$f":"Lists!AE57","v":""},{"$f":"Lists!AF57","v":""},{"$f":"IF(C79=\"\",\"\",SUMIFS(CMS_Deviation!$G$24:$G$1023,CMS_Deviation!$C$24:$C$1023,$C79))","v":""},"",{"$f":"IF(C79=\"\",\"\",SUMIFS(CMS_Downtime!$G$24:$G$1023,CMS_Downtime!$C$24:$C$1023,$C79))","v":""},""]
[null,{"$f":"Lists!AD58","v":""},{"$f":"Lists!AE58","v":""},{"$f":"Lists!AF58","v":""},{"$f":"IF(C80=\"\",\"\",SUMIFS(CMS_Deviation!$G$24:$G$1023,CMS_Deviation!$C$24:$C$1023,$C80))","v":""},"",{"$f":"IF(C80=\"\",\"\",SUMIFS(CMS_Downtime!$G$24:$G$1023,CMS_Downtime!$C$24:$C$1023,$C80))","v":""},""]
[null,{"$f":"Lists!AD59","v":""},{"$f":"Lists!AE59","v":""},{"$f":"Lists!AF59","v":""},{"$f":"IF(C81=\"\",\"\",SUMIFS(CMS_Deviation!$G$24:$G$1023,CMS_Deviation!$C$24:$C$1023,$C81))","v":""},"",{"$f":"IF(C81=\"\",\"\",SUMIFS(CMS_Downtime!$G$24:$G$1023,CMS_Downtime!$C$24:$C$1023,$C81))","v":""},""]
[null,{"$f":"Lists!AD60","v":""},{"$f":"Lists!AE60","v":""},{"$f":"Lists!AF60","v":""},{"$f":"IF(C82=\"\",\"\",SUMIFS(CMS_Deviation!$G$24:$G$1023,CMS_Deviation!$C$24:$C$1023,$C82))","v":""},"",{"$f":"IF(C82=\"\",\"\",SUMIFS(CMS_Downtime!$G$24:$G$1023,CMS_Downtime!$C$24:$C$1023,$C82))","v":""},""]
[null,{"$f":"Lists!AD61","v":""},{"$f":"Lists!AE61","v":""},{"$f":"Lists!AF61","v":""},{"$f":"IF(C83=\"\",\"\",SUMIFS(CMS_Deviation!$G$24:$G$1023,CMS_Deviation!$C$24:$C$1023,$C83))","v":""},"",{"$f":"IF(C83=\"\",\"\",SUMIFS(CMS_Downtime!$G$24:$G$1023,CMS_Downtime!$C$24:$C$1023,$C83))","v":""},""]
[null,{"$f":"Lists!AD62","v":""},{"$f":"Lists!AE62","v":""},{"$f":"Lists!AF62","v":""},{"$f":"IF(C84=\"\",\"\",SUMIFS(CMS_Deviation!$G$24:$G$1023,CMS_Deviation!$C$24:$C$1023,$C84))","v":""},"",{"$f":"IF(C84=\"\",\"\",SUMIFS(CMS_Downtime!$G$24:$G$1023,CMS_Downtime!$C$24:$C$1023,$C84))","v":""},""]
[null,{"$f":"Lists!AD63","v":""},{"$f":"Lists!AE63","v":""},{"$f":"Lists!AF63","v":""},{"$f":"IF(C85=\"\",\"\",SUMIFS(CMS_Deviation!$G$24:$G$1023,CMS_Deviation!$C$24:$C$1023,$C85))","v":""},"",{"$f":"IF(C85=\"\",\"\",SUMIFS(CMS_Downtime!$G$24:$G$1023,CMS_Downtime!$C$24:$C$1023,$C85))","v":""},""]
[null,{"$f":"Lists!AD64","v":""},{"$f":"Lists!AE64","v":""},{"$f":"Lists!AF64","v":""},{"$f":"IF(C86=\"\",\"\",SUMIFS(CMS_Deviation!$G$24:$G$1023,CMS_Deviation!$C$24:$C$1023,$C86))","v":""},"",{"$f":"IF(C86=\"\",\"\",SUMIFS(CMS_Downtime!$G$24:$G$1023,CMS_Downtime!$C$24:$C$1023,$C86))","v":""},""]
[null,{"$f":"Lists!AD65","v":""},{"$f":"Lists!AE65","v":""},{"$f":"Lists!AF65","v":""},{"$f":"IF(C87=\"\",\"\",SUMIFS(CMS_Deviation!$G$24:$G$1023,CMS_Deviation!$C$24:$C$1023,$C87))","v":""},"",{"$f":"IF(C87=\"\",\"\",SUMIFS(CMS_Downtime!$G$24:$G$1023,CMS_Downtime!$C$24:$C$1023,$C87))","v":""},""]
[null,{"$f":"Lists!AD66","v":""},{"$f":"Lists!AE66","v":""},{"$f":"Lists!AF66","v":""},{"$f":"IF(C88=\"\",\"\",SUMIFS(CMS_Deviation!$G$24:$G$1023,CMS_Deviation!$C$24:$C$1023,$C88))","v":""},"",{"$f":"IF(C88=\"\",\"\",SUMIFS(CMS_Downtime!$G$24:$G$1023,CMS_Downtime!$C$24:$C$1023,$C88))","v":""},""]
[null,{"$f":"Lists!AD67","v":""},{"$f":"Lists!AE67","v":""},{"$f":"Lists!AF67","v":""},{"$f":"IF(C89=\"\",\"\",SUMIFS(CMS_Deviation!$G$24:$G$1023,CMS_Deviation!$C$24:$C$1023,$C89))","v":""},"",{"$f":"IF(C89=\"\",\"\",SUMIFS(CMS_Downtime!$G$24:$G$1023,CMS_Downtime!$C$24:$C$1023,$C89))","v":""},""]
[null,{"$f":"Lists!AD68","v":""},{"$f":"Lists!AE68","v":""},{"$f":"Lists!AF68","v":""},{"$f":"IF(C90=\"\",\"\",SUMIFS(CMS_Deviation!$G$24:$G$1023,CMS_Deviation!$C$24:$C$1023,$C90))","v":""},"",{"$f":"IF(C90=\"\",\"\",SUMIFS(CMS_Downtime!$G$24:$G$1023,CMS_Downtime!$C$24:$C$1023,$C90))","v":""},""]
[null,{"$f":"Lists!AD69","v":""},{"$f":"Lists!AE69","v":""},{"$f":"Lists!AF69","v":""},{"$f":"IF(C91=\"\",\"\",SUMIFS(CMS_Deviation!$G$24:$G$1023,CMS_Deviation!$C$24:$C$1023,$C91))","v":""},"",{"$f":"IF(C91=\"\",\"\",SUMIFS(CMS_Downtime!$G$24:$G$1023,CMS_Downtime!$C$24:$C$1023,$C91))","v":""},""]
[null,{"$f":"Lists!AD70","v":""},{"$f":"Lists!AE70","v":""},{"$f":"Lists!AF70","v":""},{"$f":"IF(C92=\"\",\"\",SUMIFS(CMS_Deviation!$G$24:$G$1023,CMS_Deviation!$C$24:$C$1023,$C92))","v":""},"",{"$f":"IF(C92=\"\",\"\",SUMIFS(CMS_Downtime!$G$24:$G$1023,CMS_Downtime!$C$24:$C$1023,$C92))","v":""},""]
[null,{"$f":"Lists!AD71","v":""},{"$f":"Lists!AE71","v":""},{"$f":"Lists!AF71","v":""},{"$f":"IF(C93=\"\",\"\",SUMIFS(CMS_Deviation!$G$24:$G$1023,CMS_Deviation!$C$24:$C$1023,$C93))","v":""},"",{"$f":"IF(C93=\"\",\"\",SUMIFS(CMS_Downtime!$G$24:$G$1023,CMS_Downtime!$C$24:$C$1023,$C93))","v":""},""]
[null,{"$f":"Lists!AD72","v":""},{"$f":"Lists!AE72","v":""},{"$f":"Lists!AF72","v":""},{"$f":"IF(C94=\"\",\"\",SUMIFS(CMS_Deviation!$G$24:$G$1023,CMS_Deviation!$C$24:$C$1023,$C94))","v":""},"",{"$f":"IF(C94=\"\",\"\",SUMIFS(CMS_Downtime!$G$24:$G$1023,CMS_Downtime!$C$24:$C$1023,$C94))","v":""},""]
[null,{"$f":"Lists!AD73","v":""},{"$f":"Lists!AE73","v":""},{"$f":"Lists!AF73","v":""},{"$f":"IF(C95=\"\",\"\",SUMIFS(CMS_Deviation!$G$24:$G$1023,CMS_Deviation!$C$24:$C$1023,$C95))","v":""},"",{"$f":"IF(C95=\"\",\"\",SUMIFS(CMS_Downtime!$G$24:$G$1023,CMS_Downtime!$C$24:$C$1023,$C95))","v":""},""]
[null,{"$f":"Lists!AD74","v":""},{"$f":"Lists!AE74","v":""},{"$f":"Lists!AF74","v":""},{"$f":"IF(C96=\"\",\"\",SUMIFS(CMS_Deviation!$G$24:$G$1023,CMS_Deviation!$C$24:$C$1023,$C96))","v":""},"",{"$f":"IF(C96=\"\",\"\",SUMIFS(CMS_Downtime!$G$24:$G$1023,CMS_Downtime!$C$24:$C$1023,$C96))","v":""},""]
[null,{"$f":"Lists!AD75","v":""},{"$f":"Lists!AE75","v":""},{"$f":"Lists!AF75","v":""},{"$f":"IF(C97=\"\",\"\",SUMIFS(CMS_Deviation!$G$24:$G$1023,CMS_Deviation!$C$24:$C$1023,$C97))","v":""},"",{"$f":"IF(C97=\"\",\"\",SUMIFS(CMS_Downtime!$G$24:$G$1023,CMS_Downtime!$C$24:$C$1023,$C97))","v":""},""]
[null,{"$f":"Lists!AD76","v":""},{"$f":"Lists!AE76","v":""},{"$f":"Lists!AF76","v":""},{"$f":"IF(C98=\"\",\"\",SUMIFS(CMS_Deviation!$G$24:$G$1023,CMS_Deviation!$C$24:$C$1023,$C98))","v":""},"",{"$f":"IF(C98=\"\",\"\",SUMIFS(CMS_Downtime!$G$24:$G$1023,CMS_Downtime!$C$24:$C$1023,$C98))","v":""},""]
[null,{"$f":"Lists!AD77","v":""},{"$f":"Lists!AE77","v":""},{"$f":"Lists!AF77","v":""},{"$f":"IF(C99=\"\",\"\",SUMIFS(CMS_Deviation!$G$24:$G$1023,CMS_Deviation!$C$24:$C$1023,$C99))","v":""},"",{"$f":"IF(C99=\"\",\"\",SUMIFS(CMS_Downtime!$G$24:$G$1023,CMS_Downtime!$C$24:$C$1023,$C99))","v":""},""]
[null,{"$f":"Lists!AD78","v":""},{"$f":"Lists!AE78","v":""},{"$f":"Lists!AF78","v":""},{"$f":"IF(C100=\"\",\"\",SUMIFS(CMS_Deviation!$G$24:$G$1023,CMS_Deviation!$C$24:$C$1023,$C100))","v":""},"",{"$f":"IF(C100=\"\",\"\",SUMIFS(CMS_Downtime!$G$24:$G$1023,CMS_Downtime!$C$24:$C$1023,$C100))","v":""},""]
[null,{"$f":"Lists!AD79","v":""},{"$f":"Lists!AE79","v":""},{"$f":"Lists!AF79","v":""},{"$f":"IF(C101=\"\",\"\",SUMIFS(CMS_Deviation!$G$24:$G$1023,CMS_Deviation!$C$24:$C$1023,$C101))","v":""},"",{"$f":"IF(C101=\"\",\"\",SUMIFS(CMS_Downtime!$G$24:$G$1023,CMS_Downtime!$C$24:$C$1023,$C101))","v":""},""]
[null,{"$f":"Lists!AD80","v":""},{"$f":"Lists!AE80","v":""},{"$f":"Lists!AF80","v":""},{"$f":"IF(C102=\"\",\"\",SUMIFS(CMS_Deviation!$G$24:$G$1023,CMS_Deviation!$C$24:$C$1023,$C102))","v":""},"",{"$f":"IF(C102=\"\",\"\",SUMIFS(CMS_Downtime!$G$24:$G$1023,CMS_Downtime!$C$24:$C$1023,$C102))","v":""},""]
[null,{"$f":"Lists!AD81","v":""},{"$f":"Lists!AE81","v":""},{"$f":"Lists!AF81","v":""},{"$f":"IF(C103=\"\",\"\",SUMIFS(CMS_Deviation!$G$24:$G$1023,CMS_Deviation!$C$24:$C$1023,$C103))","v":""},"",{"$f":"IF(C103=\"\",\"\",SUMIFS(CMS_Downtime!$G$24:$G$1023,CMS_Downtime!$C$24:$C$1023,$C103))","v":""},""]
[null,{"$f":"Lists!AD82","v":""},{"$f":"Lists!AE82","v":""},{"$f":"Lists!AF82","v":""},{"$f":"IF(C104=\"\",\"\",SUMIFS(CMS_Deviation!$G$24:$G$1023,CMS_Deviation!$C$24:$C$1023,$C104))","v":""},"",{"$f":"IF(C104=\"\",\"\",SUMIFS(CMS_Downtime!$G$24:$G$1023,CMS_Downtime!$C$24:$C$1023,$C104))","v":""},""]
[null,{"$f":"Lists!AD83","v":""},{"$f":"Lists!AE83","v":""},{"$f":"Lists!AF83","v":""},{"$f":"IF(C105=\"\",\"\",SUMIFS(CMS_Deviation!$G$24:$G$1023,CMS_Deviation!$C$24:$C$1023,$C105))","v":""},"",{"$f":"IF(C105=\"\",\"\",SUMIFS(CMS_Downtime!$G$24:$G$1023,CMS_Downtime!$C$24:$C$1023,$C105))","v":""},""]
[null,{"$f":"Lists!AD84","v":""},{"$f":"Lists!AE84","v":""},{"$f":"Lists!AF84","v":""},{"$f":"IF(C106=\"\",\"\",SUMIFS(CMS_Deviation!$G$24:$G$1023,CMS_Deviation!$C$24:$C$1023,$C106))","v":""},"",{"$f":"IF(C106=\"\",\"\",SUMIFS(CMS_Downtime!$G$24:$G$1023,CMS_Downtime!$C$24:$C$1023,$C106))","v":""},""]
[null,{"$f":"Lists!AD85","v":""},{"$f":"Lists!AE85","v":""},{"$f":"Lists!AF85","v":""},{"$f":"IF(C107=\"\",\"\",SUMIFS(CMS_Deviation!$G$24:$G$1023,CMS_Deviation!$C$24:$C$1023,$C107))","v":""},"",{"$f":"IF(C107=\"\",\"\",SUMIFS(CMS_Downtime!$G$24:$G$1023,CMS_Downtime!$C$24:$C$1023,$C107))","v":""},""]
[null,{"$f":"Lists!AD86","v":""},{"$f":"Lists!AE86","v":""},{"$f":"Lists!AF86","v":""},{"$f":"IF(C108=\"\",\"\",SUMIFS(CMS_Deviation!$G$24:$G$1023,CMS_Deviation!$C$24:$C$1023,$C108))","v":""},"",{"$f":"IF(C108=\"\",\"\",SUMIFS(CMS_Downtime!$G$24:$G$1023,CMS_Downtime!$C$24:$C$1023,$C108))","v":""},""]
[null,{"$f":"Lists!AD87","v":""},{"$f":"Lists!AE87","v":""},{"$f":"Lists!AF87","v":""},{"$f":"IF(C109=\"\",\"\",SUMIFS(CMS_Deviation!$G$24:$G$1023,CMS_Deviation!$C$24:$C$1023,$C109))","v":""},"",{"$f":"IF(C109=\"\",\"\",SUMIFS(CMS_Downtime!$G$24:$G$1023,CMS_Downtime!$C$24:$C$1023,$C109))","v":""},""]
[null,{"$f":"Lists!AD88","v":""},{"$f":"Lists!AE88","v":""},{"$f":"Lists!AF88","v":""},{"$f":"IF(C110=\"\",\"\",SUMIFS(CMS_Deviation!$G$24:$G$1023,CMS_Deviation!$C$24:$C$1023,$C110))","v":""},"",{"$f":"IF(C110=\"\",\"\",SUMIFS(CMS_Downtime!$G$24:$G$1023,CMS_Downtime!$C$24:$C$1023,$C110))","v":""},""]
[null,{"$f":"Lists!AD89","v":""},{"$f":"Lists!AE89","v":""},{"$f":"Lists!AF89","v":""},{"$f":"IF(C111=\"\",\"\",SUMIFS(CMS_Deviation!$G$24:$G$1023,CMS_Deviation!$C$24:$C$1023,$C111))","v":""},"",{"$f":"IF(C111=\"\",\"\",SUMIFS(CMS_Downtime!$G$24:$G$1023,CMS_Downtime!$C$24:$C$1023,$C111))","v":""},""]
[null,{"$f":"Lists!AD90","v":""},{"$f":"Lists!AE90","v":""},{"$f":"Lists!AF90","v":""},{"$f":"IF(C112=\"\",\"\",SUMIFS(CMS_Deviation!$G$24:$G$1023,CMS_Deviation!$C$24:$C$1023,$C112))","v":""},"",{"$f":"IF(C112=\"\",\"\",SUMIFS(CMS_Downtime!$G$24:$G$1023,CMS_Downtime!$C$24:$C$1023,$C112))","v":""},""]
[null,{"$f":"Lists!AD91","v":""},{"$f":"Lists!AE91","v":""},{"$f":"Lists!AF91","v":""},{"$f":"IF(C113=\"\",\"\",SUMIFS(CMS_Deviation!$G$24:$G$1023,CMS_Deviation!$C$24:$C$1023,$C113))","v":""},"",{"$f":"IF(C113=\"\",\"\",SUMIFS(CMS_Downtime!$G$24:$G$1023,CMS_Downtime!$C$24:$C$1023,$C113))","v":""},""]
[null,{"$f":"Lists!AD92","v":""},{"$f":"Lists!AE92","v":""},{"$f":"Lists!AF92","v":""},{"$f":"IF(C114=\"\",\"\",SUMIFS(CMS_Deviation!$G$24:$G$1023,CMS_Deviation!$C$24:$C$1023,$C114))","v":""},"",{"$f":"IF(C114=\"\",\"\",SUMIFS(CMS_Downtime!$G$24:$G$1023,CMS_Downtime!$C$24:$C$1023,$C114))","v":""},""]
[null,{"$f":"Lists!AD93","v":""},{"$f":"Lists!AE93","v":""},{"$f":"Lists!AF93","v":""},{"$f":"IF(C115=\"\",\"\",SUMIFS(CMS_Deviation!$G$24:$G$1023,CMS_Deviation!$C$24:$C$1023,$C115))","v":""},"",{"$f":"IF(C115=\"\",\"\",SUMIFS(CMS_Downtime!$G$24:$G$1023,CMS_Downtime!$C$24:$C$1023,$C115))","v":""},""]
[null,{"$f":"Lists!AD94","v":""},{"$f":"Lists!AE94","v":""},{"$f":"Lists!AF94","v":""},{"$f":"IF(C116=\"\",\"\",SUMIFS(CMS_Deviation!$G$24:$G$1023,CMS_Deviation!$C$24:$C$1023,$C116))","v":""},"",{"$f":"IF(C116=\"\",\"\",SUMIFS(CMS_Downtime!$G$24:$G$1023,CMS_Downtime!$C$24:$C$1023,$C116))","v":""},""]
[null,{"$f":"Lists!AD95","v":""},{"$f":"Lists!AE95","v":""},{"$f":"Lists!AF95","v":""},{"$f":"IF(C117=\"\",\"\",SUMIFS(CMS_Deviation!$G$24:$G$1023,CMS_Deviation!$C$24:$C$1023,$C117))","v":""},"",{"$f":"IF(C117=\"\",\"\",SUMIFS(CMS_Downtime!$G$24:$G$1023,CMS_Downtime!$C$24:$C$1023,$C117))","v":""},""]
[null,{"$f":"Lists!AD96","v":""},{"$f":"Lists!AE96","v":""},{"$f":"Lists!AF96","v":""},{"$f":"IF(C118=\"\",\"\",SUMIFS(CMS_Deviation!$G$24:$G$1023,CMS_Deviation!$C$24:$C$1023,$C118))","v":""},"",{"$f":"IF(C118=\"\",\"\",SUMIFS(CMS_Downtime!$G$24:$G$1023,CMS_Downtime!$C$24:$C$1023,$C118))","v":""},""]
[null,{"$f":"Lists!AD97","v":""},{"$f":"Lists!AE97","v":""},{"$f":"Lists!AF97","v":""},{"$f":"IF(C119=\"\",\"\",SUMIFS(CMS_Deviation!$G$24:$G$1023,CMS_Deviation!$C$24:$C$1023,$C119))","v":""},"",{"$f":"IF(C119=\"\",\"\",SUMIFS(CMS_Downtime!$G$24:$G$1023,CMS_Downtime!$C$24:$C$1023,$C119))","v":""},""]
[null,{"$f":"Lists!AD98","v":""},{"$f":"Lists!AE98","v":""},{"$f":"Lists!AF98","v":""},{"$f":"IF(C120=\"\",\"\",SUMIFS(CMS_Deviation!$G$24:$G$1023,CMS_Deviation!$C$24:$C$1023,$C120))","v":""},"",{"$f":"IF(C120=\"\",\"\",SUMIFS(CMS_Downtime!$G$24:$G$1023,CMS_Downtime!$C$24:$C$1023,$C120))","v":""},""]
[null,{"$f":"Lists!AD99","v":""},{"$f":"Lists!AE99","v":""},{"$f":"Lists!AF99","v":""},{"$f":"IF(C121=\"\",\"\",SUMIFS(CMS_Deviation!$G$24:$G$1023,CMS_Deviation!$C$24:$C$1023,$C121))","v":""},"",{"$f":"IF(C121=\"\",\"\",SUMIFS(CMS_Downtime!$G$24:$G$1023,CMS_Downtime!$C$24:$C$1023,$C121))","v":""},""]
[null,{"$f":"Lists!AD100","v":""},{"$f":"Lists!AE100","v":""},{"$f":"Lists!AF100","v":""},{"$f":"IF(C122=\"\",\"\",SUMIFS(CMS_Deviation!$G$24:$G$1023,CMS_Deviation!$C$24:$C$1023,$C122))","v":""},"",{"$f":"IF(C122=\"\",\"\",SUMIFS(CMS_Downtime!$G$24:$G$1023,CMS_Downtime!$C$24:$C$1023,$C122))","v":""},""]
[null,{"$f":"Lists!AD101","v":""},{"$f":"Lists!AE101","v":""},{"$f":"Lists!AF101","v":""},{"$f":"IF(C123=\"\",\"\",SUMIFS(CMS_Deviation!$G$24:$G$1023,CMS_Deviation!$C$24:$C$1023,$C123))","v":""},"",{"$f":"IF(C123=\"\",\"\",SUMIFS(CMS_Downtime!$G$24:$G$1023,CMS_Downtime!$C$24:$C$1023,$C123))","v":""},""]
[null,{"$f":"Lists!AD102","v":""},{"$f":"Lists!AE102","v":""},{"$f":"Lists!AF102","v":""},{"$f":"IF(C124=\"\",\"\",SUMIFS(CMS_Deviation!$G$24:$G$1023,CMS_Deviation!$C$24:$C$1023,$C124))","v":""},"",{"$f":"IF(C124=\"\",\"\",SUMIFS(CMS_Downtime!$G$24:$G$1023,CMS_Downtime!$C$24:$C$1023,$C124))","v":""},""]
[null,{"$f":"Lists!AD103","v":""},{"$f":"Lists!AE103","v":""},{"$f":"Lists!AF103","v":""},{"$f":"IF(C125=\"\",\"\",SUMIFS(CMS_Deviation!$G$24:$G$1023,CMS_Deviation!$C$24:$C$1023,$C125))","v":""},"",{"$f":"IF(C125=\"\",\"\",SUMIFS(CMS_Downtime!$G$24:$G$1023,CMS_Downtime!$C$24:$C$1023,$C125))","v":""},""]
[null,{"$f":"Lists!AD104","v":""},{"$f":"Lists!AE104","v":""},{"$f":"Lists!AF104","v":""},{"$f":"IF(C126=\"\",\"\",SUMIFS(CMS_Deviation!$G$24:$G$1023,CMS_Deviation!$C$24:$C$1023,$C126))","v":""},"",{"$f":"IF(C126=\"\",\"\",SUMIFS(CMS_Downtime!$G$24:$G$1023,CMS_Downtime!$C$24:$C$1023,$C126))","v":""},""]
[null,{"$f":"Lists!AD105","v":""},{"$f":"Lists!AE105","v":""},{"$f":"Lists!AF105","v":""},{"$f":"IF(C127=\"\",\"\",SUMIFS(CMS_Deviation!$G$24:$G$1023,CMS_Deviation!$C$24:$C$1023,$C127))","v":""},"",{"$f":"IF(C127=\"\",\"\",SUMIFS(CMS_Downtime!$G$24:$G$1023,CMS_Downtime!$C$24:$C$1023,$C127))","v":""},""]
[null,{"$f":"Lists!AD106","v":""},{"$f":"Lists!AE106","v":""},{"$f":"Lists!AF106","v":""},{"$f":"IF(C128=\"\",\"\",SUMIFS(CMS_Deviation!$G$24:$G$1023,CMS_Deviation!$C$24:$C$1023,$C128))","v":""},"",{"$f":"IF(C128=\"\",\"\",SUMIFS(CMS_Downtime!$G$24:$G$1023,CMS_Downtime!$C$24:$C$1023,$C128))","v":""},""]
[null,{"$f":"Lists!AD107","v":""},{"$f":"Lists!AE107","v":""},{"$f":"Lists!AF107","v":""},{"$f":"IF(C129=\"\",\"\",SUMIFS(CMS_Deviation!$G$24:$G$1023,CMS_Deviation!$C$24:$C$1023,$C129))","v":""},"",{"$f":"IF(C129=\"\",\"\",SUMIFS(CMS_Downtime!$G$24:$G$1023,CMS_Downtime!$C$24:$C$1023,$C129))","v":""},""]
[null,{"$f":"Lists!AD108","v":""},{"$f":"Lists!AE108","v":""},{"$f":"Lists!AF108","v":""},{"$f":"IF(C130=\"\",\"\",SUMIFS(CMS_Deviation!$G$24:$G$1023,CMS_Deviation!$C$24:$C$1023,$C130))","v":""},"",{"$f":"IF(C130=\"\",\"\",SUMIFS(CMS_Downtime!$G$24:$G$1023,CMS_Downtime!$C$24:$C$1023,$C130))","v":""},""]
[null,{"$f":"Lists!AD109","v":""},{"$f":"Lists!AE109","v":""},{"$f":"Lists!AF109","v":""},{"$f":"IF(C131=\"\",\"\",SUMIFS(CMS_Deviation!$G$24:$G$1023,CMS_Deviation!$C$24:$C$1023,$C131))","v":""},"",{"$f":"IF(C131=\"\",\"\",SUMIFS(CMS_Downtime!$G$24:$G$1023,CMS_Downtime!$C$24:$C$1023,$C131))","v":""},""]
[null,{"$f":"Lists!AD110","v":""},{"$f":"Lists!AE110","v":""},{"$f":"Lists!AF110","v":""},{"$f":"IF(C132=\"\",\"\",SUMIFS(CMS_Deviation!$G$24:$G$1023,CMS_Deviation!$C$24:$C$1023,$C132))","v":""},"",{"$f":"IF(C132=\"\",\"\",SUMIFS(CMS_Downtime!$G$24:$G$1023,CMS_Downtime!$C$24:$C$1023,$C132))","v":""},""]
[null,{"$f":"Lists!AD111","v":""},{"$f":"Lists!AE111","v":""},{"$f":"Lists!AF111","v":""},{"$f":"IF(C133=\"\",\"\",SUMIFS(CMS_Deviation!$G$24:$G$1023,CMS_Deviation!$C$24:$C$1023,$C133))","v":""},"",{"$f":"IF(C133=\"\",\"\",SUMIFS(CMS_Downtime!$G$24:$G$1023,CMS_Downtime!$C$24:$C$1023,$C133))","v":""},""]
[null,{"$f":"Lists!AD112","v":""},{"$f":"Lists!AE112","v":""},{"$f":"Lists!AF112","v":""},{"$f":"IF(C134=\"\",\"\",SUMIFS(CMS_Deviation!$G$24:$G$1023,CMS_Deviation!$C$24:$C$1023,$C134))","v":""},"",{"$f":"IF(C134=\"\",\"\",SUMIFS(CMS_Downtime!$G$24:$G$1023,CMS_Downtime!$C$24:$C$1023,$C134))","v":""},""]
[null,{"$f":"Lists!AD113","v":""},{"$f":"Lists!AE113","v":""},{"$f":"Lists!AF113","v":""},{"$f":"IF(C135=\"\",\"\",SUMIFS(CMS_Deviation!$G$24:$G$1023,CMS_Deviation!$C$24:$C$1023,$C135))","v":""},"",{"$f":"IF(C135=\"\",\"\",SUMIFS(CMS_Downtime!$G$24:$G$1023,CMS_Downtime!$C$24:$C$1023,$C135))","v":""},""]
[null,{"$f":"Lists!AD114","v":""},{"$f":"Lists!AE114","v":""},{"$f":"Lists!AF114","v":""},{"$f":"IF(C136=\"\",\"\",SUMIFS(CMS_Deviation!$G$24:$G$1023,CMS_Deviation!$C$24:$C$1023,$C136))","v":""},"",{"$f":"IF(C136=\"\",\"\",SUMIFS(CMS_Downtime!$G$24:$G$1023,CMS_Downtime!$C$24:$C$1023,$C136))","v":""},""]
[null,{"$f":"Lists!AD115","v":""},{"$f":"Lists!AE115","v":""},{"$f":"Lists!AF115","v":""},{"$f":"IF(C137=\"\",\"\",SUMIFS(CMS_Deviation!$G$24:$G$1023,CMS_Deviation!$C$24:$C$1023,$C137))","v":""},"",{"$f":"IF(C137=\"\",\"\",SUMIFS(CMS_Downtime!$G$24:$G$1023,CMS_Downtime!$C$24:$C$1023,$C137))","v":""},""]
[null,{"$f":"Lists!AD116","v":""},{"$f":"Lists!AE116","v":""},{"$f":"Lists!AF116","v":""},{"$f":"IF(C138=\"\",\"\",SUMIFS(CMS_Deviation!$G$24:$G$1023,CMS_Deviation!$C$24:$C$1023,$C138))","v":""},"",{"$f":"IF(C138=\"\",\"\",SUMIFS(CMS_Downtime!$G$24:$G$1023,CMS_Downtime!$C$24:$C$1023,$C138))","v":""},""]
[null,{"$f":"Lists!AD117","v":""},{"$f":"Lists!AE117","v":""},{"$f":"Lists!AF117","v":""},{"$f":"IF(C139=\"\",\"\",SUMIFS(CMS_Deviation!$G$24:$G$1023,CMS_Deviation!$C$24:$C$1023,$C139))","v":""},"",{"$f":"IF(C139=\"\",\"\",SUMIFS(CMS_Downtime!$G$24:$G$1023,CMS_Downtime!$C$24:$C$1023,$C139))","v":""},""]
[null,{"$f":"Lists!AD118","v":""},{"$f":"Lists!AE118","v":""},{"$f":"Lists!AF118","v":""},{"$f":"IF(C140=\"\",\"\",SUMIFS(CMS_Deviation!$G$24:$G$1023,CMS_Deviation!$C$24:$C$1023,$C140))","v":""},"",{"$f":"IF(C140=\"\",\"\",SUMIFS(CMS_Downtime!$G$24:$G$1023,CMS_Downtime!$C$24:$C$1023,$C140))","v":""},""]
[null,{"$f":"Lists!AD119","v":""},{"$f":"Lists!AE119","v":""},{"$f":"Lists!AF119","v":""},{"$f":"IF(C141=\"\",\"\",SUMIFS(CMS_Deviation!$G$24:$G$1023,CMS_Deviation!$C$24:$C$1023,$C141))","v":""},{"$f":"IF(C141=\"\",\"\",E141/D141)","v":""},{"$f":"IF(C141=\"\",\"\",SUMIFS(CMS_Downtime!$G$24:$G$1023,CMS_Downtime!$C$24:$C$1023,$C141))","v":""},{"$f":"IF(C141=\"\",\"\",G141/D141)","v":""}]
[null,{"$f":"Lists!AD120","v":""},{"$f":"Lists!AE120","v":""},{"$f":"Lists!AF120","v":""},{"$f":"IF(C142=\"\",\"\",SUMIFS(CMS_Deviation!$G$24:$G$1023,CMS_Deviation!$C$24:$C$1023,$C142))","v":""},"",{"$f":"IF(C142=\"\",\"\",SUMIFS(CMS_Downtime!$G$24:$G$1023,CMS_Downtime!$C$24:$C$1023,$C142))","v":""},""]
[null,{"$f":"Lists!AD121","v":""},{"$f":"Lists!AE121","v":""},{"$f":"Lists!AF121","v":""},{"$f":"IF(C143=\"\",\"\",SUMIFS(CMS_Deviation!$G$24:$G$1023,CMS_Deviation!$C$24:$C$1023,$C143))","v":""},"",{"$f":"IF(C143=\"\",\"\",SUMIFS(CMS_Downtime!$G$24:$G$1023,CMS_Downtime!$C$24:$C$1023,$C143))","v":""},""]
[null,{"$f":"Lists!AD122","v":""},{"$f":"Lists!AE122","v":""},{"$f":"Lists!AF122","v":""},{"$f":"IF(C144=\"\",\"\",SUMIFS(CMS_Deviation!$G$24:$G$1023,CMS_Deviation!$C$24:$C$1023,$C144))","v":""},"",{"$f":"IF(C144=\"\",\"\",SUMIFS(CMS_Downtime!$G$24:$G$1023,CMS_Downtime!$C$24:$C$1023,$C144))","v":""},""]
[null,{"$f":"Lists!AD123","v":""},{"$f":"Lists!AE123","v":""},{"$f":"Lists!AF123","v":""},{"$f":"IF(C145=\"\",\"\",SUMIFS(CMS_Deviation!$G$24:$G$1023,CMS_Deviation!$C$24:$C$1023,$C145))","v":""},"",{"$f":"IF(C145=\"\",\"\",SUMIFS(CMS_Downtime!$G$24:$G$1023,CMS_Downtime!$C$24:$C$1023,$C145))","v":""},""]
[null,{"$f":"Lists!AD124","v":""},{"$f":"Lists!AE124","v":""},{"$f":"Lists!AF124","v":""},{"$f":"IF(C146=\"\",\"\",SUMIFS(CMS_Deviation!$G$24:$G$1023,CMS_Deviation!$C$24:$C$1023,$C146))","v":""},"",{"$f":"IF(C146=\"\",\"\",SUMIFS(CMS_Downtime!$G$24:$G$1023,CMS_Downtime!$C$24:$C$1023,$C146))","v":""},""]
[null,{"$f":"Lists!AD125","v":""},{"$f":"Lists!AE125","v":""},{"$f":"Lists!AF125","v":""},{"$f":"IF(C147=\"\",\"\",SUMIFS(CMS_Deviation!$G$24:$G$1023,CMS_Deviation!$C$24:$C$1023,$C147))","v":""},"",{"$f":"IF(C147=\"\",\"\",SUMIFS(CMS_Downtime!$G$24:$G$1023,CMS_Downtime!$C$24:$C$1023,$C147))","v":""},""]
[null,{"$f":"Lists!AD126","v":""},{"$f":"Lists!AE126","v":""},{"$f":"Lists!AF126","v":""},{"$f":"IF(C148=\"\",\"\",SUMIFS(CMS_Deviation!$G$24:$G$1023,CMS_Deviation!$C$24:$C$1023,$C148))","v":""},"",{"$f":"IF(C148=\"\",\"\",SUMIFS(CMS_Downtime!$G$24:$G$1023,CMS_Downtime!$C$24:$C$1023,$C148))","v":""},""]
[null,{"$f":"Lists!AD127","v":""},{"$f":"Lists!AE127","v":""},{"$f":"Lists!AF127","v":""},{"$f":"IF(C149=\"\",\"\",SUMIFS(CMS_Deviation!$G$24:$G$1023,CMS_Deviation!$C$24:$C$1023,$C149))","v":""},"",{"$f":"IF(C149=\"\",\"\",SUMIFS(CMS_Downtime!$G$24:$G$1023,CMS_Downtime!$C$24:$C$1023,$C149))","v":""},""]
[null,{"$f":"Lists!AD128","v":""},{"$f":"Lists!AE128","v":""},{"$f":"Lists!AF128","v":""},{"$f":"IF(C150=\"\",\"\",SUMIFS(CMS_Deviation!$G$24:$G$1023,CMS_Deviation!$C$24:$C$1023,$C150))","v":""},"",{"$f":"IF(C150=\"\",\"\",SUMIFS(CMS_Downtime!$G$24:$G$1023,CMS_Downtime!$C$24:$C$1023,$C150))","v":""},""]
[null,{"$f":"Lists!AD129","v":""},{"$f":"Lists!AE129","v":""},{"$f":"Lists!AF129","v":""},{"$f":"IF(C151=\"\",\"\",SUMIFS(CMS_Deviation!$G$24:$G$1023,CMS_Deviation!$C$24:$C$1023,$C151))","v":""},"",{"$f":"IF(C151=\"\",\"\",SUMIFS(CMS_Downtime!$G$24:$G$1023,CMS_Downtime!$C$24:$C$1023,$C151))","v":""},""]
[null,{"$f":"Lists!AD130","v":""},{"$f":"Lists!AE130","v":""},{"$f":"Lists!AF130","v":""},{"$f":"IF(C152=\"\",\"\",SUMIFS(CMS_Deviation!$G$24:$G$1023,CMS_Deviation!$C$24:$C$1023,$C152))","v":""},"",{"$f":"IF(C152=\"\",\"\",SUMIFS(CMS_Downtime!$G$24:$G$1023,CMS_Downtime!$C$24:$C$1023,$C152))","v":""},""]
[null,{"$f":"Lists!AD131","v":""},{"$f":"Lists!AE131","v":""},{"$f":"Lists!AF131","v":""},{"$f":"IF(C153=\"\",\"\",SUMIFS(CMS_Deviation!$G$24:$G$1023,CMS_Deviation!$C$24:$C$1023,$C153))","v":""},"",{"$f":"IF(C153=\"\",\"\",SUMIFS(CMS_Downtime!$G$24:$G$1023,CMS_Downtime!$C$24:$C$1023,$C153))","v":""},""]
[null,{"$f":"Lists!AD132","v":""},{"$f":"Lists!AE132","v":""},{"$f":"Lists!AF132","v":""},{"$f":"IF(C154=\"\",\"\",SUMIFS(CMS_Deviation!$G$24:$G$1023,CMS_Deviation!$C$24:$C$1023,$C154))","v":""},"",{"$f":"IF(C154=\"\",\"\",SUMIFS(CMS_Downtime!$G$24:$G$1023,CMS_Downtime!$C$24:$C$1023,$C154))","v":""},""]
[null,{"$f":"Lists!AD133","v":""},{"$f":"Lists!AE133","v":""},{"$f":"Lists!AF133","v":""},{"$f":"IF(C155=\"\",\"\",SUMIFS(CMS_Deviation!$G$24:$G$1023,CMS_Deviation!$C$24:$C$1023,$C155))","v":""},"",{"$f":"IF(C155=\"\",\"\",SUMIFS(CMS_Downtime!$G$24:$G$1023,CMS_Downtime!$C$24:$C$1023,$C155))","v":""},""]
[null,{"$f":"Lists!AD134","v":""},{"$f":"Lists!AE134","v":""},{"$f":"Lists!AF134","v":""},{"$f":"IF(C156=\"\",\"\",SUMIFS(CMS_Deviation!$G$24:$G$1023,CMS_Deviation!$C$24:$C$1023,$C156))","v":""},"",{"$f":"IF(C156=\"\",\"\",SUMIFS(CMS_Downtime!$G$24:$G$1023,CMS_Downtime!$C$24:$C$1023,$C156))","v":""},""]
[null,{"$f":"Lists!AD135","v":""},{"$f":"Lists!AE135","v":""},{"$f":"Lists!AF135","v":""},{"$f":"IF(C157=\"\",\"\",SUMIFS(CMS_Deviation!$G$24:$G$1023,CMS_Deviation!$C$24:$C$1023,$C157))","v":""},"",{"$f":"IF(C157=\"\",\"\",SUMIFS(CMS_Downtime!$G$24:$G$1023,CMS_Downtime!$C$24:$C$1023,$C157))","v":""},""]
[null,{"$f":"Lists!AD136","v":""},{"$f":"Lists!AE136","v":""},{"$f":"Lists!AF136","v":""},{"$f":"IF(C158=\"\",\"\",SUMIFS(CMS_Deviation!$G$24:$G$1023,CMS_Deviation!$C$24:$C$1023,$C158))","v":""},"",{"$f":"IF(C158=\"\",\"\",SUMIFS(CMS_Downtime!$G$24:$G$1023,CMS_Downtime!$C$24:$C$1023,$C158))","v":""},""]
[null,{"$f":"Lists!AD137","v":""},{"$f":"Lists!AE137","v":""},{"$f":"Lists!AF137","v":""},{"$f":"IF(C159=\"\",\"\",SUMIFS(CMS_Deviation!$G$24:$G$1023,CMS_Deviation!$C$24:$C$1023,$C159))","v":""},"",{"$f":"IF(C159=\"\",\"\",SUMIFS(CMS_Downtime!$G$24:$G$1023,CMS_Downtime!$C$24:$C$1023,$C159))","v":""},""]
[null,{"$f":"Lists!AD138","v":""},{"$f":"Lists!AE138","v":""},{"$f":"Lists!AF138","v":""},{"$f":"IF(C160=\"\",\"\",SUMIFS(CMS_Deviation!$G$24:$G$1023,CMS_Deviation!$C$24:$C$1023,$C160))","v":""},"",{"$f":"IF(C160=\"\",\"\",SUMIFS(CMS_Downtime!$G$24:$G$1023,CMS_Downtime!$C$24:$C$1023,$C160))","v":""},""]
[null,{"$f":"Lists!AD139","v":""},{"$f":"Lists!AE139","v":""},{"$f":"Lists!AF139","v":""},{"$f":"IF(C161=\"\",\"\",SUMIFS(CMS_Deviation!$G$24:$G$1023,CMS_Deviation!$C$24:$C$1023,$C161))","v":""},"",{"$f":"IF(C161=\"\",\"\",SUMIFS(CMS_Downtime!$G$24:$G$1023,CMS_Downtime!$C$24:$C$1023,$C161))","v":""},""]
[null,{"$f":"Lists!AD140","v":""},{"$f":"Lists!AE140","v":""},{"$f":"Lists!AF140","v":""},{"$f":"IF(C162=\"\",\"\",SUMIFS(CMS_Deviation!$G$24:$G$1023,CMS_Deviation!$C$24:$C$1023,$C162))","v":""},"",{"$f":"IF(C162=\"\",\"\",SUMIFS(CMS_Downtime!$G$24:$G$1023,CMS_Downtime!$C$24:$C$1023,$C162))","v":""},""]
[null,{"$f":"Lists!AD141","v":""},{"$f":"Lists!AE141","v":""},{"$f":"Lists!AF141","v":""},{"$f":"IF(C163=\"\",\"\",SUMIFS(CMS_Deviation!$G$24:$G$1023,CMS_Deviation!$C$24:$C$1023,$C163))","v":""},"",{"$f":"IF(C163=\"\",\"\",SUMIFS(CMS_Downtime!$G$24:$G$1023,CMS_Downtime!$C$24:$C$1023,$C163))","v":""},""]
[null,{"$f":"Lists!AD142","v":""},{"$f":"Lists!AE142","v":""},{"$f":"Lists!AF142","v":""},{"$f":"IF(C164=\"\",\"\",SUMIFS(CMS_Deviation!$G$24:$G$1023,CMS_Deviation!$C$24:$C$1023,$C164))","v":""},"",{"$f":"IF(C164=\"\",\"\",SUMIFS(CMS_Downtime!$G$24:$G$1023,CMS_Downtime!$C$24:$C$1023,$C164))","v":""},""]
[null,{"$f":"Lists!AD143","v":""},{"$f":"Lists!AE143","v":""},{"$f":"Lists!AF143","v":""},{"$f":"IF(C165=\"\",\"\",SUMIFS(CMS_Deviation!$G$24:$G$1023,CMS_Deviation!$C$24:$C$1023,$C165))","v":""},"",{"$f":"IF(C165=\"\",\"\",SUMIFS(CMS_Downtime!$G$24:$G$1023,CMS_Downtime!$C$24:$C$1023,$C165))","v":""},""]
[null,{"$f":"Lists!AD144","v":""},{"$f":"Lists!AE144","v":""},{"$f":"Lists!AF144","v":""},{"$f":"IF(C166=\"\",\"\",SUMIFS(CMS_Deviation!$G$24:$G$1023,CMS_Deviation!$C$24:$C$1023,$C166))","v":""},"",{"$f":"IF(C166=\"\",\"\",SUMIFS(CMS_Downtime!$G$24:$G$1023,CMS_Downtime!$C$24:$C$1023,$C166))","v":""},""]
[null,{"$f":"Lists!AD145","v":""},{"$f":"Lists!AE145","v":""},{"$f":"Lists!AF145","v":""},{"$f":"IF(C167=\"\",\"\",SUMIFS(CMS_Deviation!$G$24:$G$1023,CMS_Deviation!$C$24:$C$1023,$C167))","v":""},"",{"$f":"IF(C167=\"\",\"\",SUMIFS(CMS_Downtime!$G$24:$G$1023,CMS_Downtime!$C$24:$C$1023,$C167))","v":""},""]
[null,{"$f":"Lists!AD146","v":""},{"$f":"Lists!AE146","v":""},{"$f":"Lists!AF146","v":""},{"$f":"IF(C168=\"\",\"\",SUMIFS(CMS_Deviation!$G$24:$G$1023,CMS_Deviation!$C$24:$C$1023,$C168))","v":""},"",{"$f":"IF(C168=\"\",\"\",SUMIFS(CMS_Downtime!$G$24:$G$1023,CMS_Downtime!$C$24:$C$1023,$C168))","v":""},""]
[null,{"$f":"Lists!AD147","v":""},{"$f":"Lists!AE147","v":""},{"$f":"Lists!AF147","v":""},{"$f":"IF(C169=\"\",\"\",SUMIFS(CMS_Deviation!$G$24:$G$1023,CMS_Deviation!$C$24:$C$1023,$C169))","v":""},"",{"$f":"IF(C169=\"\",\"\",SUMIFS(CMS_Downtime!$G$24:$G$1023,CMS_Downtime!$C$24:$C$1023,$C169))","v":""},""]
[null,{"$f":"Lists!AD148","v":""},{"$f":"Lists!AE148","v":""},{"$f":"Lists!AF148","v":""},{"$f":"IF(C170=\"\",\"\",SUMIFS(CMS_Deviation!$G$24:$G$1023,CMS_Deviation!$C$24:$C$1023,$C170))","v":""},"",{"$f":"IF(C170=\"\",\"\",SUMIFS(CMS_Downtime!$G$24:$G$1023,CMS_Downtime!$C$24:$C$1023,$C170))","v":""},""]
[null,{"$f":"Lists!AD149","v":""},{"$f":"Lists!AE149","v":""},{"$f":"Lists!AF149","v":""},{"$f":"IF(C171=\"\",\"\",SUMIFS(CMS_Deviation!$G$24:$G$1023,CMS_Deviation!$C$24:$C$1023,$C171))","v":""},"",{"$f":"IF(C171=\"\",\"\",SUMIFS(CMS_Downtime!$G$24:$G$1023,CMS_Downtime!$C$24:$C$1023,$C171))","v":""},""]
[null,{"$f":"Lists!AD150","v":""},{"$f":"Lists!AE150","v":""},{"$f":"Lists!AF150","v":""},{"$f":"IF(C172=\"\",\"\",SUMIFS(CMS_Deviation!$G$24:$G$1023,CMS_Deviation!$C$24:$C$1023,$C172))","v":""},"",{"$f":"IF(C172=\"\",\"\",SUMIFS(CMS_Downtime!$G$24:$G$1023,CMS_Downtime!$C$24:$C$1023,$C172))","v":""},""]
[null,{"$f":"Lists!AD151","v":""},{"$f":"Lists!AE151","v":""},{"$f":"Lists!AF151","v":""},{"$f":"IF(C173=\"\",\"\",SUMIFS(CMS_Deviation!$G$24:$G$1023,CMS_Deviation!$C$24:$C$1023,$C173))","v":""},"",{"$f":"IF(C173=\"\",\"\",SUMIFS(CMS_Downtime!$G$24:$G$1023,CMS_Downtime!$C$24:$C$1023,$C173))","v":""},""]
[null,{"$f":"Lists!AD152","v":""},{"$f":"Lists!AE152","v":""},{"$f":"Lists!AF152","v":""},{"$f":"IF(C174=\"\",\"\",SUMIFS(CMS_Deviation!$G$24:$G$1023,CMS_Deviation!$C$24:$C$1023,$C174))","v":""},"",{"$f":"IF(C174=\"\",\"\",SUMIFS(CMS_Downtime!$G$24:$G$1023,CMS_Downtime!$C$24:$C$1023,$C174))","v":""},""]
[null,{"$f":"Lists!AD153","v":""},{"$f":"Lists!AE153","v":""},{"$f":"Lists!AF153","v":""},{"$f":"IF(C175=\"\",\"\",SUMIFS(CMS_Deviation!$G$24:$G$1023,CMS_Deviation!$C$24:$C$1023,$C175))","v":""},"",{"$f":"IF(C175=\"\",\"\",SUMIFS(CMS_Downtime!$G$24:$G$1023,CMS_Downtime!$C$24:$C$1023,$C175))","v":""},""]
[null,{"$f":"Lists!AD154","v":""},{"$f":"Lists!AE154","v":""},{"$f":"Lists!AF154","v":""},{"$f":"IF(C176=\"\",\"\",SUMIFS(CMS_Deviation!$G$24:$G$1023,CMS_Deviation!$C$24:$C$1023,$C176))","v":""},"",{"$f":"IF(C176=\"\",\"\",SUMIFS(CMS_Downtime!$G$24:$G$1023,CMS_Downtime!$C$24:$C$1023,$C176))","v":""},""]
[null,{"$f":"Lists!AD155","v":""},{"$f":"Lists!AE155","v":""},{"$f":"Lists!AF155","v":""},{"$f":"IF(C177=\"\",\"\",SUMIFS(CMS_Deviation!$G$24:$G$1023,CMS_Deviation!$C$24:$C$1023,$C177))","v":""},"",{"$f":"IF(C177=\"\",\"\",SUMIFS(CMS_Downtime!$G$24:$G$1023,CMS_Downtime!$C$24:$C$1023,$C177))","v":""},""]
[null,{"$f":"Lists!AD156","v":""},{"$f":"Lists!AE156","v":""},{"$f":"Lists!AF156","v":""},{"$f":"IF(C178=\"\",\"\",SUMIFS(CMS_Deviation!$G$24:$G$1023,CMS_Deviation!$C$24:$C$1023,$C178))","v":""},"",{"$f":"IF(C178=\"\",\"\",SUMIFS(CMS_Downtime!$G$24:$G$1023,CMS_Downtime!$C$24:$C$1023,$C178))","v":""},""]
[null,{"$f":"Lists!AD157","v":""},{"$f":"Lists!AE157","v":""},{"$f":"Lists!AF157","v":""},{"$f":"IF(C179=\"\",\"\",SUMIFS(CMS_Deviation!$G$24:$G$1023,CMS_Deviation!$C$24:$C$1023,$C179))","v":""},"",{"$f":"IF(C179=\"\",\"\",SUMIFS(CMS_Downtime!$G$24:$G$1023,CMS_Downtime!$C$24:$C$1023,$C179))","v":""},""]
[null,{"$f":"Lists!AD158","v":""},{"$f":"Lists!AE158","v":""},{"$f":"Lists!AF158","v":""},{"$f":"IF(C180=\"\",\"\",SUMIFS(CMS_Deviation!$G$24:$G$1023,CMS_Deviation!$C$24:$C$1023,$C180))","v":""},"",{"$f":"IF(C180=\"\",\"\",SUMIFS(CMS_Downtime!$G$24:$G$1023,CMS_Downtime!$C$24:$C$1023,$C180))","v":""},""]
[null,{"$f":"Lists!AD159","v":""},{"$f":"Lists!AE159","v":""},{"$f":"Lists!AF159","v":""},{"$f":"IF(C181=\"\",\"\",SUMIFS(CMS_Deviation!$G$24:$G$1023,CMS_Deviation!$C$24:$C$1023,$C181))","v":""},"",{"$f":"IF(C181=\"\",\"\",SUMIFS(CMS_Downtime!$G$24:$G$1023,CMS_Downtime!$C$24:$C$1023,$C181))","v":""},""]
[null,{"$f":"Lists!AD160","v":""},{"$f":"Lists!AE160","v":""},{"$f":"Lists!AF160","v":""},{"$f":"IF(C182=\"\",\"\",SUMIFS(CMS_Deviation!$G$24:$G$1023,CMS_Deviation!$C$24:$C$1023,$C182))","v":""},"",{"$f":"IF(C182=\"\",\"\",SUMIFS(CMS_Downtime!$G$24:$G$1023,CMS_Downtime!$C$24:$C$1023,$C182))","v":""},""]
[null,{"$f":"Lists!AD161","v":""},{"$f":"Lists!AE161","v":""},{"$f":"Lists!AF161","v":""},{"$f":"IF(C183=\"\",\"\",SUMIFS(CMS_Deviation!$G$24:$G$1023,CMS_Deviation!$C$24:$C$1023,$C183))","v":""},"",{"$f":"IF(C183=\"\",\"\",SUMIFS(CMS_Downtime!$G$24:$G$1023,CMS_Downtime!$C$24:$C$1023,$C183))","v":""},""]
[null,{"$f":"Lists!AD162","v":""},{"$f":"Lists!AE162","v":""},{"$f":"Lists!AF162","v":""},{"$f":"IF(C184=\"\",\"\",SUMIFS(CMS_Deviation!$G$24:$G$1023,CMS_Deviation!$C$24:$C$1023,$C184))","v":""},"",{"$f":"IF(C184=\"\",\"\",SUMIFS(CMS_Downtime!$G$24:$G$1023,CMS_Downtime!$C$24:$C$1023,$C184))","v":""},""]
[null,{"$f":"Lists!AD163","v":""},{"$f":"Lists!AE163","v":""},{"$f":"Lists!AF163","v":""},{"$f":"IF(C185=\"\",\"\",SUMIFS(CMS_Deviation!$G$24:$G$1023,CMS_Deviation!$C$24:$C$1023,$C185))","v":""},"",{"$f":"IF(C185=\"\",\"\",SUMIFS(CMS_Downtime!$G$24:$G$1023,CMS_Downtime!$C$24:$C$1023,$C185))","v":""},""]
[null,{"$f":"Lists!AD164","v":""},{"$f":"Lists!AE164","v":""},{"$f":"Lists!AF164","v":""},{"$f":"IF(C186=\"\",\"\",SUMIFS(CMS_Deviation!$G$24:$G$1023,CMS_Deviation!$C$24:$C$1023,$C186))","v":""},"",{"$f":"IF(C186=\"\",\"\",SUMIFS(CMS_Downtime!$G$24:$G$1023,CMS_Downtime!$C$24:$C$1023,$C186))","v":""},""]
[null,{"$f":"Lists!AD165","v":""},{"$f":"Lists!AE165","v":""},{"$f":"Lists!AF165","v":""},{"$f":"IF(C187=\"\",\"\",SUMIFS(CMS_Deviation!$G$24:$G$1023,CMS_Deviation!$C$24:$C$1023,$C187))","v":""},"",{"$f":"IF(C187=\"\",\"\",SUMIFS(CMS_Downtime!$G$24:$G$1023,CMS_Downtime!$C$24:$C$1023,$C187))","v":""},""]
[null,{"$f":"Lists!AD166","v":""},{"$f":"Lists!AE166","v":""},{"$f":"Lists!AF166","v":""},{"$f":"IF(C188=\"\",\"\",SUMIFS(CMS_Deviation!$G$24:$G$1023,CMS_Deviation!$C$24:$C$1023,$C188))","v":""},"",{"$f":"IF(C188=\"\",\"\",SUMIFS(CMS_Downtime!$G$24:$G$1023,CMS_Downtime!$C$24:$C$1023,$C188))","v":""},""]
[null,{"$f":"Lists!AD167","v":""},{"$f":"Lists!AE167","v":""},{"$f":"Lists!AF167","v":""},{"$f":"IF(C189=\"\",\"\",SUMIFS(CMS_Deviation!$G$24:$G$1023,CMS_Deviation!$C$24:$C$1023,$C189))","v":""},"",{"$f":"IF(C189=\"\",\"\",SUMIFS(CMS_Downtime!$G$24:$G$1023,CMS_Downtime!$C$24:$C$1023,$C189))","v":""},""]
[null,{"$f":"Lists!AD168","v":""},{"$f":"Lists!AE168","v":""},{"$f":"Lists!AF168","v":""},{"$f":"IF(C190=\"\",\"\",SUMIFS(CMS_Deviation!$G$24:$G$1023,CMS_Deviation!$C$24:$C$1023,$C190))","v":""},"",{"$f":"IF(C190=\"\",\"\",SUMIFS(CMS_Downtime!$G$24:$G$1023,CMS_Downtime!$C$24:$C$1023,$C190))","v":""},""]
[null,{"$f":"Lists!AD169","v":""},{"$f":"Lists!AE169","v":""},{"$f":"Lists!AF169","v":""},{"$f":"IF(C191=\"\",\"\",SUMIFS(CMS_Deviation!$G$24:$G$1023,CMS_Deviation!$C$24:$C$1023,$C191))","v":""},"",{"$f":"IF(C191=\"\",\"\",SUMIFS(CMS_Downtime!$G$24:$G$1023,CMS_Downtime!$C$24:$C$1023,$C191))","v":""},""]
[null,{"$f":"Lists!AD170","v":""},{"$f":"Lists!AE170","v":""},{"$f":"Lists!AF170","v":""},{"$f":"IF(C192=\"\",\"\",SUMIFS(CMS_Deviation!$G$24:$G$1023,CMS_Deviation!$C$24:$C$1023,$C192))","v":""},"",{"$f":"IF(C192=\"\",\"\",SUMIFS(CMS_Downtime!$G$24:$G$1023,CMS_Downtime!$C$24:$C$1023,$C192))","v":""},""]
[null,{"$f":"Lists!AD171","v":""},{"$f":"Lists!AE171","v":""},{"$f":"Lists!AF171","v":""},{"$f":"IF(C193=\"\",\"\",SUMIFS(CMS_Deviation!$G$24:$G$1023,CMS_Deviation!$C$24:$C$1023,$C193))","v":""},"",{"$f":"IF(C193=\"\",\"\",SUMIFS(CMS_Downtime!$G$24:$G$1023,CMS_Downtime!$C$24:$C$1023,$C193))","v":""},""]
[null,{"$f":"Lists!AD172","v":""},{"$f":"Lists!AE172","v":""},{"$f":"Lists!AF172","v":""},{"$f":"IF(C194=\"\",\"\",SUMIFS(CMS_Deviation!$G$24:$G$1023,CMS_Deviation!$C$24:$C$1023,$C194))","v":""},"",{"$f":"IF(C194=\"\",\"\",SUMIFS(CMS_Downtime!$G$24:$G$1023,CMS_Downtime!$C$24:$C$1023,$C194))","v":""},""]
[null,{"$f":"Lists!AD173","v":""},{"$f":"Lists!AE173","v":""},{"$f":"Lists!AF173","v":""},{"$f":"IF(C195=\"\",\"\",SUMIFS(CMS_Deviation!$G$24:$G$1023,CMS_Deviation!$C$24:$C$1023,$C195))","v":""},"",{"$f":"IF(C195=\"\",\"\",SUMIFS(CMS_Downtime!$G$24:$G$1023,CMS_Downtime!$C$24:$C$1023,$C195))","v":""},""]
[null,{"$f":"Lists!AD174","v":""},{"$f":"Lists!AE174","v":""},{"$f":"Lists!AF174","v":""},{"$f":"IF(C196=\"\",\"\",SUMIFS(CMS_Deviation!$G$24:$G$1023,CMS_Deviation!$C$24:$C$1023,$C196))","v":""},"",{"$f":"IF(C196=\"\",\"\",SUMIFS(CMS_Downtime!$G$24:$G$1023,CMS_Downtime!$C$24:$C$1023,$C196))","v":""},""]
[null,{"$f":"Lists!AD175","v":""},{"$f":"Lists!AE175","v":""},{"$f":"Lists!AF175","v":""},{"$f":"IF(C197=\"\",\"\",SUMIFS(CMS_Deviation!$G$24:$G$1023,CMS_Deviation!$C$24:$C$1023,$C197))","v":""},"",{"$f":"IF(C197=\"\",\"\",SUMIFS(CMS_Downtime!$G$24:$G$1023,CMS_Downtime!$C$24:$C$1023,$C197))","v":""},""]
[null,{"$f":"Lists!AD176","v":""},{"$f":"Lists!AE176","v":""},{"$f":"Lists!AF176","v":""},{"$f":"IF(C198=\"\",\"\",SUMIFS(CMS_Deviation!$G$24:$G$1023,CMS_Deviation!$C$24:$C$1023,$C198))","v":""},"",{"$f":"IF(C198=\"\",\"\",SUMIFS(CMS_Downtime!$G$24:$G$1023,CMS_Downtime!$C$24:$C$1023,$C198))","v":""},""]
[null,{"$f":"Lists!AD177","v":""},{"$f":"Lists!AE177","v":""},{"$f":"Lists!AF177","v":""},{"$f":"IF(C199=\"\",\"\",SUMIFS(CMS_Deviation!$G$24:$G$1023,CMS_Deviation!$C$24:$C$1023,$C199))","v":""},"",{"$f":"IF(C199=\"\",\"\",SUMIFS(CMS_Downtime!$G$24:$G$1023,CMS_Downtime!$C$24:$C$1023,$C199))","v":""},""]
[null,{"$f":"Lists!AD178","v":""},{"$f":"Lists!AE178","v":""},{"$f":"Lists!AF178","v":""},{"$f":"IF(C200=\"\",\"\",SUMIFS(CMS_Deviation!$G$24:$G$1023,CMS_Deviation!$C$24:$C$1023,$C200))","v":""},"",{"$f":"IF(C200=\"\",\"\",SUMIFS(CMS_Downtime!$G$24:$G$1023,CMS_Downtime!$C$24:$C$1023,$C200))","v":""},""]
[null,{"$f":"Lists!AD179","v":""},{"$f":"Lists!AE179","v":""},{"$f":"Lists!AF179","v":""},{"$f":"IF(C201=\"\",\"\",SUMIFS(CMS_Deviation!$G$24:$G$1023,CMS_Deviation!$C$24:$C$1023,$C201))","v":""},"",{"$f":"IF(C201=\"\",\"\",SUMIFS(CMS_Downtime!$G$24:$G$1023,CMS_Downtime!$C$24:$C$1023,$C201))","v":""},""]
[null,{"$f":"Lists!AD180","v":""},{"$f":"Lists!AE180","v":""},{"$f":"Lists!AF180","v":""},{"$f":"IF(C202=\"\",\"\",SUMIFS(CMS_Deviation!$G$24:$G$1023,CMS_Deviation!$C$24:$C$1023,$C202))","v":""},"",{"$f":"IF(C202=\"\",\"\",SUMIFS(CMS_Downtime!$G$24:$G$1023,CMS_Downtime!$C$24:$C$1023,$C202))","v":""},""]
[null,{"$f":"Lists!AD181","v":""},{"$f":"Lists!AE181","v":""},{"$f":"Lists!AF181","v":""},{"$f":"IF(C203=\"\",\"\",SUMIFS(CMS_Deviation!$G$24:$G$1023,CMS_Deviation!$C$24:$C$1023,$C203))","v":""},"",{"$f":"IF(C203=\"\",\"\",SUMIFS(CMS_Downtime!$G$24:$G$1023,CMS_Downtime!$C$24:$C$1023,$C203))","v":""},""]
[null,{"$f":"Lists!AD182","v":""},{"$f":"Lists!AE182","v":""},{"$f":"Lists!AF182","v":""},{"$f":"IF(C204=\"\",\"\",SUMIFS(CMS_Deviation!$G$24:$G$1023,CMS_Deviation!$C$24:$C$1023,$C204))","v":""},"",{"$f":"IF(C204=\"\",\"\",SUMIFS(CMS_Downtime!$G$24:$G$1023,CMS_Downtime!$C$24:$C$1023,$C204))","v":""},""]
[null,{"$f":"Lists!AD183","v":""},{"$f":"Lists!AE183","v":""},{"$f":"Lists!AF183","v":""},{"$f":"IF(C205=\"\",\"\",SUMIFS(CMS_Deviation!$G$24:$G$1023,CMS_Deviation!$C$24:$C$1023,$C205))","v":""},{"$f":"IF(C205=\"\",\"\",E205/D205)","v":""},{"$f":"IF(C205=\"\",\"\",SUMIFS(CMS_Downtime!$G$24:$G$1023,CMS_Downtime!$C$24:$C$1023,$C205))","v":""},{"$f":"IF(C205=\"\",\"\",G205/D205)","v":""}]
[null,{"$f":"Lists!AD184","v":""},{"$f":"Lists!AE184","v":""},{"$f":"Lists!AF184","v":""},{"$f":"IF(C206=\"\",\"\",SUMIFS(CMS_Deviation!$G$24:$G$1023,CMS_Deviation!$C$24:$C$1023,$C206))","v":""},"",{"$f":"IF(C206=\"\",\"\",SUMIFS(CMS_Downtime!$G$24:$G$1023,CMS_Downtime!$C$24:$C$1023,$C206))","v":""},""]
[null,{"$f":"Lists!AD185","v":""},{"$f":"Lists!AE185","v":""},{"$f":"Lists!AF185","v":""},{"$f":"IF(C207=\"\",\"\",SUMIFS(CMS_Deviation!$G$24:$G$1023,CMS_Deviation!$C$24:$C$1023,$C207))","v":""},"",{"$f":"IF(C207=\"\",\"\",SUMIFS(CMS_Downtime!$G$24:$G$1023,CMS_Downtime!$C$24:$C$1023,$C207))","v":""},""]
[null,{"$f":"Lists!AD186","v":""},{"$f":"Lists!AE186","v":""},{"$f":"Lists!AF186","v":""},{"$f":"IF(C208=\"\",\"\",SUMIFS(CMS_Deviation!$G$24:$G$1023,CMS_Deviation!$C$24:$C$1023,$C208))","v":""},"",{"$f":"IF(C208=\"\",\"\",SUMIFS(CMS_Downtime!$G$24:$G$1023,CMS_Downtime!$C$24:$C$1023,$C208))","v":""},""]
[null,{"$f":"Lists!AD187","v":""},{"$f":"Lists!AE187","v":""},{"$f":"Lists!AF187","v":""},{"$f":"IF(C209=\"\",\"\",SUMIFS(CMS_Deviation!$G$24:$G$1023,CMS_Deviation!$C$24:$C$1023,$C209))","v":""},"",{"$f":"IF(C209=\"\",\"\",SUMIFS(CMS_Downtime!$G$24:$G$1023,CMS_Downtime!$C$24:$C$1023,$C209))","v":""},""]
[null,{"$f":"Lists!AD188","v":""},{"$f":"Lists!AE188","v":""},{"$f":"Lists!AF188","v":""},{"$f":"IF(C210=\"\",\"\",SUMIFS(CMS_Deviation!$G$24:$G$1023,CMS_Deviation!$C$24:$C$1023,$C210))","v":""},"",{"$f":"IF(C210=\"\",\"\",SUMIFS(CMS_Downtime!$G$24:$G$1023,CMS_Downtime!$C$24:$C$1023,$C210))","v":""},""]
[null,{"$f":"Lists!AD189","v":""},{"$f":"Lists!AE189","v":""},{"$f":"Lists!AF189","v":""},{"$f":"IF(C211=\"\",\"\",SUMIFS(CMS_Deviation!$G$24:$G$1023,CMS_Deviation!$C$24:$C$1023,$C211))","v":""},"",{"$f":"IF(C211=\"\",\"\",SUMIFS(CMS_Downtime!$G$24:$G$1023,CMS_Downtime!$C$24:$C$1023,$C211))","v":""},""]
[null,{"$f":"Lists!AD190","v":""},{"$f":"Lists!AE190","v":""},{"$f":"Lists!AF190","v":""},{"$f":"IF(C212=\"\",\"\",SUMIFS(CMS_Deviation!$G$24:$G$1023,CMS_Deviation!$C$24:$C$1023,$C212))","v":""},"",{"$f":"IF(C212=\"\",\"\",SUMIFS(CMS_Downtime!$G$24:$G$1023,CMS_Downtime!$C$24:$C$1023,$C212))","v":""},""]
[null,{"$f":"Lists!AD191","v":""},{"$f":"Lists!AE191","v":""},{"$f":"Lists!AF191","v":""},{"$f":"IF(C213=\"\",\"\",SUMIFS(CMS_Deviation!$G$24:$G$1023,CMS_Deviation!$C$24:$C$1023,$C213))","v":""},"",{"$f":"IF(C213=\"\",\"\",SUMIFS(CMS_Downtime!$G$24:$G$1023,CMS_Downtime!$C$24:$C$1023,$C213))","v":""},""]
[null,{"$f":"Lists!AD192","v":""},{"$f":"Lists!AE192","v":""},{"$f":"Lists!AF192","v":""},{"$f":"IF(C214=\"\",\"\",SUMIFS(CMS_Deviation!$G$24:$G$1023,CMS_Deviation!$C$24:$C$1023,$C214))","v":""},"",{"$f":"IF(C214=\"\",\"\",SUMIFS(CMS_Downtime!$G$24:$G$1023,CMS_Downtime!$C$24:$C$1023,$C214))","v":""},""]
[null,{"$f":"Lists!AD193","v":""},{"$f":"Lists!AE193","v":""},{"$f":"Lists!AF193","v":""},{"$f":"IF(C215=\"\",\"\",SUMIFS(CMS_Deviation!$G$24:$G$1023,CMS_Deviation!$C$24:$C$1023,$C215))","v":""},"",{"$f":"IF(C215=\"\",\"\",SUMIFS(CMS_Downtime!$G$24:$G$1023,CMS_Downtime!$C$24:$C$1023,$C215))","v":""},""]
[null,{"$f":"Lists!AD194","v":""},{"$f":"Lists!AE194","v":""},{"$f":"Lists!AF194","v":""},{"$f":"IF(C216=\"\",\"\",SUMIFS(CMS_Deviation!$G$24:$G$1023,CMS_Deviation!$C$24:$C$1023,$C216))","v":""},"",{"$f":"IF(C216=\"\",\"\",SUMIFS(CMS_Downtime!$G$24:$G$1023,CMS_Downtime!$C$24:$C$1023,$C216))","v":""},""]
[null,{"$f":"Lists!AD195","v":""},{"$f":"Lists!AE195","v":""},{"$f":"Lists!AF195","v":""},{"$f":"IF(C217=\"\",\"\",SUMIFS(CMS_Deviation!$G$24:$G$1023,CMS_Deviation!$C$24:$C$1023,$C217))","v":""},"",{"$f":"IF(C217=\"\",\"\",SUMIFS(CMS_Downtime!$G$24:$G$1023,CMS_Downtime!$C$24:$C$1023,$C217))","v":""},""]
[null,{"$f":"Lists!AD196","v":""},{"$f":"Lists!AE196","v":""},{"$f":"Lists!AF196","v":""},{"$f":"IF(C218=\"\",\"\",SUMIFS(CMS_Deviation!$G$24:$G$1023,CMS_Deviation!$C$24:$C$1023,$C218))","v":""},"",{"$f":"IF(C218=\"\",\"\",SUMIFS(CMS_Downtime!$G$24:$G$1023,CMS_Downtime!$C$24:$C$1023,$C218))","v":""},""]
[null,{"$f":"Lists!AD197","v":""},{"$f":"Lists!AE197","v":""},{"$f":"Lists!AF197","v":""},{"$f":"IF(C219=\"\",\"\",SUMIFS(CMS_Deviation!$G$24:$G$1023,CMS_Deviation!$C$24:$C$1023,$C219))","v":""},"",{"$f":"IF(C219=\"\",\"\",SUMIFS(CMS_Downtime!$G$24:$G$1023,CMS_Downtime!$C$24:$C$1023,$C219))","v":""},""]
[null,{"$f":"Lists!AD198","v":""},{"$f":"Lists!AE198","v":""},{"$f":"Lists!AF198","v":""},{"$f":"IF(C220=\"\",\"\",SUMIFS(CMS_Deviation!$G$24:$G$1023,CMS_Deviation!$C$24:$C$1023,$C220))","v":""},"",{"$f":"IF(C220=\"\",\"\",SUMIFS(CMS_Downtime!$G$24:$G$1023,CMS_Downtime!$C$24:$C$1023,$C220))","v":""},""]
[null,{"$f":"Lists!AD199","v":""},{"$f":"Lists!AE199","v":""},{"$f":"Lists!AF199","v":""},{"$f":"IF(C221=\"\",\"\",SUMIFS(CMS_Deviation!$G$24:$G$1023,CMS_Deviation!$C$24:$C$1023,$C221))","v":""},"",{"$f":"IF(C221=\"\",\"\",SUMIFS(CMS_Downtime!$G$24:$G$1023,CMS_Downtime!$C$24:$C$1023,$C221))","v":""},""]
[null,{"$f":"Lists!AD200","v":""},{"$f":"Lists!AE200","v":""},{"$f":"Lists!AF200","v":""},{"$f":"IF(C222=\"\",\"\",SUMIFS(CMS_Deviation!$G$24:$G$1023,CMS_Deviation!$C$24:$C$1023,$C222))","v":""},"",{"$f":"IF(C222=\"\",\"\",SUMIFS(CMS_Downtime!$G$24:$G$1023,CMS_Downtime!$C$24:$C$1023,$C222))","v":""},""]
[null,{"$f":"Lists!AD201","v":""},{"$f":"Lists!AE201","v":""},{"$f":"Lists!AF201","v":""},{"$f":"IF(C223=\"\",\"\",SUMIFS(CMS_Deviation!$G$24:$G$1023,CMS_Deviation!$C$24:$C$1023,$C223))","v":""},"",{"$f":"IF(C223=\"\",\"\",SUMIFS(CMS_Downtime!$G$24:$G$1023,CMS_Downtime!$C$24:$C$1023,$C223))","v":""},""]
[null,{"$f":"Lists!AD202","v":""},{"$f":"Lists!AE202","v":""},{"$f":"Lists!AF202","v":""},{"$f":"IF(C224=\"\",\"\",SUMIFS(CMS_Deviation!$G$24:$G$1023,CMS_Deviation!$C$24:$C$1023,$C224))","v":""},"",{"$f":"IF(C224=\"\",\"\",SUMIFS(CMS_Downtime!$G$24:$G$1023,CMS_Downtime!$C$24:$C$1023,$C224))","v":""},""]
[null,{"$f":"Lists!AD203","v":""},{"$f":"Lists!AE203","v":""},{"$f":"Lists!AF203","v":""},{"$f":"IF(C225=\"\",\"\",SUMIFS(CMS_Deviation!$G$24:$G$1023,CMS_Deviation!$C$24:$C$1023,$C225))","v":""},"",{"$f":"IF(C225=\"\",\"\",SUMIFS(CMS_Downtime!$G$24:$G$1023,CMS_Downtime!$C$24:$C$1023,$C225))","v":""},""]
[null,{"$f":"Lists!AD204","v":""},{"$f":"Lists!AE204","v":""},{"$f":"Lists!AF204","v":""},{"$f":"IF(C226=\"\",\"\",SUMIFS(CMS_Deviation!$G$24:$G$1023,CMS_Deviation!$C$24:$C$1023,$C226))","v":""},"",{"$f":"IF(C226=\"\",\"\",SUMIFS(CMS_Downtime!$G$24:$G$1023,CMS_Downtime!$C$24:$C$1023,$C226))","v":""},""]
[null,{"$f":"Lists!AD205","v":""},{"$f":"Lists!AE205","v":""},{"$f":"Lists!AF205","v":""},{"$f":"IF(C227=\"\",\"\",SUMIFS(CMS_Deviation!$G$24:$G$1023,CMS_Deviation!$C$24:$C$1023,$C227))","v":""},"",{"$f":"IF(C227=\"\",\"\",SUMIFS(CMS_Downtime!$G$24:$G$1023,CMS_Downtime!$C$24:$C$1023,$C227))","v":""},""]
[null,{"$f":"Lists!AD206","v":""},{"$f":"Lists!AE206","v":""},{"$f":"Lists!AF206","v":""},{"$f":"IF(C228=\"\",\"\",SUMIFS(CMS_Deviation!$G$24:$G$1023,CMS_Deviation!$C$24:$C$1023,$C228))","v":""},"",{"$f":"IF(C228=\"\",\"\",SUMIFS(CMS_Downtime!$G$24:$G$1023,CMS_Downtime!$C$24:$C$1023,$C228))","v":""},""]
[null,{"$f":"Lists!AD207","v":""},{"$f":"Lists!AE207","v":""},{"$f":"Lists!AF207","v":""},{"$f":"IF(C229=\"\",\"\",SUMIFS(CMS_Deviation!$G$24:$G$1023,CMS_Deviation!$C$24:$C$1023,$C229))","v":""},"",{"$f":"IF(C229=\"\",\"\",SUMIFS(CMS_Downtime!$G$24:$G$1023,CMS_Downtime!$C$24:$C$1023,$C229))","v":""},""]
[null,{"$f":"Lists!AD208","v":""},{"$f":"Lists!AE208","v":""},{"$f":"Lists!AF208","v":""},{"$f":"IF(C230=\"\",\"\",SUMIFS(CMS_Deviation!$G$24:$G$1023,CMS_Deviation!$C$24:$C$1023,$C230))","v":""},"",{"$f":"IF(C230=\"\",\"\",SUMIFS(CMS_Downtime!$G$24:$G$1023,CMS_Downtime!$C$24:$C$1023,$C230))","v":""},""]
[null,{"$f":"Lists!AD209","v":""},{"$f":"Lists!AE209","v":""},{"$f":"Lists!AF209","v":""},{"$f":"IF(C231=\"\",\"\",SUMIFS(CMS_Deviation!$G$24:$G$1023,CMS_Deviation!$C$24:$C$1023,$C231))","v":""},"",{"$f":"IF(C231=\"\",\"\",SUMIFS(CMS_Downtime!$G$24:$G$1023,CMS_Downtime!$C$24:$C$1023,$C231))","v":""},""]
[null,{"$f":"Lists!AD210","v":""},{"$f":"Lists!AE210","v":""},{"$f":"Lists!AF210","v":""},{"$f":"IF(C232=\"\",\"\",SUMIFS(CMS_Deviation!$G$24:$G$1023,CMS_Deviation!$C$24:$C$1023,$C232))","v":""},"",{"$f":"IF(C232=\"\",\"\",SUMIFS(CMS_Downtime!$G$24:$G$1023,CMS_Downtime!$C$24:$C$1023,$C232))","v":""},""]
[null,{"$f":"Lists!AD211","v":""},{"$f":"Lists!AE211","v":""},{"$f":"Lists!AF211","v":""},{"$f":"IF(C233=\"\",\"\",SUMIFS(CMS_Deviation!$G$24:$G$1023,CMS_Deviation!$C$24:$C$1023,$C233))","v":""},"",{"$f":"IF(C233=\"\",\"\",SUMIFS(CMS_Downtime!$G$24:$G$1023,CMS_Downtime!$C$24:$C$1023,$C233))","v":""},""]
[null,{"$f":"Lists!AD212","v":""},{"$f":"Lists!AE212","v":""},{"$f":"Lists!AF212","v":""},{"$f":"IF(C234=\"\",\"\",SUMIFS(CMS_Deviation!$G$24:$G$1023,CMS_Deviation!$C$24:$C$1023,$C234))","v":""},"",{"$f":"IF(C234=\"\",\"\",SUMIFS(CMS_Downtime!$G$24:$G$1023,CMS_Downtime!$C$24:$C$1023,$C234))","v":""},""]
[null,{"$f":"Lists!AD213","v":""},{"$f":"Lists!AE213","v":""},{"$f":"Lists!AF213","v":""},{"$f":"IF(C235=\"\",\"\",SUMIFS(CMS_Deviation!$G$24:$G$1023,CMS_Deviation!$C$24:$C$1023,$C235))","v":""},"",{"$f":"IF(C235=\"\",\"\",SUMIFS(CMS_Downtime!$G$24:$G$1023,CMS_Downtime!$C$24:$C$1023,$C235))","v":""},""]
[null,{"$f":"Lists!AD214","v":""},{"$f":"Lists!AE214","v":""},{"$f":"Lists!AF214","v":""},{"$f":"IF(C236=\"\",\"\",SUMIFS(CMS_Deviation!$G$24:$G$1023,CMS_Deviation!$C$24:$C$1023,$C236))","v":""},"",{"$f":"IF(C236=\"\",\"\",SUMIFS(CMS_Downtime!$G$24:$G$1023,CMS_Downtime!$C$24:$C$1023,$C236))","v":""},""]
[null,{"$f":"Lists!AD215","v":""},{"$f":"Lists!AE215","v":""},{"$f":"Lists!AF215","v":""},{"$f":"IF(C237=\"\",\"\",SUMIFS(CMS_Deviation!$G$24:$G$1023,CMS_Deviation!$C$24:$C$1023,$C237))","v":""},"",{"$f":"IF(C237=\"\",\"\",SUMIFS(CMS_Downtime!$G$24:$G$1023,CMS_Downtime!$C$24:$C$1023,$C237))","v":""},""]
[null,{"$f":"Lists!AD216","v":""},{"$f":"Lists!AE216","v":""},{"$f":"Lists!AF216","v":""},{"$f":"IF(C238=\"\",\"\",SUMIFS(CMS_Deviation!$G$24:$G$1023,CMS_Deviation!$C$24:$C$1023,$C238))","v":""},"",{"$f":"IF(C238=\"\",\"\",SUMIFS(CMS_Downtime!$G$24:$G$1023,CMS_Downtime!$C$24:$C$1023,$C238))","v":""},""]
[null,{"$f":"Lists!AD217","v":""},{"$f":"Lists!AE217","v":""},{"$f":"Lists!AF217","v":""},{"$f":"IF(C239=\"\",\"\",SUMIFS(CMS_Deviation!$G$24:$G$1023,CMS_Deviation!$C$24:$C$1023,$C239))","v":""},"",{"$f":"IF(C239=\"\",\"\",SUMIFS(CMS_Downtime!$G$24:$G$1023,CMS_Downtime!$C$24:$C$1023,$C239))","v":""},""]
[null,{"$f":"Lists!AD218","v":""},{"$f":"Lists!AE218","v":""},{"$f":"Lists!AF218","v":""},{"$f":"IF(C240=\"\",\"\",SUMIFS(CMS_Deviation!$G$24:$G$1023,CMS_Deviation!$C$24:$C$1023,$C240))","v":""},"",{"$f":"IF(C240=\"\",\"\",SUMIFS(CMS_Downtime!$G$24:$G$1023,CMS_Downtime!$C$24:$C$1023,$C240))","v":""},""]
[null,{"$f":"Lists!AD219","v":""},{"$f":"Lists!AE219","v":""},{"$f":"Lists!AF219","v":""},{"$f":"IF(C241=\"\",\"\",SUMIFS(CMS_Deviation!$G$24:$G$1023,CMS_Deviation!$C$24:$C$1023,$C241))","v":""},"",{"$f":"IF(C241=\"\",\"\",SUMIFS(CMS_Downtime!$G$24:$G$1023,CMS_Downtime!$C$24:$C$1023,$C241))","v":""},""]
[null,{"$f":"Lists!AD220","v":""},{"$f":"Lists!AE220","v":""},{"$f":"Lists!AF220","v":""},{"$f":"IF(C242=\"\",\"\",SUMIFS(CMS_Deviation!$G$24:$G$1023,CMS_Deviation!$C$24:$C$1023,$C242))","v":""},"",{"$f":"IF(C242=\"\",\"\",SUMIFS(CMS_Downtime!$G$24:$G$1023,CMS_Downtime!$C$24:$C$1023,$C242))","v":""},""]
[null,{"$f":"Lists!AD221","v":""},{"$f":"Lists!AE221","v":""},{"$f":"Lists!AF221","v":""},{"$f":"IF(C243=\"\",\"\",SUMIFS(CMS_Deviation!$G$24:$G$1023,CMS_Deviation!$C$24:$C$1023,$C243))","v":""},"",{"$f":"IF(C243=\"\",\"\",SUMIFS(CMS_Downtime!$G$24:$G$1023,CMS_Downtime!$C$24:$C$1023,$C243))","v":""},""]
[null,{"$f":"Lists!AD222","v":""},{"$f":"Lists!AE222","v":""},{"$f":"Lists!AF222","v":""},{"$f":"IF(C244=\"\",\"\",SUMIFS(CMS_Deviation!$G$24:$G$1023,CMS_Deviation!$C$24:$C$1023,$C244))","v":""},"",{"$f":"IF(C244=\"\",\"\",SUMIFS(CMS_Downtime!$G$24:$G$1023,CMS_Downtime!$C$24:$C$1023,$C244))","v":""},""]
[null,{"$f":"Lists!AD223","v":""},{"$f":"Lists!AE223","v":""},{"$f":"Lists!AF223","v":""},{"$f":"IF(C245=\"\",\"\",SUMIFS(CMS_Deviation!$G$24:$G$1023,CMS_Deviation!$C$24:$C$1023,$C245))","v":""},"",{"$f":"IF(C245=\"\",\"\",SUMIFS(CMS_Downtime!$G$24:$G$1023,CMS_Downtime!$C$24:$C$1023,$C245))","v":""},""]
[null,{"$f":"Lists!AD224","v":""},{"$f":"Lists!AE224","v":""},{"$f":"Lists!AF224","v":""},{"$f":"IF(C246=\"\",\"\",SUMIFS(CMS_Deviation!$G$24:$G$1023,CMS_Deviation!$C$24:$C$1023,$C246))","v":""},"",{"$f":"IF(C246=\"\",\"\",SUMIFS(CMS_Downtime!$G$24:$G$1023,CMS_Downtime!$C$24:$C$1023,$C246))","v":""},""]
[null,{"$f":"Lists!AD225","v":""},{"$f":"Lists!AE225","v":""},{"$f":"Lists!AF225","v":""},{"$f":"IF(C247=\"\",\"\",SUMIFS(CMS_Deviation!$G$24:$G$1023,CMS_Deviation!$C$24:$C$1023,$C247))","v":""},"",{"$f":"IF(C247=\"\",\"\",SUMIFS(CMS_Downtime!$G$24:$G$1023,CMS_Downtime!$C$24:$C$1023,$C247))","v":""},""]
[null,{"$f":"Lists!AD226","v":""},{"$f":"Lists!AE226","v":""},{"$f":"Lists!AF226","v":""},{"$f":"IF(C248=\"\",\"\",SUMIFS(CMS_Deviation!$G$24:$G$1023,CMS_Deviation!$C$24:$C$1023,$C248))","v":""},"",{"$f":"IF(C248=\"\",\"\",SUMIFS(CMS_Downtime!$G$24:$G$1023,CMS_Downtime!$C$24:$C$1023,$C248))","v":""},""]
[null,{"$f":"Lists!AD227","v":""},{"$f":"Lists!AE227","v":""},{"$f":"Lists!AF227","v":""},{"$f":"IF(C249=\"\",\"\",SUMIFS(CMS_Deviation!$G$24:$G$1023,CMS_Deviation!$C$24:$C$1023,$C249))","v":""},"",{"$f":"IF(C249=\"\",\"\",SUMIFS(CMS_Downtime!$G$24:$G$1023,CMS_Downtime!$C$24:$C$1023,$C249))","v":""},""]
[null,{"$f":"Lists!AD228","v":""},{"$f":"Lists!AE228","v":""},{"$f":"Lists!AF228","v":""},{"$f":"IF(C250=\"\",\"\",SUMIFS(CMS_Deviation!$G$24:$G$1023,CMS_Deviation!$C$24:$C$1023,$C250))","v":""},"",{"$f":"IF(C250=\"\",\"\",SUMIFS(CMS_Downtime!$G$24:$G$1023,CMS_Downtime!$C$24:$C$1023,$C250))","v":""},""]
[null,{"$f":"Lists!AD229","v":""},{"$f":"Lists!AE229","v":""},{"$f":"Lists!AF229","v":""},{"$f":"IF(C251=\"\",\"\",SUMIFS(CMS_Deviation!$G$24:$G$1023,CMS_Deviation!$C$24:$C$1023,$C251))","v":""},"",{"$f":"IF(C251=\"\",\"\",SUMIFS(CMS_Downtime!$G$24:$G$1023,CMS_Downtime!$C$24:$C$1023,$C251))","v":""},""]
[null,{"$f":"Lists!AD230","v":""},{"$f":"Lists!AE230","v":""},{"$f":"Lists!AF230","v":""},{"$f":"IF(C252=\"\",\"\",SUMIFS(CMS_Deviation!$G$24:$G$1023,CMS_Deviation!$C$24:$C$1023,$C252))","v":""},"",{"$f":"IF(C252=\"\",\"\",SUMIFS(CMS_Downtime!$G$24:$G$1023,CMS_Downtime!$C$24:$C$1023,$C252))","v":""},""]
[null,{"$f":"Lists!AD231","v":""},{"$f":"Lists!AE231","v":""},{"$f":"Lists!AF231","v":""},{"$f":"IF(C253=\"\",\"\",SUMIFS(CMS_Deviation!$G$24:$G$1023,CMS_Deviation!$C$24:$C$1023,$C253))","v":""},"",{"$f":"IF(C253=\"\",\"\",SUMIFS(CMS_Downtime!$G$24:$G$1023,CMS_Downtime!$C$24:$C$1023,$C253))","v":""},""]
[null,{"$f":"Lists!AD232","v":""},{"$f":"Lists!AE232","v":""},{"$f":"Lists!AF232","v":""},{"$f":"IF(C254=\"\",\"\",SUMIFS(CMS_Deviation!$G$24:$G$1023,CMS_Deviation!$C$24:$C$1023,$C254))","v":""},"",{"$f":"IF(C254=\"\",\"\",SUMIFS(CMS_Downtime!$G$24:$G$1023,CMS_Downtime!$C$24:$C$1023,$C254))","v":""},""]
[null,{"$f":"Lists!AD233","v":""},{"$f":"Lists!AE233","v":""},{"$f":"Lists!AF233","v":""},{"$f":"IF(C255=\"\",\"\",SUMIFS(CMS_Deviation!$G$24:$G$1023,CMS_Deviation!$C$24:$C$1023,$C255))","v":""},"",{"$f":"IF(C255=\"\",\"\",SUMIFS(CMS_Downtime!$G$24:$G$1023,CMS_Downtime!$C$24:$C$1023,$C255))","v":""},""]
[null,{"$f":"Lists!AD234","v":""},{"$f":"Lists!AE234","v":""},{"$f":"Lists!AF234","v":""},{"$f":"IF(C256=\"\",\"\",SUMIFS(CMS_Deviation!$G$24:$G$1023,CMS_Deviation!$C$24:$C$1023,$C256))","v":""},"",{"$f":"IF(C256=\"\",\"\",SUMIFS(CMS_Downtime!$G$24:$G$1023,CMS_Downtime!$C$24:$C$1023,$C256))","v":""},""]
[null,{"$f":"Lists!AD235","v":""},{"$f":"Lists!AE235","v":""},{"$f":"Lists!AF235","v":""},{"$f":"IF(C257=\"\",\"\",SUMIFS(CMS_Deviation!$G$24:$G$1023,CMS_Deviation!$C$24:$C$1023,$C257))","v":""},"",{"$f":"IF(C257=\"\",\"\",SUMIFS(CMS_Downtime!$G$24:$G$1023,CMS_Downtime!$C$24:$C$1023,$C257))","v":""},""]
[null,{"$f":"Lists!AD236","v":""},{"$f":"Lists!AE236","v":""},{"$f":"Lists!AF236","v":""},{"$f":"IF(C258=\"\",\"\",SUMIFS(CMS_Deviation!$G$24:$G$1023,CMS_Deviation!$C$24:$C$1023,$C258))","v":""},"",{"$f":"IF(C258=\"\",\"\",SUMIFS(CMS_Downtime!$G$24:$G$1023,CMS_Downtime!$C$24:$C$1023,$C258))","v":""},""]
[null,{"$f":"Lists!AD237","v":""},{"$f":"Lists!AE237","v":""},{"$f":"Lists!AF237","v":""},{"$f":"IF(C259=\"\",\"\",SUMIFS(CMS_Deviation!$G$24:$G$1023,CMS_Deviation!$C$24:$C$1023,$C259))","v":""},"",{"$f":"IF(C259=\"\",\"\",SUMIFS(CMS_Downtime!$G$24:$G$1023,CMS_Downtime!$C$24:$C$1023,$C259))","v":""},""]
[null,{"$f":"Lists!AD238","v":""},{"$f":"Lists!AE238","v":""},{"$f":"Lists!AF238","v":""},{"$f":"IF(C260=\"\",\"\",SUMIFS(CMS_Deviation!$G$24:$G$1023,CMS_Deviation!$C$24:$C$1023,$C260))","v":""},"",{"$f":"IF(C260=\"\",\"\",SUMIFS(CMS_Downtime!$G$24:$G$1023,CMS_Downtime!$C$24:$C$1023,$C260))","v":""},""]
[null,{"$f":"Lists!AD239","v":""},{"$f":"Lists!AE239","v":""},{"$f":"Lists!AF239","v":""},{"$f":"IF(C261=\"\",\"\",SUMIFS(CMS_Deviation!$G$24:$G$1023,CMS_Deviation!$C$24:$C$1023,$C261))","v":""},"",{"$f":"IF(C261=\"\",\"\",SUMIFS(CMS_Downtime!$G$24:$G$1023,CMS_Downtime!$C$24:$C$1023,$C261))","v":""},""]
[null,{"$f":"Lists!AD240","v":""},{"$f":"Lists!AE240","v":""},{"$f":"Lists!AF240","v":""},{"$f":"IF(C262=\"\",\"\",SUMIFS(CMS_Deviation!$G$24:$G$1023,CMS_Deviation!$C$24:$C$1023,$C262))","v":""},"",{"$f":"IF(C262=\"\",\"\",SUMIFS(CMS_Downtime!$G$24:$G$1023,CMS_Downtime!$C$24:$C$1023,$C262))","v":""},""]
[null,{"$f":"Lists!AD241","v":""},{"$f":"Lists!AE241","v":""},{"$f":"Lists!AF241","v":""},{"$f":"IF(C263=\"\",\"\",SUMIFS(CMS_Deviation!$G$24:$G$1023,CMS_Deviation!$C$24:$C$1023,$C263))","v":""},"",{"$f":"IF(C263=\"\",\"\",SUMIFS(CMS_Downtime!$G$24:$G$1023,CMS_Downtime!$C$24:$C$1023,$C263))","v":""},""]
[null,{"$f":"Lists!AD242","v":""},{"$f":"Lists!AE242","v":""},{"$f":"Lists!AF242","v":""},{"$f":"IF(C264=\"\",\"\",SUMIFS(CMS_Deviation!$G$24:$G$1023,CMS_Deviation!$C$24:$C$1023,$C264))","v":""},"",{"$f":"IF(C264=\"\",\"\",SUMIFS(CMS_Downtime!$G$24:$G$1023,CMS_Downtime!$C$24:$C$1023,$C264))","v":""},""]
[null,{"$f":"Lists!AD243","v":""},{"$f":"Lists!AE243","v":""},{"$f":"Lists!AF243","v":""},{"$f":"IF(C265=\"\",\"\",SUMIFS(CMS_Deviation!$G$24:$G$1023,CMS_Deviation!$C$24:$C$1023,$C265))","v":""},"",{"$f":"IF(C265=\"\",\"\",SUMIFS(CMS_Downtime!$G$24:$G$1023,CMS_Downtime!$C$24:$C$1023,$C265))","v":""},""]
[null,{"$f":"Lists!AD244","v":""},{"$f":"Lists!AE244","v":""},{"$f":"Lists!AF244","v":""},{"$f":"IF(C266=\"\",\"\",SUMIFS(CMS_Deviation!$G$24:$G$1023,CMS_Deviation!$C$24:$C$1023,$C266))","v":""},"",{"$f":"IF(C266=\"\",\"\",SUMIFS(CMS_Downtime!$G$24:$G$1023,CMS_Downtime!$C$24:$C$1023,$C266))","v":""},""]
[null,{"$f":"Lists!AD245","v":""},{"$f":"Lists!AE245","v":""},{"$f":"Lists!AF245","v":""},{"$f":"IF(C267=\"\",\"\",SUMIFS(CMS_Deviation!$G$24:$G$1023,CMS_Deviation!$C$24:$C$1023,$C267))","v":""},"",{"$f":"IF(C267=\"\",\"\",SUMIFS(CMS_Downtime!$G$24:$G$1023,CMS_Downtime!$C$24:$C$1023,$C267))","v":""},""]
[null,{"$f":"Lists!AD246","v":""},{"$f":"Lists!AE246","v":""},{"$f":"Lists!AF246","v":""},{"$f":"IF(C268=\"\",\"\",SUMIFS(CMS_Deviation!$G$24:$G$1023,CMS_Deviation!$C$24:$C$1023,$C268))","v":""},"",{"$f":"IF(C268=\"\",\"\",SUMIFS(CMS_Downtime!$G$24:$G$1023,CMS_Downtime!$C$24:$C$1023,$C268))","v":""},""]
[null,{"$f":"Lists!AD247","v":""},{"$f":"Lists!AE247","v":""},{"$f":"Lists!AF247","v":""},{"$f":"IF(C269=\"\",\"\",SUMIFS(CMS_Deviation!$G$24:$G$1023,CMS_Deviation!$C$24:$C$1023,$C269))","v":""},{"$f":"IF(C269=\"\",\"\",E269/D269)","v":""},{"$f":"IF(C269=\"\",\"\",SUMIFS(CMS_Downtime!$G$24:$G$1023,CMS_Downtime!$C$24:$C$1023,$C269))","v":""},{"$f":"IF(C269=\"\",\"\",G269/D269)","v":""}]
[null,{"$f":"Lists!AD248","v":""},{"$f":"Lists!AE248","v":""},{"$f":"Lists!AF248","v":""},{"$f":"IF(C270=\"\",\"\",SUMIFS(CMS_Deviation!$G$24:$G$1023,CMS_Deviation!$C$24:$C$1023,$C270))","v":""},"",{"$f":"IF(C270=\"\",\"\",SUMIFS(CMS_Downtime!$G$24:$G$1023,CMS_Downtime!$C$24:$C$1023,$C270))","v":""},""]
[null,{"$f":"Lists!AD249","v":""},{"$f":"Lists!AE249","v":""},{"$f":"Lists!AF249","v":""},{"$f":"IF(C271=\"\",\"\",SUMIFS(CMS_Deviation!$G$24:$G$1023,CMS_Deviation!$C$24:$C$1023,$C271))","v":""},"",{"$f":"IF(C271=\"\",\"\",SUMIFS(CMS_Downtime!$G$24:$G$1023,CMS_Downtime!$C$24:$C$1023,$C271))","v":""},""]
[null,{"$f":"Lists!AD250","v":""},{"$f":"Lists!AE250","v":""},{"$f":"Lists!AF250","v":""},{"$f":"IF(C272=\"\",\"\",SUMIFS(CMS_Deviation!$G$24:$G$1023,CMS_Deviation!$C$24:$C$1023,$C272))","v":""},"",{"$f":"IF(C272=\"\",\"\",SUMIFS(CMS_Downtime!$G$24:$G$1023,CMS_Downtime!$C$24:$C$1023,$C272))","v":""},""]
[null,{"$f":"Lists!AD251","v":""},{"$f":"Lists!AE251","v":""},{"$f":"Lists!AF251","v":""},{"$f":"IF(C273=\"\",\"\",SUMIFS(CMS_Deviation!$G$24:$G$1023,CMS_Deviation!$C$24:$C$1023,$C273))","v":""},"",{"$f":"IF(C273=\"\",\"\",SUMIFS(CMS_Downtime!$G$24:$G$1023,CMS_Downtime!$C$24:$C$1023,$C273))","v":""},""]
[null,{"$f":"Lists!AD252","v":""},{"$f":"Lists!AE252","v":""},{"$f":"Lists!AF252","v":""},{"$f":"IF(C274=\"\",\"\",SUMIFS(CMS_Deviation!$G$24:$G$1023,CMS_Deviation!$C$24:$C$1023,$C274))","v":""},"",{"$f":"IF(C274=\"\",\"\",SUMIFS(CMS_Downtime!$G$24:$G$1023,CMS_Downtime!$C$24:$C$1023,$C274))","v":""},""]
[null,{"$f":"Lists!AD253","v":""},{"$f":"Lists!AE253","v":""},{"$f":"Lists!AF253","v":""},{"$f":"IF(C275=\"\",\"\",SUMIFS(CMS_Deviation!$G$24:$G$1023,CMS_Deviation!$C$24:$C$1023,$C275))","v":""},"",{"$f":"IF(C275=\"\",\"\",SUMIFS(CMS_Downtime!$G$24:$G$1023,CMS_Downtime!$C$24:$C$1023,$C275))","v":""},""]
[null,{"$f":"Lists!AD254","v":""},{"$f":"Lists!AE254","v":""},{"$f":"Lists!AF254","v":""},{"$f":"IF(C276=\"\",\"\",SUMIFS(CMS_Deviation!$G$24:$G$1023,CMS_Deviation!$C$24:$C$1023,$C276))","v":""},"",{"$f":"IF(C276=\"\",\"\",SUMIFS(CMS_Downtime!$G$24:$G$1023,CMS_Downtime!$C$24:$C$1023,$C276))","v":""},""]
[null,{"$f":"Lists!AD255","v":""},{"$f":"Lists!AE255","v":""},{"$f":"Lists!AF255","v":""},{"$f":"IF(C277=\"\",\"\",SUMIFS(CMS_Deviation!$G$24:$G$1023,CMS_Deviation!$C$24:$C$1023,$C277))","v":""},"",{"$f":"IF(C277=\"\",\"\",SUMIFS(CMS_Downtime!$G$24:$G$1023,CMS_Downtime!$C$24:$C$1023,$C277))","v":""},""]
[null,{"$f":"Lists!AD256","v":""},{"$f":"Lists!AE256","v":""},{"$f":"Lists!AF256","v":""},{"$f":"IF(C278=\"\",\"\",SUMIFS(CMS_Deviation!$G$24:$G$1023,CMS_Deviation!$C$24:$C$1023,$C278))","v":""},"",{"$f":"IF(C278=\"\",\"\",SUMIFS(CMS_Downtime!$G$24:$G$1023,CMS_Downtime!$C$24:$C$1023,$C278))","v":""},""]
[null,{"$f":"Lists!AD257","v":""},{"$f":"Lists!AE257","v":""},{"$f":"Lists!AF257","v":""},{"$f":"IF(C279=\"\",\"\",SUMIFS(CMS_Deviation!$G$24:$G$1023,CMS_Deviation!$C$24:$C$1023,$C279))","v":""},"",{"$f":"IF(C279=\"\",\"\",SUMIFS(CMS_Downtime!$G$24:$G$1023,CMS_Downtime!$C$24:$C$1023,$C279))","v":""},""]
[null,{"$f":"Lists!AD258","v":""},{"$f":"Lists!AE258","v":""},{"$f":"Lists!AF258","v":""},{"$f":"IF(C280=\"\",\"\",SUMIFS(CMS_Deviation!$G$24:$G$1023,CMS_Deviation!$C$24:$C$1023,$C280))","v":""},"",{"$f":"IF(C280=\"\",\"\",SUMIFS(CMS_Downtime!$G$24:$G$1023,CMS_Downtime!$C$24:$C$1023,$C280))","v":""},""]
[null,{"$f":"Lists!AD259","v":""},{"$f":"Lists!AE259","v":""},{"$f":"Lists!AF259","v":""},{"$f":"IF(C281=\"\",\"\",SUMIFS(CMS_Deviation!$G$24:$G$1023,CMS_Deviation!$C$24:$C$1023,$C281))","v":""},"",{"$f":"IF(C281=\"\",\"\",SUMIFS(CMS_Downtime!$G$24:$G$1023,CMS_Downtime!$C$24:$C$1023,$C281))","v":""},""]
[null,{"$f":"Lists!AD260","v":""},{"$f":"Lists!AE260","v":""},{"$f":"Lists!AF260","v":""},{"$f":"IF(C282=\"\",\"\",SUMIFS(CMS_Deviation!$G$24:$G$1023,CMS_Deviation!$C$24:$C$1023,$C282))","v":""},"",{"$f":"IF(C282=\"\",\"\",SUMIFS(CMS_Downtime!$G$24:$G$1023,CMS_Downtime!$C$24:$C$1023,$C282))","v":""},""]
[null,{"$f":"Lists!AD261","v":""},{"$f":"Lists!AE261","v":""},{"$f":"Lists!AF261","v":""},{"$f":"IF(C283=\"\",\"\",SUMIFS(CMS_Deviation!$G$24:$G$1023,CMS_Deviation!$C$24:$C$1023,$C283))","v":""},"",{"$f":"IF(C283=\"\",\"\",SUMIFS(CMS_Downtime!$G$24:$G$1023,CMS_Downtime!$C$24:$C$1023,$C283))","v":""},""]
[null,{"$f":"Lists!AD262","v":""},{"$f":"Lists!AE262","v":""},{"$f":"Lists!AF262","v":""},{"$f":"IF(C284=\"\",\"\",SUMIFS(CMS_Deviation!$G$24:$G$1023,CMS_Deviation!$C$24:$C$1023,$C284))","v":""},"",{"$f":"IF(C284=\"\",\"\",SUMIFS(CMS_Downtime!$G$24:$G$1023,CMS_Downtime!$C$24:$C$1023,$C284))","v":""},""]
[null,{"$f":"Lists!AD263","v":""},{"$f":"Lists!AE263","v":""},{"$f":"Lists!AF263","v":""},{"$f":"IF(C285=\"\",\"\",SUMIFS(CMS_Deviation!$G$24:$G$1023,CMS_Deviation!$C$24:$C$1023,$C285))","v":""},"",{"$f":"IF(C285=\"\",\"\",SUMIFS(CMS_Downtime!$G$24:$G$1023,CMS_Downtime!$C$24:$C$1023,$C285))","v":""},""]
[null,{"$f":"Lists!AD264","v":""},{"$f":"Lists!AE264","v":""},{"$f":"Lists!AF264","v":""},{"$f":"IF(C286=\"\",\"\",SUMIFS(CMS_Deviation!$G$24:$G$1023,CMS_Deviation!$C$24:$C$1023,$C286))","v":""},"",{"$f":"IF(C286=\"\",\"\",SUMIFS(CMS_Downtime!$G$24:$G$1023,CMS_Downtime!$C$24:$C$1023,$C286))","v":""},""]
[null,{"$f":"Lists!AD265","v":""},{"$f":"Lists!AE265","v":""},{"$f":"Lists!AF265","v":""},{"$f":"IF(C287=\"\",\"\",SUMIFS(CMS_Deviation!$G$24:$G$1023,CMS_Deviation!$C$24:$C$1023,$C287))","v":""},"",{"$f":"IF(C287=\"\",\"\",SUMIFS(CMS_Downtime!$G$24:$G$1023,CMS_Downtime!$C$24:$C$1023,$C287))","v":""},""]
[null,{"$f":"Lists!AD266","v":""},{"$f":"Lists!AE266","v":""},{"$f":"Lists!AF266","v":""},{"$f":"IF(C288=\"\",\"\",SUMIFS(CMS_Deviation!$G$24:$G$1023,CMS_Deviation!$C$24:$C$1023,$C288))","v":""},"",{"$f":"IF(C288=\"\",\"\",SUMIFS(CMS_Downtime!$G$24:$G$1023,CMS_Downtime!$C$24:$C$1023,$C288))","v":""},""]
[null,{"$f":"Lists!AD267","v":""},{"$f":"Lists!AE267","v":""},{"$f":"Lists!AF267","v":""},{"$f":"IF(C289=\"\",\"\",SUMIFS(CMS_Deviation!$G$24:$G$1023,CMS_Deviation!$C$24:$C$1023,$C289))","v":""},"",{"$f":"IF(C289=\"\",\"\",SUMIFS(CMS_Downtime!$G$24:$G$1023,CMS_Downtime!$C$24:$C$1023,$C289))","v":""},""]
[null,{"$f":"Lists!AD268","v":""},{"$f":"Lists!AE268","v":""},{"$f":"Lists!AF268","v":""},{"$f":"IF(C290=\"\",\"\",SUMIFS(CMS_Deviation!$G$24:$G$1023,CMS_Deviation!$C$24:$C$1023,$C290))","v":""},"",{"$f":"IF(C290=\"\",\"\",SUMIFS(CMS_Downtime!$G$24:$G$1023,CMS_Downtime!$C$24:$C$1023,$C290))","v":""},""]
[null,{"$f":"Lists!AD269","v":""},{"$f":"Lists!AE269","v":""},{"$f":"Lists!AF269","v":""},{"$f":"IF(C291=\"\",\"\",SUMIFS(CMS_Deviation!$G$24:$G$1023,CMS_Deviation!$C$24:$C$1023,$C291))","v":""},"",{"$f":"IF(C291=\"\",\"\",SUMIFS(CMS_Downtime!$G$24:$G$1023,CMS_Downtime!$C$24:$C$1023,$C291))","v":""},""]
[null,{"$f":"Lists!AD270","v":""},{"$f":"Lists!AE270","v":""},{"$f":"Lists!AF270","v":""},{"$f":"IF(C292=\"\",\"\",SUMIFS(CMS_Deviation!$G$24:$G$1023,CMS_Deviation!$C$24:$C$1023,$C292))","v":""},"",{"$f":"IF(C292=\"\",\"\",SUMIFS(CMS_Downtime!$G$24:$G$1023,CMS_Downtime!$C$24:$C$1023,$C292))","v":""},""]
[null,{"$f":"Lists!AD271","v":""},{"$f":"Lists!AE271","v":""},{"$f":"Lists!AF271","v":""},{"$f":"IF(C293=\"\",\"\",SUMIFS(CMS_Deviation!$G$24:$G$1023,CMS_Deviation!$C$24:$C$1023,$C293))","v":""},"",{"$f":"IF(C293=\"\",\"\",SUMIFS(CMS_Downtime!$G$24:$G$1023,CMS_Downtime!$C$24:$C$1023,$C293))","v":""},""]
[null,{"$f":"Lists!AD272","v":""},{"$f":"Lists!AE272","v":""},{"$f":"Lists!AF272","v":""},{"$f":"IF(C294=\"\",\"\",SUMIFS(CMS_Deviation!$G$24:$G$1023,CMS_Deviation!$C$24:$C$1023,$C294))","v":""},"",{"$f":"IF(C294=\"\",\"\",SUMIFS(CMS_Downtime!$G$24:$G$1023,CMS_Downtime!$C$24:$C$1023,$C294))","v":""},""]
[null,{"$f":"Lists!AD273","v":""},{"$f":"Lists!AE273","v":""},{"$f":"Lists!AF273","v":""},{"$f":"IF(C295=\"\",\"\",SUMIFS(CMS_Deviation!$G$24:$G$1023,CMS_Deviation!$C$24:$C$1023,$C295))","v":""},"",{"$f":"IF(C295=\"\",\"\",SUMIFS(CMS_Downtime!$G$24:$G$1023,CMS_Downtime!$C$24:$C$1023,$C295))","v":""},""]
[null,{"$f":"Lists!AD274","v":""},{"$f":"Lists!AE274","v":""},{"$f":"Lists!AF274","v":""},{"$f":"IF(C296=\"\",\"\",SUMIFS(CMS_Deviation!$G$24:$G$1023,CMS_Deviation!$C$24:$C$1023,$C296))","v":""},"",{"$f":"IF(C296=\"\",\"\",SUMIFS(CMS_Downtime!$G$24:$G$1023,CMS_Downtime!$C$24:$C$1023,$C296))","v":""},""]
[null,{"$f":"Lists!AD275","v":""},{"$f":"Lists!AE275","v":""},{"$f":"Lists!AF275","v":""},{"$f":"IF(C297=\"\",\"\",SUMIFS(CMS_Deviation!$G$24:$G$1023,CMS_Deviation!$C$24:$C$1023,$C297))","v":""},"",{"$f":"IF(C297=\"\",\"\",SUMIFS(CMS_Downtime!$G$24:$G$1023,CMS_Downtime!$C$24:$C$1023,$C297))","v":""},""]
[null,{"$f":"Lists!AD276","v":""},{"$f":"Lists!AE276","v":""},{"$f":"Lists!AF276","v":""},{"$f":"IF(C298=\"\",\"\",SUMIFS(CMS_Deviation!$G$24:$G$1023,CMS_Deviation!$C$24:$C$1023,$C298))","v":""},"",{"$f":"IF(C298=\"\",\"\",SUMIFS(CMS_Downtime!$G$24:$G$1023,CMS_Downtime!$C$24:$C$1023,$C298))","v":""},""]
[null,{"$f":"Lists!AD277","v":""},{"$f":"Lists!AE277","v":""},{"$f":"Lists!AF277","v":""},{"$f":"IF(C299=\"\",\"\",SUMIFS(CMS_Deviation!$G$24:$G$1023,CMS_Deviation!$C$24:$C$1023,$C299))","v":""},"",{"$f":"IF(C299=\"\",\"\",SUMIFS(CMS_Downtime!$G$24:$G$1023,CMS_Downtime!$C$24:$C$1023,$C299))","v":""},""]
[null,{"$f":"Lists!AD278","v":""},{"$f":"Lists!AE278","v":""},{"$f":"Lists!AF278","v":""},{"$f":"IF(C300=\"\",\"\",SUMIFS(CMS_Deviation!$G$24:$G$1023,CMS_Deviation!$C$24:$C$1023,$C300))","v":""},"",{"$f":"IF(C300=\"\",\"\",SUMIFS(CMS_Downtime!$G$24:$G$1023,CMS_Downtime!$C$24:$C$1023,$C300))","v":""},""]
[null,{"$f":"Lists!AD279","v":""},{"$f":"Lists!AE279","v":""},{"$f":"Lists!AF279","v":""},{"$f":"IF(C301=\"\",\"\",SUMIFS(CMS_Deviation!$G$24:$G$1023,CMS_Deviation!$C$24:$C$1023,$C301))","v":""},"",{"$f":"IF(C301=\"\",\"\",SUMIFS(CMS_Downtime!$G$24:$G$1023,CMS_Downtime!$C$24:$C$1023,$C301))","v":""},""]
[null,{"$f":"Lists!AD280","v":""},{"$f":"Lists!AE280","v":""},{"$f":"Lists!AF280","v":""},{"$f":"IF(C302=\"\",\"\",SUMIFS(CMS_Deviation!$G$24:$G$1023,CMS_Deviation!$C$24:$C$1023,$C302))","v":""},"",{"$f":"IF(C302=\"\",\"\",SUMIFS(CMS_Downtime!$G$24:$G$1023,CMS_Downtime!$C$24:$C$1023,$C302))","v":""},""]
[null,{"$f":"Lists!AD281","v":""},{"$f":"Lists!AE281","v":""},{"$f":"Lists!AF281","v":""},{"$f":"IF(C303=\"\",\"\",SUMIFS(CMS_Deviation!$G$24:$G$1023,CMS_Deviation!$C$24:$C$1023,$C303))","v":""},"",{"$f":"IF(C303=\"\",\"\",SUMIFS(CMS_Downtime!$G$24:$G$1023,CMS_Downtime!$C$24:$C$1023,$C303))","v":""},""]
[null,{"$f":"Lists!AD282","v":""},{"$f":"Lists!AE282","v":""},{"$f":"Lists!AF282","v":""},{"$f":"IF(C304=\"\",\"\",SUMIFS(CMS_Deviation!$G$24:$G$1023,CMS_Deviation!$C$24:$C$1023,$C304))","v":""},"",{"$f":"IF(C304=\"\",\"\",SUMIFS(CMS_Downtime!$G$24:$G$1023,CMS_Downtime!$C$24:$C$1023,$C304))","v":""},""]
[null,{"$f":"Lists!AD283","v":""},{"$f":"Lists!AE283","v":""},{"$f":"Lists!AF283","v":""},{"$f":"IF(C305=\"\",\"\",SUMIFS(CMS_Deviation!$G$24:$G$1023,CMS_Deviation!$C$24:$C$1023,$C305))","v":""},"",{"$f":"IF(C305=\"\",\"\",SUMIFS(CMS_Downtime!$G$24:$G$1023,CMS_Downtime!$C$24:$C$1023,$C305))","v":""},""]
[null,{"$f":"Lists!AD284","v":""},{"$f":"Lists!AE284","v":""},{"$f":"Lists!AF284","v":""},{"$f":"IF(C306=\"\",\"\",SUMIFS(CMS_Deviation!$G$24:$G$1023,CMS_Deviation!$C$24:$C$1023,$C306))","v":""},"",{"$f":"IF(C306=\"\",\"\",SUMIFS(CMS_Downtime!$G$24:$G$1023,CMS_Downtime!$C$24:$C$1023,$C306))","v":""},""]
[null,{"$f":"Lists!AD285","v":""},{"$f":"Lists!AE285","v":""},{"$f":"Lists!AF285","v":""},{"$f":"IF(C307=\"\",\"\",SUMIFS(CMS_Deviation!$G$24:$G$1023,CMS_Deviation!$C$24:$C$1023,$C307))","v":""},"",{"$f":"IF(C307=\"\",\"\",SUMIFS(CMS_Downtime!$G$24:$G$1023,CMS_Downtime!$C$24:$C$1023,$C307))","v":""},""]
[null,{"$f":"Lists!AD286","v":""},{"$f":"Lists!AE286","v":""},{"$f":"Lists!AF286","v":""},{"$f":"IF(C308=\"\",\"\",SUMIFS(CMS_Deviation!$G$24:$G$1023,CMS_Deviation!$C$24:$C$1023,$C308))","v":""},"",{"$f":"IF(C308=\"\",\"\",SUMIFS(CMS_Downtime!$G$24:$G$1023,CMS_Downtime!$C$24:$C$1023,$C308))","v":""},""]
[null,{"$f":"Lists!AD287","v":""},{"$f":"Lists!AE287","v":""},{"$f":"Lists!AF287","v":""},{"$f":"IF(C309=\"\",\"\",SUMIFS(CMS_Deviation!$G$24:$G$1023,CMS_Deviation!$C$24:$C$1023,$C309))","v":""},"",{"$f":"IF(C309=\"\",\"\",SUMIFS(CMS_Downtime!$G$24:$G$1023,CMS_Downtime!$C$24:$C$1023,$C309))","v":""},""]
[null,{"$f":"Lists!AD288","v":""},{"$f":"Lists!AE288","v":""},{"$f":"Lists!AF288","v":""},{"$f":"IF(C310=\"\",\"\",SUMIFS(CMS_Deviation!$G$24:$G$1023,CMS_Deviation!$C$24:$C$1023,$C310))","v":""},"",{"$f":"IF(C310=\"\",\"\",SUMIFS(CMS_Downtime!$G$24:$G$1023,CMS_Downtime!$C$24:$C$1023,$C310))","v":""},""]
[null,{"$f":"Lists!AD289","v":""},{"$f":"Lists!AE289","v":""},{"$f":"Lists!AF289","v":""},{"$f":"IF(C311=\"\",\"\",SUMIFS(CMS_Deviation!$G$24:$G$1023,CMS_Deviation!$C$24:$C$1023,$C311))","v":""},"",{"$f":"IF(C311=\"\",\"\",SUMIFS(CMS_Downtime!$G$24:$G$1023,CMS_Downtime!$C$24:$C$1023,$C311))","v":""},""]
[null,{"$f":"Lists!AD290","v":""},{"$f":"Lists!AE290","v":""},{"$f":"Lists!AF290","v":""},{"$f":"IF(C312=\"\",\"\",SUMIFS(CMS_Deviation!$G$24:$G$1023,CMS_Deviation!$C$24:$C$1023,$C312))","v":""},"",{"$f":"IF(C312=\"\",\"\",SUMIFS(CMS_Downtime!$G$24:$G$1023,CMS_Downtime!$C$24:$C$1023,$C312))","v":""},""]
[null,{"$f":"Lists!AD291","v":""},{"$f":"Lists!AE291","v":""},{"$f":"Lists!AF291","v":""},{"$f":"IF(C313=\"\",\"\",SUMIFS(CMS_Deviation!$G$24:$G$1023,CMS_Deviation!$C$24:$C$1023,$C313))","v":""},"",{"$f":"IF(C313=\"\",\"\",SUMIFS(CMS_Downtime!$G$24:$G$1023,CMS_Downtime!$C$24:$C$1023,$C313))","v":""},""]
[null,{"$f":"Lists!AD292","v":""},{"$f":"Lists!AE292","v":""},{"$f":"Lists!AF292","v":""},{"$f":"IF(C314=\"\",\"\",SUMIFS(CMS_Deviation!$G$24:$G$1023,CMS_Deviation!$C$24:$C$1023,$C314))","v":""},"",{"$f":"IF(C314=\"\",\"\",SUMIFS(CMS_Downtime!$G$24:$G$1023,CMS_Downtime!$C$24:$C$1023,$C314))","v":""},""]
[null,{"$f":"Lists!AD293","v":""},{"$f":"Lists!AE293","v":""},{"$f":"Lists!AF293","v":""},{"$f":"IF(C315=\"\",\"\",SUMIFS(CMS_Deviation!$G$24:$G$1023,CMS_Deviation!$C$24:$C$1023,$C315))","v":""},"",{"$f":"IF(C315=\"\",\"\",SUMIFS(CMS_Downtime!$G$24:$G$1023,CMS_Downtime!$C$24:$C$1023,$C315))","v":""},""]
[null,{"$f":"Lists!AD294","v":""},{"$f":"Lists!AE294","v":""},{"$f":"Lists!AF294","v":""},{"$f":"IF(C316=\"\",\"\",SUMIFS(CMS_Deviation!$G$24:$G$1023,CMS_Deviation!$C$24:$C$1023,$C316))","v":""},"",{"$f":"IF(C316=\"\",\"\",SUMIFS(CMS_Downtime!$G$24:$G$1023,CMS_Downtime!$C$24:$C$1023,$C316))","v":""},""]
[null,{"$f":"Lists!AD295","v":""},{"$f":"Lists!AE295","v":""},{"$f":"Lists!AF295","v":""},{"$f":"IF(C317=\"\",\"\",SUMIFS(CMS_Deviation!$G$24:$G$1023,CMS_Deviation!$C$24:$C$1023,$C317))","v":""},"",{"$f":"IF(C317=\"\",\"\",SUMIFS(CMS_Downtime!$G$24:$G$1023,CMS_Downtime!$C$24:$C$1023,$C317))","v":""},""]
[null,{"$f":"Lists!AD296","v":""},{"$f":"Lists!AE296","v":""},{"$f":"Lists!AF296","v":""},{"$f":"IF(C318=\"\",\"\",SUMIFS(CMS_Deviation!$G$24:$G$1023,CMS_Deviation!$C$24:$C$1023,$C318))","v":""},"",{"$f":"IF(C318=\"\",\"\",SUMIFS(CMS_Downtime!$G$24:$G$1023,CMS_Downtime!$C$24:$C$1023,$C318))","v":""},""]
[null,{"$f":"Lists!AD297","v":""},{"$f":"Lists!AE297","v":""},{"$f":"Lists!AF297","v":""},{"$f":"IF(C319=\"\",\"\",SUMIFS(CMS_Deviation!$G$24:$G$1023,CMS_Deviation!$C$24:$C$1023,$C319))","v":""},"",{"$f":"IF(C319=\"\",\"\",SUMIFS(CMS_Downtime!$G$24:$G$1023,CMS_Downtime!$C$24:$C$1023,$C319))","v":""},""]
[null,{"$f":"Lists!AD298","v":""},{"$f":"Lists!AE298","v":""},{"$f":"Lists!AF298","v":""},{"$f":"IF(C320=\"\",\"\",SUMIFS(CMS_Deviation!$G$24:$G$1023,CMS_Deviation!$C$24:$C$1023,$C320))","v":""},"",{"$f":"IF(C320=\"\",\"\",SUMIFS(CMS_Downtime!$G$24:$G$1023,CMS_Downtime!$C$24:$C$1023,$C320))","v":""},""]
[null,{"$f":"Lists!AD299","v":""},{"$f":"Lists!AE299","v":""},{"$f":"Lists!AF299","v":""},{"$f":"IF(C321=\"\",\"\",SUMIFS(CMS_Deviation!$G$24:$G$1023,CMS_Deviation!$C$24:$C$1023,$C321))","v":""},"",{"$f":"IF(C321=\"\",\"\",SUMIFS(CMS_Downtime!$G$24:$G$1023,CMS_Downtime!$C$24:$C$1023,$C321))","v":""},""]
[null,{"$f":"Lists!AD300","v":""},{"$f":"Lists!AE300","v":""},{"$f":"Lists!AF300","v":""},{"$f":"IF(C322=\"\",\"\",SUMIFS(CMS_Deviation!$G$24:$G$1023,CMS_Deviation!$C$24:$C$1023,$C322))","v":""},"",{"$f":"IF(C322=\"\",\"\",SUMIFS(CMS_Downtime!$G$24:$G$1023,CMS_Downtime!$C$24:$C$1023,$C322))","v":""},""]
[null,{"$f":"Lists!AD301","v":""},{"$f":"Lists!AE301","v":""},{"$f":"Lists!AF301","v":""},{"$f":"IF(C323=\"\",\"\",SUMIFS(CMS_Deviation!$G$24:$G$1023,CMS_Deviation!$C$24:$C$1023,$C323))","v":""},"",{"$f":"IF(C323=\"\",\"\",SUMIFS(CMS_Downtime!$G$24:$G$1023,CMS_Downtime!$C$24:$C$1023,$C323))","v":""},""]
[null,{"$f":"Lists!AD302","v":""},{"$f":"Lists!AE302","v":""},{"$f":"Lists!AF302","v":""},{"$f":"IF(C324=\"\",\"\",SUMIFS(CMS_Deviation!$G$24:$G$1023,CMS_Deviation!$C$24:$C$1023,$C324))","v":""},"",{"$f":"IF(C324=\"\",\"\",SUMIFS(CMS_Downtime!$G$24:$G$1023,CMS_Downtime!$C$24:$C$1023,$C324))","v":""},""]
[null,{"$f":"Lists!AD303","v":""},{"$f":"Lists!AE303","v":""},{"$f":"Lists!AF303","v":""},{"$f":"IF(C325=\"\",\"\",SUMIFS(CMS_Deviation!$G$24:$G$1023,CMS_Deviation!$C$24:$C$1023,$C325))","v":""},"",{"$f":"IF(C325=\"\",\"\",SUMIFS(CMS_Downtime!$G$24:$G$1023,CMS_Downtime!$C$24:$C$1023,$C325))","v":""},""]
[null,{"$f":"Lists!AD304","v":""},{"$f":"Lists!AE304","v":""},{"$f":"Lists!AF304","v":""},{"$f":"IF(C326=\"\",\"\",SUMIFS(CMS_Deviation!$G$24:$G$1023,CMS_Deviation!$C$24:$C$1023,$C326))","v":""},"",{"$f":"IF(C326=\"\",\"\",SUMIFS(CMS_Downtime!$G$24:$G$1023,CMS_Downtime!$C$24:$C$1023,$C326))","v":""},""]
[null,{"$f":"Lists!AD305","v":""},{"$f":"Lists!AE305","v":""},{"$f":"Lists!AF305","v":""},{"$f":"IF(C327=\"\",\"\",SUMIFS(CMS_Deviation!$G$24:$G$1023,CMS_Deviation!$C$24:$C$1023,$C327))","v":""},"",{"$f":"IF(C327=\"\",\"\",SUMIFS(CMS_Downtime!$G$24:$G$1023,CMS_Downtime!$C$24:$C$1023,$C327))","v":""},""]
[null,{"$f":"Lists!AD306","v":""},{"$f":"Lists!AE306","v":""},{"$f":"Lists!AF306","v":""},{"$f":"IF(C328=\"\",\"\",SUMIFS(CMS_Deviation!$G$24:$G$1023,CMS_Deviation!$C$24:$C$1023,$C328))","v":""},"",{"$f":"IF(C328=\"\",\"\",SUMIFS(CMS_Downtime!$G$24:$G$1023,CMS_Downtime!$C$24:$C$1023,$C328))","v":""},""]
[null,{"$f":"Lists!AD307","v":""},{"$f":"Lists!AE307","v":""},{"$f":"Lists!AF307","v":""},{"$f":"IF(C329=\"\",\"\",SUMIFS(CMS_Deviation!$G$24:$G$1023,CMS_Deviation!$C$24:$C$1023,$C329))","v":""},"",{"$f":"IF(C329=\"\",\"\",SUMIFS(CMS_Downtime!$G$24:$G$1023,CMS_Downtime!$C$24:$C$1023,$C329))","v":""},""]
[null,{"$f":"Lists!AD308","v":""},{"$f":"Lists!AE308","v":""},{"$f":"Lists!AF308","v":""},{"$f":"IF(C330=\"\",\"\",SUMIFS(CMS_Deviation!$G$24:$G$1023,CMS_Deviation!$C$24:$C$1023,$C330))","v":""},"",{"$f":"IF(C330=\"\",\"\",SUMIFS(CMS_Downtime!$G$24:$G$1023,CMS_Downtime!$C$24:$C$1023,$C330))","v":""},""]
[null,{"$f":"Lists!AD309","v":""},{"$f":"Lists!AE309","v":""},{"$f":"Lists!AF309","v":""},{"$f":"IF(C331=\"\",\"\",SUMIFS(CMS_Deviation!$G$24:$G$1023,CMS_Deviation!$C$24:$C$1023,$C331))","v":""},"",{"$f":"IF(C331=\"\",\"\",SUMIFS(CMS_Downtime!$G$24:$G$1023,CMS_Downtime!$C$24:$C$1023,$C331))","v":""},""]
[null,{"$f":"Lists!AD310","v":""},{"$f":"Lists!AE310","v":""},{"$f":"Lists!AF310","v":""},{"$f":"IF(C332=\"\",\"\",SUMIFS(CMS_Deviation!$G$24:$G$1023,CMS_Deviation!$C$24:$C$1023,$C332))","v":""},"",{"$f":"IF(C332=\"\",\"\",SUMIFS(CMS_Downtime!$G$24:$G$1023,CMS_Downtime!$C$24:$C$1023,$C332))","v":""},""]
[null,{"$f":"Lists!AD311","v":""},{"$f":"Lists!AE311","v":""},{"$f":"Lists!AF311","v":""},{"$f":"IF(C333=\"\",\"\",SUMIFS(CMS_Deviation!$G$24:$G$1023,CMS_Deviation!$C$24:$C$1023,$C333))","v":""},{"$f":"IF(C333=\"\",\"\",E333/D333)","v":""},{"$f":"IF(C333=\"\",\"\",SUMIFS(CMS_Downtime!$G$24:$G$1023,CMS_Downtime!$C$24:$C$1023,$C333))","v":""},{"$f":"IF(C333=\"\",\"\",G333/D333)","v":""}]
[null,{"$f":"Lists!AD312","v":""},{"$f":"Lists!AE312","v":""},{"$f":"Lists!AF312","v":""},{"$f":"IF(C334=\"\",\"\",SUMIFS(CMS_Deviation!$G$24:$G$1023,CMS_Deviation!$C$24:$C$1023,$C334))","v":""},"",{"$f":"IF(C334=\"\",\"\",SUMIFS(CMS_Downtime!$G$24:$G$1023,CMS_Downtime!$C$24:$C$1023,$C334))","v":""},""]
[null,{"$f":"Lists!AD313","v":""},{"$f":"Lists!AE313","v":""},{"$f":"Lists!AF313","v":""},{"$f":"IF(C335=\"\",\"\",SUMIFS(CMS_Deviation!$G$24:$G$1023,CMS_Deviation!$C$24:$C$1023,$C335))","v":""},"",{"$f":"IF(C335=\"\",\"\",SUMIFS(CMS_Downtime!$G$24:$G$1023,CMS_Downtime!$C$24:$C$1023,$C335))","v":""},""]
[null,{"$f":"Lists!AD314","v":""},{"$f":"Lists!AE314","v":""},{"$f":"Lists!AF314","v":""},{"$f":"IF(C336=\"\",\"\",SUMIFS(CMS_Deviation!$G$24:$G$1023,CMS_Deviation!$C$24:$C$1023,$C336))","v":""},"",{"$f":"IF(C336=\"\",\"\",SUMIFS(CMS_Downtime!$G$24:$G$1023,CMS_Downtime!$C$24:$C$1023,$C336))","v":""},""]
[null,{"$f":"Lists!AD315","v":""},{"$f":"Lists!AE315","v":""},{"$f":"Lists!AF315","v":""},{"$f":"IF(C337=\"\",\"\",SUMIFS(CMS_Deviation!$G$24:$G$1023,CMS_Deviation!$C$24:$C$1023,$C337))","v":""},"",{"$f":"IF(C337=\"\",\"\",SUMIFS(CMS_Downtime!$G$24:$G$1023,CMS_Downtime!$C$24:$C$1023,$C337))","v":""},""]
[null,{"$f":"Lists!AD316","v":""},{"$f":"Lists!AE316","v":""},{"$f":"Lists!AF316","v":""},{"$f":"IF(C338=\"\",\"\",SUMIFS(CMS_Deviation!$G$24:$G$1023,CMS_Deviation!$C$24:$C$1023,$C338))","v":""},"",{"$f":"IF(C338=\"\",\"\",SUMIFS(CMS_Downtime!$G$24:$G$1023,CMS_Downtime!$C$24:$C$1023,$C338))","v":""},""]
[null,{"$f":"Lists!AD317","v":""},{"$f":"Lists!AE317","v":""},{"$f":"Lists!AF317","v":""},{"$f":"IF(C339=\"\",\"\",SUMIFS(CMS_Deviation!$G$24:$G$1023,CMS_Deviation!$C$24:$C$1023,$C339))","v":""},"",{"$f":"IF(C339=\"\",\"\",SUMIFS(CMS_Downtime!$G$24:$G$1023,CMS_Downtime!$C$24:$C$1023,$C339))","v":""},""]
[null,{"$f":"Lists!AD318","v":""},{"$f":"Lists!AE318","v":""},{"$f":"Lists!AF318","v":""},{"$f":"IF(C340=\"\",\"\",SUMIFS(CMS_Deviation!$G$24:$G$1023,CMS_Deviation!$C$24:$C$1023,$C340))","v":""},"",{"$f":"IF(C340=\"\",\"\",SUMIFS(CMS_Downtime!$G$24:$G$1023,CMS_Downtime!$C$24:$C$1023,$C340))","v":""},""]
[null,{"$f":"Lists!AD319","v":""},{"$f":"Lists!AE319","v":""},{"$f":"Lists!AF319","v":""},{"$f":"IF(C341=\"\",\"\",SUMIFS(CMS_Deviation!$G$24:$G$1023,CMS_Deviation!$C$24:$C$1023,$C341))","v":""},"",{"$f":"IF(C341=\"\",\"\",SUMIFS(CMS_Downtime!$G$24:$G$1023,CMS_Downtime!$C$24:$C$1023,$C341))","v":""},""]
[null,{"$f":"Lists!AD320","v":""},{"$f":"Lists!AE320","v":""},{"$f":"Lists!AF320","v":""},{"$f":"IF(C342=\"\",\"\",SUMIFS(CMS_Deviation!$G$24:$G$1023,CMS_Deviation!$C$24:$C$1023,$C342))","v":""},"",{"$f":"IF(C342=\"\",\"\",SUMIFS(CMS_Downtime!$G$24:$G$1023,CMS_Downtime!$C$24:$C$1023,$C342))","v":""},""]
[null,{"$f":"Lists!AD321","v":""},{"$f":"Lists!AE321","v":""},{"$f":"Lists!AF321","v":""},{"$f":"IF(C343=\"\",\"\",SUMIFS(CMS_Deviation!$G$24:$G$1023,CMS_Deviation!$C$24:$C$1023,$C343))","v":""},"",{"$f":"IF(C343=\"\",\"\",SUMIFS(CMS_Downtime!$G$24:$G$1023,CMS_Downtime!$C$24:$C$1023,$C343))","v":""},""]
[null,{"$f":"Lists!AD322","v":""},{"$f":"Lists!AE322","v":""},{"$f":"Lists!AF322","v":""},{"$f":"IF(C344=\"\",\"\",SUMIFS(CMS_Deviation!$G$24:$G$1023,CMS_Deviation!$C$24:$C$1023,$C344))","v":""},"",{"$f":"IF(C344=\"\",\"\",SUMIFS(CMS_Downtime!$G$24:$G$1023,CMS_Downtime!$C$24:$C$1023,$C344))","v":""},""]
[null,{"$f":"Lists!AD323","v":""},{"$f":"Lists!AE323","v":""},{"$f":"Lists!AF323","v":""},{"$f":"IF(C345=\"\",\"\",SUMIFS(CMS_Deviation!$G$24:$G$1023,CMS_Deviation!$C$24:$C$1023,$C345))","v":""},"",{"$f":"IF(C345=\"\",\"\",SUMIFS(CMS_Downtime!$G$24:$G$1023,CMS_Downtime!$C$24:$C$1023,$C345))","v":""},""]
[null,{"$f":"Lists!AD324","v":""},{"$f":"Lists!AE324","v":""},{"$f":"Lists!AF324","v":""},{"$f":"IF(C346=\"\",\"\",SUMIFS(CMS_Deviation!$G$24:$G$1023,CMS_Deviation!$C$24:$C$1023,$C346))","v":""},"",{"$f":"IF(C346=\"\",\"\",SUMIFS(CMS_Downtime!$G$24:$G$1023,CMS_Downtime!$C$24:$C$1023,$C346))","v":""},""]
[null,{"$f":"Lists!AD325","v":""},{"$f":"Lists!AE325","v":""},{"$f":"Lists!AF325","v":""},{"$f":"IF(C347=\"\",\"\",SUMIFS(CMS_Deviation!$G$24:$G$1023,CMS_Deviation!$C$24:$C$1023,$C347))","v":""},"",{"$f":"IF(C347=\"\",\"\",SUMIFS(CMS_Downtime!$G$24:$G$1023,CMS_Downtime!$C$24:$C$1023,$C347))","v":""},""]
[null,{"$f":"Lists!AD326","v":""},{"$f":"Lists!AE326","v":""},{"$f":"Lists!AF326","v":""},{"$f":"IF(C348=\"\",\"\",SUMIFS(CMS_Deviation!$G$24:$G$1023,CMS_Deviation!$C$24:$C$1023,$C348))","v":""},"",{"$f":"IF(C348=\"\",\"\",SUMIFS(CMS_Downtime!$G$24:$G$1023,CMS_Downtime!$C$24:$C$1023,$C348))","v":""},""]
[null,{"$f":"Lists!AD327","v":""},{"$f":"Lists!AE327","v":""},{"$f":"Lists!AF327","v":""},{"$f":"IF(C349=\"\",\"\",SUMIFS(CMS_Deviation!$G$24:$G$1023,CMS_Deviation!$C$24:$C$1023,$C349))","v":""},"",{"$f":"IF(C349=\"\",\"\",SUMIFS(CMS_Downtime!$G$24:$G$1023,CMS_Downtime!$C$24:$C$1023,$C349))","v":""},""]
[null,{"$f":"Lists!AD328","v":""},{"$f":"Lists!AE328","v":""},{"$f":"Lists!AF328","v":""},{"$f":"IF(C350=\"\",\"\",SUMIFS(CMS_Deviation!$G$24:$G$1023,CMS_Deviation!$C$24:$C$1023,$C350))","v":""},"",{"$f":"IF(C350=\"\",\"\",SUMIFS(CMS_Downtime!$G$24:$G$1023,CMS_Downtime!$C$24:$C$1023,$C350))","v":""},""]
[null,{"$f":"Lists!AD329","v":""},{"$f":"Lists!AE329","v":""},{"$f":"Lists!AF329","v":""},{"$f":"IF(C351=\"\",\"\",SUMIFS(CMS_Deviation!$G$24:$G$1023,CMS_Deviation!$C$24:$C$1023,$C351))","v":""},"",{"$f":"IF(C351=\"\",\"\",SUMIFS(CMS_Downtime!$G$24:$G$1023,CMS_Downtime!$C$24:$C$1023,$C351))","v":""},""]
[null,{"$f":"Lists!AD330","v":""},{"$f":"Lists!AE330","v":""},{"$f":"Lists!AF330","v":""},{"$f":"IF(C352=\"\",\"\",SUMIFS(CMS_Deviation!$G$24:$G$1023,CMS_Deviation!$C$24:$C$1023,$C352))","v":""},"",{"$f":"IF(C352=\"\",\"\",SUMIFS(CMS_Downtime!$G$24:$G$1023,CMS_Downtime!$C$24:$C$1023,$C352))","v":""},""]
[null,{"$f":"Lists!AD331","v":""},{"$f":"Lists!AE331","v":""},{"$f":"Lists!AF331","v":""},{"$f":"IF(C353=\"\",\"\",SUMIFS(CMS_Deviation!$G$24:$G$1023,CMS_Deviation!$C$24:$C$1023,$C353))","v":""},"",{"$f":"IF(C353=\"\",\"\",SUMIFS(CMS_Downtime!$G$24:$G$1023,CMS_Downtime!$C$24:$C$1023,$C353))","v":""},""]
[null,{"$f":"Lists!AD332","v":""},{"$f":"Lists!AE332","v":""},{"$f":"Lists!AF332","v":""},{"$f":"IF(C354=\"\",\"\",SUMIFS(CMS_Deviation!$G$24:$G$1023,CMS_Deviation!$C$24:$C$1023,$C354))","v":""},"",{"$f":"IF(C354=\"\",\"\",SUMIFS(CMS_Downtime!$G$24:$G$1023,CMS_Downtime!$C$24:$C$1023,$C354))","v":""},""]
[null,{"$f":"Lists!AD333","v":""},{"$f":"Lists!AE333","v":""},{"$f":"Lists!AF333","v":""},{"$f":"IF(C355=\"\",\"\",SUMIFS(CMS_Deviation!$G$24:$G$1023,CMS_Deviation!$C$24:$C$1023,$C355))","v":""},"",{"$f":"IF(C355=\"\",\"\",SUMIFS(CMS_Downtime!$G$24:$G$1023,CMS_Downtime!$C$24:$C$1023,$C355))","v":""},""]
[null,{"$f":"Lists!AD334","v":""},{"$f":"Lists!AE334","v":""},{"$f":"Lists!AF334","v":""},{"$f":"IF(C356=\"\",\"\",SUMIFS(CMS_Deviation!$G$24:$G$1023,CMS_Deviation!$C$24:$C$1023,$C356))","v":""},"",{"$f":"IF(C356=\"\",\"\",SUMIFS(CMS_Downtime!$G$24:$G$1023,CMS_Downtime!$C$24:$C$1023,$C356))","v":""},""]
[null,{"$f":"Lists!AD335","v":""},{"$f":"Lists!AE335","v":""},{"$f":"Lists!AF335","v":""},{"$f":"IF(C357=\"\",\"\",SUMIFS(CMS_Deviation!$G$24:$G$1023,CMS_Deviation!$C$24:$C$1023,$C357))","v":""},"",{"$f":"IF(C357=\"\",\"\",SUMIFS(CMS_Downtime!$G$24:$G$1023,CMS_Downtime!$C$24:$C$1023,$C357))","v":""},""]
[null,{"$f":"Lists!AD336","v":""},{"$f":"Lists!AE336","v":""},{"$f":"Lists!AF336","v":""},{"$f":"IF(C358=\"\",\"\",SUMIFS(CMS_Deviation!$G$24:$G$1023,CMS_Deviation!$C$24:$C$1023,$C358))","v":""},"",{"$f":"IF(C358=\"\",\"\",SUMIFS(CMS_Downtime!$G$24:$G$1023,CMS_Downtime!$C$24:$C$1023,$C358))","v":""},""]
[null,{"$f":"Lists!AD337","v":""},{"$f":"Lists!AE337","v":""},{"$f":"Lists!AF337","v":""},{"$f":"IF(C359=\"\",\"\",SUMIFS(CMS_Deviation!$G$24:$G$1023,CMS_Deviation!$C$24:$C$1023,$C359))","v":""},"",{"$f":"IF(C359=\"\",\"\",SUMIFS(CMS_Downtime!$G$24:$G$1023,CMS_Downtime!$C$24:$C$1023,$C359))","v":""},""]
[null,{"$f":"Lists!AD338","v":""},{"$f":"Lists!AE338","v":""},{"$f":"Lists!AF338","v":""},{"$f":"IF(C360=\"\",\"\",SUMIFS(CMS_Deviation!$G$24:$G$1023,CMS_Deviation!$C$24:$C$1023,$C360))","v":""},"",{"$f":"IF(C360=\"\",\"\",SUMIFS(CMS_Downtime!$G$24:$G$1023,CMS_Downtime!$C$24:$C$1023,$C360))","v":""},""]
[null,{"$f":"Lists!AD339","v":""},{"$f":"Lists!AE339","v":""},{"$f":"Lists!AF339","v":""},{"$f":"IF(C361=\"\",\"\",SUMIFS(CMS_Deviation!$G$24:$G$1023,CMS_Deviation!$C$24:$C$1023,$C361))","v":""},"",{"$f":"IF(C361=\"\",\"\",SUMIFS(CMS_Downtime!$G$24:$G$1023,CMS_Downtime!$C$24:$C$1023,$C361))","v":""},""]
[null,{"$f":"Lists!AD340","v":""},{"$f":"Lists!AE340","v":""},{"$f":"Lists!AF340","v":""},{"$f":"IF(C362=\"\",\"\",SUMIFS(CMS_Deviation!$G$24:$G$1023,CMS_Deviation!$C$24:$C$1023,$C362))","v":""},"",{"$f":"IF(C362=\"\",\"\",SUMIFS(CMS_Downtime!$G$24:$G$1023,CMS_Downtime!$C$24:$C$1023,$C362))","v":""},""]
[null,{"$f":"Lists!AD341","v":""},{"$f":"Lists!AE341","v":""},{"$f":"Lists!AF341","v":""},{"$f":"IF(C363=\"\",\"\",SUMIFS(CMS_Deviation!$G$24:$G$1023,CMS_Deviation!$C$24:$C$1023,$C363))","v":""},"",{"$f":"IF(C363=\"\",\"\",SUMIFS(CMS_Downtime!$G$24:$G$1023,CMS_Downtime!$C$24:$C$1023,$C363))","v":""},""]
[null,{"$f":"Lists!AD342","v":""},{"$f":"Lists!AE342","v":""},{"$f":"Lists!AF342","v":""},{"$f":"IF(C364=\"\",\"\",SUMIFS(CMS_Deviation!$G$24:$G$1023,CMS_Deviation!$C$24:$C$1023,$C364))","v":""},"",{"$f":"IF(C364=\"\",\"\",SUMIFS(CMS_Downtime!$G$24:$G$1023,CMS_Downtime!$C$24:$C$1023,$C364))","v":""},""]
[null,{"$f":"Lists!AD343","v":""},{"$f":"Lists!AE343","v":""},{"$f":"Lists!AF343","v":""},{"$f":"IF(C365=\"\",\"\",SUMIFS(CMS_Deviation!$G$24:$G$1023,CMS_Deviation!$C$24:$C$1023,$C365))","v":""},"",{"$f":"IF(C365=\"\",\"\",SUMIFS(CMS_Downtime!$G$24:$G$1023,CMS_Downtime!$C$24:$C$1023,$C365))","v":""},""]
[null,{"$f":"Lists!AD344","v":""},{"$f":"Lists!AE344","v":""},{"$f":"Lists!AF344","v":""},{"$f":"IF(C366=\"\",\"\",SUMIFS(CMS_Deviation!$G$24:$G$1023,CMS_Deviation!$C$24:$C$1023,$C366))","v":""},"",{"$f":"IF(C366=\"\",\"\",SUMIFS(CMS_Downtime!$G$24:$G$1023,CMS_Downtime!$C$24:$C$1023,$C366))","v":""},""]
[null,{"$f":"Lists!AD345","v":""},{"$f":"Lists!AE345","v":""},{"$f":"Lists!AF345","v":""},{"$f":"IF(C367=\"\",\"\",SUMIFS(CMS_Deviation!$G$24:$G$1023,CMS_Deviation!$C$24:$C$1023,$C367))","v":""},"",{"$f":"IF(C367=\"\",\"\",SUMIFS(CMS_Downtime!$G$24:$G$1023,CMS_Downtime!$C$24:$C$1023,$C367))","v":""},""]
[null,{"$f":"Lists!AD346","v":""},{"$f":"Lists!AE346","v":""},{"$f":"Lists!AF346","v":""},{"$f":"IF(C368=\"\",\"\",SUMIFS(CMS_Deviation!$G$24:$G$1023,CMS_Deviation!$C$24:$C$1023,$C368))","v":""},"",{"$f":"IF(C368=\"\",\"\",SUMIFS(CMS_Downtime!$G$24:$G$1023,CMS_Downtime!$C$24:$C$1023,$C368))","v":""},""]
[null,{"$f":"Lists!AD347","v":""},{"$f":"Lists!AE347","v":""},{"$f":"Lists!AF347","v":""},{"$f":"IF(C369=\"\",\"\",SUMIFS(CMS_Deviation!$G$24:$G$1023,CMS_Deviation!$C$24:$C$1023,$C369))","v":""},"",{"$f":"IF(C369=\"\",\"\",SUMIFS(CMS_Downtime!$G$24:$G$1023,CMS_Downtime!$C$24:$C$1023,$C369))","v":""},""]
[null,{"$f":"Lists!AD348","v":""},{"$f":"Lists!AE348","v":""},{"$f":"Lists!AF348","v":""},{"$f":"IF(C370=\"\",\"\",SUMIFS(CMS_Deviation!$G$24:$G$1023,CMS_Deviation!$C$24:$C$1023,$C370))","v":""},"",{"$f":"IF(C370=\"\",\"\",SUMIFS(CMS_Downtime!$G$24:$G$1023,CMS_Downtime!$C$24:$C$1023,$C370))","v":""},""]
[null,{"$f":"Lists!AD349","v":""},{"$f":"Lists!AE349","v":""},{"$f":"Lists!AF349","v":""},{"$f":"IF(C371=\"\",\"\",SUMIFS(CMS_Deviation!$G$24:$G$1023,CMS_Deviation!$C$24:$C$1023,$C371))","v":""},"",{"$f":"IF(C371=\"\",\"\",SUMIFS(CMS_Downtime!$G$24:$G$1023,CMS_Downtime!$C$24:$C$1023,$C371))","v":""},""]
[null,{"$f":"Lists!AD350","v":""},{"$f":"Lists!AE350","v":""},{"$f":"Lists!AF350","v":""},{"$f":"IF(C372=\"\",\"\",SUMIFS(CMS_Deviation!$G$24:$G$1023,CMS_Deviation!$C$24:$C$1023,$C372))","v":""},"",{"$f":"IF(C372=\"\",\"\",SUMIFS(CMS_Downtime!$G$24:$G$1023,CMS_Downtime!$C$24:$C$1023,$C372))","v":""},""]
[null,{"$f":"Lists!AD351","v":""},{"$f":"Lists!AE351","v":""},{"$f":"Lists!AF351","v":""},{"$f":"IF(C373=\"\",\"\",SUMIFS(CMS_Deviation!$G$24:$G$1023,CMS_Deviation!$C$24:$C$1023,$C373))","v":""},"",{"$f":"IF(C373=\"\",\"\",SUMIFS(CMS_Downtime!$G$24:$G$1023,CMS_Downtime!$C$24:$C$1023,$C373))","v":""},""]
[null,{"$f":"Lists!AD352","v":""},{"$f":"Lists!AE352","v":""},{"$f":"Lists!AF352","v":""},{"$f":"IF(C374=\"\",\"\",SUMIFS(CMS_Deviation!$G$24:$G$1023,CMS_Deviation!$C$24:$C$1023,$C374))","v":""},"",{"$f":"IF(C374=\"\",\"\",SUMIFS(CMS_Downtime!$G$24:$G$1023,CMS_Downtime!$C$24:$C$1023,$C374))","v":""},""]
[null,{"$f":"Lists!AD353","v":""},{"$f":"Lists!AE353","v":""},{"$f":"Lists!AF353","v":""},{"$f":"IF(C375=\"\",\"\",SUMIFS(CMS_Deviation!$G$24:$G$1023,CMS_Deviation!$C$24:$C$1023,$C375))","v":""},"",{"$f":"IF(C375=\"\",\"\",SUMIFS(CMS_Downtime!$G$24:$G$1023,CMS_Downtime!$C$24:$C$1023,$C375))","v":""},""]
[null,{"$f":"Lists!AD354","v":""},{"$f":"Lists!AE354","v":""},{"$f":"Lists!AF354","v":""},{"$f":"IF(C376=\"\",\"\",SUMIFS(CMS_Deviation!$G$24:$G$1023,CMS_Deviation!$C$24:$C$1023,$C376))","v":""},"",{"$f":"IF(C376=\"\",\"\",SUMIFS(CMS_Downtime!$G$24:$G$1023,CMS_Downtime!$C$24:$C$1023,$C376))","v":""},""]
[null,{"$f":"Lists!AD355","v":""},{"$f":"Lists!AE355","v":""},{"$f":"Lists!AF355","v":""},{"$f":"IF(C377=\"\",\"\",SUMIFS(CMS_Deviation!$G$24:$G$1023,CMS_Deviation!$C$24:$C$1023,$C377))","v":""},"",{"$f":"IF(C377=\"\",\"\",SUMIFS(CMS_Downtime!$G$24:$G$1023,CMS_Downtime!$C$24:$C$1023,$C377))","v":""},""]
[null,{"$f":"Lists!AD356","v":""},{"$f":"Lists!AE356","v":""},{"$f":"Lists!AF356","v":""},{"$f":"IF(C378=\"\",\"\",SUMIFS(CMS_Deviation!$G$24:$G$1023,CMS_Deviation!$C$24:$C$1023,$C378))","v":""},"",{"$f":"IF(C378=\"\",\"\",SUMIFS(CMS_Downtime!$G$24:$G$1023,CMS_Downtime!$C$24:$C$1023,$C378))","v":""},""]
[null,{"$f":"Lists!AD357","v":""},{"$f":"Lists!AE357","v":""},{"$f":"Lists!AF357","v":""},{"$f":"IF(C379=\"\",\"\",SUMIFS(CMS_Deviation!$G$24:$G$1023,CMS_Deviation!$C$24:$C$1023,$C379))","v":""},"",{"$f":"IF(C379=\"\",\"\",SUMIFS(CMS_Downtime!$G$24:$G$1023,CMS_Downtime!$C$24:$C$1023,$C379))","v":""},""]
[null,{"$f":"Lists!AD358","v":""},{"$f":"Lists!AE358","v":""},{"$f":"Lists!AF358","v":""},{"$f":"IF(C380=\"\",\"\",SUMIFS(CMS_Deviation!$G$24:$G$1023,CMS_Deviation!$C$24:$C$1023,$C380))","v":""},"",{"$f":"IF(C380=\"\",\"\",SUMIFS(CMS_Downtime!$G$24:$G$1023,CMS_Downtime!$C$24:$C$1023,$C380))","v":""},""]
[null,{"$f":"Lists!AD359","v":""},{"$f":"Lists!AE359","v":""},{"$f":"Lists!AF359","v":""},{"$f":"IF(C381=\"\",\"\",SUMIFS(CMS_Deviation!$G$24:$G$1023,CMS_Deviation!$C$24:$C$1023,$C381))","v":""},"",{"$f":"IF(C381=\"\",\"\",SUMIFS(CMS_Downtime!$G$24:$G$1023,CMS_Downtime!$C$24:$C$1023,$C381))","v":""},""]
[null,{"$f":"Lists!AD360","v":""},{"$f":"Lists!AE360","v":""},{"$f":"Lists!AF360","v":""},{"$f":"IF(C382=\"\",\"\",SUMIFS(CMS_Deviation!$G$24:$G$1023,CMS_Deviation!$C$24:$C$1023,$C382))","v":""},"",{"$f":"IF(C382=\"\",\"\",SUMIFS(CMS_Downtime!$G$24:$G$1023,CMS_Downtime!$C$24:$C$1023,$C382))","v":""},""]
[null,{"$f":"Lists!AD361","v":""},{"$f":"Lists!AE361","v":""},{"$f":"Lists!AF361","v":""},{"$f":"IF(C383=\"\",\"\",SUMIFS(CMS_Deviation!$G$24:$G$1023,CMS_Deviation!$C$24:$C$1023,$C383))","v":""},"",{"$f":"IF(C383=\"\",\"\",SUMIFS(CMS_Downtime!$G$24:$G$1023,CMS_Downtime!$C$24:$C$1023,$C383))","v":""},""]
[null,{"$f":"Lists!AD362","v":""},{"$f":"Lists!AE362","v":""},{"$f":"Lists!AF362","v":""},{"$f":"IF(C384=\"\",\"\",SUMIFS(CMS_Deviation!$G$24:$G$1023,CMS_Deviation!$C$24:$C$1023,$C384))","v":""},"",{"$f":"IF(C384=\"\",\"\",SUMIFS(CMS_Downtime!$G$24:$G$1023,CMS_Downtime!$C$24:$C$1023,$C384))","v":""},""]
[null,{"$f":"Lists!AD363","v":""},{"$f":"Lists!AE363","v":""},{"$f":"Lists!AF363","v":""},{"$f":"IF(C385=\"\",\"\",SUMIFS(CMS_Deviation!$G$24:$G$1023,CMS_Deviation!$C$24:$C$1023,$C385))","v":""},"",{"$f":"IF(C385=\"\",\"\",SUMIFS(CMS_Downtime!$G$24:$G$1023,CMS_Downtime!$C$24:$C$1023,$C385))","v":""},""]
[null,{"$f":"Lists!AD364","v":""},{"$f":"Lists!AE364","v":""},{"$f":"Lists!AF364","v":""},{"$f":"IF(C386=\"\",\"\",SUMIFS(CMS_Deviation!$G$24:$G$1023,CMS_Deviation!$C$24:$C$1023,$C386))","v":""},"",{"$f":"IF(C386=\"\",\"\",SUMIFS(CMS_Downtime!$G$24:$G$1023,CMS_Downtime!$C$24:$C$1023,$C386))","v":""},""]
[null,{"$f":"Lists!AD365","v":""},{"$f":"Lists!AE365","v":""},{"$f":"Lists!AF365","v":""},{"$f":"IF(C387=\"\",\"\",SUMIFS(CMS_Deviation!$G$24:$G$1023,CMS_Deviation!$C$24:$C$1023,$C387))","v":""},"",{"$f":"IF(C387=\"\",\"\",SUMIFS(CMS_Downtime!$G$24:$G$1023,CMS_Downtime!$C$24:$C$1023,$C387))","v":""},""]
[null,{"$f":"Lists!AD366","v":""},{"$f":"Lists!AE366","v":""},{"$f":"Lists!AF366","v":""},{"$f":"IF(C388=\"\",\"\",SUMIFS(CMS_Deviation!$G$24:$G$1023,CMS_Deviation!$C$24:$C$1023,$C388))","v":""},"",{"$f":"IF(C388=\"\",\"\",SUMIFS(CMS_Downtime!$G$24:$G$1023,CMS_Downtime!$C$24:$C$1023,$C388))","v":""},""]
[null,{"$f":"Lists!AD367","v":""},{"$f":"Lists!AE367","v":""},{"$f":"Lists!AF367","v":""},{"$f":"IF(C389=\"\",\"\",SUMIFS(CMS_Deviation!$G$24:$G$1023,CMS_Deviation!$C$24:$C$1023,$C389))","v":""},"",{"$f":"IF(C389=\"\",\"\",SUMIFS(CMS_Downtime!$G$24:$G$1023,CMS_Downtime!$C$24:$C$1023,$C389))","v":""},""]
[null,{"$f":"Lists!AD368","v":""},{"$f":"Lists!AE368","v":""},{"$f":"Lists!AF368","v":""},{"$f":"IF(C390=\"\",\"\",SUMIFS(CMS_Deviation!$G$24:$G$1023,CMS_Deviation!$C$24:$C$1023,$C390))","v":""},"",{"$f":"IF(C390=\"\",\"\",SUMIFS(CMS_Downtime!$G$24:$G$1023,CMS_Downtime!$C$24:$C$1023,$C390))","v":""},""]
[null,{"$f":"Lists!AD369","v":""},{"$f":"Lists!AE369","v":""},{"$f":"Lists!AF369","v":""},{"$f":"IF(C391=\"\",\"\",SUMIFS(CMS_Deviation!$G$24:$G$1023,CMS_Deviation!$C$24:$C$1023,$C391))","v":""},"",{"$f":"IF(C391=\"\",\"\",SUMIFS(CMS_Downtime!$G$24:$G$1023,CMS_Downtime!$C$24:$C$1023,$C391))","v":""},""]
[null,{"$f":"Lists!AD370","v":""},{"$f":"Lists!AE370","v":""},{"$f":"Lists!AF370","v":""},{"$f":"IF(C392=\"\",\"\",SUMIFS(CMS_Deviation!$G$24:$G$1023,CMS_Deviation!$C$24:$C$1023,$C392))","v":""},"",{"$f":"IF(C392=\"\",\"\",SUMIFS(CMS_Downtime!$G$24:$G$1023,CMS_Downtime!$C$24:$C$1023,$C392))","v":""},""]
[null,{"$f":"Lists!AD371","v":""},{"$f":"Lists!AE371","v":""},{"$f":"Lists!AF371","v":""},{"$f":"IF(C393=\"\",\"\",SUMIFS(CMS_Deviation!$G$24:$G$1023,CMS_Deviation!$C$24:$C$1023,$C393))","v":""},"",{"$f":"IF(C393=\"\",\"\",SUMIFS(CMS_Downtime!$G$24:$G$1023,CMS_Downtime!$C$24:$C$1023,$C393))","v":""},""]
[null,{"$f":"Lists!AD372","v":""},{"$f":"Lists!AE372","v":""},{"$f":"Lists!AF372","v":""},{"$f":"IF(C394=\"\",\"\",SUMIFS(CMS_Deviation!$G$24:$G$1023,CMS_Deviation!$C$24:$C$1023,$C394))","v":""},"",{"$f":"IF(C394=\"\",\"\",SUMIFS(CMS_Downtime!$G$24:$G$1023,CMS_Downtime!$C$24:$C$1023,$C394))","v":""},""]
[null,{"$f":"Lists!AD373","v":""},{"$f":"Lists!AE373","v":""},{"$f":"Lists!AF373","v":""},{"$f":"IF(C395=\"\",\"\",SUMIFS(CMS_Deviation!$G$24:$G$1023,CMS_Deviation!$C$24:$C$1023,$C395))","v":""},"",{"$f":"IF(C395=\"\",\"\",SUMIFS(CMS_Downtime!$G$24:$G$1023,CMS_Downtime!$C$24:$C$1023,$C395))","v":""},""]
[null,{"$f":"Lists!AD374","v":""},{"$f":"Lists!AE374","v":""},{"$f":"Lists!AF374","v":""},{"$f":"IF(C396=\"\",\"\",SUMIFS(CMS_Deviation!$G$24:$G$1023,CMS_Deviation!$C$24:$C$1023,$C396))","v":""},"",{"$f":"IF(C396=\"\",\"\",SUMIFS(CMS_Downtime!$G$24:$G$1023,CMS_Downtime!$C$24:$C$1023,$C396))","v":""},""]
[null,{"$f":"Lists!AD375","v":""},{"$f":"Lists!AE375","v":""},{"$f":"Lists!AF375","v":""},{"$f":"IF(C397=\"\",\"\",SUMIFS(CMS_Deviation!$G$24:$G$1023,CMS_Deviation!$C$24:$C$1023,$C397))","v":""},{"$f":"IF(C397=\"\",\"\",E397/D397)","v":""},{"$f":"IF(C397=\"\",\"\",SUMIFS(CMS_Downtime!$G$24:$G$1023,CMS_Downtime!$C$24:$C$1023,$C397))","v":""},{"$f":"IF(C397=\"\",\"\",G397/D397)","v":""}]
[null,{"$f":"Lists!AD376","v":""},{"$f":"Lists!AE376","v":""},{"$f":"Lists!AF376","v":""},{"$f":"IF(C398=\"\",\"\",SUMIFS(CMS_Deviation!$G$24:$G$1023,CMS_Deviation!$C$24:$C$1023,$C398))","v":""},"",{"$f":"IF(C398=\"\",\"\",SUMIFS(CMS_Downtime!$G$24:$G$1023,CMS_Downtime!$C$24:$C$1023,$C398))","v":""},""]
[null,{"$f":"Lists!AD377","v":""},{"$f":"Lists!AE377","v":""},{"$f":"Lists!AF377","v":""},{"$f":"IF(C399=\"\",\"\",SUMIFS(CMS_Deviation!$G$24:$G$1023,CMS_Deviation!$C$24:$C$1023,$C399))","v":""},"",{"$f":"IF(C399=\"\",\"\",SUMIFS(CMS_Downtime!$G$24:$G$1023,CMS_Downtime!$C$24:$C$1023,$C399))","v":""},""]
[null,{"$f":"Lists!AD378","v":""},{"$f":"Lists!AE378","v":""},{"$f":"Lists!AF378","v":""},{"$f":"IF(C400=\"\",\"\",SUMIFS(CMS_Deviation!$G$24:$G$1023,CMS_Deviation!$C$24:$C$1023,$C400))","v":""},"",{"$f":"IF(C400=\"\",\"\",SUMIFS(CMS_Downtime!$G$24:$G$1023,CMS_Downtime!$C$24:$C$1023,$C400))","v":""},""]
[null,{"$f":"Lists!AD379","v":""},{"$f":"Lists!AE379","v":""},{"$f":"Lists!AF379","v":""},{"$f":"IF(C401=\"\",\"\",SUMIFS(CMS_Deviation!$G$24:$G$1023,CMS_Deviation!$C$24:$C$1023,$C401))","v":""},"",{"$f":"IF(C401=\"\",\"\",SUMIFS(CMS_Downtime!$G$24:$G$1023,CMS_Downtime!$C$24:$C$1023,$C401))","v":""},""]
[null,{"$f":"Lists!AD380","v":""},{"$f":"Lists!AE380","v":""},{"$f":"Lists!AF380","v":""},{"$f":"IF(C402=\"\",\"\",SUMIFS(CMS_Deviation!$G$24:$G$1023,CMS_Deviation!$C$24:$C$1023,$C402))","v":""},"",{"$f":"IF(C402=\"\",\"\",SUMIFS(CMS_Downtime!$G$24:$G$1023,CMS_Downtime!$C$24:$C$1023,$C402))","v":""},""]
[null,{"$f":"Lists!AD381","v":""},{"$f":"Lists!AE381","v":""},{"$f":"Lists!AF381","v":""},{"$f":"IF(C403=\"\",\"\",SUMIFS(CMS_Deviation!$G$24:$G$1023,CMS_Deviation!$C$24:$C$1023,$C403))","v":""},"",{"$f":"IF(C403=\"\",\"\",SUMIFS(CMS_Downtime!$G$24:$G$1023,CMS_Downtime!$C$24:$C$1023,$C403))","v":""},""]
[null,{"$f":"Lists!AD382","v":""},{"$f":"Lists!AE382","v":""},{"$f":"Lists!AF382","v":""},{"$f":"IF(C404=\"\",\"\",SUMIFS(CMS_Deviation!$G$24:$G$1023,CMS_Deviation!$C$24:$C$1023,$C404))","v":""},"",{"$f":"IF(C404=\"\",\"\",SUMIFS(CMS_Downtime!$G$24:$G$1023,CMS_Downtime!$C$24:$C$1023,$C404))","v":""},""]
[null,{"$f":"Lists!AD383","v":""},{"$f":"Lists!AE383","v":""},{"$f":"Lists!AF383","v":""},{"$f":"IF(C405=\"\",\"\",SUMIFS(CMS_Deviation!$G$24:$G$1023,CMS_Deviation!$C$24:$C$1023,$C405))","v":""},"",{"$f":"IF(C405=\"\",\"\",SUMIFS(CMS_Downtime!$G$24:$G$1023,CMS_Downtime!$C$24:$C$1023,$C405))","v":""},""]
[null,{"$f":"Lists!AD384","v":""},{"$f":"Lists!AE384","v":""},{"$f":"Lists!AF384","v":""},{"$f":"IF(C406=\"\",\"\",SUMIFS(CMS_Deviation!$G$24:$G$1023,CMS_Deviation!$C$24:$C$1023,$C406))","v":""},"",{"$f":"IF(C406=\"\",\"\",SUMIFS(CMS_Downtime!$G$24:$G$1023,CMS_Downtime!$C$24:$C$1023,$C406))","v":""},""]
[null,{"$f":"Lists!AD385","v":""},{"$f":"Lists!AE385","v":""},{"$f":"Lists!AF385","v":""},{"$f":"IF(C407=\"\",\"\",SUMIFS(CMS_Deviation!$G$24:$G$1023,CMS_Deviation!$C$24:$C$1023,$C407))","v":""},"",{"$f":"IF(C407=\"\",\"\",SUMIFS(CMS_Downtime!$G$24:$G$1023,CMS_Downtime!$C$24:$C$1023,$C407))","v":""},""]
[null,{"$f":"Lists!AD386","v":""},{"$f":"Lists!AE386","v":""},{"$f":"Lists!AF386","v":""},{"$f":"IF(C408=\"\",\"\",SUMIFS(CMS_Deviation!$G$24:$G$1023,CMS_Deviation!$C$24:$C$1023,$C408))","v":""},"",{"$f":"IF(C408=\"\",\"\",SUMIFS(CMS_Downtime!$G$24:$G$1023,CMS_Downtime!$C$24:$C$1023,$C408))","v":""},""]
[null,{"$f":"Lists!AD387","v":""},{"$f":"Lists!AE387","v":""},{"$f":"Lists!AF387","v":""},{"$f":"IF(C409=\"\",\"\",SUMIFS(CMS_Deviation!$G$24:$G$1023,CMS_Deviation!$C$24:$C$1023,$C409))","v":""},"",{"$f":"IF(C409=\"\",\"\",SUMIFS(CMS_Downtime!$G$24:$G$1023,CMS_Downtime!$C$24:$C$1023,$C409))","v":""},""]
[null,{"$f":"Lists!AD388","v":""},{"$f":"Lists!AE388","v":""},{"$f":"Lists!AF388","v":""},{"$f":"IF(C410=\"\",\"\",SUMIFS(CMS_Deviation!$G$24:$G$1023,CMS_Deviation!$C$24:$C$1023,$C410))","v":""},"",{"$f":"IF(C410=\"\",\"\",SUMIFS(CMS_Downtime!$G$24:$G$1023,CMS_Downtime!$C$24:$C$1023,$C410))","v":""},""]
[null,{"$f":"Lists!AD389","v":""},{"$f":"Lists!AE389","v":""},{"$f":"Lists!AF389","v":""},{"$f":"IF(C411=\"\",\"\",SUMIFS(CMS_Deviation!$G$24:$G$1023,CMS_Deviation!$C$24:$C$1023,$C411))","v":""},"",{"$f":"IF(C411=\"\",\"\",SUMIFS(CMS_Downtime!$G$24:$G$1023,CMS_Downtime!$C$24:$C$1023,$C411))","v":""},""]
[null,{"$f":"Lists!AD390","v":""},{"$f":"Lists!AE390","v":""},{"$f":"Lists!AF390","v":""},{"$f":"IF(C412=\"\",\"\",SUMIFS(CMS_Deviation!$G$24:$G$1023,CMS_Deviation!$C$24:$C$1023,$C412))","v":""},"",{"$f":"IF(C412=\"\",\"\",SUMIFS(CMS_Downtime!$G$24:$G$1023,CMS_Downtime!$C$24:$C$1023,$C412))","v":""},""]
[null,{"$f":"Lists!AD391","v":""},{"$f":"Lists!AE391","v":""},{"$f":"Lists!AF391","v":""},{"$f":"IF(C413=\"\",\"\",SUMIFS(CMS_Deviation!$G$24:$G$1023,CMS_Deviation!$C$24:$C$1023,$C413))","v":""},"",{"$f":"IF(C413=\"\",\"\",SUMIFS(CMS_Downtime!$G$24:$G$1023,CMS_Downtime!$C$24:$C$1023,$C413))","v":""},""]
[null,{"$f":"Lists!AD392","v":""},{"$f":"Lists!AE392","v":""},{"$f":"Lists!AF392","v":""},{"$f":"IF(C414=\"\",\"\",SUMIFS(CMS_Deviation!$G$24:$G$1023,CMS_Deviation!$C$24:$C$1023,$C414))","v":""},"",{"$f":"IF(C414=\"\",\"\",SUMIFS(CMS_Downtime!$G$24:$G$1023,CMS_Downtime!$C$24:$C$1023,$C414))","v":""},""]
[null,{"$f":"Lists!AD393","v":""},{"$f":"Lists!AE393","v":""},{"$f":"Lists!AF393","v":""},{"$f":"IF(C415=\"\",\"\",SUMIFS(CMS_Deviation!$G$24:$G$1023,CMS_Deviation!$C$24:$C$1023,$C415))","v":""},"",{"$f":"IF(C415=\"\",\"\",SUMIFS(CMS_Downtime!$G$24:$G$1023,CMS_Downtime!$C$24:$C$1023,$C415))","v":""},""]
[null,{"$f":"Lists!AD394","v":""},{"$f":"Lists!AE394","v":""},{"$f":"Lists!AF394","v":""},{"$f":"IF(C416=\"\",\"\",SUMIFS(CMS_Deviation!$G$24:$G$1023,CMS_Deviation!$C$24:$C$1023,$C416))","v":""},"",{"$f":"IF(C416=\"\",\"\",SUMIFS(CMS_Downtime!$G$24:$G$1023,CMS_Downtime!$C$24:$C$1023,$C416))","v":""},""]
[null,{"$f":"Lists!AD395","v":""},{"$f":"Lists!AE395","v":""},{"$f":"Lists!AF395","v":""},{"$f":"IF(C417=\"\",\"\",SUMIFS(CMS_Deviation!$G$24:$G$1023,CMS_Deviation!$C$24:$C$1023,$C417))","v":""},"",{"$f":"IF(C417=\"\",\"\",SUMIFS(CMS_Downtime!$G$24:$G$1023,CMS_Downtime!$C$24:$C$1023,$C417))","v":""},""]
[null,{"$f":"Lists!AD396","v":""},{"$f":"Lists!AE396","v":""},{"$f":"Lists!AF396","v":""},{"$f":"IF(C418=\"\",\"\",SUMIFS(CMS_Deviation!$G$24:$G$1023,CMS_Deviation!$C$24:$C$1023,$C418))","v":""},"",{"$f":"IF(C418=\"\",\"\",SUMIFS(CMS_Downtime!$G$24:$G$1023,CMS_Downtime!$C$24:$C$1023,$C418))","v":""},""]
[null,{"$f":"Lists!AD397","v":""},{"$f":"Lists!AE397","v":""},{"$f":"Lists!AF397","v":""},{"$f":"IF(C419=\"\",\"\",SUMIFS(CMS_Deviation!$G$24:$G$1023,CMS_Deviation!$C$24:$C$1023,$C419))","v":""},"",{"$f":"IF(C419=\"\",\"\",SUMIFS(CMS_Downtime!$G$24:$G$1023,CMS_Downtime!$C$24:$C$1023,$C419))","v":""},""]
[null,{"$f":"Lists!AD398","v":""},{"$f":"Lists!AE398","v":""},{"$f":"Lists!AF398","v":""},{"$f":"IF(C420=\"\",\"\",SUMIFS(CMS_Deviation!$G$24:$G$1023,CMS_Deviation!$C$24:$C$1023,$C420))","v":""},"",{"$f":"IF(C420=\"\",\"\",SUMIFS(CMS_Downtime!$G$24:$G$1023,CMS_Downtime!$C$24:$C$1023,$C420))","v":""},""]
[null,{"$f":"Lists!AD399","v":""},{"$f":"Lists!AE399","v":""},{"$f":"Lists!AF399","v":""},{"$f":"IF(C421=\"\",\"\",SUMIFS(CMS_Deviation!$G$24:$G$1023,CMS_Deviation!$C$24:$C$1023,$C421))","v":""},"",{"$f":"IF(C421=\"\",\"\",SUMIFS(CMS_Downtime!$G$24:$G$1023,CMS_Downtime!$C$24:$C$1023,$C421))","v":""},""]
[null,{"$f":"Lists!AD400","v":""},{"$f":"Lists!AE400","v":""},{"$f":"Lists!AF400","v":""},{"$f":"IF(C422=\"\",\"\",SUMIFS(CMS_Deviation!$G$24:$G$1023,CMS_Deviation!$C$24:$C$1023,$C422))","v":""},"",{"$f":"IF(C422=\"\",\"\",SUMIFS(CMS_Downtime!$G$24:$G$1023,CMS_Downtime!$C$24:$C$1023,$C422))","v":""},""]
[null,{"$f":"Lists!AD401","v":""},{"$f":"Lists!AE401","v":""},{"$f":"Lists!AF401","v":""},{"$f":"IF(C423=\"\",\"\",SUMIFS(CMS_Deviation!$G$24:$G$1023,CMS_Deviation!$C$24:$C$1023,$C423))","v":""},"",{"$f":"IF(C423=\"\",\"\",SUMIFS(CMS_Downtime!$G$24:$G$1023,CMS_Downtime!$C$24:$C$1023,$C423))","v":""},""]
[null,{"$f":"Lists!AD402","v":""},{"$f":"Lists!AE402","v":""},{"$f":"Lists!AF402","v":""},{"$f":"IF(C424=\"\",\"\",SUMIFS(CMS_Deviation!$G$24:$G$1023,CMS_Deviation!$C$24:$C$1023,$C424))","v":""},"",{"$f":"IF(C424=\"\",\"\",SUMIFS(CMS_Downtime!$G$24:$G$1023,CMS_Downtime!$C$24:$C$1023,$C424))","v":""},""]
[null,{"$f":"Lists!AD403","v":""},{"$f":"Lists!AE403","v":""},{"$f":"Lists!AF403","v":""},{"$f":"IF(C425=\"\",\"\",SUMIFS(CMS_Deviation!$G$24:$G$1023,CMS_Deviation!$C$24:$C$1023,$C425))","v":""},"",{"$f":"IF(C425=\"\",\"\",SUMIFS(CMS_Downtime!$G$24:$G$1023,CMS_Downtime!$C$24:$C$1023,$C425))","v":""},""]
[null,{"$f":"Lists!AD404","v":""},{"$f":"Lists!AE404","v":""},{"$f":"Lists!AF404","v":""},{"$f":"IF(C426=\"\",\"\",SUMIFS(CMS_Deviation!$G$24:$G$1023,CMS_Deviation!$C$24:$C$1023,$C426))","v":""},"",{"$f":"IF(C426=\"\",\"\",SUMIFS(CMS_Downtime!$G$24:$G$1023,CMS_Downtime!$C$24:$C$1023,$C426))","v":""},""]
[null,{"$f":"Lists!AD405","v":""},{"$f":"Lists!AE405","v":""},{"$f":"Lists!AF405","v":""},{"$f":"IF(C427=\"\",\"\",SUMIFS(CMS_Deviation!$G$24:$G$1023,CMS_Deviation!$C$24:$C$1023,$C427))","v":""},"",{"$f":"IF(C427=\"\",\"\",SUMIFS(CMS_Downtime!$G$24:$G$1023,CMS_Downtime!$C$24:$C$1023,$C427))","v":""},""]
[null,{"$f":"Lists!AD406","v":""},{"$f":"Lists!AE406","v":""},{"$f":"Lists!AF406","v":""},{"$f":"IF(C428=\"\",\"\",SUMIFS(CMS_Deviation!$G$24:$G$1023,CMS_Deviation!$C$24:$C$1023,$C428))","v":""},"",{"$f":"IF(C428=\"\",\"\",SUMIFS(CMS_Downtime!$G$24:$G$1023,CMS_Downtime!$C$24:$C$1023,$C428))","v":""},""]
[null,{"$f":"Lists!AD407","v":""},{"$f":"Lists!AE407","v":""},{"$f":"Lists!AF407","v":""},{"$f":"IF(C429=\"\",\"\",SUMIFS(CMS_Deviation!$G$24:$G$1023,CMS_Deviation!$C$24:$C$1023,$C429))","v":""},"",{"$f":"IF(C429=\"\",\"\",SUMIFS(CMS_Downtime!$G$24:$G$1023,CMS_Downtime!$C$24:$C$1023,$C429))","v":""},""]
[null,{"$f":"Lists!AD408","v":""},{"$f":"Lists!AE408","v":""},{"$f":"Lists!AF408","v":""},{"$f":"IF(C430=\"\",\"\",SUMIFS(CMS_Deviation!$G$24:$G$1023,CMS_Deviation!$C$24:$C$1023,$C430))","v":""},"",{"$f":"IF(C430=\"\",\"\",SUMIFS(CMS_Downtime!$G$24:$G$1023,CMS_Downtime!$C$24:$C$1023,$C430))","v":""},""]
[null,{"$f":"Lists!AD409","v":""},{"$f":"Lists!AE409","v":""},{"$f":"Lists!AF409","v":""},{"$f":"IF(C431=\"\",\"\",SUMIFS(CMS_Deviation!$G$24:$G$1023,CMS_Deviation!$C$24:$C$1023,$C431))","v":""},"",{"$f":"IF(C431=\"\",\"\",SUMIFS(CMS_Downtime!$G$24:$G$1023,CMS_Downtime!$C$24:$C$1023,$C431))","v":""},""]
[null,{"$f":"Lists!AD410","v":""},{"$f":"Lists!AE410","v":""},{"$f":"Lists!AF410","v":""},{"$f":"IF(C432=\"\",\"\",SUMIFS(CMS_Deviation!$G$24:$G$1023,CMS_Deviation!$C$24:$C$1023,$C432))","v":""},"",{"$f":"IF(C432=\"\",\"\",SUMIFS(CMS_Downtime!$G$24:$G$1023,CMS_Downtime!$C$24:$C$1023,$C432))","v":""},""]
[null,{"$f":"Lists!AD411","v":""},{"$f":"Lists!AE411","v":""},{"$f":"Lists!AF411","v":""},{"$f":"IF(C433=\"\",\"\",SUMIFS(CMS_Deviation!$G$24:$G$1023,CMS_Deviation!$C$24:$C$1023,$C433))","v":""},"",{"$f":"IF(C433=\"\",\"\",SUMIFS(CMS_Downtime!$G$24:$G$1023,CMS_Downtime!$C$24:$C$1023,$C433))","v":""},""]
[null,{"$f":"Lists!AD412","v":""},{"$f":"Lists!AE412","v":""},{"$f":"Lists!AF412","v":""},{"$f":"IF(C434=\"\",\"\",SUMIFS(CMS_Deviation!$G$24:$G$1023,CMS_Deviation!$C$24:$C$1023,$C434))","v":""},"",{"$f":"IF(C434=\"\",\"\",SUMIFS(CMS_Downtime!$G$24:$G$1023,CMS_Downtime!$C$24:$C$1023,$C434))","v":""},""]
[null,{"$f":"Lists!AD413","v":""},{"$f":"Lists!AE413","v":""},{"$f":"Lists!AF413","v":""},{"$f":"IF(C435=\"\",\"\",SUMIFS(CMS_Deviation!$G$24:$G$1023,CMS_Deviation!$C$24:$C$1023,$C435))","v":""},"",{"$f":"IF(C435=\"\",\"\",SUMIFS(CMS_Downtime!$G$24:$G$1023,CMS_Downtime!$C$24:$C$1023,$C435))","v":""},""]
[null,{"$f":"Lists!AD414","v":""},{"$f":"Lists!AE414","v":""},{"$f":"Lists!AF414","v":""},{"$f":"IF(C436=\"\",\"\",SUMIFS(CMS_Deviation!$G$24:$G$1023,CMS_Deviation!$C$24:$C$1023,$C436))","v":""},"",{"$f":"IF(C436=\"\",\"\",SUMIFS(CMS_Downtime!$G$24:$G$1023,CMS_Downtime!$C$24:$C$1023,$C436))","v":""},""]
[null,{"$f":"Lists!AD415","v":""},{"$f":"Lists!AE415","v":""},{"$f":"Lists!AF415","v":""},{"$f":"IF(C437=\"\",\"\",SUMIFS(CMS_Deviation!$G$24:$G$1023,CMS_Deviation!$C$24:$C$1023,$C437))","v":""},"",{"$f":"IF(C437=\"\",\"\",SUMIFS(CMS_Downtime!$G$24:$G$1023,CMS_Downtime!$C$24:$C$1023,$C437))","v":""},""]
[null,{"$f":"Lists!AD416","v":""},{"$f":"Lists!AE416","v":""},{"$f":"Lists!AF416","v":""},{"$f":"IF(C438=\"\",\"\",SUMIFS(CMS_Deviation!$G$24:$G$1023,CMS_Deviation!$C$24:$C$1023,$C438))","v":""},"",{"$f":"IF(C438=\"\",\"\",SUMIFS(CMS_Downtime!$G$24:$G$1023,CMS_Downtime!$C$24:$C$1023,$C438))","v":""},""]
[null,{"$f":"Lists!AD417","v":""},{"$f":"Lists!AE417","v":""},{"$f":"Lists!AF417","v":""},{"$f":"IF(C439=\"\",\"\",SUMIFS(CMS_Deviation!$G$24:$G$1023,CMS_Deviation!$C$24:$C$1023,$C439))","v":""},"",{"$f":"IF(C439=\"\",\"\",SUMIFS(CMS_Downtime!$G$24:$G$1023,CMS_Downtime!$C$24:$C$1023,$C439))","v":""},""]
[null,{"$f":"Lists!AD418","v":""},{"$f":"Lists!AE418","v":""},{"$f":"Lists!AF418","v":""},{"$f":"IF(C440=\"\",\"\",SUMIFS(CMS_Deviation!$G$24:$G$1023,CMS_Deviation!$C$24:$C$1023,$C440))","v":""},"",{"$f":"IF(C440=\"\",\"\",SUMIFS(CMS_Downtime!$G$24:$G$1023,CMS_Downtime!$C$24:$C$1023,$C440))","v":""},""]
[null,{"$f":"Lists!AD419","v":""},{"$f":"Lists!AE419","v":""},{"$f":"Lists!AF419","v":""},{"$f":"IF(C441=\"\",\"\",SUMIFS(CMS_Deviation!$G$24:$G$1023,CMS_Deviation!$C$24:$C$1023,$C441))","v":""},"",{"$f":"IF(C441=\"\",\"\",SUMIFS(CMS_Downtime!$G$24:$G$1023,CMS_Downtime!$C$24:$C$1023,$C441))","v":""},""]
[null,{"$f":"Lists!AD420","v":""},{"$f":"Lists!AE420","v":""},{"$f":"Lists!AF420","v":""},{"$f":"IF(C442=\"\",\"\",SUMIFS(CMS_Deviation!$G$24:$G$1023,CMS_Deviation!$C$24:$C$1023,$C442))","v":""},"",{"$f":"IF(C442=\"\",\"\",SUMIFS(CMS_Downtime!$G$24:$G$1023,CMS_Downtime!$C$24:$C$1023,$C442))","v":""},""]
[null,{"$f":"Lists!AD421","v":""},{"$f":"Lists!AE421","v":""},{"$f":"Lists!AF421","v":""},{"$f":"IF(C443=\"\",\"\",SUMIFS(CMS_Deviation!$G$24:$G$1023,CMS_Deviation!$C$24:$C$1023,$C443))","v":""},"",{"$f":"IF(C443=\"\",\"\",SUMIFS(CMS_Downtime!$G$24:$G$1023,CMS_Downtime!$C$24:$C$1023,$C443))","v":""},""]
[null,{"$f":"Lists!AD422","v":""},{"$f":"Lists!AE422","v":""},{"$f":"Lists!AF422","v":""},{"$f":"IF(C444=\"\",\"\",SUMIFS(CMS_Deviation!$G$24:$G$1023,CMS_Deviation!$C$24:$C$1023,$C444))","v":""},"",{"$f":"IF(C444=\"\",\"\",SUMIFS(CMS_Downtime!$G$24:$G$1023,CMS_Downtime!$C$24:$C$1023,$C444))","v":""},""]
[null,{"$f":"Lists!AD423","v":""},{"$f":"Lists!AE423","v":""},{"$f":"Lists!AF423","v":""},{"$f":"IF(C445=\"\",\"\",SUMIFS(CMS_Deviation!$G$24:$G$1023,CMS_Deviation!$C$24:$C$1023,$C445))","v":""},"",{"$f":"IF(C445=\"\",\"\",SUMIFS(CMS_Downtime!$G$24:$G$1023,CMS_Downtime!$C$24:$C$1023,$C445))","v":""},""]
[null,{"$f":"Lists!AD424","v":""},{"$f":"Lists!AE424","v":""},{"$f":"Lists!AF424","v":""},{"$f":"IF(C446=\"\",\"\",SUMIFS(CMS_Deviation!$G$24:$G$1023,CMS_Deviation!$C$24:$C$1023,$C446))","v":""},"",{"$f":"IF(C446=\"\",\"\",SUMIFS(CMS_Downtime!$G$24:$G$1023,CMS_Downtime!$C$24:$C$1023,$C446))","v":""},""]
[null,{"$f":"Lists!AD425","v":""},{"$f":"Lists!AE425","v":""},{"$f":"Lists!AF425","v":""},{"$f":"IF(C447=\"\",\"\",SUMIFS(CMS_Deviation!$G$24:$G$1023,CMS_Deviation!$C$24:$C$1023,$C447))","v":""},"",{"$f":"IF(C447=\"\",\"\",SUMIFS(CMS_Downtime!$G$24:$G$1023,CMS_Downtime!$C$24:$C$1023,$C447))","v":""},""]
[null,{"$f":"Lists!AD426","v":""},{"$f":"Lists!AE426","v":""},{"$f":"Lists!AF426","v":""},{"$f":"IF(C448=\"\",\"\",SUMIFS(CMS_Deviation!$G$24:$G$1023,CMS_Deviation!$C$24:$C$1023,$C448))","v":""},"",{"$f":"IF(C448=\"\",\"\",SUMIFS(CMS_Downtime!$G$24:$G$1023,CMS_Downtime!$C$24:$C$1023,$C448))","v":""},""]
[null,{"$f":"Lists!AD427","v":""},{"$f":"Lists!AE427","v":""},{"$f":"Lists!AF427","v":""},{"$f":"IF(C449=\"\",\"\",SUMIFS(CMS_Deviation!$G$24:$G$1023,CMS_Deviation!$C$24:$C$1023,$C449))","v":""},"",{"$f":"IF(C449=\"\",\"\",SUMIFS(CMS_Downtime!$G$24:$G$1023,CMS_Downtime!$C$24:$C$1023,$C449))","v":""},""]
[null,{"$f":"Lists!AD428","v":""},{"$f":"Lists!AE428","v":""},{"$f":"Lists!AF428","v":""},{"$f":"IF(C450=\"\",\"\",SUMIFS(CMS_Deviation!$G$24:$G$1023,CMS_Deviation!$C$24:$C$1023,$C450))","v":""},"",{"$f":"IF(C450=\"\",\"\",SUMIFS(CMS_Downtime!$G$24:$G$1023,CMS_Downtime!$C$24:$C$1023,$C450))","v":""},""]
[null,{"$f":"Lists!AD429","v":""},{"$f":"Lists!AE429","v":""},{"$f":"Lists!AF429","v":""},{"$f":"IF(C451=\"\",\"\",SUMIFS(CMS_Deviation!$G$24:$G$1023,CMS_Deviation!$C$24:$C$1023,$C451))","v":""},"",{"$f":"IF(C451=\"\",\"\",SUMIFS(CMS_Downtime!$G$24:$G$1023,CMS_Downtime!$C$24:$C$1023,$C451))","v":""},""]
[null,{"$f":"Lists!AD430","v":""},{"$f":"Lists!AE430","v":""},{"$f":"Lists!AF430","v":""},{"$f":"IF(C452=\"\",\"\",SUMIFS(CMS_Deviation!$G$24:$G$1023,CMS_Deviation!$C$24:$C$1023,$C452))","v":""},"",{"$f":"IF(C452=\"\",\"\",SUMIFS(CMS_Downtime!$G$24:$G$1023,CMS_Downtime!$C$24:$C$1023,$C452))","v":""},""]
[null,{"$f":"Lists!AD431","v":""},{"$f":"Lists!AE431","v":""},{"$f":"Lists!AF431","v":""},{"$f":"IF(C453=\"\",\"\",SUMIFS(CMS_Deviation!$G$24:$G$1023,CMS_Deviation!$C$24:$C$1023,$C453))","v":""},"",{"$f":"IF(C453=\"\",\"\",SUMIFS(CMS_Downtime!$G$24:$G$1023,CMS_Downtime!$C$24:$C$1023,$C453))","v":""},""]
[null,{"$f":"Lists!AD432","v":""},{"$f":"Lists!AE432","v":""},{"$f":"Lists!AF432","v":""},{"$f":"IF(C454=\"\",\"\",SUMIFS(CMS_Deviation!$G$24:$G$1023,CMS_Deviation!$C$24:$C$1023,$C454))","v":""},"",{"$f":"IF(C454=\"\",\"\",SUMIFS(CMS_Downtime!$G$24:$G$1023,CMS_Downtime!$C$24:$C$1023,$C454))","v":""},""]
[null,{"$f":"Lists!AD433","v":""},{"$f":"Lists!AE433","v":""},{"$f":"Lists!AF433","v":""},{"$f":"IF(C455=\"\",\"\",SUMIFS(CMS_Deviation!$G$24:$G$1023,CMS_Deviation!$C$24:$C$1023,$C455))","v":""},"",{"$f":"IF(C455=\"\",\"\",SUMIFS(CMS_Downtime!$G$24:$G$1023,CMS_Downtime!$C$24:$C$1023,$C455))","v":""},""]
[null,{"$f":"Lists!AD434","v":""},{"$f":"Lists!AE434","v":""},{"$f":"Lists!AF434","v":""},{"$f":"IF(C456=\"\",\"\",SUMIFS(CMS_Deviation!$G$24:$G$1023,CMS_Deviation!$C$24:$C$1023,$C456))","v":""},"",{"$f":"IF(C456=\"\",\"\",SUMIFS(CMS_Downtime!$G$24:$G$1023,CMS_Downtime!$C$24:$C$1023,$C456))","v":""},""]
[null,{"$f":"Lists!AD435","v":""},{"$f":"Lists!AE435","v":""},{"$f":"Lists!AF435","v":""},{"$f":"IF(C457=\"\",\"\",SUMIFS(CMS_Deviation!$G$24:$G$1023,CMS_Deviation!$C$24:$C$1023,$C457))","v":""},"",{"$f":"IF(C457=\"\",\"\",SUMIFS(CMS_Downtime!$G$24:$G$1023,CMS_Downtime!$C$24:$C$1023,$C457))","v":""},""]
[null,{"$f":"Lists!AD436","v":""},{"$f":"Lists!AE436","v":""},{"$f":"Lists!AF436","v":""},{"$f":"IF(C458=\"\",\"\",SUMIFS(CMS_Deviation!$G$24:$G$1023,CMS_Deviation!$C$24:$C$1023,$C458))","v":""},"",{"$f":"IF(C458=\"\",\"\",SUMIFS(CMS_Downtime!$G$24:$G$1023,CMS_Downtime!$C$24:$C$1023,$C458))","v":""},""]
[null,{"$f":"Lists!AD437","v":""},{"$f":"Lists!AE437","v":""},{"$f":"Lists!AF437","v":""},{"$f":"IF(C459=\"\",\"\",SUMIFS(CMS_Deviation!$G$24:$G$1023,CMS_Deviation!$C$24:$C$1023,$C459))","v":""},"",{"$f":"IF(C459=\"\",\"\",SUMIFS(CMS_Downtime!$G$24:$G$1023,CMS_Downtime!$C$24:$C$1023,$C459))","v":""},""]
[null,{"$f":"Lists!AD438","v":""},{"$f":"Lists!AE438","v":""},{"$f":"Lists!AF438","v":""},{"$f":"IF(C460=\"\",\"\",SUMIFS(CMS_Deviation!$G$24:$G$1023,CMS_Deviation!$C$24:$C$1023,$C460))","v":""},"",{"$f":"IF(C460=\"\",\"\",SUMIFS(CMS_Downtime!$G$24:$G$1023,CMS_Downtime!$C$24:$C$1023,$C460))","v":""},""]
[null,{"$f":"Lists!AD439","v":""},{"$f":"Lists!AE439","v":""},{"$f":"Lists!AF439","v":""},{"$f":"IF(C461=\"\",\"\",SUMIFS(CMS_Deviation!$G$24:$G$1023,CMS_Deviation!$C$24:$C$1023,$C461))","v":""},{"$f":"IF(C461=\"\",\"\",E461/D461)","v":""},{"$f":"IF(C461=\"\",\"\",SUMIFS(CMS_Downtime!$G$24:$G$1023,CMS_Downtime!$C$24:$C$1023,$C461))","v":""},{"$f":"IF(C461=\"\",\"\",G461/D461)","v":""}]
[null,{"$f":"Lists!AD440","v":""},{"$f":"Lists!AE440","v":""},{"$f":"Lists!AF440","v":""},{"$f":"IF(C462=\"\",\"\",SUMIFS(CMS_Deviation!$G$24:$G$1023,CMS_Deviation!$C$24:$C$1023,$C462))","v":""},"",{"$f":"IF(C462=\"\",\"\",SUMIFS(CMS_Downtime!$G$24:$G$1023,CMS_Downtime!$C$24:$C$1023,$C462))","v":""},""]
[null,{"$f":"Lists!AD441","v":""},{"$f":"Lists!AE441","v":""},{"$f":"Lists!AF441","v":""},{"$f":"IF(C463=\"\",\"\",SUMIFS(CMS_Deviation!$G$24:$G$1023,CMS_Deviation!$C$24:$C$1023,$C463))","v":""},"",{"$f":"IF(C463=\"\",\"\",SUMIFS(CMS_Downtime!$G$24:$G$1023,CMS_Downtime!$C$24:$C$1023,$C463))","v":""},""]
[null,{"$f":"Lists!AD442","v":""},{"$f":"Lists!AE442","v":""},{"$f":"Lists!AF442","v":""},{"$f":"IF(C464=\"\",\"\",SUMIFS(CMS_Deviation!$G$24:$G$1023,CMS_Deviation!$C$24:$C$1023,$C464))","v":""},"",{"$f":"IF(C464=\"\",\"\",SUMIFS(CMS_Downtime!$G$24:$G$1023,CMS_Downtime!$C$24:$C$1023,$C464))","v":""},""]
[null,{"$f":"Lists!AD443","v":""},{"$f":"Lists!AE443","v":""},{"$f":"Lists!AF443","v":""},{"$f":"IF(C465=\"\",\"\",SUMIFS(CMS_Deviation!$G$24:$G$1023,CMS_Deviation!$C$24:$C$1023,$C465))","v":""},"",{"$f":"IF(C465=\"\",\"\",SUMIFS(CMS_Downtime!$G$24:$G$1023,CMS_Downtime!$C$24:$C$1023,$C465))","v":""},""]
[null,{"$f":"Lists!AD444","v":""},{"$f":"Lists!AE444","v":""},{"$f":"Lists!AF444","v":""},{"$f":"IF(C466=\"\",\"\",SUMIFS(CMS_Deviation!$G$24:$G$1023,CMS_Deviation!$C$24:$C$1023,$C466))","v":""},"",{"$f":"IF(C466=\"\",\"\",SUMIFS(CMS_Downtime!$G$24:$G$1023,CMS_Downtime!$C$24:$C$1023,$C466))","v":""},""]
[null,{"$f":"Lists!AD445","v":""},{"$f":"Lists!AE445","v":""},{"$f":"Lists!AF445","v":""},{"$f":"IF(C467=\"\",\"\",SUMIFS(CMS_Deviation!$G$24:$G$1023,CMS_Deviation!$C$24:$C$1023,$C467))","v":""},"",{"$f":"IF(C467=\"\",\"\",SUMIFS(CMS_Downtime!$G$24:$G$1023,CMS_Downtime!$C$24:$C$1023,$C467))","v":""},""]
[null,{"$f":"Lists!AD446","v":""},{"$f":"Lists!AE446","v":""},{"$f":"Lists!AF446","v":""},{"$f":"IF(C468=\"\",\"\",SUMIFS(CMS_Deviation!$G$24:$G$1023,CMS_Deviation!$C$24:$C$1023,$C468))","v":""},"",{"$f":"IF(C468=\"\",\"\",SUMIFS(CMS_Downtime!$G$24:$G$1023,CMS_Downtime!$C$24:$C$1023,$C468))","v":""},""]
[null,{"$f":"Lists!AD447","v":""},{"$f":"Lists!AE447","v":""},{"$f":"Lists!AF447","v":""},{"$f":"IF(C469=\"\",\"\",SUMIFS(CMS_Deviation!$G$24:$G$1023,CMS_Deviation!$C$24:$C$1023,$C469))","v":""},"",{"$f":"IF(C469=\"\",\"\",SUMIFS(CMS_Downtime!$G$24:$G$1023,CMS_Downtime!$C$24:$C$1023,$C469))","v":""},""]
[null,{"$f":"Lists!AD448","v":""},{"$f":"Lists!AE448","v":""},{"$f":"Lists!AF448","v":""},{"$f":"IF(C470=\"\",\"\",SUMIFS(CMS_Deviation!$G$24:$G$1023,CMS_Deviation!$C$24:$C$1023,$C470))","v":""},"",{"$f":"IF(C470=\"\",\"\",SUMIFS(CMS_Downtime!$G$24:$G$1023,CMS_Downtime!$C$24:$C$1023,$C470))","v":""},""]
[null,{"$f":"Lists!AD449","v":""},{"$f":"Lists!AE449","v":""},{"$f":"Lists!AF449","v":""},{"$f":"IF(C471=\"\",\"\",SUMIFS(CMS_Deviation!$G$24:$G$1023,CMS_Deviation!$C$24:$C$1023,$C471))","v":""},"",{"$f":"IF(C471=\"\",\"\",SUMIFS(CMS_Downtime!$G$24:$G$1023,CMS_Downtime!$C$24:$C$1023,$C471))","v":""},""]
[null,{"$f":"Lists!AD450","v":""},{"$f":"Lists!AE450","v":""},{"$f":"Lists!AF450","v":""},{"$f":"IF(C472=\"\",\"\",SUMIFS(CMS_Deviation!$G$24:$G$1023,CMS_Deviation!$C$24:$C$1023,$C472))","v":""},"",{"$f":"IF(C472=\"\",\"\",SUMIFS(CMS_Downtime!$G$24:$G$1023,CMS_Downtime!$C$24:$C$1023,$C472))","v":""},""]
[null,{"$f":"Lists!AD451","v":""},{"$f":"Lists!AE451","v":""},{"$f":"Lists!AF451","v":""},{"$f":"IF(C473=\"\",\"\",SUMIFS(CMS_Deviation!$G$24:$G$1023,CMS_Deviation!$C$24:$C$1023,$C473))","v":""},"",{"$f":"IF(C473=\"\",\"\",SUMIFS(CMS_Downtime!$G$24:$G$1023,CMS_Downtime!$C$24:$C$1023,$C473))","v":""},""]
[null,{"$f":"Lists!AD452","v":""},{"$f":"Lists!AE452","v":""},{"$f":"Lists!AF452","v":""},{"$f":"IF(C474=\"\",\"\",SUMIFS(CMS_Deviation!$G$24:$G$1023,CMS_Deviation!$C$24:$C$1023,$C474))","v":""},"",{"$f":"IF(C474=\"\",\"\",SUMIFS(CMS_Downtime!$G$24:$G$1023,CMS_Downtime!$C$24:$C$1023,$C474))","v":""},""]
[null,{"$f":"Lists!AD453","v":""},{"$f":"Lists!AE453","v":""},{"$f":"Lists!AF453","v":""},{"$f":"IF(C475=\"\",\"\",SUMIFS(CMS_Deviation!$G$24:$G$1023,CMS_Deviation!$C$24:$C$1023,$C475))","v":""},"",{"$f":"IF(C475=\"\",\"\",SUMIFS(CMS_Downtime!$G$24:$G$1023,CMS_Downtime!$C$24:$C$1023,$C475))","v":""},""]
[null,{"$f":"Lists!AD454","v":""},{"$f":"Lists!AE454","v":""},{"$f":"Lists!AF454","v":""},{"$f":"IF(C476=\"\",\"\",SUMIFS(CMS_Deviation!$G$24:$G$1023,CMS_Deviation!$C$24:$C$1023,$C476))","v":""},"",{"$f":"IF(C476=\"\",\"\",SUMIFS(CMS_Downtime!$G$24:$G$1023,CMS_Downtime!$C$24:$C$1023,$C476))","v":""},""]
[null,{"$f":"Lists!AD455","v":""},{"$f":"Lists!AE455","v":""},{"$f":"Lists!AF455","v":""},{"$f":"IF(C477=\"\",\"\",SUMIFS(CMS_Deviation!$G$24:$G$1023,CMS_Deviation!$C$24:$C$1023,$C477))","v":""},"",{"$f":"IF(C477=\"\",\"\",SUMIFS(CMS_Downtime!$G$24:$G$1023,CMS_Downtime!$C$24:$C$1023,$C477))","v":""},""]
[null,{"$f":"Lists!AD456","v":""},{"$f":"Lists!AE456","v":""},{"$f":"Lists!AF456","v":""},{"$f":"IF(C478=\"\",\"\",SUMIFS(CMS_Deviation!$G$24:$G$1023,CMS_Deviation!$C$24:$C$1023,$C478))","v":""},"",{"$f":"IF(C478=\"\",\"\",SUMIFS(CMS_Downtime!$G$24:$G$1023,CMS_Downtime!$C$24:$C$1023,$C478))","v":""},""]
[null,{"$f":"Lists!AD457","v":""},{"$f":"Lists!AE457","v":""},{"$f":"Lists!AF457","v":""},{"$f":"IF(C479=\"\",\"\",SUMIFS(CMS_Deviation!$G$24:$G$1023,CMS_Deviation!$C$24:$C$1023,$C479))","v":""},"",{"$f":"IF(C479=\"\",\"\",SUMIFS(CMS_Downtime!$G$24:$G$1023,CMS_Downtime!$C$24:$C$1023,$C479))","v":""},""]
[null,{"$f":"Lists!AD458","v":""},{"$f":"Lists!AE458","v":""},{"$f":"Lists!AF458","v":""},{"$f":"IF(C480=\"\",\"\",SUMIFS(CMS_Deviation!$G$24:$G$1023,CMS_Deviation!$C$24:$C$1023,$C480))","v":""},"",{"$f":"IF(C480=\"\",\"\",SUMIFS(CMS_Downtime!$G$24:$G$1023,CMS_Downtime!$C$24:$C$1023,$C480))","v":""},""]
[null,{"$f":"Lists!AD459","v":""},{"$f":"Lists!AE459","v":""},{"$f":"Lists!AF459","v":""},{"$f":"IF(C481=\"\",\"\",SUMIFS(CMS_Deviation!$G$24:$G$1023,CMS_Deviation!$C$24:$C$1023,$C481))","v":""},"",{"$f":"IF(C481=\"\",\"\",SUMIFS(CMS_Downtime!$G$24:$G$1023,CMS_Downtime!$C$24:$C$1023,$C481))","v":""},""]
[null,{"$f":"Lists!AD460","v":""},{"$f":"Lists!AE460","v":""},{"$f":"Lists!AF460","v":""},{"$f":"IF(C482=\"\",\"\",SUMIFS(CMS_Deviation!$G$24:$G$1023,CMS_Deviation!$C$24:$C$1023,$C482))","v":""},"",{"$f":"IF(C482=\"\",\"\",SUMIFS(CMS_Downtime!$G$24:$G$1023,CMS_Downtime!$C$24:$C$1023,$C482))","v":""},""]
[null,{"$f":"Lists!AD461","v":""},{"$f":"Lists!AE461","v":""},{"$f":"Lists!AF461","v":""},{"$f":"IF(C483=\"\",\"\",SUMIFS(CMS_Deviation!$G$24:$G$1023,CMS_Deviation!$C$24:$C$1023,$C483))","v":""},"",{"$f":"IF(C483=\"\",\"\",SUMIFS(CMS_Downtime!$G$24:$G$1023,CMS_Downtime!$C$24:$C$1023,$C483))","v":""},""]
[null,{"$f":"Lists!AD462","v":""},{"$f":"Lists!AE462","v":""},{"$f":"Lists!AF462","v":""},{"$f":"IF(C484=\"\",\"\",SUMIFS(CMS_Deviation!$G$24:$G$1023,CMS_Deviation!$C$24:$C$1023,$C484))","v":""},"",{"$f":"IF(C484=\"\",\"\",SUMIFS(CMS_Downtime!$G$24:$G$1023,CMS_Downtime!$C$24:$C$1023,$C484))","v":""},""]
[null,{"$f":"Lists!AD463","v":""},{"$f":"Lists!AE463","v":""},{"$f":"Lists!AF463","v":""},{"$f":"IF(C485=\"\",\"\",SUMIFS(CMS_Deviation!$G$24:$G$1023,CMS_Deviation!$C$24:$C$1023,$C485))","v":""},"",{"$f":"IF(C485=\"\",\"\",SUMIFS(CMS_Downtime!$G$24:$G$1023,CMS_Downtime!$C$24:$C$1023,$C485))","v":""},""]
[null,{"$f":"Lists!AD464","v":""},{"$f":"Lists!AE464","v":""},{"$f":"Lists!AF464","v":""},{"$f":"IF(C486=\"\",\"\",SUMIFS(CMS_Deviation!$G$24:$G$1023,CMS_Deviation!$C$24:$C$1023,$C486))","v":""},"",{"$f":"IF(C486=\"\",\"\",SUMIFS(CMS_Downtime!$G$24:$G$1023,CMS_Downtime!$C$24:$C$1023,$C486))","v":""},""]
[null,{"$f":"Lists!AD465","v":""},{"$f":"Lists!AE465","v":""},{"$f":"Lists!AF465","v":""},{"$f":"IF(C487=\"\",\"\",SUMIFS(CMS_Deviation!$G$24:$G$1023,CMS_Deviation!$C$24:$C$1023,$C487))","v":""},"",{"$f":"IF(C487=\"\",\"\",SUMIFS(CMS_Downtime!$G$24:$G$1023,CMS_Downtime!$C$24:$C$1023,$C487))","v":""},""]
[null,{"$f":"Lists!AD466","v":""},{"$f":"Lists!AE466","v":""},{"$f":"Lists!AF466","v":""},{"$f":"IF(C488=\"\",\"\",SUMIFS(CMS_Deviation!$G$24:$G$1023,CMS_Deviation!$C$24:$C$1023,$C488))","v":""},"",{"$f":"IF(C488=\"\",\"\",SUMIFS(CMS_Downtime!$G$24:$G$1023,CMS_Downtime!$C$24:$C$1023,$C488))","v":""},""]
[null,{"$f":"Lists!AD467","v":""},{"$f":"Lists!AE467","v":""},{"$f":"Lists!AF467","v":""},{"$f":"IF(C489=\"\",\"\",SUMIFS(CMS_Deviation!$G$24:$G$1023,CMS_Deviation!$C$24:$C$1023,$C489))","v":""},"",{"$f":"IF(C489=\"\",\"\",SUMIFS(CMS_Downtime!$G$24:$G$1023,CMS_Downtime!$C$24:$C$1023,$C489))","v":""},""]
[null,{"$f":"Lists!AD468","v":""},{"$f":"Lists!AE468","v":""},{"$f":"Lists!AF468","v":""},{"$f":"IF(C490=\"\",\"\",SUMIFS(CMS_Deviation!$G$24:$G$1023,CMS_Deviation!$C$24:$C$1023,$C490))","v":""},"",{"$f":"IF(C490=\"\",\"\",SUMIFS(CMS_Downtime!$G$24:$G$1023,CMS_Downtime!$C$24:$C$1023,$C490))","v":""},""]
[null,{"$f":"Lists!AD469","v":""},{"$f":"Lists!AE469","v":""},{"$f":"Lists!AF469","v":""},{"$f":"IF(C491=\"\",\"\",SUMIFS(CMS_Deviation!$G$24:$G$1023,CMS_Deviation!$C$24:$C$1023,$C491))","v":""},"",{"$f":"IF(C491=\"\",\"\",SUMIFS(CMS_Downtime!$G$24:$G$1023,CMS_Downtime!$C$24:$C$1023,$C491))","v":""},""]
[null,{"$f":"Lists!AD470","v":""},{"$f":"Lists!AE470","v":""},{"$f":"Lists!AF470","v":""},{"$f":"IF(C492=\"\",\"\",SUMIFS(CMS_Deviation!$G$24:$G$1023,CMS_Deviation!$C$24:$C$1023,$C492))","v":""},"",{"$f":"IF(C492=\"\",\"\",SUMIFS(CMS_Downtime!$G$24:$G$1023,CMS_Downtime!$C$24:$C$1023,$C492))","v":""},""]
[null,{"$f":"Lists!AD471","v":""},{"$f":"Lists!AE471","v":""},{"$f":"Lists!AF471","v":""},{"$f":"IF(C493=\"\",\"\",SUMIFS(CMS_Deviation!$G$24:$G$1023,CMS_Deviation!$C$24:$C$1023,$C493))","v":""},"",{"$f":"IF(C493=\"\",\"\",SUMIFS(CMS_Downtime!$G$24:$G$1023,CMS_Downtime!$C$24:$C$1023,$C493))","v":""},""]
[null,{"$f":"Lists!AD472","v":""},{"$f":"Lists!AE472","v":""},{"$f":"Lists!AF472","v":""},{"$f":"IF(C494=\"\",\"\",SUMIFS(CMS_Deviation!$G$24:$G$1023,CMS_Deviation!$C$24:$C$1023,$C494))","v":""},"",{"$f":"IF(C494=\"\",\"\",SUMIFS(CMS_Downtime!$G$24:$G$1023,CMS_Downtime!$C$24:$C$1023,$C494))","v":""},""]
[null,{"$f":"Lists!AD473","v":""},{"$f":"Lists!AE473","v":""},{"$f":"Lists!AF473","v":""},{"$f":"IF(C495=\"\",\"\",SUMIFS(CMS_Deviation!$G$24:$G$1023,CMS_Deviation!$C$24:$C$1023,$C495))","v":""},"",{"$f":"IF(C495=\"\",\"\",SUMIFS(CMS_Downtime!$G$24:$G$1023,CMS_Downtime!$C$24:$C$1023,$C495))","v":""},""]
[null,{"$f":"Lists!AD474","v":""},{"$f":"Lists!AE474","v":""},{"$f":"Lists!AF474","v":""},{"$f":"IF(C496=\"\",\"\",SUMIFS(CMS_Deviation!$G$24:$G$1023,CMS_Deviation!$C$24:$C$1023,$C496))","v":""},"",{"$f":"IF(C496=\"\",\"\",SUMIFS(CMS_Downtime!$G$24:$G$1023,CMS_Downtime!$C$24:$C$1023,$C496))","v":""},""]
[null,{"$f":"Lists!AD475","v":""},{"$f":"Lists!AE475","v":""},{"$f":"Lists!AF475","v":""},{"$f":"IF(C497=\"\",\"\",SUMIFS(CMS_Deviation!$G$24:$G$1023,CMS_Deviation!$C$24:$C$1023,$C497))","v":""},"",{"$f":"IF(C497=\"\",\"\",SUMIFS(CMS_Downtime!$G$24:$G$1023,CMS_Downtime!$C$24:$C$1023,$C497))","v":""},""]
[null,{"$f":"Lists!AD476","v":""},{"$f":"Lists!AE476","v":""},{"$f":"Lists!AF476","v":""},{"$f":"IF(C498=\"\",\"\",SUMIFS(CMS_Deviation!$G$24:$G$1023,CMS_Deviation!$C$24:$C$1023,$C498))","v":""},"",{"$f":"IF(C498=\"\",\"\",SUMIFS(CMS_Downtime!$G$24:$G$1023,CMS_Downtime!$C$24:$C$1023,$C498))","v":""},""]
[null,{"$f":"Lists!AD477","v":""},{"$f":"Lists!AE477","v":""},{"$f":"Lists!AF477","v":""},{"$f":"IF(C499=\"\",\"\",SUMIFS(CMS_Deviation!$G$24:$G$1023,CMS_Deviation!$C$24:$C$1023,$C499))","v":""},"",{"$f":"IF(C499=\"\",\"\",SUMIFS(CMS_Downtime!$G$24:$G$1023,CMS_Downtime!$C$24:$C$1023,$C499))","v":""},""]
[null,{"$f":"Lists!AD478","v":""},{"$f":"Lists!AE478","v":""},{"$f":"Lists!AF478","v":""},{"$f":"IF(C500=\"\",\"\",SUMIFS(CMS_Deviation!$G$24:$G$1023,CMS_Deviation!$C$24:$C$1023,$C500))","v":""},"",{"$f":"IF(C500=\"\",\"\",SUMIFS(CMS_Downtime!$G$24:$G$1023,CMS_Downtime!$C$24:$C$1023,$C500))","v":""},""]
[null,{"$f":"Lists!AD479","v":""},{"$f":"Lists!AE479","v":""},{"$f":"Lists!AF479","v":""},{"$f":"IF(C501=\"\",\"\",SUMIFS(CMS_Deviation!$G$24:$G$1023,CMS_Deviation!$C$24:$C$1023,$C501))","v":""},"",{"$f":"IF(C501=\"\",\"\",SUMIFS(CMS_Downtime!$G$24:$G$1023,CMS_Downtime!$C$24:$C$1023,$C501))","v":""},""]
[null,{"$f":"Lists!AD480","v":""},{"$f":"Lists!AE480","v":""},{"$f":"Lists!AF480","v":""},{"$f":"IF(C502=\"\",\"\",SUMIFS(CMS_Deviation!$G$24:$G$1023,CMS_Deviation!$C$24:$C$1023,$C502))","v":""},"",{"$f":"IF(C502=\"\",\"\",SUMIFS(CMS_Downtime!$G$24:$G$1023,CMS_Downtime!$C$24:$C$1023,$C502))","v":""},""]
[null,{"$f":"Lists!AD481","v":""},{"$f":"Lists!AE481","v":""},{"$f":"Lists!AF481","v":""},{"$f":"IF(C503=\"\",\"\",SUMIFS(CMS_Deviation!$G$24:$G$1023,CMS_Deviation!$C$24:$C$1023,$C503))","v":""},"",{"$f":"IF(C503=\"\",\"\",SUMIFS(CMS_Downtime!$G$24:$G$1023,CMS_Downtime!$C$24:$C$1023,$C503))","v":""},""]
[null,{"$f":"Lists!AD482","v":""},{"$f":"Lists!AE482","v":""},{"$f":"Lists!AF482","v":""},{"$f":"IF(C504=\"\",\"\",SUMIFS(CMS_Deviation!$G$24:$G$1023,CMS_Deviation!$C$24:$C$1023,$C504))","v":""},"",{"$f":"IF(C504=\"\",\"\",SUMIFS(CMS_Downtime!$G$24:$G$1023,CMS_Downtime!$C$24:$C$1023,$C504))","v":""},""]
[null,{"$f":"Lists!AD483","v":""},{"$f":"Lists!AE483","v":""},{"$f":"Lists!AF483","v":""},{"$f":"IF(C505=\"\",\"\",SUMIFS(CMS_Deviation!$G$24:$G$1023,CMS_Deviation!$C$24:$C$1023,$C505))","v":""},"",{"$f":"IF(C505=\"\",\"\",SUMIFS(CMS_Downtime!$G$24:$G$1023,CMS_Downtime!$C$24:$C$1023,$C505))","v":""},""]
[null,{"$f":"Lists!AD484","v":""},{"$f":"Lists!AE484","v":""},{"$f":"Lists!AF484","v":""},{"$f":"IF(C506=\"\",\"\",SUMIFS(CMS_Deviation!$G$24:$G$1023,CMS_Deviation!$C$24:$C$1023,$C506))","v":""},"",{"$f":"IF(C506=\"\",\"\",SUMIFS(CMS_Downtime!$G$24:$G$1023,CMS_Downtime!$C$24:$C$1023,$C506))","v":""},""]
[null,{"$f":"Lists!AD485","v":""},{"$f":"Lists!AE485","v":""},{"$f":"Lists!AF485","v":""},{"$f":"IF(C507=\"\",\"\",SUMIFS(CMS_Deviation!$G$24:$G$1023,CMS_Deviation!$C$24:$C$1023,$C507))","v":""},"",{"$f":"IF(C507=\"\",\"\",SUMIFS(CMS_Downtime!$G$24:$G$1023,CMS_Downtime!$C$24:$C$1023,$C507))","v":""},""]
[null,{"$f":"Lists!AD486","v":""},{"$f":"Lists!AE486","v":""},{"$f":"Lists!AF486","v":""},{"$f":"IF(C508=\"\",\"\",SUMIFS(CMS_Deviation!$G$24:$G$1023,CMS_Deviation!$C$24:$C$1023,$C508))","v":""},"",{"$f":"IF(C508=\"\",\"\",SUMIFS(CMS_Downtime!$G$24:$G$1023,CMS_Downtime!$C$24:$C$1023,$C508))","v":""},""]
[null,{"$f":"Lists!AD487","v":""},{"$f":"Lists!AE487","v":""},{"$f":"Lists!AF487","v":""},{"$f":"IF(C509=\"\",\"\",SUMIFS(CMS_Deviation!$G$24:$G$1023,CMS_Deviation!$C$24:$C$1023,$C509))","v":""},"",{"$f":"IF(C509=\"\",\"\",SUMIFS(CMS_Downtime!$G$24:$G$1023,CMS_Downtime!$C$24:$C$1023,$C509))","v":""},""]
[null,{"$f":"Lists!AD488","v":""},{"$f":"Lists!AE488","v":""},{"$f":"Lists!AF488","v":""},{"$f":"IF(C510=\"\",\"\",SUMIFS(CMS_Deviation!$G$24:$G$1023,CMS_Deviation!$C$24:$C$1023,$C510))","v":""},"",{"$f":"IF(C510=\"\",\"\",SUMIFS(CMS_Downtime!$G$24:$G$1023,CMS_Downtime!$C$24:$C$1023,$C510))","v":""},""]
[null,{"$f":"Lists!AD489","v":""},{"$f":"Lists!AE489","v":""},{"$f":"Lists!AF489","v":""},{"$f":"IF(C511=\"\",\"\",SUMIFS(CMS_Deviation!$G$24:$G$1023,CMS_Deviation!$C$24:$C$1023,$C511))","v":""},"",{"$f":"IF(C511=\"\",\"\",SUMIFS(CMS_Downtime!$G$24:$G$1023,CMS_Downtime!$C$24:$C$1023,$C511))","v":""},""]
[null,{"$f":"Lists!AD490","v":""},{"$f":"Lists!AE490","v":""},{"$f":"Lists!AF490","v":""},{"$f":"IF(C512=\"\",\"\",SUMIFS(CMS_Deviation!$G$24:$G$1023,CMS_Deviation!$C$24:$C$1023,$C512))","v":""},"",{"$f":"IF(C512=\"\",\"\",SUMIFS(CMS_Downtime!$G$24:$G$1023,CMS_Downtime!$C$24:$C$1023,$C512))","v":""},""]
[null,{"$f":"Lists!AD491","v":""},{"$f":"Lists!AE491","v":""},{"$f":"Lists!AF491","v":""},{"$f":"IF(C513=\"\",\"\",SUMIFS(CMS_Deviation!$G$24:$G$1023,CMS_Deviation!$C$24:$C$1023,$C513))","v":""},"",{"$f":"IF(C513=\"\",\"\",SUMIFS(CMS_Downtime!$G$24:$G$1023,CMS_Downtime!$C$24:$C$1023,$C513))","v":""},""]
[null,{"$f":"Lists!AD492","v":""},{"$f":"Lists!AE492","v":""},{"$f":"Lists!AF492","v":""},{"$f":"IF(C514=\"\",\"\",SUMIFS(CMS_Deviation!$G$24:$G$1023,CMS_Deviation!$C$24:$C$1023,$C514))","v":""},"",{"$f":"IF(C514=\"\",\"\",SUMIFS(CMS_Downtime!$G$24:$G$1023,CMS_Downtime!$C$24:$C$1023,$C514))","v":""},""]
[null,{"$f":"Lists!AD493","v":""},{"$f":"Lists!AE493","v":""},{"$f":"Lists!AF493","v":""},{"$f":"IF(C515=\"\",\"\",SUMIFS(CMS_Deviation!$G$24:$G$1023,CMS_Deviation!$C$24:$C$1023,$C515))","v":""},"",{"$f":"IF(C515=\"\",\"\",SUMIFS(CMS_Downtime!$G$24:$G$1023,CMS_Downtime!$C$24:$C$1023,$C515))","v":""},""]
[null,{"$f":"Lists!AD494","v":""},{"$f":"Lists!AE494","v":""},{"$f":"Lists!AF494","v":""},{"$f":"IF(C516=\"\",\"\",SUMIFS(CMS_Deviation!$G$24:$G$1023,CMS_Deviation!$C$24:$C$1023,$C516))","v":""},"",{"$f":"IF(C516=\"\",\"\",SUMIFS(CMS_Downtime!$G$24:$G$1023,CMS_Downtime!$C$24:$C$1023,$C516))","v":""},""]
[null,{"$f":"Lists!AD495","v":""},{"$f":"Lists!AE495","v":""},{"$f":"Lists!AF495","v":""},{"$f":"IF(C517=\"\",\"\",SUMIFS(CMS_Deviation!$G$24:$G$1023,CMS_Deviation!$C$24:$C$1023,$C517))","v":""},"",{"$f":"IF(C517=\"\",\"\",SUMIFS(CMS_Downtime!$G$24:$G$1023,CMS_Downtime!$C$24:$C$1023,$C517))","v":""},""]
[null,{"$f":"Lists!AD496","v":""},{"$f":"Lists!AE496","v":""},{"$f":"Lists!AF496","v":""},{"$f":"IF(C518=\"\",\"\",SUMIFS(CMS_Deviation!$G$24:$G$1023,CMS_Deviation!$C$24:$C$1023,$C518))","v":""},"",{"$f":"IF(C518=\"\",\"\",SUMIFS(CMS_Downtime!$G$24:$G$1023,CMS_Downtime!$C$24:$C$1023,$C518))","v":""},""]
[null,{"$f":"Lists!AD497","v":""},{"$f":"Lists!AE497","v":""},{"$f":"Lists!AF497","v":""},{"$f":"IF(C519=\"\",\"\",SUMIFS(CMS_Deviation!$G$24:$G$1023,CMS_Deviation!$C$24:$C$1023,$C519))","v":""},"",{"$f":"IF(C519=\"\",\"\",SUMIFS(CMS_Downtime!$G$24:$G$1023,CMS_Downtime!$C$24:$C$1023,$C519))","v":""},""]
[null,{"$f":"Lists!AD498","v":""},{"$f":"Lists!AE498","v":""},{"$f":"Lists!AF498","v":""},{"$f":"IF(C520=\"\",\"\",SUMIFS(CMS_Deviation!$G$24:$G$1023,CMS_Deviation!$C$24:$C$1023,$C520))","v":""},"",{"$f":"IF(C520=\"\",\"\",SUMIFS(CMS_Downtime!$G$24:$G$1023,CMS_Downtime!$C$24:$C$1023,$C520))","v":""},""]
[null,{"$f":"Lists!AD499","v":""},{"$f":"Lists!AE499","v":""},{"$f":"Lists!AF499","v":""},{"$f":"IF(C521=\"\",\"\",SUMIFS(CMS_Deviation!$G$24:$G$1023,CMS_Deviation!$C$24:$C$1023,$C521))","v":""},"",{"$f":"IF(C521=\"\",\"\",SUMIFS(CMS_Downtime!$G$24:$G$1023,CMS_Downtime!$C$24:$C$1023,$C521))","v":""},""]
[null,{"$f":"Lists!AD500","v":""},{"$f":"Lists!AE500","v":""},{"$f":"Lists!AF500","v":""},{"$f":"IF(C522=\"\",\"\",SUMIFS(CMS_Deviation!$G$24:$G$1023,CMS_Deviation!$C$24:$C$1023,$C522))","v":""},"",{"$f":"IF(C522=\"\",\"\",SUMIFS(CMS_Downtime!$G$24:$G$1023,CMS_Downtime!$C$24:$C$1023,$C522))","v":""},""]
[null,{"$f":"Lists!AD501","v":""},{"$f":"Lists!AE501","v":""},{"$f":"Lists!AF501","v":""},{"$f":"IF(C523=\"\",\"\",SUMIFS(CMS_Deviation!$G$24:$G$1023,CMS_Deviation!$C$24:$C$1023,$C523))","v":""},"",{"$f":"IF(C523=\"\",\"\",SUMIFS(CMS_Downtime!$G$24:$G$1023,CMS_Downtime!$C$24:$C$1023,$C523))","v":""},""]

{"sheet":"Regenerative_Carbon_Bed","index":9,"n_rows":23,"n_cols":7,"rows_kept":23,"cut":false,"hidden":false,"merged":[]}
[null,"DO NOT REMOVE OR EDIT INFORMATION IN ROWS 1 THROUGH 5\nFOR INTERNAL USE ONLY"]
[null,"Template Name",{"$f":"Welcome!B2","v":"63.2386(a), (c), and (d) Compliance Report (Spreadsheet Template)"}]
[null,"CitationID",{"$f":"Welcome!B3","v":"63.2386(a), (c), and (d)"}]
[null,"Template Version",{"$f":"Welcome!B4","v":"v1.01"}]
[null,"Last Updated Date",{"$f":"Welcome!B5","v":"2024-04-09"}]
[]
[null,{"$f":"Company_Information!B7","v":"40 CFR Part 63, Subpart EEEE National Emission Standards for Hazardous Air Pollutants: Organic Liquids Distribution (Non-Gasoline)"}]
[null,{"$f":"Company_Information!B8","v":"§63.2386(a), (c), and (d) Compliance Report Spreadsheet Template"}]
[null,"This tab contains information on carbon-bed regeneration cycles during which the parameters were outside the ranges established."]
[null,"Note: Company Record No. selections will appear once information is entered onto the \"Company_Information\" tab."]
[]
[null,"Company Record No.\n(Select from dropdown)","Carbon Bed Identification\n(§63.999(c)(6)(ii))","Date\n(§63.999(c)(6)(ii))","Time\n(§63.999(c)(6)(ii))","Parameter Outside of Range\n(§63.999(c)(6)(ii), §63.998(a)(2)(ii)(C))\n(Select from dropdown)","Additional Information\n(§63.999(c)(6)(ii))"]
[null,"RecordId","CarbonBed","BedCycleDate","BedCycleTime","BedParameterExceeded","CarbonBedComments"]
[null,"e.g.: 1","e.g.:","e.g.: 03/01/20","1:00 PM","e.g.: carbon-bed temperature","e.g.:"]
[null,"e.g.","e.g.","e.g.","e.g.","e.g.","e.g."]
[null,"e.g.","e.g.","e.g.","e.g.","e.g.","e.g."]
[null,"e.g.","e.g.","e.g.","e.g.","e.g.","e.g."]
[null,"e.g.","e.g.","e.g.","e.g.","e.g.","e.g."]
[null,"e.g.","e.g.","e.g.","e.g.","e.g.","e.g."]
[null,"e.g.","e.g.","e.g.","e.g.","e.g.","e.g."]
[null,"e.g.","e.g.","e.g.","e.g.","e.g.","e.g."]
[null,"e.g.","e.g.","e.g.","e.g.","e.g.","e.g."]
[null,"e.g.","e.g.","e.g.","e.g.","e.g.","e.g."]

{"sheet":"CVS_Leaks","index":10,"n_rows":23,"n_cols":10,"rows_kept":23,"cut":false,"hidden":false,"merged":[]}
[null,"DO NOT REMOVE OR EDIT INFORMATION IN ROWS 1 THROUGH 5\nFOR INTERNAL USE ONLY"]
[null,"Template Name",{"$f":"Welcome!B2","v":"63.2386(a), (c), and (d) Compliance Report (Spreadsheet Template)"}]
[null,"CitationID",{"$f":"Welcome!B3","v":"63.2386(a), (c), and (d)"}]
[null,"Template Version",{"$f":"Welcome!B4","v":"v1.01"}]
[null,"Last Updated Date",{"$f":"Welcome!B5","v":"2024-04-09"}]
[]
[null,{"$f":"Company_Information!B7","v":"40 CFR Part 63, Subpart EEEE National Emission Standards for Hazardous Air Pollutants: Organic Liquids Distribution (Non-Gasoline)"}]
[null,{"$f":"Company_Information!B8","v":"§63.2386(a), (c), and (d) Compliance Report Spreadsheet Template"}]
[null,"This tab contains information on closed vent system leaks."]
[null,"Note: Company Record No. selections will appear once information is entered onto the \"Company_Information\" tab."]
[]
[null,"Company Record No.\n(Select from dropdown)","Closed Vent System Identification\n(§63.999(c)(2)(i))","Date Leak Detected\n(§63.999(c)(2)(i), §63.998(d)(1)(iii)(B))","Date of First Attempt at Repair\n(§63.999(c)(2)(i), §63.998(d)(1)(iii)(B))","Date of Successful Repair\n(§63.999(c)(2)(i), \n§63.998(d)(1)(iii)(C))","Maximum Instrument Reading After Repair or After Determined Nonrepairable\n(ppm)\n(§63.999(c)(2)(i), §63.998(d)(1)(iii)(D))","Repair Delayed?\n(§63.999(c)(2)(i), §63.998(d)(1)(iii)(E))\n(Select from dropdown)","Reason for Delay of Repair\n(§63.999(c)(2)(i), §63.998(d)(1)(iii)(E))","Comments or Additional Information"]
[null,"RecordId","CVSId","CVSLeakDate","CVSLeakAttempt","CVSRepairDate","CVSLeakReading","CVSRepairDelayed","CVSRepairDelayedReason","CVSComments"]
[null,"e.g.: 1","e.g.:","e.g.: 04/10/20","e.g.: 04/11/20","e.g.: 04/13/20","e.g.: 50","e.g.: no","e.g.:","e.g.:"]
[null,"e.g.","e.g.","e.g.","e.g.","e.g.","e.g.","e.g.","e.g.","e.g."]
[null,"e.g.","e.g.","e.g.","e.g.","e.g.","e.g.","e.g.","e.g.","e.g."]
[null,"e.g.","e.g.","e.g.","e.g.","e.g.","e.g.","e.g.","e.g.","e.g."]
[null,"e.g.","e.g.","e.g.","e.g.","e.g.","e.g.","e.g.","e.g.","e.g."]
[null,"e.g.","e.g.","e.g.","e.g.","e.g.","e.g.","e.g.","e.g.","e.g."]
[null,"e.g.","e.g.","e.g.","e.g.","e.g.","e.g.","e.g.","e.g.","e.g."]
[null,"e.g.","e.g.","e.g.","e.g.","e.g.","e.g.","e.g.","e.g.","e.g."]
[null,"e.g.","e.g.","e.g.","e.g.","e.g.","e.g.","e.g.","e.g.","e.g."]
[null,"e.g.","e.g.","e.g.","e.g.","e.g.","e.g.","e.g.","e.g.","e.g."]

{"sheet":"Bypasses","index":11,"n_rows":23,"n_cols":11,"rows_kept":23,"cut":false,"hidden":false,"merged":[]}
[null,"DO NOT REMOVE OR EDIT INFORMATION IN ROWS 1 THROUGH 5\nFOR INTERNAL USE ONLY"]
[null,"Template Name",{"$f":"Welcome!B2","v":"63.2386(a), (c), and (d) Compliance Report (Spreadsheet Template)"}]
[null,"CitationID",{"$f":"Welcome!B3","v":"63.2386(a), (c), and (d)"}]
[null,"Template Version",{"$f":"Welcome!B4","v":"v1.01"}]
[null,"Last Updated Date",{"$f":"Welcome!B5","v":"2024-04-09"}]
[]
[null,{"$f":"Company_Information!B7","v":"40 CFR Part 63, Subpart EEEE National Emission Standards for Hazardous Air Pollutants: Organic Liquids Distribution (Non-Gasoline)"}]
[null,{"$f":"Company_Information!B8","v":"§63.2386(a), (c), and (d) Compliance Report Spreadsheet Template"}]
[null,"This tab contains information on bypass events, including periods of bypassing a control device, periods of flow indicator inoperability, and other events outlined in 40 CFR part 63 subpart SS."]
[null,"Note: Company Record No. selections will appear once information is entered onto the \"Company_Information\" tab."]
[null,null,null,null,null,null,null,"For Bypass Events"]
[null,"Company Record No.\n(Select from dropdown)","Equipment Identification\n(§63.2386(c)(12), §63.999(c)(2)(ii))","Type of Event\n(§63.2386(c)(12), §63.999(c)(2)(ii)-(iii))\n(Select from dropdown)","Start Date\n(§63.2386(c)(12), §63.999(c)(2)(ii)-(iii))","Start Time\n(§63.2386(c)(12), §63.999(c)(2)(ii)-(iii))","Duration\n(in hours)\n(§63.2386(c)(12), §63.999(c)(2)(ii)-(iii))","Estimate of Gas Volume that Bypasses Control Device\n(in scf)\n(§63.2386(c)(12))","Concentration of Organic HAP in Gas\n(in ppm)\n(§63.2386(c)(12))","Mass Emissions of Organic HAP that Bypass Control Device\n(in pounds)\n(§63.2386(c)(12))","Comments or Additional Information"]
[null,"RecordId","BypassId","BypassType","BypassStartDate","BypassStartTime","BypassDuration","BypassVolume","BypassConc","BypassMass","BypassComments"]
[null,"e.g.: 1","e.g.:","e.g.: Bypass detected","e.g.: 05/02/20","e.g.: 10:00 AM","e.g.: 3","e.g.: 500","e.g.: 1000","e.g.: 30","e.g.:"]
[null,"e.g.","e.g.","e.g.","e.g.","e.g.","e.g.","e.g.","e.g.","e.g.","e.g."]
[null,"e.g.","e.g.","e.g.","e.g.","e.g.","e.g.","e.g.","e.g.","e.g.","e.g."]
[null,"e.g.","e.g.","e.g.","e.g.","e.g.","e.g.","e.g.","e.g.","e.g.","e.g."]
[null,"e.g.","e.g.","e.g.","e.g.","e.g.","e.g.","e.g.","e.g.","e.g.","e.g."]
[null,"e.g.","e.g.","e.g.","e.g.","e.g.","e.g.","e.g.","e.g.","e.g.","e.g."]
[null,"e.g.","e.g.","e.g.","e.g.","e.g.","e.g.","e.g.","e.g.","e.g.","e.g."]
[null,"e.g.","e.g.","e.g.","e.g.","e.g.","e.g.","e.g.","e.g.","e.g.","e.g."]
[null,"e.g.","e.g.","e.g.","e.g.","e.g.","e.g.","e.g.","e.g.","e.g.","e.g."]
[null,"e.g.","e.g.","e.g.","e.g.","e.g.","e.g.","e.g.","e.g.","e.g.","e.g."]

{"sheet":"Flares","index":12,"n_rows":523,"n_cols":12,"rows_kept":523,"cut":false,"hidden":false,"merged":[]}
[null,"DO NOT REMOVE OR EDIT INFORMATION IN ROWS 1 THROUGH 5\nFOR INTERNAL USE ONLY"]
[null,"Template Name",{"$f":"Welcome!B2","v":"63.2386(a), (c), and (d) Compliance Report (Spreadsheet Template)"}]
[null,"CitationID",{"$f":"Welcome!B3","v":"63.2386(a), (c), and (d)"}]
[null,"Template Version",{"$f":"Welcome!B4","v":"v1.01"}]
[null,"Last Updated Date",{"$f":"Welcome!B5","v":"2024-04-09"}]
[]
[null,{"$f":"Company_Information!B7","v":"40 CFR Part 63, Subpart EEEE National Emission Standards for Hazardous Air Pollutants: Organic Liquids Distribution (Non-Gasoline)"}]
[null,{"$f":"Company_Information!B8","v":"§63.2386(a), (c), and (d) Compliance Report Spreadsheet Template"}]
[null,"This tab contains information on periods when regulated material is routed to a flare and one of the following occurred: (1) no pilot/flare flame, (2) the visible emissions threshold was exceeded, or (3) applicable operating limits were not met."]
[null,"Note: Company Record No. selections will appear once information is entered onto the \"Company_Information\" tab."]
[null,null,null,null,null,null,null,"Visible Emissions Exceeded","Operating Limits Not Met"]
[null,"Company Record No.\n(Select from dropdown)","Flare ID\n(§63.2386(d)(5))","Type of Event\n(§63.2386(d)(5))\n(Select from dropdown)","Start Date\n(§63.2386(d)(5))","Start Time\n(§63.2386(d)(5))","End time\n(§63.2386(d)(5))","Estimate of Cumulative Number of Minutes for Which Emissions Were Visible\n(§63.2386(d)(5)(ii))","Which operating limit was not met?\n(§63.2386(d)(5)(iii))\n(Select from dropdown)","Value of Operating Parameter\n(§63.2386(d)(5)(iii))","Units of Measure for Operating Parameter\n(§63.2386(d)(5)(iii))\n(Autofilled)","Comments or Additional Information"]
[null,"RecordId","FlareId","FlareEventType","FlareStartDate","FlareStartTime","FlareEndTime","VETime","FlareOpLimitExceeded","FlareOpLimitValue","FlareOpLimitUnits","FlareComments"]
[null,"e.g.: 1","e.g.: Flare 300ST","e.g.: No pilot flame present","e.g.: 06/01/20","e.g.: 9:20 AM","e.g.: 9:35 AM","e.g.: 20","e.g.: vtip","e.g.: 450","e.g.: ft/s","e.g.:"]
[null,"e.g.","e.g.","e.g.","e.g.","e.g.","e.g.","e.g.","e.g.","e.g.","e.g.","e.g."]
[null,"e.g.","e.g.","e.g.","e.g.","e.g.","e.g.","e.g.","e.g.","e.g.","e.g.","e.g."]
[null,"e.g.","e.g.","e.g.","e.g.","e.g.","e.g.","e.g.","e.g.","e.g.","e.g.","e.g."]
[null,"e.g.","e.g.","e.g.","e.g.","e.g.","e.g.","e.g.","e.g.","e.g.","e.g.","e.g."]
[null,"e.g.","e.g.","e.g.","e.g.","e.g.","e.g.","e.g.","e.g.","e.g.","e.g.","e.g."]
[null,"e.g.","e.g.","e.g.","e.g.","e.g.","e.g.","e.g.","e.g.","e.g.","e.g.","e.g."]
[null,"e.g.","e.g.","e.g.","e.g.","e.g.","e.g.","e.g.","e.g.","e.g.","e.g.","e.g."]
[null,"e.g.","e.g.","e.g.","e.g.","e.g.","e.g.","e.g.","e.g.","e.g.","e.g.","e.g."]
[null,"e.g.","e.g.","e.g.","e.g.","e.g.","e.g.","e.g.","e.g.","e.g.","e.g.","e.g."]
[null,null,null,null,null,null,null,null,null,null,{"$f":"IF(I24=\"\",\"\",IF(I24=\"vtip\",\"ft/s\",IF(I24=\"NHVcz\",\"Btu/scf\",\"Btu/sq ft\")))","v":""}]
[null,null,null,null,null,null,null,null,null,null,""]
[null,null,null,null,null,null,null,null,null,null,""]
[null,null,null,null,null,null,null,null,null,null,""]
[null,null,null,null,null,null,null,null,null,null,""]
[null,null,null,null,null,null,null,null,null,null,""]
[null,null,null,null,null,null,null,null,null,null,""]
[null,null,null,null,null,null,null,null,null,null,""]
[null,null,null,null,null,null,null,null,null,null,""]
[null,null,null,null,null,null,null,null,null,null,""]
[null,null,null,null,null,null,null,null,null,null,""]
[null,null,null,null,null,null,null,null,null,null,""]
[null,null,null,null,null,null,null,null,null,null,""]
[null,null,null,null,null,null,null,null,null,null,""]
[null,null,null,null,null,null,null,null,null,null,""]
[null,null,null,null,null,null,null,null,null,null,""]
[null,null,null,null,null,null,null,null,null,null,""]
[null,null,null,null,null,null,null,null,null,null,""]
[null,null,null,null,null,null,null,null,null,null,""]
[null,null,null,null,null,null,null,null,null,null,""]
[null,null,null,null,null,null,null,null,null,null,""]
[null,null,null,null,null,null,null,null,null,null,""]
[null,null,null,null,null,null,null,null,null,null,""]
[null,null,null,null,null,null,null,null,null,null,""]
[null,null,null,null,null,null,null,null,null,null,""]
[null,null,null,null,null,null,null,null,null,null,""]
[null,null,null,null,null,null,null,null,null,null,""]
[null,null,null,null,null,null,null,null,null,null,""]
[null,null,null,null,null,null,null,null,null,null,""]
[null,null,null,null,null,null,null,null,null,null,""]
[null,null,null,null,null,null,null,null,null,null,""]
[null,null,null,null,null,null,null,null,null,null,""]
[null,null,null,null,null,null,null,null,null,null,""]
[null,null,null,null,null,null,null,null,null,null,""]
[null,null,null,null,null,null,null,null,null,null,""]
[null,null,null,null,null,null,null,null,null,null,""]
[null,null,null,null,null,null,null,null,null,null,""]
[null,null,null,null,null,null,null,null,null,null,""]
[null,null,null,null,null,null,null,null,null,null,""]
[null,null,null,null,null,null,null,null,null,null,""]
[null,null,null,null,null,null,null,null,null,null,""]
[null,null,null,null,null,null,null,null,null,null,""]
[null,null,null,null,null,null,null,null,null,null,""]
[null,null,null,null,null,null,null,null,null,null,""]
[null,null,null,null,null,null,null,null,null,null,""]
[null,null,null,null,null,null,null,null,null,null,""]
[null,null,null,null,null,null,null,null,null,null,""]
[null,null,null,null,null,null,null,null,null,null,""]
[null,null,null,null,null,null,null,null,null,null,""]
[null,null,null,null,null,null,null,null,null,null,""]
[null,null,null,null,null,null,null,null,null,null,""]
[null,null,null,null,null,null,null,null,null,null,""]
[null,null,null,null,null,null,null,null,null,null,""]
[null,null,null,null,null,null,null,null,null,null,{"$f":"IF(I77=\"\",\"\",IF(I77=\"vtip\",\"ft/s\",IF(I77=\"NHVcz\",\"Btu/scf\",\"Btu/sq ft\")))","v":""}]
[null,null,null,null,null,null,null,null,null,null,""]
[null,null,null,null,null,null,null,null,null,null,""]
[null,null,null,null,null,null,null,null,null,null,""]
[null,null,null,null,null,null,null,null,null,null,""]
[null,null,null,null,null,null,null,null,null,null,""]
[null,null,null,null,null,null,null,null,null,null,""]
[null,null,null,null,null,null,null,null,null,null,""]
[null,null,null,null,null,null,null,null,null,null,""]
[null,null,null,null,null,null,null,null,null,null,""]
[null,null,null,null,null,null,null,null,null,null,""]
[null,null,null,null,null,null,null,null,null,null,""]
[null,null,null,null,null,null,null,null,null,null,""]
[null,null,null,null,null,null,null,null,null,null,""]
[null,null,null,null,null,null,null,null,null,null,""]
[null,null,null,null,null,null,null,null,null,null,""]
[null,null,null,null,null,null,null,null,null,null,""]
[null,null,null,null,null,null,null,null,null,null,""]
[null,null,null,null,null,null,null,null,null,null,""]
[null,null,null,null,null,null,null,null,null,null,""]
[null,null,null,null,null,null,null,null,null,null,""]
[null,null,null,null,null,null,null,null,null,null,""]
[null,null,null,null,null,null,null,null,null,null,""]
[null,null,null,null,null,null,null,null,null,null,""]
[null,null,null,null,null,null,null,null,null,null,""]
[null,null,null,null,null,null,null,null,null,null,""]
[null,null,null,null,null,null,null,null,null,null,""]
[null,null,null,null,null,null,null,null,null,null,""]
[null,null,null,null,null,null,null,null,null,null,""]
[null,null,null,null,null,null,null,null,null,null,""]
[null,null,null,null,null,null,null,null,null,null,""]
[null,null,null,null,null,null,null,null,null,null,""]
[null,null,null,null,null,null,null,null,null,null,""]
[null,null,null,null,null,null,null,null,null,null,""]
[null,null,null,null,null,null,null,null,null,null,""]
[null,null,null,null,null,null,null,null,null,null,""]
[null,null,null,null,null,null,null,null,null,null,""]
[null,null,null,null,null,null,null,null,null,null,""]
[null,null,null,null,null,null,null,null,null,null,""]
[null,null,null,null,null,null,null,null,null,null,""]
[null,null,null,null,null,null,null,null,null,null,""]
[null,null,null,null,null,null,null,null,null,null,""]
[null,null,null,null,null,null,null,null,null,null,""]
[null,null,null,null,null,null,null,null,null,null,""]
[null,null,null,null,null,null,null,null,null,null,""]
[null,null,null,null,null,null,null,null,null,null,""]
[null,null,null,null,null,null,null,null,null,null,""]
[null,null,null,null,null,null,null,null,null,null,""]
[null,null,null,null,null,null,null,null,null,null,""]
[null,null,null,null,null,null,null,null,null,null,""]
[null,null,null,null,null,null,null,null,null,null,""]
[null,null,null,null,null,null,null,null,null,null,""]
[null,null,null,null,null,null,null,null,null,null,""]
[null,null,null,null,null,null,null,null,null,null,""]
[null,null,null,null,null,null,null,null,null,null,""]
[null,null,null,null,null,null,null,null,null,null,""]
[null,null,null,null,null,null,null,null,null,null,""]
[null,null,null,null,null,null,null,null,null,null,""]
[null,null,null,null,null,null,null,null,null,null,""]
[null,null,null,null,null,null,null,null,null,null,""]
[null,null,null,null,null,null,null,null,null,null,""]
[null,null,null,null,null,null,null,null,null,null,""]
[null,null,null,null,null,null,null,null,null,null,""]
[null,null,null,null,null,null,null,null,null,null,""]
[null,null,null,null,null,null,null,null,null,null,{"$f":"IF(I141=\"\",\"\",IF(I141=\"vtip\",\"ft/s\",IF(I141=\"NHVcz\",\"Btu/scf\",\"Btu/sq ft\")))","v":""}]
[null,null,null,null,null,null,null,null,null,null,""]
[null,null,null,null,null,null,null,null,null,null,""]
[null,null,null,null,null,null,null,null,null,null,""]
[null,null,null,null,null,null,null,null,null,null,""]
[null,null,null,null,null,null,null,null,null,null,""]
[null,null,null,null,null,null,null,null,null,null,""]
[null,null,null,null,null,null,null,null,null,null,""]
[null,null,null,null,null,null,null,null,null,null,""]
[null,null,null,null,null,null,null,null,null,null,""]
[null,null,null,null,null,null,null,null,null,null,""]
[null,null,null,null,null,null,null,null,null,null,""]
[null,null,null,null,null,null,null,null,null,null,""]
[null,null,null,null,null,null,null,null,null,null,""]
[null,null,null,null,null,null,null,null,null,null,""]
[null,null,null,null,null,null,null,null,null,null,""]
[null,null,null,null,null,null,null,null,null,null,""]
[null,null,null,null,null,null,null,null,null,null,""]
[null,null,null,null,null,null,null,null,null,null,""]
[null,null,null,null,null,null,null,null,null,null,""]
[null,null,null,null,null,null,null,null,null,null,""]
[null,null,null,null,null,null,null,null,null,null,""]
[null,null,null,null,null,null,null,null,null,null,""]
[null,null,null,null,null,null,null,null,null,null,""]
[null,null,null,null,null,null,null,null,null,null,""]
[null,null,null,null,null,null,null,null,null,null,""]
[null,null,null,null,null,null,null,null,null,null,""]
[null,null,null,null,null,null,null,null,null,null,""]
[null,null,null,null,null,null,null,null,null,null,""]
[null,null,null,null,null,null,null,null,null,null,""]
[null,null,null,null,null,null,null,null,null,null,""]
[null,null,null,null,null,null,null,null,null,null,""]
[null,null,null,null,null,null,null,null,null,null,""]
[null,null,null,null,null,null,null,null,null,null,""]
[null,null,null,null,null,null,null,null,null,null,""]
[null,null,null,null,null,null,null,null,null,null,""]
[null,null,null,null,null,null,null,null,null,null,""]
[null,null,null,null,null,null,null,null,null,null,""]
[null,null,null,null,null,null,null,null,null,null,""]
[null,null,null,null,null,null,null,null,null,null,""]
[null,null,null,null,null,null,null,null,null,null,""]
[null,null,null,null,null,null,null,null,null,null,""]
[null,null,null,null,null,null,null,null,null,null,""]
[null,null,null,null,null,null,null,null,null,null,""]
[null,null,null,null,null,null,null,null,null,null,""]
[null,null,null,null,null,null,null,null,null,null,""]
[null,null,null,null,null,null,null,null,null,null,""]
[null,null,null,null,null,null,null,null,null,null,""]
[null,null,null,null,null,null,null,null,null,null,""]
[null,null,null,null,null,null,null,null,null,null,""]
[null,null,null,null,null,null,null,null,null,null,""]
[null,null,null,null,null,null,null,null,null,null,""]
[null,null,null,null,null,null,null,null,null,null,""]
[null,null,null,null,null,null,null,null,null,null,""]
[null,null,null,null,null,null,null,null,null,null,""]
[null,null,null,null,null,null,null,null,null,null,""]
[null,null,null,null,null,null,null,null,null,null,""]
[null,null,null,null,null,null,null,null,null,null,""]
[null,null,null,null,null,null,null,null,null,null,""]
[null,null,null,null,null,null,null,null,null,null,""]
[null,null,null,null,null,null,null,null,null,null,""]
[null,null,null,null,null,null,null,null,null,null,""]
[null,null,null,null,null,null,null,null,null,null,""]
[null,null,null,null,null,null,null,null,null,null,""]
[null,null,null,null,null,null,null,null,null,null,{"$f":"IF(I205=\"\",\"\",IF(I205=\"vtip\",\"ft/s\",IF(I205=\"NHVcz\",\"Btu/scf\",\"Btu/sq ft\")))","v":""}]
[null,null,null,null,null,null,null,null,null,null,""]
[null,null,null,null,null,null,null,null,null,null,""]
[null,null,null,null,null,null,null,null,null,null,""]
[null,null,null,null,null,null,null,null,null,null,""]
[null,null,null,null,null,null,null,null,null,null,""]
[null,null,null,null,null,null,null,null,null,null,""]
[null,null,null,null,null,null,null,null,null,null,""]
[null,null,null,null,null,null,null,null,null,null,""]
[null,null,null,null,null,null,null,null,null,null,""]
[null,null,null,null,null,null,null,null,null,null,""]
[null,null,null,null,null,null,null,null,null,null,""]
[null,null,null,null,null,null,null,null,null,null,""]
[null,null,null,null,null,null,null,null,null,null,""]
[null,null,null,null,null,null,null,null,null,null,""]
[null,null,null,null,null,null,null,null,null,null,""]
[null,null,null,null,null,null,null,null,null,null,""]
[null,null,null,null,null,null,null,null,null,null,""]
[null,null,null,null,null,null,null,null,null,null,""]
[null,null,null,null,null,null,null,null,null,null,""]
[null,null,null,null,null,null,null,null,null,null,""]
[null,null,null,null,null,null,null,null,null,null,""]
[null,null,null,null,null,null,null,null,null,null,""]
[null,null,null,null,null,null,null,null,null,null,""]
[null,null,null,null,null,null,null,null,null,null,""]
[null,null,null,null,null,null,null,null,null,null,""]
[null,null,null,null,null,null,null,null,null,null,""]
[null,null,null,null,null,null,null,null,null,null,""]
[null,null,null,null,null,null,null,null,null,null,""]
[null,null,null,null,null,null,null,null,null,null,""]
[null,null,null,null,null,null,null,null,null,null,""]
[null,null,null,null,null,null,null,null,null,null,""]
[null,null,null,null,null,null,null,null,null,null,""]
[null,null,null,null,null,null,null,null,null,null,""]
[null,null,null,null,null,null,null,null,null,null,""]
[null,null,null,null,null,null,null,null,null,null,""]
[null,null,null,null,null,null,null,null,null,null,""]
[null,null,null,null,null,null,null,null,null,null,""]
[null,null,null,null,null,null,null,null,null,null,""]
[null,null,null,null,null,null,null,null,null,null,""]
[null,null,null,null,null,null,null,null,null,null,""]
[null,null,null,null,null,null,null,null,null,null,""]
[null,null,null,null,null,null,null,null,null,null,""]
[null,null,null,null,null,null,null,null,null,null,""]
[null,null,null,null,null,null,null,null,null,null,""]
[null,null,null,null,null,null,null,null,null,null,""]
[null,null,null,null,null,null,null,null,null,null,""]
[null,null,null,null,null,null,null,null,null,null,""]
[null,null,null,null,null,null,null,null,null,null,""]
[null,null,null,null,null,null,null,null,null,null,""]
[null,null,null,null,null,null,null,null,null,null,""]
[null,null,null,null,null,null,null,null,null,null,""]
[null,null,null,null,null,null,null,null,null,null,""]
[null,null,null,null,null,null,null,null,null,null,""]
[null,null,null,null,null,null,null,null,null,null,""]
[null,null,null,null,null,null,null,null,null,null,""]
[null,null,null,null,null,null,null,null,null,null,""]
[null,null,null,null,null,null,null,null,null,null,""]
[null,null,null,null,null,null,null,null,null,null,""]
[null,null,null,null,null,null,null,null,null,null,""]
[null,null,null,null,null,null,null,null,null,null,""]
[null,null,null,null,null,null,null,null,null,null,""]
[null,null,null,null,null,null,null,null,null,null,""]
[null,null,null,null,null,null,null,null,null,null,""]
[null,null,null,null,null,null,null,null,null,null,{"$f":"IF(I269=\"\",\"\",IF(I269=\"vtip\",\"ft/s\",IF(I269=\"NHVcz\",\"Btu/scf\",\"Btu/sq ft\")))","v":""}]
[null,null,null,null,null,null,null,null,null,null,""]
[null,null,null,null,null,null,null,null,null,null,""]
[null,null,null,null,null,null,null,null,null,null,""]
[null,null,null,null,null,null,null,null,null,null,""]
[null,null,null,null,null,null,null,null,null,null,""]
[null,null,null,null,null,null,null,null,null,null,""]
[null,null,null,null,null,null,null,null,null,null,""]
[null,null,null,null,null,null,null,null,null,null,""]
[null,null,null,null,null,null,null,null,null,null,""]
[null,null,null,null,null,null,null,null,null,null,""]
[null,null,null,null,null,null,null,null,null,null,""]
[null,null,null,null,null,null,null,null,null,null,""]
[null,null,null,null,null,null,null,null,null,null,""]
[null,null,null,null,null,null,null,null,null,null,""]
[null,null,null,null,null,null,null,null,null,null,""]
[null,null,null,null,null,null,null,null,null,null,""]
[null,null,null,null,null,null,null,null,null,null,""]
[null,null,null,null,null,null,null,null,null,null,""]
[null,null,null,null,null,null,null,null,null,null,""]
[null,null,null,null,null,null,null,null,null,null,""]
[null,null,null,null,null,null,null,null,null,null,""]
[null,null,null,null,null,null,null,null,null,null,""]
[null,null,null,null,null,null,null,null,null,null,""]
[null,null,null,null,null,null,null,null,null,null,""]
[null,null,null,null,null,null,null,null,null,null,""]
[null,null,null,null,null,null,null,null,null,null,""]
[null,null,null,null,null,null,null,null,null,null,""]
[null,null,null,null,null,null,null,null,null,null,""]
[null,null,null,null,null,null,null,null,null,null,""]
[null,null,null,null,null,null,null,null,null,null,""]
[null,null,null,null,null,null,null,null,null,null,""]
[null,null,null,null,null,null,null,null,null,null,""]
[null,null,null,null,null,null,null,null,null,null,""]
[null,null,null,null,null,null,null,null,null,null,""]
[null,null,null,null,null,null,null,null,null,null,""]
[null,null,null,null,null,null,null,null,null,null,""]
[null,null,null,null,null,null,null,null,null,null,""]
[null,null,null,null,null,null,null,null,null,null,""]
[null,null,null,null,null,null,null,null,null,null,""]
[null,null,null,null,null,null,null,null,null,null,""]
[null,null,null,null,null,null,null,null,null,null,""]
[null,null,null,null,null,null,null,null,null,null,""]
[null,null,null,null,null,null,null,null,null,null,""]
[null,null,null,null,null,null,null,null,null,null,""]
[null,null,null,null,null,null,null,null,null,null,""]
[null,null,null,null,null,null,null,null,null,null,""]
[null,null,null,null,null,null,null,null,null,null,""]
[null,null,null,null,null,null,null,null,null,null,""]
[null,null,null,null,null,null,null,null,null,null,""]
[null,null,null,null,null,null,null,null,null,null,""]
[null,null,null,null,null,null,null,null,null,null,""]
[null,null,null,null,null,null,null,null,null,null,""]
[null,null,null,null,null,null,null,null,null,null,""]
[null,null,null,null,null,null,null,null,null,null,""]
[null,null,null,null,null,null,null,null,null,null,""]
[null,null,null,null,null,null,null,null,null,null,""]
[null,null,null,null,null,null,null,null,null,null,""]
[null,null,null,null,null,null,null,null,null,null,""]
[null,null,null,null,null,null,null,null,null,null,""]
[null,null,null,null,null,null,null,null,null,null,""]
[null,null,null,null,null,null,null,null,null,null,""]
[null,null,null,null,null,null,null,null,null,null,""]
[null,null,null,null,null,null,null,null,null,null,""]
[null,null,null,null,null,null,null,null,null,null,{"$f":"IF(I333=\"\",\"\",IF(I333=\"vtip\",\"ft/s\",IF(I333=\"NHVcz\",\"Btu/scf\",\"Btu/sq ft\")))","v":""}]
[null,null,null,null,null,null,null,null,null,null,""]
[null,null,null,null,null,null,null,null,null,null,""]
[null,null,null,null,null,null,null,null,null,null,""]
[null,null,null,null,null,null,null,null,null,null,""]
[null,null,null,null,null,null,null,null,null,null,""]
[null,null,null,null,null,null,null,null,null,null,""]
[null,null,null,null,null,null,null,null,null,null,""]
[null,null,null,null,null,null,null,null,null,null,""]
[null,null,null,null,null,null,null,null,null,null,""]
[null,null,null,null,null,null,null,null,null,null,""]
[null,null,null,null,null,null,null,null,null,null,""]
[null,null,null,null,null,null,null,null,null,null,""]
[null,null,null,null,null,null,null,null,null,null,""]
[null,null,null,null,null,null,null,null,null,null,""]
[null,null,null,null,null,null,null,null,null,null,""]
[null,null,null,null,null,null,null,null,null,null,""]
[null,null,null,null,null,null,null,null,null,null,""]
[null,null,null,null,null,null,null,null,null,null,""]
[null,null,null,null,null,null,null,null,null,null,""]
[null,null,null,null,null,null,null,null,null,null,""]
[null,null,null,null,null,null,null,null,null,null,""]
[null,null,null,null,null,null,null,null,null,null,""]
[null,null,null,null,null,null,null,null,null,null,""]
[null,null,null,null,null,null,null,null,null,null,""]
[null,null,null,null,null,null,null,null,null,null,""]
[null,null,null,null,null,null,null,null,null,null,""]
[null,null,null,null,null,null,null,null,null,null,""]
[null,null,null,null,null,null,null,null,null,null,""]
[null,null,null,null,null,null,null,null,null,null,""]
[null,null,null,null,null,null,null,null,null,null,""]
[null,null,null,null,null,null,null,null,null,null,""]
[null,null,null,null,null,null,null,null,null,null,""]
[null,null,null,null,null,null,null,null,null,null,""]
[null,null,null,null,null,null,null,null,null,null,""]
[null,null,null,null,null,null,null,null,null,null,""]
[null,null,null,null,null,null,null,null,null,null,""]
[null,null,null,null,null,null,null,null,null,null,""]
[null,null,null,null,null,null,null,null,null,null,""]
[null,null,null,null,null,null,null,null,null,null,""]
[null,null,null,null,null,null,null,null,null,null,""]
[null,null,null,null,null,null,null,null,null,null,""]
[null,null,null,null,null,null,null,null,null,null,""]
[null,null,null,null,null,null,null,null,null,null,""]
[null,null,null,null,null,null,null,null,null,null,""]
[null,null,null,null,null,null,null,null,null,null,""]
[null,null,null,null,null,null,null,null,null,null,""]
[null,null,null,null,null,null,null,null,null,null,""]
[null,null,null,null,null,null,null,null,null,null,""]
[null,null,null,null,null,null,null,null,null,null,""]
[null,null,null,null,null,null,null,null,null,null,""]
[null,null,null,null,null,null,null,null,null,null,""]
[null,null,null,null,null,null,null,null,null,null,""]
[null,null,null,null,null,null,null,null,null,null,""]
[null,null,null,null,null,null,null,null,null,null,""]
[null,null,null,null,null,null,null,null,null,null,""]
[null,null,null,null,null,null,null,null,null,null,""]
[null,null,null,null,null,null,null,null,null,null,""]
[null,null,null,null,null,null,null,null,null,null,""]
[null,null,null,null,null,null,null,null,null,null,""]
[null,null,null,null,null,null,null,null,null,null,""]
[null,null,null,null,null,null,null,null,null,null,""]
[null,null,null,null,null,null,null,null,null,null,""]
[null,null,null,null,null,null,null,null,null,null,""]
[null,null,null,null,null,null,null,null,null,null,{"$f":"IF(I397=\"\",\"\",IF(I397=\"vtip\",\"ft/s\",IF(I397=\"NHVcz\",\"Btu/scf\",\"Btu/sq ft\")))","v":""}]
[null,null,null,null,null,null,null,null,null,null,""]
[null,null,null,null,null,null,null,null,null,null,""]
[null,null,null,null,null,null,null,null,null,null,""]
[null,null,null,null,null,null,null,null,null,null,""]
[null,null,null,null,null,null,null,null,null,null,""]
[null,null,null,null,null,null,null,null,null,null,""]
[null,null,null,null,null,null,null,null,null,null,""]
[null,null,null,null,null,null,null,null,null,null,""]
[null,null,null,null,null,null,null,null,null,null,""]
[null,null,null,null,null,null,null,null,null,null,""]
[null,null,null,null,null,null,null,null,null,null,""]
[null,null,null,null,null,null,null,null,null,null,""]
[null,null,null,null,null,null,null,null,null,null,""]
[null,null,null,null,null,null,null,null,null,null,""]
[null,null,null,null,null,null,null,null,null,null,""]
[null,null,null,null,null,null,null,null,null,null,""]
[null,null,null,null,null,null,null,null,null,null,""]
[null,null,null,null,null,null,null,null,null,null,""]
[null,null,null,null,null,null,null,null,null,null,""]
[null,null,null,null,null,null,null,null,null,null,""]
[null,null,null,null,null,null,null,null,null,null,""]
[null,null,null,null,null,null,null,null,null,null,""]
[null,null,null,null,null,null,null,null,null,null,""]
[null,null,null,null,null,null,null,null,null,null,""]
[null,null,null,null,null,null,null,null,null,null,""]
[null,null,null,null,null,null,null,null,null,null,""]
[null,null,null,null,null,null,null,null,null,null,""]
[null,null,null,null,null,null,null,null,null,null,""]
[null,null,null,null,null,null,null,null,null,null,""]
[null,null,null,null,null,null,null,null,null,null,""]
[null,null,null,null,null,null,null,null,null,null,""]
[null,null,null,null,null,null,null,null,null,null,""]
[null,null,null,null,null,null,null,null,null,null,""]
[null,null,null,null,null,null,null,null,null,null,""]
[null,null,null,null,null,null,null,null,null,null,""]
[null,null,null,null,null,null,null,null,null,null,""]
[null,null,null,null,null,null,null,null,null,null,""]
[null,null,null,null,null,null,null,null,null,null,""]
[null,null,null,null,null,null,null,null,null,null,""]
[null,null,null,null,null,null,null,null,null,null,""]
[null,null,null,null,null,null,null,null,null,null,""]
[null,null,null,null,null,null,null,null,null,null,""]
[null,null,null,null,null,null,null,null,null,null,""]
[null,null,null,null,null,null,null,null,null,null,""]
[null,null,null,null,null,null,null,null,null,null,""]
[null,null,null,null,null,null,null,null,null,null,""]
[null,null,null,null,null,null,null,null,null,null,""]
[null,null,null,null,null,null,null,null,null,null,""]
[null,null,null,null,null,null,null,null,null,null,""]
[null,null,null,null,null,null,null,null,null,null,""]
[null,null,null,null,null,null,null,null,null,null,""]
[null,null,null,null,null,null,null,null,null,null,""]
[null,null,null,null,null,null,null,null,null,null,""]
[null,null,null,null,null,null,null,null,null,null,""]
[null,null,null,null,null,null,null,null,null,null,""]
[null,null,null,null,null,null,null,null,null,null,""]
[null,null,null,null,null,null,null,null,null,null,""]
[null,null,null,null,null,null,null,null,null,null,""]
[null,null,null,null,null,null,null,null,null,null,""]
[null,null,null,null,null,null,null,null,null,null,""]
[null,null,null,null,null,null,null,null,null,null,""]
[null,null,null,null,null,null,null,null,null,null,""]
[null,null,null,null,null,null,null,null,null,null,""]
[null,null,null,null,null,null,null,null,null,null,{"$f":"IF(I461=\"\",\"\",IF(I461=\"vtip\",\"ft/s\",IF(I461=\"NHVcz\",\"Btu/scf\",\"Btu/sq ft\")))","v":""}]
[null,null,null,null,null,null,null,null,null,null,""]
[null,null,null,null,null,null,null,null,null,null,""]
[null,null,null,null,null,null,null,null,null,null,""]
[null,null,null,null,null,null,null,null,null,null,""]
[null,null,null,null,null,null,null,null,null,null,""]
[null,null,null,null,null,null,null,null,null,null,""]
[null,null,null,null,null,null,null,null,null,null,""]
[null,null,null,null,null,null,null,null,null,null,""]
[null,null,null,null,null,null,null,null,null,null,""]
[null,null,null,null,null,null,null,null,null,null,""]
[null,null,null,null,null,null,null,null,null,null,""]
[null,null,null,null,null,null,null,null,null,null,""]
[null,null,null,null,null,null,null,null,null,null,""]
[null,null,null,null,null,null,null,null,null,null,""]
[null,null,null,null,null,null,null,null,null,null,""]
[null,null,null,null,null,null,null,null,null,null,""]
[null,null,null,null,null,null,null,null,null,null,""]
[null,null,null,null,null,null,null,null,null,null,""]
[null,null,null,null,null,null,null,null,null,null,""]
[null,null,null,null,null,null,null,null,null,null,""]
[null,null,null,null,null,null,null,null,null,null,""]
[null,null,null,null,null,null,null,null,null,null,""]
[null,null,null,null,null,null,null,null,null,null,""]
[null,null,null,null,null,null,null,null,null,null,""]
[null,null,null,null,null,null,null,null,null,null,""]
[null,null,null,null,null,null,null,null,null,null,""]
[null,null,null,null,null,null,null,null,null,null,""]
[null,null,null,null,null,null,null,null,null,null,""]
[null,null,null,null,null,null,null,null,null,null,""]
[null,null,null,null,null,null,null,null,null,null,""]
[null,null,null,null,null,null,null,null,null,null,""]
[null,null,null,null,null,null,null,null,null,null,""]
[null,null,null,null,null,null,null,null,null,null,""]
[null,null,null,null,null,null,null,null,null,null,""]
[null,null,null,null,null,null,null,null,null,null,""]
[null,null,null,null,null,null,null,null,null,null,""]
[null,null,null,null,null,null,null,null,null,null,""]
[null,null,null,null,null,null,null,null,null,null,""]
[null,null,null,null,null,null,null,null,null,null,""]
[null,null,null,null,null,null,null,null,null,null,""]
[null,null,null,null,null,null,null,null,null,null,""]
[null,null,null,null,null,null,null,null,null,null,""]
[null,null,null,null,null,null,null,null,null,null,""]
[null,null,null,null,null,null,null,null,null,null,""]
[null,null,null,null,null,null,null,null,null,null,""]
[null,null,null,null,null,null,null,null,null,null,""]
[null,null,null,null,null,null,null,null,null,null,""]
[null,null,null,null,null,null,null,null,null,null,""]
[null,null,null,null,null,null,null,null,null,null,""]
[null,null,null,null,null,null,null,null,null,null,""]
[null,null,null,null,null,null,null,null,null,null,""]
[null,null,null,null,null,null,null,null,null,null,""]
[null,null,null,null,null,null,null,null,null,null,""]
[null,null,null,null,null,null,null,null,null,null,""]
[null,null,null,null,null,null,null,null,null,null,""]
[null,null,null,null,null,null,null,null,null,null,""]
[null,null,null,null,null,null,null,null,null,null,""]
[null,null,null,null,null,null,null,null,null,null,""]
[null,null,null,null,null,null,null,null,null,null,""]
[null,null,null,null,null,null,null,null,null,null,""]
[null,null,null,null,null,null,null,null,null,null,""]
[null,null,null,null,null,null,null,null,null,null,""]

{"sheet":"New_Tanks_Racks","index":13,"n_rows":23,"n_cols":7,"rows_kept":23,"cut":false,"hidden":false,"merged":[]}
[null,"DO NOT REMOVE OR EDIT INFORMATION IN ROWS 1 THROUGH 5\nFOR INTERNAL USE ONLY"]
[null,"Template Name",{"$f":"Welcome!B2","v":"63.2386(a), (c), and (d) Compliance Report (Spreadsheet Template)"}]
[null,"CitationID",{"$f":"Welcome!B3","v":"63.2386(a), (c), and (d)"}]
[null,"Template Version",{"$f":"Welcome!B4","v":"v1.01"}]
[null,"Last Updated Date",{"$f":"Welcome!B5","v":"2024-04-09"}]
[]
[null,{"$f":"Company_Information!B7","v":"40 CFR Part 63, Subpart EEEE National Emission Standards for Hazardous Air Pollutants: Organic Liquids Distribution (Non-Gasoline)"}]
[null,{"$f":"Company_Information!B8","v":"§63.2386(a), (c), and (d) Compliance Report Spreadsheet Template"}]
[null,"This tab contains a listing of all transfer racks and of tanks greater than or equal to 18.9 cubic meters (5,000 gallons) that became part of the affected source but are not subject to any of the emission"]
[null,"limitations, operating limits, or work practice standards and a listing of any storage tanks that became subject to controls since the filing of the last report."]
[null,"Note: Company Record No. selections will appear once information is entered onto the \"Company_Information\" tab."]
[null,"Company Record No.\n(Select from dropdown)","Equipment ID\n(§63.2386(c)(10)(i), §63.2386(d)(3), §63.2386(d)(4))","Transfer Rack or Tank?\n(§63.2386(c)(10)(i), §63.2386(d)(3), §63.2386(d)(4))\n(Select from dropdown)","Subject to any of the emission limitations, operating limits, or work practice standards of 40 CFR Part 63 Subpart EEEE?\n(§63.2386(c)(10)(i),  §63.2386(d)(4))\n(Select from dropdown)","Became Subject to Controls Since Last Compliance Report?\n(§63.2386(d)(3))\n(Select from dropdown)","Comments or Additional Information"]
[null,"RecordId","TankRackId","TankOrRack","SubjectStandardsFlag","SubjectControlsFlag","TankRackComments"]
[null,"e.g.: 1","e.g.: Rack ABC","e.g.: Transfer Rack","e.g.: no","e.g.: no","e.g.:"]
[null,"e.g.","e.g.","e.g.","e.g.","e.g.","e.g."]
[null,"e.g.","e.g.","e.g.","e.g.","e.g.","e.g."]
[null,"e.g.","e.g.","e.g.","e.g.","e.g.","e.g."]
[null,"e.g.","e.g.","e.g.","e.g.","e.g.","e.g."]
[null,"e.g.","e.g.","e.g.","e.g.","e.g.","e.g."]
[null,"e.g.","e.g.","e.g.","e.g.","e.g.","e.g."]
[null,"e.g.","e.g.","e.g.","e.g.","e.g.","e.g."]
[null,"e.g.","e.g.","e.g.","e.g.","e.g.","e.g."]
[null,"e.g.","e.g.","e.g.","e.g.","e.g.","e.g."]

{"sheet":"Tanks","index":14,"n_rows":23,"n_cols":20,"rows_kept":23,"cut":false,"hidden":false,"merged":[]}
[null,"DO NOT REMOVE OR EDIT INFORMATION IN ROWS 1 THROUGH 5\nFOR INTERNAL USE ONLY"]
[null,"Template Name",{"$f":"Welcome!B2","v":"63.2386(a), (c), and (d) Compliance Report (Spreadsheet Template)"}]
[null,"CitationID",{"$f":"Welcome!B3","v":"63.2386(a), (c), and (d)"}]
[null,"Template Version",{"$f":"Welcome!B4","v":"v1.01"}]
[null,"Last Updated Date",{"$f":"Welcome!B5","v":"2024-04-09"}]
[]
[null,{"$f":"Company_Information!B7","v":"40 CFR Part 63, Subpart EEEE National Emission Standards for Hazardous Air Pollutants: Organic Liquids Distribution (Non-Gasoline)"}]
[null,{"$f":"Company_Information!B8","v":"§63.2386(a), (c), and (d) Compliance Report Spreadsheet Template"}]
[null,"This tab contains information on floating roof tank inspections and periods when control devices on floating roof tanks did not or expected to not meet control requirements."]
[null,"Note: Company Record No. selections will appear once information is entered onto the \"Company_Information\" tab."]
[null,null,null,null,"Floating Roof Inspection Failure",null,null,null,null,null,"Control System Does Not Meet Applicable Specifications of §63.983(a), §63.985(a), or §63.987(a) or Applicable Emission Limit in Table 2 or 2b Due to Routine Maintenance",null,null,null,null,null,"Planned Maintenance for Next Period Where Control System Is Not Expected to Meet Required Control Efficiency"]
[null,"Company Record No.\n(Select from dropdown)","Storage Tank Identification\n(§63.2386(c)(8), §63.2386(d)(2)(ii), §63.2368(d)(2)(iv), §63.1066(b)(2), §63.1065(b)(1)(i))","If you used an extension for a floating roof inspection, list the file name containing the required documentation.\n(§63.2386(d)(2)(iii), §63.1066(b)(4))","Date of Inspection\n(§63.2386(d)(2)(ii), \n§63.1066(b)(2), §63.1065(b)(1)(ii))","Description of Inspection Failure\n(§63.2386(d)(2)(ii), \n§63.1066(b)(2), §63.1065(b)(1)(iii))","Description of Repair\n(§63.2386(d)(2)(ii), \n§63.1066(b)(2), §63.1065(b)(1)(iv))","Date of Repair\n(§63.2386(d)(2)(ii), \n§63.1066(b)(2), §63.1065(b)(1)(iv))","Date Removed From Service (if applicable)\n(§63.2386(d)(2)(ii), \n§63.1066(b)(2), §63.1065(b)(1)(v))","For External Floating Roofs, list the name of the attached file with seal gap measurements.\n(§63.2386(d)(2)(ii), \n§63.1066(b)(2), §63.1065(b)(2))","Date Requirements Not Met at Beginning of Planned Maintenance\n(§63.2386(d)(2)(iv), §63.999(c)(4)(i), §63.998(d)(2)(ii)(A))","First Time of Day Requirements Not Met at Beginning of Planned Maintenance\n(§63.2386(d)(2)(iv), §63.999(c)(4)(i), §63.998(d)(2)(ii)(A))","Date Requirements Met at Conclusion of Planned Maintenance\n(§63.2386(d)(2)(iv), §63.999(c)(4)(i), §63.998(d)(2)(ii)(B))","First Time of Day Requirements Met at Conclusion of Planned Maintenance\n(§63.2386(d)(2)(iv), §63.999(c)(4)(i), §63.998(d)(2)(ii)(B))","Description of Type of Maintenance Performed\n(§63.2386(c)(8)(ii), §63.999(c)(4)(i), §63.998(d)(2)(ii)(C))","Total Number of Hours Control System Didn't Meet Requirements\n(for this period and previous period)\n(§63.2386(c)(8)(ii), §63.999(c)(4)(ii))","Type of Maintenance\n(§63.2386(c)(8)(i), §63.999(c)(4)(iii))","Planned Frequency of Maintenance\n(§63.2386(c)(8)(i), §63.999(c)(4)(iii))","Expected Length of Maintenance Period\n(§63.2386(c)(8)(i), §63.999(c)(4)(iii))","Comments or Additional Information"]
[null,"RecordId","TankId","TankExtension","TankInspectDate","TankInspectFailure","TankRepairDesc","TankRepairDate","TankRemoveDate","TankSealGaps","TankDateStart","TankTimeStart","TankDateEnd","TankTimeEnd","TankMaintenancePerformed","TankControlHours","TankPlannedMaintenance","TankMaintenanceFrequency","TankMaintenanceLength","TankComments"]
[null,"e.g.: 1","e.g.: Tank AB","e.g.: extension.pdf","e.g.: 05/01/20","e.g.:","e.g.:","e.g.: 05/10/20","e.g.: 5/10/20","e.g.: gaps.pdf","e.g.: 05/10/20","e.g.: 1:20 PM","e.g.: 05/11/20","e.g.: 1:20 PM","e.g.:","e.g.:  24","e.g.:","e.g.:","e.g.:","e.g.:"]
[null,"e.g.","e.g.","e.g.","e.g.","e.g.","e.g.","e.g.","e.g.","e.g.","e.g.","e.g.","e.g.","e.g.","e.g.","e.g.","e.g.","e.g.","e.g.","e.g."]
[null,"e.g.","e.g.","e.g.","e.g.","e.g.","e.g.","e.g.","e.g.","e.g.","e.g.","e.g.","e.g.","e.g.","e.g.","e.g.","e.g.","e.g.","e.g.","e.g."]
[null,"e.g.","e.g.","e.g.","e.g.","e.g.","e.g.","e.g.","e.g.","e.g.","e.g.","e.g.","e.g.","e.g.","e.g.","e.g.","e.g.","e.g.","e.g.","e.g."]
[null,"e.g.","e.g.","e.g.","e.g.","e.g.","e.g.","e.g.","e.g.","e.g.","e.g.","e.g.","e.g.","e.g.","e.g.","e.g.","e.g.","e.g.","e.g.","e.g."]
[null,"e.g.","e.g.","e.g.","e.g.","e.g.","e.g.","e.g.","e.g.","e.g.","e.g.","e.g.","e.g.","e.g.","e.g.","e.g.","e.g.","e.g.","e.g.","e.g."]
[null,"e.g.","e.g.","e.g.","e.g.","e.g.","e.g.","e.g.","e.g.","e.g.","e.g.","e.g.","e.g.","e.g.","e.g.","e.g.","e.g.","e.g.","e.g.","e.g."]
[null,"e.g.","e.g.","e.g.","e.g.","e.g.","e.g.","e.g.","e.g.","e.g.","e.g.","e.g.","e.g.","e.g.","e.g.","e.g.","e.g.","e.g.","e.g.","e.g."]
[null,"e.g.","e.g.","e.g.","e.g.","e.g.","e.g.","e.g.","e.g.","e.g.","e.g.","e.g.","e.g.","e.g.","e.g.","e.g.","e.g.","e.g.","e.g.","e.g."]
[null,"e.g.","e.g.","e.g.","e.g.","e.g.","e.g.","e.g.","e.g.","e.g.","e.g.","e.g.","e.g.","e.g.","e.g.","e.g.","e.g.","e.g.","e.g.","e.g."]

{"sheet":"LDAR_initial_TT","index":15,"n_rows":23,"n_cols":7,"rows_kept":23,"cut":false,"hidden":false,"merged":[]}
[null,"DO NOT REMOVE OR EDIT INFORMATION IN ROWS 1 THROUGH 5\nFOR INTERNAL USE ONLY"]
[null,"Template Name",{"$f":"Welcome!B2","v":"63.2386(a), (c), and (d) Compliance Report (Spreadsheet Template)"}]
[null,"CitationID",{"$f":"Welcome!B3","v":"63.2386(a), (c), and (d)"}]
[null,"Template Version",{"$f":"Welcome!B4","v":"v1.01"}]
[null,"Last Updated Date",{"$f":"Welcome!B5","v":"2024-04-09"}]
[]
[null,{"$f":"Company_Information!B7","v":"40 CFR Part 63, Subpart EEEE National Emission Standards for Hazardous Air Pollutants: Organic Liquids Distribution (Non-Gasoline)"}]
[null,{"$f":"Company_Information!B8","v":"§63.2386(a), (c), and (d) Compliance Report Spreadsheet Template"}]
[null,"This tab contains information on process units subject to 40 CFR part 63 subpart TT that are either newly affected process units or process units with revisions to this information."]
[null,"Note: Company Record No. selections will appear once information is entered onto the \"Company_Information\" tab."]
[]
[null,"Company Record No.\n(Select from dropdown)","Process Unit or Affected Facility Identification\n(§63.1018(a)(1)(i))","Changes have occurred, and this information is a revision to items previously reported.\n(§63.1018(a)(2)(iv))\n(Select from dropdown)","Number of Subject Valves (other than those designated NDE)\n(§63.1018(a)(1)(ii))","Number of Subject Pumps (other than those designated NDE or complying via CVS)\n(§63.1018(a)(1)(iii))","Comments or Additional Information"]
[null,"RecordId","TTProcessUnit","TTChangesFlag","TTValvesNumber","TTPumpsNumber","TTInitialComments"]
[null,"e.g.: 1","e.g.: North Tank Farm","e.g.: yes","e.g.: 500","e.g.: 100","e.g.:"]
[null,"e.g.","e.g.","e.g.","e.g.","e.g.","e.g."]
[null,"e.g.","e.g.","e.g.","e.g.","e.g.","e.g."]
[null,"e.g.","e.g.","e.g.","e.g.","e.g.","e.g."]
[null,"e.g.","e.g.","e.g.","e.g.","e.g.","e.g."]
[null,"e.g.","e.g.","e.g.","e.g.","e.g.","e.g."]
[null,"e.g.","e.g.","e.g.","e.g.","e.g.","e.g."]
[null,"e.g.","e.g.","e.g.","e.g.","e.g.","e.g."]
[null,"e.g.","e.g.","e.g.","e.g.","e.g.","e.g."]
[null,"e.g.","e.g.","e.g.","e.g.","e.g.","e.g."]

{"sheet":"LDAR_TT_summary","index":16,"n_rows":23,"n_cols":11,"rows_kept":23,"cut":false,"hidden":false,"merged":[]}
[null,"DO NOT REMOVE OR EDIT INFORMATION IN ROWS 1 THROUGH 5\nFOR INTERNAL USE ONLY"]
[null,"Template Name",{"$f":"Welcome!B2","v":"63.2386(a), (c), and (d) Compliance Report (Spreadsheet Template)"}]
[null,"CitationID",{"$f":"Welcome!B3","v":"63.2386(a), (c), and (d)"}]
[null,"Template Version",{"$f":"Welcome!B4","v":"v1.01"}]
[null,"Last Updated Date",{"$f":"Welcome!B5","v":"2024-04-09"}]
[]
[null,{"$f":"Company_Information!B7","v":"40 CFR Part 63, Subpart EEEE National Emission Standards for Hazardous Air Pollutants: Organic Liquids Distribution (Non-Gasoline)"}]
[null,{"$f":"Company_Information!B8","v":"§63.2386(a), (c), and (d) Compliance Report Spreadsheet Template"}]
[null,"This tab contains information on process unit leaks for each month of the reporting period."]
[null,"Note: Company Record No. selections will appear once information is entered onto the \"Company_Information\" tab. Process units listed on the \"LDAR_initial_TT\" and \"LDAR_TT_shutdowns\" tabs will be available in the dropdown in Column C. You may enter process units not listed on those tabs in Column C as well."]
[]
[null,"Company Record No.\n(Select from dropdown)","Process Unit Identification\n(§63.1018(a)(2)(i))","Month\n(§63.1018(a)(2)(ii))\n(Select from dropdown)","Number of Valves for Which Leaks Were Detected\n(§63.1018(a)(2)(ii)(A))","Number of Valves for Which Leaks Were Not Repaired\n(§63.1018(a)(2)(ii)(B))","Number of Pumps for Which Leaks Were Detected\n(§63.1018(a)(2)(ii)(C))","Number of Pumps for Which Leaks Were Not Repaired\n(§63.1018(a)(2)(ii)(D))","Explanation for Delay of Repair\n(§63.1018(a)(2)(ii)(G))","Why Repair Was Infeasible Without a Process Shutdown\n(§63.1018(a)(2)(ii)(G))","Comments or Additional Information"]
[null,"RecordId","TTProcessUnit","TTSurveyMonth","TTValveLeak","TTValveNotRepaired","TTPumpLeak","TTPumpNotRepaired","TTDelayExplanation","TTRepairInfeasible","TTSurveyComments"]
[null,"e.g.: 1","e.g.: North Tank Farm","e.g.: January","e.g.: 10","e.g.: 1","e.g.: 10","e.g.: 1","e.g.:","e.g.:","e.g.:"]
[null,"e.g.","e.g.","e.g.","e.g.","e.g.","e.g.","e.g.","e.g.","e.g.","e.g."]
[null,"e.g.","e.g.","e.g.","e.g.","e.g.","e.g.","e.g.","e.g.","e.g.","e.g."]
[null,"e.g.","e.g.","e.g.","e.g.","e.g.","e.g.","e.g.","e.g.","e.g.","e.g."]
[null,"e.g.","e.g.","e.g.","e.g.","e.g.","e.g.","e.g.","e.g.","e.g.","e.g."]
[null,"e.g.","e.g.","e.g.","e.g.","e.g.","e.g.","e.g.","e.g.","e.g.","e.g."]
[null,"e.g.","e.g.","e.g.","e.g.","e.g.","e.g.","e.g.","e.g.","e.g.","e.g."]
[null,"e.g.","e.g.","e.g.","e.g.","e.g.","e.g.","e.g.","e.g.","e.g.","e.g."]
[null,"e.g.","e.g.","e.g.","e.g.","e.g.","e.g.","e.g.","e.g.","e.g.","e.g."]
[null,"e.g.","e.g.","e.g.","e.g.","e.g.","e.g.","e.g.","e.g.","e.g.","e.g."]

{"sheet":"LDAR_TT_shutdowns","index":17,"n_rows":23,"n_cols":6,"rows_kept":23,"cut":false,"hidden":false,"merged":[]}
[null,"DO NOT REMOVE OR EDIT INFORMATION IN ROWS 1 THROUGH 5\nFOR INTERNAL USE ONLY"]
[null,"Template Name",{"$f":"Welcome!B2","v":"63.2386(a), (c), and (d) Compliance Report (Spreadsheet Template)"}]
[null,"CitationID",{"$f":"Welcome!B3","v":"63.2386(a), (c), and (d)"}]
[null,"Template Version",{"$f":"Welcome!B4","v":"v1.01"}]
[null,"Last Updated Date",{"$f":"Welcome!B5","v":"2024-04-09"}]
[]
[null,{"$f":"Company_Information!B7","v":"40 CFR Part 63, Subpart EEEE National Emission Standards for Hazardous Air Pollutants: Organic Liquids Distribution (Non-Gasoline)"}]
[null,{"$f":"Company_Information!B8","v":"§63.2386(a), (c), and (d) Compliance Report Spreadsheet Template"}]
[null,"This tab contains information on process unit or affected facility shutdowns in the reporting period."]
[null,"Note: Company Record No. selections will appear once information is entered onto the \"Company_Information\" tab. Process units listed on the \"LDAR_initial_TT\" and \"LDAR_TT_summary\" "]
[null,"tabs will be available in the dropdown in Column C. You may enter process units not listed on those tabs in Column C as well."]
[null,"Company Record No.\n(Select from dropdown)","Process Unit Identification\n(§63.1018(a)(2)(i))","Date of Start of Process Unit Shutdown\n(§63.1018(a)(2)(iii))","Date of End of Process Unit Shutdown\n(§63.1018(a)(2)(iii))","Comments or Additional Information"]
[null,"RecordId","TTProcessUnit","TTShutdownStart","TTShutdownEnd","TTShutdownComments"]
[null,"e.g.: 1","e.g.: North Tank Farm","e.g.: 02/01/20","e.g.: 02/02/20","e.g.:"]
[null,"e.g.","e.g.","e.g.","e.g.","e.g."]
[null,"e.g.","e.g.","e.g.","e.g.","e.g."]
[null,"e.g.","e.g.","e.g.","e.g.","e.g."]
[null,"e.g.","e.g.","e.g.","e.g.","e.g."]
[null,"e.g.","e.g.","e.g.","e.g.","e.g."]
[null,"e.g.","e.g.","e.g.","e.g.","e.g."]
[null,"e.g.","e.g.","e.g.","e.g.","e.g."]
[null,"e.g.","e.g.","e.g.","e.g.","e.g."]
[null,"e.g.","e.g.","e.g.","e.g.","e.g."]

{"sheet":"LDAR_initial_H_UU","index":18,"n_rows":23,"n_cols":12,"rows_kept":23,"cut":false,"hidden":false,"merged":[]}
[null,"DO NOT REMOVE OR EDIT INFORMATION IN ROWS 1 THROUGH 5\nFOR INTERNAL USE ONLY"]
[null,"Template Name",{"$f":"Welcome!B2","v":"63.2386(a), (c), and (d) Compliance Report (Spreadsheet Template)"}]
[null,"CitationID",{"$f":"Welcome!B3","v":"63.2386(a), (c), and (d)"}]
[null,"Template Version",{"$f":"Welcome!B4","v":"v1.01"}]
[null,"Last Updated Date",{"$f":"Welcome!B5","v":"2024-04-09"}]
[]
[null,{"$f":"Company_Information!B7","v":"40 CFR Part 63, Subpart EEEE National Emission Standards for Hazardous Air Pollutants: Organic Liquids Distribution (Non-Gasoline)"}]
[null,{"$f":"Company_Information!B8","v":"§63.2386(a), (c), and (d) Compliance Report Spreadsheet Template"}]
[null,"This tab contains information on process units subject to 40 CFR part 63 subpart H or subpart UU that are either newly affected process units or process units with revisions to this information."]
[null,"Note: Company Record No. selections will appear once information is entered onto the \"Company_Information\" tab."]
[null,null,null,null,"Equipment other than those in vacuum service",null,null,null,null,"If complying with the AMEL for enclosed-vented units"]
[null,"Company Record No.\n(Select from dropdown)","Process Unit Identification\n(§63.1039(a)(1)(i), §63.182(c)(1)(i))","Changes have occurred, and this information is a revision to items previously reported.\n(§63.1039(b)(8), §63.182(d)(4))","Number of Subject Valves\n(§63.1039(a)(1)(ii), §63.182(c)(1)(ii))","Number of Subject Pumps\n(§63.1039(a)(1)(ii), §63.182(c)(1)(ii))","Number of Subject Sampling Connections\n(§63.1039(a)(1)(ii), §63.182(c)(1)(ii))","Method of Compliance With the Standard\n(§63.1039(a)(1)(iii), §63.182(c)(1)(iii))","Planned Schedule for Requirements in §63.1025 and  §63.1026 or §63.163 and §63.168\n(§63.1039(a)(1)(iv), §63.182(c)(1)(iv))","Description of System Used to Create Negative Pressure in the Enclosure\n(§63.1039(a)(3)(ii), §63.182(c)(3)(ii))","Control Device\n(§63.1039(a)(3)(ii), §63.182(c)(3)(ii))","Comments or Additional Information"]
[null,"RecordId","HUUProcessUnit","HUUChangesFlag","HUUValvesNumber","HUUPumpsNumber","HUUConnectionsNumber","HUUComplianceMethod","HUUPlannedSchedule","HUUPressureSystem","HUUControlDevice","HUUInitialComments"]
[null,"e.g.: 1","e.g.: North Tank Farm","e.g.: yes","e.g.: 100","e.g.: 100","e.g.: 100","e.g.: Monthly lead detection and repair","e.g.:","e.g.:","e.g.:","e.g.:"]
[null,"e.g.","e.g.","e.g.","e.g.","e.g.","e.g.","e.g.","e.g.","e.g.","e.g.","e.g."]
[null,"e.g.","e.g.","e.g.","e.g.","e.g.","e.g.","e.g.","e.g.","e.g.","e.g.","e.g."]
[null,"e.g.","e.g.","e.g.","e.g.","e.g.","e.g.","e.g.","e.g.","e.g.","e.g.","e.g."]
[null,"e.g.","e.g.","e.g.","e.g.","e.g.","e.g.","e.g.","e.g.","e.g.","e.g.","e.g."]
[null,"e.g.","e.g.","e.g.","e.g.","e.g.","e.g.","e.g.","e.g.","e.g.","e.g.","e.g."]
[null,"e.g.","e.g.","e.g.","e.g.","e.g.","e.g.","e.g.","e.g.","e.g.","e.g.","e.g."]
[null,"e.g.","e.g.","e.g.","e.g.","e.g.","e.g.","e.g.","e.g.","e.g.","e.g.","e.g."]
[null,"e.g.","e.g.","e.g.","e.g.","e.g.","e.g.","e.g.","e.g.","e.g.","e.g.","e.g."]
[null,"e.g.","e.g.","e.g.","e.g.","e.g.","e.g.","e.g.","e.g.","e.g.","e.g.","e.g."]

{"sheet":"LDAR_H_UU_general","index":19,"n_rows":23,"n_cols":7,"rows_kept":23,"cut":false,"hidden":false,"merged":[]}
[null,"DO NOT REMOVE OR EDIT INFORMATION IN ROWS 1 THROUGH 5\nFOR INTERNAL USE ONLY"]
[null,"Template Name",{"$f":"Welcome!B2","v":"63.2386(a), (c), and (d) Compliance Report (Spreadsheet Template)"}]
[null,"CitationID",{"$f":"Welcome!B3","v":"63.2386(a), (c), and (d)"}]
[null,"Template Version",{"$f":"Welcome!B4","v":"v1.01"}]
[null,"Last Updated Date",{"$f":"Welcome!B5","v":"2024-04-09"}]
[]
[null,{"$f":"Company_Information!B7","v":"40 CFR Part 63, Subpart EEEE National Emission Standards for Hazardous Air Pollutants: Organic Liquids Distribution (Non-Gasoline)"}]
[null,{"$f":"Company_Information!B8","v":"§63.2386(a), (c), and (d) Compliance Report Spreadsheet Template"}]
[null,"This tab contains information for process units subject to 40 CFR part 63 subpart H or subpart UU."]
[null,"Note: Process units listed on \"LDAR_initial_H_UU\" and \"LDAR_H_UU_summary\" will be available in the dropdown in Column C. You may enter process units not listed on those tabs in Column C as well."]
[null,null,null,null,null,"Subpart UU"]
[null,"Company Record No.\n(Select from dropdown)","Process Unit\n(§63.1039(b), §63.182(d)(2))","Was a monthly monitoring program for valves initiated?\n(§63.1039(b)(5), §63.182(d)(2)(xv))\n(Select from dropdown)","Was a quality improvement program for pumps or valves initiated?\n(§63.1039(b)(6), §63.182(d)(2)(xv))\n(Select from dropdown)","Are valves subgrouped under §63.1025(b)(4)? If yes, provide file name of attachment with information required by  §63.1025(b)(4)(iv).\n(§63.1039(b)(3))","Comments or Additional Information"]
[null,"RecordId","HUUProcessUnit","HUUMonthlyFlag","HUUQualityFlag","UUSubgroupFlag","HUUGeneralComments"]
[null,"e.g.: 1","e.g.: North Tank Farm","e.g.: no","e.g.: no","e.g.: no","e.g.:"]
[null,"e.g.","e.g.","e.g.","e.g.","e.g.","e.g."]
[null,"e.g.","e.g.","e.g.","e.g.","e.g.","e.g."]
[null,"e.g.","e.g.","e.g.","e.g.","e.g.","e.g."]
[null,"e.g.","e.g.","e.g.","e.g.","e.g.","e.g."]
[null,"e.g.","e.g.","e.g.","e.g.","e.g.","e.g."]
[null,"e.g.","e.g.","e.g.","e.g.","e.g.","e.g."]
[null,"e.g.","e.g.","e.g.","e.g.","e.g.","e.g."]
[null,"e.g.","e.g.","e.g.","e.g.","e.g.","e.g."]
[null,"e.g.","e.g.","e.g.","e.g.","e.g.","e.g."]

{"sheet":"LDAR_H_UU_summary","index":20,"n_rows":23,"n_cols":15,"rows_kept":23,"cut":false,"hidden":false,"merged":[]}
[null,"DO NOT REMOVE OR EDIT INFORMATION IN ROWS 1 THROUGH 5\nFOR INTERNAL USE ONLY"]
[null,"Template Name",{"$f":"Welcome!B2","v":"63.2386(a), (c), and (d) Compliance Report (Spreadsheet Template)"}]
[null,"CitationID",{"$f":"Welcome!B3","v":"63.2386(a), (c), and (d)"}]
[null,"Template Version",{"$f":"Welcome!B4","v":"v1.01"}]
[null,"Last Updated Date",{"$f":"Welcome!B5","v":"2024-04-09"}]
[]
[null,{"$f":"Company_Information!B7","v":"40 CFR Part 63, Subpart EEEE National Emission Standards for Hazardous Air Pollutants: Organic Liquids Distribution (Non-Gasoline)"}]
[null,{"$f":"Company_Information!B8","v":"§63.2386(a), (c), and (d) Compliance Report Spreadsheet Template"}]
[null,"This tab contains information on equipment leaks for the monitoring period."]
[null,"Note: Company Record No. selections will appear once information is entered onto the \"Company_Information\" tab. Process units listed on the \"LDAR_initial_H_UU\" and \"LDAR_H_UU_general\" tabs will be available in the dropdown in Column C. You may enter process units not listed on those tabs in Column C as well."]
[null,null,null,null,null,null,null,null,null,null,null,null,"Subpart H"]
[null,"Company Record No.\n(Select from dropdown)","Process Unit ID\n(§63.1039(b), §63.182(d)(2))","Monitoring Period Identification\n(§63.1039(b), §63.182(d)(2))","Equipment Type\n(§63.1039(b)(1), §63.182(d)(2))\n(Select from dropdown)","Number of Components Monitored\n(§63.1039(b)(1), §63.182(d)(2))","Number of Components for Which Leaks Were Detected\n(§63.1039(b)(1), §63.182(d)(2))","Percent Leakers\n(§63.1039(b)(1), §63.182(d)(2))","Number of Leaking Components Not Repaired as Required\n(§63.1039(b)(1), §63.182(d)(2))","Number of Valves Determined to be Nonrepairable\n(§63.1039(b)(1), §63.182(d)(2))","Has delay of repair occurred?\n(§63.1039(b)(2), §63.182(d)(2)(xiii))","Number of Instances of Delay of Repair\n(§63.1039(b)(2), §63.182(d)(2)(xiii))","Explanation for Any Delay of Repairs\n(§63.182(d)(2)(xiii))","Why Process Unit Shutdown Was Technically Infeasible\n(§63.182(d)(2)(xiii))","Comments or Additional Information"]
[null,"RecordId","HUUProcessUnit","HUUSurveyPeriod","HUUSurveyEquipment","HUUSurveyNumber","HUULeakNumber","HUUPercentLeak","HUUNotRepaired","HUUNonrepairableValves","HUUDelayFlag","HUUDelayNumber","HDelayExplanation","HRepairInfeasible","HUUSurveyComments"]
[null,"e.g.: 1","e.g.: North Tank Farm","e.g.: January 2020","e.g.: valve","e.g.: 100","e.g.: 1","e.g.: 1%","e.g.: 1","e.g.: 1","e.g.: yes","e.g.: 1","e.g.: ","e.g.: ","e.g.:"]
[null,"e.g.","e.g.","e.g.","e.g.","e.g.","e.g.","e.g.","e.g.","e.g.","e.g.","e.g.","e.g.","e.g.","e.g."]
[null,"e.g.","e.g.","e.g.","e.g.","e.g.","e.g.","e.g.","e.g.","e.g.","e.g.","e.g.","e.g.","e.g.","e.g."]
[null,"e.g.","e.g.","e.g.","e.g.","e.g.","e.g.","e.g.","e.g.","e.g.","e.g.","e.g.","e.g.","e.g.","e.g."]
[null,"e.g.","e.g.","e.g.","e.g.","e.g.","e.g.","e.g.","e.g.","e.g.","e.g.","e.g.","e.g.","e.g.","e.g."]
[null,"e.g.","e.g.","e.g.","e.g.","e.g.","e.g.","e.g.","e.g.","e.g.","e.g.","e.g.","e.g.","e.g.","e.g."]
[null,"e.g.","e.g.","e.g.","e.g.","e.g.","e.g.","e.g.","e.g.","e.g.","e.g.","e.g.","e.g.","e.g.","e.g."]
[null,"e.g.","e.g.","e.g.","e.g.","e.g.","e.g.","e.g.","e.g.","e.g.","e.g.","e.g.","e.g.","e.g.","e.g."]
[null,"e.g.","e.g.","e.g.","e.g.","e.g.","e.g.","e.g.","e.g.","e.g.","e.g.","e.g.","e.g.","e.g.","e.g."]
[null,"e.g.","e.g.","e.g.","e.g.","e.g.","e.g.","e.g.","e.g.","e.g.","e.g.","e.g.","e.g.","e.g.","e.g."]

{"sheet":"Revisions","index":21,"n_rows":5,"n_cols":3,"rows_kept":5,"cut":false,"hidden":false,"merged":[]}
[{"$f":"Company_Information!B7","v":"40 CFR Part 63, Subpart EEEE National Emission Standards for Hazardous Air Pollutants: Organic Liquids Distribution (Non-Gasoline)"}]
[{"$f":"Company_Information!B8","v":"§63.2386(a), (c), and (d) Compliance Report Spreadsheet Template"}]
["Revision Number","Date","Description"]
[1,44733,"Finalized Release Version"]
[1.01,45391,"Revised the welcome tab"]

{"sheet":"Worksheet Map","index":22,"n_rows":20,"n_cols":5,"rows_kept":20,"cut":false,"hidden":true,"merged":[]}
["Worksheet Name","Parent","JSON Key","Parent Primary Key","Child Foreign Key"]
["Company_Information",null,"records"]
["General_Compliance","records","GeneralCompliance","RecordId","RecordId"]
["CMS_Identification","records","CMSIdentification","RecordId","RecordId"]
["CMS_Malfunction","records","CMSMalfunction","RecordId","RecordId"]
["CMS_Downtime","records","CMSDowntime","RecordId","RecordId"]
["CMS_Deviation","records","CMSDeviation","RecordId","RecordId"]
["CMS_Summary","records","CMSSummary","RecordId","RecordId"]
["Regenerative_Carbon_Bed","records","RegenerativeCarbonBed","RecordId","RecordId"]
["CVS_Leaks","records","CVSLeaks","RecordId","RecordId"]
["Bypasses","records","Bypasses","RecordId","RecordId"]
["Flares","records","Flares","RecordId","RecordId"]
["New_Tanks_Racks","records","NewTanksRacks","RecordId","RecordId"]
["Tanks","records","Tanks","RecordId","RecordId"]
["LDAR_initial_TT","records","LDARinitialTT","RecordId","RecordId"]
["LDAR_TT_summary","records","LDARTTsummary","RecordId","RecordId"]
["LDAR_TT_shutdowns","records","LDARTTshutdowns","RecordId","RecordId"]
["LDAR_initial_H_UU","records","LDARinitialHUU","RecordId","RecordId"]
["LDAR_H_UU_general","records","LDARHUUgeneral","RecordId","RecordId"]
["LDAR_H_UU_summary","records","LDARHUUsummary","RecordId","RecordId"]

{"sheet":"Lists","index":23,"n_rows":2001,"n_cols":32,"rows_kept":2001,"cut":false,"hidden":true,"merged":[]}
["Num","Company Name","CompanyList",null,"States",null,"Regen Carbon Bed Parameters",null,"TTUnitID","Column1","Rank","UnitIDs",null,"HUUUnitID","Column1","Rank","UnitIDs",null,"CMS","Site","Choices","Rank","List",null,"CMS","Operating Time",null,"Bypass Type Events",null,"Site","CMS","Time"]
[{"$f":"IF(B2=\"\",\"\",MAX(A1:A$1)+1)","v":1},{"$f":"IF(SUMPRODUCT(--(LEN(Company_Information!B24:B33)>0))>0,IF(Company_Information!B24=\"\",\"\",Company_Information!B24),\"Add a company in the Company Information tab\")","v":"Add a company in the Company Information tab"},{"$f":"+IFERROR(INDEX($B$2:$B$11,MATCH(ROW()-ROW($C$1),$A$2:$A$11,0)),\"\")","v":"Add a company in the Company Information tab"},null,"AK",null,"total regeneration steam mass flow",null,{"$f":"IF(LDAR_initial_TT!C24=\"\",\"\",LDAR_initial_TT!C24)","v":""},{"$f":"IF(COUNTIF(I$2:I2,I2)=1,I2,\"\")","v":""},{"$f":"+IF(J2=\"\",\"\",MAX(K$1:K1)+1)","v":""},{"$f":"+IFERROR(INDEX($I$2:$I$801,MATCH(ROW()-ROW($K$1),$K$2:$K$801,0)),\"\")","v":""},null,{"$f":"IF(LDAR_initial_H_UU!C24=\"\",\"\",LDAR_initial_H_UU!C24)","v":""},{"$f":"IF(COUNTIF(N$2:N2,N2)=1,N2,\"\")","v":""},{"$f":"+IF(O2=\"\",\"\",MAX(P$1:P1)+1)","v":""},{"$f":"+IFERROR(INDEX($N$2:$N$2001,MATCH(ROW()-ROW($P$1),$P$2:$P$2001,0)),\"\")","v":""},null,{"$f":"IF(SUMPRODUCT(--(LEN(CMS_Identification!G24:G523)>0))>0,IF(CMS_Identification!G24=\"\",\"\",CMS_Identification!G24),\"Add CMS to the CMS_Identification tab\")","v":"Add CMS to the CMS_Identification tab"},{"$f":"IF(CMS_Identification!B24=\"\",\"\",CMS_Identification!B24)","v":""},{"$f":"IF(COUNTIF(S$2:S2,S2)=1,S2,\"\")","v":"Add CMS to the CMS_Identification tab"},{"$f":"+IF(U2=\"\",\"\",MAX(V$1:V1)+1)","v":1},{"$f":"+IFERROR(INDEX($S$2:$S$501,MATCH(ROW()-ROW($V$1),$V$2:$V$501,0)),\"\")","v":"Add CMS to the CMS_Identification tab"},null,{"$f":"IF(CMS_Identification!G24=\"\",\"\",CMS_Identification!G24)","v":""},{"$f":"IF(CMS_Identification!D24=\"\",\"\",CMS_Identification!D24)","v":""},null,"Bypass detected",null,{"$f":"IF(CMS_Identification!B24=\"\",\"\",CMS_Identification!B24)","v":""},{"$f":"IF(CMS_Identification!G24=\"\",\"\",CMS_Identification!G24)","v":""},{"$f":"IF(CMS_Identification!D24=\"\",\"\",CMS_Identification!D24)","v":""}]
[{"$f":"IF(B3=\"\",\"\",MAX(A$1:A2)+1)","v":""},{"$f":"IF(Company_Information!B25=\"\",\"\",Company_Information!B25)","v":""},"",null,"AL",null,"carbon-bed temperature",null,{"$f":"IF(LDAR_initial_TT!C25=\"\",\"\",LDAR_initial_TT!C25)","v":""},{"$f":"IF(COUNTIF(I$2:I3,I3)=1,I3,\"\")","v":""},{"$f":"+IF(J3=\"\",\"\",MAX(K$1:K2)+1)","v":""},{"$f":"+IFERROR(INDEX($I$2:$I$801,MATCH(ROW()-ROW($K$1),$K$2:$K$801,0)),\"\")","v":""},null,{"$f":"IF(LDAR_initial_H_UU!C25=\"\",\"\",LDAR_initial_H_UU!C25)","v":""},{"$f":"IF(COUNTIF(N$2:N3,N3)=1,N3,\"\")","v":""},{"$f":"+IF(O3=\"\",\"\",MAX(P$1:P2)+1)","v":""},{"$f":"+IFERROR(INDEX($N$2:$N$2001,MATCH(ROW()-ROW($P$1),$P$2:$P$2001,0)),\"\")","v":""},null,{"$f":"IF(CMS_Identification!G25=\"\",\"\",CMS_Identification!G25)","v":""},{"$f":"IF(CMS_Identification!B25=\"\",\"\",CMS_Identification!B25)","v":""},{"$f":"IF(COUNTIF(S$2:S3,S3)=1,S3,\"\")","v":""},{"$f":"+IF(U3=\"\",\"\",MAX(V$1:V2)+1)","v":""},"",null,{"$f":"IF(CMS_Identification!G25=\"\",\"\",CMS_Identification!G25)","v":""},{"$f":"IF(CMS_Identification!D25=\"\",\"\",CMS_Identification!D25)","v":""},null,"Flow indicator not operating",null,{"$f":"IF(CMS_Identification!B25=\"\",\"\",CMS_Identification!B25)","v":""},{"$f":"IF(CMS_Identification!G25=\"\",\"\",CMS_Identification!G25)","v":""},{"$f":"IF(CMS_Identification!D25=\"\",\"\",CMS_Identification!D25)","v":""}]
[{"$f":"IF(B4=\"\",\"\",MAX(A$1:A3)+1)","v":""},{"$f":"IF(Company_Information!B26=\"\",\"\",Company_Information!B26)","v":""},"",null,"AR",null,"reading indicated by organics monitoring device at the bed outlet",null,{"$f":"IF(LDAR_initial_TT!C26=\"\",\"\",LDAR_initial_TT!C26)","v":""},{"$f":"IF(COUNTIF(I$2:I4,I4)=1,I4,\"\")","v":""},{"$f":"+IF(J4=\"\",\"\",MAX(K$1:K3)+1)","v":""},"",null,{"$f":"IF(LDAR_initial_H_UU!C26=\"\",\"\",LDAR_initial_H_UU!C26)","v":""},{"$f":"IF(COUNTIF(N$2:N4,N4)=1,N4,\"\")","v":""},{"$f":"+IF(O4=\"\",\"\",MAX(P$1:P3)+1)","v":""},"",null,{"$f":"IF(CMS_Identification!G26=\"\",\"\",CMS_Identification!G26)","v":""},{"$f":"IF(CMS_Identification!B26=\"\",\"\",CMS_Identification!B26)","v":""},{"$f":"IF(COUNTIF(S$2:S4,S4)=1,S4,\"\")","v":""},{"$f":"+IF(U4=\"\",\"\",MAX(V$1:V3)+1)","v":""},"",null,{"$f":"IF(CMS_Identification!G26=\"\",\"\",CMS_Identification!G26)","v":""},{"$f":"IF(CMS_Identification!D26=\"\",\"\",CMS_Identification!D26)","v":""},null,"Maintenance performed in car-sealed valves",null,{"$f":"IF(CMS_Identification!B26=\"\",\"\",CMS_Identification!B26)","v":""},{"$f":"IF(CMS_Identification!G26=\"\",\"\",CMS_Identification!G26)","v":""},{"$f":"IF(CMS_Identification!D26=\"\",\"\",CMS_Identification!D26)","v":""}]
[{"$f":"IF(B5=\"\",\"\",MAX(A$1:A4)+1)","v":""},{"$f":"IF(Company_Information!B27=\"\",\"\",Company_Information!B27)","v":""},"",null,"AS",null,"percent reduction of regulated material achieved by the control device",null,{"$f":"IF(LDAR_initial_TT!C27=\"\",\"\",LDAR_initial_TT!C27)","v":""},{"$f":"IF(COUNTIF(I$2:I5,I5)=1,I5,\"\")","v":""},{"$f":"+IF(J5=\"\",\"\",MAX(K$1:K4)+1)","v":""},"",null,{"$f":"IF(LDAR_initial_H_UU!C27=\"\",\"\",LDAR_initial_H_UU!C27)","v":""},{"$f":"IF(COUNTIF(N$2:N5,N5)=1,N5,\"\")","v":""},{"$f":"+IF(O5=\"\",\"\",MAX(P$1:P4)+1)","v":""},"",null,{"$f":"IF(CMS_Identification!G27=\"\",\"\",CMS_Identification!G27)","v":""},{"$f":"IF(CMS_Identification!B27=\"\",\"\",CMS_Identification!B27)","v":""},{"$f":"IF(COUNTIF(S$2:S5,S5)=1,S5,\"\")","v":""},{"$f":"+IF(U5=\"\",\"\",MAX(V$1:V4)+1)","v":""},"",null,{"$f":"IF(CMS_Identification!G27=\"\",\"\",CMS_Identification!G27)","v":""},{"$f":"IF(CMS_Identification!D27=\"\",\"\",CMS_Identification!D27)","v":""},null,"Seal broken",null,{"$f":"IF(CMS_Identification!B27=\"\",\"\",CMS_Identification!B27)","v":""},{"$f":"IF(CMS_Identification!G27=\"\",\"\",CMS_Identification!G27)","v":""},{"$f":"IF(CMS_Identification!D27=\"\",\"\",CMS_Identification!D27)","v":""}]
[{"$f":"IF(B6=\"\",\"\",MAX(A$1:A5)+1)","v":""},{"$f":"IF(Company_Information!B28=\"\",\"\",Company_Information!B28)","v":""},"",null,"AZ",null,"concentration of regulated material at the outlet of the control device",null,{"$f":"IF(LDAR_initial_TT!C28=\"\",\"\",LDAR_initial_TT!C28)","v":""},{"$f":"IF(COUNTIF(I$2:I6,I6)=1,I6,\"\")","v":""},{"$f":"+IF(J6=\"\",\"\",MAX(K$1:K5)+1)","v":""},"",null,{"$f":"IF(LDAR_initial_H_UU!C28=\"\",\"\",LDAR_initial_H_UU!C28)","v":""},{"$f":"IF(COUNTIF(N$2:N6,N6)=1,N6,\"\")","v":""},{"$f":"+IF(O6=\"\",\"\",MAX(P$1:P5)+1)","v":""},"",null,{"$f":"IF(CMS_Identification!G28=\"\",\"\",CMS_Identification!G28)","v":""},{"$f":"IF(CMS_Identification!B28=\"\",\"\",CMS_Identification!B28)","v":""},{"$f":"IF(COUNTIF(S$2:S6,S6)=1,S6,\"\")","v":""},{"$f":"+IF(U6=\"\",\"\",MAX(V$1:V5)+1)","v":""},"",null,{"$f":"IF(CMS_Identification!G28=\"\",\"\",CMS_Identification!G28)","v":""},{"$f":"IF(CMS_Identification!D28=\"\",\"\",CMS_Identification!D28)","v":""},null,"Bypass line valve position changed",null,{"$f":"IF(CMS_Identification!B28=\"\",\"\",CMS_Identification!B28)","v":""},{"$f":"IF(CMS_Identification!G28=\"\",\"\",CMS_Identification!G28)","v":""},{"$f":"IF(CMS_Identification!D28=\"\",\"\",CMS_Identification!D28)","v":""}]
[{"$f":"IF(B7=\"\",\"\",MAX(A$1:A6)+1)","v":""},{"$f":"IF(Company_Information!B29=\"\",\"\",Company_Information!B29)","v":""},"",null,"CA",null,"other (specify in \"Additional Information\" field)",null,{"$f":"IF(LDAR_initial_TT!C29=\"\",\"\",LDAR_initial_TT!C29)","v":""},{"$f":"IF(COUNTIF(I$2:I7,I7)=1,I7,\"\")","v":""},{"$f":"+IF(J7=\"\",\"\",MAX(K$1:K6)+1)","v":""},"",null,{"$f":"IF(LDAR_initial_H_UU!C29=\"\",\"\",LDAR_initial_H_UU!C29)","v":""},{"$f":"IF(COUNTIF(N$2:N7,N7)=1,N7,\"\")","v":""},{"$f":"+IF(O7=\"\",\"\",MAX(P$1:P6)+1)","v":""},"",null,{"$f":"IF(CMS_Identification!G29=\"\",\"\",CMS_Identification!G29)","v":""},{"$f":"IF(CMS_Identification!B29=\"\",\"\",CMS_Identification!B29)","v":""},{"$f":"IF(COUNTIF(S$2:S7,S7)=1,S7,\"\")","v":""},{"$f":"+IF(U7=\"\",\"\",MAX(V$1:V6)+1)","v":""},"",null,{"$f":"IF(CMS_Identification!G29=\"\",\"\",CMS_Identification!G29)","v":""},{"$f":"IF(CMS_Identification!D29=\"\",\"\",CMS_Identification!D29)","v":""},null,"Key checked out",null,{"$f":"IF(CMS_Identification!B29=\"\",\"\",CMS_Identification!B29)","v":""},{"$f":"IF(CMS_Identification!G29=\"\",\"\",CMS_Identification!G29)","v":""},{"$f":"IF(CMS_Identification!D29=\"\",\"\",CMS_Identification!D29)","v":""}]
[{"$f":"IF(B8=\"\",\"\",MAX(A$1:A7)+1)","v":""},{"$f":"IF(Company_Information!B30=\"\",\"\",Company_Information!B30)","v":""},"",null,"CO",null,null,null,{"$f":"IF(LDAR_initial_TT!C30=\"\",\"\",LDAR_initial_TT!C30)","v":""},{"$f":"IF(COUNTIF(I$2:I8,I8)=1,I8,\"\")","v":""},{"$f":"+IF(J8=\"\",\"\",MAX(K$1:K7)+1)","v":""},"",null,{"$f":"IF(LDAR_initial_H_UU!C30=\"\",\"\",LDAR_initial_H_UU!C30)","v":""},{"$f":"IF(COUNTIF(N$2:N8,N8)=1,N8,\"\")","v":""},{"$f":"+IF(O8=\"\",\"\",MAX(P$1:P7)+1)","v":""},"",null,{"$f":"IF(CMS_Identification!G30=\"\",\"\",CMS_Identification!G30)","v":""},{"$f":"IF(CMS_Identification!B30=\"\",\"\",CMS_Identification!B30)","v":""},{"$f":"IF(COUNTIF(S$2:S8,S8)=1,S8,\"\")","v":""},{"$f":"+IF(U8=\"\",\"\",MAX(V$1:V7)+1)","v":""},"",null,{"$f":"IF(CMS_Identification!G30=\"\",\"\",CMS_Identification!G30)","v":""},{"$f":"IF(CMS_Identification!D30=\"\",\"\",CMS_Identification!D30)","v":""},null,null,null,{"$f":"IF(CMS_Identification!B30=\"\",\"\",CMS_Identification!B30)","v":""},{"$f":"IF(CMS_Identification!G30=\"\",\"\",CMS_Identification!G30)","v":""},{"$f":"IF(CMS_Identification!D30=\"\",\"\",CMS_Identification!D30)","v":""}]
[{"$f":"IF(B9=\"\",\"\",MAX(A$1:A8)+1)","v":""},{"$f":"IF(Company_Information!B31=\"\",\"\",Company_Information!B31)","v":""},"",null,"CT",null,"Flare Events",null,{"$f":"IF(LDAR_initial_TT!C31=\"\",\"\",LDAR_initial_TT!C31)","v":""},{"$f":"IF(COUNTIF(I$2:I9,I9)=1,I9,\"\")","v":""},{"$f":"+IF(J9=\"\",\"\",MAX(K$1:K8)+1)","v":""},"",null,{"$f":"IF(LDAR_initial_H_UU!C31=\"\",\"\",LDAR_initial_H_UU!C31)","v":""},{"$f":"IF(COUNTIF(N$2:N9,N9)=1,N9,\"\")","v":""},{"$f":"+IF(O9=\"\",\"\",MAX(P$1:P8)+1)","v":""},"",null,{"$f":"IF(CMS_Identification!G31=\"\",\"\",CMS_Identification!G31)","v":""},{"$f":"IF(CMS_Identification!B31=\"\",\"\",CMS_Identification!B31)","v":""},{"$f":"IF(COUNTIF(S$2:S9,S9)=1,S9,\"\")","v":""},{"$f":"+IF(U9=\"\",\"\",MAX(V$1:V8)+1)","v":""},"",null,{"$f":"IF(CMS_Identification!G31=\"\",\"\",CMS_Identification!G31)","v":""},{"$f":"IF(CMS_Identification!D31=\"\",\"\",CMS_Identification!D31)","v":""},null,null,null,{"$f":"IF(CMS_Identification!B31=\"\",\"\",CMS_Identification!B31)","v":""},{"$f":"IF(CMS_Identification!G31=\"\",\"\",CMS_Identification!G31)","v":""},{"$f":"IF(CMS_Identification!D31=\"\",\"\",CMS_Identification!D31)","v":""}]
[{"$f":"IF(B10=\"\",\"\",MAX(A$1:A9)+1)","v":""},{"$f":"IF(Company_Information!B32=\"\",\"\",Company_Information!B32)","v":""},"",null,"DC",null,"No pilot flame or flare flame present",null,{"$f":"IF(LDAR_initial_TT!C32=\"\",\"\",LDAR_initial_TT!C32)","v":""},{"$f":"IF(COUNTIF(I$2:I10,I10)=1,I10,\"\")","v":""},{"$f":"+IF(J10=\"\",\"\",MAX(K$1:K9)+1)","v":""},"",null,{"$f":"IF(LDAR_initial_H_UU!C32=\"\",\"\",LDAR_initial_H_UU!C32)","v":""},{"$f":"IF(COUNTIF(N$2:N10,N10)=1,N10,\"\")","v":""},{"$f":"+IF(O10=\"\",\"\",MAX(P$1:P9)+1)","v":""},"",null,{"$f":"IF(CMS_Identification!G32=\"\",\"\",CMS_Identification!G32)","v":""},{"$f":"IF(CMS_Identification!B32=\"\",\"\",CMS_Identification!B32)","v":""},{"$f":"IF(COUNTIF(S$2:S10,S10)=1,S10,\"\")","v":""},{"$f":"+IF(U10=\"\",\"\",MAX(V$1:V9)+1)","v":""},"",null,{"$f":"IF(CMS_Identification!G32=\"\",\"\",CMS_Identification!G32)","v":""},{"$f":"IF(CMS_Identification!D32=\"\",\"\",CMS_Identification!D32)","v":""},null,null,null,{"$f":"IF(CMS_Identification!B32=\"\",\"\",CMS_Identification!B32)","v":""},{"$f":"IF(CMS_Identification!G32=\"\",\"\",CMS_Identification!G32)","v":""},{"$f":"IF(CMS_Identification!D32=\"\",\"\",CMS_Identification!D32)","v":""}]
[{"$f":"IF(B11=\"\",\"\",MAX(A$1:A10)+1)","v":""},{"$f":"IF(Company_Information!B33=\"\",\"\",Company_Information!B33)","v":""},"",null,"DE",null,"Visible emissions exceed 5 minutes",null,{"$f":"IF(LDAR_initial_TT!C33=\"\",\"\",LDAR_initial_TT!C33)","v":""},{"$f":"IF(COUNTIF(I$2:I11,I11)=1,I11,\"\")","v":""},{"$f":"+IF(J11=\"\",\"\",MAX(K$1:K10)+1)","v":""},"",null,{"$f":"IF(LDAR_initial_H_UU!C33=\"\",\"\",LDAR_initial_H_UU!C33)","v":""},{"$f":"IF(COUNTIF(N$2:N11,N11)=1,N11,\"\")","v":""},{"$f":"+IF(O11=\"\",\"\",MAX(P$1:P10)+1)","v":""},"",null,{"$f":"IF(CMS_Identification!G33=\"\",\"\",CMS_Identification!G33)","v":""},{"$f":"IF(CMS_Identification!B33=\"\",\"\",CMS_Identification!B33)","v":""},{"$f":"IF(COUNTIF(S$2:S11,S11)=1,S11,\"\")","v":""},{"$f":"+IF(U11=\"\",\"\",MAX(V$1:V10)+1)","v":""},"",null,{"$f":"IF(CMS_Identification!G33=\"\",\"\",CMS_Identification!G33)","v":""},{"$f":"IF(CMS_Identification!D33=\"\",\"\",CMS_Identification!D33)","v":""},null,null,null,{"$f":"IF(CMS_Identification!B33=\"\",\"\",CMS_Identification!B33)","v":""},{"$f":"IF(CMS_Identification!G33=\"\",\"\",CMS_Identification!G33)","v":""},{"$f":"IF(CMS_Identification!D33=\"\",\"\",CMS_Identification!D33)","v":""}]
[null,null,null,null,"FL",null,"Applicable operating limits not met",null,{"$f":"IF(LDAR_initial_TT!C34=\"\",\"\",LDAR_initial_TT!C34)","v":""},{"$f":"IF(COUNTIF(I$2:I12,I12)=1,I12,\"\")","v":""},{"$f":"+IF(J12=\"\",\"\",MAX(K$1:K11)+1)","v":""},"",null,{"$f":"IF(LDAR_initial_H_UU!C34=\"\",\"\",LDAR_initial_H_UU!C34)","v":""},{"$f":"IF(COUNTIF(N$2:N12,N12)=1,N12,\"\")","v":""},{"$f":"+IF(O12=\"\",\"\",MAX(P$1:P11)+1)","v":""},"",null,{"$f":"IF(CMS_Identification!G34=\"\",\"\",CMS_Identification!G34)","v":""},{"$f":"IF(CMS_Identification!B34=\"\",\"\",CMS_Identification!B34)","v":""},{"$f":"IF(COUNTIF(S$2:S12,S12)=1,S12,\"\")","v":""},{"$f":"+IF(U12=\"\",\"\",MAX(V$1:V11)+1)","v":""},"",null,{"$f":"IF(CMS_Identification!G34=\"\",\"\",CMS_Identification!G34)","v":""},{"$f":"IF(CMS_Identification!D34=\"\",\"\",CMS_Identification!D34)","v":""},null,null,null,{"$f":"IF(CMS_Identification!B34=\"\",\"\",CMS_Identification!B34)","v":""},{"$f":"IF(CMS_Identification!G34=\"\",\"\",CMS_Identification!G34)","v":""},{"$f":"IF(CMS_Identification!D34=\"\",\"\",CMS_Identification!D34)","v":""}]
[null,null,null,null,"GA",null,null,null,{"$f":"IF(LDAR_initial_TT!C35=\"\",\"\",LDAR_initial_TT!C35)","v":""},{"$f":"IF(COUNTIF(I$2:I13,I13)=1,I13,\"\")","v":""},{"$f":"+IF(J13=\"\",\"\",MAX(K$1:K12)+1)","v":""},"",null,{"$f":"IF(LDAR_initial_H_UU!C35=\"\",\"\",LDAR_initial_H_UU!C35)","v":""},{"$f":"IF(COUNTIF(N$2:N13,N13)=1,N13,\"\")","v":""},{"$f":"+IF(O13=\"\",\"\",MAX(P$1:P12)+1)","v":""},"",null,{"$f":"IF(CMS_Identification!G35=\"\",\"\",CMS_Identification!G35)","v":""},{"$f":"IF(CMS_Identification!B35=\"\",\"\",CMS_Identification!B35)","v":""},{"$f":"IF(COUNTIF(S$2:S13,S13)=1,S13,\"\")","v":""},{"$f":"+IF(U13=\"\",\"\",MAX(V$1:V12)+1)","v":""},"",null,{"$f":"IF(CMS_Identification!G35=\"\",\"\",CMS_Identification!G35)","v":""},{"$f":"IF(CMS_Identification!D35=\"\",\"\",CMS_Identification!D35)","v":""},null,null,null,{"$f":"IF(CMS_Identification!B35=\"\",\"\",CMS_Identification!B35)","v":""},{"$f":"IF(CMS_Identification!G35=\"\",\"\",CMS_Identification!G35)","v":""},{"$f":"IF(CMS_Identification!D35=\"\",\"\",CMS_Identification!D35)","v":""}]
[null,null,null,null,"GU",null,"Flare Parameters",null,{"$f":"IF(LDAR_initial_TT!C36=\"\",\"\",LDAR_initial_TT!C36)","v":""},{"$f":"IF(COUNTIF(I$2:I14,I14)=1,I14,\"\")","v":""},{"$f":"+IF(J14=\"\",\"\",MAX(K$1:K13)+1)","v":""},"",null,{"$f":"IF(LDAR_initial_H_UU!C36=\"\",\"\",LDAR_initial_H_UU!C36)","v":""},{"$f":"IF(COUNTIF(N$2:N14,N14)=1,N14,\"\")","v":""},{"$f":"+IF(O14=\"\",\"\",MAX(P$1:P13)+1)","v":""},"",null,{"$f":"IF(CMS_Identification!G36=\"\",\"\",CMS_Identification!G36)","v":""},{"$f":"IF(CMS_Identification!B36=\"\",\"\",CMS_Identification!B36)","v":""},{"$f":"IF(COUNTIF(S$2:S14,S14)=1,S14,\"\")","v":""},{"$f":"+IF(U14=\"\",\"\",MAX(V$1:V13)+1)","v":""},"",null,{"$f":"IF(CMS_Identification!G36=\"\",\"\",CMS_Identification!G36)","v":""},{"$f":"IF(CMS_Identification!D36=\"\",\"\",CMS_Identification!D36)","v":""},null,null,null,{"$f":"IF(CMS_Identification!B36=\"\",\"\",CMS_Identification!B36)","v":""},{"$f":"IF(CMS_Identification!G36=\"\",\"\",CMS_Identification!G36)","v":""},{"$f":"IF(CMS_Identification!D36=\"\",\"\",CMS_Identification!D36)","v":""}]
[null,null,null,null,"HI",null,"vtip",null,{"$f":"IF(LDAR_initial_TT!C37=\"\",\"\",LDAR_initial_TT!C37)","v":""},{"$f":"IF(COUNTIF(I$2:I15,I15)=1,I15,\"\")","v":""},{"$f":"+IF(J15=\"\",\"\",MAX(K$1:K14)+1)","v":""},"",null,{"$f":"IF(LDAR_initial_H_UU!C37=\"\",\"\",LDAR_initial_H_UU!C37)","v":""},{"$f":"IF(COUNTIF(N$2:N15,N15)=1,N15,\"\")","v":""},{"$f":"+IF(O15=\"\",\"\",MAX(P$1:P14)+1)","v":""},"",null,{"$f":"IF(CMS_Identification!G37=\"\",\"\",CMS_Identification!G37)","v":""},{"$f":"IF(CMS_Identification!B37=\"\",\"\",CMS_Identification!B37)","v":""},{"$f":"IF(COUNTIF(S$2:S15,S15)=1,S15,\"\")","v":""},{"$f":"+IF(U15=\"\",\"\",MAX(V$1:V14)+1)","v":""},"",null,{"$f":"IF(CMS_Identification!G37=\"\",\"\",CMS_Identification!G37)","v":""},{"$f":"IF(CMS_Identification!D37=\"\",\"\",CMS_Identification!D37)","v":""},null,null,null,{"$f":"IF(CMS_Identification!B37=\"\",\"\",CMS_Identification!B37)","v":""},{"$f":"IF(CMS_Identification!G37=\"\",\"\",CMS_Identification!G37)","v":""},{"$f":"IF(CMS_Identification!D37=\"\",\"\",CMS_Identification!D37)","v":""}]
[null,null,null,null,"IA",null,"NHVcz",null,{"$f":"IF(LDAR_initial_TT!C38=\"\",\"\",LDAR_initial_TT!C38)","v":""},{"$f":"IF(COUNTIF(I$2:I16,I16)=1,I16,\"\")","v":""},{"$f":"+IF(J16=\"\",\"\",MAX(K$1:K15)+1)","v":""},"",null,{"$f":"IF(LDAR_initial_H_UU!C38=\"\",\"\",LDAR_initial_H_UU!C38)","v":""},{"$f":"IF(COUNTIF(N$2:N16,N16)=1,N16,\"\")","v":""},{"$f":"+IF(O16=\"\",\"\",MAX(P$1:P15)+1)","v":""},"",null,{"$f":"IF(CMS_Identification!G38=\"\",\"\",CMS_Identification!G38)","v":""},{"$f":"IF(CMS_Identification!B38=\"\",\"\",CMS_Identification!B38)","v":""},{"$f":"IF(COUNTIF(S$2:S16,S16)=1,S16,\"\")","v":""},{"$f":"+IF(U16=\"\",\"\",MAX(V$1:V15)+1)","v":""},"",null,{"$f":"IF(CMS_Identification!G38=\"\",\"\",CMS_Identification!G38)","v":""},{"$f":"IF(CMS_Identification!D38=\"\",\"\",CMS_Identification!D38)","v":""},null,null,null,{"$f":"IF(CMS_Identification!B38=\"\",\"\",CMS_Identification!B38)","v":""},{"$f":"IF(CMS_Identification!G38=\"\",\"\",CMS_Identification!G38)","v":""},{"$f":"IF(CMS_Identification!D38=\"\",\"\",CMS_Identification!D38)","v":""}]
[null,null,null,null,"ID",null,"NHVdil",null,{"$f":"IF(LDAR_initial_TT!C39=\"\",\"\",LDAR_initial_TT!C39)","v":""},{"$f":"IF(COUNTIF(I$2:I17,I17)=1,I17,\"\")","v":""},{"$f":"+IF(J17=\"\",\"\",MAX(K$1:K16)+1)","v":""},"",null,{"$f":"IF(LDAR_initial_H_UU!C39=\"\",\"\",LDAR_initial_H_UU!C39)","v":""},{"$f":"IF(COUNTIF(N$2:N17,N17)=1,N17,\"\")","v":""},{"$f":"+IF(O17=\"\",\"\",MAX(P$1:P16)+1)","v":""},"",null,{"$f":"IF(CMS_Identification!G39=\"\",\"\",CMS_Identification!G39)","v":""},{"$f":"IF(CMS_Identification!B39=\"\",\"\",CMS_Identification!B39)","v":""},{"$f":"IF(COUNTIF(S$2:S17,S17)=1,S17,\"\")","v":""},{"$f":"+IF(U17=\"\",\"\",MAX(V$1:V16)+1)","v":""},"",null,{"$f":"IF(CMS_Identification!G39=\"\",\"\",CMS_Identification!G39)","v":""},{"$f":"IF(CMS_Identification!D39=\"\",\"\",CMS_Identification!D39)","v":""},null,null,null,{"$f":"IF(CMS_Identification!B39=\"\",\"\",CMS_Identification!B39)","v":""},{"$f":"IF(CMS_Identification!G39=\"\",\"\",CMS_Identification!G39)","v":""},{"$f":"IF(CMS_Identification!D39=\"\",\"\",CMS_Identification!D39)","v":""}]
[null,null,null,null,"IL",null,null,null,{"$f":"IF(LDAR_initial_TT!C40=\"\",\"\",LDAR_initial_TT!C40)","v":""},{"$f":"IF(COUNTIF(I$2:I18,I18)=1,I18,\"\")","v":""},{"$f":"+IF(J18=\"\",\"\",MAX(K$1:K17)+1)","v":""},"",null,{"$f":"IF(LDAR_initial_H_UU!C40=\"\",\"\",LDAR_initial_H_UU!C40)","v":""},{"$f":"IF(COUNTIF(N$2:N18,N18)=1,N18,\"\")","v":""},{"$f":"+IF(O18=\"\",\"\",MAX(P$1:P17)+1)","v":""},"",null,{"$f":"IF(CMS_Identification!G40=\"\",\"\",CMS_Identification!G40)","v":""},{"$f":"IF(CMS_Identification!B40=\"\",\"\",CMS_Identification!B40)","v":""},{"$f":"IF(COUNTIF(S$2:S18,S18)=1,S18,\"\")","v":""},{"$f":"+IF(U18=\"\",\"\",MAX(V$1:V17)+1)","v":""},"",null,{"$f":"IF(CMS_Identification!G40=\"\",\"\",CMS_Identification!G40)","v":""},{"$f":"IF(CMS_Identification!D40=\"\",\"\",CMS_Identification!D40)","v":""},null,null,null,{"$f":"IF(CMS_Identification!B40=\"\",\"\",CMS_Identification!B40)","v":""},{"$f":"IF(CMS_Identification!G40=\"\",\"\",CMS_Identification!G40)","v":""},{"$f":"IF(CMS_Identification!D40=\"\",\"\",CMS_Identification!D40)","v":""}]
[null,null,null,null,"IN",null,"Months",null,{"$f":"IF(LDAR_initial_TT!C41=\"\",\"\",LDAR_initial_TT!C41)","v":""},{"$f":"IF(COUNTIF(I$2:I19,I19)=1,I19,\"\")","v":""},{"$f":"+IF(J19=\"\",\"\",MAX(K$1:K18)+1)","v":""},"",null,{"$f":"IF(LDAR_initial_H_UU!C41=\"\",\"\",LDAR_initial_H_UU!C41)","v":""},{"$f":"IF(COUNTIF(N$2:N19,N19)=1,N19,\"\")","v":""},{"$f":"+IF(O19=\"\",\"\",MAX(P$1:P18)+1)","v":""},"",null,{"$f":"IF(CMS_Identification!G41=\"\",\"\",CMS_Identification!G41)","v":""},{"$f":"IF(CMS_Identification!B41=\"\",\"\",CMS_Identification!B41)","v":""},{"$f":"IF(COUNTIF(S$2:S19,S19)=1,S19,\"\")","v":""},{"$f":"+IF(U19=\"\",\"\",MAX(V$1:V18)+1)","v":""},"",null,{"$f":"IF(CMS_Identification!G41=\"\",\"\",CMS_Identification!G41)","v":""},{"$f":"IF(CMS_Identification!D41=\"\",\"\",CMS_Identification!D41)","v":""},null,null,null,{"$f":"IF(CMS_Identification!B41=\"\",\"\",CMS_Identification!B41)","v":""},{"$f":"IF(CMS_Identification!G41=\"\",\"\",CMS_Identification!G41)","v":""},{"$f":"IF(CMS_Identification!D41=\"\",\"\",CMS_Identification!D41)","v":""}]
[null,null,null,null,"KS",null,"January",null,{"$f":"IF(LDAR_initial_TT!C42=\"\",\"\",LDAR_initial_TT!C42)","v":""},{"$f":"IF(COUNTIF(I$2:I20,I20)=1,I20,\"\")","v":""},{"$f":"+IF(J20=\"\",\"\",MAX(K$1:K19)+1)","v":""},"",null,{"$f":"IF(LDAR_initial_H_UU!C42=\"\",\"\",LDAR_initial_H_UU!C42)","v":""},{"$f":"IF(COUNTIF(N$2:N20,N20)=1,N20,\"\")","v":""},{"$f":"+IF(O20=\"\",\"\",MAX(P$1:P19)+1)","v":""},"",null,{"$f":"IF(CMS_Identification!G42=\"\",\"\",CMS_Identification!G42)","v":""},{"$f":"IF(CMS_Identification!B42=\"\",\"\",CMS_Identification!B42)","v":""},{"$f":"IF(COUNTIF(S$2:S20,S20)=1,S20,\"\")","v":""},{"$f":"+IF(U20=\"\",\"\",MAX(V$1:V19)+1)","v":""},"",null,{"$f":"IF(CMS_Identification!G42=\"\",\"\",CMS_Identification!G42)","v":""},{"$f":"IF(CMS_Identification!D42=\"\",\"\",CMS_Identification!D42)","v":""},null,null,null,{"$f":"IF(CMS_Identification!B42=\"\",\"\",CMS_Identification!B42)","v":""},{"$f":"IF(CMS_Identification!G42=\"\",\"\",CMS_Identification!G42)","v":""},{"$f":"IF(CMS_Identification!D42=\"\",\"\",CMS_Identification!D42)","v":""}]
[null,null,null,null,"KY",null,"February",null,{"$f":"IF(LDAR_initial_TT!C43=\"\",\"\",LDAR_initial_TT!C43)","v":""},{"$f":"IF(COUNTIF(I$2:I21,I21)=1,I21,\"\")","v":""},{"$f":"+IF(J21=\"\",\"\",MAX(K$1:K20)+1)","v":""},"",null,{"$f":"IF(LDAR_initial_H_UU!C43=\"\",\"\",LDAR_initial_H_UU!C43)","v":""},{"$f":"IF(COUNTIF(N$2:N21,N21)=1,N21,\"\")","v":""},{"$f":"+IF(O21=\"\",\"\",MAX(P$1:P20)+1)","v":""},"",null,{"$f":"IF(CMS_Identification!G43=\"\",\"\",CMS_Identification!G43)","v":""},{"$f":"IF(CMS_Identification!B43=\"\",\"\",CMS_Identification!B43)","v":""},{"$f":"IF(COUNTIF(S$2:S21,S21)=1,S21,\"\")","v":""},{"$f":"+IF(U21=\"\",\"\",MAX(V$1:V20)+1)","v":""},"",null,{"$f":"IF(CMS_Identification!G43=\"\",\"\",CMS_Identification!G43)","v":""},{"$f":"IF(CMS_Identification!D43=\"\",\"\",CMS_Identification!D43)","v":""},null,null,null,{"$f":"IF(CMS_Identification!B43=\"\",\"\",CMS_Identification!B43)","v":""},{"$f":"IF(CMS_Identification!G43=\"\",\"\",CMS_Identification!G43)","v":""},{"$f":"IF(CMS_Identification!D43=\"\",\"\",CMS_Identification!D43)","v":""}]
[null,null,null,null,"LA",null,"March",null,{"$f":"IF(LDAR_initial_TT!C44=\"\",\"\",LDAR_initial_TT!C44)","v":""},{"$f":"IF(COUNTIF(I$2:I22,I22)=1,I22,\"\")","v":""},{"$f":"+IF(J22=\"\",\"\",MAX(K$1:K21)+1)","v":""},"",null,{"$f":"IF(LDAR_initial_H_UU!C44=\"\",\"\",LDAR_initial_H_UU!C44)","v":""},{"$f":"IF(COUNTIF(N$2:N22,N22)=1,N22,\"\")","v":""},{"$f":"+IF(O22=\"\",\"\",MAX(P$1:P21)+1)","v":""},"",null,{"$f":"IF(CMS_Identification!G44=\"\",\"\",CMS_Identification!G44)","v":""},{"$f":"IF(CMS_Identification!B44=\"\",\"\",CMS_Identification!B44)","v":""},{"$f":"IF(COUNTIF(S$2:S22,S22)=1,S22,\"\")","v":""},{"$f":"+IF(U22=\"\",\"\",MAX(V$1:V21)+1)","v":""},"",null,{"$f":"IF(CMS_Identification!G44=\"\",\"\",CMS_Identification!G44)","v":""},{"$f":"IF(CMS_Identification!D44=\"\",\"\",CMS_Identification!D44)","v":""},null,null,null,{"$f":"IF(CMS_Identification!B44=\"\",\"\",CMS_Identification!B44)","v":""},{"$f":"IF(CMS_Identification!G44=\"\",\"\",CMS_Identification!G44)","v":""},{"$f":"IF(CMS_Identification!D44=\"\",\"\",CMS_Identification!D44)","v":""}]
[null,null,null,null,"MA",null,"April",null,{"$f":"IF(LDAR_initial_TT!C45=\"\",\"\",LDAR_initial_TT!C45)","v":""},{"$f":"IF(COUNTIF(I$2:I23,I23)=1,I23,\"\")","v":""},{"$f":"+IF(J23=\"\",\"\",MAX(K$1:K22)+1)","v":""},"",null,{"$f":"IF(LDAR_initial_H_UU!C45=\"\",\"\",LDAR_initial_H_UU!C45)","v":""},{"$f":"IF(COUNTIF(N$2:N23,N23)=1,N23,\"\")","v":""},{"$f":"+IF(O23=\"\",\"\",MAX(P$1:P22)+1)","v":""},"",null,{"$f":"IF(CMS_Identification!G45=\"\",\"\",CMS_Identification!G45)","v":""},{"$f":"IF(CMS_Identification!B45=\"\",\"\",CMS_Identification!B45)","v":""},{"$f":"IF(COUNTIF(S$2:S23,S23)=1,S23,\"\")","v":""},{"$f":"+IF(U23=\"\",\"\",MAX(V$1:V22)+1)","v":""},"",null,{"$f":"IF(CMS_Identification!G45=\"\",\"\",CMS_Identification!G45)","v":""},{"$f":"IF(CMS_Identification!D45=\"\",\"\",CMS_Identification!D45)","v":""},null,null,null,{"$f":"IF(CMS_Identification!B45=\"\",\"\",CMS_Identification!B45)","v":""},{"$f":"IF(CMS_Identification!G45=\"\",\"\",CMS_Identification!G45)","v":""},{"$f":"IF(CMS_Identification!D45=\"\",\"\",CMS_Identification!D45)","v":""}]
[null,null,null,null,"MD",null,"May",null,{"$f":"IF(LDAR_initial_TT!C46=\"\",\"\",LDAR_initial_TT!C46)","v":""},{"$f":"IF(COUNTIF(I$2:I24,I24)=1,I24,\"\")","v":""},{"$f":"+IF(J24=\"\",\"\",MAX(K$1:K23)+1)","v":""},"",null,{"$f":"IF(LDAR_initial_H_UU!C46=\"\",\"\",LDAR_initial_H_UU!C46)","v":""},{"$f":"IF(COUNTIF(N$2:N24,N24)=1,N24,\"\")","v":""},{"$f":"+IF(O24=\"\",\"\",MAX(P$1:P23)+1)","v":""},"",null,{"$f":"IF(CMS_Identification!G46=\"\",\"\",CMS_Identification!G46)","v":""},{"$f":"IF(CMS_Identification!B46=\"\",\"\",CMS_Identification!B46)","v":""},{"$f":"IF(COUNTIF(S$2:S24,S24)=1,S24,\"\")","v":""},{"$f":"+IF(U24=\"\",\"\",MAX(V$1:V23)+1)","v":""},"",null,{"$f":"IF(CMS_Identification!G46=\"\",\"\",CMS_Identification!G46)","v":""},{"$f":"IF(CMS_Identification!D46=\"\",\"\",CMS_Identification!D46)","v":""},null,null,null,{"$f":"IF(CMS_Identification!B46=\"\",\"\",CMS_Identification!B46)","v":""},{"$f":"IF(CMS_Identification!G46=\"\",\"\",CMS_Identification!G46)","v":""},{"$f":"IF(CMS_Identification!D46=\"\",\"\",CMS_Identification!D46)","v":""}]
[null,null,null,null,"ME",null,"June",null,{"$f":"IF(LDAR_initial_TT!C47=\"\",\"\",LDAR_initial_TT!C47)","v":""},{"$f":"IF(COUNTIF(I$2:I25,I25)=1,I25,\"\")","v":""},{"$f":"+IF(J25=\"\",\"\",MAX(K$1:K24)+1)","v":""},"",null,{"$f":"IF(LDAR_initial_H_UU!C47=\"\",\"\",LDAR_initial_H_UU!C47)","v":""},{"$f":"IF(COUNTIF(N$2:N25,N25)=1,N25,\"\")","v":""},{"$f":"+IF(O25=\"\",\"\",MAX(P$1:P24)+1)","v":""},"",null,{"$f":"IF(CMS_Identification!G47=\"\",\"\",CMS_Identification!G47)","v":""},{"$f":"IF(CMS_Identification!B47=\"\",\"\",CMS_Identification!B47)","v":""},{"$f":"IF(COUNTIF(S$2:S25,S25)=1,S25,\"\")","v":""},{"$f":"+IF(U25=\"\",\"\",MAX(V$1:V24)+1)","v":""},"",null,{"$f":"IF(CMS_Identification!G47=\"\",\"\",CMS_Identification!G47)","v":""},{"$f":"IF(CMS_Identification!D47=\"\",\"\",CMS_Identification!D47)","v":""},null,null,null,{"$f":"IF(CMS_Identification!B47=\"\",\"\",CMS_Identification!B47)","v":""},{"$f":"IF(CMS_Identification!G47=\"\",\"\",CMS_Identification!G47)","v":""},{"$f":"IF(CMS_Identification!D47=\"\",\"\",CMS_Identification!D47)","v":""}]
[null,null,null,null,"MI",null,"July",null,{"$f":"IF(LDAR_initial_TT!C48=\"\",\"\",LDAR_initial_TT!C48)","v":""},{"$f":"IF(COUNTIF(I$2:I26,I26)=1,I26,\"\")","v":""},{"$f":"+IF(J26=\"\",\"\",MAX(K$1:K25)+1)","v":""},"",null,{"$f":"IF(LDAR_initial_H_UU!C48=\"\",\"\",LDAR_initial_H_UU!C48)","v":""},{"$f":"IF(COUNTIF(N$2:N26,N26)=1,N26,\"\")","v":""},{"$f":"+IF(O26=\"\",\"\",MAX(P$1:P25)+1)","v":""},"",null,{"$f":"IF(CMS_Identification!G48=\"\",\"\",CMS_Identification!G48)","v":""},{"$f":"IF(CMS_Identification!B48=\"\",\"\",CMS_Identification!B48)","v":""},{"$f":"IF(COUNTIF(S$2:S26,S26)=1,S26,\"\")","v":""},{"$f":"+IF(U26=\"\",\"\",MAX(V$1:V25)+1)","v":""},"",null,{"$f":"IF(CMS_Identification!G48=\"\",\"\",CMS_Identification!G48)","v":""},{"$f":"IF(CMS_Identification!D48=\"\",\"\",CMS_Identification!D48)","v":""},null,null,null,{"$f":"IF(CMS_Identification!B48=\"\",\"\",CMS_Identification!B48)","v":""},{"$f":"IF(CMS_Identification!G48=\"\",\"\",CMS_Identification!G48)","v":""},{"$f":"IF(CMS_Identification!D48=\"\",\"\",CMS_Identification!D48)","v":""}]
[null,null,null,null,"MN",null,"August",null,{"$f":"IF(LDAR_initial_TT!C49=\"\",\"\",LDAR_initial_TT!C49)","v":""},{"$f":"IF(COUNTIF(I$2:I27,I27)=1,I27,\"\")","v":""},{"$f":"+IF(J27=\"\",\"\",MAX(K$1:K26)+1)","v":""},"",null,{"$f":"IF(LDAR_initial_H_UU!C49=\"\",\"\",LDAR_initial_H_UU!C49)","v":""},{"$f":"IF(COUNTIF(N$2:N27,N27)=1,N27,\"\")","v":""},{"$f":"+IF(O27=\"\",\"\",MAX(P$1:P26)+1)","v":""},"",null,{"$f":"IF(CMS_Identification!G49=\"\",\"\",CMS_Identification!G49)","v":""},{"$f":"IF(CMS_Identification!B49=\"\",\"\",CMS_Identification!B49)","v":""},{"$f":"IF(COUNTIF(S$2:S27,S27)=1,S27,\"\")","v":""},{"$f":"+IF(U27=\"\",\"\",MAX(V$1:V26)+1)","v":""},"",null,{"$f":"IF(CMS_Identification!G49=\"\",\"\",CMS_Identification!G49)","v":""},{"$f":"IF(CMS_Identification!D49=\"\",\"\",CMS_Identification!D49)","v":""},null,null,null,{"$f":"IF(CMS_Identification!B49=\"\",\"\",CMS_Identification!B49)","v":""},{"$f":"IF(CMS_Identification!G49=\"\",\"\",CMS_Identification!G49)","v":""},{"$f":"IF(CMS_Identification!D49=\"\",\"\",CMS_Identification!D49)","v":""}]
[null,null,null,null,"MO",null,"September",null,{"$f":"IF(LDAR_initial_TT!C50=\"\",\"\",LDAR_initial_TT!C50)","v":""},{"$f":"IF(COUNTIF(I$2:I28,I28)=1,I28,\"\")","v":""},{"$f":"+IF(J28=\"\",\"\",MAX(K$1:K27)+1)","v":""},"",null,{"$f":"IF(LDAR_initial_H_UU!C50=\"\",\"\",LDAR_initial_H_UU!C50)","v":""},{"$f":"IF(COUNTIF(N$2:N28,N28)=1,N28,\"\")","v":""},{"$f":"+IF(O28=\"\",\"\",MAX(P$1:P27)+1)","v":""},"",null,{"$f":"IF(CMS_Identification!G50=\"\",\"\",CMS_Identification!G50)","v":""},{"$f":"IF(CMS_Identification!B50=\"\",\"\",CMS_Identification!B50)","v":""},{"$f":"IF(COUNTIF(S$2:S28,S28)=1,S28,\"\")","v":""},{"$f":"+IF(U28=\"\",\"\",MAX(V$1:V27)+1)","v":""},"",null,{"$f":"IF(CMS_Identification!G50=\"\",\"\",CMS_Identification!G50)","v":""},{"$f":"IF(CMS_Identification!D50=\"\",\"\",CMS_Identification!D50)","v":""},null,null,null,{"$f":"IF(CMS_Identification!B50=\"\",\"\",CMS_Identification!B50)","v":""},{"$f":"IF(CMS_Identification!G50=\"\",\"\",CMS_Identification!G50)","v":""},{"$f":"IF(CMS_Identification!D50=\"\",\"\",CMS_Identification!D50)","v":""}]
[null,null,null,null,"MP",null,"October",null,{"$f":"IF(LDAR_initial_TT!C51=\"\",\"\",LDAR_initial_TT!C51)","v":""},{"$f":"IF(COUNTIF(I$2:I29,I29)=1,I29,\"\")","v":""},{"$f":"+IF(J29=\"\",\"\",MAX(K$1:K28)+1)","v":""},"",null,{"$f":"IF(LDAR_initial_H_UU!C51=\"\",\"\",LDAR_initial_H_UU!C51)","v":""},{"$f":"IF(COUNTIF(N$2:N29,N29)=1,N29,\"\")","v":""},{"$f":"+IF(O29=\"\",\"\",MAX(P$1:P28)+1)","v":""},"",null,{"$f":"IF(CMS_Identification!G51=\"\",\"\",CMS_Identification!G51)","v":""},{"$f":"IF(CMS_Identification!B51=\"\",\"\",CMS_Identification!B51)","v":""},{"$f":"IF(COUNTIF(S$2:S29,S29)=1,S29,\"\")","v":""},{"$f":"+IF(U29=\"\",\"\",MAX(V$1:V28)+1)","v":""},"",null,{"$f":"IF(CMS_Identification!G51=\"\",\"\",CMS_Identification!G51)","v":""},{"$f":"IF(CMS_Identification!D51=\"\",\"\",CMS_Identification!D51)","v":""},null,null,null,{"$f":"IF(CMS_Identification!B51=\"\",\"\",CMS_Identification!B51)","v":""},{"$f":"IF(CMS_Identification!G51=\"\",\"\",CMS_Identification!G51)","v":""},{"$f":"IF(CMS_Identification!D51=\"\",\"\",CMS_Identification!D51)","v":""}]
[null,null,null,null,"MS",null,"November",null,{"$f":"IF(LDAR_initial_TT!C52=\"\",\"\",LDAR_initial_TT!C52)","v":""},{"$f":"IF(COUNTIF(I$2:I30,I30)=1,I30,\"\")","v":""},{"$f":"+IF(J30=\"\",\"\",MAX(K$1:K29)+1)","v":""},"",null,{"$f":"IF(LDAR_initial_H_UU!C52=\"\",\"\",LDAR_initial_H_UU!C52)","v":""},{"$f":"IF(COUNTIF(N$2:N30,N30)=1,N30,\"\")","v":""},{"$f":"+IF(O30=\"\",\"\",MAX(P$1:P29)+1)","v":""},"",null,{"$f":"IF(CMS_Identification!G52=\"\",\"\",CMS_Identification!G52)","v":""},{"$f":"IF(CMS_Identification!B52=\"\",\"\",CMS_Identification!B52)","v":""},{"$f":"IF(COUNTIF(S$2:S30,S30)=1,S30,\"\")","v":""},{"$f":"+IF(U30=\"\",\"\",MAX(V$1:V29)+1)","v":""},"",null,{"$f":"IF(CMS_Identification!G52=\"\",\"\",CMS_Identification!G52)","v":""},{"$f":"IF(CMS_Identification!D52=\"\",\"\",CMS_Identification!D52)","v":""},null,null,null,{"$f":"IF(CMS_Identification!B52=\"\",\"\",CMS_Identification!B52)","v":""},{"$f":"IF(CMS_Identification!G52=\"\",\"\",CMS_Identification!G52)","v":""},{"$f":"IF(CMS_Identification!D52=\"\",\"\",CMS_Identification!D52)","v":""}]
[null,null,null,null,"MT",null,"December",null,{"$f":"IF(LDAR_initial_TT!C53=\"\",\"\",LDAR_initial_TT!C53)","v":""},{"$f":"IF(COUNTIF(I$2:I31,I31)=1,I31,\"\")","v":""},{"$f":"+IF(J31=\"\",\"\",MAX(K$1:K30)+1)","v":""},"",null,{"$f":"IF(LDAR_initial_H_UU!C53=\"\",\"\",LDAR_initial_H_UU!C53)","v":""},{"$f":"IF(COUNTIF(N$2:N31,N31)=1,N31,\"\")","v":""},{"$f":"+IF(O31=\"\",\"\",MAX(P$1:P30)+1)","v":""},"",null,{"$f":"IF(CMS_Identification!G53=\"\",\"\",CMS_Identification!G53)","v":""},{"$f":"IF(CMS_Identification!B53=\"\",\"\",CMS_Identification!B53)","v":""},{"$f":"IF(COUNTIF(S$2:S31,S31)=1,S31,\"\")","v":""},{"$f":"+IF(U31=\"\",\"\",MAX(V$1:V30)+1)","v":""},"",null,{"$f":"IF(CMS_Identification!G53=\"\",\"\",CMS_Identification!G53)","v":""},{"$f":"IF(CMS_Identification!D53=\"\",\"\",CMS_Identification!D53)","v":""},null,null,null,{"$f":"IF(CMS_Identification!B53=\"\",\"\",CMS_Identification!B53)","v":""},{"$f":"IF(CMS_Identification!G53=\"\",\"\",CMS_Identification!G53)","v":""},{"$f":"IF(CMS_Identification!D53=\"\",\"\",CMS_Identification!D53)","v":""}]
[null,null,null,null,"NC",null,null,null,{"$f":"IF(LDAR_initial_TT!C54=\"\",\"\",LDAR_initial_TT!C54)","v":""},{"$f":"IF(COUNTIF(I$2:I32,I32)=1,I32,\"\")","v":""},{"$f":"+IF(J32=\"\",\"\",MAX(K$1:K31)+1)","v":""},"",null,{"$f":"IF(LDAR_initial_H_UU!C54=\"\",\"\",LDAR_initial_H_UU!C54)","v":""},{"$f":"IF(COUNTIF(N$2:N32,N32)=1,N32,\"\")","v":""},{"$f":"+IF(O32=\"\",\"\",MAX(P$1:P31)+1)","v":""},"",null,{"$f":"IF(CMS_Identification!G54=\"\",\"\",CMS_Identification!G54)","v":""},{"$f":"IF(CMS_Identification!B54=\"\",\"\",CMS_Identification!B54)","v":""},{"$f":"IF(COUNTIF(S$2:S32,S32)=1,S32,\"\")","v":""},{"$f":"+IF(U32=\"\",\"\",MAX(V$1:V31)+1)","v":""},"",null,{"$f":"IF(CMS_Identification!G54=\"\",\"\",CMS_Identification!G54)","v":""},{"$f":"IF(CMS_Identification!D54=\"\",\"\",CMS_Identification!D54)","v":""},null,null,null,{"$f":"IF(CMS_Identification!B54=\"\",\"\",CMS_Identification!B54)","v":""},{"$f":"IF(CMS_Identification!G54=\"\",\"\",CMS_Identification!G54)","v":""},{"$f":"IF(CMS_Identification!D54=\"\",\"\",CMS_Identification!D54)","v":""}]
[null,null,null,null,"ND",null,null,null,{"$f":"IF(LDAR_initial_TT!C55=\"\",\"\",LDAR_initial_TT!C55)","v":""},{"$f":"IF(COUNTIF(I$2:I33,I33)=1,I33,\"\")","v":""},{"$f":"+IF(J33=\"\",\"\",MAX(K$1:K32)+1)","v":""},"",null,{"$f":"IF(LDAR_initial_H_UU!C55=\"\",\"\",LDAR_initial_H_UU!C55)","v":""},{"$f":"IF(COUNTIF(N$2:N33,N33)=1,N33,\"\")","v":""},{"$f":"+IF(O33=\"\",\"\",MAX(P$1:P32)+1)","v":""},"",null,{"$f":"IF(CMS_Identification!G55=\"\",\"\",CMS_Identification!G55)","v":""},{"$f":"IF(CMS_Identification!B55=\"\",\"\",CMS_Identification!B55)","v":""},{"$f":"IF(COUNTIF(S$2:S33,S33)=1,S33,\"\")","v":""},{"$f":"+IF(U33=\"\",\"\",MAX(V$1:V32)+1)","v":""},"",null,{"$f":"IF(CMS_Identification!G55=\"\",\"\",CMS_Identification!G55)","v":""},{"$f":"IF(CMS_Identification!D55=\"\",\"\",CMS_Identification!D55)","v":""},null,null,null,{"$f":"IF(CMS_Identification!B55=\"\",\"\",CMS_Identification!B55)","v":""},{"$f":"IF(CMS_Identification!G55=\"\",\"\",CMS_Identification!G55)","v":""},{"$f":"IF(CMS_Identification!D55=\"\",\"\",CMS_Identification!D55)","v":""}]
[null,null,null,null,"NE",null,null,null,{"$f":"IF(LDAR_initial_TT!C56=\"\",\"\",LDAR_initial_TT!C56)","v":""},{"$f":"IF(COUNTIF(I$2:I34,I34)=1,I34,\"\")","v":""},{"$f":"+IF(J34=\"\",\"\",MAX(K$1:K33)+1)","v":""},"",null,{"$f":"IF(LDAR_initial_H_UU!C56=\"\",\"\",LDAR_initial_H_UU!C56)","v":""},{"$f":"IF(COUNTIF(N$2:N34,N34)=1,N34,\"\")","v":""},{"$f":"+IF(O34=\"\",\"\",MAX(P$1:P33)+1)","v":""},"",null,{"$f":"IF(CMS_Identification!G56=\"\",\"\",CMS_Identification!G56)","v":""},{"$f":"IF(CMS_Identification!B56=\"\",\"\",CMS_Identification!B56)","v":""},{"$f":"IF(COUNTIF(S$2:S34,S34)=1,S34,\"\")","v":""},{"$f":"+IF(U34=\"\",\"\",MAX(V$1:V33)+1)","v":""},"",null,{"$f":"IF(CMS_Identification!G56=\"\",\"\",CMS_Identification!G56)","v":""},{"$f":"IF(CMS_Identification!D56=\"\",\"\",CMS_Identification!D56)","v":""},null,null,null,{"$f":"IF(CMS_Identification!B56=\"\",\"\",CMS_Identification!B56)","v":""},{"$f":"IF(CMS_Identification!G56=\"\",\"\",CMS_Identification!G56)","v":""},{"$f":"IF(CMS_Identification!D56=\"\",\"\",CMS_Identification!D56)","v":""}]
[null,null,null,null,"NH",null,null,null,{"$f":"IF(LDAR_initial_TT!C57=\"\",\"\",LDAR_initial_TT!C57)","v":""},{"$f":"IF(COUNTIF(I$2:I35,I35)=1,I35,\"\")","v":""},{"$f":"+IF(J35=\"\",\"\",MAX(K$1:K34)+1)","v":""},"",null,{"$f":"IF(LDAR_initial_H_UU!C57=\"\",\"\",LDAR_initial_H_UU!C57)","v":""},{"$f":"IF(COUNTIF(N$2:N35,N35)=1,N35,\"\")","v":""},{"$f":"+IF(O35=\"\",\"\",MAX(P$1:P34)+1)","v":""},"",null,{"$f":"IF(CMS_Identification!G57=\"\",\"\",CMS_Identification!G57)","v":""},{"$f":"IF(CMS_Identification!B57=\"\",\"\",CMS_Identification!B57)","v":""},{"$f":"IF(COUNTIF(S$2:S35,S35)=1,S35,\"\")","v":""},{"$f":"+IF(U35=\"\",\"\",MAX(V$1:V34)+1)","v":""},"",null,{"$f":"IF(CMS_Identification!G57=\"\",\"\",CMS_Identification!G57)","v":""},{"$f":"IF(CMS_Identification!D57=\"\",\"\",CMS_Identification!D57)","v":""},null,null,null,{"$f":"IF(CMS_Identification!B57=\"\",\"\",CMS_Identification!B57)","v":""},{"$f":"IF(CMS_Identification!G57=\"\",\"\",CMS_Identification!G57)","v":""},{"$f":"IF(CMS_Identification!D57=\"\",\"\",CMS_Identification!D57)","v":""}]
[null,null,null,null,"NJ",null,null,null,{"$f":"IF(LDAR_initial_TT!C58=\"\",\"\",LDAR_initial_TT!C58)","v":""},{"$f":"IF(COUNTIF(I$2:I36,I36)=1,I36,\"\")","v":""},{"$f":"+IF(J36=\"\",\"\",MAX(K$1:K35)+1)","v":""},"",null,{"$f":"IF(LDAR_initial_H_UU!C58=\"\",\"\",LDAR_initial_H_UU!C58)","v":""},{"$f":"IF(COUNTIF(N$2:N36,N36)=1,N36,\"\")","v":""},{"$f":"+IF(O36=\"\",\"\",MAX(P$1:P35)+1)","v":""},"",null,{"$f":"IF(CMS_Identification!G58=\"\",\"\",CMS_Identification!G58)","v":""},{"$f":"IF(CMS_Identification!B58=\"\",\"\",CMS_Identification!B58)","v":""},{"$f":"IF(COUNTIF(S$2:S36,S36)=1,S36,\"\")","v":""},{"$f":"+IF(U36=\"\",\"\",MAX(V$1:V35)+1)","v":""},"",null,{"$f":"IF(CMS_Identification!G58=\"\",\"\",CMS_Identification!G58)","v":""},{"$f":"IF(CMS_Identification!D58=\"\",\"\",CMS_Identification!D58)","v":""},null,null,null,{"$f":"IF(CMS_Identification!B58=\"\",\"\",CMS_Identification!B58)","v":""},{"$f":"IF(CMS_Identification!G58=\"\",\"\",CMS_Identification!G58)","v":""},{"$f":"IF(CMS_Identification!D58=\"\",\"\",CMS_Identification!D58)","v":""}]
[null,null,null,null,"NM",null,null,null,{"$f":"IF(LDAR_initial_TT!C59=\"\",\"\",LDAR_initial_TT!C59)","v":""},{"$f":"IF(COUNTIF(I$2:I37,I37)=1,I37,\"\")","v":""},{"$f":"+IF(J37=\"\",\"\",MAX(K$1:K36)+1)","v":""},"",null,{"$f":"IF(LDAR_initial_H_UU!C59=\"\",\"\",LDAR_initial_H_UU!C59)","v":""},{"$f":"IF(COUNTIF(N$2:N37,N37)=1,N37,\"\")","v":""},{"$f":"+IF(O37=\"\",\"\",MAX(P$1:P36)+1)","v":""},"",null,{"$f":"IF(CMS_Identification!G59=\"\",\"\",CMS_Identification!G59)","v":""},{"$f":"IF(CMS_Identification!B59=\"\",\"\",CMS_Identification!B59)","v":""},{"$f":"IF(COUNTIF(S$2:S37,S37)=1,S37,\"\")","v":""},{"$f":"+IF(U37=\"\",\"\",MAX(V$1:V36)+1)","v":""},"",null,{"$f":"IF(CMS_Identification!G59=\"\",\"\",CMS_Identification!G59)","v":""},{"$f":"IF(CMS_Identification!D59=\"\",\"\",CMS_Identification!D59)","v":""},null,null,null,{"$f":"IF(CMS_Identification!B59=\"\",\"\",CMS_Identification!B59)","v":""},{"$f":"IF(CMS_Identification!G59=\"\",\"\",CMS_Identification!G59)","v":""},{"$f":"IF(CMS_Identification!D59=\"\",\"\",CMS_Identification!D59)","v":""}]
[null,null,null,null,"NV",null,null,null,{"$f":"IF(LDAR_initial_TT!C60=\"\",\"\",LDAR_initial_TT!C60)","v":""},{"$f":"IF(COUNTIF(I$2:I38,I38)=1,I38,\"\")","v":""},{"$f":"+IF(J38=\"\",\"\",MAX(K$1:K37)+1)","v":""},"",null,{"$f":"IF(LDAR_initial_H_UU!C60=\"\",\"\",LDAR_initial_H_UU!C60)","v":""},{"$f":"IF(COUNTIF(N$2:N38,N38)=1,N38,\"\")","v":""},{"$f":"+IF(O38=\"\",\"\",MAX(P$1:P37)+1)","v":""},"",null,{"$f":"IF(CMS_Identification!G60=\"\",\"\",CMS_Identification!G60)","v":""},{"$f":"IF(CMS_Identification!B60=\"\",\"\",CMS_Identification!B60)","v":""},{"$f":"IF(COUNTIF(S$2:S38,S38)=1,S38,\"\")","v":""},{"$f":"+IF(U38=\"\",\"\",MAX(V$1:V37)+1)","v":""},"",null,{"$f":"IF(CMS_Identification!G60=\"\",\"\",CMS_Identification!G60)","v":""},{"$f":"IF(CMS_Identification!D60=\"\",\"\",CMS_Identification!D60)","v":""},null,null,null,{"$f":"IF(CMS_Identification!B60=\"\",\"\",CMS_Identification!B60)","v":""},{"$f":"IF(CMS_Identification!G60=\"\",\"\",CMS_Identification!G60)","v":""},{"$f":"IF(CMS_Identification!D60=\"\",\"\",CMS_Identification!D60)","v":""}]
[null,null,null,null,"NY",null,null,null,{"$f":"IF(LDAR_initial_TT!C61=\"\",\"\",LDAR_initial_TT!C61)","v":""},{"$f":"IF(COUNTIF(I$2:I39,I39)=1,I39,\"\")","v":""},{"$f":"+IF(J39=\"\",\"\",MAX(K$1:K38)+1)","v":""},"",null,{"$f":"IF(LDAR_initial_H_UU!C61=\"\",\"\",LDAR_initial_H_UU!C61)","v":""},{"$f":"IF(COUNTIF(N$2:N39,N39)=1,N39,\"\")","v":""},{"$f":"+IF(O39=\"\",\"\",MAX(P$1:P38)+1)","v":""},"",null,{"$f":"IF(CMS_Identification!G61=\"\",\"\",CMS_Identification!G61)","v":""},{"$f":"IF(CMS_Identification!B61=\"\",\"\",CMS_Identification!B61)","v":""},{"$f":"IF(COUNTIF(S$2:S39,S39)=1,S39,\"\")","v":""},{"$f":"+IF(U39=\"\",\"\",MAX(V$1:V38)+1)","v":""},"",null,{"$f":"IF(CMS_Identification!G61=\"\",\"\",CMS_Identification!G61)","v":""},{"$f":"IF(CMS_Identification!D61=\"\",\"\",CMS_Identification!D61)","v":""},null,null,null,{"$f":"IF(CMS_Identification!B61=\"\",\"\",CMS_Identification!B61)","v":""},{"$f":"IF(CMS_Identification!G61=\"\",\"\",CMS_Identification!G61)","v":""},{"$f":"IF(CMS_Identification!D61=\"\",\"\",CMS_Identification!D61)","v":""}]
[null,null,null,null,"OH",null,null,null,{"$f":"IF(LDAR_initial_TT!C62=\"\",\"\",LDAR_initial_TT!C62)","v":""},{"$f":"IF(COUNTIF(I$2:I40,I40)=1,I40,\"\")","v":""},{"$f":"+IF(J40=\"\",\"\",MAX(K$1:K39)+1)","v":""},"",null,{"$f":"IF(LDAR_initial_H_UU!C62=\"\",\"\",LDAR_initial_H_UU!C62)","v":""},{"$f":"IF(COUNTIF(N$2:N40,N40)=1,N40,\"\")","v":""},{"$f":"+IF(O40=\"\",\"\",MAX(P$1:P39)+1)","v":""},"",null,{"$f":"IF(CMS_Identification!G62=\"\",\"\",CMS_Identification!G62)","v":""},{"$f":"IF(CMS_Identification!B62=\"\",\"\",CMS_Identification!B62)","v":""},{"$f":"IF(COUNTIF(S$2:S40,S40)=1,S40,\"\")","v":""},{"$f":"+IF(U40=\"\",\"\",MAX(V$1:V39)+1)","v":""},"",null,{"$f":"IF(CMS_Identification!G62=\"\",\"\",CMS_Identification!G62)","v":""},{"$f":"IF(CMS_Identification!D62=\"\",\"\",CMS_Identification!D62)","v":""},null,null,null,{"$f":"IF(CMS_Identification!B62=\"\",\"\",CMS_Identification!B62)","v":""},{"$f":"IF(CMS_Identification!G62=\"\",\"\",CMS_Identification!G62)","v":""},{"$f":"IF(CMS_Identification!D62=\"\",\"\",CMS_Identification!D62)","v":""}]
[null,null,null,null,"OK",null,null,null,{"$f":"IF(LDAR_initial_TT!C63=\"\",\"\",LDAR_initial_TT!C63)","v":""},{"$f":"IF(COUNTIF(I$2:I41,I41)=1,I41,\"\")","v":""},{"$f":"+IF(J41=\"\",\"\",MAX(K$1:K40)+1)","v":""},"",null,{"$f":"IF(LDAR_initial_H_UU!C63=\"\",\"\",LDAR_initial_H_UU!C63)","v":""},{"$f":"IF(COUNTIF(N$2:N41,N41)=1,N41,\"\")","v":""},{"$f":"+IF(O41=\"\",\"\",MAX(P$1:P40)+1)","v":""},"",null,{"$f":"IF(CMS_Identification!G63=\"\",\"\",CMS_Identification!G63)","v":""},{"$f":"IF(CMS_Identification!B63=\"\",\"\",CMS_Identification!B63)","v":""},{"$f":"IF(COUNTIF(S$2:S41,S41)=1,S41,\"\")","v":""},{"$f":"+IF(U41=\"\",\"\",MAX(V$1:V40)+1)","v":""},"",null,{"$f":"IF(CMS_Identification!G63=\"\",\"\",CMS_Identification!G63)","v":""},{"$f":"IF(CMS_Identification!D63=\"\",\"\",CMS_Identification!D63)","v":""},null,null,null,{"$f":"IF(CMS_Identification!B63=\"\",\"\",CMS_Identification!B63)","v":""},{"$f":"IF(CMS_Identification!G63=\"\",\"\",CMS_Identification!G63)","v":""},{"$f":"IF(CMS_Identification!D63=\"\",\"\",CMS_Identification!D63)","v":""}]
[null,null,null,null,"OR",null,null,null,{"$f":"IF(LDAR_initial_TT!C64=\"\",\"\",LDAR_initial_TT!C64)","v":""},{"$f":"IF(COUNTIF(I$2:I42,I42)=1,I42,\"\")","v":""},{"$f":"+IF(J42=\"\",\"\",MAX(K$1:K41)+1)","v":""},"",null,{"$f":"IF(LDAR_initial_H_UU!C64=\"\",\"\",LDAR_initial_H_UU!C64)","v":""},{"$f":"IF(COUNTIF(N$2:N42,N42)=1,N42,\"\")","v":""},{"$f":"+IF(O42=\"\",\"\",MAX(P$1:P41)+1)","v":""},"",null,{"$f":"IF(CMS_Identification!G64=\"\",\"\",CMS_Identification!G64)","v":""},{"$f":"IF(CMS_Identification!B64=\"\",\"\",CMS_Identification!B64)","v":""},{"$f":"IF(COUNTIF(S$2:S42,S42)=1,S42,\"\")","v":""},{"$f":"+IF(U42=\"\",\"\",MAX(V$1:V41)+1)","v":""},"",null,{"$f":"IF(CMS_Identification!G64=\"\",\"\",CMS_Identification!G64)","v":""},{"$f":"IF(CMS_Identification!D64=\"\",\"\",CMS_Identification!D64)","v":""},null,null,null,{"$f":"IF(CMS_Identification!B64=\"\",\"\",CMS_Identification!B64)","v":""},{"$f":"IF(CMS_Identification!G64=\"\",\"\",CMS_Identification!G64)","v":""},{"$f":"IF(CMS_Identification!D64=\"\",\"\",CMS_Identification!D64)","v":""}]
[null,null,null,null,"PA",null,null,null,{"$f":"IF(LDAR_initial_TT!C65=\"\",\"\",LDAR_initial_TT!C65)","v":""},{"$f":"IF(COUNTIF(I$2:I43,I43)=1,I43,\"\")","v":""},{"$f":"+IF(J43=\"\",\"\",MAX(K$1:K42)+1)","v":""},"",null,{"$f":"IF(LDAR_initial_H_UU!C65=\"\",\"\",LDAR_initial_H_UU!C65)","v":""},{"$f":"IF(COUNTIF(N$2:N43,N43)=1,N43,\"\")","v":""},{"$f":"+IF(O43=\"\",\"\",MAX(P$1:P42)+1)","v":""},"",null,{"$f":"IF(CMS_Identification!G65=\"\",\"\",CMS_Identification!G65)","v":""},{"$f":"IF(CMS_Identification!B65=\"\",\"\",CMS_Identification!B65)","v":""},{"$f":"IF(COUNTIF(S$2:S43,S43)=1,S43,\"\")","v":""},{"$f":"+IF(U43=\"\",\"\",MAX(V$1:V42)+1)","v":""},"",null,{"$f":"IF(CMS_Identification!G65=\"\",\"\",CMS_Identification!G65)","v":""},{"$f":"IF(CMS_Identification!D65=\"\",\"\",CMS_Identification!D65)","v":""},null,null,null,{"$f":"IF(CMS_Identification!B65=\"\",\"\",CMS_Identification!B65)","v":""},{"$f":"IF(CMS_Identification!G65=\"\",\"\",CMS_Identification!G65)","v":""},{"$f":"IF(CMS_Identification!D65=\"\",\"\",CMS_Identification!D65)","v":""}]
[null,null,null,null,"PR",null,null,null,{"$f":"IF(LDAR_initial_TT!C66=\"\",\"\",LDAR_initial_TT!C66)","v":""},{"$f":"IF(COUNTIF(I$2:I44,I44)=1,I44,\"\")","v":""},{"$f":"+IF(J44=\"\",\"\",MAX(K$1:K43)+1)","v":""},"",null,{"$f":"IF(LDAR_initial_H_UU!C66=\"\",\"\",LDAR_initial_H_UU!C66)","v":""},{"$f":"IF(COUNTIF(N$2:N44,N44)=1,N44,\"\")","v":""},{"$f":"+IF(O44=\"\",\"\",MAX(P$1:P43)+1)","v":""},"",null,{"$f":"IF(CMS_Identification!G66=\"\",\"\",CMS_Identification!G66)","v":""},{"$f":"IF(CMS_Identification!B66=\"\",\"\",CMS_Identification!B66)","v":""},{"$f":"IF(COUNTIF(S$2:S44,S44)=1,S44,\"\")","v":""},{"$f":"+IF(U44=\"\",\"\",MAX(V$1:V43)+1)","v":""},"",null,{"$f":"IF(CMS_Identification!G66=\"\",\"\",CMS_Identification!G66)","v":""},{"$f":"IF(CMS_Identification!D66=\"\",\"\",CMS_Identification!D66)","v":""},null,null,null,{"$f":"IF(CMS_Identification!B66=\"\",\"\",CMS_Identification!B66)","v":""},{"$f":"IF(CMS_Identification!G66=\"\",\"\",CMS_Identification!G66)","v":""},{"$f":"IF(CMS_Identification!D66=\"\",\"\",CMS_Identification!D66)","v":""}]
[null,null,null,null,"RI",null,null,null,{"$f":"IF(LDAR_initial_TT!C67=\"\",\"\",LDAR_initial_TT!C67)","v":""},{"$f":"IF(COUNTIF(I$2:I45,I45)=1,I45,\"\")","v":""},{"$f":"+IF(J45=\"\",\"\",MAX(K$1:K44)+1)","v":""},"",null,{"$f":"IF(LDAR_initial_H_UU!C67=\"\",\"\",LDAR_initial_H_UU!C67)","v":""},{"$f":"IF(COUNTIF(N$2:N45,N45)=1,N45,\"\")","v":""},{"$f":"+IF(O45=\"\",\"\",MAX(P$1:P44)+1)","v":""},"",null,{"$f":"IF(CMS_Identification!G67=\"\",\"\",CMS_Identification!G67)","v":""},{"$f":"IF(CMS_Identification!B67=\"\",\"\",CMS_Identification!B67)","v":""},{"$f":"IF(COUNTIF(S$2:S45,S45)=1,S45,\"\")","v":""},{"$f":"+IF(U45=\"\",\"\",MAX(V$1:V44)+1)","v":""},"",null,{"$f":"IF(CMS_Identification!G67=\"\",\"\",CMS_Identification!G67)","v":""},{"$f":"IF(CMS_Identification!D67=\"\",\"\",CMS_Identification!D67)","v":""},null,null,null,{"$f":"IF(CMS_Identification!B67=\"\",\"\",CMS_Identification!B67)","v":""},{"$f":"IF(CMS_Identification!G67=\"\",\"\",CMS_Identification!G67)","v":""},{"$f":"IF(CMS_Identification!D67=\"\",\"\",CMS_Identification!D67)","v":""}]
[null,null,null,null,"SC",null,null,null,{"$f":"IF(LDAR_initial_TT!C68=\"\",\"\",LDAR_initial_TT!C68)","v":""},{"$f":"IF(COUNTIF(I$2:I46,I46)=1,I46,\"\")","v":""},{"$f":"+IF(J46=\"\",\"\",MAX(K$1:K45)+1)","v":""},"",null,{"$f":"IF(LDAR_initial_H_UU!C68=\"\",\"\",LDAR_initial_H_UU!C68)","v":""},{"$f":"IF(COUNTIF(N$2:N46,N46)=1,N46,\"\")","v":""},{"$f":"+IF(O46=\"\",\"\",MAX(P$1:P45)+1)","v":""},"",null,{"$f":"IF(CMS_Identification!G68=\"\",\"\",CMS_Identification!G68)","v":""},{"$f":"IF(CMS_Identification!B68=\"\",\"\",CMS_Identification!B68)","v":""},{"$f":"IF(COUNTIF(S$2:S46,S46)=1,S46,\"\")","v":""},{"$f":"+IF(U46=\"\",\"\",MAX(V$1:V45)+1)","v":""},"",null,{"$f":"IF(CMS_Identification!G68=\"\",\"\",CMS_Identification!G68)","v":""},{"$f":"IF(CMS_Identification!D68=\"\",\"\",CMS_Identification!D68)","v":""},null,null,null,{"$f":"IF(CMS_Identification!B68=\"\",\"\",CMS_Identification!B68)","v":""},{"$f":"IF(CMS_Identification!G68=\"\",\"\",CMS_Identification!G68)","v":""},{"$f":"IF(CMS_Identification!D68=\"\",\"\",CMS_Identification!D68)","v":""}]
[null,null,null,null,"SD",null,null,null,{"$f":"IF(LDAR_initial_TT!C69=\"\",\"\",LDAR_initial_TT!C69)","v":""},{"$f":"IF(COUNTIF(I$2:I47,I47)=1,I47,\"\")","v":""},{"$f":"+IF(J47=\"\",\"\",MAX(K$1:K46)+1)","v":""},"",null,{"$f":"IF(LDAR_initial_H_UU!C69=\"\",\"\",LDAR_initial_H_UU!C69)","v":""},{"$f":"IF(COUNTIF(N$2:N47,N47)=1,N47,\"\")","v":""},{"$f":"+IF(O47=\"\",\"\",MAX(P$1:P46)+1)","v":""},"",null,{"$f":"IF(CMS_Identification!G69=\"\",\"\",CMS_Identification!G69)","v":""},{"$f":"IF(CMS_Identification!B69=\"\",\"\",CMS_Identification!B69)","v":""},{"$f":"IF(COUNTIF(S$2:S47,S47)=1,S47,\"\")","v":""},{"$f":"+IF(U47=\"\",\"\",MAX(V$1:V46)+1)","v":""},"",null,{"$f":"IF(CMS_Identification!G69=\"\",\"\",CMS_Identification!G69)","v":""},{"$f":"IF(CMS_Identification!D69=\"\",\"\",CMS_Identification!D69)","v":""},null,null,null,{"$f":"IF(CMS_Identification!B69=\"\",\"\",CMS_Identification!B69)","v":""},{"$f":"IF(CMS_Identification!G69=\"\",\"\",CMS_Identification!G69)","v":""},{"$f":"IF(CMS_Identification!D69=\"\",\"\",CMS_Identification!D69)","v":""}]
[null,null,null,null,"TN",null,null,null,{"$f":"IF(LDAR_initial_TT!C70=\"\",\"\",LDAR_initial_TT!C70)","v":""},{"$f":"IF(COUNTIF(I$2:I48,I48)=1,I48,\"\")","v":""},{"$f":"+IF(J48=\"\",\"\",MAX(K$1:K47)+1)","v":""},"",null,{"$f":"IF(LDAR_initial_H_UU!C70=\"\",\"\",LDAR_initial_H_UU!C70)","v":""},{"$f":"IF(COUNTIF(N$2:N48,N48)=1,N48,\"\")","v":""},{"$f":"+IF(O48=\"\",\"\",MAX(P$1:P47)+1)","v":""},"",null,{"$f":"IF(CMS_Identification!G70=\"\",\"\",CMS_Identification!G70)","v":""},{"$f":"IF(CMS_Identification!B70=\"\",\"\",CMS_Identification!B70)","v":""},{"$f":"IF(COUNTIF(S$2:S48,S48)=1,S48,\"\")","v":""},{"$f":"+IF(U48=\"\",\"\",MAX(V$1:V47)+1)","v":""},"",null,{"$f":"IF(CMS_Identification!G70=\"\",\"\",CMS_Identification!G70)","v":""},{"$f":"IF(CMS_Identification!D70=\"\",\"\",CMS_Identification!D70)","v":""},null,null,null,{"$f":"IF(CMS_Identification!B70=\"\",\"\",CMS_Identification!B70)","v":""},{"$f":"IF(CMS_Identification!G70=\"\",\"\",CMS_Identification!G70)","v":""},{"$f":"IF(CMS_Identification!D70=\"\",\"\",CMS_Identification!D70)","v":""}]
[null,null,null,null,"TX",null,null,null,{"$f":"IF(LDAR_initial_TT!C71=\"\",\"\",LDAR_initial_TT!C71)","v":""},{"$f":"IF(COUNTIF(I$2:I49,I49)=1,I49,\"\")","v":""},{"$f":"+IF(J49=\"\",\"\",MAX(K$1:K48)+1)","v":""},"",null,{"$f":"IF(LDAR_initial_H_UU!C71=\"\",\"\",LDAR_initial_H_UU!C71)","v":""},{"$f":"IF(COUNTIF(N$2:N49,N49)=1,N49,\"\")","v":""},{"$f":"+IF(O49=\"\",\"\",MAX(P$1:P48)+1)","v":""},"",null,{"$f":"IF(CMS_Identification!G71=\"\",\"\",CMS_Identification!G71)","v":""},{"$f":"IF(CMS_Identification!B71=\"\",\"\",CMS_Identification!B71)","v":""},{"$f":"IF(COUNTIF(S$2:S49,S49)=1,S49,\"\")","v":""},{"$f":"+IF(U49=\"\",\"\",MAX(V$1:V48)+1)","v":""},"",null,{"$f":"IF(CMS_Identification!G71=\"\",\"\",CMS_Identification!G71)","v":""},{"$f":"IF(CMS_Identification!D71=\"\",\"\",CMS_Identification!D71)","v":""},null,null,null,{"$f":"IF(CMS_Identification!B71=\"\",\"\",CMS_Identification!B71)","v":""},{"$f":"IF(CMS_Identification!G71=\"\",\"\",CMS_Identification!G71)","v":""},{"$f":"IF(CMS_Identification!D71=\"\",\"\",CMS_Identification!D71)","v":""}]
[null,null,null,null,"UT",null,null,null,{"$f":"IF(LDAR_initial_TT!C72=\"\",\"\",LDAR_initial_TT!C72)","v":""},{"$f":"IF(COUNTIF(I$2:I50,I50)=1,I50,\"\")","v":""},{"$f":"+IF(J50=\"\",\"\",MAX(K$1:K49)+1)","v":""},"",null,{"$f":"IF(LDAR_initial_H_UU!C72=\"\",\"\",LDAR_initial_H_UU!C72)","v":""},{"$f":"IF(COUNTIF(N$2:N50,N50)=1,N50,\"\")","v":""},{"$f":"+IF(O50=\"\",\"\",MAX(P$1:P49)+1)","v":""},"",null,{"$f":"IF(CMS_Identification!G72=\"\",\"\",CMS_Identification!G72)","v":""},{"$f":"IF(CMS_Identification!B72=\"\",\"\",CMS_Identification!B72)","v":""},{"$f":"IF(COUNTIF(S$2:S50,S50)=1,S50,\"\")","v":""},{"$f":"+IF(U50=\"\",\"\",MAX(V$1:V49)+1)","v":""},"",null,{"$f":"IF(CMS_Identification!G72=\"\",\"\",CMS_Identification!G72)","v":""},{"$f":"IF(CMS_Identification!D72=\"\",\"\",CMS_Identification!D72)","v":""},null,null,null,{"$f":"IF(CMS_Identification!B72=\"\",\"\",CMS_Identification!B72)","v":""},{"$f":"IF(CMS_Identification!G72=\"\",\"\",CMS_Identification!G72)","v":""},{"$f":"IF(CMS_Identification!D72=\"\",\"\",CMS_Identification!D72)","v":""}]
[null,null,null,null,"VA",null,null,null,{"$f":"IF(LDAR_initial_TT!C73=\"\",\"\",LDAR_initial_TT!C73)","v":""},{"$f":"IF(COUNTIF(I$2:I51,I51)=1,I51,\"\")","v":""},{"$f":"+IF(J51=\"\",\"\",MAX(K$1:K50)+1)","v":""},"",null,{"$f":"IF(LDAR_initial_H_UU!C73=\"\",\"\",LDAR_initial_H_UU!C73)","v":""},{"$f":"IF(COUNTIF(N$2:N51,N51)=1,N51,\"\")","v":""},{"$f":"+IF(O51=\"\",\"\",MAX(P$1:P50)+1)","v":""},"",null,{"$f":"IF(CMS_Identification!G73=\"\",\"\",CMS_Identification!G73)","v":""},{"$f":"IF(CMS_Identification!B73=\"\",\"\",CMS_Identification!B73)","v":""},{"$f":"IF(COUNTIF(S$2:S51,S51)=1,S51,\"\")","v":""},{"$f":"+IF(U51=\"\",\"\",MAX(V$1:V50)+1)","v":""},"",null,{"$f":"IF(CMS_Identification!G73=\"\",\"\",CMS_Identification!G73)","v":""},{"$f":"IF(CMS_Identification!D73=\"\",\"\",CMS_Identification!D73)","v":""},null,null,null,{"$f":"IF(CMS_Identification!B73=\"\",\"\",CMS_Identification!B73)","v":""},{"$f":"IF(CMS_Identification!G73=\"\",\"\",CMS_Identification!G73)","v":""},{"$f":"IF(CMS_Identification!D73=\"\",\"\",CMS_Identification!D73)","v":""}]
[null,null,null,null,"VI",null,null,null,{"$f":"IF(LDAR_initial_TT!C74=\"\",\"\",LDAR_initial_TT!C74)","v":""},{"$f":"IF(COUNTIF(I$2:I52,I52)=1,I52,\"\")","v":""},{"$f":"+IF(J52=\"\",\"\",MAX(K$1:K51)+1)","v":""},"",null,{"$f":"IF(LDAR_initial_H_UU!C74=\"\",\"\",LDAR_initial_H_UU!C74)","v":""},{"$f":"IF(COUNTIF(N$2:N52,N52)=1,N52,\"\")","v":""},{"$f":"+IF(O52=\"\",\"\",MAX(P$1:P51)+1)","v":""},"",null,{"$f":"IF(CMS_Identification!G74=\"\",\"\",CMS_Identification!G74)","v":""},{"$f":"IF(CMS_Identification!B74=\"\",\"\",CMS_Identification!B74)","v":""},{"$f":"IF(COUNTIF(S$2:S52,S52)=1,S52,\"\")","v":""},{"$f":"+IF(U52=\"\",\"\",MAX(V$1:V51)+1)","v":""},"",null,{"$f":"IF(CMS_Identification!G74=\"\",\"\",CMS_Identification!G74)","v":""},{"$f":"IF(CMS_Identification!D74=\"\",\"\",CMS_Identification!D74)","v":""},null,null,null,{"$f":"IF(CMS_Identification!B74=\"\",\"\",CMS_Identification!B74)","v":""},{"$f":"IF(CMS_Identification!G74=\"\",\"\",CMS_Identification!G74)","v":""},{"$f":"IF(CMS_Identification!D74=\"\",\"\",CMS_Identification!D74)","v":""}]
[null,null,null,null,"VT",null,null,null,{"$f":"IF(LDAR_initial_TT!C75=\"\",\"\",LDAR_initial_TT!C75)","v":""},{"$f":"IF(COUNTIF(I$2:I53,I53)=1,I53,\"\")","v":""},{"$f":"+IF(J53=\"\",\"\",MAX(K$1:K52)+1)","v":""},"",null,{"$f":"IF(LDAR_initial_H_UU!C75=\"\",\"\",LDAR_initial_H_UU!C75)","v":""},{"$f":"IF(COUNTIF(N$2:N53,N53)=1,N53,\"\")","v":""},{"$f":"+IF(O53=\"\",\"\",MAX(P$1:P52)+1)","v":""},"",null,{"$f":"IF(CMS_Identification!G75=\"\",\"\",CMS_Identification!G75)","v":""},{"$f":"IF(CMS_Identification!B75=\"\",\"\",CMS_Identification!B75)","v":""},{"$f":"IF(COUNTIF(S$2:S53,S53)=1,S53,\"\")","v":""},{"$f":"+IF(U53=\"\",\"\",MAX(V$1:V52)+1)","v":""},"",null,{"$f":"IF(CMS_Identification!G75=\"\",\"\",CMS_Identification!G75)","v":""},{"$f":"IF(CMS_Identification!D75=\"\",\"\",CMS_Identification!D75)","v":""},null,null,null,{"$f":"IF(CMS_Identification!B75=\"\",\"\",CMS_Identification!B75)","v":""},{"$f":"IF(CMS_Identification!G75=\"\",\"\",CMS_Identification!G75)","v":""},{"$f":"IF(CMS_Identification!D75=\"\",\"\",CMS_Identification!D75)","v":""}]
[null,null,null,null,"WA",null,null,null,{"$f":"IF(LDAR_initial_TT!C76=\"\",\"\",LDAR_initial_TT!C76)","v":""},{"$f":"IF(COUNTIF(I$2:I54,I54)=1,I54,\"\")","v":""},{"$f":"+IF(J54=\"\",\"\",MAX(K$1:K53)+1)","v":""},"",null,{"$f":"IF(LDAR_initial_H_UU!C76=\"\",\"\",LDAR_initial_H_UU!C76)","v":""},{"$f":"IF(COUNTIF(N$2:N54,N54)=1,N54,\"\")","v":""},{"$f":"+IF(O54=\"\",\"\",MAX(P$1:P53)+1)","v":""},"",null,{"$f":"IF(CMS_Identification!G76=\"\",\"\",CMS_Identification!G76)","v":""},{"$f":"IF(CMS_Identification!B76=\"\",\"\",CMS_Identification!B76)","v":""},{"$f":"IF(COUNTIF(S$2:S54,S54)=1,S54,\"\")","v":""},{"$f":"+IF(U54=\"\",\"\",MAX(V$1:V53)+1)","v":""},"",null,{"$f":"IF(CMS_Identification!G76=\"\",\"\",CMS_Identification!G76)","v":""},{"$f":"IF(CMS_Identification!D76=\"\",\"\",CMS_Identification!D76)","v":""},null,null,null,{"$f":"IF(CMS_Identification!B76=\"\",\"\",CMS_Identification!B76)","v":""},{"$f":"IF(CMS_Identification!G76=\"\",\"\",CMS_Identification!G76)","v":""},{"$f":"IF(CMS_Identification!D76=\"\",\"\",CMS_Identification!D76)","v":""}]
[null,null,null,null,"WI",null,null,null,{"$f":"IF(LDAR_initial_TT!C77=\"\",\"\",LDAR_initial_TT!C77)","v":""},{"$f":"IF(COUNTIF(I$2:I55,I55)=1,I55,\"\")","v":""},{"$f":"+IF(J55=\"\",\"\",MAX(K$1:K54)+1)","v":""},"",null,{"$f":"IF(LDAR_initial_H_UU!C77=\"\",\"\",LDAR_initial_H_UU!C77)","v":""},{"$f":"IF(COUNTIF(N$2:N55,N55)=1,N55,\"\")","v":""},{"$f":"+IF(O55=\"\",\"\",MAX(P$1:P54)+1)","v":""},"",null,{"$f":"IF(CMS_Identification!G77=\"\",\"\",CMS_Identification!G77)","v":""},{"$f":"IF(CMS_Identification!B77=\"\",\"\",CMS_Identification!B77)","v":""},{"$f":"IF(COUNTIF(S$2:S55,S55)=1,S55,\"\")","v":""},{"$f":"+IF(U55=\"\",\"\",MAX(V$1:V54)+1)","v":""},"",null,{"$f":"IF(CMS_Identification!G77=\"\",\"\",CMS_Identification!G77)","v":""},{"$f":"IF(CMS_Identification!D77=\"\",\"\",CMS_Identification!D77)","v":""},null,null,null,{"$f":"IF(CMS_Identification!B77=\"\",\"\",CMS_Identification!B77)","v":""},{"$f":"IF(CMS_Identification!G77=\"\",\"\",CMS_Identification!G77)","v":""},{"$f":"IF(CMS_Identification!D77=\"\",\"\",CMS_Identification!D77)","v":""}]
[null,null,null,null,"WV",null,null,null,{"$f":"IF(LDAR_initial_TT!C78=\"\",\"\",LDAR_initial_TT!C78)","v":""},{"$f":"IF(COUNTIF(I$2:I56,I56)=1,I56,\"\")","v":""},{"$f":"+IF(J56=\"\",\"\",MAX(K$1:K55)+1)","v":""},"",null,{"$f":"IF(LDAR_initial_H_UU!C78=\"\",\"\",LDAR_initial_H_UU!C78)","v":""},{"$f":"IF(COUNTIF(N$2:N56,N56)=1,N56,\"\")","v":""},{"$f":"+IF(O56=\"\",\"\",MAX(P$1:P55)+1)","v":""},"",null,{"$f":"IF(CMS_Identification!G78=\"\",\"\",CMS_Identification!G78)","v":""},{"$f":"IF(CMS_Identification!B78=\"\",\"\",CMS_Identification!B78)","v":""},{"$f":"IF(COUNTIF(S$2:S56,S56)=1,S56,\"\")","v":""},{"$f":"+IF(U56=\"\",\"\",MAX(V$1:V55)+1)","v":""},"",null,{"$f":"IF(CMS_Identification!G78=\"\",\"\",CMS_Identification!G78)","v":""},{"$f":"IF(CMS_Identification!D78=\"\",\"\",CMS_Identification!D78)","v":""},null,null,null,{"$f":"IF(CMS_Identification!B78=\"\",\"\",CMS_Identification!B78)","v":""},{"$f":"IF(CMS_Identification!G78=\"\",\"\",CMS_Identification!G78)","v":""},{"$f":"IF(CMS_Identification!D78=\"\",\"\",CMS_Identification!D78)","v":""}]
[null,null,null,null,"WY",null,null,null,{"$f":"IF(LDAR_initial_TT!C79=\"\",\"\",LDAR_initial_TT!C79)","v":""},{"$f":"IF(COUNTIF(I$2:I57,I57)=1,I57,\"\")","v":""},{"$f":"+IF(J57=\"\",\"\",MAX(K$1:K56)+1)","v":""},"",null,{"$f":"IF(LDAR_initial_H_UU!C79=\"\",\"\",LDAR_initial_H_UU!C79)","v":""},{"$f":"IF(COUNTIF(N$2:N57,N57)=1,N57,\"\")","v":""},{"$f":"+IF(O57=\"\",\"\",MAX(P$1:P56)+1)","v":""},"",null,{"$f":"IF(CMS_Identification!G79=\"\",\"\",CMS_Identification!G79)","v":""},{"$f":"IF(CMS_Identification!B79=\"\",\"\",CMS_Identification!B79)","v":""},{"$f":"IF(COUNTIF(S$2:S57,S57)=1,S57,\"\")","v":""},{"$f":"+IF(U57=\"\",\"\",MAX(V$1:V56)+1)","v":""},"",null,{"$f":"IF(CMS_Identification!G79=\"\",\"\",CMS_Identification!G79)","v":""},{"$f":"IF(CMS_Identification!D79=\"\",\"\",CMS_Identification!D79)","v":""},null,null,null,{"$f":"IF(CMS_Identification!B79=\"\",\"\",CMS_Identification!B79)","v":""},{"$f":"IF(CMS_Identification!G79=\"\",\"\",CMS_Identification!G79)","v":""},{"$f":"IF(CMS_Identification!D79=\"\",\"\",CMS_Identification!D79)","v":""}]
[null,null,null,null,null,null,null,null,{"$f":"IF(LDAR_initial_TT!C80=\"\",\"\",LDAR_initial_TT!C80)","v":""},{"$f":"IF(COUNTIF(I$2:I58,I58)=1,I58,\"\")","v":""},{"$f":"+IF(J58=\"\",\"\",MAX(K$1:K57)+1)","v":""},"",null,{"$f":"IF(LDAR_initial_H_UU!C80=\"\",\"\",LDAR_initial_H_UU!C80)","v":""},{"$f":"IF(COUNTIF(N$2:N58,N58)=1,N58,\"\")","v":""},{"$f":"+IF(O58=\"\",\"\",MAX(P$1:P57)+1)","v":""},"",null,{"$f":"IF(CMS_Identification!G80=\"\",\"\",CMS_Identification!G80)","v":""},{"$f":"IF(CMS_Identification!B80=\"\",\"\",CMS_Identification!B80)","v":""},{"$f":"IF(COUNTIF(S$2:S58,S58)=1,S58,\"\")","v":""},{"$f":"+IF(U58=\"\",\"\",MAX(V$1:V57)+1)","v":""},"",null,{"$f":"IF(CMS_Identification!G80=\"\",\"\",CMS_Identification!G80)","v":""},{"$f":"IF(CMS_Identification!D80=\"\",\"\",CMS_Identification!D80)","v":""},null,null,null,{"$f":"IF(CMS_Identification!B80=\"\",\"\",CMS_Identification!B80)","v":""},{"$f":"IF(CMS_Identification!G80=\"\",\"\",CMS_Identification!G80)","v":""},{"$f":"IF(CMS_Identification!D80=\"\",\"\",CMS_Identification!D80)","v":""}]
[null,null,null,null,null,null,null,null,{"$f":"IF(LDAR_initial_TT!C81=\"\",\"\",LDAR_initial_TT!C81)","v":""},{"$f":"IF(COUNTIF(I$2:I59,I59)=1,I59,\"\")","v":""},{"$f":"+IF(J59=\"\",\"\",MAX(K$1:K58)+1)","v":""},"",null,{"$f":"IF(LDAR_initial_H_UU!C81=\"\",\"\",LDAR_initial_H_UU!C81)","v":""},{"$f":"IF(COUNTIF(N$2:N59,N59)=1,N59,\"\")","v":""},{"$f":"+IF(O59=\"\",\"\",MAX(P$1:P58)+1)","v":""},"",null,{"$f":"IF(CMS_Identification!G81=\"\",\"\",CMS_Identification!G81)","v":""},{"$f":"IF(CMS_Identification!B81=\"\",\"\",CMS_Identification!B81)","v":""},{"$f":"IF(COUNTIF(S$2:S59,S59)=1,S59,\"\")","v":""},{"$f":"+IF(U59=\"\",\"\",MAX(V$1:V58)+1)","v":""},"",null,{"$f":"IF(CMS_Identification!G81=\"\",\"\",CMS_Identification!G81)","v":""},{"$f":"IF(CMS_Identification!D81=\"\",\"\",CMS_Identification!D81)","v":""},null,null,null,{"$f":"IF(CMS_Identification!B81=\"\",\"\",CMS_Identification!B81)","v":""},{"$f":"IF(CMS_Identification!G81=\"\",\"\",CMS_Identification!G81)","v":""},{"$f":"IF(CMS_Identification!D81=\"\",\"\",CMS_Identification!D81)","v":""}]
[null,null,null,null,null,null,null,null,{"$f":"IF(LDAR_initial_TT!C82=\"\",\"\",LDAR_initial_TT!C82)","v":""},{"$f":"IF(COUNTIF(I$2:I60,I60)=1,I60,\"\")","v":""},{"$f":"+IF(J60=\"\",\"\",MAX(K$1:K59)+1)","v":""},"",null,{"$f":"IF(LDAR_initial_H_UU!C82=\"\",\"\",LDAR_initial_H_UU!C82)","v":""},{"$f":"IF(COUNTIF(N$2:N60,N60)=1,N60,\"\")","v":""},{"$f":"+IF(O60=\"\",\"\",MAX(P$1:P59)+1)","v":""},"",null,{"$f":"IF(CMS_Identification!G82=\"\",\"\",CMS_Identification!G82)","v":""},{"$f":"IF(CMS_Identification!B82=\"\",\"\",CMS_Identification!B82)","v":""},{"$f":"IF(COUNTIF(S$2:S60,S60)=1,S60,\"\")","v":""},{"$f":"+IF(U60=\"\",\"\",MAX(V$1:V59)+1)","v":""},"",null,{"$f":"IF(CMS_Identification!G82=\"\",\"\",CMS_Identification!G82)","v":""},{"$f":"IF(CMS_Identification!D82=\"\",\"\",CMS_Identification!D82)","v":""},null,null,null,{"$f":"IF(CMS_Identification!B82=\"\",\"\",CMS_Identification!B82)","v":""},{"$f":"IF(CMS_Identification!G82=\"\",\"\",CMS_Identification!G82)","v":""},{"$f":"IF(CMS_Identification!D82=\"\",\"\",CMS_Identification!D82)","v":""}]
[null,null,null,null,null,null,null,null,{"$f":"IF(LDAR_initial_TT!C83=\"\",\"\",LDAR_initial_TT!C83)","v":""},{"$f":"IF(COUNTIF(I$2:I61,I61)=1,I61,\"\")","v":""},{"$f":"+IF(J61=\"\",\"\",MAX(K$1:K60)+1)","v":""},"",null,{"$f":"IF(LDAR_initial_H_UU!C83=\"\",\"\",LDAR_initial_H_UU!C83)","v":""},{"$f":"IF(COUNTIF(N$2:N61,N61)=1,N61,\"\")","v":""},{"$f":"+IF(O61=\"\",\"\",MAX(P$1:P60)+1)","v":""},"",null,{"$f":"IF(CMS_Identification!G83=\"\",\"\",CMS_Identification!G83)","v":""},{"$f":"IF(CMS_Identification!B83=\"\",\"\",CMS_Identification!B83)","v":""},{"$f":"IF(COUNTIF(S$2:S61,S61)=1,S61,\"\")","v":""},{"$f":"+IF(U61=\"\",\"\",MAX(V$1:V60)+1)","v":""},"",null,{"$f":"IF(CMS_Identification!G83=\"\",\"\",CMS_Identification!G83)","v":""},{"$f":"IF(CMS_Identification!D83=\"\",\"\",CMS_Identification!D83)","v":""},null,null,null,{"$f":"IF(CMS_Identification!B83=\"\",\"\",CMS_Identification!B83)","v":""},{"$f":"IF(CMS_Identification!G83=\"\",\"\",CMS_Identification!G83)","v":""},{"$f":"IF(CMS_Identification!D83=\"\",\"\",CMS_Identification!D83)","v":""}]
[null,null,null,null,null,null,null,null,{"$f":"IF(LDAR_initial_TT!C84=\"\",\"\",LDAR_initial_TT!C84)","v":""},{"$f":"IF(COUNTIF(I$2:I62,I62)=1,I62,\"\")","v":""},{"$f":"+IF(J62=\"\",\"\",MAX(K$1:K61)+1)","v":""},"",null,{"$f":"IF(LDAR_initial_H_UU!C84=\"\",\"\",LDAR_initial_H_UU!C84)","v":""},{"$f":"IF(COUNTIF(N$2:N62,N62)=1,N62,\"\")","v":""},{"$f":"+IF(O62=\"\",\"\",MAX(P$1:P61)+1)","v":""},"",null,{"$f":"IF(CMS_Identification!G84=\"\",\"\",CMS_Identification!G84)","v":""},{"$f":"IF(CMS_Identification!B84=\"\",\"\",CMS_Identification!B84)","v":""},{"$f":"IF(COUNTIF(S$2:S62,S62)=1,S62,\"\")","v":""},{"$f":"+IF(U62=\"\",\"\",MAX(V$1:V61)+1)","v":""},"",null,{"$f":"IF(CMS_Identification!G84=\"\",\"\",CMS_Identification!G84)","v":""},{"$f":"IF(CMS_Identification!D84=\"\",\"\",CMS_Identification!D84)","v":""},null,null,null,{"$f":"IF(CMS_Identification!B84=\"\",\"\",CMS_Identification!B84)","v":""},{"$f":"IF(CMS_Identification!G84=\"\",\"\",CMS_Identification!G84)","v":""},{"$f":"IF(CMS_Identification!D84=\"\",\"\",CMS_Identification!D84)","v":""}]
[null,null,null,null,null,null,null,null,{"$f":"IF(LDAR_initial_TT!C85=\"\",\"\",LDAR_initial_TT!C85)","v":""},{"$f":"IF(COUNTIF(I$2:I63,I63)=1,I63,\"\")","v":""},{"$f":"+IF(J63=\"\",\"\",MAX(K$1:K62)+1)","v":""},"",null,{"$f":"IF(LDAR_initial_H_UU!C85=\"\",\"\",LDAR_initial_H_UU!C85)","v":""},{"$f":"IF(COUNTIF(N$2:N63,N63)=1,N63,\"\")","v":""},{"$f":"+IF(O63=\"\",\"\",MAX(P$1:P62)+1)","v":""},"",null,{"$f":"IF(CMS_Identification!G85=\"\",\"\",CMS_Identification!G85)","v":""},{"$f":"IF(CMS_Identification!B85=\"\",\"\",CMS_Identification!B85)","v":""},{"$f":"IF(COUNTIF(S$2:S63,S63)=1,S63,\"\")","v":""},{"$f":"+IF(U63=\"\",\"\",MAX(V$1:V62)+1)","v":""},"",null,{"$f":"IF(CMS_Identification!G85=\"\",\"\",CMS_Identification!G85)","v":""},{"$f":"IF(CMS_Identification!D85=\"\",\"\",CMS_Identification!D85)","v":""},null,null,null,{"$f":"IF(CMS_Identification!B85=\"\",\"\",CMS_Identification!B85)","v":""},{"$f":"IF(CMS_Identification!G85=\"\",\"\",CMS_Identification!G85)","v":""},{"$f":"IF(CMS_Identification!D85=\"\",\"\",CMS_Identification!D85)","v":""}]
[null,null,null,null,null,null,null,null,{"$f":"IF(LDAR_initial_TT!C86=\"\",\"\",LDAR_initial_TT!C86)","v":""},{"$f":"IF(COUNTIF(I$2:I64,I64)=1,I64,\"\")","v":""},{"$f":"+IF(J64=\"\",\"\",MAX(K$1:K63)+1)","v":""},"",null,{"$f":"IF(LDAR_initial_H_UU!C86=\"\",\"\",LDAR_initial_H_UU!C86)","v":""},{"$f":"IF(COUNTIF(N$2:N64,N64)=1,N64,\"\")","v":""},{"$f":"+IF(O64=\"\",\"\",MAX(P$1:P63)+1)","v":""},"",null,{"$f":"IF(CMS_Identification!G86=\"\",\"\",CMS_Identification!G86)","v":""},{"$f":"IF(CMS_Identification!B86=\"\",\"\",CMS_Identification!B86)","v":""},{"$f":"IF(COUNTIF(S$2:S64,S64)=1,S64,\"\")","v":""},{"$f":"+IF(U64=\"\",\"\",MAX(V$1:V63)+1)","v":""},"",null,{"$f":"IF(CMS_Identification!G86=\"\",\"\",CMS_Identification!G86)","v":""},{"$f":"IF(CMS_Identification!D86=\"\",\"\",CMS_Identification!D86)","v":""},null,null,null,{"$f":"IF(CMS_Identification!B86=\"\",\"\",CMS_Identification!B86)","v":""},{"$f":"IF(CMS_Identification!G86=\"\",\"\",CMS_Identification!G86)","v":""},{"$f":"IF(CMS_Identification!D86=\"\",\"\",CMS_Identification!D86)","v":""}]
[null,null,null,null,null,null,null,null,{"$f":"IF(LDAR_initial_TT!C87=\"\",\"\",LDAR_initial_TT!C87)","v":""},{"$f":"IF(COUNTIF(I$2:I65,I65)=1,I65,\"\")","v":""},{"$f":"+IF(J65=\"\",\"\",MAX(K$1:K64)+1)","v":""},"",null,{"$f":"IF(LDAR_initial_H_UU!C87=\"\",\"\",LDAR_initial_H_UU!C87)","v":""},{"$f":"IF(COUNTIF(N$2:N65,N65)=1,N65,\"\")","v":""},{"$f":"+IF(O65=\"\",\"\",MAX(P$1:P64)+1)","v":""},"",null,{"$f":"IF(CMS_Identification!G87=\"\",\"\",CMS_Identification!G87)","v":""},{"$f":"IF(CMS_Identification!B87=\"\",\"\",CMS_Identification!B87)","v":""},{"$f":"IF(COUNTIF(S$2:S65,S65)=1,S65,\"\")","v":""},{"$f":"+IF(U65=\"\",\"\",MAX(V$1:V64)+1)","v":""},"",null,{"$f":"IF(CMS_Identification!G87=\"\",\"\",CMS_Identification!G87)","v":""},{"$f":"IF(CMS_Identification!D87=\"\",\"\",CMS_Identification!D87)","v":""},null,null,null,{"$f":"IF(CMS_Identification!B87=\"\",\"\",CMS_Identification!B87)","v":""},{"$f":"IF(CMS_Identification!G87=\"\",\"\",CMS_Identification!G87)","v":""},{"$f":"IF(CMS_Identification!D87=\"\",\"\",CMS_Identification!D87)","v":""}]
[null,null,null,null,null,null,null,null,{"$f":"IF(LDAR_initial_TT!C88=\"\",\"\",LDAR_initial_TT!C88)","v":""},{"$f":"IF(COUNTIF(I$2:I66,I66)=1,I66,\"\")","v":""},{"$f":"+IF(J66=\"\",\"\",MAX(K$1:K65)+1)","v":""},"",null,{"$f":"IF(LDAR_initial_H_UU!C88=\"\",\"\",LDAR_initial_H_UU!C88)","v":""},{"$f":"IF(COUNTIF(N$2:N66,N66)=1,N66,\"\")","v":""},{"$f":"+IF(O66=\"\",\"\",MAX(P$1:P65)+1)","v":""},"",null,{"$f":"IF(CMS_Identification!G88=\"\",\"\",CMS_Identification!G88)","v":""},{"$f":"IF(CMS_Identification!B88=\"\",\"\",CMS_Identification!B88)","v":""},{"$f":"IF(COUNTIF(S$2:S66,S66)=1,S66,\"\")","v":""},{"$f":"+IF(U66=\"\",\"\",MAX(V$1:V65)+1)","v":""},{"$f":"+IFERROR(INDEX($S$2:$S$501,MATCH(ROW()-ROW($V$1),$V$2:$V$501,0)),\"\")","v":""},null,{"$f":"IF(CMS_Identification!G88=\"\",\"\",CMS_Identification!G88)","v":""},{"$f":"IF(CMS_Identification!D88=\"\",\"\",CMS_Identification!D88)","v":""},null,null,null,{"$f":"IF(CMS_Identification!B88=\"\",\"\",CMS_Identification!B88)","v":""},{"$f":"IF(CMS_Identification!G88=\"\",\"\",CMS_Identification!G88)","v":""},{"$f":"IF(CMS_Identification!D88=\"\",\"\",CMS_Identification!D88)","v":""}]
[null,null,null,null,null,null,null,null,{"$f":"IF(LDAR_initial_TT!C89=\"\",\"\",LDAR_initial_TT!C89)","v":""},{"$f":"IF(COUNTIF(I$2:I67,I67)=1,I67,\"\")","v":""},{"$f":"+IF(J67=\"\",\"\",MAX(K$1:K66)+1)","v":""},{"$f":"+IFERROR(INDEX($I$2:$I$801,MATCH(ROW()-ROW($K$1),$K$2:$K$801,0)),\"\")","v":""},null,{"$f":"IF(LDAR_initial_H_UU!C89=\"\",\"\",LDAR_initial_H_UU!C89)","v":""},{"$f":"IF(COUNTIF(N$2:N67,N67)=1,N67,\"\")","v":""},{"$f":"+IF(O67=\"\",\"\",MAX(P$1:P66)+1)","v":""},{"$f":"+IFERROR(INDEX($N$2:$N$2001,MATCH(ROW()-ROW($P$1),$P$2:$P$2001,0)),\"\")","v":""},null,{"$f":"IF(CMS_Identification!G89=\"\",\"\",CMS_Identification!G89)","v":""},{"$f":"IF(CMS_Identification!B89=\"\",\"\",CMS_Identification!B89)","v":""},{"$f":"IF(COUNTIF(S$2:S67,S67)=1,S67,\"\")","v":""},{"$f":"+IF(U67=\"\",\"\",MAX(V$1:V66)+1)","v":""},"",null,{"$f":"IF(CMS_Identification!G89=\"\",\"\",CMS_Identification!G89)","v":""},{"$f":"IF(CMS_Identification!D89=\"\",\"\",CMS_Identification!D89)","v":""},null,null,null,{"$f":"IF(CMS_Identification!B89=\"\",\"\",CMS_Identification!B89)","v":""},{"$f":"IF(CMS_Identification!G89=\"\",\"\",CMS_Identification!G89)","v":""},{"$f":"IF(CMS_Identification!D89=\"\",\"\",CMS_Identification!D89)","v":""}]
[null,null,null,null,null,null,null,null,{"$f":"IF(LDAR_initial_TT!C90=\"\",\"\",LDAR_initial_TT!C90)","v":""},{"$f":"IF(COUNTIF(I$2:I68,I68)=1,I68,\"\")","v":""},{"$f":"+IF(J68=\"\",\"\",MAX(K$1:K67)+1)","v":""},"",null,{"$f":"IF(LDAR_initial_H_UU!C90=\"\",\"\",LDAR_initial_H_UU!C90)","v":""},{"$f":"IF(COUNTIF(N$2:N68,N68)=1,N68,\"\")","v":""},{"$f":"+IF(O68=\"\",\"\",MAX(P$1:P67)+1)","v":""},"",null,{"$f":"IF(CMS_Identification!G90=\"\",\"\",CMS_Identification!G90)","v":""},{"$f":"IF(CMS_Identification!B90=\"\",\"\",CMS_Identification!B90)","v":""},{"$f":"IF(COUNTIF(S$2:S68,S68)=1,S68,\"\")","v":""},{"$f":"+IF(U68=\"\",\"\",MAX(V$1:V67)+1)","v":""},"",null,{"$f":"IF(CMS_Identification!G90=\"\",\"\",CMS_Identification!G90)","v":""},{"$f":"IF(CMS_Identification!D90=\"\",\"\",CMS_Identification!D90)","v":""},null,null,null,{"$f":"IF(CMS_Identification!B90=\"\",\"\",CMS_Identification!B90)","v":""},{"$f":"IF(CMS_Identification!G90=\"\",\"\",CMS_Identification!G90)","v":""},{"$f":"IF(CMS_Identification!D90=\"\",\"\",CMS_Identification!D90)","v":""}]
[null,null,null,null,null,null,null,null,{"$f":"IF(LDAR_initial_TT!C91=\"\",\"\",LDAR_initial_TT!C91)","v":""},{"$f":"IF(COUNTIF(I$2:I69,I69)=1,I69,\"\")","v":""},{"$f":"+IF(J69=\"\",\"\",MAX(K$1:K68)+1)","v":""},"",null,{"$f":"IF(LDAR_initial_H_UU!C91=\"\",\"\",LDAR_initial_H_UU!C91)","v":""},{"$f":"IF(COUNTIF(N$2:N69,N69)=1,N69,\"\")","v":""},{"$f":"+IF(O69=\"\",\"\",MAX(P$1:P68)+1)","v":""},"",null,{"$f":"IF(CMS_Identification!G91=\"\",\"\",CMS_Identification!G91)","v":""},{"$f":"IF(CMS_Identification!B91=\"\",\"\",CMS_Identification!B91)","v":""},{"$f":"IF(COUNTIF(S$2:S69,S69)=1,S69,\"\")","v":""},{"$f":"+IF(U69=\"\",\"\",MAX(V$1:V68)+1)","v":""},"",null,{"$f":"IF(CMS_Identification!G91=\"\",\"\",CMS_Identification!G91)","v":""},{"$f":"IF(CMS_Identification!D91=\"\",\"\",CMS_Identification!D91)","v":""},null,null,null,{"$f":"IF(CMS_Identification!B91=\"\",\"\",CMS_Identification!B91)","v":""},{"$f":"IF(CMS_Identification!G91=\"\",\"\",CMS_Identification!G91)","v":""},{"$f":"IF(CMS_Identification!D91=\"\",\"\",CMS_Identification!D91)","v":""}]
[null,null,null,null,null,null,null,null,{"$f":"IF(LDAR_initial_TT!C92=\"\",\"\",LDAR_initial_TT!C92)","v":""},{"$f":"IF(COUNTIF(I$2:I70,I70)=1,I70,\"\")","v":""},{"$f":"+IF(J70=\"\",\"\",MAX(K$1:K69)+1)","v":""},"",null,{"$f":"IF(LDAR_initial_H_UU!C92=\"\",\"\",LDAR_initial_H_UU!C92)","v":""},{"$f":"IF(COUNTIF(N$2:N70,N70)=1,N70,\"\")","v":""},{"$f":"+IF(O70=\"\",\"\",MAX(P$1:P69)+1)","v":""},"",null,{"$f":"IF(CMS_Identification!G92=\"\",\"\",CMS_Identification!G92)","v":""},{"$f":"IF(CMS_Identification!B92=\"\",\"\",CMS_Identification!B92)","v":""},{"$f":"IF(COUNTIF(S$2:S70,S70)=1,S70,\"\")","v":""},{"$f":"+IF(U70=\"\",\"\",MAX(V$1:V69)+1)","v":""},"",null,{"$f":"IF(CMS_Identification!G92=\"\",\"\",CMS_Identification!G92)","v":""},{"$f":"IF(CMS_Identification!D92=\"\",\"\",CMS_Identification!D92)","v":""},null,null,null,{"$f":"IF(CMS_Identification!B92=\"\",\"\",CMS_Identification!B92)","v":""},{"$f":"IF(CMS_Identification!G92=\"\",\"\",CMS_Identification!G92)","v":""},{"$f":"IF(CMS_Identification!D92=\"\",\"\",CMS_Identification!D92)","v":""}]
[null,null,null,null,null,null,null,null,{"$f":"IF(LDAR_initial_TT!C93=\"\",\"\",LDAR_initial_TT!C93)","v":""},{"$f":"IF(COUNTIF(I$2:I71,I71)=1,I71,\"\")","v":""},{"$f":"+IF(J71=\"\",\"\",MAX(K$1:K70)+1)","v":""},"",null,{"$f":"IF(LDAR_initial_H_UU!C93=\"\",\"\",LDAR_initial_H_UU!C93)","v":""},{"$f":"IF(COUNTIF(N$2:N71,N71)=1,N71,\"\")","v":""},{"$f":"+IF(O71=\"\",\"\",MAX(P$1:P70)+1)","v":""},"",null,{"$f":"IF(CMS_Identification!G93=\"\",\"\",CMS_Identification!G93)","v":""},{"$f":"IF(CMS_Identification!B93=\"\",\"\",CMS_Identification!B93)","v":""},{"$f":"IF(COUNTIF(S$2:S71,S71)=1,S71,\"\")","v":""},{"$f":"+IF(U71=\"\",\"\",MAX(V$1:V70)+1)","v":""},"",null,{"$f":"IF(CMS_Identification!G93=\"\",\"\",CMS_Identification!G93)","v":""},{"$f":"IF(CMS_Identification!D93=\"\",\"\",CMS_Identification!D93)","v":""},null,null,null,{"$f":"IF(CMS_Identification!B93=\"\",\"\",CMS_Identification!B93)","v":""},{"$f":"IF(CMS_Identification!G93=\"\",\"\",CMS_Identification!G93)","v":""},{"$f":"IF(CMS_Identification!D93=\"\",\"\",CMS_Identification!D93)","v":""}]
[null,null,null,null,null,null,null,null,{"$f":"IF(LDAR_initial_TT!C94=\"\",\"\",LDAR_initial_TT!C94)","v":""},{"$f":"IF(COUNTIF(I$2:I72,I72)=1,I72,\"\")","v":""},{"$f":"+IF(J72=\"\",\"\",MAX(K$1:K71)+1)","v":""},"",null,{"$f":"IF(LDAR_initial_H_UU!C94=\"\",\"\",LDAR_initial_H_UU!C94)","v":""},{"$f":"IF(COUNTIF(N$2:N72,N72)=1,N72,\"\")","v":""},{"$f":"+IF(O72=\"\",\"\",MAX(P$1:P71)+1)","v":""},"",null,{"$f":"IF(CMS_Identification!G94=\"\",\"\",CMS_Identification!G94)","v":""},{"$f":"IF(CMS_Identification!B94=\"\",\"\",CMS_Identification!B94)","v":""},{"$f":"IF(COUNTIF(S$2:S72,S72)=1,S72,\"\")","v":""},{"$f":"+IF(U72=\"\",\"\",MAX(V$1:V71)+1)","v":""},"",null,{"$f":"IF(CMS_Identification!G94=\"\",\"\",CMS_Identification!G94)","v":""},{"$f":"IF(CMS_Identification!D94=\"\",\"\",CMS_Identification!D94)","v":""},null,null,null,{"$f":"IF(CMS_Identification!B94=\"\",\"\",CMS_Identification!B94)","v":""},{"$f":"IF(CMS_Identification!G94=\"\",\"\",CMS_Identification!G94)","v":""},{"$f":"IF(CMS_Identification!D94=\"\",\"\",CMS_Identification!D94)","v":""}]
[null,null,null,null,null,null,null,null,{"$f":"IF(LDAR_initial_TT!C95=\"\",\"\",LDAR_initial_TT!C95)","v":""},{"$f":"IF(COUNTIF(I$2:I73,I73)=1,I73,\"\")","v":""},{"$f":"+IF(J73=\"\",\"\",MAX(K$1:K72)+1)","v":""},"",null,{"$f":"IF(LDAR_initial_H_UU!C95=\"\",\"\",LDAR_initial_H_UU!C95)","v":""},{"$f":"IF(COUNTIF(N$2:N73,N73)=1,N73,\"\")","v":""},{"$f":"+IF(O73=\"\",\"\",MAX(P$1:P72)+1)","v":""},"",null,{"$f":"IF(CMS_Identification!G95=\"\",\"\",CMS_Identification!G95)","v":""},{"$f":"IF(CMS_Identification!B95=\"\",\"\",CMS_Identification!B95)","v":""},{"$f":"IF(COUNTIF(S$2:S73,S73)=1,S73,\"\")","v":""},{"$f":"+IF(U73=\"\",\"\",MAX(V$1:V72)+1)","v":""},"",null,{"$f":"IF(CMS_Identification!G95=\"\",\"\",CMS_Identification!G95)","v":""},{"$f":"IF(CMS_Identification!D95=\"\",\"\",CMS_Identification!D95)","v":""},null,null,null,{"$f":"IF(CMS_Identification!B95=\"\",\"\",CMS_Identification!B95)","v":""},{"$f":"IF(CMS_Identification!G95=\"\",\"\",CMS_Identification!G95)","v":""},{"$f":"IF(CMS_Identification!D95=\"\",\"\",CMS_Identification!D95)","v":""}]
[null,null,null,null,null,null,null,null,{"$f":"IF(LDAR_initial_TT!C96=\"\",\"\",LDAR_initial_TT!C96)","v":""},{"$f":"IF(COUNTIF(I$2:I74,I74)=1,I74,\"\")","v":""},{"$f":"+IF(J74=\"\",\"\",MAX(K$1:K73)+1)","v":""},"",null,{"$f":"IF(LDAR_initial_H_UU!C96=\"\",\"\",LDAR_initial_H_UU!C96)","v":""},{"$f":"IF(COUNTIF(N$2:N74,N74)=1,N74,\"\")","v":""},{"$f":"+IF(O74=\"\",\"\",MAX(P$1:P73)+1)","v":""},"",null,{"$f":"IF(CMS_Identification!G96=\"\",\"\",CMS_Identification!G96)","v":""},{"$f":"IF(CMS_Identification!B96=\"\",\"\",CMS_Identification!B96)","v":""},{"$f":"IF(COUNTIF(S$2:S74,S74)=1,S74,\"\")","v":""},{"$f":"+IF(U74=\"\",\"\",MAX(V$1:V73)+1)","v":""},"",null,{"$f":"IF(CMS_Identification!G96=\"\",\"\",CMS_Identification!G96)","v":""},{"$f":"IF(CMS_Identification!D96=\"\",\"\",CMS_Identification!D96)","v":""},null,null,null,{"$f":"IF(CMS_Identification!B96=\"\",\"\",CMS_Identification!B96)","v":""},{"$f":"IF(CMS_Identification!G96=\"\",\"\",CMS_Identification!G96)","v":""},{"$f":"IF(CMS_Identification!D96=\"\",\"\",CMS_Identification!D96)","v":""}]
[null,null,null,null,null,null,null,null,{"$f":"IF(LDAR_initial_TT!C97=\"\",\"\",LDAR_initial_TT!C97)","v":""},{"$f":"IF(COUNTIF(I$2:I75,I75)=1,I75,\"\")","v":""},{"$f":"+IF(J75=\"\",\"\",MAX(K$1:K74)+1)","v":""},"",null,{"$f":"IF(LDAR_initial_H_UU!C97=\"\",\"\",LDAR_initial_H_UU!C97)","v":""},{"$f":"IF(COUNTIF(N$2:N75,N75)=1,N75,\"\")","v":""},{"$f":"+IF(O75=\"\",\"\",MAX(P$1:P74)+1)","v":""},"",null,{"$f":"IF(CMS_Identification!G97=\"\",\"\",CMS_Identification!G97)","v":""},{"$f":"IF(CMS_Identification!B97=\"\",\"\",CMS_Identification!B97)","v":""},{"$f":"IF(COUNTIF(S$2:S75,S75)=1,S75,\"\")","v":""},{"$f":"+IF(U75=\"\",\"\",MAX(V$1:V74)+1)","v":""},"",null,{"$f":"IF(CMS_Identification!G97=\"\",\"\",CMS_Identification!G97)","v":""},{"$f":"IF(CMS_Identification!D97=\"\",\"\",CMS_Identification!D97)","v":""},null,null,null,{"$f":"IF(CMS_Identification!B97=\"\",\"\",CMS_Identification!B97)","v":""},{"$f":"IF(CMS_Identification!G97=\"\",\"\",CMS_Identification!G97)","v":""},{"$f":"IF(CMS_Identification!D97=\"\",\"\",CMS_Identification!D97)","v":""}]
[null,null,null,null,null,null,null,null,{"$f":"IF(LDAR_initial_TT!C98=\"\",\"\",LDAR_initial_TT!C98)","v":""},{"$f":"IF(COUNTIF(I$2:I76,I76)=1,I76,\"\")","v":""},{"$f":"+IF(J76=\"\",\"\",MAX(K$1:K75)+1)","v":""},"",null,{"$f":"IF(LDAR_initial_H_UU!C98=\"\",\"\",LDAR_initial_H_UU!C98)","v":""},{"$f":"IF(COUNTIF(N$2:N76,N76)=1,N76,\"\")","v":""},{"$f":"+IF(O76=\"\",\"\",MAX(P$1:P75)+1)","v":""},"",null,{"$f":"IF(CMS_Identification!G98=\"\",\"\",CMS_Identification!G98)","v":""},{"$f":"IF(CMS_Identification!B98=\"\",\"\",CMS_Identification!B98)","v":""},{"$f":"IF(COUNTIF(S$2:S76,S76)=1,S76,\"\")","v":""},{"$f":"+IF(U76=\"\",\"\",MAX(V$1:V75)+1)","v":""},"",null,{"$f":"IF(CMS_Identification!G98=\"\",\"\",CMS_Identification!G98)","v":""},{"$f":"IF(CMS_Identification!D98=\"\",\"\",CMS_Identification!D98)","v":""},null,null,null,{"$f":"IF(CMS_Identification!B98=\"\",\"\",CMS_Identification!B98)","v":""},{"$f":"IF(CMS_Identification!G98=\"\",\"\",CMS_Identification!G98)","v":""},{"$f":"IF(CMS_Identification!D98=\"\",\"\",CMS_Identification!D98)","v":""}]
[null,null,null,null,null,null,null,null,{"$f":"IF(LDAR_initial_TT!C99=\"\",\"\",LDAR_initial_TT!C99)","v":""},{"$f":"IF(COUNTIF(I$2:I77,I77)=1,I77,\"\")","v":""},{"$f":"+IF(J77=\"\",\"\",MAX(K$1:K76)+1)","v":""},"",null,{"$f":"IF(LDAR_initial_H_UU!C99=\"\",\"\",LDAR_initial_H_UU!C99)","v":""},{"$f":"IF(COUNTIF(N$2:N77,N77)=1,N77,\"\")","v":""},{"$f":"+IF(O77=\"\",\"\",MAX(P$1:P76)+1)","v":""},"",null,{"$f":"IF(CMS_Identification!G99=\"\",\"\",CMS_Identification!G99)","v":""},{"$f":"IF(CMS_Identification!B99=\"\",\"\",CMS_Identification!B99)","v":""},{"$f":"IF(COUNTIF(S$2:S77,S77)=1,S77,\"\")","v":""},{"$f":"+IF(U77=\"\",\"\",MAX(V$1:V76)+1)","v":""},"",null,{"$f":"IF(CMS_Identification!G99=\"\",\"\",CMS_Identification!G99)","v":""},{"$f":"IF(CMS_Identification!D99=\"\",\"\",CMS_Identification!D99)","v":""},null,null,null,{"$f":"IF(CMS_Identification!B99=\"\",\"\",CMS_Identification!B99)","v":""},{"$f":"IF(CMS_Identification!G99=\"\",\"\",CMS_Identification!G99)","v":""},{"$f":"IF(CMS_Identification!D99=\"\",\"\",CMS_Identification!D99)","v":""}]
[null,null,null,null,null,null,null,null,{"$f":"IF(LDAR_initial_TT!C100=\"\",\"\",LDAR_initial_TT!C100)","v":""},{"$f":"IF(COUNTIF(I$2:I78,I78)=1,I78,\"\")","v":""},{"$f":"+IF(J78=\"\",\"\",MAX(K$1:K77)+1)","v":""},"",null,{"$f":"IF(LDAR_initial_H_UU!C100=\"\",\"\",LDAR_initial_H_UU!C100)","v":""},{"$f":"IF(COUNTIF(N$2:N78,N78)=1,N78,\"\")","v":""},{"$f":"+IF(O78=\"\",\"\",MAX(P$1:P77)+1)","v":""},"",null,{"$f":"IF(CMS_Identification!G100=\"\",\"\",CMS_Identification!G100)","v":""},{"$f":"IF(CMS_Identification!B100=\"\",\"\",CMS_Identification!B100)","v":""},{"$f":"IF(COUNTIF(S$2:S78,S78)=1,S78,\"\")","v":""},{"$f":"+IF(U78=\"\",\"\",MAX(V$1:V77)+1)","v":""},"",null,{"$f":"IF(CMS_Identification!G100=\"\",\"\",CMS_Identification!G100)","v":""},{"$f":"IF(CMS_Identification!D100=\"\",\"\",CMS_Identification!D100)","v":""},null,null,null,{"$f":"IF(CMS_Identification!B100=\"\",\"\",CMS_Identification!B100)","v":""},{"$f":"IF(CMS_Identification!G100=\"\",\"\",CMS_Identification!G100)","v":""},{"$f":"IF(CMS_Identification!D100=\"\",\"\",CMS_Identification!D100)","v":""}]
[null,null,null,null,null,null,null,null,{"$f":"IF(LDAR_initial_TT!C101=\"\",\"\",LDAR_initial_TT!C101)","v":""},{"$f":"IF(COUNTIF(I$2:I79,I79)=1,I79,\"\")","v":""},{"$f":"+IF(J79=\"\",\"\",MAX(K$1:K78)+1)","v":""},"",null,{"$f":"IF(LDAR_initial_H_UU!C101=\"\",\"\",LDAR_initial_H_UU!C101)","v":""},{"$f":"IF(COUNTIF(N$2:N79,N79)=1,N79,\"\")","v":""},{"$f":"+IF(O79=\"\",\"\",MAX(P$1:P78)+1)","v":""},"",null,{"$f":"IF(CMS_Identification!G101=\"\",\"\",CMS_Identification!G101)","v":""},{"$f":"IF(CMS_Identification!B101=\"\",\"\",CMS_Identification!B101)","v":""},{"$f":"IF(COUNTIF(S$2:S79,S79)=1,S79,\"\")","v":""},{"$f":"+IF(U79=\"\",\"\",MAX(V$1:V78)+1)","v":""},"",null,{"$f":"IF(CMS_Identification!G101=\"\",\"\",CMS_Identification!G101)","v":""},{"$f":"IF(CMS_Identification!D101=\"\",\"\",CMS_Identification!D101)","v":""},null,null,null,{"$f":"IF(CMS_Identification!B101=\"\",\"\",CMS_Identification!B101)","v":""},{"$f":"IF(CMS_Identification!G101=\"\",\"\",CMS_Identification!G101)","v":""},{"$f":"IF(CMS_Identification!D101=\"\",\"\",CMS_Identification!D101)","v":""}]
[null,null,null,null,null,null,null,null,{"$f":"IF(LDAR_initial_TT!C102=\"\",\"\",LDAR_initial_TT!C102)","v":""},{"$f":"IF(COUNTIF(I$2:I80,I80)=1,I80,\"\")","v":""},{"$f":"+IF(J80=\"\",\"\",MAX(K$1:K79)+1)","v":""},"",null,{"$f":"IF(LDAR_initial_H_UU!C102=\"\",\"\",LDAR_initial_H_UU!C102)","v":""},{"$f":"IF(COUNTIF(N$2:N80,N80)=1,N80,\"\")","v":""},{"$f":"+IF(O80=\"\",\"\",MAX(P$1:P79)+1)","v":""},"",null,{"$f":"IF(CMS_Identification!G102=\"\",\"\",CMS_Identification!G102)","v":""},{"$f":"IF(CMS_Identification!B102=\"\",\"\",CMS_Identification!B102)","v":""},{"$f":"IF(COUNTIF(S$2:S80,S80)=1,S80,\"\")","v":""},{"$f":"+IF(U80=\"\",\"\",MAX(V$1:V79)+1)","v":""},"",null,{"$f":"IF(CMS_Identification!G102=\"\",\"\",CMS_Identification!G102)","v":""},{"$f":"IF(CMS_Identification!D102=\"\",\"\",CMS_Identification!D102)","v":""},null,null,null,{"$f":"IF(CMS_Identification!B102=\"\",\"\",CMS_Identification!B102)","v":""},{"$f":"IF(CMS_Identification!G102=\"\",\"\",CMS_Identification!G102)","v":""},{"$f":"IF(CMS_Identification!D102=\"\",\"\",CMS_Identification!D102)","v":""}]
[null,null,null,null,null,null,null,null,{"$f":"IF(LDAR_initial_TT!C103=\"\",\"\",LDAR_initial_TT!C103)","v":""},{"$f":"IF(COUNTIF(I$2:I81,I81)=1,I81,\"\")","v":""},{"$f":"+IF(J81=\"\",\"\",MAX(K$1:K80)+1)","v":""},"",null,{"$f":"IF(LDAR_initial_H_UU!C103=\"\",\"\",LDAR_initial_H_UU!C103)","v":""},{"$f":"IF(COUNTIF(N$2:N81,N81)=1,N81,\"\")","v":""},{"$f":"+IF(O81=\"\",\"\",MAX(P$1:P80)+1)","v":""},"",null,{"$f":"IF(CMS_Identification!G103=\"\",\"\",CMS_Identification!G103)","v":""},{"$f":"IF(CMS_Identification!B103=\"\",\"\",CMS_Identification!B103)","v":""},{"$f":"IF(COUNTIF(S$2:S81,S81)=1,S81,\"\")","v":""},{"$f":"+IF(U81=\"\",\"\",MAX(V$1:V80)+1)","v":""},"",null,{"$f":"IF(CMS_Identification!G103=\"\",\"\",CMS_Identification!G103)","v":""},{"$f":"IF(CMS_Identification!D103=\"\",\"\",CMS_Identification!D103)","v":""},null,null,null,{"$f":"IF(CMS_Identification!B103=\"\",\"\",CMS_Identification!B103)","v":""},{"$f":"IF(CMS_Identification!G103=\"\",\"\",CMS_Identification!G103)","v":""},{"$f":"IF(CMS_Identification!D103=\"\",\"\",CMS_Identification!D103)","v":""}]
[null,null,null,null,null,null,null,null,{"$f":"IF(LDAR_initial_TT!C104=\"\",\"\",LDAR_initial_TT!C104)","v":""},{"$f":"IF(COUNTIF(I$2:I82,I82)=1,I82,\"\")","v":""},{"$f":"+IF(J82=\"\",\"\",MAX(K$1:K81)+1)","v":""},"",null,{"$f":"IF(LDAR_initial_H_UU!C104=\"\",\"\",LDAR_initial_H_UU!C104)","v":""},{"$f":"IF(COUNTIF(N$2:N82,N82)=1,N82,\"\")","v":""},{"$f":"+IF(O82=\"\",\"\",MAX(P$1:P81)+1)","v":""},"",null,{"$f":"IF(CMS_Identification!G104=\"\",\"\",CMS_Identification!G104)","v":""},{"$f":"IF(CMS_Identification!B104=\"\",\"\",CMS_Identification!B104)","v":""},{"$f":"IF(COUNTIF(S$2:S82,S82)=1,S82,\"\")","v":""},{"$f":"+IF(U82=\"\",\"\",MAX(V$1:V81)+1)","v":""},"",null,{"$f":"IF(CMS_Identification!G104=\"\",\"\",CMS_Identification!G104)","v":""},{"$f":"IF(CMS_Identification!D104=\"\",\"\",CMS_Identification!D104)","v":""},null,null,null,{"$f":"IF(CMS_Identification!B104=\"\",\"\",CMS_Identification!B104)","v":""},{"$f":"IF(CMS_Identification!G104=\"\",\"\",CMS_Identification!G104)","v":""},{"$f":"IF(CMS_Identification!D104=\"\",\"\",CMS_Identification!D104)","v":""}]
[null,null,null,null,null,null,null,null,{"$f":"IF(LDAR_initial_TT!C105=\"\",\"\",LDAR_initial_TT!C105)","v":""},{"$f":"IF(COUNTIF(I$2:I83,I83)=1,I83,\"\")","v":""},{"$f":"+IF(J83=\"\",\"\",MAX(K$1:K82)+1)","v":""},"",null,{"$f":"IF(LDAR_initial_H_UU!C105=\"\",\"\",LDAR_initial_H_UU!C105)","v":""},{"$f":"IF(COUNTIF(N$2:N83,N83)=1,N83,\"\")","v":""},{"$f":"+IF(O83=\"\",\"\",MAX(P$1:P82)+1)","v":""},"",null,{"$f":"IF(CMS_Identification!G105=\"\",\"\",CMS_Identification!G105)","v":""},{"$f":"IF(CMS_Identification!B105=\"\",\"\",CMS_Identification!B105)","v":""},{"$f":"IF(COUNTIF(S$2:S83,S83)=1,S83,\"\")","v":""},{"$f":"+IF(U83=\"\",\"\",MAX(V$1:V82)+1)","v":""},"",null,{"$f":"IF(CMS_Identification!G105=\"\",\"\",CMS_Identification!G105)","v":""},{"$f":"IF(CMS_Identification!D105=\"\",\"\",CMS_Identification!D105)","v":""},null,null,null,{"$f":"IF(CMS_Identification!B105=\"\",\"\",CMS_Identification!B105)","v":""},{"$f":"IF(CMS_Identification!G105=\"\",\"\",CMS_Identification!G105)","v":""},{"$f":"IF(CMS_Identification!D105=\"\",\"\",CMS_Identification!D105)","v":""}]
[null,null,null,null,null,null,null,null,{"$f":"IF(LDAR_initial_TT!C106=\"\",\"\",LDAR_initial_TT!C106)","v":""},{"$f":"IF(COUNTIF(I$2:I84,I84)=1,I84,\"\")","v":""},{"$f":"+IF(J84=\"\",\"\",MAX(K$1:K83)+1)","v":""},"",null,{"$f":"IF(LDAR_initial_H_UU!C106=\"\",\"\",LDAR_initial_H_UU!C106)","v":""},{"$f":"IF(COUNTIF(N$2:N84,N84)=1,N84,\"\")","v":""},{"$f":"+IF(O84=\"\",\"\",MAX(P$1:P83)+1)","v":""},"",null,{"$f":"IF(CMS_Identification!G106=\"\",\"\",CMS_Identification!G106)","v":""},{"$f":"IF(CMS_Identification!B106=\"\",\"\",CMS_Identification!B106)","v":""},{"$f":"IF(COUNTIF(S$2:S84,S84)=1,S84,\"\")","v":""},{"$f":"+IF(U84=\"\",\"\",MAX(V$1:V83)+1)","v":""},"",null,{"$f":"IF(CMS_Identification!G106=\"\",\"\",CMS_Identification!G106)","v":""},{"$f":"IF(CMS_Identification!D106=\"\",\"\",CMS_Identification!D106)","v":""},null,null,null,{"$f":"IF(CMS_Identification!B106=\"\",\"\",CMS_Identification!B106)","v":""},{"$f":"IF(CMS_Identification!G106=\"\",\"\",CMS_Identification!G106)","v":""},{"$f":"IF(CMS_Identification!D106=\"\",\"\",CMS_Identification!D106)","v":""}]
[null,null,null,null,null,null,null,null,{"$f":"IF(LDAR_initial_TT!C107=\"\",\"\",LDAR_initial_TT!C107)","v":""},{"$f":"IF(COUNTIF(I$2:I85,I85)=1,I85,\"\")","v":""},{"$f":"+IF(J85=\"\",\"\",MAX(K$1:K84)+1)","v":""},"",null,{"$f":"IF(LDAR_initial_H_UU!C107=\"\",\"\",LDAR_initial_H_UU!C107)","v":""},{"$f":"IF(COUNTIF(N$2:N85,N85)=1,N85,\"\")","v":""},{"$f":"+IF(O85=\"\",\"\",MAX(P$1:P84)+1)","v":""},"",null,{"$f":"IF(CMS_Identification!G107=\"\",\"\",CMS_Identification!G107)","v":""},{"$f":"IF(CMS_Identification!B107=\"\",\"\",CMS_Identification!B107)","v":""},{"$f":"IF(COUNTIF(S$2:S85,S85)=1,S85,\"\")","v":""},{"$f":"+IF(U85=\"\",\"\",MAX(V$1:V84)+1)","v":""},"",null,{"$f":"IF(CMS_Identification!G107=\"\",\"\",CMS_Identification!G107)","v":""},{"$f":"IF(CMS_Identification!D107=\"\",\"\",CMS_Identification!D107)","v":""},null,null,null,{"$f":"IF(CMS_Identification!B107=\"\",\"\",CMS_Identification!B107)","v":""},{"$f":"IF(CMS_Identification!G107=\"\",\"\",CMS_Identification!G107)","v":""},{"$f":"IF(CMS_Identification!D107=\"\",\"\",CMS_Identification!D107)","v":""}]
[null,null,null,null,null,null,null,null,{"$f":"IF(LDAR_initial_TT!C108=\"\",\"\",LDAR_initial_TT!C108)","v":""},{"$f":"IF(COUNTIF(I$2:I86,I86)=1,I86,\"\")","v":""},{"$f":"+IF(J86=\"\",\"\",MAX(K$1:K85)+1)","v":""},"",null,{"$f":"IF(LDAR_initial_H_UU!C108=\"\",\"\",LDAR_initial_H_UU!C108)","v":""},{"$f":"IF(COUNTIF(N$2:N86,N86)=1,N86,\"\")","v":""},{"$f":"+IF(O86=\"\",\"\",MAX(P$1:P85)+1)","v":""},"",null,{"$f":"IF(CMS_Identification!G108=\"\",\"\",CMS_Identification!G108)","v":""},{"$f":"IF(CMS_Identification!B108=\"\",\"\",CMS_Identification!B108)","v":""},{"$f":"IF(COUNTIF(S$2:S86,S86)=1,S86,\"\")","v":""},{"$f":"+IF(U86=\"\",\"\",MAX(V$1:V85)+1)","v":""},"",null,{"$f":"IF(CMS_Identification!G108=\"\",\"\",CMS_Identification!G108)","v":""},{"$f":"IF(CMS_Identification!D108=\"\",\"\",CMS_Identification!D108)","v":""},null,null,null,{"$f":"IF(CMS_Identification!B108=\"\",\"\",CMS_Identification!B108)","v":""},{"$f":"IF(CMS_Identification!G108=\"\",\"\",CMS_Identification!G108)","v":""},{"$f":"IF(CMS_Identification!D108=\"\",\"\",CMS_Identification!D108)","v":""}]
[null,null,null,null,null,null,null,null,{"$f":"IF(LDAR_initial_TT!C109=\"\",\"\",LDAR_initial_TT!C109)","v":""},{"$f":"IF(COUNTIF(I$2:I87,I87)=1,I87,\"\")","v":""},{"$f":"+IF(J87=\"\",\"\",MAX(K$1:K86)+1)","v":""},"",null,{"$f":"IF(LDAR_initial_H_UU!C109=\"\",\"\",LDAR_initial_H_UU!C109)","v":""},{"$f":"IF(COUNTIF(N$2:N87,N87)=1,N87,\"\")","v":""},{"$f":"+IF(O87=\"\",\"\",MAX(P$1:P86)+1)","v":""},"",null,{"$f":"IF(CMS_Identification!G109=\"\",\"\",CMS_Identification!G109)","v":""},{"$f":"IF(CMS_Identification!B109=\"\",\"\",CMS_Identification!B109)","v":""},{"$f":"IF(COUNTIF(S$2:S87,S87)=1,S87,\"\")","v":""},{"$f":"+IF(U87=\"\",\"\",MAX(V$1:V86)+1)","v":""},"",null,{"$f":"IF(CMS_Identification!G109=\"\",\"\",CMS_Identification!G109)","v":""},{"$f":"IF(CMS_Identification!D109=\"\",\"\",CMS_Identification!D109)","v":""},null,null,null,{"$f":"IF(CMS_Identification!B109=\"\",\"\",CMS_Identification!B109)","v":""},{"$f":"IF(CMS_Identification!G109=\"\",\"\",CMS_Identification!G109)","v":""},{"$f":"IF(CMS_Identification!D109=\"\",\"\",CMS_Identification!D109)","v":""}]
[null,null,null,null,null,null,null,null,{"$f":"IF(LDAR_initial_TT!C110=\"\",\"\",LDAR_initial_TT!C110)","v":""},{"$f":"IF(COUNTIF(I$2:I88,I88)=1,I88,\"\")","v":""},{"$f":"+IF(J88=\"\",\"\",MAX(K$1:K87)+1)","v":""},"",null,{"$f":"IF(LDAR_initial_H_UU!C110=\"\",\"\",LDAR_initial_H_UU!C110)","v":""},{"$f":"IF(COUNTIF(N$2:N88,N88)=1,N88,\"\")","v":""},{"$f":"+IF(O88=\"\",\"\",MAX(P$1:P87)+1)","v":""},"",null,{"$f":"IF(CMS_Identification!G110=\"\",\"\",CMS_Identification!G110)","v":""},{"$f":"IF(CMS_Identification!B110=\"\",\"\",CMS_Identification!B110)","v":""},{"$f":"IF(COUNTIF(S$2:S88,S88)=1,S88,\"\")","v":""},{"$f":"+IF(U88=\"\",\"\",MAX(V$1:V87)+1)","v":""},"",null,{"$f":"IF(CMS_Identification!G110=\"\",\"\",CMS_Identification!G110)","v":""},{"$f":"IF(CMS_Identification!D110=\"\",\"\",CMS_Identification!D110)","v":""},null,null,null,{"$f":"IF(CMS_Identification!B110=\"\",\"\",CMS_Identification!B110)","v":""},{"$f":"IF(CMS_Identification!G110=\"\",\"\",CMS_Identification!G110)","v":""},{"$f":"IF(CMS_Identification!D110=\"\",\"\",CMS_Identification!D110)","v":""}]
[null,null,null,null,null,null,null,null,{"$f":"IF(LDAR_initial_TT!C111=\"\",\"\",LDAR_initial_TT!C111)","v":""},{"$f":"IF(COUNTIF(I$2:I89,I89)=1,I89,\"\")","v":""},{"$f":"+IF(J89=\"\",\"\",MAX(K$1:K88)+1)","v":""},"",null,{"$f":"IF(LDAR_initial_H_UU!C111=\"\",\"\",LDAR_initial_H_UU!C111)","v":""},{"$f":"IF(COUNTIF(N$2:N89,N89)=1,N89,\"\")","v":""},{"$f":"+IF(O89=\"\",\"\",MAX(P$1:P88)+1)","v":""},"",null,{"$f":"IF(CMS_Identification!G111=\"\",\"\",CMS_Identification!G111)","v":""},{"$f":"IF(CMS_Identification!B111=\"\",\"\",CMS_Identification!B111)","v":""},{"$f":"IF(COUNTIF(S$2:S89,S89)=1,S89,\"\")","v":""},{"$f":"+IF(U89=\"\",\"\",MAX(V$1:V88)+1)","v":""},"",null,{"$f":"IF(CMS_Identification!G111=\"\",\"\",CMS_Identification!G111)","v":""},{"$f":"IF(CMS_Identification!D111=\"\",\"\",CMS_Identification!D111)","v":""},null,null,null,{"$f":"IF(CMS_Identification!B111=\"\",\"\",CMS_Identification!B111)","v":""},{"$f":"IF(CMS_Identification!G111=\"\",\"\",CMS_Identification!G111)","v":""},{"$f":"IF(CMS_Identification!D111=\"\",\"\",CMS_Identification!D111)","v":""}]
[null,null,null,null,null,null,null,null,{"$f":"IF(LDAR_initial_TT!C112=\"\",\"\",LDAR_initial_TT!C112)","v":""},{"$f":"IF(COUNTIF(I$2:I90,I90)=1,I90,\"\")","v":""},{"$f":"+IF(J90=\"\",\"\",MAX(K$1:K89)+1)","v":""},"",null,{"$f":"IF(LDAR_initial_H_UU!C112=\"\",\"\",LDAR_initial_H_UU!C112)","v":""},{"$f":"IF(COUNTIF(N$2:N90,N90)=1,N90,\"\")","v":""},{"$f":"+IF(O90=\"\",\"\",MAX(P$1:P89)+1)","v":""},"",null,{"$f":"IF(CMS_Identification!G112=\"\",\"\",CMS_Identification!G112)","v":""},{"$f":"IF(CMS_Identification!B112=\"\",\"\",CMS_Identification!B112)","v":""},{"$f":"IF(COUNTIF(S$2:S90,S90)=1,S90,\"\")","v":""},{"$f":"+IF(U90=\"\",\"\",MAX(V$1:V89)+1)","v":""},"",null,{"$f":"IF(CMS_Identification!G112=\"\",\"\",CMS_Identification!G112)","v":""},{"$f":"IF(CMS_Identification!D112=\"\",\"\",CMS_Identification!D112)","v":""},null,null,null,{"$f":"IF(CMS_Identification!B112=\"\",\"\",CMS_Identification!B112)","v":""},{"$f":"IF(CMS_Identification!G112=\"\",\"\",CMS_Identification!G112)","v":""},{"$f":"IF(CMS_Identification!D112=\"\",\"\",CMS_Identification!D112)","v":""}]
[null,null,null,null,null,null,null,null,{"$f":"IF(LDAR_initial_TT!C113=\"\",\"\",LDAR_initial_TT!C113)","v":""},{"$f":"IF(COUNTIF(I$2:I91,I91)=1,I91,\"\")","v":""},{"$f":"+IF(J91=\"\",\"\",MAX(K$1:K90)+1)","v":""},"",null,{"$f":"IF(LDAR_initial_H_UU!C113=\"\",\"\",LDAR_initial_H_UU!C113)","v":""},{"$f":"IF(COUNTIF(N$2:N91,N91)=1,N91,\"\")","v":""},{"$f":"+IF(O91=\"\",\"\",MAX(P$1:P90)+1)","v":""},"",null,{"$f":"IF(CMS_Identification!G113=\"\",\"\",CMS_Identification!G113)","v":""},{"$f":"IF(CMS_Identification!B113=\"\",\"\",CMS_Identification!B113)","v":""},{"$f":"IF(COUNTIF(S$2:S91,S91)=1,S91,\"\")","v":""},{"$f":"+IF(U91=\"\",\"\",MAX(V$1:V90)+1)","v":""},"",null,{"$f":"IF(CMS_Identification!G113=\"\",\"\",CMS_Identification!G113)","v":""},{"$f":"IF(CMS_Identification!D113=\"\",\"\",CMS_Identification!D113)","v":""},null,null,null,{"$f":"IF(CMS_Identification!B113=\"\",\"\",CMS_Identification!B113)","v":""},{"$f":"IF(CMS_Identification!G113=\"\",\"\",CMS_Identification!G113)","v":""},{"$f":"IF(CMS_Identification!D113=\"\",\"\",CMS_Identification!D113)","v":""}]
[null,null,null,null,null,null,null,null,{"$f":"IF(LDAR_initial_TT!C114=\"\",\"\",LDAR_initial_TT!C114)","v":""},{"$f":"IF(COUNTIF(I$2:I92,I92)=1,I92,\"\")","v":""},{"$f":"+IF(J92=\"\",\"\",MAX(K$1:K91)+1)","v":""},"",null,{"$f":"IF(LDAR_initial_H_UU!C114=\"\",\"\",LDAR_initial_H_UU!C114)","v":""},{"$f":"IF(COUNTIF(N$2:N92,N92)=1,N92,\"\")","v":""},{"$f":"+IF(O92=\"\",\"\",MAX(P$1:P91)+1)","v":""},"",null,{"$f":"IF(CMS_Identification!G114=\"\",\"\",CMS_Identification!G114)","v":""},{"$f":"IF(CMS_Identification!B114=\"\",\"\",CMS_Identification!B114)","v":""},{"$f":"IF(COUNTIF(S$2:S92,S92)=1,S92,\"\")","v":""},{"$f":"+IF(U92=\"\",\"\",MAX(V$1:V91)+1)","v":""},"",null,{"$f":"IF(CMS_Identification!G114=\"\",\"\",CMS_Identification!G114)","v":""},{"$f":"IF(CMS_Identification!D114=\"\",\"\",CMS_Identification!D114)","v":""},null,null,null,{"$f":"IF(CMS_Identification!B114=\"\",\"\",CMS_Identification!B114)","v":""},{"$f":"IF(CMS_Identification!G114=\"\",\"\",CMS_Identification!G114)","v":""},{"$f":"IF(CMS_Identification!D114=\"\",\"\",CMS_Identification!D114)","v":""}]
[null,null,null,null,null,null,null,null,{"$f":"IF(LDAR_initial_TT!C115=\"\",\"\",LDAR_initial_TT!C115)","v":""},{"$f":"IF(COUNTIF(I$2:I93,I93)=1,I93,\"\")","v":""},{"$f":"+IF(J93=\"\",\"\",MAX(K$1:K92)+1)","v":""},"",null,{"$f":"IF(LDAR_initial_H_UU!C115=\"\",\"\",LDAR_initial_H_UU!C115)","v":""},{"$f":"IF(COUNTIF(N$2:N93,N93)=1,N93,\"\")","v":""},{"$f":"+IF(O93=\"\",\"\",MAX(P$1:P92)+1)","v":""},"",null,{"$f":"IF(CMS_Identification!G115=\"\",\"\",CMS_Identification!G115)","v":""},{"$f":"IF(CMS_Identification!B115=\"\",\"\",CMS_Identification!B115)","v":""},{"$f":"IF(COUNTIF(S$2:S93,S93)=1,S93,\"\")","v":""},{"$f":"+IF(U93=\"\",\"\",MAX(V$1:V92)+1)","v":""},"",null,{"$f":"IF(CMS_Identification!G115=\"\",\"\",CMS_Identification!G115)","v":""},{"$f":"IF(CMS_Identification!D115=\"\",\"\",CMS_Identification!D115)","v":""},null,null,null,{"$f":"IF(CMS_Identification!B115=\"\",\"\",CMS_Identification!B115)","v":""},{"$f":"IF(CMS_Identification!G115=\"\",\"\",CMS_Identification!G115)","v":""},{"$f":"IF(CMS_Identification!D115=\"\",\"\",CMS_Identification!D115)","v":""}]
[null,null,null,null,null,null,null,null,{"$f":"IF(LDAR_initial_TT!C116=\"\",\"\",LDAR_initial_TT!C116)","v":""},{"$f":"IF(COUNTIF(I$2:I94,I94)=1,I94,\"\")","v":""},{"$f":"+IF(J94=\"\",\"\",MAX(K$1:K93)+1)","v":""},"",null,{"$f":"IF(LDAR_initial_H_UU!C116=\"\",\"\",LDAR_initial_H_UU!C116)","v":""},{"$f":"IF(COUNTIF(N$2:N94,N94)=1,N94,\"\")","v":""},{"$f":"+IF(O94=\"\",\"\",MAX(P$1:P93)+1)","v":""},"",null,{"$f":"IF(CMS_Identification!G116=\"\",\"\",CMS_Identification!G116)","v":""},{"$f":"IF(CMS_Identification!B116=\"\",\"\",CMS_Identification!B116)","v":""},{"$f":"IF(COUNTIF(S$2:S94,S94)=1,S94,\"\")","v":""},{"$f":"+IF(U94=\"\",\"\",MAX(V$1:V93)+1)","v":""},"",null,{"$f":"IF(CMS_Identification!G116=\"\",\"\",CMS_Identification!G116)","v":""},{"$f":"IF(CMS_Identification!D116=\"\",\"\",CMS_Identification!D116)","v":""},null,null,null,{"$f":"IF(CMS_Identification!B116=\"\",\"\",CMS_Identification!B116)","v":""},{"$f":"IF(CMS_Identification!G116=\"\",\"\",CMS_Identification!G116)","v":""},{"$f":"IF(CMS_Identification!D116=\"\",\"\",CMS_Identification!D116)","v":""}]
[null,null,null,null,null,null,null,null,{"$f":"IF(LDAR_initial_TT!C117=\"\",\"\",LDAR_initial_TT!C117)","v":""},{"$f":"IF(COUNTIF(I$2:I95,I95)=1,I95,\"\")","v":""},{"$f":"+IF(J95=\"\",\"\",MAX(K$1:K94)+1)","v":""},"",null,{"$f":"IF(LDAR_initial_H_UU!C117=\"\",\"\",LDAR_initial_H_UU!C117)","v":""},{"$f":"IF(COUNTIF(N$2:N95,N95)=1,N95,\"\")","v":""},{"$f":"+IF(O95=\"\",\"\",MAX(P$1:P94)+1)","v":""},"",null,{"$f":"IF(CMS_Identification!G117=\"\",\"\",CMS_Identification!G117)","v":""},{"$f":"IF(CMS_Identification!B117=\"\",\"\",CMS_Identification!B117)","v":""},{"$f":"IF(COUNTIF(S$2:S95,S95)=1,S95,\"\")","v":""},{"$f":"+IF(U95=\"\",\"\",MAX(V$1:V94)+1)","v":""},"",null,{"$f":"IF(CMS_Identification!G117=\"\",\"\",CMS_Identification!G117)","v":""},{"$f":"IF(CMS_Identification!D117=\"\",\"\",CMS_Identification!D117)","v":""},null,null,null,{"$f":"IF(CMS_Identification!B117=\"\",\"\",CMS_Identification!B117)","v":""},{"$f":"IF(CMS_Identification!G117=\"\",\"\",CMS_Identification!G117)","v":""},{"$f":"IF(CMS_Identification!D117=\"\",\"\",CMS_Identification!D117)","v":""}]
[null,null,null,null,null,null,null,null,{"$f":"IF(LDAR_initial_TT!C118=\"\",\"\",LDAR_initial_TT!C118)","v":""},{"$f":"IF(COUNTIF(I$2:I96,I96)=1,I96,\"\")","v":""},{"$f":"+IF(J96=\"\",\"\",MAX(K$1:K95)+1)","v":""},"",null,{"$f":"IF(LDAR_initial_H_UU!C118=\"\",\"\",LDAR_initial_H_UU!C118)","v":""},{"$f":"IF(COUNTIF(N$2:N96,N96)=1,N96,\"\")","v":""},{"$f":"+IF(O96=\"\",\"\",MAX(P$1:P95)+1)","v":""},"",null,{"$f":"IF(CMS_Identification!G118=\"\",\"\",CMS_Identification!G118)","v":""},{"$f":"IF(CMS_Identification!B118=\"\",\"\",CMS_Identification!B118)","v":""},{"$f":"IF(COUNTIF(S$2:S96,S96)=1,S96,\"\")","v":""},{"$f":"+IF(U96=\"\",\"\",MAX(V$1:V95)+1)","v":""},"",null,{"$f":"IF(CMS_Identification!G118=\"\",\"\",CMS_Identification!G118)","v":""},{"$f":"IF(CMS_Identification!D118=\"\",\"\",CMS_Identification!D118)","v":""},null,null,null,{"$f":"IF(CMS_Identification!B118=\"\",\"\",CMS_Identification!B118)","v":""},{"$f":"IF(CMS_Identification!G118=\"\",\"\",CMS_Identification!G118)","v":""},{"$f":"IF(CMS_Identification!D118=\"\",\"\",CMS_Identification!D118)","v":""}]
[null,null,null,null,null,null,null,null,{"$f":"IF(LDAR_initial_TT!C119=\"\",\"\",LDAR_initial_TT!C119)","v":""},{"$f":"IF(COUNTIF(I$2:I97,I97)=1,I97,\"\")","v":""},{"$f":"+IF(J97=\"\",\"\",MAX(K$1:K96)+1)","v":""},"",null,{"$f":"IF(LDAR_initial_H_UU!C119=\"\",\"\",LDAR_initial_H_UU!C119)","v":""},{"$f":"IF(COUNTIF(N$2:N97,N97)=1,N97,\"\")","v":""},{"$f":"+IF(O97=\"\",\"\",MAX(P$1:P96)+1)","v":""},"",null,{"$f":"IF(CMS_Identification!G119=\"\",\"\",CMS_Identification!G119)","v":""},{"$f":"IF(CMS_Identification!B119=\"\",\"\",CMS_Identification!B119)","v":""},{"$f":"IF(COUNTIF(S$2:S97,S97)=1,S97,\"\")","v":""},{"$f":"+IF(U97=\"\",\"\",MAX(V$1:V96)+1)","v":""},"",null,{"$f":"IF(CMS_Identification!G119=\"\",\"\",CMS_Identification!G119)","v":""},{"$f":"IF(CMS_Identification!D119=\"\",\"\",CMS_Identification!D119)","v":""},null,null,null,{"$f":"IF(CMS_Identification!B119=\"\",\"\",CMS_Identification!B119)","v":""},{"$f":"IF(CMS_Identification!G119=\"\",\"\",CMS_Identification!G119)","v":""},{"$f":"IF(CMS_Identification!D119=\"\",\"\",CMS_Identification!D119)","v":""}]
[null,null,null,null,null,null,null,null,{"$f":"IF(LDAR_initial_TT!C120=\"\",\"\",LDAR_initial_TT!C120)","v":""},{"$f":"IF(COUNTIF(I$2:I98,I98)=1,I98,\"\")","v":""},{"$f":"+IF(J98=\"\",\"\",MAX(K$1:K97)+1)","v":""},"",null,{"$f":"IF(LDAR_initial_H_UU!C120=\"\",\"\",LDAR_initial_H_UU!C120)","v":""},{"$f":"IF(COUNTIF(N$2:N98,N98)=1,N98,\"\")","v":""},{"$f":"+IF(O98=\"\",\"\",MAX(P$1:P97)+1)","v":""},"",null,{"$f":"IF(CMS_Identification!G120=\"\",\"\",CMS_Identification!G120)","v":""},{"$f":"IF(CMS_Identification!B120=\"\",\"\",CMS_Identification!B120)","v":""},{"$f":"IF(COUNTIF(S$2:S98,S98)=1,S98,\"\")","v":""},{"$f":"+IF(U98=\"\",\"\",MAX(V$1:V97)+1)","v":""},"",null,{"$f":"IF(CMS_Identification!G120=\"\",\"\",CMS_Identification!G120)","v":""},{"$f":"IF(CMS_Identification!D120=\"\",\"\",CMS_Identification!D120)","v":""},null,null,null,{"$f":"IF(CMS_Identification!B120=\"\",\"\",CMS_Identification!B120)","v":""},{"$f":"IF(CMS_Identification!G120=\"\",\"\",CMS_Identification!G120)","v":""},{"$f":"IF(CMS_Identification!D120=\"\",\"\",CMS_Identification!D120)","v":""}]
[null,null,null,null,null,null,null,null,{"$f":"IF(LDAR_initial_TT!C121=\"\",\"\",LDAR_initial_TT!C121)","v":""},{"$f":"IF(COUNTIF(I$2:I99,I99)=1,I99,\"\")","v":""},{"$f":"+IF(J99=\"\",\"\",MAX(K$1:K98)+1)","v":""},"",null,{"$f":"IF(LDAR_initial_H_UU!C121=\"\",\"\",LDAR_initial_H_UU!C121)","v":""},{"$f":"IF(COUNTIF(N$2:N99,N99)=1,N99,\"\")","v":""},{"$f":"+IF(O99=\"\",\"\",MAX(P$1:P98)+1)","v":""},"",null,{"$f":"IF(CMS_Identification!G121=\"\",\"\",CMS_Identification!G121)","v":""},{"$f":"IF(CMS_Identification!B121=\"\",\"\",CMS_Identification!B121)","v":""},{"$f":"IF(COUNTIF(S$2:S99,S99)=1,S99,\"\")","v":""},{"$f":"+IF(U99=\"\",\"\",MAX(V$1:V98)+1)","v":""},"",null,{"$f":"IF(CMS_Identification!G121=\"\",\"\",CMS_Identification!G121)","v":""},{"$f":"IF(CMS_Identification!D121=\"\",\"\",CMS_Identification!D121)","v":""},null,null,null,{"$f":"IF(CMS_Identification!B121=\"\",\"\",CMS_Identification!B121)","v":""},{"$f":"IF(CMS_Identification!G121=\"\",\"\",CMS_Identification!G121)","v":""},{"$f":"IF(CMS_Identification!D121=\"\",\"\",CMS_Identification!D121)","v":""}]
[null,null,null,null,null,null,null,null,{"$f":"IF(LDAR_initial_TT!C122=\"\",\"\",LDAR_initial_TT!C122)","v":""},{"$f":"IF(COUNTIF(I$2:I100,I100)=1,I100,\"\")","v":""},{"$f":"+IF(J100=\"\",\"\",MAX(K$1:K99)+1)","v":""},"",null,{"$f":"IF(LDAR_initial_H_UU!C122=\"\",\"\",LDAR_initial_H_UU!C122)","v":""},{"$f":"IF(COUNTIF(N$2:N100,N100)=1,N100,\"\")","v":""},{"$f":"+IF(O100=\"\",\"\",MAX(P$1:P99)+1)","v":""},"",null,{"$f":"IF(CMS_Identification!G122=\"\",\"\",CMS_Identification!G122)","v":""},{"$f":"IF(CMS_Identification!B122=\"\",\"\",CMS_Identification!B122)","v":""},{"$f":"IF(COUNTIF(S$2:S100,S100)=1,S100,\"\")","v":""},{"$f":"+IF(U100=\"\",\"\",MAX(V$1:V99)+1)","v":""},"",null,{"$f":"IF(CMS_Identification!G122=\"\",\"\",CMS_Identification!G122)","v":""},{"$f":"IF(CMS_Identification!D122=\"\",\"\",CMS_Identification!D122)","v":""},null,null,null,{"$f":"IF(CMS_Identification!B122=\"\",\"\",CMS_Identification!B122)","v":""},{"$f":"IF(CMS_Identification!G122=\"\",\"\",CMS_Identification!G122)","v":""},{"$f":"IF(CMS_Identification!D122=\"\",\"\",CMS_Identification!D122)","v":""}]
[null,null,null,null,null,null,null,null,{"$f":"IF(LDAR_initial_TT!C123=\"\",\"\",LDAR_initial_TT!C123)","v":""},{"$f":"IF(COUNTIF(I$2:I101,I101)=1,I101,\"\")","v":""},{"$f":"+IF(J101=\"\",\"\",MAX(K$1:K100)+1)","v":""},"",null,{"$f":"IF(LDAR_initial_H_UU!C123=\"\",\"\",LDAR_initial_H_UU!C123)","v":""},{"$f":"IF(COUNTIF(N$2:N101,N101)=1,N101,\"\")","v":""},{"$f":"+IF(O101=\"\",\"\",MAX(P$1:P100)+1)","v":""},"",null,{"$f":"IF(CMS_Identification!G123=\"\",\"\",CMS_Identification!G123)","v":""},{"$f":"IF(CMS_Identification!B123=\"\",\"\",CMS_Identification!B123)","v":""},{"$f":"IF(COUNTIF(S$2:S101,S101)=1,S101,\"\")","v":""},{"$f":"+IF(U101=\"\",\"\",MAX(V$1:V100)+1)","v":""},"",null,{"$f":"IF(CMS_Identification!G123=\"\",\"\",CMS_Identification!G123)","v":""},{"$f":"IF(CMS_Identification!D123=\"\",\"\",CMS_Identification!D123)","v":""},null,null,null,{"$f":"IF(CMS_Identification!B123=\"\",\"\",CMS_Identification!B123)","v":""},{"$f":"IF(CMS_Identification!G123=\"\",\"\",CMS_Identification!G123)","v":""},{"$f":"IF(CMS_Identification!D123=\"\",\"\",CMS_Identification!D123)","v":""}]
[null,null,null,null,null,null,null,null,{"$f":"IF(LDAR_TT_summary!C24=\"\",\"\",LDAR_TT_summary!C24)","v":""},{"$f":"IF(COUNTIF(I$2:I102,I102)=1,I102,\"\")","v":""},{"$f":"+IF(J102=\"\",\"\",MAX(K$1:K101)+1)","v":""},"",null,{"$f":"IF(LDAR_H_UU_general!C24=\"\",\"\",LDAR_H_UU_general!C24)","v":""},{"$f":"IF(COUNTIF(N$2:N102,N102)=1,N102,\"\")","v":""},{"$f":"+IF(O102=\"\",\"\",MAX(P$1:P101)+1)","v":""},"",null,{"$f":"IF(CMS_Identification!G124=\"\",\"\",CMS_Identification!G124)","v":""},{"$f":"IF(CMS_Identification!B124=\"\",\"\",CMS_Identification!B124)","v":""},{"$f":"IF(COUNTIF(S$2:S102,S102)=1,S102,\"\")","v":""},{"$f":"+IF(U102=\"\",\"\",MAX(V$1:V101)+1)","v":""},"",null,{"$f":"IF(CMS_Identification!G124=\"\",\"\",CMS_Identification!G124)","v":""},{"$f":"IF(CMS_Identification!D124=\"\",\"\",CMS_Identification!D124)","v":""},null,null,null,{"$f":"IF(CMS_Identification!B124=\"\",\"\",CMS_Identification!B124)","v":""},{"$f":"IF(CMS_Identification!G124=\"\",\"\",CMS_Identification!G124)","v":""},{"$f":"IF(CMS_Identification!D124=\"\",\"\",CMS_Identification!D124)","v":""}]
[null,null,null,null,null,null,null,null,{"$f":"IF(LDAR_TT_summary!C25=\"\",\"\",LDAR_TT_summary!C25)","v":""},{"$f":"IF(COUNTIF(I$2:I103,I103)=1,I103,\"\")","v":""},{"$f":"+IF(J103=\"\",\"\",MAX(K$1:K102)+1)","v":""},"",null,{"$f":"IF(LDAR_H_UU_general!C25=\"\",\"\",LDAR_H_UU_general!C25)","v":""},{"$f":"IF(COUNTIF(N$2:N103,N103)=1,N103,\"\")","v":""},{"$f":"+IF(O103=\"\",\"\",MAX(P$1:P102)+1)","v":""},"",null,{"$f":"IF(CMS_Identification!G125=\"\",\"\",CMS_Identification!G125)","v":""},{"$f":"IF(CMS_Identification!B125=\"\",\"\",CMS_Identification!B125)","v":""},{"$f":"IF(COUNTIF(S$2:S103,S103)=1,S103,\"\")","v":""},{"$f":"+IF(U103=\"\",\"\",MAX(V$1:V102)+1)","v":""},"",null,{"$f":"IF(CMS_Identification!G125=\"\",\"\",CMS_Identification!G125)","v":""},{"$f":"IF(CMS_Identification!D125=\"\",\"\",CMS_Identification!D125)","v":""},null,null,null,{"$f":"IF(CMS_Identification!B125=\"\",\"\",CMS_Identification!B125)","v":""},{"$f":"IF(CMS_Identification!G125=\"\",\"\",CMS_Identification!G125)","v":""},{"$f":"IF(CMS_Identification!D125=\"\",\"\",CMS_Identification!D125)","v":""}]
[null,null,null,null,null,null,null,null,{"$f":"IF(LDAR_TT_summary!C26=\"\",\"\",LDAR_TT_summary!C26)","v":""},{"$f":"IF(COUNTIF(I$2:I104,I104)=1,I104,\"\")","v":""},{"$f":"+IF(J104=\"\",\"\",MAX(K$1:K103)+1)","v":""},"",null,{"$f":"IF(LDAR_H_UU_general!C26=\"\",\"\",LDAR_H_UU_general!C26)","v":""},{"$f":"IF(COUNTIF(N$2:N104,N104)=1,N104,\"\")","v":""},{"$f":"+IF(O104=\"\",\"\",MAX(P$1:P103)+1)","v":""},"",null,{"$f":"IF(CMS_Identification!G126=\"\",\"\",CMS_Identification!G126)","v":""},{"$f":"IF(CMS_Identification!B126=\"\",\"\",CMS_Identification!B126)","v":""},{"$f":"IF(COUNTIF(S$2:S104,S104)=1,S104,\"\")","v":""},{"$f":"+IF(U104=\"\",\"\",MAX(V$1:V103)+1)","v":""},"",null,{"$f":"IF(CMS_Identification!G126=\"\",\"\",CMS_Identification!G126)","v":""},{"$f":"IF(CMS_Identification!D126=\"\",\"\",CMS_Identification!D126)","v":""},null,null,null,{"$f":"IF(CMS_Identification!B126=\"\",\"\",CMS_Identification!B126)","v":""},{"$f":"IF(CMS_Identification!G126=\"\",\"\",CMS_Identification!G126)","v":""},{"$f":"IF(CMS_Identification!D126=\"\",\"\",CMS_Identification!D126)","v":""}]
[null,null,null,null,null,null,null,null,{"$f":"IF(LDAR_TT_summary!C27=\"\",\"\",LDAR_TT_summary!C27)","v":""},{"$f":"IF(COUNTIF(I$2:I105,I105)=1,I105,\"\")","v":""},{"$f":"+IF(J105=\"\",\"\",MAX(K$1:K104)+1)","v":""},"",null,{"$f":"IF(LDAR_H_UU_general!C27=\"\",\"\",LDAR_H_UU_general!C27)","v":""},{"$f":"IF(COUNTIF(N$2:N105,N105)=1,N105,\"\")","v":""},{"$f":"+IF(O105=\"\",\"\",MAX(P$1:P104)+1)","v":""},"",null,{"$f":"IF(CMS_Identification!G127=\"\",\"\",CMS_Identification!G127)","v":""},{"$f":"IF(CMS_Identification!B127=\"\",\"\",CMS_Identification!B127)","v":""},{"$f":"IF(COUNTIF(S$2:S105,S105)=1,S105,\"\")","v":""},{"$f":"+IF(U105=\"\",\"\",MAX(V$1:V104)+1)","v":""},"",null,{"$f":"IF(CMS_Identification!G127=\"\",\"\",CMS_Identification!G127)","v":""},{"$f":"IF(CMS_Identification!D127=\"\",\"\",CMS_Identification!D127)","v":""},null,null,null,{"$f":"IF(CMS_Identification!B127=\"\",\"\",CMS_Identification!B127)","v":""},{"$f":"IF(CMS_Identification!G127=\"\",\"\",CMS_Identification!G127)","v":""},{"$f":"IF(CMS_Identification!D127=\"\",\"\",CMS_Identification!D127)","v":""}]
[null,null,null,null,null,null,null,null,{"$f":"IF(LDAR_TT_summary!C28=\"\",\"\",LDAR_TT_summary!C28)","v":""},{"$f":"IF(COUNTIF(I$2:I106,I106)=1,I106,\"\")","v":""},{"$f":"+IF(J106=\"\",\"\",MAX(K$1:K105)+1)","v":""},"",null,{"$f":"IF(LDAR_H_UU_general!C28=\"\",\"\",LDAR_H_UU_general!C28)","v":""},{"$f":"IF(COUNTIF(N$2:N106,N106)=1,N106,\"\")","v":""},{"$f":"+IF(O106=\"\",\"\",MAX(P$1:P105)+1)","v":""},"",null,{"$f":"IF(CMS_Identification!G128=\"\",\"\",CMS_Identification!G128)","v":""},{"$f":"IF(CMS_Identification!B128=\"\",\"\",CMS_Identification!B128)","v":""},{"$f":"IF(COUNTIF(S$2:S106,S106)=1,S106,\"\")","v":""},{"$f":"+IF(U106=\"\",\"\",MAX(V$1:V105)+1)","v":""},"",null,{"$f":"IF(CMS_Identification!G128=\"\",\"\",CMS_Identification!G128)","v":""},{"$f":"IF(CMS_Identification!D128=\"\",\"\",CMS_Identification!D128)","v":""},null,null,null,{"$f":"IF(CMS_Identification!B128=\"\",\"\",CMS_Identification!B128)","v":""},{"$f":"IF(CMS_Identification!G128=\"\",\"\",CMS_Identification!G128)","v":""},{"$f":"IF(CMS_Identification!D128=\"\",\"\",CMS_Identification!D128)","v":""}]
[null,null,null,null,null,null,null,null,{"$f":"IF(LDAR_TT_summary!C29=\"\",\"\",LDAR_TT_summary!C29)","v":""},{"$f":"IF(COUNTIF(I$2:I107,I107)=1,I107,\"\")","v":""},{"$f":"+IF(J107=\"\",\"\",MAX(K$1:K106)+1)","v":""},"",null,{"$f":"IF(LDAR_H_UU_general!C29=\"\",\"\",LDAR_H_UU_general!C29)","v":""},{"$f":"IF(COUNTIF(N$2:N107,N107)=1,N107,\"\")","v":""},{"$f":"+IF(O107=\"\",\"\",MAX(P$1:P106)+1)","v":""},"",null,{"$f":"IF(CMS_Identification!G129=\"\",\"\",CMS_Identification!G129)","v":""},{"$f":"IF(CMS_Identification!B129=\"\",\"\",CMS_Identification!B129)","v":""},{"$f":"IF(COUNTIF(S$2:S107,S107)=1,S107,\"\")","v":""},{"$f":"+IF(U107=\"\",\"\",MAX(V$1:V106)+1)","v":""},"",null,{"$f":"IF(CMS_Identification!G129=\"\",\"\",CMS_Identification!G129)","v":""},{"$f":"IF(CMS_Identification!D129=\"\",\"\",CMS_Identification!D129)","v":""},null,null,null,{"$f":"IF(CMS_Identification!B129=\"\",\"\",CMS_Identification!B129)","v":""},{"$f":"IF(CMS_Identification!G129=\"\",\"\",CMS_Identification!G129)","v":""},{"$f":"IF(CMS_Identification!D129=\"\",\"\",CMS_Identification!D129)","v":""}]
[null,null,null,null,null,null,null,null,{"$f":"IF(LDAR_TT_summary!C30=\"\",\"\",LDAR_TT_summary!C30)","v":""},{"$f":"IF(COUNTIF(I$2:I108,I108)=1,I108,\"\")","v":""},{"$f":"+IF(J108=\"\",\"\",MAX(K$1:K107)+1)","v":""},"",null,{"$f":"IF(LDAR_H_UU_general!C30=\"\",\"\",LDAR_H_UU_general!C30)","v":""},{"$f":"IF(COUNTIF(N$2:N108,N108)=1,N108,\"\")","v":""},{"$f":"+IF(O108=\"\",\"\",MAX(P$1:P107)+1)","v":""},"",null,{"$f":"IF(CMS_Identification!G130=\"\",\"\",CMS_Identification!G130)","v":""},{"$f":"IF(CMS_Identification!B130=\"\",\"\",CMS_Identification!B130)","v":""},{"$f":"IF(COUNTIF(S$2:S108,S108)=1,S108,\"\")","v":""},{"$f":"+IF(U108=\"\",\"\",MAX(V$1:V107)+1)","v":""},"",null,{"$f":"IF(CMS_Identification!G130=\"\",\"\",CMS_Identification!G130)","v":""},{"$f":"IF(CMS_Identification!D130=\"\",\"\",CMS_Identification!D130)","v":""},null,null,null,{"$f":"IF(CMS_Identification!B130=\"\",\"\",CMS_Identification!B130)","v":""},{"$f":"IF(CMS_Identification!G130=\"\",\"\",CMS_Identification!G130)","v":""},{"$f":"IF(CMS_Identification!D130=\"\",\"\",CMS_Identification!D130)","v":""}]
[null,null,null,null,null,null,null,null,{"$f":"IF(LDAR_TT_summary!C31=\"\",\"\",LDAR_TT_summary!C31)","v":""},{"$f":"IF(COUNTIF(I$2:I109,I109)=1,I109,\"\")","v":""},{"$f":"+IF(J109=\"\",\"\",MAX(K$1:K108)+1)","v":""},"",null,{"$f":"IF(LDAR_H_UU_general!C31=\"\",\"\",LDAR_H_UU_general!C31)","v":""},{"$f":"IF(COUNTIF(N$2:N109,N109)=1,N109,\"\")","v":""},{"$f":"+IF(O109=\"\",\"\",MAX(P$1:P108)+1)","v":""},"",null,{"$f":"IF(CMS_Identification!G131=\"\",\"\",CMS_Identification!G131)","v":""},{"$f":"IF(CMS_Identification!B131=\"\",\"\",CMS_Identification!B131)","v":""},{"$f":"IF(COUNTIF(S$2:S109,S109)=1,S109,\"\")","v":""},{"$f":"+IF(U109=\"\",\"\",MAX(V$1:V108)+1)","v":""},"",null,{"$f":"IF(CMS_Identification!G131=\"\",\"\",CMS_Identification!G131)","v":""},{"$f":"IF(CMS_Identification!D131=\"\",\"\",CMS_Identification!D131)","v":""},null,null,null,{"$f":"IF(CMS_Identification!B131=\"\",\"\",CMS_Identification!B131)","v":""},{"$f":"IF(CMS_Identification!G131=\"\",\"\",CMS_Identification!G131)","v":""},{"$f":"IF(CMS_Identification!D131=\"\",\"\",CMS_Identification!D131)","v":""}]
[null,null,null,null,null,null,null,null,{"$f":"IF(LDAR_TT_summary!C32=\"\",\"\",LDAR_TT_summary!C32)","v":""},{"$f":"IF(COUNTIF(I$2:I110,I110)=1,I110,\"\")","v":""},{"$f":"+IF(J110=\"\",\"\",MAX(K$1:K109)+1)","v":""},"",null,{"$f":"IF(LDAR_H_UU_general!C32=\"\",\"\",LDAR_H_UU_general!C32)","v":""},{"$f":"IF(COUNTIF(N$2:N110,N110)=1,N110,\"\")","v":""},{"$f":"+IF(O110=\"\",\"\",MAX(P$1:P109)+1)","v":""},"",null,{"$f":"IF(CMS_Identification!G132=\"\",\"\",CMS_Identification!G132)","v":""},{"$f":"IF(CMS_Identification!B132=\"\",\"\",CMS_Identification!B132)","v":""},{"$f":"IF(COUNTIF(S$2:S110,S110)=1,S110,\"\")","v":""},{"$f":"+IF(U110=\"\",\"\",MAX(V$1:V109)+1)","v":""},"",null,{"$f":"IF(CMS_Identification!G132=\"\",\"\",CMS_Identification!G132)","v":""},{"$f":"IF(CMS_Identification!D132=\"\",\"\",CMS_Identification!D132)","v":""},null,null,null,{"$f":"IF(CMS_Identification!B132=\"\",\"\",CMS_Identification!B132)","v":""},{"$f":"IF(CMS_Identification!G132=\"\",\"\",CMS_Identification!G132)","v":""},{"$f":"IF(CMS_Identification!D132=\"\",\"\",CMS_Identification!D132)","v":""}]
[null,null,null,null,null,null,null,null,{"$f":"IF(LDAR_TT_summary!C33=\"\",\"\",LDAR_TT_summary!C33)","v":""},{"$f":"IF(COUNTIF(I$2:I111,I111)=1,I111,\"\")","v":""},{"$f":"+IF(J111=\"\",\"\",MAX(K$1:K110)+1)","v":""},"",null,{"$f":"IF(LDAR_H_UU_general!C33=\"\",\"\",LDAR_H_UU_general!C33)","v":""},{"$f":"IF(COUNTIF(N$2:N111,N111)=1,N111,\"\")","v":""},{"$f":"+IF(O111=\"\",\"\",MAX(P$1:P110)+1)","v":""},"",null,{"$f":"IF(CMS_Identification!G133=\"\",\"\",CMS_Identification!G133)","v":""},{"$f":"IF(CMS_Identification!B133=\"\",\"\",CMS_Identification!B133)","v":""},{"$f":"IF(COUNTIF(S$2:S111,S111)=1,S111,\"\")","v":""},{"$f":"+IF(U111=\"\",\"\",MAX(V$1:V110)+1)","v":""},"",null,{"$f":"IF(CMS_Identification!G133=\"\",\"\",CMS_Identification!G133)","v":""},{"$f":"IF(CMS_Identification!D133=\"\",\"\",CMS_Identification!D133)","v":""},null,null,null,{"$f":"IF(CMS_Identification!B133=\"\",\"\",CMS_Identification!B133)","v":""},{"$f":"IF(CMS_Identification!G133=\"\",\"\",CMS_Identification!G133)","v":""},{"$f":"IF(CMS_Identification!D133=\"\",\"\",CMS_Identification!D133)","v":""}]
[null,null,null,null,null,null,null,null,{"$f":"IF(LDAR_TT_summary!C34=\"\",\"\",LDAR_TT_summary!C34)","v":""},{"$f":"IF(COUNTIF(I$2:I112,I112)=1,I112,\"\")","v":""},{"$f":"+IF(J112=\"\",\"\",MAX(K$1:K111)+1)","v":""},"",null,{"$f":"IF(LDAR_H_UU_general!C34=\"\",\"\",LDAR_H_UU_general!C34)","v":""},{"$f":"IF(COUNTIF(N$2:N112,N112)=1,N112,\"\")","v":""},{"$f":"+IF(O112=\"\",\"\",MAX(P$1:P111)+1)","v":""},"",null,{"$f":"IF(CMS_Identification!G134=\"\",\"\",CMS_Identification!G134)","v":""},{"$f":"IF(CMS_Identification!B134=\"\",\"\",CMS_Identification!B134)","v":""},{"$f":"IF(COUNTIF(S$2:S112,S112)=1,S112,\"\")","v":""},{"$f":"+IF(U112=\"\",\"\",MAX(V$1:V111)+1)","v":""},"",null,{"$f":"IF(CMS_Identification!G134=\"\",\"\",CMS_Identification!G134)","v":""},{"$f":"IF(CMS_Identification!D134=\"\",\"\",CMS_Identification!D134)","v":""},null,null,null,{"$f":"IF(CMS_Identification!B134=\"\",\"\",CMS_Identification!B134)","v":""},{"$f":"IF(CMS_Identification!G134=\"\",\"\",CMS_Identification!G134)","v":""},{"$f":"IF(CMS_Identification!D134=\"\",\"\",CMS_Identification!D134)","v":""}]
[null,null,null,null,null,null,null,null,{"$f":"IF(LDAR_TT_summary!C35=\"\",\"\",LDAR_TT_summary!C35)","v":""},{"$f":"IF(COUNTIF(I$2:I113,I113)=1,I113,\"\")","v":""},{"$f":"+IF(J113=\"\",\"\",MAX(K$1:K112)+1)","v":""},"",null,{"$f":"IF(LDAR_H_UU_general!C35=\"\",\"\",LDAR_H_UU_general!C35)","v":""},{"$f":"IF(COUNTIF(N$2:N113,N113)=1,N113,\"\")","v":""},{"$f":"+IF(O113=\"\",\"\",MAX(P$1:P112)+1)","v":""},"",null,{"$f":"IF(CMS_Identification!G135=\"\",\"\",CMS_Identification!G135)","v":""},{"$f":"IF(CMS_Identification!B135=\"\",\"\",CMS_Identification!B135)","v":""},{"$f":"IF(COUNTIF(S$2:S113,S113)=1,S113,\"\")","v":""},{"$f":"+IF(U113=\"\",\"\",MAX(V$1:V112)+1)","v":""},"",null,{"$f":"IF(CMS_Identification!G135=\"\",\"\",CMS_Identification!G135)","v":""},{"$f":"IF(CMS_Identification!D135=\"\",\"\",CMS_Identification!D135)","v":""},null,null,null,{"$f":"IF(CMS_Identification!B135=\"\",\"\",CMS_Identification!B135)","v":""},{"$f":"IF(CMS_Identification!G135=\"\",\"\",CMS_Identification!G135)","v":""},{"$f":"IF(CMS_Identification!D135=\"\",\"\",CMS_Identification!D135)","v":""}]
[null,null,null,null,null,null,null,null,{"$f":"IF(LDAR_TT_summary!C36=\"\",\"\",LDAR_TT_summary!C36)","v":""},{"$f":"IF(COUNTIF(I$2:I114,I114)=1,I114,\"\")","v":""},{"$f":"+IF(J114=\"\",\"\",MAX(K$1:K113)+1)","v":""},"",null,{"$f":"IF(LDAR_H_UU_general!C36=\"\",\"\",LDAR_H_UU_general!C36)","v":""},{"$f":"IF(COUNTIF(N$2:N114,N114)=1,N114,\"\")","v":""},{"$f":"+IF(O114=\"\",\"\",MAX(P$1:P113)+1)","v":""},"",null,{"$f":"IF(CMS_Identification!G136=\"\",\"\",CMS_Identification!G136)","v":""},{"$f":"IF(CMS_Identification!B136=\"\",\"\",CMS_Identification!B136)","v":""},{"$f":"IF(COUNTIF(S$2:S114,S114)=1,S114,\"\")","v":""},{"$f":"+IF(U114=\"\",\"\",MAX(V$1:V113)+1)","v":""},"",null,{"$f":"IF(CMS_Identification!G136=\"\",\"\",CMS_Identification!G136)","v":""},{"$f":"IF(CMS_Identification!D136=\"\",\"\",CMS_Identification!D136)","v":""},null,null,null,{"$f":"IF(CMS_Identification!B136=\"\",\"\",CMS_Identification!B136)","v":""},{"$f":"IF(CMS_Identification!G136=\"\",\"\",CMS_Identification!G136)","v":""},{"$f":"IF(CMS_Identification!D136=\"\",\"\",CMS_Identification!D136)","v":""}]
[null,null,null,null,null,null,null,null,{"$f":"IF(LDAR_TT_summary!C37=\"\",\"\",LDAR_TT_summary!C37)","v":""},{"$f":"IF(COUNTIF(I$2:I115,I115)=1,I115,\"\")","v":""},{"$f":"+IF(J115=\"\",\"\",MAX(K$1:K114)+1)","v":""},"",null,{"$f":"IF(LDAR_H_UU_general!C37=\"\",\"\",LDAR_H_UU_general!C37)","v":""},{"$f":"IF(COUNTIF(N$2:N115,N115)=1,N115,\"\")","v":""},{"$f":"+IF(O115=\"\",\"\",MAX(P$1:P114)+1)","v":""},"",null,{"$f":"IF(CMS_Identification!G137=\"\",\"\",CMS_Identification!G137)","v":""},{"$f":"IF(CMS_Identification!B137=\"\",\"\",CMS_Identification!B137)","v":""},{"$f":"IF(COUNTIF(S$2:S115,S115)=1,S115,\"\")","v":""},{"$f":"+IF(U115=\"\",\"\",MAX(V$1:V114)+1)","v":""},"",null,{"$f":"IF(CMS_Identification!G137=\"\",\"\",CMS_Identification!G137)","v":""},{"$f":"IF(CMS_Identification!D137=\"\",\"\",CMS_Identification!D137)","v":""},null,null,null,{"$f":"IF(CMS_Identification!B137=\"\",\"\",CMS_Identification!B137)","v":""},{"$f":"IF(CMS_Identification!G137=\"\",\"\",CMS_Identification!G137)","v":""},{"$f":"IF(CMS_Identification!D137=\"\",\"\",CMS_Identification!D137)","v":""}]
[null,null,null,null,null,null,null,null,{"$f":"IF(LDAR_TT_summary!C38=\"\",\"\",LDAR_TT_summary!C38)","v":""},{"$f":"IF(COUNTIF(I$2:I116,I116)=1,I116,\"\")","v":""},{"$f":"+IF(J116=\"\",\"\",MAX(K$1:K115)+1)","v":""},"",null,{"$f":"IF(LDAR_H_UU_general!C38=\"\",\"\",LDAR_H_UU_general!C38)","v":""},{"$f":"IF(COUNTIF(N$2:N116,N116)=1,N116,\"\")","v":""},{"$f":"+IF(O116=\"\",\"\",MAX(P$1:P115)+1)","v":""},"",null,{"$f":"IF(CMS_Identification!G138=\"\",\"\",CMS_Identification!G138)","v":""},{"$f":"IF(CMS_Identification!B138=\"\",\"\",CMS_Identification!B138)","v":""},{"$f":"IF(COUNTIF(S$2:S116,S116)=1,S116,\"\")","v":""},{"$f":"+IF(U116=\"\",\"\",MAX(V$1:V115)+1)","v":""},"",null,{"$f":"IF(CMS_Identification!G138=\"\",\"\",CMS_Identification!G138)","v":""},{"$f":"IF(CMS_Identification!D138=\"\",\"\",CMS_Identification!D138)","v":""},null,null,null,{"$f":"IF(CMS_Identification!B138=\"\",\"\",CMS_Identification!B138)","v":""},{"$f":"IF(CMS_Identification!G138=\"\",\"\",CMS_Identification!G138)","v":""},{"$f":"IF(CMS_Identification!D138=\"\",\"\",CMS_Identification!D138)","v":""}]
[null,null,null,null,null,null,null,null,{"$f":"IF(LDAR_TT_summary!C39=\"\",\"\",LDAR_TT_summary!C39)","v":""},{"$f":"IF(COUNTIF(I$2:I117,I117)=1,I117,\"\")","v":""},{"$f":"+IF(J117=\"\",\"\",MAX(K$1:K116)+1)","v":""},"",null,{"$f":"IF(LDAR_H_UU_general!C39=\"\",\"\",LDAR_H_UU_general!C39)","v":""},{"$f":"IF(COUNTIF(N$2:N117,N117)=1,N117,\"\")","v":""},{"$f":"+IF(O117=\"\",\"\",MAX(P$1:P116)+1)","v":""},"",null,{"$f":"IF(CMS_Identification!G139=\"\",\"\",CMS_Identification!G139)","v":""},{"$f":"IF(CMS_Identification!B139=\"\",\"\",CMS_Identification!B139)","v":""},{"$f":"IF(COUNTIF(S$2:S117,S117)=1,S117,\"\")","v":""},{"$f":"+IF(U117=\"\",\"\",MAX(V$1:V116)+1)","v":""},"",null,{"$f":"IF(CMS_Identification!G139=\"\",\"\",CMS_Identification!G139)","v":""},{"$f":"IF(CMS_Identification!D139=\"\",\"\",CMS_Identification!D139)","v":""},null,null,null,{"$f":"IF(CMS_Identification!B139=\"\",\"\",CMS_Identification!B139)","v":""},{"$f":"IF(CMS_Identification!G139=\"\",\"\",CMS_Identification!G139)","v":""},{"$f":"IF(CMS_Identification!D139=\"\",\"\",CMS_Identification!D139)","v":""}]
[null,null,null,null,null,null,null,null,{"$f":"IF(LDAR_TT_summary!C40=\"\",\"\",LDAR_TT_summary!C40)","v":""},{"$f":"IF(COUNTIF(I$2:I118,I118)=1,I118,\"\")","v":""},{"$f":"+IF(J118=\"\",\"\",MAX(K$1:K117)+1)","v":""},"",null,{"$f":"IF(LDAR_H_UU_general!C40=\"\",\"\",LDAR_H_UU_general!C40)","v":""},{"$f":"IF(COUNTIF(N$2:N118,N118)=1,N118,\"\")","v":""},{"$f":"+IF(O118=\"\",\"\",MAX(P$1:P117)+1)","v":""},"",null,{"$f":"IF(CMS_Identification!G140=\"\",\"\",CMS_Identification!G140)","v":""},{"$f":"IF(CMS_Identification!B140=\"\",\"\",CMS_Identification!B140)","v":""},{"$f":"IF(COUNTIF(S$2:S118,S118)=1,S118,\"\")","v":""},{"$f":"+IF(U118=\"\",\"\",MAX(V$1:V117)+1)","v":""},"",null,{"$f":"IF(CMS_Identification!G140=\"\",\"\",CMS_Identification!G140)","v":""},{"$f":"IF(CMS_Identification!D140=\"\",\"\",CMS_Identification!D140)","v":""},null,null,null,{"$f":"IF(CMS_Identification!B140=\"\",\"\",CMS_Identification!B140)","v":""},{"$f":"IF(CMS_Identification!G140=\"\",\"\",CMS_Identification!G140)","v":""},{"$f":"IF(CMS_Identification!D140=\"\",\"\",CMS_Identification!D140)","v":""}]
[null,null,null,null,null,null,null,null,{"$f":"IF(LDAR_TT_summary!C41=\"\",\"\",LDAR_TT_summary!C41)","v":""},{"$f":"IF(COUNTIF(I$2:I119,I119)=1,I119,\"\")","v":""},{"$f":"+IF(J119=\"\",\"\",MAX(K$1:K118)+1)","v":""},"",null,{"$f":"IF(LDAR_H_UU_general!C41=\"\",\"\",LDAR_H_UU_general!C41)","v":""},{"$f":"IF(COUNTIF(N$2:N119,N119)=1,N119,\"\")","v":""},{"$f":"+IF(O119=\"\",\"\",MAX(P$1:P118)+1)","v":""},"",null,{"$f":"IF(CMS_Identification!G141=\"\",\"\",CMS_Identification!G141)","v":""},{"$f":"IF(CMS_Identification!B141=\"\",\"\",CMS_Identification!B141)","v":""},{"$f":"IF(COUNTIF(S$2:S119,S119)=1,S119,\"\")","v":""},{"$f":"+IF(U119=\"\",\"\",MAX(V$1:V118)+1)","v":""},"",null,{"$f":"IF(CMS_Identification!G141=\"\",\"\",CMS_Identification!G141)","v":""},{"$f":"IF(CMS_Identification!D141=\"\",\"\",CMS_Identification!D141)","v":""},null,null,null,{"$f":"IF(CMS_Identification!B141=\"\",\"\",CMS_Identification!B141)","v":""},{"$f":"IF(CMS_Identification!G141=\"\",\"\",CMS_Identification!G141)","v":""},{"$f":"IF(CMS_Identification!D141=\"\",\"\",CMS_Identification!D141)","v":""}]
[null,null,null,null,null,null,null,null,{"$f":"IF(LDAR_TT_summary!C42=\"\",\"\",LDAR_TT_summary!C42)","v":""},{"$f":"IF(COUNTIF(I$2:I120,I120)=1,I120,\"\")","v":""},{"$f":"+IF(J120=\"\",\"\",MAX(K$1:K119)+1)","v":""},"",null,{"$f":"IF(LDAR_H_UU_general!C42=\"\",\"\",LDAR_H_UU_general!C42)","v":""},{"$f":"IF(COUNTIF(N$2:N120,N120)=1,N120,\"\")","v":""},{"$f":"+IF(O120=\"\",\"\",MAX(P$1:P119)+1)","v":""},"",null,{"$f":"IF(CMS_Identification!G142=\"\",\"\",CMS_Identification!G142)","v":""},{"$f":"IF(CMS_Identification!B142=\"\",\"\",CMS_Identification!B142)","v":""},{"$f":"IF(COUNTIF(S$2:S120,S120)=1,S120,\"\")","v":""},{"$f":"+IF(U120=\"\",\"\",MAX(V$1:V119)+1)","v":""},"",null,{"$f":"IF(CMS_Identification!G142=\"\",\"\",CMS_Identification!G142)","v":""},{"$f":"IF(CMS_Identification!D142=\"\",\"\",CMS_Identification!D142)","v":""},null,null,null,{"$f":"IF(CMS_Identification!B142=\"\",\"\",CMS_Identification!B142)","v":""},{"$f":"IF(CMS_Identification!G142=\"\",\"\",CMS_Identification!G142)","v":""},{"$f":"IF(CMS_Identification!D142=\"\",\"\",CMS_Identification!D142)","v":""}]
[null,null,null,null,null,null,null,null,{"$f":"IF(LDAR_TT_summary!C43=\"\",\"\",LDAR_TT_summary!C43)","v":""},{"$f":"IF(COUNTIF(I$2:I121,I121)=1,I121,\"\")","v":""},{"$f":"+IF(J121=\"\",\"\",MAX(K$1:K120)+1)","v":""},"",null,{"$f":"IF(LDAR_H_UU_general!C43=\"\",\"\",LDAR_H_UU_general!C43)","v":""},{"$f":"IF(COUNTIF(N$2:N121,N121)=1,N121,\"\")","v":""},{"$f":"+IF(O121=\"\",\"\",MAX(P$1:P120)+1)","v":""},"",null,{"$f":"IF(CMS_Identification!G143=\"\",\"\",CMS_Identification!G143)","v":""},{"$f":"IF(CMS_Identification!B143=\"\",\"\",CMS_Identification!B143)","v":""},{"$f":"IF(COUNTIF(S$2:S121,S121)=1,S121,\"\")","v":""},{"$f":"+IF(U121=\"\",\"\",MAX(V$1:V120)+1)","v":""},"",null,{"$f":"IF(CMS_Identification!G143=\"\",\"\",CMS_Identification!G143)","v":""},{"$f":"IF(CMS_Identification!D143=\"\",\"\",CMS_Identification!D143)","v":""},null,null,null,{"$f":"IF(CMS_Identification!B143=\"\",\"\",CMS_Identification!B143)","v":""},{"$f":"IF(CMS_Identification!G143=\"\",\"\",CMS_Identification!G143)","v":""},{"$f":"IF(CMS_Identification!D143=\"\",\"\",CMS_Identification!D143)","v":""}]
[null,null,null,null,null,null,null,null,{"$f":"IF(LDAR_TT_summary!C44=\"\",\"\",LDAR_TT_summary!C44)","v":""},{"$f":"IF(COUNTIF(I$2:I122,I122)=1,I122,\"\")","v":""},{"$f":"+IF(J122=\"\",\"\",MAX(K$1:K121)+1)","v":""},"",null,{"$f":"IF(LDAR_H_UU_general!C44=\"\",\"\",LDAR_H_UU_general!C44)","v":""},{"$f":"IF(COUNTIF(N$2:N122,N122)=1,N122,\"\")","v":""},{"$f":"+IF(O122=\"\",\"\",MAX(P$1:P121)+1)","v":""},"",null,{"$f":"IF(CMS_Identification!G144=\"\",\"\",CMS_Identification!G144)","v":""},{"$f":"IF(CMS_Identification!B144=\"\",\"\",CMS_Identification!B144)","v":""},{"$f":"IF(COUNTIF(S$2:S122,S122)=1,S122,\"\")","v":""},{"$f":"+IF(U122=\"\",\"\",MAX(V$1:V121)+1)","v":""},"",null,{"$f":"IF(CMS_Identification!G144=\"\",\"\",CMS_Identification!G144)","v":""},{"$f":"IF(CMS_Identification!D144=\"\",\"\",CMS_Identification!D144)","v":""},null,null,null,{"$f":"IF(CMS_Identification!B144=\"\",\"\",CMS_Identification!B144)","v":""},{"$f":"IF(CMS_Identification!G144=\"\",\"\",CMS_Identification!G144)","v":""},{"$f":"IF(CMS_Identification!D144=\"\",\"\",CMS_Identification!D144)","v":""}]
[null,null,null,null,null,null,null,null,{"$f":"IF(LDAR_TT_summary!C45=\"\",\"\",LDAR_TT_summary!C45)","v":""},{"$f":"IF(COUNTIF(I$2:I123,I123)=1,I123,\"\")","v":""},{"$f":"+IF(J123=\"\",\"\",MAX(K$1:K122)+1)","v":""},"",null,{"$f":"IF(LDAR_H_UU_general!C45=\"\",\"\",LDAR_H_UU_general!C45)","v":""},{"$f":"IF(COUNTIF(N$2:N123,N123)=1,N123,\"\")","v":""},{"$f":"+IF(O123=\"\",\"\",MAX(P$1:P122)+1)","v":""},"",null,{"$f":"IF(CMS_Identification!G145=\"\",\"\",CMS_Identification!G145)","v":""},{"$f":"IF(CMS_Identification!B145=\"\",\"\",CMS_Identification!B145)","v":""},{"$f":"IF(COUNTIF(S$2:S123,S123)=1,S123,\"\")","v":""},{"$f":"+IF(U123=\"\",\"\",MAX(V$1:V122)+1)","v":""},"",null,{"$f":"IF(CMS_Identification!G145=\"\",\"\",CMS_Identification!G145)","v":""},{"$f":"IF(CMS_Identification!D145=\"\",\"\",CMS_Identification!D145)","v":""},null,null,null,{"$f":"IF(CMS_Identification!B145=\"\",\"\",CMS_Identification!B145)","v":""},{"$f":"IF(CMS_Identification!G145=\"\",\"\",CMS_Identification!G145)","v":""},{"$f":"IF(CMS_Identification!D145=\"\",\"\",CMS_Identification!D145)","v":""}]
[null,null,null,null,null,null,null,null,{"$f":"IF(LDAR_TT_summary!C46=\"\",\"\",LDAR_TT_summary!C46)","v":""},{"$f":"IF(COUNTIF(I$2:I124,I124)=1,I124,\"\")","v":""},{"$f":"+IF(J124=\"\",\"\",MAX(K$1:K123)+1)","v":""},"",null,{"$f":"IF(LDAR_H_UU_general!C46=\"\",\"\",LDAR_H_UU_general!C46)","v":""},{"$f":"IF(COUNTIF(N$2:N124,N124)=1,N124,\"\")","v":""},{"$f":"+IF(O124=\"\",\"\",MAX(P$1:P123)+1)","v":""},"",null,{"$f":"IF(CMS_Identification!G146=\"\",\"\",CMS_Identification!G146)","v":""},{"$f":"IF(CMS_Identification!B146=\"\",\"\",CMS_Identification!B146)","v":""},{"$f":"IF(COUNTIF(S$2:S124,S124)=1,S124,\"\")","v":""},{"$f":"+IF(U124=\"\",\"\",MAX(V$1:V123)+1)","v":""},"",null,{"$f":"IF(CMS_Identification!G146=\"\",\"\",CMS_Identification!G146)","v":""},{"$f":"IF(CMS_Identification!D146=\"\",\"\",CMS_Identification!D146)","v":""},null,null,null,{"$f":"IF(CMS_Identification!B146=\"\",\"\",CMS_Identification!B146)","v":""},{"$f":"IF(CMS_Identification!G146=\"\",\"\",CMS_Identification!G146)","v":""},{"$f":"IF(CMS_Identification!D146=\"\",\"\",CMS_Identification!D146)","v":""}]
[null,null,null,null,null,null,null,null,{"$f":"IF(LDAR_TT_summary!C47=\"\",\"\",LDAR_TT_summary!C47)","v":""},{"$f":"IF(COUNTIF(I$2:I125,I125)=1,I125,\"\")","v":""},{"$f":"+IF(J125=\"\",\"\",MAX(K$1:K124)+1)","v":""},"",null,{"$f":"IF(LDAR_H_UU_general!C47=\"\",\"\",LDAR_H_UU_general!C47)","v":""},{"$f":"IF(COUNTIF(N$2:N125,N125)=1,N125,\"\")","v":""},{"$f":"+IF(O125=\"\",\"\",MAX(P$1:P124)+1)","v":""},"",null,{"$f":"IF(CMS_Identification!G147=\"\",\"\",CMS_Identification!G147)","v":""},{"$f":"IF(CMS_Identification!B147=\"\",\"\",CMS_Identification!B147)","v":""},{"$f":"IF(COUNTIF(S$2:S125,S125)=1,S125,\"\")","v":""},{"$f":"+IF(U125=\"\",\"\",MAX(V$1:V124)+1)","v":""},"",null,{"$f":"IF(CMS_Identification!G147=\"\",\"\",CMS_Identification!G147)","v":""},{"$f":"IF(CMS_Identification!D147=\"\",\"\",CMS_Identification!D147)","v":""},null,null,null,{"$f":"IF(CMS_Identification!B147=\"\",\"\",CMS_Identification!B147)","v":""},{"$f":"IF(CMS_Identification!G147=\"\",\"\",CMS_Identification!G147)","v":""},{"$f":"IF(CMS_Identification!D147=\"\",\"\",CMS_Identification!D147)","v":""}]
[null,null,null,null,null,null,null,null,{"$f":"IF(LDAR_TT_summary!C48=\"\",\"\",LDAR_TT_summary!C48)","v":""},{"$f":"IF(COUNTIF(I$2:I126,I126)=1,I126,\"\")","v":""},{"$f":"+IF(J126=\"\",\"\",MAX(K$1:K125)+1)","v":""},"",null,{"$f":"IF(LDAR_H_UU_general!C48=\"\",\"\",LDAR_H_UU_general!C48)","v":""},{"$f":"IF(COUNTIF(N$2:N126,N126)=1,N126,\"\")","v":""},{"$f":"+IF(O126=\"\",\"\",MAX(P$1:P125)+1)","v":""},"",null,{"$f":"IF(CMS_Identification!G148=\"\",\"\",CMS_Identification!G148)","v":""},{"$f":"IF(CMS_Identification!B148=\"\",\"\",CMS_Identification!B148)","v":""},{"$f":"IF(COUNTIF(S$2:S126,S126)=1,S126,\"\")","v":""},{"$f":"+IF(U126=\"\",\"\",MAX(V$1:V125)+1)","v":""},"",null,{"$f":"IF(CMS_Identification!G148=\"\",\"\",CMS_Identification!G148)","v":""},{"$f":"IF(CMS_Identification!D148=\"\",\"\",CMS_Identification!D148)","v":""},null,null,null,{"$f":"IF(CMS_Identification!B148=\"\",\"\",CMS_Identification!B148)","v":""},{"$f":"IF(CMS_Identification!G148=\"\",\"\",CMS_Identification!G148)","v":""},{"$f":"IF(CMS_Identification!D148=\"\",\"\",CMS_Identification!D148)","v":""}]
[null,null,null,null,null,null,null,null,{"$f":"IF(LDAR_TT_summary!C49=\"\",\"\",LDAR_TT_summary!C49)","v":""},{"$f":"IF(COUNTIF(I$2:I127,I127)=1,I127,\"\")","v":""},{"$f":"+IF(J127=\"\",\"\",MAX(K$1:K126)+1)","v":""},"",null,{"$f":"IF(LDAR_H_UU_general!C49=\"\",\"\",LDAR_H_UU_general!C49)","v":""},{"$f":"IF(COUNTIF(N$2:N127,N127)=1,N127,\"\")","v":""},{"$f":"+IF(O127=\"\",\"\",MAX(P$1:P126)+1)","v":""},"",null,{"$f":"IF(CMS_Identification!G149=\"\",\"\",CMS_Identification!G149)","v":""},{"$f":"IF(CMS_Identification!B149=\"\",\"\",CMS_Identification!B149)","v":""},{"$f":"IF(COUNTIF(S$2:S127,S127)=1,S127,\"\")","v":""},{"$f":"+IF(U127=\"\",\"\",MAX(V$1:V126)+1)","v":""},"",null,{"$f":"IF(CMS_Identification!G149=\"\",\"\",CMS_Identification!G149)","v":""},{"$f":"IF(CMS_Identification!D149=\"\",\"\",CMS_Identification!D149)","v":""},null,null,null,{"$f":"IF(CMS_Identification!B149=\"\",\"\",CMS_Identification!B149)","v":""},{"$f":"IF(CMS_Identification!G149=\"\",\"\",CMS_Identification!G149)","v":""},{"$f":"IF(CMS_Identification!D149=\"\",\"\",CMS_Identification!D149)","v":""}]
[null,null,null,null,null,null,null,null,{"$f":"IF(LDAR_TT_summary!C50=\"\",\"\",LDAR_TT_summary!C50)","v":""},{"$f":"IF(COUNTIF(I$2:I128,I128)=1,I128,\"\")","v":""},{"$f":"+IF(J128=\"\",\"\",MAX(K$1:K127)+1)","v":""},"",null,{"$f":"IF(LDAR_H_UU_general!C50=\"\",\"\",LDAR_H_UU_general!C50)","v":""},{"$f":"IF(COUNTIF(N$2:N128,N128)=1,N128,\"\")","v":""},{"$f":"+IF(O128=\"\",\"\",MAX(P$1:P127)+1)","v":""},"",null,{"$f":"IF(CMS_Identification!G150=\"\",\"\",CMS_Identification!G150)","v":""},{"$f":"IF(CMS_Identification!B150=\"\",\"\",CMS_Identification!B150)","v":""},{"$f":"IF(COUNTIF(S$2:S128,S128)=1,S128,\"\")","v":""},{"$f":"+IF(U128=\"\",\"\",MAX(V$1:V127)+1)","v":""},"",null,{"$f":"IF(CMS_Identification!G150=\"\",\"\",CMS_Identification!G150)","v":""},{"$f":"IF(CMS_Identification!D150=\"\",\"\",CMS_Identification!D150)","v":""},null,null,null,{"$f":"IF(CMS_Identification!B150=\"\",\"\",CMS_Identification!B150)","v":""},{"$f":"IF(CMS_Identification!G150=\"\",\"\",CMS_Identification!G150)","v":""},{"$f":"IF(CMS_Identification!D150=\"\",\"\",CMS_Identification!D150)","v":""}]
[null,null,null,null,null,null,null,null,{"$f":"IF(LDAR_TT_summary!C51=\"\",\"\",LDAR_TT_summary!C51)","v":""},{"$f":"IF(COUNTIF(I$2:I129,I129)=1,I129,\"\")","v":""},{"$f":"+IF(J129=\"\",\"\",MAX(K$1:K128)+1)","v":""},"",null,{"$f":"IF(LDAR_H_UU_general!C51=\"\",\"\",LDAR_H_UU_general!C51)","v":""},{"$f":"IF(COUNTIF(N$2:N129,N129)=1,N129,\"\")","v":""},{"$f":"+IF(O129=\"\",\"\",MAX(P$1:P128)+1)","v":""},"",null,{"$f":"IF(CMS_Identification!G151=\"\",\"\",CMS_Identification!G151)","v":""},{"$f":"IF(CMS_Identification!B151=\"\",\"\",CMS_Identification!B151)","v":""},{"$f":"IF(COUNTIF(S$2:S129,S129)=1,S129,\"\")","v":""},{"$f":"+IF(U129=\"\",\"\",MAX(V$1:V128)+1)","v":""},"",null,{"$f":"IF(CMS_Identification!G151=\"\",\"\",CMS_Identification!G151)","v":""},{"$f":"IF(CMS_Identification!D151=\"\",\"\",CMS_Identification!D151)","v":""},null,null,null,{"$f":"IF(CMS_Identification!B151=\"\",\"\",CMS_Identification!B151)","v":""},{"$f":"IF(CMS_Identification!G151=\"\",\"\",CMS_Identification!G151)","v":""},{"$f":"IF(CMS_Identification!D151=\"\",\"\",CMS_Identification!D151)","v":""}]
[null,null,null,null,null,null,null,null,{"$f":"IF(LDAR_TT_summary!C52=\"\",\"\",LDAR_TT_summary!C52)","v":""},{"$f":"IF(COUNTIF(I$2:I130,I130)=1,I130,\"\")","v":""},{"$f":"+IF(J130=\"\",\"\",MAX(K$1:K129)+1)","v":""},"",null,{"$f":"IF(LDAR_H_UU_general!C52=\"\",\"\",LDAR_H_UU_general!C52)","v":""},{"$f":"IF(COUNTIF(N$2:N130,N130)=1,N130,\"\")","v":""},{"$f":"+IF(O130=\"\",\"\",MAX(P$1:P129)+1)","v":""},"",null,{"$f":"IF(CMS_Identification!G152=\"\",\"\",CMS_Identification!G152)","v":""},{"$f":"IF(CMS_Identification!B152=\"\",\"\",CMS_Identification!B152)","v":""},{"$f":"IF(COUNTIF(S$2:S130,S130)=1,S130,\"\")","v":""},{"$f":"+IF(U130=\"\",\"\",MAX(V$1:V129)+1)","v":""},{"$f":"+IFERROR(INDEX($S$2:$S$501,MATCH(ROW()-ROW($V$1),$V$2:$V$501,0)),\"\")","v":""},null,{"$f":"IF(CMS_Identification!G152=\"\",\"\",CMS_Identification!G152)","v":""},{"$f":"IF(CMS_Identification!D152=\"\",\"\",CMS_Identification!D152)","v":""},null,null,null,{"$f":"IF(CMS_Identification!B152=\"\",\"\",CMS_Identification!B152)","v":""},{"$f":"IF(CMS_Identification!G152=\"\",\"\",CMS_Identification!G152)","v":""},{"$f":"IF(CMS_Identification!D152=\"\",\"\",CMS_Identification!D152)","v":""}]
[null,null,null,null,null,null,null,null,{"$f":"IF(LDAR_TT_summary!C53=\"\",\"\",LDAR_TT_summary!C53)","v":""},{"$f":"IF(COUNTIF(I$2:I131,I131)=1,I131,\"\")","v":""},{"$f":"+IF(J131=\"\",\"\",MAX(K$1:K130)+1)","v":""},{"$f":"+IFERROR(INDEX($I$2:$I$801,MATCH(ROW()-ROW($K$1),$K$2:$K$801,0)),\"\")","v":""},null,{"$f":"IF(LDAR_H_UU_general!C53=\"\",\"\",LDAR_H_UU_general!C53)","v":""},{"$f":"IF(COUNTIF(N$2:N131,N131)=1,N131,\"\")","v":""},{"$f":"+IF(O131=\"\",\"\",MAX(P$1:P130)+1)","v":""},{"$f":"+IFERROR(INDEX($N$2:$N$2001,MATCH(ROW()-ROW($P$1),$P$2:$P$2001,0)),\"\")","v":""},null,{"$f":"IF(CMS_Identification!G153=\"\",\"\",CMS_Identification!G153)","v":""},{"$f":"IF(CMS_Identification!B153=\"\",\"\",CMS_Identification!B153)","v":""},{"$f":"IF(COUNTIF(S$2:S131,S131)=1,S131,\"\")","v":""},{"$f":"+IF(U131=\"\",\"\",MAX(V$1:V130)+1)","v":""},"",null,{"$f":"IF(CMS_Identification!G153=\"\",\"\",CMS_Identification!G153)","v":""},{"$f":"IF(CMS_Identification!D153=\"\",\"\",CMS_Identification!D153)","v":""},null,null,null,{"$f":"IF(CMS_Identification!B153=\"\",\"\",CMS_Identification!B153)","v":""},{"$f":"IF(CMS_Identification!G153=\"\",\"\",CMS_Identification!G153)","v":""},{"$f":"IF(CMS_Identification!D153=\"\",\"\",CMS_Identification!D153)","v":""}]
[null,null,null,null,null,null,null,null,{"$f":"IF(LDAR_TT_summary!C54=\"\",\"\",LDAR_TT_summary!C54)","v":""},{"$f":"IF(COUNTIF(I$2:I132,I132)=1,I132,\"\")","v":""},{"$f":"+IF(J132=\"\",\"\",MAX(K$1:K131)+1)","v":""},"",null,{"$f":"IF(LDAR_H_UU_general!C54=\"\",\"\",LDAR_H_UU_general!C54)","v":""},{"$f":"IF(COUNTIF(N$2:N132,N132)=1,N132,\"\")","v":""},{"$f":"+IF(O132=\"\",\"\",MAX(P$1:P131)+1)","v":""},"",null,{"$f":"IF(CMS_Identification!G154=\"\",\"\",CMS_Identification!G154)","v":""},{"$f":"IF(CMS_Identification!B154=\"\",\"\",CMS_Identification!B154)","v":""},{"$f":"IF(COUNTIF(S$2:S132,S132)=1,S132,\"\")","v":""},{"$f":"+IF(U132=\"\",\"\",MAX(V$1:V131)+1)","v":""},"",null,{"$f":"IF(CMS_Identification!G154=\"\",\"\",CMS_Identification!G154)","v":""},{"$f":"IF(CMS_Identification!D154=\"\",\"\",CMS_Identification!D154)","v":""},null,null,null,{"$f":"IF(CMS_Identification!B154=\"\",\"\",CMS_Identification!B154)","v":""},{"$f":"IF(CMS_Identification!G154=\"\",\"\",CMS_Identification!G154)","v":""},{"$f":"IF(CMS_Identification!D154=\"\",\"\",CMS_Identification!D154)","v":""}]
[null,null,null,null,null,null,null,null,{"$f":"IF(LDAR_TT_summary!C55=\"\",\"\",LDAR_TT_summary!C55)","v":""},{"$f":"IF(COUNTIF(I$2:I133,I133)=1,I133,\"\")","v":""},{"$f":"+IF(J133=\"\",\"\",MAX(K$1:K132)+1)","v":""},"",null,{"$f":"IF(LDAR_H_UU_general!C55=\"\",\"\",LDAR_H_UU_general!C55)","v":""},{"$f":"IF(COUNTIF(N$2:N133,N133)=1,N133,\"\")","v":""},{"$f":"+IF(O133=\"\",\"\",MAX(P$1:P132)+1)","v":""},"",null,{"$f":"IF(CMS_Identification!G155=\"\",\"\",CMS_Identification!G155)","v":""},{"$f":"IF(CMS_Identification!B155=\"\",\"\",CMS_Identification!B155)","v":""},{"$f":"IF(COUNTIF(S$2:S133,S133)=1,S133,\"\")","v":""},{"$f":"+IF(U133=\"\",\"\",MAX(V$1:V132)+1)","v":""},"",null,{"$f":"IF(CMS_Identification!G155=\"\",\"\",CMS_Identification!G155)","v":""},{"$f":"IF(CMS_Identification!D155=\"\",\"\",CMS_Identification!D155)","v":""},null,null,null,{"$f":"IF(CMS_Identification!B155=\"\",\"\",CMS_Identification!B155)","v":""},{"$f":"IF(CMS_Identification!G155=\"\",\"\",CMS_Identification!G155)","v":""},{"$f":"IF(CMS_Identification!D155=\"\",\"\",CMS_Identification!D155)","v":""}]
[null,null,null,null,null,null,null,null,{"$f":"IF(LDAR_TT_summary!C56=\"\",\"\",LDAR_TT_summary!C56)","v":""},{"$f":"IF(COUNTIF(I$2:I134,I134)=1,I134,\"\")","v":""},{"$f":"+IF(J134=\"\",\"\",MAX(K$1:K133)+1)","v":""},"",null,{"$f":"IF(LDAR_H_UU_general!C56=\"\",\"\",LDAR_H_UU_general!C56)","v":""},{"$f":"IF(COUNTIF(N$2:N134,N134)=1,N134,\"\")","v":""},{"$f":"+IF(O134=\"\",\"\",MAX(P$1:P133)+1)","v":""},"",null,{"$f":"IF(CMS_Identification!G156=\"\",\"\",CMS_Identification!G156)","v":""},{"$f":"IF(CMS_Identification!B156=\"\",\"\",CMS_Identification!B156)","v":""},{"$f":"IF(COUNTIF(S$2:S134,S134)=1,S134,\"\")","v":""},{"$f":"+IF(U134=\"\",\"\",MAX(V$1:V133)+1)","v":""},"",null,{"$f":"IF(CMS_Identification!G156=\"\",\"\",CMS_Identification!G156)","v":""},{"$f":"IF(CMS_Identification!D156=\"\",\"\",CMS_Identification!D156)","v":""},null,null,null,{"$f":"IF(CMS_Identification!B156=\"\",\"\",CMS_Identification!B156)","v":""},{"$f":"IF(CMS_Identification!G156=\"\",\"\",CMS_Identification!G156)","v":""},{"$f":"IF(CMS_Identification!D156=\"\",\"\",CMS_Identification!D156)","v":""}]
[null,null,null,null,null,null,null,null,{"$f":"IF(LDAR_TT_summary!C57=\"\",\"\",LDAR_TT_summary!C57)","v":""},{"$f":"IF(COUNTIF(I$2:I135,I135)=1,I135,\"\")","v":""},{"$f":"+IF(J135=\"\",\"\",MAX(K$1:K134)+1)","v":""},"",null,{"$f":"IF(LDAR_H_UU_general!C57=\"\",\"\",LDAR_H_UU_general!C57)","v":""},{"$f":"IF(COUNTIF(N$2:N135,N135)=1,N135,\"\")","v":""},{"$f":"+IF(O135=\"\",\"\",MAX(P$1:P134)+1)","v":""},"",null,{"$f":"IF(CMS_Identification!G157=\"\",\"\",CMS_Identification!G157)","v":""},{"$f":"IF(CMS_Identification!B157=\"\",\"\",CMS_Identification!B157)","v":""},{"$f":"IF(COUNTIF(S$2:S135,S135)=1,S135,\"\")","v":""},{"$f":"+IF(U135=\"\",\"\",MAX(V$1:V134)+1)","v":""},"",null,{"$f":"IF(CMS_Identification!G157=\"\",\"\",CMS_Identification!G157)","v":""},{"$f":"IF(CMS_Identification!D157=\"\",\"\",CMS_Identification!D157)","v":""},null,null,null,{"$f":"IF(CMS_Identification!B157=\"\",\"\",CMS_Identification!B157)","v":""},{"$f":"IF(CMS_Identification!G157=\"\",\"\",CMS_Identification!G157)","v":""},{"$f":"IF(CMS_Identification!D157=\"\",\"\",CMS_Identification!D157)","v":""}]
[null,null,null,null,null,null,null,null,{"$f":"IF(LDAR_TT_summary!C58=\"\",\"\",LDAR_TT_summary!C58)","v":""},{"$f":"IF(COUNTIF(I$2:I136,I136)=1,I136,\"\")","v":""},{"$f":"+IF(J136=\"\",\"\",MAX(K$1:K135)+1)","v":""},"",null,{"$f":"IF(LDAR_H_UU_general!C58=\"\",\"\",LDAR_H_UU_general!C58)","v":""},{"$f":"IF(COUNTIF(N$2:N136,N136)=1,N136,\"\")","v":""},{"$f":"+IF(O136=\"\",\"\",MAX(P$1:P135)+1)","v":""},"",null,{"$f":"IF(CMS_Identification!G158=\"\",\"\",CMS_Identification!G158)","v":""},{"$f":"IF(CMS_Identification!B158=\"\",\"\",CMS_Identification!B158)","v":""},{"$f":"IF(COUNTIF(S$2:S136,S136)=1,S136,\"\")","v":""},{"$f":"+IF(U136=\"\",\"\",MAX(V$1:V135)+1)","v":""},"",null,{"$f":"IF(CMS_Identification!G158=\"\",\"\",CMS_Identification!G158)","v":""},{"$f":"IF(CMS_Identification!D158=\"\",\"\",CMS_Identification!D158)","v":""},null,null,null,{"$f":"IF(CMS_Identification!B158=\"\",\"\",CMS_Identification!B158)","v":""},{"$f":"IF(CMS_Identification!G158=\"\",\"\",CMS_Identification!G158)","v":""},{"$f":"IF(CMS_Identification!D158=\"\",\"\",CMS_Identification!D158)","v":""}]
[null,null,null,null,null,null,null,null,{"$f":"IF(LDAR_TT_summary!C59=\"\",\"\",LDAR_TT_summary!C59)","v":""},{"$f":"IF(COUNTIF(I$2:I137,I137)=1,I137,\"\")","v":""},{"$f":"+IF(J137=\"\",\"\",MAX(K$1:K136)+1)","v":""},"",null,{"$f":"IF(LDAR_H_UU_general!C59=\"\",\"\",LDAR_H_UU_general!C59)","v":""},{"$f":"IF(COUNTIF(N$2:N137,N137)=1,N137,\"\")","v":""},{"$f":"+IF(O137=\"\",\"\",MAX(P$1:P136)+1)","v":""},"",null,{"$f":"IF(CMS_Identification!G159=\"\",\"\",CMS_Identification!G159)","v":""},{"$f":"IF(CMS_Identification!B159=\"\",\"\",CMS_Identification!B159)","v":""},{"$f":"IF(COUNTIF(S$2:S137,S137)=1,S137,\"\")","v":""},{"$f":"+IF(U137=\"\",\"\",MAX(V$1:V136)+1)","v":""},"",null,{"$f":"IF(CMS_Identification!G159=\"\",\"\",CMS_Identification!G159)","v":""},{"$f":"IF(CMS_Identification!D159=\"\",\"\",CMS_Identification!D159)","v":""},null,null,null,{"$f":"IF(CMS_Identification!B159=\"\",\"\",CMS_Identification!B159)","v":""},{"$f":"IF(CMS_Identification!G159=\"\",\"\",CMS_Identification!G159)","v":""},{"$f":"IF(CMS_Identification!D159=\"\",\"\",CMS_Identification!D159)","v":""}]
[null,null,null,null,null,null,null,null,{"$f":"IF(LDAR_TT_summary!C60=\"\",\"\",LDAR_TT_summary!C60)","v":""},{"$f":"IF(COUNTIF(I$2:I138,I138)=1,I138,\"\")","v":""},{"$f":"+IF(J138=\"\",\"\",MAX(K$1:K137)+1)","v":""},"",null,{"$f":"IF(LDAR_H_UU_general!C60=\"\",\"\",LDAR_H_UU_general!C60)","v":""},{"$f":"IF(COUNTIF(N$2:N138,N138)=1,N138,\"\")","v":""},{"$f":"+IF(O138=\"\",\"\",MAX(P$1:P137)+1)","v":""},"",null,{"$f":"IF(CMS_Identification!G160=\"\",\"\",CMS_Identification!G160)","v":""},{"$f":"IF(CMS_Identification!B160=\"\",\"\",CMS_Identification!B160)","v":""},{"$f":"IF(COUNTIF(S$2:S138,S138)=1,S138,\"\")","v":""},{"$f":"+IF(U138=\"\",\"\",MAX(V$1:V137)+1)","v":""},"",null,{"$f":"IF(CMS_Identification!G160=\"\",\"\",CMS_Identification!G160)","v":""},{"$f":"IF(CMS_Identification!D160=\"\",\"\",CMS_Identification!D160)","v":""},null,null,null,{"$f":"IF(CMS_Identification!B160=\"\",\"\",CMS_Identification!B160)","v":""},{"$f":"IF(CMS_Identification!G160=\"\",\"\",CMS_Identification!G160)","v":""},{"$f":"IF(CMS_Identification!D160=\"\",\"\",CMS_Identification!D160)","v":""}]
[null,null,null,null,null,null,null,null,{"$f":"IF(LDAR_TT_summary!C61=\"\",\"\",LDAR_TT_summary!C61)","v":""},{"$f":"IF(COUNTIF(I$2:I139,I139)=1,I139,\"\")","v":""},{"$f":"+IF(J139=\"\",\"\",MAX(K$1:K138)+1)","v":""},"",null,{"$f":"IF(LDAR_H_UU_general!C61=\"\",\"\",LDAR_H_UU_general!C61)","v":""},{"$f":"IF(COUNTIF(N$2:N139,N139)=1,N139,\"\")","v":""},{"$f":"+IF(O139=\"\",\"\",MAX(P$1:P138)+1)","v":""},"",null,{"$f":"IF(CMS_Identification!G161=\"\",\"\",CMS_Identification!G161)","v":""},{"$f":"IF(CMS_Identification!B161=\"\",\"\",CMS_Identification!B161)","v":""},{"$f":"IF(COUNTIF(S$2:S139,S139)=1,S139,\"\")","v":""},{"$f":"+IF(U139=\"\",\"\",MAX(V$1:V138)+1)","v":""},"",null,{"$f":"IF(CMS_Identification!G161=\"\",\"\",CMS_Identification!G161)","v":""},{"$f":"IF(CMS_Identification!D161=\"\",\"\",CMS_Identification!D161)","v":""},null,null,null,{"$f":"IF(CMS_Identification!B161=\"\",\"\",CMS_Identification!B161)","v":""},{"$f":"IF(CMS_Identification!G161=\"\",\"\",CMS_Identification!G161)","v":""},{"$f":"IF(CMS_Identification!D161=\"\",\"\",CMS_Identification!D161)","v":""}]
[null,null,null,null,null,null,null,null,{"$f":"IF(LDAR_TT_summary!C62=\"\",\"\",LDAR_TT_summary!C62)","v":""},{"$f":"IF(COUNTIF(I$2:I140,I140)=1,I140,\"\")","v":""},{"$f":"+IF(J140=\"\",\"\",MAX(K$1:K139)+1)","v":""},"",null,{"$f":"IF(LDAR_H_UU_general!C62=\"\",\"\",LDAR_H_UU_general!C62)","v":""},{"$f":"IF(COUNTIF(N$2:N140,N140)=1,N140,\"\")","v":""},{"$f":"+IF(O140=\"\",\"\",MAX(P$1:P139)+1)","v":""},"",null,{"$f":"IF(CMS_Identification!G162=\"\",\"\",CMS_Identification!G162)","v":""},{"$f":"IF(CMS_Identification!B162=\"\",\"\",CMS_Identification!B162)","v":""},{"$f":"IF(COUNTIF(S$2:S140,S140)=1,S140,\"\")","v":""},{"$f":"+IF(U140=\"\",\"\",MAX(V$1:V139)+1)","v":""},"",null,{"$f":"IF(CMS_Identification!G162=\"\",\"\",CMS_Identification!G162)","v":""},{"$f":"IF(CMS_Identification!D162=\"\",\"\",CMS_Identification!D162)","v":""},null,null,null,{"$f":"IF(CMS_Identification!B162=\"\",\"\",CMS_Identification!B162)","v":""},{"$f":"IF(CMS_Identification!G162=\"\",\"\",CMS_Identification!G162)","v":""},{"$f":"IF(CMS_Identification!D162=\"\",\"\",CMS_Identification!D162)","v":""}]
[null,null,null,null,null,null,null,null,{"$f":"IF(LDAR_TT_summary!C63=\"\",\"\",LDAR_TT_summary!C63)","v":""},{"$f":"IF(COUNTIF(I$2:I141,I141)=1,I141,\"\")","v":""},{"$f":"+IF(J141=\"\",\"\",MAX(K$1:K140)+1)","v":""},"",null,{"$f":"IF(LDAR_H_UU_general!C63=\"\",\"\",LDAR_H_UU_general!C63)","v":""},{"$f":"IF(COUNTIF(N$2:N141,N141)=1,N141,\"\")","v":""},{"$f":"+IF(O141=\"\",\"\",MAX(P$1:P140)+1)","v":""},"",null,{"$f":"IF(CMS_Identification!G163=\"\",\"\",CMS_Identification!G163)","v":""},{"$f":"IF(CMS_Identification!B163=\"\",\"\",CMS_Identification!B163)","v":""},{"$f":"IF(COUNTIF(S$2:S141,S141)=1,S141,\"\")","v":""},{"$f":"+IF(U141=\"\",\"\",MAX(V$1:V140)+1)","v":""},"",null,{"$f":"IF(CMS_Identification!G163=\"\",\"\",CMS_Identification!G163)","v":""},{"$f":"IF(CMS_Identification!D163=\"\",\"\",CMS_Identification!D163)","v":""},null,null,null,{"$f":"IF(CMS_Identification!B163=\"\",\"\",CMS_Identification!B163)","v":""},{"$f":"IF(CMS_Identification!G163=\"\",\"\",CMS_Identification!G163)","v":""},{"$f":"IF(CMS_Identification!D163=\"\",\"\",CMS_Identification!D163)","v":""}]
[null,null,null,null,null,null,null,null,{"$f":"IF(LDAR_TT_summary!C64=\"\",\"\",LDAR_TT_summary!C64)","v":""},{"$f":"IF(COUNTIF(I$2:I142,I142)=1,I142,\"\")","v":""},{"$f":"+IF(J142=\"\",\"\",MAX(K$1:K141)+1)","v":""},"",null,{"$f":"IF(LDAR_H_UU_general!C64=\"\",\"\",LDAR_H_UU_general!C64)","v":""},{"$f":"IF(COUNTIF(N$2:N142,N142)=1,N142,\"\")","v":""},{"$f":"+IF(O142=\"\",\"\",MAX(P$1:P141)+1)","v":""},"",null,{"$f":"IF(CMS_Identification!G164=\"\",\"\",CMS_Identification!G164)","v":""},{"$f":"IF(CMS_Identification!B164=\"\",\"\",CMS_Identification!B164)","v":""},{"$f":"IF(COUNTIF(S$2:S142,S142)=1,S142,\"\")","v":""},{"$f":"+IF(U142=\"\",\"\",MAX(V$1:V141)+1)","v":""},"",null,{"$f":"IF(CMS_Identification!G164=\"\",\"\",CMS_Identification!G164)","v":""},{"$f":"IF(CMS_Identification!D164=\"\",\"\",CMS_Identification!D164)","v":""},null,null,null,{"$f":"IF(CMS_Identification!B164=\"\",\"\",CMS_Identification!B164)","v":""},{"$f":"IF(CMS_Identification!G164=\"\",\"\",CMS_Identification!G164)","v":""},{"$f":"IF(CMS_Identification!D164=\"\",\"\",CMS_Identification!D164)","v":""}]
[null,null,null,null,null,null,null,null,{"$f":"IF(LDAR_TT_summary!C65=\"\",\"\",LDAR_TT_summary!C65)","v":""},{"$f":"IF(COUNTIF(I$2:I143,I143)=1,I143,\"\")","v":""},{"$f":"+IF(J143=\"\",\"\",MAX(K$1:K142)+1)","v":""},"",null,{"$f":"IF(LDAR_H_UU_general!C65=\"\",\"\",LDAR_H_UU_general!C65)","v":""},{"$f":"IF(COUNTIF(N$2:N143,N143)=1,N143,\"\")","v":""},{"$f":"+IF(O143=\"\",\"\",MAX(P$1:P142)+1)","v":""},"",null,{"$f":"IF(CMS_Identification!G165=\"\",\"\",CMS_Identification!G165)","v":""},{"$f":"IF(CMS_Identification!B165=\"\",\"\",CMS_Identification!B165)","v":""},{"$f":"IF(COUNTIF(S$2:S143,S143)=1,S143,\"\")","v":""},{"$f":"+IF(U143=\"\",\"\",MAX(V$1:V142)+1)","v":""},"",null,{"$f":"IF(CMS_Identification!G165=\"\",\"\",CMS_Identification!G165)","v":""},{"$f":"IF(CMS_Identification!D165=\"\",\"\",CMS_Identification!D165)","v":""},null,null,null,{"$f":"IF(CMS_Identification!B165=\"\",\"\",CMS_Identification!B165)","v":""},{"$f":"IF(CMS_Identification!G165=\"\",\"\",CMS_Identification!G165)","v":""},{"$f":"IF(CMS_Identification!D165=\"\",\"\",CMS_Identification!D165)","v":""}]
[null,null,null,null,null,null,null,null,{"$f":"IF(LDAR_TT_summary!C66=\"\",\"\",LDAR_TT_summary!C66)","v":""},{"$f":"IF(COUNTIF(I$2:I144,I144)=1,I144,\"\")","v":""},{"$f":"+IF(J144=\"\",\"\",MAX(K$1:K143)+1)","v":""},"",null,{"$f":"IF(LDAR_H_UU_general!C66=\"\",\"\",LDAR_H_UU_general!C66)","v":""},{"$f":"IF(COUNTIF(N$2:N144,N144)=1,N144,\"\")","v":""},{"$f":"+IF(O144=\"\",\"\",MAX(P$1:P143)+1)","v":""},"",null,{"$f":"IF(CMS_Identification!G166=\"\",\"\",CMS_Identification!G166)","v":""},{"$f":"IF(CMS_Identification!B166=\"\",\"\",CMS_Identification!B166)","v":""},{"$f":"IF(COUNTIF(S$2:S144,S144)=1,S144,\"\")","v":""},{"$f":"+IF(U144=\"\",\"\",MAX(V$1:V143)+1)","v":""},"",null,{"$f":"IF(CMS_Identification!G166=\"\",\"\",CMS_Identification!G166)","v":""},{"$f":"IF(CMS_Identification!D166=\"\",\"\",CMS_Identification!D166)","v":""},null,null,null,{"$f":"IF(CMS_Identification!B166=\"\",\"\",CMS_Identification!B166)","v":""},{"$f":"IF(CMS_Identification!G166=\"\",\"\",CMS_Identification!G166)","v":""},{"$f":"IF(CMS_Identification!D166=\"\",\"\",CMS_Identification!D166)","v":""}]
[null,null,null,null,null,null,null,null,{"$f":"IF(LDAR_TT_summary!C67=\"\",\"\",LDAR_TT_summary!C67)","v":""},{"$f":"IF(COUNTIF(I$2:I145,I145)=1,I145,\"\")","v":""},{"$f":"+IF(J145=\"\",\"\",MAX(K$1:K144)+1)","v":""},"",null,{"$f":"IF(LDAR_H_UU_general!C67=\"\",\"\",LDAR_H_UU_general!C67)","v":""},{"$f":"IF(COUNTIF(N$2:N145,N145)=1,N145,\"\")","v":""},{"$f":"+IF(O145=\"\",\"\",MAX(P$1:P144)+1)","v":""},"",null,{"$f":"IF(CMS_Identification!G167=\"\",\"\",CMS_Identification!G167)","v":""},{"$f":"IF(CMS_Identification!B167=\"\",\"\",CMS_Identification!B167)","v":""},{"$f":"IF(COUNTIF(S$2:S145,S145)=1,S145,\"\")","v":""},{"$f":"+IF(U145=\"\",\"\",MAX(V$1:V144)+1)","v":""},"",null,{"$f":"IF(CMS_Identification!G167=\"\",\"\",CMS_Identification!G167)","v":""},{"$f":"IF(CMS_Identification!D167=\"\",\"\",CMS_Identification!D167)","v":""},null,null,null,{"$f":"IF(CMS_Identification!B167=\"\",\"\",CMS_Identification!B167)","v":""},{"$f":"IF(CMS_Identification!G167=\"\",\"\",CMS_Identification!G167)","v":""},{"$f":"IF(CMS_Identification!D167=\"\",\"\",CMS_Identification!D167)","v":""}]
[null,null,null,null,null,null,null,null,{"$f":"IF(LDAR_TT_summary!C68=\"\",\"\",LDAR_TT_summary!C68)","v":""},{"$f":"IF(COUNTIF(I$2:I146,I146)=1,I146,\"\")","v":""},{"$f":"+IF(J146=\"\",\"\",MAX(K$1:K145)+1)","v":""},"",null,{"$f":"IF(LDAR_H_UU_general!C68=\"\",\"\",LDAR_H_UU_general!C68)","v":""},{"$f":"IF(COUNTIF(N$2:N146,N146)=1,N146,\"\")","v":""},{"$f":"+IF(O146=\"\",\"\",MAX(P$1:P145)+1)","v":""},"",null,{"$f":"IF(CMS_Identification!G168=\"\",\"\",CMS_Identification!G168)","v":""},{"$f":"IF(CMS_Identification!B168=\"\",\"\",CMS_Identification!B168)","v":""},{"$f":"IF(COUNTIF(S$2:S146,S146)=1,S146,\"\")","v":""},{"$f":"+IF(U146=\"\",\"\",MAX(V$1:V145)+1)","v":""},"",null,{"$f":"IF(CMS_Identification!G168=\"\",\"\",CMS_Identification!G168)","v":""},{"$f":"IF(CMS_Identification!D168=\"\",\"\",CMS_Identification!D168)","v":""},null,null,null,{"$f":"IF(CMS_Identification!B168=\"\",\"\",CMS_Identification!B168)","v":""},{"$f":"IF(CMS_Identification!G168=\"\",\"\",CMS_Identification!G168)","v":""},{"$f":"IF(CMS_Identification!D168=\"\",\"\",CMS_Identification!D168)","v":""}]
[null,null,null,null,null,null,null,null,{"$f":"IF(LDAR_TT_summary!C69=\"\",\"\",LDAR_TT_summary!C69)","v":""},{"$f":"IF(COUNTIF(I$2:I147,I147)=1,I147,\"\")","v":""},{"$f":"+IF(J147=\"\",\"\",MAX(K$1:K146)+1)","v":""},"",null,{"$f":"IF(LDAR_H_UU_general!C69=\"\",\"\",LDAR_H_UU_general!C69)","v":""},{"$f":"IF(COUNTIF(N$2:N147,N147)=1,N147,\"\")","v":""},{"$f":"+IF(O147=\"\",\"\",MAX(P$1:P146)+1)","v":""},"",null,{"$f":"IF(CMS_Identification!G169=\"\",\"\",CMS_Identification!G169)","v":""},{"$f":"IF(CMS_Identification!B169=\"\",\"\",CMS_Identification!B169)","v":""},{"$f":"IF(COUNTIF(S$2:S147,S147)=1,S147,\"\")","v":""},{"$f":"+IF(U147=\"\",\"\",MAX(V$1:V146)+1)","v":""},"",null,{"$f":"IF(CMS_Identification!G169=\"\",\"\",CMS_Identification!G169)","v":""},{"$f":"IF(CMS_Identification!D169=\"\",\"\",CMS_Identification!D169)","v":""},null,null,null,{"$f":"IF(CMS_Identification!B169=\"\",\"\",CMS_Identification!B169)","v":""},{"$f":"IF(CMS_Identification!G169=\"\",\"\",CMS_Identification!G169)","v":""},{"$f":"IF(CMS_Identification!D169=\"\",\"\",CMS_Identification!D169)","v":""}]
[null,null,null,null,null,null,null,null,{"$f":"IF(LDAR_TT_summary!C70=\"\",\"\",LDAR_TT_summary!C70)","v":""},{"$f":"IF(COUNTIF(I$2:I148,I148)=1,I148,\"\")","v":""},{"$f":"+IF(J148=\"\",\"\",MAX(K$1:K147)+1)","v":""},"",null,{"$f":"IF(LDAR_H_UU_general!C70=\"\",\"\",LDAR_H_UU_general!C70)","v":""},{"$f":"IF(COUNTIF(N$2:N148,N148)=1,N148,\"\")","v":""},{"$f":"+IF(O148=\"\",\"\",MAX(P$1:P147)+1)","v":""},"",null,{"$f":"IF(CMS_Identification!G170=\"\",\"\",CMS_Identification!G170)","v":""},{"$f":"IF(CMS_Identification!B170=\"\",\"\",CMS_Identification!B170)","v":""},{"$f":"IF(COUNTIF(S$2:S148,S148)=1,S148,\"\")","v":""},{"$f":"+IF(U148=\"\",\"\",MAX(V$1:V147)+1)","v":""},"",null,{"$f":"IF(CMS_Identification!G170=\"\",\"\",CMS_Identification!G170)","v":""},{"$f":"IF(CMS_Identification!D170=\"\",\"\",CMS_Identification!D170)","v":""},null,null,null,{"$f":"IF(CMS_Identification!B170=\"\",\"\",CMS_Identification!B170)","v":""},{"$f":"IF(CMS_Identification!G170=\"\",\"\",CMS_Identification!G170)","v":""},{"$f":"IF(CMS_Identification!D170=\"\",\"\",CMS_Identification!D170)","v":""}]
[null,null,null,null,null,null,null,null,{"$f":"IF(LDAR_TT_summary!C71=\"\",\"\",LDAR_TT_summary!C71)","v":""},{"$f":"IF(COUNTIF(I$2:I149,I149)=1,I149,\"\")","v":""},{"$f":"+IF(J149=\"\",\"\",MAX(K$1:K148)+1)","v":""},"",null,{"$f":"IF(LDAR_H_UU_general!C71=\"\",\"\",LDAR_H_UU_general!C71)","v":""},{"$f":"IF(COUNTIF(N$2:N149,N149)=1,N149,\"\")","v":""},{"$f":"+IF(O149=\"\",\"\",MAX(P$1:P148)+1)","v":""},"",null,{"$f":"IF(CMS_Identification!G171=\"\",\"\",CMS_Identification!G171)","v":""},{"$f":"IF(CMS_Identification!B171=\"\",\"\",CMS_Identification!B171)","v":""},{"$f":"IF(COUNTIF(S$2:S149,S149)=1,S149,\"\")","v":""},{"$f":"+IF(U149=\"\",\"\",MAX(V$1:V148)+1)","v":""},"",null,{"$f":"IF(CMS_Identification!G171=\"\",\"\",CMS_Identification!G171)","v":""},{"$f":"IF(CMS_Identification!D171=\"\",\"\",CMS_Identification!D171)","v":""},null,null,null,{"$f":"IF(CMS_Identification!B171=\"\",\"\",CMS_Identification!B171)","v":""},{"$f":"IF(CMS_Identification!G171=\"\",\"\",CMS_Identification!G171)","v":""},{"$f":"IF(CMS_Identification!D171=\"\",\"\",CMS_Identification!D171)","v":""}]
[null,null,null,null,null,null,null,null,{"$f":"IF(LDAR_TT_summary!C72=\"\",\"\",LDAR_TT_summary!C72)","v":""},{"$f":"IF(COUNTIF(I$2:I150,I150)=1,I150,\"\")","v":""},{"$f":"+IF(J150=\"\",\"\",MAX(K$1:K149)+1)","v":""},"",null,{"$f":"IF(LDAR_H_UU_general!C72=\"\",\"\",LDAR_H_UU_general!C72)","v":""},{"$f":"IF(COUNTIF(N$2:N150,N150)=1,N150,\"\")","v":""},{"$f":"+IF(O150=\"\",\"\",MAX(P$1:P149)+1)","v":""},"",null,{"$f":"IF(CMS_Identification!G172=\"\",\"\",CMS_Identification!G172)","v":""},{"$f":"IF(CMS_Identification!B172=\"\",\"\",CMS_Identification!B172)","v":""},{"$f":"IF(COUNTIF(S$2:S150,S150)=1,S150,\"\")","v":""},{"$f":"+IF(U150=\"\",\"\",MAX(V$1:V149)+1)","v":""},"",null,{"$f":"IF(CMS_Identification!G172=\"\",\"\",CMS_Identification!G172)","v":""},{"$f":"IF(CMS_Identification!D172=\"\",\"\",CMS_Identification!D172)","v":""},null,null,null,{"$f":"IF(CMS_Identification!B172=\"\",\"\",CMS_Identification!B172)","v":""},{"$f":"IF(CMS_Identification!G172=\"\",\"\",CMS_Identification!G172)","v":""},{"$f":"IF(CMS_Identification!D172=\"\",\"\",CMS_Identification!D172)","v":""}]
[null,null,null,null,null,null,null,null,{"$f":"IF(LDAR_TT_summary!C73=\"\",\"\",LDAR_TT_summary!C73)","v":""},{"$f":"IF(COUNTIF(I$2:I151,I151)=1,I151,\"\")","v":""},{"$f":"+IF(J151=\"\",\"\",MAX(K$1:K150)+1)","v":""},"",null,{"$f":"IF(LDAR_H_UU_general!C73=\"\",\"\",LDAR_H_UU_general!C73)","v":""},{"$f":"IF(COUNTIF(N$2:N151,N151)=1,N151,\"\")","v":""},{"$f":"+IF(O151=\"\",\"\",MAX(P$1:P150)+1)","v":""},"",null,{"$f":"IF(CMS_Identification!G173=\"\",\"\",CMS_Identification!G173)","v":""},{"$f":"IF(CMS_Identification!B173=\"\",\"\",CMS_Identification!B173)","v":""},{"$f":"IF(COUNTIF(S$2:S151,S151)=1,S151,\"\")","v":""},{"$f":"+IF(U151=\"\",\"\",MAX(V$1:V150)+1)","v":""},"",null,{"$f":"IF(CMS_Identification!G173=\"\",\"\",CMS_Identification!G173)","v":""},{"$f":"IF(CMS_Identification!D173=\"\",\"\",CMS_Identification!D173)","v":""},null,null,null,{"$f":"IF(CMS_Identification!B173=\"\",\"\",CMS_Identification!B173)","v":""},{"$f":"IF(CMS_Identification!G173=\"\",\"\",CMS_Identification!G173)","v":""},{"$f":"IF(CMS_Identification!D173=\"\",\"\",CMS_Identification!D173)","v":""}]
[null,null,null,null,null,null,null,null,{"$f":"IF(LDAR_TT_summary!C74=\"\",\"\",LDAR_TT_summary!C74)","v":""},{"$f":"IF(COUNTIF(I$2:I152,I152)=1,I152,\"\")","v":""},{"$f":"+IF(J152=\"\",\"\",MAX(K$1:K151)+1)","v":""},"",null,{"$f":"IF(LDAR_H_UU_general!C74=\"\",\"\",LDAR_H_UU_general!C74)","v":""},{"$f":"IF(COUNTIF(N$2:N152,N152)=1,N152,\"\")","v":""},{"$f":"+IF(O152=\"\",\"\",MAX(P$1:P151)+1)","v":""},"",null,{"$f":"IF(CMS_Identification!G174=\"\",\"\",CMS_Identification!G174)","v":""},{"$f":"IF(CMS_Identification!B174=\"\",\"\",CMS_Identification!B174)","v":""},{"$f":"IF(COUNTIF(S$2:S152,S152)=1,S152,\"\")","v":""},{"$f":"+IF(U152=\"\",\"\",MAX(V$1:V151)+1)","v":""},"",null,{"$f":"IF(CMS_Identification!G174=\"\",\"\",CMS_Identification!G174)","v":""},{"$f":"IF(CMS_Identification!D174=\"\",\"\",CMS_Identification!D174)","v":""},null,null,null,{"$f":"IF(CMS_Identification!B174=\"\",\"\",CMS_Identification!B174)","v":""},{"$f":"IF(CMS_Identification!G174=\"\",\"\",CMS_Identification!G174)","v":""},{"$f":"IF(CMS_Identification!D174=\"\",\"\",CMS_Identification!D174)","v":""}]
[null,null,null,null,null,null,null,null,{"$f":"IF(LDAR_TT_summary!C75=\"\",\"\",LDAR_TT_summary!C75)","v":""},{"$f":"IF(COUNTIF(I$2:I153,I153)=1,I153,\"\")","v":""},{"$f":"+IF(J153=\"\",\"\",MAX(K$1:K152)+1)","v":""},"",null,{"$f":"IF(LDAR_H_UU_general!C75=\"\",\"\",LDAR_H_UU_general!C75)","v":""},{"$f":"IF(COUNTIF(N$2:N153,N153)=1,N153,\"\")","v":""},{"$f":"+IF(O153=\"\",\"\",MAX(P$1:P152)+1)","v":""},"",null,{"$f":"IF(CMS_Identification!G175=\"\",\"\",CMS_Identification!G175)","v":""},{"$f":"IF(CMS_Identification!B175=\"\",\"\",CMS_Identification!B175)","v":""},{"$f":"IF(COUNTIF(S$2:S153,S153)=1,S153,\"\")","v":""},{"$f":"+IF(U153=\"\",\"\",MAX(V$1:V152)+1)","v":""},"",null,{"$f":"IF(CMS_Identification!G175=\"\",\"\",CMS_Identification!G175)","v":""},{"$f":"IF(CMS_Identification!D175=\"\",\"\",CMS_Identification!D175)","v":""},null,null,null,{"$f":"IF(CMS_Identification!B175=\"\",\"\",CMS_Identification!B175)","v":""},{"$f":"IF(CMS_Identification!G175=\"\",\"\",CMS_Identification!G175)","v":""},{"$f":"IF(CMS_Identification!D175=\"\",\"\",CMS_Identification!D175)","v":""}]
[null,null,null,null,null,null,null,null,{"$f":"IF(LDAR_TT_summary!C76=\"\",\"\",LDAR_TT_summary!C76)","v":""},{"$f":"IF(COUNTIF(I$2:I154,I154)=1,I154,\"\")","v":""},{"$f":"+IF(J154=\"\",\"\",MAX(K$1:K153)+1)","v":""},"",null,{"$f":"IF(LDAR_H_UU_general!C76=\"\",\"\",LDAR_H_UU_general!C76)","v":""},{"$f":"IF(COUNTIF(N$2:N154,N154)=1,N154,\"\")","v":""},{"$f":"+IF(O154=\"\",\"\",MAX(P$1:P153)+1)","v":""},"",null,{"$f":"IF(CMS_Identification!G176=\"\",\"\",CMS_Identification!G176)","v":""},{"$f":"IF(CMS_Identification!B176=\"\",\"\",CMS_Identification!B176)","v":""},{"$f":"IF(COUNTIF(S$2:S154,S154)=1,S154,\"\")","v":""},{"$f":"+IF(U154=\"\",\"\",MAX(V$1:V153)+1)","v":""},"",null,{"$f":"IF(CMS_Identification!G176=\"\",\"\",CMS_Identification!G176)","v":""},{"$f":"IF(CMS_Identification!D176=\"\",\"\",CMS_Identification!D176)","v":""},null,null,null,{"$f":"IF(CMS_Identification!B176=\"\",\"\",CMS_Identification!B176)","v":""},{"$f":"IF(CMS_Identification!G176=\"\",\"\",CMS_Identification!G176)","v":""},{"$f":"IF(CMS_Identification!D176=\"\",\"\",CMS_Identification!D176)","v":""}]
[null,null,null,null,null,null,null,null,{"$f":"IF(LDAR_TT_summary!C77=\"\",\"\",LDAR_TT_summary!C77)","v":""},{"$f":"IF(COUNTIF(I$2:I155,I155)=1,I155,\"\")","v":""},{"$f":"+IF(J155=\"\",\"\",MAX(K$1:K154)+1)","v":""},"",null,{"$f":"IF(LDAR_H_UU_general!C77=\"\",\"\",LDAR_H_UU_general!C77)","v":""},{"$f":"IF(COUNTIF(N$2:N155,N155)=1,N155,\"\")","v":""},{"$f":"+IF(O155=\"\",\"\",MAX(P$1:P154)+1)","v":""},"",null,{"$f":"IF(CMS_Identification!G177=\"\",\"\",CMS_Identification!G177)","v":""},{"$f":"IF(CMS_Identification!B177=\"\",\"\",CMS_Identification!B177)","v":""},{"$f":"IF(COUNTIF(S$2:S155,S155)=1,S155,\"\")","v":""},{"$f":"+IF(U155=\"\",\"\",MAX(V$1:V154)+1)","v":""},"",null,{"$f":"IF(CMS_Identification!G177=\"\",\"\",CMS_Identification!G177)","v":""},{"$f":"IF(CMS_Identification!D177=\"\",\"\",CMS_Identification!D177)","v":""},null,null,null,{"$f":"IF(CMS_Identification!B177=\"\",\"\",CMS_Identification!B177)","v":""},{"$f":"IF(CMS_Identification!G177=\"\",\"\",CMS_Identification!G177)","v":""},{"$f":"IF(CMS_Identification!D177=\"\",\"\",CMS_Identification!D177)","v":""}]
[null,null,null,null,null,null,null,null,{"$f":"IF(LDAR_TT_summary!C78=\"\",\"\",LDAR_TT_summary!C78)","v":""},{"$f":"IF(COUNTIF(I$2:I156,I156)=1,I156,\"\")","v":""},{"$f":"+IF(J156=\"\",\"\",MAX(K$1:K155)+1)","v":""},"",null,{"$f":"IF(LDAR_H_UU_general!C78=\"\",\"\",LDAR_H_UU_general!C78)","v":""},{"$f":"IF(COUNTIF(N$2:N156,N156)=1,N156,\"\")","v":""},{"$f":"+IF(O156=\"\",\"\",MAX(P$1:P155)+1)","v":""},"",null,{"$f":"IF(CMS_Identification!G178=\"\",\"\",CMS_Identification!G178)","v":""},{"$f":"IF(CMS_Identification!B178=\"\",\"\",CMS_Identification!B178)","v":""},{"$f":"IF(COUNTIF(S$2:S156,S156)=1,S156,\"\")","v":""},{"$f":"+IF(U156=\"\",\"\",MAX(V$1:V155)+1)","v":""},"",null,{"$f":"IF(CMS_Identification!G178=\"\",\"\",CMS_Identification!G178)","v":""},{"$f":"IF(CMS_Identification!D178=\"\",\"\",CMS_Identification!D178)","v":""},null,null,null,{"$f":"IF(CMS_Identification!B178=\"\",\"\",CMS_Identification!B178)","v":""},{"$f":"IF(CMS_Identification!G178=\"\",\"\",CMS_Identification!G178)","v":""},{"$f":"IF(CMS_Identification!D178=\"\",\"\",CMS_Identification!D178)","v":""}]
[null,null,null,null,null,null,null,null,{"$f":"IF(LDAR_TT_summary!C79=\"\",\"\",LDAR_TT_summary!C79)","v":""},{"$f":"IF(COUNTIF(I$2:I157,I157)=1,I157,\"\")","v":""},{"$f":"+IF(J157=\"\",\"\",MAX(K$1:K156)+1)","v":""},"",null,{"$f":"IF(LDAR_H_UU_general!C79=\"\",\"\",LDAR_H_UU_general!C79)","v":""},{"$f":"IF(COUNTIF(N$2:N157,N157)=1,N157,\"\")","v":""},{"$f":"+IF(O157=\"\",\"\",MAX(P$1:P156)+1)","v":""},"",null,{"$f":"IF(CMS_Identification!G179=\"\",\"\",CMS_Identification!G179)","v":""},{"$f":"IF(CMS_Identification!B179=\"\",\"\",CMS_Identification!B179)","v":""},{"$f":"IF(COUNTIF(S$2:S157,S157)=1,S157,\"\")","v":""},{"$f":"+IF(U157=\"\",\"\",MAX(V$1:V156)+1)","v":""},"",null,{"$f":"IF(CMS_Identification!G179=\"\",\"\",CMS_Identification!G179)","v":""},{"$f":"IF(CMS_Identification!D179=\"\",\"\",CMS_Identification!D179)","v":""},null,null,null,{"$f":"IF(CMS_Identification!B179=\"\",\"\",CMS_Identification!B179)","v":""},{"$f":"IF(CMS_Identification!G179=\"\",\"\",CMS_Identification!G179)","v":""},{"$f":"IF(CMS_Identification!D179=\"\",\"\",CMS_Identification!D179)","v":""}]
[null,null,null,null,null,null,null,null,{"$f":"IF(LDAR_TT_summary!C80=\"\",\"\",LDAR_TT_summary!C80)","v":""},{"$f":"IF(COUNTIF(I$2:I158,I158)=1,I158,\"\")","v":""},{"$f":"+IF(J158=\"\",\"\",MAX(K$1:K157)+1)","v":""},"",null,{"$f":"IF(LDAR_H_UU_general!C80=\"\",\"\",LDAR_H_UU_general!C80)","v":""},{"$f":"IF(COUNTIF(N$2:N158,N158)=1,N158,\"\")","v":""},{"$f":"+IF(O158=\"\",\"\",MAX(P$1:P157)+1)","v":""},"",null,{"$f":"IF(CMS_Identification!G180=\"\",\"\",CMS_Identification!G180)","v":""},{"$f":"IF(CMS_Identification!B180=\"\",\"\",CMS_Identification!B180)","v":""},{"$f":"IF(COUNTIF(S$2:S158,S158)=1,S158,\"\")","v":""},{"$f":"+IF(U158=\"\",\"\",MAX(V$1:V157)+1)","v":""},"",null,{"$f":"IF(CMS_Identification!G180=\"\",\"\",CMS_Identification!G180)","v":""},{"$f":"IF(CMS_Identification!D180=\"\",\"\",CMS_Identification!D180)","v":""},null,null,null,{"$f":"IF(CMS_Identification!B180=\"\",\"\",CMS_Identification!B180)","v":""},{"$f":"IF(CMS_Identification!G180=\"\",\"\",CMS_Identification!G180)","v":""},{"$f":"IF(CMS_Identification!D180=\"\",\"\",CMS_Identification!D180)","v":""}]
[null,null,null,null,null,null,null,null,{"$f":"IF(LDAR_TT_summary!C81=\"\",\"\",LDAR_TT_summary!C81)","v":""},{"$f":"IF(COUNTIF(I$2:I159,I159)=1,I159,\"\")","v":""},{"$f":"+IF(J159=\"\",\"\",MAX(K$1:K158)+1)","v":""},"",null,{"$f":"IF(LDAR_H_UU_general!C81=\"\",\"\",LDAR_H_UU_general!C81)","v":""},{"$f":"IF(COUNTIF(N$2:N159,N159)=1,N159,\"\")","v":""},{"$f":"+IF(O159=\"\",\"\",MAX(P$1:P158)+1)","v":""},"",null,{"$f":"IF(CMS_Identification!G181=\"\",\"\",CMS_Identification!G181)","v":""},{"$f":"IF(CMS_Identification!B181=\"\",\"\",CMS_Identification!B181)","v":""},{"$f":"IF(COUNTIF(S$2:S159,S159)=1,S159,\"\")","v":""},{"$f":"+IF(U159=\"\",\"\",MAX(V$1:V158)+1)","v":""},"",null,{"$f":"IF(CMS_Identification!G181=\"\",\"\",CMS_Identification!G181)","v":""},{"$f":"IF(CMS_Identification!D181=\"\",\"\",CMS_Identification!D181)","v":""},null,null,null,{"$f":"IF(CMS_Identification!B181=\"\",\"\",CMS_Identification!B181)","v":""},{"$f":"IF(CMS_Identification!G181=\"\",\"\",CMS_Identification!G181)","v":""},{"$f":"IF(CMS_Identification!D181=\"\",\"\",CMS_Identification!D181)","v":""}]
[null,null,null,null,null,null,null,null,{"$f":"IF(LDAR_TT_summary!C82=\"\",\"\",LDAR_TT_summary!C82)","v":""},{"$f":"IF(COUNTIF(I$2:I160,I160)=1,I160,\"\")","v":""},{"$f":"+IF(J160=\"\",\"\",MAX(K$1:K159)+1)","v":""},"",null,{"$f":"IF(LDAR_H_UU_general!C82=\"\",\"\",LDAR_H_UU_general!C82)","v":""},{"$f":"IF(COUNTIF(N$2:N160,N160)=1,N160,\"\")","v":""},{"$f":"+IF(O160=\"\",\"\",MAX(P$1:P159)+1)","v":""},"",null,{"$f":"IF(CMS_Identification!G182=\"\",\"\",CMS_Identification!G182)","v":""},{"$f":"IF(CMS_Identification!B182=\"\",\"\",CMS_Identification!B182)","v":""},{"$f":"IF(COUNTIF(S$2:S160,S160)=1,S160,\"\")","v":""},{"$f":"+IF(U160=\"\",\"\",MAX(V$1:V159)+1)","v":""},"",null,{"$f":"IF(CMS_Identification!G182=\"\",\"\",CMS_Identification!G182)","v":""},{"$f":"IF(CMS_Identification!D182=\"\",\"\",CMS_Identification!D182)","v":""},null,null,null,{"$f":"IF(CMS_Identification!B182=\"\",\"\",CMS_Identification!B182)","v":""},{"$f":"IF(CMS_Identification!G182=\"\",\"\",CMS_Identification!G182)","v":""},{"$f":"IF(CMS_Identification!D182=\"\",\"\",CMS_Identification!D182)","v":""}]
[null,null,null,null,null,null,null,null,{"$f":"IF(LDAR_TT_summary!C83=\"\",\"\",LDAR_TT_summary!C83)","v":""},{"$f":"IF(COUNTIF(I$2:I161,I161)=1,I161,\"\")","v":""},{"$f":"+IF(J161=\"\",\"\",MAX(K$1:K160)+1)","v":""},"",null,{"$f":"IF(LDAR_H_UU_general!C83=\"\",\"\",LDAR_H_UU_general!C83)","v":""},{"$f":"IF(COUNTIF(N$2:N161,N161)=1,N161,\"\")","v":""},{"$f":"+IF(O161=\"\",\"\",MAX(P$1:P160)+1)","v":""},"",null,{"$f":"IF(CMS_Identification!G183=\"\",\"\",CMS_Identification!G183)","v":""},{"$f":"IF(CMS_Identification!B183=\"\",\"\",CMS_Identification!B183)","v":""},{"$f":"IF(COUNTIF(S$2:S161,S161)=1,S161,\"\")","v":""},{"$f":"+IF(U161=\"\",\"\",MAX(V$1:V160)+1)","v":""},"",null,{"$f":"IF(CMS_Identification!G183=\"\",\"\",CMS_Identification!G183)","v":""},{"$f":"IF(CMS_Identification!D183=\"\",\"\",CMS_Identification!D183)","v":""},null,null,null,{"$f":"IF(CMS_Identification!B183=\"\",\"\",CMS_Identification!B183)","v":""},{"$f":"IF(CMS_Identification!G183=\"\",\"\",CMS_Identification!G183)","v":""},{"$f":"IF(CMS_Identification!D183=\"\",\"\",CMS_Identification!D183)","v":""}]
[null,null,null,null,null,null,null,null,{"$f":"IF(LDAR_TT_summary!C84=\"\",\"\",LDAR_TT_summary!C84)","v":""},{"$f":"IF(COUNTIF(I$2:I162,I162)=1,I162,\"\")","v":""},{"$f":"+IF(J162=\"\",\"\",MAX(K$1:K161)+1)","v":""},"",null,{"$f":"IF(LDAR_H_UU_general!C84=\"\",\"\",LDAR_H_UU_general!C84)","v":""},{"$f":"IF(COUNTIF(N$2:N162,N162)=1,N162,\"\")","v":""},{"$f":"+IF(O162=\"\",\"\",MAX(P$1:P161)+1)","v":""},"",null,{"$f":"IF(CMS_Identification!G184=\"\",\"\",CMS_Identification!G184)","v":""},{"$f":"IF(CMS_Identification!B184=\"\",\"\",CMS_Identification!B184)","v":""},{"$f":"IF(COUNTIF(S$2:S162,S162)=1,S162,\"\")","v":""},{"$f":"+IF(U162=\"\",\"\",MAX(V$1:V161)+1)","v":""},"",null,{"$f":"IF(CMS_Identification!G184=\"\",\"\",CMS_Identification!G184)","v":""},{"$f":"IF(CMS_Identification!D184=\"\",\"\",CMS_Identification!D184)","v":""},null,null,null,{"$f":"IF(CMS_Identification!B184=\"\",\"\",CMS_Identification!B184)","v":""},{"$f":"IF(CMS_Identification!G184=\"\",\"\",CMS_Identification!G184)","v":""},{"$f":"IF(CMS_Identification!D184=\"\",\"\",CMS_Identification!D184)","v":""}]
[null,null,null,null,null,null,null,null,{"$f":"IF(LDAR_TT_summary!C85=\"\",\"\",LDAR_TT_summary!C85)","v":""},{"$f":"IF(COUNTIF(I$2:I163,I163)=1,I163,\"\")","v":""},{"$f":"+IF(J163=\"\",\"\",MAX(K$1:K162)+1)","v":""},"",null,{"$f":"IF(LDAR_H_UU_general!C85=\"\",\"\",LDAR_H_UU_general!C85)","v":""},{"$f":"IF(COUNTIF(N$2:N163,N163)=1,N163,\"\")","v":""},{"$f":"+IF(O163=\"\",\"\",MAX(P$1:P162)+1)","v":""},"",null,{"$f":"IF(CMS_Identification!G185=\"\",\"\",CMS_Identification!G185)","v":""},{"$f":"IF(CMS_Identification!B185=\"\",\"\",CMS_Identification!B185)","v":""},{"$f":"IF(COUNTIF(S$2:S163,S163)=1,S163,\"\")","v":""},{"$f":"+IF(U163=\"\",\"\",MAX(V$1:V162)+1)","v":""},"",null,{"$f":"IF(CMS_Identification!G185=\"\",\"\",CMS_Identification!G185)","v":""},{"$f":"IF(CMS_Identification!D185=\"\",\"\",CMS_Identification!D185)","v":""},null,null,null,{"$f":"IF(CMS_Identification!B185=\"\",\"\",CMS_Identification!B185)","v":""},{"$f":"IF(CMS_Identification!G185=\"\",\"\",CMS_Identification!G185)","v":""},{"$f":"IF(CMS_Identification!D185=\"\",\"\",CMS_Identification!D185)","v":""}]
[null,null,null,null,null,null,null,null,{"$f":"IF(LDAR_TT_summary!C86=\"\",\"\",LDAR_TT_summary!C86)","v":""},{"$f":"IF(COUNTIF(I$2:I164,I164)=1,I164,\"\")","v":""},{"$f":"+IF(J164=\"\",\"\",MAX(K$1:K163)+1)","v":""},"",null,{"$f":"IF(LDAR_H_UU_general!C86=\"\",\"\",LDAR_H_UU_general!C86)","v":""},{"$f":"IF(COUNTIF(N$2:N164,N164)=1,N164,\"\")","v":""},{"$f":"+IF(O164=\"\",\"\",MAX(P$1:P163)+1)","v":""},"",null,{"$f":"IF(CMS_Identification!G186=\"\",\"\",CMS_Identification!G186)","v":""},{"$f":"IF(CMS_Identification!B186=\"\",\"\",CMS_Identification!B186)","v":""},{"$f":"IF(COUNTIF(S$2:S164,S164)=1,S164,\"\")","v":""},{"$f":"+IF(U164=\"\",\"\",MAX(V$1:V163)+1)","v":""},"",null,{"$f":"IF(CMS_Identification!G186=\"\",\"\",CMS_Identification!G186)","v":""},{"$f":"IF(CMS_Identification!D186=\"\",\"\",CMS_Identification!D186)","v":""},null,null,null,{"$f":"IF(CMS_Identification!B186=\"\",\"\",CMS_Identification!B186)","v":""},{"$f":"IF(CMS_Identification!G186=\"\",\"\",CMS_Identification!G186)","v":""},{"$f":"IF(CMS_Identification!D186=\"\",\"\",CMS_Identification!D186)","v":""}]
[null,null,null,null,null,null,null,null,{"$f":"IF(LDAR_TT_summary!C87=\"\",\"\",LDAR_TT_summary!C87)","v":""},{"$f":"IF(COUNTIF(I$2:I165,I165)=1,I165,\"\")","v":""},{"$f":"+IF(J165=\"\",\"\",MAX(K$1:K164)+1)","v":""},"",null,{"$f":"IF(LDAR_H_UU_general!C87=\"\",\"\",LDAR_H_UU_general!C87)","v":""},{"$f":"IF(COUNTIF(N$2:N165,N165)=1,N165,\"\")","v":""},{"$f":"+IF(O165=\"\",\"\",MAX(P$1:P164)+1)","v":""},"",null,{"$f":"IF(CMS_Identification!G187=\"\",\"\",CMS_Identification!G187)","v":""},{"$f":"IF(CMS_Identification!B187=\"\",\"\",CMS_Identification!B187)","v":""},{"$f":"IF(COUNTIF(S$2:S165,S165)=1,S165,\"\")","v":""},{"$f":"+IF(U165=\"\",\"\",MAX(V$1:V164)+1)","v":""},"",null,{"$f":"IF(CMS_Identification!G187=\"\",\"\",CMS_Identification!G187)","v":""},{"$f":"IF(CMS_Identification!D187=\"\",\"\",CMS_Identification!D187)","v":""},null,null,null,{"$f":"IF(CMS_Identification!B187=\"\",\"\",CMS_Identification!B187)","v":""},{"$f":"IF(CMS_Identification!G187=\"\",\"\",CMS_Identification!G187)","v":""},{"$f":"IF(CMS_Identification!D187=\"\",\"\",CMS_Identification!D187)","v":""}]
[null,null,null,null,null,null,null,null,{"$f":"IF(LDAR_TT_summary!C88=\"\",\"\",LDAR_TT_summary!C88)","v":""},{"$f":"IF(COUNTIF(I$2:I166,I166)=1,I166,\"\")","v":""},{"$f":"+IF(J166=\"\",\"\",MAX(K$1:K165)+1)","v":""},"",null,{"$f":"IF(LDAR_H_UU_general!C88=\"\",\"\",LDAR_H_UU_general!C88)","v":""},{"$f":"IF(COUNTIF(N$2:N166,N166)=1,N166,\"\")","v":""},{"$f":"+IF(O166=\"\",\"\",MAX(P$1:P165)+1)","v":""},"",null,{"$f":"IF(CMS_Identification!G188=\"\",\"\",CMS_Identification!G188)","v":""},{"$f":"IF(CMS_Identification!B188=\"\",\"\",CMS_Identification!B188)","v":""},{"$f":"IF(COUNTIF(S$2:S166,S166)=1,S166,\"\")","v":""},{"$f":"+IF(U166=\"\",\"\",MAX(V$1:V165)+1)","v":""},"",null,{"$f":"IF(CMS_Identification!G188=\"\",\"\",CMS_Identification!G188)","v":""},{"$f":"IF(CMS_Identification!D188=\"\",\"\",CMS_Identification!D188)","v":""},null,null,null,{"$f":"IF(CMS_Identification!B188=\"\",\"\",CMS_Identification!B188)","v":""},{"$f":"IF(CMS_Identification!G188=\"\",\"\",CMS_Identification!G188)","v":""},{"$f":"IF(CMS_Identification!D188=\"\",\"\",CMS_Identification!D188)","v":""}]
[null,null,null,null,null,null,null,null,{"$f":"IF(LDAR_TT_summary!C89=\"\",\"\",LDAR_TT_summary!C89)","v":""},{"$f":"IF(COUNTIF(I$2:I167,I167)=1,I167,\"\")","v":""},{"$f":"+IF(J167=\"\",\"\",MAX(K$1:K166)+1)","v":""},"",null,{"$f":"IF(LDAR_H_UU_general!C89=\"\",\"\",LDAR_H_UU_general!C89)","v":""},{"$f":"IF(COUNTIF(N$2:N167,N167)=1,N167,\"\")","v":""},{"$f":"+IF(O167=\"\",\"\",MAX(P$1:P166)+1)","v":""},"",null,{"$f":"IF(CMS_Identification!G189=\"\",\"\",CMS_Identification!G189)","v":""},{"$f":"IF(CMS_Identification!B189=\"\",\"\",CMS_Identification!B189)","v":""},{"$f":"IF(COUNTIF(S$2:S167,S167)=1,S167,\"\")","v":""},{"$f":"+IF(U167=\"\",\"\",MAX(V$1:V166)+1)","v":""},"",null,{"$f":"IF(CMS_Identification!G189=\"\",\"\",CMS_Identification!G189)","v":""},{"$f":"IF(CMS_Identification!D189=\"\",\"\",CMS_Identification!D189)","v":""},null,null,null,{"$f":"IF(CMS_Identification!B189=\"\",\"\",CMS_Identification!B189)","v":""},{"$f":"IF(CMS_Identification!G189=\"\",\"\",CMS_Identification!G189)","v":""},{"$f":"IF(CMS_Identification!D189=\"\",\"\",CMS_Identification!D189)","v":""}]
[null,null,null,null,null,null,null,null,{"$f":"IF(LDAR_TT_summary!C90=\"\",\"\",LDAR_TT_summary!C90)","v":""},{"$f":"IF(COUNTIF(I$2:I168,I168)=1,I168,\"\")","v":""},{"$f":"+IF(J168=\"\",\"\",MAX(K$1:K167)+1)","v":""},"",null,{"$f":"IF(LDAR_H_UU_general!C90=\"\",\"\",LDAR_H_UU_general!C90)","v":""},{"$f":"IF(COUNTIF(N$2:N168,N168)=1,N168,\"\")","v":""},{"$f":"+IF(O168=\"\",\"\",MAX(P$1:P167)+1)","v":""},"",null,{"$f":"IF(CMS_Identification!G190=\"\",\"\",CMS_Identification!G190)","v":""},{"$f":"IF(CMS_Identification!B190=\"\",\"\",CMS_Identification!B190)","v":""},{"$f":"IF(COUNTIF(S$2:S168,S168)=1,S168,\"\")","v":""},{"$f":"+IF(U168=\"\",\"\",MAX(V$1:V167)+1)","v":""},"",null,{"$f":"IF(CMS_Identification!G190=\"\",\"\",CMS_Identification!G190)","v":""},{"$f":"IF(CMS_Identification!D190=\"\",\"\",CMS_Identification!D190)","v":""},null,null,null,{"$f":"IF(CMS_Identification!B190=\"\",\"\",CMS_Identification!B190)","v":""},{"$f":"IF(CMS_Identification!G190=\"\",\"\",CMS_Identification!G190)","v":""},{"$f":"IF(CMS_Identification!D190=\"\",\"\",CMS_Identification!D190)","v":""}]
[null,null,null,null,null,null,null,null,{"$f":"IF(LDAR_TT_summary!C91=\"\",\"\",LDAR_TT_summary!C91)","v":""},{"$f":"IF(COUNTIF(I$2:I169,I169)=1,I169,\"\")","v":""},{"$f":"+IF(J169=\"\",\"\",MAX(K$1:K168)+1)","v":""},"",null,{"$f":"IF(LDAR_H_UU_general!C91=\"\",\"\",LDAR_H_UU_general!C91)","v":""},{"$f":"IF(COUNTIF(N$2:N169,N169)=1,N169,\"\")","v":""},{"$f":"+IF(O169=\"\",\"\",MAX(P$1:P168)+1)","v":""},"",null,{"$f":"IF(CMS_Identification!G191=\"\",\"\",CMS_Identification!G191)","v":""},{"$f":"IF(CMS_Identification!B191=\"\",\"\",CMS_Identification!B191)","v":""},{"$f":"IF(COUNTIF(S$2:S169,S169)=1,S169,\"\")","v":""},{"$f":"+IF(U169=\"\",\"\",MAX(V$1:V168)+1)","v":""},"",null,{"$f":"IF(CMS_Identification!G191=\"\",\"\",CMS_Identification!G191)","v":""},{"$f":"IF(CMS_Identification!D191=\"\",\"\",CMS_Identification!D191)","v":""},null,null,null,{"$f":"IF(CMS_Identification!B191=\"\",\"\",CMS_Identification!B191)","v":""},{"$f":"IF(CMS_Identification!G191=\"\",\"\",CMS_Identification!G191)","v":""},{"$f":"IF(CMS_Identification!D191=\"\",\"\",CMS_Identification!D191)","v":""}]
[null,null,null,null,null,null,null,null,{"$f":"IF(LDAR_TT_summary!C92=\"\",\"\",LDAR_TT_summary!C92)","v":""},{"$f":"IF(COUNTIF(I$2:I170,I170)=1,I170,\"\")","v":""},{"$f":"+IF(J170=\"\",\"\",MAX(K$1:K169)+1)","v":""},"",null,{"$f":"IF(LDAR_H_UU_general!C92=\"\",\"\",LDAR_H_UU_general!C92)","v":""},{"$f":"IF(COUNTIF(N$2:N170,N170)=1,N170,\"\")","v":""},{"$f":"+IF(O170=\"\",\"\",MAX(P$1:P169)+1)","v":""},"",null,{"$f":"IF(CMS_Identification!G192=\"\",\"\",CMS_Identification!G192)","v":""},{"$f":"IF(CMS_Identification!B192=\"\",\"\",CMS_Identification!B192)","v":""},{"$f":"IF(COUNTIF(S$2:S170,S170)=1,S170,\"\")","v":""},{"$f":"+IF(U170=\"\",\"\",MAX(V$1:V169)+1)","v":""},"",null,{"$f":"IF(CMS_Identification!G192=\"\",\"\",CMS_Identification!G192)","v":""},{"$f":"IF(CMS_Identification!D192=\"\",\"\",CMS_Identification!D192)","v":""},null,null,null,{"$f":"IF(CMS_Identification!B192=\"\",\"\",CMS_Identification!B192)","v":""},{"$f":"IF(CMS_Identification!G192=\"\",\"\",CMS_Identification!G192)","v":""},{"$f":"IF(CMS_Identification!D192=\"\",\"\",CMS_Identification!D192)","v":""}]
[null,null,null,null,null,null,null,null,{"$f":"IF(LDAR_TT_summary!C93=\"\",\"\",LDAR_TT_summary!C93)","v":""},{"$f":"IF(COUNTIF(I$2:I171,I171)=1,I171,\"\")","v":""},{"$f":"+IF(J171=\"\",\"\",MAX(K$1:K170)+1)","v":""},"",null,{"$f":"IF(LDAR_H_UU_general!C93=\"\",\"\",LDAR_H_UU_general!C93)","v":""},{"$f":"IF(COUNTIF(N$2:N171,N171)=1,N171,\"\")","v":""},{"$f":"+IF(O171=\"\",\"\",MAX(P$1:P170)+1)","v":""},"",null,{"$f":"IF(CMS_Identification!G193=\"\",\"\",CMS_Identification!G193)","v":""},{"$f":"IF(CMS_Identification!B193=\"\",\"\",CMS_Identification!B193)","v":""},{"$f":"IF(COUNTIF(S$2:S171,S171)=1,S171,\"\")","v":""},{"$f":"+IF(U171=\"\",\"\",MAX(V$1:V170)+1)","v":""},"",null,{"$f":"IF(CMS_Identification!G193=\"\",\"\",CMS_Identification!G193)","v":""},{"$f":"IF(CMS_Identification!D193=\"\",\"\",CMS_Identification!D193)","v":""},null,null,null,{"$f":"IF(CMS_Identification!B193=\"\",\"\",CMS_Identification!B193)","v":""},{"$f":"IF(CMS_Identification!G193=\"\",\"\",CMS_Identification!G193)","v":""},{"$f":"IF(CMS_Identification!D193=\"\",\"\",CMS_Identification!D193)","v":""}]
[null,null,null,null,null,null,null,null,{"$f":"IF(LDAR_TT_summary!C94=\"\",\"\",LDAR_TT_summary!C94)","v":""},{"$f":"IF(COUNTIF(I$2:I172,I172)=1,I172,\"\")","v":""},{"$f":"+IF(J172=\"\",\"\",MAX(K$1:K171)+1)","v":""},"",null,{"$f":"IF(LDAR_H_UU_general!C94=\"\",\"\",LDAR_H_UU_general!C94)","v":""},{"$f":"IF(COUNTIF(N$2:N172,N172)=1,N172,\"\")","v":""},{"$f":"+IF(O172=\"\",\"\",MAX(P$1:P171)+1)","v":""},"",null,{"$f":"IF(CMS_Identification!G194=\"\",\"\",CMS_Identification!G194)","v":""},{"$f":"IF(CMS_Identification!B194=\"\",\"\",CMS_Identification!B194)","v":""},{"$f":"IF(COUNTIF(S$2:S172,S172)=1,S172,\"\")","v":""},{"$f":"+IF(U172=\"\",\"\",MAX(V$1:V171)+1)","v":""},"",null,{"$f":"IF(CMS_Identification!G194=\"\",\"\",CMS_Identification!G194)","v":""},{"$f":"IF(CMS_Identification!D194=\"\",\"\",CMS_Identification!D194)","v":""},null,null,null,{"$f":"IF(CMS_Identification!B194=\"\",\"\",CMS_Identification!B194)","v":""},{"$f":"IF(CMS_Identification!G194=\"\",\"\",CMS_Identification!G194)","v":""},{"$f":"IF(CMS_Identification!D194=\"\",\"\",CMS_Identification!D194)","v":""}]
[null,null,null,null,null,null,null,null,{"$f":"IF(LDAR_TT_summary!C95=\"\",\"\",LDAR_TT_summary!C95)","v":""},{"$f":"IF(COUNTIF(I$2:I173,I173)=1,I173,\"\")","v":""},{"$f":"+IF(J173=\"\",\"\",MAX(K$1:K172)+1)","v":""},"",null,{"$f":"IF(LDAR_H_UU_general!C95=\"\",\"\",LDAR_H_UU_general!C95)","v":""},{"$f":"IF(COUNTIF(N$2:N173,N173)=1,N173,\"\")","v":""},{"$f":"+IF(O173=\"\",\"\",MAX(P$1:P172)+1)","v":""},"",null,{"$f":"IF(CMS_Identification!G195=\"\",\"\",CMS_Identification!G195)","v":""},{"$f":"IF(CMS_Identification!B195=\"\",\"\",CMS_Identification!B195)","v":""},{"$f":"IF(COUNTIF(S$2:S173,S173)=1,S173,\"\")","v":""},{"$f":"+IF(U173=\"\",\"\",MAX(V$1:V172)+1)","v":""},"",null,{"$f":"IF(CMS_Identification!G195=\"\",\"\",CMS_Identification!G195)","v":""},{"$f":"IF(CMS_Identification!D195=\"\",\"\",CMS_Identification!D195)","v":""},null,null,null,{"$f":"IF(CMS_Identification!B195=\"\",\"\",CMS_Identification!B195)","v":""},{"$f":"IF(CMS_Identification!G195=\"\",\"\",CMS_Identification!G195)","v":""},{"$f":"IF(CMS_Identification!D195=\"\",\"\",CMS_Identification!D195)","v":""}]
[null,null,null,null,null,null,null,null,{"$f":"IF(LDAR_TT_summary!C96=\"\",\"\",LDAR_TT_summary!C96)","v":""},{"$f":"IF(COUNTIF(I$2:I174,I174)=1,I174,\"\")","v":""},{"$f":"+IF(J174=\"\",\"\",MAX(K$1:K173)+1)","v":""},"",null,{"$f":"IF(LDAR_H_UU_general!C96=\"\",\"\",LDAR_H_UU_general!C96)","v":""},{"$f":"IF(COUNTIF(N$2:N174,N174)=1,N174,\"\")","v":""},{"$f":"+IF(O174=\"\",\"\",MAX(P$1:P173)+1)","v":""},"",null,{"$f":"IF(CMS_Identification!G196=\"\",\"\",CMS_Identification!G196)","v":""},{"$f":"IF(CMS_Identification!B196=\"\",\"\",CMS_Identification!B196)","v":""},{"$f":"IF(COUNTIF(S$2:S174,S174)=1,S174,\"\")","v":""},{"$f":"+IF(U174=\"\",\"\",MAX(V$1:V173)+1)","v":""},"",null,{"$f":"IF(CMS_Identification!G196=\"\",\"\",CMS_Identification!G196)","v":""},{"$f":"IF(CMS_Identification!D196=\"\",\"\",CMS_Identification!D196)","v":""},null,null,null,{"$f":"IF(CMS_Identification!B196=\"\",\"\",CMS_Identification!B196)","v":""},{"$f":"IF(CMS_Identification!G196=\"\",\"\",CMS_Identification!G196)","v":""},{"$f":"IF(CMS_Identification!D196=\"\",\"\",CMS_Identification!D196)","v":""}]
[null,null,null,null,null,null,null,null,{"$f":"IF(LDAR_TT_summary!C97=\"\",\"\",LDAR_TT_summary!C97)","v":""},{"$f":"IF(COUNTIF(I$2:I175,I175)=1,I175,\"\")","v":""},{"$f":"+IF(J175=\"\",\"\",MAX(K$1:K174)+1)","v":""},"",null,{"$f":"IF(LDAR_H_UU_general!C97=\"\",\"\",LDAR_H_UU_general!C97)","v":""},{"$f":"IF(COUNTIF(N$2:N175,N175)=1,N175,\"\")","v":""},{"$f":"+IF(O175=\"\",\"\",MAX(P$1:P174)+1)","v":""},"",null,{"$f":"IF(CMS_Identification!G197=\"\",\"\",CMS_Identification!G197)","v":""},{"$f":"IF(CMS_Identification!B197=\"\",\"\",CMS_Identification!B197)","v":""},{"$f":"IF(COUNTIF(S$2:S175,S175)=1,S175,\"\")","v":""},{"$f":"+IF(U175=\"\",\"\",MAX(V$1:V174)+1)","v":""},"",null,{"$f":"IF(CMS_Identification!G197=\"\",\"\",CMS_Identification!G197)","v":""},{"$f":"IF(CMS_Identification!D197=\"\",\"\",CMS_Identification!D197)","v":""},null,null,null,{"$f":"IF(CMS_Identification!B197=\"\",\"\",CMS_Identification!B197)","v":""},{"$f":"IF(CMS_Identification!G197=\"\",\"\",CMS_Identification!G197)","v":""},{"$f":"IF(CMS_Identification!D197=\"\",\"\",CMS_Identification!D197)","v":""}]
[null,null,null,null,null,null,null,null,{"$f":"IF(LDAR_TT_summary!C98=\"\",\"\",LDAR_TT_summary!C98)","v":""},{"$f":"IF(COUNTIF(I$2:I176,I176)=1,I176,\"\")","v":""},{"$f":"+IF(J176=\"\",\"\",MAX(K$1:K175)+1)","v":""},"",null,{"$f":"IF(LDAR_H_UU_general!C98=\"\",\"\",LDAR_H_UU_general!C98)","v":""},{"$f":"IF(COUNTIF(N$2:N176,N176)=1,N176,\"\")","v":""},{"$f":"+IF(O176=\"\",\"\",MAX(P$1:P175)+1)","v":""},"",null,{"$f":"IF(CMS_Identification!G198=\"\",\"\",CMS_Identification!G198)","v":""},{"$f":"IF(CMS_Identification!B198=\"\",\"\",CMS_Identification!B198)","v":""},{"$f":"IF(COUNTIF(S$2:S176,S176)=1,S176,\"\")","v":""},{"$f":"+IF(U176=\"\",\"\",MAX(V$1:V175)+1)","v":""},"",null,{"$f":"IF(CMS_Identification!G198=\"\",\"\",CMS_Identification!G198)","v":""},{"$f":"IF(CMS_Identification!D198=\"\",\"\",CMS_Identification!D198)","v":""},null,null,null,{"$f":"IF(CMS_Identification!B198=\"\",\"\",CMS_Identification!B198)","v":""},{"$f":"IF(CMS_Identification!G198=\"\",\"\",CMS_Identification!G198)","v":""},{"$f":"IF(CMS_Identification!D198=\"\",\"\",CMS_Identification!D198)","v":""}]
[null,null,null,null,null,null,null,null,{"$f":"IF(LDAR_TT_summary!C99=\"\",\"\",LDAR_TT_summary!C99)","v":""},{"$f":"IF(COUNTIF(I$2:I177,I177)=1,I177,\"\")","v":""},{"$f":"+IF(J177=\"\",\"\",MAX(K$1:K176)+1)","v":""},"",null,{"$f":"IF(LDAR_H_UU_general!C99=\"\",\"\",LDAR_H_UU_general!C99)","v":""},{"$f":"IF(COUNTIF(N$2:N177,N177)=1,N177,\"\")","v":""},{"$f":"+IF(O177=\"\",\"\",MAX(P$1:P176)+1)","v":""},"",null,{"$f":"IF(CMS_Identification!G199=\"\",\"\",CMS_Identification!G199)","v":""},{"$f":"IF(CMS_Identification!B199=\"\",\"\",CMS_Identification!B199)","v":""},{"$f":"IF(COUNTIF(S$2:S177,S177)=1,S177,\"\")","v":""},{"$f":"+IF(U177=\"\",\"\",MAX(V$1:V176)+1)","v":""},"",null,{"$f":"IF(CMS_Identification!G199=\"\",\"\",CMS_Identification!G199)","v":""},{"$f":"IF(CMS_Identification!D199=\"\",\"\",CMS_Identification!D199)","v":""},null,null,null,{"$f":"IF(CMS_Identification!B199=\"\",\"\",CMS_Identification!B199)","v":""},{"$f":"IF(CMS_Identification!G199=\"\",\"\",CMS_Identification!G199)","v":""},{"$f":"IF(CMS_Identification!D199=\"\",\"\",CMS_Identification!D199)","v":""}]
[null,null,null,null,null,null,null,null,{"$f":"IF(LDAR_TT_summary!C100=\"\",\"\",LDAR_TT_summary!C100)","v":""},{"$f":"IF(COUNTIF(I$2:I178,I178)=1,I178,\"\")","v":""},{"$f":"+IF(J178=\"\",\"\",MAX(K$1:K177)+1)","v":""},"",null,{"$f":"IF(LDAR_H_UU_general!C100=\"\",\"\",LDAR_H_UU_general!C100)","v":""},{"$f":"IF(COUNTIF(N$2:N178,N178)=1,N178,\"\")","v":""},{"$f":"+IF(O178=\"\",\"\",MAX(P$1:P177)+1)","v":""},"",null,{"$f":"IF(CMS_Identification!G200=\"\",\"\",CMS_Identification!G200)","v":""},{"$f":"IF(CMS_Identification!B200=\"\",\"\",CMS_Identification!B200)","v":""},{"$f":"IF(COUNTIF(S$2:S178,S178)=1,S178,\"\")","v":""},{"$f":"+IF(U178=\"\",\"\",MAX(V$1:V177)+1)","v":""},"",null,{"$f":"IF(CMS_Identification!G200=\"\",\"\",CMS_Identification!G200)","v":""},{"$f":"IF(CMS_Identification!D200=\"\",\"\",CMS_Identification!D200)","v":""},null,null,null,{"$f":"IF(CMS_Identification!B200=\"\",\"\",CMS_Identification!B200)","v":""},{"$f":"IF(CMS_Identification!G200=\"\",\"\",CMS_Identification!G200)","v":""},{"$f":"IF(CMS_Identification!D200=\"\",\"\",CMS_Identification!D200)","v":""}]
[null,null,null,null,null,null,null,null,{"$f":"IF(LDAR_TT_summary!C101=\"\",\"\",LDAR_TT_summary!C101)","v":""},{"$f":"IF(COUNTIF(I$2:I179,I179)=1,I179,\"\")","v":""},{"$f":"+IF(J179=\"\",\"\",MAX(K$1:K178)+1)","v":""},"",null,{"$f":"IF(LDAR_H_UU_general!C101=\"\",\"\",LDAR_H_UU_general!C101)","v":""},{"$f":"IF(COUNTIF(N$2:N179,N179)=1,N179,\"\")","v":""},{"$f":"+IF(O179=\"\",\"\",MAX(P$1:P178)+1)","v":""},"",null,{"$f":"IF(CMS_Identification!G201=\"\",\"\",CMS_Identification!G201)","v":""},{"$f":"IF(CMS_Identification!B201=\"\",\"\",CMS_Identification!B201)","v":""},{"$f":"IF(COUNTIF(S$2:S179,S179)=1,S179,\"\")","v":""},{"$f":"+IF(U179=\"\",\"\",MAX(V$1:V178)+1)","v":""},"",null,{"$f":"IF(CMS_Identification!G201=\"\",\"\",CMS_Identification!G201)","v":""},{"$f":"IF(CMS_Identification!D201=\"\",\"\",CMS_Identification!D201)","v":""},null,null,null,{"$f":"IF(CMS_Identification!B201=\"\",\"\",CMS_Identification!B201)","v":""},{"$f":"IF(CMS_Identification!G201=\"\",\"\",CMS_Identification!G201)","v":""},{"$f":"IF(CMS_Identification!D201=\"\",\"\",CMS_Identification!D201)","v":""}]
[null,null,null,null,null,null,null,null,{"$f":"IF(LDAR_TT_summary!C102=\"\",\"\",LDAR_TT_summary!C102)","v":""},{"$f":"IF(COUNTIF(I$2:I180,I180)=1,I180,\"\")","v":""},{"$f":"+IF(J180=\"\",\"\",MAX(K$1:K179)+1)","v":""},"",null,{"$f":"IF(LDAR_H_UU_general!C102=\"\",\"\",LDAR_H_UU_general!C102)","v":""},{"$f":"IF(COUNTIF(N$2:N180,N180)=1,N180,\"\")","v":""},{"$f":"+IF(O180=\"\",\"\",MAX(P$1:P179)+1)","v":""},"",null,{"$f":"IF(CMS_Identification!G202=\"\",\"\",CMS_Identification!G202)","v":""},{"$f":"IF(CMS_Identification!B202=\"\",\"\",CMS_Identification!B202)","v":""},{"$f":"IF(COUNTIF(S$2:S180,S180)=1,S180,\"\")","v":""},{"$f":"+IF(U180=\"\",\"\",MAX(V$1:V179)+1)","v":""},"",null,{"$f":"IF(CMS_Identification!G202=\"\",\"\",CMS_Identification!G202)","v":""},{"$f":"IF(CMS_Identification!D202=\"\",\"\",CMS_Identification!D202)","v":""},null,null,null,{"$f":"IF(CMS_Identification!B202=\"\",\"\",CMS_Identification!B202)","v":""},{"$f":"IF(CMS_Identification!G202=\"\",\"\",CMS_Identification!G202)","v":""},{"$f":"IF(CMS_Identification!D202=\"\",\"\",CMS_Identification!D202)","v":""}]
[null,null,null,null,null,null,null,null,{"$f":"IF(LDAR_TT_summary!C103=\"\",\"\",LDAR_TT_summary!C103)","v":""},{"$f":"IF(COUNTIF(I$2:I181,I181)=1,I181,\"\")","v":""},{"$f":"+IF(J181=\"\",\"\",MAX(K$1:K180)+1)","v":""},"",null,{"$f":"IF(LDAR_H_UU_general!C103=\"\",\"\",LDAR_H_UU_general!C103)","v":""},{"$f":"IF(COUNTIF(N$2:N181,N181)=1,N181,\"\")","v":""},{"$f":"+IF(O181=\"\",\"\",MAX(P$1:P180)+1)","v":""},"",null,{"$f":"IF(CMS_Identification!G203=\"\",\"\",CMS_Identification!G203)","v":""},{"$f":"IF(CMS_Identification!B203=\"\",\"\",CMS_Identification!B203)","v":""},{"$f":"IF(COUNTIF(S$2:S181,S181)=1,S181,\"\")","v":""},{"$f":"+IF(U181=\"\",\"\",MAX(V$1:V180)+1)","v":""},"",null,{"$f":"IF(CMS_Identification!G203=\"\",\"\",CMS_Identification!G203)","v":""},{"$f":"IF(CMS_Identification!D203=\"\",\"\",CMS_Identification!D203)","v":""},null,null,null,{"$f":"IF(CMS_Identification!B203=\"\",\"\",CMS_Identification!B203)","v":""},{"$f":"IF(CMS_Identification!G203=\"\",\"\",CMS_Identification!G203)","v":""},{"$f":"IF(CMS_Identification!D203=\"\",\"\",CMS_Identification!D203)","v":""}]
[null,null,null,null,null,null,null,null,{"$f":"IF(LDAR_TT_summary!C104=\"\",\"\",LDAR_TT_summary!C104)","v":""},{"$f":"IF(COUNTIF(I$2:I182,I182)=1,I182,\"\")","v":""},{"$f":"+IF(J182=\"\",\"\",MAX(K$1:K181)+1)","v":""},"",null,{"$f":"IF(LDAR_H_UU_general!C104=\"\",\"\",LDAR_H_UU_general!C104)","v":""},{"$f":"IF(COUNTIF(N$2:N182,N182)=1,N182,\"\")","v":""},{"$f":"+IF(O182=\"\",\"\",MAX(P$1:P181)+1)","v":""},"",null,{"$f":"IF(CMS_Identification!G204=\"\",\"\",CMS_Identification!G204)","v":""},{"$f":"IF(CMS_Identification!B204=\"\",\"\",CMS_Identification!B204)","v":""},{"$f":"IF(COUNTIF(S$2:S182,S182)=1,S182,\"\")","v":""},{"$f":"+IF(U182=\"\",\"\",MAX(V$1:V181)+1)","v":""},"",null,{"$f":"IF(CMS_Identification!G204=\"\",\"\",CMS_Identification!G204)","v":""},{"$f":"IF(CMS_Identification!D204=\"\",\"\",CMS_Identification!D204)","v":""},null,null,null,{"$f":"IF(CMS_Identification!B204=\"\",\"\",CMS_Identification!B204)","v":""},{"$f":"IF(CMS_Identification!G204=\"\",\"\",CMS_Identification!G204)","v":""},{"$f":"IF(CMS_Identification!D204=\"\",\"\",CMS_Identification!D204)","v":""}]
[null,null,null,null,null,null,null,null,{"$f":"IF(LDAR_TT_summary!C105=\"\",\"\",LDAR_TT_summary!C105)","v":""},{"$f":"IF(COUNTIF(I$2:I183,I183)=1,I183,\"\")","v":""},{"$f":"+IF(J183=\"\",\"\",MAX(K$1:K182)+1)","v":""},"",null,{"$f":"IF(LDAR_H_UU_general!C105=\"\",\"\",LDAR_H_UU_general!C105)","v":""},{"$f":"IF(COUNTIF(N$2:N183,N183)=1,N183,\"\")","v":""},{"$f":"+IF(O183=\"\",\"\",MAX(P$1:P182)+1)","v":""},"",null,{"$f":"IF(CMS_Identification!G205=\"\",\"\",CMS_Identification!G205)","v":""},{"$f":"IF(CMS_Identification!B205=\"\",\"\",CMS_Identification!B205)","v":""},{"$f":"IF(COUNTIF(S$2:S183,S183)=1,S183,\"\")","v":""},{"$f":"+IF(U183=\"\",\"\",MAX(V$1:V182)+1)","v":""},"",null,{"$f":"IF(CMS_Identification!G205=\"\",\"\",CMS_Identification!G205)","v":""},{"$f":"IF(CMS_Identification!D205=\"\",\"\",CMS_Identification!D205)","v":""},null,null,null,{"$f":"IF(CMS_Identification!B205=\"\",\"\",CMS_Identification!B205)","v":""},{"$f":"IF(CMS_Identification!G205=\"\",\"\",CMS_Identification!G205)","v":""},{"$f":"IF(CMS_Identification!D205=\"\",\"\",CMS_Identification!D205)","v":""}]
[null,null,null,null,null,null,null,null,{"$f":"IF(LDAR_TT_summary!C106=\"\",\"\",LDAR_TT_summary!C106)","v":""},{"$f":"IF(COUNTIF(I$2:I184,I184)=1,I184,\"\")","v":""},{"$f":"+IF(J184=\"\",\"\",MAX(K$1:K183)+1)","v":""},"",null,{"$f":"IF(LDAR_H_UU_general!C106=\"\",\"\",LDAR_H_UU_general!C106)","v":""},{"$f":"IF(COUNTIF(N$2:N184,N184)=1,N184,\"\")","v":""},{"$f":"+IF(O184=\"\",\"\",MAX(P$1:P183)+1)","v":""},"",null,{"$f":"IF(CMS_Identification!G206=\"\",\"\",CMS_Identification!G206)","v":""},{"$f":"IF(CMS_Identification!B206=\"\",\"\",CMS_Identification!B206)","v":""},{"$f":"IF(COUNTIF(S$2:S184,S184)=1,S184,\"\")","v":""},{"$f":"+IF(U184=\"\",\"\",MAX(V$1:V183)+1)","v":""},"",null,{"$f":"IF(CMS_Identification!G206=\"\",\"\",CMS_Identification!G206)","v":""},{"$f":"IF(CMS_Identification!D206=\"\",\"\",CMS_Identification!D206)","v":""},null,null,null,{"$f":"IF(CMS_Identification!B206=\"\",\"\",CMS_Identification!B206)","v":""},{"$f":"IF(CMS_Identification!G206=\"\",\"\",CMS_Identification!G206)","v":""},{"$f":"IF(CMS_Identification!D206=\"\",\"\",CMS_Identification!D206)","v":""}]
[null,null,null,null,null,null,null,null,{"$f":"IF(LDAR_TT_summary!C107=\"\",\"\",LDAR_TT_summary!C107)","v":""},{"$f":"IF(COUNTIF(I$2:I185,I185)=1,I185,\"\")","v":""},{"$f":"+IF(J185=\"\",\"\",MAX(K$1:K184)+1)","v":""},"",null,{"$f":"IF(LDAR_H_UU_general!C107=\"\",\"\",LDAR_H_UU_general!C107)","v":""},{"$f":"IF(COUNTIF(N$2:N185,N185)=1,N185,\"\")","v":""},{"$f":"+IF(O185=\"\",\"\",MAX(P$1:P184)+1)","v":""},"",null,{"$f":"IF(CMS_Identification!G207=\"\",\"\",CMS_Identification!G207)","v":""},{"$f":"IF(CMS_Identification!B207=\"\",\"\",CMS_Identification!B207)","v":""},{"$f":"IF(COUNTIF(S$2:S185,S185)=1,S185,\"\")","v":""},{"$f":"+IF(U185=\"\",\"\",MAX(V$1:V184)+1)","v":""},"",null,{"$f":"IF(CMS_Identification!G207=\"\",\"\",CMS_Identification!G207)","v":""},{"$f":"IF(CMS_Identification!D207=\"\",\"\",CMS_Identification!D207)","v":""},null,null,null,{"$f":"IF(CMS_Identification!B207=\"\",\"\",CMS_Identification!B207)","v":""},{"$f":"IF(CMS_Identification!G207=\"\",\"\",CMS_Identification!G207)","v":""},{"$f":"IF(CMS_Identification!D207=\"\",\"\",CMS_Identification!D207)","v":""}]
[null,null,null,null,null,null,null,null,{"$f":"IF(LDAR_TT_summary!C108=\"\",\"\",LDAR_TT_summary!C108)","v":""},{"$f":"IF(COUNTIF(I$2:I186,I186)=1,I186,\"\")","v":""},{"$f":"+IF(J186=\"\",\"\",MAX(K$1:K185)+1)","v":""},"",null,{"$f":"IF(LDAR_H_UU_general!C108=\"\",\"\",LDAR_H_UU_general!C108)","v":""},{"$f":"IF(COUNTIF(N$2:N186,N186)=1,N186,\"\")","v":""},{"$f":"+IF(O186=\"\",\"\",MAX(P$1:P185)+1)","v":""},"",null,{"$f":"IF(CMS_Identification!G208=\"\",\"\",CMS_Identification!G208)","v":""},{"$f":"IF(CMS_Identification!B208=\"\",\"\",CMS_Identification!B208)","v":""},{"$f":"IF(COUNTIF(S$2:S186,S186)=1,S186,\"\")","v":""},{"$f":"+IF(U186=\"\",\"\",MAX(V$1:V185)+1)","v":""},"",null,{"$f":"IF(CMS_Identification!G208=\"\",\"\",CMS_Identification!G208)","v":""},{"$f":"IF(CMS_Identification!D208=\"\",\"\",CMS_Identification!D208)","v":""},null,null,null,{"$f":"IF(CMS_Identification!B208=\"\",\"\",CMS_Identification!B208)","v":""},{"$f":"IF(CMS_Identification!G208=\"\",\"\",CMS_Identification!G208)","v":""},{"$f":"IF(CMS_Identification!D208=\"\",\"\",CMS_Identification!D208)","v":""}]
[null,null,null,null,null,null,null,null,{"$f":"IF(LDAR_TT_summary!C109=\"\",\"\",LDAR_TT_summary!C109)","v":""},{"$f":"IF(COUNTIF(I$2:I187,I187)=1,I187,\"\")","v":""},{"$f":"+IF(J187=\"\",\"\",MAX(K$1:K186)+1)","v":""},"",null,{"$f":"IF(LDAR_H_UU_general!C109=\"\",\"\",LDAR_H_UU_general!C109)","v":""},{"$f":"IF(COUNTIF(N$2:N187,N187)=1,N187,\"\")","v":""},{"$f":"+IF(O187=\"\",\"\",MAX(P$1:P186)+1)","v":""},"",null,{"$f":"IF(CMS_Identification!G209=\"\",\"\",CMS_Identification!G209)","v":""},{"$f":"IF(CMS_Identification!B209=\"\",\"\",CMS_Identification!B209)","v":""},{"$f":"IF(COUNTIF(S$2:S187,S187)=1,S187,\"\")","v":""},{"$f":"+IF(U187=\"\",\"\",MAX(V$1:V186)+1)","v":""},"",null,{"$f":"IF(CMS_Identification!G209=\"\",\"\",CMS_Identification!G209)","v":""},{"$f":"IF(CMS_Identification!D209=\"\",\"\",CMS_Identification!D209)","v":""},null,null,null,{"$f":"IF(CMS_Identification!B209=\"\",\"\",CMS_Identification!B209)","v":""},{"$f":"IF(CMS_Identification!G209=\"\",\"\",CMS_Identification!G209)","v":""},{"$f":"IF(CMS_Identification!D209=\"\",\"\",CMS_Identification!D209)","v":""}]
[null,null,null,null,null,null,null,null,{"$f":"IF(LDAR_TT_summary!C110=\"\",\"\",LDAR_TT_summary!C110)","v":""},{"$f":"IF(COUNTIF(I$2:I188,I188)=1,I188,\"\")","v":""},{"$f":"+IF(J188=\"\",\"\",MAX(K$1:K187)+1)","v":""},"",null,{"$f":"IF(LDAR_H_UU_general!C110=\"\",\"\",LDAR_H_UU_general!C110)","v":""},{"$f":"IF(COUNTIF(N$2:N188,N188)=1,N188,\"\")","v":""},{"$f":"+IF(O188=\"\",\"\",MAX(P$1:P187)+1)","v":""},"",null,{"$f":"IF(CMS_Identification!G210=\"\",\"\",CMS_Identification!G210)","v":""},{"$f":"IF(CMS_Identification!B210=\"\",\"\",CMS_Identification!B210)","v":""},{"$f":"IF(COUNTIF(S$2:S188,S188)=1,S188,\"\")","v":""},{"$f":"+IF(U188=\"\",\"\",MAX(V$1:V187)+1)","v":""},"",null,{"$f":"IF(CMS_Identification!G210=\"\",\"\",CMS_Identification!G210)","v":""},{"$f":"IF(CMS_Identification!D210=\"\",\"\",CMS_Identification!D210)","v":""},null,null,null,{"$f":"IF(CMS_Identification!B210=\"\",\"\",CMS_Identification!B210)","v":""},{"$f":"IF(CMS_Identification!G210=\"\",\"\",CMS_Identification!G210)","v":""},{"$f":"IF(CMS_Identification!D210=\"\",\"\",CMS_Identification!D210)","v":""}]
[null,null,null,null,null,null,null,null,{"$f":"IF(LDAR_TT_summary!C111=\"\",\"\",LDAR_TT_summary!C111)","v":""},{"$f":"IF(COUNTIF(I$2:I189,I189)=1,I189,\"\")","v":""},{"$f":"+IF(J189=\"\",\"\",MAX(K$1:K188)+1)","v":""},"",null,{"$f":"IF(LDAR_H_UU_general!C111=\"\",\"\",LDAR_H_UU_general!C111)","v":""},{"$f":"IF(COUNTIF(N$2:N189,N189)=1,N189,\"\")","v":""},{"$f":"+IF(O189=\"\",\"\",MAX(P$1:P188)+1)","v":""},"",null,{"$f":"IF(CMS_Identification!G211=\"\",\"\",CMS_Identification!G211)","v":""},{"$f":"IF(CMS_Identification!B211=\"\",\"\",CMS_Identification!B211)","v":""},{"$f":"IF(COUNTIF(S$2:S189,S189)=1,S189,\"\")","v":""},{"$f":"+IF(U189=\"\",\"\",MAX(V$1:V188)+1)","v":""},"",null,{"$f":"IF(CMS_Identification!G211=\"\",\"\",CMS_Identification!G211)","v":""},{"$f":"IF(CMS_Identification!D211=\"\",\"\",CMS_Identification!D211)","v":""},null,null,null,{"$f":"IF(CMS_Identification!B211=\"\",\"\",CMS_Identification!B211)","v":""},{"$f":"IF(CMS_Identification!G211=\"\",\"\",CMS_Identification!G211)","v":""},{"$f":"IF(CMS_Identification!D211=\"\",\"\",CMS_Identification!D211)","v":""}]
[null,null,null,null,null,null,null,null,{"$f":"IF(LDAR_TT_summary!C112=\"\",\"\",LDAR_TT_summary!C112)","v":""},{"$f":"IF(COUNTIF(I$2:I190,I190)=1,I190,\"\")","v":""},{"$f":"+IF(J190=\"\",\"\",MAX(K$1:K189)+1)","v":""},"",null,{"$f":"IF(LDAR_H_UU_general!C112=\"\",\"\",LDAR_H_UU_general!C112)","v":""},{"$f":"IF(COUNTIF(N$2:N190,N190)=1,N190,\"\")","v":""},{"$f":"+IF(O190=\"\",\"\",MAX(P$1:P189)+1)","v":""},"",null,{"$f":"IF(CMS_Identification!G212=\"\",\"\",CMS_Identification!G212)","v":""},{"$f":"IF(CMS_Identification!B212=\"\",\"\",CMS_Identification!B212)","v":""},{"$f":"IF(COUNTIF(S$2:S190,S190)=1,S190,\"\")","v":""},{"$f":"+IF(U190=\"\",\"\",MAX(V$1:V189)+1)","v":""},"",null,{"$f":"IF(CMS_Identification!G212=\"\",\"\",CMS_Identification!G212)","v":""},{"$f":"IF(CMS_Identification!D212=\"\",\"\",CMS_Identification!D212)","v":""},null,null,null,{"$f":"IF(CMS_Identification!B212=\"\",\"\",CMS_Identification!B212)","v":""},{"$f":"IF(CMS_Identification!G212=\"\",\"\",CMS_Identification!G212)","v":""},{"$f":"IF(CMS_Identification!D212=\"\",\"\",CMS_Identification!D212)","v":""}]
[null,null,null,null,null,null,null,null,{"$f":"IF(LDAR_TT_summary!C113=\"\",\"\",LDAR_TT_summary!C113)","v":""},{"$f":"IF(COUNTIF(I$2:I191,I191)=1,I191,\"\")","v":""},{"$f":"+IF(J191=\"\",\"\",MAX(K$1:K190)+1)","v":""},"",null,{"$f":"IF(LDAR_H_UU_general!C113=\"\",\"\",LDAR_H_UU_general!C113)","v":""},{"$f":"IF(COUNTIF(N$2:N191,N191)=1,N191,\"\")","v":""},{"$f":"+IF(O191=\"\",\"\",MAX(P$1:P190)+1)","v":""},"",null,{"$f":"IF(CMS_Identification!G213=\"\",\"\",CMS_Identification!G213)","v":""},{"$f":"IF(CMS_Identification!B213=\"\",\"\",CMS_Identification!B213)","v":""},{"$f":"IF(COUNTIF(S$2:S191,S191)=1,S191,\"\")","v":""},{"$f":"+IF(U191=\"\",\"\",MAX(V$1:V190)+1)","v":""},"",null,{"$f":"IF(CMS_Identification!G213=\"\",\"\",CMS_Identification!G213)","v":""},{"$f":"IF(CMS_Identification!D213=\"\",\"\",CMS_Identification!D213)","v":""},null,null,null,{"$f":"IF(CMS_Identification!B213=\"\",\"\",CMS_Identification!B213)","v":""},{"$f":"IF(CMS_Identification!G213=\"\",\"\",CMS_Identification!G213)","v":""},{"$f":"IF(CMS_Identification!D213=\"\",\"\",CMS_Identification!D213)","v":""}]
[null,null,null,null,null,null,null,null,{"$f":"IF(LDAR_TT_summary!C114=\"\",\"\",LDAR_TT_summary!C114)","v":""},{"$f":"IF(COUNTIF(I$2:I192,I192)=1,I192,\"\")","v":""},{"$f":"+IF(J192=\"\",\"\",MAX(K$1:K191)+1)","v":""},"",null,{"$f":"IF(LDAR_H_UU_general!C114=\"\",\"\",LDAR_H_UU_general!C114)","v":""},{"$f":"IF(COUNTIF(N$2:N192,N192)=1,N192,\"\")","v":""},{"$f":"+IF(O192=\"\",\"\",MAX(P$1:P191)+1)","v":""},"",null,{"$f":"IF(CMS_Identification!G214=\"\",\"\",CMS_Identification!G214)","v":""},{"$f":"IF(CMS_Identification!B214=\"\",\"\",CMS_Identification!B214)","v":""},{"$f":"IF(COUNTIF(S$2:S192,S192)=1,S192,\"\")","v":""},{"$f":"+IF(U192=\"\",\"\",MAX(V$1:V191)+1)","v":""},"",null,{"$f":"IF(CMS_Identification!G214=\"\",\"\",CMS_Identification!G214)","v":""},{"$f":"IF(CMS_Identification!D214=\"\",\"\",CMS_Identification!D214)","v":""},null,null,null,{"$f":"IF(CMS_Identification!B214=\"\",\"\",CMS_Identification!B214)","v":""},{"$f":"IF(CMS_Identification!G214=\"\",\"\",CMS_Identification!G214)","v":""},{"$f":"IF(CMS_Identification!D214=\"\",\"\",CMS_Identification!D214)","v":""}]
[null,null,null,null,null,null,null,null,{"$f":"IF(LDAR_TT_summary!C115=\"\",\"\",LDAR_TT_summary!C115)","v":""},{"$f":"IF(COUNTIF(I$2:I193,I193)=1,I193,\"\")","v":""},{"$f":"+IF(J193=\"\",\"\",MAX(K$1:K192)+1)","v":""},"",null,{"$f":"IF(LDAR_H_UU_general!C115=\"\",\"\",LDAR_H_UU_general!C115)","v":""},{"$f":"IF(COUNTIF(N$2:N193,N193)=1,N193,\"\")","v":""},{"$f":"+IF(O193=\"\",\"\",MAX(P$1:P192)+1)","v":""},"",null,{"$f":"IF(CMS_Identification!G215=\"\",\"\",CMS_Identification!G215)","v":""},{"$f":"IF(CMS_Identification!B215=\"\",\"\",CMS_Identification!B215)","v":""},{"$f":"IF(COUNTIF(S$2:S193,S193)=1,S193,\"\")","v":""},{"$f":"+IF(U193=\"\",\"\",MAX(V$1:V192)+1)","v":""},"",null,{"$f":"IF(CMS_Identification!G215=\"\",\"\",CMS_Identification!G215)","v":""},{"$f":"IF(CMS_Identification!D215=\"\",\"\",CMS_Identification!D215)","v":""},null,null,null,{"$f":"IF(CMS_Identification!B215=\"\",\"\",CMS_Identification!B215)","v":""},{"$f":"IF(CMS_Identification!G215=\"\",\"\",CMS_Identification!G215)","v":""},{"$f":"IF(CMS_Identification!D215=\"\",\"\",CMS_Identification!D215)","v":""}]
[null,null,null,null,null,null,null,null,{"$f":"IF(LDAR_TT_summary!C116=\"\",\"\",LDAR_TT_summary!C116)","v":""},{"$f":"IF(COUNTIF(I$2:I194,I194)=1,I194,\"\")","v":""},{"$f":"+IF(J194=\"\",\"\",MAX(K$1:K193)+1)","v":""},"",null,{"$f":"IF(LDAR_H_UU_general!C116=\"\",\"\",LDAR_H_UU_general!C116)","v":""},{"$f":"IF(COUNTIF(N$2:N194,N194)=1,N194,\"\")","v":""},{"$f":"+IF(O194=\"\",\"\",MAX(P$1:P193)+1)","v":""},"",null,{"$f":"IF(CMS_Identification!G216=\"\",\"\",CMS_Identification!G216)","v":""},{"$f":"IF(CMS_Identification!B216=\"\",\"\",CMS_Identification!B216)","v":""},{"$f":"IF(COUNTIF(S$2:S194,S194)=1,S194,\"\")","v":""},{"$f":"+IF(U194=\"\",\"\",MAX(V$1:V193)+1)","v":""},{"$f":"+IFERROR(INDEX($S$2:$S$501,MATCH(ROW()-ROW($V$1),$V$2:$V$501,0)),\"\")","v":""},null,{"$f":"IF(CMS_Identification!G216=\"\",\"\",CMS_Identification!G216)","v":""},{"$f":"IF(CMS_Identification!D216=\"\",\"\",CMS_Identification!D216)","v":""},null,null,null,{"$f":"IF(CMS_Identification!B216=\"\",\"\",CMS_Identification!B216)","v":""},{"$f":"IF(CMS_Identification!G216=\"\",\"\",CMS_Identification!G216)","v":""},{"$f":"IF(CMS_Identification!D216=\"\",\"\",CMS_Identification!D216)","v":""}]
[null,null,null,null,null,null,null,null,{"$f":"IF(LDAR_TT_summary!C117=\"\",\"\",LDAR_TT_summary!C117)","v":""},{"$f":"IF(COUNTIF(I$2:I195,I195)=1,I195,\"\")","v":""},{"$f":"+IF(J195=\"\",\"\",MAX(K$1:K194)+1)","v":""},{"$f":"+IFERROR(INDEX($I$2:$I$801,MATCH(ROW()-ROW($K$1),$K$2:$K$801,0)),\"\")","v":""},null,{"$f":"IF(LDAR_H_UU_general!C117=\"\",\"\",LDAR_H_UU_general!C117)","v":""},{"$f":"IF(COUNTIF(N$2:N195,N195)=1,N195,\"\")","v":""},{"$f":"+IF(O195=\"\",\"\",MAX(P$1:P194)+1)","v":""},{"$f":"+IFERROR(INDEX($N$2:$N$2001,MATCH(ROW()-ROW($P$1),$P$2:$P$2001,0)),\"\")","v":""},null,{"$f":"IF(CMS_Identification!G217=\"\",\"\",CMS_Identification!G217)","v":""},{"$f":"IF(CMS_Identification!B217=\"\",\"\",CMS_Identification!B217)","v":""},{"$f":"IF(COUNTIF(S$2:S195,S195)=1,S195,\"\")","v":""},{"$f":"+IF(U195=\"\",\"\",MAX(V$1:V194)+1)","v":""},"",null,{"$f":"IF(CMS_Identification!G217=\"\",\"\",CMS_Identification!G217)","v":""},{"$f":"IF(CMS_Identification!D217=\"\",\"\",CMS_Identification!D217)","v":""},null,null,null,{"$f":"IF(CMS_Identification!B217=\"\",\"\",CMS_Identification!B217)","v":""},{"$f":"IF(CMS_Identification!G217=\"\",\"\",CMS_Identification!G217)","v":""},{"$f":"IF(CMS_Identification!D217=\"\",\"\",CMS_Identification!D217)","v":""}]
[null,null,null,null,null,null,null,null,{"$f":"IF(LDAR_TT_summary!C118=\"\",\"\",LDAR_TT_summary!C118)","v":""},{"$f":"IF(COUNTIF(I$2:I196,I196)=1,I196,\"\")","v":""},{"$f":"+IF(J196=\"\",\"\",MAX(K$1:K195)+1)","v":""},"",null,{"$f":"IF(LDAR_H_UU_general!C118=\"\",\"\",LDAR_H_UU_general!C118)","v":""},{"$f":"IF(COUNTIF(N$2:N196,N196)=1,N196,\"\")","v":""},{"$f":"+IF(O196=\"\",\"\",MAX(P$1:P195)+1)","v":""},"",null,{"$f":"IF(CMS_Identification!G218=\"\",\"\",CMS_Identification!G218)","v":""},{"$f":"IF(CMS_Identification!B218=\"\",\"\",CMS_Identification!B218)","v":""},{"$f":"IF(COUNTIF(S$2:S196,S196)=1,S196,\"\")","v":""},{"$f":"+IF(U196=\"\",\"\",MAX(V$1:V195)+1)","v":""},"",null,{"$f":"IF(CMS_Identification!G218=\"\",\"\",CMS_Identification!G218)","v":""},{"$f":"IF(CMS_Identification!D218=\"\",\"\",CMS_Identification!D218)","v":""},null,null,null,{"$f":"IF(CMS_Identification!B218=\"\",\"\",CMS_Identification!B218)","v":""},{"$f":"IF(CMS_Identification!G218=\"\",\"\",CMS_Identification!G218)","v":""},{"$f":"IF(CMS_Identification!D218=\"\",\"\",CMS_Identification!D218)","v":""}]
[null,null,null,null,null,null,null,null,{"$f":"IF(LDAR_TT_summary!C119=\"\",\"\",LDAR_TT_summary!C119)","v":""},{"$f":"IF(COUNTIF(I$2:I197,I197)=1,I197,\"\")","v":""},{"$f":"+IF(J197=\"\",\"\",MAX(K$1:K196)+1)","v":""},"",null,{"$f":"IF(LDAR_H_UU_general!C119=\"\",\"\",LDAR_H_UU_general!C119)","v":""},{"$f":"IF(COUNTIF(N$2:N197,N197)=1,N197,\"\")","v":""},{"$f":"+IF(O197=\"\",\"\",MAX(P$1:P196)+1)","v":""},"",null,{"$f":"IF(CMS_Identification!G219=\"\",\"\",CMS_Identification!G219)","v":""},{"$f":"IF(CMS_Identification!B219=\"\",\"\",CMS_Identification!B219)","v":""},{"$f":"IF(COUNTIF(S$2:S197,S197)=1,S197,\"\")","v":""},{"$f":"+IF(U197=\"\",\"\",MAX(V$1:V196)+1)","v":""},"",null,{"$f":"IF(CMS_Identification!G219=\"\",\"\",CMS_Identification!G219)","v":""},{"$f":"IF(CMS_Identification!D219=\"\",\"\",CMS_Identification!D219)","v":""},null,null,null,{"$f":"IF(CMS_Identification!B219=\"\",\"\",CMS_Identification!B219)","v":""},{"$f":"IF(CMS_Identification!G219=\"\",\"\",CMS_Identification!G219)","v":""},{"$f":"IF(CMS_Identification!D219=\"\",\"\",CMS_Identification!D219)","v":""}]
[null,null,null,null,null,null,null,null,{"$f":"IF(LDAR_TT_summary!C120=\"\",\"\",LDAR_TT_summary!C120)","v":""},{"$f":"IF(COUNTIF(I$2:I198,I198)=1,I198,\"\")","v":""},{"$f":"+IF(J198=\"\",\"\",MAX(K$1:K197)+1)","v":""},"",null,{"$f":"IF(LDAR_H_UU_general!C120=\"\",\"\",LDAR_H_UU_general!C120)","v":""},{"$f":"IF(COUNTIF(N$2:N198,N198)=1,N198,\"\")","v":""},{"$f":"+IF(O198=\"\",\"\",MAX(P$1:P197)+1)","v":""},"",null,{"$f":"IF(CMS_Identification!G220=\"\",\"\",CMS_Identification!G220)","v":""},{"$f":"IF(CMS_Identification!B220=\"\",\"\",CMS_Identification!B220)","v":""},{"$f":"IF(COUNTIF(S$2:S198,S198)=1,S198,\"\")","v":""},{"$f":"+IF(U198=\"\",\"\",MAX(V$1:V197)+1)","v":""},"",null,{"$f":"IF(CMS_Identification!G220=\"\",\"\",CMS_Identification!G220)","v":""},{"$f":"IF(CMS_Identification!D220=\"\",\"\",CMS_Identification!D220)","v":""},null,null,null,{"$f":"IF(CMS_Identification!B220=\"\",\"\",CMS_Identification!B220)","v":""},{"$f":"IF(CMS_Identification!G220=\"\",\"\",CMS_Identification!G220)","v":""},{"$f":"IF(CMS_Identification!D220=\"\",\"\",CMS_Identification!D220)","v":""}]
[null,null,null,null,null,null,null,null,{"$f":"IF(LDAR_TT_summary!C121=\"\",\"\",LDAR_TT_summary!C121)","v":""},{"$f":"IF(COUNTIF(I$2:I199,I199)=1,I199,\"\")","v":""},{"$f":"+IF(J199=\"\",\"\",MAX(K$1:K198)+1)","v":""},"",null,{"$f":"IF(LDAR_H_UU_general!C121=\"\",\"\",LDAR_H_UU_general!C121)","v":""},{"$f":"IF(COUNTIF(N$2:N199,N199)=1,N199,\"\")","v":""},{"$f":"+IF(O199=\"\",\"\",MAX(P$1:P198)+1)","v":""},"",null,{"$f":"IF(CMS_Identification!G221=\"\",\"\",CMS_Identification!G221)","v":""},{"$f":"IF(CMS_Identification!B221=\"\",\"\",CMS_Identification!B221)","v":""},{"$f":"IF(COUNTIF(S$2:S199,S199)=1,S199,\"\")","v":""},{"$f":"+IF(U199=\"\",\"\",MAX(V$1:V198)+1)","v":""},"",null,{"$f":"IF(CMS_Identification!G221=\"\",\"\",CMS_Identification!G221)","v":""},{"$f":"IF(CMS_Identification!D221=\"\",\"\",CMS_Identification!D221)","v":""},null,null,null,{"$f":"IF(CMS_Identification!B221=\"\",\"\",CMS_Identification!B221)","v":""},{"$f":"IF(CMS_Identification!G221=\"\",\"\",CMS_Identification!G221)","v":""},{"$f":"IF(CMS_Identification!D221=\"\",\"\",CMS_Identification!D221)","v":""}]
[null,null,null,null,null,null,null,null,{"$f":"IF(LDAR_TT_summary!C122=\"\",\"\",LDAR_TT_summary!C122)","v":""},{"$f":"IF(COUNTIF(I$2:I200,I200)=1,I200,\"\")","v":""},{"$f":"+IF(J200=\"\",\"\",MAX(K$1:K199)+1)","v":""},"",null,{"$f":"IF(LDAR_H_UU_general!C122=\"\",\"\",LDAR_H_UU_general!C122)","v":""},{"$f":"IF(COUNTIF(N$2:N200,N200)=1,N200,\"\")","v":""},{"$f":"+IF(O200=\"\",\"\",MAX(P$1:P199)+1)","v":""},"",null,{"$f":"IF(CMS_Identification!G222=\"\",\"\",CMS_Identification!G222)","v":""},{"$f":"IF(CMS_Identification!B222=\"\",\"\",CMS_Identification!B222)","v":""},{"$f":"IF(COUNTIF(S$2:S200,S200)=1,S200,\"\")","v":""},{"$f":"+IF(U200=\"\",\"\",MAX(V$1:V199)+1)","v":""},"",null,{"$f":"IF(CMS_Identification!G222=\"\",\"\",CMS_Identification!G222)","v":""},{"$f":"IF(CMS_Identification!D222=\"\",\"\",CMS_Identification!D222)","v":""},null,null,null,{"$f":"IF(CMS_Identification!B222=\"\",\"\",CMS_Identification!B222)","v":""},{"$f":"IF(CMS_Identification!G222=\"\",\"\",CMS_Identification!G222)","v":""},{"$f":"IF(CMS_Identification!D222=\"\",\"\",CMS_Identification!D222)","v":""}]
[null,null,null,null,null,null,null,null,{"$f":"IF(LDAR_TT_summary!C123=\"\",\"\",LDAR_TT_summary!C123)","v":""},{"$f":"IF(COUNTIF(I$2:I201,I201)=1,I201,\"\")","v":""},{"$f":"+IF(J201=\"\",\"\",MAX(K$1:K200)+1)","v":""},"",null,{"$f":"IF(LDAR_H_UU_general!C123=\"\",\"\",LDAR_H_UU_general!C123)","v":""},{"$f":"IF(COUNTIF(N$2:N201,N201)=1,N201,\"\")","v":""},{"$f":"+IF(O201=\"\",\"\",MAX(P$1:P200)+1)","v":""},"",null,{"$f":"IF(CMS_Identification!G223=\"\",\"\",CMS_Identification!G223)","v":""},{"$f":"IF(CMS_Identification!B223=\"\",\"\",CMS_Identification!B223)","v":""},{"$f":"IF(COUNTIF(S$2:S201,S201)=1,S201,\"\")","v":""},{"$f":"+IF(U201=\"\",\"\",MAX(V$1:V200)+1)","v":""},"",null,{"$f":"IF(CMS_Identification!G223=\"\",\"\",CMS_Identification!G223)","v":""},{"$f":"IF(CMS_Identification!D223=\"\",\"\",CMS_Identification!D223)","v":""},null,null,null,{"$f":"IF(CMS_Identification!B223=\"\",\"\",CMS_Identification!B223)","v":""},{"$f":"IF(CMS_Identification!G223=\"\",\"\",CMS_Identification!G223)","v":""},{"$f":"IF(CMS_Identification!D223=\"\",\"\",CMS_Identification!D223)","v":""}]
[null,null,null,null,null,null,null,null,{"$f":"IF(LDAR_TT_summary!C124=\"\",\"\",LDAR_TT_summary!C124)","v":""},{"$f":"IF(COUNTIF(I$2:I202,I202)=1,I202,\"\")","v":""},{"$f":"+IF(J202=\"\",\"\",MAX(K$1:K201)+1)","v":""},"",null,{"$f":"IF(LDAR_H_UU_summary!C24=\"\",\"\",LDAR_H_UU_summary!C24)","v":""},{"$f":"IF(COUNTIF(N$2:N202,N202)=1,N202,\"\")","v":""},{"$f":"+IF(O202=\"\",\"\",MAX(P$1:P201)+1)","v":""},"",null,{"$f":"IF(CMS_Identification!G224=\"\",\"\",CMS_Identification!G224)","v":""},{"$f":"IF(CMS_Identification!B224=\"\",\"\",CMS_Identification!B224)","v":""},{"$f":"IF(COUNTIF(S$2:S202,S202)=1,S202,\"\")","v":""},{"$f":"+IF(U202=\"\",\"\",MAX(V$1:V201)+1)","v":""},"",null,{"$f":"IF(CMS_Identification!G224=\"\",\"\",CMS_Identification!G224)","v":""},{"$f":"IF(CMS_Identification!D224=\"\",\"\",CMS_Identification!D224)","v":""},null,null,null,{"$f":"IF(CMS_Identification!B224=\"\",\"\",CMS_Identification!B224)","v":""},{"$f":"IF(CMS_Identification!G224=\"\",\"\",CMS_Identification!G224)","v":""},{"$f":"IF(CMS_Identification!D224=\"\",\"\",CMS_Identification!D224)","v":""}]
[null,null,null,null,null,null,null,null,{"$f":"IF(LDAR_TT_summary!C125=\"\",\"\",LDAR_TT_summary!C125)","v":""},{"$f":"IF(COUNTIF(I$2:I203,I203)=1,I203,\"\")","v":""},{"$f":"+IF(J203=\"\",\"\",MAX(K$1:K202)+1)","v":""},"",null,{"$f":"IF(LDAR_H_UU_summary!C25=\"\",\"\",LDAR_H_UU_summary!C25)","v":""},{"$f":"IF(COUNTIF(N$2:N203,N203)=1,N203,\"\")","v":""},{"$f":"+IF(O203=\"\",\"\",MAX(P$1:P202)+1)","v":""},"",null,{"$f":"IF(CMS_Identification!G225=\"\",\"\",CMS_Identification!G225)","v":""},{"$f":"IF(CMS_Identification!B225=\"\",\"\",CMS_Identification!B225)","v":""},{"$f":"IF(COUNTIF(S$2:S203,S203)=1,S203,\"\")","v":""},{"$f":"+IF(U203=\"\",\"\",MAX(V$1:V202)+1)","v":""},"",null,{"$f":"IF(CMS_Identification!G225=\"\",\"\",CMS_Identification!G225)","v":""},{"$f":"IF(CMS_Identification!D225=\"\",\"\",CMS_Identification!D225)","v":""},null,null,null,{"$f":"IF(CMS_Identification!B225=\"\",\"\",CMS_Identification!B225)","v":""},{"$f":"IF(CMS_Identification!G225=\"\",\"\",CMS_Identification!G225)","v":""},{"$f":"IF(CMS_Identification!D225=\"\",\"\",CMS_Identification!D225)","v":""}]
[null,null,null,null,null,null,null,null,{"$f":"IF(LDAR_TT_summary!C126=\"\",\"\",LDAR_TT_summary!C126)","v":""},{"$f":"IF(COUNTIF(I$2:I204,I204)=1,I204,\"\")","v":""},{"$f":"+IF(J204=\"\",\"\",MAX(K$1:K203)+1)","v":""},"",null,{"$f":"IF(LDAR_H_UU_summary!C26=\"\",\"\",LDAR_H_UU_summary!C26)","v":""},{"$f":"IF(COUNTIF(N$2:N204,N204)=1,N204,\"\")","v":""},{"$f":"+IF(O204=\"\",\"\",MAX(P$1:P203)+1)","v":""},"",null,{"$f":"IF(CMS_Identification!G226=\"\",\"\",CMS_Identification!G226)","v":""},{"$f":"IF(CMS_Identification!B226=\"\",\"\",CMS_Identification!B226)","v":""},{"$f":"IF(COUNTIF(S$2:S204,S204)=1,S204,\"\")","v":""},{"$f":"+IF(U204=\"\",\"\",MAX(V$1:V203)+1)","v":""},"",null,{"$f":"IF(CMS_Identification!G226=\"\",\"\",CMS_Identification!G226)","v":""},{"$f":"IF(CMS_Identification!D226=\"\",\"\",CMS_Identification!D226)","v":""},null,null,null,{"$f":"IF(CMS_Identification!B226=\"\",\"\",CMS_Identification!B226)","v":""},{"$f":"IF(CMS_Identification!G226=\"\",\"\",CMS_Identification!G226)","v":""},{"$f":"IF(CMS_Identification!D226=\"\",\"\",CMS_Identification!D226)","v":""}]
[null,null,null,null,null,null,null,null,{"$f":"IF(LDAR_TT_summary!C127=\"\",\"\",LDAR_TT_summary!C127)","v":""},{"$f":"IF(COUNTIF(I$2:I205,I205)=1,I205,\"\")","v":""},{"$f":"+IF(J205=\"\",\"\",MAX(K$1:K204)+1)","v":""},"",null,{"$f":"IF(LDAR_H_UU_summary!C27=\"\",\"\",LDAR_H_UU_summary!C27)","v":""},{"$f":"IF(COUNTIF(N$2:N205,N205)=1,N205,\"\")","v":""},{"$f":"+IF(O205=\"\",\"\",MAX(P$1:P204)+1)","v":""},"",null,{"$f":"IF(CMS_Identification!G227=\"\",\"\",CMS_Identification!G227)","v":""},{"$f":"IF(CMS_Identification!B227=\"\",\"\",CMS_Identification!B227)","v":""},{"$f":"IF(COUNTIF(S$2:S205,S205)=1,S205,\"\")","v":""},{"$f":"+IF(U205=\"\",\"\",MAX(V$1:V204)+1)","v":""},"",null,{"$f":"IF(CMS_Identification!G227=\"\",\"\",CMS_Identification!G227)","v":""},{"$f":"IF(CMS_Identification!D227=\"\",\"\",CMS_Identification!D227)","v":""},null,null,null,{"$f":"IF(CMS_Identification!B227=\"\",\"\",CMS_Identification!B227)","v":""},{"$f":"IF(CMS_Identification!G227=\"\",\"\",CMS_Identification!G227)","v":""},{"$f":"IF(CMS_Identification!D227=\"\",\"\",CMS_Identification!D227)","v":""}]
[null,null,null,null,null,null,null,null,{"$f":"IF(LDAR_TT_summary!C128=\"\",\"\",LDAR_TT_summary!C128)","v":""},{"$f":"IF(COUNTIF(I$2:I206,I206)=1,I206,\"\")","v":""},{"$f":"+IF(J206=\"\",\"\",MAX(K$1:K205)+1)","v":""},"",null,{"$f":"IF(LDAR_H_UU_summary!C28=\"\",\"\",LDAR_H_UU_summary!C28)","v":""},{"$f":"IF(COUNTIF(N$2:N206,N206)=1,N206,\"\")","v":""},{"$f":"+IF(O206=\"\",\"\",MAX(P$1:P205)+1)","v":""},"",null,{"$f":"IF(CMS_Identification!G228=\"\",\"\",CMS_Identification!G228)","v":""},{"$f":"IF(CMS_Identification!B228=\"\",\"\",CMS_Identification!B228)","v":""},{"$f":"IF(COUNTIF(S$2:S206,S206)=1,S206,\"\")","v":""},{"$f":"+IF(U206=\"\",\"\",MAX(V$1:V205)+1)","v":""},"",null,{"$f":"IF(CMS_Identification!G228=\"\",\"\",CMS_Identification!G228)","v":""},{"$f":"IF(CMS_Identification!D228=\"\",\"\",CMS_Identification!D228)","v":""},null,null,null,{"$f":"IF(CMS_Identification!B228=\"\",\"\",CMS_Identification!B228)","v":""},{"$f":"IF(CMS_Identification!G228=\"\",\"\",CMS_Identification!G228)","v":""},{"$f":"IF(CMS_Identification!D228=\"\",\"\",CMS_Identification!D228)","v":""}]
[null,null,null,null,null,null,null,null,{"$f":"IF(LDAR_TT_summary!C129=\"\",\"\",LDAR_TT_summary!C129)","v":""},{"$f":"IF(COUNTIF(I$2:I207,I207)=1,I207,\"\")","v":""},{"$f":"+IF(J207=\"\",\"\",MAX(K$1:K206)+1)","v":""},"",null,{"$f":"IF(LDAR_H_UU_summary!C29=\"\",\"\",LDAR_H_UU_summary!C29)","v":""},{"$f":"IF(COUNTIF(N$2:N207,N207)=1,N207,\"\")","v":""},{"$f":"+IF(O207=\"\",\"\",MAX(P$1:P206)+1)","v":""},"",null,{"$f":"IF(CMS_Identification!G229=\"\",\"\",CMS_Identification!G229)","v":""},{"$f":"IF(CMS_Identification!B229=\"\",\"\",CMS_Identification!B229)","v":""},{"$f":"IF(COUNTIF(S$2:S207,S207)=1,S207,\"\")","v":""},{"$f":"+IF(U207=\"\",\"\",MAX(V$1:V206)+1)","v":""},"",null,{"$f":"IF(CMS_Identification!G229=\"\",\"\",CMS_Identification!G229)","v":""},{"$f":"IF(CMS_Identification!D229=\"\",\"\",CMS_Identification!D229)","v":""},null,null,null,{"$f":"IF(CMS_Identification!B229=\"\",\"\",CMS_Identification!B229)","v":""},{"$f":"IF(CMS_Identification!G229=\"\",\"\",CMS_Identification!G229)","v":""},{"$f":"IF(CMS_Identification!D229=\"\",\"\",CMS_Identification!D229)","v":""}]
[null,null,null,null,null,null,null,null,{"$f":"IF(LDAR_TT_summary!C130=\"\",\"\",LDAR_TT_summary!C130)","v":""},{"$f":"IF(COUNTIF(I$2:I208,I208)=1,I208,\"\")","v":""},{"$f":"+IF(J208=\"\",\"\",MAX(K$1:K207)+1)","v":""},"",null,{"$f":"IF(LDAR_H_UU_summary!C30=\"\",\"\",LDAR_H_UU_summary!C30)","v":""},{"$f":"IF(COUNTIF(N$2:N208,N208)=1,N208,\"\")","v":""},{"$f":"+IF(O208=\"\",\"\",MAX(P$1:P207)+1)","v":""},"",null,{"$f":"IF(CMS_Identification!G230=\"\",\"\",CMS_Identification!G230)","v":""},{"$f":"IF(CMS_Identification!B230=\"\",\"\",CMS_Identification!B230)","v":""},{"$f":"IF(COUNTIF(S$2:S208,S208)=1,S208,\"\")","v":""},{"$f":"+IF(U208=\"\",\"\",MAX(V$1:V207)+1)","v":""},"",null,{"$f":"IF(CMS_Identification!G230=\"\",\"\",CMS_Identification!G230)","v":""},{"$f":"IF(CMS_Identification!D230=\"\",\"\",CMS_Identification!D230)","v":""},null,null,null,{"$f":"IF(CMS_Identification!B230=\"\",\"\",CMS_Identification!B230)","v":""},{"$f":"IF(CMS_Identification!G230=\"\",\"\",CMS_Identification!G230)","v":""},{"$f":"IF(CMS_Identification!D230=\"\",\"\",CMS_Identification!D230)","v":""}]
[null,null,null,null,null,null,null,null,{"$f":"IF(LDAR_TT_summary!C131=\"\",\"\",LDAR_TT_summary!C131)","v":""},{"$f":"IF(COUNTIF(I$2:I209,I209)=1,I209,\"\")","v":""},{"$f":"+IF(J209=\"\",\"\",MAX(K$1:K208)+1)","v":""},"",null,{"$f":"IF(LDAR_H_UU_summary!C31=\"\",\"\",LDAR_H_UU_summary!C31)","v":""},{"$f":"IF(COUNTIF(N$2:N209,N209)=1,N209,\"\")","v":""},{"$f":"+IF(O209=\"\",\"\",MAX(P$1:P208)+1)","v":""},"",null,{"$f":"IF(CMS_Identification!G231=\"\",\"\",CMS_Identification!G231)","v":""},{"$f":"IF(CMS_Identification!B231=\"\",\"\",CMS_Identification!B231)","v":""},{"$f":"IF(COUNTIF(S$2:S209,S209)=1,S209,\"\")","v":""},{"$f":"+IF(U209=\"\",\"\",MAX(V$1:V208)+1)","v":""},"",null,{"$f":"IF(CMS_Identification!G231=\"\",\"\",CMS_Identification!G231)","v":""},{"$f":"IF(CMS_Identification!D231=\"\",\"\",CMS_Identification!D231)","v":""},null,null,null,{"$f":"IF(CMS_Identification!B231=\"\",\"\",CMS_Identification!B231)","v":""},{"$f":"IF(CMS_Identification!G231=\"\",\"\",CMS_Identification!G231)","v":""},{"$f":"IF(CMS_Identification!D231=\"\",\"\",CMS_Identification!D231)","v":""}]
[null,null,null,null,null,null,null,null,{"$f":"IF(LDAR_TT_summary!C132=\"\",\"\",LDAR_TT_summary!C132)","v":""},{"$f":"IF(COUNTIF(I$2:I210,I210)=1,I210,\"\")","v":""},{"$f":"+IF(J210=\"\",\"\",MAX(K$1:K209)+1)","v":""},"",null,{"$f":"IF(LDAR_H_UU_summary!C32=\"\",\"\",LDAR_H_UU_summary!C32)","v":""},{"$f":"IF(COUNTIF(N$2:N210,N210)=1,N210,\"\")","v":""},{"$f":"+IF(O210=\"\",\"\",MAX(P$1:P209)+1)","v":""},"",null,{"$f":"IF(CMS_Identification!G232=\"\",\"\",CMS_Identification!G232)","v":""},{"$f":"IF(CMS_Identification!B232=\"\",\"\",CMS_Identification!B232)","v":""},{"$f":"IF(COUNTIF(S$2:S210,S210)=1,S210,\"\")","v":""},{"$f":"+IF(U210=\"\",\"\",MAX(V$1:V209)+1)","v":""},"",null,{"$f":"IF(CMS_Identification!G232=\"\",\"\",CMS_Identification!G232)","v":""},{"$f":"IF(CMS_Identification!D232=\"\",\"\",CMS_Identification!D232)","v":""},null,null,null,{"$f":"IF(CMS_Identification!B232=\"\",\"\",CMS_Identification!B232)","v":""},{"$f":"IF(CMS_Identification!G232=\"\",\"\",CMS_Identification!G232)","v":""},{"$f":"IF(CMS_Identification!D232=\"\",\"\",CMS_Identification!D232)","v":""}]
[null,null,null,null,null,null,null,null,{"$f":"IF(LDAR_TT_summary!C133=\"\",\"\",LDAR_TT_summary!C133)","v":""},{"$f":"IF(COUNTIF(I$2:I211,I211)=1,I211,\"\")","v":""},{"$f":"+IF(J211=\"\",\"\",MAX(K$1:K210)+1)","v":""},"",null,{"$f":"IF(LDAR_H_UU_summary!C33=\"\",\"\",LDAR_H_UU_summary!C33)","v":""},{"$f":"IF(COUNTIF(N$2:N211,N211)=1,N211,\"\")","v":""},{"$f":"+IF(O211=\"\",\"\",MAX(P$1:P210)+1)","v":""},"",null,{"$f":"IF(CMS_Identification!G233=\"\",\"\",CMS_Identification!G233)","v":""},{"$f":"IF(CMS_Identification!B233=\"\",\"\",CMS_Identification!B233)","v":""},{"$f":"IF(COUNTIF(S$2:S211,S211)=1,S211,\"\")","v":""},{"$f":"+IF(U211=\"\",\"\",MAX(V$1:V210)+1)","v":""},"",null,{"$f":"IF(CMS_Identification!G233=\"\",\"\",CMS_Identification!G233)","v":""},{"$f":"IF(CMS_Identification!D233=\"\",\"\",CMS_Identification!D233)","v":""},null,null,null,{"$f":"IF(CMS_Identification!B233=\"\",\"\",CMS_Identification!B233)","v":""},{"$f":"IF(CMS_Identification!G233=\"\",\"\",CMS_Identification!G233)","v":""},{"$f":"IF(CMS_Identification!D233=\"\",\"\",CMS_Identification!D233)","v":""}]
[null,null,null,null,null,null,null,null,{"$f":"IF(LDAR_TT_summary!C134=\"\",\"\",LDAR_TT_summary!C134)","v":""},{"$f":"IF(COUNTIF(I$2:I212,I212)=1,I212,\"\")","v":""},{"$f":"+IF(J212=\"\",\"\",MAX(K$1:K211)+1)","v":""},"",null,{"$f":"IF(LDAR_H_UU_summary!C34=\"\",\"\",LDAR_H_UU_summary!C34)","v":""},{"$f":"IF(COUNTIF(N$2:N212,N212)=1,N212,\"\")","v":""},{"$f":"+IF(O212=\"\",\"\",MAX(P$1:P211)+1)","v":""},"",null,{"$f":"IF(CMS_Identification!G234=\"\",\"\",CMS_Identification!G234)","v":""},{"$f":"IF(CMS_Identification!B234=\"\",\"\",CMS_Identification!B234)","v":""},{"$f":"IF(COUNTIF(S$2:S212,S212)=1,S212,\"\")","v":""},{"$f":"+IF(U212=\"\",\"\",MAX(V$1:V211)+1)","v":""},"",null,{"$f":"IF(CMS_Identification!G234=\"\",\"\",CMS_Identification!G234)","v":""},{"$f":"IF(CMS_Identification!D234=\"\",\"\",CMS_Identification!D234)","v":""},null,null,null,{"$f":"IF(CMS_Identification!B234=\"\",\"\",CMS_Identification!B234)","v":""},{"$f":"IF(CMS_Identification!G234=\"\",\"\",CMS_Identification!G234)","v":""},{"$f":"IF(CMS_Identification!D234=\"\",\"\",CMS_Identification!D234)","v":""}]
[null,null,null,null,null,null,null,null,{"$f":"IF(LDAR_TT_summary!C135=\"\",\"\",LDAR_TT_summary!C135)","v":""},{"$f":"IF(COUNTIF(I$2:I213,I213)=1,I213,\"\")","v":""},{"$f":"+IF(J213=\"\",\"\",MAX(K$1:K212)+1)","v":""},"",null,{"$f":"IF(LDAR_H_UU_summary!C35=\"\",\"\",LDAR_H_UU_summary!C35)","v":""},{"$f":"IF(COUNTIF(N$2:N213,N213)=1,N213,\"\")","v":""},{"$f":"+IF(O213=\"\",\"\",MAX(P$1:P212)+1)","v":""},"",null,{"$f":"IF(CMS_Identification!G235=\"\",\"\",CMS_Identification!G235)","v":""},{"$f":"IF(CMS_Identification!B235=\"\",\"\",CMS_Identification!B235)","v":""},{"$f":"IF(COUNTIF(S$2:S213,S213)=1,S213,\"\")","v":""},{"$f":"+IF(U213=\"\",\"\",MAX(V$1:V212)+1)","v":""},"",null,{"$f":"IF(CMS_Identification!G235=\"\",\"\",CMS_Identification!G235)","v":""},{"$f":"IF(CMS_Identification!D235=\"\",\"\",CMS_Identification!D235)","v":""},null,null,null,{"$f":"IF(CMS_Identification!B235=\"\",\"\",CMS_Identification!B235)","v":""},{"$f":"IF(CMS_Identification!G235=\"\",\"\",CMS_Identification!G235)","v":""},{"$f":"IF(CMS_Identification!D235=\"\",\"\",CMS_Identification!D235)","v":""}]
[null,null,null,null,null,null,null,null,{"$f":"IF(LDAR_TT_summary!C136=\"\",\"\",LDAR_TT_summary!C136)","v":""},{"$f":"IF(COUNTIF(I$2:I214,I214)=1,I214,\"\")","v":""},{"$f":"+IF(J214=\"\",\"\",MAX(K$1:K213)+1)","v":""},"",null,{"$f":"IF(LDAR_H_UU_summary!C36=\"\",\"\",LDAR_H_UU_summary!C36)","v":""},{"$f":"IF(COUNTIF(N$2:N214,N214)=1,N214,\"\")","v":""},{"$f":"+IF(O214=\"\",\"\",MAX(P$1:P213)+1)","v":""},"",null,{"$f":"IF(CMS_Identification!G236=\"\",\"\",CMS_Identification!G236)","v":""},{"$f":"IF(CMS_Identification!B236=\"\",\"\",CMS_Identification!B236)","v":""},{"$f":"IF(COUNTIF(S$2:S214,S214)=1,S214,\"\")","v":""},{"$f":"+IF(U214=\"\",\"\",MAX(V$1:V213)+1)","v":""},"",null,{"$f":"IF(CMS_Identification!G236=\"\",\"\",CMS_Identification!G236)","v":""},{"$f":"IF(CMS_Identification!D236=\"\",\"\",CMS_Identification!D236)","v":""},null,null,null,{"$f":"IF(CMS_Identification!B236=\"\",\"\",CMS_Identification!B236)","v":""},{"$f":"IF(CMS_Identification!G236=\"\",\"\",CMS_Identification!G236)","v":""},{"$f":"IF(CMS_Identification!D236=\"\",\"\",CMS_Identification!D236)","v":""}]
[null,null,null,null,null,null,null,null,{"$f":"IF(LDAR_TT_summary!C137=\"\",\"\",LDAR_TT_summary!C137)","v":""},{"$f":"IF(COUNTIF(I$2:I215,I215)=1,I215,\"\")","v":""},{"$f":"+IF(J215=\"\",\"\",MAX(K$1:K214)+1)","v":""},"",null,{"$f":"IF(LDAR_H_UU_summary!C37=\"\",\"\",LDAR_H_UU_summary!C37)","v":""},{"$f":"IF(COUNTIF(N$2:N215,N215)=1,N215,\"\")","v":""},{"$f":"+IF(O215=\"\",\"\",MAX(P$1:P214)+1)","v":""},"",null,{"$f":"IF(CMS_Identification!G237=\"\",\"\",CMS_Identification!G237)","v":""},{"$f":"IF(CMS_Identification!B237=\"\",\"\",CMS_Identification!B237)","v":""},{"$f":"IF(COUNTIF(S$2:S215,S215)=1,S215,\"\")","v":""},{"$f":"+IF(U215=\"\",\"\",MAX(V$1:V214)+1)","v":""},"",null,{"$f":"IF(CMS_Identification!G237=\"\",\"\",CMS_Identification!G237)","v":""},{"$f":"IF(CMS_Identification!D237=\"\",\"\",CMS_Identification!D237)","v":""},null,null,null,{"$f":"IF(CMS_Identification!B237=\"\",\"\",CMS_Identification!B237)","v":""},{"$f":"IF(CMS_Identification!G237=\"\",\"\",CMS_Identification!G237)","v":""},{"$f":"IF(CMS_Identification!D237=\"\",\"\",CMS_Identification!D237)","v":""}]
[null,null,null,null,null,null,null,null,{"$f":"IF(LDAR_TT_summary!C138=\"\",\"\",LDAR_TT_summary!C138)","v":""},{"$f":"IF(COUNTIF(I$2:I216,I216)=1,I216,\"\")","v":""},{"$f":"+IF(J216=\"\",\"\",MAX(K$1:K215)+1)","v":""},"",null,{"$f":"IF(LDAR_H_UU_summary!C38=\"\",\"\",LDAR_H_UU_summary!C38)","v":""},{"$f":"IF(COUNTIF(N$2:N216,N216)=1,N216,\"\")","v":""},{"$f":"+IF(O216=\"\",\"\",MAX(P$1:P215)+1)","v":""},"",null,{"$f":"IF(CMS_Identification!G238=\"\",\"\",CMS_Identification!G238)","v":""},{"$f":"IF(CMS_Identification!B238=\"\",\"\",CMS_Identification!B238)","v":""},{"$f":"IF(COUNTIF(S$2:S216,S216)=1,S216,\"\")","v":""},{"$f":"+IF(U216=\"\",\"\",MAX(V$1:V215)+1)","v":""},"",null,{"$f":"IF(CMS_Identification!G238=\"\",\"\",CMS_Identification!G238)","v":""},{"$f":"IF(CMS_Identification!D238=\"\",\"\",CMS_Identification!D238)","v":""},null,null,null,{"$f":"IF(CMS_Identification!B238=\"\",\"\",CMS_Identification!B238)","v":""},{"$f":"IF(CMS_Identification!G238=\"\",\"\",CMS_Identification!G238)","v":""},{"$f":"IF(CMS_Identification!D238=\"\",\"\",CMS_Identification!D238)","v":""}]
[null,null,null,null,null,null,null,null,{"$f":"IF(LDAR_TT_summary!C139=\"\",\"\",LDAR_TT_summary!C139)","v":""},{"$f":"IF(COUNTIF(I$2:I217,I217)=1,I217,\"\")","v":""},{"$f":"+IF(J217=\"\",\"\",MAX(K$1:K216)+1)","v":""},"",null,{"$f":"IF(LDAR_H_UU_summary!C39=\"\",\"\",LDAR_H_UU_summary!C39)","v":""},{"$f":"IF(COUNTIF(N$2:N217,N217)=1,N217,\"\")","v":""},{"$f":"+IF(O217=\"\",\"\",MAX(P$1:P216)+1)","v":""},"",null,{"$f":"IF(CMS_Identification!G239=\"\",\"\",CMS_Identification!G239)","v":""},{"$f":"IF(CMS_Identification!B239=\"\",\"\",CMS_Identification!B239)","v":""},{"$f":"IF(COUNTIF(S$2:S217,S217)=1,S217,\"\")","v":""},{"$f":"+IF(U217=\"\",\"\",MAX(V$1:V216)+1)","v":""},"",null,{"$f":"IF(CMS_Identification!G239=\"\",\"\",CMS_Identification!G239)","v":""},{"$f":"IF(CMS_Identification!D239=\"\",\"\",CMS_Identification!D239)","v":""},null,null,null,{"$f":"IF(CMS_Identification!B239=\"\",\"\",CMS_Identification!B239)","v":""},{"$f":"IF(CMS_Identification!G239=\"\",\"\",CMS_Identification!G239)","v":""},{"$f":"IF(CMS_Identification!D239=\"\",\"\",CMS_Identification!D239)","v":""}]
[null,null,null,null,null,null,null,null,{"$f":"IF(LDAR_TT_summary!C140=\"\",\"\",LDAR_TT_summary!C140)","v":""},{"$f":"IF(COUNTIF(I$2:I218,I218)=1,I218,\"\")","v":""},{"$f":"+IF(J218=\"\",\"\",MAX(K$1:K217)+1)","v":""},"",null,{"$f":"IF(LDAR_H_UU_summary!C40=\"\",\"\",LDAR_H_UU_summary!C40)","v":""},{"$f":"IF(COUNTIF(N$2:N218,N218)=1,N218,\"\")","v":""},{"$f":"+IF(O218=\"\",\"\",MAX(P$1:P217)+1)","v":""},"",null,{"$f":"IF(CMS_Identification!G240=\"\",\"\",CMS_Identification!G240)","v":""},{"$f":"IF(CMS_Identification!B240=\"\",\"\",CMS_Identification!B240)","v":""},{"$f":"IF(COUNTIF(S$2:S218,S218)=1,S218,\"\")","v":""},{"$f":"+IF(U218=\"\",\"\",MAX(V$1:V217)+1)","v":""},"",null,{"$f":"IF(CMS_Identification!G240=\"\",\"\",CMS_Identification!G240)","v":""},{"$f":"IF(CMS_Identification!D240=\"\",\"\",CMS_Identification!D240)","v":""},null,null,null,{"$f":"IF(CMS_Identification!B240=\"\",\"\",CMS_Identification!B240)","v":""},{"$f":"IF(CMS_Identification!G240=\"\",\"\",CMS_Identification!G240)","v":""},{"$f":"IF(CMS_Identification!D240=\"\",\"\",CMS_Identification!D240)","v":""}]
[null,null,null,null,null,null,null,null,{"$f":"IF(LDAR_TT_summary!C141=\"\",\"\",LDAR_TT_summary!C141)","v":""},{"$f":"IF(COUNTIF(I$2:I219,I219)=1,I219,\"\")","v":""},{"$f":"+IF(J219=\"\",\"\",MAX(K$1:K218)+1)","v":""},"",null,{"$f":"IF(LDAR_H_UU_summary!C41=\"\",\"\",LDAR_H_UU_summary!C41)","v":""},{"$f":"IF(COUNTIF(N$2:N219,N219)=1,N219,\"\")","v":""},{"$f":"+IF(O219=\"\",\"\",MAX(P$1:P218)+1)","v":""},"",null,{"$f":"IF(CMS_Identification!G241=\"\",\"\",CMS_Identification!G241)","v":""},{"$f":"IF(CMS_Identification!B241=\"\",\"\",CMS_Identification!B241)","v":""},{"$f":"IF(COUNTIF(S$2:S219,S219)=1,S219,\"\")","v":""},{"$f":"+IF(U219=\"\",\"\",MAX(V$1:V218)+1)","v":""},"",null,{"$f":"IF(CMS_Identification!G241=\"\",\"\",CMS_Identification!G241)","v":""},{"$f":"IF(CMS_Identification!D241=\"\",\"\",CMS_Identification!D241)","v":""},null,null,null,{"$f":"IF(CMS_Identification!B241=\"\",\"\",CMS_Identification!B241)","v":""},{"$f":"IF(CMS_Identification!G241=\"\",\"\",CMS_Identification!G241)","v":""},{"$f":"IF(CMS_Identification!D241=\"\",\"\",CMS_Identification!D241)","v":""}]
[null,null,null,null,null,null,null,null,{"$f":"IF(LDAR_TT_summary!C142=\"\",\"\",LDAR_TT_summary!C142)","v":""},{"$f":"IF(COUNTIF(I$2:I220,I220)=1,I220,\"\")","v":""},{"$f":"+IF(J220=\"\",\"\",MAX(K$1:K219)+1)","v":""},"",null,{"$f":"IF(LDAR_H_UU_summary!C42=\"\",\"\",LDAR_H_UU_summary!C42)","v":""},{"$f":"IF(COUNTIF(N$2:N220,N220)=1,N220,\"\")","v":""},{"$f":"+IF(O220=\"\",\"\",MAX(P$1:P219)+1)","v":""},"",null,{"$f":"IF(CMS_Identification!G242=\"\",\"\",CMS_Identification!G242)","v":""},{"$f":"IF(CMS_Identification!B242=\"\",\"\",CMS_Identification!B242)","v":""},{"$f":"IF(COUNTIF(S$2:S220,S220)=1,S220,\"\")","v":""},{"$f":"+IF(U220=\"\",\"\",MAX(V$1:V219)+1)","v":""},"",null,{"$f":"IF(CMS_Identification!G242=\"\",\"\",CMS_Identification!G242)","v":""},{"$f":"IF(CMS_Identification!D242=\"\",\"\",CMS_Identification!D242)","v":""},null,null,null,{"$f":"IF(CMS_Identification!B242=\"\",\"\",CMS_Identification!B242)","v":""},{"$f":"IF(CMS_Identification!G242=\"\",\"\",CMS_Identification!G242)","v":""},{"$f":"IF(CMS_Identification!D242=\"\",\"\",CMS_Identification!D242)","v":""}]
[null,null,null,null,null,null,null,null,{"$f":"IF(LDAR_TT_summary!C143=\"\",\"\",LDAR_TT_summary!C143)","v":""},{"$f":"IF(COUNTIF(I$2:I221,I221)=1,I221,\"\")","v":""},{"$f":"+IF(J221=\"\",\"\",MAX(K$1:K220)+1)","v":""},"",null,{"$f":"IF(LDAR_H_UU_summary!C43=\"\",\"\",LDAR_H_UU_summary!C43)","v":""},{"$f":"IF(COUNTIF(N$2:N221,N221)=1,N221,\"\")","v":""},{"$f":"+IF(O221=\"\",\"\",MAX(P$1:P220)+1)","v":""},"",null,{"$f":"IF(CMS_Identification!G243=\"\",\"\",CMS_Identification!G243)","v":""},{"$f":"IF(CMS_Identification!B243=\"\",\"\",CMS_Identification!B243)","v":""},{"$f":"IF(COUNTIF(S$2:S221,S221)=1,S221,\"\")","v":""},{"$f":"+IF(U221=\"\",\"\",MAX(V$1:V220)+1)","v":""},"",null,{"$f":"IF(CMS_Identification!G243=\"\",\"\",CMS_Identification!G243)","v":""},{"$f":"IF(CMS_Identification!D243=\"\",\"\",CMS_Identification!D243)","v":""},null,null,null,{"$f":"IF(CMS_Identification!B243=\"\",\"\",CMS_Identification!B243)","v":""},{"$f":"IF(CMS_Identification!G243=\"\",\"\",CMS_Identification!G243)","v":""},{"$f":"IF(CMS_Identification!D243=\"\",\"\",CMS_Identification!D243)","v":""}]
[null,null,null,null,null,null,null,null,{"$f":"IF(LDAR_TT_summary!C144=\"\",\"\",LDAR_TT_summary!C144)","v":""},{"$f":"IF(COUNTIF(I$2:I222,I222)=1,I222,\"\")","v":""},{"$f":"+IF(J222=\"\",\"\",MAX(K$1:K221)+1)","v":""},"",null,{"$f":"IF(LDAR_H_UU_summary!C44=\"\",\"\",LDAR_H_UU_summary!C44)","v":""},{"$f":"IF(COUNTIF(N$2:N222,N222)=1,N222,\"\")","v":""},{"$f":"+IF(O222=\"\",\"\",MAX(P$1:P221)+1)","v":""},"",null,{"$f":"IF(CMS_Identification!G244=\"\",\"\",CMS_Identification!G244)","v":""},{"$f":"IF(CMS_Identification!B244=\"\",\"\",CMS_Identification!B244)","v":""},{"$f":"IF(COUNTIF(S$2:S222,S222)=1,S222,\"\")","v":""},{"$f":"+IF(U222=\"\",\"\",MAX(V$1:V221)+1)","v":""},"",null,{"$f":"IF(CMS_Identification!G244=\"\",\"\",CMS_Identification!G244)","v":""},{"$f":"IF(CMS_Identification!D244=\"\",\"\",CMS_Identification!D244)","v":""},null,null,null,{"$f":"IF(CMS_Identification!B244=\"\",\"\",CMS_Identification!B244)","v":""},{"$f":"IF(CMS_Identification!G244=\"\",\"\",CMS_Identification!G244)","v":""},{"$f":"IF(CMS_Identification!D244=\"\",\"\",CMS_Identification!D244)","v":""}]
[null,null,null,null,null,null,null,null,{"$f":"IF(LDAR_TT_summary!C145=\"\",\"\",LDAR_TT_summary!C145)","v":""},{"$f":"IF(COUNTIF(I$2:I223,I223)=1,I223,\"\")","v":""},{"$f":"+IF(J223=\"\",\"\",MAX(K$1:K222)+1)","v":""},"",null,{"$f":"IF(LDAR_H_UU_summary!C45=\"\",\"\",LDAR_H_UU_summary!C45)","v":""},{"$f":"IF(COUNTIF(N$2:N223,N223)=1,N223,\"\")","v":""},{"$f":"+IF(O223=\"\",\"\",MAX(P$1:P222)+1)","v":""},"",null,{"$f":"IF(CMS_Identification!G245=\"\",\"\",CMS_Identification!G245)","v":""},{"$f":"IF(CMS_Identification!B245=\"\",\"\",CMS_Identification!B245)","v":""},{"$f":"IF(COUNTIF(S$2:S223,S223)=1,S223,\"\")","v":""},{"$f":"+IF(U223=\"\",\"\",MAX(V$1:V222)+1)","v":""},"",null,{"$f":"IF(CMS_Identification!G245=\"\",\"\",CMS_Identification!G245)","v":""},{"$f":"IF(CMS_Identification!D245=\"\",\"\",CMS_Identification!D245)","v":""},null,null,null,{"$f":"IF(CMS_Identification!B245=\"\",\"\",CMS_Identification!B245)","v":""},{"$f":"IF(CMS_Identification!G245=\"\",\"\",CMS_Identification!G245)","v":""},{"$f":"IF(CMS_Identification!D245=\"\",\"\",CMS_Identification!D245)","v":""}]
[null,null,null,null,null,null,null,null,{"$f":"IF(LDAR_TT_summary!C146=\"\",\"\",LDAR_TT_summary!C146)","v":""},{"$f":"IF(COUNTIF(I$2:I224,I224)=1,I224,\"\")","v":""},{"$f":"+IF(J224=\"\",\"\",MAX(K$1:K223)+1)","v":""},"",null,{"$f":"IF(LDAR_H_UU_summary!C46=\"\",\"\",LDAR_H_UU_summary!C46)","v":""},{"$f":"IF(COUNTIF(N$2:N224,N224)=1,N224,\"\")","v":""},{"$f":"+IF(O224=\"\",\"\",MAX(P$1:P223)+1)","v":""},"",null,{"$f":"IF(CMS_Identification!G246=\"\",\"\",CMS_Identification!G246)","v":""},{"$f":"IF(CMS_Identification!B246=\"\",\"\",CMS_Identification!B246)","v":""},{"$f":"IF(COUNTIF(S$2:S224,S224)=1,S224,\"\")","v":""},{"$f":"+IF(U224=\"\",\"\",MAX(V$1:V223)+1)","v":""},"",null,{"$f":"IF(CMS_Identification!G246=\"\",\"\",CMS_Identification!G246)","v":""},{"$f":"IF(CMS_Identification!D246=\"\",\"\",CMS_Identification!D246)","v":""},null,null,null,{"$f":"IF(CMS_Identification!B246=\"\",\"\",CMS_Identification!B246)","v":""},{"$f":"IF(CMS_Identification!G246=\"\",\"\",CMS_Identification!G246)","v":""},{"$f":"IF(CMS_Identification!D246=\"\",\"\",CMS_Identification!D246)","v":""}]
[null,null,null,null,null,null,null,null,{"$f":"IF(LDAR_TT_summary!C147=\"\",\"\",LDAR_TT_summary!C147)","v":""},{"$f":"IF(COUNTIF(I$2:I225,I225)=1,I225,\"\")","v":""},{"$f":"+IF(J225=\"\",\"\",MAX(K$1:K224)+1)","v":""},"",null,{"$f":"IF(LDAR_H_UU_summary!C47=\"\",\"\",LDAR_H_UU_summary!C47)","v":""},{"$f":"IF(COUNTIF(N$2:N225,N225)=1,N225,\"\")","v":""},{"$f":"+IF(O225=\"\",\"\",MAX(P$1:P224)+1)","v":""},"",null,{"$f":"IF(CMS_Identification!G247=\"\",\"\",CMS_Identification!G247)","v":""},{"$f":"IF(CMS_Identification!B247=\"\",\"\",CMS_Identification!B247)","v":""},{"$f":"IF(COUNTIF(S$2:S225,S225)=1,S225,\"\")","v":""},{"$f":"+IF(U225=\"\",\"\",MAX(V$1:V224)+1)","v":""},"",null,{"$f":"IF(CMS_Identification!G247=\"\",\"\",CMS_Identification!G247)","v":""},{"$f":"IF(CMS_Identification!D247=\"\",\"\",CMS_Identification!D247)","v":""},null,null,null,{"$f":"IF(CMS_Identification!B247=\"\",\"\",CMS_Identification!B247)","v":""},{"$f":"IF(CMS_Identification!G247=\"\",\"\",CMS_Identification!G247)","v":""},{"$f":"IF(CMS_Identification!D247=\"\",\"\",CMS_Identification!D247)","v":""}]
[null,null,null,null,null,null,null,null,{"$f":"IF(LDAR_TT_summary!C148=\"\",\"\",LDAR_TT_summary!C148)","v":""},{"$f":"IF(COUNTIF(I$2:I226,I226)=1,I226,\"\")","v":""},{"$f":"+IF(J226=\"\",\"\",MAX(K$1:K225)+1)","v":""},"",null,{"$f":"IF(LDAR_H_UU_summary!C48=\"\",\"\",LDAR_H_UU_summary!C48)","v":""},{"$f":"IF(COUNTIF(N$2:N226,N226)=1,N226,\"\")","v":""},{"$f":"+IF(O226=\"\",\"\",MAX(P$1:P225)+1)","v":""},"",null,{"$f":"IF(CMS_Identification!G248=\"\",\"\",CMS_Identification!G248)","v":""},{"$f":"IF(CMS_Identification!B248=\"\",\"\",CMS_Identification!B248)","v":""},{"$f":"IF(COUNTIF(S$2:S226,S226)=1,S226,\"\")","v":""},{"$f":"+IF(U226=\"\",\"\",MAX(V$1:V225)+1)","v":""},"",null,{"$f":"IF(CMS_Identification!G248=\"\",\"\",CMS_Identification!G248)","v":""},{"$f":"IF(CMS_Identification!D248=\"\",\"\",CMS_Identification!D248)","v":""},null,null,null,{"$f":"IF(CMS_Identification!B248=\"\",\"\",CMS_Identification!B248)","v":""},{"$f":"IF(CMS_Identification!G248=\"\",\"\",CMS_Identification!G248)","v":""},{"$f":"IF(CMS_Identification!D248=\"\",\"\",CMS_Identification!D248)","v":""}]
[null,null,null,null,null,null,null,null,{"$f":"IF(LDAR_TT_summary!C149=\"\",\"\",LDAR_TT_summary!C149)","v":""},{"$f":"IF(COUNTIF(I$2:I227,I227)=1,I227,\"\")","v":""},{"$f":"+IF(J227=\"\",\"\",MAX(K$1:K226)+1)","v":""},"",null,{"$f":"IF(LDAR_H_UU_summary!C49=\"\",\"\",LDAR_H_UU_summary!C49)","v":""},{"$f":"IF(COUNTIF(N$2:N227,N227)=1,N227,\"\")","v":""},{"$f":"+IF(O227=\"\",\"\",MAX(P$1:P226)+1)","v":""},"",null,{"$f":"IF(CMS_Identification!G249=\"\",\"\",CMS_Identification!G249)","v":""},{"$f":"IF(CMS_Identification!B249=\"\",\"\",CMS_Identification!B249)","v":""},{"$f":"IF(COUNTIF(S$2:S227,S227)=1,S227,\"\")","v":""},{"$f":"+IF(U227=\"\",\"\",MAX(V$1:V226)+1)","v":""},"",null,{"$f":"IF(CMS_Identification!G249=\"\",\"\",CMS_Identification!G249)","v":""},{"$f":"IF(CMS_Identification!D249=\"\",\"\",CMS_Identification!D249)","v":""},null,null,null,{"$f":"IF(CMS_Identification!B249=\"\",\"\",CMS_Identification!B249)","v":""},{"$f":"IF(CMS_Identification!G249=\"\",\"\",CMS_Identification!G249)","v":""},{"$f":"IF(CMS_Identification!D249=\"\",\"\",CMS_Identification!D249)","v":""}]
[null,null,null,null,null,null,null,null,{"$f":"IF(LDAR_TT_summary!C150=\"\",\"\",LDAR_TT_summary!C150)","v":""},{"$f":"IF(COUNTIF(I$2:I228,I228)=1,I228,\"\")","v":""},{"$f":"+IF(J228=\"\",\"\",MAX(K$1:K227)+1)","v":""},"",null,{"$f":"IF(LDAR_H_UU_summary!C50=\"\",\"\",LDAR_H_UU_summary!C50)","v":""},{"$f":"IF(COUNTIF(N$2:N228,N228)=1,N228,\"\")","v":""},{"$f":"+IF(O228=\"\",\"\",MAX(P$1:P227)+1)","v":""},"",null,{"$f":"IF(CMS_Identification!G250=\"\",\"\",CMS_Identification!G250)","v":""},{"$f":"IF(CMS_Identification!B250=\"\",\"\",CMS_Identification!B250)","v":""},{"$f":"IF(COUNTIF(S$2:S228,S228)=1,S228,\"\")","v":""},{"$f":"+IF(U228=\"\",\"\",MAX(V$1:V227)+1)","v":""},"",null,{"$f":"IF(CMS_Identification!G250=\"\",\"\",CMS_Identification!G250)","v":""},{"$f":"IF(CMS_Identification!D250=\"\",\"\",CMS_Identification!D250)","v":""},null,null,null,{"$f":"IF(CMS_Identification!B250=\"\",\"\",CMS_Identification!B250)","v":""},{"$f":"IF(CMS_Identification!G250=\"\",\"\",CMS_Identification!G250)","v":""},{"$f":"IF(CMS_Identification!D250=\"\",\"\",CMS_Identification!D250)","v":""}]
[null,null,null,null,null,null,null,null,{"$f":"IF(LDAR_TT_summary!C151=\"\",\"\",LDAR_TT_summary!C151)","v":""},{"$f":"IF(COUNTIF(I$2:I229,I229)=1,I229,\"\")","v":""},{"$f":"+IF(J229=\"\",\"\",MAX(K$1:K228)+1)","v":""},"",null,{"$f":"IF(LDAR_H_UU_summary!C51=\"\",\"\",LDAR_H_UU_summary!C51)","v":""},{"$f":"IF(COUNTIF(N$2:N229,N229)=1,N229,\"\")","v":""},{"$f":"+IF(O229=\"\",\"\",MAX(P$1:P228)+1)","v":""},"",null,{"$f":"IF(CMS_Identification!G251=\"\",\"\",CMS_Identification!G251)","v":""},{"$f":"IF(CMS_Identification!B251=\"\",\"\",CMS_Identification!B251)","v":""},{"$f":"IF(COUNTIF(S$2:S229,S229)=1,S229,\"\")","v":""},{"$f":"+IF(U229=\"\",\"\",MAX(V$1:V228)+1)","v":""},"",null,{"$f":"IF(CMS_Identification!G251=\"\",\"\",CMS_Identification!G251)","v":""},{"$f":"IF(CMS_Identification!D251=\"\",\"\",CMS_Identification!D251)","v":""},null,null,null,{"$f":"IF(CMS_Identification!B251=\"\",\"\",CMS_Identification!B251)","v":""},{"$f":"IF(CMS_Identification!G251=\"\",\"\",CMS_Identification!G251)","v":""},{"$f":"IF(CMS_Identification!D251=\"\",\"\",CMS_Identification!D251)","v":""}]
[null,null,null,null,null,null,null,null,{"$f":"IF(LDAR_TT_summary!C152=\"\",\"\",LDAR_TT_summary!C152)","v":""},{"$f":"IF(COUNTIF(I$2:I230,I230)=1,I230,\"\")","v":""},{"$f":"+IF(J230=\"\",\"\",MAX(K$1:K229)+1)","v":""},"",null,{"$f":"IF(LDAR_H_UU_summary!C52=\"\",\"\",LDAR_H_UU_summary!C52)","v":""},{"$f":"IF(COUNTIF(N$2:N230,N230)=1,N230,\"\")","v":""},{"$f":"+IF(O230=\"\",\"\",MAX(P$1:P229)+1)","v":""},"",null,{"$f":"IF(CMS_Identification!G252=\"\",\"\",CMS_Identification!G252)","v":""},{"$f":"IF(CMS_Identification!B252=\"\",\"\",CMS_Identification!B252)","v":""},{"$f":"IF(COUNTIF(S$2:S230,S230)=1,S230,\"\")","v":""},{"$f":"+IF(U230=\"\",\"\",MAX(V$1:V229)+1)","v":""},"",null,{"$f":"IF(CMS_Identification!G252=\"\",\"\",CMS_Identification!G252)","v":""},{"$f":"IF(CMS_Identification!D252=\"\",\"\",CMS_Identification!D252)","v":""},null,null,null,{"$f":"IF(CMS_Identification!B252=\"\",\"\",CMS_Identification!B252)","v":""},{"$f":"IF(CMS_Identification!G252=\"\",\"\",CMS_Identification!G252)","v":""},{"$f":"IF(CMS_Identification!D252=\"\",\"\",CMS_Identification!D252)","v":""}]
[null,null,null,null,null,null,null,null,{"$f":"IF(LDAR_TT_summary!C153=\"\",\"\",LDAR_TT_summary!C153)","v":""},{"$f":"IF(COUNTIF(I$2:I231,I231)=1,I231,\"\")","v":""},{"$f":"+IF(J231=\"\",\"\",MAX(K$1:K230)+1)","v":""},"",null,{"$f":"IF(LDAR_H_UU_summary!C53=\"\",\"\",LDAR_H_UU_summary!C53)","v":""},{"$f":"IF(COUNTIF(N$2:N231,N231)=1,N231,\"\")","v":""},{"$f":"+IF(O231=\"\",\"\",MAX(P$1:P230)+1)","v":""},"",null,{"$f":"IF(CMS_Identification!G253=\"\",\"\",CMS_Identification!G253)","v":""},{"$f":"IF(CMS_Identification!B253=\"\",\"\",CMS_Identification!B253)","v":""},{"$f":"IF(COUNTIF(S$2:S231,S231)=1,S231,\"\")","v":""},{"$f":"+IF(U231=\"\",\"\",MAX(V$1:V230)+1)","v":""},"",null,{"$f":"IF(CMS_Identification!G253=\"\",\"\",CMS_Identification!G253)","v":""},{"$f":"IF(CMS_Identification!D253=\"\",\"\",CMS_Identification!D253)","v":""},null,null,null,{"$f":"IF(CMS_Identification!B253=\"\",\"\",CMS_Identification!B253)","v":""},{"$f":"IF(CMS_Identification!G253=\"\",\"\",CMS_Identification!G253)","v":""},{"$f":"IF(CMS_Identification!D253=\"\",\"\",CMS_Identification!D253)","v":""}]
[null,null,null,null,null,null,null,null,{"$f":"IF(LDAR_TT_summary!C154=\"\",\"\",LDAR_TT_summary!C154)","v":""},{"$f":"IF(COUNTIF(I$2:I232,I232)=1,I232,\"\")","v":""},{"$f":"+IF(J232=\"\",\"\",MAX(K$1:K231)+1)","v":""},"",null,{"$f":"IF(LDAR_H_UU_summary!C54=\"\",\"\",LDAR_H_UU_summary!C54)","v":""},{"$f":"IF(COUNTIF(N$2:N232,N232)=1,N232,\"\")","v":""},{"$f":"+IF(O232=\"\",\"\",MAX(P$1:P231)+1)","v":""},"",null,{"$f":"IF(CMS_Identification!G254=\"\",\"\",CMS_Identification!G254)","v":""},{"$f":"IF(CMS_Identification!B254=\"\",\"\",CMS_Identification!B254)","v":""},{"$f":"IF(COUNTIF(S$2:S232,S232)=1,S232,\"\")","v":""},{"$f":"+IF(U232=\"\",\"\",MAX(V$1:V231)+1)","v":""},"",null,{"$f":"IF(CMS_Identification!G254=\"\",\"\",CMS_Identification!G254)","v":""},{"$f":"IF(CMS_Identification!D254=\"\",\"\",CMS_Identification!D254)","v":""},null,null,null,{"$f":"IF(CMS_Identification!B254=\"\",\"\",CMS_Identification!B254)","v":""},{"$f":"IF(CMS_Identification!G254=\"\",\"\",CMS_Identification!G254)","v":""},{"$f":"IF(CMS_Identification!D254=\"\",\"\",CMS_Identification!D254)","v":""}]
[null,null,null,null,null,null,null,null,{"$f":"IF(LDAR_TT_summary!C155=\"\",\"\",LDAR_TT_summary!C155)","v":""},{"$f":"IF(COUNTIF(I$2:I233,I233)=1,I233,\"\")","v":""},{"$f":"+IF(J233=\"\",\"\",MAX(K$1:K232)+1)","v":""},"",null,{"$f":"IF(LDAR_H_UU_summary!C55=\"\",\"\",LDAR_H_UU_summary!C55)","v":""},{"$f":"IF(COUNTIF(N$2:N233,N233)=1,N233,\"\")","v":""},{"$f":"+IF(O233=\"\",\"\",MAX(P$1:P232)+1)","v":""},"",null,{"$f":"IF(CMS_Identification!G255=\"\",\"\",CMS_Identification!G255)","v":""},{"$f":"IF(CMS_Identification!B255=\"\",\"\",CMS_Identification!B255)","v":""},{"$f":"IF(COUNTIF(S$2:S233,S233)=1,S233,\"\")","v":""},{"$f":"+IF(U233=\"\",\"\",MAX(V$1:V232)+1)","v":""},"",null,{"$f":"IF(CMS_Identification!G255=\"\",\"\",CMS_Identification!G255)","v":""},{"$f":"IF(CMS_Identification!D255=\"\",\"\",CMS_Identification!D255)","v":""},null,null,null,{"$f":"IF(CMS_Identification!B255=\"\",\"\",CMS_Identification!B255)","v":""},{"$f":"IF(CMS_Identification!G255=\"\",\"\",CMS_Identification!G255)","v":""},{"$f":"IF(CMS_Identification!D255=\"\",\"\",CMS_Identification!D255)","v":""}]
[null,null,null,null,null,null,null,null,{"$f":"IF(LDAR_TT_summary!C156=\"\",\"\",LDAR_TT_summary!C156)","v":""},{"$f":"IF(COUNTIF(I$2:I234,I234)=1,I234,\"\")","v":""},{"$f":"+IF(J234=\"\",\"\",MAX(K$1:K233)+1)","v":""},"",null,{"$f":"IF(LDAR_H_UU_summary!C56=\"\",\"\",LDAR_H_UU_summary!C56)","v":""},{"$f":"IF(COUNTIF(N$2:N234,N234)=1,N234,\"\")","v":""},{"$f":"+IF(O234=\"\",\"\",MAX(P$1:P233)+1)","v":""},"",null,{"$f":"IF(CMS_Identification!G256=\"\",\"\",CMS_Identification!G256)","v":""},{"$f":"IF(CMS_Identification!B256=\"\",\"\",CMS_Identification!B256)","v":""},{"$f":"IF(COUNTIF(S$2:S234,S234)=1,S234,\"\")","v":""},{"$f":"+IF(U234=\"\",\"\",MAX(V$1:V233)+1)","v":""},"",null,{"$f":"IF(CMS_Identification!G256=\"\",\"\",CMS_Identification!G256)","v":""},{"$f":"IF(CMS_Identification!D256=\"\",\"\",CMS_Identification!D256)","v":""},null,null,null,{"$f":"IF(CMS_Identification!B256=\"\",\"\",CMS_Identification!B256)","v":""},{"$f":"IF(CMS_Identification!G256=\"\",\"\",CMS_Identification!G256)","v":""},{"$f":"IF(CMS_Identification!D256=\"\",\"\",CMS_Identification!D256)","v":""}]
[null,null,null,null,null,null,null,null,{"$f":"IF(LDAR_TT_summary!C157=\"\",\"\",LDAR_TT_summary!C157)","v":""},{"$f":"IF(COUNTIF(I$2:I235,I235)=1,I235,\"\")","v":""},{"$f":"+IF(J235=\"\",\"\",MAX(K$1:K234)+1)","v":""},"",null,{"$f":"IF(LDAR_H_UU_summary!C57=\"\",\"\",LDAR_H_UU_summary!C57)","v":""},{"$f":"IF(COUNTIF(N$2:N235,N235)=1,N235,\"\")","v":""},{"$f":"+IF(O235=\"\",\"\",MAX(P$1:P234)+1)","v":""},"",null,{"$f":"IF(CMS_Identification!G257=\"\",\"\",CMS_Identification!G257)","v":""},{"$f":"IF(CMS_Identification!B257=\"\",\"\",CMS_Identification!B257)","v":""},{"$f":"IF(COUNTIF(S$2:S235,S235)=1,S235,\"\")","v":""},{"$f":"+IF(U235=\"\",\"\",MAX(V$1:V234)+1)","v":""},"",null,{"$f":"IF(CMS_Identification!G257=\"\",\"\",CMS_Identification!G257)","v":""},{"$f":"IF(CMS_Identification!D257=\"\",\"\",CMS_Identification!D257)","v":""},null,null,null,{"$f":"IF(CMS_Identification!B257=\"\",\"\",CMS_Identification!B257)","v":""},{"$f":"IF(CMS_Identification!G257=\"\",\"\",CMS_Identification!G257)","v":""},{"$f":"IF(CMS_Identification!D257=\"\",\"\",CMS_Identification!D257)","v":""}]
[null,null,null,null,null,null,null,null,{"$f":"IF(LDAR_TT_summary!C158=\"\",\"\",LDAR_TT_summary!C158)","v":""},{"$f":"IF(COUNTIF(I$2:I236,I236)=1,I236,\"\")","v":""},{"$f":"+IF(J236=\"\",\"\",MAX(K$1:K235)+1)","v":""},"",null,{"$f":"IF(LDAR_H_UU_summary!C58=\"\",\"\",LDAR_H_UU_summary!C58)","v":""},{"$f":"IF(COUNTIF(N$2:N236,N236)=1,N236,\"\")","v":""},{"$f":"+IF(O236=\"\",\"\",MAX(P$1:P235)+1)","v":""},"",null,{"$f":"IF(CMS_Identification!G258=\"\",\"\",CMS_Identification!G258)","v":""},{"$f":"IF(CMS_Identification!B258=\"\",\"\",CMS_Identification!B258)","v":""},{"$f":"IF(COUNTIF(S$2:S236,S236)=1,S236,\"\")","v":""},{"$f":"+IF(U236=\"\",\"\",MAX(V$1:V235)+1)","v":""},"",null,{"$f":"IF(CMS_Identification!G258=\"\",\"\",CMS_Identification!G258)","v":""},{"$f":"IF(CMS_Identification!D258=\"\",\"\",CMS_Identification!D258)","v":""},null,null,null,{"$f":"IF(CMS_Identification!B258=\"\",\"\",CMS_Identification!B258)","v":""},{"$f":"IF(CMS_Identification!G258=\"\",\"\",CMS_Identification!G258)","v":""},{"$f":"IF(CMS_Identification!D258=\"\",\"\",CMS_Identification!D258)","v":""}]
[null,null,null,null,null,null,null,null,{"$f":"IF(LDAR_TT_summary!C159=\"\",\"\",LDAR_TT_summary!C159)","v":""},{"$f":"IF(COUNTIF(I$2:I237,I237)=1,I237,\"\")","v":""},{"$f":"+IF(J237=\"\",\"\",MAX(K$1:K236)+1)","v":""},"",null,{"$f":"IF(LDAR_H_UU_summary!C59=\"\",\"\",LDAR_H_UU_summary!C59)","v":""},{"$f":"IF(COUNTIF(N$2:N237,N237)=1,N237,\"\")","v":""},{"$f":"+IF(O237=\"\",\"\",MAX(P$1:P236)+1)","v":""},"",null,{"$f":"IF(CMS_Identification!G259=\"\",\"\",CMS_Identification!G259)","v":""},{"$f":"IF(CMS_Identification!B259=\"\",\"\",CMS_Identification!B259)","v":""},{"$f":"IF(COUNTIF(S$2:S237,S237)=1,S237,\"\")","v":""},{"$f":"+IF(U237=\"\",\"\",MAX(V$1:V236)+1)","v":""},"",null,{"$f":"IF(CMS_Identification!G259=\"\",\"\",CMS_Identification!G259)","v":""},{"$f":"IF(CMS_Identification!D259=\"\",\"\",CMS_Identification!D259)","v":""},null,null,null,{"$f":"IF(CMS_Identification!B259=\"\",\"\",CMS_Identification!B259)","v":""},{"$f":"IF(CMS_Identification!G259=\"\",\"\",CMS_Identification!G259)","v":""},{"$f":"IF(CMS_Identification!D259=\"\",\"\",CMS_Identification!D259)","v":""}]
[null,null,null,null,null,null,null,null,{"$f":"IF(LDAR_TT_summary!C160=\"\",\"\",LDAR_TT_summary!C160)","v":""},{"$f":"IF(COUNTIF(I$2:I238,I238)=1,I238,\"\")","v":""},{"$f":"+IF(J238=\"\",\"\",MAX(K$1:K237)+1)","v":""},"",null,{"$f":"IF(LDAR_H_UU_summary!C60=\"\",\"\",LDAR_H_UU_summary!C60)","v":""},{"$f":"IF(COUNTIF(N$2:N238,N238)=1,N238,\"\")","v":""},{"$f":"+IF(O238=\"\",\"\",MAX(P$1:P237)+1)","v":""},"",null,{"$f":"IF(CMS_Identification!G260=\"\",\"\",CMS_Identification!G260)","v":""},{"$f":"IF(CMS_Identification!B260=\"\",\"\",CMS_Identification!B260)","v":""},{"$f":"IF(COUNTIF(S$2:S238,S238)=1,S238,\"\")","v":""},{"$f":"+IF(U238=\"\",\"\",MAX(V$1:V237)+1)","v":""},"",null,{"$f":"IF(CMS_Identification!G260=\"\",\"\",CMS_Identification!G260)","v":""},{"$f":"IF(CMS_Identification!D260=\"\",\"\",CMS_Identification!D260)","v":""},null,null,null,{"$f":"IF(CMS_Identification!B260=\"\",\"\",CMS_Identification!B260)","v":""},{"$f":"IF(CMS_Identification!G260=\"\",\"\",CMS_Identification!G260)","v":""},{"$f":"IF(CMS_Identification!D260=\"\",\"\",CMS_Identification!D260)","v":""}]
[null,null,null,null,null,null,null,null,{"$f":"IF(LDAR_TT_summary!C161=\"\",\"\",LDAR_TT_summary!C161)","v":""},{"$f":"IF(COUNTIF(I$2:I239,I239)=1,I239,\"\")","v":""},{"$f":"+IF(J239=\"\",\"\",MAX(K$1:K238)+1)","v":""},"",null,{"$f":"IF(LDAR_H_UU_summary!C61=\"\",\"\",LDAR_H_UU_summary!C61)","v":""},{"$f":"IF(COUNTIF(N$2:N239,N239)=1,N239,\"\")","v":""},{"$f":"+IF(O239=\"\",\"\",MAX(P$1:P238)+1)","v":""},"",null,{"$f":"IF(CMS_Identification!G261=\"\",\"\",CMS_Identification!G261)","v":""},{"$f":"IF(CMS_Identification!B261=\"\",\"\",CMS_Identification!B261)","v":""},{"$f":"IF(COUNTIF(S$2:S239,S239)=1,S239,\"\")","v":""},{"$f":"+IF(U239=\"\",\"\",MAX(V$1:V238)+1)","v":""},"",null,{"$f":"IF(CMS_Identification!G261=\"\",\"\",CMS_Identification!G261)","v":""},{"$f":"IF(CMS_Identification!D261=\"\",\"\",CMS_Identification!D261)","v":""},null,null,null,{"$f":"IF(CMS_Identification!B261=\"\",\"\",CMS_Identification!B261)","v":""},{"$f":"IF(CMS_Identification!G261=\"\",\"\",CMS_Identification!G261)","v":""},{"$f":"IF(CMS_Identification!D261=\"\",\"\",CMS_Identification!D261)","v":""}]
[null,null,null,null,null,null,null,null,{"$f":"IF(LDAR_TT_summary!C162=\"\",\"\",LDAR_TT_summary!C162)","v":""},{"$f":"IF(COUNTIF(I$2:I240,I240)=1,I240,\"\")","v":""},{"$f":"+IF(J240=\"\",\"\",MAX(K$1:K239)+1)","v":""},"",null,{"$f":"IF(LDAR_H_UU_summary!C62=\"\",\"\",LDAR_H_UU_summary!C62)","v":""},{"$f":"IF(COUNTIF(N$2:N240,N240)=1,N240,\"\")","v":""},{"$f":"+IF(O240=\"\",\"\",MAX(P$1:P239)+1)","v":""},"",null,{"$f":"IF(CMS_Identification!G262=\"\",\"\",CMS_Identification!G262)","v":""},{"$f":"IF(CMS_Identification!B262=\"\",\"\",CMS_Identification!B262)","v":""},{"$f":"IF(COUNTIF(S$2:S240,S240)=1,S240,\"\")","v":""},{"$f":"+IF(U240=\"\",\"\",MAX(V$1:V239)+1)","v":""},"",null,{"$f":"IF(CMS_Identification!G262=\"\",\"\",CMS_Identification!G262)","v":""},{"$f":"IF(CMS_Identification!D262=\"\",\"\",CMS_Identification!D262)","v":""},null,null,null,{"$f":"IF(CMS_Identification!B262=\"\",\"\",CMS_Identification!B262)","v":""},{"$f":"IF(CMS_Identification!G262=\"\",\"\",CMS_Identification!G262)","v":""},{"$f":"IF(CMS_Identification!D262=\"\",\"\",CMS_Identification!D262)","v":""}]
[null,null,null,null,null,null,null,null,{"$f":"IF(LDAR_TT_summary!C163=\"\",\"\",LDAR_TT_summary!C163)","v":""},{"$f":"IF(COUNTIF(I$2:I241,I241)=1,I241,\"\")","v":""},{"$f":"+IF(J241=\"\",\"\",MAX(K$1:K240)+1)","v":""},"",null,{"$f":"IF(LDAR_H_UU_summary!C63=\"\",\"\",LDAR_H_UU_summary!C63)","v":""},{"$f":"IF(COUNTIF(N$2:N241,N241)=1,N241,\"\")","v":""},{"$f":"+IF(O241=\"\",\"\",MAX(P$1:P240)+1)","v":""},"",null,{"$f":"IF(CMS_Identification!G263=\"\",\"\",CMS_Identification!G263)","v":""},{"$f":"IF(CMS_Identification!B263=\"\",\"\",CMS_Identification!B263)","v":""},{"$f":"IF(COUNTIF(S$2:S241,S241)=1,S241,\"\")","v":""},{"$f":"+IF(U241=\"\",\"\",MAX(V$1:V240)+1)","v":""},"",null,{"$f":"IF(CMS_Identification!G263=\"\",\"\",CMS_Identification!G263)","v":""},{"$f":"IF(CMS_Identification!D263=\"\",\"\",CMS_Identification!D263)","v":""},null,null,null,{"$f":"IF(CMS_Identification!B263=\"\",\"\",CMS_Identification!B263)","v":""},{"$f":"IF(CMS_Identification!G263=\"\",\"\",CMS_Identification!G263)","v":""},{"$f":"IF(CMS_Identification!D263=\"\",\"\",CMS_Identification!D263)","v":""}]
[null,null,null,null,null,null,null,null,{"$f":"IF(LDAR_TT_summary!C164=\"\",\"\",LDAR_TT_summary!C164)","v":""},{"$f":"IF(COUNTIF(I$2:I242,I242)=1,I242,\"\")","v":""},{"$f":"+IF(J242=\"\",\"\",MAX(K$1:K241)+1)","v":""},"",null,{"$f":"IF(LDAR_H_UU_summary!C64=\"\",\"\",LDAR_H_UU_summary!C64)","v":""},{"$f":"IF(COUNTIF(N$2:N242,N242)=1,N242,\"\")","v":""},{"$f":"+IF(O242=\"\",\"\",MAX(P$1:P241)+1)","v":""},"",null,{"$f":"IF(CMS_Identification!G264=\"\",\"\",CMS_Identification!G264)","v":""},{"$f":"IF(CMS_Identification!B264=\"\",\"\",CMS_Identification!B264)","v":""},{"$f":"IF(COUNTIF(S$2:S242,S242)=1,S242,\"\")","v":""},{"$f":"+IF(U242=\"\",\"\",MAX(V$1:V241)+1)","v":""},"",null,{"$f":"IF(CMS_Identification!G264=\"\",\"\",CMS_Identification!G264)","v":""},{"$f":"IF(CMS_Identification!D264=\"\",\"\",CMS_Identification!D264)","v":""},null,null,null,{"$f":"IF(CMS_Identification!B264=\"\",\"\",CMS_Identification!B264)","v":""},{"$f":"IF(CMS_Identification!G264=\"\",\"\",CMS_Identification!G264)","v":""},{"$f":"IF(CMS_Identification!D264=\"\",\"\",CMS_Identification!D264)","v":""}]
[null,null,null,null,null,null,null,null,{"$f":"IF(LDAR_TT_summary!C165=\"\",\"\",LDAR_TT_summary!C165)","v":""},{"$f":"IF(COUNTIF(I$2:I243,I243)=1,I243,\"\")","v":""},{"$f":"+IF(J243=\"\",\"\",MAX(K$1:K242)+1)","v":""},"",null,{"$f":"IF(LDAR_H_UU_summary!C65=\"\",\"\",LDAR_H_UU_summary!C65)","v":""},{"$f":"IF(COUNTIF(N$2:N243,N243)=1,N243,\"\")","v":""},{"$f":"+IF(O243=\"\",\"\",MAX(P$1:P242)+1)","v":""},"",null,{"$f":"IF(CMS_Identification!G265=\"\",\"\",CMS_Identification!G265)","v":""},{"$f":"IF(CMS_Identification!B265=\"\",\"\",CMS_Identification!B265)","v":""},{"$f":"IF(COUNTIF(S$2:S243,S243)=1,S243,\"\")","v":""},{"$f":"+IF(U243=\"\",\"\",MAX(V$1:V242)+1)","v":""},"",null,{"$f":"IF(CMS_Identification!G265=\"\",\"\",CMS_Identification!G265)","v":""},{"$f":"IF(CMS_Identification!D265=\"\",\"\",CMS_Identification!D265)","v":""},null,null,null,{"$f":"IF(CMS_Identification!B265=\"\",\"\",CMS_Identification!B265)","v":""},{"$f":"IF(CMS_Identification!G265=\"\",\"\",CMS_Identification!G265)","v":""},{"$f":"IF(CMS_Identification!D265=\"\",\"\",CMS_Identification!D265)","v":""}]
[null,null,null,null,null,null,null,null,{"$f":"IF(LDAR_TT_summary!C166=\"\",\"\",LDAR_TT_summary!C166)","v":""},{"$f":"IF(COUNTIF(I$2:I244,I244)=1,I244,\"\")","v":""},{"$f":"+IF(J244=\"\",\"\",MAX(K$1:K243)+1)","v":""},"",null,{"$f":"IF(LDAR_H_UU_summary!C66=\"\",\"\",LDAR_H_UU_summary!C66)","v":""},{"$f":"IF(COUNTIF(N$2:N244,N244)=1,N244,\"\")","v":""},{"$f":"+IF(O244=\"\",\"\",MAX(P$1:P243)+1)","v":""},"",null,{"$f":"IF(CMS_Identification!G266=\"\",\"\",CMS_Identification!G266)","v":""},{"$f":"IF(CMS_Identification!B266=\"\",\"\",CMS_Identification!B266)","v":""},{"$f":"IF(COUNTIF(S$2:S244,S244)=1,S244,\"\")","v":""},{"$f":"+IF(U244=\"\",\"\",MAX(V$1:V243)+1)","v":""},"",null,{"$f":"IF(CMS_Identification!G266=\"\",\"\",CMS_Identification!G266)","v":""},{"$f":"IF(CMS_Identification!D266=\"\",\"\",CMS_Identification!D266)","v":""},null,null,null,{"$f":"IF(CMS_Identification!B266=\"\",\"\",CMS_Identification!B266)","v":""},{"$f":"IF(CMS_Identification!G266=\"\",\"\",CMS_Identification!G266)","v":""},{"$f":"IF(CMS_Identification!D266=\"\",\"\",CMS_Identification!D266)","v":""}]
[null,null,null,null,null,null,null,null,{"$f":"IF(LDAR_TT_summary!C167=\"\",\"\",LDAR_TT_summary!C167)","v":""},{"$f":"IF(COUNTIF(I$2:I245,I245)=1,I245,\"\")","v":""},{"$f":"+IF(J245=\"\",\"\",MAX(K$1:K244)+1)","v":""},"",null,{"$f":"IF(LDAR_H_UU_summary!C67=\"\",\"\",LDAR_H_UU_summary!C67)","v":""},{"$f":"IF(COUNTIF(N$2:N245,N245)=1,N245,\"\")","v":""},{"$f":"+IF(O245=\"\",\"\",MAX(P$1:P244)+1)","v":""},"",null,{"$f":"IF(CMS_Identification!G267=\"\",\"\",CMS_Identification!G267)","v":""},{"$f":"IF(CMS_Identification!B267=\"\",\"\",CMS_Identification!B267)","v":""},{"$f":"IF(COUNTIF(S$2:S245,S245)=1,S245,\"\")","v":""},{"$f":"+IF(U245=\"\",\"\",MAX(V$1:V244)+1)","v":""},"",null,{"$f":"IF(CMS_Identification!G267=\"\",\"\",CMS_Identification!G267)","v":""},{"$f":"IF(CMS_Identification!D267=\"\",\"\",CMS_Identification!D267)","v":""},null,null,null,{"$f":"IF(CMS_Identification!B267=\"\",\"\",CMS_Identification!B267)","v":""},{"$f":"IF(CMS_Identification!G267=\"\",\"\",CMS_Identification!G267)","v":""},{"$f":"IF(CMS_Identification!D267=\"\",\"\",CMS_Identification!D267)","v":""}]
[null,null,null,null,null,null,null,null,{"$f":"IF(LDAR_TT_summary!C168=\"\",\"\",LDAR_TT_summary!C168)","v":""},{"$f":"IF(COUNTIF(I$2:I246,I246)=1,I246,\"\")","v":""},{"$f":"+IF(J246=\"\",\"\",MAX(K$1:K245)+1)","v":""},"",null,{"$f":"IF(LDAR_H_UU_summary!C68=\"\",\"\",LDAR_H_UU_summary!C68)","v":""},{"$f":"IF(COUNTIF(N$2:N246,N246)=1,N246,\"\")","v":""},{"$f":"+IF(O246=\"\",\"\",MAX(P$1:P245)+1)","v":""},"",null,{"$f":"IF(CMS_Identification!G268=\"\",\"\",CMS_Identification!G268)","v":""},{"$f":"IF(CMS_Identification!B268=\"\",\"\",CMS_Identification!B268)","v":""},{"$f":"IF(COUNTIF(S$2:S246,S246)=1,S246,\"\")","v":""},{"$f":"+IF(U246=\"\",\"\",MAX(V$1:V245)+1)","v":""},"",null,{"$f":"IF(CMS_Identification!G268=\"\",\"\",CMS_Identification!G268)","v":""},{"$f":"IF(CMS_Identification!D268=\"\",\"\",CMS_Identification!D268)","v":""},null,null,null,{"$f":"IF(CMS_Identification!B268=\"\",\"\",CMS_Identification!B268)","v":""},{"$f":"IF(CMS_Identification!G268=\"\",\"\",CMS_Identification!G268)","v":""},{"$f":"IF(CMS_Identification!D268=\"\",\"\",CMS_Identification!D268)","v":""}]
[null,null,null,null,null,null,null,null,{"$f":"IF(LDAR_TT_summary!C169=\"\",\"\",LDAR_TT_summary!C169)","v":""},{"$f":"IF(COUNTIF(I$2:I247,I247)=1,I247,\"\")","v":""},{"$f":"+IF(J247=\"\",\"\",MAX(K$1:K246)+1)","v":""},"",null,{"$f":"IF(LDAR_H_UU_summary!C69=\"\",\"\",LDAR_H_UU_summary!C69)","v":""},{"$f":"IF(COUNTIF(N$2:N247,N247)=1,N247,\"\")","v":""},{"$f":"+IF(O247=\"\",\"\",MAX(P$1:P246)+1)","v":""},"",null,{"$f":"IF(CMS_Identification!G269=\"\",\"\",CMS_Identification!G269)","v":""},{"$f":"IF(CMS_Identification!B269=\"\",\"\",CMS_Identification!B269)","v":""},{"$f":"IF(COUNTIF(S$2:S247,S247)=1,S247,\"\")","v":""},{"$f":"+IF(U247=\"\",\"\",MAX(V$1:V246)+1)","v":""},"",null,{"$f":"IF(CMS_Identification!G269=\"\",\"\",CMS_Identification!G269)","v":""},{"$f":"IF(CMS_Identification!D269=\"\",\"\",CMS_Identification!D269)","v":""},null,null,null,{"$f":"IF(CMS_Identification!B269=\"\",\"\",CMS_Identification!B269)","v":""},{"$f":"IF(CMS_Identification!G269=\"\",\"\",CMS_Identification!G269)","v":""},{"$f":"IF(CMS_Identification!D269=\"\",\"\",CMS_Identification!D269)","v":""}]
[null,null,null,null,null,null,null,null,{"$f":"IF(LDAR_TT_summary!C170=\"\",\"\",LDAR_TT_summary!C170)","v":""},{"$f":"IF(COUNTIF(I$2:I248,I248)=1,I248,\"\")","v":""},{"$f":"+IF(J248=\"\",\"\",MAX(K$1:K247)+1)","v":""},"",null,{"$f":"IF(LDAR_H_UU_summary!C70=\"\",\"\",LDAR_H_UU_summary!C70)","v":""},{"$f":"IF(COUNTIF(N$2:N248,N248)=1,N248,\"\")","v":""},{"$f":"+IF(O248=\"\",\"\",MAX(P$1:P247)+1)","v":""},"",null,{"$f":"IF(CMS_Identification!G270=\"\",\"\",CMS_Identification!G270)","v":""},{"$f":"IF(CMS_Identification!B270=\"\",\"\",CMS_Identification!B270)","v":""},{"$f":"IF(COUNTIF(S$2:S248,S248)=1,S248,\"\")","v":""},{"$f":"+IF(U248=\"\",\"\",MAX(V$1:V247)+1)","v":""},"",null,{"$f":"IF(CMS_Identification!G270=\"\",\"\",CMS_Identification!G270)","v":""},{"$f":"IF(CMS_Identification!D270=\"\",\"\",CMS_Identification!D270)","v":""},null,null,null,{"$f":"IF(CMS_Identification!B270=\"\",\"\",CMS_Identification!B270)","v":""},{"$f":"IF(CMS_Identification!G270=\"\",\"\",CMS_Identification!G270)","v":""},{"$f":"IF(CMS_Identification!D270=\"\",\"\",CMS_Identification!D270)","v":""}]
[null,null,null,null,null,null,null,null,{"$f":"IF(LDAR_TT_summary!C171=\"\",\"\",LDAR_TT_summary!C171)","v":""},{"$f":"IF(COUNTIF(I$2:I249,I249)=1,I249,\"\")","v":""},{"$f":"+IF(J249=\"\",\"\",MAX(K$1:K248)+1)","v":""},"",null,{"$f":"IF(LDAR_H_UU_summary!C71=\"\",\"\",LDAR_H_UU_summary!C71)","v":""},{"$f":"IF(COUNTIF(N$2:N249,N249)=1,N249,\"\")","v":""},{"$f":"+IF(O249=\"\",\"\",MAX(P$1:P248)+1)","v":""},"",null,{"$f":"IF(CMS_Identification!G271=\"\",\"\",CMS_Identification!G271)","v":""},{"$f":"IF(CMS_Identification!B271=\"\",\"\",CMS_Identification!B271)","v":""},{"$f":"IF(COUNTIF(S$2:S249,S249)=1,S249,\"\")","v":""},{"$f":"+IF(U249=\"\",\"\",MAX(V$1:V248)+1)","v":""},"",null,{"$f":"IF(CMS_Identification!G271=\"\",\"\",CMS_Identification!G271)","v":""},{"$f":"IF(CMS_Identification!D271=\"\",\"\",CMS_Identification!D271)","v":""},null,null,null,{"$f":"IF(CMS_Identification!B271=\"\",\"\",CMS_Identification!B271)","v":""},{"$f":"IF(CMS_Identification!G271=\"\",\"\",CMS_Identification!G271)","v":""},{"$f":"IF(CMS_Identification!D271=\"\",\"\",CMS_Identification!D271)","v":""}]
[null,null,null,null,null,null,null,null,{"$f":"IF(LDAR_TT_summary!C172=\"\",\"\",LDAR_TT_summary!C172)","v":""},{"$f":"IF(COUNTIF(I$2:I250,I250)=1,I250,\"\")","v":""},{"$f":"+IF(J250=\"\",\"\",MAX(K$1:K249)+1)","v":""},"",null,{"$f":"IF(LDAR_H_UU_summary!C72=\"\",\"\",LDAR_H_UU_summary!C72)","v":""},{"$f":"IF(COUNTIF(N$2:N250,N250)=1,N250,\"\")","v":""},{"$f":"+IF(O250=\"\",\"\",MAX(P$1:P249)+1)","v":""},"",null,{"$f":"IF(CMS_Identification!G272=\"\",\"\",CMS_Identification!G272)","v":""},{"$f":"IF(CMS_Identification!B272=\"\",\"\",CMS_Identification!B272)","v":""},{"$f":"IF(COUNTIF(S$2:S250,S250)=1,S250,\"\")","v":""},{"$f":"+IF(U250=\"\",\"\",MAX(V$1:V249)+1)","v":""},"",null,{"$f":"IF(CMS_Identification!G272=\"\",\"\",CMS_Identification!G272)","v":""},{"$f":"IF(CMS_Identification!D272=\"\",\"\",CMS_Identification!D272)","v":""},null,null,null,{"$f":"IF(CMS_Identification!B272=\"\",\"\",CMS_Identification!B272)","v":""},{"$f":"IF(CMS_Identification!G272=\"\",\"\",CMS_Identification!G272)","v":""},{"$f":"IF(CMS_Identification!D272=\"\",\"\",CMS_Identification!D272)","v":""}]
[null,null,null,null,null,null,null,null,{"$f":"IF(LDAR_TT_summary!C173=\"\",\"\",LDAR_TT_summary!C173)","v":""},{"$f":"IF(COUNTIF(I$2:I251,I251)=1,I251,\"\")","v":""},{"$f":"+IF(J251=\"\",\"\",MAX(K$1:K250)+1)","v":""},"",null,{"$f":"IF(LDAR_H_UU_summary!C73=\"\",\"\",LDAR_H_UU_summary!C73)","v":""},{"$f":"IF(COUNTIF(N$2:N251,N251)=1,N251,\"\")","v":""},{"$f":"+IF(O251=\"\",\"\",MAX(P$1:P250)+1)","v":""},"",null,{"$f":"IF(CMS_Identification!G273=\"\",\"\",CMS_Identification!G273)","v":""},{"$f":"IF(CMS_Identification!B273=\"\",\"\",CMS_Identification!B273)","v":""},{"$f":"IF(COUNTIF(S$2:S251,S251)=1,S251,\"\")","v":""},{"$f":"+IF(U251=\"\",\"\",MAX(V$1:V250)+1)","v":""},"",null,{"$f":"IF(CMS_Identification!G273=\"\",\"\",CMS_Identification!G273)","v":""},{"$f":"IF(CMS_Identification!D273=\"\",\"\",CMS_Identification!D273)","v":""},null,null,null,{"$f":"IF(CMS_Identification!B273=\"\",\"\",CMS_Identification!B273)","v":""},{"$f":"IF(CMS_Identification!G273=\"\",\"\",CMS_Identification!G273)","v":""},{"$f":"IF(CMS_Identification!D273=\"\",\"\",CMS_Identification!D273)","v":""}]
[null,null,null,null,null,null,null,null,{"$f":"IF(LDAR_TT_summary!C174=\"\",\"\",LDAR_TT_summary!C174)","v":""},{"$f":"IF(COUNTIF(I$2:I252,I252)=1,I252,\"\")","v":""},{"$f":"+IF(J252=\"\",\"\",MAX(K$1:K251)+1)","v":""},"",null,{"$f":"IF(LDAR_H_UU_summary!C74=\"\",\"\",LDAR_H_UU_summary!C74)","v":""},{"$f":"IF(COUNTIF(N$2:N252,N252)=1,N252,\"\")","v":""},{"$f":"+IF(O252=\"\",\"\",MAX(P$1:P251)+1)","v":""},"",null,{"$f":"IF(CMS_Identification!G274=\"\",\"\",CMS_Identification!G274)","v":""},{"$f":"IF(CMS_Identification!B274=\"\",\"\",CMS_Identification!B274)","v":""},{"$f":"IF(COUNTIF(S$2:S252,S252)=1,S252,\"\")","v":""},{"$f":"+IF(U252=\"\",\"\",MAX(V$1:V251)+1)","v":""},"",null,{"$f":"IF(CMS_Identification!G274=\"\",\"\",CMS_Identification!G274)","v":""},{"$f":"IF(CMS_Identification!D274=\"\",\"\",CMS_Identification!D274)","v":""},null,null,null,{"$f":"IF(CMS_Identification!B274=\"\",\"\",CMS_Identification!B274)","v":""},{"$f":"IF(CMS_Identification!G274=\"\",\"\",CMS_Identification!G274)","v":""},{"$f":"IF(CMS_Identification!D274=\"\",\"\",CMS_Identification!D274)","v":""}]
[null,null,null,null,null,null,null,null,{"$f":"IF(LDAR_TT_summary!C175=\"\",\"\",LDAR_TT_summary!C175)","v":""},{"$f":"IF(COUNTIF(I$2:I253,I253)=1,I253,\"\")","v":""},{"$f":"+IF(J253=\"\",\"\",MAX(K$1:K252)+1)","v":""},"",null,{"$f":"IF(LDAR_H_UU_summary!C75=\"\",\"\",LDAR_H_UU_summary!C75)","v":""},{"$f":"IF(COUNTIF(N$2:N253,N253)=1,N253,\"\")","v":""},{"$f":"+IF(O253=\"\",\"\",MAX(P$1:P252)+1)","v":""},"",null,{"$f":"IF(CMS_Identification!G275=\"\",\"\",CMS_Identification!G275)","v":""},{"$f":"IF(CMS_Identification!B275=\"\",\"\",CMS_Identification!B275)","v":""},{"$f":"IF(COUNTIF(S$2:S253,S253)=1,S253,\"\")","v":""},{"$f":"+IF(U253=\"\",\"\",MAX(V$1:V252)+1)","v":""},"",null,{"$f":"IF(CMS_Identification!G275=\"\",\"\",CMS_Identification!G275)","v":""},{"$f":"IF(CMS_Identification!D275=\"\",\"\",CMS_Identification!D275)","v":""},null,null,null,{"$f":"IF(CMS_Identification!B275=\"\",\"\",CMS_Identification!B275)","v":""},{"$f":"IF(CMS_Identification!G275=\"\",\"\",CMS_Identification!G275)","v":""},{"$f":"IF(CMS_Identification!D275=\"\",\"\",CMS_Identification!D275)","v":""}]
[null,null,null,null,null,null,null,null,{"$f":"IF(LDAR_TT_summary!C176=\"\",\"\",LDAR_TT_summary!C176)","v":""},{"$f":"IF(COUNTIF(I$2:I254,I254)=1,I254,\"\")","v":""},{"$f":"+IF(J254=\"\",\"\",MAX(K$1:K253)+1)","v":""},"",null,{"$f":"IF(LDAR_H_UU_summary!C76=\"\",\"\",LDAR_H_UU_summary!C76)","v":""},{"$f":"IF(COUNTIF(N$2:N254,N254)=1,N254,\"\")","v":""},{"$f":"+IF(O254=\"\",\"\",MAX(P$1:P253)+1)","v":""},"",null,{"$f":"IF(CMS_Identification!G276=\"\",\"\",CMS_Identification!G276)","v":""},{"$f":"IF(CMS_Identification!B276=\"\",\"\",CMS_Identification!B276)","v":""},{"$f":"IF(COUNTIF(S$2:S254,S254)=1,S254,\"\")","v":""},{"$f":"+IF(U254=\"\",\"\",MAX(V$1:V253)+1)","v":""},"",null,{"$f":"IF(CMS_Identification!G276=\"\",\"\",CMS_Identification!G276)","v":""},{"$f":"IF(CMS_Identification!D276=\"\",\"\",CMS_Identification!D276)","v":""},null,null,null,{"$f":"IF(CMS_Identification!B276=\"\",\"\",CMS_Identification!B276)","v":""},{"$f":"IF(CMS_Identification!G276=\"\",\"\",CMS_Identification!G276)","v":""},{"$f":"IF(CMS_Identification!D276=\"\",\"\",CMS_Identification!D276)","v":""}]
[null,null,null,null,null,null,null,null,{"$f":"IF(LDAR_TT_summary!C177=\"\",\"\",LDAR_TT_summary!C177)","v":""},{"$f":"IF(COUNTIF(I$2:I255,I255)=1,I255,\"\")","v":""},{"$f":"+IF(J255=\"\",\"\",MAX(K$1:K254)+1)","v":""},"",null,{"$f":"IF(LDAR_H_UU_summary!C77=\"\",\"\",LDAR_H_UU_summary!C77)","v":""},{"$f":"IF(COUNTIF(N$2:N255,N255)=1,N255,\"\")","v":""},{"$f":"+IF(O255=\"\",\"\",MAX(P$1:P254)+1)","v":""},"",null,{"$f":"IF(CMS_Identification!G277=\"\",\"\",CMS_Identification!G277)","v":""},{"$f":"IF(CMS_Identification!B277=\"\",\"\",CMS_Identification!B277)","v":""},{"$f":"IF(COUNTIF(S$2:S255,S255)=1,S255,\"\")","v":""},{"$f":"+IF(U255=\"\",\"\",MAX(V$1:V254)+1)","v":""},"",null,{"$f":"IF(CMS_Identification!G277=\"\",\"\",CMS_Identification!G277)","v":""},{"$f":"IF(CMS_Identification!D277=\"\",\"\",CMS_Identification!D277)","v":""},null,null,null,{"$f":"IF(CMS_Identification!B277=\"\",\"\",CMS_Identification!B277)","v":""},{"$f":"IF(CMS_Identification!G277=\"\",\"\",CMS_Identification!G277)","v":""},{"$f":"IF(CMS_Identification!D277=\"\",\"\",CMS_Identification!D277)","v":""}]
[null,null,null,null,null,null,null,null,{"$f":"IF(LDAR_TT_summary!C178=\"\",\"\",LDAR_TT_summary!C178)","v":""},{"$f":"IF(COUNTIF(I$2:I256,I256)=1,I256,\"\")","v":""},{"$f":"+IF(J256=\"\",\"\",MAX(K$1:K255)+1)","v":""},"",null,{"$f":"IF(LDAR_H_UU_summary!C78=\"\",\"\",LDAR_H_UU_summary!C78)","v":""},{"$f":"IF(COUNTIF(N$2:N256,N256)=1,N256,\"\")","v":""},{"$f":"+IF(O256=\"\",\"\",MAX(P$1:P255)+1)","v":""},"",null,{"$f":"IF(CMS_Identification!G278=\"\",\"\",CMS_Identification!G278)","v":""},{"$f":"IF(CMS_Identification!B278=\"\",\"\",CMS_Identification!B278)","v":""},{"$f":"IF(COUNTIF(S$2:S256,S256)=1,S256,\"\")","v":""},{"$f":"+IF(U256=\"\",\"\",MAX(V$1:V255)+1)","v":""},"",null,{"$f":"IF(CMS_Identification!G278=\"\",\"\",CMS_Identification!G278)","v":""},{"$f":"IF(CMS_Identification!D278=\"\",\"\",CMS_Identification!D278)","v":""},null,null,null,{"$f":"IF(CMS_Identification!B278=\"\",\"\",CMS_Identification!B278)","v":""},{"$f":"IF(CMS_Identification!G278=\"\",\"\",CMS_Identification!G278)","v":""},{"$f":"IF(CMS_Identification!D278=\"\",\"\",CMS_Identification!D278)","v":""}]
[null,null,null,null,null,null,null,null,{"$f":"IF(LDAR_TT_summary!C179=\"\",\"\",LDAR_TT_summary!C179)","v":""},{"$f":"IF(COUNTIF(I$2:I257,I257)=1,I257,\"\")","v":""},{"$f":"+IF(J257=\"\",\"\",MAX(K$1:K256)+1)","v":""},"",null,{"$f":"IF(LDAR_H_UU_summary!C79=\"\",\"\",LDAR_H_UU_summary!C79)","v":""},{"$f":"IF(COUNTIF(N$2:N257,N257)=1,N257,\"\")","v":""},{"$f":"+IF(O257=\"\",\"\",MAX(P$1:P256)+1)","v":""},"",null,{"$f":"IF(CMS_Identification!G279=\"\",\"\",CMS_Identification!G279)","v":""},{"$f":"IF(CMS_Identification!B279=\"\",\"\",CMS_Identification!B279)","v":""},{"$f":"IF(COUNTIF(S$2:S257,S257)=1,S257,\"\")","v":""},{"$f":"+IF(U257=\"\",\"\",MAX(V$1:V256)+1)","v":""},"",null,{"$f":"IF(CMS_Identification!G279=\"\",\"\",CMS_Identification!G279)","v":""},{"$f":"IF(CMS_Identification!D279=\"\",\"\",CMS_Identification!D279)","v":""},null,null,null,{"$f":"IF(CMS_Identification!B279=\"\",\"\",CMS_Identification!B279)","v":""},{"$f":"IF(CMS_Identification!G279=\"\",\"\",CMS_Identification!G279)","v":""},{"$f":"IF(CMS_Identification!D279=\"\",\"\",CMS_Identification!D279)","v":""}]
[null,null,null,null,null,null,null,null,{"$f":"IF(LDAR_TT_summary!C180=\"\",\"\",LDAR_TT_summary!C180)","v":""},{"$f":"IF(COUNTIF(I$2:I258,I258)=1,I258,\"\")","v":""},{"$f":"+IF(J258=\"\",\"\",MAX(K$1:K257)+1)","v":""},"",null,{"$f":"IF(LDAR_H_UU_summary!C80=\"\",\"\",LDAR_H_UU_summary!C80)","v":""},{"$f":"IF(COUNTIF(N$2:N258,N258)=1,N258,\"\")","v":""},{"$f":"+IF(O258=\"\",\"\",MAX(P$1:P257)+1)","v":""},"",null,{"$f":"IF(CMS_Identification!G280=\"\",\"\",CMS_Identification!G280)","v":""},{"$f":"IF(CMS_Identification!B280=\"\",\"\",CMS_Identification!B280)","v":""},{"$f":"IF(COUNTIF(S$2:S258,S258)=1,S258,\"\")","v":""},{"$f":"+IF(U258=\"\",\"\",MAX(V$1:V257)+1)","v":""},{"$f":"+IFERROR(INDEX($S$2:$S$501,MATCH(ROW()-ROW($V$1),$V$2:$V$501,0)),\"\")","v":""},null,{"$f":"IF(CMS_Identification!G280=\"\",\"\",CMS_Identification!G280)","v":""},{"$f":"IF(CMS_Identification!D280=\"\",\"\",CMS_Identification!D280)","v":""},null,null,null,{"$f":"IF(CMS_Identification!B280=\"\",\"\",CMS_Identification!B280)","v":""},{"$f":"IF(CMS_Identification!G280=\"\",\"\",CMS_Identification!G280)","v":""},{"$f":"IF(CMS_Identification!D280=\"\",\"\",CMS_Identification!D280)","v":""}]
[null,null,null,null,null,null,null,null,{"$f":"IF(LDAR_TT_summary!C181=\"\",\"\",LDAR_TT_summary!C181)","v":""},{"$f":"IF(COUNTIF(I$2:I259,I259)=1,I259,\"\")","v":""},{"$f":"+IF(J259=\"\",\"\",MAX(K$1:K258)+1)","v":""},{"$f":"+IFERROR(INDEX($I$2:$I$801,MATCH(ROW()-ROW($K$1),$K$2:$K$801,0)),\"\")","v":""},null,{"$f":"IF(LDAR_H_UU_summary!C81=\"\",\"\",LDAR_H_UU_summary!C81)","v":""},{"$f":"IF(COUNTIF(N$2:N259,N259)=1,N259,\"\")","v":""},{"$f":"+IF(O259=\"\",\"\",MAX(P$1:P258)+1)","v":""},{"$f":"+IFERROR(INDEX($N$2:$N$2001,MATCH(ROW()-ROW($P$1),$P$2:$P$2001,0)),\"\")","v":""},null,{"$f":"IF(CMS_Identification!G281=\"\",\"\",CMS_Identification!G281)","v":""},{"$f":"IF(CMS_Identification!B281=\"\",\"\",CMS_Identification!B281)","v":""},{"$f":"IF(COUNTIF(S$2:S259,S259)=1,S259,\"\")","v":""},{"$f":"+IF(U259=\"\",\"\",MAX(V$1:V258)+1)","v":""},"",null,{"$f":"IF(CMS_Identification!G281=\"\",\"\",CMS_Identification!G281)","v":""},{"$f":"IF(CMS_Identification!D281=\"\",\"\",CMS_Identification!D281)","v":""},null,null,null,{"$f":"IF(CMS_Identification!B281=\"\",\"\",CMS_Identification!B281)","v":""},{"$f":"IF(CMS_Identification!G281=\"\",\"\",CMS_Identification!G281)","v":""},{"$f":"IF(CMS_Identification!D281=\"\",\"\",CMS_Identification!D281)","v":""}]
[null,null,null,null,null,null,null,null,{"$f":"IF(LDAR_TT_summary!C182=\"\",\"\",LDAR_TT_summary!C182)","v":""},{"$f":"IF(COUNTIF(I$2:I260,I260)=1,I260,\"\")","v":""},{"$f":"+IF(J260=\"\",\"\",MAX(K$1:K259)+1)","v":""},"",null,{"$f":"IF(LDAR_H_UU_summary!C82=\"\",\"\",LDAR_H_UU_summary!C82)","v":""},{"$f":"IF(COUNTIF(N$2:N260,N260)=1,N260,\"\")","v":""},{"$f":"+IF(O260=\"\",\"\",MAX(P$1:P259)+1)","v":""},"",null,{"$f":"IF(CMS_Identification!G282=\"\",\"\",CMS_Identification!G282)","v":""},{"$f":"IF(CMS_Identification!B282=\"\",\"\",CMS_Identification!B282)","v":""},{"$f":"IF(COUNTIF(S$2:S260,S260)=1,S260,\"\")","v":""},{"$f":"+IF(U260=\"\",\"\",MAX(V$1:V259)+1)","v":""},"",null,{"$f":"IF(CMS_Identification!G282=\"\",\"\",CMS_Identification!G282)","v":""},{"$f":"IF(CMS_Identification!D282=\"\",\"\",CMS_Identification!D282)","v":""},null,null,null,{"$f":"IF(CMS_Identification!B282=\"\",\"\",CMS_Identification!B282)","v":""},{"$f":"IF(CMS_Identification!G282=\"\",\"\",CMS_Identification!G282)","v":""},{"$f":"IF(CMS_Identification!D282=\"\",\"\",CMS_Identification!D282)","v":""}]
[null,null,null,null,null,null,null,null,{"$f":"IF(LDAR_TT_summary!C183=\"\",\"\",LDAR_TT_summary!C183)","v":""},{"$f":"IF(COUNTIF(I$2:I261,I261)=1,I261,\"\")","v":""},{"$f":"+IF(J261=\"\",\"\",MAX(K$1:K260)+1)","v":""},"",null,{"$f":"IF(LDAR_H_UU_summary!C83=\"\",\"\",LDAR_H_UU_summary!C83)","v":""},{"$f":"IF(COUNTIF(N$2:N261,N261)=1,N261,\"\")","v":""},{"$f":"+IF(O261=\"\",\"\",MAX(P$1:P260)+1)","v":""},"",null,{"$f":"IF(CMS_Identification!G283=\"\",\"\",CMS_Identification!G283)","v":""},{"$f":"IF(CMS_Identification!B283=\"\",\"\",CMS_Identification!B283)","v":""},{"$f":"IF(COUNTIF(S$2:S261,S261)=1,S261,\"\")","v":""},{"$f":"+IF(U261=\"\",\"\",MAX(V$1:V260)+1)","v":""},"",null,{"$f":"IF(CMS_Identification!G283=\"\",\"\",CMS_Identification!G283)","v":""},{"$f":"IF(CMS_Identification!D283=\"\",\"\",CMS_Identification!D283)","v":""},null,null,null,{"$f":"IF(CMS_Identification!B283=\"\",\"\",CMS_Identification!B283)","v":""},{"$f":"IF(CMS_Identification!G283=\"\",\"\",CMS_Identification!G283)","v":""},{"$f":"IF(CMS_Identification!D283=\"\",\"\",CMS_Identification!D283)","v":""}]
[null,null,null,null,null,null,null,null,{"$f":"IF(LDAR_TT_summary!C184=\"\",\"\",LDAR_TT_summary!C184)","v":""},{"$f":"IF(COUNTIF(I$2:I262,I262)=1,I262,\"\")","v":""},{"$f":"+IF(J262=\"\",\"\",MAX(K$1:K261)+1)","v":""},"",null,{"$f":"IF(LDAR_H_UU_summary!C84=\"\",\"\",LDAR_H_UU_summary!C84)","v":""},{"$f":"IF(COUNTIF(N$2:N262,N262)=1,N262,\"\")","v":""},{"$f":"+IF(O262=\"\",\"\",MAX(P$1:P261)+1)","v":""},"",null,{"$f":"IF(CMS_Identification!G284=\"\",\"\",CMS_Identification!G284)","v":""},{"$f":"IF(CMS_Identification!B284=\"\",\"\",CMS_Identification!B284)","v":""},{"$f":"IF(COUNTIF(S$2:S262,S262)=1,S262,\"\")","v":""},{"$f":"+IF(U262=\"\",\"\",MAX(V$1:V261)+1)","v":""},"",null,{"$f":"IF(CMS_Identification!G284=\"\",\"\",CMS_Identification!G284)","v":""},{"$f":"IF(CMS_Identification!D284=\"\",\"\",CMS_Identification!D284)","v":""},null,null,null,{"$f":"IF(CMS_Identification!B284=\"\",\"\",CMS_Identification!B284)","v":""},{"$f":"IF(CMS_Identification!G284=\"\",\"\",CMS_Identification!G284)","v":""},{"$f":"IF(CMS_Identification!D284=\"\",\"\",CMS_Identification!D284)","v":""}]
[null,null,null,null,null,null,null,null,{"$f":"IF(LDAR_TT_summary!C185=\"\",\"\",LDAR_TT_summary!C185)","v":""},{"$f":"IF(COUNTIF(I$2:I263,I263)=1,I263,\"\")","v":""},{"$f":"+IF(J263=\"\",\"\",MAX(K$1:K262)+1)","v":""},"",null,{"$f":"IF(LDAR_H_UU_summary!C85=\"\",\"\",LDAR_H_UU_summary!C85)","v":""},{"$f":"IF(COUNTIF(N$2:N263,N263)=1,N263,\"\")","v":""},{"$f":"+IF(O263=\"\",\"\",MAX(P$1:P262)+1)","v":""},"",null,{"$f":"IF(CMS_Identification!G285=\"\",\"\",CMS_Identification!G285)","v":""},{"$f":"IF(CMS_Identification!B285=\"\",\"\",CMS_Identification!B285)","v":""},{"$f":"IF(COUNTIF(S$2:S263,S263)=1,S263,\"\")","v":""},{"$f":"+IF(U263=\"\",\"\",MAX(V$1:V262)+1)","v":""},"",null,{"$f":"IF(CMS_Identification!G285=\"\",\"\",CMS_Identification!G285)","v":""},{"$f":"IF(CMS_Identification!D285=\"\",\"\",CMS_Identification!D285)","v":""},null,null,null,{"$f":"IF(CMS_Identification!B285=\"\",\"\",CMS_Identification!B285)","v":""},{"$f":"IF(CMS_Identification!G285=\"\",\"\",CMS_Identification!G285)","v":""},{"$f":"IF(CMS_Identification!D285=\"\",\"\",CMS_Identification!D285)","v":""}]
[null,null,null,null,null,null,null,null,{"$f":"IF(LDAR_TT_summary!C186=\"\",\"\",LDAR_TT_summary!C186)","v":""},{"$f":"IF(COUNTIF(I$2:I264,I264)=1,I264,\"\")","v":""},{"$f":"+IF(J264=\"\",\"\",MAX(K$1:K263)+1)","v":""},"",null,{"$f":"IF(LDAR_H_UU_summary!C86=\"\",\"\",LDAR_H_UU_summary!C86)","v":""},{"$f":"IF(COUNTIF(N$2:N264,N264)=1,N264,\"\")","v":""},{"$f":"+IF(O264=\"\",\"\",MAX(P$1:P263)+1)","v":""},"",null,{"$f":"IF(CMS_Identification!G286=\"\",\"\",CMS_Identification!G286)","v":""},{"$f":"IF(CMS_Identification!B286=\"\",\"\",CMS_Identification!B286)","v":""},{"$f":"IF(COUNTIF(S$2:S264,S264)=1,S264,\"\")","v":""},{"$f":"+IF(U264=\"\",\"\",MAX(V$1:V263)+1)","v":""},"",null,{"$f":"IF(CMS_Identification!G286=\"\",\"\",CMS_Identification!G286)","v":""},{"$f":"IF(CMS_Identification!D286=\"\",\"\",CMS_Identification!D286)","v":""},null,null,null,{"$f":"IF(CMS_Identification!B286=\"\",\"\",CMS_Identification!B286)","v":""},{"$f":"IF(CMS_Identification!G286=\"\",\"\",CMS_Identification!G286)","v":""},{"$f":"IF(CMS_Identification!D286=\"\",\"\",CMS_Identification!D286)","v":""}]
[null,null,null,null,null,null,null,null,{"$f":"IF(LDAR_TT_summary!C187=\"\",\"\",LDAR_TT_summary!C187)","v":""},{"$f":"IF(COUNTIF(I$2:I265,I265)=1,I265,\"\")","v":""},{"$f":"+IF(J265=\"\",\"\",MAX(K$1:K264)+1)","v":""},"",null,{"$f":"IF(LDAR_H_UU_summary!C87=\"\",\"\",LDAR_H_UU_summary!C87)","v":""},{"$f":"IF(COUNTIF(N$2:N265,N265)=1,N265,\"\")","v":""},{"$f":"+IF(O265=\"\",\"\",MAX(P$1:P264)+1)","v":""},"",null,{"$f":"IF(CMS_Identification!G287=\"\",\"\",CMS_Identification!G287)","v":""},{"$f":"IF(CMS_Identification!B287=\"\",\"\",CMS_Identification!B287)","v":""},{"$f":"IF(COUNTIF(S$2:S265,S265)=1,S265,\"\")","v":""},{"$f":"+IF(U265=\"\",\"\",MAX(V$1:V264)+1)","v":""},"",null,{"$f":"IF(CMS_Identification!G287=\"\",\"\",CMS_Identification!G287)","v":""},{"$f":"IF(CMS_Identification!D287=\"\",\"\",CMS_Identification!D287)","v":""},null,null,null,{"$f":"IF(CMS_Identification!B287=\"\",\"\",CMS_Identification!B287)","v":""},{"$f":"IF(CMS_Identification!G287=\"\",\"\",CMS_Identification!G287)","v":""},{"$f":"IF(CMS_Identification!D287=\"\",\"\",CMS_Identification!D287)","v":""}]
[null,null,null,null,null,null,null,null,{"$f":"IF(LDAR_TT_summary!C188=\"\",\"\",LDAR_TT_summary!C188)","v":""},{"$f":"IF(COUNTIF(I$2:I266,I266)=1,I266,\"\")","v":""},{"$f":"+IF(J266=\"\",\"\",MAX(K$1:K265)+1)","v":""},"",null,{"$f":"IF(LDAR_H_UU_summary!C88=\"\",\"\",LDAR_H_UU_summary!C88)","v":""},{"$f":"IF(COUNTIF(N$2:N266,N266)=1,N266,\"\")","v":""},{"$f":"+IF(O266=\"\",\"\",MAX(P$1:P265)+1)","v":""},"",null,{"$f":"IF(CMS_Identification!G288=\"\",\"\",CMS_Identification!G288)","v":""},{"$f":"IF(CMS_Identification!B288=\"\",\"\",CMS_Identification!B288)","v":""},{"$f":"IF(COUNTIF(S$2:S266,S266)=1,S266,\"\")","v":""},{"$f":"+IF(U266=\"\",\"\",MAX(V$1:V265)+1)","v":""},"",null,{"$f":"IF(CMS_Identification!G288=\"\",\"\",CMS_Identification!G288)","v":""},{"$f":"IF(CMS_Identification!D288=\"\",\"\",CMS_Identification!D288)","v":""},null,null,null,{"$f":"IF(CMS_Identification!B288=\"\",\"\",CMS_Identification!B288)","v":""},{"$f":"IF(CMS_Identification!G288=\"\",\"\",CMS_Identification!G288)","v":""},{"$f":"IF(CMS_Identification!D288=\"\",\"\",CMS_Identification!D288)","v":""}]
[null,null,null,null,null,null,null,null,{"$f":"IF(LDAR_TT_summary!C189=\"\",\"\",LDAR_TT_summary!C189)","v":""},{"$f":"IF(COUNTIF(I$2:I267,I267)=1,I267,\"\")","v":""},{"$f":"+IF(J267=\"\",\"\",MAX(K$1:K266)+1)","v":""},"",null,{"$f":"IF(LDAR_H_UU_summary!C89=\"\",\"\",LDAR_H_UU_summary!C89)","v":""},{"$f":"IF(COUNTIF(N$2:N267,N267)=1,N267,\"\")","v":""},{"$f":"+IF(O267=\"\",\"\",MAX(P$1:P266)+1)","v":""},"",null,{"$f":"IF(CMS_Identification!G289=\"\",\"\",CMS_Identification!G289)","v":""},{"$f":"IF(CMS_Identification!B289=\"\",\"\",CMS_Identification!B289)","v":""},{"$f":"IF(COUNTIF(S$2:S267,S267)=1,S267,\"\")","v":""},{"$f":"+IF(U267=\"\",\"\",MAX(V$1:V266)+1)","v":""},"",null,{"$f":"IF(CMS_Identification!G289=\"\",\"\",CMS_Identification!G289)","v":""},{"$f":"IF(CMS_Identification!D289=\"\",\"\",CMS_Identification!D289)","v":""},null,null,null,{"$f":"IF(CMS_Identification!B289=\"\",\"\",CMS_Identification!B289)","v":""},{"$f":"IF(CMS_Identification!G289=\"\",\"\",CMS_Identification!G289)","v":""},{"$f":"IF(CMS_Identification!D289=\"\",\"\",CMS_Identification!D289)","v":""}]
[null,null,null,null,null,null,null,null,{"$f":"IF(LDAR_TT_summary!C190=\"\",\"\",LDAR_TT_summary!C190)","v":""},{"$f":"IF(COUNTIF(I$2:I268,I268)=1,I268,\"\")","v":""},{"$f":"+IF(J268=\"\",\"\",MAX(K$1:K267)+1)","v":""},"",null,{"$f":"IF(LDAR_H_UU_summary!C90=\"\",\"\",LDAR_H_UU_summary!C90)","v":""},{"$f":"IF(COUNTIF(N$2:N268,N268)=1,N268,\"\")","v":""},{"$f":"+IF(O268=\"\",\"\",MAX(P$1:P267)+1)","v":""},"",null,{"$f":"IF(CMS_Identification!G290=\"\",\"\",CMS_Identification!G290)","v":""},{"$f":"IF(CMS_Identification!B290=\"\",\"\",CMS_Identification!B290)","v":""},{"$f":"IF(COUNTIF(S$2:S268,S268)=1,S268,\"\")","v":""},{"$f":"+IF(U268=\"\",\"\",MAX(V$1:V267)+1)","v":""},"",null,{"$f":"IF(CMS_Identification!G290=\"\",\"\",CMS_Identification!G290)","v":""},{"$f":"IF(CMS_Identification!D290=\"\",\"\",CMS_Identification!D290)","v":""},null,null,null,{"$f":"IF(CMS_Identification!B290=\"\",\"\",CMS_Identification!B290)","v":""},{"$f":"IF(CMS_Identification!G290=\"\",\"\",CMS_Identification!G290)","v":""},{"$f":"IF(CMS_Identification!D290=\"\",\"\",CMS_Identification!D290)","v":""}]
[null,null,null,null,null,null,null,null,{"$f":"IF(LDAR_TT_summary!C191=\"\",\"\",LDAR_TT_summary!C191)","v":""},{"$f":"IF(COUNTIF(I$2:I269,I269)=1,I269,\"\")","v":""},{"$f":"+IF(J269=\"\",\"\",MAX(K$1:K268)+1)","v":""},"",null,{"$f":"IF(LDAR_H_UU_summary!C91=\"\",\"\",LDAR_H_UU_summary!C91)","v":""},{"$f":"IF(COUNTIF(N$2:N269,N269)=1,N269,\"\")","v":""},{"$f":"+IF(O269=\"\",\"\",MAX(P$1:P268)+1)","v":""},"",null,{"$f":"IF(CMS_Identification!G291=\"\",\"\",CMS_Identification!G291)","v":""},{"$f":"IF(CMS_Identification!B291=\"\",\"\",CMS_Identification!B291)","v":""},{"$f":"IF(COUNTIF(S$2:S269,S269)=1,S269,\"\")","v":""},{"$f":"+IF(U269=\"\",\"\",MAX(V$1:V268)+1)","v":""},"",null,{"$f":"IF(CMS_Identification!G291=\"\",\"\",CMS_Identification!G291)","v":""},{"$f":"IF(CMS_Identification!D291=\"\",\"\",CMS_Identification!D291)","v":""},null,null,null,{"$f":"IF(CMS_Identification!B291=\"\",\"\",CMS_Identification!B291)","v":""},{"$f":"IF(CMS_Identification!G291=\"\",\"\",CMS_Identification!G291)","v":""},{"$f":"IF(CMS_Identification!D291=\"\",\"\",CMS_Identification!D291)","v":""}]
[null,null,null,null,null,null,null,null,{"$f":"IF(LDAR_TT_summary!C192=\"\",\"\",LDAR_TT_summary!C192)","v":""},{"$f":"IF(COUNTIF(I$2:I270,I270)=1,I270,\"\")","v":""},{"$f":"+IF(J270=\"\",\"\",MAX(K$1:K269)+1)","v":""},"",null,{"$f":"IF(LDAR_H_UU_summary!C92=\"\",\"\",LDAR_H_UU_summary!C92)","v":""},{"$f":"IF(COUNTIF(N$2:N270,N270)=1,N270,\"\")","v":""},{"$f":"+IF(O270=\"\",\"\",MAX(P$1:P269)+1)","v":""},"",null,{"$f":"IF(CMS_Identification!G292=\"\",\"\",CMS_Identification!G292)","v":""},{"$f":"IF(CMS_Identification!B292=\"\",\"\",CMS_Identification!B292)","v":""},{"$f":"IF(COUNTIF(S$2:S270,S270)=1,S270,\"\")","v":""},{"$f":"+IF(U270=\"\",\"\",MAX(V$1:V269)+1)","v":""},"",null,{"$f":"IF(CMS_Identification!G292=\"\",\"\",CMS_Identification!G292)","v":""},{"$f":"IF(CMS_Identification!D292=\"\",\"\",CMS_Identification!D292)","v":""},null,null,null,{"$f":"IF(CMS_Identification!B292=\"\",\"\",CMS_Identification!B292)","v":""},{"$f":"IF(CMS_Identification!G292=\"\",\"\",CMS_Identification!G292)","v":""},{"$f":"IF(CMS_Identification!D292=\"\",\"\",CMS_Identification!D292)","v":""}]
[null,null,null,null,null,null,null,null,{"$f":"IF(LDAR_TT_summary!C193=\"\",\"\",LDAR_TT_summary!C193)","v":""},{"$f":"IF(COUNTIF(I$2:I271,I271)=1,I271,\"\")","v":""},{"$f":"+IF(J271=\"\",\"\",MAX(K$1:K270)+1)","v":""},"",null,{"$f":"IF(LDAR_H_UU_summary!C93=\"\",\"\",LDAR_H_UU_summary!C93)","v":""},{"$f":"IF(COUNTIF(N$2:N271,N271)=1,N271,\"\")","v":""},{"$f":"+IF(O271=\"\",\"\",MAX(P$1:P270)+1)","v":""},"",null,{"$f":"IF(CMS_Identification!G293=\"\",\"\",CMS_Identification!G293)","v":""},{"$f":"IF(CMS_Identification!B293=\"\",\"\",CMS_Identification!B293)","v":""},{"$f":"IF(COUNTIF(S$2:S271,S271)=1,S271,\"\")","v":""},{"$f":"+IF(U271=\"\",\"\",MAX(V$1:V270)+1)","v":""},"",null,{"$f":"IF(CMS_Identification!G293=\"\",\"\",CMS_Identification!G293)","v":""},{"$f":"IF(CMS_Identification!D293=\"\",\"\",CMS_Identification!D293)","v":""},null,null,null,{"$f":"IF(CMS_Identification!B293=\"\",\"\",CMS_Identification!B293)","v":""},{"$f":"IF(CMS_Identification!G293=\"\",\"\",CMS_Identification!G293)","v":""},{"$f":"IF(CMS_Identification!D293=\"\",\"\",CMS_Identification!D293)","v":""}]
[null,null,null,null,null,null,null,null,{"$f":"IF(LDAR_TT_summary!C194=\"\",\"\",LDAR_TT_summary!C194)","v":""},{"$f":"IF(COUNTIF(I$2:I272,I272)=1,I272,\"\")","v":""},{"$f":"+IF(J272=\"\",\"\",MAX(K$1:K271)+1)","v":""},"",null,{"$f":"IF(LDAR_H_UU_summary!C94=\"\",\"\",LDAR_H_UU_summary!C94)","v":""},{"$f":"IF(COUNTIF(N$2:N272,N272)=1,N272,\"\")","v":""},{"$f":"+IF(O272=\"\",\"\",MAX(P$1:P271)+1)","v":""},"",null,{"$f":"IF(CMS_Identification!G294=\"\",\"\",CMS_Identification!G294)","v":""},{"$f":"IF(CMS_Identification!B294=\"\",\"\",CMS_Identification!B294)","v":""},{"$f":"IF(COUNTIF(S$2:S272,S272)=1,S272,\"\")","v":""},{"$f":"+IF(U272=\"\",\"\",MAX(V$1:V271)+1)","v":""},"",null,{"$f":"IF(CMS_Identification!G294=\"\",\"\",CMS_Identification!G294)","v":""},{"$f":"IF(CMS_Identification!D294=\"\",\"\",CMS_Identification!D294)","v":""},null,null,null,{"$f":"IF(CMS_Identification!B294=\"\",\"\",CMS_Identification!B294)","v":""},{"$f":"IF(CMS_Identification!G294=\"\",\"\",CMS_Identification!G294)","v":""},{"$f":"IF(CMS_Identification!D294=\"\",\"\",CMS_Identification!D294)","v":""}]
[null,null,null,null,null,null,null,null,{"$f":"IF(LDAR_TT_summary!C195=\"\",\"\",LDAR_TT_summary!C195)","v":""},{"$f":"IF(COUNTIF(I$2:I273,I273)=1,I273,\"\")","v":""},{"$f":"+IF(J273=\"\",\"\",MAX(K$1:K272)+1)","v":""},"",null,{"$f":"IF(LDAR_H_UU_summary!C95=\"\",\"\",LDAR_H_UU_summary!C95)","v":""},{"$f":"IF(COUNTIF(N$2:N273,N273)=1,N273,\"\")","v":""},{"$f":"+IF(O273=\"\",\"\",MAX(P$1:P272)+1)","v":""},"",null,{"$f":"IF(CMS_Identification!G295=\"\",\"\",CMS_Identification!G295)","v":""},{"$f":"IF(CMS_Identification!B295=\"\",\"\",CMS_Identification!B295)","v":""},{"$f":"IF(COUNTIF(S$2:S273,S273)=1,S273,\"\")","v":""},{"$f":"+IF(U273=\"\",\"\",MAX(V$1:V272)+1)","v":""},"",null,{"$f":"IF(CMS_Identification!G295=\"\",\"\",CMS_Identification!G295)","v":""},{"$f":"IF(CMS_Identification!D295=\"\",\"\",CMS_Identification!D295)","v":""},null,null,null,{"$f":"IF(CMS_Identification!B295=\"\",\"\",CMS_Identification!B295)","v":""},{"$f":"IF(CMS_Identification!G295=\"\",\"\",CMS_Identification!G295)","v":""},{"$f":"IF(CMS_Identification!D295=\"\",\"\",CMS_Identification!D295)","v":""}]
[null,null,null,null,null,null,null,null,{"$f":"IF(LDAR_TT_summary!C196=\"\",\"\",LDAR_TT_summary!C196)","v":""},{"$f":"IF(COUNTIF(I$2:I274,I274)=1,I274,\"\")","v":""},{"$f":"+IF(J274=\"\",\"\",MAX(K$1:K273)+1)","v":""},"",null,{"$f":"IF(LDAR_H_UU_summary!C96=\"\",\"\",LDAR_H_UU_summary!C96)","v":""},{"$f":"IF(COUNTIF(N$2:N274,N274)=1,N274,\"\")","v":""},{"$f":"+IF(O274=\"\",\"\",MAX(P$1:P273)+1)","v":""},"",null,{"$f":"IF(CMS_Identification!G296=\"\",\"\",CMS_Identification!G296)","v":""},{"$f":"IF(CMS_Identification!B296=\"\",\"\",CMS_Identification!B296)","v":""},{"$f":"IF(COUNTIF(S$2:S274,S274)=1,S274,\"\")","v":""},{"$f":"+IF(U274=\"\",\"\",MAX(V$1:V273)+1)","v":""},"",null,{"$f":"IF(CMS_Identification!G296=\"\",\"\",CMS_Identification!G296)","v":""},{"$f":"IF(CMS_Identification!D296=\"\",\"\",CMS_Identification!D296)","v":""},null,null,null,{"$f":"IF(CMS_Identification!B296=\"\",\"\",CMS_Identification!B296)","v":""},{"$f":"IF(CMS_Identification!G296=\"\",\"\",CMS_Identification!G296)","v":""},{"$f":"IF(CMS_Identification!D296=\"\",\"\",CMS_Identification!D296)","v":""}]
[null,null,null,null,null,null,null,null,{"$f":"IF(LDAR_TT_summary!C197=\"\",\"\",LDAR_TT_summary!C197)","v":""},{"$f":"IF(COUNTIF(I$2:I275,I275)=1,I275,\"\")","v":""},{"$f":"+IF(J275=\"\",\"\",MAX(K$1:K274)+1)","v":""},"",null,{"$f":"IF(LDAR_H_UU_summary!C97=\"\",\"\",LDAR_H_UU_summary!C97)","v":""},{"$f":"IF(COUNTIF(N$2:N275,N275)=1,N275,\"\")","v":""},{"$f":"+IF(O275=\"\",\"\",MAX(P$1:P274)+1)","v":""},"",null,{"$f":"IF(CMS_Identification!G297=\"\",\"\",CMS_Identification!G297)","v":""},{"$f":"IF(CMS_Identification!B297=\"\",\"\",CMS_Identification!B297)","v":""},{"$f":"IF(COUNTIF(S$2:S275,S275)=1,S275,\"\")","v":""},{"$f":"+IF(U275=\"\",\"\",MAX(V$1:V274)+1)","v":""},"",null,{"$f":"IF(CMS_Identification!G297=\"\",\"\",CMS_Identification!G297)","v":""},{"$f":"IF(CMS_Identification!D297=\"\",\"\",CMS_Identification!D297)","v":""},null,null,null,{"$f":"IF(CMS_Identification!B297=\"\",\"\",CMS_Identification!B297)","v":""},{"$f":"IF(CMS_Identification!G297=\"\",\"\",CMS_Identification!G297)","v":""},{"$f":"IF(CMS_Identification!D297=\"\",\"\",CMS_Identification!D297)","v":""}]
[null,null,null,null,null,null,null,null,{"$f":"IF(LDAR_TT_summary!C198=\"\",\"\",LDAR_TT_summary!C198)","v":""},{"$f":"IF(COUNTIF(I$2:I276,I276)=1,I276,\"\")","v":""},{"$f":"+IF(J276=\"\",\"\",MAX(K$1:K275)+1)","v":""},"",null,{"$f":"IF(LDAR_H_UU_summary!C98=\"\",\"\",LDAR_H_UU_summary!C98)","v":""},{"$f":"IF(COUNTIF(N$2:N276,N276)=1,N276,\"\")","v":""},{"$f":"+IF(O276=\"\",\"\",MAX(P$1:P275)+1)","v":""},"",null,{"$f":"IF(CMS_Identification!G298=\"\",\"\",CMS_Identification!G298)","v":""},{"$f":"IF(CMS_Identification!B298=\"\",\"\",CMS_Identification!B298)","v":""},{"$f":"IF(COUNTIF(S$2:S276,S276)=1,S276,\"\")","v":""},{"$f":"+IF(U276=\"\",\"\",MAX(V$1:V275)+1)","v":""},"",null,{"$f":"IF(CMS_Identification!G298=\"\",\"\",CMS_Identification!G298)","v":""},{"$f":"IF(CMS_Identification!D298=\"\",\"\",CMS_Identification!D298)","v":""},null,null,null,{"$f":"IF(CMS_Identification!B298=\"\",\"\",CMS_Identification!B298)","v":""},{"$f":"IF(CMS_Identification!G298=\"\",\"\",CMS_Identification!G298)","v":""},{"$f":"IF(CMS_Identification!D298=\"\",\"\",CMS_Identification!D298)","v":""}]
[null,null,null,null,null,null,null,null,{"$f":"IF(LDAR_TT_summary!C199=\"\",\"\",LDAR_TT_summary!C199)","v":""},{"$f":"IF(COUNTIF(I$2:I277,I277)=1,I277,\"\")","v":""},{"$f":"+IF(J277=\"\",\"\",MAX(K$1:K276)+1)","v":""},"",null,{"$f":"IF(LDAR_H_UU_summary!C99=\"\",\"\",LDAR_H_UU_summary!C99)","v":""},{"$f":"IF(COUNTIF(N$2:N277,N277)=1,N277,\"\")","v":""},{"$f":"+IF(O277=\"\",\"\",MAX(P$1:P276)+1)","v":""},"",null,{"$f":"IF(CMS_Identification!G299=\"\",\"\",CMS_Identification!G299)","v":""},{"$f":"IF(CMS_Identification!B299=\"\",\"\",CMS_Identification!B299)","v":""},{"$f":"IF(COUNTIF(S$2:S277,S277)=1,S277,\"\")","v":""},{"$f":"+IF(U277=\"\",\"\",MAX(V$1:V276)+1)","v":""},"",null,{"$f":"IF(CMS_Identification!G299=\"\",\"\",CMS_Identification!G299)","v":""},{"$f":"IF(CMS_Identification!D299=\"\",\"\",CMS_Identification!D299)","v":""},null,null,null,{"$f":"IF(CMS_Identification!B299=\"\",\"\",CMS_Identification!B299)","v":""},{"$f":"IF(CMS_Identification!G299=\"\",\"\",CMS_Identification!G299)","v":""},{"$f":"IF(CMS_Identification!D299=\"\",\"\",CMS_Identification!D299)","v":""}]
[null,null,null,null,null,null,null,null,{"$f":"IF(LDAR_TT_summary!C200=\"\",\"\",LDAR_TT_summary!C200)","v":""},{"$f":"IF(COUNTIF(I$2:I278,I278)=1,I278,\"\")","v":""},{"$f":"+IF(J278=\"\",\"\",MAX(K$1:K277)+1)","v":""},"",null,{"$f":"IF(LDAR_H_UU_summary!C100=\"\",\"\",LDAR_H_UU_summary!C100)","v":""},{"$f":"IF(COUNTIF(N$2:N278,N278)=1,N278,\"\")","v":""},{"$f":"+IF(O278=\"\",\"\",MAX(P$1:P277)+1)","v":""},"",null,{"$f":"IF(CMS_Identification!G300=\"\",\"\",CMS_Identification!G300)","v":""},{"$f":"IF(CMS_Identification!B300=\"\",\"\",CMS_Identification!B300)","v":""},{"$f":"IF(COUNTIF(S$2:S278,S278)=1,S278,\"\")","v":""},{"$f":"+IF(U278=\"\",\"\",MAX(V$1:V277)+1)","v":""},"",null,{"$f":"IF(CMS_Identification!G300=\"\",\"\",CMS_Identification!G300)","v":""},{"$f":"IF(CMS_Identification!D300=\"\",\"\",CMS_Identification!D300)","v":""},null,null,null,{"$f":"IF(CMS_Identification!B300=\"\",\"\",CMS_Identification!B300)","v":""},{"$f":"IF(CMS_Identification!G300=\"\",\"\",CMS_Identification!G300)","v":""},{"$f":"IF(CMS_Identification!D300=\"\",\"\",CMS_Identification!D300)","v":""}]
[null,null,null,null,null,null,null,null,{"$f":"IF(LDAR_TT_summary!C201=\"\",\"\",LDAR_TT_summary!C201)","v":""},{"$f":"IF(COUNTIF(I$2:I279,I279)=1,I279,\"\")","v":""},{"$f":"+IF(J279=\"\",\"\",MAX(K$1:K278)+1)","v":""},"",null,{"$f":"IF(LDAR_H_UU_summary!C101=\"\",\"\",LDAR_H_UU_summary!C101)","v":""},{"$f":"IF(COUNTIF(N$2:N279,N279)=1,N279,\"\")","v":""},{"$f":"+IF(O279=\"\",\"\",MAX(P$1:P278)+1)","v":""},"",null,{"$f":"IF(CMS_Identification!G301=\"\",\"\",CMS_Identification!G301)","v":""},{"$f":"IF(CMS_Identification!B301=\"\",\"\",CMS_Identification!B301)","v":""},{"$f":"IF(COUNTIF(S$2:S279,S279)=1,S279,\"\")","v":""},{"$f":"+IF(U279=\"\",\"\",MAX(V$1:V278)+1)","v":""},"",null,{"$f":"IF(CMS_Identification!G301=\"\",\"\",CMS_Identification!G301)","v":""},{"$f":"IF(CMS_Identification!D301=\"\",\"\",CMS_Identification!D301)","v":""},null,null,null,{"$f":"IF(CMS_Identification!B301=\"\",\"\",CMS_Identification!B301)","v":""},{"$f":"IF(CMS_Identification!G301=\"\",\"\",CMS_Identification!G301)","v":""},{"$f":"IF(CMS_Identification!D301=\"\",\"\",CMS_Identification!D301)","v":""}]
[null,null,null,null,null,null,null,null,{"$f":"IF(LDAR_TT_summary!C202=\"\",\"\",LDAR_TT_summary!C202)","v":""},{"$f":"IF(COUNTIF(I$2:I280,I280)=1,I280,\"\")","v":""},{"$f":"+IF(J280=\"\",\"\",MAX(K$1:K279)+1)","v":""},"",null,{"$f":"IF(LDAR_H_UU_summary!C102=\"\",\"\",LDAR_H_UU_summary!C102)","v":""},{"$f":"IF(COUNTIF(N$2:N280,N280)=1,N280,\"\")","v":""},{"$f":"+IF(O280=\"\",\"\",MAX(P$1:P279)+1)","v":""},"",null,{"$f":"IF(CMS_Identification!G302=\"\",\"\",CMS_Identification!G302)","v":""},{"$f":"IF(CMS_Identification!B302=\"\",\"\",CMS_Identification!B302)","v":""},{"$f":"IF(COUNTIF(S$2:S280,S280)=1,S280,\"\")","v":""},{"$f":"+IF(U280=\"\",\"\",MAX(V$1:V279)+1)","v":""},"",null,{"$f":"IF(CMS_Identification!G302=\"\",\"\",CMS_Identification!G302)","v":""},{"$f":"IF(CMS_Identification!D302=\"\",\"\",CMS_Identification!D302)","v":""},null,null,null,{"$f":"IF(CMS_Identification!B302=\"\",\"\",CMS_Identification!B302)","v":""},{"$f":"IF(CMS_Identification!G302=\"\",\"\",CMS_Identification!G302)","v":""},{"$f":"IF(CMS_Identification!D302=\"\",\"\",CMS_Identification!D302)","v":""}]
[null,null,null,null,null,null,null,null,{"$f":"IF(LDAR_TT_summary!C203=\"\",\"\",LDAR_TT_summary!C203)","v":""},{"$f":"IF(COUNTIF(I$2:I281,I281)=1,I281,\"\")","v":""},{"$f":"+IF(J281=\"\",\"\",MAX(K$1:K280)+1)","v":""},"",null,{"$f":"IF(LDAR_H_UU_summary!C103=\"\",\"\",LDAR_H_UU_summary!C103)","v":""},{"$f":"IF(COUNTIF(N$2:N281,N281)=1,N281,\"\")","v":""},{"$f":"+IF(O281=\"\",\"\",MAX(P$1:P280)+1)","v":""},"",null,{"$f":"IF(CMS_Identification!G303=\"\",\"\",CMS_Identification!G303)","v":""},{"$f":"IF(CMS_Identification!B303=\"\",\"\",CMS_Identification!B303)","v":""},{"$f":"IF(COUNTIF(S$2:S281,S281)=1,S281,\"\")","v":""},{"$f":"+IF(U281=\"\",\"\",MAX(V$1:V280)+1)","v":""},"",null,{"$f":"IF(CMS_Identification!G303=\"\",\"\",CMS_Identification!G303)","v":""},{"$f":"IF(CMS_Identification!D303=\"\",\"\",CMS_Identification!D303)","v":""},null,null,null,{"$f":"IF(CMS_Identification!B303=\"\",\"\",CMS_Identification!B303)","v":""},{"$f":"IF(CMS_Identification!G303=\"\",\"\",CMS_Identification!G303)","v":""},{"$f":"IF(CMS_Identification!D303=\"\",\"\",CMS_Identification!D303)","v":""}]
[null,null,null,null,null,null,null,null,{"$f":"IF(LDAR_TT_summary!C204=\"\",\"\",LDAR_TT_summary!C204)","v":""},{"$f":"IF(COUNTIF(I$2:I282,I282)=1,I282,\"\")","v":""},{"$f":"+IF(J282=\"\",\"\",MAX(K$1:K281)+1)","v":""},"",null,{"$f":"IF(LDAR_H_UU_summary!C104=\"\",\"\",LDAR_H_UU_summary!C104)","v":""},{"$f":"IF(COUNTIF(N$2:N282,N282)=1,N282,\"\")","v":""},{"$f":"+IF(O282=\"\",\"\",MAX(P$1:P281)+1)","v":""},"",null,{"$f":"IF(CMS_Identification!G304=\"\",\"\",CMS_Identification!G304)","v":""},{"$f":"IF(CMS_Identification!B304=\"\",\"\",CMS_Identification!B304)","v":""},{"$f":"IF(COUNTIF(S$2:S282,S282)=1,S282,\"\")","v":""},{"$f":"+IF(U282=\"\",\"\",MAX(V$1:V281)+1)","v":""},"",null,{"$f":"IF(CMS_Identification!G304=\"\",\"\",CMS_Identification!G304)","v":""},{"$f":"IF(CMS_Identification!D304=\"\",\"\",CMS_Identification!D304)","v":""},null,null,null,{"$f":"IF(CMS_Identification!B304=\"\",\"\",CMS_Identification!B304)","v":""},{"$f":"IF(CMS_Identification!G304=\"\",\"\",CMS_Identification!G304)","v":""},{"$f":"IF(CMS_Identification!D304=\"\",\"\",CMS_Identification!D304)","v":""}]
[null,null,null,null,null,null,null,null,{"$f":"IF(LDAR_TT_summary!C205=\"\",\"\",LDAR_TT_summary!C205)","v":""},{"$f":"IF(COUNTIF(I$2:I283,I283)=1,I283,\"\")","v":""},{"$f":"+IF(J283=\"\",\"\",MAX(K$1:K282)+1)","v":""},"",null,{"$f":"IF(LDAR_H_UU_summary!C105=\"\",\"\",LDAR_H_UU_summary!C105)","v":""},{"$f":"IF(COUNTIF(N$2:N283,N283)=1,N283,\"\")","v":""},{"$f":"+IF(O283=\"\",\"\",MAX(P$1:P282)+1)","v":""},"",null,{"$f":"IF(CMS_Identification!G305=\"\",\"\",CMS_Identification!G305)","v":""},{"$f":"IF(CMS_Identification!B305=\"\",\"\",CMS_Identification!B305)","v":""},{"$f":"IF(COUNTIF(S$2:S283,S283)=1,S283,\"\")","v":""},{"$f":"+IF(U283=\"\",\"\",MAX(V$1:V282)+1)","v":""},"",null,{"$f":"IF(CMS_Identification!G305=\"\",\"\",CMS_Identification!G305)","v":""},{"$f":"IF(CMS_Identification!D305=\"\",\"\",CMS_Identification!D305)","v":""},null,null,null,{"$f":"IF(CMS_Identification!B305=\"\",\"\",CMS_Identification!B305)","v":""},{"$f":"IF(CMS_Identification!G305=\"\",\"\",CMS_Identification!G305)","v":""},{"$f":"IF(CMS_Identification!D305=\"\",\"\",CMS_Identification!D305)","v":""}]
[null,null,null,null,null,null,null,null,{"$f":"IF(LDAR_TT_summary!C206=\"\",\"\",LDAR_TT_summary!C206)","v":""},{"$f":"IF(COUNTIF(I$2:I284,I284)=1,I284,\"\")","v":""},{"$f":"+IF(J284=\"\",\"\",MAX(K$1:K283)+1)","v":""},"",null,{"$f":"IF(LDAR_H_UU_summary!C106=\"\",\"\",LDAR_H_UU_summary!C106)","v":""},{"$f":"IF(COUNTIF(N$2:N284,N284)=1,N284,\"\")","v":""},{"$f":"+IF(O284=\"\",\"\",MAX(P$1:P283)+1)","v":""},"",null,{"$f":"IF(CMS_Identification!G306=\"\",\"\",CMS_Identification!G306)","v":""},{"$f":"IF(CMS_Identification!B306=\"\",\"\",CMS_Identification!B306)","v":""},{"$f":"IF(COUNTIF(S$2:S284,S284)=1,S284,\"\")","v":""},{"$f":"+IF(U284=\"\",\"\",MAX(V$1:V283)+1)","v":""},"",null,{"$f":"IF(CMS_Identification!G306=\"\",\"\",CMS_Identification!G306)","v":""},{"$f":"IF(CMS_Identification!D306=\"\",\"\",CMS_Identification!D306)","v":""},null,null,null,{"$f":"IF(CMS_Identification!B306=\"\",\"\",CMS_Identification!B306)","v":""},{"$f":"IF(CMS_Identification!G306=\"\",\"\",CMS_Identification!G306)","v":""},{"$f":"IF(CMS_Identification!D306=\"\",\"\",CMS_Identification!D306)","v":""}]
[null,null,null,null,null,null,null,null,{"$f":"IF(LDAR_TT_summary!C207=\"\",\"\",LDAR_TT_summary!C207)","v":""},{"$f":"IF(COUNTIF(I$2:I285,I285)=1,I285,\"\")","v":""},{"$f":"+IF(J285=\"\",\"\",MAX(K$1:K284)+1)","v":""},"",null,{"$f":"IF(LDAR_H_UU_summary!C107=\"\",\"\",LDAR_H_UU_summary!C107)","v":""},{"$f":"IF(COUNTIF(N$2:N285,N285)=1,N285,\"\")","v":""},{"$f":"+IF(O285=\"\",\"\",MAX(P$1:P284)+1)","v":""},"",null,{"$f":"IF(CMS_Identification!G307=\"\",\"\",CMS_Identification!G307)","v":""},{"$f":"IF(CMS_Identification!B307=\"\",\"\",CMS_Identification!B307)","v":""},{"$f":"IF(COUNTIF(S$2:S285,S285)=1,S285,\"\")","v":""},{"$f":"+IF(U285=\"\",\"\",MAX(V$1:V284)+1)","v":""},"",null,{"$f":"IF(CMS_Identification!G307=\"\",\"\",CMS_Identification!G307)","v":""},{"$f":"IF(CMS_Identification!D307=\"\",\"\",CMS_Identification!D307)","v":""},null,null,null,{"$f":"IF(CMS_Identification!B307=\"\",\"\",CMS_Identification!B307)","v":""},{"$f":"IF(CMS_Identification!G307=\"\",\"\",CMS_Identification!G307)","v":""},{"$f":"IF(CMS_Identification!D307=\"\",\"\",CMS_Identification!D307)","v":""}]
[null,null,null,null,null,null,null,null,{"$f":"IF(LDAR_TT_summary!C208=\"\",\"\",LDAR_TT_summary!C208)","v":""},{"$f":"IF(COUNTIF(I$2:I286,I286)=1,I286,\"\")","v":""},{"$f":"+IF(J286=\"\",\"\",MAX(K$1:K285)+1)","v":""},"",null,{"$f":"IF(LDAR_H_UU_summary!C108=\"\",\"\",LDAR_H_UU_summary!C108)","v":""},{"$f":"IF(COUNTIF(N$2:N286,N286)=1,N286,\"\")","v":""},{"$f":"+IF(O286=\"\",\"\",MAX(P$1:P285)+1)","v":""},"",null,{"$f":"IF(CMS_Identification!G308=\"\",\"\",CMS_Identification!G308)","v":""},{"$f":"IF(CMS_Identification!B308=\"\",\"\",CMS_Identification!B308)","v":""},{"$f":"IF(COUNTIF(S$2:S286,S286)=1,S286,\"\")","v":""},{"$f":"+IF(U286=\"\",\"\",MAX(V$1:V285)+1)","v":""},"",null,{"$f":"IF(CMS_Identification!G308=\"\",\"\",CMS_Identification!G308)","v":""},{"$f":"IF(CMS_Identification!D308=\"\",\"\",CMS_Identification!D308)","v":""},null,null,null,{"$f":"IF(CMS_Identification!B308=\"\",\"\",CMS_Identification!B308)","v":""},{"$f":"IF(CMS_Identification!G308=\"\",\"\",CMS_Identification!G308)","v":""},{"$f":"IF(CMS_Identification!D308=\"\",\"\",CMS_Identification!D308)","v":""}]
[null,null,null,null,null,null,null,null,{"$f":"IF(LDAR_TT_summary!C209=\"\",\"\",LDAR_TT_summary!C209)","v":""},{"$f":"IF(COUNTIF(I$2:I287,I287)=1,I287,\"\")","v":""},{"$f":"+IF(J287=\"\",\"\",MAX(K$1:K286)+1)","v":""},"",null,{"$f":"IF(LDAR_H_UU_summary!C109=\"\",\"\",LDAR_H_UU_summary!C109)","v":""},{"$f":"IF(COUNTIF(N$2:N287,N287)=1,N287,\"\")","v":""},{"$f":"+IF(O287=\"\",\"\",MAX(P$1:P286)+1)","v":""},"",null,{"$f":"IF(CMS_Identification!G309=\"\",\"\",CMS_Identification!G309)","v":""},{"$f":"IF(CMS_Identification!B309=\"\",\"\",CMS_Identification!B309)","v":""},{"$f":"IF(COUNTIF(S$2:S287,S287)=1,S287,\"\")","v":""},{"$f":"+IF(U287=\"\",\"\",MAX(V$1:V286)+1)","v":""},"",null,{"$f":"IF(CMS_Identification!G309=\"\",\"\",CMS_Identification!G309)","v":""},{"$f":"IF(CMS_Identification!D309=\"\",\"\",CMS_Identification!D309)","v":""},null,null,null,{"$f":"IF(CMS_Identification!B309=\"\",\"\",CMS_Identification!B309)","v":""},{"$f":"IF(CMS_Identification!G309=\"\",\"\",CMS_Identification!G309)","v":""},{"$f":"IF(CMS_Identification!D309=\"\",\"\",CMS_Identification!D309)","v":""}]
[null,null,null,null,null,null,null,null,{"$f":"IF(LDAR_TT_summary!C210=\"\",\"\",LDAR_TT_summary!C210)","v":""},{"$f":"IF(COUNTIF(I$2:I288,I288)=1,I288,\"\")","v":""},{"$f":"+IF(J288=\"\",\"\",MAX(K$1:K287)+1)","v":""},"",null,{"$f":"IF(LDAR_H_UU_summary!C110=\"\",\"\",LDAR_H_UU_summary!C110)","v":""},{"$f":"IF(COUNTIF(N$2:N288,N288)=1,N288,\"\")","v":""},{"$f":"+IF(O288=\"\",\"\",MAX(P$1:P287)+1)","v":""},"",null,{"$f":"IF(CMS_Identification!G310=\"\",\"\",CMS_Identification!G310)","v":""},{"$f":"IF(CMS_Identification!B310=\"\",\"\",CMS_Identification!B310)","v":""},{"$f":"IF(COUNTIF(S$2:S288,S288)=1,S288,\"\")","v":""},{"$f":"+IF(U288=\"\",\"\",MAX(V$1:V287)+1)","v":""},"",null,{"$f":"IF(CMS_Identification!G310=\"\",\"\",CMS_Identification!G310)","v":""},{"$f":"IF(CMS_Identification!D310=\"\",\"\",CMS_Identification!D310)","v":""},null,null,null,{"$f":"IF(CMS_Identification!B310=\"\",\"\",CMS_Identification!B310)","v":""},{"$f":"IF(CMS_Identification!G310=\"\",\"\",CMS_Identification!G310)","v":""},{"$f":"IF(CMS_Identification!D310=\"\",\"\",CMS_Identification!D310)","v":""}]
[null,null,null,null,null,null,null,null,{"$f":"IF(LDAR_TT_summary!C211=\"\",\"\",LDAR_TT_summary!C211)","v":""},{"$f":"IF(COUNTIF(I$2:I289,I289)=1,I289,\"\")","v":""},{"$f":"+IF(J289=\"\",\"\",MAX(K$1:K288)+1)","v":""},"",null,{"$f":"IF(LDAR_H_UU_summary!C111=\"\",\"\",LDAR_H_UU_summary!C111)","v":""},{"$f":"IF(COUNTIF(N$2:N289,N289)=1,N289,\"\")","v":""},{"$f":"+IF(O289=\"\",\"\",MAX(P$1:P288)+1)","v":""},"",null,{"$f":"IF(CMS_Identification!G311=\"\",\"\",CMS_Identification!G311)","v":""},{"$f":"IF(CMS_Identification!B311=\"\",\"\",CMS_Identification!B311)","v":""},{"$f":"IF(COUNTIF(S$2:S289,S289)=1,S289,\"\")","v":""},{"$f":"+IF(U289=\"\",\"\",MAX(V$1:V288)+1)","v":""},"",null,{"$f":"IF(CMS_Identification!G311=\"\",\"\",CMS_Identification!G311)","v":""},{"$f":"IF(CMS_Identification!D311=\"\",\"\",CMS_Identification!D311)","v":""},null,null,null,{"$f":"IF(CMS_Identification!B311=\"\",\"\",CMS_Identification!B311)","v":""},{"$f":"IF(CMS_Identification!G311=\"\",\"\",CMS_Identification!G311)","v":""},{"$f":"IF(CMS_Identification!D311=\"\",\"\",CMS_Identification!D311)","v":""}]
[null,null,null,null,null,null,null,null,{"$f":"IF(LDAR_TT_summary!C212=\"\",\"\",LDAR_TT_summary!C212)","v":""},{"$f":"IF(COUNTIF(I$2:I290,I290)=1,I290,\"\")","v":""},{"$f":"+IF(J290=\"\",\"\",MAX(K$1:K289)+1)","v":""},"",null,{"$f":"IF(LDAR_H_UU_summary!C112=\"\",\"\",LDAR_H_UU_summary!C112)","v":""},{"$f":"IF(COUNTIF(N$2:N290,N290)=1,N290,\"\")","v":""},{"$f":"+IF(O290=\"\",\"\",MAX(P$1:P289)+1)","v":""},"",null,{"$f":"IF(CMS_Identification!G312=\"\",\"\",CMS_Identification!G312)","v":""},{"$f":"IF(CMS_Identification!B312=\"\",\"\",CMS_Identification!B312)","v":""},{"$f":"IF(COUNTIF(S$2:S290,S290)=1,S290,\"\")","v":""},{"$f":"+IF(U290=\"\",\"\",MAX(V$1:V289)+1)","v":""},"",null,{"$f":"IF(CMS_Identification!G312=\"\",\"\",CMS_Identification!G312)","v":""},{"$f":"IF(CMS_Identification!D312=\"\",\"\",CMS_Identification!D312)","v":""},null,null,null,{"$f":"IF(CMS_Identification!B312=\"\",\"\",CMS_Identification!B312)","v":""},{"$f":"IF(CMS_Identification!G312=\"\",\"\",CMS_Identification!G312)","v":""},{"$f":"IF(CMS_Identification!D312=\"\",\"\",CMS_Identification!D312)","v":""}]
[null,null,null,null,null,null,null,null,{"$f":"IF(LDAR_TT_summary!C213=\"\",\"\",LDAR_TT_summary!C213)","v":""},{"$f":"IF(COUNTIF(I$2:I291,I291)=1,I291,\"\")","v":""},{"$f":"+IF(J291=\"\",\"\",MAX(K$1:K290)+1)","v":""},"",null,{"$f":"IF(LDAR_H_UU_summary!C113=\"\",\"\",LDAR_H_UU_summary!C113)","v":""},{"$f":"IF(COUNTIF(N$2:N291,N291)=1,N291,\"\")","v":""},{"$f":"+IF(O291=\"\",\"\",MAX(P$1:P290)+1)","v":""},"",null,{"$f":"IF(CMS_Identification!G313=\"\",\"\",CMS_Identification!G313)","v":""},{"$f":"IF(CMS_Identification!B313=\"\",\"\",CMS_Identification!B313)","v":""},{"$f":"IF(COUNTIF(S$2:S291,S291)=1,S291,\"\")","v":""},{"$f":"+IF(U291=\"\",\"\",MAX(V$1:V290)+1)","v":""},"",null,{"$f":"IF(CMS_Identification!G313=\"\",\"\",CMS_Identification!G313)","v":""},{"$f":"IF(CMS_Identification!D313=\"\",\"\",CMS_Identification!D313)","v":""},null,null,null,{"$f":"IF(CMS_Identification!B313=\"\",\"\",CMS_Identification!B313)","v":""},{"$f":"IF(CMS_Identification!G313=\"\",\"\",CMS_Identification!G313)","v":""},{"$f":"IF(CMS_Identification!D313=\"\",\"\",CMS_Identification!D313)","v":""}]
[null,null,null,null,null,null,null,null,{"$f":"IF(LDAR_TT_summary!C214=\"\",\"\",LDAR_TT_summary!C214)","v":""},{"$f":"IF(COUNTIF(I$2:I292,I292)=1,I292,\"\")","v":""},{"$f":"+IF(J292=\"\",\"\",MAX(K$1:K291)+1)","v":""},"",null,{"$f":"IF(LDAR_H_UU_summary!C114=\"\",\"\",LDAR_H_UU_summary!C114)","v":""},{"$f":"IF(COUNTIF(N$2:N292,N292)=1,N292,\"\")","v":""},{"$f":"+IF(O292=\"\",\"\",MAX(P$1:P291)+1)","v":""},"",null,{"$f":"IF(CMS_Identification!G314=\"\",\"\",CMS_Identification!G314)","v":""},{"$f":"IF(CMS_Identification!B314=\"\",\"\",CMS_Identification!B314)","v":""},{"$f":"IF(COUNTIF(S$2:S292,S292)=1,S292,\"\")","v":""},{"$f":"+IF(U292=\"\",\"\",MAX(V$1:V291)+1)","v":""},"",null,{"$f":"IF(CMS_Identification!G314=\"\",\"\",CMS_Identification!G314)","v":""},{"$f":"IF(CMS_Identification!D314=\"\",\"\",CMS_Identification!D314)","v":""},null,null,null,{"$f":"IF(CMS_Identification!B314=\"\",\"\",CMS_Identification!B314)","v":""},{"$f":"IF(CMS_Identification!G314=\"\",\"\",CMS_Identification!G314)","v":""},{"$f":"IF(CMS_Identification!D314=\"\",\"\",CMS_Identification!D314)","v":""}]
[null,null,null,null,null,null,null,null,{"$f":"IF(LDAR_TT_summary!C215=\"\",\"\",LDAR_TT_summary!C215)","v":""},{"$f":"IF(COUNTIF(I$2:I293,I293)=1,I293,\"\")","v":""},{"$f":"+IF(J293=\"\",\"\",MAX(K$1:K292)+1)","v":""},"",null,{"$f":"IF(LDAR_H_UU_summary!C115=\"\",\"\",LDAR_H_UU_summary!C115)","v":""},{"$f":"IF(COUNTIF(N$2:N293,N293)=1,N293,\"\")","v":""},{"$f":"+IF(O293=\"\",\"\",MAX(P$1:P292)+1)","v":""},"",null,{"$f":"IF(CMS_Identification!G315=\"\",\"\",CMS_Identification!G315)","v":""},{"$f":"IF(CMS_Identification!B315=\"\",\"\",CMS_Identification!B315)","v":""},{"$f":"IF(COUNTIF(S$2:S293,S293)=1,S293,\"\")","v":""},{"$f":"+IF(U293=\"\",\"\",MAX(V$1:V292)+1)","v":""},"",null,{"$f":"IF(CMS_Identification!G315=\"\",\"\",CMS_Identification!G315)","v":""},{"$f":"IF(CMS_Identification!D315=\"\",\"\",CMS_Identification!D315)","v":""},null,null,null,{"$f":"IF(CMS_Identification!B315=\"\",\"\",CMS_Identification!B315)","v":""},{"$f":"IF(CMS_Identification!G315=\"\",\"\",CMS_Identification!G315)","v":""},{"$f":"IF(CMS_Identification!D315=\"\",\"\",CMS_Identification!D315)","v":""}]
[null,null,null,null,null,null,null,null,{"$f":"IF(LDAR_TT_summary!C216=\"\",\"\",LDAR_TT_summary!C216)","v":""},{"$f":"IF(COUNTIF(I$2:I294,I294)=1,I294,\"\")","v":""},{"$f":"+IF(J294=\"\",\"\",MAX(K$1:K293)+1)","v":""},"",null,{"$f":"IF(LDAR_H_UU_summary!C116=\"\",\"\",LDAR_H_UU_summary!C116)","v":""},{"$f":"IF(COUNTIF(N$2:N294,N294)=1,N294,\"\")","v":""},{"$f":"+IF(O294=\"\",\"\",MAX(P$1:P293)+1)","v":""},"",null,{"$f":"IF(CMS_Identification!G316=\"\",\"\",CMS_Identification!G316)","v":""},{"$f":"IF(CMS_Identification!B316=\"\",\"\",CMS_Identification!B316)","v":""},{"$f":"IF(COUNTIF(S$2:S294,S294)=1,S294,\"\")","v":""},{"$f":"+IF(U294=\"\",\"\",MAX(V$1:V293)+1)","v":""},"",null,{"$f":"IF(CMS_Identification!G316=\"\",\"\",CMS_Identification!G316)","v":""},{"$f":"IF(CMS_Identification!D316=\"\",\"\",CMS_Identification!D316)","v":""},null,null,null,{"$f":"IF(CMS_Identification!B316=\"\",\"\",CMS_Identification!B316)","v":""},{"$f":"IF(CMS_Identification!G316=\"\",\"\",CMS_Identification!G316)","v":""},{"$f":"IF(CMS_Identification!D316=\"\",\"\",CMS_Identification!D316)","v":""}]
[null,null,null,null,null,null,null,null,{"$f":"IF(LDAR_TT_summary!C217=\"\",\"\",LDAR_TT_summary!C217)","v":""},{"$f":"IF(COUNTIF(I$2:I295,I295)=1,I295,\"\")","v":""},{"$f":"+IF(J295=\"\",\"\",MAX(K$1:K294)+1)","v":""},"",null,{"$f":"IF(LDAR_H_UU_summary!C117=\"\",\"\",LDAR_H_UU_summary!C117)","v":""},{"$f":"IF(COUNTIF(N$2:N295,N295)=1,N295,\"\")","v":""},{"$f":"+IF(O295=\"\",\"\",MAX(P$1:P294)+1)","v":""},"",null,{"$f":"IF(CMS_Identification!G317=\"\",\"\",CMS_Identification!G317)","v":""},{"$f":"IF(CMS_Identification!B317=\"\",\"\",CMS_Identification!B317)","v":""},{"$f":"IF(COUNTIF(S$2:S295,S295)=1,S295,\"\")","v":""},{"$f":"+IF(U295=\"\",\"\",MAX(V$1:V294)+1)","v":""},"",null,{"$f":"IF(CMS_Identification!G317=\"\",\"\",CMS_Identification!G317)","v":""},{"$f":"IF(CMS_Identification!D317=\"\",\"\",CMS_Identification!D317)","v":""},null,null,null,{"$f":"IF(CMS_Identification!B317=\"\",\"\",CMS_Identification!B317)","v":""},{"$f":"IF(CMS_Identification!G317=\"\",\"\",CMS_Identification!G317)","v":""},{"$f":"IF(CMS_Identification!D317=\"\",\"\",CMS_Identification!D317)","v":""}]
[null,null,null,null,null,null,null,null,{"$f":"IF(LDAR_TT_summary!C218=\"\",\"\",LDAR_TT_summary!C218)","v":""},{"$f":"IF(COUNTIF(I$2:I296,I296)=1,I296,\"\")","v":""},{"$f":"+IF(J296=\"\",\"\",MAX(K$1:K295)+1)","v":""},"",null,{"$f":"IF(LDAR_H_UU_summary!C118=\"\",\"\",LDAR_H_UU_summary!C118)","v":""},{"$f":"IF(COUNTIF(N$2:N296,N296)=1,N296,\"\")","v":""},{"$f":"+IF(O296=\"\",\"\",MAX(P$1:P295)+1)","v":""},"",null,{"$f":"IF(CMS_Identification!G318=\"\",\"\",CMS_Identification!G318)","v":""},{"$f":"IF(CMS_Identification!B318=\"\",\"\",CMS_Identification!B318)","v":""},{"$f":"IF(COUNTIF(S$2:S296,S296)=1,S296,\"\")","v":""},{"$f":"+IF(U296=\"\",\"\",MAX(V$1:V295)+1)","v":""},"",null,{"$f":"IF(CMS_Identification!G318=\"\",\"\",CMS_Identification!G318)","v":""},{"$f":"IF(CMS_Identification!D318=\"\",\"\",CMS_Identification!D318)","v":""},null,null,null,{"$f":"IF(CMS_Identification!B318=\"\",\"\",CMS_Identification!B318)","v":""},{"$f":"IF(CMS_Identification!G318=\"\",\"\",CMS_Identification!G318)","v":""},{"$f":"IF(CMS_Identification!D318=\"\",\"\",CMS_Identification!D318)","v":""}]
[null,null,null,null,null,null,null,null,{"$f":"IF(LDAR_TT_summary!C219=\"\",\"\",LDAR_TT_summary!C219)","v":""},{"$f":"IF(COUNTIF(I$2:I297,I297)=1,I297,\"\")","v":""},{"$f":"+IF(J297=\"\",\"\",MAX(K$1:K296)+1)","v":""},"",null,{"$f":"IF(LDAR_H_UU_summary!C119=\"\",\"\",LDAR_H_UU_summary!C119)","v":""},{"$f":"IF(COUNTIF(N$2:N297,N297)=1,N297,\"\")","v":""},{"$f":"+IF(O297=\"\",\"\",MAX(P$1:P296)+1)","v":""},"",null,{"$f":"IF(CMS_Identification!G319=\"\",\"\",CMS_Identification!G319)","v":""},{"$f":"IF(CMS_Identification!B319=\"\",\"\",CMS_Identification!B319)","v":""},{"$f":"IF(COUNTIF(S$2:S297,S297)=1,S297,\"\")","v":""},{"$f":"+IF(U297=\"\",\"\",MAX(V$1:V296)+1)","v":""},"",null,{"$f":"IF(CMS_Identification!G319=\"\",\"\",CMS_Identification!G319)","v":""},{"$f":"IF(CMS_Identification!D319=\"\",\"\",CMS_Identification!D319)","v":""},null,null,null,{"$f":"IF(CMS_Identification!B319=\"\",\"\",CMS_Identification!B319)","v":""},{"$f":"IF(CMS_Identification!G319=\"\",\"\",CMS_Identification!G319)","v":""},{"$f":"IF(CMS_Identification!D319=\"\",\"\",CMS_Identification!D319)","v":""}]
[null,null,null,null,null,null,null,null,{"$f":"IF(LDAR_TT_summary!C220=\"\",\"\",LDAR_TT_summary!C220)","v":""},{"$f":"IF(COUNTIF(I$2:I298,I298)=1,I298,\"\")","v":""},{"$f":"+IF(J298=\"\",\"\",MAX(K$1:K297)+1)","v":""},"",null,{"$f":"IF(LDAR_H_UU_summary!C120=\"\",\"\",LDAR_H_UU_summary!C120)","v":""},{"$f":"IF(COUNTIF(N$2:N298,N298)=1,N298,\"\")","v":""},{"$f":"+IF(O298=\"\",\"\",MAX(P$1:P297)+1)","v":""},"",null,{"$f":"IF(CMS_Identification!G320=\"\",\"\",CMS_Identification!G320)","v":""},{"$f":"IF(CMS_Identification!B320=\"\",\"\",CMS_Identification!B320)","v":""},{"$f":"IF(COUNTIF(S$2:S298,S298)=1,S298,\"\")","v":""},{"$f":"+IF(U298=\"\",\"\",MAX(V$1:V297)+1)","v":""},"",null,{"$f":"IF(CMS_Identification!G320=\"\",\"\",CMS_Identification!G320)","v":""},{"$f":"IF(CMS_Identification!D320=\"\",\"\",CMS_Identification!D320)","v":""},null,null,null,{"$f":"IF(CMS_Identification!B320=\"\",\"\",CMS_Identification!B320)","v":""},{"$f":"IF(CMS_Identification!G320=\"\",\"\",CMS_Identification!G320)","v":""},{"$f":"IF(CMS_Identification!D320=\"\",\"\",CMS_Identification!D320)","v":""}]
[null,null,null,null,null,null,null,null,{"$f":"IF(LDAR_TT_summary!C221=\"\",\"\",LDAR_TT_summary!C221)","v":""},{"$f":"IF(COUNTIF(I$2:I299,I299)=1,I299,\"\")","v":""},{"$f":"+IF(J299=\"\",\"\",MAX(K$1:K298)+1)","v":""},"",null,{"$f":"IF(LDAR_H_UU_summary!C121=\"\",\"\",LDAR_H_UU_summary!C121)","v":""},{"$f":"IF(COUNTIF(N$2:N299,N299)=1,N299,\"\")","v":""},{"$f":"+IF(O299=\"\",\"\",MAX(P$1:P298)+1)","v":""},"",null,{"$f":"IF(CMS_Identification!G321=\"\",\"\",CMS_Identification!G321)","v":""},{"$f":"IF(CMS_Identification!B321=\"\",\"\",CMS_Identification!B321)","v":""},{"$f":"IF(COUNTIF(S$2:S299,S299)=1,S299,\"\")","v":""},{"$f":"+IF(U299=\"\",\"\",MAX(V$1:V298)+1)","v":""},"",null,{"$f":"IF(CMS_Identification!G321=\"\",\"\",CMS_Identification!G321)","v":""},{"$f":"IF(CMS_Identification!D321=\"\",\"\",CMS_Identification!D321)","v":""},null,null,null,{"$f":"IF(CMS_Identification!B321=\"\",\"\",CMS_Identification!B321)","v":""},{"$f":"IF(CMS_Identification!G321=\"\",\"\",CMS_Identification!G321)","v":""},{"$f":"IF(CMS_Identification!D321=\"\",\"\",CMS_Identification!D321)","v":""}]
[null,null,null,null,null,null,null,null,{"$f":"IF(LDAR_TT_summary!C222=\"\",\"\",LDAR_TT_summary!C222)","v":""},{"$f":"IF(COUNTIF(I$2:I300,I300)=1,I300,\"\")","v":""},{"$f":"+IF(J300=\"\",\"\",MAX(K$1:K299)+1)","v":""},"",null,{"$f":"IF(LDAR_H_UU_summary!C122=\"\",\"\",LDAR_H_UU_summary!C122)","v":""},{"$f":"IF(COUNTIF(N$2:N300,N300)=1,N300,\"\")","v":""},{"$f":"+IF(O300=\"\",\"\",MAX(P$1:P299)+1)","v":""},"",null,{"$f":"IF(CMS_Identification!G322=\"\",\"\",CMS_Identification!G322)","v":""},{"$f":"IF(CMS_Identification!B322=\"\",\"\",CMS_Identification!B322)","v":""},{"$f":"IF(COUNTIF(S$2:S300,S300)=1,S300,\"\")","v":""},{"$f":"+IF(U300=\"\",\"\",MAX(V$1:V299)+1)","v":""},"",null,{"$f":"IF(CMS_Identification!G322=\"\",\"\",CMS_Identification!G322)","v":""},{"$f":"IF(CMS_Identification!D322=\"\",\"\",CMS_Identification!D322)","v":""},null,null,null,{"$f":"IF(CMS_Identification!B322=\"\",\"\",CMS_Identification!B322)","v":""},{"$f":"IF(CMS_Identification!G322=\"\",\"\",CMS_Identification!G322)","v":""},{"$f":"IF(CMS_Identification!D322=\"\",\"\",CMS_Identification!D322)","v":""}]
[null,null,null,null,null,null,null,null,{"$f":"IF(LDAR_TT_summary!C223=\"\",\"\",LDAR_TT_summary!C223)","v":""},{"$f":"IF(COUNTIF(I$2:I801,I301)=1,I301,\"\")","v":""},{"$f":"+IF(J301=\"\",\"\",MAX(K$1:K300)+1)","v":""},"",null,{"$f":"IF(LDAR_H_UU_summary!C123=\"\",\"\",LDAR_H_UU_summary!C123)","v":""},{"$f":"IF(COUNTIF(N$2:N301,N301)=1,N301,\"\")","v":""},{"$f":"+IF(O301=\"\",\"\",MAX(P$1:P300)+1)","v":""},"",null,{"$f":"IF(CMS_Identification!G323=\"\",\"\",CMS_Identification!G323)","v":""},{"$f":"IF(CMS_Identification!B323=\"\",\"\",CMS_Identification!B323)","v":""},{"$f":"IF(COUNTIF(S$2:S301,S301)=1,S301,\"\")","v":""},{"$f":"+IF(U301=\"\",\"\",MAX(V$1:V300)+1)","v":""},"",null,{"$f":"IF(CMS_Identification!G323=\"\",\"\",CMS_Identification!G323)","v":""},{"$f":"IF(CMS_Identification!D323=\"\",\"\",CMS_Identification!D323)","v":""},null,null,null,{"$f":"IF(CMS_Identification!B323=\"\",\"\",CMS_Identification!B323)","v":""},{"$f":"IF(CMS_Identification!G323=\"\",\"\",CMS_Identification!G323)","v":""},{"$f":"IF(CMS_Identification!D323=\"\",\"\",CMS_Identification!D323)","v":""}]
[null,null,null,null,null,null,null,null,{"$f":"IF(LDAR_TT_summary!C224=\"\",\"\",LDAR_TT_summary!C224)","v":""},{"$f":"IF(COUNTIF(I$2:I302,I302)=1,I302,\"\")","v":""},{"$f":"+IF(J302=\"\",\"\",MAX(K$1:K301)+1)","v":""},"",null,{"$f":"IF(LDAR_H_UU_summary!C124=\"\",\"\",LDAR_H_UU_summary!C124)","v":""},{"$f":"IF(COUNTIF(N$2:N302,N302)=1,N302,\"\")","v":""},{"$f":"+IF(O302=\"\",\"\",MAX(P$1:P301)+1)","v":""},"",null,{"$f":"IF(CMS_Identification!G324=\"\",\"\",CMS_Identification!G324)","v":""},{"$f":"IF(CMS_Identification!B324=\"\",\"\",CMS_Identification!B324)","v":""},{"$f":"IF(COUNTIF(S$2:S302,S302)=1,S302,\"\")","v":""},{"$f":"+IF(U302=\"\",\"\",MAX(V$1:V301)+1)","v":""},"",null,{"$f":"IF(CMS_Identification!G324=\"\",\"\",CMS_Identification!G324)","v":""},{"$f":"IF(CMS_Identification!D324=\"\",\"\",CMS_Identification!D324)","v":""},null,null,null,{"$f":"IF(CMS_Identification!B324=\"\",\"\",CMS_Identification!B324)","v":""},{"$f":"IF(CMS_Identification!G324=\"\",\"\",CMS_Identification!G324)","v":""},{"$f":"IF(CMS_Identification!D324=\"\",\"\",CMS_Identification!D324)","v":""}]
[null,null,null,null,null,null,null,null,{"$f":"IF(LDAR_TT_summary!C225=\"\",\"\",LDAR_TT_summary!C225)","v":""},{"$f":"IF(COUNTIF(I$2:I303,I303)=1,I303,\"\")","v":""},{"$f":"+IF(J303=\"\",\"\",MAX(K$1:K302)+1)","v":""},"",null,{"$f":"IF(LDAR_H_UU_summary!C125=\"\",\"\",LDAR_H_UU_summary!C125)","v":""},{"$f":"IF(COUNTIF(N$2:N303,N303)=1,N303,\"\")","v":""},{"$f":"+IF(O303=\"\",\"\",MAX(P$1:P302)+1)","v":""},"",null,{"$f":"IF(CMS_Identification!G325=\"\",\"\",CMS_Identification!G325)","v":""},{"$f":"IF(CMS_Identification!B325=\"\",\"\",CMS_Identification!B325)","v":""},{"$f":"IF(COUNTIF(S$2:S303,S303)=1,S303,\"\")","v":""},{"$f":"+IF(U303=\"\",\"\",MAX(V$1:V302)+1)","v":""},"",null,{"$f":"IF(CMS_Identification!G325=\"\",\"\",CMS_Identification!G325)","v":""},{"$f":"IF(CMS_Identification!D325=\"\",\"\",CMS_Identification!D325)","v":""},null,null,null,{"$f":"IF(CMS_Identification!B325=\"\",\"\",CMS_Identification!B325)","v":""},{"$f":"IF(CMS_Identification!G325=\"\",\"\",CMS_Identification!G325)","v":""},{"$f":"IF(CMS_Identification!D325=\"\",\"\",CMS_Identification!D325)","v":""}]
[null,null,null,null,null,null,null,null,{"$f":"IF(LDAR_TT_summary!C226=\"\",\"\",LDAR_TT_summary!C226)","v":""},{"$f":"IF(COUNTIF(I$2:I304,I304)=1,I304,\"\")","v":""},{"$f":"+IF(J304=\"\",\"\",MAX(K$1:K303)+1)","v":""},"",null,{"$f":"IF(LDAR_H_UU_summary!C126=\"\",\"\",LDAR_H_UU_summary!C126)","v":""},{"$f":"IF(COUNTIF(N$2:N304,N304)=1,N304,\"\")","v":""},{"$f":"+IF(O304=\"\",\"\",MAX(P$1:P303)+1)","v":""},"",null,{"$f":"IF(CMS_Identification!G326=\"\",\"\",CMS_Identification!G326)","v":""},{"$f":"IF(CMS_Identification!B326=\"\",\"\",CMS_Identification!B326)","v":""},{"$f":"IF(COUNTIF(S$2:S304,S304)=1,S304,\"\")","v":""},{"$f":"+IF(U304=\"\",\"\",MAX(V$1:V303)+1)","v":""},"",null,{"$f":"IF(CMS_Identification!G326=\"\",\"\",CMS_Identification!G326)","v":""},{"$f":"IF(CMS_Identification!D326=\"\",\"\",CMS_Identification!D326)","v":""},null,null,null,{"$f":"IF(CMS_Identification!B326=\"\",\"\",CMS_Identification!B326)","v":""},{"$f":"IF(CMS_Identification!G326=\"\",\"\",CMS_Identification!G326)","v":""},{"$f":"IF(CMS_Identification!D326=\"\",\"\",CMS_Identification!D326)","v":""}]
[null,null,null,null,null,null,null,null,{"$f":"IF(LDAR_TT_summary!C227=\"\",\"\",LDAR_TT_summary!C227)","v":""},{"$f":"IF(COUNTIF(I$2:I305,I305)=1,I305,\"\")","v":""},{"$f":"+IF(J305=\"\",\"\",MAX(K$1:K304)+1)","v":""},"",null,{"$f":"IF(LDAR_H_UU_summary!C127=\"\",\"\",LDAR_H_UU_summary!C127)","v":""},{"$f":"IF(COUNTIF(N$2:N305,N305)=1,N305,\"\")","v":""},{"$f":"+IF(O305=\"\",\"\",MAX(P$1:P304)+1)","v":""},"",null,{"$f":"IF(CMS_Identification!G327=\"\",\"\",CMS_Identification!G327)","v":""},{"$f":"IF(CMS_Identification!B327=\"\",\"\",CMS_Identification!B327)","v":""},{"$f":"IF(COUNTIF(S$2:S305,S305)=1,S305,\"\")","v":""},{"$f":"+IF(U305=\"\",\"\",MAX(V$1:V304)+1)","v":""},"",null,{"$f":"IF(CMS_Identification!G327=\"\",\"\",CMS_Identification!G327)","v":""},{"$f":"IF(CMS_Identification!D327=\"\",\"\",CMS_Identification!D327)","v":""},null,null,null,{"$f":"IF(CMS_Identification!B327=\"\",\"\",CMS_Identification!B327)","v":""},{"$f":"IF(CMS_Identification!G327=\"\",\"\",CMS_Identification!G327)","v":""},{"$f":"IF(CMS_Identification!D327=\"\",\"\",CMS_Identification!D327)","v":""}]
[null,null,null,null,null,null,null,null,{"$f":"IF(LDAR_TT_summary!C228=\"\",\"\",LDAR_TT_summary!C228)","v":""},{"$f":"IF(COUNTIF(I$2:I306,I306)=1,I306,\"\")","v":""},{"$f":"+IF(J306=\"\",\"\",MAX(K$1:K305)+1)","v":""},"",null,{"$f":"IF(LDAR_H_UU_summary!C128=\"\",\"\",LDAR_H_UU_summary!C128)","v":""},{"$f":"IF(COUNTIF(N$2:N306,N306)=1,N306,\"\")","v":""},{"$f":"+IF(O306=\"\",\"\",MAX(P$1:P305)+1)","v":""},"",null,{"$f":"IF(CMS_Identification!G328=\"\",\"\",CMS_Identification!G328)","v":""},{"$f":"IF(CMS_Identification!B328=\"\",\"\",CMS_Identification!B328)","v":""},{"$f":"IF(COUNTIF(S$2:S306,S306)=1,S306,\"\")","v":""},{"$f":"+IF(U306=\"\",\"\",MAX(V$1:V305)+1)","v":""},"",null,{"$f":"IF(CMS_Identification!G328=\"\",\"\",CMS_Identification!G328)","v":""},{"$f":"IF(CMS_Identification!D328=\"\",\"\",CMS_Identification!D328)","v":""},null,null,null,{"$f":"IF(CMS_Identification!B328=\"\",\"\",CMS_Identification!B328)","v":""},{"$f":"IF(CMS_Identification!G328=\"\",\"\",CMS_Identification!G328)","v":""},{"$f":"IF(CMS_Identification!D328=\"\",\"\",CMS_Identification!D328)","v":""}]
[null,null,null,null,null,null,null,null,{"$f":"IF(LDAR_TT_summary!C229=\"\",\"\",LDAR_TT_summary!C229)","v":""},{"$f":"IF(COUNTIF(I$2:I307,I307)=1,I307,\"\")","v":""},{"$f":"+IF(J307=\"\",\"\",MAX(K$1:K306)+1)","v":""},"",null,{"$f":"IF(LDAR_H_UU_summary!C129=\"\",\"\",LDAR_H_UU_summary!C129)","v":""},{"$f":"IF(COUNTIF(N$2:N307,N307)=1,N307,\"\")","v":""},{"$f":"+IF(O307=\"\",\"\",MAX(P$1:P306)+1)","v":""},"",null,{"$f":"IF(CMS_Identification!G329=\"\",\"\",CMS_Identification!G329)","v":""},{"$f":"IF(CMS_Identification!B329=\"\",\"\",CMS_Identification!B329)","v":""},{"$f":"IF(COUNTIF(S$2:S307,S307)=1,S307,\"\")","v":""},{"$f":"+IF(U307=\"\",\"\",MAX(V$1:V306)+1)","v":""},"",null,{"$f":"IF(CMS_Identification!G329=\"\",\"\",CMS_Identification!G329)","v":""},{"$f":"IF(CMS_Identification!D329=\"\",\"\",CMS_Identification!D329)","v":""},null,null,null,{"$f":"IF(CMS_Identification!B329=\"\",\"\",CMS_Identification!B329)","v":""},{"$f":"IF(CMS_Identification!G329=\"\",\"\",CMS_Identification!G329)","v":""},{"$f":"IF(CMS_Identification!D329=\"\",\"\",CMS_Identification!D329)","v":""}]
[null,null,null,null,null,null,null,null,{"$f":"IF(LDAR_TT_summary!C230=\"\",\"\",LDAR_TT_summary!C230)","v":""},{"$f":"IF(COUNTIF(I$2:I308,I308)=1,I308,\"\")","v":""},{"$f":"+IF(J308=\"\",\"\",MAX(K$1:K307)+1)","v":""},"",null,{"$f":"IF(LDAR_H_UU_summary!C130=\"\",\"\",LDAR_H_UU_summary!C130)","v":""},{"$f":"IF(COUNTIF(N$2:N308,N308)=1,N308,\"\")","v":""},{"$f":"+IF(O308=\"\",\"\",MAX(P$1:P307)+1)","v":""},"",null,{"$f":"IF(CMS_Identification!G330=\"\",\"\",CMS_Identification!G330)","v":""},{"$f":"IF(CMS_Identification!B330=\"\",\"\",CMS_Identification!B330)","v":""},{"$f":"IF(COUNTIF(S$2:S308,S308)=1,S308,\"\")","v":""},{"$f":"+IF(U308=\"\",\"\",MAX(V$1:V307)+1)","v":""},"",null,{"$f":"IF(CMS_Identification!G330=\"\",\"\",CMS_Identification!G330)","v":""},{"$f":"IF(CMS_Identification!D330=\"\",\"\",CMS_Identification!D330)","v":""},null,null,null,{"$f":"IF(CMS_Identification!B330=\"\",\"\",CMS_Identification!B330)","v":""},{"$f":"IF(CMS_Identification!G330=\"\",\"\",CMS_Identification!G330)","v":""},{"$f":"IF(CMS_Identification!D330=\"\",\"\",CMS_Identification!D330)","v":""}]
[null,null,null,null,null,null,null,null,{"$f":"IF(LDAR_TT_summary!C231=\"\",\"\",LDAR_TT_summary!C231)","v":""},{"$f":"IF(COUNTIF(I$2:I309,I309)=1,I309,\"\")","v":""},{"$f":"+IF(J309=\"\",\"\",MAX(K$1:K308)+1)","v":""},"",null,{"$f":"IF(LDAR_H_UU_summary!C131=\"\",\"\",LDAR_H_UU_summary!C131)","v":""},{"$f":"IF(COUNTIF(N$2:N309,N309)=1,N309,\"\")","v":""},{"$f":"+IF(O309=\"\",\"\",MAX(P$1:P308)+1)","v":""},"",null,{"$f":"IF(CMS_Identification!G331=\"\",\"\",CMS_Identification!G331)","v":""},{"$f":"IF(CMS_Identification!B331=\"\",\"\",CMS_Identification!B331)","v":""},{"$f":"IF(COUNTIF(S$2:S309,S309)=1,S309,\"\")","v":""},{"$f":"+IF(U309=\"\",\"\",MAX(V$1:V308)+1)","v":""},"",null,{"$f":"IF(CMS_Identification!G331=\"\",\"\",CMS_Identification!G331)","v":""},{"$f":"IF(CMS_Identification!D331=\"\",\"\",CMS_Identification!D331)","v":""},null,null,null,{"$f":"IF(CMS_Identification!B331=\"\",\"\",CMS_Identification!B331)","v":""},{"$f":"IF(CMS_Identification!G331=\"\",\"\",CMS_Identification!G331)","v":""},{"$f":"IF(CMS_Identification!D331=\"\",\"\",CMS_Identification!D331)","v":""}]
[null,null,null,null,null,null,null,null,{"$f":"IF(LDAR_TT_summary!C232=\"\",\"\",LDAR_TT_summary!C232)","v":""},{"$f":"IF(COUNTIF(I$2:I310,I310)=1,I310,\"\")","v":""},{"$f":"+IF(J310=\"\",\"\",MAX(K$1:K309)+1)","v":""},"",null,{"$f":"IF(LDAR_H_UU_summary!C132=\"\",\"\",LDAR_H_UU_summary!C132)","v":""},{"$f":"IF(COUNTIF(N$2:N310,N310)=1,N310,\"\")","v":""},{"$f":"+IF(O310=\"\",\"\",MAX(P$1:P309)+1)","v":""},"",null,{"$f":"IF(CMS_Identification!G332=\"\",\"\",CMS_Identification!G332)","v":""},{"$f":"IF(CMS_Identification!B332=\"\",\"\",CMS_Identification!B332)","v":""},{"$f":"IF(COUNTIF(S$2:S310,S310)=1,S310,\"\")","v":""},{"$f":"+IF(U310=\"\",\"\",MAX(V$1:V309)+1)","v":""},"",null,{"$f":"IF(CMS_Identification!G332=\"\",\"\",CMS_Identification!G332)","v":""},{"$f":"IF(CMS_Identification!D332=\"\",\"\",CMS_Identification!D332)","v":""},null,null,null,{"$f":"IF(CMS_Identification!B332=\"\",\"\",CMS_Identification!B332)","v":""},{"$f":"IF(CMS_Identification!G332=\"\",\"\",CMS_Identification!G332)","v":""},{"$f":"IF(CMS_Identification!D332=\"\",\"\",CMS_Identification!D332)","v":""}]
[null,null,null,null,null,null,null,null,{"$f":"IF(LDAR_TT_summary!C233=\"\",\"\",LDAR_TT_summary!C233)","v":""},{"$f":"IF(COUNTIF(I$2:I311,I311)=1,I311,\"\")","v":""},{"$f":"+IF(J311=\"\",\"\",MAX(K$1:K310)+1)","v":""},"",null,{"$f":"IF(LDAR_H_UU_summary!C133=\"\",\"\",LDAR_H_UU_summary!C133)","v":""},{"$f":"IF(COUNTIF(N$2:N311,N311)=1,N311,\"\")","v":""},{"$f":"+IF(O311=\"\",\"\",MAX(P$1:P310)+1)","v":""},"",null,{"$f":"IF(CMS_Identification!G333=\"\",\"\",CMS_Identification!G333)","v":""},{"$f":"IF(CMS_Identification!B333=\"\",\"\",CMS_Identification!B333)","v":""},{"$f":"IF(COUNTIF(S$2:S311,S311)=1,S311,\"\")","v":""},{"$f":"+IF(U311=\"\",\"\",MAX(V$1:V310)+1)","v":""},"",null,{"$f":"IF(CMS_Identification!G333=\"\",\"\",CMS_Identification!G333)","v":""},{"$f":"IF(CMS_Identification!D333=\"\",\"\",CMS_Identification!D333)","v":""},null,null,null,{"$f":"IF(CMS_Identification!B333=\"\",\"\",CMS_Identification!B333)","v":""},{"$f":"IF(CMS_Identification!G333=\"\",\"\",CMS_Identification!G333)","v":""},{"$f":"IF(CMS_Identification!D333=\"\",\"\",CMS_Identification!D333)","v":""}]
[null,null,null,null,null,null,null,null,{"$f":"IF(LDAR_TT_summary!C234=\"\",\"\",LDAR_TT_summary!C234)","v":""},{"$f":"IF(COUNTIF(I$2:I312,I312)=1,I312,\"\")","v":""},{"$f":"+IF(J312=\"\",\"\",MAX(K$1:K311)+1)","v":""},"",null,{"$f":"IF(LDAR_H_UU_summary!C134=\"\",\"\",LDAR_H_UU_summary!C134)","v":""},{"$f":"IF(COUNTIF(N$2:N312,N312)=1,N312,\"\")","v":""},{"$f":"+IF(O312=\"\",\"\",MAX(P$1:P311)+1)","v":""},"",null,{"$f":"IF(CMS_Identification!G334=\"\",\"\",CMS_Identification!G334)","v":""},{"$f":"IF(CMS_Identification!B334=\"\",\"\",CMS_Identification!B334)","v":""},{"$f":"IF(COUNTIF(S$2:S312,S312)=1,S312,\"\")","v":""},{"$f":"+IF(U312=\"\",\"\",MAX(V$1:V311)+1)","v":""},"",null,{"$f":"IF(CMS_Identification!G334=\"\",\"\",CMS_Identification!G334)","v":""},{"$f":"IF(CMS_Identification!D334=\"\",\"\",CMS_Identification!D334)","v":""},null,null,null,{"$f":"IF(CMS_Identification!B334=\"\",\"\",CMS_Identification!B334)","v":""},{"$f":"IF(CMS_Identification!G334=\"\",\"\",CMS_Identification!G334)","v":""},{"$f":"IF(CMS_Identification!D334=\"\",\"\",CMS_Identification!D334)","v":""}]
[null,null,null,null,null,null,null,null,{"$f":"IF(LDAR_TT_summary!C235=\"\",\"\",LDAR_TT_summary!C235)","v":""},{"$f":"IF(COUNTIF(I$2:I313,I313)=1,I313,\"\")","v":""},{"$f":"+IF(J313=\"\",\"\",MAX(K$1:K312)+1)","v":""},"",null,{"$f":"IF(LDAR_H_UU_summary!C135=\"\",\"\",LDAR_H_UU_summary!C135)","v":""},{"$f":"IF(COUNTIF(N$2:N313,N313)=1,N313,\"\")","v":""},{"$f":"+IF(O313=\"\",\"\",MAX(P$1:P312)+1)","v":""},"",null,{"$f":"IF(CMS_Identification!G335=\"\",\"\",CMS_Identification!G335)","v":""},{"$f":"IF(CMS_Identification!B335=\"\",\"\",CMS_Identification!B335)","v":""},{"$f":"IF(COUNTIF(S$2:S313,S313)=1,S313,\"\")","v":""},{"$f":"+IF(U313=\"\",\"\",MAX(V$1:V312)+1)","v":""},"",null,{"$f":"IF(CMS_Identification!G335=\"\",\"\",CMS_Identification!G335)","v":""},{"$f":"IF(CMS_Identification!D335=\"\",\"\",CMS_Identification!D335)","v":""},null,null,null,{"$f":"IF(CMS_Identification!B335=\"\",\"\",CMS_Identification!B335)","v":""},{"$f":"IF(CMS_Identification!G335=\"\",\"\",CMS_Identification!G335)","v":""},{"$f":"IF(CMS_Identification!D335=\"\",\"\",CMS_Identification!D335)","v":""}]
[null,null,null,null,null,null,null,null,{"$f":"IF(LDAR_TT_summary!C236=\"\",\"\",LDAR_TT_summary!C236)","v":""},{"$f":"IF(COUNTIF(I$2:I314,I314)=1,I314,\"\")","v":""},{"$f":"+IF(J314=\"\",\"\",MAX(K$1:K313)+1)","v":""},"",null,{"$f":"IF(LDAR_H_UU_summary!C136=\"\",\"\",LDAR_H_UU_summary!C136)","v":""},{"$f":"IF(COUNTIF(N$2:N314,N314)=1,N314,\"\")","v":""},{"$f":"+IF(O314=\"\",\"\",MAX(P$1:P313)+1)","v":""},"",null,{"$f":"IF(CMS_Identification!G336=\"\",\"\",CMS_Identification!G336)","v":""},{"$f":"IF(CMS_Identification!B336=\"\",\"\",CMS_Identification!B336)","v":""},{"$f":"IF(COUNTIF(S$2:S314,S314)=1,S314,\"\")","v":""},{"$f":"+IF(U314=\"\",\"\",MAX(V$1:V313)+1)","v":""},"",null,{"$f":"IF(CMS_Identification!G336=\"\",\"\",CMS_Identification!G336)","v":""},{"$f":"IF(CMS_Identification!D336=\"\",\"\",CMS_Identification!D336)","v":""},null,null,null,{"$f":"IF(CMS_Identification!B336=\"\",\"\",CMS_Identification!B336)","v":""},{"$f":"IF(CMS_Identification!G336=\"\",\"\",CMS_Identification!G336)","v":""},{"$f":"IF(CMS_Identification!D336=\"\",\"\",CMS_Identification!D336)","v":""}]
[null,null,null,null,null,null,null,null,{"$f":"IF(LDAR_TT_summary!C237=\"\",\"\",LDAR_TT_summary!C237)","v":""},{"$f":"IF(COUNTIF(I$2:I315,I315)=1,I315,\"\")","v":""},{"$f":"+IF(J315=\"\",\"\",MAX(K$1:K314)+1)","v":""},"",null,{"$f":"IF(LDAR_H_UU_summary!C137=\"\",\"\",LDAR_H_UU_summary!C137)","v":""},{"$f":"IF(COUNTIF(N$2:N315,N315)=1,N315,\"\")","v":""},{"$f":"+IF(O315=\"\",\"\",MAX(P$1:P314)+1)","v":""},"",null,{"$f":"IF(CMS_Identification!G337=\"\",\"\",CMS_Identification!G337)","v":""},{"$f":"IF(CMS_Identification!B337=\"\",\"\",CMS_Identification!B337)","v":""},{"$f":"IF(COUNTIF(S$2:S315,S315)=1,S315,\"\")","v":""},{"$f":"+IF(U315=\"\",\"\",MAX(V$1:V314)+1)","v":""},"",null,{"$f":"IF(CMS_Identification!G337=\"\",\"\",CMS_Identification!G337)","v":""},{"$f":"IF(CMS_Identification!D337=\"\",\"\",CMS_Identification!D337)","v":""},null,null,null,{"$f":"IF(CMS_Identification!B337=\"\",\"\",CMS_Identification!B337)","v":""},{"$f":"IF(CMS_Identification!G337=\"\",\"\",CMS_Identification!G337)","v":""},{"$f":"IF(CMS_Identification!D337=\"\",\"\",CMS_Identification!D337)","v":""}]
[null,null,null,null,null,null,null,null,{"$f":"IF(LDAR_TT_summary!C238=\"\",\"\",LDAR_TT_summary!C238)","v":""},{"$f":"IF(COUNTIF(I$2:I316,I316)=1,I316,\"\")","v":""},{"$f":"+IF(J316=\"\",\"\",MAX(K$1:K315)+1)","v":""},"",null,{"$f":"IF(LDAR_H_UU_summary!C138=\"\",\"\",LDAR_H_UU_summary!C138)","v":""},{"$f":"IF(COUNTIF(N$2:N316,N316)=1,N316,\"\")","v":""},{"$f":"+IF(O316=\"\",\"\",MAX(P$1:P315)+1)","v":""},"",null,{"$f":"IF(CMS_Identification!G338=\"\",\"\",CMS_Identification!G338)","v":""},{"$f":"IF(CMS_Identification!B338=\"\",\"\",CMS_Identification!B338)","v":""},{"$f":"IF(COUNTIF(S$2:S316,S316)=1,S316,\"\")","v":""},{"$f":"+IF(U316=\"\",\"\",MAX(V$1:V315)+1)","v":""},"",null,{"$f":"IF(CMS_Identification!G338=\"\",\"\",CMS_Identification!G338)","v":""},{"$f":"IF(CMS_Identification!D338=\"\",\"\",CMS_Identification!D338)","v":""},null,null,null,{"$f":"IF(CMS_Identification!B338=\"\",\"\",CMS_Identification!B338)","v":""},{"$f":"IF(CMS_Identification!G338=\"\",\"\",CMS_Identification!G338)","v":""},{"$f":"IF(CMS_Identification!D338=\"\",\"\",CMS_Identification!D338)","v":""}]
[null,null,null,null,null,null,null,null,{"$f":"IF(LDAR_TT_summary!C239=\"\",\"\",LDAR_TT_summary!C239)","v":""},{"$f":"IF(COUNTIF(I$2:I317,I317)=1,I317,\"\")","v":""},{"$f":"+IF(J317=\"\",\"\",MAX(K$1:K316)+1)","v":""},"",null,{"$f":"IF(LDAR_H_UU_summary!C139=\"\",\"\",LDAR_H_UU_summary!C139)","v":""},{"$f":"IF(COUNTIF(N$2:N317,N317)=1,N317,\"\")","v":""},{"$f":"+IF(O317=\"\",\"\",MAX(P$1:P316)+1)","v":""},"",null,{"$f":"IF(CMS_Identification!G339=\"\",\"\",CMS_Identification!G339)","v":""},{"$f":"IF(CMS_Identification!B339=\"\",\"\",CMS_Identification!B339)","v":""},{"$f":"IF(COUNTIF(S$2:S317,S317)=1,S317,\"\")","v":""},{"$f":"+IF(U317=\"\",\"\",MAX(V$1:V316)+1)","v":""},"",null,{"$f":"IF(CMS_Identification!G339=\"\",\"\",CMS_Identification!G339)","v":""},{"$f":"IF(CMS_Identification!D339=\"\",\"\",CMS_Identification!D339)","v":""},null,null,null,{"$f":"IF(CMS_Identification!B339=\"\",\"\",CMS_Identification!B339)","v":""},{"$f":"IF(CMS_Identification!G339=\"\",\"\",CMS_Identification!G339)","v":""},{"$f":"IF(CMS_Identification!D339=\"\",\"\",CMS_Identification!D339)","v":""}]
[null,null,null,null,null,null,null,null,{"$f":"IF(LDAR_TT_summary!C240=\"\",\"\",LDAR_TT_summary!C240)","v":""},{"$f":"IF(COUNTIF(I$2:I318,I318)=1,I318,\"\")","v":""},{"$f":"+IF(J318=\"\",\"\",MAX(K$1:K317)+1)","v":""},"",null,{"$f":"IF(LDAR_H_UU_summary!C140=\"\",\"\",LDAR_H_UU_summary!C140)","v":""},{"$f":"IF(COUNTIF(N$2:N318,N318)=1,N318,\"\")","v":""},{"$f":"+IF(O318=\"\",\"\",MAX(P$1:P317)+1)","v":""},"",null,{"$f":"IF(CMS_Identification!G340=\"\",\"\",CMS_Identification!G340)","v":""},{"$f":"IF(CMS_Identification!B340=\"\",\"\",CMS_Identification!B340)","v":""},{"$f":"IF(COUNTIF(S$2:S318,S318)=1,S318,\"\")","v":""},{"$f":"+IF(U318=\"\",\"\",MAX(V$1:V317)+1)","v":""},"",null,{"$f":"IF(CMS_Identification!G340=\"\",\"\",CMS_Identification!G340)","v":""},{"$f":"IF(CMS_Identification!D340=\"\",\"\",CMS_Identification!D340)","v":""},null,null,null,{"$f":"IF(CMS_Identification!B340=\"\",\"\",CMS_Identification!B340)","v":""},{"$f":"IF(CMS_Identification!G340=\"\",\"\",CMS_Identification!G340)","v":""},{"$f":"IF(CMS_Identification!D340=\"\",\"\",CMS_Identification!D340)","v":""}]
[null,null,null,null,null,null,null,null,{"$f":"IF(LDAR_TT_summary!C241=\"\",\"\",LDAR_TT_summary!C241)","v":""},{"$f":"IF(COUNTIF(I$2:I319,I319)=1,I319,\"\")","v":""},{"$f":"+IF(J319=\"\",\"\",MAX(K$1:K318)+1)","v":""},"",null,{"$f":"IF(LDAR_H_UU_summary!C141=\"\",\"\",LDAR_H_UU_summary!C141)","v":""},{"$f":"IF(COUNTIF(N$2:N319,N319)=1,N319,\"\")","v":""},{"$f":"+IF(O319=\"\",\"\",MAX(P$1:P318)+1)","v":""},"",null,{"$f":"IF(CMS_Identification!G341=\"\",\"\",CMS_Identification!G341)","v":""},{"$f":"IF(CMS_Identification!B341=\"\",\"\",CMS_Identification!B341)","v":""},{"$f":"IF(COUNTIF(S$2:S319,S319)=1,S319,\"\")","v":""},{"$f":"+IF(U319=\"\",\"\",MAX(V$1:V318)+1)","v":""},"",null,{"$f":"IF(CMS_Identification!G341=\"\",\"\",CMS_Identification!G341)","v":""},{"$f":"IF(CMS_Identification!D341=\"\",\"\",CMS_Identification!D341)","v":""},null,null,null,{"$f":"IF(CMS_Identification!B341=\"\",\"\",CMS_Identification!B341)","v":""},{"$f":"IF(CMS_Identification!G341=\"\",\"\",CMS_Identification!G341)","v":""},{"$f":"IF(CMS_Identification!D341=\"\",\"\",CMS_Identification!D341)","v":""}]
[null,null,null,null,null,null,null,null,{"$f":"IF(LDAR_TT_summary!C242=\"\",\"\",LDAR_TT_summary!C242)","v":""},{"$f":"IF(COUNTIF(I$2:I320,I320)=1,I320,\"\")","v":""},{"$f":"+IF(J320=\"\",\"\",MAX(K$1:K319)+1)","v":""},"",null,{"$f":"IF(LDAR_H_UU_summary!C142=\"\",\"\",LDAR_H_UU_summary!C142)","v":""},{"$f":"IF(COUNTIF(N$2:N320,N320)=1,N320,\"\")","v":""},{"$f":"+IF(O320=\"\",\"\",MAX(P$1:P319)+1)","v":""},"",null,{"$f":"IF(CMS_Identification!G342=\"\",\"\",CMS_Identification!G342)","v":""},{"$f":"IF(CMS_Identification!B342=\"\",\"\",CMS_Identification!B342)","v":""},{"$f":"IF(COUNTIF(S$2:S320,S320)=1,S320,\"\")","v":""},{"$f":"+IF(U320=\"\",\"\",MAX(V$1:V319)+1)","v":""},"",null,{"$f":"IF(CMS_Identification!G342=\"\",\"\",CMS_Identification!G342)","v":""},{"$f":"IF(CMS_Identification!D342=\"\",\"\",CMS_Identification!D342)","v":""},null,null,null,{"$f":"IF(CMS_Identification!B342=\"\",\"\",CMS_Identification!B342)","v":""},{"$f":"IF(CMS_Identification!G342=\"\",\"\",CMS_Identification!G342)","v":""},{"$f":"IF(CMS_Identification!D342=\"\",\"\",CMS_Identification!D342)","v":""}]
[null,null,null,null,null,null,null,null,{"$f":"IF(LDAR_TT_summary!C243=\"\",\"\",LDAR_TT_summary!C243)","v":""},{"$f":"IF(COUNTIF(I$2:I321,I321)=1,I321,\"\")","v":""},{"$f":"+IF(J321=\"\",\"\",MAX(K$1:K320)+1)","v":""},"",null,{"$f":"IF(LDAR_H_UU_summary!C143=\"\",\"\",LDAR_H_UU_summary!C143)","v":""},{"$f":"IF(COUNTIF(N$2:N321,N321)=1,N321,\"\")","v":""},{"$f":"+IF(O321=\"\",\"\",MAX(P$1:P320)+1)","v":""},"",null,{"$f":"IF(CMS_Identification!G343=\"\",\"\",CMS_Identification!G343)","v":""},{"$f":"IF(CMS_Identification!B343=\"\",\"\",CMS_Identification!B343)","v":""},{"$f":"IF(COUNTIF(S$2:S321,S321)=1,S321,\"\")","v":""},{"$f":"+IF(U321=\"\",\"\",MAX(V$1:V320)+1)","v":""},"",null,{"$f":"IF(CMS_Identification!G343=\"\",\"\",CMS_Identification!G343)","v":""},{"$f":"IF(CMS_Identification!D343=\"\",\"\",CMS_Identification!D343)","v":""},null,null,null,{"$f":"IF(CMS_Identification!B343=\"\",\"\",CMS_Identification!B343)","v":""},{"$f":"IF(CMS_Identification!G343=\"\",\"\",CMS_Identification!G343)","v":""},{"$f":"IF(CMS_Identification!D343=\"\",\"\",CMS_Identification!D343)","v":""}]
[null,null,null,null,null,null,null,null,{"$f":"IF(LDAR_TT_summary!C244=\"\",\"\",LDAR_TT_summary!C244)","v":""},{"$f":"IF(COUNTIF(I$2:I322,I322)=1,I322,\"\")","v":""},{"$f":"+IF(J322=\"\",\"\",MAX(K$1:K321)+1)","v":""},"",null,{"$f":"IF(LDAR_H_UU_summary!C144=\"\",\"\",LDAR_H_UU_summary!C144)","v":""},{"$f":"IF(COUNTIF(N$2:N322,N322)=1,N322,\"\")","v":""},{"$f":"+IF(O322=\"\",\"\",MAX(P$1:P321)+1)","v":""},"",null,{"$f":"IF(CMS_Identification!G344=\"\",\"\",CMS_Identification!G344)","v":""},{"$f":"IF(CMS_Identification!B344=\"\",\"\",CMS_Identification!B344)","v":""},{"$f":"IF(COUNTIF(S$2:S322,S322)=1,S322,\"\")","v":""},{"$f":"+IF(U322=\"\",\"\",MAX(V$1:V321)+1)","v":""},{"$f":"+IFERROR(INDEX($S$2:$S$501,MATCH(ROW()-ROW($V$1),$V$2:$V$501,0)),\"\")","v":""},null,{"$f":"IF(CMS_Identification!G344=\"\",\"\",CMS_Identification!G344)","v":""},{"$f":"IF(CMS_Identification!D344=\"\",\"\",CMS_Identification!D344)","v":""},null,null,null,{"$f":"IF(CMS_Identification!B344=\"\",\"\",CMS_Identification!B344)","v":""},{"$f":"IF(CMS_Identification!G344=\"\",\"\",CMS_Identification!G344)","v":""},{"$f":"IF(CMS_Identification!D344=\"\",\"\",CMS_Identification!D344)","v":""}]
[null,null,null,null,null,null,null,null,{"$f":"IF(LDAR_TT_summary!C245=\"\",\"\",LDAR_TT_summary!C245)","v":""},{"$f":"IF(COUNTIF(I$2:I323,I323)=1,I323,\"\")","v":""},{"$f":"+IF(J323=\"\",\"\",MAX(K$1:K322)+1)","v":""},{"$f":"+IFERROR(INDEX($I$2:$I$801,MATCH(ROW()-ROW($K$1),$K$2:$K$801,0)),\"\")","v":""},null,{"$f":"IF(LDAR_H_UU_summary!C145=\"\",\"\",LDAR_H_UU_summary!C145)","v":""},{"$f":"IF(COUNTIF(N$2:N323,N323)=1,N323,\"\")","v":""},{"$f":"+IF(O323=\"\",\"\",MAX(P$1:P322)+1)","v":""},{"$f":"+IFERROR(INDEX($N$2:$N$2001,MATCH(ROW()-ROW($P$1),$P$2:$P$2001,0)),\"\")","v":""},null,{"$f":"IF(CMS_Identification!G345=\"\",\"\",CMS_Identification!G345)","v":""},{"$f":"IF(CMS_Identification!B345=\"\",\"\",CMS_Identification!B345)","v":""},{"$f":"IF(COUNTIF(S$2:S323,S323)=1,S323,\"\")","v":""},{"$f":"+IF(U323=\"\",\"\",MAX(V$1:V322)+1)","v":""},"",null,{"$f":"IF(CMS_Identification!G345=\"\",\"\",CMS_Identification!G345)","v":""},{"$f":"IF(CMS_Identification!D345=\"\",\"\",CMS_Identification!D345)","v":""},null,null,null,{"$f":"IF(CMS_Identification!B345=\"\",\"\",CMS_Identification!B345)","v":""},{"$f":"IF(CMS_Identification!G345=\"\",\"\",CMS_Identification!G345)","v":""},{"$f":"IF(CMS_Identification!D345=\"\",\"\",CMS_Identification!D345)","v":""}]
[null,null,null,null,null,null,null,null,{"$f":"IF(LDAR_TT_summary!C246=\"\",\"\",LDAR_TT_summary!C246)","v":""},{"$f":"IF(COUNTIF(I$2:I324,I324)=1,I324,\"\")","v":""},{"$f":"+IF(J324=\"\",\"\",MAX(K$1:K323)+1)","v":""},"",null,{"$f":"IF(LDAR_H_UU_summary!C146=\"\",\"\",LDAR_H_UU_summary!C146)","v":""},{"$f":"IF(COUNTIF(N$2:N324,N324)=1,N324,\"\")","v":""},{"$f":"+IF(O324=\"\",\"\",MAX(P$1:P323)+1)","v":""},"",null,{"$f":"IF(CMS_Identification!G346=\"\",\"\",CMS_Identification!G346)","v":""},{"$f":"IF(CMS_Identification!B346=\"\",\"\",CMS_Identification!B346)","v":""},{"$f":"IF(COUNTIF(S$2:S324,S324)=1,S324,\"\")","v":""},{"$f":"+IF(U324=\"\",\"\",MAX(V$1:V323)+1)","v":""},"",null,{"$f":"IF(CMS_Identification!G346=\"\",\"\",CMS_Identification!G346)","v":""},{"$f":"IF(CMS_Identification!D346=\"\",\"\",CMS_Identification!D346)","v":""},null,null,null,{"$f":"IF(CMS_Identification!B346=\"\",\"\",CMS_Identification!B346)","v":""},{"$f":"IF(CMS_Identification!G346=\"\",\"\",CMS_Identification!G346)","v":""},{"$f":"IF(CMS_Identification!D346=\"\",\"\",CMS_Identification!D346)","v":""}]
[null,null,null,null,null,null,null,null,{"$f":"IF(LDAR_TT_summary!C247=\"\",\"\",LDAR_TT_summary!C247)","v":""},{"$f":"IF(COUNTIF(I$2:I325,I325)=1,I325,\"\")","v":""},{"$f":"+IF(J325=\"\",\"\",MAX(K$1:K324)+1)","v":""},"",null,{"$f":"IF(LDAR_H_UU_summary!C147=\"\",\"\",LDAR_H_UU_summary!C147)","v":""},{"$f":"IF(COUNTIF(N$2:N325,N325)=1,N325,\"\")","v":""},{"$f":"+IF(O325=\"\",\"\",MAX(P$1:P324)+1)","v":""},"",null,{"$f":"IF(CMS_Identification!G347=\"\",\"\",CMS_Identification!G347)","v":""},{"$f":"IF(CMS_Identification!B347=\"\",\"\",CMS_Identification!B347)","v":""},{"$f":"IF(COUNTIF(S$2:S325,S325)=1,S325,\"\")","v":""},{"$f":"+IF(U325=\"\",\"\",MAX(V$1:V324)+1)","v":""},"",null,{"$f":"IF(CMS_Identification!G347=\"\",\"\",CMS_Identification!G347)","v":""},{"$f":"IF(CMS_Identification!D347=\"\",\"\",CMS_Identification!D347)","v":""},null,null,null,{"$f":"IF(CMS_Identification!B347=\"\",\"\",CMS_Identification!B347)","v":""},{"$f":"IF(CMS_Identification!G347=\"\",\"\",CMS_Identification!G347)","v":""},{"$f":"IF(CMS_Identification!D347=\"\",\"\",CMS_Identification!D347)","v":""}]
[null,null,null,null,null,null,null,null,{"$f":"IF(LDAR_TT_summary!C248=\"\",\"\",LDAR_TT_summary!C248)","v":""},{"$f":"IF(COUNTIF(I$2:I326,I326)=1,I326,\"\")","v":""},{"$f":"+IF(J326=\"\",\"\",MAX(K$1:K325)+1)","v":""},"",null,{"$f":"IF(LDAR_H_UU_summary!C148=\"\",\"\",LDAR_H_UU_summary!C148)","v":""},{"$f":"IF(COUNTIF(N$2:N326,N326)=1,N326,\"\")","v":""},{"$f":"+IF(O326=\"\",\"\",MAX(P$1:P325)+1)","v":""},"",null,{"$f":"IF(CMS_Identification!G348=\"\",\"\",CMS_Identification!G348)","v":""},{"$f":"IF(CMS_Identification!B348=\"\",\"\",CMS_Identification!B348)","v":""},{"$f":"IF(COUNTIF(S$2:S326,S326)=1,S326,\"\")","v":""},{"$f":"+IF(U326=\"\",\"\",MAX(V$1:V325)+1)","v":""},"",null,{"$f":"IF(CMS_Identification!G348=\"\",\"\",CMS_Identification!G348)","v":""},{"$f":"IF(CMS_Identification!D348=\"\",\"\",CMS_Identification!D348)","v":""},null,null,null,{"$f":"IF(CMS_Identification!B348=\"\",\"\",CMS_Identification!B348)","v":""},{"$f":"IF(CMS_Identification!G348=\"\",\"\",CMS_Identification!G348)","v":""},{"$f":"IF(CMS_Identification!D348=\"\",\"\",CMS_Identification!D348)","v":""}]
[null,null,null,null,null,null,null,null,{"$f":"IF(LDAR_TT_summary!C249=\"\",\"\",LDAR_TT_summary!C249)","v":""},{"$f":"IF(COUNTIF(I$2:I327,I327)=1,I327,\"\")","v":""},{"$f":"+IF(J327=\"\",\"\",MAX(K$1:K326)+1)","v":""},"",null,{"$f":"IF(LDAR_H_UU_summary!C149=\"\",\"\",LDAR_H_UU_summary!C149)","v":""},{"$f":"IF(COUNTIF(N$2:N327,N327)=1,N327,\"\")","v":""},{"$f":"+IF(O327=\"\",\"\",MAX(P$1:P326)+1)","v":""},"",null,{"$f":"IF(CMS_Identification!G349=\"\",\"\",CMS_Identification!G349)","v":""},{"$f":"IF(CMS_Identification!B349=\"\",\"\",CMS_Identification!B349)","v":""},{"$f":"IF(COUNTIF(S$2:S327,S327)=1,S327,\"\")","v":""},{"$f":"+IF(U327=\"\",\"\",MAX(V$1:V326)+1)","v":""},"",null,{"$f":"IF(CMS_Identification!G349=\"\",\"\",CMS_Identification!G349)","v":""},{"$f":"IF(CMS_Identification!D349=\"\",\"\",CMS_Identification!D349)","v":""},null,null,null,{"$f":"IF(CMS_Identification!B349=\"\",\"\",CMS_Identification!B349)","v":""},{"$f":"IF(CMS_Identification!G349=\"\",\"\",CMS_Identification!G349)","v":""},{"$f":"IF(CMS_Identification!D349=\"\",\"\",CMS_Identification!D349)","v":""}]
[null,null,null,null,null,null,null,null,{"$f":"IF(LDAR_TT_summary!C250=\"\",\"\",LDAR_TT_summary!C250)","v":""},{"$f":"IF(COUNTIF(I$2:I328,I328)=1,I328,\"\")","v":""},{"$f":"+IF(J328=\"\",\"\",MAX(K$1:K327)+1)","v":""},"",null,{"$f":"IF(LDAR_H_UU_summary!C150=\"\",\"\",LDAR_H_UU_summary!C150)","v":""},{"$f":"IF(COUNTIF(N$2:N328,N328)=1,N328,\"\")","v":""},{"$f":"+IF(O328=\"\",\"\",MAX(P$1:P327)+1)","v":""},"",null,{"$f":"IF(CMS_Identification!G350=\"\",\"\",CMS_Identification!G350)","v":""},{"$f":"IF(CMS_Identification!B350=\"\",\"\",CMS_Identification!B350)","v":""},{"$f":"IF(COUNTIF(S$2:S328,S328)=1,S328,\"\")","v":""},{"$f":"+IF(U328=\"\",\"\",MAX(V$1:V327)+1)","v":""},"",null,{"$f":"IF(CMS_Identification!G350=\"\",\"\",CMS_Identification!G350)","v":""},{"$f":"IF(CMS_Identification!D350=\"\",\"\",CMS_Identification!D350)","v":""},null,null,null,{"$f":"IF(CMS_Identification!B350=\"\",\"\",CMS_Identification!B350)","v":""},{"$f":"IF(CMS_Identification!G350=\"\",\"\",CMS_Identification!G350)","v":""},{"$f":"IF(CMS_Identification!D350=\"\",\"\",CMS_Identification!D350)","v":""}]
[null,null,null,null,null,null,null,null,{"$f":"IF(LDAR_TT_summary!C251=\"\",\"\",LDAR_TT_summary!C251)","v":""},{"$f":"IF(COUNTIF(I$2:I329,I329)=1,I329,\"\")","v":""},{"$f":"+IF(J329=\"\",\"\",MAX(K$1:K328)+1)","v":""},"",null,{"$f":"IF(LDAR_H_UU_summary!C151=\"\",\"\",LDAR_H_UU_summary!C151)","v":""},{"$f":"IF(COUNTIF(N$2:N329,N329)=1,N329,\"\")","v":""},{"$f":"+IF(O329=\"\",\"\",MAX(P$1:P328)+1)","v":""},"",null,{"$f":"IF(CMS_Identification!G351=\"\",\"\",CMS_Identification!G351)","v":""},{"$f":"IF(CMS_Identification!B351=\"\",\"\",CMS_Identification!B351)","v":""},{"$f":"IF(COUNTIF(S$2:S329,S329)=1,S329,\"\")","v":""},{"$f":"+IF(U329=\"\",\"\",MAX(V$1:V328)+1)","v":""},"",null,{"$f":"IF(CMS_Identification!G351=\"\",\"\",CMS_Identification!G351)","v":""},{"$f":"IF(CMS_Identification!D351=\"\",\"\",CMS_Identification!D351)","v":""},null,null,null,{"$f":"IF(CMS_Identification!B351=\"\",\"\",CMS_Identification!B351)","v":""},{"$f":"IF(CMS_Identification!G351=\"\",\"\",CMS_Identification!G351)","v":""},{"$f":"IF(CMS_Identification!D351=\"\",\"\",CMS_Identification!D351)","v":""}]
[null,null,null,null,null,null,null,null,{"$f":"IF(LDAR_TT_summary!C252=\"\",\"\",LDAR_TT_summary!C252)","v":""},{"$f":"IF(COUNTIF(I$2:I330,I330)=1,I330,\"\")","v":""},{"$f":"+IF(J330=\"\",\"\",MAX(K$1:K329)+1)","v":""},"",null,{"$f":"IF(LDAR_H_UU_summary!C152=\"\",\"\",LDAR_H_UU_summary!C152)","v":""},{"$f":"IF(COUNTIF(N$2:N330,N330)=1,N330,\"\")","v":""},{"$f":"+IF(O330=\"\",\"\",MAX(P$1:P329)+1)","v":""},"",null,{"$f":"IF(CMS_Identification!G352=\"\",\"\",CMS_Identification!G352)","v":""},{"$f":"IF(CMS_Identification!B352=\"\",\"\",CMS_Identification!B352)","v":""},{"$f":"IF(COUNTIF(S$2:S330,S330)=1,S330,\"\")","v":""},{"$f":"+IF(U330=\"\",\"\",MAX(V$1:V329)+1)","v":""},"",null,{"$f":"IF(CMS_Identification!G352=\"\",\"\",CMS_Identification!G352)","v":""},{"$f":"IF(CMS_Identification!D352=\"\",\"\",CMS_Identification!D352)","v":""},null,null,null,{"$f":"IF(CMS_Identification!B352=\"\",\"\",CMS_Identification!B352)","v":""},{"$f":"IF(CMS_Identification!G352=\"\",\"\",CMS_Identification!G352)","v":""},{"$f":"IF(CMS_Identification!D352=\"\",\"\",CMS_Identification!D352)","v":""}]
[null,null,null,null,null,null,null,null,{"$f":"IF(LDAR_TT_summary!C253=\"\",\"\",LDAR_TT_summary!C253)","v":""},{"$f":"IF(COUNTIF(I$2:I331,I331)=1,I331,\"\")","v":""},{"$f":"+IF(J331=\"\",\"\",MAX(K$1:K330)+1)","v":""},"",null,{"$f":"IF(LDAR_H_UU_summary!C153=\"\",\"\",LDAR_H_UU_summary!C153)","v":""},{"$f":"IF(COUNTIF(N$2:N331,N331)=1,N331,\"\")","v":""},{"$f":"+IF(O331=\"\",\"\",MAX(P$1:P330)+1)","v":""},"",null,{"$f":"IF(CMS_Identification!G353=\"\",\"\",CMS_Identification!G353)","v":""},{"$f":"IF(CMS_Identification!B353=\"\",\"\",CMS_Identification!B353)","v":""},{"$f":"IF(COUNTIF(S$2:S331,S331)=1,S331,\"\")","v":""},{"$f":"+IF(U331=\"\",\"\",MAX(V$1:V330)+1)","v":""},"",null,{"$f":"IF(CMS_Identification!G353=\"\",\"\",CMS_Identification!G353)","v":""},{"$f":"IF(CMS_Identification!D353=\"\",\"\",CMS_Identification!D353)","v":""},null,null,null,{"$f":"IF(CMS_Identification!B353=\"\",\"\",CMS_Identification!B353)","v":""},{"$f":"IF(CMS_Identification!G353=\"\",\"\",CMS_Identification!G353)","v":""},{"$f":"IF(CMS_Identification!D353=\"\",\"\",CMS_Identification!D353)","v":""}]
[null,null,null,null,null,null,null,null,{"$f":"IF(LDAR_TT_summary!C254=\"\",\"\",LDAR_TT_summary!C254)","v":""},{"$f":"IF(COUNTIF(I$2:I332,I332)=1,I332,\"\")","v":""},{"$f":"+IF(J332=\"\",\"\",MAX(K$1:K331)+1)","v":""},"",null,{"$f":"IF(LDAR_H_UU_summary!C154=\"\",\"\",LDAR_H_UU_summary!C154)","v":""},{"$f":"IF(COUNTIF(N$2:N332,N332)=1,N332,\"\")","v":""},{"$f":"+IF(O332=\"\",\"\",MAX(P$1:P331)+1)","v":""},"",null,{"$f":"IF(CMS_Identification!G354=\"\",\"\",CMS_Identification!G354)","v":""},{"$f":"IF(CMS_Identification!B354=\"\",\"\",CMS_Identification!B354)","v":""},{"$f":"IF(COUNTIF(S$2:S332,S332)=1,S332,\"\")","v":""},{"$f":"+IF(U332=\"\",\"\",MAX(V$1:V331)+1)","v":""},"",null,{"$f":"IF(CMS_Identification!G354=\"\",\"\",CMS_Identification!G354)","v":""},{"$f":"IF(CMS_Identification!D354=\"\",\"\",CMS_Identification!D354)","v":""},null,null,null,{"$f":"IF(CMS_Identification!B354=\"\",\"\",CMS_Identification!B354)","v":""},{"$f":"IF(CMS_Identification!G354=\"\",\"\",CMS_Identification!G354)","v":""},{"$f":"IF(CMS_Identification!D354=\"\",\"\",CMS_Identification!D354)","v":""}]
[null,null,null,null,null,null,null,null,{"$f":"IF(LDAR_TT_summary!C255=\"\",\"\",LDAR_TT_summary!C255)","v":""},{"$f":"IF(COUNTIF(I$2:I333,I333)=1,I333,\"\")","v":""},{"$f":"+IF(J333=\"\",\"\",MAX(K$1:K332)+1)","v":""},"",null,{"$f":"IF(LDAR_H_UU_summary!C155=\"\",\"\",LDAR_H_UU_summary!C155)","v":""},{"$f":"IF(COUNTIF(N$2:N333,N333)=1,N333,\"\")","v":""},{"$f":"+IF(O333=\"\",\"\",MAX(P$1:P332)+1)","v":""},"",null,{"$f":"IF(CMS_Identification!G355=\"\",\"\",CMS_Identification!G355)","v":""},{"$f":"IF(CMS_Identification!B355=\"\",\"\",CMS_Identification!B355)","v":""},{"$f":"IF(COUNTIF(S$2:S333,S333)=1,S333,\"\")","v":""},{"$f":"+IF(U333=\"\",\"\",MAX(V$1:V332)+1)","v":""},"",null,{"$f":"IF(CMS_Identification!G355=\"\",\"\",CMS_Identification!G355)","v":""},{"$f":"IF(CMS_Identification!D355=\"\",\"\",CMS_Identification!D355)","v":""},null,null,null,{"$f":"IF(CMS_Identification!B355=\"\",\"\",CMS_Identification!B355)","v":""},{"$f":"IF(CMS_Identification!G355=\"\",\"\",CMS_Identification!G355)","v":""},{"$f":"IF(CMS_Identification!D355=\"\",\"\",CMS_Identification!D355)","v":""}]
[null,null,null,null,null,null,null,null,{"$f":"IF(LDAR_TT_summary!C256=\"\",\"\",LDAR_TT_summary!C256)","v":""},{"$f":"IF(COUNTIF(I$2:I334,I334)=1,I334,\"\")","v":""},{"$f":"+IF(J334=\"\",\"\",MAX(K$1:K333)+1)","v":""},"",null,{"$f":"IF(LDAR_H_UU_summary!C156=\"\",\"\",LDAR_H_UU_summary!C156)","v":""},{"$f":"IF(COUNTIF(N$2:N334,N334)=1,N334,\"\")","v":""},{"$f":"+IF(O334=\"\",\"\",MAX(P$1:P333)+1)","v":""},"",null,{"$f":"IF(CMS_Identification!G356=\"\",\"\",CMS_Identification!G356)","v":""},{"$f":"IF(CMS_Identification!B356=\"\",\"\",CMS_Identification!B356)","v":""},{"$f":"IF(COUNTIF(S$2:S334,S334)=1,S334,\"\")","v":""},{"$f":"+IF(U334=\"\",\"\",MAX(V$1:V333)+1)","v":""},"",null,{"$f":"IF(CMS_Identification!G356=\"\",\"\",CMS_Identification!G356)","v":""},{"$f":"IF(CMS_Identification!D356=\"\",\"\",CMS_Identification!D356)","v":""},null,null,null,{"$f":"IF(CMS_Identification!B356=\"\",\"\",CMS_Identification!B356)","v":""},{"$f":"IF(CMS_Identification!G356=\"\",\"\",CMS_Identification!G356)","v":""},{"$f":"IF(CMS_Identification!D356=\"\",\"\",CMS_Identification!D356)","v":""}]
[null,null,null,null,null,null,null,null,{"$f":"IF(LDAR_TT_summary!C257=\"\",\"\",LDAR_TT_summary!C257)","v":""},{"$f":"IF(COUNTIF(I$2:I335,I335)=1,I335,\"\")","v":""},{"$f":"+IF(J335=\"\",\"\",MAX(K$1:K334)+1)","v":""},"",null,{"$f":"IF(LDAR_H_UU_summary!C157=\"\",\"\",LDAR_H_UU_summary!C157)","v":""},{"$f":"IF(COUNTIF(N$2:N335,N335)=1,N335,\"\")","v":""},{"$f":"+IF(O335=\"\",\"\",MAX(P$1:P334)+1)","v":""},"",null,{"$f":"IF(CMS_Identification!G357=\"\",\"\",CMS_Identification!G357)","v":""},{"$f":"IF(CMS_Identification!B357=\"\",\"\",CMS_Identification!B357)","v":""},{"$f":"IF(COUNTIF(S$2:S335,S335)=1,S335,\"\")","v":""},{"$f":"+IF(U335=\"\",\"\",MAX(V$1:V334)+1)","v":""},"",null,{"$f":"IF(CMS_Identification!G357=\"\",\"\",CMS_Identification!G357)","v":""},{"$f":"IF(CMS_Identification!D357=\"\",\"\",CMS_Identification!D357)","v":""},null,null,null,{"$f":"IF(CMS_Identification!B357=\"\",\"\",CMS_Identification!B357)","v":""},{"$f":"IF(CMS_Identification!G357=\"\",\"\",CMS_Identification!G357)","v":""},{"$f":"IF(CMS_Identification!D357=\"\",\"\",CMS_Identification!D357)","v":""}]
[null,null,null,null,null,null,null,null,{"$f":"IF(LDAR_TT_summary!C258=\"\",\"\",LDAR_TT_summary!C258)","v":""},{"$f":"IF(COUNTIF(I$2:I336,I336)=1,I336,\"\")","v":""},{"$f":"+IF(J336=\"\",\"\",MAX(K$1:K335)+1)","v":""},"",null,{"$f":"IF(LDAR_H_UU_summary!C158=\"\",\"\",LDAR_H_UU_summary!C158)","v":""},{"$f":"IF(COUNTIF(N$2:N336,N336)=1,N336,\"\")","v":""},{"$f":"+IF(O336=\"\",\"\",MAX(P$1:P335)+1)","v":""},"",null,{"$f":"IF(CMS_Identification!G358=\"\",\"\",CMS_Identification!G358)","v":""},{"$f":"IF(CMS_Identification!B358=\"\",\"\",CMS_Identification!B358)","v":""},{"$f":"IF(COUNTIF(S$2:S336,S336)=1,S336,\"\")","v":""},{"$f":"+IF(U336=\"\",\"\",MAX(V$1:V335)+1)","v":""},"",null,{"$f":"IF(CMS_Identification!G358=\"\",\"\",CMS_Identification!G358)","v":""},{"$f":"IF(CMS_Identification!D358=\"\",\"\",CMS_Identification!D358)","v":""},null,null,null,{"$f":"IF(CMS_Identification!B358=\"\",\"\",CMS_Identification!B358)","v":""},{"$f":"IF(CMS_Identification!G358=\"\",\"\",CMS_Identification!G358)","v":""},{"$f":"IF(CMS_Identification!D358=\"\",\"\",CMS_Identification!D358)","v":""}]
[null,null,null,null,null,null,null,null,{"$f":"IF(LDAR_TT_summary!C259=\"\",\"\",LDAR_TT_summary!C259)","v":""},{"$f":"IF(COUNTIF(I$2:I337,I337)=1,I337,\"\")","v":""},{"$f":"+IF(J337=\"\",\"\",MAX(K$1:K336)+1)","v":""},"",null,{"$f":"IF(LDAR_H_UU_summary!C159=\"\",\"\",LDAR_H_UU_summary!C159)","v":""},{"$f":"IF(COUNTIF(N$2:N337,N337)=1,N337,\"\")","v":""},{"$f":"+IF(O337=\"\",\"\",MAX(P$1:P336)+1)","v":""},"",null,{"$f":"IF(CMS_Identification!G359=\"\",\"\",CMS_Identification!G359)","v":""},{"$f":"IF(CMS_Identification!B359=\"\",\"\",CMS_Identification!B359)","v":""},{"$f":"IF(COUNTIF(S$2:S337,S337)=1,S337,\"\")","v":""},{"$f":"+IF(U337=\"\",\"\",MAX(V$1:V336)+1)","v":""},"",null,{"$f":"IF(CMS_Identification!G359=\"\",\"\",CMS_Identification!G359)","v":""},{"$f":"IF(CMS_Identification!D359=\"\",\"\",CMS_Identification!D359)","v":""},null,null,null,{"$f":"IF(CMS_Identification!B359=\"\",\"\",CMS_Identification!B359)","v":""},{"$f":"IF(CMS_Identification!G359=\"\",\"\",CMS_Identification!G359)","v":""},{"$f":"IF(CMS_Identification!D359=\"\",\"\",CMS_Identification!D359)","v":""}]
[null,null,null,null,null,null,null,null,{"$f":"IF(LDAR_TT_summary!C260=\"\",\"\",LDAR_TT_summary!C260)","v":""},{"$f":"IF(COUNTIF(I$2:I338,I338)=1,I338,\"\")","v":""},{"$f":"+IF(J338=\"\",\"\",MAX(K$1:K337)+1)","v":""},"",null,{"$f":"IF(LDAR_H_UU_summary!C160=\"\",\"\",LDAR_H_UU_summary!C160)","v":""},{"$f":"IF(COUNTIF(N$2:N338,N338)=1,N338,\"\")","v":""},{"$f":"+IF(O338=\"\",\"\",MAX(P$1:P337)+1)","v":""},"",null,{"$f":"IF(CMS_Identification!G360=\"\",\"\",CMS_Identification!G360)","v":""},{"$f":"IF(CMS_Identification!B360=\"\",\"\",CMS_Identification!B360)","v":""},{"$f":"IF(COUNTIF(S$2:S338,S338)=1,S338,\"\")","v":""},{"$f":"+IF(U338=\"\",\"\",MAX(V$1:V337)+1)","v":""},"",null,{"$f":"IF(CMS_Identification!G360=\"\",\"\",CMS_Identification!G360)","v":""},{"$f":"IF(CMS_Identification!D360=\"\",\"\",CMS_Identification!D360)","v":""},null,null,null,{"$f":"IF(CMS_Identification!B360=\"\",\"\",CMS_Identification!B360)","v":""},{"$f":"IF(CMS_Identification!G360=\"\",\"\",CMS_Identification!G360)","v":""},{"$f":"IF(CMS_Identification!D360=\"\",\"\",CMS_Identification!D360)","v":""}]
[null,null,null,null,null,null,null,null,{"$f":"IF(LDAR_TT_summary!C261=\"\",\"\",LDAR_TT_summary!C261)","v":""},{"$f":"IF(COUNTIF(I$2:I339,I339)=1,I339,\"\")","v":""},{"$f":"+IF(J339=\"\",\"\",MAX(K$1:K338)+1)","v":""},"",null,{"$f":"IF(LDAR_H_UU_summary!C161=\"\",\"\",LDAR_H_UU_summary!C161)","v":""},{"$f":"IF(COUNTIF(N$2:N339,N339)=1,N339,\"\")","v":""},{"$f":"+IF(O339=\"\",\"\",MAX(P$1:P338)+1)","v":""},"",null,{"$f":"IF(CMS_Identification!G361=\"\",\"\",CMS_Identification!G361)","v":""},{"$f":"IF(CMS_Identification!B361=\"\",\"\",CMS_Identification!B361)","v":""},{"$f":"IF(COUNTIF(S$2:S339,S339)=1,S339,\"\")","v":""},{"$f":"+IF(U339=\"\",\"\",MAX(V$1:V338)+1)","v":""},"",null,{"$f":"IF(CMS_Identification!G361=\"\",\"\",CMS_Identification!G361)","v":""},{"$f":"IF(CMS_Identification!D361=\"\",\"\",CMS_Identification!D361)","v":""},null,null,null,{"$f":"IF(CMS_Identification!B361=\"\",\"\",CMS_Identification!B361)","v":""},{"$f":"IF(CMS_Identification!G361=\"\",\"\",CMS_Identification!G361)","v":""},{"$f":"IF(CMS_Identification!D361=\"\",\"\",CMS_Identification!D361)","v":""}]
[null,null,null,null,null,null,null,null,{"$f":"IF(LDAR_TT_summary!C262=\"\",\"\",LDAR_TT_summary!C262)","v":""},{"$f":"IF(COUNTIF(I$2:I340,I340)=1,I340,\"\")","v":""},{"$f":"+IF(J340=\"\",\"\",MAX(K$1:K339)+1)","v":""},"",null,{"$f":"IF(LDAR_H_UU_summary!C162=\"\",\"\",LDAR_H_UU_summary!C162)","v":""},{"$f":"IF(COUNTIF(N$2:N340,N340)=1,N340,\"\")","v":""},{"$f":"+IF(O340=\"\",\"\",MAX(P$1:P339)+1)","v":""},"",null,{"$f":"IF(CMS_Identification!G362=\"\",\"\",CMS_Identification!G362)","v":""},{"$f":"IF(CMS_Identification!B362=\"\",\"\",CMS_Identification!B362)","v":""},{"$f":"IF(COUNTIF(S$2:S340,S340)=1,S340,\"\")","v":""},{"$f":"+IF(U340=\"\",\"\",MAX(V$1:V339)+1)","v":""},"",null,{"$f":"IF(CMS_Identification!G362=\"\",\"\",CMS_Identification!G362)","v":""},{"$f":"IF(CMS_Identification!D362=\"\",\"\",CMS_Identification!D362)","v":""},null,null,null,{"$f":"IF(CMS_Identification!B362=\"\",\"\",CMS_Identification!B362)","v":""},{"$f":"IF(CMS_Identification!G362=\"\",\"\",CMS_Identification!G362)","v":""},{"$f":"IF(CMS_Identification!D362=\"\",\"\",CMS_Identification!D362)","v":""}]
[null,null,null,null,null,null,null,null,{"$f":"IF(LDAR_TT_summary!C263=\"\",\"\",LDAR_TT_summary!C263)","v":""},{"$f":"IF(COUNTIF(I$2:I341,I341)=1,I341,\"\")","v":""},{"$f":"+IF(J341=\"\",\"\",MAX(K$1:K340)+1)","v":""},"",null,{"$f":"IF(LDAR_H_UU_summary!C163=\"\",\"\",LDAR_H_UU_summary!C163)","v":""},{"$f":"IF(COUNTIF(N$2:N341,N341)=1,N341,\"\")","v":""},{"$f":"+IF(O341=\"\",\"\",MAX(P$1:P340)+1)","v":""},"",null,{"$f":"IF(CMS_Identification!G363=\"\",\"\",CMS_Identification!G363)","v":""},{"$f":"IF(CMS_Identification!B363=\"\",\"\",CMS_Identification!B363)","v":""},{"$f":"IF(COUNTIF(S$2:S341,S341)=1,S341,\"\")","v":""},{"$f":"+IF(U341=\"\",\"\",MAX(V$1:V340)+1)","v":""},"",null,{"$f":"IF(CMS_Identification!G363=\"\",\"\",CMS_Identification!G363)","v":""},{"$f":"IF(CMS_Identification!D363=\"\",\"\",CMS_Identification!D363)","v":""},null,null,null,{"$f":"IF(CMS_Identification!B363=\"\",\"\",CMS_Identification!B363)","v":""},{"$f":"IF(CMS_Identification!G363=\"\",\"\",CMS_Identification!G363)","v":""},{"$f":"IF(CMS_Identification!D363=\"\",\"\",CMS_Identification!D363)","v":""}]
[null,null,null,null,null,null,null,null,{"$f":"IF(LDAR_TT_summary!C264=\"\",\"\",LDAR_TT_summary!C264)","v":""},{"$f":"IF(COUNTIF(I$2:I342,I342)=1,I342,\"\")","v":""},{"$f":"+IF(J342=\"\",\"\",MAX(K$1:K341)+1)","v":""},"",null,{"$f":"IF(LDAR_H_UU_summary!C164=\"\",\"\",LDAR_H_UU_summary!C164)","v":""},{"$f":"IF(COUNTIF(N$2:N342,N342)=1,N342,\"\")","v":""},{"$f":"+IF(O342=\"\",\"\",MAX(P$1:P341)+1)","v":""},"",null,{"$f":"IF(CMS_Identification!G364=\"\",\"\",CMS_Identification!G364)","v":""},{"$f":"IF(CMS_Identification!B364=\"\",\"\",CMS_Identification!B364)","v":""},{"$f":"IF(COUNTIF(S$2:S342,S342)=1,S342,\"\")","v":""},{"$f":"+IF(U342=\"\",\"\",MAX(V$1:V341)+1)","v":""},"",null,{"$f":"IF(CMS_Identification!G364=\"\",\"\",CMS_Identification!G364)","v":""},{"$f":"IF(CMS_Identification!D364=\"\",\"\",CMS_Identification!D364)","v":""},null,null,null,{"$f":"IF(CMS_Identification!B364=\"\",\"\",CMS_Identification!B364)","v":""},{"$f":"IF(CMS_Identification!G364=\"\",\"\",CMS_Identification!G364)","v":""},{"$f":"IF(CMS_Identification!D364=\"\",\"\",CMS_Identification!D364)","v":""}]
[null,null,null,null,null,null,null,null,{"$f":"IF(LDAR_TT_summary!C265=\"\",\"\",LDAR_TT_summary!C265)","v":""},{"$f":"IF(COUNTIF(I$2:I343,I343)=1,I343,\"\")","v":""},{"$f":"+IF(J343=\"\",\"\",MAX(K$1:K342)+1)","v":""},"",null,{"$f":"IF(LDAR_H_UU_summary!C165=\"\",\"\",LDAR_H_UU_summary!C165)","v":""},{"$f":"IF(COUNTIF(N$2:N343,N343)=1,N343,\"\")","v":""},{"$f":"+IF(O343=\"\",\"\",MAX(P$1:P342)+1)","v":""},"",null,{"$f":"IF(CMS_Identification!G365=\"\",\"\",CMS_Identification!G365)","v":""},{"$f":"IF(CMS_Identification!B365=\"\",\"\",CMS_Identification!B365)","v":""},{"$f":"IF(COUNTIF(S$2:S343,S343)=1,S343,\"\")","v":""},{"$f":"+IF(U343=\"\",\"\",MAX(V$1:V342)+1)","v":""},"",null,{"$f":"IF(CMS_Identification!G365=\"\",\"\",CMS_Identification!G365)","v":""},{"$f":"IF(CMS_Identification!D365=\"\",\"\",CMS_Identification!D365)","v":""},null,null,null,{"$f":"IF(CMS_Identification!B365=\"\",\"\",CMS_Identification!B365)","v":""},{"$f":"IF(CMS_Identification!G365=\"\",\"\",CMS_Identification!G365)","v":""},{"$f":"IF(CMS_Identification!D365=\"\",\"\",CMS_Identification!D365)","v":""}]
[null,null,null,null,null,null,null,null,{"$f":"IF(LDAR_TT_summary!C266=\"\",\"\",LDAR_TT_summary!C266)","v":""},{"$f":"IF(COUNTIF(I$2:I344,I344)=1,I344,\"\")","v":""},{"$f":"+IF(J344=\"\",\"\",MAX(K$1:K343)+1)","v":""},"",null,{"$f":"IF(LDAR_H_UU_summary!C166=\"\",\"\",LDAR_H_UU_summary!C166)","v":""},{"$f":"IF(COUNTIF(N$2:N344,N344)=1,N344,\"\")","v":""},{"$f":"+IF(O344=\"\",\"\",MAX(P$1:P343)+1)","v":""},"",null,{"$f":"IF(CMS_Identification!G366=\"\",\"\",CMS_Identification!G366)","v":""},{"$f":"IF(CMS_Identification!B366=\"\",\"\",CMS_Identification!B366)","v":""},{"$f":"IF(COUNTIF(S$2:S344,S344)=1,S344,\"\")","v":""},{"$f":"+IF(U344=\"\",\"\",MAX(V$1:V343)+1)","v":""},"",null,{"$f":"IF(CMS_Identification!G366=\"\",\"\",CMS_Identification!G366)","v":""},{"$f":"IF(CMS_Identification!D366=\"\",\"\",CMS_Identification!D366)","v":""},null,null,null,{"$f":"IF(CMS_Identification!B366=\"\",\"\",CMS_Identification!B366)","v":""},{"$f":"IF(CMS_Identification!G366=\"\",\"\",CMS_Identification!G366)","v":""},{"$f":"IF(CMS_Identification!D366=\"\",\"\",CMS_Identification!D366)","v":""}]
[null,null,null,null,null,null,null,null,{"$f":"IF(LDAR_TT_summary!C267=\"\",\"\",LDAR_TT_summary!C267)","v":""},{"$f":"IF(COUNTIF(I$2:I345,I345)=1,I345,\"\")","v":""},{"$f":"+IF(J345=\"\",\"\",MAX(K$1:K344)+1)","v":""},"",null,{"$f":"IF(LDAR_H_UU_summary!C167=\"\",\"\",LDAR_H_UU_summary!C167)","v":""},{"$f":"IF(COUNTIF(N$2:N345,N345)=1,N345,\"\")","v":""},{"$f":"+IF(O345=\"\",\"\",MAX(P$1:P344)+1)","v":""},"",null,{"$f":"IF(CMS_Identification!G367=\"\",\"\",CMS_Identification!G367)","v":""},{"$f":"IF(CMS_Identification!B367=\"\",\"\",CMS_Identification!B367)","v":""},{"$f":"IF(COUNTIF(S$2:S345,S345)=1,S345,\"\")","v":""},{"$f":"+IF(U345=\"\",\"\",MAX(V$1:V344)+1)","v":""},"",null,{"$f":"IF(CMS_Identification!G367=\"\",\"\",CMS_Identification!G367)","v":""},{"$f":"IF(CMS_Identification!D367=\"\",\"\",CMS_Identification!D367)","v":""},null,null,null,{"$f":"IF(CMS_Identification!B367=\"\",\"\",CMS_Identification!B367)","v":""},{"$f":"IF(CMS_Identification!G367=\"\",\"\",CMS_Identification!G367)","v":""},{"$f":"IF(CMS_Identification!D367=\"\",\"\",CMS_Identification!D367)","v":""}]
[null,null,null,null,null,null,null,null,{"$f":"IF(LDAR_TT_summary!C268=\"\",\"\",LDAR_TT_summary!C268)","v":""},{"$f":"IF(COUNTIF(I$2:I346,I346)=1,I346,\"\")","v":""},{"$f":"+IF(J346=\"\",\"\",MAX(K$1:K345)+1)","v":""},"",null,{"$f":"IF(LDAR_H_UU_summary!C168=\"\",\"\",LDAR_H_UU_summary!C168)","v":""},{"$f":"IF(COUNTIF(N$2:N346,N346)=1,N346,\"\")","v":""},{"$f":"+IF(O346=\"\",\"\",MAX(P$1:P345)+1)","v":""},"",null,{"$f":"IF(CMS_Identification!G368=\"\",\"\",CMS_Identification!G368)","v":""},{"$f":"IF(CMS_Identification!B368=\"\",\"\",CMS_Identification!B368)","v":""},{"$f":"IF(COUNTIF(S$2:S346,S346)=1,S346,\"\")","v":""},{"$f":"+IF(U346=\"\",\"\",MAX(V$1:V345)+1)","v":""},"",null,{"$f":"IF(CMS_Identification!G368=\"\",\"\",CMS_Identification!G368)","v":""},{"$f":"IF(CMS_Identification!D368=\"\",\"\",CMS_Identification!D368)","v":""},null,null,null,{"$f":"IF(CMS_Identification!B368=\"\",\"\",CMS_Identification!B368)","v":""},{"$f":"IF(CMS_Identification!G368=\"\",\"\",CMS_Identification!G368)","v":""},{"$f":"IF(CMS_Identification!D368=\"\",\"\",CMS_Identification!D368)","v":""}]
[null,null,null,null,null,null,null,null,{"$f":"IF(LDAR_TT_summary!C269=\"\",\"\",LDAR_TT_summary!C269)","v":""},{"$f":"IF(COUNTIF(I$2:I347,I347)=1,I347,\"\")","v":""},{"$f":"+IF(J347=\"\",\"\",MAX(K$1:K346)+1)","v":""},"",null,{"$f":"IF(LDAR_H_UU_summary!C169=\"\",\"\",LDAR_H_UU_summary!C169)","v":""},{"$f":"IF(COUNTIF(N$2:N347,N347)=1,N347,\"\")","v":""},{"$f":"+IF(O347=\"\",\"\",MAX(P$1:P346)+1)","v":""},"",null,{"$f":"IF(CMS_Identification!G369=\"\",\"\",CMS_Identification!G369)","v":""},{"$f":"IF(CMS_Identification!B369=\"\",\"\",CMS_Identification!B369)","v":""},{"$f":"IF(COUNTIF(S$2:S347,S347)=1,S347,\"\")","v":""},{"$f":"+IF(U347=\"\",\"\",MAX(V$1:V346)+1)","v":""},"",null,{"$f":"IF(CMS_Identification!G369=\"\",\"\",CMS_Identification!G369)","v":""},{"$f":"IF(CMS_Identification!D369=\"\",\"\",CMS_Identification!D369)","v":""},null,null,null,{"$f":"IF(CMS_Identification!B369=\"\",\"\",CMS_Identification!B369)","v":""},{"$f":"IF(CMS_Identification!G369=\"\",\"\",CMS_Identification!G369)","v":""},{"$f":"IF(CMS_Identification!D369=\"\",\"\",CMS_Identification!D369)","v":""}]
[null,null,null,null,null,null,null,null,{"$f":"IF(LDAR_TT_summary!C270=\"\",\"\",LDAR_TT_summary!C270)","v":""},{"$f":"IF(COUNTIF(I$2:I348,I348)=1,I348,\"\")","v":""},{"$f":"+IF(J348=\"\",\"\",MAX(K$1:K347)+1)","v":""},"",null,{"$f":"IF(LDAR_H_UU_summary!C170=\"\",\"\",LDAR_H_UU_summary!C170)","v":""},{"$f":"IF(COUNTIF(N$2:N348,N348)=1,N348,\"\")","v":""},{"$f":"+IF(O348=\"\",\"\",MAX(P$1:P347)+1)","v":""},"",null,{"$f":"IF(CMS_Identification!G370=\"\",\"\",CMS_Identification!G370)","v":""},{"$f":"IF(CMS_Identification!B370=\"\",\"\",CMS_Identification!B370)","v":""},{"$f":"IF(COUNTIF(S$2:S348,S348)=1,S348,\"\")","v":""},{"$f":"+IF(U348=\"\",\"\",MAX(V$1:V347)+1)","v":""},"",null,{"$f":"IF(CMS_Identification!G370=\"\",\"\",CMS_Identification!G370)","v":""},{"$f":"IF(CMS_Identification!D370=\"\",\"\",CMS_Identification!D370)","v":""},null,null,null,{"$f":"IF(CMS_Identification!B370=\"\",\"\",CMS_Identification!B370)","v":""},{"$f":"IF(CMS_Identification!G370=\"\",\"\",CMS_Identification!G370)","v":""},{"$f":"IF(CMS_Identification!D370=\"\",\"\",CMS_Identification!D370)","v":""}]
[null,null,null,null,null,null,null,null,{"$f":"IF(LDAR_TT_summary!C271=\"\",\"\",LDAR_TT_summary!C271)","v":""},{"$f":"IF(COUNTIF(I$2:I349,I349)=1,I349,\"\")","v":""},{"$f":"+IF(J349=\"\",\"\",MAX(K$1:K348)+1)","v":""},"",null,{"$f":"IF(LDAR_H_UU_summary!C171=\"\",\"\",LDAR_H_UU_summary!C171)","v":""},{"$f":"IF(COUNTIF(N$2:N349,N349)=1,N349,\"\")","v":""},{"$f":"+IF(O349=\"\",\"\",MAX(P$1:P348)+1)","v":""},"",null,{"$f":"IF(CMS_Identification!G371=\"\",\"\",CMS_Identification!G371)","v":""},{"$f":"IF(CMS_Identification!B371=\"\",\"\",CMS_Identification!B371)","v":""},{"$f":"IF(COUNTIF(S$2:S349,S349)=1,S349,\"\")","v":""},{"$f":"+IF(U349=\"\",\"\",MAX(V$1:V348)+1)","v":""},"",null,{"$f":"IF(CMS_Identification!G371=\"\",\"\",CMS_Identification!G371)","v":""},{"$f":"IF(CMS_Identification!D371=\"\",\"\",CMS_Identification!D371)","v":""},null,null,null,{"$f":"IF(CMS_Identification!B371=\"\",\"\",CMS_Identification!B371)","v":""},{"$f":"IF(CMS_Identification!G371=\"\",\"\",CMS_Identification!G371)","v":""},{"$f":"IF(CMS_Identification!D371=\"\",\"\",CMS_Identification!D371)","v":""}]
[null,null,null,null,null,null,null,null,{"$f":"IF(LDAR_TT_summary!C272=\"\",\"\",LDAR_TT_summary!C272)","v":""},{"$f":"IF(COUNTIF(I$2:I350,I350)=1,I350,\"\")","v":""},{"$f":"+IF(J350=\"\",\"\",MAX(K$1:K349)+1)","v":""},"",null,{"$f":"IF(LDAR_H_UU_summary!C172=\"\",\"\",LDAR_H_UU_summary!C172)","v":""},{"$f":"IF(COUNTIF(N$2:N350,N350)=1,N350,\"\")","v":""},{"$f":"+IF(O350=\"\",\"\",MAX(P$1:P349)+1)","v":""},"",null,{"$f":"IF(CMS_Identification!G372=\"\",\"\",CMS_Identification!G372)","v":""},{"$f":"IF(CMS_Identification!B372=\"\",\"\",CMS_Identification!B372)","v":""},{"$f":"IF(COUNTIF(S$2:S350,S350)=1,S350,\"\")","v":""},{"$f":"+IF(U350=\"\",\"\",MAX(V$1:V349)+1)","v":""},"",null,{"$f":"IF(CMS_Identification!G372=\"\",\"\",CMS_Identification!G372)","v":""},{"$f":"IF(CMS_Identification!D372=\"\",\"\",CMS_Identification!D372)","v":""},null,null,null,{"$f":"IF(CMS_Identification!B372=\"\",\"\",CMS_Identification!B372)","v":""},{"$f":"IF(CMS_Identification!G372=\"\",\"\",CMS_Identification!G372)","v":""},{"$f":"IF(CMS_Identification!D372=\"\",\"\",CMS_Identification!D372)","v":""}]
[null,null,null,null,null,null,null,null,{"$f":"IF(LDAR_TT_summary!C273=\"\",\"\",LDAR_TT_summary!C273)","v":""},{"$f":"IF(COUNTIF(I$2:I351,I351)=1,I351,\"\")","v":""},{"$f":"+IF(J351=\"\",\"\",MAX(K$1:K350)+1)","v":""},"",null,{"$f":"IF(LDAR_H_UU_summary!C173=\"\",\"\",LDAR_H_UU_summary!C173)","v":""},{"$f":"IF(COUNTIF(N$2:N351,N351)=1,N351,\"\")","v":""},{"$f":"+IF(O351=\"\",\"\",MAX(P$1:P350)+1)","v":""},"",null,{"$f":"IF(CMS_Identification!G373=\"\",\"\",CMS_Identification!G373)","v":""},{"$f":"IF(CMS_Identification!B373=\"\",\"\",CMS_Identification!B373)","v":""},{"$f":"IF(COUNTIF(S$2:S351,S351)=1,S351,\"\")","v":""},{"$f":"+IF(U351=\"\",\"\",MAX(V$1:V350)+1)","v":""},"",null,{"$f":"IF(CMS_Identification!G373=\"\",\"\",CMS_Identification!G373)","v":""},{"$f":"IF(CMS_Identification!D373=\"\",\"\",CMS_Identification!D373)","v":""},null,null,null,{"$f":"IF(CMS_Identification!B373=\"\",\"\",CMS_Identification!B373)","v":""},{"$f":"IF(CMS_Identification!G373=\"\",\"\",CMS_Identification!G373)","v":""},{"$f":"IF(CMS_Identification!D373=\"\",\"\",CMS_Identification!D373)","v":""}]
[null,null,null,null,null,null,null,null,{"$f":"IF(LDAR_TT_summary!C274=\"\",\"\",LDAR_TT_summary!C274)","v":""},{"$f":"IF(COUNTIF(I$2:I352,I352)=1,I352,\"\")","v":""},{"$f":"+IF(J352=\"\",\"\",MAX(K$1:K351)+1)","v":""},"",null,{"$f":"IF(LDAR_H_UU_summary!C174=\"\",\"\",LDAR_H_UU_summary!C174)","v":""},{"$f":"IF(COUNTIF(N$2:N352,N352)=1,N352,\"\")","v":""},{"$f":"+IF(O352=\"\",\"\",MAX(P$1:P351)+1)","v":""},"",null,{"$f":"IF(CMS_Identification!G374=\"\",\"\",CMS_Identification!G374)","v":""},{"$f":"IF(CMS_Identification!B374=\"\",\"\",CMS_Identification!B374)","v":""},{"$f":"IF(COUNTIF(S$2:S352,S352)=1,S352,\"\")","v":""},{"$f":"+IF(U352=\"\",\"\",MAX(V$1:V351)+1)","v":""},"",null,{"$f":"IF(CMS_Identification!G374=\"\",\"\",CMS_Identification!G374)","v":""},{"$f":"IF(CMS_Identification!D374=\"\",\"\",CMS_Identification!D374)","v":""},null,null,null,{"$f":"IF(CMS_Identification!B374=\"\",\"\",CMS_Identification!B374)","v":""},{"$f":"IF(CMS_Identification!G374=\"\",\"\",CMS_Identification!G374)","v":""},{"$f":"IF(CMS_Identification!D374=\"\",\"\",CMS_Identification!D374)","v":""}]
[null,null,null,null,null,null,null,null,{"$f":"IF(LDAR_TT_summary!C275=\"\",\"\",LDAR_TT_summary!C275)","v":""},{"$f":"IF(COUNTIF(I$2:I353,I353)=1,I353,\"\")","v":""},{"$f":"+IF(J353=\"\",\"\",MAX(K$1:K352)+1)","v":""},"",null,{"$f":"IF(LDAR_H_UU_summary!C175=\"\",\"\",LDAR_H_UU_summary!C175)","v":""},{"$f":"IF(COUNTIF(N$2:N353,N353)=1,N353,\"\")","v":""},{"$f":"+IF(O353=\"\",\"\",MAX(P$1:P352)+1)","v":""},"",null,{"$f":"IF(CMS_Identification!G375=\"\",\"\",CMS_Identification!G375)","v":""},{"$f":"IF(CMS_Identification!B375=\"\",\"\",CMS_Identification!B375)","v":""},{"$f":"IF(COUNTIF(S$2:S353,S353)=1,S353,\"\")","v":""},{"$f":"+IF(U353=\"\",\"\",MAX(V$1:V352)+1)","v":""},"",null,{"$f":"IF(CMS_Identification!G375=\"\",\"\",CMS_Identification!G375)","v":""},{"$f":"IF(CMS_Identification!D375=\"\",\"\",CMS_Identification!D375)","v":""},null,null,null,{"$f":"IF(CMS_Identification!B375=\"\",\"\",CMS_Identification!B375)","v":""},{"$f":"IF(CMS_Identification!G375=\"\",\"\",CMS_Identification!G375)","v":""},{"$f":"IF(CMS_Identification!D375=\"\",\"\",CMS_Identification!D375)","v":""}]
[null,null,null,null,null,null,null,null,{"$f":"IF(LDAR_TT_summary!C276=\"\",\"\",LDAR_TT_summary!C276)","v":""},{"$f":"IF(COUNTIF(I$2:I354,I354)=1,I354,\"\")","v":""},{"$f":"+IF(J354=\"\",\"\",MAX(K$1:K353)+1)","v":""},"",null,{"$f":"IF(LDAR_H_UU_summary!C176=\"\",\"\",LDAR_H_UU_summary!C176)","v":""},{"$f":"IF(COUNTIF(N$2:N354,N354)=1,N354,\"\")","v":""},{"$f":"+IF(O354=\"\",\"\",MAX(P$1:P353)+1)","v":""},"",null,{"$f":"IF(CMS_Identification!G376=\"\",\"\",CMS_Identification!G376)","v":""},{"$f":"IF(CMS_Identification!B376=\"\",\"\",CMS_Identification!B376)","v":""},{"$f":"IF(COUNTIF(S$2:S354,S354)=1,S354,\"\")","v":""},{"$f":"+IF(U354=\"\",\"\",MAX(V$1:V353)+1)","v":""},"",null,{"$f":"IF(CMS_Identification!G376=\"\",\"\",CMS_Identification!G376)","v":""},{"$f":"IF(CMS_Identification!D376=\"\",\"\",CMS_Identification!D376)","v":""},null,null,null,{"$f":"IF(CMS_Identification!B376=\"\",\"\",CMS_Identification!B376)","v":""},{"$f":"IF(CMS_Identification!G376=\"\",\"\",CMS_Identification!G376)","v":""},{"$f":"IF(CMS_Identification!D376=\"\",\"\",CMS_Identification!D376)","v":""}]
[null,null,null,null,null,null,null,null,{"$f":"IF(LDAR_TT_summary!C277=\"\",\"\",LDAR_TT_summary!C277)","v":""},{"$f":"IF(COUNTIF(I$2:I355,I355)=1,I355,\"\")","v":""},{"$f":"+IF(J355=\"\",\"\",MAX(K$1:K354)+1)","v":""},"",null,{"$f":"IF(LDAR_H_UU_summary!C177=\"\",\"\",LDAR_H_UU_summary!C177)","v":""},{"$f":"IF(COUNTIF(N$2:N355,N355)=1,N355,\"\")","v":""},{"$f":"+IF(O355=\"\",\"\",MAX(P$1:P354)+1)","v":""},"",null,{"$f":"IF(CMS_Identification!G377=\"\",\"\",CMS_Identification!G377)","v":""},{"$f":"IF(CMS_Identification!B377=\"\",\"\",CMS_Identification!B377)","v":""},{"$f":"IF(COUNTIF(S$2:S355,S355)=1,S355,\"\")","v":""},{"$f":"+IF(U355=\"\",\"\",MAX(V$1:V354)+1)","v":""},"",null,{"$f":"IF(CMS_Identification!G377=\"\",\"\",CMS_Identification!G377)","v":""},{"$f":"IF(CMS_Identification!D377=\"\",\"\",CMS_Identification!D377)","v":""},null,null,null,{"$f":"IF(CMS_Identification!B377=\"\",\"\",CMS_Identification!B377)","v":""},{"$f":"IF(CMS_Identification!G377=\"\",\"\",CMS_Identification!G377)","v":""},{"$f":"IF(CMS_Identification!D377=\"\",\"\",CMS_Identification!D377)","v":""}]
[null,null,null,null,null,null,null,null,{"$f":"IF(LDAR_TT_summary!C278=\"\",\"\",LDAR_TT_summary!C278)","v":""},{"$f":"IF(COUNTIF(I$2:I356,I356)=1,I356,\"\")","v":""},{"$f":"+IF(J356=\"\",\"\",MAX(K$1:K355)+1)","v":""},"",null,{"$f":"IF(LDAR_H_UU_summary!C178=\"\",\"\",LDAR_H_UU_summary!C178)","v":""},{"$f":"IF(COUNTIF(N$2:N356,N356)=1,N356,\"\")","v":""},{"$f":"+IF(O356=\"\",\"\",MAX(P$1:P355)+1)","v":""},"",null,{"$f":"IF(CMS_Identification!G378=\"\",\"\",CMS_Identification!G378)","v":""},{"$f":"IF(CMS_Identification!B378=\"\",\"\",CMS_Identification!B378)","v":""},{"$f":"IF(COUNTIF(S$2:S356,S356)=1,S356,\"\")","v":""},{"$f":"+IF(U356=\"\",\"\",MAX(V$1:V355)+1)","v":""},"",null,{"$f":"IF(CMS_Identification!G378=\"\",\"\",CMS_Identification!G378)","v":""},{"$f":"IF(CMS_Identification!D378=\"\",\"\",CMS_Identification!D378)","v":""},null,null,null,{"$f":"IF(CMS_Identification!B378=\"\",\"\",CMS_Identification!B378)","v":""},{"$f":"IF(CMS_Identification!G378=\"\",\"\",CMS_Identification!G378)","v":""},{"$f":"IF(CMS_Identification!D378=\"\",\"\",CMS_Identification!D378)","v":""}]
[null,null,null,null,null,null,null,null,{"$f":"IF(LDAR_TT_summary!C279=\"\",\"\",LDAR_TT_summary!C279)","v":""},{"$f":"IF(COUNTIF(I$2:I357,I357)=1,I357,\"\")","v":""},{"$f":"+IF(J357=\"\",\"\",MAX(K$1:K356)+1)","v":""},"",null,{"$f":"IF(LDAR_H_UU_summary!C179=\"\",\"\",LDAR_H_UU_summary!C179)","v":""},{"$f":"IF(COUNTIF(N$2:N357,N357)=1,N357,\"\")","v":""},{"$f":"+IF(O357=\"\",\"\",MAX(P$1:P356)+1)","v":""},"",null,{"$f":"IF(CMS_Identification!G379=\"\",\"\",CMS_Identification!G379)","v":""},{"$f":"IF(CMS_Identification!B379=\"\",\"\",CMS_Identification!B379)","v":""},{"$f":"IF(COUNTIF(S$2:S357,S357)=1,S357,\"\")","v":""},{"$f":"+IF(U357=\"\",\"\",MAX(V$1:V356)+1)","v":""},"",null,{"$f":"IF(CMS_Identification!G379=\"\",\"\",CMS_Identification!G379)","v":""},{"$f":"IF(CMS_Identification!D379=\"\",\"\",CMS_Identification!D379)","v":""},null,null,null,{"$f":"IF(CMS_Identification!B379=\"\",\"\",CMS_Identification!B379)","v":""},{"$f":"IF(CMS_Identification!G379=\"\",\"\",CMS_Identification!G379)","v":""},{"$f":"IF(CMS_Identification!D379=\"\",\"\",CMS_Identification!D379)","v":""}]
[null,null,null,null,null,null,null,null,{"$f":"IF(LDAR_TT_summary!C280=\"\",\"\",LDAR_TT_summary!C280)","v":""},{"$f":"IF(COUNTIF(I$2:I358,I358)=1,I358,\"\")","v":""},{"$f":"+IF(J358=\"\",\"\",MAX(K$1:K357)+1)","v":""},"",null,{"$f":"IF(LDAR_H_UU_summary!C180=\"\",\"\",LDAR_H_UU_summary!C180)","v":""},{"$f":"IF(COUNTIF(N$2:N358,N358)=1,N358,\"\")","v":""},{"$f":"+IF(O358=\"\",\"\",MAX(P$1:P357)+1)","v":""},"",null,{"$f":"IF(CMS_Identification!G380=\"\",\"\",CMS_Identification!G380)","v":""},{"$f":"IF(CMS_Identification!B380=\"\",\"\",CMS_Identification!B380)","v":""},{"$f":"IF(COUNTIF(S$2:S358,S358)=1,S358,\"\")","v":""},{"$f":"+IF(U358=\"\",\"\",MAX(V$1:V357)+1)","v":""},"",null,{"$f":"IF(CMS_Identification!G380=\"\",\"\",CMS_Identification!G380)","v":""},{"$f":"IF(CMS_Identification!D380=\"\",\"\",CMS_Identification!D380)","v":""},null,null,null,{"$f":"IF(CMS_Identification!B380=\"\",\"\",CMS_Identification!B380)","v":""},{"$f":"IF(CMS_Identification!G380=\"\",\"\",CMS_Identification!G380)","v":""},{"$f":"IF(CMS_Identification!D380=\"\",\"\",CMS_Identification!D380)","v":""}]
[null,null,null,null,null,null,null,null,{"$f":"IF(LDAR_TT_summary!C281=\"\",\"\",LDAR_TT_summary!C281)","v":""},{"$f":"IF(COUNTIF(I$2:I359,I359)=1,I359,\"\")","v":""},{"$f":"+IF(J359=\"\",\"\",MAX(K$1:K358)+1)","v":""},"",null,{"$f":"IF(LDAR_H_UU_summary!C181=\"\",\"\",LDAR_H_UU_summary!C181)","v":""},{"$f":"IF(COUNTIF(N$2:N359,N359)=1,N359,\"\")","v":""},{"$f":"+IF(O359=\"\",\"\",MAX(P$1:P358)+1)","v":""},"",null,{"$f":"IF(CMS_Identification!G381=\"\",\"\",CMS_Identification!G381)","v":""},{"$f":"IF(CMS_Identification!B381=\"\",\"\",CMS_Identification!B381)","v":""},{"$f":"IF(COUNTIF(S$2:S359,S359)=1,S359,\"\")","v":""},{"$f":"+IF(U359=\"\",\"\",MAX(V$1:V358)+1)","v":""},"",null,{"$f":"IF(CMS_Identification!G381=\"\",\"\",CMS_Identification!G381)","v":""},{"$f":"IF(CMS_Identification!D381=\"\",\"\",CMS_Identification!D381)","v":""},null,null,null,{"$f":"IF(CMS_Identification!B381=\"\",\"\",CMS_Identification!B381)","v":""},{"$f":"IF(CMS_Identification!G381=\"\",\"\",CMS_Identification!G381)","v":""},{"$f":"IF(CMS_Identification!D381=\"\",\"\",CMS_Identification!D381)","v":""}]
[null,null,null,null,null,null,null,null,{"$f":"IF(LDAR_TT_summary!C282=\"\",\"\",LDAR_TT_summary!C282)","v":""},{"$f":"IF(COUNTIF(I$2:I360,I360)=1,I360,\"\")","v":""},{"$f":"+IF(J360=\"\",\"\",MAX(K$1:K359)+1)","v":""},"",null,{"$f":"IF(LDAR_H_UU_summary!C182=\"\",\"\",LDAR_H_UU_summary!C182)","v":""},{"$f":"IF(COUNTIF(N$2:N360,N360)=1,N360,\"\")","v":""},{"$f":"+IF(O360=\"\",\"\",MAX(P$1:P359)+1)","v":""},"",null,{"$f":"IF(CMS_Identification!G382=\"\",\"\",CMS_Identification!G382)","v":""},{"$f":"IF(CMS_Identification!B382=\"\",\"\",CMS_Identification!B382)","v":""},{"$f":"IF(COUNTIF(S$2:S360,S360)=1,S360,\"\")","v":""},{"$f":"+IF(U360=\"\",\"\",MAX(V$1:V359)+1)","v":""},"",null,{"$f":"IF(CMS_Identification!G382=\"\",\"\",CMS_Identification!G382)","v":""},{"$f":"IF(CMS_Identification!D382=\"\",\"\",CMS_Identification!D382)","v":""},null,null,null,{"$f":"IF(CMS_Identification!B382=\"\",\"\",CMS_Identification!B382)","v":""},{"$f":"IF(CMS_Identification!G382=\"\",\"\",CMS_Identification!G382)","v":""},{"$f":"IF(CMS_Identification!D382=\"\",\"\",CMS_Identification!D382)","v":""}]
[null,null,null,null,null,null,null,null,{"$f":"IF(LDAR_TT_summary!C283=\"\",\"\",LDAR_TT_summary!C283)","v":""},{"$f":"IF(COUNTIF(I$2:I361,I361)=1,I361,\"\")","v":""},{"$f":"+IF(J361=\"\",\"\",MAX(K$1:K360)+1)","v":""},"",null,{"$f":"IF(LDAR_H_UU_summary!C183=\"\",\"\",LDAR_H_UU_summary!C183)","v":""},{"$f":"IF(COUNTIF(N$2:N361,N361)=1,N361,\"\")","v":""},{"$f":"+IF(O361=\"\",\"\",MAX(P$1:P360)+1)","v":""},"",null,{"$f":"IF(CMS_Identification!G383=\"\",\"\",CMS_Identification!G383)","v":""},{"$f":"IF(CMS_Identification!B383=\"\",\"\",CMS_Identification!B383)","v":""},{"$f":"IF(COUNTIF(S$2:S361,S361)=1,S361,\"\")","v":""},{"$f":"+IF(U361=\"\",\"\",MAX(V$1:V360)+1)","v":""},"",null,{"$f":"IF(CMS_Identification!G383=\"\",\"\",CMS_Identification!G383)","v":""},{"$f":"IF(CMS_Identification!D383=\"\",\"\",CMS_Identification!D383)","v":""},null,null,null,{"$f":"IF(CMS_Identification!B383=\"\",\"\",CMS_Identification!B383)","v":""},{"$f":"IF(CMS_Identification!G383=\"\",\"\",CMS_Identification!G383)","v":""},{"$f":"IF(CMS_Identification!D383=\"\",\"\",CMS_Identification!D383)","v":""}]
[null,null,null,null,null,null,null,null,{"$f":"IF(LDAR_TT_summary!C284=\"\",\"\",LDAR_TT_summary!C284)","v":""},{"$f":"IF(COUNTIF(I$2:I362,I362)=1,I362,\"\")","v":""},{"$f":"+IF(J362=\"\",\"\",MAX(K$1:K361)+1)","v":""},"",null,{"$f":"IF(LDAR_H_UU_summary!C184=\"\",\"\",LDAR_H_UU_summary!C184)","v":""},{"$f":"IF(COUNTIF(N$2:N362,N362)=1,N362,\"\")","v":""},{"$f":"+IF(O362=\"\",\"\",MAX(P$1:P361)+1)","v":""},"",null,{"$f":"IF(CMS_Identification!G384=\"\",\"\",CMS_Identification!G384)","v":""},{"$f":"IF(CMS_Identification!B384=\"\",\"\",CMS_Identification!B384)","v":""},{"$f":"IF(COUNTIF(S$2:S362,S362)=1,S362,\"\")","v":""},{"$f":"+IF(U362=\"\",\"\",MAX(V$1:V361)+1)","v":""},"",null,{"$f":"IF(CMS_Identification!G384=\"\",\"\",CMS_Identification!G384)","v":""},{"$f":"IF(CMS_Identification!D384=\"\",\"\",CMS_Identification!D384)","v":""},null,null,null,{"$f":"IF(CMS_Identification!B384=\"\",\"\",CMS_Identification!B384)","v":""},{"$f":"IF(CMS_Identification!G384=\"\",\"\",CMS_Identification!G384)","v":""},{"$f":"IF(CMS_Identification!D384=\"\",\"\",CMS_Identification!D384)","v":""}]
[null,null,null,null,null,null,null,null,{"$f":"IF(LDAR_TT_summary!C285=\"\",\"\",LDAR_TT_summary!C285)","v":""},{"$f":"IF(COUNTIF(I$2:I363,I363)=1,I363,\"\")","v":""},{"$f":"+IF(J363=\"\",\"\",MAX(K$1:K362)+1)","v":""},"",null,{"$f":"IF(LDAR_H_UU_summary!C185=\"\",\"\",LDAR_H_UU_summary!C185)","v":""},{"$f":"IF(COUNTIF(N$2:N363,N363)=1,N363,\"\")","v":""},{"$f":"+IF(O363=\"\",\"\",MAX(P$1:P362)+1)","v":""},"",null,{"$f":"IF(CMS_Identification!G385=\"\",\"\",CMS_Identification!G385)","v":""},{"$f":"IF(CMS_Identification!B385=\"\",\"\",CMS_Identification!B385)","v":""},{"$f":"IF(COUNTIF(S$2:S363,S363)=1,S363,\"\")","v":""},{"$f":"+IF(U363=\"\",\"\",MAX(V$1:V362)+1)","v":""},"",null,{"$f":"IF(CMS_Identification!G385=\"\",\"\",CMS_Identification!G385)","v":""},{"$f":"IF(CMS_Identification!D385=\"\",\"\",CMS_Identification!D385)","v":""},null,null,null,{"$f":"IF(CMS_Identification!B385=\"\",\"\",CMS_Identification!B385)","v":""},{"$f":"IF(CMS_Identification!G385=\"\",\"\",CMS_Identification!G385)","v":""},{"$f":"IF(CMS_Identification!D385=\"\",\"\",CMS_Identification!D385)","v":""}]
[null,null,null,null,null,null,null,null,{"$f":"IF(LDAR_TT_summary!C286=\"\",\"\",LDAR_TT_summary!C286)","v":""},{"$f":"IF(COUNTIF(I$2:I364,I364)=1,I364,\"\")","v":""},{"$f":"+IF(J364=\"\",\"\",MAX(K$1:K363)+1)","v":""},"",null,{"$f":"IF(LDAR_H_UU_summary!C186=\"\",\"\",LDAR_H_UU_summary!C186)","v":""},{"$f":"IF(COUNTIF(N$2:N364,N364)=1,N364,\"\")","v":""},{"$f":"+IF(O364=\"\",\"\",MAX(P$1:P363)+1)","v":""},"",null,{"$f":"IF(CMS_Identification!G386=\"\",\"\",CMS_Identification!G386)","v":""},{"$f":"IF(CMS_Identification!B386=\"\",\"\",CMS_Identification!B386)","v":""},{"$f":"IF(COUNTIF(S$2:S364,S364)=1,S364,\"\")","v":""},{"$f":"+IF(U364=\"\",\"\",MAX(V$1:V363)+1)","v":""},"",null,{"$f":"IF(CMS_Identification!G386=\"\",\"\",CMS_Identification!G386)","v":""},{"$f":"IF(CMS_Identification!D386=\"\",\"\",CMS_Identification!D386)","v":""},null,null,null,{"$f":"IF(CMS_Identification!B386=\"\",\"\",CMS_Identification!B386)","v":""},{"$f":"IF(CMS_Identification!G386=\"\",\"\",CMS_Identification!G386)","v":""},{"$f":"IF(CMS_Identification!D386=\"\",\"\",CMS_Identification!D386)","v":""}]
[null,null,null,null,null,null,null,null,{"$f":"IF(LDAR_TT_summary!C287=\"\",\"\",LDAR_TT_summary!C287)","v":""},{"$f":"IF(COUNTIF(I$2:I365,I365)=1,I365,\"\")","v":""},{"$f":"+IF(J365=\"\",\"\",MAX(K$1:K364)+1)","v":""},"",null,{"$f":"IF(LDAR_H_UU_summary!C187=\"\",\"\",LDAR_H_UU_summary!C187)","v":""},{"$f":"IF(COUNTIF(N$2:N365,N365)=1,N365,\"\")","v":""},{"$f":"+IF(O365=\"\",\"\",MAX(P$1:P364)+1)","v":""},"",null,{"$f":"IF(CMS_Identification!G387=\"\",\"\",CMS_Identification!G387)","v":""},{"$f":"IF(CMS_Identification!B387=\"\",\"\",CMS_Identification!B387)","v":""},{"$f":"IF(COUNTIF(S$2:S365,S365)=1,S365,\"\")","v":""},{"$f":"+IF(U365=\"\",\"\",MAX(V$1:V364)+1)","v":""},"",null,{"$f":"IF(CMS_Identification!G387=\"\",\"\",CMS_Identification!G387)","v":""},{"$f":"IF(CMS_Identification!D387=\"\",\"\",CMS_Identification!D387)","v":""},null,null,null,{"$f":"IF(CMS_Identification!B387=\"\",\"\",CMS_Identification!B387)","v":""},{"$f":"IF(CMS_Identification!G387=\"\",\"\",CMS_Identification!G387)","v":""},{"$f":"IF(CMS_Identification!D387=\"\",\"\",CMS_Identification!D387)","v":""}]
[null,null,null,null,null,null,null,null,{"$f":"IF(LDAR_TT_summary!C288=\"\",\"\",LDAR_TT_summary!C288)","v":""},{"$f":"IF(COUNTIF(I$2:I366,I366)=1,I366,\"\")","v":""},{"$f":"+IF(J366=\"\",\"\",MAX(K$1:K365)+1)","v":""},"",null,{"$f":"IF(LDAR_H_UU_summary!C188=\"\",\"\",LDAR_H_UU_summary!C188)","v":""},{"$f":"IF(COUNTIF(N$2:N366,N366)=1,N366,\"\")","v":""},{"$f":"+IF(O366=\"\",\"\",MAX(P$1:P365)+1)","v":""},"",null,{"$f":"IF(CMS_Identification!G388=\"\",\"\",CMS_Identification!G388)","v":""},{"$f":"IF(CMS_Identification!B388=\"\",\"\",CMS_Identification!B388)","v":""},{"$f":"IF(COUNTIF(S$2:S366,S366)=1,S366,\"\")","v":""},{"$f":"+IF(U366=\"\",\"\",MAX(V$1:V365)+1)","v":""},"",null,{"$f":"IF(CMS_Identification!G388=\"\",\"\",CMS_Identification!G388)","v":""},{"$f":"IF(CMS_Identification!D388=\"\",\"\",CMS_Identification!D388)","v":""},null,null,null,{"$f":"IF(CMS_Identification!B388=\"\",\"\",CMS_Identification!B388)","v":""},{"$f":"IF(CMS_Identification!G388=\"\",\"\",CMS_Identification!G388)","v":""},{"$f":"IF(CMS_Identification!D388=\"\",\"\",CMS_Identification!D388)","v":""}]
[null,null,null,null,null,null,null,null,{"$f":"IF(LDAR_TT_summary!C289=\"\",\"\",LDAR_TT_summary!C289)","v":""},{"$f":"IF(COUNTIF(I$2:I367,I367)=1,I367,\"\")","v":""},{"$f":"+IF(J367=\"\",\"\",MAX(K$1:K366)+1)","v":""},"",null,{"$f":"IF(LDAR_H_UU_summary!C189=\"\",\"\",LDAR_H_UU_summary!C189)","v":""},{"$f":"IF(COUNTIF(N$2:N367,N367)=1,N367,\"\")","v":""},{"$f":"+IF(O367=\"\",\"\",MAX(P$1:P366)+1)","v":""},"",null,{"$f":"IF(CMS_Identification!G389=\"\",\"\",CMS_Identification!G389)","v":""},{"$f":"IF(CMS_Identification!B389=\"\",\"\",CMS_Identification!B389)","v":""},{"$f":"IF(COUNTIF(S$2:S367,S367)=1,S367,\"\")","v":""},{"$f":"+IF(U367=\"\",\"\",MAX(V$1:V366)+1)","v":""},"",null,{"$f":"IF(CMS_Identification!G389=\"\",\"\",CMS_Identification!G389)","v":""},{"$f":"IF(CMS_Identification!D389=\"\",\"\",CMS_Identification!D389)","v":""},null,null,null,{"$f":"IF(CMS_Identification!B389=\"\",\"\",CMS_Identification!B389)","v":""},{"$f":"IF(CMS_Identification!G389=\"\",\"\",CMS_Identification!G389)","v":""},{"$f":"IF(CMS_Identification!D389=\"\",\"\",CMS_Identification!D389)","v":""}]
[null,null,null,null,null,null,null,null,{"$f":"IF(LDAR_TT_summary!C290=\"\",\"\",LDAR_TT_summary!C290)","v":""},{"$f":"IF(COUNTIF(I$2:I368,I368)=1,I368,\"\")","v":""},{"$f":"+IF(J368=\"\",\"\",MAX(K$1:K367)+1)","v":""},"",null,{"$f":"IF(LDAR_H_UU_summary!C190=\"\",\"\",LDAR_H_UU_summary!C190)","v":""},{"$f":"IF(COUNTIF(N$2:N368,N368)=1,N368,\"\")","v":""},{"$f":"+IF(O368=\"\",\"\",MAX(P$1:P367)+1)","v":""},"",null,{"$f":"IF(CMS_Identification!G390=\"\",\"\",CMS_Identification!G390)","v":""},{"$f":"IF(CMS_Identification!B390=\"\",\"\",CMS_Identification!B390)","v":""},{"$f":"IF(COUNTIF(S$2:S368,S368)=1,S368,\"\")","v":""},{"$f":"+IF(U368=\"\",\"\",MAX(V$1:V367)+1)","v":""},"",null,{"$f":"IF(CMS_Identification!G390=\"\",\"\",CMS_Identification!G390)","v":""},{"$f":"IF(CMS_Identification!D390=\"\",\"\",CMS_Identification!D390)","v":""},null,null,null,{"$f":"IF(CMS_Identification!B390=\"\",\"\",CMS_Identification!B390)","v":""},{"$f":"IF(CMS_Identification!G390=\"\",\"\",CMS_Identification!G390)","v":""},{"$f":"IF(CMS_Identification!D390=\"\",\"\",CMS_Identification!D390)","v":""}]
[null,null,null,null,null,null,null,null,{"$f":"IF(LDAR_TT_summary!C291=\"\",\"\",LDAR_TT_summary!C291)","v":""},{"$f":"IF(COUNTIF(I$2:I369,I369)=1,I369,\"\")","v":""},{"$f":"+IF(J369=\"\",\"\",MAX(K$1:K368)+1)","v":""},"",null,{"$f":"IF(LDAR_H_UU_summary!C191=\"\",\"\",LDAR_H_UU_summary!C191)","v":""},{"$f":"IF(COUNTIF(N$2:N369,N369)=1,N369,\"\")","v":""},{"$f":"+IF(O369=\"\",\"\",MAX(P$1:P368)+1)","v":""},"",null,{"$f":"IF(CMS_Identification!G391=\"\",\"\",CMS_Identification!G391)","v":""},{"$f":"IF(CMS_Identification!B391=\"\",\"\",CMS_Identification!B391)","v":""},{"$f":"IF(COUNTIF(S$2:S369,S369)=1,S369,\"\")","v":""},{"$f":"+IF(U369=\"\",\"\",MAX(V$1:V368)+1)","v":""},"",null,{"$f":"IF(CMS_Identification!G391=\"\",\"\",CMS_Identification!G391)","v":""},{"$f":"IF(CMS_Identification!D391=\"\",\"\",CMS_Identification!D391)","v":""},null,null,null,{"$f":"IF(CMS_Identification!B391=\"\",\"\",CMS_Identification!B391)","v":""},{"$f":"IF(CMS_Identification!G391=\"\",\"\",CMS_Identification!G391)","v":""},{"$f":"IF(CMS_Identification!D391=\"\",\"\",CMS_Identification!D391)","v":""}]
[null,null,null,null,null,null,null,null,{"$f":"IF(LDAR_TT_summary!C292=\"\",\"\",LDAR_TT_summary!C292)","v":""},{"$f":"IF(COUNTIF(I$2:I370,I370)=1,I370,\"\")","v":""},{"$f":"+IF(J370=\"\",\"\",MAX(K$1:K369)+1)","v":""},"",null,{"$f":"IF(LDAR_H_UU_summary!C192=\"\",\"\",LDAR_H_UU_summary!C192)","v":""},{"$f":"IF(COUNTIF(N$2:N370,N370)=1,N370,\"\")","v":""},{"$f":"+IF(O370=\"\",\"\",MAX(P$1:P369)+1)","v":""},"",null,{"$f":"IF(CMS_Identification!G392=\"\",\"\",CMS_Identification!G392)","v":""},{"$f":"IF(CMS_Identification!B392=\"\",\"\",CMS_Identification!B392)","v":""},{"$f":"IF(COUNTIF(S$2:S370,S370)=1,S370,\"\")","v":""},{"$f":"+IF(U370=\"\",\"\",MAX(V$1:V369)+1)","v":""},"",null,{"$f":"IF(CMS_Identification!G392=\"\",\"\",CMS_Identification!G392)","v":""},{"$f":"IF(CMS_Identification!D392=\"\",\"\",CMS_Identification!D392)","v":""},null,null,null,{"$f":"IF(CMS_Identification!B392=\"\",\"\",CMS_Identification!B392)","v":""},{"$f":"IF(CMS_Identification!G392=\"\",\"\",CMS_Identification!G392)","v":""},{"$f":"IF(CMS_Identification!D392=\"\",\"\",CMS_Identification!D392)","v":""}]
[null,null,null,null,null,null,null,null,{"$f":"IF(LDAR_TT_summary!C293=\"\",\"\",LDAR_TT_summary!C293)","v":""},{"$f":"IF(COUNTIF(I$2:I371,I371)=1,I371,\"\")","v":""},{"$f":"+IF(J371=\"\",\"\",MAX(K$1:K370)+1)","v":""},"",null,{"$f":"IF(LDAR_H_UU_summary!C193=\"\",\"\",LDAR_H_UU_summary!C193)","v":""},{"$f":"IF(COUNTIF(N$2:N371,N371)=1,N371,\"\")","v":""},{"$f":"+IF(O371=\"\",\"\",MAX(P$1:P370)+1)","v":""},"",null,{"$f":"IF(CMS_Identification!G393=\"\",\"\",CMS_Identification!G393)","v":""},{"$f":"IF(CMS_Identification!B393=\"\",\"\",CMS_Identification!B393)","v":""},{"$f":"IF(COUNTIF(S$2:S371,S371)=1,S371,\"\")","v":""},{"$f":"+IF(U371=\"\",\"\",MAX(V$1:V370)+1)","v":""},"",null,{"$f":"IF(CMS_Identification!G393=\"\",\"\",CMS_Identification!G393)","v":""},{"$f":"IF(CMS_Identification!D393=\"\",\"\",CMS_Identification!D393)","v":""},null,null,null,{"$f":"IF(CMS_Identification!B393=\"\",\"\",CMS_Identification!B393)","v":""},{"$f":"IF(CMS_Identification!G393=\"\",\"\",CMS_Identification!G393)","v":""},{"$f":"IF(CMS_Identification!D393=\"\",\"\",CMS_Identification!D393)","v":""}]
[null,null,null,null,null,null,null,null,{"$f":"IF(LDAR_TT_summary!C294=\"\",\"\",LDAR_TT_summary!C294)","v":""},{"$f":"IF(COUNTIF(I$2:I372,I372)=1,I372,\"\")","v":""},{"$f":"+IF(J372=\"\",\"\",MAX(K$1:K371)+1)","v":""},"",null,{"$f":"IF(LDAR_H_UU_summary!C194=\"\",\"\",LDAR_H_UU_summary!C194)","v":""},{"$f":"IF(COUNTIF(N$2:N372,N372)=1,N372,\"\")","v":""},{"$f":"+IF(O372=\"\",\"\",MAX(P$1:P371)+1)","v":""},"",null,{"$f":"IF(CMS_Identification!G394=\"\",\"\",CMS_Identification!G394)","v":""},{"$f":"IF(CMS_Identification!B394=\"\",\"\",CMS_Identification!B394)","v":""},{"$f":"IF(COUNTIF(S$2:S372,S372)=1,S372,\"\")","v":""},{"$f":"+IF(U372=\"\",\"\",MAX(V$1:V371)+1)","v":""},"",null,{"$f":"IF(CMS_Identification!G394=\"\",\"\",CMS_Identification!G394)","v":""},{"$f":"IF(CMS_Identification!D394=\"\",\"\",CMS_Identification!D394)","v":""},null,null,null,{"$f":"IF(CMS_Identification!B394=\"\",\"\",CMS_Identification!B394)","v":""},{"$f":"IF(CMS_Identification!G394=\"\",\"\",CMS_Identification!G394)","v":""},{"$f":"IF(CMS_Identification!D394=\"\",\"\",CMS_Identification!D394)","v":""}]
[null,null,null,null,null,null,null,null,{"$f":"IF(LDAR_TT_summary!C295=\"\",\"\",LDAR_TT_summary!C295)","v":""},{"$f":"IF(COUNTIF(I$2:I373,I373)=1,I373,\"\")","v":""},{"$f":"+IF(J373=\"\",\"\",MAX(K$1:K372)+1)","v":""},"",null,{"$f":"IF(LDAR_H_UU_summary!C195=\"\",\"\",LDAR_H_UU_summary!C195)","v":""},{"$f":"IF(COUNTIF(N$2:N373,N373)=1,N373,\"\")","v":""},{"$f":"+IF(O373=\"\",\"\",MAX(P$1:P372)+1)","v":""},"",null,{"$f":"IF(CMS_Identification!G395=\"\",\"\",CMS_Identification!G395)","v":""},{"$f":"IF(CMS_Identification!B395=\"\",\"\",CMS_Identification!B395)","v":""},{"$f":"IF(COUNTIF(S$2:S373,S373)=1,S373,\"\")","v":""},{"$f":"+IF(U373=\"\",\"\",MAX(V$1:V372)+1)","v":""},"",null,{"$f":"IF(CMS_Identification!G395=\"\",\"\",CMS_Identification!G395)","v":""},{"$f":"IF(CMS_Identification!D395=\"\",\"\",CMS_Identification!D395)","v":""},null,null,null,{"$f":"IF(CMS_Identification!B395=\"\",\"\",CMS_Identification!B395)","v":""},{"$f":"IF(CMS_Identification!G395=\"\",\"\",CMS_Identification!G395)","v":""},{"$f":"IF(CMS_Identification!D395=\"\",\"\",CMS_Identification!D395)","v":""}]
[null,null,null,null,null,null,null,null,{"$f":"IF(LDAR_TT_summary!C296=\"\",\"\",LDAR_TT_summary!C296)","v":""},{"$f":"IF(COUNTIF(I$2:I374,I374)=1,I374,\"\")","v":""},{"$f":"+IF(J374=\"\",\"\",MAX(K$1:K373)+1)","v":""},"",null,{"$f":"IF(LDAR_H_UU_summary!C196=\"\",\"\",LDAR_H_UU_summary!C196)","v":""},{"$f":"IF(COUNTIF(N$2:N374,N374)=1,N374,\"\")","v":""},{"$f":"+IF(O374=\"\",\"\",MAX(P$1:P373)+1)","v":""},"",null,{"$f":"IF(CMS_Identification!G396=\"\",\"\",CMS_Identification!G396)","v":""},{"$f":"IF(CMS_Identification!B396=\"\",\"\",CMS_Identification!B396)","v":""},{"$f":"IF(COUNTIF(S$2:S374,S374)=1,S374,\"\")","v":""},{"$f":"+IF(U374=\"\",\"\",MAX(V$1:V373)+1)","v":""},"",null,{"$f":"IF(CMS_Identification!G396=\"\",\"\",CMS_Identification!G396)","v":""},{"$f":"IF(CMS_Identification!D396=\"\",\"\",CMS_Identification!D396)","v":""},null,null,null,{"$f":"IF(CMS_Identification!B396=\"\",\"\",CMS_Identification!B396)","v":""},{"$f":"IF(CMS_Identification!G396=\"\",\"\",CMS_Identification!G396)","v":""},{"$f":"IF(CMS_Identification!D396=\"\",\"\",CMS_Identification!D396)","v":""}]
[null,null,null,null,null,null,null,null,{"$f":"IF(LDAR_TT_summary!C297=\"\",\"\",LDAR_TT_summary!C297)","v":""},{"$f":"IF(COUNTIF(I$2:I375,I375)=1,I375,\"\")","v":""},{"$f":"+IF(J375=\"\",\"\",MAX(K$1:K374)+1)","v":""},"",null,{"$f":"IF(LDAR_H_UU_summary!C197=\"\",\"\",LDAR_H_UU_summary!C197)","v":""},{"$f":"IF(COUNTIF(N$2:N375,N375)=1,N375,\"\")","v":""},{"$f":"+IF(O375=\"\",\"\",MAX(P$1:P374)+1)","v":""},"",null,{"$f":"IF(CMS_Identification!G397=\"\",\"\",CMS_Identification!G397)","v":""},{"$f":"IF(CMS_Identification!B397=\"\",\"\",CMS_Identification!B397)","v":""},{"$f":"IF(COUNTIF(S$2:S375,S375)=1,S375,\"\")","v":""},{"$f":"+IF(U375=\"\",\"\",MAX(V$1:V374)+1)","v":""},"",null,{"$f":"IF(CMS_Identification!G397=\"\",\"\",CMS_Identification!G397)","v":""},{"$f":"IF(CMS_Identification!D397=\"\",\"\",CMS_Identification!D397)","v":""},null,null,null,{"$f":"IF(CMS_Identification!B397=\"\",\"\",CMS_Identification!B397)","v":""},{"$f":"IF(CMS_Identification!G397=\"\",\"\",CMS_Identification!G397)","v":""},{"$f":"IF(CMS_Identification!D397=\"\",\"\",CMS_Identification!D397)","v":""}]
[null,null,null,null,null,null,null,null,{"$f":"IF(LDAR_TT_summary!C298=\"\",\"\",LDAR_TT_summary!C298)","v":""},{"$f":"IF(COUNTIF(I$2:I376,I376)=1,I376,\"\")","v":""},{"$f":"+IF(J376=\"\",\"\",MAX(K$1:K375)+1)","v":""},"",null,{"$f":"IF(LDAR_H_UU_summary!C198=\"\",\"\",LDAR_H_UU_summary!C198)","v":""},{"$f":"IF(COUNTIF(N$2:N376,N376)=1,N376,\"\")","v":""},{"$f":"+IF(O376=\"\",\"\",MAX(P$1:P375)+1)","v":""},"",null,{"$f":"IF(CMS_Identification!G398=\"\",\"\",CMS_Identification!G398)","v":""},{"$f":"IF(CMS_Identification!B398=\"\",\"\",CMS_Identification!B398)","v":""},{"$f":"IF(COUNTIF(S$2:S376,S376)=1,S376,\"\")","v":""},{"$f":"+IF(U376=\"\",\"\",MAX(V$1:V375)+1)","v":""},"",null,{"$f":"IF(CMS_Identification!G398=\"\",\"\",CMS_Identification!G398)","v":""},{"$f":"IF(CMS_Identification!D398=\"\",\"\",CMS_Identification!D398)","v":""},null,null,null,{"$f":"IF(CMS_Identification!B398=\"\",\"\",CMS_Identification!B398)","v":""},{"$f":"IF(CMS_Identification!G398=\"\",\"\",CMS_Identification!G398)","v":""},{"$f":"IF(CMS_Identification!D398=\"\",\"\",CMS_Identification!D398)","v":""}]
[null,null,null,null,null,null,null,null,{"$f":"IF(LDAR_TT_summary!C299=\"\",\"\",LDAR_TT_summary!C299)","v":""},{"$f":"IF(COUNTIF(I$2:I377,I377)=1,I377,\"\")","v":""},{"$f":"+IF(J377=\"\",\"\",MAX(K$1:K376)+1)","v":""},"",null,{"$f":"IF(LDAR_H_UU_summary!C199=\"\",\"\",LDAR_H_UU_summary!C199)","v":""},{"$f":"IF(COUNTIF(N$2:N377,N377)=1,N377,\"\")","v":""},{"$f":"+IF(O377=\"\",\"\",MAX(P$1:P376)+1)","v":""},"",null,{"$f":"IF(CMS_Identification!G399=\"\",\"\",CMS_Identification!G399)","v":""},{"$f":"IF(CMS_Identification!B399=\"\",\"\",CMS_Identification!B399)","v":""},{"$f":"IF(COUNTIF(S$2:S377,S377)=1,S377,\"\")","v":""},{"$f":"+IF(U377=\"\",\"\",MAX(V$1:V376)+1)","v":""},"",null,{"$f":"IF(CMS_Identification!G399=\"\",\"\",CMS_Identification!G399)","v":""},{"$f":"IF(CMS_Identification!D399=\"\",\"\",CMS_Identification!D399)","v":""},null,null,null,{"$f":"IF(CMS_Identification!B399=\"\",\"\",CMS_Identification!B399)","v":""},{"$f":"IF(CMS_Identification!G399=\"\",\"\",CMS_Identification!G399)","v":""},{"$f":"IF(CMS_Identification!D399=\"\",\"\",CMS_Identification!D399)","v":""}]
[null,null,null,null,null,null,null,null,{"$f":"IF(LDAR_TT_summary!C300=\"\",\"\",LDAR_TT_summary!C300)","v":""},{"$f":"IF(COUNTIF(I$2:I378,I378)=1,I378,\"\")","v":""},{"$f":"+IF(J378=\"\",\"\",MAX(K$1:K377)+1)","v":""},"",null,{"$f":"IF(LDAR_H_UU_summary!C200=\"\",\"\",LDAR_H_UU_summary!C200)","v":""},{"$f":"IF(COUNTIF(N$2:N378,N378)=1,N378,\"\")","v":""},{"$f":"+IF(O378=\"\",\"\",MAX(P$1:P377)+1)","v":""},"",null,{"$f":"IF(CMS_Identification!G400=\"\",\"\",CMS_Identification!G400)","v":""},{"$f":"IF(CMS_Identification!B400=\"\",\"\",CMS_Identification!B400)","v":""},{"$f":"IF(COUNTIF(S$2:S378,S378)=1,S378,\"\")","v":""},{"$f":"+IF(U378=\"\",\"\",MAX(V$1:V377)+1)","v":""},"",null,{"$f":"IF(CMS_Identification!G400=\"\",\"\",CMS_Identification!G400)","v":""},{"$f":"IF(CMS_Identification!D400=\"\",\"\",CMS_Identification!D400)","v":""},null,null,null,{"$f":"IF(CMS_Identification!B400=\"\",\"\",CMS_Identification!B400)","v":""},{"$f":"IF(CMS_Identification!G400=\"\",\"\",CMS_Identification!G400)","v":""},{"$f":"IF(CMS_Identification!D400=\"\",\"\",CMS_Identification!D400)","v":""}]
[null,null,null,null,null,null,null,null,{"$f":"IF(LDAR_TT_summary!C301=\"\",\"\",LDAR_TT_summary!C301)","v":""},{"$f":"IF(COUNTIF(I$2:I379,I379)=1,I379,\"\")","v":""},{"$f":"+IF(J379=\"\",\"\",MAX(K$1:K378)+1)","v":""},"",null,{"$f":"IF(LDAR_H_UU_summary!C201=\"\",\"\",LDAR_H_UU_summary!C201)","v":""},{"$f":"IF(COUNTIF(N$2:N379,N379)=1,N379,\"\")","v":""},{"$f":"+IF(O379=\"\",\"\",MAX(P$1:P378)+1)","v":""},"",null,{"$f":"IF(CMS_Identification!G401=\"\",\"\",CMS_Identification!G401)","v":""},{"$f":"IF(CMS_Identification!B401=\"\",\"\",CMS_Identification!B401)","v":""},{"$f":"IF(COUNTIF(S$2:S379,S379)=1,S379,\"\")","v":""},{"$f":"+IF(U379=\"\",\"\",MAX(V$1:V378)+1)","v":""},"",null,{"$f":"IF(CMS_Identification!G401=\"\",\"\",CMS_Identification!G401)","v":""},{"$f":"IF(CMS_Identification!D401=\"\",\"\",CMS_Identification!D401)","v":""},null,null,null,{"$f":"IF(CMS_Identification!B401=\"\",\"\",CMS_Identification!B401)","v":""},{"$f":"IF(CMS_Identification!G401=\"\",\"\",CMS_Identification!G401)","v":""},{"$f":"IF(CMS_Identification!D401=\"\",\"\",CMS_Identification!D401)","v":""}]
[null,null,null,null,null,null,null,null,{"$f":"IF(LDAR_TT_summary!C302=\"\",\"\",LDAR_TT_summary!C302)","v":""},{"$f":"IF(COUNTIF(I$2:I380,I380)=1,I380,\"\")","v":""},{"$f":"+IF(J380=\"\",\"\",MAX(K$1:K379)+1)","v":""},"",null,{"$f":"IF(LDAR_H_UU_summary!C202=\"\",\"\",LDAR_H_UU_summary!C202)","v":""},{"$f":"IF(COUNTIF(N$2:N380,N380)=1,N380,\"\")","v":""},{"$f":"+IF(O380=\"\",\"\",MAX(P$1:P379)+1)","v":""},"",null,{"$f":"IF(CMS_Identification!G402=\"\",\"\",CMS_Identification!G402)","v":""},{"$f":"IF(CMS_Identification!B402=\"\",\"\",CMS_Identification!B402)","v":""},{"$f":"IF(COUNTIF(S$2:S380,S380)=1,S380,\"\")","v":""},{"$f":"+IF(U380=\"\",\"\",MAX(V$1:V379)+1)","v":""},"",null,{"$f":"IF(CMS_Identification!G402=\"\",\"\",CMS_Identification!G402)","v":""},{"$f":"IF(CMS_Identification!D402=\"\",\"\",CMS_Identification!D402)","v":""},null,null,null,{"$f":"IF(CMS_Identification!B402=\"\",\"\",CMS_Identification!B402)","v":""},{"$f":"IF(CMS_Identification!G402=\"\",\"\",CMS_Identification!G402)","v":""},{"$f":"IF(CMS_Identification!D402=\"\",\"\",CMS_Identification!D402)","v":""}]
[null,null,null,null,null,null,null,null,{"$f":"IF(LDAR_TT_summary!C303=\"\",\"\",LDAR_TT_summary!C303)","v":""},{"$f":"IF(COUNTIF(I$2:I381,I381)=1,I381,\"\")","v":""},{"$f":"+IF(J381=\"\",\"\",MAX(K$1:K380)+1)","v":""},"",null,{"$f":"IF(LDAR_H_UU_summary!C203=\"\",\"\",LDAR_H_UU_summary!C203)","v":""},{"$f":"IF(COUNTIF(N$2:N381,N381)=1,N381,\"\")","v":""},{"$f":"+IF(O381=\"\",\"\",MAX(P$1:P380)+1)","v":""},"",null,{"$f":"IF(CMS_Identification!G403=\"\",\"\",CMS_Identification!G403)","v":""},{"$f":"IF(CMS_Identification!B403=\"\",\"\",CMS_Identification!B403)","v":""},{"$f":"IF(COUNTIF(S$2:S381,S381)=1,S381,\"\")","v":""},{"$f":"+IF(U381=\"\",\"\",MAX(V$1:V380)+1)","v":""},"",null,{"$f":"IF(CMS_Identification!G403=\"\",\"\",CMS_Identification!G403)","v":""},{"$f":"IF(CMS_Identification!D403=\"\",\"\",CMS_Identification!D403)","v":""},null,null,null,{"$f":"IF(CMS_Identification!B403=\"\",\"\",CMS_Identification!B403)","v":""},{"$f":"IF(CMS_Identification!G403=\"\",\"\",CMS_Identification!G403)","v":""},{"$f":"IF(CMS_Identification!D403=\"\",\"\",CMS_Identification!D403)","v":""}]
[null,null,null,null,null,null,null,null,{"$f":"IF(LDAR_TT_summary!C304=\"\",\"\",LDAR_TT_summary!C304)","v":""},{"$f":"IF(COUNTIF(I$2:I382,I382)=1,I382,\"\")","v":""},{"$f":"+IF(J382=\"\",\"\",MAX(K$1:K381)+1)","v":""},"",null,{"$f":"IF(LDAR_H_UU_summary!C204=\"\",\"\",LDAR_H_UU_summary!C204)","v":""},{"$f":"IF(COUNTIF(N$2:N382,N382)=1,N382,\"\")","v":""},{"$f":"+IF(O382=\"\",\"\",MAX(P$1:P381)+1)","v":""},"",null,{"$f":"IF(CMS_Identification!G404=\"\",\"\",CMS_Identification!G404)","v":""},{"$f":"IF(CMS_Identification!B404=\"\",\"\",CMS_Identification!B404)","v":""},{"$f":"IF(COUNTIF(S$2:S382,S382)=1,S382,\"\")","v":""},{"$f":"+IF(U382=\"\",\"\",MAX(V$1:V381)+1)","v":""},"",null,{"$f":"IF(CMS_Identification!G404=\"\",\"\",CMS_Identification!G404)","v":""},{"$f":"IF(CMS_Identification!D404=\"\",\"\",CMS_Identification!D404)","v":""},null,null,null,{"$f":"IF(CMS_Identification!B404=\"\",\"\",CMS_Identification!B404)","v":""},{"$f":"IF(CMS_Identification!G404=\"\",\"\",CMS_Identification!G404)","v":""},{"$f":"IF(CMS_Identification!D404=\"\",\"\",CMS_Identification!D404)","v":""}]
[null,null,null,null,null,null,null,null,{"$f":"IF(LDAR_TT_summary!C305=\"\",\"\",LDAR_TT_summary!C305)","v":""},{"$f":"IF(COUNTIF(I$2:I383,I383)=1,I383,\"\")","v":""},{"$f":"+IF(J383=\"\",\"\",MAX(K$1:K382)+1)","v":""},"",null,{"$f":"IF(LDAR_H_UU_summary!C205=\"\",\"\",LDAR_H_UU_summary!C205)","v":""},{"$f":"IF(COUNTIF(N$2:N383,N383)=1,N383,\"\")","v":""},{"$f":"+IF(O383=\"\",\"\",MAX(P$1:P382)+1)","v":""},"",null,{"$f":"IF(CMS_Identification!G405=\"\",\"\",CMS_Identification!G405)","v":""},{"$f":"IF(CMS_Identification!B405=\"\",\"\",CMS_Identification!B405)","v":""},{"$f":"IF(COUNTIF(S$2:S383,S383)=1,S383,\"\")","v":""},{"$f":"+IF(U383=\"\",\"\",MAX(V$1:V382)+1)","v":""},"",null,{"$f":"IF(CMS_Identification!G405=\"\",\"\",CMS_Identification!G405)","v":""},{"$f":"IF(CMS_Identification!D405=\"\",\"\",CMS_Identification!D405)","v":""},null,null,null,{"$f":"IF(CMS_Identification!B405=\"\",\"\",CMS_Identification!B405)","v":""},{"$f":"IF(CMS_Identification!G405=\"\",\"\",CMS_Identification!G405)","v":""},{"$f":"IF(CMS_Identification!D405=\"\",\"\",CMS_Identification!D405)","v":""}]
[null,null,null,null,null,null,null,null,{"$f":"IF(LDAR_TT_summary!C306=\"\",\"\",LDAR_TT_summary!C306)","v":""},{"$f":"IF(COUNTIF(I$2:I384,I384)=1,I384,\"\")","v":""},{"$f":"+IF(J384=\"\",\"\",MAX(K$1:K383)+1)","v":""},"",null,{"$f":"IF(LDAR_H_UU_summary!C206=\"\",\"\",LDAR_H_UU_summary!C206)","v":""},{"$f":"IF(COUNTIF(N$2:N384,N384)=1,N384,\"\")","v":""},{"$f":"+IF(O384=\"\",\"\",MAX(P$1:P383)+1)","v":""},"",null,{"$f":"IF(CMS_Identification!G406=\"\",\"\",CMS_Identification!G406)","v":""},{"$f":"IF(CMS_Identification!B406=\"\",\"\",CMS_Identification!B406)","v":""},{"$f":"IF(COUNTIF(S$2:S384,S384)=1,S384,\"\")","v":""},{"$f":"+IF(U384=\"\",\"\",MAX(V$1:V383)+1)","v":""},"",null,{"$f":"IF(CMS_Identification!G406=\"\",\"\",CMS_Identification!G406)","v":""},{"$f":"IF(CMS_Identification!D406=\"\",\"\",CMS_Identification!D406)","v":""},null,null,null,{"$f":"IF(CMS_Identification!B406=\"\",\"\",CMS_Identification!B406)","v":""},{"$f":"IF(CMS_Identification!G406=\"\",\"\",CMS_Identification!G406)","v":""},{"$f":"IF(CMS_Identification!D406=\"\",\"\",CMS_Identification!D406)","v":""}]
[null,null,null,null,null,null,null,null,{"$f":"IF(LDAR_TT_summary!C307=\"\",\"\",LDAR_TT_summary!C307)","v":""},{"$f":"IF(COUNTIF(I$2:I385,I385)=1,I385,\"\")","v":""},{"$f":"+IF(J385=\"\",\"\",MAX(K$1:K384)+1)","v":""},"",null,{"$f":"IF(LDAR_H_UU_summary!C207=\"\",\"\",LDAR_H_UU_summary!C207)","v":""},{"$f":"IF(COUNTIF(N$2:N385,N385)=1,N385,\"\")","v":""},{"$f":"+IF(O385=\"\",\"\",MAX(P$1:P384)+1)","v":""},"",null,{"$f":"IF(CMS_Identification!G407=\"\",\"\",CMS_Identification!G407)","v":""},{"$f":"IF(CMS_Identification!B407=\"\",\"\",CMS_Identification!B407)","v":""},{"$f":"IF(COUNTIF(S$2:S385,S385)=1,S385,\"\")","v":""},{"$f":"+IF(U385=\"\",\"\",MAX(V$1:V384)+1)","v":""},"",null,{"$f":"IF(CMS_Identification!G407=\"\",\"\",CMS_Identification!G407)","v":""},{"$f":"IF(CMS_Identification!D407=\"\",\"\",CMS_Identification!D407)","v":""},null,null,null,{"$f":"IF(CMS_Identification!B407=\"\",\"\",CMS_Identification!B407)","v":""},{"$f":"IF(CMS_Identification!G407=\"\",\"\",CMS_Identification!G407)","v":""},{"$f":"IF(CMS_Identification!D407=\"\",\"\",CMS_Identification!D407)","v":""}]
[null,null,null,null,null,null,null,null,{"$f":"IF(LDAR_TT_summary!C308=\"\",\"\",LDAR_TT_summary!C308)","v":""},{"$f":"IF(COUNTIF(I$2:I386,I386)=1,I386,\"\")","v":""},{"$f":"+IF(J386=\"\",\"\",MAX(K$1:K385)+1)","v":""},"",null,{"$f":"IF(LDAR_H_UU_summary!C208=\"\",\"\",LDAR_H_UU_summary!C208)","v":""},{"$f":"IF(COUNTIF(N$2:N386,N386)=1,N386,\"\")","v":""},{"$f":"+IF(O386=\"\",\"\",MAX(P$1:P385)+1)","v":""},"",null,{"$f":"IF(CMS_Identification!G408=\"\",\"\",CMS_Identification!G408)","v":""},{"$f":"IF(CMS_Identification!B408=\"\",\"\",CMS_Identification!B408)","v":""},{"$f":"IF(COUNTIF(S$2:S386,S386)=1,S386,\"\")","v":""},{"$f":"+IF(U386=\"\",\"\",MAX(V$1:V385)+1)","v":""},{"$f":"+IFERROR(INDEX($S$2:$S$501,MATCH(ROW()-ROW($V$1),$V$2:$V$501,0)),\"\")","v":""},null,{"$f":"IF(CMS_Identification!G408=\"\",\"\",CMS_Identification!G408)","v":""},{"$f":"IF(CMS_Identification!D408=\"\",\"\",CMS_Identification!D408)","v":""},null,null,null,{"$f":"IF(CMS_Identification!B408=\"\",\"\",CMS_Identification!B408)","v":""},{"$f":"IF(CMS_Identification!G408=\"\",\"\",CMS_Identification!G408)","v":""},{"$f":"IF(CMS_Identification!D408=\"\",\"\",CMS_Identification!D408)","v":""}]
[null,null,null,null,null,null,null,null,{"$f":"IF(LDAR_TT_summary!C309=\"\",\"\",LDAR_TT_summary!C309)","v":""},{"$f":"IF(COUNTIF(I$2:I387,I387)=1,I387,\"\")","v":""},{"$f":"+IF(J387=\"\",\"\",MAX(K$1:K386)+1)","v":""},{"$f":"+IFERROR(INDEX($I$2:$I$801,MATCH(ROW()-ROW($K$1),$K$2:$K$801,0)),\"\")","v":""},null,{"$f":"IF(LDAR_H_UU_summary!C209=\"\",\"\",LDAR_H_UU_summary!C209)","v":""},{"$f":"IF(COUNTIF(N$2:N387,N387)=1,N387,\"\")","v":""},{"$f":"+IF(O387=\"\",\"\",MAX(P$1:P386)+1)","v":""},{"$f":"+IFERROR(INDEX($N$2:$N$2001,MATCH(ROW()-ROW($P$1),$P$2:$P$2001,0)),\"\")","v":""},null,{"$f":"IF(CMS_Identification!G409=\"\",\"\",CMS_Identification!G409)","v":""},{"$f":"IF(CMS_Identification!B409=\"\",\"\",CMS_Identification!B409)","v":""},{"$f":"IF(COUNTIF(S$2:S387,S387)=1,S387,\"\")","v":""},{"$f":"+IF(U387=\"\",\"\",MAX(V$1:V386)+1)","v":""},"",null,{"$f":"IF(CMS_Identification!G409=\"\",\"\",CMS_Identification!G409)","v":""},{"$f":"IF(CMS_Identification!D409=\"\",\"\",CMS_Identification!D409)","v":""},null,null,null,{"$f":"IF(CMS_Identification!B409=\"\",\"\",CMS_Identification!B409)","v":""},{"$f":"IF(CMS_Identification!G409=\"\",\"\",CMS_Identification!G409)","v":""},{"$f":"IF(CMS_Identification!D409=\"\",\"\",CMS_Identification!D409)","v":""}]
[null,null,null,null,null,null,null,null,{"$f":"IF(LDAR_TT_summary!C310=\"\",\"\",LDAR_TT_summary!C310)","v":""},{"$f":"IF(COUNTIF(I$2:I388,I388)=1,I388,\"\")","v":""},{"$f":"+IF(J388=\"\",\"\",MAX(K$1:K387)+1)","v":""},"",null,{"$f":"IF(LDAR_H_UU_summary!C210=\"\",\"\",LDAR_H_UU_summary!C210)","v":""},{"$f":"IF(COUNTIF(N$2:N388,N388)=1,N388,\"\")","v":""},{"$f":"+IF(O388=\"\",\"\",MAX(P$1:P387)+1)","v":""},"",null,{"$f":"IF(CMS_Identification!G410=\"\",\"\",CMS_Identification!G410)","v":""},{"$f":"IF(CMS_Identification!B410=\"\",\"\",CMS_Identification!B410)","v":""},{"$f":"IF(COUNTIF(S$2:S388,S388)=1,S388,\"\")","v":""},{"$f":"+IF(U388=\"\",\"\",MAX(V$1:V387)+1)","v":""},"",null,{"$f":"IF(CMS_Identification!G410=\"\",\"\",CMS_Identification!G410)","v":""},{"$f":"IF(CMS_Identification!D410=\"\",\"\",CMS_Identification!D410)","v":""},null,null,null,{"$f":"IF(CMS_Identification!B410=\"\",\"\",CMS_Identification!B410)","v":""},{"$f":"IF(CMS_Identification!G410=\"\",\"\",CMS_Identification!G410)","v":""},{"$f":"IF(CMS_Identification!D410=\"\",\"\",CMS_Identification!D410)","v":""}]
[null,null,null,null,null,null,null,null,{"$f":"IF(LDAR_TT_summary!C311=\"\",\"\",LDAR_TT_summary!C311)","v":""},{"$f":"IF(COUNTIF(I$2:I389,I389)=1,I389,\"\")","v":""},{"$f":"+IF(J389=\"\",\"\",MAX(K$1:K388)+1)","v":""},"",null,{"$f":"IF(LDAR_H_UU_summary!C211=\"\",\"\",LDAR_H_UU_summary!C211)","v":""},{"$f":"IF(COUNTIF(N$2:N389,N389)=1,N389,\"\")","v":""},{"$f":"+IF(O389=\"\",\"\",MAX(P$1:P388)+1)","v":""},"",null,{"$f":"IF(CMS_Identification!G411=\"\",\"\",CMS_Identification!G411)","v":""},{"$f":"IF(CMS_Identification!B411=\"\",\"\",CMS_Identification!B411)","v":""},{"$f":"IF(COUNTIF(S$2:S389,S389)=1,S389,\"\")","v":""},{"$f":"+IF(U389=\"\",\"\",MAX(V$1:V388)+1)","v":""},"",null,{"$f":"IF(CMS_Identification!G411=\"\",\"\",CMS_Identification!G411)","v":""},{"$f":"IF(CMS_Identification!D411=\"\",\"\",CMS_Identification!D411)","v":""},null,null,null,{"$f":"IF(CMS_Identification!B411=\"\",\"\",CMS_Identification!B411)","v":""},{"$f":"IF(CMS_Identification!G411=\"\",\"\",CMS_Identification!G411)","v":""},{"$f":"IF(CMS_Identification!D411=\"\",\"\",CMS_Identification!D411)","v":""}]
[null,null,null,null,null,null,null,null,{"$f":"IF(LDAR_TT_summary!C312=\"\",\"\",LDAR_TT_summary!C312)","v":""},{"$f":"IF(COUNTIF(I$2:I390,I390)=1,I390,\"\")","v":""},{"$f":"+IF(J390=\"\",\"\",MAX(K$1:K389)+1)","v":""},"",null,{"$f":"IF(LDAR_H_UU_summary!C212=\"\",\"\",LDAR_H_UU_summary!C212)","v":""},{"$f":"IF(COUNTIF(N$2:N390,N390)=1,N390,\"\")","v":""},{"$f":"+IF(O390=\"\",\"\",MAX(P$1:P389)+1)","v":""},"",null,{"$f":"IF(CMS_Identification!G412=\"\",\"\",CMS_Identification!G412)","v":""},{"$f":"IF(CMS_Identification!B412=\"\",\"\",CMS_Identification!B412)","v":""},{"$f":"IF(COUNTIF(S$2:S390,S390)=1,S390,\"\")","v":""},{"$f":"+IF(U390=\"\",\"\",MAX(V$1:V389)+1)","v":""},"",null,{"$f":"IF(CMS_Identification!G412=\"\",\"\",CMS_Identification!G412)","v":""},{"$f":"IF(CMS_Identification!D412=\"\",\"\",CMS_Identification!D412)","v":""},null,null,null,{"$f":"IF(CMS_Identification!B412=\"\",\"\",CMS_Identification!B412)","v":""},{"$f":"IF(CMS_Identification!G412=\"\",\"\",CMS_Identification!G412)","v":""},{"$f":"IF(CMS_Identification!D412=\"\",\"\",CMS_Identification!D412)","v":""}]
[null,null,null,null,null,null,null,null,{"$f":"IF(LDAR_TT_summary!C313=\"\",\"\",LDAR_TT_summary!C313)","v":""},{"$f":"IF(COUNTIF(I$2:I391,I391)=1,I391,\"\")","v":""},{"$f":"+IF(J391=\"\",\"\",MAX(K$1:K390)+1)","v":""},"",null,{"$f":"IF(LDAR_H_UU_summary!C213=\"\",\"\",LDAR_H_UU_summary!C213)","v":""},{"$f":"IF(COUNTIF(N$2:N391,N391)=1,N391,\"\")","v":""},{"$f":"+IF(O391=\"\",\"\",MAX(P$1:P390)+1)","v":""},"",null,{"$f":"IF(CMS_Identification!G413=\"\",\"\",CMS_Identification!G413)","v":""},{"$f":"IF(CMS_Identification!B413=\"\",\"\",CMS_Identification!B413)","v":""},{"$f":"IF(COUNTIF(S$2:S391,S391)=1,S391,\"\")","v":""},{"$f":"+IF(U391=\"\",\"\",MAX(V$1:V390)+1)","v":""},"",null,{"$f":"IF(CMS_Identification!G413=\"\",\"\",CMS_Identification!G413)","v":""},{"$f":"IF(CMS_Identification!D413=\"\",\"\",CMS_Identification!D413)","v":""},null,null,null,{"$f":"IF(CMS_Identification!B413=\"\",\"\",CMS_Identification!B413)","v":""},{"$f":"IF(CMS_Identification!G413=\"\",\"\",CMS_Identification!G413)","v":""},{"$f":"IF(CMS_Identification!D413=\"\",\"\",CMS_Identification!D413)","v":""}]
[null,null,null,null,null,null,null,null,{"$f":"IF(LDAR_TT_summary!C314=\"\",\"\",LDAR_TT_summary!C314)","v":""},{"$f":"IF(COUNTIF(I$2:I392,I392)=1,I392,\"\")","v":""},{"$f":"+IF(J392=\"\",\"\",MAX(K$1:K391)+1)","v":""},"",null,{"$f":"IF(LDAR_H_UU_summary!C214=\"\",\"\",LDAR_H_UU_summary!C214)","v":""},{"$f":"IF(COUNTIF(N$2:N392,N392)=1,N392,\"\")","v":""},{"$f":"+IF(O392=\"\",\"\",MAX(P$1:P391)+1)","v":""},"",null,{"$f":"IF(CMS_Identification!G414=\"\",\"\",CMS_Identification!G414)","v":""},{"$f":"IF(CMS_Identification!B414=\"\",\"\",CMS_Identification!B414)","v":""},{"$f":"IF(COUNTIF(S$2:S392,S392)=1,S392,\"\")","v":""},{"$f":"+IF(U392=\"\",\"\",MAX(V$1:V391)+1)","v":""},"",null,{"$f":"IF(CMS_Identification!G414=\"\",\"\",CMS_Identification!G414)","v":""},{"$f":"IF(CMS_Identification!D414=\"\",\"\",CMS_Identification!D414)","v":""},null,null,null,{"$f":"IF(CMS_Identification!B414=\"\",\"\",CMS_Identification!B414)","v":""},{"$f":"IF(CMS_Identification!G414=\"\",\"\",CMS_Identification!G414)","v":""},{"$f":"IF(CMS_Identification!D414=\"\",\"\",CMS_Identification!D414)","v":""}]
[null,null,null,null,null,null,null,null,{"$f":"IF(LDAR_TT_summary!C315=\"\",\"\",LDAR_TT_summary!C315)","v":""},{"$f":"IF(COUNTIF(I$2:I393,I393)=1,I393,\"\")","v":""},{"$f":"+IF(J393=\"\",\"\",MAX(K$1:K392)+1)","v":""},"",null,{"$f":"IF(LDAR_H_UU_summary!C215=\"\",\"\",LDAR_H_UU_summary!C215)","v":""},{"$f":"IF(COUNTIF(N$2:N393,N393)=1,N393,\"\")","v":""},{"$f":"+IF(O393=\"\",\"\",MAX(P$1:P392)+1)","v":""},"",null,{"$f":"IF(CMS_Identification!G415=\"\",\"\",CMS_Identification!G415)","v":""},{"$f":"IF(CMS_Identification!B415=\"\",\"\",CMS_Identification!B415)","v":""},{"$f":"IF(COUNTIF(S$2:S393,S393)=1,S393,\"\")","v":""},{"$f":"+IF(U393=\"\",\"\",MAX(V$1:V392)+1)","v":""},"",null,{"$f":"IF(CMS_Identification!G415=\"\",\"\",CMS_Identification!G415)","v":""},{"$f":"IF(CMS_Identification!D415=\"\",\"\",CMS_Identification!D415)","v":""},null,null,null,{"$f":"IF(CMS_Identification!B415=\"\",\"\",CMS_Identification!B415)","v":""},{"$f":"IF(CMS_Identification!G415=\"\",\"\",CMS_Identification!G415)","v":""},{"$f":"IF(CMS_Identification!D415=\"\",\"\",CMS_Identification!D415)","v":""}]
[null,null,null,null,null,null,null,null,{"$f":"IF(LDAR_TT_summary!C316=\"\",\"\",LDAR_TT_summary!C316)","v":""},{"$f":"IF(COUNTIF(I$2:I394,I394)=1,I394,\"\")","v":""},{"$f":"+IF(J394=\"\",\"\",MAX(K$1:K393)+1)","v":""},"",null,{"$f":"IF(LDAR_H_UU_summary!C216=\"\",\"\",LDAR_H_UU_summary!C216)","v":""},{"$f":"IF(COUNTIF(N$2:N394,N394)=1,N394,\"\")","v":""},{"$f":"+IF(O394=\"\",\"\",MAX(P$1:P393)+1)","v":""},"",null,{"$f":"IF(CMS_Identification!G416=\"\",\"\",CMS_Identification!G416)","v":""},{"$f":"IF(CMS_Identification!B416=\"\",\"\",CMS_Identification!B416)","v":""},{"$f":"IF(COUNTIF(S$2:S394,S394)=1,S394,\"\")","v":""},{"$f":"+IF(U394=\"\",\"\",MAX(V$1:V393)+1)","v":""},"",null,{"$f":"IF(CMS_Identification!G416=\"\",\"\",CMS_Identification!G416)","v":""},{"$f":"IF(CMS_Identification!D416=\"\",\"\",CMS_Identification!D416)","v":""},null,null,null,{"$f":"IF(CMS_Identification!B416=\"\",\"\",CMS_Identification!B416)","v":""},{"$f":"IF(CMS_Identification!G416=\"\",\"\",CMS_Identification!G416)","v":""},{"$f":"IF(CMS_Identification!D416=\"\",\"\",CMS_Identification!D416)","v":""}]
[null,null,null,null,null,null,null,null,{"$f":"IF(LDAR_TT_summary!C317=\"\",\"\",LDAR_TT_summary!C317)","v":""},{"$f":"IF(COUNTIF(I$2:I395,I395)=1,I395,\"\")","v":""},{"$f":"+IF(J395=\"\",\"\",MAX(K$1:K394)+1)","v":""},"",null,{"$f":"IF(LDAR_H_UU_summary!C217=\"\",\"\",LDAR_H_UU_summary!C217)","v":""},{"$f":"IF(COUNTIF(N$2:N395,N395)=1,N395,\"\")","v":""},{"$f":"+IF(O395=\"\",\"\",MAX(P$1:P394)+1)","v":""},"",null,{"$f":"IF(CMS_Identification!G417=\"\",\"\",CMS_Identification!G417)","v":""},{"$f":"IF(CMS_Identification!B417=\"\",\"\",CMS_Identification!B417)","v":""},{"$f":"IF(COUNTIF(S$2:S395,S395)=1,S395,\"\")","v":""},{"$f":"+IF(U395=\"\",\"\",MAX(V$1:V394)+1)","v":""},"",null,{"$f":"IF(CMS_Identification!G417=\"\",\"\",CMS_Identification!G417)","v":""},{"$f":"IF(CMS_Identification!D417=\"\",\"\",CMS_Identification!D417)","v":""},null,null,null,{"$f":"IF(CMS_Identification!B417=\"\",\"\",CMS_Identification!B417)","v":""},{"$f":"IF(CMS_Identification!G417=\"\",\"\",CMS_Identification!G417)","v":""},{"$f":"IF(CMS_Identification!D417=\"\",\"\",CMS_Identification!D417)","v":""}]
[null,null,null,null,null,null,null,null,{"$f":"IF(LDAR_TT_summary!C318=\"\",\"\",LDAR_TT_summary!C318)","v":""},{"$f":"IF(COUNTIF(I$2:I396,I396)=1,I396,\"\")","v":""},{"$f":"+IF(J396=\"\",\"\",MAX(K$1:K395)+1)","v":""},"",null,{"$f":"IF(LDAR_H_UU_summary!C218=\"\",\"\",LDAR_H_UU_summary!C218)","v":""},{"$f":"IF(COUNTIF(N$2:N396,N396)=1,N396,\"\")","v":""},{"$f":"+IF(O396=\"\",\"\",MAX(P$1:P395)+1)","v":""},"",null,{"$f":"IF(CMS_Identification!G418=\"\",\"\",CMS_Identification!G418)","v":""},{"$f":"IF(CMS_Identification!B418=\"\",\"\",CMS_Identification!B418)","v":""},{"$f":"IF(COUNTIF(S$2:S396,S396)=1,S396,\"\")","v":""},{"$f":"+IF(U396=\"\",\"\",MAX(V$1:V395)+1)","v":""},"",null,{"$f":"IF(CMS_Identification!G418=\"\",\"\",CMS_Identification!G418)","v":""},{"$f":"IF(CMS_Identification!D418=\"\",\"\",CMS_Identification!D418)","v":""},null,null,null,{"$f":"IF(CMS_Identification!B418=\"\",\"\",CMS_Identification!B418)","v":""},{"$f":"IF(CMS_Identification!G418=\"\",\"\",CMS_Identification!G418)","v":""},{"$f":"IF(CMS_Identification!D418=\"\",\"\",CMS_Identification!D418)","v":""}]
[null,null,null,null,null,null,null,null,{"$f":"IF(LDAR_TT_summary!C319=\"\",\"\",LDAR_TT_summary!C319)","v":""},{"$f":"IF(COUNTIF(I$2:I397,I397)=1,I397,\"\")","v":""},{"$f":"+IF(J397=\"\",\"\",MAX(K$1:K396)+1)","v":""},"",null,{"$f":"IF(LDAR_H_UU_summary!C219=\"\",\"\",LDAR_H_UU_summary!C219)","v":""},{"$f":"IF(COUNTIF(N$2:N397,N397)=1,N397,\"\")","v":""},{"$f":"+IF(O397=\"\",\"\",MAX(P$1:P396)+1)","v":""},"",null,{"$f":"IF(CMS_Identification!G419=\"\",\"\",CMS_Identification!G419)","v":""},{"$f":"IF(CMS_Identification!B419=\"\",\"\",CMS_Identification!B419)","v":""},{"$f":"IF(COUNTIF(S$2:S397,S397)=1,S397,\"\")","v":""},{"$f":"+IF(U397=\"\",\"\",MAX(V$1:V396)+1)","v":""},"",null,{"$f":"IF(CMS_Identification!G419=\"\",\"\",CMS_Identification!G419)","v":""},{"$f":"IF(CMS_Identification!D419=\"\",\"\",CMS_Identification!D419)","v":""},null,null,null,{"$f":"IF(CMS_Identification!B419=\"\",\"\",CMS_Identification!B419)","v":""},{"$f":"IF(CMS_Identification!G419=\"\",\"\",CMS_Identification!G419)","v":""},{"$f":"IF(CMS_Identification!D419=\"\",\"\",CMS_Identification!D419)","v":""}]
[null,null,null,null,null,null,null,null,{"$f":"IF(LDAR_TT_summary!C320=\"\",\"\",LDAR_TT_summary!C320)","v":""},{"$f":"IF(COUNTIF(I$2:I398,I398)=1,I398,\"\")","v":""},{"$f":"+IF(J398=\"\",\"\",MAX(K$1:K397)+1)","v":""},"",null,{"$f":"IF(LDAR_H_UU_summary!C220=\"\",\"\",LDAR_H_UU_summary!C220)","v":""},{"$f":"IF(COUNTIF(N$2:N398,N398)=1,N398,\"\")","v":""},{"$f":"+IF(O398=\"\",\"\",MAX(P$1:P397)+1)","v":""},"",null,{"$f":"IF(CMS_Identification!G420=\"\",\"\",CMS_Identification!G420)","v":""},{"$f":"IF(CMS_Identification!B420=\"\",\"\",CMS_Identification!B420)","v":""},{"$f":"IF(COUNTIF(S$2:S398,S398)=1,S398,\"\")","v":""},{"$f":"+IF(U398=\"\",\"\",MAX(V$1:V397)+1)","v":""},"",null,{"$f":"IF(CMS_Identification!G420=\"\",\"\",CMS_Identification!G420)","v":""},{"$f":"IF(CMS_Identification!D420=\"\",\"\",CMS_Identification!D420)","v":""},null,null,null,{"$f":"IF(CMS_Identification!B420=\"\",\"\",CMS_Identification!B420)","v":""},{"$f":"IF(CMS_Identification!G420=\"\",\"\",CMS_Identification!G420)","v":""},{"$f":"IF(CMS_Identification!D420=\"\",\"\",CMS_Identification!D420)","v":""}]
[null,null,null,null,null,null,null,null,{"$f":"IF(LDAR_TT_summary!C321=\"\",\"\",LDAR_TT_summary!C321)","v":""},{"$f":"IF(COUNTIF(I$2:I399,I399)=1,I399,\"\")","v":""},{"$f":"+IF(J399=\"\",\"\",MAX(K$1:K398)+1)","v":""},"",null,{"$f":"IF(LDAR_H_UU_summary!C221=\"\",\"\",LDAR_H_UU_summary!C221)","v":""},{"$f":"IF(COUNTIF(N$2:N399,N399)=1,N399,\"\")","v":""},{"$f":"+IF(O399=\"\",\"\",MAX(P$1:P398)+1)","v":""},"",null,{"$f":"IF(CMS_Identification!G421=\"\",\"\",CMS_Identification!G421)","v":""},{"$f":"IF(CMS_Identification!B421=\"\",\"\",CMS_Identification!B421)","v":""},{"$f":"IF(COUNTIF(S$2:S399,S399)=1,S399,\"\")","v":""},{"$f":"+IF(U399=\"\",\"\",MAX(V$1:V398)+1)","v":""},"",null,{"$f":"IF(CMS_Identification!G421=\"\",\"\",CMS_Identification!G421)","v":""},{"$f":"IF(CMS_Identification!D421=\"\",\"\",CMS_Identification!D421)","v":""},null,null,null,{"$f":"IF(CMS_Identification!B421=\"\",\"\",CMS_Identification!B421)","v":""},{"$f":"IF(CMS_Identification!G421=\"\",\"\",CMS_Identification!G421)","v":""},{"$f":"IF(CMS_Identification!D421=\"\",\"\",CMS_Identification!D421)","v":""}]
[null,null,null,null,null,null,null,null,{"$f":"IF(LDAR_TT_summary!C322=\"\",\"\",LDAR_TT_summary!C322)","v":""},{"$f":"IF(COUNTIF(I$2:I400,I400)=1,I400,\"\")","v":""},{"$f":"+IF(J400=\"\",\"\",MAX(K$1:K399)+1)","v":""},"",null,{"$f":"IF(LDAR_H_UU_summary!C222=\"\",\"\",LDAR_H_UU_summary!C222)","v":""},{"$f":"IF(COUNTIF(N$2:N400,N400)=1,N400,\"\")","v":""},{"$f":"+IF(O400=\"\",\"\",MAX(P$1:P399)+1)","v":""},"",null,{"$f":"IF(CMS_Identification!G422=\"\",\"\",CMS_Identification!G422)","v":""},{"$f":"IF(CMS_Identification!B422=\"\",\"\",CMS_Identification!B422)","v":""},{"$f":"IF(COUNTIF(S$2:S400,S400)=1,S400,\"\")","v":""},{"$f":"+IF(U400=\"\",\"\",MAX(V$1:V399)+1)","v":""},"",null,{"$f":"IF(CMS_Identification!G422=\"\",\"\",CMS_Identification!G422)","v":""},{"$f":"IF(CMS_Identification!D422=\"\",\"\",CMS_Identification!D422)","v":""},null,null,null,{"$f":"IF(CMS_Identification!B422=\"\",\"\",CMS_Identification!B422)","v":""},{"$f":"IF(CMS_Identification!G422=\"\",\"\",CMS_Identification!G422)","v":""},{"$f":"IF(CMS_Identification!D422=\"\",\"\",CMS_Identification!D422)","v":""}]
[null,null,null,null,null,null,null,null,{"$f":"IF(LDAR_TT_summary!C323=\"\",\"\",LDAR_TT_summary!C323)","v":""},{"$f":"IF(COUNTIF(I$2:I401,I401)=1,I401,\"\")","v":""},{"$f":"+IF(J401=\"\",\"\",MAX(K$1:K400)+1)","v":""},"",null,{"$f":"IF(LDAR_H_UU_summary!C223=\"\",\"\",LDAR_H_UU_summary!C223)","v":""},{"$f":"IF(COUNTIF(N$2:N401,N401)=1,N401,\"\")","v":""},{"$f":"+IF(O401=\"\",\"\",MAX(P$1:P400)+1)","v":""},"",null,{"$f":"IF(CMS_Identification!G423=\"\",\"\",CMS_Identification!G423)","v":""},{"$f":"IF(CMS_Identification!B423=\"\",\"\",CMS_Identification!B423)","v":""},{"$f":"IF(COUNTIF(S$2:S401,S401)=1,S401,\"\")","v":""},{"$f":"+IF(U401=\"\",\"\",MAX(V$1:V400)+1)","v":""},"",null,{"$f":"IF(CMS_Identification!G423=\"\",\"\",CMS_Identification!G423)","v":""},{"$f":"IF(CMS_Identification!D423=\"\",\"\",CMS_Identification!D423)","v":""},null,null,null,{"$f":"IF(CMS_Identification!B423=\"\",\"\",CMS_Identification!B423)","v":""},{"$f":"IF(CMS_Identification!G423=\"\",\"\",CMS_Identification!G423)","v":""},{"$f":"IF(CMS_Identification!D423=\"\",\"\",CMS_Identification!D423)","v":""}]
[null,null,null,null,null,null,null,null,{"$f":"IF(LDAR_TT_summary!C324=\"\",\"\",LDAR_TT_summary!C324)","v":""},{"$f":"IF(COUNTIF(I$2:I402,I402)=1,I402,\"\")","v":""},{"$f":"+IF(J402=\"\",\"\",MAX(K$1:K401)+1)","v":""},"",null,{"$f":"IF(LDAR_H_UU_summary!C224=\"\",\"\",LDAR_H_UU_summary!C224)","v":""},{"$f":"IF(COUNTIF(N$2:N402,N402)=1,N402,\"\")","v":""},{"$f":"+IF(O402=\"\",\"\",MAX(P$1:P401)+1)","v":""},"",null,{"$f":"IF(CMS_Identification!G424=\"\",\"\",CMS_Identification!G424)","v":""},{"$f":"IF(CMS_Identification!B424=\"\",\"\",CMS_Identification!B424)","v":""},{"$f":"IF(COUNTIF(S$2:S402,S402)=1,S402,\"\")","v":""},{"$f":"+IF(U402=\"\",\"\",MAX(V$1:V401)+1)","v":""},"",null,{"$f":"IF(CMS_Identification!G424=\"\",\"\",CMS_Identification!G424)","v":""},{"$f":"IF(CMS_Identification!D424=\"\",\"\",CMS_Identification!D424)","v":""},null,null,null,{"$f":"IF(CMS_Identification!B424=\"\",\"\",CMS_Identification!B424)","v":""},{"$f":"IF(CMS_Identification!G424=\"\",\"\",CMS_Identification!G424)","v":""},{"$f":"IF(CMS_Identification!D424=\"\",\"\",CMS_Identification!D424)","v":""}]
[null,null,null,null,null,null,null,null,{"$f":"IF(LDAR_TT_summary!C325=\"\",\"\",LDAR_TT_summary!C325)","v":""},{"$f":"IF(COUNTIF(I$2:I403,I403)=1,I403,\"\")","v":""},{"$f":"+IF(J403=\"\",\"\",MAX(K$1:K402)+1)","v":""},"",null,{"$f":"IF(LDAR_H_UU_summary!C225=\"\",\"\",LDAR_H_UU_summary!C225)","v":""},{"$f":"IF(COUNTIF(N$2:N403,N403)=1,N403,\"\")","v":""},{"$f":"+IF(O403=\"\",\"\",MAX(P$1:P402)+1)","v":""},"",null,{"$f":"IF(CMS_Identification!G425=\"\",\"\",CMS_Identification!G425)","v":""},{"$f":"IF(CMS_Identification!B425=\"\",\"\",CMS_Identification!B425)","v":""},{"$f":"IF(COUNTIF(S$2:S403,S403)=1,S403,\"\")","v":""},{"$f":"+IF(U403=\"\",\"\",MAX(V$1:V402)+1)","v":""},"",null,{"$f":"IF(CMS_Identification!G425=\"\",\"\",CMS_Identification!G425)","v":""},{"$f":"IF(CMS_Identification!D425=\"\",\"\",CMS_Identification!D425)","v":""},null,null,null,{"$f":"IF(CMS_Identification!B425=\"\",\"\",CMS_Identification!B425)","v":""},{"$f":"IF(CMS_Identification!G425=\"\",\"\",CMS_Identification!G425)","v":""},{"$f":"IF(CMS_Identification!D425=\"\",\"\",CMS_Identification!D425)","v":""}]
[null,null,null,null,null,null,null,null,{"$f":"IF(LDAR_TT_summary!C326=\"\",\"\",LDAR_TT_summary!C326)","v":""},{"$f":"IF(COUNTIF(I$2:I404,I404)=1,I404,\"\")","v":""},{"$f":"+IF(J404=\"\",\"\",MAX(K$1:K403)+1)","v":""},"",null,{"$f":"IF(LDAR_H_UU_summary!C226=\"\",\"\",LDAR_H_UU_summary!C226)","v":""},{"$f":"IF(COUNTIF(N$2:N404,N404)=1,N404,\"\")","v":""},{"$f":"+IF(O404=\"\",\"\",MAX(P$1:P403)+1)","v":""},"",null,{"$f":"IF(CMS_Identification!G426=\"\",\"\",CMS_Identification!G426)","v":""},{"$f":"IF(CMS_Identification!B426=\"\",\"\",CMS_Identification!B426)","v":""},{"$f":"IF(COUNTIF(S$2:S404,S404)=1,S404,\"\")","v":""},{"$f":"+IF(U404=\"\",\"\",MAX(V$1:V403)+1)","v":""},"",null,{"$f":"IF(CMS_Identification!G426=\"\",\"\",CMS_Identification!G426)","v":""},{"$f":"IF(CMS_Identification!D426=\"\",\"\",CMS_Identification!D426)","v":""},null,null,null,{"$f":"IF(CMS_Identification!B426=\"\",\"\",CMS_Identification!B426)","v":""},{"$f":"IF(CMS_Identification!G426=\"\",\"\",CMS_Identification!G426)","v":""},{"$f":"IF(CMS_Identification!D426=\"\",\"\",CMS_Identification!D426)","v":""}]
[null,null,null,null,null,null,null,null,{"$f":"IF(LDAR_TT_summary!C327=\"\",\"\",LDAR_TT_summary!C327)","v":""},{"$f":"IF(COUNTIF(I$2:I405,I405)=1,I405,\"\")","v":""},{"$f":"+IF(J405=\"\",\"\",MAX(K$1:K404)+1)","v":""},"",null,{"$f":"IF(LDAR_H_UU_summary!C227=\"\",\"\",LDAR_H_UU_summary!C227)","v":""},{"$f":"IF(COUNTIF(N$2:N405,N405)=1,N405,\"\")","v":""},{"$f":"+IF(O405=\"\",\"\",MAX(P$1:P404)+1)","v":""},"",null,{"$f":"IF(CMS_Identification!G427=\"\",\"\",CMS_Identification!G427)","v":""},{"$f":"IF(CMS_Identification!B427=\"\",\"\",CMS_Identification!B427)","v":""},{"$f":"IF(COUNTIF(S$2:S405,S405)=1,S405,\"\")","v":""},{"$f":"+IF(U405=\"\",\"\",MAX(V$1:V404)+1)","v":""},"",null,{"$f":"IF(CMS_Identification!G427=\"\",\"\",CMS_Identification!G427)","v":""},{"$f":"IF(CMS_Identification!D427=\"\",\"\",CMS_Identification!D427)","v":""},null,null,null,{"$f":"IF(CMS_Identification!B427=\"\",\"\",CMS_Identification!B427)","v":""},{"$f":"IF(CMS_Identification!G427=\"\",\"\",CMS_Identification!G427)","v":""},{"$f":"IF(CMS_Identification!D427=\"\",\"\",CMS_Identification!D427)","v":""}]
[null,null,null,null,null,null,null,null,{"$f":"IF(LDAR_TT_summary!C328=\"\",\"\",LDAR_TT_summary!C328)","v":""},{"$f":"IF(COUNTIF(I$2:I406,I406)=1,I406,\"\")","v":""},{"$f":"+IF(J406=\"\",\"\",MAX(K$1:K405)+1)","v":""},"",null,{"$f":"IF(LDAR_H_UU_summary!C228=\"\",\"\",LDAR_H_UU_summary!C228)","v":""},{"$f":"IF(COUNTIF(N$2:N406,N406)=1,N406,\"\")","v":""},{"$f":"+IF(O406=\"\",\"\",MAX(P$1:P405)+1)","v":""},"",null,{"$f":"IF(CMS_Identification!G428=\"\",\"\",CMS_Identification!G428)","v":""},{"$f":"IF(CMS_Identification!B428=\"\",\"\",CMS_Identification!B428)","v":""},{"$f":"IF(COUNTIF(S$2:S406,S406)=1,S406,\"\")","v":""},{"$f":"+IF(U406=\"\",\"\",MAX(V$1:V405)+1)","v":""},"",null,{"$f":"IF(CMS_Identification!G428=\"\",\"\",CMS_Identification!G428)","v":""},{"$f":"IF(CMS_Identification!D428=\"\",\"\",CMS_Identification!D428)","v":""},null,null,null,{"$f":"IF(CMS_Identification!B428=\"\",\"\",CMS_Identification!B428)","v":""},{"$f":"IF(CMS_Identification!G428=\"\",\"\",CMS_Identification!G428)","v":""},{"$f":"IF(CMS_Identification!D428=\"\",\"\",CMS_Identification!D428)","v":""}]
[null,null,null,null,null,null,null,null,{"$f":"IF(LDAR_TT_summary!C329=\"\",\"\",LDAR_TT_summary!C329)","v":""},{"$f":"IF(COUNTIF(I$2:I407,I407)=1,I407,\"\")","v":""},{"$f":"+IF(J407=\"\",\"\",MAX(K$1:K406)+1)","v":""},"",null,{"$f":"IF(LDAR_H_UU_summary!C229=\"\",\"\",LDAR_H_UU_summary!C229)","v":""},{"$f":"IF(COUNTIF(N$2:N407,N407)=1,N407,\"\")","v":""},{"$f":"+IF(O407=\"\",\"\",MAX(P$1:P406)+1)","v":""},"",null,{"$f":"IF(CMS_Identification!G429=\"\",\"\",CMS_Identification!G429)","v":""},{"$f":"IF(CMS_Identification!B429=\"\",\"\",CMS_Identification!B429)","v":""},{"$f":"IF(COUNTIF(S$2:S407,S407)=1,S407,\"\")","v":""},{"$f":"+IF(U407=\"\",\"\",MAX(V$1:V406)+1)","v":""},"",null,{"$f":"IF(CMS_Identification!G429=\"\",\"\",CMS_Identification!G429)","v":""},{"$f":"IF(CMS_Identification!D429=\"\",\"\",CMS_Identification!D429)","v":""},null,null,null,{"$f":"IF(CMS_Identification!B429=\"\",\"\",CMS_Identification!B429)","v":""},{"$f":"IF(CMS_Identification!G429=\"\",\"\",CMS_Identification!G429)","v":""},{"$f":"IF(CMS_Identification!D429=\"\",\"\",CMS_Identification!D429)","v":""}]
[null,null,null,null,null,null,null,null,{"$f":"IF(LDAR_TT_summary!C330=\"\",\"\",LDAR_TT_summary!C330)","v":""},{"$f":"IF(COUNTIF(I$2:I408,I408)=1,I408,\"\")","v":""},{"$f":"+IF(J408=\"\",\"\",MAX(K$1:K407)+1)","v":""},"",null,{"$f":"IF(LDAR_H_UU_summary!C230=\"\",\"\",LDAR_H_UU_summary!C230)","v":""},{"$f":"IF(COUNTIF(N$2:N408,N408)=1,N408,\"\")","v":""},{"$f":"+IF(O408=\"\",\"\",MAX(P$1:P407)+1)","v":""},"",null,{"$f":"IF(CMS_Identification!G430=\"\",\"\",CMS_Identification!G430)","v":""},{"$f":"IF(CMS_Identification!B430=\"\",\"\",CMS_Identification!B430)","v":""},{"$f":"IF(COUNTIF(S$2:S408,S408)=1,S408,\"\")","v":""},{"$f":"+IF(U408=\"\",\"\",MAX(V$1:V407)+1)","v":""},"",null,{"$f":"IF(CMS_Identification!G430=\"\",\"\",CMS_Identification!G430)","v":""},{"$f":"IF(CMS_Identification!D430=\"\",\"\",CMS_Identification!D430)","v":""},null,null,null,{"$f":"IF(CMS_Identification!B430=\"\",\"\",CMS_Identification!B430)","v":""},{"$f":"IF(CMS_Identification!G430=\"\",\"\",CMS_Identification!G430)","v":""},{"$f":"IF(CMS_Identification!D430=\"\",\"\",CMS_Identification!D430)","v":""}]
[null,null,null,null,null,null,null,null,{"$f":"IF(LDAR_TT_summary!C331=\"\",\"\",LDAR_TT_summary!C331)","v":""},{"$f":"IF(COUNTIF(I$2:I409,I409)=1,I409,\"\")","v":""},{"$f":"+IF(J409=\"\",\"\",MAX(K$1:K408)+1)","v":""},"",null,{"$f":"IF(LDAR_H_UU_summary!C231=\"\",\"\",LDAR_H_UU_summary!C231)","v":""},{"$f":"IF(COUNTIF(N$2:N409,N409)=1,N409,\"\")","v":""},{"$f":"+IF(O409=\"\",\"\",MAX(P$1:P408)+1)","v":""},"",null,{"$f":"IF(CMS_Identification!G431=\"\",\"\",CMS_Identification!G431)","v":""},{"$f":"IF(CMS_Identification!B431=\"\",\"\",CMS_Identification!B431)","v":""},{"$f":"IF(COUNTIF(S$2:S409,S409)=1,S409,\"\")","v":""},{"$f":"+IF(U409=\"\",\"\",MAX(V$1:V408)+1)","v":""},"",null,{"$f":"IF(CMS_Identification!G431=\"\",\"\",CMS_Identification!G431)","v":""},{"$f":"IF(CMS_Identification!D431=\"\",\"\",CMS_Identification!D431)","v":""},null,null,null,{"$f":"IF(CMS_Identification!B431=\"\",\"\",CMS_Identification!B431)","v":""},{"$f":"IF(CMS_Identification!G431=\"\",\"\",CMS_Identification!G431)","v":""},{"$f":"IF(CMS_Identification!D431=\"\",\"\",CMS_Identification!D431)","v":""}]
[null,null,null,null,null,null,null,null,{"$f":"IF(LDAR_TT_summary!C332=\"\",\"\",LDAR_TT_summary!C332)","v":""},{"$f":"IF(COUNTIF(I$2:I410,I410)=1,I410,\"\")","v":""},{"$f":"+IF(J410=\"\",\"\",MAX(K$1:K409)+1)","v":""},"",null,{"$f":"IF(LDAR_H_UU_summary!C232=\"\",\"\",LDAR_H_UU_summary!C232)","v":""},{"$f":"IF(COUNTIF(N$2:N410,N410)=1,N410,\"\")","v":""},{"$f":"+IF(O410=\"\",\"\",MAX(P$1:P409)+1)","v":""},"",null,{"$f":"IF(CMS_Identification!G432=\"\",\"\",CMS_Identification!G432)","v":""},{"$f":"IF(CMS_Identification!B432=\"\",\"\",CMS_Identification!B432)","v":""},{"$f":"IF(COUNTIF(S$2:S410,S410)=1,S410,\"\")","v":""},{"$f":"+IF(U410=\"\",\"\",MAX(V$1:V409)+1)","v":""},"",null,{"$f":"IF(CMS_Identification!G432=\"\",\"\",CMS_Identification!G432)","v":""},{"$f":"IF(CMS_Identification!D432=\"\",\"\",CMS_Identification!D432)","v":""},null,null,null,{"$f":"IF(CMS_Identification!B432=\"\",\"\",CMS_Identification!B432)","v":""},{"$f":"IF(CMS_Identification!G432=\"\",\"\",CMS_Identification!G432)","v":""},{"$f":"IF(CMS_Identification!D432=\"\",\"\",CMS_Identification!D432)","v":""}]
[null,null,null,null,null,null,null,null,{"$f":"IF(LDAR_TT_summary!C333=\"\",\"\",LDAR_TT_summary!C333)","v":""},{"$f":"IF(COUNTIF(I$2:I411,I411)=1,I411,\"\")","v":""},{"$f":"+IF(J411=\"\",\"\",MAX(K$1:K410)+1)","v":""},"",null,{"$f":"IF(LDAR_H_UU_summary!C233=\"\",\"\",LDAR_H_UU_summary!C233)","v":""},{"$f":"IF(COUNTIF(N$2:N411,N411)=1,N411,\"\")","v":""},{"$f":"+IF(O411=\"\",\"\",MAX(P$1:P410)+1)","v":""},"",null,{"$f":"IF(CMS_Identification!G433=\"\",\"\",CMS_Identification!G433)","v":""},{"$f":"IF(CMS_Identification!B433=\"\",\"\",CMS_Identification!B433)","v":""},{"$f":"IF(COUNTIF(S$2:S411,S411)=1,S411,\"\")","v":""},{"$f":"+IF(U411=\"\",\"\",MAX(V$1:V410)+1)","v":""},"",null,{"$f":"IF(CMS_Identification!G433=\"\",\"\",CMS_Identification!G433)","v":""},{"$f":"IF(CMS_Identification!D433=\"\",\"\",CMS_Identification!D433)","v":""},null,null,null,{"$f":"IF(CMS_Identification!B433=\"\",\"\",CMS_Identification!B433)","v":""},{"$f":"IF(CMS_Identification!G433=\"\",\"\",CMS_Identification!G433)","v":""},{"$f":"IF(CMS_Identification!D433=\"\",\"\",CMS_Identification!D433)","v":""}]
[null,null,null,null,null,null,null,null,{"$f":"IF(LDAR_TT_summary!C334=\"\",\"\",LDAR_TT_summary!C334)","v":""},{"$f":"IF(COUNTIF(I$2:I412,I412)=1,I412,\"\")","v":""},{"$f":"+IF(J412=\"\",\"\",MAX(K$1:K411)+1)","v":""},"",null,{"$f":"IF(LDAR_H_UU_summary!C234=\"\",\"\",LDAR_H_UU_summary!C234)","v":""},{"$f":"IF(COUNTIF(N$2:N412,N412)=1,N412,\"\")","v":""},{"$f":"+IF(O412=\"\",\"\",MAX(P$1:P411)+1)","v":""},"",null,{"$f":"IF(CMS_Identification!G434=\"\",\"\",CMS_Identification!G434)","v":""},{"$f":"IF(CMS_Identification!B434=\"\",\"\",CMS_Identification!B434)","v":""},{"$f":"IF(COUNTIF(S$2:S412,S412)=1,S412,\"\")","v":""},{"$f":"+IF(U412=\"\",\"\",MAX(V$1:V411)+1)","v":""},"",null,{"$f":"IF(CMS_Identification!G434=\"\",\"\",CMS_Identification!G434)","v":""},{"$f":"IF(CMS_Identification!D434=\"\",\"\",CMS_Identification!D434)","v":""},null,null,null,{"$f":"IF(CMS_Identification!B434=\"\",\"\",CMS_Identification!B434)","v":""},{"$f":"IF(CMS_Identification!G434=\"\",\"\",CMS_Identification!G434)","v":""},{"$f":"IF(CMS_Identification!D434=\"\",\"\",CMS_Identification!D434)","v":""}]
[null,null,null,null,null,null,null,null,{"$f":"IF(LDAR_TT_summary!C335=\"\",\"\",LDAR_TT_summary!C335)","v":""},{"$f":"IF(COUNTIF(I$2:I413,I413)=1,I413,\"\")","v":""},{"$f":"+IF(J413=\"\",\"\",MAX(K$1:K412)+1)","v":""},"",null,{"$f":"IF(LDAR_H_UU_summary!C235=\"\",\"\",LDAR_H_UU_summary!C235)","v":""},{"$f":"IF(COUNTIF(N$2:N413,N413)=1,N413,\"\")","v":""},{"$f":"+IF(O413=\"\",\"\",MAX(P$1:P412)+1)","v":""},"",null,{"$f":"IF(CMS_Identification!G435=\"\",\"\",CMS_Identification!G435)","v":""},{"$f":"IF(CMS_Identification!B435=\"\",\"\",CMS_Identification!B435)","v":""},{"$f":"IF(COUNTIF(S$2:S413,S413)=1,S413,\"\")","v":""},{"$f":"+IF(U413=\"\",\"\",MAX(V$1:V412)+1)","v":""},"",null,{"$f":"IF(CMS_Identification!G435=\"\",\"\",CMS_Identification!G435)","v":""},{"$f":"IF(CMS_Identification!D435=\"\",\"\",CMS_Identification!D435)","v":""},null,null,null,{"$f":"IF(CMS_Identification!B435=\"\",\"\",CMS_Identification!B435)","v":""},{"$f":"IF(CMS_Identification!G435=\"\",\"\",CMS_Identification!G435)","v":""},{"$f":"IF(CMS_Identification!D435=\"\",\"\",CMS_Identification!D435)","v":""}]
[null,null,null,null,null,null,null,null,{"$f":"IF(LDAR_TT_summary!C336=\"\",\"\",LDAR_TT_summary!C336)","v":""},{"$f":"IF(COUNTIF(I$2:I414,I414)=1,I414,\"\")","v":""},{"$f":"+IF(J414=\"\",\"\",MAX(K$1:K413)+1)","v":""},"",null,{"$f":"IF(LDAR_H_UU_summary!C236=\"\",\"\",LDAR_H_UU_summary!C236)","v":""},{"$f":"IF(COUNTIF(N$2:N414,N414)=1,N414,\"\")","v":""},{"$f":"+IF(O414=\"\",\"\",MAX(P$1:P413)+1)","v":""},"",null,{"$f":"IF(CMS_Identification!G436=\"\",\"\",CMS_Identification!G436)","v":""},{"$f":"IF(CMS_Identification!B436=\"\",\"\",CMS_Identification!B436)","v":""},{"$f":"IF(COUNTIF(S$2:S414,S414)=1,S414,\"\")","v":""},{"$f":"+IF(U414=\"\",\"\",MAX(V$1:V413)+1)","v":""},"",null,{"$f":"IF(CMS_Identification!G436=\"\",\"\",CMS_Identification!G436)","v":""},{"$f":"IF(CMS_Identification!D436=\"\",\"\",CMS_Identification!D436)","v":""},null,null,null,{"$f":"IF(CMS_Identification!B436=\"\",\"\",CMS_Identification!B436)","v":""},{"$f":"IF(CMS_Identification!G436=\"\",\"\",CMS_Identification!G436)","v":""},{"$f":"IF(CMS_Identification!D436=\"\",\"\",CMS_Identification!D436)","v":""}]
[null,null,null,null,null,null,null,null,{"$f":"IF(LDAR_TT_summary!C337=\"\",\"\",LDAR_TT_summary!C337)","v":""},{"$f":"IF(COUNTIF(I$2:I415,I415)=1,I415,\"\")","v":""},{"$f":"+IF(J415=\"\",\"\",MAX(K$1:K414)+1)","v":""},"",null,{"$f":"IF(LDAR_H_UU_summary!C237=\"\",\"\",LDAR_H_UU_summary!C237)","v":""},{"$f":"IF(COUNTIF(N$2:N415,N415)=1,N415,\"\")","v":""},{"$f":"+IF(O415=\"\",\"\",MAX(P$1:P414)+1)","v":""},"",null,{"$f":"IF(CMS_Identification!G437=\"\",\"\",CMS_Identification!G437)","v":""},{"$f":"IF(CMS_Identification!B437=\"\",\"\",CMS_Identification!B437)","v":""},{"$f":"IF(COUNTIF(S$2:S415,S415)=1,S415,\"\")","v":""},{"$f":"+IF(U415=\"\",\"\",MAX(V$1:V414)+1)","v":""},"",null,{"$f":"IF(CMS_Identification!G437=\"\",\"\",CMS_Identification!G437)","v":""},{"$f":"IF(CMS_Identification!D437=\"\",\"\",CMS_Identification!D437)","v":""},null,null,null,{"$f":"IF(CMS_Identification!B437=\"\",\"\",CMS_Identification!B437)","v":""},{"$f":"IF(CMS_Identification!G437=\"\",\"\",CMS_Identification!G437)","v":""},{"$f":"IF(CMS_Identification!D437=\"\",\"\",CMS_Identification!D437)","v":""}]
[null,null,null,null,null,null,null,null,{"$f":"IF(LDAR_TT_summary!C338=\"\",\"\",LDAR_TT_summary!C338)","v":""},{"$f":"IF(COUNTIF(I$2:I416,I416)=1,I416,\"\")","v":""},{"$f":"+IF(J416=\"\",\"\",MAX(K$1:K415)+1)","v":""},"",null,{"$f":"IF(LDAR_H_UU_summary!C238=\"\",\"\",LDAR_H_UU_summary!C238)","v":""},{"$f":"IF(COUNTIF(N$2:N416,N416)=1,N416,\"\")","v":""},{"$f":"+IF(O416=\"\",\"\",MAX(P$1:P415)+1)","v":""},"",null,{"$f":"IF(CMS_Identification!G438=\"\",\"\",CMS_Identification!G438)","v":""},{"$f":"IF(CMS_Identification!B438=\"\",\"\",CMS_Identification!B438)","v":""},{"$f":"IF(COUNTIF(S$2:S416,S416)=1,S416,\"\")","v":""},{"$f":"+IF(U416=\"\",\"\",MAX(V$1:V415)+1)","v":""},"",null,{"$f":"IF(CMS_Identification!G438=\"\",\"\",CMS_Identification!G438)","v":""},{"$f":"IF(CMS_Identification!D438=\"\",\"\",CMS_Identification!D438)","v":""},null,null,null,{"$f":"IF(CMS_Identification!B438=\"\",\"\",CMS_Identification!B438)","v":""},{"$f":"IF(CMS_Identification!G438=\"\",\"\",CMS_Identification!G438)","v":""},{"$f":"IF(CMS_Identification!D438=\"\",\"\",CMS_Identification!D438)","v":""}]
[null,null,null,null,null,null,null,null,{"$f":"IF(LDAR_TT_summary!C339=\"\",\"\",LDAR_TT_summary!C339)","v":""},{"$f":"IF(COUNTIF(I$2:I417,I417)=1,I417,\"\")","v":""},{"$f":"+IF(J417=\"\",\"\",MAX(K$1:K416)+1)","v":""},"",null,{"$f":"IF(LDAR_H_UU_summary!C239=\"\",\"\",LDAR_H_UU_summary!C239)","v":""},{"$f":"IF(COUNTIF(N$2:N417,N417)=1,N417,\"\")","v":""},{"$f":"+IF(O417=\"\",\"\",MAX(P$1:P416)+1)","v":""},"",null,{"$f":"IF(CMS_Identification!G439=\"\",\"\",CMS_Identification!G439)","v":""},{"$f":"IF(CMS_Identification!B439=\"\",\"\",CMS_Identification!B439)","v":""},{"$f":"IF(COUNTIF(S$2:S417,S417)=1,S417,\"\")","v":""},{"$f":"+IF(U417=\"\",\"\",MAX(V$1:V416)+1)","v":""},"",null,{"$f":"IF(CMS_Identification!G439=\"\",\"\",CMS_Identification!G439)","v":""},{"$f":"IF(CMS_Identification!D439=\"\",\"\",CMS_Identification!D439)","v":""},null,null,null,{"$f":"IF(CMS_Identification!B439=\"\",\"\",CMS_Identification!B439)","v":""},{"$f":"IF(CMS_Identification!G439=\"\",\"\",CMS_Identification!G439)","v":""},{"$f":"IF(CMS_Identification!D439=\"\",\"\",CMS_Identification!D439)","v":""}]
[null,null,null,null,null,null,null,null,{"$f":"IF(LDAR_TT_summary!C340=\"\",\"\",LDAR_TT_summary!C340)","v":""},{"$f":"IF(COUNTIF(I$2:I418,I418)=1,I418,\"\")","v":""},{"$f":"+IF(J418=\"\",\"\",MAX(K$1:K417)+1)","v":""},"",null,{"$f":"IF(LDAR_H_UU_summary!C240=\"\",\"\",LDAR_H_UU_summary!C240)","v":""},{"$f":"IF(COUNTIF(N$2:N418,N418)=1,N418,\"\")","v":""},{"$f":"+IF(O418=\"\",\"\",MAX(P$1:P417)+1)","v":""},"",null,{"$f":"IF(CMS_Identification!G440=\"\",\"\",CMS_Identification!G440)","v":""},{"$f":"IF(CMS_Identification!B440=\"\",\"\",CMS_Identification!B440)","v":""},{"$f":"IF(COUNTIF(S$2:S418,S418)=1,S418,\"\")","v":""},{"$f":"+IF(U418=\"\",\"\",MAX(V$1:V417)+1)","v":""},"",null,{"$f":"IF(CMS_Identification!G440=\"\",\"\",CMS_Identification!G440)","v":""},{"$f":"IF(CMS_Identification!D440=\"\",\"\",CMS_Identification!D440)","v":""},null,null,null,{"$f":"IF(CMS_Identification!B440=\"\",\"\",CMS_Identification!B440)","v":""},{"$f":"IF(CMS_Identification!G440=\"\",\"\",CMS_Identification!G440)","v":""},{"$f":"IF(CMS_Identification!D440=\"\",\"\",CMS_Identification!D440)","v":""}]
[null,null,null,null,null,null,null,null,{"$f":"IF(LDAR_TT_summary!C341=\"\",\"\",LDAR_TT_summary!C341)","v":""},{"$f":"IF(COUNTIF(I$2:I419,I419)=1,I419,\"\")","v":""},{"$f":"+IF(J419=\"\",\"\",MAX(K$1:K418)+1)","v":""},"",null,{"$f":"IF(LDAR_H_UU_summary!C241=\"\",\"\",LDAR_H_UU_summary!C241)","v":""},{"$f":"IF(COUNTIF(N$2:N419,N419)=1,N419,\"\")","v":""},{"$f":"+IF(O419=\"\",\"\",MAX(P$1:P418)+1)","v":""},"",null,{"$f":"IF(CMS_Identification!G441=\"\",\"\",CMS_Identification!G441)","v":""},{"$f":"IF(CMS_Identification!B441=\"\",\"\",CMS_Identification!B441)","v":""},{"$f":"IF(COUNTIF(S$2:S419,S419)=1,S419,\"\")","v":""},{"$f":"+IF(U419=\"\",\"\",MAX(V$1:V418)+1)","v":""},"",null,{"$f":"IF(CMS_Identification!G441=\"\",\"\",CMS_Identification!G441)","v":""},{"$f":"IF(CMS_Identification!D441=\"\",\"\",CMS_Identification!D441)","v":""},null,null,null,{"$f":"IF(CMS_Identification!B441=\"\",\"\",CMS_Identification!B441)","v":""},{"$f":"IF(CMS_Identification!G441=\"\",\"\",CMS_Identification!G441)","v":""},{"$f":"IF(CMS_Identification!D441=\"\",\"\",CMS_Identification!D441)","v":""}]
[null,null,null,null,null,null,null,null,{"$f":"IF(LDAR_TT_summary!C342=\"\",\"\",LDAR_TT_summary!C342)","v":""},{"$f":"IF(COUNTIF(I$2:I420,I420)=1,I420,\"\")","v":""},{"$f":"+IF(J420=\"\",\"\",MAX(K$1:K419)+1)","v":""},"",null,{"$f":"IF(LDAR_H_UU_summary!C242=\"\",\"\",LDAR_H_UU_summary!C242)","v":""},{"$f":"IF(COUNTIF(N$2:N420,N420)=1,N420,\"\")","v":""},{"$f":"+IF(O420=\"\",\"\",MAX(P$1:P419)+1)","v":""},"",null,{"$f":"IF(CMS_Identification!G442=\"\",\"\",CMS_Identification!G442)","v":""},{"$f":"IF(CMS_Identification!B442=\"\",\"\",CMS_Identification!B442)","v":""},{"$f":"IF(COUNTIF(S$2:S420,S420)=1,S420,\"\")","v":""},{"$f":"+IF(U420=\"\",\"\",MAX(V$1:V419)+1)","v":""},"",null,{"$f":"IF(CMS_Identification!G442=\"\",\"\",CMS_Identification!G442)","v":""},{"$f":"IF(CMS_Identification!D442=\"\",\"\",CMS_Identification!D442)","v":""},null,null,null,{"$f":"IF(CMS_Identification!B442=\"\",\"\",CMS_Identification!B442)","v":""},{"$f":"IF(CMS_Identification!G442=\"\",\"\",CMS_Identification!G442)","v":""},{"$f":"IF(CMS_Identification!D442=\"\",\"\",CMS_Identification!D442)","v":""}]
[null,null,null,null,null,null,null,null,{"$f":"IF(LDAR_TT_summary!C343=\"\",\"\",LDAR_TT_summary!C343)","v":""},{"$f":"IF(COUNTIF(I$2:I421,I421)=1,I421,\"\")","v":""},{"$f":"+IF(J421=\"\",\"\",MAX(K$1:K420)+1)","v":""},"",null,{"$f":"IF(LDAR_H_UU_summary!C243=\"\",\"\",LDAR_H_UU_summary!C243)","v":""},{"$f":"IF(COUNTIF(N$2:N421,N421)=1,N421,\"\")","v":""},{"$f":"+IF(O421=\"\",\"\",MAX(P$1:P420)+1)","v":""},"",null,{"$f":"IF(CMS_Identification!G443=\"\",\"\",CMS_Identification!G443)","v":""},{"$f":"IF(CMS_Identification!B443=\"\",\"\",CMS_Identification!B443)","v":""},{"$f":"IF(COUNTIF(S$2:S421,S421)=1,S421,\"\")","v":""},{"$f":"+IF(U421=\"\",\"\",MAX(V$1:V420)+1)","v":""},"",null,{"$f":"IF(CMS_Identification!G443=\"\",\"\",CMS_Identification!G443)","v":""},{"$f":"IF(CMS_Identification!D443=\"\",\"\",CMS_Identification!D443)","v":""},null,null,null,{"$f":"IF(CMS_Identification!B443=\"\",\"\",CMS_Identification!B443)","v":""},{"$f":"IF(CMS_Identification!G443=\"\",\"\",CMS_Identification!G443)","v":""},{"$f":"IF(CMS_Identification!D443=\"\",\"\",CMS_Identification!D443)","v":""}]
[null,null,null,null,null,null,null,null,{"$f":"IF(LDAR_TT_summary!C344=\"\",\"\",LDAR_TT_summary!C344)","v":""},{"$f":"IF(COUNTIF(I$2:I422,I422)=1,I422,\"\")","v":""},{"$f":"+IF(J422=\"\",\"\",MAX(K$1:K421)+1)","v":""},"",null,{"$f":"IF(LDAR_H_UU_summary!C244=\"\",\"\",LDAR_H_UU_summary!C244)","v":""},{"$f":"IF(COUNTIF(N$2:N422,N422)=1,N422,\"\")","v":""},{"$f":"+IF(O422=\"\",\"\",MAX(P$1:P421)+1)","v":""},"",null,{"$f":"IF(CMS_Identification!G444=\"\",\"\",CMS_Identification!G444)","v":""},{"$f":"IF(CMS_Identification!B444=\"\",\"\",CMS_Identification!B444)","v":""},{"$f":"IF(COUNTIF(S$2:S422,S422)=1,S422,\"\")","v":""},{"$f":"+IF(U422=\"\",\"\",MAX(V$1:V421)+1)","v":""},"",null,{"$f":"IF(CMS_Identification!G444=\"\",\"\",CMS_Identification!G444)","v":""},{"$f":"IF(CMS_Identification!D444=\"\",\"\",CMS_Identification!D444)","v":""},null,null,null,{"$f":"IF(CMS_Identification!B444=\"\",\"\",CMS_Identification!B444)","v":""},{"$f":"IF(CMS_Identification!G444=\"\",\"\",CMS_Identification!G444)","v":""},{"$f":"IF(CMS_Identification!D444=\"\",\"\",CMS_Identification!D444)","v":""}]
[null,null,null,null,null,null,null,null,{"$f":"IF(LDAR_TT_summary!C345=\"\",\"\",LDAR_TT_summary!C345)","v":""},{"$f":"IF(COUNTIF(I$2:I423,I423)=1,I423,\"\")","v":""},{"$f":"+IF(J423=\"\",\"\",MAX(K$1:K422)+1)","v":""},"",null,{"$f":"IF(LDAR_H_UU_summary!C245=\"\",\"\",LDAR_H_UU_summary!C245)","v":""},{"$f":"IF(COUNTIF(N$2:N423,N423)=1,N423,\"\")","v":""},{"$f":"+IF(O423=\"\",\"\",MAX(P$1:P422)+1)","v":""},"",null,{"$f":"IF(CMS_Identification!G445=\"\",\"\",CMS_Identification!G445)","v":""},{"$f":"IF(CMS_Identification!B445=\"\",\"\",CMS_Identification!B445)","v":""},{"$f":"IF(COUNTIF(S$2:S423,S423)=1,S423,\"\")","v":""},{"$f":"+IF(U423=\"\",\"\",MAX(V$1:V422)+1)","v":""},"",null,{"$f":"IF(CMS_Identification!G445=\"\",\"\",CMS_Identification!G445)","v":""},{"$f":"IF(CMS_Identification!D445=\"\",\"\",CMS_Identification!D445)","v":""},null,null,null,{"$f":"IF(CMS_Identification!B445=\"\",\"\",CMS_Identification!B445)","v":""},{"$f":"IF(CMS_Identification!G445=\"\",\"\",CMS_Identification!G445)","v":""},{"$f":"IF(CMS_Identification!D445=\"\",\"\",CMS_Identification!D445)","v":""}]
[null,null,null,null,null,null,null,null,{"$f":"IF(LDAR_TT_summary!C346=\"\",\"\",LDAR_TT_summary!C346)","v":""},{"$f":"IF(COUNTIF(I$2:I424,I424)=1,I424,\"\")","v":""},{"$f":"+IF(J424=\"\",\"\",MAX(K$1:K423)+1)","v":""},"",null,{"$f":"IF(LDAR_H_UU_summary!C246=\"\",\"\",LDAR_H_UU_summary!C246)","v":""},{"$f":"IF(COUNTIF(N$2:N424,N424)=1,N424,\"\")","v":""},{"$f":"+IF(O424=\"\",\"\",MAX(P$1:P423)+1)","v":""},"",null,{"$f":"IF(CMS_Identification!G446=\"\",\"\",CMS_Identification!G446)","v":""},{"$f":"IF(CMS_Identification!B446=\"\",\"\",CMS_Identification!B446)","v":""},{"$f":"IF(COUNTIF(S$2:S424,S424)=1,S424,\"\")","v":""},{"$f":"+IF(U424=\"\",\"\",MAX(V$1:V423)+1)","v":""},"",null,{"$f":"IF(CMS_Identification!G446=\"\",\"\",CMS_Identification!G446)","v":""},{"$f":"IF(CMS_Identification!D446=\"\",\"\",CMS_Identification!D446)","v":""},null,null,null,{"$f":"IF(CMS_Identification!B446=\"\",\"\",CMS_Identification!B446)","v":""},{"$f":"IF(CMS_Identification!G446=\"\",\"\",CMS_Identification!G446)","v":""},{"$f":"IF(CMS_Identification!D446=\"\",\"\",CMS_Identification!D446)","v":""}]
[null,null,null,null,null,null,null,null,{"$f":"IF(LDAR_TT_summary!C347=\"\",\"\",LDAR_TT_summary!C347)","v":""},{"$f":"IF(COUNTIF(I$2:I425,I425)=1,I425,\"\")","v":""},{"$f":"+IF(J425=\"\",\"\",MAX(K$1:K424)+1)","v":""},"",null,{"$f":"IF(LDAR_H_UU_summary!C247=\"\",\"\",LDAR_H_UU_summary!C247)","v":""},{"$f":"IF(COUNTIF(N$2:N425,N425)=1,N425,\"\")","v":""},{"$f":"+IF(O425=\"\",\"\",MAX(P$1:P424)+1)","v":""},"",null,{"$f":"IF(CMS_Identification!G447=\"\",\"\",CMS_Identification!G447)","v":""},{"$f":"IF(CMS_Identification!B447=\"\",\"\",CMS_Identification!B447)","v":""},{"$f":"IF(COUNTIF(S$2:S425,S425)=1,S425,\"\")","v":""},{"$f":"+IF(U425=\"\",\"\",MAX(V$1:V424)+1)","v":""},"",null,{"$f":"IF(CMS_Identification!G447=\"\",\"\",CMS_Identification!G447)","v":""},{"$f":"IF(CMS_Identification!D447=\"\",\"\",CMS_Identification!D447)","v":""},null,null,null,{"$f":"IF(CMS_Identification!B447=\"\",\"\",CMS_Identification!B447)","v":""},{"$f":"IF(CMS_Identification!G447=\"\",\"\",CMS_Identification!G447)","v":""},{"$f":"IF(CMS_Identification!D447=\"\",\"\",CMS_Identification!D447)","v":""}]
[null,null,null,null,null,null,null,null,{"$f":"IF(LDAR_TT_summary!C348=\"\",\"\",LDAR_TT_summary!C348)","v":""},{"$f":"IF(COUNTIF(I$2:I426,I426)=1,I426,\"\")","v":""},{"$f":"+IF(J426=\"\",\"\",MAX(K$1:K425)+1)","v":""},"",null,{"$f":"IF(LDAR_H_UU_summary!C248=\"\",\"\",LDAR_H_UU_summary!C248)","v":""},{"$f":"IF(COUNTIF(N$2:N426,N426)=1,N426,\"\")","v":""},{"$f":"+IF(O426=\"\",\"\",MAX(P$1:P425)+1)","v":""},"",null,{"$f":"IF(CMS_Identification!G448=\"\",\"\",CMS_Identification!G448)","v":""},{"$f":"IF(CMS_Identification!B448=\"\",\"\",CMS_Identification!B448)","v":""},{"$f":"IF(COUNTIF(S$2:S426,S426)=1,S426,\"\")","v":""},{"$f":"+IF(U426=\"\",\"\",MAX(V$1:V425)+1)","v":""},"",null,{"$f":"IF(CMS_Identification!G448=\"\",\"\",CMS_Identification!G448)","v":""},{"$f":"IF(CMS_Identification!D448=\"\",\"\",CMS_Identification!D448)","v":""},null,null,null,{"$f":"IF(CMS_Identification!B448=\"\",\"\",CMS_Identification!B448)","v":""},{"$f":"IF(CMS_Identification!G448=\"\",\"\",CMS_Identification!G448)","v":""},{"$f":"IF(CMS_Identification!D448=\"\",\"\",CMS_Identification!D448)","v":""}]
[null,null,null,null,null,null,null,null,{"$f":"IF(LDAR_TT_summary!C349=\"\",\"\",LDAR_TT_summary!C349)","v":""},{"$f":"IF(COUNTIF(I$2:I427,I427)=1,I427,\"\")","v":""},{"$f":"+IF(J427=\"\",\"\",MAX(K$1:K426)+1)","v":""},"",null,{"$f":"IF(LDAR_H_UU_summary!C249=\"\",\"\",LDAR_H_UU_summary!C249)","v":""},{"$f":"IF(COUNTIF(N$2:N427,N427)=1,N427,\"\")","v":""},{"$f":"+IF(O427=\"\",\"\",MAX(P$1:P426)+1)","v":""},"",null,{"$f":"IF(CMS_Identification!G449=\"\",\"\",CMS_Identification!G449)","v":""},{"$f":"IF(CMS_Identification!B449=\"\",\"\",CMS_Identification!B449)","v":""},{"$f":"IF(COUNTIF(S$2:S427,S427)=1,S427,\"\")","v":""},{"$f":"+IF(U427=\"\",\"\",MAX(V$1:V426)+1)","v":""},"",null,{"$f":"IF(CMS_Identification!G449=\"\",\"\",CMS_Identification!G449)","v":""},{"$f":"IF(CMS_Identification!D449=\"\",\"\",CMS_Identification!D449)","v":""},null,null,null,{"$f":"IF(CMS_Identification!B449=\"\",\"\",CMS_Identification!B449)","v":""},{"$f":"IF(CMS_Identification!G449=\"\",\"\",CMS_Identification!G449)","v":""},{"$f":"IF(CMS_Identification!D449=\"\",\"\",CMS_Identification!D449)","v":""}]
[null,null,null,null,null,null,null,null,{"$f":"IF(LDAR_TT_summary!C350=\"\",\"\",LDAR_TT_summary!C350)","v":""},{"$f":"IF(COUNTIF(I$2:I428,I428)=1,I428,\"\")","v":""},{"$f":"+IF(J428=\"\",\"\",MAX(K$1:K427)+1)","v":""},"",null,{"$f":"IF(LDAR_H_UU_summary!C250=\"\",\"\",LDAR_H_UU_summary!C250)","v":""},{"$f":"IF(COUNTIF(N$2:N428,N428)=1,N428,\"\")","v":""},{"$f":"+IF(O428=\"\",\"\",MAX(P$1:P427)+1)","v":""},"",null,{"$f":"IF(CMS_Identification!G450=\"\",\"\",CMS_Identification!G450)","v":""},{"$f":"IF(CMS_Identification!B450=\"\",\"\",CMS_Identification!B450)","v":""},{"$f":"IF(COUNTIF(S$2:S428,S428)=1,S428,\"\")","v":""},{"$f":"+IF(U428=\"\",\"\",MAX(V$1:V427)+1)","v":""},"",null,{"$f":"IF(CMS_Identification!G450=\"\",\"\",CMS_Identification!G450)","v":""},{"$f":"IF(CMS_Identification!D450=\"\",\"\",CMS_Identification!D450)","v":""},null,null,null,{"$f":"IF(CMS_Identification!B450=\"\",\"\",CMS_Identification!B450)","v":""},{"$f":"IF(CMS_Identification!G450=\"\",\"\",CMS_Identification!G450)","v":""},{"$f":"IF(CMS_Identification!D450=\"\",\"\",CMS_Identification!D450)","v":""}]
[null,null,null,null,null,null,null,null,{"$f":"IF(LDAR_TT_summary!C351=\"\",\"\",LDAR_TT_summary!C351)","v":""},{"$f":"IF(COUNTIF(I$2:I429,I429)=1,I429,\"\")","v":""},{"$f":"+IF(J429=\"\",\"\",MAX(K$1:K428)+1)","v":""},"",null,{"$f":"IF(LDAR_H_UU_summary!C251=\"\",\"\",LDAR_H_UU_summary!C251)","v":""},{"$f":"IF(COUNTIF(N$2:N429,N429)=1,N429,\"\")","v":""},{"$f":"+IF(O429=\"\",\"\",MAX(P$1:P428)+1)","v":""},"",null,{"$f":"IF(CMS_Identification!G451=\"\",\"\",CMS_Identification!G451)","v":""},{"$f":"IF(CMS_Identification!B451=\"\",\"\",CMS_Identification!B451)","v":""},{"$f":"IF(COUNTIF(S$2:S429,S429)=1,S429,\"\")","v":""},{"$f":"+IF(U429=\"\",\"\",MAX(V$1:V428)+1)","v":""},"",null,{"$f":"IF(CMS_Identification!G451=\"\",\"\",CMS_Identification!G451)","v":""},{"$f":"IF(CMS_Identification!D451=\"\",\"\",CMS_Identification!D451)","v":""},null,null,null,{"$f":"IF(CMS_Identification!B451=\"\",\"\",CMS_Identification!B451)","v":""},{"$f":"IF(CMS_Identification!G451=\"\",\"\",CMS_Identification!G451)","v":""},{"$f":"IF(CMS_Identification!D451=\"\",\"\",CMS_Identification!D451)","v":""}]
[null,null,null,null,null,null,null,null,{"$f":"IF(LDAR_TT_summary!C352=\"\",\"\",LDAR_TT_summary!C352)","v":""},{"$f":"IF(COUNTIF(I$2:I430,I430)=1,I430,\"\")","v":""},{"$f":"+IF(J430=\"\",\"\",MAX(K$1:K429)+1)","v":""},"",null,{"$f":"IF(LDAR_H_UU_summary!C252=\"\",\"\",LDAR_H_UU_summary!C252)","v":""},{"$f":"IF(COUNTIF(N$2:N430,N430)=1,N430,\"\")","v":""},{"$f":"+IF(O430=\"\",\"\",MAX(P$1:P429)+1)","v":""},"",null,{"$f":"IF(CMS_Identification!G452=\"\",\"\",CMS_Identification!G452)","v":""},{"$f":"IF(CMS_Identification!B452=\"\",\"\",CMS_Identification!B452)","v":""},{"$f":"IF(COUNTIF(S$2:S430,S430)=1,S430,\"\")","v":""},{"$f":"+IF(U430=\"\",\"\",MAX(V$1:V429)+1)","v":""},"",null,{"$f":"IF(CMS_Identification!G452=\"\",\"\",CMS_Identification!G452)","v":""},{"$f":"IF(CMS_Identification!D452=\"\",\"\",CMS_Identification!D452)","v":""},null,null,null,{"$f":"IF(CMS_Identification!B452=\"\",\"\",CMS_Identification!B452)","v":""},{"$f":"IF(CMS_Identification!G452=\"\",\"\",CMS_Identification!G452)","v":""},{"$f":"IF(CMS_Identification!D452=\"\",\"\",CMS_Identification!D452)","v":""}]
[null,null,null,null,null,null,null,null,{"$f":"IF(LDAR_TT_summary!C353=\"\",\"\",LDAR_TT_summary!C353)","v":""},{"$f":"IF(COUNTIF(I$2:I431,I431)=1,I431,\"\")","v":""},{"$f":"+IF(J431=\"\",\"\",MAX(K$1:K430)+1)","v":""},"",null,{"$f":"IF(LDAR_H_UU_summary!C253=\"\",\"\",LDAR_H_UU_summary!C253)","v":""},{"$f":"IF(COUNTIF(N$2:N431,N431)=1,N431,\"\")","v":""},{"$f":"+IF(O431=\"\",\"\",MAX(P$1:P430)+1)","v":""},"",null,{"$f":"IF(CMS_Identification!G453=\"\",\"\",CMS_Identification!G453)","v":""},{"$f":"IF(CMS_Identification!B453=\"\",\"\",CMS_Identification!B453)","v":""},{"$f":"IF(COUNTIF(S$2:S431,S431)=1,S431,\"\")","v":""},{"$f":"+IF(U431=\"\",\"\",MAX(V$1:V430)+1)","v":""},"",null,{"$f":"IF(CMS_Identification!G453=\"\",\"\",CMS_Identification!G453)","v":""},{"$f":"IF(CMS_Identification!D453=\"\",\"\",CMS_Identification!D453)","v":""},null,null,null,{"$f":"IF(CMS_Identification!B453=\"\",\"\",CMS_Identification!B453)","v":""},{"$f":"IF(CMS_Identification!G453=\"\",\"\",CMS_Identification!G453)","v":""},{"$f":"IF(CMS_Identification!D453=\"\",\"\",CMS_Identification!D453)","v":""}]
[null,null,null,null,null,null,null,null,{"$f":"IF(LDAR_TT_summary!C354=\"\",\"\",LDAR_TT_summary!C354)","v":""},{"$f":"IF(COUNTIF(I$2:I432,I432)=1,I432,\"\")","v":""},{"$f":"+IF(J432=\"\",\"\",MAX(K$1:K431)+1)","v":""},"",null,{"$f":"IF(LDAR_H_UU_summary!C254=\"\",\"\",LDAR_H_UU_summary!C254)","v":""},{"$f":"IF(COUNTIF(N$2:N432,N432)=1,N432,\"\")","v":""},{"$f":"+IF(O432=\"\",\"\",MAX(P$1:P431)+1)","v":""},"",null,{"$f":"IF(CMS_Identification!G454=\"\",\"\",CMS_Identification!G454)","v":""},{"$f":"IF(CMS_Identification!B454=\"\",\"\",CMS_Identification!B454)","v":""},{"$f":"IF(COUNTIF(S$2:S432,S432)=1,S432,\"\")","v":""},{"$f":"+IF(U432=\"\",\"\",MAX(V$1:V431)+1)","v":""},"",null,{"$f":"IF(CMS_Identification!G454=\"\",\"\",CMS_Identification!G454)","v":""},{"$f":"IF(CMS_Identification!D454=\"\",\"\",CMS_Identification!D454)","v":""},null,null,null,{"$f":"IF(CMS_Identification!B454=\"\",\"\",CMS_Identification!B454)","v":""},{"$f":"IF(CMS_Identification!G454=\"\",\"\",CMS_Identification!G454)","v":""},{"$f":"IF(CMS_Identification!D454=\"\",\"\",CMS_Identification!D454)","v":""}]
[null,null,null,null,null,null,null,null,{"$f":"IF(LDAR_TT_summary!C355=\"\",\"\",LDAR_TT_summary!C355)","v":""},{"$f":"IF(COUNTIF(I$2:I433,I433)=1,I433,\"\")","v":""},{"$f":"+IF(J433=\"\",\"\",MAX(K$1:K432)+1)","v":""},"",null,{"$f":"IF(LDAR_H_UU_summary!C255=\"\",\"\",LDAR_H_UU_summary!C255)","v":""},{"$f":"IF(COUNTIF(N$2:N433,N433)=1,N433,\"\")","v":""},{"$f":"+IF(O433=\"\",\"\",MAX(P$1:P432)+1)","v":""},"",null,{"$f":"IF(CMS_Identification!G455=\"\",\"\",CMS_Identification!G455)","v":""},{"$f":"IF(CMS_Identification!B455=\"\",\"\",CMS_Identification!B455)","v":""},{"$f":"IF(COUNTIF(S$2:S433,S433)=1,S433,\"\")","v":""},{"$f":"+IF(U433=\"\",\"\",MAX(V$1:V432)+1)","v":""},"",null,{"$f":"IF(CMS_Identification!G455=\"\",\"\",CMS_Identification!G455)","v":""},{"$f":"IF(CMS_Identification!D455=\"\",\"\",CMS_Identification!D455)","v":""},null,null,null,{"$f":"IF(CMS_Identification!B455=\"\",\"\",CMS_Identification!B455)","v":""},{"$f":"IF(CMS_Identification!G455=\"\",\"\",CMS_Identification!G455)","v":""},{"$f":"IF(CMS_Identification!D455=\"\",\"\",CMS_Identification!D455)","v":""}]
[null,null,null,null,null,null,null,null,{"$f":"IF(LDAR_TT_summary!C356=\"\",\"\",LDAR_TT_summary!C356)","v":""},{"$f":"IF(COUNTIF(I$2:I434,I434)=1,I434,\"\")","v":""},{"$f":"+IF(J434=\"\",\"\",MAX(K$1:K433)+1)","v":""},"",null,{"$f":"IF(LDAR_H_UU_summary!C256=\"\",\"\",LDAR_H_UU_summary!C256)","v":""},{"$f":"IF(COUNTIF(N$2:N434,N434)=1,N434,\"\")","v":""},{"$f":"+IF(O434=\"\",\"\",MAX(P$1:P433)+1)","v":""},"",null,{"$f":"IF(CMS_Identification!G456=\"\",\"\",CMS_Identification!G456)","v":""},{"$f":"IF(CMS_Identification!B456=\"\",\"\",CMS_Identification!B456)","v":""},{"$f":"IF(COUNTIF(S$2:S434,S434)=1,S434,\"\")","v":""},{"$f":"+IF(U434=\"\",\"\",MAX(V$1:V433)+1)","v":""},"",null,{"$f":"IF(CMS_Identification!G456=\"\",\"\",CMS_Identification!G456)","v":""},{"$f":"IF(CMS_Identification!D456=\"\",\"\",CMS_Identification!D456)","v":""},null,null,null,{"$f":"IF(CMS_Identification!B456=\"\",\"\",CMS_Identification!B456)","v":""},{"$f":"IF(CMS_Identification!G456=\"\",\"\",CMS_Identification!G456)","v":""},{"$f":"IF(CMS_Identification!D456=\"\",\"\",CMS_Identification!D456)","v":""}]
[null,null,null,null,null,null,null,null,{"$f":"IF(LDAR_TT_summary!C357=\"\",\"\",LDAR_TT_summary!C357)","v":""},{"$f":"IF(COUNTIF(I$2:I435,I435)=1,I435,\"\")","v":""},{"$f":"+IF(J435=\"\",\"\",MAX(K$1:K434)+1)","v":""},"",null,{"$f":"IF(LDAR_H_UU_summary!C257=\"\",\"\",LDAR_H_UU_summary!C257)","v":""},{"$f":"IF(COUNTIF(N$2:N435,N435)=1,N435,\"\")","v":""},{"$f":"+IF(O435=\"\",\"\",MAX(P$1:P434)+1)","v":""},"",null,{"$f":"IF(CMS_Identification!G457=\"\",\"\",CMS_Identification!G457)","v":""},{"$f":"IF(CMS_Identification!B457=\"\",\"\",CMS_Identification!B457)","v":""},{"$f":"IF(COUNTIF(S$2:S435,S435)=1,S435,\"\")","v":""},{"$f":"+IF(U435=\"\",\"\",MAX(V$1:V434)+1)","v":""},"",null,{"$f":"IF(CMS_Identification!G457=\"\",\"\",CMS_Identification!G457)","v":""},{"$f":"IF(CMS_Identification!D457=\"\",\"\",CMS_Identification!D457)","v":""},null,null,null,{"$f":"IF(CMS_Identification!B457=\"\",\"\",CMS_Identification!B457)","v":""},{"$f":"IF(CMS_Identification!G457=\"\",\"\",CMS_Identification!G457)","v":""},{"$f":"IF(CMS_Identification!D457=\"\",\"\",CMS_Identification!D457)","v":""}]
[null,null,null,null,null,null,null,null,{"$f":"IF(LDAR_TT_summary!C358=\"\",\"\",LDAR_TT_summary!C358)","v":""},{"$f":"IF(COUNTIF(I$2:I436,I436)=1,I436,\"\")","v":""},{"$f":"+IF(J436=\"\",\"\",MAX(K$1:K435)+1)","v":""},"",null,{"$f":"IF(LDAR_H_UU_summary!C258=\"\",\"\",LDAR_H_UU_summary!C258)","v":""},{"$f":"IF(COUNTIF(N$2:N436,N436)=1,N436,\"\")","v":""},{"$f":"+IF(O436=\"\",\"\",MAX(P$1:P435)+1)","v":""},"",null,{"$f":"IF(CMS_Identification!G458=\"\",\"\",CMS_Identification!G458)","v":""},{"$f":"IF(CMS_Identification!B458=\"\",\"\",CMS_Identification!B458)","v":""},{"$f":"IF(COUNTIF(S$2:S436,S436)=1,S436,\"\")","v":""},{"$f":"+IF(U436=\"\",\"\",MAX(V$1:V435)+1)","v":""},"",null,{"$f":"IF(CMS_Identification!G458=\"\",\"\",CMS_Identification!G458)","v":""},{"$f":"IF(CMS_Identification!D458=\"\",\"\",CMS_Identification!D458)","v":""},null,null,null,{"$f":"IF(CMS_Identification!B458=\"\",\"\",CMS_Identification!B458)","v":""},{"$f":"IF(CMS_Identification!G458=\"\",\"\",CMS_Identification!G458)","v":""},{"$f":"IF(CMS_Identification!D458=\"\",\"\",CMS_Identification!D458)","v":""}]
[null,null,null,null,null,null,null,null,{"$f":"IF(LDAR_TT_summary!C359=\"\",\"\",LDAR_TT_summary!C359)","v":""},{"$f":"IF(COUNTIF(I$2:I437,I437)=1,I437,\"\")","v":""},{"$f":"+IF(J437=\"\",\"\",MAX(K$1:K436)+1)","v":""},"",null,{"$f":"IF(LDAR_H_UU_summary!C259=\"\",\"\",LDAR_H_UU_summary!C259)","v":""},{"$f":"IF(COUNTIF(N$2:N437,N437)=1,N437,\"\")","v":""},{"$f":"+IF(O437=\"\",\"\",MAX(P$1:P436)+1)","v":""},"",null,{"$f":"IF(CMS_Identification!G459=\"\",\"\",CMS_Identification!G459)","v":""},{"$f":"IF(CMS_Identification!B459=\"\",\"\",CMS_Identification!B459)","v":""},{"$f":"IF(COUNTIF(S$2:S437,S437)=1,S437,\"\")","v":""},{"$f":"+IF(U437=\"\",\"\",MAX(V$1:V436)+1)","v":""},"",null,{"$f":"IF(CMS_Identification!G459=\"\",\"\",CMS_Identification!G459)","v":""},{"$f":"IF(CMS_Identification!D459=\"\",\"\",CMS_Identification!D459)","v":""},null,null,null,{"$f":"IF(CMS_Identification!B459=\"\",\"\",CMS_Identification!B459)","v":""},{"$f":"IF(CMS_Identification!G459=\"\",\"\",CMS_Identification!G459)","v":""},{"$f":"IF(CMS_Identification!D459=\"\",\"\",CMS_Identification!D459)","v":""}]
[null,null,null,null,null,null,null,null,{"$f":"IF(LDAR_TT_summary!C360=\"\",\"\",LDAR_TT_summary!C360)","v":""},{"$f":"IF(COUNTIF(I$2:I438,I438)=1,I438,\"\")","v":""},{"$f":"+IF(J438=\"\",\"\",MAX(K$1:K437)+1)","v":""},"",null,{"$f":"IF(LDAR_H_UU_summary!C260=\"\",\"\",LDAR_H_UU_summary!C260)","v":""},{"$f":"IF(COUNTIF(N$2:N438,N438)=1,N438,\"\")","v":""},{"$f":"+IF(O438=\"\",\"\",MAX(P$1:P437)+1)","v":""},"",null,{"$f":"IF(CMS_Identification!G460=\"\",\"\",CMS_Identification!G460)","v":""},{"$f":"IF(CMS_Identification!B460=\"\",\"\",CMS_Identification!B460)","v":""},{"$f":"IF(COUNTIF(S$2:S438,S438)=1,S438,\"\")","v":""},{"$f":"+IF(U438=\"\",\"\",MAX(V$1:V437)+1)","v":""},"",null,{"$f":"IF(CMS_Identification!G460=\"\",\"\",CMS_Identification!G460)","v":""},{"$f":"IF(CMS_Identification!D460=\"\",\"\",CMS_Identification!D460)","v":""},null,null,null,{"$f":"IF(CMS_Identification!B460=\"\",\"\",CMS_Identification!B460)","v":""},{"$f":"IF(CMS_Identification!G460=\"\",\"\",CMS_Identification!G460)","v":""},{"$f":"IF(CMS_Identification!D460=\"\",\"\",CMS_Identification!D460)","v":""}]
[null,null,null,null,null,null,null,null,{"$f":"IF(LDAR_TT_summary!C361=\"\",\"\",LDAR_TT_summary!C361)","v":""},{"$f":"IF(COUNTIF(I$2:I439,I439)=1,I439,\"\")","v":""},{"$f":"+IF(J439=\"\",\"\",MAX(K$1:K438)+1)","v":""},"",null,{"$f":"IF(LDAR_H_UU_summary!C261=\"\",\"\",LDAR_H_UU_summary!C261)","v":""},{"$f":"IF(COUNTIF(N$2:N439,N439)=1,N439,\"\")","v":""},{"$f":"+IF(O439=\"\",\"\",MAX(P$1:P438)+1)","v":""},"",null,{"$f":"IF(CMS_Identification!G461=\"\",\"\",CMS_Identification!G461)","v":""},{"$f":"IF(CMS_Identification!B461=\"\",\"\",CMS_Identification!B461)","v":""},{"$f":"IF(COUNTIF(S$2:S439,S439)=1,S439,\"\")","v":""},{"$f":"+IF(U439=\"\",\"\",MAX(V$1:V438)+1)","v":""},"",null,{"$f":"IF(CMS_Identification!G461=\"\",\"\",CMS_Identification!G461)","v":""},{"$f":"IF(CMS_Identification!D461=\"\",\"\",CMS_Identification!D461)","v":""},null,null,null,{"$f":"IF(CMS_Identification!B461=\"\",\"\",CMS_Identification!B461)","v":""},{"$f":"IF(CMS_Identification!G461=\"\",\"\",CMS_Identification!G461)","v":""},{"$f":"IF(CMS_Identification!D461=\"\",\"\",CMS_Identification!D461)","v":""}]
[null,null,null,null,null,null,null,null,{"$f":"IF(LDAR_TT_summary!C362=\"\",\"\",LDAR_TT_summary!C362)","v":""},{"$f":"IF(COUNTIF(I$2:I440,I440)=1,I440,\"\")","v":""},{"$f":"+IF(J440=\"\",\"\",MAX(K$1:K439)+1)","v":""},"",null,{"$f":"IF(LDAR_H_UU_summary!C262=\"\",\"\",LDAR_H_UU_summary!C262)","v":""},{"$f":"IF(COUNTIF(N$2:N440,N440)=1,N440,\"\")","v":""},{"$f":"+IF(O440=\"\",\"\",MAX(P$1:P439)+1)","v":""},"",null,{"$f":"IF(CMS_Identification!G462=\"\",\"\",CMS_Identification!G462)","v":""},{"$f":"IF(CMS_Identification!B462=\"\",\"\",CMS_Identification!B462)","v":""},{"$f":"IF(COUNTIF(S$2:S440,S440)=1,S440,\"\")","v":""},{"$f":"+IF(U440=\"\",\"\",MAX(V$1:V439)+1)","v":""},"",null,{"$f":"IF(CMS_Identification!G462=\"\",\"\",CMS_Identification!G462)","v":""},{"$f":"IF(CMS_Identification!D462=\"\",\"\",CMS_Identification!D462)","v":""},null,null,null,{"$f":"IF(CMS_Identification!B462=\"\",\"\",CMS_Identification!B462)","v":""},{"$f":"IF(CMS_Identification!G462=\"\",\"\",CMS_Identification!G462)","v":""},{"$f":"IF(CMS_Identification!D462=\"\",\"\",CMS_Identification!D462)","v":""}]
[null,null,null,null,null,null,null,null,{"$f":"IF(LDAR_TT_summary!C363=\"\",\"\",LDAR_TT_summary!C363)","v":""},{"$f":"IF(COUNTIF(I$2:I441,I441)=1,I441,\"\")","v":""},{"$f":"+IF(J441=\"\",\"\",MAX(K$1:K440)+1)","v":""},"",null,{"$f":"IF(LDAR_H_UU_summary!C263=\"\",\"\",LDAR_H_UU_summary!C263)","v":""},{"$f":"IF(COUNTIF(N$2:N441,N441)=1,N441,\"\")","v":""},{"$f":"+IF(O441=\"\",\"\",MAX(P$1:P440)+1)","v":""},"",null,{"$f":"IF(CMS_Identification!G463=\"\",\"\",CMS_Identification!G463)","v":""},{"$f":"IF(CMS_Identification!B463=\"\",\"\",CMS_Identification!B463)","v":""},{"$f":"IF(COUNTIF(S$2:S441,S441)=1,S441,\"\")","v":""},{"$f":"+IF(U441=\"\",\"\",MAX(V$1:V440)+1)","v":""},"",null,{"$f":"IF(CMS_Identification!G463=\"\",\"\",CMS_Identification!G463)","v":""},{"$f":"IF(CMS_Identification!D463=\"\",\"\",CMS_Identification!D463)","v":""},null,null,null,{"$f":"IF(CMS_Identification!B463=\"\",\"\",CMS_Identification!B463)","v":""},{"$f":"IF(CMS_Identification!G463=\"\",\"\",CMS_Identification!G463)","v":""},{"$f":"IF(CMS_Identification!D463=\"\",\"\",CMS_Identification!D463)","v":""}]
[null,null,null,null,null,null,null,null,{"$f":"IF(LDAR_TT_summary!C364=\"\",\"\",LDAR_TT_summary!C364)","v":""},{"$f":"IF(COUNTIF(I$2:I442,I442)=1,I442,\"\")","v":""},{"$f":"+IF(J442=\"\",\"\",MAX(K$1:K441)+1)","v":""},"",null,{"$f":"IF(LDAR_H_UU_summary!C264=\"\",\"\",LDAR_H_UU_summary!C264)","v":""},{"$f":"IF(COUNTIF(N$2:N442,N442)=1,N442,\"\")","v":""},{"$f":"+IF(O442=\"\",\"\",MAX(P$1:P441)+1)","v":""},"",null,{"$f":"IF(CMS_Identification!G464=\"\",\"\",CMS_Identification!G464)","v":""},{"$f":"IF(CMS_Identification!B464=\"\",\"\",CMS_Identification!B464)","v":""},{"$f":"IF(COUNTIF(S$2:S442,S442)=1,S442,\"\")","v":""},{"$f":"+IF(U442=\"\",\"\",MAX(V$1:V441)+1)","v":""},"",null,{"$f":"IF(CMS_Identification!G464=\"\",\"\",CMS_Identification!G464)","v":""},{"$f":"IF(CMS_Identification!D464=\"\",\"\",CMS_Identification!D464)","v":""},null,null,null,{"$f":"IF(CMS_Identification!B464=\"\",\"\",CMS_Identification!B464)","v":""},{"$f":"IF(CMS_Identification!G464=\"\",\"\",CMS_Identification!G464)","v":""},{"$f":"IF(CMS_Identification!D464=\"\",\"\",CMS_Identification!D464)","v":""}]
[null,null,null,null,null,null,null,null,{"$f":"IF(LDAR_TT_summary!C365=\"\",\"\",LDAR_TT_summary!C365)","v":""},{"$f":"IF(COUNTIF(I$2:I443,I443)=1,I443,\"\")","v":""},{"$f":"+IF(J443=\"\",\"\",MAX(K$1:K442)+1)","v":""},"",null,{"$f":"IF(LDAR_H_UU_summary!C265=\"\",\"\",LDAR_H_UU_summary!C265)","v":""},{"$f":"IF(COUNTIF(N$2:N443,N443)=1,N443,\"\")","v":""},{"$f":"+IF(O443=\"\",\"\",MAX(P$1:P442)+1)","v":""},"",null,{"$f":"IF(CMS_Identification!G465=\"\",\"\",CMS_Identification!G465)","v":""},{"$f":"IF(CMS_Identification!B465=\"\",\"\",CMS_Identification!B465)","v":""},{"$f":"IF(COUNTIF(S$2:S443,S443)=1,S443,\"\")","v":""},{"$f":"+IF(U443=\"\",\"\",MAX(V$1:V442)+1)","v":""},"",null,{"$f":"IF(CMS_Identification!G465=\"\",\"\",CMS_Identification!G465)","v":""},{"$f":"IF(CMS_Identification!D465=\"\",\"\",CMS_Identification!D465)","v":""},null,null,null,{"$f":"IF(CMS_Identification!B465=\"\",\"\",CMS_Identification!B465)","v":""},{"$f":"IF(CMS_Identification!G465=\"\",\"\",CMS_Identification!G465)","v":""},{"$f":"IF(CMS_Identification!D465=\"\",\"\",CMS_Identification!D465)","v":""}]
[null,null,null,null,null,null,null,null,{"$f":"IF(LDAR_TT_summary!C366=\"\",\"\",LDAR_TT_summary!C366)","v":""},{"$f":"IF(COUNTIF(I$2:I444,I444)=1,I444,\"\")","v":""},{"$f":"+IF(J444=\"\",\"\",MAX(K$1:K443)+1)","v":""},"",null,{"$f":"IF(LDAR_H_UU_summary!C266=\"\",\"\",LDAR_H_UU_summary!C266)","v":""},{"$f":"IF(COUNTIF(N$2:N444,N444)=1,N444,\"\")","v":""},{"$f":"+IF(O444=\"\",\"\",MAX(P$1:P443)+1)","v":""},"",null,{"$f":"IF(CMS_Identification!G466=\"\",\"\",CMS_Identification!G466)","v":""},{"$f":"IF(CMS_Identification!B466=\"\",\"\",CMS_Identification!B466)","v":""},{"$f":"IF(COUNTIF(S$2:S444,S444)=1,S444,\"\")","v":""},{"$f":"+IF(U444=\"\",\"\",MAX(V$1:V443)+1)","v":""},"",null,{"$f":"IF(CMS_Identification!G466=\"\",\"\",CMS_Identification!G466)","v":""},{"$f":"IF(CMS_Identification!D466=\"\",\"\",CMS_Identification!D466)","v":""},null,null,null,{"$f":"IF(CMS_Identification!B466=\"\",\"\",CMS_Identification!B466)","v":""},{"$f":"IF(CMS_Identification!G466=\"\",\"\",CMS_Identification!G466)","v":""},{"$f":"IF(CMS_Identification!D466=\"\",\"\",CMS_Identification!D466)","v":""}]
[null,null,null,null,null,null,null,null,{"$f":"IF(LDAR_TT_summary!C367=\"\",\"\",LDAR_TT_summary!C367)","v":""},{"$f":"IF(COUNTIF(I$2:I445,I445)=1,I445,\"\")","v":""},{"$f":"+IF(J445=\"\",\"\",MAX(K$1:K444)+1)","v":""},"",null,{"$f":"IF(LDAR_H_UU_summary!C267=\"\",\"\",LDAR_H_UU_summary!C267)","v":""},{"$f":"IF(COUNTIF(N$2:N445,N445)=1,N445,\"\")","v":""},{"$f":"+IF(O445=\"\",\"\",MAX(P$1:P444)+1)","v":""},"",null,{"$f":"IF(CMS_Identification!G467=\"\",\"\",CMS_Identification!G467)","v":""},{"$f":"IF(CMS_Identification!B467=\"\",\"\",CMS_Identification!B467)","v":""},{"$f":"IF(COUNTIF(S$2:S445,S445)=1,S445,\"\")","v":""},{"$f":"+IF(U445=\"\",\"\",MAX(V$1:V444)+1)","v":""},"",null,{"$f":"IF(CMS_Identification!G467=\"\",\"\",CMS_Identification!G467)","v":""},{"$f":"IF(CMS_Identification!D467=\"\",\"\",CMS_Identification!D467)","v":""},null,null,null,{"$f":"IF(CMS_Identification!B467=\"\",\"\",CMS_Identification!B467)","v":""},{"$f":"IF(CMS_Identification!G467=\"\",\"\",CMS_Identification!G467)","v":""},{"$f":"IF(CMS_Identification!D467=\"\",\"\",CMS_Identification!D467)","v":""}]
[null,null,null,null,null,null,null,null,{"$f":"IF(LDAR_TT_summary!C368=\"\",\"\",LDAR_TT_summary!C368)","v":""},{"$f":"IF(COUNTIF(I$2:I446,I446)=1,I446,\"\")","v":""},{"$f":"+IF(J446=\"\",\"\",MAX(K$1:K445)+1)","v":""},"",null,{"$f":"IF(LDAR_H_UU_summary!C268=\"\",\"\",LDAR_H_UU_summary!C268)","v":""},{"$f":"IF(COUNTIF(N$2:N446,N446)=1,N446,\"\")","v":""},{"$f":"+IF(O446=\"\",\"\",MAX(P$1:P445)+1)","v":""},"",null,{"$f":"IF(CMS_Identification!G468=\"\",\"\",CMS_Identification!G468)","v":""},{"$f":"IF(CMS_Identification!B468=\"\",\"\",CMS_Identification!B468)","v":""},{"$f":"IF(COUNTIF(S$2:S446,S446)=1,S446,\"\")","v":""},{"$f":"+IF(U446=\"\",\"\",MAX(V$1:V445)+1)","v":""},"",null,{"$f":"IF(CMS_Identification!G468=\"\",\"\",CMS_Identification!G468)","v":""},{"$f":"IF(CMS_Identification!D468=\"\",\"\",CMS_Identification!D468)","v":""},null,null,null,{"$f":"IF(CMS_Identification!B468=\"\",\"\",CMS_Identification!B468)","v":""},{"$f":"IF(CMS_Identification!G468=\"\",\"\",CMS_Identification!G468)","v":""},{"$f":"IF(CMS_Identification!D468=\"\",\"\",CMS_Identification!D468)","v":""}]
[null,null,null,null,null,null,null,null,{"$f":"IF(LDAR_TT_summary!C369=\"\",\"\",LDAR_TT_summary!C369)","v":""},{"$f":"IF(COUNTIF(I$2:I447,I447)=1,I447,\"\")","v":""},{"$f":"+IF(J447=\"\",\"\",MAX(K$1:K446)+1)","v":""},"",null,{"$f":"IF(LDAR_H_UU_summary!C269=\"\",\"\",LDAR_H_UU_summary!C269)","v":""},{"$f":"IF(COUNTIF(N$2:N447,N447)=1,N447,\"\")","v":""},{"$f":"+IF(O447=\"\",\"\",MAX(P$1:P446)+1)","v":""},"",null,{"$f":"IF(CMS_Identification!G469=\"\",\"\",CMS_Identification!G469)","v":""},{"$f":"IF(CMS_Identification!B469=\"\",\"\",CMS_Identification!B469)","v":""},{"$f":"IF(COUNTIF(S$2:S447,S447)=1,S447,\"\")","v":""},{"$f":"+IF(U447=\"\",\"\",MAX(V$1:V446)+1)","v":""},"",null,{"$f":"IF(CMS_Identification!G469=\"\",\"\",CMS_Identification!G469)","v":""},{"$f":"IF(CMS_Identification!D469=\"\",\"\",CMS_Identification!D469)","v":""},null,null,null,{"$f":"IF(CMS_Identification!B469=\"\",\"\",CMS_Identification!B469)","v":""},{"$f":"IF(CMS_Identification!G469=\"\",\"\",CMS_Identification!G469)","v":""},{"$f":"IF(CMS_Identification!D469=\"\",\"\",CMS_Identification!D469)","v":""}]
[null,null,null,null,null,null,null,null,{"$f":"IF(LDAR_TT_summary!C370=\"\",\"\",LDAR_TT_summary!C370)","v":""},{"$f":"IF(COUNTIF(I$2:I448,I448)=1,I448,\"\")","v":""},{"$f":"+IF(J448=\"\",\"\",MAX(K$1:K447)+1)","v":""},"",null,{"$f":"IF(LDAR_H_UU_summary!C270=\"\",\"\",LDAR_H_UU_summary!C270)","v":""},{"$f":"IF(COUNTIF(N$2:N448,N448)=1,N448,\"\")","v":""},{"$f":"+IF(O448=\"\",\"\",MAX(P$1:P447)+1)","v":""},"",null,{"$f":"IF(CMS_Identification!G470=\"\",\"\",CMS_Identification!G470)","v":""},{"$f":"IF(CMS_Identification!B470=\"\",\"\",CMS_Identification!B470)","v":""},{"$f":"IF(COUNTIF(S$2:S448,S448)=1,S448,\"\")","v":""},{"$f":"+IF(U448=\"\",\"\",MAX(V$1:V447)+1)","v":""},"",null,{"$f":"IF(CMS_Identification!G470=\"\",\"\",CMS_Identification!G470)","v":""},{"$f":"IF(CMS_Identification!D470=\"\",\"\",CMS_Identification!D470)","v":""},null,null,null,{"$f":"IF(CMS_Identification!B470=\"\",\"\",CMS_Identification!B470)","v":""},{"$f":"IF(CMS_Identification!G470=\"\",\"\",CMS_Identification!G470)","v":""},{"$f":"IF(CMS_Identification!D470=\"\",\"\",CMS_Identification!D470)","v":""}]
[null,null,null,null,null,null,null,null,{"$f":"IF(LDAR_TT_summary!C371=\"\",\"\",LDAR_TT_summary!C371)","v":""},{"$f":"IF(COUNTIF(I$2:I449,I449)=1,I449,\"\")","v":""},{"$f":"+IF(J449=\"\",\"\",MAX(K$1:K448)+1)","v":""},"",null,{"$f":"IF(LDAR_H_UU_summary!C271=\"\",\"\",LDAR_H_UU_summary!C271)","v":""},{"$f":"IF(COUNTIF(N$2:N449,N449)=1,N449,\"\")","v":""},{"$f":"+IF(O449=\"\",\"\",MAX(P$1:P448)+1)","v":""},"",null,{"$f":"IF(CMS_Identification!G471=\"\",\"\",CMS_Identification!G471)","v":""},{"$f":"IF(CMS_Identification!B471=\"\",\"\",CMS_Identification!B471)","v":""},{"$f":"IF(COUNTIF(S$2:S449,S449)=1,S449,\"\")","v":""},{"$f":"+IF(U449=\"\",\"\",MAX(V$1:V448)+1)","v":""},"",null,{"$f":"IF(CMS_Identification!G471=\"\",\"\",CMS_Identification!G471)","v":""},{"$f":"IF(CMS_Identification!D471=\"\",\"\",CMS_Identification!D471)","v":""},null,null,null,{"$f":"IF(CMS_Identification!B471=\"\",\"\",CMS_Identification!B471)","v":""},{"$f":"IF(CMS_Identification!G471=\"\",\"\",CMS_Identification!G471)","v":""},{"$f":"IF(CMS_Identification!D471=\"\",\"\",CMS_Identification!D471)","v":""}]
[null,null,null,null,null,null,null,null,{"$f":"IF(LDAR_TT_summary!C372=\"\",\"\",LDAR_TT_summary!C372)","v":""},{"$f":"IF(COUNTIF(I$2:I450,I450)=1,I450,\"\")","v":""},{"$f":"+IF(J450=\"\",\"\",MAX(K$1:K449)+1)","v":""},"",null,{"$f":"IF(LDAR_H_UU_summary!C272=\"\",\"\",LDAR_H_UU_summary!C272)","v":""},{"$f":"IF(COUNTIF(N$2:N450,N450)=1,N450,\"\")","v":""},{"$f":"+IF(O450=\"\",\"\",MAX(P$1:P449)+1)","v":""},"",null,{"$f":"IF(CMS_Identification!G472=\"\",\"\",CMS_Identification!G472)","v":""},{"$f":"IF(CMS_Identification!B472=\"\",\"\",CMS_Identification!B472)","v":""},{"$f":"IF(COUNTIF(S$2:S450,S450)=1,S450,\"\")","v":""},{"$f":"+IF(U450=\"\",\"\",MAX(V$1:V449)+1)","v":""},{"$f":"+IFERROR(INDEX($S$2:$S$501,MATCH(ROW()-ROW($V$1),$V$2:$V$501,0)),\"\")","v":""},null,{"$f":"IF(CMS_Identification!G472=\"\",\"\",CMS_Identification!G472)","v":""},{"$f":"IF(CMS_Identification!D472=\"\",\"\",CMS_Identification!D472)","v":""},null,null,null,{"$f":"IF(CMS_Identification!B472=\"\",\"\",CMS_Identification!B472)","v":""},{"$f":"IF(CMS_Identification!G472=\"\",\"\",CMS_Identification!G472)","v":""},{"$f":"IF(CMS_Identification!D472=\"\",\"\",CMS_Identification!D472)","v":""}]
[null,null,null,null,null,null,null,null,{"$f":"IF(LDAR_TT_summary!C373=\"\",\"\",LDAR_TT_summary!C373)","v":""},{"$f":"IF(COUNTIF(I$2:I451,I451)=1,I451,\"\")","v":""},{"$f":"+IF(J451=\"\",\"\",MAX(K$1:K450)+1)","v":""},{"$f":"+IFERROR(INDEX($I$2:$I$801,MATCH(ROW()-ROW($K$1),$K$2:$K$801,0)),\"\")","v":""},null,{"$f":"IF(LDAR_H_UU_summary!C273=\"\",\"\",LDAR_H_UU_summary!C273)","v":""},{"$f":"IF(COUNTIF(N$2:N451,N451)=1,N451,\"\")","v":""},{"$f":"+IF(O451=\"\",\"\",MAX(P$1:P450)+1)","v":""},{"$f":"+IFERROR(INDEX($N$2:$N$2001,MATCH(ROW()-ROW($P$1),$P$2:$P$2001,0)),\"\")","v":""},null,{"$f":"IF(CMS_Identification!G473=\"\",\"\",CMS_Identification!G473)","v":""},{"$f":"IF(CMS_Identification!B473=\"\",\"\",CMS_Identification!B473)","v":""},{"$f":"IF(COUNTIF(S$2:S451,S451)=1,S451,\"\")","v":""},{"$f":"+IF(U451=\"\",\"\",MAX(V$1:V450)+1)","v":""},"",null,{"$f":"IF(CMS_Identification!G473=\"\",\"\",CMS_Identification!G473)","v":""},{"$f":"IF(CMS_Identification!D473=\"\",\"\",CMS_Identification!D473)","v":""},null,null,null,{"$f":"IF(CMS_Identification!B473=\"\",\"\",CMS_Identification!B473)","v":""},{"$f":"IF(CMS_Identification!G473=\"\",\"\",CMS_Identification!G473)","v":""},{"$f":"IF(CMS_Identification!D473=\"\",\"\",CMS_Identification!D473)","v":""}]
[null,null,null,null,null,null,null,null,{"$f":"IF(LDAR_TT_summary!C374=\"\",\"\",LDAR_TT_summary!C374)","v":""},{"$f":"IF(COUNTIF(I$2:I452,I452)=1,I452,\"\")","v":""},{"$f":"+IF(J452=\"\",\"\",MAX(K$1:K451)+1)","v":""},"",null,{"$f":"IF(LDAR_H_UU_summary!C274=\"\",\"\",LDAR_H_UU_summary!C274)","v":""},{"$f":"IF(COUNTIF(N$2:N452,N452)=1,N452,\"\")","v":""},{"$f":"+IF(O452=\"\",\"\",MAX(P$1:P451)+1)","v":""},"",null,{"$f":"IF(CMS_Identification!G474=\"\",\"\",CMS_Identification!G474)","v":""},{"$f":"IF(CMS_Identification!B474=\"\",\"\",CMS_Identification!B474)","v":""},{"$f":"IF(COUNTIF(S$2:S452,S452)=1,S452,\"\")","v":""},{"$f":"+IF(U452=\"\",\"\",MAX(V$1:V451)+1)","v":""},"",null,{"$f":"IF(CMS_Identification!G474=\"\",\"\",CMS_Identification!G474)","v":""},{"$f":"IF(CMS_Identification!D474=\"\",\"\",CMS_Identification!D474)","v":""},null,null,null,{"$f":"IF(CMS_Identification!B474=\"\",\"\",CMS_Identification!B474)","v":""},{"$f":"IF(CMS_Identification!G474=\"\",\"\",CMS_Identification!G474)","v":""},{"$f":"IF(CMS_Identification!D474=\"\",\"\",CMS_Identification!D474)","v":""}]
[null,null,null,null,null,null,null,null,{"$f":"IF(LDAR_TT_summary!C375=\"\",\"\",LDAR_TT_summary!C375)","v":""},{"$f":"IF(COUNTIF(I$2:I453,I453)=1,I453,\"\")","v":""},{"$f":"+IF(J453=\"\",\"\",MAX(K$1:K452)+1)","v":""},"",null,{"$f":"IF(LDAR_H_UU_summary!C275=\"\",\"\",LDAR_H_UU_summary!C275)","v":""},{"$f":"IF(COUNTIF(N$2:N453,N453)=1,N453,\"\")","v":""},{"$f":"+IF(O453=\"\",\"\",MAX(P$1:P452)+1)","v":""},"",null,{"$f":"IF(CMS_Identification!G475=\"\",\"\",CMS_Identification!G475)","v":""},{"$f":"IF(CMS_Identification!B475=\"\",\"\",CMS_Identification!B475)","v":""},{"$f":"IF(COUNTIF(S$2:S453,S453)=1,S453,\"\")","v":""},{"$f":"+IF(U453=\"\",\"\",MAX(V$1:V452)+1)","v":""},"",null,{"$f":"IF(CMS_Identification!G475=\"\",\"\",CMS_Identification!G475)","v":""},{"$f":"IF(CMS_Identification!D475=\"\",\"\",CMS_Identification!D475)","v":""},null,null,null,{"$f":"IF(CMS_Identification!B475=\"\",\"\",CMS_Identification!B475)","v":""},{"$f":"IF(CMS_Identification!G475=\"\",\"\",CMS_Identification!G475)","v":""},{"$f":"IF(CMS_Identification!D475=\"\",\"\",CMS_Identification!D475)","v":""}]
[null,null,null,null,null,null,null,null,{"$f":"IF(LDAR_TT_summary!C376=\"\",\"\",LDAR_TT_summary!C376)","v":""},{"$f":"IF(COUNTIF(I$2:I454,I454)=1,I454,\"\")","v":""},{"$f":"+IF(J454=\"\",\"\",MAX(K$1:K453)+1)","v":""},"",null,{"$f":"IF(LDAR_H_UU_summary!C276=\"\",\"\",LDAR_H_UU_summary!C276)","v":""},{"$f":"IF(COUNTIF(N$2:N454,N454)=1,N454,\"\")","v":""},{"$f":"+IF(O454=\"\",\"\",MAX(P$1:P453)+1)","v":""},"",null,{"$f":"IF(CMS_Identification!G476=\"\",\"\",CMS_Identification!G476)","v":""},{"$f":"IF(CMS_Identification!B476=\"\",\"\",CMS_Identification!B476)","v":""},{"$f":"IF(COUNTIF(S$2:S454,S454)=1,S454,\"\")","v":""},{"$f":"+IF(U454=\"\",\"\",MAX(V$1:V453)+1)","v":""},"",null,{"$f":"IF(CMS_Identification!G476=\"\",\"\",CMS_Identification!G476)","v":""},{"$f":"IF(CMS_Identification!D476=\"\",\"\",CMS_Identification!D476)","v":""},null,null,null,{"$f":"IF(CMS_Identification!B476=\"\",\"\",CMS_Identification!B476)","v":""},{"$f":"IF(CMS_Identification!G476=\"\",\"\",CMS_Identification!G476)","v":""},{"$f":"IF(CMS_Identification!D476=\"\",\"\",CMS_Identification!D476)","v":""}]
[null,null,null,null,null,null,null,null,{"$f":"IF(LDAR_TT_summary!C377=\"\",\"\",LDAR_TT_summary!C377)","v":""},{"$f":"IF(COUNTIF(I$2:I455,I455)=1,I455,\"\")","v":""},{"$f":"+IF(J455=\"\",\"\",MAX(K$1:K454)+1)","v":""},"",null,{"$f":"IF(LDAR_H_UU_summary!C277=\"\",\"\",LDAR_H_UU_summary!C277)","v":""},{"$f":"IF(COUNTIF(N$2:N455,N455)=1,N455,\"\")","v":""},{"$f":"+IF(O455=\"\",\"\",MAX(P$1:P454)+1)","v":""},"",null,{"$f":"IF(CMS_Identification!G477=\"\",\"\",CMS_Identification!G477)","v":""},{"$f":"IF(CMS_Identification!B477=\"\",\"\",CMS_Identification!B477)","v":""},{"$f":"IF(COUNTIF(S$2:S455,S455)=1,S455,\"\")","v":""},{"$f":"+IF(U455=\"\",\"\",MAX(V$1:V454)+1)","v":""},"",null,{"$f":"IF(CMS_Identification!G477=\"\",\"\",CMS_Identification!G477)","v":""},{"$f":"IF(CMS_Identification!D477=\"\",\"\",CMS_Identification!D477)","v":""},null,null,null,{"$f":"IF(CMS_Identification!B477=\"\",\"\",CMS_Identification!B477)","v":""},{"$f":"IF(CMS_Identification!G477=\"\",\"\",CMS_Identification!G477)","v":""},{"$f":"IF(CMS_Identification!D477=\"\",\"\",CMS_Identification!D477)","v":""}]
[null,null,null,null,null,null,null,null,{"$f":"IF(LDAR_TT_summary!C378=\"\",\"\",LDAR_TT_summary!C378)","v":""},{"$f":"IF(COUNTIF(I$2:I456,I456)=1,I456,\"\")","v":""},{"$f":"+IF(J456=\"\",\"\",MAX(K$1:K455)+1)","v":""},"",null,{"$f":"IF(LDAR_H_UU_summary!C278=\"\",\"\",LDAR_H_UU_summary!C278)","v":""},{"$f":"IF(COUNTIF(N$2:N456,N456)=1,N456,\"\")","v":""},{"$f":"+IF(O456=\"\",\"\",MAX(P$1:P455)+1)","v":""},"",null,{"$f":"IF(CMS_Identification!G478=\"\",\"\",CMS_Identification!G478)","v":""},{"$f":"IF(CMS_Identification!B478=\"\",\"\",CMS_Identification!B478)","v":""},{"$f":"IF(COUNTIF(S$2:S456,S456)=1,S456,\"\")","v":""},{"$f":"+IF(U456=\"\",\"\",MAX(V$1:V455)+1)","v":""},"",null,{"$f":"IF(CMS_Identification!G478=\"\",\"\",CMS_Identification!G478)","v":""},{"$f":"IF(CMS_Identification!D478=\"\",\"\",CMS_Identification!D478)","v":""},null,null,null,{"$f":"IF(CMS_Identification!B478=\"\",\"\",CMS_Identification!B478)","v":""},{"$f":"IF(CMS_Identification!G478=\"\",\"\",CMS_Identification!G478)","v":""},{"$f":"IF(CMS_Identification!D478=\"\",\"\",CMS_Identification!D478)","v":""}]
[null,null,null,null,null,null,null,null,{"$f":"IF(LDAR_TT_summary!C379=\"\",\"\",LDAR_TT_summary!C379)","v":""},{"$f":"IF(COUNTIF(I$2:I457,I457)=1,I457,\"\")","v":""},{"$f":"+IF(J457=\"\",\"\",MAX(K$1:K456)+1)","v":""},"",null,{"$f":"IF(LDAR_H_UU_summary!C279=\"\",\"\",LDAR_H_UU_summary!C279)","v":""},{"$f":"IF(COUNTIF(N$2:N457,N457)=1,N457,\"\")","v":""},{"$f":"+IF(O457=\"\",\"\",MAX(P$1:P456)+1)","v":""},"",null,{"$f":"IF(CMS_Identification!G479=\"\",\"\",CMS_Identification!G479)","v":""},{"$f":"IF(CMS_Identification!B479=\"\",\"\",CMS_Identification!B479)","v":""},{"$f":"IF(COUNTIF(S$2:S457,S457)=1,S457,\"\")","v":""},{"$f":"+IF(U457=\"\",\"\",MAX(V$1:V456)+1)","v":""},"",null,{"$f":"IF(CMS_Identification!G479=\"\",\"\",CMS_Identification!G479)","v":""},{"$f":"IF(CMS_Identification!D479=\"\",\"\",CMS_Identification!D479)","v":""},null,null,null,{"$f":"IF(CMS_Identification!B479=\"\",\"\",CMS_Identification!B479)","v":""},{"$f":"IF(CMS_Identification!G479=\"\",\"\",CMS_Identification!G479)","v":""},{"$f":"IF(CMS_Identification!D479=\"\",\"\",CMS_Identification!D479)","v":""}]
[null,null,null,null,null,null,null,null,{"$f":"IF(LDAR_TT_summary!C380=\"\",\"\",LDAR_TT_summary!C380)","v":""},{"$f":"IF(COUNTIF(I$2:I458,I458)=1,I458,\"\")","v":""},{"$f":"+IF(J458=\"\",\"\",MAX(K$1:K457)+1)","v":""},"",null,{"$f":"IF(LDAR_H_UU_summary!C280=\"\",\"\",LDAR_H_UU_summary!C280)","v":""},{"$f":"IF(COUNTIF(N$2:N458,N458)=1,N458,\"\")","v":""},{"$f":"+IF(O458=\"\",\"\",MAX(P$1:P457)+1)","v":""},"",null,{"$f":"IF(CMS_Identification!G480=\"\",\"\",CMS_Identification!G480)","v":""},{"$f":"IF(CMS_Identification!B480=\"\",\"\",CMS_Identification!B480)","v":""},{"$f":"IF(COUNTIF(S$2:S458,S458)=1,S458,\"\")","v":""},{"$f":"+IF(U458=\"\",\"\",MAX(V$1:V457)+1)","v":""},"",null,{"$f":"IF(CMS_Identification!G480=\"\",\"\",CMS_Identification!G480)","v":""},{"$f":"IF(CMS_Identification!D480=\"\",\"\",CMS_Identification!D480)","v":""},null,null,null,{"$f":"IF(CMS_Identification!B480=\"\",\"\",CMS_Identification!B480)","v":""},{"$f":"IF(CMS_Identification!G480=\"\",\"\",CMS_Identification!G480)","v":""},{"$f":"IF(CMS_Identification!D480=\"\",\"\",CMS_Identification!D480)","v":""}]
[null,null,null,null,null,null,null,null,{"$f":"IF(LDAR_TT_summary!C381=\"\",\"\",LDAR_TT_summary!C381)","v":""},{"$f":"IF(COUNTIF(I$2:I459,I459)=1,I459,\"\")","v":""},{"$f":"+IF(J459=\"\",\"\",MAX(K$1:K458)+1)","v":""},"",null,{"$f":"IF(LDAR_H_UU_summary!C281=\"\",\"\",LDAR_H_UU_summary!C281)","v":""},{"$f":"IF(COUNTIF(N$2:N459,N459)=1,N459,\"\")","v":""},{"$f":"+IF(O459=\"\",\"\",MAX(P$1:P458)+1)","v":""},"",null,{"$f":"IF(CMS_Identification!G481=\"\",\"\",CMS_Identification!G481)","v":""},{"$f":"IF(CMS_Identification!B481=\"\",\"\",CMS_Identification!B481)","v":""},{"$f":"IF(COUNTIF(S$2:S459,S459)=1,S459,\"\")","v":""},{"$f":"+IF(U459=\"\",\"\",MAX(V$1:V458)+1)","v":""},"",null,{"$f":"IF(CMS_Identification!G481=\"\",\"\",CMS_Identification!G481)","v":""},{"$f":"IF(CMS_Identification!D481=\"\",\"\",CMS_Identification!D481)","v":""},null,null,null,{"$f":"IF(CMS_Identification!B481=\"\",\"\",CMS_Identification!B481)","v":""},{"$f":"IF(CMS_Identification!G481=\"\",\"\",CMS_Identification!G481)","v":""},{"$f":"IF(CMS_Identification!D481=\"\",\"\",CMS_Identification!D481)","v":""}]
[null,null,null,null,null,null,null,null,{"$f":"IF(LDAR_TT_summary!C382=\"\",\"\",LDAR_TT_summary!C382)","v":""},{"$f":"IF(COUNTIF(I$2:I460,I460)=1,I460,\"\")","v":""},{"$f":"+IF(J460=\"\",\"\",MAX(K$1:K459)+1)","v":""},"",null,{"$f":"IF(LDAR_H_UU_summary!C282=\"\",\"\",LDAR_H_UU_summary!C282)","v":""},{"$f":"IF(COUNTIF(N$2:N460,N460)=1,N460,\"\")","v":""},{"$f":"+IF(O460=\"\",\"\",MAX(P$1:P459)+1)","v":""},"",null,{"$f":"IF(CMS_Identification!G482=\"\",\"\",CMS_Identification!G482)","v":""},{"$f":"IF(CMS_Identification!B482=\"\",\"\",CMS_Identification!B482)","v":""},{"$f":"IF(COUNTIF(S$2:S460,S460)=1,S460,\"\")","v":""},{"$f":"+IF(U460=\"\",\"\",MAX(V$1:V459)+1)","v":""},"",null,{"$f":"IF(CMS_Identification!G482=\"\",\"\",CMS_Identification!G482)","v":""},{"$f":"IF(CMS_Identification!D482=\"\",\"\",CMS_Identification!D482)","v":""},null,null,null,{"$f":"IF(CMS_Identification!B482=\"\",\"\",CMS_Identification!B482)","v":""},{"$f":"IF(CMS_Identification!G482=\"\",\"\",CMS_Identification!G482)","v":""},{"$f":"IF(CMS_Identification!D482=\"\",\"\",CMS_Identification!D482)","v":""}]
[null,null,null,null,null,null,null,null,{"$f":"IF(LDAR_TT_summary!C383=\"\",\"\",LDAR_TT_summary!C383)","v":""},{"$f":"IF(COUNTIF(I$2:I461,I461)=1,I461,\"\")","v":""},{"$f":"+IF(J461=\"\",\"\",MAX(K$1:K460)+1)","v":""},"",null,{"$f":"IF(LDAR_H_UU_summary!C283=\"\",\"\",LDAR_H_UU_summary!C283)","v":""},{"$f":"IF(COUNTIF(N$2:N461,N461)=1,N461,\"\")","v":""},{"$f":"+IF(O461=\"\",\"\",MAX(P$1:P460)+1)","v":""},"",null,{"$f":"IF(CMS_Identification!G483=\"\",\"\",CMS_Identification!G483)","v":""},{"$f":"IF(CMS_Identification!B483=\"\",\"\",CMS_Identification!B483)","v":""},{"$f":"IF(COUNTIF(S$2:S461,S461)=1,S461,\"\")","v":""},{"$f":"+IF(U461=\"\",\"\",MAX(V$1:V460)+1)","v":""},"",null,{"$f":"IF(CMS_Identification!G483=\"\",\"\",CMS_Identification!G483)","v":""},{"$f":"IF(CMS_Identification!D483=\"\",\"\",CMS_Identification!D483)","v":""},null,null,null,{"$f":"IF(CMS_Identification!B483=\"\",\"\",CMS_Identification!B483)","v":""},{"$f":"IF(CMS_Identification!G483=\"\",\"\",CMS_Identification!G483)","v":""},{"$f":"IF(CMS_Identification!D483=\"\",\"\",CMS_Identification!D483)","v":""}]
[null,null,null,null,null,null,null,null,{"$f":"IF(LDAR_TT_summary!C384=\"\",\"\",LDAR_TT_summary!C384)","v":""},{"$f":"IF(COUNTIF(I$2:I462,I462)=1,I462,\"\")","v":""},{"$f":"+IF(J462=\"\",\"\",MAX(K$1:K461)+1)","v":""},"",null,{"$f":"IF(LDAR_H_UU_summary!C284=\"\",\"\",LDAR_H_UU_summary!C284)","v":""},{"$f":"IF(COUNTIF(N$2:N462,N462)=1,N462,\"\")","v":""},{"$f":"+IF(O462=\"\",\"\",MAX(P$1:P461)+1)","v":""},"",null,{"$f":"IF(CMS_Identification!G484=\"\",\"\",CMS_Identification!G484)","v":""},{"$f":"IF(CMS_Identification!B484=\"\",\"\",CMS_Identification!B484)","v":""},{"$f":"IF(COUNTIF(S$2:S462,S462)=1,S462,\"\")","v":""},{"$f":"+IF(U462=\"\",\"\",MAX(V$1:V461)+1)","v":""},"",null,{"$f":"IF(CMS_Identification!G484=\"\",\"\",CMS_Identification!G484)","v":""},{"$f":"IF(CMS_Identification!D484=\"\",\"\",CMS_Identification!D484)","v":""},null,null,null,{"$f":"IF(CMS_Identification!B484=\"\",\"\",CMS_Identification!B484)","v":""},{"$f":"IF(CMS_Identification!G484=\"\",\"\",CMS_Identification!G484)","v":""},{"$f":"IF(CMS_Identification!D484=\"\",\"\",CMS_Identification!D484)","v":""}]
[null,null,null,null,null,null,null,null,{"$f":"IF(LDAR_TT_summary!C385=\"\",\"\",LDAR_TT_summary!C385)","v":""},{"$f":"IF(COUNTIF(I$2:I463,I463)=1,I463,\"\")","v":""},{"$f":"+IF(J463=\"\",\"\",MAX(K$1:K462)+1)","v":""},"",null,{"$f":"IF(LDAR_H_UU_summary!C285=\"\",\"\",LDAR_H_UU_summary!C285)","v":""},{"$f":"IF(COUNTIF(N$2:N463,N463)=1,N463,\"\")","v":""},{"$f":"+IF(O463=\"\",\"\",MAX(P$1:P462)+1)","v":""},"",null,{"$f":"IF(CMS_Identification!G485=\"\",\"\",CMS_Identification!G485)","v":""},{"$f":"IF(CMS_Identification!B485=\"\",\"\",CMS_Identification!B485)","v":""},{"$f":"IF(COUNTIF(S$2:S463,S463)=1,S463,\"\")","v":""},{"$f":"+IF(U463=\"\",\"\",MAX(V$1:V462)+1)","v":""},"",null,{"$f":"IF(CMS_Identification!G485=\"\",\"\",CMS_Identification!G485)","v":""},{"$f":"IF(CMS_Identification!D485=\"\",\"\",CMS_Identification!D485)","v":""},null,null,null,{"$f":"IF(CMS_Identification!B485=\"\",\"\",CMS_Identification!B485)","v":""},{"$f":"IF(CMS_Identification!G485=\"\",\"\",CMS_Identification!G485)","v":""},{"$f":"IF(CMS_Identification!D485=\"\",\"\",CMS_Identification!D485)","v":""}]
[null,null,null,null,null,null,null,null,{"$f":"IF(LDAR_TT_summary!C386=\"\",\"\",LDAR_TT_summary!C386)","v":""},{"$f":"IF(COUNTIF(I$2:I464,I464)=1,I464,\"\")","v":""},{"$f":"+IF(J464=\"\",\"\",MAX(K$1:K463)+1)","v":""},"",null,{"$f":"IF(LDAR_H_UU_summary!C286=\"\",\"\",LDAR_H_UU_summary!C286)","v":""},{"$f":"IF(COUNTIF(N$2:N464,N464)=1,N464,\"\")","v":""},{"$f":"+IF(O464=\"\",\"\",MAX(P$1:P463)+1)","v":""},"",null,{"$f":"IF(CMS_Identification!G486=\"\",\"\",CMS_Identification!G486)","v":""},{"$f":"IF(CMS_Identification!B486=\"\",\"\",CMS_Identification!B486)","v":""},{"$f":"IF(COUNTIF(S$2:S464,S464)=1,S464,\"\")","v":""},{"$f":"+IF(U464=\"\",\"\",MAX(V$1:V463)+1)","v":""},"",null,{"$f":"IF(CMS_Identification!G486=\"\",\"\",CMS_Identification!G486)","v":""},{"$f":"IF(CMS_Identification!D486=\"\",\"\",CMS_Identification!D486)","v":""},null,null,null,{"$f":"IF(CMS_Identification!B486=\"\",\"\",CMS_Identification!B486)","v":""},{"$f":"IF(CMS_Identification!G486=\"\",\"\",CMS_Identification!G486)","v":""},{"$f":"IF(CMS_Identification!D486=\"\",\"\",CMS_Identification!D486)","v":""}]
[null,null,null,null,null,null,null,null,{"$f":"IF(LDAR_TT_summary!C387=\"\",\"\",LDAR_TT_summary!C387)","v":""},{"$f":"IF(COUNTIF(I$2:I465,I465)=1,I465,\"\")","v":""},{"$f":"+IF(J465=\"\",\"\",MAX(K$1:K464)+1)","v":""},"",null,{"$f":"IF(LDAR_H_UU_summary!C287=\"\",\"\",LDAR_H_UU_summary!C287)","v":""},{"$f":"IF(COUNTIF(N$2:N465,N465)=1,N465,\"\")","v":""},{"$f":"+IF(O465=\"\",\"\",MAX(P$1:P464)+1)","v":""},"",null,{"$f":"IF(CMS_Identification!G487=\"\",\"\",CMS_Identification!G487)","v":""},{"$f":"IF(CMS_Identification!B487=\"\",\"\",CMS_Identification!B487)","v":""},{"$f":"IF(COUNTIF(S$2:S465,S465)=1,S465,\"\")","v":""},{"$f":"+IF(U465=\"\",\"\",MAX(V$1:V464)+1)","v":""},"",null,{"$f":"IF(CMS_Identification!G487=\"\",\"\",CMS_Identification!G487)","v":""},{"$f":"IF(CMS_Identification!D487=\"\",\"\",CMS_Identification!D487)","v":""},null,null,null,{"$f":"IF(CMS_Identification!B487=\"\",\"\",CMS_Identification!B487)","v":""},{"$f":"IF(CMS_Identification!G487=\"\",\"\",CMS_Identification!G487)","v":""},{"$f":"IF(CMS_Identification!D487=\"\",\"\",CMS_Identification!D487)","v":""}]
[null,null,null,null,null,null,null,null,{"$f":"IF(LDAR_TT_summary!C388=\"\",\"\",LDAR_TT_summary!C388)","v":""},{"$f":"IF(COUNTIF(I$2:I466,I466)=1,I466,\"\")","v":""},{"$f":"+IF(J466=\"\",\"\",MAX(K$1:K465)+1)","v":""},"",null,{"$f":"IF(LDAR_H_UU_summary!C288=\"\",\"\",LDAR_H_UU_summary!C288)","v":""},{"$f":"IF(COUNTIF(N$2:N466,N466)=1,N466,\"\")","v":""},{"$f":"+IF(O466=\"\",\"\",MAX(P$1:P465)+1)","v":""},"",null,{"$f":"IF(CMS_Identification!G488=\"\",\"\",CMS_Identification!G488)","v":""},{"$f":"IF(CMS_Identification!B488=\"\",\"\",CMS_Identification!B488)","v":""},{"$f":"IF(COUNTIF(S$2:S466,S466)=1,S466,\"\")","v":""},{"$f":"+IF(U466=\"\",\"\",MAX(V$1:V465)+1)","v":""},"",null,{"$f":"IF(CMS_Identification!G488=\"\",\"\",CMS_Identification!G488)","v":""},{"$f":"IF(CMS_Identification!D488=\"\",\"\",CMS_Identification!D488)","v":""},null,null,null,{"$f":"IF(CMS_Identification!B488=\"\",\"\",CMS_Identification!B488)","v":""},{"$f":"IF(CMS_Identification!G488=\"\",\"\",CMS_Identification!G488)","v":""},{"$f":"IF(CMS_Identification!D488=\"\",\"\",CMS_Identification!D488)","v":""}]
[null,null,null,null,null,null,null,null,{"$f":"IF(LDAR_TT_summary!C389=\"\",\"\",LDAR_TT_summary!C389)","v":""},{"$f":"IF(COUNTIF(I$2:I467,I467)=1,I467,\"\")","v":""},{"$f":"+IF(J467=\"\",\"\",MAX(K$1:K466)+1)","v":""},"",null,{"$f":"IF(LDAR_H_UU_summary!C289=\"\",\"\",LDAR_H_UU_summary!C289)","v":""},{"$f":"IF(COUNTIF(N$2:N467,N467)=1,N467,\"\")","v":""},{"$f":"+IF(O467=\"\",\"\",MAX(P$1:P466)+1)","v":""},"",null,{"$f":"IF(CMS_Identification!G489=\"\",\"\",CMS_Identification!G489)","v":""},{"$f":"IF(CMS_Identification!B489=\"\",\"\",CMS_Identification!B489)","v":""},{"$f":"IF(COUNTIF(S$2:S467,S467)=1,S467,\"\")","v":""},{"$f":"+IF(U467=\"\",\"\",MAX(V$1:V466)+1)","v":""},"",null,{"$f":"IF(CMS_Identification!G489=\"\",\"\",CMS_Identification!G489)","v":""},{"$f":"IF(CMS_Identification!D489=\"\",\"\",CMS_Identification!D489)","v":""},null,null,null,{"$f":"IF(CMS_Identification!B489=\"\",\"\",CMS_Identification!B489)","v":""},{"$f":"IF(CMS_Identification!G489=\"\",\"\",CMS_Identification!G489)","v":""},{"$f":"IF(CMS_Identification!D489=\"\",\"\",CMS_Identification!D489)","v":""}]
[null,null,null,null,null,null,null,null,{"$f":"IF(LDAR_TT_summary!C390=\"\",\"\",LDAR_TT_summary!C390)","v":""},{"$f":"IF(COUNTIF(I$2:I468,I468)=1,I468,\"\")","v":""},{"$f":"+IF(J468=\"\",\"\",MAX(K$1:K467)+1)","v":""},"",null,{"$f":"IF(LDAR_H_UU_summary!C290=\"\",\"\",LDAR_H_UU_summary!C290)","v":""},{"$f":"IF(COUNTIF(N$2:N468,N468)=1,N468,\"\")","v":""},{"$f":"+IF(O468=\"\",\"\",MAX(P$1:P467)+1)","v":""},"",null,{"$f":"IF(CMS_Identification!G490=\"\",\"\",CMS_Identification!G490)","v":""},{"$f":"IF(CMS_Identification!B490=\"\",\"\",CMS_Identification!B490)","v":""},{"$f":"IF(COUNTIF(S$2:S468,S468)=1,S468,\"\")","v":""},{"$f":"+IF(U468=\"\",\"\",MAX(V$1:V467)+1)","v":""},"",null,{"$f":"IF(CMS_Identification!G490=\"\",\"\",CMS_Identification!G490)","v":""},{"$f":"IF(CMS_Identification!D490=\"\",\"\",CMS_Identification!D490)","v":""},null,null,null,{"$f":"IF(CMS_Identification!B490=\"\",\"\",CMS_Identification!B490)","v":""},{"$f":"IF(CMS_Identification!G490=\"\",\"\",CMS_Identification!G490)","v":""},{"$f":"IF(CMS_Identification!D490=\"\",\"\",CMS_Identification!D490)","v":""}]
[null,null,null,null,null,null,null,null,{"$f":"IF(LDAR_TT_summary!C391=\"\",\"\",LDAR_TT_summary!C391)","v":""},{"$f":"IF(COUNTIF(I$2:I469,I469)=1,I469,\"\")","v":""},{"$f":"+IF(J469=\"\",\"\",MAX(K$1:K468)+1)","v":""},"",null,{"$f":"IF(LDAR_H_UU_summary!C291=\"\",\"\",LDAR_H_UU_summary!C291)","v":""},{"$f":"IF(COUNTIF(N$2:N469,N469)=1,N469,\"\")","v":""},{"$f":"+IF(O469=\"\",\"\",MAX(P$1:P468)+1)","v":""},"",null,{"$f":"IF(CMS_Identification!G491=\"\",\"\",CMS_Identification!G491)","v":""},{"$f":"IF(CMS_Identification!B491=\"\",\"\",CMS_Identification!B491)","v":""},{"$f":"IF(COUNTIF(S$2:S469,S469)=1,S469,\"\")","v":""},{"$f":"+IF(U469=\"\",\"\",MAX(V$1:V468)+1)","v":""},"",null,{"$f":"IF(CMS_Identification!G491=\"\",\"\",CMS_Identification!G491)","v":""},{"$f":"IF(CMS_Identification!D491=\"\",\"\",CMS_Identification!D491)","v":""},null,null,null,{"$f":"IF(CMS_Identification!B491=\"\",\"\",CMS_Identification!B491)","v":""},{"$f":"IF(CMS_Identification!G491=\"\",\"\",CMS_Identification!G491)","v":""},{"$f":"IF(CMS_Identification!D491=\"\",\"\",CMS_Identification!D491)","v":""}]
[null,null,null,null,null,null,null,null,{"$f":"IF(LDAR_TT_summary!C392=\"\",\"\",LDAR_TT_summary!C392)","v":""},{"$f":"IF(COUNTIF(I$2:I470,I470)=1,I470,\"\")","v":""},{"$f":"+IF(J470=\"\",\"\",MAX(K$1:K469)+1)","v":""},"",null,{"$f":"IF(LDAR_H_UU_summary!C292=\"\",\"\",LDAR_H_UU_summary!C292)","v":""},{"$f":"IF(COUNTIF(N$2:N470,N470)=1,N470,\"\")","v":""},{"$f":"+IF(O470=\"\",\"\",MAX(P$1:P469)+1)","v":""},"",null,{"$f":"IF(CMS_Identification!G492=\"\",\"\",CMS_Identification!G492)","v":""},{"$f":"IF(CMS_Identification!B492=\"\",\"\",CMS_Identification!B492)","v":""},{"$f":"IF(COUNTIF(S$2:S470,S470)=1,S470,\"\")","v":""},{"$f":"+IF(U470=\"\",\"\",MAX(V$1:V469)+1)","v":""},"",null,{"$f":"IF(CMS_Identification!G492=\"\",\"\",CMS_Identification!G492)","v":""},{"$f":"IF(CMS_Identification!D492=\"\",\"\",CMS_Identification!D492)","v":""},null,null,null,{"$f":"IF(CMS_Identification!B492=\"\",\"\",CMS_Identification!B492)","v":""},{"$f":"IF(CMS_Identification!G492=\"\",\"\",CMS_Identification!G492)","v":""},{"$f":"IF(CMS_Identification!D492=\"\",\"\",CMS_Identification!D492)","v":""}]
[null,null,null,null,null,null,null,null,{"$f":"IF(LDAR_TT_summary!C393=\"\",\"\",LDAR_TT_summary!C393)","v":""},{"$f":"IF(COUNTIF(I$2:I471,I471)=1,I471,\"\")","v":""},{"$f":"+IF(J471=\"\",\"\",MAX(K$1:K470)+1)","v":""},"",null,{"$f":"IF(LDAR_H_UU_summary!C293=\"\",\"\",LDAR_H_UU_summary!C293)","v":""},{"$f":"IF(COUNTIF(N$2:N471,N471)=1,N471,\"\")","v":""},{"$f":"+IF(O471=\"\",\"\",MAX(P$1:P470)+1)","v":""},"",null,{"$f":"IF(CMS_Identification!G493=\"\",\"\",CMS_Identification!G493)","v":""},{"$f":"IF(CMS_Identification!B493=\"\",\"\",CMS_Identification!B493)","v":""},{"$f":"IF(COUNTIF(S$2:S471,S471)=1,S471,\"\")","v":""},{"$f":"+IF(U471=\"\",\"\",MAX(V$1:V470)+1)","v":""},"",null,{"$f":"IF(CMS_Identification!G493=\"\",\"\",CMS_Identification!G493)","v":""},{"$f":"IF(CMS_Identification!D493=\"\",\"\",CMS_Identification!D493)","v":""},null,null,null,{"$f":"IF(CMS_Identification!B493=\"\",\"\",CMS_Identification!B493)","v":""},{"$f":"IF(CMS_Identification!G493=\"\",\"\",CMS_Identification!G493)","v":""},{"$f":"IF(CMS_Identification!D493=\"\",\"\",CMS_Identification!D493)","v":""}]
[null,null,null,null,null,null,null,null,{"$f":"IF(LDAR_TT_summary!C394=\"\",\"\",LDAR_TT_summary!C394)","v":""},{"$f":"IF(COUNTIF(I$2:I472,I472)=1,I472,\"\")","v":""},{"$f":"+IF(J472=\"\",\"\",MAX(K$1:K471)+1)","v":""},"",null,{"$f":"IF(LDAR_H_UU_summary!C294=\"\",\"\",LDAR_H_UU_summary!C294)","v":""},{"$f":"IF(COUNTIF(N$2:N472,N472)=1,N472,\"\")","v":""},{"$f":"+IF(O472=\"\",\"\",MAX(P$1:P471)+1)","v":""},"",null,{"$f":"IF(CMS_Identification!G494=\"\",\"\",CMS_Identification!G494)","v":""},{"$f":"IF(CMS_Identification!B494=\"\",\"\",CMS_Identification!B494)","v":""},{"$f":"IF(COUNTIF(S$2:S472,S472)=1,S472,\"\")","v":""},{"$f":"+IF(U472=\"\",\"\",MAX(V$1:V471)+1)","v":""},"",null,{"$f":"IF(CMS_Identification!G494=\"\",\"\",CMS_Identification!G494)","v":""},{"$f":"IF(CMS_Identification!D494=\"\",\"\",CMS_Identification!D494)","v":""},null,null,null,{"$f":"IF(CMS_Identification!B494=\"\",\"\",CMS_Identification!B494)","v":""},{"$f":"IF(CMS_Identification!G494=\"\",\"\",CMS_Identification!G494)","v":""},{"$f":"IF(CMS_Identification!D494=\"\",\"\",CMS_Identification!D494)","v":""}]
[null,null,null,null,null,null,null,null,{"$f":"IF(LDAR_TT_summary!C395=\"\",\"\",LDAR_TT_summary!C395)","v":""},{"$f":"IF(COUNTIF(I$2:I473,I473)=1,I473,\"\")","v":""},{"$f":"+IF(J473=\"\",\"\",MAX(K$1:K472)+1)","v":""},"",null,{"$f":"IF(LDAR_H_UU_summary!C295=\"\",\"\",LDAR_H_UU_summary!C295)","v":""},{"$f":"IF(COUNTIF(N$2:N473,N473)=1,N473,\"\")","v":""},{"$f":"+IF(O473=\"\",\"\",MAX(P$1:P472)+1)","v":""},"",null,{"$f":"IF(CMS_Identification!G495=\"\",\"\",CMS_Identification!G495)","v":""},{"$f":"IF(CMS_Identification!B495=\"\",\"\",CMS_Identification!B495)","v":""},{"$f":"IF(COUNTIF(S$2:S473,S473)=1,S473,\"\")","v":""},{"$f":"+IF(U473=\"\",\"\",MAX(V$1:V472)+1)","v":""},"",null,{"$f":"IF(CMS_Identification!G495=\"\",\"\",CMS_Identification!G495)","v":""},{"$f":"IF(CMS_Identification!D495=\"\",\"\",CMS_Identification!D495)","v":""},null,null,null,{"$f":"IF(CMS_Identification!B495=\"\",\"\",CMS_Identification!B495)","v":""},{"$f":"IF(CMS_Identification!G495=\"\",\"\",CMS_Identification!G495)","v":""},{"$f":"IF(CMS_Identification!D495=\"\",\"\",CMS_Identification!D495)","v":""}]
[null,null,null,null,null,null,null,null,{"$f":"IF(LDAR_TT_summary!C396=\"\",\"\",LDAR_TT_summary!C396)","v":""},{"$f":"IF(COUNTIF(I$2:I474,I474)=1,I474,\"\")","v":""},{"$f":"+IF(J474=\"\",\"\",MAX(K$1:K473)+1)","v":""},"",null,{"$f":"IF(LDAR_H_UU_summary!C296=\"\",\"\",LDAR_H_UU_summary!C296)","v":""},{"$f":"IF(COUNTIF(N$2:N474,N474)=1,N474,\"\")","v":""},{"$f":"+IF(O474=\"\",\"\",MAX(P$1:P473)+1)","v":""},"",null,{"$f":"IF(CMS_Identification!G496=\"\",\"\",CMS_Identification!G496)","v":""},{"$f":"IF(CMS_Identification!B496=\"\",\"\",CMS_Identification!B496)","v":""},{"$f":"IF(COUNTIF(S$2:S474,S474)=1,S474,\"\")","v":""},{"$f":"+IF(U474=\"\",\"\",MAX(V$1:V473)+1)","v":""},"",null,{"$f":"IF(CMS_Identification!G496=\"\",\"\",CMS_Identification!G496)","v":""},{"$f":"IF(CMS_Identification!D496=\"\",\"\",CMS_Identification!D496)","v":""},null,null,null,{"$f":"IF(CMS_Identification!B496=\"\",\"\",CMS_Identification!B496)","v":""},{"$f":"IF(CMS_Identification!G496=\"\",\"\",CMS_Identification!G496)","v":""},{"$f":"IF(CMS_Identification!D496=\"\",\"\",CMS_Identification!D496)","v":""}]
[null,null,null,null,null,null,null,null,{"$f":"IF(LDAR_TT_summary!C397=\"\",\"\",LDAR_TT_summary!C397)","v":""},{"$f":"IF(COUNTIF(I$2:I475,I475)=1,I475,\"\")","v":""},{"$f":"+IF(J475=\"\",\"\",MAX(K$1:K474)+1)","v":""},"",null,{"$f":"IF(LDAR_H_UU_summary!C297=\"\",\"\",LDAR_H_UU_summary!C297)","v":""},{"$f":"IF(COUNTIF(N$2:N475,N475)=1,N475,\"\")","v":""},{"$f":"+IF(O475=\"\",\"\",MAX(P$1:P474)+1)","v":""},"",null,{"$f":"IF(CMS_Identification!G497=\"\",\"\",CMS_Identification!G497)","v":""},{"$f":"IF(CMS_Identification!B497=\"\",\"\",CMS_Identification!B497)","v":""},{"$f":"IF(COUNTIF(S$2:S475,S475)=1,S475,\"\")","v":""},{"$f":"+IF(U475=\"\",\"\",MAX(V$1:V474)+1)","v":""},"",null,{"$f":"IF(CMS_Identification!G497=\"\",\"\",CMS_Identification!G497)","v":""},{"$f":"IF(CMS_Identification!D497=\"\",\"\",CMS_Identification!D497)","v":""},null,null,null,{"$f":"IF(CMS_Identification!B497=\"\",\"\",CMS_Identification!B497)","v":""},{"$f":"IF(CMS_Identification!G497=\"\",\"\",CMS_Identification!G497)","v":""},{"$f":"IF(CMS_Identification!D497=\"\",\"\",CMS_Identification!D497)","v":""}]
[null,null,null,null,null,null,null,null,{"$f":"IF(LDAR_TT_summary!C398=\"\",\"\",LDAR_TT_summary!C398)","v":""},{"$f":"IF(COUNTIF(I$2:I476,I476)=1,I476,\"\")","v":""},{"$f":"+IF(J476=\"\",\"\",MAX(K$1:K475)+1)","v":""},"",null,{"$f":"IF(LDAR_H_UU_summary!C298=\"\",\"\",LDAR_H_UU_summary!C298)","v":""},{"$f":"IF(COUNTIF(N$2:N476,N476)=1,N476,\"\")","v":""},{"$f":"+IF(O476=\"\",\"\",MAX(P$1:P475)+1)","v":""},"",null,{"$f":"IF(CMS_Identification!G498=\"\",\"\",CMS_Identification!G498)","v":""},{"$f":"IF(CMS_Identification!B498=\"\",\"\",CMS_Identification!B498)","v":""},{"$f":"IF(COUNTIF(S$2:S476,S476)=1,S476,\"\")","v":""},{"$f":"+IF(U476=\"\",\"\",MAX(V$1:V475)+1)","v":""},"",null,{"$f":"IF(CMS_Identification!G498=\"\",\"\",CMS_Identification!G498)","v":""},{"$f":"IF(CMS_Identification!D498=\"\",\"\",CMS_Identification!D498)","v":""},null,null,null,{"$f":"IF(CMS_Identification!B498=\"\",\"\",CMS_Identification!B498)","v":""},{"$f":"IF(CMS_Identification!G498=\"\",\"\",CMS_Identification!G498)","v":""},{"$f":"IF(CMS_Identification!D498=\"\",\"\",CMS_Identification!D498)","v":""}]
[null,null,null,null,null,null,null,null,{"$f":"IF(LDAR_TT_summary!C399=\"\",\"\",LDAR_TT_summary!C399)","v":""},{"$f":"IF(COUNTIF(I$2:I477,I477)=1,I477,\"\")","v":""},{"$f":"+IF(J477=\"\",\"\",MAX(K$1:K476)+1)","v":""},"",null,{"$f":"IF(LDAR_H_UU_summary!C299=\"\",\"\",LDAR_H_UU_summary!C299)","v":""},{"$f":"IF(COUNTIF(N$2:N477,N477)=1,N477,\"\")","v":""},{"$f":"+IF(O477=\"\",\"\",MAX(P$1:P476)+1)","v":""},"",null,{"$f":"IF(CMS_Identification!G499=\"\",\"\",CMS_Identification!G499)","v":""},{"$f":"IF(CMS_Identification!B499=\"\",\"\",CMS_Identification!B499)","v":""},{"$f":"IF(COUNTIF(S$2:S477,S477)=1,S477,\"\")","v":""},{"$f":"+IF(U477=\"\",\"\",MAX(V$1:V476)+1)","v":""},"",null,{"$f":"IF(CMS_Identification!G499=\"\",\"\",CMS_Identification!G499)","v":""},{"$f":"IF(CMS_Identification!D499=\"\",\"\",CMS_Identification!D499)","v":""},null,null,null,{"$f":"IF(CMS_Identification!B499=\"\",\"\",CMS_Identification!B499)","v":""},{"$f":"IF(CMS_Identification!G499=\"\",\"\",CMS_Identification!G499)","v":""},{"$f":"IF(CMS_Identification!D499=\"\",\"\",CMS_Identification!D499)","v":""}]
[null,null,null,null,null,null,null,null,{"$f":"IF(LDAR_TT_summary!C400=\"\",\"\",LDAR_TT_summary!C400)","v":""},{"$f":"IF(COUNTIF(I$2:I478,I478)=1,I478,\"\")","v":""},{"$f":"+IF(J478=\"\",\"\",MAX(K$1:K477)+1)","v":""},"",null,{"$f":"IF(LDAR_H_UU_summary!C300=\"\",\"\",LDAR_H_UU_summary!C300)","v":""},{"$f":"IF(COUNTIF(N$2:N478,N478)=1,N478,\"\")","v":""},{"$f":"+IF(O478=\"\",\"\",MAX(P$1:P477)+1)","v":""},"",null,{"$f":"IF(CMS_Identification!G500=\"\",\"\",CMS_Identification!G500)","v":""},{"$f":"IF(CMS_Identification!B500=\"\",\"\",CMS_Identification!B500)","v":""},{"$f":"IF(COUNTIF(S$2:S478,S478)=1,S478,\"\")","v":""},{"$f":"+IF(U478=\"\",\"\",MAX(V$1:V477)+1)","v":""},"",null,{"$f":"IF(CMS_Identification!G500=\"\",\"\",CMS_Identification!G500)","v":""},{"$f":"IF(CMS_Identification!D500=\"\",\"\",CMS_Identification!D500)","v":""},null,null,null,{"$f":"IF(CMS_Identification!B500=\"\",\"\",CMS_Identification!B500)","v":""},{"$f":"IF(CMS_Identification!G500=\"\",\"\",CMS_Identification!G500)","v":""},{"$f":"IF(CMS_Identification!D500=\"\",\"\",CMS_Identification!D500)","v":""}]
[null,null,null,null,null,null,null,null,{"$f":"IF(LDAR_TT_summary!C401=\"\",\"\",LDAR_TT_summary!C401)","v":""},{"$f":"IF(COUNTIF(I$2:I479,I479)=1,I479,\"\")","v":""},{"$f":"+IF(J479=\"\",\"\",MAX(K$1:K478)+1)","v":""},"",null,{"$f":"IF(LDAR_H_UU_summary!C301=\"\",\"\",LDAR_H_UU_summary!C301)","v":""},{"$f":"IF(COUNTIF(N$2:N479,N479)=1,N479,\"\")","v":""},{"$f":"+IF(O479=\"\",\"\",MAX(P$1:P478)+1)","v":""},"",null,{"$f":"IF(CMS_Identification!G501=\"\",\"\",CMS_Identification!G501)","v":""},{"$f":"IF(CMS_Identification!B501=\"\",\"\",CMS_Identification!B501)","v":""},{"$f":"IF(COUNTIF(S$2:S479,S479)=1,S479,\"\")","v":""},{"$f":"+IF(U479=\"\",\"\",MAX(V$1:V478)+1)","v":""},"",null,{"$f":"IF(CMS_Identification!G501=\"\",\"\",CMS_Identification!G501)","v":""},{"$f":"IF(CMS_Identification!D501=\"\",\"\",CMS_Identification!D501)","v":""},null,null,null,{"$f":"IF(CMS_Identification!B501=\"\",\"\",CMS_Identification!B501)","v":""},{"$f":"IF(CMS_Identification!G501=\"\",\"\",CMS_Identification!G501)","v":""},{"$f":"IF(CMS_Identification!D501=\"\",\"\",CMS_Identification!D501)","v":""}]
[null,null,null,null,null,null,null,null,{"$f":"IF(LDAR_TT_summary!C402=\"\",\"\",LDAR_TT_summary!C402)","v":""},{"$f":"IF(COUNTIF(I$2:I480,I480)=1,I480,\"\")","v":""},{"$f":"+IF(J480=\"\",\"\",MAX(K$1:K479)+1)","v":""},"",null,{"$f":"IF(LDAR_H_UU_summary!C302=\"\",\"\",LDAR_H_UU_summary!C302)","v":""},{"$f":"IF(COUNTIF(N$2:N480,N480)=1,N480,\"\")","v":""},{"$f":"+IF(O480=\"\",\"\",MAX(P$1:P479)+1)","v":""},"",null,{"$f":"IF(CMS_Identification!G502=\"\",\"\",CMS_Identification!G502)","v":""},{"$f":"IF(CMS_Identification!B502=\"\",\"\",CMS_Identification!B502)","v":""},{"$f":"IF(COUNTIF(S$2:S480,S480)=1,S480,\"\")","v":""},{"$f":"+IF(U480=\"\",\"\",MAX(V$1:V479)+1)","v":""},"",null,{"$f":"IF(CMS_Identification!G502=\"\",\"\",CMS_Identification!G502)","v":""},{"$f":"IF(CMS_Identification!D502=\"\",\"\",CMS_Identification!D502)","v":""},null,null,null,{"$f":"IF(CMS_Identification!B502=\"\",\"\",CMS_Identification!B502)","v":""},{"$f":"IF(CMS_Identification!G502=\"\",\"\",CMS_Identification!G502)","v":""},{"$f":"IF(CMS_Identification!D502=\"\",\"\",CMS_Identification!D502)","v":""}]
[null,null,null,null,null,null,null,null,{"$f":"IF(LDAR_TT_summary!C403=\"\",\"\",LDAR_TT_summary!C403)","v":""},{"$f":"IF(COUNTIF(I$2:I481,I481)=1,I481,\"\")","v":""},{"$f":"+IF(J481=\"\",\"\",MAX(K$1:K480)+1)","v":""},"",null,{"$f":"IF(LDAR_H_UU_summary!C303=\"\",\"\",LDAR_H_UU_summary!C303)","v":""},{"$f":"IF(COUNTIF(N$2:N481,N481)=1,N481,\"\")","v":""},{"$f":"+IF(O481=\"\",\"\",MAX(P$1:P480)+1)","v":""},"",null,{"$f":"IF(CMS_Identification!G503=\"\",\"\",CMS_Identification!G503)","v":""},{"$f":"IF(CMS_Identification!B503=\"\",\"\",CMS_Identification!B503)","v":""},{"$f":"IF(COUNTIF(S$2:S481,S481)=1,S481,\"\")","v":""},{"$f":"+IF(U481=\"\",\"\",MAX(V$1:V480)+1)","v":""},"",null,{"$f":"IF(CMS_Identification!G503=\"\",\"\",CMS_Identification!G503)","v":""},{"$f":"IF(CMS_Identification!D503=\"\",\"\",CMS_Identification!D503)","v":""},null,null,null,{"$f":"IF(CMS_Identification!B503=\"\",\"\",CMS_Identification!B503)","v":""},{"$f":"IF(CMS_Identification!G503=\"\",\"\",CMS_Identification!G503)","v":""},{"$f":"IF(CMS_Identification!D503=\"\",\"\",CMS_Identification!D503)","v":""}]
[null,null,null,null,null,null,null,null,{"$f":"IF(LDAR_TT_summary!C404=\"\",\"\",LDAR_TT_summary!C404)","v":""},{"$f":"IF(COUNTIF(I$2:I482,I482)=1,I482,\"\")","v":""},{"$f":"+IF(J482=\"\",\"\",MAX(K$1:K481)+1)","v":""},"",null,{"$f":"IF(LDAR_H_UU_summary!C304=\"\",\"\",LDAR_H_UU_summary!C304)","v":""},{"$f":"IF(COUNTIF(N$2:N482,N482)=1,N482,\"\")","v":""},{"$f":"+IF(O482=\"\",\"\",MAX(P$1:P481)+1)","v":""},"",null,{"$f":"IF(CMS_Identification!G504=\"\",\"\",CMS_Identification!G504)","v":""},{"$f":"IF(CMS_Identification!B504=\"\",\"\",CMS_Identification!B504)","v":""},{"$f":"IF(COUNTIF(S$2:S482,S482)=1,S482,\"\")","v":""},{"$f":"+IF(U482=\"\",\"\",MAX(V$1:V481)+1)","v":""},"",null,{"$f":"IF(CMS_Identification!G504=\"\",\"\",CMS_Identification!G504)","v":""},{"$f":"IF(CMS_Identification!D504=\"\",\"\",CMS_Identification!D504)","v":""},null,null,null,{"$f":"IF(CMS_Identification!B504=\"\",\"\",CMS_Identification!B504)","v":""},{"$f":"IF(CMS_Identification!G504=\"\",\"\",CMS_Identification!G504)","v":""},{"$f":"IF(CMS_Identification!D504=\"\",\"\",CMS_Identification!D504)","v":""}]
[null,null,null,null,null,null,null,null,{"$f":"IF(LDAR_TT_summary!C405=\"\",\"\",LDAR_TT_summary!C405)","v":""},{"$f":"IF(COUNTIF(I$2:I483,I483)=1,I483,\"\")","v":""},{"$f":"+IF(J483=\"\",\"\",MAX(K$1:K482)+1)","v":""},"",null,{"$f":"IF(LDAR_H_UU_summary!C305=\"\",\"\",LDAR_H_UU_summary!C305)","v":""},{"$f":"IF(COUNTIF(N$2:N483,N483)=1,N483,\"\")","v":""},{"$f":"+IF(O483=\"\",\"\",MAX(P$1:P482)+1)","v":""},"",null,{"$f":"IF(CMS_Identification!G505=\"\",\"\",CMS_Identification!G505)","v":""},{"$f":"IF(CMS_Identification!B505=\"\",\"\",CMS_Identification!B505)","v":""},{"$f":"IF(COUNTIF(S$2:S483,S483)=1,S483,\"\")","v":""},{"$f":"+IF(U483=\"\",\"\",MAX(V$1:V482)+1)","v":""},"",null,{"$f":"IF(CMS_Identification!G505=\"\",\"\",CMS_Identification!G505)","v":""},{"$f":"IF(CMS_Identification!D505=\"\",\"\",CMS_Identification!D505)","v":""},null,null,null,{"$f":"IF(CMS_Identification!B505=\"\",\"\",CMS_Identification!B505)","v":""},{"$f":"IF(CMS_Identification!G505=\"\",\"\",CMS_Identification!G505)","v":""},{"$f":"IF(CMS_Identification!D505=\"\",\"\",CMS_Identification!D505)","v":""}]
[null,null,null,null,null,null,null,null,{"$f":"IF(LDAR_TT_summary!C406=\"\",\"\",LDAR_TT_summary!C406)","v":""},{"$f":"IF(COUNTIF(I$2:I484,I484)=1,I484,\"\")","v":""},{"$f":"+IF(J484=\"\",\"\",MAX(K$1:K483)+1)","v":""},"",null,{"$f":"IF(LDAR_H_UU_summary!C306=\"\",\"\",LDAR_H_UU_summary!C306)","v":""},{"$f":"IF(COUNTIF(N$2:N484,N484)=1,N484,\"\")","v":""},{"$f":"+IF(O484=\"\",\"\",MAX(P$1:P483)+1)","v":""},"",null,{"$f":"IF(CMS_Identification!G506=\"\",\"\",CMS_Identification!G506)","v":""},{"$f":"IF(CMS_Identification!B506=\"\",\"\",CMS_Identification!B506)","v":""},{"$f":"IF(COUNTIF(S$2:S484,S484)=1,S484,\"\")","v":""},{"$f":"+IF(U484=\"\",\"\",MAX(V$1:V483)+1)","v":""},"",null,{"$f":"IF(CMS_Identification!G506=\"\",\"\",CMS_Identification!G506)","v":""},{"$f":"IF(CMS_Identification!D506=\"\",\"\",CMS_Identification!D506)","v":""},null,null,null,{"$f":"IF(CMS_Identification!B506=\"\",\"\",CMS_Identification!B506)","v":""},{"$f":"IF(CMS_Identification!G506=\"\",\"\",CMS_Identification!G506)","v":""},{"$f":"IF(CMS_Identification!D506=\"\",\"\",CMS_Identification!D506)","v":""}]
[null,null,null,null,null,null,null,null,{"$f":"IF(LDAR_TT_summary!C407=\"\",\"\",LDAR_TT_summary!C407)","v":""},{"$f":"IF(COUNTIF(I$2:I485,I485)=1,I485,\"\")","v":""},{"$f":"+IF(J485=\"\",\"\",MAX(K$1:K484)+1)","v":""},"",null,{"$f":"IF(LDAR_H_UU_summary!C307=\"\",\"\",LDAR_H_UU_summary!C307)","v":""},{"$f":"IF(COUNTIF(N$2:N485,N485)=1,N485,\"\")","v":""},{"$f":"+IF(O485=\"\",\"\",MAX(P$1:P484)+1)","v":""},"",null,{"$f":"IF(CMS_Identification!G507=\"\",\"\",CMS_Identification!G507)","v":""},{"$f":"IF(CMS_Identification!B507=\"\",\"\",CMS_Identification!B507)","v":""},{"$f":"IF(COUNTIF(S$2:S485,S485)=1,S485,\"\")","v":""},{"$f":"+IF(U485=\"\",\"\",MAX(V$1:V484)+1)","v":""},"",null,{"$f":"IF(CMS_Identification!G507=\"\",\"\",CMS_Identification!G507)","v":""},{"$f":"IF(CMS_Identification!D507=\"\",\"\",CMS_Identification!D507)","v":""},null,null,null,{"$f":"IF(CMS_Identification!B507=\"\",\"\",CMS_Identification!B507)","v":""},{"$f":"IF(CMS_Identification!G507=\"\",\"\",CMS_Identification!G507)","v":""},{"$f":"IF(CMS_Identification!D507=\"\",\"\",CMS_Identification!D507)","v":""}]
[null,null,null,null,null,null,null,null,{"$f":"IF(LDAR_TT_summary!C408=\"\",\"\",LDAR_TT_summary!C408)","v":""},{"$f":"IF(COUNTIF(I$2:I486,I486)=1,I486,\"\")","v":""},{"$f":"+IF(J486=\"\",\"\",MAX(K$1:K485)+1)","v":""},"",null,{"$f":"IF(LDAR_H_UU_summary!C308=\"\",\"\",LDAR_H_UU_summary!C308)","v":""},{"$f":"IF(COUNTIF(N$2:N486,N486)=1,N486,\"\")","v":""},{"$f":"+IF(O486=\"\",\"\",MAX(P$1:P485)+1)","v":""},"",null,{"$f":"IF(CMS_Identification!G508=\"\",\"\",CMS_Identification!G508)","v":""},{"$f":"IF(CMS_Identification!B508=\"\",\"\",CMS_Identification!B508)","v":""},{"$f":"IF(COUNTIF(S$2:S486,S486)=1,S486,\"\")","v":""},{"$f":"+IF(U486=\"\",\"\",MAX(V$1:V485)+1)","v":""},"",null,{"$f":"IF(CMS_Identification!G508=\"\",\"\",CMS_Identification!G508)","v":""},{"$f":"IF(CMS_Identification!D508=\"\",\"\",CMS_Identification!D508)","v":""},null,null,null,{"$f":"IF(CMS_Identification!B508=\"\",\"\",CMS_Identification!B508)","v":""},{"$f":"IF(CMS_Identification!G508=\"\",\"\",CMS_Identification!G508)","v":""},{"$f":"IF(CMS_Identification!D508=\"\",\"\",CMS_Identification!D508)","v":""}]
[null,null,null,null,null,null,null,null,{"$f":"IF(LDAR_TT_summary!C409=\"\",\"\",LDAR_TT_summary!C409)","v":""},{"$f":"IF(COUNTIF(I$2:I487,I487)=1,I487,\"\")","v":""},{"$f":"+IF(J487=\"\",\"\",MAX(K$1:K486)+1)","v":""},"",null,{"$f":"IF(LDAR_H_UU_summary!C309=\"\",\"\",LDAR_H_UU_summary!C309)","v":""},{"$f":"IF(COUNTIF(N$2:N487,N487)=1,N487,\"\")","v":""},{"$f":"+IF(O487=\"\",\"\",MAX(P$1:P486)+1)","v":""},"",null,{"$f":"IF(CMS_Identification!G509=\"\",\"\",CMS_Identification!G509)","v":""},{"$f":"IF(CMS_Identification!B509=\"\",\"\",CMS_Identification!B509)","v":""},{"$f":"IF(COUNTIF(S$2:S487,S487)=1,S487,\"\")","v":""},{"$f":"+IF(U487=\"\",\"\",MAX(V$1:V486)+1)","v":""},"",null,{"$f":"IF(CMS_Identification!G509=\"\",\"\",CMS_Identification!G509)","v":""},{"$f":"IF(CMS_Identification!D509=\"\",\"\",CMS_Identification!D509)","v":""},null,null,null,{"$f":"IF(CMS_Identification!B509=\"\",\"\",CMS_Identification!B509)","v":""},{"$f":"IF(CMS_Identification!G509=\"\",\"\",CMS_Identification!G509)","v":""},{"$f":"IF(CMS_Identification!D509=\"\",\"\",CMS_Identification!D509)","v":""}]
[null,null,null,null,null,null,null,null,{"$f":"IF(LDAR_TT_summary!C410=\"\",\"\",LDAR_TT_summary!C410)","v":""},{"$f":"IF(COUNTIF(I$2:I488,I488)=1,I488,\"\")","v":""},{"$f":"+IF(J488=\"\",\"\",MAX(K$1:K487)+1)","v":""},"",null,{"$f":"IF(LDAR_H_UU_summary!C310=\"\",\"\",LDAR_H_UU_summary!C310)","v":""},{"$f":"IF(COUNTIF(N$2:N488,N488)=1,N488,\"\")","v":""},{"$f":"+IF(O488=\"\",\"\",MAX(P$1:P487)+1)","v":""},"",null,{"$f":"IF(CMS_Identification!G510=\"\",\"\",CMS_Identification!G510)","v":""},{"$f":"IF(CMS_Identification!B510=\"\",\"\",CMS_Identification!B510)","v":""},{"$f":"IF(COUNTIF(S$2:S488,S488)=1,S488,\"\")","v":""},{"$f":"+IF(U488=\"\",\"\",MAX(V$1:V487)+1)","v":""},"",null,{"$f":"IF(CMS_Identification!G510=\"\",\"\",CMS_Identification!G510)","v":""},{"$f":"IF(CMS_Identification!D510=\"\",\"\",CMS_Identification!D510)","v":""},null,null,null,{"$f":"IF(CMS_Identification!B510=\"\",\"\",CMS_Identification!B510)","v":""},{"$f":"IF(CMS_Identification!G510=\"\",\"\",CMS_Identification!G510)","v":""},{"$f":"IF(CMS_Identification!D510=\"\",\"\",CMS_Identification!D510)","v":""}]
[null,null,null,null,null,null,null,null,{"$f":"IF(LDAR_TT_summary!C411=\"\",\"\",LDAR_TT_summary!C411)","v":""},{"$f":"IF(COUNTIF(I$2:I489,I489)=1,I489,\"\")","v":""},{"$f":"+IF(J489=\"\",\"\",MAX(K$1:K488)+1)","v":""},"",null,{"$f":"IF(LDAR_H_UU_summary!C311=\"\",\"\",LDAR_H_UU_summary!C311)","v":""},{"$f":"IF(COUNTIF(N$2:N489,N489)=1,N489,\"\")","v":""},{"$f":"+IF(O489=\"\",\"\",MAX(P$1:P488)+1)","v":""},"",null,{"$f":"IF(CMS_Identification!G511=\"\",\"\",CMS_Identification!G511)","v":""},{"$f":"IF(CMS_Identification!B511=\"\",\"\",CMS_Identification!B511)","v":""},{"$f":"IF(COUNTIF(S$2:S489,S489)=1,S489,\"\")","v":""},{"$f":"+IF(U489=\"\",\"\",MAX(V$1:V488)+1)","v":""},"",null,{"$f":"IF(CMS_Identification!G511=\"\",\"\",CMS_Identification!G511)","v":""},{"$f":"IF(CMS_Identification!D511=\"\",\"\",CMS_Identification!D511)","v":""},null,null,null,{"$f":"IF(CMS_Identification!B511=\"\",\"\",CMS_Identification!B511)","v":""},{"$f":"IF(CMS_Identification!G511=\"\",\"\",CMS_Identification!G511)","v":""},{"$f":"IF(CMS_Identification!D511=\"\",\"\",CMS_Identification!D511)","v":""}]
[null,null,null,null,null,null,null,null,{"$f":"IF(LDAR_TT_summary!C412=\"\",\"\",LDAR_TT_summary!C412)","v":""},{"$f":"IF(COUNTIF(I$2:I490,I490)=1,I490,\"\")","v":""},{"$f":"+IF(J490=\"\",\"\",MAX(K$1:K489)+1)","v":""},"",null,{"$f":"IF(LDAR_H_UU_summary!C312=\"\",\"\",LDAR_H_UU_summary!C312)","v":""},{"$f":"IF(COUNTIF(N$2:N490,N490)=1,N490,\"\")","v":""},{"$f":"+IF(O490=\"\",\"\",MAX(P$1:P489)+1)","v":""},"",null,{"$f":"IF(CMS_Identification!G512=\"\",\"\",CMS_Identification!G512)","v":""},{"$f":"IF(CMS_Identification!B512=\"\",\"\",CMS_Identification!B512)","v":""},{"$f":"IF(COUNTIF(S$2:S490,S490)=1,S490,\"\")","v":""},{"$f":"+IF(U490=\"\",\"\",MAX(V$1:V489)+1)","v":""},"",null,{"$f":"IF(CMS_Identification!G512=\"\",\"\",CMS_Identification!G512)","v":""},{"$f":"IF(CMS_Identification!D512=\"\",\"\",CMS_Identification!D512)","v":""},null,null,null,{"$f":"IF(CMS_Identification!B512=\"\",\"\",CMS_Identification!B512)","v":""},{"$f":"IF(CMS_Identification!G512=\"\",\"\",CMS_Identification!G512)","v":""},{"$f":"IF(CMS_Identification!D512=\"\",\"\",CMS_Identification!D512)","v":""}]
[null,null,null,null,null,null,null,null,{"$f":"IF(LDAR_TT_summary!C413=\"\",\"\",LDAR_TT_summary!C413)","v":""},{"$f":"IF(COUNTIF(I$2:I491,I491)=1,I491,\"\")","v":""},{"$f":"+IF(J491=\"\",\"\",MAX(K$1:K490)+1)","v":""},"",null,{"$f":"IF(LDAR_H_UU_summary!C313=\"\",\"\",LDAR_H_UU_summary!C313)","v":""},{"$f":"IF(COUNTIF(N$2:N491,N491)=1,N491,\"\")","v":""},{"$f":"+IF(O491=\"\",\"\",MAX(P$1:P490)+1)","v":""},"",null,{"$f":"IF(CMS_Identification!G513=\"\",\"\",CMS_Identification!G513)","v":""},{"$f":"IF(CMS_Identification!B513=\"\",\"\",CMS_Identification!B513)","v":""},{"$f":"IF(COUNTIF(S$2:S491,S491)=1,S491,\"\")","v":""},{"$f":"+IF(U491=\"\",\"\",MAX(V$1:V490)+1)","v":""},"",null,{"$f":"IF(CMS_Identification!G513=\"\",\"\",CMS_Identification!G513)","v":""},{"$f":"IF(CMS_Identification!D513=\"\",\"\",CMS_Identification!D513)","v":""},null,null,null,{"$f":"IF(CMS_Identification!B513=\"\",\"\",CMS_Identification!B513)","v":""},{"$f":"IF(CMS_Identification!G513=\"\",\"\",CMS_Identification!G513)","v":""},{"$f":"IF(CMS_Identification!D513=\"\",\"\",CMS_Identification!D513)","v":""}]
[null,null,null,null,null,null,null,null,{"$f":"IF(LDAR_TT_summary!C414=\"\",\"\",LDAR_TT_summary!C414)","v":""},{"$f":"IF(COUNTIF(I$2:I492,I492)=1,I492,\"\")","v":""},{"$f":"+IF(J492=\"\",\"\",MAX(K$1:K491)+1)","v":""},"",null,{"$f":"IF(LDAR_H_UU_summary!C314=\"\",\"\",LDAR_H_UU_summary!C314)","v":""},{"$f":"IF(COUNTIF(N$2:N492,N492)=1,N492,\"\")","v":""},{"$f":"+IF(O492=\"\",\"\",MAX(P$1:P491)+1)","v":""},"",null,{"$f":"IF(CMS_Identification!G514=\"\",\"\",CMS_Identification!G514)","v":""},{"$f":"IF(CMS_Identification!B514=\"\",\"\",CMS_Identification!B514)","v":""},{"$f":"IF(COUNTIF(S$2:S492,S492)=1,S492,\"\")","v":""},{"$f":"+IF(U492=\"\",\"\",MAX(V$1:V491)+1)","v":""},"",null,{"$f":"IF(CMS_Identification!G514=\"\",\"\",CMS_Identification!G514)","v":""},{"$f":"IF(CMS_Identification!D514=\"\",\"\",CMS_Identification!D514)","v":""},null,null,null,{"$f":"IF(CMS_Identification!B514=\"\",\"\",CMS_Identification!B514)","v":""},{"$f":"IF(CMS_Identification!G514=\"\",\"\",CMS_Identification!G514)","v":""},{"$f":"IF(CMS_Identification!D514=\"\",\"\",CMS_Identification!D514)","v":""}]
[null,null,null,null,null,null,null,null,{"$f":"IF(LDAR_TT_summary!C415=\"\",\"\",LDAR_TT_summary!C415)","v":""},{"$f":"IF(COUNTIF(I$2:I493,I493)=1,I493,\"\")","v":""},{"$f":"+IF(J493=\"\",\"\",MAX(K$1:K492)+1)","v":""},"",null,{"$f":"IF(LDAR_H_UU_summary!C315=\"\",\"\",LDAR_H_UU_summary!C315)","v":""},{"$f":"IF(COUNTIF(N$2:N493,N493)=1,N493,\"\")","v":""},{"$f":"+IF(O493=\"\",\"\",MAX(P$1:P492)+1)","v":""},"",null,{"$f":"IF(CMS_Identification!G515=\"\",\"\",CMS_Identification!G515)","v":""},{"$f":"IF(CMS_Identification!B515=\"\",\"\",CMS_Identification!B515)","v":""},{"$f":"IF(COUNTIF(S$2:S493,S493)=1,S493,\"\")","v":""},{"$f":"+IF(U493=\"\",\"\",MAX(V$1:V492)+1)","v":""},"",null,{"$f":"IF(CMS_Identification!G515=\"\",\"\",CMS_Identification!G515)","v":""},{"$f":"IF(CMS_Identification!D515=\"\",\"\",CMS_Identification!D515)","v":""},null,null,null,{"$f":"IF(CMS_Identification!B515=\"\",\"\",CMS_Identification!B515)","v":""},{"$f":"IF(CMS_Identification!G515=\"\",\"\",CMS_Identification!G515)","v":""},{"$f":"IF(CMS_Identification!D515=\"\",\"\",CMS_Identification!D515)","v":""}]
[null,null,null,null,null,null,null,null,{"$f":"IF(LDAR_TT_summary!C416=\"\",\"\",LDAR_TT_summary!C416)","v":""},{"$f":"IF(COUNTIF(I$2:I494,I494)=1,I494,\"\")","v":""},{"$f":"+IF(J494=\"\",\"\",MAX(K$1:K493)+1)","v":""},"",null,{"$f":"IF(LDAR_H_UU_summary!C316=\"\",\"\",LDAR_H_UU_summary!C316)","v":""},{"$f":"IF(COUNTIF(N$2:N494,N494)=1,N494,\"\")","v":""},{"$f":"+IF(O494=\"\",\"\",MAX(P$1:P493)+1)","v":""},"",null,{"$f":"IF(CMS_Identification!G516=\"\",\"\",CMS_Identification!G516)","v":""},{"$f":"IF(CMS_Identification!B516=\"\",\"\",CMS_Identification!B516)","v":""},{"$f":"IF(COUNTIF(S$2:S494,S494)=1,S494,\"\")","v":""},{"$f":"+IF(U494=\"\",\"\",MAX(V$1:V493)+1)","v":""},"",null,{"$f":"IF(CMS_Identification!G516=\"\",\"\",CMS_Identification!G516)","v":""},{"$f":"IF(CMS_Identification!D516=\"\",\"\",CMS_Identification!D516)","v":""},null,null,null,{"$f":"IF(CMS_Identification!B516=\"\",\"\",CMS_Identification!B516)","v":""},{"$f":"IF(CMS_Identification!G516=\"\",\"\",CMS_Identification!G516)","v":""},{"$f":"IF(CMS_Identification!D516=\"\",\"\",CMS_Identification!D516)","v":""}]
[null,null,null,null,null,null,null,null,{"$f":"IF(LDAR_TT_summary!C417=\"\",\"\",LDAR_TT_summary!C417)","v":""},{"$f":"IF(COUNTIF(I$2:I495,I495)=1,I495,\"\")","v":""},{"$f":"+IF(J495=\"\",\"\",MAX(K$1:K494)+1)","v":""},"",null,{"$f":"IF(LDAR_H_UU_summary!C317=\"\",\"\",LDAR_H_UU_summary!C317)","v":""},{"$f":"IF(COUNTIF(N$2:N495,N495)=1,N495,\"\")","v":""},{"$f":"+IF(O495=\"\",\"\",MAX(P$1:P494)+1)","v":""},"",null,{"$f":"IF(CMS_Identification!G517=\"\",\"\",CMS_Identification!G517)","v":""},{"$f":"IF(CMS_Identification!B517=\"\",\"\",CMS_Identification!B517)","v":""},{"$f":"IF(COUNTIF(S$2:S495,S495)=1,S495,\"\")","v":""},{"$f":"+IF(U495=\"\",\"\",MAX(V$1:V494)+1)","v":""},"",null,{"$f":"IF(CMS_Identification!G517=\"\",\"\",CMS_Identification!G517)","v":""},{"$f":"IF(CMS_Identification!D517=\"\",\"\",CMS_Identification!D517)","v":""},null,null,null,{"$f":"IF(CMS_Identification!B517=\"\",\"\",CMS_Identification!B517)","v":""},{"$f":"IF(CMS_Identification!G517=\"\",\"\",CMS_Identification!G517)","v":""},{"$f":"IF(CMS_Identification!D517=\"\",\"\",CMS_Identification!D517)","v":""}]
[null,null,null,null,null,null,null,null,{"$f":"IF(LDAR_TT_summary!C418=\"\",\"\",LDAR_TT_summary!C418)","v":""},{"$f":"IF(COUNTIF(I$2:I496,I496)=1,I496,\"\")","v":""},{"$f":"+IF(J496=\"\",\"\",MAX(K$1:K495)+1)","v":""},"",null,{"$f":"IF(LDAR_H_UU_summary!C318=\"\",\"\",LDAR_H_UU_summary!C318)","v":""},{"$f":"IF(COUNTIF(N$2:N496,N496)=1,N496,\"\")","v":""},{"$f":"+IF(O496=\"\",\"\",MAX(P$1:P495)+1)","v":""},"",null,{"$f":"IF(CMS_Identification!G518=\"\",\"\",CMS_Identification!G518)","v":""},{"$f":"IF(CMS_Identification!B518=\"\",\"\",CMS_Identification!B518)","v":""},{"$f":"IF(COUNTIF(S$2:S496,S496)=1,S496,\"\")","v":""},{"$f":"+IF(U496=\"\",\"\",MAX(V$1:V495)+1)","v":""},"",null,{"$f":"IF(CMS_Identification!G518=\"\",\"\",CMS_Identification!G518)","v":""},{"$f":"IF(CMS_Identification!D518=\"\",\"\",CMS_Identification!D518)","v":""},null,null,null,{"$f":"IF(CMS_Identification!B518=\"\",\"\",CMS_Identification!B518)","v":""},{"$f":"IF(CMS_Identification!G518=\"\",\"\",CMS_Identification!G518)","v":""},{"$f":"IF(CMS_Identification!D518=\"\",\"\",CMS_Identification!D518)","v":""}]
[null,null,null,null,null,null,null,null,{"$f":"IF(LDAR_TT_summary!C419=\"\",\"\",LDAR_TT_summary!C419)","v":""},{"$f":"IF(COUNTIF(I$2:I497,I497)=1,I497,\"\")","v":""},{"$f":"+IF(J497=\"\",\"\",MAX(K$1:K496)+1)","v":""},"",null,{"$f":"IF(LDAR_H_UU_summary!C319=\"\",\"\",LDAR_H_UU_summary!C319)","v":""},{"$f":"IF(COUNTIF(N$2:N497,N497)=1,N497,\"\")","v":""},{"$f":"+IF(O497=\"\",\"\",MAX(P$1:P496)+1)","v":""},"",null,{"$f":"IF(CMS_Identification!G519=\"\",\"\",CMS_Identification!G519)","v":""},{"$f":"IF(CMS_Identification!B519=\"\",\"\",CMS_Identification!B519)","v":""},{"$f":"IF(COUNTIF(S$2:S497,S497)=1,S497,\"\")","v":""},{"$f":"+IF(U497=\"\",\"\",MAX(V$1:V496)+1)","v":""},"",null,{"$f":"IF(CMS_Identification!G519=\"\",\"\",CMS_Identification!G519)","v":""},{"$f":"IF(CMS_Identification!D519=\"\",\"\",CMS_Identification!D519)","v":""},null,null,null,{"$f":"IF(CMS_Identification!B519=\"\",\"\",CMS_Identification!B519)","v":""},{"$f":"IF(CMS_Identification!G519=\"\",\"\",CMS_Identification!G519)","v":""},{"$f":"IF(CMS_Identification!D519=\"\",\"\",CMS_Identification!D519)","v":""}]
[null,null,null,null,null,null,null,null,{"$f":"IF(LDAR_TT_summary!C420=\"\",\"\",LDAR_TT_summary!C420)","v":""},{"$f":"IF(COUNTIF(I$2:I498,I498)=1,I498,\"\")","v":""},{"$f":"+IF(J498=\"\",\"\",MAX(K$1:K497)+1)","v":""},"",null,{"$f":"IF(LDAR_H_UU_summary!C320=\"\",\"\",LDAR_H_UU_summary!C320)","v":""},{"$f":"IF(COUNTIF(N$2:N498,N498)=1,N498,\"\")","v":""},{"$f":"+IF(O498=\"\",\"\",MAX(P$1:P497)+1)","v":""},"",null,{"$f":"IF(CMS_Identification!G520=\"\",\"\",CMS_Identification!G520)","v":""},{"$f":"IF(CMS_Identification!B520=\"\",\"\",CMS_Identification!B520)","v":""},{"$f":"IF(COUNTIF(S$2:S498,S498)=1,S498,\"\")","v":""},{"$f":"+IF(U498=\"\",\"\",MAX(V$1:V497)+1)","v":""},"",null,{"$f":"IF(CMS_Identification!G520=\"\",\"\",CMS_Identification!G520)","v":""},{"$f":"IF(CMS_Identification!D520=\"\",\"\",CMS_Identification!D520)","v":""},null,null,null,{"$f":"IF(CMS_Identification!B520=\"\",\"\",CMS_Identification!B520)","v":""},{"$f":"IF(CMS_Identification!G520=\"\",\"\",CMS_Identification!G520)","v":""},{"$f":"IF(CMS_Identification!D520=\"\",\"\",CMS_Identification!D520)","v":""}]
[null,null,null,null,null,null,null,null,{"$f":"IF(LDAR_TT_summary!C421=\"\",\"\",LDAR_TT_summary!C421)","v":""},{"$f":"IF(COUNTIF(I$2:I499,I499)=1,I499,\"\")","v":""},{"$f":"+IF(J499=\"\",\"\",MAX(K$1:K498)+1)","v":""},"",null,{"$f":"IF(LDAR_H_UU_summary!C321=\"\",\"\",LDAR_H_UU_summary!C321)","v":""},{"$f":"IF(COUNTIF(N$2:N499,N499)=1,N499,\"\")","v":""},{"$f":"+IF(O499=\"\",\"\",MAX(P$1:P498)+1)","v":""},"",null,{"$f":"IF(CMS_Identification!G521=\"\",\"\",CMS_Identification!G521)","v":""},{"$f":"IF(CMS_Identification!B521=\"\",\"\",CMS_Identification!B521)","v":""},{"$f":"IF(COUNTIF(S$2:S499,S499)=1,S499,\"\")","v":""},{"$f":"+IF(U499=\"\",\"\",MAX(V$1:V498)+1)","v":""},"",null,{"$f":"IF(CMS_Identification!G521=\"\",\"\",CMS_Identification!G521)","v":""},{"$f":"IF(CMS_Identification!D521=\"\",\"\",CMS_Identification!D521)","v":""},null,null,null,{"$f":"IF(CMS_Identification!B521=\"\",\"\",CMS_Identification!B521)","v":""},{"$f":"IF(CMS_Identification!G521=\"\",\"\",CMS_Identification!G521)","v":""},{"$f":"IF(CMS_Identification!D521=\"\",\"\",CMS_Identification!D521)","v":""}]
[null,null,null,null,null,null,null,null,{"$f":"IF(LDAR_TT_summary!C422=\"\",\"\",LDAR_TT_summary!C422)","v":""},{"$f":"IF(COUNTIF(I$2:I500,I500)=1,I500,\"\")","v":""},{"$f":"+IF(J500=\"\",\"\",MAX(K$1:K499)+1)","v":""},"",null,{"$f":"IF(LDAR_H_UU_summary!C322=\"\",\"\",LDAR_H_UU_summary!C322)","v":""},{"$f":"IF(COUNTIF(N$2:N500,N500)=1,N500,\"\")","v":""},{"$f":"+IF(O500=\"\",\"\",MAX(P$1:P499)+1)","v":""},"",null,{"$f":"IF(CMS_Identification!G522=\"\",\"\",CMS_Identification!G522)","v":""},{"$f":"IF(CMS_Identification!B522=\"\",\"\",CMS_Identification!B522)","v":""},{"$f":"IF(COUNTIF(S$2:S500,S500)=1,S500,\"\")","v":""},{"$f":"+IF(U500=\"\",\"\",MAX(V$1:V499)+1)","v":""},"",null,{"$f":"IF(CMS_Identification!G522=\"\",\"\",CMS_Identification!G522)","v":""},{"$f":"IF(CMS_Identification!D522=\"\",\"\",CMS_Identification!D522)","v":""},null,null,null,{"$f":"IF(CMS_Identification!B522=\"\",\"\",CMS_Identification!B522)","v":""},{"$f":"IF(CMS_Identification!G522=\"\",\"\",CMS_Identification!G522)","v":""},{"$f":"IF(CMS_Identification!D522=\"\",\"\",CMS_Identification!D522)","v":""}]
[null,null,null,null,null,null,null,null,{"$f":"IF(LDAR_TT_summary!C423=\"\",\"\",LDAR_TT_summary!C423)","v":""},{"$f":"IF(COUNTIF(I$2:I501,I501)=1,I501,\"\")","v":""},{"$f":"+IF(J501=\"\",\"\",MAX(K$1:K500)+1)","v":""},"",null,{"$f":"IF(LDAR_H_UU_summary!C323=\"\",\"\",LDAR_H_UU_summary!C323)","v":""},{"$f":"IF(COUNTIF(N$2:N501,N501)=1,N501,\"\")","v":""},{"$f":"+IF(O501=\"\",\"\",MAX(P$1:P500)+1)","v":""},"",null,{"$f":"IF(CMS_Identification!G523=\"\",\"\",CMS_Identification!G523)","v":""},{"$f":"IF(CMS_Identification!B523=\"\",\"\",CMS_Identification!B523)","v":""},{"$f":"IF(COUNTIF(S$2:S501,S501)=1,S501,\"\")","v":""},{"$f":"+IF(U501=\"\",\"\",MAX(V$1:V500)+1)","v":""},"",null,{"$f":"IF(CMS_Identification!G523=\"\",\"\",CMS_Identification!G523)","v":""},{"$f":"IF(CMS_Identification!D523=\"\",\"\",CMS_Identification!D523)","v":""},null,null,null,{"$f":"IF(CMS_Identification!B523=\"\",\"\",CMS_Identification!B523)","v":""},{"$f":"IF(CMS_Identification!G523=\"\",\"\",CMS_Identification!G523)","v":""},{"$f":"IF(CMS_Identification!D523=\"\",\"\",CMS_Identification!D523)","v":""}]
[null,null,null,null,null,null,null,null,{"$f":"IF(LDAR_TT_summary!C424=\"\",\"\",LDAR_TT_summary!C424)","v":""},{"$f":"IF(COUNTIF(I$2:I502,I502)=1,I502,\"\")","v":""},{"$f":"+IF(J502=\"\",\"\",MAX(K$1:K501)+1)","v":""},"",null,{"$f":"IF(LDAR_H_UU_summary!C324=\"\",\"\",LDAR_H_UU_summary!C324)","v":""},{"$f":"IF(COUNTIF(N$2:N502,N502)=1,N502,\"\")","v":""},{"$f":"+IF(O502=\"\",\"\",MAX(P$1:P501)+1)","v":""},""]
[null,null,null,null,null,null,null,null,{"$f":"IF(LDAR_TT_summary!C425=\"\",\"\",LDAR_TT_summary!C425)","v":""},{"$f":"IF(COUNTIF(I$2:I503,I503)=1,I503,\"\")","v":""},{"$f":"+IF(J503=\"\",\"\",MAX(K$1:K502)+1)","v":""},"",null,{"$f":"IF(LDAR_H_UU_summary!C325=\"\",\"\",LDAR_H_UU_summary!C325)","v":""},{"$f":"IF(COUNTIF(N$2:N503,N503)=1,N503,\"\")","v":""},{"$f":"+IF(O503=\"\",\"\",MAX(P$1:P502)+1)","v":""},""]
[null,null,null,null,null,null,null,null,{"$f":"IF(LDAR_TT_summary!C426=\"\",\"\",LDAR_TT_summary!C426)","v":""},{"$f":"IF(COUNTIF(I$2:I504,I504)=1,I504,\"\")","v":""},{"$f":"+IF(J504=\"\",\"\",MAX(K$1:K503)+1)","v":""},"",null,{"$f":"IF(LDAR_H_UU_summary!C326=\"\",\"\",LDAR_H_UU_summary!C326)","v":""},{"$f":"IF(COUNTIF(N$2:N504,N504)=1,N504,\"\")","v":""},{"$f":"+IF(O504=\"\",\"\",MAX(P$1:P503)+1)","v":""},""]
[null,null,null,null,null,null,null,null,{"$f":"IF(LDAR_TT_summary!C427=\"\",\"\",LDAR_TT_summary!C427)","v":""},{"$f":"IF(COUNTIF(I$2:I505,I505)=1,I505,\"\")","v":""},{"$f":"+IF(J505=\"\",\"\",MAX(K$1:K504)+1)","v":""},"",null,{"$f":"IF(LDAR_H_UU_summary!C327=\"\",\"\",LDAR_H_UU_summary!C327)","v":""},{"$f":"IF(COUNTIF(N$2:N505,N505)=1,N505,\"\")","v":""},{"$f":"+IF(O505=\"\",\"\",MAX(P$1:P504)+1)","v":""},""]
[null,null,null,null,null,null,null,null,{"$f":"IF(LDAR_TT_summary!C428=\"\",\"\",LDAR_TT_summary!C428)","v":""},{"$f":"IF(COUNTIF(I$2:I506,I506)=1,I506,\"\")","v":""},{"$f":"+IF(J506=\"\",\"\",MAX(K$1:K505)+1)","v":""},"",null,{"$f":"IF(LDAR_H_UU_summary!C328=\"\",\"\",LDAR_H_UU_summary!C328)","v":""},{"$f":"IF(COUNTIF(N$2:N506,N506)=1,N506,\"\")","v":""},{"$f":"+IF(O506=\"\",\"\",MAX(P$1:P505)+1)","v":""},""]
[null,null,null,null,null,null,null,null,{"$f":"IF(LDAR_TT_summary!C429=\"\",\"\",LDAR_TT_summary!C429)","v":""},{"$f":"IF(COUNTIF(I$2:I507,I507)=1,I507,\"\")","v":""},{"$f":"+IF(J507=\"\",\"\",MAX(K$1:K506)+1)","v":""},"",null,{"$f":"IF(LDAR_H_UU_summary!C329=\"\",\"\",LDAR_H_UU_summary!C329)","v":""},{"$f":"IF(COUNTIF(N$2:N507,N507)=1,N507,\"\")","v":""},{"$f":"+IF(O507=\"\",\"\",MAX(P$1:P506)+1)","v":""},""]
[null,null,null,null,null,null,null,null,{"$f":"IF(LDAR_TT_summary!C430=\"\",\"\",LDAR_TT_summary!C430)","v":""},{"$f":"IF(COUNTIF(I$2:I508,I508)=1,I508,\"\")","v":""},{"$f":"+IF(J508=\"\",\"\",MAX(K$1:K507)+1)","v":""},"",null,{"$f":"IF(LDAR_H_UU_summary!C330=\"\",\"\",LDAR_H_UU_summary!C330)","v":""},{"$f":"IF(COUNTIF(N$2:N508,N508)=1,N508,\"\")","v":""},{"$f":"+IF(O508=\"\",\"\",MAX(P$1:P507)+1)","v":""},""]
[null,null,null,null,null,null,null,null,{"$f":"IF(LDAR_TT_summary!C431=\"\",\"\",LDAR_TT_summary!C431)","v":""},{"$f":"IF(COUNTIF(I$2:I509,I509)=1,I509,\"\")","v":""},{"$f":"+IF(J509=\"\",\"\",MAX(K$1:K508)+1)","v":""},"",null,{"$f":"IF(LDAR_H_UU_summary!C331=\"\",\"\",LDAR_H_UU_summary!C331)","v":""},{"$f":"IF(COUNTIF(N$2:N509,N509)=1,N509,\"\")","v":""},{"$f":"+IF(O509=\"\",\"\",MAX(P$1:P508)+1)","v":""},""]
[null,null,null,null,null,null,null,null,{"$f":"IF(LDAR_TT_summary!C432=\"\",\"\",LDAR_TT_summary!C432)","v":""},{"$f":"IF(COUNTIF(I$2:I510,I510)=1,I510,\"\")","v":""},{"$f":"+IF(J510=\"\",\"\",MAX(K$1:K509)+1)","v":""},"",null,{"$f":"IF(LDAR_H_UU_summary!C332=\"\",\"\",LDAR_H_UU_summary!C332)","v":""},{"$f":"IF(COUNTIF(N$2:N510,N510)=1,N510,\"\")","v":""},{"$f":"+IF(O510=\"\",\"\",MAX(P$1:P509)+1)","v":""},""]
[null,null,null,null,null,null,null,null,{"$f":"IF(LDAR_TT_summary!C433=\"\",\"\",LDAR_TT_summary!C433)","v":""},{"$f":"IF(COUNTIF(I$2:I511,I511)=1,I511,\"\")","v":""},{"$f":"+IF(J511=\"\",\"\",MAX(K$1:K510)+1)","v":""},"",null,{"$f":"IF(LDAR_H_UU_summary!C333=\"\",\"\",LDAR_H_UU_summary!C333)","v":""},{"$f":"IF(COUNTIF(N$2:N511,N511)=1,N511,\"\")","v":""},{"$f":"+IF(O511=\"\",\"\",MAX(P$1:P510)+1)","v":""},""]
[null,null,null,null,null,null,null,null,{"$f":"IF(LDAR_TT_summary!C434=\"\",\"\",LDAR_TT_summary!C434)","v":""},{"$f":"IF(COUNTIF(I$2:I512,I512)=1,I512,\"\")","v":""},{"$f":"+IF(J512=\"\",\"\",MAX(K$1:K511)+1)","v":""},"",null,{"$f":"IF(LDAR_H_UU_summary!C334=\"\",\"\",LDAR_H_UU_summary!C334)","v":""},{"$f":"IF(COUNTIF(N$2:N512,N512)=1,N512,\"\")","v":""},{"$f":"+IF(O512=\"\",\"\",MAX(P$1:P511)+1)","v":""},""]
[null,null,null,null,null,null,null,null,{"$f":"IF(LDAR_TT_summary!C435=\"\",\"\",LDAR_TT_summary!C435)","v":""},{"$f":"IF(COUNTIF(I$2:I513,I513)=1,I513,\"\")","v":""},{"$f":"+IF(J513=\"\",\"\",MAX(K$1:K512)+1)","v":""},"",null,{"$f":"IF(LDAR_H_UU_summary!C335=\"\",\"\",LDAR_H_UU_summary!C335)","v":""},{"$f":"IF(COUNTIF(N$2:N513,N513)=1,N513,\"\")","v":""},{"$f":"+IF(O513=\"\",\"\",MAX(P$1:P512)+1)","v":""},""]
[null,null,null,null,null,null,null,null,{"$f":"IF(LDAR_TT_summary!C436=\"\",\"\",LDAR_TT_summary!C436)","v":""},{"$f":"IF(COUNTIF(I$2:I514,I514)=1,I514,\"\")","v":""},{"$f":"+IF(J514=\"\",\"\",MAX(K$1:K513)+1)","v":""},"",null,{"$f":"IF(LDAR_H_UU_summary!C336=\"\",\"\",LDAR_H_UU_summary!C336)","v":""},{"$f":"IF(COUNTIF(N$2:N514,N514)=1,N514,\"\")","v":""},{"$f":"+IF(O514=\"\",\"\",MAX(P$1:P513)+1)","v":""},""]
[null,null,null,null,null,null,null,null,{"$f":"IF(LDAR_TT_summary!C437=\"\",\"\",LDAR_TT_summary!C437)","v":""},{"$f":"IF(COUNTIF(I$2:I515,I515)=1,I515,\"\")","v":""},{"$f":"+IF(J515=\"\",\"\",MAX(K$1:K514)+1)","v":""},{"$f":"+IFERROR(INDEX($I$2:$I$801,MATCH(ROW()-ROW($K$1),$K$2:$K$801,0)),\"\")","v":""},null,{"$f":"IF(LDAR_H_UU_summary!C337=\"\",\"\",LDAR_H_UU_summary!C337)","v":""},{"$f":"IF(COUNTIF(N$2:N515,N515)=1,N515,\"\")","v":""},{"$f":"+IF(O515=\"\",\"\",MAX(P$1:P514)+1)","v":""},{"$f":"+IFERROR(INDEX($N$2:$N$2001,MATCH(ROW()-ROW($P$1),$P$2:$P$2001,0)),\"\")","v":""}]
[null,null,null,null,null,null,null,null,{"$f":"IF(LDAR_TT_summary!C438=\"\",\"\",LDAR_TT_summary!C438)","v":""},{"$f":"IF(COUNTIF(I$2:I516,I516)=1,I516,\"\")","v":""},{"$f":"+IF(J516=\"\",\"\",MAX(K$1:K515)+1)","v":""},"",null,{"$f":"IF(LDAR_H_UU_summary!C338=\"\",\"\",LDAR_H_UU_summary!C338)","v":""},{"$f":"IF(COUNTIF(N$2:N516,N516)=1,N516,\"\")","v":""},{"$f":"+IF(O516=\"\",\"\",MAX(P$1:P515)+1)","v":""},""]
[null,null,null,null,null,null,null,null,{"$f":"IF(LDAR_TT_summary!C439=\"\",\"\",LDAR_TT_summary!C439)","v":""},{"$f":"IF(COUNTIF(I$2:I517,I517)=1,I517,\"\")","v":""},{"$f":"+IF(J517=\"\",\"\",MAX(K$1:K516)+1)","v":""},"",null,{"$f":"IF(LDAR_H_UU_summary!C339=\"\",\"\",LDAR_H_UU_summary!C339)","v":""},{"$f":"IF(COUNTIF(N$2:N517,N517)=1,N517,\"\")","v":""},{"$f":"+IF(O517=\"\",\"\",MAX(P$1:P516)+1)","v":""},""]
[null,null,null,null,null,null,null,null,{"$f":"IF(LDAR_TT_summary!C440=\"\",\"\",LDAR_TT_summary!C440)","v":""},{"$f":"IF(COUNTIF(I$2:I518,I518)=1,I518,\"\")","v":""},{"$f":"+IF(J518=\"\",\"\",MAX(K$1:K517)+1)","v":""},"",null,{"$f":"IF(LDAR_H_UU_summary!C340=\"\",\"\",LDAR_H_UU_summary!C340)","v":""},{"$f":"IF(COUNTIF(N$2:N518,N518)=1,N518,\"\")","v":""},{"$f":"+IF(O518=\"\",\"\",MAX(P$1:P517)+1)","v":""},""]
[null,null,null,null,null,null,null,null,{"$f":"IF(LDAR_TT_summary!C441=\"\",\"\",LDAR_TT_summary!C441)","v":""},{"$f":"IF(COUNTIF(I$2:I519,I519)=1,I519,\"\")","v":""},{"$f":"+IF(J519=\"\",\"\",MAX(K$1:K518)+1)","v":""},"",null,{"$f":"IF(LDAR_H_UU_summary!C341=\"\",\"\",LDAR_H_UU_summary!C341)","v":""},{"$f":"IF(COUNTIF(N$2:N519,N519)=1,N519,\"\")","v":""},{"$f":"+IF(O519=\"\",\"\",MAX(P$1:P518)+1)","v":""},""]
[null,null,null,null,null,null,null,null,{"$f":"IF(LDAR_TT_summary!C442=\"\",\"\",LDAR_TT_summary!C442)","v":""},{"$f":"IF(COUNTIF(I$2:I520,I520)=1,I520,\"\")","v":""},{"$f":"+IF(J520=\"\",\"\",MAX(K$1:K519)+1)","v":""},"",null,{"$f":"IF(LDAR_H_UU_summary!C342=\"\",\"\",LDAR_H_UU_summary!C342)","v":""},{"$f":"IF(COUNTIF(N$2:N520,N520)=1,N520,\"\")","v":""},{"$f":"+IF(O520=\"\",\"\",MAX(P$1:P519)+1)","v":""},""]
[null,null,null,null,null,null,null,null,{"$f":"IF(LDAR_TT_summary!C443=\"\",\"\",LDAR_TT_summary!C443)","v":""},{"$f":"IF(COUNTIF(I$2:I521,I521)=1,I521,\"\")","v":""},{"$f":"+IF(J521=\"\",\"\",MAX(K$1:K520)+1)","v":""},"",null,{"$f":"IF(LDAR_H_UU_summary!C343=\"\",\"\",LDAR_H_UU_summary!C343)","v":""},{"$f":"IF(COUNTIF(N$2:N521,N521)=1,N521,\"\")","v":""},{"$f":"+IF(O521=\"\",\"\",MAX(P$1:P520)+1)","v":""},""]
[null,null,null,null,null,null,null,null,{"$f":"IF(LDAR_TT_summary!C444=\"\",\"\",LDAR_TT_summary!C444)","v":""},{"$f":"IF(COUNTIF(I$2:I522,I522)=1,I522,\"\")","v":""},{"$f":"+IF(J522=\"\",\"\",MAX(K$1:K521)+1)","v":""},"",null,{"$f":"IF(LDAR_H_UU_summary!C344=\"\",\"\",LDAR_H_UU_summary!C344)","v":""},{"$f":"IF(COUNTIF(N$2:N522,N522)=1,N522,\"\")","v":""},{"$f":"+IF(O522=\"\",\"\",MAX(P$1:P521)+1)","v":""},""]
[null,null,null,null,null,null,null,null,{"$f":"IF(LDAR_TT_summary!C445=\"\",\"\",LDAR_TT_summary!C445)","v":""},{"$f":"IF(COUNTIF(I$2:I523,I523)=1,I523,\"\")","v":""},{"$f":"+IF(J523=\"\",\"\",MAX(K$1:K522)+1)","v":""},"",null,{"$f":"IF(LDAR_H_UU_summary!C345=\"\",\"\",LDAR_H_UU_summary!C345)","v":""},{"$f":"IF(COUNTIF(N$2:N523,N523)=1,N523,\"\")","v":""},{"$f":"+IF(O523=\"\",\"\",MAX(P$1:P522)+1)","v":""},""]
[null,null,null,null,null,null,null,null,{"$f":"IF(LDAR_TT_summary!C446=\"\",\"\",LDAR_TT_summary!C446)","v":""},{"$f":"IF(COUNTIF(I$2:I524,I524)=1,I524,\"\")","v":""},{"$f":"+IF(J524=\"\",\"\",MAX(K$1:K523)+1)","v":""},"",null,{"$f":"IF(LDAR_H_UU_summary!C346=\"\",\"\",LDAR_H_UU_summary!C346)","v":""},{"$f":"IF(COUNTIF(N$2:N524,N524)=1,N524,\"\")","v":""},{"$f":"+IF(O524=\"\",\"\",MAX(P$1:P523)+1)","v":""},""]
[null,null,null,null,null,null,null,null,{"$f":"IF(LDAR_TT_summary!C447=\"\",\"\",LDAR_TT_summary!C447)","v":""},{"$f":"IF(COUNTIF(I$2:I525,I525)=1,I525,\"\")","v":""},{"$f":"+IF(J525=\"\",\"\",MAX(K$1:K524)+1)","v":""},"",null,{"$f":"IF(LDAR_H_UU_summary!C347=\"\",\"\",LDAR_H_UU_summary!C347)","v":""},{"$f":"IF(COUNTIF(N$2:N525,N525)=1,N525,\"\")","v":""},{"$f":"+IF(O525=\"\",\"\",MAX(P$1:P524)+1)","v":""},""]
[null,null,null,null,null,null,null,null,{"$f":"IF(LDAR_TT_summary!C448=\"\",\"\",LDAR_TT_summary!C448)","v":""},{"$f":"IF(COUNTIF(I$2:I526,I526)=1,I526,\"\")","v":""},{"$f":"+IF(J526=\"\",\"\",MAX(K$1:K525)+1)","v":""},"",null,{"$f":"IF(LDAR_H_UU_summary!C348=\"\",\"\",LDAR_H_UU_summary!C348)","v":""},{"$f":"IF(COUNTIF(N$2:N526,N526)=1,N526,\"\")","v":""},{"$f":"+IF(O526=\"\",\"\",MAX(P$1:P525)+1)","v":""},""]
[null,null,null,null,null,null,null,null,{"$f":"IF(LDAR_TT_summary!C449=\"\",\"\",LDAR_TT_summary!C449)","v":""},{"$f":"IF(COUNTIF(I$2:I527,I527)=1,I527,\"\")","v":""},{"$f":"+IF(J527=\"\",\"\",MAX(K$1:K526)+1)","v":""},"",null,{"$f":"IF(LDAR_H_UU_summary!C349=\"\",\"\",LDAR_H_UU_summary!C349)","v":""},{"$f":"IF(COUNTIF(N$2:N527,N527)=1,N527,\"\")","v":""},{"$f":"+IF(O527=\"\",\"\",MAX(P$1:P526)+1)","v":""},""]
[null,null,null,null,null,null,null,null,{"$f":"IF(LDAR_TT_summary!C450=\"\",\"\",LDAR_TT_summary!C450)","v":""},{"$f":"IF(COUNTIF(I$2:I528,I528)=1,I528,\"\")","v":""},{"$f":"+IF(J528=\"\",\"\",MAX(K$1:K527)+1)","v":""},"",null,{"$f":"IF(LDAR_H_UU_summary!C350=\"\",\"\",LDAR_H_UU_summary!C350)","v":""},{"$f":"IF(COUNTIF(N$2:N528,N528)=1,N528,\"\")","v":""},{"$f":"+IF(O528=\"\",\"\",MAX(P$1:P527)+1)","v":""},""]
[null,null,null,null,null,null,null,null,{"$f":"IF(LDAR_TT_summary!C451=\"\",\"\",LDAR_TT_summary!C451)","v":""},{"$f":"IF(COUNTIF(I$2:I529,I529)=1,I529,\"\")","v":""},{"$f":"+IF(J529=\"\",\"\",MAX(K$1:K528)+1)","v":""},"",null,{"$f":"IF(LDAR_H_UU_summary!C351=\"\",\"\",LDAR_H_UU_summary!C351)","v":""},{"$f":"IF(COUNTIF(N$2:N529,N529)=1,N529,\"\")","v":""},{"$f":"+IF(O529=\"\",\"\",MAX(P$1:P528)+1)","v":""},""]
[null,null,null,null,null,null,null,null,{"$f":"IF(LDAR_TT_summary!C452=\"\",\"\",LDAR_TT_summary!C452)","v":""},{"$f":"IF(COUNTIF(I$2:I530,I530)=1,I530,\"\")","v":""},{"$f":"+IF(J530=\"\",\"\",MAX(K$1:K529)+1)","v":""},"",null,{"$f":"IF(LDAR_H_UU_summary!C352=\"\",\"\",LDAR_H_UU_summary!C352)","v":""},{"$f":"IF(COUNTIF(N$2:N530,N530)=1,N530,\"\")","v":""},{"$f":"+IF(O530=\"\",\"\",MAX(P$1:P529)+1)","v":""},""]
[null,null,null,null,null,null,null,null,{"$f":"IF(LDAR_TT_summary!C453=\"\",\"\",LDAR_TT_summary!C453)","v":""},{"$f":"IF(COUNTIF(I$2:I531,I531)=1,I531,\"\")","v":""},{"$f":"+IF(J531=\"\",\"\",MAX(K$1:K530)+1)","v":""},"",null,{"$f":"IF(LDAR_H_UU_summary!C353=\"\",\"\",LDAR_H_UU_summary!C353)","v":""},{"$f":"IF(COUNTIF(N$2:N531,N531)=1,N531,\"\")","v":""},{"$f":"+IF(O531=\"\",\"\",MAX(P$1:P530)+1)","v":""},""]
[null,null,null,null,null,null,null,null,{"$f":"IF(LDAR_TT_summary!C454=\"\",\"\",LDAR_TT_summary!C454)","v":""},{"$f":"IF(COUNTIF(I$2:I532,I532)=1,I532,\"\")","v":""},{"$f":"+IF(J532=\"\",\"\",MAX(K$1:K531)+1)","v":""},"",null,{"$f":"IF(LDAR_H_UU_summary!C354=\"\",\"\",LDAR_H_UU_summary!C354)","v":""},{"$f":"IF(COUNTIF(N$2:N532,N532)=1,N532,\"\")","v":""},{"$f":"+IF(O532=\"\",\"\",MAX(P$1:P531)+1)","v":""},""]
[null,null,null,null,null,null,null,null,{"$f":"IF(LDAR_TT_summary!C455=\"\",\"\",LDAR_TT_summary!C455)","v":""},{"$f":"IF(COUNTIF(I$2:I533,I533)=1,I533,\"\")","v":""},{"$f":"+IF(J533=\"\",\"\",MAX(K$1:K532)+1)","v":""},"",null,{"$f":"IF(LDAR_H_UU_summary!C355=\"\",\"\",LDAR_H_UU_summary!C355)","v":""},{"$f":"IF(COUNTIF(N$2:N533,N533)=1,N533,\"\")","v":""},{"$f":"+IF(O533=\"\",\"\",MAX(P$1:P532)+1)","v":""},""]
[null,null,null,null,null,null,null,null,{"$f":"IF(LDAR_TT_summary!C456=\"\",\"\",LDAR_TT_summary!C456)","v":""},{"$f":"IF(COUNTIF(I$2:I534,I534)=1,I534,\"\")","v":""},{"$f":"+IF(J534=\"\",\"\",MAX(K$1:K533)+1)","v":""},"",null,{"$f":"IF(LDAR_H_UU_summary!C356=\"\",\"\",LDAR_H_UU_summary!C356)","v":""},{"$f":"IF(COUNTIF(N$2:N534,N534)=1,N534,\"\")","v":""},{"$f":"+IF(O534=\"\",\"\",MAX(P$1:P533)+1)","v":""},""]
[null,null,null,null,null,null,null,null,{"$f":"IF(LDAR_TT_summary!C457=\"\",\"\",LDAR_TT_summary!C457)","v":""},{"$f":"IF(COUNTIF(I$2:I535,I535)=1,I535,\"\")","v":""},{"$f":"+IF(J535=\"\",\"\",MAX(K$1:K534)+1)","v":""},"",null,{"$f":"IF(LDAR_H_UU_summary!C357=\"\",\"\",LDAR_H_UU_summary!C357)","v":""},{"$f":"IF(COUNTIF(N$2:N535,N535)=1,N535,\"\")","v":""},{"$f":"+IF(O535=\"\",\"\",MAX(P$1:P534)+1)","v":""},""]
[null,null,null,null,null,null,null,null,{"$f":"IF(LDAR_TT_summary!C458=\"\",\"\",LDAR_TT_summary!C458)","v":""},{"$f":"IF(COUNTIF(I$2:I536,I536)=1,I536,\"\")","v":""},{"$f":"+IF(J536=\"\",\"\",MAX(K$1:K535)+1)","v":""},"",null,{"$f":"IF(LDAR_H_UU_summary!C358=\"\",\"\",LDAR_H_UU_summary!C358)","v":""},{"$f":"IF(COUNTIF(N$2:N536,N536)=1,N536,\"\")","v":""},{"$f":"+IF(O536=\"\",\"\",MAX(P$1:P535)+1)","v":""},""]
[null,null,null,null,null,null,null,null,{"$f":"IF(LDAR_TT_summary!C459=\"\",\"\",LDAR_TT_summary!C459)","v":""},{"$f":"IF(COUNTIF(I$2:I537,I537)=1,I537,\"\")","v":""},{"$f":"+IF(J537=\"\",\"\",MAX(K$1:K536)+1)","v":""},"",null,{"$f":"IF(LDAR_H_UU_summary!C359=\"\",\"\",LDAR_H_UU_summary!C359)","v":""},{"$f":"IF(COUNTIF(N$2:N537,N537)=1,N537,\"\")","v":""},{"$f":"+IF(O537=\"\",\"\",MAX(P$1:P536)+1)","v":""},""]
[null,null,null,null,null,null,null,null,{"$f":"IF(LDAR_TT_summary!C460=\"\",\"\",LDAR_TT_summary!C460)","v":""},{"$f":"IF(COUNTIF(I$2:I538,I538)=1,I538,\"\")","v":""},{"$f":"+IF(J538=\"\",\"\",MAX(K$1:K537)+1)","v":""},"",null,{"$f":"IF(LDAR_H_UU_summary!C360=\"\",\"\",LDAR_H_UU_summary!C360)","v":""},{"$f":"IF(COUNTIF(N$2:N538,N538)=1,N538,\"\")","v":""},{"$f":"+IF(O538=\"\",\"\",MAX(P$1:P537)+1)","v":""},""]
[null,null,null,null,null,null,null,null,{"$f":"IF(LDAR_TT_summary!C461=\"\",\"\",LDAR_TT_summary!C461)","v":""},{"$f":"IF(COUNTIF(I$2:I539,I539)=1,I539,\"\")","v":""},{"$f":"+IF(J539=\"\",\"\",MAX(K$1:K538)+1)","v":""},"",null,{"$f":"IF(LDAR_H_UU_summary!C361=\"\",\"\",LDAR_H_UU_summary!C361)","v":""},{"$f":"IF(COUNTIF(N$2:N539,N539)=1,N539,\"\")","v":""},{"$f":"+IF(O539=\"\",\"\",MAX(P$1:P538)+1)","v":""},""]
[null,null,null,null,null,null,null,null,{"$f":"IF(LDAR_TT_summary!C462=\"\",\"\",LDAR_TT_summary!C462)","v":""},{"$f":"IF(COUNTIF(I$2:I540,I540)=1,I540,\"\")","v":""},{"$f":"+IF(J540=\"\",\"\",MAX(K$1:K539)+1)","v":""},"",null,{"$f":"IF(LDAR_H_UU_summary!C362=\"\",\"\",LDAR_H_UU_summary!C362)","v":""},{"$f":"IF(COUNTIF(N$2:N540,N540)=1,N540,\"\")","v":""},{"$f":"+IF(O540=\"\",\"\",MAX(P$1:P539)+1)","v":""},""]
[null,null,null,null,null,null,null,null,{"$f":"IF(LDAR_TT_summary!C463=\"\",\"\",LDAR_TT_summary!C463)","v":""},{"$f":"IF(COUNTIF(I$2:I541,I541)=1,I541,\"\")","v":""},{"$f":"+IF(J541=\"\",\"\",MAX(K$1:K540)+1)","v":""},"",null,{"$f":"IF(LDAR_H_UU_summary!C363=\"\",\"\",LDAR_H_UU_summary!C363)","v":""},{"$f":"IF(COUNTIF(N$2:N541,N541)=1,N541,\"\")","v":""},{"$f":"+IF(O541=\"\",\"\",MAX(P$1:P540)+1)","v":""},""]
[null,null,null,null,null,null,null,null,{"$f":"IF(LDAR_TT_summary!C464=\"\",\"\",LDAR_TT_summary!C464)","v":""},{"$f":"IF(COUNTIF(I$2:I542,I542)=1,I542,\"\")","v":""},{"$f":"+IF(J542=\"\",\"\",MAX(K$1:K541)+1)","v":""},"",null,{"$f":"IF(LDAR_H_UU_summary!C364=\"\",\"\",LDAR_H_UU_summary!C364)","v":""},{"$f":"IF(COUNTIF(N$2:N542,N542)=1,N542,\"\")","v":""},{"$f":"+IF(O542=\"\",\"\",MAX(P$1:P541)+1)","v":""},""]
[null,null,null,null,null,null,null,null,{"$f":"IF(LDAR_TT_summary!C465=\"\",\"\",LDAR_TT_summary!C465)","v":""},{"$f":"IF(COUNTIF(I$2:I543,I543)=1,I543,\"\")","v":""},{"$f":"+IF(J543=\"\",\"\",MAX(K$1:K542)+1)","v":""},"",null,{"$f":"IF(LDAR_H_UU_summary!C365=\"\",\"\",LDAR_H_UU_summary!C365)","v":""},{"$f":"IF(COUNTIF(N$2:N543,N543)=1,N543,\"\")","v":""},{"$f":"+IF(O543=\"\",\"\",MAX(P$1:P542)+1)","v":""},""]
[null,null,null,null,null,null,null,null,{"$f":"IF(LDAR_TT_summary!C466=\"\",\"\",LDAR_TT_summary!C466)","v":""},{"$f":"IF(COUNTIF(I$2:I544,I544)=1,I544,\"\")","v":""},{"$f":"+IF(J544=\"\",\"\",MAX(K$1:K543)+1)","v":""},"",null,{"$f":"IF(LDAR_H_UU_summary!C366=\"\",\"\",LDAR_H_UU_summary!C366)","v":""},{"$f":"IF(COUNTIF(N$2:N544,N544)=1,N544,\"\")","v":""},{"$f":"+IF(O544=\"\",\"\",MAX(P$1:P543)+1)","v":""},""]
[null,null,null,null,null,null,null,null,{"$f":"IF(LDAR_TT_summary!C467=\"\",\"\",LDAR_TT_summary!C467)","v":""},{"$f":"IF(COUNTIF(I$2:I545,I545)=1,I545,\"\")","v":""},{"$f":"+IF(J545=\"\",\"\",MAX(K$1:K544)+1)","v":""},"",null,{"$f":"IF(LDAR_H_UU_summary!C367=\"\",\"\",LDAR_H_UU_summary!C367)","v":""},{"$f":"IF(COUNTIF(N$2:N545,N545)=1,N545,\"\")","v":""},{"$f":"+IF(O545=\"\",\"\",MAX(P$1:P544)+1)","v":""},""]
[null,null,null,null,null,null,null,null,{"$f":"IF(LDAR_TT_summary!C468=\"\",\"\",LDAR_TT_summary!C468)","v":""},{"$f":"IF(COUNTIF(I$2:I546,I546)=1,I546,\"\")","v":""},{"$f":"+IF(J546=\"\",\"\",MAX(K$1:K545)+1)","v":""},"",null,{"$f":"IF(LDAR_H_UU_summary!C368=\"\",\"\",LDAR_H_UU_summary!C368)","v":""},{"$f":"IF(COUNTIF(N$2:N546,N546)=1,N546,\"\")","v":""},{"$f":"+IF(O546=\"\",\"\",MAX(P$1:P545)+1)","v":""},""]
[null,null,null,null,null,null,null,null,{"$f":"IF(LDAR_TT_summary!C469=\"\",\"\",LDAR_TT_summary!C469)","v":""},{"$f":"IF(COUNTIF(I$2:I547,I547)=1,I547,\"\")","v":""},{"$f":"+IF(J547=\"\",\"\",MAX(K$1:K546)+1)","v":""},"",null,{"$f":"IF(LDAR_H_UU_summary!C369=\"\",\"\",LDAR_H_UU_summary!C369)","v":""},{"$f":"IF(COUNTIF(N$2:N547,N547)=1,N547,\"\")","v":""},{"$f":"+IF(O547=\"\",\"\",MAX(P$1:P546)+1)","v":""},""]
[null,null,null,null,null,null,null,null,{"$f":"IF(LDAR_TT_summary!C470=\"\",\"\",LDAR_TT_summary!C470)","v":""},{"$f":"IF(COUNTIF(I$2:I548,I548)=1,I548,\"\")","v":""},{"$f":"+IF(J548=\"\",\"\",MAX(K$1:K547)+1)","v":""},"",null,{"$f":"IF(LDAR_H_UU_summary!C370=\"\",\"\",LDAR_H_UU_summary!C370)","v":""},{"$f":"IF(COUNTIF(N$2:N548,N548)=1,N548,\"\")","v":""},{"$f":"+IF(O548=\"\",\"\",MAX(P$1:P547)+1)","v":""},""]
[null,null,null,null,null,null,null,null,{"$f":"IF(LDAR_TT_summary!C471=\"\",\"\",LDAR_TT_summary!C471)","v":""},{"$f":"IF(COUNTIF(I$2:I549,I549)=1,I549,\"\")","v":""},{"$f":"+IF(J549=\"\",\"\",MAX(K$1:K548)+1)","v":""},"",null,{"$f":"IF(LDAR_H_UU_summary!C371=\"\",\"\",LDAR_H_UU_summary!C371)","v":""},{"$f":"IF(COUNTIF(N$2:N549,N549)=1,N549,\"\")","v":""},{"$f":"+IF(O549=\"\",\"\",MAX(P$1:P548)+1)","v":""},""]
[null,null,null,null,null,null,null,null,{"$f":"IF(LDAR_TT_summary!C472=\"\",\"\",LDAR_TT_summary!C472)","v":""},{"$f":"IF(COUNTIF(I$2:I550,I550)=1,I550,\"\")","v":""},{"$f":"+IF(J550=\"\",\"\",MAX(K$1:K549)+1)","v":""},"",null,{"$f":"IF(LDAR_H_UU_summary!C372=\"\",\"\",LDAR_H_UU_summary!C372)","v":""},{"$f":"IF(COUNTIF(N$2:N550,N550)=1,N550,\"\")","v":""},{"$f":"+IF(O550=\"\",\"\",MAX(P$1:P549)+1)","v":""},""]
[null,null,null,null,null,null,null,null,{"$f":"IF(LDAR_TT_summary!C473=\"\",\"\",LDAR_TT_summary!C473)","v":""},{"$f":"IF(COUNTIF(I$2:I551,I551)=1,I551,\"\")","v":""},{"$f":"+IF(J551=\"\",\"\",MAX(K$1:K550)+1)","v":""},"",null,{"$f":"IF(LDAR_H_UU_summary!C373=\"\",\"\",LDAR_H_UU_summary!C373)","v":""},{"$f":"IF(COUNTIF(N$2:N551,N551)=1,N551,\"\")","v":""},{"$f":"+IF(O551=\"\",\"\",MAX(P$1:P550)+1)","v":""},""]
[null,null,null,null,null,null,null,null,{"$f":"IF(LDAR_TT_summary!C474=\"\",\"\",LDAR_TT_summary!C474)","v":""},{"$f":"IF(COUNTIF(I$2:I552,I552)=1,I552,\"\")","v":""},{"$f":"+IF(J552=\"\",\"\",MAX(K$1:K551)+1)","v":""},"",null,{"$f":"IF(LDAR_H_UU_summary!C374=\"\",\"\",LDAR_H_UU_summary!C374)","v":""},{"$f":"IF(COUNTIF(N$2:N552,N552)=1,N552,\"\")","v":""},{"$f":"+IF(O552=\"\",\"\",MAX(P$1:P551)+1)","v":""},""]
[null,null,null,null,null,null,null,null,{"$f":"IF(LDAR_TT_summary!C475=\"\",\"\",LDAR_TT_summary!C475)","v":""},{"$f":"IF(COUNTIF(I$2:I553,I553)=1,I553,\"\")","v":""},{"$f":"+IF(J553=\"\",\"\",MAX(K$1:K552)+1)","v":""},"",null,{"$f":"IF(LDAR_H_UU_summary!C375=\"\",\"\",LDAR_H_UU_summary!C375)","v":""},{"$f":"IF(COUNTIF(N$2:N553,N553)=1,N553,\"\")","v":""},{"$f":"+IF(O553=\"\",\"\",MAX(P$1:P552)+1)","v":""},""]
[null,null,null,null,null,null,null,null,{"$f":"IF(LDAR_TT_summary!C476=\"\",\"\",LDAR_TT_summary!C476)","v":""},{"$f":"IF(COUNTIF(I$2:I554,I554)=1,I554,\"\")","v":""},{"$f":"+IF(J554=\"\",\"\",MAX(K$1:K553)+1)","v":""},"",null,{"$f":"IF(LDAR_H_UU_summary!C376=\"\",\"\",LDAR_H_UU_summary!C376)","v":""},{"$f":"IF(COUNTIF(N$2:N554,N554)=1,N554,\"\")","v":""},{"$f":"+IF(O554=\"\",\"\",MAX(P$1:P553)+1)","v":""},""]
[null,null,null,null,null,null,null,null,{"$f":"IF(LDAR_TT_summary!C477=\"\",\"\",LDAR_TT_summary!C477)","v":""},{"$f":"IF(COUNTIF(I$2:I555,I555)=1,I555,\"\")","v":""},{"$f":"+IF(J555=\"\",\"\",MAX(K$1:K554)+1)","v":""},"",null,{"$f":"IF(LDAR_H_UU_summary!C377=\"\",\"\",LDAR_H_UU_summary!C377)","v":""},{"$f":"IF(COUNTIF(N$2:N555,N555)=1,N555,\"\")","v":""},{"$f":"+IF(O555=\"\",\"\",MAX(P$1:P554)+1)","v":""},""]
[null,null,null,null,null,null,null,null,{"$f":"IF(LDAR_TT_summary!C478=\"\",\"\",LDAR_TT_summary!C478)","v":""},{"$f":"IF(COUNTIF(I$2:I556,I556)=1,I556,\"\")","v":""},{"$f":"+IF(J556=\"\",\"\",MAX(K$1:K555)+1)","v":""},"",null,{"$f":"IF(LDAR_H_UU_summary!C378=\"\",\"\",LDAR_H_UU_summary!C378)","v":""},{"$f":"IF(COUNTIF(N$2:N556,N556)=1,N556,\"\")","v":""},{"$f":"+IF(O556=\"\",\"\",MAX(P$1:P555)+1)","v":""},""]
[null,null,null,null,null,null,null,null,{"$f":"IF(LDAR_TT_summary!C479=\"\",\"\",LDAR_TT_summary!C479)","v":""},{"$f":"IF(COUNTIF(I$2:I557,I557)=1,I557,\"\")","v":""},{"$f":"+IF(J557=\"\",\"\",MAX(K$1:K556)+1)","v":""},"",null,{"$f":"IF(LDAR_H_UU_summary!C379=\"\",\"\",LDAR_H_UU_summary!C379)","v":""},{"$f":"IF(COUNTIF(N$2:N557,N557)=1,N557,\"\")","v":""},{"$f":"+IF(O557=\"\",\"\",MAX(P$1:P556)+1)","v":""},""]
[null,null,null,null,null,null,null,null,{"$f":"IF(LDAR_TT_summary!C480=\"\",\"\",LDAR_TT_summary!C480)","v":""},{"$f":"IF(COUNTIF(I$2:I558,I558)=1,I558,\"\")","v":""},{"$f":"+IF(J558=\"\",\"\",MAX(K$1:K557)+1)","v":""},"",null,{"$f":"IF(LDAR_H_UU_summary!C380=\"\",\"\",LDAR_H_UU_summary!C380)","v":""},{"$f":"IF(COUNTIF(N$2:N558,N558)=1,N558,\"\")","v":""},{"$f":"+IF(O558=\"\",\"\",MAX(P$1:P557)+1)","v":""},""]
[null,null,null,null,null,null,null,null,{"$f":"IF(LDAR_TT_summary!C481=\"\",\"\",LDAR_TT_summary!C481)","v":""},{"$f":"IF(COUNTIF(I$2:I559,I559)=1,I559,\"\")","v":""},{"$f":"+IF(J559=\"\",\"\",MAX(K$1:K558)+1)","v":""},"",null,{"$f":"IF(LDAR_H_UU_summary!C381=\"\",\"\",LDAR_H_UU_summary!C381)","v":""},{"$f":"IF(COUNTIF(N$2:N559,N559)=1,N559,\"\")","v":""},{"$f":"+IF(O559=\"\",\"\",MAX(P$1:P558)+1)","v":""},""]
[null,null,null,null,null,null,null,null,{"$f":"IF(LDAR_TT_summary!C482=\"\",\"\",LDAR_TT_summary!C482)","v":""},{"$f":"IF(COUNTIF(I$2:I560,I560)=1,I560,\"\")","v":""},{"$f":"+IF(J560=\"\",\"\",MAX(K$1:K559)+1)","v":""},"",null,{"$f":"IF(LDAR_H_UU_summary!C382=\"\",\"\",LDAR_H_UU_summary!C382)","v":""},{"$f":"IF(COUNTIF(N$2:N560,N560)=1,N560,\"\")","v":""},{"$f":"+IF(O560=\"\",\"\",MAX(P$1:P559)+1)","v":""},""]
[null,null,null,null,null,null,null,null,{"$f":"IF(LDAR_TT_summary!C483=\"\",\"\",LDAR_TT_summary!C483)","v":""},{"$f":"IF(COUNTIF(I$2:I561,I561)=1,I561,\"\")","v":""},{"$f":"+IF(J561=\"\",\"\",MAX(K$1:K560)+1)","v":""},"",null,{"$f":"IF(LDAR_H_UU_summary!C383=\"\",\"\",LDAR_H_UU_summary!C383)","v":""},{"$f":"IF(COUNTIF(N$2:N561,N561)=1,N561,\"\")","v":""},{"$f":"+IF(O561=\"\",\"\",MAX(P$1:P560)+1)","v":""},""]
[null,null,null,null,null,null,null,null,{"$f":"IF(LDAR_TT_summary!C484=\"\",\"\",LDAR_TT_summary!C484)","v":""},{"$f":"IF(COUNTIF(I$2:I562,I562)=1,I562,\"\")","v":""},{"$f":"+IF(J562=\"\",\"\",MAX(K$1:K561)+1)","v":""},"",null,{"$f":"IF(LDAR_H_UU_summary!C384=\"\",\"\",LDAR_H_UU_summary!C384)","v":""},{"$f":"IF(COUNTIF(N$2:N562,N562)=1,N562,\"\")","v":""},{"$f":"+IF(O562=\"\",\"\",MAX(P$1:P561)+1)","v":""},""]
[null,null,null,null,null,null,null,null,{"$f":"IF(LDAR_TT_summary!C485=\"\",\"\",LDAR_TT_summary!C485)","v":""},{"$f":"IF(COUNTIF(I$2:I563,I563)=1,I563,\"\")","v":""},{"$f":"+IF(J563=\"\",\"\",MAX(K$1:K562)+1)","v":""},"",null,{"$f":"IF(LDAR_H_UU_summary!C385=\"\",\"\",LDAR_H_UU_summary!C385)","v":""},{"$f":"IF(COUNTIF(N$2:N563,N563)=1,N563,\"\")","v":""},{"$f":"+IF(O563=\"\",\"\",MAX(P$1:P562)+1)","v":""},""]
[null,null,null,null,null,null,null,null,{"$f":"IF(LDAR_TT_summary!C486=\"\",\"\",LDAR_TT_summary!C486)","v":""},{"$f":"IF(COUNTIF(I$2:I564,I564)=1,I564,\"\")","v":""},{"$f":"+IF(J564=\"\",\"\",MAX(K$1:K563)+1)","v":""},"",null,{"$f":"IF(LDAR_H_UU_summary!C386=\"\",\"\",LDAR_H_UU_summary!C386)","v":""},{"$f":"IF(COUNTIF(N$2:N564,N564)=1,N564,\"\")","v":""},{"$f":"+IF(O564=\"\",\"\",MAX(P$1:P563)+1)","v":""},""]
[null,null,null,null,null,null,null,null,{"$f":"IF(LDAR_TT_summary!C487=\"\",\"\",LDAR_TT_summary!C487)","v":""},{"$f":"IF(COUNTIF(I$2:I565,I565)=1,I565,\"\")","v":""},{"$f":"+IF(J565=\"\",\"\",MAX(K$1:K564)+1)","v":""},"",null,{"$f":"IF(LDAR_H_UU_summary!C387=\"\",\"\",LDAR_H_UU_summary!C387)","v":""},{"$f":"IF(COUNTIF(N$2:N565,N565)=1,N565,\"\")","v":""},{"$f":"+IF(O565=\"\",\"\",MAX(P$1:P564)+1)","v":""},""]
[null,null,null,null,null,null,null,null,{"$f":"IF(LDAR_TT_summary!C488=\"\",\"\",LDAR_TT_summary!C488)","v":""},{"$f":"IF(COUNTIF(I$2:I566,I566)=1,I566,\"\")","v":""},{"$f":"+IF(J566=\"\",\"\",MAX(K$1:K565)+1)","v":""},"",null,{"$f":"IF(LDAR_H_UU_summary!C388=\"\",\"\",LDAR_H_UU_summary!C388)","v":""},{"$f":"IF(COUNTIF(N$2:N566,N566)=1,N566,\"\")","v":""},{"$f":"+IF(O566=\"\",\"\",MAX(P$1:P565)+1)","v":""},""]
[null,null,null,null,null,null,null,null,{"$f":"IF(LDAR_TT_summary!C489=\"\",\"\",LDAR_TT_summary!C489)","v":""},{"$f":"IF(COUNTIF(I$2:I567,I567)=1,I567,\"\")","v":""},{"$f":"+IF(J567=\"\",\"\",MAX(K$1:K566)+1)","v":""},"",null,{"$f":"IF(LDAR_H_UU_summary!C389=\"\",\"\",LDAR_H_UU_summary!C389)","v":""},{"$f":"IF(COUNTIF(N$2:N567,N567)=1,N567,\"\")","v":""},{"$f":"+IF(O567=\"\",\"\",MAX(P$1:P566)+1)","v":""},""]
[null,null,null,null,null,null,null,null,{"$f":"IF(LDAR_TT_summary!C490=\"\",\"\",LDAR_TT_summary!C490)","v":""},{"$f":"IF(COUNTIF(I$2:I568,I568)=1,I568,\"\")","v":""},{"$f":"+IF(J568=\"\",\"\",MAX(K$1:K567)+1)","v":""},"",null,{"$f":"IF(LDAR_H_UU_summary!C390=\"\",\"\",LDAR_H_UU_summary!C390)","v":""},{"$f":"IF(COUNTIF(N$2:N568,N568)=1,N568,\"\")","v":""},{"$f":"+IF(O568=\"\",\"\",MAX(P$1:P567)+1)","v":""},""]
[null,null,null,null,null,null,null,null,{"$f":"IF(LDAR_TT_summary!C491=\"\",\"\",LDAR_TT_summary!C491)","v":""},{"$f":"IF(COUNTIF(I$2:I569,I569)=1,I569,\"\")","v":""},{"$f":"+IF(J569=\"\",\"\",MAX(K$1:K568)+1)","v":""},"",null,{"$f":"IF(LDAR_H_UU_summary!C391=\"\",\"\",LDAR_H_UU_summary!C391)","v":""},{"$f":"IF(COUNTIF(N$2:N569,N569)=1,N569,\"\")","v":""},{"$f":"+IF(O569=\"\",\"\",MAX(P$1:P568)+1)","v":""},""]
[null,null,null,null,null,null,null,null,{"$f":"IF(LDAR_TT_summary!C492=\"\",\"\",LDAR_TT_summary!C492)","v":""},{"$f":"IF(COUNTIF(I$2:I570,I570)=1,I570,\"\")","v":""},{"$f":"+IF(J570=\"\",\"\",MAX(K$1:K569)+1)","v":""},"",null,{"$f":"IF(LDAR_H_UU_summary!C392=\"\",\"\",LDAR_H_UU_summary!C392)","v":""},{"$f":"IF(COUNTIF(N$2:N570,N570)=1,N570,\"\")","v":""},{"$f":"+IF(O570=\"\",\"\",MAX(P$1:P569)+1)","v":""},""]
[null,null,null,null,null,null,null,null,{"$f":"IF(LDAR_TT_summary!C493=\"\",\"\",LDAR_TT_summary!C493)","v":""},{"$f":"IF(COUNTIF(I$2:I571,I571)=1,I571,\"\")","v":""},{"$f":"+IF(J571=\"\",\"\",MAX(K$1:K570)+1)","v":""},"",null,{"$f":"IF(LDAR_H_UU_summary!C393=\"\",\"\",LDAR_H_UU_summary!C393)","v":""},{"$f":"IF(COUNTIF(N$2:N571,N571)=1,N571,\"\")","v":""},{"$f":"+IF(O571=\"\",\"\",MAX(P$1:P570)+1)","v":""},""]
[null,null,null,null,null,null,null,null,{"$f":"IF(LDAR_TT_summary!C494=\"\",\"\",LDAR_TT_summary!C494)","v":""},{"$f":"IF(COUNTIF(I$2:I572,I572)=1,I572,\"\")","v":""},{"$f":"+IF(J572=\"\",\"\",MAX(K$1:K571)+1)","v":""},"",null,{"$f":"IF(LDAR_H_UU_summary!C394=\"\",\"\",LDAR_H_UU_summary!C394)","v":""},{"$f":"IF(COUNTIF(N$2:N572,N572)=1,N572,\"\")","v":""},{"$f":"+IF(O572=\"\",\"\",MAX(P$1:P571)+1)","v":""},""]
[null,null,null,null,null,null,null,null,{"$f":"IF(LDAR_TT_summary!C495=\"\",\"\",LDAR_TT_summary!C495)","v":""},{"$f":"IF(COUNTIF(I$2:I573,I573)=1,I573,\"\")","v":""},{"$f":"+IF(J573=\"\",\"\",MAX(K$1:K572)+1)","v":""},"",null,{"$f":"IF(LDAR_H_UU_summary!C395=\"\",\"\",LDAR_H_UU_summary!C395)","v":""},{"$f":"IF(COUNTIF(N$2:N573,N573)=1,N573,\"\")","v":""},{"$f":"+IF(O573=\"\",\"\",MAX(P$1:P572)+1)","v":""},""]
[null,null,null,null,null,null,null,null,{"$f":"IF(LDAR_TT_summary!C496=\"\",\"\",LDAR_TT_summary!C496)","v":""},{"$f":"IF(COUNTIF(I$2:I574,I574)=1,I574,\"\")","v":""},{"$f":"+IF(J574=\"\",\"\",MAX(K$1:K573)+1)","v":""},"",null,{"$f":"IF(LDAR_H_UU_summary!C396=\"\",\"\",LDAR_H_UU_summary!C396)","v":""},{"$f":"IF(COUNTIF(N$2:N574,N574)=1,N574,\"\")","v":""},{"$f":"+IF(O574=\"\",\"\",MAX(P$1:P573)+1)","v":""},""]
[null,null,null,null,null,null,null,null,{"$f":"IF(LDAR_TT_summary!C497=\"\",\"\",LDAR_TT_summary!C497)","v":""},{"$f":"IF(COUNTIF(I$2:I575,I575)=1,I575,\"\")","v":""},{"$f":"+IF(J575=\"\",\"\",MAX(K$1:K574)+1)","v":""},"",null,{"$f":"IF(LDAR_H_UU_summary!C397=\"\",\"\",LDAR_H_UU_summary!C397)","v":""},{"$f":"IF(COUNTIF(N$2:N575,N575)=1,N575,\"\")","v":""},{"$f":"+IF(O575=\"\",\"\",MAX(P$1:P574)+1)","v":""},""]
[null,null,null,null,null,null,null,null,{"$f":"IF(LDAR_TT_summary!C498=\"\",\"\",LDAR_TT_summary!C498)","v":""},{"$f":"IF(COUNTIF(I$2:I576,I576)=1,I576,\"\")","v":""},{"$f":"+IF(J576=\"\",\"\",MAX(K$1:K575)+1)","v":""},"",null,{"$f":"IF(LDAR_H_UU_summary!C398=\"\",\"\",LDAR_H_UU_summary!C398)","v":""},{"$f":"IF(COUNTIF(N$2:N576,N576)=1,N576,\"\")","v":""},{"$f":"+IF(O576=\"\",\"\",MAX(P$1:P575)+1)","v":""},""]
[null,null,null,null,null,null,null,null,{"$f":"IF(LDAR_TT_summary!C499=\"\",\"\",LDAR_TT_summary!C499)","v":""},{"$f":"IF(COUNTIF(I$2:I577,I577)=1,I577,\"\")","v":""},{"$f":"+IF(J577=\"\",\"\",MAX(K$1:K576)+1)","v":""},"",null,{"$f":"IF(LDAR_H_UU_summary!C399=\"\",\"\",LDAR_H_UU_summary!C399)","v":""},{"$f":"IF(COUNTIF(N$2:N577,N577)=1,N577,\"\")","v":""},{"$f":"+IF(O577=\"\",\"\",MAX(P$1:P576)+1)","v":""},""]
[null,null,null,null,null,null,null,null,{"$f":"IF(LDAR_TT_summary!C500=\"\",\"\",LDAR_TT_summary!C500)","v":""},{"$f":"IF(COUNTIF(I$2:I578,I578)=1,I578,\"\")","v":""},{"$f":"+IF(J578=\"\",\"\",MAX(K$1:K577)+1)","v":""},"",null,{"$f":"IF(LDAR_H_UU_summary!C400=\"\",\"\",LDAR_H_UU_summary!C400)","v":""},{"$f":"IF(COUNTIF(N$2:N578,N578)=1,N578,\"\")","v":""},{"$f":"+IF(O578=\"\",\"\",MAX(P$1:P577)+1)","v":""},""]
[null,null,null,null,null,null,null,null,{"$f":"IF(LDAR_TT_summary!C501=\"\",\"\",LDAR_TT_summary!C501)","v":""},{"$f":"IF(COUNTIF(I$2:I579,I579)=1,I579,\"\")","v":""},{"$f":"+IF(J579=\"\",\"\",MAX(K$1:K578)+1)","v":""},{"$f":"+IFERROR(INDEX($I$2:$I$801,MATCH(ROW()-ROW($K$1),$K$2:$K$801,0)),\"\")","v":""},null,{"$f":"IF(LDAR_H_UU_summary!C401=\"\",\"\",LDAR_H_UU_summary!C401)","v":""},{"$f":"IF(COUNTIF(N$2:N579,N579)=1,N579,\"\")","v":""},{"$f":"+IF(O579=\"\",\"\",MAX(P$1:P578)+1)","v":""},{"$f":"+IFERROR(INDEX($N$2:$N$2001,MATCH(ROW()-ROW($P$1),$P$2:$P$2001,0)),\"\")","v":""}]
[null,null,null,null,null,null,null,null,{"$f":"IF(LDAR_TT_summary!C502=\"\",\"\",LDAR_TT_summary!C502)","v":""},{"$f":"IF(COUNTIF(I$2:I580,I580)=1,I580,\"\")","v":""},{"$f":"+IF(J580=\"\",\"\",MAX(K$1:K579)+1)","v":""},"",null,{"$f":"IF(LDAR_H_UU_summary!C402=\"\",\"\",LDAR_H_UU_summary!C402)","v":""},{"$f":"IF(COUNTIF(N$2:N580,N580)=1,N580,\"\")","v":""},{"$f":"+IF(O580=\"\",\"\",MAX(P$1:P579)+1)","v":""},""]
[null,null,null,null,null,null,null,null,{"$f":"IF(LDAR_TT_summary!C503=\"\",\"\",LDAR_TT_summary!C503)","v":""},{"$f":"IF(COUNTIF(I$2:I581,I581)=1,I581,\"\")","v":""},{"$f":"+IF(J581=\"\",\"\",MAX(K$1:K580)+1)","v":""},"",null,{"$f":"IF(LDAR_H_UU_summary!C403=\"\",\"\",LDAR_H_UU_summary!C403)","v":""},{"$f":"IF(COUNTIF(N$2:N581,N581)=1,N581,\"\")","v":""},{"$f":"+IF(O581=\"\",\"\",MAX(P$1:P580)+1)","v":""},""]
[null,null,null,null,null,null,null,null,{"$f":"IF(LDAR_TT_summary!C504=\"\",\"\",LDAR_TT_summary!C504)","v":""},{"$f":"IF(COUNTIF(I$2:I582,I582)=1,I582,\"\")","v":""},{"$f":"+IF(J582=\"\",\"\",MAX(K$1:K581)+1)","v":""},"",null,{"$f":"IF(LDAR_H_UU_summary!C404=\"\",\"\",LDAR_H_UU_summary!C404)","v":""},{"$f":"IF(COUNTIF(N$2:N582,N582)=1,N582,\"\")","v":""},{"$f":"+IF(O582=\"\",\"\",MAX(P$1:P581)+1)","v":""},""]
[null,null,null,null,null,null,null,null,{"$f":"IF(LDAR_TT_summary!C505=\"\",\"\",LDAR_TT_summary!C505)","v":""},{"$f":"IF(COUNTIF(I$2:I583,I583)=1,I583,\"\")","v":""},{"$f":"+IF(J583=\"\",\"\",MAX(K$1:K582)+1)","v":""},"",null,{"$f":"IF(LDAR_H_UU_summary!C405=\"\",\"\",LDAR_H_UU_summary!C405)","v":""},{"$f":"IF(COUNTIF(N$2:N583,N583)=1,N583,\"\")","v":""},{"$f":"+IF(O583=\"\",\"\",MAX(P$1:P582)+1)","v":""},""]
[null,null,null,null,null,null,null,null,{"$f":"IF(LDAR_TT_summary!C506=\"\",\"\",LDAR_TT_summary!C506)","v":""},{"$f":"IF(COUNTIF(I$2:I584,I584)=1,I584,\"\")","v":""},{"$f":"+IF(J584=\"\",\"\",MAX(K$1:K583)+1)","v":""},"",null,{"$f":"IF(LDAR_H_UU_summary!C406=\"\",\"\",LDAR_H_UU_summary!C406)","v":""},{"$f":"IF(COUNTIF(N$2:N584,N584)=1,N584,\"\")","v":""},{"$f":"+IF(O584=\"\",\"\",MAX(P$1:P583)+1)","v":""},""]
[null,null,null,null,null,null,null,null,{"$f":"IF(LDAR_TT_summary!C507=\"\",\"\",LDAR_TT_summary!C507)","v":""},{"$f":"IF(COUNTIF(I$2:I585,I585)=1,I585,\"\")","v":""},{"$f":"+IF(J585=\"\",\"\",MAX(K$1:K584)+1)","v":""},"",null,{"$f":"IF(LDAR_H_UU_summary!C407=\"\",\"\",LDAR_H_UU_summary!C407)","v":""},{"$f":"IF(COUNTIF(N$2:N585,N585)=1,N585,\"\")","v":""},{"$f":"+IF(O585=\"\",\"\",MAX(P$1:P584)+1)","v":""},""]
[null,null,null,null,null,null,null,null,{"$f":"IF(LDAR_TT_summary!C508=\"\",\"\",LDAR_TT_summary!C508)","v":""},{"$f":"IF(COUNTIF(I$2:I586,I586)=1,I586,\"\")","v":""},{"$f":"+IF(J586=\"\",\"\",MAX(K$1:K585)+1)","v":""},"",null,{"$f":"IF(LDAR_H_UU_summary!C408=\"\",\"\",LDAR_H_UU_summary!C408)","v":""},{"$f":"IF(COUNTIF(N$2:N586,N586)=1,N586,\"\")","v":""},{"$f":"+IF(O586=\"\",\"\",MAX(P$1:P585)+1)","v":""},""]
[null,null,null,null,null,null,null,null,{"$f":"IF(LDAR_TT_summary!C509=\"\",\"\",LDAR_TT_summary!C509)","v":""},{"$f":"IF(COUNTIF(I$2:I587,I587)=1,I587,\"\")","v":""},{"$f":"+IF(J587=\"\",\"\",MAX(K$1:K586)+1)","v":""},"",null,{"$f":"IF(LDAR_H_UU_summary!C409=\"\",\"\",LDAR_H_UU_summary!C409)","v":""},{"$f":"IF(COUNTIF(N$2:N587,N587)=1,N587,\"\")","v":""},{"$f":"+IF(O587=\"\",\"\",MAX(P$1:P586)+1)","v":""},""]
[null,null,null,null,null,null,null,null,{"$f":"IF(LDAR_TT_summary!C510=\"\",\"\",LDAR_TT_summary!C510)","v":""},{"$f":"IF(COUNTIF(I$2:I588,I588)=1,I588,\"\")","v":""},{"$f":"+IF(J588=\"\",\"\",MAX(K$1:K587)+1)","v":""},"",null,{"$f":"IF(LDAR_H_UU_summary!C410=\"\",\"\",LDAR_H_UU_summary!C410)","v":""},{"$f":"IF(COUNTIF(N$2:N588,N588)=1,N588,\"\")","v":""},{"$f":"+IF(O588=\"\",\"\",MAX(P$1:P587)+1)","v":""},""]
[null,null,null,null,null,null,null,null,{"$f":"IF(LDAR_TT_summary!C511=\"\",\"\",LDAR_TT_summary!C511)","v":""},{"$f":"IF(COUNTIF(I$2:I589,I589)=1,I589,\"\")","v":""},{"$f":"+IF(J589=\"\",\"\",MAX(K$1:K588)+1)","v":""},"",null,{"$f":"IF(LDAR_H_UU_summary!C411=\"\",\"\",LDAR_H_UU_summary!C411)","v":""},{"$f":"IF(COUNTIF(N$2:N589,N589)=1,N589,\"\")","v":""},{"$f":"+IF(O589=\"\",\"\",MAX(P$1:P588)+1)","v":""},""]
[null,null,null,null,null,null,null,null,{"$f":"IF(LDAR_TT_summary!C512=\"\",\"\",LDAR_TT_summary!C512)","v":""},{"$f":"IF(COUNTIF(I$2:I590,I590)=1,I590,\"\")","v":""},{"$f":"+IF(J590=\"\",\"\",MAX(K$1:K589)+1)","v":""},"",null,{"$f":"IF(LDAR_H_UU_summary!C412=\"\",\"\",LDAR_H_UU_summary!C412)","v":""},{"$f":"IF(COUNTIF(N$2:N590,N590)=1,N590,\"\")","v":""},{"$f":"+IF(O590=\"\",\"\",MAX(P$1:P589)+1)","v":""},""]
[null,null,null,null,null,null,null,null,{"$f":"IF(LDAR_TT_summary!C513=\"\",\"\",LDAR_TT_summary!C513)","v":""},{"$f":"IF(COUNTIF(I$2:I591,I591)=1,I591,\"\")","v":""},{"$f":"+IF(J591=\"\",\"\",MAX(K$1:K590)+1)","v":""},"",null,{"$f":"IF(LDAR_H_UU_summary!C413=\"\",\"\",LDAR_H_UU_summary!C413)","v":""},{"$f":"IF(COUNTIF(N$2:N591,N591)=1,N591,\"\")","v":""},{"$f":"+IF(O591=\"\",\"\",MAX(P$1:P590)+1)","v":""},""]
[null,null,null,null,null,null,null,null,{"$f":"IF(LDAR_TT_summary!C514=\"\",\"\",LDAR_TT_summary!C514)","v":""},{"$f":"IF(COUNTIF(I$2:I592,I592)=1,I592,\"\")","v":""},{"$f":"+IF(J592=\"\",\"\",MAX(K$1:K591)+1)","v":""},"",null,{"$f":"IF(LDAR_H_UU_summary!C414=\"\",\"\",LDAR_H_UU_summary!C414)","v":""},{"$f":"IF(COUNTIF(N$2:N592,N592)=1,N592,\"\")","v":""},{"$f":"+IF(O592=\"\",\"\",MAX(P$1:P591)+1)","v":""},""]
[null,null,null,null,null,null,null,null,{"$f":"IF(LDAR_TT_summary!C515=\"\",\"\",LDAR_TT_summary!C515)","v":""},{"$f":"IF(COUNTIF(I$2:I593,I593)=1,I593,\"\")","v":""},{"$f":"+IF(J593=\"\",\"\",MAX(K$1:K592)+1)","v":""},"",null,{"$f":"IF(LDAR_H_UU_summary!C415=\"\",\"\",LDAR_H_UU_summary!C415)","v":""},{"$f":"IF(COUNTIF(N$2:N593,N593)=1,N593,\"\")","v":""},{"$f":"+IF(O593=\"\",\"\",MAX(P$1:P592)+1)","v":""},""]
[null,null,null,null,null,null,null,null,{"$f":"IF(LDAR_TT_summary!C516=\"\",\"\",LDAR_TT_summary!C516)","v":""},{"$f":"IF(COUNTIF(I$2:I594,I594)=1,I594,\"\")","v":""},{"$f":"+IF(J594=\"\",\"\",MAX(K$1:K593)+1)","v":""},"",null,{"$f":"IF(LDAR_H_UU_summary!C416=\"\",\"\",LDAR_H_UU_summary!C416)","v":""},{"$f":"IF(COUNTIF(N$2:N594,N594)=1,N594,\"\")","v":""},{"$f":"+IF(O594=\"\",\"\",MAX(P$1:P593)+1)","v":""},""]
[null,null,null,null,null,null,null,null,{"$f":"IF(LDAR_TT_summary!C517=\"\",\"\",LDAR_TT_summary!C517)","v":""},{"$f":"IF(COUNTIF(I$2:I595,I595)=1,I595,\"\")","v":""},{"$f":"+IF(J595=\"\",\"\",MAX(K$1:K594)+1)","v":""},"",null,{"$f":"IF(LDAR_H_UU_summary!C417=\"\",\"\",LDAR_H_UU_summary!C417)","v":""},{"$f":"IF(COUNTIF(N$2:N595,N595)=1,N595,\"\")","v":""},{"$f":"+IF(O595=\"\",\"\",MAX(P$1:P594)+1)","v":""},""]
[null,null,null,null,null,null,null,null,{"$f":"IF(LDAR_TT_summary!C518=\"\",\"\",LDAR_TT_summary!C518)","v":""},{"$f":"IF(COUNTIF(I$2:I596,I596)=1,I596,\"\")","v":""},{"$f":"+IF(J596=\"\",\"\",MAX(K$1:K595)+1)","v":""},"",null,{"$f":"IF(LDAR_H_UU_summary!C418=\"\",\"\",LDAR_H_UU_summary!C418)","v":""},{"$f":"IF(COUNTIF(N$2:N596,N596)=1,N596,\"\")","v":""},{"$f":"+IF(O596=\"\",\"\",MAX(P$1:P595)+1)","v":""},""]
[null,null,null,null,null,null,null,null,{"$f":"IF(LDAR_TT_summary!C519=\"\",\"\",LDAR_TT_summary!C519)","v":""},{"$f":"IF(COUNTIF(I$2:I597,I597)=1,I597,\"\")","v":""},{"$f":"+IF(J597=\"\",\"\",MAX(K$1:K596)+1)","v":""},"",null,{"$f":"IF(LDAR_H_UU_summary!C419=\"\",\"\",LDAR_H_UU_summary!C419)","v":""},{"$f":"IF(COUNTIF(N$2:N597,N597)=1,N597,\"\")","v":""},{"$f":"+IF(O597=\"\",\"\",MAX(P$1:P596)+1)","v":""},""]
[null,null,null,null,null,null,null,null,{"$f":"IF(LDAR_TT_summary!C520=\"\",\"\",LDAR_TT_summary!C520)","v":""},{"$f":"IF(COUNTIF(I$2:I598,I598)=1,I598,\"\")","v":""},{"$f":"+IF(J598=\"\",\"\",MAX(K$1:K597)+1)","v":""},"",null,{"$f":"IF(LDAR_H_UU_summary!C420=\"\",\"\",LDAR_H_UU_summary!C420)","v":""},{"$f":"IF(COUNTIF(N$2:N598,N598)=1,N598,\"\")","v":""},{"$f":"+IF(O598=\"\",\"\",MAX(P$1:P597)+1)","v":""},""]
[null,null,null,null,null,null,null,null,{"$f":"IF(LDAR_TT_summary!C521=\"\",\"\",LDAR_TT_summary!C521)","v":""},{"$f":"IF(COUNTIF(I$2:I599,I599)=1,I599,\"\")","v":""},{"$f":"+IF(J599=\"\",\"\",MAX(K$1:K598)+1)","v":""},"",null,{"$f":"IF(LDAR_H_UU_summary!C421=\"\",\"\",LDAR_H_UU_summary!C421)","v":""},{"$f":"IF(COUNTIF(N$2:N599,N599)=1,N599,\"\")","v":""},{"$f":"+IF(O599=\"\",\"\",MAX(P$1:P598)+1)","v":""},""]
[null,null,null,null,null,null,null,null,{"$f":"IF(LDAR_TT_summary!C522=\"\",\"\",LDAR_TT_summary!C522)","v":""},{"$f":"IF(COUNTIF(I$2:I600,I600)=1,I600,\"\")","v":""},{"$f":"+IF(J600=\"\",\"\",MAX(K$1:K599)+1)","v":""},"",null,{"$f":"IF(LDAR_H_UU_summary!C422=\"\",\"\",LDAR_H_UU_summary!C422)","v":""},{"$f":"IF(COUNTIF(N$2:N600,N600)=1,N600,\"\")","v":""},{"$f":"+IF(O600=\"\",\"\",MAX(P$1:P599)+1)","v":""},""]
[null,null,null,null,null,null,null,null,{"$f":"IF(LDAR_TT_summary!C523=\"\",\"\",LDAR_TT_summary!C523)","v":""},{"$f":"IF(COUNTIF(I$2:I601,I601)=1,I601,\"\")","v":""},{"$f":"+IF(J601=\"\",\"\",MAX(K$1:K600)+1)","v":""},"",null,{"$f":"IF(LDAR_H_UU_summary!C423=\"\",\"\",LDAR_H_UU_summary!C423)","v":""},{"$f":"IF(COUNTIF(N$2:N601,N601)=1,N601,\"\")","v":""},{"$f":"+IF(O601=\"\",\"\",MAX(P$1:P600)+1)","v":""},""]
[null,null,null,null,null,null,null,null,{"$f":"IF(LDAR_TT_summary!C524=\"\",\"\",LDAR_TT_summary!C524)","v":""},{"$f":"IF(COUNTIF(I$2:I602,I602)=1,I602,\"\")","v":""},{"$f":"+IF(J602=\"\",\"\",MAX(K$1:K601)+1)","v":""},"",null,{"$f":"IF(LDAR_H_UU_summary!C424=\"\",\"\",LDAR_H_UU_summary!C424)","v":""},{"$f":"IF(COUNTIF(N$2:N602,N602)=1,N602,\"\")","v":""},{"$f":"+IF(O602=\"\",\"\",MAX(P$1:P601)+1)","v":""},""]
[null,null,null,null,null,null,null,null,{"$f":"IF(LDAR_TT_summary!C525=\"\",\"\",LDAR_TT_summary!C525)","v":""},{"$f":"IF(COUNTIF(I$2:I603,I603)=1,I603,\"\")","v":""},{"$f":"+IF(J603=\"\",\"\",MAX(K$1:K602)+1)","v":""},"",null,{"$f":"IF(LDAR_H_UU_summary!C425=\"\",\"\",LDAR_H_UU_summary!C425)","v":""},{"$f":"IF(COUNTIF(N$2:N603,N603)=1,N603,\"\")","v":""},{"$f":"+IF(O603=\"\",\"\",MAX(P$1:P602)+1)","v":""},""]
[null,null,null,null,null,null,null,null,{"$f":"IF(LDAR_TT_summary!C526=\"\",\"\",LDAR_TT_summary!C526)","v":""},{"$f":"IF(COUNTIF(I$2:I604,I604)=1,I604,\"\")","v":""},{"$f":"+IF(J604=\"\",\"\",MAX(K$1:K603)+1)","v":""},"",null,{"$f":"IF(LDAR_H_UU_summary!C426=\"\",\"\",LDAR_H_UU_summary!C426)","v":""},{"$f":"IF(COUNTIF(N$2:N604,N604)=1,N604,\"\")","v":""},{"$f":"+IF(O604=\"\",\"\",MAX(P$1:P603)+1)","v":""},""]
[null,null,null,null,null,null,null,null,{"$f":"IF(LDAR_TT_summary!C527=\"\",\"\",LDAR_TT_summary!C527)","v":""},{"$f":"IF(COUNTIF(I$2:I605,I605)=1,I605,\"\")","v":""},{"$f":"+IF(J605=\"\",\"\",MAX(K$1:K604)+1)","v":""},"",null,{"$f":"IF(LDAR_H_UU_summary!C427=\"\",\"\",LDAR_H_UU_summary!C427)","v":""},{"$f":"IF(COUNTIF(N$2:N605,N605)=1,N605,\"\")","v":""},{"$f":"+IF(O605=\"\",\"\",MAX(P$1:P604)+1)","v":""},""]
[null,null,null,null,null,null,null,null,{"$f":"IF(LDAR_TT_summary!C528=\"\",\"\",LDAR_TT_summary!C528)","v":""},{"$f":"IF(COUNTIF(I$2:I606,I606)=1,I606,\"\")","v":""},{"$f":"+IF(J606=\"\",\"\",MAX(K$1:K605)+1)","v":""},"",null,{"$f":"IF(LDAR_H_UU_summary!C428=\"\",\"\",LDAR_H_UU_summary!C428)","v":""},{"$f":"IF(COUNTIF(N$2:N606,N606)=1,N606,\"\")","v":""},{"$f":"+IF(O606=\"\",\"\",MAX(P$1:P605)+1)","v":""},""]
[null,null,null,null,null,null,null,null,{"$f":"IF(LDAR_TT_summary!C529=\"\",\"\",LDAR_TT_summary!C529)","v":""},{"$f":"IF(COUNTIF(I$2:I607,I607)=1,I607,\"\")","v":""},{"$f":"+IF(J607=\"\",\"\",MAX(K$1:K606)+1)","v":""},"",null,{"$f":"IF(LDAR_H_UU_summary!C429=\"\",\"\",LDAR_H_UU_summary!C429)","v":""},{"$f":"IF(COUNTIF(N$2:N607,N607)=1,N607,\"\")","v":""},{"$f":"+IF(O607=\"\",\"\",MAX(P$1:P606)+1)","v":""},""]
[null,null,null,null,null,null,null,null,{"$f":"IF(LDAR_TT_summary!C530=\"\",\"\",LDAR_TT_summary!C530)","v":""},{"$f":"IF(COUNTIF(I$2:I608,I608)=1,I608,\"\")","v":""},{"$f":"+IF(J608=\"\",\"\",MAX(K$1:K607)+1)","v":""},"",null,{"$f":"IF(LDAR_H_UU_summary!C430=\"\",\"\",LDAR_H_UU_summary!C430)","v":""},{"$f":"IF(COUNTIF(N$2:N608,N608)=1,N608,\"\")","v":""},{"$f":"+IF(O608=\"\",\"\",MAX(P$1:P607)+1)","v":""},""]
[null,null,null,null,null,null,null,null,{"$f":"IF(LDAR_TT_summary!C531=\"\",\"\",LDAR_TT_summary!C531)","v":""},{"$f":"IF(COUNTIF(I$2:I609,I609)=1,I609,\"\")","v":""},{"$f":"+IF(J609=\"\",\"\",MAX(K$1:K608)+1)","v":""},"",null,{"$f":"IF(LDAR_H_UU_summary!C431=\"\",\"\",LDAR_H_UU_summary!C431)","v":""},{"$f":"IF(COUNTIF(N$2:N609,N609)=1,N609,\"\")","v":""},{"$f":"+IF(O609=\"\",\"\",MAX(P$1:P608)+1)","v":""},""]
[null,null,null,null,null,null,null,null,{"$f":"IF(LDAR_TT_summary!C532=\"\",\"\",LDAR_TT_summary!C532)","v":""},{"$f":"IF(COUNTIF(I$2:I610,I610)=1,I610,\"\")","v":""},{"$f":"+IF(J610=\"\",\"\",MAX(K$1:K609)+1)","v":""},"",null,{"$f":"IF(LDAR_H_UU_summary!C432=\"\",\"\",LDAR_H_UU_summary!C432)","v":""},{"$f":"IF(COUNTIF(N$2:N610,N610)=1,N610,\"\")","v":""},{"$f":"+IF(O610=\"\",\"\",MAX(P$1:P609)+1)","v":""},""]
[null,null,null,null,null,null,null,null,{"$f":"IF(LDAR_TT_summary!C533=\"\",\"\",LDAR_TT_summary!C533)","v":""},{"$f":"IF(COUNTIF(I$2:I611,I611)=1,I611,\"\")","v":""},{"$f":"+IF(J611=\"\",\"\",MAX(K$1:K610)+1)","v":""},"",null,{"$f":"IF(LDAR_H_UU_summary!C433=\"\",\"\",LDAR_H_UU_summary!C433)","v":""},{"$f":"IF(COUNTIF(N$2:N611,N611)=1,N611,\"\")","v":""},{"$f":"+IF(O611=\"\",\"\",MAX(P$1:P610)+1)","v":""},""]
[null,null,null,null,null,null,null,null,{"$f":"IF(LDAR_TT_summary!C534=\"\",\"\",LDAR_TT_summary!C534)","v":""},{"$f":"IF(COUNTIF(I$2:I612,I612)=1,I612,\"\")","v":""},{"$f":"+IF(J612=\"\",\"\",MAX(K$1:K611)+1)","v":""},"",null,{"$f":"IF(LDAR_H_UU_summary!C434=\"\",\"\",LDAR_H_UU_summary!C434)","v":""},{"$f":"IF(COUNTIF(N$2:N612,N612)=1,N612,\"\")","v":""},{"$f":"+IF(O612=\"\",\"\",MAX(P$1:P611)+1)","v":""},""]
[null,null,null,null,null,null,null,null,{"$f":"IF(LDAR_TT_summary!C535=\"\",\"\",LDAR_TT_summary!C535)","v":""},{"$f":"IF(COUNTIF(I$2:I613,I613)=1,I613,\"\")","v":""},{"$f":"+IF(J613=\"\",\"\",MAX(K$1:K612)+1)","v":""},"",null,{"$f":"IF(LDAR_H_UU_summary!C435=\"\",\"\",LDAR_H_UU_summary!C435)","v":""},{"$f":"IF(COUNTIF(N$2:N613,N613)=1,N613,\"\")","v":""},{"$f":"+IF(O613=\"\",\"\",MAX(P$1:P612)+1)","v":""},""]
[null,null,null,null,null,null,null,null,{"$f":"IF(LDAR_TT_summary!C536=\"\",\"\",LDAR_TT_summary!C536)","v":""},{"$f":"IF(COUNTIF(I$2:I614,I614)=1,I614,\"\")","v":""},{"$f":"+IF(J614=\"\",\"\",MAX(K$1:K613)+1)","v":""},"",null,{"$f":"IF(LDAR_H_UU_summary!C436=\"\",\"\",LDAR_H_UU_summary!C436)","v":""},{"$f":"IF(COUNTIF(N$2:N614,N614)=1,N614,\"\")","v":""},{"$f":"+IF(O614=\"\",\"\",MAX(P$1:P613)+1)","v":""},""]
[null,null,null,null,null,null,null,null,{"$f":"IF(LDAR_TT_summary!C537=\"\",\"\",LDAR_TT_summary!C537)","v":""},{"$f":"IF(COUNTIF(I$2:I615,I615)=1,I615,\"\")","v":""},{"$f":"+IF(J615=\"\",\"\",MAX(K$1:K614)+1)","v":""},"",null,{"$f":"IF(LDAR_H_UU_summary!C437=\"\",\"\",LDAR_H_UU_summary!C437)","v":""},{"$f":"IF(COUNTIF(N$2:N615,N615)=1,N615,\"\")","v":""},{"$f":"+IF(O615=\"\",\"\",MAX(P$1:P614)+1)","v":""},""]
[null,null,null,null,null,null,null,null,{"$f":"IF(LDAR_TT_summary!C538=\"\",\"\",LDAR_TT_summary!C538)","v":""},{"$f":"IF(COUNTIF(I$2:I616,I616)=1,I616,\"\")","v":""},{"$f":"+IF(J616=\"\",\"\",MAX(K$1:K615)+1)","v":""},"",null,{"$f":"IF(LDAR_H_UU_summary!C438=\"\",\"\",LDAR_H_UU_summary!C438)","v":""},{"$f":"IF(COUNTIF(N$2:N616,N616)=1,N616,\"\")","v":""},{"$f":"+IF(O616=\"\",\"\",MAX(P$1:P615)+1)","v":""},""]
[null,null,null,null,null,null,null,null,{"$f":"IF(LDAR_TT_summary!C539=\"\",\"\",LDAR_TT_summary!C539)","v":""},{"$f":"IF(COUNTIF(I$2:I617,I617)=1,I617,\"\")","v":""},{"$f":"+IF(J617=\"\",\"\",MAX(K$1:K616)+1)","v":""},"",null,{"$f":"IF(LDAR_H_UU_summary!C439=\"\",\"\",LDAR_H_UU_summary!C439)","v":""},{"$f":"IF(COUNTIF(N$2:N617,N617)=1,N617,\"\")","v":""},{"$f":"+IF(O617=\"\",\"\",MAX(P$1:P616)+1)","v":""},""]
[null,null,null,null,null,null,null,null,{"$f":"IF(LDAR_TT_summary!C540=\"\",\"\",LDAR_TT_summary!C540)","v":""},{"$f":"IF(COUNTIF(I$2:I618,I618)=1,I618,\"\")","v":""},{"$f":"+IF(J618=\"\",\"\",MAX(K$1:K617)+1)","v":""},"",null,{"$f":"IF(LDAR_H_UU_summary!C440=\"\",\"\",LDAR_H_UU_summary!C440)","v":""},{"$f":"IF(COUNTIF(N$2:N618,N618)=1,N618,\"\")","v":""},{"$f":"+IF(O618=\"\",\"\",MAX(P$1:P617)+1)","v":""},""]
[null,null,null,null,null,null,null,null,{"$f":"IF(LDAR_TT_summary!C541=\"\",\"\",LDAR_TT_summary!C541)","v":""},{"$f":"IF(COUNTIF(I$2:I619,I619)=1,I619,\"\")","v":""},{"$f":"+IF(J619=\"\",\"\",MAX(K$1:K618)+1)","v":""},"",null,{"$f":"IF(LDAR_H_UU_summary!C441=\"\",\"\",LDAR_H_UU_summary!C441)","v":""},{"$f":"IF(COUNTIF(N$2:N619,N619)=1,N619,\"\")","v":""},{"$f":"+IF(O619=\"\",\"\",MAX(P$1:P618)+1)","v":""},""]
[null,null,null,null,null,null,null,null,{"$f":"IF(LDAR_TT_summary!C542=\"\",\"\",LDAR_TT_summary!C542)","v":""},{"$f":"IF(COUNTIF(I$2:I620,I620)=1,I620,\"\")","v":""},{"$f":"+IF(J620=\"\",\"\",MAX(K$1:K619)+1)","v":""},"",null,{"$f":"IF(LDAR_H_UU_summary!C442=\"\",\"\",LDAR_H_UU_summary!C442)","v":""},{"$f":"IF(COUNTIF(N$2:N620,N620)=1,N620,\"\")","v":""},{"$f":"+IF(O620=\"\",\"\",MAX(P$1:P619)+1)","v":""},""]
[null,null,null,null,null,null,null,null,{"$f":"IF(LDAR_TT_summary!C543=\"\",\"\",LDAR_TT_summary!C543)","v":""},{"$f":"IF(COUNTIF(I$2:I621,I621)=1,I621,\"\")","v":""},{"$f":"+IF(J621=\"\",\"\",MAX(K$1:K620)+1)","v":""},"",null,{"$f":"IF(LDAR_H_UU_summary!C443=\"\",\"\",LDAR_H_UU_summary!C443)","v":""},{"$f":"IF(COUNTIF(N$2:N621,N621)=1,N621,\"\")","v":""},{"$f":"+IF(O621=\"\",\"\",MAX(P$1:P620)+1)","v":""},""]
[null,null,null,null,null,null,null,null,{"$f":"IF(LDAR_TT_summary!C544=\"\",\"\",LDAR_TT_summary!C544)","v":""},{"$f":"IF(COUNTIF(I$2:I622,I622)=1,I622,\"\")","v":""},{"$f":"+IF(J622=\"\",\"\",MAX(K$1:K621)+1)","v":""},"",null,{"$f":"IF(LDAR_H_UU_summary!C444=\"\",\"\",LDAR_H_UU_summary!C444)","v":""},{"$f":"IF(COUNTIF(N$2:N622,N622)=1,N622,\"\")","v":""},{"$f":"+IF(O622=\"\",\"\",MAX(P$1:P621)+1)","v":""},""]
[null,null,null,null,null,null,null,null,{"$f":"IF(LDAR_TT_summary!C545=\"\",\"\",LDAR_TT_summary!C545)","v":""},{"$f":"IF(COUNTIF(I$2:I623,I623)=1,I623,\"\")","v":""},{"$f":"+IF(J623=\"\",\"\",MAX(K$1:K622)+1)","v":""},"",null,{"$f":"IF(LDAR_H_UU_summary!C445=\"\",\"\",LDAR_H_UU_summary!C445)","v":""},{"$f":"IF(COUNTIF(N$2:N623,N623)=1,N623,\"\")","v":""},{"$f":"+IF(O623=\"\",\"\",MAX(P$1:P622)+1)","v":""},""]
[null,null,null,null,null,null,null,null,{"$f":"IF(LDAR_TT_summary!C546=\"\",\"\",LDAR_TT_summary!C546)","v":""},{"$f":"IF(COUNTIF(I$2:I624,I624)=1,I624,\"\")","v":""},{"$f":"+IF(J624=\"\",\"\",MAX(K$1:K623)+1)","v":""},"",null,{"$f":"IF(LDAR_H_UU_summary!C446=\"\",\"\",LDAR_H_UU_summary!C446)","v":""},{"$f":"IF(COUNTIF(N$2:N624,N624)=1,N624,\"\")","v":""},{"$f":"+IF(O624=\"\",\"\",MAX(P$1:P623)+1)","v":""},""]
[null,null,null,null,null,null,null,null,{"$f":"IF(LDAR_TT_summary!C547=\"\",\"\",LDAR_TT_summary!C547)","v":""},{"$f":"IF(COUNTIF(I$2:I625,I625)=1,I625,\"\")","v":""},{"$f":"+IF(J625=\"\",\"\",MAX(K$1:K624)+1)","v":""},"",null,{"$f":"IF(LDAR_H_UU_summary!C447=\"\",\"\",LDAR_H_UU_summary!C447)","v":""},{"$f":"IF(COUNTIF(N$2:N625,N625)=1,N625,\"\")","v":""},{"$f":"+IF(O625=\"\",\"\",MAX(P$1:P624)+1)","v":""},""]
[null,null,null,null,null,null,null,null,{"$f":"IF(LDAR_TT_summary!C548=\"\",\"\",LDAR_TT_summary!C548)","v":""},{"$f":"IF(COUNTIF(I$2:I626,I626)=1,I626,\"\")","v":""},{"$f":"+IF(J626=\"\",\"\",MAX(K$1:K625)+1)","v":""},"",null,{"$f":"IF(LDAR_H_UU_summary!C448=\"\",\"\",LDAR_H_UU_summary!C448)","v":""},{"$f":"IF(COUNTIF(N$2:N626,N626)=1,N626,\"\")","v":""},{"$f":"+IF(O626=\"\",\"\",MAX(P$1:P625)+1)","v":""},""]
[null,null,null,null,null,null,null,null,{"$f":"IF(LDAR_TT_summary!C549=\"\",\"\",LDAR_TT_summary!C549)","v":""},{"$f":"IF(COUNTIF(I$2:I627,I627)=1,I627,\"\")","v":""},{"$f":"+IF(J627=\"\",\"\",MAX(K$1:K626)+1)","v":""},"",null,{"$f":"IF(LDAR_H_UU_summary!C449=\"\",\"\",LDAR_H_UU_summary!C449)","v":""},{"$f":"IF(COUNTIF(N$2:N627,N627)=1,N627,\"\")","v":""},{"$f":"+IF(O627=\"\",\"\",MAX(P$1:P626)+1)","v":""},""]
[null,null,null,null,null,null,null,null,{"$f":"IF(LDAR_TT_summary!C550=\"\",\"\",LDAR_TT_summary!C550)","v":""},{"$f":"IF(COUNTIF(I$2:I628,I628)=1,I628,\"\")","v":""},{"$f":"+IF(J628=\"\",\"\",MAX(K$1:K627)+1)","v":""},"",null,{"$f":"IF(LDAR_H_UU_summary!C450=\"\",\"\",LDAR_H_UU_summary!C450)","v":""},{"$f":"IF(COUNTIF(N$2:N628,N628)=1,N628,\"\")","v":""},{"$f":"+IF(O628=\"\",\"\",MAX(P$1:P627)+1)","v":""},""]
[null,null,null,null,null,null,null,null,{"$f":"IF(LDAR_TT_summary!C551=\"\",\"\",LDAR_TT_summary!C551)","v":""},{"$f":"IF(COUNTIF(I$2:I629,I629)=1,I629,\"\")","v":""},{"$f":"+IF(J629=\"\",\"\",MAX(K$1:K628)+1)","v":""},"",null,{"$f":"IF(LDAR_H_UU_summary!C451=\"\",\"\",LDAR_H_UU_summary!C451)","v":""},{"$f":"IF(COUNTIF(N$2:N629,N629)=1,N629,\"\")","v":""},{"$f":"+IF(O629=\"\",\"\",MAX(P$1:P628)+1)","v":""},""]
[null,null,null,null,null,null,null,null,{"$f":"IF(LDAR_TT_summary!C552=\"\",\"\",LDAR_TT_summary!C552)","v":""},{"$f":"IF(COUNTIF(I$2:I630,I630)=1,I630,\"\")","v":""},{"$f":"+IF(J630=\"\",\"\",MAX(K$1:K629)+1)","v":""},"",null,{"$f":"IF(LDAR_H_UU_summary!C452=\"\",\"\",LDAR_H_UU_summary!C452)","v":""},{"$f":"IF(COUNTIF(N$2:N630,N630)=1,N630,\"\")","v":""},{"$f":"+IF(O630=\"\",\"\",MAX(P$1:P629)+1)","v":""},""]
[null,null,null,null,null,null,null,null,{"$f":"IF(LDAR_TT_summary!C553=\"\",\"\",LDAR_TT_summary!C553)","v":""},{"$f":"IF(COUNTIF(I$2:I631,I631)=1,I631,\"\")","v":""},{"$f":"+IF(J631=\"\",\"\",MAX(K$1:K630)+1)","v":""},"",null,{"$f":"IF(LDAR_H_UU_summary!C453=\"\",\"\",LDAR_H_UU_summary!C453)","v":""},{"$f":"IF(COUNTIF(N$2:N631,N631)=1,N631,\"\")","v":""},{"$f":"+IF(O631=\"\",\"\",MAX(P$1:P630)+1)","v":""},""]
[null,null,null,null,null,null,null,null,{"$f":"IF(LDAR_TT_summary!C554=\"\",\"\",LDAR_TT_summary!C554)","v":""},{"$f":"IF(COUNTIF(I$2:I632,I632)=1,I632,\"\")","v":""},{"$f":"+IF(J632=\"\",\"\",MAX(K$1:K631)+1)","v":""},"",null,{"$f":"IF(LDAR_H_UU_summary!C454=\"\",\"\",LDAR_H_UU_summary!C454)","v":""},{"$f":"IF(COUNTIF(N$2:N632,N632)=1,N632,\"\")","v":""},{"$f":"+IF(O632=\"\",\"\",MAX(P$1:P631)+1)","v":""},""]
[null,null,null,null,null,null,null,null,{"$f":"IF(LDAR_TT_summary!C555=\"\",\"\",LDAR_TT_summary!C555)","v":""},{"$f":"IF(COUNTIF(I$2:I633,I633)=1,I633,\"\")","v":""},{"$f":"+IF(J633=\"\",\"\",MAX(K$1:K632)+1)","v":""},"",null,{"$f":"IF(LDAR_H_UU_summary!C455=\"\",\"\",LDAR_H_UU_summary!C455)","v":""},{"$f":"IF(COUNTIF(N$2:N633,N633)=1,N633,\"\")","v":""},{"$f":"+IF(O633=\"\",\"\",MAX(P$1:P632)+1)","v":""},""]
[null,null,null,null,null,null,null,null,{"$f":"IF(LDAR_TT_summary!C556=\"\",\"\",LDAR_TT_summary!C556)","v":""},{"$f":"IF(COUNTIF(I$2:I634,I634)=1,I634,\"\")","v":""},{"$f":"+IF(J634=\"\",\"\",MAX(K$1:K633)+1)","v":""},"",null,{"$f":"IF(LDAR_H_UU_summary!C456=\"\",\"\",LDAR_H_UU_summary!C456)","v":""},{"$f":"IF(COUNTIF(N$2:N634,N634)=1,N634,\"\")","v":""},{"$f":"+IF(O634=\"\",\"\",MAX(P$1:P633)+1)","v":""},""]
[null,null,null,null,null,null,null,null,{"$f":"IF(LDAR_TT_summary!C557=\"\",\"\",LDAR_TT_summary!C557)","v":""},{"$f":"IF(COUNTIF(I$2:I635,I635)=1,I635,\"\")","v":""},{"$f":"+IF(J635=\"\",\"\",MAX(K$1:K634)+1)","v":""},"",null,{"$f":"IF(LDAR_H_UU_summary!C457=\"\",\"\",LDAR_H_UU_summary!C457)","v":""},{"$f":"IF(COUNTIF(N$2:N635,N635)=1,N635,\"\")","v":""},{"$f":"+IF(O635=\"\",\"\",MAX(P$1:P634)+1)","v":""},""]
[null,null,null,null,null,null,null,null,{"$f":"IF(LDAR_TT_summary!C558=\"\",\"\",LDAR_TT_summary!C558)","v":""},{"$f":"IF(COUNTIF(I$2:I636,I636)=1,I636,\"\")","v":""},{"$f":"+IF(J636=\"\",\"\",MAX(K$1:K635)+1)","v":""},"",null,{"$f":"IF(LDAR_H_UU_summary!C458=\"\",\"\",LDAR_H_UU_summary!C458)","v":""},{"$f":"IF(COUNTIF(N$2:N636,N636)=1,N636,\"\")","v":""},{"$f":"+IF(O636=\"\",\"\",MAX(P$1:P635)+1)","v":""},""]
[null,null,null,null,null,null,null,null,{"$f":"IF(LDAR_TT_summary!C559=\"\",\"\",LDAR_TT_summary!C559)","v":""},{"$f":"IF(COUNTIF(I$2:I637,I637)=1,I637,\"\")","v":""},{"$f":"+IF(J637=\"\",\"\",MAX(K$1:K636)+1)","v":""},{"$f":"+IFERROR(INDEX($I$2:$I$801,MATCH(ROW()-ROW($K$1),$K$2:$K$801,0)),\"\")","v":""},null,{"$f":"IF(LDAR_H_UU_summary!C459=\"\",\"\",LDAR_H_UU_summary!C459)","v":""},{"$f":"IF(COUNTIF(N$2:N637,N637)=1,N637,\"\")","v":""},{"$f":"+IF(O637=\"\",\"\",MAX(P$1:P636)+1)","v":""},""]
[null,null,null,null,null,null,null,null,{"$f":"IF(LDAR_TT_summary!C560=\"\",\"\",LDAR_TT_summary!C560)","v":""},{"$f":"IF(COUNTIF(I$2:I638,I638)=1,I638,\"\")","v":""},{"$f":"+IF(J638=\"\",\"\",MAX(K$1:K637)+1)","v":""},"",null,{"$f":"IF(LDAR_H_UU_summary!C460=\"\",\"\",LDAR_H_UU_summary!C460)","v":""},{"$f":"IF(COUNTIF(N$2:N638,N638)=1,N638,\"\")","v":""},{"$f":"+IF(O638=\"\",\"\",MAX(P$1:P637)+1)","v":""},""]
[null,null,null,null,null,null,null,null,{"$f":"IF(LDAR_TT_summary!C561=\"\",\"\",LDAR_TT_summary!C561)","v":""},{"$f":"IF(COUNTIF(I$2:I639,I639)=1,I639,\"\")","v":""},{"$f":"+IF(J639=\"\",\"\",MAX(K$1:K638)+1)","v":""},"",null,{"$f":"IF(LDAR_H_UU_summary!C461=\"\",\"\",LDAR_H_UU_summary!C461)","v":""},{"$f":"IF(COUNTIF(N$2:N639,N639)=1,N639,\"\")","v":""},{"$f":"+IF(O639=\"\",\"\",MAX(P$1:P638)+1)","v":""},""]
[null,null,null,null,null,null,null,null,{"$f":"IF(LDAR_TT_summary!C562=\"\",\"\",LDAR_TT_summary!C562)","v":""},{"$f":"IF(COUNTIF(I$2:I640,I640)=1,I640,\"\")","v":""},{"$f":"+IF(J640=\"\",\"\",MAX(K$1:K639)+1)","v":""},"",null,{"$f":"IF(LDAR_H_UU_summary!C462=\"\",\"\",LDAR_H_UU_summary!C462)","v":""},{"$f":"IF(COUNTIF(N$2:N640,N640)=1,N640,\"\")","v":""},{"$f":"+IF(O640=\"\",\"\",MAX(P$1:P639)+1)","v":""},""]
[null,null,null,null,null,null,null,null,{"$f":"IF(LDAR_TT_summary!C563=\"\",\"\",LDAR_TT_summary!C563)","v":""},{"$f":"IF(COUNTIF(I$2:I641,I641)=1,I641,\"\")","v":""},{"$f":"+IF(J641=\"\",\"\",MAX(K$1:K640)+1)","v":""},"",null,{"$f":"IF(LDAR_H_UU_summary!C463=\"\",\"\",LDAR_H_UU_summary!C463)","v":""},{"$f":"IF(COUNTIF(N$2:N641,N641)=1,N641,\"\")","v":""},{"$f":"+IF(O641=\"\",\"\",MAX(P$1:P640)+1)","v":""},""]
[null,null,null,null,null,null,null,null,{"$f":"IF(LDAR_TT_summary!C564=\"\",\"\",LDAR_TT_summary!C564)","v":""},{"$f":"IF(COUNTIF(I$2:I642,I642)=1,I642,\"\")","v":""},{"$f":"+IF(J642=\"\",\"\",MAX(K$1:K641)+1)","v":""},"",null,{"$f":"IF(LDAR_H_UU_summary!C464=\"\",\"\",LDAR_H_UU_summary!C464)","v":""},{"$f":"IF(COUNTIF(N$2:N642,N642)=1,N642,\"\")","v":""},{"$f":"+IF(O642=\"\",\"\",MAX(P$1:P641)+1)","v":""},""]
[null,null,null,null,null,null,null,null,{"$f":"IF(LDAR_TT_summary!C565=\"\",\"\",LDAR_TT_summary!C565)","v":""},{"$f":"IF(COUNTIF(I$2:I643,I643)=1,I643,\"\")","v":""},{"$f":"+IF(J643=\"\",\"\",MAX(K$1:K642)+1)","v":""},"",null,{"$f":"IF(LDAR_H_UU_summary!C465=\"\",\"\",LDAR_H_UU_summary!C465)","v":""},{"$f":"IF(COUNTIF(N$2:N643,N643)=1,N643,\"\")","v":""},{"$f":"+IF(O643=\"\",\"\",MAX(P$1:P642)+1)","v":""},{"$f":"+IFERROR(INDEX($N$2:$N$2001,MATCH(ROW()-ROW($P$1),$P$2:$P$2001,0)),\"\")","v":""}]
[null,null,null,null,null,null,null,null,{"$f":"IF(LDAR_TT_summary!C566=\"\",\"\",LDAR_TT_summary!C566)","v":""},{"$f":"IF(COUNTIF(I$2:I644,I644)=1,I644,\"\")","v":""},{"$f":"+IF(J644=\"\",\"\",MAX(K$1:K643)+1)","v":""},"",null,{"$f":"IF(LDAR_H_UU_summary!C466=\"\",\"\",LDAR_H_UU_summary!C466)","v":""},{"$f":"IF(COUNTIF(N$2:N644,N644)=1,N644,\"\")","v":""},{"$f":"+IF(O644=\"\",\"\",MAX(P$1:P643)+1)","v":""},""]
[null,null,null,null,null,null,null,null,{"$f":"IF(LDAR_TT_summary!C567=\"\",\"\",LDAR_TT_summary!C567)","v":""},{"$f":"IF(COUNTIF(I$2:I645,I645)=1,I645,\"\")","v":""},{"$f":"+IF(J645=\"\",\"\",MAX(K$1:K644)+1)","v":""},"",null,{"$f":"IF(LDAR_H_UU_summary!C467=\"\",\"\",LDAR_H_UU_summary!C467)","v":""},{"$f":"IF(COUNTIF(N$2:N645,N645)=1,N645,\"\")","v":""},{"$f":"+IF(O645=\"\",\"\",MAX(P$1:P644)+1)","v":""},""]
[null,null,null,null,null,null,null,null,{"$f":"IF(LDAR_TT_summary!C568=\"\",\"\",LDAR_TT_summary!C568)","v":""},{"$f":"IF(COUNTIF(I$2:I646,I646)=1,I646,\"\")","v":""},{"$f":"+IF(J646=\"\",\"\",MAX(K$1:K645)+1)","v":""},"",null,{"$f":"IF(LDAR_H_UU_summary!C468=\"\",\"\",LDAR_H_UU_summary!C468)","v":""},{"$f":"IF(COUNTIF(N$2:N646,N646)=1,N646,\"\")","v":""},{"$f":"+IF(O646=\"\",\"\",MAX(P$1:P645)+1)","v":""},""]
[null,null,null,null,null,null,null,null,{"$f":"IF(LDAR_TT_summary!C569=\"\",\"\",LDAR_TT_summary!C569)","v":""},{"$f":"IF(COUNTIF(I$2:I647,I647)=1,I647,\"\")","v":""},{"$f":"+IF(J647=\"\",\"\",MAX(K$1:K646)+1)","v":""},"",null,{"$f":"IF(LDAR_H_UU_summary!C469=\"\",\"\",LDAR_H_UU_summary!C469)","v":""},{"$f":"IF(COUNTIF(N$2:N647,N647)=1,N647,\"\")","v":""},{"$f":"+IF(O647=\"\",\"\",MAX(P$1:P646)+1)","v":""},""]
[null,null,null,null,null,null,null,null,{"$f":"IF(LDAR_TT_summary!C570=\"\",\"\",LDAR_TT_summary!C570)","v":""},{"$f":"IF(COUNTIF(I$2:I648,I648)=1,I648,\"\")","v":""},{"$f":"+IF(J648=\"\",\"\",MAX(K$1:K647)+1)","v":""},"",null,{"$f":"IF(LDAR_H_UU_summary!C470=\"\",\"\",LDAR_H_UU_summary!C470)","v":""},{"$f":"IF(COUNTIF(N$2:N648,N648)=1,N648,\"\")","v":""},{"$f":"+IF(O648=\"\",\"\",MAX(P$1:P647)+1)","v":""},""]
[null,null,null,null,null,null,null,null,{"$f":"IF(LDAR_TT_summary!C571=\"\",\"\",LDAR_TT_summary!C571)","v":""},{"$f":"IF(COUNTIF(I$2:I649,I649)=1,I649,\"\")","v":""},{"$f":"+IF(J649=\"\",\"\",MAX(K$1:K648)+1)","v":""},"",null,{"$f":"IF(LDAR_H_UU_summary!C471=\"\",\"\",LDAR_H_UU_summary!C471)","v":""},{"$f":"IF(COUNTIF(N$2:N649,N649)=1,N649,\"\")","v":""},{"$f":"+IF(O649=\"\",\"\",MAX(P$1:P648)+1)","v":""},""]
[null,null,null,null,null,null,null,null,{"$f":"IF(LDAR_TT_summary!C572=\"\",\"\",LDAR_TT_summary!C572)","v":""},{"$f":"IF(COUNTIF(I$2:I650,I650)=1,I650,\"\")","v":""},{"$f":"+IF(J650=\"\",\"\",MAX(K$1:K649)+1)","v":""},"",null,{"$f":"IF(LDAR_H_UU_summary!C472=\"\",\"\",LDAR_H_UU_summary!C472)","v":""},{"$f":"IF(COUNTIF(N$2:N650,N650)=1,N650,\"\")","v":""},{"$f":"+IF(O650=\"\",\"\",MAX(P$1:P649)+1)","v":""},""]
[null,null,null,null,null,null,null,null,{"$f":"IF(LDAR_TT_summary!C573=\"\",\"\",LDAR_TT_summary!C573)","v":""},{"$f":"IF(COUNTIF(I$2:I651,I651)=1,I651,\"\")","v":""},{"$f":"+IF(J651=\"\",\"\",MAX(K$1:K650)+1)","v":""},"",null,{"$f":"IF(LDAR_H_UU_summary!C473=\"\",\"\",LDAR_H_UU_summary!C473)","v":""},{"$f":"IF(COUNTIF(N$2:N651,N651)=1,N651,\"\")","v":""},{"$f":"+IF(O651=\"\",\"\",MAX(P$1:P650)+1)","v":""},""]
[null,null,null,null,null,null,null,null,{"$f":"IF(LDAR_TT_summary!C574=\"\",\"\",LDAR_TT_summary!C574)","v":""},{"$f":"IF(COUNTIF(I$2:I652,I652)=1,I652,\"\")","v":""},{"$f":"+IF(J652=\"\",\"\",MAX(K$1:K651)+1)","v":""},"",null,{"$f":"IF(LDAR_H_UU_summary!C474=\"\",\"\",LDAR_H_UU_summary!C474)","v":""},{"$f":"IF(COUNTIF(N$2:N652,N652)=1,N652,\"\")","v":""},{"$f":"+IF(O652=\"\",\"\",MAX(P$1:P651)+1)","v":""},""]
[null,null,null,null,null,null,null,null,{"$f":"IF(LDAR_TT_summary!C575=\"\",\"\",LDAR_TT_summary!C575)","v":""},{"$f":"IF(COUNTIF(I$2:I653,I653)=1,I653,\"\")","v":""},{"$f":"+IF(J653=\"\",\"\",MAX(K$1:K652)+1)","v":""},"",null,{"$f":"IF(LDAR_H_UU_summary!C475=\"\",\"\",LDAR_H_UU_summary!C475)","v":""},{"$f":"IF(COUNTIF(N$2:N653,N653)=1,N653,\"\")","v":""},{"$f":"+IF(O653=\"\",\"\",MAX(P$1:P652)+1)","v":""},""]
[null,null,null,null,null,null,null,null,{"$f":"IF(LDAR_TT_summary!C576=\"\",\"\",LDAR_TT_summary!C576)","v":""},{"$f":"IF(COUNTIF(I$2:I654,I654)=1,I654,\"\")","v":""},{"$f":"+IF(J654=\"\",\"\",MAX(K$1:K653)+1)","v":""},"",null,{"$f":"IF(LDAR_H_UU_summary!C476=\"\",\"\",LDAR_H_UU_summary!C476)","v":""},{"$f":"IF(COUNTIF(N$2:N654,N654)=1,N654,\"\")","v":""},{"$f":"+IF(O654=\"\",\"\",MAX(P$1:P653)+1)","v":""},""]
[null,null,null,null,null,null,null,null,{"$f":"IF(LDAR_TT_summary!C577=\"\",\"\",LDAR_TT_summary!C577)","v":""},{"$f":"IF(COUNTIF(I$2:I655,I655)=1,I655,\"\")","v":""},{"$f":"+IF(J655=\"\",\"\",MAX(K$1:K654)+1)","v":""},"",null,{"$f":"IF(LDAR_H_UU_summary!C477=\"\",\"\",LDAR_H_UU_summary!C477)","v":""},{"$f":"IF(COUNTIF(N$2:N655,N655)=1,N655,\"\")","v":""},{"$f":"+IF(O655=\"\",\"\",MAX(P$1:P654)+1)","v":""},""]
[null,null,null,null,null,null,null,null,{"$f":"IF(LDAR_TT_summary!C578=\"\",\"\",LDAR_TT_summary!C578)","v":""},{"$f":"IF(COUNTIF(I$2:I656,I656)=1,I656,\"\")","v":""},{"$f":"+IF(J656=\"\",\"\",MAX(K$1:K655)+1)","v":""},"",null,{"$f":"IF(LDAR_H_UU_summary!C478=\"\",\"\",LDAR_H_UU_summary!C478)","v":""},{"$f":"IF(COUNTIF(N$2:N656,N656)=1,N656,\"\")","v":""},{"$f":"+IF(O656=\"\",\"\",MAX(P$1:P655)+1)","v":""},""]
[null,null,null,null,null,null,null,null,{"$f":"IF(LDAR_TT_summary!C579=\"\",\"\",LDAR_TT_summary!C579)","v":""},{"$f":"IF(COUNTIF(I$2:I657,I657)=1,I657,\"\")","v":""},{"$f":"+IF(J657=\"\",\"\",MAX(K$1:K656)+1)","v":""},"",null,{"$f":"IF(LDAR_H_UU_summary!C479=\"\",\"\",LDAR_H_UU_summary!C479)","v":""},{"$f":"IF(COUNTIF(N$2:N657,N657)=1,N657,\"\")","v":""},{"$f":"+IF(O657=\"\",\"\",MAX(P$1:P656)+1)","v":""},""]
[null,null,null,null,null,null,null,null,{"$f":"IF(LDAR_TT_summary!C580=\"\",\"\",LDAR_TT_summary!C580)","v":""},{"$f":"IF(COUNTIF(I$2:I658,I658)=1,I658,\"\")","v":""},{"$f":"+IF(J658=\"\",\"\",MAX(K$1:K657)+1)","v":""},"",null,{"$f":"IF(LDAR_H_UU_summary!C480=\"\",\"\",LDAR_H_UU_summary!C480)","v":""},{"$f":"IF(COUNTIF(N$2:N658,N658)=1,N658,\"\")","v":""},{"$f":"+IF(O658=\"\",\"\",MAX(P$1:P657)+1)","v":""},""]
[null,null,null,null,null,null,null,null,{"$f":"IF(LDAR_TT_summary!C581=\"\",\"\",LDAR_TT_summary!C581)","v":""},{"$f":"IF(COUNTIF(I$2:I659,I659)=1,I659,\"\")","v":""},{"$f":"+IF(J659=\"\",\"\",MAX(K$1:K658)+1)","v":""},"",null,{"$f":"IF(LDAR_H_UU_summary!C481=\"\",\"\",LDAR_H_UU_summary!C481)","v":""},{"$f":"IF(COUNTIF(N$2:N659,N659)=1,N659,\"\")","v":""},{"$f":"+IF(O659=\"\",\"\",MAX(P$1:P658)+1)","v":""},""]
[null,null,null,null,null,null,null,null,{"$f":"IF(LDAR_TT_summary!C582=\"\",\"\",LDAR_TT_summary!C582)","v":""},{"$f":"IF(COUNTIF(I$2:I660,I660)=1,I660,\"\")","v":""},{"$f":"+IF(J660=\"\",\"\",MAX(K$1:K659)+1)","v":""},"",null,{"$f":"IF(LDAR_H_UU_summary!C482=\"\",\"\",LDAR_H_UU_summary!C482)","v":""},{"$f":"IF(COUNTIF(N$2:N660,N660)=1,N660,\"\")","v":""},{"$f":"+IF(O660=\"\",\"\",MAX(P$1:P659)+1)","v":""},""]
[null,null,null,null,null,null,null,null,{"$f":"IF(LDAR_TT_summary!C583=\"\",\"\",LDAR_TT_summary!C583)","v":""},{"$f":"IF(COUNTIF(I$2:I661,I661)=1,I661,\"\")","v":""},{"$f":"+IF(J661=\"\",\"\",MAX(K$1:K660)+1)","v":""},"",null,{"$f":"IF(LDAR_H_UU_summary!C483=\"\",\"\",LDAR_H_UU_summary!C483)","v":""},{"$f":"IF(COUNTIF(N$2:N661,N661)=1,N661,\"\")","v":""},{"$f":"+IF(O661=\"\",\"\",MAX(P$1:P660)+1)","v":""},""]
[null,null,null,null,null,null,null,null,{"$f":"IF(LDAR_TT_summary!C584=\"\",\"\",LDAR_TT_summary!C584)","v":""},{"$f":"IF(COUNTIF(I$2:I662,I662)=1,I662,\"\")","v":""},{"$f":"+IF(J662=\"\",\"\",MAX(K$1:K661)+1)","v":""},"",null,{"$f":"IF(LDAR_H_UU_summary!C484=\"\",\"\",LDAR_H_UU_summary!C484)","v":""},{"$f":"IF(COUNTIF(N$2:N662,N662)=1,N662,\"\")","v":""},{"$f":"+IF(O662=\"\",\"\",MAX(P$1:P661)+1)","v":""},""]
[null,null,null,null,null,null,null,null,{"$f":"IF(LDAR_TT_summary!C585=\"\",\"\",LDAR_TT_summary!C585)","v":""},{"$f":"IF(COUNTIF(I$2:I663,I663)=1,I663,\"\")","v":""},{"$f":"+IF(J663=\"\",\"\",MAX(K$1:K662)+1)","v":""},"",null,{"$f":"IF(LDAR_H_UU_summary!C485=\"\",\"\",LDAR_H_UU_summary!C485)","v":""},{"$f":"IF(COUNTIF(N$2:N663,N663)=1,N663,\"\")","v":""},{"$f":"+IF(O663=\"\",\"\",MAX(P$1:P662)+1)","v":""},""]
[null,null,null,null,null,null,null,null,{"$f":"IF(LDAR_TT_summary!C586=\"\",\"\",LDAR_TT_summary!C586)","v":""},{"$f":"IF(COUNTIF(I$2:I664,I664)=1,I664,\"\")","v":""},{"$f":"+IF(J664=\"\",\"\",MAX(K$1:K663)+1)","v":""},"",null,{"$f":"IF(LDAR_H_UU_summary!C486=\"\",\"\",LDAR_H_UU_summary!C486)","v":""},{"$f":"IF(COUNTIF(N$2:N664,N664)=1,N664,\"\")","v":""},{"$f":"+IF(O664=\"\",\"\",MAX(P$1:P663)+1)","v":""},""]
[null,null,null,null,null,null,null,null,{"$f":"IF(LDAR_TT_summary!C587=\"\",\"\",LDAR_TT_summary!C587)","v":""},{"$f":"IF(COUNTIF(I$2:I665,I665)=1,I665,\"\")","v":""},{"$f":"+IF(J665=\"\",\"\",MAX(K$1:K664)+1)","v":""},"",null,{"$f":"IF(LDAR_H_UU_summary!C487=\"\",\"\",LDAR_H_UU_summary!C487)","v":""},{"$f":"IF(COUNTIF(N$2:N665,N665)=1,N665,\"\")","v":""},{"$f":"+IF(O665=\"\",\"\",MAX(P$1:P664)+1)","v":""},""]
[null,null,null,null,null,null,null,null,{"$f":"IF(LDAR_TT_summary!C588=\"\",\"\",LDAR_TT_summary!C588)","v":""},{"$f":"IF(COUNTIF(I$2:I666,I666)=1,I666,\"\")","v":""},{"$f":"+IF(J666=\"\",\"\",MAX(K$1:K665)+1)","v":""},"",null,{"$f":"IF(LDAR_H_UU_summary!C488=\"\",\"\",LDAR_H_UU_summary!C488)","v":""},{"$f":"IF(COUNTIF(N$2:N666,N666)=1,N666,\"\")","v":""},{"$f":"+IF(O666=\"\",\"\",MAX(P$1:P665)+1)","v":""},""]
[null,null,null,null,null,null,null,null,{"$f":"IF(LDAR_TT_summary!C589=\"\",\"\",LDAR_TT_summary!C589)","v":""},{"$f":"IF(COUNTIF(I$2:I667,I667)=1,I667,\"\")","v":""},{"$f":"+IF(J667=\"\",\"\",MAX(K$1:K666)+1)","v":""},"",null,{"$f":"IF(LDAR_H_UU_summary!C489=\"\",\"\",LDAR_H_UU_summary!C489)","v":""},{"$f":"IF(COUNTIF(N$2:N667,N667)=1,N667,\"\")","v":""},{"$f":"+IF(O667=\"\",\"\",MAX(P$1:P666)+1)","v":""},""]
[null,null,null,null,null,null,null,null,{"$f":"IF(LDAR_TT_summary!C590=\"\",\"\",LDAR_TT_summary!C590)","v":""},{"$f":"IF(COUNTIF(I$2:I668,I668)=1,I668,\"\")","v":""},{"$f":"+IF(J668=\"\",\"\",MAX(K$1:K667)+1)","v":""},"",null,{"$f":"IF(LDAR_H_UU_summary!C490=\"\",\"\",LDAR_H_UU_summary!C490)","v":""},{"$f":"IF(COUNTIF(N$2:N668,N668)=1,N668,\"\")","v":""},{"$f":"+IF(O668=\"\",\"\",MAX(P$1:P667)+1)","v":""},""]
[null,null,null,null,null,null,null,null,{"$f":"IF(LDAR_TT_summary!C591=\"\",\"\",LDAR_TT_summary!C591)","v":""},{"$f":"IF(COUNTIF(I$2:I669,I669)=1,I669,\"\")","v":""},{"$f":"+IF(J669=\"\",\"\",MAX(K$1:K668)+1)","v":""},"",null,{"$f":"IF(LDAR_H_UU_summary!C491=\"\",\"\",LDAR_H_UU_summary!C491)","v":""},{"$f":"IF(COUNTIF(N$2:N669,N669)=1,N669,\"\")","v":""},{"$f":"+IF(O669=\"\",\"\",MAX(P$1:P668)+1)","v":""},""]
[null,null,null,null,null,null,null,null,{"$f":"IF(LDAR_TT_summary!C592=\"\",\"\",LDAR_TT_summary!C592)","v":""},{"$f":"IF(COUNTIF(I$2:I670,I670)=1,I670,\"\")","v":""},{"$f":"+IF(J670=\"\",\"\",MAX(K$1:K669)+1)","v":""},"",null,{"$f":"IF(LDAR_H_UU_summary!C492=\"\",\"\",LDAR_H_UU_summary!C492)","v":""},{"$f":"IF(COUNTIF(N$2:N670,N670)=1,N670,\"\")","v":""},{"$f":"+IF(O670=\"\",\"\",MAX(P$1:P669)+1)","v":""},""]
[null,null,null,null,null,null,null,null,{"$f":"IF(LDAR_TT_summary!C593=\"\",\"\",LDAR_TT_summary!C593)","v":""},{"$f":"IF(COUNTIF(I$2:I671,I671)=1,I671,\"\")","v":""},{"$f":"+IF(J671=\"\",\"\",MAX(K$1:K670)+1)","v":""},"",null,{"$f":"IF(LDAR_H_UU_summary!C493=\"\",\"\",LDAR_H_UU_summary!C493)","v":""},{"$f":"IF(COUNTIF(N$2:N671,N671)=1,N671,\"\")","v":""},{"$f":"+IF(O671=\"\",\"\",MAX(P$1:P670)+1)","v":""},""]
[null,null,null,null,null,null,null,null,{"$f":"IF(LDAR_TT_summary!C594=\"\",\"\",LDAR_TT_summary!C594)","v":""},{"$f":"IF(COUNTIF(I$2:I672,I672)=1,I672,\"\")","v":""},{"$f":"+IF(J672=\"\",\"\",MAX(K$1:K671)+1)","v":""},"",null,{"$f":"IF(LDAR_H_UU_summary!C494=\"\",\"\",LDAR_H_UU_summary!C494)","v":""},{"$f":"IF(COUNTIF(N$2:N672,N672)=1,N672,\"\")","v":""},{"$f":"+IF(O672=\"\",\"\",MAX(P$1:P671)+1)","v":""},""]
[null,null,null,null,null,null,null,null,{"$f":"IF(LDAR_TT_summary!C595=\"\",\"\",LDAR_TT_summary!C595)","v":""},{"$f":"IF(COUNTIF(I$2:I673,I673)=1,I673,\"\")","v":""},{"$f":"+IF(J673=\"\",\"\",MAX(K$1:K672)+1)","v":""},"",null,{"$f":"IF(LDAR_H_UU_summary!C495=\"\",\"\",LDAR_H_UU_summary!C495)","v":""},{"$f":"IF(COUNTIF(N$2:N673,N673)=1,N673,\"\")","v":""},{"$f":"+IF(O673=\"\",\"\",MAX(P$1:P672)+1)","v":""},""]
[null,null,null,null,null,null,null,null,{"$f":"IF(LDAR_TT_summary!C596=\"\",\"\",LDAR_TT_summary!C596)","v":""},{"$f":"IF(COUNTIF(I$2:I674,I674)=1,I674,\"\")","v":""},{"$f":"+IF(J674=\"\",\"\",MAX(K$1:K673)+1)","v":""},"",null,{"$f":"IF(LDAR_H_UU_summary!C496=\"\",\"\",LDAR_H_UU_summary!C496)","v":""},{"$f":"IF(COUNTIF(N$2:N674,N674)=1,N674,\"\")","v":""},{"$f":"+IF(O674=\"\",\"\",MAX(P$1:P673)+1)","v":""},""]
[null,null,null,null,null,null,null,null,{"$f":"IF(LDAR_TT_summary!C597=\"\",\"\",LDAR_TT_summary!C597)","v":""},{"$f":"IF(COUNTIF(I$2:I675,I675)=1,I675,\"\")","v":""},{"$f":"+IF(J675=\"\",\"\",MAX(K$1:K674)+1)","v":""},"",null,{"$f":"IF(LDAR_H_UU_summary!C497=\"\",\"\",LDAR_H_UU_summary!C497)","v":""},{"$f":"IF(COUNTIF(N$2:N675,N675)=1,N675,\"\")","v":""},{"$f":"+IF(O675=\"\",\"\",MAX(P$1:P674)+1)","v":""},""]
[null,null,null,null,null,null,null,null,{"$f":"IF(LDAR_TT_summary!C598=\"\",\"\",LDAR_TT_summary!C598)","v":""},{"$f":"IF(COUNTIF(I$2:I676,I676)=1,I676,\"\")","v":""},{"$f":"+IF(J676=\"\",\"\",MAX(K$1:K675)+1)","v":""},"",null,{"$f":"IF(LDAR_H_UU_summary!C498=\"\",\"\",LDAR_H_UU_summary!C498)","v":""},{"$f":"IF(COUNTIF(N$2:N676,N676)=1,N676,\"\")","v":""},{"$f":"+IF(O676=\"\",\"\",MAX(P$1:P675)+1)","v":""},""]
[null,null,null,null,null,null,null,null,{"$f":"IF(LDAR_TT_summary!C599=\"\",\"\",LDAR_TT_summary!C599)","v":""},{"$f":"IF(COUNTIF(I$2:I677,I677)=1,I677,\"\")","v":""},{"$f":"+IF(J677=\"\",\"\",MAX(K$1:K676)+1)","v":""},"",null,{"$f":"IF(LDAR_H_UU_summary!C499=\"\",\"\",LDAR_H_UU_summary!C499)","v":""},{"$f":"IF(COUNTIF(N$2:N677,N677)=1,N677,\"\")","v":""},{"$f":"+IF(O677=\"\",\"\",MAX(P$1:P676)+1)","v":""},""]
[null,null,null,null,null,null,null,null,{"$f":"IF(LDAR_TT_summary!C600=\"\",\"\",LDAR_TT_summary!C600)","v":""},{"$f":"IF(COUNTIF(I$2:I678,I678)=1,I678,\"\")","v":""},{"$f":"+IF(J678=\"\",\"\",MAX(K$1:K677)+1)","v":""},"",null,{"$f":"IF(LDAR_H_UU_summary!C500=\"\",\"\",LDAR_H_UU_summary!C500)","v":""},{"$f":"IF(COUNTIF(N$2:N678,N678)=1,N678,\"\")","v":""},{"$f":"+IF(O678=\"\",\"\",MAX(P$1:P677)+1)","v":""},""]
[null,null,null,null,null,null,null,null,{"$f":"IF(LDAR_TT_summary!C601=\"\",\"\",LDAR_TT_summary!C601)","v":""},{"$f":"IF(COUNTIF(I$2:I679,I679)=1,I679,\"\")","v":""},{"$f":"+IF(J679=\"\",\"\",MAX(K$1:K678)+1)","v":""},"",null,{"$f":"IF(LDAR_H_UU_summary!C501=\"\",\"\",LDAR_H_UU_summary!C501)","v":""},{"$f":"IF(COUNTIF(N$2:N679,N679)=1,N679,\"\")","v":""},{"$f":"+IF(O679=\"\",\"\",MAX(P$1:P678)+1)","v":""},""]
[null,null,null,null,null,null,null,null,{"$f":"IF(LDAR_TT_summary!C602=\"\",\"\",LDAR_TT_summary!C602)","v":""},{"$f":"IF(COUNTIF(I$2:I680,I680)=1,I680,\"\")","v":""},{"$f":"+IF(J680=\"\",\"\",MAX(K$1:K679)+1)","v":""},"",null,{"$f":"IF(LDAR_H_UU_summary!C502=\"\",\"\",LDAR_H_UU_summary!C502)","v":""},{"$f":"IF(COUNTIF(N$2:N680,N680)=1,N680,\"\")","v":""},{"$f":"+IF(O680=\"\",\"\",MAX(P$1:P679)+1)","v":""},""]
[null,null,null,null,null,null,null,null,{"$f":"IF(LDAR_TT_summary!C603=\"\",\"\",LDAR_TT_summary!C603)","v":""},{"$f":"IF(COUNTIF(I$2:I681,I681)=1,I681,\"\")","v":""},{"$f":"+IF(J681=\"\",\"\",MAX(K$1:K680)+1)","v":""},"",null,{"$f":"IF(LDAR_H_UU_summary!C503=\"\",\"\",LDAR_H_UU_summary!C503)","v":""},{"$f":"IF(COUNTIF(N$2:N681,N681)=1,N681,\"\")","v":""},{"$f":"+IF(O681=\"\",\"\",MAX(P$1:P680)+1)","v":""},""]
[null,null,null,null,null,null,null,null,{"$f":"IF(LDAR_TT_summary!C604=\"\",\"\",LDAR_TT_summary!C604)","v":""},{"$f":"IF(COUNTIF(I$2:I682,I682)=1,I682,\"\")","v":""},{"$f":"+IF(J682=\"\",\"\",MAX(K$1:K681)+1)","v":""},"",null,{"$f":"IF(LDAR_H_UU_summary!C504=\"\",\"\",LDAR_H_UU_summary!C504)","v":""},{"$f":"IF(COUNTIF(N$2:N682,N682)=1,N682,\"\")","v":""},{"$f":"+IF(O682=\"\",\"\",MAX(P$1:P681)+1)","v":""},""]
[null,null,null,null,null,null,null,null,{"$f":"IF(LDAR_TT_summary!C605=\"\",\"\",LDAR_TT_summary!C605)","v":""},{"$f":"IF(COUNTIF(I$2:I683,I683)=1,I683,\"\")","v":""},{"$f":"+IF(J683=\"\",\"\",MAX(K$1:K682)+1)","v":""},"",null,{"$f":"IF(LDAR_H_UU_summary!C505=\"\",\"\",LDAR_H_UU_summary!C505)","v":""},{"$f":"IF(COUNTIF(N$2:N683,N683)=1,N683,\"\")","v":""},{"$f":"+IF(O683=\"\",\"\",MAX(P$1:P682)+1)","v":""},""]
[null,null,null,null,null,null,null,null,{"$f":"IF(LDAR_TT_summary!C606=\"\",\"\",LDAR_TT_summary!C606)","v":""},{"$f":"IF(COUNTIF(I$2:I684,I684)=1,I684,\"\")","v":""},{"$f":"+IF(J684=\"\",\"\",MAX(K$1:K683)+1)","v":""},"",null,{"$f":"IF(LDAR_H_UU_summary!C506=\"\",\"\",LDAR_H_UU_summary!C506)","v":""},{"$f":"IF(COUNTIF(N$2:N684,N684)=1,N684,\"\")","v":""},{"$f":"+IF(O684=\"\",\"\",MAX(P$1:P683)+1)","v":""},""]
[null,null,null,null,null,null,null,null,{"$f":"IF(LDAR_TT_summary!C607=\"\",\"\",LDAR_TT_summary!C607)","v":""},{"$f":"IF(COUNTIF(I$2:I685,I685)=1,I685,\"\")","v":""},{"$f":"+IF(J685=\"\",\"\",MAX(K$1:K684)+1)","v":""},"",null,{"$f":"IF(LDAR_H_UU_summary!C507=\"\",\"\",LDAR_H_UU_summary!C507)","v":""},{"$f":"IF(COUNTIF(N$2:N685,N685)=1,N685,\"\")","v":""},{"$f":"+IF(O685=\"\",\"\",MAX(P$1:P684)+1)","v":""},""]
[null,null,null,null,null,null,null,null,{"$f":"IF(LDAR_TT_summary!C608=\"\",\"\",LDAR_TT_summary!C608)","v":""},{"$f":"IF(COUNTIF(I$2:I686,I686)=1,I686,\"\")","v":""},{"$f":"+IF(J686=\"\",\"\",MAX(K$1:K685)+1)","v":""},{"$f":"+IFERROR(INDEX($I$2:$I$801,MATCH(ROW()-ROW($K$1),$K$2:$K$801,0)),\"\")","v":""},null,{"$f":"IF(LDAR_H_UU_summary!C508=\"\",\"\",LDAR_H_UU_summary!C508)","v":""},{"$f":"IF(COUNTIF(N$2:N686,N686)=1,N686,\"\")","v":""},{"$f":"+IF(O686=\"\",\"\",MAX(P$1:P685)+1)","v":""},""]
[null,null,null,null,null,null,null,null,{"$f":"IF(LDAR_TT_summary!C609=\"\",\"\",LDAR_TT_summary!C609)","v":""},{"$f":"IF(COUNTIF(I$2:I687,I687)=1,I687,\"\")","v":""},{"$f":"+IF(J687=\"\",\"\",MAX(K$1:K686)+1)","v":""},"",null,{"$f":"IF(LDAR_H_UU_summary!C509=\"\",\"\",LDAR_H_UU_summary!C509)","v":""},{"$f":"IF(COUNTIF(N$2:N687,N687)=1,N687,\"\")","v":""},{"$f":"+IF(O687=\"\",\"\",MAX(P$1:P686)+1)","v":""},""]
[null,null,null,null,null,null,null,null,{"$f":"IF(LDAR_TT_summary!C610=\"\",\"\",LDAR_TT_summary!C610)","v":""},{"$f":"IF(COUNTIF(I$2:I688,I688)=1,I688,\"\")","v":""},{"$f":"+IF(J688=\"\",\"\",MAX(K$1:K687)+1)","v":""},"",null,{"$f":"IF(LDAR_H_UU_summary!C510=\"\",\"\",LDAR_H_UU_summary!C510)","v":""},{"$f":"IF(COUNTIF(N$2:N688,N688)=1,N688,\"\")","v":""},{"$f":"+IF(O688=\"\",\"\",MAX(P$1:P687)+1)","v":""},""]
[null,null,null,null,null,null,null,null,{"$f":"IF(LDAR_TT_summary!C611=\"\",\"\",LDAR_TT_summary!C611)","v":""},{"$f":"IF(COUNTIF(I$2:I689,I689)=1,I689,\"\")","v":""},{"$f":"+IF(J689=\"\",\"\",MAX(K$1:K688)+1)","v":""},"",null,{"$f":"IF(LDAR_H_UU_summary!C511=\"\",\"\",LDAR_H_UU_summary!C511)","v":""},{"$f":"IF(COUNTIF(N$2:N689,N689)=1,N689,\"\")","v":""},{"$f":"+IF(O689=\"\",\"\",MAX(P$1:P688)+1)","v":""},""]
[null,null,null,null,null,null,null,null,{"$f":"IF(LDAR_TT_summary!C612=\"\",\"\",LDAR_TT_summary!C612)","v":""},{"$f":"IF(COUNTIF(I$2:I690,I690)=1,I690,\"\")","v":""},{"$f":"+IF(J690=\"\",\"\",MAX(K$1:K689)+1)","v":""},"",null,{"$f":"IF(LDAR_H_UU_summary!C512=\"\",\"\",LDAR_H_UU_summary!C512)","v":""},{"$f":"IF(COUNTIF(N$2:N690,N690)=1,N690,\"\")","v":""},{"$f":"+IF(O690=\"\",\"\",MAX(P$1:P689)+1)","v":""},""]
[null,null,null,null,null,null,null,null,{"$f":"IF(LDAR_TT_summary!C613=\"\",\"\",LDAR_TT_summary!C613)","v":""},{"$f":"IF(COUNTIF(I$2:I691,I691)=1,I691,\"\")","v":""},{"$f":"+IF(J691=\"\",\"\",MAX(K$1:K690)+1)","v":""},"",null,{"$f":"IF(LDAR_H_UU_summary!C513=\"\",\"\",LDAR_H_UU_summary!C513)","v":""},{"$f":"IF(COUNTIF(N$2:N691,N691)=1,N691,\"\")","v":""},{"$f":"+IF(O691=\"\",\"\",MAX(P$1:P690)+1)","v":""},""]
[null,null,null,null,null,null,null,null,{"$f":"IF(LDAR_TT_summary!C614=\"\",\"\",LDAR_TT_summary!C614)","v":""},{"$f":"IF(COUNTIF(I$2:I692,I692)=1,I692,\"\")","v":""},{"$f":"+IF(J692=\"\",\"\",MAX(K$1:K691)+1)","v":""},"",null,{"$f":"IF(LDAR_H_UU_summary!C514=\"\",\"\",LDAR_H_UU_summary!C514)","v":""},{"$f":"IF(COUNTIF(N$2:N692,N692)=1,N692,\"\")","v":""},{"$f":"+IF(O692=\"\",\"\",MAX(P$1:P691)+1)","v":""},""]
[null,null,null,null,null,null,null,null,{"$f":"IF(LDAR_TT_summary!C615=\"\",\"\",LDAR_TT_summary!C615)","v":""},{"$f":"IF(COUNTIF(I$2:I693,I693)=1,I693,\"\")","v":""},{"$f":"+IF(J693=\"\",\"\",MAX(K$1:K692)+1)","v":""},"",null,{"$f":"IF(LDAR_H_UU_summary!C515=\"\",\"\",LDAR_H_UU_summary!C515)","v":""},{"$f":"IF(COUNTIF(N$2:N693,N693)=1,N693,\"\")","v":""},{"$f":"+IF(O693=\"\",\"\",MAX(P$1:P692)+1)","v":""},""]
[null,null,null,null,null,null,null,null,{"$f":"IF(LDAR_TT_summary!C616=\"\",\"\",LDAR_TT_summary!C616)","v":""},{"$f":"IF(COUNTIF(I$2:I694,I694)=1,I694,\"\")","v":""},{"$f":"+IF(J694=\"\",\"\",MAX(K$1:K693)+1)","v":""},"",null,{"$f":"IF(LDAR_H_UU_summary!C516=\"\",\"\",LDAR_H_UU_summary!C516)","v":""},{"$f":"IF(COUNTIF(N$2:N694,N694)=1,N694,\"\")","v":""},{"$f":"+IF(O694=\"\",\"\",MAX(P$1:P693)+1)","v":""},""]
[null,null,null,null,null,null,null,null,{"$f":"IF(LDAR_TT_summary!C617=\"\",\"\",LDAR_TT_summary!C617)","v":""},{"$f":"IF(COUNTIF(I$2:I695,I695)=1,I695,\"\")","v":""},{"$f":"+IF(J695=\"\",\"\",MAX(K$1:K694)+1)","v":""},"",null,{"$f":"IF(LDAR_H_UU_summary!C517=\"\",\"\",LDAR_H_UU_summary!C517)","v":""},{"$f":"IF(COUNTIF(N$2:N695,N695)=1,N695,\"\")","v":""},{"$f":"+IF(O695=\"\",\"\",MAX(P$1:P694)+1)","v":""},""]
[null,null,null,null,null,null,null,null,{"$f":"IF(LDAR_TT_summary!C618=\"\",\"\",LDAR_TT_summary!C618)","v":""},{"$f":"IF(COUNTIF(I$2:I696,I696)=1,I696,\"\")","v":""},{"$f":"+IF(J696=\"\",\"\",MAX(K$1:K695)+1)","v":""},"",null,{"$f":"IF(LDAR_H_UU_summary!C518=\"\",\"\",LDAR_H_UU_summary!C518)","v":""},{"$f":"IF(COUNTIF(N$2:N696,N696)=1,N696,\"\")","v":""},{"$f":"+IF(O696=\"\",\"\",MAX(P$1:P695)+1)","v":""},""]
[null,null,null,null,null,null,null,null,{"$f":"IF(LDAR_TT_summary!C619=\"\",\"\",LDAR_TT_summary!C619)","v":""},{"$f":"IF(COUNTIF(I$2:I697,I697)=1,I697,\"\")","v":""},{"$f":"+IF(J697=\"\",\"\",MAX(K$1:K696)+1)","v":""},"",null,{"$f":"IF(LDAR_H_UU_summary!C519=\"\",\"\",LDAR_H_UU_summary!C519)","v":""},{"$f":"IF(COUNTIF(N$2:N697,N697)=1,N697,\"\")","v":""},{"$f":"+IF(O697=\"\",\"\",MAX(P$1:P696)+1)","v":""},""]
[null,null,null,null,null,null,null,null,{"$f":"IF(LDAR_TT_summary!C620=\"\",\"\",LDAR_TT_summary!C620)","v":""},{"$f":"IF(COUNTIF(I$2:I698,I698)=1,I698,\"\")","v":""},{"$f":"+IF(J698=\"\",\"\",MAX(K$1:K697)+1)","v":""},"",null,{"$f":"IF(LDAR_H_UU_summary!C520=\"\",\"\",LDAR_H_UU_summary!C520)","v":""},{"$f":"IF(COUNTIF(N$2:N698,N698)=1,N698,\"\")","v":""},{"$f":"+IF(O698=\"\",\"\",MAX(P$1:P697)+1)","v":""},""]
[null,null,null,null,null,null,null,null,{"$f":"IF(LDAR_TT_summary!C621=\"\",\"\",LDAR_TT_summary!C621)","v":""},{"$f":"IF(COUNTIF(I$2:I699,I699)=1,I699,\"\")","v":""},{"$f":"+IF(J699=\"\",\"\",MAX(K$1:K698)+1)","v":""},"",null,{"$f":"IF(LDAR_H_UU_summary!C521=\"\",\"\",LDAR_H_UU_summary!C521)","v":""},{"$f":"IF(COUNTIF(N$2:N699,N699)=1,N699,\"\")","v":""},{"$f":"+IF(O699=\"\",\"\",MAX(P$1:P698)+1)","v":""},""]
[null,null,null,null,null,null,null,null,{"$f":"IF(LDAR_TT_summary!C622=\"\",\"\",LDAR_TT_summary!C622)","v":""},{"$f":"IF(COUNTIF(I$2:I700,I700)=1,I700,\"\")","v":""},{"$f":"+IF(J700=\"\",\"\",MAX(K$1:K699)+1)","v":""},"",null,{"$f":"IF(LDAR_H_UU_summary!C522=\"\",\"\",LDAR_H_UU_summary!C522)","v":""},{"$f":"IF(COUNTIF(N$2:N700,N700)=1,N700,\"\")","v":""},{"$f":"+IF(O700=\"\",\"\",MAX(P$1:P699)+1)","v":""},""]
[null,null,null,null,null,null,null,null,{"$f":"IF(LDAR_TT_summary!C623=\"\",\"\",LDAR_TT_summary!C623)","v":""},{"$f":"IF(COUNTIF(I$2:I701,I701)=1,I701,\"\")","v":""},{"$f":"+IF(J701=\"\",\"\",MAX(K$1:K700)+1)","v":""},"",null,{"$f":"IF(LDAR_H_UU_summary!C523=\"\",\"\",LDAR_H_UU_summary!C523)","v":""},{"$f":"IF(COUNTIF(N$2:N701,N701)=1,N701,\"\")","v":""},{"$f":"+IF(O701=\"\",\"\",MAX(P$1:P700)+1)","v":""},""]
[null,null,null,null,null,null,null,null,{"$f":"IF(LDAR_TT_shutdowns!C24=\"\",\"\",LDAR_TT_shutdowns!C24)","v":""},{"$f":"IF(COUNTIF(I$2:I702,I702)=1,I702,\"\")","v":""},{"$f":"+IF(J702=\"\",\"\",MAX(K$1:K701)+1)","v":""},"",null,{"$f":"IF(LDAR_H_UU_summary!C524=\"\",\"\",LDAR_H_UU_summary!C524)","v":""},{"$f":"IF(COUNTIF(N$2:N702,N702)=1,N702,\"\")","v":""},{"$f":"+IF(O702=\"\",\"\",MAX(P$1:P701)+1)","v":""},""]
[null,null,null,null,null,null,null,null,{"$f":"IF(LDAR_TT_shutdowns!C25=\"\",\"\",LDAR_TT_shutdowns!C25)","v":""},{"$f":"IF(COUNTIF(I$2:I703,I703)=1,I703,\"\")","v":""},{"$f":"+IF(J703=\"\",\"\",MAX(K$1:K702)+1)","v":""},"",null,{"$f":"IF(LDAR_H_UU_summary!C525=\"\",\"\",LDAR_H_UU_summary!C525)","v":""},{"$f":"IF(COUNTIF(N$2:N703,N703)=1,N703,\"\")","v":""},{"$f":"+IF(O703=\"\",\"\",MAX(P$1:P702)+1)","v":""},""]
[null,null,null,null,null,null,null,null,{"$f":"IF(LDAR_TT_shutdowns!C26=\"\",\"\",LDAR_TT_shutdowns!C26)","v":""},{"$f":"IF(COUNTIF(I$2:I704,I704)=1,I704,\"\")","v":""},{"$f":"+IF(J704=\"\",\"\",MAX(K$1:K703)+1)","v":""},"",null,{"$f":"IF(LDAR_H_UU_summary!C526=\"\",\"\",LDAR_H_UU_summary!C526)","v":""},{"$f":"IF(COUNTIF(N$2:N704,N704)=1,N704,\"\")","v":""},{"$f":"+IF(O704=\"\",\"\",MAX(P$1:P703)+1)","v":""},""]
[null,null,null,null,null,null,null,null,{"$f":"IF(LDAR_TT_shutdowns!C27=\"\",\"\",LDAR_TT_shutdowns!C27)","v":""},{"$f":"IF(COUNTIF(I$2:I705,I705)=1,I705,\"\")","v":""},{"$f":"+IF(J705=\"\",\"\",MAX(K$1:K704)+1)","v":""},"",null,{"$f":"IF(LDAR_H_UU_summary!C527=\"\",\"\",LDAR_H_UU_summary!C527)","v":""},{"$f":"IF(COUNTIF(N$2:N705,N705)=1,N705,\"\")","v":""},{"$f":"+IF(O705=\"\",\"\",MAX(P$1:P704)+1)","v":""},""]
[null,null,null,null,null,null,null,null,{"$f":"IF(LDAR_TT_shutdowns!C28=\"\",\"\",LDAR_TT_shutdowns!C28)","v":""},{"$f":"IF(COUNTIF(I$2:I706,I706)=1,I706,\"\")","v":""},{"$f":"+IF(J706=\"\",\"\",MAX(K$1:K705)+1)","v":""},"",null,{"$f":"IF(LDAR_H_UU_summary!C528=\"\",\"\",LDAR_H_UU_summary!C528)","v":""},{"$f":"IF(COUNTIF(N$2:N706,N706)=1,N706,\"\")","v":""},{"$f":"+IF(O706=\"\",\"\",MAX(P$1:P705)+1)","v":""},""]
[null,null,null,null,null,null,null,null,{"$f":"IF(LDAR_TT_shutdowns!C29=\"\",\"\",LDAR_TT_shutdowns!C29)","v":""},{"$f":"IF(COUNTIF(I$2:I707,I707)=1,I707,\"\")","v":""},{"$f":"+IF(J707=\"\",\"\",MAX(K$1:K706)+1)","v":""},"",null,{"$f":"IF(LDAR_H_UU_summary!C529=\"\",\"\",LDAR_H_UU_summary!C529)","v":""},{"$f":"IF(COUNTIF(N$2:N707,N707)=1,N707,\"\")","v":""},{"$f":"+IF(O707=\"\",\"\",MAX(P$1:P706)+1)","v":""},{"$f":"+IFERROR(INDEX($N$2:$N$2001,MATCH(ROW()-ROW($P$1),$P$2:$P$2001,0)),\"\")","v":""}]
[null,null,null,null,null,null,null,null,{"$f":"IF(LDAR_TT_shutdowns!C30=\"\",\"\",LDAR_TT_shutdowns!C30)","v":""},{"$f":"IF(COUNTIF(I$2:I708,I708)=1,I708,\"\")","v":""},{"$f":"+IF(J708=\"\",\"\",MAX(K$1:K707)+1)","v":""},"",null,{"$f":"IF(LDAR_H_UU_summary!C530=\"\",\"\",LDAR_H_UU_summary!C530)","v":""},{"$f":"IF(COUNTIF(N$2:N708,N708)=1,N708,\"\")","v":""},{"$f":"+IF(O708=\"\",\"\",MAX(P$1:P707)+1)","v":""},""]
[null,null,null,null,null,null,null,null,{"$f":"IF(LDAR_TT_shutdowns!C31=\"\",\"\",LDAR_TT_shutdowns!C31)","v":""},{"$f":"IF(COUNTIF(I$2:I709,I709)=1,I709,\"\")","v":""},{"$f":"+IF(J709=\"\",\"\",MAX(K$1:K708)+1)","v":""},"",null,{"$f":"IF(LDAR_H_UU_summary!C531=\"\",\"\",LDAR_H_UU_summary!C531)","v":""},{"$f":"IF(COUNTIF(N$2:N709,N709)=1,N709,\"\")","v":""},{"$f":"+IF(O709=\"\",\"\",MAX(P$1:P708)+1)","v":""},""]
[null,null,null,null,null,null,null,null,{"$f":"IF(LDAR_TT_shutdowns!C32=\"\",\"\",LDAR_TT_shutdowns!C32)","v":""},{"$f":"IF(COUNTIF(I$2:I710,I710)=1,I710,\"\")","v":""},{"$f":"+IF(J710=\"\",\"\",MAX(K$1:K709)+1)","v":""},"",null,{"$f":"IF(LDAR_H_UU_summary!C532=\"\",\"\",LDAR_H_UU_summary!C532)","v":""},{"$f":"IF(COUNTIF(N$2:N710,N710)=1,N710,\"\")","v":""},{"$f":"+IF(O710=\"\",\"\",MAX(P$1:P709)+1)","v":""},""]
[null,null,null,null,null,null,null,null,{"$f":"IF(LDAR_TT_shutdowns!C33=\"\",\"\",LDAR_TT_shutdowns!C33)","v":""},{"$f":"IF(COUNTIF(I$2:I711,I711)=1,I711,\"\")","v":""},{"$f":"+IF(J711=\"\",\"\",MAX(K$1:K710)+1)","v":""},"",null,{"$f":"IF(LDAR_H_UU_summary!C533=\"\",\"\",LDAR_H_UU_summary!C533)","v":""},{"$f":"IF(COUNTIF(N$2:N711,N711)=1,N711,\"\")","v":""},{"$f":"+IF(O711=\"\",\"\",MAX(P$1:P710)+1)","v":""},""]
[null,null,null,null,null,null,null,null,{"$f":"IF(LDAR_TT_shutdowns!C34=\"\",\"\",LDAR_TT_shutdowns!C34)","v":""},{"$f":"IF(COUNTIF(I$2:I712,I712)=1,I712,\"\")","v":""},{"$f":"+IF(J712=\"\",\"\",MAX(K$1:K711)+1)","v":""},"",null,{"$f":"IF(LDAR_H_UU_summary!C534=\"\",\"\",LDAR_H_UU_summary!C534)","v":""},{"$f":"IF(COUNTIF(N$2:N712,N712)=1,N712,\"\")","v":""},{"$f":"+IF(O712=\"\",\"\",MAX(P$1:P711)+1)","v":""},""]
[null,null,null,null,null,null,null,null,{"$f":"IF(LDAR_TT_shutdowns!C35=\"\",\"\",LDAR_TT_shutdowns!C35)","v":""},{"$f":"IF(COUNTIF(I$2:I713,I713)=1,I713,\"\")","v":""},{"$f":"+IF(J713=\"\",\"\",MAX(K$1:K712)+1)","v":""},"",null,{"$f":"IF(LDAR_H_UU_summary!C535=\"\",\"\",LDAR_H_UU_summary!C535)","v":""},{"$f":"IF(COUNTIF(N$2:N713,N713)=1,N713,\"\")","v":""},{"$f":"+IF(O713=\"\",\"\",MAX(P$1:P712)+1)","v":""},""]
[null,null,null,null,null,null,null,null,{"$f":"IF(LDAR_TT_shutdowns!C36=\"\",\"\",LDAR_TT_shutdowns!C36)","v":""},{"$f":"IF(COUNTIF(I$2:I714,I714)=1,I714,\"\")","v":""},{"$f":"+IF(J714=\"\",\"\",MAX(K$1:K713)+1)","v":""},"",null,{"$f":"IF(LDAR_H_UU_summary!C536=\"\",\"\",LDAR_H_UU_summary!C536)","v":""},{"$f":"IF(COUNTIF(N$2:N714,N714)=1,N714,\"\")","v":""},{"$f":"+IF(O714=\"\",\"\",MAX(P$1:P713)+1)","v":""},""]
[null,null,null,null,null,null,null,null,{"$f":"IF(LDAR_TT_shutdowns!C37=\"\",\"\",LDAR_TT_shutdowns!C37)","v":""},{"$f":"IF(COUNTIF(I$2:I715,I715)=1,I715,\"\")","v":""},{"$f":"+IF(J715=\"\",\"\",MAX(K$1:K714)+1)","v":""},"",null,{"$f":"IF(LDAR_H_UU_summary!C537=\"\",\"\",LDAR_H_UU_summary!C537)","v":""},{"$f":"IF(COUNTIF(N$2:N715,N715)=1,N715,\"\")","v":""},{"$f":"+IF(O715=\"\",\"\",MAX(P$1:P714)+1)","v":""},""]
[null,null,null,null,null,null,null,null,{"$f":"IF(LDAR_TT_shutdowns!C38=\"\",\"\",LDAR_TT_shutdowns!C38)","v":""},{"$f":"IF(COUNTIF(I$2:I716,I716)=1,I716,\"\")","v":""},{"$f":"+IF(J716=\"\",\"\",MAX(K$1:K715)+1)","v":""},"",null,{"$f":"IF(LDAR_H_UU_summary!C538=\"\",\"\",LDAR_H_UU_summary!C538)","v":""},{"$f":"IF(COUNTIF(N$2:N716,N716)=1,N716,\"\")","v":""},{"$f":"+IF(O716=\"\",\"\",MAX(P$1:P715)+1)","v":""},""]
[null,null,null,null,null,null,null,null,{"$f":"IF(LDAR_TT_shutdowns!C39=\"\",\"\",LDAR_TT_shutdowns!C39)","v":""},{"$f":"IF(COUNTIF(I$2:I717,I717)=1,I717,\"\")","v":""},{"$f":"+IF(J717=\"\",\"\",MAX(K$1:K716)+1)","v":""},"",null,{"$f":"IF(LDAR_H_UU_summary!C539=\"\",\"\",LDAR_H_UU_summary!C539)","v":""},{"$f":"IF(COUNTIF(N$2:N717,N717)=1,N717,\"\")","v":""},{"$f":"+IF(O717=\"\",\"\",MAX(P$1:P716)+1)","v":""},""]
[null,null,null,null,null,null,null,null,{"$f":"IF(LDAR_TT_shutdowns!C40=\"\",\"\",LDAR_TT_shutdowns!C40)","v":""},{"$f":"IF(COUNTIF(I$2:I718,I718)=1,I718,\"\")","v":""},{"$f":"+IF(J718=\"\",\"\",MAX(K$1:K717)+1)","v":""},"",null,{"$f":"IF(LDAR_H_UU_summary!C540=\"\",\"\",LDAR_H_UU_summary!C540)","v":""},{"$f":"IF(COUNTIF(N$2:N718,N718)=1,N718,\"\")","v":""},{"$f":"+IF(O718=\"\",\"\",MAX(P$1:P717)+1)","v":""},""]
[null,null,null,null,null,null,null,null,{"$f":"IF(LDAR_TT_shutdowns!C41=\"\",\"\",LDAR_TT_shutdowns!C41)","v":""},{"$f":"IF(COUNTIF(I$2:I719,I719)=1,I719,\"\")","v":""},{"$f":"+IF(J719=\"\",\"\",MAX(K$1:K718)+1)","v":""},"",null,{"$f":"IF(LDAR_H_UU_summary!C541=\"\",\"\",LDAR_H_UU_summary!C541)","v":""},{"$f":"IF(COUNTIF(N$2:N719,N719)=1,N719,\"\")","v":""},{"$f":"+IF(O719=\"\",\"\",MAX(P$1:P718)+1)","v":""},""]
[null,null,null,null,null,null,null,null,{"$f":"IF(LDAR_TT_shutdowns!C42=\"\",\"\",LDAR_TT_shutdowns!C42)","v":""},{"$f":"IF(COUNTIF(I$2:I720,I720)=1,I720,\"\")","v":""},{"$f":"+IF(J720=\"\",\"\",MAX(K$1:K719)+1)","v":""},"",null,{"$f":"IF(LDAR_H_UU_summary!C542=\"\",\"\",LDAR_H_UU_summary!C542)","v":""},{"$f":"IF(COUNTIF(N$2:N720,N720)=1,N720,\"\")","v":""},{"$f":"+IF(O720=\"\",\"\",MAX(P$1:P719)+1)","v":""},""]
[null,null,null,null,null,null,null,null,{"$f":"IF(LDAR_TT_shutdowns!C43=\"\",\"\",LDAR_TT_shutdowns!C43)","v":""},{"$f":"IF(COUNTIF(I$2:I721,I721)=1,I721,\"\")","v":""},{"$f":"+IF(J721=\"\",\"\",MAX(K$1:K720)+1)","v":""},"",null,{"$f":"IF(LDAR_H_UU_summary!C543=\"\",\"\",LDAR_H_UU_summary!C543)","v":""},{"$f":"IF(COUNTIF(N$2:N721,N721)=1,N721,\"\")","v":""},{"$f":"+IF(O721=\"\",\"\",MAX(P$1:P720)+1)","v":""},""]
[null,null,null,null,null,null,null,null,{"$f":"IF(LDAR_TT_shutdowns!C44=\"\",\"\",LDAR_TT_shutdowns!C44)","v":""},{"$f":"IF(COUNTIF(I$2:I722,I722)=1,I722,\"\")","v":""},{"$f":"+IF(J722=\"\",\"\",MAX(K$1:K721)+1)","v":""},"",null,{"$f":"IF(LDAR_H_UU_summary!C544=\"\",\"\",LDAR_H_UU_summary!C544)","v":""},{"$f":"IF(COUNTIF(N$2:N722,N722)=1,N722,\"\")","v":""},{"$f":"+IF(O722=\"\",\"\",MAX(P$1:P721)+1)","v":""},""]
[null,null,null,null,null,null,null,null,{"$f":"IF(LDAR_TT_shutdowns!C45=\"\",\"\",LDAR_TT_shutdowns!C45)","v":""},{"$f":"IF(COUNTIF(I$2:I723,I723)=1,I723,\"\")","v":""},{"$f":"+IF(J723=\"\",\"\",MAX(K$1:K722)+1)","v":""},"",null,{"$f":"IF(LDAR_H_UU_summary!C545=\"\",\"\",LDAR_H_UU_summary!C545)","v":""},{"$f":"IF(COUNTIF(N$2:N723,N723)=1,N723,\"\")","v":""},{"$f":"+IF(O723=\"\",\"\",MAX(P$1:P722)+1)","v":""},""]
[null,null,null,null,null,null,null,null,{"$f":"IF(LDAR_TT_shutdowns!C46=\"\",\"\",LDAR_TT_shutdowns!C46)","v":""},{"$f":"IF(COUNTIF(I$2:I724,I724)=1,I724,\"\")","v":""},{"$f":"+IF(J724=\"\",\"\",MAX(K$1:K723)+1)","v":""},"",null,{"$f":"IF(LDAR_H_UU_summary!C546=\"\",\"\",LDAR_H_UU_summary!C546)","v":""},{"$f":"IF(COUNTIF(N$2:N724,N724)=1,N724,\"\")","v":""},{"$f":"+IF(O724=\"\",\"\",MAX(P$1:P723)+1)","v":""},""]
[null,null,null,null,null,null,null,null,{"$f":"IF(LDAR_TT_shutdowns!C47=\"\",\"\",LDAR_TT_shutdowns!C47)","v":""},{"$f":"IF(COUNTIF(I$2:I725,I725)=1,I725,\"\")","v":""},{"$f":"+IF(J725=\"\",\"\",MAX(K$1:K724)+1)","v":""},"",null,{"$f":"IF(LDAR_H_UU_summary!C547=\"\",\"\",LDAR_H_UU_summary!C547)","v":""},{"$f":"IF(COUNTIF(N$2:N725,N725)=1,N725,\"\")","v":""},{"$f":"+IF(O725=\"\",\"\",MAX(P$1:P724)+1)","v":""},""]
[null,null,null,null,null,null,null,null,{"$f":"IF(LDAR_TT_shutdowns!C48=\"\",\"\",LDAR_TT_shutdowns!C48)","v":""},{"$f":"IF(COUNTIF(I$2:I726,I726)=1,I726,\"\")","v":""},{"$f":"+IF(J726=\"\",\"\",MAX(K$1:K725)+1)","v":""},"",null,{"$f":"IF(LDAR_H_UU_summary!C548=\"\",\"\",LDAR_H_UU_summary!C548)","v":""},{"$f":"IF(COUNTIF(N$2:N726,N726)=1,N726,\"\")","v":""},{"$f":"+IF(O726=\"\",\"\",MAX(P$1:P725)+1)","v":""},""]
[null,null,null,null,null,null,null,null,{"$f":"IF(LDAR_TT_shutdowns!C49=\"\",\"\",LDAR_TT_shutdowns!C49)","v":""},{"$f":"IF(COUNTIF(I$2:I727,I727)=1,I727,\"\")","v":""},{"$f":"+IF(J727=\"\",\"\",MAX(K$1:K726)+1)","v":""},"",null,{"$f":"IF(LDAR_H_UU_summary!C549=\"\",\"\",LDAR_H_UU_summary!C549)","v":""},{"$f":"IF(COUNTIF(N$2:N727,N727)=1,N727,\"\")","v":""},{"$f":"+IF(O727=\"\",\"\",MAX(P$1:P726)+1)","v":""},""]
[null,null,null,null,null,null,null,null,{"$f":"IF(LDAR_TT_shutdowns!C50=\"\",\"\",LDAR_TT_shutdowns!C50)","v":""},{"$f":"IF(COUNTIF(I$2:I728,I728)=1,I728,\"\")","v":""},{"$f":"+IF(J728=\"\",\"\",MAX(K$1:K727)+1)","v":""},"",null,{"$f":"IF(LDAR_H_UU_summary!C550=\"\",\"\",LDAR_H_UU_summary!C550)","v":""},{"$f":"IF(COUNTIF(N$2:N728,N728)=1,N728,\"\")","v":""},{"$f":"+IF(O728=\"\",\"\",MAX(P$1:P727)+1)","v":""},""]
[null,null,null,null,null,null,null,null,{"$f":"IF(LDAR_TT_shutdowns!C51=\"\",\"\",LDAR_TT_shutdowns!C51)","v":""},{"$f":"IF(COUNTIF(I$2:I729,I729)=1,I729,\"\")","v":""},{"$f":"+IF(J729=\"\",\"\",MAX(K$1:K728)+1)","v":""},"",null,{"$f":"IF(LDAR_H_UU_summary!C551=\"\",\"\",LDAR_H_UU_summary!C551)","v":""},{"$f":"IF(COUNTIF(N$2:N729,N729)=1,N729,\"\")","v":""},{"$f":"+IF(O729=\"\",\"\",MAX(P$1:P728)+1)","v":""},""]
[null,null,null,null,null,null,null,null,{"$f":"IF(LDAR_TT_shutdowns!C52=\"\",\"\",LDAR_TT_shutdowns!C52)","v":""},{"$f":"IF(COUNTIF(I$2:I730,I730)=1,I730,\"\")","v":""},{"$f":"+IF(J730=\"\",\"\",MAX(K$1:K729)+1)","v":""},"",null,{"$f":"IF(LDAR_H_UU_summary!C552=\"\",\"\",LDAR_H_UU_summary!C552)","v":""},{"$f":"IF(COUNTIF(N$2:N730,N730)=1,N730,\"\")","v":""},{"$f":"+IF(O730=\"\",\"\",MAX(P$1:P729)+1)","v":""},""]
[null,null,null,null,null,null,null,null,{"$f":"IF(LDAR_TT_shutdowns!C53=\"\",\"\",LDAR_TT_shutdowns!C53)","v":""},{"$f":"IF(COUNTIF(I$2:I731,I731)=1,I731,\"\")","v":""},{"$f":"+IF(J731=\"\",\"\",MAX(K$1:K730)+1)","v":""},"",null,{"$f":"IF(LDAR_H_UU_summary!C553=\"\",\"\",LDAR_H_UU_summary!C553)","v":""},{"$f":"IF(COUNTIF(N$2:N731,N731)=1,N731,\"\")","v":""},{"$f":"+IF(O731=\"\",\"\",MAX(P$1:P730)+1)","v":""},""]
[null,null,null,null,null,null,null,null,{"$f":"IF(LDAR_TT_shutdowns!C54=\"\",\"\",LDAR_TT_shutdowns!C54)","v":""},{"$f":"IF(COUNTIF(I$2:I732,I732)=1,I732,\"\")","v":""},{"$f":"+IF(J732=\"\",\"\",MAX(K$1:K731)+1)","v":""},"",null,{"$f":"IF(LDAR_H_UU_summary!C554=\"\",\"\",LDAR_H_UU_summary!C554)","v":""},{"$f":"IF(COUNTIF(N$2:N732,N732)=1,N732,\"\")","v":""},{"$f":"+IF(O732=\"\",\"\",MAX(P$1:P731)+1)","v":""},""]
[null,null,null,null,null,null,null,null,{"$f":"IF(LDAR_TT_shutdowns!C55=\"\",\"\",LDAR_TT_shutdowns!C55)","v":""},{"$f":"IF(COUNTIF(I$2:I733,I733)=1,I733,\"\")","v":""},{"$f":"+IF(J733=\"\",\"\",MAX(K$1:K732)+1)","v":""},"",null,{"$f":"IF(LDAR_H_UU_summary!C555=\"\",\"\",LDAR_H_UU_summary!C555)","v":""},{"$f":"IF(COUNTIF(N$2:N733,N733)=1,N733,\"\")","v":""},{"$f":"+IF(O733=\"\",\"\",MAX(P$1:P732)+1)","v":""},""]
[null,null,null,null,null,null,null,null,{"$f":"IF(LDAR_TT_shutdowns!C56=\"\",\"\",LDAR_TT_shutdowns!C56)","v":""},{"$f":"IF(COUNTIF(I$2:I734,I734)=1,I734,\"\")","v":""},{"$f":"+IF(J734=\"\",\"\",MAX(K$1:K733)+1)","v":""},"",null,{"$f":"IF(LDAR_H_UU_summary!C556=\"\",\"\",LDAR_H_UU_summary!C556)","v":""},{"$f":"IF(COUNTIF(N$2:N734,N734)=1,N734,\"\")","v":""},{"$f":"+IF(O734=\"\",\"\",MAX(P$1:P733)+1)","v":""},""]
[null,null,null,null,null,null,null,null,{"$f":"IF(LDAR_TT_shutdowns!C57=\"\",\"\",LDAR_TT_shutdowns!C57)","v":""},{"$f":"IF(COUNTIF(I$2:I735,I735)=1,I735,\"\")","v":""},{"$f":"+IF(J735=\"\",\"\",MAX(K$1:K734)+1)","v":""},"",null,{"$f":"IF(LDAR_H_UU_summary!C557=\"\",\"\",LDAR_H_UU_summary!C557)","v":""},{"$f":"IF(COUNTIF(N$2:N735,N735)=1,N735,\"\")","v":""},{"$f":"+IF(O735=\"\",\"\",MAX(P$1:P734)+1)","v":""},""]
[null,null,null,null,null,null,null,null,{"$f":"IF(LDAR_TT_shutdowns!C58=\"\",\"\",LDAR_TT_shutdowns!C58)","v":""},{"$f":"IF(COUNTIF(I$2:I736,I736)=1,I736,\"\")","v":""},{"$f":"+IF(J736=\"\",\"\",MAX(K$1:K735)+1)","v":""},"",null,{"$f":"IF(LDAR_H_UU_summary!C558=\"\",\"\",LDAR_H_UU_summary!C558)","v":""},{"$f":"IF(COUNTIF(N$2:N736,N736)=1,N736,\"\")","v":""},{"$f":"+IF(O736=\"\",\"\",MAX(P$1:P735)+1)","v":""},""]
[null,null,null,null,null,null,null,null,{"$f":"IF(LDAR_TT_shutdowns!C59=\"\",\"\",LDAR_TT_shutdowns!C59)","v":""},{"$f":"IF(COUNTIF(I$2:I737,I737)=1,I737,\"\")","v":""},{"$f":"+IF(J737=\"\",\"\",MAX(K$1:K736)+1)","v":""},"",null,{"$f":"IF(LDAR_H_UU_summary!C559=\"\",\"\",LDAR_H_UU_summary!C559)","v":""},{"$f":"IF(COUNTIF(N$2:N737,N737)=1,N737,\"\")","v":""},{"$f":"+IF(O737=\"\",\"\",MAX(P$1:P736)+1)","v":""},""]
[null,null,null,null,null,null,null,null,{"$f":"IF(LDAR_TT_shutdowns!C60=\"\",\"\",LDAR_TT_shutdowns!C60)","v":""},{"$f":"IF(COUNTIF(I$2:I738,I738)=1,I738,\"\")","v":""},{"$f":"+IF(J738=\"\",\"\",MAX(K$1:K737)+1)","v":""},"",null,{"$f":"IF(LDAR_H_UU_summary!C560=\"\",\"\",LDAR_H_UU_summary!C560)","v":""},{"$f":"IF(COUNTIF(N$2:N738,N738)=1,N738,\"\")","v":""},{"$f":"+IF(O738=\"\",\"\",MAX(P$1:P737)+1)","v":""},""]
[null,null,null,null,null,null,null,null,{"$f":"IF(LDAR_TT_shutdowns!C61=\"\",\"\",LDAR_TT_shutdowns!C61)","v":""},{"$f":"IF(COUNTIF(I$2:I739,I739)=1,I739,\"\")","v":""},{"$f":"+IF(J739=\"\",\"\",MAX(K$1:K738)+1)","v":""},"",null,{"$f":"IF(LDAR_H_UU_summary!C561=\"\",\"\",LDAR_H_UU_summary!C561)","v":""},{"$f":"IF(COUNTIF(N$2:N739,N739)=1,N739,\"\")","v":""},{"$f":"+IF(O739=\"\",\"\",MAX(P$1:P738)+1)","v":""},""]
[null,null,null,null,null,null,null,null,{"$f":"IF(LDAR_TT_shutdowns!C62=\"\",\"\",LDAR_TT_shutdowns!C62)","v":""},{"$f":"IF(COUNTIF(I$2:I740,I740)=1,I740,\"\")","v":""},{"$f":"+IF(J740=\"\",\"\",MAX(K$1:K739)+1)","v":""},"",null,{"$f":"IF(LDAR_H_UU_summary!C562=\"\",\"\",LDAR_H_UU_summary!C562)","v":""},{"$f":"IF(COUNTIF(N$2:N740,N740)=1,N740,\"\")","v":""},{"$f":"+IF(O740=\"\",\"\",MAX(P$1:P739)+1)","v":""},""]
[null,null,null,null,null,null,null,null,{"$f":"IF(LDAR_TT_shutdowns!C63=\"\",\"\",LDAR_TT_shutdowns!C63)","v":""},{"$f":"IF(COUNTIF(I$2:I741,I741)=1,I741,\"\")","v":""},{"$f":"+IF(J741=\"\",\"\",MAX(K$1:K740)+1)","v":""},"",null,{"$f":"IF(LDAR_H_UU_summary!C563=\"\",\"\",LDAR_H_UU_summary!C563)","v":""},{"$f":"IF(COUNTIF(N$2:N741,N741)=1,N741,\"\")","v":""},{"$f":"+IF(O741=\"\",\"\",MAX(P$1:P740)+1)","v":""},""]
[null,null,null,null,null,null,null,null,{"$f":"IF(LDAR_TT_shutdowns!C64=\"\",\"\",LDAR_TT_shutdowns!C64)","v":""},{"$f":"IF(COUNTIF(I$2:I742,I742)=1,I742,\"\")","v":""},{"$f":"+IF(J742=\"\",\"\",MAX(K$1:K741)+1)","v":""},"",null,{"$f":"IF(LDAR_H_UU_summary!C564=\"\",\"\",LDAR_H_UU_summary!C564)","v":""},{"$f":"IF(COUNTIF(N$2:N742,N742)=1,N742,\"\")","v":""},{"$f":"+IF(O742=\"\",\"\",MAX(P$1:P741)+1)","v":""},""]
[null,null,null,null,null,null,null,null,{"$f":"IF(LDAR_TT_shutdowns!C65=\"\",\"\",LDAR_TT_shutdowns!C65)","v":""},{"$f":"IF(COUNTIF(I$2:I743,I743)=1,I743,\"\")","v":""},{"$f":"+IF(J743=\"\",\"\",MAX(K$1:K742)+1)","v":""},"",null,{"$f":"IF(LDAR_H_UU_summary!C565=\"\",\"\",LDAR_H_UU_summary!C565)","v":""},{"$f":"IF(COUNTIF(N$2:N743,N743)=1,N743,\"\")","v":""},{"$f":"+IF(O743=\"\",\"\",MAX(P$1:P742)+1)","v":""},""]
[null,null,null,null,null,null,null,null,{"$f":"IF(LDAR_TT_shutdowns!C66=\"\",\"\",LDAR_TT_shutdowns!C66)","v":""},{"$f":"IF(COUNTIF(I$2:I744,I744)=1,I744,\"\")","v":""},{"$f":"+IF(J744=\"\",\"\",MAX(K$1:K743)+1)","v":""},"",null,{"$f":"IF(LDAR_H_UU_summary!C566=\"\",\"\",LDAR_H_UU_summary!C566)","v":""},{"$f":"IF(COUNTIF(N$2:N744,N744)=1,N744,\"\")","v":""},{"$f":"+IF(O744=\"\",\"\",MAX(P$1:P743)+1)","v":""},""]
[null,null,null,null,null,null,null,null,{"$f":"IF(LDAR_TT_shutdowns!C67=\"\",\"\",LDAR_TT_shutdowns!C67)","v":""},{"$f":"IF(COUNTIF(I$2:I745,I745)=1,I745,\"\")","v":""},{"$f":"+IF(J745=\"\",\"\",MAX(K$1:K744)+1)","v":""},"",null,{"$f":"IF(LDAR_H_UU_summary!C567=\"\",\"\",LDAR_H_UU_summary!C567)","v":""},{"$f":"IF(COUNTIF(N$2:N745,N745)=1,N745,\"\")","v":""},{"$f":"+IF(O745=\"\",\"\",MAX(P$1:P744)+1)","v":""},""]
[null,null,null,null,null,null,null,null,{"$f":"IF(LDAR_TT_shutdowns!C68=\"\",\"\",LDAR_TT_shutdowns!C68)","v":""},{"$f":"IF(COUNTIF(I$2:I746,I746)=1,I746,\"\")","v":""},{"$f":"+IF(J746=\"\",\"\",MAX(K$1:K745)+1)","v":""},"",null,{"$f":"IF(LDAR_H_UU_summary!C568=\"\",\"\",LDAR_H_UU_summary!C568)","v":""},{"$f":"IF(COUNTIF(N$2:N746,N746)=1,N746,\"\")","v":""},{"$f":"+IF(O746=\"\",\"\",MAX(P$1:P745)+1)","v":""},""]
[null,null,null,null,null,null,null,null,{"$f":"IF(LDAR_TT_shutdowns!C69=\"\",\"\",LDAR_TT_shutdowns!C69)","v":""},{"$f":"IF(COUNTIF(I$2:I747,I747)=1,I747,\"\")","v":""},{"$f":"+IF(J747=\"\",\"\",MAX(K$1:K746)+1)","v":""},"",null,{"$f":"IF(LDAR_H_UU_summary!C569=\"\",\"\",LDAR_H_UU_summary!C569)","v":""},{"$f":"IF(COUNTIF(N$2:N747,N747)=1,N747,\"\")","v":""},{"$f":"+IF(O747=\"\",\"\",MAX(P$1:P746)+1)","v":""},""]
[null,null,null,null,null,null,null,null,{"$f":"IF(LDAR_TT_shutdowns!C70=\"\",\"\",LDAR_TT_shutdowns!C70)","v":""},{"$f":"IF(COUNTIF(I$2:I748,I748)=1,I748,\"\")","v":""},{"$f":"+IF(J748=\"\",\"\",MAX(K$1:K747)+1)","v":""},"",null,{"$f":"IF(LDAR_H_UU_summary!C570=\"\",\"\",LDAR_H_UU_summary!C570)","v":""},{"$f":"IF(COUNTIF(N$2:N748,N748)=1,N748,\"\")","v":""},{"$f":"+IF(O748=\"\",\"\",MAX(P$1:P747)+1)","v":""},""]
[null,null,null,null,null,null,null,null,{"$f":"IF(LDAR_TT_shutdowns!C71=\"\",\"\",LDAR_TT_shutdowns!C71)","v":""},{"$f":"IF(COUNTIF(I$2:I749,I749)=1,I749,\"\")","v":""},{"$f":"+IF(J749=\"\",\"\",MAX(K$1:K748)+1)","v":""},"",null,{"$f":"IF(LDAR_H_UU_summary!C571=\"\",\"\",LDAR_H_UU_summary!C571)","v":""},{"$f":"IF(COUNTIF(N$2:N749,N749)=1,N749,\"\")","v":""},{"$f":"+IF(O749=\"\",\"\",MAX(P$1:P748)+1)","v":""},""]
[null,null,null,null,null,null,null,null,{"$f":"IF(LDAR_TT_shutdowns!C72=\"\",\"\",LDAR_TT_shutdowns!C72)","v":""},{"$f":"IF(COUNTIF(I$2:I750,I750)=1,I750,\"\")","v":""},{"$f":"+IF(J750=\"\",\"\",MAX(K$1:K749)+1)","v":""},{"$f":"+IFERROR(INDEX($I$2:$I$801,MATCH(ROW()-ROW($K$1),$K$2:$K$801,0)),\"\")","v":""},null,{"$f":"IF(LDAR_H_UU_summary!C572=\"\",\"\",LDAR_H_UU_summary!C572)","v":""},{"$f":"IF(COUNTIF(N$2:N750,N750)=1,N750,\"\")","v":""},{"$f":"+IF(O750=\"\",\"\",MAX(P$1:P749)+1)","v":""},""]
[null,null,null,null,null,null,null,null,{"$f":"IF(LDAR_TT_shutdowns!C73=\"\",\"\",LDAR_TT_shutdowns!C73)","v":""},{"$f":"IF(COUNTIF(I$2:I751,I751)=1,I751,\"\")","v":""},{"$f":"+IF(J751=\"\",\"\",MAX(K$1:K750)+1)","v":""},"",null,{"$f":"IF(LDAR_H_UU_summary!C573=\"\",\"\",LDAR_H_UU_summary!C573)","v":""},{"$f":"IF(COUNTIF(N$2:N751,N751)=1,N751,\"\")","v":""},{"$f":"+IF(O751=\"\",\"\",MAX(P$1:P750)+1)","v":""},""]
[null,null,null,null,null,null,null,null,{"$f":"IF(LDAR_TT_shutdowns!C74=\"\",\"\",LDAR_TT_shutdowns!C74)","v":""},{"$f":"IF(COUNTIF(I$2:I752,I752)=1,I752,\"\")","v":""},{"$f":"+IF(J752=\"\",\"\",MAX(K$1:K751)+1)","v":""},"",null,{"$f":"IF(LDAR_H_UU_summary!C574=\"\",\"\",LDAR_H_UU_summary!C574)","v":""},{"$f":"IF(COUNTIF(N$2:N752,N752)=1,N752,\"\")","v":""},{"$f":"+IF(O752=\"\",\"\",MAX(P$1:P751)+1)","v":""},""]
[null,null,null,null,null,null,null,null,{"$f":"IF(LDAR_TT_shutdowns!C75=\"\",\"\",LDAR_TT_shutdowns!C75)","v":""},{"$f":"IF(COUNTIF(I$2:I753,I753)=1,I753,\"\")","v":""},{"$f":"+IF(J753=\"\",\"\",MAX(K$1:K752)+1)","v":""},"",null,{"$f":"IF(LDAR_H_UU_summary!C575=\"\",\"\",LDAR_H_UU_summary!C575)","v":""},{"$f":"IF(COUNTIF(N$2:N753,N753)=1,N753,\"\")","v":""},{"$f":"+IF(O753=\"\",\"\",MAX(P$1:P752)+1)","v":""},""]
[null,null,null,null,null,null,null,null,{"$f":"IF(LDAR_TT_shutdowns!C76=\"\",\"\",LDAR_TT_shutdowns!C76)","v":""},{"$f":"IF(COUNTIF(I$2:I754,I754)=1,I754,\"\")","v":""},{"$f":"+IF(J754=\"\",\"\",MAX(K$1:K753)+1)","v":""},"",null,{"$f":"IF(LDAR_H_UU_summary!C576=\"\",\"\",LDAR_H_UU_summary!C576)","v":""},{"$f":"IF(COUNTIF(N$2:N754,N754)=1,N754,\"\")","v":""},{"$f":"+IF(O754=\"\",\"\",MAX(P$1:P753)+1)","v":""},""]
[null,null,null,null,null,null,null,null,{"$f":"IF(LDAR_TT_shutdowns!C77=\"\",\"\",LDAR_TT_shutdowns!C77)","v":""},{"$f":"IF(COUNTIF(I$2:I755,I755)=1,I755,\"\")","v":""},{"$f":"+IF(J755=\"\",\"\",MAX(K$1:K754)+1)","v":""},"",null,{"$f":"IF(LDAR_H_UU_summary!C577=\"\",\"\",LDAR_H_UU_summary!C577)","v":""},{"$f":"IF(COUNTIF(N$2:N755,N755)=1,N755,\"\")","v":""},{"$f":"+IF(O755=\"\",\"\",MAX(P$1:P754)+1)","v":""},""]
[null,null,null,null,null,null,null,null,{"$f":"IF(LDAR_TT_shutdowns!C78=\"\",\"\",LDAR_TT_shutdowns!C78)","v":""},{"$f":"IF(COUNTIF(I$2:I756,I756)=1,I756,\"\")","v":""},{"$f":"+IF(J756=\"\",\"\",MAX(K$1:K755)+1)","v":""},"",null,{"$f":"IF(LDAR_H_UU_summary!C578=\"\",\"\",LDAR_H_UU_summary!C578)","v":""},{"$f":"IF(COUNTIF(N$2:N756,N756)=1,N756,\"\")","v":""},{"$f":"+IF(O756=\"\",\"\",MAX(P$1:P755)+1)","v":""},""]
[null,null,null,null,null,null,null,null,{"$f":"IF(LDAR_TT_shutdowns!C79=\"\",\"\",LDAR_TT_shutdowns!C79)","v":""},{"$f":"IF(COUNTIF(I$2:I757,I757)=1,I757,\"\")","v":""},{"$f":"+IF(J757=\"\",\"\",MAX(K$1:K756)+1)","v":""},"",null,{"$f":"IF(LDAR_H_UU_summary!C579=\"\",\"\",LDAR_H_UU_summary!C579)","v":""},{"$f":"IF(COUNTIF(N$2:N757,N757)=1,N757,\"\")","v":""},{"$f":"+IF(O757=\"\",\"\",MAX(P$1:P756)+1)","v":""},""]
[null,null,null,null,null,null,null,null,{"$f":"IF(LDAR_TT_shutdowns!C80=\"\",\"\",LDAR_TT_shutdowns!C80)","v":""},{"$f":"IF(COUNTIF(I$2:I758,I758)=1,I758,\"\")","v":""},{"$f":"+IF(J758=\"\",\"\",MAX(K$1:K757)+1)","v":""},"",null,{"$f":"IF(LDAR_H_UU_summary!C580=\"\",\"\",LDAR_H_UU_summary!C580)","v":""},{"$f":"IF(COUNTIF(N$2:N758,N758)=1,N758,\"\")","v":""},{"$f":"+IF(O758=\"\",\"\",MAX(P$1:P757)+1)","v":""},""]
[null,null,null,null,null,null,null,null,{"$f":"IF(LDAR_TT_shutdowns!C81=\"\",\"\",LDAR_TT_shutdowns!C81)","v":""},{"$f":"IF(COUNTIF(I$2:I759,I759)=1,I759,\"\")","v":""},{"$f":"+IF(J759=\"\",\"\",MAX(K$1:K758)+1)","v":""},"",null,{"$f":"IF(LDAR_H_UU_summary!C581=\"\",\"\",LDAR_H_UU_summary!C581)","v":""},{"$f":"IF(COUNTIF(N$2:N759,N759)=1,N759,\"\")","v":""},{"$f":"+IF(O759=\"\",\"\",MAX(P$1:P758)+1)","v":""},""]
[null,null,null,null,null,null,null,null,{"$f":"IF(LDAR_TT_shutdowns!C82=\"\",\"\",LDAR_TT_shutdowns!C82)","v":""},{"$f":"IF(COUNTIF(I$2:I760,I760)=1,I760,\"\")","v":""},{"$f":"+IF(J760=\"\",\"\",MAX(K$1:K759)+1)","v":""},"",null,{"$f":"IF(LDAR_H_UU_summary!C582=\"\",\"\",LDAR_H_UU_summary!C582)","v":""},{"$f":"IF(COUNTIF(N$2:N760,N760)=1,N760,\"\")","v":""},{"$f":"+IF(O760=\"\",\"\",MAX(P$1:P759)+1)","v":""},""]
[null,null,null,null,null,null,null,null,{"$f":"IF(LDAR_TT_shutdowns!C83=\"\",\"\",LDAR_TT_shutdowns!C83)","v":""},{"$f":"IF(COUNTIF(I$2:I761,I761)=1,I761,\"\")","v":""},{"$f":"+IF(J761=\"\",\"\",MAX(K$1:K760)+1)","v":""},"",null,{"$f":"IF(LDAR_H_UU_summary!C583=\"\",\"\",LDAR_H_UU_summary!C583)","v":""},{"$f":"IF(COUNTIF(N$2:N761,N761)=1,N761,\"\")","v":""},{"$f":"+IF(O761=\"\",\"\",MAX(P$1:P760)+1)","v":""},""]
[null,null,null,null,null,null,null,null,{"$f":"IF(LDAR_TT_shutdowns!C84=\"\",\"\",LDAR_TT_shutdowns!C84)","v":""},{"$f":"IF(COUNTIF(I$2:I762,I762)=1,I762,\"\")","v":""},{"$f":"+IF(J762=\"\",\"\",MAX(K$1:K761)+1)","v":""},"",null,{"$f":"IF(LDAR_H_UU_summary!C584=\"\",\"\",LDAR_H_UU_summary!C584)","v":""},{"$f":"IF(COUNTIF(N$2:N762,N762)=1,N762,\"\")","v":""},{"$f":"+IF(O762=\"\",\"\",MAX(P$1:P761)+1)","v":""},""]
[null,null,null,null,null,null,null,null,{"$f":"IF(LDAR_TT_shutdowns!C85=\"\",\"\",LDAR_TT_shutdowns!C85)","v":""},{"$f":"IF(COUNTIF(I$2:I763,I763)=1,I763,\"\")","v":""},{"$f":"+IF(J763=\"\",\"\",MAX(K$1:K762)+1)","v":""},"",null,{"$f":"IF(LDAR_H_UU_summary!C585=\"\",\"\",LDAR_H_UU_summary!C585)","v":""},{"$f":"IF(COUNTIF(N$2:N763,N763)=1,N763,\"\")","v":""},{"$f":"+IF(O763=\"\",\"\",MAX(P$1:P762)+1)","v":""},""]
[null,null,null,null,null,null,null,null,{"$f":"IF(LDAR_TT_shutdowns!C86=\"\",\"\",LDAR_TT_shutdowns!C86)","v":""},{"$f":"IF(COUNTIF(I$2:I764,I764)=1,I764,\"\")","v":""},{"$f":"+IF(J764=\"\",\"\",MAX(K$1:K763)+1)","v":""},"",null,{"$f":"IF(LDAR_H_UU_summary!C586=\"\",\"\",LDAR_H_UU_summary!C586)","v":""},{"$f":"IF(COUNTIF(N$2:N764,N764)=1,N764,\"\")","v":""},{"$f":"+IF(O764=\"\",\"\",MAX(P$1:P763)+1)","v":""},""]
[null,null,null,null,null,null,null,null,{"$f":"IF(LDAR_TT_shutdowns!C87=\"\",\"\",LDAR_TT_shutdowns!C87)","v":""},{"$f":"IF(COUNTIF(I$2:I765,I765)=1,I765,\"\")","v":""},{"$f":"+IF(J765=\"\",\"\",MAX(K$1:K764)+1)","v":""},"",null,{"$f":"IF(LDAR_H_UU_summary!C587=\"\",\"\",LDAR_H_UU_summary!C587)","v":""},{"$f":"IF(COUNTIF(N$2:N765,N765)=1,N765,\"\")","v":""},{"$f":"+IF(O765=\"\",\"\",MAX(P$1:P764)+1)","v":""},""]
[null,null,null,null,null,null,null,null,{"$f":"IF(LDAR_TT_shutdowns!C88=\"\",\"\",LDAR_TT_shutdowns!C88)","v":""},{"$f":"IF(COUNTIF(I$2:I766,I766)=1,I766,\"\")","v":""},{"$f":"+IF(J766=\"\",\"\",MAX(K$1:K765)+1)","v":""},"",null,{"$f":"IF(LDAR_H_UU_summary!C588=\"\",\"\",LDAR_H_UU_summary!C588)","v":""},{"$f":"IF(COUNTIF(N$2:N766,N766)=1,N766,\"\")","v":""},{"$f":"+IF(O766=\"\",\"\",MAX(P$1:P765)+1)","v":""},""]
[null,null,null,null,null,null,null,null,{"$f":"IF(LDAR_TT_shutdowns!C89=\"\",\"\",LDAR_TT_shutdowns!C89)","v":""},{"$f":"IF(COUNTIF(I$2:I767,I767)=1,I767,\"\")","v":""},{"$f":"+IF(J767=\"\",\"\",MAX(K$1:K766)+1)","v":""},"",null,{"$f":"IF(LDAR_H_UU_summary!C589=\"\",\"\",LDAR_H_UU_summary!C589)","v":""},{"$f":"IF(COUNTIF(N$2:N767,N767)=1,N767,\"\")","v":""},{"$f":"+IF(O767=\"\",\"\",MAX(P$1:P766)+1)","v":""},""]
[null,null,null,null,null,null,null,null,{"$f":"IF(LDAR_TT_shutdowns!C90=\"\",\"\",LDAR_TT_shutdowns!C90)","v":""},{"$f":"IF(COUNTIF(I$2:I768,I768)=1,I768,\"\")","v":""},{"$f":"+IF(J768=\"\",\"\",MAX(K$1:K767)+1)","v":""},"",null,{"$f":"IF(LDAR_H_UU_summary!C590=\"\",\"\",LDAR_H_UU_summary!C590)","v":""},{"$f":"IF(COUNTIF(N$2:N768,N768)=1,N768,\"\")","v":""},{"$f":"+IF(O768=\"\",\"\",MAX(P$1:P767)+1)","v":""},""]
[null,null,null,null,null,null,null,null,{"$f":"IF(LDAR_TT_shutdowns!C91=\"\",\"\",LDAR_TT_shutdowns!C91)","v":""},{"$f":"IF(COUNTIF(I$2:I769,I769)=1,I769,\"\")","v":""},{"$f":"+IF(J769=\"\",\"\",MAX(K$1:K768)+1)","v":""},"",null,{"$f":"IF(LDAR_H_UU_summary!C591=\"\",\"\",LDAR_H_UU_summary!C591)","v":""},{"$f":"IF(COUNTIF(N$2:N769,N769)=1,N769,\"\")","v":""},{"$f":"+IF(O769=\"\",\"\",MAX(P$1:P768)+1)","v":""},""]
[null,null,null,null,null,null,null,null,{"$f":"IF(LDAR_TT_shutdowns!C92=\"\",\"\",LDAR_TT_shutdowns!C92)","v":""},{"$f":"IF(COUNTIF(I$2:I770,I770)=1,I770,\"\")","v":""},{"$f":"+IF(J770=\"\",\"\",MAX(K$1:K769)+1)","v":""},"",null,{"$f":"IF(LDAR_H_UU_summary!C592=\"\",\"\",LDAR_H_UU_summary!C592)","v":""},{"$f":"IF(COUNTIF(N$2:N770,N770)=1,N770,\"\")","v":""},{"$f":"+IF(O770=\"\",\"\",MAX(P$1:P769)+1)","v":""},""]
[null,null,null,null,null,null,null,null,{"$f":"IF(LDAR_TT_shutdowns!C93=\"\",\"\",LDAR_TT_shutdowns!C93)","v":""},{"$f":"IF(COUNTIF(I$2:I771,I771)=1,I771,\"\")","v":""},{"$f":"+IF(J771=\"\",\"\",MAX(K$1:K770)+1)","v":""},"",null,{"$f":"IF(LDAR_H_UU_summary!C593=\"\",\"\",LDAR_H_UU_summary!C593)","v":""},{"$f":"IF(COUNTIF(N$2:N771,N771)=1,N771,\"\")","v":""},{"$f":"+IF(O771=\"\",\"\",MAX(P$1:P770)+1)","v":""},{"$f":"+IFERROR(INDEX($N$2:$N$2001,MATCH(ROW()-ROW($P$1),$P$2:$P$2001,0)),\"\")","v":""}]
[null,null,null,null,null,null,null,null,{"$f":"IF(LDAR_TT_shutdowns!C94=\"\",\"\",LDAR_TT_shutdowns!C94)","v":""},{"$f":"IF(COUNTIF(I$2:I772,I772)=1,I772,\"\")","v":""},{"$f":"+IF(J772=\"\",\"\",MAX(K$1:K771)+1)","v":""},"",null,{"$f":"IF(LDAR_H_UU_summary!C594=\"\",\"\",LDAR_H_UU_summary!C594)","v":""},{"$f":"IF(COUNTIF(N$2:N772,N772)=1,N772,\"\")","v":""},{"$f":"+IF(O772=\"\",\"\",MAX(P$1:P771)+1)","v":""},""]
[null,null,null,null,null,null,null,null,{"$f":"IF(LDAR_TT_shutdowns!C95=\"\",\"\",LDAR_TT_shutdowns!C95)","v":""},{"$f":"IF(COUNTIF(I$2:I773,I773)=1,I773,\"\")","v":""},{"$f":"+IF(J773=\"\",\"\",MAX(K$1:K772)+1)","v":""},"",null,{"$f":"IF(LDAR_H_UU_summary!C595=\"\",\"\",LDAR_H_UU_summary!C595)","v":""},{"$f":"IF(COUNTIF(N$2:N773,N773)=1,N773,\"\")","v":""},{"$f":"+IF(O773=\"\",\"\",MAX(P$1:P772)+1)","v":""},""]
[null,null,null,null,null,null,null,null,{"$f":"IF(LDAR_TT_shutdowns!C96=\"\",\"\",LDAR_TT_shutdowns!C96)","v":""},{"$f":"IF(COUNTIF(I$2:I774,I774)=1,I774,\"\")","v":""},{"$f":"+IF(J774=\"\",\"\",MAX(K$1:K773)+1)","v":""},"",null,{"$f":"IF(LDAR_H_UU_summary!C596=\"\",\"\",LDAR_H_UU_summary!C596)","v":""},{"$f":"IF(COUNTIF(N$2:N774,N774)=1,N774,\"\")","v":""},{"$f":"+IF(O774=\"\",\"\",MAX(P$1:P773)+1)","v":""},""]
[null,null,null,null,null,null,null,null,{"$f":"IF(LDAR_TT_shutdowns!C97=\"\",\"\",LDAR_TT_shutdowns!C97)","v":""},{"$f":"IF(COUNTIF(I$2:I775,I775)=1,I775,\"\")","v":""},{"$f":"+IF(J775=\"\",\"\",MAX(K$1:K774)+1)","v":""},"",null,{"$f":"IF(LDAR_H_UU_summary!C597=\"\",\"\",LDAR_H_UU_summary!C597)","v":""},{"$f":"IF(COUNTIF(N$2:N775,N775)=1,N775,\"\")","v":""},{"$f":"+IF(O775=\"\",\"\",MAX(P$1:P774)+1)","v":""},""]
[null,null,null,null,null,null,null,null,{"$f":"IF(LDAR_TT_shutdowns!C98=\"\",\"\",LDAR_TT_shutdowns!C98)","v":""},{"$f":"IF(COUNTIF(I$2:I776,I776)=1,I776,\"\")","v":""},{"$f":"+IF(J776=\"\",\"\",MAX(K$1:K775)+1)","v":""},"",null,{"$f":"IF(LDAR_H_UU_summary!C598=\"\",\"\",LDAR_H_UU_summary!C598)","v":""},{"$f":"IF(COUNTIF(N$2:N776,N776)=1,N776,\"\")","v":""},{"$f":"+IF(O776=\"\",\"\",MAX(P$1:P775)+1)","v":""},""]
[null,null,null,null,null,null,null,null,{"$f":"IF(LDAR_TT_shutdowns!C99=\"\",\"\",LDAR_TT_shutdowns!C99)","v":""},{"$f":"IF(COUNTIF(I$2:I777,I777)=1,I777,\"\")","v":""},{"$f":"+IF(J777=\"\",\"\",MAX(K$1:K776)+1)","v":""},"",null,{"$f":"IF(LDAR_H_UU_summary!C599=\"\",\"\",LDAR_H_UU_summary!C599)","v":""},{"$f":"IF(COUNTIF(N$2:N777,N777)=1,N777,\"\")","v":""},{"$f":"+IF(O777=\"\",\"\",MAX(P$1:P776)+1)","v":""},""]
[null,null,null,null,null,null,null,null,{"$f":"IF(LDAR_TT_shutdowns!C100=\"\",\"\",LDAR_TT_shutdowns!C100)","v":""},{"$f":"IF(COUNTIF(I$2:I778,I778)=1,I778,\"\")","v":""},{"$f":"+IF(J778=\"\",\"\",MAX(K$1:K777)+1)","v":""},"",null,{"$f":"IF(LDAR_H_UU_summary!C600=\"\",\"\",LDAR_H_UU_summary!C600)","v":""},{"$f":"IF(COUNTIF(N$2:N778,N778)=1,N778,\"\")","v":""},{"$f":"+IF(O778=\"\",\"\",MAX(P$1:P777)+1)","v":""},""]
[null,null,null,null,null,null,null,null,{"$f":"IF(LDAR_TT_shutdowns!C101=\"\",\"\",LDAR_TT_shutdowns!C101)","v":""},{"$f":"IF(COUNTIF(I$2:I779,I779)=1,I779,\"\")","v":""},{"$f":"+IF(J779=\"\",\"\",MAX(K$1:K778)+1)","v":""},"",null,{"$f":"IF(LDAR_H_UU_summary!C601=\"\",\"\",LDAR_H_UU_summary!C601)","v":""},{"$f":"IF(COUNTIF(N$2:N779,N779)=1,N779,\"\")","v":""},{"$f":"+IF(O779=\"\",\"\",MAX(P$1:P778)+1)","v":""},""]
[null,null,null,null,null,null,null,null,{"$f":"IF(LDAR_TT_shutdowns!C102=\"\",\"\",LDAR_TT_shutdowns!C102)","v":""},{"$f":"IF(COUNTIF(I$2:I780,I780)=1,I780,\"\")","v":""},{"$f":"+IF(J780=\"\",\"\",MAX(K$1:K779)+1)","v":""},"",null,{"$f":"IF(LDAR_H_UU_summary!C602=\"\",\"\",LDAR_H_UU_summary!C602)","v":""},{"$f":"IF(COUNTIF(N$2:N780,N780)=1,N780,\"\")","v":""},{"$f":"+IF(O780=\"\",\"\",MAX(P$1:P779)+1)","v":""},""]
[null,null,null,null,null,null,null,null,{"$f":"IF(LDAR_TT_shutdowns!C103=\"\",\"\",LDAR_TT_shutdowns!C103)","v":""},{"$f":"IF(COUNTIF(I$2:I781,I781)=1,I781,\"\")","v":""},{"$f":"+IF(J781=\"\",\"\",MAX(K$1:K780)+1)","v":""},"",null,{"$f":"IF(LDAR_H_UU_summary!C603=\"\",\"\",LDAR_H_UU_summary!C603)","v":""},{"$f":"IF(COUNTIF(N$2:N781,N781)=1,N781,\"\")","v":""},{"$f":"+IF(O781=\"\",\"\",MAX(P$1:P780)+1)","v":""},""]
[null,null,null,null,null,null,null,null,{"$f":"IF(LDAR_TT_shutdowns!C104=\"\",\"\",LDAR_TT_shutdowns!C104)","v":""},{"$f":"IF(COUNTIF(I$2:I782,I782)=1,I782,\"\")","v":""},{"$f":"+IF(J782=\"\",\"\",MAX(K$1:K781)+1)","v":""},"",null,{"$f":"IF(LDAR_H_UU_summary!C604=\"\",\"\",LDAR_H_UU_summary!C604)","v":""},{"$f":"IF(COUNTIF(N$2:N782,N782)=1,N782,\"\")","v":""},{"$f":"+IF(O782=\"\",\"\",MAX(P$1:P781)+1)","v":""},""]
[null,null,null,null,null,null,null,null,{"$f":"IF(LDAR_TT_shutdowns!C105=\"\",\"\",LDAR_TT_shutdowns!C105)","v":""},{"$f":"IF(COUNTIF(I$2:I783,I783)=1,I783,\"\")","v":""},{"$f":"+IF(J783=\"\",\"\",MAX(K$1:K782)+1)","v":""},"",null,{"$f":"IF(LDAR_H_UU_summary!C605=\"\",\"\",LDAR_H_UU_summary!C605)","v":""},{"$f":"IF(COUNTIF(N$2:N783,N783)=1,N783,\"\")","v":""},{"$f":"+IF(O783=\"\",\"\",MAX(P$1:P782)+1)","v":""},""]
[null,null,null,null,null,null,null,null,{"$f":"IF(LDAR_TT_shutdowns!C106=\"\",\"\",LDAR_TT_shutdowns!C106)","v":""},{"$f":"IF(COUNTIF(I$2:I784,I784)=1,I784,\"\")","v":""},{"$f":"+IF(J784=\"\",\"\",MAX(K$1:K783)+1)","v":""},"",null,{"$f":"IF(LDAR_H_UU_summary!C606=\"\",\"\",LDAR_H_UU_summary!C606)","v":""},{"$f":"IF(COUNTIF(N$2:N784,N784)=1,N784,\"\")","v":""},{"$f":"+IF(O784=\"\",\"\",MAX(P$1:P783)+1)","v":""},""]
[null,null,null,null,null,null,null,null,{"$f":"IF(LDAR_TT_shutdowns!C107=\"\",\"\",LDAR_TT_shutdowns!C107)","v":""},{"$f":"IF(COUNTIF(I$2:I785,I785)=1,I785,\"\")","v":""},{"$f":"+IF(J785=\"\",\"\",MAX(K$1:K784)+1)","v":""},"",null,{"$f":"IF(LDAR_H_UU_summary!C607=\"\",\"\",LDAR_H_UU_summary!C607)","v":""},{"$f":"IF(COUNTIF(N$2:N785,N785)=1,N785,\"\")","v":""},{"$f":"+IF(O785=\"\",\"\",MAX(P$1:P784)+1)","v":""},""]
[null,null,null,null,null,null,null,null,{"$f":"IF(LDAR_TT_shutdowns!C108=\"\",\"\",LDAR_TT_shutdowns!C108)","v":""},{"$f":"IF(COUNTIF(I$2:I786,I786)=1,I786,\"\")","v":""},{"$f":"+IF(J786=\"\",\"\",MAX(K$1:K785)+1)","v":""},"",null,{"$f":"IF(LDAR_H_UU_summary!C608=\"\",\"\",LDAR_H_UU_summary!C608)","v":""},{"$f":"IF(COUNTIF(N$2:N786,N786)=1,N786,\"\")","v":""},{"$f":"+IF(O786=\"\",\"\",MAX(P$1:P785)+1)","v":""},""]
[null,null,null,null,null,null,null,null,{"$f":"IF(LDAR_TT_shutdowns!C109=\"\",\"\",LDAR_TT_shutdowns!C109)","v":""},{"$f":"IF(COUNTIF(I$2:I787,I787)=1,I787,\"\")","v":""},{"$f":"+IF(J787=\"\",\"\",MAX(K$1:K786)+1)","v":""},"",null,{"$f":"IF(LDAR_H_UU_summary!C609=\"\",\"\",LDAR_H_UU_summary!C609)","v":""},{"$f":"IF(COUNTIF(N$2:N787,N787)=1,N787,\"\")","v":""},{"$f":"+IF(O787=\"\",\"\",MAX(P$1:P786)+1)","v":""},""]
[null,null,null,null,null,null,null,null,{"$f":"IF(LDAR_TT_shutdowns!C110=\"\",\"\",LDAR_TT_shutdowns!C110)","v":""},{"$f":"IF(COUNTIF(I$2:I788,I788)=1,I788,\"\")","v":""},{"$f":"+IF(J788=\"\",\"\",MAX(K$1:K787)+1)","v":""},"",null,{"$f":"IF(LDAR_H_UU_summary!C610=\"\",\"\",LDAR_H_UU_summary!C610)","v":""},{"$f":"IF(COUNTIF(N$2:N788,N788)=1,N788,\"\")","v":""},{"$f":"+IF(O788=\"\",\"\",MAX(P$1:P787)+1)","v":""},""]
[null,null,null,null,null,null,null,null,{"$f":"IF(LDAR_TT_shutdowns!C111=\"\",\"\",LDAR_TT_shutdowns!C111)","v":""},{"$f":"IF(COUNTIF(I$2:I789,I789)=1,I789,\"\")","v":""},{"$f":"+IF(J789=\"\",\"\",MAX(K$1:K788)+1)","v":""},"",null,{"$f":"IF(LDAR_H_UU_summary!C611=\"\",\"\",LDAR_H_UU_summary!C611)","v":""},{"$f":"IF(COUNTIF(N$2:N789,N789)=1,N789,\"\")","v":""},{"$f":"+IF(O789=\"\",\"\",MAX(P$1:P788)+1)","v":""},""]
[null,null,null,null,null,null,null,null,{"$f":"IF(LDAR_TT_shutdowns!C112=\"\",\"\",LDAR_TT_shutdowns!C112)","v":""},{"$f":"IF(COUNTIF(I$2:I790,I790)=1,I790,\"\")","v":""},{"$f":"+IF(J790=\"\",\"\",MAX(K$1:K789)+1)","v":""},"",null,{"$f":"IF(LDAR_H_UU_summary!C612=\"\",\"\",LDAR_H_UU_summary!C612)","v":""},{"$f":"IF(COUNTIF(N$2:N790,N790)=1,N790,\"\")","v":""},{"$f":"+IF(O790=\"\",\"\",MAX(P$1:P789)+1)","v":""},""]
[null,null,null,null,null,null,null,null,{"$f":"IF(LDAR_TT_shutdowns!C113=\"\",\"\",LDAR_TT_shutdowns!C113)","v":""},{"$f":"IF(COUNTIF(I$2:I791,I791)=1,I791,\"\")","v":""},{"$f":"+IF(J791=\"\",\"\",MAX(K$1:K790)+1)","v":""},"",null,{"$f":"IF(LDAR_H_UU_summary!C613=\"\",\"\",LDAR_H_UU_summary!C613)","v":""},{"$f":"IF(COUNTIF(N$2:N791,N791)=1,N791,\"\")","v":""},{"$f":"+IF(O791=\"\",\"\",MAX(P$1:P790)+1)","v":""},""]
[null,null,null,null,null,null,null,null,{"$f":"IF(LDAR_TT_shutdowns!C114=\"\",\"\",LDAR_TT_shutdowns!C114)","v":""},{"$f":"IF(COUNTIF(I$2:I792,I792)=1,I792,\"\")","v":""},{"$f":"+IF(J792=\"\",\"\",MAX(K$1:K791)+1)","v":""},"",null,{"$f":"IF(LDAR_H_UU_summary!C614=\"\",\"\",LDAR_H_UU_summary!C614)","v":""},{"$f":"IF(COUNTIF(N$2:N792,N792)=1,N792,\"\")","v":""},{"$f":"+IF(O792=\"\",\"\",MAX(P$1:P791)+1)","v":""},""]
[null,null,null,null,null,null,null,null,{"$f":"IF(LDAR_TT_shutdowns!C115=\"\",\"\",LDAR_TT_shutdowns!C115)","v":""},{"$f":"IF(COUNTIF(I$2:I793,I793)=1,I793,\"\")","v":""},{"$f":"+IF(J793=\"\",\"\",MAX(K$1:K792)+1)","v":""},"",null,{"$f":"IF(LDAR_H_UU_summary!C615=\"\",\"\",LDAR_H_UU_summary!C615)","v":""},{"$f":"IF(COUNTIF(N$2:N793,N793)=1,N793,\"\")","v":""},{"$f":"+IF(O793=\"\",\"\",MAX(P$1:P792)+1)","v":""},""]
[null,null,null,null,null,null,null,null,{"$f":"IF(LDAR_TT_shutdowns!C116=\"\",\"\",LDAR_TT_shutdowns!C116)","v":""},{"$f":"IF(COUNTIF(I$2:I794,I794)=1,I794,\"\")","v":""},{"$f":"+IF(J794=\"\",\"\",MAX(K$1:K793)+1)","v":""},"",null,{"$f":"IF(LDAR_H_UU_summary!C616=\"\",\"\",LDAR_H_UU_summary!C616)","v":""},{"$f":"IF(COUNTIF(N$2:N794,N794)=1,N794,\"\")","v":""},{"$f":"+IF(O794=\"\",\"\",MAX(P$1:P793)+1)","v":""},""]
[null,null,null,null,null,null,null,null,{"$f":"IF(LDAR_TT_shutdowns!C117=\"\",\"\",LDAR_TT_shutdowns!C117)","v":""},{"$f":"IF(COUNTIF(I$2:I795,I795)=1,I795,\"\")","v":""},{"$f":"+IF(J795=\"\",\"\",MAX(K$1:K794)+1)","v":""},"",null,{"$f":"IF(LDAR_H_UU_summary!C617=\"\",\"\",LDAR_H_UU_summary!C617)","v":""},{"$f":"IF(COUNTIF(N$2:N795,N795)=1,N795,\"\")","v":""},{"$f":"+IF(O795=\"\",\"\",MAX(P$1:P794)+1)","v":""},""]
[null,null,null,null,null,null,null,null,{"$f":"IF(LDAR_TT_shutdowns!C118=\"\",\"\",LDAR_TT_shutdowns!C118)","v":""},{"$f":"IF(COUNTIF(I$2:I796,I796)=1,I796,\"\")","v":""},{"$f":"+IF(J796=\"\",\"\",MAX(K$1:K795)+1)","v":""},"",null,{"$f":"IF(LDAR_H_UU_summary!C618=\"\",\"\",LDAR_H_UU_summary!C618)","v":""},{"$f":"IF(COUNTIF(N$2:N796,N796)=1,N796,\"\")","v":""},{"$f":"+IF(O796=\"\",\"\",MAX(P$1:P795)+1)","v":""},""]
[null,null,null,null,null,null,null,null,{"$f":"IF(LDAR_TT_shutdowns!C119=\"\",\"\",LDAR_TT_shutdowns!C119)","v":""},{"$f":"IF(COUNTIF(I$2:I797,I797)=1,I797,\"\")","v":""},{"$f":"+IF(J797=\"\",\"\",MAX(K$1:K796)+1)","v":""},"",null,{"$f":"IF(LDAR_H_UU_summary!C619=\"\",\"\",LDAR_H_UU_summary!C619)","v":""},{"$f":"IF(COUNTIF(N$2:N797,N797)=1,N797,\"\")","v":""},{"$f":"+IF(O797=\"\",\"\",MAX(P$1:P796)+1)","v":""},""]
[null,null,null,null,null,null,null,null,{"$f":"IF(LDAR_TT_shutdowns!C120=\"\",\"\",LDAR_TT_shutdowns!C120)","v":""},{"$f":"IF(COUNTIF(I$2:I798,I798)=1,I798,\"\")","v":""},{"$f":"+IF(J798=\"\",\"\",MAX(K$1:K797)+1)","v":""},"",null,{"$f":"IF(LDAR_H_UU_summary!C620=\"\",\"\",LDAR_H_UU_summary!C620)","v":""},{"$f":"IF(COUNTIF(N$2:N798,N798)=1,N798,\"\")","v":""},{"$f":"+IF(O798=\"\",\"\",MAX(P$1:P797)+1)","v":""},""]
[null,null,null,null,null,null,null,null,{"$f":"IF(LDAR_TT_shutdowns!C121=\"\",\"\",LDAR_TT_shutdowns!C121)","v":""},{"$f":"IF(COUNTIF(I$2:I799,I799)=1,I799,\"\")","v":""},{"$f":"+IF(J799=\"\",\"\",MAX(K$1:K798)+1)","v":""},"",null,{"$f":"IF(LDAR_H_UU_summary!C621=\"\",\"\",LDAR_H_UU_summary!C621)","v":""},{"$f":"IF(COUNTIF(N$2:N799,N799)=1,N799,\"\")","v":""},{"$f":"+IF(O799=\"\",\"\",MAX(P$1:P798)+1)","v":""},""]
[null,null,null,null,null,null,null,null,{"$f":"IF(LDAR_TT_shutdowns!C122=\"\",\"\",LDAR_TT_shutdowns!C122)","v":""},{"$f":"IF(COUNTIF(I$2:I800,I800)=1,I800,\"\")","v":""},{"$f":"+IF(J800=\"\",\"\",MAX(K$1:K799)+1)","v":""},"",null,{"$f":"IF(LDAR_H_UU_summary!C622=\"\",\"\",LDAR_H_UU_summary!C622)","v":""},{"$f":"IF(COUNTIF(N$2:N800,N800)=1,N800,\"\")","v":""},{"$f":"+IF(O800=\"\",\"\",MAX(P$1:P799)+1)","v":""},""]
[null,null,null,null,null,null,null,null,{"$f":"IF(LDAR_TT_shutdowns!C123=\"\",\"\",LDAR_TT_shutdowns!C123)","v":""},{"$f":"IF(COUNTIF(I$2:I801,I801)=1,I801,\"\")","v":""},{"$f":"+IF(J801=\"\",\"\",MAX(K$1:K800)+1)","v":""},"",null,{"$f":"IF(LDAR_H_UU_summary!C623=\"\",\"\",LDAR_H_UU_summary!C623)","v":""},{"$f":"IF(COUNTIF(N$2:N801,N801)=1,N801,\"\")","v":""},{"$f":"+IF(O801=\"\",\"\",MAX(P$1:P800)+1)","v":""},""]
[null,null,null,null,null,null,null,null,null,null,null,null,null,{"$f":"IF(LDAR_H_UU_summary!C624=\"\",\"\",LDAR_H_UU_summary!C624)","v":""},{"$f":"IF(COUNTIF(N$2:N802,N802)=1,N802,\"\")","v":""},{"$f":"+IF(O802=\"\",\"\",MAX(P$1:P801)+1)","v":""},""]
[null,null,null,null,null,null,null,null,null,null,null,null,null,{"$f":"IF(LDAR_H_UU_summary!C625=\"\",\"\",LDAR_H_UU_summary!C625)","v":""},{"$f":"IF(COUNTIF(N$2:N803,N803)=1,N803,\"\")","v":""},{"$f":"+IF(O803=\"\",\"\",MAX(P$1:P802)+1)","v":""},""]
[null,null,null,null,null,null,null,null,null,null,null,null,null,{"$f":"IF(LDAR_H_UU_summary!C626=\"\",\"\",LDAR_H_UU_summary!C626)","v":""},{"$f":"IF(COUNTIF(N$2:N804,N804)=1,N804,\"\")","v":""},{"$f":"+IF(O804=\"\",\"\",MAX(P$1:P803)+1)","v":""},""]
[null,null,null,null,null,null,null,null,null,null,null,null,null,{"$f":"IF(LDAR_H_UU_summary!C627=\"\",\"\",LDAR_H_UU_summary!C627)","v":""},{"$f":"IF(COUNTIF(N$2:N805,N805)=1,N805,\"\")","v":""},{"$f":"+IF(O805=\"\",\"\",MAX(P$1:P804)+1)","v":""},""]
[null,null,null,null,null,null,null,null,null,null,null,null,null,{"$f":"IF(LDAR_H_UU_summary!C628=\"\",\"\",LDAR_H_UU_summary!C628)","v":""},{"$f":"IF(COUNTIF(N$2:N806,N806)=1,N806,\"\")","v":""},{"$f":"+IF(O806=\"\",\"\",MAX(P$1:P805)+1)","v":""},""]
[null,null,null,null,null,null,null,null,null,null,null,null,null,{"$f":"IF(LDAR_H_UU_summary!C629=\"\",\"\",LDAR_H_UU_summary!C629)","v":""},{"$f":"IF(COUNTIF(N$2:N807,N807)=1,N807,\"\")","v":""},{"$f":"+IF(O807=\"\",\"\",MAX(P$1:P806)+1)","v":""},""]
[null,null,null,null,null,null,null,null,null,null,null,null,null,{"$f":"IF(LDAR_H_UU_summary!C630=\"\",\"\",LDAR_H_UU_summary!C630)","v":""},{"$f":"IF(COUNTIF(N$2:N808,N808)=1,N808,\"\")","v":""},{"$f":"+IF(O808=\"\",\"\",MAX(P$1:P807)+1)","v":""},""]
[null,null,null,null,null,null,null,null,null,null,null,null,null,{"$f":"IF(LDAR_H_UU_summary!C631=\"\",\"\",LDAR_H_UU_summary!C631)","v":""},{"$f":"IF(COUNTIF(N$2:N809,N809)=1,N809,\"\")","v":""},{"$f":"+IF(O809=\"\",\"\",MAX(P$1:P808)+1)","v":""},""]
[null,null,null,null,null,null,null,null,null,null,null,null,null,{"$f":"IF(LDAR_H_UU_summary!C632=\"\",\"\",LDAR_H_UU_summary!C632)","v":""},{"$f":"IF(COUNTIF(N$2:N810,N810)=1,N810,\"\")","v":""},{"$f":"+IF(O810=\"\",\"\",MAX(P$1:P809)+1)","v":""},""]
[null,null,null,null,null,null,null,null,null,null,null,null,null,{"$f":"IF(LDAR_H_UU_summary!C633=\"\",\"\",LDAR_H_UU_summary!C633)","v":""},{"$f":"IF(COUNTIF(N$2:N811,N811)=1,N811,\"\")","v":""},{"$f":"+IF(O811=\"\",\"\",MAX(P$1:P810)+1)","v":""},""]
[null,null,null,null,null,null,null,null,null,null,null,null,null,{"$f":"IF(LDAR_H_UU_summary!C634=\"\",\"\",LDAR_H_UU_summary!C634)","v":""},{"$f":"IF(COUNTIF(N$2:N812,N812)=1,N812,\"\")","v":""},{"$f":"+IF(O812=\"\",\"\",MAX(P$1:P811)+1)","v":""},""]
[null,null,null,null,null,null,null,null,null,null,null,null,null,{"$f":"IF(LDAR_H_UU_summary!C635=\"\",\"\",LDAR_H_UU_summary!C635)","v":""},{"$f":"IF(COUNTIF(N$2:N813,N813)=1,N813,\"\")","v":""},{"$f":"+IF(O813=\"\",\"\",MAX(P$1:P812)+1)","v":""},""]
[null,null,null,null,null,null,null,null,null,null,null,null,null,{"$f":"IF(LDAR_H_UU_summary!C636=\"\",\"\",LDAR_H_UU_summary!C636)","v":""},{"$f":"IF(COUNTIF(N$2:N814,N814)=1,N814,\"\")","v":""},{"$f":"+IF(O814=\"\",\"\",MAX(P$1:P813)+1)","v":""},""]
[null,null,null,null,null,null,null,null,null,null,null,null,null,{"$f":"IF(LDAR_H_UU_summary!C637=\"\",\"\",LDAR_H_UU_summary!C637)","v":""},{"$f":"IF(COUNTIF(N$2:N815,N815)=1,N815,\"\")","v":""},{"$f":"+IF(O815=\"\",\"\",MAX(P$1:P814)+1)","v":""},""]
[null,null,null,null,null,null,null,null,null,null,null,null,null,{"$f":"IF(LDAR_H_UU_summary!C638=\"\",\"\",LDAR_H_UU_summary!C638)","v":""},{"$f":"IF(COUNTIF(N$2:N816,N816)=1,N816,\"\")","v":""},{"$f":"+IF(O816=\"\",\"\",MAX(P$1:P815)+1)","v":""},""]
[null,null,null,null,null,null,null,null,null,null,null,null,null,{"$f":"IF(LDAR_H_UU_summary!C639=\"\",\"\",LDAR_H_UU_summary!C639)","v":""},{"$f":"IF(COUNTIF(N$2:N817,N817)=1,N817,\"\")","v":""},{"$f":"+IF(O817=\"\",\"\",MAX(P$1:P816)+1)","v":""},""]
[null,null,null,null,null,null,null,null,null,null,null,null,null,{"$f":"IF(LDAR_H_UU_summary!C640=\"\",\"\",LDAR_H_UU_summary!C640)","v":""},{"$f":"IF(COUNTIF(N$2:N818,N818)=1,N818,\"\")","v":""},{"$f":"+IF(O818=\"\",\"\",MAX(P$1:P817)+1)","v":""},""]
[null,null,null,null,null,null,null,null,null,null,null,null,null,{"$f":"IF(LDAR_H_UU_summary!C641=\"\",\"\",LDAR_H_UU_summary!C641)","v":""},{"$f":"IF(COUNTIF(N$2:N819,N819)=1,N819,\"\")","v":""},{"$f":"+IF(O819=\"\",\"\",MAX(P$1:P818)+1)","v":""},""]
[null,null,null,null,null,null,null,null,null,null,null,null,null,{"$f":"IF(LDAR_H_UU_summary!C642=\"\",\"\",LDAR_H_UU_summary!C642)","v":""},{"$f":"IF(COUNTIF(N$2:N820,N820)=1,N820,\"\")","v":""},{"$f":"+IF(O820=\"\",\"\",MAX(P$1:P819)+1)","v":""},""]
[null,null,null,null,null,null,null,null,null,null,null,null,null,{"$f":"IF(LDAR_H_UU_summary!C643=\"\",\"\",LDAR_H_UU_summary!C643)","v":""},{"$f":"IF(COUNTIF(N$2:N821,N821)=1,N821,\"\")","v":""},{"$f":"+IF(O821=\"\",\"\",MAX(P$1:P820)+1)","v":""},""]
[null,null,null,null,null,null,null,null,null,null,null,null,null,{"$f":"IF(LDAR_H_UU_summary!C644=\"\",\"\",LDAR_H_UU_summary!C644)","v":""},{"$f":"IF(COUNTIF(N$2:N822,N822)=1,N822,\"\")","v":""},{"$f":"+IF(O822=\"\",\"\",MAX(P$1:P821)+1)","v":""},""]
[null,null,null,null,null,null,null,null,null,null,null,null,null,{"$f":"IF(LDAR_H_UU_summary!C645=\"\",\"\",LDAR_H_UU_summary!C645)","v":""},{"$f":"IF(COUNTIF(N$2:N823,N823)=1,N823,\"\")","v":""},{"$f":"+IF(O823=\"\",\"\",MAX(P$1:P822)+1)","v":""},""]
[null,null,null,null,null,null,null,null,null,null,null,null,null,{"$f":"IF(LDAR_H_UU_summary!C646=\"\",\"\",LDAR_H_UU_summary!C646)","v":""},{"$f":"IF(COUNTIF(N$2:N824,N824)=1,N824,\"\")","v":""},{"$f":"+IF(O824=\"\",\"\",MAX(P$1:P823)+1)","v":""},""]
[null,null,null,null,null,null,null,null,null,null,null,null,null,{"$f":"IF(LDAR_H_UU_summary!C647=\"\",\"\",LDAR_H_UU_summary!C647)","v":""},{"$f":"IF(COUNTIF(N$2:N825,N825)=1,N825,\"\")","v":""},{"$f":"+IF(O825=\"\",\"\",MAX(P$1:P824)+1)","v":""},""]
[null,null,null,null,null,null,null,null,null,null,null,null,null,{"$f":"IF(LDAR_H_UU_summary!C648=\"\",\"\",LDAR_H_UU_summary!C648)","v":""},{"$f":"IF(COUNTIF(N$2:N826,N826)=1,N826,\"\")","v":""},{"$f":"+IF(O826=\"\",\"\",MAX(P$1:P825)+1)","v":""},""]
[null,null,null,null,null,null,null,null,null,null,null,null,null,{"$f":"IF(LDAR_H_UU_summary!C649=\"\",\"\",LDAR_H_UU_summary!C649)","v":""},{"$f":"IF(COUNTIF(N$2:N827,N827)=1,N827,\"\")","v":""},{"$f":"+IF(O827=\"\",\"\",MAX(P$1:P826)+1)","v":""},""]
[null,null,null,null,null,null,null,null,null,null,null,null,null,{"$f":"IF(LDAR_H_UU_summary!C650=\"\",\"\",LDAR_H_UU_summary!C650)","v":""},{"$f":"IF(COUNTIF(N$2:N828,N828)=1,N828,\"\")","v":""},{"$f":"+IF(O828=\"\",\"\",MAX(P$1:P827)+1)","v":""},""]
[null,null,null,null,null,null,null,null,null,null,null,null,null,{"$f":"IF(LDAR_H_UU_summary!C651=\"\",\"\",LDAR_H_UU_summary!C651)","v":""},{"$f":"IF(COUNTIF(N$2:N829,N829)=1,N829,\"\")","v":""},{"$f":"+IF(O829=\"\",\"\",MAX(P$1:P828)+1)","v":""},""]
[null,null,null,null,null,null,null,null,null,null,null,null,null,{"$f":"IF(LDAR_H_UU_summary!C652=\"\",\"\",LDAR_H_UU_summary!C652)","v":""},{"$f":"IF(COUNTIF(N$2:N830,N830)=1,N830,\"\")","v":""},{"$f":"+IF(O830=\"\",\"\",MAX(P$1:P829)+1)","v":""},""]
[null,null,null,null,null,null,null,null,null,null,null,null,null,{"$f":"IF(LDAR_H_UU_summary!C653=\"\",\"\",LDAR_H_UU_summary!C653)","v":""},{"$f":"IF(COUNTIF(N$2:N831,N831)=1,N831,\"\")","v":""},{"$f":"+IF(O831=\"\",\"\",MAX(P$1:P830)+1)","v":""},""]
[null,null,null,null,null,null,null,null,null,null,null,null,null,{"$f":"IF(LDAR_H_UU_summary!C654=\"\",\"\",LDAR_H_UU_summary!C654)","v":""},{"$f":"IF(COUNTIF(N$2:N832,N832)=1,N832,\"\")","v":""},{"$f":"+IF(O832=\"\",\"\",MAX(P$1:P831)+1)","v":""},""]
[null,null,null,null,null,null,null,null,null,null,null,null,null,{"$f":"IF(LDAR_H_UU_summary!C655=\"\",\"\",LDAR_H_UU_summary!C655)","v":""},{"$f":"IF(COUNTIF(N$2:N833,N833)=1,N833,\"\")","v":""},{"$f":"+IF(O833=\"\",\"\",MAX(P$1:P832)+1)","v":""},""]
[null,null,null,null,null,null,null,null,null,null,null,null,null,{"$f":"IF(LDAR_H_UU_summary!C656=\"\",\"\",LDAR_H_UU_summary!C656)","v":""},{"$f":"IF(COUNTIF(N$2:N834,N834)=1,N834,\"\")","v":""},{"$f":"+IF(O834=\"\",\"\",MAX(P$1:P833)+1)","v":""},""]
[null,null,null,null,null,null,null,null,null,null,null,null,null,{"$f":"IF(LDAR_H_UU_summary!C657=\"\",\"\",LDAR_H_UU_summary!C657)","v":""},{"$f":"IF(COUNTIF(N$2:N835,N835)=1,N835,\"\")","v":""},{"$f":"+IF(O835=\"\",\"\",MAX(P$1:P834)+1)","v":""},{"$f":"+IFERROR(INDEX($N$2:$N$2001,MATCH(ROW()-ROW($P$1),$P$2:$P$2001,0)),\"\")","v":""}]
[null,null,null,null,null,null,null,null,null,null,null,null,null,{"$f":"IF(LDAR_H_UU_summary!C658=\"\",\"\",LDAR_H_UU_summary!C658)","v":""},{"$f":"IF(COUNTIF(N$2:N836,N836)=1,N836,\"\")","v":""},{"$f":"+IF(O836=\"\",\"\",MAX(P$1:P835)+1)","v":""},""]
[null,null,null,null,null,null,null,null,null,null,null,null,null,{"$f":"IF(LDAR_H_UU_summary!C659=\"\",\"\",LDAR_H_UU_summary!C659)","v":""},{"$f":"IF(COUNTIF(N$2:N837,N837)=1,N837,\"\")","v":""},{"$f":"+IF(O837=\"\",\"\",MAX(P$1:P836)+1)","v":""},""]
[null,null,null,null,null,null,null,null,null,null,null,null,null,{"$f":"IF(LDAR_H_UU_summary!C660=\"\",\"\",LDAR_H_UU_summary!C660)","v":""},{"$f":"IF(COUNTIF(N$2:N838,N838)=1,N838,\"\")","v":""},{"$f":"+IF(O838=\"\",\"\",MAX(P$1:P837)+1)","v":""},""]
[null,null,null,null,null,null,null,null,null,null,null,null,null,{"$f":"IF(LDAR_H_UU_summary!C661=\"\",\"\",LDAR_H_UU_summary!C661)","v":""},{"$f":"IF(COUNTIF(N$2:N839,N839)=1,N839,\"\")","v":""},{"$f":"+IF(O839=\"\",\"\",MAX(P$1:P838)+1)","v":""},""]
[null,null,null,null,null,null,null,null,null,null,null,null,null,{"$f":"IF(LDAR_H_UU_summary!C662=\"\",\"\",LDAR_H_UU_summary!C662)","v":""},{"$f":"IF(COUNTIF(N$2:N840,N840)=1,N840,\"\")","v":""},{"$f":"+IF(O840=\"\",\"\",MAX(P$1:P839)+1)","v":""},""]
[null,null,null,null,null,null,null,null,null,null,null,null,null,{"$f":"IF(LDAR_H_UU_summary!C663=\"\",\"\",LDAR_H_UU_summary!C663)","v":""},{"$f":"IF(COUNTIF(N$2:N841,N841)=1,N841,\"\")","v":""},{"$f":"+IF(O841=\"\",\"\",MAX(P$1:P840)+1)","v":""},""]
[null,null,null,null,null,null,null,null,null,null,null,null,null,{"$f":"IF(LDAR_H_UU_summary!C664=\"\",\"\",LDAR_H_UU_summary!C664)","v":""},{"$f":"IF(COUNTIF(N$2:N842,N842)=1,N842,\"\")","v":""},{"$f":"+IF(O842=\"\",\"\",MAX(P$1:P841)+1)","v":""},""]
[null,null,null,null,null,null,null,null,null,null,null,null,null,{"$f":"IF(LDAR_H_UU_summary!C665=\"\",\"\",LDAR_H_UU_summary!C665)","v":""},{"$f":"IF(COUNTIF(N$2:N843,N843)=1,N843,\"\")","v":""},{"$f":"+IF(O843=\"\",\"\",MAX(P$1:P842)+1)","v":""},""]
[null,null,null,null,null,null,null,null,null,null,null,null,null,{"$f":"IF(LDAR_H_UU_summary!C666=\"\",\"\",LDAR_H_UU_summary!C666)","v":""},{"$f":"IF(COUNTIF(N$2:N844,N844)=1,N844,\"\")","v":""},{"$f":"+IF(O844=\"\",\"\",MAX(P$1:P843)+1)","v":""},""]
[null,null,null,null,null,null,null,null,null,null,null,null,null,{"$f":"IF(LDAR_H_UU_summary!C667=\"\",\"\",LDAR_H_UU_summary!C667)","v":""},{"$f":"IF(COUNTIF(N$2:N845,N845)=1,N845,\"\")","v":""},{"$f":"+IF(O845=\"\",\"\",MAX(P$1:P844)+1)","v":""},""]
[null,null,null,null,null,null,null,null,null,null,null,null,null,{"$f":"IF(LDAR_H_UU_summary!C668=\"\",\"\",LDAR_H_UU_summary!C668)","v":""},{"$f":"IF(COUNTIF(N$2:N846,N846)=1,N846,\"\")","v":""},{"$f":"+IF(O846=\"\",\"\",MAX(P$1:P845)+1)","v":""},""]
[null,null,null,null,null,null,null,null,null,null,null,null,null,{"$f":"IF(LDAR_H_UU_summary!C669=\"\",\"\",LDAR_H_UU_summary!C669)","v":""},{"$f":"IF(COUNTIF(N$2:N847,N847)=1,N847,\"\")","v":""},{"$f":"+IF(O847=\"\",\"\",MAX(P$1:P846)+1)","v":""},""]
[null,null,null,null,null,null,null,null,null,null,null,null,null,{"$f":"IF(LDAR_H_UU_summary!C670=\"\",\"\",LDAR_H_UU_summary!C670)","v":""},{"$f":"IF(COUNTIF(N$2:N848,N848)=1,N848,\"\")","v":""},{"$f":"+IF(O848=\"\",\"\",MAX(P$1:P847)+1)","v":""},""]
[null,null,null,null,null,null,null,null,null,null,null,null,null,{"$f":"IF(LDAR_H_UU_summary!C671=\"\",\"\",LDAR_H_UU_summary!C671)","v":""},{"$f":"IF(COUNTIF(N$2:N849,N849)=1,N849,\"\")","v":""},{"$f":"+IF(O849=\"\",\"\",MAX(P$1:P848)+1)","v":""},""]
[null,null,null,null,null,null,null,null,null,null,null,null,null,{"$f":"IF(LDAR_H_UU_summary!C672=\"\",\"\",LDAR_H_UU_summary!C672)","v":""},{"$f":"IF(COUNTIF(N$2:N850,N850)=1,N850,\"\")","v":""},{"$f":"+IF(O850=\"\",\"\",MAX(P$1:P849)+1)","v":""},""]
[null,null,null,null,null,null,null,null,null,null,null,null,null,{"$f":"IF(LDAR_H_UU_summary!C673=\"\",\"\",LDAR_H_UU_summary!C673)","v":""},{"$f":"IF(COUNTIF(N$2:N851,N851)=1,N851,\"\")","v":""},{"$f":"+IF(O851=\"\",\"\",MAX(P$1:P850)+1)","v":""},""]
[null,null,null,null,null,null,null,null,null,null,null,null,null,{"$f":"IF(LDAR_H_UU_summary!C674=\"\",\"\",LDAR_H_UU_summary!C674)","v":""},{"$f":"IF(COUNTIF(N$2:N852,N852)=1,N852,\"\")","v":""},{"$f":"+IF(O852=\"\",\"\",MAX(P$1:P851)+1)","v":""},""]
[null,null,null,null,null,null,null,null,null,null,null,null,null,{"$f":"IF(LDAR_H_UU_summary!C675=\"\",\"\",LDAR_H_UU_summary!C675)","v":""},{"$f":"IF(COUNTIF(N$2:N853,N853)=1,N853,\"\")","v":""},{"$f":"+IF(O853=\"\",\"\",MAX(P$1:P852)+1)","v":""},""]
[null,null,null,null,null,null,null,null,null,null,null,null,null,{"$f":"IF(LDAR_H_UU_summary!C676=\"\",\"\",LDAR_H_UU_summary!C676)","v":""},{"$f":"IF(COUNTIF(N$2:N854,N854)=1,N854,\"\")","v":""},{"$f":"+IF(O854=\"\",\"\",MAX(P$1:P853)+1)","v":""},""]
[null,null,null,null,null,null,null,null,null,null,null,null,null,{"$f":"IF(LDAR_H_UU_summary!C677=\"\",\"\",LDAR_H_UU_summary!C677)","v":""},{"$f":"IF(COUNTIF(N$2:N855,N855)=1,N855,\"\")","v":""},{"$f":"+IF(O855=\"\",\"\",MAX(P$1:P854)+1)","v":""},""]
[null,null,null,null,null,null,null,null,null,null,null,null,null,{"$f":"IF(LDAR_H_UU_summary!C678=\"\",\"\",LDAR_H_UU_summary!C678)","v":""},{"$f":"IF(COUNTIF(N$2:N856,N856)=1,N856,\"\")","v":""},{"$f":"+IF(O856=\"\",\"\",MAX(P$1:P855)+1)","v":""},""]
[null,null,null,null,null,null,null,null,null,null,null,null,null,{"$f":"IF(LDAR_H_UU_summary!C679=\"\",\"\",LDAR_H_UU_summary!C679)","v":""},{"$f":"IF(COUNTIF(N$2:N857,N857)=1,N857,\"\")","v":""},{"$f":"+IF(O857=\"\",\"\",MAX(P$1:P856)+1)","v":""},""]
[null,null,null,null,null,null,null,null,null,null,null,null,null,{"$f":"IF(LDAR_H_UU_summary!C680=\"\",\"\",LDAR_H_UU_summary!C680)","v":""},{"$f":"IF(COUNTIF(N$2:N858,N858)=1,N858,\"\")","v":""},{"$f":"+IF(O858=\"\",\"\",MAX(P$1:P857)+1)","v":""},""]
[null,null,null,null,null,null,null,null,null,null,null,null,null,{"$f":"IF(LDAR_H_UU_summary!C681=\"\",\"\",LDAR_H_UU_summary!C681)","v":""},{"$f":"IF(COUNTIF(N$2:N859,N859)=1,N859,\"\")","v":""},{"$f":"+IF(O859=\"\",\"\",MAX(P$1:P858)+1)","v":""},""]
[null,null,null,null,null,null,null,null,null,null,null,null,null,{"$f":"IF(LDAR_H_UU_summary!C682=\"\",\"\",LDAR_H_UU_summary!C682)","v":""},{"$f":"IF(COUNTIF(N$2:N860,N860)=1,N860,\"\")","v":""},{"$f":"+IF(O860=\"\",\"\",MAX(P$1:P859)+1)","v":""},""]
[null,null,null,null,null,null,null,null,null,null,null,null,null,{"$f":"IF(LDAR_H_UU_summary!C683=\"\",\"\",LDAR_H_UU_summary!C683)","v":""},{"$f":"IF(COUNTIF(N$2:N861,N861)=1,N861,\"\")","v":""},{"$f":"+IF(O861=\"\",\"\",MAX(P$1:P860)+1)","v":""},""]
[null,null,null,null,null,null,null,null,null,null,null,null,null,{"$f":"IF(LDAR_H_UU_summary!C684=\"\",\"\",LDAR_H_UU_summary!C684)","v":""},{"$f":"IF(COUNTIF(N$2:N862,N862)=1,N862,\"\")","v":""},{"$f":"+IF(O862=\"\",\"\",MAX(P$1:P861)+1)","v":""},""]
[null,null,null,null,null,null,null,null,null,null,null,null,null,{"$f":"IF(LDAR_H_UU_summary!C685=\"\",\"\",LDAR_H_UU_summary!C685)","v":""},{"$f":"IF(COUNTIF(N$2:N863,N863)=1,N863,\"\")","v":""},{"$f":"+IF(O863=\"\",\"\",MAX(P$1:P862)+1)","v":""},""]
[null,null,null,null,null,null,null,null,null,null,null,null,null,{"$f":"IF(LDAR_H_UU_summary!C686=\"\",\"\",LDAR_H_UU_summary!C686)","v":""},{"$f":"IF(COUNTIF(N$2:N864,N864)=1,N864,\"\")","v":""},{"$f":"+IF(O864=\"\",\"\",MAX(P$1:P863)+1)","v":""},""]
[null,null,null,null,null,null,null,null,null,null,null,null,null,{"$f":"IF(LDAR_H_UU_summary!C687=\"\",\"\",LDAR_H_UU_summary!C687)","v":""},{"$f":"IF(COUNTIF(N$2:N865,N865)=1,N865,\"\")","v":""},{"$f":"+IF(O865=\"\",\"\",MAX(P$1:P864)+1)","v":""},""]
[null,null,null,null,null,null,null,null,null,null,null,null,null,{"$f":"IF(LDAR_H_UU_summary!C688=\"\",\"\",LDAR_H_UU_summary!C688)","v":""},{"$f":"IF(COUNTIF(N$2:N866,N866)=1,N866,\"\")","v":""},{"$f":"+IF(O866=\"\",\"\",MAX(P$1:P865)+1)","v":""},""]
[null,null,null,null,null,null,null,null,null,null,null,null,null,{"$f":"IF(LDAR_H_UU_summary!C689=\"\",\"\",LDAR_H_UU_summary!C689)","v":""},{"$f":"IF(COUNTIF(N$2:N867,N867)=1,N867,\"\")","v":""},{"$f":"+IF(O867=\"\",\"\",MAX(P$1:P866)+1)","v":""},""]
[null,null,null,null,null,null,null,null,null,null,null,null,null,{"$f":"IF(LDAR_H_UU_summary!C690=\"\",\"\",LDAR_H_UU_summary!C690)","v":""},{"$f":"IF(COUNTIF(N$2:N868,N868)=1,N868,\"\")","v":""},{"$f":"+IF(O868=\"\",\"\",MAX(P$1:P867)+1)","v":""},""]
[null,null,null,null,null,null,null,null,null,null,null,null,null,{"$f":"IF(LDAR_H_UU_summary!C691=\"\",\"\",LDAR_H_UU_summary!C691)","v":""},{"$f":"IF(COUNTIF(N$2:N869,N869)=1,N869,\"\")","v":""},{"$f":"+IF(O869=\"\",\"\",MAX(P$1:P868)+1)","v":""},""]
[null,null,null,null,null,null,null,null,null,null,null,null,null,{"$f":"IF(LDAR_H_UU_summary!C692=\"\",\"\",LDAR_H_UU_summary!C692)","v":""},{"$f":"IF(COUNTIF(N$2:N870,N870)=1,N870,\"\")","v":""},{"$f":"+IF(O870=\"\",\"\",MAX(P$1:P869)+1)","v":""},""]
[null,null,null,null,null,null,null,null,null,null,null,null,null,{"$f":"IF(LDAR_H_UU_summary!C693=\"\",\"\",LDAR_H_UU_summary!C693)","v":""},{"$f":"IF(COUNTIF(N$2:N871,N871)=1,N871,\"\")","v":""},{"$f":"+IF(O871=\"\",\"\",MAX(P$1:P870)+1)","v":""},""]
[null,null,null,null,null,null,null,null,null,null,null,null,null,{"$f":"IF(LDAR_H_UU_summary!C694=\"\",\"\",LDAR_H_UU_summary!C694)","v":""},{"$f":"IF(COUNTIF(N$2:N872,N872)=1,N872,\"\")","v":""},{"$f":"+IF(O872=\"\",\"\",MAX(P$1:P871)+1)","v":""},""]
[null,null,null,null,null,null,null,null,null,null,null,null,null,{"$f":"IF(LDAR_H_UU_summary!C695=\"\",\"\",LDAR_H_UU_summary!C695)","v":""},{"$f":"IF(COUNTIF(N$2:N873,N873)=1,N873,\"\")","v":""},{"$f":"+IF(O873=\"\",\"\",MAX(P$1:P872)+1)","v":""},""]
[null,null,null,null,null,null,null,null,null,null,null,null,null,{"$f":"IF(LDAR_H_UU_summary!C696=\"\",\"\",LDAR_H_UU_summary!C696)","v":""},{"$f":"IF(COUNTIF(N$2:N874,N874)=1,N874,\"\")","v":""},{"$f":"+IF(O874=\"\",\"\",MAX(P$1:P873)+1)","v":""},""]
[null,null,null,null,null,null,null,null,null,null,null,null,null,{"$f":"IF(LDAR_H_UU_summary!C697=\"\",\"\",LDAR_H_UU_summary!C697)","v":""},{"$f":"IF(COUNTIF(N$2:N875,N875)=1,N875,\"\")","v":""},{"$f":"+IF(O875=\"\",\"\",MAX(P$1:P874)+1)","v":""},""]
[null,null,null,null,null,null,null,null,null,null,null,null,null,{"$f":"IF(LDAR_H_UU_summary!C698=\"\",\"\",LDAR_H_UU_summary!C698)","v":""},{"$f":"IF(COUNTIF(N$2:N876,N876)=1,N876,\"\")","v":""},{"$f":"+IF(O876=\"\",\"\",MAX(P$1:P875)+1)","v":""},""]
[null,null,null,null,null,null,null,null,null,null,null,null,null,{"$f":"IF(LDAR_H_UU_summary!C699=\"\",\"\",LDAR_H_UU_summary!C699)","v":""},{"$f":"IF(COUNTIF(N$2:N877,N877)=1,N877,\"\")","v":""},{"$f":"+IF(O877=\"\",\"\",MAX(P$1:P876)+1)","v":""},""]
[null,null,null,null,null,null,null,null,null,null,null,null,null,{"$f":"IF(LDAR_H_UU_summary!C700=\"\",\"\",LDAR_H_UU_summary!C700)","v":""},{"$f":"IF(COUNTIF(N$2:N878,N878)=1,N878,\"\")","v":""},{"$f":"+IF(O878=\"\",\"\",MAX(P$1:P877)+1)","v":""},""]
[null,null,null,null,null,null,null,null,null,null,null,null,null,{"$f":"IF(LDAR_H_UU_summary!C701=\"\",\"\",LDAR_H_UU_summary!C701)","v":""},{"$f":"IF(COUNTIF(N$2:N879,N879)=1,N879,\"\")","v":""},{"$f":"+IF(O879=\"\",\"\",MAX(P$1:P878)+1)","v":""},""]
[null,null,null,null,null,null,null,null,null,null,null,null,null,{"$f":"IF(LDAR_H_UU_summary!C702=\"\",\"\",LDAR_H_UU_summary!C702)","v":""},{"$f":"IF(COUNTIF(N$2:N880,N880)=1,N880,\"\")","v":""},{"$f":"+IF(O880=\"\",\"\",MAX(P$1:P879)+1)","v":""},""]
[null,null,null,null,null,null,null,null,null,null,null,null,null,{"$f":"IF(LDAR_H_UU_summary!C703=\"\",\"\",LDAR_H_UU_summary!C703)","v":""},{"$f":"IF(COUNTIF(N$2:N881,N881)=1,N881,\"\")","v":""},{"$f":"+IF(O881=\"\",\"\",MAX(P$1:P880)+1)","v":""},""]
[null,null,null,null,null,null,null,null,null,null,null,null,null,{"$f":"IF(LDAR_H_UU_summary!C704=\"\",\"\",LDAR_H_UU_summary!C704)","v":""},{"$f":"IF(COUNTIF(N$2:N882,N882)=1,N882,\"\")","v":""},{"$f":"+IF(O882=\"\",\"\",MAX(P$1:P881)+1)","v":""},""]
[null,null,null,null,null,null,null,null,null,null,null,null,null,{"$f":"IF(LDAR_H_UU_summary!C705=\"\",\"\",LDAR_H_UU_summary!C705)","v":""},{"$f":"IF(COUNTIF(N$2:N883,N883)=1,N883,\"\")","v":""},{"$f":"+IF(O883=\"\",\"\",MAX(P$1:P882)+1)","v":""},""]
[null,null,null,null,null,null,null,null,null,null,null,null,null,{"$f":"IF(LDAR_H_UU_summary!C706=\"\",\"\",LDAR_H_UU_summary!C706)","v":""},{"$f":"IF(COUNTIF(N$2:N884,N884)=1,N884,\"\")","v":""},{"$f":"+IF(O884=\"\",\"\",MAX(P$1:P883)+1)","v":""},""]
[null,null,null,null,null,null,null,null,null,null,null,null,null,{"$f":"IF(LDAR_H_UU_summary!C707=\"\",\"\",LDAR_H_UU_summary!C707)","v":""},{"$f":"IF(COUNTIF(N$2:N885,N885)=1,N885,\"\")","v":""},{"$f":"+IF(O885=\"\",\"\",MAX(P$1:P884)+1)","v":""},""]
[null,null,null,null,null,null,null,null,null,null,null,null,null,{"$f":"IF(LDAR_H_UU_summary!C708=\"\",\"\",LDAR_H_UU_summary!C708)","v":""},{"$f":"IF(COUNTIF(N$2:N886,N886)=1,N886,\"\")","v":""},{"$f":"+IF(O886=\"\",\"\",MAX(P$1:P885)+1)","v":""},""]
[null,null,null,null,null,null,null,null,null,null,null,null,null,{"$f":"IF(LDAR_H_UU_summary!C709=\"\",\"\",LDAR_H_UU_summary!C709)","v":""},{"$f":"IF(COUNTIF(N$2:N887,N887)=1,N887,\"\")","v":""},{"$f":"+IF(O887=\"\",\"\",MAX(P$1:P886)+1)","v":""},""]
[null,null,null,null,null,null,null,null,null,null,null,null,null,{"$f":"IF(LDAR_H_UU_summary!C710=\"\",\"\",LDAR_H_UU_summary!C710)","v":""},{"$f":"IF(COUNTIF(N$2:N888,N888)=1,N888,\"\")","v":""},{"$f":"+IF(O888=\"\",\"\",MAX(P$1:P887)+1)","v":""},""]
[null,null,null,null,null,null,null,null,null,null,null,null,null,{"$f":"IF(LDAR_H_UU_summary!C711=\"\",\"\",LDAR_H_UU_summary!C711)","v":""},{"$f":"IF(COUNTIF(N$2:N889,N889)=1,N889,\"\")","v":""},{"$f":"+IF(O889=\"\",\"\",MAX(P$1:P888)+1)","v":""},""]
[null,null,null,null,null,null,null,null,null,null,null,null,null,{"$f":"IF(LDAR_H_UU_summary!C712=\"\",\"\",LDAR_H_UU_summary!C712)","v":""},{"$f":"IF(COUNTIF(N$2:N890,N890)=1,N890,\"\")","v":""},{"$f":"+IF(O890=\"\",\"\",MAX(P$1:P889)+1)","v":""},""]
[null,null,null,null,null,null,null,null,null,null,null,null,null,{"$f":"IF(LDAR_H_UU_summary!C713=\"\",\"\",LDAR_H_UU_summary!C713)","v":""},{"$f":"IF(COUNTIF(N$2:N891,N891)=1,N891,\"\")","v":""},{"$f":"+IF(O891=\"\",\"\",MAX(P$1:P890)+1)","v":""},""]
[null,null,null,null,null,null,null,null,null,null,null,null,null,{"$f":"IF(LDAR_H_UU_summary!C714=\"\",\"\",LDAR_H_UU_summary!C714)","v":""},{"$f":"IF(COUNTIF(N$2:N892,N892)=1,N892,\"\")","v":""},{"$f":"+IF(O892=\"\",\"\",MAX(P$1:P891)+1)","v":""},""]
[null,null,null,null,null,null,null,null,null,null,null,null,null,{"$f":"IF(LDAR_H_UU_summary!C715=\"\",\"\",LDAR_H_UU_summary!C715)","v":""},{"$f":"IF(COUNTIF(N$2:N893,N893)=1,N893,\"\")","v":""},{"$f":"+IF(O893=\"\",\"\",MAX(P$1:P892)+1)","v":""},""]
[null,null,null,null,null,null,null,null,null,null,null,null,null,{"$f":"IF(LDAR_H_UU_summary!C716=\"\",\"\",LDAR_H_UU_summary!C716)","v":""},{"$f":"IF(COUNTIF(N$2:N894,N894)=1,N894,\"\")","v":""},{"$f":"+IF(O894=\"\",\"\",MAX(P$1:P893)+1)","v":""},""]
[null,null,null,null,null,null,null,null,null,null,null,null,null,{"$f":"IF(LDAR_H_UU_summary!C717=\"\",\"\",LDAR_H_UU_summary!C717)","v":""},{"$f":"IF(COUNTIF(N$2:N895,N895)=1,N895,\"\")","v":""},{"$f":"+IF(O895=\"\",\"\",MAX(P$1:P894)+1)","v":""},""]
[null,null,null,null,null,null,null,null,null,null,null,null,null,{"$f":"IF(LDAR_H_UU_summary!C718=\"\",\"\",LDAR_H_UU_summary!C718)","v":""},{"$f":"IF(COUNTIF(N$2:N896,N896)=1,N896,\"\")","v":""},{"$f":"+IF(O896=\"\",\"\",MAX(P$1:P895)+1)","v":""},""]
[null,null,null,null,null,null,null,null,null,null,null,null,null,{"$f":"IF(LDAR_H_UU_summary!C719=\"\",\"\",LDAR_H_UU_summary!C719)","v":""},{"$f":"IF(COUNTIF(N$2:N897,N897)=1,N897,\"\")","v":""},{"$f":"+IF(O897=\"\",\"\",MAX(P$1:P896)+1)","v":""},""]
[null,null,null,null,null,null,null,null,null,null,null,null,null,{"$f":"IF(LDAR_H_UU_summary!C720=\"\",\"\",LDAR_H_UU_summary!C720)","v":""},{"$f":"IF(COUNTIF(N$2:N898,N898)=1,N898,\"\")","v":""},{"$f":"+IF(O898=\"\",\"\",MAX(P$1:P897)+1)","v":""},""]
[null,null,null,null,null,null,null,null,null,null,null,null,null,{"$f":"IF(LDAR_H_UU_summary!C721=\"\",\"\",LDAR_H_UU_summary!C721)","v":""},{"$f":"IF(COUNTIF(N$2:N899,N899)=1,N899,\"\")","v":""},{"$f":"+IF(O899=\"\",\"\",MAX(P$1:P898)+1)","v":""},{"$f":"+IFERROR(INDEX($N$2:$N$2001,MATCH(ROW()-ROW($P$1),$P$2:$P$2001,0)),\"\")","v":""}]
[null,null,null,null,null,null,null,null,null,null,null,null,null,{"$f":"IF(LDAR_H_UU_summary!C722=\"\",\"\",LDAR_H_UU_summary!C722)","v":""},{"$f":"IF(COUNTIF(N$2:N900,N900)=1,N900,\"\")","v":""},{"$f":"+IF(O900=\"\",\"\",MAX(P$1:P899)+1)","v":""},""]
[null,null,null,null,null,null,null,null,null,null,null,null,null,{"$f":"IF(LDAR_H_UU_summary!C723=\"\",\"\",LDAR_H_UU_summary!C723)","v":""},{"$f":"IF(COUNTIF(N$2:N901,N901)=1,N901,\"\")","v":""},{"$f":"+IF(O901=\"\",\"\",MAX(P$1:P900)+1)","v":""},""]
[null,null,null,null,null,null,null,null,null,null,null,null,null,{"$f":"IF(LDAR_H_UU_summary!C724=\"\",\"\",LDAR_H_UU_summary!C724)","v":""},{"$f":"IF(COUNTIF(N$2:N902,N902)=1,N902,\"\")","v":""},{"$f":"+IF(O902=\"\",\"\",MAX(P$1:P901)+1)","v":""},""]
[null,null,null,null,null,null,null,null,null,null,null,null,null,{"$f":"IF(LDAR_H_UU_summary!C725=\"\",\"\",LDAR_H_UU_summary!C725)","v":""},{"$f":"IF(COUNTIF(N$2:N903,N903)=1,N903,\"\")","v":""},{"$f":"+IF(O903=\"\",\"\",MAX(P$1:P902)+1)","v":""},""]
[null,null,null,null,null,null,null,null,null,null,null,null,null,{"$f":"IF(LDAR_H_UU_summary!C726=\"\",\"\",LDAR_H_UU_summary!C726)","v":""},{"$f":"IF(COUNTIF(N$2:N904,N904)=1,N904,\"\")","v":""},{"$f":"+IF(O904=\"\",\"\",MAX(P$1:P903)+1)","v":""},""]
[null,null,null,null,null,null,null,null,null,null,null,null,null,{"$f":"IF(LDAR_H_UU_summary!C727=\"\",\"\",LDAR_H_UU_summary!C727)","v":""},{"$f":"IF(COUNTIF(N$2:N905,N905)=1,N905,\"\")","v":""},{"$f":"+IF(O905=\"\",\"\",MAX(P$1:P904)+1)","v":""},""]
[null,null,null,null,null,null,null,null,null,null,null,null,null,{"$f":"IF(LDAR_H_UU_summary!C728=\"\",\"\",LDAR_H_UU_summary!C728)","v":""},{"$f":"IF(COUNTIF(N$2:N906,N906)=1,N906,\"\")","v":""},{"$f":"+IF(O906=\"\",\"\",MAX(P$1:P905)+1)","v":""},""]
[null,null,null,null,null,null,null,null,null,null,null,null,null,{"$f":"IF(LDAR_H_UU_summary!C729=\"\",\"\",LDAR_H_UU_summary!C729)","v":""},{"$f":"IF(COUNTIF(N$2:N907,N907)=1,N907,\"\")","v":""},{"$f":"+IF(O907=\"\",\"\",MAX(P$1:P906)+1)","v":""},""]
[null,null,null,null,null,null,null,null,null,null,null,null,null,{"$f":"IF(LDAR_H_UU_summary!C730=\"\",\"\",LDAR_H_UU_summary!C730)","v":""},{"$f":"IF(COUNTIF(N$2:N908,N908)=1,N908,\"\")","v":""},{"$f":"+IF(O908=\"\",\"\",MAX(P$1:P907)+1)","v":""},""]
[null,null,null,null,null,null,null,null,null,null,null,null,null,{"$f":"IF(LDAR_H_UU_summary!C731=\"\",\"\",LDAR_H_UU_summary!C731)","v":""},{"$f":"IF(COUNTIF(N$2:N909,N909)=1,N909,\"\")","v":""},{"$f":"+IF(O909=\"\",\"\",MAX(P$1:P908)+1)","v":""},""]
[null,null,null,null,null,null,null,null,null,null,null,null,null,{"$f":"IF(LDAR_H_UU_summary!C732=\"\",\"\",LDAR_H_UU_summary!C732)","v":""},{"$f":"IF(COUNTIF(N$2:N910,N910)=1,N910,\"\")","v":""},{"$f":"+IF(O910=\"\",\"\",MAX(P$1:P909)+1)","v":""},""]
[null,null,null,null,null,null,null,null,null,null,null,null,null,{"$f":"IF(LDAR_H_UU_summary!C733=\"\",\"\",LDAR_H_UU_summary!C733)","v":""},{"$f":"IF(COUNTIF(N$2:N911,N911)=1,N911,\"\")","v":""},{"$f":"+IF(O911=\"\",\"\",MAX(P$1:P910)+1)","v":""},""]
[null,null,null,null,null,null,null,null,null,null,null,null,null,{"$f":"IF(LDAR_H_UU_summary!C734=\"\",\"\",LDAR_H_UU_summary!C734)","v":""},{"$f":"IF(COUNTIF(N$2:N912,N912)=1,N912,\"\")","v":""},{"$f":"+IF(O912=\"\",\"\",MAX(P$1:P911)+1)","v":""},""]
[null,null,null,null,null,null,null,null,null,null,null,null,null,{"$f":"IF(LDAR_H_UU_summary!C735=\"\",\"\",LDAR_H_UU_summary!C735)","v":""},{"$f":"IF(COUNTIF(N$2:N913,N913)=1,N913,\"\")","v":""},{"$f":"+IF(O913=\"\",\"\",MAX(P$1:P912)+1)","v":""},""]
[null,null,null,null,null,null,null,null,null,null,null,null,null,{"$f":"IF(LDAR_H_UU_summary!C736=\"\",\"\",LDAR_H_UU_summary!C736)","v":""},{"$f":"IF(COUNTIF(N$2:N914,N914)=1,N914,\"\")","v":""},{"$f":"+IF(O914=\"\",\"\",MAX(P$1:P913)+1)","v":""},""]
[null,null,null,null,null,null,null,null,null,null,null,null,null,{"$f":"IF(LDAR_H_UU_summary!C737=\"\",\"\",LDAR_H_UU_summary!C737)","v":""},{"$f":"IF(COUNTIF(N$2:N915,N915)=1,N915,\"\")","v":""},{"$f":"+IF(O915=\"\",\"\",MAX(P$1:P914)+1)","v":""},""]
[null,null,null,null,null,null,null,null,null,null,null,null,null,{"$f":"IF(LDAR_H_UU_summary!C738=\"\",\"\",LDAR_H_UU_summary!C738)","v":""},{"$f":"IF(COUNTIF(N$2:N916,N916)=1,N916,\"\")","v":""},{"$f":"+IF(O916=\"\",\"\",MAX(P$1:P915)+1)","v":""},""]
[null,null,null,null,null,null,null,null,null,null,null,null,null,{"$f":"IF(LDAR_H_UU_summary!C739=\"\",\"\",LDAR_H_UU_summary!C739)","v":""},{"$f":"IF(COUNTIF(N$2:N917,N917)=1,N917,\"\")","v":""},{"$f":"+IF(O917=\"\",\"\",MAX(P$1:P916)+1)","v":""},""]
[null,null,null,null,null,null,null,null,null,null,null,null,null,{"$f":"IF(LDAR_H_UU_summary!C740=\"\",\"\",LDAR_H_UU_summary!C740)","v":""},{"$f":"IF(COUNTIF(N$2:N918,N918)=1,N918,\"\")","v":""},{"$f":"+IF(O918=\"\",\"\",MAX(P$1:P917)+1)","v":""},""]
[null,null,null,null,null,null,null,null,null,null,null,null,null,{"$f":"IF(LDAR_H_UU_summary!C741=\"\",\"\",LDAR_H_UU_summary!C741)","v":""},{"$f":"IF(COUNTIF(N$2:N919,N919)=1,N919,\"\")","v":""},{"$f":"+IF(O919=\"\",\"\",MAX(P$1:P918)+1)","v":""},""]
[null,null,null,null,null,null,null,null,null,null,null,null,null,{"$f":"IF(LDAR_H_UU_summary!C742=\"\",\"\",LDAR_H_UU_summary!C742)","v":""},{"$f":"IF(COUNTIF(N$2:N920,N920)=1,N920,\"\")","v":""},{"$f":"+IF(O920=\"\",\"\",MAX(P$1:P919)+1)","v":""},""]
[null,null,null,null,null,null,null,null,null,null,null,null,null,{"$f":"IF(LDAR_H_UU_summary!C743=\"\",\"\",LDAR_H_UU_summary!C743)","v":""},{"$f":"IF(COUNTIF(N$2:N921,N921)=1,N921,\"\")","v":""},{"$f":"+IF(O921=\"\",\"\",MAX(P$1:P920)+1)","v":""},""]
[null,null,null,null,null,null,null,null,null,null,null,null,null,{"$f":"IF(LDAR_H_UU_summary!C744=\"\",\"\",LDAR_H_UU_summary!C744)","v":""},{"$f":"IF(COUNTIF(N$2:N922,N922)=1,N922,\"\")","v":""},{"$f":"+IF(O922=\"\",\"\",MAX(P$1:P921)+1)","v":""},""]
[null,null,null,null,null,null,null,null,null,null,null,null,null,{"$f":"IF(LDAR_H_UU_summary!C745=\"\",\"\",LDAR_H_UU_summary!C745)","v":""},{"$f":"IF(COUNTIF(N$2:N923,N923)=1,N923,\"\")","v":""},{"$f":"+IF(O923=\"\",\"\",MAX(P$1:P922)+1)","v":""},""]
[null,null,null,null,null,null,null,null,null,null,null,null,null,{"$f":"IF(LDAR_H_UU_summary!C746=\"\",\"\",LDAR_H_UU_summary!C746)","v":""},{"$f":"IF(COUNTIF(N$2:N924,N924)=1,N924,\"\")","v":""},{"$f":"+IF(O924=\"\",\"\",MAX(P$1:P923)+1)","v":""},""]
[null,null,null,null,null,null,null,null,null,null,null,null,null,{"$f":"IF(LDAR_H_UU_summary!C747=\"\",\"\",LDAR_H_UU_summary!C747)","v":""},{"$f":"IF(COUNTIF(N$2:N925,N925)=1,N925,\"\")","v":""},{"$f":"+IF(O925=\"\",\"\",MAX(P$1:P924)+1)","v":""},""]
[null,null,null,null,null,null,null,null,null,null,null,null,null,{"$f":"IF(LDAR_H_UU_summary!C748=\"\",\"\",LDAR_H_UU_summary!C748)","v":""},{"$f":"IF(COUNTIF(N$2:N926,N926)=1,N926,\"\")","v":""},{"$f":"+IF(O926=\"\",\"\",MAX(P$1:P925)+1)","v":""},""]
[null,null,null,null,null,null,null,null,null,null,null,null,null,{"$f":"IF(LDAR_H_UU_summary!C749=\"\",\"\",LDAR_H_UU_summary!C749)","v":""},{"$f":"IF(COUNTIF(N$2:N927,N927)=1,N927,\"\")","v":""},{"$f":"+IF(O927=\"\",\"\",MAX(P$1:P926)+1)","v":""},""]
[null,null,null,null,null,null,null,null,null,null,null,null,null,{"$f":"IF(LDAR_H_UU_summary!C750=\"\",\"\",LDAR_H_UU_summary!C750)","v":""},{"$f":"IF(COUNTIF(N$2:N928,N928)=1,N928,\"\")","v":""},{"$f":"+IF(O928=\"\",\"\",MAX(P$1:P927)+1)","v":""},""]
[null,null,null,null,null,null,null,null,null,null,null,null,null,{"$f":"IF(LDAR_H_UU_summary!C751=\"\",\"\",LDAR_H_UU_summary!C751)","v":""},{"$f":"IF(COUNTIF(N$2:N929,N929)=1,N929,\"\")","v":""},{"$f":"+IF(O929=\"\",\"\",MAX(P$1:P928)+1)","v":""},""]
[null,null,null,null,null,null,null,null,null,null,null,null,null,{"$f":"IF(LDAR_H_UU_summary!C752=\"\",\"\",LDAR_H_UU_summary!C752)","v":""},{"$f":"IF(COUNTIF(N$2:N930,N930)=1,N930,\"\")","v":""},{"$f":"+IF(O930=\"\",\"\",MAX(P$1:P929)+1)","v":""},""]
[null,null,null,null,null,null,null,null,null,null,null,null,null,{"$f":"IF(LDAR_H_UU_summary!C753=\"\",\"\",LDAR_H_UU_summary!C753)","v":""},{"$f":"IF(COUNTIF(N$2:N931,N931)=1,N931,\"\")","v":""},{"$f":"+IF(O931=\"\",\"\",MAX(P$1:P930)+1)","v":""},""]
[null,null,null,null,null,null,null,null,null,null,null,null,null,{"$f":"IF(LDAR_H_UU_summary!C754=\"\",\"\",LDAR_H_UU_summary!C754)","v":""},{"$f":"IF(COUNTIF(N$2:N932,N932)=1,N932,\"\")","v":""},{"$f":"+IF(O932=\"\",\"\",MAX(P$1:P931)+1)","v":""},""]
[null,null,null,null,null,null,null,null,null,null,null,null,null,{"$f":"IF(LDAR_H_UU_summary!C755=\"\",\"\",LDAR_H_UU_summary!C755)","v":""},{"$f":"IF(COUNTIF(N$2:N933,N933)=1,N933,\"\")","v":""},{"$f":"+IF(O933=\"\",\"\",MAX(P$1:P932)+1)","v":""},""]
[null,null,null,null,null,null,null,null,null,null,null,null,null,{"$f":"IF(LDAR_H_UU_summary!C756=\"\",\"\",LDAR_H_UU_summary!C756)","v":""},{"$f":"IF(COUNTIF(N$2:N934,N934)=1,N934,\"\")","v":""},{"$f":"+IF(O934=\"\",\"\",MAX(P$1:P933)+1)","v":""},""]
[null,null,null,null,null,null,null,null,null,null,null,null,null,{"$f":"IF(LDAR_H_UU_summary!C757=\"\",\"\",LDAR_H_UU_summary!C757)","v":""},{"$f":"IF(COUNTIF(N$2:N935,N935)=1,N935,\"\")","v":""},{"$f":"+IF(O935=\"\",\"\",MAX(P$1:P934)+1)","v":""},""]
[null,null,null,null,null,null,null,null,null,null,null,null,null,{"$f":"IF(LDAR_H_UU_summary!C758=\"\",\"\",LDAR_H_UU_summary!C758)","v":""},{"$f":"IF(COUNTIF(N$2:N936,N936)=1,N936,\"\")","v":""},{"$f":"+IF(O936=\"\",\"\",MAX(P$1:P935)+1)","v":""},""]
[null,null,null,null,null,null,null,null,null,null,null,null,null,{"$f":"IF(LDAR_H_UU_summary!C759=\"\",\"\",LDAR_H_UU_summary!C759)","v":""},{"$f":"IF(COUNTIF(N$2:N937,N937)=1,N937,\"\")","v":""},{"$f":"+IF(O937=\"\",\"\",MAX(P$1:P936)+1)","v":""},""]
[null,null,null,null,null,null,null,null,null,null,null,null,null,{"$f":"IF(LDAR_H_UU_summary!C760=\"\",\"\",LDAR_H_UU_summary!C760)","v":""},{"$f":"IF(COUNTIF(N$2:N938,N938)=1,N938,\"\")","v":""},{"$f":"+IF(O938=\"\",\"\",MAX(P$1:P937)+1)","v":""},""]
[null,null,null,null,null,null,null,null,null,null,null,null,null,{"$f":"IF(LDAR_H_UU_summary!C761=\"\",\"\",LDAR_H_UU_summary!C761)","v":""},{"$f":"IF(COUNTIF(N$2:N939,N939)=1,N939,\"\")","v":""},{"$f":"+IF(O939=\"\",\"\",MAX(P$1:P938)+1)","v":""},""]
[null,null,null,null,null,null,null,null,null,null,null,null,null,{"$f":"IF(LDAR_H_UU_summary!C762=\"\",\"\",LDAR_H_UU_summary!C762)","v":""},{"$f":"IF(COUNTIF(N$2:N940,N940)=1,N940,\"\")","v":""},{"$f":"+IF(O940=\"\",\"\",MAX(P$1:P939)+1)","v":""},""]
[null,null,null,null,null,null,null,null,null,null,null,null,null,{"$f":"IF(LDAR_H_UU_summary!C763=\"\",\"\",LDAR_H_UU_summary!C763)","v":""},{"$f":"IF(COUNTIF(N$2:N941,N941)=1,N941,\"\")","v":""},{"$f":"+IF(O941=\"\",\"\",MAX(P$1:P940)+1)","v":""},""]
[null,null,null,null,null,null,null,null,null,null,null,null,null,{"$f":"IF(LDAR_H_UU_summary!C764=\"\",\"\",LDAR_H_UU_summary!C764)","v":""},{"$f":"IF(COUNTIF(N$2:N942,N942)=1,N942,\"\")","v":""},{"$f":"+IF(O942=\"\",\"\",MAX(P$1:P941)+1)","v":""},""]
[null,null,null,null,null,null,null,null,null,null,null,null,null,{"$f":"IF(LDAR_H_UU_summary!C765=\"\",\"\",LDAR_H_UU_summary!C765)","v":""},{"$f":"IF(COUNTIF(N$2:N943,N943)=1,N943,\"\")","v":""},{"$f":"+IF(O943=\"\",\"\",MAX(P$1:P942)+1)","v":""},""]
[null,null,null,null,null,null,null,null,null,null,null,null,null,{"$f":"IF(LDAR_H_UU_summary!C766=\"\",\"\",LDAR_H_UU_summary!C766)","v":""},{"$f":"IF(COUNTIF(N$2:N944,N944)=1,N944,\"\")","v":""},{"$f":"+IF(O944=\"\",\"\",MAX(P$1:P943)+1)","v":""},""]
[null,null,null,null,null,null,null,null,null,null,null,null,null,{"$f":"IF(LDAR_H_UU_summary!C767=\"\",\"\",LDAR_H_UU_summary!C767)","v":""},{"$f":"IF(COUNTIF(N$2:N945,N945)=1,N945,\"\")","v":""},{"$f":"+IF(O945=\"\",\"\",MAX(P$1:P944)+1)","v":""},""]
[null,null,null,null,null,null,null,null,null,null,null,null,null,{"$f":"IF(LDAR_H_UU_summary!C768=\"\",\"\",LDAR_H_UU_summary!C768)","v":""},{"$f":"IF(COUNTIF(N$2:N946,N946)=1,N946,\"\")","v":""},{"$f":"+IF(O946=\"\",\"\",MAX(P$1:P945)+1)","v":""},""]
[null,null,null,null,null,null,null,null,null,null,null,null,null,{"$f":"IF(LDAR_H_UU_summary!C769=\"\",\"\",LDAR_H_UU_summary!C769)","v":""},{"$f":"IF(COUNTIF(N$2:N947,N947)=1,N947,\"\")","v":""},{"$f":"+IF(O947=\"\",\"\",MAX(P$1:P946)+1)","v":""},""]
[null,null,null,null,null,null,null,null,null,null,null,null,null,{"$f":"IF(LDAR_H_UU_summary!C770=\"\",\"\",LDAR_H_UU_summary!C770)","v":""},{"$f":"IF(COUNTIF(N$2:N948,N948)=1,N948,\"\")","v":""},{"$f":"+IF(O948=\"\",\"\",MAX(P$1:P947)+1)","v":""},""]
[null,null,null,null,null,null,null,null,null,null,null,null,null,{"$f":"IF(LDAR_H_UU_summary!C771=\"\",\"\",LDAR_H_UU_summary!C771)","v":""},{"$f":"IF(COUNTIF(N$2:N949,N949)=1,N949,\"\")","v":""},{"$f":"+IF(O949=\"\",\"\",MAX(P$1:P948)+1)","v":""},""]
[null,null,null,null,null,null,null,null,null,null,null,null,null,{"$f":"IF(LDAR_H_UU_summary!C772=\"\",\"\",LDAR_H_UU_summary!C772)","v":""},{"$f":"IF(COUNTIF(N$2:N950,N950)=1,N950,\"\")","v":""},{"$f":"+IF(O950=\"\",\"\",MAX(P$1:P949)+1)","v":""},""]
[null,null,null,null,null,null,null,null,null,null,null,null,null,{"$f":"IF(LDAR_H_UU_summary!C773=\"\",\"\",LDAR_H_UU_summary!C773)","v":""},{"$f":"IF(COUNTIF(N$2:N951,N951)=1,N951,\"\")","v":""},{"$f":"+IF(O951=\"\",\"\",MAX(P$1:P950)+1)","v":""},""]
[null,null,null,null,null,null,null,null,null,null,null,null,null,{"$f":"IF(LDAR_H_UU_summary!C774=\"\",\"\",LDAR_H_UU_summary!C774)","v":""},{"$f":"IF(COUNTIF(N$2:N952,N952)=1,N952,\"\")","v":""},{"$f":"+IF(O952=\"\",\"\",MAX(P$1:P951)+1)","v":""},""]
[null,null,null,null,null,null,null,null,null,null,null,null,null,{"$f":"IF(LDAR_H_UU_summary!C775=\"\",\"\",LDAR_H_UU_summary!C775)","v":""},{"$f":"IF(COUNTIF(N$2:N953,N953)=1,N953,\"\")","v":""},{"$f":"+IF(O953=\"\",\"\",MAX(P$1:P952)+1)","v":""},""]
[null,null,null,null,null,null,null,null,null,null,null,null,null,{"$f":"IF(LDAR_H_UU_summary!C776=\"\",\"\",LDAR_H_UU_summary!C776)","v":""},{"$f":"IF(COUNTIF(N$2:N954,N954)=1,N954,\"\")","v":""},{"$f":"+IF(O954=\"\",\"\",MAX(P$1:P953)+1)","v":""},""]
[null,null,null,null,null,null,null,null,null,null,null,null,null,{"$f":"IF(LDAR_H_UU_summary!C777=\"\",\"\",LDAR_H_UU_summary!C777)","v":""},{"$f":"IF(COUNTIF(N$2:N955,N955)=1,N955,\"\")","v":""},{"$f":"+IF(O955=\"\",\"\",MAX(P$1:P954)+1)","v":""},""]
[null,null,null,null,null,null,null,null,null,null,null,null,null,{"$f":"IF(LDAR_H_UU_summary!C778=\"\",\"\",LDAR_H_UU_summary!C778)","v":""},{"$f":"IF(COUNTIF(N$2:N956,N956)=1,N956,\"\")","v":""},{"$f":"+IF(O956=\"\",\"\",MAX(P$1:P955)+1)","v":""},""]
[null,null,null,null,null,null,null,null,null,null,null,null,null,{"$f":"IF(LDAR_H_UU_summary!C779=\"\",\"\",LDAR_H_UU_summary!C779)","v":""},{"$f":"IF(COUNTIF(N$2:N957,N957)=1,N957,\"\")","v":""},{"$f":"+IF(O957=\"\",\"\",MAX(P$1:P956)+1)","v":""},""]
[null,null,null,null,null,null,null,null,null,null,null,null,null,{"$f":"IF(LDAR_H_UU_summary!C780=\"\",\"\",LDAR_H_UU_summary!C780)","v":""},{"$f":"IF(COUNTIF(N$2:N958,N958)=1,N958,\"\")","v":""},{"$f":"+IF(O958=\"\",\"\",MAX(P$1:P957)+1)","v":""},""]
[null,null,null,null,null,null,null,null,null,null,null,null,null,{"$f":"IF(LDAR_H_UU_summary!C781=\"\",\"\",LDAR_H_UU_summary!C781)","v":""},{"$f":"IF(COUNTIF(N$2:N959,N959)=1,N959,\"\")","v":""},{"$f":"+IF(O959=\"\",\"\",MAX(P$1:P958)+1)","v":""},""]
[null,null,null,null,null,null,null,null,null,null,null,null,null,{"$f":"IF(LDAR_H_UU_summary!C782=\"\",\"\",LDAR_H_UU_summary!C782)","v":""},{"$f":"IF(COUNTIF(N$2:N960,N960)=1,N960,\"\")","v":""},{"$f":"+IF(O960=\"\",\"\",MAX(P$1:P959)+1)","v":""},""]
[null,null,null,null,null,null,null,null,null,null,null,null,null,{"$f":"IF(LDAR_H_UU_summary!C783=\"\",\"\",LDAR_H_UU_summary!C783)","v":""},{"$f":"IF(COUNTIF(N$2:N961,N961)=1,N961,\"\")","v":""},{"$f":"+IF(O961=\"\",\"\",MAX(P$1:P960)+1)","v":""},""]
[null,null,null,null,null,null,null,null,null,null,null,null,null,{"$f":"IF(LDAR_H_UU_summary!C784=\"\",\"\",LDAR_H_UU_summary!C784)","v":""},{"$f":"IF(COUNTIF(N$2:N962,N962)=1,N962,\"\")","v":""},{"$f":"+IF(O962=\"\",\"\",MAX(P$1:P961)+1)","v":""},""]
[null,null,null,null,null,null,null,null,null,null,null,null,null,{"$f":"IF(LDAR_H_UU_summary!C785=\"\",\"\",LDAR_H_UU_summary!C785)","v":""},{"$f":"IF(COUNTIF(N$2:N963,N963)=1,N963,\"\")","v":""},{"$f":"+IF(O963=\"\",\"\",MAX(P$1:P962)+1)","v":""},{"$f":"+IFERROR(INDEX($N$2:$N$2001,MATCH(ROW()-ROW($P$1),$P$2:$P$2001,0)),\"\")","v":""}]
[null,null,null,null,null,null,null,null,null,null,null,null,null,{"$f":"IF(LDAR_H_UU_summary!C786=\"\",\"\",LDAR_H_UU_summary!C786)","v":""},{"$f":"IF(COUNTIF(N$2:N964,N964)=1,N964,\"\")","v":""},{"$f":"+IF(O964=\"\",\"\",MAX(P$1:P963)+1)","v":""},""]
[null,null,null,null,null,null,null,null,null,null,null,null,null,{"$f":"IF(LDAR_H_UU_summary!C787=\"\",\"\",LDAR_H_UU_summary!C787)","v":""},{"$f":"IF(COUNTIF(N$2:N965,N965)=1,N965,\"\")","v":""},{"$f":"+IF(O965=\"\",\"\",MAX(P$1:P964)+1)","v":""},""]
[null,null,null,null,null,null,null,null,null,null,null,null,null,{"$f":"IF(LDAR_H_UU_summary!C788=\"\",\"\",LDAR_H_UU_summary!C788)","v":""},{"$f":"IF(COUNTIF(N$2:N966,N966)=1,N966,\"\")","v":""},{"$f":"+IF(O966=\"\",\"\",MAX(P$1:P965)+1)","v":""},""]
[null,null,null,null,null,null,null,null,null,null,null,null,null,{"$f":"IF(LDAR_H_UU_summary!C789=\"\",\"\",LDAR_H_UU_summary!C789)","v":""},{"$f":"IF(COUNTIF(N$2:N967,N967)=1,N967,\"\")","v":""},{"$f":"+IF(O967=\"\",\"\",MAX(P$1:P966)+1)","v":""},""]
[null,null,null,null,null,null,null,null,null,null,null,null,null,{"$f":"IF(LDAR_H_UU_summary!C790=\"\",\"\",LDAR_H_UU_summary!C790)","v":""},{"$f":"IF(COUNTIF(N$2:N968,N968)=1,N968,\"\")","v":""},{"$f":"+IF(O968=\"\",\"\",MAX(P$1:P967)+1)","v":""},""]
[null,null,null,null,null,null,null,null,null,null,null,null,null,{"$f":"IF(LDAR_H_UU_summary!C791=\"\",\"\",LDAR_H_UU_summary!C791)","v":""},{"$f":"IF(COUNTIF(N$2:N969,N969)=1,N969,\"\")","v":""},{"$f":"+IF(O969=\"\",\"\",MAX(P$1:P968)+1)","v":""},""]
[null,null,null,null,null,null,null,null,null,null,null,null,null,{"$f":"IF(LDAR_H_UU_summary!C792=\"\",\"\",LDAR_H_UU_summary!C792)","v":""},{"$f":"IF(COUNTIF(N$2:N970,N970)=1,N970,\"\")","v":""},{"$f":"+IF(O970=\"\",\"\",MAX(P$1:P969)+1)","v":""},""]
[null,null,null,null,null,null,null,null,null,null,null,null,null,{"$f":"IF(LDAR_H_UU_summary!C793=\"\",\"\",LDAR_H_UU_summary!C793)","v":""},{"$f":"IF(COUNTIF(N$2:N971,N971)=1,N971,\"\")","v":""},{"$f":"+IF(O971=\"\",\"\",MAX(P$1:P970)+1)","v":""},""]
[null,null,null,null,null,null,null,null,null,null,null,null,null,{"$f":"IF(LDAR_H_UU_summary!C794=\"\",\"\",LDAR_H_UU_summary!C794)","v":""},{"$f":"IF(COUNTIF(N$2:N972,N972)=1,N972,\"\")","v":""},{"$f":"+IF(O972=\"\",\"\",MAX(P$1:P971)+1)","v":""},""]
[null,null,null,null,null,null,null,null,null,null,null,null,null,{"$f":"IF(LDAR_H_UU_summary!C795=\"\",\"\",LDAR_H_UU_summary!C795)","v":""},{"$f":"IF(COUNTIF(N$2:N973,N973)=1,N973,\"\")","v":""},{"$f":"+IF(O973=\"\",\"\",MAX(P$1:P972)+1)","v":""},""]
[null,null,null,null,null,null,null,null,null,null,null,null,null,{"$f":"IF(LDAR_H_UU_summary!C796=\"\",\"\",LDAR_H_UU_summary!C796)","v":""},{"$f":"IF(COUNTIF(N$2:N974,N974)=1,N974,\"\")","v":""},{"$f":"+IF(O974=\"\",\"\",MAX(P$1:P973)+1)","v":""},""]
[null,null,null,null,null,null,null,null,null,null,null,null,null,{"$f":"IF(LDAR_H_UU_summary!C797=\"\",\"\",LDAR_H_UU_summary!C797)","v":""},{"$f":"IF(COUNTIF(N$2:N975,N975)=1,N975,\"\")","v":""},{"$f":"+IF(O975=\"\",\"\",MAX(P$1:P974)+1)","v":""},""]
[null,null,null,null,null,null,null,null,null,null,null,null,null,{"$f":"IF(LDAR_H_UU_summary!C798=\"\",\"\",LDAR_H_UU_summary!C798)","v":""},{"$f":"IF(COUNTIF(N$2:N976,N976)=1,N976,\"\")","v":""},{"$f":"+IF(O976=\"\",\"\",MAX(P$1:P975)+1)","v":""},""]
[null,null,null,null,null,null,null,null,null,null,null,null,null,{"$f":"IF(LDAR_H_UU_summary!C799=\"\",\"\",LDAR_H_UU_summary!C799)","v":""},{"$f":"IF(COUNTIF(N$2:N977,N977)=1,N977,\"\")","v":""},{"$f":"+IF(O977=\"\",\"\",MAX(P$1:P976)+1)","v":""},""]
[null,null,null,null,null,null,null,null,null,null,null,null,null,{"$f":"IF(LDAR_H_UU_summary!C800=\"\",\"\",LDAR_H_UU_summary!C800)","v":""},{"$f":"IF(COUNTIF(N$2:N978,N978)=1,N978,\"\")","v":""},{"$f":"+IF(O978=\"\",\"\",MAX(P$1:P977)+1)","v":""},""]
[null,null,null,null,null,null,null,null,null,null,null,null,null,{"$f":"IF(LDAR_H_UU_summary!C801=\"\",\"\",LDAR_H_UU_summary!C801)","v":""},{"$f":"IF(COUNTIF(N$2:N979,N979)=1,N979,\"\")","v":""},{"$f":"+IF(O979=\"\",\"\",MAX(P$1:P978)+1)","v":""},""]
[null,null,null,null,null,null,null,null,null,null,null,null,null,{"$f":"IF(LDAR_H_UU_summary!C802=\"\",\"\",LDAR_H_UU_summary!C802)","v":""},{"$f":"IF(COUNTIF(N$2:N980,N980)=1,N980,\"\")","v":""},{"$f":"+IF(O980=\"\",\"\",MAX(P$1:P979)+1)","v":""},""]
[null,null,null,null,null,null,null,null,null,null,null,null,null,{"$f":"IF(LDAR_H_UU_summary!C803=\"\",\"\",LDAR_H_UU_summary!C803)","v":""},{"$f":"IF(COUNTIF(N$2:N981,N981)=1,N981,\"\")","v":""},{"$f":"+IF(O981=\"\",\"\",MAX(P$1:P980)+1)","v":""},""]
[null,null,null,null,null,null,null,null,null,null,null,null,null,{"$f":"IF(LDAR_H_UU_summary!C804=\"\",\"\",LDAR_H_UU_summary!C804)","v":""},{"$f":"IF(COUNTIF(N$2:N982,N982)=1,N982,\"\")","v":""},{"$f":"+IF(O982=\"\",\"\",MAX(P$1:P981)+1)","v":""},""]
[null,null,null,null,null,null,null,null,null,null,null,null,null,{"$f":"IF(LDAR_H_UU_summary!C805=\"\",\"\",LDAR_H_UU_summary!C805)","v":""},{"$f":"IF(COUNTIF(N$2:N983,N983)=1,N983,\"\")","v":""},{"$f":"+IF(O983=\"\",\"\",MAX(P$1:P982)+1)","v":""},""]
[null,null,null,null,null,null,null,null,null,null,null,null,null,{"$f":"IF(LDAR_H_UU_summary!C806=\"\",\"\",LDAR_H_UU_summary!C806)","v":""},{"$f":"IF(COUNTIF(N$2:N984,N984)=1,N984,\"\")","v":""},{"$f":"+IF(O984=\"\",\"\",MAX(P$1:P983)+1)","v":""},""]
[null,null,null,null,null,null,null,null,null,null,null,null,null,{"$f":"IF(LDAR_H_UU_summary!C807=\"\",\"\",LDAR_H_UU_summary!C807)","v":""},{"$f":"IF(COUNTIF(N$2:N985,N985)=1,N985,\"\")","v":""},{"$f":"+IF(O985=\"\",\"\",MAX(P$1:P984)+1)","v":""},""]
[null,null,null,null,null,null,null,null,null,null,null,null,null,{"$f":"IF(LDAR_H_UU_summary!C808=\"\",\"\",LDAR_H_UU_summary!C808)","v":""},{"$f":"IF(COUNTIF(N$2:N986,N986)=1,N986,\"\")","v":""},{"$f":"+IF(O986=\"\",\"\",MAX(P$1:P985)+1)","v":""},""]
[null,null,null,null,null,null,null,null,null,null,null,null,null,{"$f":"IF(LDAR_H_UU_summary!C809=\"\",\"\",LDAR_H_UU_summary!C809)","v":""},{"$f":"IF(COUNTIF(N$2:N987,N987)=1,N987,\"\")","v":""},{"$f":"+IF(O987=\"\",\"\",MAX(P$1:P986)+1)","v":""},""]
[null,null,null,null,null,null,null,null,null,null,null,null,null,{"$f":"IF(LDAR_H_UU_summary!C810=\"\",\"\",LDAR_H_UU_summary!C810)","v":""},{"$f":"IF(COUNTIF(N$2:N988,N988)=1,N988,\"\")","v":""},{"$f":"+IF(O988=\"\",\"\",MAX(P$1:P987)+1)","v":""},""]
[null,null,null,null,null,null,null,null,null,null,null,null,null,{"$f":"IF(LDAR_H_UU_summary!C811=\"\",\"\",LDAR_H_UU_summary!C811)","v":""},{"$f":"IF(COUNTIF(N$2:N989,N989)=1,N989,\"\")","v":""},{"$f":"+IF(O989=\"\",\"\",MAX(P$1:P988)+1)","v":""},""]
[null,null,null,null,null,null,null,null,null,null,null,null,null,{"$f":"IF(LDAR_H_UU_summary!C812=\"\",\"\",LDAR_H_UU_summary!C812)","v":""},{"$f":"IF(COUNTIF(N$2:N990,N990)=1,N990,\"\")","v":""},{"$f":"+IF(O990=\"\",\"\",MAX(P$1:P989)+1)","v":""},""]
[null,null,null,null,null,null,null,null,null,null,null,null,null,{"$f":"IF(LDAR_H_UU_summary!C813=\"\",\"\",LDAR_H_UU_summary!C813)","v":""},{"$f":"IF(COUNTIF(N$2:N991,N991)=1,N991,\"\")","v":""},{"$f":"+IF(O991=\"\",\"\",MAX(P$1:P990)+1)","v":""},""]
[null,null,null,null,null,null,null,null,null,null,null,null,null,{"$f":"IF(LDAR_H_UU_summary!C814=\"\",\"\",LDAR_H_UU_summary!C814)","v":""},{"$f":"IF(COUNTIF(N$2:N992,N992)=1,N992,\"\")","v":""},{"$f":"+IF(O992=\"\",\"\",MAX(P$1:P991)+1)","v":""},""]
[null,null,null,null,null,null,null,null,null,null,null,null,null,{"$f":"IF(LDAR_H_UU_summary!C815=\"\",\"\",LDAR_H_UU_summary!C815)","v":""},{"$f":"IF(COUNTIF(N$2:N993,N993)=1,N993,\"\")","v":""},{"$f":"+IF(O993=\"\",\"\",MAX(P$1:P992)+1)","v":""},""]
[null,null,null,null,null,null,null,null,null,null,null,null,null,{"$f":"IF(LDAR_H_UU_summary!C816=\"\",\"\",LDAR_H_UU_summary!C816)","v":""},{"$f":"IF(COUNTIF(N$2:N994,N994)=1,N994,\"\")","v":""},{"$f":"+IF(O994=\"\",\"\",MAX(P$1:P993)+1)","v":""},""]
[null,null,null,null,null,null,null,null,null,null,null,null,null,{"$f":"IF(LDAR_H_UU_summary!C817=\"\",\"\",LDAR_H_UU_summary!C817)","v":""},{"$f":"IF(COUNTIF(N$2:N995,N995)=1,N995,\"\")","v":""},{"$f":"+IF(O995=\"\",\"\",MAX(P$1:P994)+1)","v":""},""]
[null,null,null,null,null,null,null,null,null,null,null,null,null,{"$f":"IF(LDAR_H_UU_summary!C818=\"\",\"\",LDAR_H_UU_summary!C818)","v":""},{"$f":"IF(COUNTIF(N$2:N996,N996)=1,N996,\"\")","v":""},{"$f":"+IF(O996=\"\",\"\",MAX(P$1:P995)+1)","v":""},""]
[null,null,null,null,null,null,null,null,null,null,null,null,null,{"$f":"IF(LDAR_H_UU_summary!C819=\"\",\"\",LDAR_H_UU_summary!C819)","v":""},{"$f":"IF(COUNTIF(N$2:N997,N997)=1,N997,\"\")","v":""},{"$f":"+IF(O997=\"\",\"\",MAX(P$1:P996)+1)","v":""},""]
[null,null,null,null,null,null,null,null,null,null,null,null,null,{"$f":"IF(LDAR_H_UU_summary!C820=\"\",\"\",LDAR_H_UU_summary!C820)","v":""},{"$f":"IF(COUNTIF(N$2:N998,N998)=1,N998,\"\")","v":""},{"$f":"+IF(O998=\"\",\"\",MAX(P$1:P997)+1)","v":""},""]
[null,null,null,null,null,null,null,null,null,null,null,null,null,{"$f":"IF(LDAR_H_UU_summary!C821=\"\",\"\",LDAR_H_UU_summary!C821)","v":""},{"$f":"IF(COUNTIF(N$2:N999,N999)=1,N999,\"\")","v":""},{"$f":"+IF(O999=\"\",\"\",MAX(P$1:P998)+1)","v":""},""]
[null,null,null,null,null,null,null,null,null,null,null,null,null,{"$f":"IF(LDAR_H_UU_summary!C822=\"\",\"\",LDAR_H_UU_summary!C822)","v":""},{"$f":"IF(COUNTIF(N$2:N1000,N1000)=1,N1000,\"\")","v":""},{"$f":"+IF(O1000=\"\",\"\",MAX(P$1:P999)+1)","v":""},""]
[null,null,null,null,null,null,null,null,null,null,null,null,null,{"$f":"IF(LDAR_H_UU_summary!C823=\"\",\"\",LDAR_H_UU_summary!C823)","v":""},{"$f":"IF(COUNTIF(N$2:N1001,N1001)=1,N1001,\"\")","v":""},{"$f":"+IF(O1001=\"\",\"\",MAX(P$1:P1000)+1)","v":""},""]
[null,null,null,null,null,null,null,null,null,null,null,null,null,{"$f":"IF(LDAR_H_UU_summary!C824=\"\",\"\",LDAR_H_UU_summary!C824)","v":""},{"$f":"IF(COUNTIF(N$2:N1002,N1002)=1,N1002,\"\")","v":""},{"$f":"+IF(O1002=\"\",\"\",MAX(P$1:P1001)+1)","v":""},""]
[null,null,null,null,null,null,null,null,null,null,null,null,null,{"$f":"IF(LDAR_H_UU_summary!C825=\"\",\"\",LDAR_H_UU_summary!C825)","v":""},{"$f":"IF(COUNTIF(N$2:N1003,N1003)=1,N1003,\"\")","v":""},{"$f":"+IF(O1003=\"\",\"\",MAX(P$1:P1002)+1)","v":""},""]
[null,null,null,null,null,null,null,null,null,null,null,null,null,{"$f":"IF(LDAR_H_UU_summary!C826=\"\",\"\",LDAR_H_UU_summary!C826)","v":""},{"$f":"IF(COUNTIF(N$2:N1004,N1004)=1,N1004,\"\")","v":""},{"$f":"+IF(O1004=\"\",\"\",MAX(P$1:P1003)+1)","v":""},""]
[null,null,null,null,null,null,null,null,null,null,null,null,null,{"$f":"IF(LDAR_H_UU_summary!C827=\"\",\"\",LDAR_H_UU_summary!C827)","v":""},{"$f":"IF(COUNTIF(N$2:N1005,N1005)=1,N1005,\"\")","v":""},{"$f":"+IF(O1005=\"\",\"\",MAX(P$1:P1004)+1)","v":""},""]
[null,null,null,null,null,null,null,null,null,null,null,null,null,{"$f":"IF(LDAR_H_UU_summary!C828=\"\",\"\",LDAR_H_UU_summary!C828)","v":""},{"$f":"IF(COUNTIF(N$2:N1006,N1006)=1,N1006,\"\")","v":""},{"$f":"+IF(O1006=\"\",\"\",MAX(P$1:P1005)+1)","v":""},""]
[null,null,null,null,null,null,null,null,null,null,null,null,null,{"$f":"IF(LDAR_H_UU_summary!C829=\"\",\"\",LDAR_H_UU_summary!C829)","v":""},{"$f":"IF(COUNTIF(N$2:N1007,N1007)=1,N1007,\"\")","v":""},{"$f":"+IF(O1007=\"\",\"\",MAX(P$1:P1006)+1)","v":""},""]
[null,null,null,null,null,null,null,null,null,null,null,null,null,{"$f":"IF(LDAR_H_UU_summary!C830=\"\",\"\",LDAR_H_UU_summary!C830)","v":""},{"$f":"IF(COUNTIF(N$2:N1008,N1008)=1,N1008,\"\")","v":""},{"$f":"+IF(O1008=\"\",\"\",MAX(P$1:P1007)+1)","v":""},""]
[null,null,null,null,null,null,null,null,null,null,null,null,null,{"$f":"IF(LDAR_H_UU_summary!C831=\"\",\"\",LDAR_H_UU_summary!C831)","v":""},{"$f":"IF(COUNTIF(N$2:N1009,N1009)=1,N1009,\"\")","v":""},{"$f":"+IF(O1009=\"\",\"\",MAX(P$1:P1008)+1)","v":""},""]
[null,null,null,null,null,null,null,null,null,null,null,null,null,{"$f":"IF(LDAR_H_UU_summary!C832=\"\",\"\",LDAR_H_UU_summary!C832)","v":""},{"$f":"IF(COUNTIF(N$2:N1010,N1010)=1,N1010,\"\")","v":""},{"$f":"+IF(O1010=\"\",\"\",MAX(P$1:P1009)+1)","v":""},""]
[null,null,null,null,null,null,null,null,null,null,null,null,null,{"$f":"IF(LDAR_H_UU_summary!C833=\"\",\"\",LDAR_H_UU_summary!C833)","v":""},{"$f":"IF(COUNTIF(N$2:N1011,N1011)=1,N1011,\"\")","v":""},{"$f":"+IF(O1011=\"\",\"\",MAX(P$1:P1010)+1)","v":""},""]
[null,null,null,null,null,null,null,null,null,null,null,null,null,{"$f":"IF(LDAR_H_UU_summary!C834=\"\",\"\",LDAR_H_UU_summary!C834)","v":""},{"$f":"IF(COUNTIF(N$2:N1012,N1012)=1,N1012,\"\")","v":""},{"$f":"+IF(O1012=\"\",\"\",MAX(P$1:P1011)+1)","v":""},""]
[null,null,null,null,null,null,null,null,null,null,null,null,null,{"$f":"IF(LDAR_H_UU_summary!C835=\"\",\"\",LDAR_H_UU_summary!C835)","v":""},{"$f":"IF(COUNTIF(N$2:N1013,N1013)=1,N1013,\"\")","v":""},{"$f":"+IF(O1013=\"\",\"\",MAX(P$1:P1012)+1)","v":""},""]
[null,null,null,null,null,null,null,null,null,null,null,null,null,{"$f":"IF(LDAR_H_UU_summary!C836=\"\",\"\",LDAR_H_UU_summary!C836)","v":""},{"$f":"IF(COUNTIF(N$2:N1014,N1014)=1,N1014,\"\")","v":""},{"$f":"+IF(O1014=\"\",\"\",MAX(P$1:P1013)+1)","v":""},""]
[null,null,null,null,null,null,null,null,null,null,null,null,null,{"$f":"IF(LDAR_H_UU_summary!C837=\"\",\"\",LDAR_H_UU_summary!C837)","v":""},{"$f":"IF(COUNTIF(N$2:N1015,N1015)=1,N1015,\"\")","v":""},{"$f":"+IF(O1015=\"\",\"\",MAX(P$1:P1014)+1)","v":""},""]
[null,null,null,null,null,null,null,null,null,null,null,null,null,{"$f":"IF(LDAR_H_UU_summary!C838=\"\",\"\",LDAR_H_UU_summary!C838)","v":""},{"$f":"IF(COUNTIF(N$2:N1016,N1016)=1,N1016,\"\")","v":""},{"$f":"+IF(O1016=\"\",\"\",MAX(P$1:P1015)+1)","v":""},""]
[null,null,null,null,null,null,null,null,null,null,null,null,null,{"$f":"IF(LDAR_H_UU_summary!C839=\"\",\"\",LDAR_H_UU_summary!C839)","v":""},{"$f":"IF(COUNTIF(N$2:N1017,N1017)=1,N1017,\"\")","v":""},{"$f":"+IF(O1017=\"\",\"\",MAX(P$1:P1016)+1)","v":""},""]
[null,null,null,null,null,null,null,null,null,null,null,null,null,{"$f":"IF(LDAR_H_UU_summary!C840=\"\",\"\",LDAR_H_UU_summary!C840)","v":""},{"$f":"IF(COUNTIF(N$2:N1018,N1018)=1,N1018,\"\")","v":""},{"$f":"+IF(O1018=\"\",\"\",MAX(P$1:P1017)+1)","v":""},""]
[null,null,null,null,null,null,null,null,null,null,null,null,null,{"$f":"IF(LDAR_H_UU_summary!C841=\"\",\"\",LDAR_H_UU_summary!C841)","v":""},{"$f":"IF(COUNTIF(N$2:N1019,N1019)=1,N1019,\"\")","v":""},{"$f":"+IF(O1019=\"\",\"\",MAX(P$1:P1018)+1)","v":""},""]
[null,null,null,null,null,null,null,null,null,null,null,null,null,{"$f":"IF(LDAR_H_UU_summary!C842=\"\",\"\",LDAR_H_UU_summary!C842)","v":""},{"$f":"IF(COUNTIF(N$2:N1020,N1020)=1,N1020,\"\")","v":""},{"$f":"+IF(O1020=\"\",\"\",MAX(P$1:P1019)+1)","v":""},""]
[null,null,null,null,null,null,null,null,null,null,null,null,null,{"$f":"IF(LDAR_H_UU_summary!C843=\"\",\"\",LDAR_H_UU_summary!C843)","v":""},{"$f":"IF(COUNTIF(N$2:N1021,N1021)=1,N1021,\"\")","v":""},{"$f":"+IF(O1021=\"\",\"\",MAX(P$1:P1020)+1)","v":""},""]
[null,null,null,null,null,null,null,null,null,null,null,null,null,{"$f":"IF(LDAR_H_UU_summary!C844=\"\",\"\",LDAR_H_UU_summary!C844)","v":""},{"$f":"IF(COUNTIF(N$2:N1022,N1022)=1,N1022,\"\")","v":""},{"$f":"+IF(O1022=\"\",\"\",MAX(P$1:P1021)+1)","v":""},""]
[null,null,null,null,null,null,null,null,null,null,null,null,null,{"$f":"IF(LDAR_H_UU_summary!C845=\"\",\"\",LDAR_H_UU_summary!C845)","v":""},{"$f":"IF(COUNTIF(N$2:N1023,N1023)=1,N1023,\"\")","v":""},{"$f":"+IF(O1023=\"\",\"\",MAX(P$1:P1022)+1)","v":""},""]
[null,null,null,null,null,null,null,null,null,null,null,null,null,{"$f":"IF(LDAR_H_UU_summary!C846=\"\",\"\",LDAR_H_UU_summary!C846)","v":""},{"$f":"IF(COUNTIF(N$2:N1024,N1024)=1,N1024,\"\")","v":""},{"$f":"+IF(O1024=\"\",\"\",MAX(P$1:P1023)+1)","v":""},""]
[null,null,null,null,null,null,null,null,null,null,null,null,null,{"$f":"IF(LDAR_H_UU_summary!C847=\"\",\"\",LDAR_H_UU_summary!C847)","v":""},{"$f":"IF(COUNTIF(N$2:N1025,N1025)=1,N1025,\"\")","v":""},{"$f":"+IF(O1025=\"\",\"\",MAX(P$1:P1024)+1)","v":""},""]
[null,null,null,null,null,null,null,null,null,null,null,null,null,{"$f":"IF(LDAR_H_UU_summary!C848=\"\",\"\",LDAR_H_UU_summary!C848)","v":""},{"$f":"IF(COUNTIF(N$2:N1026,N1026)=1,N1026,\"\")","v":""},{"$f":"+IF(O1026=\"\",\"\",MAX(P$1:P1025)+1)","v":""},""]
[null,null,null,null,null,null,null,null,null,null,null,null,null,{"$f":"IF(LDAR_H_UU_summary!C849=\"\",\"\",LDAR_H_UU_summary!C849)","v":""},{"$f":"IF(COUNTIF(N$2:N1027,N1027)=1,N1027,\"\")","v":""},{"$f":"+IF(O1027=\"\",\"\",MAX(P$1:P1026)+1)","v":""},{"$f":"+IFERROR(INDEX($N$2:$N$2001,MATCH(ROW()-ROW($P$1),$P$2:$P$2001,0)),\"\")","v":""}]
[null,null,null,null,null,null,null,null,null,null,null,null,null,{"$f":"IF(LDAR_H_UU_summary!C850=\"\",\"\",LDAR_H_UU_summary!C850)","v":""},{"$f":"IF(COUNTIF(N$2:N1028,N1028)=1,N1028,\"\")","v":""},{"$f":"+IF(O1028=\"\",\"\",MAX(P$1:P1027)+1)","v":""},""]
[null,null,null,null,null,null,null,null,null,null,null,null,null,{"$f":"IF(LDAR_H_UU_summary!C851=\"\",\"\",LDAR_H_UU_summary!C851)","v":""},{"$f":"IF(COUNTIF(N$2:N1029,N1029)=1,N1029,\"\")","v":""},{"$f":"+IF(O1029=\"\",\"\",MAX(P$1:P1028)+1)","v":""},""]
[null,null,null,null,null,null,null,null,null,null,null,null,null,{"$f":"IF(LDAR_H_UU_summary!C852=\"\",\"\",LDAR_H_UU_summary!C852)","v":""},{"$f":"IF(COUNTIF(N$2:N1030,N1030)=1,N1030,\"\")","v":""},{"$f":"+IF(O1030=\"\",\"\",MAX(P$1:P1029)+1)","v":""},""]
[null,null,null,null,null,null,null,null,null,null,null,null,null,{"$f":"IF(LDAR_H_UU_summary!C853=\"\",\"\",LDAR_H_UU_summary!C853)","v":""},{"$f":"IF(COUNTIF(N$2:N1031,N1031)=1,N1031,\"\")","v":""},{"$f":"+IF(O1031=\"\",\"\",MAX(P$1:P1030)+1)","v":""},""]
[null,null,null,null,null,null,null,null,null,null,null,null,null,{"$f":"IF(LDAR_H_UU_summary!C854=\"\",\"\",LDAR_H_UU_summary!C854)","v":""},{"$f":"IF(COUNTIF(N$2:N1032,N1032)=1,N1032,\"\")","v":""},{"$f":"+IF(O1032=\"\",\"\",MAX(P$1:P1031)+1)","v":""},""]
[null,null,null,null,null,null,null,null,null,null,null,null,null,{"$f":"IF(LDAR_H_UU_summary!C855=\"\",\"\",LDAR_H_UU_summary!C855)","v":""},{"$f":"IF(COUNTIF(N$2:N1033,N1033)=1,N1033,\"\")","v":""},{"$f":"+IF(O1033=\"\",\"\",MAX(P$1:P1032)+1)","v":""},""]
[null,null,null,null,null,null,null,null,null,null,null,null,null,{"$f":"IF(LDAR_H_UU_summary!C856=\"\",\"\",LDAR_H_UU_summary!C856)","v":""},{"$f":"IF(COUNTIF(N$2:N1034,N1034)=1,N1034,\"\")","v":""},{"$f":"+IF(O1034=\"\",\"\",MAX(P$1:P1033)+1)","v":""},""]
[null,null,null,null,null,null,null,null,null,null,null,null,null,{"$f":"IF(LDAR_H_UU_summary!C857=\"\",\"\",LDAR_H_UU_summary!C857)","v":""},{"$f":"IF(COUNTIF(N$2:N1035,N1035)=1,N1035,\"\")","v":""},{"$f":"+IF(O1035=\"\",\"\",MAX(P$1:P1034)+1)","v":""},""]
[null,null,null,null,null,null,null,null,null,null,null,null,null,{"$f":"IF(LDAR_H_UU_summary!C858=\"\",\"\",LDAR_H_UU_summary!C858)","v":""},{"$f":"IF(COUNTIF(N$2:N1036,N1036)=1,N1036,\"\")","v":""},{"$f":"+IF(O1036=\"\",\"\",MAX(P$1:P1035)+1)","v":""},""]
[null,null,null,null,null,null,null,null,null,null,null,null,null,{"$f":"IF(LDAR_H_UU_summary!C859=\"\",\"\",LDAR_H_UU_summary!C859)","v":""},{"$f":"IF(COUNTIF(N$2:N1037,N1037)=1,N1037,\"\")","v":""},{"$f":"+IF(O1037=\"\",\"\",MAX(P$1:P1036)+1)","v":""},""]
[null,null,null,null,null,null,null,null,null,null,null,null,null,{"$f":"IF(LDAR_H_UU_summary!C860=\"\",\"\",LDAR_H_UU_summary!C860)","v":""},{"$f":"IF(COUNTIF(N$2:N1038,N1038)=1,N1038,\"\")","v":""},{"$f":"+IF(O1038=\"\",\"\",MAX(P$1:P1037)+1)","v":""},""]
[null,null,null,null,null,null,null,null,null,null,null,null,null,{"$f":"IF(LDAR_H_UU_summary!C861=\"\",\"\",LDAR_H_UU_summary!C861)","v":""},{"$f":"IF(COUNTIF(N$2:N1039,N1039)=1,N1039,\"\")","v":""},{"$f":"+IF(O1039=\"\",\"\",MAX(P$1:P1038)+1)","v":""},""]
[null,null,null,null,null,null,null,null,null,null,null,null,null,{"$f":"IF(LDAR_H_UU_summary!C862=\"\",\"\",LDAR_H_UU_summary!C862)","v":""},{"$f":"IF(COUNTIF(N$2:N1040,N1040)=1,N1040,\"\")","v":""},{"$f":"+IF(O1040=\"\",\"\",MAX(P$1:P1039)+1)","v":""},""]
[null,null,null,null,null,null,null,null,null,null,null,null,null,{"$f":"IF(LDAR_H_UU_summary!C863=\"\",\"\",LDAR_H_UU_summary!C863)","v":""},{"$f":"IF(COUNTIF(N$2:N1041,N1041)=1,N1041,\"\")","v":""},{"$f":"+IF(O1041=\"\",\"\",MAX(P$1:P1040)+1)","v":""},""]
[null,null,null,null,null,null,null,null,null,null,null,null,null,{"$f":"IF(LDAR_H_UU_summary!C864=\"\",\"\",LDAR_H_UU_summary!C864)","v":""},{"$f":"IF(COUNTIF(N$2:N1042,N1042)=1,N1042,\"\")","v":""},{"$f":"+IF(O1042=\"\",\"\",MAX(P$1:P1041)+1)","v":""},""]
[null,null,null,null,null,null,null,null,null,null,null,null,null,{"$f":"IF(LDAR_H_UU_summary!C865=\"\",\"\",LDAR_H_UU_summary!C865)","v":""},{"$f":"IF(COUNTIF(N$2:N1043,N1043)=1,N1043,\"\")","v":""},{"$f":"+IF(O1043=\"\",\"\",MAX(P$1:P1042)+1)","v":""},""]
[null,null,null,null,null,null,null,null,null,null,null,null,null,{"$f":"IF(LDAR_H_UU_summary!C866=\"\",\"\",LDAR_H_UU_summary!C866)","v":""},{"$f":"IF(COUNTIF(N$2:N1044,N1044)=1,N1044,\"\")","v":""},{"$f":"+IF(O1044=\"\",\"\",MAX(P$1:P1043)+1)","v":""},""]
[null,null,null,null,null,null,null,null,null,null,null,null,null,{"$f":"IF(LDAR_H_UU_summary!C867=\"\",\"\",LDAR_H_UU_summary!C867)","v":""},{"$f":"IF(COUNTIF(N$2:N1045,N1045)=1,N1045,\"\")","v":""},{"$f":"+IF(O1045=\"\",\"\",MAX(P$1:P1044)+1)","v":""},""]
[null,null,null,null,null,null,null,null,null,null,null,null,null,{"$f":"IF(LDAR_H_UU_summary!C868=\"\",\"\",LDAR_H_UU_summary!C868)","v":""},{"$f":"IF(COUNTIF(N$2:N1046,N1046)=1,N1046,\"\")","v":""},{"$f":"+IF(O1046=\"\",\"\",MAX(P$1:P1045)+1)","v":""},""]
[null,null,null,null,null,null,null,null,null,null,null,null,null,{"$f":"IF(LDAR_H_UU_summary!C869=\"\",\"\",LDAR_H_UU_summary!C869)","v":""},{"$f":"IF(COUNTIF(N$2:N1047,N1047)=1,N1047,\"\")","v":""},{"$f":"+IF(O1047=\"\",\"\",MAX(P$1:P1046)+1)","v":""},""]
[null,null,null,null,null,null,null,null,null,null,null,null,null,{"$f":"IF(LDAR_H_UU_summary!C870=\"\",\"\",LDAR_H_UU_summary!C870)","v":""},{"$f":"IF(COUNTIF(N$2:N1048,N1048)=1,N1048,\"\")","v":""},{"$f":"+IF(O1048=\"\",\"\",MAX(P$1:P1047)+1)","v":""},""]
[null,null,null,null,null,null,null,null,null,null,null,null,null,{"$f":"IF(LDAR_H_UU_summary!C871=\"\",\"\",LDAR_H_UU_summary!C871)","v":""},{"$f":"IF(COUNTIF(N$2:N1049,N1049)=1,N1049,\"\")","v":""},{"$f":"+IF(O1049=\"\",\"\",MAX(P$1:P1048)+1)","v":""},""]
[null,null,null,null,null,null,null,null,null,null,null,null,null,{"$f":"IF(LDAR_H_UU_summary!C872=\"\",\"\",LDAR_H_UU_summary!C872)","v":""},{"$f":"IF(COUNTIF(N$2:N1050,N1050)=1,N1050,\"\")","v":""},{"$f":"+IF(O1050=\"\",\"\",MAX(P$1:P1049)+1)","v":""},""]
[null,null,null,null,null,null,null,null,null,null,null,null,null,{"$f":"IF(LDAR_H_UU_summary!C873=\"\",\"\",LDAR_H_UU_summary!C873)","v":""},{"$f":"IF(COUNTIF(N$2:N1051,N1051)=1,N1051,\"\")","v":""},{"$f":"+IF(O1051=\"\",\"\",MAX(P$1:P1050)+1)","v":""},""]
[null,null,null,null,null,null,null,null,null,null,null,null,null,{"$f":"IF(LDAR_H_UU_summary!C874=\"\",\"\",LDAR_H_UU_summary!C874)","v":""},{"$f":"IF(COUNTIF(N$2:N1052,N1052)=1,N1052,\"\")","v":""},{"$f":"+IF(O1052=\"\",\"\",MAX(P$1:P1051)+1)","v":""},""]
[null,null,null,null,null,null,null,null,null,null,null,null,null,{"$f":"IF(LDAR_H_UU_summary!C875=\"\",\"\",LDAR_H_UU_summary!C875)","v":""},{"$f":"IF(COUNTIF(N$2:N1053,N1053)=1,N1053,\"\")","v":""},{"$f":"+IF(O1053=\"\",\"\",MAX(P$1:P1052)+1)","v":""},""]
[null,null,null,null,null,null,null,null,null,null,null,null,null,{"$f":"IF(LDAR_H_UU_summary!C876=\"\",\"\",LDAR_H_UU_summary!C876)","v":""},{"$f":"IF(COUNTIF(N$2:N1054,N1054)=1,N1054,\"\")","v":""},{"$f":"+IF(O1054=\"\",\"\",MAX(P$1:P1053)+1)","v":""},""]
[null,null,null,null,null,null,null,null,null,null,null,null,null,{"$f":"IF(LDAR_H_UU_summary!C877=\"\",\"\",LDAR_H_UU_summary!C877)","v":""},{"$f":"IF(COUNTIF(N$2:N1055,N1055)=1,N1055,\"\")","v":""},{"$f":"+IF(O1055=\"\",\"\",MAX(P$1:P1054)+1)","v":""},""]
[null,null,null,null,null,null,null,null,null,null,null,null,null,{"$f":"IF(LDAR_H_UU_summary!C878=\"\",\"\",LDAR_H_UU_summary!C878)","v":""},{"$f":"IF(COUNTIF(N$2:N1056,N1056)=1,N1056,\"\")","v":""},{"$f":"+IF(O1056=\"\",\"\",MAX(P$1:P1055)+1)","v":""},""]
[null,null,null,null,null,null,null,null,null,null,null,null,null,{"$f":"IF(LDAR_H_UU_summary!C879=\"\",\"\",LDAR_H_UU_summary!C879)","v":""},{"$f":"IF(COUNTIF(N$2:N1057,N1057)=1,N1057,\"\")","v":""},{"$f":"+IF(O1057=\"\",\"\",MAX(P$1:P1056)+1)","v":""},""]
[null,null,null,null,null,null,null,null,null,null,null,null,null,{"$f":"IF(LDAR_H_UU_summary!C880=\"\",\"\",LDAR_H_UU_summary!C880)","v":""},{"$f":"IF(COUNTIF(N$2:N1058,N1058)=1,N1058,\"\")","v":""},{"$f":"+IF(O1058=\"\",\"\",MAX(P$1:P1057)+1)","v":""},""]
[null,null,null,null,null,null,null,null,null,null,null,null,null,{"$f":"IF(LDAR_H_UU_summary!C881=\"\",\"\",LDAR_H_UU_summary!C881)","v":""},{"$f":"IF(COUNTIF(N$2:N1059,N1059)=1,N1059,\"\")","v":""},{"$f":"+IF(O1059=\"\",\"\",MAX(P$1:P1058)+1)","v":""},""]
[null,null,null,null,null,null,null,null,null,null,null,null,null,{"$f":"IF(LDAR_H_UU_summary!C882=\"\",\"\",LDAR_H_UU_summary!C882)","v":""},{"$f":"IF(COUNTIF(N$2:N1060,N1060)=1,N1060,\"\")","v":""},{"$f":"+IF(O1060=\"\",\"\",MAX(P$1:P1059)+1)","v":""},""]
[null,null,null,null,null,null,null,null,null,null,null,null,null,{"$f":"IF(LDAR_H_UU_summary!C883=\"\",\"\",LDAR_H_UU_summary!C883)","v":""},{"$f":"IF(COUNTIF(N$2:N1061,N1061)=1,N1061,\"\")","v":""},{"$f":"+IF(O1061=\"\",\"\",MAX(P$1:P1060)+1)","v":""},""]
[null,null,null,null,null,null,null,null,null,null,null,null,null,{"$f":"IF(LDAR_H_UU_summary!C884=\"\",\"\",LDAR_H_UU_summary!C884)","v":""},{"$f":"IF(COUNTIF(N$2:N1062,N1062)=1,N1062,\"\")","v":""},{"$f":"+IF(O1062=\"\",\"\",MAX(P$1:P1061)+1)","v":""},""]
[null,null,null,null,null,null,null,null,null,null,null,null,null,{"$f":"IF(LDAR_H_UU_summary!C885=\"\",\"\",LDAR_H_UU_summary!C885)","v":""},{"$f":"IF(COUNTIF(N$2:N1063,N1063)=1,N1063,\"\")","v":""},{"$f":"+IF(O1063=\"\",\"\",MAX(P$1:P1062)+1)","v":""},""]
[null,null,null,null,null,null,null,null,null,null,null,null,null,{"$f":"IF(LDAR_H_UU_summary!C886=\"\",\"\",LDAR_H_UU_summary!C886)","v":""},{"$f":"IF(COUNTIF(N$2:N1064,N1064)=1,N1064,\"\")","v":""},{"$f":"+IF(O1064=\"\",\"\",MAX(P$1:P1063)+1)","v":""},""]
[null,null,null,null,null,null,null,null,null,null,null,null,null,{"$f":"IF(LDAR_H_UU_summary!C887=\"\",\"\",LDAR_H_UU_summary!C887)","v":""},{"$f":"IF(COUNTIF(N$2:N1065,N1065)=1,N1065,\"\")","v":""},{"$f":"+IF(O1065=\"\",\"\",MAX(P$1:P1064)+1)","v":""},""]
[null,null,null,null,null,null,null,null,null,null,null,null,null,{"$f":"IF(LDAR_H_UU_summary!C888=\"\",\"\",LDAR_H_UU_summary!C888)","v":""},{"$f":"IF(COUNTIF(N$2:N1066,N1066)=1,N1066,\"\")","v":""},{"$f":"+IF(O1066=\"\",\"\",MAX(P$1:P1065)+1)","v":""},""]
[null,null,null,null,null,null,null,null,null,null,null,null,null,{"$f":"IF(LDAR_H_UU_summary!C889=\"\",\"\",LDAR_H_UU_summary!C889)","v":""},{"$f":"IF(COUNTIF(N$2:N1067,N1067)=1,N1067,\"\")","v":""},{"$f":"+IF(O1067=\"\",\"\",MAX(P$1:P1066)+1)","v":""},""]
[null,null,null,null,null,null,null,null,null,null,null,null,null,{"$f":"IF(LDAR_H_UU_summary!C890=\"\",\"\",LDAR_H_UU_summary!C890)","v":""},{"$f":"IF(COUNTIF(N$2:N1068,N1068)=1,N1068,\"\")","v":""},{"$f":"+IF(O1068=\"\",\"\",MAX(P$1:P1067)+1)","v":""},""]
[null,null,null,null,null,null,null,null,null,null,null,null,null,{"$f":"IF(LDAR_H_UU_summary!C891=\"\",\"\",LDAR_H_UU_summary!C891)","v":""},{"$f":"IF(COUNTIF(N$2:N1069,N1069)=1,N1069,\"\")","v":""},{"$f":"+IF(O1069=\"\",\"\",MAX(P$1:P1068)+1)","v":""},""]
[null,null,null,null,null,null,null,null,null,null,null,null,null,{"$f":"IF(LDAR_H_UU_summary!C892=\"\",\"\",LDAR_H_UU_summary!C892)","v":""},{"$f":"IF(COUNTIF(N$2:N1070,N1070)=1,N1070,\"\")","v":""},{"$f":"+IF(O1070=\"\",\"\",MAX(P$1:P1069)+1)","v":""},""]
[null,null,null,null,null,null,null,null,null,null,null,null,null,{"$f":"IF(LDAR_H_UU_summary!C893=\"\",\"\",LDAR_H_UU_summary!C893)","v":""},{"$f":"IF(COUNTIF(N$2:N1071,N1071)=1,N1071,\"\")","v":""},{"$f":"+IF(O1071=\"\",\"\",MAX(P$1:P1070)+1)","v":""},""]
[null,null,null,null,null,null,null,null,null,null,null,null,null,{"$f":"IF(LDAR_H_UU_summary!C894=\"\",\"\",LDAR_H_UU_summary!C894)","v":""},{"$f":"IF(COUNTIF(N$2:N1072,N1072)=1,N1072,\"\")","v":""},{"$f":"+IF(O1072=\"\",\"\",MAX(P$1:P1071)+1)","v":""},""]
[null,null,null,null,null,null,null,null,null,null,null,null,null,{"$f":"IF(LDAR_H_UU_summary!C895=\"\",\"\",LDAR_H_UU_summary!C895)","v":""},{"$f":"IF(COUNTIF(N$2:N1073,N1073)=1,N1073,\"\")","v":""},{"$f":"+IF(O1073=\"\",\"\",MAX(P$1:P1072)+1)","v":""},""]
[null,null,null,null,null,null,null,null,null,null,null,null,null,{"$f":"IF(LDAR_H_UU_summary!C896=\"\",\"\",LDAR_H_UU_summary!C896)","v":""},{"$f":"IF(COUNTIF(N$2:N1074,N1074)=1,N1074,\"\")","v":""},{"$f":"+IF(O1074=\"\",\"\",MAX(P$1:P1073)+1)","v":""},""]
[null,null,null,null,null,null,null,null,null,null,null,null,null,{"$f":"IF(LDAR_H_UU_summary!C897=\"\",\"\",LDAR_H_UU_summary!C897)","v":""},{"$f":"IF(COUNTIF(N$2:N1075,N1075)=1,N1075,\"\")","v":""},{"$f":"+IF(O1075=\"\",\"\",MAX(P$1:P1074)+1)","v":""},""]
[null,null,null,null,null,null,null,null,null,null,null,null,null,{"$f":"IF(LDAR_H_UU_summary!C898=\"\",\"\",LDAR_H_UU_summary!C898)","v":""},{"$f":"IF(COUNTIF(N$2:N1076,N1076)=1,N1076,\"\")","v":""},{"$f":"+IF(O1076=\"\",\"\",MAX(P$1:P1075)+1)","v":""},""]
[null,null,null,null,null,null,null,null,null,null,null,null,null,{"$f":"IF(LDAR_H_UU_summary!C899=\"\",\"\",LDAR_H_UU_summary!C899)","v":""},{"$f":"IF(COUNTIF(N$2:N1077,N1077)=1,N1077,\"\")","v":""},{"$f":"+IF(O1077=\"\",\"\",MAX(P$1:P1076)+1)","v":""},""]
[null,null,null,null,null,null,null,null,null,null,null,null,null,{"$f":"IF(LDAR_H_UU_summary!C900=\"\",\"\",LDAR_H_UU_summary!C900)","v":""},{"$f":"IF(COUNTIF(N$2:N1078,N1078)=1,N1078,\"\")","v":""},{"$f":"+IF(O1078=\"\",\"\",MAX(P$1:P1077)+1)","v":""},""]
[null,null,null,null,null,null,null,null,null,null,null,null,null,{"$f":"IF(LDAR_H_UU_summary!C901=\"\",\"\",LDAR_H_UU_summary!C901)","v":""},{"$f":"IF(COUNTIF(N$2:N1079,N1079)=1,N1079,\"\")","v":""},{"$f":"+IF(O1079=\"\",\"\",MAX(P$1:P1078)+1)","v":""},""]
[null,null,null,null,null,null,null,null,null,null,null,null,null,{"$f":"IF(LDAR_H_UU_summary!C902=\"\",\"\",LDAR_H_UU_summary!C902)","v":""},{"$f":"IF(COUNTIF(N$2:N1080,N1080)=1,N1080,\"\")","v":""},{"$f":"+IF(O1080=\"\",\"\",MAX(P$1:P1079)+1)","v":""},""]
[null,null,null,null,null,null,null,null,null,null,null,null,null,{"$f":"IF(LDAR_H_UU_summary!C903=\"\",\"\",LDAR_H_UU_summary!C903)","v":""},{"$f":"IF(COUNTIF(N$2:N1081,N1081)=1,N1081,\"\")","v":""},{"$f":"+IF(O1081=\"\",\"\",MAX(P$1:P1080)+1)","v":""},""]
[null,null,null,null,null,null,null,null,null,null,null,null,null,{"$f":"IF(LDAR_H_UU_summary!C904=\"\",\"\",LDAR_H_UU_summary!C904)","v":""},{"$f":"IF(COUNTIF(N$2:N1082,N1082)=1,N1082,\"\")","v":""},{"$f":"+IF(O1082=\"\",\"\",MAX(P$1:P1081)+1)","v":""},""]
[null,null,null,null,null,null,null,null,null,null,null,null,null,{"$f":"IF(LDAR_H_UU_summary!C905=\"\",\"\",LDAR_H_UU_summary!C905)","v":""},{"$f":"IF(COUNTIF(N$2:N1083,N1083)=1,N1083,\"\")","v":""},{"$f":"+IF(O1083=\"\",\"\",MAX(P$1:P1082)+1)","v":""},""]
[null,null,null,null,null,null,null,null,null,null,null,null,null,{"$f":"IF(LDAR_H_UU_summary!C906=\"\",\"\",LDAR_H_UU_summary!C906)","v":""},{"$f":"IF(COUNTIF(N$2:N1084,N1084)=1,N1084,\"\")","v":""},{"$f":"+IF(O1084=\"\",\"\",MAX(P$1:P1083)+1)","v":""},""]
[null,null,null,null,null,null,null,null,null,null,null,null,null,{"$f":"IF(LDAR_H_UU_summary!C907=\"\",\"\",LDAR_H_UU_summary!C907)","v":""},{"$f":"IF(COUNTIF(N$2:N1085,N1085)=1,N1085,\"\")","v":""},{"$f":"+IF(O1085=\"\",\"\",MAX(P$1:P1084)+1)","v":""},""]
[null,null,null,null,null,null,null,null,null,null,null,null,null,{"$f":"IF(LDAR_H_UU_summary!C908=\"\",\"\",LDAR_H_UU_summary!C908)","v":""},{"$f":"IF(COUNTIF(N$2:N1086,N1086)=1,N1086,\"\")","v":""},{"$f":"+IF(O1086=\"\",\"\",MAX(P$1:P1085)+1)","v":""},""]
[null,null,null,null,null,null,null,null,null,null,null,null,null,{"$f":"IF(LDAR_H_UU_summary!C909=\"\",\"\",LDAR_H_UU_summary!C909)","v":""},{"$f":"IF(COUNTIF(N$2:N1087,N1087)=1,N1087,\"\")","v":""},{"$f":"+IF(O1087=\"\",\"\",MAX(P$1:P1086)+1)","v":""},""]
[null,null,null,null,null,null,null,null,null,null,null,null,null,{"$f":"IF(LDAR_H_UU_summary!C910=\"\",\"\",LDAR_H_UU_summary!C910)","v":""},{"$f":"IF(COUNTIF(N$2:N1088,N1088)=1,N1088,\"\")","v":""},{"$f":"+IF(O1088=\"\",\"\",MAX(P$1:P1087)+1)","v":""},""]
[null,null,null,null,null,null,null,null,null,null,null,null,null,{"$f":"IF(LDAR_H_UU_summary!C911=\"\",\"\",LDAR_H_UU_summary!C911)","v":""},{"$f":"IF(COUNTIF(N$2:N1089,N1089)=1,N1089,\"\")","v":""},{"$f":"+IF(O1089=\"\",\"\",MAX(P$1:P1088)+1)","v":""},""]
[null,null,null,null,null,null,null,null,null,null,null,null,null,{"$f":"IF(LDAR_H_UU_summary!C912=\"\",\"\",LDAR_H_UU_summary!C912)","v":""},{"$f":"IF(COUNTIF(N$2:N1090,N1090)=1,N1090,\"\")","v":""},{"$f":"+IF(O1090=\"\",\"\",MAX(P$1:P1089)+1)","v":""},""]
[null,null,null,null,null,null,null,null,null,null,null,null,null,{"$f":"IF(LDAR_H_UU_summary!C913=\"\",\"\",LDAR_H_UU_summary!C913)","v":""},{"$f":"IF(COUNTIF(N$2:N1091,N1091)=1,N1091,\"\")","v":""},{"$f":"+IF(O1091=\"\",\"\",MAX(P$1:P1090)+1)","v":""},{"$f":"+IFERROR(INDEX($N$2:$N$2001,MATCH(ROW()-ROW($P$1),$P$2:$P$2001,0)),\"\")","v":""}]
[null,null,null,null,null,null,null,null,null,null,null,null,null,{"$f":"IF(LDAR_H_UU_summary!C914=\"\",\"\",LDAR_H_UU_summary!C914)","v":""},{"$f":"IF(COUNTIF(N$2:N1092,N1092)=1,N1092,\"\")","v":""},{"$f":"+IF(O1092=\"\",\"\",MAX(P$1:P1091)+1)","v":""},""]
[null,null,null,null,null,null,null,null,null,null,null,null,null,{"$f":"IF(LDAR_H_UU_summary!C915=\"\",\"\",LDAR_H_UU_summary!C915)","v":""},{"$f":"IF(COUNTIF(N$2:N1093,N1093)=1,N1093,\"\")","v":""},{"$f":"+IF(O1093=\"\",\"\",MAX(P$1:P1092)+1)","v":""},""]
[null,null,null,null,null,null,null,null,null,null,null,null,null,{"$f":"IF(LDAR_H_UU_summary!C916=\"\",\"\",LDAR_H_UU_summary!C916)","v":""},{"$f":"IF(COUNTIF(N$2:N1094,N1094)=1,N1094,\"\")","v":""},{"$f":"+IF(O1094=\"\",\"\",MAX(P$1:P1093)+1)","v":""},""]
[null,null,null,null,null,null,null,null,null,null,null,null,null,{"$f":"IF(LDAR_H_UU_summary!C917=\"\",\"\",LDAR_H_UU_summary!C917)","v":""},{"$f":"IF(COUNTIF(N$2:N1095,N1095)=1,N1095,\"\")","v":""},{"$f":"+IF(O1095=\"\",\"\",MAX(P$1:P1094)+1)","v":""},""]
[null,null,null,null,null,null,null,null,null,null,null,null,null,{"$f":"IF(LDAR_H_UU_summary!C918=\"\",\"\",LDAR_H_UU_summary!C918)","v":""},{"$f":"IF(COUNTIF(N$2:N1096,N1096)=1,N1096,\"\")","v":""},{"$f":"+IF(O1096=\"\",\"\",MAX(P$1:P1095)+1)","v":""},""]
[null,null,null,null,null,null,null,null,null,null,null,null,null,{"$f":"IF(LDAR_H_UU_summary!C919=\"\",\"\",LDAR_H_UU_summary!C919)","v":""},{"$f":"IF(COUNTIF(N$2:N1097,N1097)=1,N1097,\"\")","v":""},{"$f":"+IF(O1097=\"\",\"\",MAX(P$1:P1096)+1)","v":""},""]
[null,null,null,null,null,null,null,null,null,null,null,null,null,{"$f":"IF(LDAR_H_UU_summary!C920=\"\",\"\",LDAR_H_UU_summary!C920)","v":""},{"$f":"IF(COUNTIF(N$2:N1098,N1098)=1,N1098,\"\")","v":""},{"$f":"+IF(O1098=\"\",\"\",MAX(P$1:P1097)+1)","v":""},""]
[null,null,null,null,null,null,null,null,null,null,null,null,null,{"$f":"IF(LDAR_H_UU_summary!C921=\"\",\"\",LDAR_H_UU_summary!C921)","v":""},{"$f":"IF(COUNTIF(N$2:N1099,N1099)=1,N1099,\"\")","v":""},{"$f":"+IF(O1099=\"\",\"\",MAX(P$1:P1098)+1)","v":""},""]
[null,null,null,null,null,null,null,null,null,null,null,null,null,{"$f":"IF(LDAR_H_UU_summary!C922=\"\",\"\",LDAR_H_UU_summary!C922)","v":""},{"$f":"IF(COUNTIF(N$2:N1100,N1100)=1,N1100,\"\")","v":""},{"$f":"+IF(O1100=\"\",\"\",MAX(P$1:P1099)+1)","v":""},""]
[null,null,null,null,null,null,null,null,null,null,null,null,null,{"$f":"IF(LDAR_H_UU_summary!C923=\"\",\"\",LDAR_H_UU_summary!C923)","v":""},{"$f":"IF(COUNTIF(N$2:N1101,N1101)=1,N1101,\"\")","v":""},{"$f":"+IF(O1101=\"\",\"\",MAX(P$1:P1100)+1)","v":""},""]
[null,null,null,null,null,null,null,null,null,null,null,null,null,{"$f":"IF(LDAR_H_UU_summary!C924=\"\",\"\",LDAR_H_UU_summary!C924)","v":""},{"$f":"IF(COUNTIF(N$2:N1102,N1102)=1,N1102,\"\")","v":""},{"$f":"+IF(O1102=\"\",\"\",MAX(P$1:P1101)+1)","v":""},""]
[null,null,null,null,null,null,null,null,null,null,null,null,null,{"$f":"IF(LDAR_H_UU_summary!C925=\"\",\"\",LDAR_H_UU_summary!C925)","v":""},{"$f":"IF(COUNTIF(N$2:N1103,N1103)=1,N1103,\"\")","v":""},{"$f":"+IF(O1103=\"\",\"\",MAX(P$1:P1102)+1)","v":""},""]
[null,null,null,null,null,null,null,null,null,null,null,null,null,{"$f":"IF(LDAR_H_UU_summary!C926=\"\",\"\",LDAR_H_UU_summary!C926)","v":""},{"$f":"IF(COUNTIF(N$2:N1104,N1104)=1,N1104,\"\")","v":""},{"$f":"+IF(O1104=\"\",\"\",MAX(P$1:P1103)+1)","v":""},""]
[null,null,null,null,null,null,null,null,null,null,null,null,null,{"$f":"IF(LDAR_H_UU_summary!C927=\"\",\"\",LDAR_H_UU_summary!C927)","v":""},{"$f":"IF(COUNTIF(N$2:N1105,N1105)=1,N1105,\"\")","v":""},{"$f":"+IF(O1105=\"\",\"\",MAX(P$1:P1104)+1)","v":""},""]
[null,null,null,null,null,null,null,null,null,null,null,null,null,{"$f":"IF(LDAR_H_UU_summary!C928=\"\",\"\",LDAR_H_UU_summary!C928)","v":""},{"$f":"IF(COUNTIF(N$2:N1106,N1106)=1,N1106,\"\")","v":""},{"$f":"+IF(O1106=\"\",\"\",MAX(P$1:P1105)+1)","v":""},""]
[null,null,null,null,null,null,null,null,null,null,null,null,null,{"$f":"IF(LDAR_H_UU_summary!C929=\"\",\"\",LDAR_H_UU_summary!C929)","v":""},{"$f":"IF(COUNTIF(N$2:N1107,N1107)=1,N1107,\"\")","v":""},{"$f":"+IF(O1107=\"\",\"\",MAX(P$1:P1106)+1)","v":""},""]
[null,null,null,null,null,null,null,null,null,null,null,null,null,{"$f":"IF(LDAR_H_UU_summary!C930=\"\",\"\",LDAR_H_UU_summary!C930)","v":""},{"$f":"IF(COUNTIF(N$2:N1108,N1108)=1,N1108,\"\")","v":""},{"$f":"+IF(O1108=\"\",\"\",MAX(P$1:P1107)+1)","v":""},""]
[null,null,null,null,null,null,null,null,null,null,null,null,null,{"$f":"IF(LDAR_H_UU_summary!C931=\"\",\"\",LDAR_H_UU_summary!C931)","v":""},{"$f":"IF(COUNTIF(N$2:N1109,N1109)=1,N1109,\"\")","v":""},{"$f":"+IF(O1109=\"\",\"\",MAX(P$1:P1108)+1)","v":""},""]
[null,null,null,null,null,null,null,null,null,null,null,null,null,{"$f":"IF(LDAR_H_UU_summary!C932=\"\",\"\",LDAR_H_UU_summary!C932)","v":""},{"$f":"IF(COUNTIF(N$2:N1110,N1110)=1,N1110,\"\")","v":""},{"$f":"+IF(O1110=\"\",\"\",MAX(P$1:P1109)+1)","v":""},""]
[null,null,null,null,null,null,null,null,null,null,null,null,null,{"$f":"IF(LDAR_H_UU_summary!C933=\"\",\"\",LDAR_H_UU_summary!C933)","v":""},{"$f":"IF(COUNTIF(N$2:N1111,N1111)=1,N1111,\"\")","v":""},{"$f":"+IF(O1111=\"\",\"\",MAX(P$1:P1110)+1)","v":""},""]
[null,null,null,null,null,null,null,null,null,null,null,null,null,{"$f":"IF(LDAR_H_UU_summary!C934=\"\",\"\",LDAR_H_UU_summary!C934)","v":""},{"$f":"IF(COUNTIF(N$2:N1112,N1112)=1,N1112,\"\")","v":""},{"$f":"+IF(O1112=\"\",\"\",MAX(P$1:P1111)+1)","v":""},""]
[null,null,null,null,null,null,null,null,null,null,null,null,null,{"$f":"IF(LDAR_H_UU_summary!C935=\"\",\"\",LDAR_H_UU_summary!C935)","v":""},{"$f":"IF(COUNTIF(N$2:N1113,N1113)=1,N1113,\"\")","v":""},{"$f":"+IF(O1113=\"\",\"\",MAX(P$1:P1112)+1)","v":""},""]
[null,null,null,null,null,null,null,null,null,null,null,null,null,{"$f":"IF(LDAR_H_UU_summary!C936=\"\",\"\",LDAR_H_UU_summary!C936)","v":""},{"$f":"IF(COUNTIF(N$2:N1114,N1114)=1,N1114,\"\")","v":""},{"$f":"+IF(O1114=\"\",\"\",MAX(P$1:P1113)+1)","v":""},""]
[null,null,null,null,null,null,null,null,null,null,null,null,null,{"$f":"IF(LDAR_H_UU_summary!C937=\"\",\"\",LDAR_H_UU_summary!C937)","v":""},{"$f":"IF(COUNTIF(N$2:N1115,N1115)=1,N1115,\"\")","v":""},{"$f":"+IF(O1115=\"\",\"\",MAX(P$1:P1114)+1)","v":""},""]
[null,null,null,null,null,null,null,null,null,null,null,null,null,{"$f":"IF(LDAR_H_UU_summary!C938=\"\",\"\",LDAR_H_UU_summary!C938)","v":""},{"$f":"IF(COUNTIF(N$2:N1116,N1116)=1,N1116,\"\")","v":""},{"$f":"+IF(O1116=\"\",\"\",MAX(P$1:P1115)+1)","v":""},""]
[null,null,null,null,null,null,null,null,null,null,null,null,null,{"$f":"IF(LDAR_H_UU_summary!C939=\"\",\"\",LDAR_H_UU_summary!C939)","v":""},{"$f":"IF(COUNTIF(N$2:N1117,N1117)=1,N1117,\"\")","v":""},{"$f":"+IF(O1117=\"\",\"\",MAX(P$1:P1116)+1)","v":""},""]
[null,null,null,null,null,null,null,null,null,null,null,null,null,{"$f":"IF(LDAR_H_UU_summary!C940=\"\",\"\",LDAR_H_UU_summary!C940)","v":""},{"$f":"IF(COUNTIF(N$2:N1118,N1118)=1,N1118,\"\")","v":""},{"$f":"+IF(O1118=\"\",\"\",MAX(P$1:P1117)+1)","v":""},""]
[null,null,null,null,null,null,null,null,null,null,null,null,null,{"$f":"IF(LDAR_H_UU_summary!C941=\"\",\"\",LDAR_H_UU_summary!C941)","v":""},{"$f":"IF(COUNTIF(N$2:N1119,N1119)=1,N1119,\"\")","v":""},{"$f":"+IF(O1119=\"\",\"\",MAX(P$1:P1118)+1)","v":""},""]
[null,null,null,null,null,null,null,null,null,null,null,null,null,{"$f":"IF(LDAR_H_UU_summary!C942=\"\",\"\",LDAR_H_UU_summary!C942)","v":""},{"$f":"IF(COUNTIF(N$2:N1120,N1120)=1,N1120,\"\")","v":""},{"$f":"+IF(O1120=\"\",\"\",MAX(P$1:P1119)+1)","v":""},""]
[null,null,null,null,null,null,null,null,null,null,null,null,null,{"$f":"IF(LDAR_H_UU_summary!C943=\"\",\"\",LDAR_H_UU_summary!C943)","v":""},{"$f":"IF(COUNTIF(N$2:N1121,N1121)=1,N1121,\"\")","v":""},{"$f":"+IF(O1121=\"\",\"\",MAX(P$1:P1120)+1)","v":""},""]
[null,null,null,null,null,null,null,null,null,null,null,null,null,{"$f":"IF(LDAR_H_UU_summary!C944=\"\",\"\",LDAR_H_UU_summary!C944)","v":""},{"$f":"IF(COUNTIF(N$2:N1122,N1122)=1,N1122,\"\")","v":""},{"$f":"+IF(O1122=\"\",\"\",MAX(P$1:P1121)+1)","v":""},""]
[null,null,null,null,null,null,null,null,null,null,null,null,null,{"$f":"IF(LDAR_H_UU_summary!C945=\"\",\"\",LDAR_H_UU_summary!C945)","v":""},{"$f":"IF(COUNTIF(N$2:N1123,N1123)=1,N1123,\"\")","v":""},{"$f":"+IF(O1123=\"\",\"\",MAX(P$1:P1122)+1)","v":""},""]
[null,null,null,null,null,null,null,null,null,null,null,null,null,{"$f":"IF(LDAR_H_UU_summary!C946=\"\",\"\",LDAR_H_UU_summary!C946)","v":""},{"$f":"IF(COUNTIF(N$2:N1124,N1124)=1,N1124,\"\")","v":""},{"$f":"+IF(O1124=\"\",\"\",MAX(P$1:P1123)+1)","v":""},""]
[null,null,null,null,null,null,null,null,null,null,null,null,null,{"$f":"IF(LDAR_H_UU_summary!C947=\"\",\"\",LDAR_H_UU_summary!C947)","v":""},{"$f":"IF(COUNTIF(N$2:N1125,N1125)=1,N1125,\"\")","v":""},{"$f":"+IF(O1125=\"\",\"\",MAX(P$1:P1124)+1)","v":""},""]
[null,null,null,null,null,null,null,null,null,null,null,null,null,{"$f":"IF(LDAR_H_UU_summary!C948=\"\",\"\",LDAR_H_UU_summary!C948)","v":""},{"$f":"IF(COUNTIF(N$2:N1126,N1126)=1,N1126,\"\")","v":""},{"$f":"+IF(O1126=\"\",\"\",MAX(P$1:P1125)+1)","v":""},""]
[null,null,null,null,null,null,null,null,null,null,null,null,null,{"$f":"IF(LDAR_H_UU_summary!C949=\"\",\"\",LDAR_H_UU_summary!C949)","v":""},{"$f":"IF(COUNTIF(N$2:N1127,N1127)=1,N1127,\"\")","v":""},{"$f":"+IF(O1127=\"\",\"\",MAX(P$1:P1126)+1)","v":""},""]
[null,null,null,null,null,null,null,null,null,null,null,null,null,{"$f":"IF(LDAR_H_UU_summary!C950=\"\",\"\",LDAR_H_UU_summary!C950)","v":""},{"$f":"IF(COUNTIF(N$2:N1128,N1128)=1,N1128,\"\")","v":""},{"$f":"+IF(O1128=\"\",\"\",MAX(P$1:P1127)+1)","v":""},""]
[null,null,null,null,null,null,null,null,null,null,null,null,null,{"$f":"IF(LDAR_H_UU_summary!C951=\"\",\"\",LDAR_H_UU_summary!C951)","v":""},{"$f":"IF(COUNTIF(N$2:N1129,N1129)=1,N1129,\"\")","v":""},{"$f":"+IF(O1129=\"\",\"\",MAX(P$1:P1128)+1)","v":""},""]
[null,null,null,null,null,null,null,null,null,null,null,null,null,{"$f":"IF(LDAR_H_UU_summary!C952=\"\",\"\",LDAR_H_UU_summary!C952)","v":""},{"$f":"IF(COUNTIF(N$2:N1130,N1130)=1,N1130,\"\")","v":""},{"$f":"+IF(O1130=\"\",\"\",MAX(P$1:P1129)+1)","v":""},""]
[null,null,null,null,null,null,null,null,null,null,null,null,null,{"$f":"IF(LDAR_H_UU_summary!C953=\"\",\"\",LDAR_H_UU_summary!C953)","v":""},{"$f":"IF(COUNTIF(N$2:N1131,N1131)=1,N1131,\"\")","v":""},{"$f":"+IF(O1131=\"\",\"\",MAX(P$1:P1130)+1)","v":""},""]
[null,null,null,null,null,null,null,null,null,null,null,null,null,{"$f":"IF(LDAR_H_UU_summary!C954=\"\",\"\",LDAR_H_UU_summary!C954)","v":""},{"$f":"IF(COUNTIF(N$2:N1132,N1132)=1,N1132,\"\")","v":""},{"$f":"+IF(O1132=\"\",\"\",MAX(P$1:P1131)+1)","v":""},""]
[null,null,null,null,null,null,null,null,null,null,null,null,null,{"$f":"IF(LDAR_H_UU_summary!C955=\"\",\"\",LDAR_H_UU_summary!C955)","v":""},{"$f":"IF(COUNTIF(N$2:N1133,N1133)=1,N1133,\"\")","v":""},{"$f":"+IF(O1133=\"\",\"\",MAX(P$1:P1132)+1)","v":""},""]
[null,null,null,null,null,null,null,null,null,null,null,null,null,{"$f":"IF(LDAR_H_UU_summary!C956=\"\",\"\",LDAR_H_UU_summary!C956)","v":""},{"$f":"IF(COUNTIF(N$2:N1134,N1134)=1,N1134,\"\")","v":""},{"$f":"+IF(O1134=\"\",\"\",MAX(P$1:P1133)+1)","v":""},""]
[null,null,null,null,null,null,null,null,null,null,null,null,null,{"$f":"IF(LDAR_H_UU_summary!C957=\"\",\"\",LDAR_H_UU_summary!C957)","v":""},{"$f":"IF(COUNTIF(N$2:N1135,N1135)=1,N1135,\"\")","v":""},{"$f":"+IF(O1135=\"\",\"\",MAX(P$1:P1134)+1)","v":""},""]
[null,null,null,null,null,null,null,null,null,null,null,null,null,{"$f":"IF(LDAR_H_UU_summary!C958=\"\",\"\",LDAR_H_UU_summary!C958)","v":""},{"$f":"IF(COUNTIF(N$2:N1136,N1136)=1,N1136,\"\")","v":""},{"$f":"+IF(O1136=\"\",\"\",MAX(P$1:P1135)+1)","v":""},""]
[null,null,null,null,null,null,null,null,null,null,null,null,null,{"$f":"IF(LDAR_H_UU_summary!C959=\"\",\"\",LDAR_H_UU_summary!C959)","v":""},{"$f":"IF(COUNTIF(N$2:N1137,N1137)=1,N1137,\"\")","v":""},{"$f":"+IF(O1137=\"\",\"\",MAX(P$1:P1136)+1)","v":""},""]
[null,null,null,null,null,null,null,null,null,null,null,null,null,{"$f":"IF(LDAR_H_UU_summary!C960=\"\",\"\",LDAR_H_UU_summary!C960)","v":""},{"$f":"IF(COUNTIF(N$2:N1138,N1138)=1,N1138,\"\")","v":""},{"$f":"+IF(O1138=\"\",\"\",MAX(P$1:P1137)+1)","v":""},""]
[null,null,null,null,null,null,null,null,null,null,null,null,null,{"$f":"IF(LDAR_H_UU_summary!C961=\"\",\"\",LDAR_H_UU_summary!C961)","v":""},{"$f":"IF(COUNTIF(N$2:N1139,N1139)=1,N1139,\"\")","v":""},{"$f":"+IF(O1139=\"\",\"\",MAX(P$1:P1138)+1)","v":""},""]
[null,null,null,null,null,null,null,null,null,null,null,null,null,{"$f":"IF(LDAR_H_UU_summary!C962=\"\",\"\",LDAR_H_UU_summary!C962)","v":""},{"$f":"IF(COUNTIF(N$2:N1140,N1140)=1,N1140,\"\")","v":""},{"$f":"+IF(O1140=\"\",\"\",MAX(P$1:P1139)+1)","v":""},""]
[null,null,null,null,null,null,null,null,null,null,null,null,null,{"$f":"IF(LDAR_H_UU_summary!C963=\"\",\"\",LDAR_H_UU_summary!C963)","v":""},{"$f":"IF(COUNTIF(N$2:N1141,N1141)=1,N1141,\"\")","v":""},{"$f":"+IF(O1141=\"\",\"\",MAX(P$1:P1140)+1)","v":""},""]
[null,null,null,null,null,null,null,null,null,null,null,null,null,{"$f":"IF(LDAR_H_UU_summary!C964=\"\",\"\",LDAR_H_UU_summary!C964)","v":""},{"$f":"IF(COUNTIF(N$2:N1142,N1142)=1,N1142,\"\")","v":""},{"$f":"+IF(O1142=\"\",\"\",MAX(P$1:P1141)+1)","v":""},""]
[null,null,null,null,null,null,null,null,null,null,null,null,null,{"$f":"IF(LDAR_H_UU_summary!C965=\"\",\"\",LDAR_H_UU_summary!C965)","v":""},{"$f":"IF(COUNTIF(N$2:N1143,N1143)=1,N1143,\"\")","v":""},{"$f":"+IF(O1143=\"\",\"\",MAX(P$1:P1142)+1)","v":""},""]
[null,null,null,null,null,null,null,null,null,null,null,null,null,{"$f":"IF(LDAR_H_UU_summary!C966=\"\",\"\",LDAR_H_UU_summary!C966)","v":""},{"$f":"IF(COUNTIF(N$2:N1144,N1144)=1,N1144,\"\")","v":""},{"$f":"+IF(O1144=\"\",\"\",MAX(P$1:P1143)+1)","v":""},""]
[null,null,null,null,null,null,null,null,null,null,null,null,null,{"$f":"IF(LDAR_H_UU_summary!C967=\"\",\"\",LDAR_H_UU_summary!C967)","v":""},{"$f":"IF(COUNTIF(N$2:N1145,N1145)=1,N1145,\"\")","v":""},{"$f":"+IF(O1145=\"\",\"\",MAX(P$1:P1144)+1)","v":""},""]
[null,null,null,null,null,null,null,null,null,null,null,null,null,{"$f":"IF(LDAR_H_UU_summary!C968=\"\",\"\",LDAR_H_UU_summary!C968)","v":""},{"$f":"IF(COUNTIF(N$2:N1146,N1146)=1,N1146,\"\")","v":""},{"$f":"+IF(O1146=\"\",\"\",MAX(P$1:P1145)+1)","v":""},""]
[null,null,null,null,null,null,null,null,null,null,null,null,null,{"$f":"IF(LDAR_H_UU_summary!C969=\"\",\"\",LDAR_H_UU_summary!C969)","v":""},{"$f":"IF(COUNTIF(N$2:N1147,N1147)=1,N1147,\"\")","v":""},{"$f":"+IF(O1147=\"\",\"\",MAX(P$1:P1146)+1)","v":""},""]
[null,null,null,null,null,null,null,null,null,null,null,null,null,{"$f":"IF(LDAR_H_UU_summary!C970=\"\",\"\",LDAR_H_UU_summary!C970)","v":""},{"$f":"IF(COUNTIF(N$2:N1148,N1148)=1,N1148,\"\")","v":""},{"$f":"+IF(O1148=\"\",\"\",MAX(P$1:P1147)+1)","v":""},""]
[null,null,null,null,null,null,null,null,null,null,null,null,null,{"$f":"IF(LDAR_H_UU_summary!C971=\"\",\"\",LDAR_H_UU_summary!C971)","v":""},{"$f":"IF(COUNTIF(N$2:N1149,N1149)=1,N1149,\"\")","v":""},{"$f":"+IF(O1149=\"\",\"\",MAX(P$1:P1148)+1)","v":""},""]
[null,null,null,null,null,null,null,null,null,null,null,null,null,{"$f":"IF(LDAR_H_UU_summary!C972=\"\",\"\",LDAR_H_UU_summary!C972)","v":""},{"$f":"IF(COUNTIF(N$2:N1150,N1150)=1,N1150,\"\")","v":""},{"$f":"+IF(O1150=\"\",\"\",MAX(P$1:P1149)+1)","v":""},""]
[null,null,null,null,null,null,null,null,null,null,null,null,null,{"$f":"IF(LDAR_H_UU_summary!C973=\"\",\"\",LDAR_H_UU_summary!C973)","v":""},{"$f":"IF(COUNTIF(N$2:N1151,N1151)=1,N1151,\"\")","v":""},{"$f":"+IF(O1151=\"\",\"\",MAX(P$1:P1150)+1)","v":""},""]
[null,null,null,null,null,null,null,null,null,null,null,null,null,{"$f":"IF(LDAR_H_UU_summary!C974=\"\",\"\",LDAR_H_UU_summary!C974)","v":""},{"$f":"IF(COUNTIF(N$2:N1152,N1152)=1,N1152,\"\")","v":""},{"$f":"+IF(O1152=\"\",\"\",MAX(P$1:P1151)+1)","v":""},""]
[null,null,null,null,null,null,null,null,null,null,null,null,null,{"$f":"IF(LDAR_H_UU_summary!C975=\"\",\"\",LDAR_H_UU_summary!C975)","v":""},{"$f":"IF(COUNTIF(N$2:N1153,N1153)=1,N1153,\"\")","v":""},{"$f":"+IF(O1153=\"\",\"\",MAX(P$1:P1152)+1)","v":""},""]
[null,null,null,null,null,null,null,null,null,null,null,null,null,{"$f":"IF(LDAR_H_UU_summary!C976=\"\",\"\",LDAR_H_UU_summary!C976)","v":""},{"$f":"IF(COUNTIF(N$2:N1154,N1154)=1,N1154,\"\")","v":""},{"$f":"+IF(O1154=\"\",\"\",MAX(P$1:P1153)+1)","v":""},""]
[null,null,null,null,null,null,null,null,null,null,null,null,null,{"$f":"IF(LDAR_H_UU_summary!C977=\"\",\"\",LDAR_H_UU_summary!C977)","v":""},{"$f":"IF(COUNTIF(N$2:N1155,N1155)=1,N1155,\"\")","v":""},{"$f":"+IF(O1155=\"\",\"\",MAX(P$1:P1154)+1)","v":""},{"$f":"+IFERROR(INDEX($N$2:$N$2001,MATCH(ROW()-ROW($P$1),$P$2:$P$2001,0)),\"\")","v":""}]
[null,null,null,null,null,null,null,null,null,null,null,null,null,{"$f":"IF(LDAR_H_UU_summary!C978=\"\",\"\",LDAR_H_UU_summary!C978)","v":""},{"$f":"IF(COUNTIF(N$2:N1156,N1156)=1,N1156,\"\")","v":""},{"$f":"+IF(O1156=\"\",\"\",MAX(P$1:P1155)+1)","v":""},""]
[null,null,null,null,null,null,null,null,null,null,null,null,null,{"$f":"IF(LDAR_H_UU_summary!C979=\"\",\"\",LDAR_H_UU_summary!C979)","v":""},{"$f":"IF(COUNTIF(N$2:N1157,N1157)=1,N1157,\"\")","v":""},{"$f":"+IF(O1157=\"\",\"\",MAX(P$1:P1156)+1)","v":""},""]
[null,null,null,null,null,null,null,null,null,null,null,null,null,{"$f":"IF(LDAR_H_UU_summary!C980=\"\",\"\",LDAR_H_UU_summary!C980)","v":""},{"$f":"IF(COUNTIF(N$2:N1158,N1158)=1,N1158,\"\")","v":""},{"$f":"+IF(O1158=\"\",\"\",MAX(P$1:P1157)+1)","v":""},""]
[null,null,null,null,null,null,null,null,null,null,null,null,null,{"$f":"IF(LDAR_H_UU_summary!C981=\"\",\"\",LDAR_H_UU_summary!C981)","v":""},{"$f":"IF(COUNTIF(N$2:N1159,N1159)=1,N1159,\"\")","v":""},{"$f":"+IF(O1159=\"\",\"\",MAX(P$1:P1158)+1)","v":""},""]
[null,null,null,null,null,null,null,null,null,null,null,null,null,{"$f":"IF(LDAR_H_UU_summary!C982=\"\",\"\",LDAR_H_UU_summary!C982)","v":""},{"$f":"IF(COUNTIF(N$2:N1160,N1160)=1,N1160,\"\")","v":""},{"$f":"+IF(O1160=\"\",\"\",MAX(P$1:P1159)+1)","v":""},""]
[null,null,null,null,null,null,null,null,null,null,null,null,null,{"$f":"IF(LDAR_H_UU_summary!C983=\"\",\"\",LDAR_H_UU_summary!C983)","v":""},{"$f":"IF(COUNTIF(N$2:N1161,N1161)=1,N1161,\"\")","v":""},{"$f":"+IF(O1161=\"\",\"\",MAX(P$1:P1160)+1)","v":""},""]
[null,null,null,null,null,null,null,null,null,null,null,null,null,{"$f":"IF(LDAR_H_UU_summary!C984=\"\",\"\",LDAR_H_UU_summary!C984)","v":""},{"$f":"IF(COUNTIF(N$2:N1162,N1162)=1,N1162,\"\")","v":""},{"$f":"+IF(O1162=\"\",\"\",MAX(P$1:P1161)+1)","v":""},""]
[null,null,null,null,null,null,null,null,null,null,null,null,null,{"$f":"IF(LDAR_H_UU_summary!C985=\"\",\"\",LDAR_H_UU_summary!C985)","v":""},{"$f":"IF(COUNTIF(N$2:N1163,N1163)=1,N1163,\"\")","v":""},{"$f":"+IF(O1163=\"\",\"\",MAX(P$1:P1162)+1)","v":""},""]
[null,null,null,null,null,null,null,null,null,null,null,null,null,{"$f":"IF(LDAR_H_UU_summary!C986=\"\",\"\",LDAR_H_UU_summary!C986)","v":""},{"$f":"IF(COUNTIF(N$2:N1164,N1164)=1,N1164,\"\")","v":""},{"$f":"+IF(O1164=\"\",\"\",MAX(P$1:P1163)+1)","v":""},""]
[null,null,null,null,null,null,null,null,null,null,null,null,null,{"$f":"IF(LDAR_H_UU_summary!C987=\"\",\"\",LDAR_H_UU_summary!C987)","v":""},{"$f":"IF(COUNTIF(N$2:N1165,N1165)=1,N1165,\"\")","v":""},{"$f":"+IF(O1165=\"\",\"\",MAX(P$1:P1164)+1)","v":""},""]
[null,null,null,null,null,null,null,null,null,null,null,null,null,{"$f":"IF(LDAR_H_UU_summary!C988=\"\",\"\",LDAR_H_UU_summary!C988)","v":""},{"$f":"IF(COUNTIF(N$2:N1166,N1166)=1,N1166,\"\")","v":""},{"$f":"+IF(O1166=\"\",\"\",MAX(P$1:P1165)+1)","v":""},""]
[null,null,null,null,null,null,null,null,null,null,null,null,null,{"$f":"IF(LDAR_H_UU_summary!C989=\"\",\"\",LDAR_H_UU_summary!C989)","v":""},{"$f":"IF(COUNTIF(N$2:N1167,N1167)=1,N1167,\"\")","v":""},{"$f":"+IF(O1167=\"\",\"\",MAX(P$1:P1166)+1)","v":""},""]
[null,null,null,null,null,null,null,null,null,null,null,null,null,{"$f":"IF(LDAR_H_UU_summary!C990=\"\",\"\",LDAR_H_UU_summary!C990)","v":""},{"$f":"IF(COUNTIF(N$2:N1168,N1168)=1,N1168,\"\")","v":""},{"$f":"+IF(O1168=\"\",\"\",MAX(P$1:P1167)+1)","v":""},""]
[null,null,null,null,null,null,null,null,null,null,null,null,null,{"$f":"IF(LDAR_H_UU_summary!C991=\"\",\"\",LDAR_H_UU_summary!C991)","v":""},{"$f":"IF(COUNTIF(N$2:N1169,N1169)=1,N1169,\"\")","v":""},{"$f":"+IF(O1169=\"\",\"\",MAX(P$1:P1168)+1)","v":""},""]
[null,null,null,null,null,null,null,null,null,null,null,null,null,{"$f":"IF(LDAR_H_UU_summary!C992=\"\",\"\",LDAR_H_UU_summary!C992)","v":""},{"$f":"IF(COUNTIF(N$2:N1170,N1170)=1,N1170,\"\")","v":""},{"$f":"+IF(O1170=\"\",\"\",MAX(P$1:P1169)+1)","v":""},""]
[null,null,null,null,null,null,null,null,null,null,null,null,null,{"$f":"IF(LDAR_H_UU_summary!C993=\"\",\"\",LDAR_H_UU_summary!C993)","v":""},{"$f":"IF(COUNTIF(N$2:N1171,N1171)=1,N1171,\"\")","v":""},{"$f":"+IF(O1171=\"\",\"\",MAX(P$1:P1170)+1)","v":""},""]
[null,null,null,null,null,null,null,null,null,null,null,null,null,{"$f":"IF(LDAR_H_UU_summary!C994=\"\",\"\",LDAR_H_UU_summary!C994)","v":""},{"$f":"IF(COUNTIF(N$2:N1172,N1172)=1,N1172,\"\")","v":""},{"$f":"+IF(O1172=\"\",\"\",MAX(P$1:P1171)+1)","v":""},""]
[null,null,null,null,null,null,null,null,null,null,null,null,null,{"$f":"IF(LDAR_H_UU_summary!C995=\"\",\"\",LDAR_H_UU_summary!C995)","v":""},{"$f":"IF(COUNTIF(N$2:N1173,N1173)=1,N1173,\"\")","v":""},{"$f":"+IF(O1173=\"\",\"\",MAX(P$1:P1172)+1)","v":""},""]
[null,null,null,null,null,null,null,null,null,null,null,null,null,{"$f":"IF(LDAR_H_UU_summary!C996=\"\",\"\",LDAR_H_UU_summary!C996)","v":""},{"$f":"IF(COUNTIF(N$2:N1174,N1174)=1,N1174,\"\")","v":""},{"$f":"+IF(O1174=\"\",\"\",MAX(P$1:P1173)+1)","v":""},""]
[null,null,null,null,null,null,null,null,null,null,null,null,null,{"$f":"IF(LDAR_H_UU_summary!C997=\"\",\"\",LDAR_H_UU_summary!C997)","v":""},{"$f":"IF(COUNTIF(N$2:N1175,N1175)=1,N1175,\"\")","v":""},{"$f":"+IF(O1175=\"\",\"\",MAX(P$1:P1174)+1)","v":""},""]
[null,null,null,null,null,null,null,null,null,null,null,null,null,{"$f":"IF(LDAR_H_UU_summary!C998=\"\",\"\",LDAR_H_UU_summary!C998)","v":""},{"$f":"IF(COUNTIF(N$2:N1176,N1176)=1,N1176,\"\")","v":""},{"$f":"+IF(O1176=\"\",\"\",MAX(P$1:P1175)+1)","v":""},""]
[null,null,null,null,null,null,null,null,null,null,null,null,null,{"$f":"IF(LDAR_H_UU_summary!C999=\"\",\"\",LDAR_H_UU_summary!C999)","v":""},{"$f":"IF(COUNTIF(N$2:N1177,N1177)=1,N1177,\"\")","v":""},{"$f":"+IF(O1177=\"\",\"\",MAX(P$1:P1176)+1)","v":""},""]
[null,null,null,null,null,null,null,null,null,null,null,null,null,{"$f":"IF(LDAR_H_UU_summary!C1000=\"\",\"\",LDAR_H_UU_summary!C1000)","v":""},{"$f":"IF(COUNTIF(N$2:N1178,N1178)=1,N1178,\"\")","v":""},{"$f":"+IF(O1178=\"\",\"\",MAX(P$1:P1177)+1)","v":""},""]
[null,null,null,null,null,null,null,null,null,null,null,null,null,{"$f":"IF(LDAR_H_UU_summary!C1001=\"\",\"\",LDAR_H_UU_summary!C1001)","v":""},{"$f":"IF(COUNTIF(N$2:N1179,N1179)=1,N1179,\"\")","v":""},{"$f":"+IF(O1179=\"\",\"\",MAX(P$1:P1178)+1)","v":""},""]
[null,null,null,null,null,null,null,null,null,null,null,null,null,{"$f":"IF(LDAR_H_UU_summary!C1002=\"\",\"\",LDAR_H_UU_summary!C1002)","v":""},{"$f":"IF(COUNTIF(N$2:N1180,N1180)=1,N1180,\"\")","v":""},{"$f":"+IF(O1180=\"\",\"\",MAX(P$1:P1179)+1)","v":""},""]
[null,null,null,null,null,null,null,null,null,null,null,null,null,{"$f":"IF(LDAR_H_UU_summary!C1003=\"\",\"\",LDAR_H_UU_summary!C1003)","v":""},{"$f":"IF(COUNTIF(N$2:N1181,N1181)=1,N1181,\"\")","v":""},{"$f":"+IF(O1181=\"\",\"\",MAX(P$1:P1180)+1)","v":""},""]
[null,null,null,null,null,null,null,null,null,null,null,null,null,{"$f":"IF(LDAR_H_UU_summary!C1004=\"\",\"\",LDAR_H_UU_summary!C1004)","v":""},{"$f":"IF(COUNTIF(N$2:N1182,N1182)=1,N1182,\"\")","v":""},{"$f":"+IF(O1182=\"\",\"\",MAX(P$1:P1181)+1)","v":""},""]
[null,null,null,null,null,null,null,null,null,null,null,null,null,{"$f":"IF(LDAR_H_UU_summary!C1005=\"\",\"\",LDAR_H_UU_summary!C1005)","v":""},{"$f":"IF(COUNTIF(N$2:N1183,N1183)=1,N1183,\"\")","v":""},{"$f":"+IF(O1183=\"\",\"\",MAX(P$1:P1182)+1)","v":""},""]
[null,null,null,null,null,null,null,null,null,null,null,null,null,{"$f":"IF(LDAR_H_UU_summary!C1006=\"\",\"\",LDAR_H_UU_summary!C1006)","v":""},{"$f":"IF(COUNTIF(N$2:N1184,N1184)=1,N1184,\"\")","v":""},{"$f":"+IF(O1184=\"\",\"\",MAX(P$1:P1183)+1)","v":""},""]
[null,null,null,null,null,null,null,null,null,null,null,null,null,{"$f":"IF(LDAR_H_UU_summary!C1007=\"\",\"\",LDAR_H_UU_summary!C1007)","v":""},{"$f":"IF(COUNTIF(N$2:N1185,N1185)=1,N1185,\"\")","v":""},{"$f":"+IF(O1185=\"\",\"\",MAX(P$1:P1184)+1)","v":""},""]
[null,null,null,null,null,null,null,null,null,null,null,null,null,{"$f":"IF(LDAR_H_UU_summary!C1008=\"\",\"\",LDAR_H_UU_summary!C1008)","v":""},{"$f":"IF(COUNTIF(N$2:N1186,N1186)=1,N1186,\"\")","v":""},{"$f":"+IF(O1186=\"\",\"\",MAX(P$1:P1185)+1)","v":""},""]
[null,null,null,null,null,null,null,null,null,null,null,null,null,{"$f":"IF(LDAR_H_UU_summary!C1009=\"\",\"\",LDAR_H_UU_summary!C1009)","v":""},{"$f":"IF(COUNTIF(N$2:N1187,N1187)=1,N1187,\"\")","v":""},{"$f":"+IF(O1187=\"\",\"\",MAX(P$1:P1186)+1)","v":""},""]
[null,null,null,null,null,null,null,null,null,null,null,null,null,{"$f":"IF(LDAR_H_UU_summary!C1010=\"\",\"\",LDAR_H_UU_summary!C1010)","v":""},{"$f":"IF(COUNTIF(N$2:N1188,N1188)=1,N1188,\"\")","v":""},{"$f":"+IF(O1188=\"\",\"\",MAX(P$1:P1187)+1)","v":""},""]
[null,null,null,null,null,null,null,null,null,null,null,null,null,{"$f":"IF(LDAR_H_UU_summary!C1011=\"\",\"\",LDAR_H_UU_summary!C1011)","v":""},{"$f":"IF(COUNTIF(N$2:N1189,N1189)=1,N1189,\"\")","v":""},{"$f":"+IF(O1189=\"\",\"\",MAX(P$1:P1188)+1)","v":""},""]
[null,null,null,null,null,null,null,null,null,null,null,null,null,{"$f":"IF(LDAR_H_UU_summary!C1012=\"\",\"\",LDAR_H_UU_summary!C1012)","v":""},{"$f":"IF(COUNTIF(N$2:N1190,N1190)=1,N1190,\"\")","v":""},{"$f":"+IF(O1190=\"\",\"\",MAX(P$1:P1189)+1)","v":""},""]
[null,null,null,null,null,null,null,null,null,null,null,null,null,{"$f":"IF(LDAR_H_UU_summary!C1013=\"\",\"\",LDAR_H_UU_summary!C1013)","v":""},{"$f":"IF(COUNTIF(N$2:N1191,N1191)=1,N1191,\"\")","v":""},{"$f":"+IF(O1191=\"\",\"\",MAX(P$1:P1190)+1)","v":""},""]
[null,null,null,null,null,null,null,null,null,null,null,null,null,{"$f":"IF(LDAR_H_UU_summary!C1014=\"\",\"\",LDAR_H_UU_summary!C1014)","v":""},{"$f":"IF(COUNTIF(N$2:N1192,N1192)=1,N1192,\"\")","v":""},{"$f":"+IF(O1192=\"\",\"\",MAX(P$1:P1191)+1)","v":""},""]
[null,null,null,null,null,null,null,null,null,null,null,null,null,{"$f":"IF(LDAR_H_UU_summary!C1015=\"\",\"\",LDAR_H_UU_summary!C1015)","v":""},{"$f":"IF(COUNTIF(N$2:N1193,N1193)=1,N1193,\"\")","v":""},{"$f":"+IF(O1193=\"\",\"\",MAX(P$1:P1192)+1)","v":""},""]
[null,null,null,null,null,null,null,null,null,null,null,null,null,{"$f":"IF(LDAR_H_UU_summary!C1016=\"\",\"\",LDAR_H_UU_summary!C1016)","v":""},{"$f":"IF(COUNTIF(N$2:N1194,N1194)=1,N1194,\"\")","v":""},{"$f":"+IF(O1194=\"\",\"\",MAX(P$1:P1193)+1)","v":""},""]
[null,null,null,null,null,null,null,null,null,null,null,null,null,{"$f":"IF(LDAR_H_UU_summary!C1017=\"\",\"\",LDAR_H_UU_summary!C1017)","v":""},{"$f":"IF(COUNTIF(N$2:N1195,N1195)=1,N1195,\"\")","v":""},{"$f":"+IF(O1195=\"\",\"\",MAX(P$1:P1194)+1)","v":""},""]
[null,null,null,null,null,null,null,null,null,null,null,null,null,{"$f":"IF(LDAR_H_UU_summary!C1018=\"\",\"\",LDAR_H_UU_summary!C1018)","v":""},{"$f":"IF(COUNTIF(N$2:N1196,N1196)=1,N1196,\"\")","v":""},{"$f":"+IF(O1196=\"\",\"\",MAX(P$1:P1195)+1)","v":""},""]
[null,null,null,null,null,null,null,null,null,null,null,null,null,{"$f":"IF(LDAR_H_UU_summary!C1019=\"\",\"\",LDAR_H_UU_summary!C1019)","v":""},{"$f":"IF(COUNTIF(N$2:N1197,N1197)=1,N1197,\"\")","v":""},{"$f":"+IF(O1197=\"\",\"\",MAX(P$1:P1196)+1)","v":""},""]
[null,null,null,null,null,null,null,null,null,null,null,null,null,{"$f":"IF(LDAR_H_UU_summary!C1020=\"\",\"\",LDAR_H_UU_summary!C1020)","v":""},{"$f":"IF(COUNTIF(N$2:N1198,N1198)=1,N1198,\"\")","v":""},{"$f":"+IF(O1198=\"\",\"\",MAX(P$1:P1197)+1)","v":""},""]
[null,null,null,null,null,null,null,null,null,null,null,null,null,{"$f":"IF(LDAR_H_UU_summary!C1021=\"\",\"\",LDAR_H_UU_summary!C1021)","v":""},{"$f":"IF(COUNTIF(N$2:N1199,N1199)=1,N1199,\"\")","v":""},{"$f":"+IF(O1199=\"\",\"\",MAX(P$1:P1198)+1)","v":""},""]
[null,null,null,null,null,null,null,null,null,null,null,null,null,{"$f":"IF(LDAR_H_UU_summary!C1022=\"\",\"\",LDAR_H_UU_summary!C1022)","v":""},{"$f":"IF(COUNTIF(N$2:N1200,N1200)=1,N1200,\"\")","v":""},{"$f":"+IF(O1200=\"\",\"\",MAX(P$1:P1199)+1)","v":""},""]
[null,null,null,null,null,null,null,null,null,null,null,null,null,{"$f":"IF(LDAR_H_UU_summary!C1023=\"\",\"\",LDAR_H_UU_summary!C1023)","v":""},{"$f":"IF(COUNTIF(N$2:N1201,N1201)=1,N1201,\"\")","v":""},{"$f":"+IF(O1201=\"\",\"\",MAX(P$1:P1200)+1)","v":""},""]
[null,null,null,null,null,null,null,null,null,null,null,null,null,{"$f":"IF(LDAR_H_UU_summary!C1024=\"\",\"\",LDAR_H_UU_summary!C1024)","v":""},{"$f":"IF(COUNTIF(N$2:N1202,N1202)=1,N1202,\"\")","v":""},{"$f":"+IF(O1202=\"\",\"\",MAX(P$1:P1201)+1)","v":""},""]
[null,null,null,null,null,null,null,null,null,null,null,null,null,{"$f":"IF(LDAR_H_UU_summary!C1025=\"\",\"\",LDAR_H_UU_summary!C1025)","v":""},{"$f":"IF(COUNTIF(N$2:N1203,N1203)=1,N1203,\"\")","v":""},{"$f":"+IF(O1203=\"\",\"\",MAX(P$1:P1202)+1)","v":""},""]
[null,null,null,null,null,null,null,null,null,null,null,null,null,{"$f":"IF(LDAR_H_UU_summary!C1026=\"\",\"\",LDAR_H_UU_summary!C1026)","v":""},{"$f":"IF(COUNTIF(N$2:N1204,N1204)=1,N1204,\"\")","v":""},{"$f":"+IF(O1204=\"\",\"\",MAX(P$1:P1203)+1)","v":""},""]
[null,null,null,null,null,null,null,null,null,null,null,null,null,{"$f":"IF(LDAR_H_UU_summary!C1027=\"\",\"\",LDAR_H_UU_summary!C1027)","v":""},{"$f":"IF(COUNTIF(N$2:N1205,N1205)=1,N1205,\"\")","v":""},{"$f":"+IF(O1205=\"\",\"\",MAX(P$1:P1204)+1)","v":""},""]
[null,null,null,null,null,null,null,null,null,null,null,null,null,{"$f":"IF(LDAR_H_UU_summary!C1028=\"\",\"\",LDAR_H_UU_summary!C1028)","v":""},{"$f":"IF(COUNTIF(N$2:N1206,N1206)=1,N1206,\"\")","v":""},{"$f":"+IF(O1206=\"\",\"\",MAX(P$1:P1205)+1)","v":""},""]
[null,null,null,null,null,null,null,null,null,null,null,null,null,{"$f":"IF(LDAR_H_UU_summary!C1029=\"\",\"\",LDAR_H_UU_summary!C1029)","v":""},{"$f":"IF(COUNTIF(N$2:N1207,N1207)=1,N1207,\"\")","v":""},{"$f":"+IF(O1207=\"\",\"\",MAX(P$1:P1206)+1)","v":""},""]
[null,null,null,null,null,null,null,null,null,null,null,null,null,{"$f":"IF(LDAR_H_UU_summary!C1030=\"\",\"\",LDAR_H_UU_summary!C1030)","v":""},{"$f":"IF(COUNTIF(N$2:N1208,N1208)=1,N1208,\"\")","v":""},{"$f":"+IF(O1208=\"\",\"\",MAX(P$1:P1207)+1)","v":""},""]
[null,null,null,null,null,null,null,null,null,null,null,null,null,{"$f":"IF(LDAR_H_UU_summary!C1031=\"\",\"\",LDAR_H_UU_summary!C1031)","v":""},{"$f":"IF(COUNTIF(N$2:N1209,N1209)=1,N1209,\"\")","v":""},{"$f":"+IF(O1209=\"\",\"\",MAX(P$1:P1208)+1)","v":""},""]
[null,null,null,null,null,null,null,null,null,null,null,null,null,{"$f":"IF(LDAR_H_UU_summary!C1032=\"\",\"\",LDAR_H_UU_summary!C1032)","v":""},{"$f":"IF(COUNTIF(N$2:N1210,N1210)=1,N1210,\"\")","v":""},{"$f":"+IF(O1210=\"\",\"\",MAX(P$1:P1209)+1)","v":""},""]
[null,null,null,null,null,null,null,null,null,null,null,null,null,{"$f":"IF(LDAR_H_UU_summary!C1033=\"\",\"\",LDAR_H_UU_summary!C1033)","v":""},{"$f":"IF(COUNTIF(N$2:N1211,N1211)=1,N1211,\"\")","v":""},{"$f":"+IF(O1211=\"\",\"\",MAX(P$1:P1210)+1)","v":""},""]
[null,null,null,null,null,null,null,null,null,null,null,null,null,{"$f":"IF(LDAR_H_UU_summary!C1034=\"\",\"\",LDAR_H_UU_summary!C1034)","v":""},{"$f":"IF(COUNTIF(N$2:N1212,N1212)=1,N1212,\"\")","v":""},{"$f":"+IF(O1212=\"\",\"\",MAX(P$1:P1211)+1)","v":""},""]
[null,null,null,null,null,null,null,null,null,null,null,null,null,{"$f":"IF(LDAR_H_UU_summary!C1035=\"\",\"\",LDAR_H_UU_summary!C1035)","v":""},{"$f":"IF(COUNTIF(N$2:N1213,N1213)=1,N1213,\"\")","v":""},{"$f":"+IF(O1213=\"\",\"\",MAX(P$1:P1212)+1)","v":""},""]
[null,null,null,null,null,null,null,null,null,null,null,null,null,{"$f":"IF(LDAR_H_UU_summary!C1036=\"\",\"\",LDAR_H_UU_summary!C1036)","v":""},{"$f":"IF(COUNTIF(N$2:N1214,N1214)=1,N1214,\"\")","v":""},{"$f":"+IF(O1214=\"\",\"\",MAX(P$1:P1213)+1)","v":""},""]
[null,null,null,null,null,null,null,null,null,null,null,null,null,{"$f":"IF(LDAR_H_UU_summary!C1037=\"\",\"\",LDAR_H_UU_summary!C1037)","v":""},{"$f":"IF(COUNTIF(N$2:N1215,N1215)=1,N1215,\"\")","v":""},{"$f":"+IF(O1215=\"\",\"\",MAX(P$1:P1214)+1)","v":""},""]
[null,null,null,null,null,null,null,null,null,null,null,null,null,{"$f":"IF(LDAR_H_UU_summary!C1038=\"\",\"\",LDAR_H_UU_summary!C1038)","v":""},{"$f":"IF(COUNTIF(N$2:N1216,N1216)=1,N1216,\"\")","v":""},{"$f":"+IF(O1216=\"\",\"\",MAX(P$1:P1215)+1)","v":""},""]
[null,null,null,null,null,null,null,null,null,null,null,null,null,{"$f":"IF(LDAR_H_UU_summary!C1039=\"\",\"\",LDAR_H_UU_summary!C1039)","v":""},{"$f":"IF(COUNTIF(N$2:N1217,N1217)=1,N1217,\"\")","v":""},{"$f":"+IF(O1217=\"\",\"\",MAX(P$1:P1216)+1)","v":""},""]
[null,null,null,null,null,null,null,null,null,null,null,null,null,{"$f":"IF(LDAR_H_UU_summary!C1040=\"\",\"\",LDAR_H_UU_summary!C1040)","v":""},{"$f":"IF(COUNTIF(N$2:N1218,N1218)=1,N1218,\"\")","v":""},{"$f":"+IF(O1218=\"\",\"\",MAX(P$1:P1217)+1)","v":""},""]
[null,null,null,null,null,null,null,null,null,null,null,null,null,{"$f":"IF(LDAR_H_UU_summary!C1041=\"\",\"\",LDAR_H_UU_summary!C1041)","v":""},{"$f":"IF(COUNTIF(N$2:N1219,N1219)=1,N1219,\"\")","v":""},{"$f":"+IF(O1219=\"\",\"\",MAX(P$1:P1218)+1)","v":""},{"$f":"+IFERROR(INDEX($N$2:$N$2001,MATCH(ROW()-ROW($P$1),$P$2:$P$2001,0)),\"\")","v":""}]
[null,null,null,null,null,null,null,null,null,null,null,null,null,{"$f":"IF(LDAR_H_UU_summary!C1042=\"\",\"\",LDAR_H_UU_summary!C1042)","v":""},{"$f":"IF(COUNTIF(N$2:N1220,N1220)=1,N1220,\"\")","v":""},{"$f":"+IF(O1220=\"\",\"\",MAX(P$1:P1219)+1)","v":""},""]
[null,null,null,null,null,null,null,null,null,null,null,null,null,{"$f":"IF(LDAR_H_UU_summary!C1043=\"\",\"\",LDAR_H_UU_summary!C1043)","v":""},{"$f":"IF(COUNTIF(N$2:N1221,N1221)=1,N1221,\"\")","v":""},{"$f":"+IF(O1221=\"\",\"\",MAX(P$1:P1220)+1)","v":""},""]
[null,null,null,null,null,null,null,null,null,null,null,null,null,{"$f":"IF(LDAR_H_UU_summary!C1044=\"\",\"\",LDAR_H_UU_summary!C1044)","v":""},{"$f":"IF(COUNTIF(N$2:N1222,N1222)=1,N1222,\"\")","v":""},{"$f":"+IF(O1222=\"\",\"\",MAX(P$1:P1221)+1)","v":""},""]
[null,null,null,null,null,null,null,null,null,null,null,null,null,{"$f":"IF(LDAR_H_UU_summary!C1045=\"\",\"\",LDAR_H_UU_summary!C1045)","v":""},{"$f":"IF(COUNTIF(N$2:N1223,N1223)=1,N1223,\"\")","v":""},{"$f":"+IF(O1223=\"\",\"\",MAX(P$1:P1222)+1)","v":""},""]
[null,null,null,null,null,null,null,null,null,null,null,null,null,{"$f":"IF(LDAR_H_UU_summary!C1046=\"\",\"\",LDAR_H_UU_summary!C1046)","v":""},{"$f":"IF(COUNTIF(N$2:N1224,N1224)=1,N1224,\"\")","v":""},{"$f":"+IF(O1224=\"\",\"\",MAX(P$1:P1223)+1)","v":""},""]
[null,null,null,null,null,null,null,null,null,null,null,null,null,{"$f":"IF(LDAR_H_UU_summary!C1047=\"\",\"\",LDAR_H_UU_summary!C1047)","v":""},{"$f":"IF(COUNTIF(N$2:N1225,N1225)=1,N1225,\"\")","v":""},{"$f":"+IF(O1225=\"\",\"\",MAX(P$1:P1224)+1)","v":""},""]
[null,null,null,null,null,null,null,null,null,null,null,null,null,{"$f":"IF(LDAR_H_UU_summary!C1048=\"\",\"\",LDAR_H_UU_summary!C1048)","v":""},{"$f":"IF(COUNTIF(N$2:N1226,N1226)=1,N1226,\"\")","v":""},{"$f":"+IF(O1226=\"\",\"\",MAX(P$1:P1225)+1)","v":""},""]
[null,null,null,null,null,null,null,null,null,null,null,null,null,{"$f":"IF(LDAR_H_UU_summary!C1049=\"\",\"\",LDAR_H_UU_summary!C1049)","v":""},{"$f":"IF(COUNTIF(N$2:N1227,N1227)=1,N1227,\"\")","v":""},{"$f":"+IF(O1227=\"\",\"\",MAX(P$1:P1226)+1)","v":""},""]
[null,null,null,null,null,null,null,null,null,null,null,null,null,{"$f":"IF(LDAR_H_UU_summary!C1050=\"\",\"\",LDAR_H_UU_summary!C1050)","v":""},{"$f":"IF(COUNTIF(N$2:N1228,N1228)=1,N1228,\"\")","v":""},{"$f":"+IF(O1228=\"\",\"\",MAX(P$1:P1227)+1)","v":""},""]
[null,null,null,null,null,null,null,null,null,null,null,null,null,{"$f":"IF(LDAR_H_UU_summary!C1051=\"\",\"\",LDAR_H_UU_summary!C1051)","v":""},{"$f":"IF(COUNTIF(N$2:N1229,N1229)=1,N1229,\"\")","v":""},{"$f":"+IF(O1229=\"\",\"\",MAX(P$1:P1228)+1)","v":""},""]
[null,null,null,null,null,null,null,null,null,null,null,null,null,{"$f":"IF(LDAR_H_UU_summary!C1052=\"\",\"\",LDAR_H_UU_summary!C1052)","v":""},{"$f":"IF(COUNTIF(N$2:N1230,N1230)=1,N1230,\"\")","v":""},{"$f":"+IF(O1230=\"\",\"\",MAX(P$1:P1229)+1)","v":""},""]
[null,null,null,null,null,null,null,null,null,null,null,null,null,{"$f":"IF(LDAR_H_UU_summary!C1053=\"\",\"\",LDAR_H_UU_summary!C1053)","v":""},{"$f":"IF(COUNTIF(N$2:N1231,N1231)=1,N1231,\"\")","v":""},{"$f":"+IF(O1231=\"\",\"\",MAX(P$1:P1230)+1)","v":""},""]
[null,null,null,null,null,null,null,null,null,null,null,null,null,{"$f":"IF(LDAR_H_UU_summary!C1054=\"\",\"\",LDAR_H_UU_summary!C1054)","v":""},{"$f":"IF(COUNTIF(N$2:N1232,N1232)=1,N1232,\"\")","v":""},{"$f":"+IF(O1232=\"\",\"\",MAX(P$1:P1231)+1)","v":""},""]
[null,null,null,null,null,null,null,null,null,null,null,null,null,{"$f":"IF(LDAR_H_UU_summary!C1055=\"\",\"\",LDAR_H_UU_summary!C1055)","v":""},{"$f":"IF(COUNTIF(N$2:N1233,N1233)=1,N1233,\"\")","v":""},{"$f":"+IF(O1233=\"\",\"\",MAX(P$1:P1232)+1)","v":""},""]
[null,null,null,null,null,null,null,null,null,null,null,null,null,{"$f":"IF(LDAR_H_UU_summary!C1056=\"\",\"\",LDAR_H_UU_summary!C1056)","v":""},{"$f":"IF(COUNTIF(N$2:N1234,N1234)=1,N1234,\"\")","v":""},{"$f":"+IF(O1234=\"\",\"\",MAX(P$1:P1233)+1)","v":""},""]
[null,null,null,null,null,null,null,null,null,null,null,null,null,{"$f":"IF(LDAR_H_UU_summary!C1057=\"\",\"\",LDAR_H_UU_summary!C1057)","v":""},{"$f":"IF(COUNTIF(N$2:N1235,N1235)=1,N1235,\"\")","v":""},{"$f":"+IF(O1235=\"\",\"\",MAX(P$1:P1234)+1)","v":""},""]
[null,null,null,null,null,null,null,null,null,null,null,null,null,{"$f":"IF(LDAR_H_UU_summary!C1058=\"\",\"\",LDAR_H_UU_summary!C1058)","v":""},{"$f":"IF(COUNTIF(N$2:N1236,N1236)=1,N1236,\"\")","v":""},{"$f":"+IF(O1236=\"\",\"\",MAX(P$1:P1235)+1)","v":""},""]
[null,null,null,null,null,null,null,null,null,null,null,null,null,{"$f":"IF(LDAR_H_UU_summary!C1059=\"\",\"\",LDAR_H_UU_summary!C1059)","v":""},{"$f":"IF(COUNTIF(N$2:N1237,N1237)=1,N1237,\"\")","v":""},{"$f":"+IF(O1237=\"\",\"\",MAX(P$1:P1236)+1)","v":""},""]
[null,null,null,null,null,null,null,null,null,null,null,null,null,{"$f":"IF(LDAR_H_UU_summary!C1060=\"\",\"\",LDAR_H_UU_summary!C1060)","v":""},{"$f":"IF(COUNTIF(N$2:N1238,N1238)=1,N1238,\"\")","v":""},{"$f":"+IF(O1238=\"\",\"\",MAX(P$1:P1237)+1)","v":""},""]
[null,null,null,null,null,null,null,null,null,null,null,null,null,{"$f":"IF(LDAR_H_UU_summary!C1061=\"\",\"\",LDAR_H_UU_summary!C1061)","v":""},{"$f":"IF(COUNTIF(N$2:N1239,N1239)=1,N1239,\"\")","v":""},{"$f":"+IF(O1239=\"\",\"\",MAX(P$1:P1238)+1)","v":""},""]
[null,null,null,null,null,null,null,null,null,null,null,null,null,{"$f":"IF(LDAR_H_UU_summary!C1062=\"\",\"\",LDAR_H_UU_summary!C1062)","v":""},{"$f":"IF(COUNTIF(N$2:N1240,N1240)=1,N1240,\"\")","v":""},{"$f":"+IF(O1240=\"\",\"\",MAX(P$1:P1239)+1)","v":""},""]
[null,null,null,null,null,null,null,null,null,null,null,null,null,{"$f":"IF(LDAR_H_UU_summary!C1063=\"\",\"\",LDAR_H_UU_summary!C1063)","v":""},{"$f":"IF(COUNTIF(N$2:N1241,N1241)=1,N1241,\"\")","v":""},{"$f":"+IF(O1241=\"\",\"\",MAX(P$1:P1240)+1)","v":""},""]
[null,null,null,null,null,null,null,null,null,null,null,null,null,{"$f":"IF(LDAR_H_UU_summary!C1064=\"\",\"\",LDAR_H_UU_summary!C1064)","v":""},{"$f":"IF(COUNTIF(N$2:N1242,N1242)=1,N1242,\"\")","v":""},{"$f":"+IF(O1242=\"\",\"\",MAX(P$1:P1241)+1)","v":""},""]
[null,null,null,null,null,null,null,null,null,null,null,null,null,{"$f":"IF(LDAR_H_UU_summary!C1065=\"\",\"\",LDAR_H_UU_summary!C1065)","v":""},{"$f":"IF(COUNTIF(N$2:N1243,N1243)=1,N1243,\"\")","v":""},{"$f":"+IF(O1243=\"\",\"\",MAX(P$1:P1242)+1)","v":""},""]
[null,null,null,null,null,null,null,null,null,null,null,null,null,{"$f":"IF(LDAR_H_UU_summary!C1066=\"\",\"\",LDAR_H_UU_summary!C1066)","v":""},{"$f":"IF(COUNTIF(N$2:N1244,N1244)=1,N1244,\"\")","v":""},{"$f":"+IF(O1244=\"\",\"\",MAX(P$1:P1243)+1)","v":""},""]
[null,null,null,null,null,null,null,null,null,null,null,null,null,{"$f":"IF(LDAR_H_UU_summary!C1067=\"\",\"\",LDAR_H_UU_summary!C1067)","v":""},{"$f":"IF(COUNTIF(N$2:N1245,N1245)=1,N1245,\"\")","v":""},{"$f":"+IF(O1245=\"\",\"\",MAX(P$1:P1244)+1)","v":""},""]
[null,null,null,null,null,null,null,null,null,null,null,null,null,{"$f":"IF(LDAR_H_UU_summary!C1068=\"\",\"\",LDAR_H_UU_summary!C1068)","v":""},{"$f":"IF(COUNTIF(N$2:N1246,N1246)=1,N1246,\"\")","v":""},{"$f":"+IF(O1246=\"\",\"\",MAX(P$1:P1245)+1)","v":""},""]
[null,null,null,null,null,null,null,null,null,null,null,null,null,{"$f":"IF(LDAR_H_UU_summary!C1069=\"\",\"\",LDAR_H_UU_summary!C1069)","v":""},{"$f":"IF(COUNTIF(N$2:N1247,N1247)=1,N1247,\"\")","v":""},{"$f":"+IF(O1247=\"\",\"\",MAX(P$1:P1246)+1)","v":""},""]
[null,null,null,null,null,null,null,null,null,null,null,null,null,{"$f":"IF(LDAR_H_UU_summary!C1070=\"\",\"\",LDAR_H_UU_summary!C1070)","v":""},{"$f":"IF(COUNTIF(N$2:N1248,N1248)=1,N1248,\"\")","v":""},{"$f":"+IF(O1248=\"\",\"\",MAX(P$1:P1247)+1)","v":""},""]
[null,null,null,null,null,null,null,null,null,null,null,null,null,{"$f":"IF(LDAR_H_UU_summary!C1071=\"\",\"\",LDAR_H_UU_summary!C1071)","v":""},{"$f":"IF(COUNTIF(N$2:N1249,N1249)=1,N1249,\"\")","v":""},{"$f":"+IF(O1249=\"\",\"\",MAX(P$1:P1248)+1)","v":""},""]
[null,null,null,null,null,null,null,null,null,null,null,null,null,{"$f":"IF(LDAR_H_UU_summary!C1072=\"\",\"\",LDAR_H_UU_summary!C1072)","v":""},{"$f":"IF(COUNTIF(N$2:N1250,N1250)=1,N1250,\"\")","v":""},{"$f":"+IF(O1250=\"\",\"\",MAX(P$1:P1249)+1)","v":""},""]
[null,null,null,null,null,null,null,null,null,null,null,null,null,{"$f":"IF(LDAR_H_UU_summary!C1073=\"\",\"\",LDAR_H_UU_summary!C1073)","v":""},{"$f":"IF(COUNTIF(N$2:N1251,N1251)=1,N1251,\"\")","v":""},{"$f":"+IF(O1251=\"\",\"\",MAX(P$1:P1250)+1)","v":""},""]
[null,null,null,null,null,null,null,null,null,null,null,null,null,{"$f":"IF(LDAR_H_UU_summary!C1074=\"\",\"\",LDAR_H_UU_summary!C1074)","v":""},{"$f":"IF(COUNTIF(N$2:N1252,N1252)=1,N1252,\"\")","v":""},{"$f":"+IF(O1252=\"\",\"\",MAX(P$1:P1251)+1)","v":""},""]
[null,null,null,null,null,null,null,null,null,null,null,null,null,{"$f":"IF(LDAR_H_UU_summary!C1075=\"\",\"\",LDAR_H_UU_summary!C1075)","v":""},{"$f":"IF(COUNTIF(N$2:N1253,N1253)=1,N1253,\"\")","v":""},{"$f":"+IF(O1253=\"\",\"\",MAX(P$1:P1252)+1)","v":""},""]
[null,null,null,null,null,null,null,null,null,null,null,null,null,{"$f":"IF(LDAR_H_UU_summary!C1076=\"\",\"\",LDAR_H_UU_summary!C1076)","v":""},{"$f":"IF(COUNTIF(N$2:N1254,N1254)=1,N1254,\"\")","v":""},{"$f":"+IF(O1254=\"\",\"\",MAX(P$1:P1253)+1)","v":""},""]
[null,null,null,null,null,null,null,null,null,null,null,null,null,{"$f":"IF(LDAR_H_UU_summary!C1077=\"\",\"\",LDAR_H_UU_summary!C1077)","v":""},{"$f":"IF(COUNTIF(N$2:N1255,N1255)=1,N1255,\"\")","v":""},{"$f":"+IF(O1255=\"\",\"\",MAX(P$1:P1254)+1)","v":""},""]
[null,null,null,null,null,null,null,null,null,null,null,null,null,{"$f":"IF(LDAR_H_UU_summary!C1078=\"\",\"\",LDAR_H_UU_summary!C1078)","v":""},{"$f":"IF(COUNTIF(N$2:N1256,N1256)=1,N1256,\"\")","v":""},{"$f":"+IF(O1256=\"\",\"\",MAX(P$1:P1255)+1)","v":""},""]
[null,null,null,null,null,null,null,null,null,null,null,null,null,{"$f":"IF(LDAR_H_UU_summary!C1079=\"\",\"\",LDAR_H_UU_summary!C1079)","v":""},{"$f":"IF(COUNTIF(N$2:N1257,N1257)=1,N1257,\"\")","v":""},{"$f":"+IF(O1257=\"\",\"\",MAX(P$1:P1256)+1)","v":""},""]
[null,null,null,null,null,null,null,null,null,null,null,null,null,{"$f":"IF(LDAR_H_UU_summary!C1080=\"\",\"\",LDAR_H_UU_summary!C1080)","v":""},{"$f":"IF(COUNTIF(N$2:N1258,N1258)=1,N1258,\"\")","v":""},{"$f":"+IF(O1258=\"\",\"\",MAX(P$1:P1257)+1)","v":""},""]
[null,null,null,null,null,null,null,null,null,null,null,null,null,{"$f":"IF(LDAR_H_UU_summary!C1081=\"\",\"\",LDAR_H_UU_summary!C1081)","v":""},{"$f":"IF(COUNTIF(N$2:N1259,N1259)=1,N1259,\"\")","v":""},{"$f":"+IF(O1259=\"\",\"\",MAX(P$1:P1258)+1)","v":""},""]
[null,null,null,null,null,null,null,null,null,null,null,null,null,{"$f":"IF(LDAR_H_UU_summary!C1082=\"\",\"\",LDAR_H_UU_summary!C1082)","v":""},{"$f":"IF(COUNTIF(N$2:N1260,N1260)=1,N1260,\"\")","v":""},{"$f":"+IF(O1260=\"\",\"\",MAX(P$1:P1259)+1)","v":""},""]
[null,null,null,null,null,null,null,null,null,null,null,null,null,{"$f":"IF(LDAR_H_UU_summary!C1083=\"\",\"\",LDAR_H_UU_summary!C1083)","v":""},{"$f":"IF(COUNTIF(N$2:N1261,N1261)=1,N1261,\"\")","v":""},{"$f":"+IF(O1261=\"\",\"\",MAX(P$1:P1260)+1)","v":""},""]
[null,null,null,null,null,null,null,null,null,null,null,null,null,{"$f":"IF(LDAR_H_UU_summary!C1084=\"\",\"\",LDAR_H_UU_summary!C1084)","v":""},{"$f":"IF(COUNTIF(N$2:N1262,N1262)=1,N1262,\"\")","v":""},{"$f":"+IF(O1262=\"\",\"\",MAX(P$1:P1261)+1)","v":""},""]
[null,null,null,null,null,null,null,null,null,null,null,null,null,{"$f":"IF(LDAR_H_UU_summary!C1085=\"\",\"\",LDAR_H_UU_summary!C1085)","v":""},{"$f":"IF(COUNTIF(N$2:N1263,N1263)=1,N1263,\"\")","v":""},{"$f":"+IF(O1263=\"\",\"\",MAX(P$1:P1262)+1)","v":""},""]
[null,null,null,null,null,null,null,null,null,null,null,null,null,{"$f":"IF(LDAR_H_UU_summary!C1086=\"\",\"\",LDAR_H_UU_summary!C1086)","v":""},{"$f":"IF(COUNTIF(N$2:N1264,N1264)=1,N1264,\"\")","v":""},{"$f":"+IF(O1264=\"\",\"\",MAX(P$1:P1263)+1)","v":""},""]
[null,null,null,null,null,null,null,null,null,null,null,null,null,{"$f":"IF(LDAR_H_UU_summary!C1087=\"\",\"\",LDAR_H_UU_summary!C1087)","v":""},{"$f":"IF(COUNTIF(N$2:N1265,N1265)=1,N1265,\"\")","v":""},{"$f":"+IF(O1265=\"\",\"\",MAX(P$1:P1264)+1)","v":""},""]
[null,null,null,null,null,null,null,null,null,null,null,null,null,{"$f":"IF(LDAR_H_UU_summary!C1088=\"\",\"\",LDAR_H_UU_summary!C1088)","v":""},{"$f":"IF(COUNTIF(N$2:N1266,N1266)=1,N1266,\"\")","v":""},{"$f":"+IF(O1266=\"\",\"\",MAX(P$1:P1265)+1)","v":""},""]
[null,null,null,null,null,null,null,null,null,null,null,null,null,{"$f":"IF(LDAR_H_UU_summary!C1089=\"\",\"\",LDAR_H_UU_summary!C1089)","v":""},{"$f":"IF(COUNTIF(N$2:N1267,N1267)=1,N1267,\"\")","v":""},{"$f":"+IF(O1267=\"\",\"\",MAX(P$1:P1266)+1)","v":""},""]
[null,null,null,null,null,null,null,null,null,null,null,null,null,{"$f":"IF(LDAR_H_UU_summary!C1090=\"\",\"\",LDAR_H_UU_summary!C1090)","v":""},{"$f":"IF(COUNTIF(N$2:N1268,N1268)=1,N1268,\"\")","v":""},{"$f":"+IF(O1268=\"\",\"\",MAX(P$1:P1267)+1)","v":""},""]
[null,null,null,null,null,null,null,null,null,null,null,null,null,{"$f":"IF(LDAR_H_UU_summary!C1091=\"\",\"\",LDAR_H_UU_summary!C1091)","v":""},{"$f":"IF(COUNTIF(N$2:N1269,N1269)=1,N1269,\"\")","v":""},{"$f":"+IF(O1269=\"\",\"\",MAX(P$1:P1268)+1)","v":""},""]
[null,null,null,null,null,null,null,null,null,null,null,null,null,{"$f":"IF(LDAR_H_UU_summary!C1092=\"\",\"\",LDAR_H_UU_summary!C1092)","v":""},{"$f":"IF(COUNTIF(N$2:N1270,N1270)=1,N1270,\"\")","v":""},{"$f":"+IF(O1270=\"\",\"\",MAX(P$1:P1269)+1)","v":""},""]
[null,null,null,null,null,null,null,null,null,null,null,null,null,{"$f":"IF(LDAR_H_UU_summary!C1093=\"\",\"\",LDAR_H_UU_summary!C1093)","v":""},{"$f":"IF(COUNTIF(N$2:N1271,N1271)=1,N1271,\"\")","v":""},{"$f":"+IF(O1271=\"\",\"\",MAX(P$1:P1270)+1)","v":""},""]
[null,null,null,null,null,null,null,null,null,null,null,null,null,{"$f":"IF(LDAR_H_UU_summary!C1094=\"\",\"\",LDAR_H_UU_summary!C1094)","v":""},{"$f":"IF(COUNTIF(N$2:N1272,N1272)=1,N1272,\"\")","v":""},{"$f":"+IF(O1272=\"\",\"\",MAX(P$1:P1271)+1)","v":""},""]
[null,null,null,null,null,null,null,null,null,null,null,null,null,{"$f":"IF(LDAR_H_UU_summary!C1095=\"\",\"\",LDAR_H_UU_summary!C1095)","v":""},{"$f":"IF(COUNTIF(N$2:N1273,N1273)=1,N1273,\"\")","v":""},{"$f":"+IF(O1273=\"\",\"\",MAX(P$1:P1272)+1)","v":""},""]
[null,null,null,null,null,null,null,null,null,null,null,null,null,{"$f":"IF(LDAR_H_UU_summary!C1096=\"\",\"\",LDAR_H_UU_summary!C1096)","v":""},{"$f":"IF(COUNTIF(N$2:N1274,N1274)=1,N1274,\"\")","v":""},{"$f":"+IF(O1274=\"\",\"\",MAX(P$1:P1273)+1)","v":""},""]
[null,null,null,null,null,null,null,null,null,null,null,null,null,{"$f":"IF(LDAR_H_UU_summary!C1097=\"\",\"\",LDAR_H_UU_summary!C1097)","v":""},{"$f":"IF(COUNTIF(N$2:N1275,N1275)=1,N1275,\"\")","v":""},{"$f":"+IF(O1275=\"\",\"\",MAX(P$1:P1274)+1)","v":""},""]
[null,null,null,null,null,null,null,null,null,null,null,null,null,{"$f":"IF(LDAR_H_UU_summary!C1098=\"\",\"\",LDAR_H_UU_summary!C1098)","v":""},{"$f":"IF(COUNTIF(N$2:N1276,N1276)=1,N1276,\"\")","v":""},{"$f":"+IF(O1276=\"\",\"\",MAX(P$1:P1275)+1)","v":""},""]
[null,null,null,null,null,null,null,null,null,null,null,null,null,{"$f":"IF(LDAR_H_UU_summary!C1099=\"\",\"\",LDAR_H_UU_summary!C1099)","v":""},{"$f":"IF(COUNTIF(N$2:N1277,N1277)=1,N1277,\"\")","v":""},{"$f":"+IF(O1277=\"\",\"\",MAX(P$1:P1276)+1)","v":""},""]
[null,null,null,null,null,null,null,null,null,null,null,null,null,{"$f":"IF(LDAR_H_UU_summary!C1100=\"\",\"\",LDAR_H_UU_summary!C1100)","v":""},{"$f":"IF(COUNTIF(N$2:N1278,N1278)=1,N1278,\"\")","v":""},{"$f":"+IF(O1278=\"\",\"\",MAX(P$1:P1277)+1)","v":""},""]
[null,null,null,null,null,null,null,null,null,null,null,null,null,{"$f":"IF(LDAR_H_UU_summary!C1101=\"\",\"\",LDAR_H_UU_summary!C1101)","v":""},{"$f":"IF(COUNTIF(N$2:N1279,N1279)=1,N1279,\"\")","v":""},{"$f":"+IF(O1279=\"\",\"\",MAX(P$1:P1278)+1)","v":""},""]
[null,null,null,null,null,null,null,null,null,null,null,null,null,{"$f":"IF(LDAR_H_UU_summary!C1102=\"\",\"\",LDAR_H_UU_summary!C1102)","v":""},{"$f":"IF(COUNTIF(N$2:N1280,N1280)=1,N1280,\"\")","v":""},{"$f":"+IF(O1280=\"\",\"\",MAX(P$1:P1279)+1)","v":""},""]
[null,null,null,null,null,null,null,null,null,null,null,null,null,{"$f":"IF(LDAR_H_UU_summary!C1103=\"\",\"\",LDAR_H_UU_summary!C1103)","v":""},{"$f":"IF(COUNTIF(N$2:N1281,N1281)=1,N1281,\"\")","v":""},{"$f":"+IF(O1281=\"\",\"\",MAX(P$1:P1280)+1)","v":""},""]
[null,null,null,null,null,null,null,null,null,null,null,null,null,{"$f":"IF(LDAR_H_UU_summary!C1104=\"\",\"\",LDAR_H_UU_summary!C1104)","v":""},{"$f":"IF(COUNTIF(N$2:N1282,N1282)=1,N1282,\"\")","v":""},{"$f":"+IF(O1282=\"\",\"\",MAX(P$1:P1281)+1)","v":""},""]
[null,null,null,null,null,null,null,null,null,null,null,null,null,{"$f":"IF(LDAR_H_UU_summary!C1105=\"\",\"\",LDAR_H_UU_summary!C1105)","v":""},{"$f":"IF(COUNTIF(N$2:N1283,N1283)=1,N1283,\"\")","v":""},{"$f":"+IF(O1283=\"\",\"\",MAX(P$1:P1282)+1)","v":""},{"$f":"+IFERROR(INDEX($N$2:$N$2001,MATCH(ROW()-ROW($P$1),$P$2:$P$2001,0)),\"\")","v":""}]
[null,null,null,null,null,null,null,null,null,null,null,null,null,{"$f":"IF(LDAR_H_UU_summary!C1106=\"\",\"\",LDAR_H_UU_summary!C1106)","v":""},{"$f":"IF(COUNTIF(N$2:N1284,N1284)=1,N1284,\"\")","v":""},{"$f":"+IF(O1284=\"\",\"\",MAX(P$1:P1283)+1)","v":""},""]
[null,null,null,null,null,null,null,null,null,null,null,null,null,{"$f":"IF(LDAR_H_UU_summary!C1107=\"\",\"\",LDAR_H_UU_summary!C1107)","v":""},{"$f":"IF(COUNTIF(N$2:N1285,N1285)=1,N1285,\"\")","v":""},{"$f":"+IF(O1285=\"\",\"\",MAX(P$1:P1284)+1)","v":""},""]
[null,null,null,null,null,null,null,null,null,null,null,null,null,{"$f":"IF(LDAR_H_UU_summary!C1108=\"\",\"\",LDAR_H_UU_summary!C1108)","v":""},{"$f":"IF(COUNTIF(N$2:N1286,N1286)=1,N1286,\"\")","v":""},{"$f":"+IF(O1286=\"\",\"\",MAX(P$1:P1285)+1)","v":""},""]
[null,null,null,null,null,null,null,null,null,null,null,null,null,{"$f":"IF(LDAR_H_UU_summary!C1109=\"\",\"\",LDAR_H_UU_summary!C1109)","v":""},{"$f":"IF(COUNTIF(N$2:N1287,N1287)=1,N1287,\"\")","v":""},{"$f":"+IF(O1287=\"\",\"\",MAX(P$1:P1286)+1)","v":""},""]
[null,null,null,null,null,null,null,null,null,null,null,null,null,{"$f":"IF(LDAR_H_UU_summary!C1110=\"\",\"\",LDAR_H_UU_summary!C1110)","v":""},{"$f":"IF(COUNTIF(N$2:N1288,N1288)=1,N1288,\"\")","v":""},{"$f":"+IF(O1288=\"\",\"\",MAX(P$1:P1287)+1)","v":""},""]
[null,null,null,null,null,null,null,null,null,null,null,null,null,{"$f":"IF(LDAR_H_UU_summary!C1111=\"\",\"\",LDAR_H_UU_summary!C1111)","v":""},{"$f":"IF(COUNTIF(N$2:N1289,N1289)=1,N1289,\"\")","v":""},{"$f":"+IF(O1289=\"\",\"\",MAX(P$1:P1288)+1)","v":""},""]
[null,null,null,null,null,null,null,null,null,null,null,null,null,{"$f":"IF(LDAR_H_UU_summary!C1112=\"\",\"\",LDAR_H_UU_summary!C1112)","v":""},{"$f":"IF(COUNTIF(N$2:N1290,N1290)=1,N1290,\"\")","v":""},{"$f":"+IF(O1290=\"\",\"\",MAX(P$1:P1289)+1)","v":""},""]
[null,null,null,null,null,null,null,null,null,null,null,null,null,{"$f":"IF(LDAR_H_UU_summary!C1113=\"\",\"\",LDAR_H_UU_summary!C1113)","v":""},{"$f":"IF(COUNTIF(N$2:N1291,N1291)=1,N1291,\"\")","v":""},{"$f":"+IF(O1291=\"\",\"\",MAX(P$1:P1290)+1)","v":""},""]
[null,null,null,null,null,null,null,null,null,null,null,null,null,{"$f":"IF(LDAR_H_UU_summary!C1114=\"\",\"\",LDAR_H_UU_summary!C1114)","v":""},{"$f":"IF(COUNTIF(N$2:N1292,N1292)=1,N1292,\"\")","v":""},{"$f":"+IF(O1292=\"\",\"\",MAX(P$1:P1291)+1)","v":""},""]
[null,null,null,null,null,null,null,null,null,null,null,null,null,{"$f":"IF(LDAR_H_UU_summary!C1115=\"\",\"\",LDAR_H_UU_summary!C1115)","v":""},{"$f":"IF(COUNTIF(N$2:N1293,N1293)=1,N1293,\"\")","v":""},{"$f":"+IF(O1293=\"\",\"\",MAX(P$1:P1292)+1)","v":""},""]
[null,null,null,null,null,null,null,null,null,null,null,null,null,{"$f":"IF(LDAR_H_UU_summary!C1116=\"\",\"\",LDAR_H_UU_summary!C1116)","v":""},{"$f":"IF(COUNTIF(N$2:N1294,N1294)=1,N1294,\"\")","v":""},{"$f":"+IF(O1294=\"\",\"\",MAX(P$1:P1293)+1)","v":""},""]
[null,null,null,null,null,null,null,null,null,null,null,null,null,{"$f":"IF(LDAR_H_UU_summary!C1117=\"\",\"\",LDAR_H_UU_summary!C1117)","v":""},{"$f":"IF(COUNTIF(N$2:N1295,N1295)=1,N1295,\"\")","v":""},{"$f":"+IF(O1295=\"\",\"\",MAX(P$1:P1294)+1)","v":""},""]
[null,null,null,null,null,null,null,null,null,null,null,null,null,{"$f":"IF(LDAR_H_UU_summary!C1118=\"\",\"\",LDAR_H_UU_summary!C1118)","v":""},{"$f":"IF(COUNTIF(N$2:N1296,N1296)=1,N1296,\"\")","v":""},{"$f":"+IF(O1296=\"\",\"\",MAX(P$1:P1295)+1)","v":""},""]
[null,null,null,null,null,null,null,null,null,null,null,null,null,{"$f":"IF(LDAR_H_UU_summary!C1119=\"\",\"\",LDAR_H_UU_summary!C1119)","v":""},{"$f":"IF(COUNTIF(N$2:N1297,N1297)=1,N1297,\"\")","v":""},{"$f":"+IF(O1297=\"\",\"\",MAX(P$1:P1296)+1)","v":""},""]
[null,null,null,null,null,null,null,null,null,null,null,null,null,{"$f":"IF(LDAR_H_UU_summary!C1120=\"\",\"\",LDAR_H_UU_summary!C1120)","v":""},{"$f":"IF(COUNTIF(N$2:N1298,N1298)=1,N1298,\"\")","v":""},{"$f":"+IF(O1298=\"\",\"\",MAX(P$1:P1297)+1)","v":""},""]
[null,null,null,null,null,null,null,null,null,null,null,null,null,{"$f":"IF(LDAR_H_UU_summary!C1121=\"\",\"\",LDAR_H_UU_summary!C1121)","v":""},{"$f":"IF(COUNTIF(N$2:N1299,N1299)=1,N1299,\"\")","v":""},{"$f":"+IF(O1299=\"\",\"\",MAX(P$1:P1298)+1)","v":""},""]
[null,null,null,null,null,null,null,null,null,null,null,null,null,{"$f":"IF(LDAR_H_UU_summary!C1122=\"\",\"\",LDAR_H_UU_summary!C1122)","v":""},{"$f":"IF(COUNTIF(N$2:N1300,N1300)=1,N1300,\"\")","v":""},{"$f":"+IF(O1300=\"\",\"\",MAX(P$1:P1299)+1)","v":""},""]
[null,null,null,null,null,null,null,null,null,null,null,null,null,{"$f":"IF(LDAR_H_UU_summary!C1123=\"\",\"\",LDAR_H_UU_summary!C1123)","v":""},{"$f":"IF(COUNTIF(N$2:N1301,N1301)=1,N1301,\"\")","v":""},{"$f":"+IF(O1301=\"\",\"\",MAX(P$1:P1300)+1)","v":""},""]
[null,null,null,null,null,null,null,null,null,null,null,null,null,{"$f":"IF(LDAR_H_UU_summary!C1124=\"\",\"\",LDAR_H_UU_summary!C1124)","v":""},{"$f":"IF(COUNTIF(N$2:N1302,N1302)=1,N1302,\"\")","v":""},{"$f":"+IF(O1302=\"\",\"\",MAX(P$1:P1301)+1)","v":""},""]
[null,null,null,null,null,null,null,null,null,null,null,null,null,{"$f":"IF(LDAR_H_UU_summary!C1125=\"\",\"\",LDAR_H_UU_summary!C1125)","v":""},{"$f":"IF(COUNTIF(N$2:N1303,N1303)=1,N1303,\"\")","v":""},{"$f":"+IF(O1303=\"\",\"\",MAX(P$1:P1302)+1)","v":""},""]
[null,null,null,null,null,null,null,null,null,null,null,null,null,{"$f":"IF(LDAR_H_UU_summary!C1126=\"\",\"\",LDAR_H_UU_summary!C1126)","v":""},{"$f":"IF(COUNTIF(N$2:N1304,N1304)=1,N1304,\"\")","v":""},{"$f":"+IF(O1304=\"\",\"\",MAX(P$1:P1303)+1)","v":""},""]
[null,null,null,null,null,null,null,null,null,null,null,null,null,{"$f":"IF(LDAR_H_UU_summary!C1127=\"\",\"\",LDAR_H_UU_summary!C1127)","v":""},{"$f":"IF(COUNTIF(N$2:N1305,N1305)=1,N1305,\"\")","v":""},{"$f":"+IF(O1305=\"\",\"\",MAX(P$1:P1304)+1)","v":""},""]
[null,null,null,null,null,null,null,null,null,null,null,null,null,{"$f":"IF(LDAR_H_UU_summary!C1128=\"\",\"\",LDAR_H_UU_summary!C1128)","v":""},{"$f":"IF(COUNTIF(N$2:N1306,N1306)=1,N1306,\"\")","v":""},{"$f":"+IF(O1306=\"\",\"\",MAX(P$1:P1305)+1)","v":""},""]
[null,null,null,null,null,null,null,null,null,null,null,null,null,{"$f":"IF(LDAR_H_UU_summary!C1129=\"\",\"\",LDAR_H_UU_summary!C1129)","v":""},{"$f":"IF(COUNTIF(N$2:N1307,N1307)=1,N1307,\"\")","v":""},{"$f":"+IF(O1307=\"\",\"\",MAX(P$1:P1306)+1)","v":""},""]
[null,null,null,null,null,null,null,null,null,null,null,null,null,{"$f":"IF(LDAR_H_UU_summary!C1130=\"\",\"\",LDAR_H_UU_summary!C1130)","v":""},{"$f":"IF(COUNTIF(N$2:N1308,N1308)=1,N1308,\"\")","v":""},{"$f":"+IF(O1308=\"\",\"\",MAX(P$1:P1307)+1)","v":""},""]
[null,null,null,null,null,null,null,null,null,null,null,null,null,{"$f":"IF(LDAR_H_UU_summary!C1131=\"\",\"\",LDAR_H_UU_summary!C1131)","v":""},{"$f":"IF(COUNTIF(N$2:N1309,N1309)=1,N1309,\"\")","v":""},{"$f":"+IF(O1309=\"\",\"\",MAX(P$1:P1308)+1)","v":""},""]
[null,null,null,null,null,null,null,null,null,null,null,null,null,{"$f":"IF(LDAR_H_UU_summary!C1132=\"\",\"\",LDAR_H_UU_summary!C1132)","v":""},{"$f":"IF(COUNTIF(N$2:N1310,N1310)=1,N1310,\"\")","v":""},{"$f":"+IF(O1310=\"\",\"\",MAX(P$1:P1309)+1)","v":""},""]
[null,null,null,null,null,null,null,null,null,null,null,null,null,{"$f":"IF(LDAR_H_UU_summary!C1133=\"\",\"\",LDAR_H_UU_summary!C1133)","v":""},{"$f":"IF(COUNTIF(N$2:N1311,N1311)=1,N1311,\"\")","v":""},{"$f":"+IF(O1311=\"\",\"\",MAX(P$1:P1310)+1)","v":""},""]
[null,null,null,null,null,null,null,null,null,null,null,null,null,{"$f":"IF(LDAR_H_UU_summary!C1134=\"\",\"\",LDAR_H_UU_summary!C1134)","v":""},{"$f":"IF(COUNTIF(N$2:N1312,N1312)=1,N1312,\"\")","v":""},{"$f":"+IF(O1312=\"\",\"\",MAX(P$1:P1311)+1)","v":""},""]
[null,null,null,null,null,null,null,null,null,null,null,null,null,{"$f":"IF(LDAR_H_UU_summary!C1135=\"\",\"\",LDAR_H_UU_summary!C1135)","v":""},{"$f":"IF(COUNTIF(N$2:N1313,N1313)=1,N1313,\"\")","v":""},{"$f":"+IF(O1313=\"\",\"\",MAX(P$1:P1312)+1)","v":""},""]
[null,null,null,null,null,null,null,null,null,null,null,null,null,{"$f":"IF(LDAR_H_UU_summary!C1136=\"\",\"\",LDAR_H_UU_summary!C1136)","v":""},{"$f":"IF(COUNTIF(N$2:N1314,N1314)=1,N1314,\"\")","v":""},{"$f":"+IF(O1314=\"\",\"\",MAX(P$1:P1313)+1)","v":""},""]
[null,null,null,null,null,null,null,null,null,null,null,null,null,{"$f":"IF(LDAR_H_UU_summary!C1137=\"\",\"\",LDAR_H_UU_summary!C1137)","v":""},{"$f":"IF(COUNTIF(N$2:N1315,N1315)=1,N1315,\"\")","v":""},{"$f":"+IF(O1315=\"\",\"\",MAX(P$1:P1314)+1)","v":""},""]
[null,null,null,null,null,null,null,null,null,null,null,null,null,{"$f":"IF(LDAR_H_UU_summary!C1138=\"\",\"\",LDAR_H_UU_summary!C1138)","v":""},{"$f":"IF(COUNTIF(N$2:N1316,N1316)=1,N1316,\"\")","v":""},{"$f":"+IF(O1316=\"\",\"\",MAX(P$1:P1315)+1)","v":""},""]
[null,null,null,null,null,null,null,null,null,null,null,null,null,{"$f":"IF(LDAR_H_UU_summary!C1139=\"\",\"\",LDAR_H_UU_summary!C1139)","v":""},{"$f":"IF(COUNTIF(N$2:N1317,N1317)=1,N1317,\"\")","v":""},{"$f":"+IF(O1317=\"\",\"\",MAX(P$1:P1316)+1)","v":""},""]
[null,null,null,null,null,null,null,null,null,null,null,null,null,{"$f":"IF(LDAR_H_UU_summary!C1140=\"\",\"\",LDAR_H_UU_summary!C1140)","v":""},{"$f":"IF(COUNTIF(N$2:N1318,N1318)=1,N1318,\"\")","v":""},{"$f":"+IF(O1318=\"\",\"\",MAX(P$1:P1317)+1)","v":""},""]
[null,null,null,null,null,null,null,null,null,null,null,null,null,{"$f":"IF(LDAR_H_UU_summary!C1141=\"\",\"\",LDAR_H_UU_summary!C1141)","v":""},{"$f":"IF(COUNTIF(N$2:N1319,N1319)=1,N1319,\"\")","v":""},{"$f":"+IF(O1319=\"\",\"\",MAX(P$1:P1318)+1)","v":""},""]
[null,null,null,null,null,null,null,null,null,null,null,null,null,{"$f":"IF(LDAR_H_UU_summary!C1142=\"\",\"\",LDAR_H_UU_summary!C1142)","v":""},{"$f":"IF(COUNTIF(N$2:N1320,N1320)=1,N1320,\"\")","v":""},{"$f":"+IF(O1320=\"\",\"\",MAX(P$1:P1319)+1)","v":""},""]
[null,null,null,null,null,null,null,null,null,null,null,null,null,{"$f":"IF(LDAR_H_UU_summary!C1143=\"\",\"\",LDAR_H_UU_summary!C1143)","v":""},{"$f":"IF(COUNTIF(N$2:N1321,N1321)=1,N1321,\"\")","v":""},{"$f":"+IF(O1321=\"\",\"\",MAX(P$1:P1320)+1)","v":""},""]
[null,null,null,null,null,null,null,null,null,null,null,null,null,{"$f":"IF(LDAR_H_UU_summary!C1144=\"\",\"\",LDAR_H_UU_summary!C1144)","v":""},{"$f":"IF(COUNTIF(N$2:N1322,N1322)=1,N1322,\"\")","v":""},{"$f":"+IF(O1322=\"\",\"\",MAX(P$1:P1321)+1)","v":""},""]
[null,null,null,null,null,null,null,null,null,null,null,null,null,{"$f":"IF(LDAR_H_UU_summary!C1145=\"\",\"\",LDAR_H_UU_summary!C1145)","v":""},{"$f":"IF(COUNTIF(N$2:N1323,N1323)=1,N1323,\"\")","v":""},{"$f":"+IF(O1323=\"\",\"\",MAX(P$1:P1322)+1)","v":""},""]
[null,null,null,null,null,null,null,null,null,null,null,null,null,{"$f":"IF(LDAR_H_UU_summary!C1146=\"\",\"\",LDAR_H_UU_summary!C1146)","v":""},{"$f":"IF(COUNTIF(N$2:N1324,N1324)=1,N1324,\"\")","v":""},{"$f":"+IF(O1324=\"\",\"\",MAX(P$1:P1323)+1)","v":""},""]
[null,null,null,null,null,null,null,null,null,null,null,null,null,{"$f":"IF(LDAR_H_UU_summary!C1147=\"\",\"\",LDAR_H_UU_summary!C1147)","v":""},{"$f":"IF(COUNTIF(N$2:N1325,N1325)=1,N1325,\"\")","v":""},{"$f":"+IF(O1325=\"\",\"\",MAX(P$1:P1324)+1)","v":""},""]
[null,null,null,null,null,null,null,null,null,null,null,null,null,{"$f":"IF(LDAR_H_UU_summary!C1148=\"\",\"\",LDAR_H_UU_summary!C1148)","v":""},{"$f":"IF(COUNTIF(N$2:N1326,N1326)=1,N1326,\"\")","v":""},{"$f":"+IF(O1326=\"\",\"\",MAX(P$1:P1325)+1)","v":""},""]
[null,null,null,null,null,null,null,null,null,null,null,null,null,{"$f":"IF(LDAR_H_UU_summary!C1149=\"\",\"\",LDAR_H_UU_summary!C1149)","v":""},{"$f":"IF(COUNTIF(N$2:N1327,N1327)=1,N1327,\"\")","v":""},{"$f":"+IF(O1327=\"\",\"\",MAX(P$1:P1326)+1)","v":""},""]
[null,null,null,null,null,null,null,null,null,null,null,null,null,{"$f":"IF(LDAR_H_UU_summary!C1150=\"\",\"\",LDAR_H_UU_summary!C1150)","v":""},{"$f":"IF(COUNTIF(N$2:N1328,N1328)=1,N1328,\"\")","v":""},{"$f":"+IF(O1328=\"\",\"\",MAX(P$1:P1327)+1)","v":""},""]
[null,null,null,null,null,null,null,null,null,null,null,null,null,{"$f":"IF(LDAR_H_UU_summary!C1151=\"\",\"\",LDAR_H_UU_summary!C1151)","v":""},{"$f":"IF(COUNTIF(N$2:N1329,N1329)=1,N1329,\"\")","v":""},{"$f":"+IF(O1329=\"\",\"\",MAX(P$1:P1328)+1)","v":""},""]
[null,null,null,null,null,null,null,null,null,null,null,null,null,{"$f":"IF(LDAR_H_UU_summary!C1152=\"\",\"\",LDAR_H_UU_summary!C1152)","v":""},{"$f":"IF(COUNTIF(N$2:N1330,N1330)=1,N1330,\"\")","v":""},{"$f":"+IF(O1330=\"\",\"\",MAX(P$1:P1329)+1)","v":""},""]
[null,null,null,null,null,null,null,null,null,null,null,null,null,{"$f":"IF(LDAR_H_UU_summary!C1153=\"\",\"\",LDAR_H_UU_summary!C1153)","v":""},{"$f":"IF(COUNTIF(N$2:N1331,N1331)=1,N1331,\"\")","v":""},{"$f":"+IF(O1331=\"\",\"\",MAX(P$1:P1330)+1)","v":""},""]
[null,null,null,null,null,null,null,null,null,null,null,null,null,{"$f":"IF(LDAR_H_UU_summary!C1154=\"\",\"\",LDAR_H_UU_summary!C1154)","v":""},{"$f":"IF(COUNTIF(N$2:N1332,N1332)=1,N1332,\"\")","v":""},{"$f":"+IF(O1332=\"\",\"\",MAX(P$1:P1331)+1)","v":""},""]
[null,null,null,null,null,null,null,null,null,null,null,null,null,{"$f":"IF(LDAR_H_UU_summary!C1155=\"\",\"\",LDAR_H_UU_summary!C1155)","v":""},{"$f":"IF(COUNTIF(N$2:N1333,N1333)=1,N1333,\"\")","v":""},{"$f":"+IF(O1333=\"\",\"\",MAX(P$1:P1332)+1)","v":""},""]
[null,null,null,null,null,null,null,null,null,null,null,null,null,{"$f":"IF(LDAR_H_UU_summary!C1156=\"\",\"\",LDAR_H_UU_summary!C1156)","v":""},{"$f":"IF(COUNTIF(N$2:N1334,N1334)=1,N1334,\"\")","v":""},{"$f":"+IF(O1334=\"\",\"\",MAX(P$1:P1333)+1)","v":""},""]
[null,null,null,null,null,null,null,null,null,null,null,null,null,{"$f":"IF(LDAR_H_UU_summary!C1157=\"\",\"\",LDAR_H_UU_summary!C1157)","v":""},{"$f":"IF(COUNTIF(N$2:N1335,N1335)=1,N1335,\"\")","v":""},{"$f":"+IF(O1335=\"\",\"\",MAX(P$1:P1334)+1)","v":""},""]
[null,null,null,null,null,null,null,null,null,null,null,null,null,{"$f":"IF(LDAR_H_UU_summary!C1158=\"\",\"\",LDAR_H_UU_summary!C1158)","v":""},{"$f":"IF(COUNTIF(N$2:N1336,N1336)=1,N1336,\"\")","v":""},{"$f":"+IF(O1336=\"\",\"\",MAX(P$1:P1335)+1)","v":""},""]
[null,null,null,null,null,null,null,null,null,null,null,null,null,{"$f":"IF(LDAR_H_UU_summary!C1159=\"\",\"\",LDAR_H_UU_summary!C1159)","v":""},{"$f":"IF(COUNTIF(N$2:N1337,N1337)=1,N1337,\"\")","v":""},{"$f":"+IF(O1337=\"\",\"\",MAX(P$1:P1336)+1)","v":""},""]
[null,null,null,null,null,null,null,null,null,null,null,null,null,{"$f":"IF(LDAR_H_UU_summary!C1160=\"\",\"\",LDAR_H_UU_summary!C1160)","v":""},{"$f":"IF(COUNTIF(N$2:N1338,N1338)=1,N1338,\"\")","v":""},{"$f":"+IF(O1338=\"\",\"\",MAX(P$1:P1337)+1)","v":""},""]
[null,null,null,null,null,null,null,null,null,null,null,null,null,{"$f":"IF(LDAR_H_UU_summary!C1161=\"\",\"\",LDAR_H_UU_summary!C1161)","v":""},{"$f":"IF(COUNTIF(N$2:N1339,N1339)=1,N1339,\"\")","v":""},{"$f":"+IF(O1339=\"\",\"\",MAX(P$1:P1338)+1)","v":""},""]
[null,null,null,null,null,null,null,null,null,null,null,null,null,{"$f":"IF(LDAR_H_UU_summary!C1162=\"\",\"\",LDAR_H_UU_summary!C1162)","v":""},{"$f":"IF(COUNTIF(N$2:N1340,N1340)=1,N1340,\"\")","v":""},{"$f":"+IF(O1340=\"\",\"\",MAX(P$1:P1339)+1)","v":""},""]
[null,null,null,null,null,null,null,null,null,null,null,null,null,{"$f":"IF(LDAR_H_UU_summary!C1163=\"\",\"\",LDAR_H_UU_summary!C1163)","v":""},{"$f":"IF(COUNTIF(N$2:N1341,N1341)=1,N1341,\"\")","v":""},{"$f":"+IF(O1341=\"\",\"\",MAX(P$1:P1340)+1)","v":""},""]
[null,null,null,null,null,null,null,null,null,null,null,null,null,{"$f":"IF(LDAR_H_UU_summary!C1164=\"\",\"\",LDAR_H_UU_summary!C1164)","v":""},{"$f":"IF(COUNTIF(N$2:N1342,N1342)=1,N1342,\"\")","v":""},{"$f":"+IF(O1342=\"\",\"\",MAX(P$1:P1341)+1)","v":""},""]
[null,null,null,null,null,null,null,null,null,null,null,null,null,{"$f":"IF(LDAR_H_UU_summary!C1165=\"\",\"\",LDAR_H_UU_summary!C1165)","v":""},{"$f":"IF(COUNTIF(N$2:N1343,N1343)=1,N1343,\"\")","v":""},{"$f":"+IF(O1343=\"\",\"\",MAX(P$1:P1342)+1)","v":""},""]
[null,null,null,null,null,null,null,null,null,null,null,null,null,{"$f":"IF(LDAR_H_UU_summary!C1166=\"\",\"\",LDAR_H_UU_summary!C1166)","v":""},{"$f":"IF(COUNTIF(N$2:N1344,N1344)=1,N1344,\"\")","v":""},{"$f":"+IF(O1344=\"\",\"\",MAX(P$1:P1343)+1)","v":""},""]
[null,null,null,null,null,null,null,null,null,null,null,null,null,{"$f":"IF(LDAR_H_UU_summary!C1167=\"\",\"\",LDAR_H_UU_summary!C1167)","v":""},{"$f":"IF(COUNTIF(N$2:N1345,N1345)=1,N1345,\"\")","v":""},{"$f":"+IF(O1345=\"\",\"\",MAX(P$1:P1344)+1)","v":""},""]
[null,null,null,null,null,null,null,null,null,null,null,null,null,{"$f":"IF(LDAR_H_UU_summary!C1168=\"\",\"\",LDAR_H_UU_summary!C1168)","v":""},{"$f":"IF(COUNTIF(N$2:N1346,N1346)=1,N1346,\"\")","v":""},{"$f":"+IF(O1346=\"\",\"\",MAX(P$1:P1345)+1)","v":""},""]
[null,null,null,null,null,null,null,null,null,null,null,null,null,{"$f":"IF(LDAR_H_UU_summary!C1169=\"\",\"\",LDAR_H_UU_summary!C1169)","v":""},{"$f":"IF(COUNTIF(N$2:N1347,N1347)=1,N1347,\"\")","v":""},{"$f":"+IF(O1347=\"\",\"\",MAX(P$1:P1346)+1)","v":""},{"$f":"+IFERROR(INDEX($N$2:$N$2001,MATCH(ROW()-ROW($P$1),$P$2:$P$2001,0)),\"\")","v":""}]
[null,null,null,null,null,null,null,null,null,null,null,null,null,{"$f":"IF(LDAR_H_UU_summary!C1170=\"\",\"\",LDAR_H_UU_summary!C1170)","v":""},{"$f":"IF(COUNTIF(N$2:N1348,N1348)=1,N1348,\"\")","v":""},{"$f":"+IF(O1348=\"\",\"\",MAX(P$1:P1347)+1)","v":""},""]
[null,null,null,null,null,null,null,null,null,null,null,null,null,{"$f":"IF(LDAR_H_UU_summary!C1171=\"\",\"\",LDAR_H_UU_summary!C1171)","v":""},{"$f":"IF(COUNTIF(N$2:N1349,N1349)=1,N1349,\"\")","v":""},{"$f":"+IF(O1349=\"\",\"\",MAX(P$1:P1348)+1)","v":""},""]
[null,null,null,null,null,null,null,null,null,null,null,null,null,{"$f":"IF(LDAR_H_UU_summary!C1172=\"\",\"\",LDAR_H_UU_summary!C1172)","v":""},{"$f":"IF(COUNTIF(N$2:N1350,N1350)=1,N1350,\"\")","v":""},{"$f":"+IF(O1350=\"\",\"\",MAX(P$1:P1349)+1)","v":""},""]
[null,null,null,null,null,null,null,null,null,null,null,null,null,{"$f":"IF(LDAR_H_UU_summary!C1173=\"\",\"\",LDAR_H_UU_summary!C1173)","v":""},{"$f":"IF(COUNTIF(N$2:N1351,N1351)=1,N1351,\"\")","v":""},{"$f":"+IF(O1351=\"\",\"\",MAX(P$1:P1350)+1)","v":""},""]
[null,null,null,null,null,null,null,null,null,null,null,null,null,{"$f":"IF(LDAR_H_UU_summary!C1174=\"\",\"\",LDAR_H_UU_summary!C1174)","v":""},{"$f":"IF(COUNTIF(N$2:N1352,N1352)=1,N1352,\"\")","v":""},{"$f":"+IF(O1352=\"\",\"\",MAX(P$1:P1351)+1)","v":""},""]
[null,null,null,null,null,null,null,null,null,null,null,null,null,{"$f":"IF(LDAR_H_UU_summary!C1175=\"\",\"\",LDAR_H_UU_summary!C1175)","v":""},{"$f":"IF(COUNTIF(N$2:N1353,N1353)=1,N1353,\"\")","v":""},{"$f":"+IF(O1353=\"\",\"\",MAX(P$1:P1352)+1)","v":""},""]
[null,null,null,null,null,null,null,null,null,null,null,null,null,{"$f":"IF(LDAR_H_UU_summary!C1176=\"\",\"\",LDAR_H_UU_summary!C1176)","v":""},{"$f":"IF(COUNTIF(N$2:N1354,N1354)=1,N1354,\"\")","v":""},{"$f":"+IF(O1354=\"\",\"\",MAX(P$1:P1353)+1)","v":""},""]
[null,null,null,null,null,null,null,null,null,null,null,null,null,{"$f":"IF(LDAR_H_UU_summary!C1177=\"\",\"\",LDAR_H_UU_summary!C1177)","v":""},{"$f":"IF(COUNTIF(N$2:N1355,N1355)=1,N1355,\"\")","v":""},{"$f":"+IF(O1355=\"\",\"\",MAX(P$1:P1354)+1)","v":""},""]
[null,null,null,null,null,null,null,null,null,null,null,null,null,{"$f":"IF(LDAR_H_UU_summary!C1178=\"\",\"\",LDAR_H_UU_summary!C1178)","v":""},{"$f":"IF(COUNTIF(N$2:N1356,N1356)=1,N1356,\"\")","v":""},{"$f":"+IF(O1356=\"\",\"\",MAX(P$1:P1355)+1)","v":""},""]
[null,null,null,null,null,null,null,null,null,null,null,null,null,{"$f":"IF(LDAR_H_UU_summary!C1179=\"\",\"\",LDAR_H_UU_summary!C1179)","v":""},{"$f":"IF(COUNTIF(N$2:N1357,N1357)=1,N1357,\"\")","v":""},{"$f":"+IF(O1357=\"\",\"\",MAX(P$1:P1356)+1)","v":""},""]
[null,null,null,null,null,null,null,null,null,null,null,null,null,{"$f":"IF(LDAR_H_UU_summary!C1180=\"\",\"\",LDAR_H_UU_summary!C1180)","v":""},{"$f":"IF(COUNTIF(N$2:N1358,N1358)=1,N1358,\"\")","v":""},{"$f":"+IF(O1358=\"\",\"\",MAX(P$1:P1357)+1)","v":""},""]
[null,null,null,null,null,null,null,null,null,null,null,null,null,{"$f":"IF(LDAR_H_UU_summary!C1181=\"\",\"\",LDAR_H_UU_summary!C1181)","v":""},{"$f":"IF(COUNTIF(N$2:N1359,N1359)=1,N1359,\"\")","v":""},{"$f":"+IF(O1359=\"\",\"\",MAX(P$1:P1358)+1)","v":""},""]
[null,null,null,null,null,null,null,null,null,null,null,null,null,{"$f":"IF(LDAR_H_UU_summary!C1182=\"\",\"\",LDAR_H_UU_summary!C1182)","v":""},{"$f":"IF(COUNTIF(N$2:N1360,N1360)=1,N1360,\"\")","v":""},{"$f":"+IF(O1360=\"\",\"\",MAX(P$1:P1359)+1)","v":""},""]
[null,null,null,null,null,null,null,null,null,null,null,null,null,{"$f":"IF(LDAR_H_UU_summary!C1183=\"\",\"\",LDAR_H_UU_summary!C1183)","v":""},{"$f":"IF(COUNTIF(N$2:N1361,N1361)=1,N1361,\"\")","v":""},{"$f":"+IF(O1361=\"\",\"\",MAX(P$1:P1360)+1)","v":""},""]
[null,null,null,null,null,null,null,null,null,null,null,null,null,{"$f":"IF(LDAR_H_UU_summary!C1184=\"\",\"\",LDAR_H_UU_summary!C1184)","v":""},{"$f":"IF(COUNTIF(N$2:N1362,N1362)=1,N1362,\"\")","v":""},{"$f":"+IF(O1362=\"\",\"\",MAX(P$1:P1361)+1)","v":""},""]
[null,null,null,null,null,null,null,null,null,null,null,null,null,{"$f":"IF(LDAR_H_UU_summary!C1185=\"\",\"\",LDAR_H_UU_summary!C1185)","v":""},{"$f":"IF(COUNTIF(N$2:N1363,N1363)=1,N1363,\"\")","v":""},{"$f":"+IF(O1363=\"\",\"\",MAX(P$1:P1362)+1)","v":""},""]
[null,null,null,null,null,null,null,null,null,null,null,null,null,{"$f":"IF(LDAR_H_UU_summary!C1186=\"\",\"\",LDAR_H_UU_summary!C1186)","v":""},{"$f":"IF(COUNTIF(N$2:N1364,N1364)=1,N1364,\"\")","v":""},{"$f":"+IF(O1364=\"\",\"\",MAX(P$1:P1363)+1)","v":""},""]
[null,null,null,null,null,null,null,null,null,null,null,null,null,{"$f":"IF(LDAR_H_UU_summary!C1187=\"\",\"\",LDAR_H_UU_summary!C1187)","v":""},{"$f":"IF(COUNTIF(N$2:N1365,N1365)=1,N1365,\"\")","v":""},{"$f":"+IF(O1365=\"\",\"\",MAX(P$1:P1364)+1)","v":""},""]
[null,null,null,null,null,null,null,null,null,null,null,null,null,{"$f":"IF(LDAR_H_UU_summary!C1188=\"\",\"\",LDAR_H_UU_summary!C1188)","v":""},{"$f":"IF(COUNTIF(N$2:N1366,N1366)=1,N1366,\"\")","v":""},{"$f":"+IF(O1366=\"\",\"\",MAX(P$1:P1365)+1)","v":""},""]
[null,null,null,null,null,null,null,null,null,null,null,null,null,{"$f":"IF(LDAR_H_UU_summary!C1189=\"\",\"\",LDAR_H_UU_summary!C1189)","v":""},{"$f":"IF(COUNTIF(N$2:N1367,N1367)=1,N1367,\"\")","v":""},{"$f":"+IF(O1367=\"\",\"\",MAX(P$1:P1366)+1)","v":""},""]
[null,null,null,null,null,null,null,null,null,null,null,null,null,{"$f":"IF(LDAR_H_UU_summary!C1190=\"\",\"\",LDAR_H_UU_summary!C1190)","v":""},{"$f":"IF(COUNTIF(N$2:N1368,N1368)=1,N1368,\"\")","v":""},{"$f":"+IF(O1368=\"\",\"\",MAX(P$1:P1367)+1)","v":""},""]
[null,null,null,null,null,null,null,null,null,null,null,null,null,{"$f":"IF(LDAR_H_UU_summary!C1191=\"\",\"\",LDAR_H_UU_summary!C1191)","v":""},{"$f":"IF(COUNTIF(N$2:N1369,N1369)=1,N1369,\"\")","v":""},{"$f":"+IF(O1369=\"\",\"\",MAX(P$1:P1368)+1)","v":""},""]
[null,null,null,null,null,null,null,null,null,null,null,null,null,{"$f":"IF(LDAR_H_UU_summary!C1192=\"\",\"\",LDAR_H_UU_summary!C1192)","v":""},{"$f":"IF(COUNTIF(N$2:N1370,N1370)=1,N1370,\"\")","v":""},{"$f":"+IF(O1370=\"\",\"\",MAX(P$1:P1369)+1)","v":""},""]
[null,null,null,null,null,null,null,null,null,null,null,null,null,{"$f":"IF(LDAR_H_UU_summary!C1193=\"\",\"\",LDAR_H_UU_summary!C1193)","v":""},{"$f":"IF(COUNTIF(N$2:N1371,N1371)=1,N1371,\"\")","v":""},{"$f":"+IF(O1371=\"\",\"\",MAX(P$1:P1370)+1)","v":""},""]
[null,null,null,null,null,null,null,null,null,null,null,null,null,{"$f":"IF(LDAR_H_UU_summary!C1194=\"\",\"\",LDAR_H_UU_summary!C1194)","v":""},{"$f":"IF(COUNTIF(N$2:N1372,N1372)=1,N1372,\"\")","v":""},{"$f":"+IF(O1372=\"\",\"\",MAX(P$1:P1371)+1)","v":""},""]
[null,null,null,null,null,null,null,null,null,null,null,null,null,{"$f":"IF(LDAR_H_UU_summary!C1195=\"\",\"\",LDAR_H_UU_summary!C1195)","v":""},{"$f":"IF(COUNTIF(N$2:N1373,N1373)=1,N1373,\"\")","v":""},{"$f":"+IF(O1373=\"\",\"\",MAX(P$1:P1372)+1)","v":""},""]
[null,null,null,null,null,null,null,null,null,null,null,null,null,{"$f":"IF(LDAR_H_UU_summary!C1196=\"\",\"\",LDAR_H_UU_summary!C1196)","v":""},{"$f":"IF(COUNTIF(N$2:N1374,N1374)=1,N1374,\"\")","v":""},{"$f":"+IF(O1374=\"\",\"\",MAX(P$1:P1373)+1)","v":""},""]
[null,null,null,null,null,null,null,null,null,null,null,null,null,{"$f":"IF(LDAR_H_UU_summary!C1197=\"\",\"\",LDAR_H_UU_summary!C1197)","v":""},{"$f":"IF(COUNTIF(N$2:N1375,N1375)=1,N1375,\"\")","v":""},{"$f":"+IF(O1375=\"\",\"\",MAX(P$1:P1374)+1)","v":""},""]
[null,null,null,null,null,null,null,null,null,null,null,null,null,{"$f":"IF(LDAR_H_UU_summary!C1198=\"\",\"\",LDAR_H_UU_summary!C1198)","v":""},{"$f":"IF(COUNTIF(N$2:N1376,N1376)=1,N1376,\"\")","v":""},{"$f":"+IF(O1376=\"\",\"\",MAX(P$1:P1375)+1)","v":""},""]
[null,null,null,null,null,null,null,null,null,null,null,null,null,{"$f":"IF(LDAR_H_UU_summary!C1199=\"\",\"\",LDAR_H_UU_summary!C1199)","v":""},{"$f":"IF(COUNTIF(N$2:N1377,N1377)=1,N1377,\"\")","v":""},{"$f":"+IF(O1377=\"\",\"\",MAX(P$1:P1376)+1)","v":""},""]
[null,null,null,null,null,null,null,null,null,null,null,null,null,{"$f":"IF(LDAR_H_UU_summary!C1200=\"\",\"\",LDAR_H_UU_summary!C1200)","v":""},{"$f":"IF(COUNTIF(N$2:N1378,N1378)=1,N1378,\"\")","v":""},{"$f":"+IF(O1378=\"\",\"\",MAX(P$1:P1377)+1)","v":""},""]
[null,null,null,null,null,null,null,null,null,null,null,null,null,{"$f":"IF(LDAR_H_UU_summary!C1201=\"\",\"\",LDAR_H_UU_summary!C1201)","v":""},{"$f":"IF(COUNTIF(N$2:N1379,N1379)=1,N1379,\"\")","v":""},{"$f":"+IF(O1379=\"\",\"\",MAX(P$1:P1378)+1)","v":""},""]
[null,null,null,null,null,null,null,null,null,null,null,null,null,{"$f":"IF(LDAR_H_UU_summary!C1202=\"\",\"\",LDAR_H_UU_summary!C1202)","v":""},{"$f":"IF(COUNTIF(N$2:N1380,N1380)=1,N1380,\"\")","v":""},{"$f":"+IF(O1380=\"\",\"\",MAX(P$1:P1379)+1)","v":""},""]
[null,null,null,null,null,null,null,null,null,null,null,null,null,{"$f":"IF(LDAR_H_UU_summary!C1203=\"\",\"\",LDAR_H_UU_summary!C1203)","v":""},{"$f":"IF(COUNTIF(N$2:N1381,N1381)=1,N1381,\"\")","v":""},{"$f":"+IF(O1381=\"\",\"\",MAX(P$1:P1380)+1)","v":""},""]
[null,null,null,null,null,null,null,null,null,null,null,null,null,{"$f":"IF(LDAR_H_UU_summary!C1204=\"\",\"\",LDAR_H_UU_summary!C1204)","v":""},{"$f":"IF(COUNTIF(N$2:N1382,N1382)=1,N1382,\"\")","v":""},{"$f":"+IF(O1382=\"\",\"\",MAX(P$1:P1381)+1)","v":""},""]
[null,null,null,null,null,null,null,null,null,null,null,null,null,{"$f":"IF(LDAR_H_UU_summary!C1205=\"\",\"\",LDAR_H_UU_summary!C1205)","v":""},{"$f":"IF(COUNTIF(N$2:N1383,N1383)=1,N1383,\"\")","v":""},{"$f":"+IF(O1383=\"\",\"\",MAX(P$1:P1382)+1)","v":""},""]
[null,null,null,null,null,null,null,null,null,null,null,null,null,{"$f":"IF(LDAR_H_UU_summary!C1206=\"\",\"\",LDAR_H_UU_summary!C1206)","v":""},{"$f":"IF(COUNTIF(N$2:N1384,N1384)=1,N1384,\"\")","v":""},{"$f":"+IF(O1384=\"\",\"\",MAX(P$1:P1383)+1)","v":""},""]
[null,null,null,null,null,null,null,null,null,null,null,null,null,{"$f":"IF(LDAR_H_UU_summary!C1207=\"\",\"\",LDAR_H_UU_summary!C1207)","v":""},{"$f":"IF(COUNTIF(N$2:N1385,N1385)=1,N1385,\"\")","v":""},{"$f":"+IF(O1385=\"\",\"\",MAX(P$1:P1384)+1)","v":""},""]
[null,null,null,null,null,null,null,null,null,null,null,null,null,{"$f":"IF(LDAR_H_UU_summary!C1208=\"\",\"\",LDAR_H_UU_summary!C1208)","v":""},{"$f":"IF(COUNTIF(N$2:N1386,N1386)=1,N1386,\"\")","v":""},{"$f":"+IF(O1386=\"\",\"\",MAX(P$1:P1385)+1)","v":""},""]
[null,null,null,null,null,null,null,null,null,null,null,null,null,{"$f":"IF(LDAR_H_UU_summary!C1209=\"\",\"\",LDAR_H_UU_summary!C1209)","v":""},{"$f":"IF(COUNTIF(N$2:N1387,N1387)=1,N1387,\"\")","v":""},{"$f":"+IF(O1387=\"\",\"\",MAX(P$1:P1386)+1)","v":""},""]
[null,null,null,null,null,null,null,null,null,null,null,null,null,{"$f":"IF(LDAR_H_UU_summary!C1210=\"\",\"\",LDAR_H_UU_summary!C1210)","v":""},{"$f":"IF(COUNTIF(N$2:N1388,N1388)=1,N1388,\"\")","v":""},{"$f":"+IF(O1388=\"\",\"\",MAX(P$1:P1387)+1)","v":""},""]
[null,null,null,null,null,null,null,null,null,null,null,null,null,{"$f":"IF(LDAR_H_UU_summary!C1211=\"\",\"\",LDAR_H_UU_summary!C1211)","v":""},{"$f":"IF(COUNTIF(N$2:N1389,N1389)=1,N1389,\"\")","v":""},{"$f":"+IF(O1389=\"\",\"\",MAX(P$1:P1388)+1)","v":""},""]
[null,null,null,null,null,null,null,null,null,null,null,null,null,{"$f":"IF(LDAR_H_UU_summary!C1212=\"\",\"\",LDAR_H_UU_summary!C1212)","v":""},{"$f":"IF(COUNTIF(N$2:N1390,N1390)=1,N1390,\"\")","v":""},{"$f":"+IF(O1390=\"\",\"\",MAX(P$1:P1389)+1)","v":""},""]
[null,null,null,null,null,null,null,null,null,null,null,null,null,{"$f":"IF(LDAR_H_UU_summary!C1213=\"\",\"\",LDAR_H_UU_summary!C1213)","v":""},{"$f":"IF(COUNTIF(N$2:N1391,N1391)=1,N1391,\"\")","v":""},{"$f":"+IF(O1391=\"\",\"\",MAX(P$1:P1390)+1)","v":""},""]
[null,null,null,null,null,null,null,null,null,null,null,null,null,{"$f":"IF(LDAR_H_UU_summary!C1214=\"\",\"\",LDAR_H_UU_summary!C1214)","v":""},{"$f":"IF(COUNTIF(N$2:N1392,N1392)=1,N1392,\"\")","v":""},{"$f":"+IF(O1392=\"\",\"\",MAX(P$1:P1391)+1)","v":""},""]
[null,null,null,null,null,null,null,null,null,null,null,null,null,{"$f":"IF(LDAR_H_UU_summary!C1215=\"\",\"\",LDAR_H_UU_summary!C1215)","v":""},{"$f":"IF(COUNTIF(N$2:N1393,N1393)=1,N1393,\"\")","v":""},{"$f":"+IF(O1393=\"\",\"\",MAX(P$1:P1392)+1)","v":""},""]
[null,null,null,null,null,null,null,null,null,null,null,null,null,{"$f":"IF(LDAR_H_UU_summary!C1216=\"\",\"\",LDAR_H_UU_summary!C1216)","v":""},{"$f":"IF(COUNTIF(N$2:N1394,N1394)=1,N1394,\"\")","v":""},{"$f":"+IF(O1394=\"\",\"\",MAX(P$1:P1393)+1)","v":""},""]
[null,null,null,null,null,null,null,null,null,null,null,null,null,{"$f":"IF(LDAR_H_UU_summary!C1217=\"\",\"\",LDAR_H_UU_summary!C1217)","v":""},{"$f":"IF(COUNTIF(N$2:N1395,N1395)=1,N1395,\"\")","v":""},{"$f":"+IF(O1395=\"\",\"\",MAX(P$1:P1394)+1)","v":""},""]
[null,null,null,null,null,null,null,null,null,null,null,null,null,{"$f":"IF(LDAR_H_UU_summary!C1218=\"\",\"\",LDAR_H_UU_summary!C1218)","v":""},{"$f":"IF(COUNTIF(N$2:N1396,N1396)=1,N1396,\"\")","v":""},{"$f":"+IF(O1396=\"\",\"\",MAX(P$1:P1395)+1)","v":""},""]
[null,null,null,null,null,null,null,null,null,null,null,null,null,{"$f":"IF(LDAR_H_UU_summary!C1219=\"\",\"\",LDAR_H_UU_summary!C1219)","v":""},{"$f":"IF(COUNTIF(N$2:N1397,N1397)=1,N1397,\"\")","v":""},{"$f":"+IF(O1397=\"\",\"\",MAX(P$1:P1396)+1)","v":""},""]
[null,null,null,null,null,null,null,null,null,null,null,null,null,{"$f":"IF(LDAR_H_UU_summary!C1220=\"\",\"\",LDAR_H_UU_summary!C1220)","v":""},{"$f":"IF(COUNTIF(N$2:N1398,N1398)=1,N1398,\"\")","v":""},{"$f":"+IF(O1398=\"\",\"\",MAX(P$1:P1397)+1)","v":""},""]
[null,null,null,null,null,null,null,null,null,null,null,null,null,{"$f":"IF(LDAR_H_UU_summary!C1221=\"\",\"\",LDAR_H_UU_summary!C1221)","v":""},{"$f":"IF(COUNTIF(N$2:N1399,N1399)=1,N1399,\"\")","v":""},{"$f":"+IF(O1399=\"\",\"\",MAX(P$1:P1398)+1)","v":""},""]
[null,null,null,null,null,null,null,null,null,null,null,null,null,{"$f":"IF(LDAR_H_UU_summary!C1222=\"\",\"\",LDAR_H_UU_summary!C1222)","v":""},{"$f":"IF(COUNTIF(N$2:N1400,N1400)=1,N1400,\"\")","v":""},{"$f":"+IF(O1400=\"\",\"\",MAX(P$1:P1399)+1)","v":""},""]
[null,null,null,null,null,null,null,null,null,null,null,null,null,{"$f":"IF(LDAR_H_UU_summary!C1223=\"\",\"\",LDAR_H_UU_summary!C1223)","v":""},{"$f":"IF(COUNTIF(N$2:N1401,N1401)=1,N1401,\"\")","v":""},{"$f":"+IF(O1401=\"\",\"\",MAX(P$1:P1400)+1)","v":""},""]
[null,null,null,null,null,null,null,null,null,null,null,null,null,{"$f":"IF(LDAR_H_UU_summary!C1224=\"\",\"\",LDAR_H_UU_summary!C1224)","v":""},{"$f":"IF(COUNTIF(N$2:N1402,N1402)=1,N1402,\"\")","v":""},{"$f":"+IF(O1402=\"\",\"\",MAX(P$1:P1401)+1)","v":""},""]
[null,null,null,null,null,null,null,null,null,null,null,null,null,{"$f":"IF(LDAR_H_UU_summary!C1225=\"\",\"\",LDAR_H_UU_summary!C1225)","v":""},{"$f":"IF(COUNTIF(N$2:N1403,N1403)=1,N1403,\"\")","v":""},{"$f":"+IF(O1403=\"\",\"\",MAX(P$1:P1402)+1)","v":""},""]
[null,null,null,null,null,null,null,null,null,null,null,null,null,{"$f":"IF(LDAR_H_UU_summary!C1226=\"\",\"\",LDAR_H_UU_summary!C1226)","v":""},{"$f":"IF(COUNTIF(N$2:N1404,N1404)=1,N1404,\"\")","v":""},{"$f":"+IF(O1404=\"\",\"\",MAX(P$1:P1403)+1)","v":""},""]
[null,null,null,null,null,null,null,null,null,null,null,null,null,{"$f":"IF(LDAR_H_UU_summary!C1227=\"\",\"\",LDAR_H_UU_summary!C1227)","v":""},{"$f":"IF(COUNTIF(N$2:N1405,N1405)=1,N1405,\"\")","v":""},{"$f":"+IF(O1405=\"\",\"\",MAX(P$1:P1404)+1)","v":""},""]
[null,null,null,null,null,null,null,null,null,null,null,null,null,{"$f":"IF(LDAR_H_UU_summary!C1228=\"\",\"\",LDAR_H_UU_summary!C1228)","v":""},{"$f":"IF(COUNTIF(N$2:N1406,N1406)=1,N1406,\"\")","v":""},{"$f":"+IF(O1406=\"\",\"\",MAX(P$1:P1405)+1)","v":""},""]
[null,null,null,null,null,null,null,null,null,null,null,null,null,{"$f":"IF(LDAR_H_UU_summary!C1229=\"\",\"\",LDAR_H_UU_summary!C1229)","v":""},{"$f":"IF(COUNTIF(N$2:N1407,N1407)=1,N1407,\"\")","v":""},{"$f":"+IF(O1407=\"\",\"\",MAX(P$1:P1406)+1)","v":""},""]
[null,null,null,null,null,null,null,null,null,null,null,null,null,{"$f":"IF(LDAR_H_UU_summary!C1230=\"\",\"\",LDAR_H_UU_summary!C1230)","v":""},{"$f":"IF(COUNTIF(N$2:N1408,N1408)=1,N1408,\"\")","v":""},{"$f":"+IF(O1408=\"\",\"\",MAX(P$1:P1407)+1)","v":""},""]
[null,null,null,null,null,null,null,null,null,null,null,null,null,{"$f":"IF(LDAR_H_UU_summary!C1231=\"\",\"\",LDAR_H_UU_summary!C1231)","v":""},{"$f":"IF(COUNTIF(N$2:N1409,N1409)=1,N1409,\"\")","v":""},{"$f":"+IF(O1409=\"\",\"\",MAX(P$1:P1408)+1)","v":""},""]
[null,null,null,null,null,null,null,null,null,null,null,null,null,{"$f":"IF(LDAR_H_UU_summary!C1232=\"\",\"\",LDAR_H_UU_summary!C1232)","v":""},{"$f":"IF(COUNTIF(N$2:N1410,N1410)=1,N1410,\"\")","v":""},{"$f":"+IF(O1410=\"\",\"\",MAX(P$1:P1409)+1)","v":""},""]
[null,null,null,null,null,null,null,null,null,null,null,null,null,{"$f":"IF(LDAR_H_UU_summary!C1233=\"\",\"\",LDAR_H_UU_summary!C1233)","v":""},{"$f":"IF(COUNTIF(N$2:N1411,N1411)=1,N1411,\"\")","v":""},{"$f":"+IF(O1411=\"\",\"\",MAX(P$1:P1410)+1)","v":""},{"$f":"+IFERROR(INDEX($N$2:$N$2001,MATCH(ROW()-ROW($P$1),$P$2:$P$2001,0)),\"\")","v":""}]
[null,null,null,null,null,null,null,null,null,null,null,null,null,{"$f":"IF(LDAR_H_UU_summary!C1234=\"\",\"\",LDAR_H_UU_summary!C1234)","v":""},{"$f":"IF(COUNTIF(N$2:N1412,N1412)=1,N1412,\"\")","v":""},{"$f":"+IF(O1412=\"\",\"\",MAX(P$1:P1411)+1)","v":""},""]
[null,null,null,null,null,null,null,null,null,null,null,null,null,{"$f":"IF(LDAR_H_UU_summary!C1235=\"\",\"\",LDAR_H_UU_summary!C1235)","v":""},{"$f":"IF(COUNTIF(N$2:N1413,N1413)=1,N1413,\"\")","v":""},{"$f":"+IF(O1413=\"\",\"\",MAX(P$1:P1412)+1)","v":""},""]
[null,null,null,null,null,null,null,null,null,null,null,null,null,{"$f":"IF(LDAR_H_UU_summary!C1236=\"\",\"\",LDAR_H_UU_summary!C1236)","v":""},{"$f":"IF(COUNTIF(N$2:N1414,N1414)=1,N1414,\"\")","v":""},{"$f":"+IF(O1414=\"\",\"\",MAX(P$1:P1413)+1)","v":""},""]
[null,null,null,null,null,null,null,null,null,null,null,null,null,{"$f":"IF(LDAR_H_UU_summary!C1237=\"\",\"\",LDAR_H_UU_summary!C1237)","v":""},{"$f":"IF(COUNTIF(N$2:N1415,N1415)=1,N1415,\"\")","v":""},{"$f":"+IF(O1415=\"\",\"\",MAX(P$1:P1414)+1)","v":""},""]
[null,null,null,null,null,null,null,null,null,null,null,null,null,{"$f":"IF(LDAR_H_UU_summary!C1238=\"\",\"\",LDAR_H_UU_summary!C1238)","v":""},{"$f":"IF(COUNTIF(N$2:N1416,N1416)=1,N1416,\"\")","v":""},{"$f":"+IF(O1416=\"\",\"\",MAX(P$1:P1415)+1)","v":""},""]
[null,null,null,null,null,null,null,null,null,null,null,null,null,{"$f":"IF(LDAR_H_UU_summary!C1239=\"\",\"\",LDAR_H_UU_summary!C1239)","v":""},{"$f":"IF(COUNTIF(N$2:N1417,N1417)=1,N1417,\"\")","v":""},{"$f":"+IF(O1417=\"\",\"\",MAX(P$1:P1416)+1)","v":""},""]
[null,null,null,null,null,null,null,null,null,null,null,null,null,{"$f":"IF(LDAR_H_UU_summary!C1240=\"\",\"\",LDAR_H_UU_summary!C1240)","v":""},{"$f":"IF(COUNTIF(N$2:N1418,N1418)=1,N1418,\"\")","v":""},{"$f":"+IF(O1418=\"\",\"\",MAX(P$1:P1417)+1)","v":""},""]
[null,null,null,null,null,null,null,null,null,null,null,null,null,{"$f":"IF(LDAR_H_UU_summary!C1241=\"\",\"\",LDAR_H_UU_summary!C1241)","v":""},{"$f":"IF(COUNTIF(N$2:N1419,N1419)=1,N1419,\"\")","v":""},{"$f":"+IF(O1419=\"\",\"\",MAX(P$1:P1418)+1)","v":""},""]
[null,null,null,null,null,null,null,null,null,null,null,null,null,{"$f":"IF(LDAR_H_UU_summary!C1242=\"\",\"\",LDAR_H_UU_summary!C1242)","v":""},{"$f":"IF(COUNTIF(N$2:N1420,N1420)=1,N1420,\"\")","v":""},{"$f":"+IF(O1420=\"\",\"\",MAX(P$1:P1419)+1)","v":""},""]
[null,null,null,null,null,null,null,null,null,null,null,null,null,{"$f":"IF(LDAR_H_UU_summary!C1243=\"\",\"\",LDAR_H_UU_summary!C1243)","v":""},{"$f":"IF(COUNTIF(N$2:N1421,N1421)=1,N1421,\"\")","v":""},{"$f":"+IF(O1421=\"\",\"\",MAX(P$1:P1420)+1)","v":""},""]
[null,null,null,null,null,null,null,null,null,null,null,null,null,{"$f":"IF(LDAR_H_UU_summary!C1244=\"\",\"\",LDAR_H_UU_summary!C1244)","v":""},{"$f":"IF(COUNTIF(N$2:N1422,N1422)=1,N1422,\"\")","v":""},{"$f":"+IF(O1422=\"\",\"\",MAX(P$1:P1421)+1)","v":""},""]
[null,null,null,null,null,null,null,null,null,null,null,null,null,{"$f":"IF(LDAR_H_UU_summary!C1245=\"\",\"\",LDAR_H_UU_summary!C1245)","v":""},{"$f":"IF(COUNTIF(N$2:N1423,N1423)=1,N1423,\"\")","v":""},{"$f":"+IF(O1423=\"\",\"\",MAX(P$1:P1422)+1)","v":""},""]
[null,null,null,null,null,null,null,null,null,null,null,null,null,{"$f":"IF(LDAR_H_UU_summary!C1246=\"\",\"\",LDAR_H_UU_summary!C1246)","v":""},{"$f":"IF(COUNTIF(N$2:N1424,N1424)=1,N1424,\"\")","v":""},{"$f":"+IF(O1424=\"\",\"\",MAX(P$1:P1423)+1)","v":""},""]
[null,null,null,null,null,null,null,null,null,null,null,null,null,{"$f":"IF(LDAR_H_UU_summary!C1247=\"\",\"\",LDAR_H_UU_summary!C1247)","v":""},{"$f":"IF(COUNTIF(N$2:N1425,N1425)=1,N1425,\"\")","v":""},{"$f":"+IF(O1425=\"\",\"\",MAX(P$1:P1424)+1)","v":""},""]
[null,null,null,null,null,null,null,null,null,null,null,null,null,{"$f":"IF(LDAR_H_UU_summary!C1248=\"\",\"\",LDAR_H_UU_summary!C1248)","v":""},{"$f":"IF(COUNTIF(N$2:N1426,N1426)=1,N1426,\"\")","v":""},{"$f":"+IF(O1426=\"\",\"\",MAX(P$1:P1425)+1)","v":""},""]
[null,null,null,null,null,null,null,null,null,null,null,null,null,{"$f":"IF(LDAR_H_UU_summary!C1249=\"\",\"\",LDAR_H_UU_summary!C1249)","v":""},{"$f":"IF(COUNTIF(N$2:N1427,N1427)=1,N1427,\"\")","v":""},{"$f":"+IF(O1427=\"\",\"\",MAX(P$1:P1426)+1)","v":""},""]
[null,null,null,null,null,null,null,null,null,null,null,null,null,{"$f":"IF(LDAR_H_UU_summary!C1250=\"\",\"\",LDAR_H_UU_summary!C1250)","v":""},{"$f":"IF(COUNTIF(N$2:N1428,N1428)=1,N1428,\"\")","v":""},{"$f":"+IF(O1428=\"\",\"\",MAX(P$1:P1427)+1)","v":""},""]
[null,null,null,null,null,null,null,null,null,null,null,null,null,{"$f":"IF(LDAR_H_UU_summary!C1251=\"\",\"\",LDAR_H_UU_summary!C1251)","v":""},{"$f":"IF(COUNTIF(N$2:N1429,N1429)=1,N1429,\"\")","v":""},{"$f":"+IF(O1429=\"\",\"\",MAX(P$1:P1428)+1)","v":""},""]
[null,null,null,null,null,null,null,null,null,null,null,null,null,{"$f":"IF(LDAR_H_UU_summary!C1252=\"\",\"\",LDAR_H_UU_summary!C1252)","v":""},{"$f":"IF(COUNTIF(N$2:N1430,N1430)=1,N1430,\"\")","v":""},{"$f":"+IF(O1430=\"\",\"\",MAX(P$1:P1429)+1)","v":""},""]
[null,null,null,null,null,null,null,null,null,null,null,null,null,{"$f":"IF(LDAR_H_UU_summary!C1253=\"\",\"\",LDAR_H_UU_summary!C1253)","v":""},{"$f":"IF(COUNTIF(N$2:N1431,N1431)=1,N1431,\"\")","v":""},{"$f":"+IF(O1431=\"\",\"\",MAX(P$1:P1430)+1)","v":""},""]
[null,null,null,null,null,null,null,null,null,null,null,null,null,{"$f":"IF(LDAR_H_UU_summary!C1254=\"\",\"\",LDAR_H_UU_summary!C1254)","v":""},{"$f":"IF(COUNTIF(N$2:N1432,N1432)=1,N1432,\"\")","v":""},{"$f":"+IF(O1432=\"\",\"\",MAX(P$1:P1431)+1)","v":""},""]
[null,null,null,null,null,null,null,null,null,null,null,null,null,{"$f":"IF(LDAR_H_UU_summary!C1255=\"\",\"\",LDAR_H_UU_summary!C1255)","v":""},{"$f":"IF(COUNTIF(N$2:N1433,N1433)=1,N1433,\"\")","v":""},{"$f":"+IF(O1433=\"\",\"\",MAX(P$1:P1432)+1)","v":""},""]
[null,null,null,null,null,null,null,null,null,null,null,null,null,{"$f":"IF(LDAR_H_UU_summary!C1256=\"\",\"\",LDAR_H_UU_summary!C1256)","v":""},{"$f":"IF(COUNTIF(N$2:N1434,N1434)=1,N1434,\"\")","v":""},{"$f":"+IF(O1434=\"\",\"\",MAX(P$1:P1433)+1)","v":""},""]
[null,null,null,null,null,null,null,null,null,null,null,null,null,{"$f":"IF(LDAR_H_UU_summary!C1257=\"\",\"\",LDAR_H_UU_summary!C1257)","v":""},{"$f":"IF(COUNTIF(N$2:N1435,N1435)=1,N1435,\"\")","v":""},{"$f":"+IF(O1435=\"\",\"\",MAX(P$1:P1434)+1)","v":""},""]
[null,null,null,null,null,null,null,null,null,null,null,null,null,{"$f":"IF(LDAR_H_UU_summary!C1258=\"\",\"\",LDAR_H_UU_summary!C1258)","v":""},{"$f":"IF(COUNTIF(N$2:N1436,N1436)=1,N1436,\"\")","v":""},{"$f":"+IF(O1436=\"\",\"\",MAX(P$1:P1435)+1)","v":""},""]
[null,null,null,null,null,null,null,null,null,null,null,null,null,{"$f":"IF(LDAR_H_UU_summary!C1259=\"\",\"\",LDAR_H_UU_summary!C1259)","v":""},{"$f":"IF(COUNTIF(N$2:N1437,N1437)=1,N1437,\"\")","v":""},{"$f":"+IF(O1437=\"\",\"\",MAX(P$1:P1436)+1)","v":""},""]
[null,null,null,null,null,null,null,null,null,null,null,null,null,{"$f":"IF(LDAR_H_UU_summary!C1260=\"\",\"\",LDAR_H_UU_summary!C1260)","v":""},{"$f":"IF(COUNTIF(N$2:N1438,N1438)=1,N1438,\"\")","v":""},{"$f":"+IF(O1438=\"\",\"\",MAX(P$1:P1437)+1)","v":""},""]
[null,null,null,null,null,null,null,null,null,null,null,null,null,{"$f":"IF(LDAR_H_UU_summary!C1261=\"\",\"\",LDAR_H_UU_summary!C1261)","v":""},{"$f":"IF(COUNTIF(N$2:N1439,N1439)=1,N1439,\"\")","v":""},{"$f":"+IF(O1439=\"\",\"\",MAX(P$1:P1438)+1)","v":""},""]
[null,null,null,null,null,null,null,null,null,null,null,null,null,{"$f":"IF(LDAR_H_UU_summary!C1262=\"\",\"\",LDAR_H_UU_summary!C1262)","v":""},{"$f":"IF(COUNTIF(N$2:N1440,N1440)=1,N1440,\"\")","v":""},{"$f":"+IF(O1440=\"\",\"\",MAX(P$1:P1439)+1)","v":""},""]
[null,null,null,null,null,null,null,null,null,null,null,null,null,{"$f":"IF(LDAR_H_UU_summary!C1263=\"\",\"\",LDAR_H_UU_summary!C1263)","v":""},{"$f":"IF(COUNTIF(N$2:N1441,N1441)=1,N1441,\"\")","v":""},{"$f":"+IF(O1441=\"\",\"\",MAX(P$1:P1440)+1)","v":""},""]
[null,null,null,null,null,null,null,null,null,null,null,null,null,{"$f":"IF(LDAR_H_UU_summary!C1264=\"\",\"\",LDAR_H_UU_summary!C1264)","v":""},{"$f":"IF(COUNTIF(N$2:N1442,N1442)=1,N1442,\"\")","v":""},{"$f":"+IF(O1442=\"\",\"\",MAX(P$1:P1441)+1)","v":""},""]
[null,null,null,null,null,null,null,null,null,null,null,null,null,{"$f":"IF(LDAR_H_UU_summary!C1265=\"\",\"\",LDAR_H_UU_summary!C1265)","v":""},{"$f":"IF(COUNTIF(N$2:N1443,N1443)=1,N1443,\"\")","v":""},{"$f":"+IF(O1443=\"\",\"\",MAX(P$1:P1442)+1)","v":""},""]
[null,null,null,null,null,null,null,null,null,null,null,null,null,{"$f":"IF(LDAR_H_UU_summary!C1266=\"\",\"\",LDAR_H_UU_summary!C1266)","v":""},{"$f":"IF(COUNTIF(N$2:N1444,N1444)=1,N1444,\"\")","v":""},{"$f":"+IF(O1444=\"\",\"\",MAX(P$1:P1443)+1)","v":""},""]
[null,null,null,null,null,null,null,null,null,null,null,null,null,{"$f":"IF(LDAR_H_UU_summary!C1267=\"\",\"\",LDAR_H_UU_summary!C1267)","v":""},{"$f":"IF(COUNTIF(N$2:N1445,N1445)=1,N1445,\"\")","v":""},{"$f":"+IF(O1445=\"\",\"\",MAX(P$1:P1444)+1)","v":""},""]
[null,null,null,null,null,null,null,null,null,null,null,null,null,{"$f":"IF(LDAR_H_UU_summary!C1268=\"\",\"\",LDAR_H_UU_summary!C1268)","v":""},{"$f":"IF(COUNTIF(N$2:N1446,N1446)=1,N1446,\"\")","v":""},{"$f":"+IF(O1446=\"\",\"\",MAX(P$1:P1445)+1)","v":""},""]
[null,null,null,null,null,null,null,null,null,null,null,null,null,{"$f":"IF(LDAR_H_UU_summary!C1269=\"\",\"\",LDAR_H_UU_summary!C1269)","v":""},{"$f":"IF(COUNTIF(N$2:N1447,N1447)=1,N1447,\"\")","v":""},{"$f":"+IF(O1447=\"\",\"\",MAX(P$1:P1446)+1)","v":""},""]
[null,null,null,null,null,null,null,null,null,null,null,null,null,{"$f":"IF(LDAR_H_UU_summary!C1270=\"\",\"\",LDAR_H_UU_summary!C1270)","v":""},{"$f":"IF(COUNTIF(N$2:N1448,N1448)=1,N1448,\"\")","v":""},{"$f":"+IF(O1448=\"\",\"\",MAX(P$1:P1447)+1)","v":""},""]
[null,null,null,null,null,null,null,null,null,null,null,null,null,{"$f":"IF(LDAR_H_UU_summary!C1271=\"\",\"\",LDAR_H_UU_summary!C1271)","v":""},{"$f":"IF(COUNTIF(N$2:N1449,N1449)=1,N1449,\"\")","v":""},{"$f":"+IF(O1449=\"\",\"\",MAX(P$1:P1448)+1)","v":""},""]
[null,null,null,null,null,null,null,null,null,null,null,null,null,{"$f":"IF(LDAR_H_UU_summary!C1272=\"\",\"\",LDAR_H_UU_summary!C1272)","v":""},{"$f":"IF(COUNTIF(N$2:N1450,N1450)=1,N1450,\"\")","v":""},{"$f":"+IF(O1450=\"\",\"\",MAX(P$1:P1449)+1)","v":""},""]
[null,null,null,null,null,null,null,null,null,null,null,null,null,{"$f":"IF(LDAR_H_UU_summary!C1273=\"\",\"\",LDAR_H_UU_summary!C1273)","v":""},{"$f":"IF(COUNTIF(N$2:N1451,N1451)=1,N1451,\"\")","v":""},{"$f":"+IF(O1451=\"\",\"\",MAX(P$1:P1450)+1)","v":""},""]
[null,null,null,null,null,null,null,null,null,null,null,null,null,{"$f":"IF(LDAR_H_UU_summary!C1274=\"\",\"\",LDAR_H_UU_summary!C1274)","v":""},{"$f":"IF(COUNTIF(N$2:N1452,N1452)=1,N1452,\"\")","v":""},{"$f":"+IF(O1452=\"\",\"\",MAX(P$1:P1451)+1)","v":""},""]
[null,null,null,null,null,null,null,null,null,null,null,null,null,{"$f":"IF(LDAR_H_UU_summary!C1275=\"\",\"\",LDAR_H_UU_summary!C1275)","v":""},{"$f":"IF(COUNTIF(N$2:N1453,N1453)=1,N1453,\"\")","v":""},{"$f":"+IF(O1453=\"\",\"\",MAX(P$1:P1452)+1)","v":""},""]
[null,null,null,null,null,null,null,null,null,null,null,null,null,{"$f":"IF(LDAR_H_UU_summary!C1276=\"\",\"\",LDAR_H_UU_summary!C1276)","v":""},{"$f":"IF(COUNTIF(N$2:N1454,N1454)=1,N1454,\"\")","v":""},{"$f":"+IF(O1454=\"\",\"\",MAX(P$1:P1453)+1)","v":""},""]
[null,null,null,null,null,null,null,null,null,null,null,null,null,{"$f":"IF(LDAR_H_UU_summary!C1277=\"\",\"\",LDAR_H_UU_summary!C1277)","v":""},{"$f":"IF(COUNTIF(N$2:N1455,N1455)=1,N1455,\"\")","v":""},{"$f":"+IF(O1455=\"\",\"\",MAX(P$1:P1454)+1)","v":""},""]
[null,null,null,null,null,null,null,null,null,null,null,null,null,{"$f":"IF(LDAR_H_UU_summary!C1278=\"\",\"\",LDAR_H_UU_summary!C1278)","v":""},{"$f":"IF(COUNTIF(N$2:N1456,N1456)=1,N1456,\"\")","v":""},{"$f":"+IF(O1456=\"\",\"\",MAX(P$1:P1455)+1)","v":""},""]
[null,null,null,null,null,null,null,null,null,null,null,null,null,{"$f":"IF(LDAR_H_UU_summary!C1279=\"\",\"\",LDAR_H_UU_summary!C1279)","v":""},{"$f":"IF(COUNTIF(N$2:N1457,N1457)=1,N1457,\"\")","v":""},{"$f":"+IF(O1457=\"\",\"\",MAX(P$1:P1456)+1)","v":""},""]
[null,null,null,null,null,null,null,null,null,null,null,null,null,{"$f":"IF(LDAR_H_UU_summary!C1280=\"\",\"\",LDAR_H_UU_summary!C1280)","v":""},{"$f":"IF(COUNTIF(N$2:N1458,N1458)=1,N1458,\"\")","v":""},{"$f":"+IF(O1458=\"\",\"\",MAX(P$1:P1457)+1)","v":""},""]
[null,null,null,null,null,null,null,null,null,null,null,null,null,{"$f":"IF(LDAR_H_UU_summary!C1281=\"\",\"\",LDAR_H_UU_summary!C1281)","v":""},{"$f":"IF(COUNTIF(N$2:N1459,N1459)=1,N1459,\"\")","v":""},{"$f":"+IF(O1459=\"\",\"\",MAX(P$1:P1458)+1)","v":""},""]
[null,null,null,null,null,null,null,null,null,null,null,null,null,{"$f":"IF(LDAR_H_UU_summary!C1282=\"\",\"\",LDAR_H_UU_summary!C1282)","v":""},{"$f":"IF(COUNTIF(N$2:N1460,N1460)=1,N1460,\"\")","v":""},{"$f":"+IF(O1460=\"\",\"\",MAX(P$1:P1459)+1)","v":""},""]
[null,null,null,null,null,null,null,null,null,null,null,null,null,{"$f":"IF(LDAR_H_UU_summary!C1283=\"\",\"\",LDAR_H_UU_summary!C1283)","v":""},{"$f":"IF(COUNTIF(N$2:N1461,N1461)=1,N1461,\"\")","v":""},{"$f":"+IF(O1461=\"\",\"\",MAX(P$1:P1460)+1)","v":""},""]
[null,null,null,null,null,null,null,null,null,null,null,null,null,{"$f":"IF(LDAR_H_UU_summary!C1284=\"\",\"\",LDAR_H_UU_summary!C1284)","v":""},{"$f":"IF(COUNTIF(N$2:N1462,N1462)=1,N1462,\"\")","v":""},{"$f":"+IF(O1462=\"\",\"\",MAX(P$1:P1461)+1)","v":""},""]
[null,null,null,null,null,null,null,null,null,null,null,null,null,{"$f":"IF(LDAR_H_UU_summary!C1285=\"\",\"\",LDAR_H_UU_summary!C1285)","v":""},{"$f":"IF(COUNTIF(N$2:N1463,N1463)=1,N1463,\"\")","v":""},{"$f":"+IF(O1463=\"\",\"\",MAX(P$1:P1462)+1)","v":""},""]
[null,null,null,null,null,null,null,null,null,null,null,null,null,{"$f":"IF(LDAR_H_UU_summary!C1286=\"\",\"\",LDAR_H_UU_summary!C1286)","v":""},{"$f":"IF(COUNTIF(N$2:N1464,N1464)=1,N1464,\"\")","v":""},{"$f":"+IF(O1464=\"\",\"\",MAX(P$1:P1463)+1)","v":""},""]
[null,null,null,null,null,null,null,null,null,null,null,null,null,{"$f":"IF(LDAR_H_UU_summary!C1287=\"\",\"\",LDAR_H_UU_summary!C1287)","v":""},{"$f":"IF(COUNTIF(N$2:N1465,N1465)=1,N1465,\"\")","v":""},{"$f":"+IF(O1465=\"\",\"\",MAX(P$1:P1464)+1)","v":""},""]
[null,null,null,null,null,null,null,null,null,null,null,null,null,{"$f":"IF(LDAR_H_UU_summary!C1288=\"\",\"\",LDAR_H_UU_summary!C1288)","v":""},{"$f":"IF(COUNTIF(N$2:N1466,N1466)=1,N1466,\"\")","v":""},{"$f":"+IF(O1466=\"\",\"\",MAX(P$1:P1465)+1)","v":""},""]
[null,null,null,null,null,null,null,null,null,null,null,null,null,{"$f":"IF(LDAR_H_UU_summary!C1289=\"\",\"\",LDAR_H_UU_summary!C1289)","v":""},{"$f":"IF(COUNTIF(N$2:N1467,N1467)=1,N1467,\"\")","v":""},{"$f":"+IF(O1467=\"\",\"\",MAX(P$1:P1466)+1)","v":""},""]
[null,null,null,null,null,null,null,null,null,null,null,null,null,{"$f":"IF(LDAR_H_UU_summary!C1290=\"\",\"\",LDAR_H_UU_summary!C1290)","v":""},{"$f":"IF(COUNTIF(N$2:N1468,N1468)=1,N1468,\"\")","v":""},{"$f":"+IF(O1468=\"\",\"\",MAX(P$1:P1467)+1)","v":""},""]
[null,null,null,null,null,null,null,null,null,null,null,null,null,{"$f":"IF(LDAR_H_UU_summary!C1291=\"\",\"\",LDAR_H_UU_summary!C1291)","v":""},{"$f":"IF(COUNTIF(N$2:N1469,N1469)=1,N1469,\"\")","v":""},{"$f":"+IF(O1469=\"\",\"\",MAX(P$1:P1468)+1)","v":""},""]
[null,null,null,null,null,null,null,null,null,null,null,null,null,{"$f":"IF(LDAR_H_UU_summary!C1292=\"\",\"\",LDAR_H_UU_summary!C1292)","v":""},{"$f":"IF(COUNTIF(N$2:N1470,N1470)=1,N1470,\"\")","v":""},{"$f":"+IF(O1470=\"\",\"\",MAX(P$1:P1469)+1)","v":""},""]
[null,null,null,null,null,null,null,null,null,null,null,null,null,{"$f":"IF(LDAR_H_UU_summary!C1293=\"\",\"\",LDAR_H_UU_summary!C1293)","v":""},{"$f":"IF(COUNTIF(N$2:N1471,N1471)=1,N1471,\"\")","v":""},{"$f":"+IF(O1471=\"\",\"\",MAX(P$1:P1470)+1)","v":""},""]
[null,null,null,null,null,null,null,null,null,null,null,null,null,{"$f":"IF(LDAR_H_UU_summary!C1294=\"\",\"\",LDAR_H_UU_summary!C1294)","v":""},{"$f":"IF(COUNTIF(N$2:N1472,N1472)=1,N1472,\"\")","v":""},{"$f":"+IF(O1472=\"\",\"\",MAX(P$1:P1471)+1)","v":""},""]
[null,null,null,null,null,null,null,null,null,null,null,null,null,{"$f":"IF(LDAR_H_UU_summary!C1295=\"\",\"\",LDAR_H_UU_summary!C1295)","v":""},{"$f":"IF(COUNTIF(N$2:N1473,N1473)=1,N1473,\"\")","v":""},{"$f":"+IF(O1473=\"\",\"\",MAX(P$1:P1472)+1)","v":""},""]
[null,null,null,null,null,null,null,null,null,null,null,null,null,{"$f":"IF(LDAR_H_UU_summary!C1296=\"\",\"\",LDAR_H_UU_summary!C1296)","v":""},{"$f":"IF(COUNTIF(N$2:N1474,N1474)=1,N1474,\"\")","v":""},{"$f":"+IF(O1474=\"\",\"\",MAX(P$1:P1473)+1)","v":""},""]
[null,null,null,null,null,null,null,null,null,null,null,null,null,{"$f":"IF(LDAR_H_UU_summary!C1297=\"\",\"\",LDAR_H_UU_summary!C1297)","v":""},{"$f":"IF(COUNTIF(N$2:N1475,N1475)=1,N1475,\"\")","v":""},{"$f":"+IF(O1475=\"\",\"\",MAX(P$1:P1474)+1)","v":""},{"$f":"+IFERROR(INDEX($N$2:$N$2001,MATCH(ROW()-ROW($P$1),$P$2:$P$2001,0)),\"\")","v":""}]
[null,null,null,null,null,null,null,null,null,null,null,null,null,{"$f":"IF(LDAR_H_UU_summary!C1298=\"\",\"\",LDAR_H_UU_summary!C1298)","v":""},{"$f":"IF(COUNTIF(N$2:N1476,N1476)=1,N1476,\"\")","v":""},{"$f":"+IF(O1476=\"\",\"\",MAX(P$1:P1475)+1)","v":""},""]
[null,null,null,null,null,null,null,null,null,null,null,null,null,{"$f":"IF(LDAR_H_UU_summary!C1299=\"\",\"\",LDAR_H_UU_summary!C1299)","v":""},{"$f":"IF(COUNTIF(N$2:N1477,N1477)=1,N1477,\"\")","v":""},{"$f":"+IF(O1477=\"\",\"\",MAX(P$1:P1476)+1)","v":""},""]
[null,null,null,null,null,null,null,null,null,null,null,null,null,{"$f":"IF(LDAR_H_UU_summary!C1300=\"\",\"\",LDAR_H_UU_summary!C1300)","v":""},{"$f":"IF(COUNTIF(N$2:N1478,N1478)=1,N1478,\"\")","v":""},{"$f":"+IF(O1478=\"\",\"\",MAX(P$1:P1477)+1)","v":""},""]
[null,null,null,null,null,null,null,null,null,null,null,null,null,{"$f":"IF(LDAR_H_UU_summary!C1301=\"\",\"\",LDAR_H_UU_summary!C1301)","v":""},{"$f":"IF(COUNTIF(N$2:N1479,N1479)=1,N1479,\"\")","v":""},{"$f":"+IF(O1479=\"\",\"\",MAX(P$1:P1478)+1)","v":""},""]
[null,null,null,null,null,null,null,null,null,null,null,null,null,{"$f":"IF(LDAR_H_UU_summary!C1302=\"\",\"\",LDAR_H_UU_summary!C1302)","v":""},{"$f":"IF(COUNTIF(N$2:N1480,N1480)=1,N1480,\"\")","v":""},{"$f":"+IF(O1480=\"\",\"\",MAX(P$1:P1479)+1)","v":""},""]
[null,null,null,null,null,null,null,null,null,null,null,null,null,{"$f":"IF(LDAR_H_UU_summary!C1303=\"\",\"\",LDAR_H_UU_summary!C1303)","v":""},{"$f":"IF(COUNTIF(N$2:N1481,N1481)=1,N1481,\"\")","v":""},{"$f":"+IF(O1481=\"\",\"\",MAX(P$1:P1480)+1)","v":""},""]
[null,null,null,null,null,null,null,null,null,null,null,null,null,{"$f":"IF(LDAR_H_UU_summary!C1304=\"\",\"\",LDAR_H_UU_summary!C1304)","v":""},{"$f":"IF(COUNTIF(N$2:N1482,N1482)=1,N1482,\"\")","v":""},{"$f":"+IF(O1482=\"\",\"\",MAX(P$1:P1481)+1)","v":""},""]
[null,null,null,null,null,null,null,null,null,null,null,null,null,{"$f":"IF(LDAR_H_UU_summary!C1305=\"\",\"\",LDAR_H_UU_summary!C1305)","v":""},{"$f":"IF(COUNTIF(N$2:N1483,N1483)=1,N1483,\"\")","v":""},{"$f":"+IF(O1483=\"\",\"\",MAX(P$1:P1482)+1)","v":""},""]
[null,null,null,null,null,null,null,null,null,null,null,null,null,{"$f":"IF(LDAR_H_UU_summary!C1306=\"\",\"\",LDAR_H_UU_summary!C1306)","v":""},{"$f":"IF(COUNTIF(N$2:N1484,N1484)=1,N1484,\"\")","v":""},{"$f":"+IF(O1484=\"\",\"\",MAX(P$1:P1483)+1)","v":""},""]
[null,null,null,null,null,null,null,null,null,null,null,null,null,{"$f":"IF(LDAR_H_UU_summary!C1307=\"\",\"\",LDAR_H_UU_summary!C1307)","v":""},{"$f":"IF(COUNTIF(N$2:N1485,N1485)=1,N1485,\"\")","v":""},{"$f":"+IF(O1485=\"\",\"\",MAX(P$1:P1484)+1)","v":""},""]
[null,null,null,null,null,null,null,null,null,null,null,null,null,{"$f":"IF(LDAR_H_UU_summary!C1308=\"\",\"\",LDAR_H_UU_summary!C1308)","v":""},{"$f":"IF(COUNTIF(N$2:N1486,N1486)=1,N1486,\"\")","v":""},{"$f":"+IF(O1486=\"\",\"\",MAX(P$1:P1485)+1)","v":""},""]
[null,null,null,null,null,null,null,null,null,null,null,null,null,{"$f":"IF(LDAR_H_UU_summary!C1309=\"\",\"\",LDAR_H_UU_summary!C1309)","v":""},{"$f":"IF(COUNTIF(N$2:N1487,N1487)=1,N1487,\"\")","v":""},{"$f":"+IF(O1487=\"\",\"\",MAX(P$1:P1486)+1)","v":""},""]
[null,null,null,null,null,null,null,null,null,null,null,null,null,{"$f":"IF(LDAR_H_UU_summary!C1310=\"\",\"\",LDAR_H_UU_summary!C1310)","v":""},{"$f":"IF(COUNTIF(N$2:N1488,N1488)=1,N1488,\"\")","v":""},{"$f":"+IF(O1488=\"\",\"\",MAX(P$1:P1487)+1)","v":""},""]
[null,null,null,null,null,null,null,null,null,null,null,null,null,{"$f":"IF(LDAR_H_UU_summary!C1311=\"\",\"\",LDAR_H_UU_summary!C1311)","v":""},{"$f":"IF(COUNTIF(N$2:N1489,N1489)=1,N1489,\"\")","v":""},{"$f":"+IF(O1489=\"\",\"\",MAX(P$1:P1488)+1)","v":""},""]
[null,null,null,null,null,null,null,null,null,null,null,null,null,{"$f":"IF(LDAR_H_UU_summary!C1312=\"\",\"\",LDAR_H_UU_summary!C1312)","v":""},{"$f":"IF(COUNTIF(N$2:N1490,N1490)=1,N1490,\"\")","v":""},{"$f":"+IF(O1490=\"\",\"\",MAX(P$1:P1489)+1)","v":""},""]
[null,null,null,null,null,null,null,null,null,null,null,null,null,{"$f":"IF(LDAR_H_UU_summary!C1313=\"\",\"\",LDAR_H_UU_summary!C1313)","v":""},{"$f":"IF(COUNTIF(N$2:N1491,N1491)=1,N1491,\"\")","v":""},{"$f":"+IF(O1491=\"\",\"\",MAX(P$1:P1490)+1)","v":""},""]
[null,null,null,null,null,null,null,null,null,null,null,null,null,{"$f":"IF(LDAR_H_UU_summary!C1314=\"\",\"\",LDAR_H_UU_summary!C1314)","v":""},{"$f":"IF(COUNTIF(N$2:N1492,N1492)=1,N1492,\"\")","v":""},{"$f":"+IF(O1492=\"\",\"\",MAX(P$1:P1491)+1)","v":""},""]
[null,null,null,null,null,null,null,null,null,null,null,null,null,{"$f":"IF(LDAR_H_UU_summary!C1315=\"\",\"\",LDAR_H_UU_summary!C1315)","v":""},{"$f":"IF(COUNTIF(N$2:N1493,N1493)=1,N1493,\"\")","v":""},{"$f":"+IF(O1493=\"\",\"\",MAX(P$1:P1492)+1)","v":""},""]
[null,null,null,null,null,null,null,null,null,null,null,null,null,{"$f":"IF(LDAR_H_UU_summary!C1316=\"\",\"\",LDAR_H_UU_summary!C1316)","v":""},{"$f":"IF(COUNTIF(N$2:N1494,N1494)=1,N1494,\"\")","v":""},{"$f":"+IF(O1494=\"\",\"\",MAX(P$1:P1493)+1)","v":""},""]
[null,null,null,null,null,null,null,null,null,null,null,null,null,{"$f":"IF(LDAR_H_UU_summary!C1317=\"\",\"\",LDAR_H_UU_summary!C1317)","v":""},{"$f":"IF(COUNTIF(N$2:N1495,N1495)=1,N1495,\"\")","v":""},{"$f":"+IF(O1495=\"\",\"\",MAX(P$1:P1494)+1)","v":""},""]
[null,null,null,null,null,null,null,null,null,null,null,null,null,{"$f":"IF(LDAR_H_UU_summary!C1318=\"\",\"\",LDAR_H_UU_summary!C1318)","v":""},{"$f":"IF(COUNTIF(N$2:N1496,N1496)=1,N1496,\"\")","v":""},{"$f":"+IF(O1496=\"\",\"\",MAX(P$1:P1495)+1)","v":""},""]
[null,null,null,null,null,null,null,null,null,null,null,null,null,{"$f":"IF(LDAR_H_UU_summary!C1319=\"\",\"\",LDAR_H_UU_summary!C1319)","v":""},{"$f":"IF(COUNTIF(N$2:N1497,N1497)=1,N1497,\"\")","v":""},{"$f":"+IF(O1497=\"\",\"\",MAX(P$1:P1496)+1)","v":""},""]
[null,null,null,null,null,null,null,null,null,null,null,null,null,{"$f":"IF(LDAR_H_UU_summary!C1320=\"\",\"\",LDAR_H_UU_summary!C1320)","v":""},{"$f":"IF(COUNTIF(N$2:N1498,N1498)=1,N1498,\"\")","v":""},{"$f":"+IF(O1498=\"\",\"\",MAX(P$1:P1497)+1)","v":""},""]
[null,null,null,null,null,null,null,null,null,null,null,null,null,{"$f":"IF(LDAR_H_UU_summary!C1321=\"\",\"\",LDAR_H_UU_summary!C1321)","v":""},{"$f":"IF(COUNTIF(N$2:N1499,N1499)=1,N1499,\"\")","v":""},{"$f":"+IF(O1499=\"\",\"\",MAX(P$1:P1498)+1)","v":""},""]
[null,null,null,null,null,null,null,null,null,null,null,null,null,{"$f":"IF(LDAR_H_UU_summary!C1322=\"\",\"\",LDAR_H_UU_summary!C1322)","v":""},{"$f":"IF(COUNTIF(N$2:N1500,N1500)=1,N1500,\"\")","v":""},{"$f":"+IF(O1500=\"\",\"\",MAX(P$1:P1499)+1)","v":""},""]
[null,null,null,null,null,null,null,null,null,null,null,null,null,{"$f":"IF(LDAR_H_UU_summary!C1323=\"\",\"\",LDAR_H_UU_summary!C1323)","v":""},{"$f":"IF(COUNTIF(N$2:N1501,N1501)=1,N1501,\"\")","v":""},{"$f":"+IF(O1501=\"\",\"\",MAX(P$1:P1500)+1)","v":""},""]
[null,null,null,null,null,null,null,null,null,null,null,null,null,{"$f":"IF(LDAR_H_UU_summary!C1324=\"\",\"\",LDAR_H_UU_summary!C1324)","v":""},{"$f":"IF(COUNTIF(N$2:N1502,N1502)=1,N1502,\"\")","v":""},{"$f":"+IF(O1502=\"\",\"\",MAX(P$1:P1501)+1)","v":""},""]
[null,null,null,null,null,null,null,null,null,null,null,null,null,{"$f":"IF(LDAR_H_UU_summary!C1325=\"\",\"\",LDAR_H_UU_summary!C1325)","v":""},{"$f":"IF(COUNTIF(N$2:N1503,N1503)=1,N1503,\"\")","v":""},{"$f":"+IF(O1503=\"\",\"\",MAX(P$1:P1502)+1)","v":""},""]
[null,null,null,null,null,null,null,null,null,null,null,null,null,{"$f":"IF(LDAR_H_UU_summary!C1326=\"\",\"\",LDAR_H_UU_summary!C1326)","v":""},{"$f":"IF(COUNTIF(N$2:N1504,N1504)=1,N1504,\"\")","v":""},{"$f":"+IF(O1504=\"\",\"\",MAX(P$1:P1503)+1)","v":""},""]
[null,null,null,null,null,null,null,null,null,null,null,null,null,{"$f":"IF(LDAR_H_UU_summary!C1327=\"\",\"\",LDAR_H_UU_summary!C1327)","v":""},{"$f":"IF(COUNTIF(N$2:N1505,N1505)=1,N1505,\"\")","v":""},{"$f":"+IF(O1505=\"\",\"\",MAX(P$1:P1504)+1)","v":""},""]
[null,null,null,null,null,null,null,null,null,null,null,null,null,{"$f":"IF(LDAR_H_UU_summary!C1328=\"\",\"\",LDAR_H_UU_summary!C1328)","v":""},{"$f":"IF(COUNTIF(N$2:N1506,N1506)=1,N1506,\"\")","v":""},{"$f":"+IF(O1506=\"\",\"\",MAX(P$1:P1505)+1)","v":""},""]
[null,null,null,null,null,null,null,null,null,null,null,null,null,{"$f":"IF(LDAR_H_UU_summary!C1329=\"\",\"\",LDAR_H_UU_summary!C1329)","v":""},{"$f":"IF(COUNTIF(N$2:N1507,N1507)=1,N1507,\"\")","v":""},{"$f":"+IF(O1507=\"\",\"\",MAX(P$1:P1506)+1)","v":""},""]
[null,null,null,null,null,null,null,null,null,null,null,null,null,{"$f":"IF(LDAR_H_UU_summary!C1330=\"\",\"\",LDAR_H_UU_summary!C1330)","v":""},{"$f":"IF(COUNTIF(N$2:N1508,N1508)=1,N1508,\"\")","v":""},{"$f":"+IF(O1508=\"\",\"\",MAX(P$1:P1507)+1)","v":""},""]
[null,null,null,null,null,null,null,null,null,null,null,null,null,{"$f":"IF(LDAR_H_UU_summary!C1331=\"\",\"\",LDAR_H_UU_summary!C1331)","v":""},{"$f":"IF(COUNTIF(N$2:N1509,N1509)=1,N1509,\"\")","v":""},{"$f":"+IF(O1509=\"\",\"\",MAX(P$1:P1508)+1)","v":""},""]
[null,null,null,null,null,null,null,null,null,null,null,null,null,{"$f":"IF(LDAR_H_UU_summary!C1332=\"\",\"\",LDAR_H_UU_summary!C1332)","v":""},{"$f":"IF(COUNTIF(N$2:N1510,N1510)=1,N1510,\"\")","v":""},{"$f":"+IF(O1510=\"\",\"\",MAX(P$1:P1509)+1)","v":""},""]
[null,null,null,null,null,null,null,null,null,null,null,null,null,{"$f":"IF(LDAR_H_UU_summary!C1333=\"\",\"\",LDAR_H_UU_summary!C1333)","v":""},{"$f":"IF(COUNTIF(N$2:N1511,N1511)=1,N1511,\"\")","v":""},{"$f":"+IF(O1511=\"\",\"\",MAX(P$1:P1510)+1)","v":""},""]
[null,null,null,null,null,null,null,null,null,null,null,null,null,{"$f":"IF(LDAR_H_UU_summary!C1334=\"\",\"\",LDAR_H_UU_summary!C1334)","v":""},{"$f":"IF(COUNTIF(N$2:N1512,N1512)=1,N1512,\"\")","v":""},{"$f":"+IF(O1512=\"\",\"\",MAX(P$1:P1511)+1)","v":""},""]
[null,null,null,null,null,null,null,null,null,null,null,null,null,{"$f":"IF(LDAR_H_UU_summary!C1335=\"\",\"\",LDAR_H_UU_summary!C1335)","v":""},{"$f":"IF(COUNTIF(N$2:N1513,N1513)=1,N1513,\"\")","v":""},{"$f":"+IF(O1513=\"\",\"\",MAX(P$1:P1512)+1)","v":""},""]
[null,null,null,null,null,null,null,null,null,null,null,null,null,{"$f":"IF(LDAR_H_UU_summary!C1336=\"\",\"\",LDAR_H_UU_summary!C1336)","v":""},{"$f":"IF(COUNTIF(N$2:N1514,N1514)=1,N1514,\"\")","v":""},{"$f":"+IF(O1514=\"\",\"\",MAX(P$1:P1513)+1)","v":""},""]
[null,null,null,null,null,null,null,null,null,null,null,null,null,{"$f":"IF(LDAR_H_UU_summary!C1337=\"\",\"\",LDAR_H_UU_summary!C1337)","v":""},{"$f":"IF(COUNTIF(N$2:N1515,N1515)=1,N1515,\"\")","v":""},{"$f":"+IF(O1515=\"\",\"\",MAX(P$1:P1514)+1)","v":""},""]
[null,null,null,null,null,null,null,null,null,null,null,null,null,{"$f":"IF(LDAR_H_UU_summary!C1338=\"\",\"\",LDAR_H_UU_summary!C1338)","v":""},{"$f":"IF(COUNTIF(N$2:N1516,N1516)=1,N1516,\"\")","v":""},{"$f":"+IF(O1516=\"\",\"\",MAX(P$1:P1515)+1)","v":""},""]
[null,null,null,null,null,null,null,null,null,null,null,null,null,{"$f":"IF(LDAR_H_UU_summary!C1339=\"\",\"\",LDAR_H_UU_summary!C1339)","v":""},{"$f":"IF(COUNTIF(N$2:N1517,N1517)=1,N1517,\"\")","v":""},{"$f":"+IF(O1517=\"\",\"\",MAX(P$1:P1516)+1)","v":""},""]
[null,null,null,null,null,null,null,null,null,null,null,null,null,{"$f":"IF(LDAR_H_UU_summary!C1340=\"\",\"\",LDAR_H_UU_summary!C1340)","v":""},{"$f":"IF(COUNTIF(N$2:N1518,N1518)=1,N1518,\"\")","v":""},{"$f":"+IF(O1518=\"\",\"\",MAX(P$1:P1517)+1)","v":""},""]
[null,null,null,null,null,null,null,null,null,null,null,null,null,{"$f":"IF(LDAR_H_UU_summary!C1341=\"\",\"\",LDAR_H_UU_summary!C1341)","v":""},{"$f":"IF(COUNTIF(N$2:N1519,N1519)=1,N1519,\"\")","v":""},{"$f":"+IF(O1519=\"\",\"\",MAX(P$1:P1518)+1)","v":""},""]
[null,null,null,null,null,null,null,null,null,null,null,null,null,{"$f":"IF(LDAR_H_UU_summary!C1342=\"\",\"\",LDAR_H_UU_summary!C1342)","v":""},{"$f":"IF(COUNTIF(N$2:N1520,N1520)=1,N1520,\"\")","v":""},{"$f":"+IF(O1520=\"\",\"\",MAX(P$1:P1519)+1)","v":""},""]
[null,null,null,null,null,null,null,null,null,null,null,null,null,{"$f":"IF(LDAR_H_UU_summary!C1343=\"\",\"\",LDAR_H_UU_summary!C1343)","v":""},{"$f":"IF(COUNTIF(N$2:N1521,N1521)=1,N1521,\"\")","v":""},{"$f":"+IF(O1521=\"\",\"\",MAX(P$1:P1520)+1)","v":""},""]
[null,null,null,null,null,null,null,null,null,null,null,null,null,{"$f":"IF(LDAR_H_UU_summary!C1344=\"\",\"\",LDAR_H_UU_summary!C1344)","v":""},{"$f":"IF(COUNTIF(N$2:N1522,N1522)=1,N1522,\"\")","v":""},{"$f":"+IF(O1522=\"\",\"\",MAX(P$1:P1521)+1)","v":""},""]
[null,null,null,null,null,null,null,null,null,null,null,null,null,{"$f":"IF(LDAR_H_UU_summary!C1345=\"\",\"\",LDAR_H_UU_summary!C1345)","v":""},{"$f":"IF(COUNTIF(N$2:N1523,N1523)=1,N1523,\"\")","v":""},{"$f":"+IF(O1523=\"\",\"\",MAX(P$1:P1522)+1)","v":""},""]
[null,null,null,null,null,null,null,null,null,null,null,null,null,{"$f":"IF(LDAR_H_UU_summary!C1346=\"\",\"\",LDAR_H_UU_summary!C1346)","v":""},{"$f":"IF(COUNTIF(N$2:N1524,N1524)=1,N1524,\"\")","v":""},{"$f":"+IF(O1524=\"\",\"\",MAX(P$1:P1523)+1)","v":""},""]
[null,null,null,null,null,null,null,null,null,null,null,null,null,{"$f":"IF(LDAR_H_UU_summary!C1347=\"\",\"\",LDAR_H_UU_summary!C1347)","v":""},{"$f":"IF(COUNTIF(N$2:N1525,N1525)=1,N1525,\"\")","v":""},{"$f":"+IF(O1525=\"\",\"\",MAX(P$1:P1524)+1)","v":""},""]
[null,null,null,null,null,null,null,null,null,null,null,null,null,{"$f":"IF(LDAR_H_UU_summary!C1348=\"\",\"\",LDAR_H_UU_summary!C1348)","v":""},{"$f":"IF(COUNTIF(N$2:N1526,N1526)=1,N1526,\"\")","v":""},{"$f":"+IF(O1526=\"\",\"\",MAX(P$1:P1525)+1)","v":""},""]
[null,null,null,null,null,null,null,null,null,null,null,null,null,{"$f":"IF(LDAR_H_UU_summary!C1349=\"\",\"\",LDAR_H_UU_summary!C1349)","v":""},{"$f":"IF(COUNTIF(N$2:N1527,N1527)=1,N1527,\"\")","v":""},{"$f":"+IF(O1527=\"\",\"\",MAX(P$1:P1526)+1)","v":""},""]
[null,null,null,null,null,null,null,null,null,null,null,null,null,{"$f":"IF(LDAR_H_UU_summary!C1350=\"\",\"\",LDAR_H_UU_summary!C1350)","v":""},{"$f":"IF(COUNTIF(N$2:N1528,N1528)=1,N1528,\"\")","v":""},{"$f":"+IF(O1528=\"\",\"\",MAX(P$1:P1527)+1)","v":""},""]
[null,null,null,null,null,null,null,null,null,null,null,null,null,{"$f":"IF(LDAR_H_UU_summary!C1351=\"\",\"\",LDAR_H_UU_summary!C1351)","v":""},{"$f":"IF(COUNTIF(N$2:N1529,N1529)=1,N1529,\"\")","v":""},{"$f":"+IF(O1529=\"\",\"\",MAX(P$1:P1528)+1)","v":""},""]
[null,null,null,null,null,null,null,null,null,null,null,null,null,{"$f":"IF(LDAR_H_UU_summary!C1352=\"\",\"\",LDAR_H_UU_summary!C1352)","v":""},{"$f":"IF(COUNTIF(N$2:N1530,N1530)=1,N1530,\"\")","v":""},{"$f":"+IF(O1530=\"\",\"\",MAX(P$1:P1529)+1)","v":""},""]
[null,null,null,null,null,null,null,null,null,null,null,null,null,{"$f":"IF(LDAR_H_UU_summary!C1353=\"\",\"\",LDAR_H_UU_summary!C1353)","v":""},{"$f":"IF(COUNTIF(N$2:N1531,N1531)=1,N1531,\"\")","v":""},{"$f":"+IF(O1531=\"\",\"\",MAX(P$1:P1530)+1)","v":""},""]
[null,null,null,null,null,null,null,null,null,null,null,null,null,{"$f":"IF(LDAR_H_UU_summary!C1354=\"\",\"\",LDAR_H_UU_summary!C1354)","v":""},{"$f":"IF(COUNTIF(N$2:N1532,N1532)=1,N1532,\"\")","v":""},{"$f":"+IF(O1532=\"\",\"\",MAX(P$1:P1531)+1)","v":""},""]
[null,null,null,null,null,null,null,null,null,null,null,null,null,{"$f":"IF(LDAR_H_UU_summary!C1355=\"\",\"\",LDAR_H_UU_summary!C1355)","v":""},{"$f":"IF(COUNTIF(N$2:N1533,N1533)=1,N1533,\"\")","v":""},{"$f":"+IF(O1533=\"\",\"\",MAX(P$1:P1532)+1)","v":""},""]
[null,null,null,null,null,null,null,null,null,null,null,null,null,{"$f":"IF(LDAR_H_UU_summary!C1356=\"\",\"\",LDAR_H_UU_summary!C1356)","v":""},{"$f":"IF(COUNTIF(N$2:N1534,N1534)=1,N1534,\"\")","v":""},{"$f":"+IF(O1534=\"\",\"\",MAX(P$1:P1533)+1)","v":""},""]
[null,null,null,null,null,null,null,null,null,null,null,null,null,{"$f":"IF(LDAR_H_UU_summary!C1357=\"\",\"\",LDAR_H_UU_summary!C1357)","v":""},{"$f":"IF(COUNTIF(N$2:N1535,N1535)=1,N1535,\"\")","v":""},{"$f":"+IF(O1535=\"\",\"\",MAX(P$1:P1534)+1)","v":""},""]
[null,null,null,null,null,null,null,null,null,null,null,null,null,{"$f":"IF(LDAR_H_UU_summary!C1358=\"\",\"\",LDAR_H_UU_summary!C1358)","v":""},{"$f":"IF(COUNTIF(N$2:N1536,N1536)=1,N1536,\"\")","v":""},{"$f":"+IF(O1536=\"\",\"\",MAX(P$1:P1535)+1)","v":""},""]
[null,null,null,null,null,null,null,null,null,null,null,null,null,{"$f":"IF(LDAR_H_UU_summary!C1359=\"\",\"\",LDAR_H_UU_summary!C1359)","v":""},{"$f":"IF(COUNTIF(N$2:N1537,N1537)=1,N1537,\"\")","v":""},{"$f":"+IF(O1537=\"\",\"\",MAX(P$1:P1536)+1)","v":""},""]
[null,null,null,null,null,null,null,null,null,null,null,null,null,{"$f":"IF(LDAR_H_UU_summary!C1360=\"\",\"\",LDAR_H_UU_summary!C1360)","v":""},{"$f":"IF(COUNTIF(N$2:N1538,N1538)=1,N1538,\"\")","v":""},{"$f":"+IF(O1538=\"\",\"\",MAX(P$1:P1537)+1)","v":""},""]
[null,null,null,null,null,null,null,null,null,null,null,null,null,{"$f":"IF(LDAR_H_UU_summary!C1361=\"\",\"\",LDAR_H_UU_summary!C1361)","v":""},{"$f":"IF(COUNTIF(N$2:N1539,N1539)=1,N1539,\"\")","v":""},{"$f":"+IF(O1539=\"\",\"\",MAX(P$1:P1538)+1)","v":""},{"$f":"+IFERROR(INDEX($N$2:$N$2001,MATCH(ROW()-ROW($P$1),$P$2:$P$2001,0)),\"\")","v":""}]
[null,null,null,null,null,null,null,null,null,null,null,null,null,{"$f":"IF(LDAR_H_UU_summary!C1362=\"\",\"\",LDAR_H_UU_summary!C1362)","v":""},{"$f":"IF(COUNTIF(N$2:N1540,N1540)=1,N1540,\"\")","v":""},{"$f":"+IF(O1540=\"\",\"\",MAX(P$1:P1539)+1)","v":""},""]
[null,null,null,null,null,null,null,null,null,null,null,null,null,{"$f":"IF(LDAR_H_UU_summary!C1363=\"\",\"\",LDAR_H_UU_summary!C1363)","v":""},{"$f":"IF(COUNTIF(N$2:N1541,N1541)=1,N1541,\"\")","v":""},{"$f":"+IF(O1541=\"\",\"\",MAX(P$1:P1540)+1)","v":""},""]
[null,null,null,null,null,null,null,null,null,null,null,null,null,{"$f":"IF(LDAR_H_UU_summary!C1364=\"\",\"\",LDAR_H_UU_summary!C1364)","v":""},{"$f":"IF(COUNTIF(N$2:N1542,N1542)=1,N1542,\"\")","v":""},{"$f":"+IF(O1542=\"\",\"\",MAX(P$1:P1541)+1)","v":""},""]
[null,null,null,null,null,null,null,null,null,null,null,null,null,{"$f":"IF(LDAR_H_UU_summary!C1365=\"\",\"\",LDAR_H_UU_summary!C1365)","v":""},{"$f":"IF(COUNTIF(N$2:N1543,N1543)=1,N1543,\"\")","v":""},{"$f":"+IF(O1543=\"\",\"\",MAX(P$1:P1542)+1)","v":""},""]
[null,null,null,null,null,null,null,null,null,null,null,null,null,{"$f":"IF(LDAR_H_UU_summary!C1366=\"\",\"\",LDAR_H_UU_summary!C1366)","v":""},{"$f":"IF(COUNTIF(N$2:N1544,N1544)=1,N1544,\"\")","v":""},{"$f":"+IF(O1544=\"\",\"\",MAX(P$1:P1543)+1)","v":""},""]
[null,null,null,null,null,null,null,null,null,null,null,null,null,{"$f":"IF(LDAR_H_UU_summary!C1367=\"\",\"\",LDAR_H_UU_summary!C1367)","v":""},{"$f":"IF(COUNTIF(N$2:N1545,N1545)=1,N1545,\"\")","v":""},{"$f":"+IF(O1545=\"\",\"\",MAX(P$1:P1544)+1)","v":""},""]
[null,null,null,null,null,null,null,null,null,null,null,null,null,{"$f":"IF(LDAR_H_UU_summary!C1368=\"\",\"\",LDAR_H_UU_summary!C1368)","v":""},{"$f":"IF(COUNTIF(N$2:N1546,N1546)=1,N1546,\"\")","v":""},{"$f":"+IF(O1546=\"\",\"\",MAX(P$1:P1545)+1)","v":""},""]
[null,null,null,null,null,null,null,null,null,null,null,null,null,{"$f":"IF(LDAR_H_UU_summary!C1369=\"\",\"\",LDAR_H_UU_summary!C1369)","v":""},{"$f":"IF(COUNTIF(N$2:N1547,N1547)=1,N1547,\"\")","v":""},{"$f":"+IF(O1547=\"\",\"\",MAX(P$1:P1546)+1)","v":""},""]
[null,null,null,null,null,null,null,null,null,null,null,null,null,{"$f":"IF(LDAR_H_UU_summary!C1370=\"\",\"\",LDAR_H_UU_summary!C1370)","v":""},{"$f":"IF(COUNTIF(N$2:N1548,N1548)=1,N1548,\"\")","v":""},{"$f":"+IF(O1548=\"\",\"\",MAX(P$1:P1547)+1)","v":""},""]
[null,null,null,null,null,null,null,null,null,null,null,null,null,{"$f":"IF(LDAR_H_UU_summary!C1371=\"\",\"\",LDAR_H_UU_summary!C1371)","v":""},{"$f":"IF(COUNTIF(N$2:N1549,N1549)=1,N1549,\"\")","v":""},{"$f":"+IF(O1549=\"\",\"\",MAX(P$1:P1548)+1)","v":""},""]
[null,null,null,null,null,null,null,null,null,null,null,null,null,{"$f":"IF(LDAR_H_UU_summary!C1372=\"\",\"\",LDAR_H_UU_summary!C1372)","v":""},{"$f":"IF(COUNTIF(N$2:N1550,N1550)=1,N1550,\"\")","v":""},{"$f":"+IF(O1550=\"\",\"\",MAX(P$1:P1549)+1)","v":""},""]
[null,null,null,null,null,null,null,null,null,null,null,null,null,{"$f":"IF(LDAR_H_UU_summary!C1373=\"\",\"\",LDAR_H_UU_summary!C1373)","v":""},{"$f":"IF(COUNTIF(N$2:N1551,N1551)=1,N1551,\"\")","v":""},{"$f":"+IF(O1551=\"\",\"\",MAX(P$1:P1550)+1)","v":""},""]
[null,null,null,null,null,null,null,null,null,null,null,null,null,{"$f":"IF(LDAR_H_UU_summary!C1374=\"\",\"\",LDAR_H_UU_summary!C1374)","v":""},{"$f":"IF(COUNTIF(N$2:N1552,N1552)=1,N1552,\"\")","v":""},{"$f":"+IF(O1552=\"\",\"\",MAX(P$1:P1551)+1)","v":""},""]
[null,null,null,null,null,null,null,null,null,null,null,null,null,{"$f":"IF(LDAR_H_UU_summary!C1375=\"\",\"\",LDAR_H_UU_summary!C1375)","v":""},{"$f":"IF(COUNTIF(N$2:N1553,N1553)=1,N1553,\"\")","v":""},{"$f":"+IF(O1553=\"\",\"\",MAX(P$1:P1552)+1)","v":""},""]
[null,null,null,null,null,null,null,null,null,null,null,null,null,{"$f":"IF(LDAR_H_UU_summary!C1376=\"\",\"\",LDAR_H_UU_summary!C1376)","v":""},{"$f":"IF(COUNTIF(N$2:N1554,N1554)=1,N1554,\"\")","v":""},{"$f":"+IF(O1554=\"\",\"\",MAX(P$1:P1553)+1)","v":""},""]
[null,null,null,null,null,null,null,null,null,null,null,null,null,{"$f":"IF(LDAR_H_UU_summary!C1377=\"\",\"\",LDAR_H_UU_summary!C1377)","v":""},{"$f":"IF(COUNTIF(N$2:N1555,N1555)=1,N1555,\"\")","v":""},{"$f":"+IF(O1555=\"\",\"\",MAX(P$1:P1554)+1)","v":""},""]
[null,null,null,null,null,null,null,null,null,null,null,null,null,{"$f":"IF(LDAR_H_UU_summary!C1378=\"\",\"\",LDAR_H_UU_summary!C1378)","v":""},{"$f":"IF(COUNTIF(N$2:N1556,N1556)=1,N1556,\"\")","v":""},{"$f":"+IF(O1556=\"\",\"\",MAX(P$1:P1555)+1)","v":""},""]
[null,null,null,null,null,null,null,null,null,null,null,null,null,{"$f":"IF(LDAR_H_UU_summary!C1379=\"\",\"\",LDAR_H_UU_summary!C1379)","v":""},{"$f":"IF(COUNTIF(N$2:N1557,N1557)=1,N1557,\"\")","v":""},{"$f":"+IF(O1557=\"\",\"\",MAX(P$1:P1556)+1)","v":""},""]
[null,null,null,null,null,null,null,null,null,null,null,null,null,{"$f":"IF(LDAR_H_UU_summary!C1380=\"\",\"\",LDAR_H_UU_summary!C1380)","v":""},{"$f":"IF(COUNTIF(N$2:N1558,N1558)=1,N1558,\"\")","v":""},{"$f":"+IF(O1558=\"\",\"\",MAX(P$1:P1557)+1)","v":""},""]
[null,null,null,null,null,null,null,null,null,null,null,null,null,{"$f":"IF(LDAR_H_UU_summary!C1381=\"\",\"\",LDAR_H_UU_summary!C1381)","v":""},{"$f":"IF(COUNTIF(N$2:N1559,N1559)=1,N1559,\"\")","v":""},{"$f":"+IF(O1559=\"\",\"\",MAX(P$1:P1558)+1)","v":""},""]
[null,null,null,null,null,null,null,null,null,null,null,null,null,{"$f":"IF(LDAR_H_UU_summary!C1382=\"\",\"\",LDAR_H_UU_summary!C1382)","v":""},{"$f":"IF(COUNTIF(N$2:N1560,N1560)=1,N1560,\"\")","v":""},{"$f":"+IF(O1560=\"\",\"\",MAX(P$1:P1559)+1)","v":""},""]
[null,null,null,null,null,null,null,null,null,null,null,null,null,{"$f":"IF(LDAR_H_UU_summary!C1383=\"\",\"\",LDAR_H_UU_summary!C1383)","v":""},{"$f":"IF(COUNTIF(N$2:N1561,N1561)=1,N1561,\"\")","v":""},{"$f":"+IF(O1561=\"\",\"\",MAX(P$1:P1560)+1)","v":""},""]
[null,null,null,null,null,null,null,null,null,null,null,null,null,{"$f":"IF(LDAR_H_UU_summary!C1384=\"\",\"\",LDAR_H_UU_summary!C1384)","v":""},{"$f":"IF(COUNTIF(N$2:N1562,N1562)=1,N1562,\"\")","v":""},{"$f":"+IF(O1562=\"\",\"\",MAX(P$1:P1561)+1)","v":""},""]
[null,null,null,null,null,null,null,null,null,null,null,null,null,{"$f":"IF(LDAR_H_UU_summary!C1385=\"\",\"\",LDAR_H_UU_summary!C1385)","v":""},{"$f":"IF(COUNTIF(N$2:N1563,N1563)=1,N1563,\"\")","v":""},{"$f":"+IF(O1563=\"\",\"\",MAX(P$1:P1562)+1)","v":""},""]
[null,null,null,null,null,null,null,null,null,null,null,null,null,{"$f":"IF(LDAR_H_UU_summary!C1386=\"\",\"\",LDAR_H_UU_summary!C1386)","v":""},{"$f":"IF(COUNTIF(N$2:N1564,N1564)=1,N1564,\"\")","v":""},{"$f":"+IF(O1564=\"\",\"\",MAX(P$1:P1563)+1)","v":""},""]
[null,null,null,null,null,null,null,null,null,null,null,null,null,{"$f":"IF(LDAR_H_UU_summary!C1387=\"\",\"\",LDAR_H_UU_summary!C1387)","v":""},{"$f":"IF(COUNTIF(N$2:N1565,N1565)=1,N1565,\"\")","v":""},{"$f":"+IF(O1565=\"\",\"\",MAX(P$1:P1564)+1)","v":""},""]
[null,null,null,null,null,null,null,null,null,null,null,null,null,{"$f":"IF(LDAR_H_UU_summary!C1388=\"\",\"\",LDAR_H_UU_summary!C1388)","v":""},{"$f":"IF(COUNTIF(N$2:N1566,N1566)=1,N1566,\"\")","v":""},{"$f":"+IF(O1566=\"\",\"\",MAX(P$1:P1565)+1)","v":""},""]
[null,null,null,null,null,null,null,null,null,null,null,null,null,{"$f":"IF(LDAR_H_UU_summary!C1389=\"\",\"\",LDAR_H_UU_summary!C1389)","v":""},{"$f":"IF(COUNTIF(N$2:N1567,N1567)=1,N1567,\"\")","v":""},{"$f":"+IF(O1567=\"\",\"\",MAX(P$1:P1566)+1)","v":""},""]
[null,null,null,null,null,null,null,null,null,null,null,null,null,{"$f":"IF(LDAR_H_UU_summary!C1390=\"\",\"\",LDAR_H_UU_summary!C1390)","v":""},{"$f":"IF(COUNTIF(N$2:N1568,N1568)=1,N1568,\"\")","v":""},{"$f":"+IF(O1568=\"\",\"\",MAX(P$1:P1567)+1)","v":""},""]
[null,null,null,null,null,null,null,null,null,null,null,null,null,{"$f":"IF(LDAR_H_UU_summary!C1391=\"\",\"\",LDAR_H_UU_summary!C1391)","v":""},{"$f":"IF(COUNTIF(N$2:N1569,N1569)=1,N1569,\"\")","v":""},{"$f":"+IF(O1569=\"\",\"\",MAX(P$1:P1568)+1)","v":""},""]
[null,null,null,null,null,null,null,null,null,null,null,null,null,{"$f":"IF(LDAR_H_UU_summary!C1392=\"\",\"\",LDAR_H_UU_summary!C1392)","v":""},{"$f":"IF(COUNTIF(N$2:N1570,N1570)=1,N1570,\"\")","v":""},{"$f":"+IF(O1570=\"\",\"\",MAX(P$1:P1569)+1)","v":""},""]
[null,null,null,null,null,null,null,null,null,null,null,null,null,{"$f":"IF(LDAR_H_UU_summary!C1393=\"\",\"\",LDAR_H_UU_summary!C1393)","v":""},{"$f":"IF(COUNTIF(N$2:N1571,N1571)=1,N1571,\"\")","v":""},{"$f":"+IF(O1571=\"\",\"\",MAX(P$1:P1570)+1)","v":""},""]
[null,null,null,null,null,null,null,null,null,null,null,null,null,{"$f":"IF(LDAR_H_UU_summary!C1394=\"\",\"\",LDAR_H_UU_summary!C1394)","v":""},{"$f":"IF(COUNTIF(N$2:N1572,N1572)=1,N1572,\"\")","v":""},{"$f":"+IF(O1572=\"\",\"\",MAX(P$1:P1571)+1)","v":""},""]
[null,null,null,null,null,null,null,null,null,null,null,null,null,{"$f":"IF(LDAR_H_UU_summary!C1395=\"\",\"\",LDAR_H_UU_summary!C1395)","v":""},{"$f":"IF(COUNTIF(N$2:N1573,N1573)=1,N1573,\"\")","v":""},{"$f":"+IF(O1573=\"\",\"\",MAX(P$1:P1572)+1)","v":""},""]
[null,null,null,null,null,null,null,null,null,null,null,null,null,{"$f":"IF(LDAR_H_UU_summary!C1396=\"\",\"\",LDAR_H_UU_summary!C1396)","v":""},{"$f":"IF(COUNTIF(N$2:N1574,N1574)=1,N1574,\"\")","v":""},{"$f":"+IF(O1574=\"\",\"\",MAX(P$1:P1573)+1)","v":""},""]
[null,null,null,null,null,null,null,null,null,null,null,null,null,{"$f":"IF(LDAR_H_UU_summary!C1397=\"\",\"\",LDAR_H_UU_summary!C1397)","v":""},{"$f":"IF(COUNTIF(N$2:N1575,N1575)=1,N1575,\"\")","v":""},{"$f":"+IF(O1575=\"\",\"\",MAX(P$1:P1574)+1)","v":""},""]
[null,null,null,null,null,null,null,null,null,null,null,null,null,{"$f":"IF(LDAR_H_UU_summary!C1398=\"\",\"\",LDAR_H_UU_summary!C1398)","v":""},{"$f":"IF(COUNTIF(N$2:N1576,N1576)=1,N1576,\"\")","v":""},{"$f":"+IF(O1576=\"\",\"\",MAX(P$1:P1575)+1)","v":""},""]
[null,null,null,null,null,null,null,null,null,null,null,null,null,{"$f":"IF(LDAR_H_UU_summary!C1399=\"\",\"\",LDAR_H_UU_summary!C1399)","v":""},{"$f":"IF(COUNTIF(N$2:N1577,N1577)=1,N1577,\"\")","v":""},{"$f":"+IF(O1577=\"\",\"\",MAX(P$1:P1576)+1)","v":""},""]
[null,null,null,null,null,null,null,null,null,null,null,null,null,{"$f":"IF(LDAR_H_UU_summary!C1400=\"\",\"\",LDAR_H_UU_summary!C1400)","v":""},{"$f":"IF(COUNTIF(N$2:N1578,N1578)=1,N1578,\"\")","v":""},{"$f":"+IF(O1578=\"\",\"\",MAX(P$1:P1577)+1)","v":""},""]
[null,null,null,null,null,null,null,null,null,null,null,null,null,{"$f":"IF(LDAR_H_UU_summary!C1401=\"\",\"\",LDAR_H_UU_summary!C1401)","v":""},{"$f":"IF(COUNTIF(N$2:N1579,N1579)=1,N1579,\"\")","v":""},{"$f":"+IF(O1579=\"\",\"\",MAX(P$1:P1578)+1)","v":""},""]
[null,null,null,null,null,null,null,null,null,null,null,null,null,{"$f":"IF(LDAR_H_UU_summary!C1402=\"\",\"\",LDAR_H_UU_summary!C1402)","v":""},{"$f":"IF(COUNTIF(N$2:N1580,N1580)=1,N1580,\"\")","v":""},{"$f":"+IF(O1580=\"\",\"\",MAX(P$1:P1579)+1)","v":""},""]
[null,null,null,null,null,null,null,null,null,null,null,null,null,{"$f":"IF(LDAR_H_UU_summary!C1403=\"\",\"\",LDAR_H_UU_summary!C1403)","v":""},{"$f":"IF(COUNTIF(N$2:N1581,N1581)=1,N1581,\"\")","v":""},{"$f":"+IF(O1581=\"\",\"\",MAX(P$1:P1580)+1)","v":""},""]
[null,null,null,null,null,null,null,null,null,null,null,null,null,{"$f":"IF(LDAR_H_UU_summary!C1404=\"\",\"\",LDAR_H_UU_summary!C1404)","v":""},{"$f":"IF(COUNTIF(N$2:N1582,N1582)=1,N1582,\"\")","v":""},{"$f":"+IF(O1582=\"\",\"\",MAX(P$1:P1581)+1)","v":""},""]
[null,null,null,null,null,null,null,null,null,null,null,null,null,{"$f":"IF(LDAR_H_UU_summary!C1405=\"\",\"\",LDAR_H_UU_summary!C1405)","v":""},{"$f":"IF(COUNTIF(N$2:N1583,N1583)=1,N1583,\"\")","v":""},{"$f":"+IF(O1583=\"\",\"\",MAX(P$1:P1582)+1)","v":""},""]
[null,null,null,null,null,null,null,null,null,null,null,null,null,{"$f":"IF(LDAR_H_UU_summary!C1406=\"\",\"\",LDAR_H_UU_summary!C1406)","v":""},{"$f":"IF(COUNTIF(N$2:N1584,N1584)=1,N1584,\"\")","v":""},{"$f":"+IF(O1584=\"\",\"\",MAX(P$1:P1583)+1)","v":""},""]
[null,null,null,null,null,null,null,null,null,null,null,null,null,{"$f":"IF(LDAR_H_UU_summary!C1407=\"\",\"\",LDAR_H_UU_summary!C1407)","v":""},{"$f":"IF(COUNTIF(N$2:N1585,N1585)=1,N1585,\"\")","v":""},{"$f":"+IF(O1585=\"\",\"\",MAX(P$1:P1584)+1)","v":""},""]
[null,null,null,null,null,null,null,null,null,null,null,null,null,{"$f":"IF(LDAR_H_UU_summary!C1408=\"\",\"\",LDAR_H_UU_summary!C1408)","v":""},{"$f":"IF(COUNTIF(N$2:N1586,N1586)=1,N1586,\"\")","v":""},{"$f":"+IF(O1586=\"\",\"\",MAX(P$1:P1585)+1)","v":""},""]
[null,null,null,null,null,null,null,null,null,null,null,null,null,{"$f":"IF(LDAR_H_UU_summary!C1409=\"\",\"\",LDAR_H_UU_summary!C1409)","v":""},{"$f":"IF(COUNTIF(N$2:N1587,N1587)=1,N1587,\"\")","v":""},{"$f":"+IF(O1587=\"\",\"\",MAX(P$1:P1586)+1)","v":""},""]
[null,null,null,null,null,null,null,null,null,null,null,null,null,{"$f":"IF(LDAR_H_UU_summary!C1410=\"\",\"\",LDAR_H_UU_summary!C1410)","v":""},{"$f":"IF(COUNTIF(N$2:N1588,N1588)=1,N1588,\"\")","v":""},{"$f":"+IF(O1588=\"\",\"\",MAX(P$1:P1587)+1)","v":""},""]
[null,null,null,null,null,null,null,null,null,null,null,null,null,{"$f":"IF(LDAR_H_UU_summary!C1411=\"\",\"\",LDAR_H_UU_summary!C1411)","v":""},{"$f":"IF(COUNTIF(N$2:N1589,N1589)=1,N1589,\"\")","v":""},{"$f":"+IF(O1589=\"\",\"\",MAX(P$1:P1588)+1)","v":""},""]
[null,null,null,null,null,null,null,null,null,null,null,null,null,{"$f":"IF(LDAR_H_UU_summary!C1412=\"\",\"\",LDAR_H_UU_summary!C1412)","v":""},{"$f":"IF(COUNTIF(N$2:N1590,N1590)=1,N1590,\"\")","v":""},{"$f":"+IF(O1590=\"\",\"\",MAX(P$1:P1589)+1)","v":""},""]
[null,null,null,null,null,null,null,null,null,null,null,null,null,{"$f":"IF(LDAR_H_UU_summary!C1413=\"\",\"\",LDAR_H_UU_summary!C1413)","v":""},{"$f":"IF(COUNTIF(N$2:N1591,N1591)=1,N1591,\"\")","v":""},{"$f":"+IF(O1591=\"\",\"\",MAX(P$1:P1590)+1)","v":""},""]
[null,null,null,null,null,null,null,null,null,null,null,null,null,{"$f":"IF(LDAR_H_UU_summary!C1414=\"\",\"\",LDAR_H_UU_summary!C1414)","v":""},{"$f":"IF(COUNTIF(N$2:N1592,N1592)=1,N1592,\"\")","v":""},{"$f":"+IF(O1592=\"\",\"\",MAX(P$1:P1591)+1)","v":""},""]
[null,null,null,null,null,null,null,null,null,null,null,null,null,{"$f":"IF(LDAR_H_UU_summary!C1415=\"\",\"\",LDAR_H_UU_summary!C1415)","v":""},{"$f":"IF(COUNTIF(N$2:N1593,N1593)=1,N1593,\"\")","v":""},{"$f":"+IF(O1593=\"\",\"\",MAX(P$1:P1592)+1)","v":""},""]
[null,null,null,null,null,null,null,null,null,null,null,null,null,{"$f":"IF(LDAR_H_UU_summary!C1416=\"\",\"\",LDAR_H_UU_summary!C1416)","v":""},{"$f":"IF(COUNTIF(N$2:N1594,N1594)=1,N1594,\"\")","v":""},{"$f":"+IF(O1594=\"\",\"\",MAX(P$1:P1593)+1)","v":""},""]
[null,null,null,null,null,null,null,null,null,null,null,null,null,{"$f":"IF(LDAR_H_UU_summary!C1417=\"\",\"\",LDAR_H_UU_summary!C1417)","v":""},{"$f":"IF(COUNTIF(N$2:N1595,N1595)=1,N1595,\"\")","v":""},{"$f":"+IF(O1595=\"\",\"\",MAX(P$1:P1594)+1)","v":""},""]
[null,null,null,null,null,null,null,null,null,null,null,null,null,{"$f":"IF(LDAR_H_UU_summary!C1418=\"\",\"\",LDAR_H_UU_summary!C1418)","v":""},{"$f":"IF(COUNTIF(N$2:N1596,N1596)=1,N1596,\"\")","v":""},{"$f":"+IF(O1596=\"\",\"\",MAX(P$1:P1595)+1)","v":""},""]
[null,null,null,null,null,null,null,null,null,null,null,null,null,{"$f":"IF(LDAR_H_UU_summary!C1419=\"\",\"\",LDAR_H_UU_summary!C1419)","v":""},{"$f":"IF(COUNTIF(N$2:N1597,N1597)=1,N1597,\"\")","v":""},{"$f":"+IF(O1597=\"\",\"\",MAX(P$1:P1596)+1)","v":""},""]
[null,null,null,null,null,null,null,null,null,null,null,null,null,{"$f":"IF(LDAR_H_UU_summary!C1420=\"\",\"\",LDAR_H_UU_summary!C1420)","v":""},{"$f":"IF(COUNTIF(N$2:N1598,N1598)=1,N1598,\"\")","v":""},{"$f":"+IF(O1598=\"\",\"\",MAX(P$1:P1597)+1)","v":""},""]
[null,null,null,null,null,null,null,null,null,null,null,null,null,{"$f":"IF(LDAR_H_UU_summary!C1421=\"\",\"\",LDAR_H_UU_summary!C1421)","v":""},{"$f":"IF(COUNTIF(N$2:N1599,N1599)=1,N1599,\"\")","v":""},{"$f":"+IF(O1599=\"\",\"\",MAX(P$1:P1598)+1)","v":""},""]
[null,null,null,null,null,null,null,null,null,null,null,null,null,{"$f":"IF(LDAR_H_UU_summary!C1422=\"\",\"\",LDAR_H_UU_summary!C1422)","v":""},{"$f":"IF(COUNTIF(N$2:N1600,N1600)=1,N1600,\"\")","v":""},{"$f":"+IF(O1600=\"\",\"\",MAX(P$1:P1599)+1)","v":""},""]
[null,null,null,null,null,null,null,null,null,null,null,null,null,{"$f":"IF(LDAR_H_UU_summary!C1423=\"\",\"\",LDAR_H_UU_summary!C1423)","v":""},{"$f":"IF(COUNTIF(N$2:N1601,N1601)=1,N1601,\"\")","v":""},{"$f":"+IF(O1601=\"\",\"\",MAX(P$1:P1600)+1)","v":""},""]
[null,null,null,null,null,null,null,null,null,null,null,null,null,{"$f":"IF(LDAR_H_UU_summary!C1424=\"\",\"\",LDAR_H_UU_summary!C1424)","v":""},{"$f":"IF(COUNTIF(N$2:N1602,N1602)=1,N1602,\"\")","v":""},{"$f":"+IF(O1602=\"\",\"\",MAX(P$1:P1601)+1)","v":""},""]
[null,null,null,null,null,null,null,null,null,null,null,null,null,{"$f":"IF(LDAR_H_UU_summary!C1425=\"\",\"\",LDAR_H_UU_summary!C1425)","v":""},{"$f":"IF(COUNTIF(N$2:N1603,N1603)=1,N1603,\"\")","v":""},{"$f":"+IF(O1603=\"\",\"\",MAX(P$1:P1602)+1)","v":""},{"$f":"+IFERROR(INDEX($N$2:$N$2001,MATCH(ROW()-ROW($P$1),$P$2:$P$2001,0)),\"\")","v":""}]
[null,null,null,null,null,null,null,null,null,null,null,null,null,{"$f":"IF(LDAR_H_UU_summary!C1426=\"\",\"\",LDAR_H_UU_summary!C1426)","v":""},{"$f":"IF(COUNTIF(N$2:N1604,N1604)=1,N1604,\"\")","v":""},{"$f":"+IF(O1604=\"\",\"\",MAX(P$1:P1603)+1)","v":""},""]
[null,null,null,null,null,null,null,null,null,null,null,null,null,{"$f":"IF(LDAR_H_UU_summary!C1427=\"\",\"\",LDAR_H_UU_summary!C1427)","v":""},{"$f":"IF(COUNTIF(N$2:N1605,N1605)=1,N1605,\"\")","v":""},{"$f":"+IF(O1605=\"\",\"\",MAX(P$1:P1604)+1)","v":""},""]
[null,null,null,null,null,null,null,null,null,null,null,null,null,{"$f":"IF(LDAR_H_UU_summary!C1428=\"\",\"\",LDAR_H_UU_summary!C1428)","v":""},{"$f":"IF(COUNTIF(N$2:N1606,N1606)=1,N1606,\"\")","v":""},{"$f":"+IF(O1606=\"\",\"\",MAX(P$1:P1605)+1)","v":""},""]
[null,null,null,null,null,null,null,null,null,null,null,null,null,{"$f":"IF(LDAR_H_UU_summary!C1429=\"\",\"\",LDAR_H_UU_summary!C1429)","v":""},{"$f":"IF(COUNTIF(N$2:N1607,N1607)=1,N1607,\"\")","v":""},{"$f":"+IF(O1607=\"\",\"\",MAX(P$1:P1606)+1)","v":""},""]
[null,null,null,null,null,null,null,null,null,null,null,null,null,{"$f":"IF(LDAR_H_UU_summary!C1430=\"\",\"\",LDAR_H_UU_summary!C1430)","v":""},{"$f":"IF(COUNTIF(N$2:N1608,N1608)=1,N1608,\"\")","v":""},{"$f":"+IF(O1608=\"\",\"\",MAX(P$1:P1607)+1)","v":""},""]
[null,null,null,null,null,null,null,null,null,null,null,null,null,{"$f":"IF(LDAR_H_UU_summary!C1431=\"\",\"\",LDAR_H_UU_summary!C1431)","v":""},{"$f":"IF(COUNTIF(N$2:N1609,N1609)=1,N1609,\"\")","v":""},{"$f":"+IF(O1609=\"\",\"\",MAX(P$1:P1608)+1)","v":""},""]
[null,null,null,null,null,null,null,null,null,null,null,null,null,{"$f":"IF(LDAR_H_UU_summary!C1432=\"\",\"\",LDAR_H_UU_summary!C1432)","v":""},{"$f":"IF(COUNTIF(N$2:N1610,N1610)=1,N1610,\"\")","v":""},{"$f":"+IF(O1610=\"\",\"\",MAX(P$1:P1609)+1)","v":""},""]
[null,null,null,null,null,null,null,null,null,null,null,null,null,{"$f":"IF(LDAR_H_UU_summary!C1433=\"\",\"\",LDAR_H_UU_summary!C1433)","v":""},{"$f":"IF(COUNTIF(N$2:N1611,N1611)=1,N1611,\"\")","v":""},{"$f":"+IF(O1611=\"\",\"\",MAX(P$1:P1610)+1)","v":""},""]
[null,null,null,null,null,null,null,null,null,null,null,null,null,{"$f":"IF(LDAR_H_UU_summary!C1434=\"\",\"\",LDAR_H_UU_summary!C1434)","v":""},{"$f":"IF(COUNTIF(N$2:N1612,N1612)=1,N1612,\"\")","v":""},{"$f":"+IF(O1612=\"\",\"\",MAX(P$1:P1611)+1)","v":""},""]
[null,null,null,null,null,null,null,null,null,null,null,null,null,{"$f":"IF(LDAR_H_UU_summary!C1435=\"\",\"\",LDAR_H_UU_summary!C1435)","v":""},{"$f":"IF(COUNTIF(N$2:N1613,N1613)=1,N1613,\"\")","v":""},{"$f":"+IF(O1613=\"\",\"\",MAX(P$1:P1612)+1)","v":""},""]
[null,null,null,null,null,null,null,null,null,null,null,null,null,{"$f":"IF(LDAR_H_UU_summary!C1436=\"\",\"\",LDAR_H_UU_summary!C1436)","v":""},{"$f":"IF(COUNTIF(N$2:N1614,N1614)=1,N1614,\"\")","v":""},{"$f":"+IF(O1614=\"\",\"\",MAX(P$1:P1613)+1)","v":""},""]
[null,null,null,null,null,null,null,null,null,null,null,null,null,{"$f":"IF(LDAR_H_UU_summary!C1437=\"\",\"\",LDAR_H_UU_summary!C1437)","v":""},{"$f":"IF(COUNTIF(N$2:N1615,N1615)=1,N1615,\"\")","v":""},{"$f":"+IF(O1615=\"\",\"\",MAX(P$1:P1614)+1)","v":""},""]
[null,null,null,null,null,null,null,null,null,null,null,null,null,{"$f":"IF(LDAR_H_UU_summary!C1438=\"\",\"\",LDAR_H_UU_summary!C1438)","v":""},{"$f":"IF(COUNTIF(N$2:N1616,N1616)=1,N1616,\"\")","v":""},{"$f":"+IF(O1616=\"\",\"\",MAX(P$1:P1615)+1)","v":""},""]
[null,null,null,null,null,null,null,null,null,null,null,null,null,{"$f":"IF(LDAR_H_UU_summary!C1439=\"\",\"\",LDAR_H_UU_summary!C1439)","v":""},{"$f":"IF(COUNTIF(N$2:N1617,N1617)=1,N1617,\"\")","v":""},{"$f":"+IF(O1617=\"\",\"\",MAX(P$1:P1616)+1)","v":""},""]
[null,null,null,null,null,null,null,null,null,null,null,null,null,{"$f":"IF(LDAR_H_UU_summary!C1440=\"\",\"\",LDAR_H_UU_summary!C1440)","v":""},{"$f":"IF(COUNTIF(N$2:N1618,N1618)=1,N1618,\"\")","v":""},{"$f":"+IF(O1618=\"\",\"\",MAX(P$1:P1617)+1)","v":""},""]
[null,null,null,null,null,null,null,null,null,null,null,null,null,{"$f":"IF(LDAR_H_UU_summary!C1441=\"\",\"\",LDAR_H_UU_summary!C1441)","v":""},{"$f":"IF(COUNTIF(N$2:N1619,N1619)=1,N1619,\"\")","v":""},{"$f":"+IF(O1619=\"\",\"\",MAX(P$1:P1618)+1)","v":""},""]
[null,null,null,null,null,null,null,null,null,null,null,null,null,{"$f":"IF(LDAR_H_UU_summary!C1442=\"\",\"\",LDAR_H_UU_summary!C1442)","v":""},{"$f":"IF(COUNTIF(N$2:N1620,N1620)=1,N1620,\"\")","v":""},{"$f":"+IF(O1620=\"\",\"\",MAX(P$1:P1619)+1)","v":""},""]
[null,null,null,null,null,null,null,null,null,null,null,null,null,{"$f":"IF(LDAR_H_UU_summary!C1443=\"\",\"\",LDAR_H_UU_summary!C1443)","v":""},{"$f":"IF(COUNTIF(N$2:N1621,N1621)=1,N1621,\"\")","v":""},{"$f":"+IF(O1621=\"\",\"\",MAX(P$1:P1620)+1)","v":""},""]
[null,null,null,null,null,null,null,null,null,null,null,null,null,{"$f":"IF(LDAR_H_UU_summary!C1444=\"\",\"\",LDAR_H_UU_summary!C1444)","v":""},{"$f":"IF(COUNTIF(N$2:N1622,N1622)=1,N1622,\"\")","v":""},{"$f":"+IF(O1622=\"\",\"\",MAX(P$1:P1621)+1)","v":""},""]
[null,null,null,null,null,null,null,null,null,null,null,null,null,{"$f":"IF(LDAR_H_UU_summary!C1445=\"\",\"\",LDAR_H_UU_summary!C1445)","v":""},{"$f":"IF(COUNTIF(N$2:N1623,N1623)=1,N1623,\"\")","v":""},{"$f":"+IF(O1623=\"\",\"\",MAX(P$1:P1622)+1)","v":""},""]
[null,null,null,null,null,null,null,null,null,null,null,null,null,{"$f":"IF(LDAR_H_UU_summary!C1446=\"\",\"\",LDAR_H_UU_summary!C1446)","v":""},{"$f":"IF(COUNTIF(N$2:N1624,N1624)=1,N1624,\"\")","v":""},{"$f":"+IF(O1624=\"\",\"\",MAX(P$1:P1623)+1)","v":""},""]
[null,null,null,null,null,null,null,null,null,null,null,null,null,{"$f":"IF(LDAR_H_UU_summary!C1447=\"\",\"\",LDAR_H_UU_summary!C1447)","v":""},{"$f":"IF(COUNTIF(N$2:N1625,N1625)=1,N1625,\"\")","v":""},{"$f":"+IF(O1625=\"\",\"\",MAX(P$1:P1624)+1)","v":""},""]
[null,null,null,null,null,null,null,null,null,null,null,null,null,{"$f":"IF(LDAR_H_UU_summary!C1448=\"\",\"\",LDAR_H_UU_summary!C1448)","v":""},{"$f":"IF(COUNTIF(N$2:N1626,N1626)=1,N1626,\"\")","v":""},{"$f":"+IF(O1626=\"\",\"\",MAX(P$1:P1625)+1)","v":""},""]
[null,null,null,null,null,null,null,null,null,null,null,null,null,{"$f":"IF(LDAR_H_UU_summary!C1449=\"\",\"\",LDAR_H_UU_summary!C1449)","v":""},{"$f":"IF(COUNTIF(N$2:N1627,N1627)=1,N1627,\"\")","v":""},{"$f":"+IF(O1627=\"\",\"\",MAX(P$1:P1626)+1)","v":""},""]
[null,null,null,null,null,null,null,null,null,null,null,null,null,{"$f":"IF(LDAR_H_UU_summary!C1450=\"\",\"\",LDAR_H_UU_summary!C1450)","v":""},{"$f":"IF(COUNTIF(N$2:N1628,N1628)=1,N1628,\"\")","v":""},{"$f":"+IF(O1628=\"\",\"\",MAX(P$1:P1627)+1)","v":""},""]
[null,null,null,null,null,null,null,null,null,null,null,null,null,{"$f":"IF(LDAR_H_UU_summary!C1451=\"\",\"\",LDAR_H_UU_summary!C1451)","v":""},{"$f":"IF(COUNTIF(N$2:N1629,N1629)=1,N1629,\"\")","v":""},{"$f":"+IF(O1629=\"\",\"\",MAX(P$1:P1628)+1)","v":""},""]
[null,null,null,null,null,null,null,null,null,null,null,null,null,{"$f":"IF(LDAR_H_UU_summary!C1452=\"\",\"\",LDAR_H_UU_summary!C1452)","v":""},{"$f":"IF(COUNTIF(N$2:N1630,N1630)=1,N1630,\"\")","v":""},{"$f":"+IF(O1630=\"\",\"\",MAX(P$1:P1629)+1)","v":""},""]
[null,null,null,null,null,null,null,null,null,null,null,null,null,{"$f":"IF(LDAR_H_UU_summary!C1453=\"\",\"\",LDAR_H_UU_summary!C1453)","v":""},{"$f":"IF(COUNTIF(N$2:N1631,N1631)=1,N1631,\"\")","v":""},{"$f":"+IF(O1631=\"\",\"\",MAX(P$1:P1630)+1)","v":""},""]
[null,null,null,null,null,null,null,null,null,null,null,null,null,{"$f":"IF(LDAR_H_UU_summary!C1454=\"\",\"\",LDAR_H_UU_summary!C1454)","v":""},{"$f":"IF(COUNTIF(N$2:N1632,N1632)=1,N1632,\"\")","v":""},{"$f":"+IF(O1632=\"\",\"\",MAX(P$1:P1631)+1)","v":""},""]
[null,null,null,null,null,null,null,null,null,null,null,null,null,{"$f":"IF(LDAR_H_UU_summary!C1455=\"\",\"\",LDAR_H_UU_summary!C1455)","v":""},{"$f":"IF(COUNTIF(N$2:N1633,N1633)=1,N1633,\"\")","v":""},{"$f":"+IF(O1633=\"\",\"\",MAX(P$1:P1632)+1)","v":""},""]
[null,null,null,null,null,null,null,null,null,null,null,null,null,{"$f":"IF(LDAR_H_UU_summary!C1456=\"\",\"\",LDAR_H_UU_summary!C1456)","v":""},{"$f":"IF(COUNTIF(N$2:N1634,N1634)=1,N1634,\"\")","v":""},{"$f":"+IF(O1634=\"\",\"\",MAX(P$1:P1633)+1)","v":""},""]
[null,null,null,null,null,null,null,null,null,null,null,null,null,{"$f":"IF(LDAR_H_UU_summary!C1457=\"\",\"\",LDAR_H_UU_summary!C1457)","v":""},{"$f":"IF(COUNTIF(N$2:N1635,N1635)=1,N1635,\"\")","v":""},{"$f":"+IF(O1635=\"\",\"\",MAX(P$1:P1634)+1)","v":""},""]
[null,null,null,null,null,null,null,null,null,null,null,null,null,{"$f":"IF(LDAR_H_UU_summary!C1458=\"\",\"\",LDAR_H_UU_summary!C1458)","v":""},{"$f":"IF(COUNTIF(N$2:N1636,N1636)=1,N1636,\"\")","v":""},{"$f":"+IF(O1636=\"\",\"\",MAX(P$1:P1635)+1)","v":""},""]
[null,null,null,null,null,null,null,null,null,null,null,null,null,{"$f":"IF(LDAR_H_UU_summary!C1459=\"\",\"\",LDAR_H_UU_summary!C1459)","v":""},{"$f":"IF(COUNTIF(N$2:N1637,N1637)=1,N1637,\"\")","v":""},{"$f":"+IF(O1637=\"\",\"\",MAX(P$1:P1636)+1)","v":""},""]
[null,null,null,null,null,null,null,null,null,null,null,null,null,{"$f":"IF(LDAR_H_UU_summary!C1460=\"\",\"\",LDAR_H_UU_summary!C1460)","v":""},{"$f":"IF(COUNTIF(N$2:N1638,N1638)=1,N1638,\"\")","v":""},{"$f":"+IF(O1638=\"\",\"\",MAX(P$1:P1637)+1)","v":""},""]
[null,null,null,null,null,null,null,null,null,null,null,null,null,{"$f":"IF(LDAR_H_UU_summary!C1461=\"\",\"\",LDAR_H_UU_summary!C1461)","v":""},{"$f":"IF(COUNTIF(N$2:N1639,N1639)=1,N1639,\"\")","v":""},{"$f":"+IF(O1639=\"\",\"\",MAX(P$1:P1638)+1)","v":""},""]
[null,null,null,null,null,null,null,null,null,null,null,null,null,{"$f":"IF(LDAR_H_UU_summary!C1462=\"\",\"\",LDAR_H_UU_summary!C1462)","v":""},{"$f":"IF(COUNTIF(N$2:N1640,N1640)=1,N1640,\"\")","v":""},{"$f":"+IF(O1640=\"\",\"\",MAX(P$1:P1639)+1)","v":""},""]
[null,null,null,null,null,null,null,null,null,null,null,null,null,{"$f":"IF(LDAR_H_UU_summary!C1463=\"\",\"\",LDAR_H_UU_summary!C1463)","v":""},{"$f":"IF(COUNTIF(N$2:N1641,N1641)=1,N1641,\"\")","v":""},{"$f":"+IF(O1641=\"\",\"\",MAX(P$1:P1640)+1)","v":""},""]
[null,null,null,null,null,null,null,null,null,null,null,null,null,{"$f":"IF(LDAR_H_UU_summary!C1464=\"\",\"\",LDAR_H_UU_summary!C1464)","v":""},{"$f":"IF(COUNTIF(N$2:N1642,N1642)=1,N1642,\"\")","v":""},{"$f":"+IF(O1642=\"\",\"\",MAX(P$1:P1641)+1)","v":""},""]
[null,null,null,null,null,null,null,null,null,null,null,null,null,{"$f":"IF(LDAR_H_UU_summary!C1465=\"\",\"\",LDAR_H_UU_summary!C1465)","v":""},{"$f":"IF(COUNTIF(N$2:N1643,N1643)=1,N1643,\"\")","v":""},{"$f":"+IF(O1643=\"\",\"\",MAX(P$1:P1642)+1)","v":""},""]
[null,null,null,null,null,null,null,null,null,null,null,null,null,{"$f":"IF(LDAR_H_UU_summary!C1466=\"\",\"\",LDAR_H_UU_summary!C1466)","v":""},{"$f":"IF(COUNTIF(N$2:N1644,N1644)=1,N1644,\"\")","v":""},{"$f":"+IF(O1644=\"\",\"\",MAX(P$1:P1643)+1)","v":""},""]
[null,null,null,null,null,null,null,null,null,null,null,null,null,{"$f":"IF(LDAR_H_UU_summary!C1467=\"\",\"\",LDAR_H_UU_summary!C1467)","v":""},{"$f":"IF(COUNTIF(N$2:N1645,N1645)=1,N1645,\"\")","v":""},{"$f":"+IF(O1645=\"\",\"\",MAX(P$1:P1644)+1)","v":""},""]
[null,null,null,null,null,null,null,null,null,null,null,null,null,{"$f":"IF(LDAR_H_UU_summary!C1468=\"\",\"\",LDAR_H_UU_summary!C1468)","v":""},{"$f":"IF(COUNTIF(N$2:N1646,N1646)=1,N1646,\"\")","v":""},{"$f":"+IF(O1646=\"\",\"\",MAX(P$1:P1645)+1)","v":""},""]
[null,null,null,null,null,null,null,null,null,null,null,null,null,{"$f":"IF(LDAR_H_UU_summary!C1469=\"\",\"\",LDAR_H_UU_summary!C1469)","v":""},{"$f":"IF(COUNTIF(N$2:N1647,N1647)=1,N1647,\"\")","v":""},{"$f":"+IF(O1647=\"\",\"\",MAX(P$1:P1646)+1)","v":""},""]
[null,null,null,null,null,null,null,null,null,null,null,null,null,{"$f":"IF(LDAR_H_UU_summary!C1470=\"\",\"\",LDAR_H_UU_summary!C1470)","v":""},{"$f":"IF(COUNTIF(N$2:N1648,N1648)=1,N1648,\"\")","v":""},{"$f":"+IF(O1648=\"\",\"\",MAX(P$1:P1647)+1)","v":""},""]
[null,null,null,null,null,null,null,null,null,null,null,null,null,{"$f":"IF(LDAR_H_UU_summary!C1471=\"\",\"\",LDAR_H_UU_summary!C1471)","v":""},{"$f":"IF(COUNTIF(N$2:N1649,N1649)=1,N1649,\"\")","v":""},{"$f":"+IF(O1649=\"\",\"\",MAX(P$1:P1648)+1)","v":""},""]
[null,null,null,null,null,null,null,null,null,null,null,null,null,{"$f":"IF(LDAR_H_UU_summary!C1472=\"\",\"\",LDAR_H_UU_summary!C1472)","v":""},{"$f":"IF(COUNTIF(N$2:N1650,N1650)=1,N1650,\"\")","v":""},{"$f":"+IF(O1650=\"\",\"\",MAX(P$1:P1649)+1)","v":""},""]
[null,null,null,null,null,null,null,null,null,null,null,null,null,{"$f":"IF(LDAR_H_UU_summary!C1473=\"\",\"\",LDAR_H_UU_summary!C1473)","v":""},{"$f":"IF(COUNTIF(N$2:N1651,N1651)=1,N1651,\"\")","v":""},{"$f":"+IF(O1651=\"\",\"\",MAX(P$1:P1650)+1)","v":""},""]
[null,null,null,null,null,null,null,null,null,null,null,null,null,{"$f":"IF(LDAR_H_UU_summary!C1474=\"\",\"\",LDAR_H_UU_summary!C1474)","v":""},{"$f":"IF(COUNTIF(N$2:N1652,N1652)=1,N1652,\"\")","v":""},{"$f":"+IF(O1652=\"\",\"\",MAX(P$1:P1651)+1)","v":""},""]
[null,null,null,null,null,null,null,null,null,null,null,null,null,{"$f":"IF(LDAR_H_UU_summary!C1475=\"\",\"\",LDAR_H_UU_summary!C1475)","v":""},{"$f":"IF(COUNTIF(N$2:N1653,N1653)=1,N1653,\"\")","v":""},{"$f":"+IF(O1653=\"\",\"\",MAX(P$1:P1652)+1)","v":""},""]
[null,null,null,null,null,null,null,null,null,null,null,null,null,{"$f":"IF(LDAR_H_UU_summary!C1476=\"\",\"\",LDAR_H_UU_summary!C1476)","v":""},{"$f":"IF(COUNTIF(N$2:N1654,N1654)=1,N1654,\"\")","v":""},{"$f":"+IF(O1654=\"\",\"\",MAX(P$1:P1653)+1)","v":""},""]
[null,null,null,null,null,null,null,null,null,null,null,null,null,{"$f":"IF(LDAR_H_UU_summary!C1477=\"\",\"\",LDAR_H_UU_summary!C1477)","v":""},{"$f":"IF(COUNTIF(N$2:N1655,N1655)=1,N1655,\"\")","v":""},{"$f":"+IF(O1655=\"\",\"\",MAX(P$1:P1654)+1)","v":""},""]
[null,null,null,null,null,null,null,null,null,null,null,null,null,{"$f":"IF(LDAR_H_UU_summary!C1478=\"\",\"\",LDAR_H_UU_summary!C1478)","v":""},{"$f":"IF(COUNTIF(N$2:N1656,N1656)=1,N1656,\"\")","v":""},{"$f":"+IF(O1656=\"\",\"\",MAX(P$1:P1655)+1)","v":""},""]
[null,null,null,null,null,null,null,null,null,null,null,null,null,{"$f":"IF(LDAR_H_UU_summary!C1479=\"\",\"\",LDAR_H_UU_summary!C1479)","v":""},{"$f":"IF(COUNTIF(N$2:N1657,N1657)=1,N1657,\"\")","v":""},{"$f":"+IF(O1657=\"\",\"\",MAX(P$1:P1656)+1)","v":""},""]
[null,null,null,null,null,null,null,null,null,null,null,null,null,{"$f":"IF(LDAR_H_UU_summary!C1480=\"\",\"\",LDAR_H_UU_summary!C1480)","v":""},{"$f":"IF(COUNTIF(N$2:N1658,N1658)=1,N1658,\"\")","v":""},{"$f":"+IF(O1658=\"\",\"\",MAX(P$1:P1657)+1)","v":""},""]
[null,null,null,null,null,null,null,null,null,null,null,null,null,{"$f":"IF(LDAR_H_UU_summary!C1481=\"\",\"\",LDAR_H_UU_summary!C1481)","v":""},{"$f":"IF(COUNTIF(N$2:N1659,N1659)=1,N1659,\"\")","v":""},{"$f":"+IF(O1659=\"\",\"\",MAX(P$1:P1658)+1)","v":""},""]
[null,null,null,null,null,null,null,null,null,null,null,null,null,{"$f":"IF(LDAR_H_UU_summary!C1482=\"\",\"\",LDAR_H_UU_summary!C1482)","v":""},{"$f":"IF(COUNTIF(N$2:N1660,N1660)=1,N1660,\"\")","v":""},{"$f":"+IF(O1660=\"\",\"\",MAX(P$1:P1659)+1)","v":""},""]
[null,null,null,null,null,null,null,null,null,null,null,null,null,{"$f":"IF(LDAR_H_UU_summary!C1483=\"\",\"\",LDAR_H_UU_summary!C1483)","v":""},{"$f":"IF(COUNTIF(N$2:N1661,N1661)=1,N1661,\"\")","v":""},{"$f":"+IF(O1661=\"\",\"\",MAX(P$1:P1660)+1)","v":""},""]
[null,null,null,null,null,null,null,null,null,null,null,null,null,{"$f":"IF(LDAR_H_UU_summary!C1484=\"\",\"\",LDAR_H_UU_summary!C1484)","v":""},{"$f":"IF(COUNTIF(N$2:N1662,N1662)=1,N1662,\"\")","v":""},{"$f":"+IF(O1662=\"\",\"\",MAX(P$1:P1661)+1)","v":""},""]
[null,null,null,null,null,null,null,null,null,null,null,null,null,{"$f":"IF(LDAR_H_UU_summary!C1485=\"\",\"\",LDAR_H_UU_summary!C1485)","v":""},{"$f":"IF(COUNTIF(N$2:N1663,N1663)=1,N1663,\"\")","v":""},{"$f":"+IF(O1663=\"\",\"\",MAX(P$1:P1662)+1)","v":""},""]
[null,null,null,null,null,null,null,null,null,null,null,null,null,{"$f":"IF(LDAR_H_UU_summary!C1486=\"\",\"\",LDAR_H_UU_summary!C1486)","v":""},{"$f":"IF(COUNTIF(N$2:N1664,N1664)=1,N1664,\"\")","v":""},{"$f":"+IF(O1664=\"\",\"\",MAX(P$1:P1663)+1)","v":""},""]
[null,null,null,null,null,null,null,null,null,null,null,null,null,{"$f":"IF(LDAR_H_UU_summary!C1487=\"\",\"\",LDAR_H_UU_summary!C1487)","v":""},{"$f":"IF(COUNTIF(N$2:N1665,N1665)=1,N1665,\"\")","v":""},{"$f":"+IF(O1665=\"\",\"\",MAX(P$1:P1664)+1)","v":""},""]
[null,null,null,null,null,null,null,null,null,null,null,null,null,{"$f":"IF(LDAR_H_UU_summary!C1488=\"\",\"\",LDAR_H_UU_summary!C1488)","v":""},{"$f":"IF(COUNTIF(N$2:N1666,N1666)=1,N1666,\"\")","v":""},{"$f":"+IF(O1666=\"\",\"\",MAX(P$1:P1665)+1)","v":""},""]
[null,null,null,null,null,null,null,null,null,null,null,null,null,{"$f":"IF(LDAR_H_UU_summary!C1489=\"\",\"\",LDAR_H_UU_summary!C1489)","v":""},{"$f":"IF(COUNTIF(N$2:N1667,N1667)=1,N1667,\"\")","v":""},{"$f":"+IF(O1667=\"\",\"\",MAX(P$1:P1666)+1)","v":""},{"$f":"+IFERROR(INDEX($N$2:$N$2001,MATCH(ROW()-ROW($P$1),$P$2:$P$2001,0)),\"\")","v":""}]
[null,null,null,null,null,null,null,null,null,null,null,null,null,{"$f":"IF(LDAR_H_UU_summary!C1490=\"\",\"\",LDAR_H_UU_summary!C1490)","v":""},{"$f":"IF(COUNTIF(N$2:N1668,N1668)=1,N1668,\"\")","v":""},{"$f":"+IF(O1668=\"\",\"\",MAX(P$1:P1667)+1)","v":""},""]
[null,null,null,null,null,null,null,null,null,null,null,null,null,{"$f":"IF(LDAR_H_UU_summary!C1491=\"\",\"\",LDAR_H_UU_summary!C1491)","v":""},{"$f":"IF(COUNTIF(N$2:N1669,N1669)=1,N1669,\"\")","v":""},{"$f":"+IF(O1669=\"\",\"\",MAX(P$1:P1668)+1)","v":""},""]
[null,null,null,null,null,null,null,null,null,null,null,null,null,{"$f":"IF(LDAR_H_UU_summary!C1492=\"\",\"\",LDAR_H_UU_summary!C1492)","v":""},{"$f":"IF(COUNTIF(N$2:N1670,N1670)=1,N1670,\"\")","v":""},{"$f":"+IF(O1670=\"\",\"\",MAX(P$1:P1669)+1)","v":""},""]
[null,null,null,null,null,null,null,null,null,null,null,null,null,{"$f":"IF(LDAR_H_UU_summary!C1493=\"\",\"\",LDAR_H_UU_summary!C1493)","v":""},{"$f":"IF(COUNTIF(N$2:N1671,N1671)=1,N1671,\"\")","v":""},{"$f":"+IF(O1671=\"\",\"\",MAX(P$1:P1670)+1)","v":""},""]
[null,null,null,null,null,null,null,null,null,null,null,null,null,{"$f":"IF(LDAR_H_UU_summary!C1494=\"\",\"\",LDAR_H_UU_summary!C1494)","v":""},{"$f":"IF(COUNTIF(N$2:N1672,N1672)=1,N1672,\"\")","v":""},{"$f":"+IF(O1672=\"\",\"\",MAX(P$1:P1671)+1)","v":""},""]
[null,null,null,null,null,null,null,null,null,null,null,null,null,{"$f":"IF(LDAR_H_UU_summary!C1495=\"\",\"\",LDAR_H_UU_summary!C1495)","v":""},{"$f":"IF(COUNTIF(N$2:N1673,N1673)=1,N1673,\"\")","v":""},{"$f":"+IF(O1673=\"\",\"\",MAX(P$1:P1672)+1)","v":""},""]
[null,null,null,null,null,null,null,null,null,null,null,null,null,{"$f":"IF(LDAR_H_UU_summary!C1496=\"\",\"\",LDAR_H_UU_summary!C1496)","v":""},{"$f":"IF(COUNTIF(N$2:N1674,N1674)=1,N1674,\"\")","v":""},{"$f":"+IF(O1674=\"\",\"\",MAX(P$1:P1673)+1)","v":""},""]
[null,null,null,null,null,null,null,null,null,null,null,null,null,{"$f":"IF(LDAR_H_UU_summary!C1497=\"\",\"\",LDAR_H_UU_summary!C1497)","v":""},{"$f":"IF(COUNTIF(N$2:N1675,N1675)=1,N1675,\"\")","v":""},{"$f":"+IF(O1675=\"\",\"\",MAX(P$1:P1674)+1)","v":""},""]
[null,null,null,null,null,null,null,null,null,null,null,null,null,{"$f":"IF(LDAR_H_UU_summary!C1498=\"\",\"\",LDAR_H_UU_summary!C1498)","v":""},{"$f":"IF(COUNTIF(N$2:N1676,N1676)=1,N1676,\"\")","v":""},{"$f":"+IF(O1676=\"\",\"\",MAX(P$1:P1675)+1)","v":""},""]
[null,null,null,null,null,null,null,null,null,null,null,null,null,{"$f":"IF(LDAR_H_UU_summary!C1499=\"\",\"\",LDAR_H_UU_summary!C1499)","v":""},{"$f":"IF(COUNTIF(N$2:N1677,N1677)=1,N1677,\"\")","v":""},{"$f":"+IF(O1677=\"\",\"\",MAX(P$1:P1676)+1)","v":""},""]
[null,null,null,null,null,null,null,null,null,null,null,null,null,{"$f":"IF(LDAR_H_UU_summary!C1500=\"\",\"\",LDAR_H_UU_summary!C1500)","v":""},{"$f":"IF(COUNTIF(N$2:N1678,N1678)=1,N1678,\"\")","v":""},{"$f":"+IF(O1678=\"\",\"\",MAX(P$1:P1677)+1)","v":""},""]
[null,null,null,null,null,null,null,null,null,null,null,null,null,{"$f":"IF(LDAR_H_UU_summary!C1501=\"\",\"\",LDAR_H_UU_summary!C1501)","v":""},{"$f":"IF(COUNTIF(N$2:N1679,N1679)=1,N1679,\"\")","v":""},{"$f":"+IF(O1679=\"\",\"\",MAX(P$1:P1678)+1)","v":""},""]
[null,null,null,null,null,null,null,null,null,null,null,null,null,{"$f":"IF(LDAR_H_UU_summary!C1502=\"\",\"\",LDAR_H_UU_summary!C1502)","v":""},{"$f":"IF(COUNTIF(N$2:N1680,N1680)=1,N1680,\"\")","v":""},{"$f":"+IF(O1680=\"\",\"\",MAX(P$1:P1679)+1)","v":""},""]
[null,null,null,null,null,null,null,null,null,null,null,null,null,{"$f":"IF(LDAR_H_UU_summary!C1503=\"\",\"\",LDAR_H_UU_summary!C1503)","v":""},{"$f":"IF(COUNTIF(N$2:N1681,N1681)=1,N1681,\"\")","v":""},{"$f":"+IF(O1681=\"\",\"\",MAX(P$1:P1680)+1)","v":""},""]
[null,null,null,null,null,null,null,null,null,null,null,null,null,{"$f":"IF(LDAR_H_UU_summary!C1504=\"\",\"\",LDAR_H_UU_summary!C1504)","v":""},{"$f":"IF(COUNTIF(N$2:N1682,N1682)=1,N1682,\"\")","v":""},{"$f":"+IF(O1682=\"\",\"\",MAX(P$1:P1681)+1)","v":""},""]
[null,null,null,null,null,null,null,null,null,null,null,null,null,{"$f":"IF(LDAR_H_UU_summary!C1505=\"\",\"\",LDAR_H_UU_summary!C1505)","v":""},{"$f":"IF(COUNTIF(N$2:N1683,N1683)=1,N1683,\"\")","v":""},{"$f":"+IF(O1683=\"\",\"\",MAX(P$1:P1682)+1)","v":""},""]
[null,null,null,null,null,null,null,null,null,null,null,null,null,{"$f":"IF(LDAR_H_UU_summary!C1506=\"\",\"\",LDAR_H_UU_summary!C1506)","v":""},{"$f":"IF(COUNTIF(N$2:N1684,N1684)=1,N1684,\"\")","v":""},{"$f":"+IF(O1684=\"\",\"\",MAX(P$1:P1683)+1)","v":""},""]
[null,null,null,null,null,null,null,null,null,null,null,null,null,{"$f":"IF(LDAR_H_UU_summary!C1507=\"\",\"\",LDAR_H_UU_summary!C1507)","v":""},{"$f":"IF(COUNTIF(N$2:N1685,N1685)=1,N1685,\"\")","v":""},{"$f":"+IF(O1685=\"\",\"\",MAX(P$1:P1684)+1)","v":""},""]
[null,null,null,null,null,null,null,null,null,null,null,null,null,{"$f":"IF(LDAR_H_UU_summary!C1508=\"\",\"\",LDAR_H_UU_summary!C1508)","v":""},{"$f":"IF(COUNTIF(N$2:N1686,N1686)=1,N1686,\"\")","v":""},{"$f":"+IF(O1686=\"\",\"\",MAX(P$1:P1685)+1)","v":""},""]
[null,null,null,null,null,null,null,null,null,null,null,null,null,{"$f":"IF(LDAR_H_UU_summary!C1509=\"\",\"\",LDAR_H_UU_summary!C1509)","v":""},{"$f":"IF(COUNTIF(N$2:N1687,N1687)=1,N1687,\"\")","v":""},{"$f":"+IF(O1687=\"\",\"\",MAX(P$1:P1686)+1)","v":""},""]
[null,null,null,null,null,null,null,null,null,null,null,null,null,{"$f":"IF(LDAR_H_UU_summary!C1510=\"\",\"\",LDAR_H_UU_summary!C1510)","v":""},{"$f":"IF(COUNTIF(N$2:N1688,N1688)=1,N1688,\"\")","v":""},{"$f":"+IF(O1688=\"\",\"\",MAX(P$1:P1687)+1)","v":""},""]
[null,null,null,null,null,null,null,null,null,null,null,null,null,{"$f":"IF(LDAR_H_UU_summary!C1511=\"\",\"\",LDAR_H_UU_summary!C1511)","v":""},{"$f":"IF(COUNTIF(N$2:N1689,N1689)=1,N1689,\"\")","v":""},{"$f":"+IF(O1689=\"\",\"\",MAX(P$1:P1688)+1)","v":""},""]
[null,null,null,null,null,null,null,null,null,null,null,null,null,{"$f":"IF(LDAR_H_UU_summary!C1512=\"\",\"\",LDAR_H_UU_summary!C1512)","v":""},{"$f":"IF(COUNTIF(N$2:N1690,N1690)=1,N1690,\"\")","v":""},{"$f":"+IF(O1690=\"\",\"\",MAX(P$1:P1689)+1)","v":""},""]
[null,null,null,null,null,null,null,null,null,null,null,null,null,{"$f":"IF(LDAR_H_UU_summary!C1513=\"\",\"\",LDAR_H_UU_summary!C1513)","v":""},{"$f":"IF(COUNTIF(N$2:N1691,N1691)=1,N1691,\"\")","v":""},{"$f":"+IF(O1691=\"\",\"\",MAX(P$1:P1690)+1)","v":""},""]
[null,null,null,null,null,null,null,null,null,null,null,null,null,{"$f":"IF(LDAR_H_UU_summary!C1514=\"\",\"\",LDAR_H_UU_summary!C1514)","v":""},{"$f":"IF(COUNTIF(N$2:N1692,N1692)=1,N1692,\"\")","v":""},{"$f":"+IF(O1692=\"\",\"\",MAX(P$1:P1691)+1)","v":""},""]
[null,null,null,null,null,null,null,null,null,null,null,null,null,{"$f":"IF(LDAR_H_UU_summary!C1515=\"\",\"\",LDAR_H_UU_summary!C1515)","v":""},{"$f":"IF(COUNTIF(N$2:N1693,N1693)=1,N1693,\"\")","v":""},{"$f":"+IF(O1693=\"\",\"\",MAX(P$1:P1692)+1)","v":""},""]
[null,null,null,null,null,null,null,null,null,null,null,null,null,{"$f":"IF(LDAR_H_UU_summary!C1516=\"\",\"\",LDAR_H_UU_summary!C1516)","v":""},{"$f":"IF(COUNTIF(N$2:N1694,N1694)=1,N1694,\"\")","v":""},{"$f":"+IF(O1694=\"\",\"\",MAX(P$1:P1693)+1)","v":""},""]
[null,null,null,null,null,null,null,null,null,null,null,null,null,{"$f":"IF(LDAR_H_UU_summary!C1517=\"\",\"\",LDAR_H_UU_summary!C1517)","v":""},{"$f":"IF(COUNTIF(N$2:N1695,N1695)=1,N1695,\"\")","v":""},{"$f":"+IF(O1695=\"\",\"\",MAX(P$1:P1694)+1)","v":""},""]
[null,null,null,null,null,null,null,null,null,null,null,null,null,{"$f":"IF(LDAR_H_UU_summary!C1518=\"\",\"\",LDAR_H_UU_summary!C1518)","v":""},{"$f":"IF(COUNTIF(N$2:N1696,N1696)=1,N1696,\"\")","v":""},{"$f":"+IF(O1696=\"\",\"\",MAX(P$1:P1695)+1)","v":""},""]
[null,null,null,null,null,null,null,null,null,null,null,null,null,{"$f":"IF(LDAR_H_UU_summary!C1519=\"\",\"\",LDAR_H_UU_summary!C1519)","v":""},{"$f":"IF(COUNTIF(N$2:N1697,N1697)=1,N1697,\"\")","v":""},{"$f":"+IF(O1697=\"\",\"\",MAX(P$1:P1696)+1)","v":""},""]
[null,null,null,null,null,null,null,null,null,null,null,null,null,{"$f":"IF(LDAR_H_UU_summary!C1520=\"\",\"\",LDAR_H_UU_summary!C1520)","v":""},{"$f":"IF(COUNTIF(N$2:N1698,N1698)=1,N1698,\"\")","v":""},{"$f":"+IF(O1698=\"\",\"\",MAX(P$1:P1697)+1)","v":""},""]
[null,null,null,null,null,null,null,null,null,null,null,null,null,{"$f":"IF(LDAR_H_UU_summary!C1521=\"\",\"\",LDAR_H_UU_summary!C1521)","v":""},{"$f":"IF(COUNTIF(N$2:N1699,N1699)=1,N1699,\"\")","v":""},{"$f":"+IF(O1699=\"\",\"\",MAX(P$1:P1698)+1)","v":""},""]
[null,null,null,null,null,null,null,null,null,null,null,null,null,{"$f":"IF(LDAR_H_UU_summary!C1522=\"\",\"\",LDAR_H_UU_summary!C1522)","v":""},{"$f":"IF(COUNTIF(N$2:N1700,N1700)=1,N1700,\"\")","v":""},{"$f":"+IF(O1700=\"\",\"\",MAX(P$1:P1699)+1)","v":""},""]
[null,null,null,null,null,null,null,null,null,null,null,null,null,{"$f":"IF(LDAR_H_UU_summary!C1523=\"\",\"\",LDAR_H_UU_summary!C1523)","v":""},{"$f":"IF(COUNTIF(N$2:N1701,N1701)=1,N1701,\"\")","v":""},{"$f":"+IF(O1701=\"\",\"\",MAX(P$1:P1700)+1)","v":""},""]
[null,null,null,null,null,null,null,null,null,null,null,null,null,{"$f":"IF(LDAR_H_UU_summary!C1524=\"\",\"\",LDAR_H_UU_summary!C1524)","v":""},{"$f":"IF(COUNTIF(N$2:N1702,N1702)=1,N1702,\"\")","v":""},{"$f":"+IF(O1702=\"\",\"\",MAX(P$1:P1701)+1)","v":""},""]
[null,null,null,null,null,null,null,null,null,null,null,null,null,{"$f":"IF(LDAR_H_UU_summary!C1525=\"\",\"\",LDAR_H_UU_summary!C1525)","v":""},{"$f":"IF(COUNTIF(N$2:N1703,N1703)=1,N1703,\"\")","v":""},{"$f":"+IF(O1703=\"\",\"\",MAX(P$1:P1702)+1)","v":""},""]
[null,null,null,null,null,null,null,null,null,null,null,null,null,{"$f":"IF(LDAR_H_UU_summary!C1526=\"\",\"\",LDAR_H_UU_summary!C1526)","v":""},{"$f":"IF(COUNTIF(N$2:N1704,N1704)=1,N1704,\"\")","v":""},{"$f":"+IF(O1704=\"\",\"\",MAX(P$1:P1703)+1)","v":""},""]
[null,null,null,null,null,null,null,null,null,null,null,null,null,{"$f":"IF(LDAR_H_UU_summary!C1527=\"\",\"\",LDAR_H_UU_summary!C1527)","v":""},{"$f":"IF(COUNTIF(N$2:N1705,N1705)=1,N1705,\"\")","v":""},{"$f":"+IF(O1705=\"\",\"\",MAX(P$1:P1704)+1)","v":""},""]
[null,null,null,null,null,null,null,null,null,null,null,null,null,{"$f":"IF(LDAR_H_UU_summary!C1528=\"\",\"\",LDAR_H_UU_summary!C1528)","v":""},{"$f":"IF(COUNTIF(N$2:N1706,N1706)=1,N1706,\"\")","v":""},{"$f":"+IF(O1706=\"\",\"\",MAX(P$1:P1705)+1)","v":""},""]
[null,null,null,null,null,null,null,null,null,null,null,null,null,{"$f":"IF(LDAR_H_UU_summary!C1529=\"\",\"\",LDAR_H_UU_summary!C1529)","v":""},{"$f":"IF(COUNTIF(N$2:N1707,N1707)=1,N1707,\"\")","v":""},{"$f":"+IF(O1707=\"\",\"\",MAX(P$1:P1706)+1)","v":""},""]
[null,null,null,null,null,null,null,null,null,null,null,null,null,{"$f":"IF(LDAR_H_UU_summary!C1530=\"\",\"\",LDAR_H_UU_summary!C1530)","v":""},{"$f":"IF(COUNTIF(N$2:N1708,N1708)=1,N1708,\"\")","v":""},{"$f":"+IF(O1708=\"\",\"\",MAX(P$1:P1707)+1)","v":""},""]
[null,null,null,null,null,null,null,null,null,null,null,null,null,{"$f":"IF(LDAR_H_UU_summary!C1531=\"\",\"\",LDAR_H_UU_summary!C1531)","v":""},{"$f":"IF(COUNTIF(N$2:N1709,N1709)=1,N1709,\"\")","v":""},{"$f":"+IF(O1709=\"\",\"\",MAX(P$1:P1708)+1)","v":""},""]
[null,null,null,null,null,null,null,null,null,null,null,null,null,{"$f":"IF(LDAR_H_UU_summary!C1532=\"\",\"\",LDAR_H_UU_summary!C1532)","v":""},{"$f":"IF(COUNTIF(N$2:N1710,N1710)=1,N1710,\"\")","v":""},{"$f":"+IF(O1710=\"\",\"\",MAX(P$1:P1709)+1)","v":""},""]
[null,null,null,null,null,null,null,null,null,null,null,null,null,{"$f":"IF(LDAR_H_UU_summary!C1533=\"\",\"\",LDAR_H_UU_summary!C1533)","v":""},{"$f":"IF(COUNTIF(N$2:N1711,N1711)=1,N1711,\"\")","v":""},{"$f":"+IF(O1711=\"\",\"\",MAX(P$1:P1710)+1)","v":""},""]
[null,null,null,null,null,null,null,null,null,null,null,null,null,{"$f":"IF(LDAR_H_UU_summary!C1534=\"\",\"\",LDAR_H_UU_summary!C1534)","v":""},{"$f":"IF(COUNTIF(N$2:N1712,N1712)=1,N1712,\"\")","v":""},{"$f":"+IF(O1712=\"\",\"\",MAX(P$1:P1711)+1)","v":""},""]
[null,null,null,null,null,null,null,null,null,null,null,null,null,{"$f":"IF(LDAR_H_UU_summary!C1535=\"\",\"\",LDAR_H_UU_summary!C1535)","v":""},{"$f":"IF(COUNTIF(N$2:N1713,N1713)=1,N1713,\"\")","v":""},{"$f":"+IF(O1713=\"\",\"\",MAX(P$1:P1712)+1)","v":""},""]
[null,null,null,null,null,null,null,null,null,null,null,null,null,{"$f":"IF(LDAR_H_UU_summary!C1536=\"\",\"\",LDAR_H_UU_summary!C1536)","v":""},{"$f":"IF(COUNTIF(N$2:N1714,N1714)=1,N1714,\"\")","v":""},{"$f":"+IF(O1714=\"\",\"\",MAX(P$1:P1713)+1)","v":""},""]
[null,null,null,null,null,null,null,null,null,null,null,null,null,{"$f":"IF(LDAR_H_UU_summary!C1537=\"\",\"\",LDAR_H_UU_summary!C1537)","v":""},{"$f":"IF(COUNTIF(N$2:N1715,N1715)=1,N1715,\"\")","v":""},{"$f":"+IF(O1715=\"\",\"\",MAX(P$1:P1714)+1)","v":""},""]
[null,null,null,null,null,null,null,null,null,null,null,null,null,{"$f":"IF(LDAR_H_UU_summary!C1538=\"\",\"\",LDAR_H_UU_summary!C1538)","v":""},{"$f":"IF(COUNTIF(N$2:N1716,N1716)=1,N1716,\"\")","v":""},{"$f":"+IF(O1716=\"\",\"\",MAX(P$1:P1715)+1)","v":""},""]
[null,null,null,null,null,null,null,null,null,null,null,null,null,{"$f":"IF(LDAR_H_UU_summary!C1539=\"\",\"\",LDAR_H_UU_summary!C1539)","v":""},{"$f":"IF(COUNTIF(N$2:N1717,N1717)=1,N1717,\"\")","v":""},{"$f":"+IF(O1717=\"\",\"\",MAX(P$1:P1716)+1)","v":""},""]
[null,null,null,null,null,null,null,null,null,null,null,null,null,{"$f":"IF(LDAR_H_UU_summary!C1540=\"\",\"\",LDAR_H_UU_summary!C1540)","v":""},{"$f":"IF(COUNTIF(N$2:N1718,N1718)=1,N1718,\"\")","v":""},{"$f":"+IF(O1718=\"\",\"\",MAX(P$1:P1717)+1)","v":""},""]
[null,null,null,null,null,null,null,null,null,null,null,null,null,{"$f":"IF(LDAR_H_UU_summary!C1541=\"\",\"\",LDAR_H_UU_summary!C1541)","v":""},{"$f":"IF(COUNTIF(N$2:N1719,N1719)=1,N1719,\"\")","v":""},{"$f":"+IF(O1719=\"\",\"\",MAX(P$1:P1718)+1)","v":""},""]
[null,null,null,null,null,null,null,null,null,null,null,null,null,{"$f":"IF(LDAR_H_UU_summary!C1542=\"\",\"\",LDAR_H_UU_summary!C1542)","v":""},{"$f":"IF(COUNTIF(N$2:N1720,N1720)=1,N1720,\"\")","v":""},{"$f":"+IF(O1720=\"\",\"\",MAX(P$1:P1719)+1)","v":""},""]
[null,null,null,null,null,null,null,null,null,null,null,null,null,{"$f":"IF(LDAR_H_UU_summary!C1543=\"\",\"\",LDAR_H_UU_summary!C1543)","v":""},{"$f":"IF(COUNTIF(N$2:N1721,N1721)=1,N1721,\"\")","v":""},{"$f":"+IF(O1721=\"\",\"\",MAX(P$1:P1720)+1)","v":""},""]
[null,null,null,null,null,null,null,null,null,null,null,null,null,{"$f":"IF(LDAR_H_UU_summary!C1544=\"\",\"\",LDAR_H_UU_summary!C1544)","v":""},{"$f":"IF(COUNTIF(N$2:N1722,N1722)=1,N1722,\"\")","v":""},{"$f":"+IF(O1722=\"\",\"\",MAX(P$1:P1721)+1)","v":""},""]
[null,null,null,null,null,null,null,null,null,null,null,null,null,{"$f":"IF(LDAR_H_UU_summary!C1545=\"\",\"\",LDAR_H_UU_summary!C1545)","v":""},{"$f":"IF(COUNTIF(N$2:N1723,N1723)=1,N1723,\"\")","v":""},{"$f":"+IF(O1723=\"\",\"\",MAX(P$1:P1722)+1)","v":""},""]
[null,null,null,null,null,null,null,null,null,null,null,null,null,{"$f":"IF(LDAR_H_UU_summary!C1546=\"\",\"\",LDAR_H_UU_summary!C1546)","v":""},{"$f":"IF(COUNTIF(N$2:N1724,N1724)=1,N1724,\"\")","v":""},{"$f":"+IF(O1724=\"\",\"\",MAX(P$1:P1723)+1)","v":""},""]
[null,null,null,null,null,null,null,null,null,null,null,null,null,{"$f":"IF(LDAR_H_UU_summary!C1547=\"\",\"\",LDAR_H_UU_summary!C1547)","v":""},{"$f":"IF(COUNTIF(N$2:N1725,N1725)=1,N1725,\"\")","v":""},{"$f":"+IF(O1725=\"\",\"\",MAX(P$1:P1724)+1)","v":""},""]
[null,null,null,null,null,null,null,null,null,null,null,null,null,{"$f":"IF(LDAR_H_UU_summary!C1548=\"\",\"\",LDAR_H_UU_summary!C1548)","v":""},{"$f":"IF(COUNTIF(N$2:N1726,N1726)=1,N1726,\"\")","v":""},{"$f":"+IF(O1726=\"\",\"\",MAX(P$1:P1725)+1)","v":""},""]
[null,null,null,null,null,null,null,null,null,null,null,null,null,{"$f":"IF(LDAR_H_UU_summary!C1549=\"\",\"\",LDAR_H_UU_summary!C1549)","v":""},{"$f":"IF(COUNTIF(N$2:N1727,N1727)=1,N1727,\"\")","v":""},{"$f":"+IF(O1727=\"\",\"\",MAX(P$1:P1726)+1)","v":""},""]
[null,null,null,null,null,null,null,null,null,null,null,null,null,{"$f":"IF(LDAR_H_UU_summary!C1550=\"\",\"\",LDAR_H_UU_summary!C1550)","v":""},{"$f":"IF(COUNTIF(N$2:N1728,N1728)=1,N1728,\"\")","v":""},{"$f":"+IF(O1728=\"\",\"\",MAX(P$1:P1727)+1)","v":""},""]
[null,null,null,null,null,null,null,null,null,null,null,null,null,{"$f":"IF(LDAR_H_UU_summary!C1551=\"\",\"\",LDAR_H_UU_summary!C1551)","v":""},{"$f":"IF(COUNTIF(N$2:N1729,N1729)=1,N1729,\"\")","v":""},{"$f":"+IF(O1729=\"\",\"\",MAX(P$1:P1728)+1)","v":""},""]
[null,null,null,null,null,null,null,null,null,null,null,null,null,{"$f":"IF(LDAR_H_UU_summary!C1552=\"\",\"\",LDAR_H_UU_summary!C1552)","v":""},{"$f":"IF(COUNTIF(N$2:N1730,N1730)=1,N1730,\"\")","v":""},{"$f":"+IF(O1730=\"\",\"\",MAX(P$1:P1729)+1)","v":""},""]
[null,null,null,null,null,null,null,null,null,null,null,null,null,{"$f":"IF(LDAR_H_UU_summary!C1553=\"\",\"\",LDAR_H_UU_summary!C1553)","v":""},{"$f":"IF(COUNTIF(N$2:N1731,N1731)=1,N1731,\"\")","v":""},{"$f":"+IF(O1731=\"\",\"\",MAX(P$1:P1730)+1)","v":""},{"$f":"+IFERROR(INDEX($N$2:$N$2001,MATCH(ROW()-ROW($P$1),$P$2:$P$2001,0)),\"\")","v":""}]
[null,null,null,null,null,null,null,null,null,null,null,null,null,{"$f":"IF(LDAR_H_UU_summary!C1554=\"\",\"\",LDAR_H_UU_summary!C1554)","v":""},{"$f":"IF(COUNTIF(N$2:N1732,N1732)=1,N1732,\"\")","v":""},{"$f":"+IF(O1732=\"\",\"\",MAX(P$1:P1731)+1)","v":""},""]
[null,null,null,null,null,null,null,null,null,null,null,null,null,{"$f":"IF(LDAR_H_UU_summary!C1555=\"\",\"\",LDAR_H_UU_summary!C1555)","v":""},{"$f":"IF(COUNTIF(N$2:N1733,N1733)=1,N1733,\"\")","v":""},{"$f":"+IF(O1733=\"\",\"\",MAX(P$1:P1732)+1)","v":""},""]
[null,null,null,null,null,null,null,null,null,null,null,null,null,{"$f":"IF(LDAR_H_UU_summary!C1556=\"\",\"\",LDAR_H_UU_summary!C1556)","v":""},{"$f":"IF(COUNTIF(N$2:N1734,N1734)=1,N1734,\"\")","v":""},{"$f":"+IF(O1734=\"\",\"\",MAX(P$1:P1733)+1)","v":""},""]
[null,null,null,null,null,null,null,null,null,null,null,null,null,{"$f":"IF(LDAR_H_UU_summary!C1557=\"\",\"\",LDAR_H_UU_summary!C1557)","v":""},{"$f":"IF(COUNTIF(N$2:N1735,N1735)=1,N1735,\"\")","v":""},{"$f":"+IF(O1735=\"\",\"\",MAX(P$1:P1734)+1)","v":""},""]
[null,null,null,null,null,null,null,null,null,null,null,null,null,{"$f":"IF(LDAR_H_UU_summary!C1558=\"\",\"\",LDAR_H_UU_summary!C1558)","v":""},{"$f":"IF(COUNTIF(N$2:N1736,N1736)=1,N1736,\"\")","v":""},{"$f":"+IF(O1736=\"\",\"\",MAX(P$1:P1735)+1)","v":""},""]
[null,null,null,null,null,null,null,null,null,null,null,null,null,{"$f":"IF(LDAR_H_UU_summary!C1559=\"\",\"\",LDAR_H_UU_summary!C1559)","v":""},{"$f":"IF(COUNTIF(N$2:N1737,N1737)=1,N1737,\"\")","v":""},{"$f":"+IF(O1737=\"\",\"\",MAX(P$1:P1736)+1)","v":""},""]
[null,null,null,null,null,null,null,null,null,null,null,null,null,{"$f":"IF(LDAR_H_UU_summary!C1560=\"\",\"\",LDAR_H_UU_summary!C1560)","v":""},{"$f":"IF(COUNTIF(N$2:N1738,N1738)=1,N1738,\"\")","v":""},{"$f":"+IF(O1738=\"\",\"\",MAX(P$1:P1737)+1)","v":""},""]
[null,null,null,null,null,null,null,null,null,null,null,null,null,{"$f":"IF(LDAR_H_UU_summary!C1561=\"\",\"\",LDAR_H_UU_summary!C1561)","v":""},{"$f":"IF(COUNTIF(N$2:N1739,N1739)=1,N1739,\"\")","v":""},{"$f":"+IF(O1739=\"\",\"\",MAX(P$1:P1738)+1)","v":""},""]
[null,null,null,null,null,null,null,null,null,null,null,null,null,{"$f":"IF(LDAR_H_UU_summary!C1562=\"\",\"\",LDAR_H_UU_summary!C1562)","v":""},{"$f":"IF(COUNTIF(N$2:N1740,N1740)=1,N1740,\"\")","v":""},{"$f":"+IF(O1740=\"\",\"\",MAX(P$1:P1739)+1)","v":""},""]
[null,null,null,null,null,null,null,null,null,null,null,null,null,{"$f":"IF(LDAR_H_UU_summary!C1563=\"\",\"\",LDAR_H_UU_summary!C1563)","v":""},{"$f":"IF(COUNTIF(N$2:N1741,N1741)=1,N1741,\"\")","v":""},{"$f":"+IF(O1741=\"\",\"\",MAX(P$1:P1740)+1)","v":""},""]
[null,null,null,null,null,null,null,null,null,null,null,null,null,{"$f":"IF(LDAR_H_UU_summary!C1564=\"\",\"\",LDAR_H_UU_summary!C1564)","v":""},{"$f":"IF(COUNTIF(N$2:N1742,N1742)=1,N1742,\"\")","v":""},{"$f":"+IF(O1742=\"\",\"\",MAX(P$1:P1741)+1)","v":""},""]
[null,null,null,null,null,null,null,null,null,null,null,null,null,{"$f":"IF(LDAR_H_UU_summary!C1565=\"\",\"\",LDAR_H_UU_summary!C1565)","v":""},{"$f":"IF(COUNTIF(N$2:N1743,N1743)=1,N1743,\"\")","v":""},{"$f":"+IF(O1743=\"\",\"\",MAX(P$1:P1742)+1)","v":""},""]
[null,null,null,null,null,null,null,null,null,null,null,null,null,{"$f":"IF(LDAR_H_UU_summary!C1566=\"\",\"\",LDAR_H_UU_summary!C1566)","v":""},{"$f":"IF(COUNTIF(N$2:N1744,N1744)=1,N1744,\"\")","v":""},{"$f":"+IF(O1744=\"\",\"\",MAX(P$1:P1743)+1)","v":""},""]
[null,null,null,null,null,null,null,null,null,null,null,null,null,{"$f":"IF(LDAR_H_UU_summary!C1567=\"\",\"\",LDAR_H_UU_summary!C1567)","v":""},{"$f":"IF(COUNTIF(N$2:N1745,N1745)=1,N1745,\"\")","v":""},{"$f":"+IF(O1745=\"\",\"\",MAX(P$1:P1744)+1)","v":""},""]
[null,null,null,null,null,null,null,null,null,null,null,null,null,{"$f":"IF(LDAR_H_UU_summary!C1568=\"\",\"\",LDAR_H_UU_summary!C1568)","v":""},{"$f":"IF(COUNTIF(N$2:N1746,N1746)=1,N1746,\"\")","v":""},{"$f":"+IF(O1746=\"\",\"\",MAX(P$1:P1745)+1)","v":""},""]
[null,null,null,null,null,null,null,null,null,null,null,null,null,{"$f":"IF(LDAR_H_UU_summary!C1569=\"\",\"\",LDAR_H_UU_summary!C1569)","v":""},{"$f":"IF(COUNTIF(N$2:N1747,N1747)=1,N1747,\"\")","v":""},{"$f":"+IF(O1747=\"\",\"\",MAX(P$1:P1746)+1)","v":""},""]
[null,null,null,null,null,null,null,null,null,null,null,null,null,{"$f":"IF(LDAR_H_UU_summary!C1570=\"\",\"\",LDAR_H_UU_summary!C1570)","v":""},{"$f":"IF(COUNTIF(N$2:N1748,N1748)=1,N1748,\"\")","v":""},{"$f":"+IF(O1748=\"\",\"\",MAX(P$1:P1747)+1)","v":""},""]
[null,null,null,null,null,null,null,null,null,null,null,null,null,{"$f":"IF(LDAR_H_UU_summary!C1571=\"\",\"\",LDAR_H_UU_summary!C1571)","v":""},{"$f":"IF(COUNTIF(N$2:N1749,N1749)=1,N1749,\"\")","v":""},{"$f":"+IF(O1749=\"\",\"\",MAX(P$1:P1748)+1)","v":""},""]
[null,null,null,null,null,null,null,null,null,null,null,null,null,{"$f":"IF(LDAR_H_UU_summary!C1572=\"\",\"\",LDAR_H_UU_summary!C1572)","v":""},{"$f":"IF(COUNTIF(N$2:N1750,N1750)=1,N1750,\"\")","v":""},{"$f":"+IF(O1750=\"\",\"\",MAX(P$1:P1749)+1)","v":""},""]
[null,null,null,null,null,null,null,null,null,null,null,null,null,{"$f":"IF(LDAR_H_UU_summary!C1573=\"\",\"\",LDAR_H_UU_summary!C1573)","v":""},{"$f":"IF(COUNTIF(N$2:N1751,N1751)=1,N1751,\"\")","v":""},{"$f":"+IF(O1751=\"\",\"\",MAX(P$1:P1750)+1)","v":""},""]
[null,null,null,null,null,null,null,null,null,null,null,null,null,{"$f":"IF(LDAR_H_UU_summary!C1574=\"\",\"\",LDAR_H_UU_summary!C1574)","v":""},{"$f":"IF(COUNTIF(N$2:N1752,N1752)=1,N1752,\"\")","v":""},{"$f":"+IF(O1752=\"\",\"\",MAX(P$1:P1751)+1)","v":""},""]
[null,null,null,null,null,null,null,null,null,null,null,null,null,{"$f":"IF(LDAR_H_UU_summary!C1575=\"\",\"\",LDAR_H_UU_summary!C1575)","v":""},{"$f":"IF(COUNTIF(N$2:N1753,N1753)=1,N1753,\"\")","v":""},{"$f":"+IF(O1753=\"\",\"\",MAX(P$1:P1752)+1)","v":""},""]
[null,null,null,null,null,null,null,null,null,null,null,null,null,{"$f":"IF(LDAR_H_UU_summary!C1576=\"\",\"\",LDAR_H_UU_summary!C1576)","v":""},{"$f":"IF(COUNTIF(N$2:N1754,N1754)=1,N1754,\"\")","v":""},{"$f":"+IF(O1754=\"\",\"\",MAX(P$1:P1753)+1)","v":""},""]
[null,null,null,null,null,null,null,null,null,null,null,null,null,{"$f":"IF(LDAR_H_UU_summary!C1577=\"\",\"\",LDAR_H_UU_summary!C1577)","v":""},{"$f":"IF(COUNTIF(N$2:N1755,N1755)=1,N1755,\"\")","v":""},{"$f":"+IF(O1755=\"\",\"\",MAX(P$1:P1754)+1)","v":""},""]
[null,null,null,null,null,null,null,null,null,null,null,null,null,{"$f":"IF(LDAR_H_UU_summary!C1578=\"\",\"\",LDAR_H_UU_summary!C1578)","v":""},{"$f":"IF(COUNTIF(N$2:N1756,N1756)=1,N1756,\"\")","v":""},{"$f":"+IF(O1756=\"\",\"\",MAX(P$1:P1755)+1)","v":""},""]
[null,null,null,null,null,null,null,null,null,null,null,null,null,{"$f":"IF(LDAR_H_UU_summary!C1579=\"\",\"\",LDAR_H_UU_summary!C1579)","v":""},{"$f":"IF(COUNTIF(N$2:N1757,N1757)=1,N1757,\"\")","v":""},{"$f":"+IF(O1757=\"\",\"\",MAX(P$1:P1756)+1)","v":""},""]
[null,null,null,null,null,null,null,null,null,null,null,null,null,{"$f":"IF(LDAR_H_UU_summary!C1580=\"\",\"\",LDAR_H_UU_summary!C1580)","v":""},{"$f":"IF(COUNTIF(N$2:N1758,N1758)=1,N1758,\"\")","v":""},{"$f":"+IF(O1758=\"\",\"\",MAX(P$1:P1757)+1)","v":""},""]
[null,null,null,null,null,null,null,null,null,null,null,null,null,{"$f":"IF(LDAR_H_UU_summary!C1581=\"\",\"\",LDAR_H_UU_summary!C1581)","v":""},{"$f":"IF(COUNTIF(N$2:N1759,N1759)=1,N1759,\"\")","v":""},{"$f":"+IF(O1759=\"\",\"\",MAX(P$1:P1758)+1)","v":""},""]
[null,null,null,null,null,null,null,null,null,null,null,null,null,{"$f":"IF(LDAR_H_UU_summary!C1582=\"\",\"\",LDAR_H_UU_summary!C1582)","v":""},{"$f":"IF(COUNTIF(N$2:N1760,N1760)=1,N1760,\"\")","v":""},{"$f":"+IF(O1760=\"\",\"\",MAX(P$1:P1759)+1)","v":""},""]
[null,null,null,null,null,null,null,null,null,null,null,null,null,{"$f":"IF(LDAR_H_UU_summary!C1583=\"\",\"\",LDAR_H_UU_summary!C1583)","v":""},{"$f":"IF(COUNTIF(N$2:N1761,N1761)=1,N1761,\"\")","v":""},{"$f":"+IF(O1761=\"\",\"\",MAX(P$1:P1760)+1)","v":""},""]
[null,null,null,null,null,null,null,null,null,null,null,null,null,{"$f":"IF(LDAR_H_UU_summary!C1584=\"\",\"\",LDAR_H_UU_summary!C1584)","v":""},{"$f":"IF(COUNTIF(N$2:N1762,N1762)=1,N1762,\"\")","v":""},{"$f":"+IF(O1762=\"\",\"\",MAX(P$1:P1761)+1)","v":""},""]
[null,null,null,null,null,null,null,null,null,null,null,null,null,{"$f":"IF(LDAR_H_UU_summary!C1585=\"\",\"\",LDAR_H_UU_summary!C1585)","v":""},{"$f":"IF(COUNTIF(N$2:N1763,N1763)=1,N1763,\"\")","v":""},{"$f":"+IF(O1763=\"\",\"\",MAX(P$1:P1762)+1)","v":""},""]
[null,null,null,null,null,null,null,null,null,null,null,null,null,{"$f":"IF(LDAR_H_UU_summary!C1586=\"\",\"\",LDAR_H_UU_summary!C1586)","v":""},{"$f":"IF(COUNTIF(N$2:N1764,N1764)=1,N1764,\"\")","v":""},{"$f":"+IF(O1764=\"\",\"\",MAX(P$1:P1763)+1)","v":""},""]
[null,null,null,null,null,null,null,null,null,null,null,null,null,{"$f":"IF(LDAR_H_UU_summary!C1587=\"\",\"\",LDAR_H_UU_summary!C1587)","v":""},{"$f":"IF(COUNTIF(N$2:N1765,N1765)=1,N1765,\"\")","v":""},{"$f":"+IF(O1765=\"\",\"\",MAX(P$1:P1764)+1)","v":""},""]
[null,null,null,null,null,null,null,null,null,null,null,null,null,{"$f":"IF(LDAR_H_UU_summary!C1588=\"\",\"\",LDAR_H_UU_summary!C1588)","v":""},{"$f":"IF(COUNTIF(N$2:N1766,N1766)=1,N1766,\"\")","v":""},{"$f":"+IF(O1766=\"\",\"\",MAX(P$1:P1765)+1)","v":""},""]
[null,null,null,null,null,null,null,null,null,null,null,null,null,{"$f":"IF(LDAR_H_UU_summary!C1589=\"\",\"\",LDAR_H_UU_summary!C1589)","v":""},{"$f":"IF(COUNTIF(N$2:N1767,N1767)=1,N1767,\"\")","v":""},{"$f":"+IF(O1767=\"\",\"\",MAX(P$1:P1766)+1)","v":""},""]
[null,null,null,null,null,null,null,null,null,null,null,null,null,{"$f":"IF(LDAR_H_UU_summary!C1590=\"\",\"\",LDAR_H_UU_summary!C1590)","v":""},{"$f":"IF(COUNTIF(N$2:N1768,N1768)=1,N1768,\"\")","v":""},{"$f":"+IF(O1768=\"\",\"\",MAX(P$1:P1767)+1)","v":""},""]
[null,null,null,null,null,null,null,null,null,null,null,null,null,{"$f":"IF(LDAR_H_UU_summary!C1591=\"\",\"\",LDAR_H_UU_summary!C1591)","v":""},{"$f":"IF(COUNTIF(N$2:N1769,N1769)=1,N1769,\"\")","v":""},{"$f":"+IF(O1769=\"\",\"\",MAX(P$1:P1768)+1)","v":""},""]
[null,null,null,null,null,null,null,null,null,null,null,null,null,{"$f":"IF(LDAR_H_UU_summary!C1592=\"\",\"\",LDAR_H_UU_summary!C1592)","v":""},{"$f":"IF(COUNTIF(N$2:N1770,N1770)=1,N1770,\"\")","v":""},{"$f":"+IF(O1770=\"\",\"\",MAX(P$1:P1769)+1)","v":""},""]
[null,null,null,null,null,null,null,null,null,null,null,null,null,{"$f":"IF(LDAR_H_UU_summary!C1593=\"\",\"\",LDAR_H_UU_summary!C1593)","v":""},{"$f":"IF(COUNTIF(N$2:N1771,N1771)=1,N1771,\"\")","v":""},{"$f":"+IF(O1771=\"\",\"\",MAX(P$1:P1770)+1)","v":""},""]
[null,null,null,null,null,null,null,null,null,null,null,null,null,{"$f":"IF(LDAR_H_UU_summary!C1594=\"\",\"\",LDAR_H_UU_summary!C1594)","v":""},{"$f":"IF(COUNTIF(N$2:N1772,N1772)=1,N1772,\"\")","v":""},{"$f":"+IF(O1772=\"\",\"\",MAX(P$1:P1771)+1)","v":""},""]
[null,null,null,null,null,null,null,null,null,null,null,null,null,{"$f":"IF(LDAR_H_UU_summary!C1595=\"\",\"\",LDAR_H_UU_summary!C1595)","v":""},{"$f":"IF(COUNTIF(N$2:N1773,N1773)=1,N1773,\"\")","v":""},{"$f":"+IF(O1773=\"\",\"\",MAX(P$1:P1772)+1)","v":""},""]
[null,null,null,null,null,null,null,null,null,null,null,null,null,{"$f":"IF(LDAR_H_UU_summary!C1596=\"\",\"\",LDAR_H_UU_summary!C1596)","v":""},{"$f":"IF(COUNTIF(N$2:N1774,N1774)=1,N1774,\"\")","v":""},{"$f":"+IF(O1774=\"\",\"\",MAX(P$1:P1773)+1)","v":""},""]
[null,null,null,null,null,null,null,null,null,null,null,null,null,{"$f":"IF(LDAR_H_UU_summary!C1597=\"\",\"\",LDAR_H_UU_summary!C1597)","v":""},{"$f":"IF(COUNTIF(N$2:N1775,N1775)=1,N1775,\"\")","v":""},{"$f":"+IF(O1775=\"\",\"\",MAX(P$1:P1774)+1)","v":""},""]
[null,null,null,null,null,null,null,null,null,null,null,null,null,{"$f":"IF(LDAR_H_UU_summary!C1598=\"\",\"\",LDAR_H_UU_summary!C1598)","v":""},{"$f":"IF(COUNTIF(N$2:N1776,N1776)=1,N1776,\"\")","v":""},{"$f":"+IF(O1776=\"\",\"\",MAX(P$1:P1775)+1)","v":""},""]
[null,null,null,null,null,null,null,null,null,null,null,null,null,{"$f":"IF(LDAR_H_UU_summary!C1599=\"\",\"\",LDAR_H_UU_summary!C1599)","v":""},{"$f":"IF(COUNTIF(N$2:N1777,N1777)=1,N1777,\"\")","v":""},{"$f":"+IF(O1777=\"\",\"\",MAX(P$1:P1776)+1)","v":""},""]
[null,null,null,null,null,null,null,null,null,null,null,null,null,{"$f":"IF(LDAR_H_UU_summary!C1600=\"\",\"\",LDAR_H_UU_summary!C1600)","v":""},{"$f":"IF(COUNTIF(N$2:N1778,N1778)=1,N1778,\"\")","v":""},{"$f":"+IF(O1778=\"\",\"\",MAX(P$1:P1777)+1)","v":""},""]
[null,null,null,null,null,null,null,null,null,null,null,null,null,{"$f":"IF(LDAR_H_UU_summary!C1601=\"\",\"\",LDAR_H_UU_summary!C1601)","v":""},{"$f":"IF(COUNTIF(N$2:N1779,N1779)=1,N1779,\"\")","v":""},{"$f":"+IF(O1779=\"\",\"\",MAX(P$1:P1778)+1)","v":""},""]
[null,null,null,null,null,null,null,null,null,null,null,null,null,{"$f":"IF(LDAR_H_UU_summary!C1602=\"\",\"\",LDAR_H_UU_summary!C1602)","v":""},{"$f":"IF(COUNTIF(N$2:N1780,N1780)=1,N1780,\"\")","v":""},{"$f":"+IF(O1780=\"\",\"\",MAX(P$1:P1779)+1)","v":""},""]
[null,null,null,null,null,null,null,null,null,null,null,null,null,{"$f":"IF(LDAR_H_UU_summary!C1603=\"\",\"\",LDAR_H_UU_summary!C1603)","v":""},{"$f":"IF(COUNTIF(N$2:N1781,N1781)=1,N1781,\"\")","v":""},{"$f":"+IF(O1781=\"\",\"\",MAX(P$1:P1780)+1)","v":""},""]
[null,null,null,null,null,null,null,null,null,null,null,null,null,{"$f":"IF(LDAR_H_UU_summary!C1604=\"\",\"\",LDAR_H_UU_summary!C1604)","v":""},{"$f":"IF(COUNTIF(N$2:N1782,N1782)=1,N1782,\"\")","v":""},{"$f":"+IF(O1782=\"\",\"\",MAX(P$1:P1781)+1)","v":""},""]
[null,null,null,null,null,null,null,null,null,null,null,null,null,{"$f":"IF(LDAR_H_UU_summary!C1605=\"\",\"\",LDAR_H_UU_summary!C1605)","v":""},{"$f":"IF(COUNTIF(N$2:N1783,N1783)=1,N1783,\"\")","v":""},{"$f":"+IF(O1783=\"\",\"\",MAX(P$1:P1782)+1)","v":""},""]
[null,null,null,null,null,null,null,null,null,null,null,null,null,{"$f":"IF(LDAR_H_UU_summary!C1606=\"\",\"\",LDAR_H_UU_summary!C1606)","v":""},{"$f":"IF(COUNTIF(N$2:N1784,N1784)=1,N1784,\"\")","v":""},{"$f":"+IF(O1784=\"\",\"\",MAX(P$1:P1783)+1)","v":""},""]
[null,null,null,null,null,null,null,null,null,null,null,null,null,{"$f":"IF(LDAR_H_UU_summary!C1607=\"\",\"\",LDAR_H_UU_summary!C1607)","v":""},{"$f":"IF(COUNTIF(N$2:N1785,N1785)=1,N1785,\"\")","v":""},{"$f":"+IF(O1785=\"\",\"\",MAX(P$1:P1784)+1)","v":""},""]
[null,null,null,null,null,null,null,null,null,null,null,null,null,{"$f":"IF(LDAR_H_UU_summary!C1608=\"\",\"\",LDAR_H_UU_summary!C1608)","v":""},{"$f":"IF(COUNTIF(N$2:N1786,N1786)=1,N1786,\"\")","v":""},{"$f":"+IF(O1786=\"\",\"\",MAX(P$1:P1785)+1)","v":""},""]
[null,null,null,null,null,null,null,null,null,null,null,null,null,{"$f":"IF(LDAR_H_UU_summary!C1609=\"\",\"\",LDAR_H_UU_summary!C1609)","v":""},{"$f":"IF(COUNTIF(N$2:N1787,N1787)=1,N1787,\"\")","v":""},{"$f":"+IF(O1787=\"\",\"\",MAX(P$1:P1786)+1)","v":""},""]
[null,null,null,null,null,null,null,null,null,null,null,null,null,{"$f":"IF(LDAR_H_UU_summary!C1610=\"\",\"\",LDAR_H_UU_summary!C1610)","v":""},{"$f":"IF(COUNTIF(N$2:N1788,N1788)=1,N1788,\"\")","v":""},{"$f":"+IF(O1788=\"\",\"\",MAX(P$1:P1787)+1)","v":""},""]
[null,null,null,null,null,null,null,null,null,null,null,null,null,{"$f":"IF(LDAR_H_UU_summary!C1611=\"\",\"\",LDAR_H_UU_summary!C1611)","v":""},{"$f":"IF(COUNTIF(N$2:N1789,N1789)=1,N1789,\"\")","v":""},{"$f":"+IF(O1789=\"\",\"\",MAX(P$1:P1788)+1)","v":""},""]
[null,null,null,null,null,null,null,null,null,null,null,null,null,{"$f":"IF(LDAR_H_UU_summary!C1612=\"\",\"\",LDAR_H_UU_summary!C1612)","v":""},{"$f":"IF(COUNTIF(N$2:N1790,N1790)=1,N1790,\"\")","v":""},{"$f":"+IF(O1790=\"\",\"\",MAX(P$1:P1789)+1)","v":""},""]
[null,null,null,null,null,null,null,null,null,null,null,null,null,{"$f":"IF(LDAR_H_UU_summary!C1613=\"\",\"\",LDAR_H_UU_summary!C1613)","v":""},{"$f":"IF(COUNTIF(N$2:N1791,N1791)=1,N1791,\"\")","v":""},{"$f":"+IF(O1791=\"\",\"\",MAX(P$1:P1790)+1)","v":""},""]
[null,null,null,null,null,null,null,null,null,null,null,null,null,{"$f":"IF(LDAR_H_UU_summary!C1614=\"\",\"\",LDAR_H_UU_summary!C1614)","v":""},{"$f":"IF(COUNTIF(N$2:N1792,N1792)=1,N1792,\"\")","v":""},{"$f":"+IF(O1792=\"\",\"\",MAX(P$1:P1791)+1)","v":""},""]
[null,null,null,null,null,null,null,null,null,null,null,null,null,{"$f":"IF(LDAR_H_UU_summary!C1615=\"\",\"\",LDAR_H_UU_summary!C1615)","v":""},{"$f":"IF(COUNTIF(N$2:N1793,N1793)=1,N1793,\"\")","v":""},{"$f":"+IF(O1793=\"\",\"\",MAX(P$1:P1792)+1)","v":""},""]
[null,null,null,null,null,null,null,null,null,null,null,null,null,{"$f":"IF(LDAR_H_UU_summary!C1616=\"\",\"\",LDAR_H_UU_summary!C1616)","v":""},{"$f":"IF(COUNTIF(N$2:N1794,N1794)=1,N1794,\"\")","v":""},{"$f":"+IF(O1794=\"\",\"\",MAX(P$1:P1793)+1)","v":""},""]
[null,null,null,null,null,null,null,null,null,null,null,null,null,{"$f":"IF(LDAR_H_UU_summary!C1617=\"\",\"\",LDAR_H_UU_summary!C1617)","v":""},{"$f":"IF(COUNTIF(N$2:N1795,N1795)=1,N1795,\"\")","v":""},{"$f":"+IF(O1795=\"\",\"\",MAX(P$1:P1794)+1)","v":""},{"$f":"+IFERROR(INDEX($N$2:$N$2001,MATCH(ROW()-ROW($P$1),$P$2:$P$2001,0)),\"\")","v":""}]
[null,null,null,null,null,null,null,null,null,null,null,null,null,{"$f":"IF(LDAR_H_UU_summary!C1618=\"\",\"\",LDAR_H_UU_summary!C1618)","v":""},{"$f":"IF(COUNTIF(N$2:N1796,N1796)=1,N1796,\"\")","v":""},{"$f":"+IF(O1796=\"\",\"\",MAX(P$1:P1795)+1)","v":""},""]
[null,null,null,null,null,null,null,null,null,null,null,null,null,{"$f":"IF(LDAR_H_UU_summary!C1619=\"\",\"\",LDAR_H_UU_summary!C1619)","v":""},{"$f":"IF(COUNTIF(N$2:N1797,N1797)=1,N1797,\"\")","v":""},{"$f":"+IF(O1797=\"\",\"\",MAX(P$1:P1796)+1)","v":""},""]
[null,null,null,null,null,null,null,null,null,null,null,null,null,{"$f":"IF(LDAR_H_UU_summary!C1620=\"\",\"\",LDAR_H_UU_summary!C1620)","v":""},{"$f":"IF(COUNTIF(N$2:N1798,N1798)=1,N1798,\"\")","v":""},{"$f":"+IF(O1798=\"\",\"\",MAX(P$1:P1797)+1)","v":""},""]
[null,null,null,null,null,null,null,null,null,null,null,null,null,{"$f":"IF(LDAR_H_UU_summary!C1621=\"\",\"\",LDAR_H_UU_summary!C1621)","v":""},{"$f":"IF(COUNTIF(N$2:N1799,N1799)=1,N1799,\"\")","v":""},{"$f":"+IF(O1799=\"\",\"\",MAX(P$1:P1798)+1)","v":""},""]
[null,null,null,null,null,null,null,null,null,null,null,null,null,{"$f":"IF(LDAR_H_UU_summary!C1622=\"\",\"\",LDAR_H_UU_summary!C1622)","v":""},{"$f":"IF(COUNTIF(N$2:N1800,N1800)=1,N1800,\"\")","v":""},{"$f":"+IF(O1800=\"\",\"\",MAX(P$1:P1799)+1)","v":""},""]
[null,null,null,null,null,null,null,null,null,null,null,null,null,{"$f":"IF(LDAR_H_UU_summary!C1623=\"\",\"\",LDAR_H_UU_summary!C1623)","v":""},{"$f":"IF(COUNTIF(N$2:N1801,N1801)=1,N1801,\"\")","v":""},{"$f":"+IF(O1801=\"\",\"\",MAX(P$1:P1800)+1)","v":""},""]
[null,null,null,null,null,null,null,null,null,null,null,null,null,{"$f":"IF(LDAR_H_UU_summary!C1624=\"\",\"\",LDAR_H_UU_summary!C1624)","v":""},{"$f":"IF(COUNTIF(N$2:N1802,N1802)=1,N1802,\"\")","v":""},{"$f":"+IF(O1802=\"\",\"\",MAX(P$1:P1801)+1)","v":""},""]
[null,null,null,null,null,null,null,null,null,null,null,null,null,{"$f":"IF(LDAR_H_UU_summary!C1625=\"\",\"\",LDAR_H_UU_summary!C1625)","v":""},{"$f":"IF(COUNTIF(N$2:N1803,N1803)=1,N1803,\"\")","v":""},{"$f":"+IF(O1803=\"\",\"\",MAX(P$1:P1802)+1)","v":""},""]
[null,null,null,null,null,null,null,null,null,null,null,null,null,{"$f":"IF(LDAR_H_UU_summary!C1626=\"\",\"\",LDAR_H_UU_summary!C1626)","v":""},{"$f":"IF(COUNTIF(N$2:N1804,N1804)=1,N1804,\"\")","v":""},{"$f":"+IF(O1804=\"\",\"\",MAX(P$1:P1803)+1)","v":""},""]
[null,null,null,null,null,null,null,null,null,null,null,null,null,{"$f":"IF(LDAR_H_UU_summary!C1627=\"\",\"\",LDAR_H_UU_summary!C1627)","v":""},{"$f":"IF(COUNTIF(N$2:N1805,N1805)=1,N1805,\"\")","v":""},{"$f":"+IF(O1805=\"\",\"\",MAX(P$1:P1804)+1)","v":""},""]
[null,null,null,null,null,null,null,null,null,null,null,null,null,{"$f":"IF(LDAR_H_UU_summary!C1628=\"\",\"\",LDAR_H_UU_summary!C1628)","v":""},{"$f":"IF(COUNTIF(N$2:N1806,N1806)=1,N1806,\"\")","v":""},{"$f":"+IF(O1806=\"\",\"\",MAX(P$1:P1805)+1)","v":""},""]
[null,null,null,null,null,null,null,null,null,null,null,null,null,{"$f":"IF(LDAR_H_UU_summary!C1629=\"\",\"\",LDAR_H_UU_summary!C1629)","v":""},{"$f":"IF(COUNTIF(N$2:N1807,N1807)=1,N1807,\"\")","v":""},{"$f":"+IF(O1807=\"\",\"\",MAX(P$1:P1806)+1)","v":""},""]
[null,null,null,null,null,null,null,null,null,null,null,null,null,{"$f":"IF(LDAR_H_UU_summary!C1630=\"\",\"\",LDAR_H_UU_summary!C1630)","v":""},{"$f":"IF(COUNTIF(N$2:N1808,N1808)=1,N1808,\"\")","v":""},{"$f":"+IF(O1808=\"\",\"\",MAX(P$1:P1807)+1)","v":""},""]
[null,null,null,null,null,null,null,null,null,null,null,null,null,{"$f":"IF(LDAR_H_UU_summary!C1631=\"\",\"\",LDAR_H_UU_summary!C1631)","v":""},{"$f":"IF(COUNTIF(N$2:N1809,N1809)=1,N1809,\"\")","v":""},{"$f":"+IF(O1809=\"\",\"\",MAX(P$1:P1808)+1)","v":""},""]
[null,null,null,null,null,null,null,null,null,null,null,null,null,{"$f":"IF(LDAR_H_UU_summary!C1632=\"\",\"\",LDAR_H_UU_summary!C1632)","v":""},{"$f":"IF(COUNTIF(N$2:N1810,N1810)=1,N1810,\"\")","v":""},{"$f":"+IF(O1810=\"\",\"\",MAX(P$1:P1809)+1)","v":""},""]
[null,null,null,null,null,null,null,null,null,null,null,null,null,{"$f":"IF(LDAR_H_UU_summary!C1633=\"\",\"\",LDAR_H_UU_summary!C1633)","v":""},{"$f":"IF(COUNTIF(N$2:N1811,N1811)=1,N1811,\"\")","v":""},{"$f":"+IF(O1811=\"\",\"\",MAX(P$1:P1810)+1)","v":""},""]
[null,null,null,null,null,null,null,null,null,null,null,null,null,{"$f":"IF(LDAR_H_UU_summary!C1634=\"\",\"\",LDAR_H_UU_summary!C1634)","v":""},{"$f":"IF(COUNTIF(N$2:N1812,N1812)=1,N1812,\"\")","v":""},{"$f":"+IF(O1812=\"\",\"\",MAX(P$1:P1811)+1)","v":""},""]
[null,null,null,null,null,null,null,null,null,null,null,null,null,{"$f":"IF(LDAR_H_UU_summary!C1635=\"\",\"\",LDAR_H_UU_summary!C1635)","v":""},{"$f":"IF(COUNTIF(N$2:N1813,N1813)=1,N1813,\"\")","v":""},{"$f":"+IF(O1813=\"\",\"\",MAX(P$1:P1812)+1)","v":""},""]
[null,null,null,null,null,null,null,null,null,null,null,null,null,{"$f":"IF(LDAR_H_UU_summary!C1636=\"\",\"\",LDAR_H_UU_summary!C1636)","v":""},{"$f":"IF(COUNTIF(N$2:N1814,N1814)=1,N1814,\"\")","v":""},{"$f":"+IF(O1814=\"\",\"\",MAX(P$1:P1813)+1)","v":""},""]
[null,null,null,null,null,null,null,null,null,null,null,null,null,{"$f":"IF(LDAR_H_UU_summary!C1637=\"\",\"\",LDAR_H_UU_summary!C1637)","v":""},{"$f":"IF(COUNTIF(N$2:N1815,N1815)=1,N1815,\"\")","v":""},{"$f":"+IF(O1815=\"\",\"\",MAX(P$1:P1814)+1)","v":""},""]
[null,null,null,null,null,null,null,null,null,null,null,null,null,{"$f":"IF(LDAR_H_UU_summary!C1638=\"\",\"\",LDAR_H_UU_summary!C1638)","v":""},{"$f":"IF(COUNTIF(N$2:N1816,N1816)=1,N1816,\"\")","v":""},{"$f":"+IF(O1816=\"\",\"\",MAX(P$1:P1815)+1)","v":""},""]
[null,null,null,null,null,null,null,null,null,null,null,null,null,{"$f":"IF(LDAR_H_UU_summary!C1639=\"\",\"\",LDAR_H_UU_summary!C1639)","v":""},{"$f":"IF(COUNTIF(N$2:N1817,N1817)=1,N1817,\"\")","v":""},{"$f":"+IF(O1817=\"\",\"\",MAX(P$1:P1816)+1)","v":""},""]
[null,null,null,null,null,null,null,null,null,null,null,null,null,{"$f":"IF(LDAR_H_UU_summary!C1640=\"\",\"\",LDAR_H_UU_summary!C1640)","v":""},{"$f":"IF(COUNTIF(N$2:N1818,N1818)=1,N1818,\"\")","v":""},{"$f":"+IF(O1818=\"\",\"\",MAX(P$1:P1817)+1)","v":""},""]
[null,null,null,null,null,null,null,null,null,null,null,null,null,{"$f":"IF(LDAR_H_UU_summary!C1641=\"\",\"\",LDAR_H_UU_summary!C1641)","v":""},{"$f":"IF(COUNTIF(N$2:N1819,N1819)=1,N1819,\"\")","v":""},{"$f":"+IF(O1819=\"\",\"\",MAX(P$1:P1818)+1)","v":""},""]
[null,null,null,null,null,null,null,null,null,null,null,null,null,{"$f":"IF(LDAR_H_UU_summary!C1642=\"\",\"\",LDAR_H_UU_summary!C1642)","v":""},{"$f":"IF(COUNTIF(N$2:N1820,N1820)=1,N1820,\"\")","v":""},{"$f":"+IF(O1820=\"\",\"\",MAX(P$1:P1819)+1)","v":""},""]
[null,null,null,null,null,null,null,null,null,null,null,null,null,{"$f":"IF(LDAR_H_UU_summary!C1643=\"\",\"\",LDAR_H_UU_summary!C1643)","v":""},{"$f":"IF(COUNTIF(N$2:N1821,N1821)=1,N1821,\"\")","v":""},{"$f":"+IF(O1821=\"\",\"\",MAX(P$1:P1820)+1)","v":""},""]
[null,null,null,null,null,null,null,null,null,null,null,null,null,{"$f":"IF(LDAR_H_UU_summary!C1644=\"\",\"\",LDAR_H_UU_summary!C1644)","v":""},{"$f":"IF(COUNTIF(N$2:N1822,N1822)=1,N1822,\"\")","v":""},{"$f":"+IF(O1822=\"\",\"\",MAX(P$1:P1821)+1)","v":""},""]
[null,null,null,null,null,null,null,null,null,null,null,null,null,{"$f":"IF(LDAR_H_UU_summary!C1645=\"\",\"\",LDAR_H_UU_summary!C1645)","v":""},{"$f":"IF(COUNTIF(N$2:N1823,N1823)=1,N1823,\"\")","v":""},{"$f":"+IF(O1823=\"\",\"\",MAX(P$1:P1822)+1)","v":""},""]
[null,null,null,null,null,null,null,null,null,null,null,null,null,{"$f":"IF(LDAR_H_UU_summary!C1646=\"\",\"\",LDAR_H_UU_summary!C1646)","v":""},{"$f":"IF(COUNTIF(N$2:N1824,N1824)=1,N1824,\"\")","v":""},{"$f":"+IF(O1824=\"\",\"\",MAX(P$1:P1823)+1)","v":""},""]
[null,null,null,null,null,null,null,null,null,null,null,null,null,{"$f":"IF(LDAR_H_UU_summary!C1647=\"\",\"\",LDAR_H_UU_summary!C1647)","v":""},{"$f":"IF(COUNTIF(N$2:N1825,N1825)=1,N1825,\"\")","v":""},{"$f":"+IF(O1825=\"\",\"\",MAX(P$1:P1824)+1)","v":""},""]
[null,null,null,null,null,null,null,null,null,null,null,null,null,{"$f":"IF(LDAR_H_UU_summary!C1648=\"\",\"\",LDAR_H_UU_summary!C1648)","v":""},{"$f":"IF(COUNTIF(N$2:N1826,N1826)=1,N1826,\"\")","v":""},{"$f":"+IF(O1826=\"\",\"\",MAX(P$1:P1825)+1)","v":""},""]
[null,null,null,null,null,null,null,null,null,null,null,null,null,{"$f":"IF(LDAR_H_UU_summary!C1649=\"\",\"\",LDAR_H_UU_summary!C1649)","v":""},{"$f":"IF(COUNTIF(N$2:N1827,N1827)=1,N1827,\"\")","v":""},{"$f":"+IF(O1827=\"\",\"\",MAX(P$1:P1826)+1)","v":""},""]
[null,null,null,null,null,null,null,null,null,null,null,null,null,{"$f":"IF(LDAR_H_UU_summary!C1650=\"\",\"\",LDAR_H_UU_summary!C1650)","v":""},{"$f":"IF(COUNTIF(N$2:N1828,N1828)=1,N1828,\"\")","v":""},{"$f":"+IF(O1828=\"\",\"\",MAX(P$1:P1827)+1)","v":""},""]
[null,null,null,null,null,null,null,null,null,null,null,null,null,{"$f":"IF(LDAR_H_UU_summary!C1651=\"\",\"\",LDAR_H_UU_summary!C1651)","v":""},{"$f":"IF(COUNTIF(N$2:N1829,N1829)=1,N1829,\"\")","v":""},{"$f":"+IF(O1829=\"\",\"\",MAX(P$1:P1828)+1)","v":""},""]
[null,null,null,null,null,null,null,null,null,null,null,null,null,{"$f":"IF(LDAR_H_UU_summary!C1652=\"\",\"\",LDAR_H_UU_summary!C1652)","v":""},{"$f":"IF(COUNTIF(N$2:N1830,N1830)=1,N1830,\"\")","v":""},{"$f":"+IF(O1830=\"\",\"\",MAX(P$1:P1829)+1)","v":""},""]
[null,null,null,null,null,null,null,null,null,null,null,null,null,{"$f":"IF(LDAR_H_UU_summary!C1653=\"\",\"\",LDAR_H_UU_summary!C1653)","v":""},{"$f":"IF(COUNTIF(N$2:N1831,N1831)=1,N1831,\"\")","v":""},{"$f":"+IF(O1831=\"\",\"\",MAX(P$1:P1830)+1)","v":""},""]
[null,null,null,null,null,null,null,null,null,null,null,null,null,{"$f":"IF(LDAR_H_UU_summary!C1654=\"\",\"\",LDAR_H_UU_summary!C1654)","v":""},{"$f":"IF(COUNTIF(N$2:N1832,N1832)=1,N1832,\"\")","v":""},{"$f":"+IF(O1832=\"\",\"\",MAX(P$1:P1831)+1)","v":""},""]
[null,null,null,null,null,null,null,null,null,null,null,null,null,{"$f":"IF(LDAR_H_UU_summary!C1655=\"\",\"\",LDAR_H_UU_summary!C1655)","v":""},{"$f":"IF(COUNTIF(N$2:N1833,N1833)=1,N1833,\"\")","v":""},{"$f":"+IF(O1833=\"\",\"\",MAX(P$1:P1832)+1)","v":""},""]
[null,null,null,null,null,null,null,null,null,null,null,null,null,{"$f":"IF(LDAR_H_UU_summary!C1656=\"\",\"\",LDAR_H_UU_summary!C1656)","v":""},{"$f":"IF(COUNTIF(N$2:N1834,N1834)=1,N1834,\"\")","v":""},{"$f":"+IF(O1834=\"\",\"\",MAX(P$1:P1833)+1)","v":""},""]
[null,null,null,null,null,null,null,null,null,null,null,null,null,{"$f":"IF(LDAR_H_UU_summary!C1657=\"\",\"\",LDAR_H_UU_summary!C1657)","v":""},{"$f":"IF(COUNTIF(N$2:N1835,N1835)=1,N1835,\"\")","v":""},{"$f":"+IF(O1835=\"\",\"\",MAX(P$1:P1834)+1)","v":""},""]
[null,null,null,null,null,null,null,null,null,null,null,null,null,{"$f":"IF(LDAR_H_UU_summary!C1658=\"\",\"\",LDAR_H_UU_summary!C1658)","v":""},{"$f":"IF(COUNTIF(N$2:N1836,N1836)=1,N1836,\"\")","v":""},{"$f":"+IF(O1836=\"\",\"\",MAX(P$1:P1835)+1)","v":""},""]
[null,null,null,null,null,null,null,null,null,null,null,null,null,{"$f":"IF(LDAR_H_UU_summary!C1659=\"\",\"\",LDAR_H_UU_summary!C1659)","v":""},{"$f":"IF(COUNTIF(N$2:N1837,N1837)=1,N1837,\"\")","v":""},{"$f":"+IF(O1837=\"\",\"\",MAX(P$1:P1836)+1)","v":""},""]
[null,null,null,null,null,null,null,null,null,null,null,null,null,{"$f":"IF(LDAR_H_UU_summary!C1660=\"\",\"\",LDAR_H_UU_summary!C1660)","v":""},{"$f":"IF(COUNTIF(N$2:N1838,N1838)=1,N1838,\"\")","v":""},{"$f":"+IF(O1838=\"\",\"\",MAX(P$1:P1837)+1)","v":""},""]
[null,null,null,null,null,null,null,null,null,null,null,null,null,{"$f":"IF(LDAR_H_UU_summary!C1661=\"\",\"\",LDAR_H_UU_summary!C1661)","v":""},{"$f":"IF(COUNTIF(N$2:N1839,N1839)=1,N1839,\"\")","v":""},{"$f":"+IF(O1839=\"\",\"\",MAX(P$1:P1838)+1)","v":""},""]
[null,null,null,null,null,null,null,null,null,null,null,null,null,{"$f":"IF(LDAR_H_UU_summary!C1662=\"\",\"\",LDAR_H_UU_summary!C1662)","v":""},{"$f":"IF(COUNTIF(N$2:N1840,N1840)=1,N1840,\"\")","v":""},{"$f":"+IF(O1840=\"\",\"\",MAX(P$1:P1839)+1)","v":""},""]
[null,null,null,null,null,null,null,null,null,null,null,null,null,{"$f":"IF(LDAR_H_UU_summary!C1663=\"\",\"\",LDAR_H_UU_summary!C1663)","v":""},{"$f":"IF(COUNTIF(N$2:N1841,N1841)=1,N1841,\"\")","v":""},{"$f":"+IF(O1841=\"\",\"\",MAX(P$1:P1840)+1)","v":""},""]
[null,null,null,null,null,null,null,null,null,null,null,null,null,{"$f":"IF(LDAR_H_UU_summary!C1664=\"\",\"\",LDAR_H_UU_summary!C1664)","v":""},{"$f":"IF(COUNTIF(N$2:N1842,N1842)=1,N1842,\"\")","v":""},{"$f":"+IF(O1842=\"\",\"\",MAX(P$1:P1841)+1)","v":""},""]
[null,null,null,null,null,null,null,null,null,null,null,null,null,{"$f":"IF(LDAR_H_UU_summary!C1665=\"\",\"\",LDAR_H_UU_summary!C1665)","v":""},{"$f":"IF(COUNTIF(N$2:N1843,N1843)=1,N1843,\"\")","v":""},{"$f":"+IF(O1843=\"\",\"\",MAX(P$1:P1842)+1)","v":""},""]
[null,null,null,null,null,null,null,null,null,null,null,null,null,{"$f":"IF(LDAR_H_UU_summary!C1666=\"\",\"\",LDAR_H_UU_summary!C1666)","v":""},{"$f":"IF(COUNTIF(N$2:N1844,N1844)=1,N1844,\"\")","v":""},{"$f":"+IF(O1844=\"\",\"\",MAX(P$1:P1843)+1)","v":""},""]
[null,null,null,null,null,null,null,null,null,null,null,null,null,{"$f":"IF(LDAR_H_UU_summary!C1667=\"\",\"\",LDAR_H_UU_summary!C1667)","v":""},{"$f":"IF(COUNTIF(N$2:N1845,N1845)=1,N1845,\"\")","v":""},{"$f":"+IF(O1845=\"\",\"\",MAX(P$1:P1844)+1)","v":""},""]
[null,null,null,null,null,null,null,null,null,null,null,null,null,{"$f":"IF(LDAR_H_UU_summary!C1668=\"\",\"\",LDAR_H_UU_summary!C1668)","v":""},{"$f":"IF(COUNTIF(N$2:N1846,N1846)=1,N1846,\"\")","v":""},{"$f":"+IF(O1846=\"\",\"\",MAX(P$1:P1845)+1)","v":""},""]
[null,null,null,null,null,null,null,null,null,null,null,null,null,{"$f":"IF(LDAR_H_UU_summary!C1669=\"\",\"\",LDAR_H_UU_summary!C1669)","v":""},{"$f":"IF(COUNTIF(N$2:N1847,N1847)=1,N1847,\"\")","v":""},{"$f":"+IF(O1847=\"\",\"\",MAX(P$1:P1846)+1)","v":""},""]
[null,null,null,null,null,null,null,null,null,null,null,null,null,{"$f":"IF(LDAR_H_UU_summary!C1670=\"\",\"\",LDAR_H_UU_summary!C1670)","v":""},{"$f":"IF(COUNTIF(N$2:N1848,N1848)=1,N1848,\"\")","v":""},{"$f":"+IF(O1848=\"\",\"\",MAX(P$1:P1847)+1)","v":""},""]
[null,null,null,null,null,null,null,null,null,null,null,null,null,{"$f":"IF(LDAR_H_UU_summary!C1671=\"\",\"\",LDAR_H_UU_summary!C1671)","v":""},{"$f":"IF(COUNTIF(N$2:N1849,N1849)=1,N1849,\"\")","v":""},{"$f":"+IF(O1849=\"\",\"\",MAX(P$1:P1848)+1)","v":""},""]
[null,null,null,null,null,null,null,null,null,null,null,null,null,{"$f":"IF(LDAR_H_UU_summary!C1672=\"\",\"\",LDAR_H_UU_summary!C1672)","v":""},{"$f":"IF(COUNTIF(N$2:N1850,N1850)=1,N1850,\"\")","v":""},{"$f":"+IF(O1850=\"\",\"\",MAX(P$1:P1849)+1)","v":""},""]
[null,null,null,null,null,null,null,null,null,null,null,null,null,{"$f":"IF(LDAR_H_UU_summary!C1673=\"\",\"\",LDAR_H_UU_summary!C1673)","v":""},{"$f":"IF(COUNTIF(N$2:N1851,N1851)=1,N1851,\"\")","v":""},{"$f":"+IF(O1851=\"\",\"\",MAX(P$1:P1850)+1)","v":""},""]
[null,null,null,null,null,null,null,null,null,null,null,null,null,{"$f":"IF(LDAR_H_UU_summary!C1674=\"\",\"\",LDAR_H_UU_summary!C1674)","v":""},{"$f":"IF(COUNTIF(N$2:N1852,N1852)=1,N1852,\"\")","v":""},{"$f":"+IF(O1852=\"\",\"\",MAX(P$1:P1851)+1)","v":""},""]
[null,null,null,null,null,null,null,null,null,null,null,null,null,{"$f":"IF(LDAR_H_UU_summary!C1675=\"\",\"\",LDAR_H_UU_summary!C1675)","v":""},{"$f":"IF(COUNTIF(N$2:N1853,N1853)=1,N1853,\"\")","v":""},{"$f":"+IF(O1853=\"\",\"\",MAX(P$1:P1852)+1)","v":""},""]
[null,null,null,null,null,null,null,null,null,null,null,null,null,{"$f":"IF(LDAR_H_UU_summary!C1676=\"\",\"\",LDAR_H_UU_summary!C1676)","v":""},{"$f":"IF(COUNTIF(N$2:N1854,N1854)=1,N1854,\"\")","v":""},{"$f":"+IF(O1854=\"\",\"\",MAX(P$1:P1853)+1)","v":""},""]
[null,null,null,null,null,null,null,null,null,null,null,null,null,{"$f":"IF(LDAR_H_UU_summary!C1677=\"\",\"\",LDAR_H_UU_summary!C1677)","v":""},{"$f":"IF(COUNTIF(N$2:N1855,N1855)=1,N1855,\"\")","v":""},{"$f":"+IF(O1855=\"\",\"\",MAX(P$1:P1854)+1)","v":""},""]
[null,null,null,null,null,null,null,null,null,null,null,null,null,{"$f":"IF(LDAR_H_UU_summary!C1678=\"\",\"\",LDAR_H_UU_summary!C1678)","v":""},{"$f":"IF(COUNTIF(N$2:N1856,N1856)=1,N1856,\"\")","v":""},{"$f":"+IF(O1856=\"\",\"\",MAX(P$1:P1855)+1)","v":""},""]
[null,null,null,null,null,null,null,null,null,null,null,null,null,{"$f":"IF(LDAR_H_UU_summary!C1679=\"\",\"\",LDAR_H_UU_summary!C1679)","v":""},{"$f":"IF(COUNTIF(N$2:N1857,N1857)=1,N1857,\"\")","v":""},{"$f":"+IF(O1857=\"\",\"\",MAX(P$1:P1856)+1)","v":""},""]
[null,null,null,null,null,null,null,null,null,null,null,null,null,{"$f":"IF(LDAR_H_UU_summary!C1680=\"\",\"\",LDAR_H_UU_summary!C1680)","v":""},{"$f":"IF(COUNTIF(N$2:N1858,N1858)=1,N1858,\"\")","v":""},{"$f":"+IF(O1858=\"\",\"\",MAX(P$1:P1857)+1)","v":""},""]
[null,null,null,null,null,null,null,null,null,null,null,null,null,{"$f":"IF(LDAR_H_UU_summary!C1681=\"\",\"\",LDAR_H_UU_summary!C1681)","v":""},{"$f":"IF(COUNTIF(N$2:N1859,N1859)=1,N1859,\"\")","v":""},{"$f":"+IF(O1859=\"\",\"\",MAX(P$1:P1858)+1)","v":""},{"$f":"+IFERROR(INDEX($N$2:$N$2001,MATCH(ROW()-ROW($P$1),$P$2:$P$2001,0)),\"\")","v":""}]
[null,null,null,null,null,null,null,null,null,null,null,null,null,{"$f":"IF(LDAR_H_UU_summary!C1682=\"\",\"\",LDAR_H_UU_summary!C1682)","v":""},{"$f":"IF(COUNTIF(N$2:N1860,N1860)=1,N1860,\"\")","v":""},{"$f":"+IF(O1860=\"\",\"\",MAX(P$1:P1859)+1)","v":""},""]
[null,null,null,null,null,null,null,null,null,null,null,null,null,{"$f":"IF(LDAR_H_UU_summary!C1683=\"\",\"\",LDAR_H_UU_summary!C1683)","v":""},{"$f":"IF(COUNTIF(N$2:N1861,N1861)=1,N1861,\"\")","v":""},{"$f":"+IF(O1861=\"\",\"\",MAX(P$1:P1860)+1)","v":""},""]
[null,null,null,null,null,null,null,null,null,null,null,null,null,{"$f":"IF(LDAR_H_UU_summary!C1684=\"\",\"\",LDAR_H_UU_summary!C1684)","v":""},{"$f":"IF(COUNTIF(N$2:N1862,N1862)=1,N1862,\"\")","v":""},{"$f":"+IF(O1862=\"\",\"\",MAX(P$1:P1861)+1)","v":""},""]
[null,null,null,null,null,null,null,null,null,null,null,null,null,{"$f":"IF(LDAR_H_UU_summary!C1685=\"\",\"\",LDAR_H_UU_summary!C1685)","v":""},{"$f":"IF(COUNTIF(N$2:N1863,N1863)=1,N1863,\"\")","v":""},{"$f":"+IF(O1863=\"\",\"\",MAX(P$1:P1862)+1)","v":""},""]
[null,null,null,null,null,null,null,null,null,null,null,null,null,{"$f":"IF(LDAR_H_UU_summary!C1686=\"\",\"\",LDAR_H_UU_summary!C1686)","v":""},{"$f":"IF(COUNTIF(N$2:N1864,N1864)=1,N1864,\"\")","v":""},{"$f":"+IF(O1864=\"\",\"\",MAX(P$1:P1863)+1)","v":""},""]
[null,null,null,null,null,null,null,null,null,null,null,null,null,{"$f":"IF(LDAR_H_UU_summary!C1687=\"\",\"\",LDAR_H_UU_summary!C1687)","v":""},{"$f":"IF(COUNTIF(N$2:N1865,N1865)=1,N1865,\"\")","v":""},{"$f":"+IF(O1865=\"\",\"\",MAX(P$1:P1864)+1)","v":""},""]
[null,null,null,null,null,null,null,null,null,null,null,null,null,{"$f":"IF(LDAR_H_UU_summary!C1688=\"\",\"\",LDAR_H_UU_summary!C1688)","v":""},{"$f":"IF(COUNTIF(N$2:N1866,N1866)=1,N1866,\"\")","v":""},{"$f":"+IF(O1866=\"\",\"\",MAX(P$1:P1865)+1)","v":""},""]
[null,null,null,null,null,null,null,null,null,null,null,null,null,{"$f":"IF(LDAR_H_UU_summary!C1689=\"\",\"\",LDAR_H_UU_summary!C1689)","v":""},{"$f":"IF(COUNTIF(N$2:N1867,N1867)=1,N1867,\"\")","v":""},{"$f":"+IF(O1867=\"\",\"\",MAX(P$1:P1866)+1)","v":""},""]
[null,null,null,null,null,null,null,null,null,null,null,null,null,{"$f":"IF(LDAR_H_UU_summary!C1690=\"\",\"\",LDAR_H_UU_summary!C1690)","v":""},{"$f":"IF(COUNTIF(N$2:N1868,N1868)=1,N1868,\"\")","v":""},{"$f":"+IF(O1868=\"\",\"\",MAX(P$1:P1867)+1)","v":""},""]
[null,null,null,null,null,null,null,null,null,null,null,null,null,{"$f":"IF(LDAR_H_UU_summary!C1691=\"\",\"\",LDAR_H_UU_summary!C1691)","v":""},{"$f":"IF(COUNTIF(N$2:N1869,N1869)=1,N1869,\"\")","v":""},{"$f":"+IF(O1869=\"\",\"\",MAX(P$1:P1868)+1)","v":""},""]
[null,null,null,null,null,null,null,null,null,null,null,null,null,{"$f":"IF(LDAR_H_UU_summary!C1692=\"\",\"\",LDAR_H_UU_summary!C1692)","v":""},{"$f":"IF(COUNTIF(N$2:N1870,N1870)=1,N1870,\"\")","v":""},{"$f":"+IF(O1870=\"\",\"\",MAX(P$1:P1869)+1)","v":""},""]
[null,null,null,null,null,null,null,null,null,null,null,null,null,{"$f":"IF(LDAR_H_UU_summary!C1693=\"\",\"\",LDAR_H_UU_summary!C1693)","v":""},{"$f":"IF(COUNTIF(N$2:N1871,N1871)=1,N1871,\"\")","v":""},{"$f":"+IF(O1871=\"\",\"\",MAX(P$1:P1870)+1)","v":""},""]
[null,null,null,null,null,null,null,null,null,null,null,null,null,{"$f":"IF(LDAR_H_UU_summary!C1694=\"\",\"\",LDAR_H_UU_summary!C1694)","v":""},{"$f":"IF(COUNTIF(N$2:N1872,N1872)=1,N1872,\"\")","v":""},{"$f":"+IF(O1872=\"\",\"\",MAX(P$1:P1871)+1)","v":""},""]
[null,null,null,null,null,null,null,null,null,null,null,null,null,{"$f":"IF(LDAR_H_UU_summary!C1695=\"\",\"\",LDAR_H_UU_summary!C1695)","v":""},{"$f":"IF(COUNTIF(N$2:N1873,N1873)=1,N1873,\"\")","v":""},{"$f":"+IF(O1873=\"\",\"\",MAX(P$1:P1872)+1)","v":""},""]
[null,null,null,null,null,null,null,null,null,null,null,null,null,{"$f":"IF(LDAR_H_UU_summary!C1696=\"\",\"\",LDAR_H_UU_summary!C1696)","v":""},{"$f":"IF(COUNTIF(N$2:N1874,N1874)=1,N1874,\"\")","v":""},{"$f":"+IF(O1874=\"\",\"\",MAX(P$1:P1873)+1)","v":""},""]
[null,null,null,null,null,null,null,null,null,null,null,null,null,{"$f":"IF(LDAR_H_UU_summary!C1697=\"\",\"\",LDAR_H_UU_summary!C1697)","v":""},{"$f":"IF(COUNTIF(N$2:N1875,N1875)=1,N1875,\"\")","v":""},{"$f":"+IF(O1875=\"\",\"\",MAX(P$1:P1874)+1)","v":""},""]
[null,null,null,null,null,null,null,null,null,null,null,null,null,{"$f":"IF(LDAR_H_UU_summary!C1698=\"\",\"\",LDAR_H_UU_summary!C1698)","v":""},{"$f":"IF(COUNTIF(N$2:N1876,N1876)=1,N1876,\"\")","v":""},{"$f":"+IF(O1876=\"\",\"\",MAX(P$1:P1875)+1)","v":""},""]
[null,null,null,null,null,null,null,null,null,null,null,null,null,{"$f":"IF(LDAR_H_UU_summary!C1699=\"\",\"\",LDAR_H_UU_summary!C1699)","v":""},{"$f":"IF(COUNTIF(N$2:N1877,N1877)=1,N1877,\"\")","v":""},{"$f":"+IF(O1877=\"\",\"\",MAX(P$1:P1876)+1)","v":""},""]
[null,null,null,null,null,null,null,null,null,null,null,null,null,{"$f":"IF(LDAR_H_UU_summary!C1700=\"\",\"\",LDAR_H_UU_summary!C1700)","v":""},{"$f":"IF(COUNTIF(N$2:N1878,N1878)=1,N1878,\"\")","v":""},{"$f":"+IF(O1878=\"\",\"\",MAX(P$1:P1877)+1)","v":""},""]
[null,null,null,null,null,null,null,null,null,null,null,null,null,{"$f":"IF(LDAR_H_UU_summary!C1701=\"\",\"\",LDAR_H_UU_summary!C1701)","v":""},{"$f":"IF(COUNTIF(N$2:N1879,N1879)=1,N1879,\"\")","v":""},{"$f":"+IF(O1879=\"\",\"\",MAX(P$1:P1878)+1)","v":""},""]
[null,null,null,null,null,null,null,null,null,null,null,null,null,{"$f":"IF(LDAR_H_UU_summary!C1702=\"\",\"\",LDAR_H_UU_summary!C1702)","v":""},{"$f":"IF(COUNTIF(N$2:N1880,N1880)=1,N1880,\"\")","v":""},{"$f":"+IF(O1880=\"\",\"\",MAX(P$1:P1879)+1)","v":""},""]
[null,null,null,null,null,null,null,null,null,null,null,null,null,{"$f":"IF(LDAR_H_UU_summary!C1703=\"\",\"\",LDAR_H_UU_summary!C1703)","v":""},{"$f":"IF(COUNTIF(N$2:N1881,N1881)=1,N1881,\"\")","v":""},{"$f":"+IF(O1881=\"\",\"\",MAX(P$1:P1880)+1)","v":""},""]
[null,null,null,null,null,null,null,null,null,null,null,null,null,{"$f":"IF(LDAR_H_UU_summary!C1704=\"\",\"\",LDAR_H_UU_summary!C1704)","v":""},{"$f":"IF(COUNTIF(N$2:N1882,N1882)=1,N1882,\"\")","v":""},{"$f":"+IF(O1882=\"\",\"\",MAX(P$1:P1881)+1)","v":""},""]
[null,null,null,null,null,null,null,null,null,null,null,null,null,{"$f":"IF(LDAR_H_UU_summary!C1705=\"\",\"\",LDAR_H_UU_summary!C1705)","v":""},{"$f":"IF(COUNTIF(N$2:N1883,N1883)=1,N1883,\"\")","v":""},{"$f":"+IF(O1883=\"\",\"\",MAX(P$1:P1882)+1)","v":""},""]
[null,null,null,null,null,null,null,null,null,null,null,null,null,{"$f":"IF(LDAR_H_UU_summary!C1706=\"\",\"\",LDAR_H_UU_summary!C1706)","v":""},{"$f":"IF(COUNTIF(N$2:N1884,N1884)=1,N1884,\"\")","v":""},{"$f":"+IF(O1884=\"\",\"\",MAX(P$1:P1883)+1)","v":""},""]
[null,null,null,null,null,null,null,null,null,null,null,null,null,{"$f":"IF(LDAR_H_UU_summary!C1707=\"\",\"\",LDAR_H_UU_summary!C1707)","v":""},{"$f":"IF(COUNTIF(N$2:N1885,N1885)=1,N1885,\"\")","v":""},{"$f":"+IF(O1885=\"\",\"\",MAX(P$1:P1884)+1)","v":""},""]
[null,null,null,null,null,null,null,null,null,null,null,null,null,{"$f":"IF(LDAR_H_UU_summary!C1708=\"\",\"\",LDAR_H_UU_summary!C1708)","v":""},{"$f":"IF(COUNTIF(N$2:N1886,N1886)=1,N1886,\"\")","v":""},{"$f":"+IF(O1886=\"\",\"\",MAX(P$1:P1885)+1)","v":""},""]
[null,null,null,null,null,null,null,null,null,null,null,null,null,{"$f":"IF(LDAR_H_UU_summary!C1709=\"\",\"\",LDAR_H_UU_summary!C1709)","v":""},{"$f":"IF(COUNTIF(N$2:N1887,N1887)=1,N1887,\"\")","v":""},{"$f":"+IF(O1887=\"\",\"\",MAX(P$1:P1886)+1)","v":""},""]
[null,null,null,null,null,null,null,null,null,null,null,null,null,{"$f":"IF(LDAR_H_UU_summary!C1710=\"\",\"\",LDAR_H_UU_summary!C1710)","v":""},{"$f":"IF(COUNTIF(N$2:N1888,N1888)=1,N1888,\"\")","v":""},{"$f":"+IF(O1888=\"\",\"\",MAX(P$1:P1887)+1)","v":""},""]
[null,null,null,null,null,null,null,null,null,null,null,null,null,{"$f":"IF(LDAR_H_UU_summary!C1711=\"\",\"\",LDAR_H_UU_summary!C1711)","v":""},{"$f":"IF(COUNTIF(N$2:N1889,N1889)=1,N1889,\"\")","v":""},{"$f":"+IF(O1889=\"\",\"\",MAX(P$1:P1888)+1)","v":""},""]
[null,null,null,null,null,null,null,null,null,null,null,null,null,{"$f":"IF(LDAR_H_UU_summary!C1712=\"\",\"\",LDAR_H_UU_summary!C1712)","v":""},{"$f":"IF(COUNTIF(N$2:N1890,N1890)=1,N1890,\"\")","v":""},{"$f":"+IF(O1890=\"\",\"\",MAX(P$1:P1889)+1)","v":""},""]
[null,null,null,null,null,null,null,null,null,null,null,null,null,{"$f":"IF(LDAR_H_UU_summary!C1713=\"\",\"\",LDAR_H_UU_summary!C1713)","v":""},{"$f":"IF(COUNTIF(N$2:N1891,N1891)=1,N1891,\"\")","v":""},{"$f":"+IF(O1891=\"\",\"\",MAX(P$1:P1890)+1)","v":""},""]
[null,null,null,null,null,null,null,null,null,null,null,null,null,{"$f":"IF(LDAR_H_UU_summary!C1714=\"\",\"\",LDAR_H_UU_summary!C1714)","v":""},{"$f":"IF(COUNTIF(N$2:N1892,N1892)=1,N1892,\"\")","v":""},{"$f":"+IF(O1892=\"\",\"\",MAX(P$1:P1891)+1)","v":""},""]
[null,null,null,null,null,null,null,null,null,null,null,null,null,{"$f":"IF(LDAR_H_UU_summary!C1715=\"\",\"\",LDAR_H_UU_summary!C1715)","v":""},{"$f":"IF(COUNTIF(N$2:N1893,N1893)=1,N1893,\"\")","v":""},{"$f":"+IF(O1893=\"\",\"\",MAX(P$1:P1892)+1)","v":""},""]
[null,null,null,null,null,null,null,null,null,null,null,null,null,{"$f":"IF(LDAR_H_UU_summary!C1716=\"\",\"\",LDAR_H_UU_summary!C1716)","v":""},{"$f":"IF(COUNTIF(N$2:N1894,N1894)=1,N1894,\"\")","v":""},{"$f":"+IF(O1894=\"\",\"\",MAX(P$1:P1893)+1)","v":""},""]
[null,null,null,null,null,null,null,null,null,null,null,null,null,{"$f":"IF(LDAR_H_UU_summary!C1717=\"\",\"\",LDAR_H_UU_summary!C1717)","v":""},{"$f":"IF(COUNTIF(N$2:N1895,N1895)=1,N1895,\"\")","v":""},{"$f":"+IF(O1895=\"\",\"\",MAX(P$1:P1894)+1)","v":""},""]
[null,null,null,null,null,null,null,null,null,null,null,null,null,{"$f":"IF(LDAR_H_UU_summary!C1718=\"\",\"\",LDAR_H_UU_summary!C1718)","v":""},{"$f":"IF(COUNTIF(N$2:N1896,N1896)=1,N1896,\"\")","v":""},{"$f":"+IF(O1896=\"\",\"\",MAX(P$1:P1895)+1)","v":""},""]
[null,null,null,null,null,null,null,null,null,null,null,null,null,{"$f":"IF(LDAR_H_UU_summary!C1719=\"\",\"\",LDAR_H_UU_summary!C1719)","v":""},{"$f":"IF(COUNTIF(N$2:N1897,N1897)=1,N1897,\"\")","v":""},{"$f":"+IF(O1897=\"\",\"\",MAX(P$1:P1896)+1)","v":""},""]
[null,null,null,null,null,null,null,null,null,null,null,null,null,{"$f":"IF(LDAR_H_UU_summary!C1720=\"\",\"\",LDAR_H_UU_summary!C1720)","v":""},{"$f":"IF(COUNTIF(N$2:N1898,N1898)=1,N1898,\"\")","v":""},{"$f":"+IF(O1898=\"\",\"\",MAX(P$1:P1897)+1)","v":""},""]
[null,null,null,null,null,null,null,null,null,null,null,null,null,{"$f":"IF(LDAR_H_UU_summary!C1721=\"\",\"\",LDAR_H_UU_summary!C1721)","v":""},{"$f":"IF(COUNTIF(N$2:N1899,N1899)=1,N1899,\"\")","v":""},{"$f":"+IF(O1899=\"\",\"\",MAX(P$1:P1898)+1)","v":""},""]
[null,null,null,null,null,null,null,null,null,null,null,null,null,{"$f":"IF(LDAR_H_UU_summary!C1722=\"\",\"\",LDAR_H_UU_summary!C1722)","v":""},{"$f":"IF(COUNTIF(N$2:N1900,N1900)=1,N1900,\"\")","v":""},{"$f":"+IF(O1900=\"\",\"\",MAX(P$1:P1899)+1)","v":""},""]
[null,null,null,null,null,null,null,null,null,null,null,null,null,{"$f":"IF(LDAR_H_UU_summary!C1723=\"\",\"\",LDAR_H_UU_summary!C1723)","v":""},{"$f":"IF(COUNTIF(N$2:N1901,N1901)=1,N1901,\"\")","v":""},{"$f":"+IF(O1901=\"\",\"\",MAX(P$1:P1900)+1)","v":""},""]
[null,null,null,null,null,null,null,null,null,null,null,null,null,{"$f":"IF(LDAR_H_UU_summary!C1724=\"\",\"\",LDAR_H_UU_summary!C1724)","v":""},{"$f":"IF(COUNTIF(N$2:N1902,N1902)=1,N1902,\"\")","v":""},{"$f":"+IF(O1902=\"\",\"\",MAX(P$1:P1901)+1)","v":""},""]
[null,null,null,null,null,null,null,null,null,null,null,null,null,{"$f":"IF(LDAR_H_UU_summary!C1725=\"\",\"\",LDAR_H_UU_summary!C1725)","v":""},{"$f":"IF(COUNTIF(N$2:N1903,N1903)=1,N1903,\"\")","v":""},{"$f":"+IF(O1903=\"\",\"\",MAX(P$1:P1902)+1)","v":""},""]
[null,null,null,null,null,null,null,null,null,null,null,null,null,{"$f":"IF(LDAR_H_UU_summary!C1726=\"\",\"\",LDAR_H_UU_summary!C1726)","v":""},{"$f":"IF(COUNTIF(N$2:N1904,N1904)=1,N1904,\"\")","v":""},{"$f":"+IF(O1904=\"\",\"\",MAX(P$1:P1903)+1)","v":""},""]
[null,null,null,null,null,null,null,null,null,null,null,null,null,{"$f":"IF(LDAR_H_UU_summary!C1727=\"\",\"\",LDAR_H_UU_summary!C1727)","v":""},{"$f":"IF(COUNTIF(N$2:N1905,N1905)=1,N1905,\"\")","v":""},{"$f":"+IF(O1905=\"\",\"\",MAX(P$1:P1904)+1)","v":""},""]
[null,null,null,null,null,null,null,null,null,null,null,null,null,{"$f":"IF(LDAR_H_UU_summary!C1728=\"\",\"\",LDAR_H_UU_summary!C1728)","v":""},{"$f":"IF(COUNTIF(N$2:N1906,N1906)=1,N1906,\"\")","v":""},{"$f":"+IF(O1906=\"\",\"\",MAX(P$1:P1905)+1)","v":""},""]
[null,null,null,null,null,null,null,null,null,null,null,null,null,{"$f":"IF(LDAR_H_UU_summary!C1729=\"\",\"\",LDAR_H_UU_summary!C1729)","v":""},{"$f":"IF(COUNTIF(N$2:N1907,N1907)=1,N1907,\"\")","v":""},{"$f":"+IF(O1907=\"\",\"\",MAX(P$1:P1906)+1)","v":""},""]
[null,null,null,null,null,null,null,null,null,null,null,null,null,{"$f":"IF(LDAR_H_UU_summary!C1730=\"\",\"\",LDAR_H_UU_summary!C1730)","v":""},{"$f":"IF(COUNTIF(N$2:N1908,N1908)=1,N1908,\"\")","v":""},{"$f":"+IF(O1908=\"\",\"\",MAX(P$1:P1907)+1)","v":""},""]
[null,null,null,null,null,null,null,null,null,null,null,null,null,{"$f":"IF(LDAR_H_UU_summary!C1731=\"\",\"\",LDAR_H_UU_summary!C1731)","v":""},{"$f":"IF(COUNTIF(N$2:N1909,N1909)=1,N1909,\"\")","v":""},{"$f":"+IF(O1909=\"\",\"\",MAX(P$1:P1908)+1)","v":""},""]
[null,null,null,null,null,null,null,null,null,null,null,null,null,{"$f":"IF(LDAR_H_UU_summary!C1732=\"\",\"\",LDAR_H_UU_summary!C1732)","v":""},{"$f":"IF(COUNTIF(N$2:N1910,N1910)=1,N1910,\"\")","v":""},{"$f":"+IF(O1910=\"\",\"\",MAX(P$1:P1909)+1)","v":""},""]
[null,null,null,null,null,null,null,null,null,null,null,null,null,{"$f":"IF(LDAR_H_UU_summary!C1733=\"\",\"\",LDAR_H_UU_summary!C1733)","v":""},{"$f":"IF(COUNTIF(N$2:N1911,N1911)=1,N1911,\"\")","v":""},{"$f":"+IF(O1911=\"\",\"\",MAX(P$1:P1910)+1)","v":""},""]
[null,null,null,null,null,null,null,null,null,null,null,null,null,{"$f":"IF(LDAR_H_UU_summary!C1734=\"\",\"\",LDAR_H_UU_summary!C1734)","v":""},{"$f":"IF(COUNTIF(N$2:N1912,N1912)=1,N1912,\"\")","v":""},{"$f":"+IF(O1912=\"\",\"\",MAX(P$1:P1911)+1)","v":""},""]
[null,null,null,null,null,null,null,null,null,null,null,null,null,{"$f":"IF(LDAR_H_UU_summary!C1735=\"\",\"\",LDAR_H_UU_summary!C1735)","v":""},{"$f":"IF(COUNTIF(N$2:N1913,N1913)=1,N1913,\"\")","v":""},{"$f":"+IF(O1913=\"\",\"\",MAX(P$1:P1912)+1)","v":""},""]
[null,null,null,null,null,null,null,null,null,null,null,null,null,{"$f":"IF(LDAR_H_UU_summary!C1736=\"\",\"\",LDAR_H_UU_summary!C1736)","v":""},{"$f":"IF(COUNTIF(N$2:N1914,N1914)=1,N1914,\"\")","v":""},{"$f":"+IF(O1914=\"\",\"\",MAX(P$1:P1913)+1)","v":""},""]
[null,null,null,null,null,null,null,null,null,null,null,null,null,{"$f":"IF(LDAR_H_UU_summary!C1737=\"\",\"\",LDAR_H_UU_summary!C1737)","v":""},{"$f":"IF(COUNTIF(N$2:N1915,N1915)=1,N1915,\"\")","v":""},{"$f":"+IF(O1915=\"\",\"\",MAX(P$1:P1914)+1)","v":""},""]
[null,null,null,null,null,null,null,null,null,null,null,null,null,{"$f":"IF(LDAR_H_UU_summary!C1738=\"\",\"\",LDAR_H_UU_summary!C1738)","v":""},{"$f":"IF(COUNTIF(N$2:N1916,N1916)=1,N1916,\"\")","v":""},{"$f":"+IF(O1916=\"\",\"\",MAX(P$1:P1915)+1)","v":""},""]
[null,null,null,null,null,null,null,null,null,null,null,null,null,{"$f":"IF(LDAR_H_UU_summary!C1739=\"\",\"\",LDAR_H_UU_summary!C1739)","v":""},{"$f":"IF(COUNTIF(N$2:N1917,N1917)=1,N1917,\"\")","v":""},{"$f":"+IF(O1917=\"\",\"\",MAX(P$1:P1916)+1)","v":""},""]
[null,null,null,null,null,null,null,null,null,null,null,null,null,{"$f":"IF(LDAR_H_UU_summary!C1740=\"\",\"\",LDAR_H_UU_summary!C1740)","v":""},{"$f":"IF(COUNTIF(N$2:N1918,N1918)=1,N1918,\"\")","v":""},{"$f":"+IF(O1918=\"\",\"\",MAX(P$1:P1917)+1)","v":""},""]
[null,null,null,null,null,null,null,null,null,null,null,null,null,{"$f":"IF(LDAR_H_UU_summary!C1741=\"\",\"\",LDAR_H_UU_summary!C1741)","v":""},{"$f":"IF(COUNTIF(N$2:N1919,N1919)=1,N1919,\"\")","v":""},{"$f":"+IF(O1919=\"\",\"\",MAX(P$1:P1918)+1)","v":""},""]
[null,null,null,null,null,null,null,null,null,null,null,null,null,{"$f":"IF(LDAR_H_UU_summary!C1742=\"\",\"\",LDAR_H_UU_summary!C1742)","v":""},{"$f":"IF(COUNTIF(N$2:N1920,N1920)=1,N1920,\"\")","v":""},{"$f":"+IF(O1920=\"\",\"\",MAX(P$1:P1919)+1)","v":""},""]
[null,null,null,null,null,null,null,null,null,null,null,null,null,{"$f":"IF(LDAR_H_UU_summary!C1743=\"\",\"\",LDAR_H_UU_summary!C1743)","v":""},{"$f":"IF(COUNTIF(N$2:N1921,N1921)=1,N1921,\"\")","v":""},{"$f":"+IF(O1921=\"\",\"\",MAX(P$1:P1920)+1)","v":""},""]
[null,null,null,null,null,null,null,null,null,null,null,null,null,{"$f":"IF(LDAR_H_UU_summary!C1744=\"\",\"\",LDAR_H_UU_summary!C1744)","v":""},{"$f":"IF(COUNTIF(N$2:N1922,N1922)=1,N1922,\"\")","v":""},{"$f":"+IF(O1922=\"\",\"\",MAX(P$1:P1921)+1)","v":""},""]
[null,null,null,null,null,null,null,null,null,null,null,null,null,{"$f":"IF(LDAR_H_UU_summary!C1745=\"\",\"\",LDAR_H_UU_summary!C1745)","v":""},{"$f":"IF(COUNTIF(N$2:N1923,N1923)=1,N1923,\"\")","v":""},{"$f":"+IF(O1923=\"\",\"\",MAX(P$1:P1922)+1)","v":""},{"$f":"+IFERROR(INDEX($N$2:$N$2001,MATCH(ROW()-ROW($P$1),$P$2:$P$2001,0)),\"\")","v":""}]
[null,null,null,null,null,null,null,null,null,null,null,null,null,{"$f":"IF(LDAR_H_UU_summary!C1746=\"\",\"\",LDAR_H_UU_summary!C1746)","v":""},{"$f":"IF(COUNTIF(N$2:N1924,N1924)=1,N1924,\"\")","v":""},{"$f":"+IF(O1924=\"\",\"\",MAX(P$1:P1923)+1)","v":""},""]
[null,null,null,null,null,null,null,null,null,null,null,null,null,{"$f":"IF(LDAR_H_UU_summary!C1747=\"\",\"\",LDAR_H_UU_summary!C1747)","v":""},{"$f":"IF(COUNTIF(N$2:N1925,N1925)=1,N1925,\"\")","v":""},{"$f":"+IF(O1925=\"\",\"\",MAX(P$1:P1924)+1)","v":""},""]
[null,null,null,null,null,null,null,null,null,null,null,null,null,{"$f":"IF(LDAR_H_UU_summary!C1748=\"\",\"\",LDAR_H_UU_summary!C1748)","v":""},{"$f":"IF(COUNTIF(N$2:N1926,N1926)=1,N1926,\"\")","v":""},{"$f":"+IF(O1926=\"\",\"\",MAX(P$1:P1925)+1)","v":""},""]
[null,null,null,null,null,null,null,null,null,null,null,null,null,{"$f":"IF(LDAR_H_UU_summary!C1749=\"\",\"\",LDAR_H_UU_summary!C1749)","v":""},{"$f":"IF(COUNTIF(N$2:N1927,N1927)=1,N1927,\"\")","v":""},{"$f":"+IF(O1927=\"\",\"\",MAX(P$1:P1926)+1)","v":""},""]
[null,null,null,null,null,null,null,null,null,null,null,null,null,{"$f":"IF(LDAR_H_UU_summary!C1750=\"\",\"\",LDAR_H_UU_summary!C1750)","v":""},{"$f":"IF(COUNTIF(N$2:N1928,N1928)=1,N1928,\"\")","v":""},{"$f":"+IF(O1928=\"\",\"\",MAX(P$1:P1927)+1)","v":""},""]
[null,null,null,null,null,null,null,null,null,null,null,null,null,{"$f":"IF(LDAR_H_UU_summary!C1751=\"\",\"\",LDAR_H_UU_summary!C1751)","v":""},{"$f":"IF(COUNTIF(N$2:N1929,N1929)=1,N1929,\"\")","v":""},{"$f":"+IF(O1929=\"\",\"\",MAX(P$1:P1928)+1)","v":""},""]
[null,null,null,null,null,null,null,null,null,null,null,null,null,{"$f":"IF(LDAR_H_UU_summary!C1752=\"\",\"\",LDAR_H_UU_summary!C1752)","v":""},{"$f":"IF(COUNTIF(N$2:N1930,N1930)=1,N1930,\"\")","v":""},{"$f":"+IF(O1930=\"\",\"\",MAX(P$1:P1929)+1)","v":""},""]
[null,null,null,null,null,null,null,null,null,null,null,null,null,{"$f":"IF(LDAR_H_UU_summary!C1753=\"\",\"\",LDAR_H_UU_summary!C1753)","v":""},{"$f":"IF(COUNTIF(N$2:N1931,N1931)=1,N1931,\"\")","v":""},{"$f":"+IF(O1931=\"\",\"\",MAX(P$1:P1930)+1)","v":""},""]
[null,null,null,null,null,null,null,null,null,null,null,null,null,{"$f":"IF(LDAR_H_UU_summary!C1754=\"\",\"\",LDAR_H_UU_summary!C1754)","v":""},{"$f":"IF(COUNTIF(N$2:N1932,N1932)=1,N1932,\"\")","v":""},{"$f":"+IF(O1932=\"\",\"\",MAX(P$1:P1931)+1)","v":""},""]
[null,null,null,null,null,null,null,null,null,null,null,null,null,{"$f":"IF(LDAR_H_UU_summary!C1755=\"\",\"\",LDAR_H_UU_summary!C1755)","v":""},{"$f":"IF(COUNTIF(N$2:N1933,N1933)=1,N1933,\"\")","v":""},{"$f":"+IF(O1933=\"\",\"\",MAX(P$1:P1932)+1)","v":""},""]
[null,null,null,null,null,null,null,null,null,null,null,null,null,{"$f":"IF(LDAR_H_UU_summary!C1756=\"\",\"\",LDAR_H_UU_summary!C1756)","v":""},{"$f":"IF(COUNTIF(N$2:N1934,N1934)=1,N1934,\"\")","v":""},{"$f":"+IF(O1934=\"\",\"\",MAX(P$1:P1933)+1)","v":""},""]
[null,null,null,null,null,null,null,null,null,null,null,null,null,{"$f":"IF(LDAR_H_UU_summary!C1757=\"\",\"\",LDAR_H_UU_summary!C1757)","v":""},{"$f":"IF(COUNTIF(N$2:N1935,N1935)=1,N1935,\"\")","v":""},{"$f":"+IF(O1935=\"\",\"\",MAX(P$1:P1934)+1)","v":""},""]
[null,null,null,null,null,null,null,null,null,null,null,null,null,{"$f":"IF(LDAR_H_UU_summary!C1758=\"\",\"\",LDAR_H_UU_summary!C1758)","v":""},{"$f":"IF(COUNTIF(N$2:N1936,N1936)=1,N1936,\"\")","v":""},{"$f":"+IF(O1936=\"\",\"\",MAX(P$1:P1935)+1)","v":""},""]
[null,null,null,null,null,null,null,null,null,null,null,null,null,{"$f":"IF(LDAR_H_UU_summary!C1759=\"\",\"\",LDAR_H_UU_summary!C1759)","v":""},{"$f":"IF(COUNTIF(N$2:N1937,N1937)=1,N1937,\"\")","v":""},{"$f":"+IF(O1937=\"\",\"\",MAX(P$1:P1936)+1)","v":""},""]
[null,null,null,null,null,null,null,null,null,null,null,null,null,{"$f":"IF(LDAR_H_UU_summary!C1760=\"\",\"\",LDAR_H_UU_summary!C1760)","v":""},{"$f":"IF(COUNTIF(N$2:N1938,N1938)=1,N1938,\"\")","v":""},{"$f":"+IF(O1938=\"\",\"\",MAX(P$1:P1937)+1)","v":""},""]
[null,null,null,null,null,null,null,null,null,null,null,null,null,{"$f":"IF(LDAR_H_UU_summary!C1761=\"\",\"\",LDAR_H_UU_summary!C1761)","v":""},{"$f":"IF(COUNTIF(N$2:N1939,N1939)=1,N1939,\"\")","v":""},{"$f":"+IF(O1939=\"\",\"\",MAX(P$1:P1938)+1)","v":""},""]
[null,null,null,null,null,null,null,null,null,null,null,null,null,{"$f":"IF(LDAR_H_UU_summary!C1762=\"\",\"\",LDAR_H_UU_summary!C1762)","v":""},{"$f":"IF(COUNTIF(N$2:N1940,N1940)=1,N1940,\"\")","v":""},{"$f":"+IF(O1940=\"\",\"\",MAX(P$1:P1939)+1)","v":""},""]
[null,null,null,null,null,null,null,null,null,null,null,null,null,{"$f":"IF(LDAR_H_UU_summary!C1763=\"\",\"\",LDAR_H_UU_summary!C1763)","v":""},{"$f":"IF(COUNTIF(N$2:N1941,N1941)=1,N1941,\"\")","v":""},{"$f":"+IF(O1941=\"\",\"\",MAX(P$1:P1940)+1)","v":""},""]
[null,null,null,null,null,null,null,null,null,null,null,null,null,{"$f":"IF(LDAR_H_UU_summary!C1764=\"\",\"\",LDAR_H_UU_summary!C1764)","v":""},{"$f":"IF(COUNTIF(N$2:N1942,N1942)=1,N1942,\"\")","v":""},{"$f":"+IF(O1942=\"\",\"\",MAX(P$1:P1941)+1)","v":""},""]
[null,null,null,null,null,null,null,null,null,null,null,null,null,{"$f":"IF(LDAR_H_UU_summary!C1765=\"\",\"\",LDAR_H_UU_summary!C1765)","v":""},{"$f":"IF(COUNTIF(N$2:N1943,N1943)=1,N1943,\"\")","v":""},{"$f":"+IF(O1943=\"\",\"\",MAX(P$1:P1942)+1)","v":""},""]
[null,null,null,null,null,null,null,null,null,null,null,null,null,{"$f":"IF(LDAR_H_UU_summary!C1766=\"\",\"\",LDAR_H_UU_summary!C1766)","v":""},{"$f":"IF(COUNTIF(N$2:N1944,N1944)=1,N1944,\"\")","v":""},{"$f":"+IF(O1944=\"\",\"\",MAX(P$1:P1943)+1)","v":""},""]
[null,null,null,null,null,null,null,null,null,null,null,null,null,{"$f":"IF(LDAR_H_UU_summary!C1767=\"\",\"\",LDAR_H_UU_summary!C1767)","v":""},{"$f":"IF(COUNTIF(N$2:N1945,N1945)=1,N1945,\"\")","v":""},{"$f":"+IF(O1945=\"\",\"\",MAX(P$1:P1944)+1)","v":""},""]
[null,null,null,null,null,null,null,null,null,null,null,null,null,{"$f":"IF(LDAR_H_UU_summary!C1768=\"\",\"\",LDAR_H_UU_summary!C1768)","v":""},{"$f":"IF(COUNTIF(N$2:N1946,N1946)=1,N1946,\"\")","v":""},{"$f":"+IF(O1946=\"\",\"\",MAX(P$1:P1945)+1)","v":""},""]
[null,null,null,null,null,null,null,null,null,null,null,null,null,{"$f":"IF(LDAR_H_UU_summary!C1769=\"\",\"\",LDAR_H_UU_summary!C1769)","v":""},{"$f":"IF(COUNTIF(N$2:N1947,N1947)=1,N1947,\"\")","v":""},{"$f":"+IF(O1947=\"\",\"\",MAX(P$1:P1946)+1)","v":""},""]
[null,null,null,null,null,null,null,null,null,null,null,null,null,{"$f":"IF(LDAR_H_UU_summary!C1770=\"\",\"\",LDAR_H_UU_summary!C1770)","v":""},{"$f":"IF(COUNTIF(N$2:N1948,N1948)=1,N1948,\"\")","v":""},{"$f":"+IF(O1948=\"\",\"\",MAX(P$1:P1947)+1)","v":""},""]
[null,null,null,null,null,null,null,null,null,null,null,null,null,{"$f":"IF(LDAR_H_UU_summary!C1771=\"\",\"\",LDAR_H_UU_summary!C1771)","v":""},{"$f":"IF(COUNTIF(N$2:N1949,N1949)=1,N1949,\"\")","v":""},{"$f":"+IF(O1949=\"\",\"\",MAX(P$1:P1948)+1)","v":""},""]
[null,null,null,null,null,null,null,null,null,null,null,null,null,{"$f":"IF(LDAR_H_UU_summary!C1772=\"\",\"\",LDAR_H_UU_summary!C1772)","v":""},{"$f":"IF(COUNTIF(N$2:N1950,N1950)=1,N1950,\"\")","v":""},{"$f":"+IF(O1950=\"\",\"\",MAX(P$1:P1949)+1)","v":""},""]
[null,null,null,null,null,null,null,null,null,null,null,null,null,{"$f":"IF(LDAR_H_UU_summary!C1773=\"\",\"\",LDAR_H_UU_summary!C1773)","v":""},{"$f":"IF(COUNTIF(N$2:N1951,N1951)=1,N1951,\"\")","v":""},{"$f":"+IF(O1951=\"\",\"\",MAX(P$1:P1950)+1)","v":""},""]
[null,null,null,null,null,null,null,null,null,null,null,null,null,{"$f":"IF(LDAR_H_UU_summary!C1774=\"\",\"\",LDAR_H_UU_summary!C1774)","v":""},{"$f":"IF(COUNTIF(N$2:N1952,N1952)=1,N1952,\"\")","v":""},{"$f":"+IF(O1952=\"\",\"\",MAX(P$1:P1951)+1)","v":""},""]
[null,null,null,null,null,null,null,null,null,null,null,null,null,{"$f":"IF(LDAR_H_UU_summary!C1775=\"\",\"\",LDAR_H_UU_summary!C1775)","v":""},{"$f":"IF(COUNTIF(N$2:N1953,N1953)=1,N1953,\"\")","v":""},{"$f":"+IF(O1953=\"\",\"\",MAX(P$1:P1952)+1)","v":""},""]
[null,null,null,null,null,null,null,null,null,null,null,null,null,{"$f":"IF(LDAR_H_UU_summary!C1776=\"\",\"\",LDAR_H_UU_summary!C1776)","v":""},{"$f":"IF(COUNTIF(N$2:N1954,N1954)=1,N1954,\"\")","v":""},{"$f":"+IF(O1954=\"\",\"\",MAX(P$1:P1953)+1)","v":""},""]
[null,null,null,null,null,null,null,null,null,null,null,null,null,{"$f":"IF(LDAR_H_UU_summary!C1777=\"\",\"\",LDAR_H_UU_summary!C1777)","v":""},{"$f":"IF(COUNTIF(N$2:N1955,N1955)=1,N1955,\"\")","v":""},{"$f":"+IF(O1955=\"\",\"\",MAX(P$1:P1954)+1)","v":""},""]
[null,null,null,null,null,null,null,null,null,null,null,null,null,{"$f":"IF(LDAR_H_UU_summary!C1778=\"\",\"\",LDAR_H_UU_summary!C1778)","v":""},{"$f":"IF(COUNTIF(N$2:N1956,N1956)=1,N1956,\"\")","v":""},{"$f":"+IF(O1956=\"\",\"\",MAX(P$1:P1955)+1)","v":""},""]
[null,null,null,null,null,null,null,null,null,null,null,null,null,{"$f":"IF(LDAR_H_UU_summary!C1779=\"\",\"\",LDAR_H_UU_summary!C1779)","v":""},{"$f":"IF(COUNTIF(N$2:N1957,N1957)=1,N1957,\"\")","v":""},{"$f":"+IF(O1957=\"\",\"\",MAX(P$1:P1956)+1)","v":""},""]
[null,null,null,null,null,null,null,null,null,null,null,null,null,{"$f":"IF(LDAR_H_UU_summary!C1780=\"\",\"\",LDAR_H_UU_summary!C1780)","v":""},{"$f":"IF(COUNTIF(N$2:N1958,N1958)=1,N1958,\"\")","v":""},{"$f":"+IF(O1958=\"\",\"\",MAX(P$1:P1957)+1)","v":""},""]
[null,null,null,null,null,null,null,null,null,null,null,null,null,{"$f":"IF(LDAR_H_UU_summary!C1781=\"\",\"\",LDAR_H_UU_summary!C1781)","v":""},{"$f":"IF(COUNTIF(N$2:N1959,N1959)=1,N1959,\"\")","v":""},{"$f":"+IF(O1959=\"\",\"\",MAX(P$1:P1958)+1)","v":""},""]
[null,null,null,null,null,null,null,null,null,null,null,null,null,{"$f":"IF(LDAR_H_UU_summary!C1782=\"\",\"\",LDAR_H_UU_summary!C1782)","v":""},{"$f":"IF(COUNTIF(N$2:N1960,N1960)=1,N1960,\"\")","v":""},{"$f":"+IF(O1960=\"\",\"\",MAX(P$1:P1959)+1)","v":""},""]
[null,null,null,null,null,null,null,null,null,null,null,null,null,{"$f":"IF(LDAR_H_UU_summary!C1783=\"\",\"\",LDAR_H_UU_summary!C1783)","v":""},{"$f":"IF(COUNTIF(N$2:N1961,N1961)=1,N1961,\"\")","v":""},{"$f":"+IF(O1961=\"\",\"\",MAX(P$1:P1960)+1)","v":""},""]
[null,null,null,null,null,null,null,null,null,null,null,null,null,{"$f":"IF(LDAR_H_UU_summary!C1784=\"\",\"\",LDAR_H_UU_summary!C1784)","v":""},{"$f":"IF(COUNTIF(N$2:N1962,N1962)=1,N1962,\"\")","v":""},{"$f":"+IF(O1962=\"\",\"\",MAX(P$1:P1961)+1)","v":""},""]
[null,null,null,null,null,null,null,null,null,null,null,null,null,{"$f":"IF(LDAR_H_UU_summary!C1785=\"\",\"\",LDAR_H_UU_summary!C1785)","v":""},{"$f":"IF(COUNTIF(N$2:N1963,N1963)=1,N1963,\"\")","v":""},{"$f":"+IF(O1963=\"\",\"\",MAX(P$1:P1962)+1)","v":""},""]
[null,null,null,null,null,null,null,null,null,null,null,null,null,{"$f":"IF(LDAR_H_UU_summary!C1786=\"\",\"\",LDAR_H_UU_summary!C1786)","v":""},{"$f":"IF(COUNTIF(N$2:N1964,N1964)=1,N1964,\"\")","v":""},{"$f":"+IF(O1964=\"\",\"\",MAX(P$1:P1963)+1)","v":""},""]
[null,null,null,null,null,null,null,null,null,null,null,null,null,{"$f":"IF(LDAR_H_UU_summary!C1787=\"\",\"\",LDAR_H_UU_summary!C1787)","v":""},{"$f":"IF(COUNTIF(N$2:N1965,N1965)=1,N1965,\"\")","v":""},{"$f":"+IF(O1965=\"\",\"\",MAX(P$1:P1964)+1)","v":""},""]
[null,null,null,null,null,null,null,null,null,null,null,null,null,{"$f":"IF(LDAR_H_UU_summary!C1788=\"\",\"\",LDAR_H_UU_summary!C1788)","v":""},{"$f":"IF(COUNTIF(N$2:N1966,N1966)=1,N1966,\"\")","v":""},{"$f":"+IF(O1966=\"\",\"\",MAX(P$1:P1965)+1)","v":""},""]
[null,null,null,null,null,null,null,null,null,null,null,null,null,{"$f":"IF(LDAR_H_UU_summary!C1789=\"\",\"\",LDAR_H_UU_summary!C1789)","v":""},{"$f":"IF(COUNTIF(N$2:N1967,N1967)=1,N1967,\"\")","v":""},{"$f":"+IF(O1967=\"\",\"\",MAX(P$1:P1966)+1)","v":""},""]
[null,null,null,null,null,null,null,null,null,null,null,null,null,{"$f":"IF(LDAR_H_UU_summary!C1790=\"\",\"\",LDAR_H_UU_summary!C1790)","v":""},{"$f":"IF(COUNTIF(N$2:N1968,N1968)=1,N1968,\"\")","v":""},{"$f":"+IF(O1968=\"\",\"\",MAX(P$1:P1967)+1)","v":""},""]
[null,null,null,null,null,null,null,null,null,null,null,null,null,{"$f":"IF(LDAR_H_UU_summary!C1791=\"\",\"\",LDAR_H_UU_summary!C1791)","v":""},{"$f":"IF(COUNTIF(N$2:N1969,N1969)=1,N1969,\"\")","v":""},{"$f":"+IF(O1969=\"\",\"\",MAX(P$1:P1968)+1)","v":""},""]
[null,null,null,null,null,null,null,null,null,null,null,null,null,{"$f":"IF(LDAR_H_UU_summary!C1792=\"\",\"\",LDAR_H_UU_summary!C1792)","v":""},{"$f":"IF(COUNTIF(N$2:N1970,N1970)=1,N1970,\"\")","v":""},{"$f":"+IF(O1970=\"\",\"\",MAX(P$1:P1969)+1)","v":""},""]
[null,null,null,null,null,null,null,null,null,null,null,null,null,{"$f":"IF(LDAR_H_UU_summary!C1793=\"\",\"\",LDAR_H_UU_summary!C1793)","v":""},{"$f":"IF(COUNTIF(N$2:N1971,N1971)=1,N1971,\"\")","v":""},{"$f":"+IF(O1971=\"\",\"\",MAX(P$1:P1970)+1)","v":""},""]
[null,null,null,null,null,null,null,null,null,null,null,null,null,{"$f":"IF(LDAR_H_UU_summary!C1794=\"\",\"\",LDAR_H_UU_summary!C1794)","v":""},{"$f":"IF(COUNTIF(N$2:N1972,N1972)=1,N1972,\"\")","v":""},{"$f":"+IF(O1972=\"\",\"\",MAX(P$1:P1971)+1)","v":""},""]
[null,null,null,null,null,null,null,null,null,null,null,null,null,{"$f":"IF(LDAR_H_UU_summary!C1795=\"\",\"\",LDAR_H_UU_summary!C1795)","v":""},{"$f":"IF(COUNTIF(N$2:N1973,N1973)=1,N1973,\"\")","v":""},{"$f":"+IF(O1973=\"\",\"\",MAX(P$1:P1972)+1)","v":""},""]
[null,null,null,null,null,null,null,null,null,null,null,null,null,{"$f":"IF(LDAR_H_UU_summary!C1796=\"\",\"\",LDAR_H_UU_summary!C1796)","v":""},{"$f":"IF(COUNTIF(N$2:N1974,N1974)=1,N1974,\"\")","v":""},{"$f":"+IF(O1974=\"\",\"\",MAX(P$1:P1973)+1)","v":""},""]
[null,null,null,null,null,null,null,null,null,null,null,null,null,{"$f":"IF(LDAR_H_UU_summary!C1797=\"\",\"\",LDAR_H_UU_summary!C1797)","v":""},{"$f":"IF(COUNTIF(N$2:N1975,N1975)=1,N1975,\"\")","v":""},{"$f":"+IF(O1975=\"\",\"\",MAX(P$1:P1974)+1)","v":""},""]
[null,null,null,null,null,null,null,null,null,null,null,null,null,{"$f":"IF(LDAR_H_UU_summary!C1798=\"\",\"\",LDAR_H_UU_summary!C1798)","v":""},{"$f":"IF(COUNTIF(N$2:N1976,N1976)=1,N1976,\"\")","v":""},{"$f":"+IF(O1976=\"\",\"\",MAX(P$1:P1975)+1)","v":""},""]
[null,null,null,null,null,null,null,null,null,null,null,null,null,{"$f":"IF(LDAR_H_UU_summary!C1799=\"\",\"\",LDAR_H_UU_summary!C1799)","v":""},{"$f":"IF(COUNTIF(N$2:N1977,N1977)=1,N1977,\"\")","v":""},{"$f":"+IF(O1977=\"\",\"\",MAX(P$1:P1976)+1)","v":""},""]
[null,null,null,null,null,null,null,null,null,null,null,null,null,{"$f":"IF(LDAR_H_UU_summary!C1800=\"\",\"\",LDAR_H_UU_summary!C1800)","v":""},{"$f":"IF(COUNTIF(N$2:N1978,N1978)=1,N1978,\"\")","v":""},{"$f":"+IF(O1978=\"\",\"\",MAX(P$1:P1977)+1)","v":""},""]
[null,null,null,null,null,null,null,null,null,null,null,null,null,{"$f":"IF(LDAR_H_UU_summary!C1801=\"\",\"\",LDAR_H_UU_summary!C1801)","v":""},{"$f":"IF(COUNTIF(N$2:N1979,N1979)=1,N1979,\"\")","v":""},{"$f":"+IF(O1979=\"\",\"\",MAX(P$1:P1978)+1)","v":""},""]
[null,null,null,null,null,null,null,null,null,null,null,null,null,{"$f":"IF(LDAR_H_UU_summary!C1802=\"\",\"\",LDAR_H_UU_summary!C1802)","v":""},{"$f":"IF(COUNTIF(N$2:N1980,N1980)=1,N1980,\"\")","v":""},{"$f":"+IF(O1980=\"\",\"\",MAX(P$1:P1979)+1)","v":""},""]
[null,null,null,null,null,null,null,null,null,null,null,null,null,{"$f":"IF(LDAR_H_UU_summary!C1803=\"\",\"\",LDAR_H_UU_summary!C1803)","v":""},{"$f":"IF(COUNTIF(N$2:N1981,N1981)=1,N1981,\"\")","v":""},{"$f":"+IF(O1981=\"\",\"\",MAX(P$1:P1980)+1)","v":""},""]
[null,null,null,null,null,null,null,null,null,null,null,null,null,{"$f":"IF(LDAR_H_UU_summary!C1804=\"\",\"\",LDAR_H_UU_summary!C1804)","v":""},{"$f":"IF(COUNTIF(N$2:N1982,N1982)=1,N1982,\"\")","v":""},{"$f":"+IF(O1982=\"\",\"\",MAX(P$1:P1981)+1)","v":""},""]
[null,null,null,null,null,null,null,null,null,null,null,null,null,{"$f":"IF(LDAR_H_UU_summary!C1805=\"\",\"\",LDAR_H_UU_summary!C1805)","v":""},{"$f":"IF(COUNTIF(N$2:N1983,N1983)=1,N1983,\"\")","v":""},{"$f":"+IF(O1983=\"\",\"\",MAX(P$1:P1982)+1)","v":""},""]
[null,null,null,null,null,null,null,null,null,null,null,null,null,{"$f":"IF(LDAR_H_UU_summary!C1806=\"\",\"\",LDAR_H_UU_summary!C1806)","v":""},{"$f":"IF(COUNTIF(N$2:N1984,N1984)=1,N1984,\"\")","v":""},{"$f":"+IF(O1984=\"\",\"\",MAX(P$1:P1983)+1)","v":""},""]
[null,null,null,null,null,null,null,null,null,null,null,null,null,{"$f":"IF(LDAR_H_UU_summary!C1807=\"\",\"\",LDAR_H_UU_summary!C1807)","v":""},{"$f":"IF(COUNTIF(N$2:N1985,N1985)=1,N1985,\"\")","v":""},{"$f":"+IF(O1985=\"\",\"\",MAX(P$1:P1984)+1)","v":""},""]
[null,null,null,null,null,null,null,null,null,null,null,null,null,{"$f":"IF(LDAR_H_UU_summary!C1808=\"\",\"\",LDAR_H_UU_summary!C1808)","v":""},{"$f":"IF(COUNTIF(N$2:N1986,N1986)=1,N1986,\"\")","v":""},{"$f":"+IF(O1986=\"\",\"\",MAX(P$1:P1985)+1)","v":""},""]
[null,null,null,null,null,null,null,null,null,null,null,null,null,{"$f":"IF(LDAR_H_UU_summary!C1809=\"\",\"\",LDAR_H_UU_summary!C1809)","v":""},{"$f":"IF(COUNTIF(N$2:N1987,N1987)=1,N1987,\"\")","v":""},{"$f":"+IF(O1987=\"\",\"\",MAX(P$1:P1986)+1)","v":""},{"$f":"+IFERROR(INDEX($N$2:$N$2001,MATCH(ROW()-ROW($P$1),$P$2:$P$2001,0)),\"\")","v":""}]
[null,null,null,null,null,null,null,null,null,null,null,null,null,{"$f":"IF(LDAR_H_UU_summary!C1810=\"\",\"\",LDAR_H_UU_summary!C1810)","v":""},{"$f":"IF(COUNTIF(N$2:N1988,N1988)=1,N1988,\"\")","v":""},{"$f":"+IF(O1988=\"\",\"\",MAX(P$1:P1987)+1)","v":""},""]
[null,null,null,null,null,null,null,null,null,null,null,null,null,{"$f":"IF(LDAR_H_UU_summary!C1811=\"\",\"\",LDAR_H_UU_summary!C1811)","v":""},{"$f":"IF(COUNTIF(N$2:N1989,N1989)=1,N1989,\"\")","v":""},{"$f":"+IF(O1989=\"\",\"\",MAX(P$1:P1988)+1)","v":""},""]
[null,null,null,null,null,null,null,null,null,null,null,null,null,{"$f":"IF(LDAR_H_UU_summary!C1812=\"\",\"\",LDAR_H_UU_summary!C1812)","v":""},{"$f":"IF(COUNTIF(N$2:N1990,N1990)=1,N1990,\"\")","v":""},{"$f":"+IF(O1990=\"\",\"\",MAX(P$1:P1989)+1)","v":""},""]
[null,null,null,null,null,null,null,null,null,null,null,null,null,{"$f":"IF(LDAR_H_UU_summary!C1813=\"\",\"\",LDAR_H_UU_summary!C1813)","v":""},{"$f":"IF(COUNTIF(N$2:N1991,N1991)=1,N1991,\"\")","v":""},{"$f":"+IF(O1991=\"\",\"\",MAX(P$1:P1990)+1)","v":""},""]
[null,null,null,null,null,null,null,null,null,null,null,null,null,{"$f":"IF(LDAR_H_UU_summary!C1814=\"\",\"\",LDAR_H_UU_summary!C1814)","v":""},{"$f":"IF(COUNTIF(N$2:N1992,N1992)=1,N1992,\"\")","v":""},{"$f":"+IF(O1992=\"\",\"\",MAX(P$1:P1991)+1)","v":""},""]
[null,null,null,null,null,null,null,null,null,null,null,null,null,{"$f":"IF(LDAR_H_UU_summary!C1815=\"\",\"\",LDAR_H_UU_summary!C1815)","v":""},{"$f":"IF(COUNTIF(N$2:N1993,N1993)=1,N1993,\"\")","v":""},{"$f":"+IF(O1993=\"\",\"\",MAX(P$1:P1992)+1)","v":""},""]
[null,null,null,null,null,null,null,null,null,null,null,null,null,{"$f":"IF(LDAR_H_UU_summary!C1816=\"\",\"\",LDAR_H_UU_summary!C1816)","v":""},{"$f":"IF(COUNTIF(N$2:N1994,N1994)=1,N1994,\"\")","v":""},{"$f":"+IF(O1994=\"\",\"\",MAX(P$1:P1993)+1)","v":""},""]
[null,null,null,null,null,null,null,null,null,null,null,null,null,{"$f":"IF(LDAR_H_UU_summary!C1817=\"\",\"\",LDAR_H_UU_summary!C1817)","v":""},{"$f":"IF(COUNTIF(N$2:N1995,N1995)=1,N1995,\"\")","v":""},{"$f":"+IF(O1995=\"\",\"\",MAX(P$1:P1994)+1)","v":""},""]
[null,null,null,null,null,null,null,null,null,null,null,null,null,{"$f":"IF(LDAR_H_UU_summary!C1818=\"\",\"\",LDAR_H_UU_summary!C1818)","v":""},{"$f":"IF(COUNTIF(N$2:N1996,N1996)=1,N1996,\"\")","v":""},{"$f":"+IF(O1996=\"\",\"\",MAX(P$1:P1995)+1)","v":""},""]
[null,null,null,null,null,null,null,null,null,null,null,null,null,{"$f":"IF(LDAR_H_UU_summary!C1819=\"\",\"\",LDAR_H_UU_summary!C1819)","v":""},{"$f":"IF(COUNTIF(N$2:N1997,N1997)=1,N1997,\"\")","v":""},{"$f":"+IF(O1997=\"\",\"\",MAX(P$1:P1996)+1)","v":""},""]
[null,null,null,null,null,null,null,null,null,null,null,null,null,{"$f":"IF(LDAR_H_UU_summary!C1820=\"\",\"\",LDAR_H_UU_summary!C1820)","v":""},{"$f":"IF(COUNTIF(N$2:N1998,N1998)=1,N1998,\"\")","v":""},{"$f":"+IF(O1998=\"\",\"\",MAX(P$1:P1997)+1)","v":""},""]
[null,null,null,null,null,null,null,null,null,null,null,null,null,{"$f":"IF(LDAR_H_UU_summary!C1821=\"\",\"\",LDAR_H_UU_summary!C1821)","v":""},{"$f":"IF(COUNTIF(N$2:N1999,N1999)=1,N1999,\"\")","v":""},{"$f":"+IF(O1999=\"\",\"\",MAX(P$1:P1998)+1)","v":""},""]
[null,null,null,null,null,null,null,null,null,null,null,null,null,{"$f":"IF(LDAR_H_UU_summary!C1822=\"\",\"\",LDAR_H_UU_summary!C1822)","v":""},{"$f":"IF(COUNTIF(N$2:N2000,N2000)=1,N2000,\"\")","v":""},{"$f":"+IF(O2000=\"\",\"\",MAX(P$1:P1999)+1)","v":""},""]
[null,null,null,null,null,null,null,null,null,null,null,null,null,{"$f":"IF(LDAR_H_UU_summary!C1823=\"\",\"\",LDAR_H_UU_summary!C1823)","v":""},{"$f":"IF(COUNTIF(N$2:N2001,N2001)=1,N2001,\"\")","v":""},{"$f":"+IF(O2001=\"\",\"\",MAX(P$1:P2000)+1)","v":""},{"$f":"+IFERROR(INDEX($N$2:$N$2001,MATCH(ROW()-ROW($P$1),$P$2:$P$2001,0)),\"\")","v":""}]