{"text_format":"1","workbook":"xlsx","n_sheets":21,"sheets":["Lists","Welcome","Company_Information","Compliance_Options","Certification","Adhes_Sealer_Deadener","ElectroPrimerHAPContent","Prim_Topcoat_Thinner","TopPrim_WorkPractice","Deviations_Work_Practice_Plans","Malfunction","ElectroPrimerCaptureControl","OpLimit","OpLimitSummary","CPMS1","CPMS2","CPMSSummary","Description_of_Changes","Number_of_Deviations","Revisions","Worksheet Map"],"not_rendered":{"charts":0,"images":1,"macros":0,"external_links":0,"defined_names":14,"comments":0,"pivot_tables":0},"unopened":[],"bounds":{"document_bytes":16777216,"sheet_cells":100000,"rows_first":2000,"rows_last":500,"rows_between":2000,"halvings":0,"cell_chars":16384,"cell_head_chars":4096},"cells_cut":0,"cells_raw":0,"read":"whole","date_system":"1900"}

{"sheet":"Lists","index":0,"n_rows":478,"n_cols":78,"rows_kept":478,"cut":false,"hidden":true,"merged":[]}
["Rank","Company","CompanyName","Column1",null,"Rank","Operation","OperationName","Column1",null,"Rank","CPMS","CPMSName","Column1",null,null,null,null,"Column5","Column1","Column2","Column3","Column4","Column42","Column43",null,"Column5","company","op","CPMS","Column3","Column4","Column42","Column43",null,null,"Column5","company","op","Column3","Column4",null,"Column42","Column43",null,"Column5","company","op",null,null,null,"Column4",null,"Column42","Column43",null,null,"Column5","company","op","CPMS","Column3","Column4",null,"Column42","Column43",null,null,"Column5","company","op","CPMS","Column3","Column4",null,"Column42","Column43"]
[{"$f":"+IF(D2=\"\",\"\",MAX(A1:A$1)+1)","v":""},{"$f":"IF(Company_Information!B24=\"\",\"\",Company_Information!B24)","v":""},{"$f":"+IFERROR(INDEX($B$2:$B$11,MATCH(ROW()-ROW($C$1),$A$2:$A$11,0)),\"\")","v":""},{"$f":"IF(COUNTIF(B$2:B2,B2)=1,B2,\"\")","v":""},null,{"$f":"+IF(I2=\"\",\"\",MAX(F1:F$1)+1)","v":""},{"$f":"IF(Compliance_Options!C24=\"\",\"\",Compliance_Options!C24)","v":""},{"$f":"+IFERROR(INDEX($G$2:$G$101,MATCH(ROW()-ROW($H$1),$F$2:$F$101,0)),\"\")","v":""},{"$f":"IF(COUNTIF(G$2:G2,G2)=1,G2,\"\")","v":""},null,{"$f":"+IF(N2=\"\",\"\",MAX(K1:K$1)+1)","v":""},{"$f":"IF(CPMS1!E24=\"\",\"\",CPMS1!E24)","v":""},{"$f":"+IFERROR(INDEX($L$2:$L$501,MATCH(ROW()-ROW($M$1),$K$2:$K$501,0)),\"\")","v":""},{"$f":"IF(COUNTIF(L$2:L2,L2)=1,L2,\"\")","v":""},null,"complianceoptions",null,null,{"$f":"+IF(W2=\"\",\"\",MAX(S1:S$1)+1)","v":""},{"$f":"IF(Adhes_Sealer_Deadener!B24=\"\",\"\",Adhes_Sealer_Deadener!B24)","v":""},{"$f":"IF(Adhes_Sealer_Deadener!C24=\"\",\"\",Adhes_Sealer_Deadener!C24)","v":""},{"$f":"+Table10[[#This Row],[Column1]]&Table10[[#This Row],[Column2]]","v":""},{"$f":"IF(COUNTIF(V$2:V2,V2)=1,V2,\"\")","v":""},{"$f":"+IFERROR(INDEX($T$2:$T$478,MATCH(ROW()-ROW($X$1),$S$2:$S$478,0)),\"\")","v":""},{"$f":"+IFERROR(INDEX($U$2:$U$478,MATCH(ROW()-ROW($X$1),$S$2:$S$478,0)),\"\")","v":""},null,{"$f":"+IF(AF2=\"\",\"\",MAX(AA1:AA$1)+1)","v":""},{"$f":"IF(CPMS2!B24=\"\",\"\",CPMS2!B24)","v":""},{"$f":"IF(CPMS2!C24=\"\",\"\",CPMS2!C24)","v":""},{"$f":"IF(CPMS2!D24=\"\",\"\",CPMS2!D24)","v":""},{"$f":"AB2&AC2&AD2","v":""},{"$f":"IF(COUNTIF(AE$2:AE2,AE2)=1,AE2,\"\")","v":""},{"$f":"+IFERROR(INDEX($AB$2:$AB$478,MATCH(ROW()-ROW($AF$1),$AA$2:$AA$478,0)),\"\")","v":""},{"$f":"+IFERROR(INDEX($AC$2:$AC$478,MATCH(ROW()-ROW($AF$1),$AA$2:$AA$478,0)),\"\")","v":""},{"$f":"+IFERROR(INDEX($AD$2:$AD$478,MATCH(ROW()-ROW($AF$1),$AA$2:$AA$478,0)),\"\")","v":""},null,{"$f":"+IF(AO2=\"\",\"\",MAX(AK1:AK$1)+1)","v":""},{"$f":"IF(Compliance_Options!B24=\"\",\"\",Compliance_Options!B24)","v":""},{"$f":"IF(Compliance_Options!C24=\"\",\"\",Compliance_Options!C24)","v":""},{"$f":"AL2&AM2","v":""},{"$f":"IF(COUNTIF(AN$2:AN2,AN2)=1,AN2,\"\")","v":""},{"$f":"IF(AQ2=\"\",\"\",AQ2&\" \"&AR2)","v":""},{"$f":"+IFERROR(INDEX($AL$2:$AL$478,MATCH(ROW()-ROW($AN$1),$AK$2:$AK$478,0)),\"\")","v":""},{"$f":"+IFERROR(INDEX($AM$2:$AM$478,MATCH(ROW()-ROW($AO$1),$AK$2:$AK$478,0)),\"\")","v":""},null,{"$f":"+IF(AZ2=\"\",\"\",MAX(AT1:AT$1)+1)","v":""},{"$f":"IF(Compliance_Options!B24=\"\",\"\",Compliance_Options!B24)","v":""},{"$f":"IF(Compliance_Options!C24=\"\",\"\",Compliance_Options!C24)","v":""},{"$f":"IF(AX2=\"\",\"\",LEFT(AX2,10))","v":""},{"$f":"IF(Compliance_Options!D24=\"\",\"\",Compliance_Options!D24)","v":""},{"$f":"AU2&AV2&AW2","v":""},{"$f":"IF(COUNTIF(AY$1:AY2,AY2)=1,AY2,\"\")","v":""},{"$f":"IF(BB2=\"\",\"\",BB2&\" \"&BC2&\" \"&BD2)","v":""},{"$f":"+IFERROR(INDEX($AU$2:$AU$478,MATCH(ROW()-ROW($AZ$1),$AT$2:$AT$478,0)),\"\")","v":""},{"$f":"+IFERROR(INDEX($AV$2:$AV$478,MATCH(ROW()-ROW($AZ$1),$AT$2:$AT$478,0)),\"\")","v":""},{"$f":"+IFERROR(INDEX($AX$2:$AX$478,MATCH(ROW()-ROW($AZ$1),$AT$2:$AT$478,0)),\"\")","v":""},null,{"$f":"+IF(BK2=\"\",\"\",MAX(BF1:BF$1)+1)","v":""},{"$f":"IF(CPMS1!B24=\"\",\"\",CPMS1!B24)","v":""},{"$f":"IF(CPMS1!C24=\"\",\"\",CPMS1!C24)","v":""},{"$f":"IF(CPMS1!E24=\"\",\"\",CPMS1!E24)","v":""},{"$f":"BG2&BH2&BI2","v":""},{"$f":"IF(COUNTIF(BJ$2:BJ2,BJ2)=1,BJ2,\"\")","v":""},{"$f":"IF(BM2=\"\",\"\",BM2&\" \"&BN2&\" \"&BO2)","v":""},{"$f":"+IFERROR(INDEX($BG$2:$BG$478,MATCH(ROW()-ROW($BK$1),$BF$2:$BF$478,0)),\"\")","v":""},{"$f":"+IFERROR(INDEX($BH$2:$BH$478,MATCH(ROW()-ROW($BK$1),$BF$2:$BF$478,0)),\"\")","v":""},{"$f":"+IFERROR(INDEX($BI$2:$BI$478,MATCH(ROW()-ROW($BK$1),$BF$2:$BF$478,0)),\"\")","v":""},null,{"$f":"+IF(BV2=\"\",\"\",MAX(BQ1:BQ$1)+1)","v":""},{"$f":"IF(OpLimit!B24=\"\",\"\",OpLimit!B24)","v":""},{"$f":"IF(OpLimit!C24=\"\",\"\",OpLimit!C24)","v":""},{"$f":"IF(OpLimit!E24=\"\",\"\",OpLimit!E24)","v":""},{"$f":"BR2&BS2&BT2","v":""},{"$f":"IF(COUNTIF(BU$2:BU2,BU2)=1,BU2,\"\")","v":""},{"$f":"IF(BX2=\"\",\"\",BX2&\" \"&BY2&\" \"&BZ2)","v":""},{"$f":"+IFERROR(INDEX($BR$2:$BR$478,MATCH(ROW()-ROW($BV$1),$BQ$2:$BQ$478,0)),\"\")","v":""},{"$f":"+IFERROR(INDEX($BS$2:$BS$478,MATCH(ROW()-ROW($BV$1),$BQ$2:$BQ$478,0)),\"\")","v":""},{"$f":"+IFERROR(INDEX($BT$2:$BT$478,MATCH(ROW()-ROW($BV$1),$BQ$2:$BQ$478,0)),\"\")","v":""}]
[{"$f":"+IF(D3=\"\",\"\",MAX(A$1:A2)+1)","v":""},{"$f":"IF(Company_Information!B25=\"\",\"\",Company_Information!B25)","v":""},{"$f":"+IFERROR(INDEX($B$2:$B$11,MATCH(ROW()-ROW($C$1),$A$2:$A$11,0)),\"\")","v":""},{"$f":"IF(COUNTIF(B$2:B3,B3)=1,B3,\"\")","v":""},null,{"$f":"+IF(I3=\"\",\"\",MAX(F$1:F2)+1)","v":""},{"$f":"IF(Compliance_Options!C25=\"\",\"\",Compliance_Options!C25)","v":""},"",{"$f":"IF(COUNTIF(G$2:G3,G3)=1,G3,\"\")","v":""},null,{"$f":"+IF(N3=\"\",\"\",MAX(K$1:K2)+1)","v":""},{"$f":"IF(CPMS1!E25=\"\",\"\",CPMS1!E25)","v":""},"",{"$f":"IF(COUNTIF(L$2:L3,L3)=1,L3,\"\")","v":""},null,"§63.3090(a) - New source, combined Electrodeposition primer, primer-surfacer, topcoat, final repair, glass bonding primer and glass bonding adhesive operations, plus all coatings and thinners, except for deadener materials and for adhesive and sealer materials that are not components of glass bonding systems, used in coating operations added to the affected source",null,null,{"$f":"+IF(W3=\"\",\"\",MAX(S$1:S2)+1)","v":""},{"$f":"IF(Adhes_Sealer_Deadener!B25=\"\",\"\",Adhes_Sealer_Deadener!B25)","v":""},{"$f":"IF(Adhes_Sealer_Deadener!C25=\"\",\"\",Adhes_Sealer_Deadener!C25)","v":""},{"$f":"+Table10[[#This Row],[Column1]]&Table10[[#This Row],[Column2]]","v":""},{"$f":"IF(COUNTIF(V$2:V3,V3)=1,V3,\"\")","v":""},{"$f":"+IFERROR(INDEX($T$2:$T$20,MATCH(ROW()-ROW($X$1),$S$2:$S$20,0)),\"\")","v":""},{"$f":"+IFERROR(INDEX($U$2:$U$20,MATCH(ROW()-ROW($X$1),$S$2:$S$20,0)),\"\")","v":""},null,{"$f":"+IF(AF3=\"\",\"\",MAX(AA$1:AA2)+1)","v":""},{"$f":"IF(CPMS2!B25=\"\",\"\",CPMS2!B25)","v":""},{"$f":"IF(CPMS2!C25=\"\",\"\",CPMS2!C25)","v":""},{"$f":"IF(CPMS2!D25=\"\",\"\",CPMS2!D25)","v":""},{"$f":"AB3&AC3&AD3","v":""},{"$f":"IF(COUNTIF(AE$2:AE3,AE3)=1,AE3,\"\")","v":""},{"$f":"+IFERROR(INDEX($AB$2:$AB$478,MATCH(ROW()-ROW($AF$1),$AA$2:$AA$478,0)),\"\")","v":""},{"$f":"+IFERROR(INDEX($AC$2:$AC$478,MATCH(ROW()-ROW($AF$1),$AA$2:$AA$478,0)),\"\")","v":""},{"$f":"+IFERROR(INDEX($AD$2:$AD$478,MATCH(ROW()-ROW($AF$1),$AA$2:$AA$478,0)),\"\")","v":""},null,{"$f":"+IF(AO3=\"\",\"\",MAX(AK$1:AK2)+1)","v":""},{"$f":"IF(Compliance_Options!B25=\"\",\"\",Compliance_Options!B25)","v":""},{"$f":"IF(Compliance_Options!C25=\"\",\"\",Compliance_Options!C25)","v":""},{"$f":"AL3&AM3","v":""},{"$f":"IF(COUNTIF(AN$2:AN3,AN3)=1,AN3,\"\")","v":""},{"$f":"IF(AQ3=\"\",\"\",AQ3&\" \"&AR3)","v":""},{"$f":"+IFERROR(INDEX($AL$2:$AL$478,MATCH(ROW()-ROW($AN$1),$AK$2:$AK$478,0)),\"\")","v":""},{"$f":"+IFERROR(INDEX($AM$2:$AM$478,MATCH(ROW()-ROW($AO$1),$AK$2:$AK$478,0)),\"\")","v":""},null,{"$f":"+IF(AZ3=\"\",\"\",MAX(AT$1:AT2)+1)","v":""},{"$f":"IF(Compliance_Options!B25=\"\",\"\",Compliance_Options!B25)","v":""},{"$f":"IF(Compliance_Options!C25=\"\",\"\",Compliance_Options!C25)","v":""},{"$f":"IF(AX3=\"\",\"\",LEFT(AX3,10))","v":""},{"$f":"IF(Compliance_Options!D25=\"\",\"\",Compliance_Options!D25)","v":""},{"$f":"AU3&AV3&AW3","v":""},{"$f":"IF(COUNTIF(AY$1:AY3,AY3)=1,AY3,\"\")","v":""},{"$f":"IF(BB3=\"\",\"\",BB3&\" \"&BC3&\" \"&BD3)","v":""},{"$f":"+IFERROR(INDEX($AU$2:$AU$478,MATCH(ROW()-ROW($AZ$1),$AT$2:$AT$478,0)),\"\")","v":""},{"$f":"+IFERROR(INDEX($AV$2:$AV$478,MATCH(ROW()-ROW($AZ$1),$AT$2:$AT$478,0)),\"\")","v":""},{"$f":"+IFERROR(INDEX($AX$2:$AX$478,MATCH(ROW()-ROW($AZ$1),$AT$2:$AT$478,0)),\"\")","v":""},null,{"$f":"+IF(BK3=\"\",\"\",MAX(BF$1:BF2)+1)","v":""},{"$f":"IF(CPMS1!B25=\"\",\"\",CPMS1!B25)","v":""},{"$f":"IF(CPMS1!C25=\"\",\"\",CPMS1!C25)","v":""},{"$f":"IF(CPMS1!E25=\"\",\"\",CPMS1!E25)","v":""},{"$f":"BG3&BH3&BI3","v":""},{"$f":"IF(COUNTIF(BJ$2:BJ3,BJ3)=1,BJ3,\"\")","v":""},{"$f":"IF(BM3=\"\",\"\",BM3&\" \"&BN3&\" \"&BO3)","v":""},{"$f":"+IFERROR(INDEX($BG$2:$BG$478,MATCH(ROW()-ROW($BK$1),$BF$2:$BF$478,0)),\"\")","v":""},{"$f":"+IFERROR(INDEX($BH$2:$BH$478,MATCH(ROW()-ROW($BK$1),$BF$2:$BF$478,0)),\"\")","v":""},{"$f":"+IFERROR(INDEX($BI$2:$BI$478,MATCH(ROW()-ROW($BK$1),$BF$2:$BF$478,0)),\"\")","v":""},null,{"$f":"+IF(BV3=\"\",\"\",MAX(BQ$1:BQ2)+1)","v":""},{"$f":"IF(OpLimit!B25=\"\",\"\",OpLimit!B25)","v":""},{"$f":"IF(OpLimit!C25=\"\",\"\",OpLimit!C25)","v":""},{"$f":"IF(OpLimit!E25=\"\",\"\",OpLimit!E25)","v":""},{"$f":"BR3&BS3&BT3","v":""},{"$f":"IF(COUNTIF(BU$2:BU3,BU3)=1,BU3,\"\")","v":""},{"$f":"IF(BX3=\"\",\"\",BX3&\" \"&BY3&\" \"&BZ3)","v":""},{"$f":"+IFERROR(INDEX($BR$2:$BR$478,MATCH(ROW()-ROW($BV$1),$BQ$2:$BQ$478,0)),\"\")","v":""},{"$f":"+IFERROR(INDEX($BS$2:$BS$478,MATCH(ROW()-ROW($BV$1),$BQ$2:$BQ$478,0)),\"\")","v":""},{"$f":"+IFERROR(INDEX($BT$2:$BT$478,MATCH(ROW()-ROW($BV$1),$BQ$2:$BQ$478,0)),\"\")","v":""}]
[{"$f":"+IF(D4=\"\",\"\",MAX(A$1:A3)+1)","v":""},{"$f":"IF(Company_Information!B26=\"\",\"\",Company_Information!B26)","v":""},"",{"$f":"IF(COUNTIF(B$2:B4,B4)=1,B4,\"\")","v":""},null,{"$f":"+IF(I4=\"\",\"\",MAX(F$1:F3)+1)","v":""},{"$f":"IF(Compliance_Options!C26=\"\",\"\",Compliance_Options!C26)","v":""},"",{"$f":"IF(COUNTIF(G$2:G4,G4)=1,G4,\"\")","v":""},null,{"$f":"+IF(N4=\"\",\"\",MAX(K$1:K3)+1)","v":""},{"$f":"IF(CPMS1!E26=\"\",\"\",CPMS1!E26)","v":""},"",{"$f":"IF(COUNTIF(L$2:L4,L4)=1,L4,\"\")","v":""},null,"§63.3090(a) with §63.3092(a) - New source, combined Electrodeposition primer, primer-surfacer, topcoat, final repair, glass bonding primer and glass bonding adhesive operations, plus all coatings and thinners, except for deadener materials and for adhesive and sealer materials that are not components of glass bonding systems, used in coating operations added to the affected source",null,null,{"$f":"+IF(W4=\"\",\"\",MAX(S$1:S3)+1)","v":""},{"$f":"IF(Adhes_Sealer_Deadener!B26=\"\",\"\",Adhes_Sealer_Deadener!B26)","v":""},{"$f":"IF(Adhes_Sealer_Deadener!C26=\"\",\"\",Adhes_Sealer_Deadener!C26)","v":""},{"$f":"+Table10[[#This Row],[Column1]]&Table10[[#This Row],[Column2]]","v":""},{"$f":"IF(COUNTIF(V$2:V4,V4)=1,V4,\"\")","v":""},"","",null,{"$f":"+IF(AF4=\"\",\"\",MAX(AA$1:AA3)+1)","v":""},{"$f":"IF(CPMS2!B26=\"\",\"\",CPMS2!B26)","v":""},{"$f":"IF(CPMS2!C26=\"\",\"\",CPMS2!C26)","v":""},{"$f":"IF(CPMS2!D26=\"\",\"\",CPMS2!D26)","v":""},"",{"$f":"IF(COUNTIF(AE$2:AE4,AE4)=1,AE4,\"\")","v":""},"","","",null,{"$f":"+IF(AO4=\"\",\"\",MAX(AK$1:AK3)+1)","v":""},{"$f":"IF(Compliance_Options!B26=\"\",\"\",Compliance_Options!B26)","v":""},{"$f":"IF(Compliance_Options!C26=\"\",\"\",Compliance_Options!C26)","v":""},"",{"$f":"IF(COUNTIF(AN$2:AN4,AN4)=1,AN4,\"\")","v":""},"","","",null,{"$f":"+IF(AZ4=\"\",\"\",MAX(AT$1:AT3)+1)","v":""},{"$f":"IF(Compliance_Options!B26=\"\",\"\",Compliance_Options!B26)","v":""},{"$f":"IF(Compliance_Options!C26=\"\",\"\",Compliance_Options!C26)","v":""},"",{"$f":"IF(Compliance_Options!D26=\"\",\"\",Compliance_Options!D26)","v":""},"",{"$f":"IF(COUNTIF(AY$1:AY4,AY4)=1,AY4,\"\")","v":""},"","","","",null,{"$f":"+IF(BK4=\"\",\"\",MAX(BF$1:BF3)+1)","v":""},{"$f":"IF(CPMS1!B26=\"\",\"\",CPMS1!B26)","v":""},{"$f":"IF(CPMS1!C26=\"\",\"\",CPMS1!C26)","v":""},{"$f":"IF(CPMS1!E26=\"\",\"\",CPMS1!E26)","v":""},"",{"$f":"IF(COUNTIF(BJ$2:BJ4,BJ4)=1,BJ4,\"\")","v":""},"","","","",null,{"$f":"+IF(BV4=\"\",\"\",MAX(BQ$1:BQ3)+1)","v":""},{"$f":"IF(OpLimit!B26=\"\",\"\",OpLimit!B26)","v":""},{"$f":"IF(OpLimit!C26=\"\",\"\",OpLimit!C26)","v":""},{"$f":"IF(OpLimit!E26=\"\",\"\",OpLimit!E26)","v":""},"",{"$f":"IF(COUNTIF(BU$2:BU4,BU4)=1,BU4,\"\")","v":""},"","","",""]
[{"$f":"+IF(D5=\"\",\"\",MAX(A$1:A4)+1)","v":""},{"$f":"IF(Company_Information!B27=\"\",\"\",Company_Information!B27)","v":""},"",{"$f":"IF(COUNTIF(B$2:B5,B5)=1,B5,\"\")","v":""},null,{"$f":"+IF(I5=\"\",\"\",MAX(F$1:F4)+1)","v":""},{"$f":"IF(Compliance_Options!C27=\"\",\"\",Compliance_Options!C27)","v":""},"",{"$f":"IF(COUNTIF(G$2:G5,G5)=1,G5,\"\")","v":""},null,{"$f":"+IF(N5=\"\",\"\",MAX(K$1:K4)+1)","v":""},{"$f":"IF(CPMS1!E27=\"\",\"\",CPMS1!E27)","v":""},"",{"$f":"IF(COUNTIF(L$2:L5,L5)=1,L5,\"\")","v":""},null,"§63.3090(a) with §63.3092(b) - New source, combined Electrodeposition primer, primer-surfacer, topcoat, final repair, glass bonding primer and glass bonding adhesive operations, plus all coatings and thinners, except for deadener materials and for adhesive and sealer materials that are not components of glass bonding systems, used in coating operations added to the affected source",null,null,{"$f":"+IF(W5=\"\",\"\",MAX(S$1:S4)+1)","v":""},{"$f":"IF(Adhes_Sealer_Deadener!B27=\"\",\"\",Adhes_Sealer_Deadener!B27)","v":""},{"$f":"IF(Adhes_Sealer_Deadener!C27=\"\",\"\",Adhes_Sealer_Deadener!C27)","v":""},{"$f":"+Table10[[#This Row],[Column1]]&Table10[[#This Row],[Column2]]","v":""},{"$f":"IF(COUNTIF(V$2:V5,V5)=1,V5,\"\")","v":""},"","",null,{"$f":"+IF(AF5=\"\",\"\",MAX(AA$1:AA4)+1)","v":""},{"$f":"IF(CPMS2!B27=\"\",\"\",CPMS2!B27)","v":""},{"$f":"IF(CPMS2!C27=\"\",\"\",CPMS2!C27)","v":""},{"$f":"IF(CPMS2!D27=\"\",\"\",CPMS2!D27)","v":""},"",{"$f":"IF(COUNTIF(AE$2:AE5,AE5)=1,AE5,\"\")","v":""},"","","",null,{"$f":"+IF(AO5=\"\",\"\",MAX(AK$1:AK4)+1)","v":""},{"$f":"IF(Compliance_Options!B27=\"\",\"\",Compliance_Options!B27)","v":""},{"$f":"IF(Compliance_Options!C27=\"\",\"\",Compliance_Options!C27)","v":""},"",{"$f":"IF(COUNTIF(AN$2:AN5,AN5)=1,AN5,\"\")","v":""},"","","",null,{"$f":"+IF(AZ5=\"\",\"\",MAX(AT$1:AT4)+1)","v":""},{"$f":"IF(Compliance_Options!B27=\"\",\"\",Compliance_Options!B27)","v":""},{"$f":"IF(Compliance_Options!C27=\"\",\"\",Compliance_Options!C27)","v":""},"",{"$f":"IF(Compliance_Options!D27=\"\",\"\",Compliance_Options!D27)","v":""},"",{"$f":"IF(COUNTIF(AY$1:AY5,AY5)=1,AY5,\"\")","v":""},"","","","",null,{"$f":"+IF(BK5=\"\",\"\",MAX(BF$1:BF4)+1)","v":""},{"$f":"IF(CPMS1!B27=\"\",\"\",CPMS1!B27)","v":""},{"$f":"IF(CPMS1!C27=\"\",\"\",CPMS1!C27)","v":""},{"$f":"IF(CPMS1!E27=\"\",\"\",CPMS1!E27)","v":""},"",{"$f":"IF(COUNTIF(BJ$2:BJ5,BJ5)=1,BJ5,\"\")","v":""},"","","","",null,{"$f":"+IF(BV5=\"\",\"\",MAX(BQ$1:BQ4)+1)","v":""},{"$f":"IF(OpLimit!B27=\"\",\"\",OpLimit!B27)","v":""},{"$f":"IF(OpLimit!C27=\"\",\"\",OpLimit!C27)","v":""},{"$f":"IF(OpLimit!E27=\"\",\"\",OpLimit!E27)","v":""},"",{"$f":"IF(COUNTIF(BU$2:BU5,BU5)=1,BU5,\"\")","v":""},"","","",""]
[{"$f":"+IF(D6=\"\",\"\",MAX(A$1:A5)+1)","v":""},{"$f":"IF(Company_Information!B28=\"\",\"\",Company_Information!B28)","v":""},"",{"$f":"IF(COUNTIF(B$2:B6,B6)=1,B6,\"\")","v":""},null,{"$f":"+IF(I6=\"\",\"\",MAX(F$1:F5)+1)","v":""},{"$f":"IF(Compliance_Options!C28=\"\",\"\",Compliance_Options!C28)","v":""},"",{"$f":"IF(COUNTIF(G$2:G6,G6)=1,G6,\"\")","v":""},null,{"$f":"+IF(N6=\"\",\"\",MAX(K$1:K5)+1)","v":""},{"$f":"IF(CPMS1!E28=\"\",\"\",CPMS1!E28)","v":""},"",{"$f":"IF(COUNTIF(L$2:L6,L6)=1,L6,\"\")","v":""},null,"§63.3090(a) and (e) - New source, combined Electrodeposition primer, primer-surfacer, topcoat, final repair, glass bonding primer and glass bonding adhesive operations, plus all coatings and thinners, except for deadener materials and for adhesive and sealer materials that are not components of glass bonding systems, used in coating operations added to the affected source, including sources that would otherwise have been subject to subparts MMMM or PPPP",null,null,{"$f":"+IF(W6=\"\",\"\",MAX(S$1:S5)+1)","v":""},{"$f":"IF(Adhes_Sealer_Deadener!B28=\"\",\"\",Adhes_Sealer_Deadener!B28)","v":""},{"$f":"IF(Adhes_Sealer_Deadener!C28=\"\",\"\",Adhes_Sealer_Deadener!C28)","v":""},{"$f":"+Table10[[#This Row],[Column1]]&Table10[[#This Row],[Column2]]","v":""},{"$f":"IF(COUNTIF(V$2:V6,V6)=1,V6,\"\")","v":""},"","",null,{"$f":"+IF(AF6=\"\",\"\",MAX(AA$1:AA5)+1)","v":""},{"$f":"IF(CPMS2!B28=\"\",\"\",CPMS2!B28)","v":""},{"$f":"IF(CPMS2!C28=\"\",\"\",CPMS2!C28)","v":""},{"$f":"IF(CPMS2!D28=\"\",\"\",CPMS2!D28)","v":""},"",{"$f":"IF(COUNTIF(AE$2:AE6,AE6)=1,AE6,\"\")","v":""},"","","",null,{"$f":"+IF(AO6=\"\",\"\",MAX(AK$1:AK5)+1)","v":""},{"$f":"IF(Compliance_Options!B28=\"\",\"\",Compliance_Options!B28)","v":""},{"$f":"IF(Compliance_Options!C28=\"\",\"\",Compliance_Options!C28)","v":""},"",{"$f":"IF(COUNTIF(AN$2:AN6,AN6)=1,AN6,\"\")","v":""},"","","",null,{"$f":"+IF(AZ6=\"\",\"\",MAX(AT$1:AT5)+1)","v":""},{"$f":"IF(Compliance_Options!B28=\"\",\"\",Compliance_Options!B28)","v":""},{"$f":"IF(Compliance_Options!C28=\"\",\"\",Compliance_Options!C28)","v":""},"",{"$f":"IF(Compliance_Options!D28=\"\",\"\",Compliance_Options!D28)","v":""},"",{"$f":"IF(COUNTIF(AY$1:AY6,AY6)=1,AY6,\"\")","v":""},"","","","",null,{"$f":"+IF(BK6=\"\",\"\",MAX(BF$1:BF5)+1)","v":""},{"$f":"IF(CPMS1!B28=\"\",\"\",CPMS1!B28)","v":""},{"$f":"IF(CPMS1!C28=\"\",\"\",CPMS1!C28)","v":""},{"$f":"IF(CPMS1!E28=\"\",\"\",CPMS1!E28)","v":""},"",{"$f":"IF(COUNTIF(BJ$2:BJ6,BJ6)=1,BJ6,\"\")","v":""},"","","","",null,{"$f":"+IF(BV6=\"\",\"\",MAX(BQ$1:BQ5)+1)","v":""},{"$f":"IF(OpLimit!B28=\"\",\"\",OpLimit!B28)","v":""},{"$f":"IF(OpLimit!C28=\"\",\"\",OpLimit!C28)","v":""},{"$f":"IF(OpLimit!E28=\"\",\"\",OpLimit!E28)","v":""},"",{"$f":"IF(COUNTIF(BU$2:BU6,BU6)=1,BU6,\"\")","v":""},"","","",""]
[{"$f":"+IF(D7=\"\",\"\",MAX(A$1:A6)+1)","v":""},{"$f":"IF(Company_Information!B29=\"\",\"\",Company_Information!B29)","v":""},"",{"$f":"IF(COUNTIF(B$2:B7,B7)=1,B7,\"\")","v":""},null,{"$f":"+IF(I7=\"\",\"\",MAX(F$1:F6)+1)","v":""},{"$f":"IF(Compliance_Options!C29=\"\",\"\",Compliance_Options!C29)","v":""},"",{"$f":"IF(COUNTIF(G$2:G7,G7)=1,G7,\"\")","v":""},null,{"$f":"+IF(N7=\"\",\"\",MAX(K$1:K6)+1)","v":""},{"$f":"IF(CPMS1!E29=\"\",\"\",CPMS1!E29)","v":""},"",{"$f":"IF(COUNTIF(L$2:L7,L7)=1,L7,\"\")","v":""},null,"§63.3090(a) and (e) with §63.3092(a) - New source, combined Electrodeposition primer, primer-surfacer, topcoat, final repair, glass bonding primer and glass bonding adhesive operations, plus all coatings and thinners, except for deadener materials and for adhesive and sealer materials that are not components of glass bonding systems, used in coating operations added to the affected source, including sources that would otherwise have been subject to subparts MMMM or PPPP",null,null,{"$f":"+IF(W7=\"\",\"\",MAX(S$1:S6)+1)","v":""},{"$f":"IF(Adhes_Sealer_Deadener!B29=\"\",\"\",Adhes_Sealer_Deadener!B29)","v":""},{"$f":"IF(Adhes_Sealer_Deadener!C29=\"\",\"\",Adhes_Sealer_Deadener!C29)","v":""},{"$f":"+Table10[[#This Row],[Column1]]&Table10[[#This Row],[Column2]]","v":""},{"$f":"IF(COUNTIF(V$2:V7,V7)=1,V7,\"\")","v":""},"","",null,{"$f":"+IF(AF7=\"\",\"\",MAX(AA$1:AA6)+1)","v":""},{"$f":"IF(CPMS2!B29=\"\",\"\",CPMS2!B29)","v":""},{"$f":"IF(CPMS2!C29=\"\",\"\",CPMS2!C29)","v":""},{"$f":"IF(CPMS2!D29=\"\",\"\",CPMS2!D29)","v":""},"",{"$f":"IF(COUNTIF(AE$2:AE7,AE7)=1,AE7,\"\")","v":""},"","","",null,{"$f":"+IF(AO7=\"\",\"\",MAX(AK$1:AK6)+1)","v":""},{"$f":"IF(Compliance_Options!B29=\"\",\"\",Compliance_Options!B29)","v":""},{"$f":"IF(Compliance_Options!C29=\"\",\"\",Compliance_Options!C29)","v":""},"",{"$f":"IF(COUNTIF(AN$2:AN7,AN7)=1,AN7,\"\")","v":""},"","","",null,{"$f":"+IF(AZ7=\"\",\"\",MAX(AT$1:AT6)+1)","v":""},{"$f":"IF(Compliance_Options!B29=\"\",\"\",Compliance_Options!B29)","v":""},{"$f":"IF(Compliance_Options!C29=\"\",\"\",Compliance_Options!C29)","v":""},"",{"$f":"IF(Compliance_Options!D29=\"\",\"\",Compliance_Options!D29)","v":""},"",{"$f":"IF(COUNTIF(AY$1:AY7,AY7)=1,AY7,\"\")","v":""},"","","","",null,{"$f":"+IF(BK7=\"\",\"\",MAX(BF$1:BF6)+1)","v":""},{"$f":"IF(CPMS1!B29=\"\",\"\",CPMS1!B29)","v":""},{"$f":"IF(CPMS1!C29=\"\",\"\",CPMS1!C29)","v":""},{"$f":"IF(CPMS1!E29=\"\",\"\",CPMS1!E29)","v":""},"",{"$f":"IF(COUNTIF(BJ$2:BJ7,BJ7)=1,BJ7,\"\")","v":""},"","","","",null,{"$f":"+IF(BV7=\"\",\"\",MAX(BQ$1:BQ6)+1)","v":""},{"$f":"IF(OpLimit!B29=\"\",\"\",OpLimit!B29)","v":""},{"$f":"IF(OpLimit!C29=\"\",\"\",OpLimit!C29)","v":""},{"$f":"IF(OpLimit!E29=\"\",\"\",OpLimit!E29)","v":""},"",{"$f":"IF(COUNTIF(BU$2:BU7,BU7)=1,BU7,\"\")","v":""},"","","",""]
[{"$f":"+IF(D8=\"\",\"\",MAX(A$1:A7)+1)","v":""},{"$f":"IF(Company_Information!B30=\"\",\"\",Company_Information!B30)","v":""},"",{"$f":"IF(COUNTIF(B$2:B8,B8)=1,B8,\"\")","v":""},null,{"$f":"+IF(I8=\"\",\"\",MAX(F$1:F7)+1)","v":""},{"$f":"IF(Compliance_Options!C30=\"\",\"\",Compliance_Options!C30)","v":""},"",{"$f":"IF(COUNTIF(G$2:G8,G8)=1,G8,\"\")","v":""},null,{"$f":"+IF(N8=\"\",\"\",MAX(K$1:K7)+1)","v":""},{"$f":"IF(CPMS1!E30=\"\",\"\",CPMS1!E30)","v":""},"",{"$f":"IF(COUNTIF(L$2:L8,L8)=1,L8,\"\")","v":""},null,"§63.3090(a) and (e) with §63.3092(b) - New source, combined Electrodeposition primer, primer-surfacer, topcoat, final repair, glass bonding primer and glass bonding adhesive operations, plus all coatings and thinners, except for deadener materials and for adhesive and sealer materials that are not components of glass bonding systems, used in coating operations added to the affected source, including sources that would otherwise have been subject to subparts MMMM or PPPP",null,null,{"$f":"+IF(W8=\"\",\"\",MAX(S$1:S7)+1)","v":""},{"$f":"IF(Adhes_Sealer_Deadener!B30=\"\",\"\",Adhes_Sealer_Deadener!B30)","v":""},{"$f":"IF(Adhes_Sealer_Deadener!C30=\"\",\"\",Adhes_Sealer_Deadener!C30)","v":""},{"$f":"+Table10[[#This Row],[Column1]]&Table10[[#This Row],[Column2]]","v":""},{"$f":"IF(COUNTIF(V$2:V8,V8)=1,V8,\"\")","v":""},"","",null,{"$f":"+IF(AF8=\"\",\"\",MAX(AA$1:AA7)+1)","v":""},{"$f":"IF(CPMS2!B30=\"\",\"\",CPMS2!B30)","v":""},{"$f":"IF(CPMS2!C30=\"\",\"\",CPMS2!C30)","v":""},{"$f":"IF(CPMS2!D30=\"\",\"\",CPMS2!D30)","v":""},"",{"$f":"IF(COUNTIF(AE$2:AE8,AE8)=1,AE8,\"\")","v":""},"","","",null,{"$f":"+IF(AO8=\"\",\"\",MAX(AK$1:AK7)+1)","v":""},{"$f":"IF(Compliance_Options!B30=\"\",\"\",Compliance_Options!B30)","v":""},{"$f":"IF(Compliance_Options!C30=\"\",\"\",Compliance_Options!C30)","v":""},"",{"$f":"IF(COUNTIF(AN$2:AN8,AN8)=1,AN8,\"\")","v":""},"","","",null,{"$f":"+IF(AZ8=\"\",\"\",MAX(AT$1:AT7)+1)","v":""},{"$f":"IF(Compliance_Options!B30=\"\",\"\",Compliance_Options!B30)","v":""},{"$f":"IF(Compliance_Options!C30=\"\",\"\",Compliance_Options!C30)","v":""},"",{"$f":"IF(Compliance_Options!D30=\"\",\"\",Compliance_Options!D30)","v":""},"",{"$f":"IF(COUNTIF(AY$1:AY8,AY8)=1,AY8,\"\")","v":""},"","","","",null,{"$f":"+IF(BK8=\"\",\"\",MAX(BF$1:BF7)+1)","v":""},{"$f":"IF(CPMS1!B30=\"\",\"\",CPMS1!B30)","v":""},{"$f":"IF(CPMS1!C30=\"\",\"\",CPMS1!C30)","v":""},{"$f":"IF(CPMS1!E30=\"\",\"\",CPMS1!E30)","v":""},"",{"$f":"IF(COUNTIF(BJ$2:BJ8,BJ8)=1,BJ8,\"\")","v":""},"","","","",null,{"$f":"+IF(BV8=\"\",\"\",MAX(BQ$1:BQ7)+1)","v":""},{"$f":"IF(OpLimit!B30=\"\",\"\",OpLimit!B30)","v":""},{"$f":"IF(OpLimit!C30=\"\",\"\",OpLimit!C30)","v":""},{"$f":"IF(OpLimit!E30=\"\",\"\",OpLimit!E30)","v":""},"",{"$f":"IF(COUNTIF(BU$2:BU8,BU8)=1,BU8,\"\")","v":""},"","","",""]
[{"$f":"+IF(D9=\"\",\"\",MAX(A$1:A8)+1)","v":""},{"$f":"IF(Company_Information!B31=\"\",\"\",Company_Information!B31)","v":""},"",{"$f":"IF(COUNTIF(B$2:B9,B9)=1,B9,\"\")","v":""},null,{"$f":"+IF(I9=\"\",\"\",MAX(F$1:F8)+1)","v":""},{"$f":"IF(Compliance_Options!C31=\"\",\"\",Compliance_Options!C31)","v":""},"",{"$f":"IF(COUNTIF(G$2:G9,G9)=1,G9,\"\")","v":""},null,{"$f":"+IF(N9=\"\",\"\",MAX(K$1:K8)+1)","v":""},{"$f":"IF(CPMS1!E31=\"\",\"\",CPMS1!E31)","v":""},"",{"$f":"IF(COUNTIF(L$2:L9,L9)=1,L9,\"\")","v":""},null,"§63.3090(b) with §63.3092(a) - New source, combined primer-surfacer, topcoat, final repair, glass bonding primer, and glass bonding adhesive operations plus all coatings and thinners, except for deadener materials and for adhesive and sealer materials that are not components of glass bonding systems, used in coating operations added to the affected source  ",null,null,{"$f":"+IF(W9=\"\",\"\",MAX(S$1:S8)+1)","v":""},{"$f":"IF(Adhes_Sealer_Deadener!B31=\"\",\"\",Adhes_Sealer_Deadener!B31)","v":""},{"$f":"IF(Adhes_Sealer_Deadener!C31=\"\",\"\",Adhes_Sealer_Deadener!C31)","v":""},{"$f":"+Table10[[#This Row],[Column1]]&Table10[[#This Row],[Column2]]","v":""},{"$f":"IF(COUNTIF(V$2:V9,V9)=1,V9,\"\")","v":""},"","",null,{"$f":"+IF(AF9=\"\",\"\",MAX(AA$1:AA8)+1)","v":""},{"$f":"IF(CPMS2!B31=\"\",\"\",CPMS2!B31)","v":""},{"$f":"IF(CPMS2!C31=\"\",\"\",CPMS2!C31)","v":""},{"$f":"IF(CPMS2!D31=\"\",\"\",CPMS2!D31)","v":""},"",{"$f":"IF(COUNTIF(AE$2:AE9,AE9)=1,AE9,\"\")","v":""},"","","",null,{"$f":"+IF(AO9=\"\",\"\",MAX(AK$1:AK8)+1)","v":""},{"$f":"IF(Compliance_Options!B31=\"\",\"\",Compliance_Options!B31)","v":""},{"$f":"IF(Compliance_Options!C31=\"\",\"\",Compliance_Options!C31)","v":""},"",{"$f":"IF(COUNTIF(AN$2:AN9,AN9)=1,AN9,\"\")","v":""},"","","",null,{"$f":"+IF(AZ9=\"\",\"\",MAX(AT$1:AT8)+1)","v":""},{"$f":"IF(Compliance_Options!B31=\"\",\"\",Compliance_Options!B31)","v":""},{"$f":"IF(Compliance_Options!C31=\"\",\"\",Compliance_Options!C31)","v":""},"",{"$f":"IF(Compliance_Options!D31=\"\",\"\",Compliance_Options!D31)","v":""},"",{"$f":"IF(COUNTIF(AY$1:AY9,AY9)=1,AY9,\"\")","v":""},"","","","",null,{"$f":"+IF(BK9=\"\",\"\",MAX(BF$1:BF8)+1)","v":""},{"$f":"IF(CPMS1!B31=\"\",\"\",CPMS1!B31)","v":""},{"$f":"IF(CPMS1!C31=\"\",\"\",CPMS1!C31)","v":""},{"$f":"IF(CPMS1!E31=\"\",\"\",CPMS1!E31)","v":""},"",{"$f":"IF(COUNTIF(BJ$2:BJ9,BJ9)=1,BJ9,\"\")","v":""},"","","","",null,{"$f":"+IF(BV9=\"\",\"\",MAX(BQ$1:BQ8)+1)","v":""},{"$f":"IF(OpLimit!B31=\"\",\"\",OpLimit!B31)","v":""},{"$f":"IF(OpLimit!C31=\"\",\"\",OpLimit!C31)","v":""},{"$f":"IF(OpLimit!E31=\"\",\"\",OpLimit!E31)","v":""},"",{"$f":"IF(COUNTIF(BU$2:BU9,BU9)=1,BU9,\"\")","v":""},"","","",""]
[{"$f":"+IF(D10=\"\",\"\",MAX(A$1:A9)+1)","v":""},{"$f":"IF(Company_Information!B32=\"\",\"\",Company_Information!B32)","v":""},"",{"$f":"IF(COUNTIF(B$2:B10,B10)=1,B10,\"\")","v":""},null,{"$f":"+IF(I10=\"\",\"\",MAX(F$1:F9)+1)","v":""},{"$f":"IF(Compliance_Options!C32=\"\",\"\",Compliance_Options!C32)","v":""},"",{"$f":"IF(COUNTIF(G$2:G10,G10)=1,G10,\"\")","v":""},null,{"$f":"+IF(N10=\"\",\"\",MAX(K$1:K9)+1)","v":""},{"$f":"IF(CPMS1!E32=\"\",\"\",CPMS1!E32)","v":""},"",{"$f":"IF(COUNTIF(L$2:L10,L10)=1,L10,\"\")","v":""},null,"§63.3090(b) with §63.3092(b)- New source, combined primer-surfacer, topcoat, final repair, glass bonding primer, and glass bonding adhesive operations plus all coatings and thinners, except for deadener materials and for adhesive and sealer materials that are not components of glass bonding systems, used in coating operations added to the affected source  ",null,null,{"$f":"+IF(W10=\"\",\"\",MAX(S$1:S9)+1)","v":""},{"$f":"IF(Adhes_Sealer_Deadener!B32=\"\",\"\",Adhes_Sealer_Deadener!B32)","v":""},{"$f":"IF(Adhes_Sealer_Deadener!C32=\"\",\"\",Adhes_Sealer_Deadener!C32)","v":""},{"$f":"+Table10[[#This Row],[Column1]]&Table10[[#This Row],[Column2]]","v":""},{"$f":"IF(COUNTIF(V$2:V10,V10)=1,V10,\"\")","v":""},"","",null,{"$f":"+IF(AF10=\"\",\"\",MAX(AA$1:AA9)+1)","v":""},{"$f":"IF(CPMS2!B32=\"\",\"\",CPMS2!B32)","v":""},{"$f":"IF(CPMS2!C32=\"\",\"\",CPMS2!C32)","v":""},{"$f":"IF(CPMS2!D32=\"\",\"\",CPMS2!D32)","v":""},"",{"$f":"IF(COUNTIF(AE$2:AE10,AE10)=1,AE10,\"\")","v":""},"","","",null,{"$f":"+IF(AO10=\"\",\"\",MAX(AK$1:AK9)+1)","v":""},{"$f":"IF(Compliance_Options!B32=\"\",\"\",Compliance_Options!B32)","v":""},{"$f":"IF(Compliance_Options!C32=\"\",\"\",Compliance_Options!C32)","v":""},"",{"$f":"IF(COUNTIF(AN$2:AN10,AN10)=1,AN10,\"\")","v":""},"","","",null,{"$f":"+IF(AZ10=\"\",\"\",MAX(AT$1:AT9)+1)","v":""},{"$f":"IF(Compliance_Options!B32=\"\",\"\",Compliance_Options!B32)","v":""},{"$f":"IF(Compliance_Options!C32=\"\",\"\",Compliance_Options!C32)","v":""},"",{"$f":"IF(Compliance_Options!D32=\"\",\"\",Compliance_Options!D32)","v":""},"",{"$f":"IF(COUNTIF(AY$1:AY10,AY10)=1,AY10,\"\")","v":""},"","","","",null,{"$f":"+IF(BK10=\"\",\"\",MAX(BF$1:BF9)+1)","v":""},{"$f":"IF(CPMS1!B32=\"\",\"\",CPMS1!B32)","v":""},{"$f":"IF(CPMS1!C32=\"\",\"\",CPMS1!C32)","v":""},{"$f":"IF(CPMS1!E32=\"\",\"\",CPMS1!E32)","v":""},"",{"$f":"IF(COUNTIF(BJ$2:BJ10,BJ10)=1,BJ10,\"\")","v":""},"","","","",null,{"$f":"+IF(BV10=\"\",\"\",MAX(BQ$1:BQ9)+1)","v":""},{"$f":"IF(OpLimit!B32=\"\",\"\",OpLimit!B32)","v":""},{"$f":"IF(OpLimit!C32=\"\",\"\",OpLimit!C32)","v":""},{"$f":"IF(OpLimit!E32=\"\",\"\",OpLimit!E32)","v":""},"",{"$f":"IF(COUNTIF(BU$2:BU10,BU10)=1,BU10,\"\")","v":""},"","","",""]
[{"$f":"+IF(D11=\"\",\"\",MAX(A$1:A10)+1)","v":""},{"$f":"IF(Company_Information!B33=\"\",\"\",Company_Information!B33)","v":""},"",{"$f":"IF(COUNTIF(B$2:B11,B11)=1,B11,\"\")","v":""},null,{"$f":"+IF(I11=\"\",\"\",MAX(F$1:F10)+1)","v":""},{"$f":"IF(Compliance_Options!C33=\"\",\"\",Compliance_Options!C33)","v":""},"",{"$f":"IF(COUNTIF(G$2:G11,G11)=1,G11,\"\")","v":""},null,{"$f":"+IF(N11=\"\",\"\",MAX(K$1:K10)+1)","v":""},{"$f":"IF(CPMS1!E33=\"\",\"\",CPMS1!E33)","v":""},"",{"$f":"IF(COUNTIF(L$2:L11,L11)=1,L11,\"\")","v":""},null,"§63.3090(b) and (e) with §63.3092(a) - New source, combined primer-surfacer, topcoat, final repair, glass bonding primer, and glass bonding adhesive operations plus all coatings and thinners, except for deadener materials and for adhesive and sealer materials that are not components of glass bonding systems, used in coating operations added to the affected source, including sources that would otherwise have been subject to subparts MMMM or PPPP",null,null,{"$f":"+IF(W11=\"\",\"\",MAX(S$1:S10)+1)","v":""},{"$f":"IF(Adhes_Sealer_Deadener!B33=\"\",\"\",Adhes_Sealer_Deadener!B33)","v":""},{"$f":"IF(Adhes_Sealer_Deadener!C33=\"\",\"\",Adhes_Sealer_Deadener!C33)","v":""},{"$f":"+Table10[[#This Row],[Column1]]&Table10[[#This Row],[Column2]]","v":""},{"$f":"IF(COUNTIF(V$2:V11,V11)=1,V11,\"\")","v":""},"","",null,{"$f":"+IF(AF11=\"\",\"\",MAX(AA$1:AA10)+1)","v":""},{"$f":"IF(CPMS2!B33=\"\",\"\",CPMS2!B33)","v":""},{"$f":"IF(CPMS2!C33=\"\",\"\",CPMS2!C33)","v":""},{"$f":"IF(CPMS2!D33=\"\",\"\",CPMS2!D33)","v":""},"",{"$f":"IF(COUNTIF(AE$2:AE11,AE11)=1,AE11,\"\")","v":""},"","","",null,{"$f":"+IF(AO11=\"\",\"\",MAX(AK$1:AK10)+1)","v":""},{"$f":"IF(Compliance_Options!B33=\"\",\"\",Compliance_Options!B33)","v":""},{"$f":"IF(Compliance_Options!C33=\"\",\"\",Compliance_Options!C33)","v":""},"",{"$f":"IF(COUNTIF(AN$2:AN11,AN11)=1,AN11,\"\")","v":""},"","","",null,{"$f":"+IF(AZ11=\"\",\"\",MAX(AT$1:AT10)+1)","v":""},{"$f":"IF(Compliance_Options!B33=\"\",\"\",Compliance_Options!B33)","v":""},{"$f":"IF(Compliance_Options!C33=\"\",\"\",Compliance_Options!C33)","v":""},"",{"$f":"IF(Compliance_Options!D33=\"\",\"\",Compliance_Options!D33)","v":""},"",{"$f":"IF(COUNTIF(AY$1:AY11,AY11)=1,AY11,\"\")","v":""},"","","","",null,{"$f":"+IF(BK11=\"\",\"\",MAX(BF$1:BF10)+1)","v":""},{"$f":"IF(CPMS1!B33=\"\",\"\",CPMS1!B33)","v":""},{"$f":"IF(CPMS1!C33=\"\",\"\",CPMS1!C33)","v":""},{"$f":"IF(CPMS1!E33=\"\",\"\",CPMS1!E33)","v":""},"",{"$f":"IF(COUNTIF(BJ$2:BJ11,BJ11)=1,BJ11,\"\")","v":""},"","","","",null,{"$f":"+IF(BV11=\"\",\"\",MAX(BQ$1:BQ10)+1)","v":""},{"$f":"IF(OpLimit!B33=\"\",\"\",OpLimit!B33)","v":""},{"$f":"IF(OpLimit!C33=\"\",\"\",OpLimit!C33)","v":""},{"$f":"IF(OpLimit!E33=\"\",\"\",OpLimit!E33)","v":""},"",{"$f":"IF(COUNTIF(BU$2:BU11,BU11)=1,BU11,\"\")","v":""},"","","",""]
[null,null,null,null,null,{"$f":"+IF(I12=\"\",\"\",MAX(F$1:F11)+1)","v":""},{"$f":"IF(Compliance_Options!C34=\"\",\"\",Compliance_Options!C34)","v":""},"",{"$f":"IF(COUNTIF(G$2:G12,G12)=1,G12,\"\")","v":""},null,{"$f":"+IF(N12=\"\",\"\",MAX(K$1:K11)+1)","v":""},{"$f":"IF(CPMS1!E34=\"\",\"\",CPMS1!E34)","v":""},"",{"$f":"IF(COUNTIF(L$2:L12,L12)=1,L12,\"\")","v":""},null,"§63.3090(b) and (e) with §63.3092(b)- New source, combined primer-surfacer, topcoat, final repair, glass bonding primer, and glass bonding adhesive operations plus all coatings and thinners, except for deadener materials and for adhesive and sealer materials that are not components of glass bonding systems, used in coating operations added to the affected source, including sources that would otherwise have been subject to subparts MMMM or PPPP",null,null,{"$f":"+IF(W12=\"\",\"\",MAX(S$1:S11)+1)","v":""},{"$f":"IF(Adhes_Sealer_Deadener!B34=\"\",\"\",Adhes_Sealer_Deadener!B34)","v":""},{"$f":"IF(Adhes_Sealer_Deadener!C34=\"\",\"\",Adhes_Sealer_Deadener!C34)","v":""},{"$f":"+Table10[[#This Row],[Column1]]&Table10[[#This Row],[Column2]]","v":""},{"$f":"IF(COUNTIF(V$2:V12,V12)=1,V12,\"\")","v":""},"","",null,{"$f":"+IF(AF12=\"\",\"\",MAX(AA$1:AA11)+1)","v":""},{"$f":"IF(CPMS2!B34=\"\",\"\",CPMS2!B34)","v":""},{"$f":"IF(CPMS2!C34=\"\",\"\",CPMS2!C34)","v":""},{"$f":"IF(CPMS2!D34=\"\",\"\",CPMS2!D34)","v":""},"",{"$f":"IF(COUNTIF(AE$2:AE12,AE12)=1,AE12,\"\")","v":""},"","","",null,{"$f":"+IF(AO12=\"\",\"\",MAX(AK$1:AK11)+1)","v":""},{"$f":"IF(Compliance_Options!B34=\"\",\"\",Compliance_Options!B34)","v":""},{"$f":"IF(Compliance_Options!C34=\"\",\"\",Compliance_Options!C34)","v":""},"",{"$f":"IF(COUNTIF(AN$2:AN12,AN12)=1,AN12,\"\")","v":""},"","","",null,{"$f":"+IF(AZ12=\"\",\"\",MAX(AT$1:AT11)+1)","v":""},{"$f":"IF(Compliance_Options!B34=\"\",\"\",Compliance_Options!B34)","v":""},{"$f":"IF(Compliance_Options!C34=\"\",\"\",Compliance_Options!C34)","v":""},"",{"$f":"IF(Compliance_Options!D34=\"\",\"\",Compliance_Options!D34)","v":""},"",{"$f":"IF(COUNTIF(AY$1:AY12,AY12)=1,AY12,\"\")","v":""},"","","","",null,{"$f":"+IF(BK12=\"\",\"\",MAX(BF$1:BF11)+1)","v":""},{"$f":"IF(CPMS1!B34=\"\",\"\",CPMS1!B34)","v":""},{"$f":"IF(CPMS1!C34=\"\",\"\",CPMS1!C34)","v":""},{"$f":"IF(CPMS1!E34=\"\",\"\",CPMS1!E34)","v":""},"",{"$f":"IF(COUNTIF(BJ$2:BJ12,BJ12)=1,BJ12,\"\")","v":""},"","","","",null,{"$f":"+IF(BV12=\"\",\"\",MAX(BQ$1:BQ11)+1)","v":""},{"$f":"IF(OpLimit!B34=\"\",\"\",OpLimit!B34)","v":""},{"$f":"IF(OpLimit!C34=\"\",\"\",OpLimit!C34)","v":""},{"$f":"IF(OpLimit!E34=\"\",\"\",OpLimit!E34)","v":""},"",{"$f":"IF(COUNTIF(BU$2:BU12,BU12)=1,BU12,\"\")","v":""},"","","",""]
[null,null,null,null,null,{"$f":"+IF(I13=\"\",\"\",MAX(F$1:F12)+1)","v":""},{"$f":"IF(Compliance_Options!C35=\"\",\"\",Compliance_Options!C35)","v":""},"",{"$f":"IF(COUNTIF(G$2:G13,G13)=1,G13,\"\")","v":""},null,{"$f":"+IF(N13=\"\",\"\",MAX(K$1:K12)+1)","v":""},{"$f":"IF(CPMS1!E35=\"\",\"\",CPMS1!E35)","v":""},"",{"$f":"IF(COUNTIF(L$2:L13,L13)=1,L13,\"\")","v":""},null,"§63.3091(a) - Existing source, combined Electrodeposition primer, primer-surfacer, topcoat, final repair, glass bonding primer and glass bonding adhesive, or combined primer-surfacer, topcoat, final repair, glass bonding primer, and glass bonding adhesive plus all coatings and thinners, except for deadener materials and for adhesive and sealer materials that are not components of glass bonding systems, used in coating operations added to the affected source  ",null,null,{"$f":"+IF(W13=\"\",\"\",MAX(S$1:S12)+1)","v":""},{"$f":"IF(Adhes_Sealer_Deadener!B35=\"\",\"\",Adhes_Sealer_Deadener!B35)","v":""},{"$f":"IF(Adhes_Sealer_Deadener!C35=\"\",\"\",Adhes_Sealer_Deadener!C35)","v":""},{"$f":"+Table10[[#This Row],[Column1]]&Table10[[#This Row],[Column2]]","v":""},{"$f":"IF(COUNTIF(V$2:V13,V13)=1,V13,\"\")","v":""},"","",null,{"$f":"+IF(AF13=\"\",\"\",MAX(AA$1:AA12)+1)","v":""},{"$f":"IF(CPMS2!B35=\"\",\"\",CPMS2!B35)","v":""},{"$f":"IF(CPMS2!C35=\"\",\"\",CPMS2!C35)","v":""},{"$f":"IF(CPMS2!D35=\"\",\"\",CPMS2!D35)","v":""},"",{"$f":"IF(COUNTIF(AE$2:AE13,AE13)=1,AE13,\"\")","v":""},"","","",null,{"$f":"+IF(AO13=\"\",\"\",MAX(AK$1:AK12)+1)","v":""},{"$f":"IF(Compliance_Options!B35=\"\",\"\",Compliance_Options!B35)","v":""},{"$f":"IF(Compliance_Options!C35=\"\",\"\",Compliance_Options!C35)","v":""},"",{"$f":"IF(COUNTIF(AN$2:AN13,AN13)=1,AN13,\"\")","v":""},"","","",null,{"$f":"+IF(AZ13=\"\",\"\",MAX(AT$1:AT12)+1)","v":""},{"$f":"IF(Compliance_Options!B35=\"\",\"\",Compliance_Options!B35)","v":""},{"$f":"IF(Compliance_Options!C35=\"\",\"\",Compliance_Options!C35)","v":""},"",{"$f":"IF(Compliance_Options!D35=\"\",\"\",Compliance_Options!D35)","v":""},"",{"$f":"IF(COUNTIF(AY$1:AY13,AY13)=1,AY13,\"\")","v":""},"","","","",null,{"$f":"+IF(BK13=\"\",\"\",MAX(BF$1:BF12)+1)","v":""},{"$f":"IF(CPMS1!B35=\"\",\"\",CPMS1!B35)","v":""},{"$f":"IF(CPMS1!C35=\"\",\"\",CPMS1!C35)","v":""},{"$f":"IF(CPMS1!E35=\"\",\"\",CPMS1!E35)","v":""},"",{"$f":"IF(COUNTIF(BJ$2:BJ13,BJ13)=1,BJ13,\"\")","v":""},"","","","",null,{"$f":"+IF(BV13=\"\",\"\",MAX(BQ$1:BQ12)+1)","v":""},{"$f":"IF(OpLimit!B35=\"\",\"\",OpLimit!B35)","v":""},{"$f":"IF(OpLimit!C35=\"\",\"\",OpLimit!C35)","v":""},{"$f":"IF(OpLimit!E35=\"\",\"\",OpLimit!E35)","v":""},"",{"$f":"IF(COUNTIF(BU$2:BU13,BU13)=1,BU13,\"\")","v":""},"","","",""]
[null,null,null,null,null,{"$f":"+IF(I14=\"\",\"\",MAX(F$1:F13)+1)","v":""},{"$f":"IF(Compliance_Options!C36=\"\",\"\",Compliance_Options!C36)","v":""},"",{"$f":"IF(COUNTIF(G$2:G14,G14)=1,G14,\"\")","v":""},null,{"$f":"+IF(N14=\"\",\"\",MAX(K$1:K13)+1)","v":""},{"$f":"IF(CPMS1!E36=\"\",\"\",CPMS1!E36)","v":""},"",{"$f":"IF(COUNTIF(L$2:L14,L14)=1,L14,\"\")","v":""},null,"§63.3091(a) with §63.3092(a) - Existing source, combined Electrodeposition primer, primer-surfacer, topcoat, final repair, glass bonding primer and glass bonding adhesive, or combined primer-surfacer, topcoat, final repair, glass bonding primer, and glass bonding adhesive plus all coatings and thinners, except for deadener materials and for adhesive and sealer materials that are not components of glass bonding systems, used in coating operations added to the affected source  ",null,null,{"$f":"+IF(W14=\"\",\"\",MAX(S$1:S13)+1)","v":""},{"$f":"IF(Adhes_Sealer_Deadener!B36=\"\",\"\",Adhes_Sealer_Deadener!B36)","v":""},{"$f":"IF(Adhes_Sealer_Deadener!C36=\"\",\"\",Adhes_Sealer_Deadener!C36)","v":""},{"$f":"+Table10[[#This Row],[Column1]]&Table10[[#This Row],[Column2]]","v":""},{"$f":"IF(COUNTIF(V$2:V14,V14)=1,V14,\"\")","v":""},"","",null,{"$f":"+IF(AF14=\"\",\"\",MAX(AA$1:AA13)+1)","v":""},{"$f":"IF(CPMS2!B36=\"\",\"\",CPMS2!B36)","v":""},{"$f":"IF(CPMS2!C36=\"\",\"\",CPMS2!C36)","v":""},{"$f":"IF(CPMS2!D36=\"\",\"\",CPMS2!D36)","v":""},"",{"$f":"IF(COUNTIF(AE$2:AE14,AE14)=1,AE14,\"\")","v":""},"","","",null,{"$f":"+IF(AO14=\"\",\"\",MAX(AK$1:AK13)+1)","v":""},{"$f":"IF(Compliance_Options!B36=\"\",\"\",Compliance_Options!B36)","v":""},{"$f":"IF(Compliance_Options!C36=\"\",\"\",Compliance_Options!C36)","v":""},"",{"$f":"IF(COUNTIF(AN$2:AN14,AN14)=1,AN14,\"\")","v":""},"","","",null,{"$f":"+IF(AZ14=\"\",\"\",MAX(AT$1:AT13)+1)","v":""},{"$f":"IF(Compliance_Options!B36=\"\",\"\",Compliance_Options!B36)","v":""},{"$f":"IF(Compliance_Options!C36=\"\",\"\",Compliance_Options!C36)","v":""},"",{"$f":"IF(Compliance_Options!D36=\"\",\"\",Compliance_Options!D36)","v":""},"",{"$f":"IF(COUNTIF(AY$1:AY14,AY14)=1,AY14,\"\")","v":""},"","","","",null,{"$f":"+IF(BK14=\"\",\"\",MAX(BF$1:BF13)+1)","v":""},{"$f":"IF(CPMS1!B36=\"\",\"\",CPMS1!B36)","v":""},{"$f":"IF(CPMS1!C36=\"\",\"\",CPMS1!C36)","v":""},{"$f":"IF(CPMS1!E36=\"\",\"\",CPMS1!E36)","v":""},"",{"$f":"IF(COUNTIF(BJ$2:BJ14,BJ14)=1,BJ14,\"\")","v":""},"","","","",null,{"$f":"+IF(BV14=\"\",\"\",MAX(BQ$1:BQ13)+1)","v":""},{"$f":"IF(OpLimit!B36=\"\",\"\",OpLimit!B36)","v":""},{"$f":"IF(OpLimit!C36=\"\",\"\",OpLimit!C36)","v":""},{"$f":"IF(OpLimit!E36=\"\",\"\",OpLimit!E36)","v":""},"",{"$f":"IF(COUNTIF(BU$2:BU14,BU14)=1,BU14,\"\")","v":""},"","","",""]
[null,null,null,null,null,{"$f":"+IF(I15=\"\",\"\",MAX(F$1:F14)+1)","v":""},{"$f":"IF(Compliance_Options!C37=\"\",\"\",Compliance_Options!C37)","v":""},"",{"$f":"IF(COUNTIF(G$2:G15,G15)=1,G15,\"\")","v":""},null,{"$f":"+IF(N15=\"\",\"\",MAX(K$1:K14)+1)","v":""},{"$f":"IF(CPMS1!E37=\"\",\"\",CPMS1!E37)","v":""},"",{"$f":"IF(COUNTIF(L$2:L15,L15)=1,L15,\"\")","v":""},null,"§63.3091(a) with §63.3092(b) - Existing source, combined Electrodeposition primer, primer-surfacer, topcoat, final repair, glass bonding primer and glass bonding adhesive, or combined primer-surfacer, topcoat, final repair, glass bonding primer, and glass bonding adhesive plus all coatings and thinners, except for deadener materials and for adhesive and sealer materials that are not components of glass bonding systems, used in coating operations added to the affected source  ",null,null,{"$f":"+IF(W15=\"\",\"\",MAX(S$1:S14)+1)","v":""},{"$f":"IF(Adhes_Sealer_Deadener!B37=\"\",\"\",Adhes_Sealer_Deadener!B37)","v":""},{"$f":"IF(Adhes_Sealer_Deadener!C37=\"\",\"\",Adhes_Sealer_Deadener!C37)","v":""},{"$f":"+Table10[[#This Row],[Column1]]&Table10[[#This Row],[Column2]]","v":""},{"$f":"IF(COUNTIF(V$2:V15,V15)=1,V15,\"\")","v":""},"","",null,{"$f":"+IF(AF15=\"\",\"\",MAX(AA$1:AA14)+1)","v":""},{"$f":"IF(CPMS2!B37=\"\",\"\",CPMS2!B37)","v":""},{"$f":"IF(CPMS2!C37=\"\",\"\",CPMS2!C37)","v":""},{"$f":"IF(CPMS2!D37=\"\",\"\",CPMS2!D37)","v":""},"",{"$f":"IF(COUNTIF(AE$2:AE15,AE15)=1,AE15,\"\")","v":""},"","","",null,{"$f":"+IF(AO15=\"\",\"\",MAX(AK$1:AK14)+1)","v":""},{"$f":"IF(Compliance_Options!B37=\"\",\"\",Compliance_Options!B37)","v":""},{"$f":"IF(Compliance_Options!C37=\"\",\"\",Compliance_Options!C37)","v":""},"",{"$f":"IF(COUNTIF(AN$2:AN15,AN15)=1,AN15,\"\")","v":""},"","","",null,{"$f":"+IF(AZ15=\"\",\"\",MAX(AT$1:AT14)+1)","v":""},{"$f":"IF(Compliance_Options!B37=\"\",\"\",Compliance_Options!B37)","v":""},{"$f":"IF(Compliance_Options!C37=\"\",\"\",Compliance_Options!C37)","v":""},"",{"$f":"IF(Compliance_Options!D37=\"\",\"\",Compliance_Options!D37)","v":""},"",{"$f":"IF(COUNTIF(AY$1:AY15,AY15)=1,AY15,\"\")","v":""},"","","","",null,{"$f":"+IF(BK15=\"\",\"\",MAX(BF$1:BF14)+1)","v":""},{"$f":"IF(CPMS1!B37=\"\",\"\",CPMS1!B37)","v":""},{"$f":"IF(CPMS1!C37=\"\",\"\",CPMS1!C37)","v":""},{"$f":"IF(CPMS1!E37=\"\",\"\",CPMS1!E37)","v":""},"",{"$f":"IF(COUNTIF(BJ$2:BJ15,BJ15)=1,BJ15,\"\")","v":""},"","","","",null,{"$f":"+IF(BV15=\"\",\"\",MAX(BQ$1:BQ14)+1)","v":""},{"$f":"IF(OpLimit!B37=\"\",\"\",OpLimit!B37)","v":""},{"$f":"IF(OpLimit!C37=\"\",\"\",OpLimit!C37)","v":""},{"$f":"IF(OpLimit!E37=\"\",\"\",OpLimit!E37)","v":""},"",{"$f":"IF(COUNTIF(BU$2:BU15,BU15)=1,BU15,\"\")","v":""},"","","",""]
[null,null,null,null,null,{"$f":"+IF(I16=\"\",\"\",MAX(F$1:F15)+1)","v":""},{"$f":"IF(Compliance_Options!C38=\"\",\"\",Compliance_Options!C38)","v":""},"",{"$f":"IF(COUNTIF(G$2:G16,G16)=1,G16,\"\")","v":""},null,{"$f":"+IF(N16=\"\",\"\",MAX(K$1:K15)+1)","v":""},{"$f":"IF(CPMS1!E38=\"\",\"\",CPMS1!E38)","v":""},"",{"$f":"IF(COUNTIF(L$2:L16,L16)=1,L16,\"\")","v":""},null,"§63.3091(a) and (e) - Existing source, combined Electrodeposition primer, primer-surfacer, topcoat, final repair, glass bonding primer and glass bonding adhesive, or combined primer-surfacer, topcoat, final repair, glass bonding primer, and glass bonding adhesive plus all coatings and thinners, except for deadener materials and for adhesive and sealer materials that are not components of glass bonding systems, used in coating operations added to the affected source, including sources that would otherwise have been subject to subparts MMMM or PPPP",null,null,{"$f":"+IF(W16=\"\",\"\",MAX(S$1:S15)+1)","v":""},{"$f":"IF(Adhes_Sealer_Deadener!B38=\"\",\"\",Adhes_Sealer_Deadener!B38)","v":""},{"$f":"IF(Adhes_Sealer_Deadener!C38=\"\",\"\",Adhes_Sealer_Deadener!C38)","v":""},{"$f":"+Table10[[#This Row],[Column1]]&Table10[[#This Row],[Column2]]","v":""},{"$f":"IF(COUNTIF(V$2:V16,V16)=1,V16,\"\")","v":""},"","",null,{"$f":"+IF(AF16=\"\",\"\",MAX(AA$1:AA15)+1)","v":""},{"$f":"IF(CPMS2!B38=\"\",\"\",CPMS2!B38)","v":""},{"$f":"IF(CPMS2!C38=\"\",\"\",CPMS2!C38)","v":""},{"$f":"IF(CPMS2!D38=\"\",\"\",CPMS2!D38)","v":""},"",{"$f":"IF(COUNTIF(AE$2:AE16,AE16)=1,AE16,\"\")","v":""},"","","",null,{"$f":"+IF(AO16=\"\",\"\",MAX(AK$1:AK15)+1)","v":""},{"$f":"IF(Compliance_Options!B38=\"\",\"\",Compliance_Options!B38)","v":""},{"$f":"IF(Compliance_Options!C38=\"\",\"\",Compliance_Options!C38)","v":""},"",{"$f":"IF(COUNTIF(AN$2:AN16,AN16)=1,AN16,\"\")","v":""},"","","",null,{"$f":"+IF(AZ16=\"\",\"\",MAX(AT$1:AT15)+1)","v":""},{"$f":"IF(Compliance_Options!B38=\"\",\"\",Compliance_Options!B38)","v":""},{"$f":"IF(Compliance_Options!C38=\"\",\"\",Compliance_Options!C38)","v":""},"",{"$f":"IF(Compliance_Options!D38=\"\",\"\",Compliance_Options!D38)","v":""},"",{"$f":"IF(COUNTIF(AY$1:AY16,AY16)=1,AY16,\"\")","v":""},"","","","",null,{"$f":"+IF(BK16=\"\",\"\",MAX(BF$1:BF15)+1)","v":""},{"$f":"IF(CPMS1!B38=\"\",\"\",CPMS1!B38)","v":""},{"$f":"IF(CPMS1!C38=\"\",\"\",CPMS1!C38)","v":""},{"$f":"IF(CPMS1!E38=\"\",\"\",CPMS1!E38)","v":""},"",{"$f":"IF(COUNTIF(BJ$2:BJ16,BJ16)=1,BJ16,\"\")","v":""},"","","","",null,{"$f":"+IF(BV16=\"\",\"\",MAX(BQ$1:BQ15)+1)","v":""},{"$f":"IF(OpLimit!B38=\"\",\"\",OpLimit!B38)","v":""},{"$f":"IF(OpLimit!C38=\"\",\"\",OpLimit!C38)","v":""},{"$f":"IF(OpLimit!E38=\"\",\"\",OpLimit!E38)","v":""},"",{"$f":"IF(COUNTIF(BU$2:BU16,BU16)=1,BU16,\"\")","v":""},"","","",""]
[null,null,null,null,null,{"$f":"+IF(I17=\"\",\"\",MAX(F$1:F16)+1)","v":""},{"$f":"IF(Compliance_Options!C39=\"\",\"\",Compliance_Options!C39)","v":""},"",{"$f":"IF(COUNTIF(G$2:G17,G17)=1,G17,\"\")","v":""},null,{"$f":"+IF(N17=\"\",\"\",MAX(K$1:K16)+1)","v":""},{"$f":"IF(CPMS1!E39=\"\",\"\",CPMS1!E39)","v":""},"",{"$f":"IF(COUNTIF(L$2:L17,L17)=1,L17,\"\")","v":""},null,"§63.3091(a) and (e) with §63.3092(a) - Existing source, combined Electrodeposition primer, primer-surfacer, topcoat, final repair, glass bonding primer and glass bonding adhesive, or combined primer-surfacer, topcoat, final repair, glass bonding primer, and glass bonding adhesive plus all coatings and thinners, except for deadener materials and for adhesive and sealer materials that are not components of glass bonding systems, used in coating operations added to the affected source, including sources that would otherwise have been subject to subparts MMMM or PPPP",null,null,{"$f":"+IF(W17=\"\",\"\",MAX(S$1:S16)+1)","v":""},{"$f":"IF(Adhes_Sealer_Deadener!B39=\"\",\"\",Adhes_Sealer_Deadener!B39)","v":""},{"$f":"IF(Adhes_Sealer_Deadener!C39=\"\",\"\",Adhes_Sealer_Deadener!C39)","v":""},{"$f":"+Table10[[#This Row],[Column1]]&Table10[[#This Row],[Column2]]","v":""},{"$f":"IF(COUNTIF(V$2:V17,V17)=1,V17,\"\")","v":""},"","",null,{"$f":"+IF(AF17=\"\",\"\",MAX(AA$1:AA16)+1)","v":""},{"$f":"IF(CPMS2!B39=\"\",\"\",CPMS2!B39)","v":""},{"$f":"IF(CPMS2!C39=\"\",\"\",CPMS2!C39)","v":""},{"$f":"IF(CPMS2!D39=\"\",\"\",CPMS2!D39)","v":""},"",{"$f":"IF(COUNTIF(AE$2:AE17,AE17)=1,AE17,\"\")","v":""},"","","",null,{"$f":"+IF(AO17=\"\",\"\",MAX(AK$1:AK16)+1)","v":""},{"$f":"IF(Compliance_Options!B39=\"\",\"\",Compliance_Options!B39)","v":""},{"$f":"IF(Compliance_Options!C39=\"\",\"\",Compliance_Options!C39)","v":""},"",{"$f":"IF(COUNTIF(AN$2:AN17,AN17)=1,AN17,\"\")","v":""},"","","",null,{"$f":"+IF(AZ17=\"\",\"\",MAX(AT$1:AT16)+1)","v":""},{"$f":"IF(Compliance_Options!B39=\"\",\"\",Compliance_Options!B39)","v":""},{"$f":"IF(Compliance_Options!C39=\"\",\"\",Compliance_Options!C39)","v":""},"",{"$f":"IF(Compliance_Options!D39=\"\",\"\",Compliance_Options!D39)","v":""},"",{"$f":"IF(COUNTIF(AY$1:AY17,AY17)=1,AY17,\"\")","v":""},"","","","",null,{"$f":"+IF(BK17=\"\",\"\",MAX(BF$1:BF16)+1)","v":""},{"$f":"IF(CPMS1!B39=\"\",\"\",CPMS1!B39)","v":""},{"$f":"IF(CPMS1!C39=\"\",\"\",CPMS1!C39)","v":""},{"$f":"IF(CPMS1!E39=\"\",\"\",CPMS1!E39)","v":""},"",{"$f":"IF(COUNTIF(BJ$2:BJ17,BJ17)=1,BJ17,\"\")","v":""},"","","","",null,{"$f":"+IF(BV17=\"\",\"\",MAX(BQ$1:BQ16)+1)","v":""},{"$f":"IF(OpLimit!B39=\"\",\"\",OpLimit!B39)","v":""},{"$f":"IF(OpLimit!C39=\"\",\"\",OpLimit!C39)","v":""},{"$f":"IF(OpLimit!E39=\"\",\"\",OpLimit!E39)","v":""},"",{"$f":"IF(COUNTIF(BU$2:BU17,BU17)=1,BU17,\"\")","v":""},"","","",""]
[null,null,null,null,null,{"$f":"+IF(I18=\"\",\"\",MAX(F$1:F17)+1)","v":""},{"$f":"IF(Compliance_Options!C40=\"\",\"\",Compliance_Options!C40)","v":""},"",{"$f":"IF(COUNTIF(G$2:G18,G18)=1,G18,\"\")","v":""},null,{"$f":"+IF(N18=\"\",\"\",MAX(K$1:K17)+1)","v":""},{"$f":"IF(CPMS1!E40=\"\",\"\",CPMS1!E40)","v":""},"",{"$f":"IF(COUNTIF(L$2:L18,L18)=1,L18,\"\")","v":""},null,"§63.3091(a) and (e) with §63.3092(b) - Existing source, combined Electrodeposition primer, primer-surfacer, topcoat, final repair, glass bonding primer and glass bonding adhesive, or combined primer-surfacer, topcoat, final repair, glass bonding primer, and glass bonding adhesive plus all coatings and thinners, except for deadener materials and for adhesive and sealer materials that are not components of glass bonding systems, used in coating operations added to the affected source, including sources that would otherwise have been subject to subparts MMMM or PPPP",null,null,{"$f":"+IF(W18=\"\",\"\",MAX(S$1:S17)+1)","v":""},{"$f":"IF(Adhes_Sealer_Deadener!B40=\"\",\"\",Adhes_Sealer_Deadener!B40)","v":""},{"$f":"IF(Adhes_Sealer_Deadener!C40=\"\",\"\",Adhes_Sealer_Deadener!C40)","v":""},{"$f":"+Table10[[#This Row],[Column1]]&Table10[[#This Row],[Column2]]","v":""},{"$f":"IF(COUNTIF(V$2:V18,V18)=1,V18,\"\")","v":""},"","",null,{"$f":"+IF(AF18=\"\",\"\",MAX(AA$1:AA17)+1)","v":""},{"$f":"IF(CPMS2!B40=\"\",\"\",CPMS2!B40)","v":""},{"$f":"IF(CPMS2!C40=\"\",\"\",CPMS2!C40)","v":""},{"$f":"IF(CPMS2!D40=\"\",\"\",CPMS2!D40)","v":""},"",{"$f":"IF(COUNTIF(AE$2:AE18,AE18)=1,AE18,\"\")","v":""},"","","",null,{"$f":"+IF(AO18=\"\",\"\",MAX(AK$1:AK17)+1)","v":""},{"$f":"IF(Compliance_Options!B40=\"\",\"\",Compliance_Options!B40)","v":""},{"$f":"IF(Compliance_Options!C40=\"\",\"\",Compliance_Options!C40)","v":""},"",{"$f":"IF(COUNTIF(AN$2:AN18,AN18)=1,AN18,\"\")","v":""},"","","",null,{"$f":"+IF(AZ18=\"\",\"\",MAX(AT$1:AT17)+1)","v":""},{"$f":"IF(Compliance_Options!B40=\"\",\"\",Compliance_Options!B40)","v":""},{"$f":"IF(Compliance_Options!C40=\"\",\"\",Compliance_Options!C40)","v":""},"",{"$f":"IF(Compliance_Options!D40=\"\",\"\",Compliance_Options!D40)","v":""},"",{"$f":"IF(COUNTIF(AY$1:AY18,AY18)=1,AY18,\"\")","v":""},"","","","",null,{"$f":"+IF(BK18=\"\",\"\",MAX(BF$1:BF17)+1)","v":""},{"$f":"IF(CPMS1!B40=\"\",\"\",CPMS1!B40)","v":""},{"$f":"IF(CPMS1!C40=\"\",\"\",CPMS1!C40)","v":""},{"$f":"IF(CPMS1!E40=\"\",\"\",CPMS1!E40)","v":""},"",{"$f":"IF(COUNTIF(BJ$2:BJ18,BJ18)=1,BJ18,\"\")","v":""},"","","","",null,{"$f":"+IF(BV18=\"\",\"\",MAX(BQ$1:BQ17)+1)","v":""},{"$f":"IF(OpLimit!B40=\"\",\"\",OpLimit!B40)","v":""},{"$f":"IF(OpLimit!C40=\"\",\"\",OpLimit!C40)","v":""},{"$f":"IF(OpLimit!E40=\"\",\"\",OpLimit!E40)","v":""},"",{"$f":"IF(COUNTIF(BU$2:BU18,BU18)=1,BU18,\"\")","v":""},"","","",""]
[null,null,null,null,null,{"$f":"+IF(I19=\"\",\"\",MAX(F$1:F18)+1)","v":""},{"$f":"IF(Compliance_Options!C41=\"\",\"\",Compliance_Options!C41)","v":""},"",{"$f":"IF(COUNTIF(G$2:G19,G19)=1,G19,\"\")","v":""},null,{"$f":"+IF(N19=\"\",\"\",MAX(K$1:K18)+1)","v":""},{"$f":"IF(CPMS1!E41=\"\",\"\",CPMS1!E41)","v":""},"",{"$f":"IF(COUNTIF(L$2:L19,L19)=1,L19,\"\")","v":""},null,"§63.3091(b) with §63.3092(a) - Existing source, combined primer-surfacer, topcoat, final repair, glass bonding primer, and glass bonding adhesive operations plus all coatings and thinners, except for deadener materials and for adhesive and sealer materials that are not components of glass bonding systems, or if there is no electrodeposition primer system, combined primer-surfacer, topcoat, final repair, glass bonding primer, and glass bonding adhesive operations plus all coatings and thinners, except for deadener materials and for adhesive and sealer materials that are not components of glass bonding systems",null,null,{"$f":"+IF(W19=\"\",\"\",MAX(S$1:S18)+1)","v":""},{"$f":"IF(Adhes_Sealer_Deadener!B41=\"\",\"\",Adhes_Sealer_Deadener!B41)","v":""},{"$f":"IF(Adhes_Sealer_Deadener!C41=\"\",\"\",Adhes_Sealer_Deadener!C41)","v":""},{"$f":"+Table10[[#This Row],[Column1]]&Table10[[#This Row],[Column2]]","v":""},{"$f":"IF(COUNTIF(V$2:V19,V19)=1,V19,\"\")","v":""},"","",null,{"$f":"+IF(AF19=\"\",\"\",MAX(AA$1:AA18)+1)","v":""},{"$f":"IF(CPMS2!B41=\"\",\"\",CPMS2!B41)","v":""},{"$f":"IF(CPMS2!C41=\"\",\"\",CPMS2!C41)","v":""},{"$f":"IF(CPMS2!D41=\"\",\"\",CPMS2!D41)","v":""},"",{"$f":"IF(COUNTIF(AE$2:AE19,AE19)=1,AE19,\"\")","v":""},"","","",null,{"$f":"+IF(AO19=\"\",\"\",MAX(AK$1:AK18)+1)","v":""},{"$f":"IF(Compliance_Options!B41=\"\",\"\",Compliance_Options!B41)","v":""},{"$f":"IF(Compliance_Options!C41=\"\",\"\",Compliance_Options!C41)","v":""},"",{"$f":"IF(COUNTIF(AN$2:AN19,AN19)=1,AN19,\"\")","v":""},"","","",null,{"$f":"+IF(AZ19=\"\",\"\",MAX(AT$1:AT18)+1)","v":""},{"$f":"IF(Compliance_Options!B41=\"\",\"\",Compliance_Options!B41)","v":""},{"$f":"IF(Compliance_Options!C41=\"\",\"\",Compliance_Options!C41)","v":""},"",{"$f":"IF(Compliance_Options!D41=\"\",\"\",Compliance_Options!D41)","v":""},"",{"$f":"IF(COUNTIF(AY$1:AY19,AY19)=1,AY19,\"\")","v":""},"","","","",null,{"$f":"+IF(BK19=\"\",\"\",MAX(BF$1:BF18)+1)","v":""},{"$f":"IF(CPMS1!B41=\"\",\"\",CPMS1!B41)","v":""},{"$f":"IF(CPMS1!C41=\"\",\"\",CPMS1!C41)","v":""},{"$f":"IF(CPMS1!E41=\"\",\"\",CPMS1!E41)","v":""},"",{"$f":"IF(COUNTIF(BJ$2:BJ19,BJ19)=1,BJ19,\"\")","v":""},"","","","",null,{"$f":"+IF(BV19=\"\",\"\",MAX(BQ$1:BQ18)+1)","v":""},{"$f":"IF(OpLimit!B41=\"\",\"\",OpLimit!B41)","v":""},{"$f":"IF(OpLimit!C41=\"\",\"\",OpLimit!C41)","v":""},{"$f":"IF(OpLimit!E41=\"\",\"\",OpLimit!E41)","v":""},"",{"$f":"IF(COUNTIF(BU$2:BU19,BU19)=1,BU19,\"\")","v":""},"","","",""]
[null,null,null,null,null,{"$f":"+IF(I20=\"\",\"\",MAX(F$1:F19)+1)","v":""},{"$f":"IF(Compliance_Options!C42=\"\",\"\",Compliance_Options!C42)","v":""},"",{"$f":"IF(COUNTIF(G$2:G20,G20)=1,G20,\"\")","v":""},null,{"$f":"+IF(N20=\"\",\"\",MAX(K$1:K19)+1)","v":""},{"$f":"IF(CPMS1!E42=\"\",\"\",CPMS1!E42)","v":""},"",{"$f":"IF(COUNTIF(L$2:L20,L20)=1,L20,\"\")","v":""},null,"§63.3091(b) with §63.3092(b) - Existing source, combined primer-surfacer, topcoat, final repair, glass bonding primer, and glass bonding adhesive operations plus all coatings and thinners, except for deadener materials and for adhesive and sealer materials that are not components of glass bonding systems, or if there is no electrodeposition primer system, combined primer-surfacer, topcoat, final repair, glass bonding primer, and glass bonding adhesive operations plus all coatings and thinners, except for deadener materials and for adhesive and sealer materials that are not components of glass bonding systems",null,null,{"$f":"+IF(W20=\"\",\"\",MAX(S$1:S19)+1)","v":""},{"$f":"IF(Adhes_Sealer_Deadener!B42=\"\",\"\",Adhes_Sealer_Deadener!B42)","v":""},{"$f":"IF(Adhes_Sealer_Deadener!C42=\"\",\"\",Adhes_Sealer_Deadener!C42)","v":""},{"$f":"+Table10[[#This Row],[Column1]]&Table10[[#This Row],[Column2]]","v":""},{"$f":"IF(COUNTIF(V$2:V20,V20)=1,V20,\"\")","v":""},"","",null,{"$f":"+IF(AF20=\"\",\"\",MAX(AA$1:AA19)+1)","v":""},{"$f":"IF(CPMS2!B42=\"\",\"\",CPMS2!B42)","v":""},{"$f":"IF(CPMS2!C42=\"\",\"\",CPMS2!C42)","v":""},{"$f":"IF(CPMS2!D42=\"\",\"\",CPMS2!D42)","v":""},"",{"$f":"IF(COUNTIF(AE$2:AE20,AE20)=1,AE20,\"\")","v":""},"","","",null,{"$f":"+IF(AO20=\"\",\"\",MAX(AK$1:AK19)+1)","v":""},{"$f":"IF(Compliance_Options!B42=\"\",\"\",Compliance_Options!B42)","v":""},{"$f":"IF(Compliance_Options!C42=\"\",\"\",Compliance_Options!C42)","v":""},"",{"$f":"IF(COUNTIF(AN$2:AN20,AN20)=1,AN20,\"\")","v":""},"","","",null,{"$f":"+IF(AZ20=\"\",\"\",MAX(AT$1:AT19)+1)","v":""},{"$f":"IF(Compliance_Options!B42=\"\",\"\",Compliance_Options!B42)","v":""},{"$f":"IF(Compliance_Options!C42=\"\",\"\",Compliance_Options!C42)","v":""},"",{"$f":"IF(Compliance_Options!D42=\"\",\"\",Compliance_Options!D42)","v":""},"",{"$f":"IF(COUNTIF(AY$1:AY20,AY20)=1,AY20,\"\")","v":""},"","","","",null,{"$f":"+IF(BK20=\"\",\"\",MAX(BF$1:BF19)+1)","v":""},{"$f":"IF(CPMS1!B42=\"\",\"\",CPMS1!B42)","v":""},{"$f":"IF(CPMS1!C42=\"\",\"\",CPMS1!C42)","v":""},{"$f":"IF(CPMS1!E42=\"\",\"\",CPMS1!E42)","v":""},"",{"$f":"IF(COUNTIF(BJ$2:BJ20,BJ20)=1,BJ20,\"\")","v":""},"","","","",null,{"$f":"+IF(BV20=\"\",\"\",MAX(BQ$1:BQ19)+1)","v":""},{"$f":"IF(OpLimit!B42=\"\",\"\",OpLimit!B42)","v":""},{"$f":"IF(OpLimit!C42=\"\",\"\",OpLimit!C42)","v":""},{"$f":"IF(OpLimit!E42=\"\",\"\",OpLimit!E42)","v":""},"",{"$f":"IF(COUNTIF(BU$2:BU20,BU20)=1,BU20,\"\")","v":""},"","","",""]
[null,null,null,null,null,{"$f":"+IF(I21=\"\",\"\",MAX(F$1:F20)+1)","v":""},{"$f":"IF(Compliance_Options!C43=\"\",\"\",Compliance_Options!C43)","v":""},"",{"$f":"IF(COUNTIF(G$2:G21,G21)=1,G21,\"\")","v":""},null,{"$f":"+IF(N21=\"\",\"\",MAX(K$1:K20)+1)","v":""},{"$f":"IF(CPMS1!E43=\"\",\"\",CPMS1!E43)","v":""},"",{"$f":"IF(COUNTIF(L$2:L21,L21)=1,L21,\"\")","v":""},null,"§63.3091(b) and (e) with §63.3092(a) - Exisitng source, combined primer-surfacer, topcoat, final repair, glass bonding primer, and glass bonding adhesive operations plus all coatings and thinners, except for deadener materials and for adhesive and sealer materials that are not components of glass bonding systems, or if there is no electrodeposition primer system, combined primer-surfacer, topcoat, final repair, glass bonding primer, and glass bonding adhesive operations plus all coatings and thinners, except for deadener materials and for adhesive and sealer materials that are not components of glass bonding systems, including sources that would otherwise have been subject to subparts MMMM or PPPP",null,null,{"$f":"+IF(W21=\"\",\"\",MAX(S$1:S478)+1)","v":""},{"$f":"IF(Adhes_Sealer_Deadener!B43=\"\",\"\",Adhes_Sealer_Deadener!B43)","v":""},{"$f":"IF(Adhes_Sealer_Deadener!C43=\"\",\"\",Adhes_Sealer_Deadener!C43)","v":""},{"$f":"+Table10[[#This Row],[Column1]]&Table10[[#This Row],[Column2]]","v":""},{"$f":"IF(COUNTIF(V$2:V21,V21)=1,V21,\"\")","v":""},{"$f":"+IFERROR(INDEX($T$2:$T$478,MATCH(ROW()-ROW($X$1),$S$2:$S$478,0)),\"\")","v":""},{"$f":"+IFERROR(INDEX($U$2:$U$478,MATCH(ROW()-ROW($X$1),$S$2:$S$478,0)),\"\")","v":""},null,{"$f":"+IF(AF21=\"\",\"\",MAX(AA$1:AA20)+1)","v":""},{"$f":"IF(CPMS2!B43=\"\",\"\",CPMS2!B43)","v":""},{"$f":"IF(CPMS2!C43=\"\",\"\",CPMS2!C43)","v":""},{"$f":"IF(CPMS2!D43=\"\",\"\",CPMS2!D43)","v":""},"",{"$f":"IF(COUNTIF(AE$2:AE21,AE21)=1,AE21,\"\")","v":""},"","","",null,{"$f":"+IF(AO21=\"\",\"\",MAX(AK$1:AK20)+1)","v":""},{"$f":"IF(Compliance_Options!B43=\"\",\"\",Compliance_Options!B43)","v":""},{"$f":"IF(Compliance_Options!C43=\"\",\"\",Compliance_Options!C43)","v":""},"",{"$f":"IF(COUNTIF(AN$2:AN21,AN21)=1,AN21,\"\")","v":""},"","","",null,{"$f":"+IF(AZ21=\"\",\"\",MAX(AT$1:AT20)+1)","v":""},{"$f":"IF(Compliance_Options!B43=\"\",\"\",Compliance_Options!B43)","v":""},{"$f":"IF(Compliance_Options!C43=\"\",\"\",Compliance_Options!C43)","v":""},"",{"$f":"IF(Compliance_Options!D43=\"\",\"\",Compliance_Options!D43)","v":""},"",{"$f":"IF(COUNTIF(AY$1:AY21,AY21)=1,AY21,\"\")","v":""},"","","","",null,{"$f":"+IF(BK21=\"\",\"\",MAX(BF$1:BF20)+1)","v":""},{"$f":"IF(CPMS1!B43=\"\",\"\",CPMS1!B43)","v":""},{"$f":"IF(CPMS1!C43=\"\",\"\",CPMS1!C43)","v":""},{"$f":"IF(CPMS1!E43=\"\",\"\",CPMS1!E43)","v":""},"",{"$f":"IF(COUNTIF(BJ$2:BJ21,BJ21)=1,BJ21,\"\")","v":""},"","","","",null,{"$f":"+IF(BV21=\"\",\"\",MAX(BQ$1:BQ20)+1)","v":""},{"$f":"IF(OpLimit!B43=\"\",\"\",OpLimit!B43)","v":""},{"$f":"IF(OpLimit!C43=\"\",\"\",OpLimit!C43)","v":""},{"$f":"IF(OpLimit!E43=\"\",\"\",OpLimit!E43)","v":""},"",{"$f":"IF(COUNTIF(BU$2:BU21,BU21)=1,BU21,\"\")","v":""},"","","",""]
[null,null,null,null,null,{"$f":"+IF(I22=\"\",\"\",MAX(F$1:F21)+1)","v":""},{"$f":"IF(Compliance_Options!C44=\"\",\"\",Compliance_Options!C44)","v":""},"",{"$f":"IF(COUNTIF(G$2:G22,G22)=1,G22,\"\")","v":""},null,{"$f":"+IF(N22=\"\",\"\",MAX(K$1:K21)+1)","v":""},{"$f":"IF(CPMS1!E44=\"\",\"\",CPMS1!E44)","v":""},"",{"$f":"IF(COUNTIF(L$2:L22,L22)=1,L22,\"\")","v":""},null,"§63.3091(b) and (e) with §63.3092(b) - Existing source, combined primer-surfacer, topcoat, final repair, glass bonding primer, and glass bonding adhesive operations plus all coatings and thinners, except for deadener materials and for adhesive and sealer materials that are not components of glass bonding systems, or if there is no electrodeposition primer system, combined primer-surfacer, topcoat, final repair, glass bonding primer, and glass bonding adhesive operations plus all coatings and thinners, except for deadener materials and for adhesive and sealer materials that are not components of glass bonding systems, including sources that would otherwise have been subject to subparts MMMM or PPPP",null,null,{"$f":"+IF(W22=\"\",\"\",MAX(S$1:S21)+1)","v":""},{"$f":"IF(Adhes_Sealer_Deadener!B44=\"\",\"\",Adhes_Sealer_Deadener!B44)","v":""},{"$f":"IF(Adhes_Sealer_Deadener!C44=\"\",\"\",Adhes_Sealer_Deadener!C44)","v":""},{"$f":"+Table10[[#This Row],[Column1]]&Table10[[#This Row],[Column2]]","v":""},{"$f":"IF(COUNTIF(V$2:V22,V22)=1,V22,\"\")","v":""},"","",null,{"$f":"+IF(AF22=\"\",\"\",MAX(AA$1:AA21)+1)","v":""},{"$f":"IF(CPMS2!B44=\"\",\"\",CPMS2!B44)","v":""},{"$f":"IF(CPMS2!C44=\"\",\"\",CPMS2!C44)","v":""},{"$f":"IF(CPMS2!D44=\"\",\"\",CPMS2!D44)","v":""},"",{"$f":"IF(COUNTIF(AE$2:AE22,AE22)=1,AE22,\"\")","v":""},"","","",null,{"$f":"+IF(AO22=\"\",\"\",MAX(AK$1:AK21)+1)","v":""},{"$f":"IF(Compliance_Options!B44=\"\",\"\",Compliance_Options!B44)","v":""},{"$f":"IF(Compliance_Options!C44=\"\",\"\",Compliance_Options!C44)","v":""},"",{"$f":"IF(COUNTIF(AN$2:AN22,AN22)=1,AN22,\"\")","v":""},"","","",null,{"$f":"+IF(AZ22=\"\",\"\",MAX(AT$1:AT21)+1)","v":""},{"$f":"IF(Compliance_Options!B44=\"\",\"\",Compliance_Options!B44)","v":""},{"$f":"IF(Compliance_Options!C44=\"\",\"\",Compliance_Options!C44)","v":""},"",{"$f":"IF(Compliance_Options!D44=\"\",\"\",Compliance_Options!D44)","v":""},"",{"$f":"IF(COUNTIF(AY$1:AY22,AY22)=1,AY22,\"\")","v":""},"","","","",null,{"$f":"+IF(BK22=\"\",\"\",MAX(BF$1:BF21)+1)","v":""},{"$f":"IF(CPMS1!B44=\"\",\"\",CPMS1!B44)","v":""},{"$f":"IF(CPMS1!C44=\"\",\"\",CPMS1!C44)","v":""},{"$f":"IF(CPMS1!E44=\"\",\"\",CPMS1!E44)","v":""},"",{"$f":"IF(COUNTIF(BJ$2:BJ22,BJ22)=1,BJ22,\"\")","v":""},"","","","",null,{"$f":"+IF(BV22=\"\",\"\",MAX(BQ$1:BQ21)+1)","v":""},{"$f":"IF(OpLimit!B44=\"\",\"\",OpLimit!B44)","v":""},{"$f":"IF(OpLimit!C44=\"\",\"\",OpLimit!C44)","v":""},{"$f":"IF(OpLimit!E44=\"\",\"\",OpLimit!E44)","v":""},"",{"$f":"IF(COUNTIF(BU$2:BU22,BU22)=1,BU22,\"\")","v":""},"","","",""]
[null,null,null,null,null,{"$f":"+IF(I23=\"\",\"\",MAX(F$1:F22)+1)","v":""},{"$f":"IF(Compliance_Options!C45=\"\",\"\",Compliance_Options!C45)","v":""},"",{"$f":"IF(COUNTIF(G$2:G23,G23)=1,G23,\"\")","v":""},null,{"$f":"+IF(N23=\"\",\"\",MAX(K$1:K22)+1)","v":""},{"$f":"IF(CPMS1!E45=\"\",\"\",CPMS1!E45)","v":""},"",{"$f":"IF(COUNTIF(L$2:L23,L23)=1,L23,\"\")","v":""},null,"§63.3090(c) – New source, adhesive and sealer",null,null,{"$f":"+IF(W23=\"\",\"\",MAX(S$1:S22)+1)","v":""},{"$f":"IF(Adhes_Sealer_Deadener!B45=\"\",\"\",Adhes_Sealer_Deadener!B45)","v":""},{"$f":"IF(Adhes_Sealer_Deadener!C45=\"\",\"\",Adhes_Sealer_Deadener!C45)","v":""},{"$f":"+Table10[[#This Row],[Column1]]&Table10[[#This Row],[Column2]]","v":""},{"$f":"IF(COUNTIF(V$2:V23,V23)=1,V23,\"\")","v":""},"","",null,{"$f":"+IF(AF23=\"\",\"\",MAX(AA$1:AA22)+1)","v":""},{"$f":"IF(CPMS2!B45=\"\",\"\",CPMS2!B45)","v":""},{"$f":"IF(CPMS2!C45=\"\",\"\",CPMS2!C45)","v":""},{"$f":"IF(CPMS2!D45=\"\",\"\",CPMS2!D45)","v":""},"",{"$f":"IF(COUNTIF(AE$2:AE23,AE23)=1,AE23,\"\")","v":""},"","","",null,{"$f":"+IF(AO23=\"\",\"\",MAX(AK$1:AK22)+1)","v":""},{"$f":"IF(Compliance_Options!B45=\"\",\"\",Compliance_Options!B45)","v":""},{"$f":"IF(Compliance_Options!C45=\"\",\"\",Compliance_Options!C45)","v":""},"",{"$f":"IF(COUNTIF(AN$2:AN23,AN23)=1,AN23,\"\")","v":""},"","","",null,{"$f":"+IF(AZ23=\"\",\"\",MAX(AT$1:AT22)+1)","v":""},{"$f":"IF(Compliance_Options!B45=\"\",\"\",Compliance_Options!B45)","v":""},{"$f":"IF(Compliance_Options!C45=\"\",\"\",Compliance_Options!C45)","v":""},"",{"$f":"IF(Compliance_Options!D45=\"\",\"\",Compliance_Options!D45)","v":""},"",{"$f":"IF(COUNTIF(AY$1:AY23,AY23)=1,AY23,\"\")","v":""},"","","","",null,{"$f":"+IF(BK23=\"\",\"\",MAX(BF$1:BF22)+1)","v":""},{"$f":"IF(CPMS1!B45=\"\",\"\",CPMS1!B45)","v":""},{"$f":"IF(CPMS1!C45=\"\",\"\",CPMS1!C45)","v":""},{"$f":"IF(CPMS1!E45=\"\",\"\",CPMS1!E45)","v":""},"",{"$f":"IF(COUNTIF(BJ$2:BJ23,BJ23)=1,BJ23,\"\")","v":""},"","","","",null,{"$f":"+IF(BV23=\"\",\"\",MAX(BQ$1:BQ22)+1)","v":""},{"$f":"IF(OpLimit!B45=\"\",\"\",OpLimit!B45)","v":""},{"$f":"IF(OpLimit!C45=\"\",\"\",OpLimit!C45)","v":""},{"$f":"IF(OpLimit!E45=\"\",\"\",OpLimit!E45)","v":""},"",{"$f":"IF(COUNTIF(BU$2:BU23,BU23)=1,BU23,\"\")","v":""},"","","",""]
[null,null,null,null,null,{"$f":"+IF(I24=\"\",\"\",MAX(F$1:F23)+1)","v":""},{"$f":"IF(Compliance_Options!C46=\"\",\"\",Compliance_Options!C46)","v":""},"",{"$f":"IF(COUNTIF(G$2:G24,G24)=1,G24,\"\")","v":""},null,{"$f":"+IF(N24=\"\",\"\",MAX(K$1:K23)+1)","v":""},{"$f":"IF(CPMS1!E46=\"\",\"\",CPMS1!E46)","v":""},"",{"$f":"IF(COUNTIF(L$2:L24,L24)=1,L24,\"\")","v":""},null,"§63.3090(c) and (e) – New source, adhesive and sealer, including sources that would otherwise have been subject to subparts MMMM or PPPP",null,null,{"$f":"+IF(W24=\"\",\"\",MAX(S$1:S23)+1)","v":""},{"$f":"IF(Adhes_Sealer_Deadener!B46=\"\",\"\",Adhes_Sealer_Deadener!B46)","v":""},{"$f":"IF(Adhes_Sealer_Deadener!C46=\"\",\"\",Adhes_Sealer_Deadener!C46)","v":""},{"$f":"+Table10[[#This Row],[Column1]]&Table10[[#This Row],[Column2]]","v":""},{"$f":"IF(COUNTIF(V$2:V24,V24)=1,V24,\"\")","v":""},"","",null,{"$f":"+IF(AF24=\"\",\"\",MAX(AA$1:AA23)+1)","v":""},{"$f":"IF(CPMS2!B46=\"\",\"\",CPMS2!B46)","v":""},{"$f":"IF(CPMS2!C46=\"\",\"\",CPMS2!C46)","v":""},{"$f":"IF(CPMS2!D46=\"\",\"\",CPMS2!D46)","v":""},"",{"$f":"IF(COUNTIF(AE$2:AE24,AE24)=1,AE24,\"\")","v":""},"","","",null,{"$f":"+IF(AO24=\"\",\"\",MAX(AK$1:AK23)+1)","v":""},{"$f":"IF(Compliance_Options!B46=\"\",\"\",Compliance_Options!B46)","v":""},{"$f":"IF(Compliance_Options!C46=\"\",\"\",Compliance_Options!C46)","v":""},"",{"$f":"IF(COUNTIF(AN$2:AN24,AN24)=1,AN24,\"\")","v":""},"","","",null,{"$f":"+IF(AZ24=\"\",\"\",MAX(AT$1:AT23)+1)","v":""},{"$f":"IF(Compliance_Options!B46=\"\",\"\",Compliance_Options!B46)","v":""},{"$f":"IF(Compliance_Options!C46=\"\",\"\",Compliance_Options!C46)","v":""},"",{"$f":"IF(Compliance_Options!D46=\"\",\"\",Compliance_Options!D46)","v":""},"",{"$f":"IF(COUNTIF(AY$1:AY24,AY24)=1,AY24,\"\")","v":""},"","","","",null,{"$f":"+IF(BK24=\"\",\"\",MAX(BF$1:BF23)+1)","v":""},{"$f":"IF(CPMS1!B46=\"\",\"\",CPMS1!B46)","v":""},{"$f":"IF(CPMS1!C46=\"\",\"\",CPMS1!C46)","v":""},{"$f":"IF(CPMS1!E46=\"\",\"\",CPMS1!E46)","v":""},"",{"$f":"IF(COUNTIF(BJ$2:BJ24,BJ24)=1,BJ24,\"\")","v":""},"","","","",null,{"$f":"+IF(BV24=\"\",\"\",MAX(BQ$1:BQ23)+1)","v":""},{"$f":"IF(OpLimit!B46=\"\",\"\",OpLimit!B46)","v":""},{"$f":"IF(OpLimit!C46=\"\",\"\",OpLimit!C46)","v":""},{"$f":"IF(OpLimit!E46=\"\",\"\",OpLimit!E46)","v":""},"",{"$f":"IF(COUNTIF(BU$2:BU24,BU24)=1,BU24,\"\")","v":""},"","","",""]
[null,null,null,null,null,{"$f":"+IF(I25=\"\",\"\",MAX(F$1:F24)+1)","v":""},{"$f":"IF(Compliance_Options!C47=\"\",\"\",Compliance_Options!C47)","v":""},"",{"$f":"IF(COUNTIF(G$2:G25,G25)=1,G25,\"\")","v":""},null,{"$f":"+IF(N25=\"\",\"\",MAX(K$1:K24)+1)","v":""},{"$f":"IF(CPMS1!E47=\"\",\"\",CPMS1!E47)","v":""},"",{"$f":"IF(COUNTIF(L$2:L25,L25)=1,L25,\"\")","v":""},null,"§63.3090(d) - New source, deadener",null,null,{"$f":"+IF(W25=\"\",\"\",MAX(S$1:S24)+1)","v":""},{"$f":"IF(Adhes_Sealer_Deadener!B47=\"\",\"\",Adhes_Sealer_Deadener!B47)","v":""},{"$f":"IF(Adhes_Sealer_Deadener!C47=\"\",\"\",Adhes_Sealer_Deadener!C47)","v":""},{"$f":"+Table10[[#This Row],[Column1]]&Table10[[#This Row],[Column2]]","v":""},{"$f":"IF(COUNTIF(V$2:V25,V25)=1,V25,\"\")","v":""},"","",null,{"$f":"+IF(AF25=\"\",\"\",MAX(AA$1:AA24)+1)","v":""},{"$f":"IF(CPMS2!B47=\"\",\"\",CPMS2!B47)","v":""},{"$f":"IF(CPMS2!C47=\"\",\"\",CPMS2!C47)","v":""},{"$f":"IF(CPMS2!D47=\"\",\"\",CPMS2!D47)","v":""},"",{"$f":"IF(COUNTIF(AE$2:AE25,AE25)=1,AE25,\"\")","v":""},"","","",null,{"$f":"+IF(AO25=\"\",\"\",MAX(AK$1:AK24)+1)","v":""},{"$f":"IF(Compliance_Options!B47=\"\",\"\",Compliance_Options!B47)","v":""},{"$f":"IF(Compliance_Options!C47=\"\",\"\",Compliance_Options!C47)","v":""},"",{"$f":"IF(COUNTIF(AN$2:AN25,AN25)=1,AN25,\"\")","v":""},"","","",null,{"$f":"+IF(AZ25=\"\",\"\",MAX(AT$1:AT24)+1)","v":""},{"$f":"IF(Compliance_Options!B47=\"\",\"\",Compliance_Options!B47)","v":""},{"$f":"IF(Compliance_Options!C47=\"\",\"\",Compliance_Options!C47)","v":""},"",{"$f":"IF(Compliance_Options!D47=\"\",\"\",Compliance_Options!D47)","v":""},"",{"$f":"IF(COUNTIF(AY$1:AY25,AY25)=1,AY25,\"\")","v":""},"","","","",null,{"$f":"+IF(BK25=\"\",\"\",MAX(BF$1:BF24)+1)","v":""},{"$f":"IF(CPMS1!B47=\"\",\"\",CPMS1!B47)","v":""},{"$f":"IF(CPMS1!C47=\"\",\"\",CPMS1!C47)","v":""},{"$f":"IF(CPMS1!E47=\"\",\"\",CPMS1!E47)","v":""},"",{"$f":"IF(COUNTIF(BJ$2:BJ25,BJ25)=1,BJ25,\"\")","v":""},"","","","",null,{"$f":"+IF(BV25=\"\",\"\",MAX(BQ$1:BQ24)+1)","v":""},{"$f":"IF(OpLimit!B47=\"\",\"\",OpLimit!B47)","v":""},{"$f":"IF(OpLimit!C47=\"\",\"\",OpLimit!C47)","v":""},{"$f":"IF(OpLimit!E47=\"\",\"\",OpLimit!E47)","v":""},"",{"$f":"IF(COUNTIF(BU$2:BU25,BU25)=1,BU25,\"\")","v":""},"","","",""]
[null,null,null,null,null,{"$f":"+IF(I26=\"\",\"\",MAX(F$1:F25)+1)","v":""},{"$f":"IF(Compliance_Options!C48=\"\",\"\",Compliance_Options!C48)","v":""},"",{"$f":"IF(COUNTIF(G$2:G26,G26)=1,G26,\"\")","v":""},null,{"$f":"+IF(N26=\"\",\"\",MAX(K$1:K25)+1)","v":""},{"$f":"IF(CPMS1!E48=\"\",\"\",CPMS1!E48)","v":""},"",{"$f":"IF(COUNTIF(L$2:L26,L26)=1,L26,\"\")","v":""},null,"§63.3090(d) and (e) - New source, deadener, including sources that would otherwise have been subject to subparts MMMM or PPPP",null,null,{"$f":"+IF(W26=\"\",\"\",MAX(S$1:S25)+1)","v":""},{"$f":"IF(Adhes_Sealer_Deadener!B48=\"\",\"\",Adhes_Sealer_Deadener!B48)","v":""},{"$f":"IF(Adhes_Sealer_Deadener!C48=\"\",\"\",Adhes_Sealer_Deadener!C48)","v":""},{"$f":"+Table10[[#This Row],[Column1]]&Table10[[#This Row],[Column2]]","v":""},{"$f":"IF(COUNTIF(V$2:V26,V26)=1,V26,\"\")","v":""},"","",null,{"$f":"+IF(AF26=\"\",\"\",MAX(AA$1:AA25)+1)","v":""},{"$f":"IF(CPMS2!B48=\"\",\"\",CPMS2!B48)","v":""},{"$f":"IF(CPMS2!C48=\"\",\"\",CPMS2!C48)","v":""},{"$f":"IF(CPMS2!D48=\"\",\"\",CPMS2!D48)","v":""},"",{"$f":"IF(COUNTIF(AE$2:AE26,AE26)=1,AE26,\"\")","v":""},"","","",null,{"$f":"+IF(AO26=\"\",\"\",MAX(AK$1:AK25)+1)","v":""},{"$f":"IF(Compliance_Options!B48=\"\",\"\",Compliance_Options!B48)","v":""},{"$f":"IF(Compliance_Options!C48=\"\",\"\",Compliance_Options!C48)","v":""},"",{"$f":"IF(COUNTIF(AN$2:AN26,AN26)=1,AN26,\"\")","v":""},"","","",null,{"$f":"+IF(AZ26=\"\",\"\",MAX(AT$1:AT25)+1)","v":""},{"$f":"IF(Compliance_Options!B48=\"\",\"\",Compliance_Options!B48)","v":""},{"$f":"IF(Compliance_Options!C48=\"\",\"\",Compliance_Options!C48)","v":""},"",{"$f":"IF(Compliance_Options!D48=\"\",\"\",Compliance_Options!D48)","v":""},"",{"$f":"IF(COUNTIF(AY$1:AY26,AY26)=1,AY26,\"\")","v":""},"","","","",null,{"$f":"+IF(BK26=\"\",\"\",MAX(BF$1:BF25)+1)","v":""},{"$f":"IF(CPMS1!B48=\"\",\"\",CPMS1!B48)","v":""},{"$f":"IF(CPMS1!C48=\"\",\"\",CPMS1!C48)","v":""},{"$f":"IF(CPMS1!E48=\"\",\"\",CPMS1!E48)","v":""},"",{"$f":"IF(COUNTIF(BJ$2:BJ26,BJ26)=1,BJ26,\"\")","v":""},"","","","",null,{"$f":"+IF(BV26=\"\",\"\",MAX(BQ$1:BQ25)+1)","v":""},{"$f":"IF(OpLimit!B48=\"\",\"\",OpLimit!B48)","v":""},{"$f":"IF(OpLimit!C48=\"\",\"\",OpLimit!C48)","v":""},{"$f":"IF(OpLimit!E48=\"\",\"\",OpLimit!E48)","v":""},"",{"$f":"IF(COUNTIF(BU$2:BU26,BU26)=1,BU26,\"\")","v":""},"","","",""]
[null,null,null,null,null,{"$f":"+IF(I27=\"\",\"\",MAX(F$1:F26)+1)","v":""},{"$f":"IF(Compliance_Options!C49=\"\",\"\",Compliance_Options!C49)","v":""},"",{"$f":"IF(COUNTIF(G$2:G27,G27)=1,G27,\"\")","v":""},null,{"$f":"+IF(N27=\"\",\"\",MAX(K$1:K26)+1)","v":""},{"$f":"IF(CPMS1!E49=\"\",\"\",CPMS1!E49)","v":""},"",{"$f":"IF(COUNTIF(L$2:L27,L27)=1,L27,\"\")","v":""},null,"§63.3091(c) – Existing source, adhesive and sealer",null,null,{"$f":"+IF(W27=\"\",\"\",MAX(S$1:S26)+1)","v":""},{"$f":"IF(Adhes_Sealer_Deadener!B49=\"\",\"\",Adhes_Sealer_Deadener!B49)","v":""},{"$f":"IF(Adhes_Sealer_Deadener!C49=\"\",\"\",Adhes_Sealer_Deadener!C49)","v":""},{"$f":"+Table10[[#This Row],[Column1]]&Table10[[#This Row],[Column2]]","v":""},{"$f":"IF(COUNTIF(V$2:V27,V27)=1,V27,\"\")","v":""},"","",null,{"$f":"+IF(AF27=\"\",\"\",MAX(AA$1:AA26)+1)","v":""},{"$f":"IF(CPMS2!B49=\"\",\"\",CPMS2!B49)","v":""},{"$f":"IF(CPMS2!C49=\"\",\"\",CPMS2!C49)","v":""},{"$f":"IF(CPMS2!D49=\"\",\"\",CPMS2!D49)","v":""},"",{"$f":"IF(COUNTIF(AE$2:AE27,AE27)=1,AE27,\"\")","v":""},"","","",null,{"$f":"+IF(AO27=\"\",\"\",MAX(AK$1:AK26)+1)","v":""},{"$f":"IF(Compliance_Options!B49=\"\",\"\",Compliance_Options!B49)","v":""},{"$f":"IF(Compliance_Options!C49=\"\",\"\",Compliance_Options!C49)","v":""},"",{"$f":"IF(COUNTIF(AN$2:AN27,AN27)=1,AN27,\"\")","v":""},"","","",null,{"$f":"+IF(AZ27=\"\",\"\",MAX(AT$1:AT26)+1)","v":""},{"$f":"IF(Compliance_Options!B49=\"\",\"\",Compliance_Options!B49)","v":""},{"$f":"IF(Compliance_Options!C49=\"\",\"\",Compliance_Options!C49)","v":""},"",{"$f":"IF(Compliance_Options!D49=\"\",\"\",Compliance_Options!D49)","v":""},"",{"$f":"IF(COUNTIF(AY$1:AY27,AY27)=1,AY27,\"\")","v":""},"","","","",null,{"$f":"+IF(BK27=\"\",\"\",MAX(BF$1:BF26)+1)","v":""},{"$f":"IF(CPMS1!B49=\"\",\"\",CPMS1!B49)","v":""},{"$f":"IF(CPMS1!C49=\"\",\"\",CPMS1!C49)","v":""},{"$f":"IF(CPMS1!E49=\"\",\"\",CPMS1!E49)","v":""},"",{"$f":"IF(COUNTIF(BJ$2:BJ27,BJ27)=1,BJ27,\"\")","v":""},"","","","",null,{"$f":"+IF(BV27=\"\",\"\",MAX(BQ$1:BQ26)+1)","v":""},{"$f":"IF(OpLimit!B49=\"\",\"\",OpLimit!B49)","v":""},{"$f":"IF(OpLimit!C49=\"\",\"\",OpLimit!C49)","v":""},{"$f":"IF(OpLimit!E49=\"\",\"\",OpLimit!E49)","v":""},"",{"$f":"IF(COUNTIF(BU$2:BU27,BU27)=1,BU27,\"\")","v":""},"","","",""]
[null,null,null,null,null,{"$f":"+IF(I28=\"\",\"\",MAX(F$1:F27)+1)","v":""},{"$f":"IF(Compliance_Options!C50=\"\",\"\",Compliance_Options!C50)","v":""},"",{"$f":"IF(COUNTIF(G$2:G28,G28)=1,G28,\"\")","v":""},null,{"$f":"+IF(N28=\"\",\"\",MAX(K$1:K27)+1)","v":""},{"$f":"IF(CPMS1!E50=\"\",\"\",CPMS1!E50)","v":""},"",{"$f":"IF(COUNTIF(L$2:L28,L28)=1,L28,\"\")","v":""},null,"§63.3091(c) and (e) – Existing source, adhesive and sealer, including sources that would otherwise have been subject to subparts MMMM or PPPP",null,null,{"$f":"+IF(W28=\"\",\"\",MAX(S$1:S27)+1)","v":""},{"$f":"IF(Adhes_Sealer_Deadener!B50=\"\",\"\",Adhes_Sealer_Deadener!B50)","v":""},{"$f":"IF(Adhes_Sealer_Deadener!C50=\"\",\"\",Adhes_Sealer_Deadener!C50)","v":""},{"$f":"+Table10[[#This Row],[Column1]]&Table10[[#This Row],[Column2]]","v":""},{"$f":"IF(COUNTIF(V$2:V28,V28)=1,V28,\"\")","v":""},"","",null,{"$f":"+IF(AF28=\"\",\"\",MAX(AA$1:AA27)+1)","v":""},{"$f":"IF(CPMS2!B50=\"\",\"\",CPMS2!B50)","v":""},{"$f":"IF(CPMS2!C50=\"\",\"\",CPMS2!C50)","v":""},{"$f":"IF(CPMS2!D50=\"\",\"\",CPMS2!D50)","v":""},"",{"$f":"IF(COUNTIF(AE$2:AE28,AE28)=1,AE28,\"\")","v":""},"","","",null,{"$f":"+IF(AO28=\"\",\"\",MAX(AK$1:AK27)+1)","v":""},{"$f":"IF(Compliance_Options!B50=\"\",\"\",Compliance_Options!B50)","v":""},{"$f":"IF(Compliance_Options!C50=\"\",\"\",Compliance_Options!C50)","v":""},"",{"$f":"IF(COUNTIF(AN$2:AN28,AN28)=1,AN28,\"\")","v":""},"","","",null,{"$f":"+IF(AZ28=\"\",\"\",MAX(AT$1:AT27)+1)","v":""},{"$f":"IF(Compliance_Options!B50=\"\",\"\",Compliance_Options!B50)","v":""},{"$f":"IF(Compliance_Options!C50=\"\",\"\",Compliance_Options!C50)","v":""},"",{"$f":"IF(Compliance_Options!D50=\"\",\"\",Compliance_Options!D50)","v":""},"",{"$f":"IF(COUNTIF(AY$1:AY28,AY28)=1,AY28,\"\")","v":""},"","","","",null,{"$f":"+IF(BK28=\"\",\"\",MAX(BF$1:BF27)+1)","v":""},{"$f":"IF(CPMS1!B50=\"\",\"\",CPMS1!B50)","v":""},{"$f":"IF(CPMS1!C50=\"\",\"\",CPMS1!C50)","v":""},{"$f":"IF(CPMS1!E50=\"\",\"\",CPMS1!E50)","v":""},"",{"$f":"IF(COUNTIF(BJ$2:BJ28,BJ28)=1,BJ28,\"\")","v":""},"","","","",null,{"$f":"+IF(BV28=\"\",\"\",MAX(BQ$1:BQ27)+1)","v":""},{"$f":"IF(OpLimit!B50=\"\",\"\",OpLimit!B50)","v":""},{"$f":"IF(OpLimit!C50=\"\",\"\",OpLimit!C50)","v":""},{"$f":"IF(OpLimit!E50=\"\",\"\",OpLimit!E50)","v":""},"",{"$f":"IF(COUNTIF(BU$2:BU28,BU28)=1,BU28,\"\")","v":""},"","","",""]
[null,null,null,null,null,{"$f":"+IF(I29=\"\",\"\",MAX(F$1:F28)+1)","v":""},{"$f":"IF(Compliance_Options!C51=\"\",\"\",Compliance_Options!C51)","v":""},"",{"$f":"IF(COUNTIF(G$2:G29,G29)=1,G29,\"\")","v":""},null,{"$f":"+IF(N29=\"\",\"\",MAX(K$1:K28)+1)","v":""},{"$f":"IF(CPMS1!E51=\"\",\"\",CPMS1!E51)","v":""},"",{"$f":"IF(COUNTIF(L$2:L29,L29)=1,L29,\"\")","v":""},null,"§63.3091(d) - Existing source, deadener",null,null,{"$f":"+IF(W29=\"\",\"\",MAX(S$1:S28)+1)","v":""},{"$f":"IF(Adhes_Sealer_Deadener!B51=\"\",\"\",Adhes_Sealer_Deadener!B51)","v":""},{"$f":"IF(Adhes_Sealer_Deadener!C51=\"\",\"\",Adhes_Sealer_Deadener!C51)","v":""},{"$f":"+Table10[[#This Row],[Column1]]&Table10[[#This Row],[Column2]]","v":""},{"$f":"IF(COUNTIF(V$2:V29,V29)=1,V29,\"\")","v":""},"","",null,{"$f":"+IF(AF29=\"\",\"\",MAX(AA$1:AA28)+1)","v":""},{"$f":"IF(CPMS2!B51=\"\",\"\",CPMS2!B51)","v":""},{"$f":"IF(CPMS2!C51=\"\",\"\",CPMS2!C51)","v":""},{"$f":"IF(CPMS2!D51=\"\",\"\",CPMS2!D51)","v":""},"",{"$f":"IF(COUNTIF(AE$2:AE29,AE29)=1,AE29,\"\")","v":""},"","","",null,{"$f":"+IF(AO29=\"\",\"\",MAX(AK$1:AK28)+1)","v":""},{"$f":"IF(Compliance_Options!B51=\"\",\"\",Compliance_Options!B51)","v":""},{"$f":"IF(Compliance_Options!C51=\"\",\"\",Compliance_Options!C51)","v":""},"",{"$f":"IF(COUNTIF(AN$2:AN29,AN29)=1,AN29,\"\")","v":""},"","","",null,{"$f":"+IF(AZ29=\"\",\"\",MAX(AT$1:AT28)+1)","v":""},{"$f":"IF(Compliance_Options!B51=\"\",\"\",Compliance_Options!B51)","v":""},{"$f":"IF(Compliance_Options!C51=\"\",\"\",Compliance_Options!C51)","v":""},"",{"$f":"IF(Compliance_Options!D51=\"\",\"\",Compliance_Options!D51)","v":""},"",{"$f":"IF(COUNTIF(AY$1:AY29,AY29)=1,AY29,\"\")","v":""},"","","","",null,{"$f":"+IF(BK29=\"\",\"\",MAX(BF$1:BF28)+1)","v":""},{"$f":"IF(CPMS1!B51=\"\",\"\",CPMS1!B51)","v":""},{"$f":"IF(CPMS1!C51=\"\",\"\",CPMS1!C51)","v":""},{"$f":"IF(CPMS1!E51=\"\",\"\",CPMS1!E51)","v":""},"",{"$f":"IF(COUNTIF(BJ$2:BJ29,BJ29)=1,BJ29,\"\")","v":""},"","","","",null,{"$f":"+IF(BV29=\"\",\"\",MAX(BQ$1:BQ28)+1)","v":""},{"$f":"IF(OpLimit!B51=\"\",\"\",OpLimit!B51)","v":""},{"$f":"IF(OpLimit!C51=\"\",\"\",OpLimit!C51)","v":""},{"$f":"IF(OpLimit!E51=\"\",\"\",OpLimit!E51)","v":""},"",{"$f":"IF(COUNTIF(BU$2:BU29,BU29)=1,BU29,\"\")","v":""},"","","",""]
[null,null,null,null,null,{"$f":"+IF(I30=\"\",\"\",MAX(F$1:F29)+1)","v":""},{"$f":"IF(Compliance_Options!C52=\"\",\"\",Compliance_Options!C52)","v":""},"",{"$f":"IF(COUNTIF(G$2:G30,G30)=1,G30,\"\")","v":""},null,{"$f":"+IF(N30=\"\",\"\",MAX(K$1:K29)+1)","v":""},{"$f":"IF(CPMS1!E52=\"\",\"\",CPMS1!E52)","v":""},"",{"$f":"IF(COUNTIF(L$2:L30,L30)=1,L30,\"\")","v":""},null,"§63.3091(d) and (e) - Existing source, deadener, including sources that would otherwise have been subject to subparts MMMM or PPPP",null,null,{"$f":"+IF(W30=\"\",\"\",MAX(S$1:S29)+1)","v":""},{"$f":"IF(Adhes_Sealer_Deadener!B52=\"\",\"\",Adhes_Sealer_Deadener!B52)","v":""},{"$f":"IF(Adhes_Sealer_Deadener!C52=\"\",\"\",Adhes_Sealer_Deadener!C52)","v":""},{"$f":"+Table10[[#This Row],[Column1]]&Table10[[#This Row],[Column2]]","v":""},{"$f":"IF(COUNTIF(V$2:V30,V30)=1,V30,\"\")","v":""},"","",null,{"$f":"+IF(AF30=\"\",\"\",MAX(AA$1:AA29)+1)","v":""},{"$f":"IF(CPMS2!B52=\"\",\"\",CPMS2!B52)","v":""},{"$f":"IF(CPMS2!C52=\"\",\"\",CPMS2!C52)","v":""},{"$f":"IF(CPMS2!D52=\"\",\"\",CPMS2!D52)","v":""},"",{"$f":"IF(COUNTIF(AE$2:AE30,AE30)=1,AE30,\"\")","v":""},"","","",null,{"$f":"+IF(AO30=\"\",\"\",MAX(AK$1:AK29)+1)","v":""},{"$f":"IF(Compliance_Options!B52=\"\",\"\",Compliance_Options!B52)","v":""},{"$f":"IF(Compliance_Options!C52=\"\",\"\",Compliance_Options!C52)","v":""},"",{"$f":"IF(COUNTIF(AN$2:AN30,AN30)=1,AN30,\"\")","v":""},"","","",null,{"$f":"+IF(AZ30=\"\",\"\",MAX(AT$1:AT29)+1)","v":""},{"$f":"IF(Compliance_Options!B52=\"\",\"\",Compliance_Options!B52)","v":""},{"$f":"IF(Compliance_Options!C52=\"\",\"\",Compliance_Options!C52)","v":""},"",{"$f":"IF(Compliance_Options!D52=\"\",\"\",Compliance_Options!D52)","v":""},"",{"$f":"IF(COUNTIF(AY$1:AY30,AY30)=1,AY30,\"\")","v":""},"","","","",null,{"$f":"+IF(BK30=\"\",\"\",MAX(BF$1:BF29)+1)","v":""},{"$f":"IF(CPMS1!B52=\"\",\"\",CPMS1!B52)","v":""},{"$f":"IF(CPMS1!C52=\"\",\"\",CPMS1!C52)","v":""},{"$f":"IF(CPMS1!E52=\"\",\"\",CPMS1!E52)","v":""},"",{"$f":"IF(COUNTIF(BJ$2:BJ30,BJ30)=1,BJ30,\"\")","v":""},"","","","",null,{"$f":"+IF(BV30=\"\",\"\",MAX(BQ$1:BQ29)+1)","v":""},{"$f":"IF(OpLimit!B52=\"\",\"\",OpLimit!B52)","v":""},{"$f":"IF(OpLimit!C52=\"\",\"\",OpLimit!C52)","v":""},{"$f":"IF(OpLimit!E52=\"\",\"\",OpLimit!E52)","v":""},"",{"$f":"IF(COUNTIF(BU$2:BU30,BU30)=1,BU30,\"\")","v":""},"","","",""]
[null,null,null,null,null,{"$f":"+IF(I31=\"\",\"\",MAX(F$1:F30)+1)","v":""},{"$f":"IF(Compliance_Options!C53=\"\",\"\",Compliance_Options!C53)","v":""},"",{"$f":"IF(COUNTIF(G$2:G31,G31)=1,G31,\"\")","v":""},null,{"$f":"+IF(N31=\"\",\"\",MAX(K$1:K30)+1)","v":""},{"$f":"IF(CPMS1!E53=\"\",\"\",CPMS1!E53)","v":""},"",{"$f":"IF(COUNTIF(L$2:L31,L31)=1,L31,\"\")","v":""},null,"No §63.3090 or §63.3091 Compliance Option is Applicable to this Operation",null,null,{"$f":"+IF(W31=\"\",\"\",MAX(S$1:S30)+1)","v":""},{"$f":"IF(Adhes_Sealer_Deadener!B53=\"\",\"\",Adhes_Sealer_Deadener!B53)","v":""},{"$f":"IF(Adhes_Sealer_Deadener!C53=\"\",\"\",Adhes_Sealer_Deadener!C53)","v":""},{"$f":"+Table10[[#This Row],[Column1]]&Table10[[#This Row],[Column2]]","v":""},{"$f":"IF(COUNTIF(V$2:V31,V31)=1,V31,\"\")","v":""},"","",null,{"$f":"+IF(AF31=\"\",\"\",MAX(AA$1:AA30)+1)","v":""},{"$f":"IF(CPMS2!B53=\"\",\"\",CPMS2!B53)","v":""},{"$f":"IF(CPMS2!C53=\"\",\"\",CPMS2!C53)","v":""},{"$f":"IF(CPMS2!D53=\"\",\"\",CPMS2!D53)","v":""},"",{"$f":"IF(COUNTIF(AE$2:AE31,AE31)=1,AE31,\"\")","v":""},"","","",null,{"$f":"+IF(AO31=\"\",\"\",MAX(AK$1:AK30)+1)","v":""},{"$f":"IF(Compliance_Options!B53=\"\",\"\",Compliance_Options!B53)","v":""},{"$f":"IF(Compliance_Options!C53=\"\",\"\",Compliance_Options!C53)","v":""},"",{"$f":"IF(COUNTIF(AN$2:AN31,AN31)=1,AN31,\"\")","v":""},"","","",null,{"$f":"+IF(AZ31=\"\",\"\",MAX(AT$1:AT30)+1)","v":""},{"$f":"IF(Compliance_Options!B53=\"\",\"\",Compliance_Options!B53)","v":""},{"$f":"IF(Compliance_Options!C53=\"\",\"\",Compliance_Options!C53)","v":""},"",{"$f":"IF(Compliance_Options!D53=\"\",\"\",Compliance_Options!D53)","v":""},"",{"$f":"IF(COUNTIF(AY$1:AY31,AY31)=1,AY31,\"\")","v":""},"","","","",null,{"$f":"+IF(BK31=\"\",\"\",MAX(BF$1:BF30)+1)","v":""},{"$f":"IF(CPMS1!B53=\"\",\"\",CPMS1!B53)","v":""},{"$f":"IF(CPMS1!C53=\"\",\"\",CPMS1!C53)","v":""},{"$f":"IF(CPMS1!E53=\"\",\"\",CPMS1!E53)","v":""},"",{"$f":"IF(COUNTIF(BJ$2:BJ31,BJ31)=1,BJ31,\"\")","v":""},"","","","",null,{"$f":"+IF(BV31=\"\",\"\",MAX(BQ$1:BQ30)+1)","v":""},{"$f":"IF(OpLimit!B53=\"\",\"\",OpLimit!B53)","v":""},{"$f":"IF(OpLimit!C53=\"\",\"\",OpLimit!C53)","v":""},{"$f":"IF(OpLimit!E53=\"\",\"\",OpLimit!E53)","v":""},"",{"$f":"IF(COUNTIF(BU$2:BU31,BU31)=1,BU31,\"\")","v":""},"","","",""]
[null,null,null,null,null,{"$f":"+IF(I32=\"\",\"\",MAX(F$1:F31)+1)","v":""},{"$f":"IF(Compliance_Options!C54=\"\",\"\",Compliance_Options!C54)","v":""},"",{"$f":"IF(COUNTIF(G$2:G32,G32)=1,G32,\"\")","v":""},null,{"$f":"+IF(N32=\"\",\"\",MAX(K$1:K31)+1)","v":""},{"$f":"IF(CPMS1!E54=\"\",\"\",CPMS1!E54)","v":""},"",{"$f":"IF(COUNTIF(L$2:L32,L32)=1,L32,\"\")","v":""},null,null,null,null,{"$f":"+IF(W32=\"\",\"\",MAX(S$1:S31)+1)","v":""},{"$f":"IF(Adhes_Sealer_Deadener!B54=\"\",\"\",Adhes_Sealer_Deadener!B54)","v":""},{"$f":"IF(Adhes_Sealer_Deadener!C54=\"\",\"\",Adhes_Sealer_Deadener!C54)","v":""},{"$f":"+Table10[[#This Row],[Column1]]&Table10[[#This Row],[Column2]]","v":""},{"$f":"IF(COUNTIF(V$2:V32,V32)=1,V32,\"\")","v":""},"","",null,{"$f":"+IF(AF32=\"\",\"\",MAX(AA$1:AA31)+1)","v":""},{"$f":"IF(CPMS2!B54=\"\",\"\",CPMS2!B54)","v":""},{"$f":"IF(CPMS2!C54=\"\",\"\",CPMS2!C54)","v":""},{"$f":"IF(CPMS2!D54=\"\",\"\",CPMS2!D54)","v":""},"",{"$f":"IF(COUNTIF(AE$2:AE32,AE32)=1,AE32,\"\")","v":""},"","","",null,{"$f":"+IF(AO32=\"\",\"\",MAX(AK$1:AK31)+1)","v":""},{"$f":"IF(Compliance_Options!B54=\"\",\"\",Compliance_Options!B54)","v":""},{"$f":"IF(Compliance_Options!C54=\"\",\"\",Compliance_Options!C54)","v":""},"",{"$f":"IF(COUNTIF(AN$2:AN32,AN32)=1,AN32,\"\")","v":""},"","","",null,{"$f":"+IF(AZ32=\"\",\"\",MAX(AT$1:AT31)+1)","v":""},{"$f":"IF(Compliance_Options!B54=\"\",\"\",Compliance_Options!B54)","v":""},{"$f":"IF(Compliance_Options!C54=\"\",\"\",Compliance_Options!C54)","v":""},"",{"$f":"IF(Compliance_Options!D54=\"\",\"\",Compliance_Options!D54)","v":""},"",{"$f":"IF(COUNTIF(AY$1:AY32,AY32)=1,AY32,\"\")","v":""},"","","","",null,{"$f":"+IF(BK32=\"\",\"\",MAX(BF$1:BF31)+1)","v":""},{"$f":"IF(CPMS1!B54=\"\",\"\",CPMS1!B54)","v":""},{"$f":"IF(CPMS1!C54=\"\",\"\",CPMS1!C54)","v":""},{"$f":"IF(CPMS1!E54=\"\",\"\",CPMS1!E54)","v":""},"",{"$f":"IF(COUNTIF(BJ$2:BJ32,BJ32)=1,BJ32,\"\")","v":""},"","","","",null,{"$f":"+IF(BV32=\"\",\"\",MAX(BQ$1:BQ31)+1)","v":""},{"$f":"IF(OpLimit!B54=\"\",\"\",OpLimit!B54)","v":""},{"$f":"IF(OpLimit!C54=\"\",\"\",OpLimit!C54)","v":""},{"$f":"IF(OpLimit!E54=\"\",\"\",OpLimit!E54)","v":""},"",{"$f":"IF(COUNTIF(BU$2:BU32,BU32)=1,BU32,\"\")","v":""},"","","",""]
[null,null,null,null,null,{"$f":"+IF(I33=\"\",\"\",MAX(F$1:F32)+1)","v":""},{"$f":"IF(Compliance_Options!C55=\"\",\"\",Compliance_Options!C55)","v":""},"",{"$f":"IF(COUNTIF(G$2:G33,G33)=1,G33,\"\")","v":""},null,{"$f":"+IF(N33=\"\",\"\",MAX(K$1:K32)+1)","v":""},{"$f":"IF(CPMS1!E55=\"\",\"\",CPMS1!E55)","v":""},"",{"$f":"IF(COUNTIF(L$2:L33,L33)=1,L33,\"\")","v":""},null,"Deviation Causes",null,null,{"$f":"+IF(W33=\"\",\"\",MAX(S$1:S32)+1)","v":""},{"$f":"IF(Adhes_Sealer_Deadener!B55=\"\",\"\",Adhes_Sealer_Deadener!B55)","v":""},{"$f":"IF(Adhes_Sealer_Deadener!C55=\"\",\"\",Adhes_Sealer_Deadener!C55)","v":""},{"$f":"+Table10[[#This Row],[Column1]]&Table10[[#This Row],[Column2]]","v":""},{"$f":"IF(COUNTIF(V$2:V33,V33)=1,V33,\"\")","v":""},"","",null,{"$f":"+IF(AF33=\"\",\"\",MAX(AA$1:AA32)+1)","v":""},{"$f":"IF(CPMS2!B55=\"\",\"\",CPMS2!B55)","v":""},{"$f":"IF(CPMS2!C55=\"\",\"\",CPMS2!C55)","v":""},{"$f":"IF(CPMS2!D55=\"\",\"\",CPMS2!D55)","v":""},"",{"$f":"IF(COUNTIF(AE$2:AE33,AE33)=1,AE33,\"\")","v":""},"","","",null,{"$f":"+IF(AO33=\"\",\"\",MAX(AK$1:AK32)+1)","v":""},{"$f":"IF(Compliance_Options!B55=\"\",\"\",Compliance_Options!B55)","v":""},{"$f":"IF(Compliance_Options!C55=\"\",\"\",Compliance_Options!C55)","v":""},"",{"$f":"IF(COUNTIF(AN$2:AN33,AN33)=1,AN33,\"\")","v":""},"","","",null,{"$f":"+IF(AZ33=\"\",\"\",MAX(AT$1:AT32)+1)","v":""},{"$f":"IF(Compliance_Options!B55=\"\",\"\",Compliance_Options!B55)","v":""},{"$f":"IF(Compliance_Options!C55=\"\",\"\",Compliance_Options!C55)","v":""},"",{"$f":"IF(Compliance_Options!D55=\"\",\"\",Compliance_Options!D55)","v":""},"",{"$f":"IF(COUNTIF(AY$1:AY33,AY33)=1,AY33,\"\")","v":""},"","","","",null,{"$f":"+IF(BK33=\"\",\"\",MAX(BF$1:BF32)+1)","v":""},{"$f":"IF(CPMS1!B55=\"\",\"\",CPMS1!B55)","v":""},{"$f":"IF(CPMS1!C55=\"\",\"\",CPMS1!C55)","v":""},{"$f":"IF(CPMS1!E55=\"\",\"\",CPMS1!E55)","v":""},"",{"$f":"IF(COUNTIF(BJ$2:BJ33,BJ33)=1,BJ33,\"\")","v":""},"","","","",null,{"$f":"+IF(BV33=\"\",\"\",MAX(BQ$1:BQ32)+1)","v":""},{"$f":"IF(OpLimit!B55=\"\",\"\",OpLimit!B55)","v":""},{"$f":"IF(OpLimit!C55=\"\",\"\",OpLimit!C55)","v":""},{"$f":"IF(OpLimit!E55=\"\",\"\",OpLimit!E55)","v":""},"",{"$f":"IF(COUNTIF(BU$2:BU33,BU33)=1,BU33,\"\")","v":""},"","","",""]
[null,null,null,null,null,{"$f":"+IF(I34=\"\",\"\",MAX(F$1:F33)+1)","v":""},{"$f":"IF(Compliance_Options!C56=\"\",\"\",Compliance_Options!C56)","v":""},"",{"$f":"IF(COUNTIF(G$2:G34,G34)=1,G34,\"\")","v":""},null,{"$f":"+IF(N34=\"\",\"\",MAX(K$1:K33)+1)","v":""},{"$f":"IF(CPMS1!E56=\"\",\"\",CPMS1!E56)","v":""},"",{"$f":"IF(COUNTIF(L$2:L34,L34)=1,L34,\"\")","v":""},null,"Startup",null,null,{"$f":"+IF(W34=\"\",\"\",MAX(S$1:S33)+1)","v":""},{"$f":"IF(Adhes_Sealer_Deadener!B56=\"\",\"\",Adhes_Sealer_Deadener!B56)","v":""},{"$f":"IF(Adhes_Sealer_Deadener!C56=\"\",\"\",Adhes_Sealer_Deadener!C56)","v":""},{"$f":"+Table10[[#This Row],[Column1]]&Table10[[#This Row],[Column2]]","v":""},{"$f":"IF(COUNTIF(V$2:V34,V34)=1,V34,\"\")","v":""},"","",null,{"$f":"+IF(AF34=\"\",\"\",MAX(AA$1:AA33)+1)","v":""},{"$f":"IF(CPMS2!B56=\"\",\"\",CPMS2!B56)","v":""},{"$f":"IF(CPMS2!C56=\"\",\"\",CPMS2!C56)","v":""},{"$f":"IF(CPMS2!D56=\"\",\"\",CPMS2!D56)","v":""},"",{"$f":"IF(COUNTIF(AE$2:AE34,AE34)=1,AE34,\"\")","v":""},"","","",null,{"$f":"+IF(AO34=\"\",\"\",MAX(AK$1:AK33)+1)","v":""},{"$f":"IF(Compliance_Options!B56=\"\",\"\",Compliance_Options!B56)","v":""},{"$f":"IF(Compliance_Options!C56=\"\",\"\",Compliance_Options!C56)","v":""},"",{"$f":"IF(COUNTIF(AN$2:AN34,AN34)=1,AN34,\"\")","v":""},"","","",null,{"$f":"+IF(AZ34=\"\",\"\",MAX(AT$1:AT33)+1)","v":""},{"$f":"IF(Compliance_Options!B56=\"\",\"\",Compliance_Options!B56)","v":""},{"$f":"IF(Compliance_Options!C56=\"\",\"\",Compliance_Options!C56)","v":""},"",{"$f":"IF(Compliance_Options!D56=\"\",\"\",Compliance_Options!D56)","v":""},"",{"$f":"IF(COUNTIF(AY$1:AY34,AY34)=1,AY34,\"\")","v":""},"","","","",null,{"$f":"+IF(BK34=\"\",\"\",MAX(BF$1:BF33)+1)","v":""},{"$f":"IF(CPMS1!B56=\"\",\"\",CPMS1!B56)","v":""},{"$f":"IF(CPMS1!C56=\"\",\"\",CPMS1!C56)","v":""},{"$f":"IF(CPMS1!E56=\"\",\"\",CPMS1!E56)","v":""},"",{"$f":"IF(COUNTIF(BJ$2:BJ34,BJ34)=1,BJ34,\"\")","v":""},"","","","",null,{"$f":"+IF(BV34=\"\",\"\",MAX(BQ$1:BQ33)+1)","v":""},{"$f":"IF(OpLimit!B56=\"\",\"\",OpLimit!B56)","v":""},{"$f":"IF(OpLimit!C56=\"\",\"\",OpLimit!C56)","v":""},{"$f":"IF(OpLimit!E56=\"\",\"\",OpLimit!E56)","v":""},"",{"$f":"IF(COUNTIF(BU$2:BU34,BU34)=1,BU34,\"\")","v":""},"","","",""]
[null,null,null,null,null,{"$f":"+IF(I35=\"\",\"\",MAX(F$1:F34)+1)","v":""},{"$f":"IF(Compliance_Options!C57=\"\",\"\",Compliance_Options!C57)","v":""},"",{"$f":"IF(COUNTIF(G$2:G35,G35)=1,G35,\"\")","v":""},null,{"$f":"+IF(N35=\"\",\"\",MAX(K$1:K34)+1)","v":""},{"$f":"IF(CPMS1!E57=\"\",\"\",CPMS1!E57)","v":""},"",{"$f":"IF(COUNTIF(L$2:L35,L35)=1,L35,\"\")","v":""},null,"Shutdown",null,null,{"$f":"+IF(W35=\"\",\"\",MAX(S$1:S34)+1)","v":""},{"$f":"IF(Adhes_Sealer_Deadener!B57=\"\",\"\",Adhes_Sealer_Deadener!B57)","v":""},{"$f":"IF(Adhes_Sealer_Deadener!C57=\"\",\"\",Adhes_Sealer_Deadener!C57)","v":""},{"$f":"+Table10[[#This Row],[Column1]]&Table10[[#This Row],[Column2]]","v":""},{"$f":"IF(COUNTIF(V$2:V35,V35)=1,V35,\"\")","v":""},"","",null,{"$f":"+IF(AF35=\"\",\"\",MAX(AA$1:AA34)+1)","v":""},{"$f":"IF(CPMS2!B57=\"\",\"\",CPMS2!B57)","v":""},{"$f":"IF(CPMS2!C57=\"\",\"\",CPMS2!C57)","v":""},{"$f":"IF(CPMS2!D57=\"\",\"\",CPMS2!D57)","v":""},"",{"$f":"IF(COUNTIF(AE$2:AE35,AE35)=1,AE35,\"\")","v":""},"","","",null,{"$f":"+IF(AO35=\"\",\"\",MAX(AK$1:AK34)+1)","v":""},{"$f":"IF(Compliance_Options!B57=\"\",\"\",Compliance_Options!B57)","v":""},{"$f":"IF(Compliance_Options!C57=\"\",\"\",Compliance_Options!C57)","v":""},"",{"$f":"IF(COUNTIF(AN$2:AN35,AN35)=1,AN35,\"\")","v":""},"","","",null,{"$f":"+IF(AZ35=\"\",\"\",MAX(AT$1:AT34)+1)","v":""},{"$f":"IF(Compliance_Options!B57=\"\",\"\",Compliance_Options!B57)","v":""},{"$f":"IF(Compliance_Options!C57=\"\",\"\",Compliance_Options!C57)","v":""},"",{"$f":"IF(Compliance_Options!D57=\"\",\"\",Compliance_Options!D57)","v":""},"",{"$f":"IF(COUNTIF(AY$1:AY35,AY35)=1,AY35,\"\")","v":""},"","","","",null,{"$f":"+IF(BK35=\"\",\"\",MAX(BF$1:BF34)+1)","v":""},{"$f":"IF(CPMS1!B57=\"\",\"\",CPMS1!B57)","v":""},{"$f":"IF(CPMS1!C57=\"\",\"\",CPMS1!C57)","v":""},{"$f":"IF(CPMS1!E57=\"\",\"\",CPMS1!E57)","v":""},"",{"$f":"IF(COUNTIF(BJ$2:BJ35,BJ35)=1,BJ35,\"\")","v":""},"","","","",null,{"$f":"+IF(BV35=\"\",\"\",MAX(BQ$1:BQ34)+1)","v":""},{"$f":"IF(OpLimit!B57=\"\",\"\",OpLimit!B57)","v":""},{"$f":"IF(OpLimit!C57=\"\",\"\",OpLimit!C57)","v":""},{"$f":"IF(OpLimit!E57=\"\",\"\",OpLimit!E57)","v":""},"",{"$f":"IF(COUNTIF(BU$2:BU35,BU35)=1,BU35,\"\")","v":""},"","","",""]
[null,null,null,null,null,{"$f":"+IF(I36=\"\",\"\",MAX(F$1:F35)+1)","v":""},{"$f":"IF(Compliance_Options!C58=\"\",\"\",Compliance_Options!C58)","v":""},"",{"$f":"IF(COUNTIF(G$2:G36,G36)=1,G36,\"\")","v":""},null,{"$f":"+IF(N36=\"\",\"\",MAX(K$1:K35)+1)","v":""},{"$f":"IF(CPMS1!E58=\"\",\"\",CPMS1!E58)","v":""},"",{"$f":"IF(COUNTIF(L$2:L36,L36)=1,L36,\"\")","v":""},null,"Control Equipment Problems",null,null,{"$f":"+IF(W36=\"\",\"\",MAX(S$1:S35)+1)","v":""},{"$f":"IF(Adhes_Sealer_Deadener!B58=\"\",\"\",Adhes_Sealer_Deadener!B58)","v":""},{"$f":"IF(Adhes_Sealer_Deadener!C58=\"\",\"\",Adhes_Sealer_Deadener!C58)","v":""},{"$f":"+Table10[[#This Row],[Column1]]&Table10[[#This Row],[Column2]]","v":""},{"$f":"IF(COUNTIF(V$2:V36,V36)=1,V36,\"\")","v":""},"","",null,{"$f":"+IF(AF36=\"\",\"\",MAX(AA$1:AA35)+1)","v":""},{"$f":"IF(CPMS2!B58=\"\",\"\",CPMS2!B58)","v":""},{"$f":"IF(CPMS2!C58=\"\",\"\",CPMS2!C58)","v":""},{"$f":"IF(CPMS2!D58=\"\",\"\",CPMS2!D58)","v":""},"",{"$f":"IF(COUNTIF(AE$2:AE36,AE36)=1,AE36,\"\")","v":""},"","","",null,{"$f":"+IF(AO36=\"\",\"\",MAX(AK$1:AK35)+1)","v":""},{"$f":"IF(Compliance_Options!B58=\"\",\"\",Compliance_Options!B58)","v":""},{"$f":"IF(Compliance_Options!C58=\"\",\"\",Compliance_Options!C58)","v":""},"",{"$f":"IF(COUNTIF(AN$2:AN36,AN36)=1,AN36,\"\")","v":""},"","","",null,{"$f":"+IF(AZ36=\"\",\"\",MAX(AT$1:AT35)+1)","v":""},{"$f":"IF(Compliance_Options!B58=\"\",\"\",Compliance_Options!B58)","v":""},{"$f":"IF(Compliance_Options!C58=\"\",\"\",Compliance_Options!C58)","v":""},"",{"$f":"IF(Compliance_Options!D58=\"\",\"\",Compliance_Options!D58)","v":""},"",{"$f":"IF(COUNTIF(AY$1:AY36,AY36)=1,AY36,\"\")","v":""},"","","","",null,{"$f":"+IF(BK36=\"\",\"\",MAX(BF$1:BF35)+1)","v":""},{"$f":"IF(CPMS1!B58=\"\",\"\",CPMS1!B58)","v":""},{"$f":"IF(CPMS1!C58=\"\",\"\",CPMS1!C58)","v":""},{"$f":"IF(CPMS1!E58=\"\",\"\",CPMS1!E58)","v":""},"",{"$f":"IF(COUNTIF(BJ$2:BJ36,BJ36)=1,BJ36,\"\")","v":""},"","","","",null,{"$f":"+IF(BV36=\"\",\"\",MAX(BQ$1:BQ35)+1)","v":""},{"$f":"IF(OpLimit!B58=\"\",\"\",OpLimit!B58)","v":""},{"$f":"IF(OpLimit!C58=\"\",\"\",OpLimit!C58)","v":""},{"$f":"IF(OpLimit!E58=\"\",\"\",OpLimit!E58)","v":""},"",{"$f":"IF(COUNTIF(BU$2:BU36,BU36)=1,BU36,\"\")","v":""},"","","",""]
[null,null,null,null,null,{"$f":"+IF(I37=\"\",\"\",MAX(F$1:F36)+1)","v":""},{"$f":"IF(Compliance_Options!C59=\"\",\"\",Compliance_Options!C59)","v":""},"",{"$f":"IF(COUNTIF(G$2:G37,G37)=1,G37,\"\")","v":""},null,{"$f":"+IF(N37=\"\",\"\",MAX(K$1:K36)+1)","v":""},{"$f":"IF(CPMS1!E59=\"\",\"\",CPMS1!E59)","v":""},"",{"$f":"IF(COUNTIF(L$2:L37,L37)=1,L37,\"\")","v":""},null,"Process Problems",null,null,{"$f":"+IF(W37=\"\",\"\",MAX(S$1:S36)+1)","v":""},{"$f":"IF(Adhes_Sealer_Deadener!B59=\"\",\"\",Adhes_Sealer_Deadener!B59)","v":""},{"$f":"IF(Adhes_Sealer_Deadener!C59=\"\",\"\",Adhes_Sealer_Deadener!C59)","v":""},{"$f":"+Table10[[#This Row],[Column1]]&Table10[[#This Row],[Column2]]","v":""},{"$f":"IF(COUNTIF(V$2:V37,V37)=1,V37,\"\")","v":""},"","",null,{"$f":"+IF(AF37=\"\",\"\",MAX(AA$1:AA36)+1)","v":""},{"$f":"IF(CPMS2!B59=\"\",\"\",CPMS2!B59)","v":""},{"$f":"IF(CPMS2!C59=\"\",\"\",CPMS2!C59)","v":""},{"$f":"IF(CPMS2!D59=\"\",\"\",CPMS2!D59)","v":""},"",{"$f":"IF(COUNTIF(AE$2:AE37,AE37)=1,AE37,\"\")","v":""},"","","",null,{"$f":"+IF(AO37=\"\",\"\",MAX(AK$1:AK36)+1)","v":""},{"$f":"IF(Compliance_Options!B59=\"\",\"\",Compliance_Options!B59)","v":""},{"$f":"IF(Compliance_Options!C59=\"\",\"\",Compliance_Options!C59)","v":""},"",{"$f":"IF(COUNTIF(AN$2:AN37,AN37)=1,AN37,\"\")","v":""},"","","",null,{"$f":"+IF(AZ37=\"\",\"\",MAX(AT$1:AT36)+1)","v":""},{"$f":"IF(Compliance_Options!B59=\"\",\"\",Compliance_Options!B59)","v":""},{"$f":"IF(Compliance_Options!C59=\"\",\"\",Compliance_Options!C59)","v":""},"",{"$f":"IF(Compliance_Options!D59=\"\",\"\",Compliance_Options!D59)","v":""},"",{"$f":"IF(COUNTIF(AY$1:AY37,AY37)=1,AY37,\"\")","v":""},"","","","",null,{"$f":"+IF(BK37=\"\",\"\",MAX(BF$1:BF36)+1)","v":""},{"$f":"IF(CPMS1!B59=\"\",\"\",CPMS1!B59)","v":""},{"$f":"IF(CPMS1!C59=\"\",\"\",CPMS1!C59)","v":""},{"$f":"IF(CPMS1!E59=\"\",\"\",CPMS1!E59)","v":""},"",{"$f":"IF(COUNTIF(BJ$2:BJ37,BJ37)=1,BJ37,\"\")","v":""},"","","","",null,{"$f":"+IF(BV37=\"\",\"\",MAX(BQ$1:BQ36)+1)","v":""},{"$f":"IF(OpLimit!B59=\"\",\"\",OpLimit!B59)","v":""},{"$f":"IF(OpLimit!C59=\"\",\"\",OpLimit!C59)","v":""},{"$f":"IF(OpLimit!E59=\"\",\"\",OpLimit!E59)","v":""},"",{"$f":"IF(COUNTIF(BU$2:BU37,BU37)=1,BU37,\"\")","v":""},"","","",""]
[null,null,null,null,null,{"$f":"+IF(I38=\"\",\"\",MAX(F$1:F37)+1)","v":""},{"$f":"IF(Compliance_Options!C60=\"\",\"\",Compliance_Options!C60)","v":""},"",{"$f":"IF(COUNTIF(G$2:G38,G38)=1,G38,\"\")","v":""},null,{"$f":"+IF(N38=\"\",\"\",MAX(K$1:K37)+1)","v":""},{"$f":"IF(CPMS1!E60=\"\",\"\",CPMS1!E60)","v":""},"",{"$f":"IF(COUNTIF(L$2:L38,L38)=1,L38,\"\")","v":""},null,"Other Known Causes",null,null,{"$f":"+IF(W38=\"\",\"\",MAX(S$1:S37)+1)","v":""},{"$f":"IF(Adhes_Sealer_Deadener!B60=\"\",\"\",Adhes_Sealer_Deadener!B60)","v":""},{"$f":"IF(Adhes_Sealer_Deadener!C60=\"\",\"\",Adhes_Sealer_Deadener!C60)","v":""},{"$f":"+Table10[[#This Row],[Column1]]&Table10[[#This Row],[Column2]]","v":""},{"$f":"IF(COUNTIF(V$2:V38,V38)=1,V38,\"\")","v":""},"","",null,{"$f":"+IF(AF38=\"\",\"\",MAX(AA$1:AA37)+1)","v":""},{"$f":"IF(CPMS2!B60=\"\",\"\",CPMS2!B60)","v":""},{"$f":"IF(CPMS2!C60=\"\",\"\",CPMS2!C60)","v":""},{"$f":"IF(CPMS2!D60=\"\",\"\",CPMS2!D60)","v":""},"",{"$f":"IF(COUNTIF(AE$2:AE38,AE38)=1,AE38,\"\")","v":""},"","","",null,{"$f":"+IF(AO38=\"\",\"\",MAX(AK$1:AK37)+1)","v":""},{"$f":"IF(Compliance_Options!B60=\"\",\"\",Compliance_Options!B60)","v":""},{"$f":"IF(Compliance_Options!C60=\"\",\"\",Compliance_Options!C60)","v":""},"",{"$f":"IF(COUNTIF(AN$2:AN38,AN38)=1,AN38,\"\")","v":""},"","","",null,{"$f":"+IF(AZ38=\"\",\"\",MAX(AT$1:AT37)+1)","v":""},{"$f":"IF(Compliance_Options!B60=\"\",\"\",Compliance_Options!B60)","v":""},{"$f":"IF(Compliance_Options!C60=\"\",\"\",Compliance_Options!C60)","v":""},"",{"$f":"IF(Compliance_Options!D60=\"\",\"\",Compliance_Options!D60)","v":""},"",{"$f":"IF(COUNTIF(AY$1:AY38,AY38)=1,AY38,\"\")","v":""},"","","","",null,{"$f":"+IF(BK38=\"\",\"\",MAX(BF$1:BF37)+1)","v":""},{"$f":"IF(CPMS1!B60=\"\",\"\",CPMS1!B60)","v":""},{"$f":"IF(CPMS1!C60=\"\",\"\",CPMS1!C60)","v":""},{"$f":"IF(CPMS1!E60=\"\",\"\",CPMS1!E60)","v":""},"",{"$f":"IF(COUNTIF(BJ$2:BJ38,BJ38)=1,BJ38,\"\")","v":""},"","","","",null,{"$f":"+IF(BV38=\"\",\"\",MAX(BQ$1:BQ37)+1)","v":""},{"$f":"IF(OpLimit!B60=\"\",\"\",OpLimit!B60)","v":""},{"$f":"IF(OpLimit!C60=\"\",\"\",OpLimit!C60)","v":""},{"$f":"IF(OpLimit!E60=\"\",\"\",OpLimit!E60)","v":""},"",{"$f":"IF(COUNTIF(BU$2:BU38,BU38)=1,BU38,\"\")","v":""},"","","",""]
[null,null,null,null,null,{"$f":"+IF(I39=\"\",\"\",MAX(F$1:F38)+1)","v":""},{"$f":"IF(Compliance_Options!C61=\"\",\"\",Compliance_Options!C61)","v":""},"",{"$f":"IF(COUNTIF(G$2:G39,G39)=1,G39,\"\")","v":""},null,{"$f":"+IF(N39=\"\",\"\",MAX(K$1:K38)+1)","v":""},{"$f":"IF(CPMS1!E61=\"\",\"\",CPMS1!E61)","v":""},"",{"$f":"IF(COUNTIF(L$2:L39,L39)=1,L39,\"\")","v":""},null,"Other Unknown Causes",null,null,{"$f":"+IF(W39=\"\",\"\",MAX(S$1:S38)+1)","v":""},{"$f":"IF(Adhes_Sealer_Deadener!B61=\"\",\"\",Adhes_Sealer_Deadener!B61)","v":""},{"$f":"IF(Adhes_Sealer_Deadener!C61=\"\",\"\",Adhes_Sealer_Deadener!C61)","v":""},{"$f":"+Table10[[#This Row],[Column1]]&Table10[[#This Row],[Column2]]","v":""},{"$f":"IF(COUNTIF(V$2:V39,V39)=1,V39,\"\")","v":""},"","",null,{"$f":"+IF(AF39=\"\",\"\",MAX(AA$1:AA38)+1)","v":""},{"$f":"IF(CPMS2!B61=\"\",\"\",CPMS2!B61)","v":""},{"$f":"IF(CPMS2!C61=\"\",\"\",CPMS2!C61)","v":""},{"$f":"IF(CPMS2!D61=\"\",\"\",CPMS2!D61)","v":""},"",{"$f":"IF(COUNTIF(AE$2:AE39,AE39)=1,AE39,\"\")","v":""},"","","",null,{"$f":"+IF(AO39=\"\",\"\",MAX(AK$1:AK38)+1)","v":""},{"$f":"IF(Compliance_Options!B61=\"\",\"\",Compliance_Options!B61)","v":""},{"$f":"IF(Compliance_Options!C61=\"\",\"\",Compliance_Options!C61)","v":""},"",{"$f":"IF(COUNTIF(AN$2:AN39,AN39)=1,AN39,\"\")","v":""},"","","",null,{"$f":"+IF(AZ39=\"\",\"\",MAX(AT$1:AT38)+1)","v":""},{"$f":"IF(Compliance_Options!B61=\"\",\"\",Compliance_Options!B61)","v":""},{"$f":"IF(Compliance_Options!C61=\"\",\"\",Compliance_Options!C61)","v":""},"",{"$f":"IF(Compliance_Options!D61=\"\",\"\",Compliance_Options!D61)","v":""},"",{"$f":"IF(COUNTIF(AY$1:AY39,AY39)=1,AY39,\"\")","v":""},"","","","",null,{"$f":"+IF(BK39=\"\",\"\",MAX(BF$1:BF38)+1)","v":""},{"$f":"IF(CPMS1!B61=\"\",\"\",CPMS1!B61)","v":""},{"$f":"IF(CPMS1!C61=\"\",\"\",CPMS1!C61)","v":""},{"$f":"IF(CPMS1!E61=\"\",\"\",CPMS1!E61)","v":""},"",{"$f":"IF(COUNTIF(BJ$2:BJ39,BJ39)=1,BJ39,\"\")","v":""},"","","","",null,{"$f":"+IF(BV39=\"\",\"\",MAX(BQ$1:BQ38)+1)","v":""},{"$f":"IF(OpLimit!B61=\"\",\"\",OpLimit!B61)","v":""},{"$f":"IF(OpLimit!C61=\"\",\"\",OpLimit!C61)","v":""},{"$f":"IF(OpLimit!E61=\"\",\"\",OpLimit!E61)","v":""},"",{"$f":"IF(COUNTIF(BU$2:BU39,BU39)=1,BU39,\"\")","v":""},"","","",""]
[null,null,null,null,null,{"$f":"+IF(I40=\"\",\"\",MAX(F$1:F39)+1)","v":""},{"$f":"IF(Compliance_Options!C62=\"\",\"\",Compliance_Options!C62)","v":""},"",{"$f":"IF(COUNTIF(G$2:G40,G40)=1,G40,\"\")","v":""},null,{"$f":"+IF(N40=\"\",\"\",MAX(K$1:K39)+1)","v":""},{"$f":"IF(CPMS1!E62=\"\",\"\",CPMS1!E62)","v":""},"",{"$f":"IF(COUNTIF(L$2:L40,L40)=1,L40,\"\")","v":""},null,null,null,null,{"$f":"+IF(W40=\"\",\"\",MAX(S$1:S39)+1)","v":""},{"$f":"IF(Adhes_Sealer_Deadener!B62=\"\",\"\",Adhes_Sealer_Deadener!B62)","v":""},{"$f":"IF(Adhes_Sealer_Deadener!C62=\"\",\"\",Adhes_Sealer_Deadener!C62)","v":""},{"$f":"+Table10[[#This Row],[Column1]]&Table10[[#This Row],[Column2]]","v":""},{"$f":"IF(COUNTIF(V$2:V40,V40)=1,V40,\"\")","v":""},"","",null,{"$f":"+IF(AF40=\"\",\"\",MAX(AA$1:AA39)+1)","v":""},{"$f":"IF(CPMS2!B62=\"\",\"\",CPMS2!B62)","v":""},{"$f":"IF(CPMS2!C62=\"\",\"\",CPMS2!C62)","v":""},{"$f":"IF(CPMS2!D62=\"\",\"\",CPMS2!D62)","v":""},"",{"$f":"IF(COUNTIF(AE$2:AE40,AE40)=1,AE40,\"\")","v":""},"","","",null,{"$f":"+IF(AO40=\"\",\"\",MAX(AK$1:AK39)+1)","v":""},{"$f":"IF(Compliance_Options!B62=\"\",\"\",Compliance_Options!B62)","v":""},{"$f":"IF(Compliance_Options!C62=\"\",\"\",Compliance_Options!C62)","v":""},"",{"$f":"IF(COUNTIF(AN$2:AN40,AN40)=1,AN40,\"\")","v":""},"","","",null,{"$f":"+IF(AZ40=\"\",\"\",MAX(AT$1:AT39)+1)","v":""},{"$f":"IF(Compliance_Options!B62=\"\",\"\",Compliance_Options!B62)","v":""},{"$f":"IF(Compliance_Options!C62=\"\",\"\",Compliance_Options!C62)","v":""},"",{"$f":"IF(Compliance_Options!D62=\"\",\"\",Compliance_Options!D62)","v":""},"",{"$f":"IF(COUNTIF(AY$1:AY40,AY40)=1,AY40,\"\")","v":""},"","","","",null,{"$f":"+IF(BK40=\"\",\"\",MAX(BF$1:BF39)+1)","v":""},{"$f":"IF(CPMS1!B62=\"\",\"\",CPMS1!B62)","v":""},{"$f":"IF(CPMS1!C62=\"\",\"\",CPMS1!C62)","v":""},{"$f":"IF(CPMS1!E62=\"\",\"\",CPMS1!E62)","v":""},"",{"$f":"IF(COUNTIF(BJ$2:BJ40,BJ40)=1,BJ40,\"\")","v":""},"","","","",null,{"$f":"+IF(BV40=\"\",\"\",MAX(BQ$1:BQ39)+1)","v":""},{"$f":"IF(OpLimit!B62=\"\",\"\",OpLimit!B62)","v":""},{"$f":"IF(OpLimit!C62=\"\",\"\",OpLimit!C62)","v":""},{"$f":"IF(OpLimit!E62=\"\",\"\",OpLimit!E62)","v":""},"",{"$f":"IF(COUNTIF(BU$2:BU40,BU40)=1,BU40,\"\")","v":""},"","","",""]
[null,null,null,null,null,{"$f":"+IF(I41=\"\",\"\",MAX(F$1:F40)+1)","v":""},{"$f":"IF(Compliance_Options!C63=\"\",\"\",Compliance_Options!C63)","v":""},"",{"$f":"IF(COUNTIF(G$2:G41,G41)=1,G41,\"\")","v":""},null,{"$f":"+IF(N41=\"\",\"\",MAX(K$1:K40)+1)","v":""},{"$f":"IF(CPMS1!E63=\"\",\"\",CPMS1!E63)","v":""},"",{"$f":"IF(COUNTIF(L$2:L41,L41)=1,L41,\"\")","v":""},null,"CMSCauseList",null,null,{"$f":"+IF(W41=\"\",\"\",MAX(S$1:S40)+1)","v":""},{"$f":"IF(Adhes_Sealer_Deadener!B63=\"\",\"\",Adhes_Sealer_Deadener!B63)","v":""},{"$f":"IF(Adhes_Sealer_Deadener!C63=\"\",\"\",Adhes_Sealer_Deadener!C63)","v":""},{"$f":"+Table10[[#This Row],[Column1]]&Table10[[#This Row],[Column2]]","v":""},{"$f":"IF(COUNTIF(V$2:V41,V41)=1,V41,\"\")","v":""},"","",null,{"$f":"+IF(AF41=\"\",\"\",MAX(AA$1:AA40)+1)","v":""},{"$f":"IF(CPMS2!B63=\"\",\"\",CPMS2!B63)","v":""},{"$f":"IF(CPMS2!C63=\"\",\"\",CPMS2!C63)","v":""},{"$f":"IF(CPMS2!D63=\"\",\"\",CPMS2!D63)","v":""},"",{"$f":"IF(COUNTIF(AE$2:AE41,AE41)=1,AE41,\"\")","v":""},"","","",null,{"$f":"+IF(AO41=\"\",\"\",MAX(AK$1:AK40)+1)","v":""},{"$f":"IF(Compliance_Options!B63=\"\",\"\",Compliance_Options!B63)","v":""},{"$f":"IF(Compliance_Options!C63=\"\",\"\",Compliance_Options!C63)","v":""},"",{"$f":"IF(COUNTIF(AN$2:AN41,AN41)=1,AN41,\"\")","v":""},"","","",null,{"$f":"+IF(AZ41=\"\",\"\",MAX(AT$1:AT40)+1)","v":""},{"$f":"IF(Compliance_Options!B63=\"\",\"\",Compliance_Options!B63)","v":""},{"$f":"IF(Compliance_Options!C63=\"\",\"\",Compliance_Options!C63)","v":""},"",{"$f":"IF(Compliance_Options!D63=\"\",\"\",Compliance_Options!D63)","v":""},"",{"$f":"IF(COUNTIF(AY$1:AY41,AY41)=1,AY41,\"\")","v":""},"","","","",null,{"$f":"+IF(BK41=\"\",\"\",MAX(BF$1:BF40)+1)","v":""},{"$f":"IF(CPMS1!B63=\"\",\"\",CPMS1!B63)","v":""},{"$f":"IF(CPMS1!C63=\"\",\"\",CPMS1!C63)","v":""},{"$f":"IF(CPMS1!E63=\"\",\"\",CPMS1!E63)","v":""},"",{"$f":"IF(COUNTIF(BJ$2:BJ41,BJ41)=1,BJ41,\"\")","v":""},"","","","",null,{"$f":"+IF(BV41=\"\",\"\",MAX(BQ$1:BQ40)+1)","v":""},{"$f":"IF(OpLimit!B63=\"\",\"\",OpLimit!B63)","v":""},{"$f":"IF(OpLimit!C63=\"\",\"\",OpLimit!C63)","v":""},{"$f":"IF(OpLimit!E63=\"\",\"\",OpLimit!E63)","v":""},"",{"$f":"IF(COUNTIF(BU$2:BU41,BU41)=1,BU41,\"\")","v":""},"","","",""]
[null,null,null,null,null,{"$f":"+IF(I42=\"\",\"\",MAX(F$1:F41)+1)","v":""},{"$f":"IF(Compliance_Options!C64=\"\",\"\",Compliance_Options!C64)","v":""},"",{"$f":"IF(COUNTIF(G$2:G42,G42)=1,G42,\"\")","v":""},null,{"$f":"+IF(N42=\"\",\"\",MAX(K$1:K41)+1)","v":""},{"$f":"IF(CPMS1!E64=\"\",\"\",CPMS1!E64)","v":""},"",{"$f":"IF(COUNTIF(L$2:L42,L42)=1,L42,\"\")","v":""},null,"Monitoring Equipment Malfunctions",null,null,{"$f":"+IF(W42=\"\",\"\",MAX(S$1:S41)+1)","v":""},{"$f":"IF(Adhes_Sealer_Deadener!B64=\"\",\"\",Adhes_Sealer_Deadener!B64)","v":""},{"$f":"IF(Adhes_Sealer_Deadener!C64=\"\",\"\",Adhes_Sealer_Deadener!C64)","v":""},{"$f":"+Table10[[#This Row],[Column1]]&Table10[[#This Row],[Column2]]","v":""},{"$f":"IF(COUNTIF(V$2:V42,V42)=1,V42,\"\")","v":""},"","",null,{"$f":"+IF(AF42=\"\",\"\",MAX(AA$1:AA41)+1)","v":""},{"$f":"IF(CPMS2!B64=\"\",\"\",CPMS2!B64)","v":""},{"$f":"IF(CPMS2!C64=\"\",\"\",CPMS2!C64)","v":""},{"$f":"IF(CPMS2!D64=\"\",\"\",CPMS2!D64)","v":""},"",{"$f":"IF(COUNTIF(AE$2:AE42,AE42)=1,AE42,\"\")","v":""},"","","",null,{"$f":"+IF(AO42=\"\",\"\",MAX(AK$1:AK41)+1)","v":""},{"$f":"IF(Compliance_Options!B64=\"\",\"\",Compliance_Options!B64)","v":""},{"$f":"IF(Compliance_Options!C64=\"\",\"\",Compliance_Options!C64)","v":""},"",{"$f":"IF(COUNTIF(AN$2:AN42,AN42)=1,AN42,\"\")","v":""},"","","",null,{"$f":"+IF(AZ42=\"\",\"\",MAX(AT$1:AT41)+1)","v":""},{"$f":"IF(Compliance_Options!B64=\"\",\"\",Compliance_Options!B64)","v":""},{"$f":"IF(Compliance_Options!C64=\"\",\"\",Compliance_Options!C64)","v":""},"",{"$f":"IF(Compliance_Options!D64=\"\",\"\",Compliance_Options!D64)","v":""},"",{"$f":"IF(COUNTIF(AY$1:AY42,AY42)=1,AY42,\"\")","v":""},"","","","",null,{"$f":"+IF(BK42=\"\",\"\",MAX(BF$1:BF41)+1)","v":""},{"$f":"IF(CPMS1!B64=\"\",\"\",CPMS1!B64)","v":""},{"$f":"IF(CPMS1!C64=\"\",\"\",CPMS1!C64)","v":""},{"$f":"IF(CPMS1!E64=\"\",\"\",CPMS1!E64)","v":""},"",{"$f":"IF(COUNTIF(BJ$2:BJ42,BJ42)=1,BJ42,\"\")","v":""},"","","","",null,{"$f":"+IF(BV42=\"\",\"\",MAX(BQ$1:BQ41)+1)","v":""},{"$f":"IF(OpLimit!B64=\"\",\"\",OpLimit!B64)","v":""},{"$f":"IF(OpLimit!C64=\"\",\"\",OpLimit!C64)","v":""},{"$f":"IF(OpLimit!E64=\"\",\"\",OpLimit!E64)","v":""},"",{"$f":"IF(COUNTIF(BU$2:BU42,BU42)=1,BU42,\"\")","v":""},"","","",""]
[null,null,null,null,null,{"$f":"+IF(I43=\"\",\"\",MAX(F$1:F42)+1)","v":""},{"$f":"IF(Compliance_Options!C65=\"\",\"\",Compliance_Options!C65)","v":""},"",{"$f":"IF(COUNTIF(G$2:G43,G43)=1,G43,\"\")","v":""},null,{"$f":"+IF(N43=\"\",\"\",MAX(K$1:K42)+1)","v":""},{"$f":"IF(CPMS1!E65=\"\",\"\",CPMS1!E65)","v":""},"",{"$f":"IF(COUNTIF(L$2:L43,L43)=1,L43,\"\")","v":""},null,"Nonmonitoring Equipment Malfunctions",null,null,{"$f":"+IF(W43=\"\",\"\",MAX(S$1:S42)+1)","v":""},{"$f":"IF(Adhes_Sealer_Deadener!B65=\"\",\"\",Adhes_Sealer_Deadener!B65)","v":""},{"$f":"IF(Adhes_Sealer_Deadener!C65=\"\",\"\",Adhes_Sealer_Deadener!C65)","v":""},{"$f":"+Table10[[#This Row],[Column1]]&Table10[[#This Row],[Column2]]","v":""},{"$f":"IF(COUNTIF(V$2:V43,V43)=1,V43,\"\")","v":""},"","",null,{"$f":"+IF(AF43=\"\",\"\",MAX(AA$1:AA42)+1)","v":""},{"$f":"IF(CPMS2!B65=\"\",\"\",CPMS2!B65)","v":""},{"$f":"IF(CPMS2!C65=\"\",\"\",CPMS2!C65)","v":""},{"$f":"IF(CPMS2!D65=\"\",\"\",CPMS2!D65)","v":""},"",{"$f":"IF(COUNTIF(AE$2:AE43,AE43)=1,AE43,\"\")","v":""},"","","",null,{"$f":"+IF(AO43=\"\",\"\",MAX(AK$1:AK42)+1)","v":""},{"$f":"IF(Compliance_Options!B65=\"\",\"\",Compliance_Options!B65)","v":""},{"$f":"IF(Compliance_Options!C65=\"\",\"\",Compliance_Options!C65)","v":""},"",{"$f":"IF(COUNTIF(AN$2:AN43,AN43)=1,AN43,\"\")","v":""},"","","",null,{"$f":"+IF(AZ43=\"\",\"\",MAX(AT$1:AT42)+1)","v":""},{"$f":"IF(Compliance_Options!B65=\"\",\"\",Compliance_Options!B65)","v":""},{"$f":"IF(Compliance_Options!C65=\"\",\"\",Compliance_Options!C65)","v":""},"",{"$f":"IF(Compliance_Options!D65=\"\",\"\",Compliance_Options!D65)","v":""},"",{"$f":"IF(COUNTIF(AY$1:AY43,AY43)=1,AY43,\"\")","v":""},"","","","",null,{"$f":"+IF(BK43=\"\",\"\",MAX(BF$1:BF42)+1)","v":""},{"$f":"IF(CPMS1!B65=\"\",\"\",CPMS1!B65)","v":""},{"$f":"IF(CPMS1!C65=\"\",\"\",CPMS1!C65)","v":""},{"$f":"IF(CPMS1!E65=\"\",\"\",CPMS1!E65)","v":""},"",{"$f":"IF(COUNTIF(BJ$2:BJ43,BJ43)=1,BJ43,\"\")","v":""},"","","","",null,{"$f":"+IF(BV43=\"\",\"\",MAX(BQ$1:BQ42)+1)","v":""},{"$f":"IF(OpLimit!B65=\"\",\"\",OpLimit!B65)","v":""},{"$f":"IF(OpLimit!C65=\"\",\"\",OpLimit!C65)","v":""},{"$f":"IF(OpLimit!E65=\"\",\"\",OpLimit!E65)","v":""},"",{"$f":"IF(COUNTIF(BU$2:BU43,BU43)=1,BU43,\"\")","v":""},"","","",""]
[null,null,null,null,null,{"$f":"+IF(I44=\"\",\"\",MAX(F$1:F43)+1)","v":""},{"$f":"IF(Compliance_Options!C66=\"\",\"\",Compliance_Options!C66)","v":""},"",{"$f":"IF(COUNTIF(G$2:G44,G44)=1,G44,\"\")","v":""},null,{"$f":"+IF(N44=\"\",\"\",MAX(K$1:K43)+1)","v":""},{"$f":"IF(CPMS1!E66=\"\",\"\",CPMS1!E66)","v":""},"",{"$f":"IF(COUNTIF(L$2:L44,L44)=1,L44,\"\")","v":""},null,"Quality Assurance/Quality Control Calibrations",null,null,{"$f":"+IF(W44=\"\",\"\",MAX(S$1:S43)+1)","v":""},{"$f":"IF(Adhes_Sealer_Deadener!B66=\"\",\"\",Adhes_Sealer_Deadener!B66)","v":""},{"$f":"IF(Adhes_Sealer_Deadener!C66=\"\",\"\",Adhes_Sealer_Deadener!C66)","v":""},{"$f":"+Table10[[#This Row],[Column1]]&Table10[[#This Row],[Column2]]","v":""},{"$f":"IF(COUNTIF(V$2:V44,V44)=1,V44,\"\")","v":""},"","",null,{"$f":"+IF(AF44=\"\",\"\",MAX(AA$1:AA43)+1)","v":""},{"$f":"IF(CPMS2!B66=\"\",\"\",CPMS2!B66)","v":""},{"$f":"IF(CPMS2!C66=\"\",\"\",CPMS2!C66)","v":""},{"$f":"IF(CPMS2!D66=\"\",\"\",CPMS2!D66)","v":""},"",{"$f":"IF(COUNTIF(AE$2:AE44,AE44)=1,AE44,\"\")","v":""},"","","",null,{"$f":"+IF(AO44=\"\",\"\",MAX(AK$1:AK43)+1)","v":""},{"$f":"IF(Compliance_Options!B66=\"\",\"\",Compliance_Options!B66)","v":""},{"$f":"IF(Compliance_Options!C66=\"\",\"\",Compliance_Options!C66)","v":""},"",{"$f":"IF(COUNTIF(AN$2:AN44,AN44)=1,AN44,\"\")","v":""},"","","",null,{"$f":"+IF(AZ44=\"\",\"\",MAX(AT$1:AT43)+1)","v":""},{"$f":"IF(Compliance_Options!B66=\"\",\"\",Compliance_Options!B66)","v":""},{"$f":"IF(Compliance_Options!C66=\"\",\"\",Compliance_Options!C66)","v":""},"",{"$f":"IF(Compliance_Options!D66=\"\",\"\",Compliance_Options!D66)","v":""},"",{"$f":"IF(COUNTIF(AY$1:AY44,AY44)=1,AY44,\"\")","v":""},"","","","",null,{"$f":"+IF(BK44=\"\",\"\",MAX(BF$1:BF43)+1)","v":""},{"$f":"IF(CPMS1!B66=\"\",\"\",CPMS1!B66)","v":""},{"$f":"IF(CPMS1!C66=\"\",\"\",CPMS1!C66)","v":""},{"$f":"IF(CPMS1!E66=\"\",\"\",CPMS1!E66)","v":""},"",{"$f":"IF(COUNTIF(BJ$2:BJ44,BJ44)=1,BJ44,\"\")","v":""},"","","","",null,{"$f":"+IF(BV44=\"\",\"\",MAX(BQ$1:BQ43)+1)","v":""},{"$f":"IF(OpLimit!B66=\"\",\"\",OpLimit!B66)","v":""},{"$f":"IF(OpLimit!C66=\"\",\"\",OpLimit!C66)","v":""},{"$f":"IF(OpLimit!E66=\"\",\"\",OpLimit!E66)","v":""},"",{"$f":"IF(COUNTIF(BU$2:BU44,BU44)=1,BU44,\"\")","v":""},"","","",""]
[null,null,null,null,null,{"$f":"+IF(I45=\"\",\"\",MAX(F$1:F44)+1)","v":""},{"$f":"IF(Compliance_Options!C67=\"\",\"\",Compliance_Options!C67)","v":""},"",{"$f":"IF(COUNTIF(G$2:G45,G45)=1,G45,\"\")","v":""},null,{"$f":"+IF(N45=\"\",\"\",MAX(K$1:K44)+1)","v":""},{"$f":"IF(CPMS1!E67=\"\",\"\",CPMS1!E67)","v":""},"",{"$f":"IF(COUNTIF(L$2:L45,L45)=1,L45,\"\")","v":""},null,"Other Known Causes",null,null,{"$f":"+IF(W45=\"\",\"\",MAX(S$1:S44)+1)","v":""},{"$f":"IF(Adhes_Sealer_Deadener!B67=\"\",\"\",Adhes_Sealer_Deadener!B67)","v":""},{"$f":"IF(Adhes_Sealer_Deadener!C67=\"\",\"\",Adhes_Sealer_Deadener!C67)","v":""},{"$f":"+Table10[[#This Row],[Column1]]&Table10[[#This Row],[Column2]]","v":""},{"$f":"IF(COUNTIF(V$2:V45,V45)=1,V45,\"\")","v":""},"","",null,{"$f":"+IF(AF45=\"\",\"\",MAX(AA$1:AA44)+1)","v":""},{"$f":"IF(CPMS2!B67=\"\",\"\",CPMS2!B67)","v":""},{"$f":"IF(CPMS2!C67=\"\",\"\",CPMS2!C67)","v":""},{"$f":"IF(CPMS2!D67=\"\",\"\",CPMS2!D67)","v":""},"",{"$f":"IF(COUNTIF(AE$2:AE45,AE45)=1,AE45,\"\")","v":""},"","","",null,{"$f":"+IF(AO45=\"\",\"\",MAX(AK$1:AK44)+1)","v":""},{"$f":"IF(Compliance_Options!B67=\"\",\"\",Compliance_Options!B67)","v":""},{"$f":"IF(Compliance_Options!C67=\"\",\"\",Compliance_Options!C67)","v":""},"",{"$f":"IF(COUNTIF(AN$2:AN45,AN45)=1,AN45,\"\")","v":""},"","","",null,{"$f":"+IF(AZ45=\"\",\"\",MAX(AT$1:AT44)+1)","v":""},{"$f":"IF(Compliance_Options!B67=\"\",\"\",Compliance_Options!B67)","v":""},{"$f":"IF(Compliance_Options!C67=\"\",\"\",Compliance_Options!C67)","v":""},"",{"$f":"IF(Compliance_Options!D67=\"\",\"\",Compliance_Options!D67)","v":""},"",{"$f":"IF(COUNTIF(AY$1:AY45,AY45)=1,AY45,\"\")","v":""},"","","","",null,{"$f":"+IF(BK45=\"\",\"\",MAX(BF$1:BF44)+1)","v":""},{"$f":"IF(CPMS1!B67=\"\",\"\",CPMS1!B67)","v":""},{"$f":"IF(CPMS1!C67=\"\",\"\",CPMS1!C67)","v":""},{"$f":"IF(CPMS1!E67=\"\",\"\",CPMS1!E67)","v":""},"",{"$f":"IF(COUNTIF(BJ$2:BJ45,BJ45)=1,BJ45,\"\")","v":""},"","","","",null,{"$f":"+IF(BV45=\"\",\"\",MAX(BQ$1:BQ44)+1)","v":""},{"$f":"IF(OpLimit!B67=\"\",\"\",OpLimit!B67)","v":""},{"$f":"IF(OpLimit!C67=\"\",\"\",OpLimit!C67)","v":""},{"$f":"IF(OpLimit!E67=\"\",\"\",OpLimit!E67)","v":""},"",{"$f":"IF(COUNTIF(BU$2:BU45,BU45)=1,BU45,\"\")","v":""},"","","",""]
[null,null,null,null,null,{"$f":"+IF(I46=\"\",\"\",MAX(F$1:F45)+1)","v":""},{"$f":"IF(Compliance_Options!C68=\"\",\"\",Compliance_Options!C68)","v":""},"",{"$f":"IF(COUNTIF(G$2:G46,G46)=1,G46,\"\")","v":""},null,{"$f":"+IF(N46=\"\",\"\",MAX(K$1:K45)+1)","v":""},{"$f":"IF(CPMS1!E68=\"\",\"\",CPMS1!E68)","v":""},"",{"$f":"IF(COUNTIF(L$2:L46,L46)=1,L46,\"\")","v":""},null,"Other Unknown Causes",null,null,{"$f":"+IF(W46=\"\",\"\",MAX(S$1:S45)+1)","v":""},{"$f":"IF(Adhes_Sealer_Deadener!B68=\"\",\"\",Adhes_Sealer_Deadener!B68)","v":""},{"$f":"IF(Adhes_Sealer_Deadener!C68=\"\",\"\",Adhes_Sealer_Deadener!C68)","v":""},{"$f":"+Table10[[#This Row],[Column1]]&Table10[[#This Row],[Column2]]","v":""},{"$f":"IF(COUNTIF(V$2:V46,V46)=1,V46,\"\")","v":""},"","",null,{"$f":"+IF(AF46=\"\",\"\",MAX(AA$1:AA45)+1)","v":""},{"$f":"IF(CPMS2!B68=\"\",\"\",CPMS2!B68)","v":""},{"$f":"IF(CPMS2!C68=\"\",\"\",CPMS2!C68)","v":""},{"$f":"IF(CPMS2!D68=\"\",\"\",CPMS2!D68)","v":""},"",{"$f":"IF(COUNTIF(AE$2:AE46,AE46)=1,AE46,\"\")","v":""},"","","",null,{"$f":"+IF(AO46=\"\",\"\",MAX(AK$1:AK45)+1)","v":""},{"$f":"IF(Compliance_Options!B68=\"\",\"\",Compliance_Options!B68)","v":""},{"$f":"IF(Compliance_Options!C68=\"\",\"\",Compliance_Options!C68)","v":""},"",{"$f":"IF(COUNTIF(AN$2:AN46,AN46)=1,AN46,\"\")","v":""},"","","",null,{"$f":"+IF(AZ46=\"\",\"\",MAX(AT$1:AT45)+1)","v":""},{"$f":"IF(Compliance_Options!B68=\"\",\"\",Compliance_Options!B68)","v":""},{"$f":"IF(Compliance_Options!C68=\"\",\"\",Compliance_Options!C68)","v":""},"",{"$f":"IF(Compliance_Options!D68=\"\",\"\",Compliance_Options!D68)","v":""},"",{"$f":"IF(COUNTIF(AY$1:AY46,AY46)=1,AY46,\"\")","v":""},"","","","",null,{"$f":"+IF(BK46=\"\",\"\",MAX(BF$1:BF45)+1)","v":""},{"$f":"IF(CPMS1!B68=\"\",\"\",CPMS1!B68)","v":""},{"$f":"IF(CPMS1!C68=\"\",\"\",CPMS1!C68)","v":""},{"$f":"IF(CPMS1!E68=\"\",\"\",CPMS1!E68)","v":""},"",{"$f":"IF(COUNTIF(BJ$2:BJ46,BJ46)=1,BJ46,\"\")","v":""},"","","","",null,{"$f":"+IF(BV46=\"\",\"\",MAX(BQ$1:BQ45)+1)","v":""},{"$f":"IF(OpLimit!B68=\"\",\"\",OpLimit!B68)","v":""},{"$f":"IF(OpLimit!C68=\"\",\"\",OpLimit!C68)","v":""},{"$f":"IF(OpLimit!E68=\"\",\"\",OpLimit!E68)","v":""},"",{"$f":"IF(COUNTIF(BU$2:BU46,BU46)=1,BU46,\"\")","v":""},"","","",""]
[null,null,null,null,null,{"$f":"+IF(I47=\"\",\"\",MAX(F$1:F46)+1)","v":""},{"$f":"IF(Compliance_Options!C69=\"\",\"\",Compliance_Options!C69)","v":""},"",{"$f":"IF(COUNTIF(G$2:G47,G47)=1,G47,\"\")","v":""},null,{"$f":"+IF(N47=\"\",\"\",MAX(K$1:K46)+1)","v":""},{"$f":"IF(CPMS1!E69=\"\",\"\",CPMS1!E69)","v":""},"",{"$f":"IF(COUNTIF(L$2:L47,L47)=1,L47,\"\")","v":""},null,null,null,null,{"$f":"+IF(W47=\"\",\"\",MAX(S$1:S46)+1)","v":""},{"$f":"IF(Adhes_Sealer_Deadener!B69=\"\",\"\",Adhes_Sealer_Deadener!B69)","v":""},{"$f":"IF(Adhes_Sealer_Deadener!C69=\"\",\"\",Adhes_Sealer_Deadener!C69)","v":""},{"$f":"+Table10[[#This Row],[Column1]]&Table10[[#This Row],[Column2]]","v":""},{"$f":"IF(COUNTIF(V$2:V47,V47)=1,V47,\"\")","v":""},"","",null,{"$f":"+IF(AF47=\"\",\"\",MAX(AA$1:AA46)+1)","v":""},{"$f":"IF(CPMS2!B69=\"\",\"\",CPMS2!B69)","v":""},{"$f":"IF(CPMS2!C69=\"\",\"\",CPMS2!C69)","v":""},{"$f":"IF(CPMS2!D69=\"\",\"\",CPMS2!D69)","v":""},"",{"$f":"IF(COUNTIF(AE$2:AE47,AE47)=1,AE47,\"\")","v":""},"","","",null,{"$f":"+IF(AO47=\"\",\"\",MAX(AK$1:AK46)+1)","v":""},{"$f":"IF(Compliance_Options!B69=\"\",\"\",Compliance_Options!B69)","v":""},{"$f":"IF(Compliance_Options!C69=\"\",\"\",Compliance_Options!C69)","v":""},"",{"$f":"IF(COUNTIF(AN$2:AN47,AN47)=1,AN47,\"\")","v":""},"","","",null,{"$f":"+IF(AZ47=\"\",\"\",MAX(AT$1:AT46)+1)","v":""},{"$f":"IF(Compliance_Options!B69=\"\",\"\",Compliance_Options!B69)","v":""},{"$f":"IF(Compliance_Options!C69=\"\",\"\",Compliance_Options!C69)","v":""},"",{"$f":"IF(Compliance_Options!D69=\"\",\"\",Compliance_Options!D69)","v":""},"",{"$f":"IF(COUNTIF(AY$1:AY47,AY47)=1,AY47,\"\")","v":""},"","","","",null,{"$f":"+IF(BK47=\"\",\"\",MAX(BF$1:BF46)+1)","v":""},{"$f":"IF(CPMS1!B69=\"\",\"\",CPMS1!B69)","v":""},{"$f":"IF(CPMS1!C69=\"\",\"\",CPMS1!C69)","v":""},{"$f":"IF(CPMS1!E69=\"\",\"\",CPMS1!E69)","v":""},"",{"$f":"IF(COUNTIF(BJ$2:BJ47,BJ47)=1,BJ47,\"\")","v":""},"","","","",null,{"$f":"+IF(BV47=\"\",\"\",MAX(BQ$1:BQ46)+1)","v":""},{"$f":"IF(OpLimit!B69=\"\",\"\",OpLimit!B69)","v":""},{"$f":"IF(OpLimit!C69=\"\",\"\",OpLimit!C69)","v":""},{"$f":"IF(OpLimit!E69=\"\",\"\",OpLimit!E69)","v":""},"",{"$f":"IF(COUNTIF(BU$2:BU47,BU47)=1,BU47,\"\")","v":""},"","","",""]
[null,null,null,null,null,{"$f":"+IF(I48=\"\",\"\",MAX(F$1:F47)+1)","v":""},{"$f":"IF(Compliance_Options!C70=\"\",\"\",Compliance_Options!C70)","v":""},"",{"$f":"IF(COUNTIF(G$2:G48,G48)=1,G48,\"\")","v":""},null,{"$f":"+IF(N48=\"\",\"\",MAX(K$1:K47)+1)","v":""},{"$f":"IF(CPMS1!E70=\"\",\"\",CPMS1!E70)","v":""},"",{"$f":"IF(COUNTIF(L$2:L48,L48)=1,L48,\"\")","v":""},null,"Operating Limits",null,null,{"$f":"+IF(W48=\"\",\"\",MAX(S$1:S47)+1)","v":""},{"$f":"IF(Adhes_Sealer_Deadener!B70=\"\",\"\",Adhes_Sealer_Deadener!B70)","v":""},{"$f":"IF(Adhes_Sealer_Deadener!C70=\"\",\"\",Adhes_Sealer_Deadener!C70)","v":""},{"$f":"+Table10[[#This Row],[Column1]]&Table10[[#This Row],[Column2]]","v":""},{"$f":"IF(COUNTIF(V$2:V48,V48)=1,V48,\"\")","v":""},"","",null,{"$f":"+IF(AF48=\"\",\"\",MAX(AA$1:AA47)+1)","v":""},{"$f":"IF(CPMS2!B70=\"\",\"\",CPMS2!B70)","v":""},{"$f":"IF(CPMS2!C70=\"\",\"\",CPMS2!C70)","v":""},{"$f":"IF(CPMS2!D70=\"\",\"\",CPMS2!D70)","v":""},"",{"$f":"IF(COUNTIF(AE$2:AE48,AE48)=1,AE48,\"\")","v":""},"","","",null,{"$f":"+IF(AO48=\"\",\"\",MAX(AK$1:AK47)+1)","v":""},{"$f":"IF(Compliance_Options!B70=\"\",\"\",Compliance_Options!B70)","v":""},{"$f":"IF(Compliance_Options!C70=\"\",\"\",Compliance_Options!C70)","v":""},"",{"$f":"IF(COUNTIF(AN$2:AN48,AN48)=1,AN48,\"\")","v":""},"","","",null,{"$f":"+IF(AZ48=\"\",\"\",MAX(AT$1:AT47)+1)","v":""},{"$f":"IF(Compliance_Options!B70=\"\",\"\",Compliance_Options!B70)","v":""},{"$f":"IF(Compliance_Options!C70=\"\",\"\",Compliance_Options!C70)","v":""},"",{"$f":"IF(Compliance_Options!D70=\"\",\"\",Compliance_Options!D70)","v":""},"",{"$f":"IF(COUNTIF(AY$1:AY48,AY48)=1,AY48,\"\")","v":""},"","","","",null,{"$f":"+IF(BK48=\"\",\"\",MAX(BF$1:BF47)+1)","v":""},{"$f":"IF(CPMS1!B70=\"\",\"\",CPMS1!B70)","v":""},{"$f":"IF(CPMS1!C70=\"\",\"\",CPMS1!C70)","v":""},{"$f":"IF(CPMS1!E70=\"\",\"\",CPMS1!E70)","v":""},"",{"$f":"IF(COUNTIF(BJ$2:BJ48,BJ48)=1,BJ48,\"\")","v":""},"","","","",null,{"$f":"+IF(BV48=\"\",\"\",MAX(BQ$1:BQ47)+1)","v":""},{"$f":"IF(OpLimit!B70=\"\",\"\",OpLimit!B70)","v":""},{"$f":"IF(OpLimit!C70=\"\",\"\",OpLimit!C70)","v":""},{"$f":"IF(OpLimit!E70=\"\",\"\",OpLimit!E70)","v":""},"",{"$f":"IF(COUNTIF(BU$2:BU48,BU48)=1,BU48,\"\")","v":""},"","","",""]
[null,null,null,null,null,{"$f":"+IF(I49=\"\",\"\",MAX(F$1:F48)+1)","v":""},{"$f":"IF(Compliance_Options!C71=\"\",\"\",Compliance_Options!C71)","v":""},"",{"$f":"IF(COUNTIF(G$2:G49,G49)=1,G49,\"\")","v":""},null,{"$f":"+IF(N49=\"\",\"\",MAX(K$1:K48)+1)","v":""},{"$f":"IF(CPMS1!E71=\"\",\"\",CPMS1!E71)","v":""},"",{"$f":"IF(COUNTIF(L$2:L49,L49)=1,L49,\"\")","v":""},null,"Bypass of Control Device",null,null,{"$f":"+IF(W49=\"\",\"\",MAX(S$1:S48)+1)","v":""},{"$f":"IF(Adhes_Sealer_Deadener!B71=\"\",\"\",Adhes_Sealer_Deadener!B71)","v":""},{"$f":"IF(Adhes_Sealer_Deadener!C71=\"\",\"\",Adhes_Sealer_Deadener!C71)","v":""},{"$f":"+Table10[[#This Row],[Column1]]&Table10[[#This Row],[Column2]]","v":""},{"$f":"IF(COUNTIF(V$2:V49,V49)=1,V49,\"\")","v":""},"","",null,{"$f":"+IF(AF49=\"\",\"\",MAX(AA$1:AA48)+1)","v":""},{"$f":"IF(CPMS2!B71=\"\",\"\",CPMS2!B71)","v":""},{"$f":"IF(CPMS2!C71=\"\",\"\",CPMS2!C71)","v":""},{"$f":"IF(CPMS2!D71=\"\",\"\",CPMS2!D71)","v":""},"",{"$f":"IF(COUNTIF(AE$2:AE49,AE49)=1,AE49,\"\")","v":""},"","","",null,{"$f":"+IF(AO49=\"\",\"\",MAX(AK$1:AK48)+1)","v":""},{"$f":"IF(Compliance_Options!B71=\"\",\"\",Compliance_Options!B71)","v":""},{"$f":"IF(Compliance_Options!C71=\"\",\"\",Compliance_Options!C71)","v":""},"",{"$f":"IF(COUNTIF(AN$2:AN49,AN49)=1,AN49,\"\")","v":""},"","","",null,{"$f":"+IF(AZ49=\"\",\"\",MAX(AT$1:AT48)+1)","v":""},{"$f":"IF(Compliance_Options!B71=\"\",\"\",Compliance_Options!B71)","v":""},{"$f":"IF(Compliance_Options!C71=\"\",\"\",Compliance_Options!C71)","v":""},"",{"$f":"IF(Compliance_Options!D71=\"\",\"\",Compliance_Options!D71)","v":""},"",{"$f":"IF(COUNTIF(AY$1:AY49,AY49)=1,AY49,\"\")","v":""},"","","","",null,{"$f":"+IF(BK49=\"\",\"\",MAX(BF$1:BF48)+1)","v":""},{"$f":"IF(CPMS1!B71=\"\",\"\",CPMS1!B71)","v":""},{"$f":"IF(CPMS1!C71=\"\",\"\",CPMS1!C71)","v":""},{"$f":"IF(CPMS1!E71=\"\",\"\",CPMS1!E71)","v":""},"",{"$f":"IF(COUNTIF(BJ$2:BJ49,BJ49)=1,BJ49,\"\")","v":""},"","","","",null,{"$f":"+IF(BV49=\"\",\"\",MAX(BQ$1:BQ48)+1)","v":""},{"$f":"IF(OpLimit!B71=\"\",\"\",OpLimit!B71)","v":""},{"$f":"IF(OpLimit!C71=\"\",\"\",OpLimit!C71)","v":""},{"$f":"IF(OpLimit!E71=\"\",\"\",OpLimit!E71)","v":""},"",{"$f":"IF(COUNTIF(BU$2:BU49,BU49)=1,BU49,\"\")","v":""},"","","",""]
[null,null,null,null,null,{"$f":"+IF(I50=\"\",\"\",MAX(F$1:F49)+1)","v":""},{"$f":"IF(Compliance_Options!C72=\"\",\"\",Compliance_Options!C72)","v":""},"",{"$f":"IF(COUNTIF(G$2:G50,G50)=1,G50,\"\")","v":""},null,{"$f":"+IF(N50=\"\",\"\",MAX(K$1:K49)+1)","v":""},{"$f":"IF(CPMS1!E72=\"\",\"\",CPMS1!E72)","v":""},"",{"$f":"IF(COUNTIF(L$2:L50,L50)=1,L50,\"\")","v":""},null,"Combustion Temperature",null,null,{"$f":"+IF(W50=\"\",\"\",MAX(S$1:S49)+1)","v":""},{"$f":"IF(Adhes_Sealer_Deadener!B72=\"\",\"\",Adhes_Sealer_Deadener!B72)","v":""},{"$f":"IF(Adhes_Sealer_Deadener!C72=\"\",\"\",Adhes_Sealer_Deadener!C72)","v":""},{"$f":"+Table10[[#This Row],[Column1]]&Table10[[#This Row],[Column2]]","v":""},{"$f":"IF(COUNTIF(V$2:V50,V50)=1,V50,\"\")","v":""},"","",null,{"$f":"+IF(AF50=\"\",\"\",MAX(AA$1:AA49)+1)","v":""},{"$f":"IF(CPMS2!B72=\"\",\"\",CPMS2!B72)","v":""},{"$f":"IF(CPMS2!C72=\"\",\"\",CPMS2!C72)","v":""},{"$f":"IF(CPMS2!D72=\"\",\"\",CPMS2!D72)","v":""},"",{"$f":"IF(COUNTIF(AE$2:AE50,AE50)=1,AE50,\"\")","v":""},"","","",null,{"$f":"+IF(AO50=\"\",\"\",MAX(AK$1:AK49)+1)","v":""},{"$f":"IF(Compliance_Options!B72=\"\",\"\",Compliance_Options!B72)","v":""},{"$f":"IF(Compliance_Options!C72=\"\",\"\",Compliance_Options!C72)","v":""},"",{"$f":"IF(COUNTIF(AN$2:AN50,AN50)=1,AN50,\"\")","v":""},"","","",null,{"$f":"+IF(AZ50=\"\",\"\",MAX(AT$1:AT49)+1)","v":""},{"$f":"IF(Compliance_Options!B72=\"\",\"\",Compliance_Options!B72)","v":""},{"$f":"IF(Compliance_Options!C72=\"\",\"\",Compliance_Options!C72)","v":""},"",{"$f":"IF(Compliance_Options!D72=\"\",\"\",Compliance_Options!D72)","v":""},"",{"$f":"IF(COUNTIF(AY$1:AY50,AY50)=1,AY50,\"\")","v":""},"","","","",null,{"$f":"+IF(BK50=\"\",\"\",MAX(BF$1:BF49)+1)","v":""},{"$f":"IF(CPMS1!B72=\"\",\"\",CPMS1!B72)","v":""},{"$f":"IF(CPMS1!C72=\"\",\"\",CPMS1!C72)","v":""},{"$f":"IF(CPMS1!E72=\"\",\"\",CPMS1!E72)","v":""},"",{"$f":"IF(COUNTIF(BJ$2:BJ50,BJ50)=1,BJ50,\"\")","v":""},"","","","",null,{"$f":"+IF(BV50=\"\",\"\",MAX(BQ$1:BQ49)+1)","v":""},{"$f":"IF(OpLimit!B72=\"\",\"\",OpLimit!B72)","v":""},{"$f":"IF(OpLimit!C72=\"\",\"\",OpLimit!C72)","v":""},{"$f":"IF(OpLimit!E72=\"\",\"\",OpLimit!E72)","v":""},"",{"$f":"IF(COUNTIF(BU$2:BU50,BU50)=1,BU50,\"\")","v":""},"","","",""]
[null,null,null,null,null,{"$f":"+IF(I51=\"\",\"\",MAX(F$1:F50)+1)","v":""},{"$f":"IF(Compliance_Options!C73=\"\",\"\",Compliance_Options!C73)","v":""},"",{"$f":"IF(COUNTIF(G$2:G51,G51)=1,G51,\"\")","v":""},null,{"$f":"+IF(N51=\"\",\"\",MAX(K$1:K50)+1)","v":""},{"$f":"IF(CPMS1!E73=\"\",\"\",CPMS1!E73)","v":""},"",{"$f":"IF(COUNTIF(L$2:L51,L51)=1,L51,\"\")","v":""},null,"Inlet to Catalyst Bed Temperature",null,null,{"$f":"+IF(W51=\"\",\"\",MAX(S$1:S50)+1)","v":""},{"$f":"IF(Adhes_Sealer_Deadener!B73=\"\",\"\",Adhes_Sealer_Deadener!B73)","v":""},{"$f":"IF(Adhes_Sealer_Deadener!C73=\"\",\"\",Adhes_Sealer_Deadener!C73)","v":""},{"$f":"+Table10[[#This Row],[Column1]]&Table10[[#This Row],[Column2]]","v":""},{"$f":"IF(COUNTIF(V$2:V51,V51)=1,V51,\"\")","v":""},"","",null,{"$f":"+IF(AF51=\"\",\"\",MAX(AA$1:AA50)+1)","v":""},{"$f":"IF(CPMS2!B73=\"\",\"\",CPMS2!B73)","v":""},{"$f":"IF(CPMS2!C73=\"\",\"\",CPMS2!C73)","v":""},{"$f":"IF(CPMS2!D73=\"\",\"\",CPMS2!D73)","v":""},"",{"$f":"IF(COUNTIF(AE$2:AE51,AE51)=1,AE51,\"\")","v":""},"","","",null,{"$f":"+IF(AO51=\"\",\"\",MAX(AK$1:AK50)+1)","v":""},{"$f":"IF(Compliance_Options!B73=\"\",\"\",Compliance_Options!B73)","v":""},{"$f":"IF(Compliance_Options!C73=\"\",\"\",Compliance_Options!C73)","v":""},"",{"$f":"IF(COUNTIF(AN$2:AN51,AN51)=1,AN51,\"\")","v":""},"","","",null,{"$f":"+IF(AZ51=\"\",\"\",MAX(AT$1:AT50)+1)","v":""},{"$f":"IF(Compliance_Options!B73=\"\",\"\",Compliance_Options!B73)","v":""},{"$f":"IF(Compliance_Options!C73=\"\",\"\",Compliance_Options!C73)","v":""},"",{"$f":"IF(Compliance_Options!D73=\"\",\"\",Compliance_Options!D73)","v":""},"",{"$f":"IF(COUNTIF(AY$1:AY51,AY51)=1,AY51,\"\")","v":""},"","","","",null,{"$f":"+IF(BK51=\"\",\"\",MAX(BF$1:BF50)+1)","v":""},{"$f":"IF(CPMS1!B73=\"\",\"\",CPMS1!B73)","v":""},{"$f":"IF(CPMS1!C73=\"\",\"\",CPMS1!C73)","v":""},{"$f":"IF(CPMS1!E73=\"\",\"\",CPMS1!E73)","v":""},"",{"$f":"IF(COUNTIF(BJ$2:BJ51,BJ51)=1,BJ51,\"\")","v":""},"","","","",null,{"$f":"+IF(BV51=\"\",\"\",MAX(BQ$1:BQ50)+1)","v":""},{"$f":"IF(OpLimit!B73=\"\",\"\",OpLimit!B73)","v":""},{"$f":"IF(OpLimit!C73=\"\",\"\",OpLimit!C73)","v":""},{"$f":"IF(OpLimit!E73=\"\",\"\",OpLimit!E73)","v":""},"",{"$f":"IF(COUNTIF(BU$2:BU51,BU51)=1,BU51,\"\")","v":""},"","","",""]
[null,null,null,null,null,{"$f":"+IF(I52=\"\",\"\",MAX(F$1:F51)+1)","v":""},{"$f":"IF(Compliance_Options!C74=\"\",\"\",Compliance_Options!C74)","v":""},"",{"$f":"IF(COUNTIF(G$2:G52,G52)=1,G52,\"\")","v":""},null,{"$f":"+IF(N52=\"\",\"\",MAX(K$1:K51)+1)","v":""},{"$f":"IF(CPMS1!E74=\"\",\"\",CPMS1!E74)","v":""},"",{"$f":"IF(COUNTIF(L$2:L52,L52)=1,L52,\"\")","v":""},null,"Temperature Difference Across Catalyst Bed",null,null,{"$f":"+IF(W52=\"\",\"\",MAX(S$1:S51)+1)","v":""},{"$f":"IF(Adhes_Sealer_Deadener!B74=\"\",\"\",Adhes_Sealer_Deadener!B74)","v":""},{"$f":"IF(Adhes_Sealer_Deadener!C74=\"\",\"\",Adhes_Sealer_Deadener!C74)","v":""},{"$f":"+Table10[[#This Row],[Column1]]&Table10[[#This Row],[Column2]]","v":""},{"$f":"IF(COUNTIF(V$2:V52,V52)=1,V52,\"\")","v":""},"","",null,{"$f":"+IF(AF52=\"\",\"\",MAX(AA$1:AA51)+1)","v":""},{"$f":"IF(CPMS2!B74=\"\",\"\",CPMS2!B74)","v":""},{"$f":"IF(CPMS2!C74=\"\",\"\",CPMS2!C74)","v":""},{"$f":"IF(CPMS2!D74=\"\",\"\",CPMS2!D74)","v":""},"",{"$f":"IF(COUNTIF(AE$2:AE52,AE52)=1,AE52,\"\")","v":""},"","","",null,{"$f":"+IF(AO52=\"\",\"\",MAX(AK$1:AK51)+1)","v":""},{"$f":"IF(Compliance_Options!B74=\"\",\"\",Compliance_Options!B74)","v":""},{"$f":"IF(Compliance_Options!C74=\"\",\"\",Compliance_Options!C74)","v":""},"",{"$f":"IF(COUNTIF(AN$2:AN52,AN52)=1,AN52,\"\")","v":""},"","","",null,{"$f":"+IF(AZ52=\"\",\"\",MAX(AT$1:AT51)+1)","v":""},{"$f":"IF(Compliance_Options!B74=\"\",\"\",Compliance_Options!B74)","v":""},{"$f":"IF(Compliance_Options!C74=\"\",\"\",Compliance_Options!C74)","v":""},"",{"$f":"IF(Compliance_Options!D74=\"\",\"\",Compliance_Options!D74)","v":""},"",{"$f":"IF(COUNTIF(AY$1:AY52,AY52)=1,AY52,\"\")","v":""},"","","","",null,{"$f":"+IF(BK52=\"\",\"\",MAX(BF$1:BF51)+1)","v":""},{"$f":"IF(CPMS1!B74=\"\",\"\",CPMS1!B74)","v":""},{"$f":"IF(CPMS1!C74=\"\",\"\",CPMS1!C74)","v":""},{"$f":"IF(CPMS1!E74=\"\",\"\",CPMS1!E74)","v":""},"",{"$f":"IF(COUNTIF(BJ$2:BJ52,BJ52)=1,BJ52,\"\")","v":""},"","","","",null,{"$f":"+IF(BV52=\"\",\"\",MAX(BQ$1:BQ51)+1)","v":""},{"$f":"IF(OpLimit!B74=\"\",\"\",OpLimit!B74)","v":""},{"$f":"IF(OpLimit!C74=\"\",\"\",OpLimit!C74)","v":""},{"$f":"IF(OpLimit!E74=\"\",\"\",OpLimit!E74)","v":""},"",{"$f":"IF(COUNTIF(BU$2:BU52,BU52)=1,BU52,\"\")","v":""},"","","",""]
[null,null,null,null,null,{"$f":"+IF(I53=\"\",\"\",MAX(F$1:F52)+1)","v":""},{"$f":"IF(Compliance_Options!C75=\"\",\"\",Compliance_Options!C75)","v":""},"",{"$f":"IF(COUNTIF(G$2:G53,G53)=1,G53,\"\")","v":""},null,{"$f":"+IF(N53=\"\",\"\",MAX(K$1:K52)+1)","v":""},{"$f":"IF(CPMS1!E75=\"\",\"\",CPMS1!E75)","v":""},"",{"$f":"IF(COUNTIF(L$2:L53,L53)=1,L53,\"\")","v":""},null,"Inspection and Maintenance Plan",null,null,{"$f":"+IF(W53=\"\",\"\",MAX(S$1:S52)+1)","v":""},{"$f":"IF(Adhes_Sealer_Deadener!B75=\"\",\"\",Adhes_Sealer_Deadener!B75)","v":""},{"$f":"IF(Adhes_Sealer_Deadener!C75=\"\",\"\",Adhes_Sealer_Deadener!C75)","v":""},{"$f":"+Table10[[#This Row],[Column1]]&Table10[[#This Row],[Column2]]","v":""},{"$f":"IF(COUNTIF(V$2:V53,V53)=1,V53,\"\")","v":""},"","",null,{"$f":"+IF(AF53=\"\",\"\",MAX(AA$1:AA52)+1)","v":""},{"$f":"IF(CPMS2!B75=\"\",\"\",CPMS2!B75)","v":""},{"$f":"IF(CPMS2!C75=\"\",\"\",CPMS2!C75)","v":""},{"$f":"IF(CPMS2!D75=\"\",\"\",CPMS2!D75)","v":""},"",{"$f":"IF(COUNTIF(AE$2:AE53,AE53)=1,AE53,\"\")","v":""},"","","",null,{"$f":"+IF(AO53=\"\",\"\",MAX(AK$1:AK52)+1)","v":""},{"$f":"IF(Compliance_Options!B75=\"\",\"\",Compliance_Options!B75)","v":""},{"$f":"IF(Compliance_Options!C75=\"\",\"\",Compliance_Options!C75)","v":""},"",{"$f":"IF(COUNTIF(AN$2:AN53,AN53)=1,AN53,\"\")","v":""},"","","",null,{"$f":"+IF(AZ53=\"\",\"\",MAX(AT$1:AT52)+1)","v":""},{"$f":"IF(Compliance_Options!B75=\"\",\"\",Compliance_Options!B75)","v":""},{"$f":"IF(Compliance_Options!C75=\"\",\"\",Compliance_Options!C75)","v":""},"",{"$f":"IF(Compliance_Options!D75=\"\",\"\",Compliance_Options!D75)","v":""},"",{"$f":"IF(COUNTIF(AY$1:AY53,AY53)=1,AY53,\"\")","v":""},"","","","",null,{"$f":"+IF(BK53=\"\",\"\",MAX(BF$1:BF52)+1)","v":""},{"$f":"IF(CPMS1!B75=\"\",\"\",CPMS1!B75)","v":""},{"$f":"IF(CPMS1!C75=\"\",\"\",CPMS1!C75)","v":""},{"$f":"IF(CPMS1!E75=\"\",\"\",CPMS1!E75)","v":""},"",{"$f":"IF(COUNTIF(BJ$2:BJ53,BJ53)=1,BJ53,\"\")","v":""},"","","","",null,{"$f":"+IF(BV53=\"\",\"\",MAX(BQ$1:BQ52)+1)","v":""},{"$f":"IF(OpLimit!B75=\"\",\"\",OpLimit!B75)","v":""},{"$f":"IF(OpLimit!C75=\"\",\"\",OpLimit!C75)","v":""},{"$f":"IF(OpLimit!E75=\"\",\"\",OpLimit!E75)","v":""},"",{"$f":"IF(COUNTIF(BU$2:BU53,BU53)=1,BU53,\"\")","v":""},"","","",""]
[null,null,null,null,null,{"$f":"+IF(I54=\"\",\"\",MAX(F$1:F53)+1)","v":""},{"$f":"IF(Compliance_Options!C76=\"\",\"\",Compliance_Options!C76)","v":""},"",{"$f":"IF(COUNTIF(G$2:G54,G54)=1,G54,\"\")","v":""},null,{"$f":"+IF(N54=\"\",\"\",MAX(K$1:K53)+1)","v":""},{"$f":"IF(CPMS1!E76=\"\",\"\",CPMS1!E76)","v":""},"",{"$f":"IF(COUNTIF(L$2:L54,L54)=1,L54,\"\")","v":""},null,"Regeneration Desorbing Gas Flow",null,null,{"$f":"+IF(W54=\"\",\"\",MAX(S$1:S53)+1)","v":""},{"$f":"IF(Adhes_Sealer_Deadener!B76=\"\",\"\",Adhes_Sealer_Deadener!B76)","v":""},{"$f":"IF(Adhes_Sealer_Deadener!C76=\"\",\"\",Adhes_Sealer_Deadener!C76)","v":""},{"$f":"+Table10[[#This Row],[Column1]]&Table10[[#This Row],[Column2]]","v":""},{"$f":"IF(COUNTIF(V$2:V54,V54)=1,V54,\"\")","v":""},"","",null,{"$f":"+IF(AF54=\"\",\"\",MAX(AA$1:AA53)+1)","v":""},{"$f":"IF(CPMS2!B76=\"\",\"\",CPMS2!B76)","v":""},{"$f":"IF(CPMS2!C76=\"\",\"\",CPMS2!C76)","v":""},{"$f":"IF(CPMS2!D76=\"\",\"\",CPMS2!D76)","v":""},"",{"$f":"IF(COUNTIF(AE$2:AE54,AE54)=1,AE54,\"\")","v":""},"","","",null,{"$f":"+IF(AO54=\"\",\"\",MAX(AK$1:AK53)+1)","v":""},{"$f":"IF(Compliance_Options!B76=\"\",\"\",Compliance_Options!B76)","v":""},{"$f":"IF(Compliance_Options!C76=\"\",\"\",Compliance_Options!C76)","v":""},"",{"$f":"IF(COUNTIF(AN$2:AN54,AN54)=1,AN54,\"\")","v":""},"","","",null,{"$f":"+IF(AZ54=\"\",\"\",MAX(AT$1:AT53)+1)","v":""},{"$f":"IF(Compliance_Options!B76=\"\",\"\",Compliance_Options!B76)","v":""},{"$f":"IF(Compliance_Options!C76=\"\",\"\",Compliance_Options!C76)","v":""},"",{"$f":"IF(Compliance_Options!D76=\"\",\"\",Compliance_Options!D76)","v":""},"",{"$f":"IF(COUNTIF(AY$1:AY54,AY54)=1,AY54,\"\")","v":""},"","","","",null,{"$f":"+IF(BK54=\"\",\"\",MAX(BF$1:BF53)+1)","v":""},{"$f":"IF(CPMS1!B76=\"\",\"\",CPMS1!B76)","v":""},{"$f":"IF(CPMS1!C76=\"\",\"\",CPMS1!C76)","v":""},{"$f":"IF(CPMS1!E76=\"\",\"\",CPMS1!E76)","v":""},"",{"$f":"IF(COUNTIF(BJ$2:BJ54,BJ54)=1,BJ54,\"\")","v":""},"","","","",null,{"$f":"+IF(BV54=\"\",\"\",MAX(BQ$1:BQ53)+1)","v":""},{"$f":"IF(OpLimit!B76=\"\",\"\",OpLimit!B76)","v":""},{"$f":"IF(OpLimit!C76=\"\",\"\",OpLimit!C76)","v":""},{"$f":"IF(OpLimit!E76=\"\",\"\",OpLimit!E76)","v":""},"",{"$f":"IF(COUNTIF(BU$2:BU54,BU54)=1,BU54,\"\")","v":""},"","","",""]
[null,null,null,null,null,{"$f":"+IF(I55=\"\",\"\",MAX(F$1:F54)+1)","v":""},{"$f":"IF(Compliance_Options!C77=\"\",\"\",Compliance_Options!C77)","v":""},"",{"$f":"IF(COUNTIF(G$2:G55,G55)=1,G55,\"\")","v":""},null,{"$f":"+IF(N55=\"\",\"\",MAX(K$1:K54)+1)","v":""},{"$f":"IF(CPMS1!E77=\"\",\"\",CPMS1!E77)","v":""},"",{"$f":"IF(COUNTIF(L$2:L55,L55)=1,L55,\"\")","v":""},null,"Carbon Bed Temperature",null,null,{"$f":"+IF(W55=\"\",\"\",MAX(S$1:S54)+1)","v":""},{"$f":"IF(Adhes_Sealer_Deadener!B77=\"\",\"\",Adhes_Sealer_Deadener!B77)","v":""},{"$f":"IF(Adhes_Sealer_Deadener!C77=\"\",\"\",Adhes_Sealer_Deadener!C77)","v":""},{"$f":"+Table10[[#This Row],[Column1]]&Table10[[#This Row],[Column2]]","v":""},{"$f":"IF(COUNTIF(V$2:V55,V55)=1,V55,\"\")","v":""},"","",null,{"$f":"+IF(AF55=\"\",\"\",MAX(AA$1:AA54)+1)","v":""},{"$f":"IF(CPMS2!B77=\"\",\"\",CPMS2!B77)","v":""},{"$f":"IF(CPMS2!C77=\"\",\"\",CPMS2!C77)","v":""},{"$f":"IF(CPMS2!D77=\"\",\"\",CPMS2!D77)","v":""},"",{"$f":"IF(COUNTIF(AE$2:AE55,AE55)=1,AE55,\"\")","v":""},"","","",null,{"$f":"+IF(AO55=\"\",\"\",MAX(AK$1:AK54)+1)","v":""},{"$f":"IF(Compliance_Options!B77=\"\",\"\",Compliance_Options!B77)","v":""},{"$f":"IF(Compliance_Options!C77=\"\",\"\",Compliance_Options!C77)","v":""},"",{"$f":"IF(COUNTIF(AN$2:AN55,AN55)=1,AN55,\"\")","v":""},"","","",null,{"$f":"+IF(AZ55=\"\",\"\",MAX(AT$1:AT54)+1)","v":""},{"$f":"IF(Compliance_Options!B77=\"\",\"\",Compliance_Options!B77)","v":""},{"$f":"IF(Compliance_Options!C77=\"\",\"\",Compliance_Options!C77)","v":""},"",{"$f":"IF(Compliance_Options!D77=\"\",\"\",Compliance_Options!D77)","v":""},"",{"$f":"IF(COUNTIF(AY$1:AY55,AY55)=1,AY55,\"\")","v":""},"","","","",null,{"$f":"+IF(BK55=\"\",\"\",MAX(BF$1:BF54)+1)","v":""},{"$f":"IF(CPMS1!B77=\"\",\"\",CPMS1!B77)","v":""},{"$f":"IF(CPMS1!C77=\"\",\"\",CPMS1!C77)","v":""},{"$f":"IF(CPMS1!E77=\"\",\"\",CPMS1!E77)","v":""},"",{"$f":"IF(COUNTIF(BJ$2:BJ55,BJ55)=1,BJ55,\"\")","v":""},"","","","",null,{"$f":"+IF(BV55=\"\",\"\",MAX(BQ$1:BQ54)+1)","v":""},{"$f":"IF(OpLimit!B77=\"\",\"\",OpLimit!B77)","v":""},{"$f":"IF(OpLimit!C77=\"\",\"\",OpLimit!C77)","v":""},{"$f":"IF(OpLimit!E77=\"\",\"\",OpLimit!E77)","v":""},"",{"$f":"IF(COUNTIF(BU$2:BU55,BU55)=1,BU55,\"\")","v":""},"","","",""]
[null,null,null,null,null,{"$f":"+IF(I56=\"\",\"\",MAX(F$1:F55)+1)","v":""},{"$f":"IF(Compliance_Options!C78=\"\",\"\",Compliance_Options!C78)","v":""},"",{"$f":"IF(COUNTIF(G$2:G56,G56)=1,G56,\"\")","v":""},null,{"$f":"+IF(N56=\"\",\"\",MAX(K$1:K55)+1)","v":""},{"$f":"IF(CPMS1!E78=\"\",\"\",CPMS1!E78)","v":""},"",{"$f":"IF(COUNTIF(L$2:L56,L56)=1,L56,\"\")","v":""},null,"Condenser Outlet Temperature",null,null,{"$f":"+IF(W56=\"\",\"\",MAX(S$1:S55)+1)","v":""},{"$f":"IF(Adhes_Sealer_Deadener!B78=\"\",\"\",Adhes_Sealer_Deadener!B78)","v":""},{"$f":"IF(Adhes_Sealer_Deadener!C78=\"\",\"\",Adhes_Sealer_Deadener!C78)","v":""},{"$f":"+Table10[[#This Row],[Column1]]&Table10[[#This Row],[Column2]]","v":""},{"$f":"IF(COUNTIF(V$2:V56,V56)=1,V56,\"\")","v":""},"","",null,{"$f":"+IF(AF56=\"\",\"\",MAX(AA$1:AA55)+1)","v":""},{"$f":"IF(CPMS2!B78=\"\",\"\",CPMS2!B78)","v":""},{"$f":"IF(CPMS2!C78=\"\",\"\",CPMS2!C78)","v":""},{"$f":"IF(CPMS2!D78=\"\",\"\",CPMS2!D78)","v":""},"",{"$f":"IF(COUNTIF(AE$2:AE56,AE56)=1,AE56,\"\")","v":""},"","","",null,{"$f":"+IF(AO56=\"\",\"\",MAX(AK$1:AK55)+1)","v":""},{"$f":"IF(Compliance_Options!B78=\"\",\"\",Compliance_Options!B78)","v":""},{"$f":"IF(Compliance_Options!C78=\"\",\"\",Compliance_Options!C78)","v":""},"",{"$f":"IF(COUNTIF(AN$2:AN56,AN56)=1,AN56,\"\")","v":""},"","","",null,{"$f":"+IF(AZ56=\"\",\"\",MAX(AT$1:AT55)+1)","v":""},{"$f":"IF(Compliance_Options!B78=\"\",\"\",Compliance_Options!B78)","v":""},{"$f":"IF(Compliance_Options!C78=\"\",\"\",Compliance_Options!C78)","v":""},"",{"$f":"IF(Compliance_Options!D78=\"\",\"\",Compliance_Options!D78)","v":""},"",{"$f":"IF(COUNTIF(AY$1:AY56,AY56)=1,AY56,\"\")","v":""},"","","","",null,{"$f":"+IF(BK56=\"\",\"\",MAX(BF$1:BF55)+1)","v":""},{"$f":"IF(CPMS1!B78=\"\",\"\",CPMS1!B78)","v":""},{"$f":"IF(CPMS1!C78=\"\",\"\",CPMS1!C78)","v":""},{"$f":"IF(CPMS1!E78=\"\",\"\",CPMS1!E78)","v":""},"",{"$f":"IF(COUNTIF(BJ$2:BJ56,BJ56)=1,BJ56,\"\")","v":""},"","","","",null,{"$f":"+IF(BV56=\"\",\"\",MAX(BQ$1:BQ55)+1)","v":""},{"$f":"IF(OpLimit!B78=\"\",\"\",OpLimit!B78)","v":""},{"$f":"IF(OpLimit!C78=\"\",\"\",OpLimit!C78)","v":""},{"$f":"IF(OpLimit!E78=\"\",\"\",OpLimit!E78)","v":""},"",{"$f":"IF(COUNTIF(BU$2:BU56,BU56)=1,BU56,\"\")","v":""},"","","",""]
[null,null,null,null,null,{"$f":"+IF(I57=\"\",\"\",MAX(F$1:F56)+1)","v":""},{"$f":"IF(Compliance_Options!C79=\"\",\"\",Compliance_Options!C79)","v":""},"",{"$f":"IF(COUNTIF(G$2:G57,G57)=1,G57,\"\")","v":""},null,{"$f":"+IF(N57=\"\",\"\",MAX(K$1:K56)+1)","v":""},{"$f":"IF(CPMS1!E79=\"\",\"\",CPMS1!E79)","v":""},"",{"$f":"IF(COUNTIF(L$2:L57,L57)=1,L57,\"\")","v":""},null,"PTE Air Flow Direction",null,null,{"$f":"+IF(W57=\"\",\"\",MAX(S$1:S56)+1)","v":""},{"$f":"IF(Adhes_Sealer_Deadener!B79=\"\",\"\",Adhes_Sealer_Deadener!B79)","v":""},{"$f":"IF(Adhes_Sealer_Deadener!C79=\"\",\"\",Adhes_Sealer_Deadener!C79)","v":""},{"$f":"+Table10[[#This Row],[Column1]]&Table10[[#This Row],[Column2]]","v":""},{"$f":"IF(COUNTIF(V$2:V57,V57)=1,V57,\"\")","v":""},"","",null,{"$f":"+IF(AF57=\"\",\"\",MAX(AA$1:AA56)+1)","v":""},{"$f":"IF(CPMS2!B79=\"\",\"\",CPMS2!B79)","v":""},{"$f":"IF(CPMS2!C79=\"\",\"\",CPMS2!C79)","v":""},{"$f":"IF(CPMS2!D79=\"\",\"\",CPMS2!D79)","v":""},"",{"$f":"IF(COUNTIF(AE$2:AE57,AE57)=1,AE57,\"\")","v":""},"","","",null,{"$f":"+IF(AO57=\"\",\"\",MAX(AK$1:AK56)+1)","v":""},{"$f":"IF(Compliance_Options!B79=\"\",\"\",Compliance_Options!B79)","v":""},{"$f":"IF(Compliance_Options!C79=\"\",\"\",Compliance_Options!C79)","v":""},"",{"$f":"IF(COUNTIF(AN$2:AN57,AN57)=1,AN57,\"\")","v":""},"","","",null,{"$f":"+IF(AZ57=\"\",\"\",MAX(AT$1:AT56)+1)","v":""},{"$f":"IF(Compliance_Options!B79=\"\",\"\",Compliance_Options!B79)","v":""},{"$f":"IF(Compliance_Options!C79=\"\",\"\",Compliance_Options!C79)","v":""},"",{"$f":"IF(Compliance_Options!D79=\"\",\"\",Compliance_Options!D79)","v":""},"",{"$f":"IF(COUNTIF(AY$1:AY57,AY57)=1,AY57,\"\")","v":""},"","","","",null,{"$f":"+IF(BK57=\"\",\"\",MAX(BF$1:BF56)+1)","v":""},{"$f":"IF(CPMS1!B79=\"\",\"\",CPMS1!B79)","v":""},{"$f":"IF(CPMS1!C79=\"\",\"\",CPMS1!C79)","v":""},{"$f":"IF(CPMS1!E79=\"\",\"\",CPMS1!E79)","v":""},"",{"$f":"IF(COUNTIF(BJ$2:BJ57,BJ57)=1,BJ57,\"\")","v":""},"","","","",null,{"$f":"+IF(BV57=\"\",\"\",MAX(BQ$1:BQ56)+1)","v":""},{"$f":"IF(OpLimit!B79=\"\",\"\",OpLimit!B79)","v":""},{"$f":"IF(OpLimit!C79=\"\",\"\",OpLimit!C79)","v":""},{"$f":"IF(OpLimit!E79=\"\",\"\",OpLimit!E79)","v":""},"",{"$f":"IF(COUNTIF(BU$2:BU57,BU57)=1,BU57,\"\")","v":""},"","","",""]
[null,null,null,null,null,{"$f":"+IF(I58=\"\",\"\",MAX(F$1:F57)+1)","v":""},{"$f":"IF(Compliance_Options!C80=\"\",\"\",Compliance_Options!C80)","v":""},"",{"$f":"IF(COUNTIF(G$2:G58,G58)=1,G58,\"\")","v":""},null,{"$f":"+IF(N58=\"\",\"\",MAX(K$1:K57)+1)","v":""},{"$f":"IF(CPMS1!E80=\"\",\"\",CPMS1!E80)","v":""},"",{"$f":"IF(COUNTIF(L$2:L58,L58)=1,L58,\"\")","v":""},null,"PTE Facial Velocity",null,null,{"$f":"+IF(W58=\"\",\"\",MAX(S$1:S57)+1)","v":""},{"$f":"IF(Adhes_Sealer_Deadener!B80=\"\",\"\",Adhes_Sealer_Deadener!B80)","v":""},{"$f":"IF(Adhes_Sealer_Deadener!C80=\"\",\"\",Adhes_Sealer_Deadener!C80)","v":""},{"$f":"+Table10[[#This Row],[Column1]]&Table10[[#This Row],[Column2]]","v":""},{"$f":"IF(COUNTIF(V$2:V58,V58)=1,V58,\"\")","v":""},"","",null,{"$f":"+IF(AF58=\"\",\"\",MAX(AA$1:AA57)+1)","v":""},{"$f":"IF(CPMS2!B80=\"\",\"\",CPMS2!B80)","v":""},{"$f":"IF(CPMS2!C80=\"\",\"\",CPMS2!C80)","v":""},{"$f":"IF(CPMS2!D80=\"\",\"\",CPMS2!D80)","v":""},"",{"$f":"IF(COUNTIF(AE$2:AE58,AE58)=1,AE58,\"\")","v":""},"","","",null,{"$f":"+IF(AO58=\"\",\"\",MAX(AK$1:AK57)+1)","v":""},{"$f":"IF(Compliance_Options!B80=\"\",\"\",Compliance_Options!B80)","v":""},{"$f":"IF(Compliance_Options!C80=\"\",\"\",Compliance_Options!C80)","v":""},"",{"$f":"IF(COUNTIF(AN$2:AN58,AN58)=1,AN58,\"\")","v":""},"","","",null,{"$f":"+IF(AZ58=\"\",\"\",MAX(AT$1:AT57)+1)","v":""},{"$f":"IF(Compliance_Options!B80=\"\",\"\",Compliance_Options!B80)","v":""},{"$f":"IF(Compliance_Options!C80=\"\",\"\",Compliance_Options!C80)","v":""},"",{"$f":"IF(Compliance_Options!D80=\"\",\"\",Compliance_Options!D80)","v":""},"",{"$f":"IF(COUNTIF(AY$1:AY58,AY58)=1,AY58,\"\")","v":""},"","","","",null,{"$f":"+IF(BK58=\"\",\"\",MAX(BF$1:BF57)+1)","v":""},{"$f":"IF(CPMS1!B80=\"\",\"\",CPMS1!B80)","v":""},{"$f":"IF(CPMS1!C80=\"\",\"\",CPMS1!C80)","v":""},{"$f":"IF(CPMS1!E80=\"\",\"\",CPMS1!E80)","v":""},"",{"$f":"IF(COUNTIF(BJ$2:BJ58,BJ58)=1,BJ58,\"\")","v":""},"","","","",null,{"$f":"+IF(BV58=\"\",\"\",MAX(BQ$1:BQ57)+1)","v":""},{"$f":"IF(OpLimit!B80=\"\",\"\",OpLimit!B80)","v":""},{"$f":"IF(OpLimit!C80=\"\",\"\",OpLimit!C80)","v":""},{"$f":"IF(OpLimit!E80=\"\",\"\",OpLimit!E80)","v":""},"",{"$f":"IF(COUNTIF(BU$2:BU58,BU58)=1,BU58,\"\")","v":""},"","","",""]
[null,null,null,null,null,{"$f":"+IF(I59=\"\",\"\",MAX(F$1:F58)+1)","v":""},{"$f":"IF(Compliance_Options!C81=\"\",\"\",Compliance_Options!C81)","v":""},"",{"$f":"IF(COUNTIF(G$2:G59,G59)=1,G59,\"\")","v":""},null,{"$f":"+IF(N59=\"\",\"\",MAX(K$1:K58)+1)","v":""},{"$f":"IF(CPMS1!E81=\"\",\"\",CPMS1!E81)","v":""},"",{"$f":"IF(COUNTIF(L$2:L59,L59)=1,L59,\"\")","v":""},null,"PTE Pressure Drop Across Enclosure",null,null,{"$f":"+IF(W59=\"\",\"\",MAX(S$1:S58)+1)","v":""},{"$f":"IF(Adhes_Sealer_Deadener!B81=\"\",\"\",Adhes_Sealer_Deadener!B81)","v":""},{"$f":"IF(Adhes_Sealer_Deadener!C81=\"\",\"\",Adhes_Sealer_Deadener!C81)","v":""},{"$f":"+Table10[[#This Row],[Column1]]&Table10[[#This Row],[Column2]]","v":""},{"$f":"IF(COUNTIF(V$2:V59,V59)=1,V59,\"\")","v":""},"","",null,{"$f":"+IF(AF59=\"\",\"\",MAX(AA$1:AA58)+1)","v":""},{"$f":"IF(CPMS2!B81=\"\",\"\",CPMS2!B81)","v":""},{"$f":"IF(CPMS2!C81=\"\",\"\",CPMS2!C81)","v":""},{"$f":"IF(CPMS2!D81=\"\",\"\",CPMS2!D81)","v":""},"",{"$f":"IF(COUNTIF(AE$2:AE59,AE59)=1,AE59,\"\")","v":""},"","","",null,{"$f":"+IF(AO59=\"\",\"\",MAX(AK$1:AK58)+1)","v":""},{"$f":"IF(Compliance_Options!B81=\"\",\"\",Compliance_Options!B81)","v":""},{"$f":"IF(Compliance_Options!C81=\"\",\"\",Compliance_Options!C81)","v":""},"",{"$f":"IF(COUNTIF(AN$2:AN59,AN59)=1,AN59,\"\")","v":""},"","","",null,{"$f":"+IF(AZ59=\"\",\"\",MAX(AT$1:AT58)+1)","v":""},{"$f":"IF(Compliance_Options!B81=\"\",\"\",Compliance_Options!B81)","v":""},{"$f":"IF(Compliance_Options!C81=\"\",\"\",Compliance_Options!C81)","v":""},"",{"$f":"IF(Compliance_Options!D81=\"\",\"\",Compliance_Options!D81)","v":""},"",{"$f":"IF(COUNTIF(AY$1:AY59,AY59)=1,AY59,\"\")","v":""},"","","","",null,{"$f":"+IF(BK59=\"\",\"\",MAX(BF$1:BF58)+1)","v":""},{"$f":"IF(CPMS1!B81=\"\",\"\",CPMS1!B81)","v":""},{"$f":"IF(CPMS1!C81=\"\",\"\",CPMS1!C81)","v":""},{"$f":"IF(CPMS1!E81=\"\",\"\",CPMS1!E81)","v":""},"",{"$f":"IF(COUNTIF(BJ$2:BJ59,BJ59)=1,BJ59,\"\")","v":""},"","","","",null,{"$f":"+IF(BV59=\"\",\"\",MAX(BQ$1:BQ58)+1)","v":""},{"$f":"IF(OpLimit!B81=\"\",\"\",OpLimit!B81)","v":""},{"$f":"IF(OpLimit!C81=\"\",\"\",OpLimit!C81)","v":""},{"$f":"IF(OpLimit!E81=\"\",\"\",OpLimit!E81)","v":""},"",{"$f":"IF(COUNTIF(BU$2:BU59,BU59)=1,BU59,\"\")","v":""},"","","",""]
[null,null,null,null,null,{"$f":"+IF(I60=\"\",\"\",MAX(F$1:F59)+1)","v":""},{"$f":"IF(Compliance_Options!C82=\"\",\"\",Compliance_Options!C82)","v":""},"",{"$f":"IF(COUNTIF(G$2:G60,G60)=1,G60,\"\")","v":""},null,{"$f":"+IF(N60=\"\",\"\",MAX(K$1:K59)+1)","v":""},{"$f":"IF(CPMS1!E82=\"\",\"\",CPMS1!E82)","v":""},"",{"$f":"IF(COUNTIF(L$2:L60,L60)=1,L60,\"\")","v":""},null,"Non-PTE Gas Flow Rate",null,null,{"$f":"+IF(W60=\"\",\"\",MAX(S$1:S478)+1)","v":""},{"$f":"IF(Adhes_Sealer_Deadener!B82=\"\",\"\",Adhes_Sealer_Deadener!B82)","v":""},{"$f":"IF(Adhes_Sealer_Deadener!C82=\"\",\"\",Adhes_Sealer_Deadener!C82)","v":""},{"$f":"+Table10[[#This Row],[Column1]]&Table10[[#This Row],[Column2]]","v":""},{"$f":"IF(COUNTIF(V$2:V60,V60)=1,V60,\"\")","v":""},"","",null,{"$f":"+IF(AF60=\"\",\"\",MAX(AA$1:AA59)+1)","v":""},{"$f":"IF(CPMS2!B82=\"\",\"\",CPMS2!B82)","v":""},{"$f":"IF(CPMS2!C82=\"\",\"\",CPMS2!C82)","v":""},{"$f":"IF(CPMS2!D82=\"\",\"\",CPMS2!D82)","v":""},"",{"$f":"IF(COUNTIF(AE$2:AE60,AE60)=1,AE60,\"\")","v":""},"","","",null,{"$f":"+IF(AO60=\"\",\"\",MAX(AK$1:AK59)+1)","v":""},{"$f":"IF(Compliance_Options!B82=\"\",\"\",Compliance_Options!B82)","v":""},{"$f":"IF(Compliance_Options!C82=\"\",\"\",Compliance_Options!C82)","v":""},"",{"$f":"IF(COUNTIF(AN$2:AN60,AN60)=1,AN60,\"\")","v":""},"","","",null,{"$f":"+IF(AZ60=\"\",\"\",MAX(AT$1:AT59)+1)","v":""},{"$f":"IF(Compliance_Options!B82=\"\",\"\",Compliance_Options!B82)","v":""},{"$f":"IF(Compliance_Options!C82=\"\",\"\",Compliance_Options!C82)","v":""},"",{"$f":"IF(Compliance_Options!D82=\"\",\"\",Compliance_Options!D82)","v":""},"",{"$f":"IF(COUNTIF(AY$1:AY60,AY60)=1,AY60,\"\")","v":""},"","","","",null,{"$f":"+IF(BK60=\"\",\"\",MAX(BF$1:BF59)+1)","v":""},{"$f":"IF(CPMS1!B82=\"\",\"\",CPMS1!B82)","v":""},{"$f":"IF(CPMS1!C82=\"\",\"\",CPMS1!C82)","v":""},{"$f":"IF(CPMS1!E82=\"\",\"\",CPMS1!E82)","v":""},"",{"$f":"IF(COUNTIF(BJ$2:BJ60,BJ60)=1,BJ60,\"\")","v":""},"","","","",null,{"$f":"+IF(BV60=\"\",\"\",MAX(BQ$1:BQ59)+1)","v":""},{"$f":"IF(OpLimit!B82=\"\",\"\",OpLimit!B82)","v":""},{"$f":"IF(OpLimit!C82=\"\",\"\",OpLimit!C82)","v":""},{"$f":"IF(OpLimit!E82=\"\",\"\",OpLimit!E82)","v":""},"",{"$f":"IF(COUNTIF(BU$2:BU60,BU60)=1,BU60,\"\")","v":""},"","","",""]
[null,null,null,null,null,{"$f":"+IF(I61=\"\",\"\",MAX(F$1:F60)+1)","v":""},{"$f":"IF(Compliance_Options!C83=\"\",\"\",Compliance_Options!C83)","v":""},"",{"$f":"IF(COUNTIF(G$2:G61,G61)=1,G61,\"\")","v":""},null,{"$f":"+IF(N61=\"\",\"\",MAX(K$1:K60)+1)","v":""},{"$f":"IF(CPMS1!E83=\"\",\"\",CPMS1!E83)","v":""},"",{"$f":"IF(COUNTIF(L$2:L61,L61)=1,L61,\"\")","v":""},null,"Non-PTE Duct Static Pressure",null,null,{"$f":"+IF(W61=\"\",\"\",MAX(S$1:S60)+1)","v":""},{"$f":"IF(Adhes_Sealer_Deadener!B83=\"\",\"\",Adhes_Sealer_Deadener!B83)","v":""},{"$f":"IF(Adhes_Sealer_Deadener!C83=\"\",\"\",Adhes_Sealer_Deadener!C83)","v":""},{"$f":"+Table10[[#This Row],[Column1]]&Table10[[#This Row],[Column2]]","v":""},{"$f":"IF(COUNTIF(V$2:V61,V61)=1,V61,\"\")","v":""},"","",null,{"$f":"+IF(AF61=\"\",\"\",MAX(AA$1:AA60)+1)","v":""},{"$f":"IF(CPMS2!B83=\"\",\"\",CPMS2!B83)","v":""},{"$f":"IF(CPMS2!C83=\"\",\"\",CPMS2!C83)","v":""},{"$f":"IF(CPMS2!D83=\"\",\"\",CPMS2!D83)","v":""},"",{"$f":"IF(COUNTIF(AE$2:AE61,AE61)=1,AE61,\"\")","v":""},"","","",null,{"$f":"+IF(AO61=\"\",\"\",MAX(AK$1:AK60)+1)","v":""},{"$f":"IF(Compliance_Options!B83=\"\",\"\",Compliance_Options!B83)","v":""},{"$f":"IF(Compliance_Options!C83=\"\",\"\",Compliance_Options!C83)","v":""},"",{"$f":"IF(COUNTIF(AN$2:AN61,AN61)=1,AN61,\"\")","v":""},"","","",null,{"$f":"+IF(AZ61=\"\",\"\",MAX(AT$1:AT60)+1)","v":""},{"$f":"IF(Compliance_Options!B83=\"\",\"\",Compliance_Options!B83)","v":""},{"$f":"IF(Compliance_Options!C83=\"\",\"\",Compliance_Options!C83)","v":""},"",{"$f":"IF(Compliance_Options!D83=\"\",\"\",Compliance_Options!D83)","v":""},"",{"$f":"IF(COUNTIF(AY$1:AY61,AY61)=1,AY61,\"\")","v":""},"","","","",null,{"$f":"+IF(BK61=\"\",\"\",MAX(BF$1:BF60)+1)","v":""},{"$f":"IF(CPMS1!B83=\"\",\"\",CPMS1!B83)","v":""},{"$f":"IF(CPMS1!C83=\"\",\"\",CPMS1!C83)","v":""},{"$f":"IF(CPMS1!E83=\"\",\"\",CPMS1!E83)","v":""},"",{"$f":"IF(COUNTIF(BJ$2:BJ61,BJ61)=1,BJ61,\"\")","v":""},"","","","",null,{"$f":"+IF(BV61=\"\",\"\",MAX(BQ$1:BQ60)+1)","v":""},{"$f":"IF(OpLimit!B83=\"\",\"\",OpLimit!B83)","v":""},{"$f":"IF(OpLimit!C83=\"\",\"\",OpLimit!C83)","v":""},{"$f":"IF(OpLimit!E83=\"\",\"\",OpLimit!E83)","v":""},"",{"$f":"IF(COUNTIF(BU$2:BU61,BU61)=1,BU61,\"\")","v":""},"","","",""]
[null,null,null,null,null,{"$f":"+IF(I62=\"\",\"\",MAX(F$1:F61)+1)","v":""},{"$f":"IF(Compliance_Options!C84=\"\",\"\",Compliance_Options!C84)","v":""},"",{"$f":"IF(COUNTIF(G$2:G62,G62)=1,G62,\"\")","v":""},null,{"$f":"+IF(N62=\"\",\"\",MAX(K$1:K61)+1)","v":""},{"$f":"IF(CPMS1!E84=\"\",\"\",CPMS1!E84)","v":""},"",{"$f":"IF(COUNTIF(L$2:L62,L62)=1,L62,\"\")","v":""},null,"Desorption Concentrate Stream Temperature",null,null,{"$f":"+IF(W62=\"\",\"\",MAX(S$1:S61)+1)","v":""},{"$f":"IF(Adhes_Sealer_Deadener!B84=\"\",\"\",Adhes_Sealer_Deadener!B84)","v":""},{"$f":"IF(Adhes_Sealer_Deadener!C84=\"\",\"\",Adhes_Sealer_Deadener!C84)","v":""},{"$f":"+Table10[[#This Row],[Column1]]&Table10[[#This Row],[Column2]]","v":""},{"$f":"IF(COUNTIF(V$2:V62,V62)=1,V62,\"\")","v":""},"","",null,{"$f":"+IF(AF62=\"\",\"\",MAX(AA$1:AA61)+1)","v":""},{"$f":"IF(CPMS2!B84=\"\",\"\",CPMS2!B84)","v":""},{"$f":"IF(CPMS2!C84=\"\",\"\",CPMS2!C84)","v":""},{"$f":"IF(CPMS2!D84=\"\",\"\",CPMS2!D84)","v":""},"",{"$f":"IF(COUNTIF(AE$2:AE62,AE62)=1,AE62,\"\")","v":""},"","","",null,{"$f":"+IF(AO62=\"\",\"\",MAX(AK$1:AK61)+1)","v":""},{"$f":"IF(Compliance_Options!B84=\"\",\"\",Compliance_Options!B84)","v":""},{"$f":"IF(Compliance_Options!C84=\"\",\"\",Compliance_Options!C84)","v":""},"",{"$f":"IF(COUNTIF(AN$2:AN62,AN62)=1,AN62,\"\")","v":""},"","","",null,{"$f":"+IF(AZ62=\"\",\"\",MAX(AT$1:AT61)+1)","v":""},{"$f":"IF(Compliance_Options!B84=\"\",\"\",Compliance_Options!B84)","v":""},{"$f":"IF(Compliance_Options!C84=\"\",\"\",Compliance_Options!C84)","v":""},"",{"$f":"IF(Compliance_Options!D84=\"\",\"\",Compliance_Options!D84)","v":""},"",{"$f":"IF(COUNTIF(AY$1:AY62,AY62)=1,AY62,\"\")","v":""},"","","","",null,{"$f":"+IF(BK62=\"\",\"\",MAX(BF$1:BF61)+1)","v":""},{"$f":"IF(CPMS1!B84=\"\",\"\",CPMS1!B84)","v":""},{"$f":"IF(CPMS1!C84=\"\",\"\",CPMS1!C84)","v":""},{"$f":"IF(CPMS1!E84=\"\",\"\",CPMS1!E84)","v":""},"",{"$f":"IF(COUNTIF(BJ$2:BJ62,BJ62)=1,BJ62,\"\")","v":""},"","","","",null,{"$f":"+IF(BV62=\"\",\"\",MAX(BQ$1:BQ61)+1)","v":""},{"$f":"IF(OpLimit!B84=\"\",\"\",OpLimit!B84)","v":""},{"$f":"IF(OpLimit!C84=\"\",\"\",OpLimit!C84)","v":""},{"$f":"IF(OpLimit!E84=\"\",\"\",OpLimit!E84)","v":""},"",{"$f":"IF(COUNTIF(BU$2:BU62,BU62)=1,BU62,\"\")","v":""},"","","",""]
[null,null,null,null,null,{"$f":"+IF(I63=\"\",\"\",MAX(F$1:F62)+1)","v":""},{"$f":"IF(Compliance_Options!C85=\"\",\"\",Compliance_Options!C85)","v":""},"",{"$f":"IF(COUNTIF(G$2:G63,G63)=1,G63,\"\")","v":""},null,{"$f":"+IF(N63=\"\",\"\",MAX(K$1:K62)+1)","v":""},{"$f":"IF(CPMS1!E85=\"\",\"\",CPMS1!E85)","v":""},"",{"$f":"IF(COUNTIF(L$2:L63,L63)=1,L63,\"\")","v":""},null,"Pressure Drop Across Concentrator",null,null,{"$f":"+IF(W63=\"\",\"\",MAX(S$1:S62)+1)","v":""},{"$f":"IF(Adhes_Sealer_Deadener!B85=\"\",\"\",Adhes_Sealer_Deadener!B85)","v":""},{"$f":"IF(Adhes_Sealer_Deadener!C85=\"\",\"\",Adhes_Sealer_Deadener!C85)","v":""},{"$f":"+Table10[[#This Row],[Column1]]&Table10[[#This Row],[Column2]]","v":""},{"$f":"IF(COUNTIF(V$2:V63,V63)=1,V63,\"\")","v":""},"","",null,{"$f":"+IF(AF63=\"\",\"\",MAX(AA$1:AA62)+1)","v":""},{"$f":"IF(CPMS2!B85=\"\",\"\",CPMS2!B85)","v":""},{"$f":"IF(CPMS2!C85=\"\",\"\",CPMS2!C85)","v":""},{"$f":"IF(CPMS2!D85=\"\",\"\",CPMS2!D85)","v":""},"",{"$f":"IF(COUNTIF(AE$2:AE63,AE63)=1,AE63,\"\")","v":""},"","","",null,{"$f":"+IF(AO63=\"\",\"\",MAX(AK$1:AK62)+1)","v":""},{"$f":"IF(Compliance_Options!B85=\"\",\"\",Compliance_Options!B85)","v":""},{"$f":"IF(Compliance_Options!C85=\"\",\"\",Compliance_Options!C85)","v":""},"",{"$f":"IF(COUNTIF(AN$2:AN63,AN63)=1,AN63,\"\")","v":""},"","","",null,{"$f":"+IF(AZ63=\"\",\"\",MAX(AT$1:AT62)+1)","v":""},{"$f":"IF(Compliance_Options!B85=\"\",\"\",Compliance_Options!B85)","v":""},{"$f":"IF(Compliance_Options!C85=\"\",\"\",Compliance_Options!C85)","v":""},"",{"$f":"IF(Compliance_Options!D85=\"\",\"\",Compliance_Options!D85)","v":""},"",{"$f":"IF(COUNTIF(AY$1:AY63,AY63)=1,AY63,\"\")","v":""},"","","","",null,{"$f":"+IF(BK63=\"\",\"\",MAX(BF$1:BF62)+1)","v":""},{"$f":"IF(CPMS1!B85=\"\",\"\",CPMS1!B85)","v":""},{"$f":"IF(CPMS1!C85=\"\",\"\",CPMS1!C85)","v":""},{"$f":"IF(CPMS1!E85=\"\",\"\",CPMS1!E85)","v":""},"",{"$f":"IF(COUNTIF(BJ$2:BJ63,BJ63)=1,BJ63,\"\")","v":""},"","","","",null,{"$f":"+IF(BV63=\"\",\"\",MAX(BQ$1:BQ62)+1)","v":""},{"$f":"IF(OpLimit!B85=\"\",\"\",OpLimit!B85)","v":""},{"$f":"IF(OpLimit!C85=\"\",\"\",OpLimit!C85)","v":""},{"$f":"IF(OpLimit!E85=\"\",\"\",OpLimit!E85)","v":""},"",{"$f":"IF(COUNTIF(BU$2:BU63,BU63)=1,BU63,\"\")","v":""},"","","",""]
[null,null,null,null,null,{"$f":"+IF(I64=\"\",\"\",MAX(F$1:F63)+1)","v":""},{"$f":"IF(Compliance_Options!C86=\"\",\"\",Compliance_Options!C86)","v":""},"",{"$f":"IF(COUNTIF(G$2:G64,G64)=1,G64,\"\")","v":""},null,{"$f":"+IF(N64=\"\",\"\",MAX(K$1:K63)+1)","v":""},{"$f":"IF(CPMS1!E86=\"\",\"\",CPMS1!E86)","v":""},"",{"$f":"IF(COUNTIF(L$2:L64,L64)=1,L64,\"\")","v":""},null,"Other (Specify by typing here)",null,null,{"$f":"+IF(W64=\"\",\"\",MAX(S$1:S63)+1)","v":""},{"$f":"IF(Adhes_Sealer_Deadener!B86=\"\",\"\",Adhes_Sealer_Deadener!B86)","v":""},{"$f":"IF(Adhes_Sealer_Deadener!C86=\"\",\"\",Adhes_Sealer_Deadener!C86)","v":""},{"$f":"+Table10[[#This Row],[Column1]]&Table10[[#This Row],[Column2]]","v":""},{"$f":"IF(COUNTIF(V$2:V64,V64)=1,V64,\"\")","v":""},"","",null,{"$f":"+IF(AF64=\"\",\"\",MAX(AA$1:AA63)+1)","v":""},{"$f":"IF(CPMS2!B86=\"\",\"\",CPMS2!B86)","v":""},{"$f":"IF(CPMS2!C86=\"\",\"\",CPMS2!C86)","v":""},{"$f":"IF(CPMS2!D86=\"\",\"\",CPMS2!D86)","v":""},"",{"$f":"IF(COUNTIF(AE$2:AE64,AE64)=1,AE64,\"\")","v":""},"","","",null,{"$f":"+IF(AO64=\"\",\"\",MAX(AK$1:AK63)+1)","v":""},{"$f":"IF(Compliance_Options!B86=\"\",\"\",Compliance_Options!B86)","v":""},{"$f":"IF(Compliance_Options!C86=\"\",\"\",Compliance_Options!C86)","v":""},"",{"$f":"IF(COUNTIF(AN$2:AN64,AN64)=1,AN64,\"\")","v":""},"","","",null,{"$f":"+IF(AZ64=\"\",\"\",MAX(AT$1:AT63)+1)","v":""},{"$f":"IF(Compliance_Options!B86=\"\",\"\",Compliance_Options!B86)","v":""},{"$f":"IF(Compliance_Options!C86=\"\",\"\",Compliance_Options!C86)","v":""},"",{"$f":"IF(Compliance_Options!D86=\"\",\"\",Compliance_Options!D86)","v":""},"",{"$f":"IF(COUNTIF(AY$1:AY64,AY64)=1,AY64,\"\")","v":""},"","","","",null,{"$f":"+IF(BK64=\"\",\"\",MAX(BF$1:BF63)+1)","v":""},{"$f":"IF(CPMS1!B86=\"\",\"\",CPMS1!B86)","v":""},{"$f":"IF(CPMS1!C86=\"\",\"\",CPMS1!C86)","v":""},{"$f":"IF(CPMS1!E86=\"\",\"\",CPMS1!E86)","v":""},"",{"$f":"IF(COUNTIF(BJ$2:BJ64,BJ64)=1,BJ64,\"\")","v":""},"","","","",null,{"$f":"+IF(BV64=\"\",\"\",MAX(BQ$1:BQ63)+1)","v":""},{"$f":"IF(OpLimit!B86=\"\",\"\",OpLimit!B86)","v":""},{"$f":"IF(OpLimit!C86=\"\",\"\",OpLimit!C86)","v":""},{"$f":"IF(OpLimit!E86=\"\",\"\",OpLimit!E86)","v":""},"",{"$f":"IF(COUNTIF(BU$2:BU64,BU64)=1,BU64,\"\")","v":""},"","","",""]
[null,null,null,null,null,{"$f":"+IF(I65=\"\",\"\",MAX(F$1:F64)+1)","v":""},{"$f":"IF(Compliance_Options!C87=\"\",\"\",Compliance_Options!C87)","v":""},"",{"$f":"IF(COUNTIF(G$2:G65,G65)=1,G65,\"\")","v":""},null,{"$f":"+IF(N65=\"\",\"\",MAX(K$1:K64)+1)","v":""},{"$f":"IF(CPMS1!E87=\"\",\"\",CPMS1!E87)","v":""},"",{"$f":"IF(COUNTIF(L$2:L65,L65)=1,L65,\"\")","v":""},null,null,null,null,{"$f":"+IF(W65=\"\",\"\",MAX(S$1:S64)+1)","v":""},{"$f":"IF(Adhes_Sealer_Deadener!B87=\"\",\"\",Adhes_Sealer_Deadener!B87)","v":""},{"$f":"IF(Adhes_Sealer_Deadener!C87=\"\",\"\",Adhes_Sealer_Deadener!C87)","v":""},{"$f":"+Table10[[#This Row],[Column1]]&Table10[[#This Row],[Column2]]","v":""},{"$f":"IF(COUNTIF(V$2:V65,V65)=1,V65,\"\")","v":""},"","",null,{"$f":"+IF(AF65=\"\",\"\",MAX(AA$1:AA64)+1)","v":""},{"$f":"IF(CPMS2!B87=\"\",\"\",CPMS2!B87)","v":""},{"$f":"IF(CPMS2!C87=\"\",\"\",CPMS2!C87)","v":""},{"$f":"IF(CPMS2!D87=\"\",\"\",CPMS2!D87)","v":""},"",{"$f":"IF(COUNTIF(AE$2:AE65,AE65)=1,AE65,\"\")","v":""},"","","",null,{"$f":"+IF(AO65=\"\",\"\",MAX(AK$1:AK64)+1)","v":""},{"$f":"IF(Compliance_Options!B87=\"\",\"\",Compliance_Options!B87)","v":""},{"$f":"IF(Compliance_Options!C87=\"\",\"\",Compliance_Options!C87)","v":""},"",{"$f":"IF(COUNTIF(AN$2:AN65,AN65)=1,AN65,\"\")","v":""},"","","",null,{"$f":"+IF(AZ65=\"\",\"\",MAX(AT$1:AT64)+1)","v":""},{"$f":"IF(Compliance_Options!B87=\"\",\"\",Compliance_Options!B87)","v":""},{"$f":"IF(Compliance_Options!C87=\"\",\"\",Compliance_Options!C87)","v":""},"",{"$f":"IF(Compliance_Options!D87=\"\",\"\",Compliance_Options!D87)","v":""},"",{"$f":"IF(COUNTIF(AY$1:AY65,AY65)=1,AY65,\"\")","v":""},"","","","",null,{"$f":"+IF(BK65=\"\",\"\",MAX(BF$1:BF64)+1)","v":""},{"$f":"IF(CPMS1!B87=\"\",\"\",CPMS1!B87)","v":""},{"$f":"IF(CPMS1!C87=\"\",\"\",CPMS1!C87)","v":""},{"$f":"IF(CPMS1!E87=\"\",\"\",CPMS1!E87)","v":""},"",{"$f":"IF(COUNTIF(BJ$2:BJ65,BJ65)=1,BJ65,\"\")","v":""},"","","","",null,{"$f":"+IF(BV65=\"\",\"\",MAX(BQ$1:BQ64)+1)","v":""},{"$f":"IF(OpLimit!B87=\"\",\"\",OpLimit!B87)","v":""},{"$f":"IF(OpLimit!C87=\"\",\"\",OpLimit!C87)","v":""},{"$f":"IF(OpLimit!E87=\"\",\"\",OpLimit!E87)","v":""},"",{"$f":"IF(COUNTIF(BU$2:BU65,BU65)=1,BU65,\"\")","v":""},"","","",""]
[null,null,null,null,null,{"$f":"+IF(I66=\"\",\"\",MAX(F$1:F65)+1)","v":""},{"$f":"IF(Compliance_Options!C88=\"\",\"\",Compliance_Options!C88)","v":""},{"$f":"+IFERROR(INDEX($G$2:$G$101,MATCH(ROW()-ROW($H$1),$F$2:$F$101,0)),\"\")","v":""},{"$f":"IF(COUNTIF(G$2:G66,G66)=1,G66,\"\")","v":""},null,{"$f":"+IF(N66=\"\",\"\",MAX(K$1:K65)+1)","v":""},{"$f":"IF(CPMS1!E88=\"\",\"\",CPMS1!E88)","v":""},{"$f":"+IFERROR(INDEX($L$2:$L$501,MATCH(ROW()-ROW($M$1),$K$2:$K$501,0)),\"\")","v":""},{"$f":"IF(COUNTIF(L$2:L66,L66)=1,L66,\"\")","v":""},null,null,null,null,{"$f":"+IF(W66=\"\",\"\",MAX(S$1:S65)+1)","v":""},{"$f":"IF(Adhes_Sealer_Deadener!B88=\"\",\"\",Adhes_Sealer_Deadener!B88)","v":""},{"$f":"IF(Adhes_Sealer_Deadener!C88=\"\",\"\",Adhes_Sealer_Deadener!C88)","v":""},{"$f":"+Table10[[#This Row],[Column1]]&Table10[[#This Row],[Column2]]","v":""},{"$f":"IF(COUNTIF(V$2:V66,V66)=1,V66,\"\")","v":""},"","",null,{"$f":"+IF(AF66=\"\",\"\",MAX(AA$1:AA65)+1)","v":""},{"$f":"IF(CPMS2!B88=\"\",\"\",CPMS2!B88)","v":""},{"$f":"IF(CPMS2!C88=\"\",\"\",CPMS2!C88)","v":""},{"$f":"IF(CPMS2!D88=\"\",\"\",CPMS2!D88)","v":""},"",{"$f":"IF(COUNTIF(AE$2:AE66,AE66)=1,AE66,\"\")","v":""},"","","",null,{"$f":"+IF(AO66=\"\",\"\",MAX(AK$1:AK65)+1)","v":""},{"$f":"IF(Compliance_Options!B88=\"\",\"\",Compliance_Options!B88)","v":""},{"$f":"IF(Compliance_Options!C88=\"\",\"\",Compliance_Options!C88)","v":""},"",{"$f":"IF(COUNTIF(AN$2:AN66,AN66)=1,AN66,\"\")","v":""},"","","",null,{"$f":"+IF(AZ66=\"\",\"\",MAX(AT$1:AT65)+1)","v":""},{"$f":"IF(Compliance_Options!B88=\"\",\"\",Compliance_Options!B88)","v":""},{"$f":"IF(Compliance_Options!C88=\"\",\"\",Compliance_Options!C88)","v":""},"",{"$f":"IF(Compliance_Options!D88=\"\",\"\",Compliance_Options!D88)","v":""},"",{"$f":"IF(COUNTIF(AY$1:AY66,AY66)=1,AY66,\"\")","v":""},"","","","",null,{"$f":"+IF(BK66=\"\",\"\",MAX(BF$1:BF65)+1)","v":""},{"$f":"IF(CPMS1!B88=\"\",\"\",CPMS1!B88)","v":""},{"$f":"IF(CPMS1!C88=\"\",\"\",CPMS1!C88)","v":""},{"$f":"IF(CPMS1!E88=\"\",\"\",CPMS1!E88)","v":""},"",{"$f":"IF(COUNTIF(BJ$2:BJ66,BJ66)=1,BJ66,\"\")","v":""},"","","","",null,{"$f":"+IF(BV66=\"\",\"\",MAX(BQ$1:BQ65)+1)","v":""},{"$f":"IF(OpLimit!B88=\"\",\"\",OpLimit!B88)","v":""},{"$f":"IF(OpLimit!C88=\"\",\"\",OpLimit!C88)","v":""},{"$f":"IF(OpLimit!E88=\"\",\"\",OpLimit!E88)","v":""},"",{"$f":"IF(COUNTIF(BU$2:BU66,BU66)=1,BU66,\"\")","v":""},"","","",""]
[null,null,null,null,null,{"$f":"+IF(I67=\"\",\"\",MAX(F$1:F66)+1)","v":""},{"$f":"IF(Compliance_Options!C89=\"\",\"\",Compliance_Options!C89)","v":""},"",{"$f":"IF(COUNTIF(G$2:G67,G67)=1,G67,\"\")","v":""},null,{"$f":"+IF(N67=\"\",\"\",MAX(K$1:K66)+1)","v":""},{"$f":"IF(CPMS1!E89=\"\",\"\",CPMS1!E89)","v":""},"",{"$f":"IF(COUNTIF(L$2:L67,L67)=1,L67,\"\")","v":""},null,null,null,null,{"$f":"+IF(W67=\"\",\"\",MAX(S$1:S66)+1)","v":""},{"$f":"IF(Adhes_Sealer_Deadener!B89=\"\",\"\",Adhes_Sealer_Deadener!B89)","v":""},{"$f":"IF(Adhes_Sealer_Deadener!C89=\"\",\"\",Adhes_Sealer_Deadener!C89)","v":""},{"$f":"+Table10[[#This Row],[Column1]]&Table10[[#This Row],[Column2]]","v":""},{"$f":"IF(COUNTIF(V$2:V67,V67)=1,V67,\"\")","v":""},"","",null,{"$f":"+IF(AF67=\"\",\"\",MAX(AA$1:AA66)+1)","v":""},{"$f":"IF(CPMS2!B89=\"\",\"\",CPMS2!B89)","v":""},{"$f":"IF(CPMS2!C89=\"\",\"\",CPMS2!C89)","v":""},{"$f":"IF(CPMS2!D89=\"\",\"\",CPMS2!D89)","v":""},{"$f":"AB67&AC67&AD67","v":""},{"$f":"IF(COUNTIF(AE$2:AE67,AE67)=1,AE67,\"\")","v":""},{"$f":"+IFERROR(INDEX($AB$2:$AB$478,MATCH(ROW()-ROW($AF$1),$AA$2:$AA$478,0)),\"\")","v":""},{"$f":"+IFERROR(INDEX($AC$2:$AC$478,MATCH(ROW()-ROW($AF$1),$AA$2:$AA$478,0)),\"\")","v":""},{"$f":"+IFERROR(INDEX($AD$2:$AD$478,MATCH(ROW()-ROW($AF$1),$AA$2:$AA$478,0)),\"\")","v":""},null,{"$f":"+IF(AO67=\"\",\"\",MAX(AK$1:AK66)+1)","v":""},{"$f":"IF(Compliance_Options!B89=\"\",\"\",Compliance_Options!B89)","v":""},{"$f":"IF(Compliance_Options!C89=\"\",\"\",Compliance_Options!C89)","v":""},{"$f":"AL67&AM67","v":""},{"$f":"IF(COUNTIF(AN$2:AN67,AN67)=1,AN67,\"\")","v":""},{"$f":"IF(AQ67=\"\",\"\",AQ67&\" \"&AR67)","v":""},{"$f":"+IFERROR(INDEX($AL$2:$AL$478,MATCH(ROW()-ROW($AN$1),$AK$2:$AK$478,0)),\"\")","v":""},{"$f":"+IFERROR(INDEX($AM$2:$AM$478,MATCH(ROW()-ROW($AO$1),$AK$2:$AK$478,0)),\"\")","v":""},null,{"$f":"+IF(AZ67=\"\",\"\",MAX(AT$1:AT66)+1)","v":""},{"$f":"IF(Compliance_Options!B89=\"\",\"\",Compliance_Options!B89)","v":""},{"$f":"IF(Compliance_Options!C89=\"\",\"\",Compliance_Options!C89)","v":""},{"$f":"IF(AX67=\"\",\"\",LEFT(AX67,10))","v":""},{"$f":"IF(Compliance_Options!D89=\"\",\"\",Compliance_Options!D89)","v":""},{"$f":"AU67&AV67&AW67","v":""},{"$f":"IF(COUNTIF(AY$1:AY67,AY67)=1,AY67,\"\")","v":""},{"$f":"IF(BB67=\"\",\"\",BB67&\" \"&BC67&\" \"&BD67)","v":""},{"$f":"+IFERROR(INDEX($AU$2:$AU$478,MATCH(ROW()-ROW($AZ$1),$AT$2:$AT$478,0)),\"\")","v":""},{"$f":"+IFERROR(INDEX($AV$2:$AV$478,MATCH(ROW()-ROW($AZ$1),$AT$2:$AT$478,0)),\"\")","v":""},{"$f":"+IFERROR(INDEX($AX$2:$AX$478,MATCH(ROW()-ROW($AZ$1),$AT$2:$AT$478,0)),\"\")","v":""},null,{"$f":"+IF(BK67=\"\",\"\",MAX(BF$1:BF66)+1)","v":""},{"$f":"IF(CPMS1!B89=\"\",\"\",CPMS1!B89)","v":""},{"$f":"IF(CPMS1!C89=\"\",\"\",CPMS1!C89)","v":""},{"$f":"IF(CPMS1!E89=\"\",\"\",CPMS1!E89)","v":""},{"$f":"BG67&BH67&BI67","v":""},{"$f":"IF(COUNTIF(BJ$2:BJ67,BJ67)=1,BJ67,\"\")","v":""},{"$f":"IF(BM67=\"\",\"\",BM67&\" \"&BN67&\" \"&BO67)","v":""},{"$f":"+IFERROR(INDEX($BG$2:$BG$478,MATCH(ROW()-ROW($BK$1),$BF$2:$BF$478,0)),\"\")","v":""},{"$f":"+IFERROR(INDEX($BH$2:$BH$478,MATCH(ROW()-ROW($BK$1),$BF$2:$BF$478,0)),\"\")","v":""},{"$f":"+IFERROR(INDEX($BI$2:$BI$478,MATCH(ROW()-ROW($BK$1),$BF$2:$BF$478,0)),\"\")","v":""},null,{"$f":"+IF(BV67=\"\",\"\",MAX(BQ$1:BQ66)+1)","v":""},{"$f":"IF(OpLimit!B89=\"\",\"\",OpLimit!B89)","v":""},{"$f":"IF(OpLimit!C89=\"\",\"\",OpLimit!C89)","v":""},{"$f":"IF(OpLimit!E89=\"\",\"\",OpLimit!E89)","v":""},{"$f":"BR67&BS67&BT67","v":""},{"$f":"IF(COUNTIF(BU$2:BU67,BU67)=1,BU67,\"\")","v":""},{"$f":"IF(BX67=\"\",\"\",BX67&\" \"&BY67&\" \"&BZ67)","v":""},{"$f":"+IFERROR(INDEX($BR$2:$BR$478,MATCH(ROW()-ROW($BV$1),$BQ$2:$BQ$478,0)),\"\")","v":""},{"$f":"+IFERROR(INDEX($BS$2:$BS$478,MATCH(ROW()-ROW($BV$1),$BQ$2:$BQ$478,0)),\"\")","v":""},{"$f":"+IFERROR(INDEX($BT$2:$BT$478,MATCH(ROW()-ROW($BV$1),$BQ$2:$BQ$478,0)),\"\")","v":""}]
[null,null,null,null,null,{"$f":"+IF(I68=\"\",\"\",MAX(F$1:F67)+1)","v":""},{"$f":"IF(Compliance_Options!C90=\"\",\"\",Compliance_Options!C90)","v":""},"",{"$f":"IF(COUNTIF(G$2:G68,G68)=1,G68,\"\")","v":""},null,{"$f":"+IF(N68=\"\",\"\",MAX(K$1:K67)+1)","v":""},{"$f":"IF(CPMS1!E90=\"\",\"\",CPMS1!E90)","v":""},"",{"$f":"IF(COUNTIF(L$2:L68,L68)=1,L68,\"\")","v":""},null,null,null,null,{"$f":"+IF(W68=\"\",\"\",MAX(S$1:S67)+1)","v":""},{"$f":"IF(Adhes_Sealer_Deadener!B90=\"\",\"\",Adhes_Sealer_Deadener!B90)","v":""},{"$f":"IF(Adhes_Sealer_Deadener!C90=\"\",\"\",Adhes_Sealer_Deadener!C90)","v":""},{"$f":"+Table10[[#This Row],[Column1]]&Table10[[#This Row],[Column2]]","v":""},{"$f":"IF(COUNTIF(V$2:V68,V68)=1,V68,\"\")","v":""},"","",null,{"$f":"+IF(AF68=\"\",\"\",MAX(AA$1:AA67)+1)","v":""},{"$f":"IF(CPMS2!B90=\"\",\"\",CPMS2!B90)","v":""},{"$f":"IF(CPMS2!C90=\"\",\"\",CPMS2!C90)","v":""},{"$f":"IF(CPMS2!D90=\"\",\"\",CPMS2!D90)","v":""},"",{"$f":"IF(COUNTIF(AE$2:AE68,AE68)=1,AE68,\"\")","v":""},"","","",null,{"$f":"+IF(AO68=\"\",\"\",MAX(AK$1:AK67)+1)","v":""},{"$f":"IF(Compliance_Options!B90=\"\",\"\",Compliance_Options!B90)","v":""},{"$f":"IF(Compliance_Options!C90=\"\",\"\",Compliance_Options!C90)","v":""},"",{"$f":"IF(COUNTIF(AN$2:AN68,AN68)=1,AN68,\"\")","v":""},"","","",null,{"$f":"+IF(AZ68=\"\",\"\",MAX(AT$1:AT67)+1)","v":""},{"$f":"IF(Compliance_Options!B90=\"\",\"\",Compliance_Options!B90)","v":""},{"$f":"IF(Compliance_Options!C90=\"\",\"\",Compliance_Options!C90)","v":""},"",{"$f":"IF(Compliance_Options!D90=\"\",\"\",Compliance_Options!D90)","v":""},"",{"$f":"IF(COUNTIF(AY$1:AY68,AY68)=1,AY68,\"\")","v":""},"","","","",null,{"$f":"+IF(BK68=\"\",\"\",MAX(BF$1:BF67)+1)","v":""},{"$f":"IF(CPMS1!B90=\"\",\"\",CPMS1!B90)","v":""},{"$f":"IF(CPMS1!C90=\"\",\"\",CPMS1!C90)","v":""},{"$f":"IF(CPMS1!E90=\"\",\"\",CPMS1!E90)","v":""},"",{"$f":"IF(COUNTIF(BJ$2:BJ68,BJ68)=1,BJ68,\"\")","v":""},"","","","",null,{"$f":"+IF(BV68=\"\",\"\",MAX(BQ$1:BQ67)+1)","v":""},{"$f":"IF(OpLimit!B90=\"\",\"\",OpLimit!B90)","v":""},{"$f":"IF(OpLimit!C90=\"\",\"\",OpLimit!C90)","v":""},{"$f":"IF(OpLimit!E90=\"\",\"\",OpLimit!E90)","v":""},"",{"$f":"IF(COUNTIF(BU$2:BU68,BU68)=1,BU68,\"\")","v":""},"","","",""]
[null,null,null,null,null,{"$f":"+IF(I69=\"\",\"\",MAX(F$1:F68)+1)","v":""},{"$f":"IF(Compliance_Options!C91=\"\",\"\",Compliance_Options!C91)","v":""},"",{"$f":"IF(COUNTIF(G$2:G69,G69)=1,G69,\"\")","v":""},null,{"$f":"+IF(N69=\"\",\"\",MAX(K$1:K68)+1)","v":""},{"$f":"IF(CPMS1!E91=\"\",\"\",CPMS1!E91)","v":""},"",{"$f":"IF(COUNTIF(L$2:L69,L69)=1,L69,\"\")","v":""},null,null,null,null,{"$f":"+IF(W69=\"\",\"\",MAX(S$1:S68)+1)","v":""},{"$f":"IF(Adhes_Sealer_Deadener!B91=\"\",\"\",Adhes_Sealer_Deadener!B91)","v":""},{"$f":"IF(Adhes_Sealer_Deadener!C91=\"\",\"\",Adhes_Sealer_Deadener!C91)","v":""},{"$f":"+Table10[[#This Row],[Column1]]&Table10[[#This Row],[Column2]]","v":""},{"$f":"IF(COUNTIF(V$2:V69,V69)=1,V69,\"\")","v":""},"","",null,{"$f":"+IF(AF69=\"\",\"\",MAX(AA$1:AA68)+1)","v":""},{"$f":"IF(CPMS2!B91=\"\",\"\",CPMS2!B91)","v":""},{"$f":"IF(CPMS2!C91=\"\",\"\",CPMS2!C91)","v":""},{"$f":"IF(CPMS2!D91=\"\",\"\",CPMS2!D91)","v":""},"",{"$f":"IF(COUNTIF(AE$2:AE69,AE69)=1,AE69,\"\")","v":""},"","","",null,{"$f":"+IF(AO69=\"\",\"\",MAX(AK$1:AK68)+1)","v":""},{"$f":"IF(Compliance_Options!B91=\"\",\"\",Compliance_Options!B91)","v":""},{"$f":"IF(Compliance_Options!C91=\"\",\"\",Compliance_Options!C91)","v":""},"",{"$f":"IF(COUNTIF(AN$2:AN69,AN69)=1,AN69,\"\")","v":""},"","","",null,{"$f":"+IF(AZ69=\"\",\"\",MAX(AT$1:AT68)+1)","v":""},{"$f":"IF(Compliance_Options!B91=\"\",\"\",Compliance_Options!B91)","v":""},{"$f":"IF(Compliance_Options!C91=\"\",\"\",Compliance_Options!C91)","v":""},"",{"$f":"IF(Compliance_Options!D91=\"\",\"\",Compliance_Options!D91)","v":""},"",{"$f":"IF(COUNTIF(AY$1:AY69,AY69)=1,AY69,\"\")","v":""},"","","","",null,{"$f":"+IF(BK69=\"\",\"\",MAX(BF$1:BF68)+1)","v":""},{"$f":"IF(CPMS1!B91=\"\",\"\",CPMS1!B91)","v":""},{"$f":"IF(CPMS1!C91=\"\",\"\",CPMS1!C91)","v":""},{"$f":"IF(CPMS1!E91=\"\",\"\",CPMS1!E91)","v":""},"",{"$f":"IF(COUNTIF(BJ$2:BJ69,BJ69)=1,BJ69,\"\")","v":""},"","","","",null,{"$f":"+IF(BV69=\"\",\"\",MAX(BQ$1:BQ68)+1)","v":""},{"$f":"IF(OpLimit!B91=\"\",\"\",OpLimit!B91)","v":""},{"$f":"IF(OpLimit!C91=\"\",\"\",OpLimit!C91)","v":""},{"$f":"IF(OpLimit!E91=\"\",\"\",OpLimit!E91)","v":""},"",{"$f":"IF(COUNTIF(BU$2:BU69,BU69)=1,BU69,\"\")","v":""},"","","",""]
[null,null,null,null,null,{"$f":"+IF(I70=\"\",\"\",MAX(F$1:F69)+1)","v":""},{"$f":"IF(Compliance_Options!C92=\"\",\"\",Compliance_Options!C92)","v":""},"",{"$f":"IF(COUNTIF(G$2:G70,G70)=1,G70,\"\")","v":""},null,{"$f":"+IF(N70=\"\",\"\",MAX(K$1:K69)+1)","v":""},{"$f":"IF(CPMS1!E92=\"\",\"\",CPMS1!E92)","v":""},"",{"$f":"IF(COUNTIF(L$2:L70,L70)=1,L70,\"\")","v":""},null,null,null,null,{"$f":"+IF(W70=\"\",\"\",MAX(S$1:S69)+1)","v":""},{"$f":"IF(Adhes_Sealer_Deadener!B92=\"\",\"\",Adhes_Sealer_Deadener!B92)","v":""},{"$f":"IF(Adhes_Sealer_Deadener!C92=\"\",\"\",Adhes_Sealer_Deadener!C92)","v":""},{"$f":"+Table10[[#This Row],[Column1]]&Table10[[#This Row],[Column2]]","v":""},{"$f":"IF(COUNTIF(V$2:V70,V70)=1,V70,\"\")","v":""},"","",null,{"$f":"+IF(AF70=\"\",\"\",MAX(AA$1:AA69)+1)","v":""},{"$f":"IF(CPMS2!B92=\"\",\"\",CPMS2!B92)","v":""},{"$f":"IF(CPMS2!C92=\"\",\"\",CPMS2!C92)","v":""},{"$f":"IF(CPMS2!D92=\"\",\"\",CPMS2!D92)","v":""},"",{"$f":"IF(COUNTIF(AE$2:AE70,AE70)=1,AE70,\"\")","v":""},"","","",null,{"$f":"+IF(AO70=\"\",\"\",MAX(AK$1:AK69)+1)","v":""},{"$f":"IF(Compliance_Options!B92=\"\",\"\",Compliance_Options!B92)","v":""},{"$f":"IF(Compliance_Options!C92=\"\",\"\",Compliance_Options!C92)","v":""},"",{"$f":"IF(COUNTIF(AN$2:AN70,AN70)=1,AN70,\"\")","v":""},"","","",null,{"$f":"+IF(AZ70=\"\",\"\",MAX(AT$1:AT69)+1)","v":""},{"$f":"IF(Compliance_Options!B92=\"\",\"\",Compliance_Options!B92)","v":""},{"$f":"IF(Compliance_Options!C92=\"\",\"\",Compliance_Options!C92)","v":""},"",{"$f":"IF(Compliance_Options!D92=\"\",\"\",Compliance_Options!D92)","v":""},"",{"$f":"IF(COUNTIF(AY$1:AY70,AY70)=1,AY70,\"\")","v":""},"","","","",null,{"$f":"+IF(BK70=\"\",\"\",MAX(BF$1:BF69)+1)","v":""},{"$f":"IF(CPMS1!B92=\"\",\"\",CPMS1!B92)","v":""},{"$f":"IF(CPMS1!C92=\"\",\"\",CPMS1!C92)","v":""},{"$f":"IF(CPMS1!E92=\"\",\"\",CPMS1!E92)","v":""},"",{"$f":"IF(COUNTIF(BJ$2:BJ70,BJ70)=1,BJ70,\"\")","v":""},"","","","",null,{"$f":"+IF(BV70=\"\",\"\",MAX(BQ$1:BQ69)+1)","v":""},{"$f":"IF(OpLimit!B92=\"\",\"\",OpLimit!B92)","v":""},{"$f":"IF(OpLimit!C92=\"\",\"\",OpLimit!C92)","v":""},{"$f":"IF(OpLimit!E92=\"\",\"\",OpLimit!E92)","v":""},"",{"$f":"IF(COUNTIF(BU$2:BU70,BU70)=1,BU70,\"\")","v":""},"","","",""]
[null,null,null,null,null,{"$f":"+IF(I71=\"\",\"\",MAX(F$1:F70)+1)","v":""},{"$f":"IF(Compliance_Options!C93=\"\",\"\",Compliance_Options!C93)","v":""},"",{"$f":"IF(COUNTIF(G$2:G71,G71)=1,G71,\"\")","v":""},null,{"$f":"+IF(N71=\"\",\"\",MAX(K$1:K70)+1)","v":""},{"$f":"IF(CPMS1!E93=\"\",\"\",CPMS1!E93)","v":""},"",{"$f":"IF(COUNTIF(L$2:L71,L71)=1,L71,\"\")","v":""},null,null,null,null,{"$f":"+IF(W71=\"\",\"\",MAX(S$1:S70)+1)","v":""},{"$f":"IF(Adhes_Sealer_Deadener!B93=\"\",\"\",Adhes_Sealer_Deadener!B93)","v":""},{"$f":"IF(Adhes_Sealer_Deadener!C93=\"\",\"\",Adhes_Sealer_Deadener!C93)","v":""},{"$f":"+Table10[[#This Row],[Column1]]&Table10[[#This Row],[Column2]]","v":""},{"$f":"IF(COUNTIF(V$2:V71,V71)=1,V71,\"\")","v":""},"","",null,{"$f":"+IF(AF71=\"\",\"\",MAX(AA$1:AA70)+1)","v":""},{"$f":"IF(CPMS2!B93=\"\",\"\",CPMS2!B93)","v":""},{"$f":"IF(CPMS2!C93=\"\",\"\",CPMS2!C93)","v":""},{"$f":"IF(CPMS2!D93=\"\",\"\",CPMS2!D93)","v":""},"",{"$f":"IF(COUNTIF(AE$2:AE71,AE71)=1,AE71,\"\")","v":""},"","","",null,{"$f":"+IF(AO71=\"\",\"\",MAX(AK$1:AK70)+1)","v":""},{"$f":"IF(Compliance_Options!B93=\"\",\"\",Compliance_Options!B93)","v":""},{"$f":"IF(Compliance_Options!C93=\"\",\"\",Compliance_Options!C93)","v":""},"",{"$f":"IF(COUNTIF(AN$2:AN71,AN71)=1,AN71,\"\")","v":""},"","","",null,{"$f":"+IF(AZ71=\"\",\"\",MAX(AT$1:AT70)+1)","v":""},{"$f":"IF(Compliance_Options!B93=\"\",\"\",Compliance_Options!B93)","v":""},{"$f":"IF(Compliance_Options!C93=\"\",\"\",Compliance_Options!C93)","v":""},"",{"$f":"IF(Compliance_Options!D93=\"\",\"\",Compliance_Options!D93)","v":""},"",{"$f":"IF(COUNTIF(AY$1:AY71,AY71)=1,AY71,\"\")","v":""},"","","","",null,{"$f":"+IF(BK71=\"\",\"\",MAX(BF$1:BF70)+1)","v":""},{"$f":"IF(CPMS1!B93=\"\",\"\",CPMS1!B93)","v":""},{"$f":"IF(CPMS1!C93=\"\",\"\",CPMS1!C93)","v":""},{"$f":"IF(CPMS1!E93=\"\",\"\",CPMS1!E93)","v":""},"",{"$f":"IF(COUNTIF(BJ$2:BJ71,BJ71)=1,BJ71,\"\")","v":""},"","","","",null,{"$f":"+IF(BV71=\"\",\"\",MAX(BQ$1:BQ70)+1)","v":""},{"$f":"IF(OpLimit!B93=\"\",\"\",OpLimit!B93)","v":""},{"$f":"IF(OpLimit!C93=\"\",\"\",OpLimit!C93)","v":""},{"$f":"IF(OpLimit!E93=\"\",\"\",OpLimit!E93)","v":""},"",{"$f":"IF(COUNTIF(BU$2:BU71,BU71)=1,BU71,\"\")","v":""},"","","",""]
[null,null,null,null,null,{"$f":"+IF(I72=\"\",\"\",MAX(F$1:F71)+1)","v":""},{"$f":"IF(Compliance_Options!C94=\"\",\"\",Compliance_Options!C94)","v":""},"",{"$f":"IF(COUNTIF(G$2:G72,G72)=1,G72,\"\")","v":""},null,{"$f":"+IF(N72=\"\",\"\",MAX(K$1:K71)+1)","v":""},{"$f":"IF(CPMS1!E94=\"\",\"\",CPMS1!E94)","v":""},"",{"$f":"IF(COUNTIF(L$2:L72,L72)=1,L72,\"\")","v":""},null,null,null,null,{"$f":"+IF(W72=\"\",\"\",MAX(S$1:S71)+1)","v":""},{"$f":"IF(Adhes_Sealer_Deadener!B94=\"\",\"\",Adhes_Sealer_Deadener!B94)","v":""},{"$f":"IF(Adhes_Sealer_Deadener!C94=\"\",\"\",Adhes_Sealer_Deadener!C94)","v":""},{"$f":"+Table10[[#This Row],[Column1]]&Table10[[#This Row],[Column2]]","v":""},{"$f":"IF(COUNTIF(V$2:V72,V72)=1,V72,\"\")","v":""},"","",null,{"$f":"+IF(AF72=\"\",\"\",MAX(AA$1:AA71)+1)","v":""},{"$f":"IF(CPMS2!B94=\"\",\"\",CPMS2!B94)","v":""},{"$f":"IF(CPMS2!C94=\"\",\"\",CPMS2!C94)","v":""},{"$f":"IF(CPMS2!D94=\"\",\"\",CPMS2!D94)","v":""},"",{"$f":"IF(COUNTIF(AE$2:AE72,AE72)=1,AE72,\"\")","v":""},"","","",null,{"$f":"+IF(AO72=\"\",\"\",MAX(AK$1:AK71)+1)","v":""},{"$f":"IF(Compliance_Options!B94=\"\",\"\",Compliance_Options!B94)","v":""},{"$f":"IF(Compliance_Options!C94=\"\",\"\",Compliance_Options!C94)","v":""},"",{"$f":"IF(COUNTIF(AN$2:AN72,AN72)=1,AN72,\"\")","v":""},"","","",null,{"$f":"+IF(AZ72=\"\",\"\",MAX(AT$1:AT71)+1)","v":""},{"$f":"IF(Compliance_Options!B94=\"\",\"\",Compliance_Options!B94)","v":""},{"$f":"IF(Compliance_Options!C94=\"\",\"\",Compliance_Options!C94)","v":""},"",{"$f":"IF(Compliance_Options!D94=\"\",\"\",Compliance_Options!D94)","v":""},"",{"$f":"IF(COUNTIF(AY$1:AY72,AY72)=1,AY72,\"\")","v":""},"","","","",null,{"$f":"+IF(BK72=\"\",\"\",MAX(BF$1:BF71)+1)","v":""},{"$f":"IF(CPMS1!B94=\"\",\"\",CPMS1!B94)","v":""},{"$f":"IF(CPMS1!C94=\"\",\"\",CPMS1!C94)","v":""},{"$f":"IF(CPMS1!E94=\"\",\"\",CPMS1!E94)","v":""},"",{"$f":"IF(COUNTIF(BJ$2:BJ72,BJ72)=1,BJ72,\"\")","v":""},"","","","",null,{"$f":"+IF(BV72=\"\",\"\",MAX(BQ$1:BQ71)+1)","v":""},{"$f":"IF(OpLimit!B94=\"\",\"\",OpLimit!B94)","v":""},{"$f":"IF(OpLimit!C94=\"\",\"\",OpLimit!C94)","v":""},{"$f":"IF(OpLimit!E94=\"\",\"\",OpLimit!E94)","v":""},"",{"$f":"IF(COUNTIF(BU$2:BU72,BU72)=1,BU72,\"\")","v":""},"","","",""]
[null,null,null,null,null,{"$f":"+IF(I73=\"\",\"\",MAX(F$1:F72)+1)","v":""},{"$f":"IF(Compliance_Options!C95=\"\",\"\",Compliance_Options!C95)","v":""},"",{"$f":"IF(COUNTIF(G$2:G73,G73)=1,G73,\"\")","v":""},null,{"$f":"+IF(N73=\"\",\"\",MAX(K$1:K72)+1)","v":""},{"$f":"IF(CPMS1!E95=\"\",\"\",CPMS1!E95)","v":""},"",{"$f":"IF(COUNTIF(L$2:L73,L73)=1,L73,\"\")","v":""},null,null,null,null,{"$f":"+IF(W73=\"\",\"\",MAX(S$1:S72)+1)","v":""},{"$f":"IF(Adhes_Sealer_Deadener!B95=\"\",\"\",Adhes_Sealer_Deadener!B95)","v":""},{"$f":"IF(Adhes_Sealer_Deadener!C95=\"\",\"\",Adhes_Sealer_Deadener!C95)","v":""},{"$f":"+Table10[[#This Row],[Column1]]&Table10[[#This Row],[Column2]]","v":""},{"$f":"IF(COUNTIF(V$2:V73,V73)=1,V73,\"\")","v":""},"","",null,{"$f":"+IF(AF73=\"\",\"\",MAX(AA$1:AA72)+1)","v":""},{"$f":"IF(CPMS2!B95=\"\",\"\",CPMS2!B95)","v":""},{"$f":"IF(CPMS2!C95=\"\",\"\",CPMS2!C95)","v":""},{"$f":"IF(CPMS2!D95=\"\",\"\",CPMS2!D95)","v":""},"",{"$f":"IF(COUNTIF(AE$2:AE73,AE73)=1,AE73,\"\")","v":""},"","","",null,{"$f":"+IF(AO73=\"\",\"\",MAX(AK$1:AK72)+1)","v":""},{"$f":"IF(Compliance_Options!B95=\"\",\"\",Compliance_Options!B95)","v":""},{"$f":"IF(Compliance_Options!C95=\"\",\"\",Compliance_Options!C95)","v":""},"",{"$f":"IF(COUNTIF(AN$2:AN73,AN73)=1,AN73,\"\")","v":""},"","","",null,{"$f":"+IF(AZ73=\"\",\"\",MAX(AT$1:AT72)+1)","v":""},{"$f":"IF(Compliance_Options!B95=\"\",\"\",Compliance_Options!B95)","v":""},{"$f":"IF(Compliance_Options!C95=\"\",\"\",Compliance_Options!C95)","v":""},"",{"$f":"IF(Compliance_Options!D95=\"\",\"\",Compliance_Options!D95)","v":""},"",{"$f":"IF(COUNTIF(AY$1:AY73,AY73)=1,AY73,\"\")","v":""},"","","","",null,{"$f":"+IF(BK73=\"\",\"\",MAX(BF$1:BF72)+1)","v":""},{"$f":"IF(CPMS1!B95=\"\",\"\",CPMS1!B95)","v":""},{"$f":"IF(CPMS1!C95=\"\",\"\",CPMS1!C95)","v":""},{"$f":"IF(CPMS1!E95=\"\",\"\",CPMS1!E95)","v":""},"",{"$f":"IF(COUNTIF(BJ$2:BJ73,BJ73)=1,BJ73,\"\")","v":""},"","","","",null,{"$f":"+IF(BV73=\"\",\"\",MAX(BQ$1:BQ72)+1)","v":""},{"$f":"IF(OpLimit!B95=\"\",\"\",OpLimit!B95)","v":""},{"$f":"IF(OpLimit!C95=\"\",\"\",OpLimit!C95)","v":""},{"$f":"IF(OpLimit!E95=\"\",\"\",OpLimit!E95)","v":""},"",{"$f":"IF(COUNTIF(BU$2:BU73,BU73)=1,BU73,\"\")","v":""},"","","",""]
[null,null,null,null,null,{"$f":"+IF(I74=\"\",\"\",MAX(F$1:F73)+1)","v":""},{"$f":"IF(Compliance_Options!C96=\"\",\"\",Compliance_Options!C96)","v":""},"",{"$f":"IF(COUNTIF(G$2:G74,G74)=1,G74,\"\")","v":""},null,{"$f":"+IF(N74=\"\",\"\",MAX(K$1:K73)+1)","v":""},{"$f":"IF(CPMS1!E96=\"\",\"\",CPMS1!E96)","v":""},"",{"$f":"IF(COUNTIF(L$2:L74,L74)=1,L74,\"\")","v":""},null,null,null,null,{"$f":"+IF(W74=\"\",\"\",MAX(S$1:S73)+1)","v":""},{"$f":"IF(Adhes_Sealer_Deadener!B96=\"\",\"\",Adhes_Sealer_Deadener!B96)","v":""},{"$f":"IF(Adhes_Sealer_Deadener!C96=\"\",\"\",Adhes_Sealer_Deadener!C96)","v":""},{"$f":"+Table10[[#This Row],[Column1]]&Table10[[#This Row],[Column2]]","v":""},{"$f":"IF(COUNTIF(V$2:V74,V74)=1,V74,\"\")","v":""},"","",null,{"$f":"+IF(AF74=\"\",\"\",MAX(AA$1:AA73)+1)","v":""},{"$f":"IF(CPMS2!B96=\"\",\"\",CPMS2!B96)","v":""},{"$f":"IF(CPMS2!C96=\"\",\"\",CPMS2!C96)","v":""},{"$f":"IF(CPMS2!D96=\"\",\"\",CPMS2!D96)","v":""},"",{"$f":"IF(COUNTIF(AE$2:AE74,AE74)=1,AE74,\"\")","v":""},"","","",null,{"$f":"+IF(AO74=\"\",\"\",MAX(AK$1:AK73)+1)","v":""},{"$f":"IF(Compliance_Options!B96=\"\",\"\",Compliance_Options!B96)","v":""},{"$f":"IF(Compliance_Options!C96=\"\",\"\",Compliance_Options!C96)","v":""},"",{"$f":"IF(COUNTIF(AN$2:AN74,AN74)=1,AN74,\"\")","v":""},"","","",null,{"$f":"+IF(AZ74=\"\",\"\",MAX(AT$1:AT73)+1)","v":""},{"$f":"IF(Compliance_Options!B96=\"\",\"\",Compliance_Options!B96)","v":""},{"$f":"IF(Compliance_Options!C96=\"\",\"\",Compliance_Options!C96)","v":""},"",{"$f":"IF(Compliance_Options!D96=\"\",\"\",Compliance_Options!D96)","v":""},"",{"$f":"IF(COUNTIF(AY$1:AY74,AY74)=1,AY74,\"\")","v":""},"","","","",null,{"$f":"+IF(BK74=\"\",\"\",MAX(BF$1:BF73)+1)","v":""},{"$f":"IF(CPMS1!B96=\"\",\"\",CPMS1!B96)","v":""},{"$f":"IF(CPMS1!C96=\"\",\"\",CPMS1!C96)","v":""},{"$f":"IF(CPMS1!E96=\"\",\"\",CPMS1!E96)","v":""},"",{"$f":"IF(COUNTIF(BJ$2:BJ74,BJ74)=1,BJ74,\"\")","v":""},"","","","",null,{"$f":"+IF(BV74=\"\",\"\",MAX(BQ$1:BQ73)+1)","v":""},{"$f":"IF(OpLimit!B96=\"\",\"\",OpLimit!B96)","v":""},{"$f":"IF(OpLimit!C96=\"\",\"\",OpLimit!C96)","v":""},{"$f":"IF(OpLimit!E96=\"\",\"\",OpLimit!E96)","v":""},"",{"$f":"IF(COUNTIF(BU$2:BU74,BU74)=1,BU74,\"\")","v":""},"","","",""]
[null,null,null,null,null,{"$f":"+IF(I75=\"\",\"\",MAX(F$1:F74)+1)","v":""},{"$f":"IF(Compliance_Options!C97=\"\",\"\",Compliance_Options!C97)","v":""},"",{"$f":"IF(COUNTIF(G$2:G75,G75)=1,G75,\"\")","v":""},null,{"$f":"+IF(N75=\"\",\"\",MAX(K$1:K74)+1)","v":""},{"$f":"IF(CPMS1!E97=\"\",\"\",CPMS1!E97)","v":""},"",{"$f":"IF(COUNTIF(L$2:L75,L75)=1,L75,\"\")","v":""},null,null,null,null,{"$f":"+IF(W75=\"\",\"\",MAX(S$1:S74)+1)","v":""},{"$f":"IF(Adhes_Sealer_Deadener!B97=\"\",\"\",Adhes_Sealer_Deadener!B97)","v":""},{"$f":"IF(Adhes_Sealer_Deadener!C97=\"\",\"\",Adhes_Sealer_Deadener!C97)","v":""},{"$f":"+Table10[[#This Row],[Column1]]&Table10[[#This Row],[Column2]]","v":""},{"$f":"IF(COUNTIF(V$2:V75,V75)=1,V75,\"\")","v":""},"","",null,{"$f":"+IF(AF75=\"\",\"\",MAX(AA$1:AA74)+1)","v":""},{"$f":"IF(CPMS2!B97=\"\",\"\",CPMS2!B97)","v":""},{"$f":"IF(CPMS2!C97=\"\",\"\",CPMS2!C97)","v":""},{"$f":"IF(CPMS2!D97=\"\",\"\",CPMS2!D97)","v":""},"",{"$f":"IF(COUNTIF(AE$2:AE75,AE75)=1,AE75,\"\")","v":""},"","","",null,{"$f":"+IF(AO75=\"\",\"\",MAX(AK$1:AK74)+1)","v":""},{"$f":"IF(Compliance_Options!B97=\"\",\"\",Compliance_Options!B97)","v":""},{"$f":"IF(Compliance_Options!C97=\"\",\"\",Compliance_Options!C97)","v":""},"",{"$f":"IF(COUNTIF(AN$2:AN75,AN75)=1,AN75,\"\")","v":""},"","","",null,{"$f":"+IF(AZ75=\"\",\"\",MAX(AT$1:AT74)+1)","v":""},{"$f":"IF(Compliance_Options!B97=\"\",\"\",Compliance_Options!B97)","v":""},{"$f":"IF(Compliance_Options!C97=\"\",\"\",Compliance_Options!C97)","v":""},"",{"$f":"IF(Compliance_Options!D97=\"\",\"\",Compliance_Options!D97)","v":""},"",{"$f":"IF(COUNTIF(AY$1:AY75,AY75)=1,AY75,\"\")","v":""},"","","","",null,{"$f":"+IF(BK75=\"\",\"\",MAX(BF$1:BF74)+1)","v":""},{"$f":"IF(CPMS1!B97=\"\",\"\",CPMS1!B97)","v":""},{"$f":"IF(CPMS1!C97=\"\",\"\",CPMS1!C97)","v":""},{"$f":"IF(CPMS1!E97=\"\",\"\",CPMS1!E97)","v":""},"",{"$f":"IF(COUNTIF(BJ$2:BJ75,BJ75)=1,BJ75,\"\")","v":""},"","","","",null,{"$f":"+IF(BV75=\"\",\"\",MAX(BQ$1:BQ74)+1)","v":""},{"$f":"IF(OpLimit!B97=\"\",\"\",OpLimit!B97)","v":""},{"$f":"IF(OpLimit!C97=\"\",\"\",OpLimit!C97)","v":""},{"$f":"IF(OpLimit!E97=\"\",\"\",OpLimit!E97)","v":""},"",{"$f":"IF(COUNTIF(BU$2:BU75,BU75)=1,BU75,\"\")","v":""},"","","",""]
[null,null,null,null,null,{"$f":"+IF(I76=\"\",\"\",MAX(F$1:F75)+1)","v":""},{"$f":"IF(Compliance_Options!C98=\"\",\"\",Compliance_Options!C98)","v":""},"",{"$f":"IF(COUNTIF(G$2:G76,G76)=1,G76,\"\")","v":""},null,{"$f":"+IF(N76=\"\",\"\",MAX(K$1:K75)+1)","v":""},{"$f":"IF(CPMS1!E98=\"\",\"\",CPMS1!E98)","v":""},"",{"$f":"IF(COUNTIF(L$2:L76,L76)=1,L76,\"\")","v":""},null,null,null,null,{"$f":"+IF(W76=\"\",\"\",MAX(S$1:S75)+1)","v":""},{"$f":"IF(Adhes_Sealer_Deadener!B98=\"\",\"\",Adhes_Sealer_Deadener!B98)","v":""},{"$f":"IF(Adhes_Sealer_Deadener!C98=\"\",\"\",Adhes_Sealer_Deadener!C98)","v":""},{"$f":"+Table10[[#This Row],[Column1]]&Table10[[#This Row],[Column2]]","v":""},{"$f":"IF(COUNTIF(V$2:V76,V76)=1,V76,\"\")","v":""},"","",null,{"$f":"+IF(AF76=\"\",\"\",MAX(AA$1:AA75)+1)","v":""},{"$f":"IF(CPMS2!B98=\"\",\"\",CPMS2!B98)","v":""},{"$f":"IF(CPMS2!C98=\"\",\"\",CPMS2!C98)","v":""},{"$f":"IF(CPMS2!D98=\"\",\"\",CPMS2!D98)","v":""},"",{"$f":"IF(COUNTIF(AE$2:AE76,AE76)=1,AE76,\"\")","v":""},"","","",null,{"$f":"+IF(AO76=\"\",\"\",MAX(AK$1:AK75)+1)","v":""},{"$f":"IF(Compliance_Options!B98=\"\",\"\",Compliance_Options!B98)","v":""},{"$f":"IF(Compliance_Options!C98=\"\",\"\",Compliance_Options!C98)","v":""},"",{"$f":"IF(COUNTIF(AN$2:AN76,AN76)=1,AN76,\"\")","v":""},"","","",null,{"$f":"+IF(AZ76=\"\",\"\",MAX(AT$1:AT75)+1)","v":""},{"$f":"IF(Compliance_Options!B98=\"\",\"\",Compliance_Options!B98)","v":""},{"$f":"IF(Compliance_Options!C98=\"\",\"\",Compliance_Options!C98)","v":""},"",{"$f":"IF(Compliance_Options!D98=\"\",\"\",Compliance_Options!D98)","v":""},"",{"$f":"IF(COUNTIF(AY$1:AY76,AY76)=1,AY76,\"\")","v":""},"","","","",null,{"$f":"+IF(BK76=\"\",\"\",MAX(BF$1:BF75)+1)","v":""},{"$f":"IF(CPMS1!B98=\"\",\"\",CPMS1!B98)","v":""},{"$f":"IF(CPMS1!C98=\"\",\"\",CPMS1!C98)","v":""},{"$f":"IF(CPMS1!E98=\"\",\"\",CPMS1!E98)","v":""},"",{"$f":"IF(COUNTIF(BJ$2:BJ76,BJ76)=1,BJ76,\"\")","v":""},"","","","",null,{"$f":"+IF(BV76=\"\",\"\",MAX(BQ$1:BQ75)+1)","v":""},{"$f":"IF(OpLimit!B98=\"\",\"\",OpLimit!B98)","v":""},{"$f":"IF(OpLimit!C98=\"\",\"\",OpLimit!C98)","v":""},{"$f":"IF(OpLimit!E98=\"\",\"\",OpLimit!E98)","v":""},"",{"$f":"IF(COUNTIF(BU$2:BU76,BU76)=1,BU76,\"\")","v":""},"","","",""]
[null,null,null,null,null,{"$f":"+IF(I77=\"\",\"\",MAX(F$1:F76)+1)","v":""},{"$f":"IF(Compliance_Options!C99=\"\",\"\",Compliance_Options!C99)","v":""},"",{"$f":"IF(COUNTIF(G$2:G77,G77)=1,G77,\"\")","v":""},null,{"$f":"+IF(N77=\"\",\"\",MAX(K$1:K76)+1)","v":""},{"$f":"IF(CPMS1!E99=\"\",\"\",CPMS1!E99)","v":""},"",{"$f":"IF(COUNTIF(L$2:L77,L77)=1,L77,\"\")","v":""},null,null,null,null,{"$f":"+IF(W77=\"\",\"\",MAX(S$1:S76)+1)","v":""},{"$f":"IF(Adhes_Sealer_Deadener!B99=\"\",\"\",Adhes_Sealer_Deadener!B99)","v":""},{"$f":"IF(Adhes_Sealer_Deadener!C99=\"\",\"\",Adhes_Sealer_Deadener!C99)","v":""},{"$f":"+Table10[[#This Row],[Column1]]&Table10[[#This Row],[Column2]]","v":""},{"$f":"IF(COUNTIF(V$2:V77,V77)=1,V77,\"\")","v":""},"","",null,{"$f":"+IF(AF77=\"\",\"\",MAX(AA$1:AA76)+1)","v":""},{"$f":"IF(CPMS2!B99=\"\",\"\",CPMS2!B99)","v":""},{"$f":"IF(CPMS2!C99=\"\",\"\",CPMS2!C99)","v":""},{"$f":"IF(CPMS2!D99=\"\",\"\",CPMS2!D99)","v":""},"",{"$f":"IF(COUNTIF(AE$2:AE77,AE77)=1,AE77,\"\")","v":""},"","","",null,{"$f":"+IF(AO77=\"\",\"\",MAX(AK$1:AK76)+1)","v":""},{"$f":"IF(Compliance_Options!B99=\"\",\"\",Compliance_Options!B99)","v":""},{"$f":"IF(Compliance_Options!C99=\"\",\"\",Compliance_Options!C99)","v":""},"",{"$f":"IF(COUNTIF(AN$2:AN77,AN77)=1,AN77,\"\")","v":""},"","","",null,{"$f":"+IF(AZ77=\"\",\"\",MAX(AT$1:AT76)+1)","v":""},{"$f":"IF(Compliance_Options!B99=\"\",\"\",Compliance_Options!B99)","v":""},{"$f":"IF(Compliance_Options!C99=\"\",\"\",Compliance_Options!C99)","v":""},"",{"$f":"IF(Compliance_Options!D99=\"\",\"\",Compliance_Options!D99)","v":""},"",{"$f":"IF(COUNTIF(AY$1:AY77,AY77)=1,AY77,\"\")","v":""},"","","","",null,{"$f":"+IF(BK77=\"\",\"\",MAX(BF$1:BF76)+1)","v":""},{"$f":"IF(CPMS1!B99=\"\",\"\",CPMS1!B99)","v":""},{"$f":"IF(CPMS1!C99=\"\",\"\",CPMS1!C99)","v":""},{"$f":"IF(CPMS1!E99=\"\",\"\",CPMS1!E99)","v":""},"",{"$f":"IF(COUNTIF(BJ$2:BJ77,BJ77)=1,BJ77,\"\")","v":""},"","","","",null,{"$f":"+IF(BV77=\"\",\"\",MAX(BQ$1:BQ76)+1)","v":""},{"$f":"IF(OpLimit!B99=\"\",\"\",OpLimit!B99)","v":""},{"$f":"IF(OpLimit!C99=\"\",\"\",OpLimit!C99)","v":""},{"$f":"IF(OpLimit!E99=\"\",\"\",OpLimit!E99)","v":""},"",{"$f":"IF(COUNTIF(BU$2:BU77,BU77)=1,BU77,\"\")","v":""},"","","",""]
[null,null,null,null,null,{"$f":"+IF(I78=\"\",\"\",MAX(F$1:F77)+1)","v":""},{"$f":"IF(Compliance_Options!C100=\"\",\"\",Compliance_Options!C100)","v":""},"",{"$f":"IF(COUNTIF(G$2:G78,G78)=1,G78,\"\")","v":""},null,{"$f":"+IF(N78=\"\",\"\",MAX(K$1:K77)+1)","v":""},{"$f":"IF(CPMS1!E100=\"\",\"\",CPMS1!E100)","v":""},"",{"$f":"IF(COUNTIF(L$2:L78,L78)=1,L78,\"\")","v":""},null,null,null,null,{"$f":"+IF(W78=\"\",\"\",MAX(S$1:S77)+1)","v":""},{"$f":"IF(Adhes_Sealer_Deadener!B100=\"\",\"\",Adhes_Sealer_Deadener!B100)","v":""},{"$f":"IF(Adhes_Sealer_Deadener!C100=\"\",\"\",Adhes_Sealer_Deadener!C100)","v":""},{"$f":"+Table10[[#This Row],[Column1]]&Table10[[#This Row],[Column2]]","v":""},{"$f":"IF(COUNTIF(V$2:V78,V78)=1,V78,\"\")","v":""},"","",null,{"$f":"+IF(AF78=\"\",\"\",MAX(AA$1:AA77)+1)","v":""},{"$f":"IF(CPMS2!B100=\"\",\"\",CPMS2!B100)","v":""},{"$f":"IF(CPMS2!C100=\"\",\"\",CPMS2!C100)","v":""},{"$f":"IF(CPMS2!D100=\"\",\"\",CPMS2!D100)","v":""},"",{"$f":"IF(COUNTIF(AE$2:AE78,AE78)=1,AE78,\"\")","v":""},"","","",null,{"$f":"+IF(AO78=\"\",\"\",MAX(AK$1:AK77)+1)","v":""},{"$f":"IF(Compliance_Options!B100=\"\",\"\",Compliance_Options!B100)","v":""},{"$f":"IF(Compliance_Options!C100=\"\",\"\",Compliance_Options!C100)","v":""},"",{"$f":"IF(COUNTIF(AN$2:AN78,AN78)=1,AN78,\"\")","v":""},"","","",null,{"$f":"+IF(AZ78=\"\",\"\",MAX(AT$1:AT77)+1)","v":""},{"$f":"IF(Compliance_Options!B100=\"\",\"\",Compliance_Options!B100)","v":""},{"$f":"IF(Compliance_Options!C100=\"\",\"\",Compliance_Options!C100)","v":""},"",{"$f":"IF(Compliance_Options!D100=\"\",\"\",Compliance_Options!D100)","v":""},"",{"$f":"IF(COUNTIF(AY$1:AY78,AY78)=1,AY78,\"\")","v":""},"","","","",null,{"$f":"+IF(BK78=\"\",\"\",MAX(BF$1:BF77)+1)","v":""},{"$f":"IF(CPMS1!B100=\"\",\"\",CPMS1!B100)","v":""},{"$f":"IF(CPMS1!C100=\"\",\"\",CPMS1!C100)","v":""},{"$f":"IF(CPMS1!E100=\"\",\"\",CPMS1!E100)","v":""},"",{"$f":"IF(COUNTIF(BJ$2:BJ78,BJ78)=1,BJ78,\"\")","v":""},"","","","",null,{"$f":"+IF(BV78=\"\",\"\",MAX(BQ$1:BQ77)+1)","v":""},{"$f":"IF(OpLimit!B100=\"\",\"\",OpLimit!B100)","v":""},{"$f":"IF(OpLimit!C100=\"\",\"\",OpLimit!C100)","v":""},{"$f":"IF(OpLimit!E100=\"\",\"\",OpLimit!E100)","v":""},"",{"$f":"IF(COUNTIF(BU$2:BU78,BU78)=1,BU78,\"\")","v":""},"","","",""]
[null,null,null,null,null,{"$f":"+IF(I79=\"\",\"\",MAX(F$1:F78)+1)","v":""},{"$f":"IF(Compliance_Options!C101=\"\",\"\",Compliance_Options!C101)","v":""},"",{"$f":"IF(COUNTIF(G$2:G79,G79)=1,G79,\"\")","v":""},null,{"$f":"+IF(N79=\"\",\"\",MAX(K$1:K78)+1)","v":""},{"$f":"IF(CPMS1!E101=\"\",\"\",CPMS1!E101)","v":""},"",{"$f":"IF(COUNTIF(L$2:L79,L79)=1,L79,\"\")","v":""},null,null,null,null,{"$f":"+IF(W79=\"\",\"\",MAX(S$1:S78)+1)","v":""},{"$f":"IF(Adhes_Sealer_Deadener!B101=\"\",\"\",Adhes_Sealer_Deadener!B101)","v":""},{"$f":"IF(Adhes_Sealer_Deadener!C101=\"\",\"\",Adhes_Sealer_Deadener!C101)","v":""},{"$f":"+Table10[[#This Row],[Column1]]&Table10[[#This Row],[Column2]]","v":""},{"$f":"IF(COUNTIF(V$2:V79,V79)=1,V79,\"\")","v":""},"","",null,{"$f":"+IF(AF79=\"\",\"\",MAX(AA$1:AA78)+1)","v":""},{"$f":"IF(CPMS2!B101=\"\",\"\",CPMS2!B101)","v":""},{"$f":"IF(CPMS2!C101=\"\",\"\",CPMS2!C101)","v":""},{"$f":"IF(CPMS2!D101=\"\",\"\",CPMS2!D101)","v":""},"",{"$f":"IF(COUNTIF(AE$2:AE79,AE79)=1,AE79,\"\")","v":""},"","","",null,null,null,null,null,null,null,null,null,null,null,null,null,null,null,null,null,null,null,null,null,null,null,null,null,null,null,null,null,null,null,null,null,{"$f":"+IF(BV79=\"\",\"\",MAX(BQ$1:BQ78)+1)","v":""},{"$f":"IF(OpLimit!B101=\"\",\"\",OpLimit!B101)","v":""},{"$f":"IF(OpLimit!C101=\"\",\"\",OpLimit!C101)","v":""},{"$f":"IF(OpLimit!E101=\"\",\"\",OpLimit!E101)","v":""},"",{"$f":"IF(COUNTIF(BU$2:BU79,BU79)=1,BU79,\"\")","v":""},"","","",""]
[null,null,null,null,null,{"$f":"+IF(I80=\"\",\"\",MAX(F$1:F79)+1)","v":""},{"$f":"IF(Compliance_Options!C102=\"\",\"\",Compliance_Options!C102)","v":""},"",{"$f":"IF(COUNTIF(G$2:G80,G80)=1,G80,\"\")","v":""},null,{"$f":"+IF(N80=\"\",\"\",MAX(K$1:K79)+1)","v":""},{"$f":"IF(CPMS1!E102=\"\",\"\",CPMS1!E102)","v":""},"",{"$f":"IF(COUNTIF(L$2:L80,L80)=1,L80,\"\")","v":""},null,null,null,null,{"$f":"+IF(W80=\"\",\"\",MAX(S$1:S79)+1)","v":""},{"$f":"IF(Adhes_Sealer_Deadener!B102=\"\",\"\",Adhes_Sealer_Deadener!B102)","v":""},{"$f":"IF(Adhes_Sealer_Deadener!C102=\"\",\"\",Adhes_Sealer_Deadener!C102)","v":""},{"$f":"+Table10[[#This Row],[Column1]]&Table10[[#This Row],[Column2]]","v":""},{"$f":"IF(COUNTIF(V$2:V80,V80)=1,V80,\"\")","v":""},"","",null,{"$f":"+IF(AF80=\"\",\"\",MAX(AA$1:AA79)+1)","v":""},{"$f":"IF(CPMS2!B102=\"\",\"\",CPMS2!B102)","v":""},{"$f":"IF(CPMS2!C102=\"\",\"\",CPMS2!C102)","v":""},{"$f":"IF(CPMS2!D102=\"\",\"\",CPMS2!D102)","v":""},"",{"$f":"IF(COUNTIF(AE$2:AE80,AE80)=1,AE80,\"\")","v":""},"","","",null,null,null,null,null,null,null,null,null,null,null,null,null,null,null,null,null,null,null,null,null,null,null,null,null,null,null,null,null,null,null,null,null,{"$f":"+IF(BV80=\"\",\"\",MAX(BQ$1:BQ79)+1)","v":""},{"$f":"IF(OpLimit!B102=\"\",\"\",OpLimit!B102)","v":""},{"$f":"IF(OpLimit!C102=\"\",\"\",OpLimit!C102)","v":""},{"$f":"IF(OpLimit!E102=\"\",\"\",OpLimit!E102)","v":""},"",{"$f":"IF(COUNTIF(BU$2:BU80,BU80)=1,BU80,\"\")","v":""},"","","",""]
[null,null,null,null,null,{"$f":"+IF(I81=\"\",\"\",MAX(F$1:F80)+1)","v":""},{"$f":"IF(Compliance_Options!C103=\"\",\"\",Compliance_Options!C103)","v":""},"",{"$f":"IF(COUNTIF(G$2:G81,G81)=1,G81,\"\")","v":""},null,{"$f":"+IF(N81=\"\",\"\",MAX(K$1:K80)+1)","v":""},{"$f":"IF(CPMS1!E103=\"\",\"\",CPMS1!E103)","v":""},"",{"$f":"IF(COUNTIF(L$2:L81,L81)=1,L81,\"\")","v":""},null,null,null,null,{"$f":"+IF(W81=\"\",\"\",MAX(S$1:S80)+1)","v":""},{"$f":"IF(Adhes_Sealer_Deadener!B103=\"\",\"\",Adhes_Sealer_Deadener!B103)","v":""},{"$f":"IF(Adhes_Sealer_Deadener!C103=\"\",\"\",Adhes_Sealer_Deadener!C103)","v":""},{"$f":"+Table10[[#This Row],[Column1]]&Table10[[#This Row],[Column2]]","v":""},{"$f":"IF(COUNTIF(V$2:V81,V81)=1,V81,\"\")","v":""},"","",null,{"$f":"+IF(AF81=\"\",\"\",MAX(AA$1:AA80)+1)","v":""},{"$f":"IF(CPMS2!B103=\"\",\"\",CPMS2!B103)","v":""},{"$f":"IF(CPMS2!C103=\"\",\"\",CPMS2!C103)","v":""},{"$f":"IF(CPMS2!D103=\"\",\"\",CPMS2!D103)","v":""},"",{"$f":"IF(COUNTIF(AE$2:AE81,AE81)=1,AE81,\"\")","v":""},"","","",null,null,null,null,null,null,null,null,null,null,null,null,null,null,null,null,null,null,null,null,null,null,null,null,null,null,null,null,null,null,null,null,null,{"$f":"+IF(BV81=\"\",\"\",MAX(BQ$1:BQ80)+1)","v":""},{"$f":"IF(OpLimit!B103=\"\",\"\",OpLimit!B103)","v":""},{"$f":"IF(OpLimit!C103=\"\",\"\",OpLimit!C103)","v":""},{"$f":"IF(OpLimit!E103=\"\",\"\",OpLimit!E103)","v":""},"",{"$f":"IF(COUNTIF(BU$2:BU81,BU81)=1,BU81,\"\")","v":""},"","","",""]
[null,null,null,null,null,{"$f":"+IF(I82=\"\",\"\",MAX(F$1:F81)+1)","v":""},{"$f":"IF(Compliance_Options!C104=\"\",\"\",Compliance_Options!C104)","v":""},"",{"$f":"IF(COUNTIF(G$2:G82,G82)=1,G82,\"\")","v":""},null,{"$f":"+IF(N82=\"\",\"\",MAX(K$1:K81)+1)","v":""},{"$f":"IF(CPMS1!E104=\"\",\"\",CPMS1!E104)","v":""},"",{"$f":"IF(COUNTIF(L$2:L82,L82)=1,L82,\"\")","v":""},null,null,null,null,{"$f":"+IF(W82=\"\",\"\",MAX(S$1:S81)+1)","v":""},{"$f":"IF(Adhes_Sealer_Deadener!B104=\"\",\"\",Adhes_Sealer_Deadener!B104)","v":""},{"$f":"IF(Adhes_Sealer_Deadener!C104=\"\",\"\",Adhes_Sealer_Deadener!C104)","v":""},{"$f":"+Table10[[#This Row],[Column1]]&Table10[[#This Row],[Column2]]","v":""},{"$f":"IF(COUNTIF(V$2:V82,V82)=1,V82,\"\")","v":""},"","",null,{"$f":"+IF(AF82=\"\",\"\",MAX(AA$1:AA81)+1)","v":""},{"$f":"IF(CPMS2!B104=\"\",\"\",CPMS2!B104)","v":""},{"$f":"IF(CPMS2!C104=\"\",\"\",CPMS2!C104)","v":""},{"$f":"IF(CPMS2!D104=\"\",\"\",CPMS2!D104)","v":""},"",{"$f":"IF(COUNTIF(AE$2:AE82,AE82)=1,AE82,\"\")","v":""},"","","",null,null,null,null,null,null,null,null,null,null,null,null,null,null,null,null,null,null,null,null,null,null,null,null,null,null,null,null,null,null,null,null,null,{"$f":"+IF(BV82=\"\",\"\",MAX(BQ$1:BQ81)+1)","v":""},{"$f":"IF(OpLimit!B104=\"\",\"\",OpLimit!B104)","v":""},{"$f":"IF(OpLimit!C104=\"\",\"\",OpLimit!C104)","v":""},{"$f":"IF(OpLimit!E104=\"\",\"\",OpLimit!E104)","v":""},"",{"$f":"IF(COUNTIF(BU$2:BU82,BU82)=1,BU82,\"\")","v":""},"","","",""]
[null,null,null,null,null,{"$f":"+IF(I83=\"\",\"\",MAX(F$1:F82)+1)","v":""},{"$f":"IF(Compliance_Options!C105=\"\",\"\",Compliance_Options!C105)","v":""},"",{"$f":"IF(COUNTIF(G$2:G83,G83)=1,G83,\"\")","v":""},null,{"$f":"+IF(N83=\"\",\"\",MAX(K$1:K82)+1)","v":""},{"$f":"IF(CPMS1!E105=\"\",\"\",CPMS1!E105)","v":""},"",{"$f":"IF(COUNTIF(L$2:L83,L83)=1,L83,\"\")","v":""},null,null,null,null,{"$f":"+IF(W83=\"\",\"\",MAX(S$1:S82)+1)","v":""},{"$f":"IF(Adhes_Sealer_Deadener!B105=\"\",\"\",Adhes_Sealer_Deadener!B105)","v":""},{"$f":"IF(Adhes_Sealer_Deadener!C105=\"\",\"\",Adhes_Sealer_Deadener!C105)","v":""},{"$f":"+Table10[[#This Row],[Column1]]&Table10[[#This Row],[Column2]]","v":""},{"$f":"IF(COUNTIF(V$2:V83,V83)=1,V83,\"\")","v":""},"","",null,{"$f":"+IF(AF83=\"\",\"\",MAX(AA$1:AA82)+1)","v":""},{"$f":"IF(CPMS2!B105=\"\",\"\",CPMS2!B105)","v":""},{"$f":"IF(CPMS2!C105=\"\",\"\",CPMS2!C105)","v":""},{"$f":"IF(CPMS2!D105=\"\",\"\",CPMS2!D105)","v":""},"",{"$f":"IF(COUNTIF(AE$2:AE83,AE83)=1,AE83,\"\")","v":""},"","","",null,null,null,null,null,null,null,null,null,null,null,null,null,null,null,null,null,null,null,null,null,null,null,null,null,null,null,null,null,null,null,null,null,{"$f":"+IF(BV83=\"\",\"\",MAX(BQ$1:BQ82)+1)","v":""},{"$f":"IF(OpLimit!B105=\"\",\"\",OpLimit!B105)","v":""},{"$f":"IF(OpLimit!C105=\"\",\"\",OpLimit!C105)","v":""},{"$f":"IF(OpLimit!E105=\"\",\"\",OpLimit!E105)","v":""},"",{"$f":"IF(COUNTIF(BU$2:BU83,BU83)=1,BU83,\"\")","v":""},"","","",""]
[null,null,null,null,null,{"$f":"+IF(I84=\"\",\"\",MAX(F$1:F83)+1)","v":""},{"$f":"IF(Compliance_Options!C106=\"\",\"\",Compliance_Options!C106)","v":""},"",{"$f":"IF(COUNTIF(G$2:G84,G84)=1,G84,\"\")","v":""},null,{"$f":"+IF(N84=\"\",\"\",MAX(K$1:K83)+1)","v":""},{"$f":"IF(CPMS1!E106=\"\",\"\",CPMS1!E106)","v":""},"",{"$f":"IF(COUNTIF(L$2:L84,L84)=1,L84,\"\")","v":""},null,null,null,null,{"$f":"+IF(W84=\"\",\"\",MAX(S$1:S83)+1)","v":""},{"$f":"IF(Adhes_Sealer_Deadener!B106=\"\",\"\",Adhes_Sealer_Deadener!B106)","v":""},{"$f":"IF(Adhes_Sealer_Deadener!C106=\"\",\"\",Adhes_Sealer_Deadener!C106)","v":""},{"$f":"+Table10[[#This Row],[Column1]]&Table10[[#This Row],[Column2]]","v":""},{"$f":"IF(COUNTIF(V$2:V84,V84)=1,V84,\"\")","v":""},"","",null,{"$f":"+IF(AF84=\"\",\"\",MAX(AA$1:AA83)+1)","v":""},{"$f":"IF(CPMS2!B106=\"\",\"\",CPMS2!B106)","v":""},{"$f":"IF(CPMS2!C106=\"\",\"\",CPMS2!C106)","v":""},{"$f":"IF(CPMS2!D106=\"\",\"\",CPMS2!D106)","v":""},"",{"$f":"IF(COUNTIF(AE$2:AE84,AE84)=1,AE84,\"\")","v":""},"","","",null,null,null,null,null,null,null,null,null,null,null,null,null,null,null,null,null,null,null,null,null,null,null,null,null,null,null,null,null,null,null,null,null,{"$f":"+IF(BV84=\"\",\"\",MAX(BQ$1:BQ83)+1)","v":""},{"$f":"IF(OpLimit!B106=\"\",\"\",OpLimit!B106)","v":""},{"$f":"IF(OpLimit!C106=\"\",\"\",OpLimit!C106)","v":""},{"$f":"IF(OpLimit!E106=\"\",\"\",OpLimit!E106)","v":""},"",{"$f":"IF(COUNTIF(BU$2:BU84,BU84)=1,BU84,\"\")","v":""},"","","",""]
[null,null,null,null,null,{"$f":"+IF(I85=\"\",\"\",MAX(F$1:F84)+1)","v":""},{"$f":"IF(Compliance_Options!C107=\"\",\"\",Compliance_Options!C107)","v":""},"",{"$f":"IF(COUNTIF(G$2:G85,G85)=1,G85,\"\")","v":""},null,{"$f":"+IF(N85=\"\",\"\",MAX(K$1:K84)+1)","v":""},{"$f":"IF(CPMS1!E107=\"\",\"\",CPMS1!E107)","v":""},"",{"$f":"IF(COUNTIF(L$2:L85,L85)=1,L85,\"\")","v":""},null,null,null,null,{"$f":"+IF(W85=\"\",\"\",MAX(S$1:S84)+1)","v":""},{"$f":"IF(Adhes_Sealer_Deadener!B107=\"\",\"\",Adhes_Sealer_Deadener!B107)","v":""},{"$f":"IF(Adhes_Sealer_Deadener!C107=\"\",\"\",Adhes_Sealer_Deadener!C107)","v":""},{"$f":"+Table10[[#This Row],[Column1]]&Table10[[#This Row],[Column2]]","v":""},{"$f":"IF(COUNTIF(V$2:V85,V85)=1,V85,\"\")","v":""},{"$f":"+IFERROR(INDEX($T$2:$T$478,MATCH(ROW()-ROW($X$1),$S$2:$S$478,0)),\"\")","v":""},{"$f":"+IFERROR(INDEX($U$2:$U$478,MATCH(ROW()-ROW($X$1),$S$2:$S$478,0)),\"\")","v":""},null,{"$f":"+IF(AF85=\"\",\"\",MAX(AA$1:AA84)+1)","v":""},{"$f":"IF(CPMS2!B107=\"\",\"\",CPMS2!B107)","v":""},{"$f":"IF(CPMS2!C107=\"\",\"\",CPMS2!C107)","v":""},{"$f":"IF(CPMS2!D107=\"\",\"\",CPMS2!D107)","v":""},"",{"$f":"IF(COUNTIF(AE$2:AE85,AE85)=1,AE85,\"\")","v":""},"","","",null,null,null,null,null,null,null,null,null,null,null,null,null,null,null,null,null,null,null,null,null,null,null,null,null,null,null,null,null,null,null,null,null,{"$f":"+IF(BV85=\"\",\"\",MAX(BQ$1:BQ84)+1)","v":""},{"$f":"IF(OpLimit!B107=\"\",\"\",OpLimit!B107)","v":""},{"$f":"IF(OpLimit!C107=\"\",\"\",OpLimit!C107)","v":""},{"$f":"IF(OpLimit!E107=\"\",\"\",OpLimit!E107)","v":""},"",{"$f":"IF(COUNTIF(BU$2:BU85,BU85)=1,BU85,\"\")","v":""},"","","",""]
[null,null,null,null,null,{"$f":"+IF(I86=\"\",\"\",MAX(F$1:F85)+1)","v":""},{"$f":"IF(Compliance_Options!C108=\"\",\"\",Compliance_Options!C108)","v":""},"",{"$f":"IF(COUNTIF(G$2:G86,G86)=1,G86,\"\")","v":""},null,{"$f":"+IF(N86=\"\",\"\",MAX(K$1:K85)+1)","v":""},{"$f":"IF(CPMS1!E108=\"\",\"\",CPMS1!E108)","v":""},"",{"$f":"IF(COUNTIF(L$2:L86,L86)=1,L86,\"\")","v":""},null,null,null,null,{"$f":"+IF(W86=\"\",\"\",MAX(S$1:S85)+1)","v":""},{"$f":"IF(Adhes_Sealer_Deadener!B108=\"\",\"\",Adhes_Sealer_Deadener!B108)","v":""},{"$f":"IF(Adhes_Sealer_Deadener!C108=\"\",\"\",Adhes_Sealer_Deadener!C108)","v":""},{"$f":"+Table10[[#This Row],[Column1]]&Table10[[#This Row],[Column2]]","v":""},{"$f":"IF(COUNTIF(V$2:V86,V86)=1,V86,\"\")","v":""},"","",null,{"$f":"+IF(AF86=\"\",\"\",MAX(AA$1:AA85)+1)","v":""},{"$f":"IF(CPMS2!B108=\"\",\"\",CPMS2!B108)","v":""},{"$f":"IF(CPMS2!C108=\"\",\"\",CPMS2!C108)","v":""},{"$f":"IF(CPMS2!D108=\"\",\"\",CPMS2!D108)","v":""},"",{"$f":"IF(COUNTIF(AE$2:AE86,AE86)=1,AE86,\"\")","v":""},"","","",null,null,null,null,null,null,null,null,null,null,null,null,null,null,null,null,null,null,null,null,null,null,null,null,null,null,null,null,null,null,null,null,null,{"$f":"+IF(BV86=\"\",\"\",MAX(BQ$1:BQ85)+1)","v":""},{"$f":"IF(OpLimit!B108=\"\",\"\",OpLimit!B108)","v":""},{"$f":"IF(OpLimit!C108=\"\",\"\",OpLimit!C108)","v":""},{"$f":"IF(OpLimit!E108=\"\",\"\",OpLimit!E108)","v":""},"",{"$f":"IF(COUNTIF(BU$2:BU86,BU86)=1,BU86,\"\")","v":""},"","","",""]
[null,null,null,null,null,{"$f":"+IF(I87=\"\",\"\",MAX(F$1:F86)+1)","v":""},{"$f":"IF(Compliance_Options!C109=\"\",\"\",Compliance_Options!C109)","v":""},"",{"$f":"IF(COUNTIF(G$2:G87,G87)=1,G87,\"\")","v":""},null,{"$f":"+IF(N87=\"\",\"\",MAX(K$1:K86)+1)","v":""},{"$f":"IF(CPMS1!E109=\"\",\"\",CPMS1!E109)","v":""},"",{"$f":"IF(COUNTIF(L$2:L87,L87)=1,L87,\"\")","v":""},null,null,null,null,{"$f":"+IF(W87=\"\",\"\",MAX(S$1:S86)+1)","v":""},{"$f":"IF(Adhes_Sealer_Deadener!B109=\"\",\"\",Adhes_Sealer_Deadener!B109)","v":""},{"$f":"IF(Adhes_Sealer_Deadener!C109=\"\",\"\",Adhes_Sealer_Deadener!C109)","v":""},{"$f":"+Table10[[#This Row],[Column1]]&Table10[[#This Row],[Column2]]","v":""},{"$f":"IF(COUNTIF(V$2:V87,V87)=1,V87,\"\")","v":""},"","",null,{"$f":"+IF(AF87=\"\",\"\",MAX(AA$1:AA86)+1)","v":""},{"$f":"IF(CPMS2!B109=\"\",\"\",CPMS2!B109)","v":""},{"$f":"IF(CPMS2!C109=\"\",\"\",CPMS2!C109)","v":""},{"$f":"IF(CPMS2!D109=\"\",\"\",CPMS2!D109)","v":""},"",{"$f":"IF(COUNTIF(AE$2:AE87,AE87)=1,AE87,\"\")","v":""},"","","",null,null,null,null,null,null,null,null,null,null,null,null,null,null,null,null,null,null,null,null,null,null,null,null,null,null,null,null,null,null,null,null,null,{"$f":"+IF(BV87=\"\",\"\",MAX(BQ$1:BQ86)+1)","v":""},{"$f":"IF(OpLimit!B109=\"\",\"\",OpLimit!B109)","v":""},{"$f":"IF(OpLimit!C109=\"\",\"\",OpLimit!C109)","v":""},{"$f":"IF(OpLimit!E109=\"\",\"\",OpLimit!E109)","v":""},"",{"$f":"IF(COUNTIF(BU$2:BU87,BU87)=1,BU87,\"\")","v":""},"","","",""]
[null,null,null,null,null,{"$f":"+IF(I88=\"\",\"\",MAX(F$1:F87)+1)","v":""},{"$f":"IF(Compliance_Options!C110=\"\",\"\",Compliance_Options!C110)","v":""},"",{"$f":"IF(COUNTIF(G$2:G88,G88)=1,G88,\"\")","v":""},null,{"$f":"+IF(N88=\"\",\"\",MAX(K$1:K87)+1)","v":""},{"$f":"IF(CPMS1!E110=\"\",\"\",CPMS1!E110)","v":""},"",{"$f":"IF(COUNTIF(L$2:L88,L88)=1,L88,\"\")","v":""},null,null,null,null,{"$f":"+IF(W88=\"\",\"\",MAX(S$1:S87)+1)","v":""},{"$f":"IF(Adhes_Sealer_Deadener!B110=\"\",\"\",Adhes_Sealer_Deadener!B110)","v":""},{"$f":"IF(Adhes_Sealer_Deadener!C110=\"\",\"\",Adhes_Sealer_Deadener!C110)","v":""},{"$f":"+Table10[[#This Row],[Column1]]&Table10[[#This Row],[Column2]]","v":""},{"$f":"IF(COUNTIF(V$2:V88,V88)=1,V88,\"\")","v":""},"","",null,{"$f":"+IF(AF88=\"\",\"\",MAX(AA$1:AA87)+1)","v":""},{"$f":"IF(CPMS2!B110=\"\",\"\",CPMS2!B110)","v":""},{"$f":"IF(CPMS2!C110=\"\",\"\",CPMS2!C110)","v":""},{"$f":"IF(CPMS2!D110=\"\",\"\",CPMS2!D110)","v":""},"",{"$f":"IF(COUNTIF(AE$2:AE88,AE88)=1,AE88,\"\")","v":""},"","","",null,null,null,null,null,null,null,null,null,null,null,null,null,null,null,null,null,null,null,null,null,null,null,null,null,null,null,null,null,null,null,null,null,{"$f":"+IF(BV88=\"\",\"\",MAX(BQ$1:BQ87)+1)","v":""},{"$f":"IF(OpLimit!B110=\"\",\"\",OpLimit!B110)","v":""},{"$f":"IF(OpLimit!C110=\"\",\"\",OpLimit!C110)","v":""},{"$f":"IF(OpLimit!E110=\"\",\"\",OpLimit!E110)","v":""},"",{"$f":"IF(COUNTIF(BU$2:BU88,BU88)=1,BU88,\"\")","v":""},"","","",""]
[null,null,null,null,null,{"$f":"+IF(I89=\"\",\"\",MAX(F$1:F88)+1)","v":""},{"$f":"IF(Compliance_Options!C111=\"\",\"\",Compliance_Options!C111)","v":""},"",{"$f":"IF(COUNTIF(G$2:G89,G89)=1,G89,\"\")","v":""},null,{"$f":"+IF(N89=\"\",\"\",MAX(K$1:K88)+1)","v":""},{"$f":"IF(CPMS1!E111=\"\",\"\",CPMS1!E111)","v":""},"",{"$f":"IF(COUNTIF(L$2:L89,L89)=1,L89,\"\")","v":""},null,null,null,null,{"$f":"+IF(W89=\"\",\"\",MAX(S$1:S88)+1)","v":""},{"$f":"IF(Adhes_Sealer_Deadener!B111=\"\",\"\",Adhes_Sealer_Deadener!B111)","v":""},{"$f":"IF(Adhes_Sealer_Deadener!C111=\"\",\"\",Adhes_Sealer_Deadener!C111)","v":""},{"$f":"+Table10[[#This Row],[Column1]]&Table10[[#This Row],[Column2]]","v":""},{"$f":"IF(COUNTIF(V$2:V89,V89)=1,V89,\"\")","v":""},"","",null,{"$f":"+IF(AF89=\"\",\"\",MAX(AA$1:AA88)+1)","v":""},{"$f":"IF(CPMS2!B111=\"\",\"\",CPMS2!B111)","v":""},{"$f":"IF(CPMS2!C111=\"\",\"\",CPMS2!C111)","v":""},{"$f":"IF(CPMS2!D111=\"\",\"\",CPMS2!D111)","v":""},"",{"$f":"IF(COUNTIF(AE$2:AE89,AE89)=1,AE89,\"\")","v":""},"","","",null,null,null,null,null,null,null,null,null,null,null,null,null,null,null,null,null,null,null,null,null,null,null,null,null,null,null,null,null,null,null,null,null,{"$f":"+IF(BV89=\"\",\"\",MAX(BQ$1:BQ88)+1)","v":""},{"$f":"IF(OpLimit!B111=\"\",\"\",OpLimit!B111)","v":""},{"$f":"IF(OpLimit!C111=\"\",\"\",OpLimit!C111)","v":""},{"$f":"IF(OpLimit!E111=\"\",\"\",OpLimit!E111)","v":""},"",{"$f":"IF(COUNTIF(BU$2:BU89,BU89)=1,BU89,\"\")","v":""},"","","",""]
[null,null,null,null,null,{"$f":"+IF(I90=\"\",\"\",MAX(F$1:F89)+1)","v":""},{"$f":"IF(Compliance_Options!C112=\"\",\"\",Compliance_Options!C112)","v":""},"",{"$f":"IF(COUNTIF(G$2:G90,G90)=1,G90,\"\")","v":""},null,{"$f":"+IF(N90=\"\",\"\",MAX(K$1:K89)+1)","v":""},{"$f":"IF(CPMS1!E112=\"\",\"\",CPMS1!E112)","v":""},"",{"$f":"IF(COUNTIF(L$2:L90,L90)=1,L90,\"\")","v":""},null,null,null,null,{"$f":"+IF(W90=\"\",\"\",MAX(S$1:S89)+1)","v":""},{"$f":"IF(Adhes_Sealer_Deadener!B112=\"\",\"\",Adhes_Sealer_Deadener!B112)","v":""},{"$f":"IF(Adhes_Sealer_Deadener!C112=\"\",\"\",Adhes_Sealer_Deadener!C112)","v":""},{"$f":"+Table10[[#This Row],[Column1]]&Table10[[#This Row],[Column2]]","v":""},{"$f":"IF(COUNTIF(V$2:V90,V90)=1,V90,\"\")","v":""},"","",null,{"$f":"+IF(AF90=\"\",\"\",MAX(AA$1:AA89)+1)","v":""},{"$f":"IF(CPMS2!B112=\"\",\"\",CPMS2!B112)","v":""},{"$f":"IF(CPMS2!C112=\"\",\"\",CPMS2!C112)","v":""},{"$f":"IF(CPMS2!D112=\"\",\"\",CPMS2!D112)","v":""},"",{"$f":"IF(COUNTIF(AE$2:AE90,AE90)=1,AE90,\"\")","v":""},"","","",null,null,null,null,null,null,null,null,null,null,null,null,null,null,null,null,null,null,null,null,null,null,null,null,null,null,null,null,null,null,null,null,null,{"$f":"+IF(BV90=\"\",\"\",MAX(BQ$1:BQ89)+1)","v":""},{"$f":"IF(OpLimit!B112=\"\",\"\",OpLimit!B112)","v":""},{"$f":"IF(OpLimit!C112=\"\",\"\",OpLimit!C112)","v":""},{"$f":"IF(OpLimit!E112=\"\",\"\",OpLimit!E112)","v":""},"",{"$f":"IF(COUNTIF(BU$2:BU90,BU90)=1,BU90,\"\")","v":""},"","","",""]
[null,null,null,null,null,{"$f":"+IF(I91=\"\",\"\",MAX(F$1:F90)+1)","v":""},{"$f":"IF(Compliance_Options!C113=\"\",\"\",Compliance_Options!C113)","v":""},"",{"$f":"IF(COUNTIF(G$2:G91,G91)=1,G91,\"\")","v":""},null,{"$f":"+IF(N91=\"\",\"\",MAX(K$1:K90)+1)","v":""},{"$f":"IF(CPMS1!E113=\"\",\"\",CPMS1!E113)","v":""},"",{"$f":"IF(COUNTIF(L$2:L91,L91)=1,L91,\"\")","v":""},null,null,null,null,{"$f":"+IF(W91=\"\",\"\",MAX(S$1:S90)+1)","v":""},{"$f":"IF(Adhes_Sealer_Deadener!B113=\"\",\"\",Adhes_Sealer_Deadener!B113)","v":""},{"$f":"IF(Adhes_Sealer_Deadener!C113=\"\",\"\",Adhes_Sealer_Deadener!C113)","v":""},{"$f":"+Table10[[#This Row],[Column1]]&Table10[[#This Row],[Column2]]","v":""},{"$f":"IF(COUNTIF(V$2:V91,V91)=1,V91,\"\")","v":""},"","",null,{"$f":"+IF(AF91=\"\",\"\",MAX(AA$1:AA90)+1)","v":""},{"$f":"IF(CPMS2!B113=\"\",\"\",CPMS2!B113)","v":""},{"$f":"IF(CPMS2!C113=\"\",\"\",CPMS2!C113)","v":""},{"$f":"IF(CPMS2!D113=\"\",\"\",CPMS2!D113)","v":""},"",{"$f":"IF(COUNTIF(AE$2:AE91,AE91)=1,AE91,\"\")","v":""},"","","",null,null,null,null,null,null,null,null,null,null,null,null,null,null,null,null,null,null,null,null,null,null,null,null,null,null,null,null,null,null,null,null,null,{"$f":"+IF(BV91=\"\",\"\",MAX(BQ$1:BQ90)+1)","v":""},{"$f":"IF(OpLimit!B113=\"\",\"\",OpLimit!B113)","v":""},{"$f":"IF(OpLimit!C113=\"\",\"\",OpLimit!C113)","v":""},{"$f":"IF(OpLimit!E113=\"\",\"\",OpLimit!E113)","v":""},"",{"$f":"IF(COUNTIF(BU$2:BU91,BU91)=1,BU91,\"\")","v":""},"","","",""]
[null,null,null,null,null,{"$f":"+IF(I92=\"\",\"\",MAX(F$1:F91)+1)","v":""},{"$f":"IF(Compliance_Options!C114=\"\",\"\",Compliance_Options!C114)","v":""},"",{"$f":"IF(COUNTIF(G$2:G92,G92)=1,G92,\"\")","v":""},null,{"$f":"+IF(N92=\"\",\"\",MAX(K$1:K91)+1)","v":""},{"$f":"IF(CPMS1!E114=\"\",\"\",CPMS1!E114)","v":""},"",{"$f":"IF(COUNTIF(L$2:L92,L92)=1,L92,\"\")","v":""},null,null,null,null,{"$f":"+IF(W92=\"\",\"\",MAX(S$1:S91)+1)","v":""},{"$f":"IF(Adhes_Sealer_Deadener!B114=\"\",\"\",Adhes_Sealer_Deadener!B114)","v":""},{"$f":"IF(Adhes_Sealer_Deadener!C114=\"\",\"\",Adhes_Sealer_Deadener!C114)","v":""},{"$f":"+Table10[[#This Row],[Column1]]&Table10[[#This Row],[Column2]]","v":""},{"$f":"IF(COUNTIF(V$2:V92,V92)=1,V92,\"\")","v":""},"","",null,{"$f":"+IF(AF92=\"\",\"\",MAX(AA$1:AA91)+1)","v":""},{"$f":"IF(CPMS2!B114=\"\",\"\",CPMS2!B114)","v":""},{"$f":"IF(CPMS2!C114=\"\",\"\",CPMS2!C114)","v":""},{"$f":"IF(CPMS2!D114=\"\",\"\",CPMS2!D114)","v":""},"",{"$f":"IF(COUNTIF(AE$2:AE92,AE92)=1,AE92,\"\")","v":""},"","","",null,null,null,null,null,null,null,null,null,null,null,null,null,null,null,null,null,null,null,null,null,null,null,null,null,null,null,null,null,null,null,null,null,{"$f":"+IF(BV92=\"\",\"\",MAX(BQ$1:BQ91)+1)","v":""},{"$f":"IF(OpLimit!B114=\"\",\"\",OpLimit!B114)","v":""},{"$f":"IF(OpLimit!C114=\"\",\"\",OpLimit!C114)","v":""},{"$f":"IF(OpLimit!E114=\"\",\"\",OpLimit!E114)","v":""},"",{"$f":"IF(COUNTIF(BU$2:BU92,BU92)=1,BU92,\"\")","v":""},"","","",""]
[null,null,null,null,null,{"$f":"+IF(I93=\"\",\"\",MAX(F$1:F92)+1)","v":""},{"$f":"IF(Compliance_Options!C115=\"\",\"\",Compliance_Options!C115)","v":""},"",{"$f":"IF(COUNTIF(G$2:G93,G93)=1,G93,\"\")","v":""},null,{"$f":"+IF(N93=\"\",\"\",MAX(K$1:K92)+1)","v":""},{"$f":"IF(CPMS1!E115=\"\",\"\",CPMS1!E115)","v":""},"",{"$f":"IF(COUNTIF(L$2:L93,L93)=1,L93,\"\")","v":""},null,null,null,null,{"$f":"+IF(W93=\"\",\"\",MAX(S$1:S92)+1)","v":""},{"$f":"IF(Adhes_Sealer_Deadener!B115=\"\",\"\",Adhes_Sealer_Deadener!B115)","v":""},{"$f":"IF(Adhes_Sealer_Deadener!C115=\"\",\"\",Adhes_Sealer_Deadener!C115)","v":""},{"$f":"+Table10[[#This Row],[Column1]]&Table10[[#This Row],[Column2]]","v":""},{"$f":"IF(COUNTIF(V$2:V93,V93)=1,V93,\"\")","v":""},"","",null,{"$f":"+IF(AF93=\"\",\"\",MAX(AA$1:AA92)+1)","v":""},{"$f":"IF(CPMS2!B115=\"\",\"\",CPMS2!B115)","v":""},{"$f":"IF(CPMS2!C115=\"\",\"\",CPMS2!C115)","v":""},{"$f":"IF(CPMS2!D115=\"\",\"\",CPMS2!D115)","v":""},"",{"$f":"IF(COUNTIF(AE$2:AE93,AE93)=1,AE93,\"\")","v":""},"","","",null,null,null,null,null,null,null,null,null,null,null,null,null,null,null,null,null,null,null,null,null,null,null,null,null,null,null,null,null,null,null,null,null,{"$f":"+IF(BV93=\"\",\"\",MAX(BQ$1:BQ92)+1)","v":""},{"$f":"IF(OpLimit!B115=\"\",\"\",OpLimit!B115)","v":""},{"$f":"IF(OpLimit!C115=\"\",\"\",OpLimit!C115)","v":""},{"$f":"IF(OpLimit!E115=\"\",\"\",OpLimit!E115)","v":""},"",{"$f":"IF(COUNTIF(BU$2:BU93,BU93)=1,BU93,\"\")","v":""},"","","",""]
[null,null,null,null,null,{"$f":"+IF(I94=\"\",\"\",MAX(F$1:F93)+1)","v":""},{"$f":"IF(Compliance_Options!C116=\"\",\"\",Compliance_Options!C116)","v":""},"",{"$f":"IF(COUNTIF(G$2:G94,G94)=1,G94,\"\")","v":""},null,{"$f":"+IF(N94=\"\",\"\",MAX(K$1:K93)+1)","v":""},{"$f":"IF(CPMS1!E116=\"\",\"\",CPMS1!E116)","v":""},"",{"$f":"IF(COUNTIF(L$2:L94,L94)=1,L94,\"\")","v":""},null,null,null,null,{"$f":"+IF(W94=\"\",\"\",MAX(S$1:S93)+1)","v":""},{"$f":"IF(Adhes_Sealer_Deadener!B116=\"\",\"\",Adhes_Sealer_Deadener!B116)","v":""},{"$f":"IF(Adhes_Sealer_Deadener!C116=\"\",\"\",Adhes_Sealer_Deadener!C116)","v":""},{"$f":"+Table10[[#This Row],[Column1]]&Table10[[#This Row],[Column2]]","v":""},{"$f":"IF(COUNTIF(V$2:V94,V94)=1,V94,\"\")","v":""},"","",null,{"$f":"+IF(AF94=\"\",\"\",MAX(AA$1:AA93)+1)","v":""},{"$f":"IF(CPMS2!B116=\"\",\"\",CPMS2!B116)","v":""},{"$f":"IF(CPMS2!C116=\"\",\"\",CPMS2!C116)","v":""},{"$f":"IF(CPMS2!D116=\"\",\"\",CPMS2!D116)","v":""},"",{"$f":"IF(COUNTIF(AE$2:AE94,AE94)=1,AE94,\"\")","v":""},"","","",null,null,null,null,null,null,null,null,null,null,null,null,null,null,null,null,null,null,null,null,null,null,null,null,null,null,null,null,null,null,null,null,null,{"$f":"+IF(BV94=\"\",\"\",MAX(BQ$1:BQ93)+1)","v":""},{"$f":"IF(OpLimit!B116=\"\",\"\",OpLimit!B116)","v":""},{"$f":"IF(OpLimit!C116=\"\",\"\",OpLimit!C116)","v":""},{"$f":"IF(OpLimit!E116=\"\",\"\",OpLimit!E116)","v":""},"",{"$f":"IF(COUNTIF(BU$2:BU94,BU94)=1,BU94,\"\")","v":""},"","","",""]
[null,null,null,null,null,{"$f":"+IF(I95=\"\",\"\",MAX(F$1:F94)+1)","v":""},{"$f":"IF(Compliance_Options!C117=\"\",\"\",Compliance_Options!C117)","v":""},"",{"$f":"IF(COUNTIF(G$2:G95,G95)=1,G95,\"\")","v":""},null,{"$f":"+IF(N95=\"\",\"\",MAX(K$1:K94)+1)","v":""},{"$f":"IF(CPMS1!E117=\"\",\"\",CPMS1!E117)","v":""},"",{"$f":"IF(COUNTIF(L$2:L95,L95)=1,L95,\"\")","v":""},null,null,null,null,{"$f":"+IF(W95=\"\",\"\",MAX(S$1:S94)+1)","v":""},{"$f":"IF(Adhes_Sealer_Deadener!B117=\"\",\"\",Adhes_Sealer_Deadener!B117)","v":""},{"$f":"IF(Adhes_Sealer_Deadener!C117=\"\",\"\",Adhes_Sealer_Deadener!C117)","v":""},{"$f":"+Table10[[#This Row],[Column1]]&Table10[[#This Row],[Column2]]","v":""},{"$f":"IF(COUNTIF(V$2:V95,V95)=1,V95,\"\")","v":""},"","",null,{"$f":"+IF(AF95=\"\",\"\",MAX(AA$1:AA94)+1)","v":""},{"$f":"IF(CPMS2!B117=\"\",\"\",CPMS2!B117)","v":""},{"$f":"IF(CPMS2!C117=\"\",\"\",CPMS2!C117)","v":""},{"$f":"IF(CPMS2!D117=\"\",\"\",CPMS2!D117)","v":""},"",{"$f":"IF(COUNTIF(AE$2:AE95,AE95)=1,AE95,\"\")","v":""},"","","",null,null,null,null,null,null,null,null,null,null,null,null,null,null,null,null,null,null,null,null,null,null,null,null,null,null,null,null,null,null,null,null,null,{"$f":"+IF(BV95=\"\",\"\",MAX(BQ$1:BQ94)+1)","v":""},{"$f":"IF(OpLimit!B117=\"\",\"\",OpLimit!B117)","v":""},{"$f":"IF(OpLimit!C117=\"\",\"\",OpLimit!C117)","v":""},{"$f":"IF(OpLimit!E117=\"\",\"\",OpLimit!E117)","v":""},"",{"$f":"IF(COUNTIF(BU$2:BU95,BU95)=1,BU95,\"\")","v":""},"","","",""]
[null,null,null,null,null,{"$f":"+IF(I96=\"\",\"\",MAX(F$1:F95)+1)","v":""},{"$f":"IF(Compliance_Options!C118=\"\",\"\",Compliance_Options!C118)","v":""},"",{"$f":"IF(COUNTIF(G$2:G96,G96)=1,G96,\"\")","v":""},null,{"$f":"+IF(N96=\"\",\"\",MAX(K$1:K95)+1)","v":""},{"$f":"IF(CPMS1!E118=\"\",\"\",CPMS1!E118)","v":""},"",{"$f":"IF(COUNTIF(L$2:L96,L96)=1,L96,\"\")","v":""},null,null,null,null,{"$f":"+IF(W96=\"\",\"\",MAX(S$1:S95)+1)","v":""},{"$f":"IF(Adhes_Sealer_Deadener!B118=\"\",\"\",Adhes_Sealer_Deadener!B118)","v":""},{"$f":"IF(Adhes_Sealer_Deadener!C118=\"\",\"\",Adhes_Sealer_Deadener!C118)","v":""},{"$f":"+Table10[[#This Row],[Column1]]&Table10[[#This Row],[Column2]]","v":""},{"$f":"IF(COUNTIF(V$2:V96,V96)=1,V96,\"\")","v":""},"","",null,{"$f":"+IF(AF96=\"\",\"\",MAX(AA$1:AA95)+1)","v":""},{"$f":"IF(CPMS2!B118=\"\",\"\",CPMS2!B118)","v":""},{"$f":"IF(CPMS2!C118=\"\",\"\",CPMS2!C118)","v":""},{"$f":"IF(CPMS2!D118=\"\",\"\",CPMS2!D118)","v":""},"",{"$f":"IF(COUNTIF(AE$2:AE96,AE96)=1,AE96,\"\")","v":""},"","","",null,null,null,null,null,null,null,null,null,null,null,null,null,null,null,null,null,null,null,null,null,null,null,null,null,null,null,null,null,null,null,null,null,{"$f":"+IF(BV96=\"\",\"\",MAX(BQ$1:BQ95)+1)","v":""},{"$f":"IF(OpLimit!B118=\"\",\"\",OpLimit!B118)","v":""},{"$f":"IF(OpLimit!C118=\"\",\"\",OpLimit!C118)","v":""},{"$f":"IF(OpLimit!E118=\"\",\"\",OpLimit!E118)","v":""},"",{"$f":"IF(COUNTIF(BU$2:BU96,BU96)=1,BU96,\"\")","v":""},"","","",""]
[null,null,null,null,null,{"$f":"+IF(I97=\"\",\"\",MAX(F$1:F96)+1)","v":""},{"$f":"IF(Compliance_Options!C119=\"\",\"\",Compliance_Options!C119)","v":""},"",{"$f":"IF(COUNTIF(G$2:G97,G97)=1,G97,\"\")","v":""},null,{"$f":"+IF(N97=\"\",\"\",MAX(K$1:K96)+1)","v":""},{"$f":"IF(CPMS1!E119=\"\",\"\",CPMS1!E119)","v":""},"",{"$f":"IF(COUNTIF(L$2:L97,L97)=1,L97,\"\")","v":""},null,null,null,null,{"$f":"+IF(W97=\"\",\"\",MAX(S$1:S96)+1)","v":""},{"$f":"IF(Adhes_Sealer_Deadener!B119=\"\",\"\",Adhes_Sealer_Deadener!B119)","v":""},{"$f":"IF(Adhes_Sealer_Deadener!C119=\"\",\"\",Adhes_Sealer_Deadener!C119)","v":""},{"$f":"+Table10[[#This Row],[Column1]]&Table10[[#This Row],[Column2]]","v":""},{"$f":"IF(COUNTIF(V$2:V97,V97)=1,V97,\"\")","v":""},"","",null,{"$f":"+IF(AF97=\"\",\"\",MAX(AA$1:AA96)+1)","v":""},{"$f":"IF(CPMS2!B119=\"\",\"\",CPMS2!B119)","v":""},{"$f":"IF(CPMS2!C119=\"\",\"\",CPMS2!C119)","v":""},{"$f":"IF(CPMS2!D119=\"\",\"\",CPMS2!D119)","v":""},"",{"$f":"IF(COUNTIF(AE$2:AE97,AE97)=1,AE97,\"\")","v":""},"","","",null,null,null,null,null,null,null,null,null,null,null,null,null,null,null,null,null,null,null,null,null,null,null,null,null,null,null,null,null,null,null,null,null,{"$f":"+IF(BV97=\"\",\"\",MAX(BQ$1:BQ96)+1)","v":""},{"$f":"IF(OpLimit!B119=\"\",\"\",OpLimit!B119)","v":""},{"$f":"IF(OpLimit!C119=\"\",\"\",OpLimit!C119)","v":""},{"$f":"IF(OpLimit!E119=\"\",\"\",OpLimit!E119)","v":""},"",{"$f":"IF(COUNTIF(BU$2:BU97,BU97)=1,BU97,\"\")","v":""},"","","",""]
[null,null,null,null,null,{"$f":"+IF(I98=\"\",\"\",MAX(F$1:F97)+1)","v":""},{"$f":"IF(Compliance_Options!C120=\"\",\"\",Compliance_Options!C120)","v":""},"",{"$f":"IF(COUNTIF(G$2:G98,G98)=1,G98,\"\")","v":""},null,{"$f":"+IF(N98=\"\",\"\",MAX(K$1:K97)+1)","v":""},{"$f":"IF(CPMS1!E120=\"\",\"\",CPMS1!E120)","v":""},"",{"$f":"IF(COUNTIF(L$2:L98,L98)=1,L98,\"\")","v":""},null,null,null,null,{"$f":"+IF(W98=\"\",\"\",MAX(S$1:S97)+1)","v":""},{"$f":"IF(Adhes_Sealer_Deadener!B120=\"\",\"\",Adhes_Sealer_Deadener!B120)","v":""},{"$f":"IF(Adhes_Sealer_Deadener!C120=\"\",\"\",Adhes_Sealer_Deadener!C120)","v":""},{"$f":"+Table10[[#This Row],[Column1]]&Table10[[#This Row],[Column2]]","v":""},{"$f":"IF(COUNTIF(V$2:V98,V98)=1,V98,\"\")","v":""},"","",null,{"$f":"+IF(AF98=\"\",\"\",MAX(AA$1:AA97)+1)","v":""},{"$f":"IF(CPMS2!B120=\"\",\"\",CPMS2!B120)","v":""},{"$f":"IF(CPMS2!C120=\"\",\"\",CPMS2!C120)","v":""},{"$f":"IF(CPMS2!D120=\"\",\"\",CPMS2!D120)","v":""},"",{"$f":"IF(COUNTIF(AE$2:AE98,AE98)=1,AE98,\"\")","v":""},"","","",null,null,null,null,null,null,null,null,null,null,null,null,null,null,null,null,null,null,null,null,null,null,null,null,null,null,null,null,null,null,null,null,null,{"$f":"+IF(BV98=\"\",\"\",MAX(BQ$1:BQ97)+1)","v":""},{"$f":"IF(OpLimit!B120=\"\",\"\",OpLimit!B120)","v":""},{"$f":"IF(OpLimit!C120=\"\",\"\",OpLimit!C120)","v":""},{"$f":"IF(OpLimit!E120=\"\",\"\",OpLimit!E120)","v":""},"",{"$f":"IF(COUNTIF(BU$2:BU98,BU98)=1,BU98,\"\")","v":""},"","","",""]
[null,null,null,null,null,{"$f":"+IF(I99=\"\",\"\",MAX(F$1:F98)+1)","v":""},{"$f":"IF(Compliance_Options!C121=\"\",\"\",Compliance_Options!C121)","v":""},"",{"$f":"IF(COUNTIF(G$2:G99,G99)=1,G99,\"\")","v":""},null,{"$f":"+IF(N99=\"\",\"\",MAX(K$1:K98)+1)","v":""},{"$f":"IF(CPMS1!E121=\"\",\"\",CPMS1!E121)","v":""},"",{"$f":"IF(COUNTIF(L$2:L99,L99)=1,L99,\"\")","v":""},null,null,null,null,{"$f":"+IF(W99=\"\",\"\",MAX(S$1:S98)+1)","v":""},{"$f":"IF(Adhes_Sealer_Deadener!B121=\"\",\"\",Adhes_Sealer_Deadener!B121)","v":""},{"$f":"IF(Adhes_Sealer_Deadener!C121=\"\",\"\",Adhes_Sealer_Deadener!C121)","v":""},{"$f":"+Table10[[#This Row],[Column1]]&Table10[[#This Row],[Column2]]","v":""},{"$f":"IF(COUNTIF(V$2:V99,V99)=1,V99,\"\")","v":""},"","",null,{"$f":"+IF(AF99=\"\",\"\",MAX(AA$1:AA98)+1)","v":""},{"$f":"IF(CPMS2!B121=\"\",\"\",CPMS2!B121)","v":""},{"$f":"IF(CPMS2!C121=\"\",\"\",CPMS2!C121)","v":""},{"$f":"IF(CPMS2!D121=\"\",\"\",CPMS2!D121)","v":""},"",{"$f":"IF(COUNTIF(AE$2:AE99,AE99)=1,AE99,\"\")","v":""},"","","",null,null,null,null,null,null,null,null,null,null,null,null,null,null,null,null,null,null,null,null,null,null,null,null,null,null,null,null,null,null,null,null,null,{"$f":"+IF(BV99=\"\",\"\",MAX(BQ$1:BQ98)+1)","v":""},{"$f":"IF(OpLimit!B121=\"\",\"\",OpLimit!B121)","v":""},{"$f":"IF(OpLimit!C121=\"\",\"\",OpLimit!C121)","v":""},{"$f":"IF(OpLimit!E121=\"\",\"\",OpLimit!E121)","v":""},"",{"$f":"IF(COUNTIF(BU$2:BU99,BU99)=1,BU99,\"\")","v":""},"","","",""]
[null,null,null,null,null,{"$f":"+IF(I100=\"\",\"\",MAX(F$1:F99)+1)","v":""},{"$f":"IF(Compliance_Options!C122=\"\",\"\",Compliance_Options!C122)","v":""},"",{"$f":"IF(COUNTIF(G$2:G100,G100)=1,G100,\"\")","v":""},null,{"$f":"+IF(N100=\"\",\"\",MAX(K$1:K99)+1)","v":""},{"$f":"IF(CPMS1!E122=\"\",\"\",CPMS1!E122)","v":""},"",{"$f":"IF(COUNTIF(L$2:L100,L100)=1,L100,\"\")","v":""},null,null,null,null,{"$f":"+IF(W100=\"\",\"\",MAX(S$1:S99)+1)","v":""},{"$f":"IF(Adhes_Sealer_Deadener!B122=\"\",\"\",Adhes_Sealer_Deadener!B122)","v":""},{"$f":"IF(Adhes_Sealer_Deadener!C122=\"\",\"\",Adhes_Sealer_Deadener!C122)","v":""},{"$f":"+Table10[[#This Row],[Column1]]&Table10[[#This Row],[Column2]]","v":""},{"$f":"IF(COUNTIF(V$2:V100,V100)=1,V100,\"\")","v":""},"","",null,{"$f":"+IF(AF100=\"\",\"\",MAX(AA$1:AA99)+1)","v":""},{"$f":"IF(CPMS2!B122=\"\",\"\",CPMS2!B122)","v":""},{"$f":"IF(CPMS2!C122=\"\",\"\",CPMS2!C122)","v":""},{"$f":"IF(CPMS2!D122=\"\",\"\",CPMS2!D122)","v":""},"",{"$f":"IF(COUNTIF(AE$2:AE100,AE100)=1,AE100,\"\")","v":""},"","","",null,null,null,null,null,null,null,null,null,null,null,null,null,null,null,null,null,null,null,null,null,null,null,null,null,null,null,null,null,null,null,null,null,{"$f":"+IF(BV100=\"\",\"\",MAX(BQ$1:BQ99)+1)","v":""},{"$f":"IF(OpLimit!B122=\"\",\"\",OpLimit!B122)","v":""},{"$f":"IF(OpLimit!C122=\"\",\"\",OpLimit!C122)","v":""},{"$f":"IF(OpLimit!E122=\"\",\"\",OpLimit!E122)","v":""},"",{"$f":"IF(COUNTIF(BU$2:BU100,BU100)=1,BU100,\"\")","v":""},"","","",""]
[null,null,null,null,null,{"$f":"+IF(I101=\"\",\"\",MAX(F$1:F100)+1)","v":""},{"$f":"IF(Compliance_Options!C123=\"\",\"\",Compliance_Options!C123)","v":""},"",{"$f":"IF(COUNTIF(G$2:G101,G101)=1,G101,\"\")","v":""},null,{"$f":"+IF(N101=\"\",\"\",MAX(K$1:K100)+1)","v":""},{"$f":"IF(CPMS1!E123=\"\",\"\",CPMS1!E123)","v":""},"",{"$f":"IF(COUNTIF(L$2:L101,L101)=1,L101,\"\")","v":""},null,null,null,null,{"$f":"+IF(W101=\"\",\"\",MAX(S$1:S100)+1)","v":""},{"$f":"IF(Adhes_Sealer_Deadener!B123=\"\",\"\",Adhes_Sealer_Deadener!B123)","v":""},{"$f":"IF(Adhes_Sealer_Deadener!C123=\"\",\"\",Adhes_Sealer_Deadener!C123)","v":""},{"$f":"+Table10[[#This Row],[Column1]]&Table10[[#This Row],[Column2]]","v":""},{"$f":"IF(COUNTIF(V$2:V101,V101)=1,V101,\"\")","v":""},"","",null,{"$f":"+IF(AF101=\"\",\"\",MAX(AA$1:AA100)+1)","v":""},{"$f":"IF(CPMS2!B123=\"\",\"\",CPMS2!B123)","v":""},{"$f":"IF(CPMS2!C123=\"\",\"\",CPMS2!C123)","v":""},{"$f":"IF(CPMS2!D123=\"\",\"\",CPMS2!D123)","v":""},"",{"$f":"IF(COUNTIF(AE$2:AE101,AE101)=1,AE101,\"\")","v":""},"","","",null,null,null,null,null,null,null,null,null,null,null,null,null,null,null,null,null,null,null,null,null,null,null,null,null,null,null,null,null,null,null,null,null,{"$f":"+IF(BV101=\"\",\"\",MAX(BQ$1:BQ100)+1)","v":""},{"$f":"IF(OpLimit!B123=\"\",\"\",OpLimit!B123)","v":""},{"$f":"IF(OpLimit!C123=\"\",\"\",OpLimit!C123)","v":""},{"$f":"IF(OpLimit!E123=\"\",\"\",OpLimit!E123)","v":""},"",{"$f":"IF(COUNTIF(BU$2:BU101,BU101)=1,BU101,\"\")","v":""},"","","",""]
[null,null,null,null,null,null,null,null,null,null,{"$f":"+IF(N102=\"\",\"\",MAX(K$1:K101)+1)","v":""},{"$f":"IF(CPMS1!E124=\"\",\"\",CPMS1!E124)","v":""},"",{"$f":"IF(COUNTIF(L$2:L102,L102)=1,L102,\"\")","v":""},null,null,null,null,{"$f":"+IF(W102=\"\",\"\",MAX(S$1:S101)+1)","v":""},{"$f":"IF(Adhes_Sealer_Deadener!B124=\"\",\"\",Adhes_Sealer_Deadener!B124)","v":""},{"$f":"IF(Adhes_Sealer_Deadener!C124=\"\",\"\",Adhes_Sealer_Deadener!C124)","v":""},{"$f":"+Table10[[#This Row],[Column1]]&Table10[[#This Row],[Column2]]","v":""},{"$f":"IF(COUNTIF(V$2:V102,V102)=1,V102,\"\")","v":""},"","",null,{"$f":"+IF(AF102=\"\",\"\",MAX(AA$1:AA101)+1)","v":""},{"$f":"IF(CPMS2!B124=\"\",\"\",CPMS2!B124)","v":""},{"$f":"IF(CPMS2!C124=\"\",\"\",CPMS2!C124)","v":""},{"$f":"IF(CPMS2!D124=\"\",\"\",CPMS2!D124)","v":""},"",{"$f":"IF(COUNTIF(AE$2:AE102,AE102)=1,AE102,\"\")","v":""},"","","",null,null,null,null,null,null,null,null,null,null,null,null,null,null,null,null,null,null,null,null,null,null,null,null,null,null,null,null,null,null,null,null,null,{"$f":"+IF(BV102=\"\",\"\",MAX(BQ$1:BQ101)+1)","v":""},{"$f":"IF(OpLimit!B124=\"\",\"\",OpLimit!B124)","v":""},{"$f":"IF(OpLimit!C124=\"\",\"\",OpLimit!C124)","v":""},{"$f":"IF(OpLimit!E124=\"\",\"\",OpLimit!E124)","v":""},"",{"$f":"IF(COUNTIF(BU$2:BU102,BU102)=1,BU102,\"\")","v":""},"","","",""]
[null,null,null,null,null,null,null,null,null,null,{"$f":"+IF(N103=\"\",\"\",MAX(K$1:K102)+1)","v":""},{"$f":"IF(CPMS1!E125=\"\",\"\",CPMS1!E125)","v":""},"",{"$f":"IF(COUNTIF(L$2:L103,L103)=1,L103,\"\")","v":""},null,null,null,null,{"$f":"+IF(W103=\"\",\"\",MAX(S$1:S102)+1)","v":""},{"$f":"IF(Adhes_Sealer_Deadener!B125=\"\",\"\",Adhes_Sealer_Deadener!B125)","v":""},{"$f":"IF(Adhes_Sealer_Deadener!C125=\"\",\"\",Adhes_Sealer_Deadener!C125)","v":""},{"$f":"+Table10[[#This Row],[Column1]]&Table10[[#This Row],[Column2]]","v":""},{"$f":"IF(COUNTIF(V$2:V103,V103)=1,V103,\"\")","v":""},"","",null,{"$f":"+IF(AF103=\"\",\"\",MAX(AA$1:AA102)+1)","v":""},{"$f":"IF(CPMS2!B125=\"\",\"\",CPMS2!B125)","v":""},{"$f":"IF(CPMS2!C125=\"\",\"\",CPMS2!C125)","v":""},{"$f":"IF(CPMS2!D125=\"\",\"\",CPMS2!D125)","v":""},"",{"$f":"IF(COUNTIF(AE$2:AE103,AE103)=1,AE103,\"\")","v":""},"","","",null,null,null,null,null,null,null,null,null,null,null,null,null,null,null,null,null,null,null,null,null,null,null,null,null,null,null,null,null,null,null,null,null,{"$f":"+IF(BV103=\"\",\"\",MAX(BQ$1:BQ102)+1)","v":""},{"$f":"IF(OpLimit!B125=\"\",\"\",OpLimit!B125)","v":""},{"$f":"IF(OpLimit!C125=\"\",\"\",OpLimit!C125)","v":""},{"$f":"IF(OpLimit!E125=\"\",\"\",OpLimit!E125)","v":""},"",{"$f":"IF(COUNTIF(BU$2:BU103,BU103)=1,BU103,\"\")","v":""},"","","",""]
[null,null,null,null,null,null,null,null,null,null,{"$f":"+IF(N104=\"\",\"\",MAX(K$1:K103)+1)","v":""},{"$f":"IF(CPMS1!E126=\"\",\"\",CPMS1!E126)","v":""},"",{"$f":"IF(COUNTIF(L$2:L104,L104)=1,L104,\"\")","v":""},null,null,null,null,{"$f":"+IF(W104=\"\",\"\",MAX(S$1:S103)+1)","v":""},{"$f":"IF(Adhes_Sealer_Deadener!B126=\"\",\"\",Adhes_Sealer_Deadener!B126)","v":""},{"$f":"IF(Adhes_Sealer_Deadener!C126=\"\",\"\",Adhes_Sealer_Deadener!C126)","v":""},{"$f":"+Table10[[#This Row],[Column1]]&Table10[[#This Row],[Column2]]","v":""},{"$f":"IF(COUNTIF(V$2:V104,V104)=1,V104,\"\")","v":""},"","",null,{"$f":"+IF(AF104=\"\",\"\",MAX(AA$1:AA103)+1)","v":""},{"$f":"IF(CPMS2!B126=\"\",\"\",CPMS2!B126)","v":""},{"$f":"IF(CPMS2!C126=\"\",\"\",CPMS2!C126)","v":""},{"$f":"IF(CPMS2!D126=\"\",\"\",CPMS2!D126)","v":""},"",{"$f":"IF(COUNTIF(AE$2:AE104,AE104)=1,AE104,\"\")","v":""},"","","",null,null,null,null,null,null,null,null,null,null,null,null,null,null,null,null,null,null,null,null,null,null,null,null,null,null,null,null,null,null,null,null,null,{"$f":"+IF(BV104=\"\",\"\",MAX(BQ$1:BQ103)+1)","v":""},{"$f":"IF(OpLimit!B126=\"\",\"\",OpLimit!B126)","v":""},{"$f":"IF(OpLimit!C126=\"\",\"\",OpLimit!C126)","v":""},{"$f":"IF(OpLimit!E126=\"\",\"\",OpLimit!E126)","v":""},"",{"$f":"IF(COUNTIF(BU$2:BU104,BU104)=1,BU104,\"\")","v":""},"","","",""]
[null,null,null,null,null,null,null,null,null,null,{"$f":"+IF(N105=\"\",\"\",MAX(K$1:K104)+1)","v":""},{"$f":"IF(CPMS1!E127=\"\",\"\",CPMS1!E127)","v":""},"",{"$f":"IF(COUNTIF(L$2:L105,L105)=1,L105,\"\")","v":""},null,null,null,null,{"$f":"+IF(W105=\"\",\"\",MAX(S$1:S104)+1)","v":""},{"$f":"IF(Adhes_Sealer_Deadener!B127=\"\",\"\",Adhes_Sealer_Deadener!B127)","v":""},{"$f":"IF(Adhes_Sealer_Deadener!C127=\"\",\"\",Adhes_Sealer_Deadener!C127)","v":""},{"$f":"+Table10[[#This Row],[Column1]]&Table10[[#This Row],[Column2]]","v":""},{"$f":"IF(COUNTIF(V$2:V105,V105)=1,V105,\"\")","v":""},"","",null,{"$f":"+IF(AF105=\"\",\"\",MAX(AA$1:AA104)+1)","v":""},{"$f":"IF(CPMS2!B127=\"\",\"\",CPMS2!B127)","v":""},{"$f":"IF(CPMS2!C127=\"\",\"\",CPMS2!C127)","v":""},{"$f":"IF(CPMS2!D127=\"\",\"\",CPMS2!D127)","v":""},"",{"$f":"IF(COUNTIF(AE$2:AE105,AE105)=1,AE105,\"\")","v":""},"","","",null,null,null,null,null,null,null,null,null,null,null,null,null,null,null,null,null,null,null,null,null,null,null,null,null,null,null,null,null,null,null,null,null,{"$f":"+IF(BV105=\"\",\"\",MAX(BQ$1:BQ104)+1)","v":""},{"$f":"IF(OpLimit!B127=\"\",\"\",OpLimit!B127)","v":""},{"$f":"IF(OpLimit!C127=\"\",\"\",OpLimit!C127)","v":""},{"$f":"IF(OpLimit!E127=\"\",\"\",OpLimit!E127)","v":""},"",{"$f":"IF(COUNTIF(BU$2:BU105,BU105)=1,BU105,\"\")","v":""},"","","",""]
[null,null,null,null,null,null,null,null,null,null,{"$f":"+IF(N106=\"\",\"\",MAX(K$1:K105)+1)","v":""},{"$f":"IF(CPMS1!E128=\"\",\"\",CPMS1!E128)","v":""},"",{"$f":"IF(COUNTIF(L$2:L106,L106)=1,L106,\"\")","v":""},null,null,null,null,{"$f":"+IF(W106=\"\",\"\",MAX(S$1:S105)+1)","v":""},{"$f":"IF(Adhes_Sealer_Deadener!B128=\"\",\"\",Adhes_Sealer_Deadener!B128)","v":""},{"$f":"IF(Adhes_Sealer_Deadener!C128=\"\",\"\",Adhes_Sealer_Deadener!C128)","v":""},{"$f":"+Table10[[#This Row],[Column1]]&Table10[[#This Row],[Column2]]","v":""},{"$f":"IF(COUNTIF(V$2:V106,V106)=1,V106,\"\")","v":""},"","",null,{"$f":"+IF(AF106=\"\",\"\",MAX(AA$1:AA105)+1)","v":""},{"$f":"IF(CPMS2!B128=\"\",\"\",CPMS2!B128)","v":""},{"$f":"IF(CPMS2!C128=\"\",\"\",CPMS2!C128)","v":""},{"$f":"IF(CPMS2!D128=\"\",\"\",CPMS2!D128)","v":""},"",{"$f":"IF(COUNTIF(AE$2:AE106,AE106)=1,AE106,\"\")","v":""},"","","",null,null,null,null,null,null,null,null,null,null,null,null,null,null,null,null,null,null,null,null,null,null,null,null,null,null,null,null,null,null,null,null,null,{"$f":"+IF(BV106=\"\",\"\",MAX(BQ$1:BQ105)+1)","v":""},{"$f":"IF(OpLimit!B128=\"\",\"\",OpLimit!B128)","v":""},{"$f":"IF(OpLimit!C128=\"\",\"\",OpLimit!C128)","v":""},{"$f":"IF(OpLimit!E128=\"\",\"\",OpLimit!E128)","v":""},"",{"$f":"IF(COUNTIF(BU$2:BU106,BU106)=1,BU106,\"\")","v":""},"","","",""]
[null,null,null,null,null,null,null,null,null,null,{"$f":"+IF(N107=\"\",\"\",MAX(K$1:K106)+1)","v":""},{"$f":"IF(CPMS1!E129=\"\",\"\",CPMS1!E129)","v":""},"",{"$f":"IF(COUNTIF(L$2:L107,L107)=1,L107,\"\")","v":""},null,null,null,null,{"$f":"+IF(W107=\"\",\"\",MAX(S$1:S106)+1)","v":""},{"$f":"IF(Adhes_Sealer_Deadener!B129=\"\",\"\",Adhes_Sealer_Deadener!B129)","v":""},{"$f":"IF(Adhes_Sealer_Deadener!C129=\"\",\"\",Adhes_Sealer_Deadener!C129)","v":""},{"$f":"+Table10[[#This Row],[Column1]]&Table10[[#This Row],[Column2]]","v":""},{"$f":"IF(COUNTIF(V$2:V107,V107)=1,V107,\"\")","v":""},"","",null,{"$f":"+IF(AF107=\"\",\"\",MAX(AA$1:AA106)+1)","v":""},{"$f":"IF(CPMS2!B129=\"\",\"\",CPMS2!B129)","v":""},{"$f":"IF(CPMS2!C129=\"\",\"\",CPMS2!C129)","v":""},{"$f":"IF(CPMS2!D129=\"\",\"\",CPMS2!D129)","v":""},"",{"$f":"IF(COUNTIF(AE$2:AE107,AE107)=1,AE107,\"\")","v":""},"","","",null,null,null,null,null,null,null,null,null,null,null,null,null,null,null,null,null,null,null,null,null,null,null,null,null,null,null,null,null,null,null,null,null,{"$f":"+IF(BV107=\"\",\"\",MAX(BQ$1:BQ106)+1)","v":""},{"$f":"IF(OpLimit!B129=\"\",\"\",OpLimit!B129)","v":""},{"$f":"IF(OpLimit!C129=\"\",\"\",OpLimit!C129)","v":""},{"$f":"IF(OpLimit!E129=\"\",\"\",OpLimit!E129)","v":""},"",{"$f":"IF(COUNTIF(BU$2:BU107,BU107)=1,BU107,\"\")","v":""},"","","",""]
[null,null,null,null,null,null,null,null,null,null,{"$f":"+IF(N108=\"\",\"\",MAX(K$1:K107)+1)","v":""},{"$f":"IF(CPMS1!E130=\"\",\"\",CPMS1!E130)","v":""},"",{"$f":"IF(COUNTIF(L$2:L108,L108)=1,L108,\"\")","v":""},null,null,null,null,{"$f":"+IF(W108=\"\",\"\",MAX(S$1:S107)+1)","v":""},{"$f":"IF(Adhes_Sealer_Deadener!B130=\"\",\"\",Adhes_Sealer_Deadener!B130)","v":""},{"$f":"IF(Adhes_Sealer_Deadener!C130=\"\",\"\",Adhes_Sealer_Deadener!C130)","v":""},{"$f":"+Table10[[#This Row],[Column1]]&Table10[[#This Row],[Column2]]","v":""},{"$f":"IF(COUNTIF(V$2:V108,V108)=1,V108,\"\")","v":""},"","",null,{"$f":"+IF(AF108=\"\",\"\",MAX(AA$1:AA107)+1)","v":""},{"$f":"IF(CPMS2!B130=\"\",\"\",CPMS2!B130)","v":""},{"$f":"IF(CPMS2!C130=\"\",\"\",CPMS2!C130)","v":""},{"$f":"IF(CPMS2!D130=\"\",\"\",CPMS2!D130)","v":""},"",{"$f":"IF(COUNTIF(AE$2:AE108,AE108)=1,AE108,\"\")","v":""},"","","",null,null,null,null,null,null,null,null,null,null,null,null,null,null,null,null,null,null,null,null,null,null,null,null,null,null,null,null,null,null,null,null,null,{"$f":"+IF(BV108=\"\",\"\",MAX(BQ$1:BQ107)+1)","v":""},{"$f":"IF(OpLimit!B130=\"\",\"\",OpLimit!B130)","v":""},{"$f":"IF(OpLimit!C130=\"\",\"\",OpLimit!C130)","v":""},{"$f":"IF(OpLimit!E130=\"\",\"\",OpLimit!E130)","v":""},"",{"$f":"IF(COUNTIF(BU$2:BU108,BU108)=1,BU108,\"\")","v":""},"","","",""]
[null,null,null,null,null,null,null,null,null,null,{"$f":"+IF(N109=\"\",\"\",MAX(K$1:K108)+1)","v":""},{"$f":"IF(CPMS1!E131=\"\",\"\",CPMS1!E131)","v":""},"",{"$f":"IF(COUNTIF(L$2:L109,L109)=1,L109,\"\")","v":""},null,null,null,null,{"$f":"+IF(W109=\"\",\"\",MAX(S$1:S108)+1)","v":""},{"$f":"IF(Adhes_Sealer_Deadener!B131=\"\",\"\",Adhes_Sealer_Deadener!B131)","v":""},{"$f":"IF(Adhes_Sealer_Deadener!C131=\"\",\"\",Adhes_Sealer_Deadener!C131)","v":""},{"$f":"+Table10[[#This Row],[Column1]]&Table10[[#This Row],[Column2]]","v":""},{"$f":"IF(COUNTIF(V$2:V109,V109)=1,V109,\"\")","v":""},"","",null,{"$f":"+IF(AF109=\"\",\"\",MAX(AA$1:AA108)+1)","v":""},{"$f":"IF(CPMS2!B131=\"\",\"\",CPMS2!B131)","v":""},{"$f":"IF(CPMS2!C131=\"\",\"\",CPMS2!C131)","v":""},{"$f":"IF(CPMS2!D131=\"\",\"\",CPMS2!D131)","v":""},"",{"$f":"IF(COUNTIF(AE$2:AE109,AE109)=1,AE109,\"\")","v":""},"","","",null,null,null,null,null,null,null,null,null,null,null,null,null,null,null,null,null,null,null,null,null,null,null,null,null,null,null,null,null,null,null,null,null,{"$f":"+IF(BV109=\"\",\"\",MAX(BQ$1:BQ108)+1)","v":""},{"$f":"IF(OpLimit!B131=\"\",\"\",OpLimit!B131)","v":""},{"$f":"IF(OpLimit!C131=\"\",\"\",OpLimit!C131)","v":""},{"$f":"IF(OpLimit!E131=\"\",\"\",OpLimit!E131)","v":""},"",{"$f":"IF(COUNTIF(BU$2:BU109,BU109)=1,BU109,\"\")","v":""},"","","",""]
[null,null,null,null,null,null,null,null,null,null,{"$f":"+IF(N110=\"\",\"\",MAX(K$1:K109)+1)","v":""},{"$f":"IF(CPMS1!E132=\"\",\"\",CPMS1!E132)","v":""},"",{"$f":"IF(COUNTIF(L$2:L110,L110)=1,L110,\"\")","v":""},null,null,null,null,{"$f":"+IF(W110=\"\",\"\",MAX(S$1:S109)+1)","v":""},{"$f":"IF(Adhes_Sealer_Deadener!B132=\"\",\"\",Adhes_Sealer_Deadener!B132)","v":""},{"$f":"IF(Adhes_Sealer_Deadener!C132=\"\",\"\",Adhes_Sealer_Deadener!C132)","v":""},{"$f":"+Table10[[#This Row],[Column1]]&Table10[[#This Row],[Column2]]","v":""},{"$f":"IF(COUNTIF(V$2:V110,V110)=1,V110,\"\")","v":""},"","",null,{"$f":"+IF(AF110=\"\",\"\",MAX(AA$1:AA109)+1)","v":""},{"$f":"IF(CPMS2!B132=\"\",\"\",CPMS2!B132)","v":""},{"$f":"IF(CPMS2!C132=\"\",\"\",CPMS2!C132)","v":""},{"$f":"IF(CPMS2!D132=\"\",\"\",CPMS2!D132)","v":""},"",{"$f":"IF(COUNTIF(AE$2:AE110,AE110)=1,AE110,\"\")","v":""},"","","",null,null,null,null,null,null,null,null,null,null,null,null,null,null,null,null,null,null,null,null,null,null,null,null,null,null,null,null,null,null,null,null,null,{"$f":"+IF(BV110=\"\",\"\",MAX(BQ$1:BQ109)+1)","v":""},{"$f":"IF(OpLimit!B132=\"\",\"\",OpLimit!B132)","v":""},{"$f":"IF(OpLimit!C132=\"\",\"\",OpLimit!C132)","v":""},{"$f":"IF(OpLimit!E132=\"\",\"\",OpLimit!E132)","v":""},"",{"$f":"IF(COUNTIF(BU$2:BU110,BU110)=1,BU110,\"\")","v":""},"","","",""]
[null,null,null,null,null,null,null,null,null,null,{"$f":"+IF(N111=\"\",\"\",MAX(K$1:K110)+1)","v":""},{"$f":"IF(CPMS1!E133=\"\",\"\",CPMS1!E133)","v":""},"",{"$f":"IF(COUNTIF(L$2:L111,L111)=1,L111,\"\")","v":""},null,null,null,null,{"$f":"+IF(W111=\"\",\"\",MAX(S$1:S110)+1)","v":""},{"$f":"IF(Adhes_Sealer_Deadener!B133=\"\",\"\",Adhes_Sealer_Deadener!B133)","v":""},{"$f":"IF(Adhes_Sealer_Deadener!C133=\"\",\"\",Adhes_Sealer_Deadener!C133)","v":""},{"$f":"+Table10[[#This Row],[Column1]]&Table10[[#This Row],[Column2]]","v":""},{"$f":"IF(COUNTIF(V$2:V111,V111)=1,V111,\"\")","v":""},"","",null,{"$f":"+IF(AF111=\"\",\"\",MAX(AA$1:AA110)+1)","v":""},{"$f":"IF(CPMS2!B133=\"\",\"\",CPMS2!B133)","v":""},{"$f":"IF(CPMS2!C133=\"\",\"\",CPMS2!C133)","v":""},{"$f":"IF(CPMS2!D133=\"\",\"\",CPMS2!D133)","v":""},"",{"$f":"IF(COUNTIF(AE$2:AE111,AE111)=1,AE111,\"\")","v":""},"","","",null,null,null,null,null,null,null,null,null,null,null,null,null,null,null,null,null,null,null,null,null,null,null,null,null,null,null,null,null,null,null,null,null,{"$f":"+IF(BV111=\"\",\"\",MAX(BQ$1:BQ110)+1)","v":""},{"$f":"IF(OpLimit!B133=\"\",\"\",OpLimit!B133)","v":""},{"$f":"IF(OpLimit!C133=\"\",\"\",OpLimit!C133)","v":""},{"$f":"IF(OpLimit!E133=\"\",\"\",OpLimit!E133)","v":""},"",{"$f":"IF(COUNTIF(BU$2:BU111,BU111)=1,BU111,\"\")","v":""},"","","",""]
[null,null,null,null,null,null,null,null,null,null,{"$f":"+IF(N112=\"\",\"\",MAX(K$1:K111)+1)","v":""},{"$f":"IF(CPMS1!E134=\"\",\"\",CPMS1!E134)","v":""},"",{"$f":"IF(COUNTIF(L$2:L112,L112)=1,L112,\"\")","v":""},null,null,null,null,{"$f":"+IF(W112=\"\",\"\",MAX(S$1:S478)+1)","v":""},{"$f":"IF(Adhes_Sealer_Deadener!B134=\"\",\"\",Adhes_Sealer_Deadener!B134)","v":""},{"$f":"IF(Adhes_Sealer_Deadener!C134=\"\",\"\",Adhes_Sealer_Deadener!C134)","v":""},{"$f":"+Table10[[#This Row],[Column1]]&Table10[[#This Row],[Column2]]","v":""},{"$f":"IF(COUNTIF(V$2:V112,V112)=1,V112,\"\")","v":""},"","",null,{"$f":"+IF(AF112=\"\",\"\",MAX(AA$1:AA111)+1)","v":""},{"$f":"IF(CPMS2!B134=\"\",\"\",CPMS2!B134)","v":""},{"$f":"IF(CPMS2!C134=\"\",\"\",CPMS2!C134)","v":""},{"$f":"IF(CPMS2!D134=\"\",\"\",CPMS2!D134)","v":""},"",{"$f":"IF(COUNTIF(AE$2:AE112,AE112)=1,AE112,\"\")","v":""},"","","",null,null,null,null,null,null,null,null,null,null,null,null,null,null,null,null,null,null,null,null,null,null,null,null,null,null,null,null,null,null,null,null,null,{"$f":"+IF(BV112=\"\",\"\",MAX(BQ$1:BQ111)+1)","v":""},{"$f":"IF(OpLimit!B134=\"\",\"\",OpLimit!B134)","v":""},{"$f":"IF(OpLimit!C134=\"\",\"\",OpLimit!C134)","v":""},{"$f":"IF(OpLimit!E134=\"\",\"\",OpLimit!E134)","v":""},"",{"$f":"IF(COUNTIF(BU$2:BU112,BU112)=1,BU112,\"\")","v":""},"","","",""]
[null,null,null,null,null,null,null,null,null,null,{"$f":"+IF(N113=\"\",\"\",MAX(K$1:K112)+1)","v":""},{"$f":"IF(CPMS1!E135=\"\",\"\",CPMS1!E135)","v":""},"",{"$f":"IF(COUNTIF(L$2:L113,L113)=1,L113,\"\")","v":""},null,null,null,null,{"$f":"+IF(W113=\"\",\"\",MAX(S$1:S112)+1)","v":""},{"$f":"IF(Adhes_Sealer_Deadener!B135=\"\",\"\",Adhes_Sealer_Deadener!B135)","v":""},{"$f":"IF(Adhes_Sealer_Deadener!C135=\"\",\"\",Adhes_Sealer_Deadener!C135)","v":""},{"$f":"+Table10[[#This Row],[Column1]]&Table10[[#This Row],[Column2]]","v":""},{"$f":"IF(COUNTIF(V$2:V113,V113)=1,V113,\"\")","v":""},"","",null,{"$f":"+IF(AF113=\"\",\"\",MAX(AA$1:AA112)+1)","v":""},{"$f":"IF(CPMS2!B135=\"\",\"\",CPMS2!B135)","v":""},{"$f":"IF(CPMS2!C135=\"\",\"\",CPMS2!C135)","v":""},{"$f":"IF(CPMS2!D135=\"\",\"\",CPMS2!D135)","v":""},"",{"$f":"IF(COUNTIF(AE$2:AE113,AE113)=1,AE113,\"\")","v":""},"","","",null,null,null,null,null,null,null,null,null,null,null,null,null,null,null,null,null,null,null,null,null,null,null,null,null,null,null,null,null,null,null,null,null,{"$f":"+IF(BV113=\"\",\"\",MAX(BQ$1:BQ112)+1)","v":""},{"$f":"IF(OpLimit!B135=\"\",\"\",OpLimit!B135)","v":""},{"$f":"IF(OpLimit!C135=\"\",\"\",OpLimit!C135)","v":""},{"$f":"IF(OpLimit!E135=\"\",\"\",OpLimit!E135)","v":""},"",{"$f":"IF(COUNTIF(BU$2:BU113,BU113)=1,BU113,\"\")","v":""},"","","",""]
[null,null,null,null,null,null,null,null,null,null,{"$f":"+IF(N114=\"\",\"\",MAX(K$1:K113)+1)","v":""},{"$f":"IF(CPMS1!E136=\"\",\"\",CPMS1!E136)","v":""},"",{"$f":"IF(COUNTIF(L$2:L114,L114)=1,L114,\"\")","v":""},null,null,null,null,{"$f":"+IF(W114=\"\",\"\",MAX(S$1:S113)+1)","v":""},{"$f":"IF(Adhes_Sealer_Deadener!B136=\"\",\"\",Adhes_Sealer_Deadener!B136)","v":""},{"$f":"IF(Adhes_Sealer_Deadener!C136=\"\",\"\",Adhes_Sealer_Deadener!C136)","v":""},{"$f":"+Table10[[#This Row],[Column1]]&Table10[[#This Row],[Column2]]","v":""},{"$f":"IF(COUNTIF(V$2:V114,V114)=1,V114,\"\")","v":""},"","",null,{"$f":"+IF(AF114=\"\",\"\",MAX(AA$1:AA113)+1)","v":""},{"$f":"IF(CPMS2!B136=\"\",\"\",CPMS2!B136)","v":""},{"$f":"IF(CPMS2!C136=\"\",\"\",CPMS2!C136)","v":""},{"$f":"IF(CPMS2!D136=\"\",\"\",CPMS2!D136)","v":""},"",{"$f":"IF(COUNTIF(AE$2:AE114,AE114)=1,AE114,\"\")","v":""},"","","",null,null,null,null,null,null,null,null,null,null,null,null,null,null,null,null,null,null,null,null,null,null,null,null,null,null,null,null,null,null,null,null,null,{"$f":"+IF(BV114=\"\",\"\",MAX(BQ$1:BQ113)+1)","v":""},{"$f":"IF(OpLimit!B136=\"\",\"\",OpLimit!B136)","v":""},{"$f":"IF(OpLimit!C136=\"\",\"\",OpLimit!C136)","v":""},{"$f":"IF(OpLimit!E136=\"\",\"\",OpLimit!E136)","v":""},"",{"$f":"IF(COUNTIF(BU$2:BU114,BU114)=1,BU114,\"\")","v":""},"","","",""]
[null,null,null,null,null,null,null,null,null,null,{"$f":"+IF(N115=\"\",\"\",MAX(K$1:K114)+1)","v":""},{"$f":"IF(CPMS1!E137=\"\",\"\",CPMS1!E137)","v":""},"",{"$f":"IF(COUNTIF(L$2:L115,L115)=1,L115,\"\")","v":""},null,null,null,null,{"$f":"+IF(W115=\"\",\"\",MAX(S$1:S114)+1)","v":""},{"$f":"IF(Adhes_Sealer_Deadener!B137=\"\",\"\",Adhes_Sealer_Deadener!B137)","v":""},{"$f":"IF(Adhes_Sealer_Deadener!C137=\"\",\"\",Adhes_Sealer_Deadener!C137)","v":""},{"$f":"+Table10[[#This Row],[Column1]]&Table10[[#This Row],[Column2]]","v":""},{"$f":"IF(COUNTIF(V$2:V115,V115)=1,V115,\"\")","v":""},"","",null,{"$f":"+IF(AF115=\"\",\"\",MAX(AA$1:AA114)+1)","v":""},{"$f":"IF(CPMS2!B137=\"\",\"\",CPMS2!B137)","v":""},{"$f":"IF(CPMS2!C137=\"\",\"\",CPMS2!C137)","v":""},{"$f":"IF(CPMS2!D137=\"\",\"\",CPMS2!D137)","v":""},"",{"$f":"IF(COUNTIF(AE$2:AE115,AE115)=1,AE115,\"\")","v":""},"","","",null,null,null,null,null,null,null,null,null,null,null,null,null,null,null,null,null,null,null,null,null,null,null,null,null,null,null,null,null,null,null,null,null,{"$f":"+IF(BV115=\"\",\"\",MAX(BQ$1:BQ114)+1)","v":""},{"$f":"IF(OpLimit!B137=\"\",\"\",OpLimit!B137)","v":""},{"$f":"IF(OpLimit!C137=\"\",\"\",OpLimit!C137)","v":""},{"$f":"IF(OpLimit!E137=\"\",\"\",OpLimit!E137)","v":""},"",{"$f":"IF(COUNTIF(BU$2:BU115,BU115)=1,BU115,\"\")","v":""},"","","",""]
[null,null,null,null,null,null,null,null,null,null,{"$f":"+IF(N116=\"\",\"\",MAX(K$1:K115)+1)","v":""},{"$f":"IF(CPMS1!E138=\"\",\"\",CPMS1!E138)","v":""},"",{"$f":"IF(COUNTIF(L$2:L116,L116)=1,L116,\"\")","v":""},null,null,null,null,{"$f":"+IF(W116=\"\",\"\",MAX(S$1:S115)+1)","v":""},{"$f":"IF(Adhes_Sealer_Deadener!B138=\"\",\"\",Adhes_Sealer_Deadener!B138)","v":""},{"$f":"IF(Adhes_Sealer_Deadener!C138=\"\",\"\",Adhes_Sealer_Deadener!C138)","v":""},{"$f":"+Table10[[#This Row],[Column1]]&Table10[[#This Row],[Column2]]","v":""},{"$f":"IF(COUNTIF(V$2:V116,V116)=1,V116,\"\")","v":""},"","",null,{"$f":"+IF(AF116=\"\",\"\",MAX(AA$1:AA115)+1)","v":""},{"$f":"IF(CPMS2!B138=\"\",\"\",CPMS2!B138)","v":""},{"$f":"IF(CPMS2!C138=\"\",\"\",CPMS2!C138)","v":""},{"$f":"IF(CPMS2!D138=\"\",\"\",CPMS2!D138)","v":""},"",{"$f":"IF(COUNTIF(AE$2:AE116,AE116)=1,AE116,\"\")","v":""},"","","",null,null,null,null,null,null,null,null,null,null,null,null,null,null,null,null,null,null,null,null,null,null,null,null,null,null,null,null,null,null,null,null,null,{"$f":"+IF(BV116=\"\",\"\",MAX(BQ$1:BQ115)+1)","v":""},{"$f":"IF(OpLimit!B138=\"\",\"\",OpLimit!B138)","v":""},{"$f":"IF(OpLimit!C138=\"\",\"\",OpLimit!C138)","v":""},{"$f":"IF(OpLimit!E138=\"\",\"\",OpLimit!E138)","v":""},"",{"$f":"IF(COUNTIF(BU$2:BU116,BU116)=1,BU116,\"\")","v":""},"","","",""]
[null,null,null,null,null,null,null,null,null,null,{"$f":"+IF(N117=\"\",\"\",MAX(K$1:K116)+1)","v":""},{"$f":"IF(CPMS1!E139=\"\",\"\",CPMS1!E139)","v":""},"",{"$f":"IF(COUNTIF(L$2:L117,L117)=1,L117,\"\")","v":""},null,null,null,null,{"$f":"+IF(W117=\"\",\"\",MAX(S$1:S116)+1)","v":""},{"$f":"IF(Adhes_Sealer_Deadener!B139=\"\",\"\",Adhes_Sealer_Deadener!B139)","v":""},{"$f":"IF(Adhes_Sealer_Deadener!C139=\"\",\"\",Adhes_Sealer_Deadener!C139)","v":""},{"$f":"+Table10[[#This Row],[Column1]]&Table10[[#This Row],[Column2]]","v":""},{"$f":"IF(COUNTIF(V$2:V117,V117)=1,V117,\"\")","v":""},"","",null,{"$f":"+IF(AF117=\"\",\"\",MAX(AA$1:AA116)+1)","v":""},{"$f":"IF(CPMS2!B139=\"\",\"\",CPMS2!B139)","v":""},{"$f":"IF(CPMS2!C139=\"\",\"\",CPMS2!C139)","v":""},{"$f":"IF(CPMS2!D139=\"\",\"\",CPMS2!D139)","v":""},"",{"$f":"IF(COUNTIF(AE$2:AE117,AE117)=1,AE117,\"\")","v":""},"","","",null,null,null,null,null,null,null,null,null,null,null,null,null,null,null,null,null,null,null,null,null,null,null,null,null,null,null,null,null,null,null,null,null,{"$f":"+IF(BV117=\"\",\"\",MAX(BQ$1:BQ116)+1)","v":""},{"$f":"IF(OpLimit!B139=\"\",\"\",OpLimit!B139)","v":""},{"$f":"IF(OpLimit!C139=\"\",\"\",OpLimit!C139)","v":""},{"$f":"IF(OpLimit!E139=\"\",\"\",OpLimit!E139)","v":""},"",{"$f":"IF(COUNTIF(BU$2:BU117,BU117)=1,BU117,\"\")","v":""},"","","",""]
[null,null,null,null,null,null,null,null,null,null,{"$f":"+IF(N118=\"\",\"\",MAX(K$1:K117)+1)","v":""},{"$f":"IF(CPMS1!E140=\"\",\"\",CPMS1!E140)","v":""},"",{"$f":"IF(COUNTIF(L$2:L118,L118)=1,L118,\"\")","v":""},null,null,null,null,{"$f":"+IF(W118=\"\",\"\",MAX(S$1:S117)+1)","v":""},{"$f":"IF(Adhes_Sealer_Deadener!B140=\"\",\"\",Adhes_Sealer_Deadener!B140)","v":""},{"$f":"IF(Adhes_Sealer_Deadener!C140=\"\",\"\",Adhes_Sealer_Deadener!C140)","v":""},{"$f":"+Table10[[#This Row],[Column1]]&Table10[[#This Row],[Column2]]","v":""},{"$f":"IF(COUNTIF(V$2:V118,V118)=1,V118,\"\")","v":""},"","",null,{"$f":"+IF(AF118=\"\",\"\",MAX(AA$1:AA117)+1)","v":""},{"$f":"IF(CPMS2!B140=\"\",\"\",CPMS2!B140)","v":""},{"$f":"IF(CPMS2!C140=\"\",\"\",CPMS2!C140)","v":""},{"$f":"IF(CPMS2!D140=\"\",\"\",CPMS2!D140)","v":""},"",{"$f":"IF(COUNTIF(AE$2:AE118,AE118)=1,AE118,\"\")","v":""},"","","",null,null,null,null,null,null,null,null,null,null,null,null,null,null,null,null,null,null,null,null,null,null,null,null,null,null,null,null,null,null,null,null,null,{"$f":"+IF(BV118=\"\",\"\",MAX(BQ$1:BQ117)+1)","v":""},{"$f":"IF(OpLimit!B140=\"\",\"\",OpLimit!B140)","v":""},{"$f":"IF(OpLimit!C140=\"\",\"\",OpLimit!C140)","v":""},{"$f":"IF(OpLimit!E140=\"\",\"\",OpLimit!E140)","v":""},"",{"$f":"IF(COUNTIF(BU$2:BU118,BU118)=1,BU118,\"\")","v":""},"","","",""]
[null,null,null,null,null,null,null,null,null,null,{"$f":"+IF(N119=\"\",\"\",MAX(K$1:K118)+1)","v":""},{"$f":"IF(CPMS1!E141=\"\",\"\",CPMS1!E141)","v":""},"",{"$f":"IF(COUNTIF(L$2:L119,L119)=1,L119,\"\")","v":""},null,null,null,null,{"$f":"+IF(W119=\"\",\"\",MAX(S$1:S118)+1)","v":""},{"$f":"IF(Adhes_Sealer_Deadener!B141=\"\",\"\",Adhes_Sealer_Deadener!B141)","v":""},{"$f":"IF(Adhes_Sealer_Deadener!C141=\"\",\"\",Adhes_Sealer_Deadener!C141)","v":""},{"$f":"+Table10[[#This Row],[Column1]]&Table10[[#This Row],[Column2]]","v":""},{"$f":"IF(COUNTIF(V$2:V119,V119)=1,V119,\"\")","v":""},"","",null,{"$f":"+IF(AF119=\"\",\"\",MAX(AA$1:AA118)+1)","v":""},{"$f":"IF(CPMS2!B141=\"\",\"\",CPMS2!B141)","v":""},{"$f":"IF(CPMS2!C141=\"\",\"\",CPMS2!C141)","v":""},{"$f":"IF(CPMS2!D141=\"\",\"\",CPMS2!D141)","v":""},"",{"$f":"IF(COUNTIF(AE$2:AE119,AE119)=1,AE119,\"\")","v":""},"","","",null,null,null,null,null,null,null,null,null,null,null,null,null,null,null,null,null,null,null,null,null,null,null,null,null,null,null,null,null,null,null,null,null,{"$f":"+IF(BV119=\"\",\"\",MAX(BQ$1:BQ118)+1)","v":""},{"$f":"IF(OpLimit!B141=\"\",\"\",OpLimit!B141)","v":""},{"$f":"IF(OpLimit!C141=\"\",\"\",OpLimit!C141)","v":""},{"$f":"IF(OpLimit!E141=\"\",\"\",OpLimit!E141)","v":""},"",{"$f":"IF(COUNTIF(BU$2:BU119,BU119)=1,BU119,\"\")","v":""},"","","",""]
[null,null,null,null,null,null,null,null,null,null,{"$f":"+IF(N120=\"\",\"\",MAX(K$1:K119)+1)","v":""},{"$f":"IF(CPMS1!E142=\"\",\"\",CPMS1!E142)","v":""},"",{"$f":"IF(COUNTIF(L$2:L120,L120)=1,L120,\"\")","v":""},null,null,null,null,{"$f":"+IF(W120=\"\",\"\",MAX(S$1:S119)+1)","v":""},{"$f":"IF(Adhes_Sealer_Deadener!B142=\"\",\"\",Adhes_Sealer_Deadener!B142)","v":""},{"$f":"IF(Adhes_Sealer_Deadener!C142=\"\",\"\",Adhes_Sealer_Deadener!C142)","v":""},{"$f":"+Table10[[#This Row],[Column1]]&Table10[[#This Row],[Column2]]","v":""},{"$f":"IF(COUNTIF(V$2:V120,V120)=1,V120,\"\")","v":""},"","",null,{"$f":"+IF(AF120=\"\",\"\",MAX(AA$1:AA119)+1)","v":""},{"$f":"IF(CPMS2!B142=\"\",\"\",CPMS2!B142)","v":""},{"$f":"IF(CPMS2!C142=\"\",\"\",CPMS2!C142)","v":""},{"$f":"IF(CPMS2!D142=\"\",\"\",CPMS2!D142)","v":""},"",{"$f":"IF(COUNTIF(AE$2:AE120,AE120)=1,AE120,\"\")","v":""},"","","",null,null,null,null,null,null,null,null,null,null,null,null,null,null,null,null,null,null,null,null,null,null,null,null,null,null,null,null,null,null,null,null,null,{"$f":"+IF(BV120=\"\",\"\",MAX(BQ$1:BQ119)+1)","v":""},{"$f":"IF(OpLimit!B142=\"\",\"\",OpLimit!B142)","v":""},{"$f":"IF(OpLimit!C142=\"\",\"\",OpLimit!C142)","v":""},{"$f":"IF(OpLimit!E142=\"\",\"\",OpLimit!E142)","v":""},"",{"$f":"IF(COUNTIF(BU$2:BU120,BU120)=1,BU120,\"\")","v":""},"","","",""]
[null,null,null,null,null,null,null,null,null,null,{"$f":"+IF(N121=\"\",\"\",MAX(K$1:K120)+1)","v":""},{"$f":"IF(CPMS1!E143=\"\",\"\",CPMS1!E143)","v":""},"",{"$f":"IF(COUNTIF(L$2:L121,L121)=1,L121,\"\")","v":""},null,null,null,null,{"$f":"+IF(W121=\"\",\"\",MAX(S$1:S120)+1)","v":""},{"$f":"IF(Adhes_Sealer_Deadener!B143=\"\",\"\",Adhes_Sealer_Deadener!B143)","v":""},{"$f":"IF(Adhes_Sealer_Deadener!C143=\"\",\"\",Adhes_Sealer_Deadener!C143)","v":""},{"$f":"+Table10[[#This Row],[Column1]]&Table10[[#This Row],[Column2]]","v":""},{"$f":"IF(COUNTIF(V$2:V121,V121)=1,V121,\"\")","v":""},"","",null,{"$f":"+IF(AF121=\"\",\"\",MAX(AA$1:AA120)+1)","v":""},{"$f":"IF(CPMS2!B143=\"\",\"\",CPMS2!B143)","v":""},{"$f":"IF(CPMS2!C143=\"\",\"\",CPMS2!C143)","v":""},{"$f":"IF(CPMS2!D143=\"\",\"\",CPMS2!D143)","v":""},"",{"$f":"IF(COUNTIF(AE$2:AE121,AE121)=1,AE121,\"\")","v":""},"","","",null,null,null,null,null,null,null,null,null,null,null,null,null,null,null,null,null,null,null,null,null,null,null,null,null,null,null,null,null,null,null,null,null,{"$f":"+IF(BV121=\"\",\"\",MAX(BQ$1:BQ120)+1)","v":""},{"$f":"IF(OpLimit!B143=\"\",\"\",OpLimit!B143)","v":""},{"$f":"IF(OpLimit!C143=\"\",\"\",OpLimit!C143)","v":""},{"$f":"IF(OpLimit!E143=\"\",\"\",OpLimit!E143)","v":""},"",{"$f":"IF(COUNTIF(BU$2:BU121,BU121)=1,BU121,\"\")","v":""},"","","",""]
[null,null,null,null,null,null,null,null,null,null,{"$f":"+IF(N122=\"\",\"\",MAX(K$1:K121)+1)","v":""},{"$f":"IF(CPMS1!E144=\"\",\"\",CPMS1!E144)","v":""},"",{"$f":"IF(COUNTIF(L$2:L122,L122)=1,L122,\"\")","v":""},null,null,null,null,{"$f":"+IF(W122=\"\",\"\",MAX(S$1:S121)+1)","v":""},{"$f":"IF(Adhes_Sealer_Deadener!B144=\"\",\"\",Adhes_Sealer_Deadener!B144)","v":""},{"$f":"IF(Adhes_Sealer_Deadener!C144=\"\",\"\",Adhes_Sealer_Deadener!C144)","v":""},{"$f":"+Table10[[#This Row],[Column1]]&Table10[[#This Row],[Column2]]","v":""},{"$f":"IF(COUNTIF(V$2:V122,V122)=1,V122,\"\")","v":""},"","",null,{"$f":"+IF(AF122=\"\",\"\",MAX(AA$1:AA121)+1)","v":""},{"$f":"IF(CPMS2!B144=\"\",\"\",CPMS2!B144)","v":""},{"$f":"IF(CPMS2!C144=\"\",\"\",CPMS2!C144)","v":""},{"$f":"IF(CPMS2!D144=\"\",\"\",CPMS2!D144)","v":""},"",{"$f":"IF(COUNTIF(AE$2:AE122,AE122)=1,AE122,\"\")","v":""},"","","",null,null,null,null,null,null,null,null,null,null,null,null,null,null,null,null,null,null,null,null,null,null,null,null,null,null,null,null,null,null,null,null,null,{"$f":"+IF(BV122=\"\",\"\",MAX(BQ$1:BQ121)+1)","v":""},{"$f":"IF(OpLimit!B144=\"\",\"\",OpLimit!B144)","v":""},{"$f":"IF(OpLimit!C144=\"\",\"\",OpLimit!C144)","v":""},{"$f":"IF(OpLimit!E144=\"\",\"\",OpLimit!E144)","v":""},"",{"$f":"IF(COUNTIF(BU$2:BU122,BU122)=1,BU122,\"\")","v":""},"","","",""]
[null,null,null,null,null,null,null,null,null,null,{"$f":"+IF(N123=\"\",\"\",MAX(K$1:K122)+1)","v":""},{"$f":"IF(CPMS1!E145=\"\",\"\",CPMS1!E145)","v":""},"",{"$f":"IF(COUNTIF(L$2:L123,L123)=1,L123,\"\")","v":""},null,null,null,null,{"$f":"+IF(W123=\"\",\"\",MAX(S$1:S122)+1)","v":""},{"$f":"IF(Adhes_Sealer_Deadener!B145=\"\",\"\",Adhes_Sealer_Deadener!B145)","v":""},{"$f":"IF(Adhes_Sealer_Deadener!C145=\"\",\"\",Adhes_Sealer_Deadener!C145)","v":""},{"$f":"+Table10[[#This Row],[Column1]]&Table10[[#This Row],[Column2]]","v":""},{"$f":"IF(COUNTIF(V$2:V123,V123)=1,V123,\"\")","v":""},"","",null,{"$f":"+IF(AF123=\"\",\"\",MAX(AA$1:AA122)+1)","v":""},{"$f":"IF(CPMS2!B145=\"\",\"\",CPMS2!B145)","v":""},{"$f":"IF(CPMS2!C145=\"\",\"\",CPMS2!C145)","v":""},{"$f":"IF(CPMS2!D145=\"\",\"\",CPMS2!D145)","v":""},"",{"$f":"IF(COUNTIF(AE$2:AE123,AE123)=1,AE123,\"\")","v":""},"","","",null,null,null,null,null,null,null,null,null,null,null,null,null,null,null,null,null,null,null,null,null,null,null,null,null,null,null,null,null,null,null,null,null,{"$f":"+IF(BV123=\"\",\"\",MAX(BQ$1:BQ122)+1)","v":""},{"$f":"IF(OpLimit!B145=\"\",\"\",OpLimit!B145)","v":""},{"$f":"IF(OpLimit!C145=\"\",\"\",OpLimit!C145)","v":""},{"$f":"IF(OpLimit!E145=\"\",\"\",OpLimit!E145)","v":""},"",{"$f":"IF(COUNTIF(BU$2:BU123,BU123)=1,BU123,\"\")","v":""},"","","",""]
[null,null,null,null,null,null,null,null,null,null,{"$f":"+IF(N124=\"\",\"\",MAX(K$1:K123)+1)","v":""},{"$f":"IF(CPMS1!E146=\"\",\"\",CPMS1!E146)","v":""},"",{"$f":"IF(COUNTIF(L$2:L124,L124)=1,L124,\"\")","v":""},null,null,null,null,{"$f":"+IF(W124=\"\",\"\",MAX(S$1:S123)+1)","v":""},{"$f":"IF(Adhes_Sealer_Deadener!B146=\"\",\"\",Adhes_Sealer_Deadener!B146)","v":""},{"$f":"IF(Adhes_Sealer_Deadener!C146=\"\",\"\",Adhes_Sealer_Deadener!C146)","v":""},{"$f":"+Table10[[#This Row],[Column1]]&Table10[[#This Row],[Column2]]","v":""},{"$f":"IF(COUNTIF(V$2:V124,V124)=1,V124,\"\")","v":""},"","",null,{"$f":"+IF(AF124=\"\",\"\",MAX(AA$1:AA123)+1)","v":""},{"$f":"IF(CPMS2!B146=\"\",\"\",CPMS2!B146)","v":""},{"$f":"IF(CPMS2!C146=\"\",\"\",CPMS2!C146)","v":""},{"$f":"IF(CPMS2!D146=\"\",\"\",CPMS2!D146)","v":""},"",{"$f":"IF(COUNTIF(AE$2:AE124,AE124)=1,AE124,\"\")","v":""},"","","",null,null,null,null,null,null,null,null,null,null,null,null,null,null,null,null,null,null,null,null,null,null,null,null,null,null,null,null,null,null,null,null,null,{"$f":"+IF(BV124=\"\",\"\",MAX(BQ$1:BQ123)+1)","v":""},{"$f":"IF(OpLimit!B146=\"\",\"\",OpLimit!B146)","v":""},{"$f":"IF(OpLimit!C146=\"\",\"\",OpLimit!C146)","v":""},{"$f":"IF(OpLimit!E146=\"\",\"\",OpLimit!E146)","v":""},"",{"$f":"IF(COUNTIF(BU$2:BU124,BU124)=1,BU124,\"\")","v":""},"","","",""]
[null,null,null,null,null,null,null,null,null,null,{"$f":"+IF(N125=\"\",\"\",MAX(K$1:K124)+1)","v":""},{"$f":"IF(CPMS1!E147=\"\",\"\",CPMS1!E147)","v":""},"",{"$f":"IF(COUNTIF(L$2:L125,L125)=1,L125,\"\")","v":""},null,null,null,null,{"$f":"+IF(W125=\"\",\"\",MAX(S$1:S124)+1)","v":""},{"$f":"IF(Adhes_Sealer_Deadener!B147=\"\",\"\",Adhes_Sealer_Deadener!B147)","v":""},{"$f":"IF(Adhes_Sealer_Deadener!C147=\"\",\"\",Adhes_Sealer_Deadener!C147)","v":""},{"$f":"+Table10[[#This Row],[Column1]]&Table10[[#This Row],[Column2]]","v":""},{"$f":"IF(COUNTIF(V$2:V125,V125)=1,V125,\"\")","v":""},"","",null,{"$f":"+IF(AF125=\"\",\"\",MAX(AA$1:AA124)+1)","v":""},{"$f":"IF(CPMS2!B147=\"\",\"\",CPMS2!B147)","v":""},{"$f":"IF(CPMS2!C147=\"\",\"\",CPMS2!C147)","v":""},{"$f":"IF(CPMS2!D147=\"\",\"\",CPMS2!D147)","v":""},"",{"$f":"IF(COUNTIF(AE$2:AE125,AE125)=1,AE125,\"\")","v":""},"","","",null,null,null,null,null,null,null,null,null,null,null,null,null,null,null,null,null,null,null,null,null,null,null,null,null,null,null,null,null,null,null,null,null,{"$f":"+IF(BV125=\"\",\"\",MAX(BQ$1:BQ124)+1)","v":""},{"$f":"IF(OpLimit!B147=\"\",\"\",OpLimit!B147)","v":""},{"$f":"IF(OpLimit!C147=\"\",\"\",OpLimit!C147)","v":""},{"$f":"IF(OpLimit!E147=\"\",\"\",OpLimit!E147)","v":""},"",{"$f":"IF(COUNTIF(BU$2:BU125,BU125)=1,BU125,\"\")","v":""},"","","",""]
[null,null,null,null,null,null,null,null,null,null,{"$f":"+IF(N126=\"\",\"\",MAX(K$1:K125)+1)","v":""},{"$f":"IF(CPMS1!E148=\"\",\"\",CPMS1!E148)","v":""},"",{"$f":"IF(COUNTIF(L$2:L126,L126)=1,L126,\"\")","v":""},null,null,null,null,{"$f":"+IF(W126=\"\",\"\",MAX(S$1:S125)+1)","v":""},{"$f":"IF(Adhes_Sealer_Deadener!B148=\"\",\"\",Adhes_Sealer_Deadener!B148)","v":""},{"$f":"IF(Adhes_Sealer_Deadener!C148=\"\",\"\",Adhes_Sealer_Deadener!C148)","v":""},{"$f":"+Table10[[#This Row],[Column1]]&Table10[[#This Row],[Column2]]","v":""},{"$f":"IF(COUNTIF(V$2:V126,V126)=1,V126,\"\")","v":""},"","",null,{"$f":"+IF(AF126=\"\",\"\",MAX(AA$1:AA125)+1)","v":""},{"$f":"IF(CPMS2!B148=\"\",\"\",CPMS2!B148)","v":""},{"$f":"IF(CPMS2!C148=\"\",\"\",CPMS2!C148)","v":""},{"$f":"IF(CPMS2!D148=\"\",\"\",CPMS2!D148)","v":""},"",{"$f":"IF(COUNTIF(AE$2:AE126,AE126)=1,AE126,\"\")","v":""},"","","",null,null,null,null,null,null,null,null,null,null,null,null,null,null,null,null,null,null,null,null,null,null,null,null,null,null,null,null,null,null,null,null,null,{"$f":"+IF(BV126=\"\",\"\",MAX(BQ$1:BQ125)+1)","v":""},{"$f":"IF(OpLimit!B148=\"\",\"\",OpLimit!B148)","v":""},{"$f":"IF(OpLimit!C148=\"\",\"\",OpLimit!C148)","v":""},{"$f":"IF(OpLimit!E148=\"\",\"\",OpLimit!E148)","v":""},"",{"$f":"IF(COUNTIF(BU$2:BU126,BU126)=1,BU126,\"\")","v":""},"","","",""]
[null,null,null,null,null,null,null,null,null,null,{"$f":"+IF(N127=\"\",\"\",MAX(K$1:K126)+1)","v":""},{"$f":"IF(CPMS1!E149=\"\",\"\",CPMS1!E149)","v":""},"",{"$f":"IF(COUNTIF(L$2:L127,L127)=1,L127,\"\")","v":""},null,null,null,null,{"$f":"+IF(W127=\"\",\"\",MAX(S$1:S126)+1)","v":""},{"$f":"IF(Adhes_Sealer_Deadener!B149=\"\",\"\",Adhes_Sealer_Deadener!B149)","v":""},{"$f":"IF(Adhes_Sealer_Deadener!C149=\"\",\"\",Adhes_Sealer_Deadener!C149)","v":""},{"$f":"+Table10[[#This Row],[Column1]]&Table10[[#This Row],[Column2]]","v":""},{"$f":"IF(COUNTIF(V$2:V127,V127)=1,V127,\"\")","v":""},"","",null,{"$f":"+IF(AF127=\"\",\"\",MAX(AA$1:AA126)+1)","v":""},{"$f":"IF(CPMS2!B149=\"\",\"\",CPMS2!B149)","v":""},{"$f":"IF(CPMS2!C149=\"\",\"\",CPMS2!C149)","v":""},{"$f":"IF(CPMS2!D149=\"\",\"\",CPMS2!D149)","v":""},"",{"$f":"IF(COUNTIF(AE$2:AE127,AE127)=1,AE127,\"\")","v":""},"","","",null,null,null,null,null,null,null,null,null,null,null,null,null,null,null,null,null,null,null,null,null,null,null,null,null,null,null,null,null,null,null,null,null,{"$f":"+IF(BV127=\"\",\"\",MAX(BQ$1:BQ126)+1)","v":""},{"$f":"IF(OpLimit!B149=\"\",\"\",OpLimit!B149)","v":""},{"$f":"IF(OpLimit!C149=\"\",\"\",OpLimit!C149)","v":""},{"$f":"IF(OpLimit!E149=\"\",\"\",OpLimit!E149)","v":""},"",{"$f":"IF(COUNTIF(BU$2:BU127,BU127)=1,BU127,\"\")","v":""},"","","",""]
[null,null,null,null,null,null,null,null,null,null,{"$f":"+IF(N128=\"\",\"\",MAX(K$1:K127)+1)","v":""},{"$f":"IF(CPMS1!E150=\"\",\"\",CPMS1!E150)","v":""},"",{"$f":"IF(COUNTIF(L$2:L128,L128)=1,L128,\"\")","v":""},null,null,null,null,{"$f":"+IF(W128=\"\",\"\",MAX(S$1:S127)+1)","v":""},{"$f":"IF(Adhes_Sealer_Deadener!B150=\"\",\"\",Adhes_Sealer_Deadener!B150)","v":""},{"$f":"IF(Adhes_Sealer_Deadener!C150=\"\",\"\",Adhes_Sealer_Deadener!C150)","v":""},{"$f":"+Table10[[#This Row],[Column1]]&Table10[[#This Row],[Column2]]","v":""},{"$f":"IF(COUNTIF(V$2:V128,V128)=1,V128,\"\")","v":""},"","",null,{"$f":"+IF(AF128=\"\",\"\",MAX(AA$1:AA127)+1)","v":""},{"$f":"IF(CPMS2!B150=\"\",\"\",CPMS2!B150)","v":""},{"$f":"IF(CPMS2!C150=\"\",\"\",CPMS2!C150)","v":""},{"$f":"IF(CPMS2!D150=\"\",\"\",CPMS2!D150)","v":""},"",{"$f":"IF(COUNTIF(AE$2:AE128,AE128)=1,AE128,\"\")","v":""},"","","",null,null,null,null,null,null,null,null,null,null,null,null,null,null,null,null,null,null,null,null,null,null,null,null,null,null,null,null,null,null,null,null,null,{"$f":"+IF(BV128=\"\",\"\",MAX(BQ$1:BQ127)+1)","v":""},{"$f":"IF(OpLimit!B150=\"\",\"\",OpLimit!B150)","v":""},{"$f":"IF(OpLimit!C150=\"\",\"\",OpLimit!C150)","v":""},{"$f":"IF(OpLimit!E150=\"\",\"\",OpLimit!E150)","v":""},"",{"$f":"IF(COUNTIF(BU$2:BU128,BU128)=1,BU128,\"\")","v":""},"","","",""]
[null,null,null,null,null,null,null,null,null,null,{"$f":"+IF(N129=\"\",\"\",MAX(K$1:K128)+1)","v":""},{"$f":"IF(CPMS1!E151=\"\",\"\",CPMS1!E151)","v":""},"",{"$f":"IF(COUNTIF(L$2:L129,L129)=1,L129,\"\")","v":""},null,null,null,null,{"$f":"+IF(W129=\"\",\"\",MAX(S$1:S128)+1)","v":""},{"$f":"IF(Adhes_Sealer_Deadener!B151=\"\",\"\",Adhes_Sealer_Deadener!B151)","v":""},{"$f":"IF(Adhes_Sealer_Deadener!C151=\"\",\"\",Adhes_Sealer_Deadener!C151)","v":""},{"$f":"+Table10[[#This Row],[Column1]]&Table10[[#This Row],[Column2]]","v":""},{"$f":"IF(COUNTIF(V$2:V129,V129)=1,V129,\"\")","v":""},"","",null,{"$f":"+IF(AF129=\"\",\"\",MAX(AA$1:AA128)+1)","v":""},{"$f":"IF(CPMS2!B151=\"\",\"\",CPMS2!B151)","v":""},{"$f":"IF(CPMS2!C151=\"\",\"\",CPMS2!C151)","v":""},{"$f":"IF(CPMS2!D151=\"\",\"\",CPMS2!D151)","v":""},"",{"$f":"IF(COUNTIF(AE$2:AE129,AE129)=1,AE129,\"\")","v":""},"","","",null,null,null,null,null,null,null,null,null,null,null,null,null,null,null,null,null,null,null,null,null,null,null,null,null,null,null,null,null,null,null,null,null,{"$f":"+IF(BV129=\"\",\"\",MAX(BQ$1:BQ128)+1)","v":""},{"$f":"IF(OpLimit!B151=\"\",\"\",OpLimit!B151)","v":""},{"$f":"IF(OpLimit!C151=\"\",\"\",OpLimit!C151)","v":""},{"$f":"IF(OpLimit!E151=\"\",\"\",OpLimit!E151)","v":""},"",{"$f":"IF(COUNTIF(BU$2:BU129,BU129)=1,BU129,\"\")","v":""},"","","",""]
[null,null,null,null,null,null,null,null,null,null,{"$f":"+IF(N130=\"\",\"\",MAX(K$1:K129)+1)","v":""},{"$f":"IF(CPMS1!E152=\"\",\"\",CPMS1!E152)","v":""},{"$f":"+IFERROR(INDEX($L$2:$L$501,MATCH(ROW()-ROW($M$1),$K$2:$K$501,0)),\"\")","v":""},{"$f":"IF(COUNTIF(L$2:L130,L130)=1,L130,\"\")","v":""},null,null,null,null,{"$f":"+IF(W130=\"\",\"\",MAX(S$1:S129)+1)","v":""},{"$f":"IF(Adhes_Sealer_Deadener!B152=\"\",\"\",Adhes_Sealer_Deadener!B152)","v":""},{"$f":"IF(Adhes_Sealer_Deadener!C152=\"\",\"\",Adhes_Sealer_Deadener!C152)","v":""},{"$f":"+Table10[[#This Row],[Column1]]&Table10[[#This Row],[Column2]]","v":""},{"$f":"IF(COUNTIF(V$2:V130,V130)=1,V130,\"\")","v":""},"","",null,{"$f":"+IF(AF130=\"\",\"\",MAX(AA$1:AA129)+1)","v":""},{"$f":"IF(CPMS2!B152=\"\",\"\",CPMS2!B152)","v":""},{"$f":"IF(CPMS2!C152=\"\",\"\",CPMS2!C152)","v":""},{"$f":"IF(CPMS2!D152=\"\",\"\",CPMS2!D152)","v":""},"",{"$f":"IF(COUNTIF(AE$2:AE130,AE130)=1,AE130,\"\")","v":""},"","","",null,null,null,null,null,null,null,null,null,null,null,null,null,null,null,null,null,null,null,null,null,null,null,null,null,null,null,null,null,null,null,null,null,{"$f":"+IF(BV130=\"\",\"\",MAX(BQ$1:BQ129)+1)","v":""},{"$f":"IF(OpLimit!B152=\"\",\"\",OpLimit!B152)","v":""},{"$f":"IF(OpLimit!C152=\"\",\"\",OpLimit!C152)","v":""},{"$f":"IF(OpLimit!E152=\"\",\"\",OpLimit!E152)","v":""},"",{"$f":"IF(COUNTIF(BU$2:BU130,BU130)=1,BU130,\"\")","v":""},"","","",""]
[null,null,null,null,null,null,null,null,null,null,{"$f":"+IF(N131=\"\",\"\",MAX(K$1:K130)+1)","v":""},{"$f":"IF(CPMS1!E153=\"\",\"\",CPMS1!E153)","v":""},"",{"$f":"IF(COUNTIF(L$2:L131,L131)=1,L131,\"\")","v":""},null,null,null,null,{"$f":"+IF(W131=\"\",\"\",MAX(S$1:S130)+1)","v":""},{"$f":"IF(Adhes_Sealer_Deadener!B153=\"\",\"\",Adhes_Sealer_Deadener!B153)","v":""},{"$f":"IF(Adhes_Sealer_Deadener!C153=\"\",\"\",Adhes_Sealer_Deadener!C153)","v":""},{"$f":"+Table10[[#This Row],[Column1]]&Table10[[#This Row],[Column2]]","v":""},{"$f":"IF(COUNTIF(V$2:V131,V131)=1,V131,\"\")","v":""},"","",null,{"$f":"+IF(AF131=\"\",\"\",MAX(AA$1:AA130)+1)","v":""},{"$f":"IF(CPMS2!B153=\"\",\"\",CPMS2!B153)","v":""},{"$f":"IF(CPMS2!C153=\"\",\"\",CPMS2!C153)","v":""},{"$f":"IF(CPMS2!D153=\"\",\"\",CPMS2!D153)","v":""},{"$f":"AB131&AC131&AD131","v":""},{"$f":"IF(COUNTIF(AE$2:AE131,AE131)=1,AE131,\"\")","v":""},{"$f":"+IFERROR(INDEX($AB$2:$AB$478,MATCH(ROW()-ROW($AF$1),$AA$2:$AA$478,0)),\"\")","v":""},{"$f":"+IFERROR(INDEX($AC$2:$AC$478,MATCH(ROW()-ROW($AF$1),$AA$2:$AA$478,0)),\"\")","v":""},{"$f":"+IFERROR(INDEX($AD$2:$AD$478,MATCH(ROW()-ROW($AF$1),$AA$2:$AA$478,0)),\"\")","v":""},null,null,null,null,null,null,null,null,null,null,null,null,null,null,null,null,null,null,null,null,null,null,null,null,null,null,null,null,null,null,null,null,null,{"$f":"+IF(BV131=\"\",\"\",MAX(BQ$1:BQ130)+1)","v":""},{"$f":"IF(OpLimit!B153=\"\",\"\",OpLimit!B153)","v":""},{"$f":"IF(OpLimit!C153=\"\",\"\",OpLimit!C153)","v":""},{"$f":"IF(OpLimit!E153=\"\",\"\",OpLimit!E153)","v":""},{"$f":"BR131&BS131&BT131","v":""},{"$f":"IF(COUNTIF(BU$2:BU131,BU131)=1,BU131,\"\")","v":""},{"$f":"IF(BX131=\"\",\"\",BX131&\" \"&BY131&\" \"&BZ131)","v":""},{"$f":"+IFERROR(INDEX($BR$2:$BR$478,MATCH(ROW()-ROW($BV$1),$BQ$2:$BQ$478,0)),\"\")","v":""},{"$f":"+IFERROR(INDEX($BS$2:$BS$478,MATCH(ROW()-ROW($BV$1),$BQ$2:$BQ$478,0)),\"\")","v":""},{"$f":"+IFERROR(INDEX($BT$2:$BT$478,MATCH(ROW()-ROW($BV$1),$BQ$2:$BQ$478,0)),\"\")","v":""}]
[null,null,null,null,null,null,null,null,null,null,{"$f":"+IF(N132=\"\",\"\",MAX(K$1:K131)+1)","v":""},{"$f":"IF(CPMS1!E154=\"\",\"\",CPMS1!E154)","v":""},"",{"$f":"IF(COUNTIF(L$2:L132,L132)=1,L132,\"\")","v":""},null,null,null,null,{"$f":"+IF(W132=\"\",\"\",MAX(S$1:S131)+1)","v":""},{"$f":"IF(Adhes_Sealer_Deadener!B154=\"\",\"\",Adhes_Sealer_Deadener!B154)","v":""},{"$f":"IF(Adhes_Sealer_Deadener!C154=\"\",\"\",Adhes_Sealer_Deadener!C154)","v":""},{"$f":"+Table10[[#This Row],[Column1]]&Table10[[#This Row],[Column2]]","v":""},{"$f":"IF(COUNTIF(V$2:V132,V132)=1,V132,\"\")","v":""},"","",null,{"$f":"+IF(AF132=\"\",\"\",MAX(AA$1:AA131)+1)","v":""},{"$f":"IF(CPMS2!B154=\"\",\"\",CPMS2!B154)","v":""},{"$f":"IF(CPMS2!C154=\"\",\"\",CPMS2!C154)","v":""},{"$f":"IF(CPMS2!D154=\"\",\"\",CPMS2!D154)","v":""},"",{"$f":"IF(COUNTIF(AE$2:AE132,AE132)=1,AE132,\"\")","v":""},"","","",null,null,null,null,null,null,null,null,null,null,null,null,null,null,null,null,null,null,null,null,null,null,null,null,null,null,null,null,null,null,null,null,null,{"$f":"+IF(BV132=\"\",\"\",MAX(BQ$1:BQ131)+1)","v":""},{"$f":"IF(OpLimit!B154=\"\",\"\",OpLimit!B154)","v":""},{"$f":"IF(OpLimit!C154=\"\",\"\",OpLimit!C154)","v":""},{"$f":"IF(OpLimit!E154=\"\",\"\",OpLimit!E154)","v":""},"",{"$f":"IF(COUNTIF(BU$2:BU132,BU132)=1,BU132,\"\")","v":""},"","","",""]
[null,null,null,null,null,null,null,null,null,null,{"$f":"+IF(N133=\"\",\"\",MAX(K$1:K132)+1)","v":""},{"$f":"IF(CPMS1!E155=\"\",\"\",CPMS1!E155)","v":""},"",{"$f":"IF(COUNTIF(L$2:L133,L133)=1,L133,\"\")","v":""},null,null,null,null,{"$f":"+IF(W133=\"\",\"\",MAX(S$1:S132)+1)","v":""},{"$f":"IF(Adhes_Sealer_Deadener!B155=\"\",\"\",Adhes_Sealer_Deadener!B155)","v":""},{"$f":"IF(Adhes_Sealer_Deadener!C155=\"\",\"\",Adhes_Sealer_Deadener!C155)","v":""},{"$f":"+Table10[[#This Row],[Column1]]&Table10[[#This Row],[Column2]]","v":""},{"$f":"IF(COUNTIF(V$2:V133,V133)=1,V133,\"\")","v":""},"","",null,{"$f":"+IF(AF133=\"\",\"\",MAX(AA$1:AA132)+1)","v":""},{"$f":"IF(CPMS2!B155=\"\",\"\",CPMS2!B155)","v":""},{"$f":"IF(CPMS2!C155=\"\",\"\",CPMS2!C155)","v":""},{"$f":"IF(CPMS2!D155=\"\",\"\",CPMS2!D155)","v":""},"",{"$f":"IF(COUNTIF(AE$2:AE133,AE133)=1,AE133,\"\")","v":""},"","","",null,null,null,null,null,null,null,null,null,null,null,null,null,null,null,null,null,null,null,null,null,null,null,null,null,null,null,null,null,null,null,null,null,{"$f":"+IF(BV133=\"\",\"\",MAX(BQ$1:BQ132)+1)","v":""},{"$f":"IF(OpLimit!B155=\"\",\"\",OpLimit!B155)","v":""},{"$f":"IF(OpLimit!C155=\"\",\"\",OpLimit!C155)","v":""},{"$f":"IF(OpLimit!E155=\"\",\"\",OpLimit!E155)","v":""},"",{"$f":"IF(COUNTIF(BU$2:BU133,BU133)=1,BU133,\"\")","v":""},"","","",""]
[null,null,null,null,null,null,null,null,null,null,{"$f":"+IF(N134=\"\",\"\",MAX(K$1:K133)+1)","v":""},{"$f":"IF(CPMS1!E156=\"\",\"\",CPMS1!E156)","v":""},"",{"$f":"IF(COUNTIF(L$2:L134,L134)=1,L134,\"\")","v":""},null,null,null,null,{"$f":"+IF(W134=\"\",\"\",MAX(S$1:S133)+1)","v":""},{"$f":"IF(Adhes_Sealer_Deadener!B156=\"\",\"\",Adhes_Sealer_Deadener!B156)","v":""},{"$f":"IF(Adhes_Sealer_Deadener!C156=\"\",\"\",Adhes_Sealer_Deadener!C156)","v":""},{"$f":"+Table10[[#This Row],[Column1]]&Table10[[#This Row],[Column2]]","v":""},{"$f":"IF(COUNTIF(V$2:V134,V134)=1,V134,\"\")","v":""},"","",null,{"$f":"+IF(AF134=\"\",\"\",MAX(AA$1:AA133)+1)","v":""},{"$f":"IF(CPMS2!B156=\"\",\"\",CPMS2!B156)","v":""},{"$f":"IF(CPMS2!C156=\"\",\"\",CPMS2!C156)","v":""},{"$f":"IF(CPMS2!D156=\"\",\"\",CPMS2!D156)","v":""},"",{"$f":"IF(COUNTIF(AE$2:AE134,AE134)=1,AE134,\"\")","v":""},"","","",null,null,null,null,null,null,null,null,null,null,null,null,null,null,null,null,null,null,null,null,null,null,null,null,null,null,null,null,null,null,null,null,null,{"$f":"+IF(BV134=\"\",\"\",MAX(BQ$1:BQ133)+1)","v":""},{"$f":"IF(OpLimit!B156=\"\",\"\",OpLimit!B156)","v":""},{"$f":"IF(OpLimit!C156=\"\",\"\",OpLimit!C156)","v":""},{"$f":"IF(OpLimit!E156=\"\",\"\",OpLimit!E156)","v":""},"",{"$f":"IF(COUNTIF(BU$2:BU134,BU134)=1,BU134,\"\")","v":""},"","","",""]
[null,null,null,null,null,null,null,null,null,null,{"$f":"+IF(N135=\"\",\"\",MAX(K$1:K134)+1)","v":""},{"$f":"IF(CPMS1!E157=\"\",\"\",CPMS1!E157)","v":""},"",{"$f":"IF(COUNTIF(L$2:L135,L135)=1,L135,\"\")","v":""},null,null,null,null,{"$f":"+IF(W135=\"\",\"\",MAX(S$1:S134)+1)","v":""},{"$f":"IF(Adhes_Sealer_Deadener!B157=\"\",\"\",Adhes_Sealer_Deadener!B157)","v":""},{"$f":"IF(Adhes_Sealer_Deadener!C157=\"\",\"\",Adhes_Sealer_Deadener!C157)","v":""},{"$f":"+Table10[[#This Row],[Column1]]&Table10[[#This Row],[Column2]]","v":""},{"$f":"IF(COUNTIF(V$2:V135,V135)=1,V135,\"\")","v":""},"","",null,{"$f":"+IF(AF135=\"\",\"\",MAX(AA$1:AA134)+1)","v":""},{"$f":"IF(CPMS2!B157=\"\",\"\",CPMS2!B157)","v":""},{"$f":"IF(CPMS2!C157=\"\",\"\",CPMS2!C157)","v":""},{"$f":"IF(CPMS2!D157=\"\",\"\",CPMS2!D157)","v":""},"",{"$f":"IF(COUNTIF(AE$2:AE135,AE135)=1,AE135,\"\")","v":""},"","","",null,null,null,null,null,null,null,null,null,null,null,null,null,null,null,null,null,null,null,null,null,null,null,null,null,null,null,null,null,null,null,null,null,{"$f":"+IF(BV135=\"\",\"\",MAX(BQ$1:BQ134)+1)","v":""},{"$f":"IF(OpLimit!B157=\"\",\"\",OpLimit!B157)","v":""},{"$f":"IF(OpLimit!C157=\"\",\"\",OpLimit!C157)","v":""},{"$f":"IF(OpLimit!E157=\"\",\"\",OpLimit!E157)","v":""},"",{"$f":"IF(COUNTIF(BU$2:BU135,BU135)=1,BU135,\"\")","v":""},"","","",""]
[null,null,null,null,null,null,null,null,null,null,{"$f":"+IF(N136=\"\",\"\",MAX(K$1:K135)+1)","v":""},{"$f":"IF(CPMS1!E158=\"\",\"\",CPMS1!E158)","v":""},"",{"$f":"IF(COUNTIF(L$2:L136,L136)=1,L136,\"\")","v":""},null,null,null,null,{"$f":"+IF(W136=\"\",\"\",MAX(S$1:S135)+1)","v":""},{"$f":"IF(Adhes_Sealer_Deadener!B158=\"\",\"\",Adhes_Sealer_Deadener!B158)","v":""},{"$f":"IF(Adhes_Sealer_Deadener!C158=\"\",\"\",Adhes_Sealer_Deadener!C158)","v":""},{"$f":"+Table10[[#This Row],[Column1]]&Table10[[#This Row],[Column2]]","v":""},{"$f":"IF(COUNTIF(V$2:V136,V136)=1,V136,\"\")","v":""},"","",null,{"$f":"+IF(AF136=\"\",\"\",MAX(AA$1:AA135)+1)","v":""},{"$f":"IF(CPMS2!B158=\"\",\"\",CPMS2!B158)","v":""},{"$f":"IF(CPMS2!C158=\"\",\"\",CPMS2!C158)","v":""},{"$f":"IF(CPMS2!D158=\"\",\"\",CPMS2!D158)","v":""},"",{"$f":"IF(COUNTIF(AE$2:AE136,AE136)=1,AE136,\"\")","v":""},"","","",null,null,null,null,null,null,null,null,null,null,null,null,null,null,null,null,null,null,null,null,null,null,null,null,null,null,null,null,null,null,null,null,null,{"$f":"+IF(BV136=\"\",\"\",MAX(BQ$1:BQ135)+1)","v":""},{"$f":"IF(OpLimit!B158=\"\",\"\",OpLimit!B158)","v":""},{"$f":"IF(OpLimit!C158=\"\",\"\",OpLimit!C158)","v":""},{"$f":"IF(OpLimit!E158=\"\",\"\",OpLimit!E158)","v":""},"",{"$f":"IF(COUNTIF(BU$2:BU136,BU136)=1,BU136,\"\")","v":""},"","","",""]
[null,null,null,null,null,null,null,null,null,null,{"$f":"+IF(N137=\"\",\"\",MAX(K$1:K136)+1)","v":""},{"$f":"IF(CPMS1!E159=\"\",\"\",CPMS1!E159)","v":""},"",{"$f":"IF(COUNTIF(L$2:L137,L137)=1,L137,\"\")","v":""},null,null,null,null,{"$f":"+IF(W137=\"\",\"\",MAX(S$1:S136)+1)","v":""},{"$f":"IF(Adhes_Sealer_Deadener!B159=\"\",\"\",Adhes_Sealer_Deadener!B159)","v":""},{"$f":"IF(Adhes_Sealer_Deadener!C159=\"\",\"\",Adhes_Sealer_Deadener!C159)","v":""},{"$f":"+Table10[[#This Row],[Column1]]&Table10[[#This Row],[Column2]]","v":""},{"$f":"IF(COUNTIF(V$2:V137,V137)=1,V137,\"\")","v":""},"","",null,{"$f":"+IF(AF137=\"\",\"\",MAX(AA$1:AA136)+1)","v":""},{"$f":"IF(CPMS2!B159=\"\",\"\",CPMS2!B159)","v":""},{"$f":"IF(CPMS2!C159=\"\",\"\",CPMS2!C159)","v":""},{"$f":"IF(CPMS2!D159=\"\",\"\",CPMS2!D159)","v":""},"",{"$f":"IF(COUNTIF(AE$2:AE137,AE137)=1,AE137,\"\")","v":""},"","","",null,null,null,null,null,null,null,null,null,null,null,null,null,null,null,null,null,null,null,null,null,null,null,null,null,null,null,null,null,null,null,null,null,{"$f":"+IF(BV137=\"\",\"\",MAX(BQ$1:BQ136)+1)","v":""},{"$f":"IF(OpLimit!B159=\"\",\"\",OpLimit!B159)","v":""},{"$f":"IF(OpLimit!C159=\"\",\"\",OpLimit!C159)","v":""},{"$f":"IF(OpLimit!E159=\"\",\"\",OpLimit!E159)","v":""},"",{"$f":"IF(COUNTIF(BU$2:BU137,BU137)=1,BU137,\"\")","v":""},"","","",""]
[null,null,null,null,null,null,null,null,null,null,{"$f":"+IF(N138=\"\",\"\",MAX(K$1:K137)+1)","v":""},{"$f":"IF(CPMS1!E160=\"\",\"\",CPMS1!E160)","v":""},"",{"$f":"IF(COUNTIF(L$2:L138,L138)=1,L138,\"\")","v":""},null,null,null,null,{"$f":"+IF(W138=\"\",\"\",MAX(S$1:S137)+1)","v":""},{"$f":"IF(Adhes_Sealer_Deadener!B160=\"\",\"\",Adhes_Sealer_Deadener!B160)","v":""},{"$f":"IF(Adhes_Sealer_Deadener!C160=\"\",\"\",Adhes_Sealer_Deadener!C160)","v":""},{"$f":"+Table10[[#This Row],[Column1]]&Table10[[#This Row],[Column2]]","v":""},{"$f":"IF(COUNTIF(V$2:V138,V138)=1,V138,\"\")","v":""},"","",null,{"$f":"+IF(AF138=\"\",\"\",MAX(AA$1:AA137)+1)","v":""},{"$f":"IF(CPMS2!B160=\"\",\"\",CPMS2!B160)","v":""},{"$f":"IF(CPMS2!C160=\"\",\"\",CPMS2!C160)","v":""},{"$f":"IF(CPMS2!D160=\"\",\"\",CPMS2!D160)","v":""},"",{"$f":"IF(COUNTIF(AE$2:AE138,AE138)=1,AE138,\"\")","v":""},"","","",null,null,null,null,null,null,null,null,null,null,null,null,null,null,null,null,null,null,null,null,null,null,null,null,null,null,null,null,null,null,null,null,null,{"$f":"+IF(BV138=\"\",\"\",MAX(BQ$1:BQ137)+1)","v":""},{"$f":"IF(OpLimit!B160=\"\",\"\",OpLimit!B160)","v":""},{"$f":"IF(OpLimit!C160=\"\",\"\",OpLimit!C160)","v":""},{"$f":"IF(OpLimit!E160=\"\",\"\",OpLimit!E160)","v":""},"",{"$f":"IF(COUNTIF(BU$2:BU138,BU138)=1,BU138,\"\")","v":""},"","","",""]
[null,null,null,null,null,null,null,null,null,null,{"$f":"+IF(N139=\"\",\"\",MAX(K$1:K138)+1)","v":""},{"$f":"IF(CPMS1!E161=\"\",\"\",CPMS1!E161)","v":""},"",{"$f":"IF(COUNTIF(L$2:L139,L139)=1,L139,\"\")","v":""},null,null,null,null,{"$f":"+IF(W139=\"\",\"\",MAX(S$1:S138)+1)","v":""},{"$f":"IF(Adhes_Sealer_Deadener!B161=\"\",\"\",Adhes_Sealer_Deadener!B161)","v":""},{"$f":"IF(Adhes_Sealer_Deadener!C161=\"\",\"\",Adhes_Sealer_Deadener!C161)","v":""},{"$f":"+Table10[[#This Row],[Column1]]&Table10[[#This Row],[Column2]]","v":""},{"$f":"IF(COUNTIF(V$2:V139,V139)=1,V139,\"\")","v":""},"","",null,{"$f":"+IF(AF139=\"\",\"\",MAX(AA$1:AA138)+1)","v":""},{"$f":"IF(CPMS2!B161=\"\",\"\",CPMS2!B161)","v":""},{"$f":"IF(CPMS2!C161=\"\",\"\",CPMS2!C161)","v":""},{"$f":"IF(CPMS2!D161=\"\",\"\",CPMS2!D161)","v":""},"",{"$f":"IF(COUNTIF(AE$2:AE139,AE139)=1,AE139,\"\")","v":""},"","","",null,null,null,null,null,null,null,null,null,null,null,null,null,null,null,null,null,null,null,null,null,null,null,null,null,null,null,null,null,null,null,null,null,{"$f":"+IF(BV139=\"\",\"\",MAX(BQ$1:BQ138)+1)","v":""},{"$f":"IF(OpLimit!B161=\"\",\"\",OpLimit!B161)","v":""},{"$f":"IF(OpLimit!C161=\"\",\"\",OpLimit!C161)","v":""},{"$f":"IF(OpLimit!E161=\"\",\"\",OpLimit!E161)","v":""},"",{"$f":"IF(COUNTIF(BU$2:BU139,BU139)=1,BU139,\"\")","v":""},"","","",""]
[null,null,null,null,null,null,null,null,null,null,{"$f":"+IF(N140=\"\",\"\",MAX(K$1:K139)+1)","v":""},{"$f":"IF(CPMS1!E162=\"\",\"\",CPMS1!E162)","v":""},"",{"$f":"IF(COUNTIF(L$2:L140,L140)=1,L140,\"\")","v":""},null,null,null,null,{"$f":"+IF(W140=\"\",\"\",MAX(S$1:S139)+1)","v":""},{"$f":"IF(Adhes_Sealer_Deadener!B162=\"\",\"\",Adhes_Sealer_Deadener!B162)","v":""},{"$f":"IF(Adhes_Sealer_Deadener!C162=\"\",\"\",Adhes_Sealer_Deadener!C162)","v":""},{"$f":"+Table10[[#This Row],[Column1]]&Table10[[#This Row],[Column2]]","v":""},{"$f":"IF(COUNTIF(V$2:V140,V140)=1,V140,\"\")","v":""},"","",null,{"$f":"+IF(AF140=\"\",\"\",MAX(AA$1:AA139)+1)","v":""},{"$f":"IF(CPMS2!B162=\"\",\"\",CPMS2!B162)","v":""},{"$f":"IF(CPMS2!C162=\"\",\"\",CPMS2!C162)","v":""},{"$f":"IF(CPMS2!D162=\"\",\"\",CPMS2!D162)","v":""},"",{"$f":"IF(COUNTIF(AE$2:AE140,AE140)=1,AE140,\"\")","v":""},"","","",null,null,null,null,null,null,null,null,null,null,null,null,null,null,null,null,null,null,null,null,null,null,null,null,null,null,null,null,null,null,null,null,null,{"$f":"+IF(BV140=\"\",\"\",MAX(BQ$1:BQ139)+1)","v":""},{"$f":"IF(OpLimit!B162=\"\",\"\",OpLimit!B162)","v":""},{"$f":"IF(OpLimit!C162=\"\",\"\",OpLimit!C162)","v":""},{"$f":"IF(OpLimit!E162=\"\",\"\",OpLimit!E162)","v":""},"",{"$f":"IF(COUNTIF(BU$2:BU140,BU140)=1,BU140,\"\")","v":""},"","","",""]
[null,null,null,null,null,null,null,null,null,null,{"$f":"+IF(N141=\"\",\"\",MAX(K$1:K140)+1)","v":""},{"$f":"IF(CPMS1!E163=\"\",\"\",CPMS1!E163)","v":""},"",{"$f":"IF(COUNTIF(L$2:L141,L141)=1,L141,\"\")","v":""},null,null,null,null,{"$f":"+IF(W141=\"\",\"\",MAX(S$1:S140)+1)","v":""},{"$f":"IF(Adhes_Sealer_Deadener!B163=\"\",\"\",Adhes_Sealer_Deadener!B163)","v":""},{"$f":"IF(Adhes_Sealer_Deadener!C163=\"\",\"\",Adhes_Sealer_Deadener!C163)","v":""},{"$f":"+Table10[[#This Row],[Column1]]&Table10[[#This Row],[Column2]]","v":""},{"$f":"IF(COUNTIF(V$2:V141,V141)=1,V141,\"\")","v":""},"","",null,{"$f":"+IF(AF141=\"\",\"\",MAX(AA$1:AA140)+1)","v":""},{"$f":"IF(CPMS2!B163=\"\",\"\",CPMS2!B163)","v":""},{"$f":"IF(CPMS2!C163=\"\",\"\",CPMS2!C163)","v":""},{"$f":"IF(CPMS2!D163=\"\",\"\",CPMS2!D163)","v":""},"",{"$f":"IF(COUNTIF(AE$2:AE141,AE141)=1,AE141,\"\")","v":""},"","","",null,null,null,null,null,null,null,null,null,null,null,null,null,null,null,null,null,null,null,null,null,null,null,null,null,null,null,null,null,null,null,null,null,{"$f":"+IF(BV141=\"\",\"\",MAX(BQ$1:BQ140)+1)","v":""},{"$f":"IF(OpLimit!B163=\"\",\"\",OpLimit!B163)","v":""},{"$f":"IF(OpLimit!C163=\"\",\"\",OpLimit!C163)","v":""},{"$f":"IF(OpLimit!E163=\"\",\"\",OpLimit!E163)","v":""},"",{"$f":"IF(COUNTIF(BU$2:BU141,BU141)=1,BU141,\"\")","v":""},"","","",""]
[null,null,null,null,null,null,null,null,null,null,{"$f":"+IF(N142=\"\",\"\",MAX(K$1:K141)+1)","v":""},{"$f":"IF(CPMS1!E164=\"\",\"\",CPMS1!E164)","v":""},"",{"$f":"IF(COUNTIF(L$2:L142,L142)=1,L142,\"\")","v":""},null,null,null,null,{"$f":"+IF(W142=\"\",\"\",MAX(S$1:S141)+1)","v":""},{"$f":"IF(Adhes_Sealer_Deadener!B164=\"\",\"\",Adhes_Sealer_Deadener!B164)","v":""},{"$f":"IF(Adhes_Sealer_Deadener!C164=\"\",\"\",Adhes_Sealer_Deadener!C164)","v":""},{"$f":"+Table10[[#This Row],[Column1]]&Table10[[#This Row],[Column2]]","v":""},{"$f":"IF(COUNTIF(V$2:V142,V142)=1,V142,\"\")","v":""},"","",null,{"$f":"+IF(AF142=\"\",\"\",MAX(AA$1:AA141)+1)","v":""},{"$f":"IF(CPMS2!B164=\"\",\"\",CPMS2!B164)","v":""},{"$f":"IF(CPMS2!C164=\"\",\"\",CPMS2!C164)","v":""},{"$f":"IF(CPMS2!D164=\"\",\"\",CPMS2!D164)","v":""},"",{"$f":"IF(COUNTIF(AE$2:AE142,AE142)=1,AE142,\"\")","v":""},"","","",null,null,null,null,null,null,null,null,null,null,null,null,null,null,null,null,null,null,null,null,null,null,null,null,null,null,null,null,null,null,null,null,null,{"$f":"+IF(BV142=\"\",\"\",MAX(BQ$1:BQ141)+1)","v":""},{"$f":"IF(OpLimit!B164=\"\",\"\",OpLimit!B164)","v":""},{"$f":"IF(OpLimit!C164=\"\",\"\",OpLimit!C164)","v":""},{"$f":"IF(OpLimit!E164=\"\",\"\",OpLimit!E164)","v":""},"",{"$f":"IF(COUNTIF(BU$2:BU142,BU142)=1,BU142,\"\")","v":""},"","","",""]
[null,null,null,null,null,null,null,null,null,null,{"$f":"+IF(N143=\"\",\"\",MAX(K$1:K142)+1)","v":""},{"$f":"IF(CPMS1!E165=\"\",\"\",CPMS1!E165)","v":""},"",{"$f":"IF(COUNTIF(L$2:L143,L143)=1,L143,\"\")","v":""},null,null,null,null,{"$f":"+IF(W143=\"\",\"\",MAX(S$1:S142)+1)","v":""},{"$f":"IF(Adhes_Sealer_Deadener!B165=\"\",\"\",Adhes_Sealer_Deadener!B165)","v":""},{"$f":"IF(Adhes_Sealer_Deadener!C165=\"\",\"\",Adhes_Sealer_Deadener!C165)","v":""},{"$f":"+Table10[[#This Row],[Column1]]&Table10[[#This Row],[Column2]]","v":""},{"$f":"IF(COUNTIF(V$2:V143,V143)=1,V143,\"\")","v":""},"","",null,{"$f":"+IF(AF143=\"\",\"\",MAX(AA$1:AA142)+1)","v":""},{"$f":"IF(CPMS2!B165=\"\",\"\",CPMS2!B165)","v":""},{"$f":"IF(CPMS2!C165=\"\",\"\",CPMS2!C165)","v":""},{"$f":"IF(CPMS2!D165=\"\",\"\",CPMS2!D165)","v":""},"",{"$f":"IF(COUNTIF(AE$2:AE143,AE143)=1,AE143,\"\")","v":""},"","","",null,null,null,null,null,null,null,null,null,null,null,null,null,null,null,null,null,null,null,null,null,null,null,null,null,null,null,null,null,null,null,null,null,{"$f":"+IF(BV143=\"\",\"\",MAX(BQ$1:BQ142)+1)","v":""},{"$f":"IF(OpLimit!B165=\"\",\"\",OpLimit!B165)","v":""},{"$f":"IF(OpLimit!C165=\"\",\"\",OpLimit!C165)","v":""},{"$f":"IF(OpLimit!E165=\"\",\"\",OpLimit!E165)","v":""},"",{"$f":"IF(COUNTIF(BU$2:BU143,BU143)=1,BU143,\"\")","v":""},"","","",""]
[null,null,null,null,null,null,null,null,null,null,{"$f":"+IF(N144=\"\",\"\",MAX(K$1:K143)+1)","v":""},{"$f":"IF(CPMS1!E166=\"\",\"\",CPMS1!E166)","v":""},"",{"$f":"IF(COUNTIF(L$2:L144,L144)=1,L144,\"\")","v":""},null,null,null,null,{"$f":"+IF(W144=\"\",\"\",MAX(S$1:S143)+1)","v":""},{"$f":"IF(Adhes_Sealer_Deadener!B166=\"\",\"\",Adhes_Sealer_Deadener!B166)","v":""},{"$f":"IF(Adhes_Sealer_Deadener!C166=\"\",\"\",Adhes_Sealer_Deadener!C166)","v":""},{"$f":"+Table10[[#This Row],[Column1]]&Table10[[#This Row],[Column2]]","v":""},{"$f":"IF(COUNTIF(V$2:V144,V144)=1,V144,\"\")","v":""},"","",null,{"$f":"+IF(AF144=\"\",\"\",MAX(AA$1:AA143)+1)","v":""},{"$f":"IF(CPMS2!B166=\"\",\"\",CPMS2!B166)","v":""},{"$f":"IF(CPMS2!C166=\"\",\"\",CPMS2!C166)","v":""},{"$f":"IF(CPMS2!D166=\"\",\"\",CPMS2!D166)","v":""},"",{"$f":"IF(COUNTIF(AE$2:AE144,AE144)=1,AE144,\"\")","v":""},"","","",null,null,null,null,null,null,null,null,null,null,null,null,null,null,null,null,null,null,null,null,null,null,null,null,null,null,null,null,null,null,null,null,null,{"$f":"+IF(BV144=\"\",\"\",MAX(BQ$1:BQ143)+1)","v":""},{"$f":"IF(OpLimit!B166=\"\",\"\",OpLimit!B166)","v":""},{"$f":"IF(OpLimit!C166=\"\",\"\",OpLimit!C166)","v":""},{"$f":"IF(OpLimit!E166=\"\",\"\",OpLimit!E166)","v":""},"",{"$f":"IF(COUNTIF(BU$2:BU144,BU144)=1,BU144,\"\")","v":""},"","","",""]
[null,null,null,null,null,null,null,null,null,null,{"$f":"+IF(N145=\"\",\"\",MAX(K$1:K144)+1)","v":""},{"$f":"IF(CPMS1!E167=\"\",\"\",CPMS1!E167)","v":""},"",{"$f":"IF(COUNTIF(L$2:L145,L145)=1,L145,\"\")","v":""},null,null,null,null,{"$f":"+IF(W145=\"\",\"\",MAX(S$1:S144)+1)","v":""},{"$f":"IF(Adhes_Sealer_Deadener!B167=\"\",\"\",Adhes_Sealer_Deadener!B167)","v":""},{"$f":"IF(Adhes_Sealer_Deadener!C167=\"\",\"\",Adhes_Sealer_Deadener!C167)","v":""},{"$f":"+Table10[[#This Row],[Column1]]&Table10[[#This Row],[Column2]]","v":""},{"$f":"IF(COUNTIF(V$2:V145,V145)=1,V145,\"\")","v":""},"","",null,{"$f":"+IF(AF145=\"\",\"\",MAX(AA$1:AA144)+1)","v":""},{"$f":"IF(CPMS2!B167=\"\",\"\",CPMS2!B167)","v":""},{"$f":"IF(CPMS2!C167=\"\",\"\",CPMS2!C167)","v":""},{"$f":"IF(CPMS2!D167=\"\",\"\",CPMS2!D167)","v":""},"",{"$f":"IF(COUNTIF(AE$2:AE145,AE145)=1,AE145,\"\")","v":""},"","","",null,null,null,null,null,null,null,null,null,null,null,null,null,null,null,null,null,null,null,null,null,null,null,null,null,null,null,null,null,null,null,null,null,{"$f":"+IF(BV145=\"\",\"\",MAX(BQ$1:BQ144)+1)","v":""},{"$f":"IF(OpLimit!B167=\"\",\"\",OpLimit!B167)","v":""},{"$f":"IF(OpLimit!C167=\"\",\"\",OpLimit!C167)","v":""},{"$f":"IF(OpLimit!E167=\"\",\"\",OpLimit!E167)","v":""},"",{"$f":"IF(COUNTIF(BU$2:BU145,BU145)=1,BU145,\"\")","v":""},"","","",""]
[null,null,null,null,null,null,null,null,null,null,{"$f":"+IF(N146=\"\",\"\",MAX(K$1:K145)+1)","v":""},{"$f":"IF(CPMS1!E168=\"\",\"\",CPMS1!E168)","v":""},"",{"$f":"IF(COUNTIF(L$2:L146,L146)=1,L146,\"\")","v":""},null,null,null,null,{"$f":"+IF(W146=\"\",\"\",MAX(S$1:S145)+1)","v":""},{"$f":"IF(Adhes_Sealer_Deadener!B168=\"\",\"\",Adhes_Sealer_Deadener!B168)","v":""},{"$f":"IF(Adhes_Sealer_Deadener!C168=\"\",\"\",Adhes_Sealer_Deadener!C168)","v":""},{"$f":"+Table10[[#This Row],[Column1]]&Table10[[#This Row],[Column2]]","v":""},{"$f":"IF(COUNTIF(V$2:V146,V146)=1,V146,\"\")","v":""},"","",null,{"$f":"+IF(AF146=\"\",\"\",MAX(AA$1:AA145)+1)","v":""},{"$f":"IF(CPMS2!B168=\"\",\"\",CPMS2!B168)","v":""},{"$f":"IF(CPMS2!C168=\"\",\"\",CPMS2!C168)","v":""},{"$f":"IF(CPMS2!D168=\"\",\"\",CPMS2!D168)","v":""},"",{"$f":"IF(COUNTIF(AE$2:AE146,AE146)=1,AE146,\"\")","v":""},"","","",null,null,null,null,null,null,null,null,null,null,null,null,null,null,null,null,null,null,null,null,null,null,null,null,null,null,null,null,null,null,null,null,null,{"$f":"+IF(BV146=\"\",\"\",MAX(BQ$1:BQ145)+1)","v":""},{"$f":"IF(OpLimit!B168=\"\",\"\",OpLimit!B168)","v":""},{"$f":"IF(OpLimit!C168=\"\",\"\",OpLimit!C168)","v":""},{"$f":"IF(OpLimit!E168=\"\",\"\",OpLimit!E168)","v":""},"",{"$f":"IF(COUNTIF(BU$2:BU146,BU146)=1,BU146,\"\")","v":""},"","","",""]
[null,null,null,null,null,null,null,null,null,null,{"$f":"+IF(N147=\"\",\"\",MAX(K$1:K146)+1)","v":""},{"$f":"IF(CPMS1!E169=\"\",\"\",CPMS1!E169)","v":""},"",{"$f":"IF(COUNTIF(L$2:L147,L147)=1,L147,\"\")","v":""},null,null,null,null,{"$f":"+IF(W147=\"\",\"\",MAX(S$1:S146)+1)","v":""},{"$f":"IF(Adhes_Sealer_Deadener!B169=\"\",\"\",Adhes_Sealer_Deadener!B169)","v":""},{"$f":"IF(Adhes_Sealer_Deadener!C169=\"\",\"\",Adhes_Sealer_Deadener!C169)","v":""},{"$f":"+Table10[[#This Row],[Column1]]&Table10[[#This Row],[Column2]]","v":""},{"$f":"IF(COUNTIF(V$2:V147,V147)=1,V147,\"\")","v":""},"","",null,{"$f":"+IF(AF147=\"\",\"\",MAX(AA$1:AA146)+1)","v":""},{"$f":"IF(CPMS2!B169=\"\",\"\",CPMS2!B169)","v":""},{"$f":"IF(CPMS2!C169=\"\",\"\",CPMS2!C169)","v":""},{"$f":"IF(CPMS2!D169=\"\",\"\",CPMS2!D169)","v":""},"",{"$f":"IF(COUNTIF(AE$2:AE147,AE147)=1,AE147,\"\")","v":""},"","","",null,null,null,null,null,null,null,null,null,null,null,null,null,null,null,null,null,null,null,null,null,null,null,null,null,null,null,null,null,null,null,null,null,{"$f":"+IF(BV147=\"\",\"\",MAX(BQ$1:BQ146)+1)","v":""},{"$f":"IF(OpLimit!B169=\"\",\"\",OpLimit!B169)","v":""},{"$f":"IF(OpLimit!C169=\"\",\"\",OpLimit!C169)","v":""},{"$f":"IF(OpLimit!E169=\"\",\"\",OpLimit!E169)","v":""},"",{"$f":"IF(COUNTIF(BU$2:BU147,BU147)=1,BU147,\"\")","v":""},"","","",""]
[null,null,null,null,null,null,null,null,null,null,{"$f":"+IF(N148=\"\",\"\",MAX(K$1:K147)+1)","v":""},{"$f":"IF(CPMS1!E170=\"\",\"\",CPMS1!E170)","v":""},"",{"$f":"IF(COUNTIF(L$2:L148,L148)=1,L148,\"\")","v":""},null,null,null,null,{"$f":"+IF(W148=\"\",\"\",MAX(S$1:S147)+1)","v":""},{"$f":"IF(Adhes_Sealer_Deadener!B170=\"\",\"\",Adhes_Sealer_Deadener!B170)","v":""},{"$f":"IF(Adhes_Sealer_Deadener!C170=\"\",\"\",Adhes_Sealer_Deadener!C170)","v":""},{"$f":"+Table10[[#This Row],[Column1]]&Table10[[#This Row],[Column2]]","v":""},{"$f":"IF(COUNTIF(V$2:V148,V148)=1,V148,\"\")","v":""},"","",null,{"$f":"+IF(AF148=\"\",\"\",MAX(AA$1:AA147)+1)","v":""},{"$f":"IF(CPMS2!B170=\"\",\"\",CPMS2!B170)","v":""},{"$f":"IF(CPMS2!C170=\"\",\"\",CPMS2!C170)","v":""},{"$f":"IF(CPMS2!D170=\"\",\"\",CPMS2!D170)","v":""},"",{"$f":"IF(COUNTIF(AE$2:AE148,AE148)=1,AE148,\"\")","v":""},"","","",null,null,null,null,null,null,null,null,null,null,null,null,null,null,null,null,null,null,null,null,null,null,null,null,null,null,null,null,null,null,null,null,null,{"$f":"+IF(BV148=\"\",\"\",MAX(BQ$1:BQ147)+1)","v":""},{"$f":"IF(OpLimit!B170=\"\",\"\",OpLimit!B170)","v":""},{"$f":"IF(OpLimit!C170=\"\",\"\",OpLimit!C170)","v":""},{"$f":"IF(OpLimit!E170=\"\",\"\",OpLimit!E170)","v":""},"",{"$f":"IF(COUNTIF(BU$2:BU148,BU148)=1,BU148,\"\")","v":""},"","","",""]
[null,null,null,null,null,null,null,null,null,null,{"$f":"+IF(N149=\"\",\"\",MAX(K$1:K148)+1)","v":""},{"$f":"IF(CPMS1!E171=\"\",\"\",CPMS1!E171)","v":""},"",{"$f":"IF(COUNTIF(L$2:L149,L149)=1,L149,\"\")","v":""},null,null,null,null,{"$f":"+IF(W149=\"\",\"\",MAX(S$1:S148)+1)","v":""},{"$f":"IF(Adhes_Sealer_Deadener!B171=\"\",\"\",Adhes_Sealer_Deadener!B171)","v":""},{"$f":"IF(Adhes_Sealer_Deadener!C171=\"\",\"\",Adhes_Sealer_Deadener!C171)","v":""},{"$f":"+Table10[[#This Row],[Column1]]&Table10[[#This Row],[Column2]]","v":""},{"$f":"IF(COUNTIF(V$2:V149,V149)=1,V149,\"\")","v":""},{"$f":"+IFERROR(INDEX($T$2:$T$478,MATCH(ROW()-ROW($X$1),$S$2:$S$478,0)),\"\")","v":""},{"$f":"+IFERROR(INDEX($U$2:$U$478,MATCH(ROW()-ROW($X$1),$S$2:$S$478,0)),\"\")","v":""},null,{"$f":"+IF(AF149=\"\",\"\",MAX(AA$1:AA148)+1)","v":""},{"$f":"IF(CPMS2!B171=\"\",\"\",CPMS2!B171)","v":""},{"$f":"IF(CPMS2!C171=\"\",\"\",CPMS2!C171)","v":""},{"$f":"IF(CPMS2!D171=\"\",\"\",CPMS2!D171)","v":""},"",{"$f":"IF(COUNTIF(AE$2:AE149,AE149)=1,AE149,\"\")","v":""},"","","",null,null,null,null,null,null,null,null,null,null,null,null,null,null,null,null,null,null,null,null,null,null,null,null,null,null,null,null,null,null,null,null,null,{"$f":"+IF(BV149=\"\",\"\",MAX(BQ$1:BQ148)+1)","v":""},{"$f":"IF(OpLimit!B171=\"\",\"\",OpLimit!B171)","v":""},{"$f":"IF(OpLimit!C171=\"\",\"\",OpLimit!C171)","v":""},{"$f":"IF(OpLimit!E171=\"\",\"\",OpLimit!E171)","v":""},"",{"$f":"IF(COUNTIF(BU$2:BU149,BU149)=1,BU149,\"\")","v":""},"","","",""]
[null,null,null,null,null,null,null,null,null,null,{"$f":"+IF(N150=\"\",\"\",MAX(K$1:K149)+1)","v":""},{"$f":"IF(CPMS1!E172=\"\",\"\",CPMS1!E172)","v":""},"",{"$f":"IF(COUNTIF(L$2:L150,L150)=1,L150,\"\")","v":""},null,null,null,null,{"$f":"+IF(W150=\"\",\"\",MAX(S$1:S149)+1)","v":""},{"$f":"IF(Adhes_Sealer_Deadener!B172=\"\",\"\",Adhes_Sealer_Deadener!B172)","v":""},{"$f":"IF(Adhes_Sealer_Deadener!C172=\"\",\"\",Adhes_Sealer_Deadener!C172)","v":""},{"$f":"+Table10[[#This Row],[Column1]]&Table10[[#This Row],[Column2]]","v":""},{"$f":"IF(COUNTIF(V$2:V150,V150)=1,V150,\"\")","v":""},"","",null,{"$f":"+IF(AF150=\"\",\"\",MAX(AA$1:AA149)+1)","v":""},{"$f":"IF(CPMS2!B172=\"\",\"\",CPMS2!B172)","v":""},{"$f":"IF(CPMS2!C172=\"\",\"\",CPMS2!C172)","v":""},{"$f":"IF(CPMS2!D172=\"\",\"\",CPMS2!D172)","v":""},"",{"$f":"IF(COUNTIF(AE$2:AE150,AE150)=1,AE150,\"\")","v":""},"","","",null,null,null,null,null,null,null,null,null,null,null,null,null,null,null,null,null,null,null,null,null,null,null,null,null,null,null,null,null,null,null,null,null,{"$f":"+IF(BV150=\"\",\"\",MAX(BQ$1:BQ149)+1)","v":""},{"$f":"IF(OpLimit!B172=\"\",\"\",OpLimit!B172)","v":""},{"$f":"IF(OpLimit!C172=\"\",\"\",OpLimit!C172)","v":""},{"$f":"IF(OpLimit!E172=\"\",\"\",OpLimit!E172)","v":""},"",{"$f":"IF(COUNTIF(BU$2:BU150,BU150)=1,BU150,\"\")","v":""},"","","",""]
[null,null,null,null,null,null,null,null,null,null,{"$f":"+IF(N151=\"\",\"\",MAX(K$1:K150)+1)","v":""},{"$f":"IF(CPMS1!E173=\"\",\"\",CPMS1!E173)","v":""},"",{"$f":"IF(COUNTIF(L$2:L151,L151)=1,L151,\"\")","v":""},null,null,null,null,{"$f":"+IF(W151=\"\",\"\",MAX(S$1:S150)+1)","v":""},{"$f":"IF(Adhes_Sealer_Deadener!B173=\"\",\"\",Adhes_Sealer_Deadener!B173)","v":""},{"$f":"IF(Adhes_Sealer_Deadener!C173=\"\",\"\",Adhes_Sealer_Deadener!C173)","v":""},{"$f":"+Table10[[#This Row],[Column1]]&Table10[[#This Row],[Column2]]","v":""},{"$f":"IF(COUNTIF(V$2:V151,V151)=1,V151,\"\")","v":""},"","",null,{"$f":"+IF(AF151=\"\",\"\",MAX(AA$1:AA150)+1)","v":""},{"$f":"IF(CPMS2!B173=\"\",\"\",CPMS2!B173)","v":""},{"$f":"IF(CPMS2!C173=\"\",\"\",CPMS2!C173)","v":""},{"$f":"IF(CPMS2!D173=\"\",\"\",CPMS2!D173)","v":""},"",{"$f":"IF(COUNTIF(AE$2:AE151,AE151)=1,AE151,\"\")","v":""},"","","",null,null,null,null,null,null,null,null,null,null,null,null,null,null,null,null,null,null,null,null,null,null,null,null,null,null,null,null,null,null,null,null,null,{"$f":"+IF(BV151=\"\",\"\",MAX(BQ$1:BQ150)+1)","v":""},{"$f":"IF(OpLimit!B173=\"\",\"\",OpLimit!B173)","v":""},{"$f":"IF(OpLimit!C173=\"\",\"\",OpLimit!C173)","v":""},{"$f":"IF(OpLimit!E173=\"\",\"\",OpLimit!E173)","v":""},"",{"$f":"IF(COUNTIF(BU$2:BU151,BU151)=1,BU151,\"\")","v":""},"","","",""]
[null,null,null,null,null,null,null,null,null,null,{"$f":"+IF(N152=\"\",\"\",MAX(K$1:K151)+1)","v":""},{"$f":"IF(CPMS1!E174=\"\",\"\",CPMS1!E174)","v":""},"",{"$f":"IF(COUNTIF(L$2:L152,L152)=1,L152,\"\")","v":""},null,null,null,null,{"$f":"+IF(W152=\"\",\"\",MAX(S$1:S151)+1)","v":""},{"$f":"IF(Adhes_Sealer_Deadener!B174=\"\",\"\",Adhes_Sealer_Deadener!B174)","v":""},{"$f":"IF(Adhes_Sealer_Deadener!C174=\"\",\"\",Adhes_Sealer_Deadener!C174)","v":""},{"$f":"+Table10[[#This Row],[Column1]]&Table10[[#This Row],[Column2]]","v":""},{"$f":"IF(COUNTIF(V$2:V152,V152)=1,V152,\"\")","v":""},"","",null,{"$f":"+IF(AF152=\"\",\"\",MAX(AA$1:AA151)+1)","v":""},{"$f":"IF(CPMS2!B174=\"\",\"\",CPMS2!B174)","v":""},{"$f":"IF(CPMS2!C174=\"\",\"\",CPMS2!C174)","v":""},{"$f":"IF(CPMS2!D174=\"\",\"\",CPMS2!D174)","v":""},"",{"$f":"IF(COUNTIF(AE$2:AE152,AE152)=1,AE152,\"\")","v":""},"","","",null,null,null,null,null,null,null,null,null,null,null,null,null,null,null,null,null,null,null,null,null,null,null,null,null,null,null,null,null,null,null,null,null,{"$f":"+IF(BV152=\"\",\"\",MAX(BQ$1:BQ151)+1)","v":""},{"$f":"IF(OpLimit!B174=\"\",\"\",OpLimit!B174)","v":""},{"$f":"IF(OpLimit!C174=\"\",\"\",OpLimit!C174)","v":""},{"$f":"IF(OpLimit!E174=\"\",\"\",OpLimit!E174)","v":""},"",{"$f":"IF(COUNTIF(BU$2:BU152,BU152)=1,BU152,\"\")","v":""},"","","",""]
[null,null,null,null,null,null,null,null,null,null,{"$f":"+IF(N153=\"\",\"\",MAX(K$1:K152)+1)","v":""},{"$f":"IF(CPMS1!E175=\"\",\"\",CPMS1!E175)","v":""},"",{"$f":"IF(COUNTIF(L$2:L153,L153)=1,L153,\"\")","v":""},null,null,null,null,{"$f":"+IF(W153=\"\",\"\",MAX(S$1:S152)+1)","v":""},{"$f":"IF(Adhes_Sealer_Deadener!B175=\"\",\"\",Adhes_Sealer_Deadener!B175)","v":""},{"$f":"IF(Adhes_Sealer_Deadener!C175=\"\",\"\",Adhes_Sealer_Deadener!C175)","v":""},{"$f":"+Table10[[#This Row],[Column1]]&Table10[[#This Row],[Column2]]","v":""},{"$f":"IF(COUNTIF(V$2:V153,V153)=1,V153,\"\")","v":""},"","",null,{"$f":"+IF(AF153=\"\",\"\",MAX(AA$1:AA152)+1)","v":""},{"$f":"IF(CPMS2!B175=\"\",\"\",CPMS2!B175)","v":""},{"$f":"IF(CPMS2!C175=\"\",\"\",CPMS2!C175)","v":""},{"$f":"IF(CPMS2!D175=\"\",\"\",CPMS2!D175)","v":""},"",{"$f":"IF(COUNTIF(AE$2:AE153,AE153)=1,AE153,\"\")","v":""},"","","",null,null,null,null,null,null,null,null,null,null,null,null,null,null,null,null,null,null,null,null,null,null,null,null,null,null,null,null,null,null,null,null,null,{"$f":"+IF(BV153=\"\",\"\",MAX(BQ$1:BQ152)+1)","v":""},{"$f":"IF(OpLimit!B175=\"\",\"\",OpLimit!B175)","v":""},{"$f":"IF(OpLimit!C175=\"\",\"\",OpLimit!C175)","v":""},{"$f":"IF(OpLimit!E175=\"\",\"\",OpLimit!E175)","v":""},"",{"$f":"IF(COUNTIF(BU$2:BU153,BU153)=1,BU153,\"\")","v":""},"","","",""]
[null,null,null,null,null,null,null,null,null,null,{"$f":"+IF(N154=\"\",\"\",MAX(K$1:K153)+1)","v":""},{"$f":"IF(CPMS1!E176=\"\",\"\",CPMS1!E176)","v":""},"",{"$f":"IF(COUNTIF(L$2:L154,L154)=1,L154,\"\")","v":""},null,null,null,null,{"$f":"+IF(W154=\"\",\"\",MAX(S$1:S153)+1)","v":""},{"$f":"IF(Adhes_Sealer_Deadener!B176=\"\",\"\",Adhes_Sealer_Deadener!B176)","v":""},{"$f":"IF(Adhes_Sealer_Deadener!C176=\"\",\"\",Adhes_Sealer_Deadener!C176)","v":""},{"$f":"+Table10[[#This Row],[Column1]]&Table10[[#This Row],[Column2]]","v":""},{"$f":"IF(COUNTIF(V$2:V154,V154)=1,V154,\"\")","v":""},"","",null,{"$f":"+IF(AF154=\"\",\"\",MAX(AA$1:AA153)+1)","v":""},{"$f":"IF(CPMS2!B176=\"\",\"\",CPMS2!B176)","v":""},{"$f":"IF(CPMS2!C176=\"\",\"\",CPMS2!C176)","v":""},{"$f":"IF(CPMS2!D176=\"\",\"\",CPMS2!D176)","v":""},"",{"$f":"IF(COUNTIF(AE$2:AE154,AE154)=1,AE154,\"\")","v":""},"","","",null,null,null,null,null,null,null,null,null,null,null,null,null,null,null,null,null,null,null,null,null,null,null,null,null,null,null,null,null,null,null,null,null,{"$f":"+IF(BV154=\"\",\"\",MAX(BQ$1:BQ153)+1)","v":""},{"$f":"IF(OpLimit!B176=\"\",\"\",OpLimit!B176)","v":""},{"$f":"IF(OpLimit!C176=\"\",\"\",OpLimit!C176)","v":""},{"$f":"IF(OpLimit!E176=\"\",\"\",OpLimit!E176)","v":""},"",{"$f":"IF(COUNTIF(BU$2:BU154,BU154)=1,BU154,\"\")","v":""},"","","",""]
[null,null,null,null,null,null,null,null,null,null,{"$f":"+IF(N155=\"\",\"\",MAX(K$1:K154)+1)","v":""},{"$f":"IF(CPMS1!E177=\"\",\"\",CPMS1!E177)","v":""},"",{"$f":"IF(COUNTIF(L$2:L155,L155)=1,L155,\"\")","v":""},null,null,null,null,{"$f":"+IF(W155=\"\",\"\",MAX(S$1:S154)+1)","v":""},{"$f":"IF(Adhes_Sealer_Deadener!B177=\"\",\"\",Adhes_Sealer_Deadener!B177)","v":""},{"$f":"IF(Adhes_Sealer_Deadener!C177=\"\",\"\",Adhes_Sealer_Deadener!C177)","v":""},{"$f":"+Table10[[#This Row],[Column1]]&Table10[[#This Row],[Column2]]","v":""},{"$f":"IF(COUNTIF(V$2:V155,V155)=1,V155,\"\")","v":""},"","",null,{"$f":"+IF(AF155=\"\",\"\",MAX(AA$1:AA154)+1)","v":""},{"$f":"IF(CPMS2!B177=\"\",\"\",CPMS2!B177)","v":""},{"$f":"IF(CPMS2!C177=\"\",\"\",CPMS2!C177)","v":""},{"$f":"IF(CPMS2!D177=\"\",\"\",CPMS2!D177)","v":""},"",{"$f":"IF(COUNTIF(AE$2:AE155,AE155)=1,AE155,\"\")","v":""},"","","",null,null,null,null,null,null,null,null,null,null,null,null,null,null,null,null,null,null,null,null,null,null,null,null,null,null,null,null,null,null,null,null,null,{"$f":"+IF(BV155=\"\",\"\",MAX(BQ$1:BQ154)+1)","v":""},{"$f":"IF(OpLimit!B177=\"\",\"\",OpLimit!B177)","v":""},{"$f":"IF(OpLimit!C177=\"\",\"\",OpLimit!C177)","v":""},{"$f":"IF(OpLimit!E177=\"\",\"\",OpLimit!E177)","v":""},"",{"$f":"IF(COUNTIF(BU$2:BU155,BU155)=1,BU155,\"\")","v":""},"","","",""]
[null,null,null,null,null,null,null,null,null,null,{"$f":"+IF(N156=\"\",\"\",MAX(K$1:K155)+1)","v":""},{"$f":"IF(CPMS1!E178=\"\",\"\",CPMS1!E178)","v":""},"",{"$f":"IF(COUNTIF(L$2:L156,L156)=1,L156,\"\")","v":""},null,null,null,null,{"$f":"+IF(W156=\"\",\"\",MAX(S$1:S155)+1)","v":""},{"$f":"IF(Adhes_Sealer_Deadener!B178=\"\",\"\",Adhes_Sealer_Deadener!B178)","v":""},{"$f":"IF(Adhes_Sealer_Deadener!C178=\"\",\"\",Adhes_Sealer_Deadener!C178)","v":""},{"$f":"+Table10[[#This Row],[Column1]]&Table10[[#This Row],[Column2]]","v":""},{"$f":"IF(COUNTIF(V$2:V156,V156)=1,V156,\"\")","v":""},"","",null,{"$f":"+IF(AF156=\"\",\"\",MAX(AA$1:AA155)+1)","v":""},{"$f":"IF(CPMS2!B178=\"\",\"\",CPMS2!B178)","v":""},{"$f":"IF(CPMS2!C178=\"\",\"\",CPMS2!C178)","v":""},{"$f":"IF(CPMS2!D178=\"\",\"\",CPMS2!D178)","v":""},"",{"$f":"IF(COUNTIF(AE$2:AE156,AE156)=1,AE156,\"\")","v":""},"","","",null,null,null,null,null,null,null,null,null,null,null,null,null,null,null,null,null,null,null,null,null,null,null,null,null,null,null,null,null,null,null,null,null,{"$f":"+IF(BV156=\"\",\"\",MAX(BQ$1:BQ155)+1)","v":""},{"$f":"IF(OpLimit!B178=\"\",\"\",OpLimit!B178)","v":""},{"$f":"IF(OpLimit!C178=\"\",\"\",OpLimit!C178)","v":""},{"$f":"IF(OpLimit!E178=\"\",\"\",OpLimit!E178)","v":""},"",{"$f":"IF(COUNTIF(BU$2:BU156,BU156)=1,BU156,\"\")","v":""},"","","",""]
[null,null,null,null,null,null,null,null,null,null,{"$f":"+IF(N157=\"\",\"\",MAX(K$1:K156)+1)","v":""},{"$f":"IF(CPMS1!E179=\"\",\"\",CPMS1!E179)","v":""},"",{"$f":"IF(COUNTIF(L$2:L157,L157)=1,L157,\"\")","v":""},null,null,null,null,{"$f":"+IF(W157=\"\",\"\",MAX(S$1:S156)+1)","v":""},{"$f":"IF(Adhes_Sealer_Deadener!B179=\"\",\"\",Adhes_Sealer_Deadener!B179)","v":""},{"$f":"IF(Adhes_Sealer_Deadener!C179=\"\",\"\",Adhes_Sealer_Deadener!C179)","v":""},{"$f":"+Table10[[#This Row],[Column1]]&Table10[[#This Row],[Column2]]","v":""},{"$f":"IF(COUNTIF(V$2:V157,V157)=1,V157,\"\")","v":""},"","",null,{"$f":"+IF(AF157=\"\",\"\",MAX(AA$1:AA156)+1)","v":""},{"$f":"IF(CPMS2!B179=\"\",\"\",CPMS2!B179)","v":""},{"$f":"IF(CPMS2!C179=\"\",\"\",CPMS2!C179)","v":""},{"$f":"IF(CPMS2!D179=\"\",\"\",CPMS2!D179)","v":""},"",{"$f":"IF(COUNTIF(AE$2:AE157,AE157)=1,AE157,\"\")","v":""},"","","",null,null,null,null,null,null,null,null,null,null,null,null,null,null,null,null,null,null,null,null,null,null,null,null,null,null,null,null,null,null,null,null,null,{"$f":"+IF(BV157=\"\",\"\",MAX(BQ$1:BQ156)+1)","v":""},{"$f":"IF(OpLimit!B179=\"\",\"\",OpLimit!B179)","v":""},{"$f":"IF(OpLimit!C179=\"\",\"\",OpLimit!C179)","v":""},{"$f":"IF(OpLimit!E179=\"\",\"\",OpLimit!E179)","v":""},"",{"$f":"IF(COUNTIF(BU$2:BU157,BU157)=1,BU157,\"\")","v":""},"","","",""]
[null,null,null,null,null,null,null,null,null,null,{"$f":"+IF(N158=\"\",\"\",MAX(K$1:K157)+1)","v":""},{"$f":"IF(CPMS1!E180=\"\",\"\",CPMS1!E180)","v":""},"",{"$f":"IF(COUNTIF(L$2:L158,L158)=1,L158,\"\")","v":""},null,null,null,null,{"$f":"+IF(W158=\"\",\"\",MAX(S$1:S157)+1)","v":""},{"$f":"IF(Adhes_Sealer_Deadener!B180=\"\",\"\",Adhes_Sealer_Deadener!B180)","v":""},{"$f":"IF(Adhes_Sealer_Deadener!C180=\"\",\"\",Adhes_Sealer_Deadener!C180)","v":""},{"$f":"+Table10[[#This Row],[Column1]]&Table10[[#This Row],[Column2]]","v":""},{"$f":"IF(COUNTIF(V$2:V158,V158)=1,V158,\"\")","v":""},"","",null,{"$f":"+IF(AF158=\"\",\"\",MAX(AA$1:AA157)+1)","v":""},{"$f":"IF(CPMS2!B180=\"\",\"\",CPMS2!B180)","v":""},{"$f":"IF(CPMS2!C180=\"\",\"\",CPMS2!C180)","v":""},{"$f":"IF(CPMS2!D180=\"\",\"\",CPMS2!D180)","v":""},"",{"$f":"IF(COUNTIF(AE$2:AE158,AE158)=1,AE158,\"\")","v":""},"","","",null,null,null,null,null,null,null,null,null,null,null,null,null,null,null,null,null,null,null,null,null,null,null,null,null,null,null,null,null,null,null,null,null,{"$f":"+IF(BV158=\"\",\"\",MAX(BQ$1:BQ157)+1)","v":""},{"$f":"IF(OpLimit!B180=\"\",\"\",OpLimit!B180)","v":""},{"$f":"IF(OpLimit!C180=\"\",\"\",OpLimit!C180)","v":""},{"$f":"IF(OpLimit!E180=\"\",\"\",OpLimit!E180)","v":""},"",{"$f":"IF(COUNTIF(BU$2:BU158,BU158)=1,BU158,\"\")","v":""},"","","",""]
[null,null,null,null,null,null,null,null,null,null,{"$f":"+IF(N159=\"\",\"\",MAX(K$1:K158)+1)","v":""},{"$f":"IF(CPMS1!E181=\"\",\"\",CPMS1!E181)","v":""},"",{"$f":"IF(COUNTIF(L$2:L159,L159)=1,L159,\"\")","v":""},null,null,null,null,{"$f":"+IF(W159=\"\",\"\",MAX(S$1:S158)+1)","v":""},{"$f":"IF(Adhes_Sealer_Deadener!B181=\"\",\"\",Adhes_Sealer_Deadener!B181)","v":""},{"$f":"IF(Adhes_Sealer_Deadener!C181=\"\",\"\",Adhes_Sealer_Deadener!C181)","v":""},{"$f":"+Table10[[#This Row],[Column1]]&Table10[[#This Row],[Column2]]","v":""},{"$f":"IF(COUNTIF(V$2:V159,V159)=1,V159,\"\")","v":""},"","",null,{"$f":"+IF(AF159=\"\",\"\",MAX(AA$1:AA158)+1)","v":""},{"$f":"IF(CPMS2!B181=\"\",\"\",CPMS2!B181)","v":""},{"$f":"IF(CPMS2!C181=\"\",\"\",CPMS2!C181)","v":""},{"$f":"IF(CPMS2!D181=\"\",\"\",CPMS2!D181)","v":""},"",{"$f":"IF(COUNTIF(AE$2:AE159,AE159)=1,AE159,\"\")","v":""},"","","",null,null,null,null,null,null,null,null,null,null,null,null,null,null,null,null,null,null,null,null,null,null,null,null,null,null,null,null,null,null,null,null,null,{"$f":"+IF(BV159=\"\",\"\",MAX(BQ$1:BQ158)+1)","v":""},{"$f":"IF(OpLimit!B181=\"\",\"\",OpLimit!B181)","v":""},{"$f":"IF(OpLimit!C181=\"\",\"\",OpLimit!C181)","v":""},{"$f":"IF(OpLimit!E181=\"\",\"\",OpLimit!E181)","v":""},"",{"$f":"IF(COUNTIF(BU$2:BU159,BU159)=1,BU159,\"\")","v":""},"","","",""]
[null,null,null,null,null,null,null,null,null,null,{"$f":"+IF(N160=\"\",\"\",MAX(K$1:K159)+1)","v":""},{"$f":"IF(CPMS1!E182=\"\",\"\",CPMS1!E182)","v":""},"",{"$f":"IF(COUNTIF(L$2:L160,L160)=1,L160,\"\")","v":""},null,null,null,null,{"$f":"+IF(W160=\"\",\"\",MAX(S$1:S159)+1)","v":""},{"$f":"IF(Adhes_Sealer_Deadener!B182=\"\",\"\",Adhes_Sealer_Deadener!B182)","v":""},{"$f":"IF(Adhes_Sealer_Deadener!C182=\"\",\"\",Adhes_Sealer_Deadener!C182)","v":""},{"$f":"+Table10[[#This Row],[Column1]]&Table10[[#This Row],[Column2]]","v":""},{"$f":"IF(COUNTIF(V$2:V160,V160)=1,V160,\"\")","v":""},"","",null,{"$f":"+IF(AF160=\"\",\"\",MAX(AA$1:AA159)+1)","v":""},{"$f":"IF(CPMS2!B182=\"\",\"\",CPMS2!B182)","v":""},{"$f":"IF(CPMS2!C182=\"\",\"\",CPMS2!C182)","v":""},{"$f":"IF(CPMS2!D182=\"\",\"\",CPMS2!D182)","v":""},"",{"$f":"IF(COUNTIF(AE$2:AE160,AE160)=1,AE160,\"\")","v":""},"","","",null,null,null,null,null,null,null,null,null,null,null,null,null,null,null,null,null,null,null,null,null,null,null,null,null,null,null,null,null,null,null,null,null,{"$f":"+IF(BV160=\"\",\"\",MAX(BQ$1:BQ159)+1)","v":""},{"$f":"IF(OpLimit!B182=\"\",\"\",OpLimit!B182)","v":""},{"$f":"IF(OpLimit!C182=\"\",\"\",OpLimit!C182)","v":""},{"$f":"IF(OpLimit!E182=\"\",\"\",OpLimit!E182)","v":""},"",{"$f":"IF(COUNTIF(BU$2:BU160,BU160)=1,BU160,\"\")","v":""},"","","",""]
[null,null,null,null,null,null,null,null,null,null,{"$f":"+IF(N161=\"\",\"\",MAX(K$1:K160)+1)","v":""},{"$f":"IF(CPMS1!E183=\"\",\"\",CPMS1!E183)","v":""},"",{"$f":"IF(COUNTIF(L$2:L161,L161)=1,L161,\"\")","v":""},null,null,null,null,{"$f":"+IF(W161=\"\",\"\",MAX(S$1:S160)+1)","v":""},{"$f":"IF(Adhes_Sealer_Deadener!B183=\"\",\"\",Adhes_Sealer_Deadener!B183)","v":""},{"$f":"IF(Adhes_Sealer_Deadener!C183=\"\",\"\",Adhes_Sealer_Deadener!C183)","v":""},{"$f":"+Table10[[#This Row],[Column1]]&Table10[[#This Row],[Column2]]","v":""},{"$f":"IF(COUNTIF(V$2:V161,V161)=1,V161,\"\")","v":""},"","",null,{"$f":"+IF(AF161=\"\",\"\",MAX(AA$1:AA160)+1)","v":""},{"$f":"IF(CPMS2!B183=\"\",\"\",CPMS2!B183)","v":""},{"$f":"IF(CPMS2!C183=\"\",\"\",CPMS2!C183)","v":""},{"$f":"IF(CPMS2!D183=\"\",\"\",CPMS2!D183)","v":""},"",{"$f":"IF(COUNTIF(AE$2:AE161,AE161)=1,AE161,\"\")","v":""},"","","",null,null,null,null,null,null,null,null,null,null,null,null,null,null,null,null,null,null,null,null,null,null,null,null,null,null,null,null,null,null,null,null,null,{"$f":"+IF(BV161=\"\",\"\",MAX(BQ$1:BQ160)+1)","v":""},{"$f":"IF(OpLimit!B183=\"\",\"\",OpLimit!B183)","v":""},{"$f":"IF(OpLimit!C183=\"\",\"\",OpLimit!C183)","v":""},{"$f":"IF(OpLimit!E183=\"\",\"\",OpLimit!E183)","v":""},"",{"$f":"IF(COUNTIF(BU$2:BU161,BU161)=1,BU161,\"\")","v":""},"","","",""]
[null,null,null,null,null,null,null,null,null,null,{"$f":"+IF(N162=\"\",\"\",MAX(K$1:K161)+1)","v":""},{"$f":"IF(CPMS1!E184=\"\",\"\",CPMS1!E184)","v":""},"",{"$f":"IF(COUNTIF(L$2:L162,L162)=1,L162,\"\")","v":""},null,null,null,null,{"$f":"+IF(W162=\"\",\"\",MAX(S$1:S161)+1)","v":""},{"$f":"IF(Adhes_Sealer_Deadener!B184=\"\",\"\",Adhes_Sealer_Deadener!B184)","v":""},{"$f":"IF(Adhes_Sealer_Deadener!C184=\"\",\"\",Adhes_Sealer_Deadener!C184)","v":""},{"$f":"+Table10[[#This Row],[Column1]]&Table10[[#This Row],[Column2]]","v":""},{"$f":"IF(COUNTIF(V$2:V162,V162)=1,V162,\"\")","v":""},"","",null,{"$f":"+IF(AF162=\"\",\"\",MAX(AA$1:AA161)+1)","v":""},{"$f":"IF(CPMS2!B184=\"\",\"\",CPMS2!B184)","v":""},{"$f":"IF(CPMS2!C184=\"\",\"\",CPMS2!C184)","v":""},{"$f":"IF(CPMS2!D184=\"\",\"\",CPMS2!D184)","v":""},"",{"$f":"IF(COUNTIF(AE$2:AE162,AE162)=1,AE162,\"\")","v":""},"","","",null,null,null,null,null,null,null,null,null,null,null,null,null,null,null,null,null,null,null,null,null,null,null,null,null,null,null,null,null,null,null,null,null,{"$f":"+IF(BV162=\"\",\"\",MAX(BQ$1:BQ161)+1)","v":""},{"$f":"IF(OpLimit!B184=\"\",\"\",OpLimit!B184)","v":""},{"$f":"IF(OpLimit!C184=\"\",\"\",OpLimit!C184)","v":""},{"$f":"IF(OpLimit!E184=\"\",\"\",OpLimit!E184)","v":""},"",{"$f":"IF(COUNTIF(BU$2:BU162,BU162)=1,BU162,\"\")","v":""},"","","",""]
[null,null,null,null,null,null,null,null,null,null,{"$f":"+IF(N163=\"\",\"\",MAX(K$1:K162)+1)","v":""},{"$f":"IF(CPMS1!E185=\"\",\"\",CPMS1!E185)","v":""},"",{"$f":"IF(COUNTIF(L$2:L163,L163)=1,L163,\"\")","v":""},null,null,null,null,{"$f":"+IF(W163=\"\",\"\",MAX(S$1:S162)+1)","v":""},{"$f":"IF(Adhes_Sealer_Deadener!B185=\"\",\"\",Adhes_Sealer_Deadener!B185)","v":""},{"$f":"IF(Adhes_Sealer_Deadener!C185=\"\",\"\",Adhes_Sealer_Deadener!C185)","v":""},{"$f":"+Table10[[#This Row],[Column1]]&Table10[[#This Row],[Column2]]","v":""},{"$f":"IF(COUNTIF(V$2:V163,V163)=1,V163,\"\")","v":""},"","",null,{"$f":"+IF(AF163=\"\",\"\",MAX(AA$1:AA162)+1)","v":""},{"$f":"IF(CPMS2!B185=\"\",\"\",CPMS2!B185)","v":""},{"$f":"IF(CPMS2!C185=\"\",\"\",CPMS2!C185)","v":""},{"$f":"IF(CPMS2!D185=\"\",\"\",CPMS2!D185)","v":""},"",{"$f":"IF(COUNTIF(AE$2:AE163,AE163)=1,AE163,\"\")","v":""},"","","",null,null,null,null,null,null,null,null,null,null,null,null,null,null,null,null,null,null,null,null,null,null,null,null,null,null,null,null,null,null,null,null,null,{"$f":"+IF(BV163=\"\",\"\",MAX(BQ$1:BQ162)+1)","v":""},{"$f":"IF(OpLimit!B185=\"\",\"\",OpLimit!B185)","v":""},{"$f":"IF(OpLimit!C185=\"\",\"\",OpLimit!C185)","v":""},{"$f":"IF(OpLimit!E185=\"\",\"\",OpLimit!E185)","v":""},"",{"$f":"IF(COUNTIF(BU$2:BU163,BU163)=1,BU163,\"\")","v":""},"","","",""]
[null,null,null,null,null,null,null,null,null,null,{"$f":"+IF(N164=\"\",\"\",MAX(K$1:K163)+1)","v":""},{"$f":"IF(CPMS1!E186=\"\",\"\",CPMS1!E186)","v":""},"",{"$f":"IF(COUNTIF(L$2:L164,L164)=1,L164,\"\")","v":""},null,null,null,null,{"$f":"+IF(W164=\"\",\"\",MAX(S$1:S163)+1)","v":""},{"$f":"IF(Adhes_Sealer_Deadener!B186=\"\",\"\",Adhes_Sealer_Deadener!B186)","v":""},{"$f":"IF(Adhes_Sealer_Deadener!C186=\"\",\"\",Adhes_Sealer_Deadener!C186)","v":""},{"$f":"+Table10[[#This Row],[Column1]]&Table10[[#This Row],[Column2]]","v":""},{"$f":"IF(COUNTIF(V$2:V164,V164)=1,V164,\"\")","v":""},"","",null,{"$f":"+IF(AF164=\"\",\"\",MAX(AA$1:AA163)+1)","v":""},{"$f":"IF(CPMS2!B186=\"\",\"\",CPMS2!B186)","v":""},{"$f":"IF(CPMS2!C186=\"\",\"\",CPMS2!C186)","v":""},{"$f":"IF(CPMS2!D186=\"\",\"\",CPMS2!D186)","v":""},"",{"$f":"IF(COUNTIF(AE$2:AE164,AE164)=1,AE164,\"\")","v":""},"","","",null,null,null,null,null,null,null,null,null,null,null,null,null,null,null,null,null,null,null,null,null,null,null,null,null,null,null,null,null,null,null,null,null,{"$f":"+IF(BV164=\"\",\"\",MAX(BQ$1:BQ163)+1)","v":""},{"$f":"IF(OpLimit!B186=\"\",\"\",OpLimit!B186)","v":""},{"$f":"IF(OpLimit!C186=\"\",\"\",OpLimit!C186)","v":""},{"$f":"IF(OpLimit!E186=\"\",\"\",OpLimit!E186)","v":""},"",{"$f":"IF(COUNTIF(BU$2:BU164,BU164)=1,BU164,\"\")","v":""},"","","",""]
[null,null,null,null,null,null,null,null,null,null,{"$f":"+IF(N165=\"\",\"\",MAX(K$1:K164)+1)","v":""},{"$f":"IF(CPMS1!E187=\"\",\"\",CPMS1!E187)","v":""},"",{"$f":"IF(COUNTIF(L$2:L165,L165)=1,L165,\"\")","v":""},null,null,null,null,{"$f":"+IF(W165=\"\",\"\",MAX(S$1:S164)+1)","v":""},{"$f":"IF(Adhes_Sealer_Deadener!B187=\"\",\"\",Adhes_Sealer_Deadener!B187)","v":""},{"$f":"IF(Adhes_Sealer_Deadener!C187=\"\",\"\",Adhes_Sealer_Deadener!C187)","v":""},{"$f":"+Table10[[#This Row],[Column1]]&Table10[[#This Row],[Column2]]","v":""},{"$f":"IF(COUNTIF(V$2:V165,V165)=1,V165,\"\")","v":""},"","",null,{"$f":"+IF(AF165=\"\",\"\",MAX(AA$1:AA164)+1)","v":""},{"$f":"IF(CPMS2!B187=\"\",\"\",CPMS2!B187)","v":""},{"$f":"IF(CPMS2!C187=\"\",\"\",CPMS2!C187)","v":""},{"$f":"IF(CPMS2!D187=\"\",\"\",CPMS2!D187)","v":""},"",{"$f":"IF(COUNTIF(AE$2:AE165,AE165)=1,AE165,\"\")","v":""},"","","",null,null,null,null,null,null,null,null,null,null,null,null,null,null,null,null,null,null,null,null,null,null,null,null,null,null,null,null,null,null,null,null,null,{"$f":"+IF(BV165=\"\",\"\",MAX(BQ$1:BQ164)+1)","v":""},{"$f":"IF(OpLimit!B187=\"\",\"\",OpLimit!B187)","v":""},{"$f":"IF(OpLimit!C187=\"\",\"\",OpLimit!C187)","v":""},{"$f":"IF(OpLimit!E187=\"\",\"\",OpLimit!E187)","v":""},"",{"$f":"IF(COUNTIF(BU$2:BU165,BU165)=1,BU165,\"\")","v":""},"","","",""]
[null,null,null,null,null,null,null,null,null,null,{"$f":"+IF(N166=\"\",\"\",MAX(K$1:K165)+1)","v":""},{"$f":"IF(CPMS1!E188=\"\",\"\",CPMS1!E188)","v":""},"",{"$f":"IF(COUNTIF(L$2:L166,L166)=1,L166,\"\")","v":""},null,null,null,null,{"$f":"+IF(W166=\"\",\"\",MAX(S$1:S165)+1)","v":""},{"$f":"IF(Adhes_Sealer_Deadener!B188=\"\",\"\",Adhes_Sealer_Deadener!B188)","v":""},{"$f":"IF(Adhes_Sealer_Deadener!C188=\"\",\"\",Adhes_Sealer_Deadener!C188)","v":""},{"$f":"+Table10[[#This Row],[Column1]]&Table10[[#This Row],[Column2]]","v":""},{"$f":"IF(COUNTIF(V$2:V166,V166)=1,V166,\"\")","v":""},"","",null,{"$f":"+IF(AF166=\"\",\"\",MAX(AA$1:AA165)+1)","v":""},{"$f":"IF(CPMS2!B188=\"\",\"\",CPMS2!B188)","v":""},{"$f":"IF(CPMS2!C188=\"\",\"\",CPMS2!C188)","v":""},{"$f":"IF(CPMS2!D188=\"\",\"\",CPMS2!D188)","v":""},"",{"$f":"IF(COUNTIF(AE$2:AE166,AE166)=1,AE166,\"\")","v":""},"","","",null,null,null,null,null,null,null,null,null,null,null,null,null,null,null,null,null,null,null,null,null,null,null,null,null,null,null,null,null,null,null,null,null,{"$f":"+IF(BV166=\"\",\"\",MAX(BQ$1:BQ165)+1)","v":""},{"$f":"IF(OpLimit!B188=\"\",\"\",OpLimit!B188)","v":""},{"$f":"IF(OpLimit!C188=\"\",\"\",OpLimit!C188)","v":""},{"$f":"IF(OpLimit!E188=\"\",\"\",OpLimit!E188)","v":""},"",{"$f":"IF(COUNTIF(BU$2:BU166,BU166)=1,BU166,\"\")","v":""},"","","",""]
[null,null,null,null,null,null,null,null,null,null,{"$f":"+IF(N167=\"\",\"\",MAX(K$1:K166)+1)","v":""},{"$f":"IF(CPMS1!E189=\"\",\"\",CPMS1!E189)","v":""},"",{"$f":"IF(COUNTIF(L$2:L167,L167)=1,L167,\"\")","v":""},null,null,null,null,{"$f":"+IF(W167=\"\",\"\",MAX(S$1:S166)+1)","v":""},{"$f":"IF(Adhes_Sealer_Deadener!B189=\"\",\"\",Adhes_Sealer_Deadener!B189)","v":""},{"$f":"IF(Adhes_Sealer_Deadener!C189=\"\",\"\",Adhes_Sealer_Deadener!C189)","v":""},{"$f":"+Table10[[#This Row],[Column1]]&Table10[[#This Row],[Column2]]","v":""},{"$f":"IF(COUNTIF(V$2:V167,V167)=1,V167,\"\")","v":""},"","",null,{"$f":"+IF(AF167=\"\",\"\",MAX(AA$1:AA166)+1)","v":""},{"$f":"IF(CPMS2!B189=\"\",\"\",CPMS2!B189)","v":""},{"$f":"IF(CPMS2!C189=\"\",\"\",CPMS2!C189)","v":""},{"$f":"IF(CPMS2!D189=\"\",\"\",CPMS2!D189)","v":""},"",{"$f":"IF(COUNTIF(AE$2:AE167,AE167)=1,AE167,\"\")","v":""},"","","",null,null,null,null,null,null,null,null,null,null,null,null,null,null,null,null,null,null,null,null,null,null,null,null,null,null,null,null,null,null,null,null,null,{"$f":"+IF(BV167=\"\",\"\",MAX(BQ$1:BQ166)+1)","v":""},{"$f":"IF(OpLimit!B189=\"\",\"\",OpLimit!B189)","v":""},{"$f":"IF(OpLimit!C189=\"\",\"\",OpLimit!C189)","v":""},{"$f":"IF(OpLimit!E189=\"\",\"\",OpLimit!E189)","v":""},"",{"$f":"IF(COUNTIF(BU$2:BU167,BU167)=1,BU167,\"\")","v":""},"","","",""]
[null,null,null,null,null,null,null,null,null,null,{"$f":"+IF(N168=\"\",\"\",MAX(K$1:K167)+1)","v":""},{"$f":"IF(CPMS1!E190=\"\",\"\",CPMS1!E190)","v":""},"",{"$f":"IF(COUNTIF(L$2:L168,L168)=1,L168,\"\")","v":""},null,null,null,null,{"$f":"+IF(W168=\"\",\"\",MAX(S$1:S167)+1)","v":""},{"$f":"IF(Adhes_Sealer_Deadener!B190=\"\",\"\",Adhes_Sealer_Deadener!B190)","v":""},{"$f":"IF(Adhes_Sealer_Deadener!C190=\"\",\"\",Adhes_Sealer_Deadener!C190)","v":""},{"$f":"+Table10[[#This Row],[Column1]]&Table10[[#This Row],[Column2]]","v":""},{"$f":"IF(COUNTIF(V$2:V168,V168)=1,V168,\"\")","v":""},"","",null,{"$f":"+IF(AF168=\"\",\"\",MAX(AA$1:AA167)+1)","v":""},{"$f":"IF(CPMS2!B190=\"\",\"\",CPMS2!B190)","v":""},{"$f":"IF(CPMS2!C190=\"\",\"\",CPMS2!C190)","v":""},{"$f":"IF(CPMS2!D190=\"\",\"\",CPMS2!D190)","v":""},"",{"$f":"IF(COUNTIF(AE$2:AE168,AE168)=1,AE168,\"\")","v":""},"","","",null,null,null,null,null,null,null,null,null,null,null,null,null,null,null,null,null,null,null,null,null,null,null,null,null,null,null,null,null,null,null,null,null,{"$f":"+IF(BV168=\"\",\"\",MAX(BQ$1:BQ167)+1)","v":""},{"$f":"IF(OpLimit!B190=\"\",\"\",OpLimit!B190)","v":""},{"$f":"IF(OpLimit!C190=\"\",\"\",OpLimit!C190)","v":""},{"$f":"IF(OpLimit!E190=\"\",\"\",OpLimit!E190)","v":""},"",{"$f":"IF(COUNTIF(BU$2:BU168,BU168)=1,BU168,\"\")","v":""},"","","",""]
[null,null,null,null,null,null,null,null,null,null,{"$f":"+IF(N169=\"\",\"\",MAX(K$1:K168)+1)","v":""},{"$f":"IF(CPMS1!E191=\"\",\"\",CPMS1!E191)","v":""},"",{"$f":"IF(COUNTIF(L$2:L169,L169)=1,L169,\"\")","v":""},null,null,null,null,{"$f":"+IF(W169=\"\",\"\",MAX(S$1:S168)+1)","v":""},{"$f":"IF(Adhes_Sealer_Deadener!B191=\"\",\"\",Adhes_Sealer_Deadener!B191)","v":""},{"$f":"IF(Adhes_Sealer_Deadener!C191=\"\",\"\",Adhes_Sealer_Deadener!C191)","v":""},{"$f":"+Table10[[#This Row],[Column1]]&Table10[[#This Row],[Column2]]","v":""},{"$f":"IF(COUNTIF(V$2:V169,V169)=1,V169,\"\")","v":""},"","",null,{"$f":"+IF(AF169=\"\",\"\",MAX(AA$1:AA168)+1)","v":""},{"$f":"IF(CPMS2!B191=\"\",\"\",CPMS2!B191)","v":""},{"$f":"IF(CPMS2!C191=\"\",\"\",CPMS2!C191)","v":""},{"$f":"IF(CPMS2!D191=\"\",\"\",CPMS2!D191)","v":""},"",{"$f":"IF(COUNTIF(AE$2:AE169,AE169)=1,AE169,\"\")","v":""},"","","",null,null,null,null,null,null,null,null,null,null,null,null,null,null,null,null,null,null,null,null,null,null,null,null,null,null,null,null,null,null,null,null,null,{"$f":"+IF(BV169=\"\",\"\",MAX(BQ$1:BQ168)+1)","v":""},{"$f":"IF(OpLimit!B191=\"\",\"\",OpLimit!B191)","v":""},{"$f":"IF(OpLimit!C191=\"\",\"\",OpLimit!C191)","v":""},{"$f":"IF(OpLimit!E191=\"\",\"\",OpLimit!E191)","v":""},"",{"$f":"IF(COUNTIF(BU$2:BU169,BU169)=1,BU169,\"\")","v":""},"","","",""]
[null,null,null,null,null,null,null,null,null,null,{"$f":"+IF(N170=\"\",\"\",MAX(K$1:K169)+1)","v":""},{"$f":"IF(CPMS1!E192=\"\",\"\",CPMS1!E192)","v":""},"",{"$f":"IF(COUNTIF(L$2:L170,L170)=1,L170,\"\")","v":""},null,null,null,null,{"$f":"+IF(W170=\"\",\"\",MAX(S$1:S169)+1)","v":""},{"$f":"IF(Adhes_Sealer_Deadener!B192=\"\",\"\",Adhes_Sealer_Deadener!B192)","v":""},{"$f":"IF(Adhes_Sealer_Deadener!C192=\"\",\"\",Adhes_Sealer_Deadener!C192)","v":""},{"$f":"+Table10[[#This Row],[Column1]]&Table10[[#This Row],[Column2]]","v":""},{"$f":"IF(COUNTIF(V$2:V170,V170)=1,V170,\"\")","v":""},"","",null,{"$f":"+IF(AF170=\"\",\"\",MAX(AA$1:AA169)+1)","v":""},{"$f":"IF(CPMS2!B192=\"\",\"\",CPMS2!B192)","v":""},{"$f":"IF(CPMS2!C192=\"\",\"\",CPMS2!C192)","v":""},{"$f":"IF(CPMS2!D192=\"\",\"\",CPMS2!D192)","v":""},"",{"$f":"IF(COUNTIF(AE$2:AE170,AE170)=1,AE170,\"\")","v":""},"","","",null,null,null,null,null,null,null,null,null,null,null,null,null,null,null,null,null,null,null,null,null,null,null,null,null,null,null,null,null,null,null,null,null,{"$f":"+IF(BV170=\"\",\"\",MAX(BQ$1:BQ169)+1)","v":""},{"$f":"IF(OpLimit!B192=\"\",\"\",OpLimit!B192)","v":""},{"$f":"IF(OpLimit!C192=\"\",\"\",OpLimit!C192)","v":""},{"$f":"IF(OpLimit!E192=\"\",\"\",OpLimit!E192)","v":""},"",{"$f":"IF(COUNTIF(BU$2:BU170,BU170)=1,BU170,\"\")","v":""},"","","",""]
[null,null,null,null,null,null,null,null,null,null,{"$f":"+IF(N171=\"\",\"\",MAX(K$1:K170)+1)","v":""},{"$f":"IF(CPMS1!E193=\"\",\"\",CPMS1!E193)","v":""},"",{"$f":"IF(COUNTIF(L$2:L171,L171)=1,L171,\"\")","v":""},null,null,null,null,{"$f":"+IF(W171=\"\",\"\",MAX(S$1:S170)+1)","v":""},{"$f":"IF(Adhes_Sealer_Deadener!B193=\"\",\"\",Adhes_Sealer_Deadener!B193)","v":""},{"$f":"IF(Adhes_Sealer_Deadener!C193=\"\",\"\",Adhes_Sealer_Deadener!C193)","v":""},{"$f":"+Table10[[#This Row],[Column1]]&Table10[[#This Row],[Column2]]","v":""},{"$f":"IF(COUNTIF(V$2:V171,V171)=1,V171,\"\")","v":""},"","",null,{"$f":"+IF(AF171=\"\",\"\",MAX(AA$1:AA170)+1)","v":""},{"$f":"IF(CPMS2!B193=\"\",\"\",CPMS2!B193)","v":""},{"$f":"IF(CPMS2!C193=\"\",\"\",CPMS2!C193)","v":""},{"$f":"IF(CPMS2!D193=\"\",\"\",CPMS2!D193)","v":""},"",{"$f":"IF(COUNTIF(AE$2:AE171,AE171)=1,AE171,\"\")","v":""},"","","",null,null,null,null,null,null,null,null,null,null,null,null,null,null,null,null,null,null,null,null,null,null,null,null,null,null,null,null,null,null,null,null,null,{"$f":"+IF(BV171=\"\",\"\",MAX(BQ$1:BQ170)+1)","v":""},{"$f":"IF(OpLimit!B193=\"\",\"\",OpLimit!B193)","v":""},{"$f":"IF(OpLimit!C193=\"\",\"\",OpLimit!C193)","v":""},{"$f":"IF(OpLimit!E193=\"\",\"\",OpLimit!E193)","v":""},"",{"$f":"IF(COUNTIF(BU$2:BU171,BU171)=1,BU171,\"\")","v":""},"","","",""]
[null,null,null,null,null,null,null,null,null,null,{"$f":"+IF(N172=\"\",\"\",MAX(K$1:K171)+1)","v":""},{"$f":"IF(CPMS1!E194=\"\",\"\",CPMS1!E194)","v":""},"",{"$f":"IF(COUNTIF(L$2:L172,L172)=1,L172,\"\")","v":""},null,null,null,null,{"$f":"+IF(W172=\"\",\"\",MAX(S$1:S171)+1)","v":""},{"$f":"IF(Adhes_Sealer_Deadener!B194=\"\",\"\",Adhes_Sealer_Deadener!B194)","v":""},{"$f":"IF(Adhes_Sealer_Deadener!C194=\"\",\"\",Adhes_Sealer_Deadener!C194)","v":""},{"$f":"+Table10[[#This Row],[Column1]]&Table10[[#This Row],[Column2]]","v":""},{"$f":"IF(COUNTIF(V$2:V172,V172)=1,V172,\"\")","v":""},"","",null,{"$f":"+IF(AF172=\"\",\"\",MAX(AA$1:AA171)+1)","v":""},{"$f":"IF(CPMS2!B194=\"\",\"\",CPMS2!B194)","v":""},{"$f":"IF(CPMS2!C194=\"\",\"\",CPMS2!C194)","v":""},{"$f":"IF(CPMS2!D194=\"\",\"\",CPMS2!D194)","v":""},"",{"$f":"IF(COUNTIF(AE$2:AE172,AE172)=1,AE172,\"\")","v":""},"","","",null,null,null,null,null,null,null,null,null,null,null,null,null,null,null,null,null,null,null,null,null,null,null,null,null,null,null,null,null,null,null,null,null,{"$f":"+IF(BV172=\"\",\"\",MAX(BQ$1:BQ171)+1)","v":""},{"$f":"IF(OpLimit!B194=\"\",\"\",OpLimit!B194)","v":""},{"$f":"IF(OpLimit!C194=\"\",\"\",OpLimit!C194)","v":""},{"$f":"IF(OpLimit!E194=\"\",\"\",OpLimit!E194)","v":""},"",{"$f":"IF(COUNTIF(BU$2:BU172,BU172)=1,BU172,\"\")","v":""},"","","",""]
[null,null,null,null,null,null,null,null,null,null,{"$f":"+IF(N173=\"\",\"\",MAX(K$1:K172)+1)","v":""},{"$f":"IF(CPMS1!E195=\"\",\"\",CPMS1!E195)","v":""},"",{"$f":"IF(COUNTIF(L$2:L173,L173)=1,L173,\"\")","v":""},null,null,null,null,{"$f":"+IF(W173=\"\",\"\",MAX(S$1:S172)+1)","v":""},{"$f":"IF(Adhes_Sealer_Deadener!B195=\"\",\"\",Adhes_Sealer_Deadener!B195)","v":""},{"$f":"IF(Adhes_Sealer_Deadener!C195=\"\",\"\",Adhes_Sealer_Deadener!C195)","v":""},{"$f":"+Table10[[#This Row],[Column1]]&Table10[[#This Row],[Column2]]","v":""},{"$f":"IF(COUNTIF(V$2:V173,V173)=1,V173,\"\")","v":""},"","",null,{"$f":"+IF(AF173=\"\",\"\",MAX(AA$1:AA172)+1)","v":""},{"$f":"IF(CPMS2!B195=\"\",\"\",CPMS2!B195)","v":""},{"$f":"IF(CPMS2!C195=\"\",\"\",CPMS2!C195)","v":""},{"$f":"IF(CPMS2!D195=\"\",\"\",CPMS2!D195)","v":""},"",{"$f":"IF(COUNTIF(AE$2:AE173,AE173)=1,AE173,\"\")","v":""},"","","",null,null,null,null,null,null,null,null,null,null,null,null,null,null,null,null,null,null,null,null,null,null,null,null,null,null,null,null,null,null,null,null,null,{"$f":"+IF(BV173=\"\",\"\",MAX(BQ$1:BQ172)+1)","v":""},{"$f":"IF(OpLimit!B195=\"\",\"\",OpLimit!B195)","v":""},{"$f":"IF(OpLimit!C195=\"\",\"\",OpLimit!C195)","v":""},{"$f":"IF(OpLimit!E195=\"\",\"\",OpLimit!E195)","v":""},"",{"$f":"IF(COUNTIF(BU$2:BU173,BU173)=1,BU173,\"\")","v":""},"","","",""]
[null,null,null,null,null,null,null,null,null,null,{"$f":"+IF(N174=\"\",\"\",MAX(K$1:K173)+1)","v":""},{"$f":"IF(CPMS1!E196=\"\",\"\",CPMS1!E196)","v":""},"",{"$f":"IF(COUNTIF(L$2:L174,L174)=1,L174,\"\")","v":""},null,null,null,null,{"$f":"+IF(W174=\"\",\"\",MAX(S$1:S173)+1)","v":""},{"$f":"IF(Adhes_Sealer_Deadener!B196=\"\",\"\",Adhes_Sealer_Deadener!B196)","v":""},{"$f":"IF(Adhes_Sealer_Deadener!C196=\"\",\"\",Adhes_Sealer_Deadener!C196)","v":""},{"$f":"+Table10[[#This Row],[Column1]]&Table10[[#This Row],[Column2]]","v":""},{"$f":"IF(COUNTIF(V$2:V174,V174)=1,V174,\"\")","v":""},"","",null,{"$f":"+IF(AF174=\"\",\"\",MAX(AA$1:AA173)+1)","v":""},{"$f":"IF(CPMS2!B196=\"\",\"\",CPMS2!B196)","v":""},{"$f":"IF(CPMS2!C196=\"\",\"\",CPMS2!C196)","v":""},{"$f":"IF(CPMS2!D196=\"\",\"\",CPMS2!D196)","v":""},"",{"$f":"IF(COUNTIF(AE$2:AE174,AE174)=1,AE174,\"\")","v":""},"","","",null,null,null,null,null,null,null,null,null,null,null,null,null,null,null,null,null,null,null,null,null,null,null,null,null,null,null,null,null,null,null,null,null,{"$f":"+IF(BV174=\"\",\"\",MAX(BQ$1:BQ173)+1)","v":""},{"$f":"IF(OpLimit!B196=\"\",\"\",OpLimit!B196)","v":""},{"$f":"IF(OpLimit!C196=\"\",\"\",OpLimit!C196)","v":""},{"$f":"IF(OpLimit!E196=\"\",\"\",OpLimit!E196)","v":""},"",{"$f":"IF(COUNTIF(BU$2:BU174,BU174)=1,BU174,\"\")","v":""},"","","",""]
[null,null,null,null,null,null,null,null,null,null,{"$f":"+IF(N175=\"\",\"\",MAX(K$1:K174)+1)","v":""},{"$f":"IF(CPMS1!E197=\"\",\"\",CPMS1!E197)","v":""},"",{"$f":"IF(COUNTIF(L$2:L175,L175)=1,L175,\"\")","v":""},null,null,null,null,{"$f":"+IF(W175=\"\",\"\",MAX(S$1:S174)+1)","v":""},{"$f":"IF(Adhes_Sealer_Deadener!B197=\"\",\"\",Adhes_Sealer_Deadener!B197)","v":""},{"$f":"IF(Adhes_Sealer_Deadener!C197=\"\",\"\",Adhes_Sealer_Deadener!C197)","v":""},{"$f":"+Table10[[#This Row],[Column1]]&Table10[[#This Row],[Column2]]","v":""},{"$f":"IF(COUNTIF(V$2:V175,V175)=1,V175,\"\")","v":""},"","",null,{"$f":"+IF(AF175=\"\",\"\",MAX(AA$1:AA174)+1)","v":""},{"$f":"IF(CPMS2!B197=\"\",\"\",CPMS2!B197)","v":""},{"$f":"IF(CPMS2!C197=\"\",\"\",CPMS2!C197)","v":""},{"$f":"IF(CPMS2!D197=\"\",\"\",CPMS2!D197)","v":""},"",{"$f":"IF(COUNTIF(AE$2:AE175,AE175)=1,AE175,\"\")","v":""},"","","",null,null,null,null,null,null,null,null,null,null,null,null,null,null,null,null,null,null,null,null,null,null,null,null,null,null,null,null,null,null,null,null,null,{"$f":"+IF(BV175=\"\",\"\",MAX(BQ$1:BQ174)+1)","v":""},{"$f":"IF(OpLimit!B197=\"\",\"\",OpLimit!B197)","v":""},{"$f":"IF(OpLimit!C197=\"\",\"\",OpLimit!C197)","v":""},{"$f":"IF(OpLimit!E197=\"\",\"\",OpLimit!E197)","v":""},"",{"$f":"IF(COUNTIF(BU$2:BU175,BU175)=1,BU175,\"\")","v":""},"","","",""]
[null,null,null,null,null,null,null,null,null,null,{"$f":"+IF(N176=\"\",\"\",MAX(K$1:K175)+1)","v":""},{"$f":"IF(CPMS1!E198=\"\",\"\",CPMS1!E198)","v":""},"",{"$f":"IF(COUNTIF(L$2:L176,L176)=1,L176,\"\")","v":""},null,null,null,null,{"$f":"+IF(W176=\"\",\"\",MAX(S$1:S175)+1)","v":""},{"$f":"IF(Adhes_Sealer_Deadener!B198=\"\",\"\",Adhes_Sealer_Deadener!B198)","v":""},{"$f":"IF(Adhes_Sealer_Deadener!C198=\"\",\"\",Adhes_Sealer_Deadener!C198)","v":""},{"$f":"+Table10[[#This Row],[Column1]]&Table10[[#This Row],[Column2]]","v":""},{"$f":"IF(COUNTIF(V$2:V176,V176)=1,V176,\"\")","v":""},"","",null,{"$f":"+IF(AF176=\"\",\"\",MAX(AA$1:AA175)+1)","v":""},{"$f":"IF(CPMS2!B198=\"\",\"\",CPMS2!B198)","v":""},{"$f":"IF(CPMS2!C198=\"\",\"\",CPMS2!C198)","v":""},{"$f":"IF(CPMS2!D198=\"\",\"\",CPMS2!D198)","v":""},"",{"$f":"IF(COUNTIF(AE$2:AE176,AE176)=1,AE176,\"\")","v":""},"","","",null,null,null,null,null,null,null,null,null,null,null,null,null,null,null,null,null,null,null,null,null,null,null,null,null,null,null,null,null,null,null,null,null,{"$f":"+IF(BV176=\"\",\"\",MAX(BQ$1:BQ175)+1)","v":""},{"$f":"IF(OpLimit!B198=\"\",\"\",OpLimit!B198)","v":""},{"$f":"IF(OpLimit!C198=\"\",\"\",OpLimit!C198)","v":""},{"$f":"IF(OpLimit!E198=\"\",\"\",OpLimit!E198)","v":""},"",{"$f":"IF(COUNTIF(BU$2:BU176,BU176)=1,BU176,\"\")","v":""},"","","",""]
[null,null,null,null,null,null,null,null,null,null,{"$f":"+IF(N177=\"\",\"\",MAX(K$1:K176)+1)","v":""},{"$f":"IF(CPMS1!E199=\"\",\"\",CPMS1!E199)","v":""},"",{"$f":"IF(COUNTIF(L$2:L177,L177)=1,L177,\"\")","v":""},null,null,null,null,{"$f":"+IF(W177=\"\",\"\",MAX(S$1:S176)+1)","v":""},{"$f":"IF(Adhes_Sealer_Deadener!B199=\"\",\"\",Adhes_Sealer_Deadener!B199)","v":""},{"$f":"IF(Adhes_Sealer_Deadener!C199=\"\",\"\",Adhes_Sealer_Deadener!C199)","v":""},{"$f":"+Table10[[#This Row],[Column1]]&Table10[[#This Row],[Column2]]","v":""},{"$f":"IF(COUNTIF(V$2:V177,V177)=1,V177,\"\")","v":""},"","",null,{"$f":"+IF(AF177=\"\",\"\",MAX(AA$1:AA176)+1)","v":""},{"$f":"IF(CPMS2!B199=\"\",\"\",CPMS2!B199)","v":""},{"$f":"IF(CPMS2!C199=\"\",\"\",CPMS2!C199)","v":""},{"$f":"IF(CPMS2!D199=\"\",\"\",CPMS2!D199)","v":""},"",{"$f":"IF(COUNTIF(AE$2:AE177,AE177)=1,AE177,\"\")","v":""},"","","",null,null,null,null,null,null,null,null,null,null,null,null,null,null,null,null,null,null,null,null,null,null,null,null,null,null,null,null,null,null,null,null,null,{"$f":"+IF(BV177=\"\",\"\",MAX(BQ$1:BQ176)+1)","v":""},{"$f":"IF(OpLimit!B199=\"\",\"\",OpLimit!B199)","v":""},{"$f":"IF(OpLimit!C199=\"\",\"\",OpLimit!C199)","v":""},{"$f":"IF(OpLimit!E199=\"\",\"\",OpLimit!E199)","v":""},"",{"$f":"IF(COUNTIF(BU$2:BU177,BU177)=1,BU177,\"\")","v":""},"","","",""]
[null,null,null,null,null,null,null,null,null,null,{"$f":"+IF(N178=\"\",\"\",MAX(K$1:K177)+1)","v":""},{"$f":"IF(CPMS1!E200=\"\",\"\",CPMS1!E200)","v":""},"",{"$f":"IF(COUNTIF(L$2:L178,L178)=1,L178,\"\")","v":""},null,null,null,null,{"$f":"+IF(W178=\"\",\"\",MAX(S$1:S177)+1)","v":""},{"$f":"IF(Adhes_Sealer_Deadener!B200=\"\",\"\",Adhes_Sealer_Deadener!B200)","v":""},{"$f":"IF(Adhes_Sealer_Deadener!C200=\"\",\"\",Adhes_Sealer_Deadener!C200)","v":""},{"$f":"+Table10[[#This Row],[Column1]]&Table10[[#This Row],[Column2]]","v":""},{"$f":"IF(COUNTIF(V$2:V178,V178)=1,V178,\"\")","v":""},"","",null,{"$f":"+IF(AF178=\"\",\"\",MAX(AA$1:AA177)+1)","v":""},{"$f":"IF(CPMS2!B200=\"\",\"\",CPMS2!B200)","v":""},{"$f":"IF(CPMS2!C200=\"\",\"\",CPMS2!C200)","v":""},{"$f":"IF(CPMS2!D200=\"\",\"\",CPMS2!D200)","v":""},"",{"$f":"IF(COUNTIF(AE$2:AE178,AE178)=1,AE178,\"\")","v":""},"","","",null,null,null,null,null,null,null,null,null,null,null,null,null,null,null,null,null,null,null,null,null,null,null,null,null,null,null,null,null,null,null,null,null,{"$f":"+IF(BV178=\"\",\"\",MAX(BQ$1:BQ177)+1)","v":""},{"$f":"IF(OpLimit!B200=\"\",\"\",OpLimit!B200)","v":""},{"$f":"IF(OpLimit!C200=\"\",\"\",OpLimit!C200)","v":""},{"$f":"IF(OpLimit!E200=\"\",\"\",OpLimit!E200)","v":""},"",{"$f":"IF(COUNTIF(BU$2:BU178,BU178)=1,BU178,\"\")","v":""},"","","",""]
[null,null,null,null,null,null,null,null,null,null,{"$f":"+IF(N179=\"\",\"\",MAX(K$1:K178)+1)","v":""},{"$f":"IF(CPMS1!E201=\"\",\"\",CPMS1!E201)","v":""},"",{"$f":"IF(COUNTIF(L$2:L179,L179)=1,L179,\"\")","v":""},null,null,null,null,{"$f":"+IF(W179=\"\",\"\",MAX(S$1:S178)+1)","v":""},{"$f":"IF(Adhes_Sealer_Deadener!B201=\"\",\"\",Adhes_Sealer_Deadener!B201)","v":""},{"$f":"IF(Adhes_Sealer_Deadener!C201=\"\",\"\",Adhes_Sealer_Deadener!C201)","v":""},{"$f":"+Table10[[#This Row],[Column1]]&Table10[[#This Row],[Column2]]","v":""},{"$f":"IF(COUNTIF(V$2:V179,V179)=1,V179,\"\")","v":""},"","",null,{"$f":"+IF(AF179=\"\",\"\",MAX(AA$1:AA178)+1)","v":""},{"$f":"IF(CPMS2!B201=\"\",\"\",CPMS2!B201)","v":""},{"$f":"IF(CPMS2!C201=\"\",\"\",CPMS2!C201)","v":""},{"$f":"IF(CPMS2!D201=\"\",\"\",CPMS2!D201)","v":""},"",{"$f":"IF(COUNTIF(AE$2:AE179,AE179)=1,AE179,\"\")","v":""},"","","",null,null,null,null,null,null,null,null,null,null,null,null,null,null,null,null,null,null,null,null,null,null,null,null,null,null,null,null,null,null,null,null,null,{"$f":"+IF(BV179=\"\",\"\",MAX(BQ$1:BQ178)+1)","v":""},{"$f":"IF(OpLimit!B201=\"\",\"\",OpLimit!B201)","v":""},{"$f":"IF(OpLimit!C201=\"\",\"\",OpLimit!C201)","v":""},{"$f":"IF(OpLimit!E201=\"\",\"\",OpLimit!E201)","v":""},"",{"$f":"IF(COUNTIF(BU$2:BU179,BU179)=1,BU179,\"\")","v":""},"","","",""]
[null,null,null,null,null,null,null,null,null,null,{"$f":"+IF(N180=\"\",\"\",MAX(K$1:K179)+1)","v":""},{"$f":"IF(CPMS1!E202=\"\",\"\",CPMS1!E202)","v":""},"",{"$f":"IF(COUNTIF(L$2:L180,L180)=1,L180,\"\")","v":""},null,null,null,null,{"$f":"+IF(W180=\"\",\"\",MAX(S$1:S179)+1)","v":""},{"$f":"IF(Adhes_Sealer_Deadener!B202=\"\",\"\",Adhes_Sealer_Deadener!B202)","v":""},{"$f":"IF(Adhes_Sealer_Deadener!C202=\"\",\"\",Adhes_Sealer_Deadener!C202)","v":""},{"$f":"+Table10[[#This Row],[Column1]]&Table10[[#This Row],[Column2]]","v":""},{"$f":"IF(COUNTIF(V$2:V180,V180)=1,V180,\"\")","v":""},"","",null,{"$f":"+IF(AF180=\"\",\"\",MAX(AA$1:AA179)+1)","v":""},{"$f":"IF(CPMS2!B202=\"\",\"\",CPMS2!B202)","v":""},{"$f":"IF(CPMS2!C202=\"\",\"\",CPMS2!C202)","v":""},{"$f":"IF(CPMS2!D202=\"\",\"\",CPMS2!D202)","v":""},"",{"$f":"IF(COUNTIF(AE$2:AE180,AE180)=1,AE180,\"\")","v":""},"","","",null,null,null,null,null,null,null,null,null,null,null,null,null,null,null,null,null,null,null,null,null,null,null,null,null,null,null,null,null,null,null,null,null,{"$f":"+IF(BV180=\"\",\"\",MAX(BQ$1:BQ179)+1)","v":""},{"$f":"IF(OpLimit!B202=\"\",\"\",OpLimit!B202)","v":""},{"$f":"IF(OpLimit!C202=\"\",\"\",OpLimit!C202)","v":""},{"$f":"IF(OpLimit!E202=\"\",\"\",OpLimit!E202)","v":""},"",{"$f":"IF(COUNTIF(BU$2:BU180,BU180)=1,BU180,\"\")","v":""},"","","",""]
[null,null,null,null,null,null,null,null,null,null,{"$f":"+IF(N181=\"\",\"\",MAX(K$1:K180)+1)","v":""},{"$f":"IF(CPMS1!E203=\"\",\"\",CPMS1!E203)","v":""},"",{"$f":"IF(COUNTIF(L$2:L181,L181)=1,L181,\"\")","v":""},null,null,null,null,{"$f":"+IF(W181=\"\",\"\",MAX(S$1:S180)+1)","v":""},{"$f":"IF(Adhes_Sealer_Deadener!B203=\"\",\"\",Adhes_Sealer_Deadener!B203)","v":""},{"$f":"IF(Adhes_Sealer_Deadener!C203=\"\",\"\",Adhes_Sealer_Deadener!C203)","v":""},{"$f":"+Table10[[#This Row],[Column1]]&Table10[[#This Row],[Column2]]","v":""},{"$f":"IF(COUNTIF(V$2:V181,V181)=1,V181,\"\")","v":""},"","",null,{"$f":"+IF(AF181=\"\",\"\",MAX(AA$1:AA180)+1)","v":""},{"$f":"IF(CPMS2!B203=\"\",\"\",CPMS2!B203)","v":""},{"$f":"IF(CPMS2!C203=\"\",\"\",CPMS2!C203)","v":""},{"$f":"IF(CPMS2!D203=\"\",\"\",CPMS2!D203)","v":""},"",{"$f":"IF(COUNTIF(AE$2:AE181,AE181)=1,AE181,\"\")","v":""},"","","",null,null,null,null,null,null,null,null,null,null,null,null,null,null,null,null,null,null,null,null,null,null,null,null,null,null,null,null,null,null,null,null,null,{"$f":"+IF(BV181=\"\",\"\",MAX(BQ$1:BQ180)+1)","v":""},{"$f":"IF(OpLimit!B203=\"\",\"\",OpLimit!B203)","v":""},{"$f":"IF(OpLimit!C203=\"\",\"\",OpLimit!C203)","v":""},{"$f":"IF(OpLimit!E203=\"\",\"\",OpLimit!E203)","v":""},"",{"$f":"IF(COUNTIF(BU$2:BU181,BU181)=1,BU181,\"\")","v":""},"","","",""]
[null,null,null,null,null,null,null,null,null,null,{"$f":"+IF(N182=\"\",\"\",MAX(K$1:K181)+1)","v":""},{"$f":"IF(CPMS1!E204=\"\",\"\",CPMS1!E204)","v":""},"",{"$f":"IF(COUNTIF(L$2:L182,L182)=1,L182,\"\")","v":""},null,null,null,null,{"$f":"+IF(W182=\"\",\"\",MAX(S$1:S181)+1)","v":""},{"$f":"IF(Adhes_Sealer_Deadener!B204=\"\",\"\",Adhes_Sealer_Deadener!B204)","v":""},{"$f":"IF(Adhes_Sealer_Deadener!C204=\"\",\"\",Adhes_Sealer_Deadener!C204)","v":""},{"$f":"+Table10[[#This Row],[Column1]]&Table10[[#This Row],[Column2]]","v":""},{"$f":"IF(COUNTIF(V$2:V182,V182)=1,V182,\"\")","v":""},"","",null,{"$f":"+IF(AF182=\"\",\"\",MAX(AA$1:AA181)+1)","v":""},{"$f":"IF(CPMS2!B204=\"\",\"\",CPMS2!B204)","v":""},{"$f":"IF(CPMS2!C204=\"\",\"\",CPMS2!C204)","v":""},{"$f":"IF(CPMS2!D204=\"\",\"\",CPMS2!D204)","v":""},"",{"$f":"IF(COUNTIF(AE$2:AE182,AE182)=1,AE182,\"\")","v":""},"","","",null,null,null,null,null,null,null,null,null,null,null,null,null,null,null,null,null,null,null,null,null,null,null,null,null,null,null,null,null,null,null,null,null,{"$f":"+IF(BV182=\"\",\"\",MAX(BQ$1:BQ181)+1)","v":""},{"$f":"IF(OpLimit!B204=\"\",\"\",OpLimit!B204)","v":""},{"$f":"IF(OpLimit!C204=\"\",\"\",OpLimit!C204)","v":""},{"$f":"IF(OpLimit!E204=\"\",\"\",OpLimit!E204)","v":""},"",{"$f":"IF(COUNTIF(BU$2:BU182,BU182)=1,BU182,\"\")","v":""},"","","",""]
[null,null,null,null,null,null,null,null,null,null,{"$f":"+IF(N183=\"\",\"\",MAX(K$1:K182)+1)","v":""},{"$f":"IF(CPMS1!E205=\"\",\"\",CPMS1!E205)","v":""},"",{"$f":"IF(COUNTIF(L$2:L183,L183)=1,L183,\"\")","v":""},null,null,null,null,{"$f":"+IF(W183=\"\",\"\",MAX(S$1:S182)+1)","v":""},{"$f":"IF(Adhes_Sealer_Deadener!B205=\"\",\"\",Adhes_Sealer_Deadener!B205)","v":""},{"$f":"IF(Adhes_Sealer_Deadener!C205=\"\",\"\",Adhes_Sealer_Deadener!C205)","v":""},{"$f":"+Table10[[#This Row],[Column1]]&Table10[[#This Row],[Column2]]","v":""},{"$f":"IF(COUNTIF(V$2:V183,V183)=1,V183,\"\")","v":""},"","",null,{"$f":"+IF(AF183=\"\",\"\",MAX(AA$1:AA182)+1)","v":""},{"$f":"IF(CPMS2!B205=\"\",\"\",CPMS2!B205)","v":""},{"$f":"IF(CPMS2!C205=\"\",\"\",CPMS2!C205)","v":""},{"$f":"IF(CPMS2!D205=\"\",\"\",CPMS2!D205)","v":""},"",{"$f":"IF(COUNTIF(AE$2:AE183,AE183)=1,AE183,\"\")","v":""},"","","",null,null,null,null,null,null,null,null,null,null,null,null,null,null,null,null,null,null,null,null,null,null,null,null,null,null,null,null,null,null,null,null,null,{"$f":"+IF(BV183=\"\",\"\",MAX(BQ$1:BQ182)+1)","v":""},{"$f":"IF(OpLimit!B205=\"\",\"\",OpLimit!B205)","v":""},{"$f":"IF(OpLimit!C205=\"\",\"\",OpLimit!C205)","v":""},{"$f":"IF(OpLimit!E205=\"\",\"\",OpLimit!E205)","v":""},"",{"$f":"IF(COUNTIF(BU$2:BU183,BU183)=1,BU183,\"\")","v":""},"","","",""]
[null,null,null,null,null,null,null,null,null,null,{"$f":"+IF(N184=\"\",\"\",MAX(K$1:K183)+1)","v":""},{"$f":"IF(CPMS1!E206=\"\",\"\",CPMS1!E206)","v":""},"",{"$f":"IF(COUNTIF(L$2:L184,L184)=1,L184,\"\")","v":""},null,null,null,null,{"$f":"+IF(W184=\"\",\"\",MAX(S$1:S183)+1)","v":""},{"$f":"IF(Adhes_Sealer_Deadener!B206=\"\",\"\",Adhes_Sealer_Deadener!B206)","v":""},{"$f":"IF(Adhes_Sealer_Deadener!C206=\"\",\"\",Adhes_Sealer_Deadener!C206)","v":""},{"$f":"+Table10[[#This Row],[Column1]]&Table10[[#This Row],[Column2]]","v":""},{"$f":"IF(COUNTIF(V$2:V184,V184)=1,V184,\"\")","v":""},"","",null,{"$f":"+IF(AF184=\"\",\"\",MAX(AA$1:AA183)+1)","v":""},{"$f":"IF(CPMS2!B206=\"\",\"\",CPMS2!B206)","v":""},{"$f":"IF(CPMS2!C206=\"\",\"\",CPMS2!C206)","v":""},{"$f":"IF(CPMS2!D206=\"\",\"\",CPMS2!D206)","v":""},"",{"$f":"IF(COUNTIF(AE$2:AE184,AE184)=1,AE184,\"\")","v":""},"","","",null,null,null,null,null,null,null,null,null,null,null,null,null,null,null,null,null,null,null,null,null,null,null,null,null,null,null,null,null,null,null,null,null,{"$f":"+IF(BV184=\"\",\"\",MAX(BQ$1:BQ183)+1)","v":""},{"$f":"IF(OpLimit!B206=\"\",\"\",OpLimit!B206)","v":""},{"$f":"IF(OpLimit!C206=\"\",\"\",OpLimit!C206)","v":""},{"$f":"IF(OpLimit!E206=\"\",\"\",OpLimit!E206)","v":""},"",{"$f":"IF(COUNTIF(BU$2:BU184,BU184)=1,BU184,\"\")","v":""},"","","",""]
[null,null,null,null,null,null,null,null,null,null,{"$f":"+IF(N185=\"\",\"\",MAX(K$1:K184)+1)","v":""},{"$f":"IF(CPMS1!E207=\"\",\"\",CPMS1!E207)","v":""},"",{"$f":"IF(COUNTIF(L$2:L185,L185)=1,L185,\"\")","v":""},null,null,null,null,{"$f":"+IF(W185=\"\",\"\",MAX(S$1:S184)+1)","v":""},{"$f":"IF(Adhes_Sealer_Deadener!B207=\"\",\"\",Adhes_Sealer_Deadener!B207)","v":""},{"$f":"IF(Adhes_Sealer_Deadener!C207=\"\",\"\",Adhes_Sealer_Deadener!C207)","v":""},{"$f":"+Table10[[#This Row],[Column1]]&Table10[[#This Row],[Column2]]","v":""},{"$f":"IF(COUNTIF(V$2:V185,V185)=1,V185,\"\")","v":""},"","",null,{"$f":"+IF(AF185=\"\",\"\",MAX(AA$1:AA184)+1)","v":""},{"$f":"IF(CPMS2!B207=\"\",\"\",CPMS2!B207)","v":""},{"$f":"IF(CPMS2!C207=\"\",\"\",CPMS2!C207)","v":""},{"$f":"IF(CPMS2!D207=\"\",\"\",CPMS2!D207)","v":""},"",{"$f":"IF(COUNTIF(AE$2:AE185,AE185)=1,AE185,\"\")","v":""},"","","",null,null,null,null,null,null,null,null,null,null,null,null,null,null,null,null,null,null,null,null,null,null,null,null,null,null,null,null,null,null,null,null,null,{"$f":"+IF(BV185=\"\",\"\",MAX(BQ$1:BQ184)+1)","v":""},{"$f":"IF(OpLimit!B207=\"\",\"\",OpLimit!B207)","v":""},{"$f":"IF(OpLimit!C207=\"\",\"\",OpLimit!C207)","v":""},{"$f":"IF(OpLimit!E207=\"\",\"\",OpLimit!E207)","v":""},"",{"$f":"IF(COUNTIF(BU$2:BU185,BU185)=1,BU185,\"\")","v":""},"","","",""]
[null,null,null,null,null,null,null,null,null,null,{"$f":"+IF(N186=\"\",\"\",MAX(K$1:K185)+1)","v":""},{"$f":"IF(CPMS1!E208=\"\",\"\",CPMS1!E208)","v":""},"",{"$f":"IF(COUNTIF(L$2:L186,L186)=1,L186,\"\")","v":""},null,null,null,null,{"$f":"+IF(W186=\"\",\"\",MAX(S$1:S185)+1)","v":""},{"$f":"IF(Adhes_Sealer_Deadener!B208=\"\",\"\",Adhes_Sealer_Deadener!B208)","v":""},{"$f":"IF(Adhes_Sealer_Deadener!C208=\"\",\"\",Adhes_Sealer_Deadener!C208)","v":""},{"$f":"+Table10[[#This Row],[Column1]]&Table10[[#This Row],[Column2]]","v":""},{"$f":"IF(COUNTIF(V$2:V186,V186)=1,V186,\"\")","v":""},"","",null,{"$f":"+IF(AF186=\"\",\"\",MAX(AA$1:AA185)+1)","v":""},{"$f":"IF(CPMS2!B208=\"\",\"\",CPMS2!B208)","v":""},{"$f":"IF(CPMS2!C208=\"\",\"\",CPMS2!C208)","v":""},{"$f":"IF(CPMS2!D208=\"\",\"\",CPMS2!D208)","v":""},"",{"$f":"IF(COUNTIF(AE$2:AE186,AE186)=1,AE186,\"\")","v":""},"","","",null,null,null,null,null,null,null,null,null,null,null,null,null,null,null,null,null,null,null,null,null,null,null,null,null,null,null,null,null,null,null,null,null,{"$f":"+IF(BV186=\"\",\"\",MAX(BQ$1:BQ185)+1)","v":""},{"$f":"IF(OpLimit!B208=\"\",\"\",OpLimit!B208)","v":""},{"$f":"IF(OpLimit!C208=\"\",\"\",OpLimit!C208)","v":""},{"$f":"IF(OpLimit!E208=\"\",\"\",OpLimit!E208)","v":""},"",{"$f":"IF(COUNTIF(BU$2:BU186,BU186)=1,BU186,\"\")","v":""},"","","",""]
[null,null,null,null,null,null,null,null,null,null,{"$f":"+IF(N187=\"\",\"\",MAX(K$1:K186)+1)","v":""},{"$f":"IF(CPMS1!E209=\"\",\"\",CPMS1!E209)","v":""},"",{"$f":"IF(COUNTIF(L$2:L187,L187)=1,L187,\"\")","v":""},null,null,null,null,{"$f":"+IF(W187=\"\",\"\",MAX(S$1:S186)+1)","v":""},{"$f":"IF(Adhes_Sealer_Deadener!B209=\"\",\"\",Adhes_Sealer_Deadener!B209)","v":""},{"$f":"IF(Adhes_Sealer_Deadener!C209=\"\",\"\",Adhes_Sealer_Deadener!C209)","v":""},{"$f":"+Table10[[#This Row],[Column1]]&Table10[[#This Row],[Column2]]","v":""},{"$f":"IF(COUNTIF(V$2:V187,V187)=1,V187,\"\")","v":""},"","",null,{"$f":"+IF(AF187=\"\",\"\",MAX(AA$1:AA186)+1)","v":""},{"$f":"IF(CPMS2!B209=\"\",\"\",CPMS2!B209)","v":""},{"$f":"IF(CPMS2!C209=\"\",\"\",CPMS2!C209)","v":""},{"$f":"IF(CPMS2!D209=\"\",\"\",CPMS2!D209)","v":""},"",{"$f":"IF(COUNTIF(AE$2:AE187,AE187)=1,AE187,\"\")","v":""},"","","",null,null,null,null,null,null,null,null,null,null,null,null,null,null,null,null,null,null,null,null,null,null,null,null,null,null,null,null,null,null,null,null,null,{"$f":"+IF(BV187=\"\",\"\",MAX(BQ$1:BQ186)+1)","v":""},{"$f":"IF(OpLimit!B209=\"\",\"\",OpLimit!B209)","v":""},{"$f":"IF(OpLimit!C209=\"\",\"\",OpLimit!C209)","v":""},{"$f":"IF(OpLimit!E209=\"\",\"\",OpLimit!E209)","v":""},"",{"$f":"IF(COUNTIF(BU$2:BU187,BU187)=1,BU187,\"\")","v":""},"","","",""]
[null,null,null,null,null,null,null,null,null,null,{"$f":"+IF(N188=\"\",\"\",MAX(K$1:K187)+1)","v":""},{"$f":"IF(CPMS1!E210=\"\",\"\",CPMS1!E210)","v":""},"",{"$f":"IF(COUNTIF(L$2:L188,L188)=1,L188,\"\")","v":""},null,null,null,null,{"$f":"+IF(W188=\"\",\"\",MAX(S$1:S187)+1)","v":""},{"$f":"IF(Adhes_Sealer_Deadener!B210=\"\",\"\",Adhes_Sealer_Deadener!B210)","v":""},{"$f":"IF(Adhes_Sealer_Deadener!C210=\"\",\"\",Adhes_Sealer_Deadener!C210)","v":""},{"$f":"+Table10[[#This Row],[Column1]]&Table10[[#This Row],[Column2]]","v":""},{"$f":"IF(COUNTIF(V$2:V188,V188)=1,V188,\"\")","v":""},"","",null,{"$f":"+IF(AF188=\"\",\"\",MAX(AA$1:AA187)+1)","v":""},{"$f":"IF(CPMS2!B210=\"\",\"\",CPMS2!B210)","v":""},{"$f":"IF(CPMS2!C210=\"\",\"\",CPMS2!C210)","v":""},{"$f":"IF(CPMS2!D210=\"\",\"\",CPMS2!D210)","v":""},"",{"$f":"IF(COUNTIF(AE$2:AE188,AE188)=1,AE188,\"\")","v":""},"","","",null,null,null,null,null,null,null,null,null,null,null,null,null,null,null,null,null,null,null,null,null,null,null,null,null,null,null,null,null,null,null,null,null,{"$f":"+IF(BV188=\"\",\"\",MAX(BQ$1:BQ187)+1)","v":""},{"$f":"IF(OpLimit!B210=\"\",\"\",OpLimit!B210)","v":""},{"$f":"IF(OpLimit!C210=\"\",\"\",OpLimit!C210)","v":""},{"$f":"IF(OpLimit!E210=\"\",\"\",OpLimit!E210)","v":""},"",{"$f":"IF(COUNTIF(BU$2:BU188,BU188)=1,BU188,\"\")","v":""},"","","",""]
[null,null,null,null,null,null,null,null,null,null,{"$f":"+IF(N189=\"\",\"\",MAX(K$1:K188)+1)","v":""},{"$f":"IF(CPMS1!E211=\"\",\"\",CPMS1!E211)","v":""},"",{"$f":"IF(COUNTIF(L$2:L189,L189)=1,L189,\"\")","v":""},null,null,null,null,{"$f":"+IF(W189=\"\",\"\",MAX(S$1:S188)+1)","v":""},{"$f":"IF(Adhes_Sealer_Deadener!B211=\"\",\"\",Adhes_Sealer_Deadener!B211)","v":""},{"$f":"IF(Adhes_Sealer_Deadener!C211=\"\",\"\",Adhes_Sealer_Deadener!C211)","v":""},{"$f":"+Table10[[#This Row],[Column1]]&Table10[[#This Row],[Column2]]","v":""},{"$f":"IF(COUNTIF(V$2:V189,V189)=1,V189,\"\")","v":""},"","",null,{"$f":"+IF(AF189=\"\",\"\",MAX(AA$1:AA188)+1)","v":""},{"$f":"IF(CPMS2!B211=\"\",\"\",CPMS2!B211)","v":""},{"$f":"IF(CPMS2!C211=\"\",\"\",CPMS2!C211)","v":""},{"$f":"IF(CPMS2!D211=\"\",\"\",CPMS2!D211)","v":""},"",{"$f":"IF(COUNTIF(AE$2:AE189,AE189)=1,AE189,\"\")","v":""},"","","",null,null,null,null,null,null,null,null,null,null,null,null,null,null,null,null,null,null,null,null,null,null,null,null,null,null,null,null,null,null,null,null,null,{"$f":"+IF(BV189=\"\",\"\",MAX(BQ$1:BQ188)+1)","v":""},{"$f":"IF(OpLimit!B211=\"\",\"\",OpLimit!B211)","v":""},{"$f":"IF(OpLimit!C211=\"\",\"\",OpLimit!C211)","v":""},{"$f":"IF(OpLimit!E211=\"\",\"\",OpLimit!E211)","v":""},"",{"$f":"IF(COUNTIF(BU$2:BU189,BU189)=1,BU189,\"\")","v":""},"","","",""]
[null,null,null,null,null,null,null,null,null,null,{"$f":"+IF(N190=\"\",\"\",MAX(K$1:K189)+1)","v":""},{"$f":"IF(CPMS1!E212=\"\",\"\",CPMS1!E212)","v":""},"",{"$f":"IF(COUNTIF(L$2:L190,L190)=1,L190,\"\")","v":""},null,null,null,null,{"$f":"+IF(W190=\"\",\"\",MAX(S$1:S189)+1)","v":""},{"$f":"IF(Adhes_Sealer_Deadener!B212=\"\",\"\",Adhes_Sealer_Deadener!B212)","v":""},{"$f":"IF(Adhes_Sealer_Deadener!C212=\"\",\"\",Adhes_Sealer_Deadener!C212)","v":""},{"$f":"+Table10[[#This Row],[Column1]]&Table10[[#This Row],[Column2]]","v":""},{"$f":"IF(COUNTIF(V$2:V190,V190)=1,V190,\"\")","v":""},"","",null,{"$f":"+IF(AF190=\"\",\"\",MAX(AA$1:AA189)+1)","v":""},{"$f":"IF(CPMS2!B212=\"\",\"\",CPMS2!B212)","v":""},{"$f":"IF(CPMS2!C212=\"\",\"\",CPMS2!C212)","v":""},{"$f":"IF(CPMS2!D212=\"\",\"\",CPMS2!D212)","v":""},"",{"$f":"IF(COUNTIF(AE$2:AE190,AE190)=1,AE190,\"\")","v":""},"","","",null,null,null,null,null,null,null,null,null,null,null,null,null,null,null,null,null,null,null,null,null,null,null,null,null,null,null,null,null,null,null,null,null,{"$f":"+IF(BV190=\"\",\"\",MAX(BQ$1:BQ189)+1)","v":""},{"$f":"IF(OpLimit!B212=\"\",\"\",OpLimit!B212)","v":""},{"$f":"IF(OpLimit!C212=\"\",\"\",OpLimit!C212)","v":""},{"$f":"IF(OpLimit!E212=\"\",\"\",OpLimit!E212)","v":""},"",{"$f":"IF(COUNTIF(BU$2:BU190,BU190)=1,BU190,\"\")","v":""},"","","",""]
[null,null,null,null,null,null,null,null,null,null,{"$f":"+IF(N191=\"\",\"\",MAX(K$1:K190)+1)","v":""},{"$f":"IF(CPMS1!E213=\"\",\"\",CPMS1!E213)","v":""},"",{"$f":"IF(COUNTIF(L$2:L191,L191)=1,L191,\"\")","v":""},null,null,null,null,{"$f":"+IF(W191=\"\",\"\",MAX(S$1:S190)+1)","v":""},{"$f":"IF(Adhes_Sealer_Deadener!B213=\"\",\"\",Adhes_Sealer_Deadener!B213)","v":""},{"$f":"IF(Adhes_Sealer_Deadener!C213=\"\",\"\",Adhes_Sealer_Deadener!C213)","v":""},{"$f":"+Table10[[#This Row],[Column1]]&Table10[[#This Row],[Column2]]","v":""},{"$f":"IF(COUNTIF(V$2:V191,V191)=1,V191,\"\")","v":""},"","",null,{"$f":"+IF(AF191=\"\",\"\",MAX(AA$1:AA190)+1)","v":""},{"$f":"IF(CPMS2!B213=\"\",\"\",CPMS2!B213)","v":""},{"$f":"IF(CPMS2!C213=\"\",\"\",CPMS2!C213)","v":""},{"$f":"IF(CPMS2!D213=\"\",\"\",CPMS2!D213)","v":""},"",{"$f":"IF(COUNTIF(AE$2:AE191,AE191)=1,AE191,\"\")","v":""},"","","",null,null,null,null,null,null,null,null,null,null,null,null,null,null,null,null,null,null,null,null,null,null,null,null,null,null,null,null,null,null,null,null,null,{"$f":"+IF(BV191=\"\",\"\",MAX(BQ$1:BQ190)+1)","v":""},{"$f":"IF(OpLimit!B213=\"\",\"\",OpLimit!B213)","v":""},{"$f":"IF(OpLimit!C213=\"\",\"\",OpLimit!C213)","v":""},{"$f":"IF(OpLimit!E213=\"\",\"\",OpLimit!E213)","v":""},"",{"$f":"IF(COUNTIF(BU$2:BU191,BU191)=1,BU191,\"\")","v":""},"","","",""]
[null,null,null,null,null,null,null,null,null,null,{"$f":"+IF(N192=\"\",\"\",MAX(K$1:K191)+1)","v":""},{"$f":"IF(CPMS1!E214=\"\",\"\",CPMS1!E214)","v":""},"",{"$f":"IF(COUNTIF(L$2:L192,L192)=1,L192,\"\")","v":""},null,null,null,null,{"$f":"+IF(W192=\"\",\"\",MAX(S$1:S191)+1)","v":""},{"$f":"IF(Adhes_Sealer_Deadener!B214=\"\",\"\",Adhes_Sealer_Deadener!B214)","v":""},{"$f":"IF(Adhes_Sealer_Deadener!C214=\"\",\"\",Adhes_Sealer_Deadener!C214)","v":""},{"$f":"+Table10[[#This Row],[Column1]]&Table10[[#This Row],[Column2]]","v":""},{"$f":"IF(COUNTIF(V$2:V192,V192)=1,V192,\"\")","v":""},"","",null,{"$f":"+IF(AF192=\"\",\"\",MAX(AA$1:AA191)+1)","v":""},{"$f":"IF(CPMS2!B214=\"\",\"\",CPMS2!B214)","v":""},{"$f":"IF(CPMS2!C214=\"\",\"\",CPMS2!C214)","v":""},{"$f":"IF(CPMS2!D214=\"\",\"\",CPMS2!D214)","v":""},"",{"$f":"IF(COUNTIF(AE$2:AE192,AE192)=1,AE192,\"\")","v":""},"","","",null,null,null,null,null,null,null,null,null,null,null,null,null,null,null,null,null,null,null,null,null,null,null,null,null,null,null,null,null,null,null,null,null,{"$f":"+IF(BV192=\"\",\"\",MAX(BQ$1:BQ191)+1)","v":""},{"$f":"IF(OpLimit!B214=\"\",\"\",OpLimit!B214)","v":""},{"$f":"IF(OpLimit!C214=\"\",\"\",OpLimit!C214)","v":""},{"$f":"IF(OpLimit!E214=\"\",\"\",OpLimit!E214)","v":""},"",{"$f":"IF(COUNTIF(BU$2:BU192,BU192)=1,BU192,\"\")","v":""},"","","",""]
[null,null,null,null,null,null,null,null,null,null,{"$f":"+IF(N193=\"\",\"\",MAX(K$1:K192)+1)","v":""},{"$f":"IF(CPMS1!E215=\"\",\"\",CPMS1!E215)","v":""},"",{"$f":"IF(COUNTIF(L$2:L193,L193)=1,L193,\"\")","v":""},null,null,null,null,{"$f":"+IF(W193=\"\",\"\",MAX(S$1:S192)+1)","v":""},{"$f":"IF(Adhes_Sealer_Deadener!B215=\"\",\"\",Adhes_Sealer_Deadener!B215)","v":""},{"$f":"IF(Adhes_Sealer_Deadener!C215=\"\",\"\",Adhes_Sealer_Deadener!C215)","v":""},{"$f":"+Table10[[#This Row],[Column1]]&Table10[[#This Row],[Column2]]","v":""},{"$f":"IF(COUNTIF(V$2:V193,V193)=1,V193,\"\")","v":""},"","",null,{"$f":"+IF(AF193=\"\",\"\",MAX(AA$1:AA192)+1)","v":""},{"$f":"IF(CPMS2!B215=\"\",\"\",CPMS2!B215)","v":""},{"$f":"IF(CPMS2!C215=\"\",\"\",CPMS2!C215)","v":""},{"$f":"IF(CPMS2!D215=\"\",\"\",CPMS2!D215)","v":""},"",{"$f":"IF(COUNTIF(AE$2:AE193,AE193)=1,AE193,\"\")","v":""},"","","",null,null,null,null,null,null,null,null,null,null,null,null,null,null,null,null,null,null,null,null,null,null,null,null,null,null,null,null,null,null,null,null,null,{"$f":"+IF(BV193=\"\",\"\",MAX(BQ$1:BQ192)+1)","v":""},{"$f":"IF(OpLimit!B215=\"\",\"\",OpLimit!B215)","v":""},{"$f":"IF(OpLimit!C215=\"\",\"\",OpLimit!C215)","v":""},{"$f":"IF(OpLimit!E215=\"\",\"\",OpLimit!E215)","v":""},"",{"$f":"IF(COUNTIF(BU$2:BU193,BU193)=1,BU193,\"\")","v":""},"","","",""]
[null,null,null,null,null,null,null,null,null,null,{"$f":"+IF(N194=\"\",\"\",MAX(K$1:K193)+1)","v":""},{"$f":"IF(CPMS1!E216=\"\",\"\",CPMS1!E216)","v":""},{"$f":"+IFERROR(INDEX($L$2:$L$501,MATCH(ROW()-ROW($M$1),$K$2:$K$501,0)),\"\")","v":""},{"$f":"IF(COUNTIF(L$2:L194,L194)=1,L194,\"\")","v":""},null,null,null,null,{"$f":"+IF(W194=\"\",\"\",MAX(S$1:S193)+1)","v":""},{"$f":"IF(Adhes_Sealer_Deadener!B216=\"\",\"\",Adhes_Sealer_Deadener!B216)","v":""},{"$f":"IF(Adhes_Sealer_Deadener!C216=\"\",\"\",Adhes_Sealer_Deadener!C216)","v":""},{"$f":"+Table10[[#This Row],[Column1]]&Table10[[#This Row],[Column2]]","v":""},{"$f":"IF(COUNTIF(V$2:V194,V194)=1,V194,\"\")","v":""},"","",null,{"$f":"+IF(AF194=\"\",\"\",MAX(AA$1:AA193)+1)","v":""},{"$f":"IF(CPMS2!B216=\"\",\"\",CPMS2!B216)","v":""},{"$f":"IF(CPMS2!C216=\"\",\"\",CPMS2!C216)","v":""},{"$f":"IF(CPMS2!D216=\"\",\"\",CPMS2!D216)","v":""},"",{"$f":"IF(COUNTIF(AE$2:AE194,AE194)=1,AE194,\"\")","v":""},"","","",null,null,null,null,null,null,null,null,null,null,null,null,null,null,null,null,null,null,null,null,null,null,null,null,null,null,null,null,null,null,null,null,null,{"$f":"+IF(BV194=\"\",\"\",MAX(BQ$1:BQ193)+1)","v":""},{"$f":"IF(OpLimit!B216=\"\",\"\",OpLimit!B216)","v":""},{"$f":"IF(OpLimit!C216=\"\",\"\",OpLimit!C216)","v":""},{"$f":"IF(OpLimit!E216=\"\",\"\",OpLimit!E216)","v":""},"",{"$f":"IF(COUNTIF(BU$2:BU194,BU194)=1,BU194,\"\")","v":""},"","","",""]
[null,null,null,null,null,null,null,null,null,null,{"$f":"+IF(N195=\"\",\"\",MAX(K$1:K194)+1)","v":""},{"$f":"IF(CPMS1!E217=\"\",\"\",CPMS1!E217)","v":""},"",{"$f":"IF(COUNTIF(L$2:L195,L195)=1,L195,\"\")","v":""},null,null,null,null,{"$f":"+IF(W195=\"\",\"\",MAX(S$1:S194)+1)","v":""},{"$f":"IF(Adhes_Sealer_Deadener!B217=\"\",\"\",Adhes_Sealer_Deadener!B217)","v":""},{"$f":"IF(Adhes_Sealer_Deadener!C217=\"\",\"\",Adhes_Sealer_Deadener!C217)","v":""},{"$f":"+Table10[[#This Row],[Column1]]&Table10[[#This Row],[Column2]]","v":""},{"$f":"IF(COUNTIF(V$2:V195,V195)=1,V195,\"\")","v":""},"","",null,{"$f":"+IF(AF195=\"\",\"\",MAX(AA$1:AA194)+1)","v":""},{"$f":"IF(CPMS2!B217=\"\",\"\",CPMS2!B217)","v":""},{"$f":"IF(CPMS2!C217=\"\",\"\",CPMS2!C217)","v":""},{"$f":"IF(CPMS2!D217=\"\",\"\",CPMS2!D217)","v":""},{"$f":"AB195&AC195&AD195","v":""},{"$f":"IF(COUNTIF(AE$2:AE195,AE195)=1,AE195,\"\")","v":""},{"$f":"+IFERROR(INDEX($AB$2:$AB$478,MATCH(ROW()-ROW($AF$1),$AA$2:$AA$478,0)),\"\")","v":""},{"$f":"+IFERROR(INDEX($AC$2:$AC$478,MATCH(ROW()-ROW($AF$1),$AA$2:$AA$478,0)),\"\")","v":""},{"$f":"+IFERROR(INDEX($AD$2:$AD$478,MATCH(ROW()-ROW($AF$1),$AA$2:$AA$478,0)),\"\")","v":""},null,null,null,null,null,null,null,null,null,null,null,null,null,null,null,null,null,null,null,null,null,null,null,null,null,null,null,null,null,null,null,null,null,{"$f":"+IF(BV195=\"\",\"\",MAX(BQ$1:BQ194)+1)","v":""},{"$f":"IF(OpLimit!B217=\"\",\"\",OpLimit!B217)","v":""},{"$f":"IF(OpLimit!C217=\"\",\"\",OpLimit!C217)","v":""},{"$f":"IF(OpLimit!E217=\"\",\"\",OpLimit!E217)","v":""},{"$f":"BR195&BS195&BT195","v":""},{"$f":"IF(COUNTIF(BU$2:BU195,BU195)=1,BU195,\"\")","v":""},{"$f":"IF(BX195=\"\",\"\",BX195&\" \"&BY195&\" \"&BZ195)","v":""},{"$f":"+IFERROR(INDEX($BR$2:$BR$478,MATCH(ROW()-ROW($BV$1),$BQ$2:$BQ$478,0)),\"\")","v":""},{"$f":"+IFERROR(INDEX($BS$2:$BS$478,MATCH(ROW()-ROW($BV$1),$BQ$2:$BQ$478,0)),\"\")","v":""},{"$f":"+IFERROR(INDEX($BT$2:$BT$478,MATCH(ROW()-ROW($BV$1),$BQ$2:$BQ$478,0)),\"\")","v":""}]
[null,null,null,null,null,null,null,null,null,null,{"$f":"+IF(N196=\"\",\"\",MAX(K$1:K195)+1)","v":""},{"$f":"IF(CPMS1!E218=\"\",\"\",CPMS1!E218)","v":""},"",{"$f":"IF(COUNTIF(L$2:L196,L196)=1,L196,\"\")","v":""},null,null,null,null,{"$f":"+IF(W196=\"\",\"\",MAX(S$1:S195)+1)","v":""},{"$f":"IF(Adhes_Sealer_Deadener!B218=\"\",\"\",Adhes_Sealer_Deadener!B218)","v":""},{"$f":"IF(Adhes_Sealer_Deadener!C218=\"\",\"\",Adhes_Sealer_Deadener!C218)","v":""},{"$f":"+Table10[[#This Row],[Column1]]&Table10[[#This Row],[Column2]]","v":""},{"$f":"IF(COUNTIF(V$2:V196,V196)=1,V196,\"\")","v":""},"","",null,{"$f":"+IF(AF196=\"\",\"\",MAX(AA$1:AA195)+1)","v":""},{"$f":"IF(CPMS2!B218=\"\",\"\",CPMS2!B218)","v":""},{"$f":"IF(CPMS2!C218=\"\",\"\",CPMS2!C218)","v":""},{"$f":"IF(CPMS2!D218=\"\",\"\",CPMS2!D218)","v":""},"",{"$f":"IF(COUNTIF(AE$2:AE196,AE196)=1,AE196,\"\")","v":""},"","","",null,null,null,null,null,null,null,null,null,null,null,null,null,null,null,null,null,null,null,null,null,null,null,null,null,null,null,null,null,null,null,null,null,{"$f":"+IF(BV196=\"\",\"\",MAX(BQ$1:BQ195)+1)","v":""},{"$f":"IF(OpLimit!B218=\"\",\"\",OpLimit!B218)","v":""},{"$f":"IF(OpLimit!C218=\"\",\"\",OpLimit!C218)","v":""},{"$f":"IF(OpLimit!E218=\"\",\"\",OpLimit!E218)","v":""},"",{"$f":"IF(COUNTIF(BU$2:BU196,BU196)=1,BU196,\"\")","v":""},"","","",""]
[null,null,null,null,null,null,null,null,null,null,{"$f":"+IF(N197=\"\",\"\",MAX(K$1:K196)+1)","v":""},{"$f":"IF(CPMS1!E219=\"\",\"\",CPMS1!E219)","v":""},"",{"$f":"IF(COUNTIF(L$2:L197,L197)=1,L197,\"\")","v":""},null,null,null,null,{"$f":"+IF(W197=\"\",\"\",MAX(S$1:S196)+1)","v":""},{"$f":"IF(Adhes_Sealer_Deadener!B219=\"\",\"\",Adhes_Sealer_Deadener!B219)","v":""},{"$f":"IF(Adhes_Sealer_Deadener!C219=\"\",\"\",Adhes_Sealer_Deadener!C219)","v":""},{"$f":"+Table10[[#This Row],[Column1]]&Table10[[#This Row],[Column2]]","v":""},{"$f":"IF(COUNTIF(V$2:V197,V197)=1,V197,\"\")","v":""},"","",null,{"$f":"+IF(AF197=\"\",\"\",MAX(AA$1:AA196)+1)","v":""},{"$f":"IF(CPMS2!B219=\"\",\"\",CPMS2!B219)","v":""},{"$f":"IF(CPMS2!C219=\"\",\"\",CPMS2!C219)","v":""},{"$f":"IF(CPMS2!D219=\"\",\"\",CPMS2!D219)","v":""},"",{"$f":"IF(COUNTIF(AE$2:AE197,AE197)=1,AE197,\"\")","v":""},"","","",null,null,null,null,null,null,null,null,null,null,null,null,null,null,null,null,null,null,null,null,null,null,null,null,null,null,null,null,null,null,null,null,null,{"$f":"+IF(BV197=\"\",\"\",MAX(BQ$1:BQ196)+1)","v":""},{"$f":"IF(OpLimit!B219=\"\",\"\",OpLimit!B219)","v":""},{"$f":"IF(OpLimit!C219=\"\",\"\",OpLimit!C219)","v":""},{"$f":"IF(OpLimit!E219=\"\",\"\",OpLimit!E219)","v":""},"",{"$f":"IF(COUNTIF(BU$2:BU197,BU197)=1,BU197,\"\")","v":""},"","","",""]
[null,null,null,null,null,null,null,null,null,null,{"$f":"+IF(N198=\"\",\"\",MAX(K$1:K197)+1)","v":""},{"$f":"IF(CPMS1!E220=\"\",\"\",CPMS1!E220)","v":""},"",{"$f":"IF(COUNTIF(L$2:L198,L198)=1,L198,\"\")","v":""},null,null,null,null,{"$f":"+IF(W198=\"\",\"\",MAX(S$1:S197)+1)","v":""},{"$f":"IF(Adhes_Sealer_Deadener!B220=\"\",\"\",Adhes_Sealer_Deadener!B220)","v":""},{"$f":"IF(Adhes_Sealer_Deadener!C220=\"\",\"\",Adhes_Sealer_Deadener!C220)","v":""},{"$f":"+Table10[[#This Row],[Column1]]&Table10[[#This Row],[Column2]]","v":""},{"$f":"IF(COUNTIF(V$2:V198,V198)=1,V198,\"\")","v":""},"","",null,{"$f":"+IF(AF198=\"\",\"\",MAX(AA$1:AA197)+1)","v":""},{"$f":"IF(CPMS2!B220=\"\",\"\",CPMS2!B220)","v":""},{"$f":"IF(CPMS2!C220=\"\",\"\",CPMS2!C220)","v":""},{"$f":"IF(CPMS2!D220=\"\",\"\",CPMS2!D220)","v":""},"",{"$f":"IF(COUNTIF(AE$2:AE198,AE198)=1,AE198,\"\")","v":""},"","","",null,null,null,null,null,null,null,null,null,null,null,null,null,null,null,null,null,null,null,null,null,null,null,null,null,null,null,null,null,null,null,null,null,{"$f":"+IF(BV198=\"\",\"\",MAX(BQ$1:BQ197)+1)","v":""},{"$f":"IF(OpLimit!B220=\"\",\"\",OpLimit!B220)","v":""},{"$f":"IF(OpLimit!C220=\"\",\"\",OpLimit!C220)","v":""},{"$f":"IF(OpLimit!E220=\"\",\"\",OpLimit!E220)","v":""},"",{"$f":"IF(COUNTIF(BU$2:BU198,BU198)=1,BU198,\"\")","v":""},"","","",""]
[null,null,null,null,null,null,null,null,null,null,{"$f":"+IF(N199=\"\",\"\",MAX(K$1:K198)+1)","v":""},{"$f":"IF(CPMS1!E221=\"\",\"\",CPMS1!E221)","v":""},"",{"$f":"IF(COUNTIF(L$2:L199,L199)=1,L199,\"\")","v":""},null,null,null,null,{"$f":"+IF(W199=\"\",\"\",MAX(S$1:S198)+1)","v":""},{"$f":"IF(Adhes_Sealer_Deadener!B221=\"\",\"\",Adhes_Sealer_Deadener!B221)","v":""},{"$f":"IF(Adhes_Sealer_Deadener!C221=\"\",\"\",Adhes_Sealer_Deadener!C221)","v":""},{"$f":"+Table10[[#This Row],[Column1]]&Table10[[#This Row],[Column2]]","v":""},{"$f":"IF(COUNTIF(V$2:V199,V199)=1,V199,\"\")","v":""},"","",null,{"$f":"+IF(AF199=\"\",\"\",MAX(AA$1:AA198)+1)","v":""},{"$f":"IF(CPMS2!B221=\"\",\"\",CPMS2!B221)","v":""},{"$f":"IF(CPMS2!C221=\"\",\"\",CPMS2!C221)","v":""},{"$f":"IF(CPMS2!D221=\"\",\"\",CPMS2!D221)","v":""},"",{"$f":"IF(COUNTIF(AE$2:AE199,AE199)=1,AE199,\"\")","v":""},"","","",null,null,null,null,null,null,null,null,null,null,null,null,null,null,null,null,null,null,null,null,null,null,null,null,null,null,null,null,null,null,null,null,null,{"$f":"+IF(BV199=\"\",\"\",MAX(BQ$1:BQ198)+1)","v":""},{"$f":"IF(OpLimit!B221=\"\",\"\",OpLimit!B221)","v":""},{"$f":"IF(OpLimit!C221=\"\",\"\",OpLimit!C221)","v":""},{"$f":"IF(OpLimit!E221=\"\",\"\",OpLimit!E221)","v":""},"",{"$f":"IF(COUNTIF(BU$2:BU199,BU199)=1,BU199,\"\")","v":""},"","","",""]
[null,null,null,null,null,null,null,null,null,null,{"$f":"+IF(N200=\"\",\"\",MAX(K$1:K199)+1)","v":""},{"$f":"IF(CPMS1!E222=\"\",\"\",CPMS1!E222)","v":""},"",{"$f":"IF(COUNTIF(L$2:L200,L200)=1,L200,\"\")","v":""},null,null,null,null,{"$f":"+IF(W200=\"\",\"\",MAX(S$1:S199)+1)","v":""},{"$f":"IF(Adhes_Sealer_Deadener!B222=\"\",\"\",Adhes_Sealer_Deadener!B222)","v":""},{"$f":"IF(Adhes_Sealer_Deadener!C222=\"\",\"\",Adhes_Sealer_Deadener!C222)","v":""},{"$f":"+Table10[[#This Row],[Column1]]&Table10[[#This Row],[Column2]]","v":""},{"$f":"IF(COUNTIF(V$2:V200,V200)=1,V200,\"\")","v":""},"","",null,{"$f":"+IF(AF200=\"\",\"\",MAX(AA$1:AA199)+1)","v":""},{"$f":"IF(CPMS2!B222=\"\",\"\",CPMS2!B222)","v":""},{"$f":"IF(CPMS2!C222=\"\",\"\",CPMS2!C222)","v":""},{"$f":"IF(CPMS2!D222=\"\",\"\",CPMS2!D222)","v":""},"",{"$f":"IF(COUNTIF(AE$2:AE200,AE200)=1,AE200,\"\")","v":""},"","","",null,null,null,null,null,null,null,null,null,null,null,null,null,null,null,null,null,null,null,null,null,null,null,null,null,null,null,null,null,null,null,null,null,{"$f":"+IF(BV200=\"\",\"\",MAX(BQ$1:BQ199)+1)","v":""},{"$f":"IF(OpLimit!B222=\"\",\"\",OpLimit!B222)","v":""},{"$f":"IF(OpLimit!C222=\"\",\"\",OpLimit!C222)","v":""},{"$f":"IF(OpLimit!E222=\"\",\"\",OpLimit!E222)","v":""},"",{"$f":"IF(COUNTIF(BU$2:BU200,BU200)=1,BU200,\"\")","v":""},"","","",""]
[null,null,null,null,null,null,null,null,null,null,{"$f":"+IF(N201=\"\",\"\",MAX(K$1:K200)+1)","v":""},{"$f":"IF(CPMS1!E223=\"\",\"\",CPMS1!E223)","v":""},"",{"$f":"IF(COUNTIF(L$2:L201,L201)=1,L201,\"\")","v":""},null,null,null,null,{"$f":"+IF(W201=\"\",\"\",MAX(S$1:S200)+1)","v":""},{"$f":"IF(Adhes_Sealer_Deadener!B223=\"\",\"\",Adhes_Sealer_Deadener!B223)","v":""},{"$f":"IF(Adhes_Sealer_Deadener!C223=\"\",\"\",Adhes_Sealer_Deadener!C223)","v":""},{"$f":"+Table10[[#This Row],[Column1]]&Table10[[#This Row],[Column2]]","v":""},{"$f":"IF(COUNTIF(V$2:V201,V201)=1,V201,\"\")","v":""},"","",null,{"$f":"+IF(AF201=\"\",\"\",MAX(AA$1:AA200)+1)","v":""},{"$f":"IF(CPMS2!B223=\"\",\"\",CPMS2!B223)","v":""},{"$f":"IF(CPMS2!C223=\"\",\"\",CPMS2!C223)","v":""},{"$f":"IF(CPMS2!D223=\"\",\"\",CPMS2!D223)","v":""},"",{"$f":"IF(COUNTIF(AE$2:AE201,AE201)=1,AE201,\"\")","v":""},"","","",null,null,null,null,null,null,null,null,null,null,null,null,null,null,null,null,null,null,null,null,null,null,null,null,null,null,null,null,null,null,null,null,null,{"$f":"+IF(BV201=\"\",\"\",MAX(BQ$1:BQ200)+1)","v":""},{"$f":"IF(OpLimit!B223=\"\",\"\",OpLimit!B223)","v":""},{"$f":"IF(OpLimit!C223=\"\",\"\",OpLimit!C223)","v":""},{"$f":"IF(OpLimit!E223=\"\",\"\",OpLimit!E223)","v":""},"",{"$f":"IF(COUNTIF(BU$2:BU201,BU201)=1,BU201,\"\")","v":""},"","","",""]
[null,null,null,null,null,null,null,null,null,null,{"$f":"+IF(N202=\"\",\"\",MAX(K$1:K201)+1)","v":""},{"$f":"IF(CPMS1!E224=\"\",\"\",CPMS1!E224)","v":""},"",{"$f":"IF(COUNTIF(L$2:L202,L202)=1,L202,\"\")","v":""},null,null,null,null,{"$f":"+IF(W202=\"\",\"\",MAX(S$1:S201)+1)","v":""},{"$f":"IF(Adhes_Sealer_Deadener!B224=\"\",\"\",Adhes_Sealer_Deadener!B224)","v":""},{"$f":"IF(Adhes_Sealer_Deadener!C224=\"\",\"\",Adhes_Sealer_Deadener!C224)","v":""},{"$f":"+Table10[[#This Row],[Column1]]&Table10[[#This Row],[Column2]]","v":""},{"$f":"IF(COUNTIF(V$2:V202,V202)=1,V202,\"\")","v":""},"","",null,{"$f":"+IF(AF202=\"\",\"\",MAX(AA$1:AA201)+1)","v":""},{"$f":"IF(CPMS2!B224=\"\",\"\",CPMS2!B224)","v":""},{"$f":"IF(CPMS2!C224=\"\",\"\",CPMS2!C224)","v":""},{"$f":"IF(CPMS2!D224=\"\",\"\",CPMS2!D224)","v":""},"",{"$f":"IF(COUNTIF(AE$2:AE202,AE202)=1,AE202,\"\")","v":""},"","","",null,null,null,null,null,null,null,null,null,null,null,null,null,null,null,null,null,null,null,null,null,null,null,null,null,null,null,null,null,null,null,null,null,{"$f":"+IF(BV202=\"\",\"\",MAX(BQ$1:BQ201)+1)","v":""},{"$f":"IF(OpLimit!B224=\"\",\"\",OpLimit!B224)","v":""},{"$f":"IF(OpLimit!C224=\"\",\"\",OpLimit!C224)","v":""},{"$f":"IF(OpLimit!E224=\"\",\"\",OpLimit!E224)","v":""},"",{"$f":"IF(COUNTIF(BU$2:BU202,BU202)=1,BU202,\"\")","v":""},"","","",""]
[null,null,null,null,null,null,null,null,null,null,{"$f":"+IF(N203=\"\",\"\",MAX(K$1:K202)+1)","v":""},{"$f":"IF(CPMS1!E225=\"\",\"\",CPMS1!E225)","v":""},"",{"$f":"IF(COUNTIF(L$2:L203,L203)=1,L203,\"\")","v":""},null,null,null,null,{"$f":"+IF(W203=\"\",\"\",MAX(S$1:S202)+1)","v":""},{"$f":"IF(Adhes_Sealer_Deadener!B225=\"\",\"\",Adhes_Sealer_Deadener!B225)","v":""},{"$f":"IF(Adhes_Sealer_Deadener!C225=\"\",\"\",Adhes_Sealer_Deadener!C225)","v":""},{"$f":"+Table10[[#This Row],[Column1]]&Table10[[#This Row],[Column2]]","v":""},{"$f":"IF(COUNTIF(V$2:V203,V203)=1,V203,\"\")","v":""},"","",null,{"$f":"+IF(AF203=\"\",\"\",MAX(AA$1:AA202)+1)","v":""},{"$f":"IF(CPMS2!B225=\"\",\"\",CPMS2!B225)","v":""},{"$f":"IF(CPMS2!C225=\"\",\"\",CPMS2!C225)","v":""},{"$f":"IF(CPMS2!D225=\"\",\"\",CPMS2!D225)","v":""},"",{"$f":"IF(COUNTIF(AE$2:AE203,AE203)=1,AE203,\"\")","v":""},"","","",null,null,null,null,null,null,null,null,null,null,null,null,null,null,null,null,null,null,null,null,null,null,null,null,null,null,null,null,null,null,null,null,null,{"$f":"+IF(BV203=\"\",\"\",MAX(BQ$1:BQ202)+1)","v":""},{"$f":"IF(OpLimit!B225=\"\",\"\",OpLimit!B225)","v":""},{"$f":"IF(OpLimit!C225=\"\",\"\",OpLimit!C225)","v":""},{"$f":"IF(OpLimit!E225=\"\",\"\",OpLimit!E225)","v":""},"",{"$f":"IF(COUNTIF(BU$2:BU203,BU203)=1,BU203,\"\")","v":""},"","","",""]
[null,null,null,null,null,null,null,null,null,null,{"$f":"+IF(N204=\"\",\"\",MAX(K$1:K203)+1)","v":""},{"$f":"IF(CPMS1!E226=\"\",\"\",CPMS1!E226)","v":""},"",{"$f":"IF(COUNTIF(L$2:L204,L204)=1,L204,\"\")","v":""},null,null,null,null,{"$f":"+IF(W204=\"\",\"\",MAX(S$1:S203)+1)","v":""},{"$f":"IF(Adhes_Sealer_Deadener!B226=\"\",\"\",Adhes_Sealer_Deadener!B226)","v":""},{"$f":"IF(Adhes_Sealer_Deadener!C226=\"\",\"\",Adhes_Sealer_Deadener!C226)","v":""},{"$f":"+Table10[[#This Row],[Column1]]&Table10[[#This Row],[Column2]]","v":""},{"$f":"IF(COUNTIF(V$2:V204,V204)=1,V204,\"\")","v":""},"","",null,{"$f":"+IF(AF204=\"\",\"\",MAX(AA$1:AA203)+1)","v":""},{"$f":"IF(CPMS2!B226=\"\",\"\",CPMS2!B226)","v":""},{"$f":"IF(CPMS2!C226=\"\",\"\",CPMS2!C226)","v":""},{"$f":"IF(CPMS2!D226=\"\",\"\",CPMS2!D226)","v":""},"",{"$f":"IF(COUNTIF(AE$2:AE204,AE204)=1,AE204,\"\")","v":""},"","","",null,null,null,null,null,null,null,null,null,null,null,null,null,null,null,null,null,null,null,null,null,null,null,null,null,null,null,null,null,null,null,null,null,{"$f":"+IF(BV204=\"\",\"\",MAX(BQ$1:BQ203)+1)","v":""},{"$f":"IF(OpLimit!B226=\"\",\"\",OpLimit!B226)","v":""},{"$f":"IF(OpLimit!C226=\"\",\"\",OpLimit!C226)","v":""},{"$f":"IF(OpLimit!E226=\"\",\"\",OpLimit!E226)","v":""},"",{"$f":"IF(COUNTIF(BU$2:BU204,BU204)=1,BU204,\"\")","v":""},"","","",""]
[null,null,null,null,null,null,null,null,null,null,{"$f":"+IF(N205=\"\",\"\",MAX(K$1:K204)+1)","v":""},{"$f":"IF(CPMS1!E227=\"\",\"\",CPMS1!E227)","v":""},"",{"$f":"IF(COUNTIF(L$2:L205,L205)=1,L205,\"\")","v":""},null,null,null,null,{"$f":"+IF(W205=\"\",\"\",MAX(S$1:S204)+1)","v":""},{"$f":"IF(Adhes_Sealer_Deadener!B227=\"\",\"\",Adhes_Sealer_Deadener!B227)","v":""},{"$f":"IF(Adhes_Sealer_Deadener!C227=\"\",\"\",Adhes_Sealer_Deadener!C227)","v":""},{"$f":"+Table10[[#This Row],[Column1]]&Table10[[#This Row],[Column2]]","v":""},{"$f":"IF(COUNTIF(V$2:V205,V205)=1,V205,\"\")","v":""},"","",null,{"$f":"+IF(AF205=\"\",\"\",MAX(AA$1:AA204)+1)","v":""},{"$f":"IF(CPMS2!B227=\"\",\"\",CPMS2!B227)","v":""},{"$f":"IF(CPMS2!C227=\"\",\"\",CPMS2!C227)","v":""},{"$f":"IF(CPMS2!D227=\"\",\"\",CPMS2!D227)","v":""},"",{"$f":"IF(COUNTIF(AE$2:AE205,AE205)=1,AE205,\"\")","v":""},"","","",null,null,null,null,null,null,null,null,null,null,null,null,null,null,null,null,null,null,null,null,null,null,null,null,null,null,null,null,null,null,null,null,null,{"$f":"+IF(BV205=\"\",\"\",MAX(BQ$1:BQ204)+1)","v":""},{"$f":"IF(OpLimit!B227=\"\",\"\",OpLimit!B227)","v":""},{"$f":"IF(OpLimit!C227=\"\",\"\",OpLimit!C227)","v":""},{"$f":"IF(OpLimit!E227=\"\",\"\",OpLimit!E227)","v":""},"",{"$f":"IF(COUNTIF(BU$2:BU205,BU205)=1,BU205,\"\")","v":""},"","","",""]
[null,null,null,null,null,null,null,null,null,null,{"$f":"+IF(N206=\"\",\"\",MAX(K$1:K205)+1)","v":""},{"$f":"IF(CPMS1!E228=\"\",\"\",CPMS1!E228)","v":""},"",{"$f":"IF(COUNTIF(L$2:L206,L206)=1,L206,\"\")","v":""},null,null,null,null,{"$f":"+IF(W206=\"\",\"\",MAX(S$1:S205)+1)","v":""},{"$f":"IF(Adhes_Sealer_Deadener!B228=\"\",\"\",Adhes_Sealer_Deadener!B228)","v":""},{"$f":"IF(Adhes_Sealer_Deadener!C228=\"\",\"\",Adhes_Sealer_Deadener!C228)","v":""},{"$f":"+Table10[[#This Row],[Column1]]&Table10[[#This Row],[Column2]]","v":""},{"$f":"IF(COUNTIF(V$2:V206,V206)=1,V206,\"\")","v":""},"","",null,{"$f":"+IF(AF206=\"\",\"\",MAX(AA$1:AA205)+1)","v":""},{"$f":"IF(CPMS2!B228=\"\",\"\",CPMS2!B228)","v":""},{"$f":"IF(CPMS2!C228=\"\",\"\",CPMS2!C228)","v":""},{"$f":"IF(CPMS2!D228=\"\",\"\",CPMS2!D228)","v":""},"",{"$f":"IF(COUNTIF(AE$2:AE206,AE206)=1,AE206,\"\")","v":""},"","","",null,null,null,null,null,null,null,null,null,null,null,null,null,null,null,null,null,null,null,null,null,null,null,null,null,null,null,null,null,null,null,null,null,{"$f":"+IF(BV206=\"\",\"\",MAX(BQ$1:BQ205)+1)","v":""},{"$f":"IF(OpLimit!B228=\"\",\"\",OpLimit!B228)","v":""},{"$f":"IF(OpLimit!C228=\"\",\"\",OpLimit!C228)","v":""},{"$f":"IF(OpLimit!E228=\"\",\"\",OpLimit!E228)","v":""},"",{"$f":"IF(COUNTIF(BU$2:BU206,BU206)=1,BU206,\"\")","v":""},"","","",""]
[null,null,null,null,null,null,null,null,null,null,{"$f":"+IF(N207=\"\",\"\",MAX(K$1:K206)+1)","v":""},{"$f":"IF(CPMS1!E229=\"\",\"\",CPMS1!E229)","v":""},"",{"$f":"IF(COUNTIF(L$2:L207,L207)=1,L207,\"\")","v":""},null,null,null,null,{"$f":"+IF(W207=\"\",\"\",MAX(S$1:S206)+1)","v":""},{"$f":"IF(Adhes_Sealer_Deadener!B229=\"\",\"\",Adhes_Sealer_Deadener!B229)","v":""},{"$f":"IF(Adhes_Sealer_Deadener!C229=\"\",\"\",Adhes_Sealer_Deadener!C229)","v":""},{"$f":"+Table10[[#This Row],[Column1]]&Table10[[#This Row],[Column2]]","v":""},{"$f":"IF(COUNTIF(V$2:V207,V207)=1,V207,\"\")","v":""},"","",null,{"$f":"+IF(AF207=\"\",\"\",MAX(AA$1:AA206)+1)","v":""},{"$f":"IF(CPMS2!B229=\"\",\"\",CPMS2!B229)","v":""},{"$f":"IF(CPMS2!C229=\"\",\"\",CPMS2!C229)","v":""},{"$f":"IF(CPMS2!D229=\"\",\"\",CPMS2!D229)","v":""},"",{"$f":"IF(COUNTIF(AE$2:AE207,AE207)=1,AE207,\"\")","v":""},"","","",null,null,null,null,null,null,null,null,null,null,null,null,null,null,null,null,null,null,null,null,null,null,null,null,null,null,null,null,null,null,null,null,null,{"$f":"+IF(BV207=\"\",\"\",MAX(BQ$1:BQ206)+1)","v":""},{"$f":"IF(OpLimit!B229=\"\",\"\",OpLimit!B229)","v":""},{"$f":"IF(OpLimit!C229=\"\",\"\",OpLimit!C229)","v":""},{"$f":"IF(OpLimit!E229=\"\",\"\",OpLimit!E229)","v":""},"",{"$f":"IF(COUNTIF(BU$2:BU207,BU207)=1,BU207,\"\")","v":""},"","","",""]
[null,null,null,null,null,null,null,null,null,null,{"$f":"+IF(N208=\"\",\"\",MAX(K$1:K207)+1)","v":""},{"$f":"IF(CPMS1!E230=\"\",\"\",CPMS1!E230)","v":""},"",{"$f":"IF(COUNTIF(L$2:L208,L208)=1,L208,\"\")","v":""},null,null,null,null,{"$f":"+IF(W208=\"\",\"\",MAX(S$1:S207)+1)","v":""},{"$f":"IF(Adhes_Sealer_Deadener!B230=\"\",\"\",Adhes_Sealer_Deadener!B230)","v":""},{"$f":"IF(Adhes_Sealer_Deadener!C230=\"\",\"\",Adhes_Sealer_Deadener!C230)","v":""},{"$f":"+Table10[[#This Row],[Column1]]&Table10[[#This Row],[Column2]]","v":""},{"$f":"IF(COUNTIF(V$2:V208,V208)=1,V208,\"\")","v":""},"","",null,{"$f":"+IF(AF208=\"\",\"\",MAX(AA$1:AA207)+1)","v":""},{"$f":"IF(CPMS2!B230=\"\",\"\",CPMS2!B230)","v":""},{"$f":"IF(CPMS2!C230=\"\",\"\",CPMS2!C230)","v":""},{"$f":"IF(CPMS2!D230=\"\",\"\",CPMS2!D230)","v":""},"",{"$f":"IF(COUNTIF(AE$2:AE208,AE208)=1,AE208,\"\")","v":""},"","","",null,null,null,null,null,null,null,null,null,null,null,null,null,null,null,null,null,null,null,null,null,null,null,null,null,null,null,null,null,null,null,null,null,{"$f":"+IF(BV208=\"\",\"\",MAX(BQ$1:BQ207)+1)","v":""},{"$f":"IF(OpLimit!B230=\"\",\"\",OpLimit!B230)","v":""},{"$f":"IF(OpLimit!C230=\"\",\"\",OpLimit!C230)","v":""},{"$f":"IF(OpLimit!E230=\"\",\"\",OpLimit!E230)","v":""},"",{"$f":"IF(COUNTIF(BU$2:BU208,BU208)=1,BU208,\"\")","v":""},"","","",""]
[null,null,null,null,null,null,null,null,null,null,{"$f":"+IF(N209=\"\",\"\",MAX(K$1:K208)+1)","v":""},{"$f":"IF(CPMS1!E231=\"\",\"\",CPMS1!E231)","v":""},"",{"$f":"IF(COUNTIF(L$2:L209,L209)=1,L209,\"\")","v":""},null,null,null,null,{"$f":"+IF(W209=\"\",\"\",MAX(S$1:S208)+1)","v":""},{"$f":"IF(Adhes_Sealer_Deadener!B231=\"\",\"\",Adhes_Sealer_Deadener!B231)","v":""},{"$f":"IF(Adhes_Sealer_Deadener!C231=\"\",\"\",Adhes_Sealer_Deadener!C231)","v":""},{"$f":"+Table10[[#This Row],[Column1]]&Table10[[#This Row],[Column2]]","v":""},{"$f":"IF(COUNTIF(V$2:V209,V209)=1,V209,\"\")","v":""},"","",null,{"$f":"+IF(AF209=\"\",\"\",MAX(AA$1:AA208)+1)","v":""},{"$f":"IF(CPMS2!B231=\"\",\"\",CPMS2!B231)","v":""},{"$f":"IF(CPMS2!C231=\"\",\"\",CPMS2!C231)","v":""},{"$f":"IF(CPMS2!D231=\"\",\"\",CPMS2!D231)","v":""},"",{"$f":"IF(COUNTIF(AE$2:AE209,AE209)=1,AE209,\"\")","v":""},"","","",null,null,null,null,null,null,null,null,null,null,null,null,null,null,null,null,null,null,null,null,null,null,null,null,null,null,null,null,null,null,null,null,null,{"$f":"+IF(BV209=\"\",\"\",MAX(BQ$1:BQ208)+1)","v":""},{"$f":"IF(OpLimit!B231=\"\",\"\",OpLimit!B231)","v":""},{"$f":"IF(OpLimit!C231=\"\",\"\",OpLimit!C231)","v":""},{"$f":"IF(OpLimit!E231=\"\",\"\",OpLimit!E231)","v":""},"",{"$f":"IF(COUNTIF(BU$2:BU209,BU209)=1,BU209,\"\")","v":""},"","","",""]
[null,null,null,null,null,null,null,null,null,null,{"$f":"+IF(N210=\"\",\"\",MAX(K$1:K209)+1)","v":""},{"$f":"IF(CPMS1!E232=\"\",\"\",CPMS1!E232)","v":""},"",{"$f":"IF(COUNTIF(L$2:L210,L210)=1,L210,\"\")","v":""},null,null,null,null,{"$f":"+IF(W210=\"\",\"\",MAX(S$1:S209)+1)","v":""},{"$f":"IF(Adhes_Sealer_Deadener!B232=\"\",\"\",Adhes_Sealer_Deadener!B232)","v":""},{"$f":"IF(Adhes_Sealer_Deadener!C232=\"\",\"\",Adhes_Sealer_Deadener!C232)","v":""},{"$f":"+Table10[[#This Row],[Column1]]&Table10[[#This Row],[Column2]]","v":""},{"$f":"IF(COUNTIF(V$2:V210,V210)=1,V210,\"\")","v":""},"","",null,{"$f":"+IF(AF210=\"\",\"\",MAX(AA$1:AA209)+1)","v":""},{"$f":"IF(CPMS2!B232=\"\",\"\",CPMS2!B232)","v":""},{"$f":"IF(CPMS2!C232=\"\",\"\",CPMS2!C232)","v":""},{"$f":"IF(CPMS2!D232=\"\",\"\",CPMS2!D232)","v":""},"",{"$f":"IF(COUNTIF(AE$2:AE210,AE210)=1,AE210,\"\")","v":""},"","","",null,null,null,null,null,null,null,null,null,null,null,null,null,null,null,null,null,null,null,null,null,null,null,null,null,null,null,null,null,null,null,null,null,{"$f":"+IF(BV210=\"\",\"\",MAX(BQ$1:BQ209)+1)","v":""},{"$f":"IF(OpLimit!B232=\"\",\"\",OpLimit!B232)","v":""},{"$f":"IF(OpLimit!C232=\"\",\"\",OpLimit!C232)","v":""},{"$f":"IF(OpLimit!E232=\"\",\"\",OpLimit!E232)","v":""},"",{"$f":"IF(COUNTIF(BU$2:BU210,BU210)=1,BU210,\"\")","v":""},"","","",""]
[null,null,null,null,null,null,null,null,null,null,{"$f":"+IF(N211=\"\",\"\",MAX(K$1:K210)+1)","v":""},{"$f":"IF(CPMS1!E233=\"\",\"\",CPMS1!E233)","v":""},"",{"$f":"IF(COUNTIF(L$2:L211,L211)=1,L211,\"\")","v":""},null,null,null,null,{"$f":"+IF(W211=\"\",\"\",MAX(S$1:S210)+1)","v":""},{"$f":"IF(Adhes_Sealer_Deadener!B233=\"\",\"\",Adhes_Sealer_Deadener!B233)","v":""},{"$f":"IF(Adhes_Sealer_Deadener!C233=\"\",\"\",Adhes_Sealer_Deadener!C233)","v":""},{"$f":"+Table10[[#This Row],[Column1]]&Table10[[#This Row],[Column2]]","v":""},{"$f":"IF(COUNTIF(V$2:V211,V211)=1,V211,\"\")","v":""},"","",null,{"$f":"+IF(AF211=\"\",\"\",MAX(AA$1:AA210)+1)","v":""},{"$f":"IF(CPMS2!B233=\"\",\"\",CPMS2!B233)","v":""},{"$f":"IF(CPMS2!C233=\"\",\"\",CPMS2!C233)","v":""},{"$f":"IF(CPMS2!D233=\"\",\"\",CPMS2!D233)","v":""},"",{"$f":"IF(COUNTIF(AE$2:AE211,AE211)=1,AE211,\"\")","v":""},"","","",null,null,null,null,null,null,null,null,null,null,null,null,null,null,null,null,null,null,null,null,null,null,null,null,null,null,null,null,null,null,null,null,null,{"$f":"+IF(BV211=\"\",\"\",MAX(BQ$1:BQ210)+1)","v":""},{"$f":"IF(OpLimit!B233=\"\",\"\",OpLimit!B233)","v":""},{"$f":"IF(OpLimit!C233=\"\",\"\",OpLimit!C233)","v":""},{"$f":"IF(OpLimit!E233=\"\",\"\",OpLimit!E233)","v":""},"",{"$f":"IF(COUNTIF(BU$2:BU211,BU211)=1,BU211,\"\")","v":""},"","","",""]
[null,null,null,null,null,null,null,null,null,null,{"$f":"+IF(N212=\"\",\"\",MAX(K$1:K211)+1)","v":""},{"$f":"IF(CPMS1!E234=\"\",\"\",CPMS1!E234)","v":""},"",{"$f":"IF(COUNTIF(L$2:L212,L212)=1,L212,\"\")","v":""},null,null,null,null,{"$f":"+IF(W212=\"\",\"\",MAX(S$1:S211)+1)","v":""},{"$f":"IF(Adhes_Sealer_Deadener!B234=\"\",\"\",Adhes_Sealer_Deadener!B234)","v":""},{"$f":"IF(Adhes_Sealer_Deadener!C234=\"\",\"\",Adhes_Sealer_Deadener!C234)","v":""},{"$f":"+Table10[[#This Row],[Column1]]&Table10[[#This Row],[Column2]]","v":""},{"$f":"IF(COUNTIF(V$2:V212,V212)=1,V212,\"\")","v":""},"","",null,{"$f":"+IF(AF212=\"\",\"\",MAX(AA$1:AA211)+1)","v":""},{"$f":"IF(CPMS2!B234=\"\",\"\",CPMS2!B234)","v":""},{"$f":"IF(CPMS2!C234=\"\",\"\",CPMS2!C234)","v":""},{"$f":"IF(CPMS2!D234=\"\",\"\",CPMS2!D234)","v":""},"",{"$f":"IF(COUNTIF(AE$2:AE212,AE212)=1,AE212,\"\")","v":""},"","","",null,null,null,null,null,null,null,null,null,null,null,null,null,null,null,null,null,null,null,null,null,null,null,null,null,null,null,null,null,null,null,null,null,{"$f":"+IF(BV212=\"\",\"\",MAX(BQ$1:BQ211)+1)","v":""},{"$f":"IF(OpLimit!B234=\"\",\"\",OpLimit!B234)","v":""},{"$f":"IF(OpLimit!C234=\"\",\"\",OpLimit!C234)","v":""},{"$f":"IF(OpLimit!E234=\"\",\"\",OpLimit!E234)","v":""},"",{"$f":"IF(COUNTIF(BU$2:BU212,BU212)=1,BU212,\"\")","v":""},"","","",""]
[null,null,null,null,null,null,null,null,null,null,{"$f":"+IF(N213=\"\",\"\",MAX(K$1:K212)+1)","v":""},{"$f":"IF(CPMS1!E235=\"\",\"\",CPMS1!E235)","v":""},"",{"$f":"IF(COUNTIF(L$2:L213,L213)=1,L213,\"\")","v":""},null,null,null,null,{"$f":"+IF(W213=\"\",\"\",MAX(S$1:S212)+1)","v":""},{"$f":"IF(Adhes_Sealer_Deadener!B235=\"\",\"\",Adhes_Sealer_Deadener!B235)","v":""},{"$f":"IF(Adhes_Sealer_Deadener!C235=\"\",\"\",Adhes_Sealer_Deadener!C235)","v":""},{"$f":"+Table10[[#This Row],[Column1]]&Table10[[#This Row],[Column2]]","v":""},{"$f":"IF(COUNTIF(V$2:V213,V213)=1,V213,\"\")","v":""},{"$f":"+IFERROR(INDEX($T$2:$T$478,MATCH(ROW()-ROW($X$1),$S$2:$S$478,0)),\"\")","v":""},{"$f":"+IFERROR(INDEX($U$2:$U$478,MATCH(ROW()-ROW($X$1),$S$2:$S$478,0)),\"\")","v":""},null,{"$f":"+IF(AF213=\"\",\"\",MAX(AA$1:AA212)+1)","v":""},{"$f":"IF(CPMS2!B235=\"\",\"\",CPMS2!B235)","v":""},{"$f":"IF(CPMS2!C235=\"\",\"\",CPMS2!C235)","v":""},{"$f":"IF(CPMS2!D235=\"\",\"\",CPMS2!D235)","v":""},"",{"$f":"IF(COUNTIF(AE$2:AE213,AE213)=1,AE213,\"\")","v":""},"","","",null,null,null,null,null,null,null,null,null,null,null,null,null,null,null,null,null,null,null,null,null,null,null,null,null,null,null,null,null,null,null,null,null,{"$f":"+IF(BV213=\"\",\"\",MAX(BQ$1:BQ212)+1)","v":""},{"$f":"IF(OpLimit!B235=\"\",\"\",OpLimit!B235)","v":""},{"$f":"IF(OpLimit!C235=\"\",\"\",OpLimit!C235)","v":""},{"$f":"IF(OpLimit!E235=\"\",\"\",OpLimit!E235)","v":""},"",{"$f":"IF(COUNTIF(BU$2:BU213,BU213)=1,BU213,\"\")","v":""},"","","",""]
[null,null,null,null,null,null,null,null,null,null,{"$f":"+IF(N214=\"\",\"\",MAX(K$1:K213)+1)","v":""},{"$f":"IF(CPMS1!E236=\"\",\"\",CPMS1!E236)","v":""},"",{"$f":"IF(COUNTIF(L$2:L214,L214)=1,L214,\"\")","v":""},null,null,null,null,{"$f":"+IF(W214=\"\",\"\",MAX(S$1:S213)+1)","v":""},{"$f":"IF(Adhes_Sealer_Deadener!B236=\"\",\"\",Adhes_Sealer_Deadener!B236)","v":""},{"$f":"IF(Adhes_Sealer_Deadener!C236=\"\",\"\",Adhes_Sealer_Deadener!C236)","v":""},{"$f":"+Table10[[#This Row],[Column1]]&Table10[[#This Row],[Column2]]","v":""},{"$f":"IF(COUNTIF(V$2:V214,V214)=1,V214,\"\")","v":""},"","",null,{"$f":"+IF(AF214=\"\",\"\",MAX(AA$1:AA213)+1)","v":""},{"$f":"IF(CPMS2!B236=\"\",\"\",CPMS2!B236)","v":""},{"$f":"IF(CPMS2!C236=\"\",\"\",CPMS2!C236)","v":""},{"$f":"IF(CPMS2!D236=\"\",\"\",CPMS2!D236)","v":""},"",{"$f":"IF(COUNTIF(AE$2:AE214,AE214)=1,AE214,\"\")","v":""},"","","",null,null,null,null,null,null,null,null,null,null,null,null,null,null,null,null,null,null,null,null,null,null,null,null,null,null,null,null,null,null,null,null,null,{"$f":"+IF(BV214=\"\",\"\",MAX(BQ$1:BQ213)+1)","v":""},{"$f":"IF(OpLimit!B236=\"\",\"\",OpLimit!B236)","v":""},{"$f":"IF(OpLimit!C236=\"\",\"\",OpLimit!C236)","v":""},{"$f":"IF(OpLimit!E236=\"\",\"\",OpLimit!E236)","v":""},"",{"$f":"IF(COUNTIF(BU$2:BU214,BU214)=1,BU214,\"\")","v":""},"","","",""]
[null,null,null,null,null,null,null,null,null,null,{"$f":"+IF(N215=\"\",\"\",MAX(K$1:K214)+1)","v":""},{"$f":"IF(CPMS1!E237=\"\",\"\",CPMS1!E237)","v":""},"",{"$f":"IF(COUNTIF(L$2:L215,L215)=1,L215,\"\")","v":""},null,null,null,null,{"$f":"+IF(W215=\"\",\"\",MAX(S$1:S214)+1)","v":""},{"$f":"IF(Adhes_Sealer_Deadener!B237=\"\",\"\",Adhes_Sealer_Deadener!B237)","v":""},{"$f":"IF(Adhes_Sealer_Deadener!C237=\"\",\"\",Adhes_Sealer_Deadener!C237)","v":""},{"$f":"+Table10[[#This Row],[Column1]]&Table10[[#This Row],[Column2]]","v":""},{"$f":"IF(COUNTIF(V$2:V215,V215)=1,V215,\"\")","v":""},"","",null,{"$f":"+IF(AF215=\"\",\"\",MAX(AA$1:AA214)+1)","v":""},{"$f":"IF(CPMS2!B237=\"\",\"\",CPMS2!B237)","v":""},{"$f":"IF(CPMS2!C237=\"\",\"\",CPMS2!C237)","v":""},{"$f":"IF(CPMS2!D237=\"\",\"\",CPMS2!D237)","v":""},"",{"$f":"IF(COUNTIF(AE$2:AE215,AE215)=1,AE215,\"\")","v":""},"","","",null,null,null,null,null,null,null,null,null,null,null,null,null,null,null,null,null,null,null,null,null,null,null,null,null,null,null,null,null,null,null,null,null,{"$f":"+IF(BV215=\"\",\"\",MAX(BQ$1:BQ214)+1)","v":""},{"$f":"IF(OpLimit!B237=\"\",\"\",OpLimit!B237)","v":""},{"$f":"IF(OpLimit!C237=\"\",\"\",OpLimit!C237)","v":""},{"$f":"IF(OpLimit!E237=\"\",\"\",OpLimit!E237)","v":""},"",{"$f":"IF(COUNTIF(BU$2:BU215,BU215)=1,BU215,\"\")","v":""},"","","",""]
[null,null,null,null,null,null,null,null,null,null,{"$f":"+IF(N216=\"\",\"\",MAX(K$1:K215)+1)","v":""},{"$f":"IF(CPMS1!E238=\"\",\"\",CPMS1!E238)","v":""},"",{"$f":"IF(COUNTIF(L$2:L216,L216)=1,L216,\"\")","v":""},null,null,null,null,{"$f":"+IF(W216=\"\",\"\",MAX(S$1:S215)+1)","v":""},{"$f":"IF(Adhes_Sealer_Deadener!B238=\"\",\"\",Adhes_Sealer_Deadener!B238)","v":""},{"$f":"IF(Adhes_Sealer_Deadener!C238=\"\",\"\",Adhes_Sealer_Deadener!C238)","v":""},{"$f":"+Table10[[#This Row],[Column1]]&Table10[[#This Row],[Column2]]","v":""},{"$f":"IF(COUNTIF(V$2:V216,V216)=1,V216,\"\")","v":""},"","",null,{"$f":"+IF(AF216=\"\",\"\",MAX(AA$1:AA215)+1)","v":""},{"$f":"IF(CPMS2!B238=\"\",\"\",CPMS2!B238)","v":""},{"$f":"IF(CPMS2!C238=\"\",\"\",CPMS2!C238)","v":""},{"$f":"IF(CPMS2!D238=\"\",\"\",CPMS2!D238)","v":""},"",{"$f":"IF(COUNTIF(AE$2:AE216,AE216)=1,AE216,\"\")","v":""},"","","",null,null,null,null,null,null,null,null,null,null,null,null,null,null,null,null,null,null,null,null,null,null,null,null,null,null,null,null,null,null,null,null,null,{"$f":"+IF(BV216=\"\",\"\",MAX(BQ$1:BQ215)+1)","v":""},{"$f":"IF(OpLimit!B238=\"\",\"\",OpLimit!B238)","v":""},{"$f":"IF(OpLimit!C238=\"\",\"\",OpLimit!C238)","v":""},{"$f":"IF(OpLimit!E238=\"\",\"\",OpLimit!E238)","v":""},"",{"$f":"IF(COUNTIF(BU$2:BU216,BU216)=1,BU216,\"\")","v":""},"","","",""]
[null,null,null,null,null,null,null,null,null,null,{"$f":"+IF(N217=\"\",\"\",MAX(K$1:K216)+1)","v":""},{"$f":"IF(CPMS1!E239=\"\",\"\",CPMS1!E239)","v":""},"",{"$f":"IF(COUNTIF(L$2:L217,L217)=1,L217,\"\")","v":""},null,null,null,null,{"$f":"+IF(W217=\"\",\"\",MAX(S$1:S216)+1)","v":""},{"$f":"IF(Adhes_Sealer_Deadener!B239=\"\",\"\",Adhes_Sealer_Deadener!B239)","v":""},{"$f":"IF(Adhes_Sealer_Deadener!C239=\"\",\"\",Adhes_Sealer_Deadener!C239)","v":""},{"$f":"+Table10[[#This Row],[Column1]]&Table10[[#This Row],[Column2]]","v":""},{"$f":"IF(COUNTIF(V$2:V217,V217)=1,V217,\"\")","v":""},"","",null,{"$f":"+IF(AF217=\"\",\"\",MAX(AA$1:AA216)+1)","v":""},{"$f":"IF(CPMS2!B239=\"\",\"\",CPMS2!B239)","v":""},{"$f":"IF(CPMS2!C239=\"\",\"\",CPMS2!C239)","v":""},{"$f":"IF(CPMS2!D239=\"\",\"\",CPMS2!D239)","v":""},"",{"$f":"IF(COUNTIF(AE$2:AE217,AE217)=1,AE217,\"\")","v":""},"","","",null,null,null,null,null,null,null,null,null,null,null,null,null,null,null,null,null,null,null,null,null,null,null,null,null,null,null,null,null,null,null,null,null,{"$f":"+IF(BV217=\"\",\"\",MAX(BQ$1:BQ216)+1)","v":""},{"$f":"IF(OpLimit!B239=\"\",\"\",OpLimit!B239)","v":""},{"$f":"IF(OpLimit!C239=\"\",\"\",OpLimit!C239)","v":""},{"$f":"IF(OpLimit!E239=\"\",\"\",OpLimit!E239)","v":""},"",{"$f":"IF(COUNTIF(BU$2:BU217,BU217)=1,BU217,\"\")","v":""},"","","",""]
[null,null,null,null,null,null,null,null,null,null,{"$f":"+IF(N218=\"\",\"\",MAX(K$1:K217)+1)","v":""},{"$f":"IF(CPMS1!E240=\"\",\"\",CPMS1!E240)","v":""},"",{"$f":"IF(COUNTIF(L$2:L218,L218)=1,L218,\"\")","v":""},null,null,null,null,{"$f":"+IF(W218=\"\",\"\",MAX(S$1:S217)+1)","v":""},{"$f":"IF(Adhes_Sealer_Deadener!B240=\"\",\"\",Adhes_Sealer_Deadener!B240)","v":""},{"$f":"IF(Adhes_Sealer_Deadener!C240=\"\",\"\",Adhes_Sealer_Deadener!C240)","v":""},{"$f":"+Table10[[#This Row],[Column1]]&Table10[[#This Row],[Column2]]","v":""},{"$f":"IF(COUNTIF(V$2:V218,V218)=1,V218,\"\")","v":""},"","",null,{"$f":"+IF(AF218=\"\",\"\",MAX(AA$1:AA217)+1)","v":""},{"$f":"IF(CPMS2!B240=\"\",\"\",CPMS2!B240)","v":""},{"$f":"IF(CPMS2!C240=\"\",\"\",CPMS2!C240)","v":""},{"$f":"IF(CPMS2!D240=\"\",\"\",CPMS2!D240)","v":""},"",{"$f":"IF(COUNTIF(AE$2:AE218,AE218)=1,AE218,\"\")","v":""},"","","",null,null,null,null,null,null,null,null,null,null,null,null,null,null,null,null,null,null,null,null,null,null,null,null,null,null,null,null,null,null,null,null,null,{"$f":"+IF(BV218=\"\",\"\",MAX(BQ$1:BQ217)+1)","v":""},{"$f":"IF(OpLimit!B240=\"\",\"\",OpLimit!B240)","v":""},{"$f":"IF(OpLimit!C240=\"\",\"\",OpLimit!C240)","v":""},{"$f":"IF(OpLimit!E240=\"\",\"\",OpLimit!E240)","v":""},"",{"$f":"IF(COUNTIF(BU$2:BU218,BU218)=1,BU218,\"\")","v":""},"","","",""]
[null,null,null,null,null,null,null,null,null,null,{"$f":"+IF(N219=\"\",\"\",MAX(K$1:K218)+1)","v":""},{"$f":"IF(CPMS1!E241=\"\",\"\",CPMS1!E241)","v":""},"",{"$f":"IF(COUNTIF(L$2:L219,L219)=1,L219,\"\")","v":""},null,null,null,null,{"$f":"+IF(W219=\"\",\"\",MAX(S$1:S218)+1)","v":""},{"$f":"IF(Adhes_Sealer_Deadener!B241=\"\",\"\",Adhes_Sealer_Deadener!B241)","v":""},{"$f":"IF(Adhes_Sealer_Deadener!C241=\"\",\"\",Adhes_Sealer_Deadener!C241)","v":""},{"$f":"+Table10[[#This Row],[Column1]]&Table10[[#This Row],[Column2]]","v":""},{"$f":"IF(COUNTIF(V$2:V219,V219)=1,V219,\"\")","v":""},"","",null,{"$f":"+IF(AF219=\"\",\"\",MAX(AA$1:AA218)+1)","v":""},{"$f":"IF(CPMS2!B241=\"\",\"\",CPMS2!B241)","v":""},{"$f":"IF(CPMS2!C241=\"\",\"\",CPMS2!C241)","v":""},{"$f":"IF(CPMS2!D241=\"\",\"\",CPMS2!D241)","v":""},"",{"$f":"IF(COUNTIF(AE$2:AE219,AE219)=1,AE219,\"\")","v":""},"","","",null,null,null,null,null,null,null,null,null,null,null,null,null,null,null,null,null,null,null,null,null,null,null,null,null,null,null,null,null,null,null,null,null,{"$f":"+IF(BV219=\"\",\"\",MAX(BQ$1:BQ218)+1)","v":""},{"$f":"IF(OpLimit!B241=\"\",\"\",OpLimit!B241)","v":""},{"$f":"IF(OpLimit!C241=\"\",\"\",OpLimit!C241)","v":""},{"$f":"IF(OpLimit!E241=\"\",\"\",OpLimit!E241)","v":""},"",{"$f":"IF(COUNTIF(BU$2:BU219,BU219)=1,BU219,\"\")","v":""},"","","",""]
[null,null,null,null,null,null,null,null,null,null,{"$f":"+IF(N220=\"\",\"\",MAX(K$1:K219)+1)","v":""},{"$f":"IF(CPMS1!E242=\"\",\"\",CPMS1!E242)","v":""},"",{"$f":"IF(COUNTIF(L$2:L220,L220)=1,L220,\"\")","v":""},null,null,null,null,{"$f":"+IF(W220=\"\",\"\",MAX(S$1:S219)+1)","v":""},{"$f":"IF(Adhes_Sealer_Deadener!B242=\"\",\"\",Adhes_Sealer_Deadener!B242)","v":""},{"$f":"IF(Adhes_Sealer_Deadener!C242=\"\",\"\",Adhes_Sealer_Deadener!C242)","v":""},{"$f":"+Table10[[#This Row],[Column1]]&Table10[[#This Row],[Column2]]","v":""},{"$f":"IF(COUNTIF(V$2:V220,V220)=1,V220,\"\")","v":""},"","",null,{"$f":"+IF(AF220=\"\",\"\",MAX(AA$1:AA219)+1)","v":""},{"$f":"IF(CPMS2!B242=\"\",\"\",CPMS2!B242)","v":""},{"$f":"IF(CPMS2!C242=\"\",\"\",CPMS2!C242)","v":""},{"$f":"IF(CPMS2!D242=\"\",\"\",CPMS2!D242)","v":""},"",{"$f":"IF(COUNTIF(AE$2:AE220,AE220)=1,AE220,\"\")","v":""},"","","",null,null,null,null,null,null,null,null,null,null,null,null,null,null,null,null,null,null,null,null,null,null,null,null,null,null,null,null,null,null,null,null,null,{"$f":"+IF(BV220=\"\",\"\",MAX(BQ$1:BQ219)+1)","v":""},{"$f":"IF(OpLimit!B242=\"\",\"\",OpLimit!B242)","v":""},{"$f":"IF(OpLimit!C242=\"\",\"\",OpLimit!C242)","v":""},{"$f":"IF(OpLimit!E242=\"\",\"\",OpLimit!E242)","v":""},"",{"$f":"IF(COUNTIF(BU$2:BU220,BU220)=1,BU220,\"\")","v":""},"","","",""]
[null,null,null,null,null,null,null,null,null,null,{"$f":"+IF(N221=\"\",\"\",MAX(K$1:K220)+1)","v":""},{"$f":"IF(CPMS1!E243=\"\",\"\",CPMS1!E243)","v":""},"",{"$f":"IF(COUNTIF(L$2:L221,L221)=1,L221,\"\")","v":""},null,null,null,null,{"$f":"+IF(W221=\"\",\"\",MAX(S$1:S220)+1)","v":""},{"$f":"IF(Adhes_Sealer_Deadener!B243=\"\",\"\",Adhes_Sealer_Deadener!B243)","v":""},{"$f":"IF(Adhes_Sealer_Deadener!C243=\"\",\"\",Adhes_Sealer_Deadener!C243)","v":""},{"$f":"+Table10[[#This Row],[Column1]]&Table10[[#This Row],[Column2]]","v":""},{"$f":"IF(COUNTIF(V$2:V221,V221)=1,V221,\"\")","v":""},"","",null,{"$f":"+IF(AF221=\"\",\"\",MAX(AA$1:AA220)+1)","v":""},{"$f":"IF(CPMS2!B243=\"\",\"\",CPMS2!B243)","v":""},{"$f":"IF(CPMS2!C243=\"\",\"\",CPMS2!C243)","v":""},{"$f":"IF(CPMS2!D243=\"\",\"\",CPMS2!D243)","v":""},"",{"$f":"IF(COUNTIF(AE$2:AE221,AE221)=1,AE221,\"\")","v":""},"","","",null,null,null,null,null,null,null,null,null,null,null,null,null,null,null,null,null,null,null,null,null,null,null,null,null,null,null,null,null,null,null,null,null,{"$f":"+IF(BV221=\"\",\"\",MAX(BQ$1:BQ220)+1)","v":""},{"$f":"IF(OpLimit!B243=\"\",\"\",OpLimit!B243)","v":""},{"$f":"IF(OpLimit!C243=\"\",\"\",OpLimit!C243)","v":""},{"$f":"IF(OpLimit!E243=\"\",\"\",OpLimit!E243)","v":""},"",{"$f":"IF(COUNTIF(BU$2:BU221,BU221)=1,BU221,\"\")","v":""},"","","",""]
[null,null,null,null,null,null,null,null,null,null,{"$f":"+IF(N222=\"\",\"\",MAX(K$1:K221)+1)","v":""},{"$f":"IF(CPMS1!E244=\"\",\"\",CPMS1!E244)","v":""},"",{"$f":"IF(COUNTIF(L$2:L222,L222)=1,L222,\"\")","v":""},null,null,null,null,{"$f":"+IF(W222=\"\",\"\",MAX(S$1:S221)+1)","v":""},{"$f":"IF(Adhes_Sealer_Deadener!B244=\"\",\"\",Adhes_Sealer_Deadener!B244)","v":""},{"$f":"IF(Adhes_Sealer_Deadener!C244=\"\",\"\",Adhes_Sealer_Deadener!C244)","v":""},{"$f":"+Table10[[#This Row],[Column1]]&Table10[[#This Row],[Column2]]","v":""},{"$f":"IF(COUNTIF(V$2:V222,V222)=1,V222,\"\")","v":""},"","",null,{"$f":"+IF(AF222=\"\",\"\",MAX(AA$1:AA221)+1)","v":""},{"$f":"IF(CPMS2!B244=\"\",\"\",CPMS2!B244)","v":""},{"$f":"IF(CPMS2!C244=\"\",\"\",CPMS2!C244)","v":""},{"$f":"IF(CPMS2!D244=\"\",\"\",CPMS2!D244)","v":""},"",{"$f":"IF(COUNTIF(AE$2:AE222,AE222)=1,AE222,\"\")","v":""},"","","",null,null,null,null,null,null,null,null,null,null,null,null,null,null,null,null,null,null,null,null,null,null,null,null,null,null,null,null,null,null,null,null,null,{"$f":"+IF(BV222=\"\",\"\",MAX(BQ$1:BQ221)+1)","v":""},{"$f":"IF(OpLimit!B244=\"\",\"\",OpLimit!B244)","v":""},{"$f":"IF(OpLimit!C244=\"\",\"\",OpLimit!C244)","v":""},{"$f":"IF(OpLimit!E244=\"\",\"\",OpLimit!E244)","v":""},"",{"$f":"IF(COUNTIF(BU$2:BU222,BU222)=1,BU222,\"\")","v":""},"","","",""]
[null,null,null,null,null,null,null,null,null,null,{"$f":"+IF(N223=\"\",\"\",MAX(K$1:K222)+1)","v":""},{"$f":"IF(CPMS1!E245=\"\",\"\",CPMS1!E245)","v":""},"",{"$f":"IF(COUNTIF(L$2:L223,L223)=1,L223,\"\")","v":""},null,null,null,null,{"$f":"+IF(W223=\"\",\"\",MAX(S$1:S222)+1)","v":""},{"$f":"IF(Adhes_Sealer_Deadener!B245=\"\",\"\",Adhes_Sealer_Deadener!B245)","v":""},{"$f":"IF(Adhes_Sealer_Deadener!C245=\"\",\"\",Adhes_Sealer_Deadener!C245)","v":""},{"$f":"+Table10[[#This Row],[Column1]]&Table10[[#This Row],[Column2]]","v":""},{"$f":"IF(COUNTIF(V$2:V223,V223)=1,V223,\"\")","v":""},"","",null,{"$f":"+IF(AF223=\"\",\"\",MAX(AA$1:AA222)+1)","v":""},{"$f":"IF(CPMS2!B245=\"\",\"\",CPMS2!B245)","v":""},{"$f":"IF(CPMS2!C245=\"\",\"\",CPMS2!C245)","v":""},{"$f":"IF(CPMS2!D245=\"\",\"\",CPMS2!D245)","v":""},"",{"$f":"IF(COUNTIF(AE$2:AE223,AE223)=1,AE223,\"\")","v":""},"","","",null,null,null,null,null,null,null,null,null,null,null,null,null,null,null,null,null,null,null,null,null,null,null,null,null,null,null,null,null,null,null,null,null,{"$f":"+IF(BV223=\"\",\"\",MAX(BQ$1:BQ222)+1)","v":""},{"$f":"IF(OpLimit!B245=\"\",\"\",OpLimit!B245)","v":""},{"$f":"IF(OpLimit!C245=\"\",\"\",OpLimit!C245)","v":""},{"$f":"IF(OpLimit!E245=\"\",\"\",OpLimit!E245)","v":""},"",{"$f":"IF(COUNTIF(BU$2:BU223,BU223)=1,BU223,\"\")","v":""},"","","",""]
[null,null,null,null,null,null,null,null,null,null,{"$f":"+IF(N224=\"\",\"\",MAX(K$1:K223)+1)","v":""},{"$f":"IF(CPMS1!E246=\"\",\"\",CPMS1!E246)","v":""},"",{"$f":"IF(COUNTIF(L$2:L224,L224)=1,L224,\"\")","v":""},null,null,null,null,{"$f":"+IF(W224=\"\",\"\",MAX(S$1:S223)+1)","v":""},{"$f":"IF(Adhes_Sealer_Deadener!B246=\"\",\"\",Adhes_Sealer_Deadener!B246)","v":""},{"$f":"IF(Adhes_Sealer_Deadener!C246=\"\",\"\",Adhes_Sealer_Deadener!C246)","v":""},{"$f":"+Table10[[#This Row],[Column1]]&Table10[[#This Row],[Column2]]","v":""},{"$f":"IF(COUNTIF(V$2:V224,V224)=1,V224,\"\")","v":""},"","",null,{"$f":"+IF(AF224=\"\",\"\",MAX(AA$1:AA223)+1)","v":""},{"$f":"IF(CPMS2!B246=\"\",\"\",CPMS2!B246)","v":""},{"$f":"IF(CPMS2!C246=\"\",\"\",CPMS2!C246)","v":""},{"$f":"IF(CPMS2!D246=\"\",\"\",CPMS2!D246)","v":""},"",{"$f":"IF(COUNTIF(AE$2:AE224,AE224)=1,AE224,\"\")","v":""},"","","",null,null,null,null,null,null,null,null,null,null,null,null,null,null,null,null,null,null,null,null,null,null,null,null,null,null,null,null,null,null,null,null,null,{"$f":"+IF(BV224=\"\",\"\",MAX(BQ$1:BQ223)+1)","v":""},{"$f":"IF(OpLimit!B246=\"\",\"\",OpLimit!B246)","v":""},{"$f":"IF(OpLimit!C246=\"\",\"\",OpLimit!C246)","v":""},{"$f":"IF(OpLimit!E246=\"\",\"\",OpLimit!E246)","v":""},"",{"$f":"IF(COUNTIF(BU$2:BU224,BU224)=1,BU224,\"\")","v":""},"","","",""]
[null,null,null,null,null,null,null,null,null,null,{"$f":"+IF(N225=\"\",\"\",MAX(K$1:K224)+1)","v":""},{"$f":"IF(CPMS1!E247=\"\",\"\",CPMS1!E247)","v":""},"",{"$f":"IF(COUNTIF(L$2:L225,L225)=1,L225,\"\")","v":""},null,null,null,null,{"$f":"+IF(W225=\"\",\"\",MAX(S$1:S224)+1)","v":""},{"$f":"IF(Adhes_Sealer_Deadener!B247=\"\",\"\",Adhes_Sealer_Deadener!B247)","v":""},{"$f":"IF(Adhes_Sealer_Deadener!C247=\"\",\"\",Adhes_Sealer_Deadener!C247)","v":""},{"$f":"+Table10[[#This Row],[Column1]]&Table10[[#This Row],[Column2]]","v":""},{"$f":"IF(COUNTIF(V$2:V225,V225)=1,V225,\"\")","v":""},"","",null,{"$f":"+IF(AF225=\"\",\"\",MAX(AA$1:AA224)+1)","v":""},{"$f":"IF(CPMS2!B247=\"\",\"\",CPMS2!B247)","v":""},{"$f":"IF(CPMS2!C247=\"\",\"\",CPMS2!C247)","v":""},{"$f":"IF(CPMS2!D247=\"\",\"\",CPMS2!D247)","v":""},"",{"$f":"IF(COUNTIF(AE$2:AE225,AE225)=1,AE225,\"\")","v":""},"","","",null,null,null,null,null,null,null,null,null,null,null,null,null,null,null,null,null,null,null,null,null,null,null,null,null,null,null,null,null,null,null,null,null,{"$f":"+IF(BV225=\"\",\"\",MAX(BQ$1:BQ224)+1)","v":""},{"$f":"IF(OpLimit!B247=\"\",\"\",OpLimit!B247)","v":""},{"$f":"IF(OpLimit!C247=\"\",\"\",OpLimit!C247)","v":""},{"$f":"IF(OpLimit!E247=\"\",\"\",OpLimit!E247)","v":""},"",{"$f":"IF(COUNTIF(BU$2:BU225,BU225)=1,BU225,\"\")","v":""},"","","",""]
[null,null,null,null,null,null,null,null,null,null,{"$f":"+IF(N226=\"\",\"\",MAX(K$1:K225)+1)","v":""},{"$f":"IF(CPMS1!E248=\"\",\"\",CPMS1!E248)","v":""},"",{"$f":"IF(COUNTIF(L$2:L226,L226)=1,L226,\"\")","v":""},null,null,null,null,{"$f":"+IF(W226=\"\",\"\",MAX(S$1:S225)+1)","v":""},{"$f":"IF(Adhes_Sealer_Deadener!B248=\"\",\"\",Adhes_Sealer_Deadener!B248)","v":""},{"$f":"IF(Adhes_Sealer_Deadener!C248=\"\",\"\",Adhes_Sealer_Deadener!C248)","v":""},{"$f":"+Table10[[#This Row],[Column1]]&Table10[[#This Row],[Column2]]","v":""},{"$f":"IF(COUNTIF(V$2:V226,V226)=1,V226,\"\")","v":""},"","",null,{"$f":"+IF(AF226=\"\",\"\",MAX(AA$1:AA225)+1)","v":""},{"$f":"IF(CPMS2!B248=\"\",\"\",CPMS2!B248)","v":""},{"$f":"IF(CPMS2!C248=\"\",\"\",CPMS2!C248)","v":""},{"$f":"IF(CPMS2!D248=\"\",\"\",CPMS2!D248)","v":""},"",{"$f":"IF(COUNTIF(AE$2:AE226,AE226)=1,AE226,\"\")","v":""},"","","",null,null,null,null,null,null,null,null,null,null,null,null,null,null,null,null,null,null,null,null,null,null,null,null,null,null,null,null,null,null,null,null,null,{"$f":"+IF(BV226=\"\",\"\",MAX(BQ$1:BQ225)+1)","v":""},{"$f":"IF(OpLimit!B248=\"\",\"\",OpLimit!B248)","v":""},{"$f":"IF(OpLimit!C248=\"\",\"\",OpLimit!C248)","v":""},{"$f":"IF(OpLimit!E248=\"\",\"\",OpLimit!E248)","v":""},"",{"$f":"IF(COUNTIF(BU$2:BU226,BU226)=1,BU226,\"\")","v":""},"","","",""]
[null,null,null,null,null,null,null,null,null,null,{"$f":"+IF(N227=\"\",\"\",MAX(K$1:K226)+1)","v":""},{"$f":"IF(CPMS1!E249=\"\",\"\",CPMS1!E249)","v":""},"",{"$f":"IF(COUNTIF(L$2:L227,L227)=1,L227,\"\")","v":""},null,null,null,null,{"$f":"+IF(W227=\"\",\"\",MAX(S$1:S226)+1)","v":""},{"$f":"IF(Adhes_Sealer_Deadener!B249=\"\",\"\",Adhes_Sealer_Deadener!B249)","v":""},{"$f":"IF(Adhes_Sealer_Deadener!C249=\"\",\"\",Adhes_Sealer_Deadener!C249)","v":""},{"$f":"+Table10[[#This Row],[Column1]]&Table10[[#This Row],[Column2]]","v":""},{"$f":"IF(COUNTIF(V$2:V227,V227)=1,V227,\"\")","v":""},"","",null,{"$f":"+IF(AF227=\"\",\"\",MAX(AA$1:AA226)+1)","v":""},{"$f":"IF(CPMS2!B249=\"\",\"\",CPMS2!B249)","v":""},{"$f":"IF(CPMS2!C249=\"\",\"\",CPMS2!C249)","v":""},{"$f":"IF(CPMS2!D249=\"\",\"\",CPMS2!D249)","v":""},"",{"$f":"IF(COUNTIF(AE$2:AE227,AE227)=1,AE227,\"\")","v":""},"","","",null,null,null,null,null,null,null,null,null,null,null,null,null,null,null,null,null,null,null,null,null,null,null,null,null,null,null,null,null,null,null,null,null,{"$f":"+IF(BV227=\"\",\"\",MAX(BQ$1:BQ226)+1)","v":""},{"$f":"IF(OpLimit!B249=\"\",\"\",OpLimit!B249)","v":""},{"$f":"IF(OpLimit!C249=\"\",\"\",OpLimit!C249)","v":""},{"$f":"IF(OpLimit!E249=\"\",\"\",OpLimit!E249)","v":""},"",{"$f":"IF(COUNTIF(BU$2:BU227,BU227)=1,BU227,\"\")","v":""},"","","",""]
[null,null,null,null,null,null,null,null,null,null,{"$f":"+IF(N228=\"\",\"\",MAX(K$1:K227)+1)","v":""},{"$f":"IF(CPMS1!E250=\"\",\"\",CPMS1!E250)","v":""},"",{"$f":"IF(COUNTIF(L$2:L228,L228)=1,L228,\"\")","v":""},null,null,null,null,{"$f":"+IF(W228=\"\",\"\",MAX(S$1:S227)+1)","v":""},{"$f":"IF(Adhes_Sealer_Deadener!B250=\"\",\"\",Adhes_Sealer_Deadener!B250)","v":""},{"$f":"IF(Adhes_Sealer_Deadener!C250=\"\",\"\",Adhes_Sealer_Deadener!C250)","v":""},{"$f":"+Table10[[#This Row],[Column1]]&Table10[[#This Row],[Column2]]","v":""},{"$f":"IF(COUNTIF(V$2:V228,V228)=1,V228,\"\")","v":""},"","",null,{"$f":"+IF(AF228=\"\",\"\",MAX(AA$1:AA227)+1)","v":""},{"$f":"IF(CPMS2!B250=\"\",\"\",CPMS2!B250)","v":""},{"$f":"IF(CPMS2!C250=\"\",\"\",CPMS2!C250)","v":""},{"$f":"IF(CPMS2!D250=\"\",\"\",CPMS2!D250)","v":""},"",{"$f":"IF(COUNTIF(AE$2:AE228,AE228)=1,AE228,\"\")","v":""},"","","",null,null,null,null,null,null,null,null,null,null,null,null,null,null,null,null,null,null,null,null,null,null,null,null,null,null,null,null,null,null,null,null,null,{"$f":"+IF(BV228=\"\",\"\",MAX(BQ$1:BQ227)+1)","v":""},{"$f":"IF(OpLimit!B250=\"\",\"\",OpLimit!B250)","v":""},{"$f":"IF(OpLimit!C250=\"\",\"\",OpLimit!C250)","v":""},{"$f":"IF(OpLimit!E250=\"\",\"\",OpLimit!E250)","v":""},"",{"$f":"IF(COUNTIF(BU$2:BU228,BU228)=1,BU228,\"\")","v":""},"","","",""]
[null,null,null,null,null,null,null,null,null,null,{"$f":"+IF(N229=\"\",\"\",MAX(K$1:K228)+1)","v":""},{"$f":"IF(CPMS1!E251=\"\",\"\",CPMS1!E251)","v":""},"",{"$f":"IF(COUNTIF(L$2:L229,L229)=1,L229,\"\")","v":""},null,null,null,null,{"$f":"+IF(W229=\"\",\"\",MAX(S$1:S228)+1)","v":""},{"$f":"IF(Adhes_Sealer_Deadener!B251=\"\",\"\",Adhes_Sealer_Deadener!B251)","v":""},{"$f":"IF(Adhes_Sealer_Deadener!C251=\"\",\"\",Adhes_Sealer_Deadener!C251)","v":""},{"$f":"+Table10[[#This Row],[Column1]]&Table10[[#This Row],[Column2]]","v":""},{"$f":"IF(COUNTIF(V$2:V229,V229)=1,V229,\"\")","v":""},"","",null,{"$f":"+IF(AF229=\"\",\"\",MAX(AA$1:AA228)+1)","v":""},{"$f":"IF(CPMS2!B251=\"\",\"\",CPMS2!B251)","v":""},{"$f":"IF(CPMS2!C251=\"\",\"\",CPMS2!C251)","v":""},{"$f":"IF(CPMS2!D251=\"\",\"\",CPMS2!D251)","v":""},"",{"$f":"IF(COUNTIF(AE$2:AE229,AE229)=1,AE229,\"\")","v":""},"","","",null,null,null,null,null,null,null,null,null,null,null,null,null,null,null,null,null,null,null,null,null,null,null,null,null,null,null,null,null,null,null,null,null,{"$f":"+IF(BV229=\"\",\"\",MAX(BQ$1:BQ228)+1)","v":""},{"$f":"IF(OpLimit!B251=\"\",\"\",OpLimit!B251)","v":""},{"$f":"IF(OpLimit!C251=\"\",\"\",OpLimit!C251)","v":""},{"$f":"IF(OpLimit!E251=\"\",\"\",OpLimit!E251)","v":""},"",{"$f":"IF(COUNTIF(BU$2:BU229,BU229)=1,BU229,\"\")","v":""},"","","",""]
[null,null,null,null,null,null,null,null,null,null,{"$f":"+IF(N230=\"\",\"\",MAX(K$1:K229)+1)","v":""},{"$f":"IF(CPMS1!E252=\"\",\"\",CPMS1!E252)","v":""},"",{"$f":"IF(COUNTIF(L$2:L230,L230)=1,L230,\"\")","v":""},null,null,null,null,{"$f":"+IF(W230=\"\",\"\",MAX(S$1:S229)+1)","v":""},{"$f":"IF(Adhes_Sealer_Deadener!B252=\"\",\"\",Adhes_Sealer_Deadener!B252)","v":""},{"$f":"IF(Adhes_Sealer_Deadener!C252=\"\",\"\",Adhes_Sealer_Deadener!C252)","v":""},{"$f":"+Table10[[#This Row],[Column1]]&Table10[[#This Row],[Column2]]","v":""},{"$f":"IF(COUNTIF(V$2:V230,V230)=1,V230,\"\")","v":""},"","",null,{"$f":"+IF(AF230=\"\",\"\",MAX(AA$1:AA229)+1)","v":""},{"$f":"IF(CPMS2!B252=\"\",\"\",CPMS2!B252)","v":""},{"$f":"IF(CPMS2!C252=\"\",\"\",CPMS2!C252)","v":""},{"$f":"IF(CPMS2!D252=\"\",\"\",CPMS2!D252)","v":""},"",{"$f":"IF(COUNTIF(AE$2:AE230,AE230)=1,AE230,\"\")","v":""},"","","",null,null,null,null,null,null,null,null,null,null,null,null,null,null,null,null,null,null,null,null,null,null,null,null,null,null,null,null,null,null,null,null,null,{"$f":"+IF(BV230=\"\",\"\",MAX(BQ$1:BQ229)+1)","v":""},{"$f":"IF(OpLimit!B252=\"\",\"\",OpLimit!B252)","v":""},{"$f":"IF(OpLimit!C252=\"\",\"\",OpLimit!C252)","v":""},{"$f":"IF(OpLimit!E252=\"\",\"\",OpLimit!E252)","v":""},"",{"$f":"IF(COUNTIF(BU$2:BU230,BU230)=1,BU230,\"\")","v":""},"","","",""]
[null,null,null,null,null,null,null,null,null,null,{"$f":"+IF(N231=\"\",\"\",MAX(K$1:K230)+1)","v":""},{"$f":"IF(CPMS1!E253=\"\",\"\",CPMS1!E253)","v":""},"",{"$f":"IF(COUNTIF(L$2:L231,L231)=1,L231,\"\")","v":""},null,null,null,null,{"$f":"+IF(W231=\"\",\"\",MAX(S$1:S230)+1)","v":""},{"$f":"IF(Adhes_Sealer_Deadener!B253=\"\",\"\",Adhes_Sealer_Deadener!B253)","v":""},{"$f":"IF(Adhes_Sealer_Deadener!C253=\"\",\"\",Adhes_Sealer_Deadener!C253)","v":""},{"$f":"+Table10[[#This Row],[Column1]]&Table10[[#This Row],[Column2]]","v":""},{"$f":"IF(COUNTIF(V$2:V231,V231)=1,V231,\"\")","v":""},"","",null,{"$f":"+IF(AF231=\"\",\"\",MAX(AA$1:AA230)+1)","v":""},{"$f":"IF(CPMS2!B253=\"\",\"\",CPMS2!B253)","v":""},{"$f":"IF(CPMS2!C253=\"\",\"\",CPMS2!C253)","v":""},{"$f":"IF(CPMS2!D253=\"\",\"\",CPMS2!D253)","v":""},"",{"$f":"IF(COUNTIF(AE$2:AE231,AE231)=1,AE231,\"\")","v":""},"","","",null,null,null,null,null,null,null,null,null,null,null,null,null,null,null,null,null,null,null,null,null,null,null,null,null,null,null,null,null,null,null,null,null,{"$f":"+IF(BV231=\"\",\"\",MAX(BQ$1:BQ230)+1)","v":""},{"$f":"IF(OpLimit!B253=\"\",\"\",OpLimit!B253)","v":""},{"$f":"IF(OpLimit!C253=\"\",\"\",OpLimit!C253)","v":""},{"$f":"IF(OpLimit!E253=\"\",\"\",OpLimit!E253)","v":""},"",{"$f":"IF(COUNTIF(BU$2:BU231,BU231)=1,BU231,\"\")","v":""},"","","",""]
[null,null,null,null,null,null,null,null,null,null,{"$f":"+IF(N232=\"\",\"\",MAX(K$1:K231)+1)","v":""},{"$f":"IF(CPMS1!E254=\"\",\"\",CPMS1!E254)","v":""},"",{"$f":"IF(COUNTIF(L$2:L232,L232)=1,L232,\"\")","v":""},null,null,null,null,{"$f":"+IF(W232=\"\",\"\",MAX(S$1:S231)+1)","v":""},{"$f":"IF(Adhes_Sealer_Deadener!B254=\"\",\"\",Adhes_Sealer_Deadener!B254)","v":""},{"$f":"IF(Adhes_Sealer_Deadener!C254=\"\",\"\",Adhes_Sealer_Deadener!C254)","v":""},{"$f":"+Table10[[#This Row],[Column1]]&Table10[[#This Row],[Column2]]","v":""},{"$f":"IF(COUNTIF(V$2:V232,V232)=1,V232,\"\")","v":""},"","",null,{"$f":"+IF(AF232=\"\",\"\",MAX(AA$1:AA231)+1)","v":""},{"$f":"IF(CPMS2!B254=\"\",\"\",CPMS2!B254)","v":""},{"$f":"IF(CPMS2!C254=\"\",\"\",CPMS2!C254)","v":""},{"$f":"IF(CPMS2!D254=\"\",\"\",CPMS2!D254)","v":""},"",{"$f":"IF(COUNTIF(AE$2:AE232,AE232)=1,AE232,\"\")","v":""},"","","",null,null,null,null,null,null,null,null,null,null,null,null,null,null,null,null,null,null,null,null,null,null,null,null,null,null,null,null,null,null,null,null,null,{"$f":"+IF(BV232=\"\",\"\",MAX(BQ$1:BQ231)+1)","v":""},{"$f":"IF(OpLimit!B254=\"\",\"\",OpLimit!B254)","v":""},{"$f":"IF(OpLimit!C254=\"\",\"\",OpLimit!C254)","v":""},{"$f":"IF(OpLimit!E254=\"\",\"\",OpLimit!E254)","v":""},"",{"$f":"IF(COUNTIF(BU$2:BU232,BU232)=1,BU232,\"\")","v":""},"","","",""]
[null,null,null,null,null,null,null,null,null,null,{"$f":"+IF(N233=\"\",\"\",MAX(K$1:K232)+1)","v":""},{"$f":"IF(CPMS1!E255=\"\",\"\",CPMS1!E255)","v":""},"",{"$f":"IF(COUNTIF(L$2:L233,L233)=1,L233,\"\")","v":""},null,null,null,null,{"$f":"+IF(W233=\"\",\"\",MAX(S$1:S232)+1)","v":""},{"$f":"IF(Adhes_Sealer_Deadener!B255=\"\",\"\",Adhes_Sealer_Deadener!B255)","v":""},{"$f":"IF(Adhes_Sealer_Deadener!C255=\"\",\"\",Adhes_Sealer_Deadener!C255)","v":""},{"$f":"+Table10[[#This Row],[Column1]]&Table10[[#This Row],[Column2]]","v":""},{"$f":"IF(COUNTIF(V$2:V233,V233)=1,V233,\"\")","v":""},"","",null,{"$f":"+IF(AF233=\"\",\"\",MAX(AA$1:AA232)+1)","v":""},{"$f":"IF(CPMS2!B255=\"\",\"\",CPMS2!B255)","v":""},{"$f":"IF(CPMS2!C255=\"\",\"\",CPMS2!C255)","v":""},{"$f":"IF(CPMS2!D255=\"\",\"\",CPMS2!D255)","v":""},"",{"$f":"IF(COUNTIF(AE$2:AE233,AE233)=1,AE233,\"\")","v":""},"","","",null,null,null,null,null,null,null,null,null,null,null,null,null,null,null,null,null,null,null,null,null,null,null,null,null,null,null,null,null,null,null,null,null,{"$f":"+IF(BV233=\"\",\"\",MAX(BQ$1:BQ232)+1)","v":""},{"$f":"IF(OpLimit!B255=\"\",\"\",OpLimit!B255)","v":""},{"$f":"IF(OpLimit!C255=\"\",\"\",OpLimit!C255)","v":""},{"$f":"IF(OpLimit!E255=\"\",\"\",OpLimit!E255)","v":""},"",{"$f":"IF(COUNTIF(BU$2:BU233,BU233)=1,BU233,\"\")","v":""},"","","",""]
[null,null,null,null,null,null,null,null,null,null,{"$f":"+IF(N234=\"\",\"\",MAX(K$1:K233)+1)","v":""},{"$f":"IF(CPMS1!E256=\"\",\"\",CPMS1!E256)","v":""},"",{"$f":"IF(COUNTIF(L$2:L234,L234)=1,L234,\"\")","v":""},null,null,null,null,{"$f":"+IF(W234=\"\",\"\",MAX(S$1:S233)+1)","v":""},{"$f":"IF(Adhes_Sealer_Deadener!B256=\"\",\"\",Adhes_Sealer_Deadener!B256)","v":""},{"$f":"IF(Adhes_Sealer_Deadener!C256=\"\",\"\",Adhes_Sealer_Deadener!C256)","v":""},{"$f":"+Table10[[#This Row],[Column1]]&Table10[[#This Row],[Column2]]","v":""},{"$f":"IF(COUNTIF(V$2:V234,V234)=1,V234,\"\")","v":""},"","",null,{"$f":"+IF(AF234=\"\",\"\",MAX(AA$1:AA233)+1)","v":""},{"$f":"IF(CPMS2!B256=\"\",\"\",CPMS2!B256)","v":""},{"$f":"IF(CPMS2!C256=\"\",\"\",CPMS2!C256)","v":""},{"$f":"IF(CPMS2!D256=\"\",\"\",CPMS2!D256)","v":""},"",{"$f":"IF(COUNTIF(AE$2:AE234,AE234)=1,AE234,\"\")","v":""},"","","",null,null,null,null,null,null,null,null,null,null,null,null,null,null,null,null,null,null,null,null,null,null,null,null,null,null,null,null,null,null,null,null,null,{"$f":"+IF(BV234=\"\",\"\",MAX(BQ$1:BQ233)+1)","v":""},{"$f":"IF(OpLimit!B256=\"\",\"\",OpLimit!B256)","v":""},{"$f":"IF(OpLimit!C256=\"\",\"\",OpLimit!C256)","v":""},{"$f":"IF(OpLimit!E256=\"\",\"\",OpLimit!E256)","v":""},"",{"$f":"IF(COUNTIF(BU$2:BU234,BU234)=1,BU234,\"\")","v":""},"","","",""]
[null,null,null,null,null,null,null,null,null,null,{"$f":"+IF(N235=\"\",\"\",MAX(K$1:K234)+1)","v":""},{"$f":"IF(CPMS1!E257=\"\",\"\",CPMS1!E257)","v":""},"",{"$f":"IF(COUNTIF(L$2:L235,L235)=1,L235,\"\")","v":""},null,null,null,null,{"$f":"+IF(W235=\"\",\"\",MAX(S$1:S234)+1)","v":""},{"$f":"IF(Adhes_Sealer_Deadener!B257=\"\",\"\",Adhes_Sealer_Deadener!B257)","v":""},{"$f":"IF(Adhes_Sealer_Deadener!C257=\"\",\"\",Adhes_Sealer_Deadener!C257)","v":""},{"$f":"+Table10[[#This Row],[Column1]]&Table10[[#This Row],[Column2]]","v":""},{"$f":"IF(COUNTIF(V$2:V235,V235)=1,V235,\"\")","v":""},"","",null,{"$f":"+IF(AF235=\"\",\"\",MAX(AA$1:AA234)+1)","v":""},{"$f":"IF(CPMS2!B257=\"\",\"\",CPMS2!B257)","v":""},{"$f":"IF(CPMS2!C257=\"\",\"\",CPMS2!C257)","v":""},{"$f":"IF(CPMS2!D257=\"\",\"\",CPMS2!D257)","v":""},"",{"$f":"IF(COUNTIF(AE$2:AE235,AE235)=1,AE235,\"\")","v":""},"","","",null,null,null,null,null,null,null,null,null,null,null,null,null,null,null,null,null,null,null,null,null,null,null,null,null,null,null,null,null,null,null,null,null,{"$f":"+IF(BV235=\"\",\"\",MAX(BQ$1:BQ234)+1)","v":""},{"$f":"IF(OpLimit!B257=\"\",\"\",OpLimit!B257)","v":""},{"$f":"IF(OpLimit!C257=\"\",\"\",OpLimit!C257)","v":""},{"$f":"IF(OpLimit!E257=\"\",\"\",OpLimit!E257)","v":""},"",{"$f":"IF(COUNTIF(BU$2:BU235,BU235)=1,BU235,\"\")","v":""},"","","",""]
[null,null,null,null,null,null,null,null,null,null,{"$f":"+IF(N236=\"\",\"\",MAX(K$1:K235)+1)","v":""},{"$f":"IF(CPMS1!E258=\"\",\"\",CPMS1!E258)","v":""},"",{"$f":"IF(COUNTIF(L$2:L236,L236)=1,L236,\"\")","v":""},null,null,null,null,{"$f":"+IF(W236=\"\",\"\",MAX(S$1:S235)+1)","v":""},{"$f":"IF(Adhes_Sealer_Deadener!B258=\"\",\"\",Adhes_Sealer_Deadener!B258)","v":""},{"$f":"IF(Adhes_Sealer_Deadener!C258=\"\",\"\",Adhes_Sealer_Deadener!C258)","v":""},{"$f":"+Table10[[#This Row],[Column1]]&Table10[[#This Row],[Column2]]","v":""},{"$f":"IF(COUNTIF(V$2:V236,V236)=1,V236,\"\")","v":""},"","",null,{"$f":"+IF(AF236=\"\",\"\",MAX(AA$1:AA235)+1)","v":""},{"$f":"IF(CPMS2!B258=\"\",\"\",CPMS2!B258)","v":""},{"$f":"IF(CPMS2!C258=\"\",\"\",CPMS2!C258)","v":""},{"$f":"IF(CPMS2!D258=\"\",\"\",CPMS2!D258)","v":""},"",{"$f":"IF(COUNTIF(AE$2:AE236,AE236)=1,AE236,\"\")","v":""},"","","",null,null,null,null,null,null,null,null,null,null,null,null,null,null,null,null,null,null,null,null,null,null,null,null,null,null,null,null,null,null,null,null,null,{"$f":"+IF(BV236=\"\",\"\",MAX(BQ$1:BQ235)+1)","v":""},{"$f":"IF(OpLimit!B258=\"\",\"\",OpLimit!B258)","v":""},{"$f":"IF(OpLimit!C258=\"\",\"\",OpLimit!C258)","v":""},{"$f":"IF(OpLimit!E258=\"\",\"\",OpLimit!E258)","v":""},"",{"$f":"IF(COUNTIF(BU$2:BU236,BU236)=1,BU236,\"\")","v":""},"","","",""]
[null,null,null,null,null,null,null,null,null,null,{"$f":"+IF(N237=\"\",\"\",MAX(K$1:K236)+1)","v":""},{"$f":"IF(CPMS1!E259=\"\",\"\",CPMS1!E259)","v":""},"",{"$f":"IF(COUNTIF(L$2:L237,L237)=1,L237,\"\")","v":""},null,null,null,null,{"$f":"+IF(W237=\"\",\"\",MAX(S$1:S236)+1)","v":""},{"$f":"IF(Adhes_Sealer_Deadener!B259=\"\",\"\",Adhes_Sealer_Deadener!B259)","v":""},{"$f":"IF(Adhes_Sealer_Deadener!C259=\"\",\"\",Adhes_Sealer_Deadener!C259)","v":""},{"$f":"+Table10[[#This Row],[Column1]]&Table10[[#This Row],[Column2]]","v":""},{"$f":"IF(COUNTIF(V$2:V237,V237)=1,V237,\"\")","v":""},"","",null,{"$f":"+IF(AF237=\"\",\"\",MAX(AA$1:AA236)+1)","v":""},{"$f":"IF(CPMS2!B259=\"\",\"\",CPMS2!B259)","v":""},{"$f":"IF(CPMS2!C259=\"\",\"\",CPMS2!C259)","v":""},{"$f":"IF(CPMS2!D259=\"\",\"\",CPMS2!D259)","v":""},"",{"$f":"IF(COUNTIF(AE$2:AE237,AE237)=1,AE237,\"\")","v":""},"","","",null,null,null,null,null,null,null,null,null,null,null,null,null,null,null,null,null,null,null,null,null,null,null,null,null,null,null,null,null,null,null,null,null,{"$f":"+IF(BV237=\"\",\"\",MAX(BQ$1:BQ236)+1)","v":""},{"$f":"IF(OpLimit!B259=\"\",\"\",OpLimit!B259)","v":""},{"$f":"IF(OpLimit!C259=\"\",\"\",OpLimit!C259)","v":""},{"$f":"IF(OpLimit!E259=\"\",\"\",OpLimit!E259)","v":""},"",{"$f":"IF(COUNTIF(BU$2:BU237,BU237)=1,BU237,\"\")","v":""},"","","",""]
[null,null,null,null,null,null,null,null,null,null,{"$f":"+IF(N238=\"\",\"\",MAX(K$1:K237)+1)","v":""},{"$f":"IF(CPMS1!E260=\"\",\"\",CPMS1!E260)","v":""},"",{"$f":"IF(COUNTIF(L$2:L238,L238)=1,L238,\"\")","v":""},null,null,null,null,{"$f":"+IF(W238=\"\",\"\",MAX(S$1:S237)+1)","v":""},{"$f":"IF(Adhes_Sealer_Deadener!B260=\"\",\"\",Adhes_Sealer_Deadener!B260)","v":""},{"$f":"IF(Adhes_Sealer_Deadener!C260=\"\",\"\",Adhes_Sealer_Deadener!C260)","v":""},{"$f":"+Table10[[#This Row],[Column1]]&Table10[[#This Row],[Column2]]","v":""},{"$f":"IF(COUNTIF(V$2:V238,V238)=1,V238,\"\")","v":""},"","",null,{"$f":"+IF(AF238=\"\",\"\",MAX(AA$1:AA237)+1)","v":""},{"$f":"IF(CPMS2!B260=\"\",\"\",CPMS2!B260)","v":""},{"$f":"IF(CPMS2!C260=\"\",\"\",CPMS2!C260)","v":""},{"$f":"IF(CPMS2!D260=\"\",\"\",CPMS2!D260)","v":""},"",{"$f":"IF(COUNTIF(AE$2:AE238,AE238)=1,AE238,\"\")","v":""},"","","",null,null,null,null,null,null,null,null,null,null,null,null,null,null,null,null,null,null,null,null,null,null,null,null,null,null,null,null,null,null,null,null,null,{"$f":"+IF(BV238=\"\",\"\",MAX(BQ$1:BQ237)+1)","v":""},{"$f":"IF(OpLimit!B260=\"\",\"\",OpLimit!B260)","v":""},{"$f":"IF(OpLimit!C260=\"\",\"\",OpLimit!C260)","v":""},{"$f":"IF(OpLimit!E260=\"\",\"\",OpLimit!E260)","v":""},"",{"$f":"IF(COUNTIF(BU$2:BU238,BU238)=1,BU238,\"\")","v":""},"","","",""]
[null,null,null,null,null,null,null,null,null,null,{"$f":"+IF(N239=\"\",\"\",MAX(K$1:K238)+1)","v":""},{"$f":"IF(CPMS1!E261=\"\",\"\",CPMS1!E261)","v":""},"",{"$f":"IF(COUNTIF(L$2:L239,L239)=1,L239,\"\")","v":""},null,null,null,null,{"$f":"+IF(W239=\"\",\"\",MAX(S$1:S238)+1)","v":""},{"$f":"IF(Adhes_Sealer_Deadener!B261=\"\",\"\",Adhes_Sealer_Deadener!B261)","v":""},{"$f":"IF(Adhes_Sealer_Deadener!C261=\"\",\"\",Adhes_Sealer_Deadener!C261)","v":""},{"$f":"+Table10[[#This Row],[Column1]]&Table10[[#This Row],[Column2]]","v":""},{"$f":"IF(COUNTIF(V$2:V239,V239)=1,V239,\"\")","v":""},"","",null,{"$f":"+IF(AF239=\"\",\"\",MAX(AA$1:AA238)+1)","v":""},{"$f":"IF(CPMS2!B261=\"\",\"\",CPMS2!B261)","v":""},{"$f":"IF(CPMS2!C261=\"\",\"\",CPMS2!C261)","v":""},{"$f":"IF(CPMS2!D261=\"\",\"\",CPMS2!D261)","v":""},"",{"$f":"IF(COUNTIF(AE$2:AE239,AE239)=1,AE239,\"\")","v":""},"","","",null,null,null,null,null,null,null,null,null,null,null,null,null,null,null,null,null,null,null,null,null,null,null,null,null,null,null,null,null,null,null,null,null,{"$f":"+IF(BV239=\"\",\"\",MAX(BQ$1:BQ238)+1)","v":""},{"$f":"IF(OpLimit!B261=\"\",\"\",OpLimit!B261)","v":""},{"$f":"IF(OpLimit!C261=\"\",\"\",OpLimit!C261)","v":""},{"$f":"IF(OpLimit!E261=\"\",\"\",OpLimit!E261)","v":""},"",{"$f":"IF(COUNTIF(BU$2:BU239,BU239)=1,BU239,\"\")","v":""},"","","",""]
[null,null,null,null,null,null,null,null,null,null,{"$f":"+IF(N240=\"\",\"\",MAX(K$1:K239)+1)","v":""},{"$f":"IF(CPMS1!E262=\"\",\"\",CPMS1!E262)","v":""},"",{"$f":"IF(COUNTIF(L$2:L240,L240)=1,L240,\"\")","v":""},null,null,null,null,{"$f":"+IF(W240=\"\",\"\",MAX(S$1:S239)+1)","v":""},{"$f":"IF(Adhes_Sealer_Deadener!B262=\"\",\"\",Adhes_Sealer_Deadener!B262)","v":""},{"$f":"IF(Adhes_Sealer_Deadener!C262=\"\",\"\",Adhes_Sealer_Deadener!C262)","v":""},{"$f":"+Table10[[#This Row],[Column1]]&Table10[[#This Row],[Column2]]","v":""},{"$f":"IF(COUNTIF(V$2:V240,V240)=1,V240,\"\")","v":""},"","",null,{"$f":"+IF(AF240=\"\",\"\",MAX(AA$1:AA239)+1)","v":""},{"$f":"IF(CPMS2!B262=\"\",\"\",CPMS2!B262)","v":""},{"$f":"IF(CPMS2!C262=\"\",\"\",CPMS2!C262)","v":""},{"$f":"IF(CPMS2!D262=\"\",\"\",CPMS2!D262)","v":""},"",{"$f":"IF(COUNTIF(AE$2:AE240,AE240)=1,AE240,\"\")","v":""},"","","",null,null,null,null,null,null,null,null,null,null,null,null,null,null,null,null,null,null,null,null,null,null,null,null,null,null,null,null,null,null,null,null,null,{"$f":"+IF(BV240=\"\",\"\",MAX(BQ$1:BQ239)+1)","v":""},{"$f":"IF(OpLimit!B262=\"\",\"\",OpLimit!B262)","v":""},{"$f":"IF(OpLimit!C262=\"\",\"\",OpLimit!C262)","v":""},{"$f":"IF(OpLimit!E262=\"\",\"\",OpLimit!E262)","v":""},"",{"$f":"IF(COUNTIF(BU$2:BU240,BU240)=1,BU240,\"\")","v":""},"","","",""]
[null,null,null,null,null,null,null,null,null,null,{"$f":"+IF(N241=\"\",\"\",MAX(K$1:K240)+1)","v":""},{"$f":"IF(CPMS1!E263=\"\",\"\",CPMS1!E263)","v":""},"",{"$f":"IF(COUNTIF(L$2:L241,L241)=1,L241,\"\")","v":""},null,null,null,null,{"$f":"+IF(W241=\"\",\"\",MAX(S$1:S240)+1)","v":""},{"$f":"IF(Adhes_Sealer_Deadener!B263=\"\",\"\",Adhes_Sealer_Deadener!B263)","v":""},{"$f":"IF(Adhes_Sealer_Deadener!C263=\"\",\"\",Adhes_Sealer_Deadener!C263)","v":""},{"$f":"+Table10[[#This Row],[Column1]]&Table10[[#This Row],[Column2]]","v":""},{"$f":"IF(COUNTIF(V$2:V241,V241)=1,V241,\"\")","v":""},"","",null,{"$f":"+IF(AF241=\"\",\"\",MAX(AA$1:AA240)+1)","v":""},{"$f":"IF(CPMS2!B263=\"\",\"\",CPMS2!B263)","v":""},{"$f":"IF(CPMS2!C263=\"\",\"\",CPMS2!C263)","v":""},{"$f":"IF(CPMS2!D263=\"\",\"\",CPMS2!D263)","v":""},"",{"$f":"IF(COUNTIF(AE$2:AE241,AE241)=1,AE241,\"\")","v":""},"","","",null,null,null,null,null,null,null,null,null,null,null,null,null,null,null,null,null,null,null,null,null,null,null,null,null,null,null,null,null,null,null,null,null,{"$f":"+IF(BV241=\"\",\"\",MAX(BQ$1:BQ240)+1)","v":""},{"$f":"IF(OpLimit!B263=\"\",\"\",OpLimit!B263)","v":""},{"$f":"IF(OpLimit!C263=\"\",\"\",OpLimit!C263)","v":""},{"$f":"IF(OpLimit!E263=\"\",\"\",OpLimit!E263)","v":""},"",{"$f":"IF(COUNTIF(BU$2:BU241,BU241)=1,BU241,\"\")","v":""},"","","",""]
[null,null,null,null,null,null,null,null,null,null,{"$f":"+IF(N242=\"\",\"\",MAX(K$1:K241)+1)","v":""},{"$f":"IF(CPMS1!E264=\"\",\"\",CPMS1!E264)","v":""},"",{"$f":"IF(COUNTIF(L$2:L242,L242)=1,L242,\"\")","v":""},null,null,null,null,{"$f":"+IF(W242=\"\",\"\",MAX(S$1:S241)+1)","v":""},{"$f":"IF(Adhes_Sealer_Deadener!B264=\"\",\"\",Adhes_Sealer_Deadener!B264)","v":""},{"$f":"IF(Adhes_Sealer_Deadener!C264=\"\",\"\",Adhes_Sealer_Deadener!C264)","v":""},{"$f":"+Table10[[#This Row],[Column1]]&Table10[[#This Row],[Column2]]","v":""},{"$f":"IF(COUNTIF(V$2:V242,V242)=1,V242,\"\")","v":""},"","",null,{"$f":"+IF(AF242=\"\",\"\",MAX(AA$1:AA241)+1)","v":""},{"$f":"IF(CPMS2!B264=\"\",\"\",CPMS2!B264)","v":""},{"$f":"IF(CPMS2!C264=\"\",\"\",CPMS2!C264)","v":""},{"$f":"IF(CPMS2!D264=\"\",\"\",CPMS2!D264)","v":""},"",{"$f":"IF(COUNTIF(AE$2:AE242,AE242)=1,AE242,\"\")","v":""},"","","",null,null,null,null,null,null,null,null,null,null,null,null,null,null,null,null,null,null,null,null,null,null,null,null,null,null,null,null,null,null,null,null,null,{"$f":"+IF(BV242=\"\",\"\",MAX(BQ$1:BQ241)+1)","v":""},{"$f":"IF(OpLimit!B264=\"\",\"\",OpLimit!B264)","v":""},{"$f":"IF(OpLimit!C264=\"\",\"\",OpLimit!C264)","v":""},{"$f":"IF(OpLimit!E264=\"\",\"\",OpLimit!E264)","v":""},"",{"$f":"IF(COUNTIF(BU$2:BU242,BU242)=1,BU242,\"\")","v":""},"","","",""]
[null,null,null,null,null,null,null,null,null,null,{"$f":"+IF(N243=\"\",\"\",MAX(K$1:K242)+1)","v":""},{"$f":"IF(CPMS1!E265=\"\",\"\",CPMS1!E265)","v":""},"",{"$f":"IF(COUNTIF(L$2:L243,L243)=1,L243,\"\")","v":""},null,null,null,null,{"$f":"+IF(W243=\"\",\"\",MAX(S$1:S242)+1)","v":""},{"$f":"IF(Adhes_Sealer_Deadener!B265=\"\",\"\",Adhes_Sealer_Deadener!B265)","v":""},{"$f":"IF(Adhes_Sealer_Deadener!C265=\"\",\"\",Adhes_Sealer_Deadener!C265)","v":""},{"$f":"+Table10[[#This Row],[Column1]]&Table10[[#This Row],[Column2]]","v":""},{"$f":"IF(COUNTIF(V$2:V243,V243)=1,V243,\"\")","v":""},"","",null,{"$f":"+IF(AF243=\"\",\"\",MAX(AA$1:AA242)+1)","v":""},{"$f":"IF(CPMS2!B265=\"\",\"\",CPMS2!B265)","v":""},{"$f":"IF(CPMS2!C265=\"\",\"\",CPMS2!C265)","v":""},{"$f":"IF(CPMS2!D265=\"\",\"\",CPMS2!D265)","v":""},"",{"$f":"IF(COUNTIF(AE$2:AE243,AE243)=1,AE243,\"\")","v":""},"","","",null,null,null,null,null,null,null,null,null,null,null,null,null,null,null,null,null,null,null,null,null,null,null,null,null,null,null,null,null,null,null,null,null,{"$f":"+IF(BV243=\"\",\"\",MAX(BQ$1:BQ242)+1)","v":""},{"$f":"IF(OpLimit!B265=\"\",\"\",OpLimit!B265)","v":""},{"$f":"IF(OpLimit!C265=\"\",\"\",OpLimit!C265)","v":""},{"$f":"IF(OpLimit!E265=\"\",\"\",OpLimit!E265)","v":""},"",{"$f":"IF(COUNTIF(BU$2:BU243,BU243)=1,BU243,\"\")","v":""},"","","",""]
[null,null,null,null,null,null,null,null,null,null,{"$f":"+IF(N244=\"\",\"\",MAX(K$1:K243)+1)","v":""},{"$f":"IF(CPMS1!E266=\"\",\"\",CPMS1!E266)","v":""},"",{"$f":"IF(COUNTIF(L$2:L244,L244)=1,L244,\"\")","v":""},null,null,null,null,{"$f":"+IF(W244=\"\",\"\",MAX(S$1:S243)+1)","v":""},{"$f":"IF(Adhes_Sealer_Deadener!B266=\"\",\"\",Adhes_Sealer_Deadener!B266)","v":""},{"$f":"IF(Adhes_Sealer_Deadener!C266=\"\",\"\",Adhes_Sealer_Deadener!C266)","v":""},{"$f":"+Table10[[#This Row],[Column1]]&Table10[[#This Row],[Column2]]","v":""},{"$f":"IF(COUNTIF(V$2:V244,V244)=1,V244,\"\")","v":""},"","",null,{"$f":"+IF(AF244=\"\",\"\",MAX(AA$1:AA243)+1)","v":""},{"$f":"IF(CPMS2!B266=\"\",\"\",CPMS2!B266)","v":""},{"$f":"IF(CPMS2!C266=\"\",\"\",CPMS2!C266)","v":""},{"$f":"IF(CPMS2!D266=\"\",\"\",CPMS2!D266)","v":""},"",{"$f":"IF(COUNTIF(AE$2:AE244,AE244)=1,AE244,\"\")","v":""},"","","",null,null,null,null,null,null,null,null,null,null,null,null,null,null,null,null,null,null,null,null,null,null,null,null,null,null,null,null,null,null,null,null,null,{"$f":"+IF(BV244=\"\",\"\",MAX(BQ$1:BQ243)+1)","v":""},{"$f":"IF(OpLimit!B266=\"\",\"\",OpLimit!B266)","v":""},{"$f":"IF(OpLimit!C266=\"\",\"\",OpLimit!C266)","v":""},{"$f":"IF(OpLimit!E266=\"\",\"\",OpLimit!E266)","v":""},"",{"$f":"IF(COUNTIF(BU$2:BU244,BU244)=1,BU244,\"\")","v":""},"","","",""]
[null,null,null,null,null,null,null,null,null,null,{"$f":"+IF(N245=\"\",\"\",MAX(K$1:K244)+1)","v":""},{"$f":"IF(CPMS1!E267=\"\",\"\",CPMS1!E267)","v":""},"",{"$f":"IF(COUNTIF(L$2:L245,L245)=1,L245,\"\")","v":""},null,null,null,null,{"$f":"+IF(W245=\"\",\"\",MAX(S$1:S244)+1)","v":""},{"$f":"IF(Adhes_Sealer_Deadener!B267=\"\",\"\",Adhes_Sealer_Deadener!B267)","v":""},{"$f":"IF(Adhes_Sealer_Deadener!C267=\"\",\"\",Adhes_Sealer_Deadener!C267)","v":""},{"$f":"+Table10[[#This Row],[Column1]]&Table10[[#This Row],[Column2]]","v":""},{"$f":"IF(COUNTIF(V$2:V245,V245)=1,V245,\"\")","v":""},"","",null,{"$f":"+IF(AF245=\"\",\"\",MAX(AA$1:AA244)+1)","v":""},{"$f":"IF(CPMS2!B267=\"\",\"\",CPMS2!B267)","v":""},{"$f":"IF(CPMS2!C267=\"\",\"\",CPMS2!C267)","v":""},{"$f":"IF(CPMS2!D267=\"\",\"\",CPMS2!D267)","v":""},"",{"$f":"IF(COUNTIF(AE$2:AE245,AE245)=1,AE245,\"\")","v":""},"","","",null,null,null,null,null,null,null,null,null,null,null,null,null,null,null,null,null,null,null,null,null,null,null,null,null,null,null,null,null,null,null,null,null,{"$f":"+IF(BV245=\"\",\"\",MAX(BQ$1:BQ244)+1)","v":""},{"$f":"IF(OpLimit!B267=\"\",\"\",OpLimit!B267)","v":""},{"$f":"IF(OpLimit!C267=\"\",\"\",OpLimit!C267)","v":""},{"$f":"IF(OpLimit!E267=\"\",\"\",OpLimit!E267)","v":""},"",{"$f":"IF(COUNTIF(BU$2:BU245,BU245)=1,BU245,\"\")","v":""},"","","",""]
[null,null,null,null,null,null,null,null,null,null,{"$f":"+IF(N246=\"\",\"\",MAX(K$1:K245)+1)","v":""},{"$f":"IF(CPMS1!E268=\"\",\"\",CPMS1!E268)","v":""},"",{"$f":"IF(COUNTIF(L$2:L246,L246)=1,L246,\"\")","v":""},null,null,null,null,{"$f":"+IF(W246=\"\",\"\",MAX(S$1:S245)+1)","v":""},{"$f":"IF(Adhes_Sealer_Deadener!B268=\"\",\"\",Adhes_Sealer_Deadener!B268)","v":""},{"$f":"IF(Adhes_Sealer_Deadener!C268=\"\",\"\",Adhes_Sealer_Deadener!C268)","v":""},{"$f":"+Table10[[#This Row],[Column1]]&Table10[[#This Row],[Column2]]","v":""},{"$f":"IF(COUNTIF(V$2:V246,V246)=1,V246,\"\")","v":""},"","",null,{"$f":"+IF(AF246=\"\",\"\",MAX(AA$1:AA245)+1)","v":""},{"$f":"IF(CPMS2!B268=\"\",\"\",CPMS2!B268)","v":""},{"$f":"IF(CPMS2!C268=\"\",\"\",CPMS2!C268)","v":""},{"$f":"IF(CPMS2!D268=\"\",\"\",CPMS2!D268)","v":""},"",{"$f":"IF(COUNTIF(AE$2:AE246,AE246)=1,AE246,\"\")","v":""},"","","",null,null,null,null,null,null,null,null,null,null,null,null,null,null,null,null,null,null,null,null,null,null,null,null,null,null,null,null,null,null,null,null,null,{"$f":"+IF(BV246=\"\",\"\",MAX(BQ$1:BQ245)+1)","v":""},{"$f":"IF(OpLimit!B268=\"\",\"\",OpLimit!B268)","v":""},{"$f":"IF(OpLimit!C268=\"\",\"\",OpLimit!C268)","v":""},{"$f":"IF(OpLimit!E268=\"\",\"\",OpLimit!E268)","v":""},"",{"$f":"IF(COUNTIF(BU$2:BU246,BU246)=1,BU246,\"\")","v":""},"","","",""]
[null,null,null,null,null,null,null,null,null,null,{"$f":"+IF(N247=\"\",\"\",MAX(K$1:K246)+1)","v":""},{"$f":"IF(CPMS1!E269=\"\",\"\",CPMS1!E269)","v":""},"",{"$f":"IF(COUNTIF(L$2:L247,L247)=1,L247,\"\")","v":""},null,null,null,null,{"$f":"+IF(W247=\"\",\"\",MAX(S$1:S246)+1)","v":""},{"$f":"IF(Adhes_Sealer_Deadener!B269=\"\",\"\",Adhes_Sealer_Deadener!B269)","v":""},{"$f":"IF(Adhes_Sealer_Deadener!C269=\"\",\"\",Adhes_Sealer_Deadener!C269)","v":""},{"$f":"+Table10[[#This Row],[Column1]]&Table10[[#This Row],[Column2]]","v":""},{"$f":"IF(COUNTIF(V$2:V247,V247)=1,V247,\"\")","v":""},"","",null,{"$f":"+IF(AF247=\"\",\"\",MAX(AA$1:AA246)+1)","v":""},{"$f":"IF(CPMS2!B269=\"\",\"\",CPMS2!B269)","v":""},{"$f":"IF(CPMS2!C269=\"\",\"\",CPMS2!C269)","v":""},{"$f":"IF(CPMS2!D269=\"\",\"\",CPMS2!D269)","v":""},"",{"$f":"IF(COUNTIF(AE$2:AE247,AE247)=1,AE247,\"\")","v":""},"","","",null,null,null,null,null,null,null,null,null,null,null,null,null,null,null,null,null,null,null,null,null,null,null,null,null,null,null,null,null,null,null,null,null,{"$f":"+IF(BV247=\"\",\"\",MAX(BQ$1:BQ246)+1)","v":""},{"$f":"IF(OpLimit!B269=\"\",\"\",OpLimit!B269)","v":""},{"$f":"IF(OpLimit!C269=\"\",\"\",OpLimit!C269)","v":""},{"$f":"IF(OpLimit!E269=\"\",\"\",OpLimit!E269)","v":""},"",{"$f":"IF(COUNTIF(BU$2:BU247,BU247)=1,BU247,\"\")","v":""},"","","",""]
[null,null,null,null,null,null,null,null,null,null,{"$f":"+IF(N248=\"\",\"\",MAX(K$1:K247)+1)","v":""},{"$f":"IF(CPMS1!E270=\"\",\"\",CPMS1!E270)","v":""},"",{"$f":"IF(COUNTIF(L$2:L248,L248)=1,L248,\"\")","v":""},null,null,null,null,{"$f":"+IF(W248=\"\",\"\",MAX(S$1:S247)+1)","v":""},{"$f":"IF(Adhes_Sealer_Deadener!B270=\"\",\"\",Adhes_Sealer_Deadener!B270)","v":""},{"$f":"IF(Adhes_Sealer_Deadener!C270=\"\",\"\",Adhes_Sealer_Deadener!C270)","v":""},{"$f":"+Table10[[#This Row],[Column1]]&Table10[[#This Row],[Column2]]","v":""},{"$f":"IF(COUNTIF(V$2:V248,V248)=1,V248,\"\")","v":""},"","",null,{"$f":"+IF(AF248=\"\",\"\",MAX(AA$1:AA247)+1)","v":""},{"$f":"IF(CPMS2!B270=\"\",\"\",CPMS2!B270)","v":""},{"$f":"IF(CPMS2!C270=\"\",\"\",CPMS2!C270)","v":""},{"$f":"IF(CPMS2!D270=\"\",\"\",CPMS2!D270)","v":""},"",{"$f":"IF(COUNTIF(AE$2:AE248,AE248)=1,AE248,\"\")","v":""},"","","",null,null,null,null,null,null,null,null,null,null,null,null,null,null,null,null,null,null,null,null,null,null,null,null,null,null,null,null,null,null,null,null,null,{"$f":"+IF(BV248=\"\",\"\",MAX(BQ$1:BQ247)+1)","v":""},{"$f":"IF(OpLimit!B270=\"\",\"\",OpLimit!B270)","v":""},{"$f":"IF(OpLimit!C270=\"\",\"\",OpLimit!C270)","v":""},{"$f":"IF(OpLimit!E270=\"\",\"\",OpLimit!E270)","v":""},"",{"$f":"IF(COUNTIF(BU$2:BU248,BU248)=1,BU248,\"\")","v":""},"","","",""]
[null,null,null,null,null,null,null,null,null,null,{"$f":"+IF(N249=\"\",\"\",MAX(K$1:K248)+1)","v":""},{"$f":"IF(CPMS1!E271=\"\",\"\",CPMS1!E271)","v":""},"",{"$f":"IF(COUNTIF(L$2:L249,L249)=1,L249,\"\")","v":""},null,null,null,null,{"$f":"+IF(W249=\"\",\"\",MAX(S$1:S248)+1)","v":""},{"$f":"IF(Adhes_Sealer_Deadener!B271=\"\",\"\",Adhes_Sealer_Deadener!B271)","v":""},{"$f":"IF(Adhes_Sealer_Deadener!C271=\"\",\"\",Adhes_Sealer_Deadener!C271)","v":""},{"$f":"+Table10[[#This Row],[Column1]]&Table10[[#This Row],[Column2]]","v":""},{"$f":"IF(COUNTIF(V$2:V249,V249)=1,V249,\"\")","v":""},"","",null,{"$f":"+IF(AF249=\"\",\"\",MAX(AA$1:AA248)+1)","v":""},{"$f":"IF(CPMS2!B271=\"\",\"\",CPMS2!B271)","v":""},{"$f":"IF(CPMS2!C271=\"\",\"\",CPMS2!C271)","v":""},{"$f":"IF(CPMS2!D271=\"\",\"\",CPMS2!D271)","v":""},"",{"$f":"IF(COUNTIF(AE$2:AE249,AE249)=1,AE249,\"\")","v":""},"","","",null,null,null,null,null,null,null,null,null,null,null,null,null,null,null,null,null,null,null,null,null,null,null,null,null,null,null,null,null,null,null,null,null,{"$f":"+IF(BV249=\"\",\"\",MAX(BQ$1:BQ248)+1)","v":""},{"$f":"IF(OpLimit!B271=\"\",\"\",OpLimit!B271)","v":""},{"$f":"IF(OpLimit!C271=\"\",\"\",OpLimit!C271)","v":""},{"$f":"IF(OpLimit!E271=\"\",\"\",OpLimit!E271)","v":""},"",{"$f":"IF(COUNTIF(BU$2:BU249,BU249)=1,BU249,\"\")","v":""},"","","",""]
[null,null,null,null,null,null,null,null,null,null,{"$f":"+IF(N250=\"\",\"\",MAX(K$1:K249)+1)","v":""},{"$f":"IF(CPMS1!E272=\"\",\"\",CPMS1!E272)","v":""},"",{"$f":"IF(COUNTIF(L$2:L250,L250)=1,L250,\"\")","v":""},null,null,null,null,{"$f":"+IF(W250=\"\",\"\",MAX(S$1:S249)+1)","v":""},{"$f":"IF(Adhes_Sealer_Deadener!B272=\"\",\"\",Adhes_Sealer_Deadener!B272)","v":""},{"$f":"IF(Adhes_Sealer_Deadener!C272=\"\",\"\",Adhes_Sealer_Deadener!C272)","v":""},{"$f":"+Table10[[#This Row],[Column1]]&Table10[[#This Row],[Column2]]","v":""},{"$f":"IF(COUNTIF(V$2:V250,V250)=1,V250,\"\")","v":""},"","",null,{"$f":"+IF(AF250=\"\",\"\",MAX(AA$1:AA249)+1)","v":""},{"$f":"IF(CPMS2!B272=\"\",\"\",CPMS2!B272)","v":""},{"$f":"IF(CPMS2!C272=\"\",\"\",CPMS2!C272)","v":""},{"$f":"IF(CPMS2!D272=\"\",\"\",CPMS2!D272)","v":""},"",{"$f":"IF(COUNTIF(AE$2:AE250,AE250)=1,AE250,\"\")","v":""},"","","",null,null,null,null,null,null,null,null,null,null,null,null,null,null,null,null,null,null,null,null,null,null,null,null,null,null,null,null,null,null,null,null,null,{"$f":"+IF(BV250=\"\",\"\",MAX(BQ$1:BQ249)+1)","v":""},{"$f":"IF(OpLimit!B272=\"\",\"\",OpLimit!B272)","v":""},{"$f":"IF(OpLimit!C272=\"\",\"\",OpLimit!C272)","v":""},{"$f":"IF(OpLimit!E272=\"\",\"\",OpLimit!E272)","v":""},"",{"$f":"IF(COUNTIF(BU$2:BU250,BU250)=1,BU250,\"\")","v":""},"","","",""]
[null,null,null,null,null,null,null,null,null,null,{"$f":"+IF(N251=\"\",\"\",MAX(K$1:K250)+1)","v":""},{"$f":"IF(CPMS1!E273=\"\",\"\",CPMS1!E273)","v":""},"",{"$f":"IF(COUNTIF(L$2:L251,L251)=1,L251,\"\")","v":""},null,null,null,null,{"$f":"+IF(W251=\"\",\"\",MAX(S$1:S250)+1)","v":""},{"$f":"IF(Adhes_Sealer_Deadener!B273=\"\",\"\",Adhes_Sealer_Deadener!B273)","v":""},{"$f":"IF(Adhes_Sealer_Deadener!C273=\"\",\"\",Adhes_Sealer_Deadener!C273)","v":""},{"$f":"+Table10[[#This Row],[Column1]]&Table10[[#This Row],[Column2]]","v":""},{"$f":"IF(COUNTIF(V$2:V251,V251)=1,V251,\"\")","v":""},"","",null,{"$f":"+IF(AF251=\"\",\"\",MAX(AA$1:AA250)+1)","v":""},{"$f":"IF(CPMS2!B273=\"\",\"\",CPMS2!B273)","v":""},{"$f":"IF(CPMS2!C273=\"\",\"\",CPMS2!C273)","v":""},{"$f":"IF(CPMS2!D273=\"\",\"\",CPMS2!D273)","v":""},"",{"$f":"IF(COUNTIF(AE$2:AE251,AE251)=1,AE251,\"\")","v":""},"","","",null,null,null,null,null,null,null,null,null,null,null,null,null,null,null,null,null,null,null,null,null,null,null,null,null,null,null,null,null,null,null,null,null,{"$f":"+IF(BV251=\"\",\"\",MAX(BQ$1:BQ250)+1)","v":""},{"$f":"IF(OpLimit!B273=\"\",\"\",OpLimit!B273)","v":""},{"$f":"IF(OpLimit!C273=\"\",\"\",OpLimit!C273)","v":""},{"$f":"IF(OpLimit!E273=\"\",\"\",OpLimit!E273)","v":""},"",{"$f":"IF(COUNTIF(BU$2:BU251,BU251)=1,BU251,\"\")","v":""},"","","",""]
[null,null,null,null,null,null,null,null,null,null,{"$f":"+IF(N252=\"\",\"\",MAX(K$1:K251)+1)","v":""},{"$f":"IF(CPMS1!E274=\"\",\"\",CPMS1!E274)","v":""},"",{"$f":"IF(COUNTIF(L$2:L252,L252)=1,L252,\"\")","v":""},null,null,null,null,{"$f":"+IF(W252=\"\",\"\",MAX(S$1:S251)+1)","v":""},{"$f":"IF(Adhes_Sealer_Deadener!B274=\"\",\"\",Adhes_Sealer_Deadener!B274)","v":""},{"$f":"IF(Adhes_Sealer_Deadener!C274=\"\",\"\",Adhes_Sealer_Deadener!C274)","v":""},{"$f":"+Table10[[#This Row],[Column1]]&Table10[[#This Row],[Column2]]","v":""},{"$f":"IF(COUNTIF(V$2:V252,V252)=1,V252,\"\")","v":""},"","",null,{"$f":"+IF(AF252=\"\",\"\",MAX(AA$1:AA251)+1)","v":""},{"$f":"IF(CPMS2!B274=\"\",\"\",CPMS2!B274)","v":""},{"$f":"IF(CPMS2!C274=\"\",\"\",CPMS2!C274)","v":""},{"$f":"IF(CPMS2!D274=\"\",\"\",CPMS2!D274)","v":""},"",{"$f":"IF(COUNTIF(AE$2:AE252,AE252)=1,AE252,\"\")","v":""},"","","",null,null,null,null,null,null,null,null,null,null,null,null,null,null,null,null,null,null,null,null,null,null,null,null,null,null,null,null,null,null,null,null,null,{"$f":"+IF(BV252=\"\",\"\",MAX(BQ$1:BQ251)+1)","v":""},{"$f":"IF(OpLimit!B274=\"\",\"\",OpLimit!B274)","v":""},{"$f":"IF(OpLimit!C274=\"\",\"\",OpLimit!C274)","v":""},{"$f":"IF(OpLimit!E274=\"\",\"\",OpLimit!E274)","v":""},"",{"$f":"IF(COUNTIF(BU$2:BU252,BU252)=1,BU252,\"\")","v":""},"","","",""]
[null,null,null,null,null,null,null,null,null,null,{"$f":"+IF(N253=\"\",\"\",MAX(K$1:K252)+1)","v":""},{"$f":"IF(CPMS1!E275=\"\",\"\",CPMS1!E275)","v":""},"",{"$f":"IF(COUNTIF(L$2:L253,L253)=1,L253,\"\")","v":""},null,null,null,null,{"$f":"+IF(W253=\"\",\"\",MAX(S$1:S252)+1)","v":""},{"$f":"IF(Adhes_Sealer_Deadener!B275=\"\",\"\",Adhes_Sealer_Deadener!B275)","v":""},{"$f":"IF(Adhes_Sealer_Deadener!C275=\"\",\"\",Adhes_Sealer_Deadener!C275)","v":""},{"$f":"+Table10[[#This Row],[Column1]]&Table10[[#This Row],[Column2]]","v":""},{"$f":"IF(COUNTIF(V$2:V253,V253)=1,V253,\"\")","v":""},"","",null,{"$f":"+IF(AF253=\"\",\"\",MAX(AA$1:AA252)+1)","v":""},{"$f":"IF(CPMS2!B275=\"\",\"\",CPMS2!B275)","v":""},{"$f":"IF(CPMS2!C275=\"\",\"\",CPMS2!C275)","v":""},{"$f":"IF(CPMS2!D275=\"\",\"\",CPMS2!D275)","v":""},"",{"$f":"IF(COUNTIF(AE$2:AE253,AE253)=1,AE253,\"\")","v":""},"","","",null,null,null,null,null,null,null,null,null,null,null,null,null,null,null,null,null,null,null,null,null,null,null,null,null,null,null,null,null,null,null,null,null,{"$f":"+IF(BV253=\"\",\"\",MAX(BQ$1:BQ252)+1)","v":""},{"$f":"IF(OpLimit!B275=\"\",\"\",OpLimit!B275)","v":""},{"$f":"IF(OpLimit!C275=\"\",\"\",OpLimit!C275)","v":""},{"$f":"IF(OpLimit!E275=\"\",\"\",OpLimit!E275)","v":""},"",{"$f":"IF(COUNTIF(BU$2:BU253,BU253)=1,BU253,\"\")","v":""},"","","",""]
[null,null,null,null,null,null,null,null,null,null,{"$f":"+IF(N254=\"\",\"\",MAX(K$1:K253)+1)","v":""},{"$f":"IF(CPMS1!E276=\"\",\"\",CPMS1!E276)","v":""},"",{"$f":"IF(COUNTIF(L$2:L254,L254)=1,L254,\"\")","v":""},null,null,null,null,{"$f":"+IF(W254=\"\",\"\",MAX(S$1:S253)+1)","v":""},{"$f":"IF(Adhes_Sealer_Deadener!B276=\"\",\"\",Adhes_Sealer_Deadener!B276)","v":""},{"$f":"IF(Adhes_Sealer_Deadener!C276=\"\",\"\",Adhes_Sealer_Deadener!C276)","v":""},{"$f":"+Table10[[#This Row],[Column1]]&Table10[[#This Row],[Column2]]","v":""},{"$f":"IF(COUNTIF(V$2:V254,V254)=1,V254,\"\")","v":""},"","",null,{"$f":"+IF(AF254=\"\",\"\",MAX(AA$1:AA253)+1)","v":""},{"$f":"IF(CPMS2!B276=\"\",\"\",CPMS2!B276)","v":""},{"$f":"IF(CPMS2!C276=\"\",\"\",CPMS2!C276)","v":""},{"$f":"IF(CPMS2!D276=\"\",\"\",CPMS2!D276)","v":""},"",{"$f":"IF(COUNTIF(AE$2:AE254,AE254)=1,AE254,\"\")","v":""},"","","",null,null,null,null,null,null,null,null,null,null,null,null,null,null,null,null,null,null,null,null,null,null,null,null,null,null,null,null,null,null,null,null,null,{"$f":"+IF(BV254=\"\",\"\",MAX(BQ$1:BQ253)+1)","v":""},{"$f":"IF(OpLimit!B276=\"\",\"\",OpLimit!B276)","v":""},{"$f":"IF(OpLimit!C276=\"\",\"\",OpLimit!C276)","v":""},{"$f":"IF(OpLimit!E276=\"\",\"\",OpLimit!E276)","v":""},"",{"$f":"IF(COUNTIF(BU$2:BU254,BU254)=1,BU254,\"\")","v":""},"","","",""]
[null,null,null,null,null,null,null,null,null,null,{"$f":"+IF(N255=\"\",\"\",MAX(K$1:K254)+1)","v":""},{"$f":"IF(CPMS1!E277=\"\",\"\",CPMS1!E277)","v":""},"",{"$f":"IF(COUNTIF(L$2:L255,L255)=1,L255,\"\")","v":""},null,null,null,null,{"$f":"+IF(W255=\"\",\"\",MAX(S$1:S254)+1)","v":""},{"$f":"IF(Adhes_Sealer_Deadener!B277=\"\",\"\",Adhes_Sealer_Deadener!B277)","v":""},{"$f":"IF(Adhes_Sealer_Deadener!C277=\"\",\"\",Adhes_Sealer_Deadener!C277)","v":""},{"$f":"+Table10[[#This Row],[Column1]]&Table10[[#This Row],[Column2]]","v":""},{"$f":"IF(COUNTIF(V$2:V255,V255)=1,V255,\"\")","v":""},"","",null,{"$f":"+IF(AF255=\"\",\"\",MAX(AA$1:AA254)+1)","v":""},{"$f":"IF(CPMS2!B277=\"\",\"\",CPMS2!B277)","v":""},{"$f":"IF(CPMS2!C277=\"\",\"\",CPMS2!C277)","v":""},{"$f":"IF(CPMS2!D277=\"\",\"\",CPMS2!D277)","v":""},"",{"$f":"IF(COUNTIF(AE$2:AE255,AE255)=1,AE255,\"\")","v":""},"","","",null,null,null,null,null,null,null,null,null,null,null,null,null,null,null,null,null,null,null,null,null,null,null,null,null,null,null,null,null,null,null,null,null,{"$f":"+IF(BV255=\"\",\"\",MAX(BQ$1:BQ254)+1)","v":""},{"$f":"IF(OpLimit!B277=\"\",\"\",OpLimit!B277)","v":""},{"$f":"IF(OpLimit!C277=\"\",\"\",OpLimit!C277)","v":""},{"$f":"IF(OpLimit!E277=\"\",\"\",OpLimit!E277)","v":""},"",{"$f":"IF(COUNTIF(BU$2:BU255,BU255)=1,BU255,\"\")","v":""},"","","",""]
[null,null,null,null,null,null,null,null,null,null,{"$f":"+IF(N256=\"\",\"\",MAX(K$1:K255)+1)","v":""},{"$f":"IF(CPMS1!E278=\"\",\"\",CPMS1!E278)","v":""},"",{"$f":"IF(COUNTIF(L$2:L256,L256)=1,L256,\"\")","v":""},null,null,null,null,{"$f":"+IF(W256=\"\",\"\",MAX(S$1:S255)+1)","v":""},{"$f":"IF(Adhes_Sealer_Deadener!B278=\"\",\"\",Adhes_Sealer_Deadener!B278)","v":""},{"$f":"IF(Adhes_Sealer_Deadener!C278=\"\",\"\",Adhes_Sealer_Deadener!C278)","v":""},{"$f":"+Table10[[#This Row],[Column1]]&Table10[[#This Row],[Column2]]","v":""},{"$f":"IF(COUNTIF(V$2:V256,V256)=1,V256,\"\")","v":""},"","",null,{"$f":"+IF(AF256=\"\",\"\",MAX(AA$1:AA255)+1)","v":""},{"$f":"IF(CPMS2!B278=\"\",\"\",CPMS2!B278)","v":""},{"$f":"IF(CPMS2!C278=\"\",\"\",CPMS2!C278)","v":""},{"$f":"IF(CPMS2!D278=\"\",\"\",CPMS2!D278)","v":""},"",{"$f":"IF(COUNTIF(AE$2:AE256,AE256)=1,AE256,\"\")","v":""},"","","",null,null,null,null,null,null,null,null,null,null,null,null,null,null,null,null,null,null,null,null,null,null,null,null,null,null,null,null,null,null,null,null,null,{"$f":"+IF(BV256=\"\",\"\",MAX(BQ$1:BQ255)+1)","v":""},{"$f":"IF(OpLimit!B278=\"\",\"\",OpLimit!B278)","v":""},{"$f":"IF(OpLimit!C278=\"\",\"\",OpLimit!C278)","v":""},{"$f":"IF(OpLimit!E278=\"\",\"\",OpLimit!E278)","v":""},"",{"$f":"IF(COUNTIF(BU$2:BU256,BU256)=1,BU256,\"\")","v":""},"","","",""]
[null,null,null,null,null,null,null,null,null,null,{"$f":"+IF(N257=\"\",\"\",MAX(K$1:K256)+1)","v":""},{"$f":"IF(CPMS1!E279=\"\",\"\",CPMS1!E279)","v":""},"",{"$f":"IF(COUNTIF(L$2:L257,L257)=1,L257,\"\")","v":""},null,null,null,null,{"$f":"+IF(W257=\"\",\"\",MAX(S$1:S256)+1)","v":""},{"$f":"IF(Adhes_Sealer_Deadener!B279=\"\",\"\",Adhes_Sealer_Deadener!B279)","v":""},{"$f":"IF(Adhes_Sealer_Deadener!C279=\"\",\"\",Adhes_Sealer_Deadener!C279)","v":""},{"$f":"+Table10[[#This Row],[Column1]]&Table10[[#This Row],[Column2]]","v":""},{"$f":"IF(COUNTIF(V$2:V257,V257)=1,V257,\"\")","v":""},"","",null,{"$f":"+IF(AF257=\"\",\"\",MAX(AA$1:AA256)+1)","v":""},{"$f":"IF(CPMS2!B279=\"\",\"\",CPMS2!B279)","v":""},{"$f":"IF(CPMS2!C279=\"\",\"\",CPMS2!C279)","v":""},{"$f":"IF(CPMS2!D279=\"\",\"\",CPMS2!D279)","v":""},"",{"$f":"IF(COUNTIF(AE$2:AE257,AE257)=1,AE257,\"\")","v":""},"","","",null,null,null,null,null,null,null,null,null,null,null,null,null,null,null,null,null,null,null,null,null,null,null,null,null,null,null,null,null,null,null,null,null,{"$f":"+IF(BV257=\"\",\"\",MAX(BQ$1:BQ256)+1)","v":""},{"$f":"IF(OpLimit!B279=\"\",\"\",OpLimit!B279)","v":""},{"$f":"IF(OpLimit!C279=\"\",\"\",OpLimit!C279)","v":""},{"$f":"IF(OpLimit!E279=\"\",\"\",OpLimit!E279)","v":""},"",{"$f":"IF(COUNTIF(BU$2:BU257,BU257)=1,BU257,\"\")","v":""},"","","",""]
[null,null,null,null,null,null,null,null,null,null,{"$f":"+IF(N258=\"\",\"\",MAX(K$1:K257)+1)","v":""},{"$f":"IF(CPMS1!E280=\"\",\"\",CPMS1!E280)","v":""},{"$f":"+IFERROR(INDEX($L$2:$L$501,MATCH(ROW()-ROW($M$1),$K$2:$K$501,0)),\"\")","v":""},{"$f":"IF(COUNTIF(L$2:L258,L258)=1,L258,\"\")","v":""},null,null,null,null,{"$f":"+IF(W258=\"\",\"\",MAX(S$1:S257)+1)","v":""},{"$f":"IF(Adhes_Sealer_Deadener!B280=\"\",\"\",Adhes_Sealer_Deadener!B280)","v":""},{"$f":"IF(Adhes_Sealer_Deadener!C280=\"\",\"\",Adhes_Sealer_Deadener!C280)","v":""},{"$f":"+Table10[[#This Row],[Column1]]&Table10[[#This Row],[Column2]]","v":""},{"$f":"IF(COUNTIF(V$2:V258,V258)=1,V258,\"\")","v":""},"","",null,{"$f":"+IF(AF258=\"\",\"\",MAX(AA$1:AA257)+1)","v":""},{"$f":"IF(CPMS2!B280=\"\",\"\",CPMS2!B280)","v":""},{"$f":"IF(CPMS2!C280=\"\",\"\",CPMS2!C280)","v":""},{"$f":"IF(CPMS2!D280=\"\",\"\",CPMS2!D280)","v":""},"",{"$f":"IF(COUNTIF(AE$2:AE258,AE258)=1,AE258,\"\")","v":""},"","","",null,null,null,null,null,null,null,null,null,null,null,null,null,null,null,null,null,null,null,null,null,null,null,null,null,null,null,null,null,null,null,null,null,{"$f":"+IF(BV258=\"\",\"\",MAX(BQ$1:BQ257)+1)","v":""},{"$f":"IF(OpLimit!B280=\"\",\"\",OpLimit!B280)","v":""},{"$f":"IF(OpLimit!C280=\"\",\"\",OpLimit!C280)","v":""},{"$f":"IF(OpLimit!E280=\"\",\"\",OpLimit!E280)","v":""},"",{"$f":"IF(COUNTIF(BU$2:BU258,BU258)=1,BU258,\"\")","v":""},"","","",""]
[null,null,null,null,null,null,null,null,null,null,{"$f":"+IF(N259=\"\",\"\",MAX(K$1:K258)+1)","v":""},{"$f":"IF(CPMS1!E281=\"\",\"\",CPMS1!E281)","v":""},"",{"$f":"IF(COUNTIF(L$2:L259,L259)=1,L259,\"\")","v":""},null,null,null,null,{"$f":"+IF(W259=\"\",\"\",MAX(S$1:S258)+1)","v":""},{"$f":"IF(Adhes_Sealer_Deadener!B281=\"\",\"\",Adhes_Sealer_Deadener!B281)","v":""},{"$f":"IF(Adhes_Sealer_Deadener!C281=\"\",\"\",Adhes_Sealer_Deadener!C281)","v":""},{"$f":"+Table10[[#This Row],[Column1]]&Table10[[#This Row],[Column2]]","v":""},{"$f":"IF(COUNTIF(V$2:V259,V259)=1,V259,\"\")","v":""},"","",null,{"$f":"+IF(AF259=\"\",\"\",MAX(AA$1:AA258)+1)","v":""},{"$f":"IF(CPMS2!B281=\"\",\"\",CPMS2!B281)","v":""},{"$f":"IF(CPMS2!C281=\"\",\"\",CPMS2!C281)","v":""},{"$f":"IF(CPMS2!D281=\"\",\"\",CPMS2!D281)","v":""},{"$f":"AB259&AC259&AD259","v":""},{"$f":"IF(COUNTIF(AE$2:AE259,AE259)=1,AE259,\"\")","v":""},{"$f":"+IFERROR(INDEX($AB$2:$AB$478,MATCH(ROW()-ROW($AF$1),$AA$2:$AA$478,0)),\"\")","v":""},{"$f":"+IFERROR(INDEX($AC$2:$AC$478,MATCH(ROW()-ROW($AF$1),$AA$2:$AA$478,0)),\"\")","v":""},{"$f":"+IFERROR(INDEX($AD$2:$AD$478,MATCH(ROW()-ROW($AF$1),$AA$2:$AA$478,0)),\"\")","v":""},null,null,null,null,null,null,null,null,null,null,null,null,null,null,null,null,null,null,null,null,null,null,null,null,null,null,null,null,null,null,null,null,null,{"$f":"+IF(BV259=\"\",\"\",MAX(BQ$1:BQ258)+1)","v":""},{"$f":"IF(OpLimit!B281=\"\",\"\",OpLimit!B281)","v":""},{"$f":"IF(OpLimit!C281=\"\",\"\",OpLimit!C281)","v":""},{"$f":"IF(OpLimit!E281=\"\",\"\",OpLimit!E281)","v":""},{"$f":"BR259&BS259&BT259","v":""},{"$f":"IF(COUNTIF(BU$2:BU259,BU259)=1,BU259,\"\")","v":""},{"$f":"IF(BX259=\"\",\"\",BX259&\" \"&BY259&\" \"&BZ259)","v":""},{"$f":"+IFERROR(INDEX($BR$2:$BR$478,MATCH(ROW()-ROW($BV$1),$BQ$2:$BQ$478,0)),\"\")","v":""},{"$f":"+IFERROR(INDEX($BS$2:$BS$478,MATCH(ROW()-ROW($BV$1),$BQ$2:$BQ$478,0)),\"\")","v":""},{"$f":"+IFERROR(INDEX($BT$2:$BT$478,MATCH(ROW()-ROW($BV$1),$BQ$2:$BQ$478,0)),\"\")","v":""}]
[null,null,null,null,null,null,null,null,null,null,{"$f":"+IF(N260=\"\",\"\",MAX(K$1:K259)+1)","v":""},{"$f":"IF(CPMS1!E282=\"\",\"\",CPMS1!E282)","v":""},"",{"$f":"IF(COUNTIF(L$2:L260,L260)=1,L260,\"\")","v":""},null,null,null,null,{"$f":"+IF(W260=\"\",\"\",MAX(S$1:S259)+1)","v":""},{"$f":"IF(Adhes_Sealer_Deadener!B282=\"\",\"\",Adhes_Sealer_Deadener!B282)","v":""},{"$f":"IF(Adhes_Sealer_Deadener!C282=\"\",\"\",Adhes_Sealer_Deadener!C282)","v":""},{"$f":"+Table10[[#This Row],[Column1]]&Table10[[#This Row],[Column2]]","v":""},{"$f":"IF(COUNTIF(V$2:V260,V260)=1,V260,\"\")","v":""},"","",null,{"$f":"+IF(AF260=\"\",\"\",MAX(AA$1:AA259)+1)","v":""},{"$f":"IF(CPMS2!B282=\"\",\"\",CPMS2!B282)","v":""},{"$f":"IF(CPMS2!C282=\"\",\"\",CPMS2!C282)","v":""},{"$f":"IF(CPMS2!D282=\"\",\"\",CPMS2!D282)","v":""},"",{"$f":"IF(COUNTIF(AE$2:AE260,AE260)=1,AE260,\"\")","v":""},"","","",null,null,null,null,null,null,null,null,null,null,null,null,null,null,null,null,null,null,null,null,null,null,null,null,null,null,null,null,null,null,null,null,null,{"$f":"+IF(BV260=\"\",\"\",MAX(BQ$1:BQ259)+1)","v":""},{"$f":"IF(OpLimit!B282=\"\",\"\",OpLimit!B282)","v":""},{"$f":"IF(OpLimit!C282=\"\",\"\",OpLimit!C282)","v":""},{"$f":"IF(OpLimit!E282=\"\",\"\",OpLimit!E282)","v":""},"",{"$f":"IF(COUNTIF(BU$2:BU260,BU260)=1,BU260,\"\")","v":""},"","","",""]
[null,null,null,null,null,null,null,null,null,null,{"$f":"+IF(N261=\"\",\"\",MAX(K$1:K260)+1)","v":""},{"$f":"IF(CPMS1!E283=\"\",\"\",CPMS1!E283)","v":""},"",{"$f":"IF(COUNTIF(L$2:L261,L261)=1,L261,\"\")","v":""},null,null,null,null,{"$f":"+IF(W261=\"\",\"\",MAX(S$1:S260)+1)","v":""},{"$f":"IF(Adhes_Sealer_Deadener!B283=\"\",\"\",Adhes_Sealer_Deadener!B283)","v":""},{"$f":"IF(Adhes_Sealer_Deadener!C283=\"\",\"\",Adhes_Sealer_Deadener!C283)","v":""},{"$f":"+Table10[[#This Row],[Column1]]&Table10[[#This Row],[Column2]]","v":""},{"$f":"IF(COUNTIF(V$2:V261,V261)=1,V261,\"\")","v":""},"","",null,{"$f":"+IF(AF261=\"\",\"\",MAX(AA$1:AA260)+1)","v":""},{"$f":"IF(CPMS2!B283=\"\",\"\",CPMS2!B283)","v":""},{"$f":"IF(CPMS2!C283=\"\",\"\",CPMS2!C283)","v":""},{"$f":"IF(CPMS2!D283=\"\",\"\",CPMS2!D283)","v":""},"",{"$f":"IF(COUNTIF(AE$2:AE261,AE261)=1,AE261,\"\")","v":""},"","","",null,null,null,null,null,null,null,null,null,null,null,null,null,null,null,null,null,null,null,null,null,null,null,null,null,null,null,null,null,null,null,null,null,{"$f":"+IF(BV261=\"\",\"\",MAX(BQ$1:BQ260)+1)","v":""},{"$f":"IF(OpLimit!B283=\"\",\"\",OpLimit!B283)","v":""},{"$f":"IF(OpLimit!C283=\"\",\"\",OpLimit!C283)","v":""},{"$f":"IF(OpLimit!E283=\"\",\"\",OpLimit!E283)","v":""},"",{"$f":"IF(COUNTIF(BU$2:BU261,BU261)=1,BU261,\"\")","v":""},"","","",""]
[null,null,null,null,null,null,null,null,null,null,{"$f":"+IF(N262=\"\",\"\",MAX(K$1:K261)+1)","v":""},{"$f":"IF(CPMS1!E284=\"\",\"\",CPMS1!E284)","v":""},"",{"$f":"IF(COUNTIF(L$2:L262,L262)=1,L262,\"\")","v":""},null,null,null,null,{"$f":"+IF(W262=\"\",\"\",MAX(S$1:S261)+1)","v":""},{"$f":"IF(Adhes_Sealer_Deadener!B284=\"\",\"\",Adhes_Sealer_Deadener!B284)","v":""},{"$f":"IF(Adhes_Sealer_Deadener!C284=\"\",\"\",Adhes_Sealer_Deadener!C284)","v":""},{"$f":"+Table10[[#This Row],[Column1]]&Table10[[#This Row],[Column2]]","v":""},{"$f":"IF(COUNTIF(V$2:V262,V262)=1,V262,\"\")","v":""},"","",null,{"$f":"+IF(AF262=\"\",\"\",MAX(AA$1:AA261)+1)","v":""},{"$f":"IF(CPMS2!B284=\"\",\"\",CPMS2!B284)","v":""},{"$f":"IF(CPMS2!C284=\"\",\"\",CPMS2!C284)","v":""},{"$f":"IF(CPMS2!D284=\"\",\"\",CPMS2!D284)","v":""},"",{"$f":"IF(COUNTIF(AE$2:AE262,AE262)=1,AE262,\"\")","v":""},"","","",null,null,null,null,null,null,null,null,null,null,null,null,null,null,null,null,null,null,null,null,null,null,null,null,null,null,null,null,null,null,null,null,null,{"$f":"+IF(BV262=\"\",\"\",MAX(BQ$1:BQ261)+1)","v":""},{"$f":"IF(OpLimit!B284=\"\",\"\",OpLimit!B284)","v":""},{"$f":"IF(OpLimit!C284=\"\",\"\",OpLimit!C284)","v":""},{"$f":"IF(OpLimit!E284=\"\",\"\",OpLimit!E284)","v":""},"",{"$f":"IF(COUNTIF(BU$2:BU262,BU262)=1,BU262,\"\")","v":""},"","","",""]
[null,null,null,null,null,null,null,null,null,null,{"$f":"+IF(N263=\"\",\"\",MAX(K$1:K262)+1)","v":""},{"$f":"IF(CPMS1!E285=\"\",\"\",CPMS1!E285)","v":""},"",{"$f":"IF(COUNTIF(L$2:L263,L263)=1,L263,\"\")","v":""},null,null,null,null,{"$f":"+IF(W263=\"\",\"\",MAX(S$1:S262)+1)","v":""},{"$f":"IF(Adhes_Sealer_Deadener!B285=\"\",\"\",Adhes_Sealer_Deadener!B285)","v":""},{"$f":"IF(Adhes_Sealer_Deadener!C285=\"\",\"\",Adhes_Sealer_Deadener!C285)","v":""},{"$f":"+Table10[[#This Row],[Column1]]&Table10[[#This Row],[Column2]]","v":""},{"$f":"IF(COUNTIF(V$2:V263,V263)=1,V263,\"\")","v":""},"","",null,{"$f":"+IF(AF263=\"\",\"\",MAX(AA$1:AA262)+1)","v":""},{"$f":"IF(CPMS2!B285=\"\",\"\",CPMS2!B285)","v":""},{"$f":"IF(CPMS2!C285=\"\",\"\",CPMS2!C285)","v":""},{"$f":"IF(CPMS2!D285=\"\",\"\",CPMS2!D285)","v":""},"",{"$f":"IF(COUNTIF(AE$2:AE263,AE263)=1,AE263,\"\")","v":""},"","","",null,null,null,null,null,null,null,null,null,null,null,null,null,null,null,null,null,null,null,null,null,null,null,null,null,null,null,null,null,null,null,null,null,{"$f":"+IF(BV263=\"\",\"\",MAX(BQ$1:BQ262)+1)","v":""},{"$f":"IF(OpLimit!B285=\"\",\"\",OpLimit!B285)","v":""},{"$f":"IF(OpLimit!C285=\"\",\"\",OpLimit!C285)","v":""},{"$f":"IF(OpLimit!E285=\"\",\"\",OpLimit!E285)","v":""},"",{"$f":"IF(COUNTIF(BU$2:BU263,BU263)=1,BU263,\"\")","v":""},"","","",""]
[null,null,null,null,null,null,null,null,null,null,{"$f":"+IF(N264=\"\",\"\",MAX(K$1:K263)+1)","v":""},{"$f":"IF(CPMS1!E286=\"\",\"\",CPMS1!E286)","v":""},"",{"$f":"IF(COUNTIF(L$2:L264,L264)=1,L264,\"\")","v":""},null,null,null,null,{"$f":"+IF(W264=\"\",\"\",MAX(S$1:S263)+1)","v":""},{"$f":"IF(Adhes_Sealer_Deadener!B286=\"\",\"\",Adhes_Sealer_Deadener!B286)","v":""},{"$f":"IF(Adhes_Sealer_Deadener!C286=\"\",\"\",Adhes_Sealer_Deadener!C286)","v":""},{"$f":"+Table10[[#This Row],[Column1]]&Table10[[#This Row],[Column2]]","v":""},{"$f":"IF(COUNTIF(V$2:V264,V264)=1,V264,\"\")","v":""},"","",null,{"$f":"+IF(AF264=\"\",\"\",MAX(AA$1:AA263)+1)","v":""},{"$f":"IF(CPMS2!B286=\"\",\"\",CPMS2!B286)","v":""},{"$f":"IF(CPMS2!C286=\"\",\"\",CPMS2!C286)","v":""},{"$f":"IF(CPMS2!D286=\"\",\"\",CPMS2!D286)","v":""},"",{"$f":"IF(COUNTIF(AE$2:AE264,AE264)=1,AE264,\"\")","v":""},"","","",null,null,null,null,null,null,null,null,null,null,null,null,null,null,null,null,null,null,null,null,null,null,null,null,null,null,null,null,null,null,null,null,null,{"$f":"+IF(BV264=\"\",\"\",MAX(BQ$1:BQ263)+1)","v":""},{"$f":"IF(OpLimit!B286=\"\",\"\",OpLimit!B286)","v":""},{"$f":"IF(OpLimit!C286=\"\",\"\",OpLimit!C286)","v":""},{"$f":"IF(OpLimit!E286=\"\",\"\",OpLimit!E286)","v":""},"",{"$f":"IF(COUNTIF(BU$2:BU264,BU264)=1,BU264,\"\")","v":""},"","","",""]
[null,null,null,null,null,null,null,null,null,null,{"$f":"+IF(N265=\"\",\"\",MAX(K$1:K264)+1)","v":""},{"$f":"IF(CPMS1!E287=\"\",\"\",CPMS1!E287)","v":""},"",{"$f":"IF(COUNTIF(L$2:L265,L265)=1,L265,\"\")","v":""},null,null,null,null,{"$f":"+IF(W265=\"\",\"\",MAX(S$1:S264)+1)","v":""},{"$f":"IF(Adhes_Sealer_Deadener!B287=\"\",\"\",Adhes_Sealer_Deadener!B287)","v":""},{"$f":"IF(Adhes_Sealer_Deadener!C287=\"\",\"\",Adhes_Sealer_Deadener!C287)","v":""},{"$f":"+Table10[[#This Row],[Column1]]&Table10[[#This Row],[Column2]]","v":""},{"$f":"IF(COUNTIF(V$2:V265,V265)=1,V265,\"\")","v":""},"","",null,{"$f":"+IF(AF265=\"\",\"\",MAX(AA$1:AA264)+1)","v":""},{"$f":"IF(CPMS2!B287=\"\",\"\",CPMS2!B287)","v":""},{"$f":"IF(CPMS2!C287=\"\",\"\",CPMS2!C287)","v":""},{"$f":"IF(CPMS2!D287=\"\",\"\",CPMS2!D287)","v":""},"",{"$f":"IF(COUNTIF(AE$2:AE265,AE265)=1,AE265,\"\")","v":""},"","","",null,null,null,null,null,null,null,null,null,null,null,null,null,null,null,null,null,null,null,null,null,null,null,null,null,null,null,null,null,null,null,null,null,{"$f":"+IF(BV265=\"\",\"\",MAX(BQ$1:BQ264)+1)","v":""},{"$f":"IF(OpLimit!B287=\"\",\"\",OpLimit!B287)","v":""},{"$f":"IF(OpLimit!C287=\"\",\"\",OpLimit!C287)","v":""},{"$f":"IF(OpLimit!E287=\"\",\"\",OpLimit!E287)","v":""},"",{"$f":"IF(COUNTIF(BU$2:BU265,BU265)=1,BU265,\"\")","v":""},"","","",""]
[null,null,null,null,null,null,null,null,null,null,{"$f":"+IF(N266=\"\",\"\",MAX(K$1:K265)+1)","v":""},{"$f":"IF(CPMS1!E288=\"\",\"\",CPMS1!E288)","v":""},"",{"$f":"IF(COUNTIF(L$2:L266,L266)=1,L266,\"\")","v":""},null,null,null,null,{"$f":"+IF(W266=\"\",\"\",MAX(S$1:S265)+1)","v":""},{"$f":"IF(Adhes_Sealer_Deadener!B288=\"\",\"\",Adhes_Sealer_Deadener!B288)","v":""},{"$f":"IF(Adhes_Sealer_Deadener!C288=\"\",\"\",Adhes_Sealer_Deadener!C288)","v":""},{"$f":"+Table10[[#This Row],[Column1]]&Table10[[#This Row],[Column2]]","v":""},{"$f":"IF(COUNTIF(V$2:V266,V266)=1,V266,\"\")","v":""},"","",null,{"$f":"+IF(AF266=\"\",\"\",MAX(AA$1:AA265)+1)","v":""},{"$f":"IF(CPMS2!B288=\"\",\"\",CPMS2!B288)","v":""},{"$f":"IF(CPMS2!C288=\"\",\"\",CPMS2!C288)","v":""},{"$f":"IF(CPMS2!D288=\"\",\"\",CPMS2!D288)","v":""},"",{"$f":"IF(COUNTIF(AE$2:AE266,AE266)=1,AE266,\"\")","v":""},"","","",null,null,null,null,null,null,null,null,null,null,null,null,null,null,null,null,null,null,null,null,null,null,null,null,null,null,null,null,null,null,null,null,null,{"$f":"+IF(BV266=\"\",\"\",MAX(BQ$1:BQ265)+1)","v":""},{"$f":"IF(OpLimit!B288=\"\",\"\",OpLimit!B288)","v":""},{"$f":"IF(OpLimit!C288=\"\",\"\",OpLimit!C288)","v":""},{"$f":"IF(OpLimit!E288=\"\",\"\",OpLimit!E288)","v":""},"",{"$f":"IF(COUNTIF(BU$2:BU266,BU266)=1,BU266,\"\")","v":""},"","","",""]
[null,null,null,null,null,null,null,null,null,null,{"$f":"+IF(N267=\"\",\"\",MAX(K$1:K266)+1)","v":""},{"$f":"IF(CPMS1!E289=\"\",\"\",CPMS1!E289)","v":""},"",{"$f":"IF(COUNTIF(L$2:L267,L267)=1,L267,\"\")","v":""},null,null,null,null,{"$f":"+IF(W267=\"\",\"\",MAX(S$1:S266)+1)","v":""},{"$f":"IF(Adhes_Sealer_Deadener!B289=\"\",\"\",Adhes_Sealer_Deadener!B289)","v":""},{"$f":"IF(Adhes_Sealer_Deadener!C289=\"\",\"\",Adhes_Sealer_Deadener!C289)","v":""},{"$f":"+Table10[[#This Row],[Column1]]&Table10[[#This Row],[Column2]]","v":""},{"$f":"IF(COUNTIF(V$2:V267,V267)=1,V267,\"\")","v":""},"","",null,{"$f":"+IF(AF267=\"\",\"\",MAX(AA$1:AA266)+1)","v":""},{"$f":"IF(CPMS2!B289=\"\",\"\",CPMS2!B289)","v":""},{"$f":"IF(CPMS2!C289=\"\",\"\",CPMS2!C289)","v":""},{"$f":"IF(CPMS2!D289=\"\",\"\",CPMS2!D289)","v":""},"",{"$f":"IF(COUNTIF(AE$2:AE267,AE267)=1,AE267,\"\")","v":""},"","","",null,null,null,null,null,null,null,null,null,null,null,null,null,null,null,null,null,null,null,null,null,null,null,null,null,null,null,null,null,null,null,null,null,{"$f":"+IF(BV267=\"\",\"\",MAX(BQ$1:BQ266)+1)","v":""},{"$f":"IF(OpLimit!B289=\"\",\"\",OpLimit!B289)","v":""},{"$f":"IF(OpLimit!C289=\"\",\"\",OpLimit!C289)","v":""},{"$f":"IF(OpLimit!E289=\"\",\"\",OpLimit!E289)","v":""},"",{"$f":"IF(COUNTIF(BU$2:BU267,BU267)=1,BU267,\"\")","v":""},"","","",""]
[null,null,null,null,null,null,null,null,null,null,{"$f":"+IF(N268=\"\",\"\",MAX(K$1:K267)+1)","v":""},{"$f":"IF(CPMS1!E290=\"\",\"\",CPMS1!E290)","v":""},"",{"$f":"IF(COUNTIF(L$2:L268,L268)=1,L268,\"\")","v":""},null,null,null,null,{"$f":"+IF(W268=\"\",\"\",MAX(S$1:S267)+1)","v":""},{"$f":"IF(Adhes_Sealer_Deadener!B290=\"\",\"\",Adhes_Sealer_Deadener!B290)","v":""},{"$f":"IF(Adhes_Sealer_Deadener!C290=\"\",\"\",Adhes_Sealer_Deadener!C290)","v":""},{"$f":"+Table10[[#This Row],[Column1]]&Table10[[#This Row],[Column2]]","v":""},{"$f":"IF(COUNTIF(V$2:V268,V268)=1,V268,\"\")","v":""},"","",null,{"$f":"+IF(AF268=\"\",\"\",MAX(AA$1:AA267)+1)","v":""},{"$f":"IF(CPMS2!B290=\"\",\"\",CPMS2!B290)","v":""},{"$f":"IF(CPMS2!C290=\"\",\"\",CPMS2!C290)","v":""},{"$f":"IF(CPMS2!D290=\"\",\"\",CPMS2!D290)","v":""},"",{"$f":"IF(COUNTIF(AE$2:AE268,AE268)=1,AE268,\"\")","v":""},"","","",null,null,null,null,null,null,null,null,null,null,null,null,null,null,null,null,null,null,null,null,null,null,null,null,null,null,null,null,null,null,null,null,null,{"$f":"+IF(BV268=\"\",\"\",MAX(BQ$1:BQ267)+1)","v":""},{"$f":"IF(OpLimit!B290=\"\",\"\",OpLimit!B290)","v":""},{"$f":"IF(OpLimit!C290=\"\",\"\",OpLimit!C290)","v":""},{"$f":"IF(OpLimit!E290=\"\",\"\",OpLimit!E290)","v":""},"",{"$f":"IF(COUNTIF(BU$2:BU268,BU268)=1,BU268,\"\")","v":""},"","","",""]
[null,null,null,null,null,null,null,null,null,null,{"$f":"+IF(N269=\"\",\"\",MAX(K$1:K268)+1)","v":""},{"$f":"IF(CPMS1!E291=\"\",\"\",CPMS1!E291)","v":""},"",{"$f":"IF(COUNTIF(L$2:L269,L269)=1,L269,\"\")","v":""},null,null,null,null,{"$f":"+IF(W269=\"\",\"\",MAX(S$1:S268)+1)","v":""},{"$f":"IF(Adhes_Sealer_Deadener!B291=\"\",\"\",Adhes_Sealer_Deadener!B291)","v":""},{"$f":"IF(Adhes_Sealer_Deadener!C291=\"\",\"\",Adhes_Sealer_Deadener!C291)","v":""},{"$f":"+Table10[[#This Row],[Column1]]&Table10[[#This Row],[Column2]]","v":""},{"$f":"IF(COUNTIF(V$2:V269,V269)=1,V269,\"\")","v":""},"","",null,{"$f":"+IF(AF269=\"\",\"\",MAX(AA$1:AA268)+1)","v":""},{"$f":"IF(CPMS2!B291=\"\",\"\",CPMS2!B291)","v":""},{"$f":"IF(CPMS2!C291=\"\",\"\",CPMS2!C291)","v":""},{"$f":"IF(CPMS2!D291=\"\",\"\",CPMS2!D291)","v":""},"",{"$f":"IF(COUNTIF(AE$2:AE269,AE269)=1,AE269,\"\")","v":""},"","","",null,null,null,null,null,null,null,null,null,null,null,null,null,null,null,null,null,null,null,null,null,null,null,null,null,null,null,null,null,null,null,null,null,{"$f":"+IF(BV269=\"\",\"\",MAX(BQ$1:BQ268)+1)","v":""},{"$f":"IF(OpLimit!B291=\"\",\"\",OpLimit!B291)","v":""},{"$f":"IF(OpLimit!C291=\"\",\"\",OpLimit!C291)","v":""},{"$f":"IF(OpLimit!E291=\"\",\"\",OpLimit!E291)","v":""},"",{"$f":"IF(COUNTIF(BU$2:BU269,BU269)=1,BU269,\"\")","v":""},"","","",""]
[null,null,null,null,null,null,null,null,null,null,{"$f":"+IF(N270=\"\",\"\",MAX(K$1:K269)+1)","v":""},{"$f":"IF(CPMS1!E292=\"\",\"\",CPMS1!E292)","v":""},"",{"$f":"IF(COUNTIF(L$2:L270,L270)=1,L270,\"\")","v":""},null,null,null,null,{"$f":"+IF(W270=\"\",\"\",MAX(S$1:S269)+1)","v":""},{"$f":"IF(Adhes_Sealer_Deadener!B292=\"\",\"\",Adhes_Sealer_Deadener!B292)","v":""},{"$f":"IF(Adhes_Sealer_Deadener!C292=\"\",\"\",Adhes_Sealer_Deadener!C292)","v":""},{"$f":"+Table10[[#This Row],[Column1]]&Table10[[#This Row],[Column2]]","v":""},{"$f":"IF(COUNTIF(V$2:V270,V270)=1,V270,\"\")","v":""},"","",null,{"$f":"+IF(AF270=\"\",\"\",MAX(AA$1:AA269)+1)","v":""},{"$f":"IF(CPMS2!B292=\"\",\"\",CPMS2!B292)","v":""},{"$f":"IF(CPMS2!C292=\"\",\"\",CPMS2!C292)","v":""},{"$f":"IF(CPMS2!D292=\"\",\"\",CPMS2!D292)","v":""},"",{"$f":"IF(COUNTIF(AE$2:AE270,AE270)=1,AE270,\"\")","v":""},"","","",null,null,null,null,null,null,null,null,null,null,null,null,null,null,null,null,null,null,null,null,null,null,null,null,null,null,null,null,null,null,null,null,null,{"$f":"+IF(BV270=\"\",\"\",MAX(BQ$1:BQ269)+1)","v":""},{"$f":"IF(OpLimit!B292=\"\",\"\",OpLimit!B292)","v":""},{"$f":"IF(OpLimit!C292=\"\",\"\",OpLimit!C292)","v":""},{"$f":"IF(OpLimit!E292=\"\",\"\",OpLimit!E292)","v":""},"",{"$f":"IF(COUNTIF(BU$2:BU270,BU270)=1,BU270,\"\")","v":""},"","","",""]
[null,null,null,null,null,null,null,null,null,null,{"$f":"+IF(N271=\"\",\"\",MAX(K$1:K270)+1)","v":""},{"$f":"IF(CPMS1!E293=\"\",\"\",CPMS1!E293)","v":""},"",{"$f":"IF(COUNTIF(L$2:L271,L271)=1,L271,\"\")","v":""},null,null,null,null,{"$f":"+IF(W271=\"\",\"\",MAX(S$1:S270)+1)","v":""},{"$f":"IF(Adhes_Sealer_Deadener!B293=\"\",\"\",Adhes_Sealer_Deadener!B293)","v":""},{"$f":"IF(Adhes_Sealer_Deadener!C293=\"\",\"\",Adhes_Sealer_Deadener!C293)","v":""},{"$f":"+Table10[[#This Row],[Column1]]&Table10[[#This Row],[Column2]]","v":""},{"$f":"IF(COUNTIF(V$2:V271,V271)=1,V271,\"\")","v":""},"","",null,{"$f":"+IF(AF271=\"\",\"\",MAX(AA$1:AA270)+1)","v":""},{"$f":"IF(CPMS2!B293=\"\",\"\",CPMS2!B293)","v":""},{"$f":"IF(CPMS2!C293=\"\",\"\",CPMS2!C293)","v":""},{"$f":"IF(CPMS2!D293=\"\",\"\",CPMS2!D293)","v":""},"",{"$f":"IF(COUNTIF(AE$2:AE271,AE271)=1,AE271,\"\")","v":""},"","","",null,null,null,null,null,null,null,null,null,null,null,null,null,null,null,null,null,null,null,null,null,null,null,null,null,null,null,null,null,null,null,null,null,{"$f":"+IF(BV271=\"\",\"\",MAX(BQ$1:BQ270)+1)","v":""},{"$f":"IF(OpLimit!B293=\"\",\"\",OpLimit!B293)","v":""},{"$f":"IF(OpLimit!C293=\"\",\"\",OpLimit!C293)","v":""},{"$f":"IF(OpLimit!E293=\"\",\"\",OpLimit!E293)","v":""},"",{"$f":"IF(COUNTIF(BU$2:BU271,BU271)=1,BU271,\"\")","v":""},"","","",""]
[null,null,null,null,null,null,null,null,null,null,{"$f":"+IF(N272=\"\",\"\",MAX(K$1:K271)+1)","v":""},{"$f":"IF(CPMS1!E294=\"\",\"\",CPMS1!E294)","v":""},"",{"$f":"IF(COUNTIF(L$2:L272,L272)=1,L272,\"\")","v":""},null,null,null,null,{"$f":"+IF(W272=\"\",\"\",MAX(S$1:S271)+1)","v":""},{"$f":"IF(Adhes_Sealer_Deadener!B294=\"\",\"\",Adhes_Sealer_Deadener!B294)","v":""},{"$f":"IF(Adhes_Sealer_Deadener!C294=\"\",\"\",Adhes_Sealer_Deadener!C294)","v":""},{"$f":"+Table10[[#This Row],[Column1]]&Table10[[#This Row],[Column2]]","v":""},{"$f":"IF(COUNTIF(V$2:V272,V272)=1,V272,\"\")","v":""},"","",null,{"$f":"+IF(AF272=\"\",\"\",MAX(AA$1:AA271)+1)","v":""},{"$f":"IF(CPMS2!B294=\"\",\"\",CPMS2!B294)","v":""},{"$f":"IF(CPMS2!C294=\"\",\"\",CPMS2!C294)","v":""},{"$f":"IF(CPMS2!D294=\"\",\"\",CPMS2!D294)","v":""},"",{"$f":"IF(COUNTIF(AE$2:AE272,AE272)=1,AE272,\"\")","v":""},"","","",null,null,null,null,null,null,null,null,null,null,null,null,null,null,null,null,null,null,null,null,null,null,null,null,null,null,null,null,null,null,null,null,null,{"$f":"+IF(BV272=\"\",\"\",MAX(BQ$1:BQ271)+1)","v":""},{"$f":"IF(OpLimit!B294=\"\",\"\",OpLimit!B294)","v":""},{"$f":"IF(OpLimit!C294=\"\",\"\",OpLimit!C294)","v":""},{"$f":"IF(OpLimit!E294=\"\",\"\",OpLimit!E294)","v":""},"",{"$f":"IF(COUNTIF(BU$2:BU272,BU272)=1,BU272,\"\")","v":""},"","","",""]
[null,null,null,null,null,null,null,null,null,null,{"$f":"+IF(N273=\"\",\"\",MAX(K$1:K272)+1)","v":""},{"$f":"IF(CPMS1!E295=\"\",\"\",CPMS1!E295)","v":""},"",{"$f":"IF(COUNTIF(L$2:L273,L273)=1,L273,\"\")","v":""},null,null,null,null,{"$f":"+IF(W273=\"\",\"\",MAX(S$1:S272)+1)","v":""},{"$f":"IF(Adhes_Sealer_Deadener!B295=\"\",\"\",Adhes_Sealer_Deadener!B295)","v":""},{"$f":"IF(Adhes_Sealer_Deadener!C295=\"\",\"\",Adhes_Sealer_Deadener!C295)","v":""},{"$f":"+Table10[[#This Row],[Column1]]&Table10[[#This Row],[Column2]]","v":""},{"$f":"IF(COUNTIF(V$2:V273,V273)=1,V273,\"\")","v":""},"","",null,{"$f":"+IF(AF273=\"\",\"\",MAX(AA$1:AA272)+1)","v":""},{"$f":"IF(CPMS2!B295=\"\",\"\",CPMS2!B295)","v":""},{"$f":"IF(CPMS2!C295=\"\",\"\",CPMS2!C295)","v":""},{"$f":"IF(CPMS2!D295=\"\",\"\",CPMS2!D295)","v":""},"",{"$f":"IF(COUNTIF(AE$2:AE273,AE273)=1,AE273,\"\")","v":""},"","","",null,null,null,null,null,null,null,null,null,null,null,null,null,null,null,null,null,null,null,null,null,null,null,null,null,null,null,null,null,null,null,null,null,{"$f":"+IF(BV273=\"\",\"\",MAX(BQ$1:BQ272)+1)","v":""},{"$f":"IF(OpLimit!B295=\"\",\"\",OpLimit!B295)","v":""},{"$f":"IF(OpLimit!C295=\"\",\"\",OpLimit!C295)","v":""},{"$f":"IF(OpLimit!E295=\"\",\"\",OpLimit!E295)","v":""},"",{"$f":"IF(COUNTIF(BU$2:BU273,BU273)=1,BU273,\"\")","v":""},"","","",""]
[null,null,null,null,null,null,null,null,null,null,{"$f":"+IF(N274=\"\",\"\",MAX(K$1:K273)+1)","v":""},{"$f":"IF(CPMS1!E296=\"\",\"\",CPMS1!E296)","v":""},"",{"$f":"IF(COUNTIF(L$2:L274,L274)=1,L274,\"\")","v":""},null,null,null,null,{"$f":"+IF(W274=\"\",\"\",MAX(S$1:S273)+1)","v":""},{"$f":"IF(Adhes_Sealer_Deadener!B296=\"\",\"\",Adhes_Sealer_Deadener!B296)","v":""},{"$f":"IF(Adhes_Sealer_Deadener!C296=\"\",\"\",Adhes_Sealer_Deadener!C296)","v":""},{"$f":"+Table10[[#This Row],[Column1]]&Table10[[#This Row],[Column2]]","v":""},{"$f":"IF(COUNTIF(V$2:V274,V274)=1,V274,\"\")","v":""},"","",null,{"$f":"+IF(AF274=\"\",\"\",MAX(AA$1:AA273)+1)","v":""},{"$f":"IF(CPMS2!B296=\"\",\"\",CPMS2!B296)","v":""},{"$f":"IF(CPMS2!C296=\"\",\"\",CPMS2!C296)","v":""},{"$f":"IF(CPMS2!D296=\"\",\"\",CPMS2!D296)","v":""},"",{"$f":"IF(COUNTIF(AE$2:AE274,AE274)=1,AE274,\"\")","v":""},"","","",null,null,null,null,null,null,null,null,null,null,null,null,null,null,null,null,null,null,null,null,null,null,null,null,null,null,null,null,null,null,null,null,null,{"$f":"+IF(BV274=\"\",\"\",MAX(BQ$1:BQ273)+1)","v":""},{"$f":"IF(OpLimit!B296=\"\",\"\",OpLimit!B296)","v":""},{"$f":"IF(OpLimit!C296=\"\",\"\",OpLimit!C296)","v":""},{"$f":"IF(OpLimit!E296=\"\",\"\",OpLimit!E296)","v":""},"",{"$f":"IF(COUNTIF(BU$2:BU274,BU274)=1,BU274,\"\")","v":""},"","","",""]
[null,null,null,null,null,null,null,null,null,null,{"$f":"+IF(N275=\"\",\"\",MAX(K$1:K274)+1)","v":""},{"$f":"IF(CPMS1!E297=\"\",\"\",CPMS1!E297)","v":""},"",{"$f":"IF(COUNTIF(L$2:L275,L275)=1,L275,\"\")","v":""},null,null,null,null,{"$f":"+IF(W275=\"\",\"\",MAX(S$1:S274)+1)","v":""},{"$f":"IF(Adhes_Sealer_Deadener!B297=\"\",\"\",Adhes_Sealer_Deadener!B297)","v":""},{"$f":"IF(Adhes_Sealer_Deadener!C297=\"\",\"\",Adhes_Sealer_Deadener!C297)","v":""},{"$f":"+Table10[[#This Row],[Column1]]&Table10[[#This Row],[Column2]]","v":""},{"$f":"IF(COUNTIF(V$2:V275,V275)=1,V275,\"\")","v":""},"","",null,{"$f":"+IF(AF275=\"\",\"\",MAX(AA$1:AA274)+1)","v":""},{"$f":"IF(CPMS2!B297=\"\",\"\",CPMS2!B297)","v":""},{"$f":"IF(CPMS2!C297=\"\",\"\",CPMS2!C297)","v":""},{"$f":"IF(CPMS2!D297=\"\",\"\",CPMS2!D297)","v":""},"",{"$f":"IF(COUNTIF(AE$2:AE275,AE275)=1,AE275,\"\")","v":""},"","","",null,null,null,null,null,null,null,null,null,null,null,null,null,null,null,null,null,null,null,null,null,null,null,null,null,null,null,null,null,null,null,null,null,{"$f":"+IF(BV275=\"\",\"\",MAX(BQ$1:BQ274)+1)","v":""},{"$f":"IF(OpLimit!B297=\"\",\"\",OpLimit!B297)","v":""},{"$f":"IF(OpLimit!C297=\"\",\"\",OpLimit!C297)","v":""},{"$f":"IF(OpLimit!E297=\"\",\"\",OpLimit!E297)","v":""},"",{"$f":"IF(COUNTIF(BU$2:BU275,BU275)=1,BU275,\"\")","v":""},"","","",""]
[null,null,null,null,null,null,null,null,null,null,{"$f":"+IF(N276=\"\",\"\",MAX(K$1:K275)+1)","v":""},{"$f":"IF(CPMS1!E298=\"\",\"\",CPMS1!E298)","v":""},"",{"$f":"IF(COUNTIF(L$2:L276,L276)=1,L276,\"\")","v":""},null,null,null,null,{"$f":"+IF(W276=\"\",\"\",MAX(S$1:S275)+1)","v":""},{"$f":"IF(Adhes_Sealer_Deadener!B298=\"\",\"\",Adhes_Sealer_Deadener!B298)","v":""},{"$f":"IF(Adhes_Sealer_Deadener!C298=\"\",\"\",Adhes_Sealer_Deadener!C298)","v":""},{"$f":"+Table10[[#This Row],[Column1]]&Table10[[#This Row],[Column2]]","v":""},{"$f":"IF(COUNTIF(V$2:V276,V276)=1,V276,\"\")","v":""},"","",null,{"$f":"+IF(AF276=\"\",\"\",MAX(AA$1:AA275)+1)","v":""},{"$f":"IF(CPMS2!B298=\"\",\"\",CPMS2!B298)","v":""},{"$f":"IF(CPMS2!C298=\"\",\"\",CPMS2!C298)","v":""},{"$f":"IF(CPMS2!D298=\"\",\"\",CPMS2!D298)","v":""},"",{"$f":"IF(COUNTIF(AE$2:AE276,AE276)=1,AE276,\"\")","v":""},"","","",null,null,null,null,null,null,null,null,null,null,null,null,null,null,null,null,null,null,null,null,null,null,null,null,null,null,null,null,null,null,null,null,null,{"$f":"+IF(BV276=\"\",\"\",MAX(BQ$1:BQ275)+1)","v":""},{"$f":"IF(OpLimit!B298=\"\",\"\",OpLimit!B298)","v":""},{"$f":"IF(OpLimit!C298=\"\",\"\",OpLimit!C298)","v":""},{"$f":"IF(OpLimit!E298=\"\",\"\",OpLimit!E298)","v":""},"",{"$f":"IF(COUNTIF(BU$2:BU276,BU276)=1,BU276,\"\")","v":""},"","","",""]
[null,null,null,null,null,null,null,null,null,null,{"$f":"+IF(N277=\"\",\"\",MAX(K$1:K276)+1)","v":""},{"$f":"IF(CPMS1!E299=\"\",\"\",CPMS1!E299)","v":""},"",{"$f":"IF(COUNTIF(L$2:L277,L277)=1,L277,\"\")","v":""},null,null,null,null,{"$f":"+IF(W277=\"\",\"\",MAX(S$1:S276)+1)","v":""},{"$f":"IF(Adhes_Sealer_Deadener!B299=\"\",\"\",Adhes_Sealer_Deadener!B299)","v":""},{"$f":"IF(Adhes_Sealer_Deadener!C299=\"\",\"\",Adhes_Sealer_Deadener!C299)","v":""},{"$f":"+Table10[[#This Row],[Column1]]&Table10[[#This Row],[Column2]]","v":""},{"$f":"IF(COUNTIF(V$2:V277,V277)=1,V277,\"\")","v":""},{"$f":"+IFERROR(INDEX($T$2:$T$478,MATCH(ROW()-ROW($X$1),$S$2:$S$478,0)),\"\")","v":""},{"$f":"+IFERROR(INDEX($U$2:$U$478,MATCH(ROW()-ROW($X$1),$S$2:$S$478,0)),\"\")","v":""},null,{"$f":"+IF(AF277=\"\",\"\",MAX(AA$1:AA276)+1)","v":""},{"$f":"IF(CPMS2!B299=\"\",\"\",CPMS2!B299)","v":""},{"$f":"IF(CPMS2!C299=\"\",\"\",CPMS2!C299)","v":""},{"$f":"IF(CPMS2!D299=\"\",\"\",CPMS2!D299)","v":""},"",{"$f":"IF(COUNTIF(AE$2:AE277,AE277)=1,AE277,\"\")","v":""},"","","",null,null,null,null,null,null,null,null,null,null,null,null,null,null,null,null,null,null,null,null,null,null,null,null,null,null,null,null,null,null,null,null,null,{"$f":"+IF(BV277=\"\",\"\",MAX(BQ$1:BQ276)+1)","v":""},{"$f":"IF(OpLimit!B299=\"\",\"\",OpLimit!B299)","v":""},{"$f":"IF(OpLimit!C299=\"\",\"\",OpLimit!C299)","v":""},{"$f":"IF(OpLimit!E299=\"\",\"\",OpLimit!E299)","v":""},"",{"$f":"IF(COUNTIF(BU$2:BU277,BU277)=1,BU277,\"\")","v":""},"","","",""]
[null,null,null,null,null,null,null,null,null,null,{"$f":"+IF(N278=\"\",\"\",MAX(K$1:K277)+1)","v":""},{"$f":"IF(CPMS1!E300=\"\",\"\",CPMS1!E300)","v":""},"",{"$f":"IF(COUNTIF(L$2:L278,L278)=1,L278,\"\")","v":""},null,null,null,null,{"$f":"+IF(W278=\"\",\"\",MAX(S$1:S277)+1)","v":""},{"$f":"IF(Adhes_Sealer_Deadener!B300=\"\",\"\",Adhes_Sealer_Deadener!B300)","v":""},{"$f":"IF(Adhes_Sealer_Deadener!C300=\"\",\"\",Adhes_Sealer_Deadener!C300)","v":""},{"$f":"+Table10[[#This Row],[Column1]]&Table10[[#This Row],[Column2]]","v":""},{"$f":"IF(COUNTIF(V$2:V278,V278)=1,V278,\"\")","v":""},"","",null,{"$f":"+IF(AF278=\"\",\"\",MAX(AA$1:AA277)+1)","v":""},{"$f":"IF(CPMS2!B300=\"\",\"\",CPMS2!B300)","v":""},{"$f":"IF(CPMS2!C300=\"\",\"\",CPMS2!C300)","v":""},{"$f":"IF(CPMS2!D300=\"\",\"\",CPMS2!D300)","v":""},"",{"$f":"IF(COUNTIF(AE$2:AE278,AE278)=1,AE278,\"\")","v":""},"","","",null,null,null,null,null,null,null,null,null,null,null,null,null,null,null,null,null,null,null,null,null,null,null,null,null,null,null,null,null,null,null,null,null,{"$f":"+IF(BV278=\"\",\"\",MAX(BQ$1:BQ277)+1)","v":""},{"$f":"IF(OpLimit!B300=\"\",\"\",OpLimit!B300)","v":""},{"$f":"IF(OpLimit!C300=\"\",\"\",OpLimit!C300)","v":""},{"$f":"IF(OpLimit!E300=\"\",\"\",OpLimit!E300)","v":""},"",{"$f":"IF(COUNTIF(BU$2:BU278,BU278)=1,BU278,\"\")","v":""},"","","",""]
[null,null,null,null,null,null,null,null,null,null,{"$f":"+IF(N279=\"\",\"\",MAX(K$1:K278)+1)","v":""},{"$f":"IF(CPMS1!E301=\"\",\"\",CPMS1!E301)","v":""},"",{"$f":"IF(COUNTIF(L$2:L279,L279)=1,L279,\"\")","v":""},null,null,null,null,{"$f":"+IF(W279=\"\",\"\",MAX(S$1:S278)+1)","v":""},{"$f":"IF(Adhes_Sealer_Deadener!B301=\"\",\"\",Adhes_Sealer_Deadener!B301)","v":""},{"$f":"IF(Adhes_Sealer_Deadener!C301=\"\",\"\",Adhes_Sealer_Deadener!C301)","v":""},{"$f":"+Table10[[#This Row],[Column1]]&Table10[[#This Row],[Column2]]","v":""},{"$f":"IF(COUNTIF(V$2:V279,V279)=1,V279,\"\")","v":""},"","",null,{"$f":"+IF(AF279=\"\",\"\",MAX(AA$1:AA278)+1)","v":""},{"$f":"IF(CPMS2!B301=\"\",\"\",CPMS2!B301)","v":""},{"$f":"IF(CPMS2!C301=\"\",\"\",CPMS2!C301)","v":""},{"$f":"IF(CPMS2!D301=\"\",\"\",CPMS2!D301)","v":""},"",{"$f":"IF(COUNTIF(AE$2:AE279,AE279)=1,AE279,\"\")","v":""},"","","",null,null,null,null,null,null,null,null,null,null,null,null,null,null,null,null,null,null,null,null,null,null,null,null,null,null,null,null,null,null,null,null,null,{"$f":"+IF(BV279=\"\",\"\",MAX(BQ$1:BQ278)+1)","v":""},{"$f":"IF(OpLimit!B301=\"\",\"\",OpLimit!B301)","v":""},{"$f":"IF(OpLimit!C301=\"\",\"\",OpLimit!C301)","v":""},{"$f":"IF(OpLimit!E301=\"\",\"\",OpLimit!E301)","v":""},"",{"$f":"IF(COUNTIF(BU$2:BU279,BU279)=1,BU279,\"\")","v":""},"","","",""]
[null,null,null,null,null,null,null,null,null,null,{"$f":"+IF(N280=\"\",\"\",MAX(K$1:K279)+1)","v":""},{"$f":"IF(CPMS1!E302=\"\",\"\",CPMS1!E302)","v":""},"",{"$f":"IF(COUNTIF(L$2:L280,L280)=1,L280,\"\")","v":""},null,null,null,null,{"$f":"+IF(W280=\"\",\"\",MAX(S$1:S279)+1)","v":""},{"$f":"IF(Adhes_Sealer_Deadener!B302=\"\",\"\",Adhes_Sealer_Deadener!B302)","v":""},{"$f":"IF(Adhes_Sealer_Deadener!C302=\"\",\"\",Adhes_Sealer_Deadener!C302)","v":""},{"$f":"+Table10[[#This Row],[Column1]]&Table10[[#This Row],[Column2]]","v":""},{"$f":"IF(COUNTIF(V$2:V280,V280)=1,V280,\"\")","v":""},"","",null,{"$f":"+IF(AF280=\"\",\"\",MAX(AA$1:AA279)+1)","v":""},{"$f":"IF(CPMS2!B302=\"\",\"\",CPMS2!B302)","v":""},{"$f":"IF(CPMS2!C302=\"\",\"\",CPMS2!C302)","v":""},{"$f":"IF(CPMS2!D302=\"\",\"\",CPMS2!D302)","v":""},"",{"$f":"IF(COUNTIF(AE$2:AE280,AE280)=1,AE280,\"\")","v":""},"","","",null,null,null,null,null,null,null,null,null,null,null,null,null,null,null,null,null,null,null,null,null,null,null,null,null,null,null,null,null,null,null,null,null,{"$f":"+IF(BV280=\"\",\"\",MAX(BQ$1:BQ279)+1)","v":""},{"$f":"IF(OpLimit!B302=\"\",\"\",OpLimit!B302)","v":""},{"$f":"IF(OpLimit!C302=\"\",\"\",OpLimit!C302)","v":""},{"$f":"IF(OpLimit!E302=\"\",\"\",OpLimit!E302)","v":""},"",{"$f":"IF(COUNTIF(BU$2:BU280,BU280)=1,BU280,\"\")","v":""},"","","",""]
[null,null,null,null,null,null,null,null,null,null,{"$f":"+IF(N281=\"\",\"\",MAX(K$1:K280)+1)","v":""},{"$f":"IF(CPMS1!E303=\"\",\"\",CPMS1!E303)","v":""},"",{"$f":"IF(COUNTIF(L$2:L281,L281)=1,L281,\"\")","v":""},null,null,null,null,{"$f":"+IF(W281=\"\",\"\",MAX(S$1:S280)+1)","v":""},{"$f":"IF(Adhes_Sealer_Deadener!B303=\"\",\"\",Adhes_Sealer_Deadener!B303)","v":""},{"$f":"IF(Adhes_Sealer_Deadener!C303=\"\",\"\",Adhes_Sealer_Deadener!C303)","v":""},{"$f":"+Table10[[#This Row],[Column1]]&Table10[[#This Row],[Column2]]","v":""},{"$f":"IF(COUNTIF(V$2:V281,V281)=1,V281,\"\")","v":""},"","",null,{"$f":"+IF(AF281=\"\",\"\",MAX(AA$1:AA280)+1)","v":""},{"$f":"IF(CPMS2!B303=\"\",\"\",CPMS2!B303)","v":""},{"$f":"IF(CPMS2!C303=\"\",\"\",CPMS2!C303)","v":""},{"$f":"IF(CPMS2!D303=\"\",\"\",CPMS2!D303)","v":""},"",{"$f":"IF(COUNTIF(AE$2:AE281,AE281)=1,AE281,\"\")","v":""},"","","",null,null,null,null,null,null,null,null,null,null,null,null,null,null,null,null,null,null,null,null,null,null,null,null,null,null,null,null,null,null,null,null,null,{"$f":"+IF(BV281=\"\",\"\",MAX(BQ$1:BQ280)+1)","v":""},{"$f":"IF(OpLimit!B303=\"\",\"\",OpLimit!B303)","v":""},{"$f":"IF(OpLimit!C303=\"\",\"\",OpLimit!C303)","v":""},{"$f":"IF(OpLimit!E303=\"\",\"\",OpLimit!E303)","v":""},"",{"$f":"IF(COUNTIF(BU$2:BU281,BU281)=1,BU281,\"\")","v":""},"","","",""]
[null,null,null,null,null,null,null,null,null,null,{"$f":"+IF(N282=\"\",\"\",MAX(K$1:K281)+1)","v":""},{"$f":"IF(CPMS1!E304=\"\",\"\",CPMS1!E304)","v":""},"",{"$f":"IF(COUNTIF(L$2:L282,L282)=1,L282,\"\")","v":""},null,null,null,null,{"$f":"+IF(W282=\"\",\"\",MAX(S$1:S281)+1)","v":""},{"$f":"IF(Adhes_Sealer_Deadener!B304=\"\",\"\",Adhes_Sealer_Deadener!B304)","v":""},{"$f":"IF(Adhes_Sealer_Deadener!C304=\"\",\"\",Adhes_Sealer_Deadener!C304)","v":""},{"$f":"+Table10[[#This Row],[Column1]]&Table10[[#This Row],[Column2]]","v":""},{"$f":"IF(COUNTIF(V$2:V282,V282)=1,V282,\"\")","v":""},"","",null,{"$f":"+IF(AF282=\"\",\"\",MAX(AA$1:AA281)+1)","v":""},{"$f":"IF(CPMS2!B304=\"\",\"\",CPMS2!B304)","v":""},{"$f":"IF(CPMS2!C304=\"\",\"\",CPMS2!C304)","v":""},{"$f":"IF(CPMS2!D304=\"\",\"\",CPMS2!D304)","v":""},"",{"$f":"IF(COUNTIF(AE$2:AE282,AE282)=1,AE282,\"\")","v":""},"","","",null,null,null,null,null,null,null,null,null,null,null,null,null,null,null,null,null,null,null,null,null,null,null,null,null,null,null,null,null,null,null,null,null,{"$f":"+IF(BV282=\"\",\"\",MAX(BQ$1:BQ281)+1)","v":""},{"$f":"IF(OpLimit!B304=\"\",\"\",OpLimit!B304)","v":""},{"$f":"IF(OpLimit!C304=\"\",\"\",OpLimit!C304)","v":""},{"$f":"IF(OpLimit!E304=\"\",\"\",OpLimit!E304)","v":""},"",{"$f":"IF(COUNTIF(BU$2:BU282,BU282)=1,BU282,\"\")","v":""},"","","",""]
[null,null,null,null,null,null,null,null,null,null,{"$f":"+IF(N283=\"\",\"\",MAX(K$1:K282)+1)","v":""},{"$f":"IF(CPMS1!E305=\"\",\"\",CPMS1!E305)","v":""},"",{"$f":"IF(COUNTIF(L$2:L283,L283)=1,L283,\"\")","v":""},null,null,null,null,{"$f":"+IF(W283=\"\",\"\",MAX(S$1:S282)+1)","v":""},{"$f":"IF(Adhes_Sealer_Deadener!B305=\"\",\"\",Adhes_Sealer_Deadener!B305)","v":""},{"$f":"IF(Adhes_Sealer_Deadener!C305=\"\",\"\",Adhes_Sealer_Deadener!C305)","v":""},{"$f":"+Table10[[#This Row],[Column1]]&Table10[[#This Row],[Column2]]","v":""},{"$f":"IF(COUNTIF(V$2:V283,V283)=1,V283,\"\")","v":""},"","",null,{"$f":"+IF(AF283=\"\",\"\",MAX(AA$1:AA282)+1)","v":""},{"$f":"IF(CPMS2!B305=\"\",\"\",CPMS2!B305)","v":""},{"$f":"IF(CPMS2!C305=\"\",\"\",CPMS2!C305)","v":""},{"$f":"IF(CPMS2!D305=\"\",\"\",CPMS2!D305)","v":""},"",{"$f":"IF(COUNTIF(AE$2:AE283,AE283)=1,AE283,\"\")","v":""},"","","",null,null,null,null,null,null,null,null,null,null,null,null,null,null,null,null,null,null,null,null,null,null,null,null,null,null,null,null,null,null,null,null,null,{"$f":"+IF(BV283=\"\",\"\",MAX(BQ$1:BQ282)+1)","v":""},{"$f":"IF(OpLimit!B305=\"\",\"\",OpLimit!B305)","v":""},{"$f":"IF(OpLimit!C305=\"\",\"\",OpLimit!C305)","v":""},{"$f":"IF(OpLimit!E305=\"\",\"\",OpLimit!E305)","v":""},"",{"$f":"IF(COUNTIF(BU$2:BU283,BU283)=1,BU283,\"\")","v":""},"","","",""]
[null,null,null,null,null,null,null,null,null,null,{"$f":"+IF(N284=\"\",\"\",MAX(K$1:K283)+1)","v":""},{"$f":"IF(CPMS1!E306=\"\",\"\",CPMS1!E306)","v":""},"",{"$f":"IF(COUNTIF(L$2:L284,L284)=1,L284,\"\")","v":""},null,null,null,null,{"$f":"+IF(W284=\"\",\"\",MAX(S$1:S283)+1)","v":""},{"$f":"IF(Adhes_Sealer_Deadener!B306=\"\",\"\",Adhes_Sealer_Deadener!B306)","v":""},{"$f":"IF(Adhes_Sealer_Deadener!C306=\"\",\"\",Adhes_Sealer_Deadener!C306)","v":""},{"$f":"+Table10[[#This Row],[Column1]]&Table10[[#This Row],[Column2]]","v":""},{"$f":"IF(COUNTIF(V$2:V284,V284)=1,V284,\"\")","v":""},"","",null,{"$f":"+IF(AF284=\"\",\"\",MAX(AA$1:AA283)+1)","v":""},{"$f":"IF(CPMS2!B306=\"\",\"\",CPMS2!B306)","v":""},{"$f":"IF(CPMS2!C306=\"\",\"\",CPMS2!C306)","v":""},{"$f":"IF(CPMS2!D306=\"\",\"\",CPMS2!D306)","v":""},"",{"$f":"IF(COUNTIF(AE$2:AE284,AE284)=1,AE284,\"\")","v":""},"","","",null,null,null,null,null,null,null,null,null,null,null,null,null,null,null,null,null,null,null,null,null,null,null,null,null,null,null,null,null,null,null,null,null,{"$f":"+IF(BV284=\"\",\"\",MAX(BQ$1:BQ283)+1)","v":""},{"$f":"IF(OpLimit!B306=\"\",\"\",OpLimit!B306)","v":""},{"$f":"IF(OpLimit!C306=\"\",\"\",OpLimit!C306)","v":""},{"$f":"IF(OpLimit!E306=\"\",\"\",OpLimit!E306)","v":""},"",{"$f":"IF(COUNTIF(BU$2:BU284,BU284)=1,BU284,\"\")","v":""},"","","",""]
[null,null,null,null,null,null,null,null,null,null,{"$f":"+IF(N285=\"\",\"\",MAX(K$1:K284)+1)","v":""},{"$f":"IF(CPMS1!E307=\"\",\"\",CPMS1!E307)","v":""},"",{"$f":"IF(COUNTIF(L$2:L285,L285)=1,L285,\"\")","v":""},null,null,null,null,{"$f":"+IF(W285=\"\",\"\",MAX(S$1:S284)+1)","v":""},{"$f":"IF(Adhes_Sealer_Deadener!B307=\"\",\"\",Adhes_Sealer_Deadener!B307)","v":""},{"$f":"IF(Adhes_Sealer_Deadener!C307=\"\",\"\",Adhes_Sealer_Deadener!C307)","v":""},{"$f":"+Table10[[#This Row],[Column1]]&Table10[[#This Row],[Column2]]","v":""},{"$f":"IF(COUNTIF(V$2:V285,V285)=1,V285,\"\")","v":""},"","",null,{"$f":"+IF(AF285=\"\",\"\",MAX(AA$1:AA284)+1)","v":""},{"$f":"IF(CPMS2!B307=\"\",\"\",CPMS2!B307)","v":""},{"$f":"IF(CPMS2!C307=\"\",\"\",CPMS2!C307)","v":""},{"$f":"IF(CPMS2!D307=\"\",\"\",CPMS2!D307)","v":""},"",{"$f":"IF(COUNTIF(AE$2:AE285,AE285)=1,AE285,\"\")","v":""},"","","",null,null,null,null,null,null,null,null,null,null,null,null,null,null,null,null,null,null,null,null,null,null,null,null,null,null,null,null,null,null,null,null,null,{"$f":"+IF(BV285=\"\",\"\",MAX(BQ$1:BQ284)+1)","v":""},{"$f":"IF(OpLimit!B307=\"\",\"\",OpLimit!B307)","v":""},{"$f":"IF(OpLimit!C307=\"\",\"\",OpLimit!C307)","v":""},{"$f":"IF(OpLimit!E307=\"\",\"\",OpLimit!E307)","v":""},"",{"$f":"IF(COUNTIF(BU$2:BU285,BU285)=1,BU285,\"\")","v":""},"","","",""]
[null,null,null,null,null,null,null,null,null,null,{"$f":"+IF(N286=\"\",\"\",MAX(K$1:K285)+1)","v":""},{"$f":"IF(CPMS1!E308=\"\",\"\",CPMS1!E308)","v":""},"",{"$f":"IF(COUNTIF(L$2:L286,L286)=1,L286,\"\")","v":""},null,null,null,null,{"$f":"+IF(W286=\"\",\"\",MAX(S$1:S285)+1)","v":""},{"$f":"IF(Adhes_Sealer_Deadener!B308=\"\",\"\",Adhes_Sealer_Deadener!B308)","v":""},{"$f":"IF(Adhes_Sealer_Deadener!C308=\"\",\"\",Adhes_Sealer_Deadener!C308)","v":""},{"$f":"+Table10[[#This Row],[Column1]]&Table10[[#This Row],[Column2]]","v":""},{"$f":"IF(COUNTIF(V$2:V286,V286)=1,V286,\"\")","v":""},"","",null,{"$f":"+IF(AF286=\"\",\"\",MAX(AA$1:AA285)+1)","v":""},{"$f":"IF(CPMS2!B308=\"\",\"\",CPMS2!B308)","v":""},{"$f":"IF(CPMS2!C308=\"\",\"\",CPMS2!C308)","v":""},{"$f":"IF(CPMS2!D308=\"\",\"\",CPMS2!D308)","v":""},"",{"$f":"IF(COUNTIF(AE$2:AE286,AE286)=1,AE286,\"\")","v":""},"","","",null,null,null,null,null,null,null,null,null,null,null,null,null,null,null,null,null,null,null,null,null,null,null,null,null,null,null,null,null,null,null,null,null,{"$f":"+IF(BV286=\"\",\"\",MAX(BQ$1:BQ285)+1)","v":""},{"$f":"IF(OpLimit!B308=\"\",\"\",OpLimit!B308)","v":""},{"$f":"IF(OpLimit!C308=\"\",\"\",OpLimit!C308)","v":""},{"$f":"IF(OpLimit!E308=\"\",\"\",OpLimit!E308)","v":""},"",{"$f":"IF(COUNTIF(BU$2:BU286,BU286)=1,BU286,\"\")","v":""},"","","",""]
[null,null,null,null,null,null,null,null,null,null,{"$f":"+IF(N287=\"\",\"\",MAX(K$1:K286)+1)","v":""},{"$f":"IF(CPMS1!E309=\"\",\"\",CPMS1!E309)","v":""},"",{"$f":"IF(COUNTIF(L$2:L287,L287)=1,L287,\"\")","v":""},null,null,null,null,{"$f":"+IF(W287=\"\",\"\",MAX(S$1:S286)+1)","v":""},{"$f":"IF(Adhes_Sealer_Deadener!B309=\"\",\"\",Adhes_Sealer_Deadener!B309)","v":""},{"$f":"IF(Adhes_Sealer_Deadener!C309=\"\",\"\",Adhes_Sealer_Deadener!C309)","v":""},{"$f":"+Table10[[#This Row],[Column1]]&Table10[[#This Row],[Column2]]","v":""},{"$f":"IF(COUNTIF(V$2:V287,V287)=1,V287,\"\")","v":""},"","",null,{"$f":"+IF(AF287=\"\",\"\",MAX(AA$1:AA286)+1)","v":""},{"$f":"IF(CPMS2!B309=\"\",\"\",CPMS2!B309)","v":""},{"$f":"IF(CPMS2!C309=\"\",\"\",CPMS2!C309)","v":""},{"$f":"IF(CPMS2!D309=\"\",\"\",CPMS2!D309)","v":""},"",{"$f":"IF(COUNTIF(AE$2:AE287,AE287)=1,AE287,\"\")","v":""},"","","",null,null,null,null,null,null,null,null,null,null,null,null,null,null,null,null,null,null,null,null,null,null,null,null,null,null,null,null,null,null,null,null,null,{"$f":"+IF(BV287=\"\",\"\",MAX(BQ$1:BQ286)+1)","v":""},{"$f":"IF(OpLimit!B309=\"\",\"\",OpLimit!B309)","v":""},{"$f":"IF(OpLimit!C309=\"\",\"\",OpLimit!C309)","v":""},{"$f":"IF(OpLimit!E309=\"\",\"\",OpLimit!E309)","v":""},"",{"$f":"IF(COUNTIF(BU$2:BU287,BU287)=1,BU287,\"\")","v":""},"","","",""]
[null,null,null,null,null,null,null,null,null,null,{"$f":"+IF(N288=\"\",\"\",MAX(K$1:K287)+1)","v":""},{"$f":"IF(CPMS1!E310=\"\",\"\",CPMS1!E310)","v":""},"",{"$f":"IF(COUNTIF(L$2:L288,L288)=1,L288,\"\")","v":""},null,null,null,null,{"$f":"+IF(W288=\"\",\"\",MAX(S$1:S287)+1)","v":""},{"$f":"IF(Adhes_Sealer_Deadener!B310=\"\",\"\",Adhes_Sealer_Deadener!B310)","v":""},{"$f":"IF(Adhes_Sealer_Deadener!C310=\"\",\"\",Adhes_Sealer_Deadener!C310)","v":""},{"$f":"+Table10[[#This Row],[Column1]]&Table10[[#This Row],[Column2]]","v":""},{"$f":"IF(COUNTIF(V$2:V288,V288)=1,V288,\"\")","v":""},"","",null,{"$f":"+IF(AF288=\"\",\"\",MAX(AA$1:AA287)+1)","v":""},{"$f":"IF(CPMS2!B310=\"\",\"\",CPMS2!B310)","v":""},{"$f":"IF(CPMS2!C310=\"\",\"\",CPMS2!C310)","v":""},{"$f":"IF(CPMS2!D310=\"\",\"\",CPMS2!D310)","v":""},"",{"$f":"IF(COUNTIF(AE$2:AE288,AE288)=1,AE288,\"\")","v":""},"","","",null,null,null,null,null,null,null,null,null,null,null,null,null,null,null,null,null,null,null,null,null,null,null,null,null,null,null,null,null,null,null,null,null,{"$f":"+IF(BV288=\"\",\"\",MAX(BQ$1:BQ287)+1)","v":""},{"$f":"IF(OpLimit!B310=\"\",\"\",OpLimit!B310)","v":""},{"$f":"IF(OpLimit!C310=\"\",\"\",OpLimit!C310)","v":""},{"$f":"IF(OpLimit!E310=\"\",\"\",OpLimit!E310)","v":""},"",{"$f":"IF(COUNTIF(BU$2:BU288,BU288)=1,BU288,\"\")","v":""},"","","",""]
[null,null,null,null,null,null,null,null,null,null,{"$f":"+IF(N289=\"\",\"\",MAX(K$1:K288)+1)","v":""},{"$f":"IF(CPMS1!E311=\"\",\"\",CPMS1!E311)","v":""},"",{"$f":"IF(COUNTIF(L$2:L289,L289)=1,L289,\"\")","v":""},null,null,null,null,{"$f":"+IF(W289=\"\",\"\",MAX(S$1:S288)+1)","v":""},{"$f":"IF(Adhes_Sealer_Deadener!B311=\"\",\"\",Adhes_Sealer_Deadener!B311)","v":""},{"$f":"IF(Adhes_Sealer_Deadener!C311=\"\",\"\",Adhes_Sealer_Deadener!C311)","v":""},{"$f":"+Table10[[#This Row],[Column1]]&Table10[[#This Row],[Column2]]","v":""},{"$f":"IF(COUNTIF(V$2:V289,V289)=1,V289,\"\")","v":""},"","",null,{"$f":"+IF(AF289=\"\",\"\",MAX(AA$1:AA288)+1)","v":""},{"$f":"IF(CPMS2!B311=\"\",\"\",CPMS2!B311)","v":""},{"$f":"IF(CPMS2!C311=\"\",\"\",CPMS2!C311)","v":""},{"$f":"IF(CPMS2!D311=\"\",\"\",CPMS2!D311)","v":""},"",{"$f":"IF(COUNTIF(AE$2:AE289,AE289)=1,AE289,\"\")","v":""},"","","",null,null,null,null,null,null,null,null,null,null,null,null,null,null,null,null,null,null,null,null,null,null,null,null,null,null,null,null,null,null,null,null,null,{"$f":"+IF(BV289=\"\",\"\",MAX(BQ$1:BQ288)+1)","v":""},{"$f":"IF(OpLimit!B311=\"\",\"\",OpLimit!B311)","v":""},{"$f":"IF(OpLimit!C311=\"\",\"\",OpLimit!C311)","v":""},{"$f":"IF(OpLimit!E311=\"\",\"\",OpLimit!E311)","v":""},"",{"$f":"IF(COUNTIF(BU$2:BU289,BU289)=1,BU289,\"\")","v":""},"","","",""]
[null,null,null,null,null,null,null,null,null,null,{"$f":"+IF(N290=\"\",\"\",MAX(K$1:K289)+1)","v":""},{"$f":"IF(CPMS1!E312=\"\",\"\",CPMS1!E312)","v":""},"",{"$f":"IF(COUNTIF(L$2:L290,L290)=1,L290,\"\")","v":""},null,null,null,null,{"$f":"+IF(W290=\"\",\"\",MAX(S$1:S289)+1)","v":""},{"$f":"IF(Adhes_Sealer_Deadener!B312=\"\",\"\",Adhes_Sealer_Deadener!B312)","v":""},{"$f":"IF(Adhes_Sealer_Deadener!C312=\"\",\"\",Adhes_Sealer_Deadener!C312)","v":""},{"$f":"+Table10[[#This Row],[Column1]]&Table10[[#This Row],[Column2]]","v":""},{"$f":"IF(COUNTIF(V$2:V290,V290)=1,V290,\"\")","v":""},"","",null,{"$f":"+IF(AF290=\"\",\"\",MAX(AA$1:AA289)+1)","v":""},{"$f":"IF(CPMS2!B312=\"\",\"\",CPMS2!B312)","v":""},{"$f":"IF(CPMS2!C312=\"\",\"\",CPMS2!C312)","v":""},{"$f":"IF(CPMS2!D312=\"\",\"\",CPMS2!D312)","v":""},"",{"$f":"IF(COUNTIF(AE$2:AE290,AE290)=1,AE290,\"\")","v":""},"","","",null,null,null,null,null,null,null,null,null,null,null,null,null,null,null,null,null,null,null,null,null,null,null,null,null,null,null,null,null,null,null,null,null,{"$f":"+IF(BV290=\"\",\"\",MAX(BQ$1:BQ289)+1)","v":""},{"$f":"IF(OpLimit!B312=\"\",\"\",OpLimit!B312)","v":""},{"$f":"IF(OpLimit!C312=\"\",\"\",OpLimit!C312)","v":""},{"$f":"IF(OpLimit!E312=\"\",\"\",OpLimit!E312)","v":""},"",{"$f":"IF(COUNTIF(BU$2:BU290,BU290)=1,BU290,\"\")","v":""},"","","",""]
[null,null,null,null,null,null,null,null,null,null,{"$f":"+IF(N291=\"\",\"\",MAX(K$1:K290)+1)","v":""},{"$f":"IF(CPMS1!E313=\"\",\"\",CPMS1!E313)","v":""},"",{"$f":"IF(COUNTIF(L$2:L291,L291)=1,L291,\"\")","v":""},null,null,null,null,{"$f":"+IF(W291=\"\",\"\",MAX(S$1:S290)+1)","v":""},{"$f":"IF(Adhes_Sealer_Deadener!B313=\"\",\"\",Adhes_Sealer_Deadener!B313)","v":""},{"$f":"IF(Adhes_Sealer_Deadener!C313=\"\",\"\",Adhes_Sealer_Deadener!C313)","v":""},{"$f":"+Table10[[#This Row],[Column1]]&Table10[[#This Row],[Column2]]","v":""},{"$f":"IF(COUNTIF(V$2:V291,V291)=1,V291,\"\")","v":""},"","",null,{"$f":"+IF(AF291=\"\",\"\",MAX(AA$1:AA290)+1)","v":""},{"$f":"IF(CPMS2!B313=\"\",\"\",CPMS2!B313)","v":""},{"$f":"IF(CPMS2!C313=\"\",\"\",CPMS2!C313)","v":""},{"$f":"IF(CPMS2!D313=\"\",\"\",CPMS2!D313)","v":""},"",{"$f":"IF(COUNTIF(AE$2:AE291,AE291)=1,AE291,\"\")","v":""},"","","",null,null,null,null,null,null,null,null,null,null,null,null,null,null,null,null,null,null,null,null,null,null,null,null,null,null,null,null,null,null,null,null,null,{"$f":"+IF(BV291=\"\",\"\",MAX(BQ$1:BQ290)+1)","v":""},{"$f":"IF(OpLimit!B313=\"\",\"\",OpLimit!B313)","v":""},{"$f":"IF(OpLimit!C313=\"\",\"\",OpLimit!C313)","v":""},{"$f":"IF(OpLimit!E313=\"\",\"\",OpLimit!E313)","v":""},"",{"$f":"IF(COUNTIF(BU$2:BU291,BU291)=1,BU291,\"\")","v":""},"","","",""]
[null,null,null,null,null,null,null,null,null,null,{"$f":"+IF(N292=\"\",\"\",MAX(K$1:K291)+1)","v":""},{"$f":"IF(CPMS1!E314=\"\",\"\",CPMS1!E314)","v":""},"",{"$f":"IF(COUNTIF(L$2:L292,L292)=1,L292,\"\")","v":""},null,null,null,null,{"$f":"+IF(W292=\"\",\"\",MAX(S$1:S291)+1)","v":""},{"$f":"IF(Adhes_Sealer_Deadener!B314=\"\",\"\",Adhes_Sealer_Deadener!B314)","v":""},{"$f":"IF(Adhes_Sealer_Deadener!C314=\"\",\"\",Adhes_Sealer_Deadener!C314)","v":""},{"$f":"+Table10[[#This Row],[Column1]]&Table10[[#This Row],[Column2]]","v":""},{"$f":"IF(COUNTIF(V$2:V292,V292)=1,V292,\"\")","v":""},"","",null,{"$f":"+IF(AF292=\"\",\"\",MAX(AA$1:AA291)+1)","v":""},{"$f":"IF(CPMS2!B314=\"\",\"\",CPMS2!B314)","v":""},{"$f":"IF(CPMS2!C314=\"\",\"\",CPMS2!C314)","v":""},{"$f":"IF(CPMS2!D314=\"\",\"\",CPMS2!D314)","v":""},"",{"$f":"IF(COUNTIF(AE$2:AE292,AE292)=1,AE292,\"\")","v":""},"","","",null,null,null,null,null,null,null,null,null,null,null,null,null,null,null,null,null,null,null,null,null,null,null,null,null,null,null,null,null,null,null,null,null,{"$f":"+IF(BV292=\"\",\"\",MAX(BQ$1:BQ291)+1)","v":""},{"$f":"IF(OpLimit!B314=\"\",\"\",OpLimit!B314)","v":""},{"$f":"IF(OpLimit!C314=\"\",\"\",OpLimit!C314)","v":""},{"$f":"IF(OpLimit!E314=\"\",\"\",OpLimit!E314)","v":""},"",{"$f":"IF(COUNTIF(BU$2:BU292,BU292)=1,BU292,\"\")","v":""},"","","",""]
[null,null,null,null,null,null,null,null,null,null,{"$f":"+IF(N293=\"\",\"\",MAX(K$1:K292)+1)","v":""},{"$f":"IF(CPMS1!E315=\"\",\"\",CPMS1!E315)","v":""},"",{"$f":"IF(COUNTIF(L$2:L293,L293)=1,L293,\"\")","v":""},null,null,null,null,{"$f":"+IF(W293=\"\",\"\",MAX(S$1:S292)+1)","v":""},{"$f":"IF(Adhes_Sealer_Deadener!B315=\"\",\"\",Adhes_Sealer_Deadener!B315)","v":""},{"$f":"IF(Adhes_Sealer_Deadener!C315=\"\",\"\",Adhes_Sealer_Deadener!C315)","v":""},{"$f":"+Table10[[#This Row],[Column1]]&Table10[[#This Row],[Column2]]","v":""},{"$f":"IF(COUNTIF(V$2:V293,V293)=1,V293,\"\")","v":""},"","",null,{"$f":"+IF(AF293=\"\",\"\",MAX(AA$1:AA292)+1)","v":""},{"$f":"IF(CPMS2!B315=\"\",\"\",CPMS2!B315)","v":""},{"$f":"IF(CPMS2!C315=\"\",\"\",CPMS2!C315)","v":""},{"$f":"IF(CPMS2!D315=\"\",\"\",CPMS2!D315)","v":""},"",{"$f":"IF(COUNTIF(AE$2:AE293,AE293)=1,AE293,\"\")","v":""},"","","",null,null,null,null,null,null,null,null,null,null,null,null,null,null,null,null,null,null,null,null,null,null,null,null,null,null,null,null,null,null,null,null,null,{"$f":"+IF(BV293=\"\",\"\",MAX(BQ$1:BQ292)+1)","v":""},{"$f":"IF(OpLimit!B315=\"\",\"\",OpLimit!B315)","v":""},{"$f":"IF(OpLimit!C315=\"\",\"\",OpLimit!C315)","v":""},{"$f":"IF(OpLimit!E315=\"\",\"\",OpLimit!E315)","v":""},"",{"$f":"IF(COUNTIF(BU$2:BU293,BU293)=1,BU293,\"\")","v":""},"","","",""]
[null,null,null,null,null,null,null,null,null,null,{"$f":"+IF(N294=\"\",\"\",MAX(K$1:K293)+1)","v":""},{"$f":"IF(CPMS1!E316=\"\",\"\",CPMS1!E316)","v":""},"",{"$f":"IF(COUNTIF(L$2:L294,L294)=1,L294,\"\")","v":""},null,null,null,null,{"$f":"+IF(W294=\"\",\"\",MAX(S$1:S293)+1)","v":""},{"$f":"IF(Adhes_Sealer_Deadener!B316=\"\",\"\",Adhes_Sealer_Deadener!B316)","v":""},{"$f":"IF(Adhes_Sealer_Deadener!C316=\"\",\"\",Adhes_Sealer_Deadener!C316)","v":""},{"$f":"+Table10[[#This Row],[Column1]]&Table10[[#This Row],[Column2]]","v":""},{"$f":"IF(COUNTIF(V$2:V294,V294)=1,V294,\"\")","v":""},"","",null,{"$f":"+IF(AF294=\"\",\"\",MAX(AA$1:AA293)+1)","v":""},{"$f":"IF(CPMS2!B316=\"\",\"\",CPMS2!B316)","v":""},{"$f":"IF(CPMS2!C316=\"\",\"\",CPMS2!C316)","v":""},{"$f":"IF(CPMS2!D316=\"\",\"\",CPMS2!D316)","v":""},"",{"$f":"IF(COUNTIF(AE$2:AE294,AE294)=1,AE294,\"\")","v":""},"","","",null,null,null,null,null,null,null,null,null,null,null,null,null,null,null,null,null,null,null,null,null,null,null,null,null,null,null,null,null,null,null,null,null,{"$f":"+IF(BV294=\"\",\"\",MAX(BQ$1:BQ293)+1)","v":""},{"$f":"IF(OpLimit!B316=\"\",\"\",OpLimit!B316)","v":""},{"$f":"IF(OpLimit!C316=\"\",\"\",OpLimit!C316)","v":""},{"$f":"IF(OpLimit!E316=\"\",\"\",OpLimit!E316)","v":""},"",{"$f":"IF(COUNTIF(BU$2:BU294,BU294)=1,BU294,\"\")","v":""},"","","",""]
[null,null,null,null,null,null,null,null,null,null,{"$f":"+IF(N295=\"\",\"\",MAX(K$1:K294)+1)","v":""},{"$f":"IF(CPMS1!E317=\"\",\"\",CPMS1!E317)","v":""},"",{"$f":"IF(COUNTIF(L$2:L295,L295)=1,L295,\"\")","v":""},null,null,null,null,{"$f":"+IF(W295=\"\",\"\",MAX(S$1:S294)+1)","v":""},{"$f":"IF(Adhes_Sealer_Deadener!B317=\"\",\"\",Adhes_Sealer_Deadener!B317)","v":""},{"$f":"IF(Adhes_Sealer_Deadener!C317=\"\",\"\",Adhes_Sealer_Deadener!C317)","v":""},{"$f":"+Table10[[#This Row],[Column1]]&Table10[[#This Row],[Column2]]","v":""},{"$f":"IF(COUNTIF(V$2:V295,V295)=1,V295,\"\")","v":""},"","",null,{"$f":"+IF(AF295=\"\",\"\",MAX(AA$1:AA294)+1)","v":""},{"$f":"IF(CPMS2!B317=\"\",\"\",CPMS2!B317)","v":""},{"$f":"IF(CPMS2!C317=\"\",\"\",CPMS2!C317)","v":""},{"$f":"IF(CPMS2!D317=\"\",\"\",CPMS2!D317)","v":""},"",{"$f":"IF(COUNTIF(AE$2:AE295,AE295)=1,AE295,\"\")","v":""},"","","",null,null,null,null,null,null,null,null,null,null,null,null,null,null,null,null,null,null,null,null,null,null,null,null,null,null,null,null,null,null,null,null,null,{"$f":"+IF(BV295=\"\",\"\",MAX(BQ$1:BQ294)+1)","v":""},{"$f":"IF(OpLimit!B317=\"\",\"\",OpLimit!B317)","v":""},{"$f":"IF(OpLimit!C317=\"\",\"\",OpLimit!C317)","v":""},{"$f":"IF(OpLimit!E317=\"\",\"\",OpLimit!E317)","v":""},"",{"$f":"IF(COUNTIF(BU$2:BU295,BU295)=1,BU295,\"\")","v":""},"","","",""]
[null,null,null,null,null,null,null,null,null,null,{"$f":"+IF(N296=\"\",\"\",MAX(K$1:K295)+1)","v":""},{"$f":"IF(CPMS1!E318=\"\",\"\",CPMS1!E318)","v":""},"",{"$f":"IF(COUNTIF(L$2:L296,L296)=1,L296,\"\")","v":""},null,null,null,null,{"$f":"+IF(W296=\"\",\"\",MAX(S$1:S295)+1)","v":""},{"$f":"IF(Adhes_Sealer_Deadener!B318=\"\",\"\",Adhes_Sealer_Deadener!B318)","v":""},{"$f":"IF(Adhes_Sealer_Deadener!C318=\"\",\"\",Adhes_Sealer_Deadener!C318)","v":""},{"$f":"+Table10[[#This Row],[Column1]]&Table10[[#This Row],[Column2]]","v":""},{"$f":"IF(COUNTIF(V$2:V296,V296)=1,V296,\"\")","v":""},"","",null,{"$f":"+IF(AF296=\"\",\"\",MAX(AA$1:AA295)+1)","v":""},{"$f":"IF(CPMS2!B318=\"\",\"\",CPMS2!B318)","v":""},{"$f":"IF(CPMS2!C318=\"\",\"\",CPMS2!C318)","v":""},{"$f":"IF(CPMS2!D318=\"\",\"\",CPMS2!D318)","v":""},"",{"$f":"IF(COUNTIF(AE$2:AE296,AE296)=1,AE296,\"\")","v":""},"","","",null,null,null,null,null,null,null,null,null,null,null,null,null,null,null,null,null,null,null,null,null,null,null,null,null,null,null,null,null,null,null,null,null,{"$f":"+IF(BV296=\"\",\"\",MAX(BQ$1:BQ295)+1)","v":""},{"$f":"IF(OpLimit!B318=\"\",\"\",OpLimit!B318)","v":""},{"$f":"IF(OpLimit!C318=\"\",\"\",OpLimit!C318)","v":""},{"$f":"IF(OpLimit!E318=\"\",\"\",OpLimit!E318)","v":""},"",{"$f":"IF(COUNTIF(BU$2:BU296,BU296)=1,BU296,\"\")","v":""},"","","",""]
[null,null,null,null,null,null,null,null,null,null,{"$f":"+IF(N297=\"\",\"\",MAX(K$1:K296)+1)","v":""},{"$f":"IF(CPMS1!E319=\"\",\"\",CPMS1!E319)","v":""},"",{"$f":"IF(COUNTIF(L$2:L297,L297)=1,L297,\"\")","v":""},null,null,null,null,{"$f":"+IF(W297=\"\",\"\",MAX(S$1:S296)+1)","v":""},{"$f":"IF(Adhes_Sealer_Deadener!B319=\"\",\"\",Adhes_Sealer_Deadener!B319)","v":""},{"$f":"IF(Adhes_Sealer_Deadener!C319=\"\",\"\",Adhes_Sealer_Deadener!C319)","v":""},{"$f":"+Table10[[#This Row],[Column1]]&Table10[[#This Row],[Column2]]","v":""},{"$f":"IF(COUNTIF(V$2:V297,V297)=1,V297,\"\")","v":""},"","",null,{"$f":"+IF(AF297=\"\",\"\",MAX(AA$1:AA296)+1)","v":""},{"$f":"IF(CPMS2!B319=\"\",\"\",CPMS2!B319)","v":""},{"$f":"IF(CPMS2!C319=\"\",\"\",CPMS2!C319)","v":""},{"$f":"IF(CPMS2!D319=\"\",\"\",CPMS2!D319)","v":""},"",{"$f":"IF(COUNTIF(AE$2:AE297,AE297)=1,AE297,\"\")","v":""},"","","",null,null,null,null,null,null,null,null,null,null,null,null,null,null,null,null,null,null,null,null,null,null,null,null,null,null,null,null,null,null,null,null,null,{"$f":"+IF(BV297=\"\",\"\",MAX(BQ$1:BQ296)+1)","v":""},{"$f":"IF(OpLimit!B319=\"\",\"\",OpLimit!B319)","v":""},{"$f":"IF(OpLimit!C319=\"\",\"\",OpLimit!C319)","v":""},{"$f":"IF(OpLimit!E319=\"\",\"\",OpLimit!E319)","v":""},"",{"$f":"IF(COUNTIF(BU$2:BU297,BU297)=1,BU297,\"\")","v":""},"","","",""]
[null,null,null,null,null,null,null,null,null,null,{"$f":"+IF(N298=\"\",\"\",MAX(K$1:K297)+1)","v":""},{"$f":"IF(CPMS1!E320=\"\",\"\",CPMS1!E320)","v":""},"",{"$f":"IF(COUNTIF(L$2:L298,L298)=1,L298,\"\")","v":""},null,null,null,null,{"$f":"+IF(W298=\"\",\"\",MAX(S$1:S297)+1)","v":""},{"$f":"IF(Adhes_Sealer_Deadener!B320=\"\",\"\",Adhes_Sealer_Deadener!B320)","v":""},{"$f":"IF(Adhes_Sealer_Deadener!C320=\"\",\"\",Adhes_Sealer_Deadener!C320)","v":""},{"$f":"+Table10[[#This Row],[Column1]]&Table10[[#This Row],[Column2]]","v":""},{"$f":"IF(COUNTIF(V$2:V298,V298)=1,V298,\"\")","v":""},"","",null,{"$f":"+IF(AF298=\"\",\"\",MAX(AA$1:AA297)+1)","v":""},{"$f":"IF(CPMS2!B320=\"\",\"\",CPMS2!B320)","v":""},{"$f":"IF(CPMS2!C320=\"\",\"\",CPMS2!C320)","v":""},{"$f":"IF(CPMS2!D320=\"\",\"\",CPMS2!D320)","v":""},"",{"$f":"IF(COUNTIF(AE$2:AE298,AE298)=1,AE298,\"\")","v":""},"","","",null,null,null,null,null,null,null,null,null,null,null,null,null,null,null,null,null,null,null,null,null,null,null,null,null,null,null,null,null,null,null,null,null,{"$f":"+IF(BV298=\"\",\"\",MAX(BQ$1:BQ297)+1)","v":""},{"$f":"IF(OpLimit!B320=\"\",\"\",OpLimit!B320)","v":""},{"$f":"IF(OpLimit!C320=\"\",\"\",OpLimit!C320)","v":""},{"$f":"IF(OpLimit!E320=\"\",\"\",OpLimit!E320)","v":""},"",{"$f":"IF(COUNTIF(BU$2:BU298,BU298)=1,BU298,\"\")","v":""},"","","",""]
[null,null,null,null,null,null,null,null,null,null,{"$f":"+IF(N299=\"\",\"\",MAX(K$1:K298)+1)","v":""},{"$f":"IF(CPMS1!E321=\"\",\"\",CPMS1!E321)","v":""},"",{"$f":"IF(COUNTIF(L$2:L299,L299)=1,L299,\"\")","v":""},null,null,null,null,{"$f":"+IF(W299=\"\",\"\",MAX(S$1:S298)+1)","v":""},{"$f":"IF(Adhes_Sealer_Deadener!B321=\"\",\"\",Adhes_Sealer_Deadener!B321)","v":""},{"$f":"IF(Adhes_Sealer_Deadener!C321=\"\",\"\",Adhes_Sealer_Deadener!C321)","v":""},{"$f":"+Table10[[#This Row],[Column1]]&Table10[[#This Row],[Column2]]","v":""},{"$f":"IF(COUNTIF(V$2:V299,V299)=1,V299,\"\")","v":""},"","",null,{"$f":"+IF(AF299=\"\",\"\",MAX(AA$1:AA298)+1)","v":""},{"$f":"IF(CPMS2!B321=\"\",\"\",CPMS2!B321)","v":""},{"$f":"IF(CPMS2!C321=\"\",\"\",CPMS2!C321)","v":""},{"$f":"IF(CPMS2!D321=\"\",\"\",CPMS2!D321)","v":""},"",{"$f":"IF(COUNTIF(AE$2:AE299,AE299)=1,AE299,\"\")","v":""},"","","",null,null,null,null,null,null,null,null,null,null,null,null,null,null,null,null,null,null,null,null,null,null,null,null,null,null,null,null,null,null,null,null,null,{"$f":"+IF(BV299=\"\",\"\",MAX(BQ$1:BQ298)+1)","v":""},{"$f":"IF(OpLimit!B321=\"\",\"\",OpLimit!B321)","v":""},{"$f":"IF(OpLimit!C321=\"\",\"\",OpLimit!C321)","v":""},{"$f":"IF(OpLimit!E321=\"\",\"\",OpLimit!E321)","v":""},"",{"$f":"IF(COUNTIF(BU$2:BU299,BU299)=1,BU299,\"\")","v":""},"","","",""]
[null,null,null,null,null,null,null,null,null,null,{"$f":"+IF(N300=\"\",\"\",MAX(K$1:K299)+1)","v":""},{"$f":"IF(CPMS1!E322=\"\",\"\",CPMS1!E322)","v":""},"",{"$f":"IF(COUNTIF(L$2:L300,L300)=1,L300,\"\")","v":""},null,null,null,null,{"$f":"+IF(W300=\"\",\"\",MAX(S$1:S299)+1)","v":""},{"$f":"IF(Adhes_Sealer_Deadener!B322=\"\",\"\",Adhes_Sealer_Deadener!B322)","v":""},{"$f":"IF(Adhes_Sealer_Deadener!C322=\"\",\"\",Adhes_Sealer_Deadener!C322)","v":""},{"$f":"+Table10[[#This Row],[Column1]]&Table10[[#This Row],[Column2]]","v":""},{"$f":"IF(COUNTIF(V$2:V300,V300)=1,V300,\"\")","v":""},"","",null,{"$f":"+IF(AF300=\"\",\"\",MAX(AA$1:AA299)+1)","v":""},{"$f":"IF(CPMS2!B322=\"\",\"\",CPMS2!B322)","v":""},{"$f":"IF(CPMS2!C322=\"\",\"\",CPMS2!C322)","v":""},{"$f":"IF(CPMS2!D322=\"\",\"\",CPMS2!D322)","v":""},"",{"$f":"IF(COUNTIF(AE$2:AE300,AE300)=1,AE300,\"\")","v":""},"","","",null,null,null,null,null,null,null,null,null,null,null,null,null,null,null,null,null,null,null,null,null,null,null,null,null,null,null,null,null,null,null,null,null,{"$f":"+IF(BV300=\"\",\"\",MAX(BQ$1:BQ299)+1)","v":""},{"$f":"IF(OpLimit!B322=\"\",\"\",OpLimit!B322)","v":""},{"$f":"IF(OpLimit!C322=\"\",\"\",OpLimit!C322)","v":""},{"$f":"IF(OpLimit!E322=\"\",\"\",OpLimit!E322)","v":""},"",{"$f":"IF(COUNTIF(BU$2:BU300,BU300)=1,BU300,\"\")","v":""},"","","",""]
[null,null,null,null,null,null,null,null,null,null,{"$f":"+IF(N301=\"\",\"\",MAX(K$1:K300)+1)","v":""},{"$f":"IF(CPMS1!E323=\"\",\"\",CPMS1!E323)","v":""},"",{"$f":"IF(COUNTIF(L$2:L301,L301)=1,L301,\"\")","v":""},null,null,null,null,{"$f":"+IF(W301=\"\",\"\",MAX(S$1:S300)+1)","v":""},{"$f":"IF(Adhes_Sealer_Deadener!B323=\"\",\"\",Adhes_Sealer_Deadener!B323)","v":""},{"$f":"IF(Adhes_Sealer_Deadener!C323=\"\",\"\",Adhes_Sealer_Deadener!C323)","v":""},{"$f":"+Table10[[#This Row],[Column1]]&Table10[[#This Row],[Column2]]","v":""},{"$f":"IF(COUNTIF(V$2:V301,V301)=1,V301,\"\")","v":""},"","",null,{"$f":"+IF(AF301=\"\",\"\",MAX(AA$1:AA300)+1)","v":""},{"$f":"IF(CPMS2!B323=\"\",\"\",CPMS2!B323)","v":""},{"$f":"IF(CPMS2!C323=\"\",\"\",CPMS2!C323)","v":""},{"$f":"IF(CPMS2!D323=\"\",\"\",CPMS2!D323)","v":""},"",{"$f":"IF(COUNTIF(AE$2:AE301,AE301)=1,AE301,\"\")","v":""},"","","",null,null,null,null,null,null,null,null,null,null,null,null,null,null,null,null,null,null,null,null,null,null,null,null,null,null,null,null,null,null,null,null,null,{"$f":"+IF(BV301=\"\",\"\",MAX(BQ$1:BQ300)+1)","v":""},{"$f":"IF(OpLimit!B323=\"\",\"\",OpLimit!B323)","v":""},{"$f":"IF(OpLimit!C323=\"\",\"\",OpLimit!C323)","v":""},{"$f":"IF(OpLimit!E323=\"\",\"\",OpLimit!E323)","v":""},"",{"$f":"IF(COUNTIF(BU$2:BU301,BU301)=1,BU301,\"\")","v":""},"","","",""]
[null,null,null,null,null,null,null,null,null,null,{"$f":"+IF(N302=\"\",\"\",MAX(K$1:K301)+1)","v":""},{"$f":"IF(CPMS1!E324=\"\",\"\",CPMS1!E324)","v":""},"",{"$f":"IF(COUNTIF(L$2:L302,L302)=1,L302,\"\")","v":""},null,null,null,null,{"$f":"+IF(W302=\"\",\"\",MAX(S$1:S301)+1)","v":""},{"$f":"IF(Adhes_Sealer_Deadener!B324=\"\",\"\",Adhes_Sealer_Deadener!B324)","v":""},{"$f":"IF(Adhes_Sealer_Deadener!C324=\"\",\"\",Adhes_Sealer_Deadener!C324)","v":""},{"$f":"+Table10[[#This Row],[Column1]]&Table10[[#This Row],[Column2]]","v":""},{"$f":"IF(COUNTIF(V$2:V302,V302)=1,V302,\"\")","v":""},"","",null,{"$f":"+IF(AF302=\"\",\"\",MAX(AA$1:AA301)+1)","v":""},{"$f":"IF(CPMS2!B324=\"\",\"\",CPMS2!B324)","v":""},{"$f":"IF(CPMS2!C324=\"\",\"\",CPMS2!C324)","v":""},{"$f":"IF(CPMS2!D324=\"\",\"\",CPMS2!D324)","v":""},"",{"$f":"IF(COUNTIF(AE$2:AE302,AE302)=1,AE302,\"\")","v":""},"","","",null,null,null,null,null,null,null,null,null,null,null,null,null,null,null,null,null,null,null,null,null,null,null,null,null,null,null,null,null,null,null,null,null,{"$f":"+IF(BV302=\"\",\"\",MAX(BQ$1:BQ301)+1)","v":""},{"$f":"IF(OpLimit!B324=\"\",\"\",OpLimit!B324)","v":""},{"$f":"IF(OpLimit!C324=\"\",\"\",OpLimit!C324)","v":""},{"$f":"IF(OpLimit!E324=\"\",\"\",OpLimit!E324)","v":""},"",{"$f":"IF(COUNTIF(BU$2:BU302,BU302)=1,BU302,\"\")","v":""},"","","",""]
[null,null,null,null,null,null,null,null,null,null,{"$f":"+IF(N303=\"\",\"\",MAX(K$1:K302)+1)","v":""},{"$f":"IF(CPMS1!E325=\"\",\"\",CPMS1!E325)","v":""},"",{"$f":"IF(COUNTIF(L$2:L303,L303)=1,L303,\"\")","v":""},null,null,null,null,{"$f":"+IF(W303=\"\",\"\",MAX(S$1:S302)+1)","v":""},{"$f":"IF(Adhes_Sealer_Deadener!B325=\"\",\"\",Adhes_Sealer_Deadener!B325)","v":""},{"$f":"IF(Adhes_Sealer_Deadener!C325=\"\",\"\",Adhes_Sealer_Deadener!C325)","v":""},{"$f":"+Table10[[#This Row],[Column1]]&Table10[[#This Row],[Column2]]","v":""},{"$f":"IF(COUNTIF(V$2:V303,V303)=1,V303,\"\")","v":""},"","",null,{"$f":"+IF(AF303=\"\",\"\",MAX(AA$1:AA302)+1)","v":""},{"$f":"IF(CPMS2!B325=\"\",\"\",CPMS2!B325)","v":""},{"$f":"IF(CPMS2!C325=\"\",\"\",CPMS2!C325)","v":""},{"$f":"IF(CPMS2!D325=\"\",\"\",CPMS2!D325)","v":""},"",{"$f":"IF(COUNTIF(AE$2:AE303,AE303)=1,AE303,\"\")","v":""},"","","",null,null,null,null,null,null,null,null,null,null,null,null,null,null,null,null,null,null,null,null,null,null,null,null,null,null,null,null,null,null,null,null,null,{"$f":"+IF(BV303=\"\",\"\",MAX(BQ$1:BQ302)+1)","v":""},{"$f":"IF(OpLimit!B325=\"\",\"\",OpLimit!B325)","v":""},{"$f":"IF(OpLimit!C325=\"\",\"\",OpLimit!C325)","v":""},{"$f":"IF(OpLimit!E325=\"\",\"\",OpLimit!E325)","v":""},"",{"$f":"IF(COUNTIF(BU$2:BU303,BU303)=1,BU303,\"\")","v":""},"","","",""]
[null,null,null,null,null,null,null,null,null,null,{"$f":"+IF(N304=\"\",\"\",MAX(K$1:K303)+1)","v":""},{"$f":"IF(CPMS1!E326=\"\",\"\",CPMS1!E326)","v":""},"",{"$f":"IF(COUNTIF(L$2:L304,L304)=1,L304,\"\")","v":""},null,null,null,null,{"$f":"+IF(W304=\"\",\"\",MAX(S$1:S303)+1)","v":""},{"$f":"IF(Adhes_Sealer_Deadener!B326=\"\",\"\",Adhes_Sealer_Deadener!B326)","v":""},{"$f":"IF(Adhes_Sealer_Deadener!C326=\"\",\"\",Adhes_Sealer_Deadener!C326)","v":""},{"$f":"+Table10[[#This Row],[Column1]]&Table10[[#This Row],[Column2]]","v":""},{"$f":"IF(COUNTIF(V$2:V304,V304)=1,V304,\"\")","v":""},"","",null,{"$f":"+IF(AF304=\"\",\"\",MAX(AA$1:AA303)+1)","v":""},{"$f":"IF(CPMS2!B326=\"\",\"\",CPMS2!B326)","v":""},{"$f":"IF(CPMS2!C326=\"\",\"\",CPMS2!C326)","v":""},{"$f":"IF(CPMS2!D326=\"\",\"\",CPMS2!D326)","v":""},"",{"$f":"IF(COUNTIF(AE$2:AE304,AE304)=1,AE304,\"\")","v":""},"","","",null,null,null,null,null,null,null,null,null,null,null,null,null,null,null,null,null,null,null,null,null,null,null,null,null,null,null,null,null,null,null,null,null,{"$f":"+IF(BV304=\"\",\"\",MAX(BQ$1:BQ303)+1)","v":""},{"$f":"IF(OpLimit!B326=\"\",\"\",OpLimit!B326)","v":""},{"$f":"IF(OpLimit!C326=\"\",\"\",OpLimit!C326)","v":""},{"$f":"IF(OpLimit!E326=\"\",\"\",OpLimit!E326)","v":""},"",{"$f":"IF(COUNTIF(BU$2:BU304,BU304)=1,BU304,\"\")","v":""},"","","",""]
[null,null,null,null,null,null,null,null,null,null,{"$f":"+IF(N305=\"\",\"\",MAX(K$1:K304)+1)","v":""},{"$f":"IF(CPMS1!E327=\"\",\"\",CPMS1!E327)","v":""},"",{"$f":"IF(COUNTIF(L$2:L305,L305)=1,L305,\"\")","v":""},null,null,null,null,{"$f":"+IF(W305=\"\",\"\",MAX(S$1:S304)+1)","v":""},{"$f":"IF(Adhes_Sealer_Deadener!B327=\"\",\"\",Adhes_Sealer_Deadener!B327)","v":""},{"$f":"IF(Adhes_Sealer_Deadener!C327=\"\",\"\",Adhes_Sealer_Deadener!C327)","v":""},{"$f":"+Table10[[#This Row],[Column1]]&Table10[[#This Row],[Column2]]","v":""},{"$f":"IF(COUNTIF(V$2:V305,V305)=1,V305,\"\")","v":""},"","",null,{"$f":"+IF(AF305=\"\",\"\",MAX(AA$1:AA304)+1)","v":""},{"$f":"IF(CPMS2!B327=\"\",\"\",CPMS2!B327)","v":""},{"$f":"IF(CPMS2!C327=\"\",\"\",CPMS2!C327)","v":""},{"$f":"IF(CPMS2!D327=\"\",\"\",CPMS2!D327)","v":""},"",{"$f":"IF(COUNTIF(AE$2:AE305,AE305)=1,AE305,\"\")","v":""},"","","",null,null,null,null,null,null,null,null,null,null,null,null,null,null,null,null,null,null,null,null,null,null,null,null,null,null,null,null,null,null,null,null,null,{"$f":"+IF(BV305=\"\",\"\",MAX(BQ$1:BQ304)+1)","v":""},{"$f":"IF(OpLimit!B327=\"\",\"\",OpLimit!B327)","v":""},{"$f":"IF(OpLimit!C327=\"\",\"\",OpLimit!C327)","v":""},{"$f":"IF(OpLimit!E327=\"\",\"\",OpLimit!E327)","v":""},"",{"$f":"IF(COUNTIF(BU$2:BU305,BU305)=1,BU305,\"\")","v":""},"","","",""]
[null,null,null,null,null,null,null,null,null,null,{"$f":"+IF(N306=\"\",\"\",MAX(K$1:K305)+1)","v":""},{"$f":"IF(CPMS1!E328=\"\",\"\",CPMS1!E328)","v":""},"",{"$f":"IF(COUNTIF(L$2:L306,L306)=1,L306,\"\")","v":""},null,null,null,null,{"$f":"+IF(W306=\"\",\"\",MAX(S$1:S305)+1)","v":""},{"$f":"IF(Adhes_Sealer_Deadener!B328=\"\",\"\",Adhes_Sealer_Deadener!B328)","v":""},{"$f":"IF(Adhes_Sealer_Deadener!C328=\"\",\"\",Adhes_Sealer_Deadener!C328)","v":""},{"$f":"+Table10[[#This Row],[Column1]]&Table10[[#This Row],[Column2]]","v":""},{"$f":"IF(COUNTIF(V$2:V306,V306)=1,V306,\"\")","v":""},"","",null,{"$f":"+IF(AF306=\"\",\"\",MAX(AA$1:AA305)+1)","v":""},{"$f":"IF(CPMS2!B328=\"\",\"\",CPMS2!B328)","v":""},{"$f":"IF(CPMS2!C328=\"\",\"\",CPMS2!C328)","v":""},{"$f":"IF(CPMS2!D328=\"\",\"\",CPMS2!D328)","v":""},"",{"$f":"IF(COUNTIF(AE$2:AE306,AE306)=1,AE306,\"\")","v":""},"","","",null,null,null,null,null,null,null,null,null,null,null,null,null,null,null,null,null,null,null,null,null,null,null,null,null,null,null,null,null,null,null,null,null,{"$f":"+IF(BV306=\"\",\"\",MAX(BQ$1:BQ305)+1)","v":""},{"$f":"IF(OpLimit!B328=\"\",\"\",OpLimit!B328)","v":""},{"$f":"IF(OpLimit!C328=\"\",\"\",OpLimit!C328)","v":""},{"$f":"IF(OpLimit!E328=\"\",\"\",OpLimit!E328)","v":""},"",{"$f":"IF(COUNTIF(BU$2:BU306,BU306)=1,BU306,\"\")","v":""},"","","",""]
[null,null,null,null,null,null,null,null,null,null,{"$f":"+IF(N307=\"\",\"\",MAX(K$1:K306)+1)","v":""},{"$f":"IF(CPMS1!E329=\"\",\"\",CPMS1!E329)","v":""},"",{"$f":"IF(COUNTIF(L$2:L307,L307)=1,L307,\"\")","v":""},null,null,null,null,{"$f":"+IF(W307=\"\",\"\",MAX(S$1:S306)+1)","v":""},{"$f":"IF(Adhes_Sealer_Deadener!B329=\"\",\"\",Adhes_Sealer_Deadener!B329)","v":""},{"$f":"IF(Adhes_Sealer_Deadener!C329=\"\",\"\",Adhes_Sealer_Deadener!C329)","v":""},{"$f":"+Table10[[#This Row],[Column1]]&Table10[[#This Row],[Column2]]","v":""},{"$f":"IF(COUNTIF(V$2:V307,V307)=1,V307,\"\")","v":""},"","",null,{"$f":"+IF(AF307=\"\",\"\",MAX(AA$1:AA306)+1)","v":""},{"$f":"IF(CPMS2!B329=\"\",\"\",CPMS2!B329)","v":""},{"$f":"IF(CPMS2!C329=\"\",\"\",CPMS2!C329)","v":""},{"$f":"IF(CPMS2!D329=\"\",\"\",CPMS2!D329)","v":""},"",{"$f":"IF(COUNTIF(AE$2:AE307,AE307)=1,AE307,\"\")","v":""},"","","",null,null,null,null,null,null,null,null,null,null,null,null,null,null,null,null,null,null,null,null,null,null,null,null,null,null,null,null,null,null,null,null,null,{"$f":"+IF(BV307=\"\",\"\",MAX(BQ$1:BQ306)+1)","v":""},{"$f":"IF(OpLimit!B329=\"\",\"\",OpLimit!B329)","v":""},{"$f":"IF(OpLimit!C329=\"\",\"\",OpLimit!C329)","v":""},{"$f":"IF(OpLimit!E329=\"\",\"\",OpLimit!E329)","v":""},"",{"$f":"IF(COUNTIF(BU$2:BU307,BU307)=1,BU307,\"\")","v":""},"","","",""]
[null,null,null,null,null,null,null,null,null,null,{"$f":"+IF(N308=\"\",\"\",MAX(K$1:K307)+1)","v":""},{"$f":"IF(CPMS1!E330=\"\",\"\",CPMS1!E330)","v":""},"",{"$f":"IF(COUNTIF(L$2:L308,L308)=1,L308,\"\")","v":""},null,null,null,null,{"$f":"+IF(W308=\"\",\"\",MAX(S$1:S307)+1)","v":""},{"$f":"IF(Adhes_Sealer_Deadener!B330=\"\",\"\",Adhes_Sealer_Deadener!B330)","v":""},{"$f":"IF(Adhes_Sealer_Deadener!C330=\"\",\"\",Adhes_Sealer_Deadener!C330)","v":""},{"$f":"+Table10[[#This Row],[Column1]]&Table10[[#This Row],[Column2]]","v":""},{"$f":"IF(COUNTIF(V$2:V308,V308)=1,V308,\"\")","v":""},"","",null,{"$f":"+IF(AF308=\"\",\"\",MAX(AA$1:AA307)+1)","v":""},{"$f":"IF(CPMS2!B330=\"\",\"\",CPMS2!B330)","v":""},{"$f":"IF(CPMS2!C330=\"\",\"\",CPMS2!C330)","v":""},{"$f":"IF(CPMS2!D330=\"\",\"\",CPMS2!D330)","v":""},"",{"$f":"IF(COUNTIF(AE$2:AE308,AE308)=1,AE308,\"\")","v":""},"","","",null,null,null,null,null,null,null,null,null,null,null,null,null,null,null,null,null,null,null,null,null,null,null,null,null,null,null,null,null,null,null,null,null,{"$f":"+IF(BV308=\"\",\"\",MAX(BQ$1:BQ307)+1)","v":""},{"$f":"IF(OpLimit!B330=\"\",\"\",OpLimit!B330)","v":""},{"$f":"IF(OpLimit!C330=\"\",\"\",OpLimit!C330)","v":""},{"$f":"IF(OpLimit!E330=\"\",\"\",OpLimit!E330)","v":""},"",{"$f":"IF(COUNTIF(BU$2:BU308,BU308)=1,BU308,\"\")","v":""},"","","",""]
[null,null,null,null,null,null,null,null,null,null,{"$f":"+IF(N309=\"\",\"\",MAX(K$1:K308)+1)","v":""},{"$f":"IF(CPMS1!E331=\"\",\"\",CPMS1!E331)","v":""},"",{"$f":"IF(COUNTIF(L$2:L309,L309)=1,L309,\"\")","v":""},null,null,null,null,{"$f":"+IF(W309=\"\",\"\",MAX(S$1:S308)+1)","v":""},{"$f":"IF(Adhes_Sealer_Deadener!B331=\"\",\"\",Adhes_Sealer_Deadener!B331)","v":""},{"$f":"IF(Adhes_Sealer_Deadener!C331=\"\",\"\",Adhes_Sealer_Deadener!C331)","v":""},{"$f":"+Table10[[#This Row],[Column1]]&Table10[[#This Row],[Column2]]","v":""},{"$f":"IF(COUNTIF(V$2:V309,V309)=1,V309,\"\")","v":""},"","",null,{"$f":"+IF(AF309=\"\",\"\",MAX(AA$1:AA308)+1)","v":""},{"$f":"IF(CPMS2!B331=\"\",\"\",CPMS2!B331)","v":""},{"$f":"IF(CPMS2!C331=\"\",\"\",CPMS2!C331)","v":""},{"$f":"IF(CPMS2!D331=\"\",\"\",CPMS2!D331)","v":""},"",{"$f":"IF(COUNTIF(AE$2:AE309,AE309)=1,AE309,\"\")","v":""},"","","",null,null,null,null,null,null,null,null,null,null,null,null,null,null,null,null,null,null,null,null,null,null,null,null,null,null,null,null,null,null,null,null,null,{"$f":"+IF(BV309=\"\",\"\",MAX(BQ$1:BQ308)+1)","v":""},{"$f":"IF(OpLimit!B331=\"\",\"\",OpLimit!B331)","v":""},{"$f":"IF(OpLimit!C331=\"\",\"\",OpLimit!C331)","v":""},{"$f":"IF(OpLimit!E331=\"\",\"\",OpLimit!E331)","v":""},"",{"$f":"IF(COUNTIF(BU$2:BU309,BU309)=1,BU309,\"\")","v":""},"","","",""]
[null,null,null,null,null,null,null,null,null,null,{"$f":"+IF(N310=\"\",\"\",MAX(K$1:K309)+1)","v":""},{"$f":"IF(CPMS1!E332=\"\",\"\",CPMS1!E332)","v":""},"",{"$f":"IF(COUNTIF(L$2:L310,L310)=1,L310,\"\")","v":""},null,null,null,null,{"$f":"+IF(W310=\"\",\"\",MAX(S$1:S309)+1)","v":""},{"$f":"IF(Adhes_Sealer_Deadener!B332=\"\",\"\",Adhes_Sealer_Deadener!B332)","v":""},{"$f":"IF(Adhes_Sealer_Deadener!C332=\"\",\"\",Adhes_Sealer_Deadener!C332)","v":""},{"$f":"+Table10[[#This Row],[Column1]]&Table10[[#This Row],[Column2]]","v":""},{"$f":"IF(COUNTIF(V$2:V310,V310)=1,V310,\"\")","v":""},"","",null,{"$f":"+IF(AF310=\"\",\"\",MAX(AA$1:AA309)+1)","v":""},{"$f":"IF(CPMS2!B332=\"\",\"\",CPMS2!B332)","v":""},{"$f":"IF(CPMS2!C332=\"\",\"\",CPMS2!C332)","v":""},{"$f":"IF(CPMS2!D332=\"\",\"\",CPMS2!D332)","v":""},"",{"$f":"IF(COUNTIF(AE$2:AE310,AE310)=1,AE310,\"\")","v":""},"","","",null,null,null,null,null,null,null,null,null,null,null,null,null,null,null,null,null,null,null,null,null,null,null,null,null,null,null,null,null,null,null,null,null,{"$f":"+IF(BV310=\"\",\"\",MAX(BQ$1:BQ309)+1)","v":""},{"$f":"IF(OpLimit!B332=\"\",\"\",OpLimit!B332)","v":""},{"$f":"IF(OpLimit!C332=\"\",\"\",OpLimit!C332)","v":""},{"$f":"IF(OpLimit!E332=\"\",\"\",OpLimit!E332)","v":""},"",{"$f":"IF(COUNTIF(BU$2:BU310,BU310)=1,BU310,\"\")","v":""},"","","",""]
[null,null,null,null,null,null,null,null,null,null,{"$f":"+IF(N311=\"\",\"\",MAX(K$1:K310)+1)","v":""},{"$f":"IF(CPMS1!E333=\"\",\"\",CPMS1!E333)","v":""},"",{"$f":"IF(COUNTIF(L$2:L311,L311)=1,L311,\"\")","v":""},null,null,null,null,{"$f":"+IF(W311=\"\",\"\",MAX(S$1:S310)+1)","v":""},{"$f":"IF(Adhes_Sealer_Deadener!B333=\"\",\"\",Adhes_Sealer_Deadener!B333)","v":""},{"$f":"IF(Adhes_Sealer_Deadener!C333=\"\",\"\",Adhes_Sealer_Deadener!C333)","v":""},{"$f":"+Table10[[#This Row],[Column1]]&Table10[[#This Row],[Column2]]","v":""},{"$f":"IF(COUNTIF(V$2:V311,V311)=1,V311,\"\")","v":""},"","",null,{"$f":"+IF(AF311=\"\",\"\",MAX(AA$1:AA310)+1)","v":""},{"$f":"IF(CPMS2!B333=\"\",\"\",CPMS2!B333)","v":""},{"$f":"IF(CPMS2!C333=\"\",\"\",CPMS2!C333)","v":""},{"$f":"IF(CPMS2!D333=\"\",\"\",CPMS2!D333)","v":""},"",{"$f":"IF(COUNTIF(AE$2:AE311,AE311)=1,AE311,\"\")","v":""},"","","",null,null,null,null,null,null,null,null,null,null,null,null,null,null,null,null,null,null,null,null,null,null,null,null,null,null,null,null,null,null,null,null,null,{"$f":"+IF(BV311=\"\",\"\",MAX(BQ$1:BQ310)+1)","v":""},{"$f":"IF(OpLimit!B333=\"\",\"\",OpLimit!B333)","v":""},{"$f":"IF(OpLimit!C333=\"\",\"\",OpLimit!C333)","v":""},{"$f":"IF(OpLimit!E333=\"\",\"\",OpLimit!E333)","v":""},"",{"$f":"IF(COUNTIF(BU$2:BU311,BU311)=1,BU311,\"\")","v":""},"","","",""]
[null,null,null,null,null,null,null,null,null,null,{"$f":"+IF(N312=\"\",\"\",MAX(K$1:K311)+1)","v":""},{"$f":"IF(CPMS1!E334=\"\",\"\",CPMS1!E334)","v":""},"",{"$f":"IF(COUNTIF(L$2:L312,L312)=1,L312,\"\")","v":""},null,null,null,null,{"$f":"+IF(W312=\"\",\"\",MAX(S$1:S311)+1)","v":""},{"$f":"IF(Adhes_Sealer_Deadener!B334=\"\",\"\",Adhes_Sealer_Deadener!B334)","v":""},{"$f":"IF(Adhes_Sealer_Deadener!C334=\"\",\"\",Adhes_Sealer_Deadener!C334)","v":""},{"$f":"+Table10[[#This Row],[Column1]]&Table10[[#This Row],[Column2]]","v":""},{"$f":"IF(COUNTIF(V$2:V312,V312)=1,V312,\"\")","v":""},"","",null,{"$f":"+IF(AF312=\"\",\"\",MAX(AA$1:AA311)+1)","v":""},{"$f":"IF(CPMS2!B334=\"\",\"\",CPMS2!B334)","v":""},{"$f":"IF(CPMS2!C334=\"\",\"\",CPMS2!C334)","v":""},{"$f":"IF(CPMS2!D334=\"\",\"\",CPMS2!D334)","v":""},"",{"$f":"IF(COUNTIF(AE$2:AE312,AE312)=1,AE312,\"\")","v":""},"","","",null,null,null,null,null,null,null,null,null,null,null,null,null,null,null,null,null,null,null,null,null,null,null,null,null,null,null,null,null,null,null,null,null,{"$f":"+IF(BV312=\"\",\"\",MAX(BQ$1:BQ311)+1)","v":""},{"$f":"IF(OpLimit!B334=\"\",\"\",OpLimit!B334)","v":""},{"$f":"IF(OpLimit!C334=\"\",\"\",OpLimit!C334)","v":""},{"$f":"IF(OpLimit!E334=\"\",\"\",OpLimit!E334)","v":""},"",{"$f":"IF(COUNTIF(BU$2:BU312,BU312)=1,BU312,\"\")","v":""},"","","",""]
[null,null,null,null,null,null,null,null,null,null,{"$f":"+IF(N313=\"\",\"\",MAX(K$1:K312)+1)","v":""},{"$f":"IF(CPMS1!E335=\"\",\"\",CPMS1!E335)","v":""},"",{"$f":"IF(COUNTIF(L$2:L313,L313)=1,L313,\"\")","v":""},null,null,null,null,{"$f":"+IF(W313=\"\",\"\",MAX(S$1:S312)+1)","v":""},{"$f":"IF(Adhes_Sealer_Deadener!B335=\"\",\"\",Adhes_Sealer_Deadener!B335)","v":""},{"$f":"IF(Adhes_Sealer_Deadener!C335=\"\",\"\",Adhes_Sealer_Deadener!C335)","v":""},{"$f":"+Table10[[#This Row],[Column1]]&Table10[[#This Row],[Column2]]","v":""},{"$f":"IF(COUNTIF(V$2:V313,V313)=1,V313,\"\")","v":""},"","",null,{"$f":"+IF(AF313=\"\",\"\",MAX(AA$1:AA312)+1)","v":""},{"$f":"IF(CPMS2!B335=\"\",\"\",CPMS2!B335)","v":""},{"$f":"IF(CPMS2!C335=\"\",\"\",CPMS2!C335)","v":""},{"$f":"IF(CPMS2!D335=\"\",\"\",CPMS2!D335)","v":""},"",{"$f":"IF(COUNTIF(AE$2:AE313,AE313)=1,AE313,\"\")","v":""},"","","",null,null,null,null,null,null,null,null,null,null,null,null,null,null,null,null,null,null,null,null,null,null,null,null,null,null,null,null,null,null,null,null,null,{"$f":"+IF(BV313=\"\",\"\",MAX(BQ$1:BQ312)+1)","v":""},{"$f":"IF(OpLimit!B335=\"\",\"\",OpLimit!B335)","v":""},{"$f":"IF(OpLimit!C335=\"\",\"\",OpLimit!C335)","v":""},{"$f":"IF(OpLimit!E335=\"\",\"\",OpLimit!E335)","v":""},"",{"$f":"IF(COUNTIF(BU$2:BU313,BU313)=1,BU313,\"\")","v":""},"","","",""]
[null,null,null,null,null,null,null,null,null,null,{"$f":"+IF(N314=\"\",\"\",MAX(K$1:K313)+1)","v":""},{"$f":"IF(CPMS1!E336=\"\",\"\",CPMS1!E336)","v":""},"",{"$f":"IF(COUNTIF(L$2:L314,L314)=1,L314,\"\")","v":""},null,null,null,null,{"$f":"+IF(W314=\"\",\"\",MAX(S$1:S313)+1)","v":""},{"$f":"IF(Adhes_Sealer_Deadener!B336=\"\",\"\",Adhes_Sealer_Deadener!B336)","v":""},{"$f":"IF(Adhes_Sealer_Deadener!C336=\"\",\"\",Adhes_Sealer_Deadener!C336)","v":""},{"$f":"+Table10[[#This Row],[Column1]]&Table10[[#This Row],[Column2]]","v":""},{"$f":"IF(COUNTIF(V$2:V314,V314)=1,V314,\"\")","v":""},"","",null,{"$f":"+IF(AF314=\"\",\"\",MAX(AA$1:AA313)+1)","v":""},{"$f":"IF(CPMS2!B336=\"\",\"\",CPMS2!B336)","v":""},{"$f":"IF(CPMS2!C336=\"\",\"\",CPMS2!C336)","v":""},{"$f":"IF(CPMS2!D336=\"\",\"\",CPMS2!D336)","v":""},"",{"$f":"IF(COUNTIF(AE$2:AE314,AE314)=1,AE314,\"\")","v":""},"","","",null,null,null,null,null,null,null,null,null,null,null,null,null,null,null,null,null,null,null,null,null,null,null,null,null,null,null,null,null,null,null,null,null,{"$f":"+IF(BV314=\"\",\"\",MAX(BQ$1:BQ313)+1)","v":""},{"$f":"IF(OpLimit!B336=\"\",\"\",OpLimit!B336)","v":""},{"$f":"IF(OpLimit!C336=\"\",\"\",OpLimit!C336)","v":""},{"$f":"IF(OpLimit!E336=\"\",\"\",OpLimit!E336)","v":""},"",{"$f":"IF(COUNTIF(BU$2:BU314,BU314)=1,BU314,\"\")","v":""},"","","",""]
[null,null,null,null,null,null,null,null,null,null,{"$f":"+IF(N315=\"\",\"\",MAX(K$1:K314)+1)","v":""},{"$f":"IF(CPMS1!E337=\"\",\"\",CPMS1!E337)","v":""},"",{"$f":"IF(COUNTIF(L$2:L315,L315)=1,L315,\"\")","v":""},null,null,null,null,{"$f":"+IF(W315=\"\",\"\",MAX(S$1:S314)+1)","v":""},{"$f":"IF(Adhes_Sealer_Deadener!B337=\"\",\"\",Adhes_Sealer_Deadener!B337)","v":""},{"$f":"IF(Adhes_Sealer_Deadener!C337=\"\",\"\",Adhes_Sealer_Deadener!C337)","v":""},{"$f":"+Table10[[#This Row],[Column1]]&Table10[[#This Row],[Column2]]","v":""},{"$f":"IF(COUNTIF(V$2:V315,V315)=1,V315,\"\")","v":""},"","",null,{"$f":"+IF(AF315=\"\",\"\",MAX(AA$1:AA314)+1)","v":""},{"$f":"IF(CPMS2!B337=\"\",\"\",CPMS2!B337)","v":""},{"$f":"IF(CPMS2!C337=\"\",\"\",CPMS2!C337)","v":""},{"$f":"IF(CPMS2!D337=\"\",\"\",CPMS2!D337)","v":""},"",{"$f":"IF(COUNTIF(AE$2:AE315,AE315)=1,AE315,\"\")","v":""},"","","",null,null,null,null,null,null,null,null,null,null,null,null,null,null,null,null,null,null,null,null,null,null,null,null,null,null,null,null,null,null,null,null,null,{"$f":"+IF(BV315=\"\",\"\",MAX(BQ$1:BQ314)+1)","v":""},{"$f":"IF(OpLimit!B337=\"\",\"\",OpLimit!B337)","v":""},{"$f":"IF(OpLimit!C337=\"\",\"\",OpLimit!C337)","v":""},{"$f":"IF(OpLimit!E337=\"\",\"\",OpLimit!E337)","v":""},"",{"$f":"IF(COUNTIF(BU$2:BU315,BU315)=1,BU315,\"\")","v":""},"","","",""]
[null,null,null,null,null,null,null,null,null,null,{"$f":"+IF(N316=\"\",\"\",MAX(K$1:K315)+1)","v":""},{"$f":"IF(CPMS1!E338=\"\",\"\",CPMS1!E338)","v":""},"",{"$f":"IF(COUNTIF(L$2:L316,L316)=1,L316,\"\")","v":""},null,null,null,null,{"$f":"+IF(W316=\"\",\"\",MAX(S$1:S315)+1)","v":""},{"$f":"IF(Adhes_Sealer_Deadener!B338=\"\",\"\",Adhes_Sealer_Deadener!B338)","v":""},{"$f":"IF(Adhes_Sealer_Deadener!C338=\"\",\"\",Adhes_Sealer_Deadener!C338)","v":""},{"$f":"+Table10[[#This Row],[Column1]]&Table10[[#This Row],[Column2]]","v":""},{"$f":"IF(COUNTIF(V$2:V316,V316)=1,V316,\"\")","v":""},"","",null,{"$f":"+IF(AF316=\"\",\"\",MAX(AA$1:AA315)+1)","v":""},{"$f":"IF(CPMS2!B338=\"\",\"\",CPMS2!B338)","v":""},{"$f":"IF(CPMS2!C338=\"\",\"\",CPMS2!C338)","v":""},{"$f":"IF(CPMS2!D338=\"\",\"\",CPMS2!D338)","v":""},"",{"$f":"IF(COUNTIF(AE$2:AE316,AE316)=1,AE316,\"\")","v":""},"","","",null,null,null,null,null,null,null,null,null,null,null,null,null,null,null,null,null,null,null,null,null,null,null,null,null,null,null,null,null,null,null,null,null,{"$f":"+IF(BV316=\"\",\"\",MAX(BQ$1:BQ315)+1)","v":""},{"$f":"IF(OpLimit!B338=\"\",\"\",OpLimit!B338)","v":""},{"$f":"IF(OpLimit!C338=\"\",\"\",OpLimit!C338)","v":""},{"$f":"IF(OpLimit!E338=\"\",\"\",OpLimit!E338)","v":""},"",{"$f":"IF(COUNTIF(BU$2:BU316,BU316)=1,BU316,\"\")","v":""},"","","",""]
[null,null,null,null,null,null,null,null,null,null,{"$f":"+IF(N317=\"\",\"\",MAX(K$1:K316)+1)","v":""},{"$f":"IF(CPMS1!E339=\"\",\"\",CPMS1!E339)","v":""},"",{"$f":"IF(COUNTIF(L$2:L317,L317)=1,L317,\"\")","v":""},null,null,null,null,{"$f":"+IF(W317=\"\",\"\",MAX(S$1:S316)+1)","v":""},{"$f":"IF(Adhes_Sealer_Deadener!B339=\"\",\"\",Adhes_Sealer_Deadener!B339)","v":""},{"$f":"IF(Adhes_Sealer_Deadener!C339=\"\",\"\",Adhes_Sealer_Deadener!C339)","v":""},{"$f":"+Table10[[#This Row],[Column1]]&Table10[[#This Row],[Column2]]","v":""},{"$f":"IF(COUNTIF(V$2:V317,V317)=1,V317,\"\")","v":""},"","",null,{"$f":"+IF(AF317=\"\",\"\",MAX(AA$1:AA316)+1)","v":""},{"$f":"IF(CPMS2!B339=\"\",\"\",CPMS2!B339)","v":""},{"$f":"IF(CPMS2!C339=\"\",\"\",CPMS2!C339)","v":""},{"$f":"IF(CPMS2!D339=\"\",\"\",CPMS2!D339)","v":""},"",{"$f":"IF(COUNTIF(AE$2:AE317,AE317)=1,AE317,\"\")","v":""},"","","",null,null,null,null,null,null,null,null,null,null,null,null,null,null,null,null,null,null,null,null,null,null,null,null,null,null,null,null,null,null,null,null,null,{"$f":"+IF(BV317=\"\",\"\",MAX(BQ$1:BQ316)+1)","v":""},{"$f":"IF(OpLimit!B339=\"\",\"\",OpLimit!B339)","v":""},{"$f":"IF(OpLimit!C339=\"\",\"\",OpLimit!C339)","v":""},{"$f":"IF(OpLimit!E339=\"\",\"\",OpLimit!E339)","v":""},"",{"$f":"IF(COUNTIF(BU$2:BU317,BU317)=1,BU317,\"\")","v":""},"","","",""]
[null,null,null,null,null,null,null,null,null,null,{"$f":"+IF(N318=\"\",\"\",MAX(K$1:K317)+1)","v":""},{"$f":"IF(CPMS1!E340=\"\",\"\",CPMS1!E340)","v":""},"",{"$f":"IF(COUNTIF(L$2:L318,L318)=1,L318,\"\")","v":""},null,null,null,null,{"$f":"+IF(W318=\"\",\"\",MAX(S$1:S317)+1)","v":""},{"$f":"IF(Adhes_Sealer_Deadener!B340=\"\",\"\",Adhes_Sealer_Deadener!B340)","v":""},{"$f":"IF(Adhes_Sealer_Deadener!C340=\"\",\"\",Adhes_Sealer_Deadener!C340)","v":""},{"$f":"+Table10[[#This Row],[Column1]]&Table10[[#This Row],[Column2]]","v":""},{"$f":"IF(COUNTIF(V$2:V318,V318)=1,V318,\"\")","v":""},"","",null,{"$f":"+IF(AF318=\"\",\"\",MAX(AA$1:AA317)+1)","v":""},{"$f":"IF(CPMS2!B340=\"\",\"\",CPMS2!B340)","v":""},{"$f":"IF(CPMS2!C340=\"\",\"\",CPMS2!C340)","v":""},{"$f":"IF(CPMS2!D340=\"\",\"\",CPMS2!D340)","v":""},"",{"$f":"IF(COUNTIF(AE$2:AE318,AE318)=1,AE318,\"\")","v":""},"","","",null,null,null,null,null,null,null,null,null,null,null,null,null,null,null,null,null,null,null,null,null,null,null,null,null,null,null,null,null,null,null,null,null,{"$f":"+IF(BV318=\"\",\"\",MAX(BQ$1:BQ317)+1)","v":""},{"$f":"IF(OpLimit!B340=\"\",\"\",OpLimit!B340)","v":""},{"$f":"IF(OpLimit!C340=\"\",\"\",OpLimit!C340)","v":""},{"$f":"IF(OpLimit!E340=\"\",\"\",OpLimit!E340)","v":""},"",{"$f":"IF(COUNTIF(BU$2:BU318,BU318)=1,BU318,\"\")","v":""},"","","",""]
[null,null,null,null,null,null,null,null,null,null,{"$f":"+IF(N319=\"\",\"\",MAX(K$1:K318)+1)","v":""},{"$f":"IF(CPMS1!E341=\"\",\"\",CPMS1!E341)","v":""},"",{"$f":"IF(COUNTIF(L$2:L319,L319)=1,L319,\"\")","v":""},null,null,null,null,{"$f":"+IF(W319=\"\",\"\",MAX(S$1:S318)+1)","v":""},{"$f":"IF(Adhes_Sealer_Deadener!B341=\"\",\"\",Adhes_Sealer_Deadener!B341)","v":""},{"$f":"IF(Adhes_Sealer_Deadener!C341=\"\",\"\",Adhes_Sealer_Deadener!C341)","v":""},{"$f":"+Table10[[#This Row],[Column1]]&Table10[[#This Row],[Column2]]","v":""},{"$f":"IF(COUNTIF(V$2:V319,V319)=1,V319,\"\")","v":""},"","",null,{"$f":"+IF(AF319=\"\",\"\",MAX(AA$1:AA318)+1)","v":""},{"$f":"IF(CPMS2!B341=\"\",\"\",CPMS2!B341)","v":""},{"$f":"IF(CPMS2!C341=\"\",\"\",CPMS2!C341)","v":""},{"$f":"IF(CPMS2!D341=\"\",\"\",CPMS2!D341)","v":""},"",{"$f":"IF(COUNTIF(AE$2:AE319,AE319)=1,AE319,\"\")","v":""},"","","",null,null,null,null,null,null,null,null,null,null,null,null,null,null,null,null,null,null,null,null,null,null,null,null,null,null,null,null,null,null,null,null,null,{"$f":"+IF(BV319=\"\",\"\",MAX(BQ$1:BQ318)+1)","v":""},{"$f":"IF(OpLimit!B341=\"\",\"\",OpLimit!B341)","v":""},{"$f":"IF(OpLimit!C341=\"\",\"\",OpLimit!C341)","v":""},{"$f":"IF(OpLimit!E341=\"\",\"\",OpLimit!E341)","v":""},"",{"$f":"IF(COUNTIF(BU$2:BU319,BU319)=1,BU319,\"\")","v":""},"","","",""]
[null,null,null,null,null,null,null,null,null,null,{"$f":"+IF(N320=\"\",\"\",MAX(K$1:K319)+1)","v":""},{"$f":"IF(CPMS1!E342=\"\",\"\",CPMS1!E342)","v":""},"",{"$f":"IF(COUNTIF(L$2:L320,L320)=1,L320,\"\")","v":""},null,null,null,null,{"$f":"+IF(W320=\"\",\"\",MAX(S$1:S319)+1)","v":""},{"$f":"IF(Adhes_Sealer_Deadener!B342=\"\",\"\",Adhes_Sealer_Deadener!B342)","v":""},{"$f":"IF(Adhes_Sealer_Deadener!C342=\"\",\"\",Adhes_Sealer_Deadener!C342)","v":""},{"$f":"+Table10[[#This Row],[Column1]]&Table10[[#This Row],[Column2]]","v":""},{"$f":"IF(COUNTIF(V$2:V320,V320)=1,V320,\"\")","v":""},"","",null,{"$f":"+IF(AF320=\"\",\"\",MAX(AA$1:AA319)+1)","v":""},{"$f":"IF(CPMS2!B342=\"\",\"\",CPMS2!B342)","v":""},{"$f":"IF(CPMS2!C342=\"\",\"\",CPMS2!C342)","v":""},{"$f":"IF(CPMS2!D342=\"\",\"\",CPMS2!D342)","v":""},"",{"$f":"IF(COUNTIF(AE$2:AE320,AE320)=1,AE320,\"\")","v":""},"","","",null,null,null,null,null,null,null,null,null,null,null,null,null,null,null,null,null,null,null,null,null,null,null,null,null,null,null,null,null,null,null,null,null,{"$f":"+IF(BV320=\"\",\"\",MAX(BQ$1:BQ319)+1)","v":""},{"$f":"IF(OpLimit!B342=\"\",\"\",OpLimit!B342)","v":""},{"$f":"IF(OpLimit!C342=\"\",\"\",OpLimit!C342)","v":""},{"$f":"IF(OpLimit!E342=\"\",\"\",OpLimit!E342)","v":""},"",{"$f":"IF(COUNTIF(BU$2:BU320,BU320)=1,BU320,\"\")","v":""},"","","",""]
[null,null,null,null,null,null,null,null,null,null,{"$f":"+IF(N321=\"\",\"\",MAX(K$1:K320)+1)","v":""},{"$f":"IF(CPMS1!E343=\"\",\"\",CPMS1!E343)","v":""},"",{"$f":"IF(COUNTIF(L$2:L321,L321)=1,L321,\"\")","v":""},null,null,null,null,{"$f":"+IF(W321=\"\",\"\",MAX(S$1:S320)+1)","v":""},{"$f":"IF(Adhes_Sealer_Deadener!B343=\"\",\"\",Adhes_Sealer_Deadener!B343)","v":""},{"$f":"IF(Adhes_Sealer_Deadener!C343=\"\",\"\",Adhes_Sealer_Deadener!C343)","v":""},{"$f":"+Table10[[#This Row],[Column1]]&Table10[[#This Row],[Column2]]","v":""},{"$f":"IF(COUNTIF(V$2:V321,V321)=1,V321,\"\")","v":""},"","",null,{"$f":"+IF(AF321=\"\",\"\",MAX(AA$1:AA320)+1)","v":""},{"$f":"IF(CPMS2!B343=\"\",\"\",CPMS2!B343)","v":""},{"$f":"IF(CPMS2!C343=\"\",\"\",CPMS2!C343)","v":""},{"$f":"IF(CPMS2!D343=\"\",\"\",CPMS2!D343)","v":""},"",{"$f":"IF(COUNTIF(AE$2:AE321,AE321)=1,AE321,\"\")","v":""},"","","",null,null,null,null,null,null,null,null,null,null,null,null,null,null,null,null,null,null,null,null,null,null,null,null,null,null,null,null,null,null,null,null,null,{"$f":"+IF(BV321=\"\",\"\",MAX(BQ$1:BQ320)+1)","v":""},{"$f":"IF(OpLimit!B343=\"\",\"\",OpLimit!B343)","v":""},{"$f":"IF(OpLimit!C343=\"\",\"\",OpLimit!C343)","v":""},{"$f":"IF(OpLimit!E343=\"\",\"\",OpLimit!E343)","v":""},"",{"$f":"IF(COUNTIF(BU$2:BU321,BU321)=1,BU321,\"\")","v":""},"","","",""]
[null,null,null,null,null,null,null,null,null,null,{"$f":"+IF(N322=\"\",\"\",MAX(K$1:K321)+1)","v":""},{"$f":"IF(CPMS1!E344=\"\",\"\",CPMS1!E344)","v":""},{"$f":"+IFERROR(INDEX($L$2:$L$501,MATCH(ROW()-ROW($M$1),$K$2:$K$501,0)),\"\")","v":""},{"$f":"IF(COUNTIF(L$2:L322,L322)=1,L322,\"\")","v":""},null,null,null,null,{"$f":"+IF(W322=\"\",\"\",MAX(S$1:S321)+1)","v":""},{"$f":"IF(Adhes_Sealer_Deadener!B344=\"\",\"\",Adhes_Sealer_Deadener!B344)","v":""},{"$f":"IF(Adhes_Sealer_Deadener!C344=\"\",\"\",Adhes_Sealer_Deadener!C344)","v":""},{"$f":"+Table10[[#This Row],[Column1]]&Table10[[#This Row],[Column2]]","v":""},{"$f":"IF(COUNTIF(V$2:V322,V322)=1,V322,\"\")","v":""},"","",null,{"$f":"+IF(AF322=\"\",\"\",MAX(AA$1:AA321)+1)","v":""},{"$f":"IF(CPMS2!B344=\"\",\"\",CPMS2!B344)","v":""},{"$f":"IF(CPMS2!C344=\"\",\"\",CPMS2!C344)","v":""},{"$f":"IF(CPMS2!D344=\"\",\"\",CPMS2!D344)","v":""},"",{"$f":"IF(COUNTIF(AE$2:AE322,AE322)=1,AE322,\"\")","v":""},"","","",null,null,null,null,null,null,null,null,null,null,null,null,null,null,null,null,null,null,null,null,null,null,null,null,null,null,null,null,null,null,null,null,null,{"$f":"+IF(BV322=\"\",\"\",MAX(BQ$1:BQ321)+1)","v":""},{"$f":"IF(OpLimit!B344=\"\",\"\",OpLimit!B344)","v":""},{"$f":"IF(OpLimit!C344=\"\",\"\",OpLimit!C344)","v":""},{"$f":"IF(OpLimit!E344=\"\",\"\",OpLimit!E344)","v":""},"",{"$f":"IF(COUNTIF(BU$2:BU322,BU322)=1,BU322,\"\")","v":""},"","","",""]
[null,null,null,null,null,null,null,null,null,null,{"$f":"+IF(N323=\"\",\"\",MAX(K$1:K322)+1)","v":""},{"$f":"IF(CPMS1!E345=\"\",\"\",CPMS1!E345)","v":""},"",{"$f":"IF(COUNTIF(L$2:L323,L323)=1,L323,\"\")","v":""},null,null,null,null,{"$f":"+IF(W323=\"\",\"\",MAX(S$1:S322)+1)","v":""},{"$f":"IF(Adhes_Sealer_Deadener!B345=\"\",\"\",Adhes_Sealer_Deadener!B345)","v":""},{"$f":"IF(Adhes_Sealer_Deadener!C345=\"\",\"\",Adhes_Sealer_Deadener!C345)","v":""},{"$f":"+Table10[[#This Row],[Column1]]&Table10[[#This Row],[Column2]]","v":""},{"$f":"IF(COUNTIF(V$2:V323,V323)=1,V323,\"\")","v":""},"","",null,{"$f":"+IF(AF323=\"\",\"\",MAX(AA$1:AA322)+1)","v":""},{"$f":"IF(CPMS2!B345=\"\",\"\",CPMS2!B345)","v":""},{"$f":"IF(CPMS2!C345=\"\",\"\",CPMS2!C345)","v":""},{"$f":"IF(CPMS2!D345=\"\",\"\",CPMS2!D345)","v":""},{"$f":"AB323&AC323&AD323","v":""},{"$f":"IF(COUNTIF(AE$2:AE323,AE323)=1,AE323,\"\")","v":""},{"$f":"+IFERROR(INDEX($AB$2:$AB$478,MATCH(ROW()-ROW($AF$1),$AA$2:$AA$478,0)),\"\")","v":""},{"$f":"+IFERROR(INDEX($AC$2:$AC$478,MATCH(ROW()-ROW($AF$1),$AA$2:$AA$478,0)),\"\")","v":""},{"$f":"+IFERROR(INDEX($AD$2:$AD$478,MATCH(ROW()-ROW($AF$1),$AA$2:$AA$478,0)),\"\")","v":""},null,null,null,null,null,null,null,null,null,null,null,null,null,null,null,null,null,null,null,null,null,null,null,null,null,null,null,null,null,null,null,null,null,{"$f":"+IF(BV323=\"\",\"\",MAX(BQ$1:BQ322)+1)","v":""},{"$f":"IF(OpLimit!B345=\"\",\"\",OpLimit!B345)","v":""},{"$f":"IF(OpLimit!C345=\"\",\"\",OpLimit!C345)","v":""},{"$f":"IF(OpLimit!E345=\"\",\"\",OpLimit!E345)","v":""},{"$f":"BR323&BS323&BT323","v":""},{"$f":"IF(COUNTIF(BU$2:BU323,BU323)=1,BU323,\"\")","v":""},{"$f":"IF(BX323=\"\",\"\",BX323&\" \"&BY323&\" \"&BZ323)","v":""},{"$f":"+IFERROR(INDEX($BR$2:$BR$478,MATCH(ROW()-ROW($BV$1),$BQ$2:$BQ$478,0)),\"\")","v":""},{"$f":"+IFERROR(INDEX($BS$2:$BS$478,MATCH(ROW()-ROW($BV$1),$BQ$2:$BQ$478,0)),\"\")","v":""},{"$f":"+IFERROR(INDEX($BT$2:$BT$478,MATCH(ROW()-ROW($BV$1),$BQ$2:$BQ$478,0)),\"\")","v":""}]
[null,null,null,null,null,null,null,null,null,null,{"$f":"+IF(N324=\"\",\"\",MAX(K$1:K323)+1)","v":""},{"$f":"IF(CPMS1!E346=\"\",\"\",CPMS1!E346)","v":""},"",{"$f":"IF(COUNTIF(L$2:L324,L324)=1,L324,\"\")","v":""},null,null,null,null,{"$f":"+IF(W324=\"\",\"\",MAX(S$1:S323)+1)","v":""},{"$f":"IF(Adhes_Sealer_Deadener!B346=\"\",\"\",Adhes_Sealer_Deadener!B346)","v":""},{"$f":"IF(Adhes_Sealer_Deadener!C346=\"\",\"\",Adhes_Sealer_Deadener!C346)","v":""},{"$f":"+Table10[[#This Row],[Column1]]&Table10[[#This Row],[Column2]]","v":""},{"$f":"IF(COUNTIF(V$2:V324,V324)=1,V324,\"\")","v":""},"","",null,{"$f":"+IF(AF324=\"\",\"\",MAX(AA$1:AA323)+1)","v":""},{"$f":"IF(CPMS2!B346=\"\",\"\",CPMS2!B346)","v":""},{"$f":"IF(CPMS2!C346=\"\",\"\",CPMS2!C346)","v":""},{"$f":"IF(CPMS2!D346=\"\",\"\",CPMS2!D346)","v":""},"",{"$f":"IF(COUNTIF(AE$2:AE324,AE324)=1,AE324,\"\")","v":""},"","","",null,null,null,null,null,null,null,null,null,null,null,null,null,null,null,null,null,null,null,null,null,null,null,null,null,null,null,null,null,null,null,null,null,{"$f":"+IF(BV324=\"\",\"\",MAX(BQ$1:BQ323)+1)","v":""},{"$f":"IF(OpLimit!B346=\"\",\"\",OpLimit!B346)","v":""},{"$f":"IF(OpLimit!C346=\"\",\"\",OpLimit!C346)","v":""},{"$f":"IF(OpLimit!E346=\"\",\"\",OpLimit!E346)","v":""},"",{"$f":"IF(COUNTIF(BU$2:BU324,BU324)=1,BU324,\"\")","v":""},"","","",""]
[null,null,null,null,null,null,null,null,null,null,{"$f":"+IF(N325=\"\",\"\",MAX(K$1:K324)+1)","v":""},{"$f":"IF(CPMS1!E347=\"\",\"\",CPMS1!E347)","v":""},"",{"$f":"IF(COUNTIF(L$2:L325,L325)=1,L325,\"\")","v":""},null,null,null,null,{"$f":"+IF(W325=\"\",\"\",MAX(S$1:S324)+1)","v":""},{"$f":"IF(Adhes_Sealer_Deadener!B347=\"\",\"\",Adhes_Sealer_Deadener!B347)","v":""},{"$f":"IF(Adhes_Sealer_Deadener!C347=\"\",\"\",Adhes_Sealer_Deadener!C347)","v":""},{"$f":"+Table10[[#This Row],[Column1]]&Table10[[#This Row],[Column2]]","v":""},{"$f":"IF(COUNTIF(V$2:V325,V325)=1,V325,\"\")","v":""},"","",null,{"$f":"+IF(AF325=\"\",\"\",MAX(AA$1:AA324)+1)","v":""},{"$f":"IF(CPMS2!B347=\"\",\"\",CPMS2!B347)","v":""},{"$f":"IF(CPMS2!C347=\"\",\"\",CPMS2!C347)","v":""},{"$f":"IF(CPMS2!D347=\"\",\"\",CPMS2!D347)","v":""},"",{"$f":"IF(COUNTIF(AE$2:AE325,AE325)=1,AE325,\"\")","v":""},"","","",null,null,null,null,null,null,null,null,null,null,null,null,null,null,null,null,null,null,null,null,null,null,null,null,null,null,null,null,null,null,null,null,null,{"$f":"+IF(BV325=\"\",\"\",MAX(BQ$1:BQ324)+1)","v":""},{"$f":"IF(OpLimit!B347=\"\",\"\",OpLimit!B347)","v":""},{"$f":"IF(OpLimit!C347=\"\",\"\",OpLimit!C347)","v":""},{"$f":"IF(OpLimit!E347=\"\",\"\",OpLimit!E347)","v":""},"",{"$f":"IF(COUNTIF(BU$2:BU325,BU325)=1,BU325,\"\")","v":""},"","","",""]
[null,null,null,null,null,null,null,null,null,null,{"$f":"+IF(N326=\"\",\"\",MAX(K$1:K325)+1)","v":""},{"$f":"IF(CPMS1!E348=\"\",\"\",CPMS1!E348)","v":""},"",{"$f":"IF(COUNTIF(L$2:L326,L326)=1,L326,\"\")","v":""},null,null,null,null,{"$f":"+IF(W326=\"\",\"\",MAX(S$1:S325)+1)","v":""},{"$f":"IF(Adhes_Sealer_Deadener!B348=\"\",\"\",Adhes_Sealer_Deadener!B348)","v":""},{"$f":"IF(Adhes_Sealer_Deadener!C348=\"\",\"\",Adhes_Sealer_Deadener!C348)","v":""},{"$f":"+Table10[[#This Row],[Column1]]&Table10[[#This Row],[Column2]]","v":""},{"$f":"IF(COUNTIF(V$2:V326,V326)=1,V326,\"\")","v":""},"","",null,{"$f":"+IF(AF326=\"\",\"\",MAX(AA$1:AA325)+1)","v":""},{"$f":"IF(CPMS2!B348=\"\",\"\",CPMS2!B348)","v":""},{"$f":"IF(CPMS2!C348=\"\",\"\",CPMS2!C348)","v":""},{"$f":"IF(CPMS2!D348=\"\",\"\",CPMS2!D348)","v":""},"",{"$f":"IF(COUNTIF(AE$2:AE326,AE326)=1,AE326,\"\")","v":""},"","","",null,null,null,null,null,null,null,null,null,null,null,null,null,null,null,null,null,null,null,null,null,null,null,null,null,null,null,null,null,null,null,null,null,{"$f":"+IF(BV326=\"\",\"\",MAX(BQ$1:BQ325)+1)","v":""},{"$f":"IF(OpLimit!B348=\"\",\"\",OpLimit!B348)","v":""},{"$f":"IF(OpLimit!C348=\"\",\"\",OpLimit!C348)","v":""},{"$f":"IF(OpLimit!E348=\"\",\"\",OpLimit!E348)","v":""},"",{"$f":"IF(COUNTIF(BU$2:BU326,BU326)=1,BU326,\"\")","v":""},"","","",""]
[null,null,null,null,null,null,null,null,null,null,{"$f":"+IF(N327=\"\",\"\",MAX(K$1:K326)+1)","v":""},{"$f":"IF(CPMS1!E349=\"\",\"\",CPMS1!E349)","v":""},"",{"$f":"IF(COUNTIF(L$2:L327,L327)=1,L327,\"\")","v":""},null,null,null,null,{"$f":"+IF(W327=\"\",\"\",MAX(S$1:S326)+1)","v":""},{"$f":"IF(Adhes_Sealer_Deadener!B349=\"\",\"\",Adhes_Sealer_Deadener!B349)","v":""},{"$f":"IF(Adhes_Sealer_Deadener!C349=\"\",\"\",Adhes_Sealer_Deadener!C349)","v":""},{"$f":"+Table10[[#This Row],[Column1]]&Table10[[#This Row],[Column2]]","v":""},{"$f":"IF(COUNTIF(V$2:V327,V327)=1,V327,\"\")","v":""},"","",null,{"$f":"+IF(AF327=\"\",\"\",MAX(AA$1:AA326)+1)","v":""},{"$f":"IF(CPMS2!B349=\"\",\"\",CPMS2!B349)","v":""},{"$f":"IF(CPMS2!C349=\"\",\"\",CPMS2!C349)","v":""},{"$f":"IF(CPMS2!D349=\"\",\"\",CPMS2!D349)","v":""},"",{"$f":"IF(COUNTIF(AE$2:AE327,AE327)=1,AE327,\"\")","v":""},"","","",null,null,null,null,null,null,null,null,null,null,null,null,null,null,null,null,null,null,null,null,null,null,null,null,null,null,null,null,null,null,null,null,null,{"$f":"+IF(BV327=\"\",\"\",MAX(BQ$1:BQ326)+1)","v":""},{"$f":"IF(OpLimit!B349=\"\",\"\",OpLimit!B349)","v":""},{"$f":"IF(OpLimit!C349=\"\",\"\",OpLimit!C349)","v":""},{"$f":"IF(OpLimit!E349=\"\",\"\",OpLimit!E349)","v":""},"",{"$f":"IF(COUNTIF(BU$2:BU327,BU327)=1,BU327,\"\")","v":""},"","","",""]
[null,null,null,null,null,null,null,null,null,null,{"$f":"+IF(N328=\"\",\"\",MAX(K$1:K327)+1)","v":""},{"$f":"IF(CPMS1!E350=\"\",\"\",CPMS1!E350)","v":""},"",{"$f":"IF(COUNTIF(L$2:L328,L328)=1,L328,\"\")","v":""},null,null,null,null,{"$f":"+IF(W328=\"\",\"\",MAX(S$1:S327)+1)","v":""},{"$f":"IF(Adhes_Sealer_Deadener!B350=\"\",\"\",Adhes_Sealer_Deadener!B350)","v":""},{"$f":"IF(Adhes_Sealer_Deadener!C350=\"\",\"\",Adhes_Sealer_Deadener!C350)","v":""},{"$f":"+Table10[[#This Row],[Column1]]&Table10[[#This Row],[Column2]]","v":""},{"$f":"IF(COUNTIF(V$2:V328,V328)=1,V328,\"\")","v":""},"","",null,{"$f":"+IF(AF328=\"\",\"\",MAX(AA$1:AA327)+1)","v":""},{"$f":"IF(CPMS2!B350=\"\",\"\",CPMS2!B350)","v":""},{"$f":"IF(CPMS2!C350=\"\",\"\",CPMS2!C350)","v":""},{"$f":"IF(CPMS2!D350=\"\",\"\",CPMS2!D350)","v":""},"",{"$f":"IF(COUNTIF(AE$2:AE328,AE328)=1,AE328,\"\")","v":""},"","","",null,null,null,null,null,null,null,null,null,null,null,null,null,null,null,null,null,null,null,null,null,null,null,null,null,null,null,null,null,null,null,null,null,{"$f":"+IF(BV328=\"\",\"\",MAX(BQ$1:BQ327)+1)","v":""},{"$f":"IF(OpLimit!B350=\"\",\"\",OpLimit!B350)","v":""},{"$f":"IF(OpLimit!C350=\"\",\"\",OpLimit!C350)","v":""},{"$f":"IF(OpLimit!E350=\"\",\"\",OpLimit!E350)","v":""},"",{"$f":"IF(COUNTIF(BU$2:BU328,BU328)=1,BU328,\"\")","v":""},"","","",""]
[null,null,null,null,null,null,null,null,null,null,{"$f":"+IF(N329=\"\",\"\",MAX(K$1:K328)+1)","v":""},{"$f":"IF(CPMS1!E351=\"\",\"\",CPMS1!E351)","v":""},"",{"$f":"IF(COUNTIF(L$2:L329,L329)=1,L329,\"\")","v":""},null,null,null,null,{"$f":"+IF(W329=\"\",\"\",MAX(S$1:S328)+1)","v":""},{"$f":"IF(Adhes_Sealer_Deadener!B351=\"\",\"\",Adhes_Sealer_Deadener!B351)","v":""},{"$f":"IF(Adhes_Sealer_Deadener!C351=\"\",\"\",Adhes_Sealer_Deadener!C351)","v":""},{"$f":"+Table10[[#This Row],[Column1]]&Table10[[#This Row],[Column2]]","v":""},{"$f":"IF(COUNTIF(V$2:V329,V329)=1,V329,\"\")","v":""},"","",null,{"$f":"+IF(AF329=\"\",\"\",MAX(AA$1:AA328)+1)","v":""},{"$f":"IF(CPMS2!B351=\"\",\"\",CPMS2!B351)","v":""},{"$f":"IF(CPMS2!C351=\"\",\"\",CPMS2!C351)","v":""},{"$f":"IF(CPMS2!D351=\"\",\"\",CPMS2!D351)","v":""},"",{"$f":"IF(COUNTIF(AE$2:AE329,AE329)=1,AE329,\"\")","v":""},"","","",null,null,null,null,null,null,null,null,null,null,null,null,null,null,null,null,null,null,null,null,null,null,null,null,null,null,null,null,null,null,null,null,null,{"$f":"+IF(BV329=\"\",\"\",MAX(BQ$1:BQ328)+1)","v":""},{"$f":"IF(OpLimit!B351=\"\",\"\",OpLimit!B351)","v":""},{"$f":"IF(OpLimit!C351=\"\",\"\",OpLimit!C351)","v":""},{"$f":"IF(OpLimit!E351=\"\",\"\",OpLimit!E351)","v":""},"",{"$f":"IF(COUNTIF(BU$2:BU329,BU329)=1,BU329,\"\")","v":""},"","","",""]
[null,null,null,null,null,null,null,null,null,null,{"$f":"+IF(N330=\"\",\"\",MAX(K$1:K329)+1)","v":""},{"$f":"IF(CPMS1!E352=\"\",\"\",CPMS1!E352)","v":""},"",{"$f":"IF(COUNTIF(L$2:L330,L330)=1,L330,\"\")","v":""},null,null,null,null,{"$f":"+IF(W330=\"\",\"\",MAX(S$1:S329)+1)","v":""},{"$f":"IF(Adhes_Sealer_Deadener!B352=\"\",\"\",Adhes_Sealer_Deadener!B352)","v":""},{"$f":"IF(Adhes_Sealer_Deadener!C352=\"\",\"\",Adhes_Sealer_Deadener!C352)","v":""},{"$f":"+Table10[[#This Row],[Column1]]&Table10[[#This Row],[Column2]]","v":""},{"$f":"IF(COUNTIF(V$2:V330,V330)=1,V330,\"\")","v":""},"","",null,{"$f":"+IF(AF330=\"\",\"\",MAX(AA$1:AA329)+1)","v":""},{"$f":"IF(CPMS2!B352=\"\",\"\",CPMS2!B352)","v":""},{"$f":"IF(CPMS2!C352=\"\",\"\",CPMS2!C352)","v":""},{"$f":"IF(CPMS2!D352=\"\",\"\",CPMS2!D352)","v":""},"",{"$f":"IF(COUNTIF(AE$2:AE330,AE330)=1,AE330,\"\")","v":""},"","","",null,null,null,null,null,null,null,null,null,null,null,null,null,null,null,null,null,null,null,null,null,null,null,null,null,null,null,null,null,null,null,null,null,{"$f":"+IF(BV330=\"\",\"\",MAX(BQ$1:BQ329)+1)","v":""},{"$f":"IF(OpLimit!B352=\"\",\"\",OpLimit!B352)","v":""},{"$f":"IF(OpLimit!C352=\"\",\"\",OpLimit!C352)","v":""},{"$f":"IF(OpLimit!E352=\"\",\"\",OpLimit!E352)","v":""},"",{"$f":"IF(COUNTIF(BU$2:BU330,BU330)=1,BU330,\"\")","v":""},"","","",""]
[null,null,null,null,null,null,null,null,null,null,{"$f":"+IF(N331=\"\",\"\",MAX(K$1:K330)+1)","v":""},{"$f":"IF(CPMS1!E353=\"\",\"\",CPMS1!E353)","v":""},"",{"$f":"IF(COUNTIF(L$2:L331,L331)=1,L331,\"\")","v":""},null,null,null,null,{"$f":"+IF(W331=\"\",\"\",MAX(S$1:S330)+1)","v":""},{"$f":"IF(Adhes_Sealer_Deadener!B353=\"\",\"\",Adhes_Sealer_Deadener!B353)","v":""},{"$f":"IF(Adhes_Sealer_Deadener!C353=\"\",\"\",Adhes_Sealer_Deadener!C353)","v":""},{"$f":"+Table10[[#This Row],[Column1]]&Table10[[#This Row],[Column2]]","v":""},{"$f":"IF(COUNTIF(V$2:V331,V331)=1,V331,\"\")","v":""},"","",null,{"$f":"+IF(AF331=\"\",\"\",MAX(AA$1:AA330)+1)","v":""},{"$f":"IF(CPMS2!B353=\"\",\"\",CPMS2!B353)","v":""},{"$f":"IF(CPMS2!C353=\"\",\"\",CPMS2!C353)","v":""},{"$f":"IF(CPMS2!D353=\"\",\"\",CPMS2!D353)","v":""},"",{"$f":"IF(COUNTIF(AE$2:AE331,AE331)=1,AE331,\"\")","v":""},"","","",null,null,null,null,null,null,null,null,null,null,null,null,null,null,null,null,null,null,null,null,null,null,null,null,null,null,null,null,null,null,null,null,null,{"$f":"+IF(BV331=\"\",\"\",MAX(BQ$1:BQ330)+1)","v":""},{"$f":"IF(OpLimit!B353=\"\",\"\",OpLimit!B353)","v":""},{"$f":"IF(OpLimit!C353=\"\",\"\",OpLimit!C353)","v":""},{"$f":"IF(OpLimit!E353=\"\",\"\",OpLimit!E353)","v":""},"",{"$f":"IF(COUNTIF(BU$2:BU331,BU331)=1,BU331,\"\")","v":""},"","","",""]
[null,null,null,null,null,null,null,null,null,null,{"$f":"+IF(N332=\"\",\"\",MAX(K$1:K331)+1)","v":""},{"$f":"IF(CPMS1!E354=\"\",\"\",CPMS1!E354)","v":""},"",{"$f":"IF(COUNTIF(L$2:L332,L332)=1,L332,\"\")","v":""},null,null,null,null,{"$f":"+IF(W332=\"\",\"\",MAX(S$1:S331)+1)","v":""},{"$f":"IF(Adhes_Sealer_Deadener!B354=\"\",\"\",Adhes_Sealer_Deadener!B354)","v":""},{"$f":"IF(Adhes_Sealer_Deadener!C354=\"\",\"\",Adhes_Sealer_Deadener!C354)","v":""},{"$f":"+Table10[[#This Row],[Column1]]&Table10[[#This Row],[Column2]]","v":""},{"$f":"IF(COUNTIF(V$2:V332,V332)=1,V332,\"\")","v":""},"","",null,{"$f":"+IF(AF332=\"\",\"\",MAX(AA$1:AA331)+1)","v":""},{"$f":"IF(CPMS2!B354=\"\",\"\",CPMS2!B354)","v":""},{"$f":"IF(CPMS2!C354=\"\",\"\",CPMS2!C354)","v":""},{"$f":"IF(CPMS2!D354=\"\",\"\",CPMS2!D354)","v":""},"",{"$f":"IF(COUNTIF(AE$2:AE332,AE332)=1,AE332,\"\")","v":""},"","","",null,null,null,null,null,null,null,null,null,null,null,null,null,null,null,null,null,null,null,null,null,null,null,null,null,null,null,null,null,null,null,null,null,{"$f":"+IF(BV332=\"\",\"\",MAX(BQ$1:BQ331)+1)","v":""},{"$f":"IF(OpLimit!B354=\"\",\"\",OpLimit!B354)","v":""},{"$f":"IF(OpLimit!C354=\"\",\"\",OpLimit!C354)","v":""},{"$f":"IF(OpLimit!E354=\"\",\"\",OpLimit!E354)","v":""},"",{"$f":"IF(COUNTIF(BU$2:BU332,BU332)=1,BU332,\"\")","v":""},"","","",""]
[null,null,null,null,null,null,null,null,null,null,{"$f":"+IF(N333=\"\",\"\",MAX(K$1:K332)+1)","v":""},{"$f":"IF(CPMS1!E355=\"\",\"\",CPMS1!E355)","v":""},"",{"$f":"IF(COUNTIF(L$2:L333,L333)=1,L333,\"\")","v":""},null,null,null,null,{"$f":"+IF(W333=\"\",\"\",MAX(S$1:S332)+1)","v":""},{"$f":"IF(Adhes_Sealer_Deadener!B355=\"\",\"\",Adhes_Sealer_Deadener!B355)","v":""},{"$f":"IF(Adhes_Sealer_Deadener!C355=\"\",\"\",Adhes_Sealer_Deadener!C355)","v":""},{"$f":"+Table10[[#This Row],[Column1]]&Table10[[#This Row],[Column2]]","v":""},{"$f":"IF(COUNTIF(V$2:V333,V333)=1,V333,\"\")","v":""},"","",null,{"$f":"+IF(AF333=\"\",\"\",MAX(AA$1:AA332)+1)","v":""},{"$f":"IF(CPMS2!B355=\"\",\"\",CPMS2!B355)","v":""},{"$f":"IF(CPMS2!C355=\"\",\"\",CPMS2!C355)","v":""},{"$f":"IF(CPMS2!D355=\"\",\"\",CPMS2!D355)","v":""},"",{"$f":"IF(COUNTIF(AE$2:AE333,AE333)=1,AE333,\"\")","v":""},"","","",null,null,null,null,null,null,null,null,null,null,null,null,null,null,null,null,null,null,null,null,null,null,null,null,null,null,null,null,null,null,null,null,null,{"$f":"+IF(BV333=\"\",\"\",MAX(BQ$1:BQ332)+1)","v":""},{"$f":"IF(OpLimit!B355=\"\",\"\",OpLimit!B355)","v":""},{"$f":"IF(OpLimit!C355=\"\",\"\",OpLimit!C355)","v":""},{"$f":"IF(OpLimit!E355=\"\",\"\",OpLimit!E355)","v":""},"",{"$f":"IF(COUNTIF(BU$2:BU333,BU333)=1,BU333,\"\")","v":""},"","","",""]
[null,null,null,null,null,null,null,null,null,null,{"$f":"+IF(N334=\"\",\"\",MAX(K$1:K333)+1)","v":""},{"$f":"IF(CPMS1!E356=\"\",\"\",CPMS1!E356)","v":""},"",{"$f":"IF(COUNTIF(L$2:L334,L334)=1,L334,\"\")","v":""},null,null,null,null,{"$f":"+IF(W334=\"\",\"\",MAX(S$1:S333)+1)","v":""},{"$f":"IF(Adhes_Sealer_Deadener!B356=\"\",\"\",Adhes_Sealer_Deadener!B356)","v":""},{"$f":"IF(Adhes_Sealer_Deadener!C356=\"\",\"\",Adhes_Sealer_Deadener!C356)","v":""},{"$f":"+Table10[[#This Row],[Column1]]&Table10[[#This Row],[Column2]]","v":""},{"$f":"IF(COUNTIF(V$2:V334,V334)=1,V334,\"\")","v":""},"","",null,{"$f":"+IF(AF334=\"\",\"\",MAX(AA$1:AA333)+1)","v":""},{"$f":"IF(CPMS2!B356=\"\",\"\",CPMS2!B356)","v":""},{"$f":"IF(CPMS2!C356=\"\",\"\",CPMS2!C356)","v":""},{"$f":"IF(CPMS2!D356=\"\",\"\",CPMS2!D356)","v":""},"",{"$f":"IF(COUNTIF(AE$2:AE334,AE334)=1,AE334,\"\")","v":""},"","","",null,null,null,null,null,null,null,null,null,null,null,null,null,null,null,null,null,null,null,null,null,null,null,null,null,null,null,null,null,null,null,null,null,{"$f":"+IF(BV334=\"\",\"\",MAX(BQ$1:BQ333)+1)","v":""},{"$f":"IF(OpLimit!B356=\"\",\"\",OpLimit!B356)","v":""},{"$f":"IF(OpLimit!C356=\"\",\"\",OpLimit!C356)","v":""},{"$f":"IF(OpLimit!E356=\"\",\"\",OpLimit!E356)","v":""},"",{"$f":"IF(COUNTIF(BU$2:BU334,BU334)=1,BU334,\"\")","v":""},"","","",""]
[null,null,null,null,null,null,null,null,null,null,{"$f":"+IF(N335=\"\",\"\",MAX(K$1:K334)+1)","v":""},{"$f":"IF(CPMS1!E357=\"\",\"\",CPMS1!E357)","v":""},"",{"$f":"IF(COUNTIF(L$2:L335,L335)=1,L335,\"\")","v":""},null,null,null,null,{"$f":"+IF(W335=\"\",\"\",MAX(S$1:S334)+1)","v":""},{"$f":"IF(Adhes_Sealer_Deadener!B357=\"\",\"\",Adhes_Sealer_Deadener!B357)","v":""},{"$f":"IF(Adhes_Sealer_Deadener!C357=\"\",\"\",Adhes_Sealer_Deadener!C357)","v":""},{"$f":"+Table10[[#This Row],[Column1]]&Table10[[#This Row],[Column2]]","v":""},{"$f":"IF(COUNTIF(V$2:V335,V335)=1,V335,\"\")","v":""},"","",null,{"$f":"+IF(AF335=\"\",\"\",MAX(AA$1:AA334)+1)","v":""},{"$f":"IF(CPMS2!B357=\"\",\"\",CPMS2!B357)","v":""},{"$f":"IF(CPMS2!C357=\"\",\"\",CPMS2!C357)","v":""},{"$f":"IF(CPMS2!D357=\"\",\"\",CPMS2!D357)","v":""},"",{"$f":"IF(COUNTIF(AE$2:AE335,AE335)=1,AE335,\"\")","v":""},"","","",null,null,null,null,null,null,null,null,null,null,null,null,null,null,null,null,null,null,null,null,null,null,null,null,null,null,null,null,null,null,null,null,null,{"$f":"+IF(BV335=\"\",\"\",MAX(BQ$1:BQ334)+1)","v":""},{"$f":"IF(OpLimit!B357=\"\",\"\",OpLimit!B357)","v":""},{"$f":"IF(OpLimit!C357=\"\",\"\",OpLimit!C357)","v":""},{"$f":"IF(OpLimit!E357=\"\",\"\",OpLimit!E357)","v":""},"",{"$f":"IF(COUNTIF(BU$2:BU335,BU335)=1,BU335,\"\")","v":""},"","","",""]
[null,null,null,null,null,null,null,null,null,null,{"$f":"+IF(N336=\"\",\"\",MAX(K$1:K335)+1)","v":""},{"$f":"IF(CPMS1!E358=\"\",\"\",CPMS1!E358)","v":""},"",{"$f":"IF(COUNTIF(L$2:L336,L336)=1,L336,\"\")","v":""},null,null,null,null,{"$f":"+IF(W336=\"\",\"\",MAX(S$1:S335)+1)","v":""},{"$f":"IF(Adhes_Sealer_Deadener!B358=\"\",\"\",Adhes_Sealer_Deadener!B358)","v":""},{"$f":"IF(Adhes_Sealer_Deadener!C358=\"\",\"\",Adhes_Sealer_Deadener!C358)","v":""},{"$f":"+Table10[[#This Row],[Column1]]&Table10[[#This Row],[Column2]]","v":""},{"$f":"IF(COUNTIF(V$2:V336,V336)=1,V336,\"\")","v":""},"","",null,{"$f":"+IF(AF336=\"\",\"\",MAX(AA$1:AA335)+1)","v":""},{"$f":"IF(CPMS2!B358=\"\",\"\",CPMS2!B358)","v":""},{"$f":"IF(CPMS2!C358=\"\",\"\",CPMS2!C358)","v":""},{"$f":"IF(CPMS2!D358=\"\",\"\",CPMS2!D358)","v":""},"",{"$f":"IF(COUNTIF(AE$2:AE336,AE336)=1,AE336,\"\")","v":""},"","","",null,null,null,null,null,null,null,null,null,null,null,null,null,null,null,null,null,null,null,null,null,null,null,null,null,null,null,null,null,null,null,null,null,{"$f":"+IF(BV336=\"\",\"\",MAX(BQ$1:BQ335)+1)","v":""},{"$f":"IF(OpLimit!B358=\"\",\"\",OpLimit!B358)","v":""},{"$f":"IF(OpLimit!C358=\"\",\"\",OpLimit!C358)","v":""},{"$f":"IF(OpLimit!E358=\"\",\"\",OpLimit!E358)","v":""},"",{"$f":"IF(COUNTIF(BU$2:BU336,BU336)=1,BU336,\"\")","v":""},"","","",""]
[null,null,null,null,null,null,null,null,null,null,{"$f":"+IF(N337=\"\",\"\",MAX(K$1:K336)+1)","v":""},{"$f":"IF(CPMS1!E359=\"\",\"\",CPMS1!E359)","v":""},"",{"$f":"IF(COUNTIF(L$2:L337,L337)=1,L337,\"\")","v":""},null,null,null,null,{"$f":"+IF(W337=\"\",\"\",MAX(S$1:S336)+1)","v":""},{"$f":"IF(Adhes_Sealer_Deadener!B359=\"\",\"\",Adhes_Sealer_Deadener!B359)","v":""},{"$f":"IF(Adhes_Sealer_Deadener!C359=\"\",\"\",Adhes_Sealer_Deadener!C359)","v":""},{"$f":"+Table10[[#This Row],[Column1]]&Table10[[#This Row],[Column2]]","v":""},{"$f":"IF(COUNTIF(V$2:V337,V337)=1,V337,\"\")","v":""},"","",null,{"$f":"+IF(AF337=\"\",\"\",MAX(AA$1:AA336)+1)","v":""},{"$f":"IF(CPMS2!B359=\"\",\"\",CPMS2!B359)","v":""},{"$f":"IF(CPMS2!C359=\"\",\"\",CPMS2!C359)","v":""},{"$f":"IF(CPMS2!D359=\"\",\"\",CPMS2!D359)","v":""},"",{"$f":"IF(COUNTIF(AE$2:AE337,AE337)=1,AE337,\"\")","v":""},"","","",null,null,null,null,null,null,null,null,null,null,null,null,null,null,null,null,null,null,null,null,null,null,null,null,null,null,null,null,null,null,null,null,null,{"$f":"+IF(BV337=\"\",\"\",MAX(BQ$1:BQ336)+1)","v":""},{"$f":"IF(OpLimit!B359=\"\",\"\",OpLimit!B359)","v":""},{"$f":"IF(OpLimit!C359=\"\",\"\",OpLimit!C359)","v":""},{"$f":"IF(OpLimit!E359=\"\",\"\",OpLimit!E359)","v":""},"",{"$f":"IF(COUNTIF(BU$2:BU337,BU337)=1,BU337,\"\")","v":""},"","","",""]
[null,null,null,null,null,null,null,null,null,null,{"$f":"+IF(N338=\"\",\"\",MAX(K$1:K337)+1)","v":""},{"$f":"IF(CPMS1!E360=\"\",\"\",CPMS1!E360)","v":""},"",{"$f":"IF(COUNTIF(L$2:L338,L338)=1,L338,\"\")","v":""},null,null,null,null,{"$f":"+IF(W338=\"\",\"\",MAX(S$1:S337)+1)","v":""},{"$f":"IF(Adhes_Sealer_Deadener!B360=\"\",\"\",Adhes_Sealer_Deadener!B360)","v":""},{"$f":"IF(Adhes_Sealer_Deadener!C360=\"\",\"\",Adhes_Sealer_Deadener!C360)","v":""},{"$f":"+Table10[[#This Row],[Column1]]&Table10[[#This Row],[Column2]]","v":""},{"$f":"IF(COUNTIF(V$2:V338,V338)=1,V338,\"\")","v":""},"","",null,{"$f":"+IF(AF338=\"\",\"\",MAX(AA$1:AA337)+1)","v":""},{"$f":"IF(CPMS2!B360=\"\",\"\",CPMS2!B360)","v":""},{"$f":"IF(CPMS2!C360=\"\",\"\",CPMS2!C360)","v":""},{"$f":"IF(CPMS2!D360=\"\",\"\",CPMS2!D360)","v":""},"",{"$f":"IF(COUNTIF(AE$2:AE338,AE338)=1,AE338,\"\")","v":""},"","","",null,null,null,null,null,null,null,null,null,null,null,null,null,null,null,null,null,null,null,null,null,null,null,null,null,null,null,null,null,null,null,null,null,{"$f":"+IF(BV338=\"\",\"\",MAX(BQ$1:BQ337)+1)","v":""},{"$f":"IF(OpLimit!B360=\"\",\"\",OpLimit!B360)","v":""},{"$f":"IF(OpLimit!C360=\"\",\"\",OpLimit!C360)","v":""},{"$f":"IF(OpLimit!E360=\"\",\"\",OpLimit!E360)","v":""},"",{"$f":"IF(COUNTIF(BU$2:BU338,BU338)=1,BU338,\"\")","v":""},"","","",""]
[null,null,null,null,null,null,null,null,null,null,{"$f":"+IF(N339=\"\",\"\",MAX(K$1:K338)+1)","v":""},{"$f":"IF(CPMS1!E361=\"\",\"\",CPMS1!E361)","v":""},"",{"$f":"IF(COUNTIF(L$2:L339,L339)=1,L339,\"\")","v":""},null,null,null,null,{"$f":"+IF(W339=\"\",\"\",MAX(S$1:S338)+1)","v":""},{"$f":"IF(Adhes_Sealer_Deadener!B361=\"\",\"\",Adhes_Sealer_Deadener!B361)","v":""},{"$f":"IF(Adhes_Sealer_Deadener!C361=\"\",\"\",Adhes_Sealer_Deadener!C361)","v":""},{"$f":"+Table10[[#This Row],[Column1]]&Table10[[#This Row],[Column2]]","v":""},{"$f":"IF(COUNTIF(V$2:V339,V339)=1,V339,\"\")","v":""},"","",null,{"$f":"+IF(AF339=\"\",\"\",MAX(AA$1:AA338)+1)","v":""},{"$f":"IF(CPMS2!B361=\"\",\"\",CPMS2!B361)","v":""},{"$f":"IF(CPMS2!C361=\"\",\"\",CPMS2!C361)","v":""},{"$f":"IF(CPMS2!D361=\"\",\"\",CPMS2!D361)","v":""},"",{"$f":"IF(COUNTIF(AE$2:AE339,AE339)=1,AE339,\"\")","v":""},"","","",null,null,null,null,null,null,null,null,null,null,null,null,null,null,null,null,null,null,null,null,null,null,null,null,null,null,null,null,null,null,null,null,null,{"$f":"+IF(BV339=\"\",\"\",MAX(BQ$1:BQ338)+1)","v":""},{"$f":"IF(OpLimit!B361=\"\",\"\",OpLimit!B361)","v":""},{"$f":"IF(OpLimit!C361=\"\",\"\",OpLimit!C361)","v":""},{"$f":"IF(OpLimit!E361=\"\",\"\",OpLimit!E361)","v":""},"",{"$f":"IF(COUNTIF(BU$2:BU339,BU339)=1,BU339,\"\")","v":""},"","","",""]
[null,null,null,null,null,null,null,null,null,null,{"$f":"+IF(N340=\"\",\"\",MAX(K$1:K339)+1)","v":""},{"$f":"IF(CPMS1!E362=\"\",\"\",CPMS1!E362)","v":""},"",{"$f":"IF(COUNTIF(L$2:L340,L340)=1,L340,\"\")","v":""},null,null,null,null,{"$f":"+IF(W340=\"\",\"\",MAX(S$1:S339)+1)","v":""},{"$f":"IF(Adhes_Sealer_Deadener!B362=\"\",\"\",Adhes_Sealer_Deadener!B362)","v":""},{"$f":"IF(Adhes_Sealer_Deadener!C362=\"\",\"\",Adhes_Sealer_Deadener!C362)","v":""},{"$f":"+Table10[[#This Row],[Column1]]&Table10[[#This Row],[Column2]]","v":""},{"$f":"IF(COUNTIF(V$2:V340,V340)=1,V340,\"\")","v":""},"","",null,{"$f":"+IF(AF340=\"\",\"\",MAX(AA$1:AA339)+1)","v":""},{"$f":"IF(CPMS2!B362=\"\",\"\",CPMS2!B362)","v":""},{"$f":"IF(CPMS2!C362=\"\",\"\",CPMS2!C362)","v":""},{"$f":"IF(CPMS2!D362=\"\",\"\",CPMS2!D362)","v":""},"",{"$f":"IF(COUNTIF(AE$2:AE340,AE340)=1,AE340,\"\")","v":""},"","","",null,null,null,null,null,null,null,null,null,null,null,null,null,null,null,null,null,null,null,null,null,null,null,null,null,null,null,null,null,null,null,null,null,{"$f":"+IF(BV340=\"\",\"\",MAX(BQ$1:BQ339)+1)","v":""},{"$f":"IF(OpLimit!B362=\"\",\"\",OpLimit!B362)","v":""},{"$f":"IF(OpLimit!C362=\"\",\"\",OpLimit!C362)","v":""},{"$f":"IF(OpLimit!E362=\"\",\"\",OpLimit!E362)","v":""},"",{"$f":"IF(COUNTIF(BU$2:BU340,BU340)=1,BU340,\"\")","v":""},"","","",""]
[null,null,null,null,null,null,null,null,null,null,{"$f":"+IF(N341=\"\",\"\",MAX(K$1:K340)+1)","v":""},{"$f":"IF(CPMS1!E363=\"\",\"\",CPMS1!E363)","v":""},"",{"$f":"IF(COUNTIF(L$2:L341,L341)=1,L341,\"\")","v":""},null,null,null,null,{"$f":"+IF(W341=\"\",\"\",MAX(S$1:S340)+1)","v":""},{"$f":"IF(Adhes_Sealer_Deadener!B363=\"\",\"\",Adhes_Sealer_Deadener!B363)","v":""},{"$f":"IF(Adhes_Sealer_Deadener!C363=\"\",\"\",Adhes_Sealer_Deadener!C363)","v":""},{"$f":"+Table10[[#This Row],[Column1]]&Table10[[#This Row],[Column2]]","v":""},{"$f":"IF(COUNTIF(V$2:V341,V341)=1,V341,\"\")","v":""},{"$f":"+IFERROR(INDEX($T$2:$T$478,MATCH(ROW()-ROW($X$1),$S$2:$S$478,0)),\"\")","v":""},{"$f":"+IFERROR(INDEX($U$2:$U$478,MATCH(ROW()-ROW($X$1),$S$2:$S$478,0)),\"\")","v":""},null,{"$f":"+IF(AF341=\"\",\"\",MAX(AA$1:AA340)+1)","v":""},{"$f":"IF(CPMS2!B363=\"\",\"\",CPMS2!B363)","v":""},{"$f":"IF(CPMS2!C363=\"\",\"\",CPMS2!C363)","v":""},{"$f":"IF(CPMS2!D363=\"\",\"\",CPMS2!D363)","v":""},"",{"$f":"IF(COUNTIF(AE$2:AE341,AE341)=1,AE341,\"\")","v":""},"","","",null,null,null,null,null,null,null,null,null,null,null,null,null,null,null,null,null,null,null,null,null,null,null,null,null,null,null,null,null,null,null,null,null,{"$f":"+IF(BV341=\"\",\"\",MAX(BQ$1:BQ340)+1)","v":""},{"$f":"IF(OpLimit!B363=\"\",\"\",OpLimit!B363)","v":""},{"$f":"IF(OpLimit!C363=\"\",\"\",OpLimit!C363)","v":""},{"$f":"IF(OpLimit!E363=\"\",\"\",OpLimit!E363)","v":""},"",{"$f":"IF(COUNTIF(BU$2:BU341,BU341)=1,BU341,\"\")","v":""},"","","",""]
[null,null,null,null,null,null,null,null,null,null,{"$f":"+IF(N342=\"\",\"\",MAX(K$1:K341)+1)","v":""},{"$f":"IF(CPMS1!E364=\"\",\"\",CPMS1!E364)","v":""},"",{"$f":"IF(COUNTIF(L$2:L342,L342)=1,L342,\"\")","v":""},null,null,null,null,{"$f":"+IF(W342=\"\",\"\",MAX(S$1:S341)+1)","v":""},{"$f":"IF(Adhes_Sealer_Deadener!B364=\"\",\"\",Adhes_Sealer_Deadener!B364)","v":""},{"$f":"IF(Adhes_Sealer_Deadener!C364=\"\",\"\",Adhes_Sealer_Deadener!C364)","v":""},{"$f":"+Table10[[#This Row],[Column1]]&Table10[[#This Row],[Column2]]","v":""},{"$f":"IF(COUNTIF(V$2:V342,V342)=1,V342,\"\")","v":""},"","",null,{"$f":"+IF(AF342=\"\",\"\",MAX(AA$1:AA341)+1)","v":""},{"$f":"IF(CPMS2!B364=\"\",\"\",CPMS2!B364)","v":""},{"$f":"IF(CPMS2!C364=\"\",\"\",CPMS2!C364)","v":""},{"$f":"IF(CPMS2!D364=\"\",\"\",CPMS2!D364)","v":""},"",{"$f":"IF(COUNTIF(AE$2:AE342,AE342)=1,AE342,\"\")","v":""},"","","",null,null,null,null,null,null,null,null,null,null,null,null,null,null,null,null,null,null,null,null,null,null,null,null,null,null,null,null,null,null,null,null,null,{"$f":"+IF(BV342=\"\",\"\",MAX(BQ$1:BQ341)+1)","v":""},{"$f":"IF(OpLimit!B364=\"\",\"\",OpLimit!B364)","v":""},{"$f":"IF(OpLimit!C364=\"\",\"\",OpLimit!C364)","v":""},{"$f":"IF(OpLimit!E364=\"\",\"\",OpLimit!E364)","v":""},"",{"$f":"IF(COUNTIF(BU$2:BU342,BU342)=1,BU342,\"\")","v":""},"","","",""]
[null,null,null,null,null,null,null,null,null,null,{"$f":"+IF(N343=\"\",\"\",MAX(K$1:K342)+1)","v":""},{"$f":"IF(CPMS1!E365=\"\",\"\",CPMS1!E365)","v":""},"",{"$f":"IF(COUNTIF(L$2:L343,L343)=1,L343,\"\")","v":""},null,null,null,null,{"$f":"+IF(W343=\"\",\"\",MAX(S$1:S342)+1)","v":""},{"$f":"IF(Adhes_Sealer_Deadener!B365=\"\",\"\",Adhes_Sealer_Deadener!B365)","v":""},{"$f":"IF(Adhes_Sealer_Deadener!C365=\"\",\"\",Adhes_Sealer_Deadener!C365)","v":""},{"$f":"+Table10[[#This Row],[Column1]]&Table10[[#This Row],[Column2]]","v":""},{"$f":"IF(COUNTIF(V$2:V343,V343)=1,V343,\"\")","v":""},"","",null,{"$f":"+IF(AF343=\"\",\"\",MAX(AA$1:AA342)+1)","v":""},{"$f":"IF(CPMS2!B365=\"\",\"\",CPMS2!B365)","v":""},{"$f":"IF(CPMS2!C365=\"\",\"\",CPMS2!C365)","v":""},{"$f":"IF(CPMS2!D365=\"\",\"\",CPMS2!D365)","v":""},"",{"$f":"IF(COUNTIF(AE$2:AE343,AE343)=1,AE343,\"\")","v":""},"","","",null,null,null,null,null,null,null,null,null,null,null,null,null,null,null,null,null,null,null,null,null,null,null,null,null,null,null,null,null,null,null,null,null,{"$f":"+IF(BV343=\"\",\"\",MAX(BQ$1:BQ342)+1)","v":""},{"$f":"IF(OpLimit!B365=\"\",\"\",OpLimit!B365)","v":""},{"$f":"IF(OpLimit!C365=\"\",\"\",OpLimit!C365)","v":""},{"$f":"IF(OpLimit!E365=\"\",\"\",OpLimit!E365)","v":""},"",{"$f":"IF(COUNTIF(BU$2:BU343,BU343)=1,BU343,\"\")","v":""},"","","",""]
[null,null,null,null,null,null,null,null,null,null,{"$f":"+IF(N344=\"\",\"\",MAX(K$1:K343)+1)","v":""},{"$f":"IF(CPMS1!E366=\"\",\"\",CPMS1!E366)","v":""},"",{"$f":"IF(COUNTIF(L$2:L344,L344)=1,L344,\"\")","v":""},null,null,null,null,{"$f":"+IF(W344=\"\",\"\",MAX(S$1:S343)+1)","v":""},{"$f":"IF(Adhes_Sealer_Deadener!B366=\"\",\"\",Adhes_Sealer_Deadener!B366)","v":""},{"$f":"IF(Adhes_Sealer_Deadener!C366=\"\",\"\",Adhes_Sealer_Deadener!C366)","v":""},{"$f":"+Table10[[#This Row],[Column1]]&Table10[[#This Row],[Column2]]","v":""},{"$f":"IF(COUNTIF(V$2:V344,V344)=1,V344,\"\")","v":""},"","",null,{"$f":"+IF(AF344=\"\",\"\",MAX(AA$1:AA343)+1)","v":""},{"$f":"IF(CPMS2!B366=\"\",\"\",CPMS2!B366)","v":""},{"$f":"IF(CPMS2!C366=\"\",\"\",CPMS2!C366)","v":""},{"$f":"IF(CPMS2!D366=\"\",\"\",CPMS2!D366)","v":""},"",{"$f":"IF(COUNTIF(AE$2:AE344,AE344)=1,AE344,\"\")","v":""},"","","",null,null,null,null,null,null,null,null,null,null,null,null,null,null,null,null,null,null,null,null,null,null,null,null,null,null,null,null,null,null,null,null,null,{"$f":"+IF(BV344=\"\",\"\",MAX(BQ$1:BQ343)+1)","v":""},{"$f":"IF(OpLimit!B366=\"\",\"\",OpLimit!B366)","v":""},{"$f":"IF(OpLimit!C366=\"\",\"\",OpLimit!C366)","v":""},{"$f":"IF(OpLimit!E366=\"\",\"\",OpLimit!E366)","v":""},"",{"$f":"IF(COUNTIF(BU$2:BU344,BU344)=1,BU344,\"\")","v":""},"","","",""]
[null,null,null,null,null,null,null,null,null,null,{"$f":"+IF(N345=\"\",\"\",MAX(K$1:K344)+1)","v":""},{"$f":"IF(CPMS1!E367=\"\",\"\",CPMS1!E367)","v":""},"",{"$f":"IF(COUNTIF(L$2:L345,L345)=1,L345,\"\")","v":""},null,null,null,null,{"$f":"+IF(W345=\"\",\"\",MAX(S$1:S344)+1)","v":""},{"$f":"IF(Adhes_Sealer_Deadener!B367=\"\",\"\",Adhes_Sealer_Deadener!B367)","v":""},{"$f":"IF(Adhes_Sealer_Deadener!C367=\"\",\"\",Adhes_Sealer_Deadener!C367)","v":""},{"$f":"+Table10[[#This Row],[Column1]]&Table10[[#This Row],[Column2]]","v":""},{"$f":"IF(COUNTIF(V$2:V345,V345)=1,V345,\"\")","v":""},"","",null,{"$f":"+IF(AF345=\"\",\"\",MAX(AA$1:AA344)+1)","v":""},{"$f":"IF(CPMS2!B367=\"\",\"\",CPMS2!B367)","v":""},{"$f":"IF(CPMS2!C367=\"\",\"\",CPMS2!C367)","v":""},{"$f":"IF(CPMS2!D367=\"\",\"\",CPMS2!D367)","v":""},"",{"$f":"IF(COUNTIF(AE$2:AE345,AE345)=1,AE345,\"\")","v":""},"","","",null,null,null,null,null,null,null,null,null,null,null,null,null,null,null,null,null,null,null,null,null,null,null,null,null,null,null,null,null,null,null,null,null,{"$f":"+IF(BV345=\"\",\"\",MAX(BQ$1:BQ344)+1)","v":""},{"$f":"IF(OpLimit!B367=\"\",\"\",OpLimit!B367)","v":""},{"$f":"IF(OpLimit!C367=\"\",\"\",OpLimit!C367)","v":""},{"$f":"IF(OpLimit!E367=\"\",\"\",OpLimit!E367)","v":""},"",{"$f":"IF(COUNTIF(BU$2:BU345,BU345)=1,BU345,\"\")","v":""},"","","",""]
[null,null,null,null,null,null,null,null,null,null,{"$f":"+IF(N346=\"\",\"\",MAX(K$1:K345)+1)","v":""},{"$f":"IF(CPMS1!E368=\"\",\"\",CPMS1!E368)","v":""},"",{"$f":"IF(COUNTIF(L$2:L346,L346)=1,L346,\"\")","v":""},null,null,null,null,{"$f":"+IF(W346=\"\",\"\",MAX(S$1:S345)+1)","v":""},{"$f":"IF(Adhes_Sealer_Deadener!B368=\"\",\"\",Adhes_Sealer_Deadener!B368)","v":""},{"$f":"IF(Adhes_Sealer_Deadener!C368=\"\",\"\",Adhes_Sealer_Deadener!C368)","v":""},{"$f":"+Table10[[#This Row],[Column1]]&Table10[[#This Row],[Column2]]","v":""},{"$f":"IF(COUNTIF(V$2:V346,V346)=1,V346,\"\")","v":""},"","",null,{"$f":"+IF(AF346=\"\",\"\",MAX(AA$1:AA345)+1)","v":""},{"$f":"IF(CPMS2!B368=\"\",\"\",CPMS2!B368)","v":""},{"$f":"IF(CPMS2!C368=\"\",\"\",CPMS2!C368)","v":""},{"$f":"IF(CPMS2!D368=\"\",\"\",CPMS2!D368)","v":""},"",{"$f":"IF(COUNTIF(AE$2:AE346,AE346)=1,AE346,\"\")","v":""},"","","",null,null,null,null,null,null,null,null,null,null,null,null,null,null,null,null,null,null,null,null,null,null,null,null,null,null,null,null,null,null,null,null,null,{"$f":"+IF(BV346=\"\",\"\",MAX(BQ$1:BQ345)+1)","v":""},{"$f":"IF(OpLimit!B368=\"\",\"\",OpLimit!B368)","v":""},{"$f":"IF(OpLimit!C368=\"\",\"\",OpLimit!C368)","v":""},{"$f":"IF(OpLimit!E368=\"\",\"\",OpLimit!E368)","v":""},"",{"$f":"IF(COUNTIF(BU$2:BU346,BU346)=1,BU346,\"\")","v":""},"","","",""]
[null,null,null,null,null,null,null,null,null,null,{"$f":"+IF(N347=\"\",\"\",MAX(K$1:K346)+1)","v":""},{"$f":"IF(CPMS1!E369=\"\",\"\",CPMS1!E369)","v":""},"",{"$f":"IF(COUNTIF(L$2:L347,L347)=1,L347,\"\")","v":""},null,null,null,null,{"$f":"+IF(W347=\"\",\"\",MAX(S$1:S346)+1)","v":""},{"$f":"IF(Adhes_Sealer_Deadener!B369=\"\",\"\",Adhes_Sealer_Deadener!B369)","v":""},{"$f":"IF(Adhes_Sealer_Deadener!C369=\"\",\"\",Adhes_Sealer_Deadener!C369)","v":""},{"$f":"+Table10[[#This Row],[Column1]]&Table10[[#This Row],[Column2]]","v":""},{"$f":"IF(COUNTIF(V$2:V347,V347)=1,V347,\"\")","v":""},"","",null,{"$f":"+IF(AF347=\"\",\"\",MAX(AA$1:AA346)+1)","v":""},{"$f":"IF(CPMS2!B369=\"\",\"\",CPMS2!B369)","v":""},{"$f":"IF(CPMS2!C369=\"\",\"\",CPMS2!C369)","v":""},{"$f":"IF(CPMS2!D369=\"\",\"\",CPMS2!D369)","v":""},"",{"$f":"IF(COUNTIF(AE$2:AE347,AE347)=1,AE347,\"\")","v":""},"","","",null,null,null,null,null,null,null,null,null,null,null,null,null,null,null,null,null,null,null,null,null,null,null,null,null,null,null,null,null,null,null,null,null,{"$f":"+IF(BV347=\"\",\"\",MAX(BQ$1:BQ346)+1)","v":""},{"$f":"IF(OpLimit!B369=\"\",\"\",OpLimit!B369)","v":""},{"$f":"IF(OpLimit!C369=\"\",\"\",OpLimit!C369)","v":""},{"$f":"IF(OpLimit!E369=\"\",\"\",OpLimit!E369)","v":""},"",{"$f":"IF(COUNTIF(BU$2:BU347,BU347)=1,BU347,\"\")","v":""},"","","",""]
[null,null,null,null,null,null,null,null,null,null,{"$f":"+IF(N348=\"\",\"\",MAX(K$1:K347)+1)","v":""},{"$f":"IF(CPMS1!E370=\"\",\"\",CPMS1!E370)","v":""},"",{"$f":"IF(COUNTIF(L$2:L348,L348)=1,L348,\"\")","v":""},null,null,null,null,{"$f":"+IF(W348=\"\",\"\",MAX(S$1:S347)+1)","v":""},{"$f":"IF(Adhes_Sealer_Deadener!B370=\"\",\"\",Adhes_Sealer_Deadener!B370)","v":""},{"$f":"IF(Adhes_Sealer_Deadener!C370=\"\",\"\",Adhes_Sealer_Deadener!C370)","v":""},{"$f":"+Table10[[#This Row],[Column1]]&Table10[[#This Row],[Column2]]","v":""},{"$f":"IF(COUNTIF(V$2:V348,V348)=1,V348,\"\")","v":""},"","",null,{"$f":"+IF(AF348=\"\",\"\",MAX(AA$1:AA347)+1)","v":""},{"$f":"IF(CPMS2!B370=\"\",\"\",CPMS2!B370)","v":""},{"$f":"IF(CPMS2!C370=\"\",\"\",CPMS2!C370)","v":""},{"$f":"IF(CPMS2!D370=\"\",\"\",CPMS2!D370)","v":""},"",{"$f":"IF(COUNTIF(AE$2:AE348,AE348)=1,AE348,\"\")","v":""},"","","",null,null,null,null,null,null,null,null,null,null,null,null,null,null,null,null,null,null,null,null,null,null,null,null,null,null,null,null,null,null,null,null,null,{"$f":"+IF(BV348=\"\",\"\",MAX(BQ$1:BQ347)+1)","v":""},{"$f":"IF(OpLimit!B370=\"\",\"\",OpLimit!B370)","v":""},{"$f":"IF(OpLimit!C370=\"\",\"\",OpLimit!C370)","v":""},{"$f":"IF(OpLimit!E370=\"\",\"\",OpLimit!E370)","v":""},"",{"$f":"IF(COUNTIF(BU$2:BU348,BU348)=1,BU348,\"\")","v":""},"","","",""]
[null,null,null,null,null,null,null,null,null,null,{"$f":"+IF(N349=\"\",\"\",MAX(K$1:K348)+1)","v":""},{"$f":"IF(CPMS1!E371=\"\",\"\",CPMS1!E371)","v":""},"",{"$f":"IF(COUNTIF(L$2:L349,L349)=1,L349,\"\")","v":""},null,null,null,null,{"$f":"+IF(W349=\"\",\"\",MAX(S$1:S348)+1)","v":""},{"$f":"IF(Adhes_Sealer_Deadener!B371=\"\",\"\",Adhes_Sealer_Deadener!B371)","v":""},{"$f":"IF(Adhes_Sealer_Deadener!C371=\"\",\"\",Adhes_Sealer_Deadener!C371)","v":""},{"$f":"+Table10[[#This Row],[Column1]]&Table10[[#This Row],[Column2]]","v":""},{"$f":"IF(COUNTIF(V$2:V349,V349)=1,V349,\"\")","v":""},"","",null,{"$f":"+IF(AF349=\"\",\"\",MAX(AA$1:AA348)+1)","v":""},{"$f":"IF(CPMS2!B371=\"\",\"\",CPMS2!B371)","v":""},{"$f":"IF(CPMS2!C371=\"\",\"\",CPMS2!C371)","v":""},{"$f":"IF(CPMS2!D371=\"\",\"\",CPMS2!D371)","v":""},"",{"$f":"IF(COUNTIF(AE$2:AE349,AE349)=1,AE349,\"\")","v":""},"","","",null,null,null,null,null,null,null,null,null,null,null,null,null,null,null,null,null,null,null,null,null,null,null,null,null,null,null,null,null,null,null,null,null,{"$f":"+IF(BV349=\"\",\"\",MAX(BQ$1:BQ348)+1)","v":""},{"$f":"IF(OpLimit!B371=\"\",\"\",OpLimit!B371)","v":""},{"$f":"IF(OpLimit!C371=\"\",\"\",OpLimit!C371)","v":""},{"$f":"IF(OpLimit!E371=\"\",\"\",OpLimit!E371)","v":""},"",{"$f":"IF(COUNTIF(BU$2:BU349,BU349)=1,BU349,\"\")","v":""},"","","",""]
[null,null,null,null,null,null,null,null,null,null,{"$f":"+IF(N350=\"\",\"\",MAX(K$1:K349)+1)","v":""},{"$f":"IF(CPMS1!E372=\"\",\"\",CPMS1!E372)","v":""},"",{"$f":"IF(COUNTIF(L$2:L350,L350)=1,L350,\"\")","v":""},null,null,null,null,{"$f":"+IF(W350=\"\",\"\",MAX(S$1:S349)+1)","v":""},{"$f":"IF(Adhes_Sealer_Deadener!B372=\"\",\"\",Adhes_Sealer_Deadener!B372)","v":""},{"$f":"IF(Adhes_Sealer_Deadener!C372=\"\",\"\",Adhes_Sealer_Deadener!C372)","v":""},{"$f":"+Table10[[#This Row],[Column1]]&Table10[[#This Row],[Column2]]","v":""},{"$f":"IF(COUNTIF(V$2:V350,V350)=1,V350,\"\")","v":""},"","",null,{"$f":"+IF(AF350=\"\",\"\",MAX(AA$1:AA349)+1)","v":""},{"$f":"IF(CPMS2!B372=\"\",\"\",CPMS2!B372)","v":""},{"$f":"IF(CPMS2!C372=\"\",\"\",CPMS2!C372)","v":""},{"$f":"IF(CPMS2!D372=\"\",\"\",CPMS2!D372)","v":""},"",{"$f":"IF(COUNTIF(AE$2:AE350,AE350)=1,AE350,\"\")","v":""},"","","",null,null,null,null,null,null,null,null,null,null,null,null,null,null,null,null,null,null,null,null,null,null,null,null,null,null,null,null,null,null,null,null,null,{"$f":"+IF(BV350=\"\",\"\",MAX(BQ$1:BQ349)+1)","v":""},{"$f":"IF(OpLimit!B372=\"\",\"\",OpLimit!B372)","v":""},{"$f":"IF(OpLimit!C372=\"\",\"\",OpLimit!C372)","v":""},{"$f":"IF(OpLimit!E372=\"\",\"\",OpLimit!E372)","v":""},"",{"$f":"IF(COUNTIF(BU$2:BU350,BU350)=1,BU350,\"\")","v":""},"","","",""]
[null,null,null,null,null,null,null,null,null,null,{"$f":"+IF(N351=\"\",\"\",MAX(K$1:K350)+1)","v":""},{"$f":"IF(CPMS1!E373=\"\",\"\",CPMS1!E373)","v":""},"",{"$f":"IF(COUNTIF(L$2:L351,L351)=1,L351,\"\")","v":""},null,null,null,null,{"$f":"+IF(W351=\"\",\"\",MAX(S$1:S350)+1)","v":""},{"$f":"IF(Adhes_Sealer_Deadener!B373=\"\",\"\",Adhes_Sealer_Deadener!B373)","v":""},{"$f":"IF(Adhes_Sealer_Deadener!C373=\"\",\"\",Adhes_Sealer_Deadener!C373)","v":""},{"$f":"+Table10[[#This Row],[Column1]]&Table10[[#This Row],[Column2]]","v":""},{"$f":"IF(COUNTIF(V$2:V351,V351)=1,V351,\"\")","v":""},"","",null,{"$f":"+IF(AF351=\"\",\"\",MAX(AA$1:AA350)+1)","v":""},{"$f":"IF(CPMS2!B373=\"\",\"\",CPMS2!B373)","v":""},{"$f":"IF(CPMS2!C373=\"\",\"\",CPMS2!C373)","v":""},{"$f":"IF(CPMS2!D373=\"\",\"\",CPMS2!D373)","v":""},"",{"$f":"IF(COUNTIF(AE$2:AE351,AE351)=1,AE351,\"\")","v":""},"","","",null,null,null,null,null,null,null,null,null,null,null,null,null,null,null,null,null,null,null,null,null,null,null,null,null,null,null,null,null,null,null,null,null,{"$f":"+IF(BV351=\"\",\"\",MAX(BQ$1:BQ350)+1)","v":""},{"$f":"IF(OpLimit!B373=\"\",\"\",OpLimit!B373)","v":""},{"$f":"IF(OpLimit!C373=\"\",\"\",OpLimit!C373)","v":""},{"$f":"IF(OpLimit!E373=\"\",\"\",OpLimit!E373)","v":""},"",{"$f":"IF(COUNTIF(BU$2:BU351,BU351)=1,BU351,\"\")","v":""},"","","",""]
[null,null,null,null,null,null,null,null,null,null,{"$f":"+IF(N352=\"\",\"\",MAX(K$1:K351)+1)","v":""},{"$f":"IF(CPMS1!E374=\"\",\"\",CPMS1!E374)","v":""},"",{"$f":"IF(COUNTIF(L$2:L352,L352)=1,L352,\"\")","v":""},null,null,null,null,{"$f":"+IF(W352=\"\",\"\",MAX(S$1:S351)+1)","v":""},{"$f":"IF(Adhes_Sealer_Deadener!B374=\"\",\"\",Adhes_Sealer_Deadener!B374)","v":""},{"$f":"IF(Adhes_Sealer_Deadener!C374=\"\",\"\",Adhes_Sealer_Deadener!C374)","v":""},{"$f":"+Table10[[#This Row],[Column1]]&Table10[[#This Row],[Column2]]","v":""},{"$f":"IF(COUNTIF(V$2:V352,V352)=1,V352,\"\")","v":""},"","",null,{"$f":"+IF(AF352=\"\",\"\",MAX(AA$1:AA351)+1)","v":""},{"$f":"IF(CPMS2!B374=\"\",\"\",CPMS2!B374)","v":""},{"$f":"IF(CPMS2!C374=\"\",\"\",CPMS2!C374)","v":""},{"$f":"IF(CPMS2!D374=\"\",\"\",CPMS2!D374)","v":""},"",{"$f":"IF(COUNTIF(AE$2:AE352,AE352)=1,AE352,\"\")","v":""},"","","",null,null,null,null,null,null,null,null,null,null,null,null,null,null,null,null,null,null,null,null,null,null,null,null,null,null,null,null,null,null,null,null,null,{"$f":"+IF(BV352=\"\",\"\",MAX(BQ$1:BQ351)+1)","v":""},{"$f":"IF(OpLimit!B374=\"\",\"\",OpLimit!B374)","v":""},{"$f":"IF(OpLimit!C374=\"\",\"\",OpLimit!C374)","v":""},{"$f":"IF(OpLimit!E374=\"\",\"\",OpLimit!E374)","v":""},"",{"$f":"IF(COUNTIF(BU$2:BU352,BU352)=1,BU352,\"\")","v":""},"","","",""]
[null,null,null,null,null,null,null,null,null,null,{"$f":"+IF(N353=\"\",\"\",MAX(K$1:K352)+1)","v":""},{"$f":"IF(CPMS1!E375=\"\",\"\",CPMS1!E375)","v":""},"",{"$f":"IF(COUNTIF(L$2:L353,L353)=1,L353,\"\")","v":""},null,null,null,null,{"$f":"+IF(W353=\"\",\"\",MAX(S$1:S352)+1)","v":""},{"$f":"IF(Adhes_Sealer_Deadener!B375=\"\",\"\",Adhes_Sealer_Deadener!B375)","v":""},{"$f":"IF(Adhes_Sealer_Deadener!C375=\"\",\"\",Adhes_Sealer_Deadener!C375)","v":""},{"$f":"+Table10[[#This Row],[Column1]]&Table10[[#This Row],[Column2]]","v":""},{"$f":"IF(COUNTIF(V$2:V353,V353)=1,V353,\"\")","v":""},"","",null,{"$f":"+IF(AF353=\"\",\"\",MAX(AA$1:AA352)+1)","v":""},{"$f":"IF(CPMS2!B375=\"\",\"\",CPMS2!B375)","v":""},{"$f":"IF(CPMS2!C375=\"\",\"\",CPMS2!C375)","v":""},{"$f":"IF(CPMS2!D375=\"\",\"\",CPMS2!D375)","v":""},"",{"$f":"IF(COUNTIF(AE$2:AE353,AE353)=1,AE353,\"\")","v":""},"","","",null,null,null,null,null,null,null,null,null,null,null,null,null,null,null,null,null,null,null,null,null,null,null,null,null,null,null,null,null,null,null,null,null,{"$f":"+IF(BV353=\"\",\"\",MAX(BQ$1:BQ352)+1)","v":""},{"$f":"IF(OpLimit!B375=\"\",\"\",OpLimit!B375)","v":""},{"$f":"IF(OpLimit!C375=\"\",\"\",OpLimit!C375)","v":""},{"$f":"IF(OpLimit!E375=\"\",\"\",OpLimit!E375)","v":""},"",{"$f":"IF(COUNTIF(BU$2:BU353,BU353)=1,BU353,\"\")","v":""},"","","",""]
[null,null,null,null,null,null,null,null,null,null,{"$f":"+IF(N354=\"\",\"\",MAX(K$1:K353)+1)","v":""},{"$f":"IF(CPMS1!E376=\"\",\"\",CPMS1!E376)","v":""},"",{"$f":"IF(COUNTIF(L$2:L354,L354)=1,L354,\"\")","v":""},null,null,null,null,{"$f":"+IF(W354=\"\",\"\",MAX(S$1:S353)+1)","v":""},{"$f":"IF(Adhes_Sealer_Deadener!B376=\"\",\"\",Adhes_Sealer_Deadener!B376)","v":""},{"$f":"IF(Adhes_Sealer_Deadener!C376=\"\",\"\",Adhes_Sealer_Deadener!C376)","v":""},{"$f":"+Table10[[#This Row],[Column1]]&Table10[[#This Row],[Column2]]","v":""},{"$f":"IF(COUNTIF(V$2:V354,V354)=1,V354,\"\")","v":""},"","",null,{"$f":"+IF(AF354=\"\",\"\",MAX(AA$1:AA353)+1)","v":""},{"$f":"IF(CPMS2!B376=\"\",\"\",CPMS2!B376)","v":""},{"$f":"IF(CPMS2!C376=\"\",\"\",CPMS2!C376)","v":""},{"$f":"IF(CPMS2!D376=\"\",\"\",CPMS2!D376)","v":""},"",{"$f":"IF(COUNTIF(AE$2:AE354,AE354)=1,AE354,\"\")","v":""},"","","",null,null,null,null,null,null,null,null,null,null,null,null,null,null,null,null,null,null,null,null,null,null,null,null,null,null,null,null,null,null,null,null,null,{"$f":"+IF(BV354=\"\",\"\",MAX(BQ$1:BQ353)+1)","v":""},{"$f":"IF(OpLimit!B376=\"\",\"\",OpLimit!B376)","v":""},{"$f":"IF(OpLimit!C376=\"\",\"\",OpLimit!C376)","v":""},{"$f":"IF(OpLimit!E376=\"\",\"\",OpLimit!E376)","v":""},"",{"$f":"IF(COUNTIF(BU$2:BU354,BU354)=1,BU354,\"\")","v":""},"","","",""]
[null,null,null,null,null,null,null,null,null,null,{"$f":"+IF(N355=\"\",\"\",MAX(K$1:K354)+1)","v":""},{"$f":"IF(CPMS1!E377=\"\",\"\",CPMS1!E377)","v":""},"",{"$f":"IF(COUNTIF(L$2:L355,L355)=1,L355,\"\")","v":""},null,null,null,null,{"$f":"+IF(W355=\"\",\"\",MAX(S$1:S354)+1)","v":""},{"$f":"IF(Adhes_Sealer_Deadener!B377=\"\",\"\",Adhes_Sealer_Deadener!B377)","v":""},{"$f":"IF(Adhes_Sealer_Deadener!C377=\"\",\"\",Adhes_Sealer_Deadener!C377)","v":""},{"$f":"+Table10[[#This Row],[Column1]]&Table10[[#This Row],[Column2]]","v":""},{"$f":"IF(COUNTIF(V$2:V355,V355)=1,V355,\"\")","v":""},"","",null,{"$f":"+IF(AF355=\"\",\"\",MAX(AA$1:AA354)+1)","v":""},{"$f":"IF(CPMS2!B377=\"\",\"\",CPMS2!B377)","v":""},{"$f":"IF(CPMS2!C377=\"\",\"\",CPMS2!C377)","v":""},{"$f":"IF(CPMS2!D377=\"\",\"\",CPMS2!D377)","v":""},"",{"$f":"IF(COUNTIF(AE$2:AE355,AE355)=1,AE355,\"\")","v":""},"","","",null,null,null,null,null,null,null,null,null,null,null,null,null,null,null,null,null,null,null,null,null,null,null,null,null,null,null,null,null,null,null,null,null,{"$f":"+IF(BV355=\"\",\"\",MAX(BQ$1:BQ354)+1)","v":""},{"$f":"IF(OpLimit!B377=\"\",\"\",OpLimit!B377)","v":""},{"$f":"IF(OpLimit!C377=\"\",\"\",OpLimit!C377)","v":""},{"$f":"IF(OpLimit!E377=\"\",\"\",OpLimit!E377)","v":""},"",{"$f":"IF(COUNTIF(BU$2:BU355,BU355)=1,BU355,\"\")","v":""},"","","",""]
[null,null,null,null,null,null,null,null,null,null,{"$f":"+IF(N356=\"\",\"\",MAX(K$1:K355)+1)","v":""},{"$f":"IF(CPMS1!E378=\"\",\"\",CPMS1!E378)","v":""},"",{"$f":"IF(COUNTIF(L$2:L356,L356)=1,L356,\"\")","v":""},null,null,null,null,{"$f":"+IF(W356=\"\",\"\",MAX(S$1:S355)+1)","v":""},{"$f":"IF(Adhes_Sealer_Deadener!B378=\"\",\"\",Adhes_Sealer_Deadener!B378)","v":""},{"$f":"IF(Adhes_Sealer_Deadener!C378=\"\",\"\",Adhes_Sealer_Deadener!C378)","v":""},{"$f":"+Table10[[#This Row],[Column1]]&Table10[[#This Row],[Column2]]","v":""},{"$f":"IF(COUNTIF(V$2:V356,V356)=1,V356,\"\")","v":""},"","",null,{"$f":"+IF(AF356=\"\",\"\",MAX(AA$1:AA355)+1)","v":""},{"$f":"IF(CPMS2!B378=\"\",\"\",CPMS2!B378)","v":""},{"$f":"IF(CPMS2!C378=\"\",\"\",CPMS2!C378)","v":""},{"$f":"IF(CPMS2!D378=\"\",\"\",CPMS2!D378)","v":""},"",{"$f":"IF(COUNTIF(AE$2:AE356,AE356)=1,AE356,\"\")","v":""},"","","",null,null,null,null,null,null,null,null,null,null,null,null,null,null,null,null,null,null,null,null,null,null,null,null,null,null,null,null,null,null,null,null,null,{"$f":"+IF(BV356=\"\",\"\",MAX(BQ$1:BQ355)+1)","v":""},{"$f":"IF(OpLimit!B378=\"\",\"\",OpLimit!B378)","v":""},{"$f":"IF(OpLimit!C378=\"\",\"\",OpLimit!C378)","v":""},{"$f":"IF(OpLimit!E378=\"\",\"\",OpLimit!E378)","v":""},"",{"$f":"IF(COUNTIF(BU$2:BU356,BU356)=1,BU356,\"\")","v":""},"","","",""]
[null,null,null,null,null,null,null,null,null,null,{"$f":"+IF(N357=\"\",\"\",MAX(K$1:K356)+1)","v":""},{"$f":"IF(CPMS1!E379=\"\",\"\",CPMS1!E379)","v":""},"",{"$f":"IF(COUNTIF(L$2:L357,L357)=1,L357,\"\")","v":""},null,null,null,null,{"$f":"+IF(W357=\"\",\"\",MAX(S$1:S356)+1)","v":""},{"$f":"IF(Adhes_Sealer_Deadener!B379=\"\",\"\",Adhes_Sealer_Deadener!B379)","v":""},{"$f":"IF(Adhes_Sealer_Deadener!C379=\"\",\"\",Adhes_Sealer_Deadener!C379)","v":""},{"$f":"+Table10[[#This Row],[Column1]]&Table10[[#This Row],[Column2]]","v":""},{"$f":"IF(COUNTIF(V$2:V357,V357)=1,V357,\"\")","v":""},"","",null,{"$f":"+IF(AF357=\"\",\"\",MAX(AA$1:AA356)+1)","v":""},{"$f":"IF(CPMS2!B379=\"\",\"\",CPMS2!B379)","v":""},{"$f":"IF(CPMS2!C379=\"\",\"\",CPMS2!C379)","v":""},{"$f":"IF(CPMS2!D379=\"\",\"\",CPMS2!D379)","v":""},"",{"$f":"IF(COUNTIF(AE$2:AE357,AE357)=1,AE357,\"\")","v":""},"","","",null,null,null,null,null,null,null,null,null,null,null,null,null,null,null,null,null,null,null,null,null,null,null,null,null,null,null,null,null,null,null,null,null,{"$f":"+IF(BV357=\"\",\"\",MAX(BQ$1:BQ356)+1)","v":""},{"$f":"IF(OpLimit!B379=\"\",\"\",OpLimit!B379)","v":""},{"$f":"IF(OpLimit!C379=\"\",\"\",OpLimit!C379)","v":""},{"$f":"IF(OpLimit!E379=\"\",\"\",OpLimit!E379)","v":""},"",{"$f":"IF(COUNTIF(BU$2:BU357,BU357)=1,BU357,\"\")","v":""},"","","",""]
[null,null,null,null,null,null,null,null,null,null,{"$f":"+IF(N358=\"\",\"\",MAX(K$1:K357)+1)","v":""},{"$f":"IF(CPMS1!E380=\"\",\"\",CPMS1!E380)","v":""},"",{"$f":"IF(COUNTIF(L$2:L358,L358)=1,L358,\"\")","v":""},null,null,null,null,{"$f":"+IF(W358=\"\",\"\",MAX(S$1:S357)+1)","v":""},{"$f":"IF(Adhes_Sealer_Deadener!B380=\"\",\"\",Adhes_Sealer_Deadener!B380)","v":""},{"$f":"IF(Adhes_Sealer_Deadener!C380=\"\",\"\",Adhes_Sealer_Deadener!C380)","v":""},{"$f":"+Table10[[#This Row],[Column1]]&Table10[[#This Row],[Column2]]","v":""},{"$f":"IF(COUNTIF(V$2:V358,V358)=1,V358,\"\")","v":""},"","",null,{"$f":"+IF(AF358=\"\",\"\",MAX(AA$1:AA357)+1)","v":""},{"$f":"IF(CPMS2!B380=\"\",\"\",CPMS2!B380)","v":""},{"$f":"IF(CPMS2!C380=\"\",\"\",CPMS2!C380)","v":""},{"$f":"IF(CPMS2!D380=\"\",\"\",CPMS2!D380)","v":""},"",{"$f":"IF(COUNTIF(AE$2:AE358,AE358)=1,AE358,\"\")","v":""},"","","",null,null,null,null,null,null,null,null,null,null,null,null,null,null,null,null,null,null,null,null,null,null,null,null,null,null,null,null,null,null,null,null,null,{"$f":"+IF(BV358=\"\",\"\",MAX(BQ$1:BQ357)+1)","v":""},{"$f":"IF(OpLimit!B380=\"\",\"\",OpLimit!B380)","v":""},{"$f":"IF(OpLimit!C380=\"\",\"\",OpLimit!C380)","v":""},{"$f":"IF(OpLimit!E380=\"\",\"\",OpLimit!E380)","v":""},"",{"$f":"IF(COUNTIF(BU$2:BU358,BU358)=1,BU358,\"\")","v":""},"","","",""]
[null,null,null,null,null,null,null,null,null,null,{"$f":"+IF(N359=\"\",\"\",MAX(K$1:K358)+1)","v":""},{"$f":"IF(CPMS1!E381=\"\",\"\",CPMS1!E381)","v":""},"",{"$f":"IF(COUNTIF(L$2:L359,L359)=1,L359,\"\")","v":""},null,null,null,null,{"$f":"+IF(W359=\"\",\"\",MAX(S$1:S358)+1)","v":""},{"$f":"IF(Adhes_Sealer_Deadener!B381=\"\",\"\",Adhes_Sealer_Deadener!B381)","v":""},{"$f":"IF(Adhes_Sealer_Deadener!C381=\"\",\"\",Adhes_Sealer_Deadener!C381)","v":""},{"$f":"+Table10[[#This Row],[Column1]]&Table10[[#This Row],[Column2]]","v":""},{"$f":"IF(COUNTIF(V$2:V359,V359)=1,V359,\"\")","v":""},"","",null,{"$f":"+IF(AF359=\"\",\"\",MAX(AA$1:AA358)+1)","v":""},{"$f":"IF(CPMS2!B381=\"\",\"\",CPMS2!B381)","v":""},{"$f":"IF(CPMS2!C381=\"\",\"\",CPMS2!C381)","v":""},{"$f":"IF(CPMS2!D381=\"\",\"\",CPMS2!D381)","v":""},"",{"$f":"IF(COUNTIF(AE$2:AE359,AE359)=1,AE359,\"\")","v":""},"","","",null,null,null,null,null,null,null,null,null,null,null,null,null,null,null,null,null,null,null,null,null,null,null,null,null,null,null,null,null,null,null,null,null,{"$f":"+IF(BV359=\"\",\"\",MAX(BQ$1:BQ358)+1)","v":""},{"$f":"IF(OpLimit!B381=\"\",\"\",OpLimit!B381)","v":""},{"$f":"IF(OpLimit!C381=\"\",\"\",OpLimit!C381)","v":""},{"$f":"IF(OpLimit!E381=\"\",\"\",OpLimit!E381)","v":""},"",{"$f":"IF(COUNTIF(BU$2:BU359,BU359)=1,BU359,\"\")","v":""},"","","",""]
[null,null,null,null,null,null,null,null,null,null,{"$f":"+IF(N360=\"\",\"\",MAX(K$1:K359)+1)","v":""},{"$f":"IF(CPMS1!E382=\"\",\"\",CPMS1!E382)","v":""},"",{"$f":"IF(COUNTIF(L$2:L360,L360)=1,L360,\"\")","v":""},null,null,null,null,{"$f":"+IF(W360=\"\",\"\",MAX(S$1:S359)+1)","v":""},{"$f":"IF(Adhes_Sealer_Deadener!B382=\"\",\"\",Adhes_Sealer_Deadener!B382)","v":""},{"$f":"IF(Adhes_Sealer_Deadener!C382=\"\",\"\",Adhes_Sealer_Deadener!C382)","v":""},{"$f":"+Table10[[#This Row],[Column1]]&Table10[[#This Row],[Column2]]","v":""},{"$f":"IF(COUNTIF(V$2:V360,V360)=1,V360,\"\")","v":""},"","",null,{"$f":"+IF(AF360=\"\",\"\",MAX(AA$1:AA359)+1)","v":""},{"$f":"IF(CPMS2!B382=\"\",\"\",CPMS2!B382)","v":""},{"$f":"IF(CPMS2!C382=\"\",\"\",CPMS2!C382)","v":""},{"$f":"IF(CPMS2!D382=\"\",\"\",CPMS2!D382)","v":""},"",{"$f":"IF(COUNTIF(AE$2:AE360,AE360)=1,AE360,\"\")","v":""},"","","",null,null,null,null,null,null,null,null,null,null,null,null,null,null,null,null,null,null,null,null,null,null,null,null,null,null,null,null,null,null,null,null,null,{"$f":"+IF(BV360=\"\",\"\",MAX(BQ$1:BQ359)+1)","v":""},{"$f":"IF(OpLimit!B382=\"\",\"\",OpLimit!B382)","v":""},{"$f":"IF(OpLimit!C382=\"\",\"\",OpLimit!C382)","v":""},{"$f":"IF(OpLimit!E382=\"\",\"\",OpLimit!E382)","v":""},"",{"$f":"IF(COUNTIF(BU$2:BU360,BU360)=1,BU360,\"\")","v":""},"","","",""]
[null,null,null,null,null,null,null,null,null,null,{"$f":"+IF(N361=\"\",\"\",MAX(K$1:K360)+1)","v":""},{"$f":"IF(CPMS1!E383=\"\",\"\",CPMS1!E383)","v":""},"",{"$f":"IF(COUNTIF(L$2:L361,L361)=1,L361,\"\")","v":""},null,null,null,null,{"$f":"+IF(W361=\"\",\"\",MAX(S$1:S360)+1)","v":""},{"$f":"IF(Adhes_Sealer_Deadener!B383=\"\",\"\",Adhes_Sealer_Deadener!B383)","v":""},{"$f":"IF(Adhes_Sealer_Deadener!C383=\"\",\"\",Adhes_Sealer_Deadener!C383)","v":""},{"$f":"+Table10[[#This Row],[Column1]]&Table10[[#This Row],[Column2]]","v":""},{"$f":"IF(COUNTIF(V$2:V361,V361)=1,V361,\"\")","v":""},"","",null,{"$f":"+IF(AF361=\"\",\"\",MAX(AA$1:AA360)+1)","v":""},{"$f":"IF(CPMS2!B383=\"\",\"\",CPMS2!B383)","v":""},{"$f":"IF(CPMS2!C383=\"\",\"\",CPMS2!C383)","v":""},{"$f":"IF(CPMS2!D383=\"\",\"\",CPMS2!D383)","v":""},"",{"$f":"IF(COUNTIF(AE$2:AE361,AE361)=1,AE361,\"\")","v":""},"","","",null,null,null,null,null,null,null,null,null,null,null,null,null,null,null,null,null,null,null,null,null,null,null,null,null,null,null,null,null,null,null,null,null,{"$f":"+IF(BV361=\"\",\"\",MAX(BQ$1:BQ360)+1)","v":""},{"$f":"IF(OpLimit!B383=\"\",\"\",OpLimit!B383)","v":""},{"$f":"IF(OpLimit!C383=\"\",\"\",OpLimit!C383)","v":""},{"$f":"IF(OpLimit!E383=\"\",\"\",OpLimit!E383)","v":""},"",{"$f":"IF(COUNTIF(BU$2:BU361,BU361)=1,BU361,\"\")","v":""},"","","",""]
[null,null,null,null,null,null,null,null,null,null,{"$f":"+IF(N362=\"\",\"\",MAX(K$1:K361)+1)","v":""},{"$f":"IF(CPMS1!E384=\"\",\"\",CPMS1!E384)","v":""},"",{"$f":"IF(COUNTIF(L$2:L362,L362)=1,L362,\"\")","v":""},null,null,null,null,{"$f":"+IF(W362=\"\",\"\",MAX(S$1:S361)+1)","v":""},{"$f":"IF(Adhes_Sealer_Deadener!B384=\"\",\"\",Adhes_Sealer_Deadener!B384)","v":""},{"$f":"IF(Adhes_Sealer_Deadener!C384=\"\",\"\",Adhes_Sealer_Deadener!C384)","v":""},{"$f":"+Table10[[#This Row],[Column1]]&Table10[[#This Row],[Column2]]","v":""},{"$f":"IF(COUNTIF(V$2:V362,V362)=1,V362,\"\")","v":""},"","",null,{"$f":"+IF(AF362=\"\",\"\",MAX(AA$1:AA361)+1)","v":""},{"$f":"IF(CPMS2!B384=\"\",\"\",CPMS2!B384)","v":""},{"$f":"IF(CPMS2!C384=\"\",\"\",CPMS2!C384)","v":""},{"$f":"IF(CPMS2!D384=\"\",\"\",CPMS2!D384)","v":""},"",{"$f":"IF(COUNTIF(AE$2:AE362,AE362)=1,AE362,\"\")","v":""},"","","",null,null,null,null,null,null,null,null,null,null,null,null,null,null,null,null,null,null,null,null,null,null,null,null,null,null,null,null,null,null,null,null,null,{"$f":"+IF(BV362=\"\",\"\",MAX(BQ$1:BQ361)+1)","v":""},{"$f":"IF(OpLimit!B384=\"\",\"\",OpLimit!B384)","v":""},{"$f":"IF(OpLimit!C384=\"\",\"\",OpLimit!C384)","v":""},{"$f":"IF(OpLimit!E384=\"\",\"\",OpLimit!E384)","v":""},"",{"$f":"IF(COUNTIF(BU$2:BU362,BU362)=1,BU362,\"\")","v":""},"","","",""]
[null,null,null,null,null,null,null,null,null,null,{"$f":"+IF(N363=\"\",\"\",MAX(K$1:K362)+1)","v":""},{"$f":"IF(CPMS1!E385=\"\",\"\",CPMS1!E385)","v":""},"",{"$f":"IF(COUNTIF(L$2:L363,L363)=1,L363,\"\")","v":""},null,null,null,null,{"$f":"+IF(W363=\"\",\"\",MAX(S$1:S362)+1)","v":""},{"$f":"IF(Adhes_Sealer_Deadener!B385=\"\",\"\",Adhes_Sealer_Deadener!B385)","v":""},{"$f":"IF(Adhes_Sealer_Deadener!C385=\"\",\"\",Adhes_Sealer_Deadener!C385)","v":""},{"$f":"+Table10[[#This Row],[Column1]]&Table10[[#This Row],[Column2]]","v":""},{"$f":"IF(COUNTIF(V$2:V363,V363)=1,V363,\"\")","v":""},"","",null,{"$f":"+IF(AF363=\"\",\"\",MAX(AA$1:AA362)+1)","v":""},{"$f":"IF(CPMS2!B385=\"\",\"\",CPMS2!B385)","v":""},{"$f":"IF(CPMS2!C385=\"\",\"\",CPMS2!C385)","v":""},{"$f":"IF(CPMS2!D385=\"\",\"\",CPMS2!D385)","v":""},"",{"$f":"IF(COUNTIF(AE$2:AE363,AE363)=1,AE363,\"\")","v":""},"","","",null,null,null,null,null,null,null,null,null,null,null,null,null,null,null,null,null,null,null,null,null,null,null,null,null,null,null,null,null,null,null,null,null,{"$f":"+IF(BV363=\"\",\"\",MAX(BQ$1:BQ362)+1)","v":""},{"$f":"IF(OpLimit!B385=\"\",\"\",OpLimit!B385)","v":""},{"$f":"IF(OpLimit!C385=\"\",\"\",OpLimit!C385)","v":""},{"$f":"IF(OpLimit!E385=\"\",\"\",OpLimit!E385)","v":""},"",{"$f":"IF(COUNTIF(BU$2:BU363,BU363)=1,BU363,\"\")","v":""},"","","",""]
[null,null,null,null,null,null,null,null,null,null,{"$f":"+IF(N364=\"\",\"\",MAX(K$1:K363)+1)","v":""},{"$f":"IF(CPMS1!E386=\"\",\"\",CPMS1!E386)","v":""},"",{"$f":"IF(COUNTIF(L$2:L364,L364)=1,L364,\"\")","v":""},null,null,null,null,{"$f":"+IF(W364=\"\",\"\",MAX(S$1:S363)+1)","v":""},{"$f":"IF(Adhes_Sealer_Deadener!B386=\"\",\"\",Adhes_Sealer_Deadener!B386)","v":""},{"$f":"IF(Adhes_Sealer_Deadener!C386=\"\",\"\",Adhes_Sealer_Deadener!C386)","v":""},{"$f":"+Table10[[#This Row],[Column1]]&Table10[[#This Row],[Column2]]","v":""},{"$f":"IF(COUNTIF(V$2:V364,V364)=1,V364,\"\")","v":""},"","",null,{"$f":"+IF(AF364=\"\",\"\",MAX(AA$1:AA363)+1)","v":""},{"$f":"IF(CPMS2!B386=\"\",\"\",CPMS2!B386)","v":""},{"$f":"IF(CPMS2!C386=\"\",\"\",CPMS2!C386)","v":""},{"$f":"IF(CPMS2!D386=\"\",\"\",CPMS2!D386)","v":""},"",{"$f":"IF(COUNTIF(AE$2:AE364,AE364)=1,AE364,\"\")","v":""},"","","",null,null,null,null,null,null,null,null,null,null,null,null,null,null,null,null,null,null,null,null,null,null,null,null,null,null,null,null,null,null,null,null,null,{"$f":"+IF(BV364=\"\",\"\",MAX(BQ$1:BQ363)+1)","v":""},{"$f":"IF(OpLimit!B386=\"\",\"\",OpLimit!B386)","v":""},{"$f":"IF(OpLimit!C386=\"\",\"\",OpLimit!C386)","v":""},{"$f":"IF(OpLimit!E386=\"\",\"\",OpLimit!E386)","v":""},"",{"$f":"IF(COUNTIF(BU$2:BU364,BU364)=1,BU364,\"\")","v":""},"","","",""]
[null,null,null,null,null,null,null,null,null,null,{"$f":"+IF(N365=\"\",\"\",MAX(K$1:K364)+1)","v":""},{"$f":"IF(CPMS1!E387=\"\",\"\",CPMS1!E387)","v":""},"",{"$f":"IF(COUNTIF(L$2:L365,L365)=1,L365,\"\")","v":""},null,null,null,null,{"$f":"+IF(W365=\"\",\"\",MAX(S$1:S364)+1)","v":""},{"$f":"IF(Adhes_Sealer_Deadener!B387=\"\",\"\",Adhes_Sealer_Deadener!B387)","v":""},{"$f":"IF(Adhes_Sealer_Deadener!C387=\"\",\"\",Adhes_Sealer_Deadener!C387)","v":""},{"$f":"+Table10[[#This Row],[Column1]]&Table10[[#This Row],[Column2]]","v":""},{"$f":"IF(COUNTIF(V$2:V365,V365)=1,V365,\"\")","v":""},"","",null,{"$f":"+IF(AF365=\"\",\"\",MAX(AA$1:AA364)+1)","v":""},{"$f":"IF(CPMS2!B387=\"\",\"\",CPMS2!B387)","v":""},{"$f":"IF(CPMS2!C387=\"\",\"\",CPMS2!C387)","v":""},{"$f":"IF(CPMS2!D387=\"\",\"\",CPMS2!D387)","v":""},"",{"$f":"IF(COUNTIF(AE$2:AE365,AE365)=1,AE365,\"\")","v":""},"","","",null,null,null,null,null,null,null,null,null,null,null,null,null,null,null,null,null,null,null,null,null,null,null,null,null,null,null,null,null,null,null,null,null,{"$f":"+IF(BV365=\"\",\"\",MAX(BQ$1:BQ364)+1)","v":""},{"$f":"IF(OpLimit!B387=\"\",\"\",OpLimit!B387)","v":""},{"$f":"IF(OpLimit!C387=\"\",\"\",OpLimit!C387)","v":""},{"$f":"IF(OpLimit!E387=\"\",\"\",OpLimit!E387)","v":""},"",{"$f":"IF(COUNTIF(BU$2:BU365,BU365)=1,BU365,\"\")","v":""},"","","",""]
[null,null,null,null,null,null,null,null,null,null,{"$f":"+IF(N366=\"\",\"\",MAX(K$1:K365)+1)","v":""},{"$f":"IF(CPMS1!E388=\"\",\"\",CPMS1!E388)","v":""},"",{"$f":"IF(COUNTIF(L$2:L366,L366)=1,L366,\"\")","v":""},null,null,null,null,{"$f":"+IF(W366=\"\",\"\",MAX(S$1:S365)+1)","v":""},{"$f":"IF(Adhes_Sealer_Deadener!B388=\"\",\"\",Adhes_Sealer_Deadener!B388)","v":""},{"$f":"IF(Adhes_Sealer_Deadener!C388=\"\",\"\",Adhes_Sealer_Deadener!C388)","v":""},{"$f":"+Table10[[#This Row],[Column1]]&Table10[[#This Row],[Column2]]","v":""},{"$f":"IF(COUNTIF(V$2:V366,V366)=1,V366,\"\")","v":""},"","",null,{"$f":"+IF(AF366=\"\",\"\",MAX(AA$1:AA365)+1)","v":""},{"$f":"IF(CPMS2!B388=\"\",\"\",CPMS2!B388)","v":""},{"$f":"IF(CPMS2!C388=\"\",\"\",CPMS2!C388)","v":""},{"$f":"IF(CPMS2!D388=\"\",\"\",CPMS2!D388)","v":""},"",{"$f":"IF(COUNTIF(AE$2:AE366,AE366)=1,AE366,\"\")","v":""},"","","",null,null,null,null,null,null,null,null,null,null,null,null,null,null,null,null,null,null,null,null,null,null,null,null,null,null,null,null,null,null,null,null,null,{"$f":"+IF(BV366=\"\",\"\",MAX(BQ$1:BQ365)+1)","v":""},{"$f":"IF(OpLimit!B388=\"\",\"\",OpLimit!B388)","v":""},{"$f":"IF(OpLimit!C388=\"\",\"\",OpLimit!C388)","v":""},{"$f":"IF(OpLimit!E388=\"\",\"\",OpLimit!E388)","v":""},"",{"$f":"IF(COUNTIF(BU$2:BU366,BU366)=1,BU366,\"\")","v":""},"","","",""]
[null,null,null,null,null,null,null,null,null,null,{"$f":"+IF(N367=\"\",\"\",MAX(K$1:K366)+1)","v":""},{"$f":"IF(CPMS1!E389=\"\",\"\",CPMS1!E389)","v":""},"",{"$f":"IF(COUNTIF(L$2:L367,L367)=1,L367,\"\")","v":""},null,null,null,null,{"$f":"+IF(W367=\"\",\"\",MAX(S$1:S366)+1)","v":""},{"$f":"IF(Adhes_Sealer_Deadener!B389=\"\",\"\",Adhes_Sealer_Deadener!B389)","v":""},{"$f":"IF(Adhes_Sealer_Deadener!C389=\"\",\"\",Adhes_Sealer_Deadener!C389)","v":""},{"$f":"+Table10[[#This Row],[Column1]]&Table10[[#This Row],[Column2]]","v":""},{"$f":"IF(COUNTIF(V$2:V367,V367)=1,V367,\"\")","v":""},"","",null,{"$f":"+IF(AF367=\"\",\"\",MAX(AA$1:AA366)+1)","v":""},{"$f":"IF(CPMS2!B389=\"\",\"\",CPMS2!B389)","v":""},{"$f":"IF(CPMS2!C389=\"\",\"\",CPMS2!C389)","v":""},{"$f":"IF(CPMS2!D389=\"\",\"\",CPMS2!D389)","v":""},"",{"$f":"IF(COUNTIF(AE$2:AE367,AE367)=1,AE367,\"\")","v":""},"","","",null,null,null,null,null,null,null,null,null,null,null,null,null,null,null,null,null,null,null,null,null,null,null,null,null,null,null,null,null,null,null,null,null,{"$f":"+IF(BV367=\"\",\"\",MAX(BQ$1:BQ366)+1)","v":""},{"$f":"IF(OpLimit!B389=\"\",\"\",OpLimit!B389)","v":""},{"$f":"IF(OpLimit!C389=\"\",\"\",OpLimit!C389)","v":""},{"$f":"IF(OpLimit!E389=\"\",\"\",OpLimit!E389)","v":""},"",{"$f":"IF(COUNTIF(BU$2:BU367,BU367)=1,BU367,\"\")","v":""},"","","",""]
[null,null,null,null,null,null,null,null,null,null,{"$f":"+IF(N368=\"\",\"\",MAX(K$1:K367)+1)","v":""},{"$f":"IF(CPMS1!E390=\"\",\"\",CPMS1!E390)","v":""},"",{"$f":"IF(COUNTIF(L$2:L368,L368)=1,L368,\"\")","v":""},null,null,null,null,{"$f":"+IF(W368=\"\",\"\",MAX(S$1:S367)+1)","v":""},{"$f":"IF(Adhes_Sealer_Deadener!B390=\"\",\"\",Adhes_Sealer_Deadener!B390)","v":""},{"$f":"IF(Adhes_Sealer_Deadener!C390=\"\",\"\",Adhes_Sealer_Deadener!C390)","v":""},{"$f":"+Table10[[#This Row],[Column1]]&Table10[[#This Row],[Column2]]","v":""},{"$f":"IF(COUNTIF(V$2:V368,V368)=1,V368,\"\")","v":""},"","",null,{"$f":"+IF(AF368=\"\",\"\",MAX(AA$1:AA367)+1)","v":""},{"$f":"IF(CPMS2!B390=\"\",\"\",CPMS2!B390)","v":""},{"$f":"IF(CPMS2!C390=\"\",\"\",CPMS2!C390)","v":""},{"$f":"IF(CPMS2!D390=\"\",\"\",CPMS2!D390)","v":""},"",{"$f":"IF(COUNTIF(AE$2:AE368,AE368)=1,AE368,\"\")","v":""},"","","",null,null,null,null,null,null,null,null,null,null,null,null,null,null,null,null,null,null,null,null,null,null,null,null,null,null,null,null,null,null,null,null,null,{"$f":"+IF(BV368=\"\",\"\",MAX(BQ$1:BQ367)+1)","v":""},{"$f":"IF(OpLimit!B390=\"\",\"\",OpLimit!B390)","v":""},{"$f":"IF(OpLimit!C390=\"\",\"\",OpLimit!C390)","v":""},{"$f":"IF(OpLimit!E390=\"\",\"\",OpLimit!E390)","v":""},"",{"$f":"IF(COUNTIF(BU$2:BU368,BU368)=1,BU368,\"\")","v":""},"","","",""]
[null,null,null,null,null,null,null,null,null,null,{"$f":"+IF(N369=\"\",\"\",MAX(K$1:K368)+1)","v":""},{"$f":"IF(CPMS1!E391=\"\",\"\",CPMS1!E391)","v":""},"",{"$f":"IF(COUNTIF(L$2:L369,L369)=1,L369,\"\")","v":""},null,null,null,null,{"$f":"+IF(W369=\"\",\"\",MAX(S$1:S368)+1)","v":""},{"$f":"IF(Adhes_Sealer_Deadener!B391=\"\",\"\",Adhes_Sealer_Deadener!B391)","v":""},{"$f":"IF(Adhes_Sealer_Deadener!C391=\"\",\"\",Adhes_Sealer_Deadener!C391)","v":""},{"$f":"+Table10[[#This Row],[Column1]]&Table10[[#This Row],[Column2]]","v":""},{"$f":"IF(COUNTIF(V$2:V369,V369)=1,V369,\"\")","v":""},"","",null,{"$f":"+IF(AF369=\"\",\"\",MAX(AA$1:AA368)+1)","v":""},{"$f":"IF(CPMS2!B391=\"\",\"\",CPMS2!B391)","v":""},{"$f":"IF(CPMS2!C391=\"\",\"\",CPMS2!C391)","v":""},{"$f":"IF(CPMS2!D391=\"\",\"\",CPMS2!D391)","v":""},"",{"$f":"IF(COUNTIF(AE$2:AE369,AE369)=1,AE369,\"\")","v":""},"","","",null,null,null,null,null,null,null,null,null,null,null,null,null,null,null,null,null,null,null,null,null,null,null,null,null,null,null,null,null,null,null,null,null,{"$f":"+IF(BV369=\"\",\"\",MAX(BQ$1:BQ368)+1)","v":""},{"$f":"IF(OpLimit!B391=\"\",\"\",OpLimit!B391)","v":""},{"$f":"IF(OpLimit!C391=\"\",\"\",OpLimit!C391)","v":""},{"$f":"IF(OpLimit!E391=\"\",\"\",OpLimit!E391)","v":""},"",{"$f":"IF(COUNTIF(BU$2:BU369,BU369)=1,BU369,\"\")","v":""},"","","",""]
[null,null,null,null,null,null,null,null,null,null,{"$f":"+IF(N370=\"\",\"\",MAX(K$1:K369)+1)","v":""},{"$f":"IF(CPMS1!E392=\"\",\"\",CPMS1!E392)","v":""},"",{"$f":"IF(COUNTIF(L$2:L370,L370)=1,L370,\"\")","v":""},null,null,null,null,{"$f":"+IF(W370=\"\",\"\",MAX(S$1:S369)+1)","v":""},{"$f":"IF(Adhes_Sealer_Deadener!B392=\"\",\"\",Adhes_Sealer_Deadener!B392)","v":""},{"$f":"IF(Adhes_Sealer_Deadener!C392=\"\",\"\",Adhes_Sealer_Deadener!C392)","v":""},{"$f":"+Table10[[#This Row],[Column1]]&Table10[[#This Row],[Column2]]","v":""},{"$f":"IF(COUNTIF(V$2:V370,V370)=1,V370,\"\")","v":""},"","",null,{"$f":"+IF(AF370=\"\",\"\",MAX(AA$1:AA369)+1)","v":""},{"$f":"IF(CPMS2!B392=\"\",\"\",CPMS2!B392)","v":""},{"$f":"IF(CPMS2!C392=\"\",\"\",CPMS2!C392)","v":""},{"$f":"IF(CPMS2!D392=\"\",\"\",CPMS2!D392)","v":""},"",{"$f":"IF(COUNTIF(AE$2:AE370,AE370)=1,AE370,\"\")","v":""},"","","",null,null,null,null,null,null,null,null,null,null,null,null,null,null,null,null,null,null,null,null,null,null,null,null,null,null,null,null,null,null,null,null,null,{"$f":"+IF(BV370=\"\",\"\",MAX(BQ$1:BQ369)+1)","v":""},{"$f":"IF(OpLimit!B392=\"\",\"\",OpLimit!B392)","v":""},{"$f":"IF(OpLimit!C392=\"\",\"\",OpLimit!C392)","v":""},{"$f":"IF(OpLimit!E392=\"\",\"\",OpLimit!E392)","v":""},"",{"$f":"IF(COUNTIF(BU$2:BU370,BU370)=1,BU370,\"\")","v":""},"","","",""]
[null,null,null,null,null,null,null,null,null,null,{"$f":"+IF(N371=\"\",\"\",MAX(K$1:K370)+1)","v":""},{"$f":"IF(CPMS1!E393=\"\",\"\",CPMS1!E393)","v":""},"",{"$f":"IF(COUNTIF(L$2:L371,L371)=1,L371,\"\")","v":""},null,null,null,null,{"$f":"+IF(W371=\"\",\"\",MAX(S$1:S370)+1)","v":""},{"$f":"IF(Adhes_Sealer_Deadener!B393=\"\",\"\",Adhes_Sealer_Deadener!B393)","v":""},{"$f":"IF(Adhes_Sealer_Deadener!C393=\"\",\"\",Adhes_Sealer_Deadener!C393)","v":""},{"$f":"+Table10[[#This Row],[Column1]]&Table10[[#This Row],[Column2]]","v":""},{"$f":"IF(COUNTIF(V$2:V371,V371)=1,V371,\"\")","v":""},"","",null,{"$f":"+IF(AF371=\"\",\"\",MAX(AA$1:AA370)+1)","v":""},{"$f":"IF(CPMS2!B393=\"\",\"\",CPMS2!B393)","v":""},{"$f":"IF(CPMS2!C393=\"\",\"\",CPMS2!C393)","v":""},{"$f":"IF(CPMS2!D393=\"\",\"\",CPMS2!D393)","v":""},"",{"$f":"IF(COUNTIF(AE$2:AE371,AE371)=1,AE371,\"\")","v":""},"","","",null,null,null,null,null,null,null,null,null,null,null,null,null,null,null,null,null,null,null,null,null,null,null,null,null,null,null,null,null,null,null,null,null,{"$f":"+IF(BV371=\"\",\"\",MAX(BQ$1:BQ370)+1)","v":""},{"$f":"IF(OpLimit!B393=\"\",\"\",OpLimit!B393)","v":""},{"$f":"IF(OpLimit!C393=\"\",\"\",OpLimit!C393)","v":""},{"$f":"IF(OpLimit!E393=\"\",\"\",OpLimit!E393)","v":""},"",{"$f":"IF(COUNTIF(BU$2:BU371,BU371)=1,BU371,\"\")","v":""},"","","",""]
[null,null,null,null,null,null,null,null,null,null,{"$f":"+IF(N372=\"\",\"\",MAX(K$1:K371)+1)","v":""},{"$f":"IF(CPMS1!E394=\"\",\"\",CPMS1!E394)","v":""},"",{"$f":"IF(COUNTIF(L$2:L372,L372)=1,L372,\"\")","v":""},null,null,null,null,{"$f":"+IF(W372=\"\",\"\",MAX(S$1:S371)+1)","v":""},{"$f":"IF(Adhes_Sealer_Deadener!B394=\"\",\"\",Adhes_Sealer_Deadener!B394)","v":""},{"$f":"IF(Adhes_Sealer_Deadener!C394=\"\",\"\",Adhes_Sealer_Deadener!C394)","v":""},{"$f":"+Table10[[#This Row],[Column1]]&Table10[[#This Row],[Column2]]","v":""},{"$f":"IF(COUNTIF(V$2:V372,V372)=1,V372,\"\")","v":""},"","",null,{"$f":"+IF(AF372=\"\",\"\",MAX(AA$1:AA371)+1)","v":""},{"$f":"IF(CPMS2!B394=\"\",\"\",CPMS2!B394)","v":""},{"$f":"IF(CPMS2!C394=\"\",\"\",CPMS2!C394)","v":""},{"$f":"IF(CPMS2!D394=\"\",\"\",CPMS2!D394)","v":""},"",{"$f":"IF(COUNTIF(AE$2:AE372,AE372)=1,AE372,\"\")","v":""},"","","",null,null,null,null,null,null,null,null,null,null,null,null,null,null,null,null,null,null,null,null,null,null,null,null,null,null,null,null,null,null,null,null,null,{"$f":"+IF(BV372=\"\",\"\",MAX(BQ$1:BQ371)+1)","v":""},{"$f":"IF(OpLimit!B394=\"\",\"\",OpLimit!B394)","v":""},{"$f":"IF(OpLimit!C394=\"\",\"\",OpLimit!C394)","v":""},{"$f":"IF(OpLimit!E394=\"\",\"\",OpLimit!E394)","v":""},"",{"$f":"IF(COUNTIF(BU$2:BU372,BU372)=1,BU372,\"\")","v":""},"","","",""]
[null,null,null,null,null,null,null,null,null,null,{"$f":"+IF(N373=\"\",\"\",MAX(K$1:K372)+1)","v":""},{"$f":"IF(CPMS1!E395=\"\",\"\",CPMS1!E395)","v":""},"",{"$f":"IF(COUNTIF(L$2:L373,L373)=1,L373,\"\")","v":""},null,null,null,null,{"$f":"+IF(W373=\"\",\"\",MAX(S$1:S372)+1)","v":""},{"$f":"IF(Adhes_Sealer_Deadener!B395=\"\",\"\",Adhes_Sealer_Deadener!B395)","v":""},{"$f":"IF(Adhes_Sealer_Deadener!C395=\"\",\"\",Adhes_Sealer_Deadener!C395)","v":""},{"$f":"+Table10[[#This Row],[Column1]]&Table10[[#This Row],[Column2]]","v":""},{"$f":"IF(COUNTIF(V$2:V373,V373)=1,V373,\"\")","v":""},"","",null,{"$f":"+IF(AF373=\"\",\"\",MAX(AA$1:AA372)+1)","v":""},{"$f":"IF(CPMS2!B395=\"\",\"\",CPMS2!B395)","v":""},{"$f":"IF(CPMS2!C395=\"\",\"\",CPMS2!C395)","v":""},{"$f":"IF(CPMS2!D395=\"\",\"\",CPMS2!D395)","v":""},"",{"$f":"IF(COUNTIF(AE$2:AE373,AE373)=1,AE373,\"\")","v":""},"","","",null,null,null,null,null,null,null,null,null,null,null,null,null,null,null,null,null,null,null,null,null,null,null,null,null,null,null,null,null,null,null,null,null,{"$f":"+IF(BV373=\"\",\"\",MAX(BQ$1:BQ372)+1)","v":""},{"$f":"IF(OpLimit!B395=\"\",\"\",OpLimit!B395)","v":""},{"$f":"IF(OpLimit!C395=\"\",\"\",OpLimit!C395)","v":""},{"$f":"IF(OpLimit!E395=\"\",\"\",OpLimit!E395)","v":""},"",{"$f":"IF(COUNTIF(BU$2:BU373,BU373)=1,BU373,\"\")","v":""},"","","",""]
[null,null,null,null,null,null,null,null,null,null,{"$f":"+IF(N374=\"\",\"\",MAX(K$1:K373)+1)","v":""},{"$f":"IF(CPMS1!E396=\"\",\"\",CPMS1!E396)","v":""},"",{"$f":"IF(COUNTIF(L$2:L374,L374)=1,L374,\"\")","v":""},null,null,null,null,{"$f":"+IF(W374=\"\",\"\",MAX(S$1:S373)+1)","v":""},{"$f":"IF(Adhes_Sealer_Deadener!B396=\"\",\"\",Adhes_Sealer_Deadener!B396)","v":""},{"$f":"IF(Adhes_Sealer_Deadener!C396=\"\",\"\",Adhes_Sealer_Deadener!C396)","v":""},{"$f":"+Table10[[#This Row],[Column1]]&Table10[[#This Row],[Column2]]","v":""},{"$f":"IF(COUNTIF(V$2:V374,V374)=1,V374,\"\")","v":""},"","",null,{"$f":"+IF(AF374=\"\",\"\",MAX(AA$1:AA373)+1)","v":""},{"$f":"IF(CPMS2!B396=\"\",\"\",CPMS2!B396)","v":""},{"$f":"IF(CPMS2!C396=\"\",\"\",CPMS2!C396)","v":""},{"$f":"IF(CPMS2!D396=\"\",\"\",CPMS2!D396)","v":""},"",{"$f":"IF(COUNTIF(AE$2:AE374,AE374)=1,AE374,\"\")","v":""},"","","",null,null,null,null,null,null,null,null,null,null,null,null,null,null,null,null,null,null,null,null,null,null,null,null,null,null,null,null,null,null,null,null,null,{"$f":"+IF(BV374=\"\",\"\",MAX(BQ$1:BQ373)+1)","v":""},{"$f":"IF(OpLimit!B396=\"\",\"\",OpLimit!B396)","v":""},{"$f":"IF(OpLimit!C396=\"\",\"\",OpLimit!C396)","v":""},{"$f":"IF(OpLimit!E396=\"\",\"\",OpLimit!E396)","v":""},"",{"$f":"IF(COUNTIF(BU$2:BU374,BU374)=1,BU374,\"\")","v":""},"","","",""]
[null,null,null,null,null,null,null,null,null,null,{"$f":"+IF(N375=\"\",\"\",MAX(K$1:K374)+1)","v":""},{"$f":"IF(CPMS1!E397=\"\",\"\",CPMS1!E397)","v":""},"",{"$f":"IF(COUNTIF(L$2:L375,L375)=1,L375,\"\")","v":""},null,null,null,null,{"$f":"+IF(W375=\"\",\"\",MAX(S$1:S374)+1)","v":""},{"$f":"IF(Adhes_Sealer_Deadener!B397=\"\",\"\",Adhes_Sealer_Deadener!B397)","v":""},{"$f":"IF(Adhes_Sealer_Deadener!C397=\"\",\"\",Adhes_Sealer_Deadener!C397)","v":""},{"$f":"+Table10[[#This Row],[Column1]]&Table10[[#This Row],[Column2]]","v":""},{"$f":"IF(COUNTIF(V$2:V375,V375)=1,V375,\"\")","v":""},"","",null,{"$f":"+IF(AF375=\"\",\"\",MAX(AA$1:AA374)+1)","v":""},{"$f":"IF(CPMS2!B397=\"\",\"\",CPMS2!B397)","v":""},{"$f":"IF(CPMS2!C397=\"\",\"\",CPMS2!C397)","v":""},{"$f":"IF(CPMS2!D397=\"\",\"\",CPMS2!D397)","v":""},"",{"$f":"IF(COUNTIF(AE$2:AE375,AE375)=1,AE375,\"\")","v":""},"","","",null,null,null,null,null,null,null,null,null,null,null,null,null,null,null,null,null,null,null,null,null,null,null,null,null,null,null,null,null,null,null,null,null,{"$f":"+IF(BV375=\"\",\"\",MAX(BQ$1:BQ374)+1)","v":""},{"$f":"IF(OpLimit!B397=\"\",\"\",OpLimit!B397)","v":""},{"$f":"IF(OpLimit!C397=\"\",\"\",OpLimit!C397)","v":""},{"$f":"IF(OpLimit!E397=\"\",\"\",OpLimit!E397)","v":""},"",{"$f":"IF(COUNTIF(BU$2:BU375,BU375)=1,BU375,\"\")","v":""},"","","",""]
[null,null,null,null,null,null,null,null,null,null,{"$f":"+IF(N376=\"\",\"\",MAX(K$1:K375)+1)","v":""},{"$f":"IF(CPMS1!E398=\"\",\"\",CPMS1!E398)","v":""},"",{"$f":"IF(COUNTIF(L$2:L376,L376)=1,L376,\"\")","v":""},null,null,null,null,{"$f":"+IF(W376=\"\",\"\",MAX(S$1:S375)+1)","v":""},{"$f":"IF(Adhes_Sealer_Deadener!B398=\"\",\"\",Adhes_Sealer_Deadener!B398)","v":""},{"$f":"IF(Adhes_Sealer_Deadener!C398=\"\",\"\",Adhes_Sealer_Deadener!C398)","v":""},{"$f":"+Table10[[#This Row],[Column1]]&Table10[[#This Row],[Column2]]","v":""},{"$f":"IF(COUNTIF(V$2:V376,V376)=1,V376,\"\")","v":""},"","",null,{"$f":"+IF(AF376=\"\",\"\",MAX(AA$1:AA375)+1)","v":""},{"$f":"IF(CPMS2!B398=\"\",\"\",CPMS2!B398)","v":""},{"$f":"IF(CPMS2!C398=\"\",\"\",CPMS2!C398)","v":""},{"$f":"IF(CPMS2!D398=\"\",\"\",CPMS2!D398)","v":""},"",{"$f":"IF(COUNTIF(AE$2:AE376,AE376)=1,AE376,\"\")","v":""},"","","",null,null,null,null,null,null,null,null,null,null,null,null,null,null,null,null,null,null,null,null,null,null,null,null,null,null,null,null,null,null,null,null,null,{"$f":"+IF(BV376=\"\",\"\",MAX(BQ$1:BQ375)+1)","v":""},{"$f":"IF(OpLimit!B398=\"\",\"\",OpLimit!B398)","v":""},{"$f":"IF(OpLimit!C398=\"\",\"\",OpLimit!C398)","v":""},{"$f":"IF(OpLimit!E398=\"\",\"\",OpLimit!E398)","v":""},"",{"$f":"IF(COUNTIF(BU$2:BU376,BU376)=1,BU376,\"\")","v":""},"","","",""]
[null,null,null,null,null,null,null,null,null,null,{"$f":"+IF(N377=\"\",\"\",MAX(K$1:K376)+1)","v":""},{"$f":"IF(CPMS1!E399=\"\",\"\",CPMS1!E399)","v":""},"",{"$f":"IF(COUNTIF(L$2:L377,L377)=1,L377,\"\")","v":""},null,null,null,null,{"$f":"+IF(W377=\"\",\"\",MAX(S$1:S376)+1)","v":""},{"$f":"IF(Adhes_Sealer_Deadener!B399=\"\",\"\",Adhes_Sealer_Deadener!B399)","v":""},{"$f":"IF(Adhes_Sealer_Deadener!C399=\"\",\"\",Adhes_Sealer_Deadener!C399)","v":""},{"$f":"+Table10[[#This Row],[Column1]]&Table10[[#This Row],[Column2]]","v":""},{"$f":"IF(COUNTIF(V$2:V377,V377)=1,V377,\"\")","v":""},"","",null,{"$f":"+IF(AF377=\"\",\"\",MAX(AA$1:AA376)+1)","v":""},{"$f":"IF(CPMS2!B399=\"\",\"\",CPMS2!B399)","v":""},{"$f":"IF(CPMS2!C399=\"\",\"\",CPMS2!C399)","v":""},{"$f":"IF(CPMS2!D399=\"\",\"\",CPMS2!D399)","v":""},"",{"$f":"IF(COUNTIF(AE$2:AE377,AE377)=1,AE377,\"\")","v":""},"","","",null,null,null,null,null,null,null,null,null,null,null,null,null,null,null,null,null,null,null,null,null,null,null,null,null,null,null,null,null,null,null,null,null,{"$f":"+IF(BV377=\"\",\"\",MAX(BQ$1:BQ376)+1)","v":""},{"$f":"IF(OpLimit!B399=\"\",\"\",OpLimit!B399)","v":""},{"$f":"IF(OpLimit!C399=\"\",\"\",OpLimit!C399)","v":""},{"$f":"IF(OpLimit!E399=\"\",\"\",OpLimit!E399)","v":""},"",{"$f":"IF(COUNTIF(BU$2:BU377,BU377)=1,BU377,\"\")","v":""},"","","",""]
[null,null,null,null,null,null,null,null,null,null,{"$f":"+IF(N378=\"\",\"\",MAX(K$1:K377)+1)","v":""},{"$f":"IF(CPMS1!E400=\"\",\"\",CPMS1!E400)","v":""},"",{"$f":"IF(COUNTIF(L$2:L378,L378)=1,L378,\"\")","v":""},null,null,null,null,{"$f":"+IF(W378=\"\",\"\",MAX(S$1:S377)+1)","v":""},{"$f":"IF(Adhes_Sealer_Deadener!B400=\"\",\"\",Adhes_Sealer_Deadener!B400)","v":""},{"$f":"IF(Adhes_Sealer_Deadener!C400=\"\",\"\",Adhes_Sealer_Deadener!C400)","v":""},{"$f":"+Table10[[#This Row],[Column1]]&Table10[[#This Row],[Column2]]","v":""},{"$f":"IF(COUNTIF(V$2:V378,V378)=1,V378,\"\")","v":""},"","",null,{"$f":"+IF(AF378=\"\",\"\",MAX(AA$1:AA377)+1)","v":""},{"$f":"IF(CPMS2!B400=\"\",\"\",CPMS2!B400)","v":""},{"$f":"IF(CPMS2!C400=\"\",\"\",CPMS2!C400)","v":""},{"$f":"IF(CPMS2!D400=\"\",\"\",CPMS2!D400)","v":""},"",{"$f":"IF(COUNTIF(AE$2:AE378,AE378)=1,AE378,\"\")","v":""},"","","",null,null,null,null,null,null,null,null,null,null,null,null,null,null,null,null,null,null,null,null,null,null,null,null,null,null,null,null,null,null,null,null,null,{"$f":"+IF(BV378=\"\",\"\",MAX(BQ$1:BQ377)+1)","v":""},{"$f":"IF(OpLimit!B400=\"\",\"\",OpLimit!B400)","v":""},{"$f":"IF(OpLimit!C400=\"\",\"\",OpLimit!C400)","v":""},{"$f":"IF(OpLimit!E400=\"\",\"\",OpLimit!E400)","v":""},"",{"$f":"IF(COUNTIF(BU$2:BU378,BU378)=1,BU378,\"\")","v":""},"","","",""]
[null,null,null,null,null,null,null,null,null,null,{"$f":"+IF(N379=\"\",\"\",MAX(K$1:K378)+1)","v":""},{"$f":"IF(CPMS1!E401=\"\",\"\",CPMS1!E401)","v":""},"",{"$f":"IF(COUNTIF(L$2:L379,L379)=1,L379,\"\")","v":""},null,null,null,null,{"$f":"+IF(W379=\"\",\"\",MAX(S$1:S378)+1)","v":""},{"$f":"IF(Adhes_Sealer_Deadener!B401=\"\",\"\",Adhes_Sealer_Deadener!B401)","v":""},{"$f":"IF(Adhes_Sealer_Deadener!C401=\"\",\"\",Adhes_Sealer_Deadener!C401)","v":""},{"$f":"+Table10[[#This Row],[Column1]]&Table10[[#This Row],[Column2]]","v":""},{"$f":"IF(COUNTIF(V$2:V379,V379)=1,V379,\"\")","v":""},"","",null,{"$f":"+IF(AF379=\"\",\"\",MAX(AA$1:AA378)+1)","v":""},{"$f":"IF(CPMS2!B401=\"\",\"\",CPMS2!B401)","v":""},{"$f":"IF(CPMS2!C401=\"\",\"\",CPMS2!C401)","v":""},{"$f":"IF(CPMS2!D401=\"\",\"\",CPMS2!D401)","v":""},"",{"$f":"IF(COUNTIF(AE$2:AE379,AE379)=1,AE379,\"\")","v":""},"","","",null,null,null,null,null,null,null,null,null,null,null,null,null,null,null,null,null,null,null,null,null,null,null,null,null,null,null,null,null,null,null,null,null,{"$f":"+IF(BV379=\"\",\"\",MAX(BQ$1:BQ378)+1)","v":""},{"$f":"IF(OpLimit!B401=\"\",\"\",OpLimit!B401)","v":""},{"$f":"IF(OpLimit!C401=\"\",\"\",OpLimit!C401)","v":""},{"$f":"IF(OpLimit!E401=\"\",\"\",OpLimit!E401)","v":""},"",{"$f":"IF(COUNTIF(BU$2:BU379,BU379)=1,BU379,\"\")","v":""},"","","",""]
[null,null,null,null,null,null,null,null,null,null,{"$f":"+IF(N380=\"\",\"\",MAX(K$1:K379)+1)","v":""},{"$f":"IF(CPMS1!E402=\"\",\"\",CPMS1!E402)","v":""},"",{"$f":"IF(COUNTIF(L$2:L380,L380)=1,L380,\"\")","v":""},null,null,null,null,{"$f":"+IF(W380=\"\",\"\",MAX(S$1:S379)+1)","v":""},{"$f":"IF(Adhes_Sealer_Deadener!B402=\"\",\"\",Adhes_Sealer_Deadener!B402)","v":""},{"$f":"IF(Adhes_Sealer_Deadener!C402=\"\",\"\",Adhes_Sealer_Deadener!C402)","v":""},{"$f":"+Table10[[#This Row],[Column1]]&Table10[[#This Row],[Column2]]","v":""},{"$f":"IF(COUNTIF(V$2:V380,V380)=1,V380,\"\")","v":""},"","",null,{"$f":"+IF(AF380=\"\",\"\",MAX(AA$1:AA379)+1)","v":""},{"$f":"IF(CPMS2!B402=\"\",\"\",CPMS2!B402)","v":""},{"$f":"IF(CPMS2!C402=\"\",\"\",CPMS2!C402)","v":""},{"$f":"IF(CPMS2!D402=\"\",\"\",CPMS2!D402)","v":""},"",{"$f":"IF(COUNTIF(AE$2:AE380,AE380)=1,AE380,\"\")","v":""},"","","",null,null,null,null,null,null,null,null,null,null,null,null,null,null,null,null,null,null,null,null,null,null,null,null,null,null,null,null,null,null,null,null,null,{"$f":"+IF(BV380=\"\",\"\",MAX(BQ$1:BQ379)+1)","v":""},{"$f":"IF(OpLimit!B402=\"\",\"\",OpLimit!B402)","v":""},{"$f":"IF(OpLimit!C402=\"\",\"\",OpLimit!C402)","v":""},{"$f":"IF(OpLimit!E402=\"\",\"\",OpLimit!E402)","v":""},"",{"$f":"IF(COUNTIF(BU$2:BU380,BU380)=1,BU380,\"\")","v":""},"","","",""]
[null,null,null,null,null,null,null,null,null,null,{"$f":"+IF(N381=\"\",\"\",MAX(K$1:K380)+1)","v":""},{"$f":"IF(CPMS1!E403=\"\",\"\",CPMS1!E403)","v":""},"",{"$f":"IF(COUNTIF(L$2:L381,L381)=1,L381,\"\")","v":""},null,null,null,null,{"$f":"+IF(W381=\"\",\"\",MAX(S$1:S380)+1)","v":""},{"$f":"IF(Adhes_Sealer_Deadener!B403=\"\",\"\",Adhes_Sealer_Deadener!B403)","v":""},{"$f":"IF(Adhes_Sealer_Deadener!C403=\"\",\"\",Adhes_Sealer_Deadener!C403)","v":""},{"$f":"+Table10[[#This Row],[Column1]]&Table10[[#This Row],[Column2]]","v":""},{"$f":"IF(COUNTIF(V$2:V381,V381)=1,V381,\"\")","v":""},"","",null,{"$f":"+IF(AF381=\"\",\"\",MAX(AA$1:AA380)+1)","v":""},{"$f":"IF(CPMS2!B403=\"\",\"\",CPMS2!B403)","v":""},{"$f":"IF(CPMS2!C403=\"\",\"\",CPMS2!C403)","v":""},{"$f":"IF(CPMS2!D403=\"\",\"\",CPMS2!D403)","v":""},"",{"$f":"IF(COUNTIF(AE$2:AE381,AE381)=1,AE381,\"\")","v":""},"","","",null,null,null,null,null,null,null,null,null,null,null,null,null,null,null,null,null,null,null,null,null,null,null,null,null,null,null,null,null,null,null,null,null,{"$f":"+IF(BV381=\"\",\"\",MAX(BQ$1:BQ380)+1)","v":""},{"$f":"IF(OpLimit!B403=\"\",\"\",OpLimit!B403)","v":""},{"$f":"IF(OpLimit!C403=\"\",\"\",OpLimit!C403)","v":""},{"$f":"IF(OpLimit!E403=\"\",\"\",OpLimit!E403)","v":""},"",{"$f":"IF(COUNTIF(BU$2:BU381,BU381)=1,BU381,\"\")","v":""},"","","",""]
[null,null,null,null,null,null,null,null,null,null,{"$f":"+IF(N382=\"\",\"\",MAX(K$1:K381)+1)","v":""},{"$f":"IF(CPMS1!E404=\"\",\"\",CPMS1!E404)","v":""},"",{"$f":"IF(COUNTIF(L$2:L382,L382)=1,L382,\"\")","v":""},null,null,null,null,{"$f":"+IF(W382=\"\",\"\",MAX(S$1:S381)+1)","v":""},{"$f":"IF(Adhes_Sealer_Deadener!B404=\"\",\"\",Adhes_Sealer_Deadener!B404)","v":""},{"$f":"IF(Adhes_Sealer_Deadener!C404=\"\",\"\",Adhes_Sealer_Deadener!C404)","v":""},{"$f":"+Table10[[#This Row],[Column1]]&Table10[[#This Row],[Column2]]","v":""},{"$f":"IF(COUNTIF(V$2:V382,V382)=1,V382,\"\")","v":""},"","",null,{"$f":"+IF(AF382=\"\",\"\",MAX(AA$1:AA381)+1)","v":""},{"$f":"IF(CPMS2!B404=\"\",\"\",CPMS2!B404)","v":""},{"$f":"IF(CPMS2!C404=\"\",\"\",CPMS2!C404)","v":""},{"$f":"IF(CPMS2!D404=\"\",\"\",CPMS2!D404)","v":""},"",{"$f":"IF(COUNTIF(AE$2:AE382,AE382)=1,AE382,\"\")","v":""},"","","",null,null,null,null,null,null,null,null,null,null,null,null,null,null,null,null,null,null,null,null,null,null,null,null,null,null,null,null,null,null,null,null,null,{"$f":"+IF(BV382=\"\",\"\",MAX(BQ$1:BQ381)+1)","v":""},{"$f":"IF(OpLimit!B404=\"\",\"\",OpLimit!B404)","v":""},{"$f":"IF(OpLimit!C404=\"\",\"\",OpLimit!C404)","v":""},{"$f":"IF(OpLimit!E404=\"\",\"\",OpLimit!E404)","v":""},"",{"$f":"IF(COUNTIF(BU$2:BU382,BU382)=1,BU382,\"\")","v":""},"","","",""]
[null,null,null,null,null,null,null,null,null,null,{"$f":"+IF(N383=\"\",\"\",MAX(K$1:K382)+1)","v":""},{"$f":"IF(CPMS1!E405=\"\",\"\",CPMS1!E405)","v":""},"",{"$f":"IF(COUNTIF(L$2:L383,L383)=1,L383,\"\")","v":""},null,null,null,null,{"$f":"+IF(W383=\"\",\"\",MAX(S$1:S382)+1)","v":""},{"$f":"IF(Adhes_Sealer_Deadener!B405=\"\",\"\",Adhes_Sealer_Deadener!B405)","v":""},{"$f":"IF(Adhes_Sealer_Deadener!C405=\"\",\"\",Adhes_Sealer_Deadener!C405)","v":""},{"$f":"+Table10[[#This Row],[Column1]]&Table10[[#This Row],[Column2]]","v":""},{"$f":"IF(COUNTIF(V$2:V383,V383)=1,V383,\"\")","v":""},"","",null,{"$f":"+IF(AF383=\"\",\"\",MAX(AA$1:AA382)+1)","v":""},{"$f":"IF(CPMS2!B405=\"\",\"\",CPMS2!B405)","v":""},{"$f":"IF(CPMS2!C405=\"\",\"\",CPMS2!C405)","v":""},{"$f":"IF(CPMS2!D405=\"\",\"\",CPMS2!D405)","v":""},"",{"$f":"IF(COUNTIF(AE$2:AE383,AE383)=1,AE383,\"\")","v":""},"","","",null,null,null,null,null,null,null,null,null,null,null,null,null,null,null,null,null,null,null,null,null,null,null,null,null,null,null,null,null,null,null,null,null,{"$f":"+IF(BV383=\"\",\"\",MAX(BQ$1:BQ382)+1)","v":""},{"$f":"IF(OpLimit!B405=\"\",\"\",OpLimit!B405)","v":""},{"$f":"IF(OpLimit!C405=\"\",\"\",OpLimit!C405)","v":""},{"$f":"IF(OpLimit!E405=\"\",\"\",OpLimit!E405)","v":""},"",{"$f":"IF(COUNTIF(BU$2:BU383,BU383)=1,BU383,\"\")","v":""},"","","",""]
[null,null,null,null,null,null,null,null,null,null,{"$f":"+IF(N384=\"\",\"\",MAX(K$1:K383)+1)","v":""},{"$f":"IF(CPMS1!E406=\"\",\"\",CPMS1!E406)","v":""},"",{"$f":"IF(COUNTIF(L$2:L384,L384)=1,L384,\"\")","v":""},null,null,null,null,{"$f":"+IF(W384=\"\",\"\",MAX(S$1:S383)+1)","v":""},{"$f":"IF(Adhes_Sealer_Deadener!B406=\"\",\"\",Adhes_Sealer_Deadener!B406)","v":""},{"$f":"IF(Adhes_Sealer_Deadener!C406=\"\",\"\",Adhes_Sealer_Deadener!C406)","v":""},{"$f":"+Table10[[#This Row],[Column1]]&Table10[[#This Row],[Column2]]","v":""},{"$f":"IF(COUNTIF(V$2:V384,V384)=1,V384,\"\")","v":""},"","",null,{"$f":"+IF(AF384=\"\",\"\",MAX(AA$1:AA383)+1)","v":""},{"$f":"IF(CPMS2!B406=\"\",\"\",CPMS2!B406)","v":""},{"$f":"IF(CPMS2!C406=\"\",\"\",CPMS2!C406)","v":""},{"$f":"IF(CPMS2!D406=\"\",\"\",CPMS2!D406)","v":""},"",{"$f":"IF(COUNTIF(AE$2:AE384,AE384)=1,AE384,\"\")","v":""},"","","",null,null,null,null,null,null,null,null,null,null,null,null,null,null,null,null,null,null,null,null,null,null,null,null,null,null,null,null,null,null,null,null,null,{"$f":"+IF(BV384=\"\",\"\",MAX(BQ$1:BQ383)+1)","v":""},{"$f":"IF(OpLimit!B406=\"\",\"\",OpLimit!B406)","v":""},{"$f":"IF(OpLimit!C406=\"\",\"\",OpLimit!C406)","v":""},{"$f":"IF(OpLimit!E406=\"\",\"\",OpLimit!E406)","v":""},"",{"$f":"IF(COUNTIF(BU$2:BU384,BU384)=1,BU384,\"\")","v":""},"","","",""]
[null,null,null,null,null,null,null,null,null,null,{"$f":"+IF(N385=\"\",\"\",MAX(K$1:K384)+1)","v":""},{"$f":"IF(CPMS1!E407=\"\",\"\",CPMS1!E407)","v":""},"",{"$f":"IF(COUNTIF(L$2:L385,L385)=1,L385,\"\")","v":""},null,null,null,null,{"$f":"+IF(W385=\"\",\"\",MAX(S$1:S384)+1)","v":""},{"$f":"IF(Adhes_Sealer_Deadener!B407=\"\",\"\",Adhes_Sealer_Deadener!B407)","v":""},{"$f":"IF(Adhes_Sealer_Deadener!C407=\"\",\"\",Adhes_Sealer_Deadener!C407)","v":""},{"$f":"+Table10[[#This Row],[Column1]]&Table10[[#This Row],[Column2]]","v":""},{"$f":"IF(COUNTIF(V$2:V385,V385)=1,V385,\"\")","v":""},"","",null,{"$f":"+IF(AF385=\"\",\"\",MAX(AA$1:AA384)+1)","v":""},{"$f":"IF(CPMS2!B407=\"\",\"\",CPMS2!B407)","v":""},{"$f":"IF(CPMS2!C407=\"\",\"\",CPMS2!C407)","v":""},{"$f":"IF(CPMS2!D407=\"\",\"\",CPMS2!D407)","v":""},"",{"$f":"IF(COUNTIF(AE$2:AE385,AE385)=1,AE385,\"\")","v":""},"","","",null,null,null,null,null,null,null,null,null,null,null,null,null,null,null,null,null,null,null,null,null,null,null,null,null,null,null,null,null,null,null,null,null,{"$f":"+IF(BV385=\"\",\"\",MAX(BQ$1:BQ384)+1)","v":""},{"$f":"IF(OpLimit!B407=\"\",\"\",OpLimit!B407)","v":""},{"$f":"IF(OpLimit!C407=\"\",\"\",OpLimit!C407)","v":""},{"$f":"IF(OpLimit!E407=\"\",\"\",OpLimit!E407)","v":""},"",{"$f":"IF(COUNTIF(BU$2:BU385,BU385)=1,BU385,\"\")","v":""},"","","",""]
[null,null,null,null,null,null,null,null,null,null,{"$f":"+IF(N386=\"\",\"\",MAX(K$1:K385)+1)","v":""},{"$f":"IF(CPMS1!E408=\"\",\"\",CPMS1!E408)","v":""},{"$f":"+IFERROR(INDEX($L$2:$L$501,MATCH(ROW()-ROW($M$1),$K$2:$K$501,0)),\"\")","v":""},{"$f":"IF(COUNTIF(L$2:L386,L386)=1,L386,\"\")","v":""},null,null,null,null,{"$f":"+IF(W386=\"\",\"\",MAX(S$1:S385)+1)","v":""},{"$f":"IF(Adhes_Sealer_Deadener!B408=\"\",\"\",Adhes_Sealer_Deadener!B408)","v":""},{"$f":"IF(Adhes_Sealer_Deadener!C408=\"\",\"\",Adhes_Sealer_Deadener!C408)","v":""},{"$f":"+Table10[[#This Row],[Column1]]&Table10[[#This Row],[Column2]]","v":""},{"$f":"IF(COUNTIF(V$2:V386,V386)=1,V386,\"\")","v":""},"","",null,{"$f":"+IF(AF386=\"\",\"\",MAX(AA$1:AA385)+1)","v":""},{"$f":"IF(CPMS2!B408=\"\",\"\",CPMS2!B408)","v":""},{"$f":"IF(CPMS2!C408=\"\",\"\",CPMS2!C408)","v":""},{"$f":"IF(CPMS2!D408=\"\",\"\",CPMS2!D408)","v":""},"",{"$f":"IF(COUNTIF(AE$2:AE386,AE386)=1,AE386,\"\")","v":""},"","","",null,null,null,null,null,null,null,null,null,null,null,null,null,null,null,null,null,null,null,null,null,null,null,null,null,null,null,null,null,null,null,null,null,{"$f":"+IF(BV386=\"\",\"\",MAX(BQ$1:BQ385)+1)","v":""},{"$f":"IF(OpLimit!B408=\"\",\"\",OpLimit!B408)","v":""},{"$f":"IF(OpLimit!C408=\"\",\"\",OpLimit!C408)","v":""},{"$f":"IF(OpLimit!E408=\"\",\"\",OpLimit!E408)","v":""},"",{"$f":"IF(COUNTIF(BU$2:BU386,BU386)=1,BU386,\"\")","v":""},"","","",""]
[null,null,null,null,null,null,null,null,null,null,{"$f":"+IF(N387=\"\",\"\",MAX(K$1:K386)+1)","v":""},{"$f":"IF(CPMS1!E409=\"\",\"\",CPMS1!E409)","v":""},"",{"$f":"IF(COUNTIF(L$2:L387,L387)=1,L387,\"\")","v":""},null,null,null,null,{"$f":"+IF(W387=\"\",\"\",MAX(S$1:S386)+1)","v":""},{"$f":"IF(Adhes_Sealer_Deadener!B409=\"\",\"\",Adhes_Sealer_Deadener!B409)","v":""},{"$f":"IF(Adhes_Sealer_Deadener!C409=\"\",\"\",Adhes_Sealer_Deadener!C409)","v":""},{"$f":"+Table10[[#This Row],[Column1]]&Table10[[#This Row],[Column2]]","v":""},{"$f":"IF(COUNTIF(V$2:V387,V387)=1,V387,\"\")","v":""},"","",null,{"$f":"+IF(AF387=\"\",\"\",MAX(AA$1:AA386)+1)","v":""},{"$f":"IF(CPMS2!B409=\"\",\"\",CPMS2!B409)","v":""},{"$f":"IF(CPMS2!C409=\"\",\"\",CPMS2!C409)","v":""},{"$f":"IF(CPMS2!D409=\"\",\"\",CPMS2!D409)","v":""},{"$f":"AB387&AC387&AD387","v":""},{"$f":"IF(COUNTIF(AE$2:AE387,AE387)=1,AE387,\"\")","v":""},{"$f":"+IFERROR(INDEX($AB$2:$AB$478,MATCH(ROW()-ROW($AF$1),$AA$2:$AA$478,0)),\"\")","v":""},{"$f":"+IFERROR(INDEX($AC$2:$AC$478,MATCH(ROW()-ROW($AF$1),$AA$2:$AA$478,0)),\"\")","v":""},{"$f":"+IFERROR(INDEX($AD$2:$AD$478,MATCH(ROW()-ROW($AF$1),$AA$2:$AA$478,0)),\"\")","v":""},null,null,null,null,null,null,null,null,null,null,null,null,null,null,null,null,null,null,null,null,null,null,null,null,null,null,null,null,null,null,null,null,null,{"$f":"+IF(BV387=\"\",\"\",MAX(BQ$1:BQ386)+1)","v":""},{"$f":"IF(OpLimit!B409=\"\",\"\",OpLimit!B409)","v":""},{"$f":"IF(OpLimit!C409=\"\",\"\",OpLimit!C409)","v":""},{"$f":"IF(OpLimit!E409=\"\",\"\",OpLimit!E409)","v":""},{"$f":"BR387&BS387&BT387","v":""},{"$f":"IF(COUNTIF(BU$2:BU387,BU387)=1,BU387,\"\")","v":""},{"$f":"IF(BX387=\"\",\"\",BX387&\" \"&BY387&\" \"&BZ387)","v":""},{"$f":"+IFERROR(INDEX($BR$2:$BR$478,MATCH(ROW()-ROW($BV$1),$BQ$2:$BQ$478,0)),\"\")","v":""},{"$f":"+IFERROR(INDEX($BS$2:$BS$478,MATCH(ROW()-ROW($BV$1),$BQ$2:$BQ$478,0)),\"\")","v":""},{"$f":"+IFERROR(INDEX($BT$2:$BT$478,MATCH(ROW()-ROW($BV$1),$BQ$2:$BQ$478,0)),\"\")","v":""}]
[null,null,null,null,null,null,null,null,null,null,{"$f":"+IF(N388=\"\",\"\",MAX(K$1:K387)+1)","v":""},{"$f":"IF(CPMS1!E410=\"\",\"\",CPMS1!E410)","v":""},"",{"$f":"IF(COUNTIF(L$2:L388,L388)=1,L388,\"\")","v":""},null,null,null,null,{"$f":"+IF(W388=\"\",\"\",MAX(S$1:S387)+1)","v":""},{"$f":"IF(Adhes_Sealer_Deadener!B410=\"\",\"\",Adhes_Sealer_Deadener!B410)","v":""},{"$f":"IF(Adhes_Sealer_Deadener!C410=\"\",\"\",Adhes_Sealer_Deadener!C410)","v":""},{"$f":"+Table10[[#This Row],[Column1]]&Table10[[#This Row],[Column2]]","v":""},{"$f":"IF(COUNTIF(V$2:V388,V388)=1,V388,\"\")","v":""},"","",null,{"$f":"+IF(AF388=\"\",\"\",MAX(AA$1:AA387)+1)","v":""},{"$f":"IF(CPMS2!B410=\"\",\"\",CPMS2!B410)","v":""},{"$f":"IF(CPMS2!C410=\"\",\"\",CPMS2!C410)","v":""},{"$f":"IF(CPMS2!D410=\"\",\"\",CPMS2!D410)","v":""},"",{"$f":"IF(COUNTIF(AE$2:AE388,AE388)=1,AE388,\"\")","v":""},"","","",null,null,null,null,null,null,null,null,null,null,null,null,null,null,null,null,null,null,null,null,null,null,null,null,null,null,null,null,null,null,null,null,null,{"$f":"+IF(BV388=\"\",\"\",MAX(BQ$1:BQ387)+1)","v":""},{"$f":"IF(OpLimit!B410=\"\",\"\",OpLimit!B410)","v":""},{"$f":"IF(OpLimit!C410=\"\",\"\",OpLimit!C410)","v":""},{"$f":"IF(OpLimit!E410=\"\",\"\",OpLimit!E410)","v":""},"",{"$f":"IF(COUNTIF(BU$2:BU388,BU388)=1,BU388,\"\")","v":""},"","","",""]
[null,null,null,null,null,null,null,null,null,null,{"$f":"+IF(N389=\"\",\"\",MAX(K$1:K388)+1)","v":""},{"$f":"IF(CPMS1!E411=\"\",\"\",CPMS1!E411)","v":""},"",{"$f":"IF(COUNTIF(L$2:L389,L389)=1,L389,\"\")","v":""},null,null,null,null,{"$f":"+IF(W389=\"\",\"\",MAX(S$1:S388)+1)","v":""},{"$f":"IF(Adhes_Sealer_Deadener!B411=\"\",\"\",Adhes_Sealer_Deadener!B411)","v":""},{"$f":"IF(Adhes_Sealer_Deadener!C411=\"\",\"\",Adhes_Sealer_Deadener!C411)","v":""},{"$f":"+Table10[[#This Row],[Column1]]&Table10[[#This Row],[Column2]]","v":""},{"$f":"IF(COUNTIF(V$2:V389,V389)=1,V389,\"\")","v":""},"","",null,{"$f":"+IF(AF389=\"\",\"\",MAX(AA$1:AA388)+1)","v":""},{"$f":"IF(CPMS2!B411=\"\",\"\",CPMS2!B411)","v":""},{"$f":"IF(CPMS2!C411=\"\",\"\",CPMS2!C411)","v":""},{"$f":"IF(CPMS2!D411=\"\",\"\",CPMS2!D411)","v":""},"",{"$f":"IF(COUNTIF(AE$2:AE389,AE389)=1,AE389,\"\")","v":""},"","","",null,null,null,null,null,null,null,null,null,null,null,null,null,null,null,null,null,null,null,null,null,null,null,null,null,null,null,null,null,null,null,null,null,{"$f":"+IF(BV389=\"\",\"\",MAX(BQ$1:BQ388)+1)","v":""},{"$f":"IF(OpLimit!B411=\"\",\"\",OpLimit!B411)","v":""},{"$f":"IF(OpLimit!C411=\"\",\"\",OpLimit!C411)","v":""},{"$f":"IF(OpLimit!E411=\"\",\"\",OpLimit!E411)","v":""},"",{"$f":"IF(COUNTIF(BU$2:BU389,BU389)=1,BU389,\"\")","v":""},"","","",""]
[null,null,null,null,null,null,null,null,null,null,{"$f":"+IF(N390=\"\",\"\",MAX(K$1:K389)+1)","v":""},{"$f":"IF(CPMS1!E412=\"\",\"\",CPMS1!E412)","v":""},"",{"$f":"IF(COUNTIF(L$2:L390,L390)=1,L390,\"\")","v":""},null,null,null,null,{"$f":"+IF(W390=\"\",\"\",MAX(S$1:S389)+1)","v":""},{"$f":"IF(Adhes_Sealer_Deadener!B412=\"\",\"\",Adhes_Sealer_Deadener!B412)","v":""},{"$f":"IF(Adhes_Sealer_Deadener!C412=\"\",\"\",Adhes_Sealer_Deadener!C412)","v":""},{"$f":"+Table10[[#This Row],[Column1]]&Table10[[#This Row],[Column2]]","v":""},{"$f":"IF(COUNTIF(V$2:V390,V390)=1,V390,\"\")","v":""},"","",null,{"$f":"+IF(AF390=\"\",\"\",MAX(AA$1:AA389)+1)","v":""},{"$f":"IF(CPMS2!B412=\"\",\"\",CPMS2!B412)","v":""},{"$f":"IF(CPMS2!C412=\"\",\"\",CPMS2!C412)","v":""},{"$f":"IF(CPMS2!D412=\"\",\"\",CPMS2!D412)","v":""},"",{"$f":"IF(COUNTIF(AE$2:AE390,AE390)=1,AE390,\"\")","v":""},"","","",null,null,null,null,null,null,null,null,null,null,null,null,null,null,null,null,null,null,null,null,null,null,null,null,null,null,null,null,null,null,null,null,null,{"$f":"+IF(BV390=\"\",\"\",MAX(BQ$1:BQ389)+1)","v":""},{"$f":"IF(OpLimit!B412=\"\",\"\",OpLimit!B412)","v":""},{"$f":"IF(OpLimit!C412=\"\",\"\",OpLimit!C412)","v":""},{"$f":"IF(OpLimit!E412=\"\",\"\",OpLimit!E412)","v":""},"",{"$f":"IF(COUNTIF(BU$2:BU390,BU390)=1,BU390,\"\")","v":""},"","","",""]
[null,null,null,null,null,null,null,null,null,null,{"$f":"+IF(N391=\"\",\"\",MAX(K$1:K390)+1)","v":""},{"$f":"IF(CPMS1!E413=\"\",\"\",CPMS1!E413)","v":""},"",{"$f":"IF(COUNTIF(L$2:L391,L391)=1,L391,\"\")","v":""},null,null,null,null,{"$f":"+IF(W391=\"\",\"\",MAX(S$1:S390)+1)","v":""},{"$f":"IF(Adhes_Sealer_Deadener!B413=\"\",\"\",Adhes_Sealer_Deadener!B413)","v":""},{"$f":"IF(Adhes_Sealer_Deadener!C413=\"\",\"\",Adhes_Sealer_Deadener!C413)","v":""},{"$f":"+Table10[[#This Row],[Column1]]&Table10[[#This Row],[Column2]]","v":""},{"$f":"IF(COUNTIF(V$2:V391,V391)=1,V391,\"\")","v":""},"","",null,{"$f":"+IF(AF391=\"\",\"\",MAX(AA$1:AA390)+1)","v":""},{"$f":"IF(CPMS2!B413=\"\",\"\",CPMS2!B413)","v":""},{"$f":"IF(CPMS2!C413=\"\",\"\",CPMS2!C413)","v":""},{"$f":"IF(CPMS2!D413=\"\",\"\",CPMS2!D413)","v":""},"",{"$f":"IF(COUNTIF(AE$2:AE391,AE391)=1,AE391,\"\")","v":""},"","","",null,null,null,null,null,null,null,null,null,null,null,null,null,null,null,null,null,null,null,null,null,null,null,null,null,null,null,null,null,null,null,null,null,{"$f":"+IF(BV391=\"\",\"\",MAX(BQ$1:BQ390)+1)","v":""},{"$f":"IF(OpLimit!B413=\"\",\"\",OpLimit!B413)","v":""},{"$f":"IF(OpLimit!C413=\"\",\"\",OpLimit!C413)","v":""},{"$f":"IF(OpLimit!E413=\"\",\"\",OpLimit!E413)","v":""},"",{"$f":"IF(COUNTIF(BU$2:BU391,BU391)=1,BU391,\"\")","v":""},"","","",""]
[null,null,null,null,null,null,null,null,null,null,{"$f":"+IF(N392=\"\",\"\",MAX(K$1:K391)+1)","v":""},{"$f":"IF(CPMS1!E414=\"\",\"\",CPMS1!E414)","v":""},"",{"$f":"IF(COUNTIF(L$2:L392,L392)=1,L392,\"\")","v":""},null,null,null,null,{"$f":"+IF(W392=\"\",\"\",MAX(S$1:S391)+1)","v":""},{"$f":"IF(Adhes_Sealer_Deadener!B414=\"\",\"\",Adhes_Sealer_Deadener!B414)","v":""},{"$f":"IF(Adhes_Sealer_Deadener!C414=\"\",\"\",Adhes_Sealer_Deadener!C414)","v":""},{"$f":"+Table10[[#This Row],[Column1]]&Table10[[#This Row],[Column2]]","v":""},{"$f":"IF(COUNTIF(V$2:V392,V392)=1,V392,\"\")","v":""},"","",null,{"$f":"+IF(AF392=\"\",\"\",MAX(AA$1:AA391)+1)","v":""},{"$f":"IF(CPMS2!B414=\"\",\"\",CPMS2!B414)","v":""},{"$f":"IF(CPMS2!C414=\"\",\"\",CPMS2!C414)","v":""},{"$f":"IF(CPMS2!D414=\"\",\"\",CPMS2!D414)","v":""},"",{"$f":"IF(COUNTIF(AE$2:AE392,AE392)=1,AE392,\"\")","v":""},"","","",null,null,null,null,null,null,null,null,null,null,null,null,null,null,null,null,null,null,null,null,null,null,null,null,null,null,null,null,null,null,null,null,null,{"$f":"+IF(BV392=\"\",\"\",MAX(BQ$1:BQ391)+1)","v":""},{"$f":"IF(OpLimit!B414=\"\",\"\",OpLimit!B414)","v":""},{"$f":"IF(OpLimit!C414=\"\",\"\",OpLimit!C414)","v":""},{"$f":"IF(OpLimit!E414=\"\",\"\",OpLimit!E414)","v":""},"",{"$f":"IF(COUNTIF(BU$2:BU392,BU392)=1,BU392,\"\")","v":""},"","","",""]
[null,null,null,null,null,null,null,null,null,null,{"$f":"+IF(N393=\"\",\"\",MAX(K$1:K392)+1)","v":""},{"$f":"IF(CPMS1!E415=\"\",\"\",CPMS1!E415)","v":""},"",{"$f":"IF(COUNTIF(L$2:L393,L393)=1,L393,\"\")","v":""},null,null,null,null,{"$f":"+IF(W393=\"\",\"\",MAX(S$1:S392)+1)","v":""},{"$f":"IF(Adhes_Sealer_Deadener!B415=\"\",\"\",Adhes_Sealer_Deadener!B415)","v":""},{"$f":"IF(Adhes_Sealer_Deadener!C415=\"\",\"\",Adhes_Sealer_Deadener!C415)","v":""},{"$f":"+Table10[[#This Row],[Column1]]&Table10[[#This Row],[Column2]]","v":""},{"$f":"IF(COUNTIF(V$2:V393,V393)=1,V393,\"\")","v":""},"","",null,{"$f":"+IF(AF393=\"\",\"\",MAX(AA$1:AA392)+1)","v":""},{"$f":"IF(CPMS2!B415=\"\",\"\",CPMS2!B415)","v":""},{"$f":"IF(CPMS2!C415=\"\",\"\",CPMS2!C415)","v":""},{"$f":"IF(CPMS2!D415=\"\",\"\",CPMS2!D415)","v":""},"",{"$f":"IF(COUNTIF(AE$2:AE393,AE393)=1,AE393,\"\")","v":""},"","","",null,null,null,null,null,null,null,null,null,null,null,null,null,null,null,null,null,null,null,null,null,null,null,null,null,null,null,null,null,null,null,null,null,{"$f":"+IF(BV393=\"\",\"\",MAX(BQ$1:BQ392)+1)","v":""},{"$f":"IF(OpLimit!B415=\"\",\"\",OpLimit!B415)","v":""},{"$f":"IF(OpLimit!C415=\"\",\"\",OpLimit!C415)","v":""},{"$f":"IF(OpLimit!E415=\"\",\"\",OpLimit!E415)","v":""},"",{"$f":"IF(COUNTIF(BU$2:BU393,BU393)=1,BU393,\"\")","v":""},"","","",""]
[null,null,null,null,null,null,null,null,null,null,{"$f":"+IF(N394=\"\",\"\",MAX(K$1:K393)+1)","v":""},{"$f":"IF(CPMS1!E416=\"\",\"\",CPMS1!E416)","v":""},"",{"$f":"IF(COUNTIF(L$2:L394,L394)=1,L394,\"\")","v":""},null,null,null,null,{"$f":"+IF(W394=\"\",\"\",MAX(S$1:S393)+1)","v":""},{"$f":"IF(Adhes_Sealer_Deadener!B416=\"\",\"\",Adhes_Sealer_Deadener!B416)","v":""},{"$f":"IF(Adhes_Sealer_Deadener!C416=\"\",\"\",Adhes_Sealer_Deadener!C416)","v":""},{"$f":"+Table10[[#This Row],[Column1]]&Table10[[#This Row],[Column2]]","v":""},{"$f":"IF(COUNTIF(V$2:V394,V394)=1,V394,\"\")","v":""},"","",null,{"$f":"+IF(AF394=\"\",\"\",MAX(AA$1:AA393)+1)","v":""},{"$f":"IF(CPMS2!B416=\"\",\"\",CPMS2!B416)","v":""},{"$f":"IF(CPMS2!C416=\"\",\"\",CPMS2!C416)","v":""},{"$f":"IF(CPMS2!D416=\"\",\"\",CPMS2!D416)","v":""},"",{"$f":"IF(COUNTIF(AE$2:AE394,AE394)=1,AE394,\"\")","v":""},"","","",null,null,null,null,null,null,null,null,null,null,null,null,null,null,null,null,null,null,null,null,null,null,null,null,null,null,null,null,null,null,null,null,null,{"$f":"+IF(BV394=\"\",\"\",MAX(BQ$1:BQ393)+1)","v":""},{"$f":"IF(OpLimit!B416=\"\",\"\",OpLimit!B416)","v":""},{"$f":"IF(OpLimit!C416=\"\",\"\",OpLimit!C416)","v":""},{"$f":"IF(OpLimit!E416=\"\",\"\",OpLimit!E416)","v":""},"",{"$f":"IF(COUNTIF(BU$2:BU394,BU394)=1,BU394,\"\")","v":""},"","","",""]
[null,null,null,null,null,null,null,null,null,null,{"$f":"+IF(N395=\"\",\"\",MAX(K$1:K394)+1)","v":""},{"$f":"IF(CPMS1!E417=\"\",\"\",CPMS1!E417)","v":""},"",{"$f":"IF(COUNTIF(L$2:L395,L395)=1,L395,\"\")","v":""},null,null,null,null,{"$f":"+IF(W395=\"\",\"\",MAX(S$1:S394)+1)","v":""},{"$f":"IF(Adhes_Sealer_Deadener!B417=\"\",\"\",Adhes_Sealer_Deadener!B417)","v":""},{"$f":"IF(Adhes_Sealer_Deadener!C417=\"\",\"\",Adhes_Sealer_Deadener!C417)","v":""},{"$f":"+Table10[[#This Row],[Column1]]&Table10[[#This Row],[Column2]]","v":""},{"$f":"IF(COUNTIF(V$2:V395,V395)=1,V395,\"\")","v":""},"","",null,{"$f":"+IF(AF395=\"\",\"\",MAX(AA$1:AA394)+1)","v":""},{"$f":"IF(CPMS2!B417=\"\",\"\",CPMS2!B417)","v":""},{"$f":"IF(CPMS2!C417=\"\",\"\",CPMS2!C417)","v":""},{"$f":"IF(CPMS2!D417=\"\",\"\",CPMS2!D417)","v":""},"",{"$f":"IF(COUNTIF(AE$2:AE395,AE395)=1,AE395,\"\")","v":""},"","","",null,null,null,null,null,null,null,null,null,null,null,null,null,null,null,null,null,null,null,null,null,null,null,null,null,null,null,null,null,null,null,null,null,{"$f":"+IF(BV395=\"\",\"\",MAX(BQ$1:BQ394)+1)","v":""},{"$f":"IF(OpLimit!B417=\"\",\"\",OpLimit!B417)","v":""},{"$f":"IF(OpLimit!C417=\"\",\"\",OpLimit!C417)","v":""},{"$f":"IF(OpLimit!E417=\"\",\"\",OpLimit!E417)","v":""},"",{"$f":"IF(COUNTIF(BU$2:BU395,BU395)=1,BU395,\"\")","v":""},"","","",""]
[null,null,null,null,null,null,null,null,null,null,{"$f":"+IF(N396=\"\",\"\",MAX(K$1:K395)+1)","v":""},{"$f":"IF(CPMS1!E418=\"\",\"\",CPMS1!E418)","v":""},"",{"$f":"IF(COUNTIF(L$2:L396,L396)=1,L396,\"\")","v":""},null,null,null,null,{"$f":"+IF(W396=\"\",\"\",MAX(S$1:S395)+1)","v":""},{"$f":"IF(Adhes_Sealer_Deadener!B418=\"\",\"\",Adhes_Sealer_Deadener!B418)","v":""},{"$f":"IF(Adhes_Sealer_Deadener!C418=\"\",\"\",Adhes_Sealer_Deadener!C418)","v":""},{"$f":"+Table10[[#This Row],[Column1]]&Table10[[#This Row],[Column2]]","v":""},{"$f":"IF(COUNTIF(V$2:V396,V396)=1,V396,\"\")","v":""},"","",null,{"$f":"+IF(AF396=\"\",\"\",MAX(AA$1:AA395)+1)","v":""},{"$f":"IF(CPMS2!B418=\"\",\"\",CPMS2!B418)","v":""},{"$f":"IF(CPMS2!C418=\"\",\"\",CPMS2!C418)","v":""},{"$f":"IF(CPMS2!D418=\"\",\"\",CPMS2!D418)","v":""},"",{"$f":"IF(COUNTIF(AE$2:AE396,AE396)=1,AE396,\"\")","v":""},"","","",null,null,null,null,null,null,null,null,null,null,null,null,null,null,null,null,null,null,null,null,null,null,null,null,null,null,null,null,null,null,null,null,null,{"$f":"+IF(BV396=\"\",\"\",MAX(BQ$1:BQ395)+1)","v":""},{"$f":"IF(OpLimit!B418=\"\",\"\",OpLimit!B418)","v":""},{"$f":"IF(OpLimit!C418=\"\",\"\",OpLimit!C418)","v":""},{"$f":"IF(OpLimit!E418=\"\",\"\",OpLimit!E418)","v":""},"",{"$f":"IF(COUNTIF(BU$2:BU396,BU396)=1,BU396,\"\")","v":""},"","","",""]
[null,null,null,null,null,null,null,null,null,null,{"$f":"+IF(N397=\"\",\"\",MAX(K$1:K396)+1)","v":""},{"$f":"IF(CPMS1!E419=\"\",\"\",CPMS1!E419)","v":""},"",{"$f":"IF(COUNTIF(L$2:L397,L397)=1,L397,\"\")","v":""},null,null,null,null,{"$f":"+IF(W397=\"\",\"\",MAX(S$1:S396)+1)","v":""},{"$f":"IF(Adhes_Sealer_Deadener!B419=\"\",\"\",Adhes_Sealer_Deadener!B419)","v":""},{"$f":"IF(Adhes_Sealer_Deadener!C419=\"\",\"\",Adhes_Sealer_Deadener!C419)","v":""},{"$f":"+Table10[[#This Row],[Column1]]&Table10[[#This Row],[Column2]]","v":""},{"$f":"IF(COUNTIF(V$2:V397,V397)=1,V397,\"\")","v":""},"","",null,{"$f":"+IF(AF397=\"\",\"\",MAX(AA$1:AA396)+1)","v":""},{"$f":"IF(CPMS2!B419=\"\",\"\",CPMS2!B419)","v":""},{"$f":"IF(CPMS2!C419=\"\",\"\",CPMS2!C419)","v":""},{"$f":"IF(CPMS2!D419=\"\",\"\",CPMS2!D419)","v":""},"",{"$f":"IF(COUNTIF(AE$2:AE397,AE397)=1,AE397,\"\")","v":""},"","","",null,null,null,null,null,null,null,null,null,null,null,null,null,null,null,null,null,null,null,null,null,null,null,null,null,null,null,null,null,null,null,null,null,{"$f":"+IF(BV397=\"\",\"\",MAX(BQ$1:BQ396)+1)","v":""},{"$f":"IF(OpLimit!B419=\"\",\"\",OpLimit!B419)","v":""},{"$f":"IF(OpLimit!C419=\"\",\"\",OpLimit!C419)","v":""},{"$f":"IF(OpLimit!E419=\"\",\"\",OpLimit!E419)","v":""},"",{"$f":"IF(COUNTIF(BU$2:BU397,BU397)=1,BU397,\"\")","v":""},"","","",""]
[null,null,null,null,null,null,null,null,null,null,{"$f":"+IF(N398=\"\",\"\",MAX(K$1:K397)+1)","v":""},{"$f":"IF(CPMS1!E420=\"\",\"\",CPMS1!E420)","v":""},"",{"$f":"IF(COUNTIF(L$2:L398,L398)=1,L398,\"\")","v":""},null,null,null,null,{"$f":"+IF(W398=\"\",\"\",MAX(S$1:S397)+1)","v":""},{"$f":"IF(Adhes_Sealer_Deadener!B420=\"\",\"\",Adhes_Sealer_Deadener!B420)","v":""},{"$f":"IF(Adhes_Sealer_Deadener!C420=\"\",\"\",Adhes_Sealer_Deadener!C420)","v":""},{"$f":"+Table10[[#This Row],[Column1]]&Table10[[#This Row],[Column2]]","v":""},{"$f":"IF(COUNTIF(V$2:V398,V398)=1,V398,\"\")","v":""},"","",null,{"$f":"+IF(AF398=\"\",\"\",MAX(AA$1:AA397)+1)","v":""},{"$f":"IF(CPMS2!B420=\"\",\"\",CPMS2!B420)","v":""},{"$f":"IF(CPMS2!C420=\"\",\"\",CPMS2!C420)","v":""},{"$f":"IF(CPMS2!D420=\"\",\"\",CPMS2!D420)","v":""},"",{"$f":"IF(COUNTIF(AE$2:AE398,AE398)=1,AE398,\"\")","v":""},"","","",null,null,null,null,null,null,null,null,null,null,null,null,null,null,null,null,null,null,null,null,null,null,null,null,null,null,null,null,null,null,null,null,null,{"$f":"+IF(BV398=\"\",\"\",MAX(BQ$1:BQ397)+1)","v":""},{"$f":"IF(OpLimit!B420=\"\",\"\",OpLimit!B420)","v":""},{"$f":"IF(OpLimit!C420=\"\",\"\",OpLimit!C420)","v":""},{"$f":"IF(OpLimit!E420=\"\",\"\",OpLimit!E420)","v":""},"",{"$f":"IF(COUNTIF(BU$2:BU398,BU398)=1,BU398,\"\")","v":""},"","","",""]
[null,null,null,null,null,null,null,null,null,null,{"$f":"+IF(N399=\"\",\"\",MAX(K$1:K398)+1)","v":""},{"$f":"IF(CPMS1!E421=\"\",\"\",CPMS1!E421)","v":""},"",{"$f":"IF(COUNTIF(L$2:L399,L399)=1,L399,\"\")","v":""},null,null,null,null,{"$f":"+IF(W399=\"\",\"\",MAX(S$1:S398)+1)","v":""},{"$f":"IF(Adhes_Sealer_Deadener!B421=\"\",\"\",Adhes_Sealer_Deadener!B421)","v":""},{"$f":"IF(Adhes_Sealer_Deadener!C421=\"\",\"\",Adhes_Sealer_Deadener!C421)","v":""},{"$f":"+Table10[[#This Row],[Column1]]&Table10[[#This Row],[Column2]]","v":""},{"$f":"IF(COUNTIF(V$2:V399,V399)=1,V399,\"\")","v":""},"","",null,{"$f":"+IF(AF399=\"\",\"\",MAX(AA$1:AA398)+1)","v":""},{"$f":"IF(CPMS2!B421=\"\",\"\",CPMS2!B421)","v":""},{"$f":"IF(CPMS2!C421=\"\",\"\",CPMS2!C421)","v":""},{"$f":"IF(CPMS2!D421=\"\",\"\",CPMS2!D421)","v":""},"",{"$f":"IF(COUNTIF(AE$2:AE399,AE399)=1,AE399,\"\")","v":""},"","","",null,null,null,null,null,null,null,null,null,null,null,null,null,null,null,null,null,null,null,null,null,null,null,null,null,null,null,null,null,null,null,null,null,{"$f":"+IF(BV399=\"\",\"\",MAX(BQ$1:BQ398)+1)","v":""},{"$f":"IF(OpLimit!B421=\"\",\"\",OpLimit!B421)","v":""},{"$f":"IF(OpLimit!C421=\"\",\"\",OpLimit!C421)","v":""},{"$f":"IF(OpLimit!E421=\"\",\"\",OpLimit!E421)","v":""},"",{"$f":"IF(COUNTIF(BU$2:BU399,BU399)=1,BU399,\"\")","v":""},"","","",""]
[null,null,null,null,null,null,null,null,null,null,{"$f":"+IF(N400=\"\",\"\",MAX(K$1:K399)+1)","v":""},{"$f":"IF(CPMS1!E422=\"\",\"\",CPMS1!E422)","v":""},"",{"$f":"IF(COUNTIF(L$2:L400,L400)=1,L400,\"\")","v":""},null,null,null,null,{"$f":"+IF(W400=\"\",\"\",MAX(S$1:S399)+1)","v":""},{"$f":"IF(Adhes_Sealer_Deadener!B422=\"\",\"\",Adhes_Sealer_Deadener!B422)","v":""},{"$f":"IF(Adhes_Sealer_Deadener!C422=\"\",\"\",Adhes_Sealer_Deadener!C422)","v":""},{"$f":"+Table10[[#This Row],[Column1]]&Table10[[#This Row],[Column2]]","v":""},{"$f":"IF(COUNTIF(V$2:V400,V400)=1,V400,\"\")","v":""},"","",null,{"$f":"+IF(AF400=\"\",\"\",MAX(AA$1:AA399)+1)","v":""},{"$f":"IF(CPMS2!B422=\"\",\"\",CPMS2!B422)","v":""},{"$f":"IF(CPMS2!C422=\"\",\"\",CPMS2!C422)","v":""},{"$f":"IF(CPMS2!D422=\"\",\"\",CPMS2!D422)","v":""},"",{"$f":"IF(COUNTIF(AE$2:AE400,AE400)=1,AE400,\"\")","v":""},"","","",null,null,null,null,null,null,null,null,null,null,null,null,null,null,null,null,null,null,null,null,null,null,null,null,null,null,null,null,null,null,null,null,null,{"$f":"+IF(BV400=\"\",\"\",MAX(BQ$1:BQ399)+1)","v":""},{"$f":"IF(OpLimit!B422=\"\",\"\",OpLimit!B422)","v":""},{"$f":"IF(OpLimit!C422=\"\",\"\",OpLimit!C422)","v":""},{"$f":"IF(OpLimit!E422=\"\",\"\",OpLimit!E422)","v":""},"",{"$f":"IF(COUNTIF(BU$2:BU400,BU400)=1,BU400,\"\")","v":""},"","","",""]
[null,null,null,null,null,null,null,null,null,null,{"$f":"+IF(N401=\"\",\"\",MAX(K$1:K400)+1)","v":""},{"$f":"IF(CPMS1!E423=\"\",\"\",CPMS1!E423)","v":""},"",{"$f":"IF(COUNTIF(L$2:L401,L401)=1,L401,\"\")","v":""},null,null,null,null,{"$f":"+IF(W401=\"\",\"\",MAX(S$1:S400)+1)","v":""},{"$f":"IF(Adhes_Sealer_Deadener!B423=\"\",\"\",Adhes_Sealer_Deadener!B423)","v":""},{"$f":"IF(Adhes_Sealer_Deadener!C423=\"\",\"\",Adhes_Sealer_Deadener!C423)","v":""},{"$f":"+Table10[[#This Row],[Column1]]&Table10[[#This Row],[Column2]]","v":""},{"$f":"IF(COUNTIF(V$2:V401,V401)=1,V401,\"\")","v":""},"","",null,{"$f":"+IF(AF401=\"\",\"\",MAX(AA$1:AA400)+1)","v":""},{"$f":"IF(CPMS2!B423=\"\",\"\",CPMS2!B423)","v":""},{"$f":"IF(CPMS2!C423=\"\",\"\",CPMS2!C423)","v":""},{"$f":"IF(CPMS2!D423=\"\",\"\",CPMS2!D423)","v":""},"",{"$f":"IF(COUNTIF(AE$2:AE401,AE401)=1,AE401,\"\")","v":""},"","","",null,null,null,null,null,null,null,null,null,null,null,null,null,null,null,null,null,null,null,null,null,null,null,null,null,null,null,null,null,null,null,null,null,{"$f":"+IF(BV401=\"\",\"\",MAX(BQ$1:BQ400)+1)","v":""},{"$f":"IF(OpLimit!B423=\"\",\"\",OpLimit!B423)","v":""},{"$f":"IF(OpLimit!C423=\"\",\"\",OpLimit!C423)","v":""},{"$f":"IF(OpLimit!E423=\"\",\"\",OpLimit!E423)","v":""},"",{"$f":"IF(COUNTIF(BU$2:BU401,BU401)=1,BU401,\"\")","v":""},"","","",""]
[null,null,null,null,null,null,null,null,null,null,{"$f":"+IF(N402=\"\",\"\",MAX(K$1:K401)+1)","v":""},{"$f":"IF(CPMS1!E424=\"\",\"\",CPMS1!E424)","v":""},"",{"$f":"IF(COUNTIF(L$2:L402,L402)=1,L402,\"\")","v":""},null,null,null,null,{"$f":"+IF(W402=\"\",\"\",MAX(S$1:S401)+1)","v":""},{"$f":"IF(Adhes_Sealer_Deadener!B424=\"\",\"\",Adhes_Sealer_Deadener!B424)","v":""},{"$f":"IF(Adhes_Sealer_Deadener!C424=\"\",\"\",Adhes_Sealer_Deadener!C424)","v":""},{"$f":"+Table10[[#This Row],[Column1]]&Table10[[#This Row],[Column2]]","v":""},{"$f":"IF(COUNTIF(V$2:V402,V402)=1,V402,\"\")","v":""},"","",null,{"$f":"+IF(AF402=\"\",\"\",MAX(AA$1:AA401)+1)","v":""},{"$f":"IF(CPMS2!B424=\"\",\"\",CPMS2!B424)","v":""},{"$f":"IF(CPMS2!C424=\"\",\"\",CPMS2!C424)","v":""},{"$f":"IF(CPMS2!D424=\"\",\"\",CPMS2!D424)","v":""},"",{"$f":"IF(COUNTIF(AE$2:AE402,AE402)=1,AE402,\"\")","v":""},"","","",null,null,null,null,null,null,null,null,null,null,null,null,null,null,null,null,null,null,null,null,null,null,null,null,null,null,null,null,null,null,null,null,null,{"$f":"+IF(BV402=\"\",\"\",MAX(BQ$1:BQ401)+1)","v":""},{"$f":"IF(OpLimit!B424=\"\",\"\",OpLimit!B424)","v":""},{"$f":"IF(OpLimit!C424=\"\",\"\",OpLimit!C424)","v":""},{"$f":"IF(OpLimit!E424=\"\",\"\",OpLimit!E424)","v":""},"",{"$f":"IF(COUNTIF(BU$2:BU402,BU402)=1,BU402,\"\")","v":""},"","","",""]
[null,null,null,null,null,null,null,null,null,null,{"$f":"+IF(N403=\"\",\"\",MAX(K$1:K402)+1)","v":""},{"$f":"IF(CPMS1!E425=\"\",\"\",CPMS1!E425)","v":""},"",{"$f":"IF(COUNTIF(L$2:L403,L403)=1,L403,\"\")","v":""},null,null,null,null,{"$f":"+IF(W403=\"\",\"\",MAX(S$1:S402)+1)","v":""},{"$f":"IF(Adhes_Sealer_Deadener!B425=\"\",\"\",Adhes_Sealer_Deadener!B425)","v":""},{"$f":"IF(Adhes_Sealer_Deadener!C425=\"\",\"\",Adhes_Sealer_Deadener!C425)","v":""},{"$f":"+Table10[[#This Row],[Column1]]&Table10[[#This Row],[Column2]]","v":""},{"$f":"IF(COUNTIF(V$2:V403,V403)=1,V403,\"\")","v":""},"","",null,{"$f":"+IF(AF403=\"\",\"\",MAX(AA$1:AA402)+1)","v":""},{"$f":"IF(CPMS2!B425=\"\",\"\",CPMS2!B425)","v":""},{"$f":"IF(CPMS2!C425=\"\",\"\",CPMS2!C425)","v":""},{"$f":"IF(CPMS2!D425=\"\",\"\",CPMS2!D425)","v":""},"",{"$f":"IF(COUNTIF(AE$2:AE403,AE403)=1,AE403,\"\")","v":""},"","","",null,null,null,null,null,null,null,null,null,null,null,null,null,null,null,null,null,null,null,null,null,null,null,null,null,null,null,null,null,null,null,null,null,{"$f":"+IF(BV403=\"\",\"\",MAX(BQ$1:BQ402)+1)","v":""},{"$f":"IF(OpLimit!B425=\"\",\"\",OpLimit!B425)","v":""},{"$f":"IF(OpLimit!C425=\"\",\"\",OpLimit!C425)","v":""},{"$f":"IF(OpLimit!E425=\"\",\"\",OpLimit!E425)","v":""},"",{"$f":"IF(COUNTIF(BU$2:BU403,BU403)=1,BU403,\"\")","v":""},"","","",""]
[null,null,null,null,null,null,null,null,null,null,{"$f":"+IF(N404=\"\",\"\",MAX(K$1:K403)+1)","v":""},{"$f":"IF(CPMS1!E426=\"\",\"\",CPMS1!E426)","v":""},"",{"$f":"IF(COUNTIF(L$2:L404,L404)=1,L404,\"\")","v":""},null,null,null,null,{"$f":"+IF(W404=\"\",\"\",MAX(S$1:S403)+1)","v":""},{"$f":"IF(Adhes_Sealer_Deadener!B426=\"\",\"\",Adhes_Sealer_Deadener!B426)","v":""},{"$f":"IF(Adhes_Sealer_Deadener!C426=\"\",\"\",Adhes_Sealer_Deadener!C426)","v":""},{"$f":"+Table10[[#This Row],[Column1]]&Table10[[#This Row],[Column2]]","v":""},{"$f":"IF(COUNTIF(V$2:V404,V404)=1,V404,\"\")","v":""},"","",null,{"$f":"+IF(AF404=\"\",\"\",MAX(AA$1:AA403)+1)","v":""},{"$f":"IF(CPMS2!B426=\"\",\"\",CPMS2!B426)","v":""},{"$f":"IF(CPMS2!C426=\"\",\"\",CPMS2!C426)","v":""},{"$f":"IF(CPMS2!D426=\"\",\"\",CPMS2!D426)","v":""},"",{"$f":"IF(COUNTIF(AE$2:AE404,AE404)=1,AE404,\"\")","v":""},"","","",null,null,null,null,null,null,null,null,null,null,null,null,null,null,null,null,null,null,null,null,null,null,null,null,null,null,null,null,null,null,null,null,null,{"$f":"+IF(BV404=\"\",\"\",MAX(BQ$1:BQ403)+1)","v":""},{"$f":"IF(OpLimit!B426=\"\",\"\",OpLimit!B426)","v":""},{"$f":"IF(OpLimit!C426=\"\",\"\",OpLimit!C426)","v":""},{"$f":"IF(OpLimit!E426=\"\",\"\",OpLimit!E426)","v":""},"",{"$f":"IF(COUNTIF(BU$2:BU404,BU404)=1,BU404,\"\")","v":""},"","","",""]
[null,null,null,null,null,null,null,null,null,null,{"$f":"+IF(N405=\"\",\"\",MAX(K$1:K404)+1)","v":""},{"$f":"IF(CPMS1!E427=\"\",\"\",CPMS1!E427)","v":""},"",{"$f":"IF(COUNTIF(L$2:L405,L405)=1,L405,\"\")","v":""},null,null,null,null,{"$f":"+IF(W405=\"\",\"\",MAX(S$1:S404)+1)","v":""},{"$f":"IF(Adhes_Sealer_Deadener!B427=\"\",\"\",Adhes_Sealer_Deadener!B427)","v":""},{"$f":"IF(Adhes_Sealer_Deadener!C427=\"\",\"\",Adhes_Sealer_Deadener!C427)","v":""},{"$f":"+Table10[[#This Row],[Column1]]&Table10[[#This Row],[Column2]]","v":""},{"$f":"IF(COUNTIF(V$2:V405,V405)=1,V405,\"\")","v":""},{"$f":"+IFERROR(INDEX($T$2:$T$478,MATCH(ROW()-ROW($X$1),$S$2:$S$478,0)),\"\")","v":""},{"$f":"+IFERROR(INDEX($U$2:$U$478,MATCH(ROW()-ROW($X$1),$S$2:$S$478,0)),\"\")","v":""},null,{"$f":"+IF(AF405=\"\",\"\",MAX(AA$1:AA404)+1)","v":""},{"$f":"IF(CPMS2!B427=\"\",\"\",CPMS2!B427)","v":""},{"$f":"IF(CPMS2!C427=\"\",\"\",CPMS2!C427)","v":""},{"$f":"IF(CPMS2!D427=\"\",\"\",CPMS2!D427)","v":""},"",{"$f":"IF(COUNTIF(AE$2:AE405,AE405)=1,AE405,\"\")","v":""},"","","",null,null,null,null,null,null,null,null,null,null,null,null,null,null,null,null,null,null,null,null,null,null,null,null,null,null,null,null,null,null,null,null,null,{"$f":"+IF(BV405=\"\",\"\",MAX(BQ$1:BQ404)+1)","v":""},{"$f":"IF(OpLimit!B427=\"\",\"\",OpLimit!B427)","v":""},{"$f":"IF(OpLimit!C427=\"\",\"\",OpLimit!C427)","v":""},{"$f":"IF(OpLimit!E427=\"\",\"\",OpLimit!E427)","v":""},"",{"$f":"IF(COUNTIF(BU$2:BU405,BU405)=1,BU405,\"\")","v":""},"","","",""]
[null,null,null,null,null,null,null,null,null,null,{"$f":"+IF(N406=\"\",\"\",MAX(K$1:K405)+1)","v":""},{"$f":"IF(CPMS1!E428=\"\",\"\",CPMS1!E428)","v":""},"",{"$f":"IF(COUNTIF(L$2:L406,L406)=1,L406,\"\")","v":""},null,null,null,null,{"$f":"+IF(W406=\"\",\"\",MAX(S$1:S405)+1)","v":""},{"$f":"IF(Adhes_Sealer_Deadener!B428=\"\",\"\",Adhes_Sealer_Deadener!B428)","v":""},{"$f":"IF(Adhes_Sealer_Deadener!C428=\"\",\"\",Adhes_Sealer_Deadener!C428)","v":""},{"$f":"+Table10[[#This Row],[Column1]]&Table10[[#This Row],[Column2]]","v":""},{"$f":"IF(COUNTIF(V$2:V406,V406)=1,V406,\"\")","v":""},"","",null,{"$f":"+IF(AF406=\"\",\"\",MAX(AA$1:AA405)+1)","v":""},{"$f":"IF(CPMS2!B428=\"\",\"\",CPMS2!B428)","v":""},{"$f":"IF(CPMS2!C428=\"\",\"\",CPMS2!C428)","v":""},{"$f":"IF(CPMS2!D428=\"\",\"\",CPMS2!D428)","v":""},"",{"$f":"IF(COUNTIF(AE$2:AE406,AE406)=1,AE406,\"\")","v":""},"","","",null,null,null,null,null,null,null,null,null,null,null,null,null,null,null,null,null,null,null,null,null,null,null,null,null,null,null,null,null,null,null,null,null,{"$f":"+IF(BV406=\"\",\"\",MAX(BQ$1:BQ405)+1)","v":""},{"$f":"IF(OpLimit!B428=\"\",\"\",OpLimit!B428)","v":""},{"$f":"IF(OpLimit!C428=\"\",\"\",OpLimit!C428)","v":""},{"$f":"IF(OpLimit!E428=\"\",\"\",OpLimit!E428)","v":""},"",{"$f":"IF(COUNTIF(BU$2:BU406,BU406)=1,BU406,\"\")","v":""},"","","",""]
[null,null,null,null,null,null,null,null,null,null,{"$f":"+IF(N407=\"\",\"\",MAX(K$1:K406)+1)","v":""},{"$f":"IF(CPMS1!E429=\"\",\"\",CPMS1!E429)","v":""},"",{"$f":"IF(COUNTIF(L$2:L407,L407)=1,L407,\"\")","v":""},null,null,null,null,{"$f":"+IF(W407=\"\",\"\",MAX(S$1:S406)+1)","v":""},{"$f":"IF(Adhes_Sealer_Deadener!B429=\"\",\"\",Adhes_Sealer_Deadener!B429)","v":""},{"$f":"IF(Adhes_Sealer_Deadener!C429=\"\",\"\",Adhes_Sealer_Deadener!C429)","v":""},{"$f":"+Table10[[#This Row],[Column1]]&Table10[[#This Row],[Column2]]","v":""},{"$f":"IF(COUNTIF(V$2:V407,V407)=1,V407,\"\")","v":""},"","",null,{"$f":"+IF(AF407=\"\",\"\",MAX(AA$1:AA406)+1)","v":""},{"$f":"IF(CPMS2!B429=\"\",\"\",CPMS2!B429)","v":""},{"$f":"IF(CPMS2!C429=\"\",\"\",CPMS2!C429)","v":""},{"$f":"IF(CPMS2!D429=\"\",\"\",CPMS2!D429)","v":""},"",{"$f":"IF(COUNTIF(AE$2:AE407,AE407)=1,AE407,\"\")","v":""},"","","",null,null,null,null,null,null,null,null,null,null,null,null,null,null,null,null,null,null,null,null,null,null,null,null,null,null,null,null,null,null,null,null,null,{"$f":"+IF(BV407=\"\",\"\",MAX(BQ$1:BQ406)+1)","v":""},{"$f":"IF(OpLimit!B429=\"\",\"\",OpLimit!B429)","v":""},{"$f":"IF(OpLimit!C429=\"\",\"\",OpLimit!C429)","v":""},{"$f":"IF(OpLimit!E429=\"\",\"\",OpLimit!E429)","v":""},"",{"$f":"IF(COUNTIF(BU$2:BU407,BU407)=1,BU407,\"\")","v":""},"","","",""]
[null,null,null,null,null,null,null,null,null,null,{"$f":"+IF(N408=\"\",\"\",MAX(K$1:K407)+1)","v":""},{"$f":"IF(CPMS1!E430=\"\",\"\",CPMS1!E430)","v":""},"",{"$f":"IF(COUNTIF(L$2:L408,L408)=1,L408,\"\")","v":""},null,null,null,null,{"$f":"+IF(W408=\"\",\"\",MAX(S$1:S407)+1)","v":""},{"$f":"IF(Adhes_Sealer_Deadener!B430=\"\",\"\",Adhes_Sealer_Deadener!B430)","v":""},{"$f":"IF(Adhes_Sealer_Deadener!C430=\"\",\"\",Adhes_Sealer_Deadener!C430)","v":""},{"$f":"+Table10[[#This Row],[Column1]]&Table10[[#This Row],[Column2]]","v":""},{"$f":"IF(COUNTIF(V$2:V408,V408)=1,V408,\"\")","v":""},"","",null,{"$f":"+IF(AF408=\"\",\"\",MAX(AA$1:AA407)+1)","v":""},{"$f":"IF(CPMS2!B430=\"\",\"\",CPMS2!B430)","v":""},{"$f":"IF(CPMS2!C430=\"\",\"\",CPMS2!C430)","v":""},{"$f":"IF(CPMS2!D430=\"\",\"\",CPMS2!D430)","v":""},"",{"$f":"IF(COUNTIF(AE$2:AE408,AE408)=1,AE408,\"\")","v":""},"","","",null,null,null,null,null,null,null,null,null,null,null,null,null,null,null,null,null,null,null,null,null,null,null,null,null,null,null,null,null,null,null,null,null,{"$f":"+IF(BV408=\"\",\"\",MAX(BQ$1:BQ407)+1)","v":""},{"$f":"IF(OpLimit!B430=\"\",\"\",OpLimit!B430)","v":""},{"$f":"IF(OpLimit!C430=\"\",\"\",OpLimit!C430)","v":""},{"$f":"IF(OpLimit!E430=\"\",\"\",OpLimit!E430)","v":""},"",{"$f":"IF(COUNTIF(BU$2:BU408,BU408)=1,BU408,\"\")","v":""},"","","",""]
[null,null,null,null,null,null,null,null,null,null,{"$f":"+IF(N409=\"\",\"\",MAX(K$1:K408)+1)","v":""},{"$f":"IF(CPMS1!E431=\"\",\"\",CPMS1!E431)","v":""},"",{"$f":"IF(COUNTIF(L$2:L409,L409)=1,L409,\"\")","v":""},null,null,null,null,{"$f":"+IF(W409=\"\",\"\",MAX(S$1:S408)+1)","v":""},{"$f":"IF(Adhes_Sealer_Deadener!B431=\"\",\"\",Adhes_Sealer_Deadener!B431)","v":""},{"$f":"IF(Adhes_Sealer_Deadener!C431=\"\",\"\",Adhes_Sealer_Deadener!C431)","v":""},{"$f":"+Table10[[#This Row],[Column1]]&Table10[[#This Row],[Column2]]","v":""},{"$f":"IF(COUNTIF(V$2:V409,V409)=1,V409,\"\")","v":""},"","",null,{"$f":"+IF(AF409=\"\",\"\",MAX(AA$1:AA408)+1)","v":""},{"$f":"IF(CPMS2!B431=\"\",\"\",CPMS2!B431)","v":""},{"$f":"IF(CPMS2!C431=\"\",\"\",CPMS2!C431)","v":""},{"$f":"IF(CPMS2!D431=\"\",\"\",CPMS2!D431)","v":""},"",{"$f":"IF(COUNTIF(AE$2:AE409,AE409)=1,AE409,\"\")","v":""},"","","",null,null,null,null,null,null,null,null,null,null,null,null,null,null,null,null,null,null,null,null,null,null,null,null,null,null,null,null,null,null,null,null,null,{"$f":"+IF(BV409=\"\",\"\",MAX(BQ$1:BQ408)+1)","v":""},{"$f":"IF(OpLimit!B431=\"\",\"\",OpLimit!B431)","v":""},{"$f":"IF(OpLimit!C431=\"\",\"\",OpLimit!C431)","v":""},{"$f":"IF(OpLimit!E431=\"\",\"\",OpLimit!E431)","v":""},"",{"$f":"IF(COUNTIF(BU$2:BU409,BU409)=1,BU409,\"\")","v":""},"","","",""]
[null,null,null,null,null,null,null,null,null,null,{"$f":"+IF(N410=\"\",\"\",MAX(K$1:K409)+1)","v":""},{"$f":"IF(CPMS1!E432=\"\",\"\",CPMS1!E432)","v":""},"",{"$f":"IF(COUNTIF(L$2:L410,L410)=1,L410,\"\")","v":""},null,null,null,null,{"$f":"+IF(W410=\"\",\"\",MAX(S$1:S409)+1)","v":""},{"$f":"IF(Adhes_Sealer_Deadener!B432=\"\",\"\",Adhes_Sealer_Deadener!B432)","v":""},{"$f":"IF(Adhes_Sealer_Deadener!C432=\"\",\"\",Adhes_Sealer_Deadener!C432)","v":""},{"$f":"+Table10[[#This Row],[Column1]]&Table10[[#This Row],[Column2]]","v":""},{"$f":"IF(COUNTIF(V$2:V410,V410)=1,V410,\"\")","v":""},"","",null,{"$f":"+IF(AF410=\"\",\"\",MAX(AA$1:AA409)+1)","v":""},{"$f":"IF(CPMS2!B432=\"\",\"\",CPMS2!B432)","v":""},{"$f":"IF(CPMS2!C432=\"\",\"\",CPMS2!C432)","v":""},{"$f":"IF(CPMS2!D432=\"\",\"\",CPMS2!D432)","v":""},"",{"$f":"IF(COUNTIF(AE$2:AE410,AE410)=1,AE410,\"\")","v":""},"","","",null,null,null,null,null,null,null,null,null,null,null,null,null,null,null,null,null,null,null,null,null,null,null,null,null,null,null,null,null,null,null,null,null,{"$f":"+IF(BV410=\"\",\"\",MAX(BQ$1:BQ409)+1)","v":""},{"$f":"IF(OpLimit!B432=\"\",\"\",OpLimit!B432)","v":""},{"$f":"IF(OpLimit!C432=\"\",\"\",OpLimit!C432)","v":""},{"$f":"IF(OpLimit!E432=\"\",\"\",OpLimit!E432)","v":""},"",{"$f":"IF(COUNTIF(BU$2:BU410,BU410)=1,BU410,\"\")","v":""},"","","",""]
[null,null,null,null,null,null,null,null,null,null,{"$f":"+IF(N411=\"\",\"\",MAX(K$1:K410)+1)","v":""},{"$f":"IF(CPMS1!E433=\"\",\"\",CPMS1!E433)","v":""},"",{"$f":"IF(COUNTIF(L$2:L411,L411)=1,L411,\"\")","v":""},null,null,null,null,{"$f":"+IF(W411=\"\",\"\",MAX(S$1:S410)+1)","v":""},{"$f":"IF(Adhes_Sealer_Deadener!B433=\"\",\"\",Adhes_Sealer_Deadener!B433)","v":""},{"$f":"IF(Adhes_Sealer_Deadener!C433=\"\",\"\",Adhes_Sealer_Deadener!C433)","v":""},{"$f":"+Table10[[#This Row],[Column1]]&Table10[[#This Row],[Column2]]","v":""},{"$f":"IF(COUNTIF(V$2:V411,V411)=1,V411,\"\")","v":""},"","",null,{"$f":"+IF(AF411=\"\",\"\",MAX(AA$1:AA410)+1)","v":""},{"$f":"IF(CPMS2!B433=\"\",\"\",CPMS2!B433)","v":""},{"$f":"IF(CPMS2!C433=\"\",\"\",CPMS2!C433)","v":""},{"$f":"IF(CPMS2!D433=\"\",\"\",CPMS2!D433)","v":""},"",{"$f":"IF(COUNTIF(AE$2:AE411,AE411)=1,AE411,\"\")","v":""},"","","",null,null,null,null,null,null,null,null,null,null,null,null,null,null,null,null,null,null,null,null,null,null,null,null,null,null,null,null,null,null,null,null,null,{"$f":"+IF(BV411=\"\",\"\",MAX(BQ$1:BQ410)+1)","v":""},{"$f":"IF(OpLimit!B433=\"\",\"\",OpLimit!B433)","v":""},{"$f":"IF(OpLimit!C433=\"\",\"\",OpLimit!C433)","v":""},{"$f":"IF(OpLimit!E433=\"\",\"\",OpLimit!E433)","v":""},"",{"$f":"IF(COUNTIF(BU$2:BU411,BU411)=1,BU411,\"\")","v":""},"","","",""]
[null,null,null,null,null,null,null,null,null,null,{"$f":"+IF(N412=\"\",\"\",MAX(K$1:K411)+1)","v":""},{"$f":"IF(CPMS1!E434=\"\",\"\",CPMS1!E434)","v":""},"",{"$f":"IF(COUNTIF(L$2:L412,L412)=1,L412,\"\")","v":""},null,null,null,null,{"$f":"+IF(W412=\"\",\"\",MAX(S$1:S411)+1)","v":""},{"$f":"IF(Adhes_Sealer_Deadener!B434=\"\",\"\",Adhes_Sealer_Deadener!B434)","v":""},{"$f":"IF(Adhes_Sealer_Deadener!C434=\"\",\"\",Adhes_Sealer_Deadener!C434)","v":""},{"$f":"+Table10[[#This Row],[Column1]]&Table10[[#This Row],[Column2]]","v":""},{"$f":"IF(COUNTIF(V$2:V412,V412)=1,V412,\"\")","v":""},"","",null,{"$f":"+IF(AF412=\"\",\"\",MAX(AA$1:AA411)+1)","v":""},{"$f":"IF(CPMS2!B434=\"\",\"\",CPMS2!B434)","v":""},{"$f":"IF(CPMS2!C434=\"\",\"\",CPMS2!C434)","v":""},{"$f":"IF(CPMS2!D434=\"\",\"\",CPMS2!D434)","v":""},"",{"$f":"IF(COUNTIF(AE$2:AE412,AE412)=1,AE412,\"\")","v":""},"","","",null,null,null,null,null,null,null,null,null,null,null,null,null,null,null,null,null,null,null,null,null,null,null,null,null,null,null,null,null,null,null,null,null,{"$f":"+IF(BV412=\"\",\"\",MAX(BQ$1:BQ411)+1)","v":""},{"$f":"IF(OpLimit!B434=\"\",\"\",OpLimit!B434)","v":""},{"$f":"IF(OpLimit!C434=\"\",\"\",OpLimit!C434)","v":""},{"$f":"IF(OpLimit!E434=\"\",\"\",OpLimit!E434)","v":""},"",{"$f":"IF(COUNTIF(BU$2:BU412,BU412)=1,BU412,\"\")","v":""},"","","",""]
[null,null,null,null,null,null,null,null,null,null,{"$f":"+IF(N413=\"\",\"\",MAX(K$1:K412)+1)","v":""},{"$f":"IF(CPMS1!E435=\"\",\"\",CPMS1!E435)","v":""},"",{"$f":"IF(COUNTIF(L$2:L413,L413)=1,L413,\"\")","v":""},null,null,null,null,{"$f":"+IF(W413=\"\",\"\",MAX(S$1:S412)+1)","v":""},{"$f":"IF(Adhes_Sealer_Deadener!B435=\"\",\"\",Adhes_Sealer_Deadener!B435)","v":""},{"$f":"IF(Adhes_Sealer_Deadener!C435=\"\",\"\",Adhes_Sealer_Deadener!C435)","v":""},{"$f":"+Table10[[#This Row],[Column1]]&Table10[[#This Row],[Column2]]","v":""},{"$f":"IF(COUNTIF(V$2:V413,V413)=1,V413,\"\")","v":""},"","",null,{"$f":"+IF(AF413=\"\",\"\",MAX(AA$1:AA412)+1)","v":""},{"$f":"IF(CPMS2!B435=\"\",\"\",CPMS2!B435)","v":""},{"$f":"IF(CPMS2!C435=\"\",\"\",CPMS2!C435)","v":""},{"$f":"IF(CPMS2!D435=\"\",\"\",CPMS2!D435)","v":""},"",{"$f":"IF(COUNTIF(AE$2:AE413,AE413)=1,AE413,\"\")","v":""},"","","",null,null,null,null,null,null,null,null,null,null,null,null,null,null,null,null,null,null,null,null,null,null,null,null,null,null,null,null,null,null,null,null,null,{"$f":"+IF(BV413=\"\",\"\",MAX(BQ$1:BQ412)+1)","v":""},{"$f":"IF(OpLimit!B435=\"\",\"\",OpLimit!B435)","v":""},{"$f":"IF(OpLimit!C435=\"\",\"\",OpLimit!C435)","v":""},{"$f":"IF(OpLimit!E435=\"\",\"\",OpLimit!E435)","v":""},"",{"$f":"IF(COUNTIF(BU$2:BU413,BU413)=1,BU413,\"\")","v":""},"","","",""]
[null,null,null,null,null,null,null,null,null,null,{"$f":"+IF(N414=\"\",\"\",MAX(K$1:K413)+1)","v":""},{"$f":"IF(CPMS1!E436=\"\",\"\",CPMS1!E436)","v":""},"",{"$f":"IF(COUNTIF(L$2:L414,L414)=1,L414,\"\")","v":""},null,null,null,null,{"$f":"+IF(W414=\"\",\"\",MAX(S$1:S413)+1)","v":""},{"$f":"IF(Adhes_Sealer_Deadener!B436=\"\",\"\",Adhes_Sealer_Deadener!B436)","v":""},{"$f":"IF(Adhes_Sealer_Deadener!C436=\"\",\"\",Adhes_Sealer_Deadener!C436)","v":""},{"$f":"+Table10[[#This Row],[Column1]]&Table10[[#This Row],[Column2]]","v":""},{"$f":"IF(COUNTIF(V$2:V414,V414)=1,V414,\"\")","v":""},"","",null,{"$f":"+IF(AF414=\"\",\"\",MAX(AA$1:AA413)+1)","v":""},{"$f":"IF(CPMS2!B436=\"\",\"\",CPMS2!B436)","v":""},{"$f":"IF(CPMS2!C436=\"\",\"\",CPMS2!C436)","v":""},{"$f":"IF(CPMS2!D436=\"\",\"\",CPMS2!D436)","v":""},"",{"$f":"IF(COUNTIF(AE$2:AE414,AE414)=1,AE414,\"\")","v":""},"","","",null,null,null,null,null,null,null,null,null,null,null,null,null,null,null,null,null,null,null,null,null,null,null,null,null,null,null,null,null,null,null,null,null,{"$f":"+IF(BV414=\"\",\"\",MAX(BQ$1:BQ413)+1)","v":""},{"$f":"IF(OpLimit!B436=\"\",\"\",OpLimit!B436)","v":""},{"$f":"IF(OpLimit!C436=\"\",\"\",OpLimit!C436)","v":""},{"$f":"IF(OpLimit!E436=\"\",\"\",OpLimit!E436)","v":""},"",{"$f":"IF(COUNTIF(BU$2:BU414,BU414)=1,BU414,\"\")","v":""},"","","",""]
[null,null,null,null,null,null,null,null,null,null,{"$f":"+IF(N415=\"\",\"\",MAX(K$1:K414)+1)","v":""},{"$f":"IF(CPMS1!E437=\"\",\"\",CPMS1!E437)","v":""},"",{"$f":"IF(COUNTIF(L$2:L415,L415)=1,L415,\"\")","v":""},null,null,null,null,{"$f":"+IF(W415=\"\",\"\",MAX(S$1:S414)+1)","v":""},{"$f":"IF(Adhes_Sealer_Deadener!B437=\"\",\"\",Adhes_Sealer_Deadener!B437)","v":""},{"$f":"IF(Adhes_Sealer_Deadener!C437=\"\",\"\",Adhes_Sealer_Deadener!C437)","v":""},{"$f":"+Table10[[#This Row],[Column1]]&Table10[[#This Row],[Column2]]","v":""},{"$f":"IF(COUNTIF(V$2:V415,V415)=1,V415,\"\")","v":""},"","",null,{"$f":"+IF(AF415=\"\",\"\",MAX(AA$1:AA414)+1)","v":""},{"$f":"IF(CPMS2!B437=\"\",\"\",CPMS2!B437)","v":""},{"$f":"IF(CPMS2!C437=\"\",\"\",CPMS2!C437)","v":""},{"$f":"IF(CPMS2!D437=\"\",\"\",CPMS2!D437)","v":""},"",{"$f":"IF(COUNTIF(AE$2:AE415,AE415)=1,AE415,\"\")","v":""},"","","",null,null,null,null,null,null,null,null,null,null,null,null,null,null,null,null,null,null,null,null,null,null,null,null,null,null,null,null,null,null,null,null,null,{"$f":"+IF(BV415=\"\",\"\",MAX(BQ$1:BQ414)+1)","v":""},{"$f":"IF(OpLimit!B437=\"\",\"\",OpLimit!B437)","v":""},{"$f":"IF(OpLimit!C437=\"\",\"\",OpLimit!C437)","v":""},{"$f":"IF(OpLimit!E437=\"\",\"\",OpLimit!E437)","v":""},"",{"$f":"IF(COUNTIF(BU$2:BU415,BU415)=1,BU415,\"\")","v":""},"","","",""]
[null,null,null,null,null,null,null,null,null,null,{"$f":"+IF(N416=\"\",\"\",MAX(K$1:K415)+1)","v":""},{"$f":"IF(CPMS1!E438=\"\",\"\",CPMS1!E438)","v":""},"",{"$f":"IF(COUNTIF(L$2:L416,L416)=1,L416,\"\")","v":""},null,null,null,null,{"$f":"+IF(W416=\"\",\"\",MAX(S$1:S415)+1)","v":""},{"$f":"IF(Adhes_Sealer_Deadener!B438=\"\",\"\",Adhes_Sealer_Deadener!B438)","v":""},{"$f":"IF(Adhes_Sealer_Deadener!C438=\"\",\"\",Adhes_Sealer_Deadener!C438)","v":""},{"$f":"+Table10[[#This Row],[Column1]]&Table10[[#This Row],[Column2]]","v":""},{"$f":"IF(COUNTIF(V$2:V416,V416)=1,V416,\"\")","v":""},"","",null,{"$f":"+IF(AF416=\"\",\"\",MAX(AA$1:AA415)+1)","v":""},{"$f":"IF(CPMS2!B438=\"\",\"\",CPMS2!B438)","v":""},{"$f":"IF(CPMS2!C438=\"\",\"\",CPMS2!C438)","v":""},{"$f":"IF(CPMS2!D438=\"\",\"\",CPMS2!D438)","v":""},"",{"$f":"IF(COUNTIF(AE$2:AE416,AE416)=1,AE416,\"\")","v":""},"","","",null,null,null,null,null,null,null,null,null,null,null,null,null,null,null,null,null,null,null,null,null,null,null,null,null,null,null,null,null,null,null,null,null,{"$f":"+IF(BV416=\"\",\"\",MAX(BQ$1:BQ415)+1)","v":""},{"$f":"IF(OpLimit!B438=\"\",\"\",OpLimit!B438)","v":""},{"$f":"IF(OpLimit!C438=\"\",\"\",OpLimit!C438)","v":""},{"$f":"IF(OpLimit!E438=\"\",\"\",OpLimit!E438)","v":""},"",{"$f":"IF(COUNTIF(BU$2:BU416,BU416)=1,BU416,\"\")","v":""},"","","",""]
[null,null,null,null,null,null,null,null,null,null,{"$f":"+IF(N417=\"\",\"\",MAX(K$1:K416)+1)","v":""},{"$f":"IF(CPMS1!E439=\"\",\"\",CPMS1!E439)","v":""},"",{"$f":"IF(COUNTIF(L$2:L417,L417)=1,L417,\"\")","v":""},null,null,null,null,{"$f":"+IF(W417=\"\",\"\",MAX(S$1:S416)+1)","v":""},{"$f":"IF(Adhes_Sealer_Deadener!B439=\"\",\"\",Adhes_Sealer_Deadener!B439)","v":""},{"$f":"IF(Adhes_Sealer_Deadener!C439=\"\",\"\",Adhes_Sealer_Deadener!C439)","v":""},{"$f":"+Table10[[#This Row],[Column1]]&Table10[[#This Row],[Column2]]","v":""},{"$f":"IF(COUNTIF(V$2:V417,V417)=1,V417,\"\")","v":""},"","",null,{"$f":"+IF(AF417=\"\",\"\",MAX(AA$1:AA416)+1)","v":""},{"$f":"IF(CPMS2!B439=\"\",\"\",CPMS2!B439)","v":""},{"$f":"IF(CPMS2!C439=\"\",\"\",CPMS2!C439)","v":""},{"$f":"IF(CPMS2!D439=\"\",\"\",CPMS2!D439)","v":""},"",{"$f":"IF(COUNTIF(AE$2:AE417,AE417)=1,AE417,\"\")","v":""},"","","",null,null,null,null,null,null,null,null,null,null,null,null,null,null,null,null,null,null,null,null,null,null,null,null,null,null,null,null,null,null,null,null,null,{"$f":"+IF(BV417=\"\",\"\",MAX(BQ$1:BQ416)+1)","v":""},{"$f":"IF(OpLimit!B439=\"\",\"\",OpLimit!B439)","v":""},{"$f":"IF(OpLimit!C439=\"\",\"\",OpLimit!C439)","v":""},{"$f":"IF(OpLimit!E439=\"\",\"\",OpLimit!E439)","v":""},"",{"$f":"IF(COUNTIF(BU$2:BU417,BU417)=1,BU417,\"\")","v":""},"","","",""]
[null,null,null,null,null,null,null,null,null,null,{"$f":"+IF(N418=\"\",\"\",MAX(K$1:K417)+1)","v":""},{"$f":"IF(CPMS1!E440=\"\",\"\",CPMS1!E440)","v":""},"",{"$f":"IF(COUNTIF(L$2:L418,L418)=1,L418,\"\")","v":""},null,null,null,null,{"$f":"+IF(W418=\"\",\"\",MAX(S$1:S417)+1)","v":""},{"$f":"IF(Adhes_Sealer_Deadener!B440=\"\",\"\",Adhes_Sealer_Deadener!B440)","v":""},{"$f":"IF(Adhes_Sealer_Deadener!C440=\"\",\"\",Adhes_Sealer_Deadener!C440)","v":""},{"$f":"+Table10[[#This Row],[Column1]]&Table10[[#This Row],[Column2]]","v":""},{"$f":"IF(COUNTIF(V$2:V418,V418)=1,V418,\"\")","v":""},"","",null,{"$f":"+IF(AF418=\"\",\"\",MAX(AA$1:AA417)+1)","v":""},{"$f":"IF(CPMS2!B440=\"\",\"\",CPMS2!B440)","v":""},{"$f":"IF(CPMS2!C440=\"\",\"\",CPMS2!C440)","v":""},{"$f":"IF(CPMS2!D440=\"\",\"\",CPMS2!D440)","v":""},"",{"$f":"IF(COUNTIF(AE$2:AE418,AE418)=1,AE418,\"\")","v":""},"","","",null,null,null,null,null,null,null,null,null,null,null,null,null,null,null,null,null,null,null,null,null,null,null,null,null,null,null,null,null,null,null,null,null,{"$f":"+IF(BV418=\"\",\"\",MAX(BQ$1:BQ417)+1)","v":""},{"$f":"IF(OpLimit!B440=\"\",\"\",OpLimit!B440)","v":""},{"$f":"IF(OpLimit!C440=\"\",\"\",OpLimit!C440)","v":""},{"$f":"IF(OpLimit!E440=\"\",\"\",OpLimit!E440)","v":""},"",{"$f":"IF(COUNTIF(BU$2:BU418,BU418)=1,BU418,\"\")","v":""},"","","",""]
[null,null,null,null,null,null,null,null,null,null,{"$f":"+IF(N419=\"\",\"\",MAX(K$1:K418)+1)","v":""},{"$f":"IF(CPMS1!E441=\"\",\"\",CPMS1!E441)","v":""},"",{"$f":"IF(COUNTIF(L$2:L419,L419)=1,L419,\"\")","v":""},null,null,null,null,{"$f":"+IF(W419=\"\",\"\",MAX(S$1:S418)+1)","v":""},{"$f":"IF(Adhes_Sealer_Deadener!B441=\"\",\"\",Adhes_Sealer_Deadener!B441)","v":""},{"$f":"IF(Adhes_Sealer_Deadener!C441=\"\",\"\",Adhes_Sealer_Deadener!C441)","v":""},{"$f":"+Table10[[#This Row],[Column1]]&Table10[[#This Row],[Column2]]","v":""},{"$f":"IF(COUNTIF(V$2:V419,V419)=1,V419,\"\")","v":""},"","",null,{"$f":"+IF(AF419=\"\",\"\",MAX(AA$1:AA418)+1)","v":""},{"$f":"IF(CPMS2!B441=\"\",\"\",CPMS2!B441)","v":""},{"$f":"IF(CPMS2!C441=\"\",\"\",CPMS2!C441)","v":""},{"$f":"IF(CPMS2!D441=\"\",\"\",CPMS2!D441)","v":""},"",{"$f":"IF(COUNTIF(AE$2:AE419,AE419)=1,AE419,\"\")","v":""},"","","",null,null,null,null,null,null,null,null,null,null,null,null,null,null,null,null,null,null,null,null,null,null,null,null,null,null,null,null,null,null,null,null,null,{"$f":"+IF(BV419=\"\",\"\",MAX(BQ$1:BQ418)+1)","v":""},{"$f":"IF(OpLimit!B441=\"\",\"\",OpLimit!B441)","v":""},{"$f":"IF(OpLimit!C441=\"\",\"\",OpLimit!C441)","v":""},{"$f":"IF(OpLimit!E441=\"\",\"\",OpLimit!E441)","v":""},"",{"$f":"IF(COUNTIF(BU$2:BU419,BU419)=1,BU419,\"\")","v":""},"","","",""]
[null,null,null,null,null,null,null,null,null,null,{"$f":"+IF(N420=\"\",\"\",MAX(K$1:K419)+1)","v":""},{"$f":"IF(CPMS1!E442=\"\",\"\",CPMS1!E442)","v":""},"",{"$f":"IF(COUNTIF(L$2:L420,L420)=1,L420,\"\")","v":""},null,null,null,null,{"$f":"+IF(W420=\"\",\"\",MAX(S$1:S419)+1)","v":""},{"$f":"IF(Adhes_Sealer_Deadener!B442=\"\",\"\",Adhes_Sealer_Deadener!B442)","v":""},{"$f":"IF(Adhes_Sealer_Deadener!C442=\"\",\"\",Adhes_Sealer_Deadener!C442)","v":""},{"$f":"+Table10[[#This Row],[Column1]]&Table10[[#This Row],[Column2]]","v":""},{"$f":"IF(COUNTIF(V$2:V420,V420)=1,V420,\"\")","v":""},"","",null,{"$f":"+IF(AF420=\"\",\"\",MAX(AA$1:AA419)+1)","v":""},{"$f":"IF(CPMS2!B442=\"\",\"\",CPMS2!B442)","v":""},{"$f":"IF(CPMS2!C442=\"\",\"\",CPMS2!C442)","v":""},{"$f":"IF(CPMS2!D442=\"\",\"\",CPMS2!D442)","v":""},"",{"$f":"IF(COUNTIF(AE$2:AE420,AE420)=1,AE420,\"\")","v":""},"","","",null,null,null,null,null,null,null,null,null,null,null,null,null,null,null,null,null,null,null,null,null,null,null,null,null,null,null,null,null,null,null,null,null,{"$f":"+IF(BV420=\"\",\"\",MAX(BQ$1:BQ419)+1)","v":""},{"$f":"IF(OpLimit!B442=\"\",\"\",OpLimit!B442)","v":""},{"$f":"IF(OpLimit!C442=\"\",\"\",OpLimit!C442)","v":""},{"$f":"IF(OpLimit!E442=\"\",\"\",OpLimit!E442)","v":""},"",{"$f":"IF(COUNTIF(BU$2:BU420,BU420)=1,BU420,\"\")","v":""},"","","",""]
[null,null,null,null,null,null,null,null,null,null,{"$f":"+IF(N421=\"\",\"\",MAX(K$1:K420)+1)","v":""},{"$f":"IF(CPMS1!E443=\"\",\"\",CPMS1!E443)","v":""},"",{"$f":"IF(COUNTIF(L$2:L421,L421)=1,L421,\"\")","v":""},null,null,null,null,{"$f":"+IF(W421=\"\",\"\",MAX(S$1:S420)+1)","v":""},{"$f":"IF(Adhes_Sealer_Deadener!B443=\"\",\"\",Adhes_Sealer_Deadener!B443)","v":""},{"$f":"IF(Adhes_Sealer_Deadener!C443=\"\",\"\",Adhes_Sealer_Deadener!C443)","v":""},{"$f":"+Table10[[#This Row],[Column1]]&Table10[[#This Row],[Column2]]","v":""},{"$f":"IF(COUNTIF(V$2:V421,V421)=1,V421,\"\")","v":""},"","",null,{"$f":"+IF(AF421=\"\",\"\",MAX(AA$1:AA420)+1)","v":""},{"$f":"IF(CPMS2!B443=\"\",\"\",CPMS2!B443)","v":""},{"$f":"IF(CPMS2!C443=\"\",\"\",CPMS2!C443)","v":""},{"$f":"IF(CPMS2!D443=\"\",\"\",CPMS2!D443)","v":""},"",{"$f":"IF(COUNTIF(AE$2:AE421,AE421)=1,AE421,\"\")","v":""},"","","",null,null,null,null,null,null,null,null,null,null,null,null,null,null,null,null,null,null,null,null,null,null,null,null,null,null,null,null,null,null,null,null,null,{"$f":"+IF(BV421=\"\",\"\",MAX(BQ$1:BQ420)+1)","v":""},{"$f":"IF(OpLimit!B443=\"\",\"\",OpLimit!B443)","v":""},{"$f":"IF(OpLimit!C443=\"\",\"\",OpLimit!C443)","v":""},{"$f":"IF(OpLimit!E443=\"\",\"\",OpLimit!E443)","v":""},"",{"$f":"IF(COUNTIF(BU$2:BU421,BU421)=1,BU421,\"\")","v":""},"","","",""]
[null,null,null,null,null,null,null,null,null,null,{"$f":"+IF(N422=\"\",\"\",MAX(K$1:K421)+1)","v":""},{"$f":"IF(CPMS1!E444=\"\",\"\",CPMS1!E444)","v":""},"",{"$f":"IF(COUNTIF(L$2:L422,L422)=1,L422,\"\")","v":""},null,null,null,null,{"$f":"+IF(W422=\"\",\"\",MAX(S$1:S421)+1)","v":""},{"$f":"IF(Adhes_Sealer_Deadener!B444=\"\",\"\",Adhes_Sealer_Deadener!B444)","v":""},{"$f":"IF(Adhes_Sealer_Deadener!C444=\"\",\"\",Adhes_Sealer_Deadener!C444)","v":""},{"$f":"+Table10[[#This Row],[Column1]]&Table10[[#This Row],[Column2]]","v":""},{"$f":"IF(COUNTIF(V$2:V422,V422)=1,V422,\"\")","v":""},"","",null,{"$f":"+IF(AF422=\"\",\"\",MAX(AA$1:AA421)+1)","v":""},{"$f":"IF(CPMS2!B444=\"\",\"\",CPMS2!B444)","v":""},{"$f":"IF(CPMS2!C444=\"\",\"\",CPMS2!C444)","v":""},{"$f":"IF(CPMS2!D444=\"\",\"\",CPMS2!D444)","v":""},"",{"$f":"IF(COUNTIF(AE$2:AE422,AE422)=1,AE422,\"\")","v":""},"","","",null,null,null,null,null,null,null,null,null,null,null,null,null,null,null,null,null,null,null,null,null,null,null,null,null,null,null,null,null,null,null,null,null,{"$f":"+IF(BV422=\"\",\"\",MAX(BQ$1:BQ421)+1)","v":""},{"$f":"IF(OpLimit!B444=\"\",\"\",OpLimit!B444)","v":""},{"$f":"IF(OpLimit!C444=\"\",\"\",OpLimit!C444)","v":""},{"$f":"IF(OpLimit!E444=\"\",\"\",OpLimit!E444)","v":""},"",{"$f":"IF(COUNTIF(BU$2:BU422,BU422)=1,BU422,\"\")","v":""},"","","",""]
[null,null,null,null,null,null,null,null,null,null,{"$f":"+IF(N423=\"\",\"\",MAX(K$1:K422)+1)","v":""},{"$f":"IF(CPMS1!E445=\"\",\"\",CPMS1!E445)","v":""},"",{"$f":"IF(COUNTIF(L$2:L423,L423)=1,L423,\"\")","v":""},null,null,null,null,{"$f":"+IF(W423=\"\",\"\",MAX(S$1:S422)+1)","v":""},{"$f":"IF(Adhes_Sealer_Deadener!B445=\"\",\"\",Adhes_Sealer_Deadener!B445)","v":""},{"$f":"IF(Adhes_Sealer_Deadener!C445=\"\",\"\",Adhes_Sealer_Deadener!C445)","v":""},{"$f":"+Table10[[#This Row],[Column1]]&Table10[[#This Row],[Column2]]","v":""},{"$f":"IF(COUNTIF(V$2:V423,V423)=1,V423,\"\")","v":""},"","",null,{"$f":"+IF(AF423=\"\",\"\",MAX(AA$1:AA422)+1)","v":""},{"$f":"IF(CPMS2!B445=\"\",\"\",CPMS2!B445)","v":""},{"$f":"IF(CPMS2!C445=\"\",\"\",CPMS2!C445)","v":""},{"$f":"IF(CPMS2!D445=\"\",\"\",CPMS2!D445)","v":""},"",{"$f":"IF(COUNTIF(AE$2:AE423,AE423)=1,AE423,\"\")","v":""},"","","",null,null,null,null,null,null,null,null,null,null,null,null,null,null,null,null,null,null,null,null,null,null,null,null,null,null,null,null,null,null,null,null,null,{"$f":"+IF(BV423=\"\",\"\",MAX(BQ$1:BQ422)+1)","v":""},{"$f":"IF(OpLimit!B445=\"\",\"\",OpLimit!B445)","v":""},{"$f":"IF(OpLimit!C445=\"\",\"\",OpLimit!C445)","v":""},{"$f":"IF(OpLimit!E445=\"\",\"\",OpLimit!E445)","v":""},"",{"$f":"IF(COUNTIF(BU$2:BU423,BU423)=1,BU423,\"\")","v":""},"","","",""]
[null,null,null,null,null,null,null,null,null,null,{"$f":"+IF(N424=\"\",\"\",MAX(K$1:K423)+1)","v":""},{"$f":"IF(CPMS1!E446=\"\",\"\",CPMS1!E446)","v":""},"",{"$f":"IF(COUNTIF(L$2:L424,L424)=1,L424,\"\")","v":""},null,null,null,null,{"$f":"+IF(W424=\"\",\"\",MAX(S$1:S423)+1)","v":""},{"$f":"IF(Adhes_Sealer_Deadener!B446=\"\",\"\",Adhes_Sealer_Deadener!B446)","v":""},{"$f":"IF(Adhes_Sealer_Deadener!C446=\"\",\"\",Adhes_Sealer_Deadener!C446)","v":""},{"$f":"+Table10[[#This Row],[Column1]]&Table10[[#This Row],[Column2]]","v":""},{"$f":"IF(COUNTIF(V$2:V424,V424)=1,V424,\"\")","v":""},"","",null,{"$f":"+IF(AF424=\"\",\"\",MAX(AA$1:AA423)+1)","v":""},{"$f":"IF(CPMS2!B446=\"\",\"\",CPMS2!B446)","v":""},{"$f":"IF(CPMS2!C446=\"\",\"\",CPMS2!C446)","v":""},{"$f":"IF(CPMS2!D446=\"\",\"\",CPMS2!D446)","v":""},"",{"$f":"IF(COUNTIF(AE$2:AE424,AE424)=1,AE424,\"\")","v":""},"","","",null,null,null,null,null,null,null,null,null,null,null,null,null,null,null,null,null,null,null,null,null,null,null,null,null,null,null,null,null,null,null,null,null,{"$f":"+IF(BV424=\"\",\"\",MAX(BQ$1:BQ423)+1)","v":""},{"$f":"IF(OpLimit!B446=\"\",\"\",OpLimit!B446)","v":""},{"$f":"IF(OpLimit!C446=\"\",\"\",OpLimit!C446)","v":""},{"$f":"IF(OpLimit!E446=\"\",\"\",OpLimit!E446)","v":""},"",{"$f":"IF(COUNTIF(BU$2:BU424,BU424)=1,BU424,\"\")","v":""},"","","",""]
[null,null,null,null,null,null,null,null,null,null,{"$f":"+IF(N425=\"\",\"\",MAX(K$1:K424)+1)","v":""},{"$f":"IF(CPMS1!E447=\"\",\"\",CPMS1!E447)","v":""},"",{"$f":"IF(COUNTIF(L$2:L425,L425)=1,L425,\"\")","v":""},null,null,null,null,{"$f":"+IF(W425=\"\",\"\",MAX(S$1:S424)+1)","v":""},{"$f":"IF(Adhes_Sealer_Deadener!B447=\"\",\"\",Adhes_Sealer_Deadener!B447)","v":""},{"$f":"IF(Adhes_Sealer_Deadener!C447=\"\",\"\",Adhes_Sealer_Deadener!C447)","v":""},{"$f":"+Table10[[#This Row],[Column1]]&Table10[[#This Row],[Column2]]","v":""},{"$f":"IF(COUNTIF(V$2:V425,V425)=1,V425,\"\")","v":""},"","",null,{"$f":"+IF(AF425=\"\",\"\",MAX(AA$1:AA424)+1)","v":""},{"$f":"IF(CPMS2!B447=\"\",\"\",CPMS2!B447)","v":""},{"$f":"IF(CPMS2!C447=\"\",\"\",CPMS2!C447)","v":""},{"$f":"IF(CPMS2!D447=\"\",\"\",CPMS2!D447)","v":""},"",{"$f":"IF(COUNTIF(AE$2:AE425,AE425)=1,AE425,\"\")","v":""},"","","",null,null,null,null,null,null,null,null,null,null,null,null,null,null,null,null,null,null,null,null,null,null,null,null,null,null,null,null,null,null,null,null,null,{"$f":"+IF(BV425=\"\",\"\",MAX(BQ$1:BQ424)+1)","v":""},{"$f":"IF(OpLimit!B447=\"\",\"\",OpLimit!B447)","v":""},{"$f":"IF(OpLimit!C447=\"\",\"\",OpLimit!C447)","v":""},{"$f":"IF(OpLimit!E447=\"\",\"\",OpLimit!E447)","v":""},"",{"$f":"IF(COUNTIF(BU$2:BU425,BU425)=1,BU425,\"\")","v":""},"","","",""]
[null,null,null,null,null,null,null,null,null,null,{"$f":"+IF(N426=\"\",\"\",MAX(K$1:K425)+1)","v":""},{"$f":"IF(CPMS1!E448=\"\",\"\",CPMS1!E448)","v":""},"",{"$f":"IF(COUNTIF(L$2:L426,L426)=1,L426,\"\")","v":""},null,null,null,null,{"$f":"+IF(W426=\"\",\"\",MAX(S$1:S425)+1)","v":""},{"$f":"IF(Adhes_Sealer_Deadener!B448=\"\",\"\",Adhes_Sealer_Deadener!B448)","v":""},{"$f":"IF(Adhes_Sealer_Deadener!C448=\"\",\"\",Adhes_Sealer_Deadener!C448)","v":""},{"$f":"+Table10[[#This Row],[Column1]]&Table10[[#This Row],[Column2]]","v":""},{"$f":"IF(COUNTIF(V$2:V426,V426)=1,V426,\"\")","v":""},"","",null,{"$f":"+IF(AF426=\"\",\"\",MAX(AA$1:AA425)+1)","v":""},{"$f":"IF(CPMS2!B448=\"\",\"\",CPMS2!B448)","v":""},{"$f":"IF(CPMS2!C448=\"\",\"\",CPMS2!C448)","v":""},{"$f":"IF(CPMS2!D448=\"\",\"\",CPMS2!D448)","v":""},"",{"$f":"IF(COUNTIF(AE$2:AE426,AE426)=1,AE426,\"\")","v":""},"","","",null,null,null,null,null,null,null,null,null,null,null,null,null,null,null,null,null,null,null,null,null,null,null,null,null,null,null,null,null,null,null,null,null,{"$f":"+IF(BV426=\"\",\"\",MAX(BQ$1:BQ425)+1)","v":""},{"$f":"IF(OpLimit!B448=\"\",\"\",OpLimit!B448)","v":""},{"$f":"IF(OpLimit!C448=\"\",\"\",OpLimit!C448)","v":""},{"$f":"IF(OpLimit!E448=\"\",\"\",OpLimit!E448)","v":""},"",{"$f":"IF(COUNTIF(BU$2:BU426,BU426)=1,BU426,\"\")","v":""},"","","",""]
[null,null,null,null,null,null,null,null,null,null,{"$f":"+IF(N427=\"\",\"\",MAX(K$1:K426)+1)","v":""},{"$f":"IF(CPMS1!E449=\"\",\"\",CPMS1!E449)","v":""},"",{"$f":"IF(COUNTIF(L$2:L427,L427)=1,L427,\"\")","v":""},null,null,null,null,{"$f":"+IF(W427=\"\",\"\",MAX(S$1:S426)+1)","v":""},{"$f":"IF(Adhes_Sealer_Deadener!B449=\"\",\"\",Adhes_Sealer_Deadener!B449)","v":""},{"$f":"IF(Adhes_Sealer_Deadener!C449=\"\",\"\",Adhes_Sealer_Deadener!C449)","v":""},{"$f":"+Table10[[#This Row],[Column1]]&Table10[[#This Row],[Column2]]","v":""},{"$f":"IF(COUNTIF(V$2:V427,V427)=1,V427,\"\")","v":""},"","",null,{"$f":"+IF(AF427=\"\",\"\",MAX(AA$1:AA426)+1)","v":""},{"$f":"IF(CPMS2!B449=\"\",\"\",CPMS2!B449)","v":""},{"$f":"IF(CPMS2!C449=\"\",\"\",CPMS2!C449)","v":""},{"$f":"IF(CPMS2!D449=\"\",\"\",CPMS2!D449)","v":""},"",{"$f":"IF(COUNTIF(AE$2:AE427,AE427)=1,AE427,\"\")","v":""},"","","",null,null,null,null,null,null,null,null,null,null,null,null,null,null,null,null,null,null,null,null,null,null,null,null,null,null,null,null,null,null,null,null,null,{"$f":"+IF(BV427=\"\",\"\",MAX(BQ$1:BQ426)+1)","v":""},{"$f":"IF(OpLimit!B449=\"\",\"\",OpLimit!B449)","v":""},{"$f":"IF(OpLimit!C449=\"\",\"\",OpLimit!C449)","v":""},{"$f":"IF(OpLimit!E449=\"\",\"\",OpLimit!E449)","v":""},"",{"$f":"IF(COUNTIF(BU$2:BU427,BU427)=1,BU427,\"\")","v":""},"","","",""]
[null,null,null,null,null,null,null,null,null,null,{"$f":"+IF(N428=\"\",\"\",MAX(K$1:K427)+1)","v":""},{"$f":"IF(CPMS1!E450=\"\",\"\",CPMS1!E450)","v":""},"",{"$f":"IF(COUNTIF(L$2:L428,L428)=1,L428,\"\")","v":""},null,null,null,null,{"$f":"+IF(W428=\"\",\"\",MAX(S$1:S427)+1)","v":""},{"$f":"IF(Adhes_Sealer_Deadener!B450=\"\",\"\",Adhes_Sealer_Deadener!B450)","v":""},{"$f":"IF(Adhes_Sealer_Deadener!C450=\"\",\"\",Adhes_Sealer_Deadener!C450)","v":""},{"$f":"+Table10[[#This Row],[Column1]]&Table10[[#This Row],[Column2]]","v":""},{"$f":"IF(COUNTIF(V$2:V428,V428)=1,V428,\"\")","v":""},"","",null,{"$f":"+IF(AF428=\"\",\"\",MAX(AA$1:AA427)+1)","v":""},{"$f":"IF(CPMS2!B450=\"\",\"\",CPMS2!B450)","v":""},{"$f":"IF(CPMS2!C450=\"\",\"\",CPMS2!C450)","v":""},{"$f":"IF(CPMS2!D450=\"\",\"\",CPMS2!D450)","v":""},"",{"$f":"IF(COUNTIF(AE$2:AE428,AE428)=1,AE428,\"\")","v":""},"","","",null,null,null,null,null,null,null,null,null,null,null,null,null,null,null,null,null,null,null,null,null,null,null,null,null,null,null,null,null,null,null,null,null,{"$f":"+IF(BV428=\"\",\"\",MAX(BQ$1:BQ427)+1)","v":""},{"$f":"IF(OpLimit!B450=\"\",\"\",OpLimit!B450)","v":""},{"$f":"IF(OpLimit!C450=\"\",\"\",OpLimit!C450)","v":""},{"$f":"IF(OpLimit!E450=\"\",\"\",OpLimit!E450)","v":""},"",{"$f":"IF(COUNTIF(BU$2:BU428,BU428)=1,BU428,\"\")","v":""},"","","",""]
[null,null,null,null,null,null,null,null,null,null,{"$f":"+IF(N429=\"\",\"\",MAX(K$1:K428)+1)","v":""},{"$f":"IF(CPMS1!E451=\"\",\"\",CPMS1!E451)","v":""},"",{"$f":"IF(COUNTIF(L$2:L429,L429)=1,L429,\"\")","v":""},null,null,null,null,{"$f":"+IF(W429=\"\",\"\",MAX(S$1:S428)+1)","v":""},{"$f":"IF(Adhes_Sealer_Deadener!B451=\"\",\"\",Adhes_Sealer_Deadener!B451)","v":""},{"$f":"IF(Adhes_Sealer_Deadener!C451=\"\",\"\",Adhes_Sealer_Deadener!C451)","v":""},{"$f":"+Table10[[#This Row],[Column1]]&Table10[[#This Row],[Column2]]","v":""},{"$f":"IF(COUNTIF(V$2:V429,V429)=1,V429,\"\")","v":""},"","",null,{"$f":"+IF(AF429=\"\",\"\",MAX(AA$1:AA428)+1)","v":""},{"$f":"IF(CPMS2!B451=\"\",\"\",CPMS2!B451)","v":""},{"$f":"IF(CPMS2!C451=\"\",\"\",CPMS2!C451)","v":""},{"$f":"IF(CPMS2!D451=\"\",\"\",CPMS2!D451)","v":""},"",{"$f":"IF(COUNTIF(AE$2:AE429,AE429)=1,AE429,\"\")","v":""},"","","",null,null,null,null,null,null,null,null,null,null,null,null,null,null,null,null,null,null,null,null,null,null,null,null,null,null,null,null,null,null,null,null,null,{"$f":"+IF(BV429=\"\",\"\",MAX(BQ$1:BQ428)+1)","v":""},{"$f":"IF(OpLimit!B451=\"\",\"\",OpLimit!B451)","v":""},{"$f":"IF(OpLimit!C451=\"\",\"\",OpLimit!C451)","v":""},{"$f":"IF(OpLimit!E451=\"\",\"\",OpLimit!E451)","v":""},"",{"$f":"IF(COUNTIF(BU$2:BU429,BU429)=1,BU429,\"\")","v":""},"","","",""]
[null,null,null,null,null,null,null,null,null,null,{"$f":"+IF(N430=\"\",\"\",MAX(K$1:K429)+1)","v":""},{"$f":"IF(CPMS1!E452=\"\",\"\",CPMS1!E452)","v":""},"",{"$f":"IF(COUNTIF(L$2:L430,L430)=1,L430,\"\")","v":""},null,null,null,null,{"$f":"+IF(W430=\"\",\"\",MAX(S$1:S429)+1)","v":""},{"$f":"IF(Adhes_Sealer_Deadener!B452=\"\",\"\",Adhes_Sealer_Deadener!B452)","v":""},{"$f":"IF(Adhes_Sealer_Deadener!C452=\"\",\"\",Adhes_Sealer_Deadener!C452)","v":""},{"$f":"+Table10[[#This Row],[Column1]]&Table10[[#This Row],[Column2]]","v":""},{"$f":"IF(COUNTIF(V$2:V430,V430)=1,V430,\"\")","v":""},"","",null,{"$f":"+IF(AF430=\"\",\"\",MAX(AA$1:AA429)+1)","v":""},{"$f":"IF(CPMS2!B452=\"\",\"\",CPMS2!B452)","v":""},{"$f":"IF(CPMS2!C452=\"\",\"\",CPMS2!C452)","v":""},{"$f":"IF(CPMS2!D452=\"\",\"\",CPMS2!D452)","v":""},"",{"$f":"IF(COUNTIF(AE$2:AE430,AE430)=1,AE430,\"\")","v":""},"","","",null,null,null,null,null,null,null,null,null,null,null,null,null,null,null,null,null,null,null,null,null,null,null,null,null,null,null,null,null,null,null,null,null,{"$f":"+IF(BV430=\"\",\"\",MAX(BQ$1:BQ429)+1)","v":""},{"$f":"IF(OpLimit!B452=\"\",\"\",OpLimit!B452)","v":""},{"$f":"IF(OpLimit!C452=\"\",\"\",OpLimit!C452)","v":""},{"$f":"IF(OpLimit!E452=\"\",\"\",OpLimit!E452)","v":""},"",{"$f":"IF(COUNTIF(BU$2:BU430,BU430)=1,BU430,\"\")","v":""},"","","",""]
[null,null,null,null,null,null,null,null,null,null,{"$f":"+IF(N431=\"\",\"\",MAX(K$1:K430)+1)","v":""},{"$f":"IF(CPMS1!E453=\"\",\"\",CPMS1!E453)","v":""},"",{"$f":"IF(COUNTIF(L$2:L431,L431)=1,L431,\"\")","v":""},null,null,null,null,{"$f":"+IF(W431=\"\",\"\",MAX(S$1:S430)+1)","v":""},{"$f":"IF(Adhes_Sealer_Deadener!B453=\"\",\"\",Adhes_Sealer_Deadener!B453)","v":""},{"$f":"IF(Adhes_Sealer_Deadener!C453=\"\",\"\",Adhes_Sealer_Deadener!C453)","v":""},{"$f":"+Table10[[#This Row],[Column1]]&Table10[[#This Row],[Column2]]","v":""},{"$f":"IF(COUNTIF(V$2:V431,V431)=1,V431,\"\")","v":""},"","",null,{"$f":"+IF(AF431=\"\",\"\",MAX(AA$1:AA430)+1)","v":""},{"$f":"IF(CPMS2!B453=\"\",\"\",CPMS2!B453)","v":""},{"$f":"IF(CPMS2!C453=\"\",\"\",CPMS2!C453)","v":""},{"$f":"IF(CPMS2!D453=\"\",\"\",CPMS2!D453)","v":""},"",{"$f":"IF(COUNTIF(AE$2:AE431,AE431)=1,AE431,\"\")","v":""},"","","",null,null,null,null,null,null,null,null,null,null,null,null,null,null,null,null,null,null,null,null,null,null,null,null,null,null,null,null,null,null,null,null,null,{"$f":"+IF(BV431=\"\",\"\",MAX(BQ$1:BQ430)+1)","v":""},{"$f":"IF(OpLimit!B453=\"\",\"\",OpLimit!B453)","v":""},{"$f":"IF(OpLimit!C453=\"\",\"\",OpLimit!C453)","v":""},{"$f":"IF(OpLimit!E453=\"\",\"\",OpLimit!E453)","v":""},"",{"$f":"IF(COUNTIF(BU$2:BU431,BU431)=1,BU431,\"\")","v":""},"","","",""]
[null,null,null,null,null,null,null,null,null,null,{"$f":"+IF(N432=\"\",\"\",MAX(K$1:K431)+1)","v":""},{"$f":"IF(CPMS1!E454=\"\",\"\",CPMS1!E454)","v":""},"",{"$f":"IF(COUNTIF(L$2:L432,L432)=1,L432,\"\")","v":""},null,null,null,null,{"$f":"+IF(W432=\"\",\"\",MAX(S$1:S431)+1)","v":""},{"$f":"IF(Adhes_Sealer_Deadener!B454=\"\",\"\",Adhes_Sealer_Deadener!B454)","v":""},{"$f":"IF(Adhes_Sealer_Deadener!C454=\"\",\"\",Adhes_Sealer_Deadener!C454)","v":""},{"$f":"+Table10[[#This Row],[Column1]]&Table10[[#This Row],[Column2]]","v":""},{"$f":"IF(COUNTIF(V$2:V432,V432)=1,V432,\"\")","v":""},"","",null,{"$f":"+IF(AF432=\"\",\"\",MAX(AA$1:AA431)+1)","v":""},{"$f":"IF(CPMS2!B454=\"\",\"\",CPMS2!B454)","v":""},{"$f":"IF(CPMS2!C454=\"\",\"\",CPMS2!C454)","v":""},{"$f":"IF(CPMS2!D454=\"\",\"\",CPMS2!D454)","v":""},"",{"$f":"IF(COUNTIF(AE$2:AE432,AE432)=1,AE432,\"\")","v":""},"","","",null,null,null,null,null,null,null,null,null,null,null,null,null,null,null,null,null,null,null,null,null,null,null,null,null,null,null,null,null,null,null,null,null,{"$f":"+IF(BV432=\"\",\"\",MAX(BQ$1:BQ431)+1)","v":""},{"$f":"IF(OpLimit!B454=\"\",\"\",OpLimit!B454)","v":""},{"$f":"IF(OpLimit!C454=\"\",\"\",OpLimit!C454)","v":""},{"$f":"IF(OpLimit!E454=\"\",\"\",OpLimit!E454)","v":""},"",{"$f":"IF(COUNTIF(BU$2:BU432,BU432)=1,BU432,\"\")","v":""},"","","",""]
[null,null,null,null,null,null,null,null,null,null,{"$f":"+IF(N433=\"\",\"\",MAX(K$1:K432)+1)","v":""},{"$f":"IF(CPMS1!E455=\"\",\"\",CPMS1!E455)","v":""},"",{"$f":"IF(COUNTIF(L$2:L433,L433)=1,L433,\"\")","v":""},null,null,null,null,{"$f":"+IF(W433=\"\",\"\",MAX(S$1:S432)+1)","v":""},{"$f":"IF(Adhes_Sealer_Deadener!B455=\"\",\"\",Adhes_Sealer_Deadener!B455)","v":""},{"$f":"IF(Adhes_Sealer_Deadener!C455=\"\",\"\",Adhes_Sealer_Deadener!C455)","v":""},{"$f":"+Table10[[#This Row],[Column1]]&Table10[[#This Row],[Column2]]","v":""},{"$f":"IF(COUNTIF(V$2:V433,V433)=1,V433,\"\")","v":""},"","",null,{"$f":"+IF(AF433=\"\",\"\",MAX(AA$1:AA432)+1)","v":""},{"$f":"IF(CPMS2!B455=\"\",\"\",CPMS2!B455)","v":""},{"$f":"IF(CPMS2!C455=\"\",\"\",CPMS2!C455)","v":""},{"$f":"IF(CPMS2!D455=\"\",\"\",CPMS2!D455)","v":""},"",{"$f":"IF(COUNTIF(AE$2:AE433,AE433)=1,AE433,\"\")","v":""},"","","",null,null,null,null,null,null,null,null,null,null,null,null,null,null,null,null,null,null,null,null,null,null,null,null,null,null,null,null,null,null,null,null,null,{"$f":"+IF(BV433=\"\",\"\",MAX(BQ$1:BQ432)+1)","v":""},{"$f":"IF(OpLimit!B455=\"\",\"\",OpLimit!B455)","v":""},{"$f":"IF(OpLimit!C455=\"\",\"\",OpLimit!C455)","v":""},{"$f":"IF(OpLimit!E455=\"\",\"\",OpLimit!E455)","v":""},"",{"$f":"IF(COUNTIF(BU$2:BU433,BU433)=1,BU433,\"\")","v":""},"","","",""]
[null,null,null,null,null,null,null,null,null,null,{"$f":"+IF(N434=\"\",\"\",MAX(K$1:K433)+1)","v":""},{"$f":"IF(CPMS1!E456=\"\",\"\",CPMS1!E456)","v":""},"",{"$f":"IF(COUNTIF(L$2:L434,L434)=1,L434,\"\")","v":""},null,null,null,null,{"$f":"+IF(W434=\"\",\"\",MAX(S$1:S433)+1)","v":""},{"$f":"IF(Adhes_Sealer_Deadener!B456=\"\",\"\",Adhes_Sealer_Deadener!B456)","v":""},{"$f":"IF(Adhes_Sealer_Deadener!C456=\"\",\"\",Adhes_Sealer_Deadener!C456)","v":""},{"$f":"+Table10[[#This Row],[Column1]]&Table10[[#This Row],[Column2]]","v":""},{"$f":"IF(COUNTIF(V$2:V434,V434)=1,V434,\"\")","v":""},"","",null,{"$f":"+IF(AF434=\"\",\"\",MAX(AA$1:AA433)+1)","v":""},{"$f":"IF(CPMS2!B456=\"\",\"\",CPMS2!B456)","v":""},{"$f":"IF(CPMS2!C456=\"\",\"\",CPMS2!C456)","v":""},{"$f":"IF(CPMS2!D456=\"\",\"\",CPMS2!D456)","v":""},"",{"$f":"IF(COUNTIF(AE$2:AE434,AE434)=1,AE434,\"\")","v":""},"","","",null,null,null,null,null,null,null,null,null,null,null,null,null,null,null,null,null,null,null,null,null,null,null,null,null,null,null,null,null,null,null,null,null,{"$f":"+IF(BV434=\"\",\"\",MAX(BQ$1:BQ433)+1)","v":""},{"$f":"IF(OpLimit!B456=\"\",\"\",OpLimit!B456)","v":""},{"$f":"IF(OpLimit!C456=\"\",\"\",OpLimit!C456)","v":""},{"$f":"IF(OpLimit!E456=\"\",\"\",OpLimit!E456)","v":""},"",{"$f":"IF(COUNTIF(BU$2:BU434,BU434)=1,BU434,\"\")","v":""},"","","",""]
[null,null,null,null,null,null,null,null,null,null,{"$f":"+IF(N435=\"\",\"\",MAX(K$1:K434)+1)","v":""},{"$f":"IF(CPMS1!E457=\"\",\"\",CPMS1!E457)","v":""},"",{"$f":"IF(COUNTIF(L$2:L435,L435)=1,L435,\"\")","v":""},null,null,null,null,{"$f":"+IF(W435=\"\",\"\",MAX(S$1:S434)+1)","v":""},{"$f":"IF(Adhes_Sealer_Deadener!B457=\"\",\"\",Adhes_Sealer_Deadener!B457)","v":""},{"$f":"IF(Adhes_Sealer_Deadener!C457=\"\",\"\",Adhes_Sealer_Deadener!C457)","v":""},{"$f":"+Table10[[#This Row],[Column1]]&Table10[[#This Row],[Column2]]","v":""},{"$f":"IF(COUNTIF(V$2:V435,V435)=1,V435,\"\")","v":""},"","",null,{"$f":"+IF(AF435=\"\",\"\",MAX(AA$1:AA434)+1)","v":""},{"$f":"IF(CPMS2!B457=\"\",\"\",CPMS2!B457)","v":""},{"$f":"IF(CPMS2!C457=\"\",\"\",CPMS2!C457)","v":""},{"$f":"IF(CPMS2!D457=\"\",\"\",CPMS2!D457)","v":""},"",{"$f":"IF(COUNTIF(AE$2:AE435,AE435)=1,AE435,\"\")","v":""},"","","",null,null,null,null,null,null,null,null,null,null,null,null,null,null,null,null,null,null,null,null,null,null,null,null,null,null,null,null,null,null,null,null,null,{"$f":"+IF(BV435=\"\",\"\",MAX(BQ$1:BQ434)+1)","v":""},{"$f":"IF(OpLimit!B457=\"\",\"\",OpLimit!B457)","v":""},{"$f":"IF(OpLimit!C457=\"\",\"\",OpLimit!C457)","v":""},{"$f":"IF(OpLimit!E457=\"\",\"\",OpLimit!E457)","v":""},"",{"$f":"IF(COUNTIF(BU$2:BU435,BU435)=1,BU435,\"\")","v":""},"","","",""]
[null,null,null,null,null,null,null,null,null,null,{"$f":"+IF(N436=\"\",\"\",MAX(K$1:K435)+1)","v":""},{"$f":"IF(CPMS1!E458=\"\",\"\",CPMS1!E458)","v":""},"",{"$f":"IF(COUNTIF(L$2:L436,L436)=1,L436,\"\")","v":""},null,null,null,null,{"$f":"+IF(W436=\"\",\"\",MAX(S$1:S435)+1)","v":""},{"$f":"IF(Adhes_Sealer_Deadener!B458=\"\",\"\",Adhes_Sealer_Deadener!B458)","v":""},{"$f":"IF(Adhes_Sealer_Deadener!C458=\"\",\"\",Adhes_Sealer_Deadener!C458)","v":""},{"$f":"+Table10[[#This Row],[Column1]]&Table10[[#This Row],[Column2]]","v":""},{"$f":"IF(COUNTIF(V$2:V436,V436)=1,V436,\"\")","v":""},"","",null,{"$f":"+IF(AF436=\"\",\"\",MAX(AA$1:AA435)+1)","v":""},{"$f":"IF(CPMS2!B458=\"\",\"\",CPMS2!B458)","v":""},{"$f":"IF(CPMS2!C458=\"\",\"\",CPMS2!C458)","v":""},{"$f":"IF(CPMS2!D458=\"\",\"\",CPMS2!D458)","v":""},"",{"$f":"IF(COUNTIF(AE$2:AE436,AE436)=1,AE436,\"\")","v":""},"","","",null,null,null,null,null,null,null,null,null,null,null,null,null,null,null,null,null,null,null,null,null,null,null,null,null,null,null,null,null,null,null,null,null,{"$f":"+IF(BV436=\"\",\"\",MAX(BQ$1:BQ435)+1)","v":""},{"$f":"IF(OpLimit!B458=\"\",\"\",OpLimit!B458)","v":""},{"$f":"IF(OpLimit!C458=\"\",\"\",OpLimit!C458)","v":""},{"$f":"IF(OpLimit!E458=\"\",\"\",OpLimit!E458)","v":""},"",{"$f":"IF(COUNTIF(BU$2:BU436,BU436)=1,BU436,\"\")","v":""},"","","",""]
[null,null,null,null,null,null,null,null,null,null,{"$f":"+IF(N437=\"\",\"\",MAX(K$1:K436)+1)","v":""},{"$f":"IF(CPMS1!E459=\"\",\"\",CPMS1!E459)","v":""},"",{"$f":"IF(COUNTIF(L$2:L437,L437)=1,L437,\"\")","v":""},null,null,null,null,{"$f":"+IF(W437=\"\",\"\",MAX(S$1:S436)+1)","v":""},{"$f":"IF(Adhes_Sealer_Deadener!B459=\"\",\"\",Adhes_Sealer_Deadener!B459)","v":""},{"$f":"IF(Adhes_Sealer_Deadener!C459=\"\",\"\",Adhes_Sealer_Deadener!C459)","v":""},{"$f":"+Table10[[#This Row],[Column1]]&Table10[[#This Row],[Column2]]","v":""},{"$f":"IF(COUNTIF(V$2:V437,V437)=1,V437,\"\")","v":""},"","",null,{"$f":"+IF(AF437=\"\",\"\",MAX(AA$1:AA436)+1)","v":""},{"$f":"IF(CPMS2!B459=\"\",\"\",CPMS2!B459)","v":""},{"$f":"IF(CPMS2!C459=\"\",\"\",CPMS2!C459)","v":""},{"$f":"IF(CPMS2!D459=\"\",\"\",CPMS2!D459)","v":""},"",{"$f":"IF(COUNTIF(AE$2:AE437,AE437)=1,AE437,\"\")","v":""},"","","",null,null,null,null,null,null,null,null,null,null,null,null,null,null,null,null,null,null,null,null,null,null,null,null,null,null,null,null,null,null,null,null,null,{"$f":"+IF(BV437=\"\",\"\",MAX(BQ$1:BQ436)+1)","v":""},{"$f":"IF(OpLimit!B459=\"\",\"\",OpLimit!B459)","v":""},{"$f":"IF(OpLimit!C459=\"\",\"\",OpLimit!C459)","v":""},{"$f":"IF(OpLimit!E459=\"\",\"\",OpLimit!E459)","v":""},"",{"$f":"IF(COUNTIF(BU$2:BU437,BU437)=1,BU437,\"\")","v":""},"","","",""]
[null,null,null,null,null,null,null,null,null,null,{"$f":"+IF(N438=\"\",\"\",MAX(K$1:K437)+1)","v":""},{"$f":"IF(CPMS1!E460=\"\",\"\",CPMS1!E460)","v":""},"",{"$f":"IF(COUNTIF(L$2:L438,L438)=1,L438,\"\")","v":""},null,null,null,null,{"$f":"+IF(W438=\"\",\"\",MAX(S$1:S437)+1)","v":""},{"$f":"IF(Adhes_Sealer_Deadener!B460=\"\",\"\",Adhes_Sealer_Deadener!B460)","v":""},{"$f":"IF(Adhes_Sealer_Deadener!C460=\"\",\"\",Adhes_Sealer_Deadener!C460)","v":""},{"$f":"+Table10[[#This Row],[Column1]]&Table10[[#This Row],[Column2]]","v":""},{"$f":"IF(COUNTIF(V$2:V438,V438)=1,V438,\"\")","v":""},"","",null,{"$f":"+IF(AF438=\"\",\"\",MAX(AA$1:AA437)+1)","v":""},{"$f":"IF(CPMS2!B460=\"\",\"\",CPMS2!B460)","v":""},{"$f":"IF(CPMS2!C460=\"\",\"\",CPMS2!C460)","v":""},{"$f":"IF(CPMS2!D460=\"\",\"\",CPMS2!D460)","v":""},"",{"$f":"IF(COUNTIF(AE$2:AE438,AE438)=1,AE438,\"\")","v":""},"","","",null,null,null,null,null,null,null,null,null,null,null,null,null,null,null,null,null,null,null,null,null,null,null,null,null,null,null,null,null,null,null,null,null,{"$f":"+IF(BV438=\"\",\"\",MAX(BQ$1:BQ437)+1)","v":""},{"$f":"IF(OpLimit!B460=\"\",\"\",OpLimit!B460)","v":""},{"$f":"IF(OpLimit!C460=\"\",\"\",OpLimit!C460)","v":""},{"$f":"IF(OpLimit!E460=\"\",\"\",OpLimit!E460)","v":""},"",{"$f":"IF(COUNTIF(BU$2:BU438,BU438)=1,BU438,\"\")","v":""},"","","",""]
[null,null,null,null,null,null,null,null,null,null,{"$f":"+IF(N439=\"\",\"\",MAX(K$1:K438)+1)","v":""},{"$f":"IF(CPMS1!E461=\"\",\"\",CPMS1!E461)","v":""},"",{"$f":"IF(COUNTIF(L$2:L439,L439)=1,L439,\"\")","v":""},null,null,null,null,{"$f":"+IF(W439=\"\",\"\",MAX(S$1:S438)+1)","v":""},{"$f":"IF(Adhes_Sealer_Deadener!B461=\"\",\"\",Adhes_Sealer_Deadener!B461)","v":""},{"$f":"IF(Adhes_Sealer_Deadener!C461=\"\",\"\",Adhes_Sealer_Deadener!C461)","v":""},{"$f":"+Table10[[#This Row],[Column1]]&Table10[[#This Row],[Column2]]","v":""},{"$f":"IF(COUNTIF(V$2:V439,V439)=1,V439,\"\")","v":""},"","",null,{"$f":"+IF(AF439=\"\",\"\",MAX(AA$1:AA438)+1)","v":""},{"$f":"IF(CPMS2!B461=\"\",\"\",CPMS2!B461)","v":""},{"$f":"IF(CPMS2!C461=\"\",\"\",CPMS2!C461)","v":""},{"$f":"IF(CPMS2!D461=\"\",\"\",CPMS2!D461)","v":""},"",{"$f":"IF(COUNTIF(AE$2:AE439,AE439)=1,AE439,\"\")","v":""},"","","",null,null,null,null,null,null,null,null,null,null,null,null,null,null,null,null,null,null,null,null,null,null,null,null,null,null,null,null,null,null,null,null,null,{"$f":"+IF(BV439=\"\",\"\",MAX(BQ$1:BQ438)+1)","v":""},{"$f":"IF(OpLimit!B461=\"\",\"\",OpLimit!B461)","v":""},{"$f":"IF(OpLimit!C461=\"\",\"\",OpLimit!C461)","v":""},{"$f":"IF(OpLimit!E461=\"\",\"\",OpLimit!E461)","v":""},"",{"$f":"IF(COUNTIF(BU$2:BU439,BU439)=1,BU439,\"\")","v":""},"","","",""]
[null,null,null,null,null,null,null,null,null,null,{"$f":"+IF(N440=\"\",\"\",MAX(K$1:K439)+1)","v":""},{"$f":"IF(CPMS1!E462=\"\",\"\",CPMS1!E462)","v":""},"",{"$f":"IF(COUNTIF(L$2:L440,L440)=1,L440,\"\")","v":""},null,null,null,null,{"$f":"+IF(W440=\"\",\"\",MAX(S$1:S439)+1)","v":""},{"$f":"IF(Adhes_Sealer_Deadener!B462=\"\",\"\",Adhes_Sealer_Deadener!B462)","v":""},{"$f":"IF(Adhes_Sealer_Deadener!C462=\"\",\"\",Adhes_Sealer_Deadener!C462)","v":""},{"$f":"+Table10[[#This Row],[Column1]]&Table10[[#This Row],[Column2]]","v":""},{"$f":"IF(COUNTIF(V$2:V440,V440)=1,V440,\"\")","v":""},"","",null,{"$f":"+IF(AF440=\"\",\"\",MAX(AA$1:AA439)+1)","v":""},{"$f":"IF(CPMS2!B462=\"\",\"\",CPMS2!B462)","v":""},{"$f":"IF(CPMS2!C462=\"\",\"\",CPMS2!C462)","v":""},{"$f":"IF(CPMS2!D462=\"\",\"\",CPMS2!D462)","v":""},"",{"$f":"IF(COUNTIF(AE$2:AE440,AE440)=1,AE440,\"\")","v":""},"","","",null,null,null,null,null,null,null,null,null,null,null,null,null,null,null,null,null,null,null,null,null,null,null,null,null,null,null,null,null,null,null,null,null,{"$f":"+IF(BV440=\"\",\"\",MAX(BQ$1:BQ439)+1)","v":""},{"$f":"IF(OpLimit!B462=\"\",\"\",OpLimit!B462)","v":""},{"$f":"IF(OpLimit!C462=\"\",\"\",OpLimit!C462)","v":""},{"$f":"IF(OpLimit!E462=\"\",\"\",OpLimit!E462)","v":""},"",{"$f":"IF(COUNTIF(BU$2:BU440,BU440)=1,BU440,\"\")","v":""},"","","",""]
[null,null,null,null,null,null,null,null,null,null,{"$f":"+IF(N441=\"\",\"\",MAX(K$1:K440)+1)","v":""},{"$f":"IF(CPMS1!E463=\"\",\"\",CPMS1!E463)","v":""},"",{"$f":"IF(COUNTIF(L$2:L441,L441)=1,L441,\"\")","v":""},null,null,null,null,{"$f":"+IF(W441=\"\",\"\",MAX(S$1:S440)+1)","v":""},{"$f":"IF(Adhes_Sealer_Deadener!B463=\"\",\"\",Adhes_Sealer_Deadener!B463)","v":""},{"$f":"IF(Adhes_Sealer_Deadener!C463=\"\",\"\",Adhes_Sealer_Deadener!C463)","v":""},{"$f":"+Table10[[#This Row],[Column1]]&Table10[[#This Row],[Column2]]","v":""},{"$f":"IF(COUNTIF(V$2:V441,V441)=1,V441,\"\")","v":""},"","",null,{"$f":"+IF(AF441=\"\",\"\",MAX(AA$1:AA440)+1)","v":""},{"$f":"IF(CPMS2!B463=\"\",\"\",CPMS2!B463)","v":""},{"$f":"IF(CPMS2!C463=\"\",\"\",CPMS2!C463)","v":""},{"$f":"IF(CPMS2!D463=\"\",\"\",CPMS2!D463)","v":""},"",{"$f":"IF(COUNTIF(AE$2:AE441,AE441)=1,AE441,\"\")","v":""},"","","",null,null,null,null,null,null,null,null,null,null,null,null,null,null,null,null,null,null,null,null,null,null,null,null,null,null,null,null,null,null,null,null,null,{"$f":"+IF(BV441=\"\",\"\",MAX(BQ$1:BQ440)+1)","v":""},{"$f":"IF(OpLimit!B463=\"\",\"\",OpLimit!B463)","v":""},{"$f":"IF(OpLimit!C463=\"\",\"\",OpLimit!C463)","v":""},{"$f":"IF(OpLimit!E463=\"\",\"\",OpLimit!E463)","v":""},"",{"$f":"IF(COUNTIF(BU$2:BU441,BU441)=1,BU441,\"\")","v":""},"","","",""]
[null,null,null,null,null,null,null,null,null,null,{"$f":"+IF(N442=\"\",\"\",MAX(K$1:K441)+1)","v":""},{"$f":"IF(CPMS1!E464=\"\",\"\",CPMS1!E464)","v":""},"",{"$f":"IF(COUNTIF(L$2:L442,L442)=1,L442,\"\")","v":""},null,null,null,null,{"$f":"+IF(W442=\"\",\"\",MAX(S$1:S441)+1)","v":""},{"$f":"IF(Adhes_Sealer_Deadener!B464=\"\",\"\",Adhes_Sealer_Deadener!B464)","v":""},{"$f":"IF(Adhes_Sealer_Deadener!C464=\"\",\"\",Adhes_Sealer_Deadener!C464)","v":""},{"$f":"+Table10[[#This Row],[Column1]]&Table10[[#This Row],[Column2]]","v":""},{"$f":"IF(COUNTIF(V$2:V442,V442)=1,V442,\"\")","v":""},"","",null,{"$f":"+IF(AF442=\"\",\"\",MAX(AA$1:AA441)+1)","v":""},{"$f":"IF(CPMS2!B464=\"\",\"\",CPMS2!B464)","v":""},{"$f":"IF(CPMS2!C464=\"\",\"\",CPMS2!C464)","v":""},{"$f":"IF(CPMS2!D464=\"\",\"\",CPMS2!D464)","v":""},"",{"$f":"IF(COUNTIF(AE$2:AE442,AE442)=1,AE442,\"\")","v":""},"","","",null,null,null,null,null,null,null,null,null,null,null,null,null,null,null,null,null,null,null,null,null,null,null,null,null,null,null,null,null,null,null,null,null,{"$f":"+IF(BV442=\"\",\"\",MAX(BQ$1:BQ441)+1)","v":""},{"$f":"IF(OpLimit!B464=\"\",\"\",OpLimit!B464)","v":""},{"$f":"IF(OpLimit!C464=\"\",\"\",OpLimit!C464)","v":""},{"$f":"IF(OpLimit!E464=\"\",\"\",OpLimit!E464)","v":""},"",{"$f":"IF(COUNTIF(BU$2:BU442,BU442)=1,BU442,\"\")","v":""},"","","",""]
[null,null,null,null,null,null,null,null,null,null,{"$f":"+IF(N443=\"\",\"\",MAX(K$1:K442)+1)","v":""},{"$f":"IF(CPMS1!E465=\"\",\"\",CPMS1!E465)","v":""},"",{"$f":"IF(COUNTIF(L$2:L443,L443)=1,L443,\"\")","v":""},null,null,null,null,{"$f":"+IF(W443=\"\",\"\",MAX(S$1:S442)+1)","v":""},{"$f":"IF(Adhes_Sealer_Deadener!B465=\"\",\"\",Adhes_Sealer_Deadener!B465)","v":""},{"$f":"IF(Adhes_Sealer_Deadener!C465=\"\",\"\",Adhes_Sealer_Deadener!C465)","v":""},{"$f":"+Table10[[#This Row],[Column1]]&Table10[[#This Row],[Column2]]","v":""},{"$f":"IF(COUNTIF(V$2:V443,V443)=1,V443,\"\")","v":""},"","",null,{"$f":"+IF(AF443=\"\",\"\",MAX(AA$1:AA442)+1)","v":""},{"$f":"IF(CPMS2!B465=\"\",\"\",CPMS2!B465)","v":""},{"$f":"IF(CPMS2!C465=\"\",\"\",CPMS2!C465)","v":""},{"$f":"IF(CPMS2!D465=\"\",\"\",CPMS2!D465)","v":""},"",{"$f":"IF(COUNTIF(AE$2:AE443,AE443)=1,AE443,\"\")","v":""},"","","",null,null,null,null,null,null,null,null,null,null,null,null,null,null,null,null,null,null,null,null,null,null,null,null,null,null,null,null,null,null,null,null,null,{"$f":"+IF(BV443=\"\",\"\",MAX(BQ$1:BQ442)+1)","v":""},{"$f":"IF(OpLimit!B465=\"\",\"\",OpLimit!B465)","v":""},{"$f":"IF(OpLimit!C465=\"\",\"\",OpLimit!C465)","v":""},{"$f":"IF(OpLimit!E465=\"\",\"\",OpLimit!E465)","v":""},"",{"$f":"IF(COUNTIF(BU$2:BU443,BU443)=1,BU443,\"\")","v":""},"","","",""]
[null,null,null,null,null,null,null,null,null,null,{"$f":"+IF(N444=\"\",\"\",MAX(K$1:K443)+1)","v":""},{"$f":"IF(CPMS1!E466=\"\",\"\",CPMS1!E466)","v":""},"",{"$f":"IF(COUNTIF(L$2:L444,L444)=1,L444,\"\")","v":""},null,null,null,null,{"$f":"+IF(W444=\"\",\"\",MAX(S$1:S443)+1)","v":""},{"$f":"IF(Adhes_Sealer_Deadener!B466=\"\",\"\",Adhes_Sealer_Deadener!B466)","v":""},{"$f":"IF(Adhes_Sealer_Deadener!C466=\"\",\"\",Adhes_Sealer_Deadener!C466)","v":""},{"$f":"+Table10[[#This Row],[Column1]]&Table10[[#This Row],[Column2]]","v":""},{"$f":"IF(COUNTIF(V$2:V444,V444)=1,V444,\"\")","v":""},"","",null,{"$f":"+IF(AF444=\"\",\"\",MAX(AA$1:AA443)+1)","v":""},{"$f":"IF(CPMS2!B466=\"\",\"\",CPMS2!B466)","v":""},{"$f":"IF(CPMS2!C466=\"\",\"\",CPMS2!C466)","v":""},{"$f":"IF(CPMS2!D466=\"\",\"\",CPMS2!D466)","v":""},"",{"$f":"IF(COUNTIF(AE$2:AE444,AE444)=1,AE444,\"\")","v":""},"","","",null,null,null,null,null,null,null,null,null,null,null,null,null,null,null,null,null,null,null,null,null,null,null,null,null,null,null,null,null,null,null,null,null,{"$f":"+IF(BV444=\"\",\"\",MAX(BQ$1:BQ443)+1)","v":""},{"$f":"IF(OpLimit!B466=\"\",\"\",OpLimit!B466)","v":""},{"$f":"IF(OpLimit!C466=\"\",\"\",OpLimit!C466)","v":""},{"$f":"IF(OpLimit!E466=\"\",\"\",OpLimit!E466)","v":""},"",{"$f":"IF(COUNTIF(BU$2:BU444,BU444)=1,BU444,\"\")","v":""},"","","",""]
[null,null,null,null,null,null,null,null,null,null,{"$f":"+IF(N445=\"\",\"\",MAX(K$1:K444)+1)","v":""},{"$f":"IF(CPMS1!E467=\"\",\"\",CPMS1!E467)","v":""},"",{"$f":"IF(COUNTIF(L$2:L445,L445)=1,L445,\"\")","v":""},null,null,null,null,{"$f":"+IF(W445=\"\",\"\",MAX(S$1:S444)+1)","v":""},{"$f":"IF(Adhes_Sealer_Deadener!B467=\"\",\"\",Adhes_Sealer_Deadener!B467)","v":""},{"$f":"IF(Adhes_Sealer_Deadener!C467=\"\",\"\",Adhes_Sealer_Deadener!C467)","v":""},{"$f":"+Table10[[#This Row],[Column1]]&Table10[[#This Row],[Column2]]","v":""},{"$f":"IF(COUNTIF(V$2:V445,V445)=1,V445,\"\")","v":""},"","",null,{"$f":"+IF(AF445=\"\",\"\",MAX(AA$1:AA444)+1)","v":""},{"$f":"IF(CPMS2!B467=\"\",\"\",CPMS2!B467)","v":""},{"$f":"IF(CPMS2!C467=\"\",\"\",CPMS2!C467)","v":""},{"$f":"IF(CPMS2!D467=\"\",\"\",CPMS2!D467)","v":""},"",{"$f":"IF(COUNTIF(AE$2:AE445,AE445)=1,AE445,\"\")","v":""},"","","",null,null,null,null,null,null,null,null,null,null,null,null,null,null,null,null,null,null,null,null,null,null,null,null,null,null,null,null,null,null,null,null,null,{"$f":"+IF(BV445=\"\",\"\",MAX(BQ$1:BQ444)+1)","v":""},{"$f":"IF(OpLimit!B467=\"\",\"\",OpLimit!B467)","v":""},{"$f":"IF(OpLimit!C467=\"\",\"\",OpLimit!C467)","v":""},{"$f":"IF(OpLimit!E467=\"\",\"\",OpLimit!E467)","v":""},"",{"$f":"IF(COUNTIF(BU$2:BU445,BU445)=1,BU445,\"\")","v":""},"","","",""]
[null,null,null,null,null,null,null,null,null,null,{"$f":"+IF(N446=\"\",\"\",MAX(K$1:K445)+1)","v":""},{"$f":"IF(CPMS1!E468=\"\",\"\",CPMS1!E468)","v":""},"",{"$f":"IF(COUNTIF(L$2:L446,L446)=1,L446,\"\")","v":""},null,null,null,null,{"$f":"+IF(W446=\"\",\"\",MAX(S$1:S445)+1)","v":""},{"$f":"IF(Adhes_Sealer_Deadener!B468=\"\",\"\",Adhes_Sealer_Deadener!B468)","v":""},{"$f":"IF(Adhes_Sealer_Deadener!C468=\"\",\"\",Adhes_Sealer_Deadener!C468)","v":""},{"$f":"+Table10[[#This Row],[Column1]]&Table10[[#This Row],[Column2]]","v":""},{"$f":"IF(COUNTIF(V$2:V446,V446)=1,V446,\"\")","v":""},"","",null,{"$f":"+IF(AF446=\"\",\"\",MAX(AA$1:AA445)+1)","v":""},{"$f":"IF(CPMS2!B468=\"\",\"\",CPMS2!B468)","v":""},{"$f":"IF(CPMS2!C468=\"\",\"\",CPMS2!C468)","v":""},{"$f":"IF(CPMS2!D468=\"\",\"\",CPMS2!D468)","v":""},"",{"$f":"IF(COUNTIF(AE$2:AE446,AE446)=1,AE446,\"\")","v":""},"","","",null,null,null,null,null,null,null,null,null,null,null,null,null,null,null,null,null,null,null,null,null,null,null,null,null,null,null,null,null,null,null,null,null,{"$f":"+IF(BV446=\"\",\"\",MAX(BQ$1:BQ445)+1)","v":""},{"$f":"IF(OpLimit!B468=\"\",\"\",OpLimit!B468)","v":""},{"$f":"IF(OpLimit!C468=\"\",\"\",OpLimit!C468)","v":""},{"$f":"IF(OpLimit!E468=\"\",\"\",OpLimit!E468)","v":""},"",{"$f":"IF(COUNTIF(BU$2:BU446,BU446)=1,BU446,\"\")","v":""},"","","",""]
[null,null,null,null,null,null,null,null,null,null,{"$f":"+IF(N447=\"\",\"\",MAX(K$1:K446)+1)","v":""},{"$f":"IF(CPMS1!E469=\"\",\"\",CPMS1!E469)","v":""},"",{"$f":"IF(COUNTIF(L$2:L447,L447)=1,L447,\"\")","v":""},null,null,null,null,{"$f":"+IF(W447=\"\",\"\",MAX(S$1:S446)+1)","v":""},{"$f":"IF(Adhes_Sealer_Deadener!B469=\"\",\"\",Adhes_Sealer_Deadener!B469)","v":""},{"$f":"IF(Adhes_Sealer_Deadener!C469=\"\",\"\",Adhes_Sealer_Deadener!C469)","v":""},{"$f":"+Table10[[#This Row],[Column1]]&Table10[[#This Row],[Column2]]","v":""},{"$f":"IF(COUNTIF(V$2:V447,V447)=1,V447,\"\")","v":""},"","",null,{"$f":"+IF(AF447=\"\",\"\",MAX(AA$1:AA446)+1)","v":""},{"$f":"IF(CPMS2!B469=\"\",\"\",CPMS2!B469)","v":""},{"$f":"IF(CPMS2!C469=\"\",\"\",CPMS2!C469)","v":""},{"$f":"IF(CPMS2!D469=\"\",\"\",CPMS2!D469)","v":""},"",{"$f":"IF(COUNTIF(AE$2:AE447,AE447)=1,AE447,\"\")","v":""},"","","",null,null,null,null,null,null,null,null,null,null,null,null,null,null,null,null,null,null,null,null,null,null,null,null,null,null,null,null,null,null,null,null,null,{"$f":"+IF(BV447=\"\",\"\",MAX(BQ$1:BQ446)+1)","v":""},{"$f":"IF(OpLimit!B469=\"\",\"\",OpLimit!B469)","v":""},{"$f":"IF(OpLimit!C469=\"\",\"\",OpLimit!C469)","v":""},{"$f":"IF(OpLimit!E469=\"\",\"\",OpLimit!E469)","v":""},"",{"$f":"IF(COUNTIF(BU$2:BU447,BU447)=1,BU447,\"\")","v":""},"","","",""]
[null,null,null,null,null,null,null,null,null,null,{"$f":"+IF(N448=\"\",\"\",MAX(K$1:K447)+1)","v":""},{"$f":"IF(CPMS1!E470=\"\",\"\",CPMS1!E470)","v":""},"",{"$f":"IF(COUNTIF(L$2:L448,L448)=1,L448,\"\")","v":""},null,null,null,null,{"$f":"+IF(W448=\"\",\"\",MAX(S$1:S447)+1)","v":""},{"$f":"IF(Adhes_Sealer_Deadener!B470=\"\",\"\",Adhes_Sealer_Deadener!B470)","v":""},{"$f":"IF(Adhes_Sealer_Deadener!C470=\"\",\"\",Adhes_Sealer_Deadener!C470)","v":""},{"$f":"+Table10[[#This Row],[Column1]]&Table10[[#This Row],[Column2]]","v":""},{"$f":"IF(COUNTIF(V$2:V448,V448)=1,V448,\"\")","v":""},"","",null,{"$f":"+IF(AF448=\"\",\"\",MAX(AA$1:AA447)+1)","v":""},{"$f":"IF(CPMS2!B470=\"\",\"\",CPMS2!B470)","v":""},{"$f":"IF(CPMS2!C470=\"\",\"\",CPMS2!C470)","v":""},{"$f":"IF(CPMS2!D470=\"\",\"\",CPMS2!D470)","v":""},"",{"$f":"IF(COUNTIF(AE$2:AE448,AE448)=1,AE448,\"\")","v":""},"","","",null,null,null,null,null,null,null,null,null,null,null,null,null,null,null,null,null,null,null,null,null,null,null,null,null,null,null,null,null,null,null,null,null,{"$f":"+IF(BV448=\"\",\"\",MAX(BQ$1:BQ447)+1)","v":""},{"$f":"IF(OpLimit!B470=\"\",\"\",OpLimit!B470)","v":""},{"$f":"IF(OpLimit!C470=\"\",\"\",OpLimit!C470)","v":""},{"$f":"IF(OpLimit!E470=\"\",\"\",OpLimit!E470)","v":""},"",{"$f":"IF(COUNTIF(BU$2:BU448,BU448)=1,BU448,\"\")","v":""},"","","",""]
[null,null,null,null,null,null,null,null,null,null,{"$f":"+IF(N449=\"\",\"\",MAX(K$1:K448)+1)","v":""},{"$f":"IF(CPMS1!E471=\"\",\"\",CPMS1!E471)","v":""},"",{"$f":"IF(COUNTIF(L$2:L449,L449)=1,L449,\"\")","v":""},null,null,null,null,{"$f":"+IF(W449=\"\",\"\",MAX(S$1:S448)+1)","v":""},{"$f":"IF(Adhes_Sealer_Deadener!B471=\"\",\"\",Adhes_Sealer_Deadener!B471)","v":""},{"$f":"IF(Adhes_Sealer_Deadener!C471=\"\",\"\",Adhes_Sealer_Deadener!C471)","v":""},{"$f":"+Table10[[#This Row],[Column1]]&Table10[[#This Row],[Column2]]","v":""},{"$f":"IF(COUNTIF(V$2:V449,V449)=1,V449,\"\")","v":""},"","",null,{"$f":"+IF(AF449=\"\",\"\",MAX(AA$1:AA448)+1)","v":""},{"$f":"IF(CPMS2!B471=\"\",\"\",CPMS2!B471)","v":""},{"$f":"IF(CPMS2!C471=\"\",\"\",CPMS2!C471)","v":""},{"$f":"IF(CPMS2!D471=\"\",\"\",CPMS2!D471)","v":""},"",{"$f":"IF(COUNTIF(AE$2:AE449,AE449)=1,AE449,\"\")","v":""},"","","",null,null,null,null,null,null,null,null,null,null,null,null,null,null,null,null,null,null,null,null,null,null,null,null,null,null,null,null,null,null,null,null,null,{"$f":"+IF(BV449=\"\",\"\",MAX(BQ$1:BQ448)+1)","v":""},{"$f":"IF(OpLimit!B471=\"\",\"\",OpLimit!B471)","v":""},{"$f":"IF(OpLimit!C471=\"\",\"\",OpLimit!C471)","v":""},{"$f":"IF(OpLimit!E471=\"\",\"\",OpLimit!E471)","v":""},"",{"$f":"IF(COUNTIF(BU$2:BU449,BU449)=1,BU449,\"\")","v":""},"","","",""]
[null,null,null,null,null,null,null,null,null,null,{"$f":"+IF(N450=\"\",\"\",MAX(K$1:K449)+1)","v":""},{"$f":"IF(CPMS1!E472=\"\",\"\",CPMS1!E472)","v":""},{"$f":"+IFERROR(INDEX($L$2:$L$501,MATCH(ROW()-ROW($M$1),$K$2:$K$501,0)),\"\")","v":""},{"$f":"IF(COUNTIF(L$2:L450,L450)=1,L450,\"\")","v":""},null,null,null,null,{"$f":"+IF(W450=\"\",\"\",MAX(S$1:S449)+1)","v":""},{"$f":"IF(Adhes_Sealer_Deadener!B472=\"\",\"\",Adhes_Sealer_Deadener!B472)","v":""},{"$f":"IF(Adhes_Sealer_Deadener!C472=\"\",\"\",Adhes_Sealer_Deadener!C472)","v":""},{"$f":"+Table10[[#This Row],[Column1]]&Table10[[#This Row],[Column2]]","v":""},{"$f":"IF(COUNTIF(V$2:V450,V450)=1,V450,\"\")","v":""},"","",null,{"$f":"+IF(AF450=\"\",\"\",MAX(AA$1:AA449)+1)","v":""},{"$f":"IF(CPMS2!B472=\"\",\"\",CPMS2!B472)","v":""},{"$f":"IF(CPMS2!C472=\"\",\"\",CPMS2!C472)","v":""},{"$f":"IF(CPMS2!D472=\"\",\"\",CPMS2!D472)","v":""},"",{"$f":"IF(COUNTIF(AE$2:AE450,AE450)=1,AE450,\"\")","v":""},"","","",null,null,null,null,null,null,null,null,null,null,null,null,null,null,null,null,null,null,null,null,null,null,null,null,null,null,null,null,null,null,null,null,null,{"$f":"+IF(BV450=\"\",\"\",MAX(BQ$1:BQ449)+1)","v":""},{"$f":"IF(OpLimit!B472=\"\",\"\",OpLimit!B472)","v":""},{"$f":"IF(OpLimit!C472=\"\",\"\",OpLimit!C472)","v":""},{"$f":"IF(OpLimit!E472=\"\",\"\",OpLimit!E472)","v":""},"",{"$f":"IF(COUNTIF(BU$2:BU450,BU450)=1,BU450,\"\")","v":""},"","","",""]
[null,null,null,null,null,null,null,null,null,null,{"$f":"+IF(N451=\"\",\"\",MAX(K$1:K450)+1)","v":""},{"$f":"IF(CPMS1!E473=\"\",\"\",CPMS1!E473)","v":""},"",{"$f":"IF(COUNTIF(L$2:L451,L451)=1,L451,\"\")","v":""},null,null,null,null,{"$f":"+IF(W451=\"\",\"\",MAX(S$1:S450)+1)","v":""},{"$f":"IF(Adhes_Sealer_Deadener!B473=\"\",\"\",Adhes_Sealer_Deadener!B473)","v":""},{"$f":"IF(Adhes_Sealer_Deadener!C473=\"\",\"\",Adhes_Sealer_Deadener!C473)","v":""},{"$f":"+Table10[[#This Row],[Column1]]&Table10[[#This Row],[Column2]]","v":""},{"$f":"IF(COUNTIF(V$2:V451,V451)=1,V451,\"\")","v":""},"","",null,{"$f":"+IF(AF451=\"\",\"\",MAX(AA$1:AA450)+1)","v":""},{"$f":"IF(CPMS2!B473=\"\",\"\",CPMS2!B473)","v":""},{"$f":"IF(CPMS2!C473=\"\",\"\",CPMS2!C473)","v":""},{"$f":"IF(CPMS2!D473=\"\",\"\",CPMS2!D473)","v":""},{"$f":"AB451&AC451&AD451","v":""},{"$f":"IF(COUNTIF(AE$2:AE451,AE451)=1,AE451,\"\")","v":""},{"$f":"+IFERROR(INDEX($AB$2:$AB$478,MATCH(ROW()-ROW($AF$1),$AA$2:$AA$478,0)),\"\")","v":""},{"$f":"+IFERROR(INDEX($AC$2:$AC$478,MATCH(ROW()-ROW($AF$1),$AA$2:$AA$478,0)),\"\")","v":""},{"$f":"+IFERROR(INDEX($AD$2:$AD$478,MATCH(ROW()-ROW($AF$1),$AA$2:$AA$478,0)),\"\")","v":""},null,null,null,null,null,null,null,null,null,null,null,null,null,null,null,null,null,null,null,null,null,null,null,null,null,null,null,null,null,null,null,null,null,{"$f":"+IF(BV451=\"\",\"\",MAX(BQ$1:BQ450)+1)","v":""},{"$f":"IF(OpLimit!B473=\"\",\"\",OpLimit!B473)","v":""},{"$f":"IF(OpLimit!C473=\"\",\"\",OpLimit!C473)","v":""},{"$f":"IF(OpLimit!E473=\"\",\"\",OpLimit!E473)","v":""},{"$f":"BR451&BS451&BT451","v":""},{"$f":"IF(COUNTIF(BU$2:BU451,BU451)=1,BU451,\"\")","v":""},{"$f":"IF(BX451=\"\",\"\",BX451&\" \"&BY451&\" \"&BZ451)","v":""},{"$f":"+IFERROR(INDEX($BR$2:$BR$478,MATCH(ROW()-ROW($BV$1),$BQ$2:$BQ$478,0)),\"\")","v":""},{"$f":"+IFERROR(INDEX($BS$2:$BS$478,MATCH(ROW()-ROW($BV$1),$BQ$2:$BQ$478,0)),\"\")","v":""},{"$f":"+IFERROR(INDEX($BT$2:$BT$478,MATCH(ROW()-ROW($BV$1),$BQ$2:$BQ$478,0)),\"\")","v":""}]
[null,null,null,null,null,null,null,null,null,null,{"$f":"+IF(N452=\"\",\"\",MAX(K$1:K451)+1)","v":""},{"$f":"IF(CPMS1!E474=\"\",\"\",CPMS1!E474)","v":""},"",{"$f":"IF(COUNTIF(L$2:L452,L452)=1,L452,\"\")","v":""},null,null,null,null,{"$f":"+IF(W452=\"\",\"\",MAX(S$1:S451)+1)","v":""},{"$f":"IF(Adhes_Sealer_Deadener!B474=\"\",\"\",Adhes_Sealer_Deadener!B474)","v":""},{"$f":"IF(Adhes_Sealer_Deadener!C474=\"\",\"\",Adhes_Sealer_Deadener!C474)","v":""},{"$f":"+Table10[[#This Row],[Column1]]&Table10[[#This Row],[Column2]]","v":""},{"$f":"IF(COUNTIF(V$2:V452,V452)=1,V452,\"\")","v":""},"","",null,{"$f":"+IF(AF452=\"\",\"\",MAX(AA$1:AA451)+1)","v":""},{"$f":"IF(CPMS2!B474=\"\",\"\",CPMS2!B474)","v":""},{"$f":"IF(CPMS2!C474=\"\",\"\",CPMS2!C474)","v":""},{"$f":"IF(CPMS2!D474=\"\",\"\",CPMS2!D474)","v":""},"",{"$f":"IF(COUNTIF(AE$2:AE452,AE452)=1,AE452,\"\")","v":""},"","","",null,null,null,null,null,null,null,null,null,null,null,null,null,null,null,null,null,null,null,null,null,null,null,null,null,null,null,null,null,null,null,null,null,{"$f":"+IF(BV452=\"\",\"\",MAX(BQ$1:BQ451)+1)","v":""},{"$f":"IF(OpLimit!B474=\"\",\"\",OpLimit!B474)","v":""},{"$f":"IF(OpLimit!C474=\"\",\"\",OpLimit!C474)","v":""},{"$f":"IF(OpLimit!E474=\"\",\"\",OpLimit!E474)","v":""},"",{"$f":"IF(COUNTIF(BU$2:BU452,BU452)=1,BU452,\"\")","v":""},"","","",""]
[null,null,null,null,null,null,null,null,null,null,{"$f":"+IF(N453=\"\",\"\",MAX(K$1:K452)+1)","v":""},{"$f":"IF(CPMS1!E475=\"\",\"\",CPMS1!E475)","v":""},"",{"$f":"IF(COUNTIF(L$2:L453,L453)=1,L453,\"\")","v":""},null,null,null,null,{"$f":"+IF(W453=\"\",\"\",MAX(S$1:S452)+1)","v":""},{"$f":"IF(Adhes_Sealer_Deadener!B475=\"\",\"\",Adhes_Sealer_Deadener!B475)","v":""},{"$f":"IF(Adhes_Sealer_Deadener!C475=\"\",\"\",Adhes_Sealer_Deadener!C475)","v":""},{"$f":"+Table10[[#This Row],[Column1]]&Table10[[#This Row],[Column2]]","v":""},{"$f":"IF(COUNTIF(V$2:V453,V453)=1,V453,\"\")","v":""},"","",null,{"$f":"+IF(AF453=\"\",\"\",MAX(AA$1:AA452)+1)","v":""},{"$f":"IF(CPMS2!B475=\"\",\"\",CPMS2!B475)","v":""},{"$f":"IF(CPMS2!C475=\"\",\"\",CPMS2!C475)","v":""},{"$f":"IF(CPMS2!D475=\"\",\"\",CPMS2!D475)","v":""},"",{"$f":"IF(COUNTIF(AE$2:AE453,AE453)=1,AE453,\"\")","v":""},"","","",null,null,null,null,null,null,null,null,null,null,null,null,null,null,null,null,null,null,null,null,null,null,null,null,null,null,null,null,null,null,null,null,null,{"$f":"+IF(BV453=\"\",\"\",MAX(BQ$1:BQ452)+1)","v":""},{"$f":"IF(OpLimit!B475=\"\",\"\",OpLimit!B475)","v":""},{"$f":"IF(OpLimit!C475=\"\",\"\",OpLimit!C475)","v":""},{"$f":"IF(OpLimit!E475=\"\",\"\",OpLimit!E475)","v":""},"",{"$f":"IF(COUNTIF(BU$2:BU453,BU453)=1,BU453,\"\")","v":""},"","","",""]
[null,null,null,null,null,null,null,null,null,null,{"$f":"+IF(N454=\"\",\"\",MAX(K$1:K453)+1)","v":""},{"$f":"IF(CPMS1!E476=\"\",\"\",CPMS1!E476)","v":""},"",{"$f":"IF(COUNTIF(L$2:L454,L454)=1,L454,\"\")","v":""},null,null,null,null,{"$f":"+IF(W454=\"\",\"\",MAX(S$1:S453)+1)","v":""},{"$f":"IF(Adhes_Sealer_Deadener!B476=\"\",\"\",Adhes_Sealer_Deadener!B476)","v":""},{"$f":"IF(Adhes_Sealer_Deadener!C476=\"\",\"\",Adhes_Sealer_Deadener!C476)","v":""},{"$f":"+Table10[[#This Row],[Column1]]&Table10[[#This Row],[Column2]]","v":""},{"$f":"IF(COUNTIF(V$2:V454,V454)=1,V454,\"\")","v":""},"","",null,{"$f":"+IF(AF454=\"\",\"\",MAX(AA$1:AA453)+1)","v":""},{"$f":"IF(CPMS2!B476=\"\",\"\",CPMS2!B476)","v":""},{"$f":"IF(CPMS2!C476=\"\",\"\",CPMS2!C476)","v":""},{"$f":"IF(CPMS2!D476=\"\",\"\",CPMS2!D476)","v":""},"",{"$f":"IF(COUNTIF(AE$2:AE454,AE454)=1,AE454,\"\")","v":""},"","","",null,null,null,null,null,null,null,null,null,null,null,null,null,null,null,null,null,null,null,null,null,null,null,null,null,null,null,null,null,null,null,null,null,{"$f":"+IF(BV454=\"\",\"\",MAX(BQ$1:BQ453)+1)","v":""},{"$f":"IF(OpLimit!B476=\"\",\"\",OpLimit!B476)","v":""},{"$f":"IF(OpLimit!C476=\"\",\"\",OpLimit!C476)","v":""},{"$f":"IF(OpLimit!E476=\"\",\"\",OpLimit!E476)","v":""},"",{"$f":"IF(COUNTIF(BU$2:BU454,BU454)=1,BU454,\"\")","v":""},"","","",""]
[null,null,null,null,null,null,null,null,null,null,{"$f":"+IF(N455=\"\",\"\",MAX(K$1:K454)+1)","v":""},{"$f":"IF(CPMS1!E477=\"\",\"\",CPMS1!E477)","v":""},"",{"$f":"IF(COUNTIF(L$2:L455,L455)=1,L455,\"\")","v":""},null,null,null,null,{"$f":"+IF(W455=\"\",\"\",MAX(S$1:S454)+1)","v":""},{"$f":"IF(Adhes_Sealer_Deadener!B477=\"\",\"\",Adhes_Sealer_Deadener!B477)","v":""},{"$f":"IF(Adhes_Sealer_Deadener!C477=\"\",\"\",Adhes_Sealer_Deadener!C477)","v":""},{"$f":"+Table10[[#This Row],[Column1]]&Table10[[#This Row],[Column2]]","v":""},{"$f":"IF(COUNTIF(V$2:V455,V455)=1,V455,\"\")","v":""},"","",null,{"$f":"+IF(AF455=\"\",\"\",MAX(AA$1:AA454)+1)","v":""},{"$f":"IF(CPMS2!B477=\"\",\"\",CPMS2!B477)","v":""},{"$f":"IF(CPMS2!C477=\"\",\"\",CPMS2!C477)","v":""},{"$f":"IF(CPMS2!D477=\"\",\"\",CPMS2!D477)","v":""},"",{"$f":"IF(COUNTIF(AE$2:AE455,AE455)=1,AE455,\"\")","v":""},"","","",null,null,null,null,null,null,null,null,null,null,null,null,null,null,null,null,null,null,null,null,null,null,null,null,null,null,null,null,null,null,null,null,null,{"$f":"+IF(BV455=\"\",\"\",MAX(BQ$1:BQ454)+1)","v":""},{"$f":"IF(OpLimit!B477=\"\",\"\",OpLimit!B477)","v":""},{"$f":"IF(OpLimit!C477=\"\",\"\",OpLimit!C477)","v":""},{"$f":"IF(OpLimit!E477=\"\",\"\",OpLimit!E477)","v":""},"",{"$f":"IF(COUNTIF(BU$2:BU455,BU455)=1,BU455,\"\")","v":""},"","","",""]
[null,null,null,null,null,null,null,null,null,null,{"$f":"+IF(N456=\"\",\"\",MAX(K$1:K455)+1)","v":""},{"$f":"IF(CPMS1!E478=\"\",\"\",CPMS1!E478)","v":""},"",{"$f":"IF(COUNTIF(L$2:L456,L456)=1,L456,\"\")","v":""},null,null,null,null,{"$f":"+IF(W456=\"\",\"\",MAX(S$1:S455)+1)","v":""},{"$f":"IF(Adhes_Sealer_Deadener!B478=\"\",\"\",Adhes_Sealer_Deadener!B478)","v":""},{"$f":"IF(Adhes_Sealer_Deadener!C478=\"\",\"\",Adhes_Sealer_Deadener!C478)","v":""},{"$f":"+Table10[[#This Row],[Column1]]&Table10[[#This Row],[Column2]]","v":""},{"$f":"IF(COUNTIF(V$2:V456,V456)=1,V456,\"\")","v":""},"","",null,{"$f":"+IF(AF456=\"\",\"\",MAX(AA$1:AA455)+1)","v":""},{"$f":"IF(CPMS2!B478=\"\",\"\",CPMS2!B478)","v":""},{"$f":"IF(CPMS2!C478=\"\",\"\",CPMS2!C478)","v":""},{"$f":"IF(CPMS2!D478=\"\",\"\",CPMS2!D478)","v":""},"",{"$f":"IF(COUNTIF(AE$2:AE456,AE456)=1,AE456,\"\")","v":""},"","","",null,null,null,null,null,null,null,null,null,null,null,null,null,null,null,null,null,null,null,null,null,null,null,null,null,null,null,null,null,null,null,null,null,{"$f":"+IF(BV456=\"\",\"\",MAX(BQ$1:BQ455)+1)","v":""},{"$f":"IF(OpLimit!B478=\"\",\"\",OpLimit!B478)","v":""},{"$f":"IF(OpLimit!C478=\"\",\"\",OpLimit!C478)","v":""},{"$f":"IF(OpLimit!E478=\"\",\"\",OpLimit!E478)","v":""},"",{"$f":"IF(COUNTIF(BU$2:BU456,BU456)=1,BU456,\"\")","v":""},"","","",""]
[null,null,null,null,null,null,null,null,null,null,{"$f":"+IF(N457=\"\",\"\",MAX(K$1:K456)+1)","v":""},{"$f":"IF(CPMS1!E479=\"\",\"\",CPMS1!E479)","v":""},"",{"$f":"IF(COUNTIF(L$2:L457,L457)=1,L457,\"\")","v":""},null,null,null,null,{"$f":"+IF(W457=\"\",\"\",MAX(S$1:S456)+1)","v":""},{"$f":"IF(Adhes_Sealer_Deadener!B479=\"\",\"\",Adhes_Sealer_Deadener!B479)","v":""},{"$f":"IF(Adhes_Sealer_Deadener!C479=\"\",\"\",Adhes_Sealer_Deadener!C479)","v":""},{"$f":"+Table10[[#This Row],[Column1]]&Table10[[#This Row],[Column2]]","v":""},{"$f":"IF(COUNTIF(V$2:V457,V457)=1,V457,\"\")","v":""},"","",null,{"$f":"+IF(AF457=\"\",\"\",MAX(AA$1:AA456)+1)","v":""},{"$f":"IF(CPMS2!B479=\"\",\"\",CPMS2!B479)","v":""},{"$f":"IF(CPMS2!C479=\"\",\"\",CPMS2!C479)","v":""},{"$f":"IF(CPMS2!D479=\"\",\"\",CPMS2!D479)","v":""},"",{"$f":"IF(COUNTIF(AE$2:AE457,AE457)=1,AE457,\"\")","v":""},"","","",null,null,null,null,null,null,null,null,null,null,null,null,null,null,null,null,null,null,null,null,null,null,null,null,null,null,null,null,null,null,null,null,null,{"$f":"+IF(BV457=\"\",\"\",MAX(BQ$1:BQ456)+1)","v":""},{"$f":"IF(OpLimit!B479=\"\",\"\",OpLimit!B479)","v":""},{"$f":"IF(OpLimit!C479=\"\",\"\",OpLimit!C479)","v":""},{"$f":"IF(OpLimit!E479=\"\",\"\",OpLimit!E479)","v":""},"",{"$f":"IF(COUNTIF(BU$2:BU457,BU457)=1,BU457,\"\")","v":""},"","","",""]
[null,null,null,null,null,null,null,null,null,null,{"$f":"+IF(N458=\"\",\"\",MAX(K$1:K457)+1)","v":""},{"$f":"IF(CPMS1!E480=\"\",\"\",CPMS1!E480)","v":""},"",{"$f":"IF(COUNTIF(L$2:L458,L458)=1,L458,\"\")","v":""},null,null,null,null,{"$f":"+IF(W458=\"\",\"\",MAX(S$1:S457)+1)","v":""},{"$f":"IF(Adhes_Sealer_Deadener!B480=\"\",\"\",Adhes_Sealer_Deadener!B480)","v":""},{"$f":"IF(Adhes_Sealer_Deadener!C480=\"\",\"\",Adhes_Sealer_Deadener!C480)","v":""},{"$f":"+Table10[[#This Row],[Column1]]&Table10[[#This Row],[Column2]]","v":""},{"$f":"IF(COUNTIF(V$2:V458,V458)=1,V458,\"\")","v":""},"","",null,{"$f":"+IF(AF458=\"\",\"\",MAX(AA$1:AA457)+1)","v":""},{"$f":"IF(CPMS2!B480=\"\",\"\",CPMS2!B480)","v":""},{"$f":"IF(CPMS2!C480=\"\",\"\",CPMS2!C480)","v":""},{"$f":"IF(CPMS2!D480=\"\",\"\",CPMS2!D480)","v":""},"",{"$f":"IF(COUNTIF(AE$2:AE458,AE458)=1,AE458,\"\")","v":""},"","","",null,null,null,null,null,null,null,null,null,null,null,null,null,null,null,null,null,null,null,null,null,null,null,null,null,null,null,null,null,null,null,null,null,{"$f":"+IF(BV458=\"\",\"\",MAX(BQ$1:BQ457)+1)","v":""},{"$f":"IF(OpLimit!B480=\"\",\"\",OpLimit!B480)","v":""},{"$f":"IF(OpLimit!C480=\"\",\"\",OpLimit!C480)","v":""},{"$f":"IF(OpLimit!E480=\"\",\"\",OpLimit!E480)","v":""},"",{"$f":"IF(COUNTIF(BU$2:BU458,BU458)=1,BU458,\"\")","v":""},"","","",""]
[null,null,null,null,null,null,null,null,null,null,{"$f":"+IF(N459=\"\",\"\",MAX(K$1:K458)+1)","v":""},{"$f":"IF(CPMS1!E481=\"\",\"\",CPMS1!E481)","v":""},"",{"$f":"IF(COUNTIF(L$2:L459,L459)=1,L459,\"\")","v":""},null,null,null,null,{"$f":"+IF(W459=\"\",\"\",MAX(S$1:S458)+1)","v":""},{"$f":"IF(Adhes_Sealer_Deadener!B481=\"\",\"\",Adhes_Sealer_Deadener!B481)","v":""},{"$f":"IF(Adhes_Sealer_Deadener!C481=\"\",\"\",Adhes_Sealer_Deadener!C481)","v":""},{"$f":"+Table10[[#This Row],[Column1]]&Table10[[#This Row],[Column2]]","v":""},{"$f":"IF(COUNTIF(V$2:V459,V459)=1,V459,\"\")","v":""},"","",null,{"$f":"+IF(AF459=\"\",\"\",MAX(AA$1:AA458)+1)","v":""},{"$f":"IF(CPMS2!B481=\"\",\"\",CPMS2!B481)","v":""},{"$f":"IF(CPMS2!C481=\"\",\"\",CPMS2!C481)","v":""},{"$f":"IF(CPMS2!D481=\"\",\"\",CPMS2!D481)","v":""},"",{"$f":"IF(COUNTIF(AE$2:AE459,AE459)=1,AE459,\"\")","v":""},"","","",null,null,null,null,null,null,null,null,null,null,null,null,null,null,null,null,null,null,null,null,null,null,null,null,null,null,null,null,null,null,null,null,null,{"$f":"+IF(BV459=\"\",\"\",MAX(BQ$1:BQ458)+1)","v":""},{"$f":"IF(OpLimit!B481=\"\",\"\",OpLimit!B481)","v":""},{"$f":"IF(OpLimit!C481=\"\",\"\",OpLimit!C481)","v":""},{"$f":"IF(OpLimit!E481=\"\",\"\",OpLimit!E481)","v":""},"",{"$f":"IF(COUNTIF(BU$2:BU459,BU459)=1,BU459,\"\")","v":""},"","","",""]
[null,null,null,null,null,null,null,null,null,null,{"$f":"+IF(N460=\"\",\"\",MAX(K$1:K459)+1)","v":""},{"$f":"IF(CPMS1!E482=\"\",\"\",CPMS1!E482)","v":""},"",{"$f":"IF(COUNTIF(L$2:L460,L460)=1,L460,\"\")","v":""},null,null,null,null,{"$f":"+IF(W460=\"\",\"\",MAX(S$1:S459)+1)","v":""},{"$f":"IF(Adhes_Sealer_Deadener!B482=\"\",\"\",Adhes_Sealer_Deadener!B482)","v":""},{"$f":"IF(Adhes_Sealer_Deadener!C482=\"\",\"\",Adhes_Sealer_Deadener!C482)","v":""},{"$f":"+Table10[[#This Row],[Column1]]&Table10[[#This Row],[Column2]]","v":""},{"$f":"IF(COUNTIF(V$2:V460,V460)=1,V460,\"\")","v":""},"","",null,{"$f":"+IF(AF460=\"\",\"\",MAX(AA$1:AA459)+1)","v":""},{"$f":"IF(CPMS2!B482=\"\",\"\",CPMS2!B482)","v":""},{"$f":"IF(CPMS2!C482=\"\",\"\",CPMS2!C482)","v":""},{"$f":"IF(CPMS2!D482=\"\",\"\",CPMS2!D482)","v":""},"",{"$f":"IF(COUNTIF(AE$2:AE460,AE460)=1,AE460,\"\")","v":""},"","","",null,null,null,null,null,null,null,null,null,null,null,null,null,null,null,null,null,null,null,null,null,null,null,null,null,null,null,null,null,null,null,null,null,{"$f":"+IF(BV460=\"\",\"\",MAX(BQ$1:BQ459)+1)","v":""},{"$f":"IF(OpLimit!B482=\"\",\"\",OpLimit!B482)","v":""},{"$f":"IF(OpLimit!C482=\"\",\"\",OpLimit!C482)","v":""},{"$f":"IF(OpLimit!E482=\"\",\"\",OpLimit!E482)","v":""},"",{"$f":"IF(COUNTIF(BU$2:BU460,BU460)=1,BU460,\"\")","v":""},"","","",""]
[null,null,null,null,null,null,null,null,null,null,{"$f":"+IF(N461=\"\",\"\",MAX(K$1:K460)+1)","v":""},{"$f":"IF(CPMS1!E483=\"\",\"\",CPMS1!E483)","v":""},"",{"$f":"IF(COUNTIF(L$2:L461,L461)=1,L461,\"\")","v":""},null,null,null,null,{"$f":"+IF(W461=\"\",\"\",MAX(S$1:S460)+1)","v":""},{"$f":"IF(Adhes_Sealer_Deadener!B483=\"\",\"\",Adhes_Sealer_Deadener!B483)","v":""},{"$f":"IF(Adhes_Sealer_Deadener!C483=\"\",\"\",Adhes_Sealer_Deadener!C483)","v":""},{"$f":"+Table10[[#This Row],[Column1]]&Table10[[#This Row],[Column2]]","v":""},{"$f":"IF(COUNTIF(V$2:V461,V461)=1,V461,\"\")","v":""},"","",null,{"$f":"+IF(AF461=\"\",\"\",MAX(AA$1:AA460)+1)","v":""},{"$f":"IF(CPMS2!B483=\"\",\"\",CPMS2!B483)","v":""},{"$f":"IF(CPMS2!C483=\"\",\"\",CPMS2!C483)","v":""},{"$f":"IF(CPMS2!D483=\"\",\"\",CPMS2!D483)","v":""},"",{"$f":"IF(COUNTIF(AE$2:AE461,AE461)=1,AE461,\"\")","v":""},"","","",null,null,null,null,null,null,null,null,null,null,null,null,null,null,null,null,null,null,null,null,null,null,null,null,null,null,null,null,null,null,null,null,null,{"$f":"+IF(BV461=\"\",\"\",MAX(BQ$1:BQ460)+1)","v":""},{"$f":"IF(OpLimit!B483=\"\",\"\",OpLimit!B483)","v":""},{"$f":"IF(OpLimit!C483=\"\",\"\",OpLimit!C483)","v":""},{"$f":"IF(OpLimit!E483=\"\",\"\",OpLimit!E483)","v":""},"",{"$f":"IF(COUNTIF(BU$2:BU461,BU461)=1,BU461,\"\")","v":""},"","","",""]
[null,null,null,null,null,null,null,null,null,null,{"$f":"+IF(N462=\"\",\"\",MAX(K$1:K461)+1)","v":""},{"$f":"IF(CPMS1!E484=\"\",\"\",CPMS1!E484)","v":""},"",{"$f":"IF(COUNTIF(L$2:L462,L462)=1,L462,\"\")","v":""},null,null,null,null,{"$f":"+IF(W462=\"\",\"\",MAX(S$1:S461)+1)","v":""},{"$f":"IF(Adhes_Sealer_Deadener!B484=\"\",\"\",Adhes_Sealer_Deadener!B484)","v":""},{"$f":"IF(Adhes_Sealer_Deadener!C484=\"\",\"\",Adhes_Sealer_Deadener!C484)","v":""},{"$f":"+Table10[[#This Row],[Column1]]&Table10[[#This Row],[Column2]]","v":""},{"$f":"IF(COUNTIF(V$2:V462,V462)=1,V462,\"\")","v":""},"","",null,{"$f":"+IF(AF462=\"\",\"\",MAX(AA$1:AA461)+1)","v":""},{"$f":"IF(CPMS2!B484=\"\",\"\",CPMS2!B484)","v":""},{"$f":"IF(CPMS2!C484=\"\",\"\",CPMS2!C484)","v":""},{"$f":"IF(CPMS2!D484=\"\",\"\",CPMS2!D484)","v":""},"",{"$f":"IF(COUNTIF(AE$2:AE462,AE462)=1,AE462,\"\")","v":""},"","","",null,null,null,null,null,null,null,null,null,null,null,null,null,null,null,null,null,null,null,null,null,null,null,null,null,null,null,null,null,null,null,null,null,{"$f":"+IF(BV462=\"\",\"\",MAX(BQ$1:BQ461)+1)","v":""},{"$f":"IF(OpLimit!B484=\"\",\"\",OpLimit!B484)","v":""},{"$f":"IF(OpLimit!C484=\"\",\"\",OpLimit!C484)","v":""},{"$f":"IF(OpLimit!E484=\"\",\"\",OpLimit!E484)","v":""},"",{"$f":"IF(COUNTIF(BU$2:BU462,BU462)=1,BU462,\"\")","v":""},"","","",""]
[null,null,null,null,null,null,null,null,null,null,{"$f":"+IF(N463=\"\",\"\",MAX(K$1:K462)+1)","v":""},{"$f":"IF(CPMS1!E485=\"\",\"\",CPMS1!E485)","v":""},"",{"$f":"IF(COUNTIF(L$2:L463,L463)=1,L463,\"\")","v":""},null,null,null,null,{"$f":"+IF(W463=\"\",\"\",MAX(S$1:S462)+1)","v":""},{"$f":"IF(Adhes_Sealer_Deadener!B485=\"\",\"\",Adhes_Sealer_Deadener!B485)","v":""},{"$f":"IF(Adhes_Sealer_Deadener!C485=\"\",\"\",Adhes_Sealer_Deadener!C485)","v":""},{"$f":"+Table10[[#This Row],[Column1]]&Table10[[#This Row],[Column2]]","v":""},{"$f":"IF(COUNTIF(V$2:V463,V463)=1,V463,\"\")","v":""},"","",null,{"$f":"+IF(AF463=\"\",\"\",MAX(AA$1:AA462)+1)","v":""},{"$f":"IF(CPMS2!B485=\"\",\"\",CPMS2!B485)","v":""},{"$f":"IF(CPMS2!C485=\"\",\"\",CPMS2!C485)","v":""},{"$f":"IF(CPMS2!D485=\"\",\"\",CPMS2!D485)","v":""},"",{"$f":"IF(COUNTIF(AE$2:AE463,AE463)=1,AE463,\"\")","v":""},"","","",null,null,null,null,null,null,null,null,null,null,null,null,null,null,null,null,null,null,null,null,null,null,null,null,null,null,null,null,null,null,null,null,null,{"$f":"+IF(BV463=\"\",\"\",MAX(BQ$1:BQ462)+1)","v":""},{"$f":"IF(OpLimit!B485=\"\",\"\",OpLimit!B485)","v":""},{"$f":"IF(OpLimit!C485=\"\",\"\",OpLimit!C485)","v":""},{"$f":"IF(OpLimit!E485=\"\",\"\",OpLimit!E485)","v":""},"",{"$f":"IF(COUNTIF(BU$2:BU463,BU463)=1,BU463,\"\")","v":""},"","","",""]
[null,null,null,null,null,null,null,null,null,null,{"$f":"+IF(N464=\"\",\"\",MAX(K$1:K463)+1)","v":""},{"$f":"IF(CPMS1!E486=\"\",\"\",CPMS1!E486)","v":""},"",{"$f":"IF(COUNTIF(L$2:L464,L464)=1,L464,\"\")","v":""},null,null,null,null,{"$f":"+IF(W464=\"\",\"\",MAX(S$1:S463)+1)","v":""},{"$f":"IF(Adhes_Sealer_Deadener!B486=\"\",\"\",Adhes_Sealer_Deadener!B486)","v":""},{"$f":"IF(Adhes_Sealer_Deadener!C486=\"\",\"\",Adhes_Sealer_Deadener!C486)","v":""},{"$f":"+Table10[[#This Row],[Column1]]&Table10[[#This Row],[Column2]]","v":""},{"$f":"IF(COUNTIF(V$2:V464,V464)=1,V464,\"\")","v":""},"","",null,{"$f":"+IF(AF464=\"\",\"\",MAX(AA$1:AA463)+1)","v":""},{"$f":"IF(CPMS2!B486=\"\",\"\",CPMS2!B486)","v":""},{"$f":"IF(CPMS2!C486=\"\",\"\",CPMS2!C486)","v":""},{"$f":"IF(CPMS2!D486=\"\",\"\",CPMS2!D486)","v":""},"",{"$f":"IF(COUNTIF(AE$2:AE464,AE464)=1,AE464,\"\")","v":""},"","","",null,null,null,null,null,null,null,null,null,null,null,null,null,null,null,null,null,null,null,null,null,null,null,null,null,null,null,null,null,null,null,null,null,{"$f":"+IF(BV464=\"\",\"\",MAX(BQ$1:BQ463)+1)","v":""},{"$f":"IF(OpLimit!B486=\"\",\"\",OpLimit!B486)","v":""},{"$f":"IF(OpLimit!C486=\"\",\"\",OpLimit!C486)","v":""},{"$f":"IF(OpLimit!E486=\"\",\"\",OpLimit!E486)","v":""},"",{"$f":"IF(COUNTIF(BU$2:BU464,BU464)=1,BU464,\"\")","v":""},"","","",""]
[null,null,null,null,null,null,null,null,null,null,{"$f":"+IF(N465=\"\",\"\",MAX(K$1:K464)+1)","v":""},{"$f":"IF(CPMS1!E487=\"\",\"\",CPMS1!E487)","v":""},"",{"$f":"IF(COUNTIF(L$2:L465,L465)=1,L465,\"\")","v":""},null,null,null,null,{"$f":"+IF(W465=\"\",\"\",MAX(S$1:S464)+1)","v":""},{"$f":"IF(Adhes_Sealer_Deadener!B487=\"\",\"\",Adhes_Sealer_Deadener!B487)","v":""},{"$f":"IF(Adhes_Sealer_Deadener!C487=\"\",\"\",Adhes_Sealer_Deadener!C487)","v":""},{"$f":"+Table10[[#This Row],[Column1]]&Table10[[#This Row],[Column2]]","v":""},{"$f":"IF(COUNTIF(V$2:V465,V465)=1,V465,\"\")","v":""},"","",null,{"$f":"+IF(AF465=\"\",\"\",MAX(AA$1:AA464)+1)","v":""},{"$f":"IF(CPMS2!B487=\"\",\"\",CPMS2!B487)","v":""},{"$f":"IF(CPMS2!C487=\"\",\"\",CPMS2!C487)","v":""},{"$f":"IF(CPMS2!D487=\"\",\"\",CPMS2!D487)","v":""},"",{"$f":"IF(COUNTIF(AE$2:AE465,AE465)=1,AE465,\"\")","v":""},"","","",null,null,null,null,null,null,null,null,null,null,null,null,null,null,null,null,null,null,null,null,null,null,null,null,null,null,null,null,null,null,null,null,null,{"$f":"+IF(BV465=\"\",\"\",MAX(BQ$1:BQ464)+1)","v":""},{"$f":"IF(OpLimit!B487=\"\",\"\",OpLimit!B487)","v":""},{"$f":"IF(OpLimit!C487=\"\",\"\",OpLimit!C487)","v":""},{"$f":"IF(OpLimit!E487=\"\",\"\",OpLimit!E487)","v":""},"",{"$f":"IF(COUNTIF(BU$2:BU465,BU465)=1,BU465,\"\")","v":""},"","","",""]
[null,null,null,null,null,null,null,null,null,null,{"$f":"+IF(N466=\"\",\"\",MAX(K$1:K465)+1)","v":""},{"$f":"IF(CPMS1!E488=\"\",\"\",CPMS1!E488)","v":""},"",{"$f":"IF(COUNTIF(L$2:L466,L466)=1,L466,\"\")","v":""},null,null,null,null,{"$f":"+IF(W466=\"\",\"\",MAX(S$1:S465)+1)","v":""},{"$f":"IF(Adhes_Sealer_Deadener!B488=\"\",\"\",Adhes_Sealer_Deadener!B488)","v":""},{"$f":"IF(Adhes_Sealer_Deadener!C488=\"\",\"\",Adhes_Sealer_Deadener!C488)","v":""},{"$f":"+Table10[[#This Row],[Column1]]&Table10[[#This Row],[Column2]]","v":""},{"$f":"IF(COUNTIF(V$2:V466,V466)=1,V466,\"\")","v":""},"","",null,{"$f":"+IF(AF466=\"\",\"\",MAX(AA$1:AA465)+1)","v":""},{"$f":"IF(CPMS2!B488=\"\",\"\",CPMS2!B488)","v":""},{"$f":"IF(CPMS2!C488=\"\",\"\",CPMS2!C488)","v":""},{"$f":"IF(CPMS2!D488=\"\",\"\",CPMS2!D488)","v":""},"",{"$f":"IF(COUNTIF(AE$2:AE466,AE466)=1,AE466,\"\")","v":""},"","","",null,null,null,null,null,null,null,null,null,null,null,null,null,null,null,null,null,null,null,null,null,null,null,null,null,null,null,null,null,null,null,null,null,{"$f":"+IF(BV466=\"\",\"\",MAX(BQ$1:BQ465)+1)","v":""},{"$f":"IF(OpLimit!B488=\"\",\"\",OpLimit!B488)","v":""},{"$f":"IF(OpLimit!C488=\"\",\"\",OpLimit!C488)","v":""},{"$f":"IF(OpLimit!E488=\"\",\"\",OpLimit!E488)","v":""},"",{"$f":"IF(COUNTIF(BU$2:BU466,BU466)=1,BU466,\"\")","v":""},"","","",""]
[null,null,null,null,null,null,null,null,null,null,{"$f":"+IF(N467=\"\",\"\",MAX(K$1:K466)+1)","v":""},{"$f":"IF(CPMS1!E489=\"\",\"\",CPMS1!E489)","v":""},"",{"$f":"IF(COUNTIF(L$2:L467,L467)=1,L467,\"\")","v":""},null,null,null,null,{"$f":"+IF(W467=\"\",\"\",MAX(S$1:S466)+1)","v":""},{"$f":"IF(Adhes_Sealer_Deadener!B489=\"\",\"\",Adhes_Sealer_Deadener!B489)","v":""},{"$f":"IF(Adhes_Sealer_Deadener!C489=\"\",\"\",Adhes_Sealer_Deadener!C489)","v":""},{"$f":"+Table10[[#This Row],[Column1]]&Table10[[#This Row],[Column2]]","v":""},{"$f":"IF(COUNTIF(V$2:V467,V467)=1,V467,\"\")","v":""},"","",null,{"$f":"+IF(AF467=\"\",\"\",MAX(AA$1:AA466)+1)","v":""},{"$f":"IF(CPMS2!B489=\"\",\"\",CPMS2!B489)","v":""},{"$f":"IF(CPMS2!C489=\"\",\"\",CPMS2!C489)","v":""},{"$f":"IF(CPMS2!D489=\"\",\"\",CPMS2!D489)","v":""},"",{"$f":"IF(COUNTIF(AE$2:AE467,AE467)=1,AE467,\"\")","v":""},"","","",null,null,null,null,null,null,null,null,null,null,null,null,null,null,null,null,null,null,null,null,null,null,null,null,null,null,null,null,null,null,null,null,null,{"$f":"+IF(BV467=\"\",\"\",MAX(BQ$1:BQ466)+1)","v":""},{"$f":"IF(OpLimit!B489=\"\",\"\",OpLimit!B489)","v":""},{"$f":"IF(OpLimit!C489=\"\",\"\",OpLimit!C489)","v":""},{"$f":"IF(OpLimit!E489=\"\",\"\",OpLimit!E489)","v":""},"",{"$f":"IF(COUNTIF(BU$2:BU467,BU467)=1,BU467,\"\")","v":""},"","","",""]
[null,null,null,null,null,null,null,null,null,null,{"$f":"+IF(N468=\"\",\"\",MAX(K$1:K467)+1)","v":""},{"$f":"IF(CPMS1!E490=\"\",\"\",CPMS1!E490)","v":""},"",{"$f":"IF(COUNTIF(L$2:L468,L468)=1,L468,\"\")","v":""},null,null,null,null,{"$f":"+IF(W468=\"\",\"\",MAX(S$1:S467)+1)","v":""},{"$f":"IF(Adhes_Sealer_Deadener!B490=\"\",\"\",Adhes_Sealer_Deadener!B490)","v":""},{"$f":"IF(Adhes_Sealer_Deadener!C490=\"\",\"\",Adhes_Sealer_Deadener!C490)","v":""},{"$f":"+Table10[[#This Row],[Column1]]&Table10[[#This Row],[Column2]]","v":""},{"$f":"IF(COUNTIF(V$2:V468,V468)=1,V468,\"\")","v":""},"","",null,{"$f":"+IF(AF468=\"\",\"\",MAX(AA$1:AA467)+1)","v":""},{"$f":"IF(CPMS2!B490=\"\",\"\",CPMS2!B490)","v":""},{"$f":"IF(CPMS2!C490=\"\",\"\",CPMS2!C490)","v":""},{"$f":"IF(CPMS2!D490=\"\",\"\",CPMS2!D490)","v":""},"",{"$f":"IF(COUNTIF(AE$2:AE468,AE468)=1,AE468,\"\")","v":""},"","","",null,null,null,null,null,null,null,null,null,null,null,null,null,null,null,null,null,null,null,null,null,null,null,null,null,null,null,null,null,null,null,null,null,{"$f":"+IF(BV468=\"\",\"\",MAX(BQ$1:BQ467)+1)","v":""},{"$f":"IF(OpLimit!B490=\"\",\"\",OpLimit!B490)","v":""},{"$f":"IF(OpLimit!C490=\"\",\"\",OpLimit!C490)","v":""},{"$f":"IF(OpLimit!E490=\"\",\"\",OpLimit!E490)","v":""},"",{"$f":"IF(COUNTIF(BU$2:BU468,BU468)=1,BU468,\"\")","v":""},"","","",""]
[null,null,null,null,null,null,null,null,null,null,{"$f":"+IF(N469=\"\",\"\",MAX(K$1:K468)+1)","v":""},{"$f":"IF(CPMS1!E491=\"\",\"\",CPMS1!E491)","v":""},"",{"$f":"IF(COUNTIF(L$2:L469,L469)=1,L469,\"\")","v":""},null,null,null,null,{"$f":"+IF(W469=\"\",\"\",MAX(S$1:S468)+1)","v":""},{"$f":"IF(Adhes_Sealer_Deadener!B491=\"\",\"\",Adhes_Sealer_Deadener!B491)","v":""},{"$f":"IF(Adhes_Sealer_Deadener!C491=\"\",\"\",Adhes_Sealer_Deadener!C491)","v":""},{"$f":"+Table10[[#This Row],[Column1]]&Table10[[#This Row],[Column2]]","v":""},{"$f":"IF(COUNTIF(V$2:V469,V469)=1,V469,\"\")","v":""},{"$f":"+IFERROR(INDEX($T$2:$T$478,MATCH(ROW()-ROW($X$1),$S$2:$S$478,0)),\"\")","v":""},{"$f":"+IFERROR(INDEX($U$2:$U$478,MATCH(ROW()-ROW($X$1),$S$2:$S$478,0)),\"\")","v":""},null,{"$f":"+IF(AF469=\"\",\"\",MAX(AA$1:AA468)+1)","v":""},{"$f":"IF(CPMS2!B491=\"\",\"\",CPMS2!B491)","v":""},{"$f":"IF(CPMS2!C491=\"\",\"\",CPMS2!C491)","v":""},{"$f":"IF(CPMS2!D491=\"\",\"\",CPMS2!D491)","v":""},"",{"$f":"IF(COUNTIF(AE$2:AE469,AE469)=1,AE469,\"\")","v":""},"","","",null,null,null,null,null,null,null,null,null,null,null,null,null,null,null,null,null,null,null,null,null,null,null,null,null,null,null,null,null,null,null,null,null,{"$f":"+IF(BV469=\"\",\"\",MAX(BQ$1:BQ468)+1)","v":""},{"$f":"IF(OpLimit!B491=\"\",\"\",OpLimit!B491)","v":""},{"$f":"IF(OpLimit!C491=\"\",\"\",OpLimit!C491)","v":""},{"$f":"IF(OpLimit!E491=\"\",\"\",OpLimit!E491)","v":""},"",{"$f":"IF(COUNTIF(BU$2:BU469,BU469)=1,BU469,\"\")","v":""},"","","",""]
[null,null,null,null,null,null,null,null,null,null,{"$f":"+IF(N470=\"\",\"\",MAX(K$1:K469)+1)","v":""},{"$f":"IF(CPMS1!E492=\"\",\"\",CPMS1!E492)","v":""},"",{"$f":"IF(COUNTIF(L$2:L470,L470)=1,L470,\"\")","v":""},null,null,null,null,{"$f":"+IF(W470=\"\",\"\",MAX(S$1:S469)+1)","v":""},{"$f":"IF(Adhes_Sealer_Deadener!B492=\"\",\"\",Adhes_Sealer_Deadener!B492)","v":""},{"$f":"IF(Adhes_Sealer_Deadener!C492=\"\",\"\",Adhes_Sealer_Deadener!C492)","v":""},{"$f":"+Table10[[#This Row],[Column1]]&Table10[[#This Row],[Column2]]","v":""},{"$f":"IF(COUNTIF(V$2:V470,V470)=1,V470,\"\")","v":""},"","",null,{"$f":"+IF(AF470=\"\",\"\",MAX(AA$1:AA469)+1)","v":""},{"$f":"IF(CPMS2!B492=\"\",\"\",CPMS2!B492)","v":""},{"$f":"IF(CPMS2!C492=\"\",\"\",CPMS2!C492)","v":""},{"$f":"IF(CPMS2!D492=\"\",\"\",CPMS2!D492)","v":""},"",{"$f":"IF(COUNTIF(AE$2:AE470,AE470)=1,AE470,\"\")","v":""},"","","",null,null,null,null,null,null,null,null,null,null,null,null,null,null,null,null,null,null,null,null,null,null,null,null,null,null,null,null,null,null,null,null,null,{"$f":"+IF(BV470=\"\",\"\",MAX(BQ$1:BQ469)+1)","v":""},{"$f":"IF(OpLimit!B492=\"\",\"\",OpLimit!B492)","v":""},{"$f":"IF(OpLimit!C492=\"\",\"\",OpLimit!C492)","v":""},{"$f":"IF(OpLimit!E492=\"\",\"\",OpLimit!E492)","v":""},"",{"$f":"IF(COUNTIF(BU$2:BU470,BU470)=1,BU470,\"\")","v":""},"","","",""]
[null,null,null,null,null,null,null,null,null,null,{"$f":"+IF(N471=\"\",\"\",MAX(K$1:K470)+1)","v":""},{"$f":"IF(CPMS1!E493=\"\",\"\",CPMS1!E493)","v":""},"",{"$f":"IF(COUNTIF(L$2:L471,L471)=1,L471,\"\")","v":""},null,null,null,null,{"$f":"+IF(W471=\"\",\"\",MAX(S$1:S470)+1)","v":""},{"$f":"IF(Adhes_Sealer_Deadener!B493=\"\",\"\",Adhes_Sealer_Deadener!B493)","v":""},{"$f":"IF(Adhes_Sealer_Deadener!C493=\"\",\"\",Adhes_Sealer_Deadener!C493)","v":""},{"$f":"+Table10[[#This Row],[Column1]]&Table10[[#This Row],[Column2]]","v":""},{"$f":"IF(COUNTIF(V$2:V471,V471)=1,V471,\"\")","v":""},"","",null,{"$f":"+IF(AF471=\"\",\"\",MAX(AA$1:AA470)+1)","v":""},{"$f":"IF(CPMS2!B493=\"\",\"\",CPMS2!B493)","v":""},{"$f":"IF(CPMS2!C493=\"\",\"\",CPMS2!C493)","v":""},{"$f":"IF(CPMS2!D493=\"\",\"\",CPMS2!D493)","v":""},"",{"$f":"IF(COUNTIF(AE$2:AE471,AE471)=1,AE471,\"\")","v":""},"","","",null,null,null,null,null,null,null,null,null,null,null,null,null,null,null,null,null,null,null,null,null,null,null,null,null,null,null,null,null,null,null,null,null,{"$f":"+IF(BV471=\"\",\"\",MAX(BQ$1:BQ470)+1)","v":""},{"$f":"IF(OpLimit!B493=\"\",\"\",OpLimit!B493)","v":""},{"$f":"IF(OpLimit!C493=\"\",\"\",OpLimit!C493)","v":""},{"$f":"IF(OpLimit!E493=\"\",\"\",OpLimit!E493)","v":""},"",{"$f":"IF(COUNTIF(BU$2:BU471,BU471)=1,BU471,\"\")","v":""},"","","",""]
[null,null,null,null,null,null,null,null,null,null,{"$f":"+IF(N472=\"\",\"\",MAX(K$1:K471)+1)","v":""},{"$f":"IF(CPMS1!E494=\"\",\"\",CPMS1!E494)","v":""},"",{"$f":"IF(COUNTIF(L$2:L472,L472)=1,L472,\"\")","v":""},null,null,null,null,{"$f":"+IF(W472=\"\",\"\",MAX(S$1:S471)+1)","v":""},{"$f":"IF(Adhes_Sealer_Deadener!B494=\"\",\"\",Adhes_Sealer_Deadener!B494)","v":""},{"$f":"IF(Adhes_Sealer_Deadener!C494=\"\",\"\",Adhes_Sealer_Deadener!C494)","v":""},{"$f":"+Table10[[#This Row],[Column1]]&Table10[[#This Row],[Column2]]","v":""},{"$f":"IF(COUNTIF(V$2:V472,V472)=1,V472,\"\")","v":""},"","",null,{"$f":"+IF(AF472=\"\",\"\",MAX(AA$1:AA471)+1)","v":""},{"$f":"IF(CPMS2!B494=\"\",\"\",CPMS2!B494)","v":""},{"$f":"IF(CPMS2!C494=\"\",\"\",CPMS2!C494)","v":""},{"$f":"IF(CPMS2!D494=\"\",\"\",CPMS2!D494)","v":""},"",{"$f":"IF(COUNTIF(AE$2:AE472,AE472)=1,AE472,\"\")","v":""},"","","",null,null,null,null,null,null,null,null,null,null,null,null,null,null,null,null,null,null,null,null,null,null,null,null,null,null,null,null,null,null,null,null,null,{"$f":"+IF(BV472=\"\",\"\",MAX(BQ$1:BQ471)+1)","v":""},{"$f":"IF(OpLimit!B494=\"\",\"\",OpLimit!B494)","v":""},{"$f":"IF(OpLimit!C494=\"\",\"\",OpLimit!C494)","v":""},{"$f":"IF(OpLimit!E494=\"\",\"\",OpLimit!E494)","v":""},"",{"$f":"IF(COUNTIF(BU$2:BU472,BU472)=1,BU472,\"\")","v":""},"","","",""]
[null,null,null,null,null,null,null,null,null,null,{"$f":"+IF(N473=\"\",\"\",MAX(K$1:K472)+1)","v":""},{"$f":"IF(CPMS1!E495=\"\",\"\",CPMS1!E495)","v":""},"",{"$f":"IF(COUNTIF(L$2:L473,L473)=1,L473,\"\")","v":""},null,null,null,null,{"$f":"+IF(W473=\"\",\"\",MAX(S$1:S472)+1)","v":""},{"$f":"IF(Adhes_Sealer_Deadener!B495=\"\",\"\",Adhes_Sealer_Deadener!B495)","v":""},{"$f":"IF(Adhes_Sealer_Deadener!C495=\"\",\"\",Adhes_Sealer_Deadener!C495)","v":""},{"$f":"+Table10[[#This Row],[Column1]]&Table10[[#This Row],[Column2]]","v":""},{"$f":"IF(COUNTIF(V$2:V473,V473)=1,V473,\"\")","v":""},"","",null,{"$f":"+IF(AF473=\"\",\"\",MAX(AA$1:AA472)+1)","v":""},{"$f":"IF(CPMS2!B495=\"\",\"\",CPMS2!B495)","v":""},{"$f":"IF(CPMS2!C495=\"\",\"\",CPMS2!C495)","v":""},{"$f":"IF(CPMS2!D495=\"\",\"\",CPMS2!D495)","v":""},"",{"$f":"IF(COUNTIF(AE$2:AE473,AE473)=1,AE473,\"\")","v":""},"","","",null,null,null,null,null,null,null,null,null,null,null,null,null,null,null,null,null,null,null,null,null,null,null,null,null,null,null,null,null,null,null,null,null,{"$f":"+IF(BV473=\"\",\"\",MAX(BQ$1:BQ472)+1)","v":""},{"$f":"IF(OpLimit!B495=\"\",\"\",OpLimit!B495)","v":""},{"$f":"IF(OpLimit!C495=\"\",\"\",OpLimit!C495)","v":""},{"$f":"IF(OpLimit!E495=\"\",\"\",OpLimit!E495)","v":""},"",{"$f":"IF(COUNTIF(BU$2:BU473,BU473)=1,BU473,\"\")","v":""},"","","",""]
[null,null,null,null,null,null,null,null,null,null,{"$f":"+IF(N474=\"\",\"\",MAX(K$1:K473)+1)","v":""},{"$f":"IF(CPMS1!E496=\"\",\"\",CPMS1!E496)","v":""},"",{"$f":"IF(COUNTIF(L$2:L474,L474)=1,L474,\"\")","v":""},null,null,null,null,{"$f":"+IF(W474=\"\",\"\",MAX(S$1:S473)+1)","v":""},{"$f":"IF(Adhes_Sealer_Deadener!B496=\"\",\"\",Adhes_Sealer_Deadener!B496)","v":""},{"$f":"IF(Adhes_Sealer_Deadener!C496=\"\",\"\",Adhes_Sealer_Deadener!C496)","v":""},{"$f":"+Table10[[#This Row],[Column1]]&Table10[[#This Row],[Column2]]","v":""},{"$f":"IF(COUNTIF(V$2:V474,V474)=1,V474,\"\")","v":""},"","",null,{"$f":"+IF(AF474=\"\",\"\",MAX(AA$1:AA473)+1)","v":""},{"$f":"IF(CPMS2!B496=\"\",\"\",CPMS2!B496)","v":""},{"$f":"IF(CPMS2!C496=\"\",\"\",CPMS2!C496)","v":""},{"$f":"IF(CPMS2!D496=\"\",\"\",CPMS2!D496)","v":""},"",{"$f":"IF(COUNTIF(AE$2:AE474,AE474)=1,AE474,\"\")","v":""},"","","",null,null,null,null,null,null,null,null,null,null,null,null,null,null,null,null,null,null,null,null,null,null,null,null,null,null,null,null,null,null,null,null,null,{"$f":"+IF(BV474=\"\",\"\",MAX(BQ$1:BQ473)+1)","v":""},{"$f":"IF(OpLimit!B496=\"\",\"\",OpLimit!B496)","v":""},{"$f":"IF(OpLimit!C496=\"\",\"\",OpLimit!C496)","v":""},{"$f":"IF(OpLimit!E496=\"\",\"\",OpLimit!E496)","v":""},"",{"$f":"IF(COUNTIF(BU$2:BU474,BU474)=1,BU474,\"\")","v":""},"","","",""]
[null,null,null,null,null,null,null,null,null,null,{"$f":"+IF(N475=\"\",\"\",MAX(K$1:K474)+1)","v":""},{"$f":"IF(CPMS1!E497=\"\",\"\",CPMS1!E497)","v":""},"",{"$f":"IF(COUNTIF(L$2:L475,L475)=1,L475,\"\")","v":""},null,null,null,null,{"$f":"+IF(W475=\"\",\"\",MAX(S$1:S474)+1)","v":""},{"$f":"IF(Adhes_Sealer_Deadener!B497=\"\",\"\",Adhes_Sealer_Deadener!B497)","v":""},{"$f":"IF(Adhes_Sealer_Deadener!C497=\"\",\"\",Adhes_Sealer_Deadener!C497)","v":""},{"$f":"+Table10[[#This Row],[Column1]]&Table10[[#This Row],[Column2]]","v":""},{"$f":"IF(COUNTIF(V$2:V475,V475)=1,V475,\"\")","v":""},"","",null,{"$f":"+IF(AF475=\"\",\"\",MAX(AA$1:AA474)+1)","v":""},{"$f":"IF(CPMS2!B497=\"\",\"\",CPMS2!B497)","v":""},{"$f":"IF(CPMS2!C497=\"\",\"\",CPMS2!C497)","v":""},{"$f":"IF(CPMS2!D497=\"\",\"\",CPMS2!D497)","v":""},"",{"$f":"IF(COUNTIF(AE$2:AE475,AE475)=1,AE475,\"\")","v":""},"","","",null,null,null,null,null,null,null,null,null,null,null,null,null,null,null,null,null,null,null,null,null,null,null,null,null,null,null,null,null,null,null,null,null,{"$f":"+IF(BV475=\"\",\"\",MAX(BQ$1:BQ474)+1)","v":""},{"$f":"IF(OpLimit!B497=\"\",\"\",OpLimit!B497)","v":""},{"$f":"IF(OpLimit!C497=\"\",\"\",OpLimit!C497)","v":""},{"$f":"IF(OpLimit!E497=\"\",\"\",OpLimit!E497)","v":""},"",{"$f":"IF(COUNTIF(BU$2:BU475,BU475)=1,BU475,\"\")","v":""},"","","",""]
[null,null,null,null,null,null,null,null,null,null,{"$f":"+IF(N476=\"\",\"\",MAX(K$1:K475)+1)","v":""},{"$f":"IF(CPMS1!E498=\"\",\"\",CPMS1!E498)","v":""},"",{"$f":"IF(COUNTIF(L$2:L476,L476)=1,L476,\"\")","v":""},null,null,null,null,{"$f":"+IF(W476=\"\",\"\",MAX(S$1:S475)+1)","v":""},{"$f":"IF(Adhes_Sealer_Deadener!B498=\"\",\"\",Adhes_Sealer_Deadener!B498)","v":""},{"$f":"IF(Adhes_Sealer_Deadener!C498=\"\",\"\",Adhes_Sealer_Deadener!C498)","v":""},{"$f":"+Table10[[#This Row],[Column1]]&Table10[[#This Row],[Column2]]","v":""},{"$f":"IF(COUNTIF(V$2:V476,V476)=1,V476,\"\")","v":""},"","",null,{"$f":"+IF(AF476=\"\",\"\",MAX(AA$1:AA475)+1)","v":""},{"$f":"IF(CPMS2!B498=\"\",\"\",CPMS2!B498)","v":""},{"$f":"IF(CPMS2!C498=\"\",\"\",CPMS2!C498)","v":""},{"$f":"IF(CPMS2!D498=\"\",\"\",CPMS2!D498)","v":""},"",{"$f":"IF(COUNTIF(AE$2:AE476,AE476)=1,AE476,\"\")","v":""},"","","",null,null,null,null,null,null,null,null,null,null,null,null,null,null,null,null,null,null,null,null,null,null,null,null,null,null,null,null,null,null,null,null,null,{"$f":"+IF(BV476=\"\",\"\",MAX(BQ$1:BQ475)+1)","v":""},{"$f":"IF(OpLimit!B498=\"\",\"\",OpLimit!B498)","v":""},{"$f":"IF(OpLimit!C498=\"\",\"\",OpLimit!C498)","v":""},{"$f":"IF(OpLimit!E498=\"\",\"\",OpLimit!E498)","v":""},"",{"$f":"IF(COUNTIF(BU$2:BU476,BU476)=1,BU476,\"\")","v":""},"","","",""]
[null,null,null,null,null,null,null,null,null,null,{"$f":"+IF(N477=\"\",\"\",MAX(K$1:K476)+1)","v":""},{"$f":"IF(CPMS1!E499=\"\",\"\",CPMS1!E499)","v":""},"",{"$f":"IF(COUNTIF(L$2:L477,L477)=1,L477,\"\")","v":""},null,null,null,null,{"$f":"+IF(W477=\"\",\"\",MAX(S$1:S476)+1)","v":""},{"$f":"IF(Adhes_Sealer_Deadener!B499=\"\",\"\",Adhes_Sealer_Deadener!B499)","v":""},{"$f":"IF(Adhes_Sealer_Deadener!C499=\"\",\"\",Adhes_Sealer_Deadener!C499)","v":""},{"$f":"+Table10[[#This Row],[Column1]]&Table10[[#This Row],[Column2]]","v":""},{"$f":"IF(COUNTIF(V$2:V477,V477)=1,V477,\"\")","v":""},"","",null,{"$f":"+IF(AF477=\"\",\"\",MAX(AA$1:AA476)+1)","v":""},{"$f":"IF(CPMS2!B499=\"\",\"\",CPMS2!B499)","v":""},{"$f":"IF(CPMS2!C499=\"\",\"\",CPMS2!C499)","v":""},{"$f":"IF(CPMS2!D499=\"\",\"\",CPMS2!D499)","v":""},"",{"$f":"IF(COUNTIF(AE$2:AE477,AE477)=1,AE477,\"\")","v":""},"","","",null,null,null,null,null,null,null,null,null,null,null,null,null,null,null,null,null,null,null,null,null,null,null,null,null,null,null,null,null,null,null,null,null,{"$f":"+IF(BV477=\"\",\"\",MAX(BQ$1:BQ476)+1)","v":""},{"$f":"IF(OpLimit!B499=\"\",\"\",OpLimit!B499)","v":""},{"$f":"IF(OpLimit!C499=\"\",\"\",OpLimit!C499)","v":""},{"$f":"IF(OpLimit!E499=\"\",\"\",OpLimit!E499)","v":""},"",{"$f":"IF(COUNTIF(BU$2:BU477,BU477)=1,BU477,\"\")","v":""},"","","",""]
[null,null,null,null,null,null,null,null,null,null,{"$f":"+IF(N478=\"\",\"\",MAX(K$1:K477)+1)","v":""},{"$f":"IF(CPMS1!E500=\"\",\"\",CPMS1!E500)","v":""},"",{"$f":"IF(COUNTIF(L$2:L478,L478)=1,L478,\"\")","v":""},null,null,null,null,{"$f":"+IF(W478=\"\",\"\",MAX(S$1:S477)+1)","v":""},{"$f":"IF(Adhes_Sealer_Deadener!B500=\"\",\"\",Adhes_Sealer_Deadener!B500)","v":""},{"$f":"IF(Adhes_Sealer_Deadener!C500=\"\",\"\",Adhes_Sealer_Deadener!C500)","v":""},{"$f":"+Table10[[#This Row],[Column1]]&Table10[[#This Row],[Column2]]","v":""},{"$f":"IF(COUNTIF(V$2:V478,V478)=1,V478,\"\")","v":""},"","",null,{"$f":"+IF(AF478=\"\",\"\",MAX(AA$1:AA477)+1)","v":""},{"$f":"IF(CPMS2!B500=\"\",\"\",CPMS2!B500)","v":""},{"$f":"IF(CPMS2!C500=\"\",\"\",CPMS2!C500)","v":""},{"$f":"IF(CPMS2!D500=\"\",\"\",CPMS2!D500)","v":""},"",{"$f":"IF(COUNTIF(AE$2:AE478,AE478)=1,AE478,\"\")","v":""},"","","",null,null,null,null,null,null,null,null,null,null,null,null,null,null,null,null,null,null,null,null,null,null,null,null,null,null,null,null,null,null,null,null,null,{"$f":"+IF(BV478=\"\",\"\",MAX(BQ$1:BQ477)+1)","v":""},{"$f":"IF(OpLimit!B500=\"\",\"\",OpLimit!B500)","v":""},{"$f":"IF(OpLimit!C500=\"\",\"\",OpLimit!C500)","v":""},{"$f":"IF(OpLimit!E500=\"\",\"\",OpLimit!E500)","v":""},"",{"$f":"IF(COUNTIF(BU$2:BU478,BU478)=1,BU478,\"\")","v":""},"","","",""]

{"sheet":"Welcome","index":1,"n_rows":27,"n_cols":2,"rows_kept":27,"cut":false,"hidden":false,"merged":[]}
["DO NOT REMOVE OR EDIT INFORMATION IN THIS SECTION\nFOR INTERNAL USE ONLY"]
["Template Name","63.3120(f) Semiannual Compliance Report (Spreadsheet Template)"]
["CitationID","63.3120(f)"]
["Template Version","v2.06"]
["Last Updated Date",45392]
[null,"OMB Control Number: 2060-0518       Expiration Date: 04/30/2019"]
[null,"For further Paperwork Reduction Act information see:                                                                                                                                                                                                                                                                                                                                                                                                                                                                                                                                      https://www.epa.gov/electronic-reporting-air-emissions/paperwork-reduction-act-pra-cedri-and-ert"]
[null,"40 CFR Part 63, Subpart IIII National Emission Standards for Hazardous Air Pollutants: Surface Coating of Automobiles and Light-Duty Trucks  - §63.3120(f) Semiannual Compliance Report Spreadsheet Template"]
[null,"Welcome and Instructions"]
[null,"Purpose:"]
[null,"This spreadsheet template was designed by the U.S. EPA to facilitate Semiannual Compliance reporting for facilities subject under the 40 CFR part 63, subpart IIII regulation.  CEDRI is accessed through the EPA's Central Data Exchange (https://cdx.epa.gov)\n"]
[null,"Electronic reporting:"]
[null,"Electronic submission of Semiannual Compliance reports through the EPA's Compliance and Emissions Data Reporting (CEDRI) is required under §63.3120(f).\n"]
[null,"CEDRI is accessed through the EPA's Central Data Exchange: https://cdx.epa.gov\n"]
[null,"This spreadsheet template may be uploaded to CEDRI to fulfill the electronic reporting requirement under §63.3120.\n"]
[null,"Do not submit information you claim as confidential business information (CBI) to EPA via CEDRI. EPA will make all the information submitted through CEDRI available to the public without further notice to you. Anything submitted using CEDRI cannot later be claimed to be CBI. Furthermore, under CAA section 114(c) emissions data is not entitled to confidential treatment and requires EPA to make emissions data available to the public. Thus, emissions data will not be protected as CBI and will be made publicly available.\n"]
[null,"\nAlthough we do not expect persons to assert a claim of CBI, if persons wish to assert a CBI claim for some of the information in this report, you must submit a version of the report with the CBI omitted via CEDRI and submit a complete report, including any information claimed to be CBI, to EPA. The preferred method to receive CBI is for it to be transmitted electronically using email attachments, File Transfer Protocol, or other online file sharing services. Electronic submissions must be transmitted directly to the OAQPS CBI Office at the email address oaqpscbi@epa.gov to the attention of the Auto and Light Duty Truck Coatings Sector Lead. If assistance is needed with submitting large electronic files that exceed the file size limit for email attachments, and if you do not have your own file sharing service, please email oaqpscbi@epa.gov to request a file transfer link. If you cannot transmit the file electronically, you may send CBI information through the postal service to the following address:\n\nOAQPS Document Control Officer (C404-02)\nOAQPS, U.S. Environmental Protection Agency\nAttn:  Auto and Light Duty Truck Coatings Sector Lead\nResearch Triangle Park, North Carolina 27711 \n\n"]
[null,"IMPORTANT: The spreadsheet must be uploaded into CEDRI as a single ZIP file, which must include this Excel workbook and any related attachments that were referenced in the workbook (i.e., additional information file found in the \"Company_Information\" tab).\n\nNote: If you are uploading file attachments for your report, the uploaded files may be in any format (e.g., zip, docx, PDF). If you would like to include an Excel file(s) as an attachment, you must first zip the excel file(s) into a separate ZIP file to the master ZIP file that will be uploaded into CEDRI.\n\nOnce all data have been entered in the worksheet, combine this Excel workbook and all attachment files (including any ZIP file containing separate excel file(s), if applicable) into a single ZIP file for upload to CEDRI.\n"]
[null,"Template Navigation and Tabs to Complete:"]
[null,"Gray tabs:  The gray tabs (Company_Information and Compliance_Options) contain general information that is applicable to the Semiannual Report.  Completion of the gray tabs is required for every report. After completing the gray tabs, the spreadsheet may be saved as a site specific template to use in subsequent reports to limit subsequent data entry.  The information in the gray tab varies very little from one reporting period to the next, you would only need to review the data provided and update it if needed. The reporting period dates and the date of report will need to be changed for each submittal. The Company Record No. is a record key to limit the repetition of data across tabs and creates a link between the facility information and the individual data entries.  The Compliance_Option tab is used to create the picklist of operations for subsequent tabs. If an operation does not have an applicable compliance option, selection of \"No §63.3090 or §63.3091 Compliance Option is Applicable to this Operation\"  enables an operation to be included in the picklist without the appearance of an incomplete entry.\n"]
[null,"Red Tab: The red Certification tab should be completed for every report. If the answer to both question is Yes, or Yes and Not Applicable, no other tabs must be completed. \n"]
[null,"Yellow tabs:  Only complete a yellow tab if there was a deviation covered by the period in the semiannual report and the compliant coating compliance options were used. Only complete the yellow tab(s) that represent(s) the compliance option and operations used and where deviations occurred during the reporting period. The yellow tabs are Adhes_Sealer_Deadener, ElectroPrimerHAPContent, Prim_Topcoat_Thinner, and TopPrim_WorkPractice.\n"]
[null,"Green Tabs: The green tabs are completed regardless of the compliance option. The two green tabs are Deviations_Work Practice Plans and Number_of_Deviations. The Number_of_Deviations tab is autocompleted based upon entry in Adhes_Sealer_Deadener, TopPrim_WorkPractice, ElectroPrimerHAPContent, and Deviations_Work_Practice_Plans.\n"]
[null,"Blue Tabs: The blue tabs are completed when the capture and control compliance options are used. The blue tabs are: Malfunction, ElectroPrimerCaptureControl, OpLimit, OpLimitSummary, CPMS1, CPMS2, CPMSSummary, and Description_of_Changes. The Malfunction, OpLimit, OpLimitSummary, WorkPractice, CPMS1, CPMS2, CPMSSummary incorporate both the requirements of §63.3120(a)(6) and (8) and should be completed for compliance with both sets of reporting criteria. \n "]
[null,"Some cells are linked to previous tabs or are calculations dependent upon data entry.  Many cells have a dynamic dropdown which changes based upon entries in preceding tabs, these dropdown menus will be blank if the appropriate data has not been completed.\n\nCells with calculated results are locked and colored light pink."]
[null,"Within the tabs, example rows are colored light red (rows 14 through 23), and the XML tags (row 13) are colored green.  These rows are locked; no data entry is made in these rows. \n"]
[null,"Certification:\nThe certification of truth and accuracy statements of §63.3120(a)(3)(ii) is completed during the process of submission to CEDRI.  "]

{"sheet":"Company_Information","index":2,"n_rows":33,"n_cols":16,"rows_kept":33,"cut":false,"hidden":false,"merged":[]}
[null,"DO NOT REMOVE OR EDIT INFORMATION IN THIS SECTION FOR INTERNAL USE ONLY"]
[null,"Template Name",{"$f":"+Welcome!B2","v":"63.3120(f) Semiannual Compliance Report (Spreadsheet Template)"}]
[null,"CitationID",{"$f":"+Welcome!B3","v":"63.3120(f)"}]
[null,"Template Version",{"$f":"+Welcome!B4","v":"v2.06"}]
[null,"Last Updated Date",{"$f":"+Welcome!B5","v":45392}]
[null,"OMB Control Number: 2060-0518       Expiration Date: 04/30/2019"]
[null,"40 CFR Part 63, Subpart IIII National Emission Standards for Hazardous Air Pollutants: Surface Coating of Automobiles and Light-Duty Trucks - §63.3120(f) Semiannual Compliance Report Spreadsheet Template"]
[null,"\n"]
[]
[]
[null,null,"SITE INFORMATION",null,null,null,null,null,null,null,null,"REPORTING PERIOD",null,null,"ADDITIONAL INFORMATION"]
[null,"Company Record No.\n(Field value will automatically generate if a value is not entered.)","Company Name \n(§63.3120(a)(3)(i))","Facility Name\n(§63.3120(a)(3)(i))","Address \n(§63.3120(a)(3)(i))","Address 2 ","City\n(§63.3120(a)(3)(i))","County","State Abbreviation \n(§63.3120(a)(3)(i))","Zip Code \n(§63.3120(a)(3)(i))","Responsible Agency Facility ID \n(State Facility Identifier)","Date of Report \n(§63.3120(a)(3)(iii))","Beginning Date of Reporting Period  \n(§63.3120(a)(3)(iii))","Ending Date of Reporting Period   (§63.3120(a)(3)(iii))","Please enter any additional information.","Enter associated file name reference. "]
[null,"RecordId","CompanyName","FacilityName","AddressLine1","AddressLine2","CityName","CountyName","StateName","ZIPCode","StateFacID","ReportDate","PeriodStartDate","PeriodEndDate","AddInfo","AddFile"]
[null,"e.g.: 1","e.g.: ABC Company","e.g.: Pittsburgh Works","e.g.: 123 Main Street","e.g.: Suite 100","e.g.: Brooklyn","e.g.: Kings","e.g.: NY","e.g.: 11221","e.g.: 9145555555","e.g.: 7/2/2017","e.g.: 1/1/2017","e.g.: 6/30/2017",null,"e.g.: addlinfo.zip "]
[null,"e.g.:","e.g.:","e.g.:","e.g.:","e.g.:","e.g.:","e.g.:","e.g.:","e.g.:","e.g.:","e.g.:","e.g.:","e.g.:","e.g.:","e.g.:"]
[null,"e.g.:","e.g.:","e.g.:","e.g.:","e.g.:","e.g.:","e.g.:","e.g.:","e.g.:","e.g.:","e.g.:","e.g.:","e.g.:","e.g.:","e.g.:"]
[null,"e.g.:","e.g.:","e.g.:","e.g.:","e.g.:","e.g.:","e.g.:","e.g.:","e.g.:","e.g.:","e.g.:","e.g.:","e.g.:","e.g.:","e.g.:"]
[null,"e.g.:","e.g.:","e.g.:","e.g.:","e.g.:","e.g.:","e.g.:","e.g.:","e.g.:","e.g.:","e.g.:","e.g.:","e.g.:","e.g.:","e.g.:"]
[null,"e.g.:","e.g.:","e.g.:","e.g.:","e.g.:","e.g.:","e.g.:","e.g.:","e.g.:","e.g.:","e.g.:","e.g.:","e.g.:","e.g.:","e.g.:"]
[null,"e.g.:","e.g.:","e.g.:","e.g.:","e.g.:","e.g.:","e.g.:","e.g.:","e.g.:","e.g.:","e.g.:","e.g.:","e.g.:","e.g.:","e.g.:"]
[null,"e.g.:","e.g.:","e.g.:","e.g.:","e.g.:","e.g.:","e.g.:","e.g.:","e.g.:","e.g.:","e.g.:","e.g.:","e.g.:","e.g.:","e.g.:"]
[null,"e.g.:","e.g.:","e.g.:","e.g.:","e.g.:","e.g.:","e.g.:","e.g.:","e.g.:","e.g.:","e.g.:","e.g.:","e.g.:","e.g.:","e.g.:"]
[null,"e.g.:","e.g.:","e.g.:","e.g.:","e.g.:","e.g.:","e.g.:","e.g.:","e.g.:","e.g.:","e.g.:","e.g.:","e.g.:","e.g.:","e.g.:"]
[null,{"$f":"+IF(C24=\"\",\"\",MAX(B23:B$23)+1)","v":""}]
[null,{"$f":"+IF(C25=\"\",\"\",MAX(B$23:B24)+1)","v":""}]
[null,{"$f":"+IF(C26=\"\",\"\",MAX(B$23:B25)+1)","v":""}]
[null,{"$f":"+IF(C27=\"\",\"\",MAX(B$23:B26)+1)","v":""}]
[null,{"$f":"+IF(C28=\"\",\"\",MAX(B$23:B27)+1)","v":""}]
[null,{"$f":"+IF(C29=\"\",\"\",MAX(B$23:B28)+1)","v":""}]
[null,{"$f":"+IF(C30=\"\",\"\",MAX(B$23:B29)+1)","v":""}]
[null,{"$f":"+IF(C31=\"\",\"\",MAX(B$23:B30)+1)","v":""}]
[null,{"$f":"+IF(C32=\"\",\"\",MAX(B$23:B31)+1)","v":""}]
[null,{"$f":"+IF(C33=\"\",\"\",MAX(B$23:B32)+1)","v":""}]

{"sheet":"Compliance_Options","index":3,"n_rows":23,"n_cols":4,"rows_kept":23,"cut":false,"hidden":false,"merged":[]}
[null,"DO NOT REMOVE OR EDIT INFORMATION IN THIS SECTION\nFOR INTERNAL USE ONLY"]
[null,"Template Name",{"$f":"+Welcome!B2","v":"63.3120(f) Semiannual Compliance Report (Spreadsheet Template)"}]
[null,"CitationID",{"$f":"+Welcome!B3","v":"63.3120(f)"}]
[null,"Template Version",{"$f":"+Welcome!B4","v":"v2.06"}]
[null,"Last Updated Date",{"$f":"+Welcome!B5","v":45392}]
[null,"OMB Control Number: 2060-0518       Expiration Date: 04/30/2019"]
[null,"40 CFR Part 63, Subpart IIII National Emission Standards for Hazardous Air Pollutants: Surface Coating of Automobiles and Light-Duty Trucks -"]
[null," §63.3120(f) Semiannual Compliance Report Spreadsheet Template"]
[]
[]
[]
[null,"Company Record No.\n(Select from dropdown)","Name of Operation \n(§63.3120(a)(3)(iv))","Identification of the Compliance Option or Options Specified in §63.3090(b) or §63.3091(b) Used on Each Operation \nDuring the Reporting Period \n(§63.3120(a)(3)(iv)) \n(Select from dropdown)"]
[null,"RecordId","OperationName","ComplianceOptions"]
[null,"e.g.: 1","e.g.: West Coating","e.g.: §63.3090(a) and (e) with §63.3092(a) - New source, combined Electrodeposition primer, primer-surfacer, topcoat, final repair, glass bonding primer and glass bonding adhesive operations, plus all coatings and thinners, except for deadener materials and for adhesive and sealer materials that are not components of glass bonding systems, used in coating operations added to the affected source, including sources that would otherwise have been subject to subparts MMMM or PPPP"]
[null,"e.g.: 1","e.g.: East Coating","e.g.: §63.3090(c) – New source, adhesive and sealer"]
[null,"e.g.:","e.g.:","e.g.:"]
[null,"e.g.:","e.g.:","e.g.:"]
[null,"e.g.:","e.g.:","e.g.:"]
[null,"e.g.:","e.g.:","e.g.:"]
[null,"e.g.:","e.g.:","e.g.:"]
[null,"e.g.:","e.g.:","e.g.:"]
[null,"e.g.:","e.g.:","e.g.:"]
[null,"e.g.:","e.g.:","e.g.:"]

{"sheet":"Certification","index":4,"n_rows":33,"n_cols":4,"rows_kept":33,"cut":false,"hidden":false,"merged":[]}
[null,"DO NOT REMOVE OR EDIT INFORMATION IN THIS SECTION\nFOR INTERNAL USE ONLY"]
[null,"Template Name",{"$f":"+Welcome!B2","v":"63.3120(f) Semiannual Compliance Report (Spreadsheet Template)"}]
[null,"CitationID",{"$f":"+Welcome!B3","v":"63.3120(f)"}]
[null,"Template Version",{"$f":"+Welcome!B4","v":"v2.06"}]
[null,"Last Updated Date",{"$f":"+Welcome!B5","v":45392}]
[null,"OMB Control Number: 2060-0518       Expiration Date: 04/30/2019"]
[null,"40 CFR Part 63, Subpart IIII National Emission Standards for Hazardous Air Pollutants: Surface Coating of Automobiles and Light-Duty Trucks"]
[null,"§63.3120(f) Semiannual Compliance Report Spreadsheet Template"]
[]
[]
[]
[null,"Company Record No.\n(Autofilled)","Is the statement \"There were no deviations from the emission limits, operating limits, or work practices in §§63.3090, 63.3091, 63.3092, 63.3093, and 63.3094 during this reporting period.\" applicable?  \n(§63.3120(a)(4)) \n(Select from dropdown)","If you used control devices to comply with the emission limits, is the statement \"There were no CPMS out-of-control periods [per §63.8(c)(7)] during this reporting period.\" applicable?\n(§63.3120(a)(4))\n(Select from dropdown)"]
[null,"RecordId","PeriodDeviationFlag","CpmsAddonComplianceFlag"]
[null,"e.g.: 1"]
[]
[]
[]
[]
[]
[]
[]
[]
[]
[null,{"$f":"IF(Lists!C2=\"\",\"\",Lists!C2)","v":""}]
[null,{"$f":"IF(Lists!C3=\"\",\"\",Lists!C3)","v":""}]
[null,{"$f":"IF(Lists!C4=\"\",\"\",Lists!C4)","v":""}]
[null,{"$f":"IF(Lists!C5=\"\",\"\",Lists!C5)","v":""}]
[null,{"$f":"IF(Lists!C6=\"\",\"\",Lists!C6)","v":""}]
[null,{"$f":"IF(Lists!C7=\"\",\"\",Lists!C7)","v":""}]
[null,{"$f":"IF(Lists!C8=\"\",\"\",Lists!C8)","v":""}]
[null,{"$f":"IF(Lists!C9=\"\",\"\",Lists!C9)","v":""}]
[null,{"$f":"IF(Lists!C10=\"\",\"\",Lists!C10)","v":""}]
[null,{"$f":"IF(Lists!C11=\"\",\"\",Lists!C11)","v":""}]

{"sheet":"Adhes_Sealer_Deadener","index":5,"n_rows":500,"n_cols":14,"rows_kept":500,"cut":false,"hidden":false,"merged":[]}
[null,"DO NOT REMOVE OR EDIT INFORMATION IN THIS SECTION\nFOR INTERNAL USE ONLY"]
[null,"Template Name",{"$f":"+Welcome!B2","v":"63.3120(f) Semiannual Compliance Report (Spreadsheet Template)"}]
[null,"CitationID",{"$f":"+Welcome!B3","v":"63.3120(f)"}]
[null,"Template Version",{"$f":"+Welcome!B4","v":"v2.06"}]
[null,"Last Updated Date",{"$f":"+Welcome!B5","v":45392}]
[null,"OMB Control Number: 2060-0518       Expiration Date: 04/30/2019"]
[null,"40 CFR Part 63, Subpart IIII National Emission Standards for Hazardous Air Pollutants: Surface Coating of Automobiles and Light Duty Trucks - §63.3120(f) Semiannual Compliance Report Spreadsheet Template"]
[null,"\n"]
[]
[]
[]
[null,"Company Record No.\n(Autofilled)","Affected Source or Equipment\n(§63.3120(a)(5)(v))\n(Autofilled)","Company Record No. and Affected Source or Equipment\n(§63.3120(a)(5)(v))\n(Select from dropdown)","Start Date of Each Month the Monthly Average HAP Content  Exceeded Emission Limit  \n(§63.3120(a)(5)(i))","End Date of Each Month the Monthly Average HAP Content Exceeded Emission Limit \n(§63.3120(a)(5)(i))","Volume of Each Adhesive, Sealer, or Deadener Material (Multiple materials possible in each row)\n(§63.3120(a)(5)(ii))","Units for Volume\n(§63.3120(a)(5)(ii))","Organic HAP Content of Each Adhesive, Sealer, or Deadener Material \n(§63.3120(a)(5)(ii))","Units for Organic HAP Content\n(§63.3120(a)(5)(ii))","Calculation of Average Monthly HAP Content for Month in which Deviation Occurred (Same units as Column J)\n(§63.3120(a)(5)(iii))","Reason for Deviation  \n(§63.3120(a)(5)(iv))","Estimate of Quantity of Organic HAP Emitted Over the Emission Limit \n(kg or lb)\n(§63.3120(a)(5)(v))","Method Used to Estimate Emissions\n(§63.3120(a)(5)(v))"]
[null,"RecordId","AffectedSource","AffectedSourceCompanyRecord","UseStartDate","UseEndDate","VolAdhes","VolUnits","HAPContentDeadener","OrganicUnits","AvgMonthHapContent","DeviationCause","OrganicHAP","EstEmissionsMethod"]
[null,"e.g.: 1","e.g.: East Coating","e.g.: 1 East Coating","e.g.: 3/1/2019","e.g.: 3/31/2019","e.g.: 13.0 A-352, 14.25 Sealer A ","e.g. Liters","e.g.: 0.22 A-352, 0.76 Sealer A","e.g.: kg HAP/kg","e.g.: 1.2","e.g.: Process Problems","e.g.: 5.25 kg","e.g.: engineering calculations"]
[null,"e.g.:","e.g.:","e.g.:","e.g.:","e.g.:","e.g.:","e.g.:","e.g.:","e.g.:","e.g.:","e.g.:","e.g.:","e.g.:"]
[null,"e.g.:","e.g.:","e.g.:","e.g.:","e.g.:","e.g.:","e.g.:","e.g.:","e.g.:","e.g.:","e.g.:","e.g.:","e.g.:"]
[null,"e.g.:","e.g.:","e.g.:","e.g.:","e.g.:","e.g.:","e.g.:","e.g.:","e.g.:","e.g.:","e.g.:","e.g.:","e.g.:"]
[null,"e.g.:","e.g.:","e.g.:","e.g.:","e.g.:","e.g.:","e.g.:","e.g.:","e.g.:","e.g.:","e.g.:","e.g.:","e.g.:"]
[null,"e.g.:","e.g.:","e.g.:","e.g.:","e.g.:","e.g.:","e.g.:","e.g.:","e.g.:","e.g.:","e.g.:","e.g.:","e.g.:"]
[null,"e.g.:","e.g.:","e.g.:","e.g.:","e.g.:","e.g.:","e.g.:","e.g.:","e.g.:","e.g.:","e.g.:","e.g.:","e.g.:"]
[null,"e.g.:","e.g.:","e.g.:","e.g.:","e.g.:","e.g.:","e.g.:","e.g.:","e.g.:","e.g.:","e.g.:","e.g.:","e.g.:"]
[null,"e.g.:","e.g.:","e.g.:","e.g.:","e.g.:","e.g.:","e.g.:","e.g.:","e.g.:","e.g.:","e.g.:","e.g.:","e.g.:"]
[null,"e.g.:","e.g.:","e.g.:","e.g.:","e.g.:","e.g.:","e.g.:","e.g.:","e.g.:","e.g.:","e.g.:","e.g.:","e.g.:"]
[null,{"$f":"IF(D24=\"\",\"\",VLOOKUP($D24,Lists!$AP$2:$AR$78,2,FALSE))","v":""},{"$f":"IF(D24=\"\",\"\",VLOOKUP($D24,Lists!$AP$2:$AR$78,3,FALSE))","v":""}]
[null,{"$f":"IF(D25=\"\",\"\",VLOOKUP($D25,Lists!$AP$2:$AR$78,2,FALSE))","v":""},{"$f":"IF(D25=\"\",\"\",VLOOKUP($D25,Lists!$AP$2:$AR$78,3,FALSE))","v":""}]
[null,{"$f":"IF(D26=\"\",\"\",VLOOKUP($D26,Lists!$AP$2:$AR$78,2,FALSE))","v":""},{"$f":"IF(D26=\"\",\"\",VLOOKUP($D26,Lists!$AP$2:$AR$78,3,FALSE))","v":""}]
[null,{"$f":"IF(D27=\"\",\"\",VLOOKUP($D27,Lists!$AP$2:$AR$78,2,FALSE))","v":""},{"$f":"IF(D27=\"\",\"\",VLOOKUP($D27,Lists!$AP$2:$AR$78,3,FALSE))","v":""}]
[null,{"$f":"IF(D28=\"\",\"\",VLOOKUP($D28,Lists!$AP$2:$AR$78,2,FALSE))","v":""},{"$f":"IF(D28=\"\",\"\",VLOOKUP($D28,Lists!$AP$2:$AR$78,3,FALSE))","v":""}]
[null,{"$f":"IF(D29=\"\",\"\",VLOOKUP($D29,Lists!$AP$2:$AR$78,2,FALSE))","v":""},{"$f":"IF(D29=\"\",\"\",VLOOKUP($D29,Lists!$AP$2:$AR$78,3,FALSE))","v":""}]
[null,{"$f":"IF(D30=\"\",\"\",VLOOKUP($D30,Lists!$AP$2:$AR$78,2,FALSE))","v":""},{"$f":"IF(D30=\"\",\"\",VLOOKUP($D30,Lists!$AP$2:$AR$78,3,FALSE))","v":""}]
[null,{"$f":"IF(D31=\"\",\"\",VLOOKUP($D31,Lists!$AP$2:$AR$78,2,FALSE))","v":""},{"$f":"IF(D31=\"\",\"\",VLOOKUP($D31,Lists!$AP$2:$AR$78,3,FALSE))","v":""}]
[null,{"$f":"IF(D32=\"\",\"\",VLOOKUP($D32,Lists!$AP$2:$AR$78,2,FALSE))","v":""},{"$f":"IF(D32=\"\",\"\",VLOOKUP($D32,Lists!$AP$2:$AR$78,3,FALSE))","v":""}]
[null,{"$f":"IF(D33=\"\",\"\",VLOOKUP($D33,Lists!$AP$2:$AR$78,2,FALSE))","v":""},{"$f":"IF(D33=\"\",\"\",VLOOKUP($D33,Lists!$AP$2:$AR$78,3,FALSE))","v":""}]
[null,{"$f":"IF(D34=\"\",\"\",VLOOKUP($D34,Lists!$AP$2:$AR$78,2,FALSE))","v":""},{"$f":"IF(D34=\"\",\"\",VLOOKUP($D34,Lists!$AP$2:$AR$78,3,FALSE))","v":""}]
[null,{"$f":"IF(D35=\"\",\"\",VLOOKUP($D35,Lists!$AP$2:$AR$78,2,FALSE))","v":""},{"$f":"IF(D35=\"\",\"\",VLOOKUP($D35,Lists!$AP$2:$AR$78,3,FALSE))","v":""}]
[null,{"$f":"IF(D36=\"\",\"\",VLOOKUP($D36,Lists!$AP$2:$AR$78,2,FALSE))","v":""},{"$f":"IF(D36=\"\",\"\",VLOOKUP($D36,Lists!$AP$2:$AR$78,3,FALSE))","v":""}]
[null,{"$f":"IF(D37=\"\",\"\",VLOOKUP($D37,Lists!$AP$2:$AR$78,2,FALSE))","v":""},{"$f":"IF(D37=\"\",\"\",VLOOKUP($D37,Lists!$AP$2:$AR$78,3,FALSE))","v":""}]
[null,{"$f":"IF(D38=\"\",\"\",VLOOKUP($D38,Lists!$AP$2:$AR$78,2,FALSE))","v":""},{"$f":"IF(D38=\"\",\"\",VLOOKUP($D38,Lists!$AP$2:$AR$78,3,FALSE))","v":""}]
[null,{"$f":"IF(D39=\"\",\"\",VLOOKUP($D39,Lists!$AP$2:$AR$78,2,FALSE))","v":""},{"$f":"IF(D39=\"\",\"\",VLOOKUP($D39,Lists!$AP$2:$AR$78,3,FALSE))","v":""}]
[null,{"$f":"IF(D40=\"\",\"\",VLOOKUP($D40,Lists!$AP$2:$AR$78,2,FALSE))","v":""},{"$f":"IF(D40=\"\",\"\",VLOOKUP($D40,Lists!$AP$2:$AR$78,3,FALSE))","v":""}]
[null,{"$f":"IF(D41=\"\",\"\",VLOOKUP($D41,Lists!$AP$2:$AR$78,2,FALSE))","v":""},{"$f":"IF(D41=\"\",\"\",VLOOKUP($D41,Lists!$AP$2:$AR$78,3,FALSE))","v":""}]
[null,{"$f":"IF(D42=\"\",\"\",VLOOKUP($D42,Lists!$AP$2:$AR$78,2,FALSE))","v":""},{"$f":"IF(D42=\"\",\"\",VLOOKUP($D42,Lists!$AP$2:$AR$78,3,FALSE))","v":""}]
[null,{"$f":"IF(D43=\"\",\"\",VLOOKUP($D43,Lists!$AP$2:$AR$78,2,FALSE))","v":""},{"$f":"IF(D43=\"\",\"\",VLOOKUP($D43,Lists!$AP$2:$AR$78,3,FALSE))","v":""}]
[null,{"$f":"IF(D44=\"\",\"\",VLOOKUP($D44,Lists!$AP$2:$AR$78,2,FALSE))","v":""},{"$f":"IF(D44=\"\",\"\",VLOOKUP($D44,Lists!$AP$2:$AR$78,3,FALSE))","v":""}]
[null,{"$f":"IF(D45=\"\",\"\",VLOOKUP($D45,Lists!$AP$2:$AR$78,2,FALSE))","v":""},{"$f":"IF(D45=\"\",\"\",VLOOKUP($D45,Lists!$AP$2:$AR$78,3,FALSE))","v":""}]
[null,{"$f":"IF(D46=\"\",\"\",VLOOKUP($D46,Lists!$AP$2:$AR$78,2,FALSE))","v":""},{"$f":"IF(D46=\"\",\"\",VLOOKUP($D46,Lists!$AP$2:$AR$78,3,FALSE))","v":""}]
[null,{"$f":"IF(D47=\"\",\"\",VLOOKUP($D47,Lists!$AP$2:$AR$78,2,FALSE))","v":""},{"$f":"IF(D47=\"\",\"\",VLOOKUP($D47,Lists!$AP$2:$AR$78,3,FALSE))","v":""}]
[null,{"$f":"IF(D48=\"\",\"\",VLOOKUP($D48,Lists!$AP$2:$AR$78,2,FALSE))","v":""},{"$f":"IF(D48=\"\",\"\",VLOOKUP($D48,Lists!$AP$2:$AR$78,3,FALSE))","v":""}]
[null,{"$f":"IF(D49=\"\",\"\",VLOOKUP($D49,Lists!$AP$2:$AR$78,2,FALSE))","v":""},{"$f":"IF(D49=\"\",\"\",VLOOKUP($D49,Lists!$AP$2:$AR$78,3,FALSE))","v":""}]
[null,{"$f":"IF(D50=\"\",\"\",VLOOKUP($D50,Lists!$AP$2:$AR$78,2,FALSE))","v":""},{"$f":"IF(D50=\"\",\"\",VLOOKUP($D50,Lists!$AP$2:$AR$78,3,FALSE))","v":""}]
[null,{"$f":"IF(D51=\"\",\"\",VLOOKUP($D51,Lists!$AP$2:$AR$78,2,FALSE))","v":""},{"$f":"IF(D51=\"\",\"\",VLOOKUP($D51,Lists!$AP$2:$AR$78,3,FALSE))","v":""}]
[null,{"$f":"IF(D52=\"\",\"\",VLOOKUP($D52,Lists!$AP$2:$AR$78,2,FALSE))","v":""},{"$f":"IF(D52=\"\",\"\",VLOOKUP($D52,Lists!$AP$2:$AR$78,3,FALSE))","v":""}]
[null,{"$f":"IF(D53=\"\",\"\",VLOOKUP($D53,Lists!$AP$2:$AR$78,2,FALSE))","v":""},{"$f":"IF(D53=\"\",\"\",VLOOKUP($D53,Lists!$AP$2:$AR$78,3,FALSE))","v":""}]
[null,{"$f":"IF(D54=\"\",\"\",VLOOKUP($D54,Lists!$AP$2:$AR$78,2,FALSE))","v":""},{"$f":"IF(D54=\"\",\"\",VLOOKUP($D54,Lists!$AP$2:$AR$78,3,FALSE))","v":""}]
[null,{"$f":"IF(D55=\"\",\"\",VLOOKUP($D55,Lists!$AP$2:$AR$78,2,FALSE))","v":""},{"$f":"IF(D55=\"\",\"\",VLOOKUP($D55,Lists!$AP$2:$AR$78,3,FALSE))","v":""}]
[null,{"$f":"IF(D56=\"\",\"\",VLOOKUP($D56,Lists!$AP$2:$AR$78,2,FALSE))","v":""},{"$f":"IF(D56=\"\",\"\",VLOOKUP($D56,Lists!$AP$2:$AR$78,3,FALSE))","v":""}]
[null,{"$f":"IF(D57=\"\",\"\",VLOOKUP($D57,Lists!$AP$2:$AR$78,2,FALSE))","v":""},{"$f":"IF(D57=\"\",\"\",VLOOKUP($D57,Lists!$AP$2:$AR$78,3,FALSE))","v":""}]
[null,{"$f":"IF(D58=\"\",\"\",VLOOKUP($D58,Lists!$AP$2:$AR$78,2,FALSE))","v":""},{"$f":"IF(D58=\"\",\"\",VLOOKUP($D58,Lists!$AP$2:$AR$78,3,FALSE))","v":""}]
[null,{"$f":"IF(D59=\"\",\"\",VLOOKUP($D59,Lists!$AP$2:$AR$78,2,FALSE))","v":""},{"$f":"IF(D59=\"\",\"\",VLOOKUP($D59,Lists!$AP$2:$AR$78,3,FALSE))","v":""}]
[null,{"$f":"IF(D60=\"\",\"\",VLOOKUP($D60,Lists!$AP$2:$AR$78,2,FALSE))","v":""},{"$f":"IF(D60=\"\",\"\",VLOOKUP($D60,Lists!$AP$2:$AR$78,3,FALSE))","v":""}]
[null,{"$f":"IF(D61=\"\",\"\",VLOOKUP($D61,Lists!$AP$2:$AR$78,2,FALSE))","v":""},{"$f":"IF(D61=\"\",\"\",VLOOKUP($D61,Lists!$AP$2:$AR$78,3,FALSE))","v":""}]
[null,{"$f":"IF(D62=\"\",\"\",VLOOKUP($D62,Lists!$AP$2:$AR$78,2,FALSE))","v":""},{"$f":"IF(D62=\"\",\"\",VLOOKUP($D62,Lists!$AP$2:$AR$78,3,FALSE))","v":""}]
[null,{"$f":"IF(D63=\"\",\"\",VLOOKUP($D63,Lists!$AP$2:$AR$78,2,FALSE))","v":""},{"$f":"IF(D63=\"\",\"\",VLOOKUP($D63,Lists!$AP$2:$AR$78,3,FALSE))","v":""}]
[null,{"$f":"IF(D64=\"\",\"\",VLOOKUP($D64,Lists!$AP$2:$AR$78,2,FALSE))","v":""},{"$f":"IF(D64=\"\",\"\",VLOOKUP($D64,Lists!$AP$2:$AR$78,3,FALSE))","v":""}]
[null,{"$f":"IF(D65=\"\",\"\",VLOOKUP($D65,Lists!$AP$2:$AR$78,2,FALSE))","v":""},{"$f":"IF(D65=\"\",\"\",VLOOKUP($D65,Lists!$AP$2:$AR$78,3,FALSE))","v":""}]
[null,{"$f":"IF(D66=\"\",\"\",VLOOKUP($D66,Lists!$AP$2:$AR$78,2,FALSE))","v":""},{"$f":"IF(D66=\"\",\"\",VLOOKUP($D66,Lists!$AP$2:$AR$78,3,FALSE))","v":""}]
[null,{"$f":"IF(D67=\"\",\"\",VLOOKUP($D67,Lists!$AP$2:$AR$78,2,FALSE))","v":""},{"$f":"IF(D67=\"\",\"\",VLOOKUP($D67,Lists!$AP$2:$AR$78,3,FALSE))","v":""}]
[null,{"$f":"IF(D68=\"\",\"\",VLOOKUP($D68,Lists!$AP$2:$AR$78,2,FALSE))","v":""},{"$f":"IF(D68=\"\",\"\",VLOOKUP($D68,Lists!$AP$2:$AR$78,3,FALSE))","v":""}]
[null,{"$f":"IF(D69=\"\",\"\",VLOOKUP($D69,Lists!$AP$2:$AR$78,2,FALSE))","v":""},{"$f":"IF(D69=\"\",\"\",VLOOKUP($D69,Lists!$AP$2:$AR$78,3,FALSE))","v":""}]
[null,{"$f":"IF(D70=\"\",\"\",VLOOKUP($D70,Lists!$AP$2:$AR$78,2,FALSE))","v":""},{"$f":"IF(D70=\"\",\"\",VLOOKUP($D70,Lists!$AP$2:$AR$78,3,FALSE))","v":""}]
[null,{"$f":"IF(D71=\"\",\"\",VLOOKUP($D71,Lists!$AP$2:$AR$78,2,FALSE))","v":""},{"$f":"IF(D71=\"\",\"\",VLOOKUP($D71,Lists!$AP$2:$AR$78,3,FALSE))","v":""}]
[null,{"$f":"IF(D72=\"\",\"\",VLOOKUP($D72,Lists!$AP$2:$AR$78,2,FALSE))","v":""},{"$f":"IF(D72=\"\",\"\",VLOOKUP($D72,Lists!$AP$2:$AR$78,3,FALSE))","v":""}]
[null,{"$f":"IF(D73=\"\",\"\",VLOOKUP($D73,Lists!$AP$2:$AR$78,2,FALSE))","v":""},{"$f":"IF(D73=\"\",\"\",VLOOKUP($D73,Lists!$AP$2:$AR$78,3,FALSE))","v":""}]
[null,{"$f":"IF(D74=\"\",\"\",VLOOKUP($D74,Lists!$AP$2:$AR$78,2,FALSE))","v":""},{"$f":"IF(D74=\"\",\"\",VLOOKUP($D74,Lists!$AP$2:$AR$78,3,FALSE))","v":""}]
[null,{"$f":"IF(D75=\"\",\"\",VLOOKUP($D75,Lists!$AP$2:$AR$78,2,FALSE))","v":""},{"$f":"IF(D75=\"\",\"\",VLOOKUP($D75,Lists!$AP$2:$AR$78,3,FALSE))","v":""}]
[null,{"$f":"IF(D76=\"\",\"\",VLOOKUP($D76,Lists!$AP$2:$AR$78,2,FALSE))","v":""},{"$f":"IF(D76=\"\",\"\",VLOOKUP($D76,Lists!$AP$2:$AR$78,3,FALSE))","v":""}]
[null,{"$f":"IF(D77=\"\",\"\",VLOOKUP($D77,Lists!$AP$2:$AR$78,2,FALSE))","v":""},{"$f":"IF(D77=\"\",\"\",VLOOKUP($D77,Lists!$AP$2:$AR$78,3,FALSE))","v":""}]
[null,{"$f":"IF(D78=\"\",\"\",VLOOKUP($D78,Lists!$AP$2:$AR$78,2,FALSE))","v":""},{"$f":"IF(D78=\"\",\"\",VLOOKUP($D78,Lists!$AP$2:$AR$78,3,FALSE))","v":""}]
[null,{"$f":"IF(D79=\"\",\"\",VLOOKUP($D79,Lists!$AP$2:$AR$78,2,FALSE))","v":""},{"$f":"IF(D79=\"\",\"\",VLOOKUP($D79,Lists!$AP$2:$AR$78,3,FALSE))","v":""}]
[null,{"$f":"IF(D80=\"\",\"\",VLOOKUP($D80,Lists!$AP$2:$AR$78,2,FALSE))","v":""},{"$f":"IF(D80=\"\",\"\",VLOOKUP($D80,Lists!$AP$2:$AR$78,3,FALSE))","v":""}]
[null,{"$f":"IF(D81=\"\",\"\",VLOOKUP($D81,Lists!$AP$2:$AR$78,2,FALSE))","v":""},{"$f":"IF(D81=\"\",\"\",VLOOKUP($D81,Lists!$AP$2:$AR$78,3,FALSE))","v":""}]
[null,{"$f":"IF(D82=\"\",\"\",VLOOKUP($D82,Lists!$AP$2:$AR$78,2,FALSE))","v":""},{"$f":"IF(D82=\"\",\"\",VLOOKUP($D82,Lists!$AP$2:$AR$78,3,FALSE))","v":""}]
[null,{"$f":"IF(D83=\"\",\"\",VLOOKUP($D83,Lists!$AP$2:$AR$78,2,FALSE))","v":""},{"$f":"IF(D83=\"\",\"\",VLOOKUP($D83,Lists!$AP$2:$AR$78,3,FALSE))","v":""}]
[null,{"$f":"IF(D84=\"\",\"\",VLOOKUP($D84,Lists!$AP$2:$AR$78,2,FALSE))","v":""},{"$f":"IF(D84=\"\",\"\",VLOOKUP($D84,Lists!$AP$2:$AR$78,3,FALSE))","v":""}]
[null,{"$f":"IF(D85=\"\",\"\",VLOOKUP($D85,Lists!$AP$2:$AR$78,2,FALSE))","v":""},{"$f":"IF(D85=\"\",\"\",VLOOKUP($D85,Lists!$AP$2:$AR$78,3,FALSE))","v":""}]
[null,{"$f":"IF(D86=\"\",\"\",VLOOKUP($D86,Lists!$AP$2:$AR$78,2,FALSE))","v":""},{"$f":"IF(D86=\"\",\"\",VLOOKUP($D86,Lists!$AP$2:$AR$78,3,FALSE))","v":""}]
[null,{"$f":"IF(D87=\"\",\"\",VLOOKUP($D87,Lists!$AP$2:$AR$78,2,FALSE))","v":""},{"$f":"IF(D87=\"\",\"\",VLOOKUP($D87,Lists!$AP$2:$AR$78,3,FALSE))","v":""}]
[null,{"$f":"IF(D88=\"\",\"\",VLOOKUP($D88,Lists!$AP$2:$AR$78,2,FALSE))","v":""},{"$f":"IF(D88=\"\",\"\",VLOOKUP($D88,Lists!$AP$2:$AR$78,3,FALSE))","v":""}]
[null,{"$f":"IF(D89=\"\",\"\",VLOOKUP($D89,Lists!$AP$2:$AR$78,2,FALSE))","v":""},{"$f":"IF(D89=\"\",\"\",VLOOKUP($D89,Lists!$AP$2:$AR$78,3,FALSE))","v":""}]
[null,{"$f":"IF(D90=\"\",\"\",VLOOKUP($D90,Lists!$AP$2:$AR$78,2,FALSE))","v":""},{"$f":"IF(D90=\"\",\"\",VLOOKUP($D90,Lists!$AP$2:$AR$78,3,FALSE))","v":""}]
[null,{"$f":"IF(D91=\"\",\"\",VLOOKUP($D91,Lists!$AP$2:$AR$78,2,FALSE))","v":""},{"$f":"IF(D91=\"\",\"\",VLOOKUP($D91,Lists!$AP$2:$AR$78,3,FALSE))","v":""}]
[null,{"$f":"IF(D92=\"\",\"\",VLOOKUP($D92,Lists!$AP$2:$AR$78,2,FALSE))","v":""},{"$f":"IF(D92=\"\",\"\",VLOOKUP($D92,Lists!$AP$2:$AR$78,3,FALSE))","v":""}]
[null,{"$f":"IF(D93=\"\",\"\",VLOOKUP($D93,Lists!$AP$2:$AR$78,2,FALSE))","v":""},{"$f":"IF(D93=\"\",\"\",VLOOKUP($D93,Lists!$AP$2:$AR$78,3,FALSE))","v":""}]
[null,{"$f":"IF(D94=\"\",\"\",VLOOKUP($D94,Lists!$AP$2:$AR$78,2,FALSE))","v":""},{"$f":"IF(D94=\"\",\"\",VLOOKUP($D94,Lists!$AP$2:$AR$78,3,FALSE))","v":""}]
[null,{"$f":"IF(D95=\"\",\"\",VLOOKUP($D95,Lists!$AP$2:$AR$78,2,FALSE))","v":""},{"$f":"IF(D95=\"\",\"\",VLOOKUP($D95,Lists!$AP$2:$AR$78,3,FALSE))","v":""}]
[null,{"$f":"IF(D96=\"\",\"\",VLOOKUP($D96,Lists!$AP$2:$AR$78,2,FALSE))","v":""},{"$f":"IF(D96=\"\",\"\",VLOOKUP($D96,Lists!$AP$2:$AR$78,3,FALSE))","v":""}]
[null,{"$f":"IF(D97=\"\",\"\",VLOOKUP($D97,Lists!$AP$2:$AR$78,2,FALSE))","v":""},{"$f":"IF(D97=\"\",\"\",VLOOKUP($D97,Lists!$AP$2:$AR$78,3,FALSE))","v":""}]
[null,{"$f":"IF(D98=\"\",\"\",VLOOKUP($D98,Lists!$AP$2:$AR$78,2,FALSE))","v":""},{"$f":"IF(D98=\"\",\"\",VLOOKUP($D98,Lists!$AP$2:$AR$78,3,FALSE))","v":""}]
[null,{"$f":"IF(D99=\"\",\"\",VLOOKUP($D99,Lists!$AP$2:$AR$78,2,FALSE))","v":""},{"$f":"IF(D99=\"\",\"\",VLOOKUP($D99,Lists!$AP$2:$AR$78,3,FALSE))","v":""}]
[null,{"$f":"IF(D100=\"\",\"\",VLOOKUP($D100,Lists!$AP$2:$AR$78,2,FALSE))","v":""},{"$f":"IF(D100=\"\",\"\",VLOOKUP($D100,Lists!$AP$2:$AR$78,3,FALSE))","v":""}]
[null,{"$f":"IF(D101=\"\",\"\",VLOOKUP($D101,Lists!$AP$2:$AR$78,2,FALSE))","v":""},{"$f":"IF(D101=\"\",\"\",VLOOKUP($D101,Lists!$AP$2:$AR$78,3,FALSE))","v":""}]
[null,{"$f":"IF(D102=\"\",\"\",VLOOKUP($D102,Lists!$AP$2:$AR$78,2,FALSE))","v":""},{"$f":"IF(D102=\"\",\"\",VLOOKUP($D102,Lists!$AP$2:$AR$78,3,FALSE))","v":""}]
[null,{"$f":"IF(D103=\"\",\"\",VLOOKUP($D103,Lists!$AP$2:$AR$78,2,FALSE))","v":""},{"$f":"IF(D103=\"\",\"\",VLOOKUP($D103,Lists!$AP$2:$AR$78,3,FALSE))","v":""}]
[null,{"$f":"IF(D104=\"\",\"\",VLOOKUP($D104,Lists!$AP$2:$AR$78,2,FALSE))","v":""},{"$f":"IF(D104=\"\",\"\",VLOOKUP($D104,Lists!$AP$2:$AR$78,3,FALSE))","v":""}]
[null,{"$f":"IF(D105=\"\",\"\",VLOOKUP($D105,Lists!$AP$2:$AR$78,2,FALSE))","v":""},{"$f":"IF(D105=\"\",\"\",VLOOKUP($D105,Lists!$AP$2:$AR$78,3,FALSE))","v":""}]
[null,{"$f":"IF(D106=\"\",\"\",VLOOKUP($D106,Lists!$AP$2:$AR$78,2,FALSE))","v":""},{"$f":"IF(D106=\"\",\"\",VLOOKUP($D106,Lists!$AP$2:$AR$78,3,FALSE))","v":""}]
[null,{"$f":"IF(D107=\"\",\"\",VLOOKUP($D107,Lists!$AP$2:$AR$78,2,FALSE))","v":""},{"$f":"IF(D107=\"\",\"\",VLOOKUP($D107,Lists!$AP$2:$AR$78,3,FALSE))","v":""}]
[null,{"$f":"IF(D108=\"\",\"\",VLOOKUP($D108,Lists!$AP$2:$AR$78,2,FALSE))","v":""},{"$f":"IF(D108=\"\",\"\",VLOOKUP($D108,Lists!$AP$2:$AR$78,3,FALSE))","v":""}]
[null,{"$f":"IF(D109=\"\",\"\",VLOOKUP($D109,Lists!$AP$2:$AR$78,2,FALSE))","v":""},{"$f":"IF(D109=\"\",\"\",VLOOKUP($D109,Lists!$AP$2:$AR$78,3,FALSE))","v":""}]
[null,{"$f":"IF(D110=\"\",\"\",VLOOKUP($D110,Lists!$AP$2:$AR$78,2,FALSE))","v":""},{"$f":"IF(D110=\"\",\"\",VLOOKUP($D110,Lists!$AP$2:$AR$78,3,FALSE))","v":""}]
[null,{"$f":"IF(D111=\"\",\"\",VLOOKUP($D111,Lists!$AP$2:$AR$78,2,FALSE))","v":""},{"$f":"IF(D111=\"\",\"\",VLOOKUP($D111,Lists!$AP$2:$AR$78,3,FALSE))","v":""}]
[null,{"$f":"IF(D112=\"\",\"\",VLOOKUP($D112,Lists!$AP$2:$AR$78,2,FALSE))","v":""},{"$f":"IF(D112=\"\",\"\",VLOOKUP($D112,Lists!$AP$2:$AR$78,3,FALSE))","v":""}]
[null,{"$f":"IF(D113=\"\",\"\",VLOOKUP($D113,Lists!$AP$2:$AR$78,2,FALSE))","v":""},{"$f":"IF(D113=\"\",\"\",VLOOKUP($D113,Lists!$AP$2:$AR$78,3,FALSE))","v":""}]
[null,{"$f":"IF(D114=\"\",\"\",VLOOKUP($D114,Lists!$AP$2:$AR$78,2,FALSE))","v":""},{"$f":"IF(D114=\"\",\"\",VLOOKUP($D114,Lists!$AP$2:$AR$78,3,FALSE))","v":""}]
[null,{"$f":"IF(D115=\"\",\"\",VLOOKUP($D115,Lists!$AP$2:$AR$78,2,FALSE))","v":""},{"$f":"IF(D115=\"\",\"\",VLOOKUP($D115,Lists!$AP$2:$AR$78,3,FALSE))","v":""}]
[null,{"$f":"IF(D116=\"\",\"\",VLOOKUP($D116,Lists!$AP$2:$AR$78,2,FALSE))","v":""},{"$f":"IF(D116=\"\",\"\",VLOOKUP($D116,Lists!$AP$2:$AR$78,3,FALSE))","v":""}]
[null,{"$f":"IF(D117=\"\",\"\",VLOOKUP($D117,Lists!$AP$2:$AR$78,2,FALSE))","v":""},{"$f":"IF(D117=\"\",\"\",VLOOKUP($D117,Lists!$AP$2:$AR$78,3,FALSE))","v":""}]
[null,{"$f":"IF(D118=\"\",\"\",VLOOKUP($D118,Lists!$AP$2:$AR$78,2,FALSE))","v":""},{"$f":"IF(D118=\"\",\"\",VLOOKUP($D118,Lists!$AP$2:$AR$78,3,FALSE))","v":""}]
[null,{"$f":"IF(D119=\"\",\"\",VLOOKUP($D119,Lists!$AP$2:$AR$78,2,FALSE))","v":""},{"$f":"IF(D119=\"\",\"\",VLOOKUP($D119,Lists!$AP$2:$AR$78,3,FALSE))","v":""}]
[null,{"$f":"IF(D120=\"\",\"\",VLOOKUP($D120,Lists!$AP$2:$AR$78,2,FALSE))","v":""},{"$f":"IF(D120=\"\",\"\",VLOOKUP($D120,Lists!$AP$2:$AR$78,3,FALSE))","v":""}]
[null,{"$f":"IF(D121=\"\",\"\",VLOOKUP($D121,Lists!$AP$2:$AR$78,2,FALSE))","v":""},{"$f":"IF(D121=\"\",\"\",VLOOKUP($D121,Lists!$AP$2:$AR$78,3,FALSE))","v":""}]
[null,{"$f":"IF(D122=\"\",\"\",VLOOKUP($D122,Lists!$AP$2:$AR$78,2,FALSE))","v":""},{"$f":"IF(D122=\"\",\"\",VLOOKUP($D122,Lists!$AP$2:$AR$78,3,FALSE))","v":""}]
[null,{"$f":"IF(D123=\"\",\"\",VLOOKUP($D123,Lists!$AP$2:$AR$78,2,FALSE))","v":""},{"$f":"IF(D123=\"\",\"\",VLOOKUP($D123,Lists!$AP$2:$AR$78,3,FALSE))","v":""}]
[null,{"$f":"IF(D124=\"\",\"\",VLOOKUP($D124,Lists!$AP$2:$AR$78,2,FALSE))","v":""},{"$f":"IF(D124=\"\",\"\",VLOOKUP($D124,Lists!$AP$2:$AR$78,3,FALSE))","v":""}]
[null,{"$f":"IF(D125=\"\",\"\",VLOOKUP($D125,Lists!$AP$2:$AR$78,2,FALSE))","v":""},{"$f":"IF(D125=\"\",\"\",VLOOKUP($D125,Lists!$AP$2:$AR$78,3,FALSE))","v":""}]
[null,{"$f":"IF(D126=\"\",\"\",VLOOKUP($D126,Lists!$AP$2:$AR$78,2,FALSE))","v":""},{"$f":"IF(D126=\"\",\"\",VLOOKUP($D126,Lists!$AP$2:$AR$78,3,FALSE))","v":""}]
[null,{"$f":"IF(D127=\"\",\"\",VLOOKUP($D127,Lists!$AP$2:$AR$78,2,FALSE))","v":""},{"$f":"IF(D127=\"\",\"\",VLOOKUP($D127,Lists!$AP$2:$AR$78,3,FALSE))","v":""}]
[null,{"$f":"IF(D128=\"\",\"\",VLOOKUP($D128,Lists!$AP$2:$AR$78,2,FALSE))","v":""},{"$f":"IF(D128=\"\",\"\",VLOOKUP($D128,Lists!$AP$2:$AR$78,3,FALSE))","v":""}]
[null,{"$f":"IF(D129=\"\",\"\",VLOOKUP($D129,Lists!$AP$2:$AR$78,2,FALSE))","v":""},{"$f":"IF(D129=\"\",\"\",VLOOKUP($D129,Lists!$AP$2:$AR$78,3,FALSE))","v":""}]
[null,{"$f":"IF(D130=\"\",\"\",VLOOKUP($D130,Lists!$AP$2:$AR$78,2,FALSE))","v":""},{"$f":"IF(D130=\"\",\"\",VLOOKUP($D130,Lists!$AP$2:$AR$78,3,FALSE))","v":""}]
[null,{"$f":"IF(D131=\"\",\"\",VLOOKUP($D131,Lists!$AP$2:$AR$78,2,FALSE))","v":""},{"$f":"IF(D131=\"\",\"\",VLOOKUP($D131,Lists!$AP$2:$AR$78,3,FALSE))","v":""}]
[null,{"$f":"IF(D132=\"\",\"\",VLOOKUP($D132,Lists!$AP$2:$AR$78,2,FALSE))","v":""},{"$f":"IF(D132=\"\",\"\",VLOOKUP($D132,Lists!$AP$2:$AR$78,3,FALSE))","v":""}]
[null,{"$f":"IF(D133=\"\",\"\",VLOOKUP($D133,Lists!$AP$2:$AR$78,2,FALSE))","v":""},{"$f":"IF(D133=\"\",\"\",VLOOKUP($D133,Lists!$AP$2:$AR$78,3,FALSE))","v":""}]
[null,{"$f":"IF(D134=\"\",\"\",VLOOKUP($D134,Lists!$AP$2:$AR$78,2,FALSE))","v":""},{"$f":"IF(D134=\"\",\"\",VLOOKUP($D134,Lists!$AP$2:$AR$78,3,FALSE))","v":""}]
[null,{"$f":"IF(D135=\"\",\"\",VLOOKUP($D135,Lists!$AP$2:$AR$78,2,FALSE))","v":""},{"$f":"IF(D135=\"\",\"\",VLOOKUP($D135,Lists!$AP$2:$AR$78,3,FALSE))","v":""}]
[null,{"$f":"IF(D136=\"\",\"\",VLOOKUP($D136,Lists!$AP$2:$AR$78,2,FALSE))","v":""},{"$f":"IF(D136=\"\",\"\",VLOOKUP($D136,Lists!$AP$2:$AR$78,3,FALSE))","v":""}]
[null,{"$f":"IF(D137=\"\",\"\",VLOOKUP($D137,Lists!$AP$2:$AR$78,2,FALSE))","v":""},{"$f":"IF(D137=\"\",\"\",VLOOKUP($D137,Lists!$AP$2:$AR$78,3,FALSE))","v":""}]
[null,{"$f":"IF(D138=\"\",\"\",VLOOKUP($D138,Lists!$AP$2:$AR$78,2,FALSE))","v":""},{"$f":"IF(D138=\"\",\"\",VLOOKUP($D138,Lists!$AP$2:$AR$78,3,FALSE))","v":""}]
[null,{"$f":"IF(D139=\"\",\"\",VLOOKUP($D139,Lists!$AP$2:$AR$78,2,FALSE))","v":""},{"$f":"IF(D139=\"\",\"\",VLOOKUP($D139,Lists!$AP$2:$AR$78,3,FALSE))","v":""}]
[null,{"$f":"IF(D140=\"\",\"\",VLOOKUP($D140,Lists!$AP$2:$AR$78,2,FALSE))","v":""},{"$f":"IF(D140=\"\",\"\",VLOOKUP($D140,Lists!$AP$2:$AR$78,3,FALSE))","v":""}]
[null,{"$f":"IF(D141=\"\",\"\",VLOOKUP($D141,Lists!$AP$2:$AR$78,2,FALSE))","v":""},{"$f":"IF(D141=\"\",\"\",VLOOKUP($D141,Lists!$AP$2:$AR$78,3,FALSE))","v":""}]
[null,{"$f":"IF(D142=\"\",\"\",VLOOKUP($D142,Lists!$AP$2:$AR$78,2,FALSE))","v":""},{"$f":"IF(D142=\"\",\"\",VLOOKUP($D142,Lists!$AP$2:$AR$78,3,FALSE))","v":""}]
[null,{"$f":"IF(D143=\"\",\"\",VLOOKUP($D143,Lists!$AP$2:$AR$78,2,FALSE))","v":""},{"$f":"IF(D143=\"\",\"\",VLOOKUP($D143,Lists!$AP$2:$AR$78,3,FALSE))","v":""}]
[null,{"$f":"IF(D144=\"\",\"\",VLOOKUP($D144,Lists!$AP$2:$AR$78,2,FALSE))","v":""},{"$f":"IF(D144=\"\",\"\",VLOOKUP($D144,Lists!$AP$2:$AR$78,3,FALSE))","v":""}]
[null,{"$f":"IF(D145=\"\",\"\",VLOOKUP($D145,Lists!$AP$2:$AR$78,2,FALSE))","v":""},{"$f":"IF(D145=\"\",\"\",VLOOKUP($D145,Lists!$AP$2:$AR$78,3,FALSE))","v":""}]
[null,{"$f":"IF(D146=\"\",\"\",VLOOKUP($D146,Lists!$AP$2:$AR$78,2,FALSE))","v":""},{"$f":"IF(D146=\"\",\"\",VLOOKUP($D146,Lists!$AP$2:$AR$78,3,FALSE))","v":""}]
[null,{"$f":"IF(D147=\"\",\"\",VLOOKUP($D147,Lists!$AP$2:$AR$78,2,FALSE))","v":""},{"$f":"IF(D147=\"\",\"\",VLOOKUP($D147,Lists!$AP$2:$AR$78,3,FALSE))","v":""}]
[null,{"$f":"IF(D148=\"\",\"\",VLOOKUP($D148,Lists!$AP$2:$AR$78,2,FALSE))","v":""},{"$f":"IF(D148=\"\",\"\",VLOOKUP($D148,Lists!$AP$2:$AR$78,3,FALSE))","v":""}]
[null,{"$f":"IF(D149=\"\",\"\",VLOOKUP($D149,Lists!$AP$2:$AR$78,2,FALSE))","v":""},{"$f":"IF(D149=\"\",\"\",VLOOKUP($D149,Lists!$AP$2:$AR$78,3,FALSE))","v":""}]
[null,{"$f":"IF(D150=\"\",\"\",VLOOKUP($D150,Lists!$AP$2:$AR$78,2,FALSE))","v":""},{"$f":"IF(D150=\"\",\"\",VLOOKUP($D150,Lists!$AP$2:$AR$78,3,FALSE))","v":""}]
[null,{"$f":"IF(D151=\"\",\"\",VLOOKUP($D151,Lists!$AP$2:$AR$78,2,FALSE))","v":""},{"$f":"IF(D151=\"\",\"\",VLOOKUP($D151,Lists!$AP$2:$AR$78,3,FALSE))","v":""}]
[null,{"$f":"IF(D152=\"\",\"\",VLOOKUP($D152,Lists!$AP$2:$AR$78,2,FALSE))","v":""},{"$f":"IF(D152=\"\",\"\",VLOOKUP($D152,Lists!$AP$2:$AR$78,3,FALSE))","v":""}]
[null,{"$f":"IF(D153=\"\",\"\",VLOOKUP($D153,Lists!$AP$2:$AR$78,2,FALSE))","v":""},{"$f":"IF(D153=\"\",\"\",VLOOKUP($D153,Lists!$AP$2:$AR$78,3,FALSE))","v":""}]
[null,{"$f":"IF(D154=\"\",\"\",VLOOKUP($D154,Lists!$AP$2:$AR$78,2,FALSE))","v":""},{"$f":"IF(D154=\"\",\"\",VLOOKUP($D154,Lists!$AP$2:$AR$78,3,FALSE))","v":""}]
[null,{"$f":"IF(D155=\"\",\"\",VLOOKUP($D155,Lists!$AP$2:$AR$78,2,FALSE))","v":""},{"$f":"IF(D155=\"\",\"\",VLOOKUP($D155,Lists!$AP$2:$AR$78,3,FALSE))","v":""}]
[null,{"$f":"IF(D156=\"\",\"\",VLOOKUP($D156,Lists!$AP$2:$AR$78,2,FALSE))","v":""},{"$f":"IF(D156=\"\",\"\",VLOOKUP($D156,Lists!$AP$2:$AR$78,3,FALSE))","v":""}]
[null,{"$f":"IF(D157=\"\",\"\",VLOOKUP($D157,Lists!$AP$2:$AR$78,2,FALSE))","v":""},{"$f":"IF(D157=\"\",\"\",VLOOKUP($D157,Lists!$AP$2:$AR$78,3,FALSE))","v":""}]
[null,{"$f":"IF(D158=\"\",\"\",VLOOKUP($D158,Lists!$AP$2:$AR$78,2,FALSE))","v":""},{"$f":"IF(D158=\"\",\"\",VLOOKUP($D158,Lists!$AP$2:$AR$78,3,FALSE))","v":""}]
[null,{"$f":"IF(D159=\"\",\"\",VLOOKUP($D159,Lists!$AP$2:$AR$78,2,FALSE))","v":""},{"$f":"IF(D159=\"\",\"\",VLOOKUP($D159,Lists!$AP$2:$AR$78,3,FALSE))","v":""}]
[null,{"$f":"IF(D160=\"\",\"\",VLOOKUP($D160,Lists!$AP$2:$AR$78,2,FALSE))","v":""},{"$f":"IF(D160=\"\",\"\",VLOOKUP($D160,Lists!$AP$2:$AR$78,3,FALSE))","v":""}]
[null,{"$f":"IF(D161=\"\",\"\",VLOOKUP($D161,Lists!$AP$2:$AR$78,2,FALSE))","v":""},{"$f":"IF(D161=\"\",\"\",VLOOKUP($D161,Lists!$AP$2:$AR$78,3,FALSE))","v":""}]
[null,{"$f":"IF(D162=\"\",\"\",VLOOKUP($D162,Lists!$AP$2:$AR$78,2,FALSE))","v":""},{"$f":"IF(D162=\"\",\"\",VLOOKUP($D162,Lists!$AP$2:$AR$78,3,FALSE))","v":""}]
[null,{"$f":"IF(D163=\"\",\"\",VLOOKUP($D163,Lists!$AP$2:$AR$78,2,FALSE))","v":""},{"$f":"IF(D163=\"\",\"\",VLOOKUP($D163,Lists!$AP$2:$AR$78,3,FALSE))","v":""}]
[null,{"$f":"IF(D164=\"\",\"\",VLOOKUP($D164,Lists!$AP$2:$AR$78,2,FALSE))","v":""},{"$f":"IF(D164=\"\",\"\",VLOOKUP($D164,Lists!$AP$2:$AR$78,3,FALSE))","v":""}]
[null,{"$f":"IF(D165=\"\",\"\",VLOOKUP($D165,Lists!$AP$2:$AR$78,2,FALSE))","v":""},{"$f":"IF(D165=\"\",\"\",VLOOKUP($D165,Lists!$AP$2:$AR$78,3,FALSE))","v":""}]
[null,{"$f":"IF(D166=\"\",\"\",VLOOKUP($D166,Lists!$AP$2:$AR$78,2,FALSE))","v":""},{"$f":"IF(D166=\"\",\"\",VLOOKUP($D166,Lists!$AP$2:$AR$78,3,FALSE))","v":""}]
[null,{"$f":"IF(D167=\"\",\"\",VLOOKUP($D167,Lists!$AP$2:$AR$78,2,FALSE))","v":""},{"$f":"IF(D167=\"\",\"\",VLOOKUP($D167,Lists!$AP$2:$AR$78,3,FALSE))","v":""}]
[null,{"$f":"IF(D168=\"\",\"\",VLOOKUP($D168,Lists!$AP$2:$AR$78,2,FALSE))","v":""},{"$f":"IF(D168=\"\",\"\",VLOOKUP($D168,Lists!$AP$2:$AR$78,3,FALSE))","v":""}]
[null,{"$f":"IF(D169=\"\",\"\",VLOOKUP($D169,Lists!$AP$2:$AR$78,2,FALSE))","v":""},{"$f":"IF(D169=\"\",\"\",VLOOKUP($D169,Lists!$AP$2:$AR$78,3,FALSE))","v":""}]
[null,{"$f":"IF(D170=\"\",\"\",VLOOKUP($D170,Lists!$AP$2:$AR$78,2,FALSE))","v":""},{"$f":"IF(D170=\"\",\"\",VLOOKUP($D170,Lists!$AP$2:$AR$78,3,FALSE))","v":""}]
[null,{"$f":"IF(D171=\"\",\"\",VLOOKUP($D171,Lists!$AP$2:$AR$78,2,FALSE))","v":""},{"$f":"IF(D171=\"\",\"\",VLOOKUP($D171,Lists!$AP$2:$AR$78,3,FALSE))","v":""}]
[null,{"$f":"IF(D172=\"\",\"\",VLOOKUP($D172,Lists!$AP$2:$AR$78,2,FALSE))","v":""},{"$f":"IF(D172=\"\",\"\",VLOOKUP($D172,Lists!$AP$2:$AR$78,3,FALSE))","v":""}]
[null,{"$f":"IF(D173=\"\",\"\",VLOOKUP($D173,Lists!$AP$2:$AR$78,2,FALSE))","v":""},{"$f":"IF(D173=\"\",\"\",VLOOKUP($D173,Lists!$AP$2:$AR$78,3,FALSE))","v":""}]
[null,{"$f":"IF(D174=\"\",\"\",VLOOKUP($D174,Lists!$AP$2:$AR$78,2,FALSE))","v":""},{"$f":"IF(D174=\"\",\"\",VLOOKUP($D174,Lists!$AP$2:$AR$78,3,FALSE))","v":""}]
[null,{"$f":"IF(D175=\"\",\"\",VLOOKUP($D175,Lists!$AP$2:$AR$78,2,FALSE))","v":""},{"$f":"IF(D175=\"\",\"\",VLOOKUP($D175,Lists!$AP$2:$AR$78,3,FALSE))","v":""}]
[null,{"$f":"IF(D176=\"\",\"\",VLOOKUP($D176,Lists!$AP$2:$AR$78,2,FALSE))","v":""},{"$f":"IF(D176=\"\",\"\",VLOOKUP($D176,Lists!$AP$2:$AR$78,3,FALSE))","v":""}]
[null,{"$f":"IF(D177=\"\",\"\",VLOOKUP($D177,Lists!$AP$2:$AR$78,2,FALSE))","v":""},{"$f":"IF(D177=\"\",\"\",VLOOKUP($D177,Lists!$AP$2:$AR$78,3,FALSE))","v":""}]
[null,{"$f":"IF(D178=\"\",\"\",VLOOKUP($D178,Lists!$AP$2:$AR$78,2,FALSE))","v":""},{"$f":"IF(D178=\"\",\"\",VLOOKUP($D178,Lists!$AP$2:$AR$78,3,FALSE))","v":""}]
[null,{"$f":"IF(D179=\"\",\"\",VLOOKUP($D179,Lists!$AP$2:$AR$78,2,FALSE))","v":""},{"$f":"IF(D179=\"\",\"\",VLOOKUP($D179,Lists!$AP$2:$AR$78,3,FALSE))","v":""}]
[null,{"$f":"IF(D180=\"\",\"\",VLOOKUP($D180,Lists!$AP$2:$AR$78,2,FALSE))","v":""},{"$f":"IF(D180=\"\",\"\",VLOOKUP($D180,Lists!$AP$2:$AR$78,3,FALSE))","v":""}]
[null,{"$f":"IF(D181=\"\",\"\",VLOOKUP($D181,Lists!$AP$2:$AR$78,2,FALSE))","v":""},{"$f":"IF(D181=\"\",\"\",VLOOKUP($D181,Lists!$AP$2:$AR$78,3,FALSE))","v":""}]
[null,{"$f":"IF(D182=\"\",\"\",VLOOKUP($D182,Lists!$AP$2:$AR$78,2,FALSE))","v":""},{"$f":"IF(D182=\"\",\"\",VLOOKUP($D182,Lists!$AP$2:$AR$78,3,FALSE))","v":""}]
[null,{"$f":"IF(D183=\"\",\"\",VLOOKUP($D183,Lists!$AP$2:$AR$78,2,FALSE))","v":""},{"$f":"IF(D183=\"\",\"\",VLOOKUP($D183,Lists!$AP$2:$AR$78,3,FALSE))","v":""}]
[null,{"$f":"IF(D184=\"\",\"\",VLOOKUP($D184,Lists!$AP$2:$AR$78,2,FALSE))","v":""},{"$f":"IF(D184=\"\",\"\",VLOOKUP($D184,Lists!$AP$2:$AR$78,3,FALSE))","v":""}]
[null,{"$f":"IF(D185=\"\",\"\",VLOOKUP($D185,Lists!$AP$2:$AR$78,2,FALSE))","v":""},{"$f":"IF(D185=\"\",\"\",VLOOKUP($D185,Lists!$AP$2:$AR$78,3,FALSE))","v":""}]
[null,{"$f":"IF(D186=\"\",\"\",VLOOKUP($D186,Lists!$AP$2:$AR$78,2,FALSE))","v":""},{"$f":"IF(D186=\"\",\"\",VLOOKUP($D186,Lists!$AP$2:$AR$78,3,FALSE))","v":""}]
[null,{"$f":"IF(D187=\"\",\"\",VLOOKUP($D187,Lists!$AP$2:$AR$78,2,FALSE))","v":""},{"$f":"IF(D187=\"\",\"\",VLOOKUP($D187,Lists!$AP$2:$AR$78,3,FALSE))","v":""}]
[null,{"$f":"IF(D188=\"\",\"\",VLOOKUP($D188,Lists!$AP$2:$AR$78,2,FALSE))","v":""},{"$f":"IF(D188=\"\",\"\",VLOOKUP($D188,Lists!$AP$2:$AR$78,3,FALSE))","v":""}]
[null,{"$f":"IF(D189=\"\",\"\",VLOOKUP($D189,Lists!$AP$2:$AR$78,2,FALSE))","v":""},{"$f":"IF(D189=\"\",\"\",VLOOKUP($D189,Lists!$AP$2:$AR$78,3,FALSE))","v":""}]
[null,{"$f":"IF(D190=\"\",\"\",VLOOKUP($D190,Lists!$AP$2:$AR$78,2,FALSE))","v":""},{"$f":"IF(D190=\"\",\"\",VLOOKUP($D190,Lists!$AP$2:$AR$78,3,FALSE))","v":""}]
[null,{"$f":"IF(D191=\"\",\"\",VLOOKUP($D191,Lists!$AP$2:$AR$78,2,FALSE))","v":""},{"$f":"IF(D191=\"\",\"\",VLOOKUP($D191,Lists!$AP$2:$AR$78,3,FALSE))","v":""}]
[null,{"$f":"IF(D192=\"\",\"\",VLOOKUP($D192,Lists!$AP$2:$AR$78,2,FALSE))","v":""},{"$f":"IF(D192=\"\",\"\",VLOOKUP($D192,Lists!$AP$2:$AR$78,3,FALSE))","v":""}]
[null,{"$f":"IF(D193=\"\",\"\",VLOOKUP($D193,Lists!$AP$2:$AR$78,2,FALSE))","v":""},{"$f":"IF(D193=\"\",\"\",VLOOKUP($D193,Lists!$AP$2:$AR$78,3,FALSE))","v":""}]
[null,{"$f":"IF(D194=\"\",\"\",VLOOKUP($D194,Lists!$AP$2:$AR$78,2,FALSE))","v":""},{"$f":"IF(D194=\"\",\"\",VLOOKUP($D194,Lists!$AP$2:$AR$78,3,FALSE))","v":""}]
[null,{"$f":"IF(D195=\"\",\"\",VLOOKUP($D195,Lists!$AP$2:$AR$78,2,FALSE))","v":""},{"$f":"IF(D195=\"\",\"\",VLOOKUP($D195,Lists!$AP$2:$AR$78,3,FALSE))","v":""}]
[null,{"$f":"IF(D196=\"\",\"\",VLOOKUP($D196,Lists!$AP$2:$AR$78,2,FALSE))","v":""},{"$f":"IF(D196=\"\",\"\",VLOOKUP($D196,Lists!$AP$2:$AR$78,3,FALSE))","v":""}]
[null,{"$f":"IF(D197=\"\",\"\",VLOOKUP($D197,Lists!$AP$2:$AR$78,2,FALSE))","v":""},{"$f":"IF(D197=\"\",\"\",VLOOKUP($D197,Lists!$AP$2:$AR$78,3,FALSE))","v":""}]
[null,{"$f":"IF(D198=\"\",\"\",VLOOKUP($D198,Lists!$AP$2:$AR$78,2,FALSE))","v":""},{"$f":"IF(D198=\"\",\"\",VLOOKUP($D198,Lists!$AP$2:$AR$78,3,FALSE))","v":""}]
[null,{"$f":"IF(D199=\"\",\"\",VLOOKUP($D199,Lists!$AP$2:$AR$78,2,FALSE))","v":""},{"$f":"IF(D199=\"\",\"\",VLOOKUP($D199,Lists!$AP$2:$AR$78,3,FALSE))","v":""}]
[null,{"$f":"IF(D200=\"\",\"\",VLOOKUP($D200,Lists!$AP$2:$AR$78,2,FALSE))","v":""},{"$f":"IF(D200=\"\",\"\",VLOOKUP($D200,Lists!$AP$2:$AR$78,3,FALSE))","v":""}]
[null,{"$f":"IF(D201=\"\",\"\",VLOOKUP($D201,Lists!$AP$2:$AR$78,2,FALSE))","v":""},{"$f":"IF(D201=\"\",\"\",VLOOKUP($D201,Lists!$AP$2:$AR$78,3,FALSE))","v":""}]
[null,{"$f":"IF(D202=\"\",\"\",VLOOKUP($D202,Lists!$AP$2:$AR$78,2,FALSE))","v":""},{"$f":"IF(D202=\"\",\"\",VLOOKUP($D202,Lists!$AP$2:$AR$78,3,FALSE))","v":""}]
[null,{"$f":"IF(D203=\"\",\"\",VLOOKUP($D203,Lists!$AP$2:$AR$78,2,FALSE))","v":""},{"$f":"IF(D203=\"\",\"\",VLOOKUP($D203,Lists!$AP$2:$AR$78,3,FALSE))","v":""}]
[null,{"$f":"IF(D204=\"\",\"\",VLOOKUP($D204,Lists!$AP$2:$AR$78,2,FALSE))","v":""},{"$f":"IF(D204=\"\",\"\",VLOOKUP($D204,Lists!$AP$2:$AR$78,3,FALSE))","v":""}]
[null,{"$f":"IF(D205=\"\",\"\",VLOOKUP($D205,Lists!$AP$2:$AR$78,2,FALSE))","v":""},{"$f":"IF(D205=\"\",\"\",VLOOKUP($D205,Lists!$AP$2:$AR$78,3,FALSE))","v":""}]
[null,{"$f":"IF(D206=\"\",\"\",VLOOKUP($D206,Lists!$AP$2:$AR$78,2,FALSE))","v":""},{"$f":"IF(D206=\"\",\"\",VLOOKUP($D206,Lists!$AP$2:$AR$78,3,FALSE))","v":""}]
[null,{"$f":"IF(D207=\"\",\"\",VLOOKUP($D207,Lists!$AP$2:$AR$78,2,FALSE))","v":""},{"$f":"IF(D207=\"\",\"\",VLOOKUP($D207,Lists!$AP$2:$AR$78,3,FALSE))","v":""}]
[null,{"$f":"IF(D208=\"\",\"\",VLOOKUP($D208,Lists!$AP$2:$AR$78,2,FALSE))","v":""},{"$f":"IF(D208=\"\",\"\",VLOOKUP($D208,Lists!$AP$2:$AR$78,3,FALSE))","v":""}]
[null,{"$f":"IF(D209=\"\",\"\",VLOOKUP($D209,Lists!$AP$2:$AR$78,2,FALSE))","v":""},{"$f":"IF(D209=\"\",\"\",VLOOKUP($D209,Lists!$AP$2:$AR$78,3,FALSE))","v":""}]
[null,{"$f":"IF(D210=\"\",\"\",VLOOKUP($D210,Lists!$AP$2:$AR$78,2,FALSE))","v":""},{"$f":"IF(D210=\"\",\"\",VLOOKUP($D210,Lists!$AP$2:$AR$78,3,FALSE))","v":""}]
[null,{"$f":"IF(D211=\"\",\"\",VLOOKUP($D211,Lists!$AP$2:$AR$78,2,FALSE))","v":""},{"$f":"IF(D211=\"\",\"\",VLOOKUP($D211,Lists!$AP$2:$AR$78,3,FALSE))","v":""}]
[null,{"$f":"IF(D212=\"\",\"\",VLOOKUP($D212,Lists!$AP$2:$AR$78,2,FALSE))","v":""},{"$f":"IF(D212=\"\",\"\",VLOOKUP($D212,Lists!$AP$2:$AR$78,3,FALSE))","v":""}]
[null,{"$f":"IF(D213=\"\",\"\",VLOOKUP($D213,Lists!$AP$2:$AR$78,2,FALSE))","v":""},{"$f":"IF(D213=\"\",\"\",VLOOKUP($D213,Lists!$AP$2:$AR$78,3,FALSE))","v":""}]
[null,{"$f":"IF(D214=\"\",\"\",VLOOKUP($D214,Lists!$AP$2:$AR$78,2,FALSE))","v":""},{"$f":"IF(D214=\"\",\"\",VLOOKUP($D214,Lists!$AP$2:$AR$78,3,FALSE))","v":""}]
[null,{"$f":"IF(D215=\"\",\"\",VLOOKUP($D215,Lists!$AP$2:$AR$78,2,FALSE))","v":""},{"$f":"IF(D215=\"\",\"\",VLOOKUP($D215,Lists!$AP$2:$AR$78,3,FALSE))","v":""}]
[null,{"$f":"IF(D216=\"\",\"\",VLOOKUP($D216,Lists!$AP$2:$AR$78,2,FALSE))","v":""},{"$f":"IF(D216=\"\",\"\",VLOOKUP($D216,Lists!$AP$2:$AR$78,3,FALSE))","v":""}]
[null,{"$f":"IF(D217=\"\",\"\",VLOOKUP($D217,Lists!$AP$2:$AR$78,2,FALSE))","v":""},{"$f":"IF(D217=\"\",\"\",VLOOKUP($D217,Lists!$AP$2:$AR$78,3,FALSE))","v":""}]
[null,{"$f":"IF(D218=\"\",\"\",VLOOKUP($D218,Lists!$AP$2:$AR$78,2,FALSE))","v":""},{"$f":"IF(D218=\"\",\"\",VLOOKUP($D218,Lists!$AP$2:$AR$78,3,FALSE))","v":""}]
[null,{"$f":"IF(D219=\"\",\"\",VLOOKUP($D219,Lists!$AP$2:$AR$78,2,FALSE))","v":""},{"$f":"IF(D219=\"\",\"\",VLOOKUP($D219,Lists!$AP$2:$AR$78,3,FALSE))","v":""}]
[null,{"$f":"IF(D220=\"\",\"\",VLOOKUP($D220,Lists!$AP$2:$AR$78,2,FALSE))","v":""},{"$f":"IF(D220=\"\",\"\",VLOOKUP($D220,Lists!$AP$2:$AR$78,3,FALSE))","v":""}]
[null,{"$f":"IF(D221=\"\",\"\",VLOOKUP($D221,Lists!$AP$2:$AR$78,2,FALSE))","v":""},{"$f":"IF(D221=\"\",\"\",VLOOKUP($D221,Lists!$AP$2:$AR$78,3,FALSE))","v":""}]
[null,{"$f":"IF(D222=\"\",\"\",VLOOKUP($D222,Lists!$AP$2:$AR$78,2,FALSE))","v":""},{"$f":"IF(D222=\"\",\"\",VLOOKUP($D222,Lists!$AP$2:$AR$78,3,FALSE))","v":""}]
[null,{"$f":"IF(D223=\"\",\"\",VLOOKUP($D223,Lists!$AP$2:$AR$78,2,FALSE))","v":""},{"$f":"IF(D223=\"\",\"\",VLOOKUP($D223,Lists!$AP$2:$AR$78,3,FALSE))","v":""}]
[null,{"$f":"IF(D224=\"\",\"\",VLOOKUP($D224,Lists!$AP$2:$AR$78,2,FALSE))","v":""},{"$f":"IF(D224=\"\",\"\",VLOOKUP($D224,Lists!$AP$2:$AR$78,3,FALSE))","v":""}]
[null,{"$f":"IF(D225=\"\",\"\",VLOOKUP($D225,Lists!$AP$2:$AR$78,2,FALSE))","v":""},{"$f":"IF(D225=\"\",\"\",VLOOKUP($D225,Lists!$AP$2:$AR$78,3,FALSE))","v":""}]
[null,{"$f":"IF(D226=\"\",\"\",VLOOKUP($D226,Lists!$AP$2:$AR$78,2,FALSE))","v":""},{"$f":"IF(D226=\"\",\"\",VLOOKUP($D226,Lists!$AP$2:$AR$78,3,FALSE))","v":""}]
[null,{"$f":"IF(D227=\"\",\"\",VLOOKUP($D227,Lists!$AP$2:$AR$78,2,FALSE))","v":""},{"$f":"IF(D227=\"\",\"\",VLOOKUP($D227,Lists!$AP$2:$AR$78,3,FALSE))","v":""}]
[null,{"$f":"IF(D228=\"\",\"\",VLOOKUP($D228,Lists!$AP$2:$AR$78,2,FALSE))","v":""},{"$f":"IF(D228=\"\",\"\",VLOOKUP($D228,Lists!$AP$2:$AR$78,3,FALSE))","v":""}]
[null,{"$f":"IF(D229=\"\",\"\",VLOOKUP($D229,Lists!$AP$2:$AR$78,2,FALSE))","v":""},{"$f":"IF(D229=\"\",\"\",VLOOKUP($D229,Lists!$AP$2:$AR$78,3,FALSE))","v":""}]
[null,{"$f":"IF(D230=\"\",\"\",VLOOKUP($D230,Lists!$AP$2:$AR$78,2,FALSE))","v":""},{"$f":"IF(D230=\"\",\"\",VLOOKUP($D230,Lists!$AP$2:$AR$78,3,FALSE))","v":""}]
[null,{"$f":"IF(D231=\"\",\"\",VLOOKUP($D231,Lists!$AP$2:$AR$78,2,FALSE))","v":""},{"$f":"IF(D231=\"\",\"\",VLOOKUP($D231,Lists!$AP$2:$AR$78,3,FALSE))","v":""}]
[null,{"$f":"IF(D232=\"\",\"\",VLOOKUP($D232,Lists!$AP$2:$AR$78,2,FALSE))","v":""},{"$f":"IF(D232=\"\",\"\",VLOOKUP($D232,Lists!$AP$2:$AR$78,3,FALSE))","v":""}]
[null,{"$f":"IF(D233=\"\",\"\",VLOOKUP($D233,Lists!$AP$2:$AR$78,2,FALSE))","v":""},{"$f":"IF(D233=\"\",\"\",VLOOKUP($D233,Lists!$AP$2:$AR$78,3,FALSE))","v":""}]
[null,{"$f":"IF(D234=\"\",\"\",VLOOKUP($D234,Lists!$AP$2:$AR$78,2,FALSE))","v":""},{"$f":"IF(D234=\"\",\"\",VLOOKUP($D234,Lists!$AP$2:$AR$78,3,FALSE))","v":""}]
[null,{"$f":"IF(D235=\"\",\"\",VLOOKUP($D235,Lists!$AP$2:$AR$78,2,FALSE))","v":""},{"$f":"IF(D235=\"\",\"\",VLOOKUP($D235,Lists!$AP$2:$AR$78,3,FALSE))","v":""}]
[null,{"$f":"IF(D236=\"\",\"\",VLOOKUP($D236,Lists!$AP$2:$AR$78,2,FALSE))","v":""},{"$f":"IF(D236=\"\",\"\",VLOOKUP($D236,Lists!$AP$2:$AR$78,3,FALSE))","v":""}]
[null,{"$f":"IF(D237=\"\",\"\",VLOOKUP($D237,Lists!$AP$2:$AR$78,2,FALSE))","v":""},{"$f":"IF(D237=\"\",\"\",VLOOKUP($D237,Lists!$AP$2:$AR$78,3,FALSE))","v":""}]
[null,{"$f":"IF(D238=\"\",\"\",VLOOKUP($D238,Lists!$AP$2:$AR$78,2,FALSE))","v":""},{"$f":"IF(D238=\"\",\"\",VLOOKUP($D238,Lists!$AP$2:$AR$78,3,FALSE))","v":""}]
[null,{"$f":"IF(D239=\"\",\"\",VLOOKUP($D239,Lists!$AP$2:$AR$78,2,FALSE))","v":""},{"$f":"IF(D239=\"\",\"\",VLOOKUP($D239,Lists!$AP$2:$AR$78,3,FALSE))","v":""}]
[null,{"$f":"IF(D240=\"\",\"\",VLOOKUP($D240,Lists!$AP$2:$AR$78,2,FALSE))","v":""},{"$f":"IF(D240=\"\",\"\",VLOOKUP($D240,Lists!$AP$2:$AR$78,3,FALSE))","v":""}]
[null,{"$f":"IF(D241=\"\",\"\",VLOOKUP($D241,Lists!$AP$2:$AR$78,2,FALSE))","v":""},{"$f":"IF(D241=\"\",\"\",VLOOKUP($D241,Lists!$AP$2:$AR$78,3,FALSE))","v":""}]
[null,{"$f":"IF(D242=\"\",\"\",VLOOKUP($D242,Lists!$AP$2:$AR$78,2,FALSE))","v":""},{"$f":"IF(D242=\"\",\"\",VLOOKUP($D242,Lists!$AP$2:$AR$78,3,FALSE))","v":""}]
[null,{"$f":"IF(D243=\"\",\"\",VLOOKUP($D243,Lists!$AP$2:$AR$78,2,FALSE))","v":""},{"$f":"IF(D243=\"\",\"\",VLOOKUP($D243,Lists!$AP$2:$AR$78,3,FALSE))","v":""}]
[null,{"$f":"IF(D244=\"\",\"\",VLOOKUP($D244,Lists!$AP$2:$AR$78,2,FALSE))","v":""},{"$f":"IF(D244=\"\",\"\",VLOOKUP($D244,Lists!$AP$2:$AR$78,3,FALSE))","v":""}]
[null,{"$f":"IF(D245=\"\",\"\",VLOOKUP($D245,Lists!$AP$2:$AR$78,2,FALSE))","v":""},{"$f":"IF(D245=\"\",\"\",VLOOKUP($D245,Lists!$AP$2:$AR$78,3,FALSE))","v":""}]
[null,{"$f":"IF(D246=\"\",\"\",VLOOKUP($D246,Lists!$AP$2:$AR$78,2,FALSE))","v":""},{"$f":"IF(D246=\"\",\"\",VLOOKUP($D246,Lists!$AP$2:$AR$78,3,FALSE))","v":""}]
[null,{"$f":"IF(D247=\"\",\"\",VLOOKUP($D247,Lists!$AP$2:$AR$78,2,FALSE))","v":""},{"$f":"IF(D247=\"\",\"\",VLOOKUP($D247,Lists!$AP$2:$AR$78,3,FALSE))","v":""}]
[null,{"$f":"IF(D248=\"\",\"\",VLOOKUP($D248,Lists!$AP$2:$AR$78,2,FALSE))","v":""},{"$f":"IF(D248=\"\",\"\",VLOOKUP($D248,Lists!$AP$2:$AR$78,3,FALSE))","v":""}]
[null,{"$f":"IF(D249=\"\",\"\",VLOOKUP($D249,Lists!$AP$2:$AR$78,2,FALSE))","v":""},{"$f":"IF(D249=\"\",\"\",VLOOKUP($D249,Lists!$AP$2:$AR$78,3,FALSE))","v":""}]
[null,{"$f":"IF(D250=\"\",\"\",VLOOKUP($D250,Lists!$AP$2:$AR$78,2,FALSE))","v":""},{"$f":"IF(D250=\"\",\"\",VLOOKUP($D250,Lists!$AP$2:$AR$78,3,FALSE))","v":""}]
[null,{"$f":"IF(D251=\"\",\"\",VLOOKUP($D251,Lists!$AP$2:$AR$78,2,FALSE))","v":""},{"$f":"IF(D251=\"\",\"\",VLOOKUP($D251,Lists!$AP$2:$AR$78,3,FALSE))","v":""}]
[null,{"$f":"IF(D252=\"\",\"\",VLOOKUP($D252,Lists!$AP$2:$AR$78,2,FALSE))","v":""},{"$f":"IF(D252=\"\",\"\",VLOOKUP($D252,Lists!$AP$2:$AR$78,3,FALSE))","v":""}]
[null,{"$f":"IF(D253=\"\",\"\",VLOOKUP($D253,Lists!$AP$2:$AR$78,2,FALSE))","v":""},{"$f":"IF(D253=\"\",\"\",VLOOKUP($D253,Lists!$AP$2:$AR$78,3,FALSE))","v":""}]
[null,{"$f":"IF(D254=\"\",\"\",VLOOKUP($D254,Lists!$AP$2:$AR$78,2,FALSE))","v":""},{"$f":"IF(D254=\"\",\"\",VLOOKUP($D254,Lists!$AP$2:$AR$78,3,FALSE))","v":""}]
[null,{"$f":"IF(D255=\"\",\"\",VLOOKUP($D255,Lists!$AP$2:$AR$78,2,FALSE))","v":""},{"$f":"IF(D255=\"\",\"\",VLOOKUP($D255,Lists!$AP$2:$AR$78,3,FALSE))","v":""}]
[null,{"$f":"IF(D256=\"\",\"\",VLOOKUP($D256,Lists!$AP$2:$AR$78,2,FALSE))","v":""},{"$f":"IF(D256=\"\",\"\",VLOOKUP($D256,Lists!$AP$2:$AR$78,3,FALSE))","v":""}]
[null,{"$f":"IF(D257=\"\",\"\",VLOOKUP($D257,Lists!$AP$2:$AR$78,2,FALSE))","v":""},{"$f":"IF(D257=\"\",\"\",VLOOKUP($D257,Lists!$AP$2:$AR$78,3,FALSE))","v":""}]
[null,{"$f":"IF(D258=\"\",\"\",VLOOKUP($D258,Lists!$AP$2:$AR$78,2,FALSE))","v":""},{"$f":"IF(D258=\"\",\"\",VLOOKUP($D258,Lists!$AP$2:$AR$78,3,FALSE))","v":""}]
[null,{"$f":"IF(D259=\"\",\"\",VLOOKUP($D259,Lists!$AP$2:$AR$78,2,FALSE))","v":""},{"$f":"IF(D259=\"\",\"\",VLOOKUP($D259,Lists!$AP$2:$AR$78,3,FALSE))","v":""}]
[null,{"$f":"IF(D260=\"\",\"\",VLOOKUP($D260,Lists!$AP$2:$AR$78,2,FALSE))","v":""},{"$f":"IF(D260=\"\",\"\",VLOOKUP($D260,Lists!$AP$2:$AR$78,3,FALSE))","v":""}]
[null,{"$f":"IF(D261=\"\",\"\",VLOOKUP($D261,Lists!$AP$2:$AR$78,2,FALSE))","v":""},{"$f":"IF(D261=\"\",\"\",VLOOKUP($D261,Lists!$AP$2:$AR$78,3,FALSE))","v":""}]
[null,{"$f":"IF(D262=\"\",\"\",VLOOKUP($D262,Lists!$AP$2:$AR$78,2,FALSE))","v":""},{"$f":"IF(D262=\"\",\"\",VLOOKUP($D262,Lists!$AP$2:$AR$78,3,FALSE))","v":""}]
[null,{"$f":"IF(D263=\"\",\"\",VLOOKUP($D263,Lists!$AP$2:$AR$78,2,FALSE))","v":""},{"$f":"IF(D263=\"\",\"\",VLOOKUP($D263,Lists!$AP$2:$AR$78,3,FALSE))","v":""}]
[null,{"$f":"IF(D264=\"\",\"\",VLOOKUP($D264,Lists!$AP$2:$AR$78,2,FALSE))","v":""},{"$f":"IF(D264=\"\",\"\",VLOOKUP($D264,Lists!$AP$2:$AR$78,3,FALSE))","v":""}]
[null,{"$f":"IF(D265=\"\",\"\",VLOOKUP($D265,Lists!$AP$2:$AR$78,2,FALSE))","v":""},{"$f":"IF(D265=\"\",\"\",VLOOKUP($D265,Lists!$AP$2:$AR$78,3,FALSE))","v":""}]
[null,{"$f":"IF(D266=\"\",\"\",VLOOKUP($D266,Lists!$AP$2:$AR$78,2,FALSE))","v":""},{"$f":"IF(D266=\"\",\"\",VLOOKUP($D266,Lists!$AP$2:$AR$78,3,FALSE))","v":""}]
[null,{"$f":"IF(D267=\"\",\"\",VLOOKUP($D267,Lists!$AP$2:$AR$78,2,FALSE))","v":""},{"$f":"IF(D267=\"\",\"\",VLOOKUP($D267,Lists!$AP$2:$AR$78,3,FALSE))","v":""}]
[null,{"$f":"IF(D268=\"\",\"\",VLOOKUP($D268,Lists!$AP$2:$AR$78,2,FALSE))","v":""},{"$f":"IF(D268=\"\",\"\",VLOOKUP($D268,Lists!$AP$2:$AR$78,3,FALSE))","v":""}]
[null,{"$f":"IF(D269=\"\",\"\",VLOOKUP($D269,Lists!$AP$2:$AR$78,2,FALSE))","v":""},{"$f":"IF(D269=\"\",\"\",VLOOKUP($D269,Lists!$AP$2:$AR$78,3,FALSE))","v":""}]
[null,{"$f":"IF(D270=\"\",\"\",VLOOKUP($D270,Lists!$AP$2:$AR$78,2,FALSE))","v":""},{"$f":"IF(D270=\"\",\"\",VLOOKUP($D270,Lists!$AP$2:$AR$78,3,FALSE))","v":""}]
[null,{"$f":"IF(D271=\"\",\"\",VLOOKUP($D271,Lists!$AP$2:$AR$78,2,FALSE))","v":""},{"$f":"IF(D271=\"\",\"\",VLOOKUP($D271,Lists!$AP$2:$AR$78,3,FALSE))","v":""}]
[null,{"$f":"IF(D272=\"\",\"\",VLOOKUP($D272,Lists!$AP$2:$AR$78,2,FALSE))","v":""},{"$f":"IF(D272=\"\",\"\",VLOOKUP($D272,Lists!$AP$2:$AR$78,3,FALSE))","v":""}]
[null,{"$f":"IF(D273=\"\",\"\",VLOOKUP($D273,Lists!$AP$2:$AR$78,2,FALSE))","v":""},{"$f":"IF(D273=\"\",\"\",VLOOKUP($D273,Lists!$AP$2:$AR$78,3,FALSE))","v":""}]
[null,{"$f":"IF(D274=\"\",\"\",VLOOKUP($D274,Lists!$AP$2:$AR$78,2,FALSE))","v":""},{"$f":"IF(D274=\"\",\"\",VLOOKUP($D274,Lists!$AP$2:$AR$78,3,FALSE))","v":""}]
[null,{"$f":"IF(D275=\"\",\"\",VLOOKUP($D275,Lists!$AP$2:$AR$78,2,FALSE))","v":""},{"$f":"IF(D275=\"\",\"\",VLOOKUP($D275,Lists!$AP$2:$AR$78,3,FALSE))","v":""}]
[null,{"$f":"IF(D276=\"\",\"\",VLOOKUP($D276,Lists!$AP$2:$AR$78,2,FALSE))","v":""},{"$f":"IF(D276=\"\",\"\",VLOOKUP($D276,Lists!$AP$2:$AR$78,3,FALSE))","v":""}]
[null,{"$f":"IF(D277=\"\",\"\",VLOOKUP($D277,Lists!$AP$2:$AR$78,2,FALSE))","v":""},{"$f":"IF(D277=\"\",\"\",VLOOKUP($D277,Lists!$AP$2:$AR$78,3,FALSE))","v":""}]
[null,{"$f":"IF(D278=\"\",\"\",VLOOKUP($D278,Lists!$AP$2:$AR$78,2,FALSE))","v":""},{"$f":"IF(D278=\"\",\"\",VLOOKUP($D278,Lists!$AP$2:$AR$78,3,FALSE))","v":""}]
[null,{"$f":"IF(D279=\"\",\"\",VLOOKUP($D279,Lists!$AP$2:$AR$78,2,FALSE))","v":""},{"$f":"IF(D279=\"\",\"\",VLOOKUP($D279,Lists!$AP$2:$AR$78,3,FALSE))","v":""}]
[null,{"$f":"IF(D280=\"\",\"\",VLOOKUP($D280,Lists!$AP$2:$AR$78,2,FALSE))","v":""},{"$f":"IF(D280=\"\",\"\",VLOOKUP($D280,Lists!$AP$2:$AR$78,3,FALSE))","v":""}]
[null,{"$f":"IF(D281=\"\",\"\",VLOOKUP($D281,Lists!$AP$2:$AR$78,2,FALSE))","v":""},{"$f":"IF(D281=\"\",\"\",VLOOKUP($D281,Lists!$AP$2:$AR$78,3,FALSE))","v":""}]
[null,{"$f":"IF(D282=\"\",\"\",VLOOKUP($D282,Lists!$AP$2:$AR$78,2,FALSE))","v":""},{"$f":"IF(D282=\"\",\"\",VLOOKUP($D282,Lists!$AP$2:$AR$78,3,FALSE))","v":""}]
[null,{"$f":"IF(D283=\"\",\"\",VLOOKUP($D283,Lists!$AP$2:$AR$78,2,FALSE))","v":""},{"$f":"IF(D283=\"\",\"\",VLOOKUP($D283,Lists!$AP$2:$AR$78,3,FALSE))","v":""}]
[null,{"$f":"IF(D284=\"\",\"\",VLOOKUP($D284,Lists!$AP$2:$AR$78,2,FALSE))","v":""},{"$f":"IF(D284=\"\",\"\",VLOOKUP($D284,Lists!$AP$2:$AR$78,3,FALSE))","v":""}]
[null,{"$f":"IF(D285=\"\",\"\",VLOOKUP($D285,Lists!$AP$2:$AR$78,2,FALSE))","v":""},{"$f":"IF(D285=\"\",\"\",VLOOKUP($D285,Lists!$AP$2:$AR$78,3,FALSE))","v":""}]
[null,{"$f":"IF(D286=\"\",\"\",VLOOKUP($D286,Lists!$AP$2:$AR$78,2,FALSE))","v":""},{"$f":"IF(D286=\"\",\"\",VLOOKUP($D286,Lists!$AP$2:$AR$78,3,FALSE))","v":""}]
[null,{"$f":"IF(D287=\"\",\"\",VLOOKUP($D287,Lists!$AP$2:$AR$78,2,FALSE))","v":""},{"$f":"IF(D287=\"\",\"\",VLOOKUP($D287,Lists!$AP$2:$AR$78,3,FALSE))","v":""}]
[null,{"$f":"IF(D288=\"\",\"\",VLOOKUP($D288,Lists!$AP$2:$AR$78,2,FALSE))","v":""},{"$f":"IF(D288=\"\",\"\",VLOOKUP($D288,Lists!$AP$2:$AR$78,3,FALSE))","v":""}]
[null,{"$f":"IF(D289=\"\",\"\",VLOOKUP($D289,Lists!$AP$2:$AR$78,2,FALSE))","v":""},{"$f":"IF(D289=\"\",\"\",VLOOKUP($D289,Lists!$AP$2:$AR$78,3,FALSE))","v":""}]
[null,{"$f":"IF(D290=\"\",\"\",VLOOKUP($D290,Lists!$AP$2:$AR$78,2,FALSE))","v":""},{"$f":"IF(D290=\"\",\"\",VLOOKUP($D290,Lists!$AP$2:$AR$78,3,FALSE))","v":""}]
[null,{"$f":"IF(D291=\"\",\"\",VLOOKUP($D291,Lists!$AP$2:$AR$78,2,FALSE))","v":""},{"$f":"IF(D291=\"\",\"\",VLOOKUP($D291,Lists!$AP$2:$AR$78,3,FALSE))","v":""}]
[null,{"$f":"IF(D292=\"\",\"\",VLOOKUP($D292,Lists!$AP$2:$AR$78,2,FALSE))","v":""},{"$f":"IF(D292=\"\",\"\",VLOOKUP($D292,Lists!$AP$2:$AR$78,3,FALSE))","v":""}]
[null,{"$f":"IF(D293=\"\",\"\",VLOOKUP($D293,Lists!$AP$2:$AR$78,2,FALSE))","v":""},{"$f":"IF(D293=\"\",\"\",VLOOKUP($D293,Lists!$AP$2:$AR$78,3,FALSE))","v":""}]
[null,{"$f":"IF(D294=\"\",\"\",VLOOKUP($D294,Lists!$AP$2:$AR$78,2,FALSE))","v":""},{"$f":"IF(D294=\"\",\"\",VLOOKUP($D294,Lists!$AP$2:$AR$78,3,FALSE))","v":""}]
[null,{"$f":"IF(D295=\"\",\"\",VLOOKUP($D295,Lists!$AP$2:$AR$78,2,FALSE))","v":""},{"$f":"IF(D295=\"\",\"\",VLOOKUP($D295,Lists!$AP$2:$AR$78,3,FALSE))","v":""}]
[null,{"$f":"IF(D296=\"\",\"\",VLOOKUP($D296,Lists!$AP$2:$AR$78,2,FALSE))","v":""},{"$f":"IF(D296=\"\",\"\",VLOOKUP($D296,Lists!$AP$2:$AR$78,3,FALSE))","v":""}]
[null,{"$f":"IF(D297=\"\",\"\",VLOOKUP($D297,Lists!$AP$2:$AR$78,2,FALSE))","v":""},{"$f":"IF(D297=\"\",\"\",VLOOKUP($D297,Lists!$AP$2:$AR$78,3,FALSE))","v":""}]
[null,{"$f":"IF(D298=\"\",\"\",VLOOKUP($D298,Lists!$AP$2:$AR$78,2,FALSE))","v":""},{"$f":"IF(D298=\"\",\"\",VLOOKUP($D298,Lists!$AP$2:$AR$78,3,FALSE))","v":""}]
[null,{"$f":"IF(D299=\"\",\"\",VLOOKUP($D299,Lists!$AP$2:$AR$78,2,FALSE))","v":""},{"$f":"IF(D299=\"\",\"\",VLOOKUP($D299,Lists!$AP$2:$AR$78,3,FALSE))","v":""}]
[null,{"$f":"IF(D300=\"\",\"\",VLOOKUP($D300,Lists!$AP$2:$AR$78,2,FALSE))","v":""},{"$f":"IF(D300=\"\",\"\",VLOOKUP($D300,Lists!$AP$2:$AR$78,3,FALSE))","v":""}]
[null,{"$f":"IF(D301=\"\",\"\",VLOOKUP($D301,Lists!$AP$2:$AR$78,2,FALSE))","v":""},{"$f":"IF(D301=\"\",\"\",VLOOKUP($D301,Lists!$AP$2:$AR$78,3,FALSE))","v":""}]
[null,{"$f":"IF(D302=\"\",\"\",VLOOKUP($D302,Lists!$AP$2:$AR$78,2,FALSE))","v":""},{"$f":"IF(D302=\"\",\"\",VLOOKUP($D302,Lists!$AP$2:$AR$78,3,FALSE))","v":""}]
[null,{"$f":"IF(D303=\"\",\"\",VLOOKUP($D303,Lists!$AP$2:$AR$78,2,FALSE))","v":""},{"$f":"IF(D303=\"\",\"\",VLOOKUP($D303,Lists!$AP$2:$AR$78,3,FALSE))","v":""}]
[null,{"$f":"IF(D304=\"\",\"\",VLOOKUP($D304,Lists!$AP$2:$AR$78,2,FALSE))","v":""},{"$f":"IF(D304=\"\",\"\",VLOOKUP($D304,Lists!$AP$2:$AR$78,3,FALSE))","v":""}]
[null,{"$f":"IF(D305=\"\",\"\",VLOOKUP($D305,Lists!$AP$2:$AR$78,2,FALSE))","v":""},{"$f":"IF(D305=\"\",\"\",VLOOKUP($D305,Lists!$AP$2:$AR$78,3,FALSE))","v":""}]
[null,{"$f":"IF(D306=\"\",\"\",VLOOKUP($D306,Lists!$AP$2:$AR$78,2,FALSE))","v":""},{"$f":"IF(D306=\"\",\"\",VLOOKUP($D306,Lists!$AP$2:$AR$78,3,FALSE))","v":""}]
[null,{"$f":"IF(D307=\"\",\"\",VLOOKUP($D307,Lists!$AP$2:$AR$78,2,FALSE))","v":""},{"$f":"IF(D307=\"\",\"\",VLOOKUP($D307,Lists!$AP$2:$AR$78,3,FALSE))","v":""}]
[null,{"$f":"IF(D308=\"\",\"\",VLOOKUP($D308,Lists!$AP$2:$AR$78,2,FALSE))","v":""},{"$f":"IF(D308=\"\",\"\",VLOOKUP($D308,Lists!$AP$2:$AR$78,3,FALSE))","v":""}]
[null,{"$f":"IF(D309=\"\",\"\",VLOOKUP($D309,Lists!$AP$2:$AR$78,2,FALSE))","v":""},{"$f":"IF(D309=\"\",\"\",VLOOKUP($D309,Lists!$AP$2:$AR$78,3,FALSE))","v":""}]
[null,{"$f":"IF(D310=\"\",\"\",VLOOKUP($D310,Lists!$AP$2:$AR$78,2,FALSE))","v":""},{"$f":"IF(D310=\"\",\"\",VLOOKUP($D310,Lists!$AP$2:$AR$78,3,FALSE))","v":""}]
[null,{"$f":"IF(D311=\"\",\"\",VLOOKUP($D311,Lists!$AP$2:$AR$78,2,FALSE))","v":""},{"$f":"IF(D311=\"\",\"\",VLOOKUP($D311,Lists!$AP$2:$AR$78,3,FALSE))","v":""}]
[null,{"$f":"IF(D312=\"\",\"\",VLOOKUP($D312,Lists!$AP$2:$AR$78,2,FALSE))","v":""},{"$f":"IF(D312=\"\",\"\",VLOOKUP($D312,Lists!$AP$2:$AR$78,3,FALSE))","v":""}]
[null,{"$f":"IF(D313=\"\",\"\",VLOOKUP($D313,Lists!$AP$2:$AR$78,2,FALSE))","v":""},{"$f":"IF(D313=\"\",\"\",VLOOKUP($D313,Lists!$AP$2:$AR$78,3,FALSE))","v":""}]
[null,{"$f":"IF(D314=\"\",\"\",VLOOKUP($D314,Lists!$AP$2:$AR$78,2,FALSE))","v":""},{"$f":"IF(D314=\"\",\"\",VLOOKUP($D314,Lists!$AP$2:$AR$78,3,FALSE))","v":""}]
[null,{"$f":"IF(D315=\"\",\"\",VLOOKUP($D315,Lists!$AP$2:$AR$78,2,FALSE))","v":""},{"$f":"IF(D315=\"\",\"\",VLOOKUP($D315,Lists!$AP$2:$AR$78,3,FALSE))","v":""}]
[null,{"$f":"IF(D316=\"\",\"\",VLOOKUP($D316,Lists!$AP$2:$AR$78,2,FALSE))","v":""},{"$f":"IF(D316=\"\",\"\",VLOOKUP($D316,Lists!$AP$2:$AR$78,3,FALSE))","v":""}]
[null,{"$f":"IF(D317=\"\",\"\",VLOOKUP($D317,Lists!$AP$2:$AR$78,2,FALSE))","v":""},{"$f":"IF(D317=\"\",\"\",VLOOKUP($D317,Lists!$AP$2:$AR$78,3,FALSE))","v":""}]
[null,{"$f":"IF(D318=\"\",\"\",VLOOKUP($D318,Lists!$AP$2:$AR$78,2,FALSE))","v":""},{"$f":"IF(D318=\"\",\"\",VLOOKUP($D318,Lists!$AP$2:$AR$78,3,FALSE))","v":""}]
[null,{"$f":"IF(D319=\"\",\"\",VLOOKUP($D319,Lists!$AP$2:$AR$78,2,FALSE))","v":""},{"$f":"IF(D319=\"\",\"\",VLOOKUP($D319,Lists!$AP$2:$AR$78,3,FALSE))","v":""}]
[null,{"$f":"IF(D320=\"\",\"\",VLOOKUP($D320,Lists!$AP$2:$AR$78,2,FALSE))","v":""},{"$f":"IF(D320=\"\",\"\",VLOOKUP($D320,Lists!$AP$2:$AR$78,3,FALSE))","v":""}]
[null,{"$f":"IF(D321=\"\",\"\",VLOOKUP($D321,Lists!$AP$2:$AR$78,2,FALSE))","v":""},{"$f":"IF(D321=\"\",\"\",VLOOKUP($D321,Lists!$AP$2:$AR$78,3,FALSE))","v":""}]
[null,{"$f":"IF(D322=\"\",\"\",VLOOKUP($D322,Lists!$AP$2:$AR$78,2,FALSE))","v":""},{"$f":"IF(D322=\"\",\"\",VLOOKUP($D322,Lists!$AP$2:$AR$78,3,FALSE))","v":""}]
[null,{"$f":"IF(D323=\"\",\"\",VLOOKUP($D323,Lists!$AP$2:$AR$78,2,FALSE))","v":""},{"$f":"IF(D323=\"\",\"\",VLOOKUP($D323,Lists!$AP$2:$AR$78,3,FALSE))","v":""}]
[null,{"$f":"IF(D324=\"\",\"\",VLOOKUP($D324,Lists!$AP$2:$AR$78,2,FALSE))","v":""},{"$f":"IF(D324=\"\",\"\",VLOOKUP($D324,Lists!$AP$2:$AR$78,3,FALSE))","v":""}]
[null,{"$f":"IF(D325=\"\",\"\",VLOOKUP($D325,Lists!$AP$2:$AR$78,2,FALSE))","v":""},{"$f":"IF(D325=\"\",\"\",VLOOKUP($D325,Lists!$AP$2:$AR$78,3,FALSE))","v":""}]
[null,{"$f":"IF(D326=\"\",\"\",VLOOKUP($D326,Lists!$AP$2:$AR$78,2,FALSE))","v":""},{"$f":"IF(D326=\"\",\"\",VLOOKUP($D326,Lists!$AP$2:$AR$78,3,FALSE))","v":""}]
[null,{"$f":"IF(D327=\"\",\"\",VLOOKUP($D327,Lists!$AP$2:$AR$78,2,FALSE))","v":""},{"$f":"IF(D327=\"\",\"\",VLOOKUP($D327,Lists!$AP$2:$AR$78,3,FALSE))","v":""}]
[null,{"$f":"IF(D328=\"\",\"\",VLOOKUP($D328,Lists!$AP$2:$AR$78,2,FALSE))","v":""},{"$f":"IF(D328=\"\",\"\",VLOOKUP($D328,Lists!$AP$2:$AR$78,3,FALSE))","v":""}]
[null,{"$f":"IF(D329=\"\",\"\",VLOOKUP($D329,Lists!$AP$2:$AR$78,2,FALSE))","v":""},{"$f":"IF(D329=\"\",\"\",VLOOKUP($D329,Lists!$AP$2:$AR$78,3,FALSE))","v":""}]
[null,{"$f":"IF(D330=\"\",\"\",VLOOKUP($D330,Lists!$AP$2:$AR$78,2,FALSE))","v":""},{"$f":"IF(D330=\"\",\"\",VLOOKUP($D330,Lists!$AP$2:$AR$78,3,FALSE))","v":""}]
[null,{"$f":"IF(D331=\"\",\"\",VLOOKUP($D331,Lists!$AP$2:$AR$78,2,FALSE))","v":""},{"$f":"IF(D331=\"\",\"\",VLOOKUP($D331,Lists!$AP$2:$AR$78,3,FALSE))","v":""}]
[null,{"$f":"IF(D332=\"\",\"\",VLOOKUP($D332,Lists!$AP$2:$AR$78,2,FALSE))","v":""},{"$f":"IF(D332=\"\",\"\",VLOOKUP($D332,Lists!$AP$2:$AR$78,3,FALSE))","v":""}]
[null,{"$f":"IF(D333=\"\",\"\",VLOOKUP($D333,Lists!$AP$2:$AR$78,2,FALSE))","v":""},{"$f":"IF(D333=\"\",\"\",VLOOKUP($D333,Lists!$AP$2:$AR$78,3,FALSE))","v":""}]
[null,{"$f":"IF(D334=\"\",\"\",VLOOKUP($D334,Lists!$AP$2:$AR$78,2,FALSE))","v":""},{"$f":"IF(D334=\"\",\"\",VLOOKUP($D334,Lists!$AP$2:$AR$78,3,FALSE))","v":""}]
[null,{"$f":"IF(D335=\"\",\"\",VLOOKUP($D335,Lists!$AP$2:$AR$78,2,FALSE))","v":""},{"$f":"IF(D335=\"\",\"\",VLOOKUP($D335,Lists!$AP$2:$AR$78,3,FALSE))","v":""}]
[null,{"$f":"IF(D336=\"\",\"\",VLOOKUP($D336,Lists!$AP$2:$AR$78,2,FALSE))","v":""},{"$f":"IF(D336=\"\",\"\",VLOOKUP($D336,Lists!$AP$2:$AR$78,3,FALSE))","v":""}]
[null,{"$f":"IF(D337=\"\",\"\",VLOOKUP($D337,Lists!$AP$2:$AR$78,2,FALSE))","v":""},{"$f":"IF(D337=\"\",\"\",VLOOKUP($D337,Lists!$AP$2:$AR$78,3,FALSE))","v":""}]
[null,{"$f":"IF(D338=\"\",\"\",VLOOKUP($D338,Lists!$AP$2:$AR$78,2,FALSE))","v":""},{"$f":"IF(D338=\"\",\"\",VLOOKUP($D338,Lists!$AP$2:$AR$78,3,FALSE))","v":""}]
[null,{"$f":"IF(D339=\"\",\"\",VLOOKUP($D339,Lists!$AP$2:$AR$78,2,FALSE))","v":""},{"$f":"IF(D339=\"\",\"\",VLOOKUP($D339,Lists!$AP$2:$AR$78,3,FALSE))","v":""}]
[null,{"$f":"IF(D340=\"\",\"\",VLOOKUP($D340,Lists!$AP$2:$AR$78,2,FALSE))","v":""},{"$f":"IF(D340=\"\",\"\",VLOOKUP($D340,Lists!$AP$2:$AR$78,3,FALSE))","v":""}]
[null,{"$f":"IF(D341=\"\",\"\",VLOOKUP($D341,Lists!$AP$2:$AR$78,2,FALSE))","v":""},{"$f":"IF(D341=\"\",\"\",VLOOKUP($D341,Lists!$AP$2:$AR$78,3,FALSE))","v":""}]
[null,{"$f":"IF(D342=\"\",\"\",VLOOKUP($D342,Lists!$AP$2:$AR$78,2,FALSE))","v":""},{"$f":"IF(D342=\"\",\"\",VLOOKUP($D342,Lists!$AP$2:$AR$78,3,FALSE))","v":""}]
[null,{"$f":"IF(D343=\"\",\"\",VLOOKUP($D343,Lists!$AP$2:$AR$78,2,FALSE))","v":""},{"$f":"IF(D343=\"\",\"\",VLOOKUP($D343,Lists!$AP$2:$AR$78,3,FALSE))","v":""}]
[null,{"$f":"IF(D344=\"\",\"\",VLOOKUP($D344,Lists!$AP$2:$AR$78,2,FALSE))","v":""},{"$f":"IF(D344=\"\",\"\",VLOOKUP($D344,Lists!$AP$2:$AR$78,3,FALSE))","v":""}]
[null,{"$f":"IF(D345=\"\",\"\",VLOOKUP($D345,Lists!$AP$2:$AR$78,2,FALSE))","v":""},{"$f":"IF(D345=\"\",\"\",VLOOKUP($D345,Lists!$AP$2:$AR$78,3,FALSE))","v":""}]
[null,{"$f":"IF(D346=\"\",\"\",VLOOKUP($D346,Lists!$AP$2:$AR$78,2,FALSE))","v":""},{"$f":"IF(D346=\"\",\"\",VLOOKUP($D346,Lists!$AP$2:$AR$78,3,FALSE))","v":""}]
[null,{"$f":"IF(D347=\"\",\"\",VLOOKUP($D347,Lists!$AP$2:$AR$78,2,FALSE))","v":""},{"$f":"IF(D347=\"\",\"\",VLOOKUP($D347,Lists!$AP$2:$AR$78,3,FALSE))","v":""}]
[null,{"$f":"IF(D348=\"\",\"\",VLOOKUP($D348,Lists!$AP$2:$AR$78,2,FALSE))","v":""},{"$f":"IF(D348=\"\",\"\",VLOOKUP($D348,Lists!$AP$2:$AR$78,3,FALSE))","v":""}]
[null,{"$f":"IF(D349=\"\",\"\",VLOOKUP($D349,Lists!$AP$2:$AR$78,2,FALSE))","v":""},{"$f":"IF(D349=\"\",\"\",VLOOKUP($D349,Lists!$AP$2:$AR$78,3,FALSE))","v":""}]
[null,{"$f":"IF(D350=\"\",\"\",VLOOKUP($D350,Lists!$AP$2:$AR$78,2,FALSE))","v":""},{"$f":"IF(D350=\"\",\"\",VLOOKUP($D350,Lists!$AP$2:$AR$78,3,FALSE))","v":""}]
[null,{"$f":"IF(D351=\"\",\"\",VLOOKUP($D351,Lists!$AP$2:$AR$78,2,FALSE))","v":""},{"$f":"IF(D351=\"\",\"\",VLOOKUP($D351,Lists!$AP$2:$AR$78,3,FALSE))","v":""}]
[null,{"$f":"IF(D352=\"\",\"\",VLOOKUP($D352,Lists!$AP$2:$AR$78,2,FALSE))","v":""},{"$f":"IF(D352=\"\",\"\",VLOOKUP($D352,Lists!$AP$2:$AR$78,3,FALSE))","v":""}]
[null,{"$f":"IF(D353=\"\",\"\",VLOOKUP($D353,Lists!$AP$2:$AR$78,2,FALSE))","v":""},{"$f":"IF(D353=\"\",\"\",VLOOKUP($D353,Lists!$AP$2:$AR$78,3,FALSE))","v":""}]
[null,{"$f":"IF(D354=\"\",\"\",VLOOKUP($D354,Lists!$AP$2:$AR$78,2,FALSE))","v":""},{"$f":"IF(D354=\"\",\"\",VLOOKUP($D354,Lists!$AP$2:$AR$78,3,FALSE))","v":""}]
[null,{"$f":"IF(D355=\"\",\"\",VLOOKUP($D355,Lists!$AP$2:$AR$78,2,FALSE))","v":""},{"$f":"IF(D355=\"\",\"\",VLOOKUP($D355,Lists!$AP$2:$AR$78,3,FALSE))","v":""}]
[null,{"$f":"IF(D356=\"\",\"\",VLOOKUP($D356,Lists!$AP$2:$AR$78,2,FALSE))","v":""},{"$f":"IF(D356=\"\",\"\",VLOOKUP($D356,Lists!$AP$2:$AR$78,3,FALSE))","v":""}]
[null,{"$f":"IF(D357=\"\",\"\",VLOOKUP($D357,Lists!$AP$2:$AR$78,2,FALSE))","v":""},{"$f":"IF(D357=\"\",\"\",VLOOKUP($D357,Lists!$AP$2:$AR$78,3,FALSE))","v":""}]
[null,{"$f":"IF(D358=\"\",\"\",VLOOKUP($D358,Lists!$AP$2:$AR$78,2,FALSE))","v":""},{"$f":"IF(D358=\"\",\"\",VLOOKUP($D358,Lists!$AP$2:$AR$78,3,FALSE))","v":""}]
[null,{"$f":"IF(D359=\"\",\"\",VLOOKUP($D359,Lists!$AP$2:$AR$78,2,FALSE))","v":""},{"$f":"IF(D359=\"\",\"\",VLOOKUP($D359,Lists!$AP$2:$AR$78,3,FALSE))","v":""}]
[null,{"$f":"IF(D360=\"\",\"\",VLOOKUP($D360,Lists!$AP$2:$AR$78,2,FALSE))","v":""},{"$f":"IF(D360=\"\",\"\",VLOOKUP($D360,Lists!$AP$2:$AR$78,3,FALSE))","v":""}]
[null,{"$f":"IF(D361=\"\",\"\",VLOOKUP($D361,Lists!$AP$2:$AR$78,2,FALSE))","v":""},{"$f":"IF(D361=\"\",\"\",VLOOKUP($D361,Lists!$AP$2:$AR$78,3,FALSE))","v":""}]
[null,{"$f":"IF(D362=\"\",\"\",VLOOKUP($D362,Lists!$AP$2:$AR$78,2,FALSE))","v":""},{"$f":"IF(D362=\"\",\"\",VLOOKUP($D362,Lists!$AP$2:$AR$78,3,FALSE))","v":""}]
[null,{"$f":"IF(D363=\"\",\"\",VLOOKUP($D363,Lists!$AP$2:$AR$78,2,FALSE))","v":""},{"$f":"IF(D363=\"\",\"\",VLOOKUP($D363,Lists!$AP$2:$AR$78,3,FALSE))","v":""}]
[null,{"$f":"IF(D364=\"\",\"\",VLOOKUP($D364,Lists!$AP$2:$AR$78,2,FALSE))","v":""},{"$f":"IF(D364=\"\",\"\",VLOOKUP($D364,Lists!$AP$2:$AR$78,3,FALSE))","v":""}]
[null,{"$f":"IF(D365=\"\",\"\",VLOOKUP($D365,Lists!$AP$2:$AR$78,2,FALSE))","v":""},{"$f":"IF(D365=\"\",\"\",VLOOKUP($D365,Lists!$AP$2:$AR$78,3,FALSE))","v":""}]
[null,{"$f":"IF(D366=\"\",\"\",VLOOKUP($D366,Lists!$AP$2:$AR$78,2,FALSE))","v":""},{"$f":"IF(D366=\"\",\"\",VLOOKUP($D366,Lists!$AP$2:$AR$78,3,FALSE))","v":""}]
[null,{"$f":"IF(D367=\"\",\"\",VLOOKUP($D367,Lists!$AP$2:$AR$78,2,FALSE))","v":""},{"$f":"IF(D367=\"\",\"\",VLOOKUP($D367,Lists!$AP$2:$AR$78,3,FALSE))","v":""}]
[null,{"$f":"IF(D368=\"\",\"\",VLOOKUP($D368,Lists!$AP$2:$AR$78,2,FALSE))","v":""},{"$f":"IF(D368=\"\",\"\",VLOOKUP($D368,Lists!$AP$2:$AR$78,3,FALSE))","v":""}]
[null,{"$f":"IF(D369=\"\",\"\",VLOOKUP($D369,Lists!$AP$2:$AR$78,2,FALSE))","v":""},{"$f":"IF(D369=\"\",\"\",VLOOKUP($D369,Lists!$AP$2:$AR$78,3,FALSE))","v":""}]
[null,{"$f":"IF(D370=\"\",\"\",VLOOKUP($D370,Lists!$AP$2:$AR$78,2,FALSE))","v":""},{"$f":"IF(D370=\"\",\"\",VLOOKUP($D370,Lists!$AP$2:$AR$78,3,FALSE))","v":""}]
[null,{"$f":"IF(D371=\"\",\"\",VLOOKUP($D371,Lists!$AP$2:$AR$78,2,FALSE))","v":""},{"$f":"IF(D371=\"\",\"\",VLOOKUP($D371,Lists!$AP$2:$AR$78,3,FALSE))","v":""}]
[null,{"$f":"IF(D372=\"\",\"\",VLOOKUP($D372,Lists!$AP$2:$AR$78,2,FALSE))","v":""},{"$f":"IF(D372=\"\",\"\",VLOOKUP($D372,Lists!$AP$2:$AR$78,3,FALSE))","v":""}]
[null,{"$f":"IF(D373=\"\",\"\",VLOOKUP($D373,Lists!$AP$2:$AR$78,2,FALSE))","v":""},{"$f":"IF(D373=\"\",\"\",VLOOKUP($D373,Lists!$AP$2:$AR$78,3,FALSE))","v":""}]
[null,{"$f":"IF(D374=\"\",\"\",VLOOKUP($D374,Lists!$AP$2:$AR$78,2,FALSE))","v":""},{"$f":"IF(D374=\"\",\"\",VLOOKUP($D374,Lists!$AP$2:$AR$78,3,FALSE))","v":""}]
[null,{"$f":"IF(D375=\"\",\"\",VLOOKUP($D375,Lists!$AP$2:$AR$78,2,FALSE))","v":""},{"$f":"IF(D375=\"\",\"\",VLOOKUP($D375,Lists!$AP$2:$AR$78,3,FALSE))","v":""}]
[null,{"$f":"IF(D376=\"\",\"\",VLOOKUP($D376,Lists!$AP$2:$AR$78,2,FALSE))","v":""},{"$f":"IF(D376=\"\",\"\",VLOOKUP($D376,Lists!$AP$2:$AR$78,3,FALSE))","v":""}]
[null,{"$f":"IF(D377=\"\",\"\",VLOOKUP($D377,Lists!$AP$2:$AR$78,2,FALSE))","v":""},{"$f":"IF(D377=\"\",\"\",VLOOKUP($D377,Lists!$AP$2:$AR$78,3,FALSE))","v":""}]
[null,{"$f":"IF(D378=\"\",\"\",VLOOKUP($D378,Lists!$AP$2:$AR$78,2,FALSE))","v":""},{"$f":"IF(D378=\"\",\"\",VLOOKUP($D378,Lists!$AP$2:$AR$78,3,FALSE))","v":""}]
[null,{"$f":"IF(D379=\"\",\"\",VLOOKUP($D379,Lists!$AP$2:$AR$78,2,FALSE))","v":""},{"$f":"IF(D379=\"\",\"\",VLOOKUP($D379,Lists!$AP$2:$AR$78,3,FALSE))","v":""}]
[null,{"$f":"IF(D380=\"\",\"\",VLOOKUP($D380,Lists!$AP$2:$AR$78,2,FALSE))","v":""},{"$f":"IF(D380=\"\",\"\",VLOOKUP($D380,Lists!$AP$2:$AR$78,3,FALSE))","v":""}]
[null,{"$f":"IF(D381=\"\",\"\",VLOOKUP($D381,Lists!$AP$2:$AR$78,2,FALSE))","v":""},{"$f":"IF(D381=\"\",\"\",VLOOKUP($D381,Lists!$AP$2:$AR$78,3,FALSE))","v":""}]
[null,{"$f":"IF(D382=\"\",\"\",VLOOKUP($D382,Lists!$AP$2:$AR$78,2,FALSE))","v":""},{"$f":"IF(D382=\"\",\"\",VLOOKUP($D382,Lists!$AP$2:$AR$78,3,FALSE))","v":""}]
[null,{"$f":"IF(D383=\"\",\"\",VLOOKUP($D383,Lists!$AP$2:$AR$78,2,FALSE))","v":""},{"$f":"IF(D383=\"\",\"\",VLOOKUP($D383,Lists!$AP$2:$AR$78,3,FALSE))","v":""}]
[null,{"$f":"IF(D384=\"\",\"\",VLOOKUP($D384,Lists!$AP$2:$AR$78,2,FALSE))","v":""},{"$f":"IF(D384=\"\",\"\",VLOOKUP($D384,Lists!$AP$2:$AR$78,3,FALSE))","v":""}]
[null,{"$f":"IF(D385=\"\",\"\",VLOOKUP($D385,Lists!$AP$2:$AR$78,2,FALSE))","v":""},{"$f":"IF(D385=\"\",\"\",VLOOKUP($D385,Lists!$AP$2:$AR$78,3,FALSE))","v":""}]
[null,{"$f":"IF(D386=\"\",\"\",VLOOKUP($D386,Lists!$AP$2:$AR$78,2,FALSE))","v":""},{"$f":"IF(D386=\"\",\"\",VLOOKUP($D386,Lists!$AP$2:$AR$78,3,FALSE))","v":""}]
[null,{"$f":"IF(D387=\"\",\"\",VLOOKUP($D387,Lists!$AP$2:$AR$78,2,FALSE))","v":""},{"$f":"IF(D387=\"\",\"\",VLOOKUP($D387,Lists!$AP$2:$AR$78,3,FALSE))","v":""}]
[null,{"$f":"IF(D388=\"\",\"\",VLOOKUP($D388,Lists!$AP$2:$AR$78,2,FALSE))","v":""},{"$f":"IF(D388=\"\",\"\",VLOOKUP($D388,Lists!$AP$2:$AR$78,3,FALSE))","v":""}]
[null,{"$f":"IF(D389=\"\",\"\",VLOOKUP($D389,Lists!$AP$2:$AR$78,2,FALSE))","v":""},{"$f":"IF(D389=\"\",\"\",VLOOKUP($D389,Lists!$AP$2:$AR$78,3,FALSE))","v":""}]
[null,{"$f":"IF(D390=\"\",\"\",VLOOKUP($D390,Lists!$AP$2:$AR$78,2,FALSE))","v":""},{"$f":"IF(D390=\"\",\"\",VLOOKUP($D390,Lists!$AP$2:$AR$78,3,FALSE))","v":""}]
[null,{"$f":"IF(D391=\"\",\"\",VLOOKUP($D391,Lists!$AP$2:$AR$78,2,FALSE))","v":""},{"$f":"IF(D391=\"\",\"\",VLOOKUP($D391,Lists!$AP$2:$AR$78,3,FALSE))","v":""}]
[null,{"$f":"IF(D392=\"\",\"\",VLOOKUP($D392,Lists!$AP$2:$AR$78,2,FALSE))","v":""},{"$f":"IF(D392=\"\",\"\",VLOOKUP($D392,Lists!$AP$2:$AR$78,3,FALSE))","v":""}]
[null,{"$f":"IF(D393=\"\",\"\",VLOOKUP($D393,Lists!$AP$2:$AR$78,2,FALSE))","v":""},{"$f":"IF(D393=\"\",\"\",VLOOKUP($D393,Lists!$AP$2:$AR$78,3,FALSE))","v":""}]
[null,{"$f":"IF(D394=\"\",\"\",VLOOKUP($D394,Lists!$AP$2:$AR$78,2,FALSE))","v":""},{"$f":"IF(D394=\"\",\"\",VLOOKUP($D394,Lists!$AP$2:$AR$78,3,FALSE))","v":""}]
[null,{"$f":"IF(D395=\"\",\"\",VLOOKUP($D395,Lists!$AP$2:$AR$78,2,FALSE))","v":""},{"$f":"IF(D395=\"\",\"\",VLOOKUP($D395,Lists!$AP$2:$AR$78,3,FALSE))","v":""}]
[null,{"$f":"IF(D396=\"\",\"\",VLOOKUP($D396,Lists!$AP$2:$AR$78,2,FALSE))","v":""},{"$f":"IF(D396=\"\",\"\",VLOOKUP($D396,Lists!$AP$2:$AR$78,3,FALSE))","v":""}]
[null,{"$f":"IF(D397=\"\",\"\",VLOOKUP($D397,Lists!$AP$2:$AR$78,2,FALSE))","v":""},{"$f":"IF(D397=\"\",\"\",VLOOKUP($D397,Lists!$AP$2:$AR$78,3,FALSE))","v":""}]
[null,{"$f":"IF(D398=\"\",\"\",VLOOKUP($D398,Lists!$AP$2:$AR$78,2,FALSE))","v":""},{"$f":"IF(D398=\"\",\"\",VLOOKUP($D398,Lists!$AP$2:$AR$78,3,FALSE))","v":""}]
[null,{"$f":"IF(D399=\"\",\"\",VLOOKUP($D399,Lists!$AP$2:$AR$78,2,FALSE))","v":""},{"$f":"IF(D399=\"\",\"\",VLOOKUP($D399,Lists!$AP$2:$AR$78,3,FALSE))","v":""}]
[null,{"$f":"IF(D400=\"\",\"\",VLOOKUP($D400,Lists!$AP$2:$AR$78,2,FALSE))","v":""},{"$f":"IF(D400=\"\",\"\",VLOOKUP($D400,Lists!$AP$2:$AR$78,3,FALSE))","v":""}]
[null,{"$f":"IF(D401=\"\",\"\",VLOOKUP($D401,Lists!$AP$2:$AR$78,2,FALSE))","v":""},{"$f":"IF(D401=\"\",\"\",VLOOKUP($D401,Lists!$AP$2:$AR$78,3,FALSE))","v":""}]
[null,{"$f":"IF(D402=\"\",\"\",VLOOKUP($D402,Lists!$AP$2:$AR$78,2,FALSE))","v":""},{"$f":"IF(D402=\"\",\"\",VLOOKUP($D402,Lists!$AP$2:$AR$78,3,FALSE))","v":""}]
[null,{"$f":"IF(D403=\"\",\"\",VLOOKUP($D403,Lists!$AP$2:$AR$78,2,FALSE))","v":""},{"$f":"IF(D403=\"\",\"\",VLOOKUP($D403,Lists!$AP$2:$AR$78,3,FALSE))","v":""}]
[null,{"$f":"IF(D404=\"\",\"\",VLOOKUP($D404,Lists!$AP$2:$AR$78,2,FALSE))","v":""},{"$f":"IF(D404=\"\",\"\",VLOOKUP($D404,Lists!$AP$2:$AR$78,3,FALSE))","v":""}]
[null,{"$f":"IF(D405=\"\",\"\",VLOOKUP($D405,Lists!$AP$2:$AR$78,2,FALSE))","v":""},{"$f":"IF(D405=\"\",\"\",VLOOKUP($D405,Lists!$AP$2:$AR$78,3,FALSE))","v":""}]
[null,{"$f":"IF(D406=\"\",\"\",VLOOKUP($D406,Lists!$AP$2:$AR$78,2,FALSE))","v":""},{"$f":"IF(D406=\"\",\"\",VLOOKUP($D406,Lists!$AP$2:$AR$78,3,FALSE))","v":""}]
[null,{"$f":"IF(D407=\"\",\"\",VLOOKUP($D407,Lists!$AP$2:$AR$78,2,FALSE))","v":""},{"$f":"IF(D407=\"\",\"\",VLOOKUP($D407,Lists!$AP$2:$AR$78,3,FALSE))","v":""}]
[null,{"$f":"IF(D408=\"\",\"\",VLOOKUP($D408,Lists!$AP$2:$AR$78,2,FALSE))","v":""},{"$f":"IF(D408=\"\",\"\",VLOOKUP($D408,Lists!$AP$2:$AR$78,3,FALSE))","v":""}]
[null,{"$f":"IF(D409=\"\",\"\",VLOOKUP($D409,Lists!$AP$2:$AR$78,2,FALSE))","v":""},{"$f":"IF(D409=\"\",\"\",VLOOKUP($D409,Lists!$AP$2:$AR$78,3,FALSE))","v":""}]
[null,{"$f":"IF(D410=\"\",\"\",VLOOKUP($D410,Lists!$AP$2:$AR$78,2,FALSE))","v":""},{"$f":"IF(D410=\"\",\"\",VLOOKUP($D410,Lists!$AP$2:$AR$78,3,FALSE))","v":""}]
[null,{"$f":"IF(D411=\"\",\"\",VLOOKUP($D411,Lists!$AP$2:$AR$78,2,FALSE))","v":""},{"$f":"IF(D411=\"\",\"\",VLOOKUP($D411,Lists!$AP$2:$AR$78,3,FALSE))","v":""}]
[null,{"$f":"IF(D412=\"\",\"\",VLOOKUP($D412,Lists!$AP$2:$AR$78,2,FALSE))","v":""},{"$f":"IF(D412=\"\",\"\",VLOOKUP($D412,Lists!$AP$2:$AR$78,3,FALSE))","v":""}]
[null,{"$f":"IF(D413=\"\",\"\",VLOOKUP($D413,Lists!$AP$2:$AR$78,2,FALSE))","v":""},{"$f":"IF(D413=\"\",\"\",VLOOKUP($D413,Lists!$AP$2:$AR$78,3,FALSE))","v":""}]
[null,{"$f":"IF(D414=\"\",\"\",VLOOKUP($D414,Lists!$AP$2:$AR$78,2,FALSE))","v":""},{"$f":"IF(D414=\"\",\"\",VLOOKUP($D414,Lists!$AP$2:$AR$78,3,FALSE))","v":""}]
[null,{"$f":"IF(D415=\"\",\"\",VLOOKUP($D415,Lists!$AP$2:$AR$78,2,FALSE))","v":""},{"$f":"IF(D415=\"\",\"\",VLOOKUP($D415,Lists!$AP$2:$AR$78,3,FALSE))","v":""}]
[null,{"$f":"IF(D416=\"\",\"\",VLOOKUP($D416,Lists!$AP$2:$AR$78,2,FALSE))","v":""},{"$f":"IF(D416=\"\",\"\",VLOOKUP($D416,Lists!$AP$2:$AR$78,3,FALSE))","v":""}]
[null,{"$f":"IF(D417=\"\",\"\",VLOOKUP($D417,Lists!$AP$2:$AR$78,2,FALSE))","v":""},{"$f":"IF(D417=\"\",\"\",VLOOKUP($D417,Lists!$AP$2:$AR$78,3,FALSE))","v":""}]
[null,{"$f":"IF(D418=\"\",\"\",VLOOKUP($D418,Lists!$AP$2:$AR$78,2,FALSE))","v":""},{"$f":"IF(D418=\"\",\"\",VLOOKUP($D418,Lists!$AP$2:$AR$78,3,FALSE))","v":""}]
[null,{"$f":"IF(D419=\"\",\"\",VLOOKUP($D419,Lists!$AP$2:$AR$78,2,FALSE))","v":""},{"$f":"IF(D419=\"\",\"\",VLOOKUP($D419,Lists!$AP$2:$AR$78,3,FALSE))","v":""}]
[null,{"$f":"IF(D420=\"\",\"\",VLOOKUP($D420,Lists!$AP$2:$AR$78,2,FALSE))","v":""},{"$f":"IF(D420=\"\",\"\",VLOOKUP($D420,Lists!$AP$2:$AR$78,3,FALSE))","v":""}]
[null,{"$f":"IF(D421=\"\",\"\",VLOOKUP($D421,Lists!$AP$2:$AR$78,2,FALSE))","v":""},{"$f":"IF(D421=\"\",\"\",VLOOKUP($D421,Lists!$AP$2:$AR$78,3,FALSE))","v":""}]
[null,{"$f":"IF(D422=\"\",\"\",VLOOKUP($D422,Lists!$AP$2:$AR$78,2,FALSE))","v":""},{"$f":"IF(D422=\"\",\"\",VLOOKUP($D422,Lists!$AP$2:$AR$78,3,FALSE))","v":""}]
[null,{"$f":"IF(D423=\"\",\"\",VLOOKUP($D423,Lists!$AP$2:$AR$78,2,FALSE))","v":""},{"$f":"IF(D423=\"\",\"\",VLOOKUP($D423,Lists!$AP$2:$AR$78,3,FALSE))","v":""}]
[null,{"$f":"IF(D424=\"\",\"\",VLOOKUP($D424,Lists!$AP$2:$AR$78,2,FALSE))","v":""},{"$f":"IF(D424=\"\",\"\",VLOOKUP($D424,Lists!$AP$2:$AR$78,3,FALSE))","v":""}]
[null,{"$f":"IF(D425=\"\",\"\",VLOOKUP($D425,Lists!$AP$2:$AR$78,2,FALSE))","v":""},{"$f":"IF(D425=\"\",\"\",VLOOKUP($D425,Lists!$AP$2:$AR$78,3,FALSE))","v":""}]
[null,{"$f":"IF(D426=\"\",\"\",VLOOKUP($D426,Lists!$AP$2:$AR$78,2,FALSE))","v":""},{"$f":"IF(D426=\"\",\"\",VLOOKUP($D426,Lists!$AP$2:$AR$78,3,FALSE))","v":""}]
[null,{"$f":"IF(D427=\"\",\"\",VLOOKUP($D427,Lists!$AP$2:$AR$78,2,FALSE))","v":""},{"$f":"IF(D427=\"\",\"\",VLOOKUP($D427,Lists!$AP$2:$AR$78,3,FALSE))","v":""}]
[null,{"$f":"IF(D428=\"\",\"\",VLOOKUP($D428,Lists!$AP$2:$AR$78,2,FALSE))","v":""},{"$f":"IF(D428=\"\",\"\",VLOOKUP($D428,Lists!$AP$2:$AR$78,3,FALSE))","v":""}]
[null,{"$f":"IF(D429=\"\",\"\",VLOOKUP($D429,Lists!$AP$2:$AR$78,2,FALSE))","v":""},{"$f":"IF(D429=\"\",\"\",VLOOKUP($D429,Lists!$AP$2:$AR$78,3,FALSE))","v":""}]
[null,{"$f":"IF(D430=\"\",\"\",VLOOKUP($D430,Lists!$AP$2:$AR$78,2,FALSE))","v":""},{"$f":"IF(D430=\"\",\"\",VLOOKUP($D430,Lists!$AP$2:$AR$78,3,FALSE))","v":""}]
[null,{"$f":"IF(D431=\"\",\"\",VLOOKUP($D431,Lists!$AP$2:$AR$78,2,FALSE))","v":""},{"$f":"IF(D431=\"\",\"\",VLOOKUP($D431,Lists!$AP$2:$AR$78,3,FALSE))","v":""}]
[null,{"$f":"IF(D432=\"\",\"\",VLOOKUP($D432,Lists!$AP$2:$AR$78,2,FALSE))","v":""},{"$f":"IF(D432=\"\",\"\",VLOOKUP($D432,Lists!$AP$2:$AR$78,3,FALSE))","v":""}]
[null,{"$f":"IF(D433=\"\",\"\",VLOOKUP($D433,Lists!$AP$2:$AR$78,2,FALSE))","v":""},{"$f":"IF(D433=\"\",\"\",VLOOKUP($D433,Lists!$AP$2:$AR$78,3,FALSE))","v":""}]
[null,{"$f":"IF(D434=\"\",\"\",VLOOKUP($D434,Lists!$AP$2:$AR$78,2,FALSE))","v":""},{"$f":"IF(D434=\"\",\"\",VLOOKUP($D434,Lists!$AP$2:$AR$78,3,FALSE))","v":""}]
[null,{"$f":"IF(D435=\"\",\"\",VLOOKUP($D435,Lists!$AP$2:$AR$78,2,FALSE))","v":""},{"$f":"IF(D435=\"\",\"\",VLOOKUP($D435,Lists!$AP$2:$AR$78,3,FALSE))","v":""}]
[null,{"$f":"IF(D436=\"\",\"\",VLOOKUP($D436,Lists!$AP$2:$AR$78,2,FALSE))","v":""},{"$f":"IF(D436=\"\",\"\",VLOOKUP($D436,Lists!$AP$2:$AR$78,3,FALSE))","v":""}]
[null,{"$f":"IF(D437=\"\",\"\",VLOOKUP($D437,Lists!$AP$2:$AR$78,2,FALSE))","v":""},{"$f":"IF(D437=\"\",\"\",VLOOKUP($D437,Lists!$AP$2:$AR$78,3,FALSE))","v":""}]
[null,{"$f":"IF(D438=\"\",\"\",VLOOKUP($D438,Lists!$AP$2:$AR$78,2,FALSE))","v":""},{"$f":"IF(D438=\"\",\"\",VLOOKUP($D438,Lists!$AP$2:$AR$78,3,FALSE))","v":""}]
[null,{"$f":"IF(D439=\"\",\"\",VLOOKUP($D439,Lists!$AP$2:$AR$78,2,FALSE))","v":""},{"$f":"IF(D439=\"\",\"\",VLOOKUP($D439,Lists!$AP$2:$AR$78,3,FALSE))","v":""}]
[null,{"$f":"IF(D440=\"\",\"\",VLOOKUP($D440,Lists!$AP$2:$AR$78,2,FALSE))","v":""},{"$f":"IF(D440=\"\",\"\",VLOOKUP($D440,Lists!$AP$2:$AR$78,3,FALSE))","v":""}]
[null,{"$f":"IF(D441=\"\",\"\",VLOOKUP($D441,Lists!$AP$2:$AR$78,2,FALSE))","v":""},{"$f":"IF(D441=\"\",\"\",VLOOKUP($D441,Lists!$AP$2:$AR$78,3,FALSE))","v":""}]
[null,{"$f":"IF(D442=\"\",\"\",VLOOKUP($D442,Lists!$AP$2:$AR$78,2,FALSE))","v":""},{"$f":"IF(D442=\"\",\"\",VLOOKUP($D442,Lists!$AP$2:$AR$78,3,FALSE))","v":""}]
[null,{"$f":"IF(D443=\"\",\"\",VLOOKUP($D443,Lists!$AP$2:$AR$78,2,FALSE))","v":""},{"$f":"IF(D443=\"\",\"\",VLOOKUP($D443,Lists!$AP$2:$AR$78,3,FALSE))","v":""}]
[null,{"$f":"IF(D444=\"\",\"\",VLOOKUP($D444,Lists!$AP$2:$AR$78,2,FALSE))","v":""},{"$f":"IF(D444=\"\",\"\",VLOOKUP($D444,Lists!$AP$2:$AR$78,3,FALSE))","v":""}]
[null,{"$f":"IF(D445=\"\",\"\",VLOOKUP($D445,Lists!$AP$2:$AR$78,2,FALSE))","v":""},{"$f":"IF(D445=\"\",\"\",VLOOKUP($D445,Lists!$AP$2:$AR$78,3,FALSE))","v":""}]
[null,{"$f":"IF(D446=\"\",\"\",VLOOKUP($D446,Lists!$AP$2:$AR$78,2,FALSE))","v":""},{"$f":"IF(D446=\"\",\"\",VLOOKUP($D446,Lists!$AP$2:$AR$78,3,FALSE))","v":""}]
[null,{"$f":"IF(D447=\"\",\"\",VLOOKUP($D447,Lists!$AP$2:$AR$78,2,FALSE))","v":""},{"$f":"IF(D447=\"\",\"\",VLOOKUP($D447,Lists!$AP$2:$AR$78,3,FALSE))","v":""}]
[null,{"$f":"IF(D448=\"\",\"\",VLOOKUP($D448,Lists!$AP$2:$AR$78,2,FALSE))","v":""},{"$f":"IF(D448=\"\",\"\",VLOOKUP($D448,Lists!$AP$2:$AR$78,3,FALSE))","v":""}]
[null,{"$f":"IF(D449=\"\",\"\",VLOOKUP($D449,Lists!$AP$2:$AR$78,2,FALSE))","v":""},{"$f":"IF(D449=\"\",\"\",VLOOKUP($D449,Lists!$AP$2:$AR$78,3,FALSE))","v":""}]
[null,{"$f":"IF(D450=\"\",\"\",VLOOKUP($D450,Lists!$AP$2:$AR$78,2,FALSE))","v":""},{"$f":"IF(D450=\"\",\"\",VLOOKUP($D450,Lists!$AP$2:$AR$78,3,FALSE))","v":""}]
[null,{"$f":"IF(D451=\"\",\"\",VLOOKUP($D451,Lists!$AP$2:$AR$78,2,FALSE))","v":""},{"$f":"IF(D451=\"\",\"\",VLOOKUP($D451,Lists!$AP$2:$AR$78,3,FALSE))","v":""}]
[null,{"$f":"IF(D452=\"\",\"\",VLOOKUP($D452,Lists!$AP$2:$AR$78,2,FALSE))","v":""},{"$f":"IF(D452=\"\",\"\",VLOOKUP($D452,Lists!$AP$2:$AR$78,3,FALSE))","v":""}]
[null,{"$f":"IF(D453=\"\",\"\",VLOOKUP($D453,Lists!$AP$2:$AR$78,2,FALSE))","v":""},{"$f":"IF(D453=\"\",\"\",VLOOKUP($D453,Lists!$AP$2:$AR$78,3,FALSE))","v":""}]
[null,{"$f":"IF(D454=\"\",\"\",VLOOKUP($D454,Lists!$AP$2:$AR$78,2,FALSE))","v":""},{"$f":"IF(D454=\"\",\"\",VLOOKUP($D454,Lists!$AP$2:$AR$78,3,FALSE))","v":""}]
[null,{"$f":"IF(D455=\"\",\"\",VLOOKUP($D455,Lists!$AP$2:$AR$78,2,FALSE))","v":""},{"$f":"IF(D455=\"\",\"\",VLOOKUP($D455,Lists!$AP$2:$AR$78,3,FALSE))","v":""}]
[null,{"$f":"IF(D456=\"\",\"\",VLOOKUP($D456,Lists!$AP$2:$AR$78,2,FALSE))","v":""},{"$f":"IF(D456=\"\",\"\",VLOOKUP($D456,Lists!$AP$2:$AR$78,3,FALSE))","v":""}]
[null,{"$f":"IF(D457=\"\",\"\",VLOOKUP($D457,Lists!$AP$2:$AR$78,2,FALSE))","v":""},{"$f":"IF(D457=\"\",\"\",VLOOKUP($D457,Lists!$AP$2:$AR$78,3,FALSE))","v":""}]
[null,{"$f":"IF(D458=\"\",\"\",VLOOKUP($D458,Lists!$AP$2:$AR$78,2,FALSE))","v":""},{"$f":"IF(D458=\"\",\"\",VLOOKUP($D458,Lists!$AP$2:$AR$78,3,FALSE))","v":""}]
[null,{"$f":"IF(D459=\"\",\"\",VLOOKUP($D459,Lists!$AP$2:$AR$78,2,FALSE))","v":""},{"$f":"IF(D459=\"\",\"\",VLOOKUP($D459,Lists!$AP$2:$AR$78,3,FALSE))","v":""}]
[null,{"$f":"IF(D460=\"\",\"\",VLOOKUP($D460,Lists!$AP$2:$AR$78,2,FALSE))","v":""},{"$f":"IF(D460=\"\",\"\",VLOOKUP($D460,Lists!$AP$2:$AR$78,3,FALSE))","v":""}]
[null,{"$f":"IF(D461=\"\",\"\",VLOOKUP($D461,Lists!$AP$2:$AR$78,2,FALSE))","v":""},{"$f":"IF(D461=\"\",\"\",VLOOKUP($D461,Lists!$AP$2:$AR$78,3,FALSE))","v":""}]
[null,{"$f":"IF(D462=\"\",\"\",VLOOKUP($D462,Lists!$AP$2:$AR$78,2,FALSE))","v":""},{"$f":"IF(D462=\"\",\"\",VLOOKUP($D462,Lists!$AP$2:$AR$78,3,FALSE))","v":""}]
[null,{"$f":"IF(D463=\"\",\"\",VLOOKUP($D463,Lists!$AP$2:$AR$78,2,FALSE))","v":""},{"$f":"IF(D463=\"\",\"\",VLOOKUP($D463,Lists!$AP$2:$AR$78,3,FALSE))","v":""}]
[null,{"$f":"IF(D464=\"\",\"\",VLOOKUP($D464,Lists!$AP$2:$AR$78,2,FALSE))","v":""},{"$f":"IF(D464=\"\",\"\",VLOOKUP($D464,Lists!$AP$2:$AR$78,3,FALSE))","v":""}]
[null,{"$f":"IF(D465=\"\",\"\",VLOOKUP($D465,Lists!$AP$2:$AR$78,2,FALSE))","v":""},{"$f":"IF(D465=\"\",\"\",VLOOKUP($D465,Lists!$AP$2:$AR$78,3,FALSE))","v":""}]
[null,{"$f":"IF(D466=\"\",\"\",VLOOKUP($D466,Lists!$AP$2:$AR$78,2,FALSE))","v":""},{"$f":"IF(D466=\"\",\"\",VLOOKUP($D466,Lists!$AP$2:$AR$78,3,FALSE))","v":""}]
[null,{"$f":"IF(D467=\"\",\"\",VLOOKUP($D467,Lists!$AP$2:$AR$78,2,FALSE))","v":""},{"$f":"IF(D467=\"\",\"\",VLOOKUP($D467,Lists!$AP$2:$AR$78,3,FALSE))","v":""}]
[null,{"$f":"IF(D468=\"\",\"\",VLOOKUP($D468,Lists!$AP$2:$AR$78,2,FALSE))","v":""},{"$f":"IF(D468=\"\",\"\",VLOOKUP($D468,Lists!$AP$2:$AR$78,3,FALSE))","v":""}]
[null,{"$f":"IF(D469=\"\",\"\",VLOOKUP($D469,Lists!$AP$2:$AR$78,2,FALSE))","v":""},{"$f":"IF(D469=\"\",\"\",VLOOKUP($D469,Lists!$AP$2:$AR$78,3,FALSE))","v":""}]
[null,{"$f":"IF(D470=\"\",\"\",VLOOKUP($D470,Lists!$AP$2:$AR$78,2,FALSE))","v":""},{"$f":"IF(D470=\"\",\"\",VLOOKUP($D470,Lists!$AP$2:$AR$78,3,FALSE))","v":""}]
[null,{"$f":"IF(D471=\"\",\"\",VLOOKUP($D471,Lists!$AP$2:$AR$78,2,FALSE))","v":""},{"$f":"IF(D471=\"\",\"\",VLOOKUP($D471,Lists!$AP$2:$AR$78,3,FALSE))","v":""}]
[null,{"$f":"IF(D472=\"\",\"\",VLOOKUP($D472,Lists!$AP$2:$AR$78,2,FALSE))","v":""},{"$f":"IF(D472=\"\",\"\",VLOOKUP($D472,Lists!$AP$2:$AR$78,3,FALSE))","v":""}]
[null,{"$f":"IF(D473=\"\",\"\",VLOOKUP($D473,Lists!$AP$2:$AR$78,2,FALSE))","v":""},{"$f":"IF(D473=\"\",\"\",VLOOKUP($D473,Lists!$AP$2:$AR$78,3,FALSE))","v":""}]
[null,{"$f":"IF(D474=\"\",\"\",VLOOKUP($D474,Lists!$AP$2:$AR$78,2,FALSE))","v":""},{"$f":"IF(D474=\"\",\"\",VLOOKUP($D474,Lists!$AP$2:$AR$78,3,FALSE))","v":""}]
[null,{"$f":"IF(D475=\"\",\"\",VLOOKUP($D475,Lists!$AP$2:$AR$78,2,FALSE))","v":""},{"$f":"IF(D475=\"\",\"\",VLOOKUP($D475,Lists!$AP$2:$AR$78,3,FALSE))","v":""}]
[null,{"$f":"IF(D476=\"\",\"\",VLOOKUP($D476,Lists!$AP$2:$AR$78,2,FALSE))","v":""},{"$f":"IF(D476=\"\",\"\",VLOOKUP($D476,Lists!$AP$2:$AR$78,3,FALSE))","v":""}]
[null,{"$f":"IF(D477=\"\",\"\",VLOOKUP($D477,Lists!$AP$2:$AR$78,2,FALSE))","v":""},{"$f":"IF(D477=\"\",\"\",VLOOKUP($D477,Lists!$AP$2:$AR$78,3,FALSE))","v":""}]
[null,{"$f":"IF(D478=\"\",\"\",VLOOKUP($D478,Lists!$AP$2:$AR$78,2,FALSE))","v":""},{"$f":"IF(D478=\"\",\"\",VLOOKUP($D478,Lists!$AP$2:$AR$78,3,FALSE))","v":""}]
[null,{"$f":"IF(D479=\"\",\"\",VLOOKUP($D479,Lists!$AP$2:$AR$78,2,FALSE))","v":""},{"$f":"IF(D479=\"\",\"\",VLOOKUP($D479,Lists!$AP$2:$AR$78,3,FALSE))","v":""}]
[null,{"$f":"IF(D480=\"\",\"\",VLOOKUP($D480,Lists!$AP$2:$AR$78,2,FALSE))","v":""},{"$f":"IF(D480=\"\",\"\",VLOOKUP($D480,Lists!$AP$2:$AR$78,3,FALSE))","v":""}]
[null,{"$f":"IF(D481=\"\",\"\",VLOOKUP($D481,Lists!$AP$2:$AR$78,2,FALSE))","v":""},{"$f":"IF(D481=\"\",\"\",VLOOKUP($D481,Lists!$AP$2:$AR$78,3,FALSE))","v":""}]
[null,{"$f":"IF(D482=\"\",\"\",VLOOKUP($D482,Lists!$AP$2:$AR$78,2,FALSE))","v":""},{"$f":"IF(D482=\"\",\"\",VLOOKUP($D482,Lists!$AP$2:$AR$78,3,FALSE))","v":""}]
[null,{"$f":"IF(D483=\"\",\"\",VLOOKUP($D483,Lists!$AP$2:$AR$78,2,FALSE))","v":""},{"$f":"IF(D483=\"\",\"\",VLOOKUP($D483,Lists!$AP$2:$AR$78,3,FALSE))","v":""}]
[null,{"$f":"IF(D484=\"\",\"\",VLOOKUP($D484,Lists!$AP$2:$AR$78,2,FALSE))","v":""},{"$f":"IF(D484=\"\",\"\",VLOOKUP($D484,Lists!$AP$2:$AR$78,3,FALSE))","v":""}]
[null,{"$f":"IF(D485=\"\",\"\",VLOOKUP($D485,Lists!$AP$2:$AR$78,2,FALSE))","v":""},{"$f":"IF(D485=\"\",\"\",VLOOKUP($D485,Lists!$AP$2:$AR$78,3,FALSE))","v":""}]
[null,{"$f":"IF(D486=\"\",\"\",VLOOKUP($D486,Lists!$AP$2:$AR$78,2,FALSE))","v":""},{"$f":"IF(D486=\"\",\"\",VLOOKUP($D486,Lists!$AP$2:$AR$78,3,FALSE))","v":""}]
[null,{"$f":"IF(D487=\"\",\"\",VLOOKUP($D487,Lists!$AP$2:$AR$78,2,FALSE))","v":""},{"$f":"IF(D487=\"\",\"\",VLOOKUP($D487,Lists!$AP$2:$AR$78,3,FALSE))","v":""}]
[null,{"$f":"IF(D488=\"\",\"\",VLOOKUP($D488,Lists!$AP$2:$AR$78,2,FALSE))","v":""},{"$f":"IF(D488=\"\",\"\",VLOOKUP($D488,Lists!$AP$2:$AR$78,3,FALSE))","v":""}]
[null,{"$f":"IF(D489=\"\",\"\",VLOOKUP($D489,Lists!$AP$2:$AR$78,2,FALSE))","v":""},{"$f":"IF(D489=\"\",\"\",VLOOKUP($D489,Lists!$AP$2:$AR$78,3,FALSE))","v":""}]
[null,{"$f":"IF(D490=\"\",\"\",VLOOKUP($D490,Lists!$AP$2:$AR$78,2,FALSE))","v":""},{"$f":"IF(D490=\"\",\"\",VLOOKUP($D490,Lists!$AP$2:$AR$78,3,FALSE))","v":""}]
[null,{"$f":"IF(D491=\"\",\"\",VLOOKUP($D491,Lists!$AP$2:$AR$78,2,FALSE))","v":""},{"$f":"IF(D491=\"\",\"\",VLOOKUP($D491,Lists!$AP$2:$AR$78,3,FALSE))","v":""}]
[null,{"$f":"IF(D492=\"\",\"\",VLOOKUP($D492,Lists!$AP$2:$AR$78,2,FALSE))","v":""},{"$f":"IF(D492=\"\",\"\",VLOOKUP($D492,Lists!$AP$2:$AR$78,3,FALSE))","v":""}]
[null,{"$f":"IF(D493=\"\",\"\",VLOOKUP($D493,Lists!$AP$2:$AR$78,2,FALSE))","v":""},{"$f":"IF(D493=\"\",\"\",VLOOKUP($D493,Lists!$AP$2:$AR$78,3,FALSE))","v":""}]
[null,{"$f":"IF(D494=\"\",\"\",VLOOKUP($D494,Lists!$AP$2:$AR$78,2,FALSE))","v":""},{"$f":"IF(D494=\"\",\"\",VLOOKUP($D494,Lists!$AP$2:$AR$78,3,FALSE))","v":""}]
[null,{"$f":"IF(D495=\"\",\"\",VLOOKUP($D495,Lists!$AP$2:$AR$78,2,FALSE))","v":""},{"$f":"IF(D495=\"\",\"\",VLOOKUP($D495,Lists!$AP$2:$AR$78,3,FALSE))","v":""}]
[null,{"$f":"IF(D496=\"\",\"\",VLOOKUP($D496,Lists!$AP$2:$AR$78,2,FALSE))","v":""},{"$f":"IF(D496=\"\",\"\",VLOOKUP($D496,Lists!$AP$2:$AR$78,3,FALSE))","v":""}]
[null,{"$f":"IF(D497=\"\",\"\",VLOOKUP($D497,Lists!$AP$2:$AR$78,2,FALSE))","v":""},{"$f":"IF(D497=\"\",\"\",VLOOKUP($D497,Lists!$AP$2:$AR$78,3,FALSE))","v":""}]
[null,{"$f":"IF(D498=\"\",\"\",VLOOKUP($D498,Lists!$AP$2:$AR$78,2,FALSE))","v":""},{"$f":"IF(D498=\"\",\"\",VLOOKUP($D498,Lists!$AP$2:$AR$78,3,FALSE))","v":""}]
[null,{"$f":"IF(D499=\"\",\"\",VLOOKUP($D499,Lists!$AP$2:$AR$78,2,FALSE))","v":""},{"$f":"IF(D499=\"\",\"\",VLOOKUP($D499,Lists!$AP$2:$AR$78,3,FALSE))","v":""}]
[null,{"$f":"IF(D500=\"\",\"\",VLOOKUP($D500,Lists!$AP$2:$AR$78,2,FALSE))","v":""},{"$f":"IF(D500=\"\",\"\",VLOOKUP($D500,Lists!$AP$2:$AR$78,3,FALSE))","v":""}]

{"sheet":"ElectroPrimerHAPContent","index":6,"n_rows":500,"n_cols":14,"rows_kept":500,"cut":false,"hidden":false,"merged":[]}
[null,"DO NOT REMOVE OR EDIT INFORMATION IN THIS SECTION\nFOR INTERNAL USE ONLY"]
[null,"Template Name",{"$f":"+Welcome!B2","v":"63.3120(f) Semiannual Compliance Report (Spreadsheet Template)"}]
[null,"CitationID",{"$f":"+Welcome!B3","v":"63.3120(f)"}]
[null,"Template Version",{"$f":"+Welcome!B4","v":"v2.06"}]
[null,"Last Updated Date",{"$f":"+Welcome!B5","v":45392}]
[null,"OMB Control Number: 2060-0518       Expiration Date: 04/30/2019"]
[null,"40 CFR Part 63, Subpart IIII National Emission Standards for Hazardous Air Pollutants: Surface Coating of Automobiles and Light Duty Trucks - §63.3120(f) Semiannual Compliance Report Spreadsheet Template"]
[null,"\n"]
[]
[]
[]
[null,"Company Record No.\n(Autofilled)","Affected Source or Equipment\n(§63.3120(a)(7)(iv))\n(Autofilled)","Company Record No. and Affected Source or Equipment\n(§63.3120(a)(7)(iv))\n(Select from dropdown)","Identification of Each Electrodeposition Primer Material that Exceeded the HAP Content Limit (Single material per row)\n (§63.3120(a)(7)(i))","Start Date of Use of Each Electrodeposition Primer Material that Exceeded the HAP Content Limit\n (§63.3120(a)(7)(i))","Start Time of Use of Each Electrodeposition Primer Material that Exceeded the HAP Content Limit\n (§63.3120(a)(7)(i))","End Date of Use of Each Electrodeposition Primer Material that Exceeded the HAP Content Limit\n (§63.3120(a)(7)(i))","End Time of Use of Each Electrodeposition Primer Material that Exceeded the HAP Content Limit\n (§63.3120(a)(7)(i))"," Duration of Use of Each Electrodeposition Primer Material that Exceeded the HAP Content Limit\n (§63.3120(a)(7)(i))\n(Autocalculated or manual entry)","Mass Fraction of Each Organic HAP of Each Electrodeposition Primer Material\n(§63.3120(a)(7)(ii))","Cause of Deviation \n (§63.3120(a)(7)(iii))","Estimate of Quantity of Organic HAP Emitted Over the Emission Limit \n(kg or lb)\n(§63.3120(a)(7)(iv))","Method Used to Estimate Emissions\n(§63.3120(a)(7)(iv))"]
[null,"RecordId","AffectedSource","AffectedSourceCompanyRecord","HAPContentExceed","UseStartDate","UseStartTime","UseEndDate","UseEndTime","UsedDuration","OrganicHAPPrimer","DeviationCause","OrganicHAP","EstEmissionsMethod"]
[null,"e.g.: 1","e.g.: East Coating","e.g.: 1 East Coating","e.g.: Primer A","e.g.: 2/12/2019","e.g.: 8:00","e.g.: 2/19/2019","e.g.: 16:00","e.g.: 176.00","e.g.: benzene 0.1 mg/L, acetonitrile 0.4 mg/L","e.g.: Incorrect order","e.g.: 5.25 kg","e.g.: engineering calculations"]
[null,"e.g.: 1","e.g.: East Coating","e.g.: 1 East Coating","e.g.: Primer B","e.g.: 3/02/2019","e.g.: 8:00","e.g.: 3/13/2019","e.g.: 16:00","e.g.: 272.00","e.g.: benzene 0.02%, acetonitrile 0.05%","e.g.: Ordered material did not meet specification","e.g.: 12.9 lb","e.g.: engineering calculations"]
[null,"e.g.:","e.g.:","e.g.:","e.g.:","e.g.:","e.g.:","e.g.:","e.g.:","e.g.:","e.g.:","e.g.:","e.g.:","e.g.:"]
[null,"e.g.:","e.g.:","e.g.:","e.g.:","e.g.:","e.g.:","e.g.:","e.g.:","e.g.:","e.g.:","e.g.:","e.g.:","e.g.:"]
[null,"e.g.:","e.g.:","e.g.:","e.g.:","e.g.:","e.g.:","e.g.:","e.g.:","e.g.:","e.g.:","e.g.:","e.g.:","e.g.:"]
[null,"e.g.:","e.g.:","e.g.:","e.g.:","e.g.:","e.g.:","e.g.:","e.g.:","e.g.:","e.g.:","e.g.:","e.g.:","e.g.:"]
[null,"e.g.:","e.g.:","e.g.:","e.g.:","e.g.:","e.g.:","e.g.:","e.g.:","e.g.:","e.g.:","e.g.:","e.g.:","e.g.:"]
[null,"e.g.:","e.g.:","e.g.:","e.g.:","e.g.:","e.g.:","e.g.:","e.g.:","e.g.:","e.g.:","e.g.:","e.g.:","e.g.:"]
[null,"e.g.:","e.g.:","e.g.:","e.g.:","e.g.:","e.g.:","e.g.:","e.g.:","e.g.:","e.g.:","e.g.:","e.g.:","e.g.:"]
[null,"e.g.:","e.g.:","e.g.:","e.g.:","e.g.:","e.g.:","e.g.:","e.g.:","e.g.:","e.g.:","e.g.:","e.g.:","e.g.:"]
[null,{"$f":"IF(D24=\"\",\"\",VLOOKUP($D24,Lists!$AP$2:$AR$78,2,FALSE))","v":""},{"$f":"IF(D24=\"\",\"\",VLOOKUP($D24,Lists!$AP$2:$AR$78,3,FALSE))","v":""},null,null,null,null,null,null,{"$f":"IF(I24=\"\",\"\",(VALUE(TEXT(H24,\"m/dd/yy \")&TEXT(I24,\"hh:mm:ss\"))-(VALUE(TEXT(F24,\"m/dd/yy \")&TEXT(G24,\"hh:mm:ss\"))))*24)","v":""}]
[null,{"$f":"IF(D25=\"\",\"\",VLOOKUP($D25,Lists!$AP$2:$AR$78,2,FALSE))","v":""},{"$f":"IF(D25=\"\",\"\",VLOOKUP($D25,Lists!$AP$2:$AR$78,3,FALSE))","v":""},null,null,null,null,null,null,""]
[null,{"$f":"IF(D26=\"\",\"\",VLOOKUP($D26,Lists!$AP$2:$AR$78,2,FALSE))","v":""},{"$f":"IF(D26=\"\",\"\",VLOOKUP($D26,Lists!$AP$2:$AR$78,3,FALSE))","v":""},null,null,null,null,null,null,""]
[null,{"$f":"IF(D27=\"\",\"\",VLOOKUP($D27,Lists!$AP$2:$AR$78,2,FALSE))","v":""},{"$f":"IF(D27=\"\",\"\",VLOOKUP($D27,Lists!$AP$2:$AR$78,3,FALSE))","v":""},null,null,null,null,null,null,""]
[null,{"$f":"IF(D28=\"\",\"\",VLOOKUP($D28,Lists!$AP$2:$AR$78,2,FALSE))","v":""},{"$f":"IF(D28=\"\",\"\",VLOOKUP($D28,Lists!$AP$2:$AR$78,3,FALSE))","v":""},null,null,null,null,null,null,""]
[null,{"$f":"IF(D29=\"\",\"\",VLOOKUP($D29,Lists!$AP$2:$AR$78,2,FALSE))","v":""},{"$f":"IF(D29=\"\",\"\",VLOOKUP($D29,Lists!$AP$2:$AR$78,3,FALSE))","v":""},null,null,null,null,null,null,""]
[null,{"$f":"IF(D30=\"\",\"\",VLOOKUP($D30,Lists!$AP$2:$AR$78,2,FALSE))","v":""},{"$f":"IF(D30=\"\",\"\",VLOOKUP($D30,Lists!$AP$2:$AR$78,3,FALSE))","v":""},null,null,null,null,null,null,""]
[null,{"$f":"IF(D31=\"\",\"\",VLOOKUP($D31,Lists!$AP$2:$AR$78,2,FALSE))","v":""},{"$f":"IF(D31=\"\",\"\",VLOOKUP($D31,Lists!$AP$2:$AR$78,3,FALSE))","v":""},null,null,null,null,null,null,""]
[null,{"$f":"IF(D32=\"\",\"\",VLOOKUP($D32,Lists!$AP$2:$AR$78,2,FALSE))","v":""},{"$f":"IF(D32=\"\",\"\",VLOOKUP($D32,Lists!$AP$2:$AR$78,3,FALSE))","v":""},null,null,null,null,null,null,""]
[null,{"$f":"IF(D33=\"\",\"\",VLOOKUP($D33,Lists!$AP$2:$AR$78,2,FALSE))","v":""},{"$f":"IF(D33=\"\",\"\",VLOOKUP($D33,Lists!$AP$2:$AR$78,3,FALSE))","v":""},null,null,null,null,null,null,""]
[null,{"$f":"IF(D34=\"\",\"\",VLOOKUP($D34,Lists!$AP$2:$AR$78,2,FALSE))","v":""},{"$f":"IF(D34=\"\",\"\",VLOOKUP($D34,Lists!$AP$2:$AR$78,3,FALSE))","v":""},null,null,null,null,null,null,""]
[null,{"$f":"IF(D35=\"\",\"\",VLOOKUP($D35,Lists!$AP$2:$AR$78,2,FALSE))","v":""},{"$f":"IF(D35=\"\",\"\",VLOOKUP($D35,Lists!$AP$2:$AR$78,3,FALSE))","v":""},null,null,null,null,null,null,""]
[null,{"$f":"IF(D36=\"\",\"\",VLOOKUP($D36,Lists!$AP$2:$AR$78,2,FALSE))","v":""},{"$f":"IF(D36=\"\",\"\",VLOOKUP($D36,Lists!$AP$2:$AR$78,3,FALSE))","v":""},null,null,null,null,null,null,""]
[null,{"$f":"IF(D37=\"\",\"\",VLOOKUP($D37,Lists!$AP$2:$AR$78,2,FALSE))","v":""},{"$f":"IF(D37=\"\",\"\",VLOOKUP($D37,Lists!$AP$2:$AR$78,3,FALSE))","v":""},null,null,null,null,null,null,""]
[null,{"$f":"IF(D38=\"\",\"\",VLOOKUP($D38,Lists!$AP$2:$AR$78,2,FALSE))","v":""},{"$f":"IF(D38=\"\",\"\",VLOOKUP($D38,Lists!$AP$2:$AR$78,3,FALSE))","v":""},null,null,null,null,null,null,""]
[null,{"$f":"IF(D39=\"\",\"\",VLOOKUP($D39,Lists!$AP$2:$AR$78,2,FALSE))","v":""},{"$f":"IF(D39=\"\",\"\",VLOOKUP($D39,Lists!$AP$2:$AR$78,3,FALSE))","v":""},null,null,null,null,null,null,""]
[null,{"$f":"IF(D40=\"\",\"\",VLOOKUP($D40,Lists!$AP$2:$AR$78,2,FALSE))","v":""},{"$f":"IF(D40=\"\",\"\",VLOOKUP($D40,Lists!$AP$2:$AR$78,3,FALSE))","v":""},null,null,null,null,null,null,""]
[null,{"$f":"IF(D41=\"\",\"\",VLOOKUP($D41,Lists!$AP$2:$AR$78,2,FALSE))","v":""},{"$f":"IF(D41=\"\",\"\",VLOOKUP($D41,Lists!$AP$2:$AR$78,3,FALSE))","v":""},null,null,null,null,null,null,""]
[null,{"$f":"IF(D42=\"\",\"\",VLOOKUP($D42,Lists!$AP$2:$AR$78,2,FALSE))","v":""},{"$f":"IF(D42=\"\",\"\",VLOOKUP($D42,Lists!$AP$2:$AR$78,3,FALSE))","v":""},null,null,null,null,null,null,""]
[null,{"$f":"IF(D43=\"\",\"\",VLOOKUP($D43,Lists!$AP$2:$AR$78,2,FALSE))","v":""},{"$f":"IF(D43=\"\",\"\",VLOOKUP($D43,Lists!$AP$2:$AR$78,3,FALSE))","v":""},null,null,null,null,null,null,""]
[null,{"$f":"IF(D44=\"\",\"\",VLOOKUP($D44,Lists!$AP$2:$AR$78,2,FALSE))","v":""},{"$f":"IF(D44=\"\",\"\",VLOOKUP($D44,Lists!$AP$2:$AR$78,3,FALSE))","v":""},null,null,null,null,null,null,""]
[null,{"$f":"IF(D45=\"\",\"\",VLOOKUP($D45,Lists!$AP$2:$AR$78,2,FALSE))","v":""},{"$f":"IF(D45=\"\",\"\",VLOOKUP($D45,Lists!$AP$2:$AR$78,3,FALSE))","v":""},null,null,null,null,null,null,""]
[null,{"$f":"IF(D46=\"\",\"\",VLOOKUP($D46,Lists!$AP$2:$AR$78,2,FALSE))","v":""},{"$f":"IF(D46=\"\",\"\",VLOOKUP($D46,Lists!$AP$2:$AR$78,3,FALSE))","v":""},null,null,null,null,null,null,""]
[null,{"$f":"IF(D47=\"\",\"\",VLOOKUP($D47,Lists!$AP$2:$AR$78,2,FALSE))","v":""},{"$f":"IF(D47=\"\",\"\",VLOOKUP($D47,Lists!$AP$2:$AR$78,3,FALSE))","v":""},null,null,null,null,null,null,""]
[null,{"$f":"IF(D48=\"\",\"\",VLOOKUP($D48,Lists!$AP$2:$AR$78,2,FALSE))","v":""},{"$f":"IF(D48=\"\",\"\",VLOOKUP($D48,Lists!$AP$2:$AR$78,3,FALSE))","v":""},null,null,null,null,null,null,""]
[null,{"$f":"IF(D49=\"\",\"\",VLOOKUP($D49,Lists!$AP$2:$AR$78,2,FALSE))","v":""},{"$f":"IF(D49=\"\",\"\",VLOOKUP($D49,Lists!$AP$2:$AR$78,3,FALSE))","v":""},null,null,null,null,null,null,""]
[null,{"$f":"IF(D50=\"\",\"\",VLOOKUP($D50,Lists!$AP$2:$AR$78,2,FALSE))","v":""},{"$f":"IF(D50=\"\",\"\",VLOOKUP($D50,Lists!$AP$2:$AR$78,3,FALSE))","v":""},null,null,null,null,null,null,""]
[null,{"$f":"IF(D51=\"\",\"\",VLOOKUP($D51,Lists!$AP$2:$AR$78,2,FALSE))","v":""},{"$f":"IF(D51=\"\",\"\",VLOOKUP($D51,Lists!$AP$2:$AR$78,3,FALSE))","v":""},null,null,null,null,null,null,""]
[null,{"$f":"IF(D52=\"\",\"\",VLOOKUP($D52,Lists!$AP$2:$AR$78,2,FALSE))","v":""},{"$f":"IF(D52=\"\",\"\",VLOOKUP($D52,Lists!$AP$2:$AR$78,3,FALSE))","v":""},null,null,null,null,null,null,""]
[null,{"$f":"IF(D53=\"\",\"\",VLOOKUP($D53,Lists!$AP$2:$AR$78,2,FALSE))","v":""},{"$f":"IF(D53=\"\",\"\",VLOOKUP($D53,Lists!$AP$2:$AR$78,3,FALSE))","v":""},null,null,null,null,null,null,""]
[null,{"$f":"IF(D54=\"\",\"\",VLOOKUP($D54,Lists!$AP$2:$AR$78,2,FALSE))","v":""},{"$f":"IF(D54=\"\",\"\",VLOOKUP($D54,Lists!$AP$2:$AR$78,3,FALSE))","v":""},null,null,null,null,null,null,""]
[null,{"$f":"IF(D55=\"\",\"\",VLOOKUP($D55,Lists!$AP$2:$AR$78,2,FALSE))","v":""},{"$f":"IF(D55=\"\",\"\",VLOOKUP($D55,Lists!$AP$2:$AR$78,3,FALSE))","v":""},null,null,null,null,null,null,""]
[null,{"$f":"IF(D56=\"\",\"\",VLOOKUP($D56,Lists!$AP$2:$AR$78,2,FALSE))","v":""},{"$f":"IF(D56=\"\",\"\",VLOOKUP($D56,Lists!$AP$2:$AR$78,3,FALSE))","v":""},null,null,null,null,null,null,""]
[null,{"$f":"IF(D57=\"\",\"\",VLOOKUP($D57,Lists!$AP$2:$AR$78,2,FALSE))","v":""},{"$f":"IF(D57=\"\",\"\",VLOOKUP($D57,Lists!$AP$2:$AR$78,3,FALSE))","v":""},null,null,null,null,null,null,""]
[null,{"$f":"IF(D58=\"\",\"\",VLOOKUP($D58,Lists!$AP$2:$AR$78,2,FALSE))","v":""},{"$f":"IF(D58=\"\",\"\",VLOOKUP($D58,Lists!$AP$2:$AR$78,3,FALSE))","v":""},null,null,null,null,null,null,""]
[null,{"$f":"IF(D59=\"\",\"\",VLOOKUP($D59,Lists!$AP$2:$AR$78,2,FALSE))","v":""},{"$f":"IF(D59=\"\",\"\",VLOOKUP($D59,Lists!$AP$2:$AR$78,3,FALSE))","v":""},null,null,null,null,null,null,""]
[null,{"$f":"IF(D60=\"\",\"\",VLOOKUP($D60,Lists!$AP$2:$AR$78,2,FALSE))","v":""},{"$f":"IF(D60=\"\",\"\",VLOOKUP($D60,Lists!$AP$2:$AR$78,3,FALSE))","v":""},null,null,null,null,null,null,""]
[null,{"$f":"IF(D61=\"\",\"\",VLOOKUP($D61,Lists!$AP$2:$AR$78,2,FALSE))","v":""},{"$f":"IF(D61=\"\",\"\",VLOOKUP($D61,Lists!$AP$2:$AR$78,3,FALSE))","v":""},null,null,null,null,null,null,""]
[null,{"$f":"IF(D62=\"\",\"\",VLOOKUP($D62,Lists!$AP$2:$AR$78,2,FALSE))","v":""},{"$f":"IF(D62=\"\",\"\",VLOOKUP($D62,Lists!$AP$2:$AR$78,3,FALSE))","v":""},null,null,null,null,null,null,""]
[null,{"$f":"IF(D63=\"\",\"\",VLOOKUP($D63,Lists!$AP$2:$AR$78,2,FALSE))","v":""},{"$f":"IF(D63=\"\",\"\",VLOOKUP($D63,Lists!$AP$2:$AR$78,3,FALSE))","v":""},null,null,null,null,null,null,""]
[null,{"$f":"IF(D64=\"\",\"\",VLOOKUP($D64,Lists!$AP$2:$AR$78,2,FALSE))","v":""},{"$f":"IF(D64=\"\",\"\",VLOOKUP($D64,Lists!$AP$2:$AR$78,3,FALSE))","v":""},null,null,null,null,null,null,""]
[null,{"$f":"IF(D65=\"\",\"\",VLOOKUP($D65,Lists!$AP$2:$AR$78,2,FALSE))","v":""},{"$f":"IF(D65=\"\",\"\",VLOOKUP($D65,Lists!$AP$2:$AR$78,3,FALSE))","v":""},null,null,null,null,null,null,""]
[null,{"$f":"IF(D66=\"\",\"\",VLOOKUP($D66,Lists!$AP$2:$AR$78,2,FALSE))","v":""},{"$f":"IF(D66=\"\",\"\",VLOOKUP($D66,Lists!$AP$2:$AR$78,3,FALSE))","v":""},null,null,null,null,null,null,""]
[null,{"$f":"IF(D67=\"\",\"\",VLOOKUP($D67,Lists!$AP$2:$AR$78,2,FALSE))","v":""},{"$f":"IF(D67=\"\",\"\",VLOOKUP($D67,Lists!$AP$2:$AR$78,3,FALSE))","v":""},null,null,null,null,null,null,""]
[null,{"$f":"IF(D68=\"\",\"\",VLOOKUP($D68,Lists!$AP$2:$AR$78,2,FALSE))","v":""},{"$f":"IF(D68=\"\",\"\",VLOOKUP($D68,Lists!$AP$2:$AR$78,3,FALSE))","v":""},null,null,null,null,null,null,""]
[null,{"$f":"IF(D69=\"\",\"\",VLOOKUP($D69,Lists!$AP$2:$AR$78,2,FALSE))","v":""},{"$f":"IF(D69=\"\",\"\",VLOOKUP($D69,Lists!$AP$2:$AR$78,3,FALSE))","v":""},null,null,null,null,null,null,""]
[null,{"$f":"IF(D70=\"\",\"\",VLOOKUP($D70,Lists!$AP$2:$AR$78,2,FALSE))","v":""},{"$f":"IF(D70=\"\",\"\",VLOOKUP($D70,Lists!$AP$2:$AR$78,3,FALSE))","v":""},null,null,null,null,null,null,""]
[null,{"$f":"IF(D71=\"\",\"\",VLOOKUP($D71,Lists!$AP$2:$AR$78,2,FALSE))","v":""},{"$f":"IF(D71=\"\",\"\",VLOOKUP($D71,Lists!$AP$2:$AR$78,3,FALSE))","v":""},null,null,null,null,null,null,""]
[null,{"$f":"IF(D72=\"\",\"\",VLOOKUP($D72,Lists!$AP$2:$AR$78,2,FALSE))","v":""},{"$f":"IF(D72=\"\",\"\",VLOOKUP($D72,Lists!$AP$2:$AR$78,3,FALSE))","v":""},null,null,null,null,null,null,""]
[null,{"$f":"IF(D73=\"\",\"\",VLOOKUP($D73,Lists!$AP$2:$AR$78,2,FALSE))","v":""},{"$f":"IF(D73=\"\",\"\",VLOOKUP($D73,Lists!$AP$2:$AR$78,3,FALSE))","v":""},null,null,null,null,null,null,""]
[null,{"$f":"IF(D74=\"\",\"\",VLOOKUP($D74,Lists!$AP$2:$AR$78,2,FALSE))","v":""},{"$f":"IF(D74=\"\",\"\",VLOOKUP($D74,Lists!$AP$2:$AR$78,3,FALSE))","v":""},null,null,null,null,null,null,""]
[null,{"$f":"IF(D75=\"\",\"\",VLOOKUP($D75,Lists!$AP$2:$AR$78,2,FALSE))","v":""},{"$f":"IF(D75=\"\",\"\",VLOOKUP($D75,Lists!$AP$2:$AR$78,3,FALSE))","v":""},null,null,null,null,null,null,""]
[null,{"$f":"IF(D76=\"\",\"\",VLOOKUP($D76,Lists!$AP$2:$AR$78,2,FALSE))","v":""},{"$f":"IF(D76=\"\",\"\",VLOOKUP($D76,Lists!$AP$2:$AR$78,3,FALSE))","v":""},null,null,null,null,null,null,""]
[null,{"$f":"IF(D77=\"\",\"\",VLOOKUP($D77,Lists!$AP$2:$AR$78,2,FALSE))","v":""},{"$f":"IF(D77=\"\",\"\",VLOOKUP($D77,Lists!$AP$2:$AR$78,3,FALSE))","v":""},null,null,null,null,null,null,{"$f":"IF(I77=\"\",\"\",(VALUE(TEXT(H77,\"m/dd/yy \")&TEXT(I77,\"hh:mm:ss\"))-(VALUE(TEXT(F77,\"m/dd/yy \")&TEXT(G77,\"hh:mm:ss\"))))*24)","v":""}]
[null,{"$f":"IF(D78=\"\",\"\",VLOOKUP($D78,Lists!$AP$2:$AR$78,2,FALSE))","v":""},{"$f":"IF(D78=\"\",\"\",VLOOKUP($D78,Lists!$AP$2:$AR$78,3,FALSE))","v":""},null,null,null,null,null,null,""]
[null,{"$f":"IF(D79=\"\",\"\",VLOOKUP($D79,Lists!$AP$2:$AR$78,2,FALSE))","v":""},{"$f":"IF(D79=\"\",\"\",VLOOKUP($D79,Lists!$AP$2:$AR$78,3,FALSE))","v":""},null,null,null,null,null,null,""]
[null,{"$f":"IF(D80=\"\",\"\",VLOOKUP($D80,Lists!$AP$2:$AR$78,2,FALSE))","v":""},{"$f":"IF(D80=\"\",\"\",VLOOKUP($D80,Lists!$AP$2:$AR$78,3,FALSE))","v":""},null,null,null,null,null,null,""]
[null,{"$f":"IF(D81=\"\",\"\",VLOOKUP($D81,Lists!$AP$2:$AR$78,2,FALSE))","v":""},{"$f":"IF(D81=\"\",\"\",VLOOKUP($D81,Lists!$AP$2:$AR$78,3,FALSE))","v":""},null,null,null,null,null,null,""]
[null,{"$f":"IF(D82=\"\",\"\",VLOOKUP($D82,Lists!$AP$2:$AR$78,2,FALSE))","v":""},{"$f":"IF(D82=\"\",\"\",VLOOKUP($D82,Lists!$AP$2:$AR$78,3,FALSE))","v":""},null,null,null,null,null,null,""]
[null,{"$f":"IF(D83=\"\",\"\",VLOOKUP($D83,Lists!$AP$2:$AR$78,2,FALSE))","v":""},{"$f":"IF(D83=\"\",\"\",VLOOKUP($D83,Lists!$AP$2:$AR$78,3,FALSE))","v":""},null,null,null,null,null,null,""]
[null,{"$f":"IF(D84=\"\",\"\",VLOOKUP($D84,Lists!$AP$2:$AR$78,2,FALSE))","v":""},{"$f":"IF(D84=\"\",\"\",VLOOKUP($D84,Lists!$AP$2:$AR$78,3,FALSE))","v":""},null,null,null,null,null,null,""]
[null,{"$f":"IF(D85=\"\",\"\",VLOOKUP($D85,Lists!$AP$2:$AR$78,2,FALSE))","v":""},{"$f":"IF(D85=\"\",\"\",VLOOKUP($D85,Lists!$AP$2:$AR$78,3,FALSE))","v":""},null,null,null,null,null,null,""]
[null,{"$f":"IF(D86=\"\",\"\",VLOOKUP($D86,Lists!$AP$2:$AR$78,2,FALSE))","v":""},{"$f":"IF(D86=\"\",\"\",VLOOKUP($D86,Lists!$AP$2:$AR$78,3,FALSE))","v":""},null,null,null,null,null,null,""]
[null,{"$f":"IF(D87=\"\",\"\",VLOOKUP($D87,Lists!$AP$2:$AR$78,2,FALSE))","v":""},{"$f":"IF(D87=\"\",\"\",VLOOKUP($D87,Lists!$AP$2:$AR$78,3,FALSE))","v":""},null,null,null,null,null,null,""]
[null,{"$f":"IF(D88=\"\",\"\",VLOOKUP($D88,Lists!$AP$2:$AR$78,2,FALSE))","v":""},{"$f":"IF(D88=\"\",\"\",VLOOKUP($D88,Lists!$AP$2:$AR$78,3,FALSE))","v":""},null,null,null,null,null,null,""]
[null,{"$f":"IF(D89=\"\",\"\",VLOOKUP($D89,Lists!$AP$2:$AR$78,2,FALSE))","v":""},{"$f":"IF(D89=\"\",\"\",VLOOKUP($D89,Lists!$AP$2:$AR$78,3,FALSE))","v":""},null,null,null,null,null,null,""]
[null,{"$f":"IF(D90=\"\",\"\",VLOOKUP($D90,Lists!$AP$2:$AR$78,2,FALSE))","v":""},{"$f":"IF(D90=\"\",\"\",VLOOKUP($D90,Lists!$AP$2:$AR$78,3,FALSE))","v":""},null,null,null,null,null,null,""]
[null,{"$f":"IF(D91=\"\",\"\",VLOOKUP($D91,Lists!$AP$2:$AR$78,2,FALSE))","v":""},{"$f":"IF(D91=\"\",\"\",VLOOKUP($D91,Lists!$AP$2:$AR$78,3,FALSE))","v":""},null,null,null,null,null,null,""]
[null,{"$f":"IF(D92=\"\",\"\",VLOOKUP($D92,Lists!$AP$2:$AR$78,2,FALSE))","v":""},{"$f":"IF(D92=\"\",\"\",VLOOKUP($D92,Lists!$AP$2:$AR$78,3,FALSE))","v":""},null,null,null,null,null,null,""]
[null,{"$f":"IF(D93=\"\",\"\",VLOOKUP($D93,Lists!$AP$2:$AR$78,2,FALSE))","v":""},{"$f":"IF(D93=\"\",\"\",VLOOKUP($D93,Lists!$AP$2:$AR$78,3,FALSE))","v":""},null,null,null,null,null,null,""]
[null,{"$f":"IF(D94=\"\",\"\",VLOOKUP($D94,Lists!$AP$2:$AR$78,2,FALSE))","v":""},{"$f":"IF(D94=\"\",\"\",VLOOKUP($D94,Lists!$AP$2:$AR$78,3,FALSE))","v":""},null,null,null,null,null,null,""]
[null,{"$f":"IF(D95=\"\",\"\",VLOOKUP($D95,Lists!$AP$2:$AR$78,2,FALSE))","v":""},{"$f":"IF(D95=\"\",\"\",VLOOKUP($D95,Lists!$AP$2:$AR$78,3,FALSE))","v":""},null,null,null,null,null,null,""]
[null,{"$f":"IF(D96=\"\",\"\",VLOOKUP($D96,Lists!$AP$2:$AR$78,2,FALSE))","v":""},{"$f":"IF(D96=\"\",\"\",VLOOKUP($D96,Lists!$AP$2:$AR$78,3,FALSE))","v":""},null,null,null,null,null,null,""]
[null,{"$f":"IF(D97=\"\",\"\",VLOOKUP($D97,Lists!$AP$2:$AR$78,2,FALSE))","v":""},{"$f":"IF(D97=\"\",\"\",VLOOKUP($D97,Lists!$AP$2:$AR$78,3,FALSE))","v":""},null,null,null,null,null,null,""]
[null,{"$f":"IF(D98=\"\",\"\",VLOOKUP($D98,Lists!$AP$2:$AR$78,2,FALSE))","v":""},{"$f":"IF(D98=\"\",\"\",VLOOKUP($D98,Lists!$AP$2:$AR$78,3,FALSE))","v":""},null,null,null,null,null,null,""]
[null,{"$f":"IF(D99=\"\",\"\",VLOOKUP($D99,Lists!$AP$2:$AR$78,2,FALSE))","v":""},{"$f":"IF(D99=\"\",\"\",VLOOKUP($D99,Lists!$AP$2:$AR$78,3,FALSE))","v":""},null,null,null,null,null,null,""]
[null,{"$f":"IF(D100=\"\",\"\",VLOOKUP($D100,Lists!$AP$2:$AR$78,2,FALSE))","v":""},{"$f":"IF(D100=\"\",\"\",VLOOKUP($D100,Lists!$AP$2:$AR$78,3,FALSE))","v":""},null,null,null,null,null,null,""]
[null,{"$f":"IF(D101=\"\",\"\",VLOOKUP($D101,Lists!$AP$2:$AR$78,2,FALSE))","v":""},{"$f":"IF(D101=\"\",\"\",VLOOKUP($D101,Lists!$AP$2:$AR$78,3,FALSE))","v":""},null,null,null,null,null,null,""]
[null,{"$f":"IF(D102=\"\",\"\",VLOOKUP($D102,Lists!$AP$2:$AR$78,2,FALSE))","v":""},{"$f":"IF(D102=\"\",\"\",VLOOKUP($D102,Lists!$AP$2:$AR$78,3,FALSE))","v":""},null,null,null,null,null,null,""]
[null,{"$f":"IF(D103=\"\",\"\",VLOOKUP($D103,Lists!$AP$2:$AR$78,2,FALSE))","v":""},{"$f":"IF(D103=\"\",\"\",VLOOKUP($D103,Lists!$AP$2:$AR$78,3,FALSE))","v":""},null,null,null,null,null,null,""]
[null,{"$f":"IF(D104=\"\",\"\",VLOOKUP($D104,Lists!$AP$2:$AR$78,2,FALSE))","v":""},{"$f":"IF(D104=\"\",\"\",VLOOKUP($D104,Lists!$AP$2:$AR$78,3,FALSE))","v":""},null,null,null,null,null,null,""]
[null,{"$f":"IF(D105=\"\",\"\",VLOOKUP($D105,Lists!$AP$2:$AR$78,2,FALSE))","v":""},{"$f":"IF(D105=\"\",\"\",VLOOKUP($D105,Lists!$AP$2:$AR$78,3,FALSE))","v":""},null,null,null,null,null,null,""]
[null,{"$f":"IF(D106=\"\",\"\",VLOOKUP($D106,Lists!$AP$2:$AR$78,2,FALSE))","v":""},{"$f":"IF(D106=\"\",\"\",VLOOKUP($D106,Lists!$AP$2:$AR$78,3,FALSE))","v":""},null,null,null,null,null,null,""]
[null,{"$f":"IF(D107=\"\",\"\",VLOOKUP($D107,Lists!$AP$2:$AR$78,2,FALSE))","v":""},{"$f":"IF(D107=\"\",\"\",VLOOKUP($D107,Lists!$AP$2:$AR$78,3,FALSE))","v":""},null,null,null,null,null,null,""]
[null,{"$f":"IF(D108=\"\",\"\",VLOOKUP($D108,Lists!$AP$2:$AR$78,2,FALSE))","v":""},{"$f":"IF(D108=\"\",\"\",VLOOKUP($D108,Lists!$AP$2:$AR$78,3,FALSE))","v":""},null,null,null,null,null,null,""]
[null,{"$f":"IF(D109=\"\",\"\",VLOOKUP($D109,Lists!$AP$2:$AR$78,2,FALSE))","v":""},{"$f":"IF(D109=\"\",\"\",VLOOKUP($D109,Lists!$AP$2:$AR$78,3,FALSE))","v":""},null,null,null,null,null,null,""]
[null,{"$f":"IF(D110=\"\",\"\",VLOOKUP($D110,Lists!$AP$2:$AR$78,2,FALSE))","v":""},{"$f":"IF(D110=\"\",\"\",VLOOKUP($D110,Lists!$AP$2:$AR$78,3,FALSE))","v":""},null,null,null,null,null,null,""]
[null,{"$f":"IF(D111=\"\",\"\",VLOOKUP($D111,Lists!$AP$2:$AR$78,2,FALSE))","v":""},{"$f":"IF(D111=\"\",\"\",VLOOKUP($D111,Lists!$AP$2:$AR$78,3,FALSE))","v":""},null,null,null,null,null,null,""]
[null,{"$f":"IF(D112=\"\",\"\",VLOOKUP($D112,Lists!$AP$2:$AR$78,2,FALSE))","v":""},{"$f":"IF(D112=\"\",\"\",VLOOKUP($D112,Lists!$AP$2:$AR$78,3,FALSE))","v":""},null,null,null,null,null,null,""]
[null,{"$f":"IF(D113=\"\",\"\",VLOOKUP($D113,Lists!$AP$2:$AR$78,2,FALSE))","v":""},{"$f":"IF(D113=\"\",\"\",VLOOKUP($D113,Lists!$AP$2:$AR$78,3,FALSE))","v":""},null,null,null,null,null,null,""]
[null,{"$f":"IF(D114=\"\",\"\",VLOOKUP($D114,Lists!$AP$2:$AR$78,2,FALSE))","v":""},{"$f":"IF(D114=\"\",\"\",VLOOKUP($D114,Lists!$AP$2:$AR$78,3,FALSE))","v":""},null,null,null,null,null,null,""]
[null,{"$f":"IF(D115=\"\",\"\",VLOOKUP($D115,Lists!$AP$2:$AR$78,2,FALSE))","v":""},{"$f":"IF(D115=\"\",\"\",VLOOKUP($D115,Lists!$AP$2:$AR$78,3,FALSE))","v":""},null,null,null,null,null,null,""]
[null,{"$f":"IF(D116=\"\",\"\",VLOOKUP($D116,Lists!$AP$2:$AR$78,2,FALSE))","v":""},{"$f":"IF(D116=\"\",\"\",VLOOKUP($D116,Lists!$AP$2:$AR$78,3,FALSE))","v":""},null,null,null,null,null,null,""]
[null,{"$f":"IF(D117=\"\",\"\",VLOOKUP($D117,Lists!$AP$2:$AR$78,2,FALSE))","v":""},{"$f":"IF(D117=\"\",\"\",VLOOKUP($D117,Lists!$AP$2:$AR$78,3,FALSE))","v":""},null,null,null,null,null,null,""]
[null,{"$f":"IF(D118=\"\",\"\",VLOOKUP($D118,Lists!$AP$2:$AR$78,2,FALSE))","v":""},{"$f":"IF(D118=\"\",\"\",VLOOKUP($D118,Lists!$AP$2:$AR$78,3,FALSE))","v":""},null,null,null,null,null,null,""]
[null,{"$f":"IF(D119=\"\",\"\",VLOOKUP($D119,Lists!$AP$2:$AR$78,2,FALSE))","v":""},{"$f":"IF(D119=\"\",\"\",VLOOKUP($D119,Lists!$AP$2:$AR$78,3,FALSE))","v":""},null,null,null,null,null,null,""]
[null,{"$f":"IF(D120=\"\",\"\",VLOOKUP($D120,Lists!$AP$2:$AR$78,2,FALSE))","v":""},{"$f":"IF(D120=\"\",\"\",VLOOKUP($D120,Lists!$AP$2:$AR$78,3,FALSE))","v":""},null,null,null,null,null,null,""]
[null,{"$f":"IF(D121=\"\",\"\",VLOOKUP($D121,Lists!$AP$2:$AR$78,2,FALSE))","v":""},{"$f":"IF(D121=\"\",\"\",VLOOKUP($D121,Lists!$AP$2:$AR$78,3,FALSE))","v":""},null,null,null,null,null,null,""]
[null,{"$f":"IF(D122=\"\",\"\",VLOOKUP($D122,Lists!$AP$2:$AR$78,2,FALSE))","v":""},{"$f":"IF(D122=\"\",\"\",VLOOKUP($D122,Lists!$AP$2:$AR$78,3,FALSE))","v":""},null,null,null,null,null,null,""]
[null,{"$f":"IF(D123=\"\",\"\",VLOOKUP($D123,Lists!$AP$2:$AR$78,2,FALSE))","v":""},{"$f":"IF(D123=\"\",\"\",VLOOKUP($D123,Lists!$AP$2:$AR$78,3,FALSE))","v":""},null,null,null,null,null,null,""]
[null,{"$f":"IF(D124=\"\",\"\",VLOOKUP($D124,Lists!$AP$2:$AR$78,2,FALSE))","v":""},{"$f":"IF(D124=\"\",\"\",VLOOKUP($D124,Lists!$AP$2:$AR$78,3,FALSE))","v":""},null,null,null,null,null,null,""]
[null,{"$f":"IF(D125=\"\",\"\",VLOOKUP($D125,Lists!$AP$2:$AR$78,2,FALSE))","v":""},{"$f":"IF(D125=\"\",\"\",VLOOKUP($D125,Lists!$AP$2:$AR$78,3,FALSE))","v":""},null,null,null,null,null,null,""]
[null,{"$f":"IF(D126=\"\",\"\",VLOOKUP($D126,Lists!$AP$2:$AR$78,2,FALSE))","v":""},{"$f":"IF(D126=\"\",\"\",VLOOKUP($D126,Lists!$AP$2:$AR$78,3,FALSE))","v":""},null,null,null,null,null,null,""]
[null,{"$f":"IF(D127=\"\",\"\",VLOOKUP($D127,Lists!$AP$2:$AR$78,2,FALSE))","v":""},{"$f":"IF(D127=\"\",\"\",VLOOKUP($D127,Lists!$AP$2:$AR$78,3,FALSE))","v":""},null,null,null,null,null,null,""]
[null,{"$f":"IF(D128=\"\",\"\",VLOOKUP($D128,Lists!$AP$2:$AR$78,2,FALSE))","v":""},{"$f":"IF(D128=\"\",\"\",VLOOKUP($D128,Lists!$AP$2:$AR$78,3,FALSE))","v":""},null,null,null,null,null,null,""]
[null,{"$f":"IF(D129=\"\",\"\",VLOOKUP($D129,Lists!$AP$2:$AR$78,2,FALSE))","v":""},{"$f":"IF(D129=\"\",\"\",VLOOKUP($D129,Lists!$AP$2:$AR$78,3,FALSE))","v":""},null,null,null,null,null,null,""]
[null,{"$f":"IF(D130=\"\",\"\",VLOOKUP($D130,Lists!$AP$2:$AR$78,2,FALSE))","v":""},{"$f":"IF(D130=\"\",\"\",VLOOKUP($D130,Lists!$AP$2:$AR$78,3,FALSE))","v":""},null,null,null,null,null,null,""]
[null,{"$f":"IF(D131=\"\",\"\",VLOOKUP($D131,Lists!$AP$2:$AR$78,2,FALSE))","v":""},{"$f":"IF(D131=\"\",\"\",VLOOKUP($D131,Lists!$AP$2:$AR$78,3,FALSE))","v":""},null,null,null,null,null,null,""]
[null,{"$f":"IF(D132=\"\",\"\",VLOOKUP($D132,Lists!$AP$2:$AR$78,2,FALSE))","v":""},{"$f":"IF(D132=\"\",\"\",VLOOKUP($D132,Lists!$AP$2:$AR$78,3,FALSE))","v":""},null,null,null,null,null,null,""]
[null,{"$f":"IF(D133=\"\",\"\",VLOOKUP($D133,Lists!$AP$2:$AR$78,2,FALSE))","v":""},{"$f":"IF(D133=\"\",\"\",VLOOKUP($D133,Lists!$AP$2:$AR$78,3,FALSE))","v":""},null,null,null,null,null,null,""]
[null,{"$f":"IF(D134=\"\",\"\",VLOOKUP($D134,Lists!$AP$2:$AR$78,2,FALSE))","v":""},{"$f":"IF(D134=\"\",\"\",VLOOKUP($D134,Lists!$AP$2:$AR$78,3,FALSE))","v":""},null,null,null,null,null,null,""]
[null,{"$f":"IF(D135=\"\",\"\",VLOOKUP($D135,Lists!$AP$2:$AR$78,2,FALSE))","v":""},{"$f":"IF(D135=\"\",\"\",VLOOKUP($D135,Lists!$AP$2:$AR$78,3,FALSE))","v":""},null,null,null,null,null,null,""]
[null,{"$f":"IF(D136=\"\",\"\",VLOOKUP($D136,Lists!$AP$2:$AR$78,2,FALSE))","v":""},{"$f":"IF(D136=\"\",\"\",VLOOKUP($D136,Lists!$AP$2:$AR$78,3,FALSE))","v":""},null,null,null,null,null,null,""]
[null,{"$f":"IF(D137=\"\",\"\",VLOOKUP($D137,Lists!$AP$2:$AR$78,2,FALSE))","v":""},{"$f":"IF(D137=\"\",\"\",VLOOKUP($D137,Lists!$AP$2:$AR$78,3,FALSE))","v":""},null,null,null,null,null,null,""]
[null,{"$f":"IF(D138=\"\",\"\",VLOOKUP($D138,Lists!$AP$2:$AR$78,2,FALSE))","v":""},{"$f":"IF(D138=\"\",\"\",VLOOKUP($D138,Lists!$AP$2:$AR$78,3,FALSE))","v":""},null,null,null,null,null,null,""]
[null,{"$f":"IF(D139=\"\",\"\",VLOOKUP($D139,Lists!$AP$2:$AR$78,2,FALSE))","v":""},{"$f":"IF(D139=\"\",\"\",VLOOKUP($D139,Lists!$AP$2:$AR$78,3,FALSE))","v":""},null,null,null,null,null,null,""]
[null,{"$f":"IF(D140=\"\",\"\",VLOOKUP($D140,Lists!$AP$2:$AR$78,2,FALSE))","v":""},{"$f":"IF(D140=\"\",\"\",VLOOKUP($D140,Lists!$AP$2:$AR$78,3,FALSE))","v":""},null,null,null,null,null,null,""]
[null,{"$f":"IF(D141=\"\",\"\",VLOOKUP($D141,Lists!$AP$2:$AR$78,2,FALSE))","v":""},{"$f":"IF(D141=\"\",\"\",VLOOKUP($D141,Lists!$AP$2:$AR$78,3,FALSE))","v":""},null,null,null,null,null,null,{"$f":"IF(I141=\"\",\"\",(VALUE(TEXT(H141,\"m/dd/yy \")&TEXT(I141,\"hh:mm:ss\"))-(VALUE(TEXT(F141,\"m/dd/yy \")&TEXT(G141,\"hh:mm:ss\"))))*24)","v":""}]
[null,{"$f":"IF(D142=\"\",\"\",VLOOKUP($D142,Lists!$AP$2:$AR$78,2,FALSE))","v":""},{"$f":"IF(D142=\"\",\"\",VLOOKUP($D142,Lists!$AP$2:$AR$78,3,FALSE))","v":""},null,null,null,null,null,null,""]
[null,{"$f":"IF(D143=\"\",\"\",VLOOKUP($D143,Lists!$AP$2:$AR$78,2,FALSE))","v":""},{"$f":"IF(D143=\"\",\"\",VLOOKUP($D143,Lists!$AP$2:$AR$78,3,FALSE))","v":""},null,null,null,null,null,null,""]
[null,{"$f":"IF(D144=\"\",\"\",VLOOKUP($D144,Lists!$AP$2:$AR$78,2,FALSE))","v":""},{"$f":"IF(D144=\"\",\"\",VLOOKUP($D144,Lists!$AP$2:$AR$78,3,FALSE))","v":""},null,null,null,null,null,null,""]
[null,{"$f":"IF(D145=\"\",\"\",VLOOKUP($D145,Lists!$AP$2:$AR$78,2,FALSE))","v":""},{"$f":"IF(D145=\"\",\"\",VLOOKUP($D145,Lists!$AP$2:$AR$78,3,FALSE))","v":""},null,null,null,null,null,null,""]
[null,{"$f":"IF(D146=\"\",\"\",VLOOKUP($D146,Lists!$AP$2:$AR$78,2,FALSE))","v":""},{"$f":"IF(D146=\"\",\"\",VLOOKUP($D146,Lists!$AP$2:$AR$78,3,FALSE))","v":""},null,null,null,null,null,null,""]
[null,{"$f":"IF(D147=\"\",\"\",VLOOKUP($D147,Lists!$AP$2:$AR$78,2,FALSE))","v":""},{"$f":"IF(D147=\"\",\"\",VLOOKUP($D147,Lists!$AP$2:$AR$78,3,FALSE))","v":""},null,null,null,null,null,null,""]
[null,{"$f":"IF(D148=\"\",\"\",VLOOKUP($D148,Lists!$AP$2:$AR$78,2,FALSE))","v":""},{"$f":"IF(D148=\"\",\"\",VLOOKUP($D148,Lists!$AP$2:$AR$78,3,FALSE))","v":""},null,null,null,null,null,null,""]
[null,{"$f":"IF(D149=\"\",\"\",VLOOKUP($D149,Lists!$AP$2:$AR$78,2,FALSE))","v":""},{"$f":"IF(D149=\"\",\"\",VLOOKUP($D149,Lists!$AP$2:$AR$78,3,FALSE))","v":""},null,null,null,null,null,null,""]
[null,{"$f":"IF(D150=\"\",\"\",VLOOKUP($D150,Lists!$AP$2:$AR$78,2,FALSE))","v":""},{"$f":"IF(D150=\"\",\"\",VLOOKUP($D150,Lists!$AP$2:$AR$78,3,FALSE))","v":""},null,null,null,null,null,null,""]
[null,{"$f":"IF(D151=\"\",\"\",VLOOKUP($D151,Lists!$AP$2:$AR$78,2,FALSE))","v":""},{"$f":"IF(D151=\"\",\"\",VLOOKUP($D151,Lists!$AP$2:$AR$78,3,FALSE))","v":""},null,null,null,null,null,null,""]
[null,{"$f":"IF(D152=\"\",\"\",VLOOKUP($D152,Lists!$AP$2:$AR$78,2,FALSE))","v":""},{"$f":"IF(D152=\"\",\"\",VLOOKUP($D152,Lists!$AP$2:$AR$78,3,FALSE))","v":""},null,null,null,null,null,null,""]
[null,{"$f":"IF(D153=\"\",\"\",VLOOKUP($D153,Lists!$AP$2:$AR$78,2,FALSE))","v":""},{"$f":"IF(D153=\"\",\"\",VLOOKUP($D153,Lists!$AP$2:$AR$78,3,FALSE))","v":""},null,null,null,null,null,null,""]
[null,{"$f":"IF(D154=\"\",\"\",VLOOKUP($D154,Lists!$AP$2:$AR$78,2,FALSE))","v":""},{"$f":"IF(D154=\"\",\"\",VLOOKUP($D154,Lists!$AP$2:$AR$78,3,FALSE))","v":""},null,null,null,null,null,null,""]
[null,{"$f":"IF(D155=\"\",\"\",VLOOKUP($D155,Lists!$AP$2:$AR$78,2,FALSE))","v":""},{"$f":"IF(D155=\"\",\"\",VLOOKUP($D155,Lists!$AP$2:$AR$78,3,FALSE))","v":""},null,null,null,null,null,null,""]
[null,{"$f":"IF(D156=\"\",\"\",VLOOKUP($D156,Lists!$AP$2:$AR$78,2,FALSE))","v":""},{"$f":"IF(D156=\"\",\"\",VLOOKUP($D156,Lists!$AP$2:$AR$78,3,FALSE))","v":""},null,null,null,null,null,null,""]
[null,{"$f":"IF(D157=\"\",\"\",VLOOKUP($D157,Lists!$AP$2:$AR$78,2,FALSE))","v":""},{"$f":"IF(D157=\"\",\"\",VLOOKUP($D157,Lists!$AP$2:$AR$78,3,FALSE))","v":""},null,null,null,null,null,null,""]
[null,{"$f":"IF(D158=\"\",\"\",VLOOKUP($D158,Lists!$AP$2:$AR$78,2,FALSE))","v":""},{"$f":"IF(D158=\"\",\"\",VLOOKUP($D158,Lists!$AP$2:$AR$78,3,FALSE))","v":""},null,null,null,null,null,null,""]
[null,{"$f":"IF(D159=\"\",\"\",VLOOKUP($D159,Lists!$AP$2:$AR$78,2,FALSE))","v":""},{"$f":"IF(D159=\"\",\"\",VLOOKUP($D159,Lists!$AP$2:$AR$78,3,FALSE))","v":""},null,null,null,null,null,null,""]
[null,{"$f":"IF(D160=\"\",\"\",VLOOKUP($D160,Lists!$AP$2:$AR$78,2,FALSE))","v":""},{"$f":"IF(D160=\"\",\"\",VLOOKUP($D160,Lists!$AP$2:$AR$78,3,FALSE))","v":""},null,null,null,null,null,null,""]
[null,{"$f":"IF(D161=\"\",\"\",VLOOKUP($D161,Lists!$AP$2:$AR$78,2,FALSE))","v":""},{"$f":"IF(D161=\"\",\"\",VLOOKUP($D161,Lists!$AP$2:$AR$78,3,FALSE))","v":""},null,null,null,null,null,null,""]
[null,{"$f":"IF(D162=\"\",\"\",VLOOKUP($D162,Lists!$AP$2:$AR$78,2,FALSE))","v":""},{"$f":"IF(D162=\"\",\"\",VLOOKUP($D162,Lists!$AP$2:$AR$78,3,FALSE))","v":""},null,null,null,null,null,null,""]
[null,{"$f":"IF(D163=\"\",\"\",VLOOKUP($D163,Lists!$AP$2:$AR$78,2,FALSE))","v":""},{"$f":"IF(D163=\"\",\"\",VLOOKUP($D163,Lists!$AP$2:$AR$78,3,FALSE))","v":""},null,null,null,null,null,null,""]
[null,{"$f":"IF(D164=\"\",\"\",VLOOKUP($D164,Lists!$AP$2:$AR$78,2,FALSE))","v":""},{"$f":"IF(D164=\"\",\"\",VLOOKUP($D164,Lists!$AP$2:$AR$78,3,FALSE))","v":""},null,null,null,null,null,null,""]
[null,{"$f":"IF(D165=\"\",\"\",VLOOKUP($D165,Lists!$AP$2:$AR$78,2,FALSE))","v":""},{"$f":"IF(D165=\"\",\"\",VLOOKUP($D165,Lists!$AP$2:$AR$78,3,FALSE))","v":""},null,null,null,null,null,null,""]
[null,{"$f":"IF(D166=\"\",\"\",VLOOKUP($D166,Lists!$AP$2:$AR$78,2,FALSE))","v":""},{"$f":"IF(D166=\"\",\"\",VLOOKUP($D166,Lists!$AP$2:$AR$78,3,FALSE))","v":""},null,null,null,null,null,null,""]
[null,{"$f":"IF(D167=\"\",\"\",VLOOKUP($D167,Lists!$AP$2:$AR$78,2,FALSE))","v":""},{"$f":"IF(D167=\"\",\"\",VLOOKUP($D167,Lists!$AP$2:$AR$78,3,FALSE))","v":""},null,null,null,null,null,null,""]
[null,{"$f":"IF(D168=\"\",\"\",VLOOKUP($D168,Lists!$AP$2:$AR$78,2,FALSE))","v":""},{"$f":"IF(D168=\"\",\"\",VLOOKUP($D168,Lists!$AP$2:$AR$78,3,FALSE))","v":""},null,null,null,null,null,null,""]
[null,{"$f":"IF(D169=\"\",\"\",VLOOKUP($D169,Lists!$AP$2:$AR$78,2,FALSE))","v":""},{"$f":"IF(D169=\"\",\"\",VLOOKUP($D169,Lists!$AP$2:$AR$78,3,FALSE))","v":""},null,null,null,null,null,null,""]
[null,{"$f":"IF(D170=\"\",\"\",VLOOKUP($D170,Lists!$AP$2:$AR$78,2,FALSE))","v":""},{"$f":"IF(D170=\"\",\"\",VLOOKUP($D170,Lists!$AP$2:$AR$78,3,FALSE))","v":""},null,null,null,null,null,null,""]
[null,{"$f":"IF(D171=\"\",\"\",VLOOKUP($D171,Lists!$AP$2:$AR$78,2,FALSE))","v":""},{"$f":"IF(D171=\"\",\"\",VLOOKUP($D171,Lists!$AP$2:$AR$78,3,FALSE))","v":""},null,null,null,null,null,null,""]
[null,{"$f":"IF(D172=\"\",\"\",VLOOKUP($D172,Lists!$AP$2:$AR$78,2,FALSE))","v":""},{"$f":"IF(D172=\"\",\"\",VLOOKUP($D172,Lists!$AP$2:$AR$78,3,FALSE))","v":""},null,null,null,null,null,null,""]
[null,{"$f":"IF(D173=\"\",\"\",VLOOKUP($D173,Lists!$AP$2:$AR$78,2,FALSE))","v":""},{"$f":"IF(D173=\"\",\"\",VLOOKUP($D173,Lists!$AP$2:$AR$78,3,FALSE))","v":""},null,null,null,null,null,null,""]
[null,{"$f":"IF(D174=\"\",\"\",VLOOKUP($D174,Lists!$AP$2:$AR$78,2,FALSE))","v":""},{"$f":"IF(D174=\"\",\"\",VLOOKUP($D174,Lists!$AP$2:$AR$78,3,FALSE))","v":""},null,null,null,null,null,null,""]
[null,{"$f":"IF(D175=\"\",\"\",VLOOKUP($D175,Lists!$AP$2:$AR$78,2,FALSE))","v":""},{"$f":"IF(D175=\"\",\"\",VLOOKUP($D175,Lists!$AP$2:$AR$78,3,FALSE))","v":""},null,null,null,null,null,null,""]
[null,{"$f":"IF(D176=\"\",\"\",VLOOKUP($D176,Lists!$AP$2:$AR$78,2,FALSE))","v":""},{"$f":"IF(D176=\"\",\"\",VLOOKUP($D176,Lists!$AP$2:$AR$78,3,FALSE))","v":""},null,null,null,null,null,null,""]
[null,{"$f":"IF(D177=\"\",\"\",VLOOKUP($D177,Lists!$AP$2:$AR$78,2,FALSE))","v":""},{"$f":"IF(D177=\"\",\"\",VLOOKUP($D177,Lists!$AP$2:$AR$78,3,FALSE))","v":""},null,null,null,null,null,null,""]
[null,{"$f":"IF(D178=\"\",\"\",VLOOKUP($D178,Lists!$AP$2:$AR$78,2,FALSE))","v":""},{"$f":"IF(D178=\"\",\"\",VLOOKUP($D178,Lists!$AP$2:$AR$78,3,FALSE))","v":""},null,null,null,null,null,null,""]
[null,{"$f":"IF(D179=\"\",\"\",VLOOKUP($D179,Lists!$AP$2:$AR$78,2,FALSE))","v":""},{"$f":"IF(D179=\"\",\"\",VLOOKUP($D179,Lists!$AP$2:$AR$78,3,FALSE))","v":""},null,null,null,null,null,null,""]
[null,{"$f":"IF(D180=\"\",\"\",VLOOKUP($D180,Lists!$AP$2:$AR$78,2,FALSE))","v":""},{"$f":"IF(D180=\"\",\"\",VLOOKUP($D180,Lists!$AP$2:$AR$78,3,FALSE))","v":""},null,null,null,null,null,null,""]
[null,{"$f":"IF(D181=\"\",\"\",VLOOKUP($D181,Lists!$AP$2:$AR$78,2,FALSE))","v":""},{"$f":"IF(D181=\"\",\"\",VLOOKUP($D181,Lists!$AP$2:$AR$78,3,FALSE))","v":""},null,null,null,null,null,null,""]
[null,{"$f":"IF(D182=\"\",\"\",VLOOKUP($D182,Lists!$AP$2:$AR$78,2,FALSE))","v":""},{"$f":"IF(D182=\"\",\"\",VLOOKUP($D182,Lists!$AP$2:$AR$78,3,FALSE))","v":""},null,null,null,null,null,null,""]
[null,{"$f":"IF(D183=\"\",\"\",VLOOKUP($D183,Lists!$AP$2:$AR$78,2,FALSE))","v":""},{"$f":"IF(D183=\"\",\"\",VLOOKUP($D183,Lists!$AP$2:$AR$78,3,FALSE))","v":""},null,null,null,null,null,null,""]
[null,{"$f":"IF(D184=\"\",\"\",VLOOKUP($D184,Lists!$AP$2:$AR$78,2,FALSE))","v":""},{"$f":"IF(D184=\"\",\"\",VLOOKUP($D184,Lists!$AP$2:$AR$78,3,FALSE))","v":""},null,null,null,null,null,null,""]
[null,{"$f":"IF(D185=\"\",\"\",VLOOKUP($D185,Lists!$AP$2:$AR$78,2,FALSE))","v":""},{"$f":"IF(D185=\"\",\"\",VLOOKUP($D185,Lists!$AP$2:$AR$78,3,FALSE))","v":""},null,null,null,null,null,null,""]
[null,{"$f":"IF(D186=\"\",\"\",VLOOKUP($D186,Lists!$AP$2:$AR$78,2,FALSE))","v":""},{"$f":"IF(D186=\"\",\"\",VLOOKUP($D186,Lists!$AP$2:$AR$78,3,FALSE))","v":""},null,null,null,null,null,null,""]
[null,{"$f":"IF(D187=\"\",\"\",VLOOKUP($D187,Lists!$AP$2:$AR$78,2,FALSE))","v":""},{"$f":"IF(D187=\"\",\"\",VLOOKUP($D187,Lists!$AP$2:$AR$78,3,FALSE))","v":""},null,null,null,null,null,null,""]
[null,{"$f":"IF(D188=\"\",\"\",VLOOKUP($D188,Lists!$AP$2:$AR$78,2,FALSE))","v":""},{"$f":"IF(D188=\"\",\"\",VLOOKUP($D188,Lists!$AP$2:$AR$78,3,FALSE))","v":""},null,null,null,null,null,null,""]
[null,{"$f":"IF(D189=\"\",\"\",VLOOKUP($D189,Lists!$AP$2:$AR$78,2,FALSE))","v":""},{"$f":"IF(D189=\"\",\"\",VLOOKUP($D189,Lists!$AP$2:$AR$78,3,FALSE))","v":""},null,null,null,null,null,null,""]
[null,{"$f":"IF(D190=\"\",\"\",VLOOKUP($D190,Lists!$AP$2:$AR$78,2,FALSE))","v":""},{"$f":"IF(D190=\"\",\"\",VLOOKUP($D190,Lists!$AP$2:$AR$78,3,FALSE))","v":""},null,null,null,null,null,null,""]
[null,{"$f":"IF(D191=\"\",\"\",VLOOKUP($D191,Lists!$AP$2:$AR$78,2,FALSE))","v":""},{"$f":"IF(D191=\"\",\"\",VLOOKUP($D191,Lists!$AP$2:$AR$78,3,FALSE))","v":""},null,null,null,null,null,null,""]
[null,{"$f":"IF(D192=\"\",\"\",VLOOKUP($D192,Lists!$AP$2:$AR$78,2,FALSE))","v":""},{"$f":"IF(D192=\"\",\"\",VLOOKUP($D192,Lists!$AP$2:$AR$78,3,FALSE))","v":""},null,null,null,null,null,null,""]
[null,{"$f":"IF(D193=\"\",\"\",VLOOKUP($D193,Lists!$AP$2:$AR$78,2,FALSE))","v":""},{"$f":"IF(D193=\"\",\"\",VLOOKUP($D193,Lists!$AP$2:$AR$78,3,FALSE))","v":""},null,null,null,null,null,null,""]
[null,{"$f":"IF(D194=\"\",\"\",VLOOKUP($D194,Lists!$AP$2:$AR$78,2,FALSE))","v":""},{"$f":"IF(D194=\"\",\"\",VLOOKUP($D194,Lists!$AP$2:$AR$78,3,FALSE))","v":""},null,null,null,null,null,null,""]
[null,{"$f":"IF(D195=\"\",\"\",VLOOKUP($D195,Lists!$AP$2:$AR$78,2,FALSE))","v":""},{"$f":"IF(D195=\"\",\"\",VLOOKUP($D195,Lists!$AP$2:$AR$78,3,FALSE))","v":""},null,null,null,null,null,null,""]
[null,{"$f":"IF(D196=\"\",\"\",VLOOKUP($D196,Lists!$AP$2:$AR$78,2,FALSE))","v":""},{"$f":"IF(D196=\"\",\"\",VLOOKUP($D196,Lists!$AP$2:$AR$78,3,FALSE))","v":""},null,null,null,null,null,null,""]
[null,{"$f":"IF(D197=\"\",\"\",VLOOKUP($D197,Lists!$AP$2:$AR$78,2,FALSE))","v":""},{"$f":"IF(D197=\"\",\"\",VLOOKUP($D197,Lists!$AP$2:$AR$78,3,FALSE))","v":""},null,null,null,null,null,null,""]
[null,{"$f":"IF(D198=\"\",\"\",VLOOKUP($D198,Lists!$AP$2:$AR$78,2,FALSE))","v":""},{"$f":"IF(D198=\"\",\"\",VLOOKUP($D198,Lists!$AP$2:$AR$78,3,FALSE))","v":""},null,null,null,null,null,null,""]
[null,{"$f":"IF(D199=\"\",\"\",VLOOKUP($D199,Lists!$AP$2:$AR$78,2,FALSE))","v":""},{"$f":"IF(D199=\"\",\"\",VLOOKUP($D199,Lists!$AP$2:$AR$78,3,FALSE))","v":""},null,null,null,null,null,null,""]
[null,{"$f":"IF(D200=\"\",\"\",VLOOKUP($D200,Lists!$AP$2:$AR$78,2,FALSE))","v":""},{"$f":"IF(D200=\"\",\"\",VLOOKUP($D200,Lists!$AP$2:$AR$78,3,FALSE))","v":""},null,null,null,null,null,null,""]
[null,{"$f":"IF(D201=\"\",\"\",VLOOKUP($D201,Lists!$AP$2:$AR$78,2,FALSE))","v":""},{"$f":"IF(D201=\"\",\"\",VLOOKUP($D201,Lists!$AP$2:$AR$78,3,FALSE))","v":""},null,null,null,null,null,null,""]
[null,{"$f":"IF(D202=\"\",\"\",VLOOKUP($D202,Lists!$AP$2:$AR$78,2,FALSE))","v":""},{"$f":"IF(D202=\"\",\"\",VLOOKUP($D202,Lists!$AP$2:$AR$78,3,FALSE))","v":""},null,null,null,null,null,null,""]
[null,{"$f":"IF(D203=\"\",\"\",VLOOKUP($D203,Lists!$AP$2:$AR$78,2,FALSE))","v":""},{"$f":"IF(D203=\"\",\"\",VLOOKUP($D203,Lists!$AP$2:$AR$78,3,FALSE))","v":""},null,null,null,null,null,null,""]
[null,{"$f":"IF(D204=\"\",\"\",VLOOKUP($D204,Lists!$AP$2:$AR$78,2,FALSE))","v":""},{"$f":"IF(D204=\"\",\"\",VLOOKUP($D204,Lists!$AP$2:$AR$78,3,FALSE))","v":""},null,null,null,null,null,null,""]
[null,{"$f":"IF(D205=\"\",\"\",VLOOKUP($D205,Lists!$AP$2:$AR$78,2,FALSE))","v":""},{"$f":"IF(D205=\"\",\"\",VLOOKUP($D205,Lists!$AP$2:$AR$78,3,FALSE))","v":""},null,null,null,null,null,null,{"$f":"IF(I205=\"\",\"\",(VALUE(TEXT(H205,\"m/dd/yy \")&TEXT(I205,\"hh:mm:ss\"))-(VALUE(TEXT(F205,\"m/dd/yy \")&TEXT(G205,\"hh:mm:ss\"))))*24)","v":""}]
[null,{"$f":"IF(D206=\"\",\"\",VLOOKUP($D206,Lists!$AP$2:$AR$78,2,FALSE))","v":""},{"$f":"IF(D206=\"\",\"\",VLOOKUP($D206,Lists!$AP$2:$AR$78,3,FALSE))","v":""},null,null,null,null,null,null,""]
[null,{"$f":"IF(D207=\"\",\"\",VLOOKUP($D207,Lists!$AP$2:$AR$78,2,FALSE))","v":""},{"$f":"IF(D207=\"\",\"\",VLOOKUP($D207,Lists!$AP$2:$AR$78,3,FALSE))","v":""},null,null,null,null,null,null,""]
[null,{"$f":"IF(D208=\"\",\"\",VLOOKUP($D208,Lists!$AP$2:$AR$78,2,FALSE))","v":""},{"$f":"IF(D208=\"\",\"\",VLOOKUP($D208,Lists!$AP$2:$AR$78,3,FALSE))","v":""},null,null,null,null,null,null,""]
[null,{"$f":"IF(D209=\"\",\"\",VLOOKUP($D209,Lists!$AP$2:$AR$78,2,FALSE))","v":""},{"$f":"IF(D209=\"\",\"\",VLOOKUP($D209,Lists!$AP$2:$AR$78,3,FALSE))","v":""},null,null,null,null,null,null,""]
[null,{"$f":"IF(D210=\"\",\"\",VLOOKUP($D210,Lists!$AP$2:$AR$78,2,FALSE))","v":""},{"$f":"IF(D210=\"\",\"\",VLOOKUP($D210,Lists!$AP$2:$AR$78,3,FALSE))","v":""},null,null,null,null,null,null,""]
[null,{"$f":"IF(D211=\"\",\"\",VLOOKUP($D211,Lists!$AP$2:$AR$78,2,FALSE))","v":""},{"$f":"IF(D211=\"\",\"\",VLOOKUP($D211,Lists!$AP$2:$AR$78,3,FALSE))","v":""},null,null,null,null,null,null,""]
[null,{"$f":"IF(D212=\"\",\"\",VLOOKUP($D212,Lists!$AP$2:$AR$78,2,FALSE))","v":""},{"$f":"IF(D212=\"\",\"\",VLOOKUP($D212,Lists!$AP$2:$AR$78,3,FALSE))","v":""},null,null,null,null,null,null,""]
[null,{"$f":"IF(D213=\"\",\"\",VLOOKUP($D213,Lists!$AP$2:$AR$78,2,FALSE))","v":""},{"$f":"IF(D213=\"\",\"\",VLOOKUP($D213,Lists!$AP$2:$AR$78,3,FALSE))","v":""},null,null,null,null,null,null,""]
[null,{"$f":"IF(D214=\"\",\"\",VLOOKUP($D214,Lists!$AP$2:$AR$78,2,FALSE))","v":""},{"$f":"IF(D214=\"\",\"\",VLOOKUP($D214,Lists!$AP$2:$AR$78,3,FALSE))","v":""},null,null,null,null,null,null,""]
[null,{"$f":"IF(D215=\"\",\"\",VLOOKUP($D215,Lists!$AP$2:$AR$78,2,FALSE))","v":""},{"$f":"IF(D215=\"\",\"\",VLOOKUP($D215,Lists!$AP$2:$AR$78,3,FALSE))","v":""},null,null,null,null,null,null,""]
[null,{"$f":"IF(D216=\"\",\"\",VLOOKUP($D216,Lists!$AP$2:$AR$78,2,FALSE))","v":""},{"$f":"IF(D216=\"\",\"\",VLOOKUP($D216,Lists!$AP$2:$AR$78,3,FALSE))","v":""},null,null,null,null,null,null,""]
[null,{"$f":"IF(D217=\"\",\"\",VLOOKUP($D217,Lists!$AP$2:$AR$78,2,FALSE))","v":""},{"$f":"IF(D217=\"\",\"\",VLOOKUP($D217,Lists!$AP$2:$AR$78,3,FALSE))","v":""},null,null,null,null,null,null,""]
[null,{"$f":"IF(D218=\"\",\"\",VLOOKUP($D218,Lists!$AP$2:$AR$78,2,FALSE))","v":""},{"$f":"IF(D218=\"\",\"\",VLOOKUP($D218,Lists!$AP$2:$AR$78,3,FALSE))","v":""},null,null,null,null,null,null,""]
[null,{"$f":"IF(D219=\"\",\"\",VLOOKUP($D219,Lists!$AP$2:$AR$78,2,FALSE))","v":""},{"$f":"IF(D219=\"\",\"\",VLOOKUP($D219,Lists!$AP$2:$AR$78,3,FALSE))","v":""},null,null,null,null,null,null,""]
[null,{"$f":"IF(D220=\"\",\"\",VLOOKUP($D220,Lists!$AP$2:$AR$78,2,FALSE))","v":""},{"$f":"IF(D220=\"\",\"\",VLOOKUP($D220,Lists!$AP$2:$AR$78,3,FALSE))","v":""},null,null,null,null,null,null,""]
[null,{"$f":"IF(D221=\"\",\"\",VLOOKUP($D221,Lists!$AP$2:$AR$78,2,FALSE))","v":""},{"$f":"IF(D221=\"\",\"\",VLOOKUP($D221,Lists!$AP$2:$AR$78,3,FALSE))","v":""},null,null,null,null,null,null,""]
[null,{"$f":"IF(D222=\"\",\"\",VLOOKUP($D222,Lists!$AP$2:$AR$78,2,FALSE))","v":""},{"$f":"IF(D222=\"\",\"\",VLOOKUP($D222,Lists!$AP$2:$AR$78,3,FALSE))","v":""},null,null,null,null,null,null,""]
[null,{"$f":"IF(D223=\"\",\"\",VLOOKUP($D223,Lists!$AP$2:$AR$78,2,FALSE))","v":""},{"$f":"IF(D223=\"\",\"\",VLOOKUP($D223,Lists!$AP$2:$AR$78,3,FALSE))","v":""},null,null,null,null,null,null,""]
[null,{"$f":"IF(D224=\"\",\"\",VLOOKUP($D224,Lists!$AP$2:$AR$78,2,FALSE))","v":""},{"$f":"IF(D224=\"\",\"\",VLOOKUP($D224,Lists!$AP$2:$AR$78,3,FALSE))","v":""},null,null,null,null,null,null,""]
[null,{"$f":"IF(D225=\"\",\"\",VLOOKUP($D225,Lists!$AP$2:$AR$78,2,FALSE))","v":""},{"$f":"IF(D225=\"\",\"\",VLOOKUP($D225,Lists!$AP$2:$AR$78,3,FALSE))","v":""},null,null,null,null,null,null,""]
[null,{"$f":"IF(D226=\"\",\"\",VLOOKUP($D226,Lists!$AP$2:$AR$78,2,FALSE))","v":""},{"$f":"IF(D226=\"\",\"\",VLOOKUP($D226,Lists!$AP$2:$AR$78,3,FALSE))","v":""},null,null,null,null,null,null,""]
[null,{"$f":"IF(D227=\"\",\"\",VLOOKUP($D227,Lists!$AP$2:$AR$78,2,FALSE))","v":""},{"$f":"IF(D227=\"\",\"\",VLOOKUP($D227,Lists!$AP$2:$AR$78,3,FALSE))","v":""},null,null,null,null,null,null,""]
[null,{"$f":"IF(D228=\"\",\"\",VLOOKUP($D228,Lists!$AP$2:$AR$78,2,FALSE))","v":""},{"$f":"IF(D228=\"\",\"\",VLOOKUP($D228,Lists!$AP$2:$AR$78,3,FALSE))","v":""},null,null,null,null,null,null,""]
[null,{"$f":"IF(D229=\"\",\"\",VLOOKUP($D229,Lists!$AP$2:$AR$78,2,FALSE))","v":""},{"$f":"IF(D229=\"\",\"\",VLOOKUP($D229,Lists!$AP$2:$AR$78,3,FALSE))","v":""},null,null,null,null,null,null,""]
[null,{"$f":"IF(D230=\"\",\"\",VLOOKUP($D230,Lists!$AP$2:$AR$78,2,FALSE))","v":""},{"$f":"IF(D230=\"\",\"\",VLOOKUP($D230,Lists!$AP$2:$AR$78,3,FALSE))","v":""},null,null,null,null,null,null,""]
[null,{"$f":"IF(D231=\"\",\"\",VLOOKUP($D231,Lists!$AP$2:$AR$78,2,FALSE))","v":""},{"$f":"IF(D231=\"\",\"\",VLOOKUP($D231,Lists!$AP$2:$AR$78,3,FALSE))","v":""},null,null,null,null,null,null,""]
[null,{"$f":"IF(D232=\"\",\"\",VLOOKUP($D232,Lists!$AP$2:$AR$78,2,FALSE))","v":""},{"$f":"IF(D232=\"\",\"\",VLOOKUP($D232,Lists!$AP$2:$AR$78,3,FALSE))","v":""},null,null,null,null,null,null,""]
[null,{"$f":"IF(D233=\"\",\"\",VLOOKUP($D233,Lists!$AP$2:$AR$78,2,FALSE))","v":""},{"$f":"IF(D233=\"\",\"\",VLOOKUP($D233,Lists!$AP$2:$AR$78,3,FALSE))","v":""},null,null,null,null,null,null,""]
[null,{"$f":"IF(D234=\"\",\"\",VLOOKUP($D234,Lists!$AP$2:$AR$78,2,FALSE))","v":""},{"$f":"IF(D234=\"\",\"\",VLOOKUP($D234,Lists!$AP$2:$AR$78,3,FALSE))","v":""},null,null,null,null,null,null,""]
[null,{"$f":"IF(D235=\"\",\"\",VLOOKUP($D235,Lists!$AP$2:$AR$78,2,FALSE))","v":""},{"$f":"IF(D235=\"\",\"\",VLOOKUP($D235,Lists!$AP$2:$AR$78,3,FALSE))","v":""},null,null,null,null,null,null,""]
[null,{"$f":"IF(D236=\"\",\"\",VLOOKUP($D236,Lists!$AP$2:$AR$78,2,FALSE))","v":""},{"$f":"IF(D236=\"\",\"\",VLOOKUP($D236,Lists!$AP$2:$AR$78,3,FALSE))","v":""},null,null,null,null,null,null,""]
[null,{"$f":"IF(D237=\"\",\"\",VLOOKUP($D237,Lists!$AP$2:$AR$78,2,FALSE))","v":""},{"$f":"IF(D237=\"\",\"\",VLOOKUP($D237,Lists!$AP$2:$AR$78,3,FALSE))","v":""},null,null,null,null,null,null,""]
[null,{"$f":"IF(D238=\"\",\"\",VLOOKUP($D238,Lists!$AP$2:$AR$78,2,FALSE))","v":""},{"$f":"IF(D238=\"\",\"\",VLOOKUP($D238,Lists!$AP$2:$AR$78,3,FALSE))","v":""},null,null,null,null,null,null,""]
[null,{"$f":"IF(D239=\"\",\"\",VLOOKUP($D239,Lists!$AP$2:$AR$78,2,FALSE))","v":""},{"$f":"IF(D239=\"\",\"\",VLOOKUP($D239,Lists!$AP$2:$AR$78,3,FALSE))","v":""},null,null,null,null,null,null,""]
[null,{"$f":"IF(D240=\"\",\"\",VLOOKUP($D240,Lists!$AP$2:$AR$78,2,FALSE))","v":""},{"$f":"IF(D240=\"\",\"\",VLOOKUP($D240,Lists!$AP$2:$AR$78,3,FALSE))","v":""},null,null,null,null,null,null,""]
[null,{"$f":"IF(D241=\"\",\"\",VLOOKUP($D241,Lists!$AP$2:$AR$78,2,FALSE))","v":""},{"$f":"IF(D241=\"\",\"\",VLOOKUP($D241,Lists!$AP$2:$AR$78,3,FALSE))","v":""},null,null,null,null,null,null,""]
[null,{"$f":"IF(D242=\"\",\"\",VLOOKUP($D242,Lists!$AP$2:$AR$78,2,FALSE))","v":""},{"$f":"IF(D242=\"\",\"\",VLOOKUP($D242,Lists!$AP$2:$AR$78,3,FALSE))","v":""},null,null,null,null,null,null,""]
[null,{"$f":"IF(D243=\"\",\"\",VLOOKUP($D243,Lists!$AP$2:$AR$78,2,FALSE))","v":""},{"$f":"IF(D243=\"\",\"\",VLOOKUP($D243,Lists!$AP$2:$AR$78,3,FALSE))","v":""},null,null,null,null,null,null,""]
[null,{"$f":"IF(D244=\"\",\"\",VLOOKUP($D244,Lists!$AP$2:$AR$78,2,FALSE))","v":""},{"$f":"IF(D244=\"\",\"\",VLOOKUP($D244,Lists!$AP$2:$AR$78,3,FALSE))","v":""},null,null,null,null,null,null,""]
[null,{"$f":"IF(D245=\"\",\"\",VLOOKUP($D245,Lists!$AP$2:$AR$78,2,FALSE))","v":""},{"$f":"IF(D245=\"\",\"\",VLOOKUP($D245,Lists!$AP$2:$AR$78,3,FALSE))","v":""},null,null,null,null,null,null,""]
[null,{"$f":"IF(D246=\"\",\"\",VLOOKUP($D246,Lists!$AP$2:$AR$78,2,FALSE))","v":""},{"$f":"IF(D246=\"\",\"\",VLOOKUP($D246,Lists!$AP$2:$AR$78,3,FALSE))","v":""},null,null,null,null,null,null,""]
[null,{"$f":"IF(D247=\"\",\"\",VLOOKUP($D247,Lists!$AP$2:$AR$78,2,FALSE))","v":""},{"$f":"IF(D247=\"\",\"\",VLOOKUP($D247,Lists!$AP$2:$AR$78,3,FALSE))","v":""},null,null,null,null,null,null,""]
[null,{"$f":"IF(D248=\"\",\"\",VLOOKUP($D248,Lists!$AP$2:$AR$78,2,FALSE))","v":""},{"$f":"IF(D248=\"\",\"\",VLOOKUP($D248,Lists!$AP$2:$AR$78,3,FALSE))","v":""},null,null,null,null,null,null,""]
[null,{"$f":"IF(D249=\"\",\"\",VLOOKUP($D249,Lists!$AP$2:$AR$78,2,FALSE))","v":""},{"$f":"IF(D249=\"\",\"\",VLOOKUP($D249,Lists!$AP$2:$AR$78,3,FALSE))","v":""},null,null,null,null,null,null,""]
[null,{"$f":"IF(D250=\"\",\"\",VLOOKUP($D250,Lists!$AP$2:$AR$78,2,FALSE))","v":""},{"$f":"IF(D250=\"\",\"\",VLOOKUP($D250,Lists!$AP$2:$AR$78,3,FALSE))","v":""},null,null,null,null,null,null,""]
[null,{"$f":"IF(D251=\"\",\"\",VLOOKUP($D251,Lists!$AP$2:$AR$78,2,FALSE))","v":""},{"$f":"IF(D251=\"\",\"\",VLOOKUP($D251,Lists!$AP$2:$AR$78,3,FALSE))","v":""},null,null,null,null,null,null,""]
[null,{"$f":"IF(D252=\"\",\"\",VLOOKUP($D252,Lists!$AP$2:$AR$78,2,FALSE))","v":""},{"$f":"IF(D252=\"\",\"\",VLOOKUP($D252,Lists!$AP$2:$AR$78,3,FALSE))","v":""},null,null,null,null,null,null,""]
[null,{"$f":"IF(D253=\"\",\"\",VLOOKUP($D253,Lists!$AP$2:$AR$78,2,FALSE))","v":""},{"$f":"IF(D253=\"\",\"\",VLOOKUP($D253,Lists!$AP$2:$AR$78,3,FALSE))","v":""},null,null,null,null,null,null,""]
[null,{"$f":"IF(D254=\"\",\"\",VLOOKUP($D254,Lists!$AP$2:$AR$78,2,FALSE))","v":""},{"$f":"IF(D254=\"\",\"\",VLOOKUP($D254,Lists!$AP$2:$AR$78,3,FALSE))","v":""},null,null,null,null,null,null,""]
[null,{"$f":"IF(D255=\"\",\"\",VLOOKUP($D255,Lists!$AP$2:$AR$78,2,FALSE))","v":""},{"$f":"IF(D255=\"\",\"\",VLOOKUP($D255,Lists!$AP$2:$AR$78,3,FALSE))","v":""},null,null,null,null,null,null,""]
[null,{"$f":"IF(D256=\"\",\"\",VLOOKUP($D256,Lists!$AP$2:$AR$78,2,FALSE))","v":""},{"$f":"IF(D256=\"\",\"\",VLOOKUP($D256,Lists!$AP$2:$AR$78,3,FALSE))","v":""},null,null,null,null,null,null,""]
[null,{"$f":"IF(D257=\"\",\"\",VLOOKUP($D257,Lists!$AP$2:$AR$78,2,FALSE))","v":""},{"$f":"IF(D257=\"\",\"\",VLOOKUP($D257,Lists!$AP$2:$AR$78,3,FALSE))","v":""},null,null,null,null,null,null,""]
[null,{"$f":"IF(D258=\"\",\"\",VLOOKUP($D258,Lists!$AP$2:$AR$78,2,FALSE))","v":""},{"$f":"IF(D258=\"\",\"\",VLOOKUP($D258,Lists!$AP$2:$AR$78,3,FALSE))","v":""},null,null,null,null,null,null,""]
[null,{"$f":"IF(D259=\"\",\"\",VLOOKUP($D259,Lists!$AP$2:$AR$78,2,FALSE))","v":""},{"$f":"IF(D259=\"\",\"\",VLOOKUP($D259,Lists!$AP$2:$AR$78,3,FALSE))","v":""},null,null,null,null,null,null,""]
[null,{"$f":"IF(D260=\"\",\"\",VLOOKUP($D260,Lists!$AP$2:$AR$78,2,FALSE))","v":""},{"$f":"IF(D260=\"\",\"\",VLOOKUP($D260,Lists!$AP$2:$AR$78,3,FALSE))","v":""},null,null,null,null,null,null,""]
[null,{"$f":"IF(D261=\"\",\"\",VLOOKUP($D261,Lists!$AP$2:$AR$78,2,FALSE))","v":""},{"$f":"IF(D261=\"\",\"\",VLOOKUP($D261,Lists!$AP$2:$AR$78,3,FALSE))","v":""},null,null,null,null,null,null,""]
[null,{"$f":"IF(D262=\"\",\"\",VLOOKUP($D262,Lists!$AP$2:$AR$78,2,FALSE))","v":""},{"$f":"IF(D262=\"\",\"\",VLOOKUP($D262,Lists!$AP$2:$AR$78,3,FALSE))","v":""},null,null,null,null,null,null,""]
[null,{"$f":"IF(D263=\"\",\"\",VLOOKUP($D263,Lists!$AP$2:$AR$78,2,FALSE))","v":""},{"$f":"IF(D263=\"\",\"\",VLOOKUP($D263,Lists!$AP$2:$AR$78,3,FALSE))","v":""},null,null,null,null,null,null,""]
[null,{"$f":"IF(D264=\"\",\"\",VLOOKUP($D264,Lists!$AP$2:$AR$78,2,FALSE))","v":""},{"$f":"IF(D264=\"\",\"\",VLOOKUP($D264,Lists!$AP$2:$AR$78,3,FALSE))","v":""},null,null,null,null,null,null,""]
[null,{"$f":"IF(D265=\"\",\"\",VLOOKUP($D265,Lists!$AP$2:$AR$78,2,FALSE))","v":""},{"$f":"IF(D265=\"\",\"\",VLOOKUP($D265,Lists!$AP$2:$AR$78,3,FALSE))","v":""},null,null,null,null,null,null,""]
[null,{"$f":"IF(D266=\"\",\"\",VLOOKUP($D266,Lists!$AP$2:$AR$78,2,FALSE))","v":""},{"$f":"IF(D266=\"\",\"\",VLOOKUP($D266,Lists!$AP$2:$AR$78,3,FALSE))","v":""},null,null,null,null,null,null,""]
[null,{"$f":"IF(D267=\"\",\"\",VLOOKUP($D267,Lists!$AP$2:$AR$78,2,FALSE))","v":""},{"$f":"IF(D267=\"\",\"\",VLOOKUP($D267,Lists!$AP$2:$AR$78,3,FALSE))","v":""},null,null,null,null,null,null,""]
[null,{"$f":"IF(D268=\"\",\"\",VLOOKUP($D268,Lists!$AP$2:$AR$78,2,FALSE))","v":""},{"$f":"IF(D268=\"\",\"\",VLOOKUP($D268,Lists!$AP$2:$AR$78,3,FALSE))","v":""},null,null,null,null,null,null,""]
[null,{"$f":"IF(D269=\"\",\"\",VLOOKUP($D269,Lists!$AP$2:$AR$78,2,FALSE))","v":""},{"$f":"IF(D269=\"\",\"\",VLOOKUP($D269,Lists!$AP$2:$AR$78,3,FALSE))","v":""},null,null,null,null,null,null,{"$f":"IF(I269=\"\",\"\",(VALUE(TEXT(H269,\"m/dd/yy \")&TEXT(I269,\"hh:mm:ss\"))-(VALUE(TEXT(F269,\"m/dd/yy \")&TEXT(G269,\"hh:mm:ss\"))))*24)","v":""}]
[null,{"$f":"IF(D270=\"\",\"\",VLOOKUP($D270,Lists!$AP$2:$AR$78,2,FALSE))","v":""},{"$f":"IF(D270=\"\",\"\",VLOOKUP($D270,Lists!$AP$2:$AR$78,3,FALSE))","v":""},null,null,null,null,null,null,""]
[null,{"$f":"IF(D271=\"\",\"\",VLOOKUP($D271,Lists!$AP$2:$AR$78,2,FALSE))","v":""},{"$f":"IF(D271=\"\",\"\",VLOOKUP($D271,Lists!$AP$2:$AR$78,3,FALSE))","v":""},null,null,null,null,null,null,""]
[null,{"$f":"IF(D272=\"\",\"\",VLOOKUP($D272,Lists!$AP$2:$AR$78,2,FALSE))","v":""},{"$f":"IF(D272=\"\",\"\",VLOOKUP($D272,Lists!$AP$2:$AR$78,3,FALSE))","v":""},null,null,null,null,null,null,""]
[null,{"$f":"IF(D273=\"\",\"\",VLOOKUP($D273,Lists!$AP$2:$AR$78,2,FALSE))","v":""},{"$f":"IF(D273=\"\",\"\",VLOOKUP($D273,Lists!$AP$2:$AR$78,3,FALSE))","v":""},null,null,null,null,null,null,""]
[null,{"$f":"IF(D274=\"\",\"\",VLOOKUP($D274,Lists!$AP$2:$AR$78,2,FALSE))","v":""},{"$f":"IF(D274=\"\",\"\",VLOOKUP($D274,Lists!$AP$2:$AR$78,3,FALSE))","v":""},null,null,null,null,null,null,""]
[null,{"$f":"IF(D275=\"\",\"\",VLOOKUP($D275,Lists!$AP$2:$AR$78,2,FALSE))","v":""},{"$f":"IF(D275=\"\",\"\",VLOOKUP($D275,Lists!$AP$2:$AR$78,3,FALSE))","v":""},null,null,null,null,null,null,""]
[null,{"$f":"IF(D276=\"\",\"\",VLOOKUP($D276,Lists!$AP$2:$AR$78,2,FALSE))","v":""},{"$f":"IF(D276=\"\",\"\",VLOOKUP($D276,Lists!$AP$2:$AR$78,3,FALSE))","v":""},null,null,null,null,null,null,""]
[null,{"$f":"IF(D277=\"\",\"\",VLOOKUP($D277,Lists!$AP$2:$AR$78,2,FALSE))","v":""},{"$f":"IF(D277=\"\",\"\",VLOOKUP($D277,Lists!$AP$2:$AR$78,3,FALSE))","v":""},null,null,null,null,null,null,""]
[null,{"$f":"IF(D278=\"\",\"\",VLOOKUP($D278,Lists!$AP$2:$AR$78,2,FALSE))","v":""},{"$f":"IF(D278=\"\",\"\",VLOOKUP($D278,Lists!$AP$2:$AR$78,3,FALSE))","v":""},null,null,null,null,null,null,""]
[null,{"$f":"IF(D279=\"\",\"\",VLOOKUP($D279,Lists!$AP$2:$AR$78,2,FALSE))","v":""},{"$f":"IF(D279=\"\",\"\",VLOOKUP($D279,Lists!$AP$2:$AR$78,3,FALSE))","v":""},null,null,null,null,null,null,""]
[null,{"$f":"IF(D280=\"\",\"\",VLOOKUP($D280,Lists!$AP$2:$AR$78,2,FALSE))","v":""},{"$f":"IF(D280=\"\",\"\",VLOOKUP($D280,Lists!$AP$2:$AR$78,3,FALSE))","v":""},null,null,null,null,null,null,""]
[null,{"$f":"IF(D281=\"\",\"\",VLOOKUP($D281,Lists!$AP$2:$AR$78,2,FALSE))","v":""},{"$f":"IF(D281=\"\",\"\",VLOOKUP($D281,Lists!$AP$2:$AR$78,3,FALSE))","v":""},null,null,null,null,null,null,""]
[null,{"$f":"IF(D282=\"\",\"\",VLOOKUP($D282,Lists!$AP$2:$AR$78,2,FALSE))","v":""},{"$f":"IF(D282=\"\",\"\",VLOOKUP($D282,Lists!$AP$2:$AR$78,3,FALSE))","v":""},null,null,null,null,null,null,""]
[null,{"$f":"IF(D283=\"\",\"\",VLOOKUP($D283,Lists!$AP$2:$AR$78,2,FALSE))","v":""},{"$f":"IF(D283=\"\",\"\",VLOOKUP($D283,Lists!$AP$2:$AR$78,3,FALSE))","v":""},null,null,null,null,null,null,""]
[null,{"$f":"IF(D284=\"\",\"\",VLOOKUP($D284,Lists!$AP$2:$AR$78,2,FALSE))","v":""},{"$f":"IF(D284=\"\",\"\",VLOOKUP($D284,Lists!$AP$2:$AR$78,3,FALSE))","v":""},null,null,null,null,null,null,""]
[null,{"$f":"IF(D285=\"\",\"\",VLOOKUP($D285,Lists!$AP$2:$AR$78,2,FALSE))","v":""},{"$f":"IF(D285=\"\",\"\",VLOOKUP($D285,Lists!$AP$2:$AR$78,3,FALSE))","v":""},null,null,null,null,null,null,""]
[null,{"$f":"IF(D286=\"\",\"\",VLOOKUP($D286,Lists!$AP$2:$AR$78,2,FALSE))","v":""},{"$f":"IF(D286=\"\",\"\",VLOOKUP($D286,Lists!$AP$2:$AR$78,3,FALSE))","v":""},null,null,null,null,null,null,""]
[null,{"$f":"IF(D287=\"\",\"\",VLOOKUP($D287,Lists!$AP$2:$AR$78,2,FALSE))","v":""},{"$f":"IF(D287=\"\",\"\",VLOOKUP($D287,Lists!$AP$2:$AR$78,3,FALSE))","v":""},null,null,null,null,null,null,""]
[null,{"$f":"IF(D288=\"\",\"\",VLOOKUP($D288,Lists!$AP$2:$AR$78,2,FALSE))","v":""},{"$f":"IF(D288=\"\",\"\",VLOOKUP($D288,Lists!$AP$2:$AR$78,3,FALSE))","v":""},null,null,null,null,null,null,""]
[null,{"$f":"IF(D289=\"\",\"\",VLOOKUP($D289,Lists!$AP$2:$AR$78,2,FALSE))","v":""},{"$f":"IF(D289=\"\",\"\",VLOOKUP($D289,Lists!$AP$2:$AR$78,3,FALSE))","v":""},null,null,null,null,null,null,""]
[null,{"$f":"IF(D290=\"\",\"\",VLOOKUP($D290,Lists!$AP$2:$AR$78,2,FALSE))","v":""},{"$f":"IF(D290=\"\",\"\",VLOOKUP($D290,Lists!$AP$2:$AR$78,3,FALSE))","v":""},null,null,null,null,null,null,""]
[null,{"$f":"IF(D291=\"\",\"\",VLOOKUP($D291,Lists!$AP$2:$AR$78,2,FALSE))","v":""},{"$f":"IF(D291=\"\",\"\",VLOOKUP($D291,Lists!$AP$2:$AR$78,3,FALSE))","v":""},null,null,null,null,null,null,""]
[null,{"$f":"IF(D292=\"\",\"\",VLOOKUP($D292,Lists!$AP$2:$AR$78,2,FALSE))","v":""},{"$f":"IF(D292=\"\",\"\",VLOOKUP($D292,Lists!$AP$2:$AR$78,3,FALSE))","v":""},null,null,null,null,null,null,""]
[null,{"$f":"IF(D293=\"\",\"\",VLOOKUP($D293,Lists!$AP$2:$AR$78,2,FALSE))","v":""},{"$f":"IF(D293=\"\",\"\",VLOOKUP($D293,Lists!$AP$2:$AR$78,3,FALSE))","v":""},null,null,null,null,null,null,""]
[null,{"$f":"IF(D294=\"\",\"\",VLOOKUP($D294,Lists!$AP$2:$AR$78,2,FALSE))","v":""},{"$f":"IF(D294=\"\",\"\",VLOOKUP($D294,Lists!$AP$2:$AR$78,3,FALSE))","v":""},null,null,null,null,null,null,""]
[null,{"$f":"IF(D295=\"\",\"\",VLOOKUP($D295,Lists!$AP$2:$AR$78,2,FALSE))","v":""},{"$f":"IF(D295=\"\",\"\",VLOOKUP($D295,Lists!$AP$2:$AR$78,3,FALSE))","v":""},null,null,null,null,null,null,""]
[null,{"$f":"IF(D296=\"\",\"\",VLOOKUP($D296,Lists!$AP$2:$AR$78,2,FALSE))","v":""},{"$f":"IF(D296=\"\",\"\",VLOOKUP($D296,Lists!$AP$2:$AR$78,3,FALSE))","v":""},null,null,null,null,null,null,""]
[null,{"$f":"IF(D297=\"\",\"\",VLOOKUP($D297,Lists!$AP$2:$AR$78,2,FALSE))","v":""},{"$f":"IF(D297=\"\",\"\",VLOOKUP($D297,Lists!$AP$2:$AR$78,3,FALSE))","v":""},null,null,null,null,null,null,""]
[null,{"$f":"IF(D298=\"\",\"\",VLOOKUP($D298,Lists!$AP$2:$AR$78,2,FALSE))","v":""},{"$f":"IF(D298=\"\",\"\",VLOOKUP($D298,Lists!$AP$2:$AR$78,3,FALSE))","v":""},null,null,null,null,null,null,""]
[null,{"$f":"IF(D299=\"\",\"\",VLOOKUP($D299,Lists!$AP$2:$AR$78,2,FALSE))","v":""},{"$f":"IF(D299=\"\",\"\",VLOOKUP($D299,Lists!$AP$2:$AR$78,3,FALSE))","v":""},null,null,null,null,null,null,""]
[null,{"$f":"IF(D300=\"\",\"\",VLOOKUP($D300,Lists!$AP$2:$AR$78,2,FALSE))","v":""},{"$f":"IF(D300=\"\",\"\",VLOOKUP($D300,Lists!$AP$2:$AR$78,3,FALSE))","v":""},null,null,null,null,null,null,""]
[null,{"$f":"IF(D301=\"\",\"\",VLOOKUP($D301,Lists!$AP$2:$AR$78,2,FALSE))","v":""},{"$f":"IF(D301=\"\",\"\",VLOOKUP($D301,Lists!$AP$2:$AR$78,3,FALSE))","v":""},null,null,null,null,null,null,""]
[null,{"$f":"IF(D302=\"\",\"\",VLOOKUP($D302,Lists!$AP$2:$AR$78,2,FALSE))","v":""},{"$f":"IF(D302=\"\",\"\",VLOOKUP($D302,Lists!$AP$2:$AR$78,3,FALSE))","v":""},null,null,null,null,null,null,""]
[null,{"$f":"IF(D303=\"\",\"\",VLOOKUP($D303,Lists!$AP$2:$AR$78,2,FALSE))","v":""},{"$f":"IF(D303=\"\",\"\",VLOOKUP($D303,Lists!$AP$2:$AR$78,3,FALSE))","v":""},null,null,null,null,null,null,""]
[null,{"$f":"IF(D304=\"\",\"\",VLOOKUP($D304,Lists!$AP$2:$AR$78,2,FALSE))","v":""},{"$f":"IF(D304=\"\",\"\",VLOOKUP($D304,Lists!$AP$2:$AR$78,3,FALSE))","v":""},null,null,null,null,null,null,""]
[null,{"$f":"IF(D305=\"\",\"\",VLOOKUP($D305,Lists!$AP$2:$AR$78,2,FALSE))","v":""},{"$f":"IF(D305=\"\",\"\",VLOOKUP($D305,Lists!$AP$2:$AR$78,3,FALSE))","v":""},null,null,null,null,null,null,""]
[null,{"$f":"IF(D306=\"\",\"\",VLOOKUP($D306,Lists!$AP$2:$AR$78,2,FALSE))","v":""},{"$f":"IF(D306=\"\",\"\",VLOOKUP($D306,Lists!$AP$2:$AR$78,3,FALSE))","v":""},null,null,null,null,null,null,""]
[null,{"$f":"IF(D307=\"\",\"\",VLOOKUP($D307,Lists!$AP$2:$AR$78,2,FALSE))","v":""},{"$f":"IF(D307=\"\",\"\",VLOOKUP($D307,Lists!$AP$2:$AR$78,3,FALSE))","v":""},null,null,null,null,null,null,""]
[null,{"$f":"IF(D308=\"\",\"\",VLOOKUP($D308,Lists!$AP$2:$AR$78,2,FALSE))","v":""},{"$f":"IF(D308=\"\",\"\",VLOOKUP($D308,Lists!$AP$2:$AR$78,3,FALSE))","v":""},null,null,null,null,null,null,""]
[null,{"$f":"IF(D309=\"\",\"\",VLOOKUP($D309,Lists!$AP$2:$AR$78,2,FALSE))","v":""},{"$f":"IF(D309=\"\",\"\",VLOOKUP($D309,Lists!$AP$2:$AR$78,3,FALSE))","v":""},null,null,null,null,null,null,""]
[null,{"$f":"IF(D310=\"\",\"\",VLOOKUP($D310,Lists!$AP$2:$AR$78,2,FALSE))","v":""},{"$f":"IF(D310=\"\",\"\",VLOOKUP($D310,Lists!$AP$2:$AR$78,3,FALSE))","v":""},null,null,null,null,null,null,""]
[null,{"$f":"IF(D311=\"\",\"\",VLOOKUP($D311,Lists!$AP$2:$AR$78,2,FALSE))","v":""},{"$f":"IF(D311=\"\",\"\",VLOOKUP($D311,Lists!$AP$2:$AR$78,3,FALSE))","v":""},null,null,null,null,null,null,""]
[null,{"$f":"IF(D312=\"\",\"\",VLOOKUP($D312,Lists!$AP$2:$AR$78,2,FALSE))","v":""},{"$f":"IF(D312=\"\",\"\",VLOOKUP($D312,Lists!$AP$2:$AR$78,3,FALSE))","v":""},null,null,null,null,null,null,""]
[null,{"$f":"IF(D313=\"\",\"\",VLOOKUP($D313,Lists!$AP$2:$AR$78,2,FALSE))","v":""},{"$f":"IF(D313=\"\",\"\",VLOOKUP($D313,Lists!$AP$2:$AR$78,3,FALSE))","v":""},null,null,null,null,null,null,""]
[null,{"$f":"IF(D314=\"\",\"\",VLOOKUP($D314,Lists!$AP$2:$AR$78,2,FALSE))","v":""},{"$f":"IF(D314=\"\",\"\",VLOOKUP($D314,Lists!$AP$2:$AR$78,3,FALSE))","v":""},null,null,null,null,null,null,""]
[null,{"$f":"IF(D315=\"\",\"\",VLOOKUP($D315,Lists!$AP$2:$AR$78,2,FALSE))","v":""},{"$f":"IF(D315=\"\",\"\",VLOOKUP($D315,Lists!$AP$2:$AR$78,3,FALSE))","v":""},null,null,null,null,null,null,""]
[null,{"$f":"IF(D316=\"\",\"\",VLOOKUP($D316,Lists!$AP$2:$AR$78,2,FALSE))","v":""},{"$f":"IF(D316=\"\",\"\",VLOOKUP($D316,Lists!$AP$2:$AR$78,3,FALSE))","v":""},null,null,null,null,null,null,""]
[null,{"$f":"IF(D317=\"\",\"\",VLOOKUP($D317,Lists!$AP$2:$AR$78,2,FALSE))","v":""},{"$f":"IF(D317=\"\",\"\",VLOOKUP($D317,Lists!$AP$2:$AR$78,3,FALSE))","v":""},null,null,null,null,null,null,""]
[null,{"$f":"IF(D318=\"\",\"\",VLOOKUP($D318,Lists!$AP$2:$AR$78,2,FALSE))","v":""},{"$f":"IF(D318=\"\",\"\",VLOOKUP($D318,Lists!$AP$2:$AR$78,3,FALSE))","v":""},null,null,null,null,null,null,""]
[null,{"$f":"IF(D319=\"\",\"\",VLOOKUP($D319,Lists!$AP$2:$AR$78,2,FALSE))","v":""},{"$f":"IF(D319=\"\",\"\",VLOOKUP($D319,Lists!$AP$2:$AR$78,3,FALSE))","v":""},null,null,null,null,null,null,""]
[null,{"$f":"IF(D320=\"\",\"\",VLOOKUP($D320,Lists!$AP$2:$AR$78,2,FALSE))","v":""},{"$f":"IF(D320=\"\",\"\",VLOOKUP($D320,Lists!$AP$2:$AR$78,3,FALSE))","v":""},null,null,null,null,null,null,""]
[null,{"$f":"IF(D321=\"\",\"\",VLOOKUP($D321,Lists!$AP$2:$AR$78,2,FALSE))","v":""},{"$f":"IF(D321=\"\",\"\",VLOOKUP($D321,Lists!$AP$2:$AR$78,3,FALSE))","v":""},null,null,null,null,null,null,""]
[null,{"$f":"IF(D322=\"\",\"\",VLOOKUP($D322,Lists!$AP$2:$AR$78,2,FALSE))","v":""},{"$f":"IF(D322=\"\",\"\",VLOOKUP($D322,Lists!$AP$2:$AR$78,3,FALSE))","v":""},null,null,null,null,null,null,""]
[null,{"$f":"IF(D323=\"\",\"\",VLOOKUP($D323,Lists!$AP$2:$AR$78,2,FALSE))","v":""},{"$f":"IF(D323=\"\",\"\",VLOOKUP($D323,Lists!$AP$2:$AR$78,3,FALSE))","v":""},null,null,null,null,null,null,""]
[null,{"$f":"IF(D324=\"\",\"\",VLOOKUP($D324,Lists!$AP$2:$AR$78,2,FALSE))","v":""},{"$f":"IF(D324=\"\",\"\",VLOOKUP($D324,Lists!$AP$2:$AR$78,3,FALSE))","v":""},null,null,null,null,null,null,""]
[null,{"$f":"IF(D325=\"\",\"\",VLOOKUP($D325,Lists!$AP$2:$AR$78,2,FALSE))","v":""},{"$f":"IF(D325=\"\",\"\",VLOOKUP($D325,Lists!$AP$2:$AR$78,3,FALSE))","v":""},null,null,null,null,null,null,""]
[null,{"$f":"IF(D326=\"\",\"\",VLOOKUP($D326,Lists!$AP$2:$AR$78,2,FALSE))","v":""},{"$f":"IF(D326=\"\",\"\",VLOOKUP($D326,Lists!$AP$2:$AR$78,3,FALSE))","v":""},null,null,null,null,null,null,""]
[null,{"$f":"IF(D327=\"\",\"\",VLOOKUP($D327,Lists!$AP$2:$AR$78,2,FALSE))","v":""},{"$f":"IF(D327=\"\",\"\",VLOOKUP($D327,Lists!$AP$2:$AR$78,3,FALSE))","v":""},null,null,null,null,null,null,""]
[null,{"$f":"IF(D328=\"\",\"\",VLOOKUP($D328,Lists!$AP$2:$AR$78,2,FALSE))","v":""},{"$f":"IF(D328=\"\",\"\",VLOOKUP($D328,Lists!$AP$2:$AR$78,3,FALSE))","v":""},null,null,null,null,null,null,""]
[null,{"$f":"IF(D329=\"\",\"\",VLOOKUP($D329,Lists!$AP$2:$AR$78,2,FALSE))","v":""},{"$f":"IF(D329=\"\",\"\",VLOOKUP($D329,Lists!$AP$2:$AR$78,3,FALSE))","v":""},null,null,null,null,null,null,""]
[null,{"$f":"IF(D330=\"\",\"\",VLOOKUP($D330,Lists!$AP$2:$AR$78,2,FALSE))","v":""},{"$f":"IF(D330=\"\",\"\",VLOOKUP($D330,Lists!$AP$2:$AR$78,3,FALSE))","v":""},null,null,null,null,null,null,""]
[null,{"$f":"IF(D331=\"\",\"\",VLOOKUP($D331,Lists!$AP$2:$AR$78,2,FALSE))","v":""},{"$f":"IF(D331=\"\",\"\",VLOOKUP($D331,Lists!$AP$2:$AR$78,3,FALSE))","v":""},null,null,null,null,null,null,""]
[null,{"$f":"IF(D332=\"\",\"\",VLOOKUP($D332,Lists!$AP$2:$AR$78,2,FALSE))","v":""},{"$f":"IF(D332=\"\",\"\",VLOOKUP($D332,Lists!$AP$2:$AR$78,3,FALSE))","v":""},null,null,null,null,null,null,""]
[null,{"$f":"IF(D333=\"\",\"\",VLOOKUP($D333,Lists!$AP$2:$AR$78,2,FALSE))","v":""},{"$f":"IF(D333=\"\",\"\",VLOOKUP($D333,Lists!$AP$2:$AR$78,3,FALSE))","v":""},null,null,null,null,null,null,{"$f":"IF(I333=\"\",\"\",(VALUE(TEXT(H333,\"m/dd/yy \")&TEXT(I333,\"hh:mm:ss\"))-(VALUE(TEXT(F333,\"m/dd/yy \")&TEXT(G333,\"hh:mm:ss\"))))*24)","v":""}]
[null,{"$f":"IF(D334=\"\",\"\",VLOOKUP($D334,Lists!$AP$2:$AR$78,2,FALSE))","v":""},{"$f":"IF(D334=\"\",\"\",VLOOKUP($D334,Lists!$AP$2:$AR$78,3,FALSE))","v":""},null,null,null,null,null,null,""]
[null,{"$f":"IF(D335=\"\",\"\",VLOOKUP($D335,Lists!$AP$2:$AR$78,2,FALSE))","v":""},{"$f":"IF(D335=\"\",\"\",VLOOKUP($D335,Lists!$AP$2:$AR$78,3,FALSE))","v":""},null,null,null,null,null,null,""]
[null,{"$f":"IF(D336=\"\",\"\",VLOOKUP($D336,Lists!$AP$2:$AR$78,2,FALSE))","v":""},{"$f":"IF(D336=\"\",\"\",VLOOKUP($D336,Lists!$AP$2:$AR$78,3,FALSE))","v":""},null,null,null,null,null,null,""]
[null,{"$f":"IF(D337=\"\",\"\",VLOOKUP($D337,Lists!$AP$2:$AR$78,2,FALSE))","v":""},{"$f":"IF(D337=\"\",\"\",VLOOKUP($D337,Lists!$AP$2:$AR$78,3,FALSE))","v":""},null,null,null,null,null,null,""]
[null,{"$f":"IF(D338=\"\",\"\",VLOOKUP($D338,Lists!$AP$2:$AR$78,2,FALSE))","v":""},{"$f":"IF(D338=\"\",\"\",VLOOKUP($D338,Lists!$AP$2:$AR$78,3,FALSE))","v":""},null,null,null,null,null,null,""]
[null,{"$f":"IF(D339=\"\",\"\",VLOOKUP($D339,Lists!$AP$2:$AR$78,2,FALSE))","v":""},{"$f":"IF(D339=\"\",\"\",VLOOKUP($D339,Lists!$AP$2:$AR$78,3,FALSE))","v":""},null,null,null,null,null,null,""]
[null,{"$f":"IF(D340=\"\",\"\",VLOOKUP($D340,Lists!$AP$2:$AR$78,2,FALSE))","v":""},{"$f":"IF(D340=\"\",\"\",VLOOKUP($D340,Lists!$AP$2:$AR$78,3,FALSE))","v":""},null,null,null,null,null,null,""]
[null,{"$f":"IF(D341=\"\",\"\",VLOOKUP($D341,Lists!$AP$2:$AR$78,2,FALSE))","v":""},{"$f":"IF(D341=\"\",\"\",VLOOKUP($D341,Lists!$AP$2:$AR$78,3,FALSE))","v":""},null,null,null,null,null,null,""]
[null,{"$f":"IF(D342=\"\",\"\",VLOOKUP($D342,Lists!$AP$2:$AR$78,2,FALSE))","v":""},{"$f":"IF(D342=\"\",\"\",VLOOKUP($D342,Lists!$AP$2:$AR$78,3,FALSE))","v":""},null,null,null,null,null,null,""]
[null,{"$f":"IF(D343=\"\",\"\",VLOOKUP($D343,Lists!$AP$2:$AR$78,2,FALSE))","v":""},{"$f":"IF(D343=\"\",\"\",VLOOKUP($D343,Lists!$AP$2:$AR$78,3,FALSE))","v":""},null,null,null,null,null,null,""]
[null,{"$f":"IF(D344=\"\",\"\",VLOOKUP($D344,Lists!$AP$2:$AR$78,2,FALSE))","v":""},{"$f":"IF(D344=\"\",\"\",VLOOKUP($D344,Lists!$AP$2:$AR$78,3,FALSE))","v":""},null,null,null,null,null,null,""]
[null,{"$f":"IF(D345=\"\",\"\",VLOOKUP($D345,Lists!$AP$2:$AR$78,2,FALSE))","v":""},{"$f":"IF(D345=\"\",\"\",VLOOKUP($D345,Lists!$AP$2:$AR$78,3,FALSE))","v":""},null,null,null,null,null,null,""]
[null,{"$f":"IF(D346=\"\",\"\",VLOOKUP($D346,Lists!$AP$2:$AR$78,2,FALSE))","v":""},{"$f":"IF(D346=\"\",\"\",VLOOKUP($D346,Lists!$AP$2:$AR$78,3,FALSE))","v":""},null,null,null,null,null,null,""]
[null,{"$f":"IF(D347=\"\",\"\",VLOOKUP($D347,Lists!$AP$2:$AR$78,2,FALSE))","v":""},{"$f":"IF(D347=\"\",\"\",VLOOKUP($D347,Lists!$AP$2:$AR$78,3,FALSE))","v":""},null,null,null,null,null,null,""]
[null,{"$f":"IF(D348=\"\",\"\",VLOOKUP($D348,Lists!$AP$2:$AR$78,2,FALSE))","v":""},{"$f":"IF(D348=\"\",\"\",VLOOKUP($D348,Lists!$AP$2:$AR$78,3,FALSE))","v":""},null,null,null,null,null,null,""]
[null,{"$f":"IF(D349=\"\",\"\",VLOOKUP($D349,Lists!$AP$2:$AR$78,2,FALSE))","v":""},{"$f":"IF(D349=\"\",\"\",VLOOKUP($D349,Lists!$AP$2:$AR$78,3,FALSE))","v":""},null,null,null,null,null,null,""]
[null,{"$f":"IF(D350=\"\",\"\",VLOOKUP($D350,Lists!$AP$2:$AR$78,2,FALSE))","v":""},{"$f":"IF(D350=\"\",\"\",VLOOKUP($D350,Lists!$AP$2:$AR$78,3,FALSE))","v":""},null,null,null,null,null,null,""]
[null,{"$f":"IF(D351=\"\",\"\",VLOOKUP($D351,Lists!$AP$2:$AR$78,2,FALSE))","v":""},{"$f":"IF(D351=\"\",\"\",VLOOKUP($D351,Lists!$AP$2:$AR$78,3,FALSE))","v":""},null,null,null,null,null,null,""]
[null,{"$f":"IF(D352=\"\",\"\",VLOOKUP($D352,Lists!$AP$2:$AR$78,2,FALSE))","v":""},{"$f":"IF(D352=\"\",\"\",VLOOKUP($D352,Lists!$AP$2:$AR$78,3,FALSE))","v":""},null,null,null,null,null,null,""]
[null,{"$f":"IF(D353=\"\",\"\",VLOOKUP($D353,Lists!$AP$2:$AR$78,2,FALSE))","v":""},{"$f":"IF(D353=\"\",\"\",VLOOKUP($D353,Lists!$AP$2:$AR$78,3,FALSE))","v":""},null,null,null,null,null,null,""]
[null,{"$f":"IF(D354=\"\",\"\",VLOOKUP($D354,Lists!$AP$2:$AR$78,2,FALSE))","v":""},{"$f":"IF(D354=\"\",\"\",VLOOKUP($D354,Lists!$AP$2:$AR$78,3,FALSE))","v":""},null,null,null,null,null,null,""]
[null,{"$f":"IF(D355=\"\",\"\",VLOOKUP($D355,Lists!$AP$2:$AR$78,2,FALSE))","v":""},{"$f":"IF(D355=\"\",\"\",VLOOKUP($D355,Lists!$AP$2:$AR$78,3,FALSE))","v":""},null,null,null,null,null,null,""]
[null,{"$f":"IF(D356=\"\",\"\",VLOOKUP($D356,Lists!$AP$2:$AR$78,2,FALSE))","v":""},{"$f":"IF(D356=\"\",\"\",VLOOKUP($D356,Lists!$AP$2:$AR$78,3,FALSE))","v":""},null,null,null,null,null,null,""]
[null,{"$f":"IF(D357=\"\",\"\",VLOOKUP($D357,Lists!$AP$2:$AR$78,2,FALSE))","v":""},{"$f":"IF(D357=\"\",\"\",VLOOKUP($D357,Lists!$AP$2:$AR$78,3,FALSE))","v":""},null,null,null,null,null,null,""]
[null,{"$f":"IF(D358=\"\",\"\",VLOOKUP($D358,Lists!$AP$2:$AR$78,2,FALSE))","v":""},{"$f":"IF(D358=\"\",\"\",VLOOKUP($D358,Lists!$AP$2:$AR$78,3,FALSE))","v":""},null,null,null,null,null,null,""]
[null,{"$f":"IF(D359=\"\",\"\",VLOOKUP($D359,Lists!$AP$2:$AR$78,2,FALSE))","v":""},{"$f":"IF(D359=\"\",\"\",VLOOKUP($D359,Lists!$AP$2:$AR$78,3,FALSE))","v":""},null,null,null,null,null,null,""]
[null,{"$f":"IF(D360=\"\",\"\",VLOOKUP($D360,Lists!$AP$2:$AR$78,2,FALSE))","v":""},{"$f":"IF(D360=\"\",\"\",VLOOKUP($D360,Lists!$AP$2:$AR$78,3,FALSE))","v":""},null,null,null,null,null,null,""]
[null,{"$f":"IF(D361=\"\",\"\",VLOOKUP($D361,Lists!$AP$2:$AR$78,2,FALSE))","v":""},{"$f":"IF(D361=\"\",\"\",VLOOKUP($D361,Lists!$AP$2:$AR$78,3,FALSE))","v":""},null,null,null,null,null,null,""]
[null,{"$f":"IF(D362=\"\",\"\",VLOOKUP($D362,Lists!$AP$2:$AR$78,2,FALSE))","v":""},{"$f":"IF(D362=\"\",\"\",VLOOKUP($D362,Lists!$AP$2:$AR$78,3,FALSE))","v":""},null,null,null,null,null,null,""]
[null,{"$f":"IF(D363=\"\",\"\",VLOOKUP($D363,Lists!$AP$2:$AR$78,2,FALSE))","v":""},{"$f":"IF(D363=\"\",\"\",VLOOKUP($D363,Lists!$AP$2:$AR$78,3,FALSE))","v":""},null,null,null,null,null,null,""]
[null,{"$f":"IF(D364=\"\",\"\",VLOOKUP($D364,Lists!$AP$2:$AR$78,2,FALSE))","v":""},{"$f":"IF(D364=\"\",\"\",VLOOKUP($D364,Lists!$AP$2:$AR$78,3,FALSE))","v":""},null,null,null,null,null,null,""]
[null,{"$f":"IF(D365=\"\",\"\",VLOOKUP($D365,Lists!$AP$2:$AR$78,2,FALSE))","v":""},{"$f":"IF(D365=\"\",\"\",VLOOKUP($D365,Lists!$AP$2:$AR$78,3,FALSE))","v":""},null,null,null,null,null,null,""]
[null,{"$f":"IF(D366=\"\",\"\",VLOOKUP($D366,Lists!$AP$2:$AR$78,2,FALSE))","v":""},{"$f":"IF(D366=\"\",\"\",VLOOKUP($D366,Lists!$AP$2:$AR$78,3,FALSE))","v":""},null,null,null,null,null,null,""]
[null,{"$f":"IF(D367=\"\",\"\",VLOOKUP($D367,Lists!$AP$2:$AR$78,2,FALSE))","v":""},{"$f":"IF(D367=\"\",\"\",VLOOKUP($D367,Lists!$AP$2:$AR$78,3,FALSE))","v":""},null,null,null,null,null,null,""]
[null,{"$f":"IF(D368=\"\",\"\",VLOOKUP($D368,Lists!$AP$2:$AR$78,2,FALSE))","v":""},{"$f":"IF(D368=\"\",\"\",VLOOKUP($D368,Lists!$AP$2:$AR$78,3,FALSE))","v":""},null,null,null,null,null,null,""]
[null,{"$f":"IF(D369=\"\",\"\",VLOOKUP($D369,Lists!$AP$2:$AR$78,2,FALSE))","v":""},{"$f":"IF(D369=\"\",\"\",VLOOKUP($D369,Lists!$AP$2:$AR$78,3,FALSE))","v":""},null,null,null,null,null,null,""]
[null,{"$f":"IF(D370=\"\",\"\",VLOOKUP($D370,Lists!$AP$2:$AR$78,2,FALSE))","v":""},{"$f":"IF(D370=\"\",\"\",VLOOKUP($D370,Lists!$AP$2:$AR$78,3,FALSE))","v":""},null,null,null,null,null,null,""]
[null,{"$f":"IF(D371=\"\",\"\",VLOOKUP($D371,Lists!$AP$2:$AR$78,2,FALSE))","v":""},{"$f":"IF(D371=\"\",\"\",VLOOKUP($D371,Lists!$AP$2:$AR$78,3,FALSE))","v":""},null,null,null,null,null,null,""]
[null,{"$f":"IF(D372=\"\",\"\",VLOOKUP($D372,Lists!$AP$2:$AR$78,2,FALSE))","v":""},{"$f":"IF(D372=\"\",\"\",VLOOKUP($D372,Lists!$AP$2:$AR$78,3,FALSE))","v":""},null,null,null,null,null,null,""]
[null,{"$f":"IF(D373=\"\",\"\",VLOOKUP($D373,Lists!$AP$2:$AR$78,2,FALSE))","v":""},{"$f":"IF(D373=\"\",\"\",VLOOKUP($D373,Lists!$AP$2:$AR$78,3,FALSE))","v":""},null,null,null,null,null,null,""]
[null,{"$f":"IF(D374=\"\",\"\",VLOOKUP($D374,Lists!$AP$2:$AR$78,2,FALSE))","v":""},{"$f":"IF(D374=\"\",\"\",VLOOKUP($D374,Lists!$AP$2:$AR$78,3,FALSE))","v":""},null,null,null,null,null,null,""]
[null,{"$f":"IF(D375=\"\",\"\",VLOOKUP($D375,Lists!$AP$2:$AR$78,2,FALSE))","v":""},{"$f":"IF(D375=\"\",\"\",VLOOKUP($D375,Lists!$AP$2:$AR$78,3,FALSE))","v":""},null,null,null,null,null,null,""]
[null,{"$f":"IF(D376=\"\",\"\",VLOOKUP($D376,Lists!$AP$2:$AR$78,2,FALSE))","v":""},{"$f":"IF(D376=\"\",\"\",VLOOKUP($D376,Lists!$AP$2:$AR$78,3,FALSE))","v":""},null,null,null,null,null,null,""]
[null,{"$f":"IF(D377=\"\",\"\",VLOOKUP($D377,Lists!$AP$2:$AR$78,2,FALSE))","v":""},{"$f":"IF(D377=\"\",\"\",VLOOKUP($D377,Lists!$AP$2:$AR$78,3,FALSE))","v":""},null,null,null,null,null,null,""]
[null,{"$f":"IF(D378=\"\",\"\",VLOOKUP($D378,Lists!$AP$2:$AR$78,2,FALSE))","v":""},{"$f":"IF(D378=\"\",\"\",VLOOKUP($D378,Lists!$AP$2:$AR$78,3,FALSE))","v":""},null,null,null,null,null,null,""]
[null,{"$f":"IF(D379=\"\",\"\",VLOOKUP($D379,Lists!$AP$2:$AR$78,2,FALSE))","v":""},{"$f":"IF(D379=\"\",\"\",VLOOKUP($D379,Lists!$AP$2:$AR$78,3,FALSE))","v":""},null,null,null,null,null,null,""]
[null,{"$f":"IF(D380=\"\",\"\",VLOOKUP($D380,Lists!$AP$2:$AR$78,2,FALSE))","v":""},{"$f":"IF(D380=\"\",\"\",VLOOKUP($D380,Lists!$AP$2:$AR$78,3,FALSE))","v":""},null,null,null,null,null,null,""]
[null,{"$f":"IF(D381=\"\",\"\",VLOOKUP($D381,Lists!$AP$2:$AR$78,2,FALSE))","v":""},{"$f":"IF(D381=\"\",\"\",VLOOKUP($D381,Lists!$AP$2:$AR$78,3,FALSE))","v":""},null,null,null,null,null,null,""]
[null,{"$f":"IF(D382=\"\",\"\",VLOOKUP($D382,Lists!$AP$2:$AR$78,2,FALSE))","v":""},{"$f":"IF(D382=\"\",\"\",VLOOKUP($D382,Lists!$AP$2:$AR$78,3,FALSE))","v":""},null,null,null,null,null,null,""]
[null,{"$f":"IF(D383=\"\",\"\",VLOOKUP($D383,Lists!$AP$2:$AR$78,2,FALSE))","v":""},{"$f":"IF(D383=\"\",\"\",VLOOKUP($D383,Lists!$AP$2:$AR$78,3,FALSE))","v":""},null,null,null,null,null,null,""]
[null,{"$f":"IF(D384=\"\",\"\",VLOOKUP($D384,Lists!$AP$2:$AR$78,2,FALSE))","v":""},{"$f":"IF(D384=\"\",\"\",VLOOKUP($D384,Lists!$AP$2:$AR$78,3,FALSE))","v":""},null,null,null,null,null,null,""]
[null,{"$f":"IF(D385=\"\",\"\",VLOOKUP($D385,Lists!$AP$2:$AR$78,2,FALSE))","v":""},{"$f":"IF(D385=\"\",\"\",VLOOKUP($D385,Lists!$AP$2:$AR$78,3,FALSE))","v":""},null,null,null,null,null,null,""]
[null,{"$f":"IF(D386=\"\",\"\",VLOOKUP($D386,Lists!$AP$2:$AR$78,2,FALSE))","v":""},{"$f":"IF(D386=\"\",\"\",VLOOKUP($D386,Lists!$AP$2:$AR$78,3,FALSE))","v":""},null,null,null,null,null,null,""]
[null,{"$f":"IF(D387=\"\",\"\",VLOOKUP($D387,Lists!$AP$2:$AR$78,2,FALSE))","v":""},{"$f":"IF(D387=\"\",\"\",VLOOKUP($D387,Lists!$AP$2:$AR$78,3,FALSE))","v":""},null,null,null,null,null,null,""]
[null,{"$f":"IF(D388=\"\",\"\",VLOOKUP($D388,Lists!$AP$2:$AR$78,2,FALSE))","v":""},{"$f":"IF(D388=\"\",\"\",VLOOKUP($D388,Lists!$AP$2:$AR$78,3,FALSE))","v":""},null,null,null,null,null,null,""]
[null,{"$f":"IF(D389=\"\",\"\",VLOOKUP($D389,Lists!$AP$2:$AR$78,2,FALSE))","v":""},{"$f":"IF(D389=\"\",\"\",VLOOKUP($D389,Lists!$AP$2:$AR$78,3,FALSE))","v":""},null,null,null,null,null,null,""]
[null,{"$f":"IF(D390=\"\",\"\",VLOOKUP($D390,Lists!$AP$2:$AR$78,2,FALSE))","v":""},{"$f":"IF(D390=\"\",\"\",VLOOKUP($D390,Lists!$AP$2:$AR$78,3,FALSE))","v":""},null,null,null,null,null,null,""]
[null,{"$f":"IF(D391=\"\",\"\",VLOOKUP($D391,Lists!$AP$2:$AR$78,2,FALSE))","v":""},{"$f":"IF(D391=\"\",\"\",VLOOKUP($D391,Lists!$AP$2:$AR$78,3,FALSE))","v":""},null,null,null,null,null,null,""]
[null,{"$f":"IF(D392=\"\",\"\",VLOOKUP($D392,Lists!$AP$2:$AR$78,2,FALSE))","v":""},{"$f":"IF(D392=\"\",\"\",VLOOKUP($D392,Lists!$AP$2:$AR$78,3,FALSE))","v":""},null,null,null,null,null,null,""]
[null,{"$f":"IF(D393=\"\",\"\",VLOOKUP($D393,Lists!$AP$2:$AR$78,2,FALSE))","v":""},{"$f":"IF(D393=\"\",\"\",VLOOKUP($D393,Lists!$AP$2:$AR$78,3,FALSE))","v":""},null,null,null,null,null,null,""]
[null,{"$f":"IF(D394=\"\",\"\",VLOOKUP($D394,Lists!$AP$2:$AR$78,2,FALSE))","v":""},{"$f":"IF(D394=\"\",\"\",VLOOKUP($D394,Lists!$AP$2:$AR$78,3,FALSE))","v":""},null,null,null,null,null,null,""]
[null,{"$f":"IF(D395=\"\",\"\",VLOOKUP($D395,Lists!$AP$2:$AR$78,2,FALSE))","v":""},{"$f":"IF(D395=\"\",\"\",VLOOKUP($D395,Lists!$AP$2:$AR$78,3,FALSE))","v":""},null,null,null,null,null,null,""]
[null,{"$f":"IF(D396=\"\",\"\",VLOOKUP($D396,Lists!$AP$2:$AR$78,2,FALSE))","v":""},{"$f":"IF(D396=\"\",\"\",VLOOKUP($D396,Lists!$AP$2:$AR$78,3,FALSE))","v":""},null,null,null,null,null,null,""]
[null,{"$f":"IF(D397=\"\",\"\",VLOOKUP($D397,Lists!$AP$2:$AR$78,2,FALSE))","v":""},{"$f":"IF(D397=\"\",\"\",VLOOKUP($D397,Lists!$AP$2:$AR$78,3,FALSE))","v":""},null,null,null,null,null,null,{"$f":"IF(I397=\"\",\"\",(VALUE(TEXT(H397,\"m/dd/yy \")&TEXT(I397,\"hh:mm:ss\"))-(VALUE(TEXT(F397,\"m/dd/yy \")&TEXT(G397,\"hh:mm:ss\"))))*24)","v":""}]
[null,{"$f":"IF(D398=\"\",\"\",VLOOKUP($D398,Lists!$AP$2:$AR$78,2,FALSE))","v":""},{"$f":"IF(D398=\"\",\"\",VLOOKUP($D398,Lists!$AP$2:$AR$78,3,FALSE))","v":""},null,null,null,null,null,null,""]
[null,{"$f":"IF(D399=\"\",\"\",VLOOKUP($D399,Lists!$AP$2:$AR$78,2,FALSE))","v":""},{"$f":"IF(D399=\"\",\"\",VLOOKUP($D399,Lists!$AP$2:$AR$78,3,FALSE))","v":""},null,null,null,null,null,null,""]
[null,{"$f":"IF(D400=\"\",\"\",VLOOKUP($D400,Lists!$AP$2:$AR$78,2,FALSE))","v":""},{"$f":"IF(D400=\"\",\"\",VLOOKUP($D400,Lists!$AP$2:$AR$78,3,FALSE))","v":""},null,null,null,null,null,null,""]
[null,{"$f":"IF(D401=\"\",\"\",VLOOKUP($D401,Lists!$AP$2:$AR$78,2,FALSE))","v":""},{"$f":"IF(D401=\"\",\"\",VLOOKUP($D401,Lists!$AP$2:$AR$78,3,FALSE))","v":""},null,null,null,null,null,null,""]
[null,{"$f":"IF(D402=\"\",\"\",VLOOKUP($D402,Lists!$AP$2:$AR$78,2,FALSE))","v":""},{"$f":"IF(D402=\"\",\"\",VLOOKUP($D402,Lists!$AP$2:$AR$78,3,FALSE))","v":""},null,null,null,null,null,null,""]
[null,{"$f":"IF(D403=\"\",\"\",VLOOKUP($D403,Lists!$AP$2:$AR$78,2,FALSE))","v":""},{"$f":"IF(D403=\"\",\"\",VLOOKUP($D403,Lists!$AP$2:$AR$78,3,FALSE))","v":""},null,null,null,null,null,null,""]
[null,{"$f":"IF(D404=\"\",\"\",VLOOKUP($D404,Lists!$AP$2:$AR$78,2,FALSE))","v":""},{"$f":"IF(D404=\"\",\"\",VLOOKUP($D404,Lists!$AP$2:$AR$78,3,FALSE))","v":""},null,null,null,null,null,null,""]
[null,{"$f":"IF(D405=\"\",\"\",VLOOKUP($D405,Lists!$AP$2:$AR$78,2,FALSE))","v":""},{"$f":"IF(D405=\"\",\"\",VLOOKUP($D405,Lists!$AP$2:$AR$78,3,FALSE))","v":""},null,null,null,null,null,null,""]
[null,{"$f":"IF(D406=\"\",\"\",VLOOKUP($D406,Lists!$AP$2:$AR$78,2,FALSE))","v":""},{"$f":"IF(D406=\"\",\"\",VLOOKUP($D406,Lists!$AP$2:$AR$78,3,FALSE))","v":""},null,null,null,null,null,null,""]
[null,{"$f":"IF(D407=\"\",\"\",VLOOKUP($D407,Lists!$AP$2:$AR$78,2,FALSE))","v":""},{"$f":"IF(D407=\"\",\"\",VLOOKUP($D407,Lists!$AP$2:$AR$78,3,FALSE))","v":""},null,null,null,null,null,null,""]
[null,{"$f":"IF(D408=\"\",\"\",VLOOKUP($D408,Lists!$AP$2:$AR$78,2,FALSE))","v":""},{"$f":"IF(D408=\"\",\"\",VLOOKUP($D408,Lists!$AP$2:$AR$78,3,FALSE))","v":""},null,null,null,null,null,null,""]
[null,{"$f":"IF(D409=\"\",\"\",VLOOKUP($D409,Lists!$AP$2:$AR$78,2,FALSE))","v":""},{"$f":"IF(D409=\"\",\"\",VLOOKUP($D409,Lists!$AP$2:$AR$78,3,FALSE))","v":""},null,null,null,null,null,null,""]
[null,{"$f":"IF(D410=\"\",\"\",VLOOKUP($D410,Lists!$AP$2:$AR$78,2,FALSE))","v":""},{"$f":"IF(D410=\"\",\"\",VLOOKUP($D410,Lists!$AP$2:$AR$78,3,FALSE))","v":""},null,null,null,null,null,null,""]
[null,{"$f":"IF(D411=\"\",\"\",VLOOKUP($D411,Lists!$AP$2:$AR$78,2,FALSE))","v":""},{"$f":"IF(D411=\"\",\"\",VLOOKUP($D411,Lists!$AP$2:$AR$78,3,FALSE))","v":""},null,null,null,null,null,null,""]
[null,{"$f":"IF(D412=\"\",\"\",VLOOKUP($D412,Lists!$AP$2:$AR$78,2,FALSE))","v":""},{"$f":"IF(D412=\"\",\"\",VLOOKUP($D412,Lists!$AP$2:$AR$78,3,FALSE))","v":""},null,null,null,null,null,null,""]
[null,{"$f":"IF(D413=\"\",\"\",VLOOKUP($D413,Lists!$AP$2:$AR$78,2,FALSE))","v":""},{"$f":"IF(D413=\"\",\"\",VLOOKUP($D413,Lists!$AP$2:$AR$78,3,FALSE))","v":""},null,null,null,null,null,null,""]
[null,{"$f":"IF(D414=\"\",\"\",VLOOKUP($D414,Lists!$AP$2:$AR$78,2,FALSE))","v":""},{"$f":"IF(D414=\"\",\"\",VLOOKUP($D414,Lists!$AP$2:$AR$78,3,FALSE))","v":""},null,null,null,null,null,null,""]
[null,{"$f":"IF(D415=\"\",\"\",VLOOKUP($D415,Lists!$AP$2:$AR$78,2,FALSE))","v":""},{"$f":"IF(D415=\"\",\"\",VLOOKUP($D415,Lists!$AP$2:$AR$78,3,FALSE))","v":""},null,null,null,null,null,null,""]
[null,{"$f":"IF(D416=\"\",\"\",VLOOKUP($D416,Lists!$AP$2:$AR$78,2,FALSE))","v":""},{"$f":"IF(D416=\"\",\"\",VLOOKUP($D416,Lists!$AP$2:$AR$78,3,FALSE))","v":""},null,null,null,null,null,null,""]
[null,{"$f":"IF(D417=\"\",\"\",VLOOKUP($D417,Lists!$AP$2:$AR$78,2,FALSE))","v":""},{"$f":"IF(D417=\"\",\"\",VLOOKUP($D417,Lists!$AP$2:$AR$78,3,FALSE))","v":""},null,null,null,null,null,null,""]
[null,{"$f":"IF(D418=\"\",\"\",VLOOKUP($D418,Lists!$AP$2:$AR$78,2,FALSE))","v":""},{"$f":"IF(D418=\"\",\"\",VLOOKUP($D418,Lists!$AP$2:$AR$78,3,FALSE))","v":""},null,null,null,null,null,null,""]
[null,{"$f":"IF(D419=\"\",\"\",VLOOKUP($D419,Lists!$AP$2:$AR$78,2,FALSE))","v":""},{"$f":"IF(D419=\"\",\"\",VLOOKUP($D419,Lists!$AP$2:$AR$78,3,FALSE))","v":""},null,null,null,null,null,null,""]
[null,{"$f":"IF(D420=\"\",\"\",VLOOKUP($D420,Lists!$AP$2:$AR$78,2,FALSE))","v":""},{"$f":"IF(D420=\"\",\"\",VLOOKUP($D420,Lists!$AP$2:$AR$78,3,FALSE))","v":""},null,null,null,null,null,null,""]
[null,{"$f":"IF(D421=\"\",\"\",VLOOKUP($D421,Lists!$AP$2:$AR$78,2,FALSE))","v":""},{"$f":"IF(D421=\"\",\"\",VLOOKUP($D421,Lists!$AP$2:$AR$78,3,FALSE))","v":""},null,null,null,null,null,null,""]
[null,{"$f":"IF(D422=\"\",\"\",VLOOKUP($D422,Lists!$AP$2:$AR$78,2,FALSE))","v":""},{"$f":"IF(D422=\"\",\"\",VLOOKUP($D422,Lists!$AP$2:$AR$78,3,FALSE))","v":""},null,null,null,null,null,null,""]
[null,{"$f":"IF(D423=\"\",\"\",VLOOKUP($D423,Lists!$AP$2:$AR$78,2,FALSE))","v":""},{"$f":"IF(D423=\"\",\"\",VLOOKUP($D423,Lists!$AP$2:$AR$78,3,FALSE))","v":""},null,null,null,null,null,null,""]
[null,{"$f":"IF(D424=\"\",\"\",VLOOKUP($D424,Lists!$AP$2:$AR$78,2,FALSE))","v":""},{"$f":"IF(D424=\"\",\"\",VLOOKUP($D424,Lists!$AP$2:$AR$78,3,FALSE))","v":""},null,null,null,null,null,null,""]
[null,{"$f":"IF(D425=\"\",\"\",VLOOKUP($D425,Lists!$AP$2:$AR$78,2,FALSE))","v":""},{"$f":"IF(D425=\"\",\"\",VLOOKUP($D425,Lists!$AP$2:$AR$78,3,FALSE))","v":""},null,null,null,null,null,null,""]
[null,{"$f":"IF(D426=\"\",\"\",VLOOKUP($D426,Lists!$AP$2:$AR$78,2,FALSE))","v":""},{"$f":"IF(D426=\"\",\"\",VLOOKUP($D426,Lists!$AP$2:$AR$78,3,FALSE))","v":""},null,null,null,null,null,null,""]
[null,{"$f":"IF(D427=\"\",\"\",VLOOKUP($D427,Lists!$AP$2:$AR$78,2,FALSE))","v":""},{"$f":"IF(D427=\"\",\"\",VLOOKUP($D427,Lists!$AP$2:$AR$78,3,FALSE))","v":""},null,null,null,null,null,null,""]
[null,{"$f":"IF(D428=\"\",\"\",VLOOKUP($D428,Lists!$AP$2:$AR$78,2,FALSE))","v":""},{"$f":"IF(D428=\"\",\"\",VLOOKUP($D428,Lists!$AP$2:$AR$78,3,FALSE))","v":""},null,null,null,null,null,null,""]
[null,{"$f":"IF(D429=\"\",\"\",VLOOKUP($D429,Lists!$AP$2:$AR$78,2,FALSE))","v":""},{"$f":"IF(D429=\"\",\"\",VLOOKUP($D429,Lists!$AP$2:$AR$78,3,FALSE))","v":""},null,null,null,null,null,null,""]
[null,{"$f":"IF(D430=\"\",\"\",VLOOKUP($D430,Lists!$AP$2:$AR$78,2,FALSE))","v":""},{"$f":"IF(D430=\"\",\"\",VLOOKUP($D430,Lists!$AP$2:$AR$78,3,FALSE))","v":""},null,null,null,null,null,null,""]
[null,{"$f":"IF(D431=\"\",\"\",VLOOKUP($D431,Lists!$AP$2:$AR$78,2,FALSE))","v":""},{"$f":"IF(D431=\"\",\"\",VLOOKUP($D431,Lists!$AP$2:$AR$78,3,FALSE))","v":""},null,null,null,null,null,null,""]
[null,{"$f":"IF(D432=\"\",\"\",VLOOKUP($D432,Lists!$AP$2:$AR$78,2,FALSE))","v":""},{"$f":"IF(D432=\"\",\"\",VLOOKUP($D432,Lists!$AP$2:$AR$78,3,FALSE))","v":""},null,null,null,null,null,null,""]
[null,{"$f":"IF(D433=\"\",\"\",VLOOKUP($D433,Lists!$AP$2:$AR$78,2,FALSE))","v":""},{"$f":"IF(D433=\"\",\"\",VLOOKUP($D433,Lists!$AP$2:$AR$78,3,FALSE))","v":""},null,null,null,null,null,null,""]
[null,{"$f":"IF(D434=\"\",\"\",VLOOKUP($D434,Lists!$AP$2:$AR$78,2,FALSE))","v":""},{"$f":"IF(D434=\"\",\"\",VLOOKUP($D434,Lists!$AP$2:$AR$78,3,FALSE))","v":""},null,null,null,null,null,null,""]
[null,{"$f":"IF(D435=\"\",\"\",VLOOKUP($D435,Lists!$AP$2:$AR$78,2,FALSE))","v":""},{"$f":"IF(D435=\"\",\"\",VLOOKUP($D435,Lists!$AP$2:$AR$78,3,FALSE))","v":""},null,null,null,null,null,null,""]
[null,{"$f":"IF(D436=\"\",\"\",VLOOKUP($D436,Lists!$AP$2:$AR$78,2,FALSE))","v":""},{"$f":"IF(D436=\"\",\"\",VLOOKUP($D436,Lists!$AP$2:$AR$78,3,FALSE))","v":""},null,null,null,null,null,null,""]
[null,{"$f":"IF(D437=\"\",\"\",VLOOKUP($D437,Lists!$AP$2:$AR$78,2,FALSE))","v":""},{"$f":"IF(D437=\"\",\"\",VLOOKUP($D437,Lists!$AP$2:$AR$78,3,FALSE))","v":""},null,null,null,null,null,null,""]
[null,{"$f":"IF(D438=\"\",\"\",VLOOKUP($D438,Lists!$AP$2:$AR$78,2,FALSE))","v":""},{"$f":"IF(D438=\"\",\"\",VLOOKUP($D438,Lists!$AP$2:$AR$78,3,FALSE))","v":""},null,null,null,null,null,null,""]
[null,{"$f":"IF(D439=\"\",\"\",VLOOKUP($D439,Lists!$AP$2:$AR$78,2,FALSE))","v":""},{"$f":"IF(D439=\"\",\"\",VLOOKUP($D439,Lists!$AP$2:$AR$78,3,FALSE))","v":""},null,null,null,null,null,null,""]
[null,{"$f":"IF(D440=\"\",\"\",VLOOKUP($D440,Lists!$AP$2:$AR$78,2,FALSE))","v":""},{"$f":"IF(D440=\"\",\"\",VLOOKUP($D440,Lists!$AP$2:$AR$78,3,FALSE))","v":""},null,null,null,null,null,null,""]
[null,{"$f":"IF(D441=\"\",\"\",VLOOKUP($D441,Lists!$AP$2:$AR$78,2,FALSE))","v":""},{"$f":"IF(D441=\"\",\"\",VLOOKUP($D441,Lists!$AP$2:$AR$78,3,FALSE))","v":""},null,null,null,null,null,null,""]
[null,{"$f":"IF(D442=\"\",\"\",VLOOKUP($D442,Lists!$AP$2:$AR$78,2,FALSE))","v":""},{"$f":"IF(D442=\"\",\"\",VLOOKUP($D442,Lists!$AP$2:$AR$78,3,FALSE))","v":""},null,null,null,null,null,null,""]
[null,{"$f":"IF(D443=\"\",\"\",VLOOKUP($D443,Lists!$AP$2:$AR$78,2,FALSE))","v":""},{"$f":"IF(D443=\"\",\"\",VLOOKUP($D443,Lists!$AP$2:$AR$78,3,FALSE))","v":""},null,null,null,null,null,null,""]
[null,{"$f":"IF(D444=\"\",\"\",VLOOKUP($D444,Lists!$AP$2:$AR$78,2,FALSE))","v":""},{"$f":"IF(D444=\"\",\"\",VLOOKUP($D444,Lists!$AP$2:$AR$78,3,FALSE))","v":""},null,null,null,null,null,null,""]
[null,{"$f":"IF(D445=\"\",\"\",VLOOKUP($D445,Lists!$AP$2:$AR$78,2,FALSE))","v":""},{"$f":"IF(D445=\"\",\"\",VLOOKUP($D445,Lists!$AP$2:$AR$78,3,FALSE))","v":""},null,null,null,null,null,null,""]
[null,{"$f":"IF(D446=\"\",\"\",VLOOKUP($D446,Lists!$AP$2:$AR$78,2,FALSE))","v":""},{"$f":"IF(D446=\"\",\"\",VLOOKUP($D446,Lists!$AP$2:$AR$78,3,FALSE))","v":""},null,null,null,null,null,null,""]
[null,{"$f":"IF(D447=\"\",\"\",VLOOKUP($D447,Lists!$AP$2:$AR$78,2,FALSE))","v":""},{"$f":"IF(D447=\"\",\"\",VLOOKUP($D447,Lists!$AP$2:$AR$78,3,FALSE))","v":""},null,null,null,null,null,null,""]
[null,{"$f":"IF(D448=\"\",\"\",VLOOKUP($D448,Lists!$AP$2:$AR$78,2,FALSE))","v":""},{"$f":"IF(D448=\"\",\"\",VLOOKUP($D448,Lists!$AP$2:$AR$78,3,FALSE))","v":""},null,null,null,null,null,null,""]
[null,{"$f":"IF(D449=\"\",\"\",VLOOKUP($D449,Lists!$AP$2:$AR$78,2,FALSE))","v":""},{"$f":"IF(D449=\"\",\"\",VLOOKUP($D449,Lists!$AP$2:$AR$78,3,FALSE))","v":""},null,null,null,null,null,null,""]
[null,{"$f":"IF(D450=\"\",\"\",VLOOKUP($D450,Lists!$AP$2:$AR$78,2,FALSE))","v":""},{"$f":"IF(D450=\"\",\"\",VLOOKUP($D450,Lists!$AP$2:$AR$78,3,FALSE))","v":""},null,null,null,null,null,null,""]
[null,{"$f":"IF(D451=\"\",\"\",VLOOKUP($D451,Lists!$AP$2:$AR$78,2,FALSE))","v":""},{"$f":"IF(D451=\"\",\"\",VLOOKUP($D451,Lists!$AP$2:$AR$78,3,FALSE))","v":""},null,null,null,null,null,null,""]
[null,{"$f":"IF(D452=\"\",\"\",VLOOKUP($D452,Lists!$AP$2:$AR$78,2,FALSE))","v":""},{"$f":"IF(D452=\"\",\"\",VLOOKUP($D452,Lists!$AP$2:$AR$78,3,FALSE))","v":""},null,null,null,null,null,null,""]
[null,{"$f":"IF(D453=\"\",\"\",VLOOKUP($D453,Lists!$AP$2:$AR$78,2,FALSE))","v":""},{"$f":"IF(D453=\"\",\"\",VLOOKUP($D453,Lists!$AP$2:$AR$78,3,FALSE))","v":""},null,null,null,null,null,null,""]
[null,{"$f":"IF(D454=\"\",\"\",VLOOKUP($D454,Lists!$AP$2:$AR$78,2,FALSE))","v":""},{"$f":"IF(D454=\"\",\"\",VLOOKUP($D454,Lists!$AP$2:$AR$78,3,FALSE))","v":""},null,null,null,null,null,null,""]
[null,{"$f":"IF(D455=\"\",\"\",VLOOKUP($D455,Lists!$AP$2:$AR$78,2,FALSE))","v":""},{"$f":"IF(D455=\"\",\"\",VLOOKUP($D455,Lists!$AP$2:$AR$78,3,FALSE))","v":""},null,null,null,null,null,null,""]
[null,{"$f":"IF(D456=\"\",\"\",VLOOKUP($D456,Lists!$AP$2:$AR$78,2,FALSE))","v":""},{"$f":"IF(D456=\"\",\"\",VLOOKUP($D456,Lists!$AP$2:$AR$78,3,FALSE))","v":""},null,null,null,null,null,null,""]
[null,{"$f":"IF(D457=\"\",\"\",VLOOKUP($D457,Lists!$AP$2:$AR$78,2,FALSE))","v":""},{"$f":"IF(D457=\"\",\"\",VLOOKUP($D457,Lists!$AP$2:$AR$78,3,FALSE))","v":""},null,null,null,null,null,null,""]
[null,{"$f":"IF(D458=\"\",\"\",VLOOKUP($D458,Lists!$AP$2:$AR$78,2,FALSE))","v":""},{"$f":"IF(D458=\"\",\"\",VLOOKUP($D458,Lists!$AP$2:$AR$78,3,FALSE))","v":""},null,null,null,null,null,null,""]
[null,{"$f":"IF(D459=\"\",\"\",VLOOKUP($D459,Lists!$AP$2:$AR$78,2,FALSE))","v":""},{"$f":"IF(D459=\"\",\"\",VLOOKUP($D459,Lists!$AP$2:$AR$78,3,FALSE))","v":""},null,null,null,null,null,null,""]
[null,{"$f":"IF(D460=\"\",\"\",VLOOKUP($D460,Lists!$AP$2:$AR$78,2,FALSE))","v":""},{"$f":"IF(D460=\"\",\"\",VLOOKUP($D460,Lists!$AP$2:$AR$78,3,FALSE))","v":""},null,null,null,null,null,null,""]
[null,{"$f":"IF(D461=\"\",\"\",VLOOKUP($D461,Lists!$AP$2:$AR$78,2,FALSE))","v":""},{"$f":"IF(D461=\"\",\"\",VLOOKUP($D461,Lists!$AP$2:$AR$78,3,FALSE))","v":""},null,null,null,null,null,null,{"$f":"IF(I461=\"\",\"\",(VALUE(TEXT(H461,\"m/dd/yy \")&TEXT(I461,\"hh:mm:ss\"))-(VALUE(TEXT(F461,\"m/dd/yy \")&TEXT(G461,\"hh:mm:ss\"))))*24)","v":""}]
[null,{"$f":"IF(D462=\"\",\"\",VLOOKUP($D462,Lists!$AP$2:$AR$78,2,FALSE))","v":""},{"$f":"IF(D462=\"\",\"\",VLOOKUP($D462,Lists!$AP$2:$AR$78,3,FALSE))","v":""},null,null,null,null,null,null,""]
[null,{"$f":"IF(D463=\"\",\"\",VLOOKUP($D463,Lists!$AP$2:$AR$78,2,FALSE))","v":""},{"$f":"IF(D463=\"\",\"\",VLOOKUP($D463,Lists!$AP$2:$AR$78,3,FALSE))","v":""},null,null,null,null,null,null,""]
[null,{"$f":"IF(D464=\"\",\"\",VLOOKUP($D464,Lists!$AP$2:$AR$78,2,FALSE))","v":""},{"$f":"IF(D464=\"\",\"\",VLOOKUP($D464,Lists!$AP$2:$AR$78,3,FALSE))","v":""},null,null,null,null,null,null,""]
[null,{"$f":"IF(D465=\"\",\"\",VLOOKUP($D465,Lists!$AP$2:$AR$78,2,FALSE))","v":""},{"$f":"IF(D465=\"\",\"\",VLOOKUP($D465,Lists!$AP$2:$AR$78,3,FALSE))","v":""},null,null,null,null,null,null,""]
[null,{"$f":"IF(D466=\"\",\"\",VLOOKUP($D466,Lists!$AP$2:$AR$78,2,FALSE))","v":""},{"$f":"IF(D466=\"\",\"\",VLOOKUP($D466,Lists!$AP$2:$AR$78,3,FALSE))","v":""},null,null,null,null,null,null,""]
[null,{"$f":"IF(D467=\"\",\"\",VLOOKUP($D467,Lists!$AP$2:$AR$78,2,FALSE))","v":""},{"$f":"IF(D467=\"\",\"\",VLOOKUP($D467,Lists!$AP$2:$AR$78,3,FALSE))","v":""},null,null,null,null,null,null,""]
[null,{"$f":"IF(D468=\"\",\"\",VLOOKUP($D468,Lists!$AP$2:$AR$78,2,FALSE))","v":""},{"$f":"IF(D468=\"\",\"\",VLOOKUP($D468,Lists!$AP$2:$AR$78,3,FALSE))","v":""},null,null,null,null,null,null,""]
[null,{"$f":"IF(D469=\"\",\"\",VLOOKUP($D469,Lists!$AP$2:$AR$78,2,FALSE))","v":""},{"$f":"IF(D469=\"\",\"\",VLOOKUP($D469,Lists!$AP$2:$AR$78,3,FALSE))","v":""},null,null,null,null,null,null,""]
[null,{"$f":"IF(D470=\"\",\"\",VLOOKUP($D470,Lists!$AP$2:$AR$78,2,FALSE))","v":""},{"$f":"IF(D470=\"\",\"\",VLOOKUP($D470,Lists!$AP$2:$AR$78,3,FALSE))","v":""},null,null,null,null,null,null,""]
[null,{"$f":"IF(D471=\"\",\"\",VLOOKUP($D471,Lists!$AP$2:$AR$78,2,FALSE))","v":""},{"$f":"IF(D471=\"\",\"\",VLOOKUP($D471,Lists!$AP$2:$AR$78,3,FALSE))","v":""},null,null,null,null,null,null,""]
[null,{"$f":"IF(D472=\"\",\"\",VLOOKUP($D472,Lists!$AP$2:$AR$78,2,FALSE))","v":""},{"$f":"IF(D472=\"\",\"\",VLOOKUP($D472,Lists!$AP$2:$AR$78,3,FALSE))","v":""},null,null,null,null,null,null,""]
[null,{"$f":"IF(D473=\"\",\"\",VLOOKUP($D473,Lists!$AP$2:$AR$78,2,FALSE))","v":""},{"$f":"IF(D473=\"\",\"\",VLOOKUP($D473,Lists!$AP$2:$AR$78,3,FALSE))","v":""},null,null,null,null,null,null,""]
[null,{"$f":"IF(D474=\"\",\"\",VLOOKUP($D474,Lists!$AP$2:$AR$78,2,FALSE))","v":""},{"$f":"IF(D474=\"\",\"\",VLOOKUP($D474,Lists!$AP$2:$AR$78,3,FALSE))","v":""},null,null,null,null,null,null,""]
[null,{"$f":"IF(D475=\"\",\"\",VLOOKUP($D475,Lists!$AP$2:$AR$78,2,FALSE))","v":""},{"$f":"IF(D475=\"\",\"\",VLOOKUP($D475,Lists!$AP$2:$AR$78,3,FALSE))","v":""},null,null,null,null,null,null,""]
[null,{"$f":"IF(D476=\"\",\"\",VLOOKUP($D476,Lists!$AP$2:$AR$78,2,FALSE))","v":""},{"$f":"IF(D476=\"\",\"\",VLOOKUP($D476,Lists!$AP$2:$AR$78,3,FALSE))","v":""},null,null,null,null,null,null,""]
[null,{"$f":"IF(D477=\"\",\"\",VLOOKUP($D477,Lists!$AP$2:$AR$78,2,FALSE))","v":""},{"$f":"IF(D477=\"\",\"\",VLOOKUP($D477,Lists!$AP$2:$AR$78,3,FALSE))","v":""},null,null,null,null,null,null,""]
[null,{"$f":"IF(D478=\"\",\"\",VLOOKUP($D478,Lists!$AP$2:$AR$78,2,FALSE))","v":""},{"$f":"IF(D478=\"\",\"\",VLOOKUP($D478,Lists!$AP$2:$AR$78,3,FALSE))","v":""},null,null,null,null,null,null,""]
[null,{"$f":"IF(D479=\"\",\"\",VLOOKUP($D479,Lists!$AP$2:$AR$78,2,FALSE))","v":""},{"$f":"IF(D479=\"\",\"\",VLOOKUP($D479,Lists!$AP$2:$AR$78,3,FALSE))","v":""},null,null,null,null,null,null,""]
[null,{"$f":"IF(D480=\"\",\"\",VLOOKUP($D480,Lists!$AP$2:$AR$78,2,FALSE))","v":""},{"$f":"IF(D480=\"\",\"\",VLOOKUP($D480,Lists!$AP$2:$AR$78,3,FALSE))","v":""},null,null,null,null,null,null,""]
[null,{"$f":"IF(D481=\"\",\"\",VLOOKUP($D481,Lists!$AP$2:$AR$78,2,FALSE))","v":""},{"$f":"IF(D481=\"\",\"\",VLOOKUP($D481,Lists!$AP$2:$AR$78,3,FALSE))","v":""},null,null,null,null,null,null,""]
[null,{"$f":"IF(D482=\"\",\"\",VLOOKUP($D482,Lists!$AP$2:$AR$78,2,FALSE))","v":""},{"$f":"IF(D482=\"\",\"\",VLOOKUP($D482,Lists!$AP$2:$AR$78,3,FALSE))","v":""},null,null,null,null,null,null,""]
[null,{"$f":"IF(D483=\"\",\"\",VLOOKUP($D483,Lists!$AP$2:$AR$78,2,FALSE))","v":""},{"$f":"IF(D483=\"\",\"\",VLOOKUP($D483,Lists!$AP$2:$AR$78,3,FALSE))","v":""},null,null,null,null,null,null,""]
[null,{"$f":"IF(D484=\"\",\"\",VLOOKUP($D484,Lists!$AP$2:$AR$78,2,FALSE))","v":""},{"$f":"IF(D484=\"\",\"\",VLOOKUP($D484,Lists!$AP$2:$AR$78,3,FALSE))","v":""},null,null,null,null,null,null,""]
[null,{"$f":"IF(D485=\"\",\"\",VLOOKUP($D485,Lists!$AP$2:$AR$78,2,FALSE))","v":""},{"$f":"IF(D485=\"\",\"\",VLOOKUP($D485,Lists!$AP$2:$AR$78,3,FALSE))","v":""},null,null,null,null,null,null,""]
[null,{"$f":"IF(D486=\"\",\"\",VLOOKUP($D486,Lists!$AP$2:$AR$78,2,FALSE))","v":""},{"$f":"IF(D486=\"\",\"\",VLOOKUP($D486,Lists!$AP$2:$AR$78,3,FALSE))","v":""},null,null,null,null,null,null,""]
[null,{"$f":"IF(D487=\"\",\"\",VLOOKUP($D487,Lists!$AP$2:$AR$78,2,FALSE))","v":""},{"$f":"IF(D487=\"\",\"\",VLOOKUP($D487,Lists!$AP$2:$AR$78,3,FALSE))","v":""},null,null,null,null,null,null,""]
[null,{"$f":"IF(D488=\"\",\"\",VLOOKUP($D488,Lists!$AP$2:$AR$78,2,FALSE))","v":""},{"$f":"IF(D488=\"\",\"\",VLOOKUP($D488,Lists!$AP$2:$AR$78,3,FALSE))","v":""},null,null,null,null,null,null,""]
[null,{"$f":"IF(D489=\"\",\"\",VLOOKUP($D489,Lists!$AP$2:$AR$78,2,FALSE))","v":""},{"$f":"IF(D489=\"\",\"\",VLOOKUP($D489,Lists!$AP$2:$AR$78,3,FALSE))","v":""},null,null,null,null,null,null,""]
[null,{"$f":"IF(D490=\"\",\"\",VLOOKUP($D490,Lists!$AP$2:$AR$78,2,FALSE))","v":""},{"$f":"IF(D490=\"\",\"\",VLOOKUP($D490,Lists!$AP$2:$AR$78,3,FALSE))","v":""},null,null,null,null,null,null,""]
[null,{"$f":"IF(D491=\"\",\"\",VLOOKUP($D491,Lists!$AP$2:$AR$78,2,FALSE))","v":""},{"$f":"IF(D491=\"\",\"\",VLOOKUP($D491,Lists!$AP$2:$AR$78,3,FALSE))","v":""},null,null,null,null,null,null,""]
[null,{"$f":"IF(D492=\"\",\"\",VLOOKUP($D492,Lists!$AP$2:$AR$78,2,FALSE))","v":""},{"$f":"IF(D492=\"\",\"\",VLOOKUP($D492,Lists!$AP$2:$AR$78,3,FALSE))","v":""},null,null,null,null,null,null,""]
[null,{"$f":"IF(D493=\"\",\"\",VLOOKUP($D493,Lists!$AP$2:$AR$78,2,FALSE))","v":""},{"$f":"IF(D493=\"\",\"\",VLOOKUP($D493,Lists!$AP$2:$AR$78,3,FALSE))","v":""},null,null,null,null,null,null,""]
[null,{"$f":"IF(D494=\"\",\"\",VLOOKUP($D494,Lists!$AP$2:$AR$78,2,FALSE))","v":""},{"$f":"IF(D494=\"\",\"\",VLOOKUP($D494,Lists!$AP$2:$AR$78,3,FALSE))","v":""},null,null,null,null,null,null,""]
[null,{"$f":"IF(D495=\"\",\"\",VLOOKUP($D495,Lists!$AP$2:$AR$78,2,FALSE))","v":""},{"$f":"IF(D495=\"\",\"\",VLOOKUP($D495,Lists!$AP$2:$AR$78,3,FALSE))","v":""},null,null,null,null,null,null,""]
[null,{"$f":"IF(D496=\"\",\"\",VLOOKUP($D496,Lists!$AP$2:$AR$78,2,FALSE))","v":""},{"$f":"IF(D496=\"\",\"\",VLOOKUP($D496,Lists!$AP$2:$AR$78,3,FALSE))","v":""},null,null,null,null,null,null,""]
[null,{"$f":"IF(D497=\"\",\"\",VLOOKUP($D497,Lists!$AP$2:$AR$78,2,FALSE))","v":""},{"$f":"IF(D497=\"\",\"\",VLOOKUP($D497,Lists!$AP$2:$AR$78,3,FALSE))","v":""},null,null,null,null,null,null,""]
[null,{"$f":"IF(D498=\"\",\"\",VLOOKUP($D498,Lists!$AP$2:$AR$78,2,FALSE))","v":""},{"$f":"IF(D498=\"\",\"\",VLOOKUP($D498,Lists!$AP$2:$AR$78,3,FALSE))","v":""},null,null,null,null,null,null,""]
[null,{"$f":"IF(D499=\"\",\"\",VLOOKUP($D499,Lists!$AP$2:$AR$78,2,FALSE))","v":""},{"$f":"IF(D499=\"\",\"\",VLOOKUP($D499,Lists!$AP$2:$AR$78,3,FALSE))","v":""},null,null,null,null,null,null,""]
[null,{"$f":"IF(D500=\"\",\"\",VLOOKUP($D500,Lists!$AP$2:$AR$78,2,FALSE))","v":""},{"$f":"IF(D500=\"\",\"\",VLOOKUP($D500,Lists!$AP$2:$AR$78,3,FALSE))","v":""},null,null,null,null,null,null,""]

{"sheet":"Prim_Topcoat_Thinner","index":7,"n_rows":500,"n_cols":10,"rows_kept":500,"cut":false,"hidden":false,"merged":[]}
[null,"DO NOT REMOVE OR EDIT INFORMATION IN THIS SECTION\nFOR INTERNAL USE ONLY"]
[null,"Template Name",{"$f":"+Welcome!B2","v":"63.3120(f) Semiannual Compliance Report (Spreadsheet Template)"}]
[null,"CitationID",{"$f":"+Welcome!B3","v":"63.3120(f)"}]
[null,"Template Version",{"$f":"+Welcome!B4","v":"v2.06"}]
[null,"Last Updated Date",{"$f":"+Welcome!B5","v":45392}]
[null,"OMB Control Number: 2060-0518       Expiration Date: 04/30/2019"]
[null,"40 CFR Part 63, Subpart IIII National Emission Standards for Hazardous Air Pollutants: Surface Coating of Automobiles and Light-Duty Trucks - §63.3120(f) Semiannual Compliance Report Spreadsheet Template"]
[null,"\n"]
[]
[]
[]
[null,"Company Record No.\n(Autofilled)","Affected Source or Equipment\n(§63.3120(a)(6)(xv))\n(Autofilled)","Company Record No. and Affected Source or Equipment\n(§63.3120(a)(6)(xv))\n(Select from dropdown)","Starting Date of Each Month With Deviation from Organic HAP Emission Limit Deviation \n(§63.3110(a)(6)(i))","Ending Date of Each Month With Deviation from Organic HAP Emission Limit Deviation \n(§63.3110(a)(6)(i))","Calculation Used to Determine Monthly Organic HAP Emission Rate or Name of Attached File Containing the Calculation \n(§63.3120(a)(6)(ii))","Cause of Deviation  \n(§63.3120(a)(6)(xiv))","Estimate of Quantity of Organic HAP Emitted Over the Emission Limit (kg)\n(§63.3120(a)(6)(xv))","Method Used to Estimate Emissions\n(§63.3120(a)(6)(xv))\n"]
[null,"RecordId","AffectedSource","AffectedSourceCompanyRecord","PeriodStartDate","PeriodEndDate","FileName","DeviationCause","OrganicHAP","EstEmissionsMethod"]
[null,"e.g.: 1","e.g.: West Coating","e.g.: 1 West Coating","e.g.: 3/1/2017","e.g.: 3/30/2017","e.g.: MonthlyOrganicHAPemissionrate","e.g.: Other Unknown Causes","e.g.: 5.25","e.g.: engineering calculations"]
[null,"e.g.:","e.g.:","e.g.:","e.g.:","e.g.:","e.g.:","e.g.:","e.g.:","e.g.:"]
[null,"e.g.:","e.g.:","e.g.:","e.g.:","e.g.:","e.g.:","e.g.:","e.g.:","e.g.:"]
[null,"e.g.:","e.g.:","e.g.:","e.g.:","e.g.:","e.g.:","e.g.:","e.g.:","e.g.:"]
[null,"e.g.:","e.g.:","e.g.:","e.g.:","e.g.:","e.g.:","e.g.:","e.g.:","e.g.:"]
[null,"e.g.:","e.g.:","e.g.:","e.g.:","e.g.:","e.g.:","e.g.:","e.g.:","e.g.:"]
[null,"e.g.:","e.g.:","e.g.:","e.g.:","e.g.:","e.g.:","e.g.:","e.g.:","e.g.:"]
[null,"e.g.:","e.g.:","e.g.:","e.g.:","e.g.:","e.g.:","e.g.:","e.g.:","e.g.:"]
[null,"e.g.:","e.g.:","e.g.:","e.g.:","e.g.:","e.g.:","e.g.:","e.g.:","e.g.:"]
[null,"e.g.:","e.g.:","e.g.:","e.g.:","e.g.:","e.g.:","e.g.:","e.g.:","e.g.:"]
[null,{"$f":"IF(D24=\"\",\"\",VLOOKUP($D24,Lists!$AP$2:$AR$78,2,FALSE))","v":""},{"$f":"IF(D24=\"\",\"\",VLOOKUP($D24,Lists!$AP$2:$AR$78,3,FALSE))","v":""}]
[null,{"$f":"IF(D25=\"\",\"\",VLOOKUP($D25,Lists!$AP$2:$AR$78,2,FALSE))","v":""},{"$f":"IF(D25=\"\",\"\",VLOOKUP($D25,Lists!$AP$2:$AR$78,3,FALSE))","v":""}]
[null,{"$f":"IF(D26=\"\",\"\",VLOOKUP($D26,Lists!$AP$2:$AR$78,2,FALSE))","v":""},{"$f":"IF(D26=\"\",\"\",VLOOKUP($D26,Lists!$AP$2:$AR$78,3,FALSE))","v":""}]
[null,{"$f":"IF(D27=\"\",\"\",VLOOKUP($D27,Lists!$AP$2:$AR$78,2,FALSE))","v":""},{"$f":"IF(D27=\"\",\"\",VLOOKUP($D27,Lists!$AP$2:$AR$78,3,FALSE))","v":""}]
[null,{"$f":"IF(D28=\"\",\"\",VLOOKUP($D28,Lists!$AP$2:$AR$78,2,FALSE))","v":""},{"$f":"IF(D28=\"\",\"\",VLOOKUP($D28,Lists!$AP$2:$AR$78,3,FALSE))","v":""}]
[null,{"$f":"IF(D29=\"\",\"\",VLOOKUP($D29,Lists!$AP$2:$AR$78,2,FALSE))","v":""},{"$f":"IF(D29=\"\",\"\",VLOOKUP($D29,Lists!$AP$2:$AR$78,3,FALSE))","v":""}]
[null,{"$f":"IF(D30=\"\",\"\",VLOOKUP($D30,Lists!$AP$2:$AR$78,2,FALSE))","v":""},{"$f":"IF(D30=\"\",\"\",VLOOKUP($D30,Lists!$AP$2:$AR$78,3,FALSE))","v":""}]
[null,{"$f":"IF(D31=\"\",\"\",VLOOKUP($D31,Lists!$AP$2:$AR$78,2,FALSE))","v":""},{"$f":"IF(D31=\"\",\"\",VLOOKUP($D31,Lists!$AP$2:$AR$78,3,FALSE))","v":""}]
[null,{"$f":"IF(D32=\"\",\"\",VLOOKUP($D32,Lists!$AP$2:$AR$78,2,FALSE))","v":""},{"$f":"IF(D32=\"\",\"\",VLOOKUP($D32,Lists!$AP$2:$AR$78,3,FALSE))","v":""}]
[null,{"$f":"IF(D33=\"\",\"\",VLOOKUP($D33,Lists!$AP$2:$AR$78,2,FALSE))","v":""},{"$f":"IF(D33=\"\",\"\",VLOOKUP($D33,Lists!$AP$2:$AR$78,3,FALSE))","v":""}]
[null,{"$f":"IF(D34=\"\",\"\",VLOOKUP($D34,Lists!$AP$2:$AR$78,2,FALSE))","v":""},{"$f":"IF(D34=\"\",\"\",VLOOKUP($D34,Lists!$AP$2:$AR$78,3,FALSE))","v":""}]
[null,{"$f":"IF(D35=\"\",\"\",VLOOKUP($D35,Lists!$AP$2:$AR$78,2,FALSE))","v":""},{"$f":"IF(D35=\"\",\"\",VLOOKUP($D35,Lists!$AP$2:$AR$78,3,FALSE))","v":""}]
[null,{"$f":"IF(D36=\"\",\"\",VLOOKUP($D36,Lists!$AP$2:$AR$78,2,FALSE))","v":""},{"$f":"IF(D36=\"\",\"\",VLOOKUP($D36,Lists!$AP$2:$AR$78,3,FALSE))","v":""}]
[null,{"$f":"IF(D37=\"\",\"\",VLOOKUP($D37,Lists!$AP$2:$AR$78,2,FALSE))","v":""},{"$f":"IF(D37=\"\",\"\",VLOOKUP($D37,Lists!$AP$2:$AR$78,3,FALSE))","v":""}]
[null,{"$f":"IF(D38=\"\",\"\",VLOOKUP($D38,Lists!$AP$2:$AR$78,2,FALSE))","v":""},{"$f":"IF(D38=\"\",\"\",VLOOKUP($D38,Lists!$AP$2:$AR$78,3,FALSE))","v":""}]
[null,{"$f":"IF(D39=\"\",\"\",VLOOKUP($D39,Lists!$AP$2:$AR$78,2,FALSE))","v":""},{"$f":"IF(D39=\"\",\"\",VLOOKUP($D39,Lists!$AP$2:$AR$78,3,FALSE))","v":""}]
[null,{"$f":"IF(D40=\"\",\"\",VLOOKUP($D40,Lists!$AP$2:$AR$78,2,FALSE))","v":""},{"$f":"IF(D40=\"\",\"\",VLOOKUP($D40,Lists!$AP$2:$AR$78,3,FALSE))","v":""}]
[null,{"$f":"IF(D41=\"\",\"\",VLOOKUP($D41,Lists!$AP$2:$AR$78,2,FALSE))","v":""},{"$f":"IF(D41=\"\",\"\",VLOOKUP($D41,Lists!$AP$2:$AR$78,3,FALSE))","v":""}]
[null,{"$f":"IF(D42=\"\",\"\",VLOOKUP($D42,Lists!$AP$2:$AR$78,2,FALSE))","v":""},{"$f":"IF(D42=\"\",\"\",VLOOKUP($D42,Lists!$AP$2:$AR$78,3,FALSE))","v":""}]
[null,{"$f":"IF(D43=\"\",\"\",VLOOKUP($D43,Lists!$AP$2:$AR$78,2,FALSE))","v":""},{"$f":"IF(D43=\"\",\"\",VLOOKUP($D43,Lists!$AP$2:$AR$78,3,FALSE))","v":""}]
[null,{"$f":"IF(D44=\"\",\"\",VLOOKUP($D44,Lists!$AP$2:$AR$78,2,FALSE))","v":""},{"$f":"IF(D44=\"\",\"\",VLOOKUP($D44,Lists!$AP$2:$AR$78,3,FALSE))","v":""}]
[null,{"$f":"IF(D45=\"\",\"\",VLOOKUP($D45,Lists!$AP$2:$AR$78,2,FALSE))","v":""},{"$f":"IF(D45=\"\",\"\",VLOOKUP($D45,Lists!$AP$2:$AR$78,3,FALSE))","v":""}]
[null,{"$f":"IF(D46=\"\",\"\",VLOOKUP($D46,Lists!$AP$2:$AR$78,2,FALSE))","v":""},{"$f":"IF(D46=\"\",\"\",VLOOKUP($D46,Lists!$AP$2:$AR$78,3,FALSE))","v":""}]
[null,{"$f":"IF(D47=\"\",\"\",VLOOKUP($D47,Lists!$AP$2:$AR$78,2,FALSE))","v":""},{"$f":"IF(D47=\"\",\"\",VLOOKUP($D47,Lists!$AP$2:$AR$78,3,FALSE))","v":""}]
[null,{"$f":"IF(D48=\"\",\"\",VLOOKUP($D48,Lists!$AP$2:$AR$78,2,FALSE))","v":""},{"$f":"IF(D48=\"\",\"\",VLOOKUP($D48,Lists!$AP$2:$AR$78,3,FALSE))","v":""}]
[null,{"$f":"IF(D49=\"\",\"\",VLOOKUP($D49,Lists!$AP$2:$AR$78,2,FALSE))","v":""},{"$f":"IF(D49=\"\",\"\",VLOOKUP($D49,Lists!$AP$2:$AR$78,3,FALSE))","v":""}]
[null,{"$f":"IF(D50=\"\",\"\",VLOOKUP($D50,Lists!$AP$2:$AR$78,2,FALSE))","v":""},{"$f":"IF(D50=\"\",\"\",VLOOKUP($D50,Lists!$AP$2:$AR$78,3,FALSE))","v":""}]
[null,{"$f":"IF(D51=\"\",\"\",VLOOKUP($D51,Lists!$AP$2:$AR$78,2,FALSE))","v":""},{"$f":"IF(D51=\"\",\"\",VLOOKUP($D51,Lists!$AP$2:$AR$78,3,FALSE))","v":""}]
[null,{"$f":"IF(D52=\"\",\"\",VLOOKUP($D52,Lists!$AP$2:$AR$78,2,FALSE))","v":""},{"$f":"IF(D52=\"\",\"\",VLOOKUP($D52,Lists!$AP$2:$AR$78,3,FALSE))","v":""}]
[null,{"$f":"IF(D53=\"\",\"\",VLOOKUP($D53,Lists!$AP$2:$AR$78,2,FALSE))","v":""},{"$f":"IF(D53=\"\",\"\",VLOOKUP($D53,Lists!$AP$2:$AR$78,3,FALSE))","v":""}]
[null,{"$f":"IF(D54=\"\",\"\",VLOOKUP($D54,Lists!$AP$2:$AR$78,2,FALSE))","v":""},{"$f":"IF(D54=\"\",\"\",VLOOKUP($D54,Lists!$AP$2:$AR$78,3,FALSE))","v":""}]
[null,{"$f":"IF(D55=\"\",\"\",VLOOKUP($D55,Lists!$AP$2:$AR$78,2,FALSE))","v":""},{"$f":"IF(D55=\"\",\"\",VLOOKUP($D55,Lists!$AP$2:$AR$78,3,FALSE))","v":""}]
[null,{"$f":"IF(D56=\"\",\"\",VLOOKUP($D56,Lists!$AP$2:$AR$78,2,FALSE))","v":""},{"$f":"IF(D56=\"\",\"\",VLOOKUP($D56,Lists!$AP$2:$AR$78,3,FALSE))","v":""}]
[null,{"$f":"IF(D57=\"\",\"\",VLOOKUP($D57,Lists!$AP$2:$AR$78,2,FALSE))","v":""},{"$f":"IF(D57=\"\",\"\",VLOOKUP($D57,Lists!$AP$2:$AR$78,3,FALSE))","v":""}]
[null,{"$f":"IF(D58=\"\",\"\",VLOOKUP($D58,Lists!$AP$2:$AR$78,2,FALSE))","v":""},{"$f":"IF(D58=\"\",\"\",VLOOKUP($D58,Lists!$AP$2:$AR$78,3,FALSE))","v":""}]
[null,{"$f":"IF(D59=\"\",\"\",VLOOKUP($D59,Lists!$AP$2:$AR$78,2,FALSE))","v":""},{"$f":"IF(D59=\"\",\"\",VLOOKUP($D59,Lists!$AP$2:$AR$78,3,FALSE))","v":""}]
[null,{"$f":"IF(D60=\"\",\"\",VLOOKUP($D60,Lists!$AP$2:$AR$78,2,FALSE))","v":""},{"$f":"IF(D60=\"\",\"\",VLOOKUP($D60,Lists!$AP$2:$AR$78,3,FALSE))","v":""}]
[null,{"$f":"IF(D61=\"\",\"\",VLOOKUP($D61,Lists!$AP$2:$AR$78,2,FALSE))","v":""},{"$f":"IF(D61=\"\",\"\",VLOOKUP($D61,Lists!$AP$2:$AR$78,3,FALSE))","v":""}]
[null,{"$f":"IF(D62=\"\",\"\",VLOOKUP($D62,Lists!$AP$2:$AR$78,2,FALSE))","v":""},{"$f":"IF(D62=\"\",\"\",VLOOKUP($D62,Lists!$AP$2:$AR$78,3,FALSE))","v":""}]
[null,{"$f":"IF(D63=\"\",\"\",VLOOKUP($D63,Lists!$AP$2:$AR$78,2,FALSE))","v":""},{"$f":"IF(D63=\"\",\"\",VLOOKUP($D63,Lists!$AP$2:$AR$78,3,FALSE))","v":""}]
[null,{"$f":"IF(D64=\"\",\"\",VLOOKUP($D64,Lists!$AP$2:$AR$78,2,FALSE))","v":""},{"$f":"IF(D64=\"\",\"\",VLOOKUP($D64,Lists!$AP$2:$AR$78,3,FALSE))","v":""}]
[null,{"$f":"IF(D65=\"\",\"\",VLOOKUP($D65,Lists!$AP$2:$AR$78,2,FALSE))","v":""},{"$f":"IF(D65=\"\",\"\",VLOOKUP($D65,Lists!$AP$2:$AR$78,3,FALSE))","v":""}]
[null,{"$f":"IF(D66=\"\",\"\",VLOOKUP($D66,Lists!$AP$2:$AR$78,2,FALSE))","v":""},{"$f":"IF(D66=\"\",\"\",VLOOKUP($D66,Lists!$AP$2:$AR$78,3,FALSE))","v":""}]
[null,{"$f":"IF(D67=\"\",\"\",VLOOKUP($D67,Lists!$AP$2:$AR$78,2,FALSE))","v":""},{"$f":"IF(D67=\"\",\"\",VLOOKUP($D67,Lists!$AP$2:$AR$78,3,FALSE))","v":""}]
[null,{"$f":"IF(D68=\"\",\"\",VLOOKUP($D68,Lists!$AP$2:$AR$78,2,FALSE))","v":""},{"$f":"IF(D68=\"\",\"\",VLOOKUP($D68,Lists!$AP$2:$AR$78,3,FALSE))","v":""}]
[null,{"$f":"IF(D69=\"\",\"\",VLOOKUP($D69,Lists!$AP$2:$AR$78,2,FALSE))","v":""},{"$f":"IF(D69=\"\",\"\",VLOOKUP($D69,Lists!$AP$2:$AR$78,3,FALSE))","v":""}]
[null,{"$f":"IF(D70=\"\",\"\",VLOOKUP($D70,Lists!$AP$2:$AR$78,2,FALSE))","v":""},{"$f":"IF(D70=\"\",\"\",VLOOKUP($D70,Lists!$AP$2:$AR$78,3,FALSE))","v":""}]
[null,{"$f":"IF(D71=\"\",\"\",VLOOKUP($D71,Lists!$AP$2:$AR$78,2,FALSE))","v":""},{"$f":"IF(D71=\"\",\"\",VLOOKUP($D71,Lists!$AP$2:$AR$78,3,FALSE))","v":""}]
[null,{"$f":"IF(D72=\"\",\"\",VLOOKUP($D72,Lists!$AP$2:$AR$78,2,FALSE))","v":""},{"$f":"IF(D72=\"\",\"\",VLOOKUP($D72,Lists!$AP$2:$AR$78,3,FALSE))","v":""}]
[null,{"$f":"IF(D73=\"\",\"\",VLOOKUP($D73,Lists!$AP$2:$AR$78,2,FALSE))","v":""},{"$f":"IF(D73=\"\",\"\",VLOOKUP($D73,Lists!$AP$2:$AR$78,3,FALSE))","v":""}]
[null,{"$f":"IF(D74=\"\",\"\",VLOOKUP($D74,Lists!$AP$2:$AR$78,2,FALSE))","v":""},{"$f":"IF(D74=\"\",\"\",VLOOKUP($D74,Lists!$AP$2:$AR$78,3,FALSE))","v":""}]
[null,{"$f":"IF(D75=\"\",\"\",VLOOKUP($D75,Lists!$AP$2:$AR$78,2,FALSE))","v":""},{"$f":"IF(D75=\"\",\"\",VLOOKUP($D75,Lists!$AP$2:$AR$78,3,FALSE))","v":""}]
[null,{"$f":"IF(D76=\"\",\"\",VLOOKUP($D76,Lists!$AP$2:$AR$78,2,FALSE))","v":""},{"$f":"IF(D76=\"\",\"\",VLOOKUP($D76,Lists!$AP$2:$AR$78,3,FALSE))","v":""}]
[null,{"$f":"IF(D77=\"\",\"\",VLOOKUP($D77,Lists!$AP$2:$AR$78,2,FALSE))","v":""},{"$f":"IF(D77=\"\",\"\",VLOOKUP($D77,Lists!$AP$2:$AR$78,3,FALSE))","v":""}]
[null,{"$f":"IF(D78=\"\",\"\",VLOOKUP($D78,Lists!$AP$2:$AR$78,2,FALSE))","v":""},{"$f":"IF(D78=\"\",\"\",VLOOKUP($D78,Lists!$AP$2:$AR$78,3,FALSE))","v":""}]
[null,{"$f":"IF(D79=\"\",\"\",VLOOKUP($D79,Lists!$AP$2:$AR$78,2,FALSE))","v":""},{"$f":"IF(D79=\"\",\"\",VLOOKUP($D79,Lists!$AP$2:$AR$78,3,FALSE))","v":""}]
[null,{"$f":"IF(D80=\"\",\"\",VLOOKUP($D80,Lists!$AP$2:$AR$78,2,FALSE))","v":""},{"$f":"IF(D80=\"\",\"\",VLOOKUP($D80,Lists!$AP$2:$AR$78,3,FALSE))","v":""}]
[null,{"$f":"IF(D81=\"\",\"\",VLOOKUP($D81,Lists!$AP$2:$AR$78,2,FALSE))","v":""},{"$f":"IF(D81=\"\",\"\",VLOOKUP($D81,Lists!$AP$2:$AR$78,3,FALSE))","v":""}]
[null,{"$f":"IF(D82=\"\",\"\",VLOOKUP($D82,Lists!$AP$2:$AR$78,2,FALSE))","v":""},{"$f":"IF(D82=\"\",\"\",VLOOKUP($D82,Lists!$AP$2:$AR$78,3,FALSE))","v":""}]
[null,{"$f":"IF(D83=\"\",\"\",VLOOKUP($D83,Lists!$AP$2:$AR$78,2,FALSE))","v":""},{"$f":"IF(D83=\"\",\"\",VLOOKUP($D83,Lists!$AP$2:$AR$78,3,FALSE))","v":""}]
[null,{"$f":"IF(D84=\"\",\"\",VLOOKUP($D84,Lists!$AP$2:$AR$78,2,FALSE))","v":""},{"$f":"IF(D84=\"\",\"\",VLOOKUP($D84,Lists!$AP$2:$AR$78,3,FALSE))","v":""}]
[null,{"$f":"IF(D85=\"\",\"\",VLOOKUP($D85,Lists!$AP$2:$AR$78,2,FALSE))","v":""},{"$f":"IF(D85=\"\",\"\",VLOOKUP($D85,Lists!$AP$2:$AR$78,3,FALSE))","v":""}]
[null,{"$f":"IF(D86=\"\",\"\",VLOOKUP($D86,Lists!$AP$2:$AR$78,2,FALSE))","v":""},{"$f":"IF(D86=\"\",\"\",VLOOKUP($D86,Lists!$AP$2:$AR$78,3,FALSE))","v":""}]
[null,{"$f":"IF(D87=\"\",\"\",VLOOKUP($D87,Lists!$AP$2:$AR$78,2,FALSE))","v":""},{"$f":"IF(D87=\"\",\"\",VLOOKUP($D87,Lists!$AP$2:$AR$78,3,FALSE))","v":""}]
[null,{"$f":"IF(D88=\"\",\"\",VLOOKUP($D88,Lists!$AP$2:$AR$78,2,FALSE))","v":""},{"$f":"IF(D88=\"\",\"\",VLOOKUP($D88,Lists!$AP$2:$AR$78,3,FALSE))","v":""}]
[null,{"$f":"IF(D89=\"\",\"\",VLOOKUP($D89,Lists!$AP$2:$AR$78,2,FALSE))","v":""},{"$f":"IF(D89=\"\",\"\",VLOOKUP($D89,Lists!$AP$2:$AR$78,3,FALSE))","v":""}]
[null,{"$f":"IF(D90=\"\",\"\",VLOOKUP($D90,Lists!$AP$2:$AR$78,2,FALSE))","v":""},{"$f":"IF(D90=\"\",\"\",VLOOKUP($D90,Lists!$AP$2:$AR$78,3,FALSE))","v":""}]
[null,{"$f":"IF(D91=\"\",\"\",VLOOKUP($D91,Lists!$AP$2:$AR$78,2,FALSE))","v":""},{"$f":"IF(D91=\"\",\"\",VLOOKUP($D91,Lists!$AP$2:$AR$78,3,FALSE))","v":""}]
[null,{"$f":"IF(D92=\"\",\"\",VLOOKUP($D92,Lists!$AP$2:$AR$78,2,FALSE))","v":""},{"$f":"IF(D92=\"\",\"\",VLOOKUP($D92,Lists!$AP$2:$AR$78,3,FALSE))","v":""}]
[null,{"$f":"IF(D93=\"\",\"\",VLOOKUP($D93,Lists!$AP$2:$AR$78,2,FALSE))","v":""},{"$f":"IF(D93=\"\",\"\",VLOOKUP($D93,Lists!$AP$2:$AR$78,3,FALSE))","v":""}]
[null,{"$f":"IF(D94=\"\",\"\",VLOOKUP($D94,Lists!$AP$2:$AR$78,2,FALSE))","v":""},{"$f":"IF(D94=\"\",\"\",VLOOKUP($D94,Lists!$AP$2:$AR$78,3,FALSE))","v":""}]
[null,{"$f":"IF(D95=\"\",\"\",VLOOKUP($D95,Lists!$AP$2:$AR$78,2,FALSE))","v":""},{"$f":"IF(D95=\"\",\"\",VLOOKUP($D95,Lists!$AP$2:$AR$78,3,FALSE))","v":""}]
[null,{"$f":"IF(D96=\"\",\"\",VLOOKUP($D96,Lists!$AP$2:$AR$78,2,FALSE))","v":""},{"$f":"IF(D96=\"\",\"\",VLOOKUP($D96,Lists!$AP$2:$AR$78,3,FALSE))","v":""}]
[null,{"$f":"IF(D97=\"\",\"\",VLOOKUP($D97,Lists!$AP$2:$AR$78,2,FALSE))","v":""},{"$f":"IF(D97=\"\",\"\",VLOOKUP($D97,Lists!$AP$2:$AR$78,3,FALSE))","v":""}]
[null,{"$f":"IF(D98=\"\",\"\",VLOOKUP($D98,Lists!$AP$2:$AR$78,2,FALSE))","v":""},{"$f":"IF(D98=\"\",\"\",VLOOKUP($D98,Lists!$AP$2:$AR$78,3,FALSE))","v":""}]
[null,{"$f":"IF(D99=\"\",\"\",VLOOKUP($D99,Lists!$AP$2:$AR$78,2,FALSE))","v":""},{"$f":"IF(D99=\"\",\"\",VLOOKUP($D99,Lists!$AP$2:$AR$78,3,FALSE))","v":""}]
[null,{"$f":"IF(D100=\"\",\"\",VLOOKUP($D100,Lists!$AP$2:$AR$78,2,FALSE))","v":""},{"$f":"IF(D100=\"\",\"\",VLOOKUP($D100,Lists!$AP$2:$AR$78,3,FALSE))","v":""}]
[null,{"$f":"IF(D101=\"\",\"\",VLOOKUP($D101,Lists!$AP$2:$AR$78,2,FALSE))","v":""},{"$f":"IF(D101=\"\",\"\",VLOOKUP($D101,Lists!$AP$2:$AR$78,3,FALSE))","v":""}]
[null,{"$f":"IF(D102=\"\",\"\",VLOOKUP($D102,Lists!$AP$2:$AR$78,2,FALSE))","v":""},{"$f":"IF(D102=\"\",\"\",VLOOKUP($D102,Lists!$AP$2:$AR$78,3,FALSE))","v":""}]
[null,{"$f":"IF(D103=\"\",\"\",VLOOKUP($D103,Lists!$AP$2:$AR$78,2,FALSE))","v":""},{"$f":"IF(D103=\"\",\"\",VLOOKUP($D103,Lists!$AP$2:$AR$78,3,FALSE))","v":""}]
[null,{"$f":"IF(D104=\"\",\"\",VLOOKUP($D104,Lists!$AP$2:$AR$78,2,FALSE))","v":""},{"$f":"IF(D104=\"\",\"\",VLOOKUP($D104,Lists!$AP$2:$AR$78,3,FALSE))","v":""}]
[null,{"$f":"IF(D105=\"\",\"\",VLOOKUP($D105,Lists!$AP$2:$AR$78,2,FALSE))","v":""},{"$f":"IF(D105=\"\",\"\",VLOOKUP($D105,Lists!$AP$2:$AR$78,3,FALSE))","v":""}]
[null,{"$f":"IF(D106=\"\",\"\",VLOOKUP($D106,Lists!$AP$2:$AR$78,2,FALSE))","v":""},{"$f":"IF(D106=\"\",\"\",VLOOKUP($D106,Lists!$AP$2:$AR$78,3,FALSE))","v":""}]
[null,{"$f":"IF(D107=\"\",\"\",VLOOKUP($D107,Lists!$AP$2:$AR$78,2,FALSE))","v":""},{"$f":"IF(D107=\"\",\"\",VLOOKUP($D107,Lists!$AP$2:$AR$78,3,FALSE))","v":""}]
[null,{"$f":"IF(D108=\"\",\"\",VLOOKUP($D108,Lists!$AP$2:$AR$78,2,FALSE))","v":""},{"$f":"IF(D108=\"\",\"\",VLOOKUP($D108,Lists!$AP$2:$AR$78,3,FALSE))","v":""}]
[null,{"$f":"IF(D109=\"\",\"\",VLOOKUP($D109,Lists!$AP$2:$AR$78,2,FALSE))","v":""},{"$f":"IF(D109=\"\",\"\",VLOOKUP($D109,Lists!$AP$2:$AR$78,3,FALSE))","v":""}]
[null,{"$f":"IF(D110=\"\",\"\",VLOOKUP($D110,Lists!$AP$2:$AR$78,2,FALSE))","v":""},{"$f":"IF(D110=\"\",\"\",VLOOKUP($D110,Lists!$AP$2:$AR$78,3,FALSE))","v":""}]
[null,{"$f":"IF(D111=\"\",\"\",VLOOKUP($D111,Lists!$AP$2:$AR$78,2,FALSE))","v":""},{"$f":"IF(D111=\"\",\"\",VLOOKUP($D111,Lists!$AP$2:$AR$78,3,FALSE))","v":""}]
[null,{"$f":"IF(D112=\"\",\"\",VLOOKUP($D112,Lists!$AP$2:$AR$78,2,FALSE))","v":""},{"$f":"IF(D112=\"\",\"\",VLOOKUP($D112,Lists!$AP$2:$AR$78,3,FALSE))","v":""}]
[null,{"$f":"IF(D113=\"\",\"\",VLOOKUP($D113,Lists!$AP$2:$AR$78,2,FALSE))","v":""},{"$f":"IF(D113=\"\",\"\",VLOOKUP($D113,Lists!$AP$2:$AR$78,3,FALSE))","v":""}]
[null,{"$f":"IF(D114=\"\",\"\",VLOOKUP($D114,Lists!$AP$2:$AR$78,2,FALSE))","v":""},{"$f":"IF(D114=\"\",\"\",VLOOKUP($D114,Lists!$AP$2:$AR$78,3,FALSE))","v":""}]
[null,{"$f":"IF(D115=\"\",\"\",VLOOKUP($D115,Lists!$AP$2:$AR$78,2,FALSE))","v":""},{"$f":"IF(D115=\"\",\"\",VLOOKUP($D115,Lists!$AP$2:$AR$78,3,FALSE))","v":""}]
[null,{"$f":"IF(D116=\"\",\"\",VLOOKUP($D116,Lists!$AP$2:$AR$78,2,FALSE))","v":""},{"$f":"IF(D116=\"\",\"\",VLOOKUP($D116,Lists!$AP$2:$AR$78,3,FALSE))","v":""}]
[null,{"$f":"IF(D117=\"\",\"\",VLOOKUP($D117,Lists!$AP$2:$AR$78,2,FALSE))","v":""},{"$f":"IF(D117=\"\",\"\",VLOOKUP($D117,Lists!$AP$2:$AR$78,3,FALSE))","v":""}]
[null,{"$f":"IF(D118=\"\",\"\",VLOOKUP($D118,Lists!$AP$2:$AR$78,2,FALSE))","v":""},{"$f":"IF(D118=\"\",\"\",VLOOKUP($D118,Lists!$AP$2:$AR$78,3,FALSE))","v":""}]
[null,{"$f":"IF(D119=\"\",\"\",VLOOKUP($D119,Lists!$AP$2:$AR$78,2,FALSE))","v":""},{"$f":"IF(D119=\"\",\"\",VLOOKUP($D119,Lists!$AP$2:$AR$78,3,FALSE))","v":""}]
[null,{"$f":"IF(D120=\"\",\"\",VLOOKUP($D120,Lists!$AP$2:$AR$78,2,FALSE))","v":""},{"$f":"IF(D120=\"\",\"\",VLOOKUP($D120,Lists!$AP$2:$AR$78,3,FALSE))","v":""}]
[null,{"$f":"IF(D121=\"\",\"\",VLOOKUP($D121,Lists!$AP$2:$AR$78,2,FALSE))","v":""},{"$f":"IF(D121=\"\",\"\",VLOOKUP($D121,Lists!$AP$2:$AR$78,3,FALSE))","v":""}]
[null,{"$f":"IF(D122=\"\",\"\",VLOOKUP($D122,Lists!$AP$2:$AR$78,2,FALSE))","v":""},{"$f":"IF(D122=\"\",\"\",VLOOKUP($D122,Lists!$AP$2:$AR$78,3,FALSE))","v":""}]
[null,{"$f":"IF(D123=\"\",\"\",VLOOKUP($D123,Lists!$AP$2:$AR$78,2,FALSE))","v":""},{"$f":"IF(D123=\"\",\"\",VLOOKUP($D123,Lists!$AP$2:$AR$78,3,FALSE))","v":""}]
[null,{"$f":"IF(D124=\"\",\"\",VLOOKUP($D124,Lists!$AP$2:$AR$78,2,FALSE))","v":""},{"$f":"IF(D124=\"\",\"\",VLOOKUP($D124,Lists!$AP$2:$AR$78,3,FALSE))","v":""}]
[null,{"$f":"IF(D125=\"\",\"\",VLOOKUP($D125,Lists!$AP$2:$AR$78,2,FALSE))","v":""},{"$f":"IF(D125=\"\",\"\",VLOOKUP($D125,Lists!$AP$2:$AR$78,3,FALSE))","v":""}]
[null,{"$f":"IF(D126=\"\",\"\",VLOOKUP($D126,Lists!$AP$2:$AR$78,2,FALSE))","v":""},{"$f":"IF(D126=\"\",\"\",VLOOKUP($D126,Lists!$AP$2:$AR$78,3,FALSE))","v":""}]
[null,{"$f":"IF(D127=\"\",\"\",VLOOKUP($D127,Lists!$AP$2:$AR$78,2,FALSE))","v":""},{"$f":"IF(D127=\"\",\"\",VLOOKUP($D127,Lists!$AP$2:$AR$78,3,FALSE))","v":""}]
[null,{"$f":"IF(D128=\"\",\"\",VLOOKUP($D128,Lists!$AP$2:$AR$78,2,FALSE))","v":""},{"$f":"IF(D128=\"\",\"\",VLOOKUP($D128,Lists!$AP$2:$AR$78,3,FALSE))","v":""}]
[null,{"$f":"IF(D129=\"\",\"\",VLOOKUP($D129,Lists!$AP$2:$AR$78,2,FALSE))","v":""},{"$f":"IF(D129=\"\",\"\",VLOOKUP($D129,Lists!$AP$2:$AR$78,3,FALSE))","v":""}]
[null,{"$f":"IF(D130=\"\",\"\",VLOOKUP($D130,Lists!$AP$2:$AR$78,2,FALSE))","v":""},{"$f":"IF(D130=\"\",\"\",VLOOKUP($D130,Lists!$AP$2:$AR$78,3,FALSE))","v":""}]
[null,{"$f":"IF(D131=\"\",\"\",VLOOKUP($D131,Lists!$AP$2:$AR$78,2,FALSE))","v":""},{"$f":"IF(D131=\"\",\"\",VLOOKUP($D131,Lists!$AP$2:$AR$78,3,FALSE))","v":""}]
[null,{"$f":"IF(D132=\"\",\"\",VLOOKUP($D132,Lists!$AP$2:$AR$78,2,FALSE))","v":""},{"$f":"IF(D132=\"\",\"\",VLOOKUP($D132,Lists!$AP$2:$AR$78,3,FALSE))","v":""}]
[null,{"$f":"IF(D133=\"\",\"\",VLOOKUP($D133,Lists!$AP$2:$AR$78,2,FALSE))","v":""},{"$f":"IF(D133=\"\",\"\",VLOOKUP($D133,Lists!$AP$2:$AR$78,3,FALSE))","v":""}]
[null,{"$f":"IF(D134=\"\",\"\",VLOOKUP($D134,Lists!$AP$2:$AR$78,2,FALSE))","v":""},{"$f":"IF(D134=\"\",\"\",VLOOKUP($D134,Lists!$AP$2:$AR$78,3,FALSE))","v":""}]
[null,{"$f":"IF(D135=\"\",\"\",VLOOKUP($D135,Lists!$AP$2:$AR$78,2,FALSE))","v":""},{"$f":"IF(D135=\"\",\"\",VLOOKUP($D135,Lists!$AP$2:$AR$78,3,FALSE))","v":""}]
[null,{"$f":"IF(D136=\"\",\"\",VLOOKUP($D136,Lists!$AP$2:$AR$78,2,FALSE))","v":""},{"$f":"IF(D136=\"\",\"\",VLOOKUP($D136,Lists!$AP$2:$AR$78,3,FALSE))","v":""}]
[null,{"$f":"IF(D137=\"\",\"\",VLOOKUP($D137,Lists!$AP$2:$AR$78,2,FALSE))","v":""},{"$f":"IF(D137=\"\",\"\",VLOOKUP($D137,Lists!$AP$2:$AR$78,3,FALSE))","v":""}]
[null,{"$f":"IF(D138=\"\",\"\",VLOOKUP($D138,Lists!$AP$2:$AR$78,2,FALSE))","v":""},{"$f":"IF(D138=\"\",\"\",VLOOKUP($D138,Lists!$AP$2:$AR$78,3,FALSE))","v":""}]
[null,{"$f":"IF(D139=\"\",\"\",VLOOKUP($D139,Lists!$AP$2:$AR$78,2,FALSE))","v":""},{"$f":"IF(D139=\"\",\"\",VLOOKUP($D139,Lists!$AP$2:$AR$78,3,FALSE))","v":""}]
[null,{"$f":"IF(D140=\"\",\"\",VLOOKUP($D140,Lists!$AP$2:$AR$78,2,FALSE))","v":""},{"$f":"IF(D140=\"\",\"\",VLOOKUP($D140,Lists!$AP$2:$AR$78,3,FALSE))","v":""}]
[null,{"$f":"IF(D141=\"\",\"\",VLOOKUP($D141,Lists!$AP$2:$AR$78,2,FALSE))","v":""},{"$f":"IF(D141=\"\",\"\",VLOOKUP($D141,Lists!$AP$2:$AR$78,3,FALSE))","v":""}]
[null,{"$f":"IF(D142=\"\",\"\",VLOOKUP($D142,Lists!$AP$2:$AR$78,2,FALSE))","v":""},{"$f":"IF(D142=\"\",\"\",VLOOKUP($D142,Lists!$AP$2:$AR$78,3,FALSE))","v":""}]
[null,{"$f":"IF(D143=\"\",\"\",VLOOKUP($D143,Lists!$AP$2:$AR$78,2,FALSE))","v":""},{"$f":"IF(D143=\"\",\"\",VLOOKUP($D143,Lists!$AP$2:$AR$78,3,FALSE))","v":""}]
[null,{"$f":"IF(D144=\"\",\"\",VLOOKUP($D144,Lists!$AP$2:$AR$78,2,FALSE))","v":""},{"$f":"IF(D144=\"\",\"\",VLOOKUP($D144,Lists!$AP$2:$AR$78,3,FALSE))","v":""}]
[null,{"$f":"IF(D145=\"\",\"\",VLOOKUP($D145,Lists!$AP$2:$AR$78,2,FALSE))","v":""},{"$f":"IF(D145=\"\",\"\",VLOOKUP($D145,Lists!$AP$2:$AR$78,3,FALSE))","v":""}]
[null,{"$f":"IF(D146=\"\",\"\",VLOOKUP($D146,Lists!$AP$2:$AR$78,2,FALSE))","v":""},{"$f":"IF(D146=\"\",\"\",VLOOKUP($D146,Lists!$AP$2:$AR$78,3,FALSE))","v":""}]
[null,{"$f":"IF(D147=\"\",\"\",VLOOKUP($D147,Lists!$AP$2:$AR$78,2,FALSE))","v":""},{"$f":"IF(D147=\"\",\"\",VLOOKUP($D147,Lists!$AP$2:$AR$78,3,FALSE))","v":""}]
[null,{"$f":"IF(D148=\"\",\"\",VLOOKUP($D148,Lists!$AP$2:$AR$78,2,FALSE))","v":""},{"$f":"IF(D148=\"\",\"\",VLOOKUP($D148,Lists!$AP$2:$AR$78,3,FALSE))","v":""}]
[null,{"$f":"IF(D149=\"\",\"\",VLOOKUP($D149,Lists!$AP$2:$AR$78,2,FALSE))","v":""},{"$f":"IF(D149=\"\",\"\",VLOOKUP($D149,Lists!$AP$2:$AR$78,3,FALSE))","v":""}]
[null,{"$f":"IF(D150=\"\",\"\",VLOOKUP($D150,Lists!$AP$2:$AR$78,2,FALSE))","v":""},{"$f":"IF(D150=\"\",\"\",VLOOKUP($D150,Lists!$AP$2:$AR$78,3,FALSE))","v":""}]
[null,{"$f":"IF(D151=\"\",\"\",VLOOKUP($D151,Lists!$AP$2:$AR$78,2,FALSE))","v":""},{"$f":"IF(D151=\"\",\"\",VLOOKUP($D151,Lists!$AP$2:$AR$78,3,FALSE))","v":""}]
[null,{"$f":"IF(D152=\"\",\"\",VLOOKUP($D152,Lists!$AP$2:$AR$78,2,FALSE))","v":""},{"$f":"IF(D152=\"\",\"\",VLOOKUP($D152,Lists!$AP$2:$AR$78,3,FALSE))","v":""}]
[null,{"$f":"IF(D153=\"\",\"\",VLOOKUP($D153,Lists!$AP$2:$AR$78,2,FALSE))","v":""},{"$f":"IF(D153=\"\",\"\",VLOOKUP($D153,Lists!$AP$2:$AR$78,3,FALSE))","v":""}]
[null,{"$f":"IF(D154=\"\",\"\",VLOOKUP($D154,Lists!$AP$2:$AR$78,2,FALSE))","v":""},{"$f":"IF(D154=\"\",\"\",VLOOKUP($D154,Lists!$AP$2:$AR$78,3,FALSE))","v":""}]
[null,{"$f":"IF(D155=\"\",\"\",VLOOKUP($D155,Lists!$AP$2:$AR$78,2,FALSE))","v":""},{"$f":"IF(D155=\"\",\"\",VLOOKUP($D155,Lists!$AP$2:$AR$78,3,FALSE))","v":""}]
[null,{"$f":"IF(D156=\"\",\"\",VLOOKUP($D156,Lists!$AP$2:$AR$78,2,FALSE))","v":""},{"$f":"IF(D156=\"\",\"\",VLOOKUP($D156,Lists!$AP$2:$AR$78,3,FALSE))","v":""}]
[null,{"$f":"IF(D157=\"\",\"\",VLOOKUP($D157,Lists!$AP$2:$AR$78,2,FALSE))","v":""},{"$f":"IF(D157=\"\",\"\",VLOOKUP($D157,Lists!$AP$2:$AR$78,3,FALSE))","v":""}]
[null,{"$f":"IF(D158=\"\",\"\",VLOOKUP($D158,Lists!$AP$2:$AR$78,2,FALSE))","v":""},{"$f":"IF(D158=\"\",\"\",VLOOKUP($D158,Lists!$AP$2:$AR$78,3,FALSE))","v":""}]
[null,{"$f":"IF(D159=\"\",\"\",VLOOKUP($D159,Lists!$AP$2:$AR$78,2,FALSE))","v":""},{"$f":"IF(D159=\"\",\"\",VLOOKUP($D159,Lists!$AP$2:$AR$78,3,FALSE))","v":""}]
[null,{"$f":"IF(D160=\"\",\"\",VLOOKUP($D160,Lists!$AP$2:$AR$78,2,FALSE))","v":""},{"$f":"IF(D160=\"\",\"\",VLOOKUP($D160,Lists!$AP$2:$AR$78,3,FALSE))","v":""}]
[null,{"$f":"IF(D161=\"\",\"\",VLOOKUP($D161,Lists!$AP$2:$AR$78,2,FALSE))","v":""},{"$f":"IF(D161=\"\",\"\",VLOOKUP($D161,Lists!$AP$2:$AR$78,3,FALSE))","v":""}]
[null,{"$f":"IF(D162=\"\",\"\",VLOOKUP($D162,Lists!$AP$2:$AR$78,2,FALSE))","v":""},{"$f":"IF(D162=\"\",\"\",VLOOKUP($D162,Lists!$AP$2:$AR$78,3,FALSE))","v":""}]
[null,{"$f":"IF(D163=\"\",\"\",VLOOKUP($D163,Lists!$AP$2:$AR$78,2,FALSE))","v":""},{"$f":"IF(D163=\"\",\"\",VLOOKUP($D163,Lists!$AP$2:$AR$78,3,FALSE))","v":""}]
[null,{"$f":"IF(D164=\"\",\"\",VLOOKUP($D164,Lists!$AP$2:$AR$78,2,FALSE))","v":""},{"$f":"IF(D164=\"\",\"\",VLOOKUP($D164,Lists!$AP$2:$AR$78,3,FALSE))","v":""}]
[null,{"$f":"IF(D165=\"\",\"\",VLOOKUP($D165,Lists!$AP$2:$AR$78,2,FALSE))","v":""},{"$f":"IF(D165=\"\",\"\",VLOOKUP($D165,Lists!$AP$2:$AR$78,3,FALSE))","v":""}]
[null,{"$f":"IF(D166=\"\",\"\",VLOOKUP($D166,Lists!$AP$2:$AR$78,2,FALSE))","v":""},{"$f":"IF(D166=\"\",\"\",VLOOKUP($D166,Lists!$AP$2:$AR$78,3,FALSE))","v":""}]
[null,{"$f":"IF(D167=\"\",\"\",VLOOKUP($D167,Lists!$AP$2:$AR$78,2,FALSE))","v":""},{"$f":"IF(D167=\"\",\"\",VLOOKUP($D167,Lists!$AP$2:$AR$78,3,FALSE))","v":""}]
[null,{"$f":"IF(D168=\"\",\"\",VLOOKUP($D168,Lists!$AP$2:$AR$78,2,FALSE))","v":""},{"$f":"IF(D168=\"\",\"\",VLOOKUP($D168,Lists!$AP$2:$AR$78,3,FALSE))","v":""}]
[null,{"$f":"IF(D169=\"\",\"\",VLOOKUP($D169,Lists!$AP$2:$AR$78,2,FALSE))","v":""},{"$f":"IF(D169=\"\",\"\",VLOOKUP($D169,Lists!$AP$2:$AR$78,3,FALSE))","v":""}]
[null,{"$f":"IF(D170=\"\",\"\",VLOOKUP($D170,Lists!$AP$2:$AR$78,2,FALSE))","v":""},{"$f":"IF(D170=\"\",\"\",VLOOKUP($D170,Lists!$AP$2:$AR$78,3,FALSE))","v":""}]
[null,{"$f":"IF(D171=\"\",\"\",VLOOKUP($D171,Lists!$AP$2:$AR$78,2,FALSE))","v":""},{"$f":"IF(D171=\"\",\"\",VLOOKUP($D171,Lists!$AP$2:$AR$78,3,FALSE))","v":""}]
[null,{"$f":"IF(D172=\"\",\"\",VLOOKUP($D172,Lists!$AP$2:$AR$78,2,FALSE))","v":""},{"$f":"IF(D172=\"\",\"\",VLOOKUP($D172,Lists!$AP$2:$AR$78,3,FALSE))","v":""}]
[null,{"$f":"IF(D173=\"\",\"\",VLOOKUP($D173,Lists!$AP$2:$AR$78,2,FALSE))","v":""},{"$f":"IF(D173=\"\",\"\",VLOOKUP($D173,Lists!$AP$2:$AR$78,3,FALSE))","v":""}]
[null,{"$f":"IF(D174=\"\",\"\",VLOOKUP($D174,Lists!$AP$2:$AR$78,2,FALSE))","v":""},{"$f":"IF(D174=\"\",\"\",VLOOKUP($D174,Lists!$AP$2:$AR$78,3,FALSE))","v":""}]
[null,{"$f":"IF(D175=\"\",\"\",VLOOKUP($D175,Lists!$AP$2:$AR$78,2,FALSE))","v":""},{"$f":"IF(D175=\"\",\"\",VLOOKUP($D175,Lists!$AP$2:$AR$78,3,FALSE))","v":""}]
[null,{"$f":"IF(D176=\"\",\"\",VLOOKUP($D176,Lists!$AP$2:$AR$78,2,FALSE))","v":""},{"$f":"IF(D176=\"\",\"\",VLOOKUP($D176,Lists!$AP$2:$AR$78,3,FALSE))","v":""}]
[null,{"$f":"IF(D177=\"\",\"\",VLOOKUP($D177,Lists!$AP$2:$AR$78,2,FALSE))","v":""},{"$f":"IF(D177=\"\",\"\",VLOOKUP($D177,Lists!$AP$2:$AR$78,3,FALSE))","v":""}]
[null,{"$f":"IF(D178=\"\",\"\",VLOOKUP($D178,Lists!$AP$2:$AR$78,2,FALSE))","v":""},{"$f":"IF(D178=\"\",\"\",VLOOKUP($D178,Lists!$AP$2:$AR$78,3,FALSE))","v":""}]
[null,{"$f":"IF(D179=\"\",\"\",VLOOKUP($D179,Lists!$AP$2:$AR$78,2,FALSE))","v":""},{"$f":"IF(D179=\"\",\"\",VLOOKUP($D179,Lists!$AP$2:$AR$78,3,FALSE))","v":""}]
[null,{"$f":"IF(D180=\"\",\"\",VLOOKUP($D180,Lists!$AP$2:$AR$78,2,FALSE))","v":""},{"$f":"IF(D180=\"\",\"\",VLOOKUP($D180,Lists!$AP$2:$AR$78,3,FALSE))","v":""}]
[null,{"$f":"IF(D181=\"\",\"\",VLOOKUP($D181,Lists!$AP$2:$AR$78,2,FALSE))","v":""},{"$f":"IF(D181=\"\",\"\",VLOOKUP($D181,Lists!$AP$2:$AR$78,3,FALSE))","v":""}]
[null,{"$f":"IF(D182=\"\",\"\",VLOOKUP($D182,Lists!$AP$2:$AR$78,2,FALSE))","v":""},{"$f":"IF(D182=\"\",\"\",VLOOKUP($D182,Lists!$AP$2:$AR$78,3,FALSE))","v":""}]
[null,{"$f":"IF(D183=\"\",\"\",VLOOKUP($D183,Lists!$AP$2:$AR$78,2,FALSE))","v":""},{"$f":"IF(D183=\"\",\"\",VLOOKUP($D183,Lists!$AP$2:$AR$78,3,FALSE))","v":""}]
[null,{"$f":"IF(D184=\"\",\"\",VLOOKUP($D184,Lists!$AP$2:$AR$78,2,FALSE))","v":""},{"$f":"IF(D184=\"\",\"\",VLOOKUP($D184,Lists!$AP$2:$AR$78,3,FALSE))","v":""}]
[null,{"$f":"IF(D185=\"\",\"\",VLOOKUP($D185,Lists!$AP$2:$AR$78,2,FALSE))","v":""},{"$f":"IF(D185=\"\",\"\",VLOOKUP($D185,Lists!$AP$2:$AR$78,3,FALSE))","v":""}]
[null,{"$f":"IF(D186=\"\",\"\",VLOOKUP($D186,Lists!$AP$2:$AR$78,2,FALSE))","v":""},{"$f":"IF(D186=\"\",\"\",VLOOKUP($D186,Lists!$AP$2:$AR$78,3,FALSE))","v":""}]
[null,{"$f":"IF(D187=\"\",\"\",VLOOKUP($D187,Lists!$AP$2:$AR$78,2,FALSE))","v":""},{"$f":"IF(D187=\"\",\"\",VLOOKUP($D187,Lists!$AP$2:$AR$78,3,FALSE))","v":""}]
[null,{"$f":"IF(D188=\"\",\"\",VLOOKUP($D188,Lists!$AP$2:$AR$78,2,FALSE))","v":""},{"$f":"IF(D188=\"\",\"\",VLOOKUP($D188,Lists!$AP$2:$AR$78,3,FALSE))","v":""}]
[null,{"$f":"IF(D189=\"\",\"\",VLOOKUP($D189,Lists!$AP$2:$AR$78,2,FALSE))","v":""},{"$f":"IF(D189=\"\",\"\",VLOOKUP($D189,Lists!$AP$2:$AR$78,3,FALSE))","v":""}]
[null,{"$f":"IF(D190=\"\",\"\",VLOOKUP($D190,Lists!$AP$2:$AR$78,2,FALSE))","v":""},{"$f":"IF(D190=\"\",\"\",VLOOKUP($D190,Lists!$AP$2:$AR$78,3,FALSE))","v":""}]
[null,{"$f":"IF(D191=\"\",\"\",VLOOKUP($D191,Lists!$AP$2:$AR$78,2,FALSE))","v":""},{"$f":"IF(D191=\"\",\"\",VLOOKUP($D191,Lists!$AP$2:$AR$78,3,FALSE))","v":""}]
[null,{"$f":"IF(D192=\"\",\"\",VLOOKUP($D192,Lists!$AP$2:$AR$78,2,FALSE))","v":""},{"$f":"IF(D192=\"\",\"\",VLOOKUP($D192,Lists!$AP$2:$AR$78,3,FALSE))","v":""}]
[null,{"$f":"IF(D193=\"\",\"\",VLOOKUP($D193,Lists!$AP$2:$AR$78,2,FALSE))","v":""},{"$f":"IF(D193=\"\",\"\",VLOOKUP($D193,Lists!$AP$2:$AR$78,3,FALSE))","v":""}]
[null,{"$f":"IF(D194=\"\",\"\",VLOOKUP($D194,Lists!$AP$2:$AR$78,2,FALSE))","v":""},{"$f":"IF(D194=\"\",\"\",VLOOKUP($D194,Lists!$AP$2:$AR$78,3,FALSE))","v":""}]
[null,{"$f":"IF(D195=\"\",\"\",VLOOKUP($D195,Lists!$AP$2:$AR$78,2,FALSE))","v":""},{"$f":"IF(D195=\"\",\"\",VLOOKUP($D195,Lists!$AP$2:$AR$78,3,FALSE))","v":""}]
[null,{"$f":"IF(D196=\"\",\"\",VLOOKUP($D196,Lists!$AP$2:$AR$78,2,FALSE))","v":""},{"$f":"IF(D196=\"\",\"\",VLOOKUP($D196,Lists!$AP$2:$AR$78,3,FALSE))","v":""}]
[null,{"$f":"IF(D197=\"\",\"\",VLOOKUP($D197,Lists!$AP$2:$AR$78,2,FALSE))","v":""},{"$f":"IF(D197=\"\",\"\",VLOOKUP($D197,Lists!$AP$2:$AR$78,3,FALSE))","v":""}]
[null,{"$f":"IF(D198=\"\",\"\",VLOOKUP($D198,Lists!$AP$2:$AR$78,2,FALSE))","v":""},{"$f":"IF(D198=\"\",\"\",VLOOKUP($D198,Lists!$AP$2:$AR$78,3,FALSE))","v":""}]
[null,{"$f":"IF(D199=\"\",\"\",VLOOKUP($D199,Lists!$AP$2:$AR$78,2,FALSE))","v":""},{"$f":"IF(D199=\"\",\"\",VLOOKUP($D199,Lists!$AP$2:$AR$78,3,FALSE))","v":""}]
[null,{"$f":"IF(D200=\"\",\"\",VLOOKUP($D200,Lists!$AP$2:$AR$78,2,FALSE))","v":""},{"$f":"IF(D200=\"\",\"\",VLOOKUP($D200,Lists!$AP$2:$AR$78,3,FALSE))","v":""}]
[null,{"$f":"IF(D201=\"\",\"\",VLOOKUP($D201,Lists!$AP$2:$AR$78,2,FALSE))","v":""},{"$f":"IF(D201=\"\",\"\",VLOOKUP($D201,Lists!$AP$2:$AR$78,3,FALSE))","v":""}]
[null,{"$f":"IF(D202=\"\",\"\",VLOOKUP($D202,Lists!$AP$2:$AR$78,2,FALSE))","v":""},{"$f":"IF(D202=\"\",\"\",VLOOKUP($D202,Lists!$AP$2:$AR$78,3,FALSE))","v":""}]
[null,{"$f":"IF(D203=\"\",\"\",VLOOKUP($D203,Lists!$AP$2:$AR$78,2,FALSE))","v":""},{"$f":"IF(D203=\"\",\"\",VLOOKUP($D203,Lists!$AP$2:$AR$78,3,FALSE))","v":""}]
[null,{"$f":"IF(D204=\"\",\"\",VLOOKUP($D204,Lists!$AP$2:$AR$78,2,FALSE))","v":""},{"$f":"IF(D204=\"\",\"\",VLOOKUP($D204,Lists!$AP$2:$AR$78,3,FALSE))","v":""}]
[null,{"$f":"IF(D205=\"\",\"\",VLOOKUP($D205,Lists!$AP$2:$AR$78,2,FALSE))","v":""},{"$f":"IF(D205=\"\",\"\",VLOOKUP($D205,Lists!$AP$2:$AR$78,3,FALSE))","v":""}]
[null,{"$f":"IF(D206=\"\",\"\",VLOOKUP($D206,Lists!$AP$2:$AR$78,2,FALSE))","v":""},{"$f":"IF(D206=\"\",\"\",VLOOKUP($D206,Lists!$AP$2:$AR$78,3,FALSE))","v":""}]
[null,{"$f":"IF(D207=\"\",\"\",VLOOKUP($D207,Lists!$AP$2:$AR$78,2,FALSE))","v":""},{"$f":"IF(D207=\"\",\"\",VLOOKUP($D207,Lists!$AP$2:$AR$78,3,FALSE))","v":""}]
[null,{"$f":"IF(D208=\"\",\"\",VLOOKUP($D208,Lists!$AP$2:$AR$78,2,FALSE))","v":""},{"$f":"IF(D208=\"\",\"\",VLOOKUP($D208,Lists!$AP$2:$AR$78,3,FALSE))","v":""}]
[null,{"$f":"IF(D209=\"\",\"\",VLOOKUP($D209,Lists!$AP$2:$AR$78,2,FALSE))","v":""},{"$f":"IF(D209=\"\",\"\",VLOOKUP($D209,Lists!$AP$2:$AR$78,3,FALSE))","v":""}]
[null,{"$f":"IF(D210=\"\",\"\",VLOOKUP($D210,Lists!$AP$2:$AR$78,2,FALSE))","v":""},{"$f":"IF(D210=\"\",\"\",VLOOKUP($D210,Lists!$AP$2:$AR$78,3,FALSE))","v":""}]
[null,{"$f":"IF(D211=\"\",\"\",VLOOKUP($D211,Lists!$AP$2:$AR$78,2,FALSE))","v":""},{"$f":"IF(D211=\"\",\"\",VLOOKUP($D211,Lists!$AP$2:$AR$78,3,FALSE))","v":""}]
[null,{"$f":"IF(D212=\"\",\"\",VLOOKUP($D212,Lists!$AP$2:$AR$78,2,FALSE))","v":""},{"$f":"IF(D212=\"\",\"\",VLOOKUP($D212,Lists!$AP$2:$AR$78,3,FALSE))","v":""}]
[null,{"$f":"IF(D213=\"\",\"\",VLOOKUP($D213,Lists!$AP$2:$AR$78,2,FALSE))","v":""},{"$f":"IF(D213=\"\",\"\",VLOOKUP($D213,Lists!$AP$2:$AR$78,3,FALSE))","v":""}]
[null,{"$f":"IF(D214=\"\",\"\",VLOOKUP($D214,Lists!$AP$2:$AR$78,2,FALSE))","v":""},{"$f":"IF(D214=\"\",\"\",VLOOKUP($D214,Lists!$AP$2:$AR$78,3,FALSE))","v":""}]
[null,{"$f":"IF(D215=\"\",\"\",VLOOKUP($D215,Lists!$AP$2:$AR$78,2,FALSE))","v":""},{"$f":"IF(D215=\"\",\"\",VLOOKUP($D215,Lists!$AP$2:$AR$78,3,FALSE))","v":""}]
[null,{"$f":"IF(D216=\"\",\"\",VLOOKUP($D216,Lists!$AP$2:$AR$78,2,FALSE))","v":""},{"$f":"IF(D216=\"\",\"\",VLOOKUP($D216,Lists!$AP$2:$AR$78,3,FALSE))","v":""}]
[null,{"$f":"IF(D217=\"\",\"\",VLOOKUP($D217,Lists!$AP$2:$AR$78,2,FALSE))","v":""},{"$f":"IF(D217=\"\",\"\",VLOOKUP($D217,Lists!$AP$2:$AR$78,3,FALSE))","v":""}]
[null,{"$f":"IF(D218=\"\",\"\",VLOOKUP($D218,Lists!$AP$2:$AR$78,2,FALSE))","v":""},{"$f":"IF(D218=\"\",\"\",VLOOKUP($D218,Lists!$AP$2:$AR$78,3,FALSE))","v":""}]
[null,{"$f":"IF(D219=\"\",\"\",VLOOKUP($D219,Lists!$AP$2:$AR$78,2,FALSE))","v":""},{"$f":"IF(D219=\"\",\"\",VLOOKUP($D219,Lists!$AP$2:$AR$78,3,FALSE))","v":""}]
[null,{"$f":"IF(D220=\"\",\"\",VLOOKUP($D220,Lists!$AP$2:$AR$78,2,FALSE))","v":""},{"$f":"IF(D220=\"\",\"\",VLOOKUP($D220,Lists!$AP$2:$AR$78,3,FALSE))","v":""}]
[null,{"$f":"IF(D221=\"\",\"\",VLOOKUP($D221,Lists!$AP$2:$AR$78,2,FALSE))","v":""},{"$f":"IF(D221=\"\",\"\",VLOOKUP($D221,Lists!$AP$2:$AR$78,3,FALSE))","v":""}]
[null,{"$f":"IF(D222=\"\",\"\",VLOOKUP($D222,Lists!$AP$2:$AR$78,2,FALSE))","v":""},{"$f":"IF(D222=\"\",\"\",VLOOKUP($D222,Lists!$AP$2:$AR$78,3,FALSE))","v":""}]
[null,{"$f":"IF(D223=\"\",\"\",VLOOKUP($D223,Lists!$AP$2:$AR$78,2,FALSE))","v":""},{"$f":"IF(D223=\"\",\"\",VLOOKUP($D223,Lists!$AP$2:$AR$78,3,FALSE))","v":""}]
[null,{"$f":"IF(D224=\"\",\"\",VLOOKUP($D224,Lists!$AP$2:$AR$78,2,FALSE))","v":""},{"$f":"IF(D224=\"\",\"\",VLOOKUP($D224,Lists!$AP$2:$AR$78,3,FALSE))","v":""}]
[null,{"$f":"IF(D225=\"\",\"\",VLOOKUP($D225,Lists!$AP$2:$AR$78,2,FALSE))","v":""},{"$f":"IF(D225=\"\",\"\",VLOOKUP($D225,Lists!$AP$2:$AR$78,3,FALSE))","v":""}]
[null,{"$f":"IF(D226=\"\",\"\",VLOOKUP($D226,Lists!$AP$2:$AR$78,2,FALSE))","v":""},{"$f":"IF(D226=\"\",\"\",VLOOKUP($D226,Lists!$AP$2:$AR$78,3,FALSE))","v":""}]
[null,{"$f":"IF(D227=\"\",\"\",VLOOKUP($D227,Lists!$AP$2:$AR$78,2,FALSE))","v":""},{"$f":"IF(D227=\"\",\"\",VLOOKUP($D227,Lists!$AP$2:$AR$78,3,FALSE))","v":""}]
[null,{"$f":"IF(D228=\"\",\"\",VLOOKUP($D228,Lists!$AP$2:$AR$78,2,FALSE))","v":""},{"$f":"IF(D228=\"\",\"\",VLOOKUP($D228,Lists!$AP$2:$AR$78,3,FALSE))","v":""}]
[null,{"$f":"IF(D229=\"\",\"\",VLOOKUP($D229,Lists!$AP$2:$AR$78,2,FALSE))","v":""},{"$f":"IF(D229=\"\",\"\",VLOOKUP($D229,Lists!$AP$2:$AR$78,3,FALSE))","v":""}]
[null,{"$f":"IF(D230=\"\",\"\",VLOOKUP($D230,Lists!$AP$2:$AR$78,2,FALSE))","v":""},{"$f":"IF(D230=\"\",\"\",VLOOKUP($D230,Lists!$AP$2:$AR$78,3,FALSE))","v":""}]
[null,{"$f":"IF(D231=\"\",\"\",VLOOKUP($D231,Lists!$AP$2:$AR$78,2,FALSE))","v":""},{"$f":"IF(D231=\"\",\"\",VLOOKUP($D231,Lists!$AP$2:$AR$78,3,FALSE))","v":""}]
[null,{"$f":"IF(D232=\"\",\"\",VLOOKUP($D232,Lists!$AP$2:$AR$78,2,FALSE))","v":""},{"$f":"IF(D232=\"\",\"\",VLOOKUP($D232,Lists!$AP$2:$AR$78,3,FALSE))","v":""}]
[null,{"$f":"IF(D233=\"\",\"\",VLOOKUP($D233,Lists!$AP$2:$AR$78,2,FALSE))","v":""},{"$f":"IF(D233=\"\",\"\",VLOOKUP($D233,Lists!$AP$2:$AR$78,3,FALSE))","v":""}]
[null,{"$f":"IF(D234=\"\",\"\",VLOOKUP($D234,Lists!$AP$2:$AR$78,2,FALSE))","v":""},{"$f":"IF(D234=\"\",\"\",VLOOKUP($D234,Lists!$AP$2:$AR$78,3,FALSE))","v":""}]
[null,{"$f":"IF(D235=\"\",\"\",VLOOKUP($D235,Lists!$AP$2:$AR$78,2,FALSE))","v":""},{"$f":"IF(D235=\"\",\"\",VLOOKUP($D235,Lists!$AP$2:$AR$78,3,FALSE))","v":""}]
[null,{"$f":"IF(D236=\"\",\"\",VLOOKUP($D236,Lists!$AP$2:$AR$78,2,FALSE))","v":""},{"$f":"IF(D236=\"\",\"\",VLOOKUP($D236,Lists!$AP$2:$AR$78,3,FALSE))","v":""}]
[null,{"$f":"IF(D237=\"\",\"\",VLOOKUP($D237,Lists!$AP$2:$AR$78,2,FALSE))","v":""},{"$f":"IF(D237=\"\",\"\",VLOOKUP($D237,Lists!$AP$2:$AR$78,3,FALSE))","v":""}]
[null,{"$f":"IF(D238=\"\",\"\",VLOOKUP($D238,Lists!$AP$2:$AR$78,2,FALSE))","v":""},{"$f":"IF(D238=\"\",\"\",VLOOKUP($D238,Lists!$AP$2:$AR$78,3,FALSE))","v":""}]
[null,{"$f":"IF(D239=\"\",\"\",VLOOKUP($D239,Lists!$AP$2:$AR$78,2,FALSE))","v":""},{"$f":"IF(D239=\"\",\"\",VLOOKUP($D239,Lists!$AP$2:$AR$78,3,FALSE))","v":""}]
[null,{"$f":"IF(D240=\"\",\"\",VLOOKUP($D240,Lists!$AP$2:$AR$78,2,FALSE))","v":""},{"$f":"IF(D240=\"\",\"\",VLOOKUP($D240,Lists!$AP$2:$AR$78,3,FALSE))","v":""}]
[null,{"$f":"IF(D241=\"\",\"\",VLOOKUP($D241,Lists!$AP$2:$AR$78,2,FALSE))","v":""},{"$f":"IF(D241=\"\",\"\",VLOOKUP($D241,Lists!$AP$2:$AR$78,3,FALSE))","v":""}]
[null,{"$f":"IF(D242=\"\",\"\",VLOOKUP($D242,Lists!$AP$2:$AR$78,2,FALSE))","v":""},{"$f":"IF(D242=\"\",\"\",VLOOKUP($D242,Lists!$AP$2:$AR$78,3,FALSE))","v":""}]
[null,{"$f":"IF(D243=\"\",\"\",VLOOKUP($D243,Lists!$AP$2:$AR$78,2,FALSE))","v":""},{"$f":"IF(D243=\"\",\"\",VLOOKUP($D243,Lists!$AP$2:$AR$78,3,FALSE))","v":""}]
[null,{"$f":"IF(D244=\"\",\"\",VLOOKUP($D244,Lists!$AP$2:$AR$78,2,FALSE))","v":""},{"$f":"IF(D244=\"\",\"\",VLOOKUP($D244,Lists!$AP$2:$AR$78,3,FALSE))","v":""}]
[null,{"$f":"IF(D245=\"\",\"\",VLOOKUP($D245,Lists!$AP$2:$AR$78,2,FALSE))","v":""},{"$f":"IF(D245=\"\",\"\",VLOOKUP($D245,Lists!$AP$2:$AR$78,3,FALSE))","v":""}]
[null,{"$f":"IF(D246=\"\",\"\",VLOOKUP($D246,Lists!$AP$2:$AR$78,2,FALSE))","v":""},{"$f":"IF(D246=\"\",\"\",VLOOKUP($D246,Lists!$AP$2:$AR$78,3,FALSE))","v":""}]
[null,{"$f":"IF(D247=\"\",\"\",VLOOKUP($D247,Lists!$AP$2:$AR$78,2,FALSE))","v":""},{"$f":"IF(D247=\"\",\"\",VLOOKUP($D247,Lists!$AP$2:$AR$78,3,FALSE))","v":""}]
[null,{"$f":"IF(D248=\"\",\"\",VLOOKUP($D248,Lists!$AP$2:$AR$78,2,FALSE))","v":""},{"$f":"IF(D248=\"\",\"\",VLOOKUP($D248,Lists!$AP$2:$AR$78,3,FALSE))","v":""}]
[null,{"$f":"IF(D249=\"\",\"\",VLOOKUP($D249,Lists!$AP$2:$AR$78,2,FALSE))","v":""},{"$f":"IF(D249=\"\",\"\",VLOOKUP($D249,Lists!$AP$2:$AR$78,3,FALSE))","v":""}]
[null,{"$f":"IF(D250=\"\",\"\",VLOOKUP($D250,Lists!$AP$2:$AR$78,2,FALSE))","v":""},{"$f":"IF(D250=\"\",\"\",VLOOKUP($D250,Lists!$AP$2:$AR$78,3,FALSE))","v":""}]
[null,{"$f":"IF(D251=\"\",\"\",VLOOKUP($D251,Lists!$AP$2:$AR$78,2,FALSE))","v":""},{"$f":"IF(D251=\"\",\"\",VLOOKUP($D251,Lists!$AP$2:$AR$78,3,FALSE))","v":""}]
[null,{"$f":"IF(D252=\"\",\"\",VLOOKUP($D252,Lists!$AP$2:$AR$78,2,FALSE))","v":""},{"$f":"IF(D252=\"\",\"\",VLOOKUP($D252,Lists!$AP$2:$AR$78,3,FALSE))","v":""}]
[null,{"$f":"IF(D253=\"\",\"\",VLOOKUP($D253,Lists!$AP$2:$AR$78,2,FALSE))","v":""},{"$f":"IF(D253=\"\",\"\",VLOOKUP($D253,Lists!$AP$2:$AR$78,3,FALSE))","v":""}]
[null,{"$f":"IF(D254=\"\",\"\",VLOOKUP($D254,Lists!$AP$2:$AR$78,2,FALSE))","v":""},{"$f":"IF(D254=\"\",\"\",VLOOKUP($D254,Lists!$AP$2:$AR$78,3,FALSE))","v":""}]
[null,{"$f":"IF(D255=\"\",\"\",VLOOKUP($D255,Lists!$AP$2:$AR$78,2,FALSE))","v":""},{"$f":"IF(D255=\"\",\"\",VLOOKUP($D255,Lists!$AP$2:$AR$78,3,FALSE))","v":""}]
[null,{"$f":"IF(D256=\"\",\"\",VLOOKUP($D256,Lists!$AP$2:$AR$78,2,FALSE))","v":""},{"$f":"IF(D256=\"\",\"\",VLOOKUP($D256,Lists!$AP$2:$AR$78,3,FALSE))","v":""}]
[null,{"$f":"IF(D257=\"\",\"\",VLOOKUP($D257,Lists!$AP$2:$AR$78,2,FALSE))","v":""},{"$f":"IF(D257=\"\",\"\",VLOOKUP($D257,Lists!$AP$2:$AR$78,3,FALSE))","v":""}]
[null,{"$f":"IF(D258=\"\",\"\",VLOOKUP($D258,Lists!$AP$2:$AR$78,2,FALSE))","v":""},{"$f":"IF(D258=\"\",\"\",VLOOKUP($D258,Lists!$AP$2:$AR$78,3,FALSE))","v":""}]
[null,{"$f":"IF(D259=\"\",\"\",VLOOKUP($D259,Lists!$AP$2:$AR$78,2,FALSE))","v":""},{"$f":"IF(D259=\"\",\"\",VLOOKUP($D259,Lists!$AP$2:$AR$78,3,FALSE))","v":""}]
[null,{"$f":"IF(D260=\"\",\"\",VLOOKUP($D260,Lists!$AP$2:$AR$78,2,FALSE))","v":""},{"$f":"IF(D260=\"\",\"\",VLOOKUP($D260,Lists!$AP$2:$AR$78,3,FALSE))","v":""}]
[null,{"$f":"IF(D261=\"\",\"\",VLOOKUP($D261,Lists!$AP$2:$AR$78,2,FALSE))","v":""},{"$f":"IF(D261=\"\",\"\",VLOOKUP($D261,Lists!$AP$2:$AR$78,3,FALSE))","v":""}]
[null,{"$f":"IF(D262=\"\",\"\",VLOOKUP($D262,Lists!$AP$2:$AR$78,2,FALSE))","v":""},{"$f":"IF(D262=\"\",\"\",VLOOKUP($D262,Lists!$AP$2:$AR$78,3,FALSE))","v":""}]
[null,{"$f":"IF(D263=\"\",\"\",VLOOKUP($D263,Lists!$AP$2:$AR$78,2,FALSE))","v":""},{"$f":"IF(D263=\"\",\"\",VLOOKUP($D263,Lists!$AP$2:$AR$78,3,FALSE))","v":""}]
[null,{"$f":"IF(D264=\"\",\"\",VLOOKUP($D264,Lists!$AP$2:$AR$78,2,FALSE))","v":""},{"$f":"IF(D264=\"\",\"\",VLOOKUP($D264,Lists!$AP$2:$AR$78,3,FALSE))","v":""}]
[null,{"$f":"IF(D265=\"\",\"\",VLOOKUP($D265,Lists!$AP$2:$AR$78,2,FALSE))","v":""},{"$f":"IF(D265=\"\",\"\",VLOOKUP($D265,Lists!$AP$2:$AR$78,3,FALSE))","v":""}]
[null,{"$f":"IF(D266=\"\",\"\",VLOOKUP($D266,Lists!$AP$2:$AR$78,2,FALSE))","v":""},{"$f":"IF(D266=\"\",\"\",VLOOKUP($D266,Lists!$AP$2:$AR$78,3,FALSE))","v":""}]
[null,{"$f":"IF(D267=\"\",\"\",VLOOKUP($D267,Lists!$AP$2:$AR$78,2,FALSE))","v":""},{"$f":"IF(D267=\"\",\"\",VLOOKUP($D267,Lists!$AP$2:$AR$78,3,FALSE))","v":""}]
[null,{"$f":"IF(D268=\"\",\"\",VLOOKUP($D268,Lists!$AP$2:$AR$78,2,FALSE))","v":""},{"$f":"IF(D268=\"\",\"\",VLOOKUP($D268,Lists!$AP$2:$AR$78,3,FALSE))","v":""}]
[null,{"$f":"IF(D269=\"\",\"\",VLOOKUP($D269,Lists!$AP$2:$AR$78,2,FALSE))","v":""},{"$f":"IF(D269=\"\",\"\",VLOOKUP($D269,Lists!$AP$2:$AR$78,3,FALSE))","v":""}]
[null,{"$f":"IF(D270=\"\",\"\",VLOOKUP($D270,Lists!$AP$2:$AR$78,2,FALSE))","v":""},{"$f":"IF(D270=\"\",\"\",VLOOKUP($D270,Lists!$AP$2:$AR$78,3,FALSE))","v":""}]
[null,{"$f":"IF(D271=\"\",\"\",VLOOKUP($D271,Lists!$AP$2:$AR$78,2,FALSE))","v":""},{"$f":"IF(D271=\"\",\"\",VLOOKUP($D271,Lists!$AP$2:$AR$78,3,FALSE))","v":""}]
[null,{"$f":"IF(D272=\"\",\"\",VLOOKUP($D272,Lists!$AP$2:$AR$78,2,FALSE))","v":""},{"$f":"IF(D272=\"\",\"\",VLOOKUP($D272,Lists!$AP$2:$AR$78,3,FALSE))","v":""}]
[null,{"$f":"IF(D273=\"\",\"\",VLOOKUP($D273,Lists!$AP$2:$AR$78,2,FALSE))","v":""},{"$f":"IF(D273=\"\",\"\",VLOOKUP($D273,Lists!$AP$2:$AR$78,3,FALSE))","v":""}]
[null,{"$f":"IF(D274=\"\",\"\",VLOOKUP($D274,Lists!$AP$2:$AR$78,2,FALSE))","v":""},{"$f":"IF(D274=\"\",\"\",VLOOKUP($D274,Lists!$AP$2:$AR$78,3,FALSE))","v":""}]
[null,{"$f":"IF(D275=\"\",\"\",VLOOKUP($D275,Lists!$AP$2:$AR$78,2,FALSE))","v":""},{"$f":"IF(D275=\"\",\"\",VLOOKUP($D275,Lists!$AP$2:$AR$78,3,FALSE))","v":""}]
[null,{"$f":"IF(D276=\"\",\"\",VLOOKUP($D276,Lists!$AP$2:$AR$78,2,FALSE))","v":""},{"$f":"IF(D276=\"\",\"\",VLOOKUP($D276,Lists!$AP$2:$AR$78,3,FALSE))","v":""}]
[null,{"$f":"IF(D277=\"\",\"\",VLOOKUP($D277,Lists!$AP$2:$AR$78,2,FALSE))","v":""},{"$f":"IF(D277=\"\",\"\",VLOOKUP($D277,Lists!$AP$2:$AR$78,3,FALSE))","v":""}]
[null,{"$f":"IF(D278=\"\",\"\",VLOOKUP($D278,Lists!$AP$2:$AR$78,2,FALSE))","v":""},{"$f":"IF(D278=\"\",\"\",VLOOKUP($D278,Lists!$AP$2:$AR$78,3,FALSE))","v":""}]
[null,{"$f":"IF(D279=\"\",\"\",VLOOKUP($D279,Lists!$AP$2:$AR$78,2,FALSE))","v":""},{"$f":"IF(D279=\"\",\"\",VLOOKUP($D279,Lists!$AP$2:$AR$78,3,FALSE))","v":""}]
[null,{"$f":"IF(D280=\"\",\"\",VLOOKUP($D280,Lists!$AP$2:$AR$78,2,FALSE))","v":""},{"$f":"IF(D280=\"\",\"\",VLOOKUP($D280,Lists!$AP$2:$AR$78,3,FALSE))","v":""}]
[null,{"$f":"IF(D281=\"\",\"\",VLOOKUP($D281,Lists!$AP$2:$AR$78,2,FALSE))","v":""},{"$f":"IF(D281=\"\",\"\",VLOOKUP($D281,Lists!$AP$2:$AR$78,3,FALSE))","v":""}]
[null,{"$f":"IF(D282=\"\",\"\",VLOOKUP($D282,Lists!$AP$2:$AR$78,2,FALSE))","v":""},{"$f":"IF(D282=\"\",\"\",VLOOKUP($D282,Lists!$AP$2:$AR$78,3,FALSE))","v":""}]
[null,{"$f":"IF(D283=\"\",\"\",VLOOKUP($D283,Lists!$AP$2:$AR$78,2,FALSE))","v":""},{"$f":"IF(D283=\"\",\"\",VLOOKUP($D283,Lists!$AP$2:$AR$78,3,FALSE))","v":""}]
[null,{"$f":"IF(D284=\"\",\"\",VLOOKUP($D284,Lists!$AP$2:$AR$78,2,FALSE))","v":""},{"$f":"IF(D284=\"\",\"\",VLOOKUP($D284,Lists!$AP$2:$AR$78,3,FALSE))","v":""}]
[null,{"$f":"IF(D285=\"\",\"\",VLOOKUP($D285,Lists!$AP$2:$AR$78,2,FALSE))","v":""},{"$f":"IF(D285=\"\",\"\",VLOOKUP($D285,Lists!$AP$2:$AR$78,3,FALSE))","v":""}]
[null,{"$f":"IF(D286=\"\",\"\",VLOOKUP($D286,Lists!$AP$2:$AR$78,2,FALSE))","v":""},{"$f":"IF(D286=\"\",\"\",VLOOKUP($D286,Lists!$AP$2:$AR$78,3,FALSE))","v":""}]
[null,{"$f":"IF(D287=\"\",\"\",VLOOKUP($D287,Lists!$AP$2:$AR$78,2,FALSE))","v":""},{"$f":"IF(D287=\"\",\"\",VLOOKUP($D287,Lists!$AP$2:$AR$78,3,FALSE))","v":""}]
[null,{"$f":"IF(D288=\"\",\"\",VLOOKUP($D288,Lists!$AP$2:$AR$78,2,FALSE))","v":""},{"$f":"IF(D288=\"\",\"\",VLOOKUP($D288,Lists!$AP$2:$AR$78,3,FALSE))","v":""}]
[null,{"$f":"IF(D289=\"\",\"\",VLOOKUP($D289,Lists!$AP$2:$AR$78,2,FALSE))","v":""},{"$f":"IF(D289=\"\",\"\",VLOOKUP($D289,Lists!$AP$2:$AR$78,3,FALSE))","v":""}]
[null,{"$f":"IF(D290=\"\",\"\",VLOOKUP($D290,Lists!$AP$2:$AR$78,2,FALSE))","v":""},{"$f":"IF(D290=\"\",\"\",VLOOKUP($D290,Lists!$AP$2:$AR$78,3,FALSE))","v":""}]
[null,{"$f":"IF(D291=\"\",\"\",VLOOKUP($D291,Lists!$AP$2:$AR$78,2,FALSE))","v":""},{"$f":"IF(D291=\"\",\"\",VLOOKUP($D291,Lists!$AP$2:$AR$78,3,FALSE))","v":""}]
[null,{"$f":"IF(D292=\"\",\"\",VLOOKUP($D292,Lists!$AP$2:$AR$78,2,FALSE))","v":""},{"$f":"IF(D292=\"\",\"\",VLOOKUP($D292,Lists!$AP$2:$AR$78,3,FALSE))","v":""}]
[null,{"$f":"IF(D293=\"\",\"\",VLOOKUP($D293,Lists!$AP$2:$AR$78,2,FALSE))","v":""},{"$f":"IF(D293=\"\",\"\",VLOOKUP($D293,Lists!$AP$2:$AR$78,3,FALSE))","v":""}]
[null,{"$f":"IF(D294=\"\",\"\",VLOOKUP($D294,Lists!$AP$2:$AR$78,2,FALSE))","v":""},{"$f":"IF(D294=\"\",\"\",VLOOKUP($D294,Lists!$AP$2:$AR$78,3,FALSE))","v":""}]
[null,{"$f":"IF(D295=\"\",\"\",VLOOKUP($D295,Lists!$AP$2:$AR$78,2,FALSE))","v":""},{"$f":"IF(D295=\"\",\"\",VLOOKUP($D295,Lists!$AP$2:$AR$78,3,FALSE))","v":""}]
[null,{"$f":"IF(D296=\"\",\"\",VLOOKUP($D296,Lists!$AP$2:$AR$78,2,FALSE))","v":""},{"$f":"IF(D296=\"\",\"\",VLOOKUP($D296,Lists!$AP$2:$AR$78,3,FALSE))","v":""}]
[null,{"$f":"IF(D297=\"\",\"\",VLOOKUP($D297,Lists!$AP$2:$AR$78,2,FALSE))","v":""},{"$f":"IF(D297=\"\",\"\",VLOOKUP($D297,Lists!$AP$2:$AR$78,3,FALSE))","v":""}]
[null,{"$f":"IF(D298=\"\",\"\",VLOOKUP($D298,Lists!$AP$2:$AR$78,2,FALSE))","v":""},{"$f":"IF(D298=\"\",\"\",VLOOKUP($D298,Lists!$AP$2:$AR$78,3,FALSE))","v":""}]
[null,{"$f":"IF(D299=\"\",\"\",VLOOKUP($D299,Lists!$AP$2:$AR$78,2,FALSE))","v":""},{"$f":"IF(D299=\"\",\"\",VLOOKUP($D299,Lists!$AP$2:$AR$78,3,FALSE))","v":""}]
[null,{"$f":"IF(D300=\"\",\"\",VLOOKUP($D300,Lists!$AP$2:$AR$78,2,FALSE))","v":""},{"$f":"IF(D300=\"\",\"\",VLOOKUP($D300,Lists!$AP$2:$AR$78,3,FALSE))","v":""}]
[null,{"$f":"IF(D301=\"\",\"\",VLOOKUP($D301,Lists!$AP$2:$AR$78,2,FALSE))","v":""},{"$f":"IF(D301=\"\",\"\",VLOOKUP($D301,Lists!$AP$2:$AR$78,3,FALSE))","v":""}]
[null,{"$f":"IF(D302=\"\",\"\",VLOOKUP($D302,Lists!$AP$2:$AR$78,2,FALSE))","v":""},{"$f":"IF(D302=\"\",\"\",VLOOKUP($D302,Lists!$AP$2:$AR$78,3,FALSE))","v":""}]
[null,{"$f":"IF(D303=\"\",\"\",VLOOKUP($D303,Lists!$AP$2:$AR$78,2,FALSE))","v":""},{"$f":"IF(D303=\"\",\"\",VLOOKUP($D303,Lists!$AP$2:$AR$78,3,FALSE))","v":""}]
[null,{"$f":"IF(D304=\"\",\"\",VLOOKUP($D304,Lists!$AP$2:$AR$78,2,FALSE))","v":""},{"$f":"IF(D304=\"\",\"\",VLOOKUP($D304,Lists!$AP$2:$AR$78,3,FALSE))","v":""}]
[null,{"$f":"IF(D305=\"\",\"\",VLOOKUP($D305,Lists!$AP$2:$AR$78,2,FALSE))","v":""},{"$f":"IF(D305=\"\",\"\",VLOOKUP($D305,Lists!$AP$2:$AR$78,3,FALSE))","v":""}]
[null,{"$f":"IF(D306=\"\",\"\",VLOOKUP($D306,Lists!$AP$2:$AR$78,2,FALSE))","v":""},{"$f":"IF(D306=\"\",\"\",VLOOKUP($D306,Lists!$AP$2:$AR$78,3,FALSE))","v":""}]
[null,{"$f":"IF(D307=\"\",\"\",VLOOKUP($D307,Lists!$AP$2:$AR$78,2,FALSE))","v":""},{"$f":"IF(D307=\"\",\"\",VLOOKUP($D307,Lists!$AP$2:$AR$78,3,FALSE))","v":""}]
[null,{"$f":"IF(D308=\"\",\"\",VLOOKUP($D308,Lists!$AP$2:$AR$78,2,FALSE))","v":""},{"$f":"IF(D308=\"\",\"\",VLOOKUP($D308,Lists!$AP$2:$AR$78,3,FALSE))","v":""}]
[null,{"$f":"IF(D309=\"\",\"\",VLOOKUP($D309,Lists!$AP$2:$AR$78,2,FALSE))","v":""},{"$f":"IF(D309=\"\",\"\",VLOOKUP($D309,Lists!$AP$2:$AR$78,3,FALSE))","v":""}]
[null,{"$f":"IF(D310=\"\",\"\",VLOOKUP($D310,Lists!$AP$2:$AR$78,2,FALSE))","v":""},{"$f":"IF(D310=\"\",\"\",VLOOKUP($D310,Lists!$AP$2:$AR$78,3,FALSE))","v":""}]
[null,{"$f":"IF(D311=\"\",\"\",VLOOKUP($D311,Lists!$AP$2:$AR$78,2,FALSE))","v":""},{"$f":"IF(D311=\"\",\"\",VLOOKUP($D311,Lists!$AP$2:$AR$78,3,FALSE))","v":""}]
[null,{"$f":"IF(D312=\"\",\"\",VLOOKUP($D312,Lists!$AP$2:$AR$78,2,FALSE))","v":""},{"$f":"IF(D312=\"\",\"\",VLOOKUP($D312,Lists!$AP$2:$AR$78,3,FALSE))","v":""}]
[null,{"$f":"IF(D313=\"\",\"\",VLOOKUP($D313,Lists!$AP$2:$AR$78,2,FALSE))","v":""},{"$f":"IF(D313=\"\",\"\",VLOOKUP($D313,Lists!$AP$2:$AR$78,3,FALSE))","v":""}]
[null,{"$f":"IF(D314=\"\",\"\",VLOOKUP($D314,Lists!$AP$2:$AR$78,2,FALSE))","v":""},{"$f":"IF(D314=\"\",\"\",VLOOKUP($D314,Lists!$AP$2:$AR$78,3,FALSE))","v":""}]
[null,{"$f":"IF(D315=\"\",\"\",VLOOKUP($D315,Lists!$AP$2:$AR$78,2,FALSE))","v":""},{"$f":"IF(D315=\"\",\"\",VLOOKUP($D315,Lists!$AP$2:$AR$78,3,FALSE))","v":""}]
[null,{"$f":"IF(D316=\"\",\"\",VLOOKUP($D316,Lists!$AP$2:$AR$78,2,FALSE))","v":""},{"$f":"IF(D316=\"\",\"\",VLOOKUP($D316,Lists!$AP$2:$AR$78,3,FALSE))","v":""}]
[null,{"$f":"IF(D317=\"\",\"\",VLOOKUP($D317,Lists!$AP$2:$AR$78,2,FALSE))","v":""},{"$f":"IF(D317=\"\",\"\",VLOOKUP($D317,Lists!$AP$2:$AR$78,3,FALSE))","v":""}]
[null,{"$f":"IF(D318=\"\",\"\",VLOOKUP($D318,Lists!$AP$2:$AR$78,2,FALSE))","v":""},{"$f":"IF(D318=\"\",\"\",VLOOKUP($D318,Lists!$AP$2:$AR$78,3,FALSE))","v":""}]
[null,{"$f":"IF(D319=\"\",\"\",VLOOKUP($D319,Lists!$AP$2:$AR$78,2,FALSE))","v":""},{"$f":"IF(D319=\"\",\"\",VLOOKUP($D319,Lists!$AP$2:$AR$78,3,FALSE))","v":""}]
[null,{"$f":"IF(D320=\"\",\"\",VLOOKUP($D320,Lists!$AP$2:$AR$78,2,FALSE))","v":""},{"$f":"IF(D320=\"\",\"\",VLOOKUP($D320,Lists!$AP$2:$AR$78,3,FALSE))","v":""}]
[null,{"$f":"IF(D321=\"\",\"\",VLOOKUP($D321,Lists!$AP$2:$AR$78,2,FALSE))","v":""},{"$f":"IF(D321=\"\",\"\",VLOOKUP($D321,Lists!$AP$2:$AR$78,3,FALSE))","v":""}]
[null,{"$f":"IF(D322=\"\",\"\",VLOOKUP($D322,Lists!$AP$2:$AR$78,2,FALSE))","v":""},{"$f":"IF(D322=\"\",\"\",VLOOKUP($D322,Lists!$AP$2:$AR$78,3,FALSE))","v":""}]
[null,{"$f":"IF(D323=\"\",\"\",VLOOKUP($D323,Lists!$AP$2:$AR$78,2,FALSE))","v":""},{"$f":"IF(D323=\"\",\"\",VLOOKUP($D323,Lists!$AP$2:$AR$78,3,FALSE))","v":""}]
[null,{"$f":"IF(D324=\"\",\"\",VLOOKUP($D324,Lists!$AP$2:$AR$78,2,FALSE))","v":""},{"$f":"IF(D324=\"\",\"\",VLOOKUP($D324,Lists!$AP$2:$AR$78,3,FALSE))","v":""}]
[null,{"$f":"IF(D325=\"\",\"\",VLOOKUP($D325,Lists!$AP$2:$AR$78,2,FALSE))","v":""},{"$f":"IF(D325=\"\",\"\",VLOOKUP($D325,Lists!$AP$2:$AR$78,3,FALSE))","v":""}]
[null,{"$f":"IF(D326=\"\",\"\",VLOOKUP($D326,Lists!$AP$2:$AR$78,2,FALSE))","v":""},{"$f":"IF(D326=\"\",\"\",VLOOKUP($D326,Lists!$AP$2:$AR$78,3,FALSE))","v":""}]
[null,{"$f":"IF(D327=\"\",\"\",VLOOKUP($D327,Lists!$AP$2:$AR$78,2,FALSE))","v":""},{"$f":"IF(D327=\"\",\"\",VLOOKUP($D327,Lists!$AP$2:$AR$78,3,FALSE))","v":""}]
[null,{"$f":"IF(D328=\"\",\"\",VLOOKUP($D328,Lists!$AP$2:$AR$78,2,FALSE))","v":""},{"$f":"IF(D328=\"\",\"\",VLOOKUP($D328,Lists!$AP$2:$AR$78,3,FALSE))","v":""}]
[null,{"$f":"IF(D329=\"\",\"\",VLOOKUP($D329,Lists!$AP$2:$AR$78,2,FALSE))","v":""},{"$f":"IF(D329=\"\",\"\",VLOOKUP($D329,Lists!$AP$2:$AR$78,3,FALSE))","v":""}]
[null,{"$f":"IF(D330=\"\",\"\",VLOOKUP($D330,Lists!$AP$2:$AR$78,2,FALSE))","v":""},{"$f":"IF(D330=\"\",\"\",VLOOKUP($D330,Lists!$AP$2:$AR$78,3,FALSE))","v":""}]
[null,{"$f":"IF(D331=\"\",\"\",VLOOKUP($D331,Lists!$AP$2:$AR$78,2,FALSE))","v":""},{"$f":"IF(D331=\"\",\"\",VLOOKUP($D331,Lists!$AP$2:$AR$78,3,FALSE))","v":""}]
[null,{"$f":"IF(D332=\"\",\"\",VLOOKUP($D332,Lists!$AP$2:$AR$78,2,FALSE))","v":""},{"$f":"IF(D332=\"\",\"\",VLOOKUP($D332,Lists!$AP$2:$AR$78,3,FALSE))","v":""}]
[null,{"$f":"IF(D333=\"\",\"\",VLOOKUP($D333,Lists!$AP$2:$AR$78,2,FALSE))","v":""},{"$f":"IF(D333=\"\",\"\",VLOOKUP($D333,Lists!$AP$2:$AR$78,3,FALSE))","v":""}]
[null,{"$f":"IF(D334=\"\",\"\",VLOOKUP($D334,Lists!$AP$2:$AR$78,2,FALSE))","v":""},{"$f":"IF(D334=\"\",\"\",VLOOKUP($D334,Lists!$AP$2:$AR$78,3,FALSE))","v":""}]
[null,{"$f":"IF(D335=\"\",\"\",VLOOKUP($D335,Lists!$AP$2:$AR$78,2,FALSE))","v":""},{"$f":"IF(D335=\"\",\"\",VLOOKUP($D335,Lists!$AP$2:$AR$78,3,FALSE))","v":""}]
[null,{"$f":"IF(D336=\"\",\"\",VLOOKUP($D336,Lists!$AP$2:$AR$78,2,FALSE))","v":""},{"$f":"IF(D336=\"\",\"\",VLOOKUP($D336,Lists!$AP$2:$AR$78,3,FALSE))","v":""}]
[null,{"$f":"IF(D337=\"\",\"\",VLOOKUP($D337,Lists!$AP$2:$AR$78,2,FALSE))","v":""},{"$f":"IF(D337=\"\",\"\",VLOOKUP($D337,Lists!$AP$2:$AR$78,3,FALSE))","v":""}]
[null,{"$f":"IF(D338=\"\",\"\",VLOOKUP($D338,Lists!$AP$2:$AR$78,2,FALSE))","v":""},{"$f":"IF(D338=\"\",\"\",VLOOKUP($D338,Lists!$AP$2:$AR$78,3,FALSE))","v":""}]
[null,{"$f":"IF(D339=\"\",\"\",VLOOKUP($D339,Lists!$AP$2:$AR$78,2,FALSE))","v":""},{"$f":"IF(D339=\"\",\"\",VLOOKUP($D339,Lists!$AP$2:$AR$78,3,FALSE))","v":""}]
[null,{"$f":"IF(D340=\"\",\"\",VLOOKUP($D340,Lists!$AP$2:$AR$78,2,FALSE))","v":""},{"$f":"IF(D340=\"\",\"\",VLOOKUP($D340,Lists!$AP$2:$AR$78,3,FALSE))","v":""}]
[null,{"$f":"IF(D341=\"\",\"\",VLOOKUP($D341,Lists!$AP$2:$AR$78,2,FALSE))","v":""},{"$f":"IF(D341=\"\",\"\",VLOOKUP($D341,Lists!$AP$2:$AR$78,3,FALSE))","v":""}]
[null,{"$f":"IF(D342=\"\",\"\",VLOOKUP($D342,Lists!$AP$2:$AR$78,2,FALSE))","v":""},{"$f":"IF(D342=\"\",\"\",VLOOKUP($D342,Lists!$AP$2:$AR$78,3,FALSE))","v":""}]
[null,{"$f":"IF(D343=\"\",\"\",VLOOKUP($D343,Lists!$AP$2:$AR$78,2,FALSE))","v":""},{"$f":"IF(D343=\"\",\"\",VLOOKUP($D343,Lists!$AP$2:$AR$78,3,FALSE))","v":""}]
[null,{"$f":"IF(D344=\"\",\"\",VLOOKUP($D344,Lists!$AP$2:$AR$78,2,FALSE))","v":""},{"$f":"IF(D344=\"\",\"\",VLOOKUP($D344,Lists!$AP$2:$AR$78,3,FALSE))","v":""}]
[null,{"$f":"IF(D345=\"\",\"\",VLOOKUP($D345,Lists!$AP$2:$AR$78,2,FALSE))","v":""},{"$f":"IF(D345=\"\",\"\",VLOOKUP($D345,Lists!$AP$2:$AR$78,3,FALSE))","v":""}]
[null,{"$f":"IF(D346=\"\",\"\",VLOOKUP($D346,Lists!$AP$2:$AR$78,2,FALSE))","v":""},{"$f":"IF(D346=\"\",\"\",VLOOKUP($D346,Lists!$AP$2:$AR$78,3,FALSE))","v":""}]
[null,{"$f":"IF(D347=\"\",\"\",VLOOKUP($D347,Lists!$AP$2:$AR$78,2,FALSE))","v":""},{"$f":"IF(D347=\"\",\"\",VLOOKUP($D347,Lists!$AP$2:$AR$78,3,FALSE))","v":""}]
[null,{"$f":"IF(D348=\"\",\"\",VLOOKUP($D348,Lists!$AP$2:$AR$78,2,FALSE))","v":""},{"$f":"IF(D348=\"\",\"\",VLOOKUP($D348,Lists!$AP$2:$AR$78,3,FALSE))","v":""}]
[null,{"$f":"IF(D349=\"\",\"\",VLOOKUP($D349,Lists!$AP$2:$AR$78,2,FALSE))","v":""},{"$f":"IF(D349=\"\",\"\",VLOOKUP($D349,Lists!$AP$2:$AR$78,3,FALSE))","v":""}]
[null,{"$f":"IF(D350=\"\",\"\",VLOOKUP($D350,Lists!$AP$2:$AR$78,2,FALSE))","v":""},{"$f":"IF(D350=\"\",\"\",VLOOKUP($D350,Lists!$AP$2:$AR$78,3,FALSE))","v":""}]
[null,{"$f":"IF(D351=\"\",\"\",VLOOKUP($D351,Lists!$AP$2:$AR$78,2,FALSE))","v":""},{"$f":"IF(D351=\"\",\"\",VLOOKUP($D351,Lists!$AP$2:$AR$78,3,FALSE))","v":""}]
[null,{"$f":"IF(D352=\"\",\"\",VLOOKUP($D352,Lists!$AP$2:$AR$78,2,FALSE))","v":""},{"$f":"IF(D352=\"\",\"\",VLOOKUP($D352,Lists!$AP$2:$AR$78,3,FALSE))","v":""}]
[null,{"$f":"IF(D353=\"\",\"\",VLOOKUP($D353,Lists!$AP$2:$AR$78,2,FALSE))","v":""},{"$f":"IF(D353=\"\",\"\",VLOOKUP($D353,Lists!$AP$2:$AR$78,3,FALSE))","v":""}]
[null,{"$f":"IF(D354=\"\",\"\",VLOOKUP($D354,Lists!$AP$2:$AR$78,2,FALSE))","v":""},{"$f":"IF(D354=\"\",\"\",VLOOKUP($D354,Lists!$AP$2:$AR$78,3,FALSE))","v":""}]
[null,{"$f":"IF(D355=\"\",\"\",VLOOKUP($D355,Lists!$AP$2:$AR$78,2,FALSE))","v":""},{"$f":"IF(D355=\"\",\"\",VLOOKUP($D355,Lists!$AP$2:$AR$78,3,FALSE))","v":""}]
[null,{"$f":"IF(D356=\"\",\"\",VLOOKUP($D356,Lists!$AP$2:$AR$78,2,FALSE))","v":""},{"$f":"IF(D356=\"\",\"\",VLOOKUP($D356,Lists!$AP$2:$AR$78,3,FALSE))","v":""}]
[null,{"$f":"IF(D357=\"\",\"\",VLOOKUP($D357,Lists!$AP$2:$AR$78,2,FALSE))","v":""},{"$f":"IF(D357=\"\",\"\",VLOOKUP($D357,Lists!$AP$2:$AR$78,3,FALSE))","v":""}]
[null,{"$f":"IF(D358=\"\",\"\",VLOOKUP($D358,Lists!$AP$2:$AR$78,2,FALSE))","v":""},{"$f":"IF(D358=\"\",\"\",VLOOKUP($D358,Lists!$AP$2:$AR$78,3,FALSE))","v":""}]
[null,{"$f":"IF(D359=\"\",\"\",VLOOKUP($D359,Lists!$AP$2:$AR$78,2,FALSE))","v":""},{"$f":"IF(D359=\"\",\"\",VLOOKUP($D359,Lists!$AP$2:$AR$78,3,FALSE))","v":""}]
[null,{"$f":"IF(D360=\"\",\"\",VLOOKUP($D360,Lists!$AP$2:$AR$78,2,FALSE))","v":""},{"$f":"IF(D360=\"\",\"\",VLOOKUP($D360,Lists!$AP$2:$AR$78,3,FALSE))","v":""}]
[null,{"$f":"IF(D361=\"\",\"\",VLOOKUP($D361,Lists!$AP$2:$AR$78,2,FALSE))","v":""},{"$f":"IF(D361=\"\",\"\",VLOOKUP($D361,Lists!$AP$2:$AR$78,3,FALSE))","v":""}]
[null,{"$f":"IF(D362=\"\",\"\",VLOOKUP($D362,Lists!$AP$2:$AR$78,2,FALSE))","v":""},{"$f":"IF(D362=\"\",\"\",VLOOKUP($D362,Lists!$AP$2:$AR$78,3,FALSE))","v":""}]
[null,{"$f":"IF(D363=\"\",\"\",VLOOKUP($D363,Lists!$AP$2:$AR$78,2,FALSE))","v":""},{"$f":"IF(D363=\"\",\"\",VLOOKUP($D363,Lists!$AP$2:$AR$78,3,FALSE))","v":""}]
[null,{"$f":"IF(D364=\"\",\"\",VLOOKUP($D364,Lists!$AP$2:$AR$78,2,FALSE))","v":""},{"$f":"IF(D364=\"\",\"\",VLOOKUP($D364,Lists!$AP$2:$AR$78,3,FALSE))","v":""}]
[null,{"$f":"IF(D365=\"\",\"\",VLOOKUP($D365,Lists!$AP$2:$AR$78,2,FALSE))","v":""},{"$f":"IF(D365=\"\",\"\",VLOOKUP($D365,Lists!$AP$2:$AR$78,3,FALSE))","v":""}]
[null,{"$f":"IF(D366=\"\",\"\",VLOOKUP($D366,Lists!$AP$2:$AR$78,2,FALSE))","v":""},{"$f":"IF(D366=\"\",\"\",VLOOKUP($D366,Lists!$AP$2:$AR$78,3,FALSE))","v":""}]
[null,{"$f":"IF(D367=\"\",\"\",VLOOKUP($D367,Lists!$AP$2:$AR$78,2,FALSE))","v":""},{"$f":"IF(D367=\"\",\"\",VLOOKUP($D367,Lists!$AP$2:$AR$78,3,FALSE))","v":""}]
[null,{"$f":"IF(D368=\"\",\"\",VLOOKUP($D368,Lists!$AP$2:$AR$78,2,FALSE))","v":""},{"$f":"IF(D368=\"\",\"\",VLOOKUP($D368,Lists!$AP$2:$AR$78,3,FALSE))","v":""}]
[null,{"$f":"IF(D369=\"\",\"\",VLOOKUP($D369,Lists!$AP$2:$AR$78,2,FALSE))","v":""},{"$f":"IF(D369=\"\",\"\",VLOOKUP($D369,Lists!$AP$2:$AR$78,3,FALSE))","v":""}]
[null,{"$f":"IF(D370=\"\",\"\",VLOOKUP($D370,Lists!$AP$2:$AR$78,2,FALSE))","v":""},{"$f":"IF(D370=\"\",\"\",VLOOKUP($D370,Lists!$AP$2:$AR$78,3,FALSE))","v":""}]
[null,{"$f":"IF(D371=\"\",\"\",VLOOKUP($D371,Lists!$AP$2:$AR$78,2,FALSE))","v":""},{"$f":"IF(D371=\"\",\"\",VLOOKUP($D371,Lists!$AP$2:$AR$78,3,FALSE))","v":""}]
[null,{"$f":"IF(D372=\"\",\"\",VLOOKUP($D372,Lists!$AP$2:$AR$78,2,FALSE))","v":""},{"$f":"IF(D372=\"\",\"\",VLOOKUP($D372,Lists!$AP$2:$AR$78,3,FALSE))","v":""}]
[null,{"$f":"IF(D373=\"\",\"\",VLOOKUP($D373,Lists!$AP$2:$AR$78,2,FALSE))","v":""},{"$f":"IF(D373=\"\",\"\",VLOOKUP($D373,Lists!$AP$2:$AR$78,3,FALSE))","v":""}]
[null,{"$f":"IF(D374=\"\",\"\",VLOOKUP($D374,Lists!$AP$2:$AR$78,2,FALSE))","v":""},{"$f":"IF(D374=\"\",\"\",VLOOKUP($D374,Lists!$AP$2:$AR$78,3,FALSE))","v":""}]
[null,{"$f":"IF(D375=\"\",\"\",VLOOKUP($D375,Lists!$AP$2:$AR$78,2,FALSE))","v":""},{"$f":"IF(D375=\"\",\"\",VLOOKUP($D375,Lists!$AP$2:$AR$78,3,FALSE))","v":""}]
[null,{"$f":"IF(D376=\"\",\"\",VLOOKUP($D376,Lists!$AP$2:$AR$78,2,FALSE))","v":""},{"$f":"IF(D376=\"\",\"\",VLOOKUP($D376,Lists!$AP$2:$AR$78,3,FALSE))","v":""}]
[null,{"$f":"IF(D377=\"\",\"\",VLOOKUP($D377,Lists!$AP$2:$AR$78,2,FALSE))","v":""},{"$f":"IF(D377=\"\",\"\",VLOOKUP($D377,Lists!$AP$2:$AR$78,3,FALSE))","v":""}]
[null,{"$f":"IF(D378=\"\",\"\",VLOOKUP($D378,Lists!$AP$2:$AR$78,2,FALSE))","v":""},{"$f":"IF(D378=\"\",\"\",VLOOKUP($D378,Lists!$AP$2:$AR$78,3,FALSE))","v":""}]
[null,{"$f":"IF(D379=\"\",\"\",VLOOKUP($D379,Lists!$AP$2:$AR$78,2,FALSE))","v":""},{"$f":"IF(D379=\"\",\"\",VLOOKUP($D379,Lists!$AP$2:$AR$78,3,FALSE))","v":""}]
[null,{"$f":"IF(D380=\"\",\"\",VLOOKUP($D380,Lists!$AP$2:$AR$78,2,FALSE))","v":""},{"$f":"IF(D380=\"\",\"\",VLOOKUP($D380,Lists!$AP$2:$AR$78,3,FALSE))","v":""}]
[null,{"$f":"IF(D381=\"\",\"\",VLOOKUP($D381,Lists!$AP$2:$AR$78,2,FALSE))","v":""},{"$f":"IF(D381=\"\",\"\",VLOOKUP($D381,Lists!$AP$2:$AR$78,3,FALSE))","v":""}]
[null,{"$f":"IF(D382=\"\",\"\",VLOOKUP($D382,Lists!$AP$2:$AR$78,2,FALSE))","v":""},{"$f":"IF(D382=\"\",\"\",VLOOKUP($D382,Lists!$AP$2:$AR$78,3,FALSE))","v":""}]
[null,{"$f":"IF(D383=\"\",\"\",VLOOKUP($D383,Lists!$AP$2:$AR$78,2,FALSE))","v":""},{"$f":"IF(D383=\"\",\"\",VLOOKUP($D383,Lists!$AP$2:$AR$78,3,FALSE))","v":""}]
[null,{"$f":"IF(D384=\"\",\"\",VLOOKUP($D384,Lists!$AP$2:$AR$78,2,FALSE))","v":""},{"$f":"IF(D384=\"\",\"\",VLOOKUP($D384,Lists!$AP$2:$AR$78,3,FALSE))","v":""}]
[null,{"$f":"IF(D385=\"\",\"\",VLOOKUP($D385,Lists!$AP$2:$AR$78,2,FALSE))","v":""},{"$f":"IF(D385=\"\",\"\",VLOOKUP($D385,Lists!$AP$2:$AR$78,3,FALSE))","v":""}]
[null,{"$f":"IF(D386=\"\",\"\",VLOOKUP($D386,Lists!$AP$2:$AR$78,2,FALSE))","v":""},{"$f":"IF(D386=\"\",\"\",VLOOKUP($D386,Lists!$AP$2:$AR$78,3,FALSE))","v":""}]
[null,{"$f":"IF(D387=\"\",\"\",VLOOKUP($D387,Lists!$AP$2:$AR$78,2,FALSE))","v":""},{"$f":"IF(D387=\"\",\"\",VLOOKUP($D387,Lists!$AP$2:$AR$78,3,FALSE))","v":""}]
[null,{"$f":"IF(D388=\"\",\"\",VLOOKUP($D388,Lists!$AP$2:$AR$78,2,FALSE))","v":""},{"$f":"IF(D388=\"\",\"\",VLOOKUP($D388,Lists!$AP$2:$AR$78,3,FALSE))","v":""}]
[null,{"$f":"IF(D389=\"\",\"\",VLOOKUP($D389,Lists!$AP$2:$AR$78,2,FALSE))","v":""},{"$f":"IF(D389=\"\",\"\",VLOOKUP($D389,Lists!$AP$2:$AR$78,3,FALSE))","v":""}]
[null,{"$f":"IF(D390=\"\",\"\",VLOOKUP($D390,Lists!$AP$2:$AR$78,2,FALSE))","v":""},{"$f":"IF(D390=\"\",\"\",VLOOKUP($D390,Lists!$AP$2:$AR$78,3,FALSE))","v":""}]
[null,{"$f":"IF(D391=\"\",\"\",VLOOKUP($D391,Lists!$AP$2:$AR$78,2,FALSE))","v":""},{"$f":"IF(D391=\"\",\"\",VLOOKUP($D391,Lists!$AP$2:$AR$78,3,FALSE))","v":""}]
[null,{"$f":"IF(D392=\"\",\"\",VLOOKUP($D392,Lists!$AP$2:$AR$78,2,FALSE))","v":""},{"$f":"IF(D392=\"\",\"\",VLOOKUP($D392,Lists!$AP$2:$AR$78,3,FALSE))","v":""}]
[null,{"$f":"IF(D393=\"\",\"\",VLOOKUP($D393,Lists!$AP$2:$AR$78,2,FALSE))","v":""},{"$f":"IF(D393=\"\",\"\",VLOOKUP($D393,Lists!$AP$2:$AR$78,3,FALSE))","v":""}]
[null,{"$f":"IF(D394=\"\",\"\",VLOOKUP($D394,Lists!$AP$2:$AR$78,2,FALSE))","v":""},{"$f":"IF(D394=\"\",\"\",VLOOKUP($D394,Lists!$AP$2:$AR$78,3,FALSE))","v":""}]
[null,{"$f":"IF(D395=\"\",\"\",VLOOKUP($D395,Lists!$AP$2:$AR$78,2,FALSE))","v":""},{"$f":"IF(D395=\"\",\"\",VLOOKUP($D395,Lists!$AP$2:$AR$78,3,FALSE))","v":""}]
[null,{"$f":"IF(D396=\"\",\"\",VLOOKUP($D396,Lists!$AP$2:$AR$78,2,FALSE))","v":""},{"$f":"IF(D396=\"\",\"\",VLOOKUP($D396,Lists!$AP$2:$AR$78,3,FALSE))","v":""}]
[null,{"$f":"IF(D397=\"\",\"\",VLOOKUP($D397,Lists!$AP$2:$AR$78,2,FALSE))","v":""},{"$f":"IF(D397=\"\",\"\",VLOOKUP($D397,Lists!$AP$2:$AR$78,3,FALSE))","v":""}]
[null,{"$f":"IF(D398=\"\",\"\",VLOOKUP($D398,Lists!$AP$2:$AR$78,2,FALSE))","v":""},{"$f":"IF(D398=\"\",\"\",VLOOKUP($D398,Lists!$AP$2:$AR$78,3,FALSE))","v":""}]
[null,{"$f":"IF(D399=\"\",\"\",VLOOKUP($D399,Lists!$AP$2:$AR$78,2,FALSE))","v":""},{"$f":"IF(D399=\"\",\"\",VLOOKUP($D399,Lists!$AP$2:$AR$78,3,FALSE))","v":""}]
[null,{"$f":"IF(D400=\"\",\"\",VLOOKUP($D400,Lists!$AP$2:$AR$78,2,FALSE))","v":""},{"$f":"IF(D400=\"\",\"\",VLOOKUP($D400,Lists!$AP$2:$AR$78,3,FALSE))","v":""}]
[null,{"$f":"IF(D401=\"\",\"\",VLOOKUP($D401,Lists!$AP$2:$AR$78,2,FALSE))","v":""},{"$f":"IF(D401=\"\",\"\",VLOOKUP($D401,Lists!$AP$2:$AR$78,3,FALSE))","v":""}]
[null,{"$f":"IF(D402=\"\",\"\",VLOOKUP($D402,Lists!$AP$2:$AR$78,2,FALSE))","v":""},{"$f":"IF(D402=\"\",\"\",VLOOKUP($D402,Lists!$AP$2:$AR$78,3,FALSE))","v":""}]
[null,{"$f":"IF(D403=\"\",\"\",VLOOKUP($D403,Lists!$AP$2:$AR$78,2,FALSE))","v":""},{"$f":"IF(D403=\"\",\"\",VLOOKUP($D403,Lists!$AP$2:$AR$78,3,FALSE))","v":""}]
[null,{"$f":"IF(D404=\"\",\"\",VLOOKUP($D404,Lists!$AP$2:$AR$78,2,FALSE))","v":""},{"$f":"IF(D404=\"\",\"\",VLOOKUP($D404,Lists!$AP$2:$AR$78,3,FALSE))","v":""}]
[null,{"$f":"IF(D405=\"\",\"\",VLOOKUP($D405,Lists!$AP$2:$AR$78,2,FALSE))","v":""},{"$f":"IF(D405=\"\",\"\",VLOOKUP($D405,Lists!$AP$2:$AR$78,3,FALSE))","v":""}]
[null,{"$f":"IF(D406=\"\",\"\",VLOOKUP($D406,Lists!$AP$2:$AR$78,2,FALSE))","v":""},{"$f":"IF(D406=\"\",\"\",VLOOKUP($D406,Lists!$AP$2:$AR$78,3,FALSE))","v":""}]
[null,{"$f":"IF(D407=\"\",\"\",VLOOKUP($D407,Lists!$AP$2:$AR$78,2,FALSE))","v":""},{"$f":"IF(D407=\"\",\"\",VLOOKUP($D407,Lists!$AP$2:$AR$78,3,FALSE))","v":""}]
[null,{"$f":"IF(D408=\"\",\"\",VLOOKUP($D408,Lists!$AP$2:$AR$78,2,FALSE))","v":""},{"$f":"IF(D408=\"\",\"\",VLOOKUP($D408,Lists!$AP$2:$AR$78,3,FALSE))","v":""}]
[null,{"$f":"IF(D409=\"\",\"\",VLOOKUP($D409,Lists!$AP$2:$AR$78,2,FALSE))","v":""},{"$f":"IF(D409=\"\",\"\",VLOOKUP($D409,Lists!$AP$2:$AR$78,3,FALSE))","v":""}]
[null,{"$f":"IF(D410=\"\",\"\",VLOOKUP($D410,Lists!$AP$2:$AR$78,2,FALSE))","v":""},{"$f":"IF(D410=\"\",\"\",VLOOKUP($D410,Lists!$AP$2:$AR$78,3,FALSE))","v":""}]
[null,{"$f":"IF(D411=\"\",\"\",VLOOKUP($D411,Lists!$AP$2:$AR$78,2,FALSE))","v":""},{"$f":"IF(D411=\"\",\"\",VLOOKUP($D411,Lists!$AP$2:$AR$78,3,FALSE))","v":""}]
[null,{"$f":"IF(D412=\"\",\"\",VLOOKUP($D412,Lists!$AP$2:$AR$78,2,FALSE))","v":""},{"$f":"IF(D412=\"\",\"\",VLOOKUP($D412,Lists!$AP$2:$AR$78,3,FALSE))","v":""}]
[null,{"$f":"IF(D413=\"\",\"\",VLOOKUP($D413,Lists!$AP$2:$AR$78,2,FALSE))","v":""},{"$f":"IF(D413=\"\",\"\",VLOOKUP($D413,Lists!$AP$2:$AR$78,3,FALSE))","v":""}]
[null,{"$f":"IF(D414=\"\",\"\",VLOOKUP($D414,Lists!$AP$2:$AR$78,2,FALSE))","v":""},{"$f":"IF(D414=\"\",\"\",VLOOKUP($D414,Lists!$AP$2:$AR$78,3,FALSE))","v":""}]
[null,{"$f":"IF(D415=\"\",\"\",VLOOKUP($D415,Lists!$AP$2:$AR$78,2,FALSE))","v":""},{"$f":"IF(D415=\"\",\"\",VLOOKUP($D415,Lists!$AP$2:$AR$78,3,FALSE))","v":""}]
[null,{"$f":"IF(D416=\"\",\"\",VLOOKUP($D416,Lists!$AP$2:$AR$78,2,FALSE))","v":""},{"$f":"IF(D416=\"\",\"\",VLOOKUP($D416,Lists!$AP$2:$AR$78,3,FALSE))","v":""}]
[null,{"$f":"IF(D417=\"\",\"\",VLOOKUP($D417,Lists!$AP$2:$AR$78,2,FALSE))","v":""},{"$f":"IF(D417=\"\",\"\",VLOOKUP($D417,Lists!$AP$2:$AR$78,3,FALSE))","v":""}]
[null,{"$f":"IF(D418=\"\",\"\",VLOOKUP($D418,Lists!$AP$2:$AR$78,2,FALSE))","v":""},{"$f":"IF(D418=\"\",\"\",VLOOKUP($D418,Lists!$AP$2:$AR$78,3,FALSE))","v":""}]
[null,{"$f":"IF(D419=\"\",\"\",VLOOKUP($D419,Lists!$AP$2:$AR$78,2,FALSE))","v":""},{"$f":"IF(D419=\"\",\"\",VLOOKUP($D419,Lists!$AP$2:$AR$78,3,FALSE))","v":""}]
[null,{"$f":"IF(D420=\"\",\"\",VLOOKUP($D420,Lists!$AP$2:$AR$78,2,FALSE))","v":""},{"$f":"IF(D420=\"\",\"\",VLOOKUP($D420,Lists!$AP$2:$AR$78,3,FALSE))","v":""}]
[null,{"$f":"IF(D421=\"\",\"\",VLOOKUP($D421,Lists!$AP$2:$AR$78,2,FALSE))","v":""},{"$f":"IF(D421=\"\",\"\",VLOOKUP($D421,Lists!$AP$2:$AR$78,3,FALSE))","v":""}]
[null,{"$f":"IF(D422=\"\",\"\",VLOOKUP($D422,Lists!$AP$2:$AR$78,2,FALSE))","v":""},{"$f":"IF(D422=\"\",\"\",VLOOKUP($D422,Lists!$AP$2:$AR$78,3,FALSE))","v":""}]
[null,{"$f":"IF(D423=\"\",\"\",VLOOKUP($D423,Lists!$AP$2:$AR$78,2,FALSE))","v":""},{"$f":"IF(D423=\"\",\"\",VLOOKUP($D423,Lists!$AP$2:$AR$78,3,FALSE))","v":""}]
[null,{"$f":"IF(D424=\"\",\"\",VLOOKUP($D424,Lists!$AP$2:$AR$78,2,FALSE))","v":""},{"$f":"IF(D424=\"\",\"\",VLOOKUP($D424,Lists!$AP$2:$AR$78,3,FALSE))","v":""}]
[null,{"$f":"IF(D425=\"\",\"\",VLOOKUP($D425,Lists!$AP$2:$AR$78,2,FALSE))","v":""},{"$f":"IF(D425=\"\",\"\",VLOOKUP($D425,Lists!$AP$2:$AR$78,3,FALSE))","v":""}]
[null,{"$f":"IF(D426=\"\",\"\",VLOOKUP($D426,Lists!$AP$2:$AR$78,2,FALSE))","v":""},{"$f":"IF(D426=\"\",\"\",VLOOKUP($D426,Lists!$AP$2:$AR$78,3,FALSE))","v":""}]
[null,{"$f":"IF(D427=\"\",\"\",VLOOKUP($D427,Lists!$AP$2:$AR$78,2,FALSE))","v":""},{"$f":"IF(D427=\"\",\"\",VLOOKUP($D427,Lists!$AP$2:$AR$78,3,FALSE))","v":""}]
[null,{"$f":"IF(D428=\"\",\"\",VLOOKUP($D428,Lists!$AP$2:$AR$78,2,FALSE))","v":""},{"$f":"IF(D428=\"\",\"\",VLOOKUP($D428,Lists!$AP$2:$AR$78,3,FALSE))","v":""}]
[null,{"$f":"IF(D429=\"\",\"\",VLOOKUP($D429,Lists!$AP$2:$AR$78,2,FALSE))","v":""},{"$f":"IF(D429=\"\",\"\",VLOOKUP($D429,Lists!$AP$2:$AR$78,3,FALSE))","v":""}]
[null,{"$f":"IF(D430=\"\",\"\",VLOOKUP($D430,Lists!$AP$2:$AR$78,2,FALSE))","v":""},{"$f":"IF(D430=\"\",\"\",VLOOKUP($D430,Lists!$AP$2:$AR$78,3,FALSE))","v":""}]
[null,{"$f":"IF(D431=\"\",\"\",VLOOKUP($D431,Lists!$AP$2:$AR$78,2,FALSE))","v":""},{"$f":"IF(D431=\"\",\"\",VLOOKUP($D431,Lists!$AP$2:$AR$78,3,FALSE))","v":""}]
[null,{"$f":"IF(D432=\"\",\"\",VLOOKUP($D432,Lists!$AP$2:$AR$78,2,FALSE))","v":""},{"$f":"IF(D432=\"\",\"\",VLOOKUP($D432,Lists!$AP$2:$AR$78,3,FALSE))","v":""}]
[null,{"$f":"IF(D433=\"\",\"\",VLOOKUP($D433,Lists!$AP$2:$AR$78,2,FALSE))","v":""},{"$f":"IF(D433=\"\",\"\",VLOOKUP($D433,Lists!$AP$2:$AR$78,3,FALSE))","v":""}]
[null,{"$f":"IF(D434=\"\",\"\",VLOOKUP($D434,Lists!$AP$2:$AR$78,2,FALSE))","v":""},{"$f":"IF(D434=\"\",\"\",VLOOKUP($D434,Lists!$AP$2:$AR$78,3,FALSE))","v":""}]
[null,{"$f":"IF(D435=\"\",\"\",VLOOKUP($D435,Lists!$AP$2:$AR$78,2,FALSE))","v":""},{"$f":"IF(D435=\"\",\"\",VLOOKUP($D435,Lists!$AP$2:$AR$78,3,FALSE))","v":""}]
[null,{"$f":"IF(D436=\"\",\"\",VLOOKUP($D436,Lists!$AP$2:$AR$78,2,FALSE))","v":""},{"$f":"IF(D436=\"\",\"\",VLOOKUP($D436,Lists!$AP$2:$AR$78,3,FALSE))","v":""}]
[null,{"$f":"IF(D437=\"\",\"\",VLOOKUP($D437,Lists!$AP$2:$AR$78,2,FALSE))","v":""},{"$f":"IF(D437=\"\",\"\",VLOOKUP($D437,Lists!$AP$2:$AR$78,3,FALSE))","v":""}]
[null,{"$f":"IF(D438=\"\",\"\",VLOOKUP($D438,Lists!$AP$2:$AR$78,2,FALSE))","v":""},{"$f":"IF(D438=\"\",\"\",VLOOKUP($D438,Lists!$AP$2:$AR$78,3,FALSE))","v":""}]
[null,{"$f":"IF(D439=\"\",\"\",VLOOKUP($D439,Lists!$AP$2:$AR$78,2,FALSE))","v":""},{"$f":"IF(D439=\"\",\"\",VLOOKUP($D439,Lists!$AP$2:$AR$78,3,FALSE))","v":""}]
[null,{"$f":"IF(D440=\"\",\"\",VLOOKUP($D440,Lists!$AP$2:$AR$78,2,FALSE))","v":""},{"$f":"IF(D440=\"\",\"\",VLOOKUP($D440,Lists!$AP$2:$AR$78,3,FALSE))","v":""}]
[null,{"$f":"IF(D441=\"\",\"\",VLOOKUP($D441,Lists!$AP$2:$AR$78,2,FALSE))","v":""},{"$f":"IF(D441=\"\",\"\",VLOOKUP($D441,Lists!$AP$2:$AR$78,3,FALSE))","v":""}]
[null,{"$f":"IF(D442=\"\",\"\",VLOOKUP($D442,Lists!$AP$2:$AR$78,2,FALSE))","v":""},{"$f":"IF(D442=\"\",\"\",VLOOKUP($D442,Lists!$AP$2:$AR$78,3,FALSE))","v":""}]
[null,{"$f":"IF(D443=\"\",\"\",VLOOKUP($D443,Lists!$AP$2:$AR$78,2,FALSE))","v":""},{"$f":"IF(D443=\"\",\"\",VLOOKUP($D443,Lists!$AP$2:$AR$78,3,FALSE))","v":""}]
[null,{"$f":"IF(D444=\"\",\"\",VLOOKUP($D444,Lists!$AP$2:$AR$78,2,FALSE))","v":""},{"$f":"IF(D444=\"\",\"\",VLOOKUP($D444,Lists!$AP$2:$AR$78,3,FALSE))","v":""}]
[null,{"$f":"IF(D445=\"\",\"\",VLOOKUP($D445,Lists!$AP$2:$AR$78,2,FALSE))","v":""},{"$f":"IF(D445=\"\",\"\",VLOOKUP($D445,Lists!$AP$2:$AR$78,3,FALSE))","v":""}]
[null,{"$f":"IF(D446=\"\",\"\",VLOOKUP($D446,Lists!$AP$2:$AR$78,2,FALSE))","v":""},{"$f":"IF(D446=\"\",\"\",VLOOKUP($D446,Lists!$AP$2:$AR$78,3,FALSE))","v":""}]
[null,{"$f":"IF(D447=\"\",\"\",VLOOKUP($D447,Lists!$AP$2:$AR$78,2,FALSE))","v":""},{"$f":"IF(D447=\"\",\"\",VLOOKUP($D447,Lists!$AP$2:$AR$78,3,FALSE))","v":""}]
[null,{"$f":"IF(D448=\"\",\"\",VLOOKUP($D448,Lists!$AP$2:$AR$78,2,FALSE))","v":""},{"$f":"IF(D448=\"\",\"\",VLOOKUP($D448,Lists!$AP$2:$AR$78,3,FALSE))","v":""}]
[null,{"$f":"IF(D449=\"\",\"\",VLOOKUP($D449,Lists!$AP$2:$AR$78,2,FALSE))","v":""},{"$f":"IF(D449=\"\",\"\",VLOOKUP($D449,Lists!$AP$2:$AR$78,3,FALSE))","v":""}]
[null,{"$f":"IF(D450=\"\",\"\",VLOOKUP($D450,Lists!$AP$2:$AR$78,2,FALSE))","v":""},{"$f":"IF(D450=\"\",\"\",VLOOKUP($D450,Lists!$AP$2:$AR$78,3,FALSE))","v":""}]
[null,{"$f":"IF(D451=\"\",\"\",VLOOKUP($D451,Lists!$AP$2:$AR$78,2,FALSE))","v":""},{"$f":"IF(D451=\"\",\"\",VLOOKUP($D451,Lists!$AP$2:$AR$78,3,FALSE))","v":""}]
[null,{"$f":"IF(D452=\"\",\"\",VLOOKUP($D452,Lists!$AP$2:$AR$78,2,FALSE))","v":""},{"$f":"IF(D452=\"\",\"\",VLOOKUP($D452,Lists!$AP$2:$AR$78,3,FALSE))","v":""}]
[null,{"$f":"IF(D453=\"\",\"\",VLOOKUP($D453,Lists!$AP$2:$AR$78,2,FALSE))","v":""},{"$f":"IF(D453=\"\",\"\",VLOOKUP($D453,Lists!$AP$2:$AR$78,3,FALSE))","v":""}]
[null,{"$f":"IF(D454=\"\",\"\",VLOOKUP($D454,Lists!$AP$2:$AR$78,2,FALSE))","v":""},{"$f":"IF(D454=\"\",\"\",VLOOKUP($D454,Lists!$AP$2:$AR$78,3,FALSE))","v":""}]
[null,{"$f":"IF(D455=\"\",\"\",VLOOKUP($D455,Lists!$AP$2:$AR$78,2,FALSE))","v":""},{"$f":"IF(D455=\"\",\"\",VLOOKUP($D455,Lists!$AP$2:$AR$78,3,FALSE))","v":""}]
[null,{"$f":"IF(D456=\"\",\"\",VLOOKUP($D456,Lists!$AP$2:$AR$78,2,FALSE))","v":""},{"$f":"IF(D456=\"\",\"\",VLOOKUP($D456,Lists!$AP$2:$AR$78,3,FALSE))","v":""}]
[null,{"$f":"IF(D457=\"\",\"\",VLOOKUP($D457,Lists!$AP$2:$AR$78,2,FALSE))","v":""},{"$f":"IF(D457=\"\",\"\",VLOOKUP($D457,Lists!$AP$2:$AR$78,3,FALSE))","v":""}]
[null,{"$f":"IF(D458=\"\",\"\",VLOOKUP($D458,Lists!$AP$2:$AR$78,2,FALSE))","v":""},{"$f":"IF(D458=\"\",\"\",VLOOKUP($D458,Lists!$AP$2:$AR$78,3,FALSE))","v":""}]
[null,{"$f":"IF(D459=\"\",\"\",VLOOKUP($D459,Lists!$AP$2:$AR$78,2,FALSE))","v":""},{"$f":"IF(D459=\"\",\"\",VLOOKUP($D459,Lists!$AP$2:$AR$78,3,FALSE))","v":""}]
[null,{"$f":"IF(D460=\"\",\"\",VLOOKUP($D460,Lists!$AP$2:$AR$78,2,FALSE))","v":""},{"$f":"IF(D460=\"\",\"\",VLOOKUP($D460,Lists!$AP$2:$AR$78,3,FALSE))","v":""}]
[null,{"$f":"IF(D461=\"\",\"\",VLOOKUP($D461,Lists!$AP$2:$AR$78,2,FALSE))","v":""},{"$f":"IF(D461=\"\",\"\",VLOOKUP($D461,Lists!$AP$2:$AR$78,3,FALSE))","v":""}]
[null,{"$f":"IF(D462=\"\",\"\",VLOOKUP($D462,Lists!$AP$2:$AR$78,2,FALSE))","v":""},{"$f":"IF(D462=\"\",\"\",VLOOKUP($D462,Lists!$AP$2:$AR$78,3,FALSE))","v":""}]
[null,{"$f":"IF(D463=\"\",\"\",VLOOKUP($D463,Lists!$AP$2:$AR$78,2,FALSE))","v":""},{"$f":"IF(D463=\"\",\"\",VLOOKUP($D463,Lists!$AP$2:$AR$78,3,FALSE))","v":""}]
[null,{"$f":"IF(D464=\"\",\"\",VLOOKUP($D464,Lists!$AP$2:$AR$78,2,FALSE))","v":""},{"$f":"IF(D464=\"\",\"\",VLOOKUP($D464,Lists!$AP$2:$AR$78,3,FALSE))","v":""}]
[null,{"$f":"IF(D465=\"\",\"\",VLOOKUP($D465,Lists!$AP$2:$AR$78,2,FALSE))","v":""},{"$f":"IF(D465=\"\",\"\",VLOOKUP($D465,Lists!$AP$2:$AR$78,3,FALSE))","v":""}]
[null,{"$f":"IF(D466=\"\",\"\",VLOOKUP($D466,Lists!$AP$2:$AR$78,2,FALSE))","v":""},{"$f":"IF(D466=\"\",\"\",VLOOKUP($D466,Lists!$AP$2:$AR$78,3,FALSE))","v":""}]
[null,{"$f":"IF(D467=\"\",\"\",VLOOKUP($D467,Lists!$AP$2:$AR$78,2,FALSE))","v":""},{"$f":"IF(D467=\"\",\"\",VLOOKUP($D467,Lists!$AP$2:$AR$78,3,FALSE))","v":""}]
[null,{"$f":"IF(D468=\"\",\"\",VLOOKUP($D468,Lists!$AP$2:$AR$78,2,FALSE))","v":""},{"$f":"IF(D468=\"\",\"\",VLOOKUP($D468,Lists!$AP$2:$AR$78,3,FALSE))","v":""}]
[null,{"$f":"IF(D469=\"\",\"\",VLOOKUP($D469,Lists!$AP$2:$AR$78,2,FALSE))","v":""},{"$f":"IF(D469=\"\",\"\",VLOOKUP($D469,Lists!$AP$2:$AR$78,3,FALSE))","v":""}]
[null,{"$f":"IF(D470=\"\",\"\",VLOOKUP($D470,Lists!$AP$2:$AR$78,2,FALSE))","v":""},{"$f":"IF(D470=\"\",\"\",VLOOKUP($D470,Lists!$AP$2:$AR$78,3,FALSE))","v":""}]
[null,{"$f":"IF(D471=\"\",\"\",VLOOKUP($D471,Lists!$AP$2:$AR$78,2,FALSE))","v":""},{"$f":"IF(D471=\"\",\"\",VLOOKUP($D471,Lists!$AP$2:$AR$78,3,FALSE))","v":""}]
[null,{"$f":"IF(D472=\"\",\"\",VLOOKUP($D472,Lists!$AP$2:$AR$78,2,FALSE))","v":""},{"$f":"IF(D472=\"\",\"\",VLOOKUP($D472,Lists!$AP$2:$AR$78,3,FALSE))","v":""}]
[null,{"$f":"IF(D473=\"\",\"\",VLOOKUP($D473,Lists!$AP$2:$AR$78,2,FALSE))","v":""},{"$f":"IF(D473=\"\",\"\",VLOOKUP($D473,Lists!$AP$2:$AR$78,3,FALSE))","v":""}]
[null,{"$f":"IF(D474=\"\",\"\",VLOOKUP($D474,Lists!$AP$2:$AR$78,2,FALSE))","v":""},{"$f":"IF(D474=\"\",\"\",VLOOKUP($D474,Lists!$AP$2:$AR$78,3,FALSE))","v":""}]
[null,{"$f":"IF(D475=\"\",\"\",VLOOKUP($D475,Lists!$AP$2:$AR$78,2,FALSE))","v":""},{"$f":"IF(D475=\"\",\"\",VLOOKUP($D475,Lists!$AP$2:$AR$78,3,FALSE))","v":""}]
[null,{"$f":"IF(D476=\"\",\"\",VLOOKUP($D476,Lists!$AP$2:$AR$78,2,FALSE))","v":""},{"$f":"IF(D476=\"\",\"\",VLOOKUP($D476,Lists!$AP$2:$AR$78,3,FALSE))","v":""}]
[null,{"$f":"IF(D477=\"\",\"\",VLOOKUP($D477,Lists!$AP$2:$AR$78,2,FALSE))","v":""},{"$f":"IF(D477=\"\",\"\",VLOOKUP($D477,Lists!$AP$2:$AR$78,3,FALSE))","v":""}]
[null,{"$f":"IF(D478=\"\",\"\",VLOOKUP($D478,Lists!$AP$2:$AR$78,2,FALSE))","v":""},{"$f":"IF(D478=\"\",\"\",VLOOKUP($D478,Lists!$AP$2:$AR$78,3,FALSE))","v":""}]
[null,{"$f":"IF(D479=\"\",\"\",VLOOKUP($D479,Lists!$AP$2:$AR$78,2,FALSE))","v":""},{"$f":"IF(D479=\"\",\"\",VLOOKUP($D479,Lists!$AP$2:$AR$78,3,FALSE))","v":""}]
[null,{"$f":"IF(D480=\"\",\"\",VLOOKUP($D480,Lists!$AP$2:$AR$78,2,FALSE))","v":""},{"$f":"IF(D480=\"\",\"\",VLOOKUP($D480,Lists!$AP$2:$AR$78,3,FALSE))","v":""}]
[null,{"$f":"IF(D481=\"\",\"\",VLOOKUP($D481,Lists!$AP$2:$AR$78,2,FALSE))","v":""},{"$f":"IF(D481=\"\",\"\",VLOOKUP($D481,Lists!$AP$2:$AR$78,3,FALSE))","v":""}]
[null,{"$f":"IF(D482=\"\",\"\",VLOOKUP($D482,Lists!$AP$2:$AR$78,2,FALSE))","v":""},{"$f":"IF(D482=\"\",\"\",VLOOKUP($D482,Lists!$AP$2:$AR$78,3,FALSE))","v":""}]
[null,{"$f":"IF(D483=\"\",\"\",VLOOKUP($D483,Lists!$AP$2:$AR$78,2,FALSE))","v":""},{"$f":"IF(D483=\"\",\"\",VLOOKUP($D483,Lists!$AP$2:$AR$78,3,FALSE))","v":""}]
[null,{"$f":"IF(D484=\"\",\"\",VLOOKUP($D484,Lists!$AP$2:$AR$78,2,FALSE))","v":""},{"$f":"IF(D484=\"\",\"\",VLOOKUP($D484,Lists!$AP$2:$AR$78,3,FALSE))","v":""}]
[null,{"$f":"IF(D485=\"\",\"\",VLOOKUP($D485,Lists!$AP$2:$AR$78,2,FALSE))","v":""},{"$f":"IF(D485=\"\",\"\",VLOOKUP($D485,Lists!$AP$2:$AR$78,3,FALSE))","v":""}]
[null,{"$f":"IF(D486=\"\",\"\",VLOOKUP($D486,Lists!$AP$2:$AR$78,2,FALSE))","v":""},{"$f":"IF(D486=\"\",\"\",VLOOKUP($D486,Lists!$AP$2:$AR$78,3,FALSE))","v":""}]
[null,{"$f":"IF(D487=\"\",\"\",VLOOKUP($D487,Lists!$AP$2:$AR$78,2,FALSE))","v":""},{"$f":"IF(D487=\"\",\"\",VLOOKUP($D487,Lists!$AP$2:$AR$78,3,FALSE))","v":""}]
[null,{"$f":"IF(D488=\"\",\"\",VLOOKUP($D488,Lists!$AP$2:$AR$78,2,FALSE))","v":""},{"$f":"IF(D488=\"\",\"\",VLOOKUP($D488,Lists!$AP$2:$AR$78,3,FALSE))","v":""}]
[null,{"$f":"IF(D489=\"\",\"\",VLOOKUP($D489,Lists!$AP$2:$AR$78,2,FALSE))","v":""},{"$f":"IF(D489=\"\",\"\",VLOOKUP($D489,Lists!$AP$2:$AR$78,3,FALSE))","v":""}]
[null,{"$f":"IF(D490=\"\",\"\",VLOOKUP($D490,Lists!$AP$2:$AR$78,2,FALSE))","v":""},{"$f":"IF(D490=\"\",\"\",VLOOKUP($D490,Lists!$AP$2:$AR$78,3,FALSE))","v":""}]
[null,{"$f":"IF(D491=\"\",\"\",VLOOKUP($D491,Lists!$AP$2:$AR$78,2,FALSE))","v":""},{"$f":"IF(D491=\"\",\"\",VLOOKUP($D491,Lists!$AP$2:$AR$78,3,FALSE))","v":""}]
[null,{"$f":"IF(D492=\"\",\"\",VLOOKUP($D492,Lists!$AP$2:$AR$78,2,FALSE))","v":""},{"$f":"IF(D492=\"\",\"\",VLOOKUP($D492,Lists!$AP$2:$AR$78,3,FALSE))","v":""}]
[null,{"$f":"IF(D493=\"\",\"\",VLOOKUP($D493,Lists!$AP$2:$AR$78,2,FALSE))","v":""},{"$f":"IF(D493=\"\",\"\",VLOOKUP($D493,Lists!$AP$2:$AR$78,3,FALSE))","v":""}]
[null,{"$f":"IF(D494=\"\",\"\",VLOOKUP($D494,Lists!$AP$2:$AR$78,2,FALSE))","v":""},{"$f":"IF(D494=\"\",\"\",VLOOKUP($D494,Lists!$AP$2:$AR$78,3,FALSE))","v":""}]
[null,{"$f":"IF(D495=\"\",\"\",VLOOKUP($D495,Lists!$AP$2:$AR$78,2,FALSE))","v":""},{"$f":"IF(D495=\"\",\"\",VLOOKUP($D495,Lists!$AP$2:$AR$78,3,FALSE))","v":""}]
[null,{"$f":"IF(D496=\"\",\"\",VLOOKUP($D496,Lists!$AP$2:$AR$78,2,FALSE))","v":""},{"$f":"IF(D496=\"\",\"\",VLOOKUP($D496,Lists!$AP$2:$AR$78,3,FALSE))","v":""}]
[null,{"$f":"IF(D497=\"\",\"\",VLOOKUP($D497,Lists!$AP$2:$AR$78,2,FALSE))","v":""},{"$f":"IF(D497=\"\",\"\",VLOOKUP($D497,Lists!$AP$2:$AR$78,3,FALSE))","v":""}]
[null,{"$f":"IF(D498=\"\",\"\",VLOOKUP($D498,Lists!$AP$2:$AR$78,2,FALSE))","v":""},{"$f":"IF(D498=\"\",\"\",VLOOKUP($D498,Lists!$AP$2:$AR$78,3,FALSE))","v":""}]
[null,{"$f":"IF(D499=\"\",\"\",VLOOKUP($D499,Lists!$AP$2:$AR$78,2,FALSE))","v":""},{"$f":"IF(D499=\"\",\"\",VLOOKUP($D499,Lists!$AP$2:$AR$78,3,FALSE))","v":""}]
[null,{"$f":"IF(D500=\"\",\"\",VLOOKUP($D500,Lists!$AP$2:$AR$78,2,FALSE))","v":""},{"$f":"IF(D500=\"\",\"\",VLOOKUP($D500,Lists!$AP$2:$AR$78,3,FALSE))","v":""}]

{"sheet":"TopPrim_WorkPractice","index":8,"n_rows":500,"n_cols":13,"rows_kept":500,"cut":false,"hidden":false,"merged":[]}
[null,"DO NOT REMOVE OR EDIT INFORMATION IN THIS SECTION FOR INTERNAL USE ONLY"]
[null,"Template Name",{"$f":"+Welcome!B2","v":"63.3120(f) Semiannual Compliance Report (Spreadsheet Template)"}]
[null,"CitationID",{"$f":"+Welcome!B3","v":"63.3120(f)"}]
[null,"Template Version",{"$f":"+Welcome!B4","v":"v2.06"}]
[null,"Last Updated Date",{"$f":"+Welcome!B5","v":45392}]
[null,"OMB Control Number: 2060-0518       Expiration Date: 04/30/2019"]
[null,"40 CFR Part 63, Subpart IIII National Emission Standards for Hazardous Air Pollutants: Surface Coating of Automobiles and Light-Duty Trucks - §63.3120(f) Semiannual Compliance Report Spreadsheet Template"]
[null,"\n"]
[]
[]
[]
[null,"Company Record No.\n(Autofilled)","Affected Source or Equipment\n(§63.3120(a)(6)(xiii))\n(Autofilled)","Company Record No. and Affected Source or Equipment\n(§63.3120(a)(6)(xiii))\n(Select from dropdown)","Work Practice Standard\n(§63.3120(a)(6)(xiii))","Description of Deviation \n(§63.3120(a)(6)(xiii))","Starting Date of Work Practice Deviation \n(§63.3120(a)(6)(xiii))","Starting Time of Deviation from Work Practice Standard \n(§63.3120(a)(6)(xiii))","Ending Date of Work Practice Deviation \n(§63.3120(a)(6)(xiii))","Ending Time of Deviation from Work Practice Standard \n(§63.3120(a)(6)(xiii))","Duration of Deviation from Work Practice Standard (hours)\n(§63.3120(a)(6)(xiii))\n(Autocalculated)","Cause of Deviation \n(§63.3120(a)(6)(xiv))","Action(s) Taken to Minimize Emissions and Corrective Actions Taken\n(§63.3120(a)(6)(xiii)(A) and (B))"]
[null,"RecordId","AffectedSource","AffectedSourceCompanyRecord","WorkPracticeStandard","DeviationDescription","WPDeviationStartDate","WPDeviationStartTime","WPDeviationEndDate","WPDeviationEndTime","WPDeviationDuration","DeviationCause","ActionTaken"]
[null,"e.g.: 1","e.g.: West Coating","e.g.: 1 West Coating","e.g.: Topcoat coating storage containers and mixing vessels","e.g.: Container left open","e.g.: 3/2/2017","e.g.: 15:30","e.g.: 3/2/2017","e.g.: 15:30","e.g.: 6.75","e.g.:  Bin left unsealed","e.g.: replaced lid"]
[null,"e.g.:","e.g.:","e.g.:","e.g.:","e.g.:","e.g.:","e.g.:","e.g.:","e.g.:","e.g.:","e.g.:","e.g.:"]
[null,"e.g.:","e.g.:","e.g.:","e.g.:","e.g.:","e.g.:","e.g.:","e.g.:","e.g.:","e.g.:","e.g.:","e.g.:"]
[null,"e.g.:","e.g.:","e.g.:","e.g.:","e.g.:","e.g.:","e.g.:","e.g.:","e.g.:","e.g.:","e.g.:","e.g.:"]
[null,"e.g.:","e.g.:","e.g.:","e.g.:","e.g.:","e.g.:","e.g.:","e.g.:","e.g.:","e.g.:","e.g.:","e.g.:"]
[null,"e.g.:","e.g.:","e.g.:","e.g.:","e.g.:","e.g.:","e.g.:","e.g.:","e.g.:","e.g.:","e.g.:","e.g.:"]
[null,"e.g.:","e.g.:","e.g.:","e.g.:","e.g.:","e.g.:","e.g.:","e.g.:","e.g.:","e.g.:","e.g.:","e.g.:"]
[null,"e.g.:","e.g.:","e.g.:","e.g.:","e.g.:","e.g.:","e.g.:","e.g.:","e.g.:","e.g.:","e.g.:","e.g.:"]
[null,"e.g.:","e.g.:","e.g.:","e.g.:","e.g.:","e.g.:","e.g.:","e.g.:","e.g.:","e.g.:","e.g.:","e.g.:"]
[null,"e.g.:","e.g.:","e.g.:","e.g.:","e.g.:","e.g.:","e.g.:","e.g.:","e.g.:","e.g.:","e.g.:","e.g.:"]
[null,{"$f":"IF(D24=\"\",\"\",VLOOKUP($D24,Lists!$AP$2:$AR$78,2,FALSE))","v":""},{"$f":"IF(D24=\"\",\"\",VLOOKUP($D24,Lists!$AP$2:$AR$78,3,FALSE))","v":""},null,null,null,null,null,null,null,{"$f":"IF(J24=\"\",\"\",(VALUE(TEXT(I24,\"m/dd/yy \")&TEXT(J24,\"hh:mm:ss\"))-(VALUE(TEXT(G24,\"m/dd/yy \")&TEXT(H24,\"hh:mm:ss\"))))*24)","v":""}]
[null,{"$f":"IF(D25=\"\",\"\",VLOOKUP($D25,Lists!$AP$2:$AR$78,2,FALSE))","v":""},{"$f":"IF(D25=\"\",\"\",VLOOKUP($D25,Lists!$AP$2:$AR$78,3,FALSE))","v":""},null,null,null,null,null,null,null,{"$f":"IF(J25=\"\",\"\",(VALUE(TEXT(I25,\"m/dd/yy \")&TEXT(J25,\"hh:mm:ss\"))-(VALUE(TEXT(G25,\"m/dd/yy \")&TEXT(H25,\"hh:mm:ss\"))))*24)","v":""}]
[null,{"$f":"IF(D26=\"\",\"\",VLOOKUP($D26,Lists!$AP$2:$AR$78,2,FALSE))","v":""},{"$f":"IF(D26=\"\",\"\",VLOOKUP($D26,Lists!$AP$2:$AR$78,3,FALSE))","v":""},null,null,null,null,null,null,null,""]
[null,{"$f":"IF(D27=\"\",\"\",VLOOKUP($D27,Lists!$AP$2:$AR$78,2,FALSE))","v":""},{"$f":"IF(D27=\"\",\"\",VLOOKUP($D27,Lists!$AP$2:$AR$78,3,FALSE))","v":""},null,null,null,null,null,null,null,""]
[null,{"$f":"IF(D28=\"\",\"\",VLOOKUP($D28,Lists!$AP$2:$AR$78,2,FALSE))","v":""},{"$f":"IF(D28=\"\",\"\",VLOOKUP($D28,Lists!$AP$2:$AR$78,3,FALSE))","v":""},null,null,null,null,null,null,null,""]
[null,{"$f":"IF(D29=\"\",\"\",VLOOKUP($D29,Lists!$AP$2:$AR$78,2,FALSE))","v":""},{"$f":"IF(D29=\"\",\"\",VLOOKUP($D29,Lists!$AP$2:$AR$78,3,FALSE))","v":""},null,null,null,null,null,null,null,""]
[null,{"$f":"IF(D30=\"\",\"\",VLOOKUP($D30,Lists!$AP$2:$AR$78,2,FALSE))","v":""},{"$f":"IF(D30=\"\",\"\",VLOOKUP($D30,Lists!$AP$2:$AR$78,3,FALSE))","v":""},null,null,null,null,null,null,null,""]
[null,{"$f":"IF(D31=\"\",\"\",VLOOKUP($D31,Lists!$AP$2:$AR$78,2,FALSE))","v":""},{"$f":"IF(D31=\"\",\"\",VLOOKUP($D31,Lists!$AP$2:$AR$78,3,FALSE))","v":""},null,null,null,null,null,null,null,""]
[null,{"$f":"IF(D32=\"\",\"\",VLOOKUP($D32,Lists!$AP$2:$AR$78,2,FALSE))","v":""},{"$f":"IF(D32=\"\",\"\",VLOOKUP($D32,Lists!$AP$2:$AR$78,3,FALSE))","v":""},null,null,null,null,null,null,null,""]
[null,{"$f":"IF(D33=\"\",\"\",VLOOKUP($D33,Lists!$AP$2:$AR$78,2,FALSE))","v":""},{"$f":"IF(D33=\"\",\"\",VLOOKUP($D33,Lists!$AP$2:$AR$78,3,FALSE))","v":""},null,null,null,null,null,null,null,""]
[null,{"$f":"IF(D34=\"\",\"\",VLOOKUP($D34,Lists!$AP$2:$AR$78,2,FALSE))","v":""},{"$f":"IF(D34=\"\",\"\",VLOOKUP($D34,Lists!$AP$2:$AR$78,3,FALSE))","v":""},null,null,null,null,null,null,null,""]
[null,{"$f":"IF(D35=\"\",\"\",VLOOKUP($D35,Lists!$AP$2:$AR$78,2,FALSE))","v":""},{"$f":"IF(D35=\"\",\"\",VLOOKUP($D35,Lists!$AP$2:$AR$78,3,FALSE))","v":""},null,null,null,null,null,null,null,""]
[null,{"$f":"IF(D36=\"\",\"\",VLOOKUP($D36,Lists!$AP$2:$AR$78,2,FALSE))","v":""},{"$f":"IF(D36=\"\",\"\",VLOOKUP($D36,Lists!$AP$2:$AR$78,3,FALSE))","v":""},null,null,null,null,null,null,null,""]
[null,{"$f":"IF(D37=\"\",\"\",VLOOKUP($D37,Lists!$AP$2:$AR$78,2,FALSE))","v":""},{"$f":"IF(D37=\"\",\"\",VLOOKUP($D37,Lists!$AP$2:$AR$78,3,FALSE))","v":""},null,null,null,null,null,null,null,""]
[null,{"$f":"IF(D38=\"\",\"\",VLOOKUP($D38,Lists!$AP$2:$AR$78,2,FALSE))","v":""},{"$f":"IF(D38=\"\",\"\",VLOOKUP($D38,Lists!$AP$2:$AR$78,3,FALSE))","v":""},null,null,null,null,null,null,null,""]
[null,{"$f":"IF(D39=\"\",\"\",VLOOKUP($D39,Lists!$AP$2:$AR$78,2,FALSE))","v":""},{"$f":"IF(D39=\"\",\"\",VLOOKUP($D39,Lists!$AP$2:$AR$78,3,FALSE))","v":""},null,null,null,null,null,null,null,""]
[null,{"$f":"IF(D40=\"\",\"\",VLOOKUP($D40,Lists!$AP$2:$AR$78,2,FALSE))","v":""},{"$f":"IF(D40=\"\",\"\",VLOOKUP($D40,Lists!$AP$2:$AR$78,3,FALSE))","v":""},null,null,null,null,null,null,null,""]
[null,{"$f":"IF(D41=\"\",\"\",VLOOKUP($D41,Lists!$AP$2:$AR$78,2,FALSE))","v":""},{"$f":"IF(D41=\"\",\"\",VLOOKUP($D41,Lists!$AP$2:$AR$78,3,FALSE))","v":""},null,null,null,null,null,null,null,""]
[null,{"$f":"IF(D42=\"\",\"\",VLOOKUP($D42,Lists!$AP$2:$AR$78,2,FALSE))","v":""},{"$f":"IF(D42=\"\",\"\",VLOOKUP($D42,Lists!$AP$2:$AR$78,3,FALSE))","v":""},null,null,null,null,null,null,null,""]
[null,{"$f":"IF(D43=\"\",\"\",VLOOKUP($D43,Lists!$AP$2:$AR$78,2,FALSE))","v":""},{"$f":"IF(D43=\"\",\"\",VLOOKUP($D43,Lists!$AP$2:$AR$78,3,FALSE))","v":""},null,null,null,null,null,null,null,""]
[null,{"$f":"IF(D44=\"\",\"\",VLOOKUP($D44,Lists!$AP$2:$AR$78,2,FALSE))","v":""},{"$f":"IF(D44=\"\",\"\",VLOOKUP($D44,Lists!$AP$2:$AR$78,3,FALSE))","v":""},null,null,null,null,null,null,null,""]
[null,{"$f":"IF(D45=\"\",\"\",VLOOKUP($D45,Lists!$AP$2:$AR$78,2,FALSE))","v":""},{"$f":"IF(D45=\"\",\"\",VLOOKUP($D45,Lists!$AP$2:$AR$78,3,FALSE))","v":""},null,null,null,null,null,null,null,""]
[null,{"$f":"IF(D46=\"\",\"\",VLOOKUP($D46,Lists!$AP$2:$AR$78,2,FALSE))","v":""},{"$f":"IF(D46=\"\",\"\",VLOOKUP($D46,Lists!$AP$2:$AR$78,3,FALSE))","v":""},null,null,null,null,null,null,null,""]
[null,{"$f":"IF(D47=\"\",\"\",VLOOKUP($D47,Lists!$AP$2:$AR$78,2,FALSE))","v":""},{"$f":"IF(D47=\"\",\"\",VLOOKUP($D47,Lists!$AP$2:$AR$78,3,FALSE))","v":""},null,null,null,null,null,null,null,""]
[null,{"$f":"IF(D48=\"\",\"\",VLOOKUP($D48,Lists!$AP$2:$AR$78,2,FALSE))","v":""},{"$f":"IF(D48=\"\",\"\",VLOOKUP($D48,Lists!$AP$2:$AR$78,3,FALSE))","v":""},null,null,null,null,null,null,null,""]
[null,{"$f":"IF(D49=\"\",\"\",VLOOKUP($D49,Lists!$AP$2:$AR$78,2,FALSE))","v":""},{"$f":"IF(D49=\"\",\"\",VLOOKUP($D49,Lists!$AP$2:$AR$78,3,FALSE))","v":""},null,null,null,null,null,null,null,""]
[null,{"$f":"IF(D50=\"\",\"\",VLOOKUP($D50,Lists!$AP$2:$AR$78,2,FALSE))","v":""},{"$f":"IF(D50=\"\",\"\",VLOOKUP($D50,Lists!$AP$2:$AR$78,3,FALSE))","v":""},null,null,null,null,null,null,null,""]
[null,{"$f":"IF(D51=\"\",\"\",VLOOKUP($D51,Lists!$AP$2:$AR$78,2,FALSE))","v":""},{"$f":"IF(D51=\"\",\"\",VLOOKUP($D51,Lists!$AP$2:$AR$78,3,FALSE))","v":""},null,null,null,null,null,null,null,""]
[null,{"$f":"IF(D52=\"\",\"\",VLOOKUP($D52,Lists!$AP$2:$AR$78,2,FALSE))","v":""},{"$f":"IF(D52=\"\",\"\",VLOOKUP($D52,Lists!$AP$2:$AR$78,3,FALSE))","v":""},null,null,null,null,null,null,null,""]
[null,{"$f":"IF(D53=\"\",\"\",VLOOKUP($D53,Lists!$AP$2:$AR$78,2,FALSE))","v":""},{"$f":"IF(D53=\"\",\"\",VLOOKUP($D53,Lists!$AP$2:$AR$78,3,FALSE))","v":""},null,null,null,null,null,null,null,""]
[null,{"$f":"IF(D54=\"\",\"\",VLOOKUP($D54,Lists!$AP$2:$AR$78,2,FALSE))","v":""},{"$f":"IF(D54=\"\",\"\",VLOOKUP($D54,Lists!$AP$2:$AR$78,3,FALSE))","v":""},null,null,null,null,null,null,null,""]
[null,{"$f":"IF(D55=\"\",\"\",VLOOKUP($D55,Lists!$AP$2:$AR$78,2,FALSE))","v":""},{"$f":"IF(D55=\"\",\"\",VLOOKUP($D55,Lists!$AP$2:$AR$78,3,FALSE))","v":""},null,null,null,null,null,null,null,""]
[null,{"$f":"IF(D56=\"\",\"\",VLOOKUP($D56,Lists!$AP$2:$AR$78,2,FALSE))","v":""},{"$f":"IF(D56=\"\",\"\",VLOOKUP($D56,Lists!$AP$2:$AR$78,3,FALSE))","v":""},null,null,null,null,null,null,null,""]
[null,{"$f":"IF(D57=\"\",\"\",VLOOKUP($D57,Lists!$AP$2:$AR$78,2,FALSE))","v":""},{"$f":"IF(D57=\"\",\"\",VLOOKUP($D57,Lists!$AP$2:$AR$78,3,FALSE))","v":""},null,null,null,null,null,null,null,""]
[null,{"$f":"IF(D58=\"\",\"\",VLOOKUP($D58,Lists!$AP$2:$AR$78,2,FALSE))","v":""},{"$f":"IF(D58=\"\",\"\",VLOOKUP($D58,Lists!$AP$2:$AR$78,3,FALSE))","v":""},null,null,null,null,null,null,null,""]
[null,{"$f":"IF(D59=\"\",\"\",VLOOKUP($D59,Lists!$AP$2:$AR$78,2,FALSE))","v":""},{"$f":"IF(D59=\"\",\"\",VLOOKUP($D59,Lists!$AP$2:$AR$78,3,FALSE))","v":""},null,null,null,null,null,null,null,""]
[null,{"$f":"IF(D60=\"\",\"\",VLOOKUP($D60,Lists!$AP$2:$AR$78,2,FALSE))","v":""},{"$f":"IF(D60=\"\",\"\",VLOOKUP($D60,Lists!$AP$2:$AR$78,3,FALSE))","v":""},null,null,null,null,null,null,null,""]
[null,{"$f":"IF(D61=\"\",\"\",VLOOKUP($D61,Lists!$AP$2:$AR$78,2,FALSE))","v":""},{"$f":"IF(D61=\"\",\"\",VLOOKUP($D61,Lists!$AP$2:$AR$78,3,FALSE))","v":""},null,null,null,null,null,null,null,""]
[null,{"$f":"IF(D62=\"\",\"\",VLOOKUP($D62,Lists!$AP$2:$AR$78,2,FALSE))","v":""},{"$f":"IF(D62=\"\",\"\",VLOOKUP($D62,Lists!$AP$2:$AR$78,3,FALSE))","v":""},null,null,null,null,null,null,null,""]
[null,{"$f":"IF(D63=\"\",\"\",VLOOKUP($D63,Lists!$AP$2:$AR$78,2,FALSE))","v":""},{"$f":"IF(D63=\"\",\"\",VLOOKUP($D63,Lists!$AP$2:$AR$78,3,FALSE))","v":""},null,null,null,null,null,null,null,""]
[null,{"$f":"IF(D64=\"\",\"\",VLOOKUP($D64,Lists!$AP$2:$AR$78,2,FALSE))","v":""},{"$f":"IF(D64=\"\",\"\",VLOOKUP($D64,Lists!$AP$2:$AR$78,3,FALSE))","v":""},null,null,null,null,null,null,null,""]
[null,{"$f":"IF(D65=\"\",\"\",VLOOKUP($D65,Lists!$AP$2:$AR$78,2,FALSE))","v":""},{"$f":"IF(D65=\"\",\"\",VLOOKUP($D65,Lists!$AP$2:$AR$78,3,FALSE))","v":""},null,null,null,null,null,null,null,""]
[null,{"$f":"IF(D66=\"\",\"\",VLOOKUP($D66,Lists!$AP$2:$AR$78,2,FALSE))","v":""},{"$f":"IF(D66=\"\",\"\",VLOOKUP($D66,Lists!$AP$2:$AR$78,3,FALSE))","v":""},null,null,null,null,null,null,null,""]
[null,{"$f":"IF(D67=\"\",\"\",VLOOKUP($D67,Lists!$AP$2:$AR$78,2,FALSE))","v":""},{"$f":"IF(D67=\"\",\"\",VLOOKUP($D67,Lists!$AP$2:$AR$78,3,FALSE))","v":""},null,null,null,null,null,null,null,""]
[null,{"$f":"IF(D68=\"\",\"\",VLOOKUP($D68,Lists!$AP$2:$AR$78,2,FALSE))","v":""},{"$f":"IF(D68=\"\",\"\",VLOOKUP($D68,Lists!$AP$2:$AR$78,3,FALSE))","v":""},null,null,null,null,null,null,null,""]
[null,{"$f":"IF(D69=\"\",\"\",VLOOKUP($D69,Lists!$AP$2:$AR$78,2,FALSE))","v":""},{"$f":"IF(D69=\"\",\"\",VLOOKUP($D69,Lists!$AP$2:$AR$78,3,FALSE))","v":""},null,null,null,null,null,null,null,""]
[null,{"$f":"IF(D70=\"\",\"\",VLOOKUP($D70,Lists!$AP$2:$AR$78,2,FALSE))","v":""},{"$f":"IF(D70=\"\",\"\",VLOOKUP($D70,Lists!$AP$2:$AR$78,3,FALSE))","v":""},null,null,null,null,null,null,null,""]
[null,{"$f":"IF(D71=\"\",\"\",VLOOKUP($D71,Lists!$AP$2:$AR$78,2,FALSE))","v":""},{"$f":"IF(D71=\"\",\"\",VLOOKUP($D71,Lists!$AP$2:$AR$78,3,FALSE))","v":""},null,null,null,null,null,null,null,""]
[null,{"$f":"IF(D72=\"\",\"\",VLOOKUP($D72,Lists!$AP$2:$AR$78,2,FALSE))","v":""},{"$f":"IF(D72=\"\",\"\",VLOOKUP($D72,Lists!$AP$2:$AR$78,3,FALSE))","v":""},null,null,null,null,null,null,null,""]
[null,{"$f":"IF(D73=\"\",\"\",VLOOKUP($D73,Lists!$AP$2:$AR$78,2,FALSE))","v":""},{"$f":"IF(D73=\"\",\"\",VLOOKUP($D73,Lists!$AP$2:$AR$78,3,FALSE))","v":""},null,null,null,null,null,null,null,""]
[null,{"$f":"IF(D74=\"\",\"\",VLOOKUP($D74,Lists!$AP$2:$AR$78,2,FALSE))","v":""},{"$f":"IF(D74=\"\",\"\",VLOOKUP($D74,Lists!$AP$2:$AR$78,3,FALSE))","v":""},null,null,null,null,null,null,null,""]
[null,{"$f":"IF(D75=\"\",\"\",VLOOKUP($D75,Lists!$AP$2:$AR$78,2,FALSE))","v":""},{"$f":"IF(D75=\"\",\"\",VLOOKUP($D75,Lists!$AP$2:$AR$78,3,FALSE))","v":""},null,null,null,null,null,null,null,""]
[null,{"$f":"IF(D76=\"\",\"\",VLOOKUP($D76,Lists!$AP$2:$AR$78,2,FALSE))","v":""},{"$f":"IF(D76=\"\",\"\",VLOOKUP($D76,Lists!$AP$2:$AR$78,3,FALSE))","v":""},null,null,null,null,null,null,null,""]
[null,{"$f":"IF(D77=\"\",\"\",VLOOKUP($D77,Lists!$AP$2:$AR$78,2,FALSE))","v":""},{"$f":"IF(D77=\"\",\"\",VLOOKUP($D77,Lists!$AP$2:$AR$78,3,FALSE))","v":""},null,null,null,null,null,null,null,""]
[null,{"$f":"IF(D78=\"\",\"\",VLOOKUP($D78,Lists!$AP$2:$AR$78,2,FALSE))","v":""},{"$f":"IF(D78=\"\",\"\",VLOOKUP($D78,Lists!$AP$2:$AR$78,3,FALSE))","v":""},null,null,null,null,null,null,null,""]
[null,{"$f":"IF(D79=\"\",\"\",VLOOKUP($D79,Lists!$AP$2:$AR$78,2,FALSE))","v":""},{"$f":"IF(D79=\"\",\"\",VLOOKUP($D79,Lists!$AP$2:$AR$78,3,FALSE))","v":""},null,null,null,null,null,null,null,""]
[null,{"$f":"IF(D80=\"\",\"\",VLOOKUP($D80,Lists!$AP$2:$AR$78,2,FALSE))","v":""},{"$f":"IF(D80=\"\",\"\",VLOOKUP($D80,Lists!$AP$2:$AR$78,3,FALSE))","v":""},null,null,null,null,null,null,null,""]
[null,{"$f":"IF(D81=\"\",\"\",VLOOKUP($D81,Lists!$AP$2:$AR$78,2,FALSE))","v":""},{"$f":"IF(D81=\"\",\"\",VLOOKUP($D81,Lists!$AP$2:$AR$78,3,FALSE))","v":""},null,null,null,null,null,null,null,""]
[null,{"$f":"IF(D82=\"\",\"\",VLOOKUP($D82,Lists!$AP$2:$AR$78,2,FALSE))","v":""},{"$f":"IF(D82=\"\",\"\",VLOOKUP($D82,Lists!$AP$2:$AR$78,3,FALSE))","v":""},null,null,null,null,null,null,null,""]
[null,{"$f":"IF(D83=\"\",\"\",VLOOKUP($D83,Lists!$AP$2:$AR$78,2,FALSE))","v":""},{"$f":"IF(D83=\"\",\"\",VLOOKUP($D83,Lists!$AP$2:$AR$78,3,FALSE))","v":""},null,null,null,null,null,null,null,""]
[null,{"$f":"IF(D84=\"\",\"\",VLOOKUP($D84,Lists!$AP$2:$AR$78,2,FALSE))","v":""},{"$f":"IF(D84=\"\",\"\",VLOOKUP($D84,Lists!$AP$2:$AR$78,3,FALSE))","v":""},null,null,null,null,null,null,null,""]
[null,{"$f":"IF(D85=\"\",\"\",VLOOKUP($D85,Lists!$AP$2:$AR$78,2,FALSE))","v":""},{"$f":"IF(D85=\"\",\"\",VLOOKUP($D85,Lists!$AP$2:$AR$78,3,FALSE))","v":""},null,null,null,null,null,null,null,""]
[null,{"$f":"IF(D86=\"\",\"\",VLOOKUP($D86,Lists!$AP$2:$AR$78,2,FALSE))","v":""},{"$f":"IF(D86=\"\",\"\",VLOOKUP($D86,Lists!$AP$2:$AR$78,3,FALSE))","v":""},null,null,null,null,null,null,null,""]
[null,{"$f":"IF(D87=\"\",\"\",VLOOKUP($D87,Lists!$AP$2:$AR$78,2,FALSE))","v":""},{"$f":"IF(D87=\"\",\"\",VLOOKUP($D87,Lists!$AP$2:$AR$78,3,FALSE))","v":""},null,null,null,null,null,null,null,""]
[null,{"$f":"IF(D88=\"\",\"\",VLOOKUP($D88,Lists!$AP$2:$AR$78,2,FALSE))","v":""},{"$f":"IF(D88=\"\",\"\",VLOOKUP($D88,Lists!$AP$2:$AR$78,3,FALSE))","v":""},null,null,null,null,null,null,null,""]
[null,{"$f":"IF(D89=\"\",\"\",VLOOKUP($D89,Lists!$AP$2:$AR$78,2,FALSE))","v":""},{"$f":"IF(D89=\"\",\"\",VLOOKUP($D89,Lists!$AP$2:$AR$78,3,FALSE))","v":""},null,null,null,null,null,null,null,{"$f":"IF(J89=\"\",\"\",(VALUE(TEXT(I89,\"m/dd/yy \")&TEXT(J89,\"hh:mm:ss\"))-(VALUE(TEXT(G89,\"m/dd/yy \")&TEXT(H89,\"hh:mm:ss\"))))*24)","v":""}]
[null,{"$f":"IF(D90=\"\",\"\",VLOOKUP($D90,Lists!$AP$2:$AR$78,2,FALSE))","v":""},{"$f":"IF(D90=\"\",\"\",VLOOKUP($D90,Lists!$AP$2:$AR$78,3,FALSE))","v":""},null,null,null,null,null,null,null,""]
[null,{"$f":"IF(D91=\"\",\"\",VLOOKUP($D91,Lists!$AP$2:$AR$78,2,FALSE))","v":""},{"$f":"IF(D91=\"\",\"\",VLOOKUP($D91,Lists!$AP$2:$AR$78,3,FALSE))","v":""},null,null,null,null,null,null,null,""]
[null,{"$f":"IF(D92=\"\",\"\",VLOOKUP($D92,Lists!$AP$2:$AR$78,2,FALSE))","v":""},{"$f":"IF(D92=\"\",\"\",VLOOKUP($D92,Lists!$AP$2:$AR$78,3,FALSE))","v":""},null,null,null,null,null,null,null,""]
[null,{"$f":"IF(D93=\"\",\"\",VLOOKUP($D93,Lists!$AP$2:$AR$78,2,FALSE))","v":""},{"$f":"IF(D93=\"\",\"\",VLOOKUP($D93,Lists!$AP$2:$AR$78,3,FALSE))","v":""},null,null,null,null,null,null,null,""]
[null,{"$f":"IF(D94=\"\",\"\",VLOOKUP($D94,Lists!$AP$2:$AR$78,2,FALSE))","v":""},{"$f":"IF(D94=\"\",\"\",VLOOKUP($D94,Lists!$AP$2:$AR$78,3,FALSE))","v":""},null,null,null,null,null,null,null,""]
[null,{"$f":"IF(D95=\"\",\"\",VLOOKUP($D95,Lists!$AP$2:$AR$78,2,FALSE))","v":""},{"$f":"IF(D95=\"\",\"\",VLOOKUP($D95,Lists!$AP$2:$AR$78,3,FALSE))","v":""},null,null,null,null,null,null,null,""]
[null,{"$f":"IF(D96=\"\",\"\",VLOOKUP($D96,Lists!$AP$2:$AR$78,2,FALSE))","v":""},{"$f":"IF(D96=\"\",\"\",VLOOKUP($D96,Lists!$AP$2:$AR$78,3,FALSE))","v":""},null,null,null,null,null,null,null,""]
[null,{"$f":"IF(D97=\"\",\"\",VLOOKUP($D97,Lists!$AP$2:$AR$78,2,FALSE))","v":""},{"$f":"IF(D97=\"\",\"\",VLOOKUP($D97,Lists!$AP$2:$AR$78,3,FALSE))","v":""},null,null,null,null,null,null,null,""]
[null,{"$f":"IF(D98=\"\",\"\",VLOOKUP($D98,Lists!$AP$2:$AR$78,2,FALSE))","v":""},{"$f":"IF(D98=\"\",\"\",VLOOKUP($D98,Lists!$AP$2:$AR$78,3,FALSE))","v":""},null,null,null,null,null,null,null,""]
[null,{"$f":"IF(D99=\"\",\"\",VLOOKUP($D99,Lists!$AP$2:$AR$78,2,FALSE))","v":""},{"$f":"IF(D99=\"\",\"\",VLOOKUP($D99,Lists!$AP$2:$AR$78,3,FALSE))","v":""},null,null,null,null,null,null,null,""]
[null,{"$f":"IF(D100=\"\",\"\",VLOOKUP($D100,Lists!$AP$2:$AR$78,2,FALSE))","v":""},{"$f":"IF(D100=\"\",\"\",VLOOKUP($D100,Lists!$AP$2:$AR$78,3,FALSE))","v":""},null,null,null,null,null,null,null,""]
[null,{"$f":"IF(D101=\"\",\"\",VLOOKUP($D101,Lists!$AP$2:$AR$78,2,FALSE))","v":""},{"$f":"IF(D101=\"\",\"\",VLOOKUP($D101,Lists!$AP$2:$AR$78,3,FALSE))","v":""},null,null,null,null,null,null,null,""]
[null,{"$f":"IF(D102=\"\",\"\",VLOOKUP($D102,Lists!$AP$2:$AR$78,2,FALSE))","v":""},{"$f":"IF(D102=\"\",\"\",VLOOKUP($D102,Lists!$AP$2:$AR$78,3,FALSE))","v":""},null,null,null,null,null,null,null,""]
[null,{"$f":"IF(D103=\"\",\"\",VLOOKUP($D103,Lists!$AP$2:$AR$78,2,FALSE))","v":""},{"$f":"IF(D103=\"\",\"\",VLOOKUP($D103,Lists!$AP$2:$AR$78,3,FALSE))","v":""},null,null,null,null,null,null,null,""]
[null,{"$f":"IF(D104=\"\",\"\",VLOOKUP($D104,Lists!$AP$2:$AR$78,2,FALSE))","v":""},{"$f":"IF(D104=\"\",\"\",VLOOKUP($D104,Lists!$AP$2:$AR$78,3,FALSE))","v":""},null,null,null,null,null,null,null,""]
[null,{"$f":"IF(D105=\"\",\"\",VLOOKUP($D105,Lists!$AP$2:$AR$78,2,FALSE))","v":""},{"$f":"IF(D105=\"\",\"\",VLOOKUP($D105,Lists!$AP$2:$AR$78,3,FALSE))","v":""},null,null,null,null,null,null,null,""]
[null,{"$f":"IF(D106=\"\",\"\",VLOOKUP($D106,Lists!$AP$2:$AR$78,2,FALSE))","v":""},{"$f":"IF(D106=\"\",\"\",VLOOKUP($D106,Lists!$AP$2:$AR$78,3,FALSE))","v":""},null,null,null,null,null,null,null,""]
[null,{"$f":"IF(D107=\"\",\"\",VLOOKUP($D107,Lists!$AP$2:$AR$78,2,FALSE))","v":""},{"$f":"IF(D107=\"\",\"\",VLOOKUP($D107,Lists!$AP$2:$AR$78,3,FALSE))","v":""},null,null,null,null,null,null,null,""]
[null,{"$f":"IF(D108=\"\",\"\",VLOOKUP($D108,Lists!$AP$2:$AR$78,2,FALSE))","v":""},{"$f":"IF(D108=\"\",\"\",VLOOKUP($D108,Lists!$AP$2:$AR$78,3,FALSE))","v":""},null,null,null,null,null,null,null,""]
[null,{"$f":"IF(D109=\"\",\"\",VLOOKUP($D109,Lists!$AP$2:$AR$78,2,FALSE))","v":""},{"$f":"IF(D109=\"\",\"\",VLOOKUP($D109,Lists!$AP$2:$AR$78,3,FALSE))","v":""},null,null,null,null,null,null,null,""]
[null,{"$f":"IF(D110=\"\",\"\",VLOOKUP($D110,Lists!$AP$2:$AR$78,2,FALSE))","v":""},{"$f":"IF(D110=\"\",\"\",VLOOKUP($D110,Lists!$AP$2:$AR$78,3,FALSE))","v":""},null,null,null,null,null,null,null,""]
[null,{"$f":"IF(D111=\"\",\"\",VLOOKUP($D111,Lists!$AP$2:$AR$78,2,FALSE))","v":""},{"$f":"IF(D111=\"\",\"\",VLOOKUP($D111,Lists!$AP$2:$AR$78,3,FALSE))","v":""},null,null,null,null,null,null,null,""]
[null,{"$f":"IF(D112=\"\",\"\",VLOOKUP($D112,Lists!$AP$2:$AR$78,2,FALSE))","v":""},{"$f":"IF(D112=\"\",\"\",VLOOKUP($D112,Lists!$AP$2:$AR$78,3,FALSE))","v":""},null,null,null,null,null,null,null,""]
[null,{"$f":"IF(D113=\"\",\"\",VLOOKUP($D113,Lists!$AP$2:$AR$78,2,FALSE))","v":""},{"$f":"IF(D113=\"\",\"\",VLOOKUP($D113,Lists!$AP$2:$AR$78,3,FALSE))","v":""},null,null,null,null,null,null,null,""]
[null,{"$f":"IF(D114=\"\",\"\",VLOOKUP($D114,Lists!$AP$2:$AR$78,2,FALSE))","v":""},{"$f":"IF(D114=\"\",\"\",VLOOKUP($D114,Lists!$AP$2:$AR$78,3,FALSE))","v":""},null,null,null,null,null,null,null,""]
[null,{"$f":"IF(D115=\"\",\"\",VLOOKUP($D115,Lists!$AP$2:$AR$78,2,FALSE))","v":""},{"$f":"IF(D115=\"\",\"\",VLOOKUP($D115,Lists!$AP$2:$AR$78,3,FALSE))","v":""},null,null,null,null,null,null,null,""]
[null,{"$f":"IF(D116=\"\",\"\",VLOOKUP($D116,Lists!$AP$2:$AR$78,2,FALSE))","v":""},{"$f":"IF(D116=\"\",\"\",VLOOKUP($D116,Lists!$AP$2:$AR$78,3,FALSE))","v":""},null,null,null,null,null,null,null,""]
[null,{"$f":"IF(D117=\"\",\"\",VLOOKUP($D117,Lists!$AP$2:$AR$78,2,FALSE))","v":""},{"$f":"IF(D117=\"\",\"\",VLOOKUP($D117,Lists!$AP$2:$AR$78,3,FALSE))","v":""},null,null,null,null,null,null,null,""]
[null,{"$f":"IF(D118=\"\",\"\",VLOOKUP($D118,Lists!$AP$2:$AR$78,2,FALSE))","v":""},{"$f":"IF(D118=\"\",\"\",VLOOKUP($D118,Lists!$AP$2:$AR$78,3,FALSE))","v":""},null,null,null,null,null,null,null,""]
[null,{"$f":"IF(D119=\"\",\"\",VLOOKUP($D119,Lists!$AP$2:$AR$78,2,FALSE))","v":""},{"$f":"IF(D119=\"\",\"\",VLOOKUP($D119,Lists!$AP$2:$AR$78,3,FALSE))","v":""},null,null,null,null,null,null,null,""]
[null,{"$f":"IF(D120=\"\",\"\",VLOOKUP($D120,Lists!$AP$2:$AR$78,2,FALSE))","v":""},{"$f":"IF(D120=\"\",\"\",VLOOKUP($D120,Lists!$AP$2:$AR$78,3,FALSE))","v":""},null,null,null,null,null,null,null,""]
[null,{"$f":"IF(D121=\"\",\"\",VLOOKUP($D121,Lists!$AP$2:$AR$78,2,FALSE))","v":""},{"$f":"IF(D121=\"\",\"\",VLOOKUP($D121,Lists!$AP$2:$AR$78,3,FALSE))","v":""},null,null,null,null,null,null,null,""]
[null,{"$f":"IF(D122=\"\",\"\",VLOOKUP($D122,Lists!$AP$2:$AR$78,2,FALSE))","v":""},{"$f":"IF(D122=\"\",\"\",VLOOKUP($D122,Lists!$AP$2:$AR$78,3,FALSE))","v":""},null,null,null,null,null,null,null,""]
[null,{"$f":"IF(D123=\"\",\"\",VLOOKUP($D123,Lists!$AP$2:$AR$78,2,FALSE))","v":""},{"$f":"IF(D123=\"\",\"\",VLOOKUP($D123,Lists!$AP$2:$AR$78,3,FALSE))","v":""},null,null,null,null,null,null,null,""]
[null,{"$f":"IF(D124=\"\",\"\",VLOOKUP($D124,Lists!$AP$2:$AR$78,2,FALSE))","v":""},{"$f":"IF(D124=\"\",\"\",VLOOKUP($D124,Lists!$AP$2:$AR$78,3,FALSE))","v":""},null,null,null,null,null,null,null,""]
[null,{"$f":"IF(D125=\"\",\"\",VLOOKUP($D125,Lists!$AP$2:$AR$78,2,FALSE))","v":""},{"$f":"IF(D125=\"\",\"\",VLOOKUP($D125,Lists!$AP$2:$AR$78,3,FALSE))","v":""},null,null,null,null,null,null,null,""]
[null,{"$f":"IF(D126=\"\",\"\",VLOOKUP($D126,Lists!$AP$2:$AR$78,2,FALSE))","v":""},{"$f":"IF(D126=\"\",\"\",VLOOKUP($D126,Lists!$AP$2:$AR$78,3,FALSE))","v":""},null,null,null,null,null,null,null,""]
[null,{"$f":"IF(D127=\"\",\"\",VLOOKUP($D127,Lists!$AP$2:$AR$78,2,FALSE))","v":""},{"$f":"IF(D127=\"\",\"\",VLOOKUP($D127,Lists!$AP$2:$AR$78,3,FALSE))","v":""},null,null,null,null,null,null,null,""]
[null,{"$f":"IF(D128=\"\",\"\",VLOOKUP($D128,Lists!$AP$2:$AR$78,2,FALSE))","v":""},{"$f":"IF(D128=\"\",\"\",VLOOKUP($D128,Lists!$AP$2:$AR$78,3,FALSE))","v":""},null,null,null,null,null,null,null,""]
[null,{"$f":"IF(D129=\"\",\"\",VLOOKUP($D129,Lists!$AP$2:$AR$78,2,FALSE))","v":""},{"$f":"IF(D129=\"\",\"\",VLOOKUP($D129,Lists!$AP$2:$AR$78,3,FALSE))","v":""},null,null,null,null,null,null,null,""]
[null,{"$f":"IF(D130=\"\",\"\",VLOOKUP($D130,Lists!$AP$2:$AR$78,2,FALSE))","v":""},{"$f":"IF(D130=\"\",\"\",VLOOKUP($D130,Lists!$AP$2:$AR$78,3,FALSE))","v":""},null,null,null,null,null,null,null,""]
[null,{"$f":"IF(D131=\"\",\"\",VLOOKUP($D131,Lists!$AP$2:$AR$78,2,FALSE))","v":""},{"$f":"IF(D131=\"\",\"\",VLOOKUP($D131,Lists!$AP$2:$AR$78,3,FALSE))","v":""},null,null,null,null,null,null,null,""]
[null,{"$f":"IF(D132=\"\",\"\",VLOOKUP($D132,Lists!$AP$2:$AR$78,2,FALSE))","v":""},{"$f":"IF(D132=\"\",\"\",VLOOKUP($D132,Lists!$AP$2:$AR$78,3,FALSE))","v":""},null,null,null,null,null,null,null,""]
[null,{"$f":"IF(D133=\"\",\"\",VLOOKUP($D133,Lists!$AP$2:$AR$78,2,FALSE))","v":""},{"$f":"IF(D133=\"\",\"\",VLOOKUP($D133,Lists!$AP$2:$AR$78,3,FALSE))","v":""},null,null,null,null,null,null,null,""]
[null,{"$f":"IF(D134=\"\",\"\",VLOOKUP($D134,Lists!$AP$2:$AR$78,2,FALSE))","v":""},{"$f":"IF(D134=\"\",\"\",VLOOKUP($D134,Lists!$AP$2:$AR$78,3,FALSE))","v":""},null,null,null,null,null,null,null,""]
[null,{"$f":"IF(D135=\"\",\"\",VLOOKUP($D135,Lists!$AP$2:$AR$78,2,FALSE))","v":""},{"$f":"IF(D135=\"\",\"\",VLOOKUP($D135,Lists!$AP$2:$AR$78,3,FALSE))","v":""},null,null,null,null,null,null,null,""]
[null,{"$f":"IF(D136=\"\",\"\",VLOOKUP($D136,Lists!$AP$2:$AR$78,2,FALSE))","v":""},{"$f":"IF(D136=\"\",\"\",VLOOKUP($D136,Lists!$AP$2:$AR$78,3,FALSE))","v":""},null,null,null,null,null,null,null,""]
[null,{"$f":"IF(D137=\"\",\"\",VLOOKUP($D137,Lists!$AP$2:$AR$78,2,FALSE))","v":""},{"$f":"IF(D137=\"\",\"\",VLOOKUP($D137,Lists!$AP$2:$AR$78,3,FALSE))","v":""},null,null,null,null,null,null,null,""]
[null,{"$f":"IF(D138=\"\",\"\",VLOOKUP($D138,Lists!$AP$2:$AR$78,2,FALSE))","v":""},{"$f":"IF(D138=\"\",\"\",VLOOKUP($D138,Lists!$AP$2:$AR$78,3,FALSE))","v":""},null,null,null,null,null,null,null,""]
[null,{"$f":"IF(D139=\"\",\"\",VLOOKUP($D139,Lists!$AP$2:$AR$78,2,FALSE))","v":""},{"$f":"IF(D139=\"\",\"\",VLOOKUP($D139,Lists!$AP$2:$AR$78,3,FALSE))","v":""},null,null,null,null,null,null,null,""]
[null,{"$f":"IF(D140=\"\",\"\",VLOOKUP($D140,Lists!$AP$2:$AR$78,2,FALSE))","v":""},{"$f":"IF(D140=\"\",\"\",VLOOKUP($D140,Lists!$AP$2:$AR$78,3,FALSE))","v":""},null,null,null,null,null,null,null,""]
[null,{"$f":"IF(D141=\"\",\"\",VLOOKUP($D141,Lists!$AP$2:$AR$78,2,FALSE))","v":""},{"$f":"IF(D141=\"\",\"\",VLOOKUP($D141,Lists!$AP$2:$AR$78,3,FALSE))","v":""},null,null,null,null,null,null,null,""]
[null,{"$f":"IF(D142=\"\",\"\",VLOOKUP($D142,Lists!$AP$2:$AR$78,2,FALSE))","v":""},{"$f":"IF(D142=\"\",\"\",VLOOKUP($D142,Lists!$AP$2:$AR$78,3,FALSE))","v":""},null,null,null,null,null,null,null,""]
[null,{"$f":"IF(D143=\"\",\"\",VLOOKUP($D143,Lists!$AP$2:$AR$78,2,FALSE))","v":""},{"$f":"IF(D143=\"\",\"\",VLOOKUP($D143,Lists!$AP$2:$AR$78,3,FALSE))","v":""},null,null,null,null,null,null,null,""]
[null,{"$f":"IF(D144=\"\",\"\",VLOOKUP($D144,Lists!$AP$2:$AR$78,2,FALSE))","v":""},{"$f":"IF(D144=\"\",\"\",VLOOKUP($D144,Lists!$AP$2:$AR$78,3,FALSE))","v":""},null,null,null,null,null,null,null,""]
[null,{"$f":"IF(D145=\"\",\"\",VLOOKUP($D145,Lists!$AP$2:$AR$78,2,FALSE))","v":""},{"$f":"IF(D145=\"\",\"\",VLOOKUP($D145,Lists!$AP$2:$AR$78,3,FALSE))","v":""},null,null,null,null,null,null,null,""]
[null,{"$f":"IF(D146=\"\",\"\",VLOOKUP($D146,Lists!$AP$2:$AR$78,2,FALSE))","v":""},{"$f":"IF(D146=\"\",\"\",VLOOKUP($D146,Lists!$AP$2:$AR$78,3,FALSE))","v":""},null,null,null,null,null,null,null,""]
[null,{"$f":"IF(D147=\"\",\"\",VLOOKUP($D147,Lists!$AP$2:$AR$78,2,FALSE))","v":""},{"$f":"IF(D147=\"\",\"\",VLOOKUP($D147,Lists!$AP$2:$AR$78,3,FALSE))","v":""},null,null,null,null,null,null,null,""]
[null,{"$f":"IF(D148=\"\",\"\",VLOOKUP($D148,Lists!$AP$2:$AR$78,2,FALSE))","v":""},{"$f":"IF(D148=\"\",\"\",VLOOKUP($D148,Lists!$AP$2:$AR$78,3,FALSE))","v":""},null,null,null,null,null,null,null,""]
[null,{"$f":"IF(D149=\"\",\"\",VLOOKUP($D149,Lists!$AP$2:$AR$78,2,FALSE))","v":""},{"$f":"IF(D149=\"\",\"\",VLOOKUP($D149,Lists!$AP$2:$AR$78,3,FALSE))","v":""},null,null,null,null,null,null,null,""]
[null,{"$f":"IF(D150=\"\",\"\",VLOOKUP($D150,Lists!$AP$2:$AR$78,2,FALSE))","v":""},{"$f":"IF(D150=\"\",\"\",VLOOKUP($D150,Lists!$AP$2:$AR$78,3,FALSE))","v":""},null,null,null,null,null,null,null,""]
[null,{"$f":"IF(D151=\"\",\"\",VLOOKUP($D151,Lists!$AP$2:$AR$78,2,FALSE))","v":""},{"$f":"IF(D151=\"\",\"\",VLOOKUP($D151,Lists!$AP$2:$AR$78,3,FALSE))","v":""},null,null,null,null,null,null,null,""]
[null,{"$f":"IF(D152=\"\",\"\",VLOOKUP($D152,Lists!$AP$2:$AR$78,2,FALSE))","v":""},{"$f":"IF(D152=\"\",\"\",VLOOKUP($D152,Lists!$AP$2:$AR$78,3,FALSE))","v":""},null,null,null,null,null,null,null,""]
[null,{"$f":"IF(D153=\"\",\"\",VLOOKUP($D153,Lists!$AP$2:$AR$78,2,FALSE))","v":""},{"$f":"IF(D153=\"\",\"\",VLOOKUP($D153,Lists!$AP$2:$AR$78,3,FALSE))","v":""},null,null,null,null,null,null,null,{"$f":"IF(J153=\"\",\"\",(VALUE(TEXT(I153,\"m/dd/yy \")&TEXT(J153,\"hh:mm:ss\"))-(VALUE(TEXT(G153,\"m/dd/yy \")&TEXT(H153,\"hh:mm:ss\"))))*24)","v":""}]
[null,{"$f":"IF(D154=\"\",\"\",VLOOKUP($D154,Lists!$AP$2:$AR$78,2,FALSE))","v":""},{"$f":"IF(D154=\"\",\"\",VLOOKUP($D154,Lists!$AP$2:$AR$78,3,FALSE))","v":""},null,null,null,null,null,null,null,""]
[null,{"$f":"IF(D155=\"\",\"\",VLOOKUP($D155,Lists!$AP$2:$AR$78,2,FALSE))","v":""},{"$f":"IF(D155=\"\",\"\",VLOOKUP($D155,Lists!$AP$2:$AR$78,3,FALSE))","v":""},null,null,null,null,null,null,null,""]
[null,{"$f":"IF(D156=\"\",\"\",VLOOKUP($D156,Lists!$AP$2:$AR$78,2,FALSE))","v":""},{"$f":"IF(D156=\"\",\"\",VLOOKUP($D156,Lists!$AP$2:$AR$78,3,FALSE))","v":""},null,null,null,null,null,null,null,""]
[null,{"$f":"IF(D157=\"\",\"\",VLOOKUP($D157,Lists!$AP$2:$AR$78,2,FALSE))","v":""},{"$f":"IF(D157=\"\",\"\",VLOOKUP($D157,Lists!$AP$2:$AR$78,3,FALSE))","v":""},null,null,null,null,null,null,null,""]
[null,{"$f":"IF(D158=\"\",\"\",VLOOKUP($D158,Lists!$AP$2:$AR$78,2,FALSE))","v":""},{"$f":"IF(D158=\"\",\"\",VLOOKUP($D158,Lists!$AP$2:$AR$78,3,FALSE))","v":""},null,null,null,null,null,null,null,""]
[null,{"$f":"IF(D159=\"\",\"\",VLOOKUP($D159,Lists!$AP$2:$AR$78,2,FALSE))","v":""},{"$f":"IF(D159=\"\",\"\",VLOOKUP($D159,Lists!$AP$2:$AR$78,3,FALSE))","v":""},null,null,null,null,null,null,null,""]
[null,{"$f":"IF(D160=\"\",\"\",VLOOKUP($D160,Lists!$AP$2:$AR$78,2,FALSE))","v":""},{"$f":"IF(D160=\"\",\"\",VLOOKUP($D160,Lists!$AP$2:$AR$78,3,FALSE))","v":""},null,null,null,null,null,null,null,""]
[null,{"$f":"IF(D161=\"\",\"\",VLOOKUP($D161,Lists!$AP$2:$AR$78,2,FALSE))","v":""},{"$f":"IF(D161=\"\",\"\",VLOOKUP($D161,Lists!$AP$2:$AR$78,3,FALSE))","v":""},null,null,null,null,null,null,null,""]
[null,{"$f":"IF(D162=\"\",\"\",VLOOKUP($D162,Lists!$AP$2:$AR$78,2,FALSE))","v":""},{"$f":"IF(D162=\"\",\"\",VLOOKUP($D162,Lists!$AP$2:$AR$78,3,FALSE))","v":""},null,null,null,null,null,null,null,""]
[null,{"$f":"IF(D163=\"\",\"\",VLOOKUP($D163,Lists!$AP$2:$AR$78,2,FALSE))","v":""},{"$f":"IF(D163=\"\",\"\",VLOOKUP($D163,Lists!$AP$2:$AR$78,3,FALSE))","v":""},null,null,null,null,null,null,null,""]
[null,{"$f":"IF(D164=\"\",\"\",VLOOKUP($D164,Lists!$AP$2:$AR$78,2,FALSE))","v":""},{"$f":"IF(D164=\"\",\"\",VLOOKUP($D164,Lists!$AP$2:$AR$78,3,FALSE))","v":""},null,null,null,null,null,null,null,""]
[null,{"$f":"IF(D165=\"\",\"\",VLOOKUP($D165,Lists!$AP$2:$AR$78,2,FALSE))","v":""},{"$f":"IF(D165=\"\",\"\",VLOOKUP($D165,Lists!$AP$2:$AR$78,3,FALSE))","v":""},null,null,null,null,null,null,null,""]
[null,{"$f":"IF(D166=\"\",\"\",VLOOKUP($D166,Lists!$AP$2:$AR$78,2,FALSE))","v":""},{"$f":"IF(D166=\"\",\"\",VLOOKUP($D166,Lists!$AP$2:$AR$78,3,FALSE))","v":""},null,null,null,null,null,null,null,""]
[null,{"$f":"IF(D167=\"\",\"\",VLOOKUP($D167,Lists!$AP$2:$AR$78,2,FALSE))","v":""},{"$f":"IF(D167=\"\",\"\",VLOOKUP($D167,Lists!$AP$2:$AR$78,3,FALSE))","v":""},null,null,null,null,null,null,null,""]
[null,{"$f":"IF(D168=\"\",\"\",VLOOKUP($D168,Lists!$AP$2:$AR$78,2,FALSE))","v":""},{"$f":"IF(D168=\"\",\"\",VLOOKUP($D168,Lists!$AP$2:$AR$78,3,FALSE))","v":""},null,null,null,null,null,null,null,""]
[null,{"$f":"IF(D169=\"\",\"\",VLOOKUP($D169,Lists!$AP$2:$AR$78,2,FALSE))","v":""},{"$f":"IF(D169=\"\",\"\",VLOOKUP($D169,Lists!$AP$2:$AR$78,3,FALSE))","v":""},null,null,null,null,null,null,null,""]
[null,{"$f":"IF(D170=\"\",\"\",VLOOKUP($D170,Lists!$AP$2:$AR$78,2,FALSE))","v":""},{"$f":"IF(D170=\"\",\"\",VLOOKUP($D170,Lists!$AP$2:$AR$78,3,FALSE))","v":""},null,null,null,null,null,null,null,""]
[null,{"$f":"IF(D171=\"\",\"\",VLOOKUP($D171,Lists!$AP$2:$AR$78,2,FALSE))","v":""},{"$f":"IF(D171=\"\",\"\",VLOOKUP($D171,Lists!$AP$2:$AR$78,3,FALSE))","v":""},null,null,null,null,null,null,null,""]
[null,{"$f":"IF(D172=\"\",\"\",VLOOKUP($D172,Lists!$AP$2:$AR$78,2,FALSE))","v":""},{"$f":"IF(D172=\"\",\"\",VLOOKUP($D172,Lists!$AP$2:$AR$78,3,FALSE))","v":""},null,null,null,null,null,null,null,""]
[null,{"$f":"IF(D173=\"\",\"\",VLOOKUP($D173,Lists!$AP$2:$AR$78,2,FALSE))","v":""},{"$f":"IF(D173=\"\",\"\",VLOOKUP($D173,Lists!$AP$2:$AR$78,3,FALSE))","v":""},null,null,null,null,null,null,null,""]
[null,{"$f":"IF(D174=\"\",\"\",VLOOKUP($D174,Lists!$AP$2:$AR$78,2,FALSE))","v":""},{"$f":"IF(D174=\"\",\"\",VLOOKUP($D174,Lists!$AP$2:$AR$78,3,FALSE))","v":""},null,null,null,null,null,null,null,""]
[null,{"$f":"IF(D175=\"\",\"\",VLOOKUP($D175,Lists!$AP$2:$AR$78,2,FALSE))","v":""},{"$f":"IF(D175=\"\",\"\",VLOOKUP($D175,Lists!$AP$2:$AR$78,3,FALSE))","v":""},null,null,null,null,null,null,null,""]
[null,{"$f":"IF(D176=\"\",\"\",VLOOKUP($D176,Lists!$AP$2:$AR$78,2,FALSE))","v":""},{"$f":"IF(D176=\"\",\"\",VLOOKUP($D176,Lists!$AP$2:$AR$78,3,FALSE))","v":""},null,null,null,null,null,null,null,""]
[null,{"$f":"IF(D177=\"\",\"\",VLOOKUP($D177,Lists!$AP$2:$AR$78,2,FALSE))","v":""},{"$f":"IF(D177=\"\",\"\",VLOOKUP($D177,Lists!$AP$2:$AR$78,3,FALSE))","v":""},null,null,null,null,null,null,null,""]
[null,{"$f":"IF(D178=\"\",\"\",VLOOKUP($D178,Lists!$AP$2:$AR$78,2,FALSE))","v":""},{"$f":"IF(D178=\"\",\"\",VLOOKUP($D178,Lists!$AP$2:$AR$78,3,FALSE))","v":""},null,null,null,null,null,null,null,""]
[null,{"$f":"IF(D179=\"\",\"\",VLOOKUP($D179,Lists!$AP$2:$AR$78,2,FALSE))","v":""},{"$f":"IF(D179=\"\",\"\",VLOOKUP($D179,Lists!$AP$2:$AR$78,3,FALSE))","v":""},null,null,null,null,null,null,null,""]
[null,{"$f":"IF(D180=\"\",\"\",VLOOKUP($D180,Lists!$AP$2:$AR$78,2,FALSE))","v":""},{"$f":"IF(D180=\"\",\"\",VLOOKUP($D180,Lists!$AP$2:$AR$78,3,FALSE))","v":""},null,null,null,null,null,null,null,""]
[null,{"$f":"IF(D181=\"\",\"\",VLOOKUP($D181,Lists!$AP$2:$AR$78,2,FALSE))","v":""},{"$f":"IF(D181=\"\",\"\",VLOOKUP($D181,Lists!$AP$2:$AR$78,3,FALSE))","v":""},null,null,null,null,null,null,null,""]
[null,{"$f":"IF(D182=\"\",\"\",VLOOKUP($D182,Lists!$AP$2:$AR$78,2,FALSE))","v":""},{"$f":"IF(D182=\"\",\"\",VLOOKUP($D182,Lists!$AP$2:$AR$78,3,FALSE))","v":""},null,null,null,null,null,null,null,""]
[null,{"$f":"IF(D183=\"\",\"\",VLOOKUP($D183,Lists!$AP$2:$AR$78,2,FALSE))","v":""},{"$f":"IF(D183=\"\",\"\",VLOOKUP($D183,Lists!$AP$2:$AR$78,3,FALSE))","v":""},null,null,null,null,null,null,null,""]
[null,{"$f":"IF(D184=\"\",\"\",VLOOKUP($D184,Lists!$AP$2:$AR$78,2,FALSE))","v":""},{"$f":"IF(D184=\"\",\"\",VLOOKUP($D184,Lists!$AP$2:$AR$78,3,FALSE))","v":""},null,null,null,null,null,null,null,""]
[null,{"$f":"IF(D185=\"\",\"\",VLOOKUP($D185,Lists!$AP$2:$AR$78,2,FALSE))","v":""},{"$f":"IF(D185=\"\",\"\",VLOOKUP($D185,Lists!$AP$2:$AR$78,3,FALSE))","v":""},null,null,null,null,null,null,null,""]
[null,{"$f":"IF(D186=\"\",\"\",VLOOKUP($D186,Lists!$AP$2:$AR$78,2,FALSE))","v":""},{"$f":"IF(D186=\"\",\"\",VLOOKUP($D186,Lists!$AP$2:$AR$78,3,FALSE))","v":""},null,null,null,null,null,null,null,""]
[null,{"$f":"IF(D187=\"\",\"\",VLOOKUP($D187,Lists!$AP$2:$AR$78,2,FALSE))","v":""},{"$f":"IF(D187=\"\",\"\",VLOOKUP($D187,Lists!$AP$2:$AR$78,3,FALSE))","v":""},null,null,null,null,null,null,null,""]
[null,{"$f":"IF(D188=\"\",\"\",VLOOKUP($D188,Lists!$AP$2:$AR$78,2,FALSE))","v":""},{"$f":"IF(D188=\"\",\"\",VLOOKUP($D188,Lists!$AP$2:$AR$78,3,FALSE))","v":""},null,null,null,null,null,null,null,""]
[null,{"$f":"IF(D189=\"\",\"\",VLOOKUP($D189,Lists!$AP$2:$AR$78,2,FALSE))","v":""},{"$f":"IF(D189=\"\",\"\",VLOOKUP($D189,Lists!$AP$2:$AR$78,3,FALSE))","v":""},null,null,null,null,null,null,null,""]
[null,{"$f":"IF(D190=\"\",\"\",VLOOKUP($D190,Lists!$AP$2:$AR$78,2,FALSE))","v":""},{"$f":"IF(D190=\"\",\"\",VLOOKUP($D190,Lists!$AP$2:$AR$78,3,FALSE))","v":""},null,null,null,null,null,null,null,""]
[null,{"$f":"IF(D191=\"\",\"\",VLOOKUP($D191,Lists!$AP$2:$AR$78,2,FALSE))","v":""},{"$f":"IF(D191=\"\",\"\",VLOOKUP($D191,Lists!$AP$2:$AR$78,3,FALSE))","v":""},null,null,null,null,null,null,null,""]
[null,{"$f":"IF(D192=\"\",\"\",VLOOKUP($D192,Lists!$AP$2:$AR$78,2,FALSE))","v":""},{"$f":"IF(D192=\"\",\"\",VLOOKUP($D192,Lists!$AP$2:$AR$78,3,FALSE))","v":""},null,null,null,null,null,null,null,""]
[null,{"$f":"IF(D193=\"\",\"\",VLOOKUP($D193,Lists!$AP$2:$AR$78,2,FALSE))","v":""},{"$f":"IF(D193=\"\",\"\",VLOOKUP($D193,Lists!$AP$2:$AR$78,3,FALSE))","v":""},null,null,null,null,null,null,null,""]
[null,{"$f":"IF(D194=\"\",\"\",VLOOKUP($D194,Lists!$AP$2:$AR$78,2,FALSE))","v":""},{"$f":"IF(D194=\"\",\"\",VLOOKUP($D194,Lists!$AP$2:$AR$78,3,FALSE))","v":""},null,null,null,null,null,null,null,""]
[null,{"$f":"IF(D195=\"\",\"\",VLOOKUP($D195,Lists!$AP$2:$AR$78,2,FALSE))","v":""},{"$f":"IF(D195=\"\",\"\",VLOOKUP($D195,Lists!$AP$2:$AR$78,3,FALSE))","v":""},null,null,null,null,null,null,null,""]
[null,{"$f":"IF(D196=\"\",\"\",VLOOKUP($D196,Lists!$AP$2:$AR$78,2,FALSE))","v":""},{"$f":"IF(D196=\"\",\"\",VLOOKUP($D196,Lists!$AP$2:$AR$78,3,FALSE))","v":""},null,null,null,null,null,null,null,""]
[null,{"$f":"IF(D197=\"\",\"\",VLOOKUP($D197,Lists!$AP$2:$AR$78,2,FALSE))","v":""},{"$f":"IF(D197=\"\",\"\",VLOOKUP($D197,Lists!$AP$2:$AR$78,3,FALSE))","v":""},null,null,null,null,null,null,null,""]
[null,{"$f":"IF(D198=\"\",\"\",VLOOKUP($D198,Lists!$AP$2:$AR$78,2,FALSE))","v":""},{"$f":"IF(D198=\"\",\"\",VLOOKUP($D198,Lists!$AP$2:$AR$78,3,FALSE))","v":""},null,null,null,null,null,null,null,""]
[null,{"$f":"IF(D199=\"\",\"\",VLOOKUP($D199,Lists!$AP$2:$AR$78,2,FALSE))","v":""},{"$f":"IF(D199=\"\",\"\",VLOOKUP($D199,Lists!$AP$2:$AR$78,3,FALSE))","v":""},null,null,null,null,null,null,null,""]
[null,{"$f":"IF(D200=\"\",\"\",VLOOKUP($D200,Lists!$AP$2:$AR$78,2,FALSE))","v":""},{"$f":"IF(D200=\"\",\"\",VLOOKUP($D200,Lists!$AP$2:$AR$78,3,FALSE))","v":""},null,null,null,null,null,null,null,""]
[null,{"$f":"IF(D201=\"\",\"\",VLOOKUP($D201,Lists!$AP$2:$AR$78,2,FALSE))","v":""},{"$f":"IF(D201=\"\",\"\",VLOOKUP($D201,Lists!$AP$2:$AR$78,3,FALSE))","v":""},null,null,null,null,null,null,null,""]
[null,{"$f":"IF(D202=\"\",\"\",VLOOKUP($D202,Lists!$AP$2:$AR$78,2,FALSE))","v":""},{"$f":"IF(D202=\"\",\"\",VLOOKUP($D202,Lists!$AP$2:$AR$78,3,FALSE))","v":""},null,null,null,null,null,null,null,""]
[null,{"$f":"IF(D203=\"\",\"\",VLOOKUP($D203,Lists!$AP$2:$AR$78,2,FALSE))","v":""},{"$f":"IF(D203=\"\",\"\",VLOOKUP($D203,Lists!$AP$2:$AR$78,3,FALSE))","v":""},null,null,null,null,null,null,null,""]
[null,{"$f":"IF(D204=\"\",\"\",VLOOKUP($D204,Lists!$AP$2:$AR$78,2,FALSE))","v":""},{"$f":"IF(D204=\"\",\"\",VLOOKUP($D204,Lists!$AP$2:$AR$78,3,FALSE))","v":""},null,null,null,null,null,null,null,""]
[null,{"$f":"IF(D205=\"\",\"\",VLOOKUP($D205,Lists!$AP$2:$AR$78,2,FALSE))","v":""},{"$f":"IF(D205=\"\",\"\",VLOOKUP($D205,Lists!$AP$2:$AR$78,3,FALSE))","v":""},null,null,null,null,null,null,null,""]
[null,{"$f":"IF(D206=\"\",\"\",VLOOKUP($D206,Lists!$AP$2:$AR$78,2,FALSE))","v":""},{"$f":"IF(D206=\"\",\"\",VLOOKUP($D206,Lists!$AP$2:$AR$78,3,FALSE))","v":""},null,null,null,null,null,null,null,""]
[null,{"$f":"IF(D207=\"\",\"\",VLOOKUP($D207,Lists!$AP$2:$AR$78,2,FALSE))","v":""},{"$f":"IF(D207=\"\",\"\",VLOOKUP($D207,Lists!$AP$2:$AR$78,3,FALSE))","v":""},null,null,null,null,null,null,null,""]
[null,{"$f":"IF(D208=\"\",\"\",VLOOKUP($D208,Lists!$AP$2:$AR$78,2,FALSE))","v":""},{"$f":"IF(D208=\"\",\"\",VLOOKUP($D208,Lists!$AP$2:$AR$78,3,FALSE))","v":""},null,null,null,null,null,null,null,""]
[null,{"$f":"IF(D209=\"\",\"\",VLOOKUP($D209,Lists!$AP$2:$AR$78,2,FALSE))","v":""},{"$f":"IF(D209=\"\",\"\",VLOOKUP($D209,Lists!$AP$2:$AR$78,3,FALSE))","v":""},null,null,null,null,null,null,null,""]
[null,{"$f":"IF(D210=\"\",\"\",VLOOKUP($D210,Lists!$AP$2:$AR$78,2,FALSE))","v":""},{"$f":"IF(D210=\"\",\"\",VLOOKUP($D210,Lists!$AP$2:$AR$78,3,FALSE))","v":""},null,null,null,null,null,null,null,""]
[null,{"$f":"IF(D211=\"\",\"\",VLOOKUP($D211,Lists!$AP$2:$AR$78,2,FALSE))","v":""},{"$f":"IF(D211=\"\",\"\",VLOOKUP($D211,Lists!$AP$2:$AR$78,3,FALSE))","v":""},null,null,null,null,null,null,null,""]
[null,{"$f":"IF(D212=\"\",\"\",VLOOKUP($D212,Lists!$AP$2:$AR$78,2,FALSE))","v":""},{"$f":"IF(D212=\"\",\"\",VLOOKUP($D212,Lists!$AP$2:$AR$78,3,FALSE))","v":""},null,null,null,null,null,null,null,""]
[null,{"$f":"IF(D213=\"\",\"\",VLOOKUP($D213,Lists!$AP$2:$AR$78,2,FALSE))","v":""},{"$f":"IF(D213=\"\",\"\",VLOOKUP($D213,Lists!$AP$2:$AR$78,3,FALSE))","v":""},null,null,null,null,null,null,null,""]
[null,{"$f":"IF(D214=\"\",\"\",VLOOKUP($D214,Lists!$AP$2:$AR$78,2,FALSE))","v":""},{"$f":"IF(D214=\"\",\"\",VLOOKUP($D214,Lists!$AP$2:$AR$78,3,FALSE))","v":""},null,null,null,null,null,null,null,""]
[null,{"$f":"IF(D215=\"\",\"\",VLOOKUP($D215,Lists!$AP$2:$AR$78,2,FALSE))","v":""},{"$f":"IF(D215=\"\",\"\",VLOOKUP($D215,Lists!$AP$2:$AR$78,3,FALSE))","v":""},null,null,null,null,null,null,null,""]
[null,{"$f":"IF(D216=\"\",\"\",VLOOKUP($D216,Lists!$AP$2:$AR$78,2,FALSE))","v":""},{"$f":"IF(D216=\"\",\"\",VLOOKUP($D216,Lists!$AP$2:$AR$78,3,FALSE))","v":""},null,null,null,null,null,null,null,""]
[null,{"$f":"IF(D217=\"\",\"\",VLOOKUP($D217,Lists!$AP$2:$AR$78,2,FALSE))","v":""},{"$f":"IF(D217=\"\",\"\",VLOOKUP($D217,Lists!$AP$2:$AR$78,3,FALSE))","v":""},null,null,null,null,null,null,null,{"$f":"IF(J217=\"\",\"\",(VALUE(TEXT(I217,\"m/dd/yy \")&TEXT(J217,\"hh:mm:ss\"))-(VALUE(TEXT(G217,\"m/dd/yy \")&TEXT(H217,\"hh:mm:ss\"))))*24)","v":""}]
[null,{"$f":"IF(D218=\"\",\"\",VLOOKUP($D218,Lists!$AP$2:$AR$78,2,FALSE))","v":""},{"$f":"IF(D218=\"\",\"\",VLOOKUP($D218,Lists!$AP$2:$AR$78,3,FALSE))","v":""},null,null,null,null,null,null,null,""]
[null,{"$f":"IF(D219=\"\",\"\",VLOOKUP($D219,Lists!$AP$2:$AR$78,2,FALSE))","v":""},{"$f":"IF(D219=\"\",\"\",VLOOKUP($D219,Lists!$AP$2:$AR$78,3,FALSE))","v":""},null,null,null,null,null,null,null,""]
[null,{"$f":"IF(D220=\"\",\"\",VLOOKUP($D220,Lists!$AP$2:$AR$78,2,FALSE))","v":""},{"$f":"IF(D220=\"\",\"\",VLOOKUP($D220,Lists!$AP$2:$AR$78,3,FALSE))","v":""},null,null,null,null,null,null,null,""]
[null,{"$f":"IF(D221=\"\",\"\",VLOOKUP($D221,Lists!$AP$2:$AR$78,2,FALSE))","v":""},{"$f":"IF(D221=\"\",\"\",VLOOKUP($D221,Lists!$AP$2:$AR$78,3,FALSE))","v":""},null,null,null,null,null,null,null,""]
[null,{"$f":"IF(D222=\"\",\"\",VLOOKUP($D222,Lists!$AP$2:$AR$78,2,FALSE))","v":""},{"$f":"IF(D222=\"\",\"\",VLOOKUP($D222,Lists!$AP$2:$AR$78,3,FALSE))","v":""},null,null,null,null,null,null,null,""]
[null,{"$f":"IF(D223=\"\",\"\",VLOOKUP($D223,Lists!$AP$2:$AR$78,2,FALSE))","v":""},{"$f":"IF(D223=\"\",\"\",VLOOKUP($D223,Lists!$AP$2:$AR$78,3,FALSE))","v":""},null,null,null,null,null,null,null,""]
[null,{"$f":"IF(D224=\"\",\"\",VLOOKUP($D224,Lists!$AP$2:$AR$78,2,FALSE))","v":""},{"$f":"IF(D224=\"\",\"\",VLOOKUP($D224,Lists!$AP$2:$AR$78,3,FALSE))","v":""},null,null,null,null,null,null,null,""]
[null,{"$f":"IF(D225=\"\",\"\",VLOOKUP($D225,Lists!$AP$2:$AR$78,2,FALSE))","v":""},{"$f":"IF(D225=\"\",\"\",VLOOKUP($D225,Lists!$AP$2:$AR$78,3,FALSE))","v":""},null,null,null,null,null,null,null,""]
[null,{"$f":"IF(D226=\"\",\"\",VLOOKUP($D226,Lists!$AP$2:$AR$78,2,FALSE))","v":""},{"$f":"IF(D226=\"\",\"\",VLOOKUP($D226,Lists!$AP$2:$AR$78,3,FALSE))","v":""},null,null,null,null,null,null,null,""]
[null,{"$f":"IF(D227=\"\",\"\",VLOOKUP($D227,Lists!$AP$2:$AR$78,2,FALSE))","v":""},{"$f":"IF(D227=\"\",\"\",VLOOKUP($D227,Lists!$AP$2:$AR$78,3,FALSE))","v":""},null,null,null,null,null,null,null,""]
[null,{"$f":"IF(D228=\"\",\"\",VLOOKUP($D228,Lists!$AP$2:$AR$78,2,FALSE))","v":""},{"$f":"IF(D228=\"\",\"\",VLOOKUP($D228,Lists!$AP$2:$AR$78,3,FALSE))","v":""},null,null,null,null,null,null,null,""]
[null,{"$f":"IF(D229=\"\",\"\",VLOOKUP($D229,Lists!$AP$2:$AR$78,2,FALSE))","v":""},{"$f":"IF(D229=\"\",\"\",VLOOKUP($D229,Lists!$AP$2:$AR$78,3,FALSE))","v":""},null,null,null,null,null,null,null,""]
[null,{"$f":"IF(D230=\"\",\"\",VLOOKUP($D230,Lists!$AP$2:$AR$78,2,FALSE))","v":""},{"$f":"IF(D230=\"\",\"\",VLOOKUP($D230,Lists!$AP$2:$AR$78,3,FALSE))","v":""},null,null,null,null,null,null,null,""]
[null,{"$f":"IF(D231=\"\",\"\",VLOOKUP($D231,Lists!$AP$2:$AR$78,2,FALSE))","v":""},{"$f":"IF(D231=\"\",\"\",VLOOKUP($D231,Lists!$AP$2:$AR$78,3,FALSE))","v":""},null,null,null,null,null,null,null,""]
[null,{"$f":"IF(D232=\"\",\"\",VLOOKUP($D232,Lists!$AP$2:$AR$78,2,FALSE))","v":""},{"$f":"IF(D232=\"\",\"\",VLOOKUP($D232,Lists!$AP$2:$AR$78,3,FALSE))","v":""},null,null,null,null,null,null,null,""]
[null,{"$f":"IF(D233=\"\",\"\",VLOOKUP($D233,Lists!$AP$2:$AR$78,2,FALSE))","v":""},{"$f":"IF(D233=\"\",\"\",VLOOKUP($D233,Lists!$AP$2:$AR$78,3,FALSE))","v":""},null,null,null,null,null,null,null,""]
[null,{"$f":"IF(D234=\"\",\"\",VLOOKUP($D234,Lists!$AP$2:$AR$78,2,FALSE))","v":""},{"$f":"IF(D234=\"\",\"\",VLOOKUP($D234,Lists!$AP$2:$AR$78,3,FALSE))","v":""},null,null,null,null,null,null,null,""]
[null,{"$f":"IF(D235=\"\",\"\",VLOOKUP($D235,Lists!$AP$2:$AR$78,2,FALSE))","v":""},{"$f":"IF(D235=\"\",\"\",VLOOKUP($D235,Lists!$AP$2:$AR$78,3,FALSE))","v":""},null,null,null,null,null,null,null,""]
[null,{"$f":"IF(D236=\"\",\"\",VLOOKUP($D236,Lists!$AP$2:$AR$78,2,FALSE))","v":""},{"$f":"IF(D236=\"\",\"\",VLOOKUP($D236,Lists!$AP$2:$AR$78,3,FALSE))","v":""},null,null,null,null,null,null,null,""]
[null,{"$f":"IF(D237=\"\",\"\",VLOOKUP($D237,Lists!$AP$2:$AR$78,2,FALSE))","v":""},{"$f":"IF(D237=\"\",\"\",VLOOKUP($D237,Lists!$AP$2:$AR$78,3,FALSE))","v":""},null,null,null,null,null,null,null,""]
[null,{"$f":"IF(D238=\"\",\"\",VLOOKUP($D238,Lists!$AP$2:$AR$78,2,FALSE))","v":""},{"$f":"IF(D238=\"\",\"\",VLOOKUP($D238,Lists!$AP$2:$AR$78,3,FALSE))","v":""},null,null,null,null,null,null,null,""]
[null,{"$f":"IF(D239=\"\",\"\",VLOOKUP($D239,Lists!$AP$2:$AR$78,2,FALSE))","v":""},{"$f":"IF(D239=\"\",\"\",VLOOKUP($D239,Lists!$AP$2:$AR$78,3,FALSE))","v":""},null,null,null,null,null,null,null,""]
[null,{"$f":"IF(D240=\"\",\"\",VLOOKUP($D240,Lists!$AP$2:$AR$78,2,FALSE))","v":""},{"$f":"IF(D240=\"\",\"\",VLOOKUP($D240,Lists!$AP$2:$AR$78,3,FALSE))","v":""},null,null,null,null,null,null,null,""]
[null,{"$f":"IF(D241=\"\",\"\",VLOOKUP($D241,Lists!$AP$2:$AR$78,2,FALSE))","v":""},{"$f":"IF(D241=\"\",\"\",VLOOKUP($D241,Lists!$AP$2:$AR$78,3,FALSE))","v":""},null,null,null,null,null,null,null,""]
[null,{"$f":"IF(D242=\"\",\"\",VLOOKUP($D242,Lists!$AP$2:$AR$78,2,FALSE))","v":""},{"$f":"IF(D242=\"\",\"\",VLOOKUP($D242,Lists!$AP$2:$AR$78,3,FALSE))","v":""},null,null,null,null,null,null,null,""]
[null,{"$f":"IF(D243=\"\",\"\",VLOOKUP($D243,Lists!$AP$2:$AR$78,2,FALSE))","v":""},{"$f":"IF(D243=\"\",\"\",VLOOKUP($D243,Lists!$AP$2:$AR$78,3,FALSE))","v":""},null,null,null,null,null,null,null,""]
[null,{"$f":"IF(D244=\"\",\"\",VLOOKUP($D244,Lists!$AP$2:$AR$78,2,FALSE))","v":""},{"$f":"IF(D244=\"\",\"\",VLOOKUP($D244,Lists!$AP$2:$AR$78,3,FALSE))","v":""},null,null,null,null,null,null,null,""]
[null,{"$f":"IF(D245=\"\",\"\",VLOOKUP($D245,Lists!$AP$2:$AR$78,2,FALSE))","v":""},{"$f":"IF(D245=\"\",\"\",VLOOKUP($D245,Lists!$AP$2:$AR$78,3,FALSE))","v":""},null,null,null,null,null,null,null,""]
[null,{"$f":"IF(D246=\"\",\"\",VLOOKUP($D246,Lists!$AP$2:$AR$78,2,FALSE))","v":""},{"$f":"IF(D246=\"\",\"\",VLOOKUP($D246,Lists!$AP$2:$AR$78,3,FALSE))","v":""},null,null,null,null,null,null,null,""]
[null,{"$f":"IF(D247=\"\",\"\",VLOOKUP($D247,Lists!$AP$2:$AR$78,2,FALSE))","v":""},{"$f":"IF(D247=\"\",\"\",VLOOKUP($D247,Lists!$AP$2:$AR$78,3,FALSE))","v":""},null,null,null,null,null,null,null,""]
[null,{"$f":"IF(D248=\"\",\"\",VLOOKUP($D248,Lists!$AP$2:$AR$78,2,FALSE))","v":""},{"$f":"IF(D248=\"\",\"\",VLOOKUP($D248,Lists!$AP$2:$AR$78,3,FALSE))","v":""},null,null,null,null,null,null,null,""]
[null,{"$f":"IF(D249=\"\",\"\",VLOOKUP($D249,Lists!$AP$2:$AR$78,2,FALSE))","v":""},{"$f":"IF(D249=\"\",\"\",VLOOKUP($D249,Lists!$AP$2:$AR$78,3,FALSE))","v":""},null,null,null,null,null,null,null,""]
[null,{"$f":"IF(D250=\"\",\"\",VLOOKUP($D250,Lists!$AP$2:$AR$78,2,FALSE))","v":""},{"$f":"IF(D250=\"\",\"\",VLOOKUP($D250,Lists!$AP$2:$AR$78,3,FALSE))","v":""},null,null,null,null,null,null,null,""]
[null,{"$f":"IF(D251=\"\",\"\",VLOOKUP($D251,Lists!$AP$2:$AR$78,2,FALSE))","v":""},{"$f":"IF(D251=\"\",\"\",VLOOKUP($D251,Lists!$AP$2:$AR$78,3,FALSE))","v":""},null,null,null,null,null,null,null,""]
[null,{"$f":"IF(D252=\"\",\"\",VLOOKUP($D252,Lists!$AP$2:$AR$78,2,FALSE))","v":""},{"$f":"IF(D252=\"\",\"\",VLOOKUP($D252,Lists!$AP$2:$AR$78,3,FALSE))","v":""},null,null,null,null,null,null,null,""]
[null,{"$f":"IF(D253=\"\",\"\",VLOOKUP($D253,Lists!$AP$2:$AR$78,2,FALSE))","v":""},{"$f":"IF(D253=\"\",\"\",VLOOKUP($D253,Lists!$AP$2:$AR$78,3,FALSE))","v":""},null,null,null,null,null,null,null,""]
[null,{"$f":"IF(D254=\"\",\"\",VLOOKUP($D254,Lists!$AP$2:$AR$78,2,FALSE))","v":""},{"$f":"IF(D254=\"\",\"\",VLOOKUP($D254,Lists!$AP$2:$AR$78,3,FALSE))","v":""},null,null,null,null,null,null,null,""]
[null,{"$f":"IF(D255=\"\",\"\",VLOOKUP($D255,Lists!$AP$2:$AR$78,2,FALSE))","v":""},{"$f":"IF(D255=\"\",\"\",VLOOKUP($D255,Lists!$AP$2:$AR$78,3,FALSE))","v":""},null,null,null,null,null,null,null,""]
[null,{"$f":"IF(D256=\"\",\"\",VLOOKUP($D256,Lists!$AP$2:$AR$78,2,FALSE))","v":""},{"$f":"IF(D256=\"\",\"\",VLOOKUP($D256,Lists!$AP$2:$AR$78,3,FALSE))","v":""},null,null,null,null,null,null,null,""]
[null,{"$f":"IF(D257=\"\",\"\",VLOOKUP($D257,Lists!$AP$2:$AR$78,2,FALSE))","v":""},{"$f":"IF(D257=\"\",\"\",VLOOKUP($D257,Lists!$AP$2:$AR$78,3,FALSE))","v":""},null,null,null,null,null,null,null,""]
[null,{"$f":"IF(D258=\"\",\"\",VLOOKUP($D258,Lists!$AP$2:$AR$78,2,FALSE))","v":""},{"$f":"IF(D258=\"\",\"\",VLOOKUP($D258,Lists!$AP$2:$AR$78,3,FALSE))","v":""},null,null,null,null,null,null,null,""]
[null,{"$f":"IF(D259=\"\",\"\",VLOOKUP($D259,Lists!$AP$2:$AR$78,2,FALSE))","v":""},{"$f":"IF(D259=\"\",\"\",VLOOKUP($D259,Lists!$AP$2:$AR$78,3,FALSE))","v":""},null,null,null,null,null,null,null,""]
[null,{"$f":"IF(D260=\"\",\"\",VLOOKUP($D260,Lists!$AP$2:$AR$78,2,FALSE))","v":""},{"$f":"IF(D260=\"\",\"\",VLOOKUP($D260,Lists!$AP$2:$AR$78,3,FALSE))","v":""},null,null,null,null,null,null,null,""]
[null,{"$f":"IF(D261=\"\",\"\",VLOOKUP($D261,Lists!$AP$2:$AR$78,2,FALSE))","v":""},{"$f":"IF(D261=\"\",\"\",VLOOKUP($D261,Lists!$AP$2:$AR$78,3,FALSE))","v":""},null,null,null,null,null,null,null,""]
[null,{"$f":"IF(D262=\"\",\"\",VLOOKUP($D262,Lists!$AP$2:$AR$78,2,FALSE))","v":""},{"$f":"IF(D262=\"\",\"\",VLOOKUP($D262,Lists!$AP$2:$AR$78,3,FALSE))","v":""},null,null,null,null,null,null,null,""]
[null,{"$f":"IF(D263=\"\",\"\",VLOOKUP($D263,Lists!$AP$2:$AR$78,2,FALSE))","v":""},{"$f":"IF(D263=\"\",\"\",VLOOKUP($D263,Lists!$AP$2:$AR$78,3,FALSE))","v":""},null,null,null,null,null,null,null,""]
[null,{"$f":"IF(D264=\"\",\"\",VLOOKUP($D264,Lists!$AP$2:$AR$78,2,FALSE))","v":""},{"$f":"IF(D264=\"\",\"\",VLOOKUP($D264,Lists!$AP$2:$AR$78,3,FALSE))","v":""},null,null,null,null,null,null,null,""]
[null,{"$f":"IF(D265=\"\",\"\",VLOOKUP($D265,Lists!$AP$2:$AR$78,2,FALSE))","v":""},{"$f":"IF(D265=\"\",\"\",VLOOKUP($D265,Lists!$AP$2:$AR$78,3,FALSE))","v":""},null,null,null,null,null,null,null,""]
[null,{"$f":"IF(D266=\"\",\"\",VLOOKUP($D266,Lists!$AP$2:$AR$78,2,FALSE))","v":""},{"$f":"IF(D266=\"\",\"\",VLOOKUP($D266,Lists!$AP$2:$AR$78,3,FALSE))","v":""},null,null,null,null,null,null,null,""]
[null,{"$f":"IF(D267=\"\",\"\",VLOOKUP($D267,Lists!$AP$2:$AR$78,2,FALSE))","v":""},{"$f":"IF(D267=\"\",\"\",VLOOKUP($D267,Lists!$AP$2:$AR$78,3,FALSE))","v":""},null,null,null,null,null,null,null,""]
[null,{"$f":"IF(D268=\"\",\"\",VLOOKUP($D268,Lists!$AP$2:$AR$78,2,FALSE))","v":""},{"$f":"IF(D268=\"\",\"\",VLOOKUP($D268,Lists!$AP$2:$AR$78,3,FALSE))","v":""},null,null,null,null,null,null,null,""]
[null,{"$f":"IF(D269=\"\",\"\",VLOOKUP($D269,Lists!$AP$2:$AR$78,2,FALSE))","v":""},{"$f":"IF(D269=\"\",\"\",VLOOKUP($D269,Lists!$AP$2:$AR$78,3,FALSE))","v":""},null,null,null,null,null,null,null,""]
[null,{"$f":"IF(D270=\"\",\"\",VLOOKUP($D270,Lists!$AP$2:$AR$78,2,FALSE))","v":""},{"$f":"IF(D270=\"\",\"\",VLOOKUP($D270,Lists!$AP$2:$AR$78,3,FALSE))","v":""},null,null,null,null,null,null,null,""]
[null,{"$f":"IF(D271=\"\",\"\",VLOOKUP($D271,Lists!$AP$2:$AR$78,2,FALSE))","v":""},{"$f":"IF(D271=\"\",\"\",VLOOKUP($D271,Lists!$AP$2:$AR$78,3,FALSE))","v":""},null,null,null,null,null,null,null,""]
[null,{"$f":"IF(D272=\"\",\"\",VLOOKUP($D272,Lists!$AP$2:$AR$78,2,FALSE))","v":""},{"$f":"IF(D272=\"\",\"\",VLOOKUP($D272,Lists!$AP$2:$AR$78,3,FALSE))","v":""},null,null,null,null,null,null,null,""]
[null,{"$f":"IF(D273=\"\",\"\",VLOOKUP($D273,Lists!$AP$2:$AR$78,2,FALSE))","v":""},{"$f":"IF(D273=\"\",\"\",VLOOKUP($D273,Lists!$AP$2:$AR$78,3,FALSE))","v":""},null,null,null,null,null,null,null,""]
[null,{"$f":"IF(D274=\"\",\"\",VLOOKUP($D274,Lists!$AP$2:$AR$78,2,FALSE))","v":""},{"$f":"IF(D274=\"\",\"\",VLOOKUP($D274,Lists!$AP$2:$AR$78,3,FALSE))","v":""},null,null,null,null,null,null,null,""]
[null,{"$f":"IF(D275=\"\",\"\",VLOOKUP($D275,Lists!$AP$2:$AR$78,2,FALSE))","v":""},{"$f":"IF(D275=\"\",\"\",VLOOKUP($D275,Lists!$AP$2:$AR$78,3,FALSE))","v":""},null,null,null,null,null,null,null,""]
[null,{"$f":"IF(D276=\"\",\"\",VLOOKUP($D276,Lists!$AP$2:$AR$78,2,FALSE))","v":""},{"$f":"IF(D276=\"\",\"\",VLOOKUP($D276,Lists!$AP$2:$AR$78,3,FALSE))","v":""},null,null,null,null,null,null,null,""]
[null,{"$f":"IF(D277=\"\",\"\",VLOOKUP($D277,Lists!$AP$2:$AR$78,2,FALSE))","v":""},{"$f":"IF(D277=\"\",\"\",VLOOKUP($D277,Lists!$AP$2:$AR$78,3,FALSE))","v":""},null,null,null,null,null,null,null,""]
[null,{"$f":"IF(D278=\"\",\"\",VLOOKUP($D278,Lists!$AP$2:$AR$78,2,FALSE))","v":""},{"$f":"IF(D278=\"\",\"\",VLOOKUP($D278,Lists!$AP$2:$AR$78,3,FALSE))","v":""},null,null,null,null,null,null,null,""]
[null,{"$f":"IF(D279=\"\",\"\",VLOOKUP($D279,Lists!$AP$2:$AR$78,2,FALSE))","v":""},{"$f":"IF(D279=\"\",\"\",VLOOKUP($D279,Lists!$AP$2:$AR$78,3,FALSE))","v":""},null,null,null,null,null,null,null,""]
[null,{"$f":"IF(D280=\"\",\"\",VLOOKUP($D280,Lists!$AP$2:$AR$78,2,FALSE))","v":""},{"$f":"IF(D280=\"\",\"\",VLOOKUP($D280,Lists!$AP$2:$AR$78,3,FALSE))","v":""},null,null,null,null,null,null,null,""]
[null,{"$f":"IF(D281=\"\",\"\",VLOOKUP($D281,Lists!$AP$2:$AR$78,2,FALSE))","v":""},{"$f":"IF(D281=\"\",\"\",VLOOKUP($D281,Lists!$AP$2:$AR$78,3,FALSE))","v":""},null,null,null,null,null,null,null,{"$f":"IF(J281=\"\",\"\",(VALUE(TEXT(I281,\"m/dd/yy \")&TEXT(J281,\"hh:mm:ss\"))-(VALUE(TEXT(G281,\"m/dd/yy \")&TEXT(H281,\"hh:mm:ss\"))))*24)","v":""}]
[null,{"$f":"IF(D282=\"\",\"\",VLOOKUP($D282,Lists!$AP$2:$AR$78,2,FALSE))","v":""},{"$f":"IF(D282=\"\",\"\",VLOOKUP($D282,Lists!$AP$2:$AR$78,3,FALSE))","v":""},null,null,null,null,null,null,null,""]
[null,{"$f":"IF(D283=\"\",\"\",VLOOKUP($D283,Lists!$AP$2:$AR$78,2,FALSE))","v":""},{"$f":"IF(D283=\"\",\"\",VLOOKUP($D283,Lists!$AP$2:$AR$78,3,FALSE))","v":""},null,null,null,null,null,null,null,""]
[null,{"$f":"IF(D284=\"\",\"\",VLOOKUP($D284,Lists!$AP$2:$AR$78,2,FALSE))","v":""},{"$f":"IF(D284=\"\",\"\",VLOOKUP($D284,Lists!$AP$2:$AR$78,3,FALSE))","v":""},null,null,null,null,null,null,null,""]
[null,{"$f":"IF(D285=\"\",\"\",VLOOKUP($D285,Lists!$AP$2:$AR$78,2,FALSE))","v":""},{"$f":"IF(D285=\"\",\"\",VLOOKUP($D285,Lists!$AP$2:$AR$78,3,FALSE))","v":""},null,null,null,null,null,null,null,""]
[null,{"$f":"IF(D286=\"\",\"\",VLOOKUP($D286,Lists!$AP$2:$AR$78,2,FALSE))","v":""},{"$f":"IF(D286=\"\",\"\",VLOOKUP($D286,Lists!$AP$2:$AR$78,3,FALSE))","v":""},null,null,null,null,null,null,null,""]
[null,{"$f":"IF(D287=\"\",\"\",VLOOKUP($D287,Lists!$AP$2:$AR$78,2,FALSE))","v":""},{"$f":"IF(D287=\"\",\"\",VLOOKUP($D287,Lists!$AP$2:$AR$78,3,FALSE))","v":""},null,null,null,null,null,null,null,""]
[null,{"$f":"IF(D288=\"\",\"\",VLOOKUP($D288,Lists!$AP$2:$AR$78,2,FALSE))","v":""},{"$f":"IF(D288=\"\",\"\",VLOOKUP($D288,Lists!$AP$2:$AR$78,3,FALSE))","v":""},null,null,null,null,null,null,null,""]
[null,{"$f":"IF(D289=\"\",\"\",VLOOKUP($D289,Lists!$AP$2:$AR$78,2,FALSE))","v":""},{"$f":"IF(D289=\"\",\"\",VLOOKUP($D289,Lists!$AP$2:$AR$78,3,FALSE))","v":""},null,null,null,null,null,null,null,""]
[null,{"$f":"IF(D290=\"\",\"\",VLOOKUP($D290,Lists!$AP$2:$AR$78,2,FALSE))","v":""},{"$f":"IF(D290=\"\",\"\",VLOOKUP($D290,Lists!$AP$2:$AR$78,3,FALSE))","v":""},null,null,null,null,null,null,null,""]
[null,{"$f":"IF(D291=\"\",\"\",VLOOKUP($D291,Lists!$AP$2:$AR$78,2,FALSE))","v":""},{"$f":"IF(D291=\"\",\"\",VLOOKUP($D291,Lists!$AP$2:$AR$78,3,FALSE))","v":""},null,null,null,null,null,null,null,""]
[null,{"$f":"IF(D292=\"\",\"\",VLOOKUP($D292,Lists!$AP$2:$AR$78,2,FALSE))","v":""},{"$f":"IF(D292=\"\",\"\",VLOOKUP($D292,Lists!$AP$2:$AR$78,3,FALSE))","v":""},null,null,null,null,null,null,null,""]
[null,{"$f":"IF(D293=\"\",\"\",VLOOKUP($D293,Lists!$AP$2:$AR$78,2,FALSE))","v":""},{"$f":"IF(D293=\"\",\"\",VLOOKUP($D293,Lists!$AP$2:$AR$78,3,FALSE))","v":""},null,null,null,null,null,null,null,""]
[null,{"$f":"IF(D294=\"\",\"\",VLOOKUP($D294,Lists!$AP$2:$AR$78,2,FALSE))","v":""},{"$f":"IF(D294=\"\",\"\",VLOOKUP($D294,Lists!$AP$2:$AR$78,3,FALSE))","v":""},null,null,null,null,null,null,null,""]
[null,{"$f":"IF(D295=\"\",\"\",VLOOKUP($D295,Lists!$AP$2:$AR$78,2,FALSE))","v":""},{"$f":"IF(D295=\"\",\"\",VLOOKUP($D295,Lists!$AP$2:$AR$78,3,FALSE))","v":""},null,null,null,null,null,null,null,""]
[null,{"$f":"IF(D296=\"\",\"\",VLOOKUP($D296,Lists!$AP$2:$AR$78,2,FALSE))","v":""},{"$f":"IF(D296=\"\",\"\",VLOOKUP($D296,Lists!$AP$2:$AR$78,3,FALSE))","v":""},null,null,null,null,null,null,null,""]
[null,{"$f":"IF(D297=\"\",\"\",VLOOKUP($D297,Lists!$AP$2:$AR$78,2,FALSE))","v":""},{"$f":"IF(D297=\"\",\"\",VLOOKUP($D297,Lists!$AP$2:$AR$78,3,FALSE))","v":""},null,null,null,null,null,null,null,""]
[null,{"$f":"IF(D298=\"\",\"\",VLOOKUP($D298,Lists!$AP$2:$AR$78,2,FALSE))","v":""},{"$f":"IF(D298=\"\",\"\",VLOOKUP($D298,Lists!$AP$2:$AR$78,3,FALSE))","v":""},null,null,null,null,null,null,null,""]
[null,{"$f":"IF(D299=\"\",\"\",VLOOKUP($D299,Lists!$AP$2:$AR$78,2,FALSE))","v":""},{"$f":"IF(D299=\"\",\"\",VLOOKUP($D299,Lists!$AP$2:$AR$78,3,FALSE))","v":""},null,null,null,null,null,null,null,""]
[null,{"$f":"IF(D300=\"\",\"\",VLOOKUP($D300,Lists!$AP$2:$AR$78,2,FALSE))","v":""},{"$f":"IF(D300=\"\",\"\",VLOOKUP($D300,Lists!$AP$2:$AR$78,3,FALSE))","v":""},null,null,null,null,null,null,null,""]
[null,{"$f":"IF(D301=\"\",\"\",VLOOKUP($D301,Lists!$AP$2:$AR$78,2,FALSE))","v":""},{"$f":"IF(D301=\"\",\"\",VLOOKUP($D301,Lists!$AP$2:$AR$78,3,FALSE))","v":""},null,null,null,null,null,null,null,""]
[null,{"$f":"IF(D302=\"\",\"\",VLOOKUP($D302,Lists!$AP$2:$AR$78,2,FALSE))","v":""},{"$f":"IF(D302=\"\",\"\",VLOOKUP($D302,Lists!$AP$2:$AR$78,3,FALSE))","v":""},null,null,null,null,null,null,null,""]
[null,{"$f":"IF(D303=\"\",\"\",VLOOKUP($D303,Lists!$AP$2:$AR$78,2,FALSE))","v":""},{"$f":"IF(D303=\"\",\"\",VLOOKUP($D303,Lists!$AP$2:$AR$78,3,FALSE))","v":""},null,null,null,null,null,null,null,""]
[null,{"$f":"IF(D304=\"\",\"\",VLOOKUP($D304,Lists!$AP$2:$AR$78,2,FALSE))","v":""},{"$f":"IF(D304=\"\",\"\",VLOOKUP($D304,Lists!$AP$2:$AR$78,3,FALSE))","v":""},null,null,null,null,null,null,null,""]
[null,{"$f":"IF(D305=\"\",\"\",VLOOKUP($D305,Lists!$AP$2:$AR$78,2,FALSE))","v":""},{"$f":"IF(D305=\"\",\"\",VLOOKUP($D305,Lists!$AP$2:$AR$78,3,FALSE))","v":""},null,null,null,null,null,null,null,""]
[null,{"$f":"IF(D306=\"\",\"\",VLOOKUP($D306,Lists!$AP$2:$AR$78,2,FALSE))","v":""},{"$f":"IF(D306=\"\",\"\",VLOOKUP($D306,Lists!$AP$2:$AR$78,3,FALSE))","v":""},null,null,null,null,null,null,null,""]
[null,{"$f":"IF(D307=\"\",\"\",VLOOKUP($D307,Lists!$AP$2:$AR$78,2,FALSE))","v":""},{"$f":"IF(D307=\"\",\"\",VLOOKUP($D307,Lists!$AP$2:$AR$78,3,FALSE))","v":""},null,null,null,null,null,null,null,""]
[null,{"$f":"IF(D308=\"\",\"\",VLOOKUP($D308,Lists!$AP$2:$AR$78,2,FALSE))","v":""},{"$f":"IF(D308=\"\",\"\",VLOOKUP($D308,Lists!$AP$2:$AR$78,3,FALSE))","v":""},null,null,null,null,null,null,null,""]
[null,{"$f":"IF(D309=\"\",\"\",VLOOKUP($D309,Lists!$AP$2:$AR$78,2,FALSE))","v":""},{"$f":"IF(D309=\"\",\"\",VLOOKUP($D309,Lists!$AP$2:$AR$78,3,FALSE))","v":""},null,null,null,null,null,null,null,""]
[null,{"$f":"IF(D310=\"\",\"\",VLOOKUP($D310,Lists!$AP$2:$AR$78,2,FALSE))","v":""},{"$f":"IF(D310=\"\",\"\",VLOOKUP($D310,Lists!$AP$2:$AR$78,3,FALSE))","v":""},null,null,null,null,null,null,null,""]
[null,{"$f":"IF(D311=\"\",\"\",VLOOKUP($D311,Lists!$AP$2:$AR$78,2,FALSE))","v":""},{"$f":"IF(D311=\"\",\"\",VLOOKUP($D311,Lists!$AP$2:$AR$78,3,FALSE))","v":""},null,null,null,null,null,null,null,""]
[null,{"$f":"IF(D312=\"\",\"\",VLOOKUP($D312,Lists!$AP$2:$AR$78,2,FALSE))","v":""},{"$f":"IF(D312=\"\",\"\",VLOOKUP($D312,Lists!$AP$2:$AR$78,3,FALSE))","v":""},null,null,null,null,null,null,null,""]
[null,{"$f":"IF(D313=\"\",\"\",VLOOKUP($D313,Lists!$AP$2:$AR$78,2,FALSE))","v":""},{"$f":"IF(D313=\"\",\"\",VLOOKUP($D313,Lists!$AP$2:$AR$78,3,FALSE))","v":""},null,null,null,null,null,null,null,""]
[null,{"$f":"IF(D314=\"\",\"\",VLOOKUP($D314,Lists!$AP$2:$AR$78,2,FALSE))","v":""},{"$f":"IF(D314=\"\",\"\",VLOOKUP($D314,Lists!$AP$2:$AR$78,3,FALSE))","v":""},null,null,null,null,null,null,null,""]
[null,{"$f":"IF(D315=\"\",\"\",VLOOKUP($D315,Lists!$AP$2:$AR$78,2,FALSE))","v":""},{"$f":"IF(D315=\"\",\"\",VLOOKUP($D315,Lists!$AP$2:$AR$78,3,FALSE))","v":""},null,null,null,null,null,null,null,""]
[null,{"$f":"IF(D316=\"\",\"\",VLOOKUP($D316,Lists!$AP$2:$AR$78,2,FALSE))","v":""},{"$f":"IF(D316=\"\",\"\",VLOOKUP($D316,Lists!$AP$2:$AR$78,3,FALSE))","v":""},null,null,null,null,null,null,null,""]
[null,{"$f":"IF(D317=\"\",\"\",VLOOKUP($D317,Lists!$AP$2:$AR$78,2,FALSE))","v":""},{"$f":"IF(D317=\"\",\"\",VLOOKUP($D317,Lists!$AP$2:$AR$78,3,FALSE))","v":""},null,null,null,null,null,null,null,""]
[null,{"$f":"IF(D318=\"\",\"\",VLOOKUP($D318,Lists!$AP$2:$AR$78,2,FALSE))","v":""},{"$f":"IF(D318=\"\",\"\",VLOOKUP($D318,Lists!$AP$2:$AR$78,3,FALSE))","v":""},null,null,null,null,null,null,null,""]
[null,{"$f":"IF(D319=\"\",\"\",VLOOKUP($D319,Lists!$AP$2:$AR$78,2,FALSE))","v":""},{"$f":"IF(D319=\"\",\"\",VLOOKUP($D319,Lists!$AP$2:$AR$78,3,FALSE))","v":""},null,null,null,null,null,null,null,""]
[null,{"$f":"IF(D320=\"\",\"\",VLOOKUP($D320,Lists!$AP$2:$AR$78,2,FALSE))","v":""},{"$f":"IF(D320=\"\",\"\",VLOOKUP($D320,Lists!$AP$2:$AR$78,3,FALSE))","v":""},null,null,null,null,null,null,null,""]
[null,{"$f":"IF(D321=\"\",\"\",VLOOKUP($D321,Lists!$AP$2:$AR$78,2,FALSE))","v":""},{"$f":"IF(D321=\"\",\"\",VLOOKUP($D321,Lists!$AP$2:$AR$78,3,FALSE))","v":""},null,null,null,null,null,null,null,""]
[null,{"$f":"IF(D322=\"\",\"\",VLOOKUP($D322,Lists!$AP$2:$AR$78,2,FALSE))","v":""},{"$f":"IF(D322=\"\",\"\",VLOOKUP($D322,Lists!$AP$2:$AR$78,3,FALSE))","v":""},null,null,null,null,null,null,null,""]
[null,{"$f":"IF(D323=\"\",\"\",VLOOKUP($D323,Lists!$AP$2:$AR$78,2,FALSE))","v":""},{"$f":"IF(D323=\"\",\"\",VLOOKUP($D323,Lists!$AP$2:$AR$78,3,FALSE))","v":""},null,null,null,null,null,null,null,""]
[null,{"$f":"IF(D324=\"\",\"\",VLOOKUP($D324,Lists!$AP$2:$AR$78,2,FALSE))","v":""},{"$f":"IF(D324=\"\",\"\",VLOOKUP($D324,Lists!$AP$2:$AR$78,3,FALSE))","v":""},null,null,null,null,null,null,null,""]
[null,{"$f":"IF(D325=\"\",\"\",VLOOKUP($D325,Lists!$AP$2:$AR$78,2,FALSE))","v":""},{"$f":"IF(D325=\"\",\"\",VLOOKUP($D325,Lists!$AP$2:$AR$78,3,FALSE))","v":""},null,null,null,null,null,null,null,""]
[null,{"$f":"IF(D326=\"\",\"\",VLOOKUP($D326,Lists!$AP$2:$AR$78,2,FALSE))","v":""},{"$f":"IF(D326=\"\",\"\",VLOOKUP($D326,Lists!$AP$2:$AR$78,3,FALSE))","v":""},null,null,null,null,null,null,null,""]
[null,{"$f":"IF(D327=\"\",\"\",VLOOKUP($D327,Lists!$AP$2:$AR$78,2,FALSE))","v":""},{"$f":"IF(D327=\"\",\"\",VLOOKUP($D327,Lists!$AP$2:$AR$78,3,FALSE))","v":""},null,null,null,null,null,null,null,""]
[null,{"$f":"IF(D328=\"\",\"\",VLOOKUP($D328,Lists!$AP$2:$AR$78,2,FALSE))","v":""},{"$f":"IF(D328=\"\",\"\",VLOOKUP($D328,Lists!$AP$2:$AR$78,3,FALSE))","v":""},null,null,null,null,null,null,null,""]
[null,{"$f":"IF(D329=\"\",\"\",VLOOKUP($D329,Lists!$AP$2:$AR$78,2,FALSE))","v":""},{"$f":"IF(D329=\"\",\"\",VLOOKUP($D329,Lists!$AP$2:$AR$78,3,FALSE))","v":""},null,null,null,null,null,null,null,""]
[null,{"$f":"IF(D330=\"\",\"\",VLOOKUP($D330,Lists!$AP$2:$AR$78,2,FALSE))","v":""},{"$f":"IF(D330=\"\",\"\",VLOOKUP($D330,Lists!$AP$2:$AR$78,3,FALSE))","v":""},null,null,null,null,null,null,null,""]
[null,{"$f":"IF(D331=\"\",\"\",VLOOKUP($D331,Lists!$AP$2:$AR$78,2,FALSE))","v":""},{"$f":"IF(D331=\"\",\"\",VLOOKUP($D331,Lists!$AP$2:$AR$78,3,FALSE))","v":""},null,null,null,null,null,null,null,""]
[null,{"$f":"IF(D332=\"\",\"\",VLOOKUP($D332,Lists!$AP$2:$AR$78,2,FALSE))","v":""},{"$f":"IF(D332=\"\",\"\",VLOOKUP($D332,Lists!$AP$2:$AR$78,3,FALSE))","v":""},null,null,null,null,null,null,null,""]
[null,{"$f":"IF(D333=\"\",\"\",VLOOKUP($D333,Lists!$AP$2:$AR$78,2,FALSE))","v":""},{"$f":"IF(D333=\"\",\"\",VLOOKUP($D333,Lists!$AP$2:$AR$78,3,FALSE))","v":""},null,null,null,null,null,null,null,""]
[null,{"$f":"IF(D334=\"\",\"\",VLOOKUP($D334,Lists!$AP$2:$AR$78,2,FALSE))","v":""},{"$f":"IF(D334=\"\",\"\",VLOOKUP($D334,Lists!$AP$2:$AR$78,3,FALSE))","v":""},null,null,null,null,null,null,null,""]
[null,{"$f":"IF(D335=\"\",\"\",VLOOKUP($D335,Lists!$AP$2:$AR$78,2,FALSE))","v":""},{"$f":"IF(D335=\"\",\"\",VLOOKUP($D335,Lists!$AP$2:$AR$78,3,FALSE))","v":""},null,null,null,null,null,null,null,""]
[null,{"$f":"IF(D336=\"\",\"\",VLOOKUP($D336,Lists!$AP$2:$AR$78,2,FALSE))","v":""},{"$f":"IF(D336=\"\",\"\",VLOOKUP($D336,Lists!$AP$2:$AR$78,3,FALSE))","v":""},null,null,null,null,null,null,null,""]
[null,{"$f":"IF(D337=\"\",\"\",VLOOKUP($D337,Lists!$AP$2:$AR$78,2,FALSE))","v":""},{"$f":"IF(D337=\"\",\"\",VLOOKUP($D337,Lists!$AP$2:$AR$78,3,FALSE))","v":""},null,null,null,null,null,null,null,""]
[null,{"$f":"IF(D338=\"\",\"\",VLOOKUP($D338,Lists!$AP$2:$AR$78,2,FALSE))","v":""},{"$f":"IF(D338=\"\",\"\",VLOOKUP($D338,Lists!$AP$2:$AR$78,3,FALSE))","v":""},null,null,null,null,null,null,null,""]
[null,{"$f":"IF(D339=\"\",\"\",VLOOKUP($D339,Lists!$AP$2:$AR$78,2,FALSE))","v":""},{"$f":"IF(D339=\"\",\"\",VLOOKUP($D339,Lists!$AP$2:$AR$78,3,FALSE))","v":""},null,null,null,null,null,null,null,""]
[null,{"$f":"IF(D340=\"\",\"\",VLOOKUP($D340,Lists!$AP$2:$AR$78,2,FALSE))","v":""},{"$f":"IF(D340=\"\",\"\",VLOOKUP($D340,Lists!$AP$2:$AR$78,3,FALSE))","v":""},null,null,null,null,null,null,null,""]
[null,{"$f":"IF(D341=\"\",\"\",VLOOKUP($D341,Lists!$AP$2:$AR$78,2,FALSE))","v":""},{"$f":"IF(D341=\"\",\"\",VLOOKUP($D341,Lists!$AP$2:$AR$78,3,FALSE))","v":""},null,null,null,null,null,null,null,""]
[null,{"$f":"IF(D342=\"\",\"\",VLOOKUP($D342,Lists!$AP$2:$AR$78,2,FALSE))","v":""},{"$f":"IF(D342=\"\",\"\",VLOOKUP($D342,Lists!$AP$2:$AR$78,3,FALSE))","v":""},null,null,null,null,null,null,null,""]
[null,{"$f":"IF(D343=\"\",\"\",VLOOKUP($D343,Lists!$AP$2:$AR$78,2,FALSE))","v":""},{"$f":"IF(D343=\"\",\"\",VLOOKUP($D343,Lists!$AP$2:$AR$78,3,FALSE))","v":""},null,null,null,null,null,null,null,""]
[null,{"$f":"IF(D344=\"\",\"\",VLOOKUP($D344,Lists!$AP$2:$AR$78,2,FALSE))","v":""},{"$f":"IF(D344=\"\",\"\",VLOOKUP($D344,Lists!$AP$2:$AR$78,3,FALSE))","v":""},null,null,null,null,null,null,null,""]
[null,{"$f":"IF(D345=\"\",\"\",VLOOKUP($D345,Lists!$AP$2:$AR$78,2,FALSE))","v":""},{"$f":"IF(D345=\"\",\"\",VLOOKUP($D345,Lists!$AP$2:$AR$78,3,FALSE))","v":""},null,null,null,null,null,null,null,{"$f":"IF(J345=\"\",\"\",(VALUE(TEXT(I345,\"m/dd/yy \")&TEXT(J345,\"hh:mm:ss\"))-(VALUE(TEXT(G345,\"m/dd/yy \")&TEXT(H345,\"hh:mm:ss\"))))*24)","v":""}]
[null,{"$f":"IF(D346=\"\",\"\",VLOOKUP($D346,Lists!$AP$2:$AR$78,2,FALSE))","v":""},{"$f":"IF(D346=\"\",\"\",VLOOKUP($D346,Lists!$AP$2:$AR$78,3,FALSE))","v":""},null,null,null,null,null,null,null,""]
[null,{"$f":"IF(D347=\"\",\"\",VLOOKUP($D347,Lists!$AP$2:$AR$78,2,FALSE))","v":""},{"$f":"IF(D347=\"\",\"\",VLOOKUP($D347,Lists!$AP$2:$AR$78,3,FALSE))","v":""},null,null,null,null,null,null,null,""]
[null,{"$f":"IF(D348=\"\",\"\",VLOOKUP($D348,Lists!$AP$2:$AR$78,2,FALSE))","v":""},{"$f":"IF(D348=\"\",\"\",VLOOKUP($D348,Lists!$AP$2:$AR$78,3,FALSE))","v":""},null,null,null,null,null,null,null,""]
[null,{"$f":"IF(D349=\"\",\"\",VLOOKUP($D349,Lists!$AP$2:$AR$78,2,FALSE))","v":""},{"$f":"IF(D349=\"\",\"\",VLOOKUP($D349,Lists!$AP$2:$AR$78,3,FALSE))","v":""},null,null,null,null,null,null,null,""]
[null,{"$f":"IF(D350=\"\",\"\",VLOOKUP($D350,Lists!$AP$2:$AR$78,2,FALSE))","v":""},{"$f":"IF(D350=\"\",\"\",VLOOKUP($D350,Lists!$AP$2:$AR$78,3,FALSE))","v":""},null,null,null,null,null,null,null,""]
[null,{"$f":"IF(D351=\"\",\"\",VLOOKUP($D351,Lists!$AP$2:$AR$78,2,FALSE))","v":""},{"$f":"IF(D351=\"\",\"\",VLOOKUP($D351,Lists!$AP$2:$AR$78,3,FALSE))","v":""},null,null,null,null,null,null,null,""]
[null,{"$f":"IF(D352=\"\",\"\",VLOOKUP($D352,Lists!$AP$2:$AR$78,2,FALSE))","v":""},{"$f":"IF(D352=\"\",\"\",VLOOKUP($D352,Lists!$AP$2:$AR$78,3,FALSE))","v":""},null,null,null,null,null,null,null,""]
[null,{"$f":"IF(D353=\"\",\"\",VLOOKUP($D353,Lists!$AP$2:$AR$78,2,FALSE))","v":""},{"$f":"IF(D353=\"\",\"\",VLOOKUP($D353,Lists!$AP$2:$AR$78,3,FALSE))","v":""},null,null,null,null,null,null,null,""]
[null,{"$f":"IF(D354=\"\",\"\",VLOOKUP($D354,Lists!$AP$2:$AR$78,2,FALSE))","v":""},{"$f":"IF(D354=\"\",\"\",VLOOKUP($D354,Lists!$AP$2:$AR$78,3,FALSE))","v":""},null,null,null,null,null,null,null,""]
[null,{"$f":"IF(D355=\"\",\"\",VLOOKUP($D355,Lists!$AP$2:$AR$78,2,FALSE))","v":""},{"$f":"IF(D355=\"\",\"\",VLOOKUP($D355,Lists!$AP$2:$AR$78,3,FALSE))","v":""},null,null,null,null,null,null,null,""]
[null,{"$f":"IF(D356=\"\",\"\",VLOOKUP($D356,Lists!$AP$2:$AR$78,2,FALSE))","v":""},{"$f":"IF(D356=\"\",\"\",VLOOKUP($D356,Lists!$AP$2:$AR$78,3,FALSE))","v":""},null,null,null,null,null,null,null,""]
[null,{"$f":"IF(D357=\"\",\"\",VLOOKUP($D357,Lists!$AP$2:$AR$78,2,FALSE))","v":""},{"$f":"IF(D357=\"\",\"\",VLOOKUP($D357,Lists!$AP$2:$AR$78,3,FALSE))","v":""},null,null,null,null,null,null,null,""]
[null,{"$f":"IF(D358=\"\",\"\",VLOOKUP($D358,Lists!$AP$2:$AR$78,2,FALSE))","v":""},{"$f":"IF(D358=\"\",\"\",VLOOKUP($D358,Lists!$AP$2:$AR$78,3,FALSE))","v":""},null,null,null,null,null,null,null,""]
[null,{"$f":"IF(D359=\"\",\"\",VLOOKUP($D359,Lists!$AP$2:$AR$78,2,FALSE))","v":""},{"$f":"IF(D359=\"\",\"\",VLOOKUP($D359,Lists!$AP$2:$AR$78,3,FALSE))","v":""},null,null,null,null,null,null,null,""]
[null,{"$f":"IF(D360=\"\",\"\",VLOOKUP($D360,Lists!$AP$2:$AR$78,2,FALSE))","v":""},{"$f":"IF(D360=\"\",\"\",VLOOKUP($D360,Lists!$AP$2:$AR$78,3,FALSE))","v":""},null,null,null,null,null,null,null,""]
[null,{"$f":"IF(D361=\"\",\"\",VLOOKUP($D361,Lists!$AP$2:$AR$78,2,FALSE))","v":""},{"$f":"IF(D361=\"\",\"\",VLOOKUP($D361,Lists!$AP$2:$AR$78,3,FALSE))","v":""},null,null,null,null,null,null,null,""]
[null,{"$f":"IF(D362=\"\",\"\",VLOOKUP($D362,Lists!$AP$2:$AR$78,2,FALSE))","v":""},{"$f":"IF(D362=\"\",\"\",VLOOKUP($D362,Lists!$AP$2:$AR$78,3,FALSE))","v":""},null,null,null,null,null,null,null,""]
[null,{"$f":"IF(D363=\"\",\"\",VLOOKUP($D363,Lists!$AP$2:$AR$78,2,FALSE))","v":""},{"$f":"IF(D363=\"\",\"\",VLOOKUP($D363,Lists!$AP$2:$AR$78,3,FALSE))","v":""},null,null,null,null,null,null,null,""]
[null,{"$f":"IF(D364=\"\",\"\",VLOOKUP($D364,Lists!$AP$2:$AR$78,2,FALSE))","v":""},{"$f":"IF(D364=\"\",\"\",VLOOKUP($D364,Lists!$AP$2:$AR$78,3,FALSE))","v":""},null,null,null,null,null,null,null,""]
[null,{"$f":"IF(D365=\"\",\"\",VLOOKUP($D365,Lists!$AP$2:$AR$78,2,FALSE))","v":""},{"$f":"IF(D365=\"\",\"\",VLOOKUP($D365,Lists!$AP$2:$AR$78,3,FALSE))","v":""},null,null,null,null,null,null,null,""]
[null,{"$f":"IF(D366=\"\",\"\",VLOOKUP($D366,Lists!$AP$2:$AR$78,2,FALSE))","v":""},{"$f":"IF(D366=\"\",\"\",VLOOKUP($D366,Lists!$AP$2:$AR$78,3,FALSE))","v":""},null,null,null,null,null,null,null,""]
[null,{"$f":"IF(D367=\"\",\"\",VLOOKUP($D367,Lists!$AP$2:$AR$78,2,FALSE))","v":""},{"$f":"IF(D367=\"\",\"\",VLOOKUP($D367,Lists!$AP$2:$AR$78,3,FALSE))","v":""},null,null,null,null,null,null,null,""]
[null,{"$f":"IF(D368=\"\",\"\",VLOOKUP($D368,Lists!$AP$2:$AR$78,2,FALSE))","v":""},{"$f":"IF(D368=\"\",\"\",VLOOKUP($D368,Lists!$AP$2:$AR$78,3,FALSE))","v":""},null,null,null,null,null,null,null,""]
[null,{"$f":"IF(D369=\"\",\"\",VLOOKUP($D369,Lists!$AP$2:$AR$78,2,FALSE))","v":""},{"$f":"IF(D369=\"\",\"\",VLOOKUP($D369,Lists!$AP$2:$AR$78,3,FALSE))","v":""},null,null,null,null,null,null,null,""]
[null,{"$f":"IF(D370=\"\",\"\",VLOOKUP($D370,Lists!$AP$2:$AR$78,2,FALSE))","v":""},{"$f":"IF(D370=\"\",\"\",VLOOKUP($D370,Lists!$AP$2:$AR$78,3,FALSE))","v":""},null,null,null,null,null,null,null,""]
[null,{"$f":"IF(D371=\"\",\"\",VLOOKUP($D371,Lists!$AP$2:$AR$78,2,FALSE))","v":""},{"$f":"IF(D371=\"\",\"\",VLOOKUP($D371,Lists!$AP$2:$AR$78,3,FALSE))","v":""},null,null,null,null,null,null,null,""]
[null,{"$f":"IF(D372=\"\",\"\",VLOOKUP($D372,Lists!$AP$2:$AR$78,2,FALSE))","v":""},{"$f":"IF(D372=\"\",\"\",VLOOKUP($D372,Lists!$AP$2:$AR$78,3,FALSE))","v":""},null,null,null,null,null,null,null,""]
[null,{"$f":"IF(D373=\"\",\"\",VLOOKUP($D373,Lists!$AP$2:$AR$78,2,FALSE))","v":""},{"$f":"IF(D373=\"\",\"\",VLOOKUP($D373,Lists!$AP$2:$AR$78,3,FALSE))","v":""},null,null,null,null,null,null,null,""]
[null,{"$f":"IF(D374=\"\",\"\",VLOOKUP($D374,Lists!$AP$2:$AR$78,2,FALSE))","v":""},{"$f":"IF(D374=\"\",\"\",VLOOKUP($D374,Lists!$AP$2:$AR$78,3,FALSE))","v":""},null,null,null,null,null,null,null,""]
[null,{"$f":"IF(D375=\"\",\"\",VLOOKUP($D375,Lists!$AP$2:$AR$78,2,FALSE))","v":""},{"$f":"IF(D375=\"\",\"\",VLOOKUP($D375,Lists!$AP$2:$AR$78,3,FALSE))","v":""},null,null,null,null,null,null,null,""]
[null,{"$f":"IF(D376=\"\",\"\",VLOOKUP($D376,Lists!$AP$2:$AR$78,2,FALSE))","v":""},{"$f":"IF(D376=\"\",\"\",VLOOKUP($D376,Lists!$AP$2:$AR$78,3,FALSE))","v":""},null,null,null,null,null,null,null,""]
[null,{"$f":"IF(D377=\"\",\"\",VLOOKUP($D377,Lists!$AP$2:$AR$78,2,FALSE))","v":""},{"$f":"IF(D377=\"\",\"\",VLOOKUP($D377,Lists!$AP$2:$AR$78,3,FALSE))","v":""},null,null,null,null,null,null,null,""]
[null,{"$f":"IF(D378=\"\",\"\",VLOOKUP($D378,Lists!$AP$2:$AR$78,2,FALSE))","v":""},{"$f":"IF(D378=\"\",\"\",VLOOKUP($D378,Lists!$AP$2:$AR$78,3,FALSE))","v":""},null,null,null,null,null,null,null,""]
[null,{"$f":"IF(D379=\"\",\"\",VLOOKUP($D379,Lists!$AP$2:$AR$78,2,FALSE))","v":""},{"$f":"IF(D379=\"\",\"\",VLOOKUP($D379,Lists!$AP$2:$AR$78,3,FALSE))","v":""},null,null,null,null,null,null,null,""]
[null,{"$f":"IF(D380=\"\",\"\",VLOOKUP($D380,Lists!$AP$2:$AR$78,2,FALSE))","v":""},{"$f":"IF(D380=\"\",\"\",VLOOKUP($D380,Lists!$AP$2:$AR$78,3,FALSE))","v":""},null,null,null,null,null,null,null,""]
[null,{"$f":"IF(D381=\"\",\"\",VLOOKUP($D381,Lists!$AP$2:$AR$78,2,FALSE))","v":""},{"$f":"IF(D381=\"\",\"\",VLOOKUP($D381,Lists!$AP$2:$AR$78,3,FALSE))","v":""},null,null,null,null,null,null,null,""]
[null,{"$f":"IF(D382=\"\",\"\",VLOOKUP($D382,Lists!$AP$2:$AR$78,2,FALSE))","v":""},{"$f":"IF(D382=\"\",\"\",VLOOKUP($D382,Lists!$AP$2:$AR$78,3,FALSE))","v":""},null,null,null,null,null,null,null,""]
[null,{"$f":"IF(D383=\"\",\"\",VLOOKUP($D383,Lists!$AP$2:$AR$78,2,FALSE))","v":""},{"$f":"IF(D383=\"\",\"\",VLOOKUP($D383,Lists!$AP$2:$AR$78,3,FALSE))","v":""},null,null,null,null,null,null,null,""]
[null,{"$f":"IF(D384=\"\",\"\",VLOOKUP($D384,Lists!$AP$2:$AR$78,2,FALSE))","v":""},{"$f":"IF(D384=\"\",\"\",VLOOKUP($D384,Lists!$AP$2:$AR$78,3,FALSE))","v":""},null,null,null,null,null,null,null,""]
[null,{"$f":"IF(D385=\"\",\"\",VLOOKUP($D385,Lists!$AP$2:$AR$78,2,FALSE))","v":""},{"$f":"IF(D385=\"\",\"\",VLOOKUP($D385,Lists!$AP$2:$AR$78,3,FALSE))","v":""},null,null,null,null,null,null,null,""]
[null,{"$f":"IF(D386=\"\",\"\",VLOOKUP($D386,Lists!$AP$2:$AR$78,2,FALSE))","v":""},{"$f":"IF(D386=\"\",\"\",VLOOKUP($D386,Lists!$AP$2:$AR$78,3,FALSE))","v":""},null,null,null,null,null,null,null,""]
[null,{"$f":"IF(D387=\"\",\"\",VLOOKUP($D387,Lists!$AP$2:$AR$78,2,FALSE))","v":""},{"$f":"IF(D387=\"\",\"\",VLOOKUP($D387,Lists!$AP$2:$AR$78,3,FALSE))","v":""},null,null,null,null,null,null,null,""]
[null,{"$f":"IF(D388=\"\",\"\",VLOOKUP($D388,Lists!$AP$2:$AR$78,2,FALSE))","v":""},{"$f":"IF(D388=\"\",\"\",VLOOKUP($D388,Lists!$AP$2:$AR$78,3,FALSE))","v":""},null,null,null,null,null,null,null,""]
[null,{"$f":"IF(D389=\"\",\"\",VLOOKUP($D389,Lists!$AP$2:$AR$78,2,FALSE))","v":""},{"$f":"IF(D389=\"\",\"\",VLOOKUP($D389,Lists!$AP$2:$AR$78,3,FALSE))","v":""},null,null,null,null,null,null,null,""]
[null,{"$f":"IF(D390=\"\",\"\",VLOOKUP($D390,Lists!$AP$2:$AR$78,2,FALSE))","v":""},{"$f":"IF(D390=\"\",\"\",VLOOKUP($D390,Lists!$AP$2:$AR$78,3,FALSE))","v":""},null,null,null,null,null,null,null,""]
[null,{"$f":"IF(D391=\"\",\"\",VLOOKUP($D391,Lists!$AP$2:$AR$78,2,FALSE))","v":""},{"$f":"IF(D391=\"\",\"\",VLOOKUP($D391,Lists!$AP$2:$AR$78,3,FALSE))","v":""},null,null,null,null,null,null,null,""]
[null,{"$f":"IF(D392=\"\",\"\",VLOOKUP($D392,Lists!$AP$2:$AR$78,2,FALSE))","v":""},{"$f":"IF(D392=\"\",\"\",VLOOKUP($D392,Lists!$AP$2:$AR$78,3,FALSE))","v":""},null,null,null,null,null,null,null,""]
[null,{"$f":"IF(D393=\"\",\"\",VLOOKUP($D393,Lists!$AP$2:$AR$78,2,FALSE))","v":""},{"$f":"IF(D393=\"\",\"\",VLOOKUP($D393,Lists!$AP$2:$AR$78,3,FALSE))","v":""},null,null,null,null,null,null,null,""]
[null,{"$f":"IF(D394=\"\",\"\",VLOOKUP($D394,Lists!$AP$2:$AR$78,2,FALSE))","v":""},{"$f":"IF(D394=\"\",\"\",VLOOKUP($D394,Lists!$AP$2:$AR$78,3,FALSE))","v":""},null,null,null,null,null,null,null,""]
[null,{"$f":"IF(D395=\"\",\"\",VLOOKUP($D395,Lists!$AP$2:$AR$78,2,FALSE))","v":""},{"$f":"IF(D395=\"\",\"\",VLOOKUP($D395,Lists!$AP$2:$AR$78,3,FALSE))","v":""},null,null,null,null,null,null,null,""]
[null,{"$f":"IF(D396=\"\",\"\",VLOOKUP($D396,Lists!$AP$2:$AR$78,2,FALSE))","v":""},{"$f":"IF(D396=\"\",\"\",VLOOKUP($D396,Lists!$AP$2:$AR$78,3,FALSE))","v":""},null,null,null,null,null,null,null,""]
[null,{"$f":"IF(D397=\"\",\"\",VLOOKUP($D397,Lists!$AP$2:$AR$78,2,FALSE))","v":""},{"$f":"IF(D397=\"\",\"\",VLOOKUP($D397,Lists!$AP$2:$AR$78,3,FALSE))","v":""},null,null,null,null,null,null,null,""]
[null,{"$f":"IF(D398=\"\",\"\",VLOOKUP($D398,Lists!$AP$2:$AR$78,2,FALSE))","v":""},{"$f":"IF(D398=\"\",\"\",VLOOKUP($D398,Lists!$AP$2:$AR$78,3,FALSE))","v":""},null,null,null,null,null,null,null,""]
[null,{"$f":"IF(D399=\"\",\"\",VLOOKUP($D399,Lists!$AP$2:$AR$78,2,FALSE))","v":""},{"$f":"IF(D399=\"\",\"\",VLOOKUP($D399,Lists!$AP$2:$AR$78,3,FALSE))","v":""},null,null,null,null,null,null,null,""]
[null,{"$f":"IF(D400=\"\",\"\",VLOOKUP($D400,Lists!$AP$2:$AR$78,2,FALSE))","v":""},{"$f":"IF(D400=\"\",\"\",VLOOKUP($D400,Lists!$AP$2:$AR$78,3,FALSE))","v":""},null,null,null,null,null,null,null,""]
[null,{"$f":"IF(D401=\"\",\"\",VLOOKUP($D401,Lists!$AP$2:$AR$78,2,FALSE))","v":""},{"$f":"IF(D401=\"\",\"\",VLOOKUP($D401,Lists!$AP$2:$AR$78,3,FALSE))","v":""},null,null,null,null,null,null,null,""]
[null,{"$f":"IF(D402=\"\",\"\",VLOOKUP($D402,Lists!$AP$2:$AR$78,2,FALSE))","v":""},{"$f":"IF(D402=\"\",\"\",VLOOKUP($D402,Lists!$AP$2:$AR$78,3,FALSE))","v":""},null,null,null,null,null,null,null,""]
[null,{"$f":"IF(D403=\"\",\"\",VLOOKUP($D403,Lists!$AP$2:$AR$78,2,FALSE))","v":""},{"$f":"IF(D403=\"\",\"\",VLOOKUP($D403,Lists!$AP$2:$AR$78,3,FALSE))","v":""},null,null,null,null,null,null,null,""]
[null,{"$f":"IF(D404=\"\",\"\",VLOOKUP($D404,Lists!$AP$2:$AR$78,2,FALSE))","v":""},{"$f":"IF(D404=\"\",\"\",VLOOKUP($D404,Lists!$AP$2:$AR$78,3,FALSE))","v":""},null,null,null,null,null,null,null,""]
[null,{"$f":"IF(D405=\"\",\"\",VLOOKUP($D405,Lists!$AP$2:$AR$78,2,FALSE))","v":""},{"$f":"IF(D405=\"\",\"\",VLOOKUP($D405,Lists!$AP$2:$AR$78,3,FALSE))","v":""},null,null,null,null,null,null,null,""]
[null,{"$f":"IF(D406=\"\",\"\",VLOOKUP($D406,Lists!$AP$2:$AR$78,2,FALSE))","v":""},{"$f":"IF(D406=\"\",\"\",VLOOKUP($D406,Lists!$AP$2:$AR$78,3,FALSE))","v":""},null,null,null,null,null,null,null,""]
[null,{"$f":"IF(D407=\"\",\"\",VLOOKUP($D407,Lists!$AP$2:$AR$78,2,FALSE))","v":""},{"$f":"IF(D407=\"\",\"\",VLOOKUP($D407,Lists!$AP$2:$AR$78,3,FALSE))","v":""},null,null,null,null,null,null,null,""]
[null,{"$f":"IF(D408=\"\",\"\",VLOOKUP($D408,Lists!$AP$2:$AR$78,2,FALSE))","v":""},{"$f":"IF(D408=\"\",\"\",VLOOKUP($D408,Lists!$AP$2:$AR$78,3,FALSE))","v":""},null,null,null,null,null,null,null,""]
[null,{"$f":"IF(D409=\"\",\"\",VLOOKUP($D409,Lists!$AP$2:$AR$78,2,FALSE))","v":""},{"$f":"IF(D409=\"\",\"\",VLOOKUP($D409,Lists!$AP$2:$AR$78,3,FALSE))","v":""},null,null,null,null,null,null,null,{"$f":"IF(J409=\"\",\"\",(VALUE(TEXT(I409,\"m/dd/yy \")&TEXT(J409,\"hh:mm:ss\"))-(VALUE(TEXT(G409,\"m/dd/yy \")&TEXT(H409,\"hh:mm:ss\"))))*24)","v":""}]
[null,{"$f":"IF(D410=\"\",\"\",VLOOKUP($D410,Lists!$AP$2:$AR$78,2,FALSE))","v":""},{"$f":"IF(D410=\"\",\"\",VLOOKUP($D410,Lists!$AP$2:$AR$78,3,FALSE))","v":""},null,null,null,null,null,null,null,""]
[null,{"$f":"IF(D411=\"\",\"\",VLOOKUP($D411,Lists!$AP$2:$AR$78,2,FALSE))","v":""},{"$f":"IF(D411=\"\",\"\",VLOOKUP($D411,Lists!$AP$2:$AR$78,3,FALSE))","v":""},null,null,null,null,null,null,null,""]
[null,{"$f":"IF(D412=\"\",\"\",VLOOKUP($D412,Lists!$AP$2:$AR$78,2,FALSE))","v":""},{"$f":"IF(D412=\"\",\"\",VLOOKUP($D412,Lists!$AP$2:$AR$78,3,FALSE))","v":""},null,null,null,null,null,null,null,""]
[null,{"$f":"IF(D413=\"\",\"\",VLOOKUP($D413,Lists!$AP$2:$AR$78,2,FALSE))","v":""},{"$f":"IF(D413=\"\",\"\",VLOOKUP($D413,Lists!$AP$2:$AR$78,3,FALSE))","v":""},null,null,null,null,null,null,null,""]
[null,{"$f":"IF(D414=\"\",\"\",VLOOKUP($D414,Lists!$AP$2:$AR$78,2,FALSE))","v":""},{"$f":"IF(D414=\"\",\"\",VLOOKUP($D414,Lists!$AP$2:$AR$78,3,FALSE))","v":""},null,null,null,null,null,null,null,""]
[null,{"$f":"IF(D415=\"\",\"\",VLOOKUP($D415,Lists!$AP$2:$AR$78,2,FALSE))","v":""},{"$f":"IF(D415=\"\",\"\",VLOOKUP($D415,Lists!$AP$2:$AR$78,3,FALSE))","v":""},null,null,null,null,null,null,null,""]
[null,{"$f":"IF(D416=\"\",\"\",VLOOKUP($D416,Lists!$AP$2:$AR$78,2,FALSE))","v":""},{"$f":"IF(D416=\"\",\"\",VLOOKUP($D416,Lists!$AP$2:$AR$78,3,FALSE))","v":""},null,null,null,null,null,null,null,""]
[null,{"$f":"IF(D417=\"\",\"\",VLOOKUP($D417,Lists!$AP$2:$AR$78,2,FALSE))","v":""},{"$f":"IF(D417=\"\",\"\",VLOOKUP($D417,Lists!$AP$2:$AR$78,3,FALSE))","v":""},null,null,null,null,null,null,null,""]
[null,{"$f":"IF(D418=\"\",\"\",VLOOKUP($D418,Lists!$AP$2:$AR$78,2,FALSE))","v":""},{"$f":"IF(D418=\"\",\"\",VLOOKUP($D418,Lists!$AP$2:$AR$78,3,FALSE))","v":""},null,null,null,null,null,null,null,""]
[null,{"$f":"IF(D419=\"\",\"\",VLOOKUP($D419,Lists!$AP$2:$AR$78,2,FALSE))","v":""},{"$f":"IF(D419=\"\",\"\",VLOOKUP($D419,Lists!$AP$2:$AR$78,3,FALSE))","v":""},null,null,null,null,null,null,null,""]
[null,{"$f":"IF(D420=\"\",\"\",VLOOKUP($D420,Lists!$AP$2:$AR$78,2,FALSE))","v":""},{"$f":"IF(D420=\"\",\"\",VLOOKUP($D420,Lists!$AP$2:$AR$78,3,FALSE))","v":""},null,null,null,null,null,null,null,""]
[null,{"$f":"IF(D421=\"\",\"\",VLOOKUP($D421,Lists!$AP$2:$AR$78,2,FALSE))","v":""},{"$f":"IF(D421=\"\",\"\",VLOOKUP($D421,Lists!$AP$2:$AR$78,3,FALSE))","v":""},null,null,null,null,null,null,null,""]
[null,{"$f":"IF(D422=\"\",\"\",VLOOKUP($D422,Lists!$AP$2:$AR$78,2,FALSE))","v":""},{"$f":"IF(D422=\"\",\"\",VLOOKUP($D422,Lists!$AP$2:$AR$78,3,FALSE))","v":""},null,null,null,null,null,null,null,""]
[null,{"$f":"IF(D423=\"\",\"\",VLOOKUP($D423,Lists!$AP$2:$AR$78,2,FALSE))","v":""},{"$f":"IF(D423=\"\",\"\",VLOOKUP($D423,Lists!$AP$2:$AR$78,3,FALSE))","v":""},null,null,null,null,null,null,null,""]
[null,{"$f":"IF(D424=\"\",\"\",VLOOKUP($D424,Lists!$AP$2:$AR$78,2,FALSE))","v":""},{"$f":"IF(D424=\"\",\"\",VLOOKUP($D424,Lists!$AP$2:$AR$78,3,FALSE))","v":""},null,null,null,null,null,null,null,""]
[null,{"$f":"IF(D425=\"\",\"\",VLOOKUP($D425,Lists!$AP$2:$AR$78,2,FALSE))","v":""},{"$f":"IF(D425=\"\",\"\",VLOOKUP($D425,Lists!$AP$2:$AR$78,3,FALSE))","v":""},null,null,null,null,null,null,null,""]
[null,{"$f":"IF(D426=\"\",\"\",VLOOKUP($D426,Lists!$AP$2:$AR$78,2,FALSE))","v":""},{"$f":"IF(D426=\"\",\"\",VLOOKUP($D426,Lists!$AP$2:$AR$78,3,FALSE))","v":""},null,null,null,null,null,null,null,""]
[null,{"$f":"IF(D427=\"\",\"\",VLOOKUP($D427,Lists!$AP$2:$AR$78,2,FALSE))","v":""},{"$f":"IF(D427=\"\",\"\",VLOOKUP($D427,Lists!$AP$2:$AR$78,3,FALSE))","v":""},null,null,null,null,null,null,null,""]
[null,{"$f":"IF(D428=\"\",\"\",VLOOKUP($D428,Lists!$AP$2:$AR$78,2,FALSE))","v":""},{"$f":"IF(D428=\"\",\"\",VLOOKUP($D428,Lists!$AP$2:$AR$78,3,FALSE))","v":""},null,null,null,null,null,null,null,""]
[null,{"$f":"IF(D429=\"\",\"\",VLOOKUP($D429,Lists!$AP$2:$AR$78,2,FALSE))","v":""},{"$f":"IF(D429=\"\",\"\",VLOOKUP($D429,Lists!$AP$2:$AR$78,3,FALSE))","v":""},null,null,null,null,null,null,null,""]
[null,{"$f":"IF(D430=\"\",\"\",VLOOKUP($D430,Lists!$AP$2:$AR$78,2,FALSE))","v":""},{"$f":"IF(D430=\"\",\"\",VLOOKUP($D430,Lists!$AP$2:$AR$78,3,FALSE))","v":""},null,null,null,null,null,null,null,""]
[null,{"$f":"IF(D431=\"\",\"\",VLOOKUP($D431,Lists!$AP$2:$AR$78,2,FALSE))","v":""},{"$f":"IF(D431=\"\",\"\",VLOOKUP($D431,Lists!$AP$2:$AR$78,3,FALSE))","v":""},null,null,null,null,null,null,null,""]
[null,{"$f":"IF(D432=\"\",\"\",VLOOKUP($D432,Lists!$AP$2:$AR$78,2,FALSE))","v":""},{"$f":"IF(D432=\"\",\"\",VLOOKUP($D432,Lists!$AP$2:$AR$78,3,FALSE))","v":""},null,null,null,null,null,null,null,""]
[null,{"$f":"IF(D433=\"\",\"\",VLOOKUP($D433,Lists!$AP$2:$AR$78,2,FALSE))","v":""},{"$f":"IF(D433=\"\",\"\",VLOOKUP($D433,Lists!$AP$2:$AR$78,3,FALSE))","v":""},null,null,null,null,null,null,null,""]
[null,{"$f":"IF(D434=\"\",\"\",VLOOKUP($D434,Lists!$AP$2:$AR$78,2,FALSE))","v":""},{"$f":"IF(D434=\"\",\"\",VLOOKUP($D434,Lists!$AP$2:$AR$78,3,FALSE))","v":""},null,null,null,null,null,null,null,""]
[null,{"$f":"IF(D435=\"\",\"\",VLOOKUP($D435,Lists!$AP$2:$AR$78,2,FALSE))","v":""},{"$f":"IF(D435=\"\",\"\",VLOOKUP($D435,Lists!$AP$2:$AR$78,3,FALSE))","v":""},null,null,null,null,null,null,null,""]
[null,{"$f":"IF(D436=\"\",\"\",VLOOKUP($D436,Lists!$AP$2:$AR$78,2,FALSE))","v":""},{"$f":"IF(D436=\"\",\"\",VLOOKUP($D436,Lists!$AP$2:$AR$78,3,FALSE))","v":""},null,null,null,null,null,null,null,""]
[null,{"$f":"IF(D437=\"\",\"\",VLOOKUP($D437,Lists!$AP$2:$AR$78,2,FALSE))","v":""},{"$f":"IF(D437=\"\",\"\",VLOOKUP($D437,Lists!$AP$2:$AR$78,3,FALSE))","v":""},null,null,null,null,null,null,null,""]
[null,{"$f":"IF(D438=\"\",\"\",VLOOKUP($D438,Lists!$AP$2:$AR$78,2,FALSE))","v":""},{"$f":"IF(D438=\"\",\"\",VLOOKUP($D438,Lists!$AP$2:$AR$78,3,FALSE))","v":""},null,null,null,null,null,null,null,""]
[null,{"$f":"IF(D439=\"\",\"\",VLOOKUP($D439,Lists!$AP$2:$AR$78,2,FALSE))","v":""},{"$f":"IF(D439=\"\",\"\",VLOOKUP($D439,Lists!$AP$2:$AR$78,3,FALSE))","v":""},null,null,null,null,null,null,null,""]
[null,{"$f":"IF(D440=\"\",\"\",VLOOKUP($D440,Lists!$AP$2:$AR$78,2,FALSE))","v":""},{"$f":"IF(D440=\"\",\"\",VLOOKUP($D440,Lists!$AP$2:$AR$78,3,FALSE))","v":""},null,null,null,null,null,null,null,""]
[null,{"$f":"IF(D441=\"\",\"\",VLOOKUP($D441,Lists!$AP$2:$AR$78,2,FALSE))","v":""},{"$f":"IF(D441=\"\",\"\",VLOOKUP($D441,Lists!$AP$2:$AR$78,3,FALSE))","v":""},null,null,null,null,null,null,null,""]
[null,{"$f":"IF(D442=\"\",\"\",VLOOKUP($D442,Lists!$AP$2:$AR$78,2,FALSE))","v":""},{"$f":"IF(D442=\"\",\"\",VLOOKUP($D442,Lists!$AP$2:$AR$78,3,FALSE))","v":""},null,null,null,null,null,null,null,""]
[null,{"$f":"IF(D443=\"\",\"\",VLOOKUP($D443,Lists!$AP$2:$AR$78,2,FALSE))","v":""},{"$f":"IF(D443=\"\",\"\",VLOOKUP($D443,Lists!$AP$2:$AR$78,3,FALSE))","v":""},null,null,null,null,null,null,null,""]
[null,{"$f":"IF(D444=\"\",\"\",VLOOKUP($D444,Lists!$AP$2:$AR$78,2,FALSE))","v":""},{"$f":"IF(D444=\"\",\"\",VLOOKUP($D444,Lists!$AP$2:$AR$78,3,FALSE))","v":""},null,null,null,null,null,null,null,""]
[null,{"$f":"IF(D445=\"\",\"\",VLOOKUP($D445,Lists!$AP$2:$AR$78,2,FALSE))","v":""},{"$f":"IF(D445=\"\",\"\",VLOOKUP($D445,Lists!$AP$2:$AR$78,3,FALSE))","v":""},null,null,null,null,null,null,null,""]
[null,{"$f":"IF(D446=\"\",\"\",VLOOKUP($D446,Lists!$AP$2:$AR$78,2,FALSE))","v":""},{"$f":"IF(D446=\"\",\"\",VLOOKUP($D446,Lists!$AP$2:$AR$78,3,FALSE))","v":""},null,null,null,null,null,null,null,""]
[null,{"$f":"IF(D447=\"\",\"\",VLOOKUP($D447,Lists!$AP$2:$AR$78,2,FALSE))","v":""},{"$f":"IF(D447=\"\",\"\",VLOOKUP($D447,Lists!$AP$2:$AR$78,3,FALSE))","v":""},null,null,null,null,null,null,null,""]
[null,{"$f":"IF(D448=\"\",\"\",VLOOKUP($D448,Lists!$AP$2:$AR$78,2,FALSE))","v":""},{"$f":"IF(D448=\"\",\"\",VLOOKUP($D448,Lists!$AP$2:$AR$78,3,FALSE))","v":""},null,null,null,null,null,null,null,""]
[null,{"$f":"IF(D449=\"\",\"\",VLOOKUP($D449,Lists!$AP$2:$AR$78,2,FALSE))","v":""},{"$f":"IF(D449=\"\",\"\",VLOOKUP($D449,Lists!$AP$2:$AR$78,3,FALSE))","v":""},null,null,null,null,null,null,null,""]
[null,{"$f":"IF(D450=\"\",\"\",VLOOKUP($D450,Lists!$AP$2:$AR$78,2,FALSE))","v":""},{"$f":"IF(D450=\"\",\"\",VLOOKUP($D450,Lists!$AP$2:$AR$78,3,FALSE))","v":""},null,null,null,null,null,null,null,""]
[null,{"$f":"IF(D451=\"\",\"\",VLOOKUP($D451,Lists!$AP$2:$AR$78,2,FALSE))","v":""},{"$f":"IF(D451=\"\",\"\",VLOOKUP($D451,Lists!$AP$2:$AR$78,3,FALSE))","v":""},null,null,null,null,null,null,null,""]
[null,{"$f":"IF(D452=\"\",\"\",VLOOKUP($D452,Lists!$AP$2:$AR$78,2,FALSE))","v":""},{"$f":"IF(D452=\"\",\"\",VLOOKUP($D452,Lists!$AP$2:$AR$78,3,FALSE))","v":""},null,null,null,null,null,null,null,""]
[null,{"$f":"IF(D453=\"\",\"\",VLOOKUP($D453,Lists!$AP$2:$AR$78,2,FALSE))","v":""},{"$f":"IF(D453=\"\",\"\",VLOOKUP($D453,Lists!$AP$2:$AR$78,3,FALSE))","v":""},null,null,null,null,null,null,null,""]
[null,{"$f":"IF(D454=\"\",\"\",VLOOKUP($D454,Lists!$AP$2:$AR$78,2,FALSE))","v":""},{"$f":"IF(D454=\"\",\"\",VLOOKUP($D454,Lists!$AP$2:$AR$78,3,FALSE))","v":""},null,null,null,null,null,null,null,""]
[null,{"$f":"IF(D455=\"\",\"\",VLOOKUP($D455,Lists!$AP$2:$AR$78,2,FALSE))","v":""},{"$f":"IF(D455=\"\",\"\",VLOOKUP($D455,Lists!$AP$2:$AR$78,3,FALSE))","v":""},null,null,null,null,null,null,null,""]
[null,{"$f":"IF(D456=\"\",\"\",VLOOKUP($D456,Lists!$AP$2:$AR$78,2,FALSE))","v":""},{"$f":"IF(D456=\"\",\"\",VLOOKUP($D456,Lists!$AP$2:$AR$78,3,FALSE))","v":""},null,null,null,null,null,null,null,""]
[null,{"$f":"IF(D457=\"\",\"\",VLOOKUP($D457,Lists!$AP$2:$AR$78,2,FALSE))","v":""},{"$f":"IF(D457=\"\",\"\",VLOOKUP($D457,Lists!$AP$2:$AR$78,3,FALSE))","v":""},null,null,null,null,null,null,null,""]
[null,{"$f":"IF(D458=\"\",\"\",VLOOKUP($D458,Lists!$AP$2:$AR$78,2,FALSE))","v":""},{"$f":"IF(D458=\"\",\"\",VLOOKUP($D458,Lists!$AP$2:$AR$78,3,FALSE))","v":""},null,null,null,null,null,null,null,""]
[null,{"$f":"IF(D459=\"\",\"\",VLOOKUP($D459,Lists!$AP$2:$AR$78,2,FALSE))","v":""},{"$f":"IF(D459=\"\",\"\",VLOOKUP($D459,Lists!$AP$2:$AR$78,3,FALSE))","v":""},null,null,null,null,null,null,null,""]
[null,{"$f":"IF(D460=\"\",\"\",VLOOKUP($D460,Lists!$AP$2:$AR$78,2,FALSE))","v":""},{"$f":"IF(D460=\"\",\"\",VLOOKUP($D460,Lists!$AP$2:$AR$78,3,FALSE))","v":""},null,null,null,null,null,null,null,""]
[null,{"$f":"IF(D461=\"\",\"\",VLOOKUP($D461,Lists!$AP$2:$AR$78,2,FALSE))","v":""},{"$f":"IF(D461=\"\",\"\",VLOOKUP($D461,Lists!$AP$2:$AR$78,3,FALSE))","v":""},null,null,null,null,null,null,null,""]
[null,{"$f":"IF(D462=\"\",\"\",VLOOKUP($D462,Lists!$AP$2:$AR$78,2,FALSE))","v":""},{"$f":"IF(D462=\"\",\"\",VLOOKUP($D462,Lists!$AP$2:$AR$78,3,FALSE))","v":""},null,null,null,null,null,null,null,""]
[null,{"$f":"IF(D463=\"\",\"\",VLOOKUP($D463,Lists!$AP$2:$AR$78,2,FALSE))","v":""},{"$f":"IF(D463=\"\",\"\",VLOOKUP($D463,Lists!$AP$2:$AR$78,3,FALSE))","v":""},null,null,null,null,null,null,null,""]
[null,{"$f":"IF(D464=\"\",\"\",VLOOKUP($D464,Lists!$AP$2:$AR$78,2,FALSE))","v":""},{"$f":"IF(D464=\"\",\"\",VLOOKUP($D464,Lists!$AP$2:$AR$78,3,FALSE))","v":""},null,null,null,null,null,null,null,""]
[null,{"$f":"IF(D465=\"\",\"\",VLOOKUP($D465,Lists!$AP$2:$AR$78,2,FALSE))","v":""},{"$f":"IF(D465=\"\",\"\",VLOOKUP($D465,Lists!$AP$2:$AR$78,3,FALSE))","v":""},null,null,null,null,null,null,null,""]
[null,{"$f":"IF(D466=\"\",\"\",VLOOKUP($D466,Lists!$AP$2:$AR$78,2,FALSE))","v":""},{"$f":"IF(D466=\"\",\"\",VLOOKUP($D466,Lists!$AP$2:$AR$78,3,FALSE))","v":""},null,null,null,null,null,null,null,""]
[null,{"$f":"IF(D467=\"\",\"\",VLOOKUP($D467,Lists!$AP$2:$AR$78,2,FALSE))","v":""},{"$f":"IF(D467=\"\",\"\",VLOOKUP($D467,Lists!$AP$2:$AR$78,3,FALSE))","v":""},null,null,null,null,null,null,null,""]
[null,{"$f":"IF(D468=\"\",\"\",VLOOKUP($D468,Lists!$AP$2:$AR$78,2,FALSE))","v":""},{"$f":"IF(D468=\"\",\"\",VLOOKUP($D468,Lists!$AP$2:$AR$78,3,FALSE))","v":""},null,null,null,null,null,null,null,""]
[null,{"$f":"IF(D469=\"\",\"\",VLOOKUP($D469,Lists!$AP$2:$AR$78,2,FALSE))","v":""},{"$f":"IF(D469=\"\",\"\",VLOOKUP($D469,Lists!$AP$2:$AR$78,3,FALSE))","v":""},null,null,null,null,null,null,null,""]
[null,{"$f":"IF(D470=\"\",\"\",VLOOKUP($D470,Lists!$AP$2:$AR$78,2,FALSE))","v":""},{"$f":"IF(D470=\"\",\"\",VLOOKUP($D470,Lists!$AP$2:$AR$78,3,FALSE))","v":""},null,null,null,null,null,null,null,""]
[null,{"$f":"IF(D471=\"\",\"\",VLOOKUP($D471,Lists!$AP$2:$AR$78,2,FALSE))","v":""},{"$f":"IF(D471=\"\",\"\",VLOOKUP($D471,Lists!$AP$2:$AR$78,3,FALSE))","v":""},null,null,null,null,null,null,null,""]
[null,{"$f":"IF(D472=\"\",\"\",VLOOKUP($D472,Lists!$AP$2:$AR$78,2,FALSE))","v":""},{"$f":"IF(D472=\"\",\"\",VLOOKUP($D472,Lists!$AP$2:$AR$78,3,FALSE))","v":""},null,null,null,null,null,null,null,""]
[null,{"$f":"IF(D473=\"\",\"\",VLOOKUP($D473,Lists!$AP$2:$AR$78,2,FALSE))","v":""},{"$f":"IF(D473=\"\",\"\",VLOOKUP($D473,Lists!$AP$2:$AR$78,3,FALSE))","v":""},null,null,null,null,null,null,null,{"$f":"IF(J473=\"\",\"\",(VALUE(TEXT(I473,\"m/dd/yy \")&TEXT(J473,\"hh:mm:ss\"))-(VALUE(TEXT(G473,\"m/dd/yy \")&TEXT(H473,\"hh:mm:ss\"))))*24)","v":""}]
[null,{"$f":"IF(D474=\"\",\"\",VLOOKUP($D474,Lists!$AP$2:$AR$78,2,FALSE))","v":""},{"$f":"IF(D474=\"\",\"\",VLOOKUP($D474,Lists!$AP$2:$AR$78,3,FALSE))","v":""},null,null,null,null,null,null,null,""]
[null,{"$f":"IF(D475=\"\",\"\",VLOOKUP($D475,Lists!$AP$2:$AR$78,2,FALSE))","v":""},{"$f":"IF(D475=\"\",\"\",VLOOKUP($D475,Lists!$AP$2:$AR$78,3,FALSE))","v":""},null,null,null,null,null,null,null,""]
[null,{"$f":"IF(D476=\"\",\"\",VLOOKUP($D476,Lists!$AP$2:$AR$78,2,FALSE))","v":""},{"$f":"IF(D476=\"\",\"\",VLOOKUP($D476,Lists!$AP$2:$AR$78,3,FALSE))","v":""},null,null,null,null,null,null,null,""]
[null,{"$f":"IF(D477=\"\",\"\",VLOOKUP($D477,Lists!$AP$2:$AR$78,2,FALSE))","v":""},{"$f":"IF(D477=\"\",\"\",VLOOKUP($D477,Lists!$AP$2:$AR$78,3,FALSE))","v":""},null,null,null,null,null,null,null,""]
[null,{"$f":"IF(D478=\"\",\"\",VLOOKUP($D478,Lists!$AP$2:$AR$78,2,FALSE))","v":""},{"$f":"IF(D478=\"\",\"\",VLOOKUP($D478,Lists!$AP$2:$AR$78,3,FALSE))","v":""},null,null,null,null,null,null,null,""]
[null,{"$f":"IF(D479=\"\",\"\",VLOOKUP($D479,Lists!$AP$2:$AR$78,2,FALSE))","v":""},{"$f":"IF(D479=\"\",\"\",VLOOKUP($D479,Lists!$AP$2:$AR$78,3,FALSE))","v":""},null,null,null,null,null,null,null,""]
[null,{"$f":"IF(D480=\"\",\"\",VLOOKUP($D480,Lists!$AP$2:$AR$78,2,FALSE))","v":""},{"$f":"IF(D480=\"\",\"\",VLOOKUP($D480,Lists!$AP$2:$AR$78,3,FALSE))","v":""},null,null,null,null,null,null,null,""]
[null,{"$f":"IF(D481=\"\",\"\",VLOOKUP($D481,Lists!$AP$2:$AR$78,2,FALSE))","v":""},{"$f":"IF(D481=\"\",\"\",VLOOKUP($D481,Lists!$AP$2:$AR$78,3,FALSE))","v":""},null,null,null,null,null,null,null,""]
[null,{"$f":"IF(D482=\"\",\"\",VLOOKUP($D482,Lists!$AP$2:$AR$78,2,FALSE))","v":""},{"$f":"IF(D482=\"\",\"\",VLOOKUP($D482,Lists!$AP$2:$AR$78,3,FALSE))","v":""},null,null,null,null,null,null,null,""]
[null,{"$f":"IF(D483=\"\",\"\",VLOOKUP($D483,Lists!$AP$2:$AR$78,2,FALSE))","v":""},{"$f":"IF(D483=\"\",\"\",VLOOKUP($D483,Lists!$AP$2:$AR$78,3,FALSE))","v":""},null,null,null,null,null,null,null,""]
[null,{"$f":"IF(D484=\"\",\"\",VLOOKUP($D484,Lists!$AP$2:$AR$78,2,FALSE))","v":""},{"$f":"IF(D484=\"\",\"\",VLOOKUP($D484,Lists!$AP$2:$AR$78,3,FALSE))","v":""},null,null,null,null,null,null,null,""]
[null,{"$f":"IF(D485=\"\",\"\",VLOOKUP($D485,Lists!$AP$2:$AR$78,2,FALSE))","v":""},{"$f":"IF(D485=\"\",\"\",VLOOKUP($D485,Lists!$AP$2:$AR$78,3,FALSE))","v":""},null,null,null,null,null,null,null,""]
[null,{"$f":"IF(D486=\"\",\"\",VLOOKUP($D486,Lists!$AP$2:$AR$78,2,FALSE))","v":""},{"$f":"IF(D486=\"\",\"\",VLOOKUP($D486,Lists!$AP$2:$AR$78,3,FALSE))","v":""},null,null,null,null,null,null,null,""]
[null,{"$f":"IF(D487=\"\",\"\",VLOOKUP($D487,Lists!$AP$2:$AR$78,2,FALSE))","v":""},{"$f":"IF(D487=\"\",\"\",VLOOKUP($D487,Lists!$AP$2:$AR$78,3,FALSE))","v":""},null,null,null,null,null,null,null,""]
[null,{"$f":"IF(D488=\"\",\"\",VLOOKUP($D488,Lists!$AP$2:$AR$78,2,FALSE))","v":""},{"$f":"IF(D488=\"\",\"\",VLOOKUP($D488,Lists!$AP$2:$AR$78,3,FALSE))","v":""},null,null,null,null,null,null,null,""]
[null,{"$f":"IF(D489=\"\",\"\",VLOOKUP($D489,Lists!$AP$2:$AR$78,2,FALSE))","v":""},{"$f":"IF(D489=\"\",\"\",VLOOKUP($D489,Lists!$AP$2:$AR$78,3,FALSE))","v":""},null,null,null,null,null,null,null,""]
[null,{"$f":"IF(D490=\"\",\"\",VLOOKUP($D490,Lists!$AP$2:$AR$78,2,FALSE))","v":""},{"$f":"IF(D490=\"\",\"\",VLOOKUP($D490,Lists!$AP$2:$AR$78,3,FALSE))","v":""},null,null,null,null,null,null,null,""]
[null,{"$f":"IF(D491=\"\",\"\",VLOOKUP($D491,Lists!$AP$2:$AR$78,2,FALSE))","v":""},{"$f":"IF(D491=\"\",\"\",VLOOKUP($D491,Lists!$AP$2:$AR$78,3,FALSE))","v":""},null,null,null,null,null,null,null,""]
[null,{"$f":"IF(D492=\"\",\"\",VLOOKUP($D492,Lists!$AP$2:$AR$78,2,FALSE))","v":""},{"$f":"IF(D492=\"\",\"\",VLOOKUP($D492,Lists!$AP$2:$AR$78,3,FALSE))","v":""},null,null,null,null,null,null,null,""]
[null,{"$f":"IF(D493=\"\",\"\",VLOOKUP($D493,Lists!$AP$2:$AR$78,2,FALSE))","v":""},{"$f":"IF(D493=\"\",\"\",VLOOKUP($D493,Lists!$AP$2:$AR$78,3,FALSE))","v":""},null,null,null,null,null,null,null,""]
[null,{"$f":"IF(D494=\"\",\"\",VLOOKUP($D494,Lists!$AP$2:$AR$78,2,FALSE))","v":""},{"$f":"IF(D494=\"\",\"\",VLOOKUP($D494,Lists!$AP$2:$AR$78,3,FALSE))","v":""},null,null,null,null,null,null,null,""]
[null,{"$f":"IF(D495=\"\",\"\",VLOOKUP($D495,Lists!$AP$2:$AR$78,2,FALSE))","v":""},{"$f":"IF(D495=\"\",\"\",VLOOKUP($D495,Lists!$AP$2:$AR$78,3,FALSE))","v":""},null,null,null,null,null,null,null,""]
[null,{"$f":"IF(D496=\"\",\"\",VLOOKUP($D496,Lists!$AP$2:$AR$78,2,FALSE))","v":""},{"$f":"IF(D496=\"\",\"\",VLOOKUP($D496,Lists!$AP$2:$AR$78,3,FALSE))","v":""},null,null,null,null,null,null,null,""]
[null,{"$f":"IF(D497=\"\",\"\",VLOOKUP($D497,Lists!$AP$2:$AR$78,2,FALSE))","v":""},{"$f":"IF(D497=\"\",\"\",VLOOKUP($D497,Lists!$AP$2:$AR$78,3,FALSE))","v":""},null,null,null,null,null,null,null,""]
[null,{"$f":"IF(D498=\"\",\"\",VLOOKUP($D498,Lists!$AP$2:$AR$78,2,FALSE))","v":""},{"$f":"IF(D498=\"\",\"\",VLOOKUP($D498,Lists!$AP$2:$AR$78,3,FALSE))","v":""},null,null,null,null,null,null,null,""]
[null,{"$f":"IF(D499=\"\",\"\",VLOOKUP($D499,Lists!$AP$2:$AR$78,2,FALSE))","v":""},{"$f":"IF(D499=\"\",\"\",VLOOKUP($D499,Lists!$AP$2:$AR$78,3,FALSE))","v":""},null,null,null,null,null,null,null,""]
[null,{"$f":"IF(D500=\"\",\"\",VLOOKUP($D500,Lists!$AP$2:$AR$78,2,FALSE))","v":""},{"$f":"IF(D500=\"\",\"\",VLOOKUP($D500,Lists!$AP$2:$AR$78,3,FALSE))","v":""},null,null,null,null,null,null,null,""]

{"sheet":"Deviations_Work_Practice_Plans","index":9,"n_rows":500,"n_cols":12,"rows_kept":500,"cut":false,"hidden":false,"merged":[]}
[null,"DO NOT REMOVE OR EDIT INFORMATION IN THIS SECTION\nFOR INTERNAL USE ONLY"]
[null,"Template Name",{"$f":"+Welcome!B2","v":"63.3120(f) Semiannual Compliance Report (Spreadsheet Template)"}]
[null,"CitationID",{"$f":"+Welcome!B3","v":"63.3120(f)"}]
[null,"Template Version",{"$f":"+Welcome!B4","v":"v2.06"}]
[null,"Last Updated Date",{"$f":"+Welcome!B5","v":45392}]
[null,"OMB Control Number: 2060-0518       Expiration Date: 04/30/2019"]
[null,"40 CFR Part 63, Subpart IIII National Emission Standards for Hazardous Air Pollutants: Surface Coating of Automobiles and Light-Duty Trucks - §63.3120(f) Semiannual Compliance Report Spreadsheet Template"]
[null,"\n"]
[]
[]
[]
[null,"Company Record No.\n(Autofilled)","Name of Operation \n(§63.3120(a)(9)(ii))\n(Autofilled)","Company Record No. and Affected Source or Equipment\n(§63.3120(a)(9)(ii))\n(Select from dropdown)","Nature of Deviation\n(§63.3120(a)(9)(ii)","Starting Date of Work Practice Plan Deviation\n(§63.3120(a)(9)(i))","Start Time of Work Practice Plan Deviation\n(§63.3120(a)(9)(i))","Ending Date of Work Practice Plan Deviation\n(§63.3120(a)(9)(i))","End Time of Work Practice Plan Deviation\n(§63.3120(a)(9)(i))","Duration of Work Practice Plan Deviation\n(§63.3120(a)(9)(i))\n(Calculated value or manual entry)","Cause of Deviation \n(§63.3120(a)(9)(ii))","Corrective Action Taken \n(§63.3120(a)(9)(iii))"]
[null,"RecordId","OperationName","AffectedSourceCompanyRecord","TypeofDeviation","PracticeStartDate","PracticeStartTime","PracticeEndDate","PracticeEndTime","WorkDuration","DeviationCause","CorrectiveAction"]
[null,"e.g.: 1","e.g.: West Coating","e.g.: 1 West Coating","e.g. Incorrect temperature reading","e.g.: 3/2/2017","e.g.: 12:00","e.g. 3/3/2017","e.g.: 15:52","e.g.:27.87","e.g.:  Bin left unsealed","e.g.: replaced thermocouple"]
[null,"e.g.:","e.g.:","e.g.:","e.g.:","e.g.:","e.g.:","e.g.:","e.g.:","e.g.:","e.g.:","e.g.:"]
[null,"e.g.:","e.g.:","e.g.:","e.g.:","e.g.:","e.g.:","e.g.:","e.g.:","e.g.:","e.g.:","e.g.:"]
[null,"e.g.:","e.g.:","e.g.:","e.g.:","e.g.:","e.g.:","e.g.:","e.g.:","e.g.:","e.g.:","e.g.:"]
[null,"e.g.:","e.g.:","e.g.:","e.g.:","e.g.:","e.g.:","e.g.:","e.g.:","e.g.:","e.g.:","e.g.:"]
[null,"e.g.:","e.g.:","e.g.:","e.g.:","e.g.:","e.g.:","e.g.:","e.g.:","e.g.:","e.g.:","e.g.:"]
[null,"e.g.:","e.g.:","e.g.:","e.g.:","e.g.:","e.g.:","e.g.:","e.g.:","e.g.:","e.g.:","e.g.:"]
[null,"e.g.:","e.g.:","e.g.:","e.g.:","e.g.:","e.g.:","e.g.:","e.g.:","e.g.:","e.g.:","e.g.:"]
[null,"e.g.:","e.g.:","e.g.:","e.g.:","e.g.:","e.g.:","e.g.:","e.g.:","e.g.:","e.g.:","e.g.:"]
[null,"e.g.:","e.g.:","e.g.:","e.g.:","e.g.:","e.g.:","e.g.:","e.g.:","e.g.:","e.g.:","e.g.:"]
[null,{"$f":"IF(D24=\"\",\"\",VLOOKUP($D24,Lists!$AP$2:$AR$78,2,FALSE))","v":""},{"$f":"IF(D24=\"\",\"\",VLOOKUP($D24,Lists!$AP$2:$AR$78,3,FALSE))","v":""},null,null,null,null,null,null,{"$f":"IF(I24=\"\",\"\",(VALUE(TEXT(H24,\"m/dd/yy \")&TEXT(I24,\"hh:mm:ss\"))-(VALUE(TEXT(F24,\"m/dd/yy \")&TEXT(G24,\"hh:mm:ss\"))))*24)","v":""}]
[null,{"$f":"IF(D25=\"\",\"\",VLOOKUP($D25,Lists!$AP$2:$AR$78,2,FALSE))","v":""},{"$f":"IF(D25=\"\",\"\",VLOOKUP($D25,Lists!$AP$2:$AR$78,3,FALSE))","v":""},null,null,null,null,null,null,{"$f":"IF(I25=\"\",\"\",(VALUE(TEXT(H25,\"m/dd/yy \")&TEXT(I25,\"hh:mm:ss\"))-(VALUE(TEXT(F25,\"m/dd/yy \")&TEXT(G25,\"hh:mm:ss\"))))*24)","v":""}]
[null,{"$f":"IF(D26=\"\",\"\",VLOOKUP($D26,Lists!$AP$2:$AR$78,2,FALSE))","v":""},{"$f":"IF(D26=\"\",\"\",VLOOKUP($D26,Lists!$AP$2:$AR$78,3,FALSE))","v":""},null,null,null,null,null,null,""]
[null,{"$f":"IF(D27=\"\",\"\",VLOOKUP($D27,Lists!$AP$2:$AR$78,2,FALSE))","v":""},{"$f":"IF(D27=\"\",\"\",VLOOKUP($D27,Lists!$AP$2:$AR$78,3,FALSE))","v":""},null,null,null,null,null,null,""]
[null,{"$f":"IF(D28=\"\",\"\",VLOOKUP($D28,Lists!$AP$2:$AR$78,2,FALSE))","v":""},{"$f":"IF(D28=\"\",\"\",VLOOKUP($D28,Lists!$AP$2:$AR$78,3,FALSE))","v":""},null,null,null,null,null,null,""]
[null,{"$f":"IF(D29=\"\",\"\",VLOOKUP($D29,Lists!$AP$2:$AR$78,2,FALSE))","v":""},{"$f":"IF(D29=\"\",\"\",VLOOKUP($D29,Lists!$AP$2:$AR$78,3,FALSE))","v":""},null,null,null,null,null,null,""]
[null,{"$f":"IF(D30=\"\",\"\",VLOOKUP($D30,Lists!$AP$2:$AR$78,2,FALSE))","v":""},{"$f":"IF(D30=\"\",\"\",VLOOKUP($D30,Lists!$AP$2:$AR$78,3,FALSE))","v":""},null,null,null,null,null,null,""]
[null,{"$f":"IF(D31=\"\",\"\",VLOOKUP($D31,Lists!$AP$2:$AR$78,2,FALSE))","v":""},{"$f":"IF(D31=\"\",\"\",VLOOKUP($D31,Lists!$AP$2:$AR$78,3,FALSE))","v":""},null,null,null,null,null,null,""]
[null,{"$f":"IF(D32=\"\",\"\",VLOOKUP($D32,Lists!$AP$2:$AR$78,2,FALSE))","v":""},{"$f":"IF(D32=\"\",\"\",VLOOKUP($D32,Lists!$AP$2:$AR$78,3,FALSE))","v":""},null,null,null,null,null,null,""]
[null,{"$f":"IF(D33=\"\",\"\",VLOOKUP($D33,Lists!$AP$2:$AR$78,2,FALSE))","v":""},{"$f":"IF(D33=\"\",\"\",VLOOKUP($D33,Lists!$AP$2:$AR$78,3,FALSE))","v":""},null,null,null,null,null,null,""]
[null,{"$f":"IF(D34=\"\",\"\",VLOOKUP($D34,Lists!$AP$2:$AR$78,2,FALSE))","v":""},{"$f":"IF(D34=\"\",\"\",VLOOKUP($D34,Lists!$AP$2:$AR$78,3,FALSE))","v":""},null,null,null,null,null,null,""]
[null,{"$f":"IF(D35=\"\",\"\",VLOOKUP($D35,Lists!$AP$2:$AR$78,2,FALSE))","v":""},{"$f":"IF(D35=\"\",\"\",VLOOKUP($D35,Lists!$AP$2:$AR$78,3,FALSE))","v":""},null,null,null,null,null,null,""]
[null,{"$f":"IF(D36=\"\",\"\",VLOOKUP($D36,Lists!$AP$2:$AR$78,2,FALSE))","v":""},{"$f":"IF(D36=\"\",\"\",VLOOKUP($D36,Lists!$AP$2:$AR$78,3,FALSE))","v":""},null,null,null,null,null,null,""]
[null,{"$f":"IF(D37=\"\",\"\",VLOOKUP($D37,Lists!$AP$2:$AR$78,2,FALSE))","v":""},{"$f":"IF(D37=\"\",\"\",VLOOKUP($D37,Lists!$AP$2:$AR$78,3,FALSE))","v":""},null,null,null,null,null,null,""]
[null,{"$f":"IF(D38=\"\",\"\",VLOOKUP($D38,Lists!$AP$2:$AR$78,2,FALSE))","v":""},{"$f":"IF(D38=\"\",\"\",VLOOKUP($D38,Lists!$AP$2:$AR$78,3,FALSE))","v":""},null,null,null,null,null,null,""]
[null,{"$f":"IF(D39=\"\",\"\",VLOOKUP($D39,Lists!$AP$2:$AR$78,2,FALSE))","v":""},{"$f":"IF(D39=\"\",\"\",VLOOKUP($D39,Lists!$AP$2:$AR$78,3,FALSE))","v":""},null,null,null,null,null,null,""]
[null,{"$f":"IF(D40=\"\",\"\",VLOOKUP($D40,Lists!$AP$2:$AR$78,2,FALSE))","v":""},{"$f":"IF(D40=\"\",\"\",VLOOKUP($D40,Lists!$AP$2:$AR$78,3,FALSE))","v":""},null,null,null,null,null,null,""]
[null,{"$f":"IF(D41=\"\",\"\",VLOOKUP($D41,Lists!$AP$2:$AR$78,2,FALSE))","v":""},{"$f":"IF(D41=\"\",\"\",VLOOKUP($D41,Lists!$AP$2:$AR$78,3,FALSE))","v":""},null,null,null,null,null,null,""]
[null,{"$f":"IF(D42=\"\",\"\",VLOOKUP($D42,Lists!$AP$2:$AR$78,2,FALSE))","v":""},{"$f":"IF(D42=\"\",\"\",VLOOKUP($D42,Lists!$AP$2:$AR$78,3,FALSE))","v":""},null,null,null,null,null,null,""]
[null,{"$f":"IF(D43=\"\",\"\",VLOOKUP($D43,Lists!$AP$2:$AR$78,2,FALSE))","v":""},{"$f":"IF(D43=\"\",\"\",VLOOKUP($D43,Lists!$AP$2:$AR$78,3,FALSE))","v":""},null,null,null,null,null,null,""]
[null,{"$f":"IF(D44=\"\",\"\",VLOOKUP($D44,Lists!$AP$2:$AR$78,2,FALSE))","v":""},{"$f":"IF(D44=\"\",\"\",VLOOKUP($D44,Lists!$AP$2:$AR$78,3,FALSE))","v":""},null,null,null,null,null,null,""]
[null,{"$f":"IF(D45=\"\",\"\",VLOOKUP($D45,Lists!$AP$2:$AR$78,2,FALSE))","v":""},{"$f":"IF(D45=\"\",\"\",VLOOKUP($D45,Lists!$AP$2:$AR$78,3,FALSE))","v":""},null,null,null,null,null,null,""]
[null,{"$f":"IF(D46=\"\",\"\",VLOOKUP($D46,Lists!$AP$2:$AR$78,2,FALSE))","v":""},{"$f":"IF(D46=\"\",\"\",VLOOKUP($D46,Lists!$AP$2:$AR$78,3,FALSE))","v":""},null,null,null,null,null,null,""]
[null,{"$f":"IF(D47=\"\",\"\",VLOOKUP($D47,Lists!$AP$2:$AR$78,2,FALSE))","v":""},{"$f":"IF(D47=\"\",\"\",VLOOKUP($D47,Lists!$AP$2:$AR$78,3,FALSE))","v":""},null,null,null,null,null,null,""]
[null,{"$f":"IF(D48=\"\",\"\",VLOOKUP($D48,Lists!$AP$2:$AR$78,2,FALSE))","v":""},{"$f":"IF(D48=\"\",\"\",VLOOKUP($D48,Lists!$AP$2:$AR$78,3,FALSE))","v":""},null,null,null,null,null,null,""]
[null,{"$f":"IF(D49=\"\",\"\",VLOOKUP($D49,Lists!$AP$2:$AR$78,2,FALSE))","v":""},{"$f":"IF(D49=\"\",\"\",VLOOKUP($D49,Lists!$AP$2:$AR$78,3,FALSE))","v":""},null,null,null,null,null,null,""]
[null,{"$f":"IF(D50=\"\",\"\",VLOOKUP($D50,Lists!$AP$2:$AR$78,2,FALSE))","v":""},{"$f":"IF(D50=\"\",\"\",VLOOKUP($D50,Lists!$AP$2:$AR$78,3,FALSE))","v":""},null,null,null,null,null,null,""]
[null,{"$f":"IF(D51=\"\",\"\",VLOOKUP($D51,Lists!$AP$2:$AR$78,2,FALSE))","v":""},{"$f":"IF(D51=\"\",\"\",VLOOKUP($D51,Lists!$AP$2:$AR$78,3,FALSE))","v":""},null,null,null,null,null,null,""]
[null,{"$f":"IF(D52=\"\",\"\",VLOOKUP($D52,Lists!$AP$2:$AR$78,2,FALSE))","v":""},{"$f":"IF(D52=\"\",\"\",VLOOKUP($D52,Lists!$AP$2:$AR$78,3,FALSE))","v":""},null,null,null,null,null,null,""]
[null,{"$f":"IF(D53=\"\",\"\",VLOOKUP($D53,Lists!$AP$2:$AR$78,2,FALSE))","v":""},{"$f":"IF(D53=\"\",\"\",VLOOKUP($D53,Lists!$AP$2:$AR$78,3,FALSE))","v":""},null,null,null,null,null,null,""]
[null,{"$f":"IF(D54=\"\",\"\",VLOOKUP($D54,Lists!$AP$2:$AR$78,2,FALSE))","v":""},{"$f":"IF(D54=\"\",\"\",VLOOKUP($D54,Lists!$AP$2:$AR$78,3,FALSE))","v":""},null,null,null,null,null,null,""]
[null,{"$f":"IF(D55=\"\",\"\",VLOOKUP($D55,Lists!$AP$2:$AR$78,2,FALSE))","v":""},{"$f":"IF(D55=\"\",\"\",VLOOKUP($D55,Lists!$AP$2:$AR$78,3,FALSE))","v":""},null,null,null,null,null,null,""]
[null,{"$f":"IF(D56=\"\",\"\",VLOOKUP($D56,Lists!$AP$2:$AR$78,2,FALSE))","v":""},{"$f":"IF(D56=\"\",\"\",VLOOKUP($D56,Lists!$AP$2:$AR$78,3,FALSE))","v":""},null,null,null,null,null,null,""]
[null,{"$f":"IF(D57=\"\",\"\",VLOOKUP($D57,Lists!$AP$2:$AR$78,2,FALSE))","v":""},{"$f":"IF(D57=\"\",\"\",VLOOKUP($D57,Lists!$AP$2:$AR$78,3,FALSE))","v":""},null,null,null,null,null,null,""]
[null,{"$f":"IF(D58=\"\",\"\",VLOOKUP($D58,Lists!$AP$2:$AR$78,2,FALSE))","v":""},{"$f":"IF(D58=\"\",\"\",VLOOKUP($D58,Lists!$AP$2:$AR$78,3,FALSE))","v":""},null,null,null,null,null,null,""]
[null,{"$f":"IF(D59=\"\",\"\",VLOOKUP($D59,Lists!$AP$2:$AR$78,2,FALSE))","v":""},{"$f":"IF(D59=\"\",\"\",VLOOKUP($D59,Lists!$AP$2:$AR$78,3,FALSE))","v":""},null,null,null,null,null,null,""]
[null,{"$f":"IF(D60=\"\",\"\",VLOOKUP($D60,Lists!$AP$2:$AR$78,2,FALSE))","v":""},{"$f":"IF(D60=\"\",\"\",VLOOKUP($D60,Lists!$AP$2:$AR$78,3,FALSE))","v":""},null,null,null,null,null,null,""]
[null,{"$f":"IF(D61=\"\",\"\",VLOOKUP($D61,Lists!$AP$2:$AR$78,2,FALSE))","v":""},{"$f":"IF(D61=\"\",\"\",VLOOKUP($D61,Lists!$AP$2:$AR$78,3,FALSE))","v":""},null,null,null,null,null,null,""]
[null,{"$f":"IF(D62=\"\",\"\",VLOOKUP($D62,Lists!$AP$2:$AR$78,2,FALSE))","v":""},{"$f":"IF(D62=\"\",\"\",VLOOKUP($D62,Lists!$AP$2:$AR$78,3,FALSE))","v":""},null,null,null,null,null,null,""]
[null,{"$f":"IF(D63=\"\",\"\",VLOOKUP($D63,Lists!$AP$2:$AR$78,2,FALSE))","v":""},{"$f":"IF(D63=\"\",\"\",VLOOKUP($D63,Lists!$AP$2:$AR$78,3,FALSE))","v":""},null,null,null,null,null,null,""]
[null,{"$f":"IF(D64=\"\",\"\",VLOOKUP($D64,Lists!$AP$2:$AR$78,2,FALSE))","v":""},{"$f":"IF(D64=\"\",\"\",VLOOKUP($D64,Lists!$AP$2:$AR$78,3,FALSE))","v":""},null,null,null,null,null,null,""]
[null,{"$f":"IF(D65=\"\",\"\",VLOOKUP($D65,Lists!$AP$2:$AR$78,2,FALSE))","v":""},{"$f":"IF(D65=\"\",\"\",VLOOKUP($D65,Lists!$AP$2:$AR$78,3,FALSE))","v":""},null,null,null,null,null,null,""]
[null,{"$f":"IF(D66=\"\",\"\",VLOOKUP($D66,Lists!$AP$2:$AR$78,2,FALSE))","v":""},{"$f":"IF(D66=\"\",\"\",VLOOKUP($D66,Lists!$AP$2:$AR$78,3,FALSE))","v":""},null,null,null,null,null,null,""]
[null,{"$f":"IF(D67=\"\",\"\",VLOOKUP($D67,Lists!$AP$2:$AR$78,2,FALSE))","v":""},{"$f":"IF(D67=\"\",\"\",VLOOKUP($D67,Lists!$AP$2:$AR$78,3,FALSE))","v":""},null,null,null,null,null,null,""]
[null,{"$f":"IF(D68=\"\",\"\",VLOOKUP($D68,Lists!$AP$2:$AR$78,2,FALSE))","v":""},{"$f":"IF(D68=\"\",\"\",VLOOKUP($D68,Lists!$AP$2:$AR$78,3,FALSE))","v":""},null,null,null,null,null,null,""]
[null,{"$f":"IF(D69=\"\",\"\",VLOOKUP($D69,Lists!$AP$2:$AR$78,2,FALSE))","v":""},{"$f":"IF(D69=\"\",\"\",VLOOKUP($D69,Lists!$AP$2:$AR$78,3,FALSE))","v":""},null,null,null,null,null,null,""]
[null,{"$f":"IF(D70=\"\",\"\",VLOOKUP($D70,Lists!$AP$2:$AR$78,2,FALSE))","v":""},{"$f":"IF(D70=\"\",\"\",VLOOKUP($D70,Lists!$AP$2:$AR$78,3,FALSE))","v":""},null,null,null,null,null,null,""]
[null,{"$f":"IF(D71=\"\",\"\",VLOOKUP($D71,Lists!$AP$2:$AR$78,2,FALSE))","v":""},{"$f":"IF(D71=\"\",\"\",VLOOKUP($D71,Lists!$AP$2:$AR$78,3,FALSE))","v":""},null,null,null,null,null,null,""]
[null,{"$f":"IF(D72=\"\",\"\",VLOOKUP($D72,Lists!$AP$2:$AR$78,2,FALSE))","v":""},{"$f":"IF(D72=\"\",\"\",VLOOKUP($D72,Lists!$AP$2:$AR$78,3,FALSE))","v":""},null,null,null,null,null,null,""]
[null,{"$f":"IF(D73=\"\",\"\",VLOOKUP($D73,Lists!$AP$2:$AR$78,2,FALSE))","v":""},{"$f":"IF(D73=\"\",\"\",VLOOKUP($D73,Lists!$AP$2:$AR$78,3,FALSE))","v":""},null,null,null,null,null,null,""]
[null,{"$f":"IF(D74=\"\",\"\",VLOOKUP($D74,Lists!$AP$2:$AR$78,2,FALSE))","v":""},{"$f":"IF(D74=\"\",\"\",VLOOKUP($D74,Lists!$AP$2:$AR$78,3,FALSE))","v":""},null,null,null,null,null,null,""]
[null,{"$f":"IF(D75=\"\",\"\",VLOOKUP($D75,Lists!$AP$2:$AR$78,2,FALSE))","v":""},{"$f":"IF(D75=\"\",\"\",VLOOKUP($D75,Lists!$AP$2:$AR$78,3,FALSE))","v":""},null,null,null,null,null,null,""]
[null,{"$f":"IF(D76=\"\",\"\",VLOOKUP($D76,Lists!$AP$2:$AR$78,2,FALSE))","v":""},{"$f":"IF(D76=\"\",\"\",VLOOKUP($D76,Lists!$AP$2:$AR$78,3,FALSE))","v":""},null,null,null,null,null,null,""]
[null,{"$f":"IF(D77=\"\",\"\",VLOOKUP($D77,Lists!$AP$2:$AR$78,2,FALSE))","v":""},{"$f":"IF(D77=\"\",\"\",VLOOKUP($D77,Lists!$AP$2:$AR$78,3,FALSE))","v":""},null,null,null,null,null,null,""]
[null,{"$f":"IF(D78=\"\",\"\",VLOOKUP($D78,Lists!$AP$2:$AR$78,2,FALSE))","v":""},{"$f":"IF(D78=\"\",\"\",VLOOKUP($D78,Lists!$AP$2:$AR$78,3,FALSE))","v":""},null,null,null,null,null,null,""]
[null,{"$f":"IF(D79=\"\",\"\",VLOOKUP($D79,Lists!$AP$2:$AR$78,2,FALSE))","v":""},{"$f":"IF(D79=\"\",\"\",VLOOKUP($D79,Lists!$AP$2:$AR$78,3,FALSE))","v":""},null,null,null,null,null,null,""]
[null,{"$f":"IF(D80=\"\",\"\",VLOOKUP($D80,Lists!$AP$2:$AR$78,2,FALSE))","v":""},{"$f":"IF(D80=\"\",\"\",VLOOKUP($D80,Lists!$AP$2:$AR$78,3,FALSE))","v":""},null,null,null,null,null,null,""]
[null,{"$f":"IF(D81=\"\",\"\",VLOOKUP($D81,Lists!$AP$2:$AR$78,2,FALSE))","v":""},{"$f":"IF(D81=\"\",\"\",VLOOKUP($D81,Lists!$AP$2:$AR$78,3,FALSE))","v":""},null,null,null,null,null,null,""]
[null,{"$f":"IF(D82=\"\",\"\",VLOOKUP($D82,Lists!$AP$2:$AR$78,2,FALSE))","v":""},{"$f":"IF(D82=\"\",\"\",VLOOKUP($D82,Lists!$AP$2:$AR$78,3,FALSE))","v":""},null,null,null,null,null,null,""]
[null,{"$f":"IF(D83=\"\",\"\",VLOOKUP($D83,Lists!$AP$2:$AR$78,2,FALSE))","v":""},{"$f":"IF(D83=\"\",\"\",VLOOKUP($D83,Lists!$AP$2:$AR$78,3,FALSE))","v":""},null,null,null,null,null,null,""]
[null,{"$f":"IF(D84=\"\",\"\",VLOOKUP($D84,Lists!$AP$2:$AR$78,2,FALSE))","v":""},{"$f":"IF(D84=\"\",\"\",VLOOKUP($D84,Lists!$AP$2:$AR$78,3,FALSE))","v":""},null,null,null,null,null,null,""]
[null,{"$f":"IF(D85=\"\",\"\",VLOOKUP($D85,Lists!$AP$2:$AR$78,2,FALSE))","v":""},{"$f":"IF(D85=\"\",\"\",VLOOKUP($D85,Lists!$AP$2:$AR$78,3,FALSE))","v":""},null,null,null,null,null,null,""]
[null,{"$f":"IF(D86=\"\",\"\",VLOOKUP($D86,Lists!$AP$2:$AR$78,2,FALSE))","v":""},{"$f":"IF(D86=\"\",\"\",VLOOKUP($D86,Lists!$AP$2:$AR$78,3,FALSE))","v":""},null,null,null,null,null,null,""]
[null,{"$f":"IF(D87=\"\",\"\",VLOOKUP($D87,Lists!$AP$2:$AR$78,2,FALSE))","v":""},{"$f":"IF(D87=\"\",\"\",VLOOKUP($D87,Lists!$AP$2:$AR$78,3,FALSE))","v":""},null,null,null,null,null,null,""]
[null,{"$f":"IF(D88=\"\",\"\",VLOOKUP($D88,Lists!$AP$2:$AR$78,2,FALSE))","v":""},{"$f":"IF(D88=\"\",\"\",VLOOKUP($D88,Lists!$AP$2:$AR$78,3,FALSE))","v":""},null,null,null,null,null,null,""]
[null,{"$f":"IF(D89=\"\",\"\",VLOOKUP($D89,Lists!$AP$2:$AR$78,2,FALSE))","v":""},{"$f":"IF(D89=\"\",\"\",VLOOKUP($D89,Lists!$AP$2:$AR$78,3,FALSE))","v":""},null,null,null,null,null,null,{"$f":"IF(I89=\"\",\"\",(VALUE(TEXT(H89,\"m/dd/yy \")&TEXT(I89,\"hh:mm:ss\"))-(VALUE(TEXT(F89,\"m/dd/yy \")&TEXT(G89,\"hh:mm:ss\"))))*24)","v":""}]
[null,{"$f":"IF(D90=\"\",\"\",VLOOKUP($D90,Lists!$AP$2:$AR$78,2,FALSE))","v":""},{"$f":"IF(D90=\"\",\"\",VLOOKUP($D90,Lists!$AP$2:$AR$78,3,FALSE))","v":""},null,null,null,null,null,null,""]
[null,{"$f":"IF(D91=\"\",\"\",VLOOKUP($D91,Lists!$AP$2:$AR$78,2,FALSE))","v":""},{"$f":"IF(D91=\"\",\"\",VLOOKUP($D91,Lists!$AP$2:$AR$78,3,FALSE))","v":""},null,null,null,null,null,null,""]
[null,{"$f":"IF(D92=\"\",\"\",VLOOKUP($D92,Lists!$AP$2:$AR$78,2,FALSE))","v":""},{"$f":"IF(D92=\"\",\"\",VLOOKUP($D92,Lists!$AP$2:$AR$78,3,FALSE))","v":""},null,null,null,null,null,null,""]
[null,{"$f":"IF(D93=\"\",\"\",VLOOKUP($D93,Lists!$AP$2:$AR$78,2,FALSE))","v":""},{"$f":"IF(D93=\"\",\"\",VLOOKUP($D93,Lists!$AP$2:$AR$78,3,FALSE))","v":""},null,null,null,null,null,null,""]
[null,{"$f":"IF(D94=\"\",\"\",VLOOKUP($D94,Lists!$AP$2:$AR$78,2,FALSE))","v":""},{"$f":"IF(D94=\"\",\"\",VLOOKUP($D94,Lists!$AP$2:$AR$78,3,FALSE))","v":""},null,null,null,null,null,null,""]
[null,{"$f":"IF(D95=\"\",\"\",VLOOKUP($D95,Lists!$AP$2:$AR$78,2,FALSE))","v":""},{"$f":"IF(D95=\"\",\"\",VLOOKUP($D95,Lists!$AP$2:$AR$78,3,FALSE))","v":""},null,null,null,null,null,null,""]
[null,{"$f":"IF(D96=\"\",\"\",VLOOKUP($D96,Lists!$AP$2:$AR$78,2,FALSE))","v":""},{"$f":"IF(D96=\"\",\"\",VLOOKUP($D96,Lists!$AP$2:$AR$78,3,FALSE))","v":""},null,null,null,null,null,null,""]
[null,{"$f":"IF(D97=\"\",\"\",VLOOKUP($D97,Lists!$AP$2:$AR$78,2,FALSE))","v":""},{"$f":"IF(D97=\"\",\"\",VLOOKUP($D97,Lists!$AP$2:$AR$78,3,FALSE))","v":""},null,null,null,null,null,null,""]
[null,{"$f":"IF(D98=\"\",\"\",VLOOKUP($D98,Lists!$AP$2:$AR$78,2,FALSE))","v":""},{"$f":"IF(D98=\"\",\"\",VLOOKUP($D98,Lists!$AP$2:$AR$78,3,FALSE))","v":""},null,null,null,null,null,null,""]
[null,{"$f":"IF(D99=\"\",\"\",VLOOKUP($D99,Lists!$AP$2:$AR$78,2,FALSE))","v":""},{"$f":"IF(D99=\"\",\"\",VLOOKUP($D99,Lists!$AP$2:$AR$78,3,FALSE))","v":""},null,null,null,null,null,null,""]
[null,{"$f":"IF(D100=\"\",\"\",VLOOKUP($D100,Lists!$AP$2:$AR$78,2,FALSE))","v":""},{"$f":"IF(D100=\"\",\"\",VLOOKUP($D100,Lists!$AP$2:$AR$78,3,FALSE))","v":""},null,null,null,null,null,null,""]
[null,{"$f":"IF(D101=\"\",\"\",VLOOKUP($D101,Lists!$AP$2:$AR$78,2,FALSE))","v":""},{"$f":"IF(D101=\"\",\"\",VLOOKUP($D101,Lists!$AP$2:$AR$78,3,FALSE))","v":""},null,null,null,null,null,null,""]
[null,{"$f":"IF(D102=\"\",\"\",VLOOKUP($D102,Lists!$AP$2:$AR$78,2,FALSE))","v":""},{"$f":"IF(D102=\"\",\"\",VLOOKUP($D102,Lists!$AP$2:$AR$78,3,FALSE))","v":""},null,null,null,null,null,null,""]
[null,{"$f":"IF(D103=\"\",\"\",VLOOKUP($D103,Lists!$AP$2:$AR$78,2,FALSE))","v":""},{"$f":"IF(D103=\"\",\"\",VLOOKUP($D103,Lists!$AP$2:$AR$78,3,FALSE))","v":""},null,null,null,null,null,null,""]
[null,{"$f":"IF(D104=\"\",\"\",VLOOKUP($D104,Lists!$AP$2:$AR$78,2,FALSE))","v":""},{"$f":"IF(D104=\"\",\"\",VLOOKUP($D104,Lists!$AP$2:$AR$78,3,FALSE))","v":""},null,null,null,null,null,null,""]
[null,{"$f":"IF(D105=\"\",\"\",VLOOKUP($D105,Lists!$AP$2:$AR$78,2,FALSE))","v":""},{"$f":"IF(D105=\"\",\"\",VLOOKUP($D105,Lists!$AP$2:$AR$78,3,FALSE))","v":""},null,null,null,null,null,null,""]
[null,{"$f":"IF(D106=\"\",\"\",VLOOKUP($D106,Lists!$AP$2:$AR$78,2,FALSE))","v":""},{"$f":"IF(D106=\"\",\"\",VLOOKUP($D106,Lists!$AP$2:$AR$78,3,FALSE))","v":""},null,null,null,null,null,null,""]
[null,{"$f":"IF(D107=\"\",\"\",VLOOKUP($D107,Lists!$AP$2:$AR$78,2,FALSE))","v":""},{"$f":"IF(D107=\"\",\"\",VLOOKUP($D107,Lists!$AP$2:$AR$78,3,FALSE))","v":""},null,null,null,null,null,null,""]
[null,{"$f":"IF(D108=\"\",\"\",VLOOKUP($D108,Lists!$AP$2:$AR$78,2,FALSE))","v":""},{"$f":"IF(D108=\"\",\"\",VLOOKUP($D108,Lists!$AP$2:$AR$78,3,FALSE))","v":""},null,null,null,null,null,null,""]
[null,{"$f":"IF(D109=\"\",\"\",VLOOKUP($D109,Lists!$AP$2:$AR$78,2,FALSE))","v":""},{"$f":"IF(D109=\"\",\"\",VLOOKUP($D109,Lists!$AP$2:$AR$78,3,FALSE))","v":""},null,null,null,null,null,null,""]
[null,{"$f":"IF(D110=\"\",\"\",VLOOKUP($D110,Lists!$AP$2:$AR$78,2,FALSE))","v":""},{"$f":"IF(D110=\"\",\"\",VLOOKUP($D110,Lists!$AP$2:$AR$78,3,FALSE))","v":""},null,null,null,null,null,null,""]
[null,{"$f":"IF(D111=\"\",\"\",VLOOKUP($D111,Lists!$AP$2:$AR$78,2,FALSE))","v":""},{"$f":"IF(D111=\"\",\"\",VLOOKUP($D111,Lists!$AP$2:$AR$78,3,FALSE))","v":""},null,null,null,null,null,null,""]
[null,{"$f":"IF(D112=\"\",\"\",VLOOKUP($D112,Lists!$AP$2:$AR$78,2,FALSE))","v":""},{"$f":"IF(D112=\"\",\"\",VLOOKUP($D112,Lists!$AP$2:$AR$78,3,FALSE))","v":""},null,null,null,null,null,null,""]
[null,{"$f":"IF(D113=\"\",\"\",VLOOKUP($D113,Lists!$AP$2:$AR$78,2,FALSE))","v":""},{"$f":"IF(D113=\"\",\"\",VLOOKUP($D113,Lists!$AP$2:$AR$78,3,FALSE))","v":""},null,null,null,null,null,null,""]
[null,{"$f":"IF(D114=\"\",\"\",VLOOKUP($D114,Lists!$AP$2:$AR$78,2,FALSE))","v":""},{"$f":"IF(D114=\"\",\"\",VLOOKUP($D114,Lists!$AP$2:$AR$78,3,FALSE))","v":""},null,null,null,null,null,null,""]
[null,{"$f":"IF(D115=\"\",\"\",VLOOKUP($D115,Lists!$AP$2:$AR$78,2,FALSE))","v":""},{"$f":"IF(D115=\"\",\"\",VLOOKUP($D115,Lists!$AP$2:$AR$78,3,FALSE))","v":""},null,null,null,null,null,null,""]
[null,{"$f":"IF(D116=\"\",\"\",VLOOKUP($D116,Lists!$AP$2:$AR$78,2,FALSE))","v":""},{"$f":"IF(D116=\"\",\"\",VLOOKUP($D116,Lists!$AP$2:$AR$78,3,FALSE))","v":""},null,null,null,null,null,null,""]
[null,{"$f":"IF(D117=\"\",\"\",VLOOKUP($D117,Lists!$AP$2:$AR$78,2,FALSE))","v":""},{"$f":"IF(D117=\"\",\"\",VLOOKUP($D117,Lists!$AP$2:$AR$78,3,FALSE))","v":""},null,null,null,null,null,null,""]
[null,{"$f":"IF(D118=\"\",\"\",VLOOKUP($D118,Lists!$AP$2:$AR$78,2,FALSE))","v":""},{"$f":"IF(D118=\"\",\"\",VLOOKUP($D118,Lists!$AP$2:$AR$78,3,FALSE))","v":""},null,null,null,null,null,null,""]
[null,{"$f":"IF(D119=\"\",\"\",VLOOKUP($D119,Lists!$AP$2:$AR$78,2,FALSE))","v":""},{"$f":"IF(D119=\"\",\"\",VLOOKUP($D119,Lists!$AP$2:$AR$78,3,FALSE))","v":""},null,null,null,null,null,null,""]
[null,{"$f":"IF(D120=\"\",\"\",VLOOKUP($D120,Lists!$AP$2:$AR$78,2,FALSE))","v":""},{"$f":"IF(D120=\"\",\"\",VLOOKUP($D120,Lists!$AP$2:$AR$78,3,FALSE))","v":""},null,null,null,null,null,null,""]
[null,{"$f":"IF(D121=\"\",\"\",VLOOKUP($D121,Lists!$AP$2:$AR$78,2,FALSE))","v":""},{"$f":"IF(D121=\"\",\"\",VLOOKUP($D121,Lists!$AP$2:$AR$78,3,FALSE))","v":""},null,null,null,null,null,null,""]
[null,{"$f":"IF(D122=\"\",\"\",VLOOKUP($D122,Lists!$AP$2:$AR$78,2,FALSE))","v":""},{"$f":"IF(D122=\"\",\"\",VLOOKUP($D122,Lists!$AP$2:$AR$78,3,FALSE))","v":""},null,null,null,null,null,null,""]
[null,{"$f":"IF(D123=\"\",\"\",VLOOKUP($D123,Lists!$AP$2:$AR$78,2,FALSE))","v":""},{"$f":"IF(D123=\"\",\"\",VLOOKUP($D123,Lists!$AP$2:$AR$78,3,FALSE))","v":""},null,null,null,null,null,null,""]
[null,{"$f":"IF(D124=\"\",\"\",VLOOKUP($D124,Lists!$AP$2:$AR$78,2,FALSE))","v":""},{"$f":"IF(D124=\"\",\"\",VLOOKUP($D124,Lists!$AP$2:$AR$78,3,FALSE))","v":""},null,null,null,null,null,null,""]
[null,{"$f":"IF(D125=\"\",\"\",VLOOKUP($D125,Lists!$AP$2:$AR$78,2,FALSE))","v":""},{"$f":"IF(D125=\"\",\"\",VLOOKUP($D125,Lists!$AP$2:$AR$78,3,FALSE))","v":""},null,null,null,null,null,null,""]
[null,{"$f":"IF(D126=\"\",\"\",VLOOKUP($D126,Lists!$AP$2:$AR$78,2,FALSE))","v":""},{"$f":"IF(D126=\"\",\"\",VLOOKUP($D126,Lists!$AP$2:$AR$78,3,FALSE))","v":""},null,null,null,null,null,null,""]
[null,{"$f":"IF(D127=\"\",\"\",VLOOKUP($D127,Lists!$AP$2:$AR$78,2,FALSE))","v":""},{"$f":"IF(D127=\"\",\"\",VLOOKUP($D127,Lists!$AP$2:$AR$78,3,FALSE))","v":""},null,null,null,null,null,null,""]
[null,{"$f":"IF(D128=\"\",\"\",VLOOKUP($D128,Lists!$AP$2:$AR$78,2,FALSE))","v":""},{"$f":"IF(D128=\"\",\"\",VLOOKUP($D128,Lists!$AP$2:$AR$78,3,FALSE))","v":""},null,null,null,null,null,null,""]
[null,{"$f":"IF(D129=\"\",\"\",VLOOKUP($D129,Lists!$AP$2:$AR$78,2,FALSE))","v":""},{"$f":"IF(D129=\"\",\"\",VLOOKUP($D129,Lists!$AP$2:$AR$78,3,FALSE))","v":""},null,null,null,null,null,null,""]
[null,{"$f":"IF(D130=\"\",\"\",VLOOKUP($D130,Lists!$AP$2:$AR$78,2,FALSE))","v":""},{"$f":"IF(D130=\"\",\"\",VLOOKUP($D130,Lists!$AP$2:$AR$78,3,FALSE))","v":""},null,null,null,null,null,null,""]
[null,{"$f":"IF(D131=\"\",\"\",VLOOKUP($D131,Lists!$AP$2:$AR$78,2,FALSE))","v":""},{"$f":"IF(D131=\"\",\"\",VLOOKUP($D131,Lists!$AP$2:$AR$78,3,FALSE))","v":""},null,null,null,null,null,null,""]
[null,{"$f":"IF(D132=\"\",\"\",VLOOKUP($D132,Lists!$AP$2:$AR$78,2,FALSE))","v":""},{"$f":"IF(D132=\"\",\"\",VLOOKUP($D132,Lists!$AP$2:$AR$78,3,FALSE))","v":""},null,null,null,null,null,null,""]
[null,{"$f":"IF(D133=\"\",\"\",VLOOKUP($D133,Lists!$AP$2:$AR$78,2,FALSE))","v":""},{"$f":"IF(D133=\"\",\"\",VLOOKUP($D133,Lists!$AP$2:$AR$78,3,FALSE))","v":""},null,null,null,null,null,null,""]
[null,{"$f":"IF(D134=\"\",\"\",VLOOKUP($D134,Lists!$AP$2:$AR$78,2,FALSE))","v":""},{"$f":"IF(D134=\"\",\"\",VLOOKUP($D134,Lists!$AP$2:$AR$78,3,FALSE))","v":""},null,null,null,null,null,null,""]
[null,{"$f":"IF(D135=\"\",\"\",VLOOKUP($D135,Lists!$AP$2:$AR$78,2,FALSE))","v":""},{"$f":"IF(D135=\"\",\"\",VLOOKUP($D135,Lists!$AP$2:$AR$78,3,FALSE))","v":""},null,null,null,null,null,null,""]
[null,{"$f":"IF(D136=\"\",\"\",VLOOKUP($D136,Lists!$AP$2:$AR$78,2,FALSE))","v":""},{"$f":"IF(D136=\"\",\"\",VLOOKUP($D136,Lists!$AP$2:$AR$78,3,FALSE))","v":""},null,null,null,null,null,null,""]
[null,{"$f":"IF(D137=\"\",\"\",VLOOKUP($D137,Lists!$AP$2:$AR$78,2,FALSE))","v":""},{"$f":"IF(D137=\"\",\"\",VLOOKUP($D137,Lists!$AP$2:$AR$78,3,FALSE))","v":""},null,null,null,null,null,null,""]
[null,{"$f":"IF(D138=\"\",\"\",VLOOKUP($D138,Lists!$AP$2:$AR$78,2,FALSE))","v":""},{"$f":"IF(D138=\"\",\"\",VLOOKUP($D138,Lists!$AP$2:$AR$78,3,FALSE))","v":""},null,null,null,null,null,null,""]
[null,{"$f":"IF(D139=\"\",\"\",VLOOKUP($D139,Lists!$AP$2:$AR$78,2,FALSE))","v":""},{"$f":"IF(D139=\"\",\"\",VLOOKUP($D139,Lists!$AP$2:$AR$78,3,FALSE))","v":""},null,null,null,null,null,null,""]
[null,{"$f":"IF(D140=\"\",\"\",VLOOKUP($D140,Lists!$AP$2:$AR$78,2,FALSE))","v":""},{"$f":"IF(D140=\"\",\"\",VLOOKUP($D140,Lists!$AP$2:$AR$78,3,FALSE))","v":""},null,null,null,null,null,null,""]
[null,{"$f":"IF(D141=\"\",\"\",VLOOKUP($D141,Lists!$AP$2:$AR$78,2,FALSE))","v":""},{"$f":"IF(D141=\"\",\"\",VLOOKUP($D141,Lists!$AP$2:$AR$78,3,FALSE))","v":""},null,null,null,null,null,null,""]
[null,{"$f":"IF(D142=\"\",\"\",VLOOKUP($D142,Lists!$AP$2:$AR$78,2,FALSE))","v":""},{"$f":"IF(D142=\"\",\"\",VLOOKUP($D142,Lists!$AP$2:$AR$78,3,FALSE))","v":""},null,null,null,null,null,null,""]
[null,{"$f":"IF(D143=\"\",\"\",VLOOKUP($D143,Lists!$AP$2:$AR$78,2,FALSE))","v":""},{"$f":"IF(D143=\"\",\"\",VLOOKUP($D143,Lists!$AP$2:$AR$78,3,FALSE))","v":""},null,null,null,null,null,null,""]
[null,{"$f":"IF(D144=\"\",\"\",VLOOKUP($D144,Lists!$AP$2:$AR$78,2,FALSE))","v":""},{"$f":"IF(D144=\"\",\"\",VLOOKUP($D144,Lists!$AP$2:$AR$78,3,FALSE))","v":""},null,null,null,null,null,null,""]
[null,{"$f":"IF(D145=\"\",\"\",VLOOKUP($D145,Lists!$AP$2:$AR$78,2,FALSE))","v":""},{"$f":"IF(D145=\"\",\"\",VLOOKUP($D145,Lists!$AP$2:$AR$78,3,FALSE))","v":""},null,null,null,null,null,null,""]
[null,{"$f":"IF(D146=\"\",\"\",VLOOKUP($D146,Lists!$AP$2:$AR$78,2,FALSE))","v":""},{"$f":"IF(D146=\"\",\"\",VLOOKUP($D146,Lists!$AP$2:$AR$78,3,FALSE))","v":""},null,null,null,null,null,null,""]
[null,{"$f":"IF(D147=\"\",\"\",VLOOKUP($D147,Lists!$AP$2:$AR$78,2,FALSE))","v":""},{"$f":"IF(D147=\"\",\"\",VLOOKUP($D147,Lists!$AP$2:$AR$78,3,FALSE))","v":""},null,null,null,null,null,null,""]
[null,{"$f":"IF(D148=\"\",\"\",VLOOKUP($D148,Lists!$AP$2:$AR$78,2,FALSE))","v":""},{"$f":"IF(D148=\"\",\"\",VLOOKUP($D148,Lists!$AP$2:$AR$78,3,FALSE))","v":""},null,null,null,null,null,null,""]
[null,{"$f":"IF(D149=\"\",\"\",VLOOKUP($D149,Lists!$AP$2:$AR$78,2,FALSE))","v":""},{"$f":"IF(D149=\"\",\"\",VLOOKUP($D149,Lists!$AP$2:$AR$78,3,FALSE))","v":""},null,null,null,null,null,null,""]
[null,{"$f":"IF(D150=\"\",\"\",VLOOKUP($D150,Lists!$AP$2:$AR$78,2,FALSE))","v":""},{"$f":"IF(D150=\"\",\"\",VLOOKUP($D150,Lists!$AP$2:$AR$78,3,FALSE))","v":""},null,null,null,null,null,null,""]
[null,{"$f":"IF(D151=\"\",\"\",VLOOKUP($D151,Lists!$AP$2:$AR$78,2,FALSE))","v":""},{"$f":"IF(D151=\"\",\"\",VLOOKUP($D151,Lists!$AP$2:$AR$78,3,FALSE))","v":""},null,null,null,null,null,null,""]
[null,{"$f":"IF(D152=\"\",\"\",VLOOKUP($D152,Lists!$AP$2:$AR$78,2,FALSE))","v":""},{"$f":"IF(D152=\"\",\"\",VLOOKUP($D152,Lists!$AP$2:$AR$78,3,FALSE))","v":""},null,null,null,null,null,null,""]
[null,{"$f":"IF(D153=\"\",\"\",VLOOKUP($D153,Lists!$AP$2:$AR$78,2,FALSE))","v":""},{"$f":"IF(D153=\"\",\"\",VLOOKUP($D153,Lists!$AP$2:$AR$78,3,FALSE))","v":""},null,null,null,null,null,null,{"$f":"IF(I153=\"\",\"\",(VALUE(TEXT(H153,\"m/dd/yy \")&TEXT(I153,\"hh:mm:ss\"))-(VALUE(TEXT(F153,\"m/dd/yy \")&TEXT(G153,\"hh:mm:ss\"))))*24)","v":""}]
[null,{"$f":"IF(D154=\"\",\"\",VLOOKUP($D154,Lists!$AP$2:$AR$78,2,FALSE))","v":""},{"$f":"IF(D154=\"\",\"\",VLOOKUP($D154,Lists!$AP$2:$AR$78,3,FALSE))","v":""},null,null,null,null,null,null,""]
[null,{"$f":"IF(D155=\"\",\"\",VLOOKUP($D155,Lists!$AP$2:$AR$78,2,FALSE))","v":""},{"$f":"IF(D155=\"\",\"\",VLOOKUP($D155,Lists!$AP$2:$AR$78,3,FALSE))","v":""},null,null,null,null,null,null,""]
[null,{"$f":"IF(D156=\"\",\"\",VLOOKUP($D156,Lists!$AP$2:$AR$78,2,FALSE))","v":""},{"$f":"IF(D156=\"\",\"\",VLOOKUP($D156,Lists!$AP$2:$AR$78,3,FALSE))","v":""},null,null,null,null,null,null,""]
[null,{"$f":"IF(D157=\"\",\"\",VLOOKUP($D157,Lists!$AP$2:$AR$78,2,FALSE))","v":""},{"$f":"IF(D157=\"\",\"\",VLOOKUP($D157,Lists!$AP$2:$AR$78,3,FALSE))","v":""},null,null,null,null,null,null,""]
[null,{"$f":"IF(D158=\"\",\"\",VLOOKUP($D158,Lists!$AP$2:$AR$78,2,FALSE))","v":""},{"$f":"IF(D158=\"\",\"\",VLOOKUP($D158,Lists!$AP$2:$AR$78,3,FALSE))","v":""},null,null,null,null,null,null,""]
[null,{"$f":"IF(D159=\"\",\"\",VLOOKUP($D159,Lists!$AP$2:$AR$78,2,FALSE))","v":""},{"$f":"IF(D159=\"\",\"\",VLOOKUP($D159,Lists!$AP$2:$AR$78,3,FALSE))","v":""},null,null,null,null,null,null,""]
[null,{"$f":"IF(D160=\"\",\"\",VLOOKUP($D160,Lists!$AP$2:$AR$78,2,FALSE))","v":""},{"$f":"IF(D160=\"\",\"\",VLOOKUP($D160,Lists!$AP$2:$AR$78,3,FALSE))","v":""},null,null,null,null,null,null,""]
[null,{"$f":"IF(D161=\"\",\"\",VLOOKUP($D161,Lists!$AP$2:$AR$78,2,FALSE))","v":""},{"$f":"IF(D161=\"\",\"\",VLOOKUP($D161,Lists!$AP$2:$AR$78,3,FALSE))","v":""},null,null,null,null,null,null,""]
[null,{"$f":"IF(D162=\"\",\"\",VLOOKUP($D162,Lists!$AP$2:$AR$78,2,FALSE))","v":""},{"$f":"IF(D162=\"\",\"\",VLOOKUP($D162,Lists!$AP$2:$AR$78,3,FALSE))","v":""},null,null,null,null,null,null,""]
[null,{"$f":"IF(D163=\"\",\"\",VLOOKUP($D163,Lists!$AP$2:$AR$78,2,FALSE))","v":""},{"$f":"IF(D163=\"\",\"\",VLOOKUP($D163,Lists!$AP$2:$AR$78,3,FALSE))","v":""},null,null,null,null,null,null,""]
[null,{"$f":"IF(D164=\"\",\"\",VLOOKUP($D164,Lists!$AP$2:$AR$78,2,FALSE))","v":""},{"$f":"IF(D164=\"\",\"\",VLOOKUP($D164,Lists!$AP$2:$AR$78,3,FALSE))","v":""},null,null,null,null,null,null,""]
[null,{"$f":"IF(D165=\"\",\"\",VLOOKUP($D165,Lists!$AP$2:$AR$78,2,FALSE))","v":""},{"$f":"IF(D165=\"\",\"\",VLOOKUP($D165,Lists!$AP$2:$AR$78,3,FALSE))","v":""},null,null,null,null,null,null,""]
[null,{"$f":"IF(D166=\"\",\"\",VLOOKUP($D166,Lists!$AP$2:$AR$78,2,FALSE))","v":""},{"$f":"IF(D166=\"\",\"\",VLOOKUP($D166,Lists!$AP$2:$AR$78,3,FALSE))","v":""},null,null,null,null,null,null,""]
[null,{"$f":"IF(D167=\"\",\"\",VLOOKUP($D167,Lists!$AP$2:$AR$78,2,FALSE))","v":""},{"$f":"IF(D167=\"\",\"\",VLOOKUP($D167,Lists!$AP$2:$AR$78,3,FALSE))","v":""},null,null,null,null,null,null,""]
[null,{"$f":"IF(D168=\"\",\"\",VLOOKUP($D168,Lists!$AP$2:$AR$78,2,FALSE))","v":""},{"$f":"IF(D168=\"\",\"\",VLOOKUP($D168,Lists!$AP$2:$AR$78,3,FALSE))","v":""},null,null,null,null,null,null,""]
[null,{"$f":"IF(D169=\"\",\"\",VLOOKUP($D169,Lists!$AP$2:$AR$78,2,FALSE))","v":""},{"$f":"IF(D169=\"\",\"\",VLOOKUP($D169,Lists!$AP$2:$AR$78,3,FALSE))","v":""},null,null,null,null,null,null,""]
[null,{"$f":"IF(D170=\"\",\"\",VLOOKUP($D170,Lists!$AP$2:$AR$78,2,FALSE))","v":""},{"$f":"IF(D170=\"\",\"\",VLOOKUP($D170,Lists!$AP$2:$AR$78,3,FALSE))","v":""},null,null,null,null,null,null,""]
[null,{"$f":"IF(D171=\"\",\"\",VLOOKUP($D171,Lists!$AP$2:$AR$78,2,FALSE))","v":""},{"$f":"IF(D171=\"\",\"\",VLOOKUP($D171,Lists!$AP$2:$AR$78,3,FALSE))","v":""},null,null,null,null,null,null,""]
[null,{"$f":"IF(D172=\"\",\"\",VLOOKUP($D172,Lists!$AP$2:$AR$78,2,FALSE))","v":""},{"$f":"IF(D172=\"\",\"\",VLOOKUP($D172,Lists!$AP$2:$AR$78,3,FALSE))","v":""},null,null,null,null,null,null,""]
[null,{"$f":"IF(D173=\"\",\"\",VLOOKUP($D173,Lists!$AP$2:$AR$78,2,FALSE))","v":""},{"$f":"IF(D173=\"\",\"\",VLOOKUP($D173,Lists!$AP$2:$AR$78,3,FALSE))","v":""},null,null,null,null,null,null,""]
[null,{"$f":"IF(D174=\"\",\"\",VLOOKUP($D174,Lists!$AP$2:$AR$78,2,FALSE))","v":""},{"$f":"IF(D174=\"\",\"\",VLOOKUP($D174,Lists!$AP$2:$AR$78,3,FALSE))","v":""},null,null,null,null,null,null,""]
[null,{"$f":"IF(D175=\"\",\"\",VLOOKUP($D175,Lists!$AP$2:$AR$78,2,FALSE))","v":""},{"$f":"IF(D175=\"\",\"\",VLOOKUP($D175,Lists!$AP$2:$AR$78,3,FALSE))","v":""},null,null,null,null,null,null,""]
[null,{"$f":"IF(D176=\"\",\"\",VLOOKUP($D176,Lists!$AP$2:$AR$78,2,FALSE))","v":""},{"$f":"IF(D176=\"\",\"\",VLOOKUP($D176,Lists!$AP$2:$AR$78,3,FALSE))","v":""},null,null,null,null,null,null,""]
[null,{"$f":"IF(D177=\"\",\"\",VLOOKUP($D177,Lists!$AP$2:$AR$78,2,FALSE))","v":""},{"$f":"IF(D177=\"\",\"\",VLOOKUP($D177,Lists!$AP$2:$AR$78,3,FALSE))","v":""},null,null,null,null,null,null,""]
[null,{"$f":"IF(D178=\"\",\"\",VLOOKUP($D178,Lists!$AP$2:$AR$78,2,FALSE))","v":""},{"$f":"IF(D178=\"\",\"\",VLOOKUP($D178,Lists!$AP$2:$AR$78,3,FALSE))","v":""},null,null,null,null,null,null,""]
[null,{"$f":"IF(D179=\"\",\"\",VLOOKUP($D179,Lists!$AP$2:$AR$78,2,FALSE))","v":""},{"$f":"IF(D179=\"\",\"\",VLOOKUP($D179,Lists!$AP$2:$AR$78,3,FALSE))","v":""},null,null,null,null,null,null,""]
[null,{"$f":"IF(D180=\"\",\"\",VLOOKUP($D180,Lists!$AP$2:$AR$78,2,FALSE))","v":""},{"$f":"IF(D180=\"\",\"\",VLOOKUP($D180,Lists!$AP$2:$AR$78,3,FALSE))","v":""},null,null,null,null,null,null,""]
[null,{"$f":"IF(D181=\"\",\"\",VLOOKUP($D181,Lists!$AP$2:$AR$78,2,FALSE))","v":""},{"$f":"IF(D181=\"\",\"\",VLOOKUP($D181,Lists!$AP$2:$AR$78,3,FALSE))","v":""},null,null,null,null,null,null,""]
[null,{"$f":"IF(D182=\"\",\"\",VLOOKUP($D182,Lists!$AP$2:$AR$78,2,FALSE))","v":""},{"$f":"IF(D182=\"\",\"\",VLOOKUP($D182,Lists!$AP$2:$AR$78,3,FALSE))","v":""},null,null,null,null,null,null,""]
[null,{"$f":"IF(D183=\"\",\"\",VLOOKUP($D183,Lists!$AP$2:$AR$78,2,FALSE))","v":""},{"$f":"IF(D183=\"\",\"\",VLOOKUP($D183,Lists!$AP$2:$AR$78,3,FALSE))","v":""},null,null,null,null,null,null,""]
[null,{"$f":"IF(D184=\"\",\"\",VLOOKUP($D184,Lists!$AP$2:$AR$78,2,FALSE))","v":""},{"$f":"IF(D184=\"\",\"\",VLOOKUP($D184,Lists!$AP$2:$AR$78,3,FALSE))","v":""},null,null,null,null,null,null,""]
[null,{"$f":"IF(D185=\"\",\"\",VLOOKUP($D185,Lists!$AP$2:$AR$78,2,FALSE))","v":""},{"$f":"IF(D185=\"\",\"\",VLOOKUP($D185,Lists!$AP$2:$AR$78,3,FALSE))","v":""},null,null,null,null,null,null,""]
[null,{"$f":"IF(D186=\"\",\"\",VLOOKUP($D186,Lists!$AP$2:$AR$78,2,FALSE))","v":""},{"$f":"IF(D186=\"\",\"\",VLOOKUP($D186,Lists!$AP$2:$AR$78,3,FALSE))","v":""},null,null,null,null,null,null,""]
[null,{"$f":"IF(D187=\"\",\"\",VLOOKUP($D187,Lists!$AP$2:$AR$78,2,FALSE))","v":""},{"$f":"IF(D187=\"\",\"\",VLOOKUP($D187,Lists!$AP$2:$AR$78,3,FALSE))","v":""},null,null,null,null,null,null,""]
[null,{"$f":"IF(D188=\"\",\"\",VLOOKUP($D188,Lists!$AP$2:$AR$78,2,FALSE))","v":""},{"$f":"IF(D188=\"\",\"\",VLOOKUP($D188,Lists!$AP$2:$AR$78,3,FALSE))","v":""},null,null,null,null,null,null,""]
[null,{"$f":"IF(D189=\"\",\"\",VLOOKUP($D189,Lists!$AP$2:$AR$78,2,FALSE))","v":""},{"$f":"IF(D189=\"\",\"\",VLOOKUP($D189,Lists!$AP$2:$AR$78,3,FALSE))","v":""},null,null,null,null,null,null,""]
[null,{"$f":"IF(D190=\"\",\"\",VLOOKUP($D190,Lists!$AP$2:$AR$78,2,FALSE))","v":""},{"$f":"IF(D190=\"\",\"\",VLOOKUP($D190,Lists!$AP$2:$AR$78,3,FALSE))","v":""},null,null,null,null,null,null,""]
[null,{"$f":"IF(D191=\"\",\"\",VLOOKUP($D191,Lists!$AP$2:$AR$78,2,FALSE))","v":""},{"$f":"IF(D191=\"\",\"\",VLOOKUP($D191,Lists!$AP$2:$AR$78,3,FALSE))","v":""},null,null,null,null,null,null,""]
[null,{"$f":"IF(D192=\"\",\"\",VLOOKUP($D192,Lists!$AP$2:$AR$78,2,FALSE))","v":""},{"$f":"IF(D192=\"\",\"\",VLOOKUP($D192,Lists!$AP$2:$AR$78,3,FALSE))","v":""},null,null,null,null,null,null,""]
[null,{"$f":"IF(D193=\"\",\"\",VLOOKUP($D193,Lists!$AP$2:$AR$78,2,FALSE))","v":""},{"$f":"IF(D193=\"\",\"\",VLOOKUP($D193,Lists!$AP$2:$AR$78,3,FALSE))","v":""},null,null,null,null,null,null,""]
[null,{"$f":"IF(D194=\"\",\"\",VLOOKUP($D194,Lists!$AP$2:$AR$78,2,FALSE))","v":""},{"$f":"IF(D194=\"\",\"\",VLOOKUP($D194,Lists!$AP$2:$AR$78,3,FALSE))","v":""},null,null,null,null,null,null,""]
[null,{"$f":"IF(D195=\"\",\"\",VLOOKUP($D195,Lists!$AP$2:$AR$78,2,FALSE))","v":""},{"$f":"IF(D195=\"\",\"\",VLOOKUP($D195,Lists!$AP$2:$AR$78,3,FALSE))","v":""},null,null,null,null,null,null,""]
[null,{"$f":"IF(D196=\"\",\"\",VLOOKUP($D196,Lists!$AP$2:$AR$78,2,FALSE))","v":""},{"$f":"IF(D196=\"\",\"\",VLOOKUP($D196,Lists!$AP$2:$AR$78,3,FALSE))","v":""},null,null,null,null,null,null,""]
[null,{"$f":"IF(D197=\"\",\"\",VLOOKUP($D197,Lists!$AP$2:$AR$78,2,FALSE))","v":""},{"$f":"IF(D197=\"\",\"\",VLOOKUP($D197,Lists!$AP$2:$AR$78,3,FALSE))","v":""},null,null,null,null,null,null,""]
[null,{"$f":"IF(D198=\"\",\"\",VLOOKUP($D198,Lists!$AP$2:$AR$78,2,FALSE))","v":""},{"$f":"IF(D198=\"\",\"\",VLOOKUP($D198,Lists!$AP$2:$AR$78,3,FALSE))","v":""},null,null,null,null,null,null,""]
[null,{"$f":"IF(D199=\"\",\"\",VLOOKUP($D199,Lists!$AP$2:$AR$78,2,FALSE))","v":""},{"$f":"IF(D199=\"\",\"\",VLOOKUP($D199,Lists!$AP$2:$AR$78,3,FALSE))","v":""},null,null,null,null,null,null,""]
[null,{"$f":"IF(D200=\"\",\"\",VLOOKUP($D200,Lists!$AP$2:$AR$78,2,FALSE))","v":""},{"$f":"IF(D200=\"\",\"\",VLOOKUP($D200,Lists!$AP$2:$AR$78,3,FALSE))","v":""},null,null,null,null,null,null,""]
[null,{"$f":"IF(D201=\"\",\"\",VLOOKUP($D201,Lists!$AP$2:$AR$78,2,FALSE))","v":""},{"$f":"IF(D201=\"\",\"\",VLOOKUP($D201,Lists!$AP$2:$AR$78,3,FALSE))","v":""},null,null,null,null,null,null,""]
[null,{"$f":"IF(D202=\"\",\"\",VLOOKUP($D202,Lists!$AP$2:$AR$78,2,FALSE))","v":""},{"$f":"IF(D202=\"\",\"\",VLOOKUP($D202,Lists!$AP$2:$AR$78,3,FALSE))","v":""},null,null,null,null,null,null,""]
[null,{"$f":"IF(D203=\"\",\"\",VLOOKUP($D203,Lists!$AP$2:$AR$78,2,FALSE))","v":""},{"$f":"IF(D203=\"\",\"\",VLOOKUP($D203,Lists!$AP$2:$AR$78,3,FALSE))","v":""},null,null,null,null,null,null,""]
[null,{"$f":"IF(D204=\"\",\"\",VLOOKUP($D204,Lists!$AP$2:$AR$78,2,FALSE))","v":""},{"$f":"IF(D204=\"\",\"\",VLOOKUP($D204,Lists!$AP$2:$AR$78,3,FALSE))","v":""},null,null,null,null,null,null,""]
[null,{"$f":"IF(D205=\"\",\"\",VLOOKUP($D205,Lists!$AP$2:$AR$78,2,FALSE))","v":""},{"$f":"IF(D205=\"\",\"\",VLOOKUP($D205,Lists!$AP$2:$AR$78,3,FALSE))","v":""},null,null,null,null,null,null,""]
[null,{"$f":"IF(D206=\"\",\"\",VLOOKUP($D206,Lists!$AP$2:$AR$78,2,FALSE))","v":""},{"$f":"IF(D206=\"\",\"\",VLOOKUP($D206,Lists!$AP$2:$AR$78,3,FALSE))","v":""},null,null,null,null,null,null,""]
[null,{"$f":"IF(D207=\"\",\"\",VLOOKUP($D207,Lists!$AP$2:$AR$78,2,FALSE))","v":""},{"$f":"IF(D207=\"\",\"\",VLOOKUP($D207,Lists!$AP$2:$AR$78,3,FALSE))","v":""},null,null,null,null,null,null,""]
[null,{"$f":"IF(D208=\"\",\"\",VLOOKUP($D208,Lists!$AP$2:$AR$78,2,FALSE))","v":""},{"$f":"IF(D208=\"\",\"\",VLOOKUP($D208,Lists!$AP$2:$AR$78,3,FALSE))","v":""},null,null,null,null,null,null,""]
[null,{"$f":"IF(D209=\"\",\"\",VLOOKUP($D209,Lists!$AP$2:$AR$78,2,FALSE))","v":""},{"$f":"IF(D209=\"\",\"\",VLOOKUP($D209,Lists!$AP$2:$AR$78,3,FALSE))","v":""},null,null,null,null,null,null,""]
[null,{"$f":"IF(D210=\"\",\"\",VLOOKUP($D210,Lists!$AP$2:$AR$78,2,FALSE))","v":""},{"$f":"IF(D210=\"\",\"\",VLOOKUP($D210,Lists!$AP$2:$AR$78,3,FALSE))","v":""},null,null,null,null,null,null,""]
[null,{"$f":"IF(D211=\"\",\"\",VLOOKUP($D211,Lists!$AP$2:$AR$78,2,FALSE))","v":""},{"$f":"IF(D211=\"\",\"\",VLOOKUP($D211,Lists!$AP$2:$AR$78,3,FALSE))","v":""},null,null,null,null,null,null,""]
[null,{"$f":"IF(D212=\"\",\"\",VLOOKUP($D212,Lists!$AP$2:$AR$78,2,FALSE))","v":""},{"$f":"IF(D212=\"\",\"\",VLOOKUP($D212,Lists!$AP$2:$AR$78,3,FALSE))","v":""},null,null,null,null,null,null,""]
[null,{"$f":"IF(D213=\"\",\"\",VLOOKUP($D213,Lists!$AP$2:$AR$78,2,FALSE))","v":""},{"$f":"IF(D213=\"\",\"\",VLOOKUP($D213,Lists!$AP$2:$AR$78,3,FALSE))","v":""},null,null,null,null,null,null,""]
[null,{"$f":"IF(D214=\"\",\"\",VLOOKUP($D214,Lists!$AP$2:$AR$78,2,FALSE))","v":""},{"$f":"IF(D214=\"\",\"\",VLOOKUP($D214,Lists!$AP$2:$AR$78,3,FALSE))","v":""},null,null,null,null,null,null,""]
[null,{"$f":"IF(D215=\"\",\"\",VLOOKUP($D215,Lists!$AP$2:$AR$78,2,FALSE))","v":""},{"$f":"IF(D215=\"\",\"\",VLOOKUP($D215,Lists!$AP$2:$AR$78,3,FALSE))","v":""},null,null,null,null,null,null,""]
[null,{"$f":"IF(D216=\"\",\"\",VLOOKUP($D216,Lists!$AP$2:$AR$78,2,FALSE))","v":""},{"$f":"IF(D216=\"\",\"\",VLOOKUP($D216,Lists!$AP$2:$AR$78,3,FALSE))","v":""},null,null,null,null,null,null,""]
[null,{"$f":"IF(D217=\"\",\"\",VLOOKUP($D217,Lists!$AP$2:$AR$78,2,FALSE))","v":""},{"$f":"IF(D217=\"\",\"\",VLOOKUP($D217,Lists!$AP$2:$AR$78,3,FALSE))","v":""},null,null,null,null,null,null,{"$f":"IF(I217=\"\",\"\",(VALUE(TEXT(H217,\"m/dd/yy \")&TEXT(I217,\"hh:mm:ss\"))-(VALUE(TEXT(F217,\"m/dd/yy \")&TEXT(G217,\"hh:mm:ss\"))))*24)","v":""}]
[null,{"$f":"IF(D218=\"\",\"\",VLOOKUP($D218,Lists!$AP$2:$AR$78,2,FALSE))","v":""},{"$f":"IF(D218=\"\",\"\",VLOOKUP($D218,Lists!$AP$2:$AR$78,3,FALSE))","v":""},null,null,null,null,null,null,""]
[null,{"$f":"IF(D219=\"\",\"\",VLOOKUP($D219,Lists!$AP$2:$AR$78,2,FALSE))","v":""},{"$f":"IF(D219=\"\",\"\",VLOOKUP($D219,Lists!$AP$2:$AR$78,3,FALSE))","v":""},null,null,null,null,null,null,""]
[null,{"$f":"IF(D220=\"\",\"\",VLOOKUP($D220,Lists!$AP$2:$AR$78,2,FALSE))","v":""},{"$f":"IF(D220=\"\",\"\",VLOOKUP($D220,Lists!$AP$2:$AR$78,3,FALSE))","v":""},null,null,null,null,null,null,""]
[null,{"$f":"IF(D221=\"\",\"\",VLOOKUP($D221,Lists!$AP$2:$AR$78,2,FALSE))","v":""},{"$f":"IF(D221=\"\",\"\",VLOOKUP($D221,Lists!$AP$2:$AR$78,3,FALSE))","v":""},null,null,null,null,null,null,""]
[null,{"$f":"IF(D222=\"\",\"\",VLOOKUP($D222,Lists!$AP$2:$AR$78,2,FALSE))","v":""},{"$f":"IF(D222=\"\",\"\",VLOOKUP($D222,Lists!$AP$2:$AR$78,3,FALSE))","v":""},null,null,null,null,null,null,""]
[null,{"$f":"IF(D223=\"\",\"\",VLOOKUP($D223,Lists!$AP$2:$AR$78,2,FALSE))","v":""},{"$f":"IF(D223=\"\",\"\",VLOOKUP($D223,Lists!$AP$2:$AR$78,3,FALSE))","v":""},null,null,null,null,null,null,""]
[null,{"$f":"IF(D224=\"\",\"\",VLOOKUP($D224,Lists!$AP$2:$AR$78,2,FALSE))","v":""},{"$f":"IF(D224=\"\",\"\",VLOOKUP($D224,Lists!$AP$2:$AR$78,3,FALSE))","v":""},null,null,null,null,null,null,""]
[null,{"$f":"IF(D225=\"\",\"\",VLOOKUP($D225,Lists!$AP$2:$AR$78,2,FALSE))","v":""},{"$f":"IF(D225=\"\",\"\",VLOOKUP($D225,Lists!$AP$2:$AR$78,3,FALSE))","v":""},null,null,null,null,null,null,""]
[null,{"$f":"IF(D226=\"\",\"\",VLOOKUP($D226,Lists!$AP$2:$AR$78,2,FALSE))","v":""},{"$f":"IF(D226=\"\",\"\",VLOOKUP($D226,Lists!$AP$2:$AR$78,3,FALSE))","v":""},null,null,null,null,null,null,""]
[null,{"$f":"IF(D227=\"\",\"\",VLOOKUP($D227,Lists!$AP$2:$AR$78,2,FALSE))","v":""},{"$f":"IF(D227=\"\",\"\",VLOOKUP($D227,Lists!$AP$2:$AR$78,3,FALSE))","v":""},null,null,null,null,null,null,""]
[null,{"$f":"IF(D228=\"\",\"\",VLOOKUP($D228,Lists!$AP$2:$AR$78,2,FALSE))","v":""},{"$f":"IF(D228=\"\",\"\",VLOOKUP($D228,Lists!$AP$2:$AR$78,3,FALSE))","v":""},null,null,null,null,null,null,""]
[null,{"$f":"IF(D229=\"\",\"\",VLOOKUP($D229,Lists!$AP$2:$AR$78,2,FALSE))","v":""},{"$f":"IF(D229=\"\",\"\",VLOOKUP($D229,Lists!$AP$2:$AR$78,3,FALSE))","v":""},null,null,null,null,null,null,""]
[null,{"$f":"IF(D230=\"\",\"\",VLOOKUP($D230,Lists!$AP$2:$AR$78,2,FALSE))","v":""},{"$f":"IF(D230=\"\",\"\",VLOOKUP($D230,Lists!$AP$2:$AR$78,3,FALSE))","v":""},null,null,null,null,null,null,""]
[null,{"$f":"IF(D231=\"\",\"\",VLOOKUP($D231,Lists!$AP$2:$AR$78,2,FALSE))","v":""},{"$f":"IF(D231=\"\",\"\",VLOOKUP($D231,Lists!$AP$2:$AR$78,3,FALSE))","v":""},null,null,null,null,null,null,""]
[null,{"$f":"IF(D232=\"\",\"\",VLOOKUP($D232,Lists!$AP$2:$AR$78,2,FALSE))","v":""},{"$f":"IF(D232=\"\",\"\",VLOOKUP($D232,Lists!$AP$2:$AR$78,3,FALSE))","v":""},null,null,null,null,null,null,""]
[null,{"$f":"IF(D233=\"\",\"\",VLOOKUP($D233,Lists!$AP$2:$AR$78,2,FALSE))","v":""},{"$f":"IF(D233=\"\",\"\",VLOOKUP($D233,Lists!$AP$2:$AR$78,3,FALSE))","v":""},null,null,null,null,null,null,""]
[null,{"$f":"IF(D234=\"\",\"\",VLOOKUP($D234,Lists!$AP$2:$AR$78,2,FALSE))","v":""},{"$f":"IF(D234=\"\",\"\",VLOOKUP($D234,Lists!$AP$2:$AR$78,3,FALSE))","v":""},null,null,null,null,null,null,""]
[null,{"$f":"IF(D235=\"\",\"\",VLOOKUP($D235,Lists!$AP$2:$AR$78,2,FALSE))","v":""},{"$f":"IF(D235=\"\",\"\",VLOOKUP($D235,Lists!$AP$2:$AR$78,3,FALSE))","v":""},null,null,null,null,null,null,""]
[null,{"$f":"IF(D236=\"\",\"\",VLOOKUP($D236,Lists!$AP$2:$AR$78,2,FALSE))","v":""},{"$f":"IF(D236=\"\",\"\",VLOOKUP($D236,Lists!$AP$2:$AR$78,3,FALSE))","v":""},null,null,null,null,null,null,""]
[null,{"$f":"IF(D237=\"\",\"\",VLOOKUP($D237,Lists!$AP$2:$AR$78,2,FALSE))","v":""},{"$f":"IF(D237=\"\",\"\",VLOOKUP($D237,Lists!$AP$2:$AR$78,3,FALSE))","v":""},null,null,null,null,null,null,""]
[null,{"$f":"IF(D238=\"\",\"\",VLOOKUP($D238,Lists!$AP$2:$AR$78,2,FALSE))","v":""},{"$f":"IF(D238=\"\",\"\",VLOOKUP($D238,Lists!$AP$2:$AR$78,3,FALSE))","v":""},null,null,null,null,null,null,""]
[null,{"$f":"IF(D239=\"\",\"\",VLOOKUP($D239,Lists!$AP$2:$AR$78,2,FALSE))","v":""},{"$f":"IF(D239=\"\",\"\",VLOOKUP($D239,Lists!$AP$2:$AR$78,3,FALSE))","v":""},null,null,null,null,null,null,""]
[null,{"$f":"IF(D240=\"\",\"\",VLOOKUP($D240,Lists!$AP$2:$AR$78,2,FALSE))","v":""},{"$f":"IF(D240=\"\",\"\",VLOOKUP($D240,Lists!$AP$2:$AR$78,3,FALSE))","v":""},null,null,null,null,null,null,""]
[null,{"$f":"IF(D241=\"\",\"\",VLOOKUP($D241,Lists!$AP$2:$AR$78,2,FALSE))","v":""},{"$f":"IF(D241=\"\",\"\",VLOOKUP($D241,Lists!$AP$2:$AR$78,3,FALSE))","v":""},null,null,null,null,null,null,""]
[null,{"$f":"IF(D242=\"\",\"\",VLOOKUP($D242,Lists!$AP$2:$AR$78,2,FALSE))","v":""},{"$f":"IF(D242=\"\",\"\",VLOOKUP($D242,Lists!$AP$2:$AR$78,3,FALSE))","v":""},null,null,null,null,null,null,""]
[null,{"$f":"IF(D243=\"\",\"\",VLOOKUP($D243,Lists!$AP$2:$AR$78,2,FALSE))","v":""},{"$f":"IF(D243=\"\",\"\",VLOOKUP($D243,Lists!$AP$2:$AR$78,3,FALSE))","v":""},null,null,null,null,null,null,""]
[null,{"$f":"IF(D244=\"\",\"\",VLOOKUP($D244,Lists!$AP$2:$AR$78,2,FALSE))","v":""},{"$f":"IF(D244=\"\",\"\",VLOOKUP($D244,Lists!$AP$2:$AR$78,3,FALSE))","v":""},null,null,null,null,null,null,""]
[null,{"$f":"IF(D245=\"\",\"\",VLOOKUP($D245,Lists!$AP$2:$AR$78,2,FALSE))","v":""},{"$f":"IF(D245=\"\",\"\",VLOOKUP($D245,Lists!$AP$2:$AR$78,3,FALSE))","v":""},null,null,null,null,null,null,""]
[null,{"$f":"IF(D246=\"\",\"\",VLOOKUP($D246,Lists!$AP$2:$AR$78,2,FALSE))","v":""},{"$f":"IF(D246=\"\",\"\",VLOOKUP($D246,Lists!$AP$2:$AR$78,3,FALSE))","v":""},null,null,null,null,null,null,""]
[null,{"$f":"IF(D247=\"\",\"\",VLOOKUP($D247,Lists!$AP$2:$AR$78,2,FALSE))","v":""},{"$f":"IF(D247=\"\",\"\",VLOOKUP($D247,Lists!$AP$2:$AR$78,3,FALSE))","v":""},null,null,null,null,null,null,""]
[null,{"$f":"IF(D248=\"\",\"\",VLOOKUP($D248,Lists!$AP$2:$AR$78,2,FALSE))","v":""},{"$f":"IF(D248=\"\",\"\",VLOOKUP($D248,Lists!$AP$2:$AR$78,3,FALSE))","v":""},null,null,null,null,null,null,""]
[null,{"$f":"IF(D249=\"\",\"\",VLOOKUP($D249,Lists!$AP$2:$AR$78,2,FALSE))","v":""},{"$f":"IF(D249=\"\",\"\",VLOOKUP($D249,Lists!$AP$2:$AR$78,3,FALSE))","v":""},null,null,null,null,null,null,""]
[null,{"$f":"IF(D250=\"\",\"\",VLOOKUP($D250,Lists!$AP$2:$AR$78,2,FALSE))","v":""},{"$f":"IF(D250=\"\",\"\",VLOOKUP($D250,Lists!$AP$2:$AR$78,3,FALSE))","v":""},null,null,null,null,null,null,""]
[null,{"$f":"IF(D251=\"\",\"\",VLOOKUP($D251,Lists!$AP$2:$AR$78,2,FALSE))","v":""},{"$f":"IF(D251=\"\",\"\",VLOOKUP($D251,Lists!$AP$2:$AR$78,3,FALSE))","v":""},null,null,null,null,null,null,""]
[null,{"$f":"IF(D252=\"\",\"\",VLOOKUP($D252,Lists!$AP$2:$AR$78,2,FALSE))","v":""},{"$f":"IF(D252=\"\",\"\",VLOOKUP($D252,Lists!$AP$2:$AR$78,3,FALSE))","v":""},null,null,null,null,null,null,""]
[null,{"$f":"IF(D253=\"\",\"\",VLOOKUP($D253,Lists!$AP$2:$AR$78,2,FALSE))","v":""},{"$f":"IF(D253=\"\",\"\",VLOOKUP($D253,Lists!$AP$2:$AR$78,3,FALSE))","v":""},null,null,null,null,null,null,""]
[null,{"$f":"IF(D254=\"\",\"\",VLOOKUP($D254,Lists!$AP$2:$AR$78,2,FALSE))","v":""},{"$f":"IF(D254=\"\",\"\",VLOOKUP($D254,Lists!$AP$2:$AR$78,3,FALSE))","v":""},null,null,null,null,null,null,""]
[null,{"$f":"IF(D255=\"\",\"\",VLOOKUP($D255,Lists!$AP$2:$AR$78,2,FALSE))","v":""},{"$f":"IF(D255=\"\",\"\",VLOOKUP($D255,Lists!$AP$2:$AR$78,3,FALSE))","v":""},null,null,null,null,null,null,""]
[null,{"$f":"IF(D256=\"\",\"\",VLOOKUP($D256,Lists!$AP$2:$AR$78,2,FALSE))","v":""},{"$f":"IF(D256=\"\",\"\",VLOOKUP($D256,Lists!$AP$2:$AR$78,3,FALSE))","v":""},null,null,null,null,null,null,""]
[null,{"$f":"IF(D257=\"\",\"\",VLOOKUP($D257,Lists!$AP$2:$AR$78,2,FALSE))","v":""},{"$f":"IF(D257=\"\",\"\",VLOOKUP($D257,Lists!$AP$2:$AR$78,3,FALSE))","v":""},null,null,null,null,null,null,""]
[null,{"$f":"IF(D258=\"\",\"\",VLOOKUP($D258,Lists!$AP$2:$AR$78,2,FALSE))","v":""},{"$f":"IF(D258=\"\",\"\",VLOOKUP($D258,Lists!$AP$2:$AR$78,3,FALSE))","v":""},null,null,null,null,null,null,""]
[null,{"$f":"IF(D259=\"\",\"\",VLOOKUP($D259,Lists!$AP$2:$AR$78,2,FALSE))","v":""},{"$f":"IF(D259=\"\",\"\",VLOOKUP($D259,Lists!$AP$2:$AR$78,3,FALSE))","v":""},null,null,null,null,null,null,""]
[null,{"$f":"IF(D260=\"\",\"\",VLOOKUP($D260,Lists!$AP$2:$AR$78,2,FALSE))","v":""},{"$f":"IF(D260=\"\",\"\",VLOOKUP($D260,Lists!$AP$2:$AR$78,3,FALSE))","v":""},null,null,null,null,null,null,""]
[null,{"$f":"IF(D261=\"\",\"\",VLOOKUP($D261,Lists!$AP$2:$AR$78,2,FALSE))","v":""},{"$f":"IF(D261=\"\",\"\",VLOOKUP($D261,Lists!$AP$2:$AR$78,3,FALSE))","v":""},null,null,null,null,null,null,""]
[null,{"$f":"IF(D262=\"\",\"\",VLOOKUP($D262,Lists!$AP$2:$AR$78,2,FALSE))","v":""},{"$f":"IF(D262=\"\",\"\",VLOOKUP($D262,Lists!$AP$2:$AR$78,3,FALSE))","v":""},null,null,null,null,null,null,""]
[null,{"$f":"IF(D263=\"\",\"\",VLOOKUP($D263,Lists!$AP$2:$AR$78,2,FALSE))","v":""},{"$f":"IF(D263=\"\",\"\",VLOOKUP($D263,Lists!$AP$2:$AR$78,3,FALSE))","v":""},null,null,null,null,null,null,""]
[null,{"$f":"IF(D264=\"\",\"\",VLOOKUP($D264,Lists!$AP$2:$AR$78,2,FALSE))","v":""},{"$f":"IF(D264=\"\",\"\",VLOOKUP($D264,Lists!$AP$2:$AR$78,3,FALSE))","v":""},null,null,null,null,null,null,""]
[null,{"$f":"IF(D265=\"\",\"\",VLOOKUP($D265,Lists!$AP$2:$AR$78,2,FALSE))","v":""},{"$f":"IF(D265=\"\",\"\",VLOOKUP($D265,Lists!$AP$2:$AR$78,3,FALSE))","v":""},null,null,null,null,null,null,""]
[null,{"$f":"IF(D266=\"\",\"\",VLOOKUP($D266,Lists!$AP$2:$AR$78,2,FALSE))","v":""},{"$f":"IF(D266=\"\",\"\",VLOOKUP($D266,Lists!$AP$2:$AR$78,3,FALSE))","v":""},null,null,null,null,null,null,""]
[null,{"$f":"IF(D267=\"\",\"\",VLOOKUP($D267,Lists!$AP$2:$AR$78,2,FALSE))","v":""},{"$f":"IF(D267=\"\",\"\",VLOOKUP($D267,Lists!$AP$2:$AR$78,3,FALSE))","v":""},null,null,null,null,null,null,""]
[null,{"$f":"IF(D268=\"\",\"\",VLOOKUP($D268,Lists!$AP$2:$AR$78,2,FALSE))","v":""},{"$f":"IF(D268=\"\",\"\",VLOOKUP($D268,Lists!$AP$2:$AR$78,3,FALSE))","v":""},null,null,null,null,null,null,""]
[null,{"$f":"IF(D269=\"\",\"\",VLOOKUP($D269,Lists!$AP$2:$AR$78,2,FALSE))","v":""},{"$f":"IF(D269=\"\",\"\",VLOOKUP($D269,Lists!$AP$2:$AR$78,3,FALSE))","v":""},null,null,null,null,null,null,""]
[null,{"$f":"IF(D270=\"\",\"\",VLOOKUP($D270,Lists!$AP$2:$AR$78,2,FALSE))","v":""},{"$f":"IF(D270=\"\",\"\",VLOOKUP($D270,Lists!$AP$2:$AR$78,3,FALSE))","v":""},null,null,null,null,null,null,""]
[null,{"$f":"IF(D271=\"\",\"\",VLOOKUP($D271,Lists!$AP$2:$AR$78,2,FALSE))","v":""},{"$f":"IF(D271=\"\",\"\",VLOOKUP($D271,Lists!$AP$2:$AR$78,3,FALSE))","v":""},null,null,null,null,null,null,""]
[null,{"$f":"IF(D272=\"\",\"\",VLOOKUP($D272,Lists!$AP$2:$AR$78,2,FALSE))","v":""},{"$f":"IF(D272=\"\",\"\",VLOOKUP($D272,Lists!$AP$2:$AR$78,3,FALSE))","v":""},null,null,null,null,null,null,""]
[null,{"$f":"IF(D273=\"\",\"\",VLOOKUP($D273,Lists!$AP$2:$AR$78,2,FALSE))","v":""},{"$f":"IF(D273=\"\",\"\",VLOOKUP($D273,Lists!$AP$2:$AR$78,3,FALSE))","v":""},null,null,null,null,null,null,""]
[null,{"$f":"IF(D274=\"\",\"\",VLOOKUP($D274,Lists!$AP$2:$AR$78,2,FALSE))","v":""},{"$f":"IF(D274=\"\",\"\",VLOOKUP($D274,Lists!$AP$2:$AR$78,3,FALSE))","v":""},null,null,null,null,null,null,""]
[null,{"$f":"IF(D275=\"\",\"\",VLOOKUP($D275,Lists!$AP$2:$AR$78,2,FALSE))","v":""},{"$f":"IF(D275=\"\",\"\",VLOOKUP($D275,Lists!$AP$2:$AR$78,3,FALSE))","v":""},null,null,null,null,null,null,""]
[null,{"$f":"IF(D276=\"\",\"\",VLOOKUP($D276,Lists!$AP$2:$AR$78,2,FALSE))","v":""},{"$f":"IF(D276=\"\",\"\",VLOOKUP($D276,Lists!$AP$2:$AR$78,3,FALSE))","v":""},null,null,null,null,null,null,""]
[null,{"$f":"IF(D277=\"\",\"\",VLOOKUP($D277,Lists!$AP$2:$AR$78,2,FALSE))","v":""},{"$f":"IF(D277=\"\",\"\",VLOOKUP($D277,Lists!$AP$2:$AR$78,3,FALSE))","v":""},null,null,null,null,null,null,""]
[null,{"$f":"IF(D278=\"\",\"\",VLOOKUP($D278,Lists!$AP$2:$AR$78,2,FALSE))","v":""},{"$f":"IF(D278=\"\",\"\",VLOOKUP($D278,Lists!$AP$2:$AR$78,3,FALSE))","v":""},null,null,null,null,null,null,""]
[null,{"$f":"IF(D279=\"\",\"\",VLOOKUP($D279,Lists!$AP$2:$AR$78,2,FALSE))","v":""},{"$f":"IF(D279=\"\",\"\",VLOOKUP($D279,Lists!$AP$2:$AR$78,3,FALSE))","v":""},null,null,null,null,null,null,""]
[null,{"$f":"IF(D280=\"\",\"\",VLOOKUP($D280,Lists!$AP$2:$AR$78,2,FALSE))","v":""},{"$f":"IF(D280=\"\",\"\",VLOOKUP($D280,Lists!$AP$2:$AR$78,3,FALSE))","v":""},null,null,null,null,null,null,""]
[null,{"$f":"IF(D281=\"\",\"\",VLOOKUP($D281,Lists!$AP$2:$AR$78,2,FALSE))","v":""},{"$f":"IF(D281=\"\",\"\",VLOOKUP($D281,Lists!$AP$2:$AR$78,3,FALSE))","v":""},null,null,null,null,null,null,{"$f":"IF(I281=\"\",\"\",(VALUE(TEXT(H281,\"m/dd/yy \")&TEXT(I281,\"hh:mm:ss\"))-(VALUE(TEXT(F281,\"m/dd/yy \")&TEXT(G281,\"hh:mm:ss\"))))*24)","v":""}]
[null,{"$f":"IF(D282=\"\",\"\",VLOOKUP($D282,Lists!$AP$2:$AR$78,2,FALSE))","v":""},{"$f":"IF(D282=\"\",\"\",VLOOKUP($D282,Lists!$AP$2:$AR$78,3,FALSE))","v":""},null,null,null,null,null,null,""]
[null,{"$f":"IF(D283=\"\",\"\",VLOOKUP($D283,Lists!$AP$2:$AR$78,2,FALSE))","v":""},{"$f":"IF(D283=\"\",\"\",VLOOKUP($D283,Lists!$AP$2:$AR$78,3,FALSE))","v":""},null,null,null,null,null,null,""]
[null,{"$f":"IF(D284=\"\",\"\",VLOOKUP($D284,Lists!$AP$2:$AR$78,2,FALSE))","v":""},{"$f":"IF(D284=\"\",\"\",VLOOKUP($D284,Lists!$AP$2:$AR$78,3,FALSE))","v":""},null,null,null,null,null,null,""]
[null,{"$f":"IF(D285=\"\",\"\",VLOOKUP($D285,Lists!$AP$2:$AR$78,2,FALSE))","v":""},{"$f":"IF(D285=\"\",\"\",VLOOKUP($D285,Lists!$AP$2:$AR$78,3,FALSE))","v":""},null,null,null,null,null,null,""]
[null,{"$f":"IF(D286=\"\",\"\",VLOOKUP($D286,Lists!$AP$2:$AR$78,2,FALSE))","v":""},{"$f":"IF(D286=\"\",\"\",VLOOKUP($D286,Lists!$AP$2:$AR$78,3,FALSE))","v":""},null,null,null,null,null,null,""]
[null,{"$f":"IF(D287=\"\",\"\",VLOOKUP($D287,Lists!$AP$2:$AR$78,2,FALSE))","v":""},{"$f":"IF(D287=\"\",\"\",VLOOKUP($D287,Lists!$AP$2:$AR$78,3,FALSE))","v":""},null,null,null,null,null,null,""]
[null,{"$f":"IF(D288=\"\",\"\",VLOOKUP($D288,Lists!$AP$2:$AR$78,2,FALSE))","v":""},{"$f":"IF(D288=\"\",\"\",VLOOKUP($D288,Lists!$AP$2:$AR$78,3,FALSE))","v":""},null,null,null,null,null,null,""]
[null,{"$f":"IF(D289=\"\",\"\",VLOOKUP($D289,Lists!$AP$2:$AR$78,2,FALSE))","v":""},{"$f":"IF(D289=\"\",\"\",VLOOKUP($D289,Lists!$AP$2:$AR$78,3,FALSE))","v":""},null,null,null,null,null,null,""]
[null,{"$f":"IF(D290=\"\",\"\",VLOOKUP($D290,Lists!$AP$2:$AR$78,2,FALSE))","v":""},{"$f":"IF(D290=\"\",\"\",VLOOKUP($D290,Lists!$AP$2:$AR$78,3,FALSE))","v":""},null,null,null,null,null,null,""]
[null,{"$f":"IF(D291=\"\",\"\",VLOOKUP($D291,Lists!$AP$2:$AR$78,2,FALSE))","v":""},{"$f":"IF(D291=\"\",\"\",VLOOKUP($D291,Lists!$AP$2:$AR$78,3,FALSE))","v":""},null,null,null,null,null,null,""]
[null,{"$f":"IF(D292=\"\",\"\",VLOOKUP($D292,Lists!$AP$2:$AR$78,2,FALSE))","v":""},{"$f":"IF(D292=\"\",\"\",VLOOKUP($D292,Lists!$AP$2:$AR$78,3,FALSE))","v":""},null,null,null,null,null,null,""]
[null,{"$f":"IF(D293=\"\",\"\",VLOOKUP($D293,Lists!$AP$2:$AR$78,2,FALSE))","v":""},{"$f":"IF(D293=\"\",\"\",VLOOKUP($D293,Lists!$AP$2:$AR$78,3,FALSE))","v":""},null,null,null,null,null,null,""]
[null,{"$f":"IF(D294=\"\",\"\",VLOOKUP($D294,Lists!$AP$2:$AR$78,2,FALSE))","v":""},{"$f":"IF(D294=\"\",\"\",VLOOKUP($D294,Lists!$AP$2:$AR$78,3,FALSE))","v":""},null,null,null,null,null,null,""]
[null,{"$f":"IF(D295=\"\",\"\",VLOOKUP($D295,Lists!$AP$2:$AR$78,2,FALSE))","v":""},{"$f":"IF(D295=\"\",\"\",VLOOKUP($D295,Lists!$AP$2:$AR$78,3,FALSE))","v":""},null,null,null,null,null,null,""]
[null,{"$f":"IF(D296=\"\",\"\",VLOOKUP($D296,Lists!$AP$2:$AR$78,2,FALSE))","v":""},{"$f":"IF(D296=\"\",\"\",VLOOKUP($D296,Lists!$AP$2:$AR$78,3,FALSE))","v":""},null,null,null,null,null,null,""]
[null,{"$f":"IF(D297=\"\",\"\",VLOOKUP($D297,Lists!$AP$2:$AR$78,2,FALSE))","v":""},{"$f":"IF(D297=\"\",\"\",VLOOKUP($D297,Lists!$AP$2:$AR$78,3,FALSE))","v":""},null,null,null,null,null,null,""]
[null,{"$f":"IF(D298=\"\",\"\",VLOOKUP($D298,Lists!$AP$2:$AR$78,2,FALSE))","v":""},{"$f":"IF(D298=\"\",\"\",VLOOKUP($D298,Lists!$AP$2:$AR$78,3,FALSE))","v":""},null,null,null,null,null,null,""]
[null,{"$f":"IF(D299=\"\",\"\",VLOOKUP($D299,Lists!$AP$2:$AR$78,2,FALSE))","v":""},{"$f":"IF(D299=\"\",\"\",VLOOKUP($D299,Lists!$AP$2:$AR$78,3,FALSE))","v":""},null,null,null,null,null,null,""]
[null,{"$f":"IF(D300=\"\",\"\",VLOOKUP($D300,Lists!$AP$2:$AR$78,2,FALSE))","v":""},{"$f":"IF(D300=\"\",\"\",VLOOKUP($D300,Lists!$AP$2:$AR$78,3,FALSE))","v":""},null,null,null,null,null,null,""]
[null,{"$f":"IF(D301=\"\",\"\",VLOOKUP($D301,Lists!$AP$2:$AR$78,2,FALSE))","v":""},{"$f":"IF(D301=\"\",\"\",VLOOKUP($D301,Lists!$AP$2:$AR$78,3,FALSE))","v":""},null,null,null,null,null,null,""]
[null,{"$f":"IF(D302=\"\",\"\",VLOOKUP($D302,Lists!$AP$2:$AR$78,2,FALSE))","v":""},{"$f":"IF(D302=\"\",\"\",VLOOKUP($D302,Lists!$AP$2:$AR$78,3,FALSE))","v":""},null,null,null,null,null,null,""]
[null,{"$f":"IF(D303=\"\",\"\",VLOOKUP($D303,Lists!$AP$2:$AR$78,2,FALSE))","v":""},{"$f":"IF(D303=\"\",\"\",VLOOKUP($D303,Lists!$AP$2:$AR$78,3,FALSE))","v":""},null,null,null,null,null,null,""]
[null,{"$f":"IF(D304=\"\",\"\",VLOOKUP($D304,Lists!$AP$2:$AR$78,2,FALSE))","v":""},{"$f":"IF(D304=\"\",\"\",VLOOKUP($D304,Lists!$AP$2:$AR$78,3,FALSE))","v":""},null,null,null,null,null,null,""]
[null,{"$f":"IF(D305=\"\",\"\",VLOOKUP($D305,Lists!$AP$2:$AR$78,2,FALSE))","v":""},{"$f":"IF(D305=\"\",\"\",VLOOKUP($D305,Lists!$AP$2:$AR$78,3,FALSE))","v":""},null,null,null,null,null,null,""]
[null,{"$f":"IF(D306=\"\",\"\",VLOOKUP($D306,Lists!$AP$2:$AR$78,2,FALSE))","v":""},{"$f":"IF(D306=\"\",\"\",VLOOKUP($D306,Lists!$AP$2:$AR$78,3,FALSE))","v":""},null,null,null,null,null,null,""]
[null,{"$f":"IF(D307=\"\",\"\",VLOOKUP($D307,Lists!$AP$2:$AR$78,2,FALSE))","v":""},{"$f":"IF(D307=\"\",\"\",VLOOKUP($D307,Lists!$AP$2:$AR$78,3,FALSE))","v":""},null,null,null,null,null,null,""]
[null,{"$f":"IF(D308=\"\",\"\",VLOOKUP($D308,Lists!$AP$2:$AR$78,2,FALSE))","v":""},{"$f":"IF(D308=\"\",\"\",VLOOKUP($D308,Lists!$AP$2:$AR$78,3,FALSE))","v":""},null,null,null,null,null,null,""]
[null,{"$f":"IF(D309=\"\",\"\",VLOOKUP($D309,Lists!$AP$2:$AR$78,2,FALSE))","v":""},{"$f":"IF(D309=\"\",\"\",VLOOKUP($D309,Lists!$AP$2:$AR$78,3,FALSE))","v":""},null,null,null,null,null,null,""]
[null,{"$f":"IF(D310=\"\",\"\",VLOOKUP($D310,Lists!$AP$2:$AR$78,2,FALSE))","v":""},{"$f":"IF(D310=\"\",\"\",VLOOKUP($D310,Lists!$AP$2:$AR$78,3,FALSE))","v":""},null,null,null,null,null,null,""]
[null,{"$f":"IF(D311=\"\",\"\",VLOOKUP($D311,Lists!$AP$2:$AR$78,2,FALSE))","v":""},{"$f":"IF(D311=\"\",\"\",VLOOKUP($D311,Lists!$AP$2:$AR$78,3,FALSE))","v":""},null,null,null,null,null,null,""]
[null,{"$f":"IF(D312=\"\",\"\",VLOOKUP($D312,Lists!$AP$2:$AR$78,2,FALSE))","v":""},{"$f":"IF(D312=\"\",\"\",VLOOKUP($D312,Lists!$AP$2:$AR$78,3,FALSE))","v":""},null,null,null,null,null,null,""]
[null,{"$f":"IF(D313=\"\",\"\",VLOOKUP($D313,Lists!$AP$2:$AR$78,2,FALSE))","v":""},{"$f":"IF(D313=\"\",\"\",VLOOKUP($D313,Lists!$AP$2:$AR$78,3,FALSE))","v":""},null,null,null,null,null,null,""]
[null,{"$f":"IF(D314=\"\",\"\",VLOOKUP($D314,Lists!$AP$2:$AR$78,2,FALSE))","v":""},{"$f":"IF(D314=\"\",\"\",VLOOKUP($D314,Lists!$AP$2:$AR$78,3,FALSE))","v":""},null,null,null,null,null,null,""]
[null,{"$f":"IF(D315=\"\",\"\",VLOOKUP($D315,Lists!$AP$2:$AR$78,2,FALSE))","v":""},{"$f":"IF(D315=\"\",\"\",VLOOKUP($D315,Lists!$AP$2:$AR$78,3,FALSE))","v":""},null,null,null,null,null,null,""]
[null,{"$f":"IF(D316=\"\",\"\",VLOOKUP($D316,Lists!$AP$2:$AR$78,2,FALSE))","v":""},{"$f":"IF(D316=\"\",\"\",VLOOKUP($D316,Lists!$AP$2:$AR$78,3,FALSE))","v":""},null,null,null,null,null,null,""]
[null,{"$f":"IF(D317=\"\",\"\",VLOOKUP($D317,Lists!$AP$2:$AR$78,2,FALSE))","v":""},{"$f":"IF(D317=\"\",\"\",VLOOKUP($D317,Lists!$AP$2:$AR$78,3,FALSE))","v":""},null,null,null,null,null,null,""]
[null,{"$f":"IF(D318=\"\",\"\",VLOOKUP($D318,Lists!$AP$2:$AR$78,2,FALSE))","v":""},{"$f":"IF(D318=\"\",\"\",VLOOKUP($D318,Lists!$AP$2:$AR$78,3,FALSE))","v":""},null,null,null,null,null,null,""]
[null,{"$f":"IF(D319=\"\",\"\",VLOOKUP($D319,Lists!$AP$2:$AR$78,2,FALSE))","v":""},{"$f":"IF(D319=\"\",\"\",VLOOKUP($D319,Lists!$AP$2:$AR$78,3,FALSE))","v":""},null,null,null,null,null,null,""]
[null,{"$f":"IF(D320=\"\",\"\",VLOOKUP($D320,Lists!$AP$2:$AR$78,2,FALSE))","v":""},{"$f":"IF(D320=\"\",\"\",VLOOKUP($D320,Lists!$AP$2:$AR$78,3,FALSE))","v":""},null,null,null,null,null,null,""]
[null,{"$f":"IF(D321=\"\",\"\",VLOOKUP($D321,Lists!$AP$2:$AR$78,2,FALSE))","v":""},{"$f":"IF(D321=\"\",\"\",VLOOKUP($D321,Lists!$AP$2:$AR$78,3,FALSE))","v":""},null,null,null,null,null,null,""]
[null,{"$f":"IF(D322=\"\",\"\",VLOOKUP($D322,Lists!$AP$2:$AR$78,2,FALSE))","v":""},{"$f":"IF(D322=\"\",\"\",VLOOKUP($D322,Lists!$AP$2:$AR$78,3,FALSE))","v":""},null,null,null,null,null,null,""]
[null,{"$f":"IF(D323=\"\",\"\",VLOOKUP($D323,Lists!$AP$2:$AR$78,2,FALSE))","v":""},{"$f":"IF(D323=\"\",\"\",VLOOKUP($D323,Lists!$AP$2:$AR$78,3,FALSE))","v":""},null,null,null,null,null,null,""]
[null,{"$f":"IF(D324=\"\",\"\",VLOOKUP($D324,Lists!$AP$2:$AR$78,2,FALSE))","v":""},{"$f":"IF(D324=\"\",\"\",VLOOKUP($D324,Lists!$AP$2:$AR$78,3,FALSE))","v":""},null,null,null,null,null,null,""]
[null,{"$f":"IF(D325=\"\",\"\",VLOOKUP($D325,Lists!$AP$2:$AR$78,2,FALSE))","v":""},{"$f":"IF(D325=\"\",\"\",VLOOKUP($D325,Lists!$AP$2:$AR$78,3,FALSE))","v":""},null,null,null,null,null,null,""]
[null,{"$f":"IF(D326=\"\",\"\",VLOOKUP($D326,Lists!$AP$2:$AR$78,2,FALSE))","v":""},{"$f":"IF(D326=\"\",\"\",VLOOKUP($D326,Lists!$AP$2:$AR$78,3,FALSE))","v":""},null,null,null,null,null,null,""]
[null,{"$f":"IF(D327=\"\",\"\",VLOOKUP($D327,Lists!$AP$2:$AR$78,2,FALSE))","v":""},{"$f":"IF(D327=\"\",\"\",VLOOKUP($D327,Lists!$AP$2:$AR$78,3,FALSE))","v":""},null,null,null,null,null,null,""]
[null,{"$f":"IF(D328=\"\",\"\",VLOOKUP($D328,Lists!$AP$2:$AR$78,2,FALSE))","v":""},{"$f":"IF(D328=\"\",\"\",VLOOKUP($D328,Lists!$AP$2:$AR$78,3,FALSE))","v":""},null,null,null,null,null,null,""]
[null,{"$f":"IF(D329=\"\",\"\",VLOOKUP($D329,Lists!$AP$2:$AR$78,2,FALSE))","v":""},{"$f":"IF(D329=\"\",\"\",VLOOKUP($D329,Lists!$AP$2:$AR$78,3,FALSE))","v":""},null,null,null,null,null,null,""]
[null,{"$f":"IF(D330=\"\",\"\",VLOOKUP($D330,Lists!$AP$2:$AR$78,2,FALSE))","v":""},{"$f":"IF(D330=\"\",\"\",VLOOKUP($D330,Lists!$AP$2:$AR$78,3,FALSE))","v":""},null,null,null,null,null,null,""]
[null,{"$f":"IF(D331=\"\",\"\",VLOOKUP($D331,Lists!$AP$2:$AR$78,2,FALSE))","v":""},{"$f":"IF(D331=\"\",\"\",VLOOKUP($D331,Lists!$AP$2:$AR$78,3,FALSE))","v":""},null,null,null,null,null,null,""]
[null,{"$f":"IF(D332=\"\",\"\",VLOOKUP($D332,Lists!$AP$2:$AR$78,2,FALSE))","v":""},{"$f":"IF(D332=\"\",\"\",VLOOKUP($D332,Lists!$AP$2:$AR$78,3,FALSE))","v":""},null,null,null,null,null,null,""]
[null,{"$f":"IF(D333=\"\",\"\",VLOOKUP($D333,Lists!$AP$2:$AR$78,2,FALSE))","v":""},{"$f":"IF(D333=\"\",\"\",VLOOKUP($D333,Lists!$AP$2:$AR$78,3,FALSE))","v":""},null,null,null,null,null,null,""]
[null,{"$f":"IF(D334=\"\",\"\",VLOOKUP($D334,Lists!$AP$2:$AR$78,2,FALSE))","v":""},{"$f":"IF(D334=\"\",\"\",VLOOKUP($D334,Lists!$AP$2:$AR$78,3,FALSE))","v":""},null,null,null,null,null,null,""]
[null,{"$f":"IF(D335=\"\",\"\",VLOOKUP($D335,Lists!$AP$2:$AR$78,2,FALSE))","v":""},{"$f":"IF(D335=\"\",\"\",VLOOKUP($D335,Lists!$AP$2:$AR$78,3,FALSE))","v":""},null,null,null,null,null,null,""]
[null,{"$f":"IF(D336=\"\",\"\",VLOOKUP($D336,Lists!$AP$2:$AR$78,2,FALSE))","v":""},{"$f":"IF(D336=\"\",\"\",VLOOKUP($D336,Lists!$AP$2:$AR$78,3,FALSE))","v":""},null,null,null,null,null,null,""]
[null,{"$f":"IF(D337=\"\",\"\",VLOOKUP($D337,Lists!$AP$2:$AR$78,2,FALSE))","v":""},{"$f":"IF(D337=\"\",\"\",VLOOKUP($D337,Lists!$AP$2:$AR$78,3,FALSE))","v":""},null,null,null,null,null,null,""]
[null,{"$f":"IF(D338=\"\",\"\",VLOOKUP($D338,Lists!$AP$2:$AR$78,2,FALSE))","v":""},{"$f":"IF(D338=\"\",\"\",VLOOKUP($D338,Lists!$AP$2:$AR$78,3,FALSE))","v":""},null,null,null,null,null,null,""]
[null,{"$f":"IF(D339=\"\",\"\",VLOOKUP($D339,Lists!$AP$2:$AR$78,2,FALSE))","v":""},{"$f":"IF(D339=\"\",\"\",VLOOKUP($D339,Lists!$AP$2:$AR$78,3,FALSE))","v":""},null,null,null,null,null,null,""]
[null,{"$f":"IF(D340=\"\",\"\",VLOOKUP($D340,Lists!$AP$2:$AR$78,2,FALSE))","v":""},{"$f":"IF(D340=\"\",\"\",VLOOKUP($D340,Lists!$AP$2:$AR$78,3,FALSE))","v":""},null,null,null,null,null,null,""]
[null,{"$f":"IF(D341=\"\",\"\",VLOOKUP($D341,Lists!$AP$2:$AR$78,2,FALSE))","v":""},{"$f":"IF(D341=\"\",\"\",VLOOKUP($D341,Lists!$AP$2:$AR$78,3,FALSE))","v":""},null,null,null,null,null,null,""]
[null,{"$f":"IF(D342=\"\",\"\",VLOOKUP($D342,Lists!$AP$2:$AR$78,2,FALSE))","v":""},{"$f":"IF(D342=\"\",\"\",VLOOKUP($D342,Lists!$AP$2:$AR$78,3,FALSE))","v":""},null,null,null,null,null,null,""]
[null,{"$f":"IF(D343=\"\",\"\",VLOOKUP($D343,Lists!$AP$2:$AR$78,2,FALSE))","v":""},{"$f":"IF(D343=\"\",\"\",VLOOKUP($D343,Lists!$AP$2:$AR$78,3,FALSE))","v":""},null,null,null,null,null,null,""]
[null,{"$f":"IF(D344=\"\",\"\",VLOOKUP($D344,Lists!$AP$2:$AR$78,2,FALSE))","v":""},{"$f":"IF(D344=\"\",\"\",VLOOKUP($D344,Lists!$AP$2:$AR$78,3,FALSE))","v":""},null,null,null,null,null,null,""]
[null,{"$f":"IF(D345=\"\",\"\",VLOOKUP($D345,Lists!$AP$2:$AR$78,2,FALSE))","v":""},{"$f":"IF(D345=\"\",\"\",VLOOKUP($D345,Lists!$AP$2:$AR$78,3,FALSE))","v":""},null,null,null,null,null,null,{"$f":"IF(I345=\"\",\"\",(VALUE(TEXT(H345,\"m/dd/yy \")&TEXT(I345,\"hh:mm:ss\"))-(VALUE(TEXT(F345,\"m/dd/yy \")&TEXT(G345,\"hh:mm:ss\"))))*24)","v":""}]
[null,{"$f":"IF(D346=\"\",\"\",VLOOKUP($D346,Lists!$AP$2:$AR$78,2,FALSE))","v":""},{"$f":"IF(D346=\"\",\"\",VLOOKUP($D346,Lists!$AP$2:$AR$78,3,FALSE))","v":""},null,null,null,null,null,null,""]
[null,{"$f":"IF(D347=\"\",\"\",VLOOKUP($D347,Lists!$AP$2:$AR$78,2,FALSE))","v":""},{"$f":"IF(D347=\"\",\"\",VLOOKUP($D347,Lists!$AP$2:$AR$78,3,FALSE))","v":""},null,null,null,null,null,null,""]
[null,{"$f":"IF(D348=\"\",\"\",VLOOKUP($D348,Lists!$AP$2:$AR$78,2,FALSE))","v":""},{"$f":"IF(D348=\"\",\"\",VLOOKUP($D348,Lists!$AP$2:$AR$78,3,FALSE))","v":""},null,null,null,null,null,null,""]
[null,{"$f":"IF(D349=\"\",\"\",VLOOKUP($D349,Lists!$AP$2:$AR$78,2,FALSE))","v":""},{"$f":"IF(D349=\"\",\"\",VLOOKUP($D349,Lists!$AP$2:$AR$78,3,FALSE))","v":""},null,null,null,null,null,null,""]
[null,{"$f":"IF(D350=\"\",\"\",VLOOKUP($D350,Lists!$AP$2:$AR$78,2,FALSE))","v":""},{"$f":"IF(D350=\"\",\"\",VLOOKUP($D350,Lists!$AP$2:$AR$78,3,FALSE))","v":""},null,null,null,null,null,null,""]
[null,{"$f":"IF(D351=\"\",\"\",VLOOKUP($D351,Lists!$AP$2:$AR$78,2,FALSE))","v":""},{"$f":"IF(D351=\"\",\"\",VLOOKUP($D351,Lists!$AP$2:$AR$78,3,FALSE))","v":""},null,null,null,null,null,null,""]
[null,{"$f":"IF(D352=\"\",\"\",VLOOKUP($D352,Lists!$AP$2:$AR$78,2,FALSE))","v":""},{"$f":"IF(D352=\"\",\"\",VLOOKUP($D352,Lists!$AP$2:$AR$78,3,FALSE))","v":""},null,null,null,null,null,null,""]
[null,{"$f":"IF(D353=\"\",\"\",VLOOKUP($D353,Lists!$AP$2:$AR$78,2,FALSE))","v":""},{"$f":"IF(D353=\"\",\"\",VLOOKUP($D353,Lists!$AP$2:$AR$78,3,FALSE))","v":""},null,null,null,null,null,null,""]
[null,{"$f":"IF(D354=\"\",\"\",VLOOKUP($D354,Lists!$AP$2:$AR$78,2,FALSE))","v":""},{"$f":"IF(D354=\"\",\"\",VLOOKUP($D354,Lists!$AP$2:$AR$78,3,FALSE))","v":""},null,null,null,null,null,null,""]
[null,{"$f":"IF(D355=\"\",\"\",VLOOKUP($D355,Lists!$AP$2:$AR$78,2,FALSE))","v":""},{"$f":"IF(D355=\"\",\"\",VLOOKUP($D355,Lists!$AP$2:$AR$78,3,FALSE))","v":""},null,null,null,null,null,null,""]
[null,{"$f":"IF(D356=\"\",\"\",VLOOKUP($D356,Lists!$AP$2:$AR$78,2,FALSE))","v":""},{"$f":"IF(D356=\"\",\"\",VLOOKUP($D356,Lists!$AP$2:$AR$78,3,FALSE))","v":""},null,null,null,null,null,null,""]
[null,{"$f":"IF(D357=\"\",\"\",VLOOKUP($D357,Lists!$AP$2:$AR$78,2,FALSE))","v":""},{"$f":"IF(D357=\"\",\"\",VLOOKUP($D357,Lists!$AP$2:$AR$78,3,FALSE))","v":""},null,null,null,null,null,null,""]
[null,{"$f":"IF(D358=\"\",\"\",VLOOKUP($D358,Lists!$AP$2:$AR$78,2,FALSE))","v":""},{"$f":"IF(D358=\"\",\"\",VLOOKUP($D358,Lists!$AP$2:$AR$78,3,FALSE))","v":""},null,null,null,null,null,null,""]
[null,{"$f":"IF(D359=\"\",\"\",VLOOKUP($D359,Lists!$AP$2:$AR$78,2,FALSE))","v":""},{"$f":"IF(D359=\"\",\"\",VLOOKUP($D359,Lists!$AP$2:$AR$78,3,FALSE))","v":""},null,null,null,null,null,null,""]
[null,{"$f":"IF(D360=\"\",\"\",VLOOKUP($D360,Lists!$AP$2:$AR$78,2,FALSE))","v":""},{"$f":"IF(D360=\"\",\"\",VLOOKUP($D360,Lists!$AP$2:$AR$78,3,FALSE))","v":""},null,null,null,null,null,null,""]
[null,{"$f":"IF(D361=\"\",\"\",VLOOKUP($D361,Lists!$AP$2:$AR$78,2,FALSE))","v":""},{"$f":"IF(D361=\"\",\"\",VLOOKUP($D361,Lists!$AP$2:$AR$78,3,FALSE))","v":""},null,null,null,null,null,null,""]
[null,{"$f":"IF(D362=\"\",\"\",VLOOKUP($D362,Lists!$AP$2:$AR$78,2,FALSE))","v":""},{"$f":"IF(D362=\"\",\"\",VLOOKUP($D362,Lists!$AP$2:$AR$78,3,FALSE))","v":""},null,null,null,null,null,null,""]
[null,{"$f":"IF(D363=\"\",\"\",VLOOKUP($D363,Lists!$AP$2:$AR$78,2,FALSE))","v":""},{"$f":"IF(D363=\"\",\"\",VLOOKUP($D363,Lists!$AP$2:$AR$78,3,FALSE))","v":""},null,null,null,null,null,null,""]
[null,{"$f":"IF(D364=\"\",\"\",VLOOKUP($D364,Lists!$AP$2:$AR$78,2,FALSE))","v":""},{"$f":"IF(D364=\"\",\"\",VLOOKUP($D364,Lists!$AP$2:$AR$78,3,FALSE))","v":""},null,null,null,null,null,null,""]
[null,{"$f":"IF(D365=\"\",\"\",VLOOKUP($D365,Lists!$AP$2:$AR$78,2,FALSE))","v":""},{"$f":"IF(D365=\"\",\"\",VLOOKUP($D365,Lists!$AP$2:$AR$78,3,FALSE))","v":""},null,null,null,null,null,null,""]
[null,{"$f":"IF(D366=\"\",\"\",VLOOKUP($D366,Lists!$AP$2:$AR$78,2,FALSE))","v":""},{"$f":"IF(D366=\"\",\"\",VLOOKUP($D366,Lists!$AP$2:$AR$78,3,FALSE))","v":""},null,null,null,null,null,null,""]
[null,{"$f":"IF(D367=\"\",\"\",VLOOKUP($D367,Lists!$AP$2:$AR$78,2,FALSE))","v":""},{"$f":"IF(D367=\"\",\"\",VLOOKUP($D367,Lists!$AP$2:$AR$78,3,FALSE))","v":""},null,null,null,null,null,null,""]
[null,{"$f":"IF(D368=\"\",\"\",VLOOKUP($D368,Lists!$AP$2:$AR$78,2,FALSE))","v":""},{"$f":"IF(D368=\"\",\"\",VLOOKUP($D368,Lists!$AP$2:$AR$78,3,FALSE))","v":""},null,null,null,null,null,null,""]
[null,{"$f":"IF(D369=\"\",\"\",VLOOKUP($D369,Lists!$AP$2:$AR$78,2,FALSE))","v":""},{"$f":"IF(D369=\"\",\"\",VLOOKUP($D369,Lists!$AP$2:$AR$78,3,FALSE))","v":""},null,null,null,null,null,null,""]
[null,{"$f":"IF(D370=\"\",\"\",VLOOKUP($D370,Lists!$AP$2:$AR$78,2,FALSE))","v":""},{"$f":"IF(D370=\"\",\"\",VLOOKUP($D370,Lists!$AP$2:$AR$78,3,FALSE))","v":""},null,null,null,null,null,null,""]
[null,{"$f":"IF(D371=\"\",\"\",VLOOKUP($D371,Lists!$AP$2:$AR$78,2,FALSE))","v":""},{"$f":"IF(D371=\"\",\"\",VLOOKUP($D371,Lists!$AP$2:$AR$78,3,FALSE))","v":""},null,null,null,null,null,null,""]
[null,{"$f":"IF(D372=\"\",\"\",VLOOKUP($D372,Lists!$AP$2:$AR$78,2,FALSE))","v":""},{"$f":"IF(D372=\"\",\"\",VLOOKUP($D372,Lists!$AP$2:$AR$78,3,FALSE))","v":""},null,null,null,null,null,null,""]
[null,{"$f":"IF(D373=\"\",\"\",VLOOKUP($D373,Lists!$AP$2:$AR$78,2,FALSE))","v":""},{"$f":"IF(D373=\"\",\"\",VLOOKUP($D373,Lists!$AP$2:$AR$78,3,FALSE))","v":""},null,null,null,null,null,null,""]
[null,{"$f":"IF(D374=\"\",\"\",VLOOKUP($D374,Lists!$AP$2:$AR$78,2,FALSE))","v":""},{"$f":"IF(D374=\"\",\"\",VLOOKUP($D374,Lists!$AP$2:$AR$78,3,FALSE))","v":""},null,null,null,null,null,null,""]
[null,{"$f":"IF(D375=\"\",\"\",VLOOKUP($D375,Lists!$AP$2:$AR$78,2,FALSE))","v":""},{"$f":"IF(D375=\"\",\"\",VLOOKUP($D375,Lists!$AP$2:$AR$78,3,FALSE))","v":""},null,null,null,null,null,null,""]
[null,{"$f":"IF(D376=\"\",\"\",VLOOKUP($D376,Lists!$AP$2:$AR$78,2,FALSE))","v":""},{"$f":"IF(D376=\"\",\"\",VLOOKUP($D376,Lists!$AP$2:$AR$78,3,FALSE))","v":""},null,null,null,null,null,null,""]
[null,{"$f":"IF(D377=\"\",\"\",VLOOKUP($D377,Lists!$AP$2:$AR$78,2,FALSE))","v":""},{"$f":"IF(D377=\"\",\"\",VLOOKUP($D377,Lists!$AP$2:$AR$78,3,FALSE))","v":""},null,null,null,null,null,null,""]
[null,{"$f":"IF(D378=\"\",\"\",VLOOKUP($D378,Lists!$AP$2:$AR$78,2,FALSE))","v":""},{"$f":"IF(D378=\"\",\"\",VLOOKUP($D378,Lists!$AP$2:$AR$78,3,FALSE))","v":""},null,null,null,null,null,null,""]
[null,{"$f":"IF(D379=\"\",\"\",VLOOKUP($D379,Lists!$AP$2:$AR$78,2,FALSE))","v":""},{"$f":"IF(D379=\"\",\"\",VLOOKUP($D379,Lists!$AP$2:$AR$78,3,FALSE))","v":""},null,null,null,null,null,null,""]
[null,{"$f":"IF(D380=\"\",\"\",VLOOKUP($D380,Lists!$AP$2:$AR$78,2,FALSE))","v":""},{"$f":"IF(D380=\"\",\"\",VLOOKUP($D380,Lists!$AP$2:$AR$78,3,FALSE))","v":""},null,null,null,null,null,null,""]
[null,{"$f":"IF(D381=\"\",\"\",VLOOKUP($D381,Lists!$AP$2:$AR$78,2,FALSE))","v":""},{"$f":"IF(D381=\"\",\"\",VLOOKUP($D381,Lists!$AP$2:$AR$78,3,FALSE))","v":""},null,null,null,null,null,null,""]
[null,{"$f":"IF(D382=\"\",\"\",VLOOKUP($D382,Lists!$AP$2:$AR$78,2,FALSE))","v":""},{"$f":"IF(D382=\"\",\"\",VLOOKUP($D382,Lists!$AP$2:$AR$78,3,FALSE))","v":""},null,null,null,null,null,null,""]
[null,{"$f":"IF(D383=\"\",\"\",VLOOKUP($D383,Lists!$AP$2:$AR$78,2,FALSE))","v":""},{"$f":"IF(D383=\"\",\"\",VLOOKUP($D383,Lists!$AP$2:$AR$78,3,FALSE))","v":""},null,null,null,null,null,null,""]
[null,{"$f":"IF(D384=\"\",\"\",VLOOKUP($D384,Lists!$AP$2:$AR$78,2,FALSE))","v":""},{"$f":"IF(D384=\"\",\"\",VLOOKUP($D384,Lists!$AP$2:$AR$78,3,FALSE))","v":""},null,null,null,null,null,null,""]
[null,{"$f":"IF(D385=\"\",\"\",VLOOKUP($D385,Lists!$AP$2:$AR$78,2,FALSE))","v":""},{"$f":"IF(D385=\"\",\"\",VLOOKUP($D385,Lists!$AP$2:$AR$78,3,FALSE))","v":""},null,null,null,null,null,null,""]
[null,{"$f":"IF(D386=\"\",\"\",VLOOKUP($D386,Lists!$AP$2:$AR$78,2,FALSE))","v":""},{"$f":"IF(D386=\"\",\"\",VLOOKUP($D386,Lists!$AP$2:$AR$78,3,FALSE))","v":""},null,null,null,null,null,null,""]
[null,{"$f":"IF(D387=\"\",\"\",VLOOKUP($D387,Lists!$AP$2:$AR$78,2,FALSE))","v":""},{"$f":"IF(D387=\"\",\"\",VLOOKUP($D387,Lists!$AP$2:$AR$78,3,FALSE))","v":""},null,null,null,null,null,null,""]
[null,{"$f":"IF(D388=\"\",\"\",VLOOKUP($D388,Lists!$AP$2:$AR$78,2,FALSE))","v":""},{"$f":"IF(D388=\"\",\"\",VLOOKUP($D388,Lists!$AP$2:$AR$78,3,FALSE))","v":""},null,null,null,null,null,null,""]
[null,{"$f":"IF(D389=\"\",\"\",VLOOKUP($D389,Lists!$AP$2:$AR$78,2,FALSE))","v":""},{"$f":"IF(D389=\"\",\"\",VLOOKUP($D389,Lists!$AP$2:$AR$78,3,FALSE))","v":""},null,null,null,null,null,null,""]
[null,{"$f":"IF(D390=\"\",\"\",VLOOKUP($D390,Lists!$AP$2:$AR$78,2,FALSE))","v":""},{"$f":"IF(D390=\"\",\"\",VLOOKUP($D390,Lists!$AP$2:$AR$78,3,FALSE))","v":""},null,null,null,null,null,null,""]
[null,{"$f":"IF(D391=\"\",\"\",VLOOKUP($D391,Lists!$AP$2:$AR$78,2,FALSE))","v":""},{"$f":"IF(D391=\"\",\"\",VLOOKUP($D391,Lists!$AP$2:$AR$78,3,FALSE))","v":""},null,null,null,null,null,null,""]
[null,{"$f":"IF(D392=\"\",\"\",VLOOKUP($D392,Lists!$AP$2:$AR$78,2,FALSE))","v":""},{"$f":"IF(D392=\"\",\"\",VLOOKUP($D392,Lists!$AP$2:$AR$78,3,FALSE))","v":""},null,null,null,null,null,null,""]
[null,{"$f":"IF(D393=\"\",\"\",VLOOKUP($D393,Lists!$AP$2:$AR$78,2,FALSE))","v":""},{"$f":"IF(D393=\"\",\"\",VLOOKUP($D393,Lists!$AP$2:$AR$78,3,FALSE))","v":""},null,null,null,null,null,null,""]
[null,{"$f":"IF(D394=\"\",\"\",VLOOKUP($D394,Lists!$AP$2:$AR$78,2,FALSE))","v":""},{"$f":"IF(D394=\"\",\"\",VLOOKUP($D394,Lists!$AP$2:$AR$78,3,FALSE))","v":""},null,null,null,null,null,null,""]
[null,{"$f":"IF(D395=\"\",\"\",VLOOKUP($D395,Lists!$AP$2:$AR$78,2,FALSE))","v":""},{"$f":"IF(D395=\"\",\"\",VLOOKUP($D395,Lists!$AP$2:$AR$78,3,FALSE))","v":""},null,null,null,null,null,null,""]
[null,{"$f":"IF(D396=\"\",\"\",VLOOKUP($D396,Lists!$AP$2:$AR$78,2,FALSE))","v":""},{"$f":"IF(D396=\"\",\"\",VLOOKUP($D396,Lists!$AP$2:$AR$78,3,FALSE))","v":""},null,null,null,null,null,null,""]
[null,{"$f":"IF(D397=\"\",\"\",VLOOKUP($D397,Lists!$AP$2:$AR$78,2,FALSE))","v":""},{"$f":"IF(D397=\"\",\"\",VLOOKUP($D397,Lists!$AP$2:$AR$78,3,FALSE))","v":""},null,null,null,null,null,null,""]
[null,{"$f":"IF(D398=\"\",\"\",VLOOKUP($D398,Lists!$AP$2:$AR$78,2,FALSE))","v":""},{"$f":"IF(D398=\"\",\"\",VLOOKUP($D398,Lists!$AP$2:$AR$78,3,FALSE))","v":""},null,null,null,null,null,null,""]
[null,{"$f":"IF(D399=\"\",\"\",VLOOKUP($D399,Lists!$AP$2:$AR$78,2,FALSE))","v":""},{"$f":"IF(D399=\"\",\"\",VLOOKUP($D399,Lists!$AP$2:$AR$78,3,FALSE))","v":""},null,null,null,null,null,null,""]
[null,{"$f":"IF(D400=\"\",\"\",VLOOKUP($D400,Lists!$AP$2:$AR$78,2,FALSE))","v":""},{"$f":"IF(D400=\"\",\"\",VLOOKUP($D400,Lists!$AP$2:$AR$78,3,FALSE))","v":""},null,null,null,null,null,null,""]
[null,{"$f":"IF(D401=\"\",\"\",VLOOKUP($D401,Lists!$AP$2:$AR$78,2,FALSE))","v":""},{"$f":"IF(D401=\"\",\"\",VLOOKUP($D401,Lists!$AP$2:$AR$78,3,FALSE))","v":""},null,null,null,null,null,null,""]
[null,{"$f":"IF(D402=\"\",\"\",VLOOKUP($D402,Lists!$AP$2:$AR$78,2,FALSE))","v":""},{"$f":"IF(D402=\"\",\"\",VLOOKUP($D402,Lists!$AP$2:$AR$78,3,FALSE))","v":""},null,null,null,null,null,null,""]
[null,{"$f":"IF(D403=\"\",\"\",VLOOKUP($D403,Lists!$AP$2:$AR$78,2,FALSE))","v":""},{"$f":"IF(D403=\"\",\"\",VLOOKUP($D403,Lists!$AP$2:$AR$78,3,FALSE))","v":""},null,null,null,null,null,null,""]
[null,{"$f":"IF(D404=\"\",\"\",VLOOKUP($D404,Lists!$AP$2:$AR$78,2,FALSE))","v":""},{"$f":"IF(D404=\"\",\"\",VLOOKUP($D404,Lists!$AP$2:$AR$78,3,FALSE))","v":""},null,null,null,null,null,null,""]
[null,{"$f":"IF(D405=\"\",\"\",VLOOKUP($D405,Lists!$AP$2:$AR$78,2,FALSE))","v":""},{"$f":"IF(D405=\"\",\"\",VLOOKUP($D405,Lists!$AP$2:$AR$78,3,FALSE))","v":""},null,null,null,null,null,null,""]
[null,{"$f":"IF(D406=\"\",\"\",VLOOKUP($D406,Lists!$AP$2:$AR$78,2,FALSE))","v":""},{"$f":"IF(D406=\"\",\"\",VLOOKUP($D406,Lists!$AP$2:$AR$78,3,FALSE))","v":""},null,null,null,null,null,null,""]
[null,{"$f":"IF(D407=\"\",\"\",VLOOKUP($D407,Lists!$AP$2:$AR$78,2,FALSE))","v":""},{"$f":"IF(D407=\"\",\"\",VLOOKUP($D407,Lists!$AP$2:$AR$78,3,FALSE))","v":""},null,null,null,null,null,null,""]
[null,{"$f":"IF(D408=\"\",\"\",VLOOKUP($D408,Lists!$AP$2:$AR$78,2,FALSE))","v":""},{"$f":"IF(D408=\"\",\"\",VLOOKUP($D408,Lists!$AP$2:$AR$78,3,FALSE))","v":""},null,null,null,null,null,null,""]
[null,{"$f":"IF(D409=\"\",\"\",VLOOKUP($D409,Lists!$AP$2:$AR$78,2,FALSE))","v":""},{"$f":"IF(D409=\"\",\"\",VLOOKUP($D409,Lists!$AP$2:$AR$78,3,FALSE))","v":""},null,null,null,null,null,null,{"$f":"IF(I409=\"\",\"\",(VALUE(TEXT(H409,\"m/dd/yy \")&TEXT(I409,\"hh:mm:ss\"))-(VALUE(TEXT(F409,\"m/dd/yy \")&TEXT(G409,\"hh:mm:ss\"))))*24)","v":""}]
[null,{"$f":"IF(D410=\"\",\"\",VLOOKUP($D410,Lists!$AP$2:$AR$78,2,FALSE))","v":""},{"$f":"IF(D410=\"\",\"\",VLOOKUP($D410,Lists!$AP$2:$AR$78,3,FALSE))","v":""},null,null,null,null,null,null,""]
[null,{"$f":"IF(D411=\"\",\"\",VLOOKUP($D411,Lists!$AP$2:$AR$78,2,FALSE))","v":""},{"$f":"IF(D411=\"\",\"\",VLOOKUP($D411,Lists!$AP$2:$AR$78,3,FALSE))","v":""},null,null,null,null,null,null,""]
[null,{"$f":"IF(D412=\"\",\"\",VLOOKUP($D412,Lists!$AP$2:$AR$78,2,FALSE))","v":""},{"$f":"IF(D412=\"\",\"\",VLOOKUP($D412,Lists!$AP$2:$AR$78,3,FALSE))","v":""},null,null,null,null,null,null,""]
[null,{"$f":"IF(D413=\"\",\"\",VLOOKUP($D413,Lists!$AP$2:$AR$78,2,FALSE))","v":""},{"$f":"IF(D413=\"\",\"\",VLOOKUP($D413,Lists!$AP$2:$AR$78,3,FALSE))","v":""},null,null,null,null,null,null,""]
[null,{"$f":"IF(D414=\"\",\"\",VLOOKUP($D414,Lists!$AP$2:$AR$78,2,FALSE))","v":""},{"$f":"IF(D414=\"\",\"\",VLOOKUP($D414,Lists!$AP$2:$AR$78,3,FALSE))","v":""},null,null,null,null,null,null,""]
[null,{"$f":"IF(D415=\"\",\"\",VLOOKUP($D415,Lists!$AP$2:$AR$78,2,FALSE))","v":""},{"$f":"IF(D415=\"\",\"\",VLOOKUP($D415,Lists!$AP$2:$AR$78,3,FALSE))","v":""},null,null,null,null,null,null,""]
[null,{"$f":"IF(D416=\"\",\"\",VLOOKUP($D416,Lists!$AP$2:$AR$78,2,FALSE))","v":""},{"$f":"IF(D416=\"\",\"\",VLOOKUP($D416,Lists!$AP$2:$AR$78,3,FALSE))","v":""},null,null,null,null,null,null,""]
[null,{"$f":"IF(D417=\"\",\"\",VLOOKUP($D417,Lists!$AP$2:$AR$78,2,FALSE))","v":""},{"$f":"IF(D417=\"\",\"\",VLOOKUP($D417,Lists!$AP$2:$AR$78,3,FALSE))","v":""},null,null,null,null,null,null,""]
[null,{"$f":"IF(D418=\"\",\"\",VLOOKUP($D418,Lists!$AP$2:$AR$78,2,FALSE))","v":""},{"$f":"IF(D418=\"\",\"\",VLOOKUP($D418,Lists!$AP$2:$AR$78,3,FALSE))","v":""},null,null,null,null,null,null,""]
[null,{"$f":"IF(D419=\"\",\"\",VLOOKUP($D419,Lists!$AP$2:$AR$78,2,FALSE))","v":""},{"$f":"IF(D419=\"\",\"\",VLOOKUP($D419,Lists!$AP$2:$AR$78,3,FALSE))","v":""},null,null,null,null,null,null,""]
[null,{"$f":"IF(D420=\"\",\"\",VLOOKUP($D420,Lists!$AP$2:$AR$78,2,FALSE))","v":""},{"$f":"IF(D420=\"\",\"\",VLOOKUP($D420,Lists!$AP$2:$AR$78,3,FALSE))","v":""},null,null,null,null,null,null,""]
[null,{"$f":"IF(D421=\"\",\"\",VLOOKUP($D421,Lists!$AP$2:$AR$78,2,FALSE))","v":""},{"$f":"IF(D421=\"\",\"\",VLOOKUP($D421,Lists!$AP$2:$AR$78,3,FALSE))","v":""},null,null,null,null,null,null,""]
[null,{"$f":"IF(D422=\"\",\"\",VLOOKUP($D422,Lists!$AP$2:$AR$78,2,FALSE))","v":""},{"$f":"IF(D422=\"\",\"\",VLOOKUP($D422,Lists!$AP$2:$AR$78,3,FALSE))","v":""},null,null,null,null,null,null,""]
[null,{"$f":"IF(D423=\"\",\"\",VLOOKUP($D423,Lists!$AP$2:$AR$78,2,FALSE))","v":""},{"$f":"IF(D423=\"\",\"\",VLOOKUP($D423,Lists!$AP$2:$AR$78,3,FALSE))","v":""},null,null,null,null,null,null,""]
[null,{"$f":"IF(D424=\"\",\"\",VLOOKUP($D424,Lists!$AP$2:$AR$78,2,FALSE))","v":""},{"$f":"IF(D424=\"\",\"\",VLOOKUP($D424,Lists!$AP$2:$AR$78,3,FALSE))","v":""},null,null,null,null,null,null,""]
[null,{"$f":"IF(D425=\"\",\"\",VLOOKUP($D425,Lists!$AP$2:$AR$78,2,FALSE))","v":""},{"$f":"IF(D425=\"\",\"\",VLOOKUP($D425,Lists!$AP$2:$AR$78,3,FALSE))","v":""},null,null,null,null,null,null,""]
[null,{"$f":"IF(D426=\"\",\"\",VLOOKUP($D426,Lists!$AP$2:$AR$78,2,FALSE))","v":""},{"$f":"IF(D426=\"\",\"\",VLOOKUP($D426,Lists!$AP$2:$AR$78,3,FALSE))","v":""},null,null,null,null,null,null,""]
[null,{"$f":"IF(D427=\"\",\"\",VLOOKUP($D427,Lists!$AP$2:$AR$78,2,FALSE))","v":""},{"$f":"IF(D427=\"\",\"\",VLOOKUP($D427,Lists!$AP$2:$AR$78,3,FALSE))","v":""},null,null,null,null,null,null,""]
[null,{"$f":"IF(D428=\"\",\"\",VLOOKUP($D428,Lists!$AP$2:$AR$78,2,FALSE))","v":""},{"$f":"IF(D428=\"\",\"\",VLOOKUP($D428,Lists!$AP$2:$AR$78,3,FALSE))","v":""},null,null,null,null,null,null,""]
[null,{"$f":"IF(D429=\"\",\"\",VLOOKUP($D429,Lists!$AP$2:$AR$78,2,FALSE))","v":""},{"$f":"IF(D429=\"\",\"\",VLOOKUP($D429,Lists!$AP$2:$AR$78,3,FALSE))","v":""},null,null,null,null,null,null,""]
[null,{"$f":"IF(D430=\"\",\"\",VLOOKUP($D430,Lists!$AP$2:$AR$78,2,FALSE))","v":""},{"$f":"IF(D430=\"\",\"\",VLOOKUP($D430,Lists!$AP$2:$AR$78,3,FALSE))","v":""},null,null,null,null,null,null,""]
[null,{"$f":"IF(D431=\"\",\"\",VLOOKUP($D431,Lists!$AP$2:$AR$78,2,FALSE))","v":""},{"$f":"IF(D431=\"\",\"\",VLOOKUP($D431,Lists!$AP$2:$AR$78,3,FALSE))","v":""},null,null,null,null,null,null,""]
[null,{"$f":"IF(D432=\"\",\"\",VLOOKUP($D432,Lists!$AP$2:$AR$78,2,FALSE))","v":""},{"$f":"IF(D432=\"\",\"\",VLOOKUP($D432,Lists!$AP$2:$AR$78,3,FALSE))","v":""},null,null,null,null,null,null,""]
[null,{"$f":"IF(D433=\"\",\"\",VLOOKUP($D433,Lists!$AP$2:$AR$78,2,FALSE))","v":""},{"$f":"IF(D433=\"\",\"\",VLOOKUP($D433,Lists!$AP$2:$AR$78,3,FALSE))","v":""},null,null,null,null,null,null,""]
[null,{"$f":"IF(D434=\"\",\"\",VLOOKUP($D434,Lists!$AP$2:$AR$78,2,FALSE))","v":""},{"$f":"IF(D434=\"\",\"\",VLOOKUP($D434,Lists!$AP$2:$AR$78,3,FALSE))","v":""},null,null,null,null,null,null,""]
[null,{"$f":"IF(D435=\"\",\"\",VLOOKUP($D435,Lists!$AP$2:$AR$78,2,FALSE))","v":""},{"$f":"IF(D435=\"\",\"\",VLOOKUP($D435,Lists!$AP$2:$AR$78,3,FALSE))","v":""},null,null,null,null,null,null,""]
[null,{"$f":"IF(D436=\"\",\"\",VLOOKUP($D436,Lists!$AP$2:$AR$78,2,FALSE))","v":""},{"$f":"IF(D436=\"\",\"\",VLOOKUP($D436,Lists!$AP$2:$AR$78,3,FALSE))","v":""},null,null,null,null,null,null,""]
[null,{"$f":"IF(D437=\"\",\"\",VLOOKUP($D437,Lists!$AP$2:$AR$78,2,FALSE))","v":""},{"$f":"IF(D437=\"\",\"\",VLOOKUP($D437,Lists!$AP$2:$AR$78,3,FALSE))","v":""},null,null,null,null,null,null,""]
[null,{"$f":"IF(D438=\"\",\"\",VLOOKUP($D438,Lists!$AP$2:$AR$78,2,FALSE))","v":""},{"$f":"IF(D438=\"\",\"\",VLOOKUP($D438,Lists!$AP$2:$AR$78,3,FALSE))","v":""},null,null,null,null,null,null,""]
[null,{"$f":"IF(D439=\"\",\"\",VLOOKUP($D439,Lists!$AP$2:$AR$78,2,FALSE))","v":""},{"$f":"IF(D439=\"\",\"\",VLOOKUP($D439,Lists!$AP$2:$AR$78,3,FALSE))","v":""},null,null,null,null,null,null,""]
[null,{"$f":"IF(D440=\"\",\"\",VLOOKUP($D440,Lists!$AP$2:$AR$78,2,FALSE))","v":""},{"$f":"IF(D440=\"\",\"\",VLOOKUP($D440,Lists!$AP$2:$AR$78,3,FALSE))","v":""},null,null,null,null,null,null,""]
[null,{"$f":"IF(D441=\"\",\"\",VLOOKUP($D441,Lists!$AP$2:$AR$78,2,FALSE))","v":""},{"$f":"IF(D441=\"\",\"\",VLOOKUP($D441,Lists!$AP$2:$AR$78,3,FALSE))","v":""},null,null,null,null,null,null,""]
[null,{"$f":"IF(D442=\"\",\"\",VLOOKUP($D442,Lists!$AP$2:$AR$78,2,FALSE))","v":""},{"$f":"IF(D442=\"\",\"\",VLOOKUP($D442,Lists!$AP$2:$AR$78,3,FALSE))","v":""},null,null,null,null,null,null,""]
[null,{"$f":"IF(D443=\"\",\"\",VLOOKUP($D443,Lists!$AP$2:$AR$78,2,FALSE))","v":""},{"$f":"IF(D443=\"\",\"\",VLOOKUP($D443,Lists!$AP$2:$AR$78,3,FALSE))","v":""},null,null,null,null,null,null,""]
[null,{"$f":"IF(D444=\"\",\"\",VLOOKUP($D444,Lists!$AP$2:$AR$78,2,FALSE))","v":""},{"$f":"IF(D444=\"\",\"\",VLOOKUP($D444,Lists!$AP$2:$AR$78,3,FALSE))","v":""},null,null,null,null,null,null,""]
[null,{"$f":"IF(D445=\"\",\"\",VLOOKUP($D445,Lists!$AP$2:$AR$78,2,FALSE))","v":""},{"$f":"IF(D445=\"\",\"\",VLOOKUP($D445,Lists!$AP$2:$AR$78,3,FALSE))","v":""},null,null,null,null,null,null,""]
[null,{"$f":"IF(D446=\"\",\"\",VLOOKUP($D446,Lists!$AP$2:$AR$78,2,FALSE))","v":""},{"$f":"IF(D446=\"\",\"\",VLOOKUP($D446,Lists!$AP$2:$AR$78,3,FALSE))","v":""},null,null,null,null,null,null,""]
[null,{"$f":"IF(D447=\"\",\"\",VLOOKUP($D447,Lists!$AP$2:$AR$78,2,FALSE))","v":""},{"$f":"IF(D447=\"\",\"\",VLOOKUP($D447,Lists!$AP$2:$AR$78,3,FALSE))","v":""},null,null,null,null,null,null,""]
[null,{"$f":"IF(D448=\"\",\"\",VLOOKUP($D448,Lists!$AP$2:$AR$78,2,FALSE))","v":""},{"$f":"IF(D448=\"\",\"\",VLOOKUP($D448,Lists!$AP$2:$AR$78,3,FALSE))","v":""},null,null,null,null,null,null,""]
[null,{"$f":"IF(D449=\"\",\"\",VLOOKUP($D449,Lists!$AP$2:$AR$78,2,FALSE))","v":""},{"$f":"IF(D449=\"\",\"\",VLOOKUP($D449,Lists!$AP$2:$AR$78,3,FALSE))","v":""},null,null,null,null,null,null,""]
[null,{"$f":"IF(D450=\"\",\"\",VLOOKUP($D450,Lists!$AP$2:$AR$78,2,FALSE))","v":""},{"$f":"IF(D450=\"\",\"\",VLOOKUP($D450,Lists!$AP$2:$AR$78,3,FALSE))","v":""},null,null,null,null,null,null,""]
[null,{"$f":"IF(D451=\"\",\"\",VLOOKUP($D451,Lists!$AP$2:$AR$78,2,FALSE))","v":""},{"$f":"IF(D451=\"\",\"\",VLOOKUP($D451,Lists!$AP$2:$AR$78,3,FALSE))","v":""},null,null,null,null,null,null,""]
[null,{"$f":"IF(D452=\"\",\"\",VLOOKUP($D452,Lists!$AP$2:$AR$78,2,FALSE))","v":""},{"$f":"IF(D452=\"\",\"\",VLOOKUP($D452,Lists!$AP$2:$AR$78,3,FALSE))","v":""},null,null,null,null,null,null,""]
[null,{"$f":"IF(D453=\"\",\"\",VLOOKUP($D453,Lists!$AP$2:$AR$78,2,FALSE))","v":""},{"$f":"IF(D453=\"\",\"\",VLOOKUP($D453,Lists!$AP$2:$AR$78,3,FALSE))","v":""},null,null,null,null,null,null,""]
[null,{"$f":"IF(D454=\"\",\"\",VLOOKUP($D454,Lists!$AP$2:$AR$78,2,FALSE))","v":""},{"$f":"IF(D454=\"\",\"\",VLOOKUP($D454,Lists!$AP$2:$AR$78,3,FALSE))","v":""},null,null,null,null,null,null,""]
[null,{"$f":"IF(D455=\"\",\"\",VLOOKUP($D455,Lists!$AP$2:$AR$78,2,FALSE))","v":""},{"$f":"IF(D455=\"\",\"\",VLOOKUP($D455,Lists!$AP$2:$AR$78,3,FALSE))","v":""},null,null,null,null,null,null,""]
[null,{"$f":"IF(D456=\"\",\"\",VLOOKUP($D456,Lists!$AP$2:$AR$78,2,FALSE))","v":""},{"$f":"IF(D456=\"\",\"\",VLOOKUP($D456,Lists!$AP$2:$AR$78,3,FALSE))","v":""},null,null,null,null,null,null,""]
[null,{"$f":"IF(D457=\"\",\"\",VLOOKUP($D457,Lists!$AP$2:$AR$78,2,FALSE))","v":""},{"$f":"IF(D457=\"\",\"\",VLOOKUP($D457,Lists!$AP$2:$AR$78,3,FALSE))","v":""},null,null,null,null,null,null,""]
[null,{"$f":"IF(D458=\"\",\"\",VLOOKUP($D458,Lists!$AP$2:$AR$78,2,FALSE))","v":""},{"$f":"IF(D458=\"\",\"\",VLOOKUP($D458,Lists!$AP$2:$AR$78,3,FALSE))","v":""},null,null,null,null,null,null,""]
[null,{"$f":"IF(D459=\"\",\"\",VLOOKUP($D459,Lists!$AP$2:$AR$78,2,FALSE))","v":""},{"$f":"IF(D459=\"\",\"\",VLOOKUP($D459,Lists!$AP$2:$AR$78,3,FALSE))","v":""},null,null,null,null,null,null,""]
[null,{"$f":"IF(D460=\"\",\"\",VLOOKUP($D460,Lists!$AP$2:$AR$78,2,FALSE))","v":""},{"$f":"IF(D460=\"\",\"\",VLOOKUP($D460,Lists!$AP$2:$AR$78,3,FALSE))","v":""},null,null,null,null,null,null,""]
[null,{"$f":"IF(D461=\"\",\"\",VLOOKUP($D461,Lists!$AP$2:$AR$78,2,FALSE))","v":""},{"$f":"IF(D461=\"\",\"\",VLOOKUP($D461,Lists!$AP$2:$AR$78,3,FALSE))","v":""},null,null,null,null,null,null,""]
[null,{"$f":"IF(D462=\"\",\"\",VLOOKUP($D462,Lists!$AP$2:$AR$78,2,FALSE))","v":""},{"$f":"IF(D462=\"\",\"\",VLOOKUP($D462,Lists!$AP$2:$AR$78,3,FALSE))","v":""},null,null,null,null,null,null,""]
[null,{"$f":"IF(D463=\"\",\"\",VLOOKUP($D463,Lists!$AP$2:$AR$78,2,FALSE))","v":""},{"$f":"IF(D463=\"\",\"\",VLOOKUP($D463,Lists!$AP$2:$AR$78,3,FALSE))","v":""},null,null,null,null,null,null,""]
[null,{"$f":"IF(D464=\"\",\"\",VLOOKUP($D464,Lists!$AP$2:$AR$78,2,FALSE))","v":""},{"$f":"IF(D464=\"\",\"\",VLOOKUP($D464,Lists!$AP$2:$AR$78,3,FALSE))","v":""},null,null,null,null,null,null,""]
[null,{"$f":"IF(D465=\"\",\"\",VLOOKUP($D465,Lists!$AP$2:$AR$78,2,FALSE))","v":""},{"$f":"IF(D465=\"\",\"\",VLOOKUP($D465,Lists!$AP$2:$AR$78,3,FALSE))","v":""},null,null,null,null,null,null,""]
[null,{"$f":"IF(D466=\"\",\"\",VLOOKUP($D466,Lists!$AP$2:$AR$78,2,FALSE))","v":""},{"$f":"IF(D466=\"\",\"\",VLOOKUP($D466,Lists!$AP$2:$AR$78,3,FALSE))","v":""},null,null,null,null,null,null,""]
[null,{"$f":"IF(D467=\"\",\"\",VLOOKUP($D467,Lists!$AP$2:$AR$78,2,FALSE))","v":""},{"$f":"IF(D467=\"\",\"\",VLOOKUP($D467,Lists!$AP$2:$AR$78,3,FALSE))","v":""},null,null,null,null,null,null,""]
[null,{"$f":"IF(D468=\"\",\"\",VLOOKUP($D468,Lists!$AP$2:$AR$78,2,FALSE))","v":""},{"$f":"IF(D468=\"\",\"\",VLOOKUP($D468,Lists!$AP$2:$AR$78,3,FALSE))","v":""},null,null,null,null,null,null,""]
[null,{"$f":"IF(D469=\"\",\"\",VLOOKUP($D469,Lists!$AP$2:$AR$78,2,FALSE))","v":""},{"$f":"IF(D469=\"\",\"\",VLOOKUP($D469,Lists!$AP$2:$AR$78,3,FALSE))","v":""},null,null,null,null,null,null,""]
[null,{"$f":"IF(D470=\"\",\"\",VLOOKUP($D470,Lists!$AP$2:$AR$78,2,FALSE))","v":""},{"$f":"IF(D470=\"\",\"\",VLOOKUP($D470,Lists!$AP$2:$AR$78,3,FALSE))","v":""},null,null,null,null,null,null,""]
[null,{"$f":"IF(D471=\"\",\"\",VLOOKUP($D471,Lists!$AP$2:$AR$78,2,FALSE))","v":""},{"$f":"IF(D471=\"\",\"\",VLOOKUP($D471,Lists!$AP$2:$AR$78,3,FALSE))","v":""},null,null,null,null,null,null,""]
[null,{"$f":"IF(D472=\"\",\"\",VLOOKUP($D472,Lists!$AP$2:$AR$78,2,FALSE))","v":""},{"$f":"IF(D472=\"\",\"\",VLOOKUP($D472,Lists!$AP$2:$AR$78,3,FALSE))","v":""},null,null,null,null,null,null,""]
[null,{"$f":"IF(D473=\"\",\"\",VLOOKUP($D473,Lists!$AP$2:$AR$78,2,FALSE))","v":""},{"$f":"IF(D473=\"\",\"\",VLOOKUP($D473,Lists!$AP$2:$AR$78,3,FALSE))","v":""},null,null,null,null,null,null,{"$f":"IF(I473=\"\",\"\",(VALUE(TEXT(H473,\"m/dd/yy \")&TEXT(I473,\"hh:mm:ss\"))-(VALUE(TEXT(F473,\"m/dd/yy \")&TEXT(G473,\"hh:mm:ss\"))))*24)","v":""}]
[null,{"$f":"IF(D474=\"\",\"\",VLOOKUP($D474,Lists!$AP$2:$AR$78,2,FALSE))","v":""},{"$f":"IF(D474=\"\",\"\",VLOOKUP($D474,Lists!$AP$2:$AR$78,3,FALSE))","v":""},null,null,null,null,null,null,""]
[null,{"$f":"IF(D475=\"\",\"\",VLOOKUP($D475,Lists!$AP$2:$AR$78,2,FALSE))","v":""},{"$f":"IF(D475=\"\",\"\",VLOOKUP($D475,Lists!$AP$2:$AR$78,3,FALSE))","v":""},null,null,null,null,null,null,""]
[null,{"$f":"IF(D476=\"\",\"\",VLOOKUP($D476,Lists!$AP$2:$AR$78,2,FALSE))","v":""},{"$f":"IF(D476=\"\",\"\",VLOOKUP($D476,Lists!$AP$2:$AR$78,3,FALSE))","v":""},null,null,null,null,null,null,""]
[null,{"$f":"IF(D477=\"\",\"\",VLOOKUP($D477,Lists!$AP$2:$AR$78,2,FALSE))","v":""},{"$f":"IF(D477=\"\",\"\",VLOOKUP($D477,Lists!$AP$2:$AR$78,3,FALSE))","v":""},null,null,null,null,null,null,""]
[null,{"$f":"IF(D478=\"\",\"\",VLOOKUP($D478,Lists!$AP$2:$AR$78,2,FALSE))","v":""},{"$f":"IF(D478=\"\",\"\",VLOOKUP($D478,Lists!$AP$2:$AR$78,3,FALSE))","v":""},null,null,null,null,null,null,""]
[null,{"$f":"IF(D479=\"\",\"\",VLOOKUP($D479,Lists!$AP$2:$AR$78,2,FALSE))","v":""},{"$f":"IF(D479=\"\",\"\",VLOOKUP($D479,Lists!$AP$2:$AR$78,3,FALSE))","v":""},null,null,null,null,null,null,""]
[null,{"$f":"IF(D480=\"\",\"\",VLOOKUP($D480,Lists!$AP$2:$AR$78,2,FALSE))","v":""},{"$f":"IF(D480=\"\",\"\",VLOOKUP($D480,Lists!$AP$2:$AR$78,3,FALSE))","v":""},null,null,null,null,null,null,""]
[null,{"$f":"IF(D481=\"\",\"\",VLOOKUP($D481,Lists!$AP$2:$AR$78,2,FALSE))","v":""},{"$f":"IF(D481=\"\",\"\",VLOOKUP($D481,Lists!$AP$2:$AR$78,3,FALSE))","v":""},null,null,null,null,null,null,""]
[null,{"$f":"IF(D482=\"\",\"\",VLOOKUP($D482,Lists!$AP$2:$AR$78,2,FALSE))","v":""},{"$f":"IF(D482=\"\",\"\",VLOOKUP($D482,Lists!$AP$2:$AR$78,3,FALSE))","v":""},null,null,null,null,null,null,""]
[null,{"$f":"IF(D483=\"\",\"\",VLOOKUP($D483,Lists!$AP$2:$AR$78,2,FALSE))","v":""},{"$f":"IF(D483=\"\",\"\",VLOOKUP($D483,Lists!$AP$2:$AR$78,3,FALSE))","v":""},null,null,null,null,null,null,""]
[null,{"$f":"IF(D484=\"\",\"\",VLOOKUP($D484,Lists!$AP$2:$AR$78,2,FALSE))","v":""},{"$f":"IF(D484=\"\",\"\",VLOOKUP($D484,Lists!$AP$2:$AR$78,3,FALSE))","v":""},null,null,null,null,null,null,""]
[null,{"$f":"IF(D485=\"\",\"\",VLOOKUP($D485,Lists!$AP$2:$AR$78,2,FALSE))","v":""},{"$f":"IF(D485=\"\",\"\",VLOOKUP($D485,Lists!$AP$2:$AR$78,3,FALSE))","v":""},null,null,null,null,null,null,""]
[null,{"$f":"IF(D486=\"\",\"\",VLOOKUP($D486,Lists!$AP$2:$AR$78,2,FALSE))","v":""},{"$f":"IF(D486=\"\",\"\",VLOOKUP($D486,Lists!$AP$2:$AR$78,3,FALSE))","v":""},null,null,null,null,null,null,""]
[null,{"$f":"IF(D487=\"\",\"\",VLOOKUP($D487,Lists!$AP$2:$AR$78,2,FALSE))","v":""},{"$f":"IF(D487=\"\",\"\",VLOOKUP($D487,Lists!$AP$2:$AR$78,3,FALSE))","v":""},null,null,null,null,null,null,""]
[null,{"$f":"IF(D488=\"\",\"\",VLOOKUP($D488,Lists!$AP$2:$AR$78,2,FALSE))","v":""},{"$f":"IF(D488=\"\",\"\",VLOOKUP($D488,Lists!$AP$2:$AR$78,3,FALSE))","v":""},null,null,null,null,null,null,""]
[null,{"$f":"IF(D489=\"\",\"\",VLOOKUP($D489,Lists!$AP$2:$AR$78,2,FALSE))","v":""},{"$f":"IF(D489=\"\",\"\",VLOOKUP($D489,Lists!$AP$2:$AR$78,3,FALSE))","v":""},null,null,null,null,null,null,""]
[null,{"$f":"IF(D490=\"\",\"\",VLOOKUP($D490,Lists!$AP$2:$AR$78,2,FALSE))","v":""},{"$f":"IF(D490=\"\",\"\",VLOOKUP($D490,Lists!$AP$2:$AR$78,3,FALSE))","v":""},null,null,null,null,null,null,""]
[null,{"$f":"IF(D491=\"\",\"\",VLOOKUP($D491,Lists!$AP$2:$AR$78,2,FALSE))","v":""},{"$f":"IF(D491=\"\",\"\",VLOOKUP($D491,Lists!$AP$2:$AR$78,3,FALSE))","v":""},null,null,null,null,null,null,""]
[null,{"$f":"IF(D492=\"\",\"\",VLOOKUP($D492,Lists!$AP$2:$AR$78,2,FALSE))","v":""},{"$f":"IF(D492=\"\",\"\",VLOOKUP($D492,Lists!$AP$2:$AR$78,3,FALSE))","v":""},null,null,null,null,null,null,""]
[null,{"$f":"IF(D493=\"\",\"\",VLOOKUP($D493,Lists!$AP$2:$AR$78,2,FALSE))","v":""},{"$f":"IF(D493=\"\",\"\",VLOOKUP($D493,Lists!$AP$2:$AR$78,3,FALSE))","v":""},null,null,null,null,null,null,""]
[null,{"$f":"IF(D494=\"\",\"\",VLOOKUP($D494,Lists!$AP$2:$AR$78,2,FALSE))","v":""},{"$f":"IF(D494=\"\",\"\",VLOOKUP($D494,Lists!$AP$2:$AR$78,3,FALSE))","v":""},null,null,null,null,null,null,""]
[null,{"$f":"IF(D495=\"\",\"\",VLOOKUP($D495,Lists!$AP$2:$AR$78,2,FALSE))","v":""},{"$f":"IF(D495=\"\",\"\",VLOOKUP($D495,Lists!$AP$2:$AR$78,3,FALSE))","v":""},null,null,null,null,null,null,""]
[null,{"$f":"IF(D496=\"\",\"\",VLOOKUP($D496,Lists!$AP$2:$AR$78,2,FALSE))","v":""},{"$f":"IF(D496=\"\",\"\",VLOOKUP($D496,Lists!$AP$2:$AR$78,3,FALSE))","v":""},null,null,null,null,null,null,""]
[null,{"$f":"IF(D497=\"\",\"\",VLOOKUP($D497,Lists!$AP$2:$AR$78,2,FALSE))","v":""},{"$f":"IF(D497=\"\",\"\",VLOOKUP($D497,Lists!$AP$2:$AR$78,3,FALSE))","v":""},null,null,null,null,null,null,""]
[null,{"$f":"IF(D498=\"\",\"\",VLOOKUP($D498,Lists!$AP$2:$AR$78,2,FALSE))","v":""},{"$f":"IF(D498=\"\",\"\",VLOOKUP($D498,Lists!$AP$2:$AR$78,3,FALSE))","v":""},null,null,null,null,null,null,""]
[null,{"$f":"IF(D499=\"\",\"\",VLOOKUP($D499,Lists!$AP$2:$AR$78,2,FALSE))","v":""},{"$f":"IF(D499=\"\",\"\",VLOOKUP($D499,Lists!$AP$2:$AR$78,3,FALSE))","v":""},null,null,null,null,null,null,""]
[null,{"$f":"IF(D500=\"\",\"\",VLOOKUP($D500,Lists!$AP$2:$AR$78,2,FALSE))","v":""},{"$f":"IF(D500=\"\",\"\",VLOOKUP($D500,Lists!$AP$2:$AR$78,3,FALSE))","v":""},null,null,null,null,null,null,""]

{"sheet":"Malfunction","index":10,"n_rows":500,"n_cols":8,"rows_kept":500,"cut":false,"hidden":false,"merged":[]}
[null,"DO NOT REMOVE OR EDIT INFORMATION IN THIS SECTION\nFOR INTERNAL USE ONLY"]
[null,"Template Name",{"$f":"+Welcome!B2","v":"63.3120(f) Semiannual Compliance Report (Spreadsheet Template)"}]
[null,"CitationID",{"$f":"+Welcome!B3","v":"63.3120(f)"}]
[null,"Template Version",{"$f":"+Welcome!B4","v":"v2.06"}]
[null,"Last Updated Date",{"$f":"+Welcome!B5","v":45392}]
[null,"OMB Control Number: 2060-0518       Expiration Date: 04/30/2019"]
[null,"40 CFR Part 63, Subpart IIII National Emission Standards for Hazardous Air Pollutants: Surface Coating of Automobiles and Light-Duty Trucks"]
[null,"§63.3120(f) Semiannual Compliance Report Spreadsheet Template"]
[]
[]
[]
[null,"Company Record No.\n(Autofilled)","Affected Source or Equipment\n(§63.3120(a)(6) or §63.3120(a)(8))\n(Autofilled)","Company Record No. and Affected Source or Equipment\n(§63.3120(a)(6) or (8))\n(Select from dropdown)","Starting Date of  Malfunction of Capture System or Add-On Control \n(§63.3120(a)(6)(iii) or §63.3120(a)(8)(ii))","Starting Time of Malfunction of Capture System or Add-On Control\n(§63.3120(a)(6)(iii) or §63.3120(a)(8)(ii))","Ending Date of  Malfunction of Capture System or Add-On Control\n(§63.3120(a)(6)(iii) or §63.3120(a)(8)(ii))","Ending Time of Malfunction of Capture System or Add-On Control \n(§63.3120(a)(6)(iii) or §63.3120(a)(8)(ii))"]
[null,"RecordId","AffectedSource","AffectedSourceCompanyRecord","MalfunctionStartDate","MalfunctionStartTime","MalfunctionEndDate","MalfunctionEndTime"]
[null,"e.g.: 1","e.g.: West Coating","e.g.: 1 West Coating","e.g.: 2/1/2017","e.g.: 13:15","e.g.: 2/3/2017","e.g.: 8:02"]
[null,"e.g.:","e.g.:","e.g.:","e.g.:","e.g.:","e.g.:","e.g.:"]
[null,"e.g.:","e.g.:","e.g.:","e.g.:","e.g.:","e.g.:","e.g.:"]
[null,"e.g.:","e.g.:","e.g.:","e.g.:","e.g.:","e.g.:","e.g.:"]
[null,"e.g.:","e.g.:","e.g.:","e.g.:","e.g.:","e.g.:","e.g.:"]
[null,"e.g.:","e.g.:","e.g.:","e.g.:","e.g.:","e.g.:","e.g.:"]
[null,"e.g.:","e.g.:","e.g.:","e.g.:","e.g.:","e.g.:","e.g.:"]
[null,"e.g.:","e.g.:","e.g.:","e.g.:","e.g.:","e.g.:","e.g.:"]
[null,"e.g.:","e.g.:","e.g.:","e.g.:","e.g.:","e.g.:","e.g.:"]
[null,"e.g.:","e.g.:","e.g.:","e.g.:","e.g.:","e.g.:","e.g.:"]
[null,{"$f":"IF(D24=\"\",\"\",VLOOKUP($D24,Lists!$AP$2:$AR$78,2,FALSE))","v":""},{"$f":"IF(D24=\"\",\"\",VLOOKUP($D24,Lists!$AP$2:$AR$78,3,FALSE))","v":""}]
[null,{"$f":"IF(D25=\"\",\"\",VLOOKUP($D25,Lists!$AP$2:$AR$78,2,FALSE))","v":""},{"$f":"IF(D25=\"\",\"\",VLOOKUP($D25,Lists!$AP$2:$AR$78,3,FALSE))","v":""}]
[null,{"$f":"IF(D26=\"\",\"\",VLOOKUP($D26,Lists!$AP$2:$AR$78,2,FALSE))","v":""},{"$f":"IF(D26=\"\",\"\",VLOOKUP($D26,Lists!$AP$2:$AR$78,3,FALSE))","v":""}]
[null,{"$f":"IF(D27=\"\",\"\",VLOOKUP($D27,Lists!$AP$2:$AR$78,2,FALSE))","v":""},{"$f":"IF(D27=\"\",\"\",VLOOKUP($D27,Lists!$AP$2:$AR$78,3,FALSE))","v":""}]
[null,{"$f":"IF(D28=\"\",\"\",VLOOKUP($D28,Lists!$AP$2:$AR$78,2,FALSE))","v":""},{"$f":"IF(D28=\"\",\"\",VLOOKUP($D28,Lists!$AP$2:$AR$78,3,FALSE))","v":""}]
[null,{"$f":"IF(D29=\"\",\"\",VLOOKUP($D29,Lists!$AP$2:$AR$78,2,FALSE))","v":""},{"$f":"IF(D29=\"\",\"\",VLOOKUP($D29,Lists!$AP$2:$AR$78,3,FALSE))","v":""}]
[null,{"$f":"IF(D30=\"\",\"\",VLOOKUP($D30,Lists!$AP$2:$AR$78,2,FALSE))","v":""},{"$f":"IF(D30=\"\",\"\",VLOOKUP($D30,Lists!$AP$2:$AR$78,3,FALSE))","v":""}]
[null,{"$f":"IF(D31=\"\",\"\",VLOOKUP($D31,Lists!$AP$2:$AR$78,2,FALSE))","v":""},{"$f":"IF(D31=\"\",\"\",VLOOKUP($D31,Lists!$AP$2:$AR$78,3,FALSE))","v":""}]
[null,{"$f":"IF(D32=\"\",\"\",VLOOKUP($D32,Lists!$AP$2:$AR$78,2,FALSE))","v":""},{"$f":"IF(D32=\"\",\"\",VLOOKUP($D32,Lists!$AP$2:$AR$78,3,FALSE))","v":""}]
[null,{"$f":"IF(D33=\"\",\"\",VLOOKUP($D33,Lists!$AP$2:$AR$78,2,FALSE))","v":""},{"$f":"IF(D33=\"\",\"\",VLOOKUP($D33,Lists!$AP$2:$AR$78,3,FALSE))","v":""}]
[null,{"$f":"IF(D34=\"\",\"\",VLOOKUP($D34,Lists!$AP$2:$AR$78,2,FALSE))","v":""},{"$f":"IF(D34=\"\",\"\",VLOOKUP($D34,Lists!$AP$2:$AR$78,3,FALSE))","v":""}]
[null,{"$f":"IF(D35=\"\",\"\",VLOOKUP($D35,Lists!$AP$2:$AR$78,2,FALSE))","v":""},{"$f":"IF(D35=\"\",\"\",VLOOKUP($D35,Lists!$AP$2:$AR$78,3,FALSE))","v":""}]
[null,{"$f":"IF(D36=\"\",\"\",VLOOKUP($D36,Lists!$AP$2:$AR$78,2,FALSE))","v":""},{"$f":"IF(D36=\"\",\"\",VLOOKUP($D36,Lists!$AP$2:$AR$78,3,FALSE))","v":""}]
[null,{"$f":"IF(D37=\"\",\"\",VLOOKUP($D37,Lists!$AP$2:$AR$78,2,FALSE))","v":""},{"$f":"IF(D37=\"\",\"\",VLOOKUP($D37,Lists!$AP$2:$AR$78,3,FALSE))","v":""}]
[null,{"$f":"IF(D38=\"\",\"\",VLOOKUP($D38,Lists!$AP$2:$AR$78,2,FALSE))","v":""},{"$f":"IF(D38=\"\",\"\",VLOOKUP($D38,Lists!$AP$2:$AR$78,3,FALSE))","v":""}]
[null,{"$f":"IF(D39=\"\",\"\",VLOOKUP($D39,Lists!$AP$2:$AR$78,2,FALSE))","v":""},{"$f":"IF(D39=\"\",\"\",VLOOKUP($D39,Lists!$AP$2:$AR$78,3,FALSE))","v":""}]
[null,{"$f":"IF(D40=\"\",\"\",VLOOKUP($D40,Lists!$AP$2:$AR$78,2,FALSE))","v":""},{"$f":"IF(D40=\"\",\"\",VLOOKUP($D40,Lists!$AP$2:$AR$78,3,FALSE))","v":""}]
[null,{"$f":"IF(D41=\"\",\"\",VLOOKUP($D41,Lists!$AP$2:$AR$78,2,FALSE))","v":""},{"$f":"IF(D41=\"\",\"\",VLOOKUP($D41,Lists!$AP$2:$AR$78,3,FALSE))","v":""}]
[null,{"$f":"IF(D42=\"\",\"\",VLOOKUP($D42,Lists!$AP$2:$AR$78,2,FALSE))","v":""},{"$f":"IF(D42=\"\",\"\",VLOOKUP($D42,Lists!$AP$2:$AR$78,3,FALSE))","v":""}]
[null,{"$f":"IF(D43=\"\",\"\",VLOOKUP($D43,Lists!$AP$2:$AR$78,2,FALSE))","v":""},{"$f":"IF(D43=\"\",\"\",VLOOKUP($D43,Lists!$AP$2:$AR$78,3,FALSE))","v":""}]
[null,{"$f":"IF(D44=\"\",\"\",VLOOKUP($D44,Lists!$AP$2:$AR$78,2,FALSE))","v":""},{"$f":"IF(D44=\"\",\"\",VLOOKUP($D44,Lists!$AP$2:$AR$78,3,FALSE))","v":""}]
[null,{"$f":"IF(D45=\"\",\"\",VLOOKUP($D45,Lists!$AP$2:$AR$78,2,FALSE))","v":""},{"$f":"IF(D45=\"\",\"\",VLOOKUP($D45,Lists!$AP$2:$AR$78,3,FALSE))","v":""}]
[null,{"$f":"IF(D46=\"\",\"\",VLOOKUP($D46,Lists!$AP$2:$AR$78,2,FALSE))","v":""},{"$f":"IF(D46=\"\",\"\",VLOOKUP($D46,Lists!$AP$2:$AR$78,3,FALSE))","v":""}]
[null,{"$f":"IF(D47=\"\",\"\",VLOOKUP($D47,Lists!$AP$2:$AR$78,2,FALSE))","v":""},{"$f":"IF(D47=\"\",\"\",VLOOKUP($D47,Lists!$AP$2:$AR$78,3,FALSE))","v":""}]
[null,{"$f":"IF(D48=\"\",\"\",VLOOKUP($D48,Lists!$AP$2:$AR$78,2,FALSE))","v":""},{"$f":"IF(D48=\"\",\"\",VLOOKUP($D48,Lists!$AP$2:$AR$78,3,FALSE))","v":""}]
[null,{"$f":"IF(D49=\"\",\"\",VLOOKUP($D49,Lists!$AP$2:$AR$78,2,FALSE))","v":""},{"$f":"IF(D49=\"\",\"\",VLOOKUP($D49,Lists!$AP$2:$AR$78,3,FALSE))","v":""}]
[null,{"$f":"IF(D50=\"\",\"\",VLOOKUP($D50,Lists!$AP$2:$AR$78,2,FALSE))","v":""},{"$f":"IF(D50=\"\",\"\",VLOOKUP($D50,Lists!$AP$2:$AR$78,3,FALSE))","v":""}]
[null,{"$f":"IF(D51=\"\",\"\",VLOOKUP($D51,Lists!$AP$2:$AR$78,2,FALSE))","v":""},{"$f":"IF(D51=\"\",\"\",VLOOKUP($D51,Lists!$AP$2:$AR$78,3,FALSE))","v":""}]
[null,{"$f":"IF(D52=\"\",\"\",VLOOKUP($D52,Lists!$AP$2:$AR$78,2,FALSE))","v":""},{"$f":"IF(D52=\"\",\"\",VLOOKUP($D52,Lists!$AP$2:$AR$78,3,FALSE))","v":""}]
[null,{"$f":"IF(D53=\"\",\"\",VLOOKUP($D53,Lists!$AP$2:$AR$78,2,FALSE))","v":""},{"$f":"IF(D53=\"\",\"\",VLOOKUP($D53,Lists!$AP$2:$AR$78,3,FALSE))","v":""}]
[null,{"$f":"IF(D54=\"\",\"\",VLOOKUP($D54,Lists!$AP$2:$AR$78,2,FALSE))","v":""},{"$f":"IF(D54=\"\",\"\",VLOOKUP($D54,Lists!$AP$2:$AR$78,3,FALSE))","v":""}]
[null,{"$f":"IF(D55=\"\",\"\",VLOOKUP($D55,Lists!$AP$2:$AR$78,2,FALSE))","v":""},{"$f":"IF(D55=\"\",\"\",VLOOKUP($D55,Lists!$AP$2:$AR$78,3,FALSE))","v":""}]
[null,{"$f":"IF(D56=\"\",\"\",VLOOKUP($D56,Lists!$AP$2:$AR$78,2,FALSE))","v":""},{"$f":"IF(D56=\"\",\"\",VLOOKUP($D56,Lists!$AP$2:$AR$78,3,FALSE))","v":""}]
[null,{"$f":"IF(D57=\"\",\"\",VLOOKUP($D57,Lists!$AP$2:$AR$78,2,FALSE))","v":""},{"$f":"IF(D57=\"\",\"\",VLOOKUP($D57,Lists!$AP$2:$AR$78,3,FALSE))","v":""}]
[null,{"$f":"IF(D58=\"\",\"\",VLOOKUP($D58,Lists!$AP$2:$AR$78,2,FALSE))","v":""},{"$f":"IF(D58=\"\",\"\",VLOOKUP($D58,Lists!$AP$2:$AR$78,3,FALSE))","v":""}]
[null,{"$f":"IF(D59=\"\",\"\",VLOOKUP($D59,Lists!$AP$2:$AR$78,2,FALSE))","v":""},{"$f":"IF(D59=\"\",\"\",VLOOKUP($D59,Lists!$AP$2:$AR$78,3,FALSE))","v":""}]
[null,{"$f":"IF(D60=\"\",\"\",VLOOKUP($D60,Lists!$AP$2:$AR$78,2,FALSE))","v":""},{"$f":"IF(D60=\"\",\"\",VLOOKUP($D60,Lists!$AP$2:$AR$78,3,FALSE))","v":""}]
[null,{"$f":"IF(D61=\"\",\"\",VLOOKUP($D61,Lists!$AP$2:$AR$78,2,FALSE))","v":""},{"$f":"IF(D61=\"\",\"\",VLOOKUP($D61,Lists!$AP$2:$AR$78,3,FALSE))","v":""}]
[null,{"$f":"IF(D62=\"\",\"\",VLOOKUP($D62,Lists!$AP$2:$AR$78,2,FALSE))","v":""},{"$f":"IF(D62=\"\",\"\",VLOOKUP($D62,Lists!$AP$2:$AR$78,3,FALSE))","v":""}]
[null,{"$f":"IF(D63=\"\",\"\",VLOOKUP($D63,Lists!$AP$2:$AR$78,2,FALSE))","v":""},{"$f":"IF(D63=\"\",\"\",VLOOKUP($D63,Lists!$AP$2:$AR$78,3,FALSE))","v":""}]
[null,{"$f":"IF(D64=\"\",\"\",VLOOKUP($D64,Lists!$AP$2:$AR$78,2,FALSE))","v":""},{"$f":"IF(D64=\"\",\"\",VLOOKUP($D64,Lists!$AP$2:$AR$78,3,FALSE))","v":""}]
[null,{"$f":"IF(D65=\"\",\"\",VLOOKUP($D65,Lists!$AP$2:$AR$78,2,FALSE))","v":""},{"$f":"IF(D65=\"\",\"\",VLOOKUP($D65,Lists!$AP$2:$AR$78,3,FALSE))","v":""}]
[null,{"$f":"IF(D66=\"\",\"\",VLOOKUP($D66,Lists!$AP$2:$AR$78,2,FALSE))","v":""},{"$f":"IF(D66=\"\",\"\",VLOOKUP($D66,Lists!$AP$2:$AR$78,3,FALSE))","v":""}]
[null,{"$f":"IF(D67=\"\",\"\",VLOOKUP($D67,Lists!$AP$2:$AR$78,2,FALSE))","v":""},{"$f":"IF(D67=\"\",\"\",VLOOKUP($D67,Lists!$AP$2:$AR$78,3,FALSE))","v":""}]
[null,{"$f":"IF(D68=\"\",\"\",VLOOKUP($D68,Lists!$AP$2:$AR$78,2,FALSE))","v":""},{"$f":"IF(D68=\"\",\"\",VLOOKUP($D68,Lists!$AP$2:$AR$78,3,FALSE))","v":""}]
[null,{"$f":"IF(D69=\"\",\"\",VLOOKUP($D69,Lists!$AP$2:$AR$78,2,FALSE))","v":""},{"$f":"IF(D69=\"\",\"\",VLOOKUP($D69,Lists!$AP$2:$AR$78,3,FALSE))","v":""}]
[null,{"$f":"IF(D70=\"\",\"\",VLOOKUP($D70,Lists!$AP$2:$AR$78,2,FALSE))","v":""},{"$f":"IF(D70=\"\",\"\",VLOOKUP($D70,Lists!$AP$2:$AR$78,3,FALSE))","v":""}]
[null,{"$f":"IF(D71=\"\",\"\",VLOOKUP($D71,Lists!$AP$2:$AR$78,2,FALSE))","v":""},{"$f":"IF(D71=\"\",\"\",VLOOKUP($D71,Lists!$AP$2:$AR$78,3,FALSE))","v":""}]
[null,{"$f":"IF(D72=\"\",\"\",VLOOKUP($D72,Lists!$AP$2:$AR$78,2,FALSE))","v":""},{"$f":"IF(D72=\"\",\"\",VLOOKUP($D72,Lists!$AP$2:$AR$78,3,FALSE))","v":""}]
[null,{"$f":"IF(D73=\"\",\"\",VLOOKUP($D73,Lists!$AP$2:$AR$78,2,FALSE))","v":""},{"$f":"IF(D73=\"\",\"\",VLOOKUP($D73,Lists!$AP$2:$AR$78,3,FALSE))","v":""}]
[null,{"$f":"IF(D74=\"\",\"\",VLOOKUP($D74,Lists!$AP$2:$AR$78,2,FALSE))","v":""},{"$f":"IF(D74=\"\",\"\",VLOOKUP($D74,Lists!$AP$2:$AR$78,3,FALSE))","v":""}]
[null,{"$f":"IF(D75=\"\",\"\",VLOOKUP($D75,Lists!$AP$2:$AR$78,2,FALSE))","v":""},{"$f":"IF(D75=\"\",\"\",VLOOKUP($D75,Lists!$AP$2:$AR$78,3,FALSE))","v":""}]
[null,{"$f":"IF(D76=\"\",\"\",VLOOKUP($D76,Lists!$AP$2:$AR$78,2,FALSE))","v":""},{"$f":"IF(D76=\"\",\"\",VLOOKUP($D76,Lists!$AP$2:$AR$78,3,FALSE))","v":""}]
[null,{"$f":"IF(D77=\"\",\"\",VLOOKUP($D77,Lists!$AP$2:$AR$78,2,FALSE))","v":""},{"$f":"IF(D77=\"\",\"\",VLOOKUP($D77,Lists!$AP$2:$AR$78,3,FALSE))","v":""}]
[null,{"$f":"IF(D78=\"\",\"\",VLOOKUP($D78,Lists!$AP$2:$AR$78,2,FALSE))","v":""},{"$f":"IF(D78=\"\",\"\",VLOOKUP($D78,Lists!$AP$2:$AR$78,3,FALSE))","v":""}]
[null,{"$f":"IF(D79=\"\",\"\",VLOOKUP($D79,Lists!$AP$2:$AR$78,2,FALSE))","v":""},{"$f":"IF(D79=\"\",\"\",VLOOKUP($D79,Lists!$AP$2:$AR$78,3,FALSE))","v":""}]
[null,{"$f":"IF(D80=\"\",\"\",VLOOKUP($D80,Lists!$AP$2:$AR$78,2,FALSE))","v":""},{"$f":"IF(D80=\"\",\"\",VLOOKUP($D80,Lists!$AP$2:$AR$78,3,FALSE))","v":""}]
[null,{"$f":"IF(D81=\"\",\"\",VLOOKUP($D81,Lists!$AP$2:$AR$78,2,FALSE))","v":""},{"$f":"IF(D81=\"\",\"\",VLOOKUP($D81,Lists!$AP$2:$AR$78,3,FALSE))","v":""}]
[null,{"$f":"IF(D82=\"\",\"\",VLOOKUP($D82,Lists!$AP$2:$AR$78,2,FALSE))","v":""},{"$f":"IF(D82=\"\",\"\",VLOOKUP($D82,Lists!$AP$2:$AR$78,3,FALSE))","v":""}]
[null,{"$f":"IF(D83=\"\",\"\",VLOOKUP($D83,Lists!$AP$2:$AR$78,2,FALSE))","v":""},{"$f":"IF(D83=\"\",\"\",VLOOKUP($D83,Lists!$AP$2:$AR$78,3,FALSE))","v":""}]
[null,{"$f":"IF(D84=\"\",\"\",VLOOKUP($D84,Lists!$AP$2:$AR$78,2,FALSE))","v":""},{"$f":"IF(D84=\"\",\"\",VLOOKUP($D84,Lists!$AP$2:$AR$78,3,FALSE))","v":""}]
[null,{"$f":"IF(D85=\"\",\"\",VLOOKUP($D85,Lists!$AP$2:$AR$78,2,FALSE))","v":""},{"$f":"IF(D85=\"\",\"\",VLOOKUP($D85,Lists!$AP$2:$AR$78,3,FALSE))","v":""}]
[null,{"$f":"IF(D86=\"\",\"\",VLOOKUP($D86,Lists!$AP$2:$AR$78,2,FALSE))","v":""},{"$f":"IF(D86=\"\",\"\",VLOOKUP($D86,Lists!$AP$2:$AR$78,3,FALSE))","v":""}]
[null,{"$f":"IF(D87=\"\",\"\",VLOOKUP($D87,Lists!$AP$2:$AR$78,2,FALSE))","v":""},{"$f":"IF(D87=\"\",\"\",VLOOKUP($D87,Lists!$AP$2:$AR$78,3,FALSE))","v":""}]
[null,{"$f":"IF(D88=\"\",\"\",VLOOKUP($D88,Lists!$AP$2:$AR$78,2,FALSE))","v":""},{"$f":"IF(D88=\"\",\"\",VLOOKUP($D88,Lists!$AP$2:$AR$78,3,FALSE))","v":""}]
[null,{"$f":"IF(D89=\"\",\"\",VLOOKUP($D89,Lists!$AP$2:$AR$78,2,FALSE))","v":""},{"$f":"IF(D89=\"\",\"\",VLOOKUP($D89,Lists!$AP$2:$AR$78,3,FALSE))","v":""}]
[null,{"$f":"IF(D90=\"\",\"\",VLOOKUP($D90,Lists!$AP$2:$AR$78,2,FALSE))","v":""},{"$f":"IF(D90=\"\",\"\",VLOOKUP($D90,Lists!$AP$2:$AR$78,3,FALSE))","v":""}]
[null,{"$f":"IF(D91=\"\",\"\",VLOOKUP($D91,Lists!$AP$2:$AR$78,2,FALSE))","v":""},{"$f":"IF(D91=\"\",\"\",VLOOKUP($D91,Lists!$AP$2:$AR$78,3,FALSE))","v":""}]
[null,{"$f":"IF(D92=\"\",\"\",VLOOKUP($D92,Lists!$AP$2:$AR$78,2,FALSE))","v":""},{"$f":"IF(D92=\"\",\"\",VLOOKUP($D92,Lists!$AP$2:$AR$78,3,FALSE))","v":""}]
[null,{"$f":"IF(D93=\"\",\"\",VLOOKUP($D93,Lists!$AP$2:$AR$78,2,FALSE))","v":""},{"$f":"IF(D93=\"\",\"\",VLOOKUP($D93,Lists!$AP$2:$AR$78,3,FALSE))","v":""}]
[null,{"$f":"IF(D94=\"\",\"\",VLOOKUP($D94,Lists!$AP$2:$AR$78,2,FALSE))","v":""},{"$f":"IF(D94=\"\",\"\",VLOOKUP($D94,Lists!$AP$2:$AR$78,3,FALSE))","v":""}]
[null,{"$f":"IF(D95=\"\",\"\",VLOOKUP($D95,Lists!$AP$2:$AR$78,2,FALSE))","v":""},{"$f":"IF(D95=\"\",\"\",VLOOKUP($D95,Lists!$AP$2:$AR$78,3,FALSE))","v":""}]
[null,{"$f":"IF(D96=\"\",\"\",VLOOKUP($D96,Lists!$AP$2:$AR$78,2,FALSE))","v":""},{"$f":"IF(D96=\"\",\"\",VLOOKUP($D96,Lists!$AP$2:$AR$78,3,FALSE))","v":""}]
[null,{"$f":"IF(D97=\"\",\"\",VLOOKUP($D97,Lists!$AP$2:$AR$78,2,FALSE))","v":""},{"$f":"IF(D97=\"\",\"\",VLOOKUP($D97,Lists!$AP$2:$AR$78,3,FALSE))","v":""}]
[null,{"$f":"IF(D98=\"\",\"\",VLOOKUP($D98,Lists!$AP$2:$AR$78,2,FALSE))","v":""},{"$f":"IF(D98=\"\",\"\",VLOOKUP($D98,Lists!$AP$2:$AR$78,3,FALSE))","v":""}]
[null,{"$f":"IF(D99=\"\",\"\",VLOOKUP($D99,Lists!$AP$2:$AR$78,2,FALSE))","v":""},{"$f":"IF(D99=\"\",\"\",VLOOKUP($D99,Lists!$AP$2:$AR$78,3,FALSE))","v":""}]
[null,{"$f":"IF(D100=\"\",\"\",VLOOKUP($D100,Lists!$AP$2:$AR$78,2,FALSE))","v":""},{"$f":"IF(D100=\"\",\"\",VLOOKUP($D100,Lists!$AP$2:$AR$78,3,FALSE))","v":""}]
[null,{"$f":"IF(D101=\"\",\"\",VLOOKUP($D101,Lists!$AP$2:$AR$78,2,FALSE))","v":""},{"$f":"IF(D101=\"\",\"\",VLOOKUP($D101,Lists!$AP$2:$AR$78,3,FALSE))","v":""}]
[null,{"$f":"IF(D102=\"\",\"\",VLOOKUP($D102,Lists!$AP$2:$AR$78,2,FALSE))","v":""},{"$f":"IF(D102=\"\",\"\",VLOOKUP($D102,Lists!$AP$2:$AR$78,3,FALSE))","v":""}]
[null,{"$f":"IF(D103=\"\",\"\",VLOOKUP($D103,Lists!$AP$2:$AR$78,2,FALSE))","v":""},{"$f":"IF(D103=\"\",\"\",VLOOKUP($D103,Lists!$AP$2:$AR$78,3,FALSE))","v":""}]
[null,{"$f":"IF(D104=\"\",\"\",VLOOKUP($D104,Lists!$AP$2:$AR$78,2,FALSE))","v":""},{"$f":"IF(D104=\"\",\"\",VLOOKUP($D104,Lists!$AP$2:$AR$78,3,FALSE))","v":""}]
[null,{"$f":"IF(D105=\"\",\"\",VLOOKUP($D105,Lists!$AP$2:$AR$78,2,FALSE))","v":""},{"$f":"IF(D105=\"\",\"\",VLOOKUP($D105,Lists!$AP$2:$AR$78,3,FALSE))","v":""}]
[null,{"$f":"IF(D106=\"\",\"\",VLOOKUP($D106,Lists!$AP$2:$AR$78,2,FALSE))","v":""},{"$f":"IF(D106=\"\",\"\",VLOOKUP($D106,Lists!$AP$2:$AR$78,3,FALSE))","v":""}]
[null,{"$f":"IF(D107=\"\",\"\",VLOOKUP($D107,Lists!$AP$2:$AR$78,2,FALSE))","v":""},{"$f":"IF(D107=\"\",\"\",VLOOKUP($D107,Lists!$AP$2:$AR$78,3,FALSE))","v":""}]
[null,{"$f":"IF(D108=\"\",\"\",VLOOKUP($D108,Lists!$AP$2:$AR$78,2,FALSE))","v":""},{"$f":"IF(D108=\"\",\"\",VLOOKUP($D108,Lists!$AP$2:$AR$78,3,FALSE))","v":""}]
[null,{"$f":"IF(D109=\"\",\"\",VLOOKUP($D109,Lists!$AP$2:$AR$78,2,FALSE))","v":""},{"$f":"IF(D109=\"\",\"\",VLOOKUP($D109,Lists!$AP$2:$AR$78,3,FALSE))","v":""}]
[null,{"$f":"IF(D110=\"\",\"\",VLOOKUP($D110,Lists!$AP$2:$AR$78,2,FALSE))","v":""},{"$f":"IF(D110=\"\",\"\",VLOOKUP($D110,Lists!$AP$2:$AR$78,3,FALSE))","v":""}]
[null,{"$f":"IF(D111=\"\",\"\",VLOOKUP($D111,Lists!$AP$2:$AR$78,2,FALSE))","v":""},{"$f":"IF(D111=\"\",\"\",VLOOKUP($D111,Lists!$AP$2:$AR$78,3,FALSE))","v":""}]
[null,{"$f":"IF(D112=\"\",\"\",VLOOKUP($D112,Lists!$AP$2:$AR$78,2,FALSE))","v":""},{"$f":"IF(D112=\"\",\"\",VLOOKUP($D112,Lists!$AP$2:$AR$78,3,FALSE))","v":""}]
[null,{"$f":"IF(D113=\"\",\"\",VLOOKUP($D113,Lists!$AP$2:$AR$78,2,FALSE))","v":""},{"$f":"IF(D113=\"\",\"\",VLOOKUP($D113,Lists!$AP$2:$AR$78,3,FALSE))","v":""}]
[null,{"$f":"IF(D114=\"\",\"\",VLOOKUP($D114,Lists!$AP$2:$AR$78,2,FALSE))","v":""},{"$f":"IF(D114=\"\",\"\",VLOOKUP($D114,Lists!$AP$2:$AR$78,3,FALSE))","v":""}]
[null,{"$f":"IF(D115=\"\",\"\",VLOOKUP($D115,Lists!$AP$2:$AR$78,2,FALSE))","v":""},{"$f":"IF(D115=\"\",\"\",VLOOKUP($D115,Lists!$AP$2:$AR$78,3,FALSE))","v":""}]
[null,{"$f":"IF(D116=\"\",\"\",VLOOKUP($D116,Lists!$AP$2:$AR$78,2,FALSE))","v":""},{"$f":"IF(D116=\"\",\"\",VLOOKUP($D116,Lists!$AP$2:$AR$78,3,FALSE))","v":""}]
[null,{"$f":"IF(D117=\"\",\"\",VLOOKUP($D117,Lists!$AP$2:$AR$78,2,FALSE))","v":""},{"$f":"IF(D117=\"\",\"\",VLOOKUP($D117,Lists!$AP$2:$AR$78,3,FALSE))","v":""}]
[null,{"$f":"IF(D118=\"\",\"\",VLOOKUP($D118,Lists!$AP$2:$AR$78,2,FALSE))","v":""},{"$f":"IF(D118=\"\",\"\",VLOOKUP($D118,Lists!$AP$2:$AR$78,3,FALSE))","v":""}]
[null,{"$f":"IF(D119=\"\",\"\",VLOOKUP($D119,Lists!$AP$2:$AR$78,2,FALSE))","v":""},{"$f":"IF(D119=\"\",\"\",VLOOKUP($D119,Lists!$AP$2:$AR$78,3,FALSE))","v":""}]
[null,{"$f":"IF(D120=\"\",\"\",VLOOKUP($D120,Lists!$AP$2:$AR$78,2,FALSE))","v":""},{"$f":"IF(D120=\"\",\"\",VLOOKUP($D120,Lists!$AP$2:$AR$78,3,FALSE))","v":""}]
[null,{"$f":"IF(D121=\"\",\"\",VLOOKUP($D121,Lists!$AP$2:$AR$78,2,FALSE))","v":""},{"$f":"IF(D121=\"\",\"\",VLOOKUP($D121,Lists!$AP$2:$AR$78,3,FALSE))","v":""}]
[null,{"$f":"IF(D122=\"\",\"\",VLOOKUP($D122,Lists!$AP$2:$AR$78,2,FALSE))","v":""},{"$f":"IF(D122=\"\",\"\",VLOOKUP($D122,Lists!$AP$2:$AR$78,3,FALSE))","v":""}]
[null,{"$f":"IF(D123=\"\",\"\",VLOOKUP($D123,Lists!$AP$2:$AR$78,2,FALSE))","v":""},{"$f":"IF(D123=\"\",\"\",VLOOKUP($D123,Lists!$AP$2:$AR$78,3,FALSE))","v":""}]
[null,{"$f":"IF(D124=\"\",\"\",VLOOKUP($D124,Lists!$AP$2:$AR$78,2,FALSE))","v":""},{"$f":"IF(D124=\"\",\"\",VLOOKUP($D124,Lists!$AP$2:$AR$78,3,FALSE))","v":""}]
[null,{"$f":"IF(D125=\"\",\"\",VLOOKUP($D125,Lists!$AP$2:$AR$78,2,FALSE))","v":""},{"$f":"IF(D125=\"\",\"\",VLOOKUP($D125,Lists!$AP$2:$AR$78,3,FALSE))","v":""}]
[null,{"$f":"IF(D126=\"\",\"\",VLOOKUP($D126,Lists!$AP$2:$AR$78,2,FALSE))","v":""},{"$f":"IF(D126=\"\",\"\",VLOOKUP($D126,Lists!$AP$2:$AR$78,3,FALSE))","v":""}]
[null,{"$f":"IF(D127=\"\",\"\",VLOOKUP($D127,Lists!$AP$2:$AR$78,2,FALSE))","v":""},{"$f":"IF(D127=\"\",\"\",VLOOKUP($D127,Lists!$AP$2:$AR$78,3,FALSE))","v":""}]
[null,{"$f":"IF(D128=\"\",\"\",VLOOKUP($D128,Lists!$AP$2:$AR$78,2,FALSE))","v":""},{"$f":"IF(D128=\"\",\"\",VLOOKUP($D128,Lists!$AP$2:$AR$78,3,FALSE))","v":""}]
[null,{"$f":"IF(D129=\"\",\"\",VLOOKUP($D129,Lists!$AP$2:$AR$78,2,FALSE))","v":""},{"$f":"IF(D129=\"\",\"\",VLOOKUP($D129,Lists!$AP$2:$AR$78,3,FALSE))","v":""}]
[null,{"$f":"IF(D130=\"\",\"\",VLOOKUP($D130,Lists!$AP$2:$AR$78,2,FALSE))","v":""},{"$f":"IF(D130=\"\",\"\",VLOOKUP($D130,Lists!$AP$2:$AR$78,3,FALSE))","v":""}]
[null,{"$f":"IF(D131=\"\",\"\",VLOOKUP($D131,Lists!$AP$2:$AR$78,2,FALSE))","v":""},{"$f":"IF(D131=\"\",\"\",VLOOKUP($D131,Lists!$AP$2:$AR$78,3,FALSE))","v":""}]
[null,{"$f":"IF(D132=\"\",\"\",VLOOKUP($D132,Lists!$AP$2:$AR$78,2,FALSE))","v":""},{"$f":"IF(D132=\"\",\"\",VLOOKUP($D132,Lists!$AP$2:$AR$78,3,FALSE))","v":""}]
[null,{"$f":"IF(D133=\"\",\"\",VLOOKUP($D133,Lists!$AP$2:$AR$78,2,FALSE))","v":""},{"$f":"IF(D133=\"\",\"\",VLOOKUP($D133,Lists!$AP$2:$AR$78,3,FALSE))","v":""}]
[null,{"$f":"IF(D134=\"\",\"\",VLOOKUP($D134,Lists!$AP$2:$AR$78,2,FALSE))","v":""},{"$f":"IF(D134=\"\",\"\",VLOOKUP($D134,Lists!$AP$2:$AR$78,3,FALSE))","v":""}]
[null,{"$f":"IF(D135=\"\",\"\",VLOOKUP($D135,Lists!$AP$2:$AR$78,2,FALSE))","v":""},{"$f":"IF(D135=\"\",\"\",VLOOKUP($D135,Lists!$AP$2:$AR$78,3,FALSE))","v":""}]
[null,{"$f":"IF(D136=\"\",\"\",VLOOKUP($D136,Lists!$AP$2:$AR$78,2,FALSE))","v":""},{"$f":"IF(D136=\"\",\"\",VLOOKUP($D136,Lists!$AP$2:$AR$78,3,FALSE))","v":""}]
[null,{"$f":"IF(D137=\"\",\"\",VLOOKUP($D137,Lists!$AP$2:$AR$78,2,FALSE))","v":""},{"$f":"IF(D137=\"\",\"\",VLOOKUP($D137,Lists!$AP$2:$AR$78,3,FALSE))","v":""}]
[null,{"$f":"IF(D138=\"\",\"\",VLOOKUP($D138,Lists!$AP$2:$AR$78,2,FALSE))","v":""},{"$f":"IF(D138=\"\",\"\",VLOOKUP($D138,Lists!$AP$2:$AR$78,3,FALSE))","v":""}]
[null,{"$f":"IF(D139=\"\",\"\",VLOOKUP($D139,Lists!$AP$2:$AR$78,2,FALSE))","v":""},{"$f":"IF(D139=\"\",\"\",VLOOKUP($D139,Lists!$AP$2:$AR$78,3,FALSE))","v":""}]
[null,{"$f":"IF(D140=\"\",\"\",VLOOKUP($D140,Lists!$AP$2:$AR$78,2,FALSE))","v":""},{"$f":"IF(D140=\"\",\"\",VLOOKUP($D140,Lists!$AP$2:$AR$78,3,FALSE))","v":""}]
[null,{"$f":"IF(D141=\"\",\"\",VLOOKUP($D141,Lists!$AP$2:$AR$78,2,FALSE))","v":""},{"$f":"IF(D141=\"\",\"\",VLOOKUP($D141,Lists!$AP$2:$AR$78,3,FALSE))","v":""}]
[null,{"$f":"IF(D142=\"\",\"\",VLOOKUP($D142,Lists!$AP$2:$AR$78,2,FALSE))","v":""},{"$f":"IF(D142=\"\",\"\",VLOOKUP($D142,Lists!$AP$2:$AR$78,3,FALSE))","v":""}]
[null,{"$f":"IF(D143=\"\",\"\",VLOOKUP($D143,Lists!$AP$2:$AR$78,2,FALSE))","v":""},{"$f":"IF(D143=\"\",\"\",VLOOKUP($D143,Lists!$AP$2:$AR$78,3,FALSE))","v":""}]
[null,{"$f":"IF(D144=\"\",\"\",VLOOKUP($D144,Lists!$AP$2:$AR$78,2,FALSE))","v":""},{"$f":"IF(D144=\"\",\"\",VLOOKUP($D144,Lists!$AP$2:$AR$78,3,FALSE))","v":""}]
[null,{"$f":"IF(D145=\"\",\"\",VLOOKUP($D145,Lists!$AP$2:$AR$78,2,FALSE))","v":""},{"$f":"IF(D145=\"\",\"\",VLOOKUP($D145,Lists!$AP$2:$AR$78,3,FALSE))","v":""}]
[null,{"$f":"IF(D146=\"\",\"\",VLOOKUP($D146,Lists!$AP$2:$AR$78,2,FALSE))","v":""},{"$f":"IF(D146=\"\",\"\",VLOOKUP($D146,Lists!$AP$2:$AR$78,3,FALSE))","v":""}]
[null,{"$f":"IF(D147=\"\",\"\",VLOOKUP($D147,Lists!$AP$2:$AR$78,2,FALSE))","v":""},{"$f":"IF(D147=\"\",\"\",VLOOKUP($D147,Lists!$AP$2:$AR$78,3,FALSE))","v":""}]
[null,{"$f":"IF(D148=\"\",\"\",VLOOKUP($D148,Lists!$AP$2:$AR$78,2,FALSE))","v":""},{"$f":"IF(D148=\"\",\"\",VLOOKUP($D148,Lists!$AP$2:$AR$78,3,FALSE))","v":""}]
[null,{"$f":"IF(D149=\"\",\"\",VLOOKUP($D149,Lists!$AP$2:$AR$78,2,FALSE))","v":""},{"$f":"IF(D149=\"\",\"\",VLOOKUP($D149,Lists!$AP$2:$AR$78,3,FALSE))","v":""}]
[null,{"$f":"IF(D150=\"\",\"\",VLOOKUP($D150,Lists!$AP$2:$AR$78,2,FALSE))","v":""},{"$f":"IF(D150=\"\",\"\",VLOOKUP($D150,Lists!$AP$2:$AR$78,3,FALSE))","v":""}]
[null,{"$f":"IF(D151=\"\",\"\",VLOOKUP($D151,Lists!$AP$2:$AR$78,2,FALSE))","v":""},{"$f":"IF(D151=\"\",\"\",VLOOKUP($D151,Lists!$AP$2:$AR$78,3,FALSE))","v":""}]
[null,{"$f":"IF(D152=\"\",\"\",VLOOKUP($D152,Lists!$AP$2:$AR$78,2,FALSE))","v":""},{"$f":"IF(D152=\"\",\"\",VLOOKUP($D152,Lists!$AP$2:$AR$78,3,FALSE))","v":""}]
[null,{"$f":"IF(D153=\"\",\"\",VLOOKUP($D153,Lists!$AP$2:$AR$78,2,FALSE))","v":""},{"$f":"IF(D153=\"\",\"\",VLOOKUP($D153,Lists!$AP$2:$AR$78,3,FALSE))","v":""}]
[null,{"$f":"IF(D154=\"\",\"\",VLOOKUP($D154,Lists!$AP$2:$AR$78,2,FALSE))","v":""},{"$f":"IF(D154=\"\",\"\",VLOOKUP($D154,Lists!$AP$2:$AR$78,3,FALSE))","v":""}]
[null,{"$f":"IF(D155=\"\",\"\",VLOOKUP($D155,Lists!$AP$2:$AR$78,2,FALSE))","v":""},{"$f":"IF(D155=\"\",\"\",VLOOKUP($D155,Lists!$AP$2:$AR$78,3,FALSE))","v":""}]
[null,{"$f":"IF(D156=\"\",\"\",VLOOKUP($D156,Lists!$AP$2:$AR$78,2,FALSE))","v":""},{"$f":"IF(D156=\"\",\"\",VLOOKUP($D156,Lists!$AP$2:$AR$78,3,FALSE))","v":""}]
[null,{"$f":"IF(D157=\"\",\"\",VLOOKUP($D157,Lists!$AP$2:$AR$78,2,FALSE))","v":""},{"$f":"IF(D157=\"\",\"\",VLOOKUP($D157,Lists!$AP$2:$AR$78,3,FALSE))","v":""}]
[null,{"$f":"IF(D158=\"\",\"\",VLOOKUP($D158,Lists!$AP$2:$AR$78,2,FALSE))","v":""},{"$f":"IF(D158=\"\",\"\",VLOOKUP($D158,Lists!$AP$2:$AR$78,3,FALSE))","v":""}]
[null,{"$f":"IF(D159=\"\",\"\",VLOOKUP($D159,Lists!$AP$2:$AR$78,2,FALSE))","v":""},{"$f":"IF(D159=\"\",\"\",VLOOKUP($D159,Lists!$AP$2:$AR$78,3,FALSE))","v":""}]
[null,{"$f":"IF(D160=\"\",\"\",VLOOKUP($D160,Lists!$AP$2:$AR$78,2,FALSE))","v":""},{"$f":"IF(D160=\"\",\"\",VLOOKUP($D160,Lists!$AP$2:$AR$78,3,FALSE))","v":""}]
[null,{"$f":"IF(D161=\"\",\"\",VLOOKUP($D161,Lists!$AP$2:$AR$78,2,FALSE))","v":""},{"$f":"IF(D161=\"\",\"\",VLOOKUP($D161,Lists!$AP$2:$AR$78,3,FALSE))","v":""}]
[null,{"$f":"IF(D162=\"\",\"\",VLOOKUP($D162,Lists!$AP$2:$AR$78,2,FALSE))","v":""},{"$f":"IF(D162=\"\",\"\",VLOOKUP($D162,Lists!$AP$2:$AR$78,3,FALSE))","v":""}]
[null,{"$f":"IF(D163=\"\",\"\",VLOOKUP($D163,Lists!$AP$2:$AR$78,2,FALSE))","v":""},{"$f":"IF(D163=\"\",\"\",VLOOKUP($D163,Lists!$AP$2:$AR$78,3,FALSE))","v":""}]
[null,{"$f":"IF(D164=\"\",\"\",VLOOKUP($D164,Lists!$AP$2:$AR$78,2,FALSE))","v":""},{"$f":"IF(D164=\"\",\"\",VLOOKUP($D164,Lists!$AP$2:$AR$78,3,FALSE))","v":""}]
[null,{"$f":"IF(D165=\"\",\"\",VLOOKUP($D165,Lists!$AP$2:$AR$78,2,FALSE))","v":""},{"$f":"IF(D165=\"\",\"\",VLOOKUP($D165,Lists!$AP$2:$AR$78,3,FALSE))","v":""}]
[null,{"$f":"IF(D166=\"\",\"\",VLOOKUP($D166,Lists!$AP$2:$AR$78,2,FALSE))","v":""},{"$f":"IF(D166=\"\",\"\",VLOOKUP($D166,Lists!$AP$2:$AR$78,3,FALSE))","v":""}]
[null,{"$f":"IF(D167=\"\",\"\",VLOOKUP($D167,Lists!$AP$2:$AR$78,2,FALSE))","v":""},{"$f":"IF(D167=\"\",\"\",VLOOKUP($D167,Lists!$AP$2:$AR$78,3,FALSE))","v":""}]
[null,{"$f":"IF(D168=\"\",\"\",VLOOKUP($D168,Lists!$AP$2:$AR$78,2,FALSE))","v":""},{"$f":"IF(D168=\"\",\"\",VLOOKUP($D168,Lists!$AP$2:$AR$78,3,FALSE))","v":""}]
[null,{"$f":"IF(D169=\"\",\"\",VLOOKUP($D169,Lists!$AP$2:$AR$78,2,FALSE))","v":""},{"$f":"IF(D169=\"\",\"\",VLOOKUP($D169,Lists!$AP$2:$AR$78,3,FALSE))","v":""}]
[null,{"$f":"IF(D170=\"\",\"\",VLOOKUP($D170,Lists!$AP$2:$AR$78,2,FALSE))","v":""},{"$f":"IF(D170=\"\",\"\",VLOOKUP($D170,Lists!$AP$2:$AR$78,3,FALSE))","v":""}]
[null,{"$f":"IF(D171=\"\",\"\",VLOOKUP($D171,Lists!$AP$2:$AR$78,2,FALSE))","v":""},{"$f":"IF(D171=\"\",\"\",VLOOKUP($D171,Lists!$AP$2:$AR$78,3,FALSE))","v":""}]
[null,{"$f":"IF(D172=\"\",\"\",VLOOKUP($D172,Lists!$AP$2:$AR$78,2,FALSE))","v":""},{"$f":"IF(D172=\"\",\"\",VLOOKUP($D172,Lists!$AP$2:$AR$78,3,FALSE))","v":""}]
[null,{"$f":"IF(D173=\"\",\"\",VLOOKUP($D173,Lists!$AP$2:$AR$78,2,FALSE))","v":""},{"$f":"IF(D173=\"\",\"\",VLOOKUP($D173,Lists!$AP$2:$AR$78,3,FALSE))","v":""}]
[null,{"$f":"IF(D174=\"\",\"\",VLOOKUP($D174,Lists!$AP$2:$AR$78,2,FALSE))","v":""},{"$f":"IF(D174=\"\",\"\",VLOOKUP($D174,Lists!$AP$2:$AR$78,3,FALSE))","v":""}]
[null,{"$f":"IF(D175=\"\",\"\",VLOOKUP($D175,Lists!$AP$2:$AR$78,2,FALSE))","v":""},{"$f":"IF(D175=\"\",\"\",VLOOKUP($D175,Lists!$AP$2:$AR$78,3,FALSE))","v":""}]
[null,{"$f":"IF(D176=\"\",\"\",VLOOKUP($D176,Lists!$AP$2:$AR$78,2,FALSE))","v":""},{"$f":"IF(D176=\"\",\"\",VLOOKUP($D176,Lists!$AP$2:$AR$78,3,FALSE))","v":""}]
[null,{"$f":"IF(D177=\"\",\"\",VLOOKUP($D177,Lists!$AP$2:$AR$78,2,FALSE))","v":""},{"$f":"IF(D177=\"\",\"\",VLOOKUP($D177,Lists!$AP$2:$AR$78,3,FALSE))","v":""}]
[null,{"$f":"IF(D178=\"\",\"\",VLOOKUP($D178,Lists!$AP$2:$AR$78,2,FALSE))","v":""},{"$f":"IF(D178=\"\",\"\",VLOOKUP($D178,Lists!$AP$2:$AR$78,3,FALSE))","v":""}]
[null,{"$f":"IF(D179=\"\",\"\",VLOOKUP($D179,Lists!$AP$2:$AR$78,2,FALSE))","v":""},{"$f":"IF(D179=\"\",\"\",VLOOKUP($D179,Lists!$AP$2:$AR$78,3,FALSE))","v":""}]
[null,{"$f":"IF(D180=\"\",\"\",VLOOKUP($D180,Lists!$AP$2:$AR$78,2,FALSE))","v":""},{"$f":"IF(D180=\"\",\"\",VLOOKUP($D180,Lists!$AP$2:$AR$78,3,FALSE))","v":""}]
[null,{"$f":"IF(D181=\"\",\"\",VLOOKUP($D181,Lists!$AP$2:$AR$78,2,FALSE))","v":""},{"$f":"IF(D181=\"\",\"\",VLOOKUP($D181,Lists!$AP$2:$AR$78,3,FALSE))","v":""}]
[null,{"$f":"IF(D182=\"\",\"\",VLOOKUP($D182,Lists!$AP$2:$AR$78,2,FALSE))","v":""},{"$f":"IF(D182=\"\",\"\",VLOOKUP($D182,Lists!$AP$2:$AR$78,3,FALSE))","v":""}]
[null,{"$f":"IF(D183=\"\",\"\",VLOOKUP($D183,Lists!$AP$2:$AR$78,2,FALSE))","v":""},{"$f":"IF(D183=\"\",\"\",VLOOKUP($D183,Lists!$AP$2:$AR$78,3,FALSE))","v":""}]
[null,{"$f":"IF(D184=\"\",\"\",VLOOKUP($D184,Lists!$AP$2:$AR$78,2,FALSE))","v":""},{"$f":"IF(D184=\"\",\"\",VLOOKUP($D184,Lists!$AP$2:$AR$78,3,FALSE))","v":""}]
[null,{"$f":"IF(D185=\"\",\"\",VLOOKUP($D185,Lists!$AP$2:$AR$78,2,FALSE))","v":""},{"$f":"IF(D185=\"\",\"\",VLOOKUP($D185,Lists!$AP$2:$AR$78,3,FALSE))","v":""}]
[null,{"$f":"IF(D186=\"\",\"\",VLOOKUP($D186,Lists!$AP$2:$AR$78,2,FALSE))","v":""},{"$f":"IF(D186=\"\",\"\",VLOOKUP($D186,Lists!$AP$2:$AR$78,3,FALSE))","v":""}]
[null,{"$f":"IF(D187=\"\",\"\",VLOOKUP($D187,Lists!$AP$2:$AR$78,2,FALSE))","v":""},{"$f":"IF(D187=\"\",\"\",VLOOKUP($D187,Lists!$AP$2:$AR$78,3,FALSE))","v":""}]
[null,{"$f":"IF(D188=\"\",\"\",VLOOKUP($D188,Lists!$AP$2:$AR$78,2,FALSE))","v":""},{"$f":"IF(D188=\"\",\"\",VLOOKUP($D188,Lists!$AP$2:$AR$78,3,FALSE))","v":""}]
[null,{"$f":"IF(D189=\"\",\"\",VLOOKUP($D189,Lists!$AP$2:$AR$78,2,FALSE))","v":""},{"$f":"IF(D189=\"\",\"\",VLOOKUP($D189,Lists!$AP$2:$AR$78,3,FALSE))","v":""}]
[null,{"$f":"IF(D190=\"\",\"\",VLOOKUP($D190,Lists!$AP$2:$AR$78,2,FALSE))","v":""},{"$f":"IF(D190=\"\",\"\",VLOOKUP($D190,Lists!$AP$2:$AR$78,3,FALSE))","v":""}]
[null,{"$f":"IF(D191=\"\",\"\",VLOOKUP($D191,Lists!$AP$2:$AR$78,2,FALSE))","v":""},{"$f":"IF(D191=\"\",\"\",VLOOKUP($D191,Lists!$AP$2:$AR$78,3,FALSE))","v":""}]
[null,{"$f":"IF(D192=\"\",\"\",VLOOKUP($D192,Lists!$AP$2:$AR$78,2,FALSE))","v":""},{"$f":"IF(D192=\"\",\"\",VLOOKUP($D192,Lists!$AP$2:$AR$78,3,FALSE))","v":""}]
[null,{"$f":"IF(D193=\"\",\"\",VLOOKUP($D193,Lists!$AP$2:$AR$78,2,FALSE))","v":""},{"$f":"IF(D193=\"\",\"\",VLOOKUP($D193,Lists!$AP$2:$AR$78,3,FALSE))","v":""}]
[null,{"$f":"IF(D194=\"\",\"\",VLOOKUP($D194,Lists!$AP$2:$AR$78,2,FALSE))","v":""},{"$f":"IF(D194=\"\",\"\",VLOOKUP($D194,Lists!$AP$2:$AR$78,3,FALSE))","v":""}]
[null,{"$f":"IF(D195=\"\",\"\",VLOOKUP($D195,Lists!$AP$2:$AR$78,2,FALSE))","v":""},{"$f":"IF(D195=\"\",\"\",VLOOKUP($D195,Lists!$AP$2:$AR$78,3,FALSE))","v":""}]
[null,{"$f":"IF(D196=\"\",\"\",VLOOKUP($D196,Lists!$AP$2:$AR$78,2,FALSE))","v":""},{"$f":"IF(D196=\"\",\"\",VLOOKUP($D196,Lists!$AP$2:$AR$78,3,FALSE))","v":""}]
[null,{"$f":"IF(D197=\"\",\"\",VLOOKUP($D197,Lists!$AP$2:$AR$78,2,FALSE))","v":""},{"$f":"IF(D197=\"\",\"\",VLOOKUP($D197,Lists!$AP$2:$AR$78,3,FALSE))","v":""}]
[null,{"$f":"IF(D198=\"\",\"\",VLOOKUP($D198,Lists!$AP$2:$AR$78,2,FALSE))","v":""},{"$f":"IF(D198=\"\",\"\",VLOOKUP($D198,Lists!$AP$2:$AR$78,3,FALSE))","v":""}]
[null,{"$f":"IF(D199=\"\",\"\",VLOOKUP($D199,Lists!$AP$2:$AR$78,2,FALSE))","v":""},{"$f":"IF(D199=\"\",\"\",VLOOKUP($D199,Lists!$AP$2:$AR$78,3,FALSE))","v":""}]
[null,{"$f":"IF(D200=\"\",\"\",VLOOKUP($D200,Lists!$AP$2:$AR$78,2,FALSE))","v":""},{"$f":"IF(D200=\"\",\"\",VLOOKUP($D200,Lists!$AP$2:$AR$78,3,FALSE))","v":""}]
[null,{"$f":"IF(D201=\"\",\"\",VLOOKUP($D201,Lists!$AP$2:$AR$78,2,FALSE))","v":""},{"$f":"IF(D201=\"\",\"\",VLOOKUP($D201,Lists!$AP$2:$AR$78,3,FALSE))","v":""}]
[null,{"$f":"IF(D202=\"\",\"\",VLOOKUP($D202,Lists!$AP$2:$AR$78,2,FALSE))","v":""},{"$f":"IF(D202=\"\",\"\",VLOOKUP($D202,Lists!$AP$2:$AR$78,3,FALSE))","v":""}]
[null,{"$f":"IF(D203=\"\",\"\",VLOOKUP($D203,Lists!$AP$2:$AR$78,2,FALSE))","v":""},{"$f":"IF(D203=\"\",\"\",VLOOKUP($D203,Lists!$AP$2:$AR$78,3,FALSE))","v":""}]
[null,{"$f":"IF(D204=\"\",\"\",VLOOKUP($D204,Lists!$AP$2:$AR$78,2,FALSE))","v":""},{"$f":"IF(D204=\"\",\"\",VLOOKUP($D204,Lists!$AP$2:$AR$78,3,FALSE))","v":""}]
[null,{"$f":"IF(D205=\"\",\"\",VLOOKUP($D205,Lists!$AP$2:$AR$78,2,FALSE))","v":""},{"$f":"IF(D205=\"\",\"\",VLOOKUP($D205,Lists!$AP$2:$AR$78,3,FALSE))","v":""}]
[null,{"$f":"IF(D206=\"\",\"\",VLOOKUP($D206,Lists!$AP$2:$AR$78,2,FALSE))","v":""},{"$f":"IF(D206=\"\",\"\",VLOOKUP($D206,Lists!$AP$2:$AR$78,3,FALSE))","v":""}]
[null,{"$f":"IF(D207=\"\",\"\",VLOOKUP($D207,Lists!$AP$2:$AR$78,2,FALSE))","v":""},{"$f":"IF(D207=\"\",\"\",VLOOKUP($D207,Lists!$AP$2:$AR$78,3,FALSE))","v":""}]
[null,{"$f":"IF(D208=\"\",\"\",VLOOKUP($D208,Lists!$AP$2:$AR$78,2,FALSE))","v":""},{"$f":"IF(D208=\"\",\"\",VLOOKUP($D208,Lists!$AP$2:$AR$78,3,FALSE))","v":""}]
[null,{"$f":"IF(D209=\"\",\"\",VLOOKUP($D209,Lists!$AP$2:$AR$78,2,FALSE))","v":""},{"$f":"IF(D209=\"\",\"\",VLOOKUP($D209,Lists!$AP$2:$AR$78,3,FALSE))","v":""}]
[null,{"$f":"IF(D210=\"\",\"\",VLOOKUP($D210,Lists!$AP$2:$AR$78,2,FALSE))","v":""},{"$f":"IF(D210=\"\",\"\",VLOOKUP($D210,Lists!$AP$2:$AR$78,3,FALSE))","v":""}]
[null,{"$f":"IF(D211=\"\",\"\",VLOOKUP($D211,Lists!$AP$2:$AR$78,2,FALSE))","v":""},{"$f":"IF(D211=\"\",\"\",VLOOKUP($D211,Lists!$AP$2:$AR$78,3,FALSE))","v":""}]
[null,{"$f":"IF(D212=\"\",\"\",VLOOKUP($D212,Lists!$AP$2:$AR$78,2,FALSE))","v":""},{"$f":"IF(D212=\"\",\"\",VLOOKUP($D212,Lists!$AP$2:$AR$78,3,FALSE))","v":""}]
[null,{"$f":"IF(D213=\"\",\"\",VLOOKUP($D213,Lists!$AP$2:$AR$78,2,FALSE))","v":""},{"$f":"IF(D213=\"\",\"\",VLOOKUP($D213,Lists!$AP$2:$AR$78,3,FALSE))","v":""}]
[null,{"$f":"IF(D214=\"\",\"\",VLOOKUP($D214,Lists!$AP$2:$AR$78,2,FALSE))","v":""},{"$f":"IF(D214=\"\",\"\",VLOOKUP($D214,Lists!$AP$2:$AR$78,3,FALSE))","v":""}]
[null,{"$f":"IF(D215=\"\",\"\",VLOOKUP($D215,Lists!$AP$2:$AR$78,2,FALSE))","v":""},{"$f":"IF(D215=\"\",\"\",VLOOKUP($D215,Lists!$AP$2:$AR$78,3,FALSE))","v":""}]
[null,{"$f":"IF(D216=\"\",\"\",VLOOKUP($D216,Lists!$AP$2:$AR$78,2,FALSE))","v":""},{"$f":"IF(D216=\"\",\"\",VLOOKUP($D216,Lists!$AP$2:$AR$78,3,FALSE))","v":""}]
[null,{"$f":"IF(D217=\"\",\"\",VLOOKUP($D217,Lists!$AP$2:$AR$78,2,FALSE))","v":""},{"$f":"IF(D217=\"\",\"\",VLOOKUP($D217,Lists!$AP$2:$AR$78,3,FALSE))","v":""}]
[null,{"$f":"IF(D218=\"\",\"\",VLOOKUP($D218,Lists!$AP$2:$AR$78,2,FALSE))","v":""},{"$f":"IF(D218=\"\",\"\",VLOOKUP($D218,Lists!$AP$2:$AR$78,3,FALSE))","v":""}]
[null,{"$f":"IF(D219=\"\",\"\",VLOOKUP($D219,Lists!$AP$2:$AR$78,2,FALSE))","v":""},{"$f":"IF(D219=\"\",\"\",VLOOKUP($D219,Lists!$AP$2:$AR$78,3,FALSE))","v":""}]
[null,{"$f":"IF(D220=\"\",\"\",VLOOKUP($D220,Lists!$AP$2:$AR$78,2,FALSE))","v":""},{"$f":"IF(D220=\"\",\"\",VLOOKUP($D220,Lists!$AP$2:$AR$78,3,FALSE))","v":""}]
[null,{"$f":"IF(D221=\"\",\"\",VLOOKUP($D221,Lists!$AP$2:$AR$78,2,FALSE))","v":""},{"$f":"IF(D221=\"\",\"\",VLOOKUP($D221,Lists!$AP$2:$AR$78,3,FALSE))","v":""}]
[null,{"$f":"IF(D222=\"\",\"\",VLOOKUP($D222,Lists!$AP$2:$AR$78,2,FALSE))","v":""},{"$f":"IF(D222=\"\",\"\",VLOOKUP($D222,Lists!$AP$2:$AR$78,3,FALSE))","v":""}]
[null,{"$f":"IF(D223=\"\",\"\",VLOOKUP($D223,Lists!$AP$2:$AR$78,2,FALSE))","v":""},{"$f":"IF(D223=\"\",\"\",VLOOKUP($D223,Lists!$AP$2:$AR$78,3,FALSE))","v":""}]
[null,{"$f":"IF(D224=\"\",\"\",VLOOKUP($D224,Lists!$AP$2:$AR$78,2,FALSE))","v":""},{"$f":"IF(D224=\"\",\"\",VLOOKUP($D224,Lists!$AP$2:$AR$78,3,FALSE))","v":""}]
[null,{"$f":"IF(D225=\"\",\"\",VLOOKUP($D225,Lists!$AP$2:$AR$78,2,FALSE))","v":""},{"$f":"IF(D225=\"\",\"\",VLOOKUP($D225,Lists!$AP$2:$AR$78,3,FALSE))","v":""}]
[null,{"$f":"IF(D226=\"\",\"\",VLOOKUP($D226,Lists!$AP$2:$AR$78,2,FALSE))","v":""},{"$f":"IF(D226=\"\",\"\",VLOOKUP($D226,Lists!$AP$2:$AR$78,3,FALSE))","v":""}]
[null,{"$f":"IF(D227=\"\",\"\",VLOOKUP($D227,Lists!$AP$2:$AR$78,2,FALSE))","v":""},{"$f":"IF(D227=\"\",\"\",VLOOKUP($D227,Lists!$AP$2:$AR$78,3,FALSE))","v":""}]
[null,{"$f":"IF(D228=\"\",\"\",VLOOKUP($D228,Lists!$AP$2:$AR$78,2,FALSE))","v":""},{"$f":"IF(D228=\"\",\"\",VLOOKUP($D228,Lists!$AP$2:$AR$78,3,FALSE))","v":""}]
[null,{"$f":"IF(D229=\"\",\"\",VLOOKUP($D229,Lists!$AP$2:$AR$78,2,FALSE))","v":""},{"$f":"IF(D229=\"\",\"\",VLOOKUP($D229,Lists!$AP$2:$AR$78,3,FALSE))","v":""}]
[null,{"$f":"IF(D230=\"\",\"\",VLOOKUP($D230,Lists!$AP$2:$AR$78,2,FALSE))","v":""},{"$f":"IF(D230=\"\",\"\",VLOOKUP($D230,Lists!$AP$2:$AR$78,3,FALSE))","v":""}]
[null,{"$f":"IF(D231=\"\",\"\",VLOOKUP($D231,Lists!$AP$2:$AR$78,2,FALSE))","v":""},{"$f":"IF(D231=\"\",\"\",VLOOKUP($D231,Lists!$AP$2:$AR$78,3,FALSE))","v":""}]
[null,{"$f":"IF(D232=\"\",\"\",VLOOKUP($D232,Lists!$AP$2:$AR$78,2,FALSE))","v":""},{"$f":"IF(D232=\"\",\"\",VLOOKUP($D232,Lists!$AP$2:$AR$78,3,FALSE))","v":""}]
[null,{"$f":"IF(D233=\"\",\"\",VLOOKUP($D233,Lists!$AP$2:$AR$78,2,FALSE))","v":""},{"$f":"IF(D233=\"\",\"\",VLOOKUP($D233,Lists!$AP$2:$AR$78,3,FALSE))","v":""}]
[null,{"$f":"IF(D234=\"\",\"\",VLOOKUP($D234,Lists!$AP$2:$AR$78,2,FALSE))","v":""},{"$f":"IF(D234=\"\",\"\",VLOOKUP($D234,Lists!$AP$2:$AR$78,3,FALSE))","v":""}]
[null,{"$f":"IF(D235=\"\",\"\",VLOOKUP($D235,Lists!$AP$2:$AR$78,2,FALSE))","v":""},{"$f":"IF(D235=\"\",\"\",VLOOKUP($D235,Lists!$AP$2:$AR$78,3,FALSE))","v":""}]
[null,{"$f":"IF(D236=\"\",\"\",VLOOKUP($D236,Lists!$AP$2:$AR$78,2,FALSE))","v":""},{"$f":"IF(D236=\"\",\"\",VLOOKUP($D236,Lists!$AP$2:$AR$78,3,FALSE))","v":""}]
[null,{"$f":"IF(D237=\"\",\"\",VLOOKUP($D237,Lists!$AP$2:$AR$78,2,FALSE))","v":""},{"$f":"IF(D237=\"\",\"\",VLOOKUP($D237,Lists!$AP$2:$AR$78,3,FALSE))","v":""}]
[null,{"$f":"IF(D238=\"\",\"\",VLOOKUP($D238,Lists!$AP$2:$AR$78,2,FALSE))","v":""},{"$f":"IF(D238=\"\",\"\",VLOOKUP($D238,Lists!$AP$2:$AR$78,3,FALSE))","v":""}]
[null,{"$f":"IF(D239=\"\",\"\",VLOOKUP($D239,Lists!$AP$2:$AR$78,2,FALSE))","v":""},{"$f":"IF(D239=\"\",\"\",VLOOKUP($D239,Lists!$AP$2:$AR$78,3,FALSE))","v":""}]
[null,{"$f":"IF(D240=\"\",\"\",VLOOKUP($D240,Lists!$AP$2:$AR$78,2,FALSE))","v":""},{"$f":"IF(D240=\"\",\"\",VLOOKUP($D240,Lists!$AP$2:$AR$78,3,FALSE))","v":""}]
[null,{"$f":"IF(D241=\"\",\"\",VLOOKUP($D241,Lists!$AP$2:$AR$78,2,FALSE))","v":""},{"$f":"IF(D241=\"\",\"\",VLOOKUP($D241,Lists!$AP$2:$AR$78,3,FALSE))","v":""}]
[null,{"$f":"IF(D242=\"\",\"\",VLOOKUP($D242,Lists!$AP$2:$AR$78,2,FALSE))","v":""},{"$f":"IF(D242=\"\",\"\",VLOOKUP($D242,Lists!$AP$2:$AR$78,3,FALSE))","v":""}]
[null,{"$f":"IF(D243=\"\",\"\",VLOOKUP($D243,Lists!$AP$2:$AR$78,2,FALSE))","v":""},{"$f":"IF(D243=\"\",\"\",VLOOKUP($D243,Lists!$AP$2:$AR$78,3,FALSE))","v":""}]
[null,{"$f":"IF(D244=\"\",\"\",VLOOKUP($D244,Lists!$AP$2:$AR$78,2,FALSE))","v":""},{"$f":"IF(D244=\"\",\"\",VLOOKUP($D244,Lists!$AP$2:$AR$78,3,FALSE))","v":""}]
[null,{"$f":"IF(D245=\"\",\"\",VLOOKUP($D245,Lists!$AP$2:$AR$78,2,FALSE))","v":""},{"$f":"IF(D245=\"\",\"\",VLOOKUP($D245,Lists!$AP$2:$AR$78,3,FALSE))","v":""}]
[null,{"$f":"IF(D246=\"\",\"\",VLOOKUP($D246,Lists!$AP$2:$AR$78,2,FALSE))","v":""},{"$f":"IF(D246=\"\",\"\",VLOOKUP($D246,Lists!$AP$2:$AR$78,3,FALSE))","v":""}]
[null,{"$f":"IF(D247=\"\",\"\",VLOOKUP($D247,Lists!$AP$2:$AR$78,2,FALSE))","v":""},{"$f":"IF(D247=\"\",\"\",VLOOKUP($D247,Lists!$AP$2:$AR$78,3,FALSE))","v":""}]
[null,{"$f":"IF(D248=\"\",\"\",VLOOKUP($D248,Lists!$AP$2:$AR$78,2,FALSE))","v":""},{"$f":"IF(D248=\"\",\"\",VLOOKUP($D248,Lists!$AP$2:$AR$78,3,FALSE))","v":""}]
[null,{"$f":"IF(D249=\"\",\"\",VLOOKUP($D249,Lists!$AP$2:$AR$78,2,FALSE))","v":""},{"$f":"IF(D249=\"\",\"\",VLOOKUP($D249,Lists!$AP$2:$AR$78,3,FALSE))","v":""}]
[null,{"$f":"IF(D250=\"\",\"\",VLOOKUP($D250,Lists!$AP$2:$AR$78,2,FALSE))","v":""},{"$f":"IF(D250=\"\",\"\",VLOOKUP($D250,Lists!$AP$2:$AR$78,3,FALSE))","v":""}]
[null,{"$f":"IF(D251=\"\",\"\",VLOOKUP($D251,Lists!$AP$2:$AR$78,2,FALSE))","v":""},{"$f":"IF(D251=\"\",\"\",VLOOKUP($D251,Lists!$AP$2:$AR$78,3,FALSE))","v":""}]
[null,{"$f":"IF(D252=\"\",\"\",VLOOKUP($D252,Lists!$AP$2:$AR$78,2,FALSE))","v":""},{"$f":"IF(D252=\"\",\"\",VLOOKUP($D252,Lists!$AP$2:$AR$78,3,FALSE))","v":""}]
[null,{"$f":"IF(D253=\"\",\"\",VLOOKUP($D253,Lists!$AP$2:$AR$78,2,FALSE))","v":""},{"$f":"IF(D253=\"\",\"\",VLOOKUP($D253,Lists!$AP$2:$AR$78,3,FALSE))","v":""}]
[null,{"$f":"IF(D254=\"\",\"\",VLOOKUP($D254,Lists!$AP$2:$AR$78,2,FALSE))","v":""},{"$f":"IF(D254=\"\",\"\",VLOOKUP($D254,Lists!$AP$2:$AR$78,3,FALSE))","v":""}]
[null,{"$f":"IF(D255=\"\",\"\",VLOOKUP($D255,Lists!$AP$2:$AR$78,2,FALSE))","v":""},{"$f":"IF(D255=\"\",\"\",VLOOKUP($D255,Lists!$AP$2:$AR$78,3,FALSE))","v":""}]
[null,{"$f":"IF(D256=\"\",\"\",VLOOKUP($D256,Lists!$AP$2:$AR$78,2,FALSE))","v":""},{"$f":"IF(D256=\"\",\"\",VLOOKUP($D256,Lists!$AP$2:$AR$78,3,FALSE))","v":""}]
[null,{"$f":"IF(D257=\"\",\"\",VLOOKUP($D257,Lists!$AP$2:$AR$78,2,FALSE))","v":""},{"$f":"IF(D257=\"\",\"\",VLOOKUP($D257,Lists!$AP$2:$AR$78,3,FALSE))","v":""}]
[null,{"$f":"IF(D258=\"\",\"\",VLOOKUP($D258,Lists!$AP$2:$AR$78,2,FALSE))","v":""},{"$f":"IF(D258=\"\",\"\",VLOOKUP($D258,Lists!$AP$2:$AR$78,3,FALSE))","v":""}]
[null,{"$f":"IF(D259=\"\",\"\",VLOOKUP($D259,Lists!$AP$2:$AR$78,2,FALSE))","v":""},{"$f":"IF(D259=\"\",\"\",VLOOKUP($D259,Lists!$AP$2:$AR$78,3,FALSE))","v":""}]
[null,{"$f":"IF(D260=\"\",\"\",VLOOKUP($D260,Lists!$AP$2:$AR$78,2,FALSE))","v":""},{"$f":"IF(D260=\"\",\"\",VLOOKUP($D260,Lists!$AP$2:$AR$78,3,FALSE))","v":""}]
[null,{"$f":"IF(D261=\"\",\"\",VLOOKUP($D261,Lists!$AP$2:$AR$78,2,FALSE))","v":""},{"$f":"IF(D261=\"\",\"\",VLOOKUP($D261,Lists!$AP$2:$AR$78,3,FALSE))","v":""}]
[null,{"$f":"IF(D262=\"\",\"\",VLOOKUP($D262,Lists!$AP$2:$AR$78,2,FALSE))","v":""},{"$f":"IF(D262=\"\",\"\",VLOOKUP($D262,Lists!$AP$2:$AR$78,3,FALSE))","v":""}]
[null,{"$f":"IF(D263=\"\",\"\",VLOOKUP($D263,Lists!$AP$2:$AR$78,2,FALSE))","v":""},{"$f":"IF(D263=\"\",\"\",VLOOKUP($D263,Lists!$AP$2:$AR$78,3,FALSE))","v":""}]
[null,{"$f":"IF(D264=\"\",\"\",VLOOKUP($D264,Lists!$AP$2:$AR$78,2,FALSE))","v":""},{"$f":"IF(D264=\"\",\"\",VLOOKUP($D264,Lists!$AP$2:$AR$78,3,FALSE))","v":""}]
[null,{"$f":"IF(D265=\"\",\"\",VLOOKUP($D265,Lists!$AP$2:$AR$78,2,FALSE))","v":""},{"$f":"IF(D265=\"\",\"\",VLOOKUP($D265,Lists!$AP$2:$AR$78,3,FALSE))","v":""}]
[null,{"$f":"IF(D266=\"\",\"\",VLOOKUP($D266,Lists!$AP$2:$AR$78,2,FALSE))","v":""},{"$f":"IF(D266=\"\",\"\",VLOOKUP($D266,Lists!$AP$2:$AR$78,3,FALSE))","v":""}]
[null,{"$f":"IF(D267=\"\",\"\",VLOOKUP($D267,Lists!$AP$2:$AR$78,2,FALSE))","v":""},{"$f":"IF(D267=\"\",\"\",VLOOKUP($D267,Lists!$AP$2:$AR$78,3,FALSE))","v":""}]
[null,{"$f":"IF(D268=\"\",\"\",VLOOKUP($D268,Lists!$AP$2:$AR$78,2,FALSE))","v":""},{"$f":"IF(D268=\"\",\"\",VLOOKUP($D268,Lists!$AP$2:$AR$78,3,FALSE))","v":""}]
[null,{"$f":"IF(D269=\"\",\"\",VLOOKUP($D269,Lists!$AP$2:$AR$78,2,FALSE))","v":""},{"$f":"IF(D269=\"\",\"\",VLOOKUP($D269,Lists!$AP$2:$AR$78,3,FALSE))","v":""}]
[null,{"$f":"IF(D270=\"\",\"\",VLOOKUP($D270,Lists!$AP$2:$AR$78,2,FALSE))","v":""},{"$f":"IF(D270=\"\",\"\",VLOOKUP($D270,Lists!$AP$2:$AR$78,3,FALSE))","v":""}]
[null,{"$f":"IF(D271=\"\",\"\",VLOOKUP($D271,Lists!$AP$2:$AR$78,2,FALSE))","v":""},{"$f":"IF(D271=\"\",\"\",VLOOKUP($D271,Lists!$AP$2:$AR$78,3,FALSE))","v":""}]
[null,{"$f":"IF(D272=\"\",\"\",VLOOKUP($D272,Lists!$AP$2:$AR$78,2,FALSE))","v":""},{"$f":"IF(D272=\"\",\"\",VLOOKUP($D272,Lists!$AP$2:$AR$78,3,FALSE))","v":""}]
[null,{"$f":"IF(D273=\"\",\"\",VLOOKUP($D273,Lists!$AP$2:$AR$78,2,FALSE))","v":""},{"$f":"IF(D273=\"\",\"\",VLOOKUP($D273,Lists!$AP$2:$AR$78,3,FALSE))","v":""}]
[null,{"$f":"IF(D274=\"\",\"\",VLOOKUP($D274,Lists!$AP$2:$AR$78,2,FALSE))","v":""},{"$f":"IF(D274=\"\",\"\",VLOOKUP($D274,Lists!$AP$2:$AR$78,3,FALSE))","v":""}]
[null,{"$f":"IF(D275=\"\",\"\",VLOOKUP($D275,Lists!$AP$2:$AR$78,2,FALSE))","v":""},{"$f":"IF(D275=\"\",\"\",VLOOKUP($D275,Lists!$AP$2:$AR$78,3,FALSE))","v":""}]
[null,{"$f":"IF(D276=\"\",\"\",VLOOKUP($D276,Lists!$AP$2:$AR$78,2,FALSE))","v":""},{"$f":"IF(D276=\"\",\"\",VLOOKUP($D276,Lists!$AP$2:$AR$78,3,FALSE))","v":""}]
[null,{"$f":"IF(D277=\"\",\"\",VLOOKUP($D277,Lists!$AP$2:$AR$78,2,FALSE))","v":""},{"$f":"IF(D277=\"\",\"\",VLOOKUP($D277,Lists!$AP$2:$AR$78,3,FALSE))","v":""}]
[null,{"$f":"IF(D278=\"\",\"\",VLOOKUP($D278,Lists!$AP$2:$AR$78,2,FALSE))","v":""},{"$f":"IF(D278=\"\",\"\",VLOOKUP($D278,Lists!$AP$2:$AR$78,3,FALSE))","v":""}]
[null,{"$f":"IF(D279=\"\",\"\",VLOOKUP($D279,Lists!$AP$2:$AR$78,2,FALSE))","v":""},{"$f":"IF(D279=\"\",\"\",VLOOKUP($D279,Lists!$AP$2:$AR$78,3,FALSE))","v":""}]
[null,{"$f":"IF(D280=\"\",\"\",VLOOKUP($D280,Lists!$AP$2:$AR$78,2,FALSE))","v":""},{"$f":"IF(D280=\"\",\"\",VLOOKUP($D280,Lists!$AP$2:$AR$78,3,FALSE))","v":""}]
[null,{"$f":"IF(D281=\"\",\"\",VLOOKUP($D281,Lists!$AP$2:$AR$78,2,FALSE))","v":""},{"$f":"IF(D281=\"\",\"\",VLOOKUP($D281,Lists!$AP$2:$AR$78,3,FALSE))","v":""}]
[null,{"$f":"IF(D282=\"\",\"\",VLOOKUP($D282,Lists!$AP$2:$AR$78,2,FALSE))","v":""},{"$f":"IF(D282=\"\",\"\",VLOOKUP($D282,Lists!$AP$2:$AR$78,3,FALSE))","v":""}]
[null,{"$f":"IF(D283=\"\",\"\",VLOOKUP($D283,Lists!$AP$2:$AR$78,2,FALSE))","v":""},{"$f":"IF(D283=\"\",\"\",VLOOKUP($D283,Lists!$AP$2:$AR$78,3,FALSE))","v":""}]
[null,{"$f":"IF(D284=\"\",\"\",VLOOKUP($D284,Lists!$AP$2:$AR$78,2,FALSE))","v":""},{"$f":"IF(D284=\"\",\"\",VLOOKUP($D284,Lists!$AP$2:$AR$78,3,FALSE))","v":""}]
[null,{"$f":"IF(D285=\"\",\"\",VLOOKUP($D285,Lists!$AP$2:$AR$78,2,FALSE))","v":""},{"$f":"IF(D285=\"\",\"\",VLOOKUP($D285,Lists!$AP$2:$AR$78,3,FALSE))","v":""}]
[null,{"$f":"IF(D286=\"\",\"\",VLOOKUP($D286,Lists!$AP$2:$AR$78,2,FALSE))","v":""},{"$f":"IF(D286=\"\",\"\",VLOOKUP($D286,Lists!$AP$2:$AR$78,3,FALSE))","v":""}]
[null,{"$f":"IF(D287=\"\",\"\",VLOOKUP($D287,Lists!$AP$2:$AR$78,2,FALSE))","v":""},{"$f":"IF(D287=\"\",\"\",VLOOKUP($D287,Lists!$AP$2:$AR$78,3,FALSE))","v":""}]
[null,{"$f":"IF(D288=\"\",\"\",VLOOKUP($D288,Lists!$AP$2:$AR$78,2,FALSE))","v":""},{"$f":"IF(D288=\"\",\"\",VLOOKUP($D288,Lists!$AP$2:$AR$78,3,FALSE))","v":""}]
[null,{"$f":"IF(D289=\"\",\"\",VLOOKUP($D289,Lists!$AP$2:$AR$78,2,FALSE))","v":""},{"$f":"IF(D289=\"\",\"\",VLOOKUP($D289,Lists!$AP$2:$AR$78,3,FALSE))","v":""}]
[null,{"$f":"IF(D290=\"\",\"\",VLOOKUP($D290,Lists!$AP$2:$AR$78,2,FALSE))","v":""},{"$f":"IF(D290=\"\",\"\",VLOOKUP($D290,Lists!$AP$2:$AR$78,3,FALSE))","v":""}]
[null,{"$f":"IF(D291=\"\",\"\",VLOOKUP($D291,Lists!$AP$2:$AR$78,2,FALSE))","v":""},{"$f":"IF(D291=\"\",\"\",VLOOKUP($D291,Lists!$AP$2:$AR$78,3,FALSE))","v":""}]
[null,{"$f":"IF(D292=\"\",\"\",VLOOKUP($D292,Lists!$AP$2:$AR$78,2,FALSE))","v":""},{"$f":"IF(D292=\"\",\"\",VLOOKUP($D292,Lists!$AP$2:$AR$78,3,FALSE))","v":""}]
[null,{"$f":"IF(D293=\"\",\"\",VLOOKUP($D293,Lists!$AP$2:$AR$78,2,FALSE))","v":""},{"$f":"IF(D293=\"\",\"\",VLOOKUP($D293,Lists!$AP$2:$AR$78,3,FALSE))","v":""}]
[null,{"$f":"IF(D294=\"\",\"\",VLOOKUP($D294,Lists!$AP$2:$AR$78,2,FALSE))","v":""},{"$f":"IF(D294=\"\",\"\",VLOOKUP($D294,Lists!$AP$2:$AR$78,3,FALSE))","v":""}]
[null,{"$f":"IF(D295=\"\",\"\",VLOOKUP($D295,Lists!$AP$2:$AR$78,2,FALSE))","v":""},{"$f":"IF(D295=\"\",\"\",VLOOKUP($D295,Lists!$AP$2:$AR$78,3,FALSE))","v":""}]
[null,{"$f":"IF(D296=\"\",\"\",VLOOKUP($D296,Lists!$AP$2:$AR$78,2,FALSE))","v":""},{"$f":"IF(D296=\"\",\"\",VLOOKUP($D296,Lists!$AP$2:$AR$78,3,FALSE))","v":""}]
[null,{"$f":"IF(D297=\"\",\"\",VLOOKUP($D297,Lists!$AP$2:$AR$78,2,FALSE))","v":""},{"$f":"IF(D297=\"\",\"\",VLOOKUP($D297,Lists!$AP$2:$AR$78,3,FALSE))","v":""}]
[null,{"$f":"IF(D298=\"\",\"\",VLOOKUP($D298,Lists!$AP$2:$AR$78,2,FALSE))","v":""},{"$f":"IF(D298=\"\",\"\",VLOOKUP($D298,Lists!$AP$2:$AR$78,3,FALSE))","v":""}]
[null,{"$f":"IF(D299=\"\",\"\",VLOOKUP($D299,Lists!$AP$2:$AR$78,2,FALSE))","v":""},{"$f":"IF(D299=\"\",\"\",VLOOKUP($D299,Lists!$AP$2:$AR$78,3,FALSE))","v":""}]
[null,{"$f":"IF(D300=\"\",\"\",VLOOKUP($D300,Lists!$AP$2:$AR$78,2,FALSE))","v":""},{"$f":"IF(D300=\"\",\"\",VLOOKUP($D300,Lists!$AP$2:$AR$78,3,FALSE))","v":""}]
[null,{"$f":"IF(D301=\"\",\"\",VLOOKUP($D301,Lists!$AP$2:$AR$78,2,FALSE))","v":""},{"$f":"IF(D301=\"\",\"\",VLOOKUP($D301,Lists!$AP$2:$AR$78,3,FALSE))","v":""}]
[null,{"$f":"IF(D302=\"\",\"\",VLOOKUP($D302,Lists!$AP$2:$AR$78,2,FALSE))","v":""},{"$f":"IF(D302=\"\",\"\",VLOOKUP($D302,Lists!$AP$2:$AR$78,3,FALSE))","v":""}]
[null,{"$f":"IF(D303=\"\",\"\",VLOOKUP($D303,Lists!$AP$2:$AR$78,2,FALSE))","v":""},{"$f":"IF(D303=\"\",\"\",VLOOKUP($D303,Lists!$AP$2:$AR$78,3,FALSE))","v":""}]
[null,{"$f":"IF(D304=\"\",\"\",VLOOKUP($D304,Lists!$AP$2:$AR$78,2,FALSE))","v":""},{"$f":"IF(D304=\"\",\"\",VLOOKUP($D304,Lists!$AP$2:$AR$78,3,FALSE))","v":""}]
[null,{"$f":"IF(D305=\"\",\"\",VLOOKUP($D305,Lists!$AP$2:$AR$78,2,FALSE))","v":""},{"$f":"IF(D305=\"\",\"\",VLOOKUP($D305,Lists!$AP$2:$AR$78,3,FALSE))","v":""}]
[null,{"$f":"IF(D306=\"\",\"\",VLOOKUP($D306,Lists!$AP$2:$AR$78,2,FALSE))","v":""},{"$f":"IF(D306=\"\",\"\",VLOOKUP($D306,Lists!$AP$2:$AR$78,3,FALSE))","v":""}]
[null,{"$f":"IF(D307=\"\",\"\",VLOOKUP($D307,Lists!$AP$2:$AR$78,2,FALSE))","v":""},{"$f":"IF(D307=\"\",\"\",VLOOKUP($D307,Lists!$AP$2:$AR$78,3,FALSE))","v":""}]
[null,{"$f":"IF(D308=\"\",\"\",VLOOKUP($D308,Lists!$AP$2:$AR$78,2,FALSE))","v":""},{"$f":"IF(D308=\"\",\"\",VLOOKUP($D308,Lists!$AP$2:$AR$78,3,FALSE))","v":""}]
[null,{"$f":"IF(D309=\"\",\"\",VLOOKUP($D309,Lists!$AP$2:$AR$78,2,FALSE))","v":""},{"$f":"IF(D309=\"\",\"\",VLOOKUP($D309,Lists!$AP$2:$AR$78,3,FALSE))","v":""}]
[null,{"$f":"IF(D310=\"\",\"\",VLOOKUP($D310,Lists!$AP$2:$AR$78,2,FALSE))","v":""},{"$f":"IF(D310=\"\",\"\",VLOOKUP($D310,Lists!$AP$2:$AR$78,3,FALSE))","v":""}]
[null,{"$f":"IF(D311=\"\",\"\",VLOOKUP($D311,Lists!$AP$2:$AR$78,2,FALSE))","v":""},{"$f":"IF(D311=\"\",\"\",VLOOKUP($D311,Lists!$AP$2:$AR$78,3,FALSE))","v":""}]
[null,{"$f":"IF(D312=\"\",\"\",VLOOKUP($D312,Lists!$AP$2:$AR$78,2,FALSE))","v":""},{"$f":"IF(D312=\"\",\"\",VLOOKUP($D312,Lists!$AP$2:$AR$78,3,FALSE))","v":""}]
[null,{"$f":"IF(D313=\"\",\"\",VLOOKUP($D313,Lists!$AP$2:$AR$78,2,FALSE))","v":""},{"$f":"IF(D313=\"\",\"\",VLOOKUP($D313,Lists!$AP$2:$AR$78,3,FALSE))","v":""}]
[null,{"$f":"IF(D314=\"\",\"\",VLOOKUP($D314,Lists!$AP$2:$AR$78,2,FALSE))","v":""},{"$f":"IF(D314=\"\",\"\",VLOOKUP($D314,Lists!$AP$2:$AR$78,3,FALSE))","v":""}]
[null,{"$f":"IF(D315=\"\",\"\",VLOOKUP($D315,Lists!$AP$2:$AR$78,2,FALSE))","v":""},{"$f":"IF(D315=\"\",\"\",VLOOKUP($D315,Lists!$AP$2:$AR$78,3,FALSE))","v":""}]
[null,{"$f":"IF(D316=\"\",\"\",VLOOKUP($D316,Lists!$AP$2:$AR$78,2,FALSE))","v":""},{"$f":"IF(D316=\"\",\"\",VLOOKUP($D316,Lists!$AP$2:$AR$78,3,FALSE))","v":""}]
[null,{"$f":"IF(D317=\"\",\"\",VLOOKUP($D317,Lists!$AP$2:$AR$78,2,FALSE))","v":""},{"$f":"IF(D317=\"\",\"\",VLOOKUP($D317,Lists!$AP$2:$AR$78,3,FALSE))","v":""}]
[null,{"$f":"IF(D318=\"\",\"\",VLOOKUP($D318,Lists!$AP$2:$AR$78,2,FALSE))","v":""},{"$f":"IF(D318=\"\",\"\",VLOOKUP($D318,Lists!$AP$2:$AR$78,3,FALSE))","v":""}]
[null,{"$f":"IF(D319=\"\",\"\",VLOOKUP($D319,Lists!$AP$2:$AR$78,2,FALSE))","v":""},{"$f":"IF(D319=\"\",\"\",VLOOKUP($D319,Lists!$AP$2:$AR$78,3,FALSE))","v":""}]
[null,{"$f":"IF(D320=\"\",\"\",VLOOKUP($D320,Lists!$AP$2:$AR$78,2,FALSE))","v":""},{"$f":"IF(D320=\"\",\"\",VLOOKUP($D320,Lists!$AP$2:$AR$78,3,FALSE))","v":""}]
[null,{"$f":"IF(D321=\"\",\"\",VLOOKUP($D321,Lists!$AP$2:$AR$78,2,FALSE))","v":""},{"$f":"IF(D321=\"\",\"\",VLOOKUP($D321,Lists!$AP$2:$AR$78,3,FALSE))","v":""}]
[null,{"$f":"IF(D322=\"\",\"\",VLOOKUP($D322,Lists!$AP$2:$AR$78,2,FALSE))","v":""},{"$f":"IF(D322=\"\",\"\",VLOOKUP($D322,Lists!$AP$2:$AR$78,3,FALSE))","v":""}]
[null,{"$f":"IF(D323=\"\",\"\",VLOOKUP($D323,Lists!$AP$2:$AR$78,2,FALSE))","v":""},{"$f":"IF(D323=\"\",\"\",VLOOKUP($D323,Lists!$AP$2:$AR$78,3,FALSE))","v":""}]
[null,{"$f":"IF(D324=\"\",\"\",VLOOKUP($D324,Lists!$AP$2:$AR$78,2,FALSE))","v":""},{"$f":"IF(D324=\"\",\"\",VLOOKUP($D324,Lists!$AP$2:$AR$78,3,FALSE))","v":""}]
[null,{"$f":"IF(D325=\"\",\"\",VLOOKUP($D325,Lists!$AP$2:$AR$78,2,FALSE))","v":""},{"$f":"IF(D325=\"\",\"\",VLOOKUP($D325,Lists!$AP$2:$AR$78,3,FALSE))","v":""}]
[null,{"$f":"IF(D326=\"\",\"\",VLOOKUP($D326,Lists!$AP$2:$AR$78,2,FALSE))","v":""},{"$f":"IF(D326=\"\",\"\",VLOOKUP($D326,Lists!$AP$2:$AR$78,3,FALSE))","v":""}]
[null,{"$f":"IF(D327=\"\",\"\",VLOOKUP($D327,Lists!$AP$2:$AR$78,2,FALSE))","v":""},{"$f":"IF(D327=\"\",\"\",VLOOKUP($D327,Lists!$AP$2:$AR$78,3,FALSE))","v":""}]
[null,{"$f":"IF(D328=\"\",\"\",VLOOKUP($D328,Lists!$AP$2:$AR$78,2,FALSE))","v":""},{"$f":"IF(D328=\"\",\"\",VLOOKUP($D328,Lists!$AP$2:$AR$78,3,FALSE))","v":""}]
[null,{"$f":"IF(D329=\"\",\"\",VLOOKUP($D329,Lists!$AP$2:$AR$78,2,FALSE))","v":""},{"$f":"IF(D329=\"\",\"\",VLOOKUP($D329,Lists!$AP$2:$AR$78,3,FALSE))","v":""}]
[null,{"$f":"IF(D330=\"\",\"\",VLOOKUP($D330,Lists!$AP$2:$AR$78,2,FALSE))","v":""},{"$f":"IF(D330=\"\",\"\",VLOOKUP($D330,Lists!$AP$2:$AR$78,3,FALSE))","v":""}]
[null,{"$f":"IF(D331=\"\",\"\",VLOOKUP($D331,Lists!$AP$2:$AR$78,2,FALSE))","v":""},{"$f":"IF(D331=\"\",\"\",VLOOKUP($D331,Lists!$AP$2:$AR$78,3,FALSE))","v":""}]
[null,{"$f":"IF(D332=\"\",\"\",VLOOKUP($D332,Lists!$AP$2:$AR$78,2,FALSE))","v":""},{"$f":"IF(D332=\"\",\"\",VLOOKUP($D332,Lists!$AP$2:$AR$78,3,FALSE))","v":""}]
[null,{"$f":"IF(D333=\"\",\"\",VLOOKUP($D333,Lists!$AP$2:$AR$78,2,FALSE))","v":""},{"$f":"IF(D333=\"\",\"\",VLOOKUP($D333,Lists!$AP$2:$AR$78,3,FALSE))","v":""}]
[null,{"$f":"IF(D334=\"\",\"\",VLOOKUP($D334,Lists!$AP$2:$AR$78,2,FALSE))","v":""},{"$f":"IF(D334=\"\",\"\",VLOOKUP($D334,Lists!$AP$2:$AR$78,3,FALSE))","v":""}]
[null,{"$f":"IF(D335=\"\",\"\",VLOOKUP($D335,Lists!$AP$2:$AR$78,2,FALSE))","v":""},{"$f":"IF(D335=\"\",\"\",VLOOKUP($D335,Lists!$AP$2:$AR$78,3,FALSE))","v":""}]
[null,{"$f":"IF(D336=\"\",\"\",VLOOKUP($D336,Lists!$AP$2:$AR$78,2,FALSE))","v":""},{"$f":"IF(D336=\"\",\"\",VLOOKUP($D336,Lists!$AP$2:$AR$78,3,FALSE))","v":""}]
[null,{"$f":"IF(D337=\"\",\"\",VLOOKUP($D337,Lists!$AP$2:$AR$78,2,FALSE))","v":""},{"$f":"IF(D337=\"\",\"\",VLOOKUP($D337,Lists!$AP$2:$AR$78,3,FALSE))","v":""}]
[null,{"$f":"IF(D338=\"\",\"\",VLOOKUP($D338,Lists!$AP$2:$AR$78,2,FALSE))","v":""},{"$f":"IF(D338=\"\",\"\",VLOOKUP($D338,Lists!$AP$2:$AR$78,3,FALSE))","v":""}]
[null,{"$f":"IF(D339=\"\",\"\",VLOOKUP($D339,Lists!$AP$2:$AR$78,2,FALSE))","v":""},{"$f":"IF(D339=\"\",\"\",VLOOKUP($D339,Lists!$AP$2:$AR$78,3,FALSE))","v":""}]
[null,{"$f":"IF(D340=\"\",\"\",VLOOKUP($D340,Lists!$AP$2:$AR$78,2,FALSE))","v":""},{"$f":"IF(D340=\"\",\"\",VLOOKUP($D340,Lists!$AP$2:$AR$78,3,FALSE))","v":""}]
[null,{"$f":"IF(D341=\"\",\"\",VLOOKUP($D341,Lists!$AP$2:$AR$78,2,FALSE))","v":""},{"$f":"IF(D341=\"\",\"\",VLOOKUP($D341,Lists!$AP$2:$AR$78,3,FALSE))","v":""}]
[null,{"$f":"IF(D342=\"\",\"\",VLOOKUP($D342,Lists!$AP$2:$AR$78,2,FALSE))","v":""},{"$f":"IF(D342=\"\",\"\",VLOOKUP($D342,Lists!$AP$2:$AR$78,3,FALSE))","v":""}]
[null,{"$f":"IF(D343=\"\",\"\",VLOOKUP($D343,Lists!$AP$2:$AR$78,2,FALSE))","v":""},{"$f":"IF(D343=\"\",\"\",VLOOKUP($D343,Lists!$AP$2:$AR$78,3,FALSE))","v":""}]
[null,{"$f":"IF(D344=\"\",\"\",VLOOKUP($D344,Lists!$AP$2:$AR$78,2,FALSE))","v":""},{"$f":"IF(D344=\"\",\"\",VLOOKUP($D344,Lists!$AP$2:$AR$78,3,FALSE))","v":""}]
[null,{"$f":"IF(D345=\"\",\"\",VLOOKUP($D345,Lists!$AP$2:$AR$78,2,FALSE))","v":""},{"$f":"IF(D345=\"\",\"\",VLOOKUP($D345,Lists!$AP$2:$AR$78,3,FALSE))","v":""}]
[null,{"$f":"IF(D346=\"\",\"\",VLOOKUP($D346,Lists!$AP$2:$AR$78,2,FALSE))","v":""},{"$f":"IF(D346=\"\",\"\",VLOOKUP($D346,Lists!$AP$2:$AR$78,3,FALSE))","v":""}]
[null,{"$f":"IF(D347=\"\",\"\",VLOOKUP($D347,Lists!$AP$2:$AR$78,2,FALSE))","v":""},{"$f":"IF(D347=\"\",\"\",VLOOKUP($D347,Lists!$AP$2:$AR$78,3,FALSE))","v":""}]
[null,{"$f":"IF(D348=\"\",\"\",VLOOKUP($D348,Lists!$AP$2:$AR$78,2,FALSE))","v":""},{"$f":"IF(D348=\"\",\"\",VLOOKUP($D348,Lists!$AP$2:$AR$78,3,FALSE))","v":""}]
[null,{"$f":"IF(D349=\"\",\"\",VLOOKUP($D349,Lists!$AP$2:$AR$78,2,FALSE))","v":""},{"$f":"IF(D349=\"\",\"\",VLOOKUP($D349,Lists!$AP$2:$AR$78,3,FALSE))","v":""}]
[null,{"$f":"IF(D350=\"\",\"\",VLOOKUP($D350,Lists!$AP$2:$AR$78,2,FALSE))","v":""},{"$f":"IF(D350=\"\",\"\",VLOOKUP($D350,Lists!$AP$2:$AR$78,3,FALSE))","v":""}]
[null,{"$f":"IF(D351=\"\",\"\",VLOOKUP($D351,Lists!$AP$2:$AR$78,2,FALSE))","v":""},{"$f":"IF(D351=\"\",\"\",VLOOKUP($D351,Lists!$AP$2:$AR$78,3,FALSE))","v":""}]
[null,{"$f":"IF(D352=\"\",\"\",VLOOKUP($D352,Lists!$AP$2:$AR$78,2,FALSE))","v":""},{"$f":"IF(D352=\"\",\"\",VLOOKUP($D352,Lists!$AP$2:$AR$78,3,FALSE))","v":""}]
[null,{"$f":"IF(D353=\"\",\"\",VLOOKUP($D353,Lists!$AP$2:$AR$78,2,FALSE))","v":""},{"$f":"IF(D353=\"\",\"\",VLOOKUP($D353,Lists!$AP$2:$AR$78,3,FALSE))","v":""}]
[null,{"$f":"IF(D354=\"\",\"\",VLOOKUP($D354,Lists!$AP$2:$AR$78,2,FALSE))","v":""},{"$f":"IF(D354=\"\",\"\",VLOOKUP($D354,Lists!$AP$2:$AR$78,3,FALSE))","v":""}]
[null,{"$f":"IF(D355=\"\",\"\",VLOOKUP($D355,Lists!$AP$2:$AR$78,2,FALSE))","v":""},{"$f":"IF(D355=\"\",\"\",VLOOKUP($D355,Lists!$AP$2:$AR$78,3,FALSE))","v":""}]
[null,{"$f":"IF(D356=\"\",\"\",VLOOKUP($D356,Lists!$AP$2:$AR$78,2,FALSE))","v":""},{"$f":"IF(D356=\"\",\"\",VLOOKUP($D356,Lists!$AP$2:$AR$78,3,FALSE))","v":""}]
[null,{"$f":"IF(D357=\"\",\"\",VLOOKUP($D357,Lists!$AP$2:$AR$78,2,FALSE))","v":""},{"$f":"IF(D357=\"\",\"\",VLOOKUP($D357,Lists!$AP$2:$AR$78,3,FALSE))","v":""}]
[null,{"$f":"IF(D358=\"\",\"\",VLOOKUP($D358,Lists!$AP$2:$AR$78,2,FALSE))","v":""},{"$f":"IF(D358=\"\",\"\",VLOOKUP($D358,Lists!$AP$2:$AR$78,3,FALSE))","v":""}]
[null,{"$f":"IF(D359=\"\",\"\",VLOOKUP($D359,Lists!$AP$2:$AR$78,2,FALSE))","v":""},{"$f":"IF(D359=\"\",\"\",VLOOKUP($D359,Lists!$AP$2:$AR$78,3,FALSE))","v":""}]
[null,{"$f":"IF(D360=\"\",\"\",VLOOKUP($D360,Lists!$AP$2:$AR$78,2,FALSE))","v":""},{"$f":"IF(D360=\"\",\"\",VLOOKUP($D360,Lists!$AP$2:$AR$78,3,FALSE))","v":""}]
[null,{"$f":"IF(D361=\"\",\"\",VLOOKUP($D361,Lists!$AP$2:$AR$78,2,FALSE))","v":""},{"$f":"IF(D361=\"\",\"\",VLOOKUP($D361,Lists!$AP$2:$AR$78,3,FALSE))","v":""}]
[null,{"$f":"IF(D362=\"\",\"\",VLOOKUP($D362,Lists!$AP$2:$AR$78,2,FALSE))","v":""},{"$f":"IF(D362=\"\",\"\",VLOOKUP($D362,Lists!$AP$2:$AR$78,3,FALSE))","v":""}]
[null,{"$f":"IF(D363=\"\",\"\",VLOOKUP($D363,Lists!$AP$2:$AR$78,2,FALSE))","v":""},{"$f":"IF(D363=\"\",\"\",VLOOKUP($D363,Lists!$AP$2:$AR$78,3,FALSE))","v":""}]
[null,{"$f":"IF(D364=\"\",\"\",VLOOKUP($D364,Lists!$AP$2:$AR$78,2,FALSE))","v":""},{"$f":"IF(D364=\"\",\"\",VLOOKUP($D364,Lists!$AP$2:$AR$78,3,FALSE))","v":""}]
[null,{"$f":"IF(D365=\"\",\"\",VLOOKUP($D365,Lists!$AP$2:$AR$78,2,FALSE))","v":""},{"$f":"IF(D365=\"\",\"\",VLOOKUP($D365,Lists!$AP$2:$AR$78,3,FALSE))","v":""}]
[null,{"$f":"IF(D366=\"\",\"\",VLOOKUP($D366,Lists!$AP$2:$AR$78,2,FALSE))","v":""},{"$f":"IF(D366=\"\",\"\",VLOOKUP($D366,Lists!$AP$2:$AR$78,3,FALSE))","v":""}]
[null,{"$f":"IF(D367=\"\",\"\",VLOOKUP($D367,Lists!$AP$2:$AR$78,2,FALSE))","v":""},{"$f":"IF(D367=\"\",\"\",VLOOKUP($D367,Lists!$AP$2:$AR$78,3,FALSE))","v":""}]
[null,{"$f":"IF(D368=\"\",\"\",VLOOKUP($D368,Lists!$AP$2:$AR$78,2,FALSE))","v":""},{"$f":"IF(D368=\"\",\"\",VLOOKUP($D368,Lists!$AP$2:$AR$78,3,FALSE))","v":""}]
[null,{"$f":"IF(D369=\"\",\"\",VLOOKUP($D369,Lists!$AP$2:$AR$78,2,FALSE))","v":""},{"$f":"IF(D369=\"\",\"\",VLOOKUP($D369,Lists!$AP$2:$AR$78,3,FALSE))","v":""}]
[null,{"$f":"IF(D370=\"\",\"\",VLOOKUP($D370,Lists!$AP$2:$AR$78,2,FALSE))","v":""},{"$f":"IF(D370=\"\",\"\",VLOOKUP($D370,Lists!$AP$2:$AR$78,3,FALSE))","v":""}]
[null,{"$f":"IF(D371=\"\",\"\",VLOOKUP($D371,Lists!$AP$2:$AR$78,2,FALSE))","v":""},{"$f":"IF(D371=\"\",\"\",VLOOKUP($D371,Lists!$AP$2:$AR$78,3,FALSE))","v":""}]
[null,{"$f":"IF(D372=\"\",\"\",VLOOKUP($D372,Lists!$AP$2:$AR$78,2,FALSE))","v":""},{"$f":"IF(D372=\"\",\"\",VLOOKUP($D372,Lists!$AP$2:$AR$78,3,FALSE))","v":""}]
[null,{"$f":"IF(D373=\"\",\"\",VLOOKUP($D373,Lists!$AP$2:$AR$78,2,FALSE))","v":""},{"$f":"IF(D373=\"\",\"\",VLOOKUP($D373,Lists!$AP$2:$AR$78,3,FALSE))","v":""}]
[null,{"$f":"IF(D374=\"\",\"\",VLOOKUP($D374,Lists!$AP$2:$AR$78,2,FALSE))","v":""},{"$f":"IF(D374=\"\",\"\",VLOOKUP($D374,Lists!$AP$2:$AR$78,3,FALSE))","v":""}]
[null,{"$f":"IF(D375=\"\",\"\",VLOOKUP($D375,Lists!$AP$2:$AR$78,2,FALSE))","v":""},{"$f":"IF(D375=\"\",\"\",VLOOKUP($D375,Lists!$AP$2:$AR$78,3,FALSE))","v":""}]
[null,{"$f":"IF(D376=\"\",\"\",VLOOKUP($D376,Lists!$AP$2:$AR$78,2,FALSE))","v":""},{"$f":"IF(D376=\"\",\"\",VLOOKUP($D376,Lists!$AP$2:$AR$78,3,FALSE))","v":""}]
[null,{"$f":"IF(D377=\"\",\"\",VLOOKUP($D377,Lists!$AP$2:$AR$78,2,FALSE))","v":""},{"$f":"IF(D377=\"\",\"\",VLOOKUP($D377,Lists!$AP$2:$AR$78,3,FALSE))","v":""}]
[null,{"$f":"IF(D378=\"\",\"\",VLOOKUP($D378,Lists!$AP$2:$AR$78,2,FALSE))","v":""},{"$f":"IF(D378=\"\",\"\",VLOOKUP($D378,Lists!$AP$2:$AR$78,3,FALSE))","v":""}]
[null,{"$f":"IF(D379=\"\",\"\",VLOOKUP($D379,Lists!$AP$2:$AR$78,2,FALSE))","v":""},{"$f":"IF(D379=\"\",\"\",VLOOKUP($D379,Lists!$AP$2:$AR$78,3,FALSE))","v":""}]
[null,{"$f":"IF(D380=\"\",\"\",VLOOKUP($D380,Lists!$AP$2:$AR$78,2,FALSE))","v":""},{"$f":"IF(D380=\"\",\"\",VLOOKUP($D380,Lists!$AP$2:$AR$78,3,FALSE))","v":""}]
[null,{"$f":"IF(D381=\"\",\"\",VLOOKUP($D381,Lists!$AP$2:$AR$78,2,FALSE))","v":""},{"$f":"IF(D381=\"\",\"\",VLOOKUP($D381,Lists!$AP$2:$AR$78,3,FALSE))","v":""}]
[null,{"$f":"IF(D382=\"\",\"\",VLOOKUP($D382,Lists!$AP$2:$AR$78,2,FALSE))","v":""},{"$f":"IF(D382=\"\",\"\",VLOOKUP($D382,Lists!$AP$2:$AR$78,3,FALSE))","v":""}]
[null,{"$f":"IF(D383=\"\",\"\",VLOOKUP($D383,Lists!$AP$2:$AR$78,2,FALSE))","v":""},{"$f":"IF(D383=\"\",\"\",VLOOKUP($D383,Lists!$AP$2:$AR$78,3,FALSE))","v":""}]
[null,{"$f":"IF(D384=\"\",\"\",VLOOKUP($D384,Lists!$AP$2:$AR$78,2,FALSE))","v":""},{"$f":"IF(D384=\"\",\"\",VLOOKUP($D384,Lists!$AP$2:$AR$78,3,FALSE))","v":""}]
[null,{"$f":"IF(D385=\"\",\"\",VLOOKUP($D385,Lists!$AP$2:$AR$78,2,FALSE))","v":""},{"$f":"IF(D385=\"\",\"\",VLOOKUP($D385,Lists!$AP$2:$AR$78,3,FALSE))","v":""}]
[null,{"$f":"IF(D386=\"\",\"\",VLOOKUP($D386,Lists!$AP$2:$AR$78,2,FALSE))","v":""},{"$f":"IF(D386=\"\",\"\",VLOOKUP($D386,Lists!$AP$2:$AR$78,3,FALSE))","v":""}]
[null,{"$f":"IF(D387=\"\",\"\",VLOOKUP($D387,Lists!$AP$2:$AR$78,2,FALSE))","v":""},{"$f":"IF(D387=\"\",\"\",VLOOKUP($D387,Lists!$AP$2:$AR$78,3,FALSE))","v":""}]
[null,{"$f":"IF(D388=\"\",\"\",VLOOKUP($D388,Lists!$AP$2:$AR$78,2,FALSE))","v":""},{"$f":"IF(D388=\"\",\"\",VLOOKUP($D388,Lists!$AP$2:$AR$78,3,FALSE))","v":""}]
[null,{"$f":"IF(D389=\"\",\"\",VLOOKUP($D389,Lists!$AP$2:$AR$78,2,FALSE))","v":""},{"$f":"IF(D389=\"\",\"\",VLOOKUP($D389,Lists!$AP$2:$AR$78,3,FALSE))","v":""}]
[null,{"$f":"IF(D390=\"\",\"\",VLOOKUP($D390,Lists!$AP$2:$AR$78,2,FALSE))","v":""},{"$f":"IF(D390=\"\",\"\",VLOOKUP($D390,Lists!$AP$2:$AR$78,3,FALSE))","v":""}]
[null,{"$f":"IF(D391=\"\",\"\",VLOOKUP($D391,Lists!$AP$2:$AR$78,2,FALSE))","v":""},{"$f":"IF(D391=\"\",\"\",VLOOKUP($D391,Lists!$AP$2:$AR$78,3,FALSE))","v":""}]
[null,{"$f":"IF(D392=\"\",\"\",VLOOKUP($D392,Lists!$AP$2:$AR$78,2,FALSE))","v":""},{"$f":"IF(D392=\"\",\"\",VLOOKUP($D392,Lists!$AP$2:$AR$78,3,FALSE))","v":""}]
[null,{"$f":"IF(D393=\"\",\"\",VLOOKUP($D393,Lists!$AP$2:$AR$78,2,FALSE))","v":""},{"$f":"IF(D393=\"\",\"\",VLOOKUP($D393,Lists!$AP$2:$AR$78,3,FALSE))","v":""}]
[null,{"$f":"IF(D394=\"\",\"\",VLOOKUP($D394,Lists!$AP$2:$AR$78,2,FALSE))","v":""},{"$f":"IF(D394=\"\",\"\",VLOOKUP($D394,Lists!$AP$2:$AR$78,3,FALSE))","v":""}]
[null,{"$f":"IF(D395=\"\",\"\",VLOOKUP($D395,Lists!$AP$2:$AR$78,2,FALSE))","v":""},{"$f":"IF(D395=\"\",\"\",VLOOKUP($D395,Lists!$AP$2:$AR$78,3,FALSE))","v":""}]
[null,{"$f":"IF(D396=\"\",\"\",VLOOKUP($D396,Lists!$AP$2:$AR$78,2,FALSE))","v":""},{"$f":"IF(D396=\"\",\"\",VLOOKUP($D396,Lists!$AP$2:$AR$78,3,FALSE))","v":""}]
[null,{"$f":"IF(D397=\"\",\"\",VLOOKUP($D397,Lists!$AP$2:$AR$78,2,FALSE))","v":""},{"$f":"IF(D397=\"\",\"\",VLOOKUP($D397,Lists!$AP$2:$AR$78,3,FALSE))","v":""}]
[null,{"$f":"IF(D398=\"\",\"\",VLOOKUP($D398,Lists!$AP$2:$AR$78,2,FALSE))","v":""},{"$f":"IF(D398=\"\",\"\",VLOOKUP($D398,Lists!$AP$2:$AR$78,3,FALSE))","v":""}]
[null,{"$f":"IF(D399=\"\",\"\",VLOOKUP($D399,Lists!$AP$2:$AR$78,2,FALSE))","v":""},{"$f":"IF(D399=\"\",\"\",VLOOKUP($D399,Lists!$AP$2:$AR$78,3,FALSE))","v":""}]
[null,{"$f":"IF(D400=\"\",\"\",VLOOKUP($D400,Lists!$AP$2:$AR$78,2,FALSE))","v":""},{"$f":"IF(D400=\"\",\"\",VLOOKUP($D400,Lists!$AP$2:$AR$78,3,FALSE))","v":""}]
[null,{"$f":"IF(D401=\"\",\"\",VLOOKUP($D401,Lists!$AP$2:$AR$78,2,FALSE))","v":""},{"$f":"IF(D401=\"\",\"\",VLOOKUP($D401,Lists!$AP$2:$AR$78,3,FALSE))","v":""}]
[null,{"$f":"IF(D402=\"\",\"\",VLOOKUP($D402,Lists!$AP$2:$AR$78,2,FALSE))","v":""},{"$f":"IF(D402=\"\",\"\",VLOOKUP($D402,Lists!$AP$2:$AR$78,3,FALSE))","v":""}]
[null,{"$f":"IF(D403=\"\",\"\",VLOOKUP($D403,Lists!$AP$2:$AR$78,2,FALSE))","v":""},{"$f":"IF(D403=\"\",\"\",VLOOKUP($D403,Lists!$AP$2:$AR$78,3,FALSE))","v":""}]
[null,{"$f":"IF(D404=\"\",\"\",VLOOKUP($D404,Lists!$AP$2:$AR$78,2,FALSE))","v":""},{"$f":"IF(D404=\"\",\"\",VLOOKUP($D404,Lists!$AP$2:$AR$78,3,FALSE))","v":""}]
[null,{"$f":"IF(D405=\"\",\"\",VLOOKUP($D405,Lists!$AP$2:$AR$78,2,FALSE))","v":""},{"$f":"IF(D405=\"\",\"\",VLOOKUP($D405,Lists!$AP$2:$AR$78,3,FALSE))","v":""}]
[null,{"$f":"IF(D406=\"\",\"\",VLOOKUP($D406,Lists!$AP$2:$AR$78,2,FALSE))","v":""},{"$f":"IF(D406=\"\",\"\",VLOOKUP($D406,Lists!$AP$2:$AR$78,3,FALSE))","v":""}]
[null,{"$f":"IF(D407=\"\",\"\",VLOOKUP($D407,Lists!$AP$2:$AR$78,2,FALSE))","v":""},{"$f":"IF(D407=\"\",\"\",VLOOKUP($D407,Lists!$AP$2:$AR$78,3,FALSE))","v":""}]
[null,{"$f":"IF(D408=\"\",\"\",VLOOKUP($D408,Lists!$AP$2:$AR$78,2,FALSE))","v":""},{"$f":"IF(D408=\"\",\"\",VLOOKUP($D408,Lists!$AP$2:$AR$78,3,FALSE))","v":""}]
[null,{"$f":"IF(D409=\"\",\"\",VLOOKUP($D409,Lists!$AP$2:$AR$78,2,FALSE))","v":""},{"$f":"IF(D409=\"\",\"\",VLOOKUP($D409,Lists!$AP$2:$AR$78,3,FALSE))","v":""}]
[null,{"$f":"IF(D410=\"\",\"\",VLOOKUP($D410,Lists!$AP$2:$AR$78,2,FALSE))","v":""},{"$f":"IF(D410=\"\",\"\",VLOOKUP($D410,Lists!$AP$2:$AR$78,3,FALSE))","v":""}]
[null,{"$f":"IF(D411=\"\",\"\",VLOOKUP($D411,Lists!$AP$2:$AR$78,2,FALSE))","v":""},{"$f":"IF(D411=\"\",\"\",VLOOKUP($D411,Lists!$AP$2:$AR$78,3,FALSE))","v":""}]
[null,{"$f":"IF(D412=\"\",\"\",VLOOKUP($D412,Lists!$AP$2:$AR$78,2,FALSE))","v":""},{"$f":"IF(D412=\"\",\"\",VLOOKUP($D412,Lists!$AP$2:$AR$78,3,FALSE))","v":""}]
[null,{"$f":"IF(D413=\"\",\"\",VLOOKUP($D413,Lists!$AP$2:$AR$78,2,FALSE))","v":""},{"$f":"IF(D413=\"\",\"\",VLOOKUP($D413,Lists!$AP$2:$AR$78,3,FALSE))","v":""}]
[null,{"$f":"IF(D414=\"\",\"\",VLOOKUP($D414,Lists!$AP$2:$AR$78,2,FALSE))","v":""},{"$f":"IF(D414=\"\",\"\",VLOOKUP($D414,Lists!$AP$2:$AR$78,3,FALSE))","v":""}]
[null,{"$f":"IF(D415=\"\",\"\",VLOOKUP($D415,Lists!$AP$2:$AR$78,2,FALSE))","v":""},{"$f":"IF(D415=\"\",\"\",VLOOKUP($D415,Lists!$AP$2:$AR$78,3,FALSE))","v":""}]
[null,{"$f":"IF(D416=\"\",\"\",VLOOKUP($D416,Lists!$AP$2:$AR$78,2,FALSE))","v":""},{"$f":"IF(D416=\"\",\"\",VLOOKUP($D416,Lists!$AP$2:$AR$78,3,FALSE))","v":""}]
[null,{"$f":"IF(D417=\"\",\"\",VLOOKUP($D417,Lists!$AP$2:$AR$78,2,FALSE))","v":""},{"$f":"IF(D417=\"\",\"\",VLOOKUP($D417,Lists!$AP$2:$AR$78,3,FALSE))","v":""}]
[null,{"$f":"IF(D418=\"\",\"\",VLOOKUP($D418,Lists!$AP$2:$AR$78,2,FALSE))","v":""},{"$f":"IF(D418=\"\",\"\",VLOOKUP($D418,Lists!$AP$2:$AR$78,3,FALSE))","v":""}]
[null,{"$f":"IF(D419=\"\",\"\",VLOOKUP($D419,Lists!$AP$2:$AR$78,2,FALSE))","v":""},{"$f":"IF(D419=\"\",\"\",VLOOKUP($D419,Lists!$AP$2:$AR$78,3,FALSE))","v":""}]
[null,{"$f":"IF(D420=\"\",\"\",VLOOKUP($D420,Lists!$AP$2:$AR$78,2,FALSE))","v":""},{"$f":"IF(D420=\"\",\"\",VLOOKUP($D420,Lists!$AP$2:$AR$78,3,FALSE))","v":""}]
[null,{"$f":"IF(D421=\"\",\"\",VLOOKUP($D421,Lists!$AP$2:$AR$78,2,FALSE))","v":""},{"$f":"IF(D421=\"\",\"\",VLOOKUP($D421,Lists!$AP$2:$AR$78,3,FALSE))","v":""}]
[null,{"$f":"IF(D422=\"\",\"\",VLOOKUP($D422,Lists!$AP$2:$AR$78,2,FALSE))","v":""},{"$f":"IF(D422=\"\",\"\",VLOOKUP($D422,Lists!$AP$2:$AR$78,3,FALSE))","v":""}]
[null,{"$f":"IF(D423=\"\",\"\",VLOOKUP($D423,Lists!$AP$2:$AR$78,2,FALSE))","v":""},{"$f":"IF(D423=\"\",\"\",VLOOKUP($D423,Lists!$AP$2:$AR$78,3,FALSE))","v":""}]
[null,{"$f":"IF(D424=\"\",\"\",VLOOKUP($D424,Lists!$AP$2:$AR$78,2,FALSE))","v":""},{"$f":"IF(D424=\"\",\"\",VLOOKUP($D424,Lists!$AP$2:$AR$78,3,FALSE))","v":""}]
[null,{"$f":"IF(D425=\"\",\"\",VLOOKUP($D425,Lists!$AP$2:$AR$78,2,FALSE))","v":""},{"$f":"IF(D425=\"\",\"\",VLOOKUP($D425,Lists!$AP$2:$AR$78,3,FALSE))","v":""}]
[null,{"$f":"IF(D426=\"\",\"\",VLOOKUP($D426,Lists!$AP$2:$AR$78,2,FALSE))","v":""},{"$f":"IF(D426=\"\",\"\",VLOOKUP($D426,Lists!$AP$2:$AR$78,3,FALSE))","v":""}]
[null,{"$f":"IF(D427=\"\",\"\",VLOOKUP($D427,Lists!$AP$2:$AR$78,2,FALSE))","v":""},{"$f":"IF(D427=\"\",\"\",VLOOKUP($D427,Lists!$AP$2:$AR$78,3,FALSE))","v":""}]
[null,{"$f":"IF(D428=\"\",\"\",VLOOKUP($D428,Lists!$AP$2:$AR$78,2,FALSE))","v":""},{"$f":"IF(D428=\"\",\"\",VLOOKUP($D428,Lists!$AP$2:$AR$78,3,FALSE))","v":""}]
[null,{"$f":"IF(D429=\"\",\"\",VLOOKUP($D429,Lists!$AP$2:$AR$78,2,FALSE))","v":""},{"$f":"IF(D429=\"\",\"\",VLOOKUP($D429,Lists!$AP$2:$AR$78,3,FALSE))","v":""}]
[null,{"$f":"IF(D430=\"\",\"\",VLOOKUP($D430,Lists!$AP$2:$AR$78,2,FALSE))","v":""},{"$f":"IF(D430=\"\",\"\",VLOOKUP($D430,Lists!$AP$2:$AR$78,3,FALSE))","v":""}]
[null,{"$f":"IF(D431=\"\",\"\",VLOOKUP($D431,Lists!$AP$2:$AR$78,2,FALSE))","v":""},{"$f":"IF(D431=\"\",\"\",VLOOKUP($D431,Lists!$AP$2:$AR$78,3,FALSE))","v":""}]
[null,{"$f":"IF(D432=\"\",\"\",VLOOKUP($D432,Lists!$AP$2:$AR$78,2,FALSE))","v":""},{"$f":"IF(D432=\"\",\"\",VLOOKUP($D432,Lists!$AP$2:$AR$78,3,FALSE))","v":""}]
[null,{"$f":"IF(D433=\"\",\"\",VLOOKUP($D433,Lists!$AP$2:$AR$78,2,FALSE))","v":""},{"$f":"IF(D433=\"\",\"\",VLOOKUP($D433,Lists!$AP$2:$AR$78,3,FALSE))","v":""}]
[null,{"$f":"IF(D434=\"\",\"\",VLOOKUP($D434,Lists!$AP$2:$AR$78,2,FALSE))","v":""},{"$f":"IF(D434=\"\",\"\",VLOOKUP($D434,Lists!$AP$2:$AR$78,3,FALSE))","v":""}]
[null,{"$f":"IF(D435=\"\",\"\",VLOOKUP($D435,Lists!$AP$2:$AR$78,2,FALSE))","v":""},{"$f":"IF(D435=\"\",\"\",VLOOKUP($D435,Lists!$AP$2:$AR$78,3,FALSE))","v":""}]
[null,{"$f":"IF(D436=\"\",\"\",VLOOKUP($D436,Lists!$AP$2:$AR$78,2,FALSE))","v":""},{"$f":"IF(D436=\"\",\"\",VLOOKUP($D436,Lists!$AP$2:$AR$78,3,FALSE))","v":""}]
[null,{"$f":"IF(D437=\"\",\"\",VLOOKUP($D437,Lists!$AP$2:$AR$78,2,FALSE))","v":""},{"$f":"IF(D437=\"\",\"\",VLOOKUP($D437,Lists!$AP$2:$AR$78,3,FALSE))","v":""}]
[null,{"$f":"IF(D438=\"\",\"\",VLOOKUP($D438,Lists!$AP$2:$AR$78,2,FALSE))","v":""},{"$f":"IF(D438=\"\",\"\",VLOOKUP($D438,Lists!$AP$2:$AR$78,3,FALSE))","v":""}]
[null,{"$f":"IF(D439=\"\",\"\",VLOOKUP($D439,Lists!$AP$2:$AR$78,2,FALSE))","v":""},{"$f":"IF(D439=\"\",\"\",VLOOKUP($D439,Lists!$AP$2:$AR$78,3,FALSE))","v":""}]
[null,{"$f":"IF(D440=\"\",\"\",VLOOKUP($D440,Lists!$AP$2:$AR$78,2,FALSE))","v":""},{"$f":"IF(D440=\"\",\"\",VLOOKUP($D440,Lists!$AP$2:$AR$78,3,FALSE))","v":""}]
[null,{"$f":"IF(D441=\"\",\"\",VLOOKUP($D441,Lists!$AP$2:$AR$78,2,FALSE))","v":""},{"$f":"IF(D441=\"\",\"\",VLOOKUP($D441,Lists!$AP$2:$AR$78,3,FALSE))","v":""}]
[null,{"$f":"IF(D442=\"\",\"\",VLOOKUP($D442,Lists!$AP$2:$AR$78,2,FALSE))","v":""},{"$f":"IF(D442=\"\",\"\",VLOOKUP($D442,Lists!$AP$2:$AR$78,3,FALSE))","v":""}]
[null,{"$f":"IF(D443=\"\",\"\",VLOOKUP($D443,Lists!$AP$2:$AR$78,2,FALSE))","v":""},{"$f":"IF(D443=\"\",\"\",VLOOKUP($D443,Lists!$AP$2:$AR$78,3,FALSE))","v":""}]
[null,{"$f":"IF(D444=\"\",\"\",VLOOKUP($D444,Lists!$AP$2:$AR$78,2,FALSE))","v":""},{"$f":"IF(D444=\"\",\"\",VLOOKUP($D444,Lists!$AP$2:$AR$78,3,FALSE))","v":""}]
[null,{"$f":"IF(D445=\"\",\"\",VLOOKUP($D445,Lists!$AP$2:$AR$78,2,FALSE))","v":""},{"$f":"IF(D445=\"\",\"\",VLOOKUP($D445,Lists!$AP$2:$AR$78,3,FALSE))","v":""}]
[null,{"$f":"IF(D446=\"\",\"\",VLOOKUP($D446,Lists!$AP$2:$AR$78,2,FALSE))","v":""},{"$f":"IF(D446=\"\",\"\",VLOOKUP($D446,Lists!$AP$2:$AR$78,3,FALSE))","v":""}]
[null,{"$f":"IF(D447=\"\",\"\",VLOOKUP($D447,Lists!$AP$2:$AR$78,2,FALSE))","v":""},{"$f":"IF(D447=\"\",\"\",VLOOKUP($D447,Lists!$AP$2:$AR$78,3,FALSE))","v":""}]
[null,{"$f":"IF(D448=\"\",\"\",VLOOKUP($D448,Lists!$AP$2:$AR$78,2,FALSE))","v":""},{"$f":"IF(D448=\"\",\"\",VLOOKUP($D448,Lists!$AP$2:$AR$78,3,FALSE))","v":""}]
[null,{"$f":"IF(D449=\"\",\"\",VLOOKUP($D449,Lists!$AP$2:$AR$78,2,FALSE))","v":""},{"$f":"IF(D449=\"\",\"\",VLOOKUP($D449,Lists!$AP$2:$AR$78,3,FALSE))","v":""}]
[null,{"$f":"IF(D450=\"\",\"\",VLOOKUP($D450,Lists!$AP$2:$AR$78,2,FALSE))","v":""},{"$f":"IF(D450=\"\",\"\",VLOOKUP($D450,Lists!$AP$2:$AR$78,3,FALSE))","v":""}]
[null,{"$f":"IF(D451=\"\",\"\",VLOOKUP($D451,Lists!$AP$2:$AR$78,2,FALSE))","v":""},{"$f":"IF(D451=\"\",\"\",VLOOKUP($D451,Lists!$AP$2:$AR$78,3,FALSE))","v":""}]
[null,{"$f":"IF(D452=\"\",\"\",VLOOKUP($D452,Lists!$AP$2:$AR$78,2,FALSE))","v":""},{"$f":"IF(D452=\"\",\"\",VLOOKUP($D452,Lists!$AP$2:$AR$78,3,FALSE))","v":""}]
[null,{"$f":"IF(D453=\"\",\"\",VLOOKUP($D453,Lists!$AP$2:$AR$78,2,FALSE))","v":""},{"$f":"IF(D453=\"\",\"\",VLOOKUP($D453,Lists!$AP$2:$AR$78,3,FALSE))","v":""}]
[null,{"$f":"IF(D454=\"\",\"\",VLOOKUP($D454,Lists!$AP$2:$AR$78,2,FALSE))","v":""},{"$f":"IF(D454=\"\",\"\",VLOOKUP($D454,Lists!$AP$2:$AR$78,3,FALSE))","v":""}]
[null,{"$f":"IF(D455=\"\",\"\",VLOOKUP($D455,Lists!$AP$2:$AR$78,2,FALSE))","v":""},{"$f":"IF(D455=\"\",\"\",VLOOKUP($D455,Lists!$AP$2:$AR$78,3,FALSE))","v":""}]
[null,{"$f":"IF(D456=\"\",\"\",VLOOKUP($D456,Lists!$AP$2:$AR$78,2,FALSE))","v":""},{"$f":"IF(D456=\"\",\"\",VLOOKUP($D456,Lists!$AP$2:$AR$78,3,FALSE))","v":""}]
[null,{"$f":"IF(D457=\"\",\"\",VLOOKUP($D457,Lists!$AP$2:$AR$78,2,FALSE))","v":""},{"$f":"IF(D457=\"\",\"\",VLOOKUP($D457,Lists!$AP$2:$AR$78,3,FALSE))","v":""}]
[null,{"$f":"IF(D458=\"\",\"\",VLOOKUP($D458,Lists!$AP$2:$AR$78,2,FALSE))","v":""},{"$f":"IF(D458=\"\",\"\",VLOOKUP($D458,Lists!$AP$2:$AR$78,3,FALSE))","v":""}]
[null,{"$f":"IF(D459=\"\",\"\",VLOOKUP($D459,Lists!$AP$2:$AR$78,2,FALSE))","v":""},{"$f":"IF(D459=\"\",\"\",VLOOKUP($D459,Lists!$AP$2:$AR$78,3,FALSE))","v":""}]
[null,{"$f":"IF(D460=\"\",\"\",VLOOKUP($D460,Lists!$AP$2:$AR$78,2,FALSE))","v":""},{"$f":"IF(D460=\"\",\"\",VLOOKUP($D460,Lists!$AP$2:$AR$78,3,FALSE))","v":""}]
[null,{"$f":"IF(D461=\"\",\"\",VLOOKUP($D461,Lists!$AP$2:$AR$78,2,FALSE))","v":""},{"$f":"IF(D461=\"\",\"\",VLOOKUP($D461,Lists!$AP$2:$AR$78,3,FALSE))","v":""}]
[null,{"$f":"IF(D462=\"\",\"\",VLOOKUP($D462,Lists!$AP$2:$AR$78,2,FALSE))","v":""},{"$f":"IF(D462=\"\",\"\",VLOOKUP($D462,Lists!$AP$2:$AR$78,3,FALSE))","v":""}]
[null,{"$f":"IF(D463=\"\",\"\",VLOOKUP($D463,Lists!$AP$2:$AR$78,2,FALSE))","v":""},{"$f":"IF(D463=\"\",\"\",VLOOKUP($D463,Lists!$AP$2:$AR$78,3,FALSE))","v":""}]
[null,{"$f":"IF(D464=\"\",\"\",VLOOKUP($D464,Lists!$AP$2:$AR$78,2,FALSE))","v":""},{"$f":"IF(D464=\"\",\"\",VLOOKUP($D464,Lists!$AP$2:$AR$78,3,FALSE))","v":""}]
[null,{"$f":"IF(D465=\"\",\"\",VLOOKUP($D465,Lists!$AP$2:$AR$78,2,FALSE))","v":""},{"$f":"IF(D465=\"\",\"\",VLOOKUP($D465,Lists!$AP$2:$AR$78,3,FALSE))","v":""}]
[null,{"$f":"IF(D466=\"\",\"\",VLOOKUP($D466,Lists!$AP$2:$AR$78,2,FALSE))","v":""},{"$f":"IF(D466=\"\",\"\",VLOOKUP($D466,Lists!$AP$2:$AR$78,3,FALSE))","v":""}]
[null,{"$f":"IF(D467=\"\",\"\",VLOOKUP($D467,Lists!$AP$2:$AR$78,2,FALSE))","v":""},{"$f":"IF(D467=\"\",\"\",VLOOKUP($D467,Lists!$AP$2:$AR$78,3,FALSE))","v":""}]
[null,{"$f":"IF(D468=\"\",\"\",VLOOKUP($D468,Lists!$AP$2:$AR$78,2,FALSE))","v":""},{"$f":"IF(D468=\"\",\"\",VLOOKUP($D468,Lists!$AP$2:$AR$78,3,FALSE))","v":""}]
[null,{"$f":"IF(D469=\"\",\"\",VLOOKUP($D469,Lists!$AP$2:$AR$78,2,FALSE))","v":""},{"$f":"IF(D469=\"\",\"\",VLOOKUP($D469,Lists!$AP$2:$AR$78,3,FALSE))","v":""}]
[null,{"$f":"IF(D470=\"\",\"\",VLOOKUP($D470,Lists!$AP$2:$AR$78,2,FALSE))","v":""},{"$f":"IF(D470=\"\",\"\",VLOOKUP($D470,Lists!$AP$2:$AR$78,3,FALSE))","v":""}]
[null,{"$f":"IF(D471=\"\",\"\",VLOOKUP($D471,Lists!$AP$2:$AR$78,2,FALSE))","v":""},{"$f":"IF(D471=\"\",\"\",VLOOKUP($D471,Lists!$AP$2:$AR$78,3,FALSE))","v":""}]
[null,{"$f":"IF(D472=\"\",\"\",VLOOKUP($D472,Lists!$AP$2:$AR$78,2,FALSE))","v":""},{"$f":"IF(D472=\"\",\"\",VLOOKUP($D472,Lists!$AP$2:$AR$78,3,FALSE))","v":""}]
[null,{"$f":"IF(D473=\"\",\"\",VLOOKUP($D473,Lists!$AP$2:$AR$78,2,FALSE))","v":""},{"$f":"IF(D473=\"\",\"\",VLOOKUP($D473,Lists!$AP$2:$AR$78,3,FALSE))","v":""}]
[null,{"$f":"IF(D474=\"\",\"\",VLOOKUP($D474,Lists!$AP$2:$AR$78,2,FALSE))","v":""},{"$f":"IF(D474=\"\",\"\",VLOOKUP($D474,Lists!$AP$2:$AR$78,3,FALSE))","v":""}]
[null,{"$f":"IF(D475=\"\",\"\",VLOOKUP($D475,Lists!$AP$2:$AR$78,2,FALSE))","v":""},{"$f":"IF(D475=\"\",\"\",VLOOKUP($D475,Lists!$AP$2:$AR$78,3,FALSE))","v":""}]
[null,{"$f":"IF(D476=\"\",\"\",VLOOKUP($D476,Lists!$AP$2:$AR$78,2,FALSE))","v":""},{"$f":"IF(D476=\"\",\"\",VLOOKUP($D476,Lists!$AP$2:$AR$78,3,FALSE))","v":""}]
[null,{"$f":"IF(D477=\"\",\"\",VLOOKUP($D477,Lists!$AP$2:$AR$78,2,FALSE))","v":""},{"$f":"IF(D477=\"\",\"\",VLOOKUP($D477,Lists!$AP$2:$AR$78,3,FALSE))","v":""}]
[null,{"$f":"IF(D478=\"\",\"\",VLOOKUP($D478,Lists!$AP$2:$AR$78,2,FALSE))","v":""},{"$f":"IF(D478=\"\",\"\",VLOOKUP($D478,Lists!$AP$2:$AR$78,3,FALSE))","v":""}]
[null,{"$f":"IF(D479=\"\",\"\",VLOOKUP($D479,Lists!$AP$2:$AR$78,2,FALSE))","v":""},{"$f":"IF(D479=\"\",\"\",VLOOKUP($D479,Lists!$AP$2:$AR$78,3,FALSE))","v":""}]
[null,{"$f":"IF(D480=\"\",\"\",VLOOKUP($D480,Lists!$AP$2:$AR$78,2,FALSE))","v":""},{"$f":"IF(D480=\"\",\"\",VLOOKUP($D480,Lists!$AP$2:$AR$78,3,FALSE))","v":""}]
[null,{"$f":"IF(D481=\"\",\"\",VLOOKUP($D481,Lists!$AP$2:$AR$78,2,FALSE))","v":""},{"$f":"IF(D481=\"\",\"\",VLOOKUP($D481,Lists!$AP$2:$AR$78,3,FALSE))","v":""}]
[null,{"$f":"IF(D482=\"\",\"\",VLOOKUP($D482,Lists!$AP$2:$AR$78,2,FALSE))","v":""},{"$f":"IF(D482=\"\",\"\",VLOOKUP($D482,Lists!$AP$2:$AR$78,3,FALSE))","v":""}]
[null,{"$f":"IF(D483=\"\",\"\",VLOOKUP($D483,Lists!$AP$2:$AR$78,2,FALSE))","v":""},{"$f":"IF(D483=\"\",\"\",VLOOKUP($D483,Lists!$AP$2:$AR$78,3,FALSE))","v":""}]
[null,{"$f":"IF(D484=\"\",\"\",VLOOKUP($D484,Lists!$AP$2:$AR$78,2,FALSE))","v":""},{"$f":"IF(D484=\"\",\"\",VLOOKUP($D484,Lists!$AP$2:$AR$78,3,FALSE))","v":""}]
[null,{"$f":"IF(D485=\"\",\"\",VLOOKUP($D485,Lists!$AP$2:$AR$78,2,FALSE))","v":""},{"$f":"IF(D485=\"\",\"\",VLOOKUP($D485,Lists!$AP$2:$AR$78,3,FALSE))","v":""}]
[null,{"$f":"IF(D486=\"\",\"\",VLOOKUP($D486,Lists!$AP$2:$AR$78,2,FALSE))","v":""},{"$f":"IF(D486=\"\",\"\",VLOOKUP($D486,Lists!$AP$2:$AR$78,3,FALSE))","v":""}]
[null,{"$f":"IF(D487=\"\",\"\",VLOOKUP($D487,Lists!$AP$2:$AR$78,2,FALSE))","v":""},{"$f":"IF(D487=\"\",\"\",VLOOKUP($D487,Lists!$AP$2:$AR$78,3,FALSE))","v":""}]
[null,{"$f":"IF(D488=\"\",\"\",VLOOKUP($D488,Lists!$AP$2:$AR$78,2,FALSE))","v":""},{"$f":"IF(D488=\"\",\"\",VLOOKUP($D488,Lists!$AP$2:$AR$78,3,FALSE))","v":""}]
[null,{"$f":"IF(D489=\"\",\"\",VLOOKUP($D489,Lists!$AP$2:$AR$78,2,FALSE))","v":""},{"$f":"IF(D489=\"\",\"\",VLOOKUP($D489,Lists!$AP$2:$AR$78,3,FALSE))","v":""}]
[null,{"$f":"IF(D490=\"\",\"\",VLOOKUP($D490,Lists!$AP$2:$AR$78,2,FALSE))","v":""},{"$f":"IF(D490=\"\",\"\",VLOOKUP($D490,Lists!$AP$2:$AR$78,3,FALSE))","v":""}]
[null,{"$f":"IF(D491=\"\",\"\",VLOOKUP($D491,Lists!$AP$2:$AR$78,2,FALSE))","v":""},{"$f":"IF(D491=\"\",\"\",VLOOKUP($D491,Lists!$AP$2:$AR$78,3,FALSE))","v":""}]
[null,{"$f":"IF(D492=\"\",\"\",VLOOKUP($D492,Lists!$AP$2:$AR$78,2,FALSE))","v":""},{"$f":"IF(D492=\"\",\"\",VLOOKUP($D492,Lists!$AP$2:$AR$78,3,FALSE))","v":""}]
[null,{"$f":"IF(D493=\"\",\"\",VLOOKUP($D493,Lists!$AP$2:$AR$78,2,FALSE))","v":""},{"$f":"IF(D493=\"\",\"\",VLOOKUP($D493,Lists!$AP$2:$AR$78,3,FALSE))","v":""}]
[null,{"$f":"IF(D494=\"\",\"\",VLOOKUP($D494,Lists!$AP$2:$AR$78,2,FALSE))","v":""},{"$f":"IF(D494=\"\",\"\",VLOOKUP($D494,Lists!$AP$2:$AR$78,3,FALSE))","v":""}]
[null,{"$f":"IF(D495=\"\",\"\",VLOOKUP($D495,Lists!$AP$2:$AR$78,2,FALSE))","v":""},{"$f":"IF(D495=\"\",\"\",VLOOKUP($D495,Lists!$AP$2:$AR$78,3,FALSE))","v":""}]
[null,{"$f":"IF(D496=\"\",\"\",VLOOKUP($D496,Lists!$AP$2:$AR$78,2,FALSE))","v":""},{"$f":"IF(D496=\"\",\"\",VLOOKUP($D496,Lists!$AP$2:$AR$78,3,FALSE))","v":""}]
[null,{"$f":"IF(D497=\"\",\"\",VLOOKUP($D497,Lists!$AP$2:$AR$78,2,FALSE))","v":""},{"$f":"IF(D497=\"\",\"\",VLOOKUP($D497,Lists!$AP$2:$AR$78,3,FALSE))","v":""}]
[null,{"$f":"IF(D498=\"\",\"\",VLOOKUP($D498,Lists!$AP$2:$AR$78,2,FALSE))","v":""},{"$f":"IF(D498=\"\",\"\",VLOOKUP($D498,Lists!$AP$2:$AR$78,3,FALSE))","v":""}]
[null,{"$f":"IF(D499=\"\",\"\",VLOOKUP($D499,Lists!$AP$2:$AR$78,2,FALSE))","v":""},{"$f":"IF(D499=\"\",\"\",VLOOKUP($D499,Lists!$AP$2:$AR$78,3,FALSE))","v":""}]
[null,{"$f":"IF(D500=\"\",\"\",VLOOKUP($D500,Lists!$AP$2:$AR$78,2,FALSE))","v":""},{"$f":"IF(D500=\"\",\"\",VLOOKUP($D500,Lists!$AP$2:$AR$78,3,FALSE))","v":""}]

{"sheet":"ElectroPrimerCaptureControl","index":11,"n_rows":23,"n_cols":4,"rows_kept":23,"cut":false,"hidden":false,"merged":[]}
[null,"DO NOT REMOVE OR EDIT INFORMATION IN THIS SECTION\nFOR INTERNAL USE ONLY"]
[null,"Template Name",{"$f":"+Welcome!B2","v":"63.3120(f) Semiannual Compliance Report (Spreadsheet Template)"}]
[null,"CitationID",{"$f":"+Welcome!B3","v":"63.3120(f)"}]
[null,"Template Version",{"$f":"+Welcome!B4","v":"v2.06"}]
[null,"Last Updated Date",{"$f":"+Welcome!B5","v":45392}]
[null,"OMB Control Number: 2060-0518       Expiration Date: 04/30/2019"]
[null,"40 CFR Part 63, Subpart IIII National Emission Standards for Hazardous Air Pollutants: "]
[null,"Surface Coating of Automobiles and Light-Duty Trucks"]
[null,"§63.3120(f) Semiannual Compliance Report Spreadsheet Template"]
[]
[]
[null,"Company Record No.\n(Select from dropdown)","Starting Date of Each Month With a Deviation from Electrodeposition Primer Bake Oven Capture and Control Limits\n(§63.3120(a)(8)(i))","Ending Date of Each Month With a Deviation from Electrodeposition Primer Bake Oven Capture and Control Limits \n(§63.3120(a)(8)(i))"]
[null,"RecordId","DeviationStartDate","DeviationEndDate"]
[null,"e.g.: 1","e.g.: 3/1/2017","e.g.: 3/30/2017"]
[null,"e.g.:","e.g.:","e.g.:"]
[null,"e.g.:","e.g.:","e.g.:"]
[null,"e.g.:","e.g.:","e.g.:"]
[null,"e.g.:","e.g.:","e.g.:"]
[null,"e.g.:","e.g.:","e.g.:"]
[null,"e.g.:","e.g.:","e.g.:"]
[null,"e.g.:","e.g.:","e.g.:"]
[null,"e.g.:","e.g.:","e.g.:"]
[null,"e.g.:","e.g.:","e.g.:"]

{"sheet":"OpLimit","index":12,"n_rows":500,"n_cols":13,"rows_kept":500,"cut":false,"hidden":false,"merged":[]}
[null,"DO NOT REMOVE OR EDIT INFORMATION IN THIS SECTION\nFOR INTERNAL USE ONLY"]
[null,"Template Name",{"$f":"Welcome!B2","v":"63.3120(f) Semiannual Compliance Report (Spreadsheet Template)"}]
[null,"CitationID",{"$f":"Welcome!B3","v":"63.3120(f)"}]
[null,"Template Version",{"$f":"Welcome!B4","v":"v2.06"}]
[null,"Last Updated Date",{"$f":"Welcome!B5","v":45392}]
[null,"OMB Control Number: 2060-0518       Expiration Date: 04/30/2019"]
[null,"40 CFR Part 63, Subpart IIII National Emission Standards for Hazardous Air Pollutants: Surface Coating of Automobiles and Light-Duty Trucks - §63.3120(f) Semiannual Compliance Report Spreadsheet Template"]
[null,"\n"]
[]
[]
[]
[null,"Company Record No.\n(Autofilled)","Affected Source or Equipment\n(§63.3120(a)(6)(xv))\n(Autofilled)","Company Record No. and Affected Source or Equipment\n(§63.3120(a)(6)(xv))\n(Select from dropdown)","Deviation from Operating Limit or Bypass of Control Device\n(§63.3120(a)(6)(viii))\n(Select from dropdown)","Starting Date Deviation from Operating Limit or Bypass of Control Device (§63.3120(a)(6)(viii) or §63.3120(a)(8)(vii))","Starting Time Deviation from Operating Limit or Bypass of Control Device (§63.3120(a)(6)(viii) or §63.3120(a)(8)(vii))","Ending Date Date Deviation from Operating Limit or Bypass of Control Device (§63.3120(a)(6)(viii) or §63.3120(a)(8)(vii))","Ending Time Deviation from Operating Limit or Bypass of Control Device (§63.3120(a)(6)(viii) or §63.3120(a)(8)(vii))","Duration of Deviation from Operating Limit or Bypass of Control Device (hours)\n(§63.3120(a)(6)(viii) or §63.3120(a)(8)(vii))\n(Calculated value)","Cause of Deviation \n(§63.3120(a)(6)(xiv) or §63.3120(a)(8)(xii))\n(Select from dropdown)","Estimate of Quantity of Organic HAP Emitted over the Emission Limit (kg)\n(§63.3120(a)(6)(xv))","Method Used to Estimate Emissions\n(§63.3120(a)(6)(xv))\n"]
[null,"RecordId","AffectedSource","AffectedSourceCompanyRecord","DeviceDeviationBypass","DeviationStartDate","DeviationStartTime","DeviationEndDate","DeviationEndTime","DeviationDuration","DeviationCause","OrganicHAP","EstEmissionsMethod"]
[null,"e.g.: 1","e.g.: West Coating","e.g.: 1 West Coating","e.g.: Bypass of Control Device","e.g.: 3/2/2017","e.g.: 15:00","e.g.: 3/9/2017","e.g.16:00","e.g.: 169.00","e.g.: Control Equipment Problems","e.g.: 5.25","e.g.: engineering calculations"]
[null,"e.g.:","e.g.:","e.g.:","e.g.:","e.g.:","e.g.:","e.g.:","e.g.:","e.g.:","e.g.:","e.g.:","e.g.:"]
[null,"e.g.:","e.g.:","e.g.:","e.g.:","e.g.:","e.g.:","e.g.:","e.g.:","e.g.:","e.g.:","e.g.:","e.g.:"]
[null,"e.g.:","e.g.:","e.g.:","e.g.:","e.g.:","e.g.:","e.g.:","e.g.:","e.g.:","e.g.:","e.g.:","e.g.:"]
[null,"e.g.:","e.g.:","e.g.:","e.g.:","e.g.:","e.g.:","e.g.:","e.g.:","e.g.:","e.g.:","e.g.:","e.g.:"]
[null,"e.g.:","e.g.:","e.g.:","e.g.:","e.g.:","e.g.:","e.g.:","e.g.:","e.g.:","e.g.:","e.g.:","e.g.:"]
[null,"e.g.:","e.g.:","e.g.:","e.g.:","e.g.:","e.g.:","e.g.:","e.g.:","e.g.:","e.g.:","e.g.:","e.g.:"]
[null,"e.g.:","e.g.:","e.g.:","e.g.:","e.g.:","e.g.:","e.g.:","e.g.:","e.g.:","e.g.:","e.g.:","e.g.:"]
[null,"e.g.:","e.g.:","e.g.:","e.g.:","e.g.:","e.g.:","e.g.:","e.g.:","e.g.:","e.g.:","e.g.:","e.g.:"]
[null,"e.g.:","e.g.:","e.g.:","e.g.:","e.g.:","e.g.:","e.g.:","e.g.:","e.g.:","e.g.:","e.g.:","e.g.:"]
[null,{"$f":"IF(D24=\"\",\"\",VLOOKUP($D24,Lists!$AP$2:$AR$78,2,FALSE))","v":""},{"$f":"IF(D24=\"\",\"\",VLOOKUP($D24,Lists!$AP$2:$AR$78,3,FALSE))","v":""},null,null,null,null,null,null,{"$f":"IF(I24=\"\",\"\",(VALUE(TEXT(H24,\"m/dd/yy \")&TEXT(I24,\"hh:mm:ss\"))-(VALUE(TEXT(F24,\"m/dd/yy \")&TEXT(G24,\"hh:mm:ss\"))))*24)","v":""}]
[null,{"$f":"IF(D25=\"\",\"\",VLOOKUP($D25,Lists!$AP$2:$AR$78,2,FALSE))","v":""},{"$f":"IF(D25=\"\",\"\",VLOOKUP($D25,Lists!$AP$2:$AR$78,3,FALSE))","v":""},null,null,null,null,null,null,{"$f":"IF(I25=\"\",\"\",(VALUE(TEXT(H25,\"m/dd/yy \")&TEXT(I25,\"hh:mm:ss\"))-(VALUE(TEXT(F25,\"m/dd/yy \")&TEXT(G25,\"hh:mm:ss\"))))*24)","v":""}]
[null,{"$f":"IF(D26=\"\",\"\",VLOOKUP($D26,Lists!$AP$2:$AR$78,2,FALSE))","v":""},{"$f":"IF(D26=\"\",\"\",VLOOKUP($D26,Lists!$AP$2:$AR$78,3,FALSE))","v":""},null,null,null,null,null,null,""]
[null,{"$f":"IF(D27=\"\",\"\",VLOOKUP($D27,Lists!$AP$2:$AR$78,2,FALSE))","v":""},{"$f":"IF(D27=\"\",\"\",VLOOKUP($D27,Lists!$AP$2:$AR$78,3,FALSE))","v":""},null,null,null,null,null,null,""]
[null,{"$f":"IF(D28=\"\",\"\",VLOOKUP($D28,Lists!$AP$2:$AR$78,2,FALSE))","v":""},{"$f":"IF(D28=\"\",\"\",VLOOKUP($D28,Lists!$AP$2:$AR$78,3,FALSE))","v":""},null,null,null,null,null,null,""]
[null,{"$f":"IF(D29=\"\",\"\",VLOOKUP($D29,Lists!$AP$2:$AR$78,2,FALSE))","v":""},{"$f":"IF(D29=\"\",\"\",VLOOKUP($D29,Lists!$AP$2:$AR$78,3,FALSE))","v":""},null,null,null,null,null,null,""]
[null,{"$f":"IF(D30=\"\",\"\",VLOOKUP($D30,Lists!$AP$2:$AR$78,2,FALSE))","v":""},{"$f":"IF(D30=\"\",\"\",VLOOKUP($D30,Lists!$AP$2:$AR$78,3,FALSE))","v":""},null,null,null,null,null,null,""]
[null,{"$f":"IF(D31=\"\",\"\",VLOOKUP($D31,Lists!$AP$2:$AR$78,2,FALSE))","v":""},{"$f":"IF(D31=\"\",\"\",VLOOKUP($D31,Lists!$AP$2:$AR$78,3,FALSE))","v":""},null,null,null,null,null,null,""]
[null,{"$f":"IF(D32=\"\",\"\",VLOOKUP($D32,Lists!$AP$2:$AR$78,2,FALSE))","v":""},{"$f":"IF(D32=\"\",\"\",VLOOKUP($D32,Lists!$AP$2:$AR$78,3,FALSE))","v":""},null,null,null,null,null,null,""]
[null,{"$f":"IF(D33=\"\",\"\",VLOOKUP($D33,Lists!$AP$2:$AR$78,2,FALSE))","v":""},{"$f":"IF(D33=\"\",\"\",VLOOKUP($D33,Lists!$AP$2:$AR$78,3,FALSE))","v":""},null,null,null,null,null,null,""]
[null,{"$f":"IF(D34=\"\",\"\",VLOOKUP($D34,Lists!$AP$2:$AR$78,2,FALSE))","v":""},{"$f":"IF(D34=\"\",\"\",VLOOKUP($D34,Lists!$AP$2:$AR$78,3,FALSE))","v":""},null,null,null,null,null,null,""]
[null,{"$f":"IF(D35=\"\",\"\",VLOOKUP($D35,Lists!$AP$2:$AR$78,2,FALSE))","v":""},{"$f":"IF(D35=\"\",\"\",VLOOKUP($D35,Lists!$AP$2:$AR$78,3,FALSE))","v":""},null,null,null,null,null,null,""]
[null,{"$f":"IF(D36=\"\",\"\",VLOOKUP($D36,Lists!$AP$2:$AR$78,2,FALSE))","v":""},{"$f":"IF(D36=\"\",\"\",VLOOKUP($D36,Lists!$AP$2:$AR$78,3,FALSE))","v":""},null,null,null,null,null,null,""]
[null,{"$f":"IF(D37=\"\",\"\",VLOOKUP($D37,Lists!$AP$2:$AR$78,2,FALSE))","v":""},{"$f":"IF(D37=\"\",\"\",VLOOKUP($D37,Lists!$AP$2:$AR$78,3,FALSE))","v":""},null,null,null,null,null,null,""]
[null,{"$f":"IF(D38=\"\",\"\",VLOOKUP($D38,Lists!$AP$2:$AR$78,2,FALSE))","v":""},{"$f":"IF(D38=\"\",\"\",VLOOKUP($D38,Lists!$AP$2:$AR$78,3,FALSE))","v":""},null,null,null,null,null,null,""]
[null,{"$f":"IF(D39=\"\",\"\",VLOOKUP($D39,Lists!$AP$2:$AR$78,2,FALSE))","v":""},{"$f":"IF(D39=\"\",\"\",VLOOKUP($D39,Lists!$AP$2:$AR$78,3,FALSE))","v":""},null,null,null,null,null,null,""]
[null,{"$f":"IF(D40=\"\",\"\",VLOOKUP($D40,Lists!$AP$2:$AR$78,2,FALSE))","v":""},{"$f":"IF(D40=\"\",\"\",VLOOKUP($D40,Lists!$AP$2:$AR$78,3,FALSE))","v":""},null,null,null,null,null,null,""]
[null,{"$f":"IF(D41=\"\",\"\",VLOOKUP($D41,Lists!$AP$2:$AR$78,2,FALSE))","v":""},{"$f":"IF(D41=\"\",\"\",VLOOKUP($D41,Lists!$AP$2:$AR$78,3,FALSE))","v":""},null,null,null,null,null,null,""]
[null,{"$f":"IF(D42=\"\",\"\",VLOOKUP($D42,Lists!$AP$2:$AR$78,2,FALSE))","v":""},{"$f":"IF(D42=\"\",\"\",VLOOKUP($D42,Lists!$AP$2:$AR$78,3,FALSE))","v":""},null,null,null,null,null,null,""]
[null,{"$f":"IF(D43=\"\",\"\",VLOOKUP($D43,Lists!$AP$2:$AR$78,2,FALSE))","v":""},{"$f":"IF(D43=\"\",\"\",VLOOKUP($D43,Lists!$AP$2:$AR$78,3,FALSE))","v":""},null,null,null,null,null,null,""]
[null,{"$f":"IF(D44=\"\",\"\",VLOOKUP($D44,Lists!$AP$2:$AR$78,2,FALSE))","v":""},{"$f":"IF(D44=\"\",\"\",VLOOKUP($D44,Lists!$AP$2:$AR$78,3,FALSE))","v":""},null,null,null,null,null,null,""]
[null,{"$f":"IF(D45=\"\",\"\",VLOOKUP($D45,Lists!$AP$2:$AR$78,2,FALSE))","v":""},{"$f":"IF(D45=\"\",\"\",VLOOKUP($D45,Lists!$AP$2:$AR$78,3,FALSE))","v":""},null,null,null,null,null,null,""]
[null,{"$f":"IF(D46=\"\",\"\",VLOOKUP($D46,Lists!$AP$2:$AR$78,2,FALSE))","v":""},{"$f":"IF(D46=\"\",\"\",VLOOKUP($D46,Lists!$AP$2:$AR$78,3,FALSE))","v":""},null,null,null,null,null,null,""]
[null,{"$f":"IF(D47=\"\",\"\",VLOOKUP($D47,Lists!$AP$2:$AR$78,2,FALSE))","v":""},{"$f":"IF(D47=\"\",\"\",VLOOKUP($D47,Lists!$AP$2:$AR$78,3,FALSE))","v":""},null,null,null,null,null,null,""]
[null,{"$f":"IF(D48=\"\",\"\",VLOOKUP($D48,Lists!$AP$2:$AR$78,2,FALSE))","v":""},{"$f":"IF(D48=\"\",\"\",VLOOKUP($D48,Lists!$AP$2:$AR$78,3,FALSE))","v":""},null,null,null,null,null,null,""]
[null,{"$f":"IF(D49=\"\",\"\",VLOOKUP($D49,Lists!$AP$2:$AR$78,2,FALSE))","v":""},{"$f":"IF(D49=\"\",\"\",VLOOKUP($D49,Lists!$AP$2:$AR$78,3,FALSE))","v":""},null,null,null,null,null,null,""]
[null,{"$f":"IF(D50=\"\",\"\",VLOOKUP($D50,Lists!$AP$2:$AR$78,2,FALSE))","v":""},{"$f":"IF(D50=\"\",\"\",VLOOKUP($D50,Lists!$AP$2:$AR$78,3,FALSE))","v":""},null,null,null,null,null,null,""]
[null,{"$f":"IF(D51=\"\",\"\",VLOOKUP($D51,Lists!$AP$2:$AR$78,2,FALSE))","v":""},{"$f":"IF(D51=\"\",\"\",VLOOKUP($D51,Lists!$AP$2:$AR$78,3,FALSE))","v":""},null,null,null,null,null,null,""]
[null,{"$f":"IF(D52=\"\",\"\",VLOOKUP($D52,Lists!$AP$2:$AR$78,2,FALSE))","v":""},{"$f":"IF(D52=\"\",\"\",VLOOKUP($D52,Lists!$AP$2:$AR$78,3,FALSE))","v":""},null,null,null,null,null,null,""]
[null,{"$f":"IF(D53=\"\",\"\",VLOOKUP($D53,Lists!$AP$2:$AR$78,2,FALSE))","v":""},{"$f":"IF(D53=\"\",\"\",VLOOKUP($D53,Lists!$AP$2:$AR$78,3,FALSE))","v":""},null,null,null,null,null,null,""]
[null,{"$f":"IF(D54=\"\",\"\",VLOOKUP($D54,Lists!$AP$2:$AR$78,2,FALSE))","v":""},{"$f":"IF(D54=\"\",\"\",VLOOKUP($D54,Lists!$AP$2:$AR$78,3,FALSE))","v":""},null,null,null,null,null,null,""]
[null,{"$f":"IF(D55=\"\",\"\",VLOOKUP($D55,Lists!$AP$2:$AR$78,2,FALSE))","v":""},{"$f":"IF(D55=\"\",\"\",VLOOKUP($D55,Lists!$AP$2:$AR$78,3,FALSE))","v":""},null,null,null,null,null,null,""]
[null,{"$f":"IF(D56=\"\",\"\",VLOOKUP($D56,Lists!$AP$2:$AR$78,2,FALSE))","v":""},{"$f":"IF(D56=\"\",\"\",VLOOKUP($D56,Lists!$AP$2:$AR$78,3,FALSE))","v":""},null,null,null,null,null,null,""]
[null,{"$f":"IF(D57=\"\",\"\",VLOOKUP($D57,Lists!$AP$2:$AR$78,2,FALSE))","v":""},{"$f":"IF(D57=\"\",\"\",VLOOKUP($D57,Lists!$AP$2:$AR$78,3,FALSE))","v":""},null,null,null,null,null,null,""]
[null,{"$f":"IF(D58=\"\",\"\",VLOOKUP($D58,Lists!$AP$2:$AR$78,2,FALSE))","v":""},{"$f":"IF(D58=\"\",\"\",VLOOKUP($D58,Lists!$AP$2:$AR$78,3,FALSE))","v":""},null,null,null,null,null,null,""]
[null,{"$f":"IF(D59=\"\",\"\",VLOOKUP($D59,Lists!$AP$2:$AR$78,2,FALSE))","v":""},{"$f":"IF(D59=\"\",\"\",VLOOKUP($D59,Lists!$AP$2:$AR$78,3,FALSE))","v":""},null,null,null,null,null,null,""]
[null,{"$f":"IF(D60=\"\",\"\",VLOOKUP($D60,Lists!$AP$2:$AR$78,2,FALSE))","v":""},{"$f":"IF(D60=\"\",\"\",VLOOKUP($D60,Lists!$AP$2:$AR$78,3,FALSE))","v":""},null,null,null,null,null,null,""]
[null,{"$f":"IF(D61=\"\",\"\",VLOOKUP($D61,Lists!$AP$2:$AR$78,2,FALSE))","v":""},{"$f":"IF(D61=\"\",\"\",VLOOKUP($D61,Lists!$AP$2:$AR$78,3,FALSE))","v":""},null,null,null,null,null,null,""]
[null,{"$f":"IF(D62=\"\",\"\",VLOOKUP($D62,Lists!$AP$2:$AR$78,2,FALSE))","v":""},{"$f":"IF(D62=\"\",\"\",VLOOKUP($D62,Lists!$AP$2:$AR$78,3,FALSE))","v":""},null,null,null,null,null,null,""]
[null,{"$f":"IF(D63=\"\",\"\",VLOOKUP($D63,Lists!$AP$2:$AR$78,2,FALSE))","v":""},{"$f":"IF(D63=\"\",\"\",VLOOKUP($D63,Lists!$AP$2:$AR$78,3,FALSE))","v":""},null,null,null,null,null,null,""]
[null,{"$f":"IF(D64=\"\",\"\",VLOOKUP($D64,Lists!$AP$2:$AR$78,2,FALSE))","v":""},{"$f":"IF(D64=\"\",\"\",VLOOKUP($D64,Lists!$AP$2:$AR$78,3,FALSE))","v":""},null,null,null,null,null,null,""]
[null,{"$f":"IF(D65=\"\",\"\",VLOOKUP($D65,Lists!$AP$2:$AR$78,2,FALSE))","v":""},{"$f":"IF(D65=\"\",\"\",VLOOKUP($D65,Lists!$AP$2:$AR$78,3,FALSE))","v":""},null,null,null,null,null,null,""]
[null,{"$f":"IF(D66=\"\",\"\",VLOOKUP($D66,Lists!$AP$2:$AR$78,2,FALSE))","v":""},{"$f":"IF(D66=\"\",\"\",VLOOKUP($D66,Lists!$AP$2:$AR$78,3,FALSE))","v":""},null,null,null,null,null,null,""]
[null,{"$f":"IF(D67=\"\",\"\",VLOOKUP($D67,Lists!$AP$2:$AR$78,2,FALSE))","v":""},{"$f":"IF(D67=\"\",\"\",VLOOKUP($D67,Lists!$AP$2:$AR$78,3,FALSE))","v":""},null,null,null,null,null,null,""]
[null,{"$f":"IF(D68=\"\",\"\",VLOOKUP($D68,Lists!$AP$2:$AR$78,2,FALSE))","v":""},{"$f":"IF(D68=\"\",\"\",VLOOKUP($D68,Lists!$AP$2:$AR$78,3,FALSE))","v":""},null,null,null,null,null,null,""]
[null,{"$f":"IF(D69=\"\",\"\",VLOOKUP($D69,Lists!$AP$2:$AR$78,2,FALSE))","v":""},{"$f":"IF(D69=\"\",\"\",VLOOKUP($D69,Lists!$AP$2:$AR$78,3,FALSE))","v":""},null,null,null,null,null,null,""]
[null,{"$f":"IF(D70=\"\",\"\",VLOOKUP($D70,Lists!$AP$2:$AR$78,2,FALSE))","v":""},{"$f":"IF(D70=\"\",\"\",VLOOKUP($D70,Lists!$AP$2:$AR$78,3,FALSE))","v":""},null,null,null,null,null,null,""]
[null,{"$f":"IF(D71=\"\",\"\",VLOOKUP($D71,Lists!$AP$2:$AR$78,2,FALSE))","v":""},{"$f":"IF(D71=\"\",\"\",VLOOKUP($D71,Lists!$AP$2:$AR$78,3,FALSE))","v":""},null,null,null,null,null,null,""]
[null,{"$f":"IF(D72=\"\",\"\",VLOOKUP($D72,Lists!$AP$2:$AR$78,2,FALSE))","v":""},{"$f":"IF(D72=\"\",\"\",VLOOKUP($D72,Lists!$AP$2:$AR$78,3,FALSE))","v":""},null,null,null,null,null,null,""]
[null,{"$f":"IF(D73=\"\",\"\",VLOOKUP($D73,Lists!$AP$2:$AR$78,2,FALSE))","v":""},{"$f":"IF(D73=\"\",\"\",VLOOKUP($D73,Lists!$AP$2:$AR$78,3,FALSE))","v":""},null,null,null,null,null,null,""]
[null,{"$f":"IF(D74=\"\",\"\",VLOOKUP($D74,Lists!$AP$2:$AR$78,2,FALSE))","v":""},{"$f":"IF(D74=\"\",\"\",VLOOKUP($D74,Lists!$AP$2:$AR$78,3,FALSE))","v":""},null,null,null,null,null,null,""]
[null,{"$f":"IF(D75=\"\",\"\",VLOOKUP($D75,Lists!$AP$2:$AR$78,2,FALSE))","v":""},{"$f":"IF(D75=\"\",\"\",VLOOKUP($D75,Lists!$AP$2:$AR$78,3,FALSE))","v":""},null,null,null,null,null,null,""]
[null,{"$f":"IF(D76=\"\",\"\",VLOOKUP($D76,Lists!$AP$2:$AR$78,2,FALSE))","v":""},{"$f":"IF(D76=\"\",\"\",VLOOKUP($D76,Lists!$AP$2:$AR$78,3,FALSE))","v":""},null,null,null,null,null,null,""]
[null,{"$f":"IF(D77=\"\",\"\",VLOOKUP($D77,Lists!$AP$2:$AR$78,2,FALSE))","v":""},{"$f":"IF(D77=\"\",\"\",VLOOKUP($D77,Lists!$AP$2:$AR$78,3,FALSE))","v":""},null,null,null,null,null,null,""]
[null,{"$f":"IF(D78=\"\",\"\",VLOOKUP($D78,Lists!$AP$2:$AR$78,2,FALSE))","v":""},{"$f":"IF(D78=\"\",\"\",VLOOKUP($D78,Lists!$AP$2:$AR$78,3,FALSE))","v":""},null,null,null,null,null,null,""]
[null,{"$f":"IF(D79=\"\",\"\",VLOOKUP($D79,Lists!$AP$2:$AR$78,2,FALSE))","v":""},{"$f":"IF(D79=\"\",\"\",VLOOKUP($D79,Lists!$AP$2:$AR$78,3,FALSE))","v":""},null,null,null,null,null,null,""]
[null,{"$f":"IF(D80=\"\",\"\",VLOOKUP($D80,Lists!$AP$2:$AR$78,2,FALSE))","v":""},{"$f":"IF(D80=\"\",\"\",VLOOKUP($D80,Lists!$AP$2:$AR$78,3,FALSE))","v":""},null,null,null,null,null,null,""]
[null,{"$f":"IF(D81=\"\",\"\",VLOOKUP($D81,Lists!$AP$2:$AR$78,2,FALSE))","v":""},{"$f":"IF(D81=\"\",\"\",VLOOKUP($D81,Lists!$AP$2:$AR$78,3,FALSE))","v":""},null,null,null,null,null,null,""]
[null,{"$f":"IF(D82=\"\",\"\",VLOOKUP($D82,Lists!$AP$2:$AR$78,2,FALSE))","v":""},{"$f":"IF(D82=\"\",\"\",VLOOKUP($D82,Lists!$AP$2:$AR$78,3,FALSE))","v":""},null,null,null,null,null,null,""]
[null,{"$f":"IF(D83=\"\",\"\",VLOOKUP($D83,Lists!$AP$2:$AR$78,2,FALSE))","v":""},{"$f":"IF(D83=\"\",\"\",VLOOKUP($D83,Lists!$AP$2:$AR$78,3,FALSE))","v":""},null,null,null,null,null,null,""]
[null,{"$f":"IF(D84=\"\",\"\",VLOOKUP($D84,Lists!$AP$2:$AR$78,2,FALSE))","v":""},{"$f":"IF(D84=\"\",\"\",VLOOKUP($D84,Lists!$AP$2:$AR$78,3,FALSE))","v":""},null,null,null,null,null,null,""]
[null,{"$f":"IF(D85=\"\",\"\",VLOOKUP($D85,Lists!$AP$2:$AR$78,2,FALSE))","v":""},{"$f":"IF(D85=\"\",\"\",VLOOKUP($D85,Lists!$AP$2:$AR$78,3,FALSE))","v":""},null,null,null,null,null,null,""]
[null,{"$f":"IF(D86=\"\",\"\",VLOOKUP($D86,Lists!$AP$2:$AR$78,2,FALSE))","v":""},{"$f":"IF(D86=\"\",\"\",VLOOKUP($D86,Lists!$AP$2:$AR$78,3,FALSE))","v":""},null,null,null,null,null,null,""]
[null,{"$f":"IF(D87=\"\",\"\",VLOOKUP($D87,Lists!$AP$2:$AR$78,2,FALSE))","v":""},{"$f":"IF(D87=\"\",\"\",VLOOKUP($D87,Lists!$AP$2:$AR$78,3,FALSE))","v":""},null,null,null,null,null,null,""]
[null,{"$f":"IF(D88=\"\",\"\",VLOOKUP($D88,Lists!$AP$2:$AR$78,2,FALSE))","v":""},{"$f":"IF(D88=\"\",\"\",VLOOKUP($D88,Lists!$AP$2:$AR$78,3,FALSE))","v":""},null,null,null,null,null,null,""]
[null,{"$f":"IF(D89=\"\",\"\",VLOOKUP($D89,Lists!$AP$2:$AR$78,2,FALSE))","v":""},{"$f":"IF(D89=\"\",\"\",VLOOKUP($D89,Lists!$AP$2:$AR$78,3,FALSE))","v":""},null,null,null,null,null,null,{"$f":"IF(I89=\"\",\"\",(VALUE(TEXT(H89,\"m/dd/yy \")&TEXT(I89,\"hh:mm:ss\"))-(VALUE(TEXT(F89,\"m/dd/yy \")&TEXT(G89,\"hh:mm:ss\"))))*24)","v":""}]
[null,{"$f":"IF(D90=\"\",\"\",VLOOKUP($D90,Lists!$AP$2:$AR$78,2,FALSE))","v":""},{"$f":"IF(D90=\"\",\"\",VLOOKUP($D90,Lists!$AP$2:$AR$78,3,FALSE))","v":""},null,null,null,null,null,null,""]
[null,{"$f":"IF(D91=\"\",\"\",VLOOKUP($D91,Lists!$AP$2:$AR$78,2,FALSE))","v":""},{"$f":"IF(D91=\"\",\"\",VLOOKUP($D91,Lists!$AP$2:$AR$78,3,FALSE))","v":""},null,null,null,null,null,null,""]
[null,{"$f":"IF(D92=\"\",\"\",VLOOKUP($D92,Lists!$AP$2:$AR$78,2,FALSE))","v":""},{"$f":"IF(D92=\"\",\"\",VLOOKUP($D92,Lists!$AP$2:$AR$78,3,FALSE))","v":""},null,null,null,null,null,null,""]
[null,{"$f":"IF(D93=\"\",\"\",VLOOKUP($D93,Lists!$AP$2:$AR$78,2,FALSE))","v":""},{"$f":"IF(D93=\"\",\"\",VLOOKUP($D93,Lists!$AP$2:$AR$78,3,FALSE))","v":""},null,null,null,null,null,null,""]
[null,{"$f":"IF(D94=\"\",\"\",VLOOKUP($D94,Lists!$AP$2:$AR$78,2,FALSE))","v":""},{"$f":"IF(D94=\"\",\"\",VLOOKUP($D94,Lists!$AP$2:$AR$78,3,FALSE))","v":""},null,null,null,null,null,null,""]
[null,{"$f":"IF(D95=\"\",\"\",VLOOKUP($D95,Lists!$AP$2:$AR$78,2,FALSE))","v":""},{"$f":"IF(D95=\"\",\"\",VLOOKUP($D95,Lists!$AP$2:$AR$78,3,FALSE))","v":""},null,null,null,null,null,null,""]
[null,{"$f":"IF(D96=\"\",\"\",VLOOKUP($D96,Lists!$AP$2:$AR$78,2,FALSE))","v":""},{"$f":"IF(D96=\"\",\"\",VLOOKUP($D96,Lists!$AP$2:$AR$78,3,FALSE))","v":""},null,null,null,null,null,null,""]
[null,{"$f":"IF(D97=\"\",\"\",VLOOKUP($D97,Lists!$AP$2:$AR$78,2,FALSE))","v":""},{"$f":"IF(D97=\"\",\"\",VLOOKUP($D97,Lists!$AP$2:$AR$78,3,FALSE))","v":""},null,null,null,null,null,null,""]
[null,{"$f":"IF(D98=\"\",\"\",VLOOKUP($D98,Lists!$AP$2:$AR$78,2,FALSE))","v":""},{"$f":"IF(D98=\"\",\"\",VLOOKUP($D98,Lists!$AP$2:$AR$78,3,FALSE))","v":""},null,null,null,null,null,null,""]
[null,{"$f":"IF(D99=\"\",\"\",VLOOKUP($D99,Lists!$AP$2:$AR$78,2,FALSE))","v":""},{"$f":"IF(D99=\"\",\"\",VLOOKUP($D99,Lists!$AP$2:$AR$78,3,FALSE))","v":""},null,null,null,null,null,null,""]
[null,{"$f":"IF(D100=\"\",\"\",VLOOKUP($D100,Lists!$AP$2:$AR$78,2,FALSE))","v":""},{"$f":"IF(D100=\"\",\"\",VLOOKUP($D100,Lists!$AP$2:$AR$78,3,FALSE))","v":""},null,null,null,null,null,null,""]
[null,{"$f":"IF(D101=\"\",\"\",VLOOKUP($D101,Lists!$AP$2:$AR$78,2,FALSE))","v":""},{"$f":"IF(D101=\"\",\"\",VLOOKUP($D101,Lists!$AP$2:$AR$78,3,FALSE))","v":""},null,null,null,null,null,null,""]
[null,{"$f":"IF(D102=\"\",\"\",VLOOKUP($D102,Lists!$AP$2:$AR$78,2,FALSE))","v":""},{"$f":"IF(D102=\"\",\"\",VLOOKUP($D102,Lists!$AP$2:$AR$78,3,FALSE))","v":""},null,null,null,null,null,null,""]
[null,{"$f":"IF(D103=\"\",\"\",VLOOKUP($D103,Lists!$AP$2:$AR$78,2,FALSE))","v":""},{"$f":"IF(D103=\"\",\"\",VLOOKUP($D103,Lists!$AP$2:$AR$78,3,FALSE))","v":""},null,null,null,null,null,null,""]
[null,{"$f":"IF(D104=\"\",\"\",VLOOKUP($D104,Lists!$AP$2:$AR$78,2,FALSE))","v":""},{"$f":"IF(D104=\"\",\"\",VLOOKUP($D104,Lists!$AP$2:$AR$78,3,FALSE))","v":""},null,null,null,null,null,null,""]
[null,{"$f":"IF(D105=\"\",\"\",VLOOKUP($D105,Lists!$AP$2:$AR$78,2,FALSE))","v":""},{"$f":"IF(D105=\"\",\"\",VLOOKUP($D105,Lists!$AP$2:$AR$78,3,FALSE))","v":""},null,null,null,null,null,null,""]
[null,{"$f":"IF(D106=\"\",\"\",VLOOKUP($D106,Lists!$AP$2:$AR$78,2,FALSE))","v":""},{"$f":"IF(D106=\"\",\"\",VLOOKUP($D106,Lists!$AP$2:$AR$78,3,FALSE))","v":""},null,null,null,null,null,null,""]
[null,{"$f":"IF(D107=\"\",\"\",VLOOKUP($D107,Lists!$AP$2:$AR$78,2,FALSE))","v":""},{"$f":"IF(D107=\"\",\"\",VLOOKUP($D107,Lists!$AP$2:$AR$78,3,FALSE))","v":""},null,null,null,null,null,null,""]
[null,{"$f":"IF(D108=\"\",\"\",VLOOKUP($D108,Lists!$AP$2:$AR$78,2,FALSE))","v":""},{"$f":"IF(D108=\"\",\"\",VLOOKUP($D108,Lists!$AP$2:$AR$78,3,FALSE))","v":""},null,null,null,null,null,null,""]
[null,{"$f":"IF(D109=\"\",\"\",VLOOKUP($D109,Lists!$AP$2:$AR$78,2,FALSE))","v":""},{"$f":"IF(D109=\"\",\"\",VLOOKUP($D109,Lists!$AP$2:$AR$78,3,FALSE))","v":""},null,null,null,null,null,null,""]
[null,{"$f":"IF(D110=\"\",\"\",VLOOKUP($D110,Lists!$AP$2:$AR$78,2,FALSE))","v":""},{"$f":"IF(D110=\"\",\"\",VLOOKUP($D110,Lists!$AP$2:$AR$78,3,FALSE))","v":""},null,null,null,null,null,null,""]
[null,{"$f":"IF(D111=\"\",\"\",VLOOKUP($D111,Lists!$AP$2:$AR$78,2,FALSE))","v":""},{"$f":"IF(D111=\"\",\"\",VLOOKUP($D111,Lists!$AP$2:$AR$78,3,FALSE))","v":""},null,null,null,null,null,null,""]
[null,{"$f":"IF(D112=\"\",\"\",VLOOKUP($D112,Lists!$AP$2:$AR$78,2,FALSE))","v":""},{"$f":"IF(D112=\"\",\"\",VLOOKUP($D112,Lists!$AP$2:$AR$78,3,FALSE))","v":""},null,null,null,null,null,null,""]
[null,{"$f":"IF(D113=\"\",\"\",VLOOKUP($D113,Lists!$AP$2:$AR$78,2,FALSE))","v":""},{"$f":"IF(D113=\"\",\"\",VLOOKUP($D113,Lists!$AP$2:$AR$78,3,FALSE))","v":""},null,null,null,null,null,null,""]
[null,{"$f":"IF(D114=\"\",\"\",VLOOKUP($D114,Lists!$AP$2:$AR$78,2,FALSE))","v":""},{"$f":"IF(D114=\"\",\"\",VLOOKUP($D114,Lists!$AP$2:$AR$78,3,FALSE))","v":""},null,null,null,null,null,null,""]
[null,{"$f":"IF(D115=\"\",\"\",VLOOKUP($D115,Lists!$AP$2:$AR$78,2,FALSE))","v":""},{"$f":"IF(D115=\"\",\"\",VLOOKUP($D115,Lists!$AP$2:$AR$78,3,FALSE))","v":""},null,null,null,null,null,null,""]
[null,{"$f":"IF(D116=\"\",\"\",VLOOKUP($D116,Lists!$AP$2:$AR$78,2,FALSE))","v":""},{"$f":"IF(D116=\"\",\"\",VLOOKUP($D116,Lists!$AP$2:$AR$78,3,FALSE))","v":""},null,null,null,null,null,null,""]
[null,{"$f":"IF(D117=\"\",\"\",VLOOKUP($D117,Lists!$AP$2:$AR$78,2,FALSE))","v":""},{"$f":"IF(D117=\"\",\"\",VLOOKUP($D117,Lists!$AP$2:$AR$78,3,FALSE))","v":""},null,null,null,null,null,null,""]
[null,{"$f":"IF(D118=\"\",\"\",VLOOKUP($D118,Lists!$AP$2:$AR$78,2,FALSE))","v":""},{"$f":"IF(D118=\"\",\"\",VLOOKUP($D118,Lists!$AP$2:$AR$78,3,FALSE))","v":""},null,null,null,null,null,null,""]
[null,{"$f":"IF(D119=\"\",\"\",VLOOKUP($D119,Lists!$AP$2:$AR$78,2,FALSE))","v":""},{"$f":"IF(D119=\"\",\"\",VLOOKUP($D119,Lists!$AP$2:$AR$78,3,FALSE))","v":""},null,null,null,null,null,null,""]
[null,{"$f":"IF(D120=\"\",\"\",VLOOKUP($D120,Lists!$AP$2:$AR$78,2,FALSE))","v":""},{"$f":"IF(D120=\"\",\"\",VLOOKUP($D120,Lists!$AP$2:$AR$78,3,FALSE))","v":""},null,null,null,null,null,null,""]
[null,{"$f":"IF(D121=\"\",\"\",VLOOKUP($D121,Lists!$AP$2:$AR$78,2,FALSE))","v":""},{"$f":"IF(D121=\"\",\"\",VLOOKUP($D121,Lists!$AP$2:$AR$78,3,FALSE))","v":""},null,null,null,null,null,null,""]
[null,{"$f":"IF(D122=\"\",\"\",VLOOKUP($D122,Lists!$AP$2:$AR$78,2,FALSE))","v":""},{"$f":"IF(D122=\"\",\"\",VLOOKUP($D122,Lists!$AP$2:$AR$78,3,FALSE))","v":""},null,null,null,null,null,null,""]
[null,{"$f":"IF(D123=\"\",\"\",VLOOKUP($D123,Lists!$AP$2:$AR$78,2,FALSE))","v":""},{"$f":"IF(D123=\"\",\"\",VLOOKUP($D123,Lists!$AP$2:$AR$78,3,FALSE))","v":""},null,null,null,null,null,null,""]
[null,{"$f":"IF(D124=\"\",\"\",VLOOKUP($D124,Lists!$AP$2:$AR$78,2,FALSE))","v":""},{"$f":"IF(D124=\"\",\"\",VLOOKUP($D124,Lists!$AP$2:$AR$78,3,FALSE))","v":""},null,null,null,null,null,null,""]
[null,{"$f":"IF(D125=\"\",\"\",VLOOKUP($D125,Lists!$AP$2:$AR$78,2,FALSE))","v":""},{"$f":"IF(D125=\"\",\"\",VLOOKUP($D125,Lists!$AP$2:$AR$78,3,FALSE))","v":""},null,null,null,null,null,null,""]
[null,{"$f":"IF(D126=\"\",\"\",VLOOKUP($D126,Lists!$AP$2:$AR$78,2,FALSE))","v":""},{"$f":"IF(D126=\"\",\"\",VLOOKUP($D126,Lists!$AP$2:$AR$78,3,FALSE))","v":""},null,null,null,null,null,null,""]
[null,{"$f":"IF(D127=\"\",\"\",VLOOKUP($D127,Lists!$AP$2:$AR$78,2,FALSE))","v":""},{"$f":"IF(D127=\"\",\"\",VLOOKUP($D127,Lists!$AP$2:$AR$78,3,FALSE))","v":""},null,null,null,null,null,null,""]
[null,{"$f":"IF(D128=\"\",\"\",VLOOKUP($D128,Lists!$AP$2:$AR$78,2,FALSE))","v":""},{"$f":"IF(D128=\"\",\"\",VLOOKUP($D128,Lists!$AP$2:$AR$78,3,FALSE))","v":""},null,null,null,null,null,null,""]
[null,{"$f":"IF(D129=\"\",\"\",VLOOKUP($D129,Lists!$AP$2:$AR$78,2,FALSE))","v":""},{"$f":"IF(D129=\"\",\"\",VLOOKUP($D129,Lists!$AP$2:$AR$78,3,FALSE))","v":""},null,null,null,null,null,null,""]
[null,{"$f":"IF(D130=\"\",\"\",VLOOKUP($D130,Lists!$AP$2:$AR$78,2,FALSE))","v":""},{"$f":"IF(D130=\"\",\"\",VLOOKUP($D130,Lists!$AP$2:$AR$78,3,FALSE))","v":""},null,null,null,null,null,null,""]
[null,{"$f":"IF(D131=\"\",\"\",VLOOKUP($D131,Lists!$AP$2:$AR$78,2,FALSE))","v":""},{"$f":"IF(D131=\"\",\"\",VLOOKUP($D131,Lists!$AP$2:$AR$78,3,FALSE))","v":""},null,null,null,null,null,null,""]
[null,{"$f":"IF(D132=\"\",\"\",VLOOKUP($D132,Lists!$AP$2:$AR$78,2,FALSE))","v":""},{"$f":"IF(D132=\"\",\"\",VLOOKUP($D132,Lists!$AP$2:$AR$78,3,FALSE))","v":""},null,null,null,null,null,null,""]
[null,{"$f":"IF(D133=\"\",\"\",VLOOKUP($D133,Lists!$AP$2:$AR$78,2,FALSE))","v":""},{"$f":"IF(D133=\"\",\"\",VLOOKUP($D133,Lists!$AP$2:$AR$78,3,FALSE))","v":""},null,null,null,null,null,null,""]
[null,{"$f":"IF(D134=\"\",\"\",VLOOKUP($D134,Lists!$AP$2:$AR$78,2,FALSE))","v":""},{"$f":"IF(D134=\"\",\"\",VLOOKUP($D134,Lists!$AP$2:$AR$78,3,FALSE))","v":""},null,null,null,null,null,null,""]
[null,{"$f":"IF(D135=\"\",\"\",VLOOKUP($D135,Lists!$AP$2:$AR$78,2,FALSE))","v":""},{"$f":"IF(D135=\"\",\"\",VLOOKUP($D135,Lists!$AP$2:$AR$78,3,FALSE))","v":""},null,null,null,null,null,null,""]
[null,{"$f":"IF(D136=\"\",\"\",VLOOKUP($D136,Lists!$AP$2:$AR$78,2,FALSE))","v":""},{"$f":"IF(D136=\"\",\"\",VLOOKUP($D136,Lists!$AP$2:$AR$78,3,FALSE))","v":""},null,null,null,null,null,null,""]
[null,{"$f":"IF(D137=\"\",\"\",VLOOKUP($D137,Lists!$AP$2:$AR$78,2,FALSE))","v":""},{"$f":"IF(D137=\"\",\"\",VLOOKUP($D137,Lists!$AP$2:$AR$78,3,FALSE))","v":""},null,null,null,null,null,null,""]
[null,{"$f":"IF(D138=\"\",\"\",VLOOKUP($D138,Lists!$AP$2:$AR$78,2,FALSE))","v":""},{"$f":"IF(D138=\"\",\"\",VLOOKUP($D138,Lists!$AP$2:$AR$78,3,FALSE))","v":""},null,null,null,null,null,null,""]
[null,{"$f":"IF(D139=\"\",\"\",VLOOKUP($D139,Lists!$AP$2:$AR$78,2,FALSE))","v":""},{"$f":"IF(D139=\"\",\"\",VLOOKUP($D139,Lists!$AP$2:$AR$78,3,FALSE))","v":""},null,null,null,null,null,null,""]
[null,{"$f":"IF(D140=\"\",\"\",VLOOKUP($D140,Lists!$AP$2:$AR$78,2,FALSE))","v":""},{"$f":"IF(D140=\"\",\"\",VLOOKUP($D140,Lists!$AP$2:$AR$78,3,FALSE))","v":""},null,null,null,null,null,null,""]
[null,{"$f":"IF(D141=\"\",\"\",VLOOKUP($D141,Lists!$AP$2:$AR$78,2,FALSE))","v":""},{"$f":"IF(D141=\"\",\"\",VLOOKUP($D141,Lists!$AP$2:$AR$78,3,FALSE))","v":""},null,null,null,null,null,null,""]
[null,{"$f":"IF(D142=\"\",\"\",VLOOKUP($D142,Lists!$AP$2:$AR$78,2,FALSE))","v":""},{"$f":"IF(D142=\"\",\"\",VLOOKUP($D142,Lists!$AP$2:$AR$78,3,FALSE))","v":""},null,null,null,null,null,null,""]
[null,{"$f":"IF(D143=\"\",\"\",VLOOKUP($D143,Lists!$AP$2:$AR$78,2,FALSE))","v":""},{"$f":"IF(D143=\"\",\"\",VLOOKUP($D143,Lists!$AP$2:$AR$78,3,FALSE))","v":""},null,null,null,null,null,null,""]
[null,{"$f":"IF(D144=\"\",\"\",VLOOKUP($D144,Lists!$AP$2:$AR$78,2,FALSE))","v":""},{"$f":"IF(D144=\"\",\"\",VLOOKUP($D144,Lists!$AP$2:$AR$78,3,FALSE))","v":""},null,null,null,null,null,null,""]
[null,{"$f":"IF(D145=\"\",\"\",VLOOKUP($D145,Lists!$AP$2:$AR$78,2,FALSE))","v":""},{"$f":"IF(D145=\"\",\"\",VLOOKUP($D145,Lists!$AP$2:$AR$78,3,FALSE))","v":""},null,null,null,null,null,null,""]
[null,{"$f":"IF(D146=\"\",\"\",VLOOKUP($D146,Lists!$AP$2:$AR$78,2,FALSE))","v":""},{"$f":"IF(D146=\"\",\"\",VLOOKUP($D146,Lists!$AP$2:$AR$78,3,FALSE))","v":""},null,null,null,null,null,null,""]
[null,{"$f":"IF(D147=\"\",\"\",VLOOKUP($D147,Lists!$AP$2:$AR$78,2,FALSE))","v":""},{"$f":"IF(D147=\"\",\"\",VLOOKUP($D147,Lists!$AP$2:$AR$78,3,FALSE))","v":""},null,null,null,null,null,null,""]
[null,{"$f":"IF(D148=\"\",\"\",VLOOKUP($D148,Lists!$AP$2:$AR$78,2,FALSE))","v":""},{"$f":"IF(D148=\"\",\"\",VLOOKUP($D148,Lists!$AP$2:$AR$78,3,FALSE))","v":""},null,null,null,null,null,null,""]
[null,{"$f":"IF(D149=\"\",\"\",VLOOKUP($D149,Lists!$AP$2:$AR$78,2,FALSE))","v":""},{"$f":"IF(D149=\"\",\"\",VLOOKUP($D149,Lists!$AP$2:$AR$78,3,FALSE))","v":""},null,null,null,null,null,null,""]
[null,{"$f":"IF(D150=\"\",\"\",VLOOKUP($D150,Lists!$AP$2:$AR$78,2,FALSE))","v":""},{"$f":"IF(D150=\"\",\"\",VLOOKUP($D150,Lists!$AP$2:$AR$78,3,FALSE))","v":""},null,null,null,null,null,null,""]
[null,{"$f":"IF(D151=\"\",\"\",VLOOKUP($D151,Lists!$AP$2:$AR$78,2,FALSE))","v":""},{"$f":"IF(D151=\"\",\"\",VLOOKUP($D151,Lists!$AP$2:$AR$78,3,FALSE))","v":""},null,null,null,null,null,null,""]
[null,{"$f":"IF(D152=\"\",\"\",VLOOKUP($D152,Lists!$AP$2:$AR$78,2,FALSE))","v":""},{"$f":"IF(D152=\"\",\"\",VLOOKUP($D152,Lists!$AP$2:$AR$78,3,FALSE))","v":""},null,null,null,null,null,null,""]
[null,{"$f":"IF(D153=\"\",\"\",VLOOKUP($D153,Lists!$AP$2:$AR$78,2,FALSE))","v":""},{"$f":"IF(D153=\"\",\"\",VLOOKUP($D153,Lists!$AP$2:$AR$78,3,FALSE))","v":""},null,null,null,null,null,null,{"$f":"IF(I153=\"\",\"\",(VALUE(TEXT(H153,\"m/dd/yy \")&TEXT(I153,\"hh:mm:ss\"))-(VALUE(TEXT(F153,\"m/dd/yy \")&TEXT(G153,\"hh:mm:ss\"))))*24)","v":""}]
[null,{"$f":"IF(D154=\"\",\"\",VLOOKUP($D154,Lists!$AP$2:$AR$78,2,FALSE))","v":""},{"$f":"IF(D154=\"\",\"\",VLOOKUP($D154,Lists!$AP$2:$AR$78,3,FALSE))","v":""},null,null,null,null,null,null,""]
[null,{"$f":"IF(D155=\"\",\"\",VLOOKUP($D155,Lists!$AP$2:$AR$78,2,FALSE))","v":""},{"$f":"IF(D155=\"\",\"\",VLOOKUP($D155,Lists!$AP$2:$AR$78,3,FALSE))","v":""},null,null,null,null,null,null,""]
[null,{"$f":"IF(D156=\"\",\"\",VLOOKUP($D156,Lists!$AP$2:$AR$78,2,FALSE))","v":""},{"$f":"IF(D156=\"\",\"\",VLOOKUP($D156,Lists!$AP$2:$AR$78,3,FALSE))","v":""},null,null,null,null,null,null,""]
[null,{"$f":"IF(D157=\"\",\"\",VLOOKUP($D157,Lists!$AP$2:$AR$78,2,FALSE))","v":""},{"$f":"IF(D157=\"\",\"\",VLOOKUP($D157,Lists!$AP$2:$AR$78,3,FALSE))","v":""},null,null,null,null,null,null,""]
[null,{"$f":"IF(D158=\"\",\"\",VLOOKUP($D158,Lists!$AP$2:$AR$78,2,FALSE))","v":""},{"$f":"IF(D158=\"\",\"\",VLOOKUP($D158,Lists!$AP$2:$AR$78,3,FALSE))","v":""},null,null,null,null,null,null,""]
[null,{"$f":"IF(D159=\"\",\"\",VLOOKUP($D159,Lists!$AP$2:$AR$78,2,FALSE))","v":""},{"$f":"IF(D159=\"\",\"\",VLOOKUP($D159,Lists!$AP$2:$AR$78,3,FALSE))","v":""},null,null,null,null,null,null,""]
[null,{"$f":"IF(D160=\"\",\"\",VLOOKUP($D160,Lists!$AP$2:$AR$78,2,FALSE))","v":""},{"$f":"IF(D160=\"\",\"\",VLOOKUP($D160,Lists!$AP$2:$AR$78,3,FALSE))","v":""},null,null,null,null,null,null,""]
[null,{"$f":"IF(D161=\"\",\"\",VLOOKUP($D161,Lists!$AP$2:$AR$78,2,FALSE))","v":""},{"$f":"IF(D161=\"\",\"\",VLOOKUP($D161,Lists!$AP$2:$AR$78,3,FALSE))","v":""},null,null,null,null,null,null,""]
[null,{"$f":"IF(D162=\"\",\"\",VLOOKUP($D162,Lists!$AP$2:$AR$78,2,FALSE))","v":""},{"$f":"IF(D162=\"\",\"\",VLOOKUP($D162,Lists!$AP$2:$AR$78,3,FALSE))","v":""},null,null,null,null,null,null,""]
[null,{"$f":"IF(D163=\"\",\"\",VLOOKUP($D163,Lists!$AP$2:$AR$78,2,FALSE))","v":""},{"$f":"IF(D163=\"\",\"\",VLOOKUP($D163,Lists!$AP$2:$AR$78,3,FALSE))","v":""},null,null,null,null,null,null,""]
[null,{"$f":"IF(D164=\"\",\"\",VLOOKUP($D164,Lists!$AP$2:$AR$78,2,FALSE))","v":""},{"$f":"IF(D164=\"\",\"\",VLOOKUP($D164,Lists!$AP$2:$AR$78,3,FALSE))","v":""},null,null,null,null,null,null,""]
[null,{"$f":"IF(D165=\"\",\"\",VLOOKUP($D165,Lists!$AP$2:$AR$78,2,FALSE))","v":""},{"$f":"IF(D165=\"\",\"\",VLOOKUP($D165,Lists!$AP$2:$AR$78,3,FALSE))","v":""},null,null,null,null,null,null,""]
[null,{"$f":"IF(D166=\"\",\"\",VLOOKUP($D166,Lists!$AP$2:$AR$78,2,FALSE))","v":""},{"$f":"IF(D166=\"\",\"\",VLOOKUP($D166,Lists!$AP$2:$AR$78,3,FALSE))","v":""},null,null,null,null,null,null,""]
[null,{"$f":"IF(D167=\"\",\"\",VLOOKUP($D167,Lists!$AP$2:$AR$78,2,FALSE))","v":""},{"$f":"IF(D167=\"\",\"\",VLOOKUP($D167,Lists!$AP$2:$AR$78,3,FALSE))","v":""},null,null,null,null,null,null,""]
[null,{"$f":"IF(D168=\"\",\"\",VLOOKUP($D168,Lists!$AP$2:$AR$78,2,FALSE))","v":""},{"$f":"IF(D168=\"\",\"\",VLOOKUP($D168,Lists!$AP$2:$AR$78,3,FALSE))","v":""},null,null,null,null,null,null,""]
[null,{"$f":"IF(D169=\"\",\"\",VLOOKUP($D169,Lists!$AP$2:$AR$78,2,FALSE))","v":""},{"$f":"IF(D169=\"\",\"\",VLOOKUP($D169,Lists!$AP$2:$AR$78,3,FALSE))","v":""},null,null,null,null,null,null,""]
[null,{"$f":"IF(D170=\"\",\"\",VLOOKUP($D170,Lists!$AP$2:$AR$78,2,FALSE))","v":""},{"$f":"IF(D170=\"\",\"\",VLOOKUP($D170,Lists!$AP$2:$AR$78,3,FALSE))","v":""},null,null,null,null,null,null,""]
[null,{"$f":"IF(D171=\"\",\"\",VLOOKUP($D171,Lists!$AP$2:$AR$78,2,FALSE))","v":""},{"$f":"IF(D171=\"\",\"\",VLOOKUP($D171,Lists!$AP$2:$AR$78,3,FALSE))","v":""},null,null,null,null,null,null,""]
[null,{"$f":"IF(D172=\"\",\"\",VLOOKUP($D172,Lists!$AP$2:$AR$78,2,FALSE))","v":""},{"$f":"IF(D172=\"\",\"\",VLOOKUP($D172,Lists!$AP$2:$AR$78,3,FALSE))","v":""},null,null,null,null,null,null,""]
[null,{"$f":"IF(D173=\"\",\"\",VLOOKUP($D173,Lists!$AP$2:$AR$78,2,FALSE))","v":""},{"$f":"IF(D173=\"\",\"\",VLOOKUP($D173,Lists!$AP$2:$AR$78,3,FALSE))","v":""},null,null,null,null,null,null,""]
[null,{"$f":"IF(D174=\"\",\"\",VLOOKUP($D174,Lists!$AP$2:$AR$78,2,FALSE))","v":""},{"$f":"IF(D174=\"\",\"\",VLOOKUP($D174,Lists!$AP$2:$AR$78,3,FALSE))","v":""},null,null,null,null,null,null,""]
[null,{"$f":"IF(D175=\"\",\"\",VLOOKUP($D175,Lists!$AP$2:$AR$78,2,FALSE))","v":""},{"$f":"IF(D175=\"\",\"\",VLOOKUP($D175,Lists!$AP$2:$AR$78,3,FALSE))","v":""},null,null,null,null,null,null,""]
[null,{"$f":"IF(D176=\"\",\"\",VLOOKUP($D176,Lists!$AP$2:$AR$78,2,FALSE))","v":""},{"$f":"IF(D176=\"\",\"\",VLOOKUP($D176,Lists!$AP$2:$AR$78,3,FALSE))","v":""},null,null,null,null,null,null,""]
[null,{"$f":"IF(D177=\"\",\"\",VLOOKUP($D177,Lists!$AP$2:$AR$78,2,FALSE))","v":""},{"$f":"IF(D177=\"\",\"\",VLOOKUP($D177,Lists!$AP$2:$AR$78,3,FALSE))","v":""},null,null,null,null,null,null,""]
[null,{"$f":"IF(D178=\"\",\"\",VLOOKUP($D178,Lists!$AP$2:$AR$78,2,FALSE))","v":""},{"$f":"IF(D178=\"\",\"\",VLOOKUP($D178,Lists!$AP$2:$AR$78,3,FALSE))","v":""},null,null,null,null,null,null,""]
[null,{"$f":"IF(D179=\"\",\"\",VLOOKUP($D179,Lists!$AP$2:$AR$78,2,FALSE))","v":""},{"$f":"IF(D179=\"\",\"\",VLOOKUP($D179,Lists!$AP$2:$AR$78,3,FALSE))","v":""},null,null,null,null,null,null,""]
[null,{"$f":"IF(D180=\"\",\"\",VLOOKUP($D180,Lists!$AP$2:$AR$78,2,FALSE))","v":""},{"$f":"IF(D180=\"\",\"\",VLOOKUP($D180,Lists!$AP$2:$AR$78,3,FALSE))","v":""},null,null,null,null,null,null,""]
[null,{"$f":"IF(D181=\"\",\"\",VLOOKUP($D181,Lists!$AP$2:$AR$78,2,FALSE))","v":""},{"$f":"IF(D181=\"\",\"\",VLOOKUP($D181,Lists!$AP$2:$AR$78,3,FALSE))","v":""},null,null,null,null,null,null,""]
[null,{"$f":"IF(D182=\"\",\"\",VLOOKUP($D182,Lists!$AP$2:$AR$78,2,FALSE))","v":""},{"$f":"IF(D182=\"\",\"\",VLOOKUP($D182,Lists!$AP$2:$AR$78,3,FALSE))","v":""},null,null,null,null,null,null,""]
[null,{"$f":"IF(D183=\"\",\"\",VLOOKUP($D183,Lists!$AP$2:$AR$78,2,FALSE))","v":""},{"$f":"IF(D183=\"\",\"\",VLOOKUP($D183,Lists!$AP$2:$AR$78,3,FALSE))","v":""},null,null,null,null,null,null,""]
[null,{"$f":"IF(D184=\"\",\"\",VLOOKUP($D184,Lists!$AP$2:$AR$78,2,FALSE))","v":""},{"$f":"IF(D184=\"\",\"\",VLOOKUP($D184,Lists!$AP$2:$AR$78,3,FALSE))","v":""},null,null,null,null,null,null,""]
[null,{"$f":"IF(D185=\"\",\"\",VLOOKUP($D185,Lists!$AP$2:$AR$78,2,FALSE))","v":""},{"$f":"IF(D185=\"\",\"\",VLOOKUP($D185,Lists!$AP$2:$AR$78,3,FALSE))","v":""},null,null,null,null,null,null,""]
[null,{"$f":"IF(D186=\"\",\"\",VLOOKUP($D186,Lists!$AP$2:$AR$78,2,FALSE))","v":""},{"$f":"IF(D186=\"\",\"\",VLOOKUP($D186,Lists!$AP$2:$AR$78,3,FALSE))","v":""},null,null,null,null,null,null,""]
[null,{"$f":"IF(D187=\"\",\"\",VLOOKUP($D187,Lists!$AP$2:$AR$78,2,FALSE))","v":""},{"$f":"IF(D187=\"\",\"\",VLOOKUP($D187,Lists!$AP$2:$AR$78,3,FALSE))","v":""},null,null,null,null,null,null,""]
[null,{"$f":"IF(D188=\"\",\"\",VLOOKUP($D188,Lists!$AP$2:$AR$78,2,FALSE))","v":""},{"$f":"IF(D188=\"\",\"\",VLOOKUP($D188,Lists!$AP$2:$AR$78,3,FALSE))","v":""},null,null,null,null,null,null,""]
[null,{"$f":"IF(D189=\"\",\"\",VLOOKUP($D189,Lists!$AP$2:$AR$78,2,FALSE))","v":""},{"$f":"IF(D189=\"\",\"\",VLOOKUP($D189,Lists!$AP$2:$AR$78,3,FALSE))","v":""},null,null,null,null,null,null,""]
[null,{"$f":"IF(D190=\"\",\"\",VLOOKUP($D190,Lists!$AP$2:$AR$78,2,FALSE))","v":""},{"$f":"IF(D190=\"\",\"\",VLOOKUP($D190,Lists!$AP$2:$AR$78,3,FALSE))","v":""},null,null,null,null,null,null,""]
[null,{"$f":"IF(D191=\"\",\"\",VLOOKUP($D191,Lists!$AP$2:$AR$78,2,FALSE))","v":""},{"$f":"IF(D191=\"\",\"\",VLOOKUP($D191,Lists!$AP$2:$AR$78,3,FALSE))","v":""},null,null,null,null,null,null,""]
[null,{"$f":"IF(D192=\"\",\"\",VLOOKUP($D192,Lists!$AP$2:$AR$78,2,FALSE))","v":""},{"$f":"IF(D192=\"\",\"\",VLOOKUP($D192,Lists!$AP$2:$AR$78,3,FALSE))","v":""},null,null,null,null,null,null,""]
[null,{"$f":"IF(D193=\"\",\"\",VLOOKUP($D193,Lists!$AP$2:$AR$78,2,FALSE))","v":""},{"$f":"IF(D193=\"\",\"\",VLOOKUP($D193,Lists!$AP$2:$AR$78,3,FALSE))","v":""},null,null,null,null,null,null,""]
[null,{"$f":"IF(D194=\"\",\"\",VLOOKUP($D194,Lists!$AP$2:$AR$78,2,FALSE))","v":""},{"$f":"IF(D194=\"\",\"\",VLOOKUP($D194,Lists!$AP$2:$AR$78,3,FALSE))","v":""},null,null,null,null,null,null,""]
[null,{"$f":"IF(D195=\"\",\"\",VLOOKUP($D195,Lists!$AP$2:$AR$78,2,FALSE))","v":""},{"$f":"IF(D195=\"\",\"\",VLOOKUP($D195,Lists!$AP$2:$AR$78,3,FALSE))","v":""},null,null,null,null,null,null,""]
[null,{"$f":"IF(D196=\"\",\"\",VLOOKUP($D196,Lists!$AP$2:$AR$78,2,FALSE))","v":""},{"$f":"IF(D196=\"\",\"\",VLOOKUP($D196,Lists!$AP$2:$AR$78,3,FALSE))","v":""},null,null,null,null,null,null,""]
[null,{"$f":"IF(D197=\"\",\"\",VLOOKUP($D197,Lists!$AP$2:$AR$78,2,FALSE))","v":""},{"$f":"IF(D197=\"\",\"\",VLOOKUP($D197,Lists!$AP$2:$AR$78,3,FALSE))","v":""},null,null,null,null,null,null,""]
[null,{"$f":"IF(D198=\"\",\"\",VLOOKUP($D198,Lists!$AP$2:$AR$78,2,FALSE))","v":""},{"$f":"IF(D198=\"\",\"\",VLOOKUP($D198,Lists!$AP$2:$AR$78,3,FALSE))","v":""},null,null,null,null,null,null,""]
[null,{"$f":"IF(D199=\"\",\"\",VLOOKUP($D199,Lists!$AP$2:$AR$78,2,FALSE))","v":""},{"$f":"IF(D199=\"\",\"\",VLOOKUP($D199,Lists!$AP$2:$AR$78,3,FALSE))","v":""},null,null,null,null,null,null,""]
[null,{"$f":"IF(D200=\"\",\"\",VLOOKUP($D200,Lists!$AP$2:$AR$78,2,FALSE))","v":""},{"$f":"IF(D200=\"\",\"\",VLOOKUP($D200,Lists!$AP$2:$AR$78,3,FALSE))","v":""},null,null,null,null,null,null,""]
[null,{"$f":"IF(D201=\"\",\"\",VLOOKUP($D201,Lists!$AP$2:$AR$78,2,FALSE))","v":""},{"$f":"IF(D201=\"\",\"\",VLOOKUP($D201,Lists!$AP$2:$AR$78,3,FALSE))","v":""},null,null,null,null,null,null,""]
[null,{"$f":"IF(D202=\"\",\"\",VLOOKUP($D202,Lists!$AP$2:$AR$78,2,FALSE))","v":""},{"$f":"IF(D202=\"\",\"\",VLOOKUP($D202,Lists!$AP$2:$AR$78,3,FALSE))","v":""},null,null,null,null,null,null,""]
[null,{"$f":"IF(D203=\"\",\"\",VLOOKUP($D203,Lists!$AP$2:$AR$78,2,FALSE))","v":""},{"$f":"IF(D203=\"\",\"\",VLOOKUP($D203,Lists!$AP$2:$AR$78,3,FALSE))","v":""},null,null,null,null,null,null,""]
[null,{"$f":"IF(D204=\"\",\"\",VLOOKUP($D204,Lists!$AP$2:$AR$78,2,FALSE))","v":""},{"$f":"IF(D204=\"\",\"\",VLOOKUP($D204,Lists!$AP$2:$AR$78,3,FALSE))","v":""},null,null,null,null,null,null,""]
[null,{"$f":"IF(D205=\"\",\"\",VLOOKUP($D205,Lists!$AP$2:$AR$78,2,FALSE))","v":""},{"$f":"IF(D205=\"\",\"\",VLOOKUP($D205,Lists!$AP$2:$AR$78,3,FALSE))","v":""},null,null,null,null,null,null,""]
[null,{"$f":"IF(D206=\"\",\"\",VLOOKUP($D206,Lists!$AP$2:$AR$78,2,FALSE))","v":""},{"$f":"IF(D206=\"\",\"\",VLOOKUP($D206,Lists!$AP$2:$AR$78,3,FALSE))","v":""},null,null,null,null,null,null,""]
[null,{"$f":"IF(D207=\"\",\"\",VLOOKUP($D207,Lists!$AP$2:$AR$78,2,FALSE))","v":""},{"$f":"IF(D207=\"\",\"\",VLOOKUP($D207,Lists!$AP$2:$AR$78,3,FALSE))","v":""},null,null,null,null,null,null,""]
[null,{"$f":"IF(D208=\"\",\"\",VLOOKUP($D208,Lists!$AP$2:$AR$78,2,FALSE))","v":""},{"$f":"IF(D208=\"\",\"\",VLOOKUP($D208,Lists!$AP$2:$AR$78,3,FALSE))","v":""},null,null,null,null,null,null,""]
[null,{"$f":"IF(D209=\"\",\"\",VLOOKUP($D209,Lists!$AP$2:$AR$78,2,FALSE))","v":""},{"$f":"IF(D209=\"\",\"\",VLOOKUP($D209,Lists!$AP$2:$AR$78,3,FALSE))","v":""},null,null,null,null,null,null,""]
[null,{"$f":"IF(D210=\"\",\"\",VLOOKUP($D210,Lists!$AP$2:$AR$78,2,FALSE))","v":""},{"$f":"IF(D210=\"\",\"\",VLOOKUP($D210,Lists!$AP$2:$AR$78,3,FALSE))","v":""},null,null,null,null,null,null,""]
[null,{"$f":"IF(D211=\"\",\"\",VLOOKUP($D211,Lists!$AP$2:$AR$78,2,FALSE))","v":""},{"$f":"IF(D211=\"\",\"\",VLOOKUP($D211,Lists!$AP$2:$AR$78,3,FALSE))","v":""},null,null,null,null,null,null,""]
[null,{"$f":"IF(D212=\"\",\"\",VLOOKUP($D212,Lists!$AP$2:$AR$78,2,FALSE))","v":""},{"$f":"IF(D212=\"\",\"\",VLOOKUP($D212,Lists!$AP$2:$AR$78,3,FALSE))","v":""},null,null,null,null,null,null,""]
[null,{"$f":"IF(D213=\"\",\"\",VLOOKUP($D213,Lists!$AP$2:$AR$78,2,FALSE))","v":""},{"$f":"IF(D213=\"\",\"\",VLOOKUP($D213,Lists!$AP$2:$AR$78,3,FALSE))","v":""},null,null,null,null,null,null,""]
[null,{"$f":"IF(D214=\"\",\"\",VLOOKUP($D214,Lists!$AP$2:$AR$78,2,FALSE))","v":""},{"$f":"IF(D214=\"\",\"\",VLOOKUP($D214,Lists!$AP$2:$AR$78,3,FALSE))","v":""},null,null,null,null,null,null,""]
[null,{"$f":"IF(D215=\"\",\"\",VLOOKUP($D215,Lists!$AP$2:$AR$78,2,FALSE))","v":""},{"$f":"IF(D215=\"\",\"\",VLOOKUP($D215,Lists!$AP$2:$AR$78,3,FALSE))","v":""},null,null,null,null,null,null,""]
[null,{"$f":"IF(D216=\"\",\"\",VLOOKUP($D216,Lists!$AP$2:$AR$78,2,FALSE))","v":""},{"$f":"IF(D216=\"\",\"\",VLOOKUP($D216,Lists!$AP$2:$AR$78,3,FALSE))","v":""},null,null,null,null,null,null,""]
[null,{"$f":"IF(D217=\"\",\"\",VLOOKUP($D217,Lists!$AP$2:$AR$78,2,FALSE))","v":""},{"$f":"IF(D217=\"\",\"\",VLOOKUP($D217,Lists!$AP$2:$AR$78,3,FALSE))","v":""},null,null,null,null,null,null,{"$f":"IF(I217=\"\",\"\",(VALUE(TEXT(H217,\"m/dd/yy \")&TEXT(I217,\"hh:mm:ss\"))-(VALUE(TEXT(F217,\"m/dd/yy \")&TEXT(G217,\"hh:mm:ss\"))))*24)","v":""}]
[null,{"$f":"IF(D218=\"\",\"\",VLOOKUP($D218,Lists!$AP$2:$AR$78,2,FALSE))","v":""},{"$f":"IF(D218=\"\",\"\",VLOOKUP($D218,Lists!$AP$2:$AR$78,3,FALSE))","v":""},null,null,null,null,null,null,""]
[null,{"$f":"IF(D219=\"\",\"\",VLOOKUP($D219,Lists!$AP$2:$AR$78,2,FALSE))","v":""},{"$f":"IF(D219=\"\",\"\",VLOOKUP($D219,Lists!$AP$2:$AR$78,3,FALSE))","v":""},null,null,null,null,null,null,""]
[null,{"$f":"IF(D220=\"\",\"\",VLOOKUP($D220,Lists!$AP$2:$AR$78,2,FALSE))","v":""},{"$f":"IF(D220=\"\",\"\",VLOOKUP($D220,Lists!$AP$2:$AR$78,3,FALSE))","v":""},null,null,null,null,null,null,""]
[null,{"$f":"IF(D221=\"\",\"\",VLOOKUP($D221,Lists!$AP$2:$AR$78,2,FALSE))","v":""},{"$f":"IF(D221=\"\",\"\",VLOOKUP($D221,Lists!$AP$2:$AR$78,3,FALSE))","v":""},null,null,null,null,null,null,""]
[null,{"$f":"IF(D222=\"\",\"\",VLOOKUP($D222,Lists!$AP$2:$AR$78,2,FALSE))","v":""},{"$f":"IF(D222=\"\",\"\",VLOOKUP($D222,Lists!$AP$2:$AR$78,3,FALSE))","v":""},null,null,null,null,null,null,""]
[null,{"$f":"IF(D223=\"\",\"\",VLOOKUP($D223,Lists!$AP$2:$AR$78,2,FALSE))","v":""},{"$f":"IF(D223=\"\",\"\",VLOOKUP($D223,Lists!$AP$2:$AR$78,3,FALSE))","v":""},null,null,null,null,null,null,""]
[null,{"$f":"IF(D224=\"\",\"\",VLOOKUP($D224,Lists!$AP$2:$AR$78,2,FALSE))","v":""},{"$f":"IF(D224=\"\",\"\",VLOOKUP($D224,Lists!$AP$2:$AR$78,3,FALSE))","v":""},null,null,null,null,null,null,""]
[null,{"$f":"IF(D225=\"\",\"\",VLOOKUP($D225,Lists!$AP$2:$AR$78,2,FALSE))","v":""},{"$f":"IF(D225=\"\",\"\",VLOOKUP($D225,Lists!$AP$2:$AR$78,3,FALSE))","v":""},null,null,null,null,null,null,""]
[null,{"$f":"IF(D226=\"\",\"\",VLOOKUP($D226,Lists!$AP$2:$AR$78,2,FALSE))","v":""},{"$f":"IF(D226=\"\",\"\",VLOOKUP($D226,Lists!$AP$2:$AR$78,3,FALSE))","v":""},null,null,null,null,null,null,""]
[null,{"$f":"IF(D227=\"\",\"\",VLOOKUP($D227,Lists!$AP$2:$AR$78,2,FALSE))","v":""},{"$f":"IF(D227=\"\",\"\",VLOOKUP($D227,Lists!$AP$2:$AR$78,3,FALSE))","v":""},null,null,null,null,null,null,""]
[null,{"$f":"IF(D228=\"\",\"\",VLOOKUP($D228,Lists!$AP$2:$AR$78,2,FALSE))","v":""},{"$f":"IF(D228=\"\",\"\",VLOOKUP($D228,Lists!$AP$2:$AR$78,3,FALSE))","v":""},null,null,null,null,null,null,""]
[null,{"$f":"IF(D229=\"\",\"\",VLOOKUP($D229,Lists!$AP$2:$AR$78,2,FALSE))","v":""},{"$f":"IF(D229=\"\",\"\",VLOOKUP($D229,Lists!$AP$2:$AR$78,3,FALSE))","v":""},null,null,null,null,null,null,""]
[null,{"$f":"IF(D230=\"\",\"\",VLOOKUP($D230,Lists!$AP$2:$AR$78,2,FALSE))","v":""},{"$f":"IF(D230=\"\",\"\",VLOOKUP($D230,Lists!$AP$2:$AR$78,3,FALSE))","v":""},null,null,null,null,null,null,""]
[null,{"$f":"IF(D231=\"\",\"\",VLOOKUP($D231,Lists!$AP$2:$AR$78,2,FALSE))","v":""},{"$f":"IF(D231=\"\",\"\",VLOOKUP($D231,Lists!$AP$2:$AR$78,3,FALSE))","v":""},null,null,null,null,null,null,""]
[null,{"$f":"IF(D232=\"\",\"\",VLOOKUP($D232,Lists!$AP$2:$AR$78,2,FALSE))","v":""},{"$f":"IF(D232=\"\",\"\",VLOOKUP($D232,Lists!$AP$2:$AR$78,3,FALSE))","v":""},null,null,null,null,null,null,""]
[null,{"$f":"IF(D233=\"\",\"\",VLOOKUP($D233,Lists!$AP$2:$AR$78,2,FALSE))","v":""},{"$f":"IF(D233=\"\",\"\",VLOOKUP($D233,Lists!$AP$2:$AR$78,3,FALSE))","v":""},null,null,null,null,null,null,""]
[null,{"$f":"IF(D234=\"\",\"\",VLOOKUP($D234,Lists!$AP$2:$AR$78,2,FALSE))","v":""},{"$f":"IF(D234=\"\",\"\",VLOOKUP($D234,Lists!$AP$2:$AR$78,3,FALSE))","v":""},null,null,null,null,null,null,""]
[null,{"$f":"IF(D235=\"\",\"\",VLOOKUP($D235,Lists!$AP$2:$AR$78,2,FALSE))","v":""},{"$f":"IF(D235=\"\",\"\",VLOOKUP($D235,Lists!$AP$2:$AR$78,3,FALSE))","v":""},null,null,null,null,null,null,""]
[null,{"$f":"IF(D236=\"\",\"\",VLOOKUP($D236,Lists!$AP$2:$AR$78,2,FALSE))","v":""},{"$f":"IF(D236=\"\",\"\",VLOOKUP($D236,Lists!$AP$2:$AR$78,3,FALSE))","v":""},null,null,null,null,null,null,""]
[null,{"$f":"IF(D237=\"\",\"\",VLOOKUP($D237,Lists!$AP$2:$AR$78,2,FALSE))","v":""},{"$f":"IF(D237=\"\",\"\",VLOOKUP($D237,Lists!$AP$2:$AR$78,3,FALSE))","v":""},null,null,null,null,null,null,""]
[null,{"$f":"IF(D238=\"\",\"\",VLOOKUP($D238,Lists!$AP$2:$AR$78,2,FALSE))","v":""},{"$f":"IF(D238=\"\",\"\",VLOOKUP($D238,Lists!$AP$2:$AR$78,3,FALSE))","v":""},null,null,null,null,null,null,""]
[null,{"$f":"IF(D239=\"\",\"\",VLOOKUP($D239,Lists!$AP$2:$AR$78,2,FALSE))","v":""},{"$f":"IF(D239=\"\",\"\",VLOOKUP($D239,Lists!$AP$2:$AR$78,3,FALSE))","v":""},null,null,null,null,null,null,""]
[null,{"$f":"IF(D240=\"\",\"\",VLOOKUP($D240,Lists!$AP$2:$AR$78,2,FALSE))","v":""},{"$f":"IF(D240=\"\",\"\",VLOOKUP($D240,Lists!$AP$2:$AR$78,3,FALSE))","v":""},null,null,null,null,null,null,""]
[null,{"$f":"IF(D241=\"\",\"\",VLOOKUP($D241,Lists!$AP$2:$AR$78,2,FALSE))","v":""},{"$f":"IF(D241=\"\",\"\",VLOOKUP($D241,Lists!$AP$2:$AR$78,3,FALSE))","v":""},null,null,null,null,null,null,""]
[null,{"$f":"IF(D242=\"\",\"\",VLOOKUP($D242,Lists!$AP$2:$AR$78,2,FALSE))","v":""},{"$f":"IF(D242=\"\",\"\",VLOOKUP($D242,Lists!$AP$2:$AR$78,3,FALSE))","v":""},null,null,null,null,null,null,""]
[null,{"$f":"IF(D243=\"\",\"\",VLOOKUP($D243,Lists!$AP$2:$AR$78,2,FALSE))","v":""},{"$f":"IF(D243=\"\",\"\",VLOOKUP($D243,Lists!$AP$2:$AR$78,3,FALSE))","v":""},null,null,null,null,null,null,""]
[null,{"$f":"IF(D244=\"\",\"\",VLOOKUP($D244,Lists!$AP$2:$AR$78,2,FALSE))","v":""},{"$f":"IF(D244=\"\",\"\",VLOOKUP($D244,Lists!$AP$2:$AR$78,3,FALSE))","v":""},null,null,null,null,null,null,""]
[null,{"$f":"IF(D245=\"\",\"\",VLOOKUP($D245,Lists!$AP$2:$AR$78,2,FALSE))","v":""},{"$f":"IF(D245=\"\",\"\",VLOOKUP($D245,Lists!$AP$2:$AR$78,3,FALSE))","v":""},null,null,null,null,null,null,""]
[null,{"$f":"IF(D246=\"\",\"\",VLOOKUP($D246,Lists!$AP$2:$AR$78,2,FALSE))","v":""},{"$f":"IF(D246=\"\",\"\",VLOOKUP($D246,Lists!$AP$2:$AR$78,3,FALSE))","v":""},null,null,null,null,null,null,""]
[null,{"$f":"IF(D247=\"\",\"\",VLOOKUP($D247,Lists!$AP$2:$AR$78,2,FALSE))","v":""},{"$f":"IF(D247=\"\",\"\",VLOOKUP($D247,Lists!$AP$2:$AR$78,3,FALSE))","v":""},null,null,null,null,null,null,""]
[null,{"$f":"IF(D248=\"\",\"\",VLOOKUP($D248,Lists!$AP$2:$AR$78,2,FALSE))","v":""},{"$f":"IF(D248=\"\",\"\",VLOOKUP($D248,Lists!$AP$2:$AR$78,3,FALSE))","v":""},null,null,null,null,null,null,""]
[null,{"$f":"IF(D249=\"\",\"\",VLOOKUP($D249,Lists!$AP$2:$AR$78,2,FALSE))","v":""},{"$f":"IF(D249=\"\",\"\",VLOOKUP($D249,Lists!$AP$2:$AR$78,3,FALSE))","v":""},null,null,null,null,null,null,""]
[null,{"$f":"IF(D250=\"\",\"\",VLOOKUP($D250,Lists!$AP$2:$AR$78,2,FALSE))","v":""},{"$f":"IF(D250=\"\",\"\",VLOOKUP($D250,Lists!$AP$2:$AR$78,3,FALSE))","v":""},null,null,null,null,null,null,""]
[null,{"$f":"IF(D251=\"\",\"\",VLOOKUP($D251,Lists!$AP$2:$AR$78,2,FALSE))","v":""},{"$f":"IF(D251=\"\",\"\",VLOOKUP($D251,Lists!$AP$2:$AR$78,3,FALSE))","v":""},null,null,null,null,null,null,""]
[null,{"$f":"IF(D252=\"\",\"\",VLOOKUP($D252,Lists!$AP$2:$AR$78,2,FALSE))","v":""},{"$f":"IF(D252=\"\",\"\",VLOOKUP($D252,Lists!$AP$2:$AR$78,3,FALSE))","v":""},null,null,null,null,null,null,""]
[null,{"$f":"IF(D253=\"\",\"\",VLOOKUP($D253,Lists!$AP$2:$AR$78,2,FALSE))","v":""},{"$f":"IF(D253=\"\",\"\",VLOOKUP($D253,Lists!$AP$2:$AR$78,3,FALSE))","v":""},null,null,null,null,null,null,""]
[null,{"$f":"IF(D254=\"\",\"\",VLOOKUP($D254,Lists!$AP$2:$AR$78,2,FALSE))","v":""},{"$f":"IF(D254=\"\",\"\",VLOOKUP($D254,Lists!$AP$2:$AR$78,3,FALSE))","v":""},null,null,null,null,null,null,""]
[null,{"$f":"IF(D255=\"\",\"\",VLOOKUP($D255,Lists!$AP$2:$AR$78,2,FALSE))","v":""},{"$f":"IF(D255=\"\",\"\",VLOOKUP($D255,Lists!$AP$2:$AR$78,3,FALSE))","v":""},null,null,null,null,null,null,""]
[null,{"$f":"IF(D256=\"\",\"\",VLOOKUP($D256,Lists!$AP$2:$AR$78,2,FALSE))","v":""},{"$f":"IF(D256=\"\",\"\",VLOOKUP($D256,Lists!$AP$2:$AR$78,3,FALSE))","v":""},null,null,null,null,null,null,""]
[null,{"$f":"IF(D257=\"\",\"\",VLOOKUP($D257,Lists!$AP$2:$AR$78,2,FALSE))","v":""},{"$f":"IF(D257=\"\",\"\",VLOOKUP($D257,Lists!$AP$2:$AR$78,3,FALSE))","v":""},null,null,null,null,null,null,""]
[null,{"$f":"IF(D258=\"\",\"\",VLOOKUP($D258,Lists!$AP$2:$AR$78,2,FALSE))","v":""},{"$f":"IF(D258=\"\",\"\",VLOOKUP($D258,Lists!$AP$2:$AR$78,3,FALSE))","v":""},null,null,null,null,null,null,""]
[null,{"$f":"IF(D259=\"\",\"\",VLOOKUP($D259,Lists!$AP$2:$AR$78,2,FALSE))","v":""},{"$f":"IF(D259=\"\",\"\",VLOOKUP($D259,Lists!$AP$2:$AR$78,3,FALSE))","v":""},null,null,null,null,null,null,""]
[null,{"$f":"IF(D260=\"\",\"\",VLOOKUP($D260,Lists!$AP$2:$AR$78,2,FALSE))","v":""},{"$f":"IF(D260=\"\",\"\",VLOOKUP($D260,Lists!$AP$2:$AR$78,3,FALSE))","v":""},null,null,null,null,null,null,""]
[null,{"$f":"IF(D261=\"\",\"\",VLOOKUP($D261,Lists!$AP$2:$AR$78,2,FALSE))","v":""},{"$f":"IF(D261=\"\",\"\",VLOOKUP($D261,Lists!$AP$2:$AR$78,3,FALSE))","v":""},null,null,null,null,null,null,""]
[null,{"$f":"IF(D262=\"\",\"\",VLOOKUP($D262,Lists!$AP$2:$AR$78,2,FALSE))","v":""},{"$f":"IF(D262=\"\",\"\",VLOOKUP($D262,Lists!$AP$2:$AR$78,3,FALSE))","v":""},null,null,null,null,null,null,""]
[null,{"$f":"IF(D263=\"\",\"\",VLOOKUP($D263,Lists!$AP$2:$AR$78,2,FALSE))","v":""},{"$f":"IF(D263=\"\",\"\",VLOOKUP($D263,Lists!$AP$2:$AR$78,3,FALSE))","v":""},null,null,null,null,null,null,""]
[null,{"$f":"IF(D264=\"\",\"\",VLOOKUP($D264,Lists!$AP$2:$AR$78,2,FALSE))","v":""},{"$f":"IF(D264=\"\",\"\",VLOOKUP($D264,Lists!$AP$2:$AR$78,3,FALSE))","v":""},null,null,null,null,null,null,""]
[null,{"$f":"IF(D265=\"\",\"\",VLOOKUP($D265,Lists!$AP$2:$AR$78,2,FALSE))","v":""},{"$f":"IF(D265=\"\",\"\",VLOOKUP($D265,Lists!$AP$2:$AR$78,3,FALSE))","v":""},null,null,null,null,null,null,""]
[null,{"$f":"IF(D266=\"\",\"\",VLOOKUP($D266,Lists!$AP$2:$AR$78,2,FALSE))","v":""},{"$f":"IF(D266=\"\",\"\",VLOOKUP($D266,Lists!$AP$2:$AR$78,3,FALSE))","v":""},null,null,null,null,null,null,""]
[null,{"$f":"IF(D267=\"\",\"\",VLOOKUP($D267,Lists!$AP$2:$AR$78,2,FALSE))","v":""},{"$f":"IF(D267=\"\",\"\",VLOOKUP($D267,Lists!$AP$2:$AR$78,3,FALSE))","v":""},null,null,null,null,null,null,""]
[null,{"$f":"IF(D268=\"\",\"\",VLOOKUP($D268,Lists!$AP$2:$AR$78,2,FALSE))","v":""},{"$f":"IF(D268=\"\",\"\",VLOOKUP($D268,Lists!$AP$2:$AR$78,3,FALSE))","v":""},null,null,null,null,null,null,""]
[null,{"$f":"IF(D269=\"\",\"\",VLOOKUP($D269,Lists!$AP$2:$AR$78,2,FALSE))","v":""},{"$f":"IF(D269=\"\",\"\",VLOOKUP($D269,Lists!$AP$2:$AR$78,3,FALSE))","v":""},null,null,null,null,null,null,""]
[null,{"$f":"IF(D270=\"\",\"\",VLOOKUP($D270,Lists!$AP$2:$AR$78,2,FALSE))","v":""},{"$f":"IF(D270=\"\",\"\",VLOOKUP($D270,Lists!$AP$2:$AR$78,3,FALSE))","v":""},null,null,null,null,null,null,""]
[null,{"$f":"IF(D271=\"\",\"\",VLOOKUP($D271,Lists!$AP$2:$AR$78,2,FALSE))","v":""},{"$f":"IF(D271=\"\",\"\",VLOOKUP($D271,Lists!$AP$2:$AR$78,3,FALSE))","v":""},null,null,null,null,null,null,""]
[null,{"$f":"IF(D272=\"\",\"\",VLOOKUP($D272,Lists!$AP$2:$AR$78,2,FALSE))","v":""},{"$f":"IF(D272=\"\",\"\",VLOOKUP($D272,Lists!$AP$2:$AR$78,3,FALSE))","v":""},null,null,null,null,null,null,""]
[null,{"$f":"IF(D273=\"\",\"\",VLOOKUP($D273,Lists!$AP$2:$AR$78,2,FALSE))","v":""},{"$f":"IF(D273=\"\",\"\",VLOOKUP($D273,Lists!$AP$2:$AR$78,3,FALSE))","v":""},null,null,null,null,null,null,""]
[null,{"$f":"IF(D274=\"\",\"\",VLOOKUP($D274,Lists!$AP$2:$AR$78,2,FALSE))","v":""},{"$f":"IF(D274=\"\",\"\",VLOOKUP($D274,Lists!$AP$2:$AR$78,3,FALSE))","v":""},null,null,null,null,null,null,""]
[null,{"$f":"IF(D275=\"\",\"\",VLOOKUP($D275,Lists!$AP$2:$AR$78,2,FALSE))","v":""},{"$f":"IF(D275=\"\",\"\",VLOOKUP($D275,Lists!$AP$2:$AR$78,3,FALSE))","v":""},null,null,null,null,null,null,""]
[null,{"$f":"IF(D276=\"\",\"\",VLOOKUP($D276,Lists!$AP$2:$AR$78,2,FALSE))","v":""},{"$f":"IF(D276=\"\",\"\",VLOOKUP($D276,Lists!$AP$2:$AR$78,3,FALSE))","v":""},null,null,null,null,null,null,""]
[null,{"$f":"IF(D277=\"\",\"\",VLOOKUP($D277,Lists!$AP$2:$AR$78,2,FALSE))","v":""},{"$f":"IF(D277=\"\",\"\",VLOOKUP($D277,Lists!$AP$2:$AR$78,3,FALSE))","v":""},null,null,null,null,null,null,""]
[null,{"$f":"IF(D278=\"\",\"\",VLOOKUP($D278,Lists!$AP$2:$AR$78,2,FALSE))","v":""},{"$f":"IF(D278=\"\",\"\",VLOOKUP($D278,Lists!$AP$2:$AR$78,3,FALSE))","v":""},null,null,null,null,null,null,""]
[null,{"$f":"IF(D279=\"\",\"\",VLOOKUP($D279,Lists!$AP$2:$AR$78,2,FALSE))","v":""},{"$f":"IF(D279=\"\",\"\",VLOOKUP($D279,Lists!$AP$2:$AR$78,3,FALSE))","v":""},null,null,null,null,null,null,""]
[null,{"$f":"IF(D280=\"\",\"\",VLOOKUP($D280,Lists!$AP$2:$AR$78,2,FALSE))","v":""},{"$f":"IF(D280=\"\",\"\",VLOOKUP($D280,Lists!$AP$2:$AR$78,3,FALSE))","v":""},null,null,null,null,null,null,""]
[null,{"$f":"IF(D281=\"\",\"\",VLOOKUP($D281,Lists!$AP$2:$AR$78,2,FALSE))","v":""},{"$f":"IF(D281=\"\",\"\",VLOOKUP($D281,Lists!$AP$2:$AR$78,3,FALSE))","v":""},null,null,null,null,null,null,{"$f":"IF(I281=\"\",\"\",(VALUE(TEXT(H281,\"m/dd/yy \")&TEXT(I281,\"hh:mm:ss\"))-(VALUE(TEXT(F281,\"m/dd/yy \")&TEXT(G281,\"hh:mm:ss\"))))*24)","v":""}]
[null,{"$f":"IF(D282=\"\",\"\",VLOOKUP($D282,Lists!$AP$2:$AR$78,2,FALSE))","v":""},{"$f":"IF(D282=\"\",\"\",VLOOKUP($D282,Lists!$AP$2:$AR$78,3,FALSE))","v":""},null,null,null,null,null,null,""]
[null,{"$f":"IF(D283=\"\",\"\",VLOOKUP($D283,Lists!$AP$2:$AR$78,2,FALSE))","v":""},{"$f":"IF(D283=\"\",\"\",VLOOKUP($D283,Lists!$AP$2:$AR$78,3,FALSE))","v":""},null,null,null,null,null,null,""]
[null,{"$f":"IF(D284=\"\",\"\",VLOOKUP($D284,Lists!$AP$2:$AR$78,2,FALSE))","v":""},{"$f":"IF(D284=\"\",\"\",VLOOKUP($D284,Lists!$AP$2:$AR$78,3,FALSE))","v":""},null,null,null,null,null,null,""]
[null,{"$f":"IF(D285=\"\",\"\",VLOOKUP($D285,Lists!$AP$2:$AR$78,2,FALSE))","v":""},{"$f":"IF(D285=\"\",\"\",VLOOKUP($D285,Lists!$AP$2:$AR$78,3,FALSE))","v":""},null,null,null,null,null,null,""]
[null,{"$f":"IF(D286=\"\",\"\",VLOOKUP($D286,Lists!$AP$2:$AR$78,2,FALSE))","v":""},{"$f":"IF(D286=\"\",\"\",VLOOKUP($D286,Lists!$AP$2:$AR$78,3,FALSE))","v":""},null,null,null,null,null,null,""]
[null,{"$f":"IF(D287=\"\",\"\",VLOOKUP($D287,Lists!$AP$2:$AR$78,2,FALSE))","v":""},{"$f":"IF(D287=\"\",\"\",VLOOKUP($D287,Lists!$AP$2:$AR$78,3,FALSE))","v":""},null,null,null,null,null,null,""]
[null,{"$f":"IF(D288=\"\",\"\",VLOOKUP($D288,Lists!$AP$2:$AR$78,2,FALSE))","v":""},{"$f":"IF(D288=\"\",\"\",VLOOKUP($D288,Lists!$AP$2:$AR$78,3,FALSE))","v":""},null,null,null,null,null,null,""]
[null,{"$f":"IF(D289=\"\",\"\",VLOOKUP($D289,Lists!$AP$2:$AR$78,2,FALSE))","v":""},{"$f":"IF(D289=\"\",\"\",VLOOKUP($D289,Lists!$AP$2:$AR$78,3,FALSE))","v":""},null,null,null,null,null,null,""]
[null,{"$f":"IF(D290=\"\",\"\",VLOOKUP($D290,Lists!$AP$2:$AR$78,2,FALSE))","v":""},{"$f":"IF(D290=\"\",\"\",VLOOKUP($D290,Lists!$AP$2:$AR$78,3,FALSE))","v":""},null,null,null,null,null,null,""]
[null,{"$f":"IF(D291=\"\",\"\",VLOOKUP($D291,Lists!$AP$2:$AR$78,2,FALSE))","v":""},{"$f":"IF(D291=\"\",\"\",VLOOKUP($D291,Lists!$AP$2:$AR$78,3,FALSE))","v":""},null,null,null,null,null,null,""]
[null,{"$f":"IF(D292=\"\",\"\",VLOOKUP($D292,Lists!$AP$2:$AR$78,2,FALSE))","v":""},{"$f":"IF(D292=\"\",\"\",VLOOKUP($D292,Lists!$AP$2:$AR$78,3,FALSE))","v":""},null,null,null,null,null,null,""]
[null,{"$f":"IF(D293=\"\",\"\",VLOOKUP($D293,Lists!$AP$2:$AR$78,2,FALSE))","v":""},{"$f":"IF(D293=\"\",\"\",VLOOKUP($D293,Lists!$AP$2:$AR$78,3,FALSE))","v":""},null,null,null,null,null,null,""]
[null,{"$f":"IF(D294=\"\",\"\",VLOOKUP($D294,Lists!$AP$2:$AR$78,2,FALSE))","v":""},{"$f":"IF(D294=\"\",\"\",VLOOKUP($D294,Lists!$AP$2:$AR$78,3,FALSE))","v":""},null,null,null,null,null,null,""]
[null,{"$f":"IF(D295=\"\",\"\",VLOOKUP($D295,Lists!$AP$2:$AR$78,2,FALSE))","v":""},{"$f":"IF(D295=\"\",\"\",VLOOKUP($D295,Lists!$AP$2:$AR$78,3,FALSE))","v":""},null,null,null,null,null,null,""]
[null,{"$f":"IF(D296=\"\",\"\",VLOOKUP($D296,Lists!$AP$2:$AR$78,2,FALSE))","v":""},{"$f":"IF(D296=\"\",\"\",VLOOKUP($D296,Lists!$AP$2:$AR$78,3,FALSE))","v":""},null,null,null,null,null,null,""]
[null,{"$f":"IF(D297=\"\",\"\",VLOOKUP($D297,Lists!$AP$2:$AR$78,2,FALSE))","v":""},{"$f":"IF(D297=\"\",\"\",VLOOKUP($D297,Lists!$AP$2:$AR$78,3,FALSE))","v":""},null,null,null,null,null,null,""]
[null,{"$f":"IF(D298=\"\",\"\",VLOOKUP($D298,Lists!$AP$2:$AR$78,2,FALSE))","v":""},{"$f":"IF(D298=\"\",\"\",VLOOKUP($D298,Lists!$AP$2:$AR$78,3,FALSE))","v":""},null,null,null,null,null,null,""]
[null,{"$f":"IF(D299=\"\",\"\",VLOOKUP($D299,Lists!$AP$2:$AR$78,2,FALSE))","v":""},{"$f":"IF(D299=\"\",\"\",VLOOKUP($D299,Lists!$AP$2:$AR$78,3,FALSE))","v":""},null,null,null,null,null,null,""]
[null,{"$f":"IF(D300=\"\",\"\",VLOOKUP($D300,Lists!$AP$2:$AR$78,2,FALSE))","v":""},{"$f":"IF(D300=\"\",\"\",VLOOKUP($D300,Lists!$AP$2:$AR$78,3,FALSE))","v":""},null,null,null,null,null,null,""]
[null,{"$f":"IF(D301=\"\",\"\",VLOOKUP($D301,Lists!$AP$2:$AR$78,2,FALSE))","v":""},{"$f":"IF(D301=\"\",\"\",VLOOKUP($D301,Lists!$AP$2:$AR$78,3,FALSE))","v":""},null,null,null,null,null,null,""]
[null,{"$f":"IF(D302=\"\",\"\",VLOOKUP($D302,Lists!$AP$2:$AR$78,2,FALSE))","v":""},{"$f":"IF(D302=\"\",\"\",VLOOKUP($D302,Lists!$AP$2:$AR$78,3,FALSE))","v":""},null,null,null,null,null,null,""]
[null,{"$f":"IF(D303=\"\",\"\",VLOOKUP($D303,Lists!$AP$2:$AR$78,2,FALSE))","v":""},{"$f":"IF(D303=\"\",\"\",VLOOKUP($D303,Lists!$AP$2:$AR$78,3,FALSE))","v":""},null,null,null,null,null,null,""]
[null,{"$f":"IF(D304=\"\",\"\",VLOOKUP($D304,Lists!$AP$2:$AR$78,2,FALSE))","v":""},{"$f":"IF(D304=\"\",\"\",VLOOKUP($D304,Lists!$AP$2:$AR$78,3,FALSE))","v":""},null,null,null,null,null,null,""]
[null,{"$f":"IF(D305=\"\",\"\",VLOOKUP($D305,Lists!$AP$2:$AR$78,2,FALSE))","v":""},{"$f":"IF(D305=\"\",\"\",VLOOKUP($D305,Lists!$AP$2:$AR$78,3,FALSE))","v":""},null,null,null,null,null,null,""]
[null,{"$f":"IF(D306=\"\",\"\",VLOOKUP($D306,Lists!$AP$2:$AR$78,2,FALSE))","v":""},{"$f":"IF(D306=\"\",\"\",VLOOKUP($D306,Lists!$AP$2:$AR$78,3,FALSE))","v":""},null,null,null,null,null,null,""]
[null,{"$f":"IF(D307=\"\",\"\",VLOOKUP($D307,Lists!$AP$2:$AR$78,2,FALSE))","v":""},{"$f":"IF(D307=\"\",\"\",VLOOKUP($D307,Lists!$AP$2:$AR$78,3,FALSE))","v":""},null,null,null,null,null,null,""]
[null,{"$f":"IF(D308=\"\",\"\",VLOOKUP($D308,Lists!$AP$2:$AR$78,2,FALSE))","v":""},{"$f":"IF(D308=\"\",\"\",VLOOKUP($D308,Lists!$AP$2:$AR$78,3,FALSE))","v":""},null,null,null,null,null,null,""]
[null,{"$f":"IF(D309=\"\",\"\",VLOOKUP($D309,Lists!$AP$2:$AR$78,2,FALSE))","v":""},{"$f":"IF(D309=\"\",\"\",VLOOKUP($D309,Lists!$AP$2:$AR$78,3,FALSE))","v":""},null,null,null,null,null,null,""]
[null,{"$f":"IF(D310=\"\",\"\",VLOOKUP($D310,Lists!$AP$2:$AR$78,2,FALSE))","v":""},{"$f":"IF(D310=\"\",\"\",VLOOKUP($D310,Lists!$AP$2:$AR$78,3,FALSE))","v":""},null,null,null,null,null,null,""]
[null,{"$f":"IF(D311=\"\",\"\",VLOOKUP($D311,Lists!$AP$2:$AR$78,2,FALSE))","v":""},{"$f":"IF(D311=\"\",\"\",VLOOKUP($D311,Lists!$AP$2:$AR$78,3,FALSE))","v":""},null,null,null,null,null,null,""]
[null,{"$f":"IF(D312=\"\",\"\",VLOOKUP($D312,Lists!$AP$2:$AR$78,2,FALSE))","v":""},{"$f":"IF(D312=\"\",\"\",VLOOKUP($D312,Lists!$AP$2:$AR$78,3,FALSE))","v":""},null,null,null,null,null,null,""]
[null,{"$f":"IF(D313=\"\",\"\",VLOOKUP($D313,Lists!$AP$2:$AR$78,2,FALSE))","v":""},{"$f":"IF(D313=\"\",\"\",VLOOKUP($D313,Lists!$AP$2:$AR$78,3,FALSE))","v":""},null,null,null,null,null,null,""]
[null,{"$f":"IF(D314=\"\",\"\",VLOOKUP($D314,Lists!$AP$2:$AR$78,2,FALSE))","v":""},{"$f":"IF(D314=\"\",\"\",VLOOKUP($D314,Lists!$AP$2:$AR$78,3,FALSE))","v":""},null,null,null,null,null,null,""]
[null,{"$f":"IF(D315=\"\",\"\",VLOOKUP($D315,Lists!$AP$2:$AR$78,2,FALSE))","v":""},{"$f":"IF(D315=\"\",\"\",VLOOKUP($D315,Lists!$AP$2:$AR$78,3,FALSE))","v":""},null,null,null,null,null,null,""]
[null,{"$f":"IF(D316=\"\",\"\",VLOOKUP($D316,Lists!$AP$2:$AR$78,2,FALSE))","v":""},{"$f":"IF(D316=\"\",\"\",VLOOKUP($D316,Lists!$AP$2:$AR$78,3,FALSE))","v":""},null,null,null,null,null,null,""]
[null,{"$f":"IF(D317=\"\",\"\",VLOOKUP($D317,Lists!$AP$2:$AR$78,2,FALSE))","v":""},{"$f":"IF(D317=\"\",\"\",VLOOKUP($D317,Lists!$AP$2:$AR$78,3,FALSE))","v":""},null,null,null,null,null,null,""]
[null,{"$f":"IF(D318=\"\",\"\",VLOOKUP($D318,Lists!$AP$2:$AR$78,2,FALSE))","v":""},{"$f":"IF(D318=\"\",\"\",VLOOKUP($D318,Lists!$AP$2:$AR$78,3,FALSE))","v":""},null,null,null,null,null,null,""]
[null,{"$f":"IF(D319=\"\",\"\",VLOOKUP($D319,Lists!$AP$2:$AR$78,2,FALSE))","v":""},{"$f":"IF(D319=\"\",\"\",VLOOKUP($D319,Lists!$AP$2:$AR$78,3,FALSE))","v":""},null,null,null,null,null,null,""]
[null,{"$f":"IF(D320=\"\",\"\",VLOOKUP($D320,Lists!$AP$2:$AR$78,2,FALSE))","v":""},{"$f":"IF(D320=\"\",\"\",VLOOKUP($D320,Lists!$AP$2:$AR$78,3,FALSE))","v":""},null,null,null,null,null,null,""]
[null,{"$f":"IF(D321=\"\",\"\",VLOOKUP($D321,Lists!$AP$2:$AR$78,2,FALSE))","v":""},{"$f":"IF(D321=\"\",\"\",VLOOKUP($D321,Lists!$AP$2:$AR$78,3,FALSE))","v":""},null,null,null,null,null,null,""]
[null,{"$f":"IF(D322=\"\",\"\",VLOOKUP($D322,Lists!$AP$2:$AR$78,2,FALSE))","v":""},{"$f":"IF(D322=\"\",\"\",VLOOKUP($D322,Lists!$AP$2:$AR$78,3,FALSE))","v":""},null,null,null,null,null,null,""]
[null,{"$f":"IF(D323=\"\",\"\",VLOOKUP($D323,Lists!$AP$2:$AR$78,2,FALSE))","v":""},{"$f":"IF(D323=\"\",\"\",VLOOKUP($D323,Lists!$AP$2:$AR$78,3,FALSE))","v":""},null,null,null,null,null,null,""]
[null,{"$f":"IF(D324=\"\",\"\",VLOOKUP($D324,Lists!$AP$2:$AR$78,2,FALSE))","v":""},{"$f":"IF(D324=\"\",\"\",VLOOKUP($D324,Lists!$AP$2:$AR$78,3,FALSE))","v":""},null,null,null,null,null,null,""]
[null,{"$f":"IF(D325=\"\",\"\",VLOOKUP($D325,Lists!$AP$2:$AR$78,2,FALSE))","v":""},{"$f":"IF(D325=\"\",\"\",VLOOKUP($D325,Lists!$AP$2:$AR$78,3,FALSE))","v":""},null,null,null,null,null,null,""]
[null,{"$f":"IF(D326=\"\",\"\",VLOOKUP($D326,Lists!$AP$2:$AR$78,2,FALSE))","v":""},{"$f":"IF(D326=\"\",\"\",VLOOKUP($D326,Lists!$AP$2:$AR$78,3,FALSE))","v":""},null,null,null,null,null,null,""]
[null,{"$f":"IF(D327=\"\",\"\",VLOOKUP($D327,Lists!$AP$2:$AR$78,2,FALSE))","v":""},{"$f":"IF(D327=\"\",\"\",VLOOKUP($D327,Lists!$AP$2:$AR$78,3,FALSE))","v":""},null,null,null,null,null,null,""]
[null,{"$f":"IF(D328=\"\",\"\",VLOOKUP($D328,Lists!$AP$2:$AR$78,2,FALSE))","v":""},{"$f":"IF(D328=\"\",\"\",VLOOKUP($D328,Lists!$AP$2:$AR$78,3,FALSE))","v":""},null,null,null,null,null,null,""]
[null,{"$f":"IF(D329=\"\",\"\",VLOOKUP($D329,Lists!$AP$2:$AR$78,2,FALSE))","v":""},{"$f":"IF(D329=\"\",\"\",VLOOKUP($D329,Lists!$AP$2:$AR$78,3,FALSE))","v":""},null,null,null,null,null,null,""]
[null,{"$f":"IF(D330=\"\",\"\",VLOOKUP($D330,Lists!$AP$2:$AR$78,2,FALSE))","v":""},{"$f":"IF(D330=\"\",\"\",VLOOKUP($D330,Lists!$AP$2:$AR$78,3,FALSE))","v":""},null,null,null,null,null,null,""]
[null,{"$f":"IF(D331=\"\",\"\",VLOOKUP($D331,Lists!$AP$2:$AR$78,2,FALSE))","v":""},{"$f":"IF(D331=\"\",\"\",VLOOKUP($D331,Lists!$AP$2:$AR$78,3,FALSE))","v":""},null,null,null,null,null,null,""]
[null,{"$f":"IF(D332=\"\",\"\",VLOOKUP($D332,Lists!$AP$2:$AR$78,2,FALSE))","v":""},{"$f":"IF(D332=\"\",\"\",VLOOKUP($D332,Lists!$AP$2:$AR$78,3,FALSE))","v":""},null,null,null,null,null,null,""]
[null,{"$f":"IF(D333=\"\",\"\",VLOOKUP($D333,Lists!$AP$2:$AR$78,2,FALSE))","v":""},{"$f":"IF(D333=\"\",\"\",VLOOKUP($D333,Lists!$AP$2:$AR$78,3,FALSE))","v":""},null,null,null,null,null,null,""]
[null,{"$f":"IF(D334=\"\",\"\",VLOOKUP($D334,Lists!$AP$2:$AR$78,2,FALSE))","v":""},{"$f":"IF(D334=\"\",\"\",VLOOKUP($D334,Lists!$AP$2:$AR$78,3,FALSE))","v":""},null,null,null,null,null,null,""]
[null,{"$f":"IF(D335=\"\",\"\",VLOOKUP($D335,Lists!$AP$2:$AR$78,2,FALSE))","v":""},{"$f":"IF(D335=\"\",\"\",VLOOKUP($D335,Lists!$AP$2:$AR$78,3,FALSE))","v":""},null,null,null,null,null,null,""]
[null,{"$f":"IF(D336=\"\",\"\",VLOOKUP($D336,Lists!$AP$2:$AR$78,2,FALSE))","v":""},{"$f":"IF(D336=\"\",\"\",VLOOKUP($D336,Lists!$AP$2:$AR$78,3,FALSE))","v":""},null,null,null,null,null,null,""]
[null,{"$f":"IF(D337=\"\",\"\",VLOOKUP($D337,Lists!$AP$2:$AR$78,2,FALSE))","v":""},{"$f":"IF(D337=\"\",\"\",VLOOKUP($D337,Lists!$AP$2:$AR$78,3,FALSE))","v":""},null,null,null,null,null,null,""]
[null,{"$f":"IF(D338=\"\",\"\",VLOOKUP($D338,Lists!$AP$2:$AR$78,2,FALSE))","v":""},{"$f":"IF(D338=\"\",\"\",VLOOKUP($D338,Lists!$AP$2:$AR$78,3,FALSE))","v":""},null,null,null,null,null,null,""]
[null,{"$f":"IF(D339=\"\",\"\",VLOOKUP($D339,Lists!$AP$2:$AR$78,2,FALSE))","v":""},{"$f":"IF(D339=\"\",\"\",VLOOKUP($D339,Lists!$AP$2:$AR$78,3,FALSE))","v":""},null,null,null,null,null,null,""]
[null,{"$f":"IF(D340=\"\",\"\",VLOOKUP($D340,Lists!$AP$2:$AR$78,2,FALSE))","v":""},{"$f":"IF(D340=\"\",\"\",VLOOKUP($D340,Lists!$AP$2:$AR$78,3,FALSE))","v":""},null,null,null,null,null,null,""]
[null,{"$f":"IF(D341=\"\",\"\",VLOOKUP($D341,Lists!$AP$2:$AR$78,2,FALSE))","v":""},{"$f":"IF(D341=\"\",\"\",VLOOKUP($D341,Lists!$AP$2:$AR$78,3,FALSE))","v":""},null,null,null,null,null,null,""]
[null,{"$f":"IF(D342=\"\",\"\",VLOOKUP($D342,Lists!$AP$2:$AR$78,2,FALSE))","v":""},{"$f":"IF(D342=\"\",\"\",VLOOKUP($D342,Lists!$AP$2:$AR$78,3,FALSE))","v":""},null,null,null,null,null,null,""]
[null,{"$f":"IF(D343=\"\",\"\",VLOOKUP($D343,Lists!$AP$2:$AR$78,2,FALSE))","v":""},{"$f":"IF(D343=\"\",\"\",VLOOKUP($D343,Lists!$AP$2:$AR$78,3,FALSE))","v":""},null,null,null,null,null,null,""]
[null,{"$f":"IF(D344=\"\",\"\",VLOOKUP($D344,Lists!$AP$2:$AR$78,2,FALSE))","v":""},{"$f":"IF(D344=\"\",\"\",VLOOKUP($D344,Lists!$AP$2:$AR$78,3,FALSE))","v":""},null,null,null,null,null,null,""]
[null,{"$f":"IF(D345=\"\",\"\",VLOOKUP($D345,Lists!$AP$2:$AR$78,2,FALSE))","v":""},{"$f":"IF(D345=\"\",\"\",VLOOKUP($D345,Lists!$AP$2:$AR$78,3,FALSE))","v":""},null,null,null,null,null,null,{"$f":"IF(I345=\"\",\"\",(VALUE(TEXT(H345,\"m/dd/yy \")&TEXT(I345,\"hh:mm:ss\"))-(VALUE(TEXT(F345,\"m/dd/yy \")&TEXT(G345,\"hh:mm:ss\"))))*24)","v":""}]
[null,{"$f":"IF(D346=\"\",\"\",VLOOKUP($D346,Lists!$AP$2:$AR$78,2,FALSE))","v":""},{"$f":"IF(D346=\"\",\"\",VLOOKUP($D346,Lists!$AP$2:$AR$78,3,FALSE))","v":""},null,null,null,null,null,null,""]
[null,{"$f":"IF(D347=\"\",\"\",VLOOKUP($D347,Lists!$AP$2:$AR$78,2,FALSE))","v":""},{"$f":"IF(D347=\"\",\"\",VLOOKUP($D347,Lists!$AP$2:$AR$78,3,FALSE))","v":""},null,null,null,null,null,null,""]
[null,{"$f":"IF(D348=\"\",\"\",VLOOKUP($D348,Lists!$AP$2:$AR$78,2,FALSE))","v":""},{"$f":"IF(D348=\"\",\"\",VLOOKUP($D348,Lists!$AP$2:$AR$78,3,FALSE))","v":""},null,null,null,null,null,null,""]
[null,{"$f":"IF(D349=\"\",\"\",VLOOKUP($D349,Lists!$AP$2:$AR$78,2,FALSE))","v":""},{"$f":"IF(D349=\"\",\"\",VLOOKUP($D349,Lists!$AP$2:$AR$78,3,FALSE))","v":""},null,null,null,null,null,null,""]
[null,{"$f":"IF(D350=\"\",\"\",VLOOKUP($D350,Lists!$AP$2:$AR$78,2,FALSE))","v":""},{"$f":"IF(D350=\"\",\"\",VLOOKUP($D350,Lists!$AP$2:$AR$78,3,FALSE))","v":""},null,null,null,null,null,null,""]
[null,{"$f":"IF(D351=\"\",\"\",VLOOKUP($D351,Lists!$AP$2:$AR$78,2,FALSE))","v":""},{"$f":"IF(D351=\"\",\"\",VLOOKUP($D351,Lists!$AP$2:$AR$78,3,FALSE))","v":""},null,null,null,null,null,null,""]
[null,{"$f":"IF(D352=\"\",\"\",VLOOKUP($D352,Lists!$AP$2:$AR$78,2,FALSE))","v":""},{"$f":"IF(D352=\"\",\"\",VLOOKUP($D352,Lists!$AP$2:$AR$78,3,FALSE))","v":""},null,null,null,null,null,null,""]
[null,{"$f":"IF(D353=\"\",\"\",VLOOKUP($D353,Lists!$AP$2:$AR$78,2,FALSE))","v":""},{"$f":"IF(D353=\"\",\"\",VLOOKUP($D353,Lists!$AP$2:$AR$78,3,FALSE))","v":""},null,null,null,null,null,null,""]
[null,{"$f":"IF(D354=\"\",\"\",VLOOKUP($D354,Lists!$AP$2:$AR$78,2,FALSE))","v":""},{"$f":"IF(D354=\"\",\"\",VLOOKUP($D354,Lists!$AP$2:$AR$78,3,FALSE))","v":""},null,null,null,null,null,null,""]
[null,{"$f":"IF(D355=\"\",\"\",VLOOKUP($D355,Lists!$AP$2:$AR$78,2,FALSE))","v":""},{"$f":"IF(D355=\"\",\"\",VLOOKUP($D355,Lists!$AP$2:$AR$78,3,FALSE))","v":""},null,null,null,null,null,null,""]
[null,{"$f":"IF(D356=\"\",\"\",VLOOKUP($D356,Lists!$AP$2:$AR$78,2,FALSE))","v":""},{"$f":"IF(D356=\"\",\"\",VLOOKUP($D356,Lists!$AP$2:$AR$78,3,FALSE))","v":""},null,null,null,null,null,null,""]
[null,{"$f":"IF(D357=\"\",\"\",VLOOKUP($D357,Lists!$AP$2:$AR$78,2,FALSE))","v":""},{"$f":"IF(D357=\"\",\"\",VLOOKUP($D357,Lists!$AP$2:$AR$78,3,FALSE))","v":""},null,null,null,null,null,null,""]
[null,{"$f":"IF(D358=\"\",\"\",VLOOKUP($D358,Lists!$AP$2:$AR$78,2,FALSE))","v":""},{"$f":"IF(D358=\"\",\"\",VLOOKUP($D358,Lists!$AP$2:$AR$78,3,FALSE))","v":""},null,null,null,null,null,null,""]
[null,{"$f":"IF(D359=\"\",\"\",VLOOKUP($D359,Lists!$AP$2:$AR$78,2,FALSE))","v":""},{"$f":"IF(D359=\"\",\"\",VLOOKUP($D359,Lists!$AP$2:$AR$78,3,FALSE))","v":""},null,null,null,null,null,null,""]
[null,{"$f":"IF(D360=\"\",\"\",VLOOKUP($D360,Lists!$AP$2:$AR$78,2,FALSE))","v":""},{"$f":"IF(D360=\"\",\"\",VLOOKUP($D360,Lists!$AP$2:$AR$78,3,FALSE))","v":""},null,null,null,null,null,null,""]
[null,{"$f":"IF(D361=\"\",\"\",VLOOKUP($D361,Lists!$AP$2:$AR$78,2,FALSE))","v":""},{"$f":"IF(D361=\"\",\"\",VLOOKUP($D361,Lists!$AP$2:$AR$78,3,FALSE))","v":""},null,null,null,null,null,null,""]
[null,{"$f":"IF(D362=\"\",\"\",VLOOKUP($D362,Lists!$AP$2:$AR$78,2,FALSE))","v":""},{"$f":"IF(D362=\"\",\"\",VLOOKUP($D362,Lists!$AP$2:$AR$78,3,FALSE))","v":""},null,null,null,null,null,null,""]
[null,{"$f":"IF(D363=\"\",\"\",VLOOKUP($D363,Lists!$AP$2:$AR$78,2,FALSE))","v":""},{"$f":"IF(D363=\"\",\"\",VLOOKUP($D363,Lists!$AP$2:$AR$78,3,FALSE))","v":""},null,null,null,null,null,null,""]
[null,{"$f":"IF(D364=\"\",\"\",VLOOKUP($D364,Lists!$AP$2:$AR$78,2,FALSE))","v":""},{"$f":"IF(D364=\"\",\"\",VLOOKUP($D364,Lists!$AP$2:$AR$78,3,FALSE))","v":""},null,null,null,null,null,null,""]
[null,{"$f":"IF(D365=\"\",\"\",VLOOKUP($D365,Lists!$AP$2:$AR$78,2,FALSE))","v":""},{"$f":"IF(D365=\"\",\"\",VLOOKUP($D365,Lists!$AP$2:$AR$78,3,FALSE))","v":""},null,null,null,null,null,null,""]
[null,{"$f":"IF(D366=\"\",\"\",VLOOKUP($D366,Lists!$AP$2:$AR$78,2,FALSE))","v":""},{"$f":"IF(D366=\"\",\"\",VLOOKUP($D366,Lists!$AP$2:$AR$78,3,FALSE))","v":""},null,null,null,null,null,null,""]
[null,{"$f":"IF(D367=\"\",\"\",VLOOKUP($D367,Lists!$AP$2:$AR$78,2,FALSE))","v":""},{"$f":"IF(D367=\"\",\"\",VLOOKUP($D367,Lists!$AP$2:$AR$78,3,FALSE))","v":""},null,null,null,null,null,null,""]
[null,{"$f":"IF(D368=\"\",\"\",VLOOKUP($D368,Lists!$AP$2:$AR$78,2,FALSE))","v":""},{"$f":"IF(D368=\"\",\"\",VLOOKUP($D368,Lists!$AP$2:$AR$78,3,FALSE))","v":""},null,null,null,null,null,null,""]
[null,{"$f":"IF(D369=\"\",\"\",VLOOKUP($D369,Lists!$AP$2:$AR$78,2,FALSE))","v":""},{"$f":"IF(D369=\"\",\"\",VLOOKUP($D369,Lists!$AP$2:$AR$78,3,FALSE))","v":""},null,null,null,null,null,null,""]
[null,{"$f":"IF(D370=\"\",\"\",VLOOKUP($D370,Lists!$AP$2:$AR$78,2,FALSE))","v":""},{"$f":"IF(D370=\"\",\"\",VLOOKUP($D370,Lists!$AP$2:$AR$78,3,FALSE))","v":""},null,null,null,null,null,null,""]
[null,{"$f":"IF(D371=\"\",\"\",VLOOKUP($D371,Lists!$AP$2:$AR$78,2,FALSE))","v":""},{"$f":"IF(D371=\"\",\"\",VLOOKUP($D371,Lists!$AP$2:$AR$78,3,FALSE))","v":""},null,null,null,null,null,null,""]
[null,{"$f":"IF(D372=\"\",\"\",VLOOKUP($D372,Lists!$AP$2:$AR$78,2,FALSE))","v":""},{"$f":"IF(D372=\"\",\"\",VLOOKUP($D372,Lists!$AP$2:$AR$78,3,FALSE))","v":""},null,null,null,null,null,null,""]
[null,{"$f":"IF(D373=\"\",\"\",VLOOKUP($D373,Lists!$AP$2:$AR$78,2,FALSE))","v":""},{"$f":"IF(D373=\"\",\"\",VLOOKUP($D373,Lists!$AP$2:$AR$78,3,FALSE))","v":""},null,null,null,null,null,null,""]
[null,{"$f":"IF(D374=\"\",\"\",VLOOKUP($D374,Lists!$AP$2:$AR$78,2,FALSE))","v":""},{"$f":"IF(D374=\"\",\"\",VLOOKUP($D374,Lists!$AP$2:$AR$78,3,FALSE))","v":""},null,null,null,null,null,null,""]
[null,{"$f":"IF(D375=\"\",\"\",VLOOKUP($D375,Lists!$AP$2:$AR$78,2,FALSE))","v":""},{"$f":"IF(D375=\"\",\"\",VLOOKUP($D375,Lists!$AP$2:$AR$78,3,FALSE))","v":""},null,null,null,null,null,null,""]
[null,{"$f":"IF(D376=\"\",\"\",VLOOKUP($D376,Lists!$AP$2:$AR$78,2,FALSE))","v":""},{"$f":"IF(D376=\"\",\"\",VLOOKUP($D376,Lists!$AP$2:$AR$78,3,FALSE))","v":""},null,null,null,null,null,null,""]
[null,{"$f":"IF(D377=\"\",\"\",VLOOKUP($D377,Lists!$AP$2:$AR$78,2,FALSE))","v":""},{"$f":"IF(D377=\"\",\"\",VLOOKUP($D377,Lists!$AP$2:$AR$78,3,FALSE))","v":""},null,null,null,null,null,null,""]
[null,{"$f":"IF(D378=\"\",\"\",VLOOKUP($D378,Lists!$AP$2:$AR$78,2,FALSE))","v":""},{"$f":"IF(D378=\"\",\"\",VLOOKUP($D378,Lists!$AP$2:$AR$78,3,FALSE))","v":""},null,null,null,null,null,null,""]
[null,{"$f":"IF(D379=\"\",\"\",VLOOKUP($D379,Lists!$AP$2:$AR$78,2,FALSE))","v":""},{"$f":"IF(D379=\"\",\"\",VLOOKUP($D379,Lists!$AP$2:$AR$78,3,FALSE))","v":""},null,null,null,null,null,null,""]
[null,{"$f":"IF(D380=\"\",\"\",VLOOKUP($D380,Lists!$AP$2:$AR$78,2,FALSE))","v":""},{"$f":"IF(D380=\"\",\"\",VLOOKUP($D380,Lists!$AP$2:$AR$78,3,FALSE))","v":""},null,null,null,null,null,null,""]
[null,{"$f":"IF(D381=\"\",\"\",VLOOKUP($D381,Lists!$AP$2:$AR$78,2,FALSE))","v":""},{"$f":"IF(D381=\"\",\"\",VLOOKUP($D381,Lists!$AP$2:$AR$78,3,FALSE))","v":""},null,null,null,null,null,null,""]
[null,{"$f":"IF(D382=\"\",\"\",VLOOKUP($D382,Lists!$AP$2:$AR$78,2,FALSE))","v":""},{"$f":"IF(D382=\"\",\"\",VLOOKUP($D382,Lists!$AP$2:$AR$78,3,FALSE))","v":""},null,null,null,null,null,null,""]
[null,{"$f":"IF(D383=\"\",\"\",VLOOKUP($D383,Lists!$AP$2:$AR$78,2,FALSE))","v":""},{"$f":"IF(D383=\"\",\"\",VLOOKUP($D383,Lists!$AP$2:$AR$78,3,FALSE))","v":""},null,null,null,null,null,null,""]
[null,{"$f":"IF(D384=\"\",\"\",VLOOKUP($D384,Lists!$AP$2:$AR$78,2,FALSE))","v":""},{"$f":"IF(D384=\"\",\"\",VLOOKUP($D384,Lists!$AP$2:$AR$78,3,FALSE))","v":""},null,null,null,null,null,null,""]
[null,{"$f":"IF(D385=\"\",\"\",VLOOKUP($D385,Lists!$AP$2:$AR$78,2,FALSE))","v":""},{"$f":"IF(D385=\"\",\"\",VLOOKUP($D385,Lists!$AP$2:$AR$78,3,FALSE))","v":""},null,null,null,null,null,null,""]
[null,{"$f":"IF(D386=\"\",\"\",VLOOKUP($D386,Lists!$AP$2:$AR$78,2,FALSE))","v":""},{"$f":"IF(D386=\"\",\"\",VLOOKUP($D386,Lists!$AP$2:$AR$78,3,FALSE))","v":""},null,null,null,null,null,null,""]
[null,{"$f":"IF(D387=\"\",\"\",VLOOKUP($D387,Lists!$AP$2:$AR$78,2,FALSE))","v":""},{"$f":"IF(D387=\"\",\"\",VLOOKUP($D387,Lists!$AP$2:$AR$78,3,FALSE))","v":""},null,null,null,null,null,null,""]
[null,{"$f":"IF(D388=\"\",\"\",VLOOKUP($D388,Lists!$AP$2:$AR$78,2,FALSE))","v":""},{"$f":"IF(D388=\"\",\"\",VLOOKUP($D388,Lists!$AP$2:$AR$78,3,FALSE))","v":""},null,null,null,null,null,null,""]
[null,{"$f":"IF(D389=\"\",\"\",VLOOKUP($D389,Lists!$AP$2:$AR$78,2,FALSE))","v":""},{"$f":"IF(D389=\"\",\"\",VLOOKUP($D389,Lists!$AP$2:$AR$78,3,FALSE))","v":""},null,null,null,null,null,null,""]
[null,{"$f":"IF(D390=\"\",\"\",VLOOKUP($D390,Lists!$AP$2:$AR$78,2,FALSE))","v":""},{"$f":"IF(D390=\"\",\"\",VLOOKUP($D390,Lists!$AP$2:$AR$78,3,FALSE))","v":""},null,null,null,null,null,null,""]
[null,{"$f":"IF(D391=\"\",\"\",VLOOKUP($D391,Lists!$AP$2:$AR$78,2,FALSE))","v":""},{"$f":"IF(D391=\"\",\"\",VLOOKUP($D391,Lists!$AP$2:$AR$78,3,FALSE))","v":""},null,null,null,null,null,null,""]
[null,{"$f":"IF(D392=\"\",\"\",VLOOKUP($D392,Lists!$AP$2:$AR$78,2,FALSE))","v":""},{"$f":"IF(D392=\"\",\"\",VLOOKUP($D392,Lists!$AP$2:$AR$78,3,FALSE))","v":""},null,null,null,null,null,null,""]
[null,{"$f":"IF(D393=\"\",\"\",VLOOKUP($D393,Lists!$AP$2:$AR$78,2,FALSE))","v":""},{"$f":"IF(D393=\"\",\"\",VLOOKUP($D393,Lists!$AP$2:$AR$78,3,FALSE))","v":""},null,null,null,null,null,null,""]
[null,{"$f":"IF(D394=\"\",\"\",VLOOKUP($D394,Lists!$AP$2:$AR$78,2,FALSE))","v":""},{"$f":"IF(D394=\"\",\"\",VLOOKUP($D394,Lists!$AP$2:$AR$78,3,FALSE))","v":""},null,null,null,null,null,null,""]
[null,{"$f":"IF(D395=\"\",\"\",VLOOKUP($D395,Lists!$AP$2:$AR$78,2,FALSE))","v":""},{"$f":"IF(D395=\"\",\"\",VLOOKUP($D395,Lists!$AP$2:$AR$78,3,FALSE))","v":""},null,null,null,null,null,null,""]
[null,{"$f":"IF(D396=\"\",\"\",VLOOKUP($D396,Lists!$AP$2:$AR$78,2,FALSE))","v":""},{"$f":"IF(D396=\"\",\"\",VLOOKUP($D396,Lists!$AP$2:$AR$78,3,FALSE))","v":""},null,null,null,null,null,null,""]
[null,{"$f":"IF(D397=\"\",\"\",VLOOKUP($D397,Lists!$AP$2:$AR$78,2,FALSE))","v":""},{"$f":"IF(D397=\"\",\"\",VLOOKUP($D397,Lists!$AP$2:$AR$78,3,FALSE))","v":""},null,null,null,null,null,null,""]
[null,{"$f":"IF(D398=\"\",\"\",VLOOKUP($D398,Lists!$AP$2:$AR$78,2,FALSE))","v":""},{"$f":"IF(D398=\"\",\"\",VLOOKUP($D398,Lists!$AP$2:$AR$78,3,FALSE))","v":""},null,null,null,null,null,null,""]
[null,{"$f":"IF(D399=\"\",\"\",VLOOKUP($D399,Lists!$AP$2:$AR$78,2,FALSE))","v":""},{"$f":"IF(D399=\"\",\"\",VLOOKUP($D399,Lists!$AP$2:$AR$78,3,FALSE))","v":""},null,null,null,null,null,null,""]
[null,{"$f":"IF(D400=\"\",\"\",VLOOKUP($D400,Lists!$AP$2:$AR$78,2,FALSE))","v":""},{"$f":"IF(D400=\"\",\"\",VLOOKUP($D400,Lists!$AP$2:$AR$78,3,FALSE))","v":""},null,null,null,null,null,null,""]
[null,{"$f":"IF(D401=\"\",\"\",VLOOKUP($D401,Lists!$AP$2:$AR$78,2,FALSE))","v":""},{"$f":"IF(D401=\"\",\"\",VLOOKUP($D401,Lists!$AP$2:$AR$78,3,FALSE))","v":""},null,null,null,null,null,null,""]
[null,{"$f":"IF(D402=\"\",\"\",VLOOKUP($D402,Lists!$AP$2:$AR$78,2,FALSE))","v":""},{"$f":"IF(D402=\"\",\"\",VLOOKUP($D402,Lists!$AP$2:$AR$78,3,FALSE))","v":""},null,null,null,null,null,null,""]
[null,{"$f":"IF(D403=\"\",\"\",VLOOKUP($D403,Lists!$AP$2:$AR$78,2,FALSE))","v":""},{"$f":"IF(D403=\"\",\"\",VLOOKUP($D403,Lists!$AP$2:$AR$78,3,FALSE))","v":""},null,null,null,null,null,null,""]
[null,{"$f":"IF(D404=\"\",\"\",VLOOKUP($D404,Lists!$AP$2:$AR$78,2,FALSE))","v":""},{"$f":"IF(D404=\"\",\"\",VLOOKUP($D404,Lists!$AP$2:$AR$78,3,FALSE))","v":""},null,null,null,null,null,null,""]
[null,{"$f":"IF(D405=\"\",\"\",VLOOKUP($D405,Lists!$AP$2:$AR$78,2,FALSE))","v":""},{"$f":"IF(D405=\"\",\"\",VLOOKUP($D405,Lists!$AP$2:$AR$78,3,FALSE))","v":""},null,null,null,null,null,null,""]
[null,{"$f":"IF(D406=\"\",\"\",VLOOKUP($D406,Lists!$AP$2:$AR$78,2,FALSE))","v":""},{"$f":"IF(D406=\"\",\"\",VLOOKUP($D406,Lists!$AP$2:$AR$78,3,FALSE))","v":""},null,null,null,null,null,null,""]
[null,{"$f":"IF(D407=\"\",\"\",VLOOKUP($D407,Lists!$AP$2:$AR$78,2,FALSE))","v":""},{"$f":"IF(D407=\"\",\"\",VLOOKUP($D407,Lists!$AP$2:$AR$78,3,FALSE))","v":""},null,null,null,null,null,null,""]
[null,{"$f":"IF(D408=\"\",\"\",VLOOKUP($D408,Lists!$AP$2:$AR$78,2,FALSE))","v":""},{"$f":"IF(D408=\"\",\"\",VLOOKUP($D408,Lists!$AP$2:$AR$78,3,FALSE))","v":""},null,null,null,null,null,null,""]
[null,{"$f":"IF(D409=\"\",\"\",VLOOKUP($D409,Lists!$AP$2:$AR$78,2,FALSE))","v":""},{"$f":"IF(D409=\"\",\"\",VLOOKUP($D409,Lists!$AP$2:$AR$78,3,FALSE))","v":""},null,null,null,null,null,null,{"$f":"IF(I409=\"\",\"\",(VALUE(TEXT(H409,\"m/dd/yy \")&TEXT(I409,\"hh:mm:ss\"))-(VALUE(TEXT(F409,\"m/dd/yy \")&TEXT(G409,\"hh:mm:ss\"))))*24)","v":""}]
[null,{"$f":"IF(D410=\"\",\"\",VLOOKUP($D410,Lists!$AP$2:$AR$78,2,FALSE))","v":""},{"$f":"IF(D410=\"\",\"\",VLOOKUP($D410,Lists!$AP$2:$AR$78,3,FALSE))","v":""},null,null,null,null,null,null,""]
[null,{"$f":"IF(D411=\"\",\"\",VLOOKUP($D411,Lists!$AP$2:$AR$78,2,FALSE))","v":""},{"$f":"IF(D411=\"\",\"\",VLOOKUP($D411,Lists!$AP$2:$AR$78,3,FALSE))","v":""},null,null,null,null,null,null,""]
[null,{"$f":"IF(D412=\"\",\"\",VLOOKUP($D412,Lists!$AP$2:$AR$78,2,FALSE))","v":""},{"$f":"IF(D412=\"\",\"\",VLOOKUP($D412,Lists!$AP$2:$AR$78,3,FALSE))","v":""},null,null,null,null,null,null,""]
[null,{"$f":"IF(D413=\"\",\"\",VLOOKUP($D413,Lists!$AP$2:$AR$78,2,FALSE))","v":""},{"$f":"IF(D413=\"\",\"\",VLOOKUP($D413,Lists!$AP$2:$AR$78,3,FALSE))","v":""},null,null,null,null,null,null,""]
[null,{"$f":"IF(D414=\"\",\"\",VLOOKUP($D414,Lists!$AP$2:$AR$78,2,FALSE))","v":""},{"$f":"IF(D414=\"\",\"\",VLOOKUP($D414,Lists!$AP$2:$AR$78,3,FALSE))","v":""},null,null,null,null,null,null,""]
[null,{"$f":"IF(D415=\"\",\"\",VLOOKUP($D415,Lists!$AP$2:$AR$78,2,FALSE))","v":""},{"$f":"IF(D415=\"\",\"\",VLOOKUP($D415,Lists!$AP$2:$AR$78,3,FALSE))","v":""},null,null,null,null,null,null,""]
[null,{"$f":"IF(D416=\"\",\"\",VLOOKUP($D416,Lists!$AP$2:$AR$78,2,FALSE))","v":""},{"$f":"IF(D416=\"\",\"\",VLOOKUP($D416,Lists!$AP$2:$AR$78,3,FALSE))","v":""},null,null,null,null,null,null,""]
[null,{"$f":"IF(D417=\"\",\"\",VLOOKUP($D417,Lists!$AP$2:$AR$78,2,FALSE))","v":""},{"$f":"IF(D417=\"\",\"\",VLOOKUP($D417,Lists!$AP$2:$AR$78,3,FALSE))","v":""},null,null,null,null,null,null,""]
[null,{"$f":"IF(D418=\"\",\"\",VLOOKUP($D418,Lists!$AP$2:$AR$78,2,FALSE))","v":""},{"$f":"IF(D418=\"\",\"\",VLOOKUP($D418,Lists!$AP$2:$AR$78,3,FALSE))","v":""},null,null,null,null,null,null,""]
[null,{"$f":"IF(D419=\"\",\"\",VLOOKUP($D419,Lists!$AP$2:$AR$78,2,FALSE))","v":""},{"$f":"IF(D419=\"\",\"\",VLOOKUP($D419,Lists!$AP$2:$AR$78,3,FALSE))","v":""},null,null,null,null,null,null,""]
[null,{"$f":"IF(D420=\"\",\"\",VLOOKUP($D420,Lists!$AP$2:$AR$78,2,FALSE))","v":""},{"$f":"IF(D420=\"\",\"\",VLOOKUP($D420,Lists!$AP$2:$AR$78,3,FALSE))","v":""},null,null,null,null,null,null,""]
[null,{"$f":"IF(D421=\"\",\"\",VLOOKUP($D421,Lists!$AP$2:$AR$78,2,FALSE))","v":""},{"$f":"IF(D421=\"\",\"\",VLOOKUP($D421,Lists!$AP$2:$AR$78,3,FALSE))","v":""},null,null,null,null,null,null,""]
[null,{"$f":"IF(D422=\"\",\"\",VLOOKUP($D422,Lists!$AP$2:$AR$78,2,FALSE))","v":""},{"$f":"IF(D422=\"\",\"\",VLOOKUP($D422,Lists!$AP$2:$AR$78,3,FALSE))","v":""},null,null,null,null,null,null,""]
[null,{"$f":"IF(D423=\"\",\"\",VLOOKUP($D423,Lists!$AP$2:$AR$78,2,FALSE))","v":""},{"$f":"IF(D423=\"\",\"\",VLOOKUP($D423,Lists!$AP$2:$AR$78,3,FALSE))","v":""},null,null,null,null,null,null,""]
[null,{"$f":"IF(D424=\"\",\"\",VLOOKUP($D424,Lists!$AP$2:$AR$78,2,FALSE))","v":""},{"$f":"IF(D424=\"\",\"\",VLOOKUP($D424,Lists!$AP$2:$AR$78,3,FALSE))","v":""},null,null,null,null,null,null,""]
[null,{"$f":"IF(D425=\"\",\"\",VLOOKUP($D425,Lists!$AP$2:$AR$78,2,FALSE))","v":""},{"$f":"IF(D425=\"\",\"\",VLOOKUP($D425,Lists!$AP$2:$AR$78,3,FALSE))","v":""},null,null,null,null,null,null,""]
[null,{"$f":"IF(D426=\"\",\"\",VLOOKUP($D426,Lists!$AP$2:$AR$78,2,FALSE))","v":""},{"$f":"IF(D426=\"\",\"\",VLOOKUP($D426,Lists!$AP$2:$AR$78,3,FALSE))","v":""},null,null,null,null,null,null,""]
[null,{"$f":"IF(D427=\"\",\"\",VLOOKUP($D427,Lists!$AP$2:$AR$78,2,FALSE))","v":""},{"$f":"IF(D427=\"\",\"\",VLOOKUP($D427,Lists!$AP$2:$AR$78,3,FALSE))","v":""},null,null,null,null,null,null,""]
[null,{"$f":"IF(D428=\"\",\"\",VLOOKUP($D428,Lists!$AP$2:$AR$78,2,FALSE))","v":""},{"$f":"IF(D428=\"\",\"\",VLOOKUP($D428,Lists!$AP$2:$AR$78,3,FALSE))","v":""},null,null,null,null,null,null,""]
[null,{"$f":"IF(D429=\"\",\"\",VLOOKUP($D429,Lists!$AP$2:$AR$78,2,FALSE))","v":""},{"$f":"IF(D429=\"\",\"\",VLOOKUP($D429,Lists!$AP$2:$AR$78,3,FALSE))","v":""},null,null,null,null,null,null,""]
[null,{"$f":"IF(D430=\"\",\"\",VLOOKUP($D430,Lists!$AP$2:$AR$78,2,FALSE))","v":""},{"$f":"IF(D430=\"\",\"\",VLOOKUP($D430,Lists!$AP$2:$AR$78,3,FALSE))","v":""},null,null,null,null,null,null,""]
[null,{"$f":"IF(D431=\"\",\"\",VLOOKUP($D431,Lists!$AP$2:$AR$78,2,FALSE))","v":""},{"$f":"IF(D431=\"\",\"\",VLOOKUP($D431,Lists!$AP$2:$AR$78,3,FALSE))","v":""},null,null,null,null,null,null,""]
[null,{"$f":"IF(D432=\"\",\"\",VLOOKUP($D432,Lists!$AP$2:$AR$78,2,FALSE))","v":""},{"$f":"IF(D432=\"\",\"\",VLOOKUP($D432,Lists!$AP$2:$AR$78,3,FALSE))","v":""},null,null,null,null,null,null,""]
[null,{"$f":"IF(D433=\"\",\"\",VLOOKUP($D433,Lists!$AP$2:$AR$78,2,FALSE))","v":""},{"$f":"IF(D433=\"\",\"\",VLOOKUP($D433,Lists!$AP$2:$AR$78,3,FALSE))","v":""},null,null,null,null,null,null,""]
[null,{"$f":"IF(D434=\"\",\"\",VLOOKUP($D434,Lists!$AP$2:$AR$78,2,FALSE))","v":""},{"$f":"IF(D434=\"\",\"\",VLOOKUP($D434,Lists!$AP$2:$AR$78,3,FALSE))","v":""},null,null,null,null,null,null,""]
[null,{"$f":"IF(D435=\"\",\"\",VLOOKUP($D435,Lists!$AP$2:$AR$78,2,FALSE))","v":""},{"$f":"IF(D435=\"\",\"\",VLOOKUP($D435,Lists!$AP$2:$AR$78,3,FALSE))","v":""},null,null,null,null,null,null,""]
[null,{"$f":"IF(D436=\"\",\"\",VLOOKUP($D436,Lists!$AP$2:$AR$78,2,FALSE))","v":""},{"$f":"IF(D436=\"\",\"\",VLOOKUP($D436,Lists!$AP$2:$AR$78,3,FALSE))","v":""},null,null,null,null,null,null,""]
[null,{"$f":"IF(D437=\"\",\"\",VLOOKUP($D437,Lists!$AP$2:$AR$78,2,FALSE))","v":""},{"$f":"IF(D437=\"\",\"\",VLOOKUP($D437,Lists!$AP$2:$AR$78,3,FALSE))","v":""},null,null,null,null,null,null,""]
[null,{"$f":"IF(D438=\"\",\"\",VLOOKUP($D438,Lists!$AP$2:$AR$78,2,FALSE))","v":""},{"$f":"IF(D438=\"\",\"\",VLOOKUP($D438,Lists!$AP$2:$AR$78,3,FALSE))","v":""},null,null,null,null,null,null,""]
[null,{"$f":"IF(D439=\"\",\"\",VLOOKUP($D439,Lists!$AP$2:$AR$78,2,FALSE))","v":""},{"$f":"IF(D439=\"\",\"\",VLOOKUP($D439,Lists!$AP$2:$AR$78,3,FALSE))","v":""},null,null,null,null,null,null,""]
[null,{"$f":"IF(D440=\"\",\"\",VLOOKUP($D440,Lists!$AP$2:$AR$78,2,FALSE))","v":""},{"$f":"IF(D440=\"\",\"\",VLOOKUP($D440,Lists!$AP$2:$AR$78,3,FALSE))","v":""},null,null,null,null,null,null,""]
[null,{"$f":"IF(D441=\"\",\"\",VLOOKUP($D441,Lists!$AP$2:$AR$78,2,FALSE))","v":""},{"$f":"IF(D441=\"\",\"\",VLOOKUP($D441,Lists!$AP$2:$AR$78,3,FALSE))","v":""},null,null,null,null,null,null,""]
[null,{"$f":"IF(D442=\"\",\"\",VLOOKUP($D442,Lists!$AP$2:$AR$78,2,FALSE))","v":""},{"$f":"IF(D442=\"\",\"\",VLOOKUP($D442,Lists!$AP$2:$AR$78,3,FALSE))","v":""},null,null,null,null,null,null,""]
[null,{"$f":"IF(D443=\"\",\"\",VLOOKUP($D443,Lists!$AP$2:$AR$78,2,FALSE))","v":""},{"$f":"IF(D443=\"\",\"\",VLOOKUP($D443,Lists!$AP$2:$AR$78,3,FALSE))","v":""},null,null,null,null,null,null,""]
[null,{"$f":"IF(D444=\"\",\"\",VLOOKUP($D444,Lists!$AP$2:$AR$78,2,FALSE))","v":""},{"$f":"IF(D444=\"\",\"\",VLOOKUP($D444,Lists!$AP$2:$AR$78,3,FALSE))","v":""},null,null,null,null,null,null,""]
[null,{"$f":"IF(D445=\"\",\"\",VLOOKUP($D445,Lists!$AP$2:$AR$78,2,FALSE))","v":""},{"$f":"IF(D445=\"\",\"\",VLOOKUP($D445,Lists!$AP$2:$AR$78,3,FALSE))","v":""},null,null,null,null,null,null,""]
[null,{"$f":"IF(D446=\"\",\"\",VLOOKUP($D446,Lists!$AP$2:$AR$78,2,FALSE))","v":""},{"$f":"IF(D446=\"\",\"\",VLOOKUP($D446,Lists!$AP$2:$AR$78,3,FALSE))","v":""},null,null,null,null,null,null,""]
[null,{"$f":"IF(D447=\"\",\"\",VLOOKUP($D447,Lists!$AP$2:$AR$78,2,FALSE))","v":""},{"$f":"IF(D447=\"\",\"\",VLOOKUP($D447,Lists!$AP$2:$AR$78,3,FALSE))","v":""},null,null,null,null,null,null,""]
[null,{"$f":"IF(D448=\"\",\"\",VLOOKUP($D448,Lists!$AP$2:$AR$78,2,FALSE))","v":""},{"$f":"IF(D448=\"\",\"\",VLOOKUP($D448,Lists!$AP$2:$AR$78,3,FALSE))","v":""},null,null,null,null,null,null,""]
[null,{"$f":"IF(D449=\"\",\"\",VLOOKUP($D449,Lists!$AP$2:$AR$78,2,FALSE))","v":""},{"$f":"IF(D449=\"\",\"\",VLOOKUP($D449,Lists!$AP$2:$AR$78,3,FALSE))","v":""},null,null,null,null,null,null,""]
[null,{"$f":"IF(D450=\"\",\"\",VLOOKUP($D450,Lists!$AP$2:$AR$78,2,FALSE))","v":""},{"$f":"IF(D450=\"\",\"\",VLOOKUP($D450,Lists!$AP$2:$AR$78,3,FALSE))","v":""},null,null,null,null,null,null,""]
[null,{"$f":"IF(D451=\"\",\"\",VLOOKUP($D451,Lists!$AP$2:$AR$78,2,FALSE))","v":""},{"$f":"IF(D451=\"\",\"\",VLOOKUP($D451,Lists!$AP$2:$AR$78,3,FALSE))","v":""},null,null,null,null,null,null,""]
[null,{"$f":"IF(D452=\"\",\"\",VLOOKUP($D452,Lists!$AP$2:$AR$78,2,FALSE))","v":""},{"$f":"IF(D452=\"\",\"\",VLOOKUP($D452,Lists!$AP$2:$AR$78,3,FALSE))","v":""},null,null,null,null,null,null,""]
[null,{"$f":"IF(D453=\"\",\"\",VLOOKUP($D453,Lists!$AP$2:$AR$78,2,FALSE))","v":""},{"$f":"IF(D453=\"\",\"\",VLOOKUP($D453,Lists!$AP$2:$AR$78,3,FALSE))","v":""},null,null,null,null,null,null,""]
[null,{"$f":"IF(D454=\"\",\"\",VLOOKUP($D454,Lists!$AP$2:$AR$78,2,FALSE))","v":""},{"$f":"IF(D454=\"\",\"\",VLOOKUP($D454,Lists!$AP$2:$AR$78,3,FALSE))","v":""},null,null,null,null,null,null,""]
[null,{"$f":"IF(D455=\"\",\"\",VLOOKUP($D455,Lists!$AP$2:$AR$78,2,FALSE))","v":""},{"$f":"IF(D455=\"\",\"\",VLOOKUP($D455,Lists!$AP$2:$AR$78,3,FALSE))","v":""},null,null,null,null,null,null,""]
[null,{"$f":"IF(D456=\"\",\"\",VLOOKUP($D456,Lists!$AP$2:$AR$78,2,FALSE))","v":""},{"$f":"IF(D456=\"\",\"\",VLOOKUP($D456,Lists!$AP$2:$AR$78,3,FALSE))","v":""},null,null,null,null,null,null,""]
[null,{"$f":"IF(D457=\"\",\"\",VLOOKUP($D457,Lists!$AP$2:$AR$78,2,FALSE))","v":""},{"$f":"IF(D457=\"\",\"\",VLOOKUP($D457,Lists!$AP$2:$AR$78,3,FALSE))","v":""},null,null,null,null,null,null,""]
[null,{"$f":"IF(D458=\"\",\"\",VLOOKUP($D458,Lists!$AP$2:$AR$78,2,FALSE))","v":""},{"$f":"IF(D458=\"\",\"\",VLOOKUP($D458,Lists!$AP$2:$AR$78,3,FALSE))","v":""},null,null,null,null,null,null,""]
[null,{"$f":"IF(D459=\"\",\"\",VLOOKUP($D459,Lists!$AP$2:$AR$78,2,FALSE))","v":""},{"$f":"IF(D459=\"\",\"\",VLOOKUP($D459,Lists!$AP$2:$AR$78,3,FALSE))","v":""},null,null,null,null,null,null,""]
[null,{"$f":"IF(D460=\"\",\"\",VLOOKUP($D460,Lists!$AP$2:$AR$78,2,FALSE))","v":""},{"$f":"IF(D460=\"\",\"\",VLOOKUP($D460,Lists!$AP$2:$AR$78,3,FALSE))","v":""},null,null,null,null,null,null,""]
[null,{"$f":"IF(D461=\"\",\"\",VLOOKUP($D461,Lists!$AP$2:$AR$78,2,FALSE))","v":""},{"$f":"IF(D461=\"\",\"\",VLOOKUP($D461,Lists!$AP$2:$AR$78,3,FALSE))","v":""},null,null,null,null,null,null,""]
[null,{"$f":"IF(D462=\"\",\"\",VLOOKUP($D462,Lists!$AP$2:$AR$78,2,FALSE))","v":""},{"$f":"IF(D462=\"\",\"\",VLOOKUP($D462,Lists!$AP$2:$AR$78,3,FALSE))","v":""},null,null,null,null,null,null,""]
[null,{"$f":"IF(D463=\"\",\"\",VLOOKUP($D463,Lists!$AP$2:$AR$78,2,FALSE))","v":""},{"$f":"IF(D463=\"\",\"\",VLOOKUP($D463,Lists!$AP$2:$AR$78,3,FALSE))","v":""},null,null,null,null,null,null,""]
[null,{"$f":"IF(D464=\"\",\"\",VLOOKUP($D464,Lists!$AP$2:$AR$78,2,FALSE))","v":""},{"$f":"IF(D464=\"\",\"\",VLOOKUP($D464,Lists!$AP$2:$AR$78,3,FALSE))","v":""},null,null,null,null,null,null,""]
[null,{"$f":"IF(D465=\"\",\"\",VLOOKUP($D465,Lists!$AP$2:$AR$78,2,FALSE))","v":""},{"$f":"IF(D465=\"\",\"\",VLOOKUP($D465,Lists!$AP$2:$AR$78,3,FALSE))","v":""},null,null,null,null,null,null,""]
[null,{"$f":"IF(D466=\"\",\"\",VLOOKUP($D466,Lists!$AP$2:$AR$78,2,FALSE))","v":""},{"$f":"IF(D466=\"\",\"\",VLOOKUP($D466,Lists!$AP$2:$AR$78,3,FALSE))","v":""},null,null,null,null,null,null,""]
[null,{"$f":"IF(D467=\"\",\"\",VLOOKUP($D467,Lists!$AP$2:$AR$78,2,FALSE))","v":""},{"$f":"IF(D467=\"\",\"\",VLOOKUP($D467,Lists!$AP$2:$AR$78,3,FALSE))","v":""},null,null,null,null,null,null,""]
[null,{"$f":"IF(D468=\"\",\"\",VLOOKUP($D468,Lists!$AP$2:$AR$78,2,FALSE))","v":""},{"$f":"IF(D468=\"\",\"\",VLOOKUP($D468,Lists!$AP$2:$AR$78,3,FALSE))","v":""},null,null,null,null,null,null,""]
[null,{"$f":"IF(D469=\"\",\"\",VLOOKUP($D469,Lists!$AP$2:$AR$78,2,FALSE))","v":""},{"$f":"IF(D469=\"\",\"\",VLOOKUP($D469,Lists!$AP$2:$AR$78,3,FALSE))","v":""},null,null,null,null,null,null,""]
[null,{"$f":"IF(D470=\"\",\"\",VLOOKUP($D470,Lists!$AP$2:$AR$78,2,FALSE))","v":""},{"$f":"IF(D470=\"\",\"\",VLOOKUP($D470,Lists!$AP$2:$AR$78,3,FALSE))","v":""},null,null,null,null,null,null,""]
[null,{"$f":"IF(D471=\"\",\"\",VLOOKUP($D471,Lists!$AP$2:$AR$78,2,FALSE))","v":""},{"$f":"IF(D471=\"\",\"\",VLOOKUP($D471,Lists!$AP$2:$AR$78,3,FALSE))","v":""},null,null,null,null,null,null,""]
[null,{"$f":"IF(D472=\"\",\"\",VLOOKUP($D472,Lists!$AP$2:$AR$78,2,FALSE))","v":""},{"$f":"IF(D472=\"\",\"\",VLOOKUP($D472,Lists!$AP$2:$AR$78,3,FALSE))","v":""},null,null,null,null,null,null,""]
[null,{"$f":"IF(D473=\"\",\"\",VLOOKUP($D473,Lists!$AP$2:$AR$78,2,FALSE))","v":""},{"$f":"IF(D473=\"\",\"\",VLOOKUP($D473,Lists!$AP$2:$AR$78,3,FALSE))","v":""},null,null,null,null,null,null,{"$f":"IF(I473=\"\",\"\",(VALUE(TEXT(H473,\"m/dd/yy \")&TEXT(I473,\"hh:mm:ss\"))-(VALUE(TEXT(F473,\"m/dd/yy \")&TEXT(G473,\"hh:mm:ss\"))))*24)","v":""}]
[null,{"$f":"IF(D474=\"\",\"\",VLOOKUP($D474,Lists!$AP$2:$AR$78,2,FALSE))","v":""},{"$f":"IF(D474=\"\",\"\",VLOOKUP($D474,Lists!$AP$2:$AR$78,3,FALSE))","v":""},null,null,null,null,null,null,""]
[null,{"$f":"IF(D475=\"\",\"\",VLOOKUP($D475,Lists!$AP$2:$AR$78,2,FALSE))","v":""},{"$f":"IF(D475=\"\",\"\",VLOOKUP($D475,Lists!$AP$2:$AR$78,3,FALSE))","v":""},null,null,null,null,null,null,""]
[null,{"$f":"IF(D476=\"\",\"\",VLOOKUP($D476,Lists!$AP$2:$AR$78,2,FALSE))","v":""},{"$f":"IF(D476=\"\",\"\",VLOOKUP($D476,Lists!$AP$2:$AR$78,3,FALSE))","v":""},null,null,null,null,null,null,""]
[null,{"$f":"IF(D477=\"\",\"\",VLOOKUP($D477,Lists!$AP$2:$AR$78,2,FALSE))","v":""},{"$f":"IF(D477=\"\",\"\",VLOOKUP($D477,Lists!$AP$2:$AR$78,3,FALSE))","v":""},null,null,null,null,null,null,""]
[null,{"$f":"IF(D478=\"\",\"\",VLOOKUP($D478,Lists!$AP$2:$AR$78,2,FALSE))","v":""},{"$f":"IF(D478=\"\",\"\",VLOOKUP($D478,Lists!$AP$2:$AR$78,3,FALSE))","v":""},null,null,null,null,null,null,""]
[null,{"$f":"IF(D479=\"\",\"\",VLOOKUP($D479,Lists!$AP$2:$AR$78,2,FALSE))","v":""},{"$f":"IF(D479=\"\",\"\",VLOOKUP($D479,Lists!$AP$2:$AR$78,3,FALSE))","v":""},null,null,null,null,null,null,""]
[null,{"$f":"IF(D480=\"\",\"\",VLOOKUP($D480,Lists!$AP$2:$AR$78,2,FALSE))","v":""},{"$f":"IF(D480=\"\",\"\",VLOOKUP($D480,Lists!$AP$2:$AR$78,3,FALSE))","v":""},null,null,null,null,null,null,""]
[null,{"$f":"IF(D481=\"\",\"\",VLOOKUP($D481,Lists!$AP$2:$AR$78,2,FALSE))","v":""},{"$f":"IF(D481=\"\",\"\",VLOOKUP($D481,Lists!$AP$2:$AR$78,3,FALSE))","v":""},null,null,null,null,null,null,""]
[null,{"$f":"IF(D482=\"\",\"\",VLOOKUP($D482,Lists!$AP$2:$AR$78,2,FALSE))","v":""},{"$f":"IF(D482=\"\",\"\",VLOOKUP($D482,Lists!$AP$2:$AR$78,3,FALSE))","v":""},null,null,null,null,null,null,""]
[null,{"$f":"IF(D483=\"\",\"\",VLOOKUP($D483,Lists!$AP$2:$AR$78,2,FALSE))","v":""},{"$f":"IF(D483=\"\",\"\",VLOOKUP($D483,Lists!$AP$2:$AR$78,3,FALSE))","v":""},null,null,null,null,null,null,""]
[null,{"$f":"IF(D484=\"\",\"\",VLOOKUP($D484,Lists!$AP$2:$AR$78,2,FALSE))","v":""},{"$f":"IF(D484=\"\",\"\",VLOOKUP($D484,Lists!$AP$2:$AR$78,3,FALSE))","v":""},null,null,null,null,null,null,""]
[null,{"$f":"IF(D485=\"\",\"\",VLOOKUP($D485,Lists!$AP$2:$AR$78,2,FALSE))","v":""},{"$f":"IF(D485=\"\",\"\",VLOOKUP($D485,Lists!$AP$2:$AR$78,3,FALSE))","v":""},null,null,null,null,null,null,""]
[null,{"$f":"IF(D486=\"\",\"\",VLOOKUP($D486,Lists!$AP$2:$AR$78,2,FALSE))","v":""},{"$f":"IF(D486=\"\",\"\",VLOOKUP($D486,Lists!$AP$2:$AR$78,3,FALSE))","v":""},null,null,null,null,null,null,""]
[null,{"$f":"IF(D487=\"\",\"\",VLOOKUP($D487,Lists!$AP$2:$AR$78,2,FALSE))","v":""},{"$f":"IF(D487=\"\",\"\",VLOOKUP($D487,Lists!$AP$2:$AR$78,3,FALSE))","v":""},null,null,null,null,null,null,""]
[null,{"$f":"IF(D488=\"\",\"\",VLOOKUP($D488,Lists!$AP$2:$AR$78,2,FALSE))","v":""},{"$f":"IF(D488=\"\",\"\",VLOOKUP($D488,Lists!$AP$2:$AR$78,3,FALSE))","v":""},null,null,null,null,null,null,""]
[null,{"$f":"IF(D489=\"\",\"\",VLOOKUP($D489,Lists!$AP$2:$AR$78,2,FALSE))","v":""},{"$f":"IF(D489=\"\",\"\",VLOOKUP($D489,Lists!$AP$2:$AR$78,3,FALSE))","v":""},null,null,null,null,null,null,""]
[null,{"$f":"IF(D490=\"\",\"\",VLOOKUP($D490,Lists!$AP$2:$AR$78,2,FALSE))","v":""},{"$f":"IF(D490=\"\",\"\",VLOOKUP($D490,Lists!$AP$2:$AR$78,3,FALSE))","v":""},null,null,null,null,null,null,""]
[null,{"$f":"IF(D491=\"\",\"\",VLOOKUP($D491,Lists!$AP$2:$AR$78,2,FALSE))","v":""},{"$f":"IF(D491=\"\",\"\",VLOOKUP($D491,Lists!$AP$2:$AR$78,3,FALSE))","v":""},null,null,null,null,null,null,""]
[null,{"$f":"IF(D492=\"\",\"\",VLOOKUP($D492,Lists!$AP$2:$AR$78,2,FALSE))","v":""},{"$f":"IF(D492=\"\",\"\",VLOOKUP($D492,Lists!$AP$2:$AR$78,3,FALSE))","v":""},null,null,null,null,null,null,""]
[null,{"$f":"IF(D493=\"\",\"\",VLOOKUP($D493,Lists!$AP$2:$AR$78,2,FALSE))","v":""},{"$f":"IF(D493=\"\",\"\",VLOOKUP($D493,Lists!$AP$2:$AR$78,3,FALSE))","v":""},null,null,null,null,null,null,""]
[null,{"$f":"IF(D494=\"\",\"\",VLOOKUP($D494,Lists!$AP$2:$AR$78,2,FALSE))","v":""},{"$f":"IF(D494=\"\",\"\",VLOOKUP($D494,Lists!$AP$2:$AR$78,3,FALSE))","v":""},null,null,null,null,null,null,""]
[null,{"$f":"IF(D495=\"\",\"\",VLOOKUP($D495,Lists!$AP$2:$AR$78,2,FALSE))","v":""},{"$f":"IF(D495=\"\",\"\",VLOOKUP($D495,Lists!$AP$2:$AR$78,3,FALSE))","v":""},null,null,null,null,null,null,""]
[null,{"$f":"IF(D496=\"\",\"\",VLOOKUP($D496,Lists!$AP$2:$AR$78,2,FALSE))","v":""},{"$f":"IF(D496=\"\",\"\",VLOOKUP($D496,Lists!$AP$2:$AR$78,3,FALSE))","v":""},null,null,null,null,null,null,""]
[null,{"$f":"IF(D497=\"\",\"\",VLOOKUP($D497,Lists!$AP$2:$AR$78,2,FALSE))","v":""},{"$f":"IF(D497=\"\",\"\",VLOOKUP($D497,Lists!$AP$2:$AR$78,3,FALSE))","v":""},null,null,null,null,null,null,""]
[null,{"$f":"IF(D498=\"\",\"\",VLOOKUP($D498,Lists!$AP$2:$AR$78,2,FALSE))","v":""},{"$f":"IF(D498=\"\",\"\",VLOOKUP($D498,Lists!$AP$2:$AR$78,3,FALSE))","v":""},null,null,null,null,null,null,""]
[null,{"$f":"IF(D499=\"\",\"\",VLOOKUP($D499,Lists!$AP$2:$AR$78,2,FALSE))","v":""},{"$f":"IF(D499=\"\",\"\",VLOOKUP($D499,Lists!$AP$2:$AR$78,3,FALSE))","v":""},null,null,null,null,null,null,""]
[null,{"$f":"IF(D500=\"\",\"\",VLOOKUP($D500,Lists!$AP$2:$AR$78,2,FALSE))","v":""},{"$f":"IF(D500=\"\",\"\",VLOOKUP($D500,Lists!$AP$2:$AR$78,3,FALSE))","v":""},null,null,null,null,null,null,""]

{"sheet":"OpLimitSummary","index":13,"n_rows":100,"n_cols":11,"rows_kept":100,"cut":false,"hidden":false,"merged":[]}
[null,"DO NOT REMOVE OR EDIT INFORMATION IN THIS SECTION FOR INTERNAL USE ONLY"]
[null,"Template Name"]
[null,"CitationID"]
[null,"Template Version"]
[null,"Last Updated Date"]
[null,"OMB Control Number: 2060-0518       Expiration Date: 04/30/2019"]
[null,"40 CFR Part 63, Subpart IIII National Emission Standards for Hazardous Air Pollutants: Surface Coating of Automobiles and Light-Duty Trucks - §63.3120(f) Semiannual Compliance Report Spreadsheet Template"]
[null,"\n"]
[]
[]
[]
[null,"Company Record No.\n(Autofilled)","Affected Source or Equipment\n(§63.3120(a)(6)(xv))\n(Autofilled)","Deviation from Operating Limit or Bypass of Control Device\n(§63.3120(a)(6)(xv))\n(Autofilled)","Total Source Operating Time (hours)\n(Optional for autocalculation of % Total Operating Time)","Total Duration of Deviation from Operating Limit or Bypass of Control Device (hours) \n(§63.3120(a)(6)(ix) or §63.3120(a)(8)(viii))","Total Duration of Deviation from Operating Limit or Bypass of Control Device as a Percent of Total Source Operating Time (§63.3120(a)(6)(ix) or §63.3120(a)(8)(viii))\n(Autocalculation or manual entry)","Total Duration of Deviation from Operating Limit or Bypass of Control Device Due to Control Equipment Problems (hours)  (§63.3120(a)(6)(x) or §63.3120(a)(8)(ix))","Total Duration of Deviation from Operating Limit or Bypass of Control Device Due to Process Problems (hours)  \n(§63.3120(a)(6)(x) or §63.3120(a)(8)(ix))","Total Duration of Deviation from Operating Limit or Bypass of Control Device Due to Other Known Causes (hours)  \n(§63.3120(a)(6)(x) or §63.3120(a)(8)(ix))","Total Duration of Deviation from Operating Limit or Bypass of Control Device Due to Other Unknown Causes (hours)  (§63.3120(a)(6)(x) or §63.3120(a)(8)(ix))"]
[null,"RecordId","AffectedSource","DeviceDeviationBypass","TotalOperatingTime","TotalDeviationDuration","TotalDeviationPercent","EquipmentCausedDeviation","ProcessCausedDeviation","OtherCausedDeviation","UnknownCausedDeviation"]
[null,"e.g.: 1","e.g.: West Coating","e.g.: Deviation from Operating Limit","e.g.: 3120","e.g.: 169.00","e.g.: 5.42%","e.g.: 169.00","e.g.: 0.00","e.g.: 0.00","e.g.: 0.00"]
[null,"e.g.:","e.g.:","e.g.:","e.g.:","e.g.:","e.g.:","e.g.:","e.g.:","e.g.:","e.g.:"]
[null,"e.g.:","e.g.:","e.g.:","e.g.:","e.g.:","e.g.:","e.g.:","e.g.:","e.g.:","e.g.:"]
[null,"e.g.:","e.g.:","e.g.:","e.g.:","e.g.:","e.g.:","e.g.:","e.g.:","e.g.:","e.g.:"]
[null,"e.g.:","e.g.:","e.g.:","e.g.:","e.g.:","e.g.:","e.g.:","e.g.:","e.g.:","e.g.:"]
[null,"e.g.:","e.g.:","e.g.:","e.g.:","e.g.:","e.g.:","e.g.:","e.g.:","e.g.:","e.g.:"]
[null,"e.g.:","e.g.:","e.g.:","e.g.:","e.g.:","e.g.:","e.g.:","e.g.:","e.g.:","e.g.:"]
[null,"e.g.:","e.g.:","e.g.:","e.g.:","e.g.:","e.g.:","e.g.:","e.g.:","e.g.:","e.g.:"]
[null,"e.g.:","e.g.:","e.g.:","e.g.:","e.g.:","e.g.:","e.g.:","e.g.:","e.g.:","e.g.:"]
[null,"e.g.:","e.g.:","e.g.:","e.g.:","e.g.:","e.g.:","e.g.:","e.g.:","e.g.:","e.g.:"]
[null,{"$f":"IF(Lists!BX2=\"\",\"\",Lists!BX2)","v":""},{"$f":"IF(Lists!BY2=\"\",\"\",Lists!BY2)","v":""},{"$f":"IF(Lists!BZ2=\"\",\"\",Lists!BZ2)","v":""},null,{"$f":"IF(D24=\"\",\"\",SUMIFS(OpLimit!$J$24:$J$500,OpLimit!$B$24:$B$500,B24,OpLimit!$C$24:$C$500,C24,OpLimit!$E$24:$E$500,D24))","v":""},{"$f":"IF(D24=\"\",\"\",IF(F24=0,\"N/A\",F24/$E24))","v":""},{"$f":"IF($D24=\"\",\"\",SUMIFS(OpLimit!$J$24:$J$5000,OpLimit!$B$24:$B$5000,$B24,OpLimit!$C$24:$C$5000,$C24,OpLimit!$E$24:$E$5000,$D24,OpLimit!$K$24:$K$5000,\"Control Equipment Problems\"))","v":""},{"$f":"IF($D24=\"\",\"\",SUMIFS(OpLimit!$J$24:$J$5000,OpLimit!$B$24:$B$5000,$B24,OpLimit!$C$24:$C$5000,$C24,OpLimit!$E$24:$E$5000,$D24,OpLimit!$K$24:$K$5000,\"Process Problems\"))","v":""},{"$f":"IF($D24=\"\",\"\",SUMIFS(OpLimit!$J$24:$J$5000,OpLimit!$B$24:$B$5000,$B24,OpLimit!$C$24:$C$5000,$C24,OpLimit!$E$24:$E$5000,$D24,OpLimit!$K$24:$K$5000,\"Other Known Causes\"))","v":""},{"$f":"IF($D24=\"\",\"\",SUMIFS(OpLimit!$J$24:$J$5000,OpLimit!$B$24:$B$5000,$B24,OpLimit!$C$24:$C$5000,$C24,OpLimit!$E$24:$E$5000,$D24,OpLimit!$K$24:$K$5000,\"Other Unknown Causes\"))","v":""}]
[null,{"$f":"IF(Lists!BX3=\"\",\"\",Lists!BX3)","v":""},{"$f":"IF(Lists!BY3=\"\",\"\",Lists!BY3)","v":""},{"$f":"IF(Lists!BZ3=\"\",\"\",Lists!BZ3)","v":""},null,{"$f":"IF(D25=\"\",\"\",SUMIFS(OpLimit!$J$24:$J$500,OpLimit!$B$24:$B$500,B25,OpLimit!$C$24:$C$500,C25,OpLimit!$E$24:$E$500,D25))","v":""},{"$f":"IF(D25=\"\",\"\",IF(F25=0,\"N/A\",F25/$E25))","v":""},{"$f":"IF($D25=\"\",\"\",SUMIFS(OpLimit!$J$24:$J$5000,OpLimit!$B$24:$B$5000,$B25,OpLimit!$C$24:$C$5000,$C25,OpLimit!$E$24:$E$5000,$D25,OpLimit!$K$24:$K$5000,\"Control Equipment Problems\"))","v":""},{"$f":"IF($D25=\"\",\"\",SUMIFS(OpLimit!$J$24:$J$5000,OpLimit!$B$24:$B$5000,$B25,OpLimit!$C$24:$C$5000,$C25,OpLimit!$E$24:$E$5000,$D25,OpLimit!$K$24:$K$5000,\"Process Problems\"))","v":""},{"$f":"IF($D25=\"\",\"\",SUMIFS(OpLimit!$J$24:$J$5000,OpLimit!$B$24:$B$5000,$B25,OpLimit!$C$24:$C$5000,$C25,OpLimit!$E$24:$E$5000,$D25,OpLimit!$K$24:$K$5000,\"Other Known Causes\"))","v":""},{"$f":"IF($D25=\"\",\"\",SUMIFS(OpLimit!$J$24:$J$5000,OpLimit!$B$24:$B$5000,$B25,OpLimit!$C$24:$C$5000,$C25,OpLimit!$E$24:$E$5000,$D25,OpLimit!$K$24:$K$5000,\"Other Unknown Causes\"))","v":""}]
[null,{"$f":"IF(Lists!BX4=\"\",\"\",Lists!BX4)","v":""},{"$f":"IF(Lists!BY4=\"\",\"\",Lists!BY4)","v":""},{"$f":"IF(Lists!BZ4=\"\",\"\",Lists!BZ4)","v":""},null,{"$f":"IF(D26=\"\",\"\",SUMIFS(OpLimit!$J$24:$J$500,OpLimit!$B$24:$B$500,B26,OpLimit!$C$24:$C$500,C26,OpLimit!$E$24:$E$500,D26))","v":""},"",{"$f":"IF($D26=\"\",\"\",SUMIFS(OpLimit!$J$24:$J$5000,OpLimit!$B$24:$B$5000,$B26,OpLimit!$C$24:$C$5000,$C26,OpLimit!$E$24:$E$5000,$D26,OpLimit!$K$24:$K$5000,\"Control Equipment Problems\"))","v":""},{"$f":"IF($D26=\"\",\"\",SUMIFS(OpLimit!$J$24:$J$5000,OpLimit!$B$24:$B$5000,$B26,OpLimit!$C$24:$C$5000,$C26,OpLimit!$E$24:$E$5000,$D26,OpLimit!$K$24:$K$5000,\"Process Problems\"))","v":""},{"$f":"IF($D26=\"\",\"\",SUMIFS(OpLimit!$J$24:$J$5000,OpLimit!$B$24:$B$5000,$B26,OpLimit!$C$24:$C$5000,$C26,OpLimit!$E$24:$E$5000,$D26,OpLimit!$K$24:$K$5000,\"Other Known Causes\"))","v":""},{"$f":"IF($D26=\"\",\"\",SUMIFS(OpLimit!$J$24:$J$5000,OpLimit!$B$24:$B$5000,$B26,OpLimit!$C$24:$C$5000,$C26,OpLimit!$E$24:$E$5000,$D26,OpLimit!$K$24:$K$5000,\"Other Unknown Causes\"))","v":""}]
[null,{"$f":"IF(Lists!BX5=\"\",\"\",Lists!BX5)","v":""},{"$f":"IF(Lists!BY5=\"\",\"\",Lists!BY5)","v":""},{"$f":"IF(Lists!BZ5=\"\",\"\",Lists!BZ5)","v":""},null,{"$f":"IF(D27=\"\",\"\",SUMIFS(OpLimit!$J$24:$J$500,OpLimit!$B$24:$B$500,B27,OpLimit!$C$24:$C$500,C27,OpLimit!$E$24:$E$500,D27))","v":""},"",{"$f":"IF($D27=\"\",\"\",SUMIFS(OpLimit!$J$24:$J$5000,OpLimit!$B$24:$B$5000,$B27,OpLimit!$C$24:$C$5000,$C27,OpLimit!$E$24:$E$5000,$D27,OpLimit!$K$24:$K$5000,\"Control Equipment Problems\"))","v":""},{"$f":"IF($D27=\"\",\"\",SUMIFS(OpLimit!$J$24:$J$5000,OpLimit!$B$24:$B$5000,$B27,OpLimit!$C$24:$C$5000,$C27,OpLimit!$E$24:$E$5000,$D27,OpLimit!$K$24:$K$5000,\"Process Problems\"))","v":""},{"$f":"IF($D27=\"\",\"\",SUMIFS(OpLimit!$J$24:$J$5000,OpLimit!$B$24:$B$5000,$B27,OpLimit!$C$24:$C$5000,$C27,OpLimit!$E$24:$E$5000,$D27,OpLimit!$K$24:$K$5000,\"Other Known Causes\"))","v":""},{"$f":"IF($D27=\"\",\"\",SUMIFS(OpLimit!$J$24:$J$5000,OpLimit!$B$24:$B$5000,$B27,OpLimit!$C$24:$C$5000,$C27,OpLimit!$E$24:$E$5000,$D27,OpLimit!$K$24:$K$5000,\"Other Unknown Causes\"))","v":""}]
[null,{"$f":"IF(Lists!BX6=\"\",\"\",Lists!BX6)","v":""},{"$f":"IF(Lists!BY6=\"\",\"\",Lists!BY6)","v":""},{"$f":"IF(Lists!BZ6=\"\",\"\",Lists!BZ6)","v":""},null,{"$f":"IF(D28=\"\",\"\",SUMIFS(OpLimit!$J$24:$J$500,OpLimit!$B$24:$B$500,B28,OpLimit!$C$24:$C$500,C28,OpLimit!$E$24:$E$500,D28))","v":""},"",{"$f":"IF($D28=\"\",\"\",SUMIFS(OpLimit!$J$24:$J$5000,OpLimit!$B$24:$B$5000,$B28,OpLimit!$C$24:$C$5000,$C28,OpLimit!$E$24:$E$5000,$D28,OpLimit!$K$24:$K$5000,\"Control Equipment Problems\"))","v":""},{"$f":"IF($D28=\"\",\"\",SUMIFS(OpLimit!$J$24:$J$5000,OpLimit!$B$24:$B$5000,$B28,OpLimit!$C$24:$C$5000,$C28,OpLimit!$E$24:$E$5000,$D28,OpLimit!$K$24:$K$5000,\"Process Problems\"))","v":""},{"$f":"IF($D28=\"\",\"\",SUMIFS(OpLimit!$J$24:$J$5000,OpLimit!$B$24:$B$5000,$B28,OpLimit!$C$24:$C$5000,$C28,OpLimit!$E$24:$E$5000,$D28,OpLimit!$K$24:$K$5000,\"Other Known Causes\"))","v":""},{"$f":"IF($D28=\"\",\"\",SUMIFS(OpLimit!$J$24:$J$5000,OpLimit!$B$24:$B$5000,$B28,OpLimit!$C$24:$C$5000,$C28,OpLimit!$E$24:$E$5000,$D28,OpLimit!$K$24:$K$5000,\"Other Unknown Causes\"))","v":""}]
[null,{"$f":"IF(Lists!BX7=\"\",\"\",Lists!BX7)","v":""},{"$f":"IF(Lists!BY7=\"\",\"\",Lists!BY7)","v":""},{"$f":"IF(Lists!BZ7=\"\",\"\",Lists!BZ7)","v":""},null,{"$f":"IF(D29=\"\",\"\",SUMIFS(OpLimit!$J$24:$J$500,OpLimit!$B$24:$B$500,B29,OpLimit!$C$24:$C$500,C29,OpLimit!$E$24:$E$500,D29))","v":""},"",{"$f":"IF($D29=\"\",\"\",SUMIFS(OpLimit!$J$24:$J$5000,OpLimit!$B$24:$B$5000,$B29,OpLimit!$C$24:$C$5000,$C29,OpLimit!$E$24:$E$5000,$D29,OpLimit!$K$24:$K$5000,\"Control Equipment Problems\"))","v":""},{"$f":"IF($D29=\"\",\"\",SUMIFS(OpLimit!$J$24:$J$5000,OpLimit!$B$24:$B$5000,$B29,OpLimit!$C$24:$C$5000,$C29,OpLimit!$E$24:$E$5000,$D29,OpLimit!$K$24:$K$5000,\"Process Problems\"))","v":""},{"$f":"IF($D29=\"\",\"\",SUMIFS(OpLimit!$J$24:$J$5000,OpLimit!$B$24:$B$5000,$B29,OpLimit!$C$24:$C$5000,$C29,OpLimit!$E$24:$E$5000,$D29,OpLimit!$K$24:$K$5000,\"Other Known Causes\"))","v":""},{"$f":"IF($D29=\"\",\"\",SUMIFS(OpLimit!$J$24:$J$5000,OpLimit!$B$24:$B$5000,$B29,OpLimit!$C$24:$C$5000,$C29,OpLimit!$E$24:$E$5000,$D29,OpLimit!$K$24:$K$5000,\"Other Unknown Causes\"))","v":""}]
[null,{"$f":"IF(Lists!BX8=\"\",\"\",Lists!BX8)","v":""},{"$f":"IF(Lists!BY8=\"\",\"\",Lists!BY8)","v":""},{"$f":"IF(Lists!BZ8=\"\",\"\",Lists!BZ8)","v":""},null,{"$f":"IF(D30=\"\",\"\",SUMIFS(OpLimit!$J$24:$J$500,OpLimit!$B$24:$B$500,B30,OpLimit!$C$24:$C$500,C30,OpLimit!$E$24:$E$500,D30))","v":""},"",{"$f":"IF($D30=\"\",\"\",SUMIFS(OpLimit!$J$24:$J$5000,OpLimit!$B$24:$B$5000,$B30,OpLimit!$C$24:$C$5000,$C30,OpLimit!$E$24:$E$5000,$D30,OpLimit!$K$24:$K$5000,\"Control Equipment Problems\"))","v":""},{"$f":"IF($D30=\"\",\"\",SUMIFS(OpLimit!$J$24:$J$5000,OpLimit!$B$24:$B$5000,$B30,OpLimit!$C$24:$C$5000,$C30,OpLimit!$E$24:$E$5000,$D30,OpLimit!$K$24:$K$5000,\"Process Problems\"))","v":""},{"$f":"IF($D30=\"\",\"\",SUMIFS(OpLimit!$J$24:$J$5000,OpLimit!$B$24:$B$5000,$B30,OpLimit!$C$24:$C$5000,$C30,OpLimit!$E$24:$E$5000,$D30,OpLimit!$K$24:$K$5000,\"Other Known Causes\"))","v":""},{"$f":"IF($D30=\"\",\"\",SUMIFS(OpLimit!$J$24:$J$5000,OpLimit!$B$24:$B$5000,$B30,OpLimit!$C$24:$C$5000,$C30,OpLimit!$E$24:$E$5000,$D30,OpLimit!$K$24:$K$5000,\"Other Unknown Causes\"))","v":""}]
[null,{"$f":"IF(Lists!BX9=\"\",\"\",Lists!BX9)","v":""},{"$f":"IF(Lists!BY9=\"\",\"\",Lists!BY9)","v":""},{"$f":"IF(Lists!BZ9=\"\",\"\",Lists!BZ9)","v":""},null,{"$f":"IF(D31=\"\",\"\",SUMIFS(OpLimit!$J$24:$J$500,OpLimit!$B$24:$B$500,B31,OpLimit!$C$24:$C$500,C31,OpLimit!$E$24:$E$500,D31))","v":""},"",{"$f":"IF($D31=\"\",\"\",SUMIFS(OpLimit!$J$24:$J$5000,OpLimit!$B$24:$B$5000,$B31,OpLimit!$C$24:$C$5000,$C31,OpLimit!$E$24:$E$5000,$D31,OpLimit!$K$24:$K$5000,\"Control Equipment Problems\"))","v":""},{"$f":"IF($D31=\"\",\"\",SUMIFS(OpLimit!$J$24:$J$5000,OpLimit!$B$24:$B$5000,$B31,OpLimit!$C$24:$C$5000,$C31,OpLimit!$E$24:$E$5000,$D31,OpLimit!$K$24:$K$5000,\"Process Problems\"))","v":""},{"$f":"IF($D31=\"\",\"\",SUMIFS(OpLimit!$J$24:$J$5000,OpLimit!$B$24:$B$5000,$B31,OpLimit!$C$24:$C$5000,$C31,OpLimit!$E$24:$E$5000,$D31,OpLimit!$K$24:$K$5000,\"Other Known Causes\"))","v":""},{"$f":"IF($D31=\"\",\"\",SUMIFS(OpLimit!$J$24:$J$5000,OpLimit!$B$24:$B$5000,$B31,OpLimit!$C$24:$C$5000,$C31,OpLimit!$E$24:$E$5000,$D31,OpLimit!$K$24:$K$5000,\"Other Unknown Causes\"))","v":""}]
[null,{"$f":"IF(Lists!BX10=\"\",\"\",Lists!BX10)","v":""},{"$f":"IF(Lists!BY10=\"\",\"\",Lists!BY10)","v":""},{"$f":"IF(Lists!BZ10=\"\",\"\",Lists!BZ10)","v":""},null,{"$f":"IF(D32=\"\",\"\",SUMIFS(OpLimit!$J$24:$J$500,OpLimit!$B$24:$B$500,B32,OpLimit!$C$24:$C$500,C32,OpLimit!$E$24:$E$500,D32))","v":""},"",{"$f":"IF($D32=\"\",\"\",SUMIFS(OpLimit!$J$24:$J$5000,OpLimit!$B$24:$B$5000,$B32,OpLimit!$C$24:$C$5000,$C32,OpLimit!$E$24:$E$5000,$D32,OpLimit!$K$24:$K$5000,\"Control Equipment Problems\"))","v":""},{"$f":"IF($D32=\"\",\"\",SUMIFS(OpLimit!$J$24:$J$5000,OpLimit!$B$24:$B$5000,$B32,OpLimit!$C$24:$C$5000,$C32,OpLimit!$E$24:$E$5000,$D32,OpLimit!$K$24:$K$5000,\"Process Problems\"))","v":""},{"$f":"IF($D32=\"\",\"\",SUMIFS(OpLimit!$J$24:$J$5000,OpLimit!$B$24:$B$5000,$B32,OpLimit!$C$24:$C$5000,$C32,OpLimit!$E$24:$E$5000,$D32,OpLimit!$K$24:$K$5000,\"Other Known Causes\"))","v":""},{"$f":"IF($D32=\"\",\"\",SUMIFS(OpLimit!$J$24:$J$5000,OpLimit!$B$24:$B$5000,$B32,OpLimit!$C$24:$C$5000,$C32,OpLimit!$E$24:$E$5000,$D32,OpLimit!$K$24:$K$5000,\"Other Unknown Causes\"))","v":""}]
[null,{"$f":"IF(Lists!BX11=\"\",\"\",Lists!BX11)","v":""},{"$f":"IF(Lists!BY11=\"\",\"\",Lists!BY11)","v":""},{"$f":"IF(Lists!BZ11=\"\",\"\",Lists!BZ11)","v":""},null,{"$f":"IF(D33=\"\",\"\",SUMIFS(OpLimit!$J$24:$J$500,OpLimit!$B$24:$B$500,B33,OpLimit!$C$24:$C$500,C33,OpLimit!$E$24:$E$500,D33))","v":""},"",{"$f":"IF($D33=\"\",\"\",SUMIFS(OpLimit!$J$24:$J$5000,OpLimit!$B$24:$B$5000,$B33,OpLimit!$C$24:$C$5000,$C33,OpLimit!$E$24:$E$5000,$D33,OpLimit!$K$24:$K$5000,\"Control Equipment Problems\"))","v":""},{"$f":"IF($D33=\"\",\"\",SUMIFS(OpLimit!$J$24:$J$5000,OpLimit!$B$24:$B$5000,$B33,OpLimit!$C$24:$C$5000,$C33,OpLimit!$E$24:$E$5000,$D33,OpLimit!$K$24:$K$5000,\"Process Problems\"))","v":""},{"$f":"IF($D33=\"\",\"\",SUMIFS(OpLimit!$J$24:$J$5000,OpLimit!$B$24:$B$5000,$B33,OpLimit!$C$24:$C$5000,$C33,OpLimit!$E$24:$E$5000,$D33,OpLimit!$K$24:$K$5000,\"Other Known Causes\"))","v":""},{"$f":"IF($D33=\"\",\"\",SUMIFS(OpLimit!$J$24:$J$5000,OpLimit!$B$24:$B$5000,$B33,OpLimit!$C$24:$C$5000,$C33,OpLimit!$E$24:$E$5000,$D33,OpLimit!$K$24:$K$5000,\"Other Unknown Causes\"))","v":""}]
[null,{"$f":"IF(Lists!BX12=\"\",\"\",Lists!BX12)","v":""},{"$f":"IF(Lists!BY12=\"\",\"\",Lists!BY12)","v":""},{"$f":"IF(Lists!BZ12=\"\",\"\",Lists!BZ12)","v":""},null,{"$f":"IF(D34=\"\",\"\",SUMIFS(OpLimit!$J$24:$J$500,OpLimit!$B$24:$B$500,B34,OpLimit!$C$24:$C$500,C34,OpLimit!$E$24:$E$500,D34))","v":""},"",{"$f":"IF($D34=\"\",\"\",SUMIFS(OpLimit!$J$24:$J$5000,OpLimit!$B$24:$B$5000,$B34,OpLimit!$C$24:$C$5000,$C34,OpLimit!$E$24:$E$5000,$D34,OpLimit!$K$24:$K$5000,\"Control Equipment Problems\"))","v":""},{"$f":"IF($D34=\"\",\"\",SUMIFS(OpLimit!$J$24:$J$5000,OpLimit!$B$24:$B$5000,$B34,OpLimit!$C$24:$C$5000,$C34,OpLimit!$E$24:$E$5000,$D34,OpLimit!$K$24:$K$5000,\"Process Problems\"))","v":""},{"$f":"IF($D34=\"\",\"\",SUMIFS(OpLimit!$J$24:$J$5000,OpLimit!$B$24:$B$5000,$B34,OpLimit!$C$24:$C$5000,$C34,OpLimit!$E$24:$E$5000,$D34,OpLimit!$K$24:$K$5000,\"Other Known Causes\"))","v":""},{"$f":"IF($D34=\"\",\"\",SUMIFS(OpLimit!$J$24:$J$5000,OpLimit!$B$24:$B$5000,$B34,OpLimit!$C$24:$C$5000,$C34,OpLimit!$E$24:$E$5000,$D34,OpLimit!$K$24:$K$5000,\"Other Unknown Causes\"))","v":""}]
[null,{"$f":"IF(Lists!BX13=\"\",\"\",Lists!BX13)","v":""},{"$f":"IF(Lists!BY13=\"\",\"\",Lists!BY13)","v":""},{"$f":"IF(Lists!BZ13=\"\",\"\",Lists!BZ13)","v":""},null,{"$f":"IF(D35=\"\",\"\",SUMIFS(OpLimit!$J$24:$J$500,OpLimit!$B$24:$B$500,B35,OpLimit!$C$24:$C$500,C35,OpLimit!$E$24:$E$500,D35))","v":""},"",{"$f":"IF($D35=\"\",\"\",SUMIFS(OpLimit!$J$24:$J$5000,OpLimit!$B$24:$B$5000,$B35,OpLimit!$C$24:$C$5000,$C35,OpLimit!$E$24:$E$5000,$D35,OpLimit!$K$24:$K$5000,\"Control Equipment Problems\"))","v":""},{"$f":"IF($D35=\"\",\"\",SUMIFS(OpLimit!$J$24:$J$5000,OpLimit!$B$24:$B$5000,$B35,OpLimit!$C$24:$C$5000,$C35,OpLimit!$E$24:$E$5000,$D35,OpLimit!$K$24:$K$5000,\"Process Problems\"))","v":""},{"$f":"IF($D35=\"\",\"\",SUMIFS(OpLimit!$J$24:$J$5000,OpLimit!$B$24:$B$5000,$B35,OpLimit!$C$24:$C$5000,$C35,OpLimit!$E$24:$E$5000,$D35,OpLimit!$K$24:$K$5000,\"Other Known Causes\"))","v":""},{"$f":"IF($D35=\"\",\"\",SUMIFS(OpLimit!$J$24:$J$5000,OpLimit!$B$24:$B$5000,$B35,OpLimit!$C$24:$C$5000,$C35,OpLimit!$E$24:$E$5000,$D35,OpLimit!$K$24:$K$5000,\"Other Unknown Causes\"))","v":""}]
[null,{"$f":"IF(Lists!BX14=\"\",\"\",Lists!BX14)","v":""},{"$f":"IF(Lists!BY14=\"\",\"\",Lists!BY14)","v":""},{"$f":"IF(Lists!BZ14=\"\",\"\",Lists!BZ14)","v":""},null,{"$f":"IF(D36=\"\",\"\",SUMIFS(OpLimit!$J$24:$J$500,OpLimit!$B$24:$B$500,B36,OpLimit!$C$24:$C$500,C36,OpLimit!$E$24:$E$500,D36))","v":""},"",{"$f":"IF($D36=\"\",\"\",SUMIFS(OpLimit!$J$24:$J$5000,OpLimit!$B$24:$B$5000,$B36,OpLimit!$C$24:$C$5000,$C36,OpLimit!$E$24:$E$5000,$D36,OpLimit!$K$24:$K$5000,\"Control Equipment Problems\"))","v":""},{"$f":"IF($D36=\"\",\"\",SUMIFS(OpLimit!$J$24:$J$5000,OpLimit!$B$24:$B$5000,$B36,OpLimit!$C$24:$C$5000,$C36,OpLimit!$E$24:$E$5000,$D36,OpLimit!$K$24:$K$5000,\"Process Problems\"))","v":""},{"$f":"IF($D36=\"\",\"\",SUMIFS(OpLimit!$J$24:$J$5000,OpLimit!$B$24:$B$5000,$B36,OpLimit!$C$24:$C$5000,$C36,OpLimit!$E$24:$E$5000,$D36,OpLimit!$K$24:$K$5000,\"Other Known Causes\"))","v":""},{"$f":"IF($D36=\"\",\"\",SUMIFS(OpLimit!$J$24:$J$5000,OpLimit!$B$24:$B$5000,$B36,OpLimit!$C$24:$C$5000,$C36,OpLimit!$E$24:$E$5000,$D36,OpLimit!$K$24:$K$5000,\"Other Unknown Causes\"))","v":""}]
[null,{"$f":"IF(Lists!BX15=\"\",\"\",Lists!BX15)","v":""},{"$f":"IF(Lists!BY15=\"\",\"\",Lists!BY15)","v":""},{"$f":"IF(Lists!BZ15=\"\",\"\",Lists!BZ15)","v":""},null,{"$f":"IF(D37=\"\",\"\",SUMIFS(OpLimit!$J$24:$J$500,OpLimit!$B$24:$B$500,B37,OpLimit!$C$24:$C$500,C37,OpLimit!$E$24:$E$500,D37))","v":""},"",{"$f":"IF($D37=\"\",\"\",SUMIFS(OpLimit!$J$24:$J$5000,OpLimit!$B$24:$B$5000,$B37,OpLimit!$C$24:$C$5000,$C37,OpLimit!$E$24:$E$5000,$D37,OpLimit!$K$24:$K$5000,\"Control Equipment Problems\"))","v":""},{"$f":"IF($D37=\"\",\"\",SUMIFS(OpLimit!$J$24:$J$5000,OpLimit!$B$24:$B$5000,$B37,OpLimit!$C$24:$C$5000,$C37,OpLimit!$E$24:$E$5000,$D37,OpLimit!$K$24:$K$5000,\"Process Problems\"))","v":""},{"$f":"IF($D37=\"\",\"\",SUMIFS(OpLimit!$J$24:$J$5000,OpLimit!$B$24:$B$5000,$B37,OpLimit!$C$24:$C$5000,$C37,OpLimit!$E$24:$E$5000,$D37,OpLimit!$K$24:$K$5000,\"Other Known Causes\"))","v":""},{"$f":"IF($D37=\"\",\"\",SUMIFS(OpLimit!$J$24:$J$5000,OpLimit!$B$24:$B$5000,$B37,OpLimit!$C$24:$C$5000,$C37,OpLimit!$E$24:$E$5000,$D37,OpLimit!$K$24:$K$5000,\"Other Unknown Causes\"))","v":""}]
[null,{"$f":"IF(Lists!BX16=\"\",\"\",Lists!BX16)","v":""},{"$f":"IF(Lists!BY16=\"\",\"\",Lists!BY16)","v":""},{"$f":"IF(Lists!BZ16=\"\",\"\",Lists!BZ16)","v":""},null,{"$f":"IF(D38=\"\",\"\",SUMIFS(OpLimit!$J$24:$J$500,OpLimit!$B$24:$B$500,B38,OpLimit!$C$24:$C$500,C38,OpLimit!$E$24:$E$500,D38))","v":""},"",{"$f":"IF($D38=\"\",\"\",SUMIFS(OpLimit!$J$24:$J$5000,OpLimit!$B$24:$B$5000,$B38,OpLimit!$C$24:$C$5000,$C38,OpLimit!$E$24:$E$5000,$D38,OpLimit!$K$24:$K$5000,\"Control Equipment Problems\"))","v":""},{"$f":"IF($D38=\"\",\"\",SUMIFS(OpLimit!$J$24:$J$5000,OpLimit!$B$24:$B$5000,$B38,OpLimit!$C$24:$C$5000,$C38,OpLimit!$E$24:$E$5000,$D38,OpLimit!$K$24:$K$5000,\"Process Problems\"))","v":""},{"$f":"IF($D38=\"\",\"\",SUMIFS(OpLimit!$J$24:$J$5000,OpLimit!$B$24:$B$5000,$B38,OpLimit!$C$24:$C$5000,$C38,OpLimit!$E$24:$E$5000,$D38,OpLimit!$K$24:$K$5000,\"Other Known Causes\"))","v":""},{"$f":"IF($D38=\"\",\"\",SUMIFS(OpLimit!$J$24:$J$5000,OpLimit!$B$24:$B$5000,$B38,OpLimit!$C$24:$C$5000,$C38,OpLimit!$E$24:$E$5000,$D38,OpLimit!$K$24:$K$5000,\"Other Unknown Causes\"))","v":""}]
[null,{"$f":"IF(Lists!BX17=\"\",\"\",Lists!BX17)","v":""},{"$f":"IF(Lists!BY17=\"\",\"\",Lists!BY17)","v":""},{"$f":"IF(Lists!BZ17=\"\",\"\",Lists!BZ17)","v":""},null,{"$f":"IF(D39=\"\",\"\",SUMIFS(OpLimit!$J$24:$J$500,OpLimit!$B$24:$B$500,B39,OpLimit!$C$24:$C$500,C39,OpLimit!$E$24:$E$500,D39))","v":""},"",{"$f":"IF($D39=\"\",\"\",SUMIFS(OpLimit!$J$24:$J$5000,OpLimit!$B$24:$B$5000,$B39,OpLimit!$C$24:$C$5000,$C39,OpLimit!$E$24:$E$5000,$D39,OpLimit!$K$24:$K$5000,\"Control Equipment Problems\"))","v":""},{"$f":"IF($D39=\"\",\"\",SUMIFS(OpLimit!$J$24:$J$5000,OpLimit!$B$24:$B$5000,$B39,OpLimit!$C$24:$C$5000,$C39,OpLimit!$E$24:$E$5000,$D39,OpLimit!$K$24:$K$5000,\"Process Problems\"))","v":""},{"$f":"IF($D39=\"\",\"\",SUMIFS(OpLimit!$J$24:$J$5000,OpLimit!$B$24:$B$5000,$B39,OpLimit!$C$24:$C$5000,$C39,OpLimit!$E$24:$E$5000,$D39,OpLimit!$K$24:$K$5000,\"Other Known Causes\"))","v":""},{"$f":"IF($D39=\"\",\"\",SUMIFS(OpLimit!$J$24:$J$5000,OpLimit!$B$24:$B$5000,$B39,OpLimit!$C$24:$C$5000,$C39,OpLimit!$E$24:$E$5000,$D39,OpLimit!$K$24:$K$5000,\"Other Unknown Causes\"))","v":""}]
[null,{"$f":"IF(Lists!BX18=\"\",\"\",Lists!BX18)","v":""},{"$f":"IF(Lists!BY18=\"\",\"\",Lists!BY18)","v":""},{"$f":"IF(Lists!BZ18=\"\",\"\",Lists!BZ18)","v":""},null,{"$f":"IF(D40=\"\",\"\",SUMIFS(OpLimit!$J$24:$J$500,OpLimit!$B$24:$B$500,B40,OpLimit!$C$24:$C$500,C40,OpLimit!$E$24:$E$500,D40))","v":""},"",{"$f":"IF($D40=\"\",\"\",SUMIFS(OpLimit!$J$24:$J$5000,OpLimit!$B$24:$B$5000,$B40,OpLimit!$C$24:$C$5000,$C40,OpLimit!$E$24:$E$5000,$D40,OpLimit!$K$24:$K$5000,\"Control Equipment Problems\"))","v":""},{"$f":"IF($D40=\"\",\"\",SUMIFS(OpLimit!$J$24:$J$5000,OpLimit!$B$24:$B$5000,$B40,OpLimit!$C$24:$C$5000,$C40,OpLimit!$E$24:$E$5000,$D40,OpLimit!$K$24:$K$5000,\"Process Problems\"))","v":""},{"$f":"IF($D40=\"\",\"\",SUMIFS(OpLimit!$J$24:$J$5000,OpLimit!$B$24:$B$5000,$B40,OpLimit!$C$24:$C$5000,$C40,OpLimit!$E$24:$E$5000,$D40,OpLimit!$K$24:$K$5000,\"Other Known Causes\"))","v":""},{"$f":"IF($D40=\"\",\"\",SUMIFS(OpLimit!$J$24:$J$5000,OpLimit!$B$24:$B$5000,$B40,OpLimit!$C$24:$C$5000,$C40,OpLimit!$E$24:$E$5000,$D40,OpLimit!$K$24:$K$5000,\"Other Unknown Causes\"))","v":""}]
[null,{"$f":"IF(Lists!BX19=\"\",\"\",Lists!BX19)","v":""},{"$f":"IF(Lists!BY19=\"\",\"\",Lists!BY19)","v":""},{"$f":"IF(Lists!BZ19=\"\",\"\",Lists!BZ19)","v":""},null,{"$f":"IF(D41=\"\",\"\",SUMIFS(OpLimit!$J$24:$J$500,OpLimit!$B$24:$B$500,B41,OpLimit!$C$24:$C$500,C41,OpLimit!$E$24:$E$500,D41))","v":""},"",{"$f":"IF($D41=\"\",\"\",SUMIFS(OpLimit!$J$24:$J$5000,OpLimit!$B$24:$B$5000,$B41,OpLimit!$C$24:$C$5000,$C41,OpLimit!$E$24:$E$5000,$D41,OpLimit!$K$24:$K$5000,\"Control Equipment Problems\"))","v":""},{"$f":"IF($D41=\"\",\"\",SUMIFS(OpLimit!$J$24:$J$5000,OpLimit!$B$24:$B$5000,$B41,OpLimit!$C$24:$C$5000,$C41,OpLimit!$E$24:$E$5000,$D41,OpLimit!$K$24:$K$5000,\"Process Problems\"))","v":""},{"$f":"IF($D41=\"\",\"\",SUMIFS(OpLimit!$J$24:$J$5000,OpLimit!$B$24:$B$5000,$B41,OpLimit!$C$24:$C$5000,$C41,OpLimit!$E$24:$E$5000,$D41,OpLimit!$K$24:$K$5000,\"Other Known Causes\"))","v":""},{"$f":"IF($D41=\"\",\"\",SUMIFS(OpLimit!$J$24:$J$5000,OpLimit!$B$24:$B$5000,$B41,OpLimit!$C$24:$C$5000,$C41,OpLimit!$E$24:$E$5000,$D41,OpLimit!$K$24:$K$5000,\"Other Unknown Causes\"))","v":""}]
[null,{"$f":"IF(Lists!BX20=\"\",\"\",Lists!BX20)","v":""},{"$f":"IF(Lists!BY20=\"\",\"\",Lists!BY20)","v":""},{"$f":"IF(Lists!BZ20=\"\",\"\",Lists!BZ20)","v":""},null,{"$f":"IF(D42=\"\",\"\",SUMIFS(OpLimit!$J$24:$J$500,OpLimit!$B$24:$B$500,B42,OpLimit!$C$24:$C$500,C42,OpLimit!$E$24:$E$500,D42))","v":""},"",{"$f":"IF($D42=\"\",\"\",SUMIFS(OpLimit!$J$24:$J$5000,OpLimit!$B$24:$B$5000,$B42,OpLimit!$C$24:$C$5000,$C42,OpLimit!$E$24:$E$5000,$D42,OpLimit!$K$24:$K$5000,\"Control Equipment Problems\"))","v":""},{"$f":"IF($D42=\"\",\"\",SUMIFS(OpLimit!$J$24:$J$5000,OpLimit!$B$24:$B$5000,$B42,OpLimit!$C$24:$C$5000,$C42,OpLimit!$E$24:$E$5000,$D42,OpLimit!$K$24:$K$5000,\"Process Problems\"))","v":""},{"$f":"IF($D42=\"\",\"\",SUMIFS(OpLimit!$J$24:$J$5000,OpLimit!$B$24:$B$5000,$B42,OpLimit!$C$24:$C$5000,$C42,OpLimit!$E$24:$E$5000,$D42,OpLimit!$K$24:$K$5000,\"Other Known Causes\"))","v":""},{"$f":"IF($D42=\"\",\"\",SUMIFS(OpLimit!$J$24:$J$5000,OpLimit!$B$24:$B$5000,$B42,OpLimit!$C$24:$C$5000,$C42,OpLimit!$E$24:$E$5000,$D42,OpLimit!$K$24:$K$5000,\"Other Unknown Causes\"))","v":""}]
[null,{"$f":"IF(Lists!BX21=\"\",\"\",Lists!BX21)","v":""},{"$f":"IF(Lists!BY21=\"\",\"\",Lists!BY21)","v":""},{"$f":"IF(Lists!BZ21=\"\",\"\",Lists!BZ21)","v":""},null,{"$f":"IF(D43=\"\",\"\",SUMIFS(OpLimit!$J$24:$J$500,OpLimit!$B$24:$B$500,B43,OpLimit!$C$24:$C$500,C43,OpLimit!$E$24:$E$500,D43))","v":""},"",{"$f":"IF($D43=\"\",\"\",SUMIFS(OpLimit!$J$24:$J$5000,OpLimit!$B$24:$B$5000,$B43,OpLimit!$C$24:$C$5000,$C43,OpLimit!$E$24:$E$5000,$D43,OpLimit!$K$24:$K$5000,\"Control Equipment Problems\"))","v":""},{"$f":"IF($D43=\"\",\"\",SUMIFS(OpLimit!$J$24:$J$5000,OpLimit!$B$24:$B$5000,$B43,OpLimit!$C$24:$C$5000,$C43,OpLimit!$E$24:$E$5000,$D43,OpLimit!$K$24:$K$5000,\"Process Problems\"))","v":""},{"$f":"IF($D43=\"\",\"\",SUMIFS(OpLimit!$J$24:$J$5000,OpLimit!$B$24:$B$5000,$B43,OpLimit!$C$24:$C$5000,$C43,OpLimit!$E$24:$E$5000,$D43,OpLimit!$K$24:$K$5000,\"Other Known Causes\"))","v":""},{"$f":"IF($D43=\"\",\"\",SUMIFS(OpLimit!$J$24:$J$5000,OpLimit!$B$24:$B$5000,$B43,OpLimit!$C$24:$C$5000,$C43,OpLimit!$E$24:$E$5000,$D43,OpLimit!$K$24:$K$5000,\"Other Unknown Causes\"))","v":""}]
[null,{"$f":"IF(Lists!BX22=\"\",\"\",Lists!BX22)","v":""},{"$f":"IF(Lists!BY22=\"\",\"\",Lists!BY22)","v":""},{"$f":"IF(Lists!BZ22=\"\",\"\",Lists!BZ22)","v":""},null,{"$f":"IF(D44=\"\",\"\",SUMIFS(OpLimit!$J$24:$J$500,OpLimit!$B$24:$B$500,B44,OpLimit!$C$24:$C$500,C44,OpLimit!$E$24:$E$500,D44))","v":""},"",{"$f":"IF($D44=\"\",\"\",SUMIFS(OpLimit!$J$24:$J$5000,OpLimit!$B$24:$B$5000,$B44,OpLimit!$C$24:$C$5000,$C44,OpLimit!$E$24:$E$5000,$D44,OpLimit!$K$24:$K$5000,\"Control Equipment Problems\"))","v":""},{"$f":"IF($D44=\"\",\"\",SUMIFS(OpLimit!$J$24:$J$5000,OpLimit!$B$24:$B$5000,$B44,OpLimit!$C$24:$C$5000,$C44,OpLimit!$E$24:$E$5000,$D44,OpLimit!$K$24:$K$5000,\"Process Problems\"))","v":""},{"$f":"IF($D44=\"\",\"\",SUMIFS(OpLimit!$J$24:$J$5000,OpLimit!$B$24:$B$5000,$B44,OpLimit!$C$24:$C$5000,$C44,OpLimit!$E$24:$E$5000,$D44,OpLimit!$K$24:$K$5000,\"Other Known Causes\"))","v":""},{"$f":"IF($D44=\"\",\"\",SUMIFS(OpLimit!$J$24:$J$5000,OpLimit!$B$24:$B$5000,$B44,OpLimit!$C$24:$C$5000,$C44,OpLimit!$E$24:$E$5000,$D44,OpLimit!$K$24:$K$5000,\"Other Unknown Causes\"))","v":""}]
[null,{"$f":"IF(Lists!BX23=\"\",\"\",Lists!BX23)","v":""},{"$f":"IF(Lists!BY23=\"\",\"\",Lists!BY23)","v":""},{"$f":"IF(Lists!BZ23=\"\",\"\",Lists!BZ23)","v":""},null,{"$f":"IF(D45=\"\",\"\",SUMIFS(OpLimit!$J$24:$J$500,OpLimit!$B$24:$B$500,B45,OpLimit!$C$24:$C$500,C45,OpLimit!$E$24:$E$500,D45))","v":""},"",{"$f":"IF($D45=\"\",\"\",SUMIFS(OpLimit!$J$24:$J$5000,OpLimit!$B$24:$B$5000,$B45,OpLimit!$C$24:$C$5000,$C45,OpLimit!$E$24:$E$5000,$D45,OpLimit!$K$24:$K$5000,\"Control Equipment Problems\"))","v":""},{"$f":"IF($D45=\"\",\"\",SUMIFS(OpLimit!$J$24:$J$5000,OpLimit!$B$24:$B$5000,$B45,OpLimit!$C$24:$C$5000,$C45,OpLimit!$E$24:$E$5000,$D45,OpLimit!$K$24:$K$5000,\"Process Problems\"))","v":""},{"$f":"IF($D45=\"\",\"\",SUMIFS(OpLimit!$J$24:$J$5000,OpLimit!$B$24:$B$5000,$B45,OpLimit!$C$24:$C$5000,$C45,OpLimit!$E$24:$E$5000,$D45,OpLimit!$K$24:$K$5000,\"Other Known Causes\"))","v":""},{"$f":"IF($D45=\"\",\"\",SUMIFS(OpLimit!$J$24:$J$5000,OpLimit!$B$24:$B$5000,$B45,OpLimit!$C$24:$C$5000,$C45,OpLimit!$E$24:$E$5000,$D45,OpLimit!$K$24:$K$5000,\"Other Unknown Causes\"))","v":""}]
[null,{"$f":"IF(Lists!BX24=\"\",\"\",Lists!BX24)","v":""},{"$f":"IF(Lists!BY24=\"\",\"\",Lists!BY24)","v":""},{"$f":"IF(Lists!BZ24=\"\",\"\",Lists!BZ24)","v":""},null,{"$f":"IF(D46=\"\",\"\",SUMIFS(OpLimit!$J$24:$J$500,OpLimit!$B$24:$B$500,B46,OpLimit!$C$24:$C$500,C46,OpLimit!$E$24:$E$500,D46))","v":""},"",{"$f":"IF($D46=\"\",\"\",SUMIFS(OpLimit!$J$24:$J$5000,OpLimit!$B$24:$B$5000,$B46,OpLimit!$C$24:$C$5000,$C46,OpLimit!$E$24:$E$5000,$D46,OpLimit!$K$24:$K$5000,\"Control Equipment Problems\"))","v":""},{"$f":"IF($D46=\"\",\"\",SUMIFS(OpLimit!$J$24:$J$5000,OpLimit!$B$24:$B$5000,$B46,OpLimit!$C$24:$C$5000,$C46,OpLimit!$E$24:$E$5000,$D46,OpLimit!$K$24:$K$5000,\"Process Problems\"))","v":""},{"$f":"IF($D46=\"\",\"\",SUMIFS(OpLimit!$J$24:$J$5000,OpLimit!$B$24:$B$5000,$B46,OpLimit!$C$24:$C$5000,$C46,OpLimit!$E$24:$E$5000,$D46,OpLimit!$K$24:$K$5000,\"Other Known Causes\"))","v":""},{"$f":"IF($D46=\"\",\"\",SUMIFS(OpLimit!$J$24:$J$5000,OpLimit!$B$24:$B$5000,$B46,OpLimit!$C$24:$C$5000,$C46,OpLimit!$E$24:$E$5000,$D46,OpLimit!$K$24:$K$5000,\"Other Unknown Causes\"))","v":""}]
[null,{"$f":"IF(Lists!BX25=\"\",\"\",Lists!BX25)","v":""},{"$f":"IF(Lists!BY25=\"\",\"\",Lists!BY25)","v":""},{"$f":"IF(Lists!BZ25=\"\",\"\",Lists!BZ25)","v":""},null,{"$f":"IF(D47=\"\",\"\",SUMIFS(OpLimit!$J$24:$J$500,OpLimit!$B$24:$B$500,B47,OpLimit!$C$24:$C$500,C47,OpLimit!$E$24:$E$500,D47))","v":""},"",{"$f":"IF($D47=\"\",\"\",SUMIFS(OpLimit!$J$24:$J$5000,OpLimit!$B$24:$B$5000,$B47,OpLimit!$C$24:$C$5000,$C47,OpLimit!$E$24:$E$5000,$D47,OpLimit!$K$24:$K$5000,\"Control Equipment Problems\"))","v":""},{"$f":"IF($D47=\"\",\"\",SUMIFS(OpLimit!$J$24:$J$5000,OpLimit!$B$24:$B$5000,$B47,OpLimit!$C$24:$C$5000,$C47,OpLimit!$E$24:$E$5000,$D47,OpLimit!$K$24:$K$5000,\"Process Problems\"))","v":""},{"$f":"IF($D47=\"\",\"\",SUMIFS(OpLimit!$J$24:$J$5000,OpLimit!$B$24:$B$5000,$B47,OpLimit!$C$24:$C$5000,$C47,OpLimit!$E$24:$E$5000,$D47,OpLimit!$K$24:$K$5000,\"Other Known Causes\"))","v":""},{"$f":"IF($D47=\"\",\"\",SUMIFS(OpLimit!$J$24:$J$5000,OpLimit!$B$24:$B$5000,$B47,OpLimit!$C$24:$C$5000,$C47,OpLimit!$E$24:$E$5000,$D47,OpLimit!$K$24:$K$5000,\"Other Unknown Causes\"))","v":""}]
[null,{"$f":"IF(Lists!BX26=\"\",\"\",Lists!BX26)","v":""},{"$f":"IF(Lists!BY26=\"\",\"\",Lists!BY26)","v":""},{"$f":"IF(Lists!BZ26=\"\",\"\",Lists!BZ26)","v":""},null,{"$f":"IF(D48=\"\",\"\",SUMIFS(OpLimit!$J$24:$J$500,OpLimit!$B$24:$B$500,B48,OpLimit!$C$24:$C$500,C48,OpLimit!$E$24:$E$500,D48))","v":""},"",{"$f":"IF($D48=\"\",\"\",SUMIFS(OpLimit!$J$24:$J$5000,OpLimit!$B$24:$B$5000,$B48,OpLimit!$C$24:$C$5000,$C48,OpLimit!$E$24:$E$5000,$D48,OpLimit!$K$24:$K$5000,\"Control Equipment Problems\"))","v":""},{"$f":"IF($D48=\"\",\"\",SUMIFS(OpLimit!$J$24:$J$5000,OpLimit!$B$24:$B$5000,$B48,OpLimit!$C$24:$C$5000,$C48,OpLimit!$E$24:$E$5000,$D48,OpLimit!$K$24:$K$5000,\"Process Problems\"))","v":""},{"$f":"IF($D48=\"\",\"\",SUMIFS(OpLimit!$J$24:$J$5000,OpLimit!$B$24:$B$5000,$B48,OpLimit!$C$24:$C$5000,$C48,OpLimit!$E$24:$E$5000,$D48,OpLimit!$K$24:$K$5000,\"Other Known Causes\"))","v":""},{"$f":"IF($D48=\"\",\"\",SUMIFS(OpLimit!$J$24:$J$5000,OpLimit!$B$24:$B$5000,$B48,OpLimit!$C$24:$C$5000,$C48,OpLimit!$E$24:$E$5000,$D48,OpLimit!$K$24:$K$5000,\"Other Unknown Causes\"))","v":""}]
[null,{"$f":"IF(Lists!BX27=\"\",\"\",Lists!BX27)","v":""},{"$f":"IF(Lists!BY27=\"\",\"\",Lists!BY27)","v":""},{"$f":"IF(Lists!BZ27=\"\",\"\",Lists!BZ27)","v":""},null,{"$f":"IF(D49=\"\",\"\",SUMIFS(OpLimit!$J$24:$J$500,OpLimit!$B$24:$B$500,B49,OpLimit!$C$24:$C$500,C49,OpLimit!$E$24:$E$500,D49))","v":""},"",{"$f":"IF($D49=\"\",\"\",SUMIFS(OpLimit!$J$24:$J$5000,OpLimit!$B$24:$B$5000,$B49,OpLimit!$C$24:$C$5000,$C49,OpLimit!$E$24:$E$5000,$D49,OpLimit!$K$24:$K$5000,\"Control Equipment Problems\"))","v":""},{"$f":"IF($D49=\"\",\"\",SUMIFS(OpLimit!$J$24:$J$5000,OpLimit!$B$24:$B$5000,$B49,OpLimit!$C$24:$C$5000,$C49,OpLimit!$E$24:$E$5000,$D49,OpLimit!$K$24:$K$5000,\"Process Problems\"))","v":""},{"$f":"IF($D49=\"\",\"\",SUMIFS(OpLimit!$J$24:$J$5000,OpLimit!$B$24:$B$5000,$B49,OpLimit!$C$24:$C$5000,$C49,OpLimit!$E$24:$E$5000,$D49,OpLimit!$K$24:$K$5000,\"Other Known Causes\"))","v":""},{"$f":"IF($D49=\"\",\"\",SUMIFS(OpLimit!$J$24:$J$5000,OpLimit!$B$24:$B$5000,$B49,OpLimit!$C$24:$C$5000,$C49,OpLimit!$E$24:$E$5000,$D49,OpLimit!$K$24:$K$5000,\"Other Unknown Causes\"))","v":""}]
[null,{"$f":"IF(Lists!BX28=\"\",\"\",Lists!BX28)","v":""},{"$f":"IF(Lists!BY28=\"\",\"\",Lists!BY28)","v":""},{"$f":"IF(Lists!BZ28=\"\",\"\",Lists!BZ28)","v":""},null,{"$f":"IF(D50=\"\",\"\",SUMIFS(OpLimit!$J$24:$J$500,OpLimit!$B$24:$B$500,B50,OpLimit!$C$24:$C$500,C50,OpLimit!$E$24:$E$500,D50))","v":""},"",{"$f":"IF($D50=\"\",\"\",SUMIFS(OpLimit!$J$24:$J$5000,OpLimit!$B$24:$B$5000,$B50,OpLimit!$C$24:$C$5000,$C50,OpLimit!$E$24:$E$5000,$D50,OpLimit!$K$24:$K$5000,\"Control Equipment Problems\"))","v":""},{"$f":"IF($D50=\"\",\"\",SUMIFS(OpLimit!$J$24:$J$5000,OpLimit!$B$24:$B$5000,$B50,OpLimit!$C$24:$C$5000,$C50,OpLimit!$E$24:$E$5000,$D50,OpLimit!$K$24:$K$5000,\"Process Problems\"))","v":""},{"$f":"IF($D50=\"\",\"\",SUMIFS(OpLimit!$J$24:$J$5000,OpLimit!$B$24:$B$5000,$B50,OpLimit!$C$24:$C$5000,$C50,OpLimit!$E$24:$E$5000,$D50,OpLimit!$K$24:$K$5000,\"Other Known Causes\"))","v":""},{"$f":"IF($D50=\"\",\"\",SUMIFS(OpLimit!$J$24:$J$5000,OpLimit!$B$24:$B$5000,$B50,OpLimit!$C$24:$C$5000,$C50,OpLimit!$E$24:$E$5000,$D50,OpLimit!$K$24:$K$5000,\"Other Unknown Causes\"))","v":""}]
[null,{"$f":"IF(Lists!BX29=\"\",\"\",Lists!BX29)","v":""},{"$f":"IF(Lists!BY29=\"\",\"\",Lists!BY29)","v":""},{"$f":"IF(Lists!BZ29=\"\",\"\",Lists!BZ29)","v":""},null,{"$f":"IF(D51=\"\",\"\",SUMIFS(OpLimit!$J$24:$J$500,OpLimit!$B$24:$B$500,B51,OpLimit!$C$24:$C$500,C51,OpLimit!$E$24:$E$500,D51))","v":""},"",{"$f":"IF($D51=\"\",\"\",SUMIFS(OpLimit!$J$24:$J$5000,OpLimit!$B$24:$B$5000,$B51,OpLimit!$C$24:$C$5000,$C51,OpLimit!$E$24:$E$5000,$D51,OpLimit!$K$24:$K$5000,\"Control Equipment Problems\"))","v":""},{"$f":"IF($D51=\"\",\"\",SUMIFS(OpLimit!$J$24:$J$5000,OpLimit!$B$24:$B$5000,$B51,OpLimit!$C$24:$C$5000,$C51,OpLimit!$E$24:$E$5000,$D51,OpLimit!$K$24:$K$5000,\"Process Problems\"))","v":""},{"$f":"IF($D51=\"\",\"\",SUMIFS(OpLimit!$J$24:$J$5000,OpLimit!$B$24:$B$5000,$B51,OpLimit!$C$24:$C$5000,$C51,OpLimit!$E$24:$E$5000,$D51,OpLimit!$K$24:$K$5000,\"Other Known Causes\"))","v":""},{"$f":"IF($D51=\"\",\"\",SUMIFS(OpLimit!$J$24:$J$5000,OpLimit!$B$24:$B$5000,$B51,OpLimit!$C$24:$C$5000,$C51,OpLimit!$E$24:$E$5000,$D51,OpLimit!$K$24:$K$5000,\"Other Unknown Causes\"))","v":""}]
[null,{"$f":"IF(Lists!BX30=\"\",\"\",Lists!BX30)","v":""},{"$f":"IF(Lists!BY30=\"\",\"\",Lists!BY30)","v":""},{"$f":"IF(Lists!BZ30=\"\",\"\",Lists!BZ30)","v":""},null,{"$f":"IF(D52=\"\",\"\",SUMIFS(OpLimit!$J$24:$J$500,OpLimit!$B$24:$B$500,B52,OpLimit!$C$24:$C$500,C52,OpLimit!$E$24:$E$500,D52))","v":""},"",{"$f":"IF($D52=\"\",\"\",SUMIFS(OpLimit!$J$24:$J$5000,OpLimit!$B$24:$B$5000,$B52,OpLimit!$C$24:$C$5000,$C52,OpLimit!$E$24:$E$5000,$D52,OpLimit!$K$24:$K$5000,\"Control Equipment Problems\"))","v":""},{"$f":"IF($D52=\"\",\"\",SUMIFS(OpLimit!$J$24:$J$5000,OpLimit!$B$24:$B$5000,$B52,OpLimit!$C$24:$C$5000,$C52,OpLimit!$E$24:$E$5000,$D52,OpLimit!$K$24:$K$5000,\"Process Problems\"))","v":""},{"$f":"IF($D52=\"\",\"\",SUMIFS(OpLimit!$J$24:$J$5000,OpLimit!$B$24:$B$5000,$B52,OpLimit!$C$24:$C$5000,$C52,OpLimit!$E$24:$E$5000,$D52,OpLimit!$K$24:$K$5000,\"Other Known Causes\"))","v":""},{"$f":"IF($D52=\"\",\"\",SUMIFS(OpLimit!$J$24:$J$5000,OpLimit!$B$24:$B$5000,$B52,OpLimit!$C$24:$C$5000,$C52,OpLimit!$E$24:$E$5000,$D52,OpLimit!$K$24:$K$5000,\"Other Unknown Causes\"))","v":""}]
[null,{"$f":"IF(Lists!BX31=\"\",\"\",Lists!BX31)","v":""},{"$f":"IF(Lists!BY31=\"\",\"\",Lists!BY31)","v":""},{"$f":"IF(Lists!BZ31=\"\",\"\",Lists!BZ31)","v":""},null,{"$f":"IF(D53=\"\",\"\",SUMIFS(OpLimit!$J$24:$J$500,OpLimit!$B$24:$B$500,B53,OpLimit!$C$24:$C$500,C53,OpLimit!$E$24:$E$500,D53))","v":""},"",{"$f":"IF($D53=\"\",\"\",SUMIFS(OpLimit!$J$24:$J$5000,OpLimit!$B$24:$B$5000,$B53,OpLimit!$C$24:$C$5000,$C53,OpLimit!$E$24:$E$5000,$D53,OpLimit!$K$24:$K$5000,\"Control Equipment Problems\"))","v":""},{"$f":"IF($D53=\"\",\"\",SUMIFS(OpLimit!$J$24:$J$5000,OpLimit!$B$24:$B$5000,$B53,OpLimit!$C$24:$C$5000,$C53,OpLimit!$E$24:$E$5000,$D53,OpLimit!$K$24:$K$5000,\"Process Problems\"))","v":""},{"$f":"IF($D53=\"\",\"\",SUMIFS(OpLimit!$J$24:$J$5000,OpLimit!$B$24:$B$5000,$B53,OpLimit!$C$24:$C$5000,$C53,OpLimit!$E$24:$E$5000,$D53,OpLimit!$K$24:$K$5000,\"Other Known Causes\"))","v":""},{"$f":"IF($D53=\"\",\"\",SUMIFS(OpLimit!$J$24:$J$5000,OpLimit!$B$24:$B$5000,$B53,OpLimit!$C$24:$C$5000,$C53,OpLimit!$E$24:$E$5000,$D53,OpLimit!$K$24:$K$5000,\"Other Unknown Causes\"))","v":""}]
[null,{"$f":"IF(Lists!BX32=\"\",\"\",Lists!BX32)","v":""},{"$f":"IF(Lists!BY32=\"\",\"\",Lists!BY32)","v":""},{"$f":"IF(Lists!BZ32=\"\",\"\",Lists!BZ32)","v":""},null,{"$f":"IF(D54=\"\",\"\",SUMIFS(OpLimit!$J$24:$J$500,OpLimit!$B$24:$B$500,B54,OpLimit!$C$24:$C$500,C54,OpLimit!$E$24:$E$500,D54))","v":""},"",{"$f":"IF($D54=\"\",\"\",SUMIFS(OpLimit!$J$24:$J$5000,OpLimit!$B$24:$B$5000,$B54,OpLimit!$C$24:$C$5000,$C54,OpLimit!$E$24:$E$5000,$D54,OpLimit!$K$24:$K$5000,\"Control Equipment Problems\"))","v":""},{"$f":"IF($D54=\"\",\"\",SUMIFS(OpLimit!$J$24:$J$5000,OpLimit!$B$24:$B$5000,$B54,OpLimit!$C$24:$C$5000,$C54,OpLimit!$E$24:$E$5000,$D54,OpLimit!$K$24:$K$5000,\"Process Problems\"))","v":""},{"$f":"IF($D54=\"\",\"\",SUMIFS(OpLimit!$J$24:$J$5000,OpLimit!$B$24:$B$5000,$B54,OpLimit!$C$24:$C$5000,$C54,OpLimit!$E$24:$E$5000,$D54,OpLimit!$K$24:$K$5000,\"Other Known Causes\"))","v":""},{"$f":"IF($D54=\"\",\"\",SUMIFS(OpLimit!$J$24:$J$5000,OpLimit!$B$24:$B$5000,$B54,OpLimit!$C$24:$C$5000,$C54,OpLimit!$E$24:$E$5000,$D54,OpLimit!$K$24:$K$5000,\"Other Unknown Causes\"))","v":""}]
[null,{"$f":"IF(Lists!BX33=\"\",\"\",Lists!BX33)","v":""},{"$f":"IF(Lists!BY33=\"\",\"\",Lists!BY33)","v":""},{"$f":"IF(Lists!BZ33=\"\",\"\",Lists!BZ33)","v":""},null,{"$f":"IF(D55=\"\",\"\",SUMIFS(OpLimit!$J$24:$J$500,OpLimit!$B$24:$B$500,B55,OpLimit!$C$24:$C$500,C55,OpLimit!$E$24:$E$500,D55))","v":""},"",{"$f":"IF($D55=\"\",\"\",SUMIFS(OpLimit!$J$24:$J$5000,OpLimit!$B$24:$B$5000,$B55,OpLimit!$C$24:$C$5000,$C55,OpLimit!$E$24:$E$5000,$D55,OpLimit!$K$24:$K$5000,\"Control Equipment Problems\"))","v":""},{"$f":"IF($D55=\"\",\"\",SUMIFS(OpLimit!$J$24:$J$5000,OpLimit!$B$24:$B$5000,$B55,OpLimit!$C$24:$C$5000,$C55,OpLimit!$E$24:$E$5000,$D55,OpLimit!$K$24:$K$5000,\"Process Problems\"))","v":""},{"$f":"IF($D55=\"\",\"\",SUMIFS(OpLimit!$J$24:$J$5000,OpLimit!$B$24:$B$5000,$B55,OpLimit!$C$24:$C$5000,$C55,OpLimit!$E$24:$E$5000,$D55,OpLimit!$K$24:$K$5000,\"Other Known Causes\"))","v":""},{"$f":"IF($D55=\"\",\"\",SUMIFS(OpLimit!$J$24:$J$5000,OpLimit!$B$24:$B$5000,$B55,OpLimit!$C$24:$C$5000,$C55,OpLimit!$E$24:$E$5000,$D55,OpLimit!$K$24:$K$5000,\"Other Unknown Causes\"))","v":""}]
[null,{"$f":"IF(Lists!BX34=\"\",\"\",Lists!BX34)","v":""},{"$f":"IF(Lists!BY34=\"\",\"\",Lists!BY34)","v":""},{"$f":"IF(Lists!BZ34=\"\",\"\",Lists!BZ34)","v":""},null,{"$f":"IF(D56=\"\",\"\",SUMIFS(OpLimit!$J$24:$J$500,OpLimit!$B$24:$B$500,B56,OpLimit!$C$24:$C$500,C56,OpLimit!$E$24:$E$500,D56))","v":""},"",{"$f":"IF($D56=\"\",\"\",SUMIFS(OpLimit!$J$24:$J$5000,OpLimit!$B$24:$B$5000,$B56,OpLimit!$C$24:$C$5000,$C56,OpLimit!$E$24:$E$5000,$D56,OpLimit!$K$24:$K$5000,\"Control Equipment Problems\"))","v":""},{"$f":"IF($D56=\"\",\"\",SUMIFS(OpLimit!$J$24:$J$5000,OpLimit!$B$24:$B$5000,$B56,OpLimit!$C$24:$C$5000,$C56,OpLimit!$E$24:$E$5000,$D56,OpLimit!$K$24:$K$5000,\"Process Problems\"))","v":""},{"$f":"IF($D56=\"\",\"\",SUMIFS(OpLimit!$J$24:$J$5000,OpLimit!$B$24:$B$5000,$B56,OpLimit!$C$24:$C$5000,$C56,OpLimit!$E$24:$E$5000,$D56,OpLimit!$K$24:$K$5000,\"Other Known Causes\"))","v":""},{"$f":"IF($D56=\"\",\"\",SUMIFS(OpLimit!$J$24:$J$5000,OpLimit!$B$24:$B$5000,$B56,OpLimit!$C$24:$C$5000,$C56,OpLimit!$E$24:$E$5000,$D56,OpLimit!$K$24:$K$5000,\"Other Unknown Causes\"))","v":""}]
[null,{"$f":"IF(Lists!BX35=\"\",\"\",Lists!BX35)","v":""},{"$f":"IF(Lists!BY35=\"\",\"\",Lists!BY35)","v":""},{"$f":"IF(Lists!BZ35=\"\",\"\",Lists!BZ35)","v":""},null,{"$f":"IF(D57=\"\",\"\",SUMIFS(OpLimit!$J$24:$J$500,OpLimit!$B$24:$B$500,B57,OpLimit!$C$24:$C$500,C57,OpLimit!$E$24:$E$500,D57))","v":""},"",{"$f":"IF($D57=\"\",\"\",SUMIFS(OpLimit!$J$24:$J$5000,OpLimit!$B$24:$B$5000,$B57,OpLimit!$C$24:$C$5000,$C57,OpLimit!$E$24:$E$5000,$D57,OpLimit!$K$24:$K$5000,\"Control Equipment Problems\"))","v":""},{"$f":"IF($D57=\"\",\"\",SUMIFS(OpLimit!$J$24:$J$5000,OpLimit!$B$24:$B$5000,$B57,OpLimit!$C$24:$C$5000,$C57,OpLimit!$E$24:$E$5000,$D57,OpLimit!$K$24:$K$5000,\"Process Problems\"))","v":""},{"$f":"IF($D57=\"\",\"\",SUMIFS(OpLimit!$J$24:$J$5000,OpLimit!$B$24:$B$5000,$B57,OpLimit!$C$24:$C$5000,$C57,OpLimit!$E$24:$E$5000,$D57,OpLimit!$K$24:$K$5000,\"Other Known Causes\"))","v":""},{"$f":"IF($D57=\"\",\"\",SUMIFS(OpLimit!$J$24:$J$5000,OpLimit!$B$24:$B$5000,$B57,OpLimit!$C$24:$C$5000,$C57,OpLimit!$E$24:$E$5000,$D57,OpLimit!$K$24:$K$5000,\"Other Unknown Causes\"))","v":""}]
[null,{"$f":"IF(Lists!BX36=\"\",\"\",Lists!BX36)","v":""},{"$f":"IF(Lists!BY36=\"\",\"\",Lists!BY36)","v":""},{"$f":"IF(Lists!BZ36=\"\",\"\",Lists!BZ36)","v":""},null,{"$f":"IF(D58=\"\",\"\",SUMIFS(OpLimit!$J$24:$J$500,OpLimit!$B$24:$B$500,B58,OpLimit!$C$24:$C$500,C58,OpLimit!$E$24:$E$500,D58))","v":""},"",{"$f":"IF($D58=\"\",\"\",SUMIFS(OpLimit!$J$24:$J$5000,OpLimit!$B$24:$B$5000,$B58,OpLimit!$C$24:$C$5000,$C58,OpLimit!$E$24:$E$5000,$D58,OpLimit!$K$24:$K$5000,\"Control Equipment Problems\"))","v":""},{"$f":"IF($D58=\"\",\"\",SUMIFS(OpLimit!$J$24:$J$5000,OpLimit!$B$24:$B$5000,$B58,OpLimit!$C$24:$C$5000,$C58,OpLimit!$E$24:$E$5000,$D58,OpLimit!$K$24:$K$5000,\"Process Problems\"))","v":""},{"$f":"IF($D58=\"\",\"\",SUMIFS(OpLimit!$J$24:$J$5000,OpLimit!$B$24:$B$5000,$B58,OpLimit!$C$24:$C$5000,$C58,OpLimit!$E$24:$E$5000,$D58,OpLimit!$K$24:$K$5000,\"Other Known Causes\"))","v":""},{"$f":"IF($D58=\"\",\"\",SUMIFS(OpLimit!$J$24:$J$5000,OpLimit!$B$24:$B$5000,$B58,OpLimit!$C$24:$C$5000,$C58,OpLimit!$E$24:$E$5000,$D58,OpLimit!$K$24:$K$5000,\"Other Unknown Causes\"))","v":""}]
[null,{"$f":"IF(Lists!BX37=\"\",\"\",Lists!BX37)","v":""},{"$f":"IF(Lists!BY37=\"\",\"\",Lists!BY37)","v":""},{"$f":"IF(Lists!BZ37=\"\",\"\",Lists!BZ37)","v":""},null,{"$f":"IF(D59=\"\",\"\",SUMIFS(OpLimit!$J$24:$J$500,OpLimit!$B$24:$B$500,B59,OpLimit!$C$24:$C$500,C59,OpLimit!$E$24:$E$500,D59))","v":""},"",{"$f":"IF($D59=\"\",\"\",SUMIFS(OpLimit!$J$24:$J$5000,OpLimit!$B$24:$B$5000,$B59,OpLimit!$C$24:$C$5000,$C59,OpLimit!$E$24:$E$5000,$D59,OpLimit!$K$24:$K$5000,\"Control Equipment Problems\"))","v":""},{"$f":"IF($D59=\"\",\"\",SUMIFS(OpLimit!$J$24:$J$5000,OpLimit!$B$24:$B$5000,$B59,OpLimit!$C$24:$C$5000,$C59,OpLimit!$E$24:$E$5000,$D59,OpLimit!$K$24:$K$5000,\"Process Problems\"))","v":""},{"$f":"IF($D59=\"\",\"\",SUMIFS(OpLimit!$J$24:$J$5000,OpLimit!$B$24:$B$5000,$B59,OpLimit!$C$24:$C$5000,$C59,OpLimit!$E$24:$E$5000,$D59,OpLimit!$K$24:$K$5000,\"Other Known Causes\"))","v":""},{"$f":"IF($D59=\"\",\"\",SUMIFS(OpLimit!$J$24:$J$5000,OpLimit!$B$24:$B$5000,$B59,OpLimit!$C$24:$C$5000,$C59,OpLimit!$E$24:$E$5000,$D59,OpLimit!$K$24:$K$5000,\"Other Unknown Causes\"))","v":""}]
[null,{"$f":"IF(Lists!BX38=\"\",\"\",Lists!BX38)","v":""},{"$f":"IF(Lists!BY38=\"\",\"\",Lists!BY38)","v":""},{"$f":"IF(Lists!BZ38=\"\",\"\",Lists!BZ38)","v":""},null,{"$f":"IF(D60=\"\",\"\",SUMIFS(OpLimit!$J$24:$J$500,OpLimit!$B$24:$B$500,B60,OpLimit!$C$24:$C$500,C60,OpLimit!$E$24:$E$500,D60))","v":""},"",{"$f":"IF($D60=\"\",\"\",SUMIFS(OpLimit!$J$24:$J$5000,OpLimit!$B$24:$B$5000,$B60,OpLimit!$C$24:$C$5000,$C60,OpLimit!$E$24:$E$5000,$D60,OpLimit!$K$24:$K$5000,\"Control Equipment Problems\"))","v":""},{"$f":"IF($D60=\"\",\"\",SUMIFS(OpLimit!$J$24:$J$5000,OpLimit!$B$24:$B$5000,$B60,OpLimit!$C$24:$C$5000,$C60,OpLimit!$E$24:$E$5000,$D60,OpLimit!$K$24:$K$5000,\"Process Problems\"))","v":""},{"$f":"IF($D60=\"\",\"\",SUMIFS(OpLimit!$J$24:$J$5000,OpLimit!$B$24:$B$5000,$B60,OpLimit!$C$24:$C$5000,$C60,OpLimit!$E$24:$E$5000,$D60,OpLimit!$K$24:$K$5000,\"Other Known Causes\"))","v":""},{"$f":"IF($D60=\"\",\"\",SUMIFS(OpLimit!$J$24:$J$5000,OpLimit!$B$24:$B$5000,$B60,OpLimit!$C$24:$C$5000,$C60,OpLimit!$E$24:$E$5000,$D60,OpLimit!$K$24:$K$5000,\"Other Unknown Causes\"))","v":""}]
[null,{"$f":"IF(Lists!BX39=\"\",\"\",Lists!BX39)","v":""},{"$f":"IF(Lists!BY39=\"\",\"\",Lists!BY39)","v":""},{"$f":"IF(Lists!BZ39=\"\",\"\",Lists!BZ39)","v":""},null,{"$f":"IF(D61=\"\",\"\",SUMIFS(OpLimit!$J$24:$J$500,OpLimit!$B$24:$B$500,B61,OpLimit!$C$24:$C$500,C61,OpLimit!$E$24:$E$500,D61))","v":""},"",{"$f":"IF($D61=\"\",\"\",SUMIFS(OpLimit!$J$24:$J$5000,OpLimit!$B$24:$B$5000,$B61,OpLimit!$C$24:$C$5000,$C61,OpLimit!$E$24:$E$5000,$D61,OpLimit!$K$24:$K$5000,\"Control Equipment Problems\"))","v":""},{"$f":"IF($D61=\"\",\"\",SUMIFS(OpLimit!$J$24:$J$5000,OpLimit!$B$24:$B$5000,$B61,OpLimit!$C$24:$C$5000,$C61,OpLimit!$E$24:$E$5000,$D61,OpLimit!$K$24:$K$5000,\"Process Problems\"))","v":""},{"$f":"IF($D61=\"\",\"\",SUMIFS(OpLimit!$J$24:$J$5000,OpLimit!$B$24:$B$5000,$B61,OpLimit!$C$24:$C$5000,$C61,OpLimit!$E$24:$E$5000,$D61,OpLimit!$K$24:$K$5000,\"Other Known Causes\"))","v":""},{"$f":"IF($D61=\"\",\"\",SUMIFS(OpLimit!$J$24:$J$5000,OpLimit!$B$24:$B$5000,$B61,OpLimit!$C$24:$C$5000,$C61,OpLimit!$E$24:$E$5000,$D61,OpLimit!$K$24:$K$5000,\"Other Unknown Causes\"))","v":""}]
[null,{"$f":"IF(Lists!BX40=\"\",\"\",Lists!BX40)","v":""},{"$f":"IF(Lists!BY40=\"\",\"\",Lists!BY40)","v":""},{"$f":"IF(Lists!BZ40=\"\",\"\",Lists!BZ40)","v":""},null,{"$f":"IF(D62=\"\",\"\",SUMIFS(OpLimit!$J$24:$J$500,OpLimit!$B$24:$B$500,B62,OpLimit!$C$24:$C$500,C62,OpLimit!$E$24:$E$500,D62))","v":""},"",{"$f":"IF($D62=\"\",\"\",SUMIFS(OpLimit!$J$24:$J$5000,OpLimit!$B$24:$B$5000,$B62,OpLimit!$C$24:$C$5000,$C62,OpLimit!$E$24:$E$5000,$D62,OpLimit!$K$24:$K$5000,\"Control Equipment Problems\"))","v":""},{"$f":"IF($D62=\"\",\"\",SUMIFS(OpLimit!$J$24:$J$5000,OpLimit!$B$24:$B$5000,$B62,OpLimit!$C$24:$C$5000,$C62,OpLimit!$E$24:$E$5000,$D62,OpLimit!$K$24:$K$5000,\"Process Problems\"))","v":""},{"$f":"IF($D62=\"\",\"\",SUMIFS(OpLimit!$J$24:$J$5000,OpLimit!$B$24:$B$5000,$B62,OpLimit!$C$24:$C$5000,$C62,OpLimit!$E$24:$E$5000,$D62,OpLimit!$K$24:$K$5000,\"Other Known Causes\"))","v":""},{"$f":"IF($D62=\"\",\"\",SUMIFS(OpLimit!$J$24:$J$5000,OpLimit!$B$24:$B$5000,$B62,OpLimit!$C$24:$C$5000,$C62,OpLimit!$E$24:$E$5000,$D62,OpLimit!$K$24:$K$5000,\"Other Unknown Causes\"))","v":""}]
[null,{"$f":"IF(Lists!BX41=\"\",\"\",Lists!BX41)","v":""},{"$f":"IF(Lists!BY41=\"\",\"\",Lists!BY41)","v":""},{"$f":"IF(Lists!BZ41=\"\",\"\",Lists!BZ41)","v":""},null,{"$f":"IF(D63=\"\",\"\",SUMIFS(OpLimit!$J$24:$J$500,OpLimit!$B$24:$B$500,B63,OpLimit!$C$24:$C$500,C63,OpLimit!$E$24:$E$500,D63))","v":""},"",{"$f":"IF($D63=\"\",\"\",SUMIFS(OpLimit!$J$24:$J$5000,OpLimit!$B$24:$B$5000,$B63,OpLimit!$C$24:$C$5000,$C63,OpLimit!$E$24:$E$5000,$D63,OpLimit!$K$24:$K$5000,\"Control Equipment Problems\"))","v":""},{"$f":"IF($D63=\"\",\"\",SUMIFS(OpLimit!$J$24:$J$5000,OpLimit!$B$24:$B$5000,$B63,OpLimit!$C$24:$C$5000,$C63,OpLimit!$E$24:$E$5000,$D63,OpLimit!$K$24:$K$5000,\"Process Problems\"))","v":""},{"$f":"IF($D63=\"\",\"\",SUMIFS(OpLimit!$J$24:$J$5000,OpLimit!$B$24:$B$5000,$B63,OpLimit!$C$24:$C$5000,$C63,OpLimit!$E$24:$E$5000,$D63,OpLimit!$K$24:$K$5000,\"Other Known Causes\"))","v":""},{"$f":"IF($D63=\"\",\"\",SUMIFS(OpLimit!$J$24:$J$5000,OpLimit!$B$24:$B$5000,$B63,OpLimit!$C$24:$C$5000,$C63,OpLimit!$E$24:$E$5000,$D63,OpLimit!$K$24:$K$5000,\"Other Unknown Causes\"))","v":""}]
[null,{"$f":"IF(Lists!BX42=\"\",\"\",Lists!BX42)","v":""},{"$f":"IF(Lists!BY42=\"\",\"\",Lists!BY42)","v":""},{"$f":"IF(Lists!BZ42=\"\",\"\",Lists!BZ42)","v":""},null,{"$f":"IF(D64=\"\",\"\",SUMIFS(OpLimit!$J$24:$J$500,OpLimit!$B$24:$B$500,B64,OpLimit!$C$24:$C$500,C64,OpLimit!$E$24:$E$500,D64))","v":""},"",{"$f":"IF($D64=\"\",\"\",SUMIFS(OpLimit!$J$24:$J$5000,OpLimit!$B$24:$B$5000,$B64,OpLimit!$C$24:$C$5000,$C64,OpLimit!$E$24:$E$5000,$D64,OpLimit!$K$24:$K$5000,\"Control Equipment Problems\"))","v":""},{"$f":"IF($D64=\"\",\"\",SUMIFS(OpLimit!$J$24:$J$5000,OpLimit!$B$24:$B$5000,$B64,OpLimit!$C$24:$C$5000,$C64,OpLimit!$E$24:$E$5000,$D64,OpLimit!$K$24:$K$5000,\"Process Problems\"))","v":""},{"$f":"IF($D64=\"\",\"\",SUMIFS(OpLimit!$J$24:$J$5000,OpLimit!$B$24:$B$5000,$B64,OpLimit!$C$24:$C$5000,$C64,OpLimit!$E$24:$E$5000,$D64,OpLimit!$K$24:$K$5000,\"Other Known Causes\"))","v":""},{"$f":"IF($D64=\"\",\"\",SUMIFS(OpLimit!$J$24:$J$5000,OpLimit!$B$24:$B$5000,$B64,OpLimit!$C$24:$C$5000,$C64,OpLimit!$E$24:$E$5000,$D64,OpLimit!$K$24:$K$5000,\"Other Unknown Causes\"))","v":""}]
[null,{"$f":"IF(Lists!BX43=\"\",\"\",Lists!BX43)","v":""},{"$f":"IF(Lists!BY43=\"\",\"\",Lists!BY43)","v":""},{"$f":"IF(Lists!BZ43=\"\",\"\",Lists!BZ43)","v":""},null,{"$f":"IF(D65=\"\",\"\",SUMIFS(OpLimit!$J$24:$J$500,OpLimit!$B$24:$B$500,B65,OpLimit!$C$24:$C$500,C65,OpLimit!$E$24:$E$500,D65))","v":""},"",{"$f":"IF($D65=\"\",\"\",SUMIFS(OpLimit!$J$24:$J$5000,OpLimit!$B$24:$B$5000,$B65,OpLimit!$C$24:$C$5000,$C65,OpLimit!$E$24:$E$5000,$D65,OpLimit!$K$24:$K$5000,\"Control Equipment Problems\"))","v":""},{"$f":"IF($D65=\"\",\"\",SUMIFS(OpLimit!$J$24:$J$5000,OpLimit!$B$24:$B$5000,$B65,OpLimit!$C$24:$C$5000,$C65,OpLimit!$E$24:$E$5000,$D65,OpLimit!$K$24:$K$5000,\"Process Problems\"))","v":""},{"$f":"IF($D65=\"\",\"\",SUMIFS(OpLimit!$J$24:$J$5000,OpLimit!$B$24:$B$5000,$B65,OpLimit!$C$24:$C$5000,$C65,OpLimit!$E$24:$E$5000,$D65,OpLimit!$K$24:$K$5000,\"Other Known Causes\"))","v":""},{"$f":"IF($D65=\"\",\"\",SUMIFS(OpLimit!$J$24:$J$5000,OpLimit!$B$24:$B$5000,$B65,OpLimit!$C$24:$C$5000,$C65,OpLimit!$E$24:$E$5000,$D65,OpLimit!$K$24:$K$5000,\"Other Unknown Causes\"))","v":""}]
[null,{"$f":"IF(Lists!BX44=\"\",\"\",Lists!BX44)","v":""},{"$f":"IF(Lists!BY44=\"\",\"\",Lists!BY44)","v":""},{"$f":"IF(Lists!BZ44=\"\",\"\",Lists!BZ44)","v":""},null,{"$f":"IF(D66=\"\",\"\",SUMIFS(OpLimit!$J$24:$J$500,OpLimit!$B$24:$B$500,B66,OpLimit!$C$24:$C$500,C66,OpLimit!$E$24:$E$500,D66))","v":""},"",{"$f":"IF($D66=\"\",\"\",SUMIFS(OpLimit!$J$24:$J$5000,OpLimit!$B$24:$B$5000,$B66,OpLimit!$C$24:$C$5000,$C66,OpLimit!$E$24:$E$5000,$D66,OpLimit!$K$24:$K$5000,\"Control Equipment Problems\"))","v":""},{"$f":"IF($D66=\"\",\"\",SUMIFS(OpLimit!$J$24:$J$5000,OpLimit!$B$24:$B$5000,$B66,OpLimit!$C$24:$C$5000,$C66,OpLimit!$E$24:$E$5000,$D66,OpLimit!$K$24:$K$5000,\"Process Problems\"))","v":""},{"$f":"IF($D66=\"\",\"\",SUMIFS(OpLimit!$J$24:$J$5000,OpLimit!$B$24:$B$5000,$B66,OpLimit!$C$24:$C$5000,$C66,OpLimit!$E$24:$E$5000,$D66,OpLimit!$K$24:$K$5000,\"Other Known Causes\"))","v":""},{"$f":"IF($D66=\"\",\"\",SUMIFS(OpLimit!$J$24:$J$5000,OpLimit!$B$24:$B$5000,$B66,OpLimit!$C$24:$C$5000,$C66,OpLimit!$E$24:$E$5000,$D66,OpLimit!$K$24:$K$5000,\"Other Unknown Causes\"))","v":""}]
[null,{"$f":"IF(Lists!BX45=\"\",\"\",Lists!BX45)","v":""},{"$f":"IF(Lists!BY45=\"\",\"\",Lists!BY45)","v":""},{"$f":"IF(Lists!BZ45=\"\",\"\",Lists!BZ45)","v":""},null,{"$f":"IF(D67=\"\",\"\",SUMIFS(OpLimit!$J$24:$J$500,OpLimit!$B$24:$B$500,B67,OpLimit!$C$24:$C$500,C67,OpLimit!$E$24:$E$500,D67))","v":""},"",{"$f":"IF($D67=\"\",\"\",SUMIFS(OpLimit!$J$24:$J$5000,OpLimit!$B$24:$B$5000,$B67,OpLimit!$C$24:$C$5000,$C67,OpLimit!$E$24:$E$5000,$D67,OpLimit!$K$24:$K$5000,\"Control Equipment Problems\"))","v":""},{"$f":"IF($D67=\"\",\"\",SUMIFS(OpLimit!$J$24:$J$5000,OpLimit!$B$24:$B$5000,$B67,OpLimit!$C$24:$C$5000,$C67,OpLimit!$E$24:$E$5000,$D67,OpLimit!$K$24:$K$5000,\"Process Problems\"))","v":""},{"$f":"IF($D67=\"\",\"\",SUMIFS(OpLimit!$J$24:$J$5000,OpLimit!$B$24:$B$5000,$B67,OpLimit!$C$24:$C$5000,$C67,OpLimit!$E$24:$E$5000,$D67,OpLimit!$K$24:$K$5000,\"Other Known Causes\"))","v":""},{"$f":"IF($D67=\"\",\"\",SUMIFS(OpLimit!$J$24:$J$5000,OpLimit!$B$24:$B$5000,$B67,OpLimit!$C$24:$C$5000,$C67,OpLimit!$E$24:$E$5000,$D67,OpLimit!$K$24:$K$5000,\"Other Unknown Causes\"))","v":""}]
[null,{"$f":"IF(Lists!BX46=\"\",\"\",Lists!BX46)","v":""},{"$f":"IF(Lists!BY46=\"\",\"\",Lists!BY46)","v":""},{"$f":"IF(Lists!BZ46=\"\",\"\",Lists!BZ46)","v":""},null,{"$f":"IF(D68=\"\",\"\",SUMIFS(OpLimit!$J$24:$J$500,OpLimit!$B$24:$B$500,B68,OpLimit!$C$24:$C$500,C68,OpLimit!$E$24:$E$500,D68))","v":""},"",{"$f":"IF($D68=\"\",\"\",SUMIFS(OpLimit!$J$24:$J$5000,OpLimit!$B$24:$B$5000,$B68,OpLimit!$C$24:$C$5000,$C68,OpLimit!$E$24:$E$5000,$D68,OpLimit!$K$24:$K$5000,\"Control Equipment Problems\"))","v":""},{"$f":"IF($D68=\"\",\"\",SUMIFS(OpLimit!$J$24:$J$5000,OpLimit!$B$24:$B$5000,$B68,OpLimit!$C$24:$C$5000,$C68,OpLimit!$E$24:$E$5000,$D68,OpLimit!$K$24:$K$5000,\"Process Problems\"))","v":""},{"$f":"IF($D68=\"\",\"\",SUMIFS(OpLimit!$J$24:$J$5000,OpLimit!$B$24:$B$5000,$B68,OpLimit!$C$24:$C$5000,$C68,OpLimit!$E$24:$E$5000,$D68,OpLimit!$K$24:$K$5000,\"Other Known Causes\"))","v":""},{"$f":"IF($D68=\"\",\"\",SUMIFS(OpLimit!$J$24:$J$5000,OpLimit!$B$24:$B$5000,$B68,OpLimit!$C$24:$C$5000,$C68,OpLimit!$E$24:$E$5000,$D68,OpLimit!$K$24:$K$5000,\"Other Unknown Causes\"))","v":""}]
[null,{"$f":"IF(Lists!BX47=\"\",\"\",Lists!BX47)","v":""},{"$f":"IF(Lists!BY47=\"\",\"\",Lists!BY47)","v":""},{"$f":"IF(Lists!BZ47=\"\",\"\",Lists!BZ47)","v":""},null,{"$f":"IF(D69=\"\",\"\",SUMIFS(OpLimit!$J$24:$J$500,OpLimit!$B$24:$B$500,B69,OpLimit!$C$24:$C$500,C69,OpLimit!$E$24:$E$500,D69))","v":""},"",{"$f":"IF($D69=\"\",\"\",SUMIFS(OpLimit!$J$24:$J$5000,OpLimit!$B$24:$B$5000,$B69,OpLimit!$C$24:$C$5000,$C69,OpLimit!$E$24:$E$5000,$D69,OpLimit!$K$24:$K$5000,\"Control Equipment Problems\"))","v":""},{"$f":"IF($D69=\"\",\"\",SUMIFS(OpLimit!$J$24:$J$5000,OpLimit!$B$24:$B$5000,$B69,OpLimit!$C$24:$C$5000,$C69,OpLimit!$E$24:$E$5000,$D69,OpLimit!$K$24:$K$5000,\"Process Problems\"))","v":""},{"$f":"IF($D69=\"\",\"\",SUMIFS(OpLimit!$J$24:$J$5000,OpLimit!$B$24:$B$5000,$B69,OpLimit!$C$24:$C$5000,$C69,OpLimit!$E$24:$E$5000,$D69,OpLimit!$K$24:$K$5000,\"Other Known Causes\"))","v":""},{"$f":"IF($D69=\"\",\"\",SUMIFS(OpLimit!$J$24:$J$5000,OpLimit!$B$24:$B$5000,$B69,OpLimit!$C$24:$C$5000,$C69,OpLimit!$E$24:$E$5000,$D69,OpLimit!$K$24:$K$5000,\"Other Unknown Causes\"))","v":""}]
[null,{"$f":"IF(Lists!BX48=\"\",\"\",Lists!BX48)","v":""},{"$f":"IF(Lists!BY48=\"\",\"\",Lists!BY48)","v":""},{"$f":"IF(Lists!BZ48=\"\",\"\",Lists!BZ48)","v":""},null,{"$f":"IF(D70=\"\",\"\",SUMIFS(OpLimit!$J$24:$J$500,OpLimit!$B$24:$B$500,B70,OpLimit!$C$24:$C$500,C70,OpLimit!$E$24:$E$500,D70))","v":""},"",{"$f":"IF($D70=\"\",\"\",SUMIFS(OpLimit!$J$24:$J$5000,OpLimit!$B$24:$B$5000,$B70,OpLimit!$C$24:$C$5000,$C70,OpLimit!$E$24:$E$5000,$D70,OpLimit!$K$24:$K$5000,\"Control Equipment Problems\"))","v":""},{"$f":"IF($D70=\"\",\"\",SUMIFS(OpLimit!$J$24:$J$5000,OpLimit!$B$24:$B$5000,$B70,OpLimit!$C$24:$C$5000,$C70,OpLimit!$E$24:$E$5000,$D70,OpLimit!$K$24:$K$5000,\"Process Problems\"))","v":""},{"$f":"IF($D70=\"\",\"\",SUMIFS(OpLimit!$J$24:$J$5000,OpLimit!$B$24:$B$5000,$B70,OpLimit!$C$24:$C$5000,$C70,OpLimit!$E$24:$E$5000,$D70,OpLimit!$K$24:$K$5000,\"Other Known Causes\"))","v":""},{"$f":"IF($D70=\"\",\"\",SUMIFS(OpLimit!$J$24:$J$5000,OpLimit!$B$24:$B$5000,$B70,OpLimit!$C$24:$C$5000,$C70,OpLimit!$E$24:$E$5000,$D70,OpLimit!$K$24:$K$5000,\"Other Unknown Causes\"))","v":""}]
[null,{"$f":"IF(Lists!BX49=\"\",\"\",Lists!BX49)","v":""},{"$f":"IF(Lists!BY49=\"\",\"\",Lists!BY49)","v":""},{"$f":"IF(Lists!BZ49=\"\",\"\",Lists!BZ49)","v":""},null,{"$f":"IF(D71=\"\",\"\",SUMIFS(OpLimit!$J$24:$J$500,OpLimit!$B$24:$B$500,B71,OpLimit!$C$24:$C$500,C71,OpLimit!$E$24:$E$500,D71))","v":""},"",{"$f":"IF($D71=\"\",\"\",SUMIFS(OpLimit!$J$24:$J$5000,OpLimit!$B$24:$B$5000,$B71,OpLimit!$C$24:$C$5000,$C71,OpLimit!$E$24:$E$5000,$D71,OpLimit!$K$24:$K$5000,\"Control Equipment Problems\"))","v":""},{"$f":"IF($D71=\"\",\"\",SUMIFS(OpLimit!$J$24:$J$5000,OpLimit!$B$24:$B$5000,$B71,OpLimit!$C$24:$C$5000,$C71,OpLimit!$E$24:$E$5000,$D71,OpLimit!$K$24:$K$5000,\"Process Problems\"))","v":""},{"$f":"IF($D71=\"\",\"\",SUMIFS(OpLimit!$J$24:$J$5000,OpLimit!$B$24:$B$5000,$B71,OpLimit!$C$24:$C$5000,$C71,OpLimit!$E$24:$E$5000,$D71,OpLimit!$K$24:$K$5000,\"Other Known Causes\"))","v":""},{"$f":"IF($D71=\"\",\"\",SUMIFS(OpLimit!$J$24:$J$5000,OpLimit!$B$24:$B$5000,$B71,OpLimit!$C$24:$C$5000,$C71,OpLimit!$E$24:$E$5000,$D71,OpLimit!$K$24:$K$5000,\"Other Unknown Causes\"))","v":""}]
[null,{"$f":"IF(Lists!BX50=\"\",\"\",Lists!BX50)","v":""},{"$f":"IF(Lists!BY50=\"\",\"\",Lists!BY50)","v":""},{"$f":"IF(Lists!BZ50=\"\",\"\",Lists!BZ50)","v":""},null,{"$f":"IF(D72=\"\",\"\",SUMIFS(OpLimit!$J$24:$J$500,OpLimit!$B$24:$B$500,B72,OpLimit!$C$24:$C$500,C72,OpLimit!$E$24:$E$500,D72))","v":""},"",{"$f":"IF($D72=\"\",\"\",SUMIFS(OpLimit!$J$24:$J$5000,OpLimit!$B$24:$B$5000,$B72,OpLimit!$C$24:$C$5000,$C72,OpLimit!$E$24:$E$5000,$D72,OpLimit!$K$24:$K$5000,\"Control Equipment Problems\"))","v":""},{"$f":"IF($D72=\"\",\"\",SUMIFS(OpLimit!$J$24:$J$5000,OpLimit!$B$24:$B$5000,$B72,OpLimit!$C$24:$C$5000,$C72,OpLimit!$E$24:$E$5000,$D72,OpLimit!$K$24:$K$5000,\"Process Problems\"))","v":""},{"$f":"IF($D72=\"\",\"\",SUMIFS(OpLimit!$J$24:$J$5000,OpLimit!$B$24:$B$5000,$B72,OpLimit!$C$24:$C$5000,$C72,OpLimit!$E$24:$E$5000,$D72,OpLimit!$K$24:$K$5000,\"Other Known Causes\"))","v":""},{"$f":"IF($D72=\"\",\"\",SUMIFS(OpLimit!$J$24:$J$5000,OpLimit!$B$24:$B$5000,$B72,OpLimit!$C$24:$C$5000,$C72,OpLimit!$E$24:$E$5000,$D72,OpLimit!$K$24:$K$5000,\"Other Unknown Causes\"))","v":""}]
[null,{"$f":"IF(Lists!BX51=\"\",\"\",Lists!BX51)","v":""},{"$f":"IF(Lists!BY51=\"\",\"\",Lists!BY51)","v":""},{"$f":"IF(Lists!BZ51=\"\",\"\",Lists!BZ51)","v":""},null,{"$f":"IF(D73=\"\",\"\",SUMIFS(OpLimit!$J$24:$J$500,OpLimit!$B$24:$B$500,B73,OpLimit!$C$24:$C$500,C73,OpLimit!$E$24:$E$500,D73))","v":""},"",{"$f":"IF($D73=\"\",\"\",SUMIFS(OpLimit!$J$24:$J$5000,OpLimit!$B$24:$B$5000,$B73,OpLimit!$C$24:$C$5000,$C73,OpLimit!$E$24:$E$5000,$D73,OpLimit!$K$24:$K$5000,\"Control Equipment Problems\"))","v":""},{"$f":"IF($D73=\"\",\"\",SUMIFS(OpLimit!$J$24:$J$5000,OpLimit!$B$24:$B$5000,$B73,OpLimit!$C$24:$C$5000,$C73,OpLimit!$E$24:$E$5000,$D73,OpLimit!$K$24:$K$5000,\"Process Problems\"))","v":""},{"$f":"IF($D73=\"\",\"\",SUMIFS(OpLimit!$J$24:$J$5000,OpLimit!$B$24:$B$5000,$B73,OpLimit!$C$24:$C$5000,$C73,OpLimit!$E$24:$E$5000,$D73,OpLimit!$K$24:$K$5000,\"Other Known Causes\"))","v":""},{"$f":"IF($D73=\"\",\"\",SUMIFS(OpLimit!$J$24:$J$5000,OpLimit!$B$24:$B$5000,$B73,OpLimit!$C$24:$C$5000,$C73,OpLimit!$E$24:$E$5000,$D73,OpLimit!$K$24:$K$5000,\"Other Unknown Causes\"))","v":""}]
[null,{"$f":"IF(Lists!BX52=\"\",\"\",Lists!BX52)","v":""},{"$f":"IF(Lists!BY52=\"\",\"\",Lists!BY52)","v":""},{"$f":"IF(Lists!BZ52=\"\",\"\",Lists!BZ52)","v":""},null,{"$f":"IF(D74=\"\",\"\",SUMIFS(OpLimit!$J$24:$J$500,OpLimit!$B$24:$B$500,B74,OpLimit!$C$24:$C$500,C74,OpLimit!$E$24:$E$500,D74))","v":""},"",{"$f":"IF($D74=\"\",\"\",SUMIFS(OpLimit!$J$24:$J$5000,OpLimit!$B$24:$B$5000,$B74,OpLimit!$C$24:$C$5000,$C74,OpLimit!$E$24:$E$5000,$D74,OpLimit!$K$24:$K$5000,\"Control Equipment Problems\"))","v":""},{"$f":"IF($D74=\"\",\"\",SUMIFS(OpLimit!$J$24:$J$5000,OpLimit!$B$24:$B$5000,$B74,OpLimit!$C$24:$C$5000,$C74,OpLimit!$E$24:$E$5000,$D74,OpLimit!$K$24:$K$5000,\"Process Problems\"))","v":""},{"$f":"IF($D74=\"\",\"\",SUMIFS(OpLimit!$J$24:$J$5000,OpLimit!$B$24:$B$5000,$B74,OpLimit!$C$24:$C$5000,$C74,OpLimit!$E$24:$E$5000,$D74,OpLimit!$K$24:$K$5000,\"Other Known Causes\"))","v":""},{"$f":"IF($D74=\"\",\"\",SUMIFS(OpLimit!$J$24:$J$5000,OpLimit!$B$24:$B$5000,$B74,OpLimit!$C$24:$C$5000,$C74,OpLimit!$E$24:$E$5000,$D74,OpLimit!$K$24:$K$5000,\"Other Unknown Causes\"))","v":""}]
[null,{"$f":"IF(Lists!BX53=\"\",\"\",Lists!BX53)","v":""},{"$f":"IF(Lists!BY53=\"\",\"\",Lists!BY53)","v":""},{"$f":"IF(Lists!BZ53=\"\",\"\",Lists!BZ53)","v":""},null,{"$f":"IF(D75=\"\",\"\",SUMIFS(OpLimit!$J$24:$J$500,OpLimit!$B$24:$B$500,B75,OpLimit!$C$24:$C$500,C75,OpLimit!$E$24:$E$500,D75))","v":""},"",{"$f":"IF($D75=\"\",\"\",SUMIFS(OpLimit!$J$24:$J$5000,OpLimit!$B$24:$B$5000,$B75,OpLimit!$C$24:$C$5000,$C75,OpLimit!$E$24:$E$5000,$D75,OpLimit!$K$24:$K$5000,\"Control Equipment Problems\"))","v":""},{"$f":"IF($D75=\"\",\"\",SUMIFS(OpLimit!$J$24:$J$5000,OpLimit!$B$24:$B$5000,$B75,OpLimit!$C$24:$C$5000,$C75,OpLimit!$E$24:$E$5000,$D75,OpLimit!$K$24:$K$5000,\"Process Problems\"))","v":""},{"$f":"IF($D75=\"\",\"\",SUMIFS(OpLimit!$J$24:$J$5000,OpLimit!$B$24:$B$5000,$B75,OpLimit!$C$24:$C$5000,$C75,OpLimit!$E$24:$E$5000,$D75,OpLimit!$K$24:$K$5000,\"Other Known Causes\"))","v":""},{"$f":"IF($D75=\"\",\"\",SUMIFS(OpLimit!$J$24:$J$5000,OpLimit!$B$24:$B$5000,$B75,OpLimit!$C$24:$C$5000,$C75,OpLimit!$E$24:$E$5000,$D75,OpLimit!$K$24:$K$5000,\"Other Unknown Causes\"))","v":""}]
[null,{"$f":"IF(Lists!BX54=\"\",\"\",Lists!BX54)","v":""},{"$f":"IF(Lists!BY54=\"\",\"\",Lists!BY54)","v":""},{"$f":"IF(Lists!BZ54=\"\",\"\",Lists!BZ54)","v":""},null,{"$f":"IF(D76=\"\",\"\",SUMIFS(OpLimit!$J$24:$J$500,OpLimit!$B$24:$B$500,B76,OpLimit!$C$24:$C$500,C76,OpLimit!$E$24:$E$500,D76))","v":""},"",{"$f":"IF($D76=\"\",\"\",SUMIFS(OpLimit!$J$24:$J$5000,OpLimit!$B$24:$B$5000,$B76,OpLimit!$C$24:$C$5000,$C76,OpLimit!$E$24:$E$5000,$D76,OpLimit!$K$24:$K$5000,\"Control Equipment Problems\"))","v":""},{"$f":"IF($D76=\"\",\"\",SUMIFS(OpLimit!$J$24:$J$5000,OpLimit!$B$24:$B$5000,$B76,OpLimit!$C$24:$C$5000,$C76,OpLimit!$E$24:$E$5000,$D76,OpLimit!$K$24:$K$5000,\"Process Problems\"))","v":""},{"$f":"IF($D76=\"\",\"\",SUMIFS(OpLimit!$J$24:$J$5000,OpLimit!$B$24:$B$5000,$B76,OpLimit!$C$24:$C$5000,$C76,OpLimit!$E$24:$E$5000,$D76,OpLimit!$K$24:$K$5000,\"Other Known Causes\"))","v":""},{"$f":"IF($D76=\"\",\"\",SUMIFS(OpLimit!$J$24:$J$5000,OpLimit!$B$24:$B$5000,$B76,OpLimit!$C$24:$C$5000,$C76,OpLimit!$E$24:$E$5000,$D76,OpLimit!$K$24:$K$5000,\"Other Unknown Causes\"))","v":""}]
[null,{"$f":"IF(Lists!BX55=\"\",\"\",Lists!BX55)","v":""},{"$f":"IF(Lists!BY55=\"\",\"\",Lists!BY55)","v":""},{"$f":"IF(Lists!BZ55=\"\",\"\",Lists!BZ55)","v":""},null,{"$f":"IF(D77=\"\",\"\",SUMIFS(OpLimit!$J$24:$J$500,OpLimit!$B$24:$B$500,B77,OpLimit!$C$24:$C$500,C77,OpLimit!$E$24:$E$500,D77))","v":""},"",{"$f":"IF($D77=\"\",\"\",SUMIFS(OpLimit!$J$24:$J$5000,OpLimit!$B$24:$B$5000,$B77,OpLimit!$C$24:$C$5000,$C77,OpLimit!$E$24:$E$5000,$D77,OpLimit!$K$24:$K$5000,\"Control Equipment Problems\"))","v":""},{"$f":"IF($D77=\"\",\"\",SUMIFS(OpLimit!$J$24:$J$5000,OpLimit!$B$24:$B$5000,$B77,OpLimit!$C$24:$C$5000,$C77,OpLimit!$E$24:$E$5000,$D77,OpLimit!$K$24:$K$5000,\"Process Problems\"))","v":""},{"$f":"IF($D77=\"\",\"\",SUMIFS(OpLimit!$J$24:$J$5000,OpLimit!$B$24:$B$5000,$B77,OpLimit!$C$24:$C$5000,$C77,OpLimit!$E$24:$E$5000,$D77,OpLimit!$K$24:$K$5000,\"Other Known Causes\"))","v":""},{"$f":"IF($D77=\"\",\"\",SUMIFS(OpLimit!$J$24:$J$5000,OpLimit!$B$24:$B$5000,$B77,OpLimit!$C$24:$C$5000,$C77,OpLimit!$E$24:$E$5000,$D77,OpLimit!$K$24:$K$5000,\"Other Unknown Causes\"))","v":""}]
[null,{"$f":"IF(Lists!BX56=\"\",\"\",Lists!BX56)","v":""},{"$f":"IF(Lists!BY56=\"\",\"\",Lists!BY56)","v":""},{"$f":"IF(Lists!BZ56=\"\",\"\",Lists!BZ56)","v":""},null,{"$f":"IF(D78=\"\",\"\",SUMIFS(OpLimit!$J$24:$J$500,OpLimit!$B$24:$B$500,B78,OpLimit!$C$24:$C$500,C78,OpLimit!$E$24:$E$500,D78))","v":""},"",{"$f":"IF($D78=\"\",\"\",SUMIFS(OpLimit!$J$24:$J$5000,OpLimit!$B$24:$B$5000,$B78,OpLimit!$C$24:$C$5000,$C78,OpLimit!$E$24:$E$5000,$D78,OpLimit!$K$24:$K$5000,\"Control Equipment Problems\"))","v":""},{"$f":"IF($D78=\"\",\"\",SUMIFS(OpLimit!$J$24:$J$5000,OpLimit!$B$24:$B$5000,$B78,OpLimit!$C$24:$C$5000,$C78,OpLimit!$E$24:$E$5000,$D78,OpLimit!$K$24:$K$5000,\"Process Problems\"))","v":""},{"$f":"IF($D78=\"\",\"\",SUMIFS(OpLimit!$J$24:$J$5000,OpLimit!$B$24:$B$5000,$B78,OpLimit!$C$24:$C$5000,$C78,OpLimit!$E$24:$E$5000,$D78,OpLimit!$K$24:$K$5000,\"Other Known Causes\"))","v":""},{"$f":"IF($D78=\"\",\"\",SUMIFS(OpLimit!$J$24:$J$5000,OpLimit!$B$24:$B$5000,$B78,OpLimit!$C$24:$C$5000,$C78,OpLimit!$E$24:$E$5000,$D78,OpLimit!$K$24:$K$5000,\"Other Unknown Causes\"))","v":""}]
[null,{"$f":"IF(Lists!BX57=\"\",\"\",Lists!BX57)","v":""},{"$f":"IF(Lists!BY57=\"\",\"\",Lists!BY57)","v":""},{"$f":"IF(Lists!BZ57=\"\",\"\",Lists!BZ57)","v":""},null,{"$f":"IF(D79=\"\",\"\",SUMIFS(OpLimit!$J$24:$J$500,OpLimit!$B$24:$B$500,B79,OpLimit!$C$24:$C$500,C79,OpLimit!$E$24:$E$500,D79))","v":""},"",{"$f":"IF($D79=\"\",\"\",SUMIFS(OpLimit!$J$24:$J$5000,OpLimit!$B$24:$B$5000,$B79,OpLimit!$C$24:$C$5000,$C79,OpLimit!$E$24:$E$5000,$D79,OpLimit!$K$24:$K$5000,\"Control Equipment Problems\"))","v":""},{"$f":"IF($D79=\"\",\"\",SUMIFS(OpLimit!$J$24:$J$5000,OpLimit!$B$24:$B$5000,$B79,OpLimit!$C$24:$C$5000,$C79,OpLimit!$E$24:$E$5000,$D79,OpLimit!$K$24:$K$5000,\"Process Problems\"))","v":""},{"$f":"IF($D79=\"\",\"\",SUMIFS(OpLimit!$J$24:$J$5000,OpLimit!$B$24:$B$5000,$B79,OpLimit!$C$24:$C$5000,$C79,OpLimit!$E$24:$E$5000,$D79,OpLimit!$K$24:$K$5000,\"Other Known Causes\"))","v":""},{"$f":"IF($D79=\"\",\"\",SUMIFS(OpLimit!$J$24:$J$5000,OpLimit!$B$24:$B$5000,$B79,OpLimit!$C$24:$C$5000,$C79,OpLimit!$E$24:$E$5000,$D79,OpLimit!$K$24:$K$5000,\"Other Unknown Causes\"))","v":""}]
[null,{"$f":"IF(Lists!BX58=\"\",\"\",Lists!BX58)","v":""},{"$f":"IF(Lists!BY58=\"\",\"\",Lists!BY58)","v":""},{"$f":"IF(Lists!BZ58=\"\",\"\",Lists!BZ58)","v":""},null,{"$f":"IF(D80=\"\",\"\",SUMIFS(OpLimit!$J$24:$J$500,OpLimit!$B$24:$B$500,B80,OpLimit!$C$24:$C$500,C80,OpLimit!$E$24:$E$500,D80))","v":""},"",{"$f":"IF($D80=\"\",\"\",SUMIFS(OpLimit!$J$24:$J$5000,OpLimit!$B$24:$B$5000,$B80,OpLimit!$C$24:$C$5000,$C80,OpLimit!$E$24:$E$5000,$D80,OpLimit!$K$24:$K$5000,\"Control Equipment Problems\"))","v":""},{"$f":"IF($D80=\"\",\"\",SUMIFS(OpLimit!$J$24:$J$5000,OpLimit!$B$24:$B$5000,$B80,OpLimit!$C$24:$C$5000,$C80,OpLimit!$E$24:$E$5000,$D80,OpLimit!$K$24:$K$5000,\"Process Problems\"))","v":""},{"$f":"IF($D80=\"\",\"\",SUMIFS(OpLimit!$J$24:$J$5000,OpLimit!$B$24:$B$5000,$B80,OpLimit!$C$24:$C$5000,$C80,OpLimit!$E$24:$E$5000,$D80,OpLimit!$K$24:$K$5000,\"Other Known Causes\"))","v":""},{"$f":"IF($D80=\"\",\"\",SUMIFS(OpLimit!$J$24:$J$5000,OpLimit!$B$24:$B$5000,$B80,OpLimit!$C$24:$C$5000,$C80,OpLimit!$E$24:$E$5000,$D80,OpLimit!$K$24:$K$5000,\"Other Unknown Causes\"))","v":""}]
[null,{"$f":"IF(Lists!BX59=\"\",\"\",Lists!BX59)","v":""},{"$f":"IF(Lists!BY59=\"\",\"\",Lists!BY59)","v":""},{"$f":"IF(Lists!BZ59=\"\",\"\",Lists!BZ59)","v":""},null,{"$f":"IF(D81=\"\",\"\",SUMIFS(OpLimit!$J$24:$J$500,OpLimit!$B$24:$B$500,B81,OpLimit!$C$24:$C$500,C81,OpLimit!$E$24:$E$500,D81))","v":""},"",{"$f":"IF($D81=\"\",\"\",SUMIFS(OpLimit!$J$24:$J$5000,OpLimit!$B$24:$B$5000,$B81,OpLimit!$C$24:$C$5000,$C81,OpLimit!$E$24:$E$5000,$D81,OpLimit!$K$24:$K$5000,\"Control Equipment Problems\"))","v":""},{"$f":"IF($D81=\"\",\"\",SUMIFS(OpLimit!$J$24:$J$5000,OpLimit!$B$24:$B$5000,$B81,OpLimit!$C$24:$C$5000,$C81,OpLimit!$E$24:$E$5000,$D81,OpLimit!$K$24:$K$5000,\"Process Problems\"))","v":""},{"$f":"IF($D81=\"\",\"\",SUMIFS(OpLimit!$J$24:$J$5000,OpLimit!$B$24:$B$5000,$B81,OpLimit!$C$24:$C$5000,$C81,OpLimit!$E$24:$E$5000,$D81,OpLimit!$K$24:$K$5000,\"Other Known Causes\"))","v":""},{"$f":"IF($D81=\"\",\"\",SUMIFS(OpLimit!$J$24:$J$5000,OpLimit!$B$24:$B$5000,$B81,OpLimit!$C$24:$C$5000,$C81,OpLimit!$E$24:$E$5000,$D81,OpLimit!$K$24:$K$5000,\"Other Unknown Causes\"))","v":""}]
[null,{"$f":"IF(Lists!BX60=\"\",\"\",Lists!BX60)","v":""},{"$f":"IF(Lists!BY60=\"\",\"\",Lists!BY60)","v":""},{"$f":"IF(Lists!BZ60=\"\",\"\",Lists!BZ60)","v":""},null,{"$f":"IF(D82=\"\",\"\",SUMIFS(OpLimit!$J$24:$J$500,OpLimit!$B$24:$B$500,B82,OpLimit!$C$24:$C$500,C82,OpLimit!$E$24:$E$500,D82))","v":""},"",{"$f":"IF($D82=\"\",\"\",SUMIFS(OpLimit!$J$24:$J$5000,OpLimit!$B$24:$B$5000,$B82,OpLimit!$C$24:$C$5000,$C82,OpLimit!$E$24:$E$5000,$D82,OpLimit!$K$24:$K$5000,\"Control Equipment Problems\"))","v":""},{"$f":"IF($D82=\"\",\"\",SUMIFS(OpLimit!$J$24:$J$5000,OpLimit!$B$24:$B$5000,$B82,OpLimit!$C$24:$C$5000,$C82,OpLimit!$E$24:$E$5000,$D82,OpLimit!$K$24:$K$5000,\"Process Problems\"))","v":""},{"$f":"IF($D82=\"\",\"\",SUMIFS(OpLimit!$J$24:$J$5000,OpLimit!$B$24:$B$5000,$B82,OpLimit!$C$24:$C$5000,$C82,OpLimit!$E$24:$E$5000,$D82,OpLimit!$K$24:$K$5000,\"Other Known Causes\"))","v":""},{"$f":"IF($D82=\"\",\"\",SUMIFS(OpLimit!$J$24:$J$5000,OpLimit!$B$24:$B$5000,$B82,OpLimit!$C$24:$C$5000,$C82,OpLimit!$E$24:$E$5000,$D82,OpLimit!$K$24:$K$5000,\"Other Unknown Causes\"))","v":""}]
[null,{"$f":"IF(Lists!BX61=\"\",\"\",Lists!BX61)","v":""},{"$f":"IF(Lists!BY61=\"\",\"\",Lists!BY61)","v":""},{"$f":"IF(Lists!BZ61=\"\",\"\",Lists!BZ61)","v":""},null,{"$f":"IF(D83=\"\",\"\",SUMIFS(OpLimit!$J$24:$J$500,OpLimit!$B$24:$B$500,B83,OpLimit!$C$24:$C$500,C83,OpLimit!$E$24:$E$500,D83))","v":""},"",{"$f":"IF($D83=\"\",\"\",SUMIFS(OpLimit!$J$24:$J$5000,OpLimit!$B$24:$B$5000,$B83,OpLimit!$C$24:$C$5000,$C83,OpLimit!$E$24:$E$5000,$D83,OpLimit!$K$24:$K$5000,\"Control Equipment Problems\"))","v":""},{"$f":"IF($D83=\"\",\"\",SUMIFS(OpLimit!$J$24:$J$5000,OpLimit!$B$24:$B$5000,$B83,OpLimit!$C$24:$C$5000,$C83,OpLimit!$E$24:$E$5000,$D83,OpLimit!$K$24:$K$5000,\"Process Problems\"))","v":""},{"$f":"IF($D83=\"\",\"\",SUMIFS(OpLimit!$J$24:$J$5000,OpLimit!$B$24:$B$5000,$B83,OpLimit!$C$24:$C$5000,$C83,OpLimit!$E$24:$E$5000,$D83,OpLimit!$K$24:$K$5000,\"Other Known Causes\"))","v":""},{"$f":"IF($D83=\"\",\"\",SUMIFS(OpLimit!$J$24:$J$5000,OpLimit!$B$24:$B$5000,$B83,OpLimit!$C$24:$C$5000,$C83,OpLimit!$E$24:$E$5000,$D83,OpLimit!$K$24:$K$5000,\"Other Unknown Causes\"))","v":""}]
[null,{"$f":"IF(Lists!BX62=\"\",\"\",Lists!BX62)","v":""},{"$f":"IF(Lists!BY62=\"\",\"\",Lists!BY62)","v":""},{"$f":"IF(Lists!BZ62=\"\",\"\",Lists!BZ62)","v":""},null,{"$f":"IF(D84=\"\",\"\",SUMIFS(OpLimit!$J$24:$J$500,OpLimit!$B$24:$B$500,B84,OpLimit!$C$24:$C$500,C84,OpLimit!$E$24:$E$500,D84))","v":""},"",{"$f":"IF($D84=\"\",\"\",SUMIFS(OpLimit!$J$24:$J$5000,OpLimit!$B$24:$B$5000,$B84,OpLimit!$C$24:$C$5000,$C84,OpLimit!$E$24:$E$5000,$D84,OpLimit!$K$24:$K$5000,\"Control Equipment Problems\"))","v":""},{"$f":"IF($D84=\"\",\"\",SUMIFS(OpLimit!$J$24:$J$5000,OpLimit!$B$24:$B$5000,$B84,OpLimit!$C$24:$C$5000,$C84,OpLimit!$E$24:$E$5000,$D84,OpLimit!$K$24:$K$5000,\"Process Problems\"))","v":""},{"$f":"IF($D84=\"\",\"\",SUMIFS(OpLimit!$J$24:$J$5000,OpLimit!$B$24:$B$5000,$B84,OpLimit!$C$24:$C$5000,$C84,OpLimit!$E$24:$E$5000,$D84,OpLimit!$K$24:$K$5000,\"Other Known Causes\"))","v":""},{"$f":"IF($D84=\"\",\"\",SUMIFS(OpLimit!$J$24:$J$5000,OpLimit!$B$24:$B$5000,$B84,OpLimit!$C$24:$C$5000,$C84,OpLimit!$E$24:$E$5000,$D84,OpLimit!$K$24:$K$5000,\"Other Unknown Causes\"))","v":""}]
[null,{"$f":"IF(Lists!BX63=\"\",\"\",Lists!BX63)","v":""},{"$f":"IF(Lists!BY63=\"\",\"\",Lists!BY63)","v":""},{"$f":"IF(Lists!BZ63=\"\",\"\",Lists!BZ63)","v":""},null,{"$f":"IF(D85=\"\",\"\",SUMIFS(OpLimit!$J$24:$J$500,OpLimit!$B$24:$B$500,B85,OpLimit!$C$24:$C$500,C85,OpLimit!$E$24:$E$500,D85))","v":""},"",{"$f":"IF($D85=\"\",\"\",SUMIFS(OpLimit!$J$24:$J$5000,OpLimit!$B$24:$B$5000,$B85,OpLimit!$C$24:$C$5000,$C85,OpLimit!$E$24:$E$5000,$D85,OpLimit!$K$24:$K$5000,\"Control Equipment Problems\"))","v":""},{"$f":"IF($D85=\"\",\"\",SUMIFS(OpLimit!$J$24:$J$5000,OpLimit!$B$24:$B$5000,$B85,OpLimit!$C$24:$C$5000,$C85,OpLimit!$E$24:$E$5000,$D85,OpLimit!$K$24:$K$5000,\"Process Problems\"))","v":""},{"$f":"IF($D85=\"\",\"\",SUMIFS(OpLimit!$J$24:$J$5000,OpLimit!$B$24:$B$5000,$B85,OpLimit!$C$24:$C$5000,$C85,OpLimit!$E$24:$E$5000,$D85,OpLimit!$K$24:$K$5000,\"Other Known Causes\"))","v":""},{"$f":"IF($D85=\"\",\"\",SUMIFS(OpLimit!$J$24:$J$5000,OpLimit!$B$24:$B$5000,$B85,OpLimit!$C$24:$C$5000,$C85,OpLimit!$E$24:$E$5000,$D85,OpLimit!$K$24:$K$5000,\"Other Unknown Causes\"))","v":""}]
[null,{"$f":"IF(Lists!BX64=\"\",\"\",Lists!BX64)","v":""},{"$f":"IF(Lists!BY64=\"\",\"\",Lists!BY64)","v":""},{"$f":"IF(Lists!BZ64=\"\",\"\",Lists!BZ64)","v":""},null,{"$f":"IF(D86=\"\",\"\",SUMIFS(OpLimit!$J$24:$J$500,OpLimit!$B$24:$B$500,B86,OpLimit!$C$24:$C$500,C86,OpLimit!$E$24:$E$500,D86))","v":""},"",{"$f":"IF($D86=\"\",\"\",SUMIFS(OpLimit!$J$24:$J$5000,OpLimit!$B$24:$B$5000,$B86,OpLimit!$C$24:$C$5000,$C86,OpLimit!$E$24:$E$5000,$D86,OpLimit!$K$24:$K$5000,\"Control Equipment Problems\"))","v":""},{"$f":"IF($D86=\"\",\"\",SUMIFS(OpLimit!$J$24:$J$5000,OpLimit!$B$24:$B$5000,$B86,OpLimit!$C$24:$C$5000,$C86,OpLimit!$E$24:$E$5000,$D86,OpLimit!$K$24:$K$5000,\"Process Problems\"))","v":""},{"$f":"IF($D86=\"\",\"\",SUMIFS(OpLimit!$J$24:$J$5000,OpLimit!$B$24:$B$5000,$B86,OpLimit!$C$24:$C$5000,$C86,OpLimit!$E$24:$E$5000,$D86,OpLimit!$K$24:$K$5000,\"Other Known Causes\"))","v":""},{"$f":"IF($D86=\"\",\"\",SUMIFS(OpLimit!$J$24:$J$5000,OpLimit!$B$24:$B$5000,$B86,OpLimit!$C$24:$C$5000,$C86,OpLimit!$E$24:$E$5000,$D86,OpLimit!$K$24:$K$5000,\"Other Unknown Causes\"))","v":""}]
[null,{"$f":"IF(Lists!BX65=\"\",\"\",Lists!BX65)","v":""},{"$f":"IF(Lists!BY65=\"\",\"\",Lists!BY65)","v":""},{"$f":"IF(Lists!BZ65=\"\",\"\",Lists!BZ65)","v":""},null,{"$f":"IF(D87=\"\",\"\",SUMIFS(OpLimit!$J$24:$J$500,OpLimit!$B$24:$B$500,B87,OpLimit!$C$24:$C$500,C87,OpLimit!$E$24:$E$500,D87))","v":""},"",{"$f":"IF($D87=\"\",\"\",SUMIFS(OpLimit!$J$24:$J$5000,OpLimit!$B$24:$B$5000,$B87,OpLimit!$C$24:$C$5000,$C87,OpLimit!$E$24:$E$5000,$D87,OpLimit!$K$24:$K$5000,\"Control Equipment Problems\"))","v":""},{"$f":"IF($D87=\"\",\"\",SUMIFS(OpLimit!$J$24:$J$5000,OpLimit!$B$24:$B$5000,$B87,OpLimit!$C$24:$C$5000,$C87,OpLimit!$E$24:$E$5000,$D87,OpLimit!$K$24:$K$5000,\"Process Problems\"))","v":""},{"$f":"IF($D87=\"\",\"\",SUMIFS(OpLimit!$J$24:$J$5000,OpLimit!$B$24:$B$5000,$B87,OpLimit!$C$24:$C$5000,$C87,OpLimit!$E$24:$E$5000,$D87,OpLimit!$K$24:$K$5000,\"Other Known Causes\"))","v":""},{"$f":"IF($D87=\"\",\"\",SUMIFS(OpLimit!$J$24:$J$5000,OpLimit!$B$24:$B$5000,$B87,OpLimit!$C$24:$C$5000,$C87,OpLimit!$E$24:$E$5000,$D87,OpLimit!$K$24:$K$5000,\"Other Unknown Causes\"))","v":""}]
[null,{"$f":"IF(Lists!BX66=\"\",\"\",Lists!BX66)","v":""},{"$f":"IF(Lists!BY66=\"\",\"\",Lists!BY66)","v":""},{"$f":"IF(Lists!BZ66=\"\",\"\",Lists!BZ66)","v":""},null,{"$f":"IF(D88=\"\",\"\",SUMIFS(OpLimit!$J$24:$J$500,OpLimit!$B$24:$B$500,B88,OpLimit!$C$24:$C$500,C88,OpLimit!$E$24:$E$500,D88))","v":""},"",{"$f":"IF($D88=\"\",\"\",SUMIFS(OpLimit!$J$24:$J$5000,OpLimit!$B$24:$B$5000,$B88,OpLimit!$C$24:$C$5000,$C88,OpLimit!$E$24:$E$5000,$D88,OpLimit!$K$24:$K$5000,\"Control Equipment Problems\"))","v":""},{"$f":"IF($D88=\"\",\"\",SUMIFS(OpLimit!$J$24:$J$5000,OpLimit!$B$24:$B$5000,$B88,OpLimit!$C$24:$C$5000,$C88,OpLimit!$E$24:$E$5000,$D88,OpLimit!$K$24:$K$5000,\"Process Problems\"))","v":""},{"$f":"IF($D88=\"\",\"\",SUMIFS(OpLimit!$J$24:$J$5000,OpLimit!$B$24:$B$5000,$B88,OpLimit!$C$24:$C$5000,$C88,OpLimit!$E$24:$E$5000,$D88,OpLimit!$K$24:$K$5000,\"Other Known Causes\"))","v":""},{"$f":"IF($D88=\"\",\"\",SUMIFS(OpLimit!$J$24:$J$5000,OpLimit!$B$24:$B$5000,$B88,OpLimit!$C$24:$C$5000,$C88,OpLimit!$E$24:$E$5000,$D88,OpLimit!$K$24:$K$5000,\"Other Unknown Causes\"))","v":""}]
[null,{"$f":"IF(Lists!BX67=\"\",\"\",Lists!BX67)","v":""},{"$f":"IF(Lists!BY67=\"\",\"\",Lists!BY67)","v":""},{"$f":"IF(Lists!BZ67=\"\",\"\",Lists!BZ67)","v":""},null,{"$f":"IF(D89=\"\",\"\",SUMIFS(OpLimit!$J$24:$J$500,OpLimit!$B$24:$B$500,B89,OpLimit!$C$24:$C$500,C89,OpLimit!$E$24:$E$500,D89))","v":""},{"$f":"IF(D89=\"\",\"\",IF(F89=0,\"N/A\",F89/$E89))","v":""},{"$f":"IF($D89=\"\",\"\",SUMIFS(OpLimit!$J$24:$J$5000,OpLimit!$B$24:$B$5000,$B89,OpLimit!$C$24:$C$5000,$C89,OpLimit!$E$24:$E$5000,$D89,OpLimit!$K$24:$K$5000,\"Control Equipment Problems\"))","v":""},{"$f":"IF($D89=\"\",\"\",SUMIFS(OpLimit!$J$24:$J$5000,OpLimit!$B$24:$B$5000,$B89,OpLimit!$C$24:$C$5000,$C89,OpLimit!$E$24:$E$5000,$D89,OpLimit!$K$24:$K$5000,\"Process Problems\"))","v":""},{"$f":"IF($D89=\"\",\"\",SUMIFS(OpLimit!$J$24:$J$5000,OpLimit!$B$24:$B$5000,$B89,OpLimit!$C$24:$C$5000,$C89,OpLimit!$E$24:$E$5000,$D89,OpLimit!$K$24:$K$5000,\"Other Known Causes\"))","v":""},{"$f":"IF($D89=\"\",\"\",SUMIFS(OpLimit!$J$24:$J$5000,OpLimit!$B$24:$B$5000,$B89,OpLimit!$C$24:$C$5000,$C89,OpLimit!$E$24:$E$5000,$D89,OpLimit!$K$24:$K$5000,\"Other Unknown Causes\"))","v":""}]
[null,{"$f":"IF(Lists!BX68=\"\",\"\",Lists!BX68)","v":""},{"$f":"IF(Lists!BY68=\"\",\"\",Lists!BY68)","v":""},{"$f":"IF(Lists!BZ68=\"\",\"\",Lists!BZ68)","v":""},null,{"$f":"IF(D90=\"\",\"\",SUMIFS(OpLimit!$J$24:$J$500,OpLimit!$B$24:$B$500,B90,OpLimit!$C$24:$C$500,C90,OpLimit!$E$24:$E$500,D90))","v":""},"",{"$f":"IF($D90=\"\",\"\",SUMIFS(OpLimit!$J$24:$J$5000,OpLimit!$B$24:$B$5000,$B90,OpLimit!$C$24:$C$5000,$C90,OpLimit!$E$24:$E$5000,$D90,OpLimit!$K$24:$K$5000,\"Control Equipment Problems\"))","v":""},{"$f":"IF($D90=\"\",\"\",SUMIFS(OpLimit!$J$24:$J$5000,OpLimit!$B$24:$B$5000,$B90,OpLimit!$C$24:$C$5000,$C90,OpLimit!$E$24:$E$5000,$D90,OpLimit!$K$24:$K$5000,\"Process Problems\"))","v":""},{"$f":"IF($D90=\"\",\"\",SUMIFS(OpLimit!$J$24:$J$5000,OpLimit!$B$24:$B$5000,$B90,OpLimit!$C$24:$C$5000,$C90,OpLimit!$E$24:$E$5000,$D90,OpLimit!$K$24:$K$5000,\"Other Known Causes\"))","v":""},{"$f":"IF($D90=\"\",\"\",SUMIFS(OpLimit!$J$24:$J$5000,OpLimit!$B$24:$B$5000,$B90,OpLimit!$C$24:$C$5000,$C90,OpLimit!$E$24:$E$5000,$D90,OpLimit!$K$24:$K$5000,\"Other Unknown Causes\"))","v":""}]
[null,{"$f":"IF(Lists!BX69=\"\",\"\",Lists!BX69)","v":""},{"$f":"IF(Lists!BY69=\"\",\"\",Lists!BY69)","v":""},{"$f":"IF(Lists!BZ69=\"\",\"\",Lists!BZ69)","v":""},null,{"$f":"IF(D91=\"\",\"\",SUMIFS(OpLimit!$J$24:$J$500,OpLimit!$B$24:$B$500,B91,OpLimit!$C$24:$C$500,C91,OpLimit!$E$24:$E$500,D91))","v":""},"",{"$f":"IF($D91=\"\",\"\",SUMIFS(OpLimit!$J$24:$J$5000,OpLimit!$B$24:$B$5000,$B91,OpLimit!$C$24:$C$5000,$C91,OpLimit!$E$24:$E$5000,$D91,OpLimit!$K$24:$K$5000,\"Control Equipment Problems\"))","v":""},{"$f":"IF($D91=\"\",\"\",SUMIFS(OpLimit!$J$24:$J$5000,OpLimit!$B$24:$B$5000,$B91,OpLimit!$C$24:$C$5000,$C91,OpLimit!$E$24:$E$5000,$D91,OpLimit!$K$24:$K$5000,\"Process Problems\"))","v":""},{"$f":"IF($D91=\"\",\"\",SUMIFS(OpLimit!$J$24:$J$5000,OpLimit!$B$24:$B$5000,$B91,OpLimit!$C$24:$C$5000,$C91,OpLimit!$E$24:$E$5000,$D91,OpLimit!$K$24:$K$5000,\"Other Known Causes\"))","v":""},{"$f":"IF($D91=\"\",\"\",SUMIFS(OpLimit!$J$24:$J$5000,OpLimit!$B$24:$B$5000,$B91,OpLimit!$C$24:$C$5000,$C91,OpLimit!$E$24:$E$5000,$D91,OpLimit!$K$24:$K$5000,\"Other Unknown Causes\"))","v":""}]
[null,{"$f":"IF(Lists!BX70=\"\",\"\",Lists!BX70)","v":""},{"$f":"IF(Lists!BY70=\"\",\"\",Lists!BY70)","v":""},{"$f":"IF(Lists!BZ70=\"\",\"\",Lists!BZ70)","v":""},null,{"$f":"IF(D92=\"\",\"\",SUMIFS(OpLimit!$J$24:$J$500,OpLimit!$B$24:$B$500,B92,OpLimit!$C$24:$C$500,C92,OpLimit!$E$24:$E$500,D92))","v":""},"",{"$f":"IF($D92=\"\",\"\",SUMIFS(OpLimit!$J$24:$J$5000,OpLimit!$B$24:$B$5000,$B92,OpLimit!$C$24:$C$5000,$C92,OpLimit!$E$24:$E$5000,$D92,OpLimit!$K$24:$K$5000,\"Control Equipment Problems\"))","v":""},{"$f":"IF($D92=\"\",\"\",SUMIFS(OpLimit!$J$24:$J$5000,OpLimit!$B$24:$B$5000,$B92,OpLimit!$C$24:$C$5000,$C92,OpLimit!$E$24:$E$5000,$D92,OpLimit!$K$24:$K$5000,\"Process Problems\"))","v":""},{"$f":"IF($D92=\"\",\"\",SUMIFS(OpLimit!$J$24:$J$5000,OpLimit!$B$24:$B$5000,$B92,OpLimit!$C$24:$C$5000,$C92,OpLimit!$E$24:$E$5000,$D92,OpLimit!$K$24:$K$5000,\"Other Known Causes\"))","v":""},{"$f":"IF($D92=\"\",\"\",SUMIFS(OpLimit!$J$24:$J$5000,OpLimit!$B$24:$B$5000,$B92,OpLimit!$C$24:$C$5000,$C92,OpLimit!$E$24:$E$5000,$D92,OpLimit!$K$24:$K$5000,\"Other Unknown Causes\"))","v":""}]
[null,{"$f":"IF(Lists!BX71=\"\",\"\",Lists!BX71)","v":""},{"$f":"IF(Lists!BY71=\"\",\"\",Lists!BY71)","v":""},{"$f":"IF(Lists!BZ71=\"\",\"\",Lists!BZ71)","v":""},null,{"$f":"IF(D93=\"\",\"\",SUMIFS(OpLimit!$J$24:$J$500,OpLimit!$B$24:$B$500,B93,OpLimit!$C$24:$C$500,C93,OpLimit!$E$24:$E$500,D93))","v":""},"",{"$f":"IF($D93=\"\",\"\",SUMIFS(OpLimit!$J$24:$J$5000,OpLimit!$B$24:$B$5000,$B93,OpLimit!$C$24:$C$5000,$C93,OpLimit!$E$24:$E$5000,$D93,OpLimit!$K$24:$K$5000,\"Control Equipment Problems\"))","v":""},{"$f":"IF($D93=\"\",\"\",SUMIFS(OpLimit!$J$24:$J$5000,OpLimit!$B$24:$B$5000,$B93,OpLimit!$C$24:$C$5000,$C93,OpLimit!$E$24:$E$5000,$D93,OpLimit!$K$24:$K$5000,\"Process Problems\"))","v":""},{"$f":"IF($D93=\"\",\"\",SUMIFS(OpLimit!$J$24:$J$5000,OpLimit!$B$24:$B$5000,$B93,OpLimit!$C$24:$C$5000,$C93,OpLimit!$E$24:$E$5000,$D93,OpLimit!$K$24:$K$5000,\"Other Known Causes\"))","v":""},{"$f":"IF($D93=\"\",\"\",SUMIFS(OpLimit!$J$24:$J$5000,OpLimit!$B$24:$B$5000,$B93,OpLimit!$C$24:$C$5000,$C93,OpLimit!$E$24:$E$5000,$D93,OpLimit!$K$24:$K$5000,\"Other Unknown Causes\"))","v":""}]
[null,{"$f":"IF(Lists!BX72=\"\",\"\",Lists!BX72)","v":""},{"$f":"IF(Lists!BY72=\"\",\"\",Lists!BY72)","v":""},{"$f":"IF(Lists!BZ72=\"\",\"\",Lists!BZ72)","v":""},null,{"$f":"IF(D94=\"\",\"\",SUMIFS(OpLimit!$J$24:$J$500,OpLimit!$B$24:$B$500,B94,OpLimit!$C$24:$C$500,C94,OpLimit!$E$24:$E$500,D94))","v":""},"",{"$f":"IF($D94=\"\",\"\",SUMIFS(OpLimit!$J$24:$J$5000,OpLimit!$B$24:$B$5000,$B94,OpLimit!$C$24:$C$5000,$C94,OpLimit!$E$24:$E$5000,$D94,OpLimit!$K$24:$K$5000,\"Control Equipment Problems\"))","v":""},{"$f":"IF($D94=\"\",\"\",SUMIFS(OpLimit!$J$24:$J$5000,OpLimit!$B$24:$B$5000,$B94,OpLimit!$C$24:$C$5000,$C94,OpLimit!$E$24:$E$5000,$D94,OpLimit!$K$24:$K$5000,\"Process Problems\"))","v":""},{"$f":"IF($D94=\"\",\"\",SUMIFS(OpLimit!$J$24:$J$5000,OpLimit!$B$24:$B$5000,$B94,OpLimit!$C$24:$C$5000,$C94,OpLimit!$E$24:$E$5000,$D94,OpLimit!$K$24:$K$5000,\"Other Known Causes\"))","v":""},{"$f":"IF($D94=\"\",\"\",SUMIFS(OpLimit!$J$24:$J$5000,OpLimit!$B$24:$B$5000,$B94,OpLimit!$C$24:$C$5000,$C94,OpLimit!$E$24:$E$5000,$D94,OpLimit!$K$24:$K$5000,\"Other Unknown Causes\"))","v":""}]
[null,{"$f":"IF(Lists!BX73=\"\",\"\",Lists!BX73)","v":""},{"$f":"IF(Lists!BY73=\"\",\"\",Lists!BY73)","v":""},{"$f":"IF(Lists!BZ73=\"\",\"\",Lists!BZ73)","v":""},null,{"$f":"IF(D95=\"\",\"\",SUMIFS(OpLimit!$J$24:$J$500,OpLimit!$B$24:$B$500,B95,OpLimit!$C$24:$C$500,C95,OpLimit!$E$24:$E$500,D95))","v":""},"",{"$f":"IF($D95=\"\",\"\",SUMIFS(OpLimit!$J$24:$J$5000,OpLimit!$B$24:$B$5000,$B95,OpLimit!$C$24:$C$5000,$C95,OpLimit!$E$24:$E$5000,$D95,OpLimit!$K$24:$K$5000,\"Control Equipment Problems\"))","v":""},{"$f":"IF($D95=\"\",\"\",SUMIFS(OpLimit!$J$24:$J$5000,OpLimit!$B$24:$B$5000,$B95,OpLimit!$C$24:$C$5000,$C95,OpLimit!$E$24:$E$5000,$D95,OpLimit!$K$24:$K$5000,\"Process Problems\"))","v":""},{"$f":"IF($D95=\"\",\"\",SUMIFS(OpLimit!$J$24:$J$5000,OpLimit!$B$24:$B$5000,$B95,OpLimit!$C$24:$C$5000,$C95,OpLimit!$E$24:$E$5000,$D95,OpLimit!$K$24:$K$5000,\"Other Known Causes\"))","v":""},{"$f":"IF($D95=\"\",\"\",SUMIFS(OpLimit!$J$24:$J$5000,OpLimit!$B$24:$B$5000,$B95,OpLimit!$C$24:$C$5000,$C95,OpLimit!$E$24:$E$5000,$D95,OpLimit!$K$24:$K$5000,\"Other Unknown Causes\"))","v":""}]
[null,{"$f":"IF(Lists!BX74=\"\",\"\",Lists!BX74)","v":""},{"$f":"IF(Lists!BY74=\"\",\"\",Lists!BY74)","v":""},{"$f":"IF(Lists!BZ74=\"\",\"\",Lists!BZ74)","v":""},null,{"$f":"IF(D96=\"\",\"\",SUMIFS(OpLimit!$J$24:$J$500,OpLimit!$B$24:$B$500,B96,OpLimit!$C$24:$C$500,C96,OpLimit!$E$24:$E$500,D96))","v":""},"",{"$f":"IF($D96=\"\",\"\",SUMIFS(OpLimit!$J$24:$J$5000,OpLimit!$B$24:$B$5000,$B96,OpLimit!$C$24:$C$5000,$C96,OpLimit!$E$24:$E$5000,$D96,OpLimit!$K$24:$K$5000,\"Control Equipment Problems\"))","v":""},{"$f":"IF($D96=\"\",\"\",SUMIFS(OpLimit!$J$24:$J$5000,OpLimit!$B$24:$B$5000,$B96,OpLimit!$C$24:$C$5000,$C96,OpLimit!$E$24:$E$5000,$D96,OpLimit!$K$24:$K$5000,\"Process Problems\"))","v":""},{"$f":"IF($D96=\"\",\"\",SUMIFS(OpLimit!$J$24:$J$5000,OpLimit!$B$24:$B$5000,$B96,OpLimit!$C$24:$C$5000,$C96,OpLimit!$E$24:$E$5000,$D96,OpLimit!$K$24:$K$5000,\"Other Known Causes\"))","v":""},{"$f":"IF($D96=\"\",\"\",SUMIFS(OpLimit!$J$24:$J$5000,OpLimit!$B$24:$B$5000,$B96,OpLimit!$C$24:$C$5000,$C96,OpLimit!$E$24:$E$5000,$D96,OpLimit!$K$24:$K$5000,\"Other Unknown Causes\"))","v":""}]
[null,{"$f":"IF(Lists!BX75=\"\",\"\",Lists!BX75)","v":""},{"$f":"IF(Lists!BY75=\"\",\"\",Lists!BY75)","v":""},{"$f":"IF(Lists!BZ75=\"\",\"\",Lists!BZ75)","v":""},null,{"$f":"IF(D97=\"\",\"\",SUMIFS(OpLimit!$J$24:$J$500,OpLimit!$B$24:$B$500,B97,OpLimit!$C$24:$C$500,C97,OpLimit!$E$24:$E$500,D97))","v":""},"",{"$f":"IF($D97=\"\",\"\",SUMIFS(OpLimit!$J$24:$J$5000,OpLimit!$B$24:$B$5000,$B97,OpLimit!$C$24:$C$5000,$C97,OpLimit!$E$24:$E$5000,$D97,OpLimit!$K$24:$K$5000,\"Control Equipment Problems\"))","v":""},{"$f":"IF($D97=\"\",\"\",SUMIFS(OpLimit!$J$24:$J$5000,OpLimit!$B$24:$B$5000,$B97,OpLimit!$C$24:$C$5000,$C97,OpLimit!$E$24:$E$5000,$D97,OpLimit!$K$24:$K$5000,\"Process Problems\"))","v":""},{"$f":"IF($D97=\"\",\"\",SUMIFS(OpLimit!$J$24:$J$5000,OpLimit!$B$24:$B$5000,$B97,OpLimit!$C$24:$C$5000,$C97,OpLimit!$E$24:$E$5000,$D97,OpLimit!$K$24:$K$5000,\"Other Known Causes\"))","v":""},{"$f":"IF($D97=\"\",\"\",SUMIFS(OpLimit!$J$24:$J$5000,OpLimit!$B$24:$B$5000,$B97,OpLimit!$C$24:$C$5000,$C97,OpLimit!$E$24:$E$5000,$D97,OpLimit!$K$24:$K$5000,\"Other Unknown Causes\"))","v":""}]
[null,{"$f":"IF(Lists!BX76=\"\",\"\",Lists!BX76)","v":""},{"$f":"IF(Lists!BY76=\"\",\"\",Lists!BY76)","v":""},{"$f":"IF(Lists!BZ76=\"\",\"\",Lists!BZ76)","v":""},null,{"$f":"IF(D98=\"\",\"\",SUMIFS(OpLimit!$J$24:$J$500,OpLimit!$B$24:$B$500,B98,OpLimit!$C$24:$C$500,C98,OpLimit!$E$24:$E$500,D98))","v":""},"",{"$f":"IF($D98=\"\",\"\",SUMIFS(OpLimit!$J$24:$J$5000,OpLimit!$B$24:$B$5000,$B98,OpLimit!$C$24:$C$5000,$C98,OpLimit!$E$24:$E$5000,$D98,OpLimit!$K$24:$K$5000,\"Control Equipment Problems\"))","v":""},{"$f":"IF($D98=\"\",\"\",SUMIFS(OpLimit!$J$24:$J$5000,OpLimit!$B$24:$B$5000,$B98,OpLimit!$C$24:$C$5000,$C98,OpLimit!$E$24:$E$5000,$D98,OpLimit!$K$24:$K$5000,\"Process Problems\"))","v":""},{"$f":"IF($D98=\"\",\"\",SUMIFS(OpLimit!$J$24:$J$5000,OpLimit!$B$24:$B$5000,$B98,OpLimit!$C$24:$C$5000,$C98,OpLimit!$E$24:$E$5000,$D98,OpLimit!$K$24:$K$5000,\"Other Known Causes\"))","v":""},{"$f":"IF($D98=\"\",\"\",SUMIFS(OpLimit!$J$24:$J$5000,OpLimit!$B$24:$B$5000,$B98,OpLimit!$C$24:$C$5000,$C98,OpLimit!$E$24:$E$5000,$D98,OpLimit!$K$24:$K$5000,\"Other Unknown Causes\"))","v":""}]
[null,{"$f":"IF(Lists!BX77=\"\",\"\",Lists!BX77)","v":""},{"$f":"IF(Lists!BY77=\"\",\"\",Lists!BY77)","v":""},{"$f":"IF(Lists!BZ77=\"\",\"\",Lists!BZ77)","v":""},null,{"$f":"IF(D99=\"\",\"\",SUMIFS(OpLimit!$J$24:$J$500,OpLimit!$B$24:$B$500,B99,OpLimit!$C$24:$C$500,C99,OpLimit!$E$24:$E$500,D99))","v":""},"",{"$f":"IF($D99=\"\",\"\",SUMIFS(OpLimit!$J$24:$J$5000,OpLimit!$B$24:$B$5000,$B99,OpLimit!$C$24:$C$5000,$C99,OpLimit!$E$24:$E$5000,$D99,OpLimit!$K$24:$K$5000,\"Control Equipment Problems\"))","v":""},{"$f":"IF($D99=\"\",\"\",SUMIFS(OpLimit!$J$24:$J$5000,OpLimit!$B$24:$B$5000,$B99,OpLimit!$C$24:$C$5000,$C99,OpLimit!$E$24:$E$5000,$D99,OpLimit!$K$24:$K$5000,\"Process Problems\"))","v":""},{"$f":"IF($D99=\"\",\"\",SUMIFS(OpLimit!$J$24:$J$5000,OpLimit!$B$24:$B$5000,$B99,OpLimit!$C$24:$C$5000,$C99,OpLimit!$E$24:$E$5000,$D99,OpLimit!$K$24:$K$5000,\"Other Known Causes\"))","v":""},{"$f":"IF($D99=\"\",\"\",SUMIFS(OpLimit!$J$24:$J$5000,OpLimit!$B$24:$B$5000,$B99,OpLimit!$C$24:$C$5000,$C99,OpLimit!$E$24:$E$5000,$D99,OpLimit!$K$24:$K$5000,\"Other Unknown Causes\"))","v":""}]
[null,{"$f":"IF(Lists!BX78=\"\",\"\",Lists!BX78)","v":""},{"$f":"IF(Lists!BY78=\"\",\"\",Lists!BY78)","v":""},{"$f":"IF(Lists!BZ78=\"\",\"\",Lists!BZ78)","v":""},null,{"$f":"IF(D100=\"\",\"\",SUMIFS(OpLimit!$J$24:$J$500,OpLimit!$B$24:$B$500,B100,OpLimit!$C$24:$C$500,C100,OpLimit!$E$24:$E$500,D100))","v":""},"",{"$f":"IF($D100=\"\",\"\",SUMIFS(OpLimit!$J$24:$J$5000,OpLimit!$B$24:$B$5000,$B100,OpLimit!$C$24:$C$5000,$C100,OpLimit!$E$24:$E$5000,$D100,OpLimit!$K$24:$K$5000,\"Control Equipment Problems\"))","v":""},{"$f":"IF($D100=\"\",\"\",SUMIFS(OpLimit!$J$24:$J$5000,OpLimit!$B$24:$B$5000,$B100,OpLimit!$C$24:$C$5000,$C100,OpLimit!$E$24:$E$5000,$D100,OpLimit!$K$24:$K$5000,\"Process Problems\"))","v":""},{"$f":"IF($D100=\"\",\"\",SUMIFS(OpLimit!$J$24:$J$5000,OpLimit!$B$24:$B$5000,$B100,OpLimit!$C$24:$C$5000,$C100,OpLimit!$E$24:$E$5000,$D100,OpLimit!$K$24:$K$5000,\"Other Known Causes\"))","v":""},{"$f":"IF($D100=\"\",\"\",SUMIFS(OpLimit!$J$24:$J$5000,OpLimit!$B$24:$B$5000,$B100,OpLimit!$C$24:$C$5000,$C100,OpLimit!$E$24:$E$5000,$D100,OpLimit!$K$24:$K$5000,\"Other Unknown Causes\"))","v":""}]

{"sheet":"CPMS1","index":14,"n_rows":500,"n_cols":6,"rows_kept":500,"cut":false,"hidden":false,"merged":[]}
[null,"DO NOT REMOVE OR EDIT INFORMATION IN THIS SECTION\nFOR INTERNAL USE ONLY"]
[null,"Template Name",{"$f":"+Welcome!B2","v":"63.3120(f) Semiannual Compliance Report (Spreadsheet Template)"}]
[null,"CitationID",{"$f":"+Welcome!B3","v":"63.3120(f)"}]
[null,"Template Version",{"$f":"+Welcome!B4","v":"v2.06"}]
[null,"Last Updated Date",{"$f":"+Welcome!B5","v":45392}]
[null,"OMB Control Number: 2060-0518       Expiration Date: 04/30/2019"]
[null,"40 CFR Part 63, Subpart IIII National Emission Standards for Hazardous Air Pollutants: Surface Coating of Automobiles and Light-Duty Trucks -"]
[null," §63.3120(f) Semiannual Compliance Report Spreadsheet Template"]
[]
[]
[]
[null,"Company Record No.\n(Autofilled)","Name of Operation \n(§63.3120(a)(6)(iv)) or §63.3120(a)(8)(iii))\n(Autofilled)","Company Record No. and Affected Source or Equipment\n(§63.3120(a)(6)(iv) or §63.3120(a)(8)(iii))\n(Select from dropdown)","CPMS Description\n(§63.3120(a)(6)(iv) or §63.3120(a)(8)(iii))","For Emission Rate with Capture System or Add-on Control Devices, Date of Last CPMS Certification or Audit \n(§63.3120(a)(6)(v) or §63.3120(a)(8)(iv))"]
[null,"RecordId","OperationName","AffectedSourceCompanyRecord","CpmsDescription","CpmsAuditDate"]
[null,"e.g.: 1","e.g.: West Coating","e.g.: 1 West Coating","e.g.: Combustion Temperature A320","e.g.: 2/1/2017"]
[null,"e.g.:","e.g.:","e.g.:","e.g.:","e.g.:"]
[null,"e.g.:","e.g.:","e.g.:","e.g.:","e.g.:"]
[null,"e.g.:","e.g.:","e.g.:","e.g.:","e.g.:"]
[null,"e.g.:","e.g.:","e.g.:","e.g.:","e.g.:"]
[null,"e.g.:","e.g.:","e.g.:","e.g.:","e.g.:"]
[null,"e.g.:","e.g.:","e.g.:","e.g.:","e.g.:"]
[null,"e.g.:","e.g.:","e.g.:","e.g.:","e.g.:"]
[null,"e.g.:","e.g.:","e.g.:","e.g.:","e.g.:"]
[null,"e.g.:","e.g.:","e.g.:","e.g.:","e.g.:"]
[null,{"$f":"IF(D24=\"\",\"\",VLOOKUP($D24,Lists!$AP$2:$AR$78,2,FALSE))","v":""},{"$f":"IF(D24=\"\",\"\",VLOOKUP($D24,Lists!$AP$2:$AR$78,3,FALSE))","v":""}]
[null,{"$f":"IF(D25=\"\",\"\",VLOOKUP($D25,Lists!$AP$2:$AR$78,2,FALSE))","v":""},{"$f":"IF(D25=\"\",\"\",VLOOKUP($D25,Lists!$AP$2:$AR$78,3,FALSE))","v":""}]
[null,{"$f":"IF(D26=\"\",\"\",VLOOKUP($D26,Lists!$AP$2:$AR$78,2,FALSE))","v":""},{"$f":"IF(D26=\"\",\"\",VLOOKUP($D26,Lists!$AP$2:$AR$78,3,FALSE))","v":""}]
[null,{"$f":"IF(D27=\"\",\"\",VLOOKUP($D27,Lists!$AP$2:$AR$78,2,FALSE))","v":""},{"$f":"IF(D27=\"\",\"\",VLOOKUP($D27,Lists!$AP$2:$AR$78,3,FALSE))","v":""}]
[null,{"$f":"IF(D28=\"\",\"\",VLOOKUP($D28,Lists!$AP$2:$AR$78,2,FALSE))","v":""},{"$f":"IF(D28=\"\",\"\",VLOOKUP($D28,Lists!$AP$2:$AR$78,3,FALSE))","v":""}]
[null,{"$f":"IF(D29=\"\",\"\",VLOOKUP($D29,Lists!$AP$2:$AR$78,2,FALSE))","v":""},{"$f":"IF(D29=\"\",\"\",VLOOKUP($D29,Lists!$AP$2:$AR$78,3,FALSE))","v":""}]
[null,{"$f":"IF(D30=\"\",\"\",VLOOKUP($D30,Lists!$AP$2:$AR$78,2,FALSE))","v":""},{"$f":"IF(D30=\"\",\"\",VLOOKUP($D30,Lists!$AP$2:$AR$78,3,FALSE))","v":""}]
[null,{"$f":"IF(D31=\"\",\"\",VLOOKUP($D31,Lists!$AP$2:$AR$78,2,FALSE))","v":""},{"$f":"IF(D31=\"\",\"\",VLOOKUP($D31,Lists!$AP$2:$AR$78,3,FALSE))","v":""}]
[null,{"$f":"IF(D32=\"\",\"\",VLOOKUP($D32,Lists!$AP$2:$AR$78,2,FALSE))","v":""},{"$f":"IF(D32=\"\",\"\",VLOOKUP($D32,Lists!$AP$2:$AR$78,3,FALSE))","v":""}]
[null,{"$f":"IF(D33=\"\",\"\",VLOOKUP($D33,Lists!$AP$2:$AR$78,2,FALSE))","v":""},{"$f":"IF(D33=\"\",\"\",VLOOKUP($D33,Lists!$AP$2:$AR$78,3,FALSE))","v":""}]
[null,{"$f":"IF(D34=\"\",\"\",VLOOKUP($D34,Lists!$AP$2:$AR$78,2,FALSE))","v":""},{"$f":"IF(D34=\"\",\"\",VLOOKUP($D34,Lists!$AP$2:$AR$78,3,FALSE))","v":""}]
[null,{"$f":"IF(D35=\"\",\"\",VLOOKUP($D35,Lists!$AP$2:$AR$78,2,FALSE))","v":""},{"$f":"IF(D35=\"\",\"\",VLOOKUP($D35,Lists!$AP$2:$AR$78,3,FALSE))","v":""}]
[null,{"$f":"IF(D36=\"\",\"\",VLOOKUP($D36,Lists!$AP$2:$AR$78,2,FALSE))","v":""},{"$f":"IF(D36=\"\",\"\",VLOOKUP($D36,Lists!$AP$2:$AR$78,3,FALSE))","v":""}]
[null,{"$f":"IF(D37=\"\",\"\",VLOOKUP($D37,Lists!$AP$2:$AR$78,2,FALSE))","v":""},{"$f":"IF(D37=\"\",\"\",VLOOKUP($D37,Lists!$AP$2:$AR$78,3,FALSE))","v":""}]
[null,{"$f":"IF(D38=\"\",\"\",VLOOKUP($D38,Lists!$AP$2:$AR$78,2,FALSE))","v":""},{"$f":"IF(D38=\"\",\"\",VLOOKUP($D38,Lists!$AP$2:$AR$78,3,FALSE))","v":""}]
[null,{"$f":"IF(D39=\"\",\"\",VLOOKUP($D39,Lists!$AP$2:$AR$78,2,FALSE))","v":""},{"$f":"IF(D39=\"\",\"\",VLOOKUP($D39,Lists!$AP$2:$AR$78,3,FALSE))","v":""}]
[null,{"$f":"IF(D40=\"\",\"\",VLOOKUP($D40,Lists!$AP$2:$AR$78,2,FALSE))","v":""},{"$f":"IF(D40=\"\",\"\",VLOOKUP($D40,Lists!$AP$2:$AR$78,3,FALSE))","v":""}]
[null,{"$f":"IF(D41=\"\",\"\",VLOOKUP($D41,Lists!$AP$2:$AR$78,2,FALSE))","v":""},{"$f":"IF(D41=\"\",\"\",VLOOKUP($D41,Lists!$AP$2:$AR$78,3,FALSE))","v":""}]
[null,{"$f":"IF(D42=\"\",\"\",VLOOKUP($D42,Lists!$AP$2:$AR$78,2,FALSE))","v":""},{"$f":"IF(D42=\"\",\"\",VLOOKUP($D42,Lists!$AP$2:$AR$78,3,FALSE))","v":""}]
[null,{"$f":"IF(D43=\"\",\"\",VLOOKUP($D43,Lists!$AP$2:$AR$78,2,FALSE))","v":""},{"$f":"IF(D43=\"\",\"\",VLOOKUP($D43,Lists!$AP$2:$AR$78,3,FALSE))","v":""}]
[null,{"$f":"IF(D44=\"\",\"\",VLOOKUP($D44,Lists!$AP$2:$AR$78,2,FALSE))","v":""},{"$f":"IF(D44=\"\",\"\",VLOOKUP($D44,Lists!$AP$2:$AR$78,3,FALSE))","v":""}]
[null,{"$f":"IF(D45=\"\",\"\",VLOOKUP($D45,Lists!$AP$2:$AR$78,2,FALSE))","v":""},{"$f":"IF(D45=\"\",\"\",VLOOKUP($D45,Lists!$AP$2:$AR$78,3,FALSE))","v":""}]
[null,{"$f":"IF(D46=\"\",\"\",VLOOKUP($D46,Lists!$AP$2:$AR$78,2,FALSE))","v":""},{"$f":"IF(D46=\"\",\"\",VLOOKUP($D46,Lists!$AP$2:$AR$78,3,FALSE))","v":""}]
[null,{"$f":"IF(D47=\"\",\"\",VLOOKUP($D47,Lists!$AP$2:$AR$78,2,FALSE))","v":""},{"$f":"IF(D47=\"\",\"\",VLOOKUP($D47,Lists!$AP$2:$AR$78,3,FALSE))","v":""}]
[null,{"$f":"IF(D48=\"\",\"\",VLOOKUP($D48,Lists!$AP$2:$AR$78,2,FALSE))","v":""},{"$f":"IF(D48=\"\",\"\",VLOOKUP($D48,Lists!$AP$2:$AR$78,3,FALSE))","v":""}]
[null,{"$f":"IF(D49=\"\",\"\",VLOOKUP($D49,Lists!$AP$2:$AR$78,2,FALSE))","v":""},{"$f":"IF(D49=\"\",\"\",VLOOKUP($D49,Lists!$AP$2:$AR$78,3,FALSE))","v":""}]
[null,{"$f":"IF(D50=\"\",\"\",VLOOKUP($D50,Lists!$AP$2:$AR$78,2,FALSE))","v":""},{"$f":"IF(D50=\"\",\"\",VLOOKUP($D50,Lists!$AP$2:$AR$78,3,FALSE))","v":""}]
[null,{"$f":"IF(D51=\"\",\"\",VLOOKUP($D51,Lists!$AP$2:$AR$78,2,FALSE))","v":""},{"$f":"IF(D51=\"\",\"\",VLOOKUP($D51,Lists!$AP$2:$AR$78,3,FALSE))","v":""}]
[null,{"$f":"IF(D52=\"\",\"\",VLOOKUP($D52,Lists!$AP$2:$AR$78,2,FALSE))","v":""},{"$f":"IF(D52=\"\",\"\",VLOOKUP($D52,Lists!$AP$2:$AR$78,3,FALSE))","v":""}]
[null,{"$f":"IF(D53=\"\",\"\",VLOOKUP($D53,Lists!$AP$2:$AR$78,2,FALSE))","v":""},{"$f":"IF(D53=\"\",\"\",VLOOKUP($D53,Lists!$AP$2:$AR$78,3,FALSE))","v":""}]
[null,{"$f":"IF(D54=\"\",\"\",VLOOKUP($D54,Lists!$AP$2:$AR$78,2,FALSE))","v":""},{"$f":"IF(D54=\"\",\"\",VLOOKUP($D54,Lists!$AP$2:$AR$78,3,FALSE))","v":""}]
[null,{"$f":"IF(D55=\"\",\"\",VLOOKUP($D55,Lists!$AP$2:$AR$78,2,FALSE))","v":""},{"$f":"IF(D55=\"\",\"\",VLOOKUP($D55,Lists!$AP$2:$AR$78,3,FALSE))","v":""}]
[null,{"$f":"IF(D56=\"\",\"\",VLOOKUP($D56,Lists!$AP$2:$AR$78,2,FALSE))","v":""},{"$f":"IF(D56=\"\",\"\",VLOOKUP($D56,Lists!$AP$2:$AR$78,3,FALSE))","v":""}]
[null,{"$f":"IF(D57=\"\",\"\",VLOOKUP($D57,Lists!$AP$2:$AR$78,2,FALSE))","v":""},{"$f":"IF(D57=\"\",\"\",VLOOKUP($D57,Lists!$AP$2:$AR$78,3,FALSE))","v":""}]
[null,{"$f":"IF(D58=\"\",\"\",VLOOKUP($D58,Lists!$AP$2:$AR$78,2,FALSE))","v":""},{"$f":"IF(D58=\"\",\"\",VLOOKUP($D58,Lists!$AP$2:$AR$78,3,FALSE))","v":""}]
[null,{"$f":"IF(D59=\"\",\"\",VLOOKUP($D59,Lists!$AP$2:$AR$78,2,FALSE))","v":""},{"$f":"IF(D59=\"\",\"\",VLOOKUP($D59,Lists!$AP$2:$AR$78,3,FALSE))","v":""}]
[null,{"$f":"IF(D60=\"\",\"\",VLOOKUP($D60,Lists!$AP$2:$AR$78,2,FALSE))","v":""},{"$f":"IF(D60=\"\",\"\",VLOOKUP($D60,Lists!$AP$2:$AR$78,3,FALSE))","v":""}]
[null,{"$f":"IF(D61=\"\",\"\",VLOOKUP($D61,Lists!$AP$2:$AR$78,2,FALSE))","v":""},{"$f":"IF(D61=\"\",\"\",VLOOKUP($D61,Lists!$AP$2:$AR$78,3,FALSE))","v":""}]
[null,{"$f":"IF(D62=\"\",\"\",VLOOKUP($D62,Lists!$AP$2:$AR$78,2,FALSE))","v":""},{"$f":"IF(D62=\"\",\"\",VLOOKUP($D62,Lists!$AP$2:$AR$78,3,FALSE))","v":""}]
[null,{"$f":"IF(D63=\"\",\"\",VLOOKUP($D63,Lists!$AP$2:$AR$78,2,FALSE))","v":""},{"$f":"IF(D63=\"\",\"\",VLOOKUP($D63,Lists!$AP$2:$AR$78,3,FALSE))","v":""}]
[null,{"$f":"IF(D64=\"\",\"\",VLOOKUP($D64,Lists!$AP$2:$AR$78,2,FALSE))","v":""},{"$f":"IF(D64=\"\",\"\",VLOOKUP($D64,Lists!$AP$2:$AR$78,3,FALSE))","v":""}]
[null,{"$f":"IF(D65=\"\",\"\",VLOOKUP($D65,Lists!$AP$2:$AR$78,2,FALSE))","v":""},{"$f":"IF(D65=\"\",\"\",VLOOKUP($D65,Lists!$AP$2:$AR$78,3,FALSE))","v":""}]
[null,{"$f":"IF(D66=\"\",\"\",VLOOKUP($D66,Lists!$AP$2:$AR$78,2,FALSE))","v":""},{"$f":"IF(D66=\"\",\"\",VLOOKUP($D66,Lists!$AP$2:$AR$78,3,FALSE))","v":""}]
[null,{"$f":"IF(D67=\"\",\"\",VLOOKUP($D67,Lists!$AP$2:$AR$78,2,FALSE))","v":""},{"$f":"IF(D67=\"\",\"\",VLOOKUP($D67,Lists!$AP$2:$AR$78,3,FALSE))","v":""}]
[null,{"$f":"IF(D68=\"\",\"\",VLOOKUP($D68,Lists!$AP$2:$AR$78,2,FALSE))","v":""},{"$f":"IF(D68=\"\",\"\",VLOOKUP($D68,Lists!$AP$2:$AR$78,3,FALSE))","v":""}]
[null,{"$f":"IF(D69=\"\",\"\",VLOOKUP($D69,Lists!$AP$2:$AR$78,2,FALSE))","v":""},{"$f":"IF(D69=\"\",\"\",VLOOKUP($D69,Lists!$AP$2:$AR$78,3,FALSE))","v":""}]
[null,{"$f":"IF(D70=\"\",\"\",VLOOKUP($D70,Lists!$AP$2:$AR$78,2,FALSE))","v":""},{"$f":"IF(D70=\"\",\"\",VLOOKUP($D70,Lists!$AP$2:$AR$78,3,FALSE))","v":""}]
[null,{"$f":"IF(D71=\"\",\"\",VLOOKUP($D71,Lists!$AP$2:$AR$78,2,FALSE))","v":""},{"$f":"IF(D71=\"\",\"\",VLOOKUP($D71,Lists!$AP$2:$AR$78,3,FALSE))","v":""}]
[null,{"$f":"IF(D72=\"\",\"\",VLOOKUP($D72,Lists!$AP$2:$AR$78,2,FALSE))","v":""},{"$f":"IF(D72=\"\",\"\",VLOOKUP($D72,Lists!$AP$2:$AR$78,3,FALSE))","v":""}]
[null,{"$f":"IF(D73=\"\",\"\",VLOOKUP($D73,Lists!$AP$2:$AR$78,2,FALSE))","v":""},{"$f":"IF(D73=\"\",\"\",VLOOKUP($D73,Lists!$AP$2:$AR$78,3,FALSE))","v":""}]
[null,{"$f":"IF(D74=\"\",\"\",VLOOKUP($D74,Lists!$AP$2:$AR$78,2,FALSE))","v":""},{"$f":"IF(D74=\"\",\"\",VLOOKUP($D74,Lists!$AP$2:$AR$78,3,FALSE))","v":""}]
[null,{"$f":"IF(D75=\"\",\"\",VLOOKUP($D75,Lists!$AP$2:$AR$78,2,FALSE))","v":""},{"$f":"IF(D75=\"\",\"\",VLOOKUP($D75,Lists!$AP$2:$AR$78,3,FALSE))","v":""}]
[null,{"$f":"IF(D76=\"\",\"\",VLOOKUP($D76,Lists!$AP$2:$AR$78,2,FALSE))","v":""},{"$f":"IF(D76=\"\",\"\",VLOOKUP($D76,Lists!$AP$2:$AR$78,3,FALSE))","v":""}]
[null,{"$f":"IF(D77=\"\",\"\",VLOOKUP($D77,Lists!$AP$2:$AR$78,2,FALSE))","v":""},{"$f":"IF(D77=\"\",\"\",VLOOKUP($D77,Lists!$AP$2:$AR$78,3,FALSE))","v":""}]
[null,{"$f":"IF(D78=\"\",\"\",VLOOKUP($D78,Lists!$AP$2:$AR$78,2,FALSE))","v":""},{"$f":"IF(D78=\"\",\"\",VLOOKUP($D78,Lists!$AP$2:$AR$78,3,FALSE))","v":""}]
[null,{"$f":"IF(D79=\"\",\"\",VLOOKUP($D79,Lists!$AP$2:$AR$78,2,FALSE))","v":""},{"$f":"IF(D79=\"\",\"\",VLOOKUP($D79,Lists!$AP$2:$AR$78,3,FALSE))","v":""}]
[null,{"$f":"IF(D80=\"\",\"\",VLOOKUP($D80,Lists!$AP$2:$AR$78,2,FALSE))","v":""},{"$f":"IF(D80=\"\",\"\",VLOOKUP($D80,Lists!$AP$2:$AR$78,3,FALSE))","v":""}]
[null,{"$f":"IF(D81=\"\",\"\",VLOOKUP($D81,Lists!$AP$2:$AR$78,2,FALSE))","v":""},{"$f":"IF(D81=\"\",\"\",VLOOKUP($D81,Lists!$AP$2:$AR$78,3,FALSE))","v":""}]
[null,{"$f":"IF(D82=\"\",\"\",VLOOKUP($D82,Lists!$AP$2:$AR$78,2,FALSE))","v":""},{"$f":"IF(D82=\"\",\"\",VLOOKUP($D82,Lists!$AP$2:$AR$78,3,FALSE))","v":""}]
[null,{"$f":"IF(D83=\"\",\"\",VLOOKUP($D83,Lists!$AP$2:$AR$78,2,FALSE))","v":""},{"$f":"IF(D83=\"\",\"\",VLOOKUP($D83,Lists!$AP$2:$AR$78,3,FALSE))","v":""}]
[null,{"$f":"IF(D84=\"\",\"\",VLOOKUP($D84,Lists!$AP$2:$AR$78,2,FALSE))","v":""},{"$f":"IF(D84=\"\",\"\",VLOOKUP($D84,Lists!$AP$2:$AR$78,3,FALSE))","v":""}]
[null,{"$f":"IF(D85=\"\",\"\",VLOOKUP($D85,Lists!$AP$2:$AR$78,2,FALSE))","v":""},{"$f":"IF(D85=\"\",\"\",VLOOKUP($D85,Lists!$AP$2:$AR$78,3,FALSE))","v":""}]
[null,{"$f":"IF(D86=\"\",\"\",VLOOKUP($D86,Lists!$AP$2:$AR$78,2,FALSE))","v":""},{"$f":"IF(D86=\"\",\"\",VLOOKUP($D86,Lists!$AP$2:$AR$78,3,FALSE))","v":""}]
[null,{"$f":"IF(D87=\"\",\"\",VLOOKUP($D87,Lists!$AP$2:$AR$78,2,FALSE))","v":""},{"$f":"IF(D87=\"\",\"\",VLOOKUP($D87,Lists!$AP$2:$AR$78,3,FALSE))","v":""}]
[null,{"$f":"IF(D88=\"\",\"\",VLOOKUP($D88,Lists!$AP$2:$AR$78,2,FALSE))","v":""},{"$f":"IF(D88=\"\",\"\",VLOOKUP($D88,Lists!$AP$2:$AR$78,3,FALSE))","v":""}]
[null,{"$f":"IF(D89=\"\",\"\",VLOOKUP($D89,Lists!$AP$2:$AR$78,2,FALSE))","v":""},{"$f":"IF(D89=\"\",\"\",VLOOKUP($D89,Lists!$AP$2:$AR$78,3,FALSE))","v":""}]
[null,{"$f":"IF(D90=\"\",\"\",VLOOKUP($D90,Lists!$AP$2:$AR$78,2,FALSE))","v":""},{"$f":"IF(D90=\"\",\"\",VLOOKUP($D90,Lists!$AP$2:$AR$78,3,FALSE))","v":""}]
[null,{"$f":"IF(D91=\"\",\"\",VLOOKUP($D91,Lists!$AP$2:$AR$78,2,FALSE))","v":""},{"$f":"IF(D91=\"\",\"\",VLOOKUP($D91,Lists!$AP$2:$AR$78,3,FALSE))","v":""}]
[null,{"$f":"IF(D92=\"\",\"\",VLOOKUP($D92,Lists!$AP$2:$AR$78,2,FALSE))","v":""},{"$f":"IF(D92=\"\",\"\",VLOOKUP($D92,Lists!$AP$2:$AR$78,3,FALSE))","v":""}]
[null,{"$f":"IF(D93=\"\",\"\",VLOOKUP($D93,Lists!$AP$2:$AR$78,2,FALSE))","v":""},{"$f":"IF(D93=\"\",\"\",VLOOKUP($D93,Lists!$AP$2:$AR$78,3,FALSE))","v":""}]
[null,{"$f":"IF(D94=\"\",\"\",VLOOKUP($D94,Lists!$AP$2:$AR$78,2,FALSE))","v":""},{"$f":"IF(D94=\"\",\"\",VLOOKUP($D94,Lists!$AP$2:$AR$78,3,FALSE))","v":""}]
[null,{"$f":"IF(D95=\"\",\"\",VLOOKUP($D95,Lists!$AP$2:$AR$78,2,FALSE))","v":""},{"$f":"IF(D95=\"\",\"\",VLOOKUP($D95,Lists!$AP$2:$AR$78,3,FALSE))","v":""}]
[null,{"$f":"IF(D96=\"\",\"\",VLOOKUP($D96,Lists!$AP$2:$AR$78,2,FALSE))","v":""},{"$f":"IF(D96=\"\",\"\",VLOOKUP($D96,Lists!$AP$2:$AR$78,3,FALSE))","v":""}]
[null,{"$f":"IF(D97=\"\",\"\",VLOOKUP($D97,Lists!$AP$2:$AR$78,2,FALSE))","v":""},{"$f":"IF(D97=\"\",\"\",VLOOKUP($D97,Lists!$AP$2:$AR$78,3,FALSE))","v":""}]
[null,{"$f":"IF(D98=\"\",\"\",VLOOKUP($D98,Lists!$AP$2:$AR$78,2,FALSE))","v":""},{"$f":"IF(D98=\"\",\"\",VLOOKUP($D98,Lists!$AP$2:$AR$78,3,FALSE))","v":""}]
[null,{"$f":"IF(D99=\"\",\"\",VLOOKUP($D99,Lists!$AP$2:$AR$78,2,FALSE))","v":""},{"$f":"IF(D99=\"\",\"\",VLOOKUP($D99,Lists!$AP$2:$AR$78,3,FALSE))","v":""}]
[null,{"$f":"IF(D100=\"\",\"\",VLOOKUP($D100,Lists!$AP$2:$AR$78,2,FALSE))","v":""},{"$f":"IF(D100=\"\",\"\",VLOOKUP($D100,Lists!$AP$2:$AR$78,3,FALSE))","v":""}]
[null,{"$f":"IF(D101=\"\",\"\",VLOOKUP($D101,Lists!$AP$2:$AR$78,2,FALSE))","v":""},{"$f":"IF(D101=\"\",\"\",VLOOKUP($D101,Lists!$AP$2:$AR$78,3,FALSE))","v":""}]
[null,{"$f":"IF(D102=\"\",\"\",VLOOKUP($D102,Lists!$AP$2:$AR$78,2,FALSE))","v":""},{"$f":"IF(D102=\"\",\"\",VLOOKUP($D102,Lists!$AP$2:$AR$78,3,FALSE))","v":""}]
[null,{"$f":"IF(D103=\"\",\"\",VLOOKUP($D103,Lists!$AP$2:$AR$78,2,FALSE))","v":""},{"$f":"IF(D103=\"\",\"\",VLOOKUP($D103,Lists!$AP$2:$AR$78,3,FALSE))","v":""}]
[null,{"$f":"IF(D104=\"\",\"\",VLOOKUP($D104,Lists!$AP$2:$AR$78,2,FALSE))","v":""},{"$f":"IF(D104=\"\",\"\",VLOOKUP($D104,Lists!$AP$2:$AR$78,3,FALSE))","v":""}]
[null,{"$f":"IF(D105=\"\",\"\",VLOOKUP($D105,Lists!$AP$2:$AR$78,2,FALSE))","v":""},{"$f":"IF(D105=\"\",\"\",VLOOKUP($D105,Lists!$AP$2:$AR$78,3,FALSE))","v":""}]
[null,{"$f":"IF(D106=\"\",\"\",VLOOKUP($D106,Lists!$AP$2:$AR$78,2,FALSE))","v":""},{"$f":"IF(D106=\"\",\"\",VLOOKUP($D106,Lists!$AP$2:$AR$78,3,FALSE))","v":""}]
[null,{"$f":"IF(D107=\"\",\"\",VLOOKUP($D107,Lists!$AP$2:$AR$78,2,FALSE))","v":""},{"$f":"IF(D107=\"\",\"\",VLOOKUP($D107,Lists!$AP$2:$AR$78,3,FALSE))","v":""}]
[null,{"$f":"IF(D108=\"\",\"\",VLOOKUP($D108,Lists!$AP$2:$AR$78,2,FALSE))","v":""},{"$f":"IF(D108=\"\",\"\",VLOOKUP($D108,Lists!$AP$2:$AR$78,3,FALSE))","v":""}]
[null,{"$f":"IF(D109=\"\",\"\",VLOOKUP($D109,Lists!$AP$2:$AR$78,2,FALSE))","v":""},{"$f":"IF(D109=\"\",\"\",VLOOKUP($D109,Lists!$AP$2:$AR$78,3,FALSE))","v":""}]
[null,{"$f":"IF(D110=\"\",\"\",VLOOKUP($D110,Lists!$AP$2:$AR$78,2,FALSE))","v":""},{"$f":"IF(D110=\"\",\"\",VLOOKUP($D110,Lists!$AP$2:$AR$78,3,FALSE))","v":""}]
[null,{"$f":"IF(D111=\"\",\"\",VLOOKUP($D111,Lists!$AP$2:$AR$78,2,FALSE))","v":""},{"$f":"IF(D111=\"\",\"\",VLOOKUP($D111,Lists!$AP$2:$AR$78,3,FALSE))","v":""}]
[null,{"$f":"IF(D112=\"\",\"\",VLOOKUP($D112,Lists!$AP$2:$AR$78,2,FALSE))","v":""},{"$f":"IF(D112=\"\",\"\",VLOOKUP($D112,Lists!$AP$2:$AR$78,3,FALSE))","v":""}]
[null,{"$f":"IF(D113=\"\",\"\",VLOOKUP($D113,Lists!$AP$2:$AR$78,2,FALSE))","v":""},{"$f":"IF(D113=\"\",\"\",VLOOKUP($D113,Lists!$AP$2:$AR$78,3,FALSE))","v":""}]
[null,{"$f":"IF(D114=\"\",\"\",VLOOKUP($D114,Lists!$AP$2:$AR$78,2,FALSE))","v":""},{"$f":"IF(D114=\"\",\"\",VLOOKUP($D114,Lists!$AP$2:$AR$78,3,FALSE))","v":""}]
[null,{"$f":"IF(D115=\"\",\"\",VLOOKUP($D115,Lists!$AP$2:$AR$78,2,FALSE))","v":""},{"$f":"IF(D115=\"\",\"\",VLOOKUP($D115,Lists!$AP$2:$AR$78,3,FALSE))","v":""}]
[null,{"$f":"IF(D116=\"\",\"\",VLOOKUP($D116,Lists!$AP$2:$AR$78,2,FALSE))","v":""},{"$f":"IF(D116=\"\",\"\",VLOOKUP($D116,Lists!$AP$2:$AR$78,3,FALSE))","v":""}]
[null,{"$f":"IF(D117=\"\",\"\",VLOOKUP($D117,Lists!$AP$2:$AR$78,2,FALSE))","v":""},{"$f":"IF(D117=\"\",\"\",VLOOKUP($D117,Lists!$AP$2:$AR$78,3,FALSE))","v":""}]
[null,{"$f":"IF(D118=\"\",\"\",VLOOKUP($D118,Lists!$AP$2:$AR$78,2,FALSE))","v":""},{"$f":"IF(D118=\"\",\"\",VLOOKUP($D118,Lists!$AP$2:$AR$78,3,FALSE))","v":""}]
[null,{"$f":"IF(D119=\"\",\"\",VLOOKUP($D119,Lists!$AP$2:$AR$78,2,FALSE))","v":""},{"$f":"IF(D119=\"\",\"\",VLOOKUP($D119,Lists!$AP$2:$AR$78,3,FALSE))","v":""}]
[null,{"$f":"IF(D120=\"\",\"\",VLOOKUP($D120,Lists!$AP$2:$AR$78,2,FALSE))","v":""},{"$f":"IF(D120=\"\",\"\",VLOOKUP($D120,Lists!$AP$2:$AR$78,3,FALSE))","v":""}]
[null,{"$f":"IF(D121=\"\",\"\",VLOOKUP($D121,Lists!$AP$2:$AR$78,2,FALSE))","v":""},{"$f":"IF(D121=\"\",\"\",VLOOKUP($D121,Lists!$AP$2:$AR$78,3,FALSE))","v":""}]
[null,{"$f":"IF(D122=\"\",\"\",VLOOKUP($D122,Lists!$AP$2:$AR$78,2,FALSE))","v":""},{"$f":"IF(D122=\"\",\"\",VLOOKUP($D122,Lists!$AP$2:$AR$78,3,FALSE))","v":""}]
[null,{"$f":"IF(D123=\"\",\"\",VLOOKUP($D123,Lists!$AP$2:$AR$78,2,FALSE))","v":""},{"$f":"IF(D123=\"\",\"\",VLOOKUP($D123,Lists!$AP$2:$AR$78,3,FALSE))","v":""}]
[null,{"$f":"IF(D124=\"\",\"\",VLOOKUP($D124,Lists!$AP$2:$AR$78,2,FALSE))","v":""},{"$f":"IF(D124=\"\",\"\",VLOOKUP($D124,Lists!$AP$2:$AR$78,3,FALSE))","v":""}]
[null,{"$f":"IF(D125=\"\",\"\",VLOOKUP($D125,Lists!$AP$2:$AR$78,2,FALSE))","v":""},{"$f":"IF(D125=\"\",\"\",VLOOKUP($D125,Lists!$AP$2:$AR$78,3,FALSE))","v":""}]
[null,{"$f":"IF(D126=\"\",\"\",VLOOKUP($D126,Lists!$AP$2:$AR$78,2,FALSE))","v":""},{"$f":"IF(D126=\"\",\"\",VLOOKUP($D126,Lists!$AP$2:$AR$78,3,FALSE))","v":""}]
[null,{"$f":"IF(D127=\"\",\"\",VLOOKUP($D127,Lists!$AP$2:$AR$78,2,FALSE))","v":""},{"$f":"IF(D127=\"\",\"\",VLOOKUP($D127,Lists!$AP$2:$AR$78,3,FALSE))","v":""}]
[null,{"$f":"IF(D128=\"\",\"\",VLOOKUP($D128,Lists!$AP$2:$AR$78,2,FALSE))","v":""},{"$f":"IF(D128=\"\",\"\",VLOOKUP($D128,Lists!$AP$2:$AR$78,3,FALSE))","v":""}]
[null,{"$f":"IF(D129=\"\",\"\",VLOOKUP($D129,Lists!$AP$2:$AR$78,2,FALSE))","v":""},{"$f":"IF(D129=\"\",\"\",VLOOKUP($D129,Lists!$AP$2:$AR$78,3,FALSE))","v":""}]
[null,{"$f":"IF(D130=\"\",\"\",VLOOKUP($D130,Lists!$AP$2:$AR$78,2,FALSE))","v":""},{"$f":"IF(D130=\"\",\"\",VLOOKUP($D130,Lists!$AP$2:$AR$78,3,FALSE))","v":""}]
[null,{"$f":"IF(D131=\"\",\"\",VLOOKUP($D131,Lists!$AP$2:$AR$78,2,FALSE))","v":""},{"$f":"IF(D131=\"\",\"\",VLOOKUP($D131,Lists!$AP$2:$AR$78,3,FALSE))","v":""}]
[null,{"$f":"IF(D132=\"\",\"\",VLOOKUP($D132,Lists!$AP$2:$AR$78,2,FALSE))","v":""},{"$f":"IF(D132=\"\",\"\",VLOOKUP($D132,Lists!$AP$2:$AR$78,3,FALSE))","v":""}]
[null,{"$f":"IF(D133=\"\",\"\",VLOOKUP($D133,Lists!$AP$2:$AR$78,2,FALSE))","v":""},{"$f":"IF(D133=\"\",\"\",VLOOKUP($D133,Lists!$AP$2:$AR$78,3,FALSE))","v":""}]
[null,{"$f":"IF(D134=\"\",\"\",VLOOKUP($D134,Lists!$AP$2:$AR$78,2,FALSE))","v":""},{"$f":"IF(D134=\"\",\"\",VLOOKUP($D134,Lists!$AP$2:$AR$78,3,FALSE))","v":""}]
[null,{"$f":"IF(D135=\"\",\"\",VLOOKUP($D135,Lists!$AP$2:$AR$78,2,FALSE))","v":""},{"$f":"IF(D135=\"\",\"\",VLOOKUP($D135,Lists!$AP$2:$AR$78,3,FALSE))","v":""}]
[null,{"$f":"IF(D136=\"\",\"\",VLOOKUP($D136,Lists!$AP$2:$AR$78,2,FALSE))","v":""},{"$f":"IF(D136=\"\",\"\",VLOOKUP($D136,Lists!$AP$2:$AR$78,3,FALSE))","v":""}]
[null,{"$f":"IF(D137=\"\",\"\",VLOOKUP($D137,Lists!$AP$2:$AR$78,2,FALSE))","v":""},{"$f":"IF(D137=\"\",\"\",VLOOKUP($D137,Lists!$AP$2:$AR$78,3,FALSE))","v":""}]
[null,{"$f":"IF(D138=\"\",\"\",VLOOKUP($D138,Lists!$AP$2:$AR$78,2,FALSE))","v":""},{"$f":"IF(D138=\"\",\"\",VLOOKUP($D138,Lists!$AP$2:$AR$78,3,FALSE))","v":""}]
[null,{"$f":"IF(D139=\"\",\"\",VLOOKUP($D139,Lists!$AP$2:$AR$78,2,FALSE))","v":""},{"$f":"IF(D139=\"\",\"\",VLOOKUP($D139,Lists!$AP$2:$AR$78,3,FALSE))","v":""}]
[null,{"$f":"IF(D140=\"\",\"\",VLOOKUP($D140,Lists!$AP$2:$AR$78,2,FALSE))","v":""},{"$f":"IF(D140=\"\",\"\",VLOOKUP($D140,Lists!$AP$2:$AR$78,3,FALSE))","v":""}]
[null,{"$f":"IF(D141=\"\",\"\",VLOOKUP($D141,Lists!$AP$2:$AR$78,2,FALSE))","v":""},{"$f":"IF(D141=\"\",\"\",VLOOKUP($D141,Lists!$AP$2:$AR$78,3,FALSE))","v":""}]
[null,{"$f":"IF(D142=\"\",\"\",VLOOKUP($D142,Lists!$AP$2:$AR$78,2,FALSE))","v":""},{"$f":"IF(D142=\"\",\"\",VLOOKUP($D142,Lists!$AP$2:$AR$78,3,FALSE))","v":""}]
[null,{"$f":"IF(D143=\"\",\"\",VLOOKUP($D143,Lists!$AP$2:$AR$78,2,FALSE))","v":""},{"$f":"IF(D143=\"\",\"\",VLOOKUP($D143,Lists!$AP$2:$AR$78,3,FALSE))","v":""}]
[null,{"$f":"IF(D144=\"\",\"\",VLOOKUP($D144,Lists!$AP$2:$AR$78,2,FALSE))","v":""},{"$f":"IF(D144=\"\",\"\",VLOOKUP($D144,Lists!$AP$2:$AR$78,3,FALSE))","v":""}]
[null,{"$f":"IF(D145=\"\",\"\",VLOOKUP($D145,Lists!$AP$2:$AR$78,2,FALSE))","v":""},{"$f":"IF(D145=\"\",\"\",VLOOKUP($D145,Lists!$AP$2:$AR$78,3,FALSE))","v":""}]
[null,{"$f":"IF(D146=\"\",\"\",VLOOKUP($D146,Lists!$AP$2:$AR$78,2,FALSE))","v":""},{"$f":"IF(D146=\"\",\"\",VLOOKUP($D146,Lists!$AP$2:$AR$78,3,FALSE))","v":""}]
[null,{"$f":"IF(D147=\"\",\"\",VLOOKUP($D147,Lists!$AP$2:$AR$78,2,FALSE))","v":""},{"$f":"IF(D147=\"\",\"\",VLOOKUP($D147,Lists!$AP$2:$AR$78,3,FALSE))","v":""}]
[null,{"$f":"IF(D148=\"\",\"\",VLOOKUP($D148,Lists!$AP$2:$AR$78,2,FALSE))","v":""},{"$f":"IF(D148=\"\",\"\",VLOOKUP($D148,Lists!$AP$2:$AR$78,3,FALSE))","v":""}]
[null,{"$f":"IF(D149=\"\",\"\",VLOOKUP($D149,Lists!$AP$2:$AR$78,2,FALSE))","v":""},{"$f":"IF(D149=\"\",\"\",VLOOKUP($D149,Lists!$AP$2:$AR$78,3,FALSE))","v":""}]
[null,{"$f":"IF(D150=\"\",\"\",VLOOKUP($D150,Lists!$AP$2:$AR$78,2,FALSE))","v":""},{"$f":"IF(D150=\"\",\"\",VLOOKUP($D150,Lists!$AP$2:$AR$78,3,FALSE))","v":""}]
[null,{"$f":"IF(D151=\"\",\"\",VLOOKUP($D151,Lists!$AP$2:$AR$78,2,FALSE))","v":""},{"$f":"IF(D151=\"\",\"\",VLOOKUP($D151,Lists!$AP$2:$AR$78,3,FALSE))","v":""}]
[null,{"$f":"IF(D152=\"\",\"\",VLOOKUP($D152,Lists!$AP$2:$AR$78,2,FALSE))","v":""},{"$f":"IF(D152=\"\",\"\",VLOOKUP($D152,Lists!$AP$2:$AR$78,3,FALSE))","v":""}]
[null,{"$f":"IF(D153=\"\",\"\",VLOOKUP($D153,Lists!$AP$2:$AR$78,2,FALSE))","v":""},{"$f":"IF(D153=\"\",\"\",VLOOKUP($D153,Lists!$AP$2:$AR$78,3,FALSE))","v":""}]
[null,{"$f":"IF(D154=\"\",\"\",VLOOKUP($D154,Lists!$AP$2:$AR$78,2,FALSE))","v":""},{"$f":"IF(D154=\"\",\"\",VLOOKUP($D154,Lists!$AP$2:$AR$78,3,FALSE))","v":""}]
[null,{"$f":"IF(D155=\"\",\"\",VLOOKUP($D155,Lists!$AP$2:$AR$78,2,FALSE))","v":""},{"$f":"IF(D155=\"\",\"\",VLOOKUP($D155,Lists!$AP$2:$AR$78,3,FALSE))","v":""}]
[null,{"$f":"IF(D156=\"\",\"\",VLOOKUP($D156,Lists!$AP$2:$AR$78,2,FALSE))","v":""},{"$f":"IF(D156=\"\",\"\",VLOOKUP($D156,Lists!$AP$2:$AR$78,3,FALSE))","v":""}]
[null,{"$f":"IF(D157=\"\",\"\",VLOOKUP($D157,Lists!$AP$2:$AR$78,2,FALSE))","v":""},{"$f":"IF(D157=\"\",\"\",VLOOKUP($D157,Lists!$AP$2:$AR$78,3,FALSE))","v":""}]
[null,{"$f":"IF(D158=\"\",\"\",VLOOKUP($D158,Lists!$AP$2:$AR$78,2,FALSE))","v":""},{"$f":"IF(D158=\"\",\"\",VLOOKUP($D158,Lists!$AP$2:$AR$78,3,FALSE))","v":""}]
[null,{"$f":"IF(D159=\"\",\"\",VLOOKUP($D159,Lists!$AP$2:$AR$78,2,FALSE))","v":""},{"$f":"IF(D159=\"\",\"\",VLOOKUP($D159,Lists!$AP$2:$AR$78,3,FALSE))","v":""}]
[null,{"$f":"IF(D160=\"\",\"\",VLOOKUP($D160,Lists!$AP$2:$AR$78,2,FALSE))","v":""},{"$f":"IF(D160=\"\",\"\",VLOOKUP($D160,Lists!$AP$2:$AR$78,3,FALSE))","v":""}]
[null,{"$f":"IF(D161=\"\",\"\",VLOOKUP($D161,Lists!$AP$2:$AR$78,2,FALSE))","v":""},{"$f":"IF(D161=\"\",\"\",VLOOKUP($D161,Lists!$AP$2:$AR$78,3,FALSE))","v":""}]
[null,{"$f":"IF(D162=\"\",\"\",VLOOKUP($D162,Lists!$AP$2:$AR$78,2,FALSE))","v":""},{"$f":"IF(D162=\"\",\"\",VLOOKUP($D162,Lists!$AP$2:$AR$78,3,FALSE))","v":""}]
[null,{"$f":"IF(D163=\"\",\"\",VLOOKUP($D163,Lists!$AP$2:$AR$78,2,FALSE))","v":""},{"$f":"IF(D163=\"\",\"\",VLOOKUP($D163,Lists!$AP$2:$AR$78,3,FALSE))","v":""}]
[null,{"$f":"IF(D164=\"\",\"\",VLOOKUP($D164,Lists!$AP$2:$AR$78,2,FALSE))","v":""},{"$f":"IF(D164=\"\",\"\",VLOOKUP($D164,Lists!$AP$2:$AR$78,3,FALSE))","v":""}]
[null,{"$f":"IF(D165=\"\",\"\",VLOOKUP($D165,Lists!$AP$2:$AR$78,2,FALSE))","v":""},{"$f":"IF(D165=\"\",\"\",VLOOKUP($D165,Lists!$AP$2:$AR$78,3,FALSE))","v":""}]
[null,{"$f":"IF(D166=\"\",\"\",VLOOKUP($D166,Lists!$AP$2:$AR$78,2,FALSE))","v":""},{"$f":"IF(D166=\"\",\"\",VLOOKUP($D166,Lists!$AP$2:$AR$78,3,FALSE))","v":""}]
[null,{"$f":"IF(D167=\"\",\"\",VLOOKUP($D167,Lists!$AP$2:$AR$78,2,FALSE))","v":""},{"$f":"IF(D167=\"\",\"\",VLOOKUP($D167,Lists!$AP$2:$AR$78,3,FALSE))","v":""}]
[null,{"$f":"IF(D168=\"\",\"\",VLOOKUP($D168,Lists!$AP$2:$AR$78,2,FALSE))","v":""},{"$f":"IF(D168=\"\",\"\",VLOOKUP($D168,Lists!$AP$2:$AR$78,3,FALSE))","v":""}]
[null,{"$f":"IF(D169=\"\",\"\",VLOOKUP($D169,Lists!$AP$2:$AR$78,2,FALSE))","v":""},{"$f":"IF(D169=\"\",\"\",VLOOKUP($D169,Lists!$AP$2:$AR$78,3,FALSE))","v":""}]
[null,{"$f":"IF(D170=\"\",\"\",VLOOKUP($D170,Lists!$AP$2:$AR$78,2,FALSE))","v":""},{"$f":"IF(D170=\"\",\"\",VLOOKUP($D170,Lists!$AP$2:$AR$78,3,FALSE))","v":""}]
[null,{"$f":"IF(D171=\"\",\"\",VLOOKUP($D171,Lists!$AP$2:$AR$78,2,FALSE))","v":""},{"$f":"IF(D171=\"\",\"\",VLOOKUP($D171,Lists!$AP$2:$AR$78,3,FALSE))","v":""}]
[null,{"$f":"IF(D172=\"\",\"\",VLOOKUP($D172,Lists!$AP$2:$AR$78,2,FALSE))","v":""},{"$f":"IF(D172=\"\",\"\",VLOOKUP($D172,Lists!$AP$2:$AR$78,3,FALSE))","v":""}]
[null,{"$f":"IF(D173=\"\",\"\",VLOOKUP($D173,Lists!$AP$2:$AR$78,2,FALSE))","v":""},{"$f":"IF(D173=\"\",\"\",VLOOKUP($D173,Lists!$AP$2:$AR$78,3,FALSE))","v":""}]
[null,{"$f":"IF(D174=\"\",\"\",VLOOKUP($D174,Lists!$AP$2:$AR$78,2,FALSE))","v":""},{"$f":"IF(D174=\"\",\"\",VLOOKUP($D174,Lists!$AP$2:$AR$78,3,FALSE))","v":""}]
[null,{"$f":"IF(D175=\"\",\"\",VLOOKUP($D175,Lists!$AP$2:$AR$78,2,FALSE))","v":""},{"$f":"IF(D175=\"\",\"\",VLOOKUP($D175,Lists!$AP$2:$AR$78,3,FALSE))","v":""}]
[null,{"$f":"IF(D176=\"\",\"\",VLOOKUP($D176,Lists!$AP$2:$AR$78,2,FALSE))","v":""},{"$f":"IF(D176=\"\",\"\",VLOOKUP($D176,Lists!$AP$2:$AR$78,3,FALSE))","v":""}]
[null,{"$f":"IF(D177=\"\",\"\",VLOOKUP($D177,Lists!$AP$2:$AR$78,2,FALSE))","v":""},{"$f":"IF(D177=\"\",\"\",VLOOKUP($D177,Lists!$AP$2:$AR$78,3,FALSE))","v":""}]
[null,{"$f":"IF(D178=\"\",\"\",VLOOKUP($D178,Lists!$AP$2:$AR$78,2,FALSE))","v":""},{"$f":"IF(D178=\"\",\"\",VLOOKUP($D178,Lists!$AP$2:$AR$78,3,FALSE))","v":""}]
[null,{"$f":"IF(D179=\"\",\"\",VLOOKUP($D179,Lists!$AP$2:$AR$78,2,FALSE))","v":""},{"$f":"IF(D179=\"\",\"\",VLOOKUP($D179,Lists!$AP$2:$AR$78,3,FALSE))","v":""}]
[null,{"$f":"IF(D180=\"\",\"\",VLOOKUP($D180,Lists!$AP$2:$AR$78,2,FALSE))","v":""},{"$f":"IF(D180=\"\",\"\",VLOOKUP($D180,Lists!$AP$2:$AR$78,3,FALSE))","v":""}]
[null,{"$f":"IF(D181=\"\",\"\",VLOOKUP($D181,Lists!$AP$2:$AR$78,2,FALSE))","v":""},{"$f":"IF(D181=\"\",\"\",VLOOKUP($D181,Lists!$AP$2:$AR$78,3,FALSE))","v":""}]
[null,{"$f":"IF(D182=\"\",\"\",VLOOKUP($D182,Lists!$AP$2:$AR$78,2,FALSE))","v":""},{"$f":"IF(D182=\"\",\"\",VLOOKUP($D182,Lists!$AP$2:$AR$78,3,FALSE))","v":""}]
[null,{"$f":"IF(D183=\"\",\"\",VLOOKUP($D183,Lists!$AP$2:$AR$78,2,FALSE))","v":""},{"$f":"IF(D183=\"\",\"\",VLOOKUP($D183,Lists!$AP$2:$AR$78,3,FALSE))","v":""}]
[null,{"$f":"IF(D184=\"\",\"\",VLOOKUP($D184,Lists!$AP$2:$AR$78,2,FALSE))","v":""},{"$f":"IF(D184=\"\",\"\",VLOOKUP($D184,Lists!$AP$2:$AR$78,3,FALSE))","v":""}]
[null,{"$f":"IF(D185=\"\",\"\",VLOOKUP($D185,Lists!$AP$2:$AR$78,2,FALSE))","v":""},{"$f":"IF(D185=\"\",\"\",VLOOKUP($D185,Lists!$AP$2:$AR$78,3,FALSE))","v":""}]
[null,{"$f":"IF(D186=\"\",\"\",VLOOKUP($D186,Lists!$AP$2:$AR$78,2,FALSE))","v":""},{"$f":"IF(D186=\"\",\"\",VLOOKUP($D186,Lists!$AP$2:$AR$78,3,FALSE))","v":""}]
[null,{"$f":"IF(D187=\"\",\"\",VLOOKUP($D187,Lists!$AP$2:$AR$78,2,FALSE))","v":""},{"$f":"IF(D187=\"\",\"\",VLOOKUP($D187,Lists!$AP$2:$AR$78,3,FALSE))","v":""}]
[null,{"$f":"IF(D188=\"\",\"\",VLOOKUP($D188,Lists!$AP$2:$AR$78,2,FALSE))","v":""},{"$f":"IF(D188=\"\",\"\",VLOOKUP($D188,Lists!$AP$2:$AR$78,3,FALSE))","v":""}]
[null,{"$f":"IF(D189=\"\",\"\",VLOOKUP($D189,Lists!$AP$2:$AR$78,2,FALSE))","v":""},{"$f":"IF(D189=\"\",\"\",VLOOKUP($D189,Lists!$AP$2:$AR$78,3,FALSE))","v":""}]
[null,{"$f":"IF(D190=\"\",\"\",VLOOKUP($D190,Lists!$AP$2:$AR$78,2,FALSE))","v":""},{"$f":"IF(D190=\"\",\"\",VLOOKUP($D190,Lists!$AP$2:$AR$78,3,FALSE))","v":""}]
[null,{"$f":"IF(D191=\"\",\"\",VLOOKUP($D191,Lists!$AP$2:$AR$78,2,FALSE))","v":""},{"$f":"IF(D191=\"\",\"\",VLOOKUP($D191,Lists!$AP$2:$AR$78,3,FALSE))","v":""}]
[null,{"$f":"IF(D192=\"\",\"\",VLOOKUP($D192,Lists!$AP$2:$AR$78,2,FALSE))","v":""},{"$f":"IF(D192=\"\",\"\",VLOOKUP($D192,Lists!$AP$2:$AR$78,3,FALSE))","v":""}]
[null,{"$f":"IF(D193=\"\",\"\",VLOOKUP($D193,Lists!$AP$2:$AR$78,2,FALSE))","v":""},{"$f":"IF(D193=\"\",\"\",VLOOKUP($D193,Lists!$AP$2:$AR$78,3,FALSE))","v":""}]
[null,{"$f":"IF(D194=\"\",\"\",VLOOKUP($D194,Lists!$AP$2:$AR$78,2,FALSE))","v":""},{"$f":"IF(D194=\"\",\"\",VLOOKUP($D194,Lists!$AP$2:$AR$78,3,FALSE))","v":""}]
[null,{"$f":"IF(D195=\"\",\"\",VLOOKUP($D195,Lists!$AP$2:$AR$78,2,FALSE))","v":""},{"$f":"IF(D195=\"\",\"\",VLOOKUP($D195,Lists!$AP$2:$AR$78,3,FALSE))","v":""}]
[null,{"$f":"IF(D196=\"\",\"\",VLOOKUP($D196,Lists!$AP$2:$AR$78,2,FALSE))","v":""},{"$f":"IF(D196=\"\",\"\",VLOOKUP($D196,Lists!$AP$2:$AR$78,3,FALSE))","v":""}]
[null,{"$f":"IF(D197=\"\",\"\",VLOOKUP($D197,Lists!$AP$2:$AR$78,2,FALSE))","v":""},{"$f":"IF(D197=\"\",\"\",VLOOKUP($D197,Lists!$AP$2:$AR$78,3,FALSE))","v":""}]
[null,{"$f":"IF(D198=\"\",\"\",VLOOKUP($D198,Lists!$AP$2:$AR$78,2,FALSE))","v":""},{"$f":"IF(D198=\"\",\"\",VLOOKUP($D198,Lists!$AP$2:$AR$78,3,FALSE))","v":""}]
[null,{"$f":"IF(D199=\"\",\"\",VLOOKUP($D199,Lists!$AP$2:$AR$78,2,FALSE))","v":""},{"$f":"IF(D199=\"\",\"\",VLOOKUP($D199,Lists!$AP$2:$AR$78,3,FALSE))","v":""}]
[null,{"$f":"IF(D200=\"\",\"\",VLOOKUP($D200,Lists!$AP$2:$AR$78,2,FALSE))","v":""},{"$f":"IF(D200=\"\",\"\",VLOOKUP($D200,Lists!$AP$2:$AR$78,3,FALSE))","v":""}]
[null,{"$f":"IF(D201=\"\",\"\",VLOOKUP($D201,Lists!$AP$2:$AR$78,2,FALSE))","v":""},{"$f":"IF(D201=\"\",\"\",VLOOKUP($D201,Lists!$AP$2:$AR$78,3,FALSE))","v":""}]
[null,{"$f":"IF(D202=\"\",\"\",VLOOKUP($D202,Lists!$AP$2:$AR$78,2,FALSE))","v":""},{"$f":"IF(D202=\"\",\"\",VLOOKUP($D202,Lists!$AP$2:$AR$78,3,FALSE))","v":""}]
[null,{"$f":"IF(D203=\"\",\"\",VLOOKUP($D203,Lists!$AP$2:$AR$78,2,FALSE))","v":""},{"$f":"IF(D203=\"\",\"\",VLOOKUP($D203,Lists!$AP$2:$AR$78,3,FALSE))","v":""}]
[null,{"$f":"IF(D204=\"\",\"\",VLOOKUP($D204,Lists!$AP$2:$AR$78,2,FALSE))","v":""},{"$f":"IF(D204=\"\",\"\",VLOOKUP($D204,Lists!$AP$2:$AR$78,3,FALSE))","v":""}]
[null,{"$f":"IF(D205=\"\",\"\",VLOOKUP($D205,Lists!$AP$2:$AR$78,2,FALSE))","v":""},{"$f":"IF(D205=\"\",\"\",VLOOKUP($D205,Lists!$AP$2:$AR$78,3,FALSE))","v":""}]
[null,{"$f":"IF(D206=\"\",\"\",VLOOKUP($D206,Lists!$AP$2:$AR$78,2,FALSE))","v":""},{"$f":"IF(D206=\"\",\"\",VLOOKUP($D206,Lists!$AP$2:$AR$78,3,FALSE))","v":""}]
[null,{"$f":"IF(D207=\"\",\"\",VLOOKUP($D207,Lists!$AP$2:$AR$78,2,FALSE))","v":""},{"$f":"IF(D207=\"\",\"\",VLOOKUP($D207,Lists!$AP$2:$AR$78,3,FALSE))","v":""}]
[null,{"$f":"IF(D208=\"\",\"\",VLOOKUP($D208,Lists!$AP$2:$AR$78,2,FALSE))","v":""},{"$f":"IF(D208=\"\",\"\",VLOOKUP($D208,Lists!$AP$2:$AR$78,3,FALSE))","v":""}]
[null,{"$f":"IF(D209=\"\",\"\",VLOOKUP($D209,Lists!$AP$2:$AR$78,2,FALSE))","v":""},{"$f":"IF(D209=\"\",\"\",VLOOKUP($D209,Lists!$AP$2:$AR$78,3,FALSE))","v":""}]
[null,{"$f":"IF(D210=\"\",\"\",VLOOKUP($D210,Lists!$AP$2:$AR$78,2,FALSE))","v":""},{"$f":"IF(D210=\"\",\"\",VLOOKUP($D210,Lists!$AP$2:$AR$78,3,FALSE))","v":""}]
[null,{"$f":"IF(D211=\"\",\"\",VLOOKUP($D211,Lists!$AP$2:$AR$78,2,FALSE))","v":""},{"$f":"IF(D211=\"\",\"\",VLOOKUP($D211,Lists!$AP$2:$AR$78,3,FALSE))","v":""}]
[null,{"$f":"IF(D212=\"\",\"\",VLOOKUP($D212,Lists!$AP$2:$AR$78,2,FALSE))","v":""},{"$f":"IF(D212=\"\",\"\",VLOOKUP($D212,Lists!$AP$2:$AR$78,3,FALSE))","v":""}]
[null,{"$f":"IF(D213=\"\",\"\",VLOOKUP($D213,Lists!$AP$2:$AR$78,2,FALSE))","v":""},{"$f":"IF(D213=\"\",\"\",VLOOKUP($D213,Lists!$AP$2:$AR$78,3,FALSE))","v":""}]
[null,{"$f":"IF(D214=\"\",\"\",VLOOKUP($D214,Lists!$AP$2:$AR$78,2,FALSE))","v":""},{"$f":"IF(D214=\"\",\"\",VLOOKUP($D214,Lists!$AP$2:$AR$78,3,FALSE))","v":""}]
[null,{"$f":"IF(D215=\"\",\"\",VLOOKUP($D215,Lists!$AP$2:$AR$78,2,FALSE))","v":""},{"$f":"IF(D215=\"\",\"\",VLOOKUP($D215,Lists!$AP$2:$AR$78,3,FALSE))","v":""}]
[null,{"$f":"IF(D216=\"\",\"\",VLOOKUP($D216,Lists!$AP$2:$AR$78,2,FALSE))","v":""},{"$f":"IF(D216=\"\",\"\",VLOOKUP($D216,Lists!$AP$2:$AR$78,3,FALSE))","v":""}]
[null,{"$f":"IF(D217=\"\",\"\",VLOOKUP($D217,Lists!$AP$2:$AR$78,2,FALSE))","v":""},{"$f":"IF(D217=\"\",\"\",VLOOKUP($D217,Lists!$AP$2:$AR$78,3,FALSE))","v":""}]
[null,{"$f":"IF(D218=\"\",\"\",VLOOKUP($D218,Lists!$AP$2:$AR$78,2,FALSE))","v":""},{"$f":"IF(D218=\"\",\"\",VLOOKUP($D218,Lists!$AP$2:$AR$78,3,FALSE))","v":""}]
[null,{"$f":"IF(D219=\"\",\"\",VLOOKUP($D219,Lists!$AP$2:$AR$78,2,FALSE))","v":""},{"$f":"IF(D219=\"\",\"\",VLOOKUP($D219,Lists!$AP$2:$AR$78,3,FALSE))","v":""}]
[null,{"$f":"IF(D220=\"\",\"\",VLOOKUP($D220,Lists!$AP$2:$AR$78,2,FALSE))","v":""},{"$f":"IF(D220=\"\",\"\",VLOOKUP($D220,Lists!$AP$2:$AR$78,3,FALSE))","v":""}]
[null,{"$f":"IF(D221=\"\",\"\",VLOOKUP($D221,Lists!$AP$2:$AR$78,2,FALSE))","v":""},{"$f":"IF(D221=\"\",\"\",VLOOKUP($D221,Lists!$AP$2:$AR$78,3,FALSE))","v":""}]
[null,{"$f":"IF(D222=\"\",\"\",VLOOKUP($D222,Lists!$AP$2:$AR$78,2,FALSE))","v":""},{"$f":"IF(D222=\"\",\"\",VLOOKUP($D222,Lists!$AP$2:$AR$78,3,FALSE))","v":""}]
[null,{"$f":"IF(D223=\"\",\"\",VLOOKUP($D223,Lists!$AP$2:$AR$78,2,FALSE))","v":""},{"$f":"IF(D223=\"\",\"\",VLOOKUP($D223,Lists!$AP$2:$AR$78,3,FALSE))","v":""}]
[null,{"$f":"IF(D224=\"\",\"\",VLOOKUP($D224,Lists!$AP$2:$AR$78,2,FALSE))","v":""},{"$f":"IF(D224=\"\",\"\",VLOOKUP($D224,Lists!$AP$2:$AR$78,3,FALSE))","v":""}]
[null,{"$f":"IF(D225=\"\",\"\",VLOOKUP($D225,Lists!$AP$2:$AR$78,2,FALSE))","v":""},{"$f":"IF(D225=\"\",\"\",VLOOKUP($D225,Lists!$AP$2:$AR$78,3,FALSE))","v":""}]
[null,{"$f":"IF(D226=\"\",\"\",VLOOKUP($D226,Lists!$AP$2:$AR$78,2,FALSE))","v":""},{"$f":"IF(D226=\"\",\"\",VLOOKUP($D226,Lists!$AP$2:$AR$78,3,FALSE))","v":""}]
[null,{"$f":"IF(D227=\"\",\"\",VLOOKUP($D227,Lists!$AP$2:$AR$78,2,FALSE))","v":""},{"$f":"IF(D227=\"\",\"\",VLOOKUP($D227,Lists!$AP$2:$AR$78,3,FALSE))","v":""}]
[null,{"$f":"IF(D228=\"\",\"\",VLOOKUP($D228,Lists!$AP$2:$AR$78,2,FALSE))","v":""},{"$f":"IF(D228=\"\",\"\",VLOOKUP($D228,Lists!$AP$2:$AR$78,3,FALSE))","v":""}]
[null,{"$f":"IF(D229=\"\",\"\",VLOOKUP($D229,Lists!$AP$2:$AR$78,2,FALSE))","v":""},{"$f":"IF(D229=\"\",\"\",VLOOKUP($D229,Lists!$AP$2:$AR$78,3,FALSE))","v":""}]
[null,{"$f":"IF(D230=\"\",\"\",VLOOKUP($D230,Lists!$AP$2:$AR$78,2,FALSE))","v":""},{"$f":"IF(D230=\"\",\"\",VLOOKUP($D230,Lists!$AP$2:$AR$78,3,FALSE))","v":""}]
[null,{"$f":"IF(D231=\"\",\"\",VLOOKUP($D231,Lists!$AP$2:$AR$78,2,FALSE))","v":""},{"$f":"IF(D231=\"\",\"\",VLOOKUP($D231,Lists!$AP$2:$AR$78,3,FALSE))","v":""}]
[null,{"$f":"IF(D232=\"\",\"\",VLOOKUP($D232,Lists!$AP$2:$AR$78,2,FALSE))","v":""},{"$f":"IF(D232=\"\",\"\",VLOOKUP($D232,Lists!$AP$2:$AR$78,3,FALSE))","v":""}]
[null,{"$f":"IF(D233=\"\",\"\",VLOOKUP($D233,Lists!$AP$2:$AR$78,2,FALSE))","v":""},{"$f":"IF(D233=\"\",\"\",VLOOKUP($D233,Lists!$AP$2:$AR$78,3,FALSE))","v":""}]
[null,{"$f":"IF(D234=\"\",\"\",VLOOKUP($D234,Lists!$AP$2:$AR$78,2,FALSE))","v":""},{"$f":"IF(D234=\"\",\"\",VLOOKUP($D234,Lists!$AP$2:$AR$78,3,FALSE))","v":""}]
[null,{"$f":"IF(D235=\"\",\"\",VLOOKUP($D235,Lists!$AP$2:$AR$78,2,FALSE))","v":""},{"$f":"IF(D235=\"\",\"\",VLOOKUP($D235,Lists!$AP$2:$AR$78,3,FALSE))","v":""}]
[null,{"$f":"IF(D236=\"\",\"\",VLOOKUP($D236,Lists!$AP$2:$AR$78,2,FALSE))","v":""},{"$f":"IF(D236=\"\",\"\",VLOOKUP($D236,Lists!$AP$2:$AR$78,3,FALSE))","v":""}]
[null,{"$f":"IF(D237=\"\",\"\",VLOOKUP($D237,Lists!$AP$2:$AR$78,2,FALSE))","v":""},{"$f":"IF(D237=\"\",\"\",VLOOKUP($D237,Lists!$AP$2:$AR$78,3,FALSE))","v":""}]
[null,{"$f":"IF(D238=\"\",\"\",VLOOKUP($D238,Lists!$AP$2:$AR$78,2,FALSE))","v":""},{"$f":"IF(D238=\"\",\"\",VLOOKUP($D238,Lists!$AP$2:$AR$78,3,FALSE))","v":""}]
[null,{"$f":"IF(D239=\"\",\"\",VLOOKUP($D239,Lists!$AP$2:$AR$78,2,FALSE))","v":""},{"$f":"IF(D239=\"\",\"\",VLOOKUP($D239,Lists!$AP$2:$AR$78,3,FALSE))","v":""}]
[null,{"$f":"IF(D240=\"\",\"\",VLOOKUP($D240,Lists!$AP$2:$AR$78,2,FALSE))","v":""},{"$f":"IF(D240=\"\",\"\",VLOOKUP($D240,Lists!$AP$2:$AR$78,3,FALSE))","v":""}]
[null,{"$f":"IF(D241=\"\",\"\",VLOOKUP($D241,Lists!$AP$2:$AR$78,2,FALSE))","v":""},{"$f":"IF(D241=\"\",\"\",VLOOKUP($D241,Lists!$AP$2:$AR$78,3,FALSE))","v":""}]
[null,{"$f":"IF(D242=\"\",\"\",VLOOKUP($D242,Lists!$AP$2:$AR$78,2,FALSE))","v":""},{"$f":"IF(D242=\"\",\"\",VLOOKUP($D242,Lists!$AP$2:$AR$78,3,FALSE))","v":""}]
[null,{"$f":"IF(D243=\"\",\"\",VLOOKUP($D243,Lists!$AP$2:$AR$78,2,FALSE))","v":""},{"$f":"IF(D243=\"\",\"\",VLOOKUP($D243,Lists!$AP$2:$AR$78,3,FALSE))","v":""}]
[null,{"$f":"IF(D244=\"\",\"\",VLOOKUP($D244,Lists!$AP$2:$AR$78,2,FALSE))","v":""},{"$f":"IF(D244=\"\",\"\",VLOOKUP($D244,Lists!$AP$2:$AR$78,3,FALSE))","v":""}]
[null,{"$f":"IF(D245=\"\",\"\",VLOOKUP($D245,Lists!$AP$2:$AR$78,2,FALSE))","v":""},{"$f":"IF(D245=\"\",\"\",VLOOKUP($D245,Lists!$AP$2:$AR$78,3,FALSE))","v":""}]
[null,{"$f":"IF(D246=\"\",\"\",VLOOKUP($D246,Lists!$AP$2:$AR$78,2,FALSE))","v":""},{"$f":"IF(D246=\"\",\"\",VLOOKUP($D246,Lists!$AP$2:$AR$78,3,FALSE))","v":""}]
[null,{"$f":"IF(D247=\"\",\"\",VLOOKUP($D247,Lists!$AP$2:$AR$78,2,FALSE))","v":""},{"$f":"IF(D247=\"\",\"\",VLOOKUP($D247,Lists!$AP$2:$AR$78,3,FALSE))","v":""}]
[null,{"$f":"IF(D248=\"\",\"\",VLOOKUP($D248,Lists!$AP$2:$AR$78,2,FALSE))","v":""},{"$f":"IF(D248=\"\",\"\",VLOOKUP($D248,Lists!$AP$2:$AR$78,3,FALSE))","v":""}]
[null,{"$f":"IF(D249=\"\",\"\",VLOOKUP($D249,Lists!$AP$2:$AR$78,2,FALSE))","v":""},{"$f":"IF(D249=\"\",\"\",VLOOKUP($D249,Lists!$AP$2:$AR$78,3,FALSE))","v":""}]
[null,{"$f":"IF(D250=\"\",\"\",VLOOKUP($D250,Lists!$AP$2:$AR$78,2,FALSE))","v":""},{"$f":"IF(D250=\"\",\"\",VLOOKUP($D250,Lists!$AP$2:$AR$78,3,FALSE))","v":""}]
[null,{"$f":"IF(D251=\"\",\"\",VLOOKUP($D251,Lists!$AP$2:$AR$78,2,FALSE))","v":""},{"$f":"IF(D251=\"\",\"\",VLOOKUP($D251,Lists!$AP$2:$AR$78,3,FALSE))","v":""}]
[null,{"$f":"IF(D252=\"\",\"\",VLOOKUP($D252,Lists!$AP$2:$AR$78,2,FALSE))","v":""},{"$f":"IF(D252=\"\",\"\",VLOOKUP($D252,Lists!$AP$2:$AR$78,3,FALSE))","v":""}]
[null,{"$f":"IF(D253=\"\",\"\",VLOOKUP($D253,Lists!$AP$2:$AR$78,2,FALSE))","v":""},{"$f":"IF(D253=\"\",\"\",VLOOKUP($D253,Lists!$AP$2:$AR$78,3,FALSE))","v":""}]
[null,{"$f":"IF(D254=\"\",\"\",VLOOKUP($D254,Lists!$AP$2:$AR$78,2,FALSE))","v":""},{"$f":"IF(D254=\"\",\"\",VLOOKUP($D254,Lists!$AP$2:$AR$78,3,FALSE))","v":""}]
[null,{"$f":"IF(D255=\"\",\"\",VLOOKUP($D255,Lists!$AP$2:$AR$78,2,FALSE))","v":""},{"$f":"IF(D255=\"\",\"\",VLOOKUP($D255,Lists!$AP$2:$AR$78,3,FALSE))","v":""}]
[null,{"$f":"IF(D256=\"\",\"\",VLOOKUP($D256,Lists!$AP$2:$AR$78,2,FALSE))","v":""},{"$f":"IF(D256=\"\",\"\",VLOOKUP($D256,Lists!$AP$2:$AR$78,3,FALSE))","v":""}]
[null,{"$f":"IF(D257=\"\",\"\",VLOOKUP($D257,Lists!$AP$2:$AR$78,2,FALSE))","v":""},{"$f":"IF(D257=\"\",\"\",VLOOKUP($D257,Lists!$AP$2:$AR$78,3,FALSE))","v":""}]
[null,{"$f":"IF(D258=\"\",\"\",VLOOKUP($D258,Lists!$AP$2:$AR$78,2,FALSE))","v":""},{"$f":"IF(D258=\"\",\"\",VLOOKUP($D258,Lists!$AP$2:$AR$78,3,FALSE))","v":""}]
[null,{"$f":"IF(D259=\"\",\"\",VLOOKUP($D259,Lists!$AP$2:$AR$78,2,FALSE))","v":""},{"$f":"IF(D259=\"\",\"\",VLOOKUP($D259,Lists!$AP$2:$AR$78,3,FALSE))","v":""}]
[null,{"$f":"IF(D260=\"\",\"\",VLOOKUP($D260,Lists!$AP$2:$AR$78,2,FALSE))","v":""},{"$f":"IF(D260=\"\",\"\",VLOOKUP($D260,Lists!$AP$2:$AR$78,3,FALSE))","v":""}]
[null,{"$f":"IF(D261=\"\",\"\",VLOOKUP($D261,Lists!$AP$2:$AR$78,2,FALSE))","v":""},{"$f":"IF(D261=\"\",\"\",VLOOKUP($D261,Lists!$AP$2:$AR$78,3,FALSE))","v":""}]
[null,{"$f":"IF(D262=\"\",\"\",VLOOKUP($D262,Lists!$AP$2:$AR$78,2,FALSE))","v":""},{"$f":"IF(D262=\"\",\"\",VLOOKUP($D262,Lists!$AP$2:$AR$78,3,FALSE))","v":""}]
[null,{"$f":"IF(D263=\"\",\"\",VLOOKUP($D263,Lists!$AP$2:$AR$78,2,FALSE))","v":""},{"$f":"IF(D263=\"\",\"\",VLOOKUP($D263,Lists!$AP$2:$AR$78,3,FALSE))","v":""}]
[null,{"$f":"IF(D264=\"\",\"\",VLOOKUP($D264,Lists!$AP$2:$AR$78,2,FALSE))","v":""},{"$f":"IF(D264=\"\",\"\",VLOOKUP($D264,Lists!$AP$2:$AR$78,3,FALSE))","v":""}]
[null,{"$f":"IF(D265=\"\",\"\",VLOOKUP($D265,Lists!$AP$2:$AR$78,2,FALSE))","v":""},{"$f":"IF(D265=\"\",\"\",VLOOKUP($D265,Lists!$AP$2:$AR$78,3,FALSE))","v":""}]
[null,{"$f":"IF(D266=\"\",\"\",VLOOKUP($D266,Lists!$AP$2:$AR$78,2,FALSE))","v":""},{"$f":"IF(D266=\"\",\"\",VLOOKUP($D266,Lists!$AP$2:$AR$78,3,FALSE))","v":""}]
[null,{"$f":"IF(D267=\"\",\"\",VLOOKUP($D267,Lists!$AP$2:$AR$78,2,FALSE))","v":""},{"$f":"IF(D267=\"\",\"\",VLOOKUP($D267,Lists!$AP$2:$AR$78,3,FALSE))","v":""}]
[null,{"$f":"IF(D268=\"\",\"\",VLOOKUP($D268,Lists!$AP$2:$AR$78,2,FALSE))","v":""},{"$f":"IF(D268=\"\",\"\",VLOOKUP($D268,Lists!$AP$2:$AR$78,3,FALSE))","v":""}]
[null,{"$f":"IF(D269=\"\",\"\",VLOOKUP($D269,Lists!$AP$2:$AR$78,2,FALSE))","v":""},{"$f":"IF(D269=\"\",\"\",VLOOKUP($D269,Lists!$AP$2:$AR$78,3,FALSE))","v":""}]
[null,{"$f":"IF(D270=\"\",\"\",VLOOKUP($D270,Lists!$AP$2:$AR$78,2,FALSE))","v":""},{"$f":"IF(D270=\"\",\"\",VLOOKUP($D270,Lists!$AP$2:$AR$78,3,FALSE))","v":""}]
[null,{"$f":"IF(D271=\"\",\"\",VLOOKUP($D271,Lists!$AP$2:$AR$78,2,FALSE))","v":""},{"$f":"IF(D271=\"\",\"\",VLOOKUP($D271,Lists!$AP$2:$AR$78,3,FALSE))","v":""}]
[null,{"$f":"IF(D272=\"\",\"\",VLOOKUP($D272,Lists!$AP$2:$AR$78,2,FALSE))","v":""},{"$f":"IF(D272=\"\",\"\",VLOOKUP($D272,Lists!$AP$2:$AR$78,3,FALSE))","v":""}]
[null,{"$f":"IF(D273=\"\",\"\",VLOOKUP($D273,Lists!$AP$2:$AR$78,2,FALSE))","v":""},{"$f":"IF(D273=\"\",\"\",VLOOKUP($D273,Lists!$AP$2:$AR$78,3,FALSE))","v":""}]
[null,{"$f":"IF(D274=\"\",\"\",VLOOKUP($D274,Lists!$AP$2:$AR$78,2,FALSE))","v":""},{"$f":"IF(D274=\"\",\"\",VLOOKUP($D274,Lists!$AP$2:$AR$78,3,FALSE))","v":""}]
[null,{"$f":"IF(D275=\"\",\"\",VLOOKUP($D275,Lists!$AP$2:$AR$78,2,FALSE))","v":""},{"$f":"IF(D275=\"\",\"\",VLOOKUP($D275,Lists!$AP$2:$AR$78,3,FALSE))","v":""}]
[null,{"$f":"IF(D276=\"\",\"\",VLOOKUP($D276,Lists!$AP$2:$AR$78,2,FALSE))","v":""},{"$f":"IF(D276=\"\",\"\",VLOOKUP($D276,Lists!$AP$2:$AR$78,3,FALSE))","v":""}]
[null,{"$f":"IF(D277=\"\",\"\",VLOOKUP($D277,Lists!$AP$2:$AR$78,2,FALSE))","v":""},{"$f":"IF(D277=\"\",\"\",VLOOKUP($D277,Lists!$AP$2:$AR$78,3,FALSE))","v":""}]
[null,{"$f":"IF(D278=\"\",\"\",VLOOKUP($D278,Lists!$AP$2:$AR$78,2,FALSE))","v":""},{"$f":"IF(D278=\"\",\"\",VLOOKUP($D278,Lists!$AP$2:$AR$78,3,FALSE))","v":""}]
[null,{"$f":"IF(D279=\"\",\"\",VLOOKUP($D279,Lists!$AP$2:$AR$78,2,FALSE))","v":""},{"$f":"IF(D279=\"\",\"\",VLOOKUP($D279,Lists!$AP$2:$AR$78,3,FALSE))","v":""}]
[null,{"$f":"IF(D280=\"\",\"\",VLOOKUP($D280,Lists!$AP$2:$AR$78,2,FALSE))","v":""},{"$f":"IF(D280=\"\",\"\",VLOOKUP($D280,Lists!$AP$2:$AR$78,3,FALSE))","v":""}]
[null,{"$f":"IF(D281=\"\",\"\",VLOOKUP($D281,Lists!$AP$2:$AR$78,2,FALSE))","v":""},{"$f":"IF(D281=\"\",\"\",VLOOKUP($D281,Lists!$AP$2:$AR$78,3,FALSE))","v":""}]
[null,{"$f":"IF(D282=\"\",\"\",VLOOKUP($D282,Lists!$AP$2:$AR$78,2,FALSE))","v":""},{"$f":"IF(D282=\"\",\"\",VLOOKUP($D282,Lists!$AP$2:$AR$78,3,FALSE))","v":""}]
[null,{"$f":"IF(D283=\"\",\"\",VLOOKUP($D283,Lists!$AP$2:$AR$78,2,FALSE))","v":""},{"$f":"IF(D283=\"\",\"\",VLOOKUP($D283,Lists!$AP$2:$AR$78,3,FALSE))","v":""}]
[null,{"$f":"IF(D284=\"\",\"\",VLOOKUP($D284,Lists!$AP$2:$AR$78,2,FALSE))","v":""},{"$f":"IF(D284=\"\",\"\",VLOOKUP($D284,Lists!$AP$2:$AR$78,3,FALSE))","v":""}]
[null,{"$f":"IF(D285=\"\",\"\",VLOOKUP($D285,Lists!$AP$2:$AR$78,2,FALSE))","v":""},{"$f":"IF(D285=\"\",\"\",VLOOKUP($D285,Lists!$AP$2:$AR$78,3,FALSE))","v":""}]
[null,{"$f":"IF(D286=\"\",\"\",VLOOKUP($D286,Lists!$AP$2:$AR$78,2,FALSE))","v":""},{"$f":"IF(D286=\"\",\"\",VLOOKUP($D286,Lists!$AP$2:$AR$78,3,FALSE))","v":""}]
[null,{"$f":"IF(D287=\"\",\"\",VLOOKUP($D287,Lists!$AP$2:$AR$78,2,FALSE))","v":""},{"$f":"IF(D287=\"\",\"\",VLOOKUP($D287,Lists!$AP$2:$AR$78,3,FALSE))","v":""}]
[null,{"$f":"IF(D288=\"\",\"\",VLOOKUP($D288,Lists!$AP$2:$AR$78,2,FALSE))","v":""},{"$f":"IF(D288=\"\",\"\",VLOOKUP($D288,Lists!$AP$2:$AR$78,3,FALSE))","v":""}]
[null,{"$f":"IF(D289=\"\",\"\",VLOOKUP($D289,Lists!$AP$2:$AR$78,2,FALSE))","v":""},{"$f":"IF(D289=\"\",\"\",VLOOKUP($D289,Lists!$AP$2:$AR$78,3,FALSE))","v":""}]
[null,{"$f":"IF(D290=\"\",\"\",VLOOKUP($D290,Lists!$AP$2:$AR$78,2,FALSE))","v":""},{"$f":"IF(D290=\"\",\"\",VLOOKUP($D290,Lists!$AP$2:$AR$78,3,FALSE))","v":""}]
[null,{"$f":"IF(D291=\"\",\"\",VLOOKUP($D291,Lists!$AP$2:$AR$78,2,FALSE))","v":""},{"$f":"IF(D291=\"\",\"\",VLOOKUP($D291,Lists!$AP$2:$AR$78,3,FALSE))","v":""}]
[null,{"$f":"IF(D292=\"\",\"\",VLOOKUP($D292,Lists!$AP$2:$AR$78,2,FALSE))","v":""},{"$f":"IF(D292=\"\",\"\",VLOOKUP($D292,Lists!$AP$2:$AR$78,3,FALSE))","v":""}]
[null,{"$f":"IF(D293=\"\",\"\",VLOOKUP($D293,Lists!$AP$2:$AR$78,2,FALSE))","v":""},{"$f":"IF(D293=\"\",\"\",VLOOKUP($D293,Lists!$AP$2:$AR$78,3,FALSE))","v":""}]
[null,{"$f":"IF(D294=\"\",\"\",VLOOKUP($D294,Lists!$AP$2:$AR$78,2,FALSE))","v":""},{"$f":"IF(D294=\"\",\"\",VLOOKUP($D294,Lists!$AP$2:$AR$78,3,FALSE))","v":""}]
[null,{"$f":"IF(D295=\"\",\"\",VLOOKUP($D295,Lists!$AP$2:$AR$78,2,FALSE))","v":""},{"$f":"IF(D295=\"\",\"\",VLOOKUP($D295,Lists!$AP$2:$AR$78,3,FALSE))","v":""}]
[null,{"$f":"IF(D296=\"\",\"\",VLOOKUP($D296,Lists!$AP$2:$AR$78,2,FALSE))","v":""},{"$f":"IF(D296=\"\",\"\",VLOOKUP($D296,Lists!$AP$2:$AR$78,3,FALSE))","v":""}]
[null,{"$f":"IF(D297=\"\",\"\",VLOOKUP($D297,Lists!$AP$2:$AR$78,2,FALSE))","v":""},{"$f":"IF(D297=\"\",\"\",VLOOKUP($D297,Lists!$AP$2:$AR$78,3,FALSE))","v":""}]
[null,{"$f":"IF(D298=\"\",\"\",VLOOKUP($D298,Lists!$AP$2:$AR$78,2,FALSE))","v":""},{"$f":"IF(D298=\"\",\"\",VLOOKUP($D298,Lists!$AP$2:$AR$78,3,FALSE))","v":""}]
[null,{"$f":"IF(D299=\"\",\"\",VLOOKUP($D299,Lists!$AP$2:$AR$78,2,FALSE))","v":""},{"$f":"IF(D299=\"\",\"\",VLOOKUP($D299,Lists!$AP$2:$AR$78,3,FALSE))","v":""}]
[null,{"$f":"IF(D300=\"\",\"\",VLOOKUP($D300,Lists!$AP$2:$AR$78,2,FALSE))","v":""},{"$f":"IF(D300=\"\",\"\",VLOOKUP($D300,Lists!$AP$2:$AR$78,3,FALSE))","v":""}]
[null,{"$f":"IF(D301=\"\",\"\",VLOOKUP($D301,Lists!$AP$2:$AR$78,2,FALSE))","v":""},{"$f":"IF(D301=\"\",\"\",VLOOKUP($D301,Lists!$AP$2:$AR$78,3,FALSE))","v":""}]
[null,{"$f":"IF(D302=\"\",\"\",VLOOKUP($D302,Lists!$AP$2:$AR$78,2,FALSE))","v":""},{"$f":"IF(D302=\"\",\"\",VLOOKUP($D302,Lists!$AP$2:$AR$78,3,FALSE))","v":""}]
[null,{"$f":"IF(D303=\"\",\"\",VLOOKUP($D303,Lists!$AP$2:$AR$78,2,FALSE))","v":""},{"$f":"IF(D303=\"\",\"\",VLOOKUP($D303,Lists!$AP$2:$AR$78,3,FALSE))","v":""}]
[null,{"$f":"IF(D304=\"\",\"\",VLOOKUP($D304,Lists!$AP$2:$AR$78,2,FALSE))","v":""},{"$f":"IF(D304=\"\",\"\",VLOOKUP($D304,Lists!$AP$2:$AR$78,3,FALSE))","v":""}]
[null,{"$f":"IF(D305=\"\",\"\",VLOOKUP($D305,Lists!$AP$2:$AR$78,2,FALSE))","v":""},{"$f":"IF(D305=\"\",\"\",VLOOKUP($D305,Lists!$AP$2:$AR$78,3,FALSE))","v":""}]
[null,{"$f":"IF(D306=\"\",\"\",VLOOKUP($D306,Lists!$AP$2:$AR$78,2,FALSE))","v":""},{"$f":"IF(D306=\"\",\"\",VLOOKUP($D306,Lists!$AP$2:$AR$78,3,FALSE))","v":""}]
[null,{"$f":"IF(D307=\"\",\"\",VLOOKUP($D307,Lists!$AP$2:$AR$78,2,FALSE))","v":""},{"$f":"IF(D307=\"\",\"\",VLOOKUP($D307,Lists!$AP$2:$AR$78,3,FALSE))","v":""}]
[null,{"$f":"IF(D308=\"\",\"\",VLOOKUP($D308,Lists!$AP$2:$AR$78,2,FALSE))","v":""},{"$f":"IF(D308=\"\",\"\",VLOOKUP($D308,Lists!$AP$2:$AR$78,3,FALSE))","v":""}]
[null,{"$f":"IF(D309=\"\",\"\",VLOOKUP($D309,Lists!$AP$2:$AR$78,2,FALSE))","v":""},{"$f":"IF(D309=\"\",\"\",VLOOKUP($D309,Lists!$AP$2:$AR$78,3,FALSE))","v":""}]
[null,{"$f":"IF(D310=\"\",\"\",VLOOKUP($D310,Lists!$AP$2:$AR$78,2,FALSE))","v":""},{"$f":"IF(D310=\"\",\"\",VLOOKUP($D310,Lists!$AP$2:$AR$78,3,FALSE))","v":""}]
[null,{"$f":"IF(D311=\"\",\"\",VLOOKUP($D311,Lists!$AP$2:$AR$78,2,FALSE))","v":""},{"$f":"IF(D311=\"\",\"\",VLOOKUP($D311,Lists!$AP$2:$AR$78,3,FALSE))","v":""}]
[null,{"$f":"IF(D312=\"\",\"\",VLOOKUP($D312,Lists!$AP$2:$AR$78,2,FALSE))","v":""},{"$f":"IF(D312=\"\",\"\",VLOOKUP($D312,Lists!$AP$2:$AR$78,3,FALSE))","v":""}]
[null,{"$f":"IF(D313=\"\",\"\",VLOOKUP($D313,Lists!$AP$2:$AR$78,2,FALSE))","v":""},{"$f":"IF(D313=\"\",\"\",VLOOKUP($D313,Lists!$AP$2:$AR$78,3,FALSE))","v":""}]
[null,{"$f":"IF(D314=\"\",\"\",VLOOKUP($D314,Lists!$AP$2:$AR$78,2,FALSE))","v":""},{"$f":"IF(D314=\"\",\"\",VLOOKUP($D314,Lists!$AP$2:$AR$78,3,FALSE))","v":""}]
[null,{"$f":"IF(D315=\"\",\"\",VLOOKUP($D315,Lists!$AP$2:$AR$78,2,FALSE))","v":""},{"$f":"IF(D315=\"\",\"\",VLOOKUP($D315,Lists!$AP$2:$AR$78,3,FALSE))","v":""}]
[null,{"$f":"IF(D316=\"\",\"\",VLOOKUP($D316,Lists!$AP$2:$AR$78,2,FALSE))","v":""},{"$f":"IF(D316=\"\",\"\",VLOOKUP($D316,Lists!$AP$2:$AR$78,3,FALSE))","v":""}]
[null,{"$f":"IF(D317=\"\",\"\",VLOOKUP($D317,Lists!$AP$2:$AR$78,2,FALSE))","v":""},{"$f":"IF(D317=\"\",\"\",VLOOKUP($D317,Lists!$AP$2:$AR$78,3,FALSE))","v":""}]
[null,{"$f":"IF(D318=\"\",\"\",VLOOKUP($D318,Lists!$AP$2:$AR$78,2,FALSE))","v":""},{"$f":"IF(D318=\"\",\"\",VLOOKUP($D318,Lists!$AP$2:$AR$78,3,FALSE))","v":""}]
[null,{"$f":"IF(D319=\"\",\"\",VLOOKUP($D319,Lists!$AP$2:$AR$78,2,FALSE))","v":""},{"$f":"IF(D319=\"\",\"\",VLOOKUP($D319,Lists!$AP$2:$AR$78,3,FALSE))","v":""}]
[null,{"$f":"IF(D320=\"\",\"\",VLOOKUP($D320,Lists!$AP$2:$AR$78,2,FALSE))","v":""},{"$f":"IF(D320=\"\",\"\",VLOOKUP($D320,Lists!$AP$2:$AR$78,3,FALSE))","v":""}]
[null,{"$f":"IF(D321=\"\",\"\",VLOOKUP($D321,Lists!$AP$2:$AR$78,2,FALSE))","v":""},{"$f":"IF(D321=\"\",\"\",VLOOKUP($D321,Lists!$AP$2:$AR$78,3,FALSE))","v":""}]
[null,{"$f":"IF(D322=\"\",\"\",VLOOKUP($D322,Lists!$AP$2:$AR$78,2,FALSE))","v":""},{"$f":"IF(D322=\"\",\"\",VLOOKUP($D322,Lists!$AP$2:$AR$78,3,FALSE))","v":""}]
[null,{"$f":"IF(D323=\"\",\"\",VLOOKUP($D323,Lists!$AP$2:$AR$78,2,FALSE))","v":""},{"$f":"IF(D323=\"\",\"\",VLOOKUP($D323,Lists!$AP$2:$AR$78,3,FALSE))","v":""}]
[null,{"$f":"IF(D324=\"\",\"\",VLOOKUP($D324,Lists!$AP$2:$AR$78,2,FALSE))","v":""},{"$f":"IF(D324=\"\",\"\",VLOOKUP($D324,Lists!$AP$2:$AR$78,3,FALSE))","v":""}]
[null,{"$f":"IF(D325=\"\",\"\",VLOOKUP($D325,Lists!$AP$2:$AR$78,2,FALSE))","v":""},{"$f":"IF(D325=\"\",\"\",VLOOKUP($D325,Lists!$AP$2:$AR$78,3,FALSE))","v":""}]
[null,{"$f":"IF(D326=\"\",\"\",VLOOKUP($D326,Lists!$AP$2:$AR$78,2,FALSE))","v":""},{"$f":"IF(D326=\"\",\"\",VLOOKUP($D326,Lists!$AP$2:$AR$78,3,FALSE))","v":""}]
[null,{"$f":"IF(D327=\"\",\"\",VLOOKUP($D327,Lists!$AP$2:$AR$78,2,FALSE))","v":""},{"$f":"IF(D327=\"\",\"\",VLOOKUP($D327,Lists!$AP$2:$AR$78,3,FALSE))","v":""}]
[null,{"$f":"IF(D328=\"\",\"\",VLOOKUP($D328,Lists!$AP$2:$AR$78,2,FALSE))","v":""},{"$f":"IF(D328=\"\",\"\",VLOOKUP($D328,Lists!$AP$2:$AR$78,3,FALSE))","v":""}]
[null,{"$f":"IF(D329=\"\",\"\",VLOOKUP($D329,Lists!$AP$2:$AR$78,2,FALSE))","v":""},{"$f":"IF(D329=\"\",\"\",VLOOKUP($D329,Lists!$AP$2:$AR$78,3,FALSE))","v":""}]
[null,{"$f":"IF(D330=\"\",\"\",VLOOKUP($D330,Lists!$AP$2:$AR$78,2,FALSE))","v":""},{"$f":"IF(D330=\"\",\"\",VLOOKUP($D330,Lists!$AP$2:$AR$78,3,FALSE))","v":""}]
[null,{"$f":"IF(D331=\"\",\"\",VLOOKUP($D331,Lists!$AP$2:$AR$78,2,FALSE))","v":""},{"$f":"IF(D331=\"\",\"\",VLOOKUP($D331,Lists!$AP$2:$AR$78,3,FALSE))","v":""}]
[null,{"$f":"IF(D332=\"\",\"\",VLOOKUP($D332,Lists!$AP$2:$AR$78,2,FALSE))","v":""},{"$f":"IF(D332=\"\",\"\",VLOOKUP($D332,Lists!$AP$2:$AR$78,3,FALSE))","v":""}]
[null,{"$f":"IF(D333=\"\",\"\",VLOOKUP($D333,Lists!$AP$2:$AR$78,2,FALSE))","v":""},{"$f":"IF(D333=\"\",\"\",VLOOKUP($D333,Lists!$AP$2:$AR$78,3,FALSE))","v":""}]
[null,{"$f":"IF(D334=\"\",\"\",VLOOKUP($D334,Lists!$AP$2:$AR$78,2,FALSE))","v":""},{"$f":"IF(D334=\"\",\"\",VLOOKUP($D334,Lists!$AP$2:$AR$78,3,FALSE))","v":""}]
[null,{"$f":"IF(D335=\"\",\"\",VLOOKUP($D335,Lists!$AP$2:$AR$78,2,FALSE))","v":""},{"$f":"IF(D335=\"\",\"\",VLOOKUP($D335,Lists!$AP$2:$AR$78,3,FALSE))","v":""}]
[null,{"$f":"IF(D336=\"\",\"\",VLOOKUP($D336,Lists!$AP$2:$AR$78,2,FALSE))","v":""},{"$f":"IF(D336=\"\",\"\",VLOOKUP($D336,Lists!$AP$2:$AR$78,3,FALSE))","v":""}]
[null,{"$f":"IF(D337=\"\",\"\",VLOOKUP($D337,Lists!$AP$2:$AR$78,2,FALSE))","v":""},{"$f":"IF(D337=\"\",\"\",VLOOKUP($D337,Lists!$AP$2:$AR$78,3,FALSE))","v":""}]
[null,{"$f":"IF(D338=\"\",\"\",VLOOKUP($D338,Lists!$AP$2:$AR$78,2,FALSE))","v":""},{"$f":"IF(D338=\"\",\"\",VLOOKUP($D338,Lists!$AP$2:$AR$78,3,FALSE))","v":""}]
[null,{"$f":"IF(D339=\"\",\"\",VLOOKUP($D339,Lists!$AP$2:$AR$78,2,FALSE))","v":""},{"$f":"IF(D339=\"\",\"\",VLOOKUP($D339,Lists!$AP$2:$AR$78,3,FALSE))","v":""}]
[null,{"$f":"IF(D340=\"\",\"\",VLOOKUP($D340,Lists!$AP$2:$AR$78,2,FALSE))","v":""},{"$f":"IF(D340=\"\",\"\",VLOOKUP($D340,Lists!$AP$2:$AR$78,3,FALSE))","v":""}]
[null,{"$f":"IF(D341=\"\",\"\",VLOOKUP($D341,Lists!$AP$2:$AR$78,2,FALSE))","v":""},{"$f":"IF(D341=\"\",\"\",VLOOKUP($D341,Lists!$AP$2:$AR$78,3,FALSE))","v":""}]
[null,{"$f":"IF(D342=\"\",\"\",VLOOKUP($D342,Lists!$AP$2:$AR$78,2,FALSE))","v":""},{"$f":"IF(D342=\"\",\"\",VLOOKUP($D342,Lists!$AP$2:$AR$78,3,FALSE))","v":""}]
[null,{"$f":"IF(D343=\"\",\"\",VLOOKUP($D343,Lists!$AP$2:$AR$78,2,FALSE))","v":""},{"$f":"IF(D343=\"\",\"\",VLOOKUP($D343,Lists!$AP$2:$AR$78,3,FALSE))","v":""}]
[null,{"$f":"IF(D344=\"\",\"\",VLOOKUP($D344,Lists!$AP$2:$AR$78,2,FALSE))","v":""},{"$f":"IF(D344=\"\",\"\",VLOOKUP($D344,Lists!$AP$2:$AR$78,3,FALSE))","v":""}]
[null,{"$f":"IF(D345=\"\",\"\",VLOOKUP($D345,Lists!$AP$2:$AR$78,2,FALSE))","v":""},{"$f":"IF(D345=\"\",\"\",VLOOKUP($D345,Lists!$AP$2:$AR$78,3,FALSE))","v":""}]
[null,{"$f":"IF(D346=\"\",\"\",VLOOKUP($D346,Lists!$AP$2:$AR$78,2,FALSE))","v":""},{"$f":"IF(D346=\"\",\"\",VLOOKUP($D346,Lists!$AP$2:$AR$78,3,FALSE))","v":""}]
[null,{"$f":"IF(D347=\"\",\"\",VLOOKUP($D347,Lists!$AP$2:$AR$78,2,FALSE))","v":""},{"$f":"IF(D347=\"\",\"\",VLOOKUP($D347,Lists!$AP$2:$AR$78,3,FALSE))","v":""}]
[null,{"$f":"IF(D348=\"\",\"\",VLOOKUP($D348,Lists!$AP$2:$AR$78,2,FALSE))","v":""},{"$f":"IF(D348=\"\",\"\",VLOOKUP($D348,Lists!$AP$2:$AR$78,3,FALSE))","v":""}]
[null,{"$f":"IF(D349=\"\",\"\",VLOOKUP($D349,Lists!$AP$2:$AR$78,2,FALSE))","v":""},{"$f":"IF(D349=\"\",\"\",VLOOKUP($D349,Lists!$AP$2:$AR$78,3,FALSE))","v":""}]
[null,{"$f":"IF(D350=\"\",\"\",VLOOKUP($D350,Lists!$AP$2:$AR$78,2,FALSE))","v":""},{"$f":"IF(D350=\"\",\"\",VLOOKUP($D350,Lists!$AP$2:$AR$78,3,FALSE))","v":""}]
[null,{"$f":"IF(D351=\"\",\"\",VLOOKUP($D351,Lists!$AP$2:$AR$78,2,FALSE))","v":""},{"$f":"IF(D351=\"\",\"\",VLOOKUP($D351,Lists!$AP$2:$AR$78,3,FALSE))","v":""}]
[null,{"$f":"IF(D352=\"\",\"\",VLOOKUP($D352,Lists!$AP$2:$AR$78,2,FALSE))","v":""},{"$f":"IF(D352=\"\",\"\",VLOOKUP($D352,Lists!$AP$2:$AR$78,3,FALSE))","v":""}]
[null,{"$f":"IF(D353=\"\",\"\",VLOOKUP($D353,Lists!$AP$2:$AR$78,2,FALSE))","v":""},{"$f":"IF(D353=\"\",\"\",VLOOKUP($D353,Lists!$AP$2:$AR$78,3,FALSE))","v":""}]
[null,{"$f":"IF(D354=\"\",\"\",VLOOKUP($D354,Lists!$AP$2:$AR$78,2,FALSE))","v":""},{"$f":"IF(D354=\"\",\"\",VLOOKUP($D354,Lists!$AP$2:$AR$78,3,FALSE))","v":""}]
[null,{"$f":"IF(D355=\"\",\"\",VLOOKUP($D355,Lists!$AP$2:$AR$78,2,FALSE))","v":""},{"$f":"IF(D355=\"\",\"\",VLOOKUP($D355,Lists!$AP$2:$AR$78,3,FALSE))","v":""}]
[null,{"$f":"IF(D356=\"\",\"\",VLOOKUP($D356,Lists!$AP$2:$AR$78,2,FALSE))","v":""},{"$f":"IF(D356=\"\",\"\",VLOOKUP($D356,Lists!$AP$2:$AR$78,3,FALSE))","v":""}]
[null,{"$f":"IF(D357=\"\",\"\",VLOOKUP($D357,Lists!$AP$2:$AR$78,2,FALSE))","v":""},{"$f":"IF(D357=\"\",\"\",VLOOKUP($D357,Lists!$AP$2:$AR$78,3,FALSE))","v":""}]
[null,{"$f":"IF(D358=\"\",\"\",VLOOKUP($D358,Lists!$AP$2:$AR$78,2,FALSE))","v":""},{"$f":"IF(D358=\"\",\"\",VLOOKUP($D358,Lists!$AP$2:$AR$78,3,FALSE))","v":""}]
[null,{"$f":"IF(D359=\"\",\"\",VLOOKUP($D359,Lists!$AP$2:$AR$78,2,FALSE))","v":""},{"$f":"IF(D359=\"\",\"\",VLOOKUP($D359,Lists!$AP$2:$AR$78,3,FALSE))","v":""}]
[null,{"$f":"IF(D360=\"\",\"\",VLOOKUP($D360,Lists!$AP$2:$AR$78,2,FALSE))","v":""},{"$f":"IF(D360=\"\",\"\",VLOOKUP($D360,Lists!$AP$2:$AR$78,3,FALSE))","v":""}]
[null,{"$f":"IF(D361=\"\",\"\",VLOOKUP($D361,Lists!$AP$2:$AR$78,2,FALSE))","v":""},{"$f":"IF(D361=\"\",\"\",VLOOKUP($D361,Lists!$AP$2:$AR$78,3,FALSE))","v":""}]
[null,{"$f":"IF(D362=\"\",\"\",VLOOKUP($D362,Lists!$AP$2:$AR$78,2,FALSE))","v":""},{"$f":"IF(D362=\"\",\"\",VLOOKUP($D362,Lists!$AP$2:$AR$78,3,FALSE))","v":""}]
[null,{"$f":"IF(D363=\"\",\"\",VLOOKUP($D363,Lists!$AP$2:$AR$78,2,FALSE))","v":""},{"$f":"IF(D363=\"\",\"\",VLOOKUP($D363,Lists!$AP$2:$AR$78,3,FALSE))","v":""}]
[null,{"$f":"IF(D364=\"\",\"\",VLOOKUP($D364,Lists!$AP$2:$AR$78,2,FALSE))","v":""},{"$f":"IF(D364=\"\",\"\",VLOOKUP($D364,Lists!$AP$2:$AR$78,3,FALSE))","v":""}]
[null,{"$f":"IF(D365=\"\",\"\",VLOOKUP($D365,Lists!$AP$2:$AR$78,2,FALSE))","v":""},{"$f":"IF(D365=\"\",\"\",VLOOKUP($D365,Lists!$AP$2:$AR$78,3,FALSE))","v":""}]
[null,{"$f":"IF(D366=\"\",\"\",VLOOKUP($D366,Lists!$AP$2:$AR$78,2,FALSE))","v":""},{"$f":"IF(D366=\"\",\"\",VLOOKUP($D366,Lists!$AP$2:$AR$78,3,FALSE))","v":""}]
[null,{"$f":"IF(D367=\"\",\"\",VLOOKUP($D367,Lists!$AP$2:$AR$78,2,FALSE))","v":""},{"$f":"IF(D367=\"\",\"\",VLOOKUP($D367,Lists!$AP$2:$AR$78,3,FALSE))","v":""}]
[null,{"$f":"IF(D368=\"\",\"\",VLOOKUP($D368,Lists!$AP$2:$AR$78,2,FALSE))","v":""},{"$f":"IF(D368=\"\",\"\",VLOOKUP($D368,Lists!$AP$2:$AR$78,3,FALSE))","v":""}]
[null,{"$f":"IF(D369=\"\",\"\",VLOOKUP($D369,Lists!$AP$2:$AR$78,2,FALSE))","v":""},{"$f":"IF(D369=\"\",\"\",VLOOKUP($D369,Lists!$AP$2:$AR$78,3,FALSE))","v":""}]
[null,{"$f":"IF(D370=\"\",\"\",VLOOKUP($D370,Lists!$AP$2:$AR$78,2,FALSE))","v":""},{"$f":"IF(D370=\"\",\"\",VLOOKUP($D370,Lists!$AP$2:$AR$78,3,FALSE))","v":""}]
[null,{"$f":"IF(D371=\"\",\"\",VLOOKUP($D371,Lists!$AP$2:$AR$78,2,FALSE))","v":""},{"$f":"IF(D371=\"\",\"\",VLOOKUP($D371,Lists!$AP$2:$AR$78,3,FALSE))","v":""}]
[null,{"$f":"IF(D372=\"\",\"\",VLOOKUP($D372,Lists!$AP$2:$AR$78,2,FALSE))","v":""},{"$f":"IF(D372=\"\",\"\",VLOOKUP($D372,Lists!$AP$2:$AR$78,3,FALSE))","v":""}]
[null,{"$f":"IF(D373=\"\",\"\",VLOOKUP($D373,Lists!$AP$2:$AR$78,2,FALSE))","v":""},{"$f":"IF(D373=\"\",\"\",VLOOKUP($D373,Lists!$AP$2:$AR$78,3,FALSE))","v":""}]
[null,{"$f":"IF(D374=\"\",\"\",VLOOKUP($D374,Lists!$AP$2:$AR$78,2,FALSE))","v":""},{"$f":"IF(D374=\"\",\"\",VLOOKUP($D374,Lists!$AP$2:$AR$78,3,FALSE))","v":""}]
[null,{"$f":"IF(D375=\"\",\"\",VLOOKUP($D375,Lists!$AP$2:$AR$78,2,FALSE))","v":""},{"$f":"IF(D375=\"\",\"\",VLOOKUP($D375,Lists!$AP$2:$AR$78,3,FALSE))","v":""}]
[null,{"$f":"IF(D376=\"\",\"\",VLOOKUP($D376,Lists!$AP$2:$AR$78,2,FALSE))","v":""},{"$f":"IF(D376=\"\",\"\",VLOOKUP($D376,Lists!$AP$2:$AR$78,3,FALSE))","v":""}]
[null,{"$f":"IF(D377=\"\",\"\",VLOOKUP($D377,Lists!$AP$2:$AR$78,2,FALSE))","v":""},{"$f":"IF(D377=\"\",\"\",VLOOKUP($D377,Lists!$AP$2:$AR$78,3,FALSE))","v":""}]
[null,{"$f":"IF(D378=\"\",\"\",VLOOKUP($D378,Lists!$AP$2:$AR$78,2,FALSE))","v":""},{"$f":"IF(D378=\"\",\"\",VLOOKUP($D378,Lists!$AP$2:$AR$78,3,FALSE))","v":""}]
[null,{"$f":"IF(D379=\"\",\"\",VLOOKUP($D379,Lists!$AP$2:$AR$78,2,FALSE))","v":""},{"$f":"IF(D379=\"\",\"\",VLOOKUP($D379,Lists!$AP$2:$AR$78,3,FALSE))","v":""}]
[null,{"$f":"IF(D380=\"\",\"\",VLOOKUP($D380,Lists!$AP$2:$AR$78,2,FALSE))","v":""},{"$f":"IF(D380=\"\",\"\",VLOOKUP($D380,Lists!$AP$2:$AR$78,3,FALSE))","v":""}]
[null,{"$f":"IF(D381=\"\",\"\",VLOOKUP($D381,Lists!$AP$2:$AR$78,2,FALSE))","v":""},{"$f":"IF(D381=\"\",\"\",VLOOKUP($D381,Lists!$AP$2:$AR$78,3,FALSE))","v":""}]
[null,{"$f":"IF(D382=\"\",\"\",VLOOKUP($D382,Lists!$AP$2:$AR$78,2,FALSE))","v":""},{"$f":"IF(D382=\"\",\"\",VLOOKUP($D382,Lists!$AP$2:$AR$78,3,FALSE))","v":""}]
[null,{"$f":"IF(D383=\"\",\"\",VLOOKUP($D383,Lists!$AP$2:$AR$78,2,FALSE))","v":""},{"$f":"IF(D383=\"\",\"\",VLOOKUP($D383,Lists!$AP$2:$AR$78,3,FALSE))","v":""}]
[null,{"$f":"IF(D384=\"\",\"\",VLOOKUP($D384,Lists!$AP$2:$AR$78,2,FALSE))","v":""},{"$f":"IF(D384=\"\",\"\",VLOOKUP($D384,Lists!$AP$2:$AR$78,3,FALSE))","v":""}]
[null,{"$f":"IF(D385=\"\",\"\",VLOOKUP($D385,Lists!$AP$2:$AR$78,2,FALSE))","v":""},{"$f":"IF(D385=\"\",\"\",VLOOKUP($D385,Lists!$AP$2:$AR$78,3,FALSE))","v":""}]
[null,{"$f":"IF(D386=\"\",\"\",VLOOKUP($D386,Lists!$AP$2:$AR$78,2,FALSE))","v":""},{"$f":"IF(D386=\"\",\"\",VLOOKUP($D386,Lists!$AP$2:$AR$78,3,FALSE))","v":""}]
[null,{"$f":"IF(D387=\"\",\"\",VLOOKUP($D387,Lists!$AP$2:$AR$78,2,FALSE))","v":""},{"$f":"IF(D387=\"\",\"\",VLOOKUP($D387,Lists!$AP$2:$AR$78,3,FALSE))","v":""}]
[null,{"$f":"IF(D388=\"\",\"\",VLOOKUP($D388,Lists!$AP$2:$AR$78,2,FALSE))","v":""},{"$f":"IF(D388=\"\",\"\",VLOOKUP($D388,Lists!$AP$2:$AR$78,3,FALSE))","v":""}]
[null,{"$f":"IF(D389=\"\",\"\",VLOOKUP($D389,Lists!$AP$2:$AR$78,2,FALSE))","v":""},{"$f":"IF(D389=\"\",\"\",VLOOKUP($D389,Lists!$AP$2:$AR$78,3,FALSE))","v":""}]
[null,{"$f":"IF(D390=\"\",\"\",VLOOKUP($D390,Lists!$AP$2:$AR$78,2,FALSE))","v":""},{"$f":"IF(D390=\"\",\"\",VLOOKUP($D390,Lists!$AP$2:$AR$78,3,FALSE))","v":""}]
[null,{"$f":"IF(D391=\"\",\"\",VLOOKUP($D391,Lists!$AP$2:$AR$78,2,FALSE))","v":""},{"$f":"IF(D391=\"\",\"\",VLOOKUP($D391,Lists!$AP$2:$AR$78,3,FALSE))","v":""}]
[null,{"$f":"IF(D392=\"\",\"\",VLOOKUP($D392,Lists!$AP$2:$AR$78,2,FALSE))","v":""},{"$f":"IF(D392=\"\",\"\",VLOOKUP($D392,Lists!$AP$2:$AR$78,3,FALSE))","v":""}]
[null,{"$f":"IF(D393=\"\",\"\",VLOOKUP($D393,Lists!$AP$2:$AR$78,2,FALSE))","v":""},{"$f":"IF(D393=\"\",\"\",VLOOKUP($D393,Lists!$AP$2:$AR$78,3,FALSE))","v":""}]
[null,{"$f":"IF(D394=\"\",\"\",VLOOKUP($D394,Lists!$AP$2:$AR$78,2,FALSE))","v":""},{"$f":"IF(D394=\"\",\"\",VLOOKUP($D394,Lists!$AP$2:$AR$78,3,FALSE))","v":""}]
[null,{"$f":"IF(D395=\"\",\"\",VLOOKUP($D395,Lists!$AP$2:$AR$78,2,FALSE))","v":""},{"$f":"IF(D395=\"\",\"\",VLOOKUP($D395,Lists!$AP$2:$AR$78,3,FALSE))","v":""}]
[null,{"$f":"IF(D396=\"\",\"\",VLOOKUP($D396,Lists!$AP$2:$AR$78,2,FALSE))","v":""},{"$f":"IF(D396=\"\",\"\",VLOOKUP($D396,Lists!$AP$2:$AR$78,3,FALSE))","v":""}]
[null,{"$f":"IF(D397=\"\",\"\",VLOOKUP($D397,Lists!$AP$2:$AR$78,2,FALSE))","v":""},{"$f":"IF(D397=\"\",\"\",VLOOKUP($D397,Lists!$AP$2:$AR$78,3,FALSE))","v":""}]
[null,{"$f":"IF(D398=\"\",\"\",VLOOKUP($D398,Lists!$AP$2:$AR$78,2,FALSE))","v":""},{"$f":"IF(D398=\"\",\"\",VLOOKUP($D398,Lists!$AP$2:$AR$78,3,FALSE))","v":""}]
[null,{"$f":"IF(D399=\"\",\"\",VLOOKUP($D399,Lists!$AP$2:$AR$78,2,FALSE))","v":""},{"$f":"IF(D399=\"\",\"\",VLOOKUP($D399,Lists!$AP$2:$AR$78,3,FALSE))","v":""}]
[null,{"$f":"IF(D400=\"\",\"\",VLOOKUP($D400,Lists!$AP$2:$AR$78,2,FALSE))","v":""},{"$f":"IF(D400=\"\",\"\",VLOOKUP($D400,Lists!$AP$2:$AR$78,3,FALSE))","v":""}]
[null,{"$f":"IF(D401=\"\",\"\",VLOOKUP($D401,Lists!$AP$2:$AR$78,2,FALSE))","v":""},{"$f":"IF(D401=\"\",\"\",VLOOKUP($D401,Lists!$AP$2:$AR$78,3,FALSE))","v":""}]
[null,{"$f":"IF(D402=\"\",\"\",VLOOKUP($D402,Lists!$AP$2:$AR$78,2,FALSE))","v":""},{"$f":"IF(D402=\"\",\"\",VLOOKUP($D402,Lists!$AP$2:$AR$78,3,FALSE))","v":""}]
[null,{"$f":"IF(D403=\"\",\"\",VLOOKUP($D403,Lists!$AP$2:$AR$78,2,FALSE))","v":""},{"$f":"IF(D403=\"\",\"\",VLOOKUP($D403,Lists!$AP$2:$AR$78,3,FALSE))","v":""}]
[null,{"$f":"IF(D404=\"\",\"\",VLOOKUP($D404,Lists!$AP$2:$AR$78,2,FALSE))","v":""},{"$f":"IF(D404=\"\",\"\",VLOOKUP($D404,Lists!$AP$2:$AR$78,3,FALSE))","v":""}]
[null,{"$f":"IF(D405=\"\",\"\",VLOOKUP($D405,Lists!$AP$2:$AR$78,2,FALSE))","v":""},{"$f":"IF(D405=\"\",\"\",VLOOKUP($D405,Lists!$AP$2:$AR$78,3,FALSE))","v":""}]
[null,{"$f":"IF(D406=\"\",\"\",VLOOKUP($D406,Lists!$AP$2:$AR$78,2,FALSE))","v":""},{"$f":"IF(D406=\"\",\"\",VLOOKUP($D406,Lists!$AP$2:$AR$78,3,FALSE))","v":""}]
[null,{"$f":"IF(D407=\"\",\"\",VLOOKUP($D407,Lists!$AP$2:$AR$78,2,FALSE))","v":""},{"$f":"IF(D407=\"\",\"\",VLOOKUP($D407,Lists!$AP$2:$AR$78,3,FALSE))","v":""}]
[null,{"$f":"IF(D408=\"\",\"\",VLOOKUP($D408,Lists!$AP$2:$AR$78,2,FALSE))","v":""},{"$f":"IF(D408=\"\",\"\",VLOOKUP($D408,Lists!$AP$2:$AR$78,3,FALSE))","v":""}]
[null,{"$f":"IF(D409=\"\",\"\",VLOOKUP($D409,Lists!$AP$2:$AR$78,2,FALSE))","v":""},{"$f":"IF(D409=\"\",\"\",VLOOKUP($D409,Lists!$AP$2:$AR$78,3,FALSE))","v":""}]
[null,{"$f":"IF(D410=\"\",\"\",VLOOKUP($D410,Lists!$AP$2:$AR$78,2,FALSE))","v":""},{"$f":"IF(D410=\"\",\"\",VLOOKUP($D410,Lists!$AP$2:$AR$78,3,FALSE))","v":""}]
[null,{"$f":"IF(D411=\"\",\"\",VLOOKUP($D411,Lists!$AP$2:$AR$78,2,FALSE))","v":""},{"$f":"IF(D411=\"\",\"\",VLOOKUP($D411,Lists!$AP$2:$AR$78,3,FALSE))","v":""}]
[null,{"$f":"IF(D412=\"\",\"\",VLOOKUP($D412,Lists!$AP$2:$AR$78,2,FALSE))","v":""},{"$f":"IF(D412=\"\",\"\",VLOOKUP($D412,Lists!$AP$2:$AR$78,3,FALSE))","v":""}]
[null,{"$f":"IF(D413=\"\",\"\",VLOOKUP($D413,Lists!$AP$2:$AR$78,2,FALSE))","v":""},{"$f":"IF(D413=\"\",\"\",VLOOKUP($D413,Lists!$AP$2:$AR$78,3,FALSE))","v":""}]
[null,{"$f":"IF(D414=\"\",\"\",VLOOKUP($D414,Lists!$AP$2:$AR$78,2,FALSE))","v":""},{"$f":"IF(D414=\"\",\"\",VLOOKUP($D414,Lists!$AP$2:$AR$78,3,FALSE))","v":""}]
[null,{"$f":"IF(D415=\"\",\"\",VLOOKUP($D415,Lists!$AP$2:$AR$78,2,FALSE))","v":""},{"$f":"IF(D415=\"\",\"\",VLOOKUP($D415,Lists!$AP$2:$AR$78,3,FALSE))","v":""}]
[null,{"$f":"IF(D416=\"\",\"\",VLOOKUP($D416,Lists!$AP$2:$AR$78,2,FALSE))","v":""},{"$f":"IF(D416=\"\",\"\",VLOOKUP($D416,Lists!$AP$2:$AR$78,3,FALSE))","v":""}]
[null,{"$f":"IF(D417=\"\",\"\",VLOOKUP($D417,Lists!$AP$2:$AR$78,2,FALSE))","v":""},{"$f":"IF(D417=\"\",\"\",VLOOKUP($D417,Lists!$AP$2:$AR$78,3,FALSE))","v":""}]
[null,{"$f":"IF(D418=\"\",\"\",VLOOKUP($D418,Lists!$AP$2:$AR$78,2,FALSE))","v":""},{"$f":"IF(D418=\"\",\"\",VLOOKUP($D418,Lists!$AP$2:$AR$78,3,FALSE))","v":""}]
[null,{"$f":"IF(D419=\"\",\"\",VLOOKUP($D419,Lists!$AP$2:$AR$78,2,FALSE))","v":""},{"$f":"IF(D419=\"\",\"\",VLOOKUP($D419,Lists!$AP$2:$AR$78,3,FALSE))","v":""}]
[null,{"$f":"IF(D420=\"\",\"\",VLOOKUP($D420,Lists!$AP$2:$AR$78,2,FALSE))","v":""},{"$f":"IF(D420=\"\",\"\",VLOOKUP($D420,Lists!$AP$2:$AR$78,3,FALSE))","v":""}]
[null,{"$f":"IF(D421=\"\",\"\",VLOOKUP($D421,Lists!$AP$2:$AR$78,2,FALSE))","v":""},{"$f":"IF(D421=\"\",\"\",VLOOKUP($D421,Lists!$AP$2:$AR$78,3,FALSE))","v":""}]
[null,{"$f":"IF(D422=\"\",\"\",VLOOKUP($D422,Lists!$AP$2:$AR$78,2,FALSE))","v":""},{"$f":"IF(D422=\"\",\"\",VLOOKUP($D422,Lists!$AP$2:$AR$78,3,FALSE))","v":""}]
[null,{"$f":"IF(D423=\"\",\"\",VLOOKUP($D423,Lists!$AP$2:$AR$78,2,FALSE))","v":""},{"$f":"IF(D423=\"\",\"\",VLOOKUP($D423,Lists!$AP$2:$AR$78,3,FALSE))","v":""}]
[null,{"$f":"IF(D424=\"\",\"\",VLOOKUP($D424,Lists!$AP$2:$AR$78,2,FALSE))","v":""},{"$f":"IF(D424=\"\",\"\",VLOOKUP($D424,Lists!$AP$2:$AR$78,3,FALSE))","v":""}]
[null,{"$f":"IF(D425=\"\",\"\",VLOOKUP($D425,Lists!$AP$2:$AR$78,2,FALSE))","v":""},{"$f":"IF(D425=\"\",\"\",VLOOKUP($D425,Lists!$AP$2:$AR$78,3,FALSE))","v":""}]
[null,{"$f":"IF(D426=\"\",\"\",VLOOKUP($D426,Lists!$AP$2:$AR$78,2,FALSE))","v":""},{"$f":"IF(D426=\"\",\"\",VLOOKUP($D426,Lists!$AP$2:$AR$78,3,FALSE))","v":""}]
[null,{"$f":"IF(D427=\"\",\"\",VLOOKUP($D427,Lists!$AP$2:$AR$78,2,FALSE))","v":""},{"$f":"IF(D427=\"\",\"\",VLOOKUP($D427,Lists!$AP$2:$AR$78,3,FALSE))","v":""}]
[null,{"$f":"IF(D428=\"\",\"\",VLOOKUP($D428,Lists!$AP$2:$AR$78,2,FALSE))","v":""},{"$f":"IF(D428=\"\",\"\",VLOOKUP($D428,Lists!$AP$2:$AR$78,3,FALSE))","v":""}]
[null,{"$f":"IF(D429=\"\",\"\",VLOOKUP($D429,Lists!$AP$2:$AR$78,2,FALSE))","v":""},{"$f":"IF(D429=\"\",\"\",VLOOKUP($D429,Lists!$AP$2:$AR$78,3,FALSE))","v":""}]
[null,{"$f":"IF(D430=\"\",\"\",VLOOKUP($D430,Lists!$AP$2:$AR$78,2,FALSE))","v":""},{"$f":"IF(D430=\"\",\"\",VLOOKUP($D430,Lists!$AP$2:$AR$78,3,FALSE))","v":""}]
[null,{"$f":"IF(D431=\"\",\"\",VLOOKUP($D431,Lists!$AP$2:$AR$78,2,FALSE))","v":""},{"$f":"IF(D431=\"\",\"\",VLOOKUP($D431,Lists!$AP$2:$AR$78,3,FALSE))","v":""}]
[null,{"$f":"IF(D432=\"\",\"\",VLOOKUP($D432,Lists!$AP$2:$AR$78,2,FALSE))","v":""},{"$f":"IF(D432=\"\",\"\",VLOOKUP($D432,Lists!$AP$2:$AR$78,3,FALSE))","v":""}]
[null,{"$f":"IF(D433=\"\",\"\",VLOOKUP($D433,Lists!$AP$2:$AR$78,2,FALSE))","v":""},{"$f":"IF(D433=\"\",\"\",VLOOKUP($D433,Lists!$AP$2:$AR$78,3,FALSE))","v":""}]
[null,{"$f":"IF(D434=\"\",\"\",VLOOKUP($D434,Lists!$AP$2:$AR$78,2,FALSE))","v":""},{"$f":"IF(D434=\"\",\"\",VLOOKUP($D434,Lists!$AP$2:$AR$78,3,FALSE))","v":""}]
[null,{"$f":"IF(D435=\"\",\"\",VLOOKUP($D435,Lists!$AP$2:$AR$78,2,FALSE))","v":""},{"$f":"IF(D435=\"\",\"\",VLOOKUP($D435,Lists!$AP$2:$AR$78,3,FALSE))","v":""}]
[null,{"$f":"IF(D436=\"\",\"\",VLOOKUP($D436,Lists!$AP$2:$AR$78,2,FALSE))","v":""},{"$f":"IF(D436=\"\",\"\",VLOOKUP($D436,Lists!$AP$2:$AR$78,3,FALSE))","v":""}]
[null,{"$f":"IF(D437=\"\",\"\",VLOOKUP($D437,Lists!$AP$2:$AR$78,2,FALSE))","v":""},{"$f":"IF(D437=\"\",\"\",VLOOKUP($D437,Lists!$AP$2:$AR$78,3,FALSE))","v":""}]
[null,{"$f":"IF(D438=\"\",\"\",VLOOKUP($D438,Lists!$AP$2:$AR$78,2,FALSE))","v":""},{"$f":"IF(D438=\"\",\"\",VLOOKUP($D438,Lists!$AP$2:$AR$78,3,FALSE))","v":""}]
[null,{"$f":"IF(D439=\"\",\"\",VLOOKUP($D439,Lists!$AP$2:$AR$78,2,FALSE))","v":""},{"$f":"IF(D439=\"\",\"\",VLOOKUP($D439,Lists!$AP$2:$AR$78,3,FALSE))","v":""}]
[null,{"$f":"IF(D440=\"\",\"\",VLOOKUP($D440,Lists!$AP$2:$AR$78,2,FALSE))","v":""},{"$f":"IF(D440=\"\",\"\",VLOOKUP($D440,Lists!$AP$2:$AR$78,3,FALSE))","v":""}]
[null,{"$f":"IF(D441=\"\",\"\",VLOOKUP($D441,Lists!$AP$2:$AR$78,2,FALSE))","v":""},{"$f":"IF(D441=\"\",\"\",VLOOKUP($D441,Lists!$AP$2:$AR$78,3,FALSE))","v":""}]
[null,{"$f":"IF(D442=\"\",\"\",VLOOKUP($D442,Lists!$AP$2:$AR$78,2,FALSE))","v":""},{"$f":"IF(D442=\"\",\"\",VLOOKUP($D442,Lists!$AP$2:$AR$78,3,FALSE))","v":""}]
[null,{"$f":"IF(D443=\"\",\"\",VLOOKUP($D443,Lists!$AP$2:$AR$78,2,FALSE))","v":""},{"$f":"IF(D443=\"\",\"\",VLOOKUP($D443,Lists!$AP$2:$AR$78,3,FALSE))","v":""}]
[null,{"$f":"IF(D444=\"\",\"\",VLOOKUP($D444,Lists!$AP$2:$AR$78,2,FALSE))","v":""},{"$f":"IF(D444=\"\",\"\",VLOOKUP($D444,Lists!$AP$2:$AR$78,3,FALSE))","v":""}]
[null,{"$f":"IF(D445=\"\",\"\",VLOOKUP($D445,Lists!$AP$2:$AR$78,2,FALSE))","v":""},{"$f":"IF(D445=\"\",\"\",VLOOKUP($D445,Lists!$AP$2:$AR$78,3,FALSE))","v":""}]
[null,{"$f":"IF(D446=\"\",\"\",VLOOKUP($D446,Lists!$AP$2:$AR$78,2,FALSE))","v":""},{"$f":"IF(D446=\"\",\"\",VLOOKUP($D446,Lists!$AP$2:$AR$78,3,FALSE))","v":""}]
[null,{"$f":"IF(D447=\"\",\"\",VLOOKUP($D447,Lists!$AP$2:$AR$78,2,FALSE))","v":""},{"$f":"IF(D447=\"\",\"\",VLOOKUP($D447,Lists!$AP$2:$AR$78,3,FALSE))","v":""}]
[null,{"$f":"IF(D448=\"\",\"\",VLOOKUP($D448,Lists!$AP$2:$AR$78,2,FALSE))","v":""},{"$f":"IF(D448=\"\",\"\",VLOOKUP($D448,Lists!$AP$2:$AR$78,3,FALSE))","v":""}]
[null,{"$f":"IF(D449=\"\",\"\",VLOOKUP($D449,Lists!$AP$2:$AR$78,2,FALSE))","v":""},{"$f":"IF(D449=\"\",\"\",VLOOKUP($D449,Lists!$AP$2:$AR$78,3,FALSE))","v":""}]
[null,{"$f":"IF(D450=\"\",\"\",VLOOKUP($D450,Lists!$AP$2:$AR$78,2,FALSE))","v":""},{"$f":"IF(D450=\"\",\"\",VLOOKUP($D450,Lists!$AP$2:$AR$78,3,FALSE))","v":""}]
[null,{"$f":"IF(D451=\"\",\"\",VLOOKUP($D451,Lists!$AP$2:$AR$78,2,FALSE))","v":""},{"$f":"IF(D451=\"\",\"\",VLOOKUP($D451,Lists!$AP$2:$AR$78,3,FALSE))","v":""}]
[null,{"$f":"IF(D452=\"\",\"\",VLOOKUP($D452,Lists!$AP$2:$AR$78,2,FALSE))","v":""},{"$f":"IF(D452=\"\",\"\",VLOOKUP($D452,Lists!$AP$2:$AR$78,3,FALSE))","v":""}]
[null,{"$f":"IF(D453=\"\",\"\",VLOOKUP($D453,Lists!$AP$2:$AR$78,2,FALSE))","v":""},{"$f":"IF(D453=\"\",\"\",VLOOKUP($D453,Lists!$AP$2:$AR$78,3,FALSE))","v":""}]
[null,{"$f":"IF(D454=\"\",\"\",VLOOKUP($D454,Lists!$AP$2:$AR$78,2,FALSE))","v":""},{"$f":"IF(D454=\"\",\"\",VLOOKUP($D454,Lists!$AP$2:$AR$78,3,FALSE))","v":""}]
[null,{"$f":"IF(D455=\"\",\"\",VLOOKUP($D455,Lists!$AP$2:$AR$78,2,FALSE))","v":""},{"$f":"IF(D455=\"\",\"\",VLOOKUP($D455,Lists!$AP$2:$AR$78,3,FALSE))","v":""}]
[null,{"$f":"IF(D456=\"\",\"\",VLOOKUP($D456,Lists!$AP$2:$AR$78,2,FALSE))","v":""},{"$f":"IF(D456=\"\",\"\",VLOOKUP($D456,Lists!$AP$2:$AR$78,3,FALSE))","v":""}]
[null,{"$f":"IF(D457=\"\",\"\",VLOOKUP($D457,Lists!$AP$2:$AR$78,2,FALSE))","v":""},{"$f":"IF(D457=\"\",\"\",VLOOKUP($D457,Lists!$AP$2:$AR$78,3,FALSE))","v":""}]
[null,{"$f":"IF(D458=\"\",\"\",VLOOKUP($D458,Lists!$AP$2:$AR$78,2,FALSE))","v":""},{"$f":"IF(D458=\"\",\"\",VLOOKUP($D458,Lists!$AP$2:$AR$78,3,FALSE))","v":""}]
[null,{"$f":"IF(D459=\"\",\"\",VLOOKUP($D459,Lists!$AP$2:$AR$78,2,FALSE))","v":""},{"$f":"IF(D459=\"\",\"\",VLOOKUP($D459,Lists!$AP$2:$AR$78,3,FALSE))","v":""}]
[null,{"$f":"IF(D460=\"\",\"\",VLOOKUP($D460,Lists!$AP$2:$AR$78,2,FALSE))","v":""},{"$f":"IF(D460=\"\",\"\",VLOOKUP($D460,Lists!$AP$2:$AR$78,3,FALSE))","v":""}]
[null,{"$f":"IF(D461=\"\",\"\",VLOOKUP($D461,Lists!$AP$2:$AR$78,2,FALSE))","v":""},{"$f":"IF(D461=\"\",\"\",VLOOKUP($D461,Lists!$AP$2:$AR$78,3,FALSE))","v":""}]
[null,{"$f":"IF(D462=\"\",\"\",VLOOKUP($D462,Lists!$AP$2:$AR$78,2,FALSE))","v":""},{"$f":"IF(D462=\"\",\"\",VLOOKUP($D462,Lists!$AP$2:$AR$78,3,FALSE))","v":""}]
[null,{"$f":"IF(D463=\"\",\"\",VLOOKUP($D463,Lists!$AP$2:$AR$78,2,FALSE))","v":""},{"$f":"IF(D463=\"\",\"\",VLOOKUP($D463,Lists!$AP$2:$AR$78,3,FALSE))","v":""}]
[null,{"$f":"IF(D464=\"\",\"\",VLOOKUP($D464,Lists!$AP$2:$AR$78,2,FALSE))","v":""},{"$f":"IF(D464=\"\",\"\",VLOOKUP($D464,Lists!$AP$2:$AR$78,3,FALSE))","v":""}]
[null,{"$f":"IF(D465=\"\",\"\",VLOOKUP($D465,Lists!$AP$2:$AR$78,2,FALSE))","v":""},{"$f":"IF(D465=\"\",\"\",VLOOKUP($D465,Lists!$AP$2:$AR$78,3,FALSE))","v":""}]
[null,{"$f":"IF(D466=\"\",\"\",VLOOKUP($D466,Lists!$AP$2:$AR$78,2,FALSE))","v":""},{"$f":"IF(D466=\"\",\"\",VLOOKUP($D466,Lists!$AP$2:$AR$78,3,FALSE))","v":""}]
[null,{"$f":"IF(D467=\"\",\"\",VLOOKUP($D467,Lists!$AP$2:$AR$78,2,FALSE))","v":""},{"$f":"IF(D467=\"\",\"\",VLOOKUP($D467,Lists!$AP$2:$AR$78,3,FALSE))","v":""}]
[null,{"$f":"IF(D468=\"\",\"\",VLOOKUP($D468,Lists!$AP$2:$AR$78,2,FALSE))","v":""},{"$f":"IF(D468=\"\",\"\",VLOOKUP($D468,Lists!$AP$2:$AR$78,3,FALSE))","v":""}]
[null,{"$f":"IF(D469=\"\",\"\",VLOOKUP($D469,Lists!$AP$2:$AR$78,2,FALSE))","v":""},{"$f":"IF(D469=\"\",\"\",VLOOKUP($D469,Lists!$AP$2:$AR$78,3,FALSE))","v":""}]
[null,{"$f":"IF(D470=\"\",\"\",VLOOKUP($D470,Lists!$AP$2:$AR$78,2,FALSE))","v":""},{"$f":"IF(D470=\"\",\"\",VLOOKUP($D470,Lists!$AP$2:$AR$78,3,FALSE))","v":""}]
[null,{"$f":"IF(D471=\"\",\"\",VLOOKUP($D471,Lists!$AP$2:$AR$78,2,FALSE))","v":""},{"$f":"IF(D471=\"\",\"\",VLOOKUP($D471,Lists!$AP$2:$AR$78,3,FALSE))","v":""}]
[null,{"$f":"IF(D472=\"\",\"\",VLOOKUP($D472,Lists!$AP$2:$AR$78,2,FALSE))","v":""},{"$f":"IF(D472=\"\",\"\",VLOOKUP($D472,Lists!$AP$2:$AR$78,3,FALSE))","v":""}]
[null,{"$f":"IF(D473=\"\",\"\",VLOOKUP($D473,Lists!$AP$2:$AR$78,2,FALSE))","v":""},{"$f":"IF(D473=\"\",\"\",VLOOKUP($D473,Lists!$AP$2:$AR$78,3,FALSE))","v":""}]
[null,{"$f":"IF(D474=\"\",\"\",VLOOKUP($D474,Lists!$AP$2:$AR$78,2,FALSE))","v":""},{"$f":"IF(D474=\"\",\"\",VLOOKUP($D474,Lists!$AP$2:$AR$78,3,FALSE))","v":""}]
[null,{"$f":"IF(D475=\"\",\"\",VLOOKUP($D475,Lists!$AP$2:$AR$78,2,FALSE))","v":""},{"$f":"IF(D475=\"\",\"\",VLOOKUP($D475,Lists!$AP$2:$AR$78,3,FALSE))","v":""}]
[null,{"$f":"IF(D476=\"\",\"\",VLOOKUP($D476,Lists!$AP$2:$AR$78,2,FALSE))","v":""},{"$f":"IF(D476=\"\",\"\",VLOOKUP($D476,Lists!$AP$2:$AR$78,3,FALSE))","v":""}]
[null,{"$f":"IF(D477=\"\",\"\",VLOOKUP($D477,Lists!$AP$2:$AR$78,2,FALSE))","v":""},{"$f":"IF(D477=\"\",\"\",VLOOKUP($D477,Lists!$AP$2:$AR$78,3,FALSE))","v":""}]
[null,{"$f":"IF(D478=\"\",\"\",VLOOKUP($D478,Lists!$AP$2:$AR$78,2,FALSE))","v":""},{"$f":"IF(D478=\"\",\"\",VLOOKUP($D478,Lists!$AP$2:$AR$78,3,FALSE))","v":""}]
[null,{"$f":"IF(D479=\"\",\"\",VLOOKUP($D479,Lists!$AP$2:$AR$78,2,FALSE))","v":""},{"$f":"IF(D479=\"\",\"\",VLOOKUP($D479,Lists!$AP$2:$AR$78,3,FALSE))","v":""}]
[null,{"$f":"IF(D480=\"\",\"\",VLOOKUP($D480,Lists!$AP$2:$AR$78,2,FALSE))","v":""},{"$f":"IF(D480=\"\",\"\",VLOOKUP($D480,Lists!$AP$2:$AR$78,3,FALSE))","v":""}]
[null,{"$f":"IF(D481=\"\",\"\",VLOOKUP($D481,Lists!$AP$2:$AR$78,2,FALSE))","v":""},{"$f":"IF(D481=\"\",\"\",VLOOKUP($D481,Lists!$AP$2:$AR$78,3,FALSE))","v":""}]
[null,{"$f":"IF(D482=\"\",\"\",VLOOKUP($D482,Lists!$AP$2:$AR$78,2,FALSE))","v":""},{"$f":"IF(D482=\"\",\"\",VLOOKUP($D482,Lists!$AP$2:$AR$78,3,FALSE))","v":""}]
[null,{"$f":"IF(D483=\"\",\"\",VLOOKUP($D483,Lists!$AP$2:$AR$78,2,FALSE))","v":""},{"$f":"IF(D483=\"\",\"\",VLOOKUP($D483,Lists!$AP$2:$AR$78,3,FALSE))","v":""}]
[null,{"$f":"IF(D484=\"\",\"\",VLOOKUP($D484,Lists!$AP$2:$AR$78,2,FALSE))","v":""},{"$f":"IF(D484=\"\",\"\",VLOOKUP($D484,Lists!$AP$2:$AR$78,3,FALSE))","v":""}]
[null,{"$f":"IF(D485=\"\",\"\",VLOOKUP($D485,Lists!$AP$2:$AR$78,2,FALSE))","v":""},{"$f":"IF(D485=\"\",\"\",VLOOKUP($D485,Lists!$AP$2:$AR$78,3,FALSE))","v":""}]
[null,{"$f":"IF(D486=\"\",\"\",VLOOKUP($D486,Lists!$AP$2:$AR$78,2,FALSE))","v":""},{"$f":"IF(D486=\"\",\"\",VLOOKUP($D486,Lists!$AP$2:$AR$78,3,FALSE))","v":""}]
[null,{"$f":"IF(D487=\"\",\"\",VLOOKUP($D487,Lists!$AP$2:$AR$78,2,FALSE))","v":""},{"$f":"IF(D487=\"\",\"\",VLOOKUP($D487,Lists!$AP$2:$AR$78,3,FALSE))","v":""}]
[null,{"$f":"IF(D488=\"\",\"\",VLOOKUP($D488,Lists!$AP$2:$AR$78,2,FALSE))","v":""},{"$f":"IF(D488=\"\",\"\",VLOOKUP($D488,Lists!$AP$2:$AR$78,3,FALSE))","v":""}]
[null,{"$f":"IF(D489=\"\",\"\",VLOOKUP($D489,Lists!$AP$2:$AR$78,2,FALSE))","v":""},{"$f":"IF(D489=\"\",\"\",VLOOKUP($D489,Lists!$AP$2:$AR$78,3,FALSE))","v":""}]
[null,{"$f":"IF(D490=\"\",\"\",VLOOKUP($D490,Lists!$AP$2:$AR$78,2,FALSE))","v":""},{"$f":"IF(D490=\"\",\"\",VLOOKUP($D490,Lists!$AP$2:$AR$78,3,FALSE))","v":""}]
[null,{"$f":"IF(D491=\"\",\"\",VLOOKUP($D491,Lists!$AP$2:$AR$78,2,FALSE))","v":""},{"$f":"IF(D491=\"\",\"\",VLOOKUP($D491,Lists!$AP$2:$AR$78,3,FALSE))","v":""}]
[null,{"$f":"IF(D492=\"\",\"\",VLOOKUP($D492,Lists!$AP$2:$AR$78,2,FALSE))","v":""},{"$f":"IF(D492=\"\",\"\",VLOOKUP($D492,Lists!$AP$2:$AR$78,3,FALSE))","v":""}]
[null,{"$f":"IF(D493=\"\",\"\",VLOOKUP($D493,Lists!$AP$2:$AR$78,2,FALSE))","v":""},{"$f":"IF(D493=\"\",\"\",VLOOKUP($D493,Lists!$AP$2:$AR$78,3,FALSE))","v":""}]
[null,{"$f":"IF(D494=\"\",\"\",VLOOKUP($D494,Lists!$AP$2:$AR$78,2,FALSE))","v":""},{"$f":"IF(D494=\"\",\"\",VLOOKUP($D494,Lists!$AP$2:$AR$78,3,FALSE))","v":""}]
[null,{"$f":"IF(D495=\"\",\"\",VLOOKUP($D495,Lists!$AP$2:$AR$78,2,FALSE))","v":""},{"$f":"IF(D495=\"\",\"\",VLOOKUP($D495,Lists!$AP$2:$AR$78,3,FALSE))","v":""}]
[null,{"$f":"IF(D496=\"\",\"\",VLOOKUP($D496,Lists!$AP$2:$AR$78,2,FALSE))","v":""},{"$f":"IF(D496=\"\",\"\",VLOOKUP($D496,Lists!$AP$2:$AR$78,3,FALSE))","v":""}]
[null,{"$f":"IF(D497=\"\",\"\",VLOOKUP($D497,Lists!$AP$2:$AR$78,2,FALSE))","v":""},{"$f":"IF(D497=\"\",\"\",VLOOKUP($D497,Lists!$AP$2:$AR$78,3,FALSE))","v":""}]
[null,{"$f":"IF(D498=\"\",\"\",VLOOKUP($D498,Lists!$AP$2:$AR$78,2,FALSE))","v":""},{"$f":"IF(D498=\"\",\"\",VLOOKUP($D498,Lists!$AP$2:$AR$78,3,FALSE))","v":""}]
[null,{"$f":"IF(D499=\"\",\"\",VLOOKUP($D499,Lists!$AP$2:$AR$78,2,FALSE))","v":""},{"$f":"IF(D499=\"\",\"\",VLOOKUP($D499,Lists!$AP$2:$AR$78,3,FALSE))","v":""}]
[null,{"$f":"IF(D500=\"\",\"\",VLOOKUP($D500,Lists!$AP$2:$AR$78,2,FALSE))","v":""},{"$f":"IF(D500=\"\",\"\",VLOOKUP($D500,Lists!$AP$2:$AR$78,3,FALSE))","v":""}]

{"sheet":"CPMS2","index":15,"n_rows":500,"n_cols":12,"rows_kept":500,"cut":false,"hidden":false,"merged":[]}
[null,"DO NOT REMOVE OR EDIT INFORMATION IN THIS SECTION\nFOR INTERNAL USE ONLY"]
[null,"Template Name",{"$f":"+Welcome!B2","v":"63.3120(f) Semiannual Compliance Report (Spreadsheet Template)"}]
[null,"CitationID",{"$f":"+Welcome!B3","v":"63.3120(f)"}]
[null,"Template Version",{"$f":"+Welcome!B4","v":"v2.06"}]
[null,"Last Updated Date",{"$f":"+Welcome!B5","v":45392}]
[null,"OMB Control Number: 2060-0518       Expiration Date: 04/30/2019"]
[null,"40 CFR Part 63, Subpart IIII National Emission Standards for Hazardous Air Pollutants: Surface Coating of Automobiles and Light-Duty Trucks - §63.3120(f) Semiannual Compliance Report Spreadsheet Template"]
[null,"\n"]
[]
[]
[]
[null,"Company Record No.\n(Autofilled)","Name of Operation \n(§63.3120(a)(6)(iv) or \n§63.3120(a)(8)(iii))\n(Autofilled)","CPMS Description\n(§63.3120(a)(6)(iv) or \n§63.3120(a)(8)(iii))\n(Autofilled)","Company Record No. Name of Operation, and CPMS Description \n(§63.3120(a)(6)(iv) or §63.3120(a)(8)(iii))\n(Select from dropdown)","Starting Date of CPMS Inoperative or Out of Control \n(§63.3120(a)(6)(vi) or (vii) or §63.3120(a)(8)(v) or (vi))","Start Time of CPMS  Inoperative or Out of Control \n(§63.3120(a)(6)(vi) or (vii) or §63.3120(a)(8)(v) or (vi))","Ending Date of CPMS Inoperative or Out of Control \n(§63.3120(a)(6)(vi) or (vii) or §63.3120(a)(8)(v) or (vi))","End Time of CPMS  Inoperative or Out of Control \n(§63.3120(a)(6)(vi) or (vii) or §63.3120(a)(8)(v) or (vi))","Duration of CPMS Inoperative or Out of Control (hours)\n(§63.3120(a)(6)(vi) or (vii) or §63.3120(a)(8)(v) or (vi))\n(Calculated value)","Cause of CPMS Inoperative or Out of Control\n(§63.3120(a)(6)(vi) or (vii) or §63.3120(a)(8)(v) or (vi))","Corrective Action Taken \n(§63.3120(a)(6)(vi) or (vii) or §63.3120(a)(8)(v) or (vi))"]
[null,"RecordId","OperationName","CpmsDescription","CPMSOperationDescription","CPMSStartDate","CPMSStartTime","CPMSEndDate","CPMSEndTime","CPMSInopDuration","CPMSInopCause","CorrectiveAction"]
[null,"e.g.: 1","e.g.: West Coating","e.g.: Combustion Temperature A 320","e.g.: 1 West Coating Combustion Temperature A 320","e.g.: 3/2/2017","e.g.: 12:00","e.g. 3/3/2017","e.g.: 15:52","e.g.:27.87","e.g.: Electrical short","e.g.: replaced thermocouple"]
[null,"e.g.:","e.g.:","e.g.:","e.g.:","e.g.:","e.g.:","e.g.:","e.g.:","e.g.:","e.g.:","e.g.:"]
[null,"e.g.:","e.g.:","e.g.:","e.g.:","e.g.:","e.g.:","e.g.:","e.g.:","e.g.:","e.g.:","e.g.:"]
[null,"e.g.:","e.g.:","e.g.:","e.g.:","e.g.:","e.g.:","e.g.:","e.g.:","e.g.:","e.g.:","e.g.:"]
[null,"e.g.:","e.g.:","e.g.:","e.g.:","e.g.:","e.g.:","e.g.:","e.g.:","e.g.:","e.g.:","e.g.:"]
[null,"e.g.:","e.g.:","e.g.:","e.g.:","e.g.:","e.g.:","e.g.:","e.g.:","e.g.:","e.g.:","e.g.:"]
[null,"e.g.:","e.g.:","e.g.:","e.g.:","e.g.:","e.g.:","e.g.:","e.g.:","e.g.:","e.g.:","e.g.:"]
[null,"e.g.:","e.g.:","e.g.:","e.g.:","e.g.:","e.g.:","e.g.:","e.g.:","e.g.:","e.g.:","e.g.:"]
[null,"e.g.:","e.g.:","e.g.:","e.g.:","e.g.:","e.g.:","e.g.:","e.g.:","e.g.:","e.g.:","e.g.:"]
[null,"e.g.:","e.g.:","e.g.:","e.g.:","e.g.:","e.g.:","e.g.:","e.g.:","e.g.:","e.g.:","e.g.:"]
[null,{"$f":"IF($E24=\"\",\"\",VLOOKUP($E24,Lists!$BL$2:$BO$78,COLUMN(),FALSE))","v":""},{"$f":"IF($E24=\"\",\"\",VLOOKUP($E24,Lists!$BL$2:$BO$78,COLUMN(),FALSE))","v":""},{"$f":"IF($E24=\"\",\"\",VLOOKUP($E24,Lists!$BL$2:$BO$78,COLUMN(),FALSE))","v":""},null,null,null,null,null,{"$f":"IF(I24=\"\",\"\",(VALUE(TEXT(H24,\"m/dd/yy \")&TEXT(I24,\"hh:mm:ss\"))-(VALUE(TEXT(F24,\"m/dd/yy \")&TEXT(G24,\"hh:mm:ss\"))))*24)","v":""}]
[null,{"$f":"IF($E25=\"\",\"\",VLOOKUP($E25,Lists!$BL$2:$BO$78,COLUMN(),FALSE))","v":""},{"$f":"IF($E25=\"\",\"\",VLOOKUP($E25,Lists!$BL$2:$BO$78,COLUMN(),FALSE))","v":""},{"$f":"IF($E25=\"\",\"\",VLOOKUP($E25,Lists!$BL$2:$BO$78,COLUMN(),FALSE))","v":""},null,null,null,null,null,{"$f":"IF(I25=\"\",\"\",(VALUE(TEXT(H25,\"m/dd/yy \")&TEXT(I25,\"hh:mm:ss\"))-(VALUE(TEXT(F25,\"m/dd/yy \")&TEXT(G25,\"hh:mm:ss\"))))*24)","v":""}]
[null,{"$f":"IF($E26=\"\",\"\",VLOOKUP($E26,Lists!$BL$2:$BO$78,COLUMN(),FALSE))","v":""},{"$f":"IF($E26=\"\",\"\",VLOOKUP($E26,Lists!$BL$2:$BO$78,COLUMN(),FALSE))","v":""},{"$f":"IF($E26=\"\",\"\",VLOOKUP($E26,Lists!$BL$2:$BO$78,COLUMN(),FALSE))","v":""},null,null,null,null,null,""]
[null,{"$f":"IF($E27=\"\",\"\",VLOOKUP($E27,Lists!$BL$2:$BO$78,COLUMN(),FALSE))","v":""},{"$f":"IF($E27=\"\",\"\",VLOOKUP($E27,Lists!$BL$2:$BO$78,COLUMN(),FALSE))","v":""},{"$f":"IF($E27=\"\",\"\",VLOOKUP($E27,Lists!$BL$2:$BO$78,COLUMN(),FALSE))","v":""},null,null,null,null,null,""]
[null,{"$f":"IF($E28=\"\",\"\",VLOOKUP($E28,Lists!$BL$2:$BO$78,COLUMN(),FALSE))","v":""},{"$f":"IF($E28=\"\",\"\",VLOOKUP($E28,Lists!$BL$2:$BO$78,COLUMN(),FALSE))","v":""},{"$f":"IF($E28=\"\",\"\",VLOOKUP($E28,Lists!$BL$2:$BO$78,COLUMN(),FALSE))","v":""},null,null,null,null,null,""]
[null,{"$f":"IF($E29=\"\",\"\",VLOOKUP($E29,Lists!$BL$2:$BO$78,COLUMN(),FALSE))","v":""},{"$f":"IF($E29=\"\",\"\",VLOOKUP($E29,Lists!$BL$2:$BO$78,COLUMN(),FALSE))","v":""},{"$f":"IF($E29=\"\",\"\",VLOOKUP($E29,Lists!$BL$2:$BO$78,COLUMN(),FALSE))","v":""},null,null,null,null,null,""]
[null,{"$f":"IF($E30=\"\",\"\",VLOOKUP($E30,Lists!$BL$2:$BO$78,COLUMN(),FALSE))","v":""},{"$f":"IF($E30=\"\",\"\",VLOOKUP($E30,Lists!$BL$2:$BO$78,COLUMN(),FALSE))","v":""},{"$f":"IF($E30=\"\",\"\",VLOOKUP($E30,Lists!$BL$2:$BO$78,COLUMN(),FALSE))","v":""},null,null,null,null,null,""]
[null,{"$f":"IF($E31=\"\",\"\",VLOOKUP($E31,Lists!$BL$2:$BO$78,COLUMN(),FALSE))","v":""},{"$f":"IF($E31=\"\",\"\",VLOOKUP($E31,Lists!$BL$2:$BO$78,COLUMN(),FALSE))","v":""},{"$f":"IF($E31=\"\",\"\",VLOOKUP($E31,Lists!$BL$2:$BO$78,COLUMN(),FALSE))","v":""},null,null,null,null,null,""]
[null,{"$f":"IF($E32=\"\",\"\",VLOOKUP($E32,Lists!$BL$2:$BO$78,COLUMN(),FALSE))","v":""},{"$f":"IF($E32=\"\",\"\",VLOOKUP($E32,Lists!$BL$2:$BO$78,COLUMN(),FALSE))","v":""},{"$f":"IF($E32=\"\",\"\",VLOOKUP($E32,Lists!$BL$2:$BO$78,COLUMN(),FALSE))","v":""},null,null,null,null,null,""]
[null,{"$f":"IF($E33=\"\",\"\",VLOOKUP($E33,Lists!$BL$2:$BO$78,COLUMN(),FALSE))","v":""},{"$f":"IF($E33=\"\",\"\",VLOOKUP($E33,Lists!$BL$2:$BO$78,COLUMN(),FALSE))","v":""},{"$f":"IF($E33=\"\",\"\",VLOOKUP($E33,Lists!$BL$2:$BO$78,COLUMN(),FALSE))","v":""},null,null,null,null,null,""]
[null,{"$f":"IF($E34=\"\",\"\",VLOOKUP($E34,Lists!$BL$2:$BO$78,COLUMN(),FALSE))","v":""},{"$f":"IF($E34=\"\",\"\",VLOOKUP($E34,Lists!$BL$2:$BO$78,COLUMN(),FALSE))","v":""},{"$f":"IF($E34=\"\",\"\",VLOOKUP($E34,Lists!$BL$2:$BO$78,COLUMN(),FALSE))","v":""},null,null,null,null,null,""]
[null,{"$f":"IF($E35=\"\",\"\",VLOOKUP($E35,Lists!$BL$2:$BO$78,COLUMN(),FALSE))","v":""},{"$f":"IF($E35=\"\",\"\",VLOOKUP($E35,Lists!$BL$2:$BO$78,COLUMN(),FALSE))","v":""},{"$f":"IF($E35=\"\",\"\",VLOOKUP($E35,Lists!$BL$2:$BO$78,COLUMN(),FALSE))","v":""},null,null,null,null,null,""]
[null,{"$f":"IF($E36=\"\",\"\",VLOOKUP($E36,Lists!$BL$2:$BO$78,COLUMN(),FALSE))","v":""},{"$f":"IF($E36=\"\",\"\",VLOOKUP($E36,Lists!$BL$2:$BO$78,COLUMN(),FALSE))","v":""},{"$f":"IF($E36=\"\",\"\",VLOOKUP($E36,Lists!$BL$2:$BO$78,COLUMN(),FALSE))","v":""},null,null,null,null,null,""]
[null,{"$f":"IF($E37=\"\",\"\",VLOOKUP($E37,Lists!$BL$2:$BO$78,COLUMN(),FALSE))","v":""},{"$f":"IF($E37=\"\",\"\",VLOOKUP($E37,Lists!$BL$2:$BO$78,COLUMN(),FALSE))","v":""},{"$f":"IF($E37=\"\",\"\",VLOOKUP($E37,Lists!$BL$2:$BO$78,COLUMN(),FALSE))","v":""},null,null,null,null,null,""]
[null,{"$f":"IF($E38=\"\",\"\",VLOOKUP($E38,Lists!$BL$2:$BO$78,COLUMN(),FALSE))","v":""},{"$f":"IF($E38=\"\",\"\",VLOOKUP($E38,Lists!$BL$2:$BO$78,COLUMN(),FALSE))","v":""},{"$f":"IF($E38=\"\",\"\",VLOOKUP($E38,Lists!$BL$2:$BO$78,COLUMN(),FALSE))","v":""},null,null,null,null,null,""]
[null,{"$f":"IF($E39=\"\",\"\",VLOOKUP($E39,Lists!$BL$2:$BO$78,COLUMN(),FALSE))","v":""},{"$f":"IF($E39=\"\",\"\",VLOOKUP($E39,Lists!$BL$2:$BO$78,COLUMN(),FALSE))","v":""},{"$f":"IF($E39=\"\",\"\",VLOOKUP($E39,Lists!$BL$2:$BO$78,COLUMN(),FALSE))","v":""},null,null,null,null,null,""]
[null,{"$f":"IF($E40=\"\",\"\",VLOOKUP($E40,Lists!$BL$2:$BO$78,COLUMN(),FALSE))","v":""},{"$f":"IF($E40=\"\",\"\",VLOOKUP($E40,Lists!$BL$2:$BO$78,COLUMN(),FALSE))","v":""},{"$f":"IF($E40=\"\",\"\",VLOOKUP($E40,Lists!$BL$2:$BO$78,COLUMN(),FALSE))","v":""},null,null,null,null,null,""]
[null,{"$f":"IF($E41=\"\",\"\",VLOOKUP($E41,Lists!$BL$2:$BO$78,COLUMN(),FALSE))","v":""},{"$f":"IF($E41=\"\",\"\",VLOOKUP($E41,Lists!$BL$2:$BO$78,COLUMN(),FALSE))","v":""},{"$f":"IF($E41=\"\",\"\",VLOOKUP($E41,Lists!$BL$2:$BO$78,COLUMN(),FALSE))","v":""},null,null,null,null,null,""]
[null,{"$f":"IF($E42=\"\",\"\",VLOOKUP($E42,Lists!$BL$2:$BO$78,COLUMN(),FALSE))","v":""},{"$f":"IF($E42=\"\",\"\",VLOOKUP($E42,Lists!$BL$2:$BO$78,COLUMN(),FALSE))","v":""},{"$f":"IF($E42=\"\",\"\",VLOOKUP($E42,Lists!$BL$2:$BO$78,COLUMN(),FALSE))","v":""},null,null,null,null,null,""]
[null,{"$f":"IF($E43=\"\",\"\",VLOOKUP($E43,Lists!$BL$2:$BO$78,COLUMN(),FALSE))","v":""},{"$f":"IF($E43=\"\",\"\",VLOOKUP($E43,Lists!$BL$2:$BO$78,COLUMN(),FALSE))","v":""},{"$f":"IF($E43=\"\",\"\",VLOOKUP($E43,Lists!$BL$2:$BO$78,COLUMN(),FALSE))","v":""},null,null,null,null,null,""]
[null,{"$f":"IF($E44=\"\",\"\",VLOOKUP($E44,Lists!$BL$2:$BO$78,COLUMN(),FALSE))","v":""},{"$f":"IF($E44=\"\",\"\",VLOOKUP($E44,Lists!$BL$2:$BO$78,COLUMN(),FALSE))","v":""},{"$f":"IF($E44=\"\",\"\",VLOOKUP($E44,Lists!$BL$2:$BO$78,COLUMN(),FALSE))","v":""},null,null,null,null,null,""]
[null,{"$f":"IF($E45=\"\",\"\",VLOOKUP($E45,Lists!$BL$2:$BO$78,COLUMN(),FALSE))","v":""},{"$f":"IF($E45=\"\",\"\",VLOOKUP($E45,Lists!$BL$2:$BO$78,COLUMN(),FALSE))","v":""},{"$f":"IF($E45=\"\",\"\",VLOOKUP($E45,Lists!$BL$2:$BO$78,COLUMN(),FALSE))","v":""},null,null,null,null,null,""]
[null,{"$f":"IF($E46=\"\",\"\",VLOOKUP($E46,Lists!$BL$2:$BO$78,COLUMN(),FALSE))","v":""},{"$f":"IF($E46=\"\",\"\",VLOOKUP($E46,Lists!$BL$2:$BO$78,COLUMN(),FALSE))","v":""},{"$f":"IF($E46=\"\",\"\",VLOOKUP($E46,Lists!$BL$2:$BO$78,COLUMN(),FALSE))","v":""},null,null,null,null,null,""]
[null,{"$f":"IF($E47=\"\",\"\",VLOOKUP($E47,Lists!$BL$2:$BO$78,COLUMN(),FALSE))","v":""},{"$f":"IF($E47=\"\",\"\",VLOOKUP($E47,Lists!$BL$2:$BO$78,COLUMN(),FALSE))","v":""},{"$f":"IF($E47=\"\",\"\",VLOOKUP($E47,Lists!$BL$2:$BO$78,COLUMN(),FALSE))","v":""},null,null,null,null,null,""]
[null,{"$f":"IF($E48=\"\",\"\",VLOOKUP($E48,Lists!$BL$2:$BO$78,COLUMN(),FALSE))","v":""},{"$f":"IF($E48=\"\",\"\",VLOOKUP($E48,Lists!$BL$2:$BO$78,COLUMN(),FALSE))","v":""},{"$f":"IF($E48=\"\",\"\",VLOOKUP($E48,Lists!$BL$2:$BO$78,COLUMN(),FALSE))","v":""},null,null,null,null,null,""]
[null,{"$f":"IF($E49=\"\",\"\",VLOOKUP($E49,Lists!$BL$2:$BO$78,COLUMN(),FALSE))","v":""},{"$f":"IF($E49=\"\",\"\",VLOOKUP($E49,Lists!$BL$2:$BO$78,COLUMN(),FALSE))","v":""},{"$f":"IF($E49=\"\",\"\",VLOOKUP($E49,Lists!$BL$2:$BO$78,COLUMN(),FALSE))","v":""},null,null,null,null,null,""]
[null,{"$f":"IF($E50=\"\",\"\",VLOOKUP($E50,Lists!$BL$2:$BO$78,COLUMN(),FALSE))","v":""},{"$f":"IF($E50=\"\",\"\",VLOOKUP($E50,Lists!$BL$2:$BO$78,COLUMN(),FALSE))","v":""},{"$f":"IF($E50=\"\",\"\",VLOOKUP($E50,Lists!$BL$2:$BO$78,COLUMN(),FALSE))","v":""},null,null,null,null,null,""]
[null,{"$f":"IF($E51=\"\",\"\",VLOOKUP($E51,Lists!$BL$2:$BO$78,COLUMN(),FALSE))","v":""},{"$f":"IF($E51=\"\",\"\",VLOOKUP($E51,Lists!$BL$2:$BO$78,COLUMN(),FALSE))","v":""},{"$f":"IF($E51=\"\",\"\",VLOOKUP($E51,Lists!$BL$2:$BO$78,COLUMN(),FALSE))","v":""},null,null,null,null,null,""]
[null,{"$f":"IF($E52=\"\",\"\",VLOOKUP($E52,Lists!$BL$2:$BO$78,COLUMN(),FALSE))","v":""},{"$f":"IF($E52=\"\",\"\",VLOOKUP($E52,Lists!$BL$2:$BO$78,COLUMN(),FALSE))","v":""},{"$f":"IF($E52=\"\",\"\",VLOOKUP($E52,Lists!$BL$2:$BO$78,COLUMN(),FALSE))","v":""},null,null,null,null,null,""]
[null,{"$f":"IF($E53=\"\",\"\",VLOOKUP($E53,Lists!$BL$2:$BO$78,COLUMN(),FALSE))","v":""},{"$f":"IF($E53=\"\",\"\",VLOOKUP($E53,Lists!$BL$2:$BO$78,COLUMN(),FALSE))","v":""},{"$f":"IF($E53=\"\",\"\",VLOOKUP($E53,Lists!$BL$2:$BO$78,COLUMN(),FALSE))","v":""},null,null,null,null,null,""]
[null,{"$f":"IF($E54=\"\",\"\",VLOOKUP($E54,Lists!$BL$2:$BO$78,COLUMN(),FALSE))","v":""},{"$f":"IF($E54=\"\",\"\",VLOOKUP($E54,Lists!$BL$2:$BO$78,COLUMN(),FALSE))","v":""},{"$f":"IF($E54=\"\",\"\",VLOOKUP($E54,Lists!$BL$2:$BO$78,COLUMN(),FALSE))","v":""},null,null,null,null,null,""]
[null,{"$f":"IF($E55=\"\",\"\",VLOOKUP($E55,Lists!$BL$2:$BO$78,COLUMN(),FALSE))","v":""},{"$f":"IF($E55=\"\",\"\",VLOOKUP($E55,Lists!$BL$2:$BO$78,COLUMN(),FALSE))","v":""},{"$f":"IF($E55=\"\",\"\",VLOOKUP($E55,Lists!$BL$2:$BO$78,COLUMN(),FALSE))","v":""},null,null,null,null,null,""]
[null,{"$f":"IF($E56=\"\",\"\",VLOOKUP($E56,Lists!$BL$2:$BO$78,COLUMN(),FALSE))","v":""},{"$f":"IF($E56=\"\",\"\",VLOOKUP($E56,Lists!$BL$2:$BO$78,COLUMN(),FALSE))","v":""},{"$f":"IF($E56=\"\",\"\",VLOOKUP($E56,Lists!$BL$2:$BO$78,COLUMN(),FALSE))","v":""},null,null,null,null,null,""]
[null,{"$f":"IF($E57=\"\",\"\",VLOOKUP($E57,Lists!$BL$2:$BO$78,COLUMN(),FALSE))","v":""},{"$f":"IF($E57=\"\",\"\",VLOOKUP($E57,Lists!$BL$2:$BO$78,COLUMN(),FALSE))","v":""},{"$f":"IF($E57=\"\",\"\",VLOOKUP($E57,Lists!$BL$2:$BO$78,COLUMN(),FALSE))","v":""},null,null,null,null,null,""]
[null,{"$f":"IF($E58=\"\",\"\",VLOOKUP($E58,Lists!$BL$2:$BO$78,COLUMN(),FALSE))","v":""},{"$f":"IF($E58=\"\",\"\",VLOOKUP($E58,Lists!$BL$2:$BO$78,COLUMN(),FALSE))","v":""},{"$f":"IF($E58=\"\",\"\",VLOOKUP($E58,Lists!$BL$2:$BO$78,COLUMN(),FALSE))","v":""},null,null,null,null,null,""]
[null,{"$f":"IF($E59=\"\",\"\",VLOOKUP($E59,Lists!$BL$2:$BO$78,COLUMN(),FALSE))","v":""},{"$f":"IF($E59=\"\",\"\",VLOOKUP($E59,Lists!$BL$2:$BO$78,COLUMN(),FALSE))","v":""},{"$f":"IF($E59=\"\",\"\",VLOOKUP($E59,Lists!$BL$2:$BO$78,COLUMN(),FALSE))","v":""},null,null,null,null,null,""]
[null,{"$f":"IF($E60=\"\",\"\",VLOOKUP($E60,Lists!$BL$2:$BO$78,COLUMN(),FALSE))","v":""},{"$f":"IF($E60=\"\",\"\",VLOOKUP($E60,Lists!$BL$2:$BO$78,COLUMN(),FALSE))","v":""},{"$f":"IF($E60=\"\",\"\",VLOOKUP($E60,Lists!$BL$2:$BO$78,COLUMN(),FALSE))","v":""},null,null,null,null,null,""]
[null,{"$f":"IF($E61=\"\",\"\",VLOOKUP($E61,Lists!$BL$2:$BO$78,COLUMN(),FALSE))","v":""},{"$f":"IF($E61=\"\",\"\",VLOOKUP($E61,Lists!$BL$2:$BO$78,COLUMN(),FALSE))","v":""},{"$f":"IF($E61=\"\",\"\",VLOOKUP($E61,Lists!$BL$2:$BO$78,COLUMN(),FALSE))","v":""},null,null,null,null,null,""]
[null,{"$f":"IF($E62=\"\",\"\",VLOOKUP($E62,Lists!$BL$2:$BO$78,COLUMN(),FALSE))","v":""},{"$f":"IF($E62=\"\",\"\",VLOOKUP($E62,Lists!$BL$2:$BO$78,COLUMN(),FALSE))","v":""},{"$f":"IF($E62=\"\",\"\",VLOOKUP($E62,Lists!$BL$2:$BO$78,COLUMN(),FALSE))","v":""},null,null,null,null,null,""]
[null,{"$f":"IF($E63=\"\",\"\",VLOOKUP($E63,Lists!$BL$2:$BO$78,COLUMN(),FALSE))","v":""},{"$f":"IF($E63=\"\",\"\",VLOOKUP($E63,Lists!$BL$2:$BO$78,COLUMN(),FALSE))","v":""},{"$f":"IF($E63=\"\",\"\",VLOOKUP($E63,Lists!$BL$2:$BO$78,COLUMN(),FALSE))","v":""},null,null,null,null,null,""]
[null,{"$f":"IF($E64=\"\",\"\",VLOOKUP($E64,Lists!$BL$2:$BO$78,COLUMN(),FALSE))","v":""},{"$f":"IF($E64=\"\",\"\",VLOOKUP($E64,Lists!$BL$2:$BO$78,COLUMN(),FALSE))","v":""},{"$f":"IF($E64=\"\",\"\",VLOOKUP($E64,Lists!$BL$2:$BO$78,COLUMN(),FALSE))","v":""},null,null,null,null,null,""]
[null,{"$f":"IF($E65=\"\",\"\",VLOOKUP($E65,Lists!$BL$2:$BO$78,COLUMN(),FALSE))","v":""},{"$f":"IF($E65=\"\",\"\",VLOOKUP($E65,Lists!$BL$2:$BO$78,COLUMN(),FALSE))","v":""},{"$f":"IF($E65=\"\",\"\",VLOOKUP($E65,Lists!$BL$2:$BO$78,COLUMN(),FALSE))","v":""},null,null,null,null,null,""]
[null,{"$f":"IF($E66=\"\",\"\",VLOOKUP($E66,Lists!$BL$2:$BO$78,COLUMN(),FALSE))","v":""},{"$f":"IF($E66=\"\",\"\",VLOOKUP($E66,Lists!$BL$2:$BO$78,COLUMN(),FALSE))","v":""},{"$f":"IF($E66=\"\",\"\",VLOOKUP($E66,Lists!$BL$2:$BO$78,COLUMN(),FALSE))","v":""},null,null,null,null,null,""]
[null,{"$f":"IF($E67=\"\",\"\",VLOOKUP($E67,Lists!$BL$2:$BO$78,COLUMN(),FALSE))","v":""},{"$f":"IF($E67=\"\",\"\",VLOOKUP($E67,Lists!$BL$2:$BO$78,COLUMN(),FALSE))","v":""},{"$f":"IF($E67=\"\",\"\",VLOOKUP($E67,Lists!$BL$2:$BO$78,COLUMN(),FALSE))","v":""},null,null,null,null,null,""]
[null,{"$f":"IF($E68=\"\",\"\",VLOOKUP($E68,Lists!$BL$2:$BO$78,COLUMN(),FALSE))","v":""},{"$f":"IF($E68=\"\",\"\",VLOOKUP($E68,Lists!$BL$2:$BO$78,COLUMN(),FALSE))","v":""},{"$f":"IF($E68=\"\",\"\",VLOOKUP($E68,Lists!$BL$2:$BO$78,COLUMN(),FALSE))","v":""},null,null,null,null,null,""]
[null,{"$f":"IF($E69=\"\",\"\",VLOOKUP($E69,Lists!$BL$2:$BO$78,COLUMN(),FALSE))","v":""},{"$f":"IF($E69=\"\",\"\",VLOOKUP($E69,Lists!$BL$2:$BO$78,COLUMN(),FALSE))","v":""},{"$f":"IF($E69=\"\",\"\",VLOOKUP($E69,Lists!$BL$2:$BO$78,COLUMN(),FALSE))","v":""},null,null,null,null,null,""]
[null,{"$f":"IF($E70=\"\",\"\",VLOOKUP($E70,Lists!$BL$2:$BO$78,COLUMN(),FALSE))","v":""},{"$f":"IF($E70=\"\",\"\",VLOOKUP($E70,Lists!$BL$2:$BO$78,COLUMN(),FALSE))","v":""},{"$f":"IF($E70=\"\",\"\",VLOOKUP($E70,Lists!$BL$2:$BO$78,COLUMN(),FALSE))","v":""},null,null,null,null,null,""]
[null,{"$f":"IF($E71=\"\",\"\",VLOOKUP($E71,Lists!$BL$2:$BO$78,COLUMN(),FALSE))","v":""},{"$f":"IF($E71=\"\",\"\",VLOOKUP($E71,Lists!$BL$2:$BO$78,COLUMN(),FALSE))","v":""},{"$f":"IF($E71=\"\",\"\",VLOOKUP($E71,Lists!$BL$2:$BO$78,COLUMN(),FALSE))","v":""},null,null,null,null,null,""]
[null,{"$f":"IF($E72=\"\",\"\",VLOOKUP($E72,Lists!$BL$2:$BO$78,COLUMN(),FALSE))","v":""},{"$f":"IF($E72=\"\",\"\",VLOOKUP($E72,Lists!$BL$2:$BO$78,COLUMN(),FALSE))","v":""},{"$f":"IF($E72=\"\",\"\",VLOOKUP($E72,Lists!$BL$2:$BO$78,COLUMN(),FALSE))","v":""},null,null,null,null,null,""]
[null,{"$f":"IF($E73=\"\",\"\",VLOOKUP($E73,Lists!$BL$2:$BO$78,COLUMN(),FALSE))","v":""},{"$f":"IF($E73=\"\",\"\",VLOOKUP($E73,Lists!$BL$2:$BO$78,COLUMN(),FALSE))","v":""},{"$f":"IF($E73=\"\",\"\",VLOOKUP($E73,Lists!$BL$2:$BO$78,COLUMN(),FALSE))","v":""},null,null,null,null,null,""]
[null,{"$f":"IF($E74=\"\",\"\",VLOOKUP($E74,Lists!$BL$2:$BO$78,COLUMN(),FALSE))","v":""},{"$f":"IF($E74=\"\",\"\",VLOOKUP($E74,Lists!$BL$2:$BO$78,COLUMN(),FALSE))","v":""},{"$f":"IF($E74=\"\",\"\",VLOOKUP($E74,Lists!$BL$2:$BO$78,COLUMN(),FALSE))","v":""},null,null,null,null,null,""]
[null,{"$f":"IF($E75=\"\",\"\",VLOOKUP($E75,Lists!$BL$2:$BO$78,COLUMN(),FALSE))","v":""},{"$f":"IF($E75=\"\",\"\",VLOOKUP($E75,Lists!$BL$2:$BO$78,COLUMN(),FALSE))","v":""},{"$f":"IF($E75=\"\",\"\",VLOOKUP($E75,Lists!$BL$2:$BO$78,COLUMN(),FALSE))","v":""},null,null,null,null,null,""]
[null,{"$f":"IF($E76=\"\",\"\",VLOOKUP($E76,Lists!$BL$2:$BO$78,COLUMN(),FALSE))","v":""},{"$f":"IF($E76=\"\",\"\",VLOOKUP($E76,Lists!$BL$2:$BO$78,COLUMN(),FALSE))","v":""},{"$f":"IF($E76=\"\",\"\",VLOOKUP($E76,Lists!$BL$2:$BO$78,COLUMN(),FALSE))","v":""},null,null,null,null,null,""]
[null,{"$f":"IF($E77=\"\",\"\",VLOOKUP($E77,Lists!$BL$2:$BO$78,COLUMN(),FALSE))","v":""},{"$f":"IF($E77=\"\",\"\",VLOOKUP($E77,Lists!$BL$2:$BO$78,COLUMN(),FALSE))","v":""},{"$f":"IF($E77=\"\",\"\",VLOOKUP($E77,Lists!$BL$2:$BO$78,COLUMN(),FALSE))","v":""},null,null,null,null,null,""]
[null,{"$f":"IF($E78=\"\",\"\",VLOOKUP($E78,Lists!$BL$2:$BO$78,COLUMN(),FALSE))","v":""},{"$f":"IF($E78=\"\",\"\",VLOOKUP($E78,Lists!$BL$2:$BO$78,COLUMN(),FALSE))","v":""},{"$f":"IF($E78=\"\",\"\",VLOOKUP($E78,Lists!$BL$2:$BO$78,COLUMN(),FALSE))","v":""},null,null,null,null,null,""]
[null,{"$f":"IF($E79=\"\",\"\",VLOOKUP($E79,Lists!$BL$2:$BO$78,COLUMN(),FALSE))","v":""},{"$f":"IF($E79=\"\",\"\",VLOOKUP($E79,Lists!$BL$2:$BO$78,COLUMN(),FALSE))","v":""},{"$f":"IF($E79=\"\",\"\",VLOOKUP($E79,Lists!$BL$2:$BO$78,COLUMN(),FALSE))","v":""},null,null,null,null,null,""]
[null,{"$f":"IF($E80=\"\",\"\",VLOOKUP($E80,Lists!$BL$2:$BO$78,COLUMN(),FALSE))","v":""},{"$f":"IF($E80=\"\",\"\",VLOOKUP($E80,Lists!$BL$2:$BO$78,COLUMN(),FALSE))","v":""},{"$f":"IF($E80=\"\",\"\",VLOOKUP($E80,Lists!$BL$2:$BO$78,COLUMN(),FALSE))","v":""},null,null,null,null,null,""]
[null,{"$f":"IF($E81=\"\",\"\",VLOOKUP($E81,Lists!$BL$2:$BO$78,COLUMN(),FALSE))","v":""},{"$f":"IF($E81=\"\",\"\",VLOOKUP($E81,Lists!$BL$2:$BO$78,COLUMN(),FALSE))","v":""},{"$f":"IF($E81=\"\",\"\",VLOOKUP($E81,Lists!$BL$2:$BO$78,COLUMN(),FALSE))","v":""},null,null,null,null,null,""]
[null,{"$f":"IF($E82=\"\",\"\",VLOOKUP($E82,Lists!$BL$2:$BO$78,COLUMN(),FALSE))","v":""},{"$f":"IF($E82=\"\",\"\",VLOOKUP($E82,Lists!$BL$2:$BO$78,COLUMN(),FALSE))","v":""},{"$f":"IF($E82=\"\",\"\",VLOOKUP($E82,Lists!$BL$2:$BO$78,COLUMN(),FALSE))","v":""},null,null,null,null,null,""]
[null,{"$f":"IF($E83=\"\",\"\",VLOOKUP($E83,Lists!$BL$2:$BO$78,COLUMN(),FALSE))","v":""},{"$f":"IF($E83=\"\",\"\",VLOOKUP($E83,Lists!$BL$2:$BO$78,COLUMN(),FALSE))","v":""},{"$f":"IF($E83=\"\",\"\",VLOOKUP($E83,Lists!$BL$2:$BO$78,COLUMN(),FALSE))","v":""},null,null,null,null,null,""]
[null,{"$f":"IF($E84=\"\",\"\",VLOOKUP($E84,Lists!$BL$2:$BO$78,COLUMN(),FALSE))","v":""},{"$f":"IF($E84=\"\",\"\",VLOOKUP($E84,Lists!$BL$2:$BO$78,COLUMN(),FALSE))","v":""},{"$f":"IF($E84=\"\",\"\",VLOOKUP($E84,Lists!$BL$2:$BO$78,COLUMN(),FALSE))","v":""},null,null,null,null,null,""]
[null,{"$f":"IF($E85=\"\",\"\",VLOOKUP($E85,Lists!$BL$2:$BO$78,COLUMN(),FALSE))","v":""},{"$f":"IF($E85=\"\",\"\",VLOOKUP($E85,Lists!$BL$2:$BO$78,COLUMN(),FALSE))","v":""},{"$f":"IF($E85=\"\",\"\",VLOOKUP($E85,Lists!$BL$2:$BO$78,COLUMN(),FALSE))","v":""},null,null,null,null,null,""]
[null,{"$f":"IF($E86=\"\",\"\",VLOOKUP($E86,Lists!$BL$2:$BO$78,COLUMN(),FALSE))","v":""},{"$f":"IF($E86=\"\",\"\",VLOOKUP($E86,Lists!$BL$2:$BO$78,COLUMN(),FALSE))","v":""},{"$f":"IF($E86=\"\",\"\",VLOOKUP($E86,Lists!$BL$2:$BO$78,COLUMN(),FALSE))","v":""},null,null,null,null,null,""]
[null,{"$f":"IF($E87=\"\",\"\",VLOOKUP($E87,Lists!$BL$2:$BO$78,COLUMN(),FALSE))","v":""},{"$f":"IF($E87=\"\",\"\",VLOOKUP($E87,Lists!$BL$2:$BO$78,COLUMN(),FALSE))","v":""},{"$f":"IF($E87=\"\",\"\",VLOOKUP($E87,Lists!$BL$2:$BO$78,COLUMN(),FALSE))","v":""},null,null,null,null,null,""]
[null,{"$f":"IF($E88=\"\",\"\",VLOOKUP($E88,Lists!$BL$2:$BO$78,COLUMN(),FALSE))","v":""},{"$f":"IF($E88=\"\",\"\",VLOOKUP($E88,Lists!$BL$2:$BO$78,COLUMN(),FALSE))","v":""},{"$f":"IF($E88=\"\",\"\",VLOOKUP($E88,Lists!$BL$2:$BO$78,COLUMN(),FALSE))","v":""},null,null,null,null,null,""]
[null,{"$f":"IF($E89=\"\",\"\",VLOOKUP($E89,Lists!$BL$2:$BO$78,COLUMN(),FALSE))","v":""},{"$f":"IF($E89=\"\",\"\",VLOOKUP($E89,Lists!$BL$2:$BO$78,COLUMN(),FALSE))","v":""},{"$f":"IF($E89=\"\",\"\",VLOOKUP($E89,Lists!$BL$2:$BO$78,COLUMN(),FALSE))","v":""},null,null,null,null,null,{"$f":"IF(I89=\"\",\"\",(VALUE(TEXT(H89,\"m/dd/yy \")&TEXT(I89,\"hh:mm:ss\"))-(VALUE(TEXT(F89,\"m/dd/yy \")&TEXT(G89,\"hh:mm:ss\"))))*24)","v":""}]
[null,{"$f":"IF($E90=\"\",\"\",VLOOKUP($E90,Lists!$BL$2:$BO$78,COLUMN(),FALSE))","v":""},{"$f":"IF($E90=\"\",\"\",VLOOKUP($E90,Lists!$BL$2:$BO$78,COLUMN(),FALSE))","v":""},{"$f":"IF($E90=\"\",\"\",VLOOKUP($E90,Lists!$BL$2:$BO$78,COLUMN(),FALSE))","v":""},null,null,null,null,null,""]
[null,{"$f":"IF($E91=\"\",\"\",VLOOKUP($E91,Lists!$BL$2:$BO$78,COLUMN(),FALSE))","v":""},{"$f":"IF($E91=\"\",\"\",VLOOKUP($E91,Lists!$BL$2:$BO$78,COLUMN(),FALSE))","v":""},{"$f":"IF($E91=\"\",\"\",VLOOKUP($E91,Lists!$BL$2:$BO$78,COLUMN(),FALSE))","v":""},null,null,null,null,null,""]
[null,{"$f":"IF($E92=\"\",\"\",VLOOKUP($E92,Lists!$BL$2:$BO$78,COLUMN(),FALSE))","v":""},{"$f":"IF($E92=\"\",\"\",VLOOKUP($E92,Lists!$BL$2:$BO$78,COLUMN(),FALSE))","v":""},{"$f":"IF($E92=\"\",\"\",VLOOKUP($E92,Lists!$BL$2:$BO$78,COLUMN(),FALSE))","v":""},null,null,null,null,null,""]
[null,{"$f":"IF($E93=\"\",\"\",VLOOKUP($E93,Lists!$BL$2:$BO$78,COLUMN(),FALSE))","v":""},{"$f":"IF($E93=\"\",\"\",VLOOKUP($E93,Lists!$BL$2:$BO$78,COLUMN(),FALSE))","v":""},{"$f":"IF($E93=\"\",\"\",VLOOKUP($E93,Lists!$BL$2:$BO$78,COLUMN(),FALSE))","v":""},null,null,null,null,null,""]
[null,{"$f":"IF($E94=\"\",\"\",VLOOKUP($E94,Lists!$BL$2:$BO$78,COLUMN(),FALSE))","v":""},{"$f":"IF($E94=\"\",\"\",VLOOKUP($E94,Lists!$BL$2:$BO$78,COLUMN(),FALSE))","v":""},{"$f":"IF($E94=\"\",\"\",VLOOKUP($E94,Lists!$BL$2:$BO$78,COLUMN(),FALSE))","v":""},null,null,null,null,null,""]
[null,{"$f":"IF($E95=\"\",\"\",VLOOKUP($E95,Lists!$BL$2:$BO$78,COLUMN(),FALSE))","v":""},{"$f":"IF($E95=\"\",\"\",VLOOKUP($E95,Lists!$BL$2:$BO$78,COLUMN(),FALSE))","v":""},{"$f":"IF($E95=\"\",\"\",VLOOKUP($E95,Lists!$BL$2:$BO$78,COLUMN(),FALSE))","v":""},null,null,null,null,null,""]
[null,{"$f":"IF($E96=\"\",\"\",VLOOKUP($E96,Lists!$BL$2:$BO$78,COLUMN(),FALSE))","v":""},{"$f":"IF($E96=\"\",\"\",VLOOKUP($E96,Lists!$BL$2:$BO$78,COLUMN(),FALSE))","v":""},{"$f":"IF($E96=\"\",\"\",VLOOKUP($E96,Lists!$BL$2:$BO$78,COLUMN(),FALSE))","v":""},null,null,null,null,null,""]
[null,{"$f":"IF($E97=\"\",\"\",VLOOKUP($E97,Lists!$BL$2:$BO$78,COLUMN(),FALSE))","v":""},{"$f":"IF($E97=\"\",\"\",VLOOKUP($E97,Lists!$BL$2:$BO$78,COLUMN(),FALSE))","v":""},{"$f":"IF($E97=\"\",\"\",VLOOKUP($E97,Lists!$BL$2:$BO$78,COLUMN(),FALSE))","v":""},null,null,null,null,null,""]
[null,{"$f":"IF($E98=\"\",\"\",VLOOKUP($E98,Lists!$BL$2:$BO$78,COLUMN(),FALSE))","v":""},{"$f":"IF($E98=\"\",\"\",VLOOKUP($E98,Lists!$BL$2:$BO$78,COLUMN(),FALSE))","v":""},{"$f":"IF($E98=\"\",\"\",VLOOKUP($E98,Lists!$BL$2:$BO$78,COLUMN(),FALSE))","v":""},null,null,null,null,null,""]
[null,{"$f":"IF($E99=\"\",\"\",VLOOKUP($E99,Lists!$BL$2:$BO$78,COLUMN(),FALSE))","v":""},{"$f":"IF($E99=\"\",\"\",VLOOKUP($E99,Lists!$BL$2:$BO$78,COLUMN(),FALSE))","v":""},{"$f":"IF($E99=\"\",\"\",VLOOKUP($E99,Lists!$BL$2:$BO$78,COLUMN(),FALSE))","v":""},null,null,null,null,null,""]
[null,{"$f":"IF($E100=\"\",\"\",VLOOKUP($E100,Lists!$BL$2:$BO$78,COLUMN(),FALSE))","v":""},{"$f":"IF($E100=\"\",\"\",VLOOKUP($E100,Lists!$BL$2:$BO$78,COLUMN(),FALSE))","v":""},{"$f":"IF($E100=\"\",\"\",VLOOKUP($E100,Lists!$BL$2:$BO$78,COLUMN(),FALSE))","v":""},null,null,null,null,null,""]
[null,{"$f":"IF($E101=\"\",\"\",VLOOKUP($E101,Lists!$BL$2:$BO$78,COLUMN(),FALSE))","v":""},{"$f":"IF($E101=\"\",\"\",VLOOKUP($E101,Lists!$BL$2:$BO$78,COLUMN(),FALSE))","v":""},{"$f":"IF($E101=\"\",\"\",VLOOKUP($E101,Lists!$BL$2:$BO$78,COLUMN(),FALSE))","v":""},null,null,null,null,null,""]
[null,{"$f":"IF($E102=\"\",\"\",VLOOKUP($E102,Lists!$BL$2:$BO$78,COLUMN(),FALSE))","v":""},{"$f":"IF($E102=\"\",\"\",VLOOKUP($E102,Lists!$BL$2:$BO$78,COLUMN(),FALSE))","v":""},{"$f":"IF($E102=\"\",\"\",VLOOKUP($E102,Lists!$BL$2:$BO$78,COLUMN(),FALSE))","v":""},null,null,null,null,null,""]
[null,{"$f":"IF($E103=\"\",\"\",VLOOKUP($E103,Lists!$BL$2:$BO$78,COLUMN(),FALSE))","v":""},{"$f":"IF($E103=\"\",\"\",VLOOKUP($E103,Lists!$BL$2:$BO$78,COLUMN(),FALSE))","v":""},{"$f":"IF($E103=\"\",\"\",VLOOKUP($E103,Lists!$BL$2:$BO$78,COLUMN(),FALSE))","v":""},null,null,null,null,null,""]
[null,{"$f":"IF($E104=\"\",\"\",VLOOKUP($E104,Lists!$BL$2:$BO$78,COLUMN(),FALSE))","v":""},{"$f":"IF($E104=\"\",\"\",VLOOKUP($E104,Lists!$BL$2:$BO$78,COLUMN(),FALSE))","v":""},{"$f":"IF($E104=\"\",\"\",VLOOKUP($E104,Lists!$BL$2:$BO$78,COLUMN(),FALSE))","v":""},null,null,null,null,null,""]
[null,{"$f":"IF($E105=\"\",\"\",VLOOKUP($E105,Lists!$BL$2:$BO$78,COLUMN(),FALSE))","v":""},{"$f":"IF($E105=\"\",\"\",VLOOKUP($E105,Lists!$BL$2:$BO$78,COLUMN(),FALSE))","v":""},{"$f":"IF($E105=\"\",\"\",VLOOKUP($E105,Lists!$BL$2:$BO$78,COLUMN(),FALSE))","v":""},null,null,null,null,null,""]
[null,{"$f":"IF($E106=\"\",\"\",VLOOKUP($E106,Lists!$BL$2:$BO$78,COLUMN(),FALSE))","v":""},{"$f":"IF($E106=\"\",\"\",VLOOKUP($E106,Lists!$BL$2:$BO$78,COLUMN(),FALSE))","v":""},{"$f":"IF($E106=\"\",\"\",VLOOKUP($E106,Lists!$BL$2:$BO$78,COLUMN(),FALSE))","v":""},null,null,null,null,null,""]
[null,{"$f":"IF($E107=\"\",\"\",VLOOKUP($E107,Lists!$BL$2:$BO$78,COLUMN(),FALSE))","v":""},{"$f":"IF($E107=\"\",\"\",VLOOKUP($E107,Lists!$BL$2:$BO$78,COLUMN(),FALSE))","v":""},{"$f":"IF($E107=\"\",\"\",VLOOKUP($E107,Lists!$BL$2:$BO$78,COLUMN(),FALSE))","v":""},null,null,null,null,null,""]
[null,{"$f":"IF($E108=\"\",\"\",VLOOKUP($E108,Lists!$BL$2:$BO$78,COLUMN(),FALSE))","v":""},{"$f":"IF($E108=\"\",\"\",VLOOKUP($E108,Lists!$BL$2:$BO$78,COLUMN(),FALSE))","v":""},{"$f":"IF($E108=\"\",\"\",VLOOKUP($E108,Lists!$BL$2:$BO$78,COLUMN(),FALSE))","v":""},null,null,null,null,null,""]
[null,{"$f":"IF($E109=\"\",\"\",VLOOKUP($E109,Lists!$BL$2:$BO$78,COLUMN(),FALSE))","v":""},{"$f":"IF($E109=\"\",\"\",VLOOKUP($E109,Lists!$BL$2:$BO$78,COLUMN(),FALSE))","v":""},{"$f":"IF($E109=\"\",\"\",VLOOKUP($E109,Lists!$BL$2:$BO$78,COLUMN(),FALSE))","v":""},null,null,null,null,null,""]
[null,{"$f":"IF($E110=\"\",\"\",VLOOKUP($E110,Lists!$BL$2:$BO$78,COLUMN(),FALSE))","v":""},{"$f":"IF($E110=\"\",\"\",VLOOKUP($E110,Lists!$BL$2:$BO$78,COLUMN(),FALSE))","v":""},{"$f":"IF($E110=\"\",\"\",VLOOKUP($E110,Lists!$BL$2:$BO$78,COLUMN(),FALSE))","v":""},null,null,null,null,null,""]
[null,{"$f":"IF($E111=\"\",\"\",VLOOKUP($E111,Lists!$BL$2:$BO$78,COLUMN(),FALSE))","v":""},{"$f":"IF($E111=\"\",\"\",VLOOKUP($E111,Lists!$BL$2:$BO$78,COLUMN(),FALSE))","v":""},{"$f":"IF($E111=\"\",\"\",VLOOKUP($E111,Lists!$BL$2:$BO$78,COLUMN(),FALSE))","v":""},null,null,null,null,null,""]
[null,{"$f":"IF($E112=\"\",\"\",VLOOKUP($E112,Lists!$BL$2:$BO$78,COLUMN(),FALSE))","v":""},{"$f":"IF($E112=\"\",\"\",VLOOKUP($E112,Lists!$BL$2:$BO$78,COLUMN(),FALSE))","v":""},{"$f":"IF($E112=\"\",\"\",VLOOKUP($E112,Lists!$BL$2:$BO$78,COLUMN(),FALSE))","v":""},null,null,null,null,null,""]
[null,{"$f":"IF($E113=\"\",\"\",VLOOKUP($E113,Lists!$BL$2:$BO$78,COLUMN(),FALSE))","v":""},{"$f":"IF($E113=\"\",\"\",VLOOKUP($E113,Lists!$BL$2:$BO$78,COLUMN(),FALSE))","v":""},{"$f":"IF($E113=\"\",\"\",VLOOKUP($E113,Lists!$BL$2:$BO$78,COLUMN(),FALSE))","v":""},null,null,null,null,null,""]
[null,{"$f":"IF($E114=\"\",\"\",VLOOKUP($E114,Lists!$BL$2:$BO$78,COLUMN(),FALSE))","v":""},{"$f":"IF($E114=\"\",\"\",VLOOKUP($E114,Lists!$BL$2:$BO$78,COLUMN(),FALSE))","v":""},{"$f":"IF($E114=\"\",\"\",VLOOKUP($E114,Lists!$BL$2:$BO$78,COLUMN(),FALSE))","v":""},null,null,null,null,null,""]
[null,{"$f":"IF($E115=\"\",\"\",VLOOKUP($E115,Lists!$BL$2:$BO$78,COLUMN(),FALSE))","v":""},{"$f":"IF($E115=\"\",\"\",VLOOKUP($E115,Lists!$BL$2:$BO$78,COLUMN(),FALSE))","v":""},{"$f":"IF($E115=\"\",\"\",VLOOKUP($E115,Lists!$BL$2:$BO$78,COLUMN(),FALSE))","v":""},null,null,null,null,null,""]
[null,{"$f":"IF($E116=\"\",\"\",VLOOKUP($E116,Lists!$BL$2:$BO$78,COLUMN(),FALSE))","v":""},{"$f":"IF($E116=\"\",\"\",VLOOKUP($E116,Lists!$BL$2:$BO$78,COLUMN(),FALSE))","v":""},{"$f":"IF($E116=\"\",\"\",VLOOKUP($E116,Lists!$BL$2:$BO$78,COLUMN(),FALSE))","v":""},null,null,null,null,null,""]
[null,{"$f":"IF($E117=\"\",\"\",VLOOKUP($E117,Lists!$BL$2:$BO$78,COLUMN(),FALSE))","v":""},{"$f":"IF($E117=\"\",\"\",VLOOKUP($E117,Lists!$BL$2:$BO$78,COLUMN(),FALSE))","v":""},{"$f":"IF($E117=\"\",\"\",VLOOKUP($E117,Lists!$BL$2:$BO$78,COLUMN(),FALSE))","v":""},null,null,null,null,null,""]
[null,{"$f":"IF($E118=\"\",\"\",VLOOKUP($E118,Lists!$BL$2:$BO$78,COLUMN(),FALSE))","v":""},{"$f":"IF($E118=\"\",\"\",VLOOKUP($E118,Lists!$BL$2:$BO$78,COLUMN(),FALSE))","v":""},{"$f":"IF($E118=\"\",\"\",VLOOKUP($E118,Lists!$BL$2:$BO$78,COLUMN(),FALSE))","v":""},null,null,null,null,null,""]
[null,{"$f":"IF($E119=\"\",\"\",VLOOKUP($E119,Lists!$BL$2:$BO$78,COLUMN(),FALSE))","v":""},{"$f":"IF($E119=\"\",\"\",VLOOKUP($E119,Lists!$BL$2:$BO$78,COLUMN(),FALSE))","v":""},{"$f":"IF($E119=\"\",\"\",VLOOKUP($E119,Lists!$BL$2:$BO$78,COLUMN(),FALSE))","v":""},null,null,null,null,null,""]
[null,{"$f":"IF($E120=\"\",\"\",VLOOKUP($E120,Lists!$BL$2:$BO$78,COLUMN(),FALSE))","v":""},{"$f":"IF($E120=\"\",\"\",VLOOKUP($E120,Lists!$BL$2:$BO$78,COLUMN(),FALSE))","v":""},{"$f":"IF($E120=\"\",\"\",VLOOKUP($E120,Lists!$BL$2:$BO$78,COLUMN(),FALSE))","v":""},null,null,null,null,null,""]
[null,{"$f":"IF($E121=\"\",\"\",VLOOKUP($E121,Lists!$BL$2:$BO$78,COLUMN(),FALSE))","v":""},{"$f":"IF($E121=\"\",\"\",VLOOKUP($E121,Lists!$BL$2:$BO$78,COLUMN(),FALSE))","v":""},{"$f":"IF($E121=\"\",\"\",VLOOKUP($E121,Lists!$BL$2:$BO$78,COLUMN(),FALSE))","v":""},null,null,null,null,null,""]
[null,{"$f":"IF($E122=\"\",\"\",VLOOKUP($E122,Lists!$BL$2:$BO$78,COLUMN(),FALSE))","v":""},{"$f":"IF($E122=\"\",\"\",VLOOKUP($E122,Lists!$BL$2:$BO$78,COLUMN(),FALSE))","v":""},{"$f":"IF($E122=\"\",\"\",VLOOKUP($E122,Lists!$BL$2:$BO$78,COLUMN(),FALSE))","v":""},null,null,null,null,null,""]
[null,{"$f":"IF($E123=\"\",\"\",VLOOKUP($E123,Lists!$BL$2:$BO$78,COLUMN(),FALSE))","v":""},{"$f":"IF($E123=\"\",\"\",VLOOKUP($E123,Lists!$BL$2:$BO$78,COLUMN(),FALSE))","v":""},{"$f":"IF($E123=\"\",\"\",VLOOKUP($E123,Lists!$BL$2:$BO$78,COLUMN(),FALSE))","v":""},null,null,null,null,null,""]
[null,{"$f":"IF($E124=\"\",\"\",VLOOKUP($E124,Lists!$BL$2:$BO$78,COLUMN(),FALSE))","v":""},{"$f":"IF($E124=\"\",\"\",VLOOKUP($E124,Lists!$BL$2:$BO$78,COLUMN(),FALSE))","v":""},{"$f":"IF($E124=\"\",\"\",VLOOKUP($E124,Lists!$BL$2:$BO$78,COLUMN(),FALSE))","v":""},null,null,null,null,null,""]
[null,{"$f":"IF($E125=\"\",\"\",VLOOKUP($E125,Lists!$BL$2:$BO$78,COLUMN(),FALSE))","v":""},{"$f":"IF($E125=\"\",\"\",VLOOKUP($E125,Lists!$BL$2:$BO$78,COLUMN(),FALSE))","v":""},{"$f":"IF($E125=\"\",\"\",VLOOKUP($E125,Lists!$BL$2:$BO$78,COLUMN(),FALSE))","v":""},null,null,null,null,null,""]
[null,{"$f":"IF($E126=\"\",\"\",VLOOKUP($E126,Lists!$BL$2:$BO$78,COLUMN(),FALSE))","v":""},{"$f":"IF($E126=\"\",\"\",VLOOKUP($E126,Lists!$BL$2:$BO$78,COLUMN(),FALSE))","v":""},{"$f":"IF($E126=\"\",\"\",VLOOKUP($E126,Lists!$BL$2:$BO$78,COLUMN(),FALSE))","v":""},null,null,null,null,null,""]
[null,{"$f":"IF($E127=\"\",\"\",VLOOKUP($E127,Lists!$BL$2:$BO$78,COLUMN(),FALSE))","v":""},{"$f":"IF($E127=\"\",\"\",VLOOKUP($E127,Lists!$BL$2:$BO$78,COLUMN(),FALSE))","v":""},{"$f":"IF($E127=\"\",\"\",VLOOKUP($E127,Lists!$BL$2:$BO$78,COLUMN(),FALSE))","v":""},null,null,null,null,null,""]
[null,{"$f":"IF($E128=\"\",\"\",VLOOKUP($E128,Lists!$BL$2:$BO$78,COLUMN(),FALSE))","v":""},{"$f":"IF($E128=\"\",\"\",VLOOKUP($E128,Lists!$BL$2:$BO$78,COLUMN(),FALSE))","v":""},{"$f":"IF($E128=\"\",\"\",VLOOKUP($E128,Lists!$BL$2:$BO$78,COLUMN(),FALSE))","v":""},null,null,null,null,null,""]
[null,{"$f":"IF($E129=\"\",\"\",VLOOKUP($E129,Lists!$BL$2:$BO$78,COLUMN(),FALSE))","v":""},{"$f":"IF($E129=\"\",\"\",VLOOKUP($E129,Lists!$BL$2:$BO$78,COLUMN(),FALSE))","v":""},{"$f":"IF($E129=\"\",\"\",VLOOKUP($E129,Lists!$BL$2:$BO$78,COLUMN(),FALSE))","v":""},null,null,null,null,null,""]
[null,{"$f":"IF($E130=\"\",\"\",VLOOKUP($E130,Lists!$BL$2:$BO$78,COLUMN(),FALSE))","v":""},{"$f":"IF($E130=\"\",\"\",VLOOKUP($E130,Lists!$BL$2:$BO$78,COLUMN(),FALSE))","v":""},{"$f":"IF($E130=\"\",\"\",VLOOKUP($E130,Lists!$BL$2:$BO$78,COLUMN(),FALSE))","v":""},null,null,null,null,null,""]
[null,{"$f":"IF($E131=\"\",\"\",VLOOKUP($E131,Lists!$BL$2:$BO$78,COLUMN(),FALSE))","v":""},{"$f":"IF($E131=\"\",\"\",VLOOKUP($E131,Lists!$BL$2:$BO$78,COLUMN(),FALSE))","v":""},{"$f":"IF($E131=\"\",\"\",VLOOKUP($E131,Lists!$BL$2:$BO$78,COLUMN(),FALSE))","v":""},null,null,null,null,null,""]
[null,{"$f":"IF($E132=\"\",\"\",VLOOKUP($E132,Lists!$BL$2:$BO$78,COLUMN(),FALSE))","v":""},{"$f":"IF($E132=\"\",\"\",VLOOKUP($E132,Lists!$BL$2:$BO$78,COLUMN(),FALSE))","v":""},{"$f":"IF($E132=\"\",\"\",VLOOKUP($E132,Lists!$BL$2:$BO$78,COLUMN(),FALSE))","v":""},null,null,null,null,null,""]
[null,{"$f":"IF($E133=\"\",\"\",VLOOKUP($E133,Lists!$BL$2:$BO$78,COLUMN(),FALSE))","v":""},{"$f":"IF($E133=\"\",\"\",VLOOKUP($E133,Lists!$BL$2:$BO$78,COLUMN(),FALSE))","v":""},{"$f":"IF($E133=\"\",\"\",VLOOKUP($E133,Lists!$BL$2:$BO$78,COLUMN(),FALSE))","v":""},null,null,null,null,null,""]
[null,{"$f":"IF($E134=\"\",\"\",VLOOKUP($E134,Lists!$BL$2:$BO$78,COLUMN(),FALSE))","v":""},{"$f":"IF($E134=\"\",\"\",VLOOKUP($E134,Lists!$BL$2:$BO$78,COLUMN(),FALSE))","v":""},{"$f":"IF($E134=\"\",\"\",VLOOKUP($E134,Lists!$BL$2:$BO$78,COLUMN(),FALSE))","v":""},null,null,null,null,null,""]
[null,{"$f":"IF($E135=\"\",\"\",VLOOKUP($E135,Lists!$BL$2:$BO$78,COLUMN(),FALSE))","v":""},{"$f":"IF($E135=\"\",\"\",VLOOKUP($E135,Lists!$BL$2:$BO$78,COLUMN(),FALSE))","v":""},{"$f":"IF($E135=\"\",\"\",VLOOKUP($E135,Lists!$BL$2:$BO$78,COLUMN(),FALSE))","v":""},null,null,null,null,null,""]
[null,{"$f":"IF($E136=\"\",\"\",VLOOKUP($E136,Lists!$BL$2:$BO$78,COLUMN(),FALSE))","v":""},{"$f":"IF($E136=\"\",\"\",VLOOKUP($E136,Lists!$BL$2:$BO$78,COLUMN(),FALSE))","v":""},{"$f":"IF($E136=\"\",\"\",VLOOKUP($E136,Lists!$BL$2:$BO$78,COLUMN(),FALSE))","v":""},null,null,null,null,null,""]
[null,{"$f":"IF($E137=\"\",\"\",VLOOKUP($E137,Lists!$BL$2:$BO$78,COLUMN(),FALSE))","v":""},{"$f":"IF($E137=\"\",\"\",VLOOKUP($E137,Lists!$BL$2:$BO$78,COLUMN(),FALSE))","v":""},{"$f":"IF($E137=\"\",\"\",VLOOKUP($E137,Lists!$BL$2:$BO$78,COLUMN(),FALSE))","v":""},null,null,null,null,null,""]
[null,{"$f":"IF($E138=\"\",\"\",VLOOKUP($E138,Lists!$BL$2:$BO$78,COLUMN(),FALSE))","v":""},{"$f":"IF($E138=\"\",\"\",VLOOKUP($E138,Lists!$BL$2:$BO$78,COLUMN(),FALSE))","v":""},{"$f":"IF($E138=\"\",\"\",VLOOKUP($E138,Lists!$BL$2:$BO$78,COLUMN(),FALSE))","v":""},null,null,null,null,null,""]
[null,{"$f":"IF($E139=\"\",\"\",VLOOKUP($E139,Lists!$BL$2:$BO$78,COLUMN(),FALSE))","v":""},{"$f":"IF($E139=\"\",\"\",VLOOKUP($E139,Lists!$BL$2:$BO$78,COLUMN(),FALSE))","v":""},{"$f":"IF($E139=\"\",\"\",VLOOKUP($E139,Lists!$BL$2:$BO$78,COLUMN(),FALSE))","v":""},null,null,null,null,null,""]
[null,{"$f":"IF($E140=\"\",\"\",VLOOKUP($E140,Lists!$BL$2:$BO$78,COLUMN(),FALSE))","v":""},{"$f":"IF($E140=\"\",\"\",VLOOKUP($E140,Lists!$BL$2:$BO$78,COLUMN(),FALSE))","v":""},{"$f":"IF($E140=\"\",\"\",VLOOKUP($E140,Lists!$BL$2:$BO$78,COLUMN(),FALSE))","v":""},null,null,null,null,null,""]
[null,{"$f":"IF($E141=\"\",\"\",VLOOKUP($E141,Lists!$BL$2:$BO$78,COLUMN(),FALSE))","v":""},{"$f":"IF($E141=\"\",\"\",VLOOKUP($E141,Lists!$BL$2:$BO$78,COLUMN(),FALSE))","v":""},{"$f":"IF($E141=\"\",\"\",VLOOKUP($E141,Lists!$BL$2:$BO$78,COLUMN(),FALSE))","v":""},null,null,null,null,null,""]
[null,{"$f":"IF($E142=\"\",\"\",VLOOKUP($E142,Lists!$BL$2:$BO$78,COLUMN(),FALSE))","v":""},{"$f":"IF($E142=\"\",\"\",VLOOKUP($E142,Lists!$BL$2:$BO$78,COLUMN(),FALSE))","v":""},{"$f":"IF($E142=\"\",\"\",VLOOKUP($E142,Lists!$BL$2:$BO$78,COLUMN(),FALSE))","v":""},null,null,null,null,null,""]
[null,{"$f":"IF($E143=\"\",\"\",VLOOKUP($E143,Lists!$BL$2:$BO$78,COLUMN(),FALSE))","v":""},{"$f":"IF($E143=\"\",\"\",VLOOKUP($E143,Lists!$BL$2:$BO$78,COLUMN(),FALSE))","v":""},{"$f":"IF($E143=\"\",\"\",VLOOKUP($E143,Lists!$BL$2:$BO$78,COLUMN(),FALSE))","v":""},null,null,null,null,null,""]
[null,{"$f":"IF($E144=\"\",\"\",VLOOKUP($E144,Lists!$BL$2:$BO$78,COLUMN(),FALSE))","v":""},{"$f":"IF($E144=\"\",\"\",VLOOKUP($E144,Lists!$BL$2:$BO$78,COLUMN(),FALSE))","v":""},{"$f":"IF($E144=\"\",\"\",VLOOKUP($E144,Lists!$BL$2:$BO$78,COLUMN(),FALSE))","v":""},null,null,null,null,null,""]
[null,{"$f":"IF($E145=\"\",\"\",VLOOKUP($E145,Lists!$BL$2:$BO$78,COLUMN(),FALSE))","v":""},{"$f":"IF($E145=\"\",\"\",VLOOKUP($E145,Lists!$BL$2:$BO$78,COLUMN(),FALSE))","v":""},{"$f":"IF($E145=\"\",\"\",VLOOKUP($E145,Lists!$BL$2:$BO$78,COLUMN(),FALSE))","v":""},null,null,null,null,null,""]
[null,{"$f":"IF($E146=\"\",\"\",VLOOKUP($E146,Lists!$BL$2:$BO$78,COLUMN(),FALSE))","v":""},{"$f":"IF($E146=\"\",\"\",VLOOKUP($E146,Lists!$BL$2:$BO$78,COLUMN(),FALSE))","v":""},{"$f":"IF($E146=\"\",\"\",VLOOKUP($E146,Lists!$BL$2:$BO$78,COLUMN(),FALSE))","v":""},null,null,null,null,null,""]
[null,{"$f":"IF($E147=\"\",\"\",VLOOKUP($E147,Lists!$BL$2:$BO$78,COLUMN(),FALSE))","v":""},{"$f":"IF($E147=\"\",\"\",VLOOKUP($E147,Lists!$BL$2:$BO$78,COLUMN(),FALSE))","v":""},{"$f":"IF($E147=\"\",\"\",VLOOKUP($E147,Lists!$BL$2:$BO$78,COLUMN(),FALSE))","v":""},null,null,null,null,null,""]
[null,{"$f":"IF($E148=\"\",\"\",VLOOKUP($E148,Lists!$BL$2:$BO$78,COLUMN(),FALSE))","v":""},{"$f":"IF($E148=\"\",\"\",VLOOKUP($E148,Lists!$BL$2:$BO$78,COLUMN(),FALSE))","v":""},{"$f":"IF($E148=\"\",\"\",VLOOKUP($E148,Lists!$BL$2:$BO$78,COLUMN(),FALSE))","v":""},null,null,null,null,null,""]
[null,{"$f":"IF($E149=\"\",\"\",VLOOKUP($E149,Lists!$BL$2:$BO$78,COLUMN(),FALSE))","v":""},{"$f":"IF($E149=\"\",\"\",VLOOKUP($E149,Lists!$BL$2:$BO$78,COLUMN(),FALSE))","v":""},{"$f":"IF($E149=\"\",\"\",VLOOKUP($E149,Lists!$BL$2:$BO$78,COLUMN(),FALSE))","v":""},null,null,null,null,null,""]
[null,{"$f":"IF($E150=\"\",\"\",VLOOKUP($E150,Lists!$BL$2:$BO$78,COLUMN(),FALSE))","v":""},{"$f":"IF($E150=\"\",\"\",VLOOKUP($E150,Lists!$BL$2:$BO$78,COLUMN(),FALSE))","v":""},{"$f":"IF($E150=\"\",\"\",VLOOKUP($E150,Lists!$BL$2:$BO$78,COLUMN(),FALSE))","v":""},null,null,null,null,null,""]
[null,{"$f":"IF($E151=\"\",\"\",VLOOKUP($E151,Lists!$BL$2:$BO$78,COLUMN(),FALSE))","v":""},{"$f":"IF($E151=\"\",\"\",VLOOKUP($E151,Lists!$BL$2:$BO$78,COLUMN(),FALSE))","v":""},{"$f":"IF($E151=\"\",\"\",VLOOKUP($E151,Lists!$BL$2:$BO$78,COLUMN(),FALSE))","v":""},null,null,null,null,null,""]
[null,{"$f":"IF($E152=\"\",\"\",VLOOKUP($E152,Lists!$BL$2:$BO$78,COLUMN(),FALSE))","v":""},{"$f":"IF($E152=\"\",\"\",VLOOKUP($E152,Lists!$BL$2:$BO$78,COLUMN(),FALSE))","v":""},{"$f":"IF($E152=\"\",\"\",VLOOKUP($E152,Lists!$BL$2:$BO$78,COLUMN(),FALSE))","v":""},null,null,null,null,null,""]
[null,{"$f":"IF($E153=\"\",\"\",VLOOKUP($E153,Lists!$BL$2:$BO$78,COLUMN(),FALSE))","v":""},{"$f":"IF($E153=\"\",\"\",VLOOKUP($E153,Lists!$BL$2:$BO$78,COLUMN(),FALSE))","v":""},{"$f":"IF($E153=\"\",\"\",VLOOKUP($E153,Lists!$BL$2:$BO$78,COLUMN(),FALSE))","v":""},null,null,null,null,null,{"$f":"IF(I153=\"\",\"\",(VALUE(TEXT(H153,\"m/dd/yy \")&TEXT(I153,\"hh:mm:ss\"))-(VALUE(TEXT(F153,\"m/dd/yy \")&TEXT(G153,\"hh:mm:ss\"))))*24)","v":""}]
[null,{"$f":"IF($E154=\"\",\"\",VLOOKUP($E154,Lists!$BL$2:$BO$78,COLUMN(),FALSE))","v":""},{"$f":"IF($E154=\"\",\"\",VLOOKUP($E154,Lists!$BL$2:$BO$78,COLUMN(),FALSE))","v":""},{"$f":"IF($E154=\"\",\"\",VLOOKUP($E154,Lists!$BL$2:$BO$78,COLUMN(),FALSE))","v":""},null,null,null,null,null,""]
[null,{"$f":"IF($E155=\"\",\"\",VLOOKUP($E155,Lists!$BL$2:$BO$78,COLUMN(),FALSE))","v":""},{"$f":"IF($E155=\"\",\"\",VLOOKUP($E155,Lists!$BL$2:$BO$78,COLUMN(),FALSE))","v":""},{"$f":"IF($E155=\"\",\"\",VLOOKUP($E155,Lists!$BL$2:$BO$78,COLUMN(),FALSE))","v":""},null,null,null,null,null,""]
[null,{"$f":"IF($E156=\"\",\"\",VLOOKUP($E156,Lists!$BL$2:$BO$78,COLUMN(),FALSE))","v":""},{"$f":"IF($E156=\"\",\"\",VLOOKUP($E156,Lists!$BL$2:$BO$78,COLUMN(),FALSE))","v":""},{"$f":"IF($E156=\"\",\"\",VLOOKUP($E156,Lists!$BL$2:$BO$78,COLUMN(),FALSE))","v":""},null,null,null,null,null,""]
[null,{"$f":"IF($E157=\"\",\"\",VLOOKUP($E157,Lists!$BL$2:$BO$78,COLUMN(),FALSE))","v":""},{"$f":"IF($E157=\"\",\"\",VLOOKUP($E157,Lists!$BL$2:$BO$78,COLUMN(),FALSE))","v":""},{"$f":"IF($E157=\"\",\"\",VLOOKUP($E157,Lists!$BL$2:$BO$78,COLUMN(),FALSE))","v":""},null,null,null,null,null,""]
[null,{"$f":"IF($E158=\"\",\"\",VLOOKUP($E158,Lists!$BL$2:$BO$78,COLUMN(),FALSE))","v":""},{"$f":"IF($E158=\"\",\"\",VLOOKUP($E158,Lists!$BL$2:$BO$78,COLUMN(),FALSE))","v":""},{"$f":"IF($E158=\"\",\"\",VLOOKUP($E158,Lists!$BL$2:$BO$78,COLUMN(),FALSE))","v":""},null,null,null,null,null,""]
[null,{"$f":"IF($E159=\"\",\"\",VLOOKUP($E159,Lists!$BL$2:$BO$78,COLUMN(),FALSE))","v":""},{"$f":"IF($E159=\"\",\"\",VLOOKUP($E159,Lists!$BL$2:$BO$78,COLUMN(),FALSE))","v":""},{"$f":"IF($E159=\"\",\"\",VLOOKUP($E159,Lists!$BL$2:$BO$78,COLUMN(),FALSE))","v":""},null,null,null,null,null,""]
[null,{"$f":"IF($E160=\"\",\"\",VLOOKUP($E160,Lists!$BL$2:$BO$78,COLUMN(),FALSE))","v":""},{"$f":"IF($E160=\"\",\"\",VLOOKUP($E160,Lists!$BL$2:$BO$78,COLUMN(),FALSE))","v":""},{"$f":"IF($E160=\"\",\"\",VLOOKUP($E160,Lists!$BL$2:$BO$78,COLUMN(),FALSE))","v":""},null,null,null,null,null,""]
[null,{"$f":"IF($E161=\"\",\"\",VLOOKUP($E161,Lists!$BL$2:$BO$78,COLUMN(),FALSE))","v":""},{"$f":"IF($E161=\"\",\"\",VLOOKUP($E161,Lists!$BL$2:$BO$78,COLUMN(),FALSE))","v":""},{"$f":"IF($E161=\"\",\"\",VLOOKUP($E161,Lists!$BL$2:$BO$78,COLUMN(),FALSE))","v":""},null,null,null,null,null,""]
[null,{"$f":"IF($E162=\"\",\"\",VLOOKUP($E162,Lists!$BL$2:$BO$78,COLUMN(),FALSE))","v":""},{"$f":"IF($E162=\"\",\"\",VLOOKUP($E162,Lists!$BL$2:$BO$78,COLUMN(),FALSE))","v":""},{"$f":"IF($E162=\"\",\"\",VLOOKUP($E162,Lists!$BL$2:$BO$78,COLUMN(),FALSE))","v":""},null,null,null,null,null,""]
[null,{"$f":"IF($E163=\"\",\"\",VLOOKUP($E163,Lists!$BL$2:$BO$78,COLUMN(),FALSE))","v":""},{"$f":"IF($E163=\"\",\"\",VLOOKUP($E163,Lists!$BL$2:$BO$78,COLUMN(),FALSE))","v":""},{"$f":"IF($E163=\"\",\"\",VLOOKUP($E163,Lists!$BL$2:$BO$78,COLUMN(),FALSE))","v":""},null,null,null,null,null,""]
[null,{"$f":"IF($E164=\"\",\"\",VLOOKUP($E164,Lists!$BL$2:$BO$78,COLUMN(),FALSE))","v":""},{"$f":"IF($E164=\"\",\"\",VLOOKUP($E164,Lists!$BL$2:$BO$78,COLUMN(),FALSE))","v":""},{"$f":"IF($E164=\"\",\"\",VLOOKUP($E164,Lists!$BL$2:$BO$78,COLUMN(),FALSE))","v":""},null,null,null,null,null,""]
[null,{"$f":"IF($E165=\"\",\"\",VLOOKUP($E165,Lists!$BL$2:$BO$78,COLUMN(),FALSE))","v":""},{"$f":"IF($E165=\"\",\"\",VLOOKUP($E165,Lists!$BL$2:$BO$78,COLUMN(),FALSE))","v":""},{"$f":"IF($E165=\"\",\"\",VLOOKUP($E165,Lists!$BL$2:$BO$78,COLUMN(),FALSE))","v":""},null,null,null,null,null,""]
[null,{"$f":"IF($E166=\"\",\"\",VLOOKUP($E166,Lists!$BL$2:$BO$78,COLUMN(),FALSE))","v":""},{"$f":"IF($E166=\"\",\"\",VLOOKUP($E166,Lists!$BL$2:$BO$78,COLUMN(),FALSE))","v":""},{"$f":"IF($E166=\"\",\"\",VLOOKUP($E166,Lists!$BL$2:$BO$78,COLUMN(),FALSE))","v":""},null,null,null,null,null,""]
[null,{"$f":"IF($E167=\"\",\"\",VLOOKUP($E167,Lists!$BL$2:$BO$78,COLUMN(),FALSE))","v":""},{"$f":"IF($E167=\"\",\"\",VLOOKUP($E167,Lists!$BL$2:$BO$78,COLUMN(),FALSE))","v":""},{"$f":"IF($E167=\"\",\"\",VLOOKUP($E167,Lists!$BL$2:$BO$78,COLUMN(),FALSE))","v":""},null,null,null,null,null,""]
[null,{"$f":"IF($E168=\"\",\"\",VLOOKUP($E168,Lists!$BL$2:$BO$78,COLUMN(),FALSE))","v":""},{"$f":"IF($E168=\"\",\"\",VLOOKUP($E168,Lists!$BL$2:$BO$78,COLUMN(),FALSE))","v":""},{"$f":"IF($E168=\"\",\"\",VLOOKUP($E168,Lists!$BL$2:$BO$78,COLUMN(),FALSE))","v":""},null,null,null,null,null,""]
[null,{"$f":"IF($E169=\"\",\"\",VLOOKUP($E169,Lists!$BL$2:$BO$78,COLUMN(),FALSE))","v":""},{"$f":"IF($E169=\"\",\"\",VLOOKUP($E169,Lists!$BL$2:$BO$78,COLUMN(),FALSE))","v":""},{"$f":"IF($E169=\"\",\"\",VLOOKUP($E169,Lists!$BL$2:$BO$78,COLUMN(),FALSE))","v":""},null,null,null,null,null,""]
[null,{"$f":"IF($E170=\"\",\"\",VLOOKUP($E170,Lists!$BL$2:$BO$78,COLUMN(),FALSE))","v":""},{"$f":"IF($E170=\"\",\"\",VLOOKUP($E170,Lists!$BL$2:$BO$78,COLUMN(),FALSE))","v":""},{"$f":"IF($E170=\"\",\"\",VLOOKUP($E170,Lists!$BL$2:$BO$78,COLUMN(),FALSE))","v":""},null,null,null,null,null,""]
[null,{"$f":"IF($E171=\"\",\"\",VLOOKUP($E171,Lists!$BL$2:$BO$78,COLUMN(),FALSE))","v":""},{"$f":"IF($E171=\"\",\"\",VLOOKUP($E171,Lists!$BL$2:$BO$78,COLUMN(),FALSE))","v":""},{"$f":"IF($E171=\"\",\"\",VLOOKUP($E171,Lists!$BL$2:$BO$78,COLUMN(),FALSE))","v":""},null,null,null,null,null,""]
[null,{"$f":"IF($E172=\"\",\"\",VLOOKUP($E172,Lists!$BL$2:$BO$78,COLUMN(),FALSE))","v":""},{"$f":"IF($E172=\"\",\"\",VLOOKUP($E172,Lists!$BL$2:$BO$78,COLUMN(),FALSE))","v":""},{"$f":"IF($E172=\"\",\"\",VLOOKUP($E172,Lists!$BL$2:$BO$78,COLUMN(),FALSE))","v":""},null,null,null,null,null,""]
[null,{"$f":"IF($E173=\"\",\"\",VLOOKUP($E173,Lists!$BL$2:$BO$78,COLUMN(),FALSE))","v":""},{"$f":"IF($E173=\"\",\"\",VLOOKUP($E173,Lists!$BL$2:$BO$78,COLUMN(),FALSE))","v":""},{"$f":"IF($E173=\"\",\"\",VLOOKUP($E173,Lists!$BL$2:$BO$78,COLUMN(),FALSE))","v":""},null,null,null,null,null,""]
[null,{"$f":"IF($E174=\"\",\"\",VLOOKUP($E174,Lists!$BL$2:$BO$78,COLUMN(),FALSE))","v":""},{"$f":"IF($E174=\"\",\"\",VLOOKUP($E174,Lists!$BL$2:$BO$78,COLUMN(),FALSE))","v":""},{"$f":"IF($E174=\"\",\"\",VLOOKUP($E174,Lists!$BL$2:$BO$78,COLUMN(),FALSE))","v":""},null,null,null,null,null,""]
[null,{"$f":"IF($E175=\"\",\"\",VLOOKUP($E175,Lists!$BL$2:$BO$78,COLUMN(),FALSE))","v":""},{"$f":"IF($E175=\"\",\"\",VLOOKUP($E175,Lists!$BL$2:$BO$78,COLUMN(),FALSE))","v":""},{"$f":"IF($E175=\"\",\"\",VLOOKUP($E175,Lists!$BL$2:$BO$78,COLUMN(),FALSE))","v":""},null,null,null,null,null,""]
[null,{"$f":"IF($E176=\"\",\"\",VLOOKUP($E176,Lists!$BL$2:$BO$78,COLUMN(),FALSE))","v":""},{"$f":"IF($E176=\"\",\"\",VLOOKUP($E176,Lists!$BL$2:$BO$78,COLUMN(),FALSE))","v":""},{"$f":"IF($E176=\"\",\"\",VLOOKUP($E176,Lists!$BL$2:$BO$78,COLUMN(),FALSE))","v":""},null,null,null,null,null,""]
[null,{"$f":"IF($E177=\"\",\"\",VLOOKUP($E177,Lists!$BL$2:$BO$78,COLUMN(),FALSE))","v":""},{"$f":"IF($E177=\"\",\"\",VLOOKUP($E177,Lists!$BL$2:$BO$78,COLUMN(),FALSE))","v":""},{"$f":"IF($E177=\"\",\"\",VLOOKUP($E177,Lists!$BL$2:$BO$78,COLUMN(),FALSE))","v":""},null,null,null,null,null,""]
[null,{"$f":"IF($E178=\"\",\"\",VLOOKUP($E178,Lists!$BL$2:$BO$78,COLUMN(),FALSE))","v":""},{"$f":"IF($E178=\"\",\"\",VLOOKUP($E178,Lists!$BL$2:$BO$78,COLUMN(),FALSE))","v":""},{"$f":"IF($E178=\"\",\"\",VLOOKUP($E178,Lists!$BL$2:$BO$78,COLUMN(),FALSE))","v":""},null,null,null,null,null,""]
[null,{"$f":"IF($E179=\"\",\"\",VLOOKUP($E179,Lists!$BL$2:$BO$78,COLUMN(),FALSE))","v":""},{"$f":"IF($E179=\"\",\"\",VLOOKUP($E179,Lists!$BL$2:$BO$78,COLUMN(),FALSE))","v":""},{"$f":"IF($E179=\"\",\"\",VLOOKUP($E179,Lists!$BL$2:$BO$78,COLUMN(),FALSE))","v":""},null,null,null,null,null,""]
[null,{"$f":"IF($E180=\"\",\"\",VLOOKUP($E180,Lists!$BL$2:$BO$78,COLUMN(),FALSE))","v":""},{"$f":"IF($E180=\"\",\"\",VLOOKUP($E180,Lists!$BL$2:$BO$78,COLUMN(),FALSE))","v":""},{"$f":"IF($E180=\"\",\"\",VLOOKUP($E180,Lists!$BL$2:$BO$78,COLUMN(),FALSE))","v":""},null,null,null,null,null,""]
[null,{"$f":"IF($E181=\"\",\"\",VLOOKUP($E181,Lists!$BL$2:$BO$78,COLUMN(),FALSE))","v":""},{"$f":"IF($E181=\"\",\"\",VLOOKUP($E181,Lists!$BL$2:$BO$78,COLUMN(),FALSE))","v":""},{"$f":"IF($E181=\"\",\"\",VLOOKUP($E181,Lists!$BL$2:$BO$78,COLUMN(),FALSE))","v":""},null,null,null,null,null,""]
[null,{"$f":"IF($E182=\"\",\"\",VLOOKUP($E182,Lists!$BL$2:$BO$78,COLUMN(),FALSE))","v":""},{"$f":"IF($E182=\"\",\"\",VLOOKUP($E182,Lists!$BL$2:$BO$78,COLUMN(),FALSE))","v":""},{"$f":"IF($E182=\"\",\"\",VLOOKUP($E182,Lists!$BL$2:$BO$78,COLUMN(),FALSE))","v":""},null,null,null,null,null,""]
[null,{"$f":"IF($E183=\"\",\"\",VLOOKUP($E183,Lists!$BL$2:$BO$78,COLUMN(),FALSE))","v":""},{"$f":"IF($E183=\"\",\"\",VLOOKUP($E183,Lists!$BL$2:$BO$78,COLUMN(),FALSE))","v":""},{"$f":"IF($E183=\"\",\"\",VLOOKUP($E183,Lists!$BL$2:$BO$78,COLUMN(),FALSE))","v":""},null,null,null,null,null,""]
[null,{"$f":"IF($E184=\"\",\"\",VLOOKUP($E184,Lists!$BL$2:$BO$78,COLUMN(),FALSE))","v":""},{"$f":"IF($E184=\"\",\"\",VLOOKUP($E184,Lists!$BL$2:$BO$78,COLUMN(),FALSE))","v":""},{"$f":"IF($E184=\"\",\"\",VLOOKUP($E184,Lists!$BL$2:$BO$78,COLUMN(),FALSE))","v":""},null,null,null,null,null,""]
[null,{"$f":"IF($E185=\"\",\"\",VLOOKUP($E185,Lists!$BL$2:$BO$78,COLUMN(),FALSE))","v":""},{"$f":"IF($E185=\"\",\"\",VLOOKUP($E185,Lists!$BL$2:$BO$78,COLUMN(),FALSE))","v":""},{"$f":"IF($E185=\"\",\"\",VLOOKUP($E185,Lists!$BL$2:$BO$78,COLUMN(),FALSE))","v":""},null,null,null,null,null,""]
[null,{"$f":"IF($E186=\"\",\"\",VLOOKUP($E186,Lists!$BL$2:$BO$78,COLUMN(),FALSE))","v":""},{"$f":"IF($E186=\"\",\"\",VLOOKUP($E186,Lists!$BL$2:$BO$78,COLUMN(),FALSE))","v":""},{"$f":"IF($E186=\"\",\"\",VLOOKUP($E186,Lists!$BL$2:$BO$78,COLUMN(),FALSE))","v":""},null,null,null,null,null,""]
[null,{"$f":"IF($E187=\"\",\"\",VLOOKUP($E187,Lists!$BL$2:$BO$78,COLUMN(),FALSE))","v":""},{"$f":"IF($E187=\"\",\"\",VLOOKUP($E187,Lists!$BL$2:$BO$78,COLUMN(),FALSE))","v":""},{"$f":"IF($E187=\"\",\"\",VLOOKUP($E187,Lists!$BL$2:$BO$78,COLUMN(),FALSE))","v":""},null,null,null,null,null,""]
[null,{"$f":"IF($E188=\"\",\"\",VLOOKUP($E188,Lists!$BL$2:$BO$78,COLUMN(),FALSE))","v":""},{"$f":"IF($E188=\"\",\"\",VLOOKUP($E188,Lists!$BL$2:$BO$78,COLUMN(),FALSE))","v":""},{"$f":"IF($E188=\"\",\"\",VLOOKUP($E188,Lists!$BL$2:$BO$78,COLUMN(),FALSE))","v":""},null,null,null,null,null,""]
[null,{"$f":"IF($E189=\"\",\"\",VLOOKUP($E189,Lists!$BL$2:$BO$78,COLUMN(),FALSE))","v":""},{"$f":"IF($E189=\"\",\"\",VLOOKUP($E189,Lists!$BL$2:$BO$78,COLUMN(),FALSE))","v":""},{"$f":"IF($E189=\"\",\"\",VLOOKUP($E189,Lists!$BL$2:$BO$78,COLUMN(),FALSE))","v":""},null,null,null,null,null,""]
[null,{"$f":"IF($E190=\"\",\"\",VLOOKUP($E190,Lists!$BL$2:$BO$78,COLUMN(),FALSE))","v":""},{"$f":"IF($E190=\"\",\"\",VLOOKUP($E190,Lists!$BL$2:$BO$78,COLUMN(),FALSE))","v":""},{"$f":"IF($E190=\"\",\"\",VLOOKUP($E190,Lists!$BL$2:$BO$78,COLUMN(),FALSE))","v":""},null,null,null,null,null,""]
[null,{"$f":"IF($E191=\"\",\"\",VLOOKUP($E191,Lists!$BL$2:$BO$78,COLUMN(),FALSE))","v":""},{"$f":"IF($E191=\"\",\"\",VLOOKUP($E191,Lists!$BL$2:$BO$78,COLUMN(),FALSE))","v":""},{"$f":"IF($E191=\"\",\"\",VLOOKUP($E191,Lists!$BL$2:$BO$78,COLUMN(),FALSE))","v":""},null,null,null,null,null,""]
[null,{"$f":"IF($E192=\"\",\"\",VLOOKUP($E192,Lists!$BL$2:$BO$78,COLUMN(),FALSE))","v":""},{"$f":"IF($E192=\"\",\"\",VLOOKUP($E192,Lists!$BL$2:$BO$78,COLUMN(),FALSE))","v":""},{"$f":"IF($E192=\"\",\"\",VLOOKUP($E192,Lists!$BL$2:$BO$78,COLUMN(),FALSE))","v":""},null,null,null,null,null,""]
[null,{"$f":"IF($E193=\"\",\"\",VLOOKUP($E193,Lists!$BL$2:$BO$78,COLUMN(),FALSE))","v":""},{"$f":"IF($E193=\"\",\"\",VLOOKUP($E193,Lists!$BL$2:$BO$78,COLUMN(),FALSE))","v":""},{"$f":"IF($E193=\"\",\"\",VLOOKUP($E193,Lists!$BL$2:$BO$78,COLUMN(),FALSE))","v":""},null,null,null,null,null,""]
[null,{"$f":"IF($E194=\"\",\"\",VLOOKUP($E194,Lists!$BL$2:$BO$78,COLUMN(),FALSE))","v":""},{"$f":"IF($E194=\"\",\"\",VLOOKUP($E194,Lists!$BL$2:$BO$78,COLUMN(),FALSE))","v":""},{"$f":"IF($E194=\"\",\"\",VLOOKUP($E194,Lists!$BL$2:$BO$78,COLUMN(),FALSE))","v":""},null,null,null,null,null,""]
[null,{"$f":"IF($E195=\"\",\"\",VLOOKUP($E195,Lists!$BL$2:$BO$78,COLUMN(),FALSE))","v":""},{"$f":"IF($E195=\"\",\"\",VLOOKUP($E195,Lists!$BL$2:$BO$78,COLUMN(),FALSE))","v":""},{"$f":"IF($E195=\"\",\"\",VLOOKUP($E195,Lists!$BL$2:$BO$78,COLUMN(),FALSE))","v":""},null,null,null,null,null,""]
[null,{"$f":"IF($E196=\"\",\"\",VLOOKUP($E196,Lists!$BL$2:$BO$78,COLUMN(),FALSE))","v":""},{"$f":"IF($E196=\"\",\"\",VLOOKUP($E196,Lists!$BL$2:$BO$78,COLUMN(),FALSE))","v":""},{"$f":"IF($E196=\"\",\"\",VLOOKUP($E196,Lists!$BL$2:$BO$78,COLUMN(),FALSE))","v":""},null,null,null,null,null,""]
[null,{"$f":"IF($E197=\"\",\"\",VLOOKUP($E197,Lists!$BL$2:$BO$78,COLUMN(),FALSE))","v":""},{"$f":"IF($E197=\"\",\"\",VLOOKUP($E197,Lists!$BL$2:$BO$78,COLUMN(),FALSE))","v":""},{"$f":"IF($E197=\"\",\"\",VLOOKUP($E197,Lists!$BL$2:$BO$78,COLUMN(),FALSE))","v":""},null,null,null,null,null,""]
[null,{"$f":"IF($E198=\"\",\"\",VLOOKUP($E198,Lists!$BL$2:$BO$78,COLUMN(),FALSE))","v":""},{"$f":"IF($E198=\"\",\"\",VLOOKUP($E198,Lists!$BL$2:$BO$78,COLUMN(),FALSE))","v":""},{"$f":"IF($E198=\"\",\"\",VLOOKUP($E198,Lists!$BL$2:$BO$78,COLUMN(),FALSE))","v":""},null,null,null,null,null,""]
[null,{"$f":"IF($E199=\"\",\"\",VLOOKUP($E199,Lists!$BL$2:$BO$78,COLUMN(),FALSE))","v":""},{"$f":"IF($E199=\"\",\"\",VLOOKUP($E199,Lists!$BL$2:$BO$78,COLUMN(),FALSE))","v":""},{"$f":"IF($E199=\"\",\"\",VLOOKUP($E199,Lists!$BL$2:$BO$78,COLUMN(),FALSE))","v":""},null,null,null,null,null,""]
[null,{"$f":"IF($E200=\"\",\"\",VLOOKUP($E200,Lists!$BL$2:$BO$78,COLUMN(),FALSE))","v":""},{"$f":"IF($E200=\"\",\"\",VLOOKUP($E200,Lists!$BL$2:$BO$78,COLUMN(),FALSE))","v":""},{"$f":"IF($E200=\"\",\"\",VLOOKUP($E200,Lists!$BL$2:$BO$78,COLUMN(),FALSE))","v":""},null,null,null,null,null,""]
[null,{"$f":"IF($E201=\"\",\"\",VLOOKUP($E201,Lists!$BL$2:$BO$78,COLUMN(),FALSE))","v":""},{"$f":"IF($E201=\"\",\"\",VLOOKUP($E201,Lists!$BL$2:$BO$78,COLUMN(),FALSE))","v":""},{"$f":"IF($E201=\"\",\"\",VLOOKUP($E201,Lists!$BL$2:$BO$78,COLUMN(),FALSE))","v":""},null,null,null,null,null,""]
[null,{"$f":"IF($E202=\"\",\"\",VLOOKUP($E202,Lists!$BL$2:$BO$78,COLUMN(),FALSE))","v":""},{"$f":"IF($E202=\"\",\"\",VLOOKUP($E202,Lists!$BL$2:$BO$78,COLUMN(),FALSE))","v":""},{"$f":"IF($E202=\"\",\"\",VLOOKUP($E202,Lists!$BL$2:$BO$78,COLUMN(),FALSE))","v":""},null,null,null,null,null,""]
[null,{"$f":"IF($E203=\"\",\"\",VLOOKUP($E203,Lists!$BL$2:$BO$78,COLUMN(),FALSE))","v":""},{"$f":"IF($E203=\"\",\"\",VLOOKUP($E203,Lists!$BL$2:$BO$78,COLUMN(),FALSE))","v":""},{"$f":"IF($E203=\"\",\"\",VLOOKUP($E203,Lists!$BL$2:$BO$78,COLUMN(),FALSE))","v":""},null,null,null,null,null,""]
[null,{"$f":"IF($E204=\"\",\"\",VLOOKUP($E204,Lists!$BL$2:$BO$78,COLUMN(),FALSE))","v":""},{"$f":"IF($E204=\"\",\"\",VLOOKUP($E204,Lists!$BL$2:$BO$78,COLUMN(),FALSE))","v":""},{"$f":"IF($E204=\"\",\"\",VLOOKUP($E204,Lists!$BL$2:$BO$78,COLUMN(),FALSE))","v":""},null,null,null,null,null,""]
[null,{"$f":"IF($E205=\"\",\"\",VLOOKUP($E205,Lists!$BL$2:$BO$78,COLUMN(),FALSE))","v":""},{"$f":"IF($E205=\"\",\"\",VLOOKUP($E205,Lists!$BL$2:$BO$78,COLUMN(),FALSE))","v":""},{"$f":"IF($E205=\"\",\"\",VLOOKUP($E205,Lists!$BL$2:$BO$78,COLUMN(),FALSE))","v":""},null,null,null,null,null,""]
[null,{"$f":"IF($E206=\"\",\"\",VLOOKUP($E206,Lists!$BL$2:$BO$78,COLUMN(),FALSE))","v":""},{"$f":"IF($E206=\"\",\"\",VLOOKUP($E206,Lists!$BL$2:$BO$78,COLUMN(),FALSE))","v":""},{"$f":"IF($E206=\"\",\"\",VLOOKUP($E206,Lists!$BL$2:$BO$78,COLUMN(),FALSE))","v":""},null,null,null,null,null,""]
[null,{"$f":"IF($E207=\"\",\"\",VLOOKUP($E207,Lists!$BL$2:$BO$78,COLUMN(),FALSE))","v":""},{"$f":"IF($E207=\"\",\"\",VLOOKUP($E207,Lists!$BL$2:$BO$78,COLUMN(),FALSE))","v":""},{"$f":"IF($E207=\"\",\"\",VLOOKUP($E207,Lists!$BL$2:$BO$78,COLUMN(),FALSE))","v":""},null,null,null,null,null,""]
[null,{"$f":"IF($E208=\"\",\"\",VLOOKUP($E208,Lists!$BL$2:$BO$78,COLUMN(),FALSE))","v":""},{"$f":"IF($E208=\"\",\"\",VLOOKUP($E208,Lists!$BL$2:$BO$78,COLUMN(),FALSE))","v":""},{"$f":"IF($E208=\"\",\"\",VLOOKUP($E208,Lists!$BL$2:$BO$78,COLUMN(),FALSE))","v":""},null,null,null,null,null,""]
[null,{"$f":"IF($E209=\"\",\"\",VLOOKUP($E209,Lists!$BL$2:$BO$78,COLUMN(),FALSE))","v":""},{"$f":"IF($E209=\"\",\"\",VLOOKUP($E209,Lists!$BL$2:$BO$78,COLUMN(),FALSE))","v":""},{"$f":"IF($E209=\"\",\"\",VLOOKUP($E209,Lists!$BL$2:$BO$78,COLUMN(),FALSE))","v":""},null,null,null,null,null,""]
[null,{"$f":"IF($E210=\"\",\"\",VLOOKUP($E210,Lists!$BL$2:$BO$78,COLUMN(),FALSE))","v":""},{"$f":"IF($E210=\"\",\"\",VLOOKUP($E210,Lists!$BL$2:$BO$78,COLUMN(),FALSE))","v":""},{"$f":"IF($E210=\"\",\"\",VLOOKUP($E210,Lists!$BL$2:$BO$78,COLUMN(),FALSE))","v":""},null,null,null,null,null,""]
[null,{"$f":"IF($E211=\"\",\"\",VLOOKUP($E211,Lists!$BL$2:$BO$78,COLUMN(),FALSE))","v":""},{"$f":"IF($E211=\"\",\"\",VLOOKUP($E211,Lists!$BL$2:$BO$78,COLUMN(),FALSE))","v":""},{"$f":"IF($E211=\"\",\"\",VLOOKUP($E211,Lists!$BL$2:$BO$78,COLUMN(),FALSE))","v":""},null,null,null,null,null,""]
[null,{"$f":"IF($E212=\"\",\"\",VLOOKUP($E212,Lists!$BL$2:$BO$78,COLUMN(),FALSE))","v":""},{"$f":"IF($E212=\"\",\"\",VLOOKUP($E212,Lists!$BL$2:$BO$78,COLUMN(),FALSE))","v":""},{"$f":"IF($E212=\"\",\"\",VLOOKUP($E212,Lists!$BL$2:$BO$78,COLUMN(),FALSE))","v":""},null,null,null,null,null,""]
[null,{"$f":"IF($E213=\"\",\"\",VLOOKUP($E213,Lists!$BL$2:$BO$78,COLUMN(),FALSE))","v":""},{"$f":"IF($E213=\"\",\"\",VLOOKUP($E213,Lists!$BL$2:$BO$78,COLUMN(),FALSE))","v":""},{"$f":"IF($E213=\"\",\"\",VLOOKUP($E213,Lists!$BL$2:$BO$78,COLUMN(),FALSE))","v":""},null,null,null,null,null,""]
[null,{"$f":"IF($E214=\"\",\"\",VLOOKUP($E214,Lists!$BL$2:$BO$78,COLUMN(),FALSE))","v":""},{"$f":"IF($E214=\"\",\"\",VLOOKUP($E214,Lists!$BL$2:$BO$78,COLUMN(),FALSE))","v":""},{"$f":"IF($E214=\"\",\"\",VLOOKUP($E214,Lists!$BL$2:$BO$78,COLUMN(),FALSE))","v":""},null,null,null,null,null,""]
[null,{"$f":"IF($E215=\"\",\"\",VLOOKUP($E215,Lists!$BL$2:$BO$78,COLUMN(),FALSE))","v":""},{"$f":"IF($E215=\"\",\"\",VLOOKUP($E215,Lists!$BL$2:$BO$78,COLUMN(),FALSE))","v":""},{"$f":"IF($E215=\"\",\"\",VLOOKUP($E215,Lists!$BL$2:$BO$78,COLUMN(),FALSE))","v":""},null,null,null,null,null,""]
[null,{"$f":"IF($E216=\"\",\"\",VLOOKUP($E216,Lists!$BL$2:$BO$78,COLUMN(),FALSE))","v":""},{"$f":"IF($E216=\"\",\"\",VLOOKUP($E216,Lists!$BL$2:$BO$78,COLUMN(),FALSE))","v":""},{"$f":"IF($E216=\"\",\"\",VLOOKUP($E216,Lists!$BL$2:$BO$78,COLUMN(),FALSE))","v":""},null,null,null,null,null,""]
[null,{"$f":"IF($E217=\"\",\"\",VLOOKUP($E217,Lists!$BL$2:$BO$78,COLUMN(),FALSE))","v":""},{"$f":"IF($E217=\"\",\"\",VLOOKUP($E217,Lists!$BL$2:$BO$78,COLUMN(),FALSE))","v":""},{"$f":"IF($E217=\"\",\"\",VLOOKUP($E217,Lists!$BL$2:$BO$78,COLUMN(),FALSE))","v":""},null,null,null,null,null,{"$f":"IF(I217=\"\",\"\",(VALUE(TEXT(H217,\"m/dd/yy \")&TEXT(I217,\"hh:mm:ss\"))-(VALUE(TEXT(F217,\"m/dd/yy \")&TEXT(G217,\"hh:mm:ss\"))))*24)","v":""}]
[null,{"$f":"IF($E218=\"\",\"\",VLOOKUP($E218,Lists!$BL$2:$BO$78,COLUMN(),FALSE))","v":""},{"$f":"IF($E218=\"\",\"\",VLOOKUP($E218,Lists!$BL$2:$BO$78,COLUMN(),FALSE))","v":""},{"$f":"IF($E218=\"\",\"\",VLOOKUP($E218,Lists!$BL$2:$BO$78,COLUMN(),FALSE))","v":""},null,null,null,null,null,""]
[null,{"$f":"IF($E219=\"\",\"\",VLOOKUP($E219,Lists!$BL$2:$BO$78,COLUMN(),FALSE))","v":""},{"$f":"IF($E219=\"\",\"\",VLOOKUP($E219,Lists!$BL$2:$BO$78,COLUMN(),FALSE))","v":""},{"$f":"IF($E219=\"\",\"\",VLOOKUP($E219,Lists!$BL$2:$BO$78,COLUMN(),FALSE))","v":""},null,null,null,null,null,""]
[null,{"$f":"IF($E220=\"\",\"\",VLOOKUP($E220,Lists!$BL$2:$BO$78,COLUMN(),FALSE))","v":""},{"$f":"IF($E220=\"\",\"\",VLOOKUP($E220,Lists!$BL$2:$BO$78,COLUMN(),FALSE))","v":""},{"$f":"IF($E220=\"\",\"\",VLOOKUP($E220,Lists!$BL$2:$BO$78,COLUMN(),FALSE))","v":""},null,null,null,null,null,""]
[null,{"$f":"IF($E221=\"\",\"\",VLOOKUP($E221,Lists!$BL$2:$BO$78,COLUMN(),FALSE))","v":""},{"$f":"IF($E221=\"\",\"\",VLOOKUP($E221,Lists!$BL$2:$BO$78,COLUMN(),FALSE))","v":""},{"$f":"IF($E221=\"\",\"\",VLOOKUP($E221,Lists!$BL$2:$BO$78,COLUMN(),FALSE))","v":""},null,null,null,null,null,""]
[null,{"$f":"IF($E222=\"\",\"\",VLOOKUP($E222,Lists!$BL$2:$BO$78,COLUMN(),FALSE))","v":""},{"$f":"IF($E222=\"\",\"\",VLOOKUP($E222,Lists!$BL$2:$BO$78,COLUMN(),FALSE))","v":""},{"$f":"IF($E222=\"\",\"\",VLOOKUP($E222,Lists!$BL$2:$BO$78,COLUMN(),FALSE))","v":""},null,null,null,null,null,""]
[null,{"$f":"IF($E223=\"\",\"\",VLOOKUP($E223,Lists!$BL$2:$BO$78,COLUMN(),FALSE))","v":""},{"$f":"IF($E223=\"\",\"\",VLOOKUP($E223,Lists!$BL$2:$BO$78,COLUMN(),FALSE))","v":""},{"$f":"IF($E223=\"\",\"\",VLOOKUP($E223,Lists!$BL$2:$BO$78,COLUMN(),FALSE))","v":""},null,null,null,null,null,""]
[null,{"$f":"IF($E224=\"\",\"\",VLOOKUP($E224,Lists!$BL$2:$BO$78,COLUMN(),FALSE))","v":""},{"$f":"IF($E224=\"\",\"\",VLOOKUP($E224,Lists!$BL$2:$BO$78,COLUMN(),FALSE))","v":""},{"$f":"IF($E224=\"\",\"\",VLOOKUP($E224,Lists!$BL$2:$BO$78,COLUMN(),FALSE))","v":""},null,null,null,null,null,""]
[null,{"$f":"IF($E225=\"\",\"\",VLOOKUP($E225,Lists!$BL$2:$BO$78,COLUMN(),FALSE))","v":""},{"$f":"IF($E225=\"\",\"\",VLOOKUP($E225,Lists!$BL$2:$BO$78,COLUMN(),FALSE))","v":""},{"$f":"IF($E225=\"\",\"\",VLOOKUP($E225,Lists!$BL$2:$BO$78,COLUMN(),FALSE))","v":""},null,null,null,null,null,""]
[null,{"$f":"IF($E226=\"\",\"\",VLOOKUP($E226,Lists!$BL$2:$BO$78,COLUMN(),FALSE))","v":""},{"$f":"IF($E226=\"\",\"\",VLOOKUP($E226,Lists!$BL$2:$BO$78,COLUMN(),FALSE))","v":""},{"$f":"IF($E226=\"\",\"\",VLOOKUP($E226,Lists!$BL$2:$BO$78,COLUMN(),FALSE))","v":""},null,null,null,null,null,""]
[null,{"$f":"IF($E227=\"\",\"\",VLOOKUP($E227,Lists!$BL$2:$BO$78,COLUMN(),FALSE))","v":""},{"$f":"IF($E227=\"\",\"\",VLOOKUP($E227,Lists!$BL$2:$BO$78,COLUMN(),FALSE))","v":""},{"$f":"IF($E227=\"\",\"\",VLOOKUP($E227,Lists!$BL$2:$BO$78,COLUMN(),FALSE))","v":""},null,null,null,null,null,""]
[null,{"$f":"IF($E228=\"\",\"\",VLOOKUP($E228,Lists!$BL$2:$BO$78,COLUMN(),FALSE))","v":""},{"$f":"IF($E228=\"\",\"\",VLOOKUP($E228,Lists!$BL$2:$BO$78,COLUMN(),FALSE))","v":""},{"$f":"IF($E228=\"\",\"\",VLOOKUP($E228,Lists!$BL$2:$BO$78,COLUMN(),FALSE))","v":""},null,null,null,null,null,""]
[null,{"$f":"IF($E229=\"\",\"\",VLOOKUP($E229,Lists!$BL$2:$BO$78,COLUMN(),FALSE))","v":""},{"$f":"IF($E229=\"\",\"\",VLOOKUP($E229,Lists!$BL$2:$BO$78,COLUMN(),FALSE))","v":""},{"$f":"IF($E229=\"\",\"\",VLOOKUP($E229,Lists!$BL$2:$BO$78,COLUMN(),FALSE))","v":""},null,null,null,null,null,""]
[null,{"$f":"IF($E230=\"\",\"\",VLOOKUP($E230,Lists!$BL$2:$BO$78,COLUMN(),FALSE))","v":""},{"$f":"IF($E230=\"\",\"\",VLOOKUP($E230,Lists!$BL$2:$BO$78,COLUMN(),FALSE))","v":""},{"$f":"IF($E230=\"\",\"\",VLOOKUP($E230,Lists!$BL$2:$BO$78,COLUMN(),FALSE))","v":""},null,null,null,null,null,""]
[null,{"$f":"IF($E231=\"\",\"\",VLOOKUP($E231,Lists!$BL$2:$BO$78,COLUMN(),FALSE))","v":""},{"$f":"IF($E231=\"\",\"\",VLOOKUP($E231,Lists!$BL$2:$BO$78,COLUMN(),FALSE))","v":""},{"$f":"IF($E231=\"\",\"\",VLOOKUP($E231,Lists!$BL$2:$BO$78,COLUMN(),FALSE))","v":""},null,null,null,null,null,""]
[null,{"$f":"IF($E232=\"\",\"\",VLOOKUP($E232,Lists!$BL$2:$BO$78,COLUMN(),FALSE))","v":""},{"$f":"IF($E232=\"\",\"\",VLOOKUP($E232,Lists!$BL$2:$BO$78,COLUMN(),FALSE))","v":""},{"$f":"IF($E232=\"\",\"\",VLOOKUP($E232,Lists!$BL$2:$BO$78,COLUMN(),FALSE))","v":""},null,null,null,null,null,""]
[null,{"$f":"IF($E233=\"\",\"\",VLOOKUP($E233,Lists!$BL$2:$BO$78,COLUMN(),FALSE))","v":""},{"$f":"IF($E233=\"\",\"\",VLOOKUP($E233,Lists!$BL$2:$BO$78,COLUMN(),FALSE))","v":""},{"$f":"IF($E233=\"\",\"\",VLOOKUP($E233,Lists!$BL$2:$BO$78,COLUMN(),FALSE))","v":""},null,null,null,null,null,""]
[null,{"$f":"IF($E234=\"\",\"\",VLOOKUP($E234,Lists!$BL$2:$BO$78,COLUMN(),FALSE))","v":""},{"$f":"IF($E234=\"\",\"\",VLOOKUP($E234,Lists!$BL$2:$BO$78,COLUMN(),FALSE))","v":""},{"$f":"IF($E234=\"\",\"\",VLOOKUP($E234,Lists!$BL$2:$BO$78,COLUMN(),FALSE))","v":""},null,null,null,null,null,""]
[null,{"$f":"IF($E235=\"\",\"\",VLOOKUP($E235,Lists!$BL$2:$BO$78,COLUMN(),FALSE))","v":""},{"$f":"IF($E235=\"\",\"\",VLOOKUP($E235,Lists!$BL$2:$BO$78,COLUMN(),FALSE))","v":""},{"$f":"IF($E235=\"\",\"\",VLOOKUP($E235,Lists!$BL$2:$BO$78,COLUMN(),FALSE))","v":""},null,null,null,null,null,""]
[null,{"$f":"IF($E236=\"\",\"\",VLOOKUP($E236,Lists!$BL$2:$BO$78,COLUMN(),FALSE))","v":""},{"$f":"IF($E236=\"\",\"\",VLOOKUP($E236,Lists!$BL$2:$BO$78,COLUMN(),FALSE))","v":""},{"$f":"IF($E236=\"\",\"\",VLOOKUP($E236,Lists!$BL$2:$BO$78,COLUMN(),FALSE))","v":""},null,null,null,null,null,""]
[null,{"$f":"IF($E237=\"\",\"\",VLOOKUP($E237,Lists!$BL$2:$BO$78,COLUMN(),FALSE))","v":""},{"$f":"IF($E237=\"\",\"\",VLOOKUP($E237,Lists!$BL$2:$BO$78,COLUMN(),FALSE))","v":""},{"$f":"IF($E237=\"\",\"\",VLOOKUP($E237,Lists!$BL$2:$BO$78,COLUMN(),FALSE))","v":""},null,null,null,null,null,""]
[null,{"$f":"IF($E238=\"\",\"\",VLOOKUP($E238,Lists!$BL$2:$BO$78,COLUMN(),FALSE))","v":""},{"$f":"IF($E238=\"\",\"\",VLOOKUP($E238,Lists!$BL$2:$BO$78,COLUMN(),FALSE))","v":""},{"$f":"IF($E238=\"\",\"\",VLOOKUP($E238,Lists!$BL$2:$BO$78,COLUMN(),FALSE))","v":""},null,null,null,null,null,""]
[null,{"$f":"IF($E239=\"\",\"\",VLOOKUP($E239,Lists!$BL$2:$BO$78,COLUMN(),FALSE))","v":""},{"$f":"IF($E239=\"\",\"\",VLOOKUP($E239,Lists!$BL$2:$BO$78,COLUMN(),FALSE))","v":""},{"$f":"IF($E239=\"\",\"\",VLOOKUP($E239,Lists!$BL$2:$BO$78,COLUMN(),FALSE))","v":""},null,null,null,null,null,""]
[null,{"$f":"IF($E240=\"\",\"\",VLOOKUP($E240,Lists!$BL$2:$BO$78,COLUMN(),FALSE))","v":""},{"$f":"IF($E240=\"\",\"\",VLOOKUP($E240,Lists!$BL$2:$BO$78,COLUMN(),FALSE))","v":""},{"$f":"IF($E240=\"\",\"\",VLOOKUP($E240,Lists!$BL$2:$BO$78,COLUMN(),FALSE))","v":""},null,null,null,null,null,""]
[null,{"$f":"IF($E241=\"\",\"\",VLOOKUP($E241,Lists!$BL$2:$BO$78,COLUMN(),FALSE))","v":""},{"$f":"IF($E241=\"\",\"\",VLOOKUP($E241,Lists!$BL$2:$BO$78,COLUMN(),FALSE))","v":""},{"$f":"IF($E241=\"\",\"\",VLOOKUP($E241,Lists!$BL$2:$BO$78,COLUMN(),FALSE))","v":""},null,null,null,null,null,""]
[null,{"$f":"IF($E242=\"\",\"\",VLOOKUP($E242,Lists!$BL$2:$BO$78,COLUMN(),FALSE))","v":""},{"$f":"IF($E242=\"\",\"\",VLOOKUP($E242,Lists!$BL$2:$BO$78,COLUMN(),FALSE))","v":""},{"$f":"IF($E242=\"\",\"\",VLOOKUP($E242,Lists!$BL$2:$BO$78,COLUMN(),FALSE))","v":""},null,null,null,null,null,""]
[null,{"$f":"IF($E243=\"\",\"\",VLOOKUP($E243,Lists!$BL$2:$BO$78,COLUMN(),FALSE))","v":""},{"$f":"IF($E243=\"\",\"\",VLOOKUP($E243,Lists!$BL$2:$BO$78,COLUMN(),FALSE))","v":""},{"$f":"IF($E243=\"\",\"\",VLOOKUP($E243,Lists!$BL$2:$BO$78,COLUMN(),FALSE))","v":""},null,null,null,null,null,""]
[null,{"$f":"IF($E244=\"\",\"\",VLOOKUP($E244,Lists!$BL$2:$BO$78,COLUMN(),FALSE))","v":""},{"$f":"IF($E244=\"\",\"\",VLOOKUP($E244,Lists!$BL$2:$BO$78,COLUMN(),FALSE))","v":""},{"$f":"IF($E244=\"\",\"\",VLOOKUP($E244,Lists!$BL$2:$BO$78,COLUMN(),FALSE))","v":""},null,null,null,null,null,""]
[null,{"$f":"IF($E245=\"\",\"\",VLOOKUP($E245,Lists!$BL$2:$BO$78,COLUMN(),FALSE))","v":""},{"$f":"IF($E245=\"\",\"\",VLOOKUP($E245,Lists!$BL$2:$BO$78,COLUMN(),FALSE))","v":""},{"$f":"IF($E245=\"\",\"\",VLOOKUP($E245,Lists!$BL$2:$BO$78,COLUMN(),FALSE))","v":""},null,null,null,null,null,""]
[null,{"$f":"IF($E246=\"\",\"\",VLOOKUP($E246,Lists!$BL$2:$BO$78,COLUMN(),FALSE))","v":""},{"$f":"IF($E246=\"\",\"\",VLOOKUP($E246,Lists!$BL$2:$BO$78,COLUMN(),FALSE))","v":""},{"$f":"IF($E246=\"\",\"\",VLOOKUP($E246,Lists!$BL$2:$BO$78,COLUMN(),FALSE))","v":""},null,null,null,null,null,""]
[null,{"$f":"IF($E247=\"\",\"\",VLOOKUP($E247,Lists!$BL$2:$BO$78,COLUMN(),FALSE))","v":""},{"$f":"IF($E247=\"\",\"\",VLOOKUP($E247,Lists!$BL$2:$BO$78,COLUMN(),FALSE))","v":""},{"$f":"IF($E247=\"\",\"\",VLOOKUP($E247,Lists!$BL$2:$BO$78,COLUMN(),FALSE))","v":""},null,null,null,null,null,""]
[null,{"$f":"IF($E248=\"\",\"\",VLOOKUP($E248,Lists!$BL$2:$BO$78,COLUMN(),FALSE))","v":""},{"$f":"IF($E248=\"\",\"\",VLOOKUP($E248,Lists!$BL$2:$BO$78,COLUMN(),FALSE))","v":""},{"$f":"IF($E248=\"\",\"\",VLOOKUP($E248,Lists!$BL$2:$BO$78,COLUMN(),FALSE))","v":""},null,null,null,null,null,""]
[null,{"$f":"IF($E249=\"\",\"\",VLOOKUP($E249,Lists!$BL$2:$BO$78,COLUMN(),FALSE))","v":""},{"$f":"IF($E249=\"\",\"\",VLOOKUP($E249,Lists!$BL$2:$BO$78,COLUMN(),FALSE))","v":""},{"$f":"IF($E249=\"\",\"\",VLOOKUP($E249,Lists!$BL$2:$BO$78,COLUMN(),FALSE))","v":""},null,null,null,null,null,""]
[null,{"$f":"IF($E250=\"\",\"\",VLOOKUP($E250,Lists!$BL$2:$BO$78,COLUMN(),FALSE))","v":""},{"$f":"IF($E250=\"\",\"\",VLOOKUP($E250,Lists!$BL$2:$BO$78,COLUMN(),FALSE))","v":""},{"$f":"IF($E250=\"\",\"\",VLOOKUP($E250,Lists!$BL$2:$BO$78,COLUMN(),FALSE))","v":""},null,null,null,null,null,""]
[null,{"$f":"IF($E251=\"\",\"\",VLOOKUP($E251,Lists!$BL$2:$BO$78,COLUMN(),FALSE))","v":""},{"$f":"IF($E251=\"\",\"\",VLOOKUP($E251,Lists!$BL$2:$BO$78,COLUMN(),FALSE))","v":""},{"$f":"IF($E251=\"\",\"\",VLOOKUP($E251,Lists!$BL$2:$BO$78,COLUMN(),FALSE))","v":""},null,null,null,null,null,""]
[null,{"$f":"IF($E252=\"\",\"\",VLOOKUP($E252,Lists!$BL$2:$BO$78,COLUMN(),FALSE))","v":""},{"$f":"IF($E252=\"\",\"\",VLOOKUP($E252,Lists!$BL$2:$BO$78,COLUMN(),FALSE))","v":""},{"$f":"IF($E252=\"\",\"\",VLOOKUP($E252,Lists!$BL$2:$BO$78,COLUMN(),FALSE))","v":""},null,null,null,null,null,""]
[null,{"$f":"IF($E253=\"\",\"\",VLOOKUP($E253,Lists!$BL$2:$BO$78,COLUMN(),FALSE))","v":""},{"$f":"IF($E253=\"\",\"\",VLOOKUP($E253,Lists!$BL$2:$BO$78,COLUMN(),FALSE))","v":""},{"$f":"IF($E253=\"\",\"\",VLOOKUP($E253,Lists!$BL$2:$BO$78,COLUMN(),FALSE))","v":""},null,null,null,null,null,""]
[null,{"$f":"IF($E254=\"\",\"\",VLOOKUP($E254,Lists!$BL$2:$BO$78,COLUMN(),FALSE))","v":""},{"$f":"IF($E254=\"\",\"\",VLOOKUP($E254,Lists!$BL$2:$BO$78,COLUMN(),FALSE))","v":""},{"$f":"IF($E254=\"\",\"\",VLOOKUP($E254,Lists!$BL$2:$BO$78,COLUMN(),FALSE))","v":""},null,null,null,null,null,""]
[null,{"$f":"IF($E255=\"\",\"\",VLOOKUP($E255,Lists!$BL$2:$BO$78,COLUMN(),FALSE))","v":""},{"$f":"IF($E255=\"\",\"\",VLOOKUP($E255,Lists!$BL$2:$BO$78,COLUMN(),FALSE))","v":""},{"$f":"IF($E255=\"\",\"\",VLOOKUP($E255,Lists!$BL$2:$BO$78,COLUMN(),FALSE))","v":""},null,null,null,null,null,""]
[null,{"$f":"IF($E256=\"\",\"\",VLOOKUP($E256,Lists!$BL$2:$BO$78,COLUMN(),FALSE))","v":""},{"$f":"IF($E256=\"\",\"\",VLOOKUP($E256,Lists!$BL$2:$BO$78,COLUMN(),FALSE))","v":""},{"$f":"IF($E256=\"\",\"\",VLOOKUP($E256,Lists!$BL$2:$BO$78,COLUMN(),FALSE))","v":""},null,null,null,null,null,""]
[null,{"$f":"IF($E257=\"\",\"\",VLOOKUP($E257,Lists!$BL$2:$BO$78,COLUMN(),FALSE))","v":""},{"$f":"IF($E257=\"\",\"\",VLOOKUP($E257,Lists!$BL$2:$BO$78,COLUMN(),FALSE))","v":""},{"$f":"IF($E257=\"\",\"\",VLOOKUP($E257,Lists!$BL$2:$BO$78,COLUMN(),FALSE))","v":""},null,null,null,null,null,""]
[null,{"$f":"IF($E258=\"\",\"\",VLOOKUP($E258,Lists!$BL$2:$BO$78,COLUMN(),FALSE))","v":""},{"$f":"IF($E258=\"\",\"\",VLOOKUP($E258,Lists!$BL$2:$BO$78,COLUMN(),FALSE))","v":""},{"$f":"IF($E258=\"\",\"\",VLOOKUP($E258,Lists!$BL$2:$BO$78,COLUMN(),FALSE))","v":""},null,null,null,null,null,""]
[null,{"$f":"IF($E259=\"\",\"\",VLOOKUP($E259,Lists!$BL$2:$BO$78,COLUMN(),FALSE))","v":""},{"$f":"IF($E259=\"\",\"\",VLOOKUP($E259,Lists!$BL$2:$BO$78,COLUMN(),FALSE))","v":""},{"$f":"IF($E259=\"\",\"\",VLOOKUP($E259,Lists!$BL$2:$BO$78,COLUMN(),FALSE))","v":""},null,null,null,null,null,""]
[null,{"$f":"IF($E260=\"\",\"\",VLOOKUP($E260,Lists!$BL$2:$BO$78,COLUMN(),FALSE))","v":""},{"$f":"IF($E260=\"\",\"\",VLOOKUP($E260,Lists!$BL$2:$BO$78,COLUMN(),FALSE))","v":""},{"$f":"IF($E260=\"\",\"\",VLOOKUP($E260,Lists!$BL$2:$BO$78,COLUMN(),FALSE))","v":""},null,null,null,null,null,""]
[null,{"$f":"IF($E261=\"\",\"\",VLOOKUP($E261,Lists!$BL$2:$BO$78,COLUMN(),FALSE))","v":""},{"$f":"IF($E261=\"\",\"\",VLOOKUP($E261,Lists!$BL$2:$BO$78,COLUMN(),FALSE))","v":""},{"$f":"IF($E261=\"\",\"\",VLOOKUP($E261,Lists!$BL$2:$BO$78,COLUMN(),FALSE))","v":""},null,null,null,null,null,""]
[null,{"$f":"IF($E262=\"\",\"\",VLOOKUP($E262,Lists!$BL$2:$BO$78,COLUMN(),FALSE))","v":""},{"$f":"IF($E262=\"\",\"\",VLOOKUP($E262,Lists!$BL$2:$BO$78,COLUMN(),FALSE))","v":""},{"$f":"IF($E262=\"\",\"\",VLOOKUP($E262,Lists!$BL$2:$BO$78,COLUMN(),FALSE))","v":""},null,null,null,null,null,""]
[null,{"$f":"IF($E263=\"\",\"\",VLOOKUP($E263,Lists!$BL$2:$BO$78,COLUMN(),FALSE))","v":""},{"$f":"IF($E263=\"\",\"\",VLOOKUP($E263,Lists!$BL$2:$BO$78,COLUMN(),FALSE))","v":""},{"$f":"IF($E263=\"\",\"\",VLOOKUP($E263,Lists!$BL$2:$BO$78,COLUMN(),FALSE))","v":""},null,null,null,null,null,""]
[null,{"$f":"IF($E264=\"\",\"\",VLOOKUP($E264,Lists!$BL$2:$BO$78,COLUMN(),FALSE))","v":""},{"$f":"IF($E264=\"\",\"\",VLOOKUP($E264,Lists!$BL$2:$BO$78,COLUMN(),FALSE))","v":""},{"$f":"IF($E264=\"\",\"\",VLOOKUP($E264,Lists!$BL$2:$BO$78,COLUMN(),FALSE))","v":""},null,null,null,null,null,""]
[null,{"$f":"IF($E265=\"\",\"\",VLOOKUP($E265,Lists!$BL$2:$BO$78,COLUMN(),FALSE))","v":""},{"$f":"IF($E265=\"\",\"\",VLOOKUP($E265,Lists!$BL$2:$BO$78,COLUMN(),FALSE))","v":""},{"$f":"IF($E265=\"\",\"\",VLOOKUP($E265,Lists!$BL$2:$BO$78,COLUMN(),FALSE))","v":""},null,null,null,null,null,""]
[null,{"$f":"IF($E266=\"\",\"\",VLOOKUP($E266,Lists!$BL$2:$BO$78,COLUMN(),FALSE))","v":""},{"$f":"IF($E266=\"\",\"\",VLOOKUP($E266,Lists!$BL$2:$BO$78,COLUMN(),FALSE))","v":""},{"$f":"IF($E266=\"\",\"\",VLOOKUP($E266,Lists!$BL$2:$BO$78,COLUMN(),FALSE))","v":""},null,null,null,null,null,""]
[null,{"$f":"IF($E267=\"\",\"\",VLOOKUP($E267,Lists!$BL$2:$BO$78,COLUMN(),FALSE))","v":""},{"$f":"IF($E267=\"\",\"\",VLOOKUP($E267,Lists!$BL$2:$BO$78,COLUMN(),FALSE))","v":""},{"$f":"IF($E267=\"\",\"\",VLOOKUP($E267,Lists!$BL$2:$BO$78,COLUMN(),FALSE))","v":""},null,null,null,null,null,""]
[null,{"$f":"IF($E268=\"\",\"\",VLOOKUP($E268,Lists!$BL$2:$BO$78,COLUMN(),FALSE))","v":""},{"$f":"IF($E268=\"\",\"\",VLOOKUP($E268,Lists!$BL$2:$BO$78,COLUMN(),FALSE))","v":""},{"$f":"IF($E268=\"\",\"\",VLOOKUP($E268,Lists!$BL$2:$BO$78,COLUMN(),FALSE))","v":""},null,null,null,null,null,""]
[null,{"$f":"IF($E269=\"\",\"\",VLOOKUP($E269,Lists!$BL$2:$BO$78,COLUMN(),FALSE))","v":""},{"$f":"IF($E269=\"\",\"\",VLOOKUP($E269,Lists!$BL$2:$BO$78,COLUMN(),FALSE))","v":""},{"$f":"IF($E269=\"\",\"\",VLOOKUP($E269,Lists!$BL$2:$BO$78,COLUMN(),FALSE))","v":""},null,null,null,null,null,""]
[null,{"$f":"IF($E270=\"\",\"\",VLOOKUP($E270,Lists!$BL$2:$BO$78,COLUMN(),FALSE))","v":""},{"$f":"IF($E270=\"\",\"\",VLOOKUP($E270,Lists!$BL$2:$BO$78,COLUMN(),FALSE))","v":""},{"$f":"IF($E270=\"\",\"\",VLOOKUP($E270,Lists!$BL$2:$BO$78,COLUMN(),FALSE))","v":""},null,null,null,null,null,""]
[null,{"$f":"IF($E271=\"\",\"\",VLOOKUP($E271,Lists!$BL$2:$BO$78,COLUMN(),FALSE))","v":""},{"$f":"IF($E271=\"\",\"\",VLOOKUP($E271,Lists!$BL$2:$BO$78,COLUMN(),FALSE))","v":""},{"$f":"IF($E271=\"\",\"\",VLOOKUP($E271,Lists!$BL$2:$BO$78,COLUMN(),FALSE))","v":""},null,null,null,null,null,""]
[null,{"$f":"IF($E272=\"\",\"\",VLOOKUP($E272,Lists!$BL$2:$BO$78,COLUMN(),FALSE))","v":""},{"$f":"IF($E272=\"\",\"\",VLOOKUP($E272,Lists!$BL$2:$BO$78,COLUMN(),FALSE))","v":""},{"$f":"IF($E272=\"\",\"\",VLOOKUP($E272,Lists!$BL$2:$BO$78,COLUMN(),FALSE))","v":""},null,null,null,null,null,""]
[null,{"$f":"IF($E273=\"\",\"\",VLOOKUP($E273,Lists!$BL$2:$BO$78,COLUMN(),FALSE))","v":""},{"$f":"IF($E273=\"\",\"\",VLOOKUP($E273,Lists!$BL$2:$BO$78,COLUMN(),FALSE))","v":""},{"$f":"IF($E273=\"\",\"\",VLOOKUP($E273,Lists!$BL$2:$BO$78,COLUMN(),FALSE))","v":""},null,null,null,null,null,""]
[null,{"$f":"IF($E274=\"\",\"\",VLOOKUP($E274,Lists!$BL$2:$BO$78,COLUMN(),FALSE))","v":""},{"$f":"IF($E274=\"\",\"\",VLOOKUP($E274,Lists!$BL$2:$BO$78,COLUMN(),FALSE))","v":""},{"$f":"IF($E274=\"\",\"\",VLOOKUP($E274,Lists!$BL$2:$BO$78,COLUMN(),FALSE))","v":""},null,null,null,null,null,""]
[null,{"$f":"IF($E275=\"\",\"\",VLOOKUP($E275,Lists!$BL$2:$BO$78,COLUMN(),FALSE))","v":""},{"$f":"IF($E275=\"\",\"\",VLOOKUP($E275,Lists!$BL$2:$BO$78,COLUMN(),FALSE))","v":""},{"$f":"IF($E275=\"\",\"\",VLOOKUP($E275,Lists!$BL$2:$BO$78,COLUMN(),FALSE))","v":""},null,null,null,null,null,""]
[null,{"$f":"IF($E276=\"\",\"\",VLOOKUP($E276,Lists!$BL$2:$BO$78,COLUMN(),FALSE))","v":""},{"$f":"IF($E276=\"\",\"\",VLOOKUP($E276,Lists!$BL$2:$BO$78,COLUMN(),FALSE))","v":""},{"$f":"IF($E276=\"\",\"\",VLOOKUP($E276,Lists!$BL$2:$BO$78,COLUMN(),FALSE))","v":""},null,null,null,null,null,""]
[null,{"$f":"IF($E277=\"\",\"\",VLOOKUP($E277,Lists!$BL$2:$BO$78,COLUMN(),FALSE))","v":""},{"$f":"IF($E277=\"\",\"\",VLOOKUP($E277,Lists!$BL$2:$BO$78,COLUMN(),FALSE))","v":""},{"$f":"IF($E277=\"\",\"\",VLOOKUP($E277,Lists!$BL$2:$BO$78,COLUMN(),FALSE))","v":""},null,null,null,null,null,""]
[null,{"$f":"IF($E278=\"\",\"\",VLOOKUP($E278,Lists!$BL$2:$BO$78,COLUMN(),FALSE))","v":""},{"$f":"IF($E278=\"\",\"\",VLOOKUP($E278,Lists!$BL$2:$BO$78,COLUMN(),FALSE))","v":""},{"$f":"IF($E278=\"\",\"\",VLOOKUP($E278,Lists!$BL$2:$BO$78,COLUMN(),FALSE))","v":""},null,null,null,null,null,""]
[null,{"$f":"IF($E279=\"\",\"\",VLOOKUP($E279,Lists!$BL$2:$BO$78,COLUMN(),FALSE))","v":""},{"$f":"IF($E279=\"\",\"\",VLOOKUP($E279,Lists!$BL$2:$BO$78,COLUMN(),FALSE))","v":""},{"$f":"IF($E279=\"\",\"\",VLOOKUP($E279,Lists!$BL$2:$BO$78,COLUMN(),FALSE))","v":""},null,null,null,null,null,""]
[null,{"$f":"IF($E280=\"\",\"\",VLOOKUP($E280,Lists!$BL$2:$BO$78,COLUMN(),FALSE))","v":""},{"$f":"IF($E280=\"\",\"\",VLOOKUP($E280,Lists!$BL$2:$BO$78,COLUMN(),FALSE))","v":""},{"$f":"IF($E280=\"\",\"\",VLOOKUP($E280,Lists!$BL$2:$BO$78,COLUMN(),FALSE))","v":""},null,null,null,null,null,""]
[null,{"$f":"IF($E281=\"\",\"\",VLOOKUP($E281,Lists!$BL$2:$BO$78,COLUMN(),FALSE))","v":""},{"$f":"IF($E281=\"\",\"\",VLOOKUP($E281,Lists!$BL$2:$BO$78,COLUMN(),FALSE))","v":""},{"$f":"IF($E281=\"\",\"\",VLOOKUP($E281,Lists!$BL$2:$BO$78,COLUMN(),FALSE))","v":""},null,null,null,null,null,{"$f":"IF(I281=\"\",\"\",(VALUE(TEXT(H281,\"m/dd/yy \")&TEXT(I281,\"hh:mm:ss\"))-(VALUE(TEXT(F281,\"m/dd/yy \")&TEXT(G281,\"hh:mm:ss\"))))*24)","v":""}]
[null,{"$f":"IF($E282=\"\",\"\",VLOOKUP($E282,Lists!$BL$2:$BO$78,COLUMN(),FALSE))","v":""},{"$f":"IF($E282=\"\",\"\",VLOOKUP($E282,Lists!$BL$2:$BO$78,COLUMN(),FALSE))","v":""},{"$f":"IF($E282=\"\",\"\",VLOOKUP($E282,Lists!$BL$2:$BO$78,COLUMN(),FALSE))","v":""},null,null,null,null,null,""]
[null,{"$f":"IF($E283=\"\",\"\",VLOOKUP($E283,Lists!$BL$2:$BO$78,COLUMN(),FALSE))","v":""},{"$f":"IF($E283=\"\",\"\",VLOOKUP($E283,Lists!$BL$2:$BO$78,COLUMN(),FALSE))","v":""},{"$f":"IF($E283=\"\",\"\",VLOOKUP($E283,Lists!$BL$2:$BO$78,COLUMN(),FALSE))","v":""},null,null,null,null,null,""]
[null,{"$f":"IF($E284=\"\",\"\",VLOOKUP($E284,Lists!$BL$2:$BO$78,COLUMN(),FALSE))","v":""},{"$f":"IF($E284=\"\",\"\",VLOOKUP($E284,Lists!$BL$2:$BO$78,COLUMN(),FALSE))","v":""},{"$f":"IF($E284=\"\",\"\",VLOOKUP($E284,Lists!$BL$2:$BO$78,COLUMN(),FALSE))","v":""},null,null,null,null,null,""]
[null,{"$f":"IF($E285=\"\",\"\",VLOOKUP($E285,Lists!$BL$2:$BO$78,COLUMN(),FALSE))","v":""},{"$f":"IF($E285=\"\",\"\",VLOOKUP($E285,Lists!$BL$2:$BO$78,COLUMN(),FALSE))","v":""},{"$f":"IF($E285=\"\",\"\",VLOOKUP($E285,Lists!$BL$2:$BO$78,COLUMN(),FALSE))","v":""},null,null,null,null,null,""]
[null,{"$f":"IF($E286=\"\",\"\",VLOOKUP($E286,Lists!$BL$2:$BO$78,COLUMN(),FALSE))","v":""},{"$f":"IF($E286=\"\",\"\",VLOOKUP($E286,Lists!$BL$2:$BO$78,COLUMN(),FALSE))","v":""},{"$f":"IF($E286=\"\",\"\",VLOOKUP($E286,Lists!$BL$2:$BO$78,COLUMN(),FALSE))","v":""},null,null,null,null,null,""]
[null,{"$f":"IF($E287=\"\",\"\",VLOOKUP($E287,Lists!$BL$2:$BO$78,COLUMN(),FALSE))","v":""},{"$f":"IF($E287=\"\",\"\",VLOOKUP($E287,Lists!$BL$2:$BO$78,COLUMN(),FALSE))","v":""},{"$f":"IF($E287=\"\",\"\",VLOOKUP($E287,Lists!$BL$2:$BO$78,COLUMN(),FALSE))","v":""},null,null,null,null,null,""]
[null,{"$f":"IF($E288=\"\",\"\",VLOOKUP($E288,Lists!$BL$2:$BO$78,COLUMN(),FALSE))","v":""},{"$f":"IF($E288=\"\",\"\",VLOOKUP($E288,Lists!$BL$2:$BO$78,COLUMN(),FALSE))","v":""},{"$f":"IF($E288=\"\",\"\",VLOOKUP($E288,Lists!$BL$2:$BO$78,COLUMN(),FALSE))","v":""},null,null,null,null,null,""]
[null,{"$f":"IF($E289=\"\",\"\",VLOOKUP($E289,Lists!$BL$2:$BO$78,COLUMN(),FALSE))","v":""},{"$f":"IF($E289=\"\",\"\",VLOOKUP($E289,Lists!$BL$2:$BO$78,COLUMN(),FALSE))","v":""},{"$f":"IF($E289=\"\",\"\",VLOOKUP($E289,Lists!$BL$2:$BO$78,COLUMN(),FALSE))","v":""},null,null,null,null,null,""]
[null,{"$f":"IF($E290=\"\",\"\",VLOOKUP($E290,Lists!$BL$2:$BO$78,COLUMN(),FALSE))","v":""},{"$f":"IF($E290=\"\",\"\",VLOOKUP($E290,Lists!$BL$2:$BO$78,COLUMN(),FALSE))","v":""},{"$f":"IF($E290=\"\",\"\",VLOOKUP($E290,Lists!$BL$2:$BO$78,COLUMN(),FALSE))","v":""},null,null,null,null,null,""]
[null,{"$f":"IF($E291=\"\",\"\",VLOOKUP($E291,Lists!$BL$2:$BO$78,COLUMN(),FALSE))","v":""},{"$f":"IF($E291=\"\",\"\",VLOOKUP($E291,Lists!$BL$2:$BO$78,COLUMN(),FALSE))","v":""},{"$f":"IF($E291=\"\",\"\",VLOOKUP($E291,Lists!$BL$2:$BO$78,COLUMN(),FALSE))","v":""},null,null,null,null,null,""]
[null,{"$f":"IF($E292=\"\",\"\",VLOOKUP($E292,Lists!$BL$2:$BO$78,COLUMN(),FALSE))","v":""},{"$f":"IF($E292=\"\",\"\",VLOOKUP($E292,Lists!$BL$2:$BO$78,COLUMN(),FALSE))","v":""},{"$f":"IF($E292=\"\",\"\",VLOOKUP($E292,Lists!$BL$2:$BO$78,COLUMN(),FALSE))","v":""},null,null,null,null,null,""]
[null,{"$f":"IF($E293=\"\",\"\",VLOOKUP($E293,Lists!$BL$2:$BO$78,COLUMN(),FALSE))","v":""},{"$f":"IF($E293=\"\",\"\",VLOOKUP($E293,Lists!$BL$2:$BO$78,COLUMN(),FALSE))","v":""},{"$f":"IF($E293=\"\",\"\",VLOOKUP($E293,Lists!$BL$2:$BO$78,COLUMN(),FALSE))","v":""},null,null,null,null,null,""]
[null,{"$f":"IF($E294=\"\",\"\",VLOOKUP($E294,Lists!$BL$2:$BO$78,COLUMN(),FALSE))","v":""},{"$f":"IF($E294=\"\",\"\",VLOOKUP($E294,Lists!$BL$2:$BO$78,COLUMN(),FALSE))","v":""},{"$f":"IF($E294=\"\",\"\",VLOOKUP($E294,Lists!$BL$2:$BO$78,COLUMN(),FALSE))","v":""},null,null,null,null,null,""]
[null,{"$f":"IF($E295=\"\",\"\",VLOOKUP($E295,Lists!$BL$2:$BO$78,COLUMN(),FALSE))","v":""},{"$f":"IF($E295=\"\",\"\",VLOOKUP($E295,Lists!$BL$2:$BO$78,COLUMN(),FALSE))","v":""},{"$f":"IF($E295=\"\",\"\",VLOOKUP($E295,Lists!$BL$2:$BO$78,COLUMN(),FALSE))","v":""},null,null,null,null,null,""]
[null,{"$f":"IF($E296=\"\",\"\",VLOOKUP($E296,Lists!$BL$2:$BO$78,COLUMN(),FALSE))","v":""},{"$f":"IF($E296=\"\",\"\",VLOOKUP($E296,Lists!$BL$2:$BO$78,COLUMN(),FALSE))","v":""},{"$f":"IF($E296=\"\",\"\",VLOOKUP($E296,Lists!$BL$2:$BO$78,COLUMN(),FALSE))","v":""},null,null,null,null,null,""]
[null,{"$f":"IF($E297=\"\",\"\",VLOOKUP($E297,Lists!$BL$2:$BO$78,COLUMN(),FALSE))","v":""},{"$f":"IF($E297=\"\",\"\",VLOOKUP($E297,Lists!$BL$2:$BO$78,COLUMN(),FALSE))","v":""},{"$f":"IF($E297=\"\",\"\",VLOOKUP($E297,Lists!$BL$2:$BO$78,COLUMN(),FALSE))","v":""},null,null,null,null,null,""]
[null,{"$f":"IF($E298=\"\",\"\",VLOOKUP($E298,Lists!$BL$2:$BO$78,COLUMN(),FALSE))","v":""},{"$f":"IF($E298=\"\",\"\",VLOOKUP($E298,Lists!$BL$2:$BO$78,COLUMN(),FALSE))","v":""},{"$f":"IF($E298=\"\",\"\",VLOOKUP($E298,Lists!$BL$2:$BO$78,COLUMN(),FALSE))","v":""},null,null,null,null,null,""]
[null,{"$f":"IF($E299=\"\",\"\",VLOOKUP($E299,Lists!$BL$2:$BO$78,COLUMN(),FALSE))","v":""},{"$f":"IF($E299=\"\",\"\",VLOOKUP($E299,Lists!$BL$2:$BO$78,COLUMN(),FALSE))","v":""},{"$f":"IF($E299=\"\",\"\",VLOOKUP($E299,Lists!$BL$2:$BO$78,COLUMN(),FALSE))","v":""},null,null,null,null,null,""]
[null,{"$f":"IF($E300=\"\",\"\",VLOOKUP($E300,Lists!$BL$2:$BO$78,COLUMN(),FALSE))","v":""},{"$f":"IF($E300=\"\",\"\",VLOOKUP($E300,Lists!$BL$2:$BO$78,COLUMN(),FALSE))","v":""},{"$f":"IF($E300=\"\",\"\",VLOOKUP($E300,Lists!$BL$2:$BO$78,COLUMN(),FALSE))","v":""},null,null,null,null,null,""]
[null,{"$f":"IF($E301=\"\",\"\",VLOOKUP($E301,Lists!$BL$2:$BO$78,COLUMN(),FALSE))","v":""},{"$f":"IF($E301=\"\",\"\",VLOOKUP($E301,Lists!$BL$2:$BO$78,COLUMN(),FALSE))","v":""},{"$f":"IF($E301=\"\",\"\",VLOOKUP($E301,Lists!$BL$2:$BO$78,COLUMN(),FALSE))","v":""},null,null,null,null,null,""]
[null,{"$f":"IF($E302=\"\",\"\",VLOOKUP($E302,Lists!$BL$2:$BO$78,COLUMN(),FALSE))","v":""},{"$f":"IF($E302=\"\",\"\",VLOOKUP($E302,Lists!$BL$2:$BO$78,COLUMN(),FALSE))","v":""},{"$f":"IF($E302=\"\",\"\",VLOOKUP($E302,Lists!$BL$2:$BO$78,COLUMN(),FALSE))","v":""},null,null,null,null,null,""]
[null,{"$f":"IF($E303=\"\",\"\",VLOOKUP($E303,Lists!$BL$2:$BO$78,COLUMN(),FALSE))","v":""},{"$f":"IF($E303=\"\",\"\",VLOOKUP($E303,Lists!$BL$2:$BO$78,COLUMN(),FALSE))","v":""},{"$f":"IF($E303=\"\",\"\",VLOOKUP($E303,Lists!$BL$2:$BO$78,COLUMN(),FALSE))","v":""},null,null,null,null,null,""]
[null,{"$f":"IF($E304=\"\",\"\",VLOOKUP($E304,Lists!$BL$2:$BO$78,COLUMN(),FALSE))","v":""},{"$f":"IF($E304=\"\",\"\",VLOOKUP($E304,Lists!$BL$2:$BO$78,COLUMN(),FALSE))","v":""},{"$f":"IF($E304=\"\",\"\",VLOOKUP($E304,Lists!$BL$2:$BO$78,COLUMN(),FALSE))","v":""},null,null,null,null,null,""]
[null,{"$f":"IF($E305=\"\",\"\",VLOOKUP($E305,Lists!$BL$2:$BO$78,COLUMN(),FALSE))","v":""},{"$f":"IF($E305=\"\",\"\",VLOOKUP($E305,Lists!$BL$2:$BO$78,COLUMN(),FALSE))","v":""},{"$f":"IF($E305=\"\",\"\",VLOOKUP($E305,Lists!$BL$2:$BO$78,COLUMN(),FALSE))","v":""},null,null,null,null,null,""]
[null,{"$f":"IF($E306=\"\",\"\",VLOOKUP($E306,Lists!$BL$2:$BO$78,COLUMN(),FALSE))","v":""},{"$f":"IF($E306=\"\",\"\",VLOOKUP($E306,Lists!$BL$2:$BO$78,COLUMN(),FALSE))","v":""},{"$f":"IF($E306=\"\",\"\",VLOOKUP($E306,Lists!$BL$2:$BO$78,COLUMN(),FALSE))","v":""},null,null,null,null,null,""]
[null,{"$f":"IF($E307=\"\",\"\",VLOOKUP($E307,Lists!$BL$2:$BO$78,COLUMN(),FALSE))","v":""},{"$f":"IF($E307=\"\",\"\",VLOOKUP($E307,Lists!$BL$2:$BO$78,COLUMN(),FALSE))","v":""},{"$f":"IF($E307=\"\",\"\",VLOOKUP($E307,Lists!$BL$2:$BO$78,COLUMN(),FALSE))","v":""},null,null,null,null,null,""]
[null,{"$f":"IF($E308=\"\",\"\",VLOOKUP($E308,Lists!$BL$2:$BO$78,COLUMN(),FALSE))","v":""},{"$f":"IF($E308=\"\",\"\",VLOOKUP($E308,Lists!$BL$2:$BO$78,COLUMN(),FALSE))","v":""},{"$f":"IF($E308=\"\",\"\",VLOOKUP($E308,Lists!$BL$2:$BO$78,COLUMN(),FALSE))","v":""},null,null,null,null,null,""]
[null,{"$f":"IF($E309=\"\",\"\",VLOOKUP($E309,Lists!$BL$2:$BO$78,COLUMN(),FALSE))","v":""},{"$f":"IF($E309=\"\",\"\",VLOOKUP($E309,Lists!$BL$2:$BO$78,COLUMN(),FALSE))","v":""},{"$f":"IF($E309=\"\",\"\",VLOOKUP($E309,Lists!$BL$2:$BO$78,COLUMN(),FALSE))","v":""},null,null,null,null,null,""]
[null,{"$f":"IF($E310=\"\",\"\",VLOOKUP($E310,Lists!$BL$2:$BO$78,COLUMN(),FALSE))","v":""},{"$f":"IF($E310=\"\",\"\",VLOOKUP($E310,Lists!$BL$2:$BO$78,COLUMN(),FALSE))","v":""},{"$f":"IF($E310=\"\",\"\",VLOOKUP($E310,Lists!$BL$2:$BO$78,COLUMN(),FALSE))","v":""},null,null,null,null,null,""]
[null,{"$f":"IF($E311=\"\",\"\",VLOOKUP($E311,Lists!$BL$2:$BO$78,COLUMN(),FALSE))","v":""},{"$f":"IF($E311=\"\",\"\",VLOOKUP($E311,Lists!$BL$2:$BO$78,COLUMN(),FALSE))","v":""},{"$f":"IF($E311=\"\",\"\",VLOOKUP($E311,Lists!$BL$2:$BO$78,COLUMN(),FALSE))","v":""},null,null,null,null,null,""]
[null,{"$f":"IF($E312=\"\",\"\",VLOOKUP($E312,Lists!$BL$2:$BO$78,COLUMN(),FALSE))","v":""},{"$f":"IF($E312=\"\",\"\",VLOOKUP($E312,Lists!$BL$2:$BO$78,COLUMN(),FALSE))","v":""},{"$f":"IF($E312=\"\",\"\",VLOOKUP($E312,Lists!$BL$2:$BO$78,COLUMN(),FALSE))","v":""},null,null,null,null,null,""]
[null,{"$f":"IF($E313=\"\",\"\",VLOOKUP($E313,Lists!$BL$2:$BO$78,COLUMN(),FALSE))","v":""},{"$f":"IF($E313=\"\",\"\",VLOOKUP($E313,Lists!$BL$2:$BO$78,COLUMN(),FALSE))","v":""},{"$f":"IF($E313=\"\",\"\",VLOOKUP($E313,Lists!$BL$2:$BO$78,COLUMN(),FALSE))","v":""},null,null,null,null,null,""]
[null,{"$f":"IF($E314=\"\",\"\",VLOOKUP($E314,Lists!$BL$2:$BO$78,COLUMN(),FALSE))","v":""},{"$f":"IF($E314=\"\",\"\",VLOOKUP($E314,Lists!$BL$2:$BO$78,COLUMN(),FALSE))","v":""},{"$f":"IF($E314=\"\",\"\",VLOOKUP($E314,Lists!$BL$2:$BO$78,COLUMN(),FALSE))","v":""},null,null,null,null,null,""]
[null,{"$f":"IF($E315=\"\",\"\",VLOOKUP($E315,Lists!$BL$2:$BO$78,COLUMN(),FALSE))","v":""},{"$f":"IF($E315=\"\",\"\",VLOOKUP($E315,Lists!$BL$2:$BO$78,COLUMN(),FALSE))","v":""},{"$f":"IF($E315=\"\",\"\",VLOOKUP($E315,Lists!$BL$2:$BO$78,COLUMN(),FALSE))","v":""},null,null,null,null,null,""]
[null,{"$f":"IF($E316=\"\",\"\",VLOOKUP($E316,Lists!$BL$2:$BO$78,COLUMN(),FALSE))","v":""},{"$f":"IF($E316=\"\",\"\",VLOOKUP($E316,Lists!$BL$2:$BO$78,COLUMN(),FALSE))","v":""},{"$f":"IF($E316=\"\",\"\",VLOOKUP($E316,Lists!$BL$2:$BO$78,COLUMN(),FALSE))","v":""},null,null,null,null,null,""]
[null,{"$f":"IF($E317=\"\",\"\",VLOOKUP($E317,Lists!$BL$2:$BO$78,COLUMN(),FALSE))","v":""},{"$f":"IF($E317=\"\",\"\",VLOOKUP($E317,Lists!$BL$2:$BO$78,COLUMN(),FALSE))","v":""},{"$f":"IF($E317=\"\",\"\",VLOOKUP($E317,Lists!$BL$2:$BO$78,COLUMN(),FALSE))","v":""},null,null,null,null,null,""]
[null,{"$f":"IF($E318=\"\",\"\",VLOOKUP($E318,Lists!$BL$2:$BO$78,COLUMN(),FALSE))","v":""},{"$f":"IF($E318=\"\",\"\",VLOOKUP($E318,Lists!$BL$2:$BO$78,COLUMN(),FALSE))","v":""},{"$f":"IF($E318=\"\",\"\",VLOOKUP($E318,Lists!$BL$2:$BO$78,COLUMN(),FALSE))","v":""},null,null,null,null,null,""]
[null,{"$f":"IF($E319=\"\",\"\",VLOOKUP($E319,Lists!$BL$2:$BO$78,COLUMN(),FALSE))","v":""},{"$f":"IF($E319=\"\",\"\",VLOOKUP($E319,Lists!$BL$2:$BO$78,COLUMN(),FALSE))","v":""},{"$f":"IF($E319=\"\",\"\",VLOOKUP($E319,Lists!$BL$2:$BO$78,COLUMN(),FALSE))","v":""},null,null,null,null,null,""]
[null,{"$f":"IF($E320=\"\",\"\",VLOOKUP($E320,Lists!$BL$2:$BO$78,COLUMN(),FALSE))","v":""},{"$f":"IF($E320=\"\",\"\",VLOOKUP($E320,Lists!$BL$2:$BO$78,COLUMN(),FALSE))","v":""},{"$f":"IF($E320=\"\",\"\",VLOOKUP($E320,Lists!$BL$2:$BO$78,COLUMN(),FALSE))","v":""},null,null,null,null,null,""]
[null,{"$f":"IF($E321=\"\",\"\",VLOOKUP($E321,Lists!$BL$2:$BO$78,COLUMN(),FALSE))","v":""},{"$f":"IF($E321=\"\",\"\",VLOOKUP($E321,Lists!$BL$2:$BO$78,COLUMN(),FALSE))","v":""},{"$f":"IF($E321=\"\",\"\",VLOOKUP($E321,Lists!$BL$2:$BO$78,COLUMN(),FALSE))","v":""},null,null,null,null,null,""]
[null,{"$f":"IF($E322=\"\",\"\",VLOOKUP($E322,Lists!$BL$2:$BO$78,COLUMN(),FALSE))","v":""},{"$f":"IF($E322=\"\",\"\",VLOOKUP($E322,Lists!$BL$2:$BO$78,COLUMN(),FALSE))","v":""},{"$f":"IF($E322=\"\",\"\",VLOOKUP($E322,Lists!$BL$2:$BO$78,COLUMN(),FALSE))","v":""},null,null,null,null,null,""]
[null,{"$f":"IF($E323=\"\",\"\",VLOOKUP($E323,Lists!$BL$2:$BO$78,COLUMN(),FALSE))","v":""},{"$f":"IF($E323=\"\",\"\",VLOOKUP($E323,Lists!$BL$2:$BO$78,COLUMN(),FALSE))","v":""},{"$f":"IF($E323=\"\",\"\",VLOOKUP($E323,Lists!$BL$2:$BO$78,COLUMN(),FALSE))","v":""},null,null,null,null,null,""]
[null,{"$f":"IF($E324=\"\",\"\",VLOOKUP($E324,Lists!$BL$2:$BO$78,COLUMN(),FALSE))","v":""},{"$f":"IF($E324=\"\",\"\",VLOOKUP($E324,Lists!$BL$2:$BO$78,COLUMN(),FALSE))","v":""},{"$f":"IF($E324=\"\",\"\",VLOOKUP($E324,Lists!$BL$2:$BO$78,COLUMN(),FALSE))","v":""},null,null,null,null,null,""]
[null,{"$f":"IF($E325=\"\",\"\",VLOOKUP($E325,Lists!$BL$2:$BO$78,COLUMN(),FALSE))","v":""},{"$f":"IF($E325=\"\",\"\",VLOOKUP($E325,Lists!$BL$2:$BO$78,COLUMN(),FALSE))","v":""},{"$f":"IF($E325=\"\",\"\",VLOOKUP($E325,Lists!$BL$2:$BO$78,COLUMN(),FALSE))","v":""},null,null,null,null,null,""]
[null,{"$f":"IF($E326=\"\",\"\",VLOOKUP($E326,Lists!$BL$2:$BO$78,COLUMN(),FALSE))","v":""},{"$f":"IF($E326=\"\",\"\",VLOOKUP($E326,Lists!$BL$2:$BO$78,COLUMN(),FALSE))","v":""},{"$f":"IF($E326=\"\",\"\",VLOOKUP($E326,Lists!$BL$2:$BO$78,COLUMN(),FALSE))","v":""},null,null,null,null,null,""]
[null,{"$f":"IF($E327=\"\",\"\",VLOOKUP($E327,Lists!$BL$2:$BO$78,COLUMN(),FALSE))","v":""},{"$f":"IF($E327=\"\",\"\",VLOOKUP($E327,Lists!$BL$2:$BO$78,COLUMN(),FALSE))","v":""},{"$f":"IF($E327=\"\",\"\",VLOOKUP($E327,Lists!$BL$2:$BO$78,COLUMN(),FALSE))","v":""},null,null,null,null,null,""]
[null,{"$f":"IF($E328=\"\",\"\",VLOOKUP($E328,Lists!$BL$2:$BO$78,COLUMN(),FALSE))","v":""},{"$f":"IF($E328=\"\",\"\",VLOOKUP($E328,Lists!$BL$2:$BO$78,COLUMN(),FALSE))","v":""},{"$f":"IF($E328=\"\",\"\",VLOOKUP($E328,Lists!$BL$2:$BO$78,COLUMN(),FALSE))","v":""},null,null,null,null,null,""]
[null,{"$f":"IF($E329=\"\",\"\",VLOOKUP($E329,Lists!$BL$2:$BO$78,COLUMN(),FALSE))","v":""},{"$f":"IF($E329=\"\",\"\",VLOOKUP($E329,Lists!$BL$2:$BO$78,COLUMN(),FALSE))","v":""},{"$f":"IF($E329=\"\",\"\",VLOOKUP($E329,Lists!$BL$2:$BO$78,COLUMN(),FALSE))","v":""},null,null,null,null,null,""]
[null,{"$f":"IF($E330=\"\",\"\",VLOOKUP($E330,Lists!$BL$2:$BO$78,COLUMN(),FALSE))","v":""},{"$f":"IF($E330=\"\",\"\",VLOOKUP($E330,Lists!$BL$2:$BO$78,COLUMN(),FALSE))","v":""},{"$f":"IF($E330=\"\",\"\",VLOOKUP($E330,Lists!$BL$2:$BO$78,COLUMN(),FALSE))","v":""},null,null,null,null,null,""]
[null,{"$f":"IF($E331=\"\",\"\",VLOOKUP($E331,Lists!$BL$2:$BO$78,COLUMN(),FALSE))","v":""},{"$f":"IF($E331=\"\",\"\",VLOOKUP($E331,Lists!$BL$2:$BO$78,COLUMN(),FALSE))","v":""},{"$f":"IF($E331=\"\",\"\",VLOOKUP($E331,Lists!$BL$2:$BO$78,COLUMN(),FALSE))","v":""},null,null,null,null,null,""]
[null,{"$f":"IF($E332=\"\",\"\",VLOOKUP($E332,Lists!$BL$2:$BO$78,COLUMN(),FALSE))","v":""},{"$f":"IF($E332=\"\",\"\",VLOOKUP($E332,Lists!$BL$2:$BO$78,COLUMN(),FALSE))","v":""},{"$f":"IF($E332=\"\",\"\",VLOOKUP($E332,Lists!$BL$2:$BO$78,COLUMN(),FALSE))","v":""},null,null,null,null,null,""]
[null,{"$f":"IF($E333=\"\",\"\",VLOOKUP($E333,Lists!$BL$2:$BO$78,COLUMN(),FALSE))","v":""},{"$f":"IF($E333=\"\",\"\",VLOOKUP($E333,Lists!$BL$2:$BO$78,COLUMN(),FALSE))","v":""},{"$f":"IF($E333=\"\",\"\",VLOOKUP($E333,Lists!$BL$2:$BO$78,COLUMN(),FALSE))","v":""},null,null,null,null,null,""]
[null,{"$f":"IF($E334=\"\",\"\",VLOOKUP($E334,Lists!$BL$2:$BO$78,COLUMN(),FALSE))","v":""},{"$f":"IF($E334=\"\",\"\",VLOOKUP($E334,Lists!$BL$2:$BO$78,COLUMN(),FALSE))","v":""},{"$f":"IF($E334=\"\",\"\",VLOOKUP($E334,Lists!$BL$2:$BO$78,COLUMN(),FALSE))","v":""},null,null,null,null,null,""]
[null,{"$f":"IF($E335=\"\",\"\",VLOOKUP($E335,Lists!$BL$2:$BO$78,COLUMN(),FALSE))","v":""},{"$f":"IF($E335=\"\",\"\",VLOOKUP($E335,Lists!$BL$2:$BO$78,COLUMN(),FALSE))","v":""},{"$f":"IF($E335=\"\",\"\",VLOOKUP($E335,Lists!$BL$2:$BO$78,COLUMN(),FALSE))","v":""},null,null,null,null,null,""]
[null,{"$f":"IF($E336=\"\",\"\",VLOOKUP($E336,Lists!$BL$2:$BO$78,COLUMN(),FALSE))","v":""},{"$f":"IF($E336=\"\",\"\",VLOOKUP($E336,Lists!$BL$2:$BO$78,COLUMN(),FALSE))","v":""},{"$f":"IF($E336=\"\",\"\",VLOOKUP($E336,Lists!$BL$2:$BO$78,COLUMN(),FALSE))","v":""},null,null,null,null,null,""]
[null,{"$f":"IF($E337=\"\",\"\",VLOOKUP($E337,Lists!$BL$2:$BO$78,COLUMN(),FALSE))","v":""},{"$f":"IF($E337=\"\",\"\",VLOOKUP($E337,Lists!$BL$2:$BO$78,COLUMN(),FALSE))","v":""},{"$f":"IF($E337=\"\",\"\",VLOOKUP($E337,Lists!$BL$2:$BO$78,COLUMN(),FALSE))","v":""},null,null,null,null,null,""]
[null,{"$f":"IF($E338=\"\",\"\",VLOOKUP($E338,Lists!$BL$2:$BO$78,COLUMN(),FALSE))","v":""},{"$f":"IF($E338=\"\",\"\",VLOOKUP($E338,Lists!$BL$2:$BO$78,COLUMN(),FALSE))","v":""},{"$f":"IF($E338=\"\",\"\",VLOOKUP($E338,Lists!$BL$2:$BO$78,COLUMN(),FALSE))","v":""},null,null,null,null,null,""]
[null,{"$f":"IF($E339=\"\",\"\",VLOOKUP($E339,Lists!$BL$2:$BO$78,COLUMN(),FALSE))","v":""},{"$f":"IF($E339=\"\",\"\",VLOOKUP($E339,Lists!$BL$2:$BO$78,COLUMN(),FALSE))","v":""},{"$f":"IF($E339=\"\",\"\",VLOOKUP($E339,Lists!$BL$2:$BO$78,COLUMN(),FALSE))","v":""},null,null,null,null,null,""]
[null,{"$f":"IF($E340=\"\",\"\",VLOOKUP($E340,Lists!$BL$2:$BO$78,COLUMN(),FALSE))","v":""},{"$f":"IF($E340=\"\",\"\",VLOOKUP($E340,Lists!$BL$2:$BO$78,COLUMN(),FALSE))","v":""},{"$f":"IF($E340=\"\",\"\",VLOOKUP($E340,Lists!$BL$2:$BO$78,COLUMN(),FALSE))","v":""},null,null,null,null,null,""]
[null,{"$f":"IF($E341=\"\",\"\",VLOOKUP($E341,Lists!$BL$2:$BO$78,COLUMN(),FALSE))","v":""},{"$f":"IF($E341=\"\",\"\",VLOOKUP($E341,Lists!$BL$2:$BO$78,COLUMN(),FALSE))","v":""},{"$f":"IF($E341=\"\",\"\",VLOOKUP($E341,Lists!$BL$2:$BO$78,COLUMN(),FALSE))","v":""},null,null,null,null,null,""]
[null,{"$f":"IF($E342=\"\",\"\",VLOOKUP($E342,Lists!$BL$2:$BO$78,COLUMN(),FALSE))","v":""},{"$f":"IF($E342=\"\",\"\",VLOOKUP($E342,Lists!$BL$2:$BO$78,COLUMN(),FALSE))","v":""},{"$f":"IF($E342=\"\",\"\",VLOOKUP($E342,Lists!$BL$2:$BO$78,COLUMN(),FALSE))","v":""},null,null,null,null,null,""]
[null,{"$f":"IF($E343=\"\",\"\",VLOOKUP($E343,Lists!$BL$2:$BO$78,COLUMN(),FALSE))","v":""},{"$f":"IF($E343=\"\",\"\",VLOOKUP($E343,Lists!$BL$2:$BO$78,COLUMN(),FALSE))","v":""},{"$f":"IF($E343=\"\",\"\",VLOOKUP($E343,Lists!$BL$2:$BO$78,COLUMN(),FALSE))","v":""},null,null,null,null,null,""]
[null,{"$f":"IF($E344=\"\",\"\",VLOOKUP($E344,Lists!$BL$2:$BO$78,COLUMN(),FALSE))","v":""},{"$f":"IF($E344=\"\",\"\",VLOOKUP($E344,Lists!$BL$2:$BO$78,COLUMN(),FALSE))","v":""},{"$f":"IF($E344=\"\",\"\",VLOOKUP($E344,Lists!$BL$2:$BO$78,COLUMN(),FALSE))","v":""},null,null,null,null,null,""]
[null,{"$f":"IF($E345=\"\",\"\",VLOOKUP($E345,Lists!$BL$2:$BO$78,COLUMN(),FALSE))","v":""},{"$f":"IF($E345=\"\",\"\",VLOOKUP($E345,Lists!$BL$2:$BO$78,COLUMN(),FALSE))","v":""},{"$f":"IF($E345=\"\",\"\",VLOOKUP($E345,Lists!$BL$2:$BO$78,COLUMN(),FALSE))","v":""},null,null,null,null,null,{"$f":"IF(I345=\"\",\"\",(VALUE(TEXT(H345,\"m/dd/yy \")&TEXT(I345,\"hh:mm:ss\"))-(VALUE(TEXT(F345,\"m/dd/yy \")&TEXT(G345,\"hh:mm:ss\"))))*24)","v":""}]
[null,{"$f":"IF($E346=\"\",\"\",VLOOKUP($E346,Lists!$BL$2:$BO$78,COLUMN(),FALSE))","v":""},{"$f":"IF($E346=\"\",\"\",VLOOKUP($E346,Lists!$BL$2:$BO$78,COLUMN(),FALSE))","v":""},{"$f":"IF($E346=\"\",\"\",VLOOKUP($E346,Lists!$BL$2:$BO$78,COLUMN(),FALSE))","v":""},null,null,null,null,null,""]
[null,{"$f":"IF($E347=\"\",\"\",VLOOKUP($E347,Lists!$BL$2:$BO$78,COLUMN(),FALSE))","v":""},{"$f":"IF($E347=\"\",\"\",VLOOKUP($E347,Lists!$BL$2:$BO$78,COLUMN(),FALSE))","v":""},{"$f":"IF($E347=\"\",\"\",VLOOKUP($E347,Lists!$BL$2:$BO$78,COLUMN(),FALSE))","v":""},null,null,null,null,null,""]
[null,{"$f":"IF($E348=\"\",\"\",VLOOKUP($E348,Lists!$BL$2:$BO$78,COLUMN(),FALSE))","v":""},{"$f":"IF($E348=\"\",\"\",VLOOKUP($E348,Lists!$BL$2:$BO$78,COLUMN(),FALSE))","v":""},{"$f":"IF($E348=\"\",\"\",VLOOKUP($E348,Lists!$BL$2:$BO$78,COLUMN(),FALSE))","v":""},null,null,null,null,null,""]
[null,{"$f":"IF($E349=\"\",\"\",VLOOKUP($E349,Lists!$BL$2:$BO$78,COLUMN(),FALSE))","v":""},{"$f":"IF($E349=\"\",\"\",VLOOKUP($E349,Lists!$BL$2:$BO$78,COLUMN(),FALSE))","v":""},{"$f":"IF($E349=\"\",\"\",VLOOKUP($E349,Lists!$BL$2:$BO$78,COLUMN(),FALSE))","v":""},null,null,null,null,null,""]
[null,{"$f":"IF($E350=\"\",\"\",VLOOKUP($E350,Lists!$BL$2:$BO$78,COLUMN(),FALSE))","v":""},{"$f":"IF($E350=\"\",\"\",VLOOKUP($E350,Lists!$BL$2:$BO$78,COLUMN(),FALSE))","v":""},{"$f":"IF($E350=\"\",\"\",VLOOKUP($E350,Lists!$BL$2:$BO$78,COLUMN(),FALSE))","v":""},null,null,null,null,null,""]
[null,{"$f":"IF($E351=\"\",\"\",VLOOKUP($E351,Lists!$BL$2:$BO$78,COLUMN(),FALSE))","v":""},{"$f":"IF($E351=\"\",\"\",VLOOKUP($E351,Lists!$BL$2:$BO$78,COLUMN(),FALSE))","v":""},{"$f":"IF($E351=\"\",\"\",VLOOKUP($E351,Lists!$BL$2:$BO$78,COLUMN(),FALSE))","v":""},null,null,null,null,null,""]
[null,{"$f":"IF($E352=\"\",\"\",VLOOKUP($E352,Lists!$BL$2:$BO$78,COLUMN(),FALSE))","v":""},{"$f":"IF($E352=\"\",\"\",VLOOKUP($E352,Lists!$BL$2:$BO$78,COLUMN(),FALSE))","v":""},{"$f":"IF($E352=\"\",\"\",VLOOKUP($E352,Lists!$BL$2:$BO$78,COLUMN(),FALSE))","v":""},null,null,null,null,null,""]
[null,{"$f":"IF($E353=\"\",\"\",VLOOKUP($E353,Lists!$BL$2:$BO$78,COLUMN(),FALSE))","v":""},{"$f":"IF($E353=\"\",\"\",VLOOKUP($E353,Lists!$BL$2:$BO$78,COLUMN(),FALSE))","v":""},{"$f":"IF($E353=\"\",\"\",VLOOKUP($E353,Lists!$BL$2:$BO$78,COLUMN(),FALSE))","v":""},null,null,null,null,null,""]
[null,{"$f":"IF($E354=\"\",\"\",VLOOKUP($E354,Lists!$BL$2:$BO$78,COLUMN(),FALSE))","v":""},{"$f":"IF($E354=\"\",\"\",VLOOKUP($E354,Lists!$BL$2:$BO$78,COLUMN(),FALSE))","v":""},{"$f":"IF($E354=\"\",\"\",VLOOKUP($E354,Lists!$BL$2:$BO$78,COLUMN(),FALSE))","v":""},null,null,null,null,null,""]
[null,{"$f":"IF($E355=\"\",\"\",VLOOKUP($E355,Lists!$BL$2:$BO$78,COLUMN(),FALSE))","v":""},{"$f":"IF($E355=\"\",\"\",VLOOKUP($E355,Lists!$BL$2:$BO$78,COLUMN(),FALSE))","v":""},{"$f":"IF($E355=\"\",\"\",VLOOKUP($E355,Lists!$BL$2:$BO$78,COLUMN(),FALSE))","v":""},null,null,null,null,null,""]
[null,{"$f":"IF($E356=\"\",\"\",VLOOKUP($E356,Lists!$BL$2:$BO$78,COLUMN(),FALSE))","v":""},{"$f":"IF($E356=\"\",\"\",VLOOKUP($E356,Lists!$BL$2:$BO$78,COLUMN(),FALSE))","v":""},{"$f":"IF($E356=\"\",\"\",VLOOKUP($E356,Lists!$BL$2:$BO$78,COLUMN(),FALSE))","v":""},null,null,null,null,null,""]
[null,{"$f":"IF($E357=\"\",\"\",VLOOKUP($E357,Lists!$BL$2:$BO$78,COLUMN(),FALSE))","v":""},{"$f":"IF($E357=\"\",\"\",VLOOKUP($E357,Lists!$BL$2:$BO$78,COLUMN(),FALSE))","v":""},{"$f":"IF($E357=\"\",\"\",VLOOKUP($E357,Lists!$BL$2:$BO$78,COLUMN(),FALSE))","v":""},null,null,null,null,null,""]
[null,{"$f":"IF($E358=\"\",\"\",VLOOKUP($E358,Lists!$BL$2:$BO$78,COLUMN(),FALSE))","v":""},{"$f":"IF($E358=\"\",\"\",VLOOKUP($E358,Lists!$BL$2:$BO$78,COLUMN(),FALSE))","v":""},{"$f":"IF($E358=\"\",\"\",VLOOKUP($E358,Lists!$BL$2:$BO$78,COLUMN(),FALSE))","v":""},null,null,null,null,null,""]
[null,{"$f":"IF($E359=\"\",\"\",VLOOKUP($E359,Lists!$BL$2:$BO$78,COLUMN(),FALSE))","v":""},{"$f":"IF($E359=\"\",\"\",VLOOKUP($E359,Lists!$BL$2:$BO$78,COLUMN(),FALSE))","v":""},{"$f":"IF($E359=\"\",\"\",VLOOKUP($E359,Lists!$BL$2:$BO$78,COLUMN(),FALSE))","v":""},null,null,null,null,null,""]
[null,{"$f":"IF($E360=\"\",\"\",VLOOKUP($E360,Lists!$BL$2:$BO$78,COLUMN(),FALSE))","v":""},{"$f":"IF($E360=\"\",\"\",VLOOKUP($E360,Lists!$BL$2:$BO$78,COLUMN(),FALSE))","v":""},{"$f":"IF($E360=\"\",\"\",VLOOKUP($E360,Lists!$BL$2:$BO$78,COLUMN(),FALSE))","v":""},null,null,null,null,null,""]
[null,{"$f":"IF($E361=\"\",\"\",VLOOKUP($E361,Lists!$BL$2:$BO$78,COLUMN(),FALSE))","v":""},{"$f":"IF($E361=\"\",\"\",VLOOKUP($E361,Lists!$BL$2:$BO$78,COLUMN(),FALSE))","v":""},{"$f":"IF($E361=\"\",\"\",VLOOKUP($E361,Lists!$BL$2:$BO$78,COLUMN(),FALSE))","v":""},null,null,null,null,null,""]
[null,{"$f":"IF($E362=\"\",\"\",VLOOKUP($E362,Lists!$BL$2:$BO$78,COLUMN(),FALSE))","v":""},{"$f":"IF($E362=\"\",\"\",VLOOKUP($E362,Lists!$BL$2:$BO$78,COLUMN(),FALSE))","v":""},{"$f":"IF($E362=\"\",\"\",VLOOKUP($E362,Lists!$BL$2:$BO$78,COLUMN(),FALSE))","v":""},null,null,null,null,null,""]
[null,{"$f":"IF($E363=\"\",\"\",VLOOKUP($E363,Lists!$BL$2:$BO$78,COLUMN(),FALSE))","v":""},{"$f":"IF($E363=\"\",\"\",VLOOKUP($E363,Lists!$BL$2:$BO$78,COLUMN(),FALSE))","v":""},{"$f":"IF($E363=\"\",\"\",VLOOKUP($E363,Lists!$BL$2:$BO$78,COLUMN(),FALSE))","v":""},null,null,null,null,null,""]
[null,{"$f":"IF($E364=\"\",\"\",VLOOKUP($E364,Lists!$BL$2:$BO$78,COLUMN(),FALSE))","v":""},{"$f":"IF($E364=\"\",\"\",VLOOKUP($E364,Lists!$BL$2:$BO$78,COLUMN(),FALSE))","v":""},{"$f":"IF($E364=\"\",\"\",VLOOKUP($E364,Lists!$BL$2:$BO$78,COLUMN(),FALSE))","v":""},null,null,null,null,null,""]
[null,{"$f":"IF($E365=\"\",\"\",VLOOKUP($E365,Lists!$BL$2:$BO$78,COLUMN(),FALSE))","v":""},{"$f":"IF($E365=\"\",\"\",VLOOKUP($E365,Lists!$BL$2:$BO$78,COLUMN(),FALSE))","v":""},{"$f":"IF($E365=\"\",\"\",VLOOKUP($E365,Lists!$BL$2:$BO$78,COLUMN(),FALSE))","v":""},null,null,null,null,null,""]
[null,{"$f":"IF($E366=\"\",\"\",VLOOKUP($E366,Lists!$BL$2:$BO$78,COLUMN(),FALSE))","v":""},{"$f":"IF($E366=\"\",\"\",VLOOKUP($E366,Lists!$BL$2:$BO$78,COLUMN(),FALSE))","v":""},{"$f":"IF($E366=\"\",\"\",VLOOKUP($E366,Lists!$BL$2:$BO$78,COLUMN(),FALSE))","v":""},null,null,null,null,null,""]
[null,{"$f":"IF($E367=\"\",\"\",VLOOKUP($E367,Lists!$BL$2:$BO$78,COLUMN(),FALSE))","v":""},{"$f":"IF($E367=\"\",\"\",VLOOKUP($E367,Lists!$BL$2:$BO$78,COLUMN(),FALSE))","v":""},{"$f":"IF($E367=\"\",\"\",VLOOKUP($E367,Lists!$BL$2:$BO$78,COLUMN(),FALSE))","v":""},null,null,null,null,null,""]
[null,{"$f":"IF($E368=\"\",\"\",VLOOKUP($E368,Lists!$BL$2:$BO$78,COLUMN(),FALSE))","v":""},{"$f":"IF($E368=\"\",\"\",VLOOKUP($E368,Lists!$BL$2:$BO$78,COLUMN(),FALSE))","v":""},{"$f":"IF($E368=\"\",\"\",VLOOKUP($E368,Lists!$BL$2:$BO$78,COLUMN(),FALSE))","v":""},null,null,null,null,null,""]
[null,{"$f":"IF($E369=\"\",\"\",VLOOKUP($E369,Lists!$BL$2:$BO$78,COLUMN(),FALSE))","v":""},{"$f":"IF($E369=\"\",\"\",VLOOKUP($E369,Lists!$BL$2:$BO$78,COLUMN(),FALSE))","v":""},{"$f":"IF($E369=\"\",\"\",VLOOKUP($E369,Lists!$BL$2:$BO$78,COLUMN(),FALSE))","v":""},null,null,null,null,null,""]
[null,{"$f":"IF($E370=\"\",\"\",VLOOKUP($E370,Lists!$BL$2:$BO$78,COLUMN(),FALSE))","v":""},{"$f":"IF($E370=\"\",\"\",VLOOKUP($E370,Lists!$BL$2:$BO$78,COLUMN(),FALSE))","v":""},{"$f":"IF($E370=\"\",\"\",VLOOKUP($E370,Lists!$BL$2:$BO$78,COLUMN(),FALSE))","v":""},null,null,null,null,null,""]
[null,{"$f":"IF($E371=\"\",\"\",VLOOKUP($E371,Lists!$BL$2:$BO$78,COLUMN(),FALSE))","v":""},{"$f":"IF($E371=\"\",\"\",VLOOKUP($E371,Lists!$BL$2:$BO$78,COLUMN(),FALSE))","v":""},{"$f":"IF($E371=\"\",\"\",VLOOKUP($E371,Lists!$BL$2:$BO$78,COLUMN(),FALSE))","v":""},null,null,null,null,null,""]
[null,{"$f":"IF($E372=\"\",\"\",VLOOKUP($E372,Lists!$BL$2:$BO$78,COLUMN(),FALSE))","v":""},{"$f":"IF($E372=\"\",\"\",VLOOKUP($E372,Lists!$BL$2:$BO$78,COLUMN(),FALSE))","v":""},{"$f":"IF($E372=\"\",\"\",VLOOKUP($E372,Lists!$BL$2:$BO$78,COLUMN(),FALSE))","v":""},null,null,null,null,null,""]
[null,{"$f":"IF($E373=\"\",\"\",VLOOKUP($E373,Lists!$BL$2:$BO$78,COLUMN(),FALSE))","v":""},{"$f":"IF($E373=\"\",\"\",VLOOKUP($E373,Lists!$BL$2:$BO$78,COLUMN(),FALSE))","v":""},{"$f":"IF($E373=\"\",\"\",VLOOKUP($E373,Lists!$BL$2:$BO$78,COLUMN(),FALSE))","v":""},null,null,null,null,null,""]
[null,{"$f":"IF($E374=\"\",\"\",VLOOKUP($E374,Lists!$BL$2:$BO$78,COLUMN(),FALSE))","v":""},{"$f":"IF($E374=\"\",\"\",VLOOKUP($E374,Lists!$BL$2:$BO$78,COLUMN(),FALSE))","v":""},{"$f":"IF($E374=\"\",\"\",VLOOKUP($E374,Lists!$BL$2:$BO$78,COLUMN(),FALSE))","v":""},null,null,null,null,null,""]
[null,{"$f":"IF($E375=\"\",\"\",VLOOKUP($E375,Lists!$BL$2:$BO$78,COLUMN(),FALSE))","v":""},{"$f":"IF($E375=\"\",\"\",VLOOKUP($E375,Lists!$BL$2:$BO$78,COLUMN(),FALSE))","v":""},{"$f":"IF($E375=\"\",\"\",VLOOKUP($E375,Lists!$BL$2:$BO$78,COLUMN(),FALSE))","v":""},null,null,null,null,null,""]
[null,{"$f":"IF($E376=\"\",\"\",VLOOKUP($E376,Lists!$BL$2:$BO$78,COLUMN(),FALSE))","v":""},{"$f":"IF($E376=\"\",\"\",VLOOKUP($E376,Lists!$BL$2:$BO$78,COLUMN(),FALSE))","v":""},{"$f":"IF($E376=\"\",\"\",VLOOKUP($E376,Lists!$BL$2:$BO$78,COLUMN(),FALSE))","v":""},null,null,null,null,null,""]
[null,{"$f":"IF($E377=\"\",\"\",VLOOKUP($E377,Lists!$BL$2:$BO$78,COLUMN(),FALSE))","v":""},{"$f":"IF($E377=\"\",\"\",VLOOKUP($E377,Lists!$BL$2:$BO$78,COLUMN(),FALSE))","v":""},{"$f":"IF($E377=\"\",\"\",VLOOKUP($E377,Lists!$BL$2:$BO$78,COLUMN(),FALSE))","v":""},null,null,null,null,null,""]
[null,{"$f":"IF($E378=\"\",\"\",VLOOKUP($E378,Lists!$BL$2:$BO$78,COLUMN(),FALSE))","v":""},{"$f":"IF($E378=\"\",\"\",VLOOKUP($E378,Lists!$BL$2:$BO$78,COLUMN(),FALSE))","v":""},{"$f":"IF($E378=\"\",\"\",VLOOKUP($E378,Lists!$BL$2:$BO$78,COLUMN(),FALSE))","v":""},null,null,null,null,null,""]
[null,{"$f":"IF($E379=\"\",\"\",VLOOKUP($E379,Lists!$BL$2:$BO$78,COLUMN(),FALSE))","v":""},{"$f":"IF($E379=\"\",\"\",VLOOKUP($E379,Lists!$BL$2:$BO$78,COLUMN(),FALSE))","v":""},{"$f":"IF($E379=\"\",\"\",VLOOKUP($E379,Lists!$BL$2:$BO$78,COLUMN(),FALSE))","v":""},null,null,null,null,null,""]
[null,{"$f":"IF($E380=\"\",\"\",VLOOKUP($E380,Lists!$BL$2:$BO$78,COLUMN(),FALSE))","v":""},{"$f":"IF($E380=\"\",\"\",VLOOKUP($E380,Lists!$BL$2:$BO$78,COLUMN(),FALSE))","v":""},{"$f":"IF($E380=\"\",\"\",VLOOKUP($E380,Lists!$BL$2:$BO$78,COLUMN(),FALSE))","v":""},null,null,null,null,null,""]
[null,{"$f":"IF($E381=\"\",\"\",VLOOKUP($E381,Lists!$BL$2:$BO$78,COLUMN(),FALSE))","v":""},{"$f":"IF($E381=\"\",\"\",VLOOKUP($E381,Lists!$BL$2:$BO$78,COLUMN(),FALSE))","v":""},{"$f":"IF($E381=\"\",\"\",VLOOKUP($E381,Lists!$BL$2:$BO$78,COLUMN(),FALSE))","v":""},null,null,null,null,null,""]
[null,{"$f":"IF($E382=\"\",\"\",VLOOKUP($E382,Lists!$BL$2:$BO$78,COLUMN(),FALSE))","v":""},{"$f":"IF($E382=\"\",\"\",VLOOKUP($E382,Lists!$BL$2:$BO$78,COLUMN(),FALSE))","v":""},{"$f":"IF($E382=\"\",\"\",VLOOKUP($E382,Lists!$BL$2:$BO$78,COLUMN(),FALSE))","v":""},null,null,null,null,null,""]
[null,{"$f":"IF($E383=\"\",\"\",VLOOKUP($E383,Lists!$BL$2:$BO$78,COLUMN(),FALSE))","v":""},{"$f":"IF($E383=\"\",\"\",VLOOKUP($E383,Lists!$BL$2:$BO$78,COLUMN(),FALSE))","v":""},{"$f":"IF($E383=\"\",\"\",VLOOKUP($E383,Lists!$BL$2:$BO$78,COLUMN(),FALSE))","v":""},null,null,null,null,null,""]
[null,{"$f":"IF($E384=\"\",\"\",VLOOKUP($E384,Lists!$BL$2:$BO$78,COLUMN(),FALSE))","v":""},{"$f":"IF($E384=\"\",\"\",VLOOKUP($E384,Lists!$BL$2:$BO$78,COLUMN(),FALSE))","v":""},{"$f":"IF($E384=\"\",\"\",VLOOKUP($E384,Lists!$BL$2:$BO$78,COLUMN(),FALSE))","v":""},null,null,null,null,null,""]
[null,{"$f":"IF($E385=\"\",\"\",VLOOKUP($E385,Lists!$BL$2:$BO$78,COLUMN(),FALSE))","v":""},{"$f":"IF($E385=\"\",\"\",VLOOKUP($E385,Lists!$BL$2:$BO$78,COLUMN(),FALSE))","v":""},{"$f":"IF($E385=\"\",\"\",VLOOKUP($E385,Lists!$BL$2:$BO$78,COLUMN(),FALSE))","v":""},null,null,null,null,null,""]
[null,{"$f":"IF($E386=\"\",\"\",VLOOKUP($E386,Lists!$BL$2:$BO$78,COLUMN(),FALSE))","v":""},{"$f":"IF($E386=\"\",\"\",VLOOKUP($E386,Lists!$BL$2:$BO$78,COLUMN(),FALSE))","v":""},{"$f":"IF($E386=\"\",\"\",VLOOKUP($E386,Lists!$BL$2:$BO$78,COLUMN(),FALSE))","v":""},null,null,null,null,null,""]
[null,{"$f":"IF($E387=\"\",\"\",VLOOKUP($E387,Lists!$BL$2:$BO$78,COLUMN(),FALSE))","v":""},{"$f":"IF($E387=\"\",\"\",VLOOKUP($E387,Lists!$BL$2:$BO$78,COLUMN(),FALSE))","v":""},{"$f":"IF($E387=\"\",\"\",VLOOKUP($E387,Lists!$BL$2:$BO$78,COLUMN(),FALSE))","v":""},null,null,null,null,null,""]
[null,{"$f":"IF($E388=\"\",\"\",VLOOKUP($E388,Lists!$BL$2:$BO$78,COLUMN(),FALSE))","v":""},{"$f":"IF($E388=\"\",\"\",VLOOKUP($E388,Lists!$BL$2:$BO$78,COLUMN(),FALSE))","v":""},{"$f":"IF($E388=\"\",\"\",VLOOKUP($E388,Lists!$BL$2:$BO$78,COLUMN(),FALSE))","v":""},null,null,null,null,null,""]
[null,{"$f":"IF($E389=\"\",\"\",VLOOKUP($E389,Lists!$BL$2:$BO$78,COLUMN(),FALSE))","v":""},{"$f":"IF($E389=\"\",\"\",VLOOKUP($E389,Lists!$BL$2:$BO$78,COLUMN(),FALSE))","v":""},{"$f":"IF($E389=\"\",\"\",VLOOKUP($E389,Lists!$BL$2:$BO$78,COLUMN(),FALSE))","v":""},null,null,null,null,null,""]
[null,{"$f":"IF($E390=\"\",\"\",VLOOKUP($E390,Lists!$BL$2:$BO$78,COLUMN(),FALSE))","v":""},{"$f":"IF($E390=\"\",\"\",VLOOKUP($E390,Lists!$BL$2:$BO$78,COLUMN(),FALSE))","v":""},{"$f":"IF($E390=\"\",\"\",VLOOKUP($E390,Lists!$BL$2:$BO$78,COLUMN(),FALSE))","v":""},null,null,null,null,null,""]
[null,{"$f":"IF($E391=\"\",\"\",VLOOKUP($E391,Lists!$BL$2:$BO$78,COLUMN(),FALSE))","v":""},{"$f":"IF($E391=\"\",\"\",VLOOKUP($E391,Lists!$BL$2:$BO$78,COLUMN(),FALSE))","v":""},{"$f":"IF($E391=\"\",\"\",VLOOKUP($E391,Lists!$BL$2:$BO$78,COLUMN(),FALSE))","v":""},null,null,null,null,null,""]
[null,{"$f":"IF($E392=\"\",\"\",VLOOKUP($E392,Lists!$BL$2:$BO$78,COLUMN(),FALSE))","v":""},{"$f":"IF($E392=\"\",\"\",VLOOKUP($E392,Lists!$BL$2:$BO$78,COLUMN(),FALSE))","v":""},{"$f":"IF($E392=\"\",\"\",VLOOKUP($E392,Lists!$BL$2:$BO$78,COLUMN(),FALSE))","v":""},null,null,null,null,null,""]
[null,{"$f":"IF($E393=\"\",\"\",VLOOKUP($E393,Lists!$BL$2:$BO$78,COLUMN(),FALSE))","v":""},{"$f":"IF($E393=\"\",\"\",VLOOKUP($E393,Lists!$BL$2:$BO$78,COLUMN(),FALSE))","v":""},{"$f":"IF($E393=\"\",\"\",VLOOKUP($E393,Lists!$BL$2:$BO$78,COLUMN(),FALSE))","v":""},null,null,null,null,null,""]
[null,{"$f":"IF($E394=\"\",\"\",VLOOKUP($E394,Lists!$BL$2:$BO$78,COLUMN(),FALSE))","v":""},{"$f":"IF($E394=\"\",\"\",VLOOKUP($E394,Lists!$BL$2:$BO$78,COLUMN(),FALSE))","v":""},{"$f":"IF($E394=\"\",\"\",VLOOKUP($E394,Lists!$BL$2:$BO$78,COLUMN(),FALSE))","v":""},null,null,null,null,null,""]
[null,{"$f":"IF($E395=\"\",\"\",VLOOKUP($E395,Lists!$BL$2:$BO$78,COLUMN(),FALSE))","v":""},{"$f":"IF($E395=\"\",\"\",VLOOKUP($E395,Lists!$BL$2:$BO$78,COLUMN(),FALSE))","v":""},{"$f":"IF($E395=\"\",\"\",VLOOKUP($E395,Lists!$BL$2:$BO$78,COLUMN(),FALSE))","v":""},null,null,null,null,null,""]
[null,{"$f":"IF($E396=\"\",\"\",VLOOKUP($E396,Lists!$BL$2:$BO$78,COLUMN(),FALSE))","v":""},{"$f":"IF($E396=\"\",\"\",VLOOKUP($E396,Lists!$BL$2:$BO$78,COLUMN(),FALSE))","v":""},{"$f":"IF($E396=\"\",\"\",VLOOKUP($E396,Lists!$BL$2:$BO$78,COLUMN(),FALSE))","v":""},null,null,null,null,null,""]
[null,{"$f":"IF($E397=\"\",\"\",VLOOKUP($E397,Lists!$BL$2:$BO$78,COLUMN(),FALSE))","v":""},{"$f":"IF($E397=\"\",\"\",VLOOKUP($E397,Lists!$BL$2:$BO$78,COLUMN(),FALSE))","v":""},{"$f":"IF($E397=\"\",\"\",VLOOKUP($E397,Lists!$BL$2:$BO$78,COLUMN(),FALSE))","v":""},null,null,null,null,null,""]
[null,{"$f":"IF($E398=\"\",\"\",VLOOKUP($E398,Lists!$BL$2:$BO$78,COLUMN(),FALSE))","v":""},{"$f":"IF($E398=\"\",\"\",VLOOKUP($E398,Lists!$BL$2:$BO$78,COLUMN(),FALSE))","v":""},{"$f":"IF($E398=\"\",\"\",VLOOKUP($E398,Lists!$BL$2:$BO$78,COLUMN(),FALSE))","v":""},null,null,null,null,null,""]
[null,{"$f":"IF($E399=\"\",\"\",VLOOKUP($E399,Lists!$BL$2:$BO$78,COLUMN(),FALSE))","v":""},{"$f":"IF($E399=\"\",\"\",VLOOKUP($E399,Lists!$BL$2:$BO$78,COLUMN(),FALSE))","v":""},{"$f":"IF($E399=\"\",\"\",VLOOKUP($E399,Lists!$BL$2:$BO$78,COLUMN(),FALSE))","v":""},null,null,null,null,null,""]
[null,{"$f":"IF($E400=\"\",\"\",VLOOKUP($E400,Lists!$BL$2:$BO$78,COLUMN(),FALSE))","v":""},{"$f":"IF($E400=\"\",\"\",VLOOKUP($E400,Lists!$BL$2:$BO$78,COLUMN(),FALSE))","v":""},{"$f":"IF($E400=\"\",\"\",VLOOKUP($E400,Lists!$BL$2:$BO$78,COLUMN(),FALSE))","v":""},null,null,null,null,null,""]
[null,{"$f":"IF($E401=\"\",\"\",VLOOKUP($E401,Lists!$BL$2:$BO$78,COLUMN(),FALSE))","v":""},{"$f":"IF($E401=\"\",\"\",VLOOKUP($E401,Lists!$BL$2:$BO$78,COLUMN(),FALSE))","v":""},{"$f":"IF($E401=\"\",\"\",VLOOKUP($E401,Lists!$BL$2:$BO$78,COLUMN(),FALSE))","v":""},null,null,null,null,null,""]
[null,{"$f":"IF($E402=\"\",\"\",VLOOKUP($E402,Lists!$BL$2:$BO$78,COLUMN(),FALSE))","v":""},{"$f":"IF($E402=\"\",\"\",VLOOKUP($E402,Lists!$BL$2:$BO$78,COLUMN(),FALSE))","v":""},{"$f":"IF($E402=\"\",\"\",VLOOKUP($E402,Lists!$BL$2:$BO$78,COLUMN(),FALSE))","v":""},null,null,null,null,null,""]
[null,{"$f":"IF($E403=\"\",\"\",VLOOKUP($E403,Lists!$BL$2:$BO$78,COLUMN(),FALSE))","v":""},{"$f":"IF($E403=\"\",\"\",VLOOKUP($E403,Lists!$BL$2:$BO$78,COLUMN(),FALSE))","v":""},{"$f":"IF($E403=\"\",\"\",VLOOKUP($E403,Lists!$BL$2:$BO$78,COLUMN(),FALSE))","v":""},null,null,null,null,null,""]
[null,{"$f":"IF($E404=\"\",\"\",VLOOKUP($E404,Lists!$BL$2:$BO$78,COLUMN(),FALSE))","v":""},{"$f":"IF($E404=\"\",\"\",VLOOKUP($E404,Lists!$BL$2:$BO$78,COLUMN(),FALSE))","v":""},{"$f":"IF($E404=\"\",\"\",VLOOKUP($E404,Lists!$BL$2:$BO$78,COLUMN(),FALSE))","v":""},null,null,null,null,null,""]
[null,{"$f":"IF($E405=\"\",\"\",VLOOKUP($E405,Lists!$BL$2:$BO$78,COLUMN(),FALSE))","v":""},{"$f":"IF($E405=\"\",\"\",VLOOKUP($E405,Lists!$BL$2:$BO$78,COLUMN(),FALSE))","v":""},{"$f":"IF($E405=\"\",\"\",VLOOKUP($E405,Lists!$BL$2:$BO$78,COLUMN(),FALSE))","v":""},null,null,null,null,null,""]
[null,{"$f":"IF($E406=\"\",\"\",VLOOKUP($E406,Lists!$BL$2:$BO$78,COLUMN(),FALSE))","v":""},{"$f":"IF($E406=\"\",\"\",VLOOKUP($E406,Lists!$BL$2:$BO$78,COLUMN(),FALSE))","v":""},{"$f":"IF($E406=\"\",\"\",VLOOKUP($E406,Lists!$BL$2:$BO$78,COLUMN(),FALSE))","v":""},null,null,null,null,null,""]
[null,{"$f":"IF($E407=\"\",\"\",VLOOKUP($E407,Lists!$BL$2:$BO$78,COLUMN(),FALSE))","v":""},{"$f":"IF($E407=\"\",\"\",VLOOKUP($E407,Lists!$BL$2:$BO$78,COLUMN(),FALSE))","v":""},{"$f":"IF($E407=\"\",\"\",VLOOKUP($E407,Lists!$BL$2:$BO$78,COLUMN(),FALSE))","v":""},null,null,null,null,null,""]
[null,{"$f":"IF($E408=\"\",\"\",VLOOKUP($E408,Lists!$BL$2:$BO$78,COLUMN(),FALSE))","v":""},{"$f":"IF($E408=\"\",\"\",VLOOKUP($E408,Lists!$BL$2:$BO$78,COLUMN(),FALSE))","v":""},{"$f":"IF($E408=\"\",\"\",VLOOKUP($E408,Lists!$BL$2:$BO$78,COLUMN(),FALSE))","v":""},null,null,null,null,null,""]
[null,{"$f":"IF($E409=\"\",\"\",VLOOKUP($E409,Lists!$BL$2:$BO$78,COLUMN(),FALSE))","v":""},{"$f":"IF($E409=\"\",\"\",VLOOKUP($E409,Lists!$BL$2:$BO$78,COLUMN(),FALSE))","v":""},{"$f":"IF($E409=\"\",\"\",VLOOKUP($E409,Lists!$BL$2:$BO$78,COLUMN(),FALSE))","v":""},null,null,null,null,null,{"$f":"IF(I409=\"\",\"\",(VALUE(TEXT(H409,\"m/dd/yy \")&TEXT(I409,\"hh:mm:ss\"))-(VALUE(TEXT(F409,\"m/dd/yy \")&TEXT(G409,\"hh:mm:ss\"))))*24)","v":""}]
[null,{"$f":"IF($E410=\"\",\"\",VLOOKUP($E410,Lists!$BL$2:$BO$78,COLUMN(),FALSE))","v":""},{"$f":"IF($E410=\"\",\"\",VLOOKUP($E410,Lists!$BL$2:$BO$78,COLUMN(),FALSE))","v":""},{"$f":"IF($E410=\"\",\"\",VLOOKUP($E410,Lists!$BL$2:$BO$78,COLUMN(),FALSE))","v":""},null,null,null,null,null,""]
[null,{"$f":"IF($E411=\"\",\"\",VLOOKUP($E411,Lists!$BL$2:$BO$78,COLUMN(),FALSE))","v":""},{"$f":"IF($E411=\"\",\"\",VLOOKUP($E411,Lists!$BL$2:$BO$78,COLUMN(),FALSE))","v":""},{"$f":"IF($E411=\"\",\"\",VLOOKUP($E411,Lists!$BL$2:$BO$78,COLUMN(),FALSE))","v":""},null,null,null,null,null,""]
[null,{"$f":"IF($E412=\"\",\"\",VLOOKUP($E412,Lists!$BL$2:$BO$78,COLUMN(),FALSE))","v":""},{"$f":"IF($E412=\"\",\"\",VLOOKUP($E412,Lists!$BL$2:$BO$78,COLUMN(),FALSE))","v":""},{"$f":"IF($E412=\"\",\"\",VLOOKUP($E412,Lists!$BL$2:$BO$78,COLUMN(),FALSE))","v":""},null,null,null,null,null,""]
[null,{"$f":"IF($E413=\"\",\"\",VLOOKUP($E413,Lists!$BL$2:$BO$78,COLUMN(),FALSE))","v":""},{"$f":"IF($E413=\"\",\"\",VLOOKUP($E413,Lists!$BL$2:$BO$78,COLUMN(),FALSE))","v":""},{"$f":"IF($E413=\"\",\"\",VLOOKUP($E413,Lists!$BL$2:$BO$78,COLUMN(),FALSE))","v":""},null,null,null,null,null,""]
[null,{"$f":"IF($E414=\"\",\"\",VLOOKUP($E414,Lists!$BL$2:$BO$78,COLUMN(),FALSE))","v":""},{"$f":"IF($E414=\"\",\"\",VLOOKUP($E414,Lists!$BL$2:$BO$78,COLUMN(),FALSE))","v":""},{"$f":"IF($E414=\"\",\"\",VLOOKUP($E414,Lists!$BL$2:$BO$78,COLUMN(),FALSE))","v":""},null,null,null,null,null,""]
[null,{"$f":"IF($E415=\"\",\"\",VLOOKUP($E415,Lists!$BL$2:$BO$78,COLUMN(),FALSE))","v":""},{"$f":"IF($E415=\"\",\"\",VLOOKUP($E415,Lists!$BL$2:$BO$78,COLUMN(),FALSE))","v":""},{"$f":"IF($E415=\"\",\"\",VLOOKUP($E415,Lists!$BL$2:$BO$78,COLUMN(),FALSE))","v":""},null,null,null,null,null,""]
[null,{"$f":"IF($E416=\"\",\"\",VLOOKUP($E416,Lists!$BL$2:$BO$78,COLUMN(),FALSE))","v":""},{"$f":"IF($E416=\"\",\"\",VLOOKUP($E416,Lists!$BL$2:$BO$78,COLUMN(),FALSE))","v":""},{"$f":"IF($E416=\"\",\"\",VLOOKUP($E416,Lists!$BL$2:$BO$78,COLUMN(),FALSE))","v":""},null,null,null,null,null,""]
[null,{"$f":"IF($E417=\"\",\"\",VLOOKUP($E417,Lists!$BL$2:$BO$78,COLUMN(),FALSE))","v":""},{"$f":"IF($E417=\"\",\"\",VLOOKUP($E417,Lists!$BL$2:$BO$78,COLUMN(),FALSE))","v":""},{"$f":"IF($E417=\"\",\"\",VLOOKUP($E417,Lists!$BL$2:$BO$78,COLUMN(),FALSE))","v":""},null,null,null,null,null,""]
[null,{"$f":"IF($E418=\"\",\"\",VLOOKUP($E418,Lists!$BL$2:$BO$78,COLUMN(),FALSE))","v":""},{"$f":"IF($E418=\"\",\"\",VLOOKUP($E418,Lists!$BL$2:$BO$78,COLUMN(),FALSE))","v":""},{"$f":"IF($E418=\"\",\"\",VLOOKUP($E418,Lists!$BL$2:$BO$78,COLUMN(),FALSE))","v":""},null,null,null,null,null,""]
[null,{"$f":"IF($E419=\"\",\"\",VLOOKUP($E419,Lists!$BL$2:$BO$78,COLUMN(),FALSE))","v":""},{"$f":"IF($E419=\"\",\"\",VLOOKUP($E419,Lists!$BL$2:$BO$78,COLUMN(),FALSE))","v":""},{"$f":"IF($E419=\"\",\"\",VLOOKUP($E419,Lists!$BL$2:$BO$78,COLUMN(),FALSE))","v":""},null,null,null,null,null,""]
[null,{"$f":"IF($E420=\"\",\"\",VLOOKUP($E420,Lists!$BL$2:$BO$78,COLUMN(),FALSE))","v":""},{"$f":"IF($E420=\"\",\"\",VLOOKUP($E420,Lists!$BL$2:$BO$78,COLUMN(),FALSE))","v":""},{"$f":"IF($E420=\"\",\"\",VLOOKUP($E420,Lists!$BL$2:$BO$78,COLUMN(),FALSE))","v":""},null,null,null,null,null,""]
[null,{"$f":"IF($E421=\"\",\"\",VLOOKUP($E421,Lists!$BL$2:$BO$78,COLUMN(),FALSE))","v":""},{"$f":"IF($E421=\"\",\"\",VLOOKUP($E421,Lists!$BL$2:$BO$78,COLUMN(),FALSE))","v":""},{"$f":"IF($E421=\"\",\"\",VLOOKUP($E421,Lists!$BL$2:$BO$78,COLUMN(),FALSE))","v":""},null,null,null,null,null,""]
[null,{"$f":"IF($E422=\"\",\"\",VLOOKUP($E422,Lists!$BL$2:$BO$78,COLUMN(),FALSE))","v":""},{"$f":"IF($E422=\"\",\"\",VLOOKUP($E422,Lists!$BL$2:$BO$78,COLUMN(),FALSE))","v":""},{"$f":"IF($E422=\"\",\"\",VLOOKUP($E422,Lists!$BL$2:$BO$78,COLUMN(),FALSE))","v":""},null,null,null,null,null,""]
[null,{"$f":"IF($E423=\"\",\"\",VLOOKUP($E423,Lists!$BL$2:$BO$78,COLUMN(),FALSE))","v":""},{"$f":"IF($E423=\"\",\"\",VLOOKUP($E423,Lists!$BL$2:$BO$78,COLUMN(),FALSE))","v":""},{"$f":"IF($E423=\"\",\"\",VLOOKUP($E423,Lists!$BL$2:$BO$78,COLUMN(),FALSE))","v":""},null,null,null,null,null,""]
[null,{"$f":"IF($E424=\"\",\"\",VLOOKUP($E424,Lists!$BL$2:$BO$78,COLUMN(),FALSE))","v":""},{"$f":"IF($E424=\"\",\"\",VLOOKUP($E424,Lists!$BL$2:$BO$78,COLUMN(),FALSE))","v":""},{"$f":"IF($E424=\"\",\"\",VLOOKUP($E424,Lists!$BL$2:$BO$78,COLUMN(),FALSE))","v":""},null,null,null,null,null,""]
[null,{"$f":"IF($E425=\"\",\"\",VLOOKUP($E425,Lists!$BL$2:$BO$78,COLUMN(),FALSE))","v":""},{"$f":"IF($E425=\"\",\"\",VLOOKUP($E425,Lists!$BL$2:$BO$78,COLUMN(),FALSE))","v":""},{"$f":"IF($E425=\"\",\"\",VLOOKUP($E425,Lists!$BL$2:$BO$78,COLUMN(),FALSE))","v":""},null,null,null,null,null,""]
[null,{"$f":"IF($E426=\"\",\"\",VLOOKUP($E426,Lists!$BL$2:$BO$78,COLUMN(),FALSE))","v":""},{"$f":"IF($E426=\"\",\"\",VLOOKUP($E426,Lists!$BL$2:$BO$78,COLUMN(),FALSE))","v":""},{"$f":"IF($E426=\"\",\"\",VLOOKUP($E426,Lists!$BL$2:$BO$78,COLUMN(),FALSE))","v":""},null,null,null,null,null,""]
[null,{"$f":"IF($E427=\"\",\"\",VLOOKUP($E427,Lists!$BL$2:$BO$78,COLUMN(),FALSE))","v":""},{"$f":"IF($E427=\"\",\"\",VLOOKUP($E427,Lists!$BL$2:$BO$78,COLUMN(),FALSE))","v":""},{"$f":"IF($E427=\"\",\"\",VLOOKUP($E427,Lists!$BL$2:$BO$78,COLUMN(),FALSE))","v":""},null,null,null,null,null,""]
[null,{"$f":"IF($E428=\"\",\"\",VLOOKUP($E428,Lists!$BL$2:$BO$78,COLUMN(),FALSE))","v":""},{"$f":"IF($E428=\"\",\"\",VLOOKUP($E428,Lists!$BL$2:$BO$78,COLUMN(),FALSE))","v":""},{"$f":"IF($E428=\"\",\"\",VLOOKUP($E428,Lists!$BL$2:$BO$78,COLUMN(),FALSE))","v":""},null,null,null,null,null,""]
[null,{"$f":"IF($E429=\"\",\"\",VLOOKUP($E429,Lists!$BL$2:$BO$78,COLUMN(),FALSE))","v":""},{"$f":"IF($E429=\"\",\"\",VLOOKUP($E429,Lists!$BL$2:$BO$78,COLUMN(),FALSE))","v":""},{"$f":"IF($E429=\"\",\"\",VLOOKUP($E429,Lists!$BL$2:$BO$78,COLUMN(),FALSE))","v":""},null,null,null,null,null,""]
[null,{"$f":"IF($E430=\"\",\"\",VLOOKUP($E430,Lists!$BL$2:$BO$78,COLUMN(),FALSE))","v":""},{"$f":"IF($E430=\"\",\"\",VLOOKUP($E430,Lists!$BL$2:$BO$78,COLUMN(),FALSE))","v":""},{"$f":"IF($E430=\"\",\"\",VLOOKUP($E430,Lists!$BL$2:$BO$78,COLUMN(),FALSE))","v":""},null,null,null,null,null,""]
[null,{"$f":"IF($E431=\"\",\"\",VLOOKUP($E431,Lists!$BL$2:$BO$78,COLUMN(),FALSE))","v":""},{"$f":"IF($E431=\"\",\"\",VLOOKUP($E431,Lists!$BL$2:$BO$78,COLUMN(),FALSE))","v":""},{"$f":"IF($E431=\"\",\"\",VLOOKUP($E431,Lists!$BL$2:$BO$78,COLUMN(),FALSE))","v":""},null,null,null,null,null,""]
[null,{"$f":"IF($E432=\"\",\"\",VLOOKUP($E432,Lists!$BL$2:$BO$78,COLUMN(),FALSE))","v":""},{"$f":"IF($E432=\"\",\"\",VLOOKUP($E432,Lists!$BL$2:$BO$78,COLUMN(),FALSE))","v":""},{"$f":"IF($E432=\"\",\"\",VLOOKUP($E432,Lists!$BL$2:$BO$78,COLUMN(),FALSE))","v":""},null,null,null,null,null,""]
[null,{"$f":"IF($E433=\"\",\"\",VLOOKUP($E433,Lists!$BL$2:$BO$78,COLUMN(),FALSE))","v":""},{"$f":"IF($E433=\"\",\"\",VLOOKUP($E433,Lists!$BL$2:$BO$78,COLUMN(),FALSE))","v":""},{"$f":"IF($E433=\"\",\"\",VLOOKUP($E433,Lists!$BL$2:$BO$78,COLUMN(),FALSE))","v":""},null,null,null,null,null,""]
[null,{"$f":"IF($E434=\"\",\"\",VLOOKUP($E434,Lists!$BL$2:$BO$78,COLUMN(),FALSE))","v":""},{"$f":"IF($E434=\"\",\"\",VLOOKUP($E434,Lists!$BL$2:$BO$78,COLUMN(),FALSE))","v":""},{"$f":"IF($E434=\"\",\"\",VLOOKUP($E434,Lists!$BL$2:$BO$78,COLUMN(),FALSE))","v":""},null,null,null,null,null,""]
[null,{"$f":"IF($E435=\"\",\"\",VLOOKUP($E435,Lists!$BL$2:$BO$78,COLUMN(),FALSE))","v":""},{"$f":"IF($E435=\"\",\"\",VLOOKUP($E435,Lists!$BL$2:$BO$78,COLUMN(),FALSE))","v":""},{"$f":"IF($E435=\"\",\"\",VLOOKUP($E435,Lists!$BL$2:$BO$78,COLUMN(),FALSE))","v":""},null,null,null,null,null,""]
[null,{"$f":"IF($E436=\"\",\"\",VLOOKUP($E436,Lists!$BL$2:$BO$78,COLUMN(),FALSE))","v":""},{"$f":"IF($E436=\"\",\"\",VLOOKUP($E436,Lists!$BL$2:$BO$78,COLUMN(),FALSE))","v":""},{"$f":"IF($E436=\"\",\"\",VLOOKUP($E436,Lists!$BL$2:$BO$78,COLUMN(),FALSE))","v":""},null,null,null,null,null,""]
[null,{"$f":"IF($E437=\"\",\"\",VLOOKUP($E437,Lists!$BL$2:$BO$78,COLUMN(),FALSE))","v":""},{"$f":"IF($E437=\"\",\"\",VLOOKUP($E437,Lists!$BL$2:$BO$78,COLUMN(),FALSE))","v":""},{"$f":"IF($E437=\"\",\"\",VLOOKUP($E437,Lists!$BL$2:$BO$78,COLUMN(),FALSE))","v":""},null,null,null,null,null,""]
[null,{"$f":"IF($E438=\"\",\"\",VLOOKUP($E438,Lists!$BL$2:$BO$78,COLUMN(),FALSE))","v":""},{"$f":"IF($E438=\"\",\"\",VLOOKUP($E438,Lists!$BL$2:$BO$78,COLUMN(),FALSE))","v":""},{"$f":"IF($E438=\"\",\"\",VLOOKUP($E438,Lists!$BL$2:$BO$78,COLUMN(),FALSE))","v":""},null,null,null,null,null,""]
[null,{"$f":"IF($E439=\"\",\"\",VLOOKUP($E439,Lists!$BL$2:$BO$78,COLUMN(),FALSE))","v":""},{"$f":"IF($E439=\"\",\"\",VLOOKUP($E439,Lists!$BL$2:$BO$78,COLUMN(),FALSE))","v":""},{"$f":"IF($E439=\"\",\"\",VLOOKUP($E439,Lists!$BL$2:$BO$78,COLUMN(),FALSE))","v":""},null,null,null,null,null,""]
[null,{"$f":"IF($E440=\"\",\"\",VLOOKUP($E440,Lists!$BL$2:$BO$78,COLUMN(),FALSE))","v":""},{"$f":"IF($E440=\"\",\"\",VLOOKUP($E440,Lists!$BL$2:$BO$78,COLUMN(),FALSE))","v":""},{"$f":"IF($E440=\"\",\"\",VLOOKUP($E440,Lists!$BL$2:$BO$78,COLUMN(),FALSE))","v":""},null,null,null,null,null,""]
[null,{"$f":"IF($E441=\"\",\"\",VLOOKUP($E441,Lists!$BL$2:$BO$78,COLUMN(),FALSE))","v":""},{"$f":"IF($E441=\"\",\"\",VLOOKUP($E441,Lists!$BL$2:$BO$78,COLUMN(),FALSE))","v":""},{"$f":"IF($E441=\"\",\"\",VLOOKUP($E441,Lists!$BL$2:$BO$78,COLUMN(),FALSE))","v":""},null,null,null,null,null,""]
[null,{"$f":"IF($E442=\"\",\"\",VLOOKUP($E442,Lists!$BL$2:$BO$78,COLUMN(),FALSE))","v":""},{"$f":"IF($E442=\"\",\"\",VLOOKUP($E442,Lists!$BL$2:$BO$78,COLUMN(),FALSE))","v":""},{"$f":"IF($E442=\"\",\"\",VLOOKUP($E442,Lists!$BL$2:$BO$78,COLUMN(),FALSE))","v":""},null,null,null,null,null,""]
[null,{"$f":"IF($E443=\"\",\"\",VLOOKUP($E443,Lists!$BL$2:$BO$78,COLUMN(),FALSE))","v":""},{"$f":"IF($E443=\"\",\"\",VLOOKUP($E443,Lists!$BL$2:$BO$78,COLUMN(),FALSE))","v":""},{"$f":"IF($E443=\"\",\"\",VLOOKUP($E443,Lists!$BL$2:$BO$78,COLUMN(),FALSE))","v":""},null,null,null,null,null,""]
[null,{"$f":"IF($E444=\"\",\"\",VLOOKUP($E444,Lists!$BL$2:$BO$78,COLUMN(),FALSE))","v":""},{"$f":"IF($E444=\"\",\"\",VLOOKUP($E444,Lists!$BL$2:$BO$78,COLUMN(),FALSE))","v":""},{"$f":"IF($E444=\"\",\"\",VLOOKUP($E444,Lists!$BL$2:$BO$78,COLUMN(),FALSE))","v":""},null,null,null,null,null,""]
[null,{"$f":"IF($E445=\"\",\"\",VLOOKUP($E445,Lists!$BL$2:$BO$78,COLUMN(),FALSE))","v":""},{"$f":"IF($E445=\"\",\"\",VLOOKUP($E445,Lists!$BL$2:$BO$78,COLUMN(),FALSE))","v":""},{"$f":"IF($E445=\"\",\"\",VLOOKUP($E445,Lists!$BL$2:$BO$78,COLUMN(),FALSE))","v":""},null,null,null,null,null,""]
[null,{"$f":"IF($E446=\"\",\"\",VLOOKUP($E446,Lists!$BL$2:$BO$78,COLUMN(),FALSE))","v":""},{"$f":"IF($E446=\"\",\"\",VLOOKUP($E446,Lists!$BL$2:$BO$78,COLUMN(),FALSE))","v":""},{"$f":"IF($E446=\"\",\"\",VLOOKUP($E446,Lists!$BL$2:$BO$78,COLUMN(),FALSE))","v":""},null,null,null,null,null,""]
[null,{"$f":"IF($E447=\"\",\"\",VLOOKUP($E447,Lists!$BL$2:$BO$78,COLUMN(),FALSE))","v":""},{"$f":"IF($E447=\"\",\"\",VLOOKUP($E447,Lists!$BL$2:$BO$78,COLUMN(),FALSE))","v":""},{"$f":"IF($E447=\"\",\"\",VLOOKUP($E447,Lists!$BL$2:$BO$78,COLUMN(),FALSE))","v":""},null,null,null,null,null,""]
[null,{"$f":"IF($E448=\"\",\"\",VLOOKUP($E448,Lists!$BL$2:$BO$78,COLUMN(),FALSE))","v":""},{"$f":"IF($E448=\"\",\"\",VLOOKUP($E448,Lists!$BL$2:$BO$78,COLUMN(),FALSE))","v":""},{"$f":"IF($E448=\"\",\"\",VLOOKUP($E448,Lists!$BL$2:$BO$78,COLUMN(),FALSE))","v":""},null,null,null,null,null,""]
[null,{"$f":"IF($E449=\"\",\"\",VLOOKUP($E449,Lists!$BL$2:$BO$78,COLUMN(),FALSE))","v":""},{"$f":"IF($E449=\"\",\"\",VLOOKUP($E449,Lists!$BL$2:$BO$78,COLUMN(),FALSE))","v":""},{"$f":"IF($E449=\"\",\"\",VLOOKUP($E449,Lists!$BL$2:$BO$78,COLUMN(),FALSE))","v":""},null,null,null,null,null,""]
[null,{"$f":"IF($E450=\"\",\"\",VLOOKUP($E450,Lists!$BL$2:$BO$78,COLUMN(),FALSE))","v":""},{"$f":"IF($E450=\"\",\"\",VLOOKUP($E450,Lists!$BL$2:$BO$78,COLUMN(),FALSE))","v":""},{"$f":"IF($E450=\"\",\"\",VLOOKUP($E450,Lists!$BL$2:$BO$78,COLUMN(),FALSE))","v":""},null,null,null,null,null,""]
[null,{"$f":"IF($E451=\"\",\"\",VLOOKUP($E451,Lists!$BL$2:$BO$78,COLUMN(),FALSE))","v":""},{"$f":"IF($E451=\"\",\"\",VLOOKUP($E451,Lists!$BL$2:$BO$78,COLUMN(),FALSE))","v":""},{"$f":"IF($E451=\"\",\"\",VLOOKUP($E451,Lists!$BL$2:$BO$78,COLUMN(),FALSE))","v":""},null,null,null,null,null,""]
[null,{"$f":"IF($E452=\"\",\"\",VLOOKUP($E452,Lists!$BL$2:$BO$78,COLUMN(),FALSE))","v":""},{"$f":"IF($E452=\"\",\"\",VLOOKUP($E452,Lists!$BL$2:$BO$78,COLUMN(),FALSE))","v":""},{"$f":"IF($E452=\"\",\"\",VLOOKUP($E452,Lists!$BL$2:$BO$78,COLUMN(),FALSE))","v":""},null,null,null,null,null,""]
[null,{"$f":"IF($E453=\"\",\"\",VLOOKUP($E453,Lists!$BL$2:$BO$78,COLUMN(),FALSE))","v":""},{"$f":"IF($E453=\"\",\"\",VLOOKUP($E453,Lists!$BL$2:$BO$78,COLUMN(),FALSE))","v":""},{"$f":"IF($E453=\"\",\"\",VLOOKUP($E453,Lists!$BL$2:$BO$78,COLUMN(),FALSE))","v":""},null,null,null,null,null,""]
[null,{"$f":"IF($E454=\"\",\"\",VLOOKUP($E454,Lists!$BL$2:$BO$78,COLUMN(),FALSE))","v":""},{"$f":"IF($E454=\"\",\"\",VLOOKUP($E454,Lists!$BL$2:$BO$78,COLUMN(),FALSE))","v":""},{"$f":"IF($E454=\"\",\"\",VLOOKUP($E454,Lists!$BL$2:$BO$78,COLUMN(),FALSE))","v":""},null,null,null,null,null,""]
[null,{"$f":"IF($E455=\"\",\"\",VLOOKUP($E455,Lists!$BL$2:$BO$78,COLUMN(),FALSE))","v":""},{"$f":"IF($E455=\"\",\"\",VLOOKUP($E455,Lists!$BL$2:$BO$78,COLUMN(),FALSE))","v":""},{"$f":"IF($E455=\"\",\"\",VLOOKUP($E455,Lists!$BL$2:$BO$78,COLUMN(),FALSE))","v":""},null,null,null,null,null,""]
[null,{"$f":"IF($E456=\"\",\"\",VLOOKUP($E456,Lists!$BL$2:$BO$78,COLUMN(),FALSE))","v":""},{"$f":"IF($E456=\"\",\"\",VLOOKUP($E456,Lists!$BL$2:$BO$78,COLUMN(),FALSE))","v":""},{"$f":"IF($E456=\"\",\"\",VLOOKUP($E456,Lists!$BL$2:$BO$78,COLUMN(),FALSE))","v":""},null,null,null,null,null,""]
[null,{"$f":"IF($E457=\"\",\"\",VLOOKUP($E457,Lists!$BL$2:$BO$78,COLUMN(),FALSE))","v":""},{"$f":"IF($E457=\"\",\"\",VLOOKUP($E457,Lists!$BL$2:$BO$78,COLUMN(),FALSE))","v":""},{"$f":"IF($E457=\"\",\"\",VLOOKUP($E457,Lists!$BL$2:$BO$78,COLUMN(),FALSE))","v":""},null,null,null,null,null,""]
[null,{"$f":"IF($E458=\"\",\"\",VLOOKUP($E458,Lists!$BL$2:$BO$78,COLUMN(),FALSE))","v":""},{"$f":"IF($E458=\"\",\"\",VLOOKUP($E458,Lists!$BL$2:$BO$78,COLUMN(),FALSE))","v":""},{"$f":"IF($E458=\"\",\"\",VLOOKUP($E458,Lists!$BL$2:$BO$78,COLUMN(),FALSE))","v":""},null,null,null,null,null,""]
[null,{"$f":"IF($E459=\"\",\"\",VLOOKUP($E459,Lists!$BL$2:$BO$78,COLUMN(),FALSE))","v":""},{"$f":"IF($E459=\"\",\"\",VLOOKUP($E459,Lists!$BL$2:$BO$78,COLUMN(),FALSE))","v":""},{"$f":"IF($E459=\"\",\"\",VLOOKUP($E459,Lists!$BL$2:$BO$78,COLUMN(),FALSE))","v":""},null,null,null,null,null,""]
[null,{"$f":"IF($E460=\"\",\"\",VLOOKUP($E460,Lists!$BL$2:$BO$78,COLUMN(),FALSE))","v":""},{"$f":"IF($E460=\"\",\"\",VLOOKUP($E460,Lists!$BL$2:$BO$78,COLUMN(),FALSE))","v":""},{"$f":"IF($E460=\"\",\"\",VLOOKUP($E460,Lists!$BL$2:$BO$78,COLUMN(),FALSE))","v":""},null,null,null,null,null,""]
[null,{"$f":"IF($E461=\"\",\"\",VLOOKUP($E461,Lists!$BL$2:$BO$78,COLUMN(),FALSE))","v":""},{"$f":"IF($E461=\"\",\"\",VLOOKUP($E461,Lists!$BL$2:$BO$78,COLUMN(),FALSE))","v":""},{"$f":"IF($E461=\"\",\"\",VLOOKUP($E461,Lists!$BL$2:$BO$78,COLUMN(),FALSE))","v":""},null,null,null,null,null,""]
[null,{"$f":"IF($E462=\"\",\"\",VLOOKUP($E462,Lists!$BL$2:$BO$78,COLUMN(),FALSE))","v":""},{"$f":"IF($E462=\"\",\"\",VLOOKUP($E462,Lists!$BL$2:$BO$78,COLUMN(),FALSE))","v":""},{"$f":"IF($E462=\"\",\"\",VLOOKUP($E462,Lists!$BL$2:$BO$78,COLUMN(),FALSE))","v":""},null,null,null,null,null,""]
[null,{"$f":"IF($E463=\"\",\"\",VLOOKUP($E463,Lists!$BL$2:$BO$78,COLUMN(),FALSE))","v":""},{"$f":"IF($E463=\"\",\"\",VLOOKUP($E463,Lists!$BL$2:$BO$78,COLUMN(),FALSE))","v":""},{"$f":"IF($E463=\"\",\"\",VLOOKUP($E463,Lists!$BL$2:$BO$78,COLUMN(),FALSE))","v":""},null,null,null,null,null,""]
[null,{"$f":"IF($E464=\"\",\"\",VLOOKUP($E464,Lists!$BL$2:$BO$78,COLUMN(),FALSE))","v":""},{"$f":"IF($E464=\"\",\"\",VLOOKUP($E464,Lists!$BL$2:$BO$78,COLUMN(),FALSE))","v":""},{"$f":"IF($E464=\"\",\"\",VLOOKUP($E464,Lists!$BL$2:$BO$78,COLUMN(),FALSE))","v":""},null,null,null,null,null,""]
[null,{"$f":"IF($E465=\"\",\"\",VLOOKUP($E465,Lists!$BL$2:$BO$78,COLUMN(),FALSE))","v":""},{"$f":"IF($E465=\"\",\"\",VLOOKUP($E465,Lists!$BL$2:$BO$78,COLUMN(),FALSE))","v":""},{"$f":"IF($E465=\"\",\"\",VLOOKUP($E465,Lists!$BL$2:$BO$78,COLUMN(),FALSE))","v":""},null,null,null,null,null,""]
[null,{"$f":"IF($E466=\"\",\"\",VLOOKUP($E466,Lists!$BL$2:$BO$78,COLUMN(),FALSE))","v":""},{"$f":"IF($E466=\"\",\"\",VLOOKUP($E466,Lists!$BL$2:$BO$78,COLUMN(),FALSE))","v":""},{"$f":"IF($E466=\"\",\"\",VLOOKUP($E466,Lists!$BL$2:$BO$78,COLUMN(),FALSE))","v":""},null,null,null,null,null,""]
[null,{"$f":"IF($E467=\"\",\"\",VLOOKUP($E467,Lists!$BL$2:$BO$78,COLUMN(),FALSE))","v":""},{"$f":"IF($E467=\"\",\"\",VLOOKUP($E467,Lists!$BL$2:$BO$78,COLUMN(),FALSE))","v":""},{"$f":"IF($E467=\"\",\"\",VLOOKUP($E467,Lists!$BL$2:$BO$78,COLUMN(),FALSE))","v":""},null,null,null,null,null,""]
[null,{"$f":"IF($E468=\"\",\"\",VLOOKUP($E468,Lists!$BL$2:$BO$78,COLUMN(),FALSE))","v":""},{"$f":"IF($E468=\"\",\"\",VLOOKUP($E468,Lists!$BL$2:$BO$78,COLUMN(),FALSE))","v":""},{"$f":"IF($E468=\"\",\"\",VLOOKUP($E468,Lists!$BL$2:$BO$78,COLUMN(),FALSE))","v":""},null,null,null,null,null,""]
[null,{"$f":"IF($E469=\"\",\"\",VLOOKUP($E469,Lists!$BL$2:$BO$78,COLUMN(),FALSE))","v":""},{"$f":"IF($E469=\"\",\"\",VLOOKUP($E469,Lists!$BL$2:$BO$78,COLUMN(),FALSE))","v":""},{"$f":"IF($E469=\"\",\"\",VLOOKUP($E469,Lists!$BL$2:$BO$78,COLUMN(),FALSE))","v":""},null,null,null,null,null,""]
[null,{"$f":"IF($E470=\"\",\"\",VLOOKUP($E470,Lists!$BL$2:$BO$78,COLUMN(),FALSE))","v":""},{"$f":"IF($E470=\"\",\"\",VLOOKUP($E470,Lists!$BL$2:$BO$78,COLUMN(),FALSE))","v":""},{"$f":"IF($E470=\"\",\"\",VLOOKUP($E470,Lists!$BL$2:$BO$78,COLUMN(),FALSE))","v":""},null,null,null,null,null,""]
[null,{"$f":"IF($E471=\"\",\"\",VLOOKUP($E471,Lists!$BL$2:$BO$78,COLUMN(),FALSE))","v":""},{"$f":"IF($E471=\"\",\"\",VLOOKUP($E471,Lists!$BL$2:$BO$78,COLUMN(),FALSE))","v":""},{"$f":"IF($E471=\"\",\"\",VLOOKUP($E471,Lists!$BL$2:$BO$78,COLUMN(),FALSE))","v":""},null,null,null,null,null,""]
[null,{"$f":"IF($E472=\"\",\"\",VLOOKUP($E472,Lists!$BL$2:$BO$78,COLUMN(),FALSE))","v":""},{"$f":"IF($E472=\"\",\"\",VLOOKUP($E472,Lists!$BL$2:$BO$78,COLUMN(),FALSE))","v":""},{"$f":"IF($E472=\"\",\"\",VLOOKUP($E472,Lists!$BL$2:$BO$78,COLUMN(),FALSE))","v":""},null,null,null,null,null,""]
[null,{"$f":"IF($E473=\"\",\"\",VLOOKUP($E473,Lists!$BL$2:$BO$78,COLUMN(),FALSE))","v":""},{"$f":"IF($E473=\"\",\"\",VLOOKUP($E473,Lists!$BL$2:$BO$78,COLUMN(),FALSE))","v":""},{"$f":"IF($E473=\"\",\"\",VLOOKUP($E473,Lists!$BL$2:$BO$78,COLUMN(),FALSE))","v":""},null,null,null,null,null,{"$f":"IF(I473=\"\",\"\",(VALUE(TEXT(H473,\"m/dd/yy \")&TEXT(I473,\"hh:mm:ss\"))-(VALUE(TEXT(F473,\"m/dd/yy \")&TEXT(G473,\"hh:mm:ss\"))))*24)","v":""}]
[null,{"$f":"IF($E474=\"\",\"\",VLOOKUP($E474,Lists!$BL$2:$BO$78,COLUMN(),FALSE))","v":""},{"$f":"IF($E474=\"\",\"\",VLOOKUP($E474,Lists!$BL$2:$BO$78,COLUMN(),FALSE))","v":""},{"$f":"IF($E474=\"\",\"\",VLOOKUP($E474,Lists!$BL$2:$BO$78,COLUMN(),FALSE))","v":""},null,null,null,null,null,""]
[null,{"$f":"IF($E475=\"\",\"\",VLOOKUP($E475,Lists!$BL$2:$BO$78,COLUMN(),FALSE))","v":""},{"$f":"IF($E475=\"\",\"\",VLOOKUP($E475,Lists!$BL$2:$BO$78,COLUMN(),FALSE))","v":""},{"$f":"IF($E475=\"\",\"\",VLOOKUP($E475,Lists!$BL$2:$BO$78,COLUMN(),FALSE))","v":""},null,null,null,null,null,""]
[null,{"$f":"IF($E476=\"\",\"\",VLOOKUP($E476,Lists!$BL$2:$BO$78,COLUMN(),FALSE))","v":""},{"$f":"IF($E476=\"\",\"\",VLOOKUP($E476,Lists!$BL$2:$BO$78,COLUMN(),FALSE))","v":""},{"$f":"IF($E476=\"\",\"\",VLOOKUP($E476,Lists!$BL$2:$BO$78,COLUMN(),FALSE))","v":""},null,null,null,null,null,""]
[null,{"$f":"IF($E477=\"\",\"\",VLOOKUP($E477,Lists!$BL$2:$BO$78,COLUMN(),FALSE))","v":""},{"$f":"IF($E477=\"\",\"\",VLOOKUP($E477,Lists!$BL$2:$BO$78,COLUMN(),FALSE))","v":""},{"$f":"IF($E477=\"\",\"\",VLOOKUP($E477,Lists!$BL$2:$BO$78,COLUMN(),FALSE))","v":""},null,null,null,null,null,""]
[null,{"$f":"IF($E478=\"\",\"\",VLOOKUP($E478,Lists!$BL$2:$BO$78,COLUMN(),FALSE))","v":""},{"$f":"IF($E478=\"\",\"\",VLOOKUP($E478,Lists!$BL$2:$BO$78,COLUMN(),FALSE))","v":""},{"$f":"IF($E478=\"\",\"\",VLOOKUP($E478,Lists!$BL$2:$BO$78,COLUMN(),FALSE))","v":""},null,null,null,null,null,""]
[null,{"$f":"IF($E479=\"\",\"\",VLOOKUP($E479,Lists!$BL$2:$BO$78,COLUMN(),FALSE))","v":""},{"$f":"IF($E479=\"\",\"\",VLOOKUP($E479,Lists!$BL$2:$BO$78,COLUMN(),FALSE))","v":""},{"$f":"IF($E479=\"\",\"\",VLOOKUP($E479,Lists!$BL$2:$BO$78,COLUMN(),FALSE))","v":""},null,null,null,null,null,""]
[null,{"$f":"IF($E480=\"\",\"\",VLOOKUP($E480,Lists!$BL$2:$BO$78,COLUMN(),FALSE))","v":""},{"$f":"IF($E480=\"\",\"\",VLOOKUP($E480,Lists!$BL$2:$BO$78,COLUMN(),FALSE))","v":""},{"$f":"IF($E480=\"\",\"\",VLOOKUP($E480,Lists!$BL$2:$BO$78,COLUMN(),FALSE))","v":""},null,null,null,null,null,""]
[null,{"$f":"IF($E481=\"\",\"\",VLOOKUP($E481,Lists!$BL$2:$BO$78,COLUMN(),FALSE))","v":""},{"$f":"IF($E481=\"\",\"\",VLOOKUP($E481,Lists!$BL$2:$BO$78,COLUMN(),FALSE))","v":""},{"$f":"IF($E481=\"\",\"\",VLOOKUP($E481,Lists!$BL$2:$BO$78,COLUMN(),FALSE))","v":""},null,null,null,null,null,""]
[null,{"$f":"IF($E482=\"\",\"\",VLOOKUP($E482,Lists!$BL$2:$BO$78,COLUMN(),FALSE))","v":""},{"$f":"IF($E482=\"\",\"\",VLOOKUP($E482,Lists!$BL$2:$BO$78,COLUMN(),FALSE))","v":""},{"$f":"IF($E482=\"\",\"\",VLOOKUP($E482,Lists!$BL$2:$BO$78,COLUMN(),FALSE))","v":""},null,null,null,null,null,""]
[null,{"$f":"IF($E483=\"\",\"\",VLOOKUP($E483,Lists!$BL$2:$BO$78,COLUMN(),FALSE))","v":""},{"$f":"IF($E483=\"\",\"\",VLOOKUP($E483,Lists!$BL$2:$BO$78,COLUMN(),FALSE))","v":""},{"$f":"IF($E483=\"\",\"\",VLOOKUP($E483,Lists!$BL$2:$BO$78,COLUMN(),FALSE))","v":""},null,null,null,null,null,""]
[null,{"$f":"IF($E484=\"\",\"\",VLOOKUP($E484,Lists!$BL$2:$BO$78,COLUMN(),FALSE))","v":""},{"$f":"IF($E484=\"\",\"\",VLOOKUP($E484,Lists!$BL$2:$BO$78,COLUMN(),FALSE))","v":""},{"$f":"IF($E484=\"\",\"\",VLOOKUP($E484,Lists!$BL$2:$BO$78,COLUMN(),FALSE))","v":""},null,null,null,null,null,""]
[null,{"$f":"IF($E485=\"\",\"\",VLOOKUP($E485,Lists!$BL$2:$BO$78,COLUMN(),FALSE))","v":""},{"$f":"IF($E485=\"\",\"\",VLOOKUP($E485,Lists!$BL$2:$BO$78,COLUMN(),FALSE))","v":""},{"$f":"IF($E485=\"\",\"\",VLOOKUP($E485,Lists!$BL$2:$BO$78,COLUMN(),FALSE))","v":""},null,null,null,null,null,""]
[null,{"$f":"IF($E486=\"\",\"\",VLOOKUP($E486,Lists!$BL$2:$BO$78,COLUMN(),FALSE))","v":""},{"$f":"IF($E486=\"\",\"\",VLOOKUP($E486,Lists!$BL$2:$BO$78,COLUMN(),FALSE))","v":""},{"$f":"IF($E486=\"\",\"\",VLOOKUP($E486,Lists!$BL$2:$BO$78,COLUMN(),FALSE))","v":""},null,null,null,null,null,""]
[null,{"$f":"IF($E487=\"\",\"\",VLOOKUP($E487,Lists!$BL$2:$BO$78,COLUMN(),FALSE))","v":""},{"$f":"IF($E487=\"\",\"\",VLOOKUP($E487,Lists!$BL$2:$BO$78,COLUMN(),FALSE))","v":""},{"$f":"IF($E487=\"\",\"\",VLOOKUP($E487,Lists!$BL$2:$BO$78,COLUMN(),FALSE))","v":""},null,null,null,null,null,""]
[null,{"$f":"IF($E488=\"\",\"\",VLOOKUP($E488,Lists!$BL$2:$BO$78,COLUMN(),FALSE))","v":""},{"$f":"IF($E488=\"\",\"\",VLOOKUP($E488,Lists!$BL$2:$BO$78,COLUMN(),FALSE))","v":""},{"$f":"IF($E488=\"\",\"\",VLOOKUP($E488,Lists!$BL$2:$BO$78,COLUMN(),FALSE))","v":""},null,null,null,null,null,""]
[null,{"$f":"IF($E489=\"\",\"\",VLOOKUP($E489,Lists!$BL$2:$BO$78,COLUMN(),FALSE))","v":""},{"$f":"IF($E489=\"\",\"\",VLOOKUP($E489,Lists!$BL$2:$BO$78,COLUMN(),FALSE))","v":""},{"$f":"IF($E489=\"\",\"\",VLOOKUP($E489,Lists!$BL$2:$BO$78,COLUMN(),FALSE))","v":""},null,null,null,null,null,""]
[null,{"$f":"IF($E490=\"\",\"\",VLOOKUP($E490,Lists!$BL$2:$BO$78,COLUMN(),FALSE))","v":""},{"$f":"IF($E490=\"\",\"\",VLOOKUP($E490,Lists!$BL$2:$BO$78,COLUMN(),FALSE))","v":""},{"$f":"IF($E490=\"\",\"\",VLOOKUP($E490,Lists!$BL$2:$BO$78,COLUMN(),FALSE))","v":""},null,null,null,null,null,""]
[null,{"$f":"IF($E491=\"\",\"\",VLOOKUP($E491,Lists!$BL$2:$BO$78,COLUMN(),FALSE))","v":""},{"$f":"IF($E491=\"\",\"\",VLOOKUP($E491,Lists!$BL$2:$BO$78,COLUMN(),FALSE))","v":""},{"$f":"IF($E491=\"\",\"\",VLOOKUP($E491,Lists!$BL$2:$BO$78,COLUMN(),FALSE))","v":""},null,null,null,null,null,""]
[null,{"$f":"IF($E492=\"\",\"\",VLOOKUP($E492,Lists!$BL$2:$BO$78,COLUMN(),FALSE))","v":""},{"$f":"IF($E492=\"\",\"\",VLOOKUP($E492,Lists!$BL$2:$BO$78,COLUMN(),FALSE))","v":""},{"$f":"IF($E492=\"\",\"\",VLOOKUP($E492,Lists!$BL$2:$BO$78,COLUMN(),FALSE))","v":""},null,null,null,null,null,""]
[null,{"$f":"IF($E493=\"\",\"\",VLOOKUP($E493,Lists!$BL$2:$BO$78,COLUMN(),FALSE))","v":""},{"$f":"IF($E493=\"\",\"\",VLOOKUP($E493,Lists!$BL$2:$BO$78,COLUMN(),FALSE))","v":""},{"$f":"IF($E493=\"\",\"\",VLOOKUP($E493,Lists!$BL$2:$BO$78,COLUMN(),FALSE))","v":""},null,null,null,null,null,""]
[null,{"$f":"IF($E494=\"\",\"\",VLOOKUP($E494,Lists!$BL$2:$BO$78,COLUMN(),FALSE))","v":""},{"$f":"IF($E494=\"\",\"\",VLOOKUP($E494,Lists!$BL$2:$BO$78,COLUMN(),FALSE))","v":""},{"$f":"IF($E494=\"\",\"\",VLOOKUP($E494,Lists!$BL$2:$BO$78,COLUMN(),FALSE))","v":""},null,null,null,null,null,""]
[null,{"$f":"IF($E495=\"\",\"\",VLOOKUP($E495,Lists!$BL$2:$BO$78,COLUMN(),FALSE))","v":""},{"$f":"IF($E495=\"\",\"\",VLOOKUP($E495,Lists!$BL$2:$BO$78,COLUMN(),FALSE))","v":""},{"$f":"IF($E495=\"\",\"\",VLOOKUP($E495,Lists!$BL$2:$BO$78,COLUMN(),FALSE))","v":""},null,null,null,null,null,""]
[null,{"$f":"IF($E496=\"\",\"\",VLOOKUP($E496,Lists!$BL$2:$BO$78,COLUMN(),FALSE))","v":""},{"$f":"IF($E496=\"\",\"\",VLOOKUP($E496,Lists!$BL$2:$BO$78,COLUMN(),FALSE))","v":""},{"$f":"IF($E496=\"\",\"\",VLOOKUP($E496,Lists!$BL$2:$BO$78,COLUMN(),FALSE))","v":""},null,null,null,null,null,""]
[null,{"$f":"IF($E497=\"\",\"\",VLOOKUP($E497,Lists!$BL$2:$BO$78,COLUMN(),FALSE))","v":""},{"$f":"IF($E497=\"\",\"\",VLOOKUP($E497,Lists!$BL$2:$BO$78,COLUMN(),FALSE))","v":""},{"$f":"IF($E497=\"\",\"\",VLOOKUP($E497,Lists!$BL$2:$BO$78,COLUMN(),FALSE))","v":""},null,null,null,null,null,""]
[null,{"$f":"IF($E498=\"\",\"\",VLOOKUP($E498,Lists!$BL$2:$BO$78,COLUMN(),FALSE))","v":""},{"$f":"IF($E498=\"\",\"\",VLOOKUP($E498,Lists!$BL$2:$BO$78,COLUMN(),FALSE))","v":""},{"$f":"IF($E498=\"\",\"\",VLOOKUP($E498,Lists!$BL$2:$BO$78,COLUMN(),FALSE))","v":""},null,null,null,null,null,""]
[null,{"$f":"IF($E499=\"\",\"\",VLOOKUP($E499,Lists!$BL$2:$BO$78,COLUMN(),FALSE))","v":""},{"$f":"IF($E499=\"\",\"\",VLOOKUP($E499,Lists!$BL$2:$BO$78,COLUMN(),FALSE))","v":""},{"$f":"IF($E499=\"\",\"\",VLOOKUP($E499,Lists!$BL$2:$BO$78,COLUMN(),FALSE))","v":""},null,null,null,null,null,""]
[null,{"$f":"IF($E500=\"\",\"\",VLOOKUP($E500,Lists!$BL$2:$BO$78,COLUMN(),FALSE))","v":""},{"$f":"IF($E500=\"\",\"\",VLOOKUP($E500,Lists!$BL$2:$BO$78,COLUMN(),FALSE))","v":""},{"$f":"IF($E500=\"\",\"\",VLOOKUP($E500,Lists!$BL$2:$BO$78,COLUMN(),FALSE))","v":""},null,null,null,null,null,""]

{"sheet":"CPMSSummary","index":16,"n_rows":100,"n_cols":7,"rows_kept":100,"cut":false,"hidden":false,"merged":[]}
[null,"DO NOT REMOVE OR EDIT INFORMATION IN THIS SECTION FOR INTERNAL USE ONLY"]
[null,"Template Name",{"$f":"+Welcome!B2","v":"63.3120(f) Semiannual Compliance Report (Spreadsheet Template)"}]
[null,"CitationID",{"$f":"+Welcome!B3","v":"63.3120(f)"}]
[null,"Template Version",{"$f":"+Welcome!B4","v":"v2.06"}]
[null,"Last Updated Date",{"$f":"+Welcome!B5","v":45392}]
[null,"OMB Control Number: 2060-0518       Expiration Date: 04/30/2019"]
[null,"40 CFR Part 63, Subpart IIII National Emission Standards for Hazardous Air Pollutants: Surface Coating of Automobiles and Light-Duty Trucks "]
[null," §63.3120(f) Semiannual Compliance Report Spreadsheet Template"]
[]
[]
[]
[null,"Company Record No.\n(Autofilled)","Name of Operation \n(§63.3120(a)(6)(iv) or \n§63.3120(a)(8)(iii))\n(Autofilled)","CPMS Description\n(§63.3120(a)(6)(iv) or \n§63.3120(a)(8)(iii))\n(Autofilled)","Total Source Operating Time (hours)\n(Optional for autocalculation of % of Total Operating Time)","Total Duration of CPMS Downtime (hours) \n(§63.3120(a)(6)(xi) or §63.3120(a)(8)(x))\n(Autocalculated from TopPrim_CPMS2)","Total Duration of CPMS Downtime as a Percent of Total Source Operating Time (hours)  \n(§63.3120(a)(6)(xi)or §63.3120(a)(8)(x))\n(Autocalculation or manual entry)"]
[null,"RecordId","OperationName","CpmsDescription","TotalOperatingTime","CpmsDowntimeDuration","CpmsDowntimePercent"]
[null,"e.g.: 1","e.g.: West Coating","e.g.: Combustion Temperature","e.g.: 3120","e.g.: 27.87","e.g.: 0.89%"]
[null,"e.g.:","e.g.:","e.g.:","e.g.:","e.g.:","e.g.:"]
[null,"e.g.:","e.g.:","e.g.:","e.g.:","e.g.:","e.g.:"]
[null,"e.g.:","e.g.:","e.g.:","e.g.:","e.g.:","e.g.:"]
[null,"e.g.:","e.g.:","e.g.:","e.g.:","e.g.:","e.g.:"]
[null,"e.g.:","e.g.:","e.g.:","e.g.:","e.g.:","e.g.:"]
[null,"e.g.:","e.g.:","e.g.:","e.g.:","e.g.:","e.g.:"]
[null,"e.g.:","e.g.:","e.g.:","e.g.:","e.g.:","e.g.:"]
[null,"e.g.:","e.g.:","e.g.:","e.g.:","e.g.:","e.g.:"]
[null,"e.g.:","e.g.:","e.g.:","e.g.:","e.g.:","e.g.:"]
[null,{"$f":"IF(Lists!AG2=\"\",\"\",Lists!AG2)","v":""},{"$f":"IF(Lists!AH2=\"\",\"\",Lists!AH2)","v":""},{"$f":"IF(Lists!AI2=\"\",\"\",Lists!AI2)","v":""},null,{"$f":"IF($C24=\"\",\"\",SUMIFS(CPMS2!$J$24:$J$500,CPMS2!$B$24:$B$500,B24,CPMS2!$C$24:$C$500,C24,CPMS2!$D$24:$D$500,D24))","v":""},{"$f":"IF($C24=\"\",\"\",IF(F24=0,\"N/A\",F24/$E24))","v":""}]
[null,{"$f":"IF(Lists!AG3=\"\",\"\",Lists!AG3)","v":""},{"$f":"IF(Lists!AH3=\"\",\"\",Lists!AH3)","v":""},{"$f":"IF(Lists!AI3=\"\",\"\",Lists!AI3)","v":""},null,{"$f":"IF($C25=\"\",\"\",SUMIFS(CPMS2!$J$24:$J$500,CPMS2!$B$24:$B$500,B25,CPMS2!$C$24:$C$500,C25,CPMS2!$D$24:$D$500,D25))","v":""},{"$f":"IF($C25=\"\",\"\",IF(F25=0,\"N/A\",F25/$E25))","v":""}]
[null,{"$f":"IF(Lists!AG4=\"\",\"\",Lists!AG4)","v":""},{"$f":"IF(Lists!AH4=\"\",\"\",Lists!AH4)","v":""},{"$f":"IF(Lists!AI4=\"\",\"\",Lists!AI4)","v":""},null,{"$f":"IF($C26=\"\",\"\",SUMIFS(CPMS2!$J$24:$J$500,CPMS2!$B$24:$B$500,B26,CPMS2!$C$24:$C$500,C26,CPMS2!$D$24:$D$500,D26))","v":""},""]
[null,{"$f":"IF(Lists!AG5=\"\",\"\",Lists!AG5)","v":""},{"$f":"IF(Lists!AH5=\"\",\"\",Lists!AH5)","v":""},{"$f":"IF(Lists!AI5=\"\",\"\",Lists!AI5)","v":""},null,{"$f":"IF($C27=\"\",\"\",SUMIFS(CPMS2!$J$24:$J$500,CPMS2!$B$24:$B$500,B27,CPMS2!$C$24:$C$500,C27,CPMS2!$D$24:$D$500,D27))","v":""},""]
[null,{"$f":"IF(Lists!AG6=\"\",\"\",Lists!AG6)","v":""},{"$f":"IF(Lists!AH6=\"\",\"\",Lists!AH6)","v":""},{"$f":"IF(Lists!AI6=\"\",\"\",Lists!AI6)","v":""},null,{"$f":"IF($C28=\"\",\"\",SUMIFS(CPMS2!$J$24:$J$500,CPMS2!$B$24:$B$500,B28,CPMS2!$C$24:$C$500,C28,CPMS2!$D$24:$D$500,D28))","v":""},""]
[null,{"$f":"IF(Lists!AG7=\"\",\"\",Lists!AG7)","v":""},{"$f":"IF(Lists!AH7=\"\",\"\",Lists!AH7)","v":""},{"$f":"IF(Lists!AI7=\"\",\"\",Lists!AI7)","v":""},null,{"$f":"IF($C29=\"\",\"\",SUMIFS(CPMS2!$J$24:$J$500,CPMS2!$B$24:$B$500,B29,CPMS2!$C$24:$C$500,C29,CPMS2!$D$24:$D$500,D29))","v":""},""]
[null,{"$f":"IF(Lists!AG8=\"\",\"\",Lists!AG8)","v":""},{"$f":"IF(Lists!AH8=\"\",\"\",Lists!AH8)","v":""},{"$f":"IF(Lists!AI8=\"\",\"\",Lists!AI8)","v":""},null,{"$f":"IF($C30=\"\",\"\",SUMIFS(CPMS2!$J$24:$J$500,CPMS2!$B$24:$B$500,B30,CPMS2!$C$24:$C$500,C30,CPMS2!$D$24:$D$500,D30))","v":""},""]
[null,{"$f":"IF(Lists!AG9=\"\",\"\",Lists!AG9)","v":""},{"$f":"IF(Lists!AH9=\"\",\"\",Lists!AH9)","v":""},{"$f":"IF(Lists!AI9=\"\",\"\",Lists!AI9)","v":""},null,{"$f":"IF($C31=\"\",\"\",SUMIFS(CPMS2!$J$24:$J$500,CPMS2!$B$24:$B$500,B31,CPMS2!$C$24:$C$500,C31,CPMS2!$D$24:$D$500,D31))","v":""},""]
[null,{"$f":"IF(Lists!AG10=\"\",\"\",Lists!AG10)","v":""},{"$f":"IF(Lists!AH10=\"\",\"\",Lists!AH10)","v":""},{"$f":"IF(Lists!AI10=\"\",\"\",Lists!AI10)","v":""},null,{"$f":"IF($C32=\"\",\"\",SUMIFS(CPMS2!$J$24:$J$500,CPMS2!$B$24:$B$500,B32,CPMS2!$C$24:$C$500,C32,CPMS2!$D$24:$D$500,D32))","v":""},""]
[null,{"$f":"IF(Lists!AG11=\"\",\"\",Lists!AG11)","v":""},{"$f":"IF(Lists!AH11=\"\",\"\",Lists!AH11)","v":""},{"$f":"IF(Lists!AI11=\"\",\"\",Lists!AI11)","v":""},null,{"$f":"IF($C33=\"\",\"\",SUMIFS(CPMS2!$J$24:$J$500,CPMS2!$B$24:$B$500,B33,CPMS2!$C$24:$C$500,C33,CPMS2!$D$24:$D$500,D33))","v":""},""]
[null,{"$f":"IF(Lists!AG12=\"\",\"\",Lists!AG12)","v":""},{"$f":"IF(Lists!AH12=\"\",\"\",Lists!AH12)","v":""},{"$f":"IF(Lists!AI12=\"\",\"\",Lists!AI12)","v":""},null,{"$f":"IF($C34=\"\",\"\",SUMIFS(CPMS2!$J$24:$J$500,CPMS2!$B$24:$B$500,B34,CPMS2!$C$24:$C$500,C34,CPMS2!$D$24:$D$500,D34))","v":""},""]
[null,{"$f":"IF(Lists!AG13=\"\",\"\",Lists!AG13)","v":""},{"$f":"IF(Lists!AH13=\"\",\"\",Lists!AH13)","v":""},{"$f":"IF(Lists!AI13=\"\",\"\",Lists!AI13)","v":""},null,{"$f":"IF($C35=\"\",\"\",SUMIFS(CPMS2!$J$24:$J$500,CPMS2!$B$24:$B$500,B35,CPMS2!$C$24:$C$500,C35,CPMS2!$D$24:$D$500,D35))","v":""},""]
[null,{"$f":"IF(Lists!AG14=\"\",\"\",Lists!AG14)","v":""},{"$f":"IF(Lists!AH14=\"\",\"\",Lists!AH14)","v":""},{"$f":"IF(Lists!AI14=\"\",\"\",Lists!AI14)","v":""},null,{"$f":"IF($C36=\"\",\"\",SUMIFS(CPMS2!$J$24:$J$500,CPMS2!$B$24:$B$500,B36,CPMS2!$C$24:$C$500,C36,CPMS2!$D$24:$D$500,D36))","v":""},""]
[null,{"$f":"IF(Lists!AG15=\"\",\"\",Lists!AG15)","v":""},{"$f":"IF(Lists!AH15=\"\",\"\",Lists!AH15)","v":""},{"$f":"IF(Lists!AI15=\"\",\"\",Lists!AI15)","v":""},null,{"$f":"IF($C37=\"\",\"\",SUMIFS(CPMS2!$J$24:$J$500,CPMS2!$B$24:$B$500,B37,CPMS2!$C$24:$C$500,C37,CPMS2!$D$24:$D$500,D37))","v":""},""]
[null,{"$f":"IF(Lists!AG16=\"\",\"\",Lists!AG16)","v":""},{"$f":"IF(Lists!AH16=\"\",\"\",Lists!AH16)","v":""},{"$f":"IF(Lists!AI16=\"\",\"\",Lists!AI16)","v":""},null,{"$f":"IF($C38=\"\",\"\",SUMIFS(CPMS2!$J$24:$J$500,CPMS2!$B$24:$B$500,B38,CPMS2!$C$24:$C$500,C38,CPMS2!$D$24:$D$500,D38))","v":""},""]
[null,{"$f":"IF(Lists!AG17=\"\",\"\",Lists!AG17)","v":""},{"$f":"IF(Lists!AH17=\"\",\"\",Lists!AH17)","v":""},{"$f":"IF(Lists!AI17=\"\",\"\",Lists!AI17)","v":""},null,{"$f":"IF($C39=\"\",\"\",SUMIFS(CPMS2!$J$24:$J$500,CPMS2!$B$24:$B$500,B39,CPMS2!$C$24:$C$500,C39,CPMS2!$D$24:$D$500,D39))","v":""},""]
[null,{"$f":"IF(Lists!AG18=\"\",\"\",Lists!AG18)","v":""},{"$f":"IF(Lists!AH18=\"\",\"\",Lists!AH18)","v":""},{"$f":"IF(Lists!AI18=\"\",\"\",Lists!AI18)","v":""},null,{"$f":"IF($C40=\"\",\"\",SUMIFS(CPMS2!$J$24:$J$500,CPMS2!$B$24:$B$500,B40,CPMS2!$C$24:$C$500,C40,CPMS2!$D$24:$D$500,D40))","v":""},""]
[null,{"$f":"IF(Lists!AG19=\"\",\"\",Lists!AG19)","v":""},{"$f":"IF(Lists!AH19=\"\",\"\",Lists!AH19)","v":""},{"$f":"IF(Lists!AI19=\"\",\"\",Lists!AI19)","v":""},null,{"$f":"IF($C41=\"\",\"\",SUMIFS(CPMS2!$J$24:$J$500,CPMS2!$B$24:$B$500,B41,CPMS2!$C$24:$C$500,C41,CPMS2!$D$24:$D$500,D41))","v":""},""]
[null,{"$f":"IF(Lists!AG20=\"\",\"\",Lists!AG20)","v":""},{"$f":"IF(Lists!AH20=\"\",\"\",Lists!AH20)","v":""},{"$f":"IF(Lists!AI20=\"\",\"\",Lists!AI20)","v":""},null,{"$f":"IF($C42=\"\",\"\",SUMIFS(CPMS2!$J$24:$J$500,CPMS2!$B$24:$B$500,B42,CPMS2!$C$24:$C$500,C42,CPMS2!$D$24:$D$500,D42))","v":""},""]
[null,{"$f":"IF(Lists!AG21=\"\",\"\",Lists!AG21)","v":""},{"$f":"IF(Lists!AH21=\"\",\"\",Lists!AH21)","v":""},{"$f":"IF(Lists!AI21=\"\",\"\",Lists!AI21)","v":""},null,{"$f":"IF($C43=\"\",\"\",SUMIFS(CPMS2!$J$24:$J$500,CPMS2!$B$24:$B$500,B43,CPMS2!$C$24:$C$500,C43,CPMS2!$D$24:$D$500,D43))","v":""},""]
[null,{"$f":"IF(Lists!AG22=\"\",\"\",Lists!AG22)","v":""},{"$f":"IF(Lists!AH22=\"\",\"\",Lists!AH22)","v":""},{"$f":"IF(Lists!AI22=\"\",\"\",Lists!AI22)","v":""},null,{"$f":"IF($C44=\"\",\"\",SUMIFS(CPMS2!$J$24:$J$500,CPMS2!$B$24:$B$500,B44,CPMS2!$C$24:$C$500,C44,CPMS2!$D$24:$D$500,D44))","v":""},""]
[null,{"$f":"IF(Lists!AG23=\"\",\"\",Lists!AG23)","v":""},{"$f":"IF(Lists!AH23=\"\",\"\",Lists!AH23)","v":""},{"$f":"IF(Lists!AI23=\"\",\"\",Lists!AI23)","v":""},null,{"$f":"IF($C45=\"\",\"\",SUMIFS(CPMS2!$J$24:$J$500,CPMS2!$B$24:$B$500,B45,CPMS2!$C$24:$C$500,C45,CPMS2!$D$24:$D$500,D45))","v":""},""]
[null,{"$f":"IF(Lists!AG24=\"\",\"\",Lists!AG24)","v":""},{"$f":"IF(Lists!AH24=\"\",\"\",Lists!AH24)","v":""},{"$f":"IF(Lists!AI24=\"\",\"\",Lists!AI24)","v":""},null,{"$f":"IF($C46=\"\",\"\",SUMIFS(CPMS2!$J$24:$J$500,CPMS2!$B$24:$B$500,B46,CPMS2!$C$24:$C$500,C46,CPMS2!$D$24:$D$500,D46))","v":""},""]
[null,{"$f":"IF(Lists!AG25=\"\",\"\",Lists!AG25)","v":""},{"$f":"IF(Lists!AH25=\"\",\"\",Lists!AH25)","v":""},{"$f":"IF(Lists!AI25=\"\",\"\",Lists!AI25)","v":""},null,{"$f":"IF($C47=\"\",\"\",SUMIFS(CPMS2!$J$24:$J$500,CPMS2!$B$24:$B$500,B47,CPMS2!$C$24:$C$500,C47,CPMS2!$D$24:$D$500,D47))","v":""},""]
[null,{"$f":"IF(Lists!AG26=\"\",\"\",Lists!AG26)","v":""},{"$f":"IF(Lists!AH26=\"\",\"\",Lists!AH26)","v":""},{"$f":"IF(Lists!AI26=\"\",\"\",Lists!AI26)","v":""},null,{"$f":"IF($C48=\"\",\"\",SUMIFS(CPMS2!$J$24:$J$500,CPMS2!$B$24:$B$500,B48,CPMS2!$C$24:$C$500,C48,CPMS2!$D$24:$D$500,D48))","v":""},""]
[null,{"$f":"IF(Lists!AG27=\"\",\"\",Lists!AG27)","v":""},{"$f":"IF(Lists!AH27=\"\",\"\",Lists!AH27)","v":""},{"$f":"IF(Lists!AI27=\"\",\"\",Lists!AI27)","v":""},null,{"$f":"IF($C49=\"\",\"\",SUMIFS(CPMS2!$J$24:$J$500,CPMS2!$B$24:$B$500,B49,CPMS2!$C$24:$C$500,C49,CPMS2!$D$24:$D$500,D49))","v":""},""]
[null,{"$f":"IF(Lists!AG28=\"\",\"\",Lists!AG28)","v":""},{"$f":"IF(Lists!AH28=\"\",\"\",Lists!AH28)","v":""},{"$f":"IF(Lists!AI28=\"\",\"\",Lists!AI28)","v":""},null,{"$f":"IF($C50=\"\",\"\",SUMIFS(CPMS2!$J$24:$J$500,CPMS2!$B$24:$B$500,B50,CPMS2!$C$24:$C$500,C50,CPMS2!$D$24:$D$500,D50))","v":""},""]
[null,{"$f":"IF(Lists!AG29=\"\",\"\",Lists!AG29)","v":""},{"$f":"IF(Lists!AH29=\"\",\"\",Lists!AH29)","v":""},{"$f":"IF(Lists!AI29=\"\",\"\",Lists!AI29)","v":""},null,{"$f":"IF($C51=\"\",\"\",SUMIFS(CPMS2!$J$24:$J$500,CPMS2!$B$24:$B$500,B51,CPMS2!$C$24:$C$500,C51,CPMS2!$D$24:$D$500,D51))","v":""},""]
[null,{"$f":"IF(Lists!AG30=\"\",\"\",Lists!AG30)","v":""},{"$f":"IF(Lists!AH30=\"\",\"\",Lists!AH30)","v":""},{"$f":"IF(Lists!AI30=\"\",\"\",Lists!AI30)","v":""},null,{"$f":"IF($C52=\"\",\"\",SUMIFS(CPMS2!$J$24:$J$500,CPMS2!$B$24:$B$500,B52,CPMS2!$C$24:$C$500,C52,CPMS2!$D$24:$D$500,D52))","v":""},""]
[null,{"$f":"IF(Lists!AG31=\"\",\"\",Lists!AG31)","v":""},{"$f":"IF(Lists!AH31=\"\",\"\",Lists!AH31)","v":""},{"$f":"IF(Lists!AI31=\"\",\"\",Lists!AI31)","v":""},null,{"$f":"IF($C53=\"\",\"\",SUMIFS(CPMS2!$J$24:$J$500,CPMS2!$B$24:$B$500,B53,CPMS2!$C$24:$C$500,C53,CPMS2!$D$24:$D$500,D53))","v":""},""]
[null,{"$f":"IF(Lists!AG32=\"\",\"\",Lists!AG32)","v":""},{"$f":"IF(Lists!AH32=\"\",\"\",Lists!AH32)","v":""},{"$f":"IF(Lists!AI32=\"\",\"\",Lists!AI32)","v":""},null,{"$f":"IF($C54=\"\",\"\",SUMIFS(CPMS2!$J$24:$J$500,CPMS2!$B$24:$B$500,B54,CPMS2!$C$24:$C$500,C54,CPMS2!$D$24:$D$500,D54))","v":""},""]
[null,{"$f":"IF(Lists!AG33=\"\",\"\",Lists!AG33)","v":""},{"$f":"IF(Lists!AH33=\"\",\"\",Lists!AH33)","v":""},{"$f":"IF(Lists!AI33=\"\",\"\",Lists!AI33)","v":""},null,{"$f":"IF($C55=\"\",\"\",SUMIFS(CPMS2!$J$24:$J$500,CPMS2!$B$24:$B$500,B55,CPMS2!$C$24:$C$500,C55,CPMS2!$D$24:$D$500,D55))","v":""},""]
[null,{"$f":"IF(Lists!AG34=\"\",\"\",Lists!AG34)","v":""},{"$f":"IF(Lists!AH34=\"\",\"\",Lists!AH34)","v":""},{"$f":"IF(Lists!AI34=\"\",\"\",Lists!AI34)","v":""},null,{"$f":"IF($C56=\"\",\"\",SUMIFS(CPMS2!$J$24:$J$500,CPMS2!$B$24:$B$500,B56,CPMS2!$C$24:$C$500,C56,CPMS2!$D$24:$D$500,D56))","v":""},""]
[null,{"$f":"IF(Lists!AG35=\"\",\"\",Lists!AG35)","v":""},{"$f":"IF(Lists!AH35=\"\",\"\",Lists!AH35)","v":""},{"$f":"IF(Lists!AI35=\"\",\"\",Lists!AI35)","v":""},null,{"$f":"IF($C57=\"\",\"\",SUMIFS(CPMS2!$J$24:$J$500,CPMS2!$B$24:$B$500,B57,CPMS2!$C$24:$C$500,C57,CPMS2!$D$24:$D$500,D57))","v":""},""]
[null,{"$f":"IF(Lists!AG36=\"\",\"\",Lists!AG36)","v":""},{"$f":"IF(Lists!AH36=\"\",\"\",Lists!AH36)","v":""},{"$f":"IF(Lists!AI36=\"\",\"\",Lists!AI36)","v":""},null,{"$f":"IF($C58=\"\",\"\",SUMIFS(CPMS2!$J$24:$J$500,CPMS2!$B$24:$B$500,B58,CPMS2!$C$24:$C$500,C58,CPMS2!$D$24:$D$500,D58))","v":""},""]
[null,{"$f":"IF(Lists!AG37=\"\",\"\",Lists!AG37)","v":""},{"$f":"IF(Lists!AH37=\"\",\"\",Lists!AH37)","v":""},{"$f":"IF(Lists!AI37=\"\",\"\",Lists!AI37)","v":""},null,{"$f":"IF($C59=\"\",\"\",SUMIFS(CPMS2!$J$24:$J$500,CPMS2!$B$24:$B$500,B59,CPMS2!$C$24:$C$500,C59,CPMS2!$D$24:$D$500,D59))","v":""},""]
[null,{"$f":"IF(Lists!AG38=\"\",\"\",Lists!AG38)","v":""},{"$f":"IF(Lists!AH38=\"\",\"\",Lists!AH38)","v":""},{"$f":"IF(Lists!AI38=\"\",\"\",Lists!AI38)","v":""},null,{"$f":"IF($C60=\"\",\"\",SUMIFS(CPMS2!$J$24:$J$500,CPMS2!$B$24:$B$500,B60,CPMS2!$C$24:$C$500,C60,CPMS2!$D$24:$D$500,D60))","v":""},""]
[null,{"$f":"IF(Lists!AG39=\"\",\"\",Lists!AG39)","v":""},{"$f":"IF(Lists!AH39=\"\",\"\",Lists!AH39)","v":""},{"$f":"IF(Lists!AI39=\"\",\"\",Lists!AI39)","v":""},null,{"$f":"IF($C61=\"\",\"\",SUMIFS(CPMS2!$J$24:$J$500,CPMS2!$B$24:$B$500,B61,CPMS2!$C$24:$C$500,C61,CPMS2!$D$24:$D$500,D61))","v":""},""]
[null,{"$f":"IF(Lists!AG40=\"\",\"\",Lists!AG40)","v":""},{"$f":"IF(Lists!AH40=\"\",\"\",Lists!AH40)","v":""},{"$f":"IF(Lists!AI40=\"\",\"\",Lists!AI40)","v":""},null,{"$f":"IF($C62=\"\",\"\",SUMIFS(CPMS2!$J$24:$J$500,CPMS2!$B$24:$B$500,B62,CPMS2!$C$24:$C$500,C62,CPMS2!$D$24:$D$500,D62))","v":""},""]
[null,{"$f":"IF(Lists!AG41=\"\",\"\",Lists!AG41)","v":""},{"$f":"IF(Lists!AH41=\"\",\"\",Lists!AH41)","v":""},{"$f":"IF(Lists!AI41=\"\",\"\",Lists!AI41)","v":""},null,{"$f":"IF($C63=\"\",\"\",SUMIFS(CPMS2!$J$24:$J$500,CPMS2!$B$24:$B$500,B63,CPMS2!$C$24:$C$500,C63,CPMS2!$D$24:$D$500,D63))","v":""},""]
[null,{"$f":"IF(Lists!AG42=\"\",\"\",Lists!AG42)","v":""},{"$f":"IF(Lists!AH42=\"\",\"\",Lists!AH42)","v":""},{"$f":"IF(Lists!AI42=\"\",\"\",Lists!AI42)","v":""},null,{"$f":"IF($C64=\"\",\"\",SUMIFS(CPMS2!$J$24:$J$500,CPMS2!$B$24:$B$500,B64,CPMS2!$C$24:$C$500,C64,CPMS2!$D$24:$D$500,D64))","v":""},""]
[null,{"$f":"IF(Lists!AG43=\"\",\"\",Lists!AG43)","v":""},{"$f":"IF(Lists!AH43=\"\",\"\",Lists!AH43)","v":""},{"$f":"IF(Lists!AI43=\"\",\"\",Lists!AI43)","v":""},null,{"$f":"IF($C65=\"\",\"\",SUMIFS(CPMS2!$J$24:$J$500,CPMS2!$B$24:$B$500,B65,CPMS2!$C$24:$C$500,C65,CPMS2!$D$24:$D$500,D65))","v":""},""]
[null,{"$f":"IF(Lists!AG44=\"\",\"\",Lists!AG44)","v":""},{"$f":"IF(Lists!AH44=\"\",\"\",Lists!AH44)","v":""},{"$f":"IF(Lists!AI44=\"\",\"\",Lists!AI44)","v":""},null,{"$f":"IF($C66=\"\",\"\",SUMIFS(CPMS2!$J$24:$J$500,CPMS2!$B$24:$B$500,B66,CPMS2!$C$24:$C$500,C66,CPMS2!$D$24:$D$500,D66))","v":""},""]
[null,{"$f":"IF(Lists!AG45=\"\",\"\",Lists!AG45)","v":""},{"$f":"IF(Lists!AH45=\"\",\"\",Lists!AH45)","v":""},{"$f":"IF(Lists!AI45=\"\",\"\",Lists!AI45)","v":""},null,{"$f":"IF($C67=\"\",\"\",SUMIFS(CPMS2!$J$24:$J$500,CPMS2!$B$24:$B$500,B67,CPMS2!$C$24:$C$500,C67,CPMS2!$D$24:$D$500,D67))","v":""},""]
[null,{"$f":"IF(Lists!AG46=\"\",\"\",Lists!AG46)","v":""},{"$f":"IF(Lists!AH46=\"\",\"\",Lists!AH46)","v":""},{"$f":"IF(Lists!AI46=\"\",\"\",Lists!AI46)","v":""},null,{"$f":"IF($C68=\"\",\"\",SUMIFS(CPMS2!$J$24:$J$500,CPMS2!$B$24:$B$500,B68,CPMS2!$C$24:$C$500,C68,CPMS2!$D$24:$D$500,D68))","v":""},""]
[null,{"$f":"IF(Lists!AG47=\"\",\"\",Lists!AG47)","v":""},{"$f":"IF(Lists!AH47=\"\",\"\",Lists!AH47)","v":""},{"$f":"IF(Lists!AI47=\"\",\"\",Lists!AI47)","v":""},null,{"$f":"IF($C69=\"\",\"\",SUMIFS(CPMS2!$J$24:$J$500,CPMS2!$B$24:$B$500,B69,CPMS2!$C$24:$C$500,C69,CPMS2!$D$24:$D$500,D69))","v":""},""]
[null,{"$f":"IF(Lists!AG48=\"\",\"\",Lists!AG48)","v":""},{"$f":"IF(Lists!AH48=\"\",\"\",Lists!AH48)","v":""},{"$f":"IF(Lists!AI48=\"\",\"\",Lists!AI48)","v":""},null,{"$f":"IF($C70=\"\",\"\",SUMIFS(CPMS2!$J$24:$J$500,CPMS2!$B$24:$B$500,B70,CPMS2!$C$24:$C$500,C70,CPMS2!$D$24:$D$500,D70))","v":""},""]
[null,{"$f":"IF(Lists!AG49=\"\",\"\",Lists!AG49)","v":""},{"$f":"IF(Lists!AH49=\"\",\"\",Lists!AH49)","v":""},{"$f":"IF(Lists!AI49=\"\",\"\",Lists!AI49)","v":""},null,{"$f":"IF($C71=\"\",\"\",SUMIFS(CPMS2!$J$24:$J$500,CPMS2!$B$24:$B$500,B71,CPMS2!$C$24:$C$500,C71,CPMS2!$D$24:$D$500,D71))","v":""},""]
[null,{"$f":"IF(Lists!AG50=\"\",\"\",Lists!AG50)","v":""},{"$f":"IF(Lists!AH50=\"\",\"\",Lists!AH50)","v":""},{"$f":"IF(Lists!AI50=\"\",\"\",Lists!AI50)","v":""},null,{"$f":"IF($C72=\"\",\"\",SUMIFS(CPMS2!$J$24:$J$500,CPMS2!$B$24:$B$500,B72,CPMS2!$C$24:$C$500,C72,CPMS2!$D$24:$D$500,D72))","v":""},""]
[null,{"$f":"IF(Lists!AG51=\"\",\"\",Lists!AG51)","v":""},{"$f":"IF(Lists!AH51=\"\",\"\",Lists!AH51)","v":""},{"$f":"IF(Lists!AI51=\"\",\"\",Lists!AI51)","v":""},null,{"$f":"IF($C73=\"\",\"\",SUMIFS(CPMS2!$J$24:$J$500,CPMS2!$B$24:$B$500,B73,CPMS2!$C$24:$C$500,C73,CPMS2!$D$24:$D$500,D73))","v":""},""]
[null,{"$f":"IF(Lists!AG52=\"\",\"\",Lists!AG52)","v":""},{"$f":"IF(Lists!AH52=\"\",\"\",Lists!AH52)","v":""},{"$f":"IF(Lists!AI52=\"\",\"\",Lists!AI52)","v":""},null,{"$f":"IF($C74=\"\",\"\",SUMIFS(CPMS2!$J$24:$J$500,CPMS2!$B$24:$B$500,B74,CPMS2!$C$24:$C$500,C74,CPMS2!$D$24:$D$500,D74))","v":""},""]
[null,{"$f":"IF(Lists!AG53=\"\",\"\",Lists!AG53)","v":""},{"$f":"IF(Lists!AH53=\"\",\"\",Lists!AH53)","v":""},{"$f":"IF(Lists!AI53=\"\",\"\",Lists!AI53)","v":""},null,{"$f":"IF($C75=\"\",\"\",SUMIFS(CPMS2!$J$24:$J$500,CPMS2!$B$24:$B$500,B75,CPMS2!$C$24:$C$500,C75,CPMS2!$D$24:$D$500,D75))","v":""},""]
[null,{"$f":"IF(Lists!AG54=\"\",\"\",Lists!AG54)","v":""},{"$f":"IF(Lists!AH54=\"\",\"\",Lists!AH54)","v":""},{"$f":"IF(Lists!AI54=\"\",\"\",Lists!AI54)","v":""},null,{"$f":"IF($C76=\"\",\"\",SUMIFS(CPMS2!$J$24:$J$500,CPMS2!$B$24:$B$500,B76,CPMS2!$C$24:$C$500,C76,CPMS2!$D$24:$D$500,D76))","v":""},""]
[null,{"$f":"IF(Lists!AG55=\"\",\"\",Lists!AG55)","v":""},{"$f":"IF(Lists!AH55=\"\",\"\",Lists!AH55)","v":""},{"$f":"IF(Lists!AI55=\"\",\"\",Lists!AI55)","v":""},null,{"$f":"IF($C77=\"\",\"\",SUMIFS(CPMS2!$J$24:$J$500,CPMS2!$B$24:$B$500,B77,CPMS2!$C$24:$C$500,C77,CPMS2!$D$24:$D$500,D77))","v":""},""]
[null,{"$f":"IF(Lists!AG56=\"\",\"\",Lists!AG56)","v":""},{"$f":"IF(Lists!AH56=\"\",\"\",Lists!AH56)","v":""},{"$f":"IF(Lists!AI56=\"\",\"\",Lists!AI56)","v":""},null,{"$f":"IF($C78=\"\",\"\",SUMIFS(CPMS2!$J$24:$J$500,CPMS2!$B$24:$B$500,B78,CPMS2!$C$24:$C$500,C78,CPMS2!$D$24:$D$500,D78))","v":""},""]
[null,{"$f":"IF(Lists!AG57=\"\",\"\",Lists!AG57)","v":""},{"$f":"IF(Lists!AH57=\"\",\"\",Lists!AH57)","v":""},{"$f":"IF(Lists!AI57=\"\",\"\",Lists!AI57)","v":""},null,{"$f":"IF($C79=\"\",\"\",SUMIFS(CPMS2!$J$24:$J$500,CPMS2!$B$24:$B$500,B79,CPMS2!$C$24:$C$500,C79,CPMS2!$D$24:$D$500,D79))","v":""},""]
[null,{"$f":"IF(Lists!AG58=\"\",\"\",Lists!AG58)","v":""},{"$f":"IF(Lists!AH58=\"\",\"\",Lists!AH58)","v":""},{"$f":"IF(Lists!AI58=\"\",\"\",Lists!AI58)","v":""},null,{"$f":"IF($C80=\"\",\"\",SUMIFS(CPMS2!$J$24:$J$500,CPMS2!$B$24:$B$500,B80,CPMS2!$C$24:$C$500,C80,CPMS2!$D$24:$D$500,D80))","v":""},""]
[null,{"$f":"IF(Lists!AG59=\"\",\"\",Lists!AG59)","v":""},{"$f":"IF(Lists!AH59=\"\",\"\",Lists!AH59)","v":""},{"$f":"IF(Lists!AI59=\"\",\"\",Lists!AI59)","v":""},null,{"$f":"IF($C81=\"\",\"\",SUMIFS(CPMS2!$J$24:$J$500,CPMS2!$B$24:$B$500,B81,CPMS2!$C$24:$C$500,C81,CPMS2!$D$24:$D$500,D81))","v":""},""]
[null,{"$f":"IF(Lists!AG60=\"\",\"\",Lists!AG60)","v":""},{"$f":"IF(Lists!AH60=\"\",\"\",Lists!AH60)","v":""},{"$f":"IF(Lists!AI60=\"\",\"\",Lists!AI60)","v":""},null,{"$f":"IF($C82=\"\",\"\",SUMIFS(CPMS2!$J$24:$J$500,CPMS2!$B$24:$B$500,B82,CPMS2!$C$24:$C$500,C82,CPMS2!$D$24:$D$500,D82))","v":""},""]
[null,{"$f":"IF(Lists!AG61=\"\",\"\",Lists!AG61)","v":""},{"$f":"IF(Lists!AH61=\"\",\"\",Lists!AH61)","v":""},{"$f":"IF(Lists!AI61=\"\",\"\",Lists!AI61)","v":""},null,{"$f":"IF($C83=\"\",\"\",SUMIFS(CPMS2!$J$24:$J$500,CPMS2!$B$24:$B$500,B83,CPMS2!$C$24:$C$500,C83,CPMS2!$D$24:$D$500,D83))","v":""},""]
[null,{"$f":"IF(Lists!AG62=\"\",\"\",Lists!AG62)","v":""},{"$f":"IF(Lists!AH62=\"\",\"\",Lists!AH62)","v":""},{"$f":"IF(Lists!AI62=\"\",\"\",Lists!AI62)","v":""},null,{"$f":"IF($C84=\"\",\"\",SUMIFS(CPMS2!$J$24:$J$500,CPMS2!$B$24:$B$500,B84,CPMS2!$C$24:$C$500,C84,CPMS2!$D$24:$D$500,D84))","v":""},""]
[null,{"$f":"IF(Lists!AG63=\"\",\"\",Lists!AG63)","v":""},{"$f":"IF(Lists!AH63=\"\",\"\",Lists!AH63)","v":""},{"$f":"IF(Lists!AI63=\"\",\"\",Lists!AI63)","v":""},null,{"$f":"IF($C85=\"\",\"\",SUMIFS(CPMS2!$J$24:$J$500,CPMS2!$B$24:$B$500,B85,CPMS2!$C$24:$C$500,C85,CPMS2!$D$24:$D$500,D85))","v":""},""]
[null,{"$f":"IF(Lists!AG64=\"\",\"\",Lists!AG64)","v":""},{"$f":"IF(Lists!AH64=\"\",\"\",Lists!AH64)","v":""},{"$f":"IF(Lists!AI64=\"\",\"\",Lists!AI64)","v":""},null,{"$f":"IF($C86=\"\",\"\",SUMIFS(CPMS2!$J$24:$J$500,CPMS2!$B$24:$B$500,B86,CPMS2!$C$24:$C$500,C86,CPMS2!$D$24:$D$500,D86))","v":""},""]
[null,{"$f":"IF(Lists!AG65=\"\",\"\",Lists!AG65)","v":""},{"$f":"IF(Lists!AH65=\"\",\"\",Lists!AH65)","v":""},{"$f":"IF(Lists!AI65=\"\",\"\",Lists!AI65)","v":""},null,{"$f":"IF($C87=\"\",\"\",SUMIFS(CPMS2!$J$24:$J$500,CPMS2!$B$24:$B$500,B87,CPMS2!$C$24:$C$500,C87,CPMS2!$D$24:$D$500,D87))","v":""},""]
[null,{"$f":"IF(Lists!AG66=\"\",\"\",Lists!AG66)","v":""},{"$f":"IF(Lists!AH66=\"\",\"\",Lists!AH66)","v":""},{"$f":"IF(Lists!AI66=\"\",\"\",Lists!AI66)","v":""},null,{"$f":"IF($C88=\"\",\"\",SUMIFS(CPMS2!$J$24:$J$500,CPMS2!$B$24:$B$500,B88,CPMS2!$C$24:$C$500,C88,CPMS2!$D$24:$D$500,D88))","v":""},""]
[null,{"$f":"IF(Lists!AG67=\"\",\"\",Lists!AG67)","v":""},{"$f":"IF(Lists!AH67=\"\",\"\",Lists!AH67)","v":""},{"$f":"IF(Lists!AI67=\"\",\"\",Lists!AI67)","v":""},null,{"$f":"IF($C89=\"\",\"\",SUMIFS(CPMS2!$J$24:$J$500,CPMS2!$B$24:$B$500,B89,CPMS2!$C$24:$C$500,C89,CPMS2!$D$24:$D$500,D89))","v":""},{"$f":"IF($C89=\"\",\"\",IF(F89=0,\"N/A\",F89/$E89))","v":""}]
[null,{"$f":"IF(Lists!AG68=\"\",\"\",Lists!AG68)","v":""},{"$f":"IF(Lists!AH68=\"\",\"\",Lists!AH68)","v":""},{"$f":"IF(Lists!AI68=\"\",\"\",Lists!AI68)","v":""},null,{"$f":"IF($C90=\"\",\"\",SUMIFS(CPMS2!$J$24:$J$500,CPMS2!$B$24:$B$500,B90,CPMS2!$C$24:$C$500,C90,CPMS2!$D$24:$D$500,D90))","v":""},""]
[null,{"$f":"IF(Lists!AG69=\"\",\"\",Lists!AG69)","v":""},{"$f":"IF(Lists!AH69=\"\",\"\",Lists!AH69)","v":""},{"$f":"IF(Lists!AI69=\"\",\"\",Lists!AI69)","v":""},null,{"$f":"IF($C91=\"\",\"\",SUMIFS(CPMS2!$J$24:$J$500,CPMS2!$B$24:$B$500,B91,CPMS2!$C$24:$C$500,C91,CPMS2!$D$24:$D$500,D91))","v":""},""]
[null,{"$f":"IF(Lists!AG70=\"\",\"\",Lists!AG70)","v":""},{"$f":"IF(Lists!AH70=\"\",\"\",Lists!AH70)","v":""},{"$f":"IF(Lists!AI70=\"\",\"\",Lists!AI70)","v":""},null,{"$f":"IF($C92=\"\",\"\",SUMIFS(CPMS2!$J$24:$J$500,CPMS2!$B$24:$B$500,B92,CPMS2!$C$24:$C$500,C92,CPMS2!$D$24:$D$500,D92))","v":""},""]
[null,{"$f":"IF(Lists!AG71=\"\",\"\",Lists!AG71)","v":""},{"$f":"IF(Lists!AH71=\"\",\"\",Lists!AH71)","v":""},{"$f":"IF(Lists!AI71=\"\",\"\",Lists!AI71)","v":""},null,{"$f":"IF($C93=\"\",\"\",SUMIFS(CPMS2!$J$24:$J$500,CPMS2!$B$24:$B$500,B93,CPMS2!$C$24:$C$500,C93,CPMS2!$D$24:$D$500,D93))","v":""},""]
[null,{"$f":"IF(Lists!AG72=\"\",\"\",Lists!AG72)","v":""},{"$f":"IF(Lists!AH72=\"\",\"\",Lists!AH72)","v":""},{"$f":"IF(Lists!AI72=\"\",\"\",Lists!AI72)","v":""},null,{"$f":"IF($C94=\"\",\"\",SUMIFS(CPMS2!$J$24:$J$500,CPMS2!$B$24:$B$500,B94,CPMS2!$C$24:$C$500,C94,CPMS2!$D$24:$D$500,D94))","v":""},""]
[null,{"$f":"IF(Lists!AG73=\"\",\"\",Lists!AG73)","v":""},{"$f":"IF(Lists!AH73=\"\",\"\",Lists!AH73)","v":""},{"$f":"IF(Lists!AI73=\"\",\"\",Lists!AI73)","v":""},null,{"$f":"IF($C95=\"\",\"\",SUMIFS(CPMS2!$J$24:$J$500,CPMS2!$B$24:$B$500,B95,CPMS2!$C$24:$C$500,C95,CPMS2!$D$24:$D$500,D95))","v":""},""]
[null,{"$f":"IF(Lists!AG74=\"\",\"\",Lists!AG74)","v":""},{"$f":"IF(Lists!AH74=\"\",\"\",Lists!AH74)","v":""},{"$f":"IF(Lists!AI74=\"\",\"\",Lists!AI74)","v":""},null,{"$f":"IF($C96=\"\",\"\",SUMIFS(CPMS2!$J$24:$J$500,CPMS2!$B$24:$B$500,B96,CPMS2!$C$24:$C$500,C96,CPMS2!$D$24:$D$500,D96))","v":""},""]
[null,{"$f":"IF(Lists!AG75=\"\",\"\",Lists!AG75)","v":""},{"$f":"IF(Lists!AH75=\"\",\"\",Lists!AH75)","v":""},{"$f":"IF(Lists!AI75=\"\",\"\",Lists!AI75)","v":""},null,{"$f":"IF($C97=\"\",\"\",SUMIFS(CPMS2!$J$24:$J$500,CPMS2!$B$24:$B$500,B97,CPMS2!$C$24:$C$500,C97,CPMS2!$D$24:$D$500,D97))","v":""},""]
[null,{"$f":"IF(Lists!AG76=\"\",\"\",Lists!AG76)","v":""},{"$f":"IF(Lists!AH76=\"\",\"\",Lists!AH76)","v":""},{"$f":"IF(Lists!AI76=\"\",\"\",Lists!AI76)","v":""},null,{"$f":"IF($C98=\"\",\"\",SUMIFS(CPMS2!$J$24:$J$500,CPMS2!$B$24:$B$500,B98,CPMS2!$C$24:$C$500,C98,CPMS2!$D$24:$D$500,D98))","v":""},""]
[null,{"$f":"IF(Lists!AG77=\"\",\"\",Lists!AG77)","v":""},{"$f":"IF(Lists!AH77=\"\",\"\",Lists!AH77)","v":""},{"$f":"IF(Lists!AI77=\"\",\"\",Lists!AI77)","v":""},null,{"$f":"IF($C99=\"\",\"\",SUMIFS(CPMS2!$J$24:$J$500,CPMS2!$B$24:$B$500,B99,CPMS2!$C$24:$C$500,C99,CPMS2!$D$24:$D$500,D99))","v":""},""]
[null,{"$f":"IF(Lists!AG78=\"\",\"\",Lists!AG78)","v":""},{"$f":"IF(Lists!AH78=\"\",\"\",Lists!AH78)","v":""},{"$f":"IF(Lists!AI78=\"\",\"\",Lists!AI78)","v":""},null,{"$f":"IF($C100=\"\",\"\",SUMIFS(CPMS2!$J$24:$J$500,CPMS2!$B$24:$B$500,B100,CPMS2!$C$24:$C$500,C100,CPMS2!$D$24:$D$500,D100))","v":""},""]

{"sheet":"Description_of_Changes","index":17,"n_rows":14,"n_cols":3,"rows_kept":14,"cut":false,"hidden":false,"merged":[]}
[null,"DO NOT REMOVE OR EDIT INFORMATION IN THIS SECTION FOR INTERNAL USE ONLY"]
[null,"Template Name",{"$f":"+Welcome!B2","v":"63.3120(f) Semiannual Compliance Report (Spreadsheet Template)"}]
[null,"CitationID",{"$f":"+Welcome!B3","v":"63.3120(f)"}]
[null,"Template Version",{"$f":"+Welcome!B4","v":"v2.06"}]
[null,"Last Updated Date",{"$f":"+Welcome!B5","v":45392}]
[null,{"$f":"+Welcome!B6","v":"OMB Control Number: 2060-0518       Expiration Date: 04/30/2019"}]
[null,"40 CFR Part 63, Subpart IIII National Emission Standards for Hazardous Air Pollutants: Surface Coating of Automobiles and Light-Duty Trucks -"]
[null," §63.3120(f) Semiannual Compliance Report Spreadsheet Template"]
[]
[]
[]
[null,"Company Record No.\n(Select from dropdown)","Describe any changes to CPMS, coating operation, emission capture system, or add-on control device which have occurred since the last reporting period. \n(§63.3120(a)(6)(xii) and (8)(xi))"]
[null,"RecordId","PeriodChangeDesc"]
[null,"e.g.: 1"]

{"sheet":"Number_of_Deviations","index":18,"n_rows":100,"n_cols":8,"rows_kept":100,"cut":false,"hidden":false,"merged":[]}
[null,"DO NOT REMOVE OR EDIT INFORMATION IN THIS SECTION\nFOR INTERNAL USE ONLY"]
[null,"Template Name",{"$f":"+Welcome!B2","v":"63.3120(f) Semiannual Compliance Report (Spreadsheet Template)"}]
[null,"CitationID",{"$f":"+Welcome!B3","v":"63.3120(f)"}]
[null,"Template Version",{"$f":"+Welcome!B4","v":"v2.06"}]
[null,"Last Updated Date",{"$f":"+Welcome!B5","v":45392}]
[null,"OMB Control Number: 2060-0518       Expiration Date: 04/30/2019"]
[null,"40 CFR Part 63, Subpart IIII National Emission Standards for Hazardous Air Pollutants: Surface Coating of Automobiles and Light-Duty Trucks -"]
[null," §63.3120(e) and (f) Notification of Compliance and Semiannual Compliance Report Spreadsheet Template"]
[]
[]
[]
[null,"Company Record No.\n(Select from dropdown)","Name of Operation \n(§63.3110(c)(4)) and\n(§63.3120(a)(3)(iv))\n(Autofilled)","Identification of the Compliance Option or Options Used on Each Operation During the Reporting Period \n(§63.3120(a)(3)(iv)) \n(Autofilled)","Number of Deviations from Emission Limits for Adhesives, Sealers, and Deadeners \n(§63.3120(a)(5)(v))\n(Autofilled)","Number of Deviations From Work Practice Standards When There Was a Violation of §63.3090(a) or (b) or §63.3091(a) or (b)   (§63.3120(a)(6)(xiii))\n(Autofilled)","Number of Deviations from Electrodeposition Primer Organic HAP Content Limits\n(§63.3120(a)(7)(iv))\n(Autofilled)","Number of Deviations from Work Practice Plans\n(§63.3120(a)(9))\n(Autofilled)"]
[null,"RecordId","OperationName","ComplianceOptions","NumOfDevs","WorkPracticeDevs","OrganicHAPDevs","PracticeDevs"]
[null,"e.g.: 1","e.g.: West Coating","e.g.: §63.3090(a) and (e) with §63.3092(a) - New source, combined Electrodeposition primer, primer-surfacer, topcoat, final repair, glass bonding primer and glass bonding adhesive operations, plus all coatings and thinners, except for deadener materials and for adhesive and sealer materials that are not components of glass bonding systems, used in coating operations added to the affected source, including sources that would otherwise have been subject to subparts MMMM or PPPP","e.g.: 0","e.g.: 0","e.g.: 3","e.g.: 0"]
[null,"e.g.: 1","e.g.: East Coating","e.g.: §63.3090(c) – New source, adhesive and sealer","e.g.: 13","e.g.: 2","e.g.: 0","e.g.: 0"]
[null,"e.g.:","e.g.:","e.g.:","e.g.:","e.g.:","e.g.:","e.g.:"]
[null,"e.g.:","e.g.:","e.g.:","e.g.:","e.g.:","e.g.:","e.g.:"]
[null,"e.g.:","e.g.:","e.g.:","e.g.:","e.g.:","e.g.:","e.g.:"]
[null,"e.g.:","e.g.:","e.g.:","e.g.:","e.g.:","e.g.:","e.g.:"]
[null,"e.g.:","e.g.:","e.g.:","e.g.:","e.g.:","e.g.:","e.g.:"]
[null,"e.g.:","e.g.:","e.g.:","e.g.:","e.g.:","e.g.:","e.g.:"]
[null,"e.g.:","e.g.:","e.g.:","e.g.:","e.g.:","e.g.:","e.g.:"]
[null,"e.g.:","e.g.:","e.g.:","e.g.:","e.g.:","e.g.:","e.g.:"]
[null,{"$f":"+Lists!BB2","v":""},{"$f":"+Lists!BC2","v":""},{"$f":"+Lists!BD2","v":""},{"$f":"IF(D24=\"\",\"\",COUNTIFS(Adhes_Sealer_Deadener!$B$24:$B$500,B24,Adhes_Sealer_Deadener!$C$24:$C$500,C24))","v":""},{"$f":"IF(D24=\"\",\"\",COUNTIFS(TopPrim_WorkPractice!$B$24:$B$500,$B24,TopPrim_WorkPractice!$C$24:$C$500,$C24))","v":""},{"$f":"IF(C24=\"\",\"\",COUNTIFS(ElectroPrimerHAPContent!$B$24:$B$500,B24,ElectroPrimerHAPContent!$C$24:$C$500,C24))","v":""},{"$f":"IF(C24=\"\",\"\",COUNTIFS(Deviations_Work_Practice_Plans!B24:$B$500,B24,Deviations_Work_Practice_Plans!$C24:$C$500,C24))","v":""}]
[null,{"$f":"+Lists!BB3","v":""},{"$f":"+Lists!BC3","v":""},{"$f":"+Lists!BD3","v":""},{"$f":"IF(D25=\"\",\"\",COUNTIFS(Adhes_Sealer_Deadener!$B$24:$B$500,B25,Adhes_Sealer_Deadener!$C$24:$C$500,C25))","v":""},{"$f":"IF(D25=\"\",\"\",COUNTIFS(TopPrim_WorkPractice!$B$24:$B$500,$B25,TopPrim_WorkPractice!$C$24:$C$500,$C25))","v":""},{"$f":"IF(C25=\"\",\"\",COUNTIFS(ElectroPrimerHAPContent!$B$24:$B$500,B25,ElectroPrimerHAPContent!$C$24:$C$500,C25))","v":""},{"$f":"IF(C25=\"\",\"\",COUNTIFS(Deviations_Work_Practice_Plans!B25:$B$500,B25,Deviations_Work_Practice_Plans!$C25:$C$500,C25))","v":""}]
[null,{"$f":"+Lists!BB4","v":""},{"$f":"+Lists!BC4","v":""},{"$f":"+Lists!BD4","v":""},{"$f":"IF(D26=\"\",\"\",COUNTIFS(Adhes_Sealer_Deadener!$B$24:$B$500,B26,Adhes_Sealer_Deadener!$C$24:$C$500,C26))","v":""},{"$f":"IF(D26=\"\",\"\",COUNTIFS(TopPrim_WorkPractice!$B$24:$B$500,$B26,TopPrim_WorkPractice!$C$24:$C$500,$C26))","v":""},{"$f":"IF(C26=\"\",\"\",COUNTIFS(ElectroPrimerHAPContent!$B$24:$B$500,B26,ElectroPrimerHAPContent!$C$24:$C$500,C26))","v":""},{"$f":"IF(C26=\"\",\"\",COUNTIFS(Deviations_Work_Practice_Plans!B26:$B$500,B26,Deviations_Work_Practice_Plans!$C26:$C$500,C26))","v":""}]
[null,{"$f":"+Lists!BB5","v":""},{"$f":"+Lists!BC5","v":""},{"$f":"+Lists!BD5","v":""},{"$f":"IF(D27=\"\",\"\",COUNTIFS(Adhes_Sealer_Deadener!$B$24:$B$500,B27,Adhes_Sealer_Deadener!$C$24:$C$500,C27))","v":""},{"$f":"IF(D27=\"\",\"\",COUNTIFS(TopPrim_WorkPractice!$B$24:$B$500,$B27,TopPrim_WorkPractice!$C$24:$C$500,$C27))","v":""},{"$f":"IF(C27=\"\",\"\",COUNTIFS(ElectroPrimerHAPContent!$B$24:$B$500,B27,ElectroPrimerHAPContent!$C$24:$C$500,C27))","v":""},{"$f":"IF(C27=\"\",\"\",COUNTIFS(Deviations_Work_Practice_Plans!B27:$B$500,B27,Deviations_Work_Practice_Plans!$C27:$C$500,C27))","v":""}]
[null,{"$f":"+Lists!BB6","v":""},{"$f":"+Lists!BC6","v":""},{"$f":"+Lists!BD6","v":""},{"$f":"IF(D28=\"\",\"\",COUNTIFS(Adhes_Sealer_Deadener!$B$24:$B$500,B28,Adhes_Sealer_Deadener!$C$24:$C$500,C28))","v":""},{"$f":"IF(D28=\"\",\"\",COUNTIFS(TopPrim_WorkPractice!$B$24:$B$500,$B28,TopPrim_WorkPractice!$C$24:$C$500,$C28))","v":""},{"$f":"IF(C28=\"\",\"\",COUNTIFS(ElectroPrimerHAPContent!$B$24:$B$500,B28,ElectroPrimerHAPContent!$C$24:$C$500,C28))","v":""},{"$f":"IF(C28=\"\",\"\",COUNTIFS(Deviations_Work_Practice_Plans!B28:$B$500,B28,Deviations_Work_Practice_Plans!$C28:$C$500,C28))","v":""}]
[null,{"$f":"+Lists!BB7","v":""},{"$f":"+Lists!BC7","v":""},{"$f":"+Lists!BD7","v":""},{"$f":"IF(D29=\"\",\"\",COUNTIFS(Adhes_Sealer_Deadener!$B$24:$B$500,B29,Adhes_Sealer_Deadener!$C$24:$C$500,C29))","v":""},{"$f":"IF(D29=\"\",\"\",COUNTIFS(TopPrim_WorkPractice!$B$24:$B$500,$B29,TopPrim_WorkPractice!$C$24:$C$500,$C29))","v":""},{"$f":"IF(C29=\"\",\"\",COUNTIFS(ElectroPrimerHAPContent!$B$24:$B$500,B29,ElectroPrimerHAPContent!$C$24:$C$500,C29))","v":""},{"$f":"IF(C29=\"\",\"\",COUNTIFS(Deviations_Work_Practice_Plans!B29:$B$500,B29,Deviations_Work_Practice_Plans!$C29:$C$500,C29))","v":""}]
[null,{"$f":"+Lists!BB8","v":""},{"$f":"+Lists!BC8","v":""},{"$f":"+Lists!BD8","v":""},{"$f":"IF(D30=\"\",\"\",COUNTIFS(Adhes_Sealer_Deadener!$B$24:$B$500,B30,Adhes_Sealer_Deadener!$C$24:$C$500,C30))","v":""},{"$f":"IF(D30=\"\",\"\",COUNTIFS(TopPrim_WorkPractice!$B$24:$B$500,$B30,TopPrim_WorkPractice!$C$24:$C$500,$C30))","v":""},{"$f":"IF(C30=\"\",\"\",COUNTIFS(ElectroPrimerHAPContent!$B$24:$B$500,B30,ElectroPrimerHAPContent!$C$24:$C$500,C30))","v":""},{"$f":"IF(C30=\"\",\"\",COUNTIFS(Deviations_Work_Practice_Plans!B30:$B$500,B30,Deviations_Work_Practice_Plans!$C30:$C$500,C30))","v":""}]
[null,{"$f":"+Lists!BB9","v":""},{"$f":"+Lists!BC9","v":""},{"$f":"+Lists!BD9","v":""},{"$f":"IF(D31=\"\",\"\",COUNTIFS(Adhes_Sealer_Deadener!$B$24:$B$500,B31,Adhes_Sealer_Deadener!$C$24:$C$500,C31))","v":""},{"$f":"IF(D31=\"\",\"\",COUNTIFS(TopPrim_WorkPractice!$B$24:$B$500,$B31,TopPrim_WorkPractice!$C$24:$C$500,$C31))","v":""},{"$f":"IF(C31=\"\",\"\",COUNTIFS(ElectroPrimerHAPContent!$B$24:$B$500,B31,ElectroPrimerHAPContent!$C$24:$C$500,C31))","v":""},{"$f":"IF(C31=\"\",\"\",COUNTIFS(Deviations_Work_Practice_Plans!B31:$B$500,B31,Deviations_Work_Practice_Plans!$C31:$C$500,C31))","v":""}]
[null,{"$f":"+Lists!BB10","v":""},{"$f":"+Lists!BC10","v":""},{"$f":"+Lists!BD10","v":""},{"$f":"IF(D32=\"\",\"\",COUNTIFS(Adhes_Sealer_Deadener!$B$24:$B$500,B32,Adhes_Sealer_Deadener!$C$24:$C$500,C32))","v":""},{"$f":"IF(D32=\"\",\"\",COUNTIFS(TopPrim_WorkPractice!$B$24:$B$500,$B32,TopPrim_WorkPractice!$C$24:$C$500,$C32))","v":""},{"$f":"IF(C32=\"\",\"\",COUNTIFS(ElectroPrimerHAPContent!$B$24:$B$500,B32,ElectroPrimerHAPContent!$C$24:$C$500,C32))","v":""},{"$f":"IF(C32=\"\",\"\",COUNTIFS(Deviations_Work_Practice_Plans!B32:$B$500,B32,Deviations_Work_Practice_Plans!$C32:$C$500,C32))","v":""}]
[null,{"$f":"+Lists!BB11","v":""},{"$f":"+Lists!BC11","v":""},{"$f":"+Lists!BD11","v":""},{"$f":"IF(D33=\"\",\"\",COUNTIFS(Adhes_Sealer_Deadener!$B$24:$B$500,B33,Adhes_Sealer_Deadener!$C$24:$C$500,C33))","v":""},{"$f":"IF(D33=\"\",\"\",COUNTIFS(TopPrim_WorkPractice!$B$24:$B$500,$B33,TopPrim_WorkPractice!$C$24:$C$500,$C33))","v":""},{"$f":"IF(C33=\"\",\"\",COUNTIFS(ElectroPrimerHAPContent!$B$24:$B$500,B33,ElectroPrimerHAPContent!$C$24:$C$500,C33))","v":""},{"$f":"IF(C33=\"\",\"\",COUNTIFS(Deviations_Work_Practice_Plans!B33:$B$500,B33,Deviations_Work_Practice_Plans!$C33:$C$500,C33))","v":""}]
[null,{"$f":"+Lists!BB12","v":""},{"$f":"+Lists!BC12","v":""},{"$f":"+Lists!BD12","v":""},{"$f":"IF(D34=\"\",\"\",COUNTIFS(Adhes_Sealer_Deadener!$B$24:$B$500,B34,Adhes_Sealer_Deadener!$C$24:$C$500,C34))","v":""},{"$f":"IF(D34=\"\",\"\",COUNTIFS(TopPrim_WorkPractice!$B$24:$B$500,$B34,TopPrim_WorkPractice!$C$24:$C$500,$C34))","v":""},{"$f":"IF(C34=\"\",\"\",COUNTIFS(ElectroPrimerHAPContent!$B$24:$B$500,B34,ElectroPrimerHAPContent!$C$24:$C$500,C34))","v":""},{"$f":"IF(C34=\"\",\"\",COUNTIFS(Deviations_Work_Practice_Plans!B34:$B$500,B34,Deviations_Work_Practice_Plans!$C34:$C$500,C34))","v":""}]
[null,{"$f":"+Lists!BB13","v":""},{"$f":"+Lists!BC13","v":""},{"$f":"+Lists!BD13","v":""},{"$f":"IF(D35=\"\",\"\",COUNTIFS(Adhes_Sealer_Deadener!$B$24:$B$500,B35,Adhes_Sealer_Deadener!$C$24:$C$500,C35))","v":""},{"$f":"IF(D35=\"\",\"\",COUNTIFS(TopPrim_WorkPractice!$B$24:$B$500,$B35,TopPrim_WorkPractice!$C$24:$C$500,$C35))","v":""},{"$f":"IF(C35=\"\",\"\",COUNTIFS(ElectroPrimerHAPContent!$B$24:$B$500,B35,ElectroPrimerHAPContent!$C$24:$C$500,C35))","v":""},{"$f":"IF(C35=\"\",\"\",COUNTIFS(Deviations_Work_Practice_Plans!B35:$B$500,B35,Deviations_Work_Practice_Plans!$C35:$C$500,C35))","v":""}]
[null,{"$f":"+Lists!BB14","v":""},{"$f":"+Lists!BC14","v":""},{"$f":"+Lists!BD14","v":""},{"$f":"IF(D36=\"\",\"\",COUNTIFS(Adhes_Sealer_Deadener!$B$24:$B$500,B36,Adhes_Sealer_Deadener!$C$24:$C$500,C36))","v":""},{"$f":"IF(D36=\"\",\"\",COUNTIFS(TopPrim_WorkPractice!$B$24:$B$500,$B36,TopPrim_WorkPractice!$C$24:$C$500,$C36))","v":""},{"$f":"IF(C36=\"\",\"\",COUNTIFS(ElectroPrimerHAPContent!$B$24:$B$500,B36,ElectroPrimerHAPContent!$C$24:$C$500,C36))","v":""},{"$f":"IF(C36=\"\",\"\",COUNTIFS(Deviations_Work_Practice_Plans!B36:$B$500,B36,Deviations_Work_Practice_Plans!$C36:$C$500,C36))","v":""}]
[null,{"$f":"+Lists!BB15","v":""},{"$f":"+Lists!BC15","v":""},{"$f":"+Lists!BD15","v":""},{"$f":"IF(D37=\"\",\"\",COUNTIFS(Adhes_Sealer_Deadener!$B$24:$B$500,B37,Adhes_Sealer_Deadener!$C$24:$C$500,C37))","v":""},{"$f":"IF(D37=\"\",\"\",COUNTIFS(TopPrim_WorkPractice!$B$24:$B$500,$B37,TopPrim_WorkPractice!$C$24:$C$500,$C37))","v":""},{"$f":"IF(C37=\"\",\"\",COUNTIFS(ElectroPrimerHAPContent!$B$24:$B$500,B37,ElectroPrimerHAPContent!$C$24:$C$500,C37))","v":""},{"$f":"IF(C37=\"\",\"\",COUNTIFS(Deviations_Work_Practice_Plans!B37:$B$500,B37,Deviations_Work_Practice_Plans!$C37:$C$500,C37))","v":""}]
[null,{"$f":"+Lists!BB16","v":""},{"$f":"+Lists!BC16","v":""},{"$f":"+Lists!BD16","v":""},{"$f":"IF(D38=\"\",\"\",COUNTIFS(Adhes_Sealer_Deadener!$B$24:$B$500,B38,Adhes_Sealer_Deadener!$C$24:$C$500,C38))","v":""},{"$f":"IF(D38=\"\",\"\",COUNTIFS(TopPrim_WorkPractice!$B$24:$B$500,$B38,TopPrim_WorkPractice!$C$24:$C$500,$C38))","v":""},{"$f":"IF(C38=\"\",\"\",COUNTIFS(ElectroPrimerHAPContent!$B$24:$B$500,B38,ElectroPrimerHAPContent!$C$24:$C$500,C38))","v":""},{"$f":"IF(C38=\"\",\"\",COUNTIFS(Deviations_Work_Practice_Plans!B38:$B$500,B38,Deviations_Work_Practice_Plans!$C38:$C$500,C38))","v":""}]
[null,{"$f":"+Lists!BB17","v":""},{"$f":"+Lists!BC17","v":""},{"$f":"+Lists!BD17","v":""},{"$f":"IF(D39=\"\",\"\",COUNTIFS(Adhes_Sealer_Deadener!$B$24:$B$500,B39,Adhes_Sealer_Deadener!$C$24:$C$500,C39))","v":""},{"$f":"IF(D39=\"\",\"\",COUNTIFS(TopPrim_WorkPractice!$B$24:$B$500,$B39,TopPrim_WorkPractice!$C$24:$C$500,$C39))","v":""},{"$f":"IF(C39=\"\",\"\",COUNTIFS(ElectroPrimerHAPContent!$B$24:$B$500,B39,ElectroPrimerHAPContent!$C$24:$C$500,C39))","v":""},{"$f":"IF(C39=\"\",\"\",COUNTIFS(Deviations_Work_Practice_Plans!B39:$B$500,B39,Deviations_Work_Practice_Plans!$C39:$C$500,C39))","v":""}]
[null,{"$f":"+Lists!BB18","v":""},{"$f":"+Lists!BC18","v":""},{"$f":"+Lists!BD18","v":""},{"$f":"IF(D40=\"\",\"\",COUNTIFS(Adhes_Sealer_Deadener!$B$24:$B$500,B40,Adhes_Sealer_Deadener!$C$24:$C$500,C40))","v":""},{"$f":"IF(D40=\"\",\"\",COUNTIFS(TopPrim_WorkPractice!$B$24:$B$500,$B40,TopPrim_WorkPractice!$C$24:$C$500,$C40))","v":""},{"$f":"IF(C40=\"\",\"\",COUNTIFS(ElectroPrimerHAPContent!$B$24:$B$500,B40,ElectroPrimerHAPContent!$C$24:$C$500,C40))","v":""},{"$f":"IF(C40=\"\",\"\",COUNTIFS(Deviations_Work_Practice_Plans!B40:$B$500,B40,Deviations_Work_Practice_Plans!$C40:$C$500,C40))","v":""}]
[null,{"$f":"+Lists!BB19","v":""},{"$f":"+Lists!BC19","v":""},{"$f":"+Lists!BD19","v":""},{"$f":"IF(D41=\"\",\"\",COUNTIFS(Adhes_Sealer_Deadener!$B$24:$B$500,B41,Adhes_Sealer_Deadener!$C$24:$C$500,C41))","v":""},{"$f":"IF(D41=\"\",\"\",COUNTIFS(TopPrim_WorkPractice!$B$24:$B$500,$B41,TopPrim_WorkPractice!$C$24:$C$500,$C41))","v":""},{"$f":"IF(C41=\"\",\"\",COUNTIFS(ElectroPrimerHAPContent!$B$24:$B$500,B41,ElectroPrimerHAPContent!$C$24:$C$500,C41))","v":""},{"$f":"IF(C41=\"\",\"\",COUNTIFS(Deviations_Work_Practice_Plans!B41:$B$500,B41,Deviations_Work_Practice_Plans!$C41:$C$500,C41))","v":""}]
[null,{"$f":"+Lists!BB20","v":""},{"$f":"+Lists!BC20","v":""},{"$f":"+Lists!BD20","v":""},{"$f":"IF(D42=\"\",\"\",COUNTIFS(Adhes_Sealer_Deadener!$B$24:$B$500,B42,Adhes_Sealer_Deadener!$C$24:$C$500,C42))","v":""},{"$f":"IF(D42=\"\",\"\",COUNTIFS(TopPrim_WorkPractice!$B$24:$B$500,$B42,TopPrim_WorkPractice!$C$24:$C$500,$C42))","v":""},{"$f":"IF(C42=\"\",\"\",COUNTIFS(ElectroPrimerHAPContent!$B$24:$B$500,B42,ElectroPrimerHAPContent!$C$24:$C$500,C42))","v":""},{"$f":"IF(C42=\"\",\"\",COUNTIFS(Deviations_Work_Practice_Plans!B42:$B$500,B42,Deviations_Work_Practice_Plans!$C42:$C$500,C42))","v":""}]
[null,{"$f":"+Lists!BB21","v":""},{"$f":"+Lists!BC21","v":""},{"$f":"+Lists!BD21","v":""},{"$f":"IF(D43=\"\",\"\",COUNTIFS(Adhes_Sealer_Deadener!$B$24:$B$500,B43,Adhes_Sealer_Deadener!$C$24:$C$500,C43))","v":""},{"$f":"IF(D43=\"\",\"\",COUNTIFS(TopPrim_WorkPractice!$B$24:$B$500,$B43,TopPrim_WorkPractice!$C$24:$C$500,$C43))","v":""},{"$f":"IF(C43=\"\",\"\",COUNTIFS(ElectroPrimerHAPContent!$B$24:$B$500,B43,ElectroPrimerHAPContent!$C$24:$C$500,C43))","v":""},{"$f":"IF(C43=\"\",\"\",COUNTIFS(Deviations_Work_Practice_Plans!B43:$B$500,B43,Deviations_Work_Practice_Plans!$C43:$C$500,C43))","v":""}]
[null,{"$f":"+Lists!BB22","v":""},{"$f":"+Lists!BC22","v":""},{"$f":"+Lists!BD22","v":""},{"$f":"IF(D44=\"\",\"\",COUNTIFS(Adhes_Sealer_Deadener!$B$24:$B$500,B44,Adhes_Sealer_Deadener!$C$24:$C$500,C44))","v":""},{"$f":"IF(D44=\"\",\"\",COUNTIFS(TopPrim_WorkPractice!$B$24:$B$500,$B44,TopPrim_WorkPractice!$C$24:$C$500,$C44))","v":""},{"$f":"IF(C44=\"\",\"\",COUNTIFS(ElectroPrimerHAPContent!$B$24:$B$500,B44,ElectroPrimerHAPContent!$C$24:$C$500,C44))","v":""},{"$f":"IF(C44=\"\",\"\",COUNTIFS(Deviations_Work_Practice_Plans!B44:$B$500,B44,Deviations_Work_Practice_Plans!$C44:$C$500,C44))","v":""}]
[null,{"$f":"+Lists!BB23","v":""},{"$f":"+Lists!BC23","v":""},{"$f":"+Lists!BD23","v":""},{"$f":"IF(D45=\"\",\"\",COUNTIFS(Adhes_Sealer_Deadener!$B$24:$B$500,B45,Adhes_Sealer_Deadener!$C$24:$C$500,C45))","v":""},{"$f":"IF(D45=\"\",\"\",COUNTIFS(TopPrim_WorkPractice!$B$24:$B$500,$B45,TopPrim_WorkPractice!$C$24:$C$500,$C45))","v":""},{"$f":"IF(C45=\"\",\"\",COUNTIFS(ElectroPrimerHAPContent!$B$24:$B$500,B45,ElectroPrimerHAPContent!$C$24:$C$500,C45))","v":""},{"$f":"IF(C45=\"\",\"\",COUNTIFS(Deviations_Work_Practice_Plans!B45:$B$500,B45,Deviations_Work_Practice_Plans!$C45:$C$500,C45))","v":""}]
[null,{"$f":"+Lists!BB24","v":""},{"$f":"+Lists!BC24","v":""},{"$f":"+Lists!BD24","v":""},{"$f":"IF(D46=\"\",\"\",COUNTIFS(Adhes_Sealer_Deadener!$B$24:$B$500,B46,Adhes_Sealer_Deadener!$C$24:$C$500,C46))","v":""},{"$f":"IF(D46=\"\",\"\",COUNTIFS(TopPrim_WorkPractice!$B$24:$B$500,$B46,TopPrim_WorkPractice!$C$24:$C$500,$C46))","v":""},{"$f":"IF(C46=\"\",\"\",COUNTIFS(ElectroPrimerHAPContent!$B$24:$B$500,B46,ElectroPrimerHAPContent!$C$24:$C$500,C46))","v":""},{"$f":"IF(C46=\"\",\"\",COUNTIFS(Deviations_Work_Practice_Plans!B46:$B$500,B46,Deviations_Work_Practice_Plans!$C46:$C$500,C46))","v":""}]
[null,{"$f":"+Lists!BB25","v":""},{"$f":"+Lists!BC25","v":""},{"$f":"+Lists!BD25","v":""},{"$f":"IF(D47=\"\",\"\",COUNTIFS(Adhes_Sealer_Deadener!$B$24:$B$500,B47,Adhes_Sealer_Deadener!$C$24:$C$500,C47))","v":""},{"$f":"IF(D47=\"\",\"\",COUNTIFS(TopPrim_WorkPractice!$B$24:$B$500,$B47,TopPrim_WorkPractice!$C$24:$C$500,$C47))","v":""},{"$f":"IF(C47=\"\",\"\",COUNTIFS(ElectroPrimerHAPContent!$B$24:$B$500,B47,ElectroPrimerHAPContent!$C$24:$C$500,C47))","v":""},{"$f":"IF(C47=\"\",\"\",COUNTIFS(Deviations_Work_Practice_Plans!B47:$B$500,B47,Deviations_Work_Practice_Plans!$C47:$C$500,C47))","v":""}]
[null,{"$f":"+Lists!BB26","v":""},{"$f":"+Lists!BC26","v":""},{"$f":"+Lists!BD26","v":""},{"$f":"IF(D48=\"\",\"\",COUNTIFS(Adhes_Sealer_Deadener!$B$24:$B$500,B48,Adhes_Sealer_Deadener!$C$24:$C$500,C48))","v":""},{"$f":"IF(D48=\"\",\"\",COUNTIFS(TopPrim_WorkPractice!$B$24:$B$500,$B48,TopPrim_WorkPractice!$C$24:$C$500,$C48))","v":""},{"$f":"IF(C48=\"\",\"\",COUNTIFS(ElectroPrimerHAPContent!$B$24:$B$500,B48,ElectroPrimerHAPContent!$C$24:$C$500,C48))","v":""},{"$f":"IF(C48=\"\",\"\",COUNTIFS(Deviations_Work_Practice_Plans!B48:$B$500,B48,Deviations_Work_Practice_Plans!$C48:$C$500,C48))","v":""}]
[null,{"$f":"+Lists!BB27","v":""},{"$f":"+Lists!BC27","v":""},{"$f":"+Lists!BD27","v":""},{"$f":"IF(D49=\"\",\"\",COUNTIFS(Adhes_Sealer_Deadener!$B$24:$B$500,B49,Adhes_Sealer_Deadener!$C$24:$C$500,C49))","v":""},{"$f":"IF(D49=\"\",\"\",COUNTIFS(TopPrim_WorkPractice!$B$24:$B$500,$B49,TopPrim_WorkPractice!$C$24:$C$500,$C49))","v":""},{"$f":"IF(C49=\"\",\"\",COUNTIFS(ElectroPrimerHAPContent!$B$24:$B$500,B49,ElectroPrimerHAPContent!$C$24:$C$500,C49))","v":""},{"$f":"IF(C49=\"\",\"\",COUNTIFS(Deviations_Work_Practice_Plans!B49:$B$500,B49,Deviations_Work_Practice_Plans!$C49:$C$500,C49))","v":""}]
[null,{"$f":"+Lists!BB28","v":""},{"$f":"+Lists!BC28","v":""},{"$f":"+Lists!BD28","v":""},{"$f":"IF(D50=\"\",\"\",COUNTIFS(Adhes_Sealer_Deadener!$B$24:$B$500,B50,Adhes_Sealer_Deadener!$C$24:$C$500,C50))","v":""},{"$f":"IF(D50=\"\",\"\",COUNTIFS(TopPrim_WorkPractice!$B$24:$B$500,$B50,TopPrim_WorkPractice!$C$24:$C$500,$C50))","v":""},{"$f":"IF(C50=\"\",\"\",COUNTIFS(ElectroPrimerHAPContent!$B$24:$B$500,B50,ElectroPrimerHAPContent!$C$24:$C$500,C50))","v":""},{"$f":"IF(C50=\"\",\"\",COUNTIFS(Deviations_Work_Practice_Plans!B50:$B$500,B50,Deviations_Work_Practice_Plans!$C50:$C$500,C50))","v":""}]
[null,{"$f":"+Lists!BB29","v":""},{"$f":"+Lists!BC29","v":""},{"$f":"+Lists!BD29","v":""},{"$f":"IF(D51=\"\",\"\",COUNTIFS(Adhes_Sealer_Deadener!$B$24:$B$500,B51,Adhes_Sealer_Deadener!$C$24:$C$500,C51))","v":""},{"$f":"IF(D51=\"\",\"\",COUNTIFS(TopPrim_WorkPractice!$B$24:$B$500,$B51,TopPrim_WorkPractice!$C$24:$C$500,$C51))","v":""},{"$f":"IF(C51=\"\",\"\",COUNTIFS(ElectroPrimerHAPContent!$B$24:$B$500,B51,ElectroPrimerHAPContent!$C$24:$C$500,C51))","v":""},{"$f":"IF(C51=\"\",\"\",COUNTIFS(Deviations_Work_Practice_Plans!B51:$B$500,B51,Deviations_Work_Practice_Plans!$C51:$C$500,C51))","v":""}]
[null,{"$f":"+Lists!BB30","v":""},{"$f":"+Lists!BC30","v":""},{"$f":"+Lists!BD30","v":""},{"$f":"IF(D52=\"\",\"\",COUNTIFS(Adhes_Sealer_Deadener!$B$24:$B$500,B52,Adhes_Sealer_Deadener!$C$24:$C$500,C52))","v":""},{"$f":"IF(D52=\"\",\"\",COUNTIFS(TopPrim_WorkPractice!$B$24:$B$500,$B52,TopPrim_WorkPractice!$C$24:$C$500,$C52))","v":""},{"$f":"IF(C52=\"\",\"\",COUNTIFS(ElectroPrimerHAPContent!$B$24:$B$500,B52,ElectroPrimerHAPContent!$C$24:$C$500,C52))","v":""},{"$f":"IF(C52=\"\",\"\",COUNTIFS(Deviations_Work_Practice_Plans!B52:$B$500,B52,Deviations_Work_Practice_Plans!$C52:$C$500,C52))","v":""}]
[null,{"$f":"+Lists!BB31","v":""},{"$f":"+Lists!BC31","v":""},{"$f":"+Lists!BD31","v":""},{"$f":"IF(D53=\"\",\"\",COUNTIFS(Adhes_Sealer_Deadener!$B$24:$B$500,B53,Adhes_Sealer_Deadener!$C$24:$C$500,C53))","v":""},{"$f":"IF(D53=\"\",\"\",COUNTIFS(TopPrim_WorkPractice!$B$24:$B$500,$B53,TopPrim_WorkPractice!$C$24:$C$500,$C53))","v":""},{"$f":"IF(C53=\"\",\"\",COUNTIFS(ElectroPrimerHAPContent!$B$24:$B$500,B53,ElectroPrimerHAPContent!$C$24:$C$500,C53))","v":""},{"$f":"IF(C53=\"\",\"\",COUNTIFS(Deviations_Work_Practice_Plans!B53:$B$500,B53,Deviations_Work_Practice_Plans!$C53:$C$500,C53))","v":""}]
[null,{"$f":"+Lists!BB32","v":""},{"$f":"+Lists!BC32","v":""},{"$f":"+Lists!BD32","v":""},{"$f":"IF(D54=\"\",\"\",COUNTIFS(Adhes_Sealer_Deadener!$B$24:$B$500,B54,Adhes_Sealer_Deadener!$C$24:$C$500,C54))","v":""},{"$f":"IF(D54=\"\",\"\",COUNTIFS(TopPrim_WorkPractice!$B$24:$B$500,$B54,TopPrim_WorkPractice!$C$24:$C$500,$C54))","v":""},{"$f":"IF(C54=\"\",\"\",COUNTIFS(ElectroPrimerHAPContent!$B$24:$B$500,B54,ElectroPrimerHAPContent!$C$24:$C$500,C54))","v":""},{"$f":"IF(C54=\"\",\"\",COUNTIFS(Deviations_Work_Practice_Plans!B54:$B$500,B54,Deviations_Work_Practice_Plans!$C54:$C$500,C54))","v":""}]
[null,{"$f":"+Lists!BB33","v":""},{"$f":"+Lists!BC33","v":""},{"$f":"+Lists!BD33","v":""},{"$f":"IF(D55=\"\",\"\",COUNTIFS(Adhes_Sealer_Deadener!$B$24:$B$500,B55,Adhes_Sealer_Deadener!$C$24:$C$500,C55))","v":""},{"$f":"IF(D55=\"\",\"\",COUNTIFS(TopPrim_WorkPractice!$B$24:$B$500,$B55,TopPrim_WorkPractice!$C$24:$C$500,$C55))","v":""},{"$f":"IF(C55=\"\",\"\",COUNTIFS(ElectroPrimerHAPContent!$B$24:$B$500,B55,ElectroPrimerHAPContent!$C$24:$C$500,C55))","v":""},{"$f":"IF(C55=\"\",\"\",COUNTIFS(Deviations_Work_Practice_Plans!B55:$B$500,B55,Deviations_Work_Practice_Plans!$C55:$C$500,C55))","v":""}]
[null,{"$f":"+Lists!BB34","v":""},{"$f":"+Lists!BC34","v":""},{"$f":"+Lists!BD34","v":""},{"$f":"IF(D56=\"\",\"\",COUNTIFS(Adhes_Sealer_Deadener!$B$24:$B$500,B56,Adhes_Sealer_Deadener!$C$24:$C$500,C56))","v":""},{"$f":"IF(D56=\"\",\"\",COUNTIFS(TopPrim_WorkPractice!$B$24:$B$500,$B56,TopPrim_WorkPractice!$C$24:$C$500,$C56))","v":""},{"$f":"IF(C56=\"\",\"\",COUNTIFS(ElectroPrimerHAPContent!$B$24:$B$500,B56,ElectroPrimerHAPContent!$C$24:$C$500,C56))","v":""},{"$f":"IF(C56=\"\",\"\",COUNTIFS(Deviations_Work_Practice_Plans!B56:$B$500,B56,Deviations_Work_Practice_Plans!$C56:$C$500,C56))","v":""}]
[null,{"$f":"+Lists!BB35","v":""},{"$f":"+Lists!BC35","v":""},{"$f":"+Lists!BD35","v":""},{"$f":"IF(D57=\"\",\"\",COUNTIFS(Adhes_Sealer_Deadener!$B$24:$B$500,B57,Adhes_Sealer_Deadener!$C$24:$C$500,C57))","v":""},{"$f":"IF(D57=\"\",\"\",COUNTIFS(TopPrim_WorkPractice!$B$24:$B$500,$B57,TopPrim_WorkPractice!$C$24:$C$500,$C57))","v":""},{"$f":"IF(C57=\"\",\"\",COUNTIFS(ElectroPrimerHAPContent!$B$24:$B$500,B57,ElectroPrimerHAPContent!$C$24:$C$500,C57))","v":""},{"$f":"IF(C57=\"\",\"\",COUNTIFS(Deviations_Work_Practice_Plans!B57:$B$500,B57,Deviations_Work_Practice_Plans!$C57:$C$500,C57))","v":""}]
[null,{"$f":"+Lists!BB36","v":""},{"$f":"+Lists!BC36","v":""},{"$f":"+Lists!BD36","v":""},{"$f":"IF(D58=\"\",\"\",COUNTIFS(Adhes_Sealer_Deadener!$B$24:$B$500,B58,Adhes_Sealer_Deadener!$C$24:$C$500,C58))","v":""},{"$f":"IF(D58=\"\",\"\",COUNTIFS(TopPrim_WorkPractice!$B$24:$B$500,$B58,TopPrim_WorkPractice!$C$24:$C$500,$C58))","v":""},{"$f":"IF(C58=\"\",\"\",COUNTIFS(ElectroPrimerHAPContent!$B$24:$B$500,B58,ElectroPrimerHAPContent!$C$24:$C$500,C58))","v":""},{"$f":"IF(C58=\"\",\"\",COUNTIFS(Deviations_Work_Practice_Plans!B58:$B$500,B58,Deviations_Work_Practice_Plans!$C58:$C$500,C58))","v":""}]
[null,{"$f":"+Lists!BB37","v":""},{"$f":"+Lists!BC37","v":""},{"$f":"+Lists!BD37","v":""},{"$f":"IF(D59=\"\",\"\",COUNTIFS(Adhes_Sealer_Deadener!$B$24:$B$500,B59,Adhes_Sealer_Deadener!$C$24:$C$500,C59))","v":""},{"$f":"IF(D59=\"\",\"\",COUNTIFS(TopPrim_WorkPractice!$B$24:$B$500,$B59,TopPrim_WorkPractice!$C$24:$C$500,$C59))","v":""},{"$f":"IF(C59=\"\",\"\",COUNTIFS(ElectroPrimerHAPContent!$B$24:$B$500,B59,ElectroPrimerHAPContent!$C$24:$C$500,C59))","v":""},{"$f":"IF(C59=\"\",\"\",COUNTIFS(Deviations_Work_Practice_Plans!B59:$B$500,B59,Deviations_Work_Practice_Plans!$C59:$C$500,C59))","v":""}]
[null,{"$f":"+Lists!BB38","v":""},{"$f":"+Lists!BC38","v":""},{"$f":"+Lists!BD38","v":""},{"$f":"IF(D60=\"\",\"\",COUNTIFS(Adhes_Sealer_Deadener!$B$24:$B$500,B60,Adhes_Sealer_Deadener!$C$24:$C$500,C60))","v":""},{"$f":"IF(D60=\"\",\"\",COUNTIFS(TopPrim_WorkPractice!$B$24:$B$500,$B60,TopPrim_WorkPractice!$C$24:$C$500,$C60))","v":""},{"$f":"IF(C60=\"\",\"\",COUNTIFS(ElectroPrimerHAPContent!$B$24:$B$500,B60,ElectroPrimerHAPContent!$C$24:$C$500,C60))","v":""},{"$f":"IF(C60=\"\",\"\",COUNTIFS(Deviations_Work_Practice_Plans!B60:$B$500,B60,Deviations_Work_Practice_Plans!$C60:$C$500,C60))","v":""}]
[null,{"$f":"+Lists!BB39","v":""},{"$f":"+Lists!BC39","v":""},{"$f":"+Lists!BD39","v":""},{"$f":"IF(D61=\"\",\"\",COUNTIFS(Adhes_Sealer_Deadener!$B$24:$B$500,B61,Adhes_Sealer_Deadener!$C$24:$C$500,C61))","v":""},{"$f":"IF(D61=\"\",\"\",COUNTIFS(TopPrim_WorkPractice!$B$24:$B$500,$B61,TopPrim_WorkPractice!$C$24:$C$500,$C61))","v":""},{"$f":"IF(C61=\"\",\"\",COUNTIFS(ElectroPrimerHAPContent!$B$24:$B$500,B61,ElectroPrimerHAPContent!$C$24:$C$500,C61))","v":""},{"$f":"IF(C61=\"\",\"\",COUNTIFS(Deviations_Work_Practice_Plans!B61:$B$500,B61,Deviations_Work_Practice_Plans!$C61:$C$500,C61))","v":""}]
[null,{"$f":"+Lists!BB40","v":""},{"$f":"+Lists!BC40","v":""},{"$f":"+Lists!BD40","v":""},{"$f":"IF(D62=\"\",\"\",COUNTIFS(Adhes_Sealer_Deadener!$B$24:$B$500,B62,Adhes_Sealer_Deadener!$C$24:$C$500,C62))","v":""},{"$f":"IF(D62=\"\",\"\",COUNTIFS(TopPrim_WorkPractice!$B$24:$B$500,$B62,TopPrim_WorkPractice!$C$24:$C$500,$C62))","v":""},{"$f":"IF(C62=\"\",\"\",COUNTIFS(ElectroPrimerHAPContent!$B$24:$B$500,B62,ElectroPrimerHAPContent!$C$24:$C$500,C62))","v":""},{"$f":"IF(C62=\"\",\"\",COUNTIFS(Deviations_Work_Practice_Plans!B62:$B$500,B62,Deviations_Work_Practice_Plans!$C62:$C$500,C62))","v":""}]
[null,{"$f":"+Lists!BB41","v":""},{"$f":"+Lists!BC41","v":""},{"$f":"+Lists!BD41","v":""},{"$f":"IF(D63=\"\",\"\",COUNTIFS(Adhes_Sealer_Deadener!$B$24:$B$500,B63,Adhes_Sealer_Deadener!$C$24:$C$500,C63))","v":""},{"$f":"IF(D63=\"\",\"\",COUNTIFS(TopPrim_WorkPractice!$B$24:$B$500,$B63,TopPrim_WorkPractice!$C$24:$C$500,$C63))","v":""},{"$f":"IF(C63=\"\",\"\",COUNTIFS(ElectroPrimerHAPContent!$B$24:$B$500,B63,ElectroPrimerHAPContent!$C$24:$C$500,C63))","v":""},{"$f":"IF(C63=\"\",\"\",COUNTIFS(Deviations_Work_Practice_Plans!B63:$B$500,B63,Deviations_Work_Practice_Plans!$C63:$C$500,C63))","v":""}]
[null,{"$f":"+Lists!BB42","v":""},{"$f":"+Lists!BC42","v":""},{"$f":"+Lists!BD42","v":""},{"$f":"IF(D64=\"\",\"\",COUNTIFS(Adhes_Sealer_Deadener!$B$24:$B$500,B64,Adhes_Sealer_Deadener!$C$24:$C$500,C64))","v":""},{"$f":"IF(D64=\"\",\"\",COUNTIFS(TopPrim_WorkPractice!$B$24:$B$500,$B64,TopPrim_WorkPractice!$C$24:$C$500,$C64))","v":""},{"$f":"IF(C64=\"\",\"\",COUNTIFS(ElectroPrimerHAPContent!$B$24:$B$500,B64,ElectroPrimerHAPContent!$C$24:$C$500,C64))","v":""},{"$f":"IF(C64=\"\",\"\",COUNTIFS(Deviations_Work_Practice_Plans!B64:$B$500,B64,Deviations_Work_Practice_Plans!$C64:$C$500,C64))","v":""}]
[null,{"$f":"+Lists!BB43","v":""},{"$f":"+Lists!BC43","v":""},{"$f":"+Lists!BD43","v":""},{"$f":"IF(D65=\"\",\"\",COUNTIFS(Adhes_Sealer_Deadener!$B$24:$B$500,B65,Adhes_Sealer_Deadener!$C$24:$C$500,C65))","v":""},{"$f":"IF(D65=\"\",\"\",COUNTIFS(TopPrim_WorkPractice!$B$24:$B$500,$B65,TopPrim_WorkPractice!$C$24:$C$500,$C65))","v":""},{"$f":"IF(C65=\"\",\"\",COUNTIFS(ElectroPrimerHAPContent!$B$24:$B$500,B65,ElectroPrimerHAPContent!$C$24:$C$500,C65))","v":""},{"$f":"IF(C65=\"\",\"\",COUNTIFS(Deviations_Work_Practice_Plans!B65:$B$500,B65,Deviations_Work_Practice_Plans!$C65:$C$500,C65))","v":""}]
[null,{"$f":"+Lists!BB44","v":""},{"$f":"+Lists!BC44","v":""},{"$f":"+Lists!BD44","v":""},{"$f":"IF(D66=\"\",\"\",COUNTIFS(Adhes_Sealer_Deadener!$B$24:$B$500,B66,Adhes_Sealer_Deadener!$C$24:$C$500,C66))","v":""},{"$f":"IF(D66=\"\",\"\",COUNTIFS(TopPrim_WorkPractice!$B$24:$B$500,$B66,TopPrim_WorkPractice!$C$24:$C$500,$C66))","v":""},{"$f":"IF(C66=\"\",\"\",COUNTIFS(ElectroPrimerHAPContent!$B$24:$B$500,B66,ElectroPrimerHAPContent!$C$24:$C$500,C66))","v":""},{"$f":"IF(C66=\"\",\"\",COUNTIFS(Deviations_Work_Practice_Plans!B66:$B$500,B66,Deviations_Work_Practice_Plans!$C66:$C$500,C66))","v":""}]
[null,{"$f":"+Lists!BB45","v":""},{"$f":"+Lists!BC45","v":""},{"$f":"+Lists!BD45","v":""},{"$f":"IF(D67=\"\",\"\",COUNTIFS(Adhes_Sealer_Deadener!$B$24:$B$500,B67,Adhes_Sealer_Deadener!$C$24:$C$500,C67))","v":""},{"$f":"IF(D67=\"\",\"\",COUNTIFS(TopPrim_WorkPractice!$B$24:$B$500,$B67,TopPrim_WorkPractice!$C$24:$C$500,$C67))","v":""},{"$f":"IF(C67=\"\",\"\",COUNTIFS(ElectroPrimerHAPContent!$B$24:$B$500,B67,ElectroPrimerHAPContent!$C$24:$C$500,C67))","v":""},{"$f":"IF(C67=\"\",\"\",COUNTIFS(Deviations_Work_Practice_Plans!B67:$B$500,B67,Deviations_Work_Practice_Plans!$C67:$C$500,C67))","v":""}]
[null,{"$f":"+Lists!BB46","v":""},{"$f":"+Lists!BC46","v":""},{"$f":"+Lists!BD46","v":""},{"$f":"IF(D68=\"\",\"\",COUNTIFS(Adhes_Sealer_Deadener!$B$24:$B$500,B68,Adhes_Sealer_Deadener!$C$24:$C$500,C68))","v":""},{"$f":"IF(D68=\"\",\"\",COUNTIFS(TopPrim_WorkPractice!$B$24:$B$500,$B68,TopPrim_WorkPractice!$C$24:$C$500,$C68))","v":""},{"$f":"IF(C68=\"\",\"\",COUNTIFS(ElectroPrimerHAPContent!$B$24:$B$500,B68,ElectroPrimerHAPContent!$C$24:$C$500,C68))","v":""},{"$f":"IF(C68=\"\",\"\",COUNTIFS(Deviations_Work_Practice_Plans!B68:$B$500,B68,Deviations_Work_Practice_Plans!$C68:$C$500,C68))","v":""}]
[null,{"$f":"+Lists!BB47","v":""},{"$f":"+Lists!BC47","v":""},{"$f":"+Lists!BD47","v":""},{"$f":"IF(D69=\"\",\"\",COUNTIFS(Adhes_Sealer_Deadener!$B$24:$B$500,B69,Adhes_Sealer_Deadener!$C$24:$C$500,C69))","v":""},{"$f":"IF(D69=\"\",\"\",COUNTIFS(TopPrim_WorkPractice!$B$24:$B$500,$B69,TopPrim_WorkPractice!$C$24:$C$500,$C69))","v":""},{"$f":"IF(C69=\"\",\"\",COUNTIFS(ElectroPrimerHAPContent!$B$24:$B$500,B69,ElectroPrimerHAPContent!$C$24:$C$500,C69))","v":""},{"$f":"IF(C69=\"\",\"\",COUNTIFS(Deviations_Work_Practice_Plans!B69:$B$500,B69,Deviations_Work_Practice_Plans!$C69:$C$500,C69))","v":""}]
[null,{"$f":"+Lists!BB48","v":""},{"$f":"+Lists!BC48","v":""},{"$f":"+Lists!BD48","v":""},{"$f":"IF(D70=\"\",\"\",COUNTIFS(Adhes_Sealer_Deadener!$B$24:$B$500,B70,Adhes_Sealer_Deadener!$C$24:$C$500,C70))","v":""},{"$f":"IF(D70=\"\",\"\",COUNTIFS(TopPrim_WorkPractice!$B$24:$B$500,$B70,TopPrim_WorkPractice!$C$24:$C$500,$C70))","v":""},{"$f":"IF(C70=\"\",\"\",COUNTIFS(ElectroPrimerHAPContent!$B$24:$B$500,B70,ElectroPrimerHAPContent!$C$24:$C$500,C70))","v":""},{"$f":"IF(C70=\"\",\"\",COUNTIFS(Deviations_Work_Practice_Plans!B70:$B$500,B70,Deviations_Work_Practice_Plans!$C70:$C$500,C70))","v":""}]
[null,{"$f":"+Lists!BB49","v":""},{"$f":"+Lists!BC49","v":""},{"$f":"+Lists!BD49","v":""},{"$f":"IF(D71=\"\",\"\",COUNTIFS(Adhes_Sealer_Deadener!$B$24:$B$500,B71,Adhes_Sealer_Deadener!$C$24:$C$500,C71))","v":""},{"$f":"IF(D71=\"\",\"\",COUNTIFS(TopPrim_WorkPractice!$B$24:$B$500,$B71,TopPrim_WorkPractice!$C$24:$C$500,$C71))","v":""},{"$f":"IF(C71=\"\",\"\",COUNTIFS(ElectroPrimerHAPContent!$B$24:$B$500,B71,ElectroPrimerHAPContent!$C$24:$C$500,C71))","v":""},{"$f":"IF(C71=\"\",\"\",COUNTIFS(Deviations_Work_Practice_Plans!B71:$B$500,B71,Deviations_Work_Practice_Plans!$C71:$C$500,C71))","v":""}]
[null,{"$f":"+Lists!BB50","v":""},{"$f":"+Lists!BC50","v":""},{"$f":"+Lists!BD50","v":""},{"$f":"IF(D72=\"\",\"\",COUNTIFS(Adhes_Sealer_Deadener!$B$24:$B$500,B72,Adhes_Sealer_Deadener!$C$24:$C$500,C72))","v":""},{"$f":"IF(D72=\"\",\"\",COUNTIFS(TopPrim_WorkPractice!$B$24:$B$500,$B72,TopPrim_WorkPractice!$C$24:$C$500,$C72))","v":""},{"$f":"IF(C72=\"\",\"\",COUNTIFS(ElectroPrimerHAPContent!$B$24:$B$500,B72,ElectroPrimerHAPContent!$C$24:$C$500,C72))","v":""},{"$f":"IF(C72=\"\",\"\",COUNTIFS(Deviations_Work_Practice_Plans!B72:$B$500,B72,Deviations_Work_Practice_Plans!$C72:$C$500,C72))","v":""}]
[null,{"$f":"+Lists!BB51","v":""},{"$f":"+Lists!BC51","v":""},{"$f":"+Lists!BD51","v":""},{"$f":"IF(D73=\"\",\"\",COUNTIFS(Adhes_Sealer_Deadener!$B$24:$B$500,B73,Adhes_Sealer_Deadener!$C$24:$C$500,C73))","v":""},{"$f":"IF(D73=\"\",\"\",COUNTIFS(TopPrim_WorkPractice!$B$24:$B$500,$B73,TopPrim_WorkPractice!$C$24:$C$500,$C73))","v":""},{"$f":"IF(C73=\"\",\"\",COUNTIFS(ElectroPrimerHAPContent!$B$24:$B$500,B73,ElectroPrimerHAPContent!$C$24:$C$500,C73))","v":""},{"$f":"IF(C73=\"\",\"\",COUNTIFS(Deviations_Work_Practice_Plans!B73:$B$500,B73,Deviations_Work_Practice_Plans!$C73:$C$500,C73))","v":""}]
[null,{"$f":"+Lists!BB52","v":""},{"$f":"+Lists!BC52","v":""},{"$f":"+Lists!BD52","v":""},{"$f":"IF(D74=\"\",\"\",COUNTIFS(Adhes_Sealer_Deadener!$B$24:$B$500,B74,Adhes_Sealer_Deadener!$C$24:$C$500,C74))","v":""},{"$f":"IF(D74=\"\",\"\",COUNTIFS(TopPrim_WorkPractice!$B$24:$B$500,$B74,TopPrim_WorkPractice!$C$24:$C$500,$C74))","v":""},{"$f":"IF(C74=\"\",\"\",COUNTIFS(ElectroPrimerHAPContent!$B$24:$B$500,B74,ElectroPrimerHAPContent!$C$24:$C$500,C74))","v":""},{"$f":"IF(C74=\"\",\"\",COUNTIFS(Deviations_Work_Practice_Plans!B74:$B$500,B74,Deviations_Work_Practice_Plans!$C74:$C$500,C74))","v":""}]
[null,{"$f":"+Lists!BB53","v":""},{"$f":"+Lists!BC53","v":""},{"$f":"+Lists!BD53","v":""},{"$f":"IF(D75=\"\",\"\",COUNTIFS(Adhes_Sealer_Deadener!$B$24:$B$500,B75,Adhes_Sealer_Deadener!$C$24:$C$500,C75))","v":""},{"$f":"IF(D75=\"\",\"\",COUNTIFS(TopPrim_WorkPractice!$B$24:$B$500,$B75,TopPrim_WorkPractice!$C$24:$C$500,$C75))","v":""},{"$f":"IF(C75=\"\",\"\",COUNTIFS(ElectroPrimerHAPContent!$B$24:$B$500,B75,ElectroPrimerHAPContent!$C$24:$C$500,C75))","v":""},{"$f":"IF(C75=\"\",\"\",COUNTIFS(Deviations_Work_Practice_Plans!B75:$B$500,B75,Deviations_Work_Practice_Plans!$C75:$C$500,C75))","v":""}]
[null,{"$f":"+Lists!BB54","v":""},{"$f":"+Lists!BC54","v":""},{"$f":"+Lists!BD54","v":""},{"$f":"IF(D76=\"\",\"\",COUNTIFS(Adhes_Sealer_Deadener!$B$24:$B$500,B76,Adhes_Sealer_Deadener!$C$24:$C$500,C76))","v":""},{"$f":"IF(D76=\"\",\"\",COUNTIFS(TopPrim_WorkPractice!$B$24:$B$500,$B76,TopPrim_WorkPractice!$C$24:$C$500,$C76))","v":""},{"$f":"IF(C76=\"\",\"\",COUNTIFS(ElectroPrimerHAPContent!$B$24:$B$500,B76,ElectroPrimerHAPContent!$C$24:$C$500,C76))","v":""},{"$f":"IF(C76=\"\",\"\",COUNTIFS(Deviations_Work_Practice_Plans!B76:$B$500,B76,Deviations_Work_Practice_Plans!$C76:$C$500,C76))","v":""}]
[null,{"$f":"+Lists!BB55","v":""},{"$f":"+Lists!BC55","v":""},{"$f":"+Lists!BD55","v":""},{"$f":"IF(D77=\"\",\"\",COUNTIFS(Adhes_Sealer_Deadener!$B$24:$B$500,B77,Adhes_Sealer_Deadener!$C$24:$C$500,C77))","v":""},{"$f":"IF(D77=\"\",\"\",COUNTIFS(TopPrim_WorkPractice!$B$24:$B$500,$B77,TopPrim_WorkPractice!$C$24:$C$500,$C77))","v":""},{"$f":"IF(C77=\"\",\"\",COUNTIFS(ElectroPrimerHAPContent!$B$24:$B$500,B77,ElectroPrimerHAPContent!$C$24:$C$500,C77))","v":""},{"$f":"IF(C77=\"\",\"\",COUNTIFS(Deviations_Work_Practice_Plans!B77:$B$500,B77,Deviations_Work_Practice_Plans!$C77:$C$500,C77))","v":""}]
[null,{"$f":"+Lists!BB56","v":""},{"$f":"+Lists!BC56","v":""},{"$f":"+Lists!BD56","v":""},{"$f":"IF(D78=\"\",\"\",COUNTIFS(Adhes_Sealer_Deadener!$B$24:$B$500,B78,Adhes_Sealer_Deadener!$C$24:$C$500,C78))","v":""},{"$f":"IF(D78=\"\",\"\",COUNTIFS(TopPrim_WorkPractice!$B$24:$B$500,$B78,TopPrim_WorkPractice!$C$24:$C$500,$C78))","v":""},{"$f":"IF(C78=\"\",\"\",COUNTIFS(ElectroPrimerHAPContent!$B$24:$B$500,B78,ElectroPrimerHAPContent!$C$24:$C$500,C78))","v":""},{"$f":"IF(C78=\"\",\"\",COUNTIFS(Deviations_Work_Practice_Plans!B78:$B$500,B78,Deviations_Work_Practice_Plans!$C78:$C$500,C78))","v":""}]
[null,{"$f":"+Lists!BB57","v":""},{"$f":"+Lists!BC57","v":""},{"$f":"+Lists!BD57","v":""},{"$f":"IF(D79=\"\",\"\",COUNTIFS(Adhes_Sealer_Deadener!$B$24:$B$500,B79,Adhes_Sealer_Deadener!$C$24:$C$500,C79))","v":""},{"$f":"IF(D79=\"\",\"\",COUNTIFS(TopPrim_WorkPractice!$B$24:$B$500,$B79,TopPrim_WorkPractice!$C$24:$C$500,$C79))","v":""},{"$f":"IF(C79=\"\",\"\",COUNTIFS(ElectroPrimerHAPContent!$B$24:$B$500,B79,ElectroPrimerHAPContent!$C$24:$C$500,C79))","v":""},{"$f":"IF(C79=\"\",\"\",COUNTIFS(Deviations_Work_Practice_Plans!B79:$B$500,B79,Deviations_Work_Practice_Plans!$C79:$C$500,C79))","v":""}]
[null,{"$f":"+Lists!BB58","v":""},{"$f":"+Lists!BC58","v":""},{"$f":"+Lists!BD58","v":""},{"$f":"IF(D80=\"\",\"\",COUNTIFS(Adhes_Sealer_Deadener!$B$24:$B$500,B80,Adhes_Sealer_Deadener!$C$24:$C$500,C80))","v":""},{"$f":"IF(D80=\"\",\"\",COUNTIFS(TopPrim_WorkPractice!$B$24:$B$500,$B80,TopPrim_WorkPractice!$C$24:$C$500,$C80))","v":""},{"$f":"IF(C80=\"\",\"\",COUNTIFS(ElectroPrimerHAPContent!$B$24:$B$500,B80,ElectroPrimerHAPContent!$C$24:$C$500,C80))","v":""},{"$f":"IF(C80=\"\",\"\",COUNTIFS(Deviations_Work_Practice_Plans!B80:$B$500,B80,Deviations_Work_Practice_Plans!$C80:$C$500,C80))","v":""}]
[null,{"$f":"+Lists!BB59","v":""},{"$f":"+Lists!BC59","v":""},{"$f":"+Lists!BD59","v":""},{"$f":"IF(D81=\"\",\"\",COUNTIFS(Adhes_Sealer_Deadener!$B$24:$B$500,B81,Adhes_Sealer_Deadener!$C$24:$C$500,C81))","v":""},{"$f":"IF(D81=\"\",\"\",COUNTIFS(TopPrim_WorkPractice!$B$24:$B$500,$B81,TopPrim_WorkPractice!$C$24:$C$500,$C81))","v":""},{"$f":"IF(C81=\"\",\"\",COUNTIFS(ElectroPrimerHAPContent!$B$24:$B$500,B81,ElectroPrimerHAPContent!$C$24:$C$500,C81))","v":""},{"$f":"IF(C81=\"\",\"\",COUNTIFS(Deviations_Work_Practice_Plans!B81:$B$500,B81,Deviations_Work_Practice_Plans!$C81:$C$500,C81))","v":""}]
[null,{"$f":"+Lists!BB60","v":""},{"$f":"+Lists!BC60","v":""},{"$f":"+Lists!BD60","v":""},{"$f":"IF(D82=\"\",\"\",COUNTIFS(Adhes_Sealer_Deadener!$B$24:$B$500,B82,Adhes_Sealer_Deadener!$C$24:$C$500,C82))","v":""},{"$f":"IF(D82=\"\",\"\",COUNTIFS(TopPrim_WorkPractice!$B$24:$B$500,$B82,TopPrim_WorkPractice!$C$24:$C$500,$C82))","v":""},{"$f":"IF(C82=\"\",\"\",COUNTIFS(ElectroPrimerHAPContent!$B$24:$B$500,B82,ElectroPrimerHAPContent!$C$24:$C$500,C82))","v":""},{"$f":"IF(C82=\"\",\"\",COUNTIFS(Deviations_Work_Practice_Plans!B82:$B$500,B82,Deviations_Work_Practice_Plans!$C82:$C$500,C82))","v":""}]
[null,{"$f":"+Lists!BB61","v":""},{"$f":"+Lists!BC61","v":""},{"$f":"+Lists!BD61","v":""},{"$f":"IF(D83=\"\",\"\",COUNTIFS(Adhes_Sealer_Deadener!$B$24:$B$500,B83,Adhes_Sealer_Deadener!$C$24:$C$500,C83))","v":""},{"$f":"IF(D83=\"\",\"\",COUNTIFS(TopPrim_WorkPractice!$B$24:$B$500,$B83,TopPrim_WorkPractice!$C$24:$C$500,$C83))","v":""},{"$f":"IF(C83=\"\",\"\",COUNTIFS(ElectroPrimerHAPContent!$B$24:$B$500,B83,ElectroPrimerHAPContent!$C$24:$C$500,C83))","v":""},{"$f":"IF(C83=\"\",\"\",COUNTIFS(Deviations_Work_Practice_Plans!B83:$B$500,B83,Deviations_Work_Practice_Plans!$C83:$C$500,C83))","v":""}]
[null,{"$f":"+Lists!BB62","v":""},{"$f":"+Lists!BC62","v":""},{"$f":"+Lists!BD62","v":""},{"$f":"IF(D84=\"\",\"\",COUNTIFS(Adhes_Sealer_Deadener!$B$24:$B$500,B84,Adhes_Sealer_Deadener!$C$24:$C$500,C84))","v":""},{"$f":"IF(D84=\"\",\"\",COUNTIFS(TopPrim_WorkPractice!$B$24:$B$500,$B84,TopPrim_WorkPractice!$C$24:$C$500,$C84))","v":""},{"$f":"IF(C84=\"\",\"\",COUNTIFS(ElectroPrimerHAPContent!$B$24:$B$500,B84,ElectroPrimerHAPContent!$C$24:$C$500,C84))","v":""},{"$f":"IF(C84=\"\",\"\",COUNTIFS(Deviations_Work_Practice_Plans!B84:$B$500,B84,Deviations_Work_Practice_Plans!$C84:$C$500,C84))","v":""}]
[null,{"$f":"+Lists!BB63","v":""},{"$f":"+Lists!BC63","v":""},{"$f":"+Lists!BD63","v":""},{"$f":"IF(D85=\"\",\"\",COUNTIFS(Adhes_Sealer_Deadener!$B$24:$B$500,B85,Adhes_Sealer_Deadener!$C$24:$C$500,C85))","v":""},{"$f":"IF(D85=\"\",\"\",COUNTIFS(TopPrim_WorkPractice!$B$24:$B$500,$B85,TopPrim_WorkPractice!$C$24:$C$500,$C85))","v":""},{"$f":"IF(C85=\"\",\"\",COUNTIFS(ElectroPrimerHAPContent!$B$24:$B$500,B85,ElectroPrimerHAPContent!$C$24:$C$500,C85))","v":""},{"$f":"IF(C85=\"\",\"\",COUNTIFS(Deviations_Work_Practice_Plans!B85:$B$500,B85,Deviations_Work_Practice_Plans!$C85:$C$500,C85))","v":""}]
[null,{"$f":"+Lists!BB64","v":""},{"$f":"+Lists!BC64","v":""},{"$f":"+Lists!BD64","v":""},{"$f":"IF(D86=\"\",\"\",COUNTIFS(Adhes_Sealer_Deadener!$B$24:$B$500,B86,Adhes_Sealer_Deadener!$C$24:$C$500,C86))","v":""},{"$f":"IF(D86=\"\",\"\",COUNTIFS(TopPrim_WorkPractice!$B$24:$B$500,$B86,TopPrim_WorkPractice!$C$24:$C$500,$C86))","v":""},{"$f":"IF(C86=\"\",\"\",COUNTIFS(ElectroPrimerHAPContent!$B$24:$B$500,B86,ElectroPrimerHAPContent!$C$24:$C$500,C86))","v":""},{"$f":"IF(C86=\"\",\"\",COUNTIFS(Deviations_Work_Practice_Plans!B86:$B$500,B86,Deviations_Work_Practice_Plans!$C86:$C$500,C86))","v":""}]
[null,{"$f":"+Lists!BB65","v":""},{"$f":"+Lists!BC65","v":""},{"$f":"+Lists!BD65","v":""},{"$f":"IF(D87=\"\",\"\",COUNTIFS(Adhes_Sealer_Deadener!$B$24:$B$500,B87,Adhes_Sealer_Deadener!$C$24:$C$500,C87))","v":""},{"$f":"IF(D87=\"\",\"\",COUNTIFS(TopPrim_WorkPractice!$B$24:$B$500,$B87,TopPrim_WorkPractice!$C$24:$C$500,$C87))","v":""},{"$f":"IF(C87=\"\",\"\",COUNTIFS(ElectroPrimerHAPContent!$B$24:$B$500,B87,ElectroPrimerHAPContent!$C$24:$C$500,C87))","v":""},{"$f":"IF(C87=\"\",\"\",COUNTIFS(Deviations_Work_Practice_Plans!B87:$B$500,B87,Deviations_Work_Practice_Plans!$C87:$C$500,C87))","v":""}]
[null,{"$f":"+Lists!BB66","v":""},{"$f":"+Lists!BC66","v":""},{"$f":"+Lists!BD66","v":""},{"$f":"IF(D88=\"\",\"\",COUNTIFS(Adhes_Sealer_Deadener!$B$24:$B$500,B88,Adhes_Sealer_Deadener!$C$24:$C$500,C88))","v":""},{"$f":"IF(D88=\"\",\"\",COUNTIFS(TopPrim_WorkPractice!$B$24:$B$500,$B88,TopPrim_WorkPractice!$C$24:$C$500,$C88))","v":""},{"$f":"IF(C88=\"\",\"\",COUNTIFS(ElectroPrimerHAPContent!$B$24:$B$500,B88,ElectroPrimerHAPContent!$C$24:$C$500,C88))","v":""},{"$f":"IF(C88=\"\",\"\",COUNTIFS(Deviations_Work_Practice_Plans!B88:$B$500,B88,Deviations_Work_Practice_Plans!$C88:$C$500,C88))","v":""}]
[null,{"$f":"+Lists!BB67","v":""},{"$f":"+Lists!BC67","v":""},{"$f":"+Lists!BD67","v":""},{"$f":"IF(D89=\"\",\"\",COUNTIFS(Adhes_Sealer_Deadener!$B$24:$B$500,B89,Adhes_Sealer_Deadener!$C$24:$C$500,C89))","v":""},{"$f":"IF(D89=\"\",\"\",COUNTIFS(TopPrim_WorkPractice!$B$24:$B$500,$B89,TopPrim_WorkPractice!$C$24:$C$500,$C89))","v":""},{"$f":"IF(C89=\"\",\"\",COUNTIFS(ElectroPrimerHAPContent!$B$24:$B$500,B89,ElectroPrimerHAPContent!$C$24:$C$500,C89))","v":""},{"$f":"IF(C89=\"\",\"\",COUNTIFS(Deviations_Work_Practice_Plans!B89:$B$500,B89,Deviations_Work_Practice_Plans!$C89:$C$500,C89))","v":""}]
[null,{"$f":"+Lists!BB68","v":""},{"$f":"+Lists!BC68","v":""},{"$f":"+Lists!BD68","v":""},{"$f":"IF(D90=\"\",\"\",COUNTIFS(Adhes_Sealer_Deadener!$B$24:$B$500,B90,Adhes_Sealer_Deadener!$C$24:$C$500,C90))","v":""},{"$f":"IF(D90=\"\",\"\",COUNTIFS(TopPrim_WorkPractice!$B$24:$B$500,$B90,TopPrim_WorkPractice!$C$24:$C$500,$C90))","v":""},{"$f":"IF(C90=\"\",\"\",COUNTIFS(ElectroPrimerHAPContent!$B$24:$B$500,B90,ElectroPrimerHAPContent!$C$24:$C$500,C90))","v":""},{"$f":"IF(C90=\"\",\"\",COUNTIFS(Deviations_Work_Practice_Plans!B90:$B$500,B90,Deviations_Work_Practice_Plans!$C90:$C$500,C90))","v":""}]
[null,{"$f":"+Lists!BB69","v":""},{"$f":"+Lists!BC69","v":""},{"$f":"+Lists!BD69","v":""},{"$f":"IF(D91=\"\",\"\",COUNTIFS(Adhes_Sealer_Deadener!$B$24:$B$500,B91,Adhes_Sealer_Deadener!$C$24:$C$500,C91))","v":""},{"$f":"IF(D91=\"\",\"\",COUNTIFS(TopPrim_WorkPractice!$B$24:$B$500,$B91,TopPrim_WorkPractice!$C$24:$C$500,$C91))","v":""},{"$f":"IF(C91=\"\",\"\",COUNTIFS(ElectroPrimerHAPContent!$B$24:$B$500,B91,ElectroPrimerHAPContent!$C$24:$C$500,C91))","v":""},{"$f":"IF(C91=\"\",\"\",COUNTIFS(Deviations_Work_Practice_Plans!B91:$B$500,B91,Deviations_Work_Practice_Plans!$C91:$C$500,C91))","v":""}]
[null,{"$f":"+Lists!BB70","v":""},{"$f":"+Lists!BC70","v":""},{"$f":"+Lists!BD70","v":""},{"$f":"IF(D92=\"\",\"\",COUNTIFS(Adhes_Sealer_Deadener!$B$24:$B$500,B92,Adhes_Sealer_Deadener!$C$24:$C$500,C92))","v":""},{"$f":"IF(D92=\"\",\"\",COUNTIFS(TopPrim_WorkPractice!$B$24:$B$500,$B92,TopPrim_WorkPractice!$C$24:$C$500,$C92))","v":""},{"$f":"IF(C92=\"\",\"\",COUNTIFS(ElectroPrimerHAPContent!$B$24:$B$500,B92,ElectroPrimerHAPContent!$C$24:$C$500,C92))","v":""},{"$f":"IF(C92=\"\",\"\",COUNTIFS(Deviations_Work_Practice_Plans!B92:$B$500,B92,Deviations_Work_Practice_Plans!$C92:$C$500,C92))","v":""}]
[null,{"$f":"+Lists!BB71","v":""},{"$f":"+Lists!BC71","v":""},{"$f":"+Lists!BD71","v":""},{"$f":"IF(D93=\"\",\"\",COUNTIFS(Adhes_Sealer_Deadener!$B$24:$B$500,B93,Adhes_Sealer_Deadener!$C$24:$C$500,C93))","v":""},{"$f":"IF(D93=\"\",\"\",COUNTIFS(TopPrim_WorkPractice!$B$24:$B$500,$B93,TopPrim_WorkPractice!$C$24:$C$500,$C93))","v":""},{"$f":"IF(C93=\"\",\"\",COUNTIFS(ElectroPrimerHAPContent!$B$24:$B$500,B93,ElectroPrimerHAPContent!$C$24:$C$500,C93))","v":""},{"$f":"IF(C93=\"\",\"\",COUNTIFS(Deviations_Work_Practice_Plans!B93:$B$500,B93,Deviations_Work_Practice_Plans!$C93:$C$500,C93))","v":""}]
[null,{"$f":"+Lists!BB72","v":""},{"$f":"+Lists!BC72","v":""},{"$f":"+Lists!BD72","v":""},{"$f":"IF(D94=\"\",\"\",COUNTIFS(Adhes_Sealer_Deadener!$B$24:$B$500,B94,Adhes_Sealer_Deadener!$C$24:$C$500,C94))","v":""},{"$f":"IF(D94=\"\",\"\",COUNTIFS(TopPrim_WorkPractice!$B$24:$B$500,$B94,TopPrim_WorkPractice!$C$24:$C$500,$C94))","v":""},{"$f":"IF(C94=\"\",\"\",COUNTIFS(ElectroPrimerHAPContent!$B$24:$B$500,B94,ElectroPrimerHAPContent!$C$24:$C$500,C94))","v":""},{"$f":"IF(C94=\"\",\"\",COUNTIFS(Deviations_Work_Practice_Plans!B94:$B$500,B94,Deviations_Work_Practice_Plans!$C94:$C$500,C94))","v":""}]
[null,{"$f":"+Lists!BB73","v":""},{"$f":"+Lists!BC73","v":""},{"$f":"+Lists!BD73","v":""},{"$f":"IF(D95=\"\",\"\",COUNTIFS(Adhes_Sealer_Deadener!$B$24:$B$500,B95,Adhes_Sealer_Deadener!$C$24:$C$500,C95))","v":""},{"$f":"IF(D95=\"\",\"\",COUNTIFS(TopPrim_WorkPractice!$B$24:$B$500,$B95,TopPrim_WorkPractice!$C$24:$C$500,$C95))","v":""},{"$f":"IF(C95=\"\",\"\",COUNTIFS(ElectroPrimerHAPContent!$B$24:$B$500,B95,ElectroPrimerHAPContent!$C$24:$C$500,C95))","v":""},{"$f":"IF(C95=\"\",\"\",COUNTIFS(Deviations_Work_Practice_Plans!B95:$B$500,B95,Deviations_Work_Practice_Plans!$C95:$C$500,C95))","v":""}]
[null,{"$f":"+Lists!BB74","v":""},{"$f":"+Lists!BC74","v":""},{"$f":"+Lists!BD74","v":""},{"$f":"IF(D96=\"\",\"\",COUNTIFS(Adhes_Sealer_Deadener!$B$24:$B$500,B96,Adhes_Sealer_Deadener!$C$24:$C$500,C96))","v":""},{"$f":"IF(D96=\"\",\"\",COUNTIFS(TopPrim_WorkPractice!$B$24:$B$500,$B96,TopPrim_WorkPractice!$C$24:$C$500,$C96))","v":""},{"$f":"IF(C96=\"\",\"\",COUNTIFS(ElectroPrimerHAPContent!$B$24:$B$500,B96,ElectroPrimerHAPContent!$C$24:$C$500,C96))","v":""},{"$f":"IF(C96=\"\",\"\",COUNTIFS(Deviations_Work_Practice_Plans!B96:$B$500,B96,Deviations_Work_Practice_Plans!$C96:$C$500,C96))","v":""}]
[null,{"$f":"+Lists!BB75","v":""},{"$f":"+Lists!BC75","v":""},{"$f":"+Lists!BD75","v":""},{"$f":"IF(D97=\"\",\"\",COUNTIFS(Adhes_Sealer_Deadener!$B$24:$B$500,B97,Adhes_Sealer_Deadener!$C$24:$C$500,C97))","v":""},{"$f":"IF(D97=\"\",\"\",COUNTIFS(TopPrim_WorkPractice!$B$24:$B$500,$B97,TopPrim_WorkPractice!$C$24:$C$500,$C97))","v":""},{"$f":"IF(C97=\"\",\"\",COUNTIFS(ElectroPrimerHAPContent!$B$24:$B$500,B97,ElectroPrimerHAPContent!$C$24:$C$500,C97))","v":""},{"$f":"IF(C97=\"\",\"\",COUNTIFS(Deviations_Work_Practice_Plans!B97:$B$500,B97,Deviations_Work_Practice_Plans!$C97:$C$500,C97))","v":""}]
[null,{"$f":"+Lists!BB76","v":""},{"$f":"+Lists!BC76","v":""},{"$f":"+Lists!BD76","v":""},{"$f":"IF(D98=\"\",\"\",COUNTIFS(Adhes_Sealer_Deadener!$B$24:$B$500,B98,Adhes_Sealer_Deadener!$C$24:$C$500,C98))","v":""},{"$f":"IF(D98=\"\",\"\",COUNTIFS(TopPrim_WorkPractice!$B$24:$B$500,$B98,TopPrim_WorkPractice!$C$24:$C$500,$C98))","v":""},{"$f":"IF(C98=\"\",\"\",COUNTIFS(ElectroPrimerHAPContent!$B$24:$B$500,B98,ElectroPrimerHAPContent!$C$24:$C$500,C98))","v":""},{"$f":"IF(C98=\"\",\"\",COUNTIFS(Deviations_Work_Practice_Plans!B98:$B$500,B98,Deviations_Work_Practice_Plans!$C98:$C$500,C98))","v":""}]
[null,{"$f":"+Lists!BB77","v":""},{"$f":"+Lists!BC77","v":""},{"$f":"+Lists!BD77","v":""},{"$f":"IF(D99=\"\",\"\",COUNTIFS(Adhes_Sealer_Deadener!$B$24:$B$500,B99,Adhes_Sealer_Deadener!$C$24:$C$500,C99))","v":""},{"$f":"IF(D99=\"\",\"\",COUNTIFS(TopPrim_WorkPractice!$B$24:$B$500,$B99,TopPrim_WorkPractice!$C$24:$C$500,$C99))","v":""},{"$f":"IF(C99=\"\",\"\",COUNTIFS(ElectroPrimerHAPContent!$B$24:$B$500,B99,ElectroPrimerHAPContent!$C$24:$C$500,C99))","v":""},{"$f":"IF(C99=\"\",\"\",COUNTIFS(Deviations_Work_Practice_Plans!B99:$B$500,B99,Deviations_Work_Practice_Plans!$C99:$C$500,C99))","v":""}]
[null,{"$f":"+Lists!BB78","v":""},{"$f":"+Lists!BC78","v":""},{"$f":"+Lists!BD78","v":""},{"$f":"IF(D100=\"\",\"\",COUNTIFS(Adhes_Sealer_Deadener!$B$24:$B$500,B100,Adhes_Sealer_Deadener!$C$24:$C$500,C100))","v":""},{"$f":"IF(D100=\"\",\"\",COUNTIFS(TopPrim_WorkPractice!$B$24:$B$500,$B100,TopPrim_WorkPractice!$C$24:$C$500,$C100))","v":""},{"$f":"IF(C100=\"\",\"\",COUNTIFS(ElectroPrimerHAPContent!$B$24:$B$500,B100,ElectroPrimerHAPContent!$C$24:$C$500,C100))","v":""},{"$f":"IF(C100=\"\",\"\",COUNTIFS(Deviations_Work_Practice_Plans!B100:$B$500,B100,Deviations_Work_Practice_Plans!$C100:$C$500,C100))","v":""}]

{"sheet":"Revisions","index":19,"n_rows":12,"n_cols":3,"rows_kept":12,"cut":false,"hidden":false,"merged":[]}
["40 CFR Part 63, Subpart IIII National Emission Standards for Hazardous Air Pollutants: Surface Coating of Automobiles and Light-Duty Trucks -"]
[" §63.3120(e) and (f) Notification of Compliance and Semiannual Compliance Report Spreadsheet Template"]
["Revision Number","Date","Revisions"]
[1,43529,"Draft version submitted to docket"]
["Draft",44049,"Second draft version, updated to reflect final rule, fixed spelling errors and erroneous regulatory citations, inserted a column at the left on each data entry tab for parsing, added Revision and Mapping tabs, removed NOCS tabs and renamed all tabs to remove the Semiannual prefix, Combined multiple TopPrim tabs with ElecPrim tabs, on multiple tabs, created a combined record for the company record number and affected source/name of operation and other fields to prevent inadvertent mixing of sources with facilities, updated the Number_of_Deviations tab to calculate the number of deviations as appropriate, revised (No Suggestions) to allow for entry of multiple materials and added units columns, added Cause of CPMS Inoperative or Out of Control to TopPrim_CPMS2, corrected the statements on the Certification tab, updated ElectroPrimer to ElectroPrimerHAPContent and added required data fields"]
[2,44201,"Corrected spelling errors and capitalization, revised order of tabs; Welcome tab - revised instructions for Certification; Compliance_Options - the list of compliance options has been amended; ElectroPrimerHAPContent - Revised validation on Cause of Deviation to be free text instead of dropdown, corrected citations, amended Duration of Deviation to allow for manual entry of duration, amended header for identification of material to reflect single material per row ; Adhes_Sealer_Deadener -  revised header for material to indicate that multiple materials are possible in a single row, revise column M to accept kg or lb, with units in cell; PrimTopcoatThinner - amended header for column G to clarify;  ElectroPrimerCaptureControl - Citation in columnsdate and time corrected, affected source removed; OpLimits - Added \"Other (Specify by typing here)\" option to clarify editability of dropdown in column E; OpLimitSummary and CPMSSummary - revised example row to better reflect possible operations; Deviations_Work_Practice_Plans - cleared data validation and format from column E, Column for Cause of Deviation added, revised Total Duration of Downtime to allow for manual entry;  Description_of_Changes - changed Company record No. to dropdown menu; added e.g.: to all blank example cells to enable easy re-hiding if they become visible after filter/sort"]
[2.0099999999999998,44229,"On topPrim_Workpractice, unlocked column D, on Number_of_Deviations added \"(Autofilled)\" to header for all columns, On Certification column D amended the dropdown selection of Not Applicable to \"Not Applicable - This facility does not use a control device\""]
[2.02,44634,"Updated examples on Compliance_Options; updated list of Compliance Options text to reflect New or Existing sources inclusion of Subpart MMMM or PPPP sources as well as adding additional options for Adhesive Sealer and Deadener "]
[2.0299999999999998,44679,"Corrected description of compliance options to correctly indicate new or existing"]
[2.04,44693,"Updated examples on Compliance_Options and Number_of_Deviations tabs, added \"Select from dropdown\" to Compliance_Option tab column D header, corrected header for Company Record Id on Certification tab to state \"Autofilled\", on the Welcome tab updated CBI language  for electronic submittal, updated data validation on zip code to allow for leading 0,  corrected citation in column M and N of ElectroPrimerHAPContent to (iv) instead of (v), corrected font in cell E29 of OpLimitSummary to match the rest of sheet, added header to Revisions tab, corrected alignment in header of column B of Company_Information."]
[2.0499999999999998,45117,"Number_of_Deviations: Corrected calculation in Number of Deviations from Work Practice Plans"]
[2.06,45392,"Revised the welcome tab"]

{"sheet":"Worksheet Map","index":20,"n_rows":18,"n_cols":5,"rows_kept":18,"cut":false,"hidden":true,"merged":[]}
["Worksheet Name","Parent","JSON Key","Parent Primary Key","Child Foreign Key"]
["Company_Information",null,"records"]
["Compliance_Options","records","ComplianceOptions","RecordId","RecordId"]
["Malfunction","records","Malfunction","RecordId","RecordId"]
["Adhes_Sealer_Deadener","records","AdhesSealerDeadener","RecordId","RecordId"]
["ElectroPrimerHAPContent","records","ElectroPrimerHAPContent","RecordId","RecordId"]
["Prim_Topcoat_Thinner","records","PrimTopcoatThinner","RecordId","RecordId"]
["TopPrim_WorkPractice","records","TopPrimWorkPractice","RecordId","RecordId"]
["ElectroPrimerCaptureControl","records","ElectroPrimerCaptureControl","RecordId","RecordId"]
["OpLimit","records","OpLimit","RecordId","RecordId"]
["OpLimitSummary","records","OpLimitSummary","RecordId","RecordId"]
["CPMS1","records","CPMS1","RecordId","RecordId"]
["CPMS2","records","CPMS2","RecordId","RecordId"]
["CPMSSummary","records","CPMSSummary","RecordId","RecordId"]
["Deviations_Work_Practice_Plans","records","DeviationsWorkPracticePlans","RecordId","RecordId"]
["Number_of_Deviations","records","NumberofDeviations","RecordId","RecordId"]
["Description_of_Changes","records","DescriptionofChanges","RecordId","RecordId"]
["Certification","records","Certification","RecordId","RecordId"]