{"text_format":"1","workbook":"xlsx","n_sheets":16,"sheets":["Dialog1","Dialog2","PSI, BEI, EMET Macro","PSI, BEI, EMET Macro2","PSI, BEI, EMET Macro3","PSI, BEI, EMET Macro4","PSI, BEI, EMET Macro5","Instructions","Gas Cylinder Information","Gas Calibration","Instrumental Data","List","ERT_tblcylinv","ERT_tblCals ","ERT_tblRunDataITM","Version"],"not_rendered":{"charts":0,"images":0,"macros":1,"external_links":0,"defined_names":62,"comments":0,"pivot_tables":0},"unopened":[{"sheet":"Dialog1","index":0,"reason":"not_a_worksheet"},{"sheet":"Dialog2","index":1,"reason":"not_a_worksheet"},{"sheet":"PSI, BEI, EMET Macro","index":2,"reason":"part_missing"},{"sheet":"PSI, BEI, EMET Macro2","index":3,"reason":"part_missing"},{"sheet":"PSI, BEI, EMET Macro3","index":4,"reason":"part_missing"},{"sheet":"PSI, BEI, EMET Macro4","index":5,"reason":"part_missing"},{"sheet":"PSI, BEI, EMET Macro5","index":6,"reason":"part_missing"}],"bounds":{"document_bytes":16777216,"sheet_cells":100000,"rows_first":2000,"rows_last":500,"rows_between":2000,"halvings":0,"cell_chars":16384,"cell_head_chars":4096},"cells_cut":0,"cells_raw":0,"read":"whole","date_system":"1904"}

{"sheet":"Instructions","index":7,"n_rows":32,"n_cols":2,"rows_kept":32,"cut":false,"hidden":false,"merged":[[29,0,29,1],[2,0,2,1],[4,0,4,1],[25,0,25,1]]}
[null,"ERT Data Entry Spreadsheet"]
[]
["This workbook is designed for use during the collection of data with instrumental sampling methods (Method 3A, 6C, 7E, 10 25A, 25B).  It is not appropriate for use with manual or isokinetic methods. The workbook is composed of the following tabs Instructions, Gas Clyinder Information, Gas Calibration, Instrumental Data, ERT_tblcylinv, ERT_tblCals and ERT_tblRunDataITM.  The tabs ERT_tblcylinv, ERT_tblCals, and ERT_tblRunDataIT are locked and contain linkages to the data entry tabs."]
[]
["Gas Cylinder Information contains information entered into Section 16 of the Test Plan - Gas Calibration Cylinder Information.  This includes the following: "]
[]
[null,"Enter a unique cylinder ID for each calibration gas component.  Recommended naming convention is type of gas and level of concentration.  For example the IDs \"CC1234 O2 low\" and \"CC1234 CO2 low\" could be entries for the same cylinder containing two gases used for calibrations."]
[null,"Enter the Certification Concentration, Compound/Analyte (use the list in the ERT, for example, oxygen, carbon dioxide, nitrogen oxides), Certification Procedure, Uncertainty Percent, Certification Date and Expiration Date"]
[]
["Gas Calibration"]
[]
[null,"Enter the Location with the exact terminology used in the ERT."]
[null,"Select the Methods which you want to import.  Select Cylinder ID from drop-down, if no list show up, right click and select \"Pick From drop-down list\""]
[null,"The Certificate Values will autofill and Instrument Response needs to be entered."]
[]
["Instrumental Data"]
[]
[null,"Enter the Location with the exact terminology used in the ERT."]
[null,"Select the Method in the same order that the Gas Calibrations were entered."]
[null,"Enter Analyzer and Operating parameters - Units of Measure column will autopopulate from the entry at Operating Units"]
[null,"Enter the Run Number, Date, Start Time, End Time, and the first Zero and Upscale Pre-Test Bias Check, Uncorrected Average, and the Zero and Upscale Post-Test Bias Check."]
[null,"The next run's Zero and Upscale Pre-Test Bias Check will autopopulate from the previous run's Post-Test Bias Check."]
[]
[null,"Importing the ERT Template Into Your Spreadsheet and Linking the Cells"]
[]
["Customizing your spreadsheet into the ERT spreadsheet template."]
[]
[null," Move your custom spreadsheet into the ERT template and save as a new name. To do this, open your spreadsheet and the ERT template.  In your workbood hold the shift key down and click on all the tabs you want copies. All tabs will be highlighted. Right click on the tab and select “move/copy”. Select the ERT import template from the “To book” picklist.  Be sure and check “Create a copy” or these tabs will be moved to ERT template instead of copied.  Select the ok button.  Your tables will now be in the ERT template. "]
[]
["Linking data cells from your spreadsheet to the imported ERT template tabs"]
[]
[null,"Link your data cells with the data cells in the ERT template tbs.  Link the data  for each run to the appropriate ERT tab.    "]

{"sheet":"Gas Cylinder Information","index":8,"n_rows":3,"n_cols":7,"rows_kept":3,"cut":false,"hidden":false,"merged":[]}
["Calibration Gas Cylinder Information"]
["Cylinder ID must be unique to each compound in the blend"]
["Cylinder ID","Certification Concentration","Compound/Analyte","Certification Procedure","Uncertainty Percent","Certification Date","Expiration Date"]

{"sheet":"Gas Calibration","index":9,"n_rows":149,"n_cols":9,"rows_kept":149,"cut":false,"hidden":false,"merged":[]}
[null,"Initial Gas Calibration"]
[]
["Location","Method","Set (number)","Mode","Span","Gas Label","Cylinder ID","Cert Value","Response"]
[null,null,1,"Direct",{"$f":"H7","v":""},"Zero",null,{"$f":"IFERROR(VLOOKUP(G4,'Gas Cylinder Information'!$A$4:B63,2,FALSE),\"\")","v":""}]
[null,null,null,null,null,"Low",null,{"$f":"IFERROR(VLOOKUP(G5,'Gas Cylinder Information'!$A$4:B64,2,FALSE),\"\")","v":""}]
[null,null,null,null,null,"Mid",null,{"$f":"IFERROR(VLOOKUP(G6,'Gas Cylinder Information'!$A$4:B65,2,FALSE),\"\")","v":""}]
[null,null,null,null,null,"High",null,{"$f":"IFERROR(VLOOKUP(G7,'Gas Cylinder Information'!$A$4:B66,2,FALSE),\"\")","v":""}]
[null,null,null,"System",null,"Zero",null,{"$f":"IFERROR(VLOOKUP(G8,'Gas Cylinder Information'!$A$4:B67,2,FALSE),\"\")","v":""}]
[null,null,null,null,null,"Upscale",null,{"$f":"IFERROR(VLOOKUP(G9,'Gas Cylinder Information'!$A$4:B68,2,FALSE),\"\")","v":""}]
[{"$f":"IF(A4=0,\"\",A4)","v":""},null,{"$f":"C4+1","v":2},"Direct",{"$f":"H14","v":""},"Gas Label","Cylinder ID","Cert Value","Response"]
[null,null,null,null,null,"Zero",null,{"$f":"IFERROR(VLOOKUP(G11,'Gas Cylinder Information'!$A$4:B70,2,FALSE),\"\")","v":""}]
[null,null,null,null,null,"Low",null,{"$f":"IFERROR(VLOOKUP(G12,'Gas Cylinder Information'!$A$4:B71,2,FALSE),\"\")","v":""}]
[null,null,null,null,null,"Mid",null,{"$f":"IFERROR(VLOOKUP(G13,'Gas Cylinder Information'!$A$4:B72,2,FALSE),\"\")","v":""}]
[null,null,null,null,null,"High",null,{"$f":"IFERROR(VLOOKUP(G14,'Gas Cylinder Information'!$A$4:B73,2,FALSE),\"\")","v":""}]
[null,null,null,"System",null,"Zero",null,{"$f":"IFERROR(VLOOKUP(G15,'Gas Cylinder Information'!$A$4:B74,2,FALSE),\"\")","v":""}]
[null,null,null,null,null,"Upscale",null,{"$f":"IFERROR(VLOOKUP(G16,'Gas Cylinder Information'!$A$4:B75,2,FALSE),\"\")","v":""}]
[{"$f":"IF(A10=0,\"\",A10)","v":""},null,{"$f":"C10+1","v":3},"Direct",{"$f":"H21","v":""},"Gas Label","Cylinder ID","Cert Value","Response"]
[null,null,null,null,null,"Zero",null,{"$f":"IFERROR(VLOOKUP(G18,'Gas Cylinder Information'!$A$4:B77,2,FALSE),\"\")","v":""}]
[null,null,null,null,null,"Low",null,{"$f":"IFERROR(VLOOKUP(G19,'Gas Cylinder Information'!$A$4:B78,2,FALSE),\"\")","v":""}]
[null,null,null,null,null,"Mid",null,{"$f":"IFERROR(VLOOKUP(G20,'Gas Cylinder Information'!$A$4:B79,2,FALSE),\"\")","v":""}]
[null,null,null,null,null,"High",null,{"$f":"IFERROR(VLOOKUP(G21,'Gas Cylinder Information'!$A$4:B80,2,FALSE),\"\")","v":""}]
[null,null,null,"System",null,"Zero",null,{"$f":"IFERROR(VLOOKUP(G22,'Gas Cylinder Information'!$A$4:B81,2,FALSE),\"\")","v":""}]
[null,null,null,null,null,"Upscale",null,{"$f":"IFERROR(VLOOKUP(G23,'Gas Cylinder Information'!$A$4:B82,2,FALSE),\"\")","v":""}]
[{"$f":"IF(A17=0,\"\",A17)","v":""},null,{"$f":"C17+1","v":4},"Direct",{"$f":"H28","v":""},"Gas Label","Cylinder ID","Cert Value","Response"]
[null,null,null,null,null,"Zero",null,{"$f":"IFERROR(VLOOKUP(G25,'Gas Cylinder Information'!$A$4:B85,2,FALSE),\"\")","v":""}]
[null,null,null,null,null,"Low"]
[null,null,null,null,null,"Mid",null,{"$f":"IFERROR(VLOOKUP(G27,'Gas Cylinder Information'!$A$4:B86,2,FALSE),\"\")","v":""}]
[null,null,null,null,null,"High",null,{"$f":"IFERROR(VLOOKUP(G28,'Gas Cylinder Information'!$A$4:B87,2,FALSE),\"\")","v":""}]
[null,null,null,"System",null,"Zero",null,{"$f":"IFERROR(VLOOKUP(G29,'Gas Cylinder Information'!$A$4:B88,2,FALSE),\"\")","v":""}]
[null,null,null,null,null,"Upscale",null,{"$f":"IFERROR(VLOOKUP(G30,'Gas Cylinder Information'!$A$4:B89,2,FALSE),\"\")","v":""}]
[{"$f":"IF(A24=0,\"\",A24)","v":""},null,{"$f":"C24+1","v":5},"Direct",{"$f":"H35","v":""},"Gas Label","Cylinder ID","Cert Value","Response"]
[null,null,null,null,null,"Zero",null,{"$f":"IFERROR(VLOOKUP(G32,'Gas Cylinder Information'!$A$4:B91,2,FALSE),\"\")","v":""}]
[null,null,null,null,null,"Low",null,{"$f":"IFERROR(VLOOKUP(G33,'Gas Cylinder Information'!$A$4:B92,2,FALSE),\"\")","v":""}]
[null,null,null,null,null,"Mid",null,{"$f":"IFERROR(VLOOKUP(G34,'Gas Cylinder Information'!$A$4:B93,2,FALSE),\"\")","v":""}]
[null,null,null,null,null,"High",null,{"$f":"IFERROR(VLOOKUP(G35,'Gas Cylinder Information'!$A$4:B94,2,FALSE),\"\")","v":""}]
[null,null,null,"System",null,"Zero",null,{"$f":"IFERROR(VLOOKUP(G36,'Gas Cylinder Information'!$A$4:B95,2,FALSE),\"\")","v":""}]
[null,null,null,null,null,"Upscale",null,{"$f":"IFERROR(VLOOKUP(G37,'Gas Cylinder Information'!$A$4:B96,2,FALSE),\"\")","v":""}]
[{"$f":"IF(A31=0,\"\",A31)","v":""},null,{"$f":"C31+1","v":6},"Direct",{"$f":"H42","v":""},"Gas Label","Cylinder ID","Cert Value","Response"]
[null,null,null,null,null,"Zero",null,{"$f":"IFERROR(VLOOKUP(G39,'Gas Cylinder Information'!$A$4:B98,2,FALSE),\"\")","v":""}]
[null,null,null,null,null,"Low",null,{"$f":"IFERROR(VLOOKUP(G40,'Gas Cylinder Information'!$A$4:B99,2,FALSE),\"\")","v":""}]
[null,null,null,null,null,"Mid",null,{"$f":"IFERROR(VLOOKUP(G41,'Gas Cylinder Information'!$A$4:B100,2,FALSE),\"\")","v":""}]
[null,null,null,null,null,"High",null,{"$f":"IFERROR(VLOOKUP(G42,'Gas Cylinder Information'!$A$4:B101,2,FALSE),\"\")","v":""}]
[null,null,null,"System",null,"Zero",null,{"$f":"IFERROR(VLOOKUP(G43,'Gas Cylinder Information'!$A$4:B102,2,FALSE),\"\")","v":""}]
[null,null,null,null,null,"Upscale",null,{"$f":"IFERROR(VLOOKUP(G44,'Gas Cylinder Information'!$A$4:B103,2,FALSE),\"\")","v":""}]
[{"$f":"IF(A38=0,\"\",A38)","v":""},null,{"$f":"C38+1","v":7},"Direct",{"$f":"H49","v":""},"Gas Label","Cylinder ID","Cert Value","Response"]
[null,null,null,null,null,"Zero",null,{"$f":"IFERROR(VLOOKUP(G46,'Gas Cylinder Information'!$A$4:B105,2,FALSE),\"\")","v":""}]
[null,null,null,null,null,"Low",null,{"$f":"IFERROR(VLOOKUP(G47,'Gas Cylinder Information'!$A$4:B106,2,FALSE),\"\")","v":""}]
[null,null,null,null,null,"Mid",null,{"$f":"IFERROR(VLOOKUP(G48,'Gas Cylinder Information'!$A$4:B107,2,FALSE),\"\")","v":""}]
[null,null,null,null,null,"High",null,{"$f":"IFERROR(VLOOKUP(G49,'Gas Cylinder Information'!$A$4:B108,2,FALSE),\"\")","v":""}]
[null,null,null,"System",null,"Zero",null,{"$f":"IFERROR(VLOOKUP(G50,'Gas Cylinder Information'!$A$4:B109,2,FALSE),\"\")","v":""}]
[null,null,null,null,null,"Upscale",null,{"$f":"IFERROR(VLOOKUP(G51,'Gas Cylinder Information'!$A$4:B110,2,FALSE),\"\")","v":""}]
[{"$f":"IF(A45=0,\"\",A45)","v":""},null,{"$f":"C45+1","v":8},"Direct",{"$f":"H56","v":""},"Gas Label","Cylinder ID","Cert Value","Response"]
[null,null,null,null,null,"Zero",null,{"$f":"IFERROR(VLOOKUP(G53,'Gas Cylinder Information'!$A$4:B112,2,FALSE),\"\")","v":""}]
[null,null,null,null,null,"Low",null,{"$f":"IFERROR(VLOOKUP(G54,'Gas Cylinder Information'!$A$4:B113,2,FALSE),\"\")","v":""}]
[null,null,null,null,null,"Mid",null,{"$f":"IFERROR(VLOOKUP(G55,'Gas Cylinder Information'!$A$4:B114,2,FALSE),\"\")","v":""}]
[null,null,null,null,null,"High",null,{"$f":"IFERROR(VLOOKUP(G56,'Gas Cylinder Information'!$A$4:B115,2,FALSE),\"\")","v":""}]
[null,null,null,"System",null,"Zero",null,{"$f":"IFERROR(VLOOKUP(G57,'Gas Cylinder Information'!$A$4:B116,2,FALSE),\"\")","v":""}]
[null,null,null,null,null,"Upscale",null,{"$f":"IFERROR(VLOOKUP(G58,'Gas Cylinder Information'!$A$4:B117,2,FALSE),\"\")","v":""}]
[{"$f":"IF(A52=0,\"\",A52)","v":""},null,{"$f":"C52+1","v":9},"Direct",{"$f":"H63","v":""},"Gas Label","Cylinder ID","Cert Value","Response"]
[null,null,null,null,null,"Zero",null,{"$f":"IFERROR(VLOOKUP(G60,'Gas Cylinder Information'!$A$4:B119,2,FALSE),\"\")","v":""}]
[null,null,null,null,null,"Low",null,{"$f":"IFERROR(VLOOKUP(G61,'Gas Cylinder Information'!$A$4:B120,2,FALSE),\"\")","v":""}]
[null,null,null,null,null,"Mid",null,{"$f":"IFERROR(VLOOKUP(G62,'Gas Cylinder Information'!$A$4:B121,2,FALSE),\"\")","v":""}]
[null,null,null,null,null,"High",null,{"$f":"IFERROR(VLOOKUP(G63,'Gas Cylinder Information'!$A$4:B122,2,FALSE),\"\")","v":""}]
[null,null,null,"System",null,"Zero",null,{"$f":"IFERROR(VLOOKUP(G64,'Gas Cylinder Information'!$A$4:B123,2,FALSE),\"\")","v":""}]
[null,null,null,null,null,"Upscale",null,{"$f":"IFERROR(VLOOKUP(G65,'Gas Cylinder Information'!$A$4:B124,2,FALSE),\"\")","v":""}]
[{"$f":"IF(A59=0,\"\",A59)","v":""},null,{"$f":"C59+1","v":10},"Direct",{"$f":"H70","v":""},"Gas Label","Cylinder ID","Cert Value","Response"]
[null,null,null,null,null,"Zero",null,{"$f":"IFERROR(VLOOKUP(G67,'Gas Cylinder Information'!$A$4:B126,2,FALSE),\"\")","v":""}]
[null,null,null,null,null,"Low",null,{"$f":"IFERROR(VLOOKUP(G68,'Gas Cylinder Information'!$A$4:B127,2,FALSE),\"\")","v":""}]
[null,null,null,null,null,"Mid",null,{"$f":"IFERROR(VLOOKUP(G69,'Gas Cylinder Information'!$A$4:B128,2,FALSE),\"\")","v":""}]
[null,null,null,null,null,"High",null,{"$f":"IFERROR(VLOOKUP(G70,'Gas Cylinder Information'!$A$4:B129,2,FALSE),\"\")","v":""}]
[null,null,null,"System",null,"Zero",null,{"$f":"IFERROR(VLOOKUP(G71,'Gas Cylinder Information'!$A$4:B130,2,FALSE),\"\")","v":""}]
[null,null,null,null,null,"Upscale",null,{"$f":"IFERROR(VLOOKUP(G72,'Gas Cylinder Information'!$A$4:B131,2,FALSE),\"\")","v":""}]
[{"$f":"IF(A66=0,\"\",A66)","v":""},null,{"$f":"C66+1","v":11},"Direct",{"$f":"H77","v":""},"Gas Label","Cylinder ID","Cert Value","Response"]
[null,null,null,null,null,"Zero",null,{"$f":"IFERROR(VLOOKUP(G74,'Gas Cylinder Information'!$A$4:B133,2,FALSE),\"\")","v":""}]
[null,null,null,null,null,"Low",null,{"$f":"IFERROR(VLOOKUP(G75,'Gas Cylinder Information'!$A$4:B134,2,FALSE),\"\")","v":""}]
[null,null,null,null,null,"Mid",null,{"$f":"IFERROR(VLOOKUP(G76,'Gas Cylinder Information'!$A$4:B135,2,FALSE),\"\")","v":""}]
[null,null,null,null,null,"High",null,{"$f":"IFERROR(VLOOKUP(G77,'Gas Cylinder Information'!$A$4:B136,2,FALSE),\"\")","v":""}]
[null,null,null,"System",null,"Zero",null,{"$f":"IFERROR(VLOOKUP(G78,'Gas Cylinder Information'!$A$4:B137,2,FALSE),\"\")","v":""}]
[null,null,null,null,null,"Upscale",null,{"$f":"IFERROR(VLOOKUP(G79,'Gas Cylinder Information'!$A$4:B138,2,FALSE),\"\")","v":""}]
[{"$f":"IF(A73=0,\"\",A73)","v":""},null,{"$f":"C73+1","v":12},"Direct",{"$f":"H84","v":""},"Gas Label","Cylinder ID","Cert Value","Response"]
[null,null,null,null,null,"Zero",null,{"$f":"IFERROR(VLOOKUP(G81,'Gas Cylinder Information'!$A$4:B140,2,FALSE),\"\")","v":""}]
[null,null,null,null,null,"Low",null,{"$f":"IFERROR(VLOOKUP(G82,'Gas Cylinder Information'!$A$4:B141,2,FALSE),\"\")","v":""}]
[null,null,null,null,null,"Mid",null,{"$f":"IFERROR(VLOOKUP(G83,'Gas Cylinder Information'!$A$4:B142,2,FALSE),\"\")","v":""}]
[null,null,null,null,null,"High",null,{"$f":"IFERROR(VLOOKUP(G84,'Gas Cylinder Information'!$A$4:B143,2,FALSE),\"\")","v":""}]
[null,null,null,"System",null,"Zero",null,{"$f":"IFERROR(VLOOKUP(G85,'Gas Cylinder Information'!$A$4:B144,2,FALSE),\"\")","v":""}]
[null,null,null,null,null,"Upscale",null,{"$f":"IFERROR(VLOOKUP(G86,'Gas Cylinder Information'!$A$4:B145,2,FALSE),\"\")","v":""}]
[{"$f":"IF(A80=0,\"\",A80)","v":""},null,{"$f":"C80+1","v":13},"Direct",{"$f":"H91","v":""},"Gas Label","Cylinder ID","Cert Value","Response"]
[null,null,null,null,null,"Zero",null,{"$f":"IFERROR(VLOOKUP(G88,'Gas Cylinder Information'!$A$4:B147,2,FALSE),\"\")","v":""}]
[null,null,null,null,null,"Low",null,{"$f":"IFERROR(VLOOKUP(G89,'Gas Cylinder Information'!$A$4:B148,2,FALSE),\"\")","v":""}]
[null,null,null,null,null,"Mid",null,{"$f":"IFERROR(VLOOKUP(G90,'Gas Cylinder Information'!$A$4:B149,2,FALSE),\"\")","v":""}]
[null,null,null,null,null,"High",null,{"$f":"IFERROR(VLOOKUP(G91,'Gas Cylinder Information'!$A$4:B150,2,FALSE),\"\")","v":""}]
[null,null,null,"System",null,"Zero",null,{"$f":"IFERROR(VLOOKUP(G92,'Gas Cylinder Information'!$A$4:B151,2,FALSE),\"\")","v":""}]
[null,null,null,null,null,"Upscale",null,{"$f":"IFERROR(VLOOKUP(G93,'Gas Cylinder Information'!$A$4:B152,2,FALSE),\"\")","v":""}]
[{"$f":"IF(A87=0,\"\",A87)","v":""},null,{"$f":"C87+1","v":14},"Direct",{"$f":"H98","v":""},"Gas Label","Cylinder ID","Cert Value","Response"]
[null,null,null,null,null,"Zero",null,{"$f":"IFERROR(VLOOKUP(G95,'Gas Cylinder Information'!$A$4:B154,2,FALSE),\"\")","v":""}]
[null,null,null,null,null,"Low",null,{"$f":"IFERROR(VLOOKUP(G96,'Gas Cylinder Information'!$A$4:B155,2,FALSE),\"\")","v":""}]
[null,null,null,null,null,"Mid",null,{"$f":"IFERROR(VLOOKUP(G97,'Gas Cylinder Information'!$A$4:B156,2,FALSE),\"\")","v":""}]
[null,null,null,null,null,"High",null,{"$f":"IFERROR(VLOOKUP(G98,'Gas Cylinder Information'!$A$4:B157,2,FALSE),\"\")","v":""}]
[null,null,null,"System",null,"Zero",null,{"$f":"IFERROR(VLOOKUP(G99,'Gas Cylinder Information'!$A$4:B158,2,FALSE),\"\")","v":""}]
[null,null,null,null,null,"Upscale",null,{"$f":"IFERROR(VLOOKUP(G100,'Gas Cylinder Information'!$A$4:B159,2,FALSE),\"\")","v":""}]
[{"$f":"IF(A94=0,\"\",A94)","v":""},null,{"$f":"C94+1","v":15},"Direct",{"$f":"H105","v":""},"Gas Label","Cylinder ID","Cert Value","Response"]
[null,null,null,null,null,"Zero",null,{"$f":"IFERROR(VLOOKUP(G102,'Gas Cylinder Information'!$A$4:B161,2,FALSE),\"\")","v":""}]
[null,null,null,null,null,"Low",null,{"$f":"IFERROR(VLOOKUP(G103,'Gas Cylinder Information'!$A$4:B162,2,FALSE),\"\")","v":""}]
[null,null,null,null,null,"Mid",null,{"$f":"IFERROR(VLOOKUP(G104,'Gas Cylinder Information'!$A$4:B163,2,FALSE),\"\")","v":""}]
[null,null,null,null,null,"High",null,{"$f":"IFERROR(VLOOKUP(G105,'Gas Cylinder Information'!$A$4:B164,2,FALSE),\"\")","v":""}]
[null,null,null,"System",null,"Zero",null,{"$f":"IFERROR(VLOOKUP(G106,'Gas Cylinder Information'!$A$4:B165,2,FALSE),\"\")","v":""}]
[null,null,null,null,null,"Upscale",null,{"$f":"IFERROR(VLOOKUP(G107,'Gas Cylinder Information'!$A$4:B166,2,FALSE),\"\")","v":""}]
[{"$f":"IF(A101=0,\"\",A101)","v":""},null,{"$f":"C101+1","v":16},"Direct",{"$f":"H112","v":""},"Gas Label","Cylinder ID","Cert Value","Response"]
[null,null,null,null,null,"Zero",null,{"$f":"IFERROR(VLOOKUP(G109,'Gas Cylinder Information'!$A$4:B168,2,FALSE),\"\")","v":""}]
[null,null,null,null,null,"Low",null,{"$f":"IFERROR(VLOOKUP(G110,'Gas Cylinder Information'!$A$4:B169,2,FALSE),\"\")","v":""}]
[null,null,null,null,null,"Mid",null,{"$f":"IFERROR(VLOOKUP(G111,'Gas Cylinder Information'!$A$4:B170,2,FALSE),\"\")","v":""}]
[null,null,null,null,null,"High",null,{"$f":"IFERROR(VLOOKUP(G112,'Gas Cylinder Information'!$A$4:B171,2,FALSE),\"\")","v":""}]
[null,null,null,"System",null,"Zero",null,{"$f":"IFERROR(VLOOKUP(G113,'Gas Cylinder Information'!$A$4:B172,2,FALSE),\"\")","v":""}]
[null,null,null,null,null,"Upscale",null,{"$f":"IFERROR(VLOOKUP(G114,'Gas Cylinder Information'!$A$4:B173,2,FALSE),\"\")","v":""}]
[{"$f":"IF(A108=0,\"\",A108)","v":""},null,{"$f":"C108+1","v":17},"Direct",{"$f":"H119","v":""},"Gas Label","Cylinder ID","Cert Value","Response"]
[null,null,null,null,null,"Zero",null,{"$f":"IFERROR(VLOOKUP(G116,'Gas Cylinder Information'!$A$4:B175,2,FALSE),\"\")","v":""}]
[null,null,null,null,null,"Low",null,{"$f":"IFERROR(VLOOKUP(G117,'Gas Cylinder Information'!$A$4:B176,2,FALSE),\"\")","v":""}]
[null,null,null,null,null,"Mid",null,{"$f":"IFERROR(VLOOKUP(G118,'Gas Cylinder Information'!$A$4:B177,2,FALSE),\"\")","v":""}]
[null,null,null,null,null,"High",null,{"$f":"IFERROR(VLOOKUP(G119,'Gas Cylinder Information'!$A$4:B178,2,FALSE),\"\")","v":""}]
[null,null,null,"System",null,"Zero",null,{"$f":"IFERROR(VLOOKUP(G120,'Gas Cylinder Information'!$A$4:B179,2,FALSE),\"\")","v":""}]
[null,null,null,null,null,"Upscale",null,{"$f":"IFERROR(VLOOKUP(G121,'Gas Cylinder Information'!$A$4:B180,2,FALSE),\"\")","v":""}]
[{"$f":"IF(A115=0,\"\",A115)","v":""},null,{"$f":"C115+1","v":18},"Direct",{"$f":"H126","v":""},"Gas Label","Cylinder ID","Cert Value","Response"]
[null,null,null,null,null,"Zero",null,{"$f":"IFERROR(VLOOKUP(G123,'Gas Cylinder Information'!$A$4:B182,2,FALSE),\"\")","v":""}]
[null,null,null,null,null,"Low",null,{"$f":"IFERROR(VLOOKUP(G124,'Gas Cylinder Information'!$A$4:B183,2,FALSE),\"\")","v":""}]
[null,null,null,null,null,"Mid",null,{"$f":"IFERROR(VLOOKUP(G125,'Gas Cylinder Information'!$A$4:B184,2,FALSE),\"\")","v":""}]
[null,null,null,null,null,"High",null,{"$f":"IFERROR(VLOOKUP(G126,'Gas Cylinder Information'!$A$4:B185,2,FALSE),\"\")","v":""}]
[null,null,null,"System",null,"Zero",null,{"$f":"IFERROR(VLOOKUP(G127,'Gas Cylinder Information'!$A$4:B186,2,FALSE),\"\")","v":""}]
[null,null,null,null,null,"Upscale",null,{"$f":"IFERROR(VLOOKUP(G128,'Gas Cylinder Information'!$A$4:B187,2,FALSE),\"\")","v":""}]
[{"$f":"IF(A122=0,\"\",A122)","v":""},null,{"$f":"C122+1","v":19},"Direct",{"$f":"H133","v":""},"Gas Label","Cylinder ID","Cert Value","Response"]
[null,null,null,null,null,"Zero",null,{"$f":"IFERROR(VLOOKUP(G130,'Gas Cylinder Information'!$A$4:B189,2,FALSE),\"\")","v":""}]
[null,null,null,null,null,"Low",null,{"$f":"IFERROR(VLOOKUP(G131,'Gas Cylinder Information'!$A$4:B190,2,FALSE),\"\")","v":""}]
[null,null,null,null,null,"Mid",null,{"$f":"IFERROR(VLOOKUP(G132,'Gas Cylinder Information'!$A$4:B191,2,FALSE),\"\")","v":""}]
[null,null,null,null,null,"High",null,{"$f":"IFERROR(VLOOKUP(G133,'Gas Cylinder Information'!$A$4:B192,2,FALSE),\"\")","v":""}]
[null,null,null,"System",null,"Zero",null,{"$f":"IFERROR(VLOOKUP(G134,'Gas Cylinder Information'!$A$4:B193,2,FALSE),\"\")","v":""}]
[null,null,null,null,null,"Upscale",null,{"$f":"IFERROR(VLOOKUP(G135,'Gas Cylinder Information'!$A$4:B194,2,FALSE),\"\")","v":""}]
[{"$f":"IF(A129=0,\"\",A129)","v":""},null,{"$f":"C129+1","v":20},"Direct",{"$f":"H140","v":""},"Gas Label","Cylinder ID","Cert Value","Response"]
[null,null,null,null,null,"Zero",null,{"$f":"IFERROR(VLOOKUP(G137,'Gas Cylinder Information'!$A$4:B196,2,FALSE),\"\")","v":""}]
[null,null,null,null,null,"Low",null,{"$f":"IFERROR(VLOOKUP(G138,'Gas Cylinder Information'!$A$4:B197,2,FALSE),\"\")","v":""}]
[null,null,null,null,null,"Mid",null,{"$f":"IFERROR(VLOOKUP(G139,'Gas Cylinder Information'!$A$4:B198,2,FALSE),\"\")","v":""}]
[null,null,null,null,null,"High",null,{"$f":"IFERROR(VLOOKUP(G140,'Gas Cylinder Information'!$A$4:B199,2,FALSE),\"\")","v":""}]
[null,null,null,"System",null,"Zero",null,{"$f":"IFERROR(VLOOKUP(G141,'Gas Cylinder Information'!$A$4:B200,2,FALSE),\"\")","v":""}]
[null,null,null,null,null,"Upscale",null,{"$f":"IFERROR(VLOOKUP(G142,'Gas Cylinder Information'!$A$4:B201,2,FALSE),\"\")","v":""}]
[{"$f":"IF(A136=0,\"\",A136)","v":""},null,{"$f":"C136+1","v":21},"Direct",{"$f":"H147","v":""},"Gas Label","Cylinder ID","Cert Value","Response"]
[null,null,null,null,null,"Zero",null,{"$f":"IFERROR(VLOOKUP(G144,'Gas Cylinder Information'!$A$4:B203,2,FALSE),\"\")","v":""}]
[null,null,null,null,null,"Low",null,{"$f":"IFERROR(VLOOKUP(G145,'Gas Cylinder Information'!$A$4:B204,2,FALSE),\"\")","v":""}]
[null,null,null,null,null,"Mid",null,{"$f":"IFERROR(VLOOKUP(G146,'Gas Cylinder Information'!$A$4:B205,2,FALSE),\"\")","v":""}]
[null,null,null,null,null,"High",null,{"$f":"IFERROR(VLOOKUP(G147,'Gas Cylinder Information'!$A$4:B206,2,FALSE),\"\")","v":""}]
[null,null,null,"System",null,"Zero",null,{"$f":"IFERROR(VLOOKUP(G148,'Gas Cylinder Information'!$A$4:B207,2,FALSE),\"\")","v":""}]
[null,null,null,null,null,"Upscale",null,{"$f":"IFERROR(VLOOKUP(G149,'Gas Cylinder Information'!$A$4:B208,2,FALSE),\"\")","v":""}]

{"sheet":"Instrumental Data","index":10,"n_rows":156,"n_cols":12,"rows_kept":156,"cut":false,"hidden":false,"merged":[[142,6,142,7],[142,10,142,11],[116,6,116,7],[116,10,116,11],[90,6,90,7],[90,10,90,11],[137,2,137,3],[138,2,138,3],[2,2,2,4],[28,2,28,4],[54,2,54,4],[80,2,80,4],[109,1,109,3],[110,2,110,3],[111,2,111,3],[106,2,106,4],[132,2,132,4],[131,2,131,4],[135,1,135,3],[136,2,136,3],[79,2,79,4],[83,1,83,3],[64,10,64,11],[38,6,38,7],[38,10,38,11],[12,10,12,11],[12,6,12,7],[84,2,84,3],[64,6,64,7],[112,2,112,3],[85,2,85,3],[86,2,86,3],[105,2,105,4],[53,2,53,4],[57,1,57,3],[58,2,58,3],[59,2,59,3],[60,2,60,3],[27,2,27,4],[31,1,31,3],[32,2,32,3],[33,2,33,3],[34,2,34,3],[8,2,8,3],[6,2,6,3],[7,2,7,3],[5,1,5,3],[1,2,1,4]]}
[null,null,null,"Start At Row 2 and do not skip a set",null,null,"Fields with formulas"]
[null,"Sample Location"]
[null,"Method"]
[]
[null,"Analyzer",null,null,"Operating Parameters"]
[null,null,null,null,"Operating Range:"]
[null,"Make:",null,null,"Operating Units:"]
[null,"Model:",null,null,"No. Readings/Avg.:"]
[null,"S/N:",null,null,"Time Interval of reading.:"]
[null,null,null,null,"Fuel Type:"]
[null,null,null,null," "]
[null,null,null,null," "]
[null,null,null,null,null,"Calibration","Pre-Test Bias Check",null,"Uncorrected  ","Units of","Post-Test Bias Check"]
[null,"Run Number","Date","Start Time","End Time","Set","Zero","Upscale"," Average","Measure","Zero ","Upscale"]
[null,null,null,null,null,{"$f":"'Gas Calibration'!C4","v":1},null,null,null,{"$f":"IF((B15)=\"\",\"\",F$7)","v":""}]
[null,null,null,null,null,{"$f":"IF((B16)=\"\",\"\",F$15)","v":""},{"$f":"IF((B16)=\"\",\"\",K15)","v":""},{"$f":"IF((B16)=\"\",\"\",L15)","v":""},null,{"$f":"IF((B16)=\"\",\"\",F$7)","v":""}]
[null,null,null,null,null,{"$f":"IF((B17)=\"\",\"\",F$15)","v":""},{"$f":"IF((B17)=\"\",\"\",K16)","v":""},{"$f":"IF((B17)=\"\",\"\",L16)","v":""},null,""]
[null,null,null,null,null,"","","",null,""]
[null,null,null,null,null,"","","",null,""]
[null,null,null,null,null,"","","",null,""]
[null,null,null,null,null,"","","",null,""]
[null,null,null,null,null,"","","",null,""]
[null,null,null,null,null,"","","",null,""]
[null,null,null,null,null,"","","",null,""]
[null,null,null,null,null,"","","",null,""]
[null,null,null,null,null,"","","",null,""]
[]
[null,"Sample Location",{"$f":"IF(C$2=0,\"\",C$2)","v":""}]
[null,"Method"]
[]
[null,"Analyzer",null,null,"Operating Parameters"]
[null,null,null,null,"Operating Range:"]
[null,"Make:",null,null,"Operating Units:"]
[null,"Model:",null,null,"No. Readings/Avg.:"]
[null,"S/N:",null,null,"Time Interval of reading.:"]
[null,null,null,null,"Fuel Type:"]
[null,null,null,null," "]
[null,null,null,null," "]
[null,null,null,null,null,"Calibration","Pre-Test Bias Check",null,"Uncorrected  ","Units of","Post-Test Bias Check"]
[null,"Run Number","Date","Start Time","End Time","Set","Zero","Upscale"," Average","Measure","Zero ","Upscale"]
[null,null,null,null,null,{"$f":"'Gas Calibration'!C10","v":2},null,null,null,{"$f":"IF((B41)=\"\",\"\",F$33)","v":""}]
[null,null,null,null,null,{"$f":"IF((B42)=\"\",\"\",F$41)","v":""},{"$f":"IF((B42)=\"\",\"\",K41)","v":""},{"$f":"IF((B42)=\"\",\"\",L41)","v":""},null,{"$f":"IF((B42)=\"\",\"\",F$33)","v":""}]
[null,null,null,null,null,{"$f":"IF((B43)=\"\",\"\",F$41)","v":""},{"$f":"IF((B43)=\"\",\"\",K42)","v":""},{"$f":"IF((B43)=\"\",\"\",L42)","v":""},null,""]
[null,null,null,null,null,"","","",null,""]
[null,null,null,null,null,"","","",null,""]
[null,null,null,null,null,"","","",null,""]
[null,null,null,null,null,"","","",null,""]
[null,null,null,null,null,"","","",null,""]
[null,null,null,null,null,"","","",null,""]
[null,null,null,null,null,"","","",null,""]
[null,null,null,null,null,"","","",null,""]
[null,null,null,null,null,"","","",null,""]
[]
[null,"Sample Location",{"$f":"IF(C$2=0,\"\",C$2)","v":""}]
[null,"Method"]
[]
[null,"Analyzer",null,null,"Operating Parameters"]
[null,null,null,null,"Operating Range:"]
[null,"Make:",null,null,"Operating Units:"]
[null,"Model:",null,null,"No. Readings/Avg.:"]
[null,"S/N:",null,null,"Time Interval of reading.:"]
[null,null,null,null,"Fuel Type:"]
[null,null,null,null," "]
[null,null,null,null," "]
[null,null,null,null,null,"Calibration","Pre-Test Bias Check",null,"Uncorrected  ","Units of","Post-Test Bias Check"]
[null,"Run Number","Date","Start Time","End Time","Set","Zero","Upscale"," Average","Measure","Zero ","Upscale"]
[null,null,null,null,null,{"$f":"'Gas Calibration'!C17","v":3},null,null,null,{"$f":"IF((B67)=\"\",\"\",F$59)","v":""}]
[null,null,null,null,null,{"$f":"IF((B68)=\"\",\"\",F$67)","v":""},{"$f":"IF((B68)=\"\",\"\",K67)","v":""},{"$f":"IF((B68)=\"\",\"\",L67)","v":""},null,{"$f":"IF((B68)=\"\",\"\",F$59)","v":""}]
[null,null,null,null,null,{"$f":"IF((B69)=\"\",\"\",F$67)","v":""},{"$f":"IF((B69)=\"\",\"\",K68)","v":""},{"$f":"IF((B69)=\"\",\"\",L68)","v":""},null,""]
[null,null,null,null,null,"","","",null,""]
[null,null,null,null,null,"","","",null,""]
[null,null,null,null,null,"","","",null,""]
[null,null,null,null,null,"","","",null,""]
[null,null,null,null,null,"","","",null,""]
[null,null,null,null,null,"","","",null,""]
[null,null,null,null,null,"","","",null,""]
[null,null,null,null,null,"","","",null,""]
[null,null,null,null,null,"","","",null,""]
[]
[null,"Sample Location",{"$f":"IF(C$2=0,\"\",C$2)","v":""}]
[null,"Method"]
[]
[null,"Analyzer",null,null,"Operating Parameters"]
[null,null,null,null,"Operating Range:"]
[null,"Make:",null,null,"Operating Units:"]
[null,"Model:",null,null,"No. Readings/Avg.:"]
[null,"S/N:",null,null,"Time Interval of reading.:"]
[null,null,null,null,"Fuel Type:"]
[null,null,null,null," "]
[null,null,null,null," "]
[null,null,null,null,null,"Calibration","Pre-Test Bias Check",null,"Uncorrected  ","Units of","Post-Test Bias Check"]
[null,"Run Number","Date","Start Time","End Time","Set","Zero","Upscale"," Average","Measure","Zero ","Upscale"]
[null,null,null,null,null,{"$f":"'Gas Calibration'!C24","v":4},null,null,null,{"$f":"IF((B93)=\"\",\"\",F$85)","v":""}]
[null,null,null,null,null,{"$f":"IF((B94)=\"\",\"\",F$93)","v":""},{"$f":"IF((B94)=\"\",\"\",K93)","v":""},{"$f":"IF((B94)=\"\",\"\",L93)","v":""},null,{"$f":"IF((B94)=\"\",\"\",F$85)","v":""}]
[null,null,null,null,null,{"$f":"IF((B95)=\"\",\"\",F$93)","v":""},{"$f":"IF((B95)=\"\",\"\",K94)","v":""},{"$f":"IF((B95)=\"\",\"\",L94)","v":""},null,""]
[null,null,null,null,null,"","","",null,""]
[null,null,null,null,null,"","","",null,""]
[null,null,null,null,null,"","","",null,""]
[null,null,null,null,null,"","","",null,""]
[null,null,null,null,null,"","","",null,""]
[null,null,null,null,null,"","","",null,""]
[null,null,null,null,null,"","","",null,""]
[null,null,null,null,null,"","","",null,""]
[null,null,null,null,null,"","","",null,""]
[]
[null,"Sample Location",{"$f":"IF(C$2=0,\"\",C$2)","v":""}]
[null,"Method"]
[]
[null,"Analyzer",null,null,"Operating Parameters"]
[null,null,null,null,"Operating Range:"]
[null,"Make:",null,null,"Operating Units:"]
[null,"Model:",null,null,"No. Readings/Avg.:"]
[null,"S/N:",null,null,"Time Interval of reading.:"]
[null,null,null,null,"Fuel Type:"]
[null,null,null,null," "]
[null,null,null,null," "]
[null,null,null,null,null,"Calibration","Pre-Test Bias Check",null,"Uncorrected  ","Units of","Post-Test Bias Check"]
[null,"Run Number","Date","Start Time","End Time","Set","Zero","Upscale"," Average","Measure","Zero ","Upscale"]
[null,null,null,null,null,{"$f":"'Gas Calibration'!C31","v":5},null,null,null,{"$f":"IF((B119)=\"\",\"\",F$111)","v":""}]
[null,null,null,null,null,{"$f":"IF((B120)=\"\",\"\",F$119)","v":""},{"$f":"IF((B120)=\"\",\"\",K119)","v":""},{"$f":"IF((B120)=\"\",\"\",L119)","v":""},null,{"$f":"IF((B120)=\"\",\"\",F$111)","v":""}]
[null,null,null,null,null,{"$f":"IF((B121)=\"\",\"\",F$119)","v":""},{"$f":"IF((B121)=\"\",\"\",K120)","v":""},{"$f":"IF((B121)=\"\",\"\",L120)","v":""},null,""]
[null,null,null,null,null,"","","",null,""]
[null,null,null,null,null,"","","",null,""]
[null,null,null,null,null,"","","",null,""]
[null,null,null,null,null,"","","",null,""]
[null,null,null,null,null,"","","",null,""]
[null,null,null,null,null,"","","",null,""]
[null,null,null,null,null,"","","",null,""]
[null,null,null,null,null,"","","",null,""]
[null,null,null,null,null,"","","",null,""]
[]
[null,"Sample Location",{"$f":"IF(C$2=0,\"\",C$2)","v":""}]
[null,"Method"]
[]
[null,"Analyzer",null,null,"Operating Parameters"]
[null,null,null,null,"Operating Range:"]
[null,"Make:",null,null,"Operating Units:"]
[null,"Model:",null,null,"No. Readings/Avg.:"]
[null,"S/N:",null,null,"Time Interval of reading.:"]
[null,null,null,null,"Fuel Type:"]
[null,null,null,null," "]
[null,null,null,null," "]
[null,null,null,null,null,"Calibration","Pre-Test Bias Check",null,"Uncorrected  ","Units of","Post-Test Bias Check"]
[null,"Run Number","Date","Start Time","End Time","Set","Zero","Upscale"," Average","Measure","Zero ","Upscale"]
[null,null,null,null,null,{"$f":"'Gas Calibration'!C38","v":6},null,null,null,{"$f":"IF((B145)=\"\",\"\",F$137)","v":""}]
[null,null,null,null,null,{"$f":"IF((B146)=\"\",\"\",F$145)","v":""},{"$f":"IF((B146)=\"\",\"\",K145)","v":""},{"$f":"IF((B146)=\"\",\"\",L145)","v":""},null,{"$f":"IF((B146)=\"\",\"\",F$137)","v":""}]
[null,null,null,null,null,{"$f":"IF((B147)=\"\",\"\",F$145)","v":""},{"$f":"IF((B147)=\"\",\"\",K146)","v":""},{"$f":"IF((B147)=\"\",\"\",L146)","v":""},null,""]
[null,null,null,null,null,"","","",null,""]
[null,null,null,null,null,"","","",null,""]
[null,null,null,null,null,"","","",null,""]
[null,null,null,null,null,"","","",null,""]
[null,null,null,null,null,"","","",null,""]
[null,null,null,null,null,"","","",null,""]
[null,null,null,null,null,"","","",null,""]
[null,null,null,null,null,"","","",null,""]
[null,null,null,null,null,"","","",null,""]

{"sheet":"List","index":11,"n_rows":500,"n_cols":16,"rows_kept":500,"cut":false,"hidden":true,"merged":[]}
["Method","Compound","Fuel Type","Units of Measure",null,"Column5","Set","Mode","Gas Label","Combo","Cylinder ID",null,"Rank","Cylinder ID","cylinder list","Column1"]
["Method 3A O2","Oxygen","Coal - Anthracite","ppmvd",null,{"$f":"+IF(K2=\"\",\"\",MAX(F1:F$1)+1)","v":""},{"$f":"IF('Gas Calibration'!C$4=\"\",\"\",'Gas Calibration'!C$4)","v":1},{"$f":"IF('Gas Calibration'!D8=\"\",\"\",'Gas Calibration'!D8)","v":"System"},{"$f":"IF('Gas Calibration'!F8=\"\",\"\",'Gas Calibration'!F8)","v":"Zero"},{"$f":"G2&\" \"&H2&I2","v":"1 SystemZero"},{"$f":"IF('Gas Calibration'!G8=\"\",\"\",'Gas Calibration'!G8)","v":""},{"$f":"IF('Gas Calibration'!I8=\"\",\"\",'Gas Calibration'!I8)","v":""},{"$f":"+IF(P2=\"\",\"\",MAX(M1:M$1)+1)","v":""},{"$f":"IF('Gas Cylinder Information'!A4=\"\",\"\",'Gas Cylinder Information'!A4)","v":""},{"$f":"+IFERROR(INDEX(N$2:N$501,MATCH(ROW()-ROW($C$1),M$2:M$501,0)),\"\")","v":""},{"$f":"IF(COUNTIF(N$2:N2,N2)=1,N2,\"\")","v":""}]
["Method 3A CO2","Carbon Dioxide","Coal - Bituminous","ppmvw",null,{"$f":"+IF(K3=\"\",\"\",MAX(F$1:F2)+1)","v":""},{"$f":"IF('Gas Calibration'!C$4=\"\",\"\",'Gas Calibration'!C$4)","v":1},{"$f":"IF('Gas Calibration'!D8=\"\",\"\",'Gas Calibration'!D8)","v":"System"},{"$f":"IF('Gas Calibration'!F9=\"\",\"\",'Gas Calibration'!F9)","v":"Upscale"},"1 SystemUpscale",{"$f":"IF('Gas Calibration'!G9=\"\",\"\",'Gas Calibration'!G9)","v":""},{"$f":"IF('Gas Calibration'!I9=\"\",\"\",'Gas Calibration'!I9)","v":""},{"$f":"+IF(P3=\"\",\"\",MAX(M$1:M2)+1)","v":""},{"$f":"IF('Gas Cylinder Information'!A5=\"\",\"\",'Gas Cylinder Information'!A5)","v":""},"",{"$f":"IF(COUNTIF(N$2:N3,N3)=1,N3,\"\")","v":""}]
["Method 6C","Sulfur Dioxide","Coal - Lignite","ppbvd",null,{"$f":"+IF(K4=\"\",\"\",MAX(F$1:F3)+1)","v":""},{"$f":"IF('Gas Calibration'!C$10=\"\",\"\",'Gas Calibration'!C$10)","v":2},{"$f":"IF('Gas Calibration'!D15=\"\",\"\",'Gas Calibration'!D15)","v":"System"},{"$f":"IF('Gas Calibration'!F15=\"\",\"\",'Gas Calibration'!F15)","v":"Zero"},"2 SystemZero",{"$f":"IF('Gas Calibration'!G15=\"\",\"\",'Gas Calibration'!G15)","v":""},{"$f":"IF('Gas Calibration'!I15=\"\",\"\",'Gas Calibration'!I15)","v":""},{"$f":"+IF(P4=\"\",\"\",MAX(M$1:M3)+1)","v":""},{"$f":"IF('Gas Cylinder Information'!A6=\"\",\"\",'Gas Cylinder Information'!A6)","v":""},"",{"$f":"IF(COUNTIF(N$2:N4,N4)=1,N4,\"\")","v":""}]
["Method 7E","Nitrogen oxides (NOx)","Gas - Butane","ppbvw",null,{"$f":"+IF(K5=\"\",\"\",MAX(F$1:F4)+1)","v":""},{"$f":"IF('Gas Calibration'!C$10=\"\",\"\",'Gas Calibration'!C$10)","v":2},{"$f":"IF('Gas Calibration'!D15=\"\",\"\",'Gas Calibration'!D15)","v":"System"},{"$f":"IF('Gas Calibration'!F16=\"\",\"\",'Gas Calibration'!F16)","v":"Upscale"},"2 SystemUpscale",{"$f":"IF('Gas Calibration'!G16=\"\",\"\",'Gas Calibration'!G16)","v":""},{"$f":"IF('Gas Calibration'!I16=\"\",\"\",'Gas Calibration'!I16)","v":""},{"$f":"+IF(P5=\"\",\"\",MAX(M$1:M4)+1)","v":""},{"$f":"IF('Gas Cylinder Information'!A7=\"\",\"\",'Gas Cylinder Information'!A7)","v":""},"",{"$f":"IF(COUNTIF(N$2:N5,N5)=1,N5,\"\")","v":""}]
["Method 10","Carbon Monoxide","Gas - Natural","pptvd",null,{"$f":"+IF(K6=\"\",\"\",MAX(F$1:F5)+1)","v":""},{"$f":"IF('Gas Calibration'!C17=\"\",\"\",'Gas Calibration'!C17)","v":3},{"$f":"IF('Gas Calibration'!D$22=\"\",\"\",'Gas Calibration'!D$22)","v":"System"},{"$f":"IF('Gas Calibration'!F22=\"\",\"\",'Gas Calibration'!F22)","v":"Zero"},"3 SystemZero",{"$f":"IF('Gas Calibration'!G22=\"\",\"\",'Gas Calibration'!G22)","v":""},{"$f":"IF('Gas Calibration'!I22=\"\",\"\",'Gas Calibration'!I22)","v":""},{"$f":"+IF(P6=\"\",\"\",MAX(M$1:M5)+1)","v":""},{"$f":"IF('Gas Cylinder Information'!A8=\"\",\"\",'Gas Cylinder Information'!A8)","v":""},"",{"$f":"IF(COUNTIF(N$2:N6,N6)=1,N6,\"\")","v":""}]
["Method 25A","Total organic compounds (TOC) as Carbon","Gas - Propane","pptvw",null,{"$f":"+IF(K7=\"\",\"\",MAX(F$1:F6)+1)","v":""},{"$f":"IF('Gas Calibration'!C17=\"\",\"\",'Gas Calibration'!C17)","v":3},{"$f":"IF('Gas Calibration'!D$22=\"\",\"\",'Gas Calibration'!D$22)","v":"System"},{"$f":"IF('Gas Calibration'!F23=\"\",\"\",'Gas Calibration'!F23)","v":"Upscale"},"3 SystemUpscale",{"$f":"IF('Gas Calibration'!G23=\"\",\"\",'Gas Calibration'!G23)","v":""},{"$f":"IF('Gas Calibration'!I23=\"\",\"\",'Gas Calibration'!I23)","v":""},{"$f":"+IF(P7=\"\",\"\",MAX(M$1:M6)+1)","v":""},{"$f":"IF('Gas Cylinder Information'!A9=\"\",\"\",'Gas Cylinder Information'!A9)","v":""},"",{"$f":"IF(COUNTIF(N$2:N7,N7)=1,N7,\"\")","v":""}]
["Method 25B","Total organic compounds (TOC) as Ethane","Municipal","%vd",null,{"$f":"+IF(K8=\"\",\"\",MAX(F$1:F7)+1)","v":""},{"$f":"IF('Gas Calibration'!C$24=\"\",\"\",'Gas Calibration'!C$24)","v":4},{"$f":"IF('Gas Calibration'!D$29=\"\",\"\",'Gas Calibration'!D$29)","v":"System"},{"$f":"IF('Gas Calibration'!F29=\"\",\"\",'Gas Calibration'!F29)","v":"Zero"},"4 SystemZero",{"$f":"IF('Gas Calibration'!G29=\"\",\"\",'Gas Calibration'!G29)","v":""},{"$f":"IF('Gas Calibration'!I29=\"\",\"\",'Gas Calibration'!I29)","v":""},{"$f":"+IF(P8=\"\",\"\",MAX(M$1:M7)+1)","v":""},{"$f":"IF('Gas Cylinder Information'!A10=\"\",\"\",'Gas Cylinder Information'!A10)","v":""},"",{"$f":"IF(COUNTIF(N$2:N8,N8)=1,N8,\"\")","v":""}]
[null,"Total organic compounds (TOC) as Methane","Oil","%vw",null,{"$f":"+IF(K9=\"\",\"\",MAX(F$1:F8)+1)","v":""},{"$f":"IF('Gas Calibration'!C$24=\"\",\"\",'Gas Calibration'!C$24)","v":4},{"$f":"IF('Gas Calibration'!D$29=\"\",\"\",'Gas Calibration'!D$29)","v":"System"},{"$f":"IF('Gas Calibration'!F30=\"\",\"\",'Gas Calibration'!F30)","v":"Upscale"},"4 SystemUpscale",{"$f":"IF('Gas Calibration'!G30=\"\",\"\",'Gas Calibration'!G30)","v":""},{"$f":"IF('Gas Calibration'!I30=\"\",\"\",'Gas Calibration'!I30)","v":""},{"$f":"+IF(P9=\"\",\"\",MAX(M$1:M8)+1)","v":""},{"$f":"IF('Gas Cylinder Information'!A11=\"\",\"\",'Gas Cylinder Information'!A11)","v":""},"",{"$f":"IF(COUNTIF(N$2:N9,N9)=1,N9,\"\")","v":""}]
[null,"Total organic compounds (TOC) as Propane","Override",null,null,{"$f":"+IF(K10=\"\",\"\",MAX(F$1:F9)+1)","v":""},{"$f":"IF('Gas Calibration'!C$31=\"\",\"\",'Gas Calibration'!C$31)","v":5},{"$f":"IF('Gas Calibration'!D$36=\"\",\"\",'Gas Calibration'!D$36)","v":"System"},{"$f":"IF('Gas Calibration'!F36=\"\",\"\",'Gas Calibration'!F36)","v":"Zero"},"5 SystemZero",{"$f":"IF('Gas Calibration'!G36=\"\",\"\",'Gas Calibration'!G36)","v":""},{"$f":"IF('Gas Calibration'!I36=\"\",\"\",'Gas Calibration'!I36)","v":""},{"$f":"+IF(P10=\"\",\"\",MAX(M$1:M9)+1)","v":""},{"$f":"IF('Gas Cylinder Information'!A12=\"\",\"\",'Gas Cylinder Information'!A12)","v":""},"",{"$f":"IF(COUNTIF(N$2:N10,N10)=1,N10,\"\")","v":""}]
[null,null,"Wood",null,null,{"$f":"+IF(K11=\"\",\"\",MAX(F$1:F10)+1)","v":""},{"$f":"IF('Gas Calibration'!C$31=\"\",\"\",'Gas Calibration'!C$31)","v":5},{"$f":"IF('Gas Calibration'!D$36=\"\",\"\",'Gas Calibration'!D$36)","v":"System"},{"$f":"IF('Gas Calibration'!F37=\"\",\"\",'Gas Calibration'!F37)","v":"Upscale"},"5 SystemUpscale",{"$f":"IF('Gas Calibration'!G37=\"\",\"\",'Gas Calibration'!G37)","v":""},{"$f":"IF('Gas Calibration'!I37=\"\",\"\",'Gas Calibration'!I37)","v":""},{"$f":"+IF(P11=\"\",\"\",MAX(M$1:M10)+1)","v":""},{"$f":"IF('Gas Cylinder Information'!A13=\"\",\"\",'Gas Cylinder Information'!A13)","v":""},"",{"$f":"IF(COUNTIF(N$2:N11,N11)=1,N11,\"\")","v":""}]
[null,null,"Wood Bark",null,null,{"$f":"+IF(K12=\"\",\"\",MAX(F$1:F11)+1)","v":""},{"$f":"IF('Gas Calibration'!C$38=\"\",\"\",'Gas Calibration'!C$38)","v":6},{"$f":"IF('Gas Calibration'!D$43=\"\",\"\",'Gas Calibration'!D$43)","v":"System"},{"$f":"IF('Gas Calibration'!F43=\"\",\"\",'Gas Calibration'!F43)","v":"Zero"},"6 SystemZero",{"$f":"IF('Gas Calibration'!G43=\"\",\"\",'Gas Calibration'!G43)","v":""},{"$f":"IF('Gas Calibration'!I43=\"\",\"\",'Gas Calibration'!I43)","v":""},{"$f":"+IF(P12=\"\",\"\",MAX(M$1:M11)+1)","v":""},{"$f":"IF('Gas Cylinder Information'!A14=\"\",\"\",'Gas Cylinder Information'!A14)","v":""},"",{"$f":"IF(COUNTIF(N$2:N12,N12)=1,N12,\"\")","v":""}]
[null,null,null,null,null,{"$f":"+IF(K13=\"\",\"\",MAX(F$1:F12)+1)","v":""},{"$f":"IF('Gas Calibration'!C$38=\"\",\"\",'Gas Calibration'!C$38)","v":6},{"$f":"IF('Gas Calibration'!D$43=\"\",\"\",'Gas Calibration'!D$43)","v":"System"},{"$f":"IF('Gas Calibration'!F44=\"\",\"\",'Gas Calibration'!F44)","v":"Upscale"},"6 SystemUpscale",{"$f":"IF('Gas Calibration'!G44=\"\",\"\",'Gas Calibration'!G44)","v":""},{"$f":"IF('Gas Calibration'!I44=\"\",\"\",'Gas Calibration'!I44)","v":""},{"$f":"+IF(P13=\"\",\"\",MAX(M$1:M12)+1)","v":""},{"$f":"IF('Gas Cylinder Information'!A15=\"\",\"\",'Gas Cylinder Information'!A15)","v":""},"",{"$f":"IF(COUNTIF(N$2:N13,N13)=1,N13,\"\")","v":""}]
[null,null,null,null,null,{"$f":"+IF(K14=\"\",\"\",MAX(F$1:F13)+1)","v":""},{"$f":"IF('Gas Calibration'!C$45=\"\",\"\",'Gas Calibration'!C$45)","v":7},{"$f":"IF('Gas Calibration'!D$50=\"\",\"\",'Gas Calibration'!D$50)","v":"System"},{"$f":"IF('Gas Calibration'!F50=\"\",\"\",'Gas Calibration'!F50)","v":"Zero"},"7 SystemZero",{"$f":"IF('Gas Calibration'!G50=\"\",\"\",'Gas Calibration'!G50)","v":""},{"$f":"IF('Gas Calibration'!I50=\"\",\"\",'Gas Calibration'!I50)","v":""},{"$f":"+IF(P14=\"\",\"\",MAX(M$1:M13)+1)","v":""},{"$f":"IF('Gas Cylinder Information'!A16=\"\",\"\",'Gas Cylinder Information'!A16)","v":""},"",{"$f":"IF(COUNTIF(N$2:N14,N14)=1,N14,\"\")","v":""}]
[null,null,null,null,null,{"$f":"+IF(K15=\"\",\"\",MAX(F$1:F14)+1)","v":""},{"$f":"IF('Gas Calibration'!C$45=\"\",\"\",'Gas Calibration'!C$45)","v":7},{"$f":"IF('Gas Calibration'!D$50=\"\",\"\",'Gas Calibration'!D$50)","v":"System"},{"$f":"IF('Gas Calibration'!F51=\"\",\"\",'Gas Calibration'!F51)","v":"Upscale"},"7 SystemUpscale",{"$f":"IF('Gas Calibration'!G51=\"\",\"\",'Gas Calibration'!G51)","v":""},{"$f":"IF('Gas Calibration'!I51=\"\",\"\",'Gas Calibration'!I51)","v":""},{"$f":"+IF(P15=\"\",\"\",MAX(M$1:M14)+1)","v":""},{"$f":"IF('Gas Cylinder Information'!A17=\"\",\"\",'Gas Cylinder Information'!A17)","v":""},"",{"$f":"IF(COUNTIF(N$2:N15,N15)=1,N15,\"\")","v":""}]
[null,null,null,null,null,{"$f":"+IF(K16=\"\",\"\",MAX(F$1:F15)+1)","v":""},{"$f":"IF('Gas Calibration'!C$52=\"\",\"\",'Gas Calibration'!C$52)","v":8},{"$f":"IF('Gas Calibration'!D$57=\"\",\"\",'Gas Calibration'!D$57)","v":"System"},{"$f":"IF('Gas Calibration'!F57=\"\",\"\",'Gas Calibration'!F57)","v":"Zero"},"8 SystemZero",{"$f":"IF('Gas Calibration'!G57=\"\",\"\",'Gas Calibration'!G57)","v":""},{"$f":"IF('Gas Calibration'!I57=\"\",\"\",'Gas Calibration'!I57)","v":""},{"$f":"+IF(P16=\"\",\"\",MAX(M$1:M15)+1)","v":""},{"$f":"IF('Gas Cylinder Information'!A18=\"\",\"\",'Gas Cylinder Information'!A18)","v":""},"",{"$f":"IF(COUNTIF(N$2:N16,N16)=1,N16,\"\")","v":""}]
[null,null,null,null,null,{"$f":"+IF(K17=\"\",\"\",MAX(F$1:F16)+1)","v":""},{"$f":"IF('Gas Calibration'!C$52=\"\",\"\",'Gas Calibration'!C$52)","v":8},{"$f":"IF('Gas Calibration'!D$57=\"\",\"\",'Gas Calibration'!D$57)","v":"System"},{"$f":"IF('Gas Calibration'!F58=\"\",\"\",'Gas Calibration'!F58)","v":"Upscale"},"8 SystemUpscale",{"$f":"IF('Gas Calibration'!G58=\"\",\"\",'Gas Calibration'!G58)","v":""},{"$f":"IF('Gas Calibration'!I58=\"\",\"\",'Gas Calibration'!I58)","v":""},{"$f":"+IF(P17=\"\",\"\",MAX(M$1:M16)+1)","v":""},{"$f":"IF('Gas Cylinder Information'!A19=\"\",\"\",'Gas Cylinder Information'!A19)","v":""},"",{"$f":"IF(COUNTIF(N$2:N17,N17)=1,N17,\"\")","v":""}]
[null,null,null,null,null,{"$f":"+IF(K18=\"\",\"\",MAX(F$1:F17)+1)","v":""},{"$f":"IF('Gas Calibration'!C$59=\"\",\"\",'Gas Calibration'!C$59)","v":9},{"$f":"IF('Gas Calibration'!D$64=\"\",\"\",'Gas Calibration'!D$64)","v":"System"},{"$f":"IF('Gas Calibration'!F64=\"\",\"\",'Gas Calibration'!F64)","v":"Zero"},"9 SystemZero",{"$f":"IF('Gas Calibration'!G64=\"\",\"\",'Gas Calibration'!G64)","v":""},{"$f":"IF('Gas Calibration'!I64=\"\",\"\",'Gas Calibration'!I64)","v":""},{"$f":"+IF(P18=\"\",\"\",MAX(M$1:M17)+1)","v":""},{"$f":"IF('Gas Cylinder Information'!A20=\"\",\"\",'Gas Cylinder Information'!A20)","v":""},"",{"$f":"IF(COUNTIF(N$2:N18,N18)=1,N18,\"\")","v":""}]
[null,null,null,null,null,{"$f":"+IF(K19=\"\",\"\",MAX(F$1:F18)+1)","v":""},{"$f":"IF('Gas Calibration'!C$59=\"\",\"\",'Gas Calibration'!C$59)","v":9},{"$f":"IF('Gas Calibration'!D$64=\"\",\"\",'Gas Calibration'!D$64)","v":"System"},{"$f":"IF('Gas Calibration'!F65=\"\",\"\",'Gas Calibration'!F65)","v":"Upscale"},"9 SystemUpscale",{"$f":"IF('Gas Calibration'!G65=\"\",\"\",'Gas Calibration'!G65)","v":""},{"$f":"IF('Gas Calibration'!I65=\"\",\"\",'Gas Calibration'!I65)","v":""},{"$f":"+IF(P19=\"\",\"\",MAX(M$1:M18)+1)","v":""},{"$f":"IF('Gas Cylinder Information'!A21=\"\",\"\",'Gas Cylinder Information'!A21)","v":""},"",{"$f":"IF(COUNTIF(N$2:N19,N19)=1,N19,\"\")","v":""}]
[null,null,null,null,null,{"$f":"+IF(K20=\"\",\"\",MAX(F$1:F19)+1)","v":""},{"$f":"IF('Gas Calibration'!C$66=\"\",\"\",'Gas Calibration'!C$66)","v":10},{"$f":"IF('Gas Calibration'!D$71=\"\",\"\",'Gas Calibration'!D$71)","v":"System"},{"$f":"IF('Gas Calibration'!F71=\"\",\"\",'Gas Calibration'!F71)","v":"Zero"},"10 SystemZero",{"$f":"IF('Gas Calibration'!G71=\"\",\"\",'Gas Calibration'!G71)","v":""},{"$f":"IF('Gas Calibration'!I71=\"\",\"\",'Gas Calibration'!I71)","v":""},{"$f":"+IF(P20=\"\",\"\",MAX(M$1:M19)+1)","v":""},{"$f":"IF('Gas Cylinder Information'!A22=\"\",\"\",'Gas Cylinder Information'!A22)","v":""},"",{"$f":"IF(COUNTIF(N$2:N20,N20)=1,N20,\"\")","v":""}]
[null,null,null,null,null,{"$f":"+IF(K21=\"\",\"\",MAX(F$1:F20)+1)","v":""},{"$f":"IF('Gas Calibration'!C$66=\"\",\"\",'Gas Calibration'!C$66)","v":10},{"$f":"IF('Gas Calibration'!D$71=\"\",\"\",'Gas Calibration'!D$71)","v":"System"},{"$f":"IF('Gas Calibration'!F72=\"\",\"\",'Gas Calibration'!F72)","v":"Upscale"},"10 SystemUpscale",{"$f":"IF('Gas Calibration'!G72=\"\",\"\",'Gas Calibration'!G72)","v":""},{"$f":"IF('Gas Calibration'!I72=\"\",\"\",'Gas Calibration'!I72)","v":""},{"$f":"+IF(P21=\"\",\"\",MAX(M$1:M20)+1)","v":""},{"$f":"IF('Gas Cylinder Information'!A23=\"\",\"\",'Gas Cylinder Information'!A23)","v":""},"",{"$f":"IF(COUNTIF(N$2:N21,N21)=1,N21,\"\")","v":""}]
[null,null,null,null,null,{"$f":"+IF(K22=\"\",\"\",MAX(F$1:F21)+1)","v":""},{"$f":"IF('Gas Calibration'!C$73=\"\",\"\",'Gas Calibration'!C$73)","v":11},{"$f":"IF('Gas Calibration'!D$78=\"\",\"\",'Gas Calibration'!D$78)","v":"System"},{"$f":"IF('Gas Calibration'!F78=\"\",\"\",'Gas Calibration'!F78)","v":"Zero"},"11 SystemZero",{"$f":"IF('Gas Calibration'!G78=\"\",\"\",'Gas Calibration'!G78)","v":""},{"$f":"IF('Gas Calibration'!I78=\"\",\"\",'Gas Calibration'!I78)","v":""},{"$f":"+IF(P22=\"\",\"\",MAX(M$1:M21)+1)","v":""},{"$f":"IF('Gas Cylinder Information'!A24=\"\",\"\",'Gas Cylinder Information'!A24)","v":""},"",{"$f":"IF(COUNTIF(N$2:N22,N22)=1,N22,\"\")","v":""}]
[null,null,null,null,null,{"$f":"+IF(K23=\"\",\"\",MAX(F$1:F22)+1)","v":""},{"$f":"IF('Gas Calibration'!C$73=\"\",\"\",'Gas Calibration'!C$73)","v":11},{"$f":"IF('Gas Calibration'!D$78=\"\",\"\",'Gas Calibration'!D$78)","v":"System"},{"$f":"IF('Gas Calibration'!F79=\"\",\"\",'Gas Calibration'!F79)","v":"Upscale"},"11 SystemUpscale",{"$f":"IF('Gas Calibration'!G79=\"\",\"\",'Gas Calibration'!G79)","v":""},{"$f":"IF('Gas Calibration'!I79=\"\",\"\",'Gas Calibration'!I79)","v":""},{"$f":"+IF(P23=\"\",\"\",MAX(M$1:M22)+1)","v":""},{"$f":"IF('Gas Cylinder Information'!A25=\"\",\"\",'Gas Cylinder Information'!A25)","v":""},"",{"$f":"IF(COUNTIF(N$2:N23,N23)=1,N23,\"\")","v":""}]
[null,null,null,null,null,{"$f":"+IF(K24=\"\",\"\",MAX(F$1:F23)+1)","v":""},{"$f":"IF('Gas Calibration'!C$80=\"\",\"\",'Gas Calibration'!C$80)","v":12},{"$f":"IF('Gas Calibration'!D$85=\"\",\"\",'Gas Calibration'!D$85)","v":"System"},{"$f":"IF('Gas Calibration'!F85=\"\",\"\",'Gas Calibration'!F85)","v":"Zero"},"12 SystemZero",{"$f":"IF('Gas Calibration'!G85=\"\",\"\",'Gas Calibration'!G85)","v":""},{"$f":"IF('Gas Calibration'!I85=\"\",\"\",'Gas Calibration'!I85)","v":""},{"$f":"+IF(P24=\"\",\"\",MAX(M$1:M23)+1)","v":""},{"$f":"IF('Gas Cylinder Information'!A26=\"\",\"\",'Gas Cylinder Information'!A26)","v":""},"",{"$f":"IF(COUNTIF(N$2:N24,N24)=1,N24,\"\")","v":""}]
[null,null,null,null,null,{"$f":"+IF(K25=\"\",\"\",MAX(F$1:F24)+1)","v":""},{"$f":"IF('Gas Calibration'!C$80=\"\",\"\",'Gas Calibration'!C$80)","v":12},{"$f":"IF('Gas Calibration'!D$85=\"\",\"\",'Gas Calibration'!D$85)","v":"System"},{"$f":"IF('Gas Calibration'!F86=\"\",\"\",'Gas Calibration'!F86)","v":"Upscale"},"12 SystemUpscale",{"$f":"IF('Gas Calibration'!G86=\"\",\"\",'Gas Calibration'!G86)","v":""},{"$f":"IF('Gas Calibration'!I86=\"\",\"\",'Gas Calibration'!I86)","v":""},{"$f":"+IF(P25=\"\",\"\",MAX(M$1:M24)+1)","v":""},{"$f":"IF('Gas Cylinder Information'!A27=\"\",\"\",'Gas Cylinder Information'!A27)","v":""},"",{"$f":"IF(COUNTIF(N$2:N25,N25)=1,N25,\"\")","v":""}]
[null,null,null,null,null,{"$f":"+IF(K26=\"\",\"\",MAX(F$1:F25)+1)","v":""},{"$f":"IF('Gas Calibration'!C$87=\"\",\"\",'Gas Calibration'!C$87)","v":13},{"$f":"IF('Gas Calibration'!D$92=\"\",\"\",'Gas Calibration'!D$92)","v":"System"},{"$f":"IF('Gas Calibration'!F92=\"\",\"\",'Gas Calibration'!F92)","v":"Zero"},"13 SystemZero",{"$f":"IF('Gas Calibration'!G92=\"\",\"\",'Gas Calibration'!G92)","v":""},{"$f":"IF('Gas Calibration'!I92=\"\",\"\",'Gas Calibration'!I92)","v":""},{"$f":"+IF(P26=\"\",\"\",MAX(M$1:M25)+1)","v":""},{"$f":"IF('Gas Cylinder Information'!A28=\"\",\"\",'Gas Cylinder Information'!A28)","v":""},"",{"$f":"IF(COUNTIF(N$2:N26,N26)=1,N26,\"\")","v":""}]
[null,null,null,null,null,{"$f":"+IF(K27=\"\",\"\",MAX(F$1:F26)+1)","v":""},{"$f":"IF('Gas Calibration'!C$87=\"\",\"\",'Gas Calibration'!C$87)","v":13},{"$f":"IF('Gas Calibration'!D$92=\"\",\"\",'Gas Calibration'!D$92)","v":"System"},{"$f":"IF('Gas Calibration'!F93=\"\",\"\",'Gas Calibration'!F93)","v":"Upscale"},"13 SystemUpscale",{"$f":"IF('Gas Calibration'!G93=\"\",\"\",'Gas Calibration'!G93)","v":""},{"$f":"IF('Gas Calibration'!I93=\"\",\"\",'Gas Calibration'!I93)","v":""},{"$f":"+IF(P27=\"\",\"\",MAX(M$1:M26)+1)","v":""},{"$f":"IF('Gas Cylinder Information'!A29=\"\",\"\",'Gas Cylinder Information'!A29)","v":""},"",{"$f":"IF(COUNTIF(N$2:N27,N27)=1,N27,\"\")","v":""}]
[null,null,null,null,null,{"$f":"+IF(K28=\"\",\"\",MAX(F$1:F27)+1)","v":""},{"$f":"IF('Gas Calibration'!C$94=\"\",\"\",'Gas Calibration'!C$94)","v":14},{"$f":"IF('Gas Calibration'!D$99=\"\",\"\",'Gas Calibration'!D$99)","v":"System"},{"$f":"IF('Gas Calibration'!F99=\"\",\"\",'Gas Calibration'!F99)","v":"Zero"},"14 SystemZero",{"$f":"IF('Gas Calibration'!G99=\"\",\"\",'Gas Calibration'!G99)","v":""},{"$f":"IF('Gas Calibration'!I99=\"\",\"\",'Gas Calibration'!I99)","v":""},{"$f":"+IF(P28=\"\",\"\",MAX(M$1:M27)+1)","v":""},{"$f":"IF('Gas Cylinder Information'!A30=\"\",\"\",'Gas Cylinder Information'!A30)","v":""},"",{"$f":"IF(COUNTIF(N$2:N28,N28)=1,N28,\"\")","v":""}]
[null,null,null,null,null,{"$f":"+IF(K29=\"\",\"\",MAX(F$1:F28)+1)","v":""},{"$f":"IF('Gas Calibration'!C$94=\"\",\"\",'Gas Calibration'!C$94)","v":14},{"$f":"IF('Gas Calibration'!D$99=\"\",\"\",'Gas Calibration'!D$99)","v":"System"},{"$f":"IF('Gas Calibration'!F100=\"\",\"\",'Gas Calibration'!F100)","v":"Upscale"},"14 SystemUpscale",{"$f":"IF('Gas Calibration'!G100=\"\",\"\",'Gas Calibration'!G100)","v":""},{"$f":"IF('Gas Calibration'!I100=\"\",\"\",'Gas Calibration'!I100)","v":""},{"$f":"+IF(P29=\"\",\"\",MAX(M$1:M28)+1)","v":""},{"$f":"IF('Gas Cylinder Information'!A31=\"\",\"\",'Gas Cylinder Information'!A31)","v":""},"",{"$f":"IF(COUNTIF(N$2:N29,N29)=1,N29,\"\")","v":""}]
[null,null,null,null,null,{"$f":"+IF(K30=\"\",\"\",MAX(F$1:F29)+1)","v":""},{"$f":"IF('Gas Calibration'!C$101=\"\",\"\",'Gas Calibration'!C$101)","v":15},{"$f":"IF('Gas Calibration'!D$106=\"\",\"\",'Gas Calibration'!D$106)","v":"System"},{"$f":"IF('Gas Calibration'!F106=\"\",\"\",'Gas Calibration'!F106)","v":"Zero"},"15 SystemZero",{"$f":"IF('Gas Calibration'!G106=\"\",\"\",'Gas Calibration'!G106)","v":""},{"$f":"IF('Gas Calibration'!I106=\"\",\"\",'Gas Calibration'!I106)","v":""},{"$f":"+IF(P30=\"\",\"\",MAX(M$1:M29)+1)","v":""},{"$f":"IF('Gas Cylinder Information'!A32=\"\",\"\",'Gas Cylinder Information'!A32)","v":""},"",{"$f":"IF(COUNTIF(N$2:N30,N30)=1,N30,\"\")","v":""}]
[null,null,null,null,null,{"$f":"+IF(K31=\"\",\"\",MAX(F$1:F30)+1)","v":""},{"$f":"IF('Gas Calibration'!C$101=\"\",\"\",'Gas Calibration'!C$101)","v":15},{"$f":"IF('Gas Calibration'!D$106=\"\",\"\",'Gas Calibration'!D$106)","v":"System"},{"$f":"IF('Gas Calibration'!F107=\"\",\"\",'Gas Calibration'!F107)","v":"Upscale"},"15 SystemUpscale",{"$f":"IF('Gas Calibration'!G107=\"\",\"\",'Gas Calibration'!G107)","v":""},{"$f":"IF('Gas Calibration'!I107=\"\",\"\",'Gas Calibration'!I107)","v":""},{"$f":"+IF(P31=\"\",\"\",MAX(M$1:M30)+1)","v":""},{"$f":"IF('Gas Cylinder Information'!A33=\"\",\"\",'Gas Cylinder Information'!A33)","v":""},"",{"$f":"IF(COUNTIF(N$2:N31,N31)=1,N31,\"\")","v":""}]
[null,null,null,null,null,{"$f":"+IF(K32=\"\",\"\",MAX(F$1:F31)+1)","v":""},{"$f":"IF('Gas Calibration'!C$108=\"\",\"\",'Gas Calibration'!C$108)","v":16},{"$f":"IF('Gas Calibration'!D$113=\"\",\"\",'Gas Calibration'!D$113)","v":"System"},{"$f":"IF('Gas Calibration'!F113=\"\",\"\",'Gas Calibration'!F113)","v":"Zero"},"16 SystemZero",{"$f":"IF('Gas Calibration'!G113=\"\",\"\",'Gas Calibration'!G113)","v":""},{"$f":"IF('Gas Calibration'!I113=\"\",\"\",'Gas Calibration'!I113)","v":""},{"$f":"+IF(P32=\"\",\"\",MAX(M$1:M31)+1)","v":""},{"$f":"IF('Gas Cylinder Information'!A34=\"\",\"\",'Gas Cylinder Information'!A34)","v":""},"",{"$f":"IF(COUNTIF(N$2:N32,N32)=1,N32,\"\")","v":""}]
[null,null,null,null,null,{"$f":"+IF(K33=\"\",\"\",MAX(F$1:F32)+1)","v":""},{"$f":"IF('Gas Calibration'!C$108=\"\",\"\",'Gas Calibration'!C$108)","v":16},{"$f":"IF('Gas Calibration'!D$113=\"\",\"\",'Gas Calibration'!D$113)","v":"System"},{"$f":"IF('Gas Calibration'!F114=\"\",\"\",'Gas Calibration'!F114)","v":"Upscale"},"16 SystemUpscale",{"$f":"IF('Gas Calibration'!G114=\"\",\"\",'Gas Calibration'!G114)","v":""},{"$f":"IF('Gas Calibration'!I114=\"\",\"\",'Gas Calibration'!I114)","v":""},{"$f":"+IF(P33=\"\",\"\",MAX(M$1:M32)+1)","v":""},{"$f":"IF('Gas Cylinder Information'!A35=\"\",\"\",'Gas Cylinder Information'!A35)","v":""},"",{"$f":"IF(COUNTIF(N$2:N33,N33)=1,N33,\"\")","v":""}]
[null,null,null,null,null,{"$f":"+IF(K34=\"\",\"\",MAX(F$1:F33)+1)","v":""},{"$f":"IF('Gas Calibration'!C$115=\"\",\"\",'Gas Calibration'!C$115)","v":17},{"$f":"IF('Gas Calibration'!D$120=\"\",\"\",'Gas Calibration'!D$120)","v":"System"},{"$f":"IF('Gas Calibration'!F120=\"\",\"\",'Gas Calibration'!F120)","v":"Zero"},"17 SystemZero",{"$f":"IF('Gas Calibration'!G120=\"\",\"\",'Gas Calibration'!G120)","v":""},{"$f":"IF('Gas Calibration'!I120=\"\",\"\",'Gas Calibration'!I120)","v":""},{"$f":"+IF(P34=\"\",\"\",MAX(M$1:M33)+1)","v":""},{"$f":"IF('Gas Cylinder Information'!A36=\"\",\"\",'Gas Cylinder Information'!A36)","v":""},"",{"$f":"IF(COUNTIF(N$2:N34,N34)=1,N34,\"\")","v":""}]
[null,null,null,null,null,{"$f":"+IF(K35=\"\",\"\",MAX(F$1:F34)+1)","v":""},{"$f":"IF('Gas Calibration'!C$115=\"\",\"\",'Gas Calibration'!C$115)","v":17},{"$f":"IF('Gas Calibration'!D$120=\"\",\"\",'Gas Calibration'!D$120)","v":"System"},{"$f":"IF('Gas Calibration'!F121=\"\",\"\",'Gas Calibration'!F121)","v":"Upscale"},"17 SystemUpscale",{"$f":"IF('Gas Calibration'!G121=\"\",\"\",'Gas Calibration'!G121)","v":""},{"$f":"IF('Gas Calibration'!I121=\"\",\"\",'Gas Calibration'!I121)","v":""},{"$f":"+IF(P35=\"\",\"\",MAX(M$1:M34)+1)","v":""},{"$f":"IF('Gas Cylinder Information'!A37=\"\",\"\",'Gas Cylinder Information'!A37)","v":""},"",{"$f":"IF(COUNTIF(N$2:N35,N35)=1,N35,\"\")","v":""}]
[null,null,null,null,null,{"$f":"+IF(K36=\"\",\"\",MAX(F$1:F35)+1)","v":""},{"$f":"IF('Gas Calibration'!C$122=\"\",\"\",'Gas Calibration'!C$122)","v":18},{"$f":"IF('Gas Calibration'!D$127=\"\",\"\",'Gas Calibration'!D$127)","v":"System"},{"$f":"IF('Gas Calibration'!F127=\"\",\"\",'Gas Calibration'!F127)","v":"Zero"},"18 SystemZero",{"$f":"IF('Gas Calibration'!G127=\"\",\"\",'Gas Calibration'!G127)","v":""},{"$f":"IF('Gas Calibration'!I127=\"\",\"\",'Gas Calibration'!I127)","v":""},{"$f":"+IF(P36=\"\",\"\",MAX(M$1:M35)+1)","v":""},{"$f":"IF('Gas Cylinder Information'!A38=\"\",\"\",'Gas Cylinder Information'!A38)","v":""},"",{"$f":"IF(COUNTIF(N$2:N36,N36)=1,N36,\"\")","v":""}]
[null,null,null,null,null,{"$f":"+IF(K37=\"\",\"\",MAX(F$1:F36)+1)","v":""},{"$f":"IF('Gas Calibration'!C$122=\"\",\"\",'Gas Calibration'!C$122)","v":18},{"$f":"IF('Gas Calibration'!D$127=\"\",\"\",'Gas Calibration'!D$127)","v":"System"},{"$f":"IF('Gas Calibration'!F128=\"\",\"\",'Gas Calibration'!F128)","v":"Upscale"},"18 SystemUpscale",{"$f":"IF('Gas Calibration'!G128=\"\",\"\",'Gas Calibration'!G128)","v":""},{"$f":"IF('Gas Calibration'!I128=\"\",\"\",'Gas Calibration'!I128)","v":""},{"$f":"+IF(P37=\"\",\"\",MAX(M$1:M36)+1)","v":""},{"$f":"IF('Gas Cylinder Information'!A39=\"\",\"\",'Gas Cylinder Information'!A39)","v":""},"",{"$f":"IF(COUNTIF(N$2:N37,N37)=1,N37,\"\")","v":""}]
[null,null,null,null,null,{"$f":"+IF(K38=\"\",\"\",MAX(F$1:F37)+1)","v":""},{"$f":"IF('Gas Calibration'!C$129=\"\",\"\",'Gas Calibration'!C$129)","v":19},{"$f":"IF('Gas Calibration'!D$134=\"\",\"\",'Gas Calibration'!D$134)","v":"System"},{"$f":"IF('Gas Calibration'!F134=\"\",\"\",'Gas Calibration'!F134)","v":"Zero"},"19 SystemZero",{"$f":"IF('Gas Calibration'!G134=\"\",\"\",'Gas Calibration'!G134)","v":""},{"$f":"IF('Gas Calibration'!I134=\"\",\"\",'Gas Calibration'!I134)","v":""},{"$f":"+IF(P38=\"\",\"\",MAX(M$1:M37)+1)","v":""},{"$f":"IF('Gas Cylinder Information'!A40=\"\",\"\",'Gas Cylinder Information'!A40)","v":""},"",{"$f":"IF(COUNTIF(N$2:N38,N38)=1,N38,\"\")","v":""}]
[null,null,null,null,null,{"$f":"+IF(K39=\"\",\"\",MAX(F$1:F38)+1)","v":""},{"$f":"IF('Gas Calibration'!C$129=\"\",\"\",'Gas Calibration'!C$129)","v":19},{"$f":"IF('Gas Calibration'!D$134=\"\",\"\",'Gas Calibration'!D$134)","v":"System"},{"$f":"IF('Gas Calibration'!F135=\"\",\"\",'Gas Calibration'!F135)","v":"Upscale"},"19 SystemUpscale",{"$f":"IF('Gas Calibration'!G135=\"\",\"\",'Gas Calibration'!G135)","v":""},{"$f":"IF('Gas Calibration'!I135=\"\",\"\",'Gas Calibration'!I135)","v":""},{"$f":"+IF(P39=\"\",\"\",MAX(M$1:M38)+1)","v":""},{"$f":"IF('Gas Cylinder Information'!A41=\"\",\"\",'Gas Cylinder Information'!A41)","v":""},"",{"$f":"IF(COUNTIF(N$2:N39,N39)=1,N39,\"\")","v":""}]
[null,null,null,null,null,{"$f":"+IF(K40=\"\",\"\",MAX(F$1:F39)+1)","v":""},{"$f":"IF('Gas Calibration'!C$136=\"\",\"\",'Gas Calibration'!C$136)","v":20},{"$f":"IF('Gas Calibration'!D$141=\"\",\"\",'Gas Calibration'!D$141)","v":"System"},{"$f":"IF('Gas Calibration'!F141=\"\",\"\",'Gas Calibration'!F141)","v":"Zero"},"20 SystemZero",{"$f":"IF('Gas Calibration'!G141=\"\",\"\",'Gas Calibration'!G141)","v":""},{"$f":"IF('Gas Calibration'!I141=\"\",\"\",'Gas Calibration'!I141)","v":""},{"$f":"+IF(P40=\"\",\"\",MAX(M$1:M39)+1)","v":""},{"$f":"IF('Gas Cylinder Information'!A42=\"\",\"\",'Gas Cylinder Information'!A42)","v":""},"",{"$f":"IF(COUNTIF(N$2:N40,N40)=1,N40,\"\")","v":""}]
[null,null,null,null,null,{"$f":"+IF(K41=\"\",\"\",MAX(F$1:F40)+1)","v":""},{"$f":"IF('Gas Calibration'!C$136=\"\",\"\",'Gas Calibration'!C$136)","v":20},{"$f":"IF('Gas Calibration'!D$141=\"\",\"\",'Gas Calibration'!D$141)","v":"System"},{"$f":"IF('Gas Calibration'!F142=\"\",\"\",'Gas Calibration'!F142)","v":"Upscale"},"20 SystemUpscale",{"$f":"IF('Gas Calibration'!G142=\"\",\"\",'Gas Calibration'!G142)","v":""},{"$f":"IF('Gas Calibration'!I142=\"\",\"\",'Gas Calibration'!I142)","v":""},{"$f":"+IF(P41=\"\",\"\",MAX(M$1:M40)+1)","v":""},{"$f":"IF('Gas Cylinder Information'!A43=\"\",\"\",'Gas Cylinder Information'!A43)","v":""},"",{"$f":"IF(COUNTIF(N$2:N41,N41)=1,N41,\"\")","v":""}]
[null,null,null,null,null,{"$f":"+IF(K42=\"\",\"\",MAX(F$1:F41)+1)","v":""},{"$f":"IF('Gas Calibration'!C$143=\"\",\"\",'Gas Calibration'!C$143)","v":21},{"$f":"IF('Gas Calibration'!D$148=\"\",\"\",'Gas Calibration'!D$148)","v":"System"},{"$f":"IF('Gas Calibration'!F148=\"\",\"\",'Gas Calibration'!F148)","v":"Zero"},"21 SystemZero",{"$f":"IF('Gas Calibration'!G148=\"\",\"\",'Gas Calibration'!G148)","v":""},{"$f":"IF('Gas Calibration'!I148=\"\",\"\",'Gas Calibration'!I148)","v":""},{"$f":"+IF(P42=\"\",\"\",MAX(M$1:M41)+1)","v":""},{"$f":"IF('Gas Cylinder Information'!A44=\"\",\"\",'Gas Cylinder Information'!A44)","v":""},"",{"$f":"IF(COUNTIF(N$2:N42,N42)=1,N42,\"\")","v":""}]
[null,null,null,null,null,{"$f":"+IF(K43=\"\",\"\",MAX(F$1:F42)+1)","v":""},{"$f":"IF('Gas Calibration'!C$143=\"\",\"\",'Gas Calibration'!C$143)","v":21},{"$f":"IF('Gas Calibration'!D$148=\"\",\"\",'Gas Calibration'!D$148)","v":"System"},{"$f":"IF('Gas Calibration'!F149=\"\",\"\",'Gas Calibration'!F149)","v":"Upscale"},"21 SystemUpscale",{"$f":"IF('Gas Calibration'!G149=\"\",\"\",'Gas Calibration'!G149)","v":""},{"$f":"IF('Gas Calibration'!I149=\"\",\"\",'Gas Calibration'!I149)","v":""},{"$f":"+IF(P43=\"\",\"\",MAX(M$1:M42)+1)","v":""},{"$f":"IF('Gas Cylinder Information'!A45=\"\",\"\",'Gas Cylinder Information'!A45)","v":""},"",{"$f":"IF(COUNTIF(N$2:N43,N43)=1,N43,\"\")","v":""}]
[null,null,null,null,null,null,null,null,null,null,null,null,{"$f":"+IF(P44=\"\",\"\",MAX(M$1:M43)+1)","v":""},{"$f":"IF('Gas Cylinder Information'!A46=\"\",\"\",'Gas Cylinder Information'!A46)","v":""},"",{"$f":"IF(COUNTIF(N$2:N44,N44)=1,N44,\"\")","v":""}]
[null,null,null,null,null,null,null,null,null,null,null,null,{"$f":"+IF(P45=\"\",\"\",MAX(M$1:M44)+1)","v":""},{"$f":"IF('Gas Cylinder Information'!A47=\"\",\"\",'Gas Cylinder Information'!A47)","v":""},"",{"$f":"IF(COUNTIF(N$2:N45,N45)=1,N45,\"\")","v":""}]
[null,null,null,null,null,null,null,null,null,null,null,null,{"$f":"+IF(P46=\"\",\"\",MAX(M$1:M45)+1)","v":""},{"$f":"IF('Gas Cylinder Information'!A48=\"\",\"\",'Gas Cylinder Information'!A48)","v":""},"",{"$f":"IF(COUNTIF(N$2:N46,N46)=1,N46,\"\")","v":""}]
[null,null,null,null,null,null,null,null,null,null,null,null,{"$f":"+IF(P47=\"\",\"\",MAX(M$1:M46)+1)","v":""},{"$f":"IF('Gas Cylinder Information'!A49=\"\",\"\",'Gas Cylinder Information'!A49)","v":""},"",{"$f":"IF(COUNTIF(N$2:N47,N47)=1,N47,\"\")","v":""}]
[null,null,null,null,null,null,null,null,null,null,null,null,{"$f":"+IF(P48=\"\",\"\",MAX(M$1:M47)+1)","v":""},{"$f":"IF('Gas Cylinder Information'!A50=\"\",\"\",'Gas Cylinder Information'!A50)","v":""},"",{"$f":"IF(COUNTIF(N$2:N48,N48)=1,N48,\"\")","v":""}]
[null,null,null,null,null,null,null,null,null,null,null,null,{"$f":"+IF(P49=\"\",\"\",MAX(M$1:M48)+1)","v":""},{"$f":"IF('Gas Cylinder Information'!A51=\"\",\"\",'Gas Cylinder Information'!A51)","v":""},"",{"$f":"IF(COUNTIF(N$2:N49,N49)=1,N49,\"\")","v":""}]
[null,null,null,null,null,null,null,null,null,null,null,null,{"$f":"+IF(P50=\"\",\"\",MAX(M$1:M49)+1)","v":""},{"$f":"IF('Gas Cylinder Information'!A52=\"\",\"\",'Gas Cylinder Information'!A52)","v":""},"",{"$f":"IF(COUNTIF(N$2:N50,N50)=1,N50,\"\")","v":""}]
[null,null,null,null,null,null,null,null,null,null,null,null,{"$f":"+IF(P51=\"\",\"\",MAX(M$1:M50)+1)","v":""},{"$f":"IF('Gas Cylinder Information'!A53=\"\",\"\",'Gas Cylinder Information'!A53)","v":""},"",{"$f":"IF(COUNTIF(N$2:N51,N51)=1,N51,\"\")","v":""}]
[null,null,null,null,null,null,null,null,null,null,null,null,{"$f":"+IF(P52=\"\",\"\",MAX(M$1:M51)+1)","v":""},{"$f":"IF('Gas Cylinder Information'!A54=\"\",\"\",'Gas Cylinder Information'!A54)","v":""},"",{"$f":"IF(COUNTIF(N$2:N52,N52)=1,N52,\"\")","v":""}]
[null,null,null,null,null,null,null,null,null,null,null,null,{"$f":"+IF(P53=\"\",\"\",MAX(M$1:M52)+1)","v":""},{"$f":"IF('Gas Cylinder Information'!A55=\"\",\"\",'Gas Cylinder Information'!A55)","v":""},"",{"$f":"IF(COUNTIF(N$2:N53,N53)=1,N53,\"\")","v":""}]
[null,null,null,null,null,null,null,null,null,null,null,null,{"$f":"+IF(P54=\"\",\"\",MAX(M$1:M53)+1)","v":""},{"$f":"IF('Gas Cylinder Information'!A56=\"\",\"\",'Gas Cylinder Information'!A56)","v":""},"",{"$f":"IF(COUNTIF(N$2:N54,N54)=1,N54,\"\")","v":""}]
[null,null,null,null,null,null,null,null,null,null,null,null,{"$f":"+IF(P55=\"\",\"\",MAX(M$1:M54)+1)","v":""},{"$f":"IF('Gas Cylinder Information'!A57=\"\",\"\",'Gas Cylinder Information'!A57)","v":""},"",{"$f":"IF(COUNTIF(N$2:N55,N55)=1,N55,\"\")","v":""}]
[null,null,null,null,null,null,null,null,null,null,null,null,{"$f":"+IF(P56=\"\",\"\",MAX(M$1:M55)+1)","v":""},{"$f":"IF('Gas Cylinder Information'!A58=\"\",\"\",'Gas Cylinder Information'!A58)","v":""},"",{"$f":"IF(COUNTIF(N$2:N56,N56)=1,N56,\"\")","v":""}]
[null,null,null,null,null,null,null,null,null,null,null,null,{"$f":"+IF(P57=\"\",\"\",MAX(M$1:M56)+1)","v":""},{"$f":"IF('Gas Cylinder Information'!A59=\"\",\"\",'Gas Cylinder Information'!A59)","v":""},"",{"$f":"IF(COUNTIF(N$2:N57,N57)=1,N57,\"\")","v":""}]
[null,null,null,null,null,null,null,null,null,null,null,null,{"$f":"+IF(P58=\"\",\"\",MAX(M$1:M57)+1)","v":""},{"$f":"IF('Gas Cylinder Information'!A60=\"\",\"\",'Gas Cylinder Information'!A60)","v":""},"",{"$f":"IF(COUNTIF(N$2:N58,N58)=1,N58,\"\")","v":""}]
[null,null,null,null,null,null,null,null,null,null,null,null,{"$f":"+IF(P59=\"\",\"\",MAX(M$1:M58)+1)","v":""},{"$f":"IF('Gas Cylinder Information'!A61=\"\",\"\",'Gas Cylinder Information'!A61)","v":""},"",{"$f":"IF(COUNTIF(N$2:N59,N59)=1,N59,\"\")","v":""}]
[null,null,null,null,null,null,null,null,null,null,null,null,{"$f":"+IF(P60=\"\",\"\",MAX(M$1:M59)+1)","v":""},{"$f":"IF('Gas Cylinder Information'!A62=\"\",\"\",'Gas Cylinder Information'!A62)","v":""},"",{"$f":"IF(COUNTIF(N$2:N60,N60)=1,N60,\"\")","v":""}]
[null,null,null,null,null,null,null,null,null,null,null,null,{"$f":"+IF(P61=\"\",\"\",MAX(M$1:M60)+1)","v":""},{"$f":"IF('Gas Cylinder Information'!A63=\"\",\"\",'Gas Cylinder Information'!A63)","v":""},"",{"$f":"IF(COUNTIF(N$2:N61,N61)=1,N61,\"\")","v":""}]
[null,null,null,null,null,null,null,null,null,null,null,null,{"$f":"+IF(P62=\"\",\"\",MAX(M$1:M61)+1)","v":""},{"$f":"IF('Gas Cylinder Information'!A64=\"\",\"\",'Gas Cylinder Information'!A64)","v":""},"",{"$f":"IF(COUNTIF(N$2:N62,N62)=1,N62,\"\")","v":""}]
[null,null,null,null,null,null,null,null,null,null,null,null,{"$f":"+IF(P63=\"\",\"\",MAX(M$1:M62)+1)","v":""},{"$f":"IF('Gas Cylinder Information'!A65=\"\",\"\",'Gas Cylinder Information'!A65)","v":""},"",{"$f":"IF(COUNTIF(N$2:N63,N63)=1,N63,\"\")","v":""}]
[null,null,null,null,null,null,null,null,null,null,null,null,{"$f":"+IF(P64=\"\",\"\",MAX(M$1:M63)+1)","v":""},{"$f":"IF('Gas Cylinder Information'!A66=\"\",\"\",'Gas Cylinder Information'!A66)","v":""},"",{"$f":"IF(COUNTIF(N$2:N64,N64)=1,N64,\"\")","v":""}]
[null,null,null,null,null,null,null,null,null,null,null,null,{"$f":"+IF(P65=\"\",\"\",MAX(M$1:M64)+1)","v":""},{"$f":"IF('Gas Cylinder Information'!A67=\"\",\"\",'Gas Cylinder Information'!A67)","v":""},"",{"$f":"IF(COUNTIF(N$2:N65,N65)=1,N65,\"\")","v":""}]
[null,null,null,null,null,null,null,null,null,null,null,null,{"$f":"+IF(P66=\"\",\"\",MAX(M$1:M65)+1)","v":""},{"$f":"IF('Gas Cylinder Information'!A68=\"\",\"\",'Gas Cylinder Information'!A68)","v":""},{"$f":"+IFERROR(INDEX(N$2:N$501,MATCH(ROW()-ROW($C$1),M$2:M$501,0)),\"\")","v":""},{"$f":"IF(COUNTIF(N$2:N66,N66)=1,N66,\"\")","v":""}]
[null,null,null,null,null,null,null,null,null,null,null,null,{"$f":"+IF(P67=\"\",\"\",MAX(M$1:M66)+1)","v":""},{"$f":"IF('Gas Cylinder Information'!A69=\"\",\"\",'Gas Cylinder Information'!A69)","v":""},"",{"$f":"IF(COUNTIF(N$2:N67,N67)=1,N67,\"\")","v":""}]
[null,null,null,null,null,null,null,null,null,null,null,null,{"$f":"+IF(P68=\"\",\"\",MAX(M$1:M67)+1)","v":""},{"$f":"IF('Gas Cylinder Information'!A70=\"\",\"\",'Gas Cylinder Information'!A70)","v":""},"",{"$f":"IF(COUNTIF(N$2:N68,N68)=1,N68,\"\")","v":""}]
[null,null,null,null,null,null,null,null,null,null,null,null,{"$f":"+IF(P69=\"\",\"\",MAX(M$1:M68)+1)","v":""},{"$f":"IF('Gas Cylinder Information'!A71=\"\",\"\",'Gas Cylinder Information'!A71)","v":""},"",{"$f":"IF(COUNTIF(N$2:N69,N69)=1,N69,\"\")","v":""}]
[null,null,null,null,null,null,null,null,null,null,null,null,{"$f":"+IF(P70=\"\",\"\",MAX(M$1:M69)+1)","v":""},{"$f":"IF('Gas Cylinder Information'!A72=\"\",\"\",'Gas Cylinder Information'!A72)","v":""},"",{"$f":"IF(COUNTIF(N$2:N70,N70)=1,N70,\"\")","v":""}]
[null,null,null,null,null,null,null,null,null,null,null,null,{"$f":"+IF(P71=\"\",\"\",MAX(M$1:M70)+1)","v":""},{"$f":"IF('Gas Cylinder Information'!A73=\"\",\"\",'Gas Cylinder Information'!A73)","v":""},"",{"$f":"IF(COUNTIF(N$2:N71,N71)=1,N71,\"\")","v":""}]
[null,null,null,null,null,null,null,null,null,null,null,null,{"$f":"+IF(P72=\"\",\"\",MAX(M$1:M71)+1)","v":""},{"$f":"IF('Gas Cylinder Information'!A74=\"\",\"\",'Gas Cylinder Information'!A74)","v":""},"",{"$f":"IF(COUNTIF(N$2:N72,N72)=1,N72,\"\")","v":""}]
[null,null,null,null,null,null,null,null,null,null,null,null,{"$f":"+IF(P73=\"\",\"\",MAX(M$1:M72)+1)","v":""},{"$f":"IF('Gas Cylinder Information'!A75=\"\",\"\",'Gas Cylinder Information'!A75)","v":""},"",{"$f":"IF(COUNTIF(N$2:N73,N73)=1,N73,\"\")","v":""}]
[null,null,null,null,null,null,null,null,null,null,null,null,{"$f":"+IF(P74=\"\",\"\",MAX(M$1:M73)+1)","v":""},{"$f":"IF('Gas Cylinder Information'!A76=\"\",\"\",'Gas Cylinder Information'!A76)","v":""},"",{"$f":"IF(COUNTIF(N$2:N74,N74)=1,N74,\"\")","v":""}]
[null,null,null,null,null,null,null,null,null,null,null,null,{"$f":"+IF(P75=\"\",\"\",MAX(M$1:M74)+1)","v":""},{"$f":"IF('Gas Cylinder Information'!A77=\"\",\"\",'Gas Cylinder Information'!A77)","v":""},"",{"$f":"IF(COUNTIF(N$2:N75,N75)=1,N75,\"\")","v":""}]
[null,null,null,null,null,null,null,null,null,null,null,null,{"$f":"+IF(P76=\"\",\"\",MAX(M$1:M75)+1)","v":""},{"$f":"IF('Gas Cylinder Information'!A78=\"\",\"\",'Gas Cylinder Information'!A78)","v":""},"",{"$f":"IF(COUNTIF(N$2:N76,N76)=1,N76,\"\")","v":""}]
[null,null,null,null,null,null,null,null,null,null,null,null,{"$f":"+IF(P77=\"\",\"\",MAX(M$1:M76)+1)","v":""},{"$f":"IF('Gas Cylinder Information'!A79=\"\",\"\",'Gas Cylinder Information'!A79)","v":""},"",{"$f":"IF(COUNTIF(N$2:N77,N77)=1,N77,\"\")","v":""}]
[null,null,null,null,null,null,null,null,null,null,null,null,{"$f":"+IF(P78=\"\",\"\",MAX(M$1:M77)+1)","v":""},{"$f":"IF('Gas Cylinder Information'!A80=\"\",\"\",'Gas Cylinder Information'!A80)","v":""},"",{"$f":"IF(COUNTIF(N$2:N78,N78)=1,N78,\"\")","v":""}]
[null,null,null,null,null,null,null,null,null,null,null,null,{"$f":"+IF(P79=\"\",\"\",MAX(M$1:M78)+1)","v":""},{"$f":"IF('Gas Cylinder Information'!A81=\"\",\"\",'Gas Cylinder Information'!A81)","v":""},"",{"$f":"IF(COUNTIF(N$2:N79,N79)=1,N79,\"\")","v":""}]
[null,null,null,null,null,null,null,null,null,null,null,null,{"$f":"+IF(P80=\"\",\"\",MAX(M$1:M79)+1)","v":""},{"$f":"IF('Gas Cylinder Information'!A82=\"\",\"\",'Gas Cylinder Information'!A82)","v":""},"",{"$f":"IF(COUNTIF(N$2:N80,N80)=1,N80,\"\")","v":""}]
[null,null,null,null,null,null,null,null,null,null,null,null,{"$f":"+IF(P81=\"\",\"\",MAX(M$1:M80)+1)","v":""},{"$f":"IF('Gas Cylinder Information'!A83=\"\",\"\",'Gas Cylinder Information'!A83)","v":""},"",{"$f":"IF(COUNTIF(N$2:N81,N81)=1,N81,\"\")","v":""}]
[null,null,null,null,null,null,null,null,null,null,null,null,{"$f":"+IF(P82=\"\",\"\",MAX(M$1:M81)+1)","v":""},{"$f":"IF('Gas Cylinder Information'!A84=\"\",\"\",'Gas Cylinder Information'!A84)","v":""},"",{"$f":"IF(COUNTIF(N$2:N82,N82)=1,N82,\"\")","v":""}]
[null,null,null,null,null,null,null,null,null,null,null,null,{"$f":"+IF(P83=\"\",\"\",MAX(M$1:M82)+1)","v":""},{"$f":"IF('Gas Cylinder Information'!A85=\"\",\"\",'Gas Cylinder Information'!A85)","v":""},"",{"$f":"IF(COUNTIF(N$2:N83,N83)=1,N83,\"\")","v":""}]
[null,null,null,null,null,null,null,null,null,null,null,null,{"$f":"+IF(P84=\"\",\"\",MAX(M$1:M83)+1)","v":""},{"$f":"IF('Gas Cylinder Information'!A86=\"\",\"\",'Gas Cylinder Information'!A86)","v":""},"",{"$f":"IF(COUNTIF(N$2:N84,N84)=1,N84,\"\")","v":""}]
[null,null,null,null,null,null,null,null,null,null,null,null,{"$f":"+IF(P85=\"\",\"\",MAX(M$1:M84)+1)","v":""},{"$f":"IF('Gas Cylinder Information'!A87=\"\",\"\",'Gas Cylinder Information'!A87)","v":""},"",{"$f":"IF(COUNTIF(N$2:N85,N85)=1,N85,\"\")","v":""}]
[null,null,null,null,null,null,null,null,null,null,null,null,{"$f":"+IF(P86=\"\",\"\",MAX(M$1:M85)+1)","v":""},{"$f":"IF('Gas Cylinder Information'!A88=\"\",\"\",'Gas Cylinder Information'!A88)","v":""},"",{"$f":"IF(COUNTIF(N$2:N86,N86)=1,N86,\"\")","v":""}]
[null,null,null,null,null,null,null,null,null,null,null,null,{"$f":"+IF(P87=\"\",\"\",MAX(M$1:M86)+1)","v":""},{"$f":"IF('Gas Cylinder Information'!A89=\"\",\"\",'Gas Cylinder Information'!A89)","v":""},"",{"$f":"IF(COUNTIF(N$2:N87,N87)=1,N87,\"\")","v":""}]
[null,null,null,null,null,null,null,null,null,null,null,null,{"$f":"+IF(P88=\"\",\"\",MAX(M$1:M87)+1)","v":""},{"$f":"IF('Gas Cylinder Information'!A90=\"\",\"\",'Gas Cylinder Information'!A90)","v":""},"",{"$f":"IF(COUNTIF(N$2:N88,N88)=1,N88,\"\")","v":""}]
[null,null,null,null,null,null,null,null,null,null,null,null,{"$f":"+IF(P89=\"\",\"\",MAX(M$1:M88)+1)","v":""},{"$f":"IF('Gas Cylinder Information'!A91=\"\",\"\",'Gas Cylinder Information'!A91)","v":""},"",{"$f":"IF(COUNTIF(N$2:N89,N89)=1,N89,\"\")","v":""}]
[null,null,null,null,null,null,null,null,null,null,null,null,{"$f":"+IF(P90=\"\",\"\",MAX(M$1:M89)+1)","v":""},{"$f":"IF('Gas Cylinder Information'!A92=\"\",\"\",'Gas Cylinder Information'!A92)","v":""},"",{"$f":"IF(COUNTIF(N$2:N90,N90)=1,N90,\"\")","v":""}]
[null,null,null,null,null,null,null,null,null,null,null,null,{"$f":"+IF(P91=\"\",\"\",MAX(M$1:M90)+1)","v":""},{"$f":"IF('Gas Cylinder Information'!A93=\"\",\"\",'Gas Cylinder Information'!A93)","v":""},"",{"$f":"IF(COUNTIF(N$2:N91,N91)=1,N91,\"\")","v":""}]
[null,null,null,null,null,null,null,null,null,null,null,null,{"$f":"+IF(P92=\"\",\"\",MAX(M$1:M91)+1)","v":""},{"$f":"IF('Gas Cylinder Information'!A94=\"\",\"\",'Gas Cylinder Information'!A94)","v":""},"",{"$f":"IF(COUNTIF(N$2:N92,N92)=1,N92,\"\")","v":""}]
[null,null,null,null,null,null,null,null,null,null,null,null,{"$f":"+IF(P93=\"\",\"\",MAX(M$1:M92)+1)","v":""},{"$f":"IF('Gas Cylinder Information'!A95=\"\",\"\",'Gas Cylinder Information'!A95)","v":""},"",{"$f":"IF(COUNTIF(N$2:N93,N93)=1,N93,\"\")","v":""}]
[null,null,null,null,null,null,null,null,null,null,null,null,{"$f":"+IF(P94=\"\",\"\",MAX(M$1:M93)+1)","v":""},{"$f":"IF('Gas Cylinder Information'!A96=\"\",\"\",'Gas Cylinder Information'!A96)","v":""},"",{"$f":"IF(COUNTIF(N$2:N94,N94)=1,N94,\"\")","v":""}]
[null,null,null,null,null,null,null,null,null,null,null,null,{"$f":"+IF(P95=\"\",\"\",MAX(M$1:M94)+1)","v":""},{"$f":"IF('Gas Cylinder Information'!A97=\"\",\"\",'Gas Cylinder Information'!A97)","v":""},"",{"$f":"IF(COUNTIF(N$2:N95,N95)=1,N95,\"\")","v":""}]
[null,null,null,null,null,null,null,null,null,null,null,null,{"$f":"+IF(P96=\"\",\"\",MAX(M$1:M95)+1)","v":""},{"$f":"IF('Gas Cylinder Information'!A98=\"\",\"\",'Gas Cylinder Information'!A98)","v":""},"",{"$f":"IF(COUNTIF(N$2:N96,N96)=1,N96,\"\")","v":""}]
[null,null,null,null,null,null,null,null,null,null,null,null,{"$f":"+IF(P97=\"\",\"\",MAX(M$1:M96)+1)","v":""},{"$f":"IF('Gas Cylinder Information'!A99=\"\",\"\",'Gas Cylinder Information'!A99)","v":""},"",{"$f":"IF(COUNTIF(N$2:N97,N97)=1,N97,\"\")","v":""}]
[null,null,null,null,null,null,null,null,null,null,null,null,{"$f":"+IF(P98=\"\",\"\",MAX(M$1:M97)+1)","v":""},{"$f":"IF('Gas Cylinder Information'!A100=\"\",\"\",'Gas Cylinder Information'!A100)","v":""},"",{"$f":"IF(COUNTIF(N$2:N98,N98)=1,N98,\"\")","v":""}]
[null,null,null,null,null,null,null,null,null,null,null,null,{"$f":"+IF(P99=\"\",\"\",MAX(M$1:M98)+1)","v":""},{"$f":"IF('Gas Cylinder Information'!A101=\"\",\"\",'Gas Cylinder Information'!A101)","v":""},"",{"$f":"IF(COUNTIF(N$2:N99,N99)=1,N99,\"\")","v":""}]
[null,null,null,null,null,null,null,null,null,null,null,null,{"$f":"+IF(P100=\"\",\"\",MAX(M$1:M99)+1)","v":""},{"$f":"IF('Gas Cylinder Information'!A102=\"\",\"\",'Gas Cylinder Information'!A102)","v":""},"",{"$f":"IF(COUNTIF(N$2:N100,N100)=1,N100,\"\")","v":""}]
[null,null,null,null,null,null,null,null,null,null,null,null,{"$f":"+IF(P101=\"\",\"\",MAX(M$1:M100)+1)","v":""},{"$f":"IF('Gas Cylinder Information'!A103=\"\",\"\",'Gas Cylinder Information'!A103)","v":""},"",{"$f":"IF(COUNTIF(N$2:N101,N101)=1,N101,\"\")","v":""}]
[null,null,null,null,null,null,null,null,null,null,null,null,{"$f":"+IF(P102=\"\",\"\",MAX(M$1:M101)+1)","v":""},{"$f":"IF('Gas Cylinder Information'!A104=\"\",\"\",'Gas Cylinder Information'!A104)","v":""},"",{"$f":"IF(COUNTIF(N$2:N102,N102)=1,N102,\"\")","v":""}]
[null,null,null,null,null,null,null,null,null,null,null,null,{"$f":"+IF(P103=\"\",\"\",MAX(M$1:M102)+1)","v":""},{"$f":"IF('Gas Cylinder Information'!A105=\"\",\"\",'Gas Cylinder Information'!A105)","v":""},"",{"$f":"IF(COUNTIF(N$2:N103,N103)=1,N103,\"\")","v":""}]
[null,null,null,null,null,null,null,null,null,null,null,null,{"$f":"+IF(P104=\"\",\"\",MAX(M$1:M103)+1)","v":""},{"$f":"IF('Gas Cylinder Information'!A106=\"\",\"\",'Gas Cylinder Information'!A106)","v":""},"",{"$f":"IF(COUNTIF(N$2:N104,N104)=1,N104,\"\")","v":""}]
[null,null,null,null,null,null,null,null,null,null,null,null,{"$f":"+IF(P105=\"\",\"\",MAX(M$1:M104)+1)","v":""},{"$f":"IF('Gas Cylinder Information'!A107=\"\",\"\",'Gas Cylinder Information'!A107)","v":""},"",{"$f":"IF(COUNTIF(N$2:N105,N105)=1,N105,\"\")","v":""}]
[null,null,null,null,null,null,null,null,null,null,null,null,{"$f":"+IF(P106=\"\",\"\",MAX(M$1:M105)+1)","v":""},{"$f":"IF('Gas Cylinder Information'!A108=\"\",\"\",'Gas Cylinder Information'!A108)","v":""},"",{"$f":"IF(COUNTIF(N$2:N106,N106)=1,N106,\"\")","v":""}]
[null,null,null,null,null,null,null,null,null,null,null,null,{"$f":"+IF(P107=\"\",\"\",MAX(M$1:M106)+1)","v":""},{"$f":"IF('Gas Cylinder Information'!A109=\"\",\"\",'Gas Cylinder Information'!A109)","v":""},"",{"$f":"IF(COUNTIF(N$2:N107,N107)=1,N107,\"\")","v":""}]
[null,null,null,null,null,null,null,null,null,null,null,null,{"$f":"+IF(P108=\"\",\"\",MAX(M$1:M107)+1)","v":""},{"$f":"IF('Gas Cylinder Information'!A110=\"\",\"\",'Gas Cylinder Information'!A110)","v":""},"",{"$f":"IF(COUNTIF(N$2:N108,N108)=1,N108,\"\")","v":""}]
[null,null,null,null,null,null,null,null,null,null,null,null,{"$f":"+IF(P109=\"\",\"\",MAX(M$1:M108)+1)","v":""},{"$f":"IF('Gas Cylinder Information'!A111=\"\",\"\",'Gas Cylinder Information'!A111)","v":""},"",{"$f":"IF(COUNTIF(N$2:N109,N109)=1,N109,\"\")","v":""}]
[null,null,null,null,null,null,null,null,null,null,null,null,{"$f":"+IF(P110=\"\",\"\",MAX(M$1:M109)+1)","v":""},{"$f":"IF('Gas Cylinder Information'!A112=\"\",\"\",'Gas Cylinder Information'!A112)","v":""},"",{"$f":"IF(COUNTIF(N$2:N110,N110)=1,N110,\"\")","v":""}]
[null,null,null,null,null,null,null,null,null,null,null,null,{"$f":"+IF(P111=\"\",\"\",MAX(M$1:M110)+1)","v":""},{"$f":"IF('Gas Cylinder Information'!A113=\"\",\"\",'Gas Cylinder Information'!A113)","v":""},"",{"$f":"IF(COUNTIF(N$2:N111,N111)=1,N111,\"\")","v":""}]
[null,null,null,null,null,null,null,null,null,null,null,null,{"$f":"+IF(P112=\"\",\"\",MAX(M$1:M111)+1)","v":""},{"$f":"IF('Gas Cylinder Information'!A114=\"\",\"\",'Gas Cylinder Information'!A114)","v":""},"",{"$f":"IF(COUNTIF(N$2:N112,N112)=1,N112,\"\")","v":""}]
[null,null,null,null,null,null,null,null,null,null,null,null,{"$f":"+IF(P113=\"\",\"\",MAX(M$1:M112)+1)","v":""},{"$f":"IF('Gas Cylinder Information'!A115=\"\",\"\",'Gas Cylinder Information'!A115)","v":""},"",{"$f":"IF(COUNTIF(N$2:N113,N113)=1,N113,\"\")","v":""}]
[null,null,null,null,null,null,null,null,null,null,null,null,{"$f":"+IF(P114=\"\",\"\",MAX(M$1:M113)+1)","v":""},{"$f":"IF('Gas Cylinder Information'!A116=\"\",\"\",'Gas Cylinder Information'!A116)","v":""},"",{"$f":"IF(COUNTIF(N$2:N114,N114)=1,N114,\"\")","v":""}]
[null,null,null,null,null,null,null,null,null,null,null,null,{"$f":"+IF(P115=\"\",\"\",MAX(M$1:M114)+1)","v":""},{"$f":"IF('Gas Cylinder Information'!A117=\"\",\"\",'Gas Cylinder Information'!A117)","v":""},"",{"$f":"IF(COUNTIF(N$2:N115,N115)=1,N115,\"\")","v":""}]
[null,null,null,null,null,null,null,null,null,null,null,null,{"$f":"+IF(P116=\"\",\"\",MAX(M$1:M115)+1)","v":""},{"$f":"IF('Gas Cylinder Information'!A118=\"\",\"\",'Gas Cylinder Information'!A118)","v":""},"",{"$f":"IF(COUNTIF(N$2:N116,N116)=1,N116,\"\")","v":""}]
[null,null,null,null,null,null,null,null,null,null,null,null,{"$f":"+IF(P117=\"\",\"\",MAX(M$1:M116)+1)","v":""},{"$f":"IF('Gas Cylinder Information'!A119=\"\",\"\",'Gas Cylinder Information'!A119)","v":""},"",{"$f":"IF(COUNTIF(N$2:N117,N117)=1,N117,\"\")","v":""}]
[null,null,null,null,null,null,null,null,null,null,null,null,{"$f":"+IF(P118=\"\",\"\",MAX(M$1:M117)+1)","v":""},{"$f":"IF('Gas Cylinder Information'!A120=\"\",\"\",'Gas Cylinder Information'!A120)","v":""},"",{"$f":"IF(COUNTIF(N$2:N118,N118)=1,N118,\"\")","v":""}]
[null,null,null,null,null,null,null,null,null,null,null,null,{"$f":"+IF(P119=\"\",\"\",MAX(M$1:M118)+1)","v":""},{"$f":"IF('Gas Cylinder Information'!A121=\"\",\"\",'Gas Cylinder Information'!A121)","v":""},"",{"$f":"IF(COUNTIF(N$2:N119,N119)=1,N119,\"\")","v":""}]
[null,null,null,null,null,null,null,null,null,null,null,null,{"$f":"+IF(P120=\"\",\"\",MAX(M$1:M119)+1)","v":""},{"$f":"IF('Gas Cylinder Information'!A122=\"\",\"\",'Gas Cylinder Information'!A122)","v":""},"",{"$f":"IF(COUNTIF(N$2:N120,N120)=1,N120,\"\")","v":""}]
[null,null,null,null,null,null,null,null,null,null,null,null,{"$f":"+IF(P121=\"\",\"\",MAX(M$1:M120)+1)","v":""},{"$f":"IF('Gas Cylinder Information'!A123=\"\",\"\",'Gas Cylinder Information'!A123)","v":""},"",{"$f":"IF(COUNTIF(N$2:N121,N121)=1,N121,\"\")","v":""}]
[null,null,null,null,null,null,null,null,null,null,null,null,{"$f":"+IF(P122=\"\",\"\",MAX(M$1:M121)+1)","v":""},{"$f":"IF('Gas Cylinder Information'!A124=\"\",\"\",'Gas Cylinder Information'!A124)","v":""},"",{"$f":"IF(COUNTIF(N$2:N122,N122)=1,N122,\"\")","v":""}]
[null,null,null,null,null,null,null,null,null,null,null,null,{"$f":"+IF(P123=\"\",\"\",MAX(M$1:M122)+1)","v":""},{"$f":"IF('Gas Cylinder Information'!A125=\"\",\"\",'Gas Cylinder Information'!A125)","v":""},"",{"$f":"IF(COUNTIF(N$2:N123,N123)=1,N123,\"\")","v":""}]
[null,null,null,null,null,null,null,null,null,null,null,null,{"$f":"+IF(P124=\"\",\"\",MAX(M$1:M123)+1)","v":""},{"$f":"IF('Gas Cylinder Information'!A126=\"\",\"\",'Gas Cylinder Information'!A126)","v":""},"",{"$f":"IF(COUNTIF(N$2:N124,N124)=1,N124,\"\")","v":""}]
[null,null,null,null,null,null,null,null,null,null,null,null,{"$f":"+IF(P125=\"\",\"\",MAX(M$1:M124)+1)","v":""},{"$f":"IF('Gas Cylinder Information'!A127=\"\",\"\",'Gas Cylinder Information'!A127)","v":""},"",{"$f":"IF(COUNTIF(N$2:N125,N125)=1,N125,\"\")","v":""}]
[null,null,null,null,null,null,null,null,null,null,null,null,{"$f":"+IF(P126=\"\",\"\",MAX(M$1:M125)+1)","v":""},{"$f":"IF('Gas Cylinder Information'!A128=\"\",\"\",'Gas Cylinder Information'!A128)","v":""},"",{"$f":"IF(COUNTIF(N$2:N126,N126)=1,N126,\"\")","v":""}]
[null,null,null,null,null,null,null,null,null,null,null,null,{"$f":"+IF(P127=\"\",\"\",MAX(M$1:M126)+1)","v":""},{"$f":"IF('Gas Cylinder Information'!A129=\"\",\"\",'Gas Cylinder Information'!A129)","v":""},"",{"$f":"IF(COUNTIF(N$2:N127,N127)=1,N127,\"\")","v":""}]
[null,null,null,null,null,null,null,null,null,null,null,null,{"$f":"+IF(P128=\"\",\"\",MAX(M$1:M127)+1)","v":""},{"$f":"IF('Gas Cylinder Information'!A130=\"\",\"\",'Gas Cylinder Information'!A130)","v":""},"",{"$f":"IF(COUNTIF(N$2:N128,N128)=1,N128,\"\")","v":""}]
[null,null,null,null,null,null,null,null,null,null,null,null,{"$f":"+IF(P129=\"\",\"\",MAX(M$1:M128)+1)","v":""},{"$f":"IF('Gas Cylinder Information'!A131=\"\",\"\",'Gas Cylinder Information'!A131)","v":""},"",{"$f":"IF(COUNTIF(N$2:N129,N129)=1,N129,\"\")","v":""}]
[null,null,null,null,null,null,null,null,null,null,null,null,{"$f":"+IF(P130=\"\",\"\",MAX(M$1:M129)+1)","v":""},{"$f":"IF('Gas Cylinder Information'!A132=\"\",\"\",'Gas Cylinder Information'!A132)","v":""},{"$f":"+IFERROR(INDEX(N$2:N$501,MATCH(ROW()-ROW($C$1),M$2:M$501,0)),\"\")","v":""},{"$f":"IF(COUNTIF(N$2:N130,N130)=1,N130,\"\")","v":""}]
[null,null,null,null,null,null,null,null,null,null,null,null,{"$f":"+IF(P131=\"\",\"\",MAX(M$1:M130)+1)","v":""},{"$f":"IF('Gas Cylinder Information'!A133=\"\",\"\",'Gas Cylinder Information'!A133)","v":""},"",{"$f":"IF(COUNTIF(N$2:N131,N131)=1,N131,\"\")","v":""}]
[null,null,null,null,null,null,null,null,null,null,null,null,{"$f":"+IF(P132=\"\",\"\",MAX(M$1:M131)+1)","v":""},{"$f":"IF('Gas Cylinder Information'!A134=\"\",\"\",'Gas Cylinder Information'!A134)","v":""},"",{"$f":"IF(COUNTIF(N$2:N132,N132)=1,N132,\"\")","v":""}]
[null,null,null,null,null,null,null,null,null,null,null,null,{"$f":"+IF(P133=\"\",\"\",MAX(M$1:M132)+1)","v":""},{"$f":"IF('Gas Cylinder Information'!A135=\"\",\"\",'Gas Cylinder Information'!A135)","v":""},"",{"$f":"IF(COUNTIF(N$2:N133,N133)=1,N133,\"\")","v":""}]
[null,null,null,null,null,null,null,null,null,null,null,null,{"$f":"+IF(P134=\"\",\"\",MAX(M$1:M133)+1)","v":""},{"$f":"IF('Gas Cylinder Information'!A136=\"\",\"\",'Gas Cylinder Information'!A136)","v":""},"",{"$f":"IF(COUNTIF(N$2:N134,N134)=1,N134,\"\")","v":""}]
[null,null,null,null,null,null,null,null,null,null,null,null,{"$f":"+IF(P135=\"\",\"\",MAX(M$1:M134)+1)","v":""},{"$f":"IF('Gas Cylinder Information'!A137=\"\",\"\",'Gas Cylinder Information'!A137)","v":""},"",{"$f":"IF(COUNTIF(N$2:N135,N135)=1,N135,\"\")","v":""}]
[null,null,null,null,null,null,null,null,null,null,null,null,{"$f":"+IF(P136=\"\",\"\",MAX(M$1:M135)+1)","v":""},{"$f":"IF('Gas Cylinder Information'!A138=\"\",\"\",'Gas Cylinder Information'!A138)","v":""},"",{"$f":"IF(COUNTIF(N$2:N136,N136)=1,N136,\"\")","v":""}]
[null,null,null,null,null,null,null,null,null,null,null,null,{"$f":"+IF(P137=\"\",\"\",MAX(M$1:M136)+1)","v":""},{"$f":"IF('Gas Cylinder Information'!A139=\"\",\"\",'Gas Cylinder Information'!A139)","v":""},"",{"$f":"IF(COUNTIF(N$2:N137,N137)=1,N137,\"\")","v":""}]
[null,null,null,null,null,null,null,null,null,null,null,null,{"$f":"+IF(P138=\"\",\"\",MAX(M$1:M137)+1)","v":""},{"$f":"IF('Gas Cylinder Information'!A140=\"\",\"\",'Gas Cylinder Information'!A140)","v":""},"",{"$f":"IF(COUNTIF(N$2:N138,N138)=1,N138,\"\")","v":""}]
[null,null,null,null,null,null,null,null,null,null,null,null,{"$f":"+IF(P139=\"\",\"\",MAX(M$1:M138)+1)","v":""},{"$f":"IF('Gas Cylinder Information'!A141=\"\",\"\",'Gas Cylinder Information'!A141)","v":""},"",{"$f":"IF(COUNTIF(N$2:N139,N139)=1,N139,\"\")","v":""}]
[null,null,null,null,null,null,null,null,null,null,null,null,{"$f":"+IF(P140=\"\",\"\",MAX(M$1:M139)+1)","v":""},{"$f":"IF('Gas Cylinder Information'!A142=\"\",\"\",'Gas Cylinder Information'!A142)","v":""},"",{"$f":"IF(COUNTIF(N$2:N140,N140)=1,N140,\"\")","v":""}]
[null,null,null,null,null,null,null,null,null,null,null,null,{"$f":"+IF(P141=\"\",\"\",MAX(M$1:M140)+1)","v":""},{"$f":"IF('Gas Cylinder Information'!A143=\"\",\"\",'Gas Cylinder Information'!A143)","v":""},"",{"$f":"IF(COUNTIF(N$2:N141,N141)=1,N141,\"\")","v":""}]
[null,null,null,null,null,null,null,null,null,null,null,null,{"$f":"+IF(P142=\"\",\"\",MAX(M$1:M141)+1)","v":""},{"$f":"IF('Gas Cylinder Information'!A144=\"\",\"\",'Gas Cylinder Information'!A144)","v":""},"",{"$f":"IF(COUNTIF(N$2:N142,N142)=1,N142,\"\")","v":""}]
[null,null,null,null,null,null,null,null,null,null,null,null,{"$f":"+IF(P143=\"\",\"\",MAX(M$1:M142)+1)","v":""},{"$f":"IF('Gas Cylinder Information'!A145=\"\",\"\",'Gas Cylinder Information'!A145)","v":""},"",{"$f":"IF(COUNTIF(N$2:N143,N143)=1,N143,\"\")","v":""}]
[null,null,null,null,null,null,null,null,null,null,null,null,{"$f":"+IF(P144=\"\",\"\",MAX(M$1:M143)+1)","v":""},{"$f":"IF('Gas Cylinder Information'!A146=\"\",\"\",'Gas Cylinder Information'!A146)","v":""},"",{"$f":"IF(COUNTIF(N$2:N144,N144)=1,N144,\"\")","v":""}]
[null,null,null,null,null,null,null,null,null,null,null,null,{"$f":"+IF(P145=\"\",\"\",MAX(M$1:M144)+1)","v":""},{"$f":"IF('Gas Cylinder Information'!A147=\"\",\"\",'Gas Cylinder Information'!A147)","v":""},"",{"$f":"IF(COUNTIF(N$2:N145,N145)=1,N145,\"\")","v":""}]
[null,null,null,null,null,null,null,null,null,null,null,null,{"$f":"+IF(P146=\"\",\"\",MAX(M$1:M145)+1)","v":""},{"$f":"IF('Gas Cylinder Information'!A148=\"\",\"\",'Gas Cylinder Information'!A148)","v":""},"",{"$f":"IF(COUNTIF(N$2:N146,N146)=1,N146,\"\")","v":""}]
[null,null,null,null,null,null,null,null,null,null,null,null,{"$f":"+IF(P147=\"\",\"\",MAX(M$1:M146)+1)","v":""},{"$f":"IF('Gas Cylinder Information'!A149=\"\",\"\",'Gas Cylinder Information'!A149)","v":""},"",{"$f":"IF(COUNTIF(N$2:N147,N147)=1,N147,\"\")","v":""}]
[null,null,null,null,null,null,null,null,null,null,null,null,{"$f":"+IF(P148=\"\",\"\",MAX(M$1:M147)+1)","v":""},{"$f":"IF('Gas Cylinder Information'!A150=\"\",\"\",'Gas Cylinder Information'!A150)","v":""},"",{"$f":"IF(COUNTIF(N$2:N148,N148)=1,N148,\"\")","v":""}]
[null,null,null,null,null,null,null,null,null,null,null,null,{"$f":"+IF(P149=\"\",\"\",MAX(M$1:M148)+1)","v":""},{"$f":"IF('Gas Cylinder Information'!A151=\"\",\"\",'Gas Cylinder Information'!A151)","v":""},"",{"$f":"IF(COUNTIF(N$2:N149,N149)=1,N149,\"\")","v":""}]
[null,null,null,null,null,null,null,null,null,null,null,null,{"$f":"+IF(P150=\"\",\"\",MAX(M$1:M149)+1)","v":""},{"$f":"IF('Gas Cylinder Information'!A152=\"\",\"\",'Gas Cylinder Information'!A152)","v":""},"",{"$f":"IF(COUNTIF(N$2:N150,N150)=1,N150,\"\")","v":""}]
[null,null,null,null,null,null,null,null,null,null,null,null,{"$f":"+IF(P151=\"\",\"\",MAX(M$1:M150)+1)","v":""},{"$f":"IF('Gas Cylinder Information'!A153=\"\",\"\",'Gas Cylinder Information'!A153)","v":""},"",{"$f":"IF(COUNTIF(N$2:N151,N151)=1,N151,\"\")","v":""}]
[null,null,null,null,null,null,null,null,null,null,null,null,{"$f":"+IF(P152=\"\",\"\",MAX(M$1:M151)+1)","v":""},{"$f":"IF('Gas Cylinder Information'!A154=\"\",\"\",'Gas Cylinder Information'!A154)","v":""},"",{"$f":"IF(COUNTIF(N$2:N152,N152)=1,N152,\"\")","v":""}]
[null,null,null,null,null,null,null,null,null,null,null,null,{"$f":"+IF(P153=\"\",\"\",MAX(M$1:M152)+1)","v":""},{"$f":"IF('Gas Cylinder Information'!A155=\"\",\"\",'Gas Cylinder Information'!A155)","v":""},"",{"$f":"IF(COUNTIF(N$2:N153,N153)=1,N153,\"\")","v":""}]
[null,null,null,null,null,null,null,null,null,null,null,null,{"$f":"+IF(P154=\"\",\"\",MAX(M$1:M153)+1)","v":""},{"$f":"IF('Gas Cylinder Information'!A156=\"\",\"\",'Gas Cylinder Information'!A156)","v":""},"",{"$f":"IF(COUNTIF(N$2:N154,N154)=1,N154,\"\")","v":""}]
[null,null,null,null,null,null,null,null,null,null,null,null,{"$f":"+IF(P155=\"\",\"\",MAX(M$1:M154)+1)","v":""},{"$f":"IF('Gas Cylinder Information'!A157=\"\",\"\",'Gas Cylinder Information'!A157)","v":""},"",{"$f":"IF(COUNTIF(N$2:N155,N155)=1,N155,\"\")","v":""}]
[null,null,null,null,null,null,null,null,null,null,null,null,{"$f":"+IF(P156=\"\",\"\",MAX(M$1:M155)+1)","v":""},{"$f":"IF('Gas Cylinder Information'!A158=\"\",\"\",'Gas Cylinder Information'!A158)","v":""},"",{"$f":"IF(COUNTIF(N$2:N156,N156)=1,N156,\"\")","v":""}]
[null,null,null,null,null,null,null,null,null,null,null,null,{"$f":"+IF(P157=\"\",\"\",MAX(M$1:M156)+1)","v":""},{"$f":"IF('Gas Cylinder Information'!A159=\"\",\"\",'Gas Cylinder Information'!A159)","v":""},"",{"$f":"IF(COUNTIF(N$2:N157,N157)=1,N157,\"\")","v":""}]
[null,null,null,null,null,null,null,null,null,null,null,null,{"$f":"+IF(P158=\"\",\"\",MAX(M$1:M157)+1)","v":""},{"$f":"IF('Gas Cylinder Information'!A160=\"\",\"\",'Gas Cylinder Information'!A160)","v":""},"",{"$f":"IF(COUNTIF(N$2:N158,N158)=1,N158,\"\")","v":""}]
[null,null,null,null,null,null,null,null,null,null,null,null,{"$f":"+IF(P159=\"\",\"\",MAX(M$1:M158)+1)","v":""},{"$f":"IF('Gas Cylinder Information'!A161=\"\",\"\",'Gas Cylinder Information'!A161)","v":""},"",{"$f":"IF(COUNTIF(N$2:N159,N159)=1,N159,\"\")","v":""}]
[null,null,null,null,null,null,null,null,null,null,null,null,{"$f":"+IF(P160=\"\",\"\",MAX(M$1:M159)+1)","v":""},{"$f":"IF('Gas Cylinder Information'!A162=\"\",\"\",'Gas Cylinder Information'!A162)","v":""},"",{"$f":"IF(COUNTIF(N$2:N160,N160)=1,N160,\"\")","v":""}]
[null,null,null,null,null,null,null,null,null,null,null,null,{"$f":"+IF(P161=\"\",\"\",MAX(M$1:M160)+1)","v":""},{"$f":"IF('Gas Cylinder Information'!A163=\"\",\"\",'Gas Cylinder Information'!A163)","v":""},"",{"$f":"IF(COUNTIF(N$2:N161,N161)=1,N161,\"\")","v":""}]
[null,null,null,null,null,null,null,null,null,null,null,null,{"$f":"+IF(P162=\"\",\"\",MAX(M$1:M161)+1)","v":""},{"$f":"IF('Gas Cylinder Information'!A164=\"\",\"\",'Gas Cylinder Information'!A164)","v":""},"",{"$f":"IF(COUNTIF(N$2:N162,N162)=1,N162,\"\")","v":""}]
[null,null,null,null,null,null,null,null,null,null,null,null,{"$f":"+IF(P163=\"\",\"\",MAX(M$1:M162)+1)","v":""},{"$f":"IF('Gas Cylinder Information'!A165=\"\",\"\",'Gas Cylinder Information'!A165)","v":""},"",{"$f":"IF(COUNTIF(N$2:N163,N163)=1,N163,\"\")","v":""}]
[null,null,null,null,null,null,null,null,null,null,null,null,{"$f":"+IF(P164=\"\",\"\",MAX(M$1:M163)+1)","v":""},{"$f":"IF('Gas Cylinder Information'!A166=\"\",\"\",'Gas Cylinder Information'!A166)","v":""},"",{"$f":"IF(COUNTIF(N$2:N164,N164)=1,N164,\"\")","v":""}]
[null,null,null,null,null,null,null,null,null,null,null,null,{"$f":"+IF(P165=\"\",\"\",MAX(M$1:M164)+1)","v":""},{"$f":"IF('Gas Cylinder Information'!A167=\"\",\"\",'Gas Cylinder Information'!A167)","v":""},"",{"$f":"IF(COUNTIF(N$2:N165,N165)=1,N165,\"\")","v":""}]
[null,null,null,null,null,null,null,null,null,null,null,null,{"$f":"+IF(P166=\"\",\"\",MAX(M$1:M165)+1)","v":""},{"$f":"IF('Gas Cylinder Information'!A168=\"\",\"\",'Gas Cylinder Information'!A168)","v":""},"",{"$f":"IF(COUNTIF(N$2:N166,N166)=1,N166,\"\")","v":""}]
[null,null,null,null,null,null,null,null,null,null,null,null,{"$f":"+IF(P167=\"\",\"\",MAX(M$1:M166)+1)","v":""},{"$f":"IF('Gas Cylinder Information'!A169=\"\",\"\",'Gas Cylinder Information'!A169)","v":""},"",{"$f":"IF(COUNTIF(N$2:N167,N167)=1,N167,\"\")","v":""}]
[null,null,null,null,null,null,null,null,null,null,null,null,{"$f":"+IF(P168=\"\",\"\",MAX(M$1:M167)+1)","v":""},{"$f":"IF('Gas Cylinder Information'!A170=\"\",\"\",'Gas Cylinder Information'!A170)","v":""},"",{"$f":"IF(COUNTIF(N$2:N168,N168)=1,N168,\"\")","v":""}]
[null,null,null,null,null,null,null,null,null,null,null,null,{"$f":"+IF(P169=\"\",\"\",MAX(M$1:M168)+1)","v":""},{"$f":"IF('Gas Cylinder Information'!A171=\"\",\"\",'Gas Cylinder Information'!A171)","v":""},"",{"$f":"IF(COUNTIF(N$2:N169,N169)=1,N169,\"\")","v":""}]
[null,null,null,null,null,null,null,null,null,null,null,null,{"$f":"+IF(P170=\"\",\"\",MAX(M$1:M169)+1)","v":""},{"$f":"IF('Gas Cylinder Information'!A172=\"\",\"\",'Gas Cylinder Information'!A172)","v":""},"",{"$f":"IF(COUNTIF(N$2:N170,N170)=1,N170,\"\")","v":""}]
[null,null,null,null,null,null,null,null,null,null,null,null,{"$f":"+IF(P171=\"\",\"\",MAX(M$1:M170)+1)","v":""},{"$f":"IF('Gas Cylinder Information'!A173=\"\",\"\",'Gas Cylinder Information'!A173)","v":""},"",{"$f":"IF(COUNTIF(N$2:N171,N171)=1,N171,\"\")","v":""}]
[null,null,null,null,null,null,null,null,null,null,null,null,{"$f":"+IF(P172=\"\",\"\",MAX(M$1:M171)+1)","v":""},{"$f":"IF('Gas Cylinder Information'!A174=\"\",\"\",'Gas Cylinder Information'!A174)","v":""},"",{"$f":"IF(COUNTIF(N$2:N172,N172)=1,N172,\"\")","v":""}]
[null,null,null,null,null,null,null,null,null,null,null,null,{"$f":"+IF(P173=\"\",\"\",MAX(M$1:M172)+1)","v":""},{"$f":"IF('Gas Cylinder Information'!A175=\"\",\"\",'Gas Cylinder Information'!A175)","v":""},"",{"$f":"IF(COUNTIF(N$2:N173,N173)=1,N173,\"\")","v":""}]
[null,null,null,null,null,null,null,null,null,null,null,null,{"$f":"+IF(P174=\"\",\"\",MAX(M$1:M173)+1)","v":""},{"$f":"IF('Gas Cylinder Information'!A176=\"\",\"\",'Gas Cylinder Information'!A176)","v":""},"",{"$f":"IF(COUNTIF(N$2:N174,N174)=1,N174,\"\")","v":""}]
[null,null,null,null,null,null,null,null,null,null,null,null,{"$f":"+IF(P175=\"\",\"\",MAX(M$1:M174)+1)","v":""},{"$f":"IF('Gas Cylinder Information'!A177=\"\",\"\",'Gas Cylinder Information'!A177)","v":""},"",{"$f":"IF(COUNTIF(N$2:N175,N175)=1,N175,\"\")","v":""}]
[null,null,null,null,null,null,null,null,null,null,null,null,{"$f":"+IF(P176=\"\",\"\",MAX(M$1:M175)+1)","v":""},{"$f":"IF('Gas Cylinder Information'!A178=\"\",\"\",'Gas Cylinder Information'!A178)","v":""},"",{"$f":"IF(COUNTIF(N$2:N176,N176)=1,N176,\"\")","v":""}]
[null,null,null,null,null,null,null,null,null,null,null,null,{"$f":"+IF(P177=\"\",\"\",MAX(M$1:M176)+1)","v":""},{"$f":"IF('Gas Cylinder Information'!A179=\"\",\"\",'Gas Cylinder Information'!A179)","v":""},"",{"$f":"IF(COUNTIF(N$2:N177,N177)=1,N177,\"\")","v":""}]
[null,null,null,null,null,null,null,null,null,null,null,null,{"$f":"+IF(P178=\"\",\"\",MAX(M$1:M177)+1)","v":""},{"$f":"IF('Gas Cylinder Information'!A180=\"\",\"\",'Gas Cylinder Information'!A180)","v":""},"",{"$f":"IF(COUNTIF(N$2:N178,N178)=1,N178,\"\")","v":""}]
[null,null,null,null,null,null,null,null,null,null,null,null,{"$f":"+IF(P179=\"\",\"\",MAX(M$1:M178)+1)","v":""},{"$f":"IF('Gas Cylinder Information'!A181=\"\",\"\",'Gas Cylinder Information'!A181)","v":""},"",{"$f":"IF(COUNTIF(N$2:N179,N179)=1,N179,\"\")","v":""}]
[null,null,null,null,null,null,null,null,null,null,null,null,{"$f":"+IF(P180=\"\",\"\",MAX(M$1:M179)+1)","v":""},{"$f":"IF('Gas Cylinder Information'!A182=\"\",\"\",'Gas Cylinder Information'!A182)","v":""},"",{"$f":"IF(COUNTIF(N$2:N180,N180)=1,N180,\"\")","v":""}]
[null,null,null,null,null,null,null,null,null,null,null,null,{"$f":"+IF(P181=\"\",\"\",MAX(M$1:M180)+1)","v":""},{"$f":"IF('Gas Cylinder Information'!A183=\"\",\"\",'Gas Cylinder Information'!A183)","v":""},"",{"$f":"IF(COUNTIF(N$2:N181,N181)=1,N181,\"\")","v":""}]
[null,null,null,null,null,null,null,null,null,null,null,null,{"$f":"+IF(P182=\"\",\"\",MAX(M$1:M181)+1)","v":""},{"$f":"IF('Gas Cylinder Information'!A184=\"\",\"\",'Gas Cylinder Information'!A184)","v":""},"",{"$f":"IF(COUNTIF(N$2:N182,N182)=1,N182,\"\")","v":""}]
[null,null,null,null,null,null,null,null,null,null,null,null,{"$f":"+IF(P183=\"\",\"\",MAX(M$1:M182)+1)","v":""},{"$f":"IF('Gas Cylinder Information'!A185=\"\",\"\",'Gas Cylinder Information'!A185)","v":""},"",{"$f":"IF(COUNTIF(N$2:N183,N183)=1,N183,\"\")","v":""}]
[null,null,null,null,null,null,null,null,null,null,null,null,{"$f":"+IF(P184=\"\",\"\",MAX(M$1:M183)+1)","v":""},{"$f":"IF('Gas Cylinder Information'!A186=\"\",\"\",'Gas Cylinder Information'!A186)","v":""},"",{"$f":"IF(COUNTIF(N$2:N184,N184)=1,N184,\"\")","v":""}]
[null,null,null,null,null,null,null,null,null,null,null,null,{"$f":"+IF(P185=\"\",\"\",MAX(M$1:M184)+1)","v":""},{"$f":"IF('Gas Cylinder Information'!A187=\"\",\"\",'Gas Cylinder Information'!A187)","v":""},"",{"$f":"IF(COUNTIF(N$2:N185,N185)=1,N185,\"\")","v":""}]
[null,null,null,null,null,null,null,null,null,null,null,null,{"$f":"+IF(P186=\"\",\"\",MAX(M$1:M185)+1)","v":""},{"$f":"IF('Gas Cylinder Information'!A188=\"\",\"\",'Gas Cylinder Information'!A188)","v":""},"",{"$f":"IF(COUNTIF(N$2:N186,N186)=1,N186,\"\")","v":""}]
[null,null,null,null,null,null,null,null,null,null,null,null,{"$f":"+IF(P187=\"\",\"\",MAX(M$1:M186)+1)","v":""},{"$f":"IF('Gas Cylinder Information'!A189=\"\",\"\",'Gas Cylinder Information'!A189)","v":""},"",{"$f":"IF(COUNTIF(N$2:N187,N187)=1,N187,\"\")","v":""}]
[null,null,null,null,null,null,null,null,null,null,null,null,{"$f":"+IF(P188=\"\",\"\",MAX(M$1:M187)+1)","v":""},{"$f":"IF('Gas Cylinder Information'!A190=\"\",\"\",'Gas Cylinder Information'!A190)","v":""},"",{"$f":"IF(COUNTIF(N$2:N188,N188)=1,N188,\"\")","v":""}]
[null,null,null,null,null,null,null,null,null,null,null,null,{"$f":"+IF(P189=\"\",\"\",MAX(M$1:M188)+1)","v":""},{"$f":"IF('Gas Cylinder Information'!A191=\"\",\"\",'Gas Cylinder Information'!A191)","v":""},"",{"$f":"IF(COUNTIF(N$2:N189,N189)=1,N189,\"\")","v":""}]
[null,null,null,null,null,null,null,null,null,null,null,null,{"$f":"+IF(P190=\"\",\"\",MAX(M$1:M189)+1)","v":""},{"$f":"IF('Gas Cylinder Information'!A192=\"\",\"\",'Gas Cylinder Information'!A192)","v":""},"",{"$f":"IF(COUNTIF(N$2:N190,N190)=1,N190,\"\")","v":""}]
[null,null,null,null,null,null,null,null,null,null,null,null,{"$f":"+IF(P191=\"\",\"\",MAX(M$1:M190)+1)","v":""},{"$f":"IF('Gas Cylinder Information'!A193=\"\",\"\",'Gas Cylinder Information'!A193)","v":""},"",{"$f":"IF(COUNTIF(N$2:N191,N191)=1,N191,\"\")","v":""}]
[null,null,null,null,null,null,null,null,null,null,null,null,{"$f":"+IF(P192=\"\",\"\",MAX(M$1:M191)+1)","v":""},{"$f":"IF('Gas Cylinder Information'!A194=\"\",\"\",'Gas Cylinder Information'!A194)","v":""},"",{"$f":"IF(COUNTIF(N$2:N192,N192)=1,N192,\"\")","v":""}]
[null,null,null,null,null,null,null,null,null,null,null,null,{"$f":"+IF(P193=\"\",\"\",MAX(M$1:M192)+1)","v":""},{"$f":"IF('Gas Cylinder Information'!A195=\"\",\"\",'Gas Cylinder Information'!A195)","v":""},"",{"$f":"IF(COUNTIF(N$2:N193,N193)=1,N193,\"\")","v":""}]
[null,null,null,null,null,null,null,null,null,null,null,null,{"$f":"+IF(P194=\"\",\"\",MAX(M$1:M193)+1)","v":""},{"$f":"IF('Gas Cylinder Information'!A196=\"\",\"\",'Gas Cylinder Information'!A196)","v":""},{"$f":"+IFERROR(INDEX(N$2:N$501,MATCH(ROW()-ROW($C$1),M$2:M$501,0)),\"\")","v":""},{"$f":"IF(COUNTIF(N$2:N194,N194)=1,N194,\"\")","v":""}]
[null,null,null,null,null,null,null,null,null,null,null,null,{"$f":"+IF(P195=\"\",\"\",MAX(M$1:M194)+1)","v":""},{"$f":"IF('Gas Cylinder Information'!A197=\"\",\"\",'Gas Cylinder Information'!A197)","v":""},"",{"$f":"IF(COUNTIF(N$2:N195,N195)=1,N195,\"\")","v":""}]
[null,null,null,null,null,null,null,null,null,null,null,null,{"$f":"+IF(P196=\"\",\"\",MAX(M$1:M195)+1)","v":""},{"$f":"IF('Gas Cylinder Information'!A198=\"\",\"\",'Gas Cylinder Information'!A198)","v":""},"",{"$f":"IF(COUNTIF(N$2:N196,N196)=1,N196,\"\")","v":""}]
[null,null,null,null,null,null,null,null,null,null,null,null,{"$f":"+IF(P197=\"\",\"\",MAX(M$1:M196)+1)","v":""},{"$f":"IF('Gas Cylinder Information'!A199=\"\",\"\",'Gas Cylinder Information'!A199)","v":""},"",{"$f":"IF(COUNTIF(N$2:N197,N197)=1,N197,\"\")","v":""}]
[null,null,null,null,null,null,null,null,null,null,null,null,{"$f":"+IF(P198=\"\",\"\",MAX(M$1:M197)+1)","v":""},{"$f":"IF('Gas Cylinder Information'!A200=\"\",\"\",'Gas Cylinder Information'!A200)","v":""},"",{"$f":"IF(COUNTIF(N$2:N198,N198)=1,N198,\"\")","v":""}]
[null,null,null,null,null,null,null,null,null,null,null,null,{"$f":"+IF(P199=\"\",\"\",MAX(M$1:M198)+1)","v":""},{"$f":"IF('Gas Cylinder Information'!A201=\"\",\"\",'Gas Cylinder Information'!A201)","v":""},"",{"$f":"IF(COUNTIF(N$2:N199,N199)=1,N199,\"\")","v":""}]
[null,null,null,null,null,null,null,null,null,null,null,null,{"$f":"+IF(P200=\"\",\"\",MAX(M$1:M199)+1)","v":""},{"$f":"IF('Gas Cylinder Information'!A202=\"\",\"\",'Gas Cylinder Information'!A202)","v":""},"",{"$f":"IF(COUNTIF(N$2:N200,N200)=1,N200,\"\")","v":""}]
[null,null,null,null,null,null,null,null,null,null,null,null,{"$f":"+IF(P201=\"\",\"\",MAX(M$1:M200)+1)","v":""},{"$f":"IF('Gas Cylinder Information'!A203=\"\",\"\",'Gas Cylinder Information'!A203)","v":""},"",{"$f":"IF(COUNTIF(N$2:N201,N201)=1,N201,\"\")","v":""}]
[null,null,null,null,null,null,null,null,null,null,null,null,{"$f":"+IF(P202=\"\",\"\",MAX(M$1:M201)+1)","v":""},{"$f":"IF('Gas Cylinder Information'!A204=\"\",\"\",'Gas Cylinder Information'!A204)","v":""},"",{"$f":"IF(COUNTIF(N$2:N202,N202)=1,N202,\"\")","v":""}]
[null,null,null,null,null,null,null,null,null,null,null,null,{"$f":"+IF(P203=\"\",\"\",MAX(M$1:M202)+1)","v":""},{"$f":"IF('Gas Cylinder Information'!A205=\"\",\"\",'Gas Cylinder Information'!A205)","v":""},"",{"$f":"IF(COUNTIF(N$2:N203,N203)=1,N203,\"\")","v":""}]
[null,null,null,null,null,null,null,null,null,null,null,null,{"$f":"+IF(P204=\"\",\"\",MAX(M$1:M203)+1)","v":""},{"$f":"IF('Gas Cylinder Information'!A206=\"\",\"\",'Gas Cylinder Information'!A206)","v":""},"",{"$f":"IF(COUNTIF(N$2:N204,N204)=1,N204,\"\")","v":""}]
[null,null,null,null,null,null,null,null,null,null,null,null,{"$f":"+IF(P205=\"\",\"\",MAX(M$1:M204)+1)","v":""},{"$f":"IF('Gas Cylinder Information'!A207=\"\",\"\",'Gas Cylinder Information'!A207)","v":""},"",{"$f":"IF(COUNTIF(N$2:N205,N205)=1,N205,\"\")","v":""}]
[null,null,null,null,null,null,null,null,null,null,null,null,{"$f":"+IF(P206=\"\",\"\",MAX(M$1:M205)+1)","v":""},{"$f":"IF('Gas Cylinder Information'!A208=\"\",\"\",'Gas Cylinder Information'!A208)","v":""},"",{"$f":"IF(COUNTIF(N$2:N206,N206)=1,N206,\"\")","v":""}]
[null,null,null,null,null,null,null,null,null,null,null,null,{"$f":"+IF(P207=\"\",\"\",MAX(M$1:M206)+1)","v":""},{"$f":"IF('Gas Cylinder Information'!A209=\"\",\"\",'Gas Cylinder Information'!A209)","v":""},"",{"$f":"IF(COUNTIF(N$2:N207,N207)=1,N207,\"\")","v":""}]
[null,null,null,null,null,null,null,null,null,null,null,null,{"$f":"+IF(P208=\"\",\"\",MAX(M$1:M207)+1)","v":""},{"$f":"IF('Gas Cylinder Information'!A210=\"\",\"\",'Gas Cylinder Information'!A210)","v":""},"",{"$f":"IF(COUNTIF(N$2:N208,N208)=1,N208,\"\")","v":""}]
[null,null,null,null,null,null,null,null,null,null,null,null,{"$f":"+IF(P209=\"\",\"\",MAX(M$1:M208)+1)","v":""},{"$f":"IF('Gas Cylinder Information'!A211=\"\",\"\",'Gas Cylinder Information'!A211)","v":""},"",{"$f":"IF(COUNTIF(N$2:N209,N209)=1,N209,\"\")","v":""}]
[null,null,null,null,null,null,null,null,null,null,null,null,{"$f":"+IF(P210=\"\",\"\",MAX(M$1:M209)+1)","v":""},{"$f":"IF('Gas Cylinder Information'!A212=\"\",\"\",'Gas Cylinder Information'!A212)","v":""},"",{"$f":"IF(COUNTIF(N$2:N210,N210)=1,N210,\"\")","v":""}]
[null,null,null,null,null,null,null,null,null,null,null,null,{"$f":"+IF(P211=\"\",\"\",MAX(M$1:M210)+1)","v":""},{"$f":"IF('Gas Cylinder Information'!A213=\"\",\"\",'Gas Cylinder Information'!A213)","v":""},"",{"$f":"IF(COUNTIF(N$2:N211,N211)=1,N211,\"\")","v":""}]
[null,null,null,null,null,null,null,null,null,null,null,null,{"$f":"+IF(P212=\"\",\"\",MAX(M$1:M211)+1)","v":""},{"$f":"IF('Gas Cylinder Information'!A214=\"\",\"\",'Gas Cylinder Information'!A214)","v":""},"",{"$f":"IF(COUNTIF(N$2:N212,N212)=1,N212,\"\")","v":""}]
[null,null,null,null,null,null,null,null,null,null,null,null,{"$f":"+IF(P213=\"\",\"\",MAX(M$1:M212)+1)","v":""},{"$f":"IF('Gas Cylinder Information'!A215=\"\",\"\",'Gas Cylinder Information'!A215)","v":""},"",{"$f":"IF(COUNTIF(N$2:N213,N213)=1,N213,\"\")","v":""}]
[null,null,null,null,null,null,null,null,null,null,null,null,{"$f":"+IF(P214=\"\",\"\",MAX(M$1:M213)+1)","v":""},{"$f":"IF('Gas Cylinder Information'!A216=\"\",\"\",'Gas Cylinder Information'!A216)","v":""},"",{"$f":"IF(COUNTIF(N$2:N214,N214)=1,N214,\"\")","v":""}]
[null,null,null,null,null,null,null,null,null,null,null,null,{"$f":"+IF(P215=\"\",\"\",MAX(M$1:M214)+1)","v":""},{"$f":"IF('Gas Cylinder Information'!A217=\"\",\"\",'Gas Cylinder Information'!A217)","v":""},"",{"$f":"IF(COUNTIF(N$2:N215,N215)=1,N215,\"\")","v":""}]
[null,null,null,null,null,null,null,null,null,null,null,null,{"$f":"+IF(P216=\"\",\"\",MAX(M$1:M215)+1)","v":""},{"$f":"IF('Gas Cylinder Information'!A218=\"\",\"\",'Gas Cylinder Information'!A218)","v":""},"",{"$f":"IF(COUNTIF(N$2:N216,N216)=1,N216,\"\")","v":""}]
[null,null,null,null,null,null,null,null,null,null,null,null,{"$f":"+IF(P217=\"\",\"\",MAX(M$1:M216)+1)","v":""},{"$f":"IF('Gas Cylinder Information'!A219=\"\",\"\",'Gas Cylinder Information'!A219)","v":""},"",{"$f":"IF(COUNTIF(N$2:N217,N217)=1,N217,\"\")","v":""}]
[null,null,null,null,null,null,null,null,null,null,null,null,{"$f":"+IF(P218=\"\",\"\",MAX(M$1:M217)+1)","v":""},{"$f":"IF('Gas Cylinder Information'!A220=\"\",\"\",'Gas Cylinder Information'!A220)","v":""},"",{"$f":"IF(COUNTIF(N$2:N218,N218)=1,N218,\"\")","v":""}]
[null,null,null,null,null,null,null,null,null,null,null,null,{"$f":"+IF(P219=\"\",\"\",MAX(M$1:M218)+1)","v":""},{"$f":"IF('Gas Cylinder Information'!A221=\"\",\"\",'Gas Cylinder Information'!A221)","v":""},"",{"$f":"IF(COUNTIF(N$2:N219,N219)=1,N219,\"\")","v":""}]
[null,null,null,null,null,null,null,null,null,null,null,null,{"$f":"+IF(P220=\"\",\"\",MAX(M$1:M219)+1)","v":""},{"$f":"IF('Gas Cylinder Information'!A222=\"\",\"\",'Gas Cylinder Information'!A222)","v":""},"",{"$f":"IF(COUNTIF(N$2:N220,N220)=1,N220,\"\")","v":""}]
[null,null,null,null,null,null,null,null,null,null,null,null,{"$f":"+IF(P221=\"\",\"\",MAX(M$1:M220)+1)","v":""},{"$f":"IF('Gas Cylinder Information'!A223=\"\",\"\",'Gas Cylinder Information'!A223)","v":""},"",{"$f":"IF(COUNTIF(N$2:N221,N221)=1,N221,\"\")","v":""}]
[null,null,null,null,null,null,null,null,null,null,null,null,{"$f":"+IF(P222=\"\",\"\",MAX(M$1:M221)+1)","v":""},{"$f":"IF('Gas Cylinder Information'!A224=\"\",\"\",'Gas Cylinder Information'!A224)","v":""},"",{"$f":"IF(COUNTIF(N$2:N222,N222)=1,N222,\"\")","v":""}]
[null,null,null,null,null,null,null,null,null,null,null,null,{"$f":"+IF(P223=\"\",\"\",MAX(M$1:M222)+1)","v":""},{"$f":"IF('Gas Cylinder Information'!A225=\"\",\"\",'Gas Cylinder Information'!A225)","v":""},"",{"$f":"IF(COUNTIF(N$2:N223,N223)=1,N223,\"\")","v":""}]
[null,null,null,null,null,null,null,null,null,null,null,null,{"$f":"+IF(P224=\"\",\"\",MAX(M$1:M223)+1)","v":""},{"$f":"IF('Gas Cylinder Information'!A226=\"\",\"\",'Gas Cylinder Information'!A226)","v":""},"",{"$f":"IF(COUNTIF(N$2:N224,N224)=1,N224,\"\")","v":""}]
[null,null,null,null,null,null,null,null,null,null,null,null,{"$f":"+IF(P225=\"\",\"\",MAX(M$1:M224)+1)","v":""},{"$f":"IF('Gas Cylinder Information'!A227=\"\",\"\",'Gas Cylinder Information'!A227)","v":""},"",{"$f":"IF(COUNTIF(N$2:N225,N225)=1,N225,\"\")","v":""}]
[null,null,null,null,null,null,null,null,null,null,null,null,{"$f":"+IF(P226=\"\",\"\",MAX(M$1:M225)+1)","v":""},{"$f":"IF('Gas Cylinder Information'!A228=\"\",\"\",'Gas Cylinder Information'!A228)","v":""},"",{"$f":"IF(COUNTIF(N$2:N226,N226)=1,N226,\"\")","v":""}]
[null,null,null,null,null,null,null,null,null,null,null,null,{"$f":"+IF(P227=\"\",\"\",MAX(M$1:M226)+1)","v":""},{"$f":"IF('Gas Cylinder Information'!A229=\"\",\"\",'Gas Cylinder Information'!A229)","v":""},"",{"$f":"IF(COUNTIF(N$2:N227,N227)=1,N227,\"\")","v":""}]
[null,null,null,null,null,null,null,null,null,null,null,null,{"$f":"+IF(P228=\"\",\"\",MAX(M$1:M227)+1)","v":""},{"$f":"IF('Gas Cylinder Information'!A230=\"\",\"\",'Gas Cylinder Information'!A230)","v":""},"",{"$f":"IF(COUNTIF(N$2:N228,N228)=1,N228,\"\")","v":""}]
[null,null,null,null,null,null,null,null,null,null,null,null,{"$f":"+IF(P229=\"\",\"\",MAX(M$1:M228)+1)","v":""},{"$f":"IF('Gas Cylinder Information'!A231=\"\",\"\",'Gas Cylinder Information'!A231)","v":""},"",{"$f":"IF(COUNTIF(N$2:N229,N229)=1,N229,\"\")","v":""}]
[null,null,null,null,null,null,null,null,null,null,null,null,{"$f":"+IF(P230=\"\",\"\",MAX(M$1:M229)+1)","v":""},{"$f":"IF('Gas Cylinder Information'!A232=\"\",\"\",'Gas Cylinder Information'!A232)","v":""},"",{"$f":"IF(COUNTIF(N$2:N230,N230)=1,N230,\"\")","v":""}]
[null,null,null,null,null,null,null,null,null,null,null,null,{"$f":"+IF(P231=\"\",\"\",MAX(M$1:M230)+1)","v":""},{"$f":"IF('Gas Cylinder Information'!A233=\"\",\"\",'Gas Cylinder Information'!A233)","v":""},"",{"$f":"IF(COUNTIF(N$2:N231,N231)=1,N231,\"\")","v":""}]
[null,null,null,null,null,null,null,null,null,null,null,null,{"$f":"+IF(P232=\"\",\"\",MAX(M$1:M231)+1)","v":""},{"$f":"IF('Gas Cylinder Information'!A234=\"\",\"\",'Gas Cylinder Information'!A234)","v":""},"",{"$f":"IF(COUNTIF(N$2:N232,N232)=1,N232,\"\")","v":""}]
[null,null,null,null,null,null,null,null,null,null,null,null,{"$f":"+IF(P233=\"\",\"\",MAX(M$1:M232)+1)","v":""},{"$f":"IF('Gas Cylinder Information'!A235=\"\",\"\",'Gas Cylinder Information'!A235)","v":""},"",{"$f":"IF(COUNTIF(N$2:N233,N233)=1,N233,\"\")","v":""}]
[null,null,null,null,null,null,null,null,null,null,null,null,{"$f":"+IF(P234=\"\",\"\",MAX(M$1:M233)+1)","v":""},{"$f":"IF('Gas Cylinder Information'!A236=\"\",\"\",'Gas Cylinder Information'!A236)","v":""},"",{"$f":"IF(COUNTIF(N$2:N234,N234)=1,N234,\"\")","v":""}]
[null,null,null,null,null,null,null,null,null,null,null,null,{"$f":"+IF(P235=\"\",\"\",MAX(M$1:M234)+1)","v":""},{"$f":"IF('Gas Cylinder Information'!A237=\"\",\"\",'Gas Cylinder Information'!A237)","v":""},"",{"$f":"IF(COUNTIF(N$2:N235,N235)=1,N235,\"\")","v":""}]
[null,null,null,null,null,null,null,null,null,null,null,null,{"$f":"+IF(P236=\"\",\"\",MAX(M$1:M235)+1)","v":""},{"$f":"IF('Gas Cylinder Information'!A238=\"\",\"\",'Gas Cylinder Information'!A238)","v":""},"",{"$f":"IF(COUNTIF(N$2:N236,N236)=1,N236,\"\")","v":""}]
[null,null,null,null,null,null,null,null,null,null,null,null,{"$f":"+IF(P237=\"\",\"\",MAX(M$1:M236)+1)","v":""},{"$f":"IF('Gas Cylinder Information'!A239=\"\",\"\",'Gas Cylinder Information'!A239)","v":""},"",{"$f":"IF(COUNTIF(N$2:N237,N237)=1,N237,\"\")","v":""}]
[null,null,null,null,null,null,null,null,null,null,null,null,{"$f":"+IF(P238=\"\",\"\",MAX(M$1:M237)+1)","v":""},{"$f":"IF('Gas Cylinder Information'!A240=\"\",\"\",'Gas Cylinder Information'!A240)","v":""},"",{"$f":"IF(COUNTIF(N$2:N238,N238)=1,N238,\"\")","v":""}]
[null,null,null,null,null,null,null,null,null,null,null,null,{"$f":"+IF(P239=\"\",\"\",MAX(M$1:M238)+1)","v":""},{"$f":"IF('Gas Cylinder Information'!A241=\"\",\"\",'Gas Cylinder Information'!A241)","v":""},"",{"$f":"IF(COUNTIF(N$2:N239,N239)=1,N239,\"\")","v":""}]
[null,null,null,null,null,null,null,null,null,null,null,null,{"$f":"+IF(P240=\"\",\"\",MAX(M$1:M239)+1)","v":""},{"$f":"IF('Gas Cylinder Information'!A242=\"\",\"\",'Gas Cylinder Information'!A242)","v":""},"",{"$f":"IF(COUNTIF(N$2:N240,N240)=1,N240,\"\")","v":""}]
[null,null,null,null,null,null,null,null,null,null,null,null,{"$f":"+IF(P241=\"\",\"\",MAX(M$1:M240)+1)","v":""},{"$f":"IF('Gas Cylinder Information'!A243=\"\",\"\",'Gas Cylinder Information'!A243)","v":""},"",{"$f":"IF(COUNTIF(N$2:N241,N241)=1,N241,\"\")","v":""}]
[null,null,null,null,null,null,null,null,null,null,null,null,{"$f":"+IF(P242=\"\",\"\",MAX(M$1:M241)+1)","v":""},{"$f":"IF('Gas Cylinder Information'!A244=\"\",\"\",'Gas Cylinder Information'!A244)","v":""},"",{"$f":"IF(COUNTIF(N$2:N242,N242)=1,N242,\"\")","v":""}]
[null,null,null,null,null,null,null,null,null,null,null,null,{"$f":"+IF(P243=\"\",\"\",MAX(M$1:M242)+1)","v":""},{"$f":"IF('Gas Cylinder Information'!A245=\"\",\"\",'Gas Cylinder Information'!A245)","v":""},"",{"$f":"IF(COUNTIF(N$2:N243,N243)=1,N243,\"\")","v":""}]
[null,null,null,null,null,null,null,null,null,null,null,null,{"$f":"+IF(P244=\"\",\"\",MAX(M$1:M243)+1)","v":""},{"$f":"IF('Gas Cylinder Information'!A246=\"\",\"\",'Gas Cylinder Information'!A246)","v":""},"",{"$f":"IF(COUNTIF(N$2:N244,N244)=1,N244,\"\")","v":""}]
[null,null,null,null,null,null,null,null,null,null,null,null,{"$f":"+IF(P245=\"\",\"\",MAX(M$1:M244)+1)","v":""},{"$f":"IF('Gas Cylinder Information'!A247=\"\",\"\",'Gas Cylinder Information'!A247)","v":""},"",{"$f":"IF(COUNTIF(N$2:N245,N245)=1,N245,\"\")","v":""}]
[null,null,null,null,null,null,null,null,null,null,null,null,{"$f":"+IF(P246=\"\",\"\",MAX(M$1:M245)+1)","v":""},{"$f":"IF('Gas Cylinder Information'!A248=\"\",\"\",'Gas Cylinder Information'!A248)","v":""},"",{"$f":"IF(COUNTIF(N$2:N246,N246)=1,N246,\"\")","v":""}]
[null,null,null,null,null,null,null,null,null,null,null,null,{"$f":"+IF(P247=\"\",\"\",MAX(M$1:M246)+1)","v":""},{"$f":"IF('Gas Cylinder Information'!A249=\"\",\"\",'Gas Cylinder Information'!A249)","v":""},"",{"$f":"IF(COUNTIF(N$2:N247,N247)=1,N247,\"\")","v":""}]
[null,null,null,null,null,null,null,null,null,null,null,null,{"$f":"+IF(P248=\"\",\"\",MAX(M$1:M247)+1)","v":""},{"$f":"IF('Gas Cylinder Information'!A250=\"\",\"\",'Gas Cylinder Information'!A250)","v":""},"",{"$f":"IF(COUNTIF(N$2:N248,N248)=1,N248,\"\")","v":""}]
[null,null,null,null,null,null,null,null,null,null,null,null,{"$f":"+IF(P249=\"\",\"\",MAX(M$1:M248)+1)","v":""},{"$f":"IF('Gas Cylinder Information'!A251=\"\",\"\",'Gas Cylinder Information'!A251)","v":""},"",{"$f":"IF(COUNTIF(N$2:N249,N249)=1,N249,\"\")","v":""}]
[null,null,null,null,null,null,null,null,null,null,null,null,{"$f":"+IF(P250=\"\",\"\",MAX(M$1:M249)+1)","v":""},{"$f":"IF('Gas Cylinder Information'!A252=\"\",\"\",'Gas Cylinder Information'!A252)","v":""},"",{"$f":"IF(COUNTIF(N$2:N250,N250)=1,N250,\"\")","v":""}]
[null,null,null,null,null,null,null,null,null,null,null,null,{"$f":"+IF(P251=\"\",\"\",MAX(M$1:M250)+1)","v":""},{"$f":"IF('Gas Cylinder Information'!A253=\"\",\"\",'Gas Cylinder Information'!A253)","v":""},"",{"$f":"IF(COUNTIF(N$2:N251,N251)=1,N251,\"\")","v":""}]
[null,null,null,null,null,null,null,null,null,null,null,null,{"$f":"+IF(P252=\"\",\"\",MAX(M$1:M251)+1)","v":""},{"$f":"IF('Gas Cylinder Information'!A254=\"\",\"\",'Gas Cylinder Information'!A254)","v":""},"",{"$f":"IF(COUNTIF(N$2:N252,N252)=1,N252,\"\")","v":""}]
[null,null,null,null,null,null,null,null,null,null,null,null,{"$f":"+IF(P253=\"\",\"\",MAX(M$1:M252)+1)","v":""},{"$f":"IF('Gas Cylinder Information'!A255=\"\",\"\",'Gas Cylinder Information'!A255)","v":""},"",{"$f":"IF(COUNTIF(N$2:N253,N253)=1,N253,\"\")","v":""}]
[null,null,null,null,null,null,null,null,null,null,null,null,{"$f":"+IF(P254=\"\",\"\",MAX(M$1:M253)+1)","v":""},{"$f":"IF('Gas Cylinder Information'!A256=\"\",\"\",'Gas Cylinder Information'!A256)","v":""},"",{"$f":"IF(COUNTIF(N$2:N254,N254)=1,N254,\"\")","v":""}]
[null,null,null,null,null,null,null,null,null,null,null,null,{"$f":"+IF(P255=\"\",\"\",MAX(M$1:M254)+1)","v":""},{"$f":"IF('Gas Cylinder Information'!A257=\"\",\"\",'Gas Cylinder Information'!A257)","v":""},"",{"$f":"IF(COUNTIF(N$2:N255,N255)=1,N255,\"\")","v":""}]
[null,null,null,null,null,null,null,null,null,null,null,null,{"$f":"+IF(P256=\"\",\"\",MAX(M$1:M255)+1)","v":""},{"$f":"IF('Gas Cylinder Information'!A258=\"\",\"\",'Gas Cylinder Information'!A258)","v":""},"",{"$f":"IF(COUNTIF(N$2:N256,N256)=1,N256,\"\")","v":""}]
[null,null,null,null,null,null,null,null,null,null,null,null,{"$f":"+IF(P257=\"\",\"\",MAX(M$1:M256)+1)","v":""},{"$f":"IF('Gas Cylinder Information'!A259=\"\",\"\",'Gas Cylinder Information'!A259)","v":""},"",{"$f":"IF(COUNTIF(N$2:N257,N257)=1,N257,\"\")","v":""}]
[null,null,null,null,null,null,null,null,null,null,null,null,{"$f":"+IF(P258=\"\",\"\",MAX(M$1:M257)+1)","v":""},{"$f":"IF('Gas Cylinder Information'!A260=\"\",\"\",'Gas Cylinder Information'!A260)","v":""},{"$f":"+IFERROR(INDEX(N$2:N$501,MATCH(ROW()-ROW($C$1),M$2:M$501,0)),\"\")","v":""},{"$f":"IF(COUNTIF(N$2:N258,N258)=1,N258,\"\")","v":""}]
[null,null,null,null,null,null,null,null,null,null,null,null,{"$f":"+IF(P259=\"\",\"\",MAX(M$1:M258)+1)","v":""},{"$f":"IF('Gas Cylinder Information'!A261=\"\",\"\",'Gas Cylinder Information'!A261)","v":""},"",{"$f":"IF(COUNTIF(N$2:N259,N259)=1,N259,\"\")","v":""}]
[null,null,null,null,null,null,null,null,null,null,null,null,{"$f":"+IF(P260=\"\",\"\",MAX(M$1:M259)+1)","v":""},{"$f":"IF('Gas Cylinder Information'!A262=\"\",\"\",'Gas Cylinder Information'!A262)","v":""},"",{"$f":"IF(COUNTIF(N$2:N260,N260)=1,N260,\"\")","v":""}]
[null,null,null,null,null,null,null,null,null,null,null,null,{"$f":"+IF(P261=\"\",\"\",MAX(M$1:M260)+1)","v":""},{"$f":"IF('Gas Cylinder Information'!A263=\"\",\"\",'Gas Cylinder Information'!A263)","v":""},"",{"$f":"IF(COUNTIF(N$2:N261,N261)=1,N261,\"\")","v":""}]
[null,null,null,null,null,null,null,null,null,null,null,null,{"$f":"+IF(P262=\"\",\"\",MAX(M$1:M261)+1)","v":""},{"$f":"IF('Gas Cylinder Information'!A264=\"\",\"\",'Gas Cylinder Information'!A264)","v":""},"",{"$f":"IF(COUNTIF(N$2:N262,N262)=1,N262,\"\")","v":""}]
[null,null,null,null,null,null,null,null,null,null,null,null,{"$f":"+IF(P263=\"\",\"\",MAX(M$1:M262)+1)","v":""},{"$f":"IF('Gas Cylinder Information'!A265=\"\",\"\",'Gas Cylinder Information'!A265)","v":""},"",{"$f":"IF(COUNTIF(N$2:N263,N263)=1,N263,\"\")","v":""}]
[null,null,null,null,null,null,null,null,null,null,null,null,{"$f":"+IF(P264=\"\",\"\",MAX(M$1:M263)+1)","v":""},{"$f":"IF('Gas Cylinder Information'!A266=\"\",\"\",'Gas Cylinder Information'!A266)","v":""},"",{"$f":"IF(COUNTIF(N$2:N264,N264)=1,N264,\"\")","v":""}]
[null,null,null,null,null,null,null,null,null,null,null,null,{"$f":"+IF(P265=\"\",\"\",MAX(M$1:M264)+1)","v":""},{"$f":"IF('Gas Cylinder Information'!A267=\"\",\"\",'Gas Cylinder Information'!A267)","v":""},"",{"$f":"IF(COUNTIF(N$2:N265,N265)=1,N265,\"\")","v":""}]
[null,null,null,null,null,null,null,null,null,null,null,null,{"$f":"+IF(P266=\"\",\"\",MAX(M$1:M265)+1)","v":""},{"$f":"IF('Gas Cylinder Information'!A268=\"\",\"\",'Gas Cylinder Information'!A268)","v":""},"",{"$f":"IF(COUNTIF(N$2:N266,N266)=1,N266,\"\")","v":""}]
[null,null,null,null,null,null,null,null,null,null,null,null,{"$f":"+IF(P267=\"\",\"\",MAX(M$1:M266)+1)","v":""},{"$f":"IF('Gas Cylinder Information'!A269=\"\",\"\",'Gas Cylinder Information'!A269)","v":""},"",{"$f":"IF(COUNTIF(N$2:N267,N267)=1,N267,\"\")","v":""}]
[null,null,null,null,null,null,null,null,null,null,null,null,{"$f":"+IF(P268=\"\",\"\",MAX(M$1:M267)+1)","v":""},{"$f":"IF('Gas Cylinder Information'!A270=\"\",\"\",'Gas Cylinder Information'!A270)","v":""},"",{"$f":"IF(COUNTIF(N$2:N268,N268)=1,N268,\"\")","v":""}]
[null,null,null,null,null,null,null,null,null,null,null,null,{"$f":"+IF(P269=\"\",\"\",MAX(M$1:M268)+1)","v":""},{"$f":"IF('Gas Cylinder Information'!A271=\"\",\"\",'Gas Cylinder Information'!A271)","v":""},"",{"$f":"IF(COUNTIF(N$2:N269,N269)=1,N269,\"\")","v":""}]
[null,null,null,null,null,null,null,null,null,null,null,null,{"$f":"+IF(P270=\"\",\"\",MAX(M$1:M269)+1)","v":""},{"$f":"IF('Gas Cylinder Information'!A272=\"\",\"\",'Gas Cylinder Information'!A272)","v":""},"",{"$f":"IF(COUNTIF(N$2:N270,N270)=1,N270,\"\")","v":""}]
[null,null,null,null,null,null,null,null,null,null,null,null,{"$f":"+IF(P271=\"\",\"\",MAX(M$1:M270)+1)","v":""},{"$f":"IF('Gas Cylinder Information'!A273=\"\",\"\",'Gas Cylinder Information'!A273)","v":""},"",{"$f":"IF(COUNTIF(N$2:N271,N271)=1,N271,\"\")","v":""}]
[null,null,null,null,null,null,null,null,null,null,null,null,{"$f":"+IF(P272=\"\",\"\",MAX(M$1:M271)+1)","v":""},{"$f":"IF('Gas Cylinder Information'!A274=\"\",\"\",'Gas Cylinder Information'!A274)","v":""},"",{"$f":"IF(COUNTIF(N$2:N272,N272)=1,N272,\"\")","v":""}]
[null,null,null,null,null,null,null,null,null,null,null,null,{"$f":"+IF(P273=\"\",\"\",MAX(M$1:M272)+1)","v":""},{"$f":"IF('Gas Cylinder Information'!A275=\"\",\"\",'Gas Cylinder Information'!A275)","v":""},"",{"$f":"IF(COUNTIF(N$2:N273,N273)=1,N273,\"\")","v":""}]
[null,null,null,null,null,null,null,null,null,null,null,null,{"$f":"+IF(P274=\"\",\"\",MAX(M$1:M273)+1)","v":""},{"$f":"IF('Gas Cylinder Information'!A276=\"\",\"\",'Gas Cylinder Information'!A276)","v":""},"",{"$f":"IF(COUNTIF(N$2:N274,N274)=1,N274,\"\")","v":""}]
[null,null,null,null,null,null,null,null,null,null,null,null,{"$f":"+IF(P275=\"\",\"\",MAX(M$1:M274)+1)","v":""},{"$f":"IF('Gas Cylinder Information'!A277=\"\",\"\",'Gas Cylinder Information'!A277)","v":""},"",{"$f":"IF(COUNTIF(N$2:N275,N275)=1,N275,\"\")","v":""}]
[null,null,null,null,null,null,null,null,null,null,null,null,{"$f":"+IF(P276=\"\",\"\",MAX(M$1:M275)+1)","v":""},{"$f":"IF('Gas Cylinder Information'!A278=\"\",\"\",'Gas Cylinder Information'!A278)","v":""},"",{"$f":"IF(COUNTIF(N$2:N276,N276)=1,N276,\"\")","v":""}]
[null,null,null,null,null,null,null,null,null,null,null,null,{"$f":"+IF(P277=\"\",\"\",MAX(M$1:M276)+1)","v":""},{"$f":"IF('Gas Cylinder Information'!A279=\"\",\"\",'Gas Cylinder Information'!A279)","v":""},"",{"$f":"IF(COUNTIF(N$2:N277,N277)=1,N277,\"\")","v":""}]
[null,null,null,null,null,null,null,null,null,null,null,null,{"$f":"+IF(P278=\"\",\"\",MAX(M$1:M277)+1)","v":""},{"$f":"IF('Gas Cylinder Information'!A280=\"\",\"\",'Gas Cylinder Information'!A280)","v":""},"",{"$f":"IF(COUNTIF(N$2:N278,N278)=1,N278,\"\")","v":""}]
[null,null,null,null,null,null,null,null,null,null,null,null,{"$f":"+IF(P279=\"\",\"\",MAX(M$1:M278)+1)","v":""},{"$f":"IF('Gas Cylinder Information'!A281=\"\",\"\",'Gas Cylinder Information'!A281)","v":""},"",{"$f":"IF(COUNTIF(N$2:N279,N279)=1,N279,\"\")","v":""}]
[null,null,null,null,null,null,null,null,null,null,null,null,{"$f":"+IF(P280=\"\",\"\",MAX(M$1:M279)+1)","v":""},{"$f":"IF('Gas Cylinder Information'!A282=\"\",\"\",'Gas Cylinder Information'!A282)","v":""},"",{"$f":"IF(COUNTIF(N$2:N280,N280)=1,N280,\"\")","v":""}]
[null,null,null,null,null,null,null,null,null,null,null,null,{"$f":"+IF(P281=\"\",\"\",MAX(M$1:M280)+1)","v":""},{"$f":"IF('Gas Cylinder Information'!A283=\"\",\"\",'Gas Cylinder Information'!A283)","v":""},"",{"$f":"IF(COUNTIF(N$2:N281,N281)=1,N281,\"\")","v":""}]
[null,null,null,null,null,null,null,null,null,null,null,null,{"$f":"+IF(P282=\"\",\"\",MAX(M$1:M281)+1)","v":""},{"$f":"IF('Gas Cylinder Information'!A284=\"\",\"\",'Gas Cylinder Information'!A284)","v":""},"",{"$f":"IF(COUNTIF(N$2:N282,N282)=1,N282,\"\")","v":""}]
[null,null,null,null,null,null,null,null,null,null,null,null,{"$f":"+IF(P283=\"\",\"\",MAX(M$1:M282)+1)","v":""},{"$f":"IF('Gas Cylinder Information'!A285=\"\",\"\",'Gas Cylinder Information'!A285)","v":""},"",{"$f":"IF(COUNTIF(N$2:N283,N283)=1,N283,\"\")","v":""}]
[null,null,null,null,null,null,null,null,null,null,null,null,{"$f":"+IF(P284=\"\",\"\",MAX(M$1:M283)+1)","v":""},{"$f":"IF('Gas Cylinder Information'!A286=\"\",\"\",'Gas Cylinder Information'!A286)","v":""},"",{"$f":"IF(COUNTIF(N$2:N284,N284)=1,N284,\"\")","v":""}]
[null,null,null,null,null,null,null,null,null,null,null,null,{"$f":"+IF(P285=\"\",\"\",MAX(M$1:M284)+1)","v":""},{"$f":"IF('Gas Cylinder Information'!A287=\"\",\"\",'Gas Cylinder Information'!A287)","v":""},"",{"$f":"IF(COUNTIF(N$2:N285,N285)=1,N285,\"\")","v":""}]
[null,null,null,null,null,null,null,null,null,null,null,null,{"$f":"+IF(P286=\"\",\"\",MAX(M$1:M285)+1)","v":""},{"$f":"IF('Gas Cylinder Information'!A288=\"\",\"\",'Gas Cylinder Information'!A288)","v":""},"",{"$f":"IF(COUNTIF(N$2:N286,N286)=1,N286,\"\")","v":""}]
[null,null,null,null,null,null,null,null,null,null,null,null,{"$f":"+IF(P287=\"\",\"\",MAX(M$1:M286)+1)","v":""},{"$f":"IF('Gas Cylinder Information'!A289=\"\",\"\",'Gas Cylinder Information'!A289)","v":""},"",{"$f":"IF(COUNTIF(N$2:N287,N287)=1,N287,\"\")","v":""}]
[null,null,null,null,null,null,null,null,null,null,null,null,{"$f":"+IF(P288=\"\",\"\",MAX(M$1:M287)+1)","v":""},{"$f":"IF('Gas Cylinder Information'!A290=\"\",\"\",'Gas Cylinder Information'!A290)","v":""},"",{"$f":"IF(COUNTIF(N$2:N288,N288)=1,N288,\"\")","v":""}]
[null,null,null,null,null,null,null,null,null,null,null,null,{"$f":"+IF(P289=\"\",\"\",MAX(M$1:M288)+1)","v":""},{"$f":"IF('Gas Cylinder Information'!A291=\"\",\"\",'Gas Cylinder Information'!A291)","v":""},"",{"$f":"IF(COUNTIF(N$2:N289,N289)=1,N289,\"\")","v":""}]
[null,null,null,null,null,null,null,null,null,null,null,null,{"$f":"+IF(P290=\"\",\"\",MAX(M$1:M289)+1)","v":""},{"$f":"IF('Gas Cylinder Information'!A292=\"\",\"\",'Gas Cylinder Information'!A292)","v":""},"",{"$f":"IF(COUNTIF(N$2:N290,N290)=1,N290,\"\")","v":""}]
[null,null,null,null,null,null,null,null,null,null,null,null,{"$f":"+IF(P291=\"\",\"\",MAX(M$1:M290)+1)","v":""},{"$f":"IF('Gas Cylinder Information'!A293=\"\",\"\",'Gas Cylinder Information'!A293)","v":""},"",{"$f":"IF(COUNTIF(N$2:N291,N291)=1,N291,\"\")","v":""}]
[null,null,null,null,null,null,null,null,null,null,null,null,{"$f":"+IF(P292=\"\",\"\",MAX(M$1:M291)+1)","v":""},{"$f":"IF('Gas Cylinder Information'!A294=\"\",\"\",'Gas Cylinder Information'!A294)","v":""},"",{"$f":"IF(COUNTIF(N$2:N292,N292)=1,N292,\"\")","v":""}]
[null,null,null,null,null,null,null,null,null,null,null,null,{"$f":"+IF(P293=\"\",\"\",MAX(M$1:M292)+1)","v":""},{"$f":"IF('Gas Cylinder Information'!A295=\"\",\"\",'Gas Cylinder Information'!A295)","v":""},"",{"$f":"IF(COUNTIF(N$2:N293,N293)=1,N293,\"\")","v":""}]
[null,null,null,null,null,null,null,null,null,null,null,null,{"$f":"+IF(P294=\"\",\"\",MAX(M$1:M293)+1)","v":""},{"$f":"IF('Gas Cylinder Information'!A296=\"\",\"\",'Gas Cylinder Information'!A296)","v":""},"",{"$f":"IF(COUNTIF(N$2:N294,N294)=1,N294,\"\")","v":""}]
[null,null,null,null,null,null,null,null,null,null,null,null,{"$f":"+IF(P295=\"\",\"\",MAX(M$1:M294)+1)","v":""},{"$f":"IF('Gas Cylinder Information'!A297=\"\",\"\",'Gas Cylinder Information'!A297)","v":""},"",{"$f":"IF(COUNTIF(N$2:N295,N295)=1,N295,\"\")","v":""}]
[null,null,null,null,null,null,null,null,null,null,null,null,{"$f":"+IF(P296=\"\",\"\",MAX(M$1:M295)+1)","v":""},{"$f":"IF('Gas Cylinder Information'!A298=\"\",\"\",'Gas Cylinder Information'!A298)","v":""},"",{"$f":"IF(COUNTIF(N$2:N296,N296)=1,N296,\"\")","v":""}]
[null,null,null,null,null,null,null,null,null,null,null,null,{"$f":"+IF(P297=\"\",\"\",MAX(M$1:M296)+1)","v":""},{"$f":"IF('Gas Cylinder Information'!A299=\"\",\"\",'Gas Cylinder Information'!A299)","v":""},"",{"$f":"IF(COUNTIF(N$2:N297,N297)=1,N297,\"\")","v":""}]
[null,null,null,null,null,null,null,null,null,null,null,null,{"$f":"+IF(P298=\"\",\"\",MAX(M$1:M297)+1)","v":""},{"$f":"IF('Gas Cylinder Information'!A300=\"\",\"\",'Gas Cylinder Information'!A300)","v":""},"",{"$f":"IF(COUNTIF(N$2:N298,N298)=1,N298,\"\")","v":""}]
[null,null,null,null,null,null,null,null,null,null,null,null,{"$f":"+IF(P299=\"\",\"\",MAX(M$1:M298)+1)","v":""},{"$f":"IF('Gas Cylinder Information'!A301=\"\",\"\",'Gas Cylinder Information'!A301)","v":""},"",{"$f":"IF(COUNTIF(N$2:N299,N299)=1,N299,\"\")","v":""}]
[null,null,null,null,null,null,null,null,null,null,null,null,{"$f":"+IF(P300=\"\",\"\",MAX(M$1:M299)+1)","v":""},{"$f":"IF('Gas Cylinder Information'!A302=\"\",\"\",'Gas Cylinder Information'!A302)","v":""},"",{"$f":"IF(COUNTIF(N$2:N300,N300)=1,N300,\"\")","v":""}]
[null,null,null,null,null,null,null,null,null,null,null,null,{"$f":"+IF(P301=\"\",\"\",MAX(M$1:M300)+1)","v":""},{"$f":"IF('Gas Cylinder Information'!A303=\"\",\"\",'Gas Cylinder Information'!A303)","v":""},"",{"$f":"IF(COUNTIF(N$2:N301,N301)=1,N301,\"\")","v":""}]
[null,null,null,null,null,null,null,null,null,null,null,null,{"$f":"+IF(P302=\"\",\"\",MAX(M$1:M301)+1)","v":""},{"$f":"IF('Gas Cylinder Information'!A304=\"\",\"\",'Gas Cylinder Information'!A304)","v":""},"",{"$f":"IF(COUNTIF(N$2:N302,N302)=1,N302,\"\")","v":""}]
[null,null,null,null,null,null,null,null,null,null,null,null,{"$f":"+IF(P303=\"\",\"\",MAX(M$1:M302)+1)","v":""},{"$f":"IF('Gas Cylinder Information'!A305=\"\",\"\",'Gas Cylinder Information'!A305)","v":""},"",{"$f":"IF(COUNTIF(N$2:N303,N303)=1,N303,\"\")","v":""}]
[null,null,null,null,null,null,null,null,null,null,null,null,{"$f":"+IF(P304=\"\",\"\",MAX(M$1:M303)+1)","v":""},{"$f":"IF('Gas Cylinder Information'!A306=\"\",\"\",'Gas Cylinder Information'!A306)","v":""},"",{"$f":"IF(COUNTIF(N$2:N304,N304)=1,N304,\"\")","v":""}]
[null,null,null,null,null,null,null,null,null,null,null,null,{"$f":"+IF(P305=\"\",\"\",MAX(M$1:M304)+1)","v":""},{"$f":"IF('Gas Cylinder Information'!A307=\"\",\"\",'Gas Cylinder Information'!A307)","v":""},"",{"$f":"IF(COUNTIF(N$2:N305,N305)=1,N305,\"\")","v":""}]
[null,null,null,null,null,null,null,null,null,null,null,null,{"$f":"+IF(P306=\"\",\"\",MAX(M$1:M305)+1)","v":""},{"$f":"IF('Gas Cylinder Information'!A308=\"\",\"\",'Gas Cylinder Information'!A308)","v":""},"",{"$f":"IF(COUNTIF(N$2:N306,N306)=1,N306,\"\")","v":""}]
[null,null,null,null,null,null,null,null,null,null,null,null,{"$f":"+IF(P307=\"\",\"\",MAX(M$1:M306)+1)","v":""},{"$f":"IF('Gas Cylinder Information'!A309=\"\",\"\",'Gas Cylinder Information'!A309)","v":""},"",{"$f":"IF(COUNTIF(N$2:N307,N307)=1,N307,\"\")","v":""}]
[null,null,null,null,null,null,null,null,null,null,null,null,{"$f":"+IF(P308=\"\",\"\",MAX(M$1:M307)+1)","v":""},{"$f":"IF('Gas Cylinder Information'!A310=\"\",\"\",'Gas Cylinder Information'!A310)","v":""},"",{"$f":"IF(COUNTIF(N$2:N308,N308)=1,N308,\"\")","v":""}]
[null,null,null,null,null,null,null,null,null,null,null,null,{"$f":"+IF(P309=\"\",\"\",MAX(M$1:M308)+1)","v":""},{"$f":"IF('Gas Cylinder Information'!A311=\"\",\"\",'Gas Cylinder Information'!A311)","v":""},"",{"$f":"IF(COUNTIF(N$2:N309,N309)=1,N309,\"\")","v":""}]
[null,null,null,null,null,null,null,null,null,null,null,null,{"$f":"+IF(P310=\"\",\"\",MAX(M$1:M309)+1)","v":""},{"$f":"IF('Gas Cylinder Information'!A312=\"\",\"\",'Gas Cylinder Information'!A312)","v":""},"",{"$f":"IF(COUNTIF(N$2:N310,N310)=1,N310,\"\")","v":""}]
[null,null,null,null,null,null,null,null,null,null,null,null,{"$f":"+IF(P311=\"\",\"\",MAX(M$1:M310)+1)","v":""},{"$f":"IF('Gas Cylinder Information'!A313=\"\",\"\",'Gas Cylinder Information'!A313)","v":""},"",{"$f":"IF(COUNTIF(N$2:N311,N311)=1,N311,\"\")","v":""}]
[null,null,null,null,null,null,null,null,null,null,null,null,{"$f":"+IF(P312=\"\",\"\",MAX(M$1:M311)+1)","v":""},{"$f":"IF('Gas Cylinder Information'!A314=\"\",\"\",'Gas Cylinder Information'!A314)","v":""},"",{"$f":"IF(COUNTIF(N$2:N312,N312)=1,N312,\"\")","v":""}]
[null,null,null,null,null,null,null,null,null,null,null,null,{"$f":"+IF(P313=\"\",\"\",MAX(M$1:M312)+1)","v":""},{"$f":"IF('Gas Cylinder Information'!A315=\"\",\"\",'Gas Cylinder Information'!A315)","v":""},"",{"$f":"IF(COUNTIF(N$2:N313,N313)=1,N313,\"\")","v":""}]
[null,null,null,null,null,null,null,null,null,null,null,null,{"$f":"+IF(P314=\"\",\"\",MAX(M$1:M313)+1)","v":""},{"$f":"IF('Gas Cylinder Information'!A316=\"\",\"\",'Gas Cylinder Information'!A316)","v":""},"",{"$f":"IF(COUNTIF(N$2:N314,N314)=1,N314,\"\")","v":""}]
[null,null,null,null,null,null,null,null,null,null,null,null,{"$f":"+IF(P315=\"\",\"\",MAX(M$1:M314)+1)","v":""},{"$f":"IF('Gas Cylinder Information'!A317=\"\",\"\",'Gas Cylinder Information'!A317)","v":""},"",{"$f":"IF(COUNTIF(N$2:N315,N315)=1,N315,\"\")","v":""}]
[null,null,null,null,null,null,null,null,null,null,null,null,{"$f":"+IF(P316=\"\",\"\",MAX(M$1:M315)+1)","v":""},{"$f":"IF('Gas Cylinder Information'!A318=\"\",\"\",'Gas Cylinder Information'!A318)","v":""},"",{"$f":"IF(COUNTIF(N$2:N316,N316)=1,N316,\"\")","v":""}]
[null,null,null,null,null,null,null,null,null,null,null,null,{"$f":"+IF(P317=\"\",\"\",MAX(M$1:M316)+1)","v":""},{"$f":"IF('Gas Cylinder Information'!A319=\"\",\"\",'Gas Cylinder Information'!A319)","v":""},"",{"$f":"IF(COUNTIF(N$2:N317,N317)=1,N317,\"\")","v":""}]
[null,null,null,null,null,null,null,null,null,null,null,null,{"$f":"+IF(P318=\"\",\"\",MAX(M$1:M317)+1)","v":""},{"$f":"IF('Gas Cylinder Information'!A320=\"\",\"\",'Gas Cylinder Information'!A320)","v":""},"",{"$f":"IF(COUNTIF(N$2:N318,N318)=1,N318,\"\")","v":""}]
[null,null,null,null,null,null,null,null,null,null,null,null,{"$f":"+IF(P319=\"\",\"\",MAX(M$1:M318)+1)","v":""},{"$f":"IF('Gas Cylinder Information'!A321=\"\",\"\",'Gas Cylinder Information'!A321)","v":""},"",{"$f":"IF(COUNTIF(N$2:N319,N319)=1,N319,\"\")","v":""}]
[null,null,null,null,null,null,null,null,null,null,null,null,{"$f":"+IF(P320=\"\",\"\",MAX(M$1:M319)+1)","v":""},{"$f":"IF('Gas Cylinder Information'!A322=\"\",\"\",'Gas Cylinder Information'!A322)","v":""},"",{"$f":"IF(COUNTIF(N$2:N320,N320)=1,N320,\"\")","v":""}]
[null,null,null,null,null,null,null,null,null,null,null,null,{"$f":"+IF(P321=\"\",\"\",MAX(M$1:M320)+1)","v":""},{"$f":"IF('Gas Cylinder Information'!A323=\"\",\"\",'Gas Cylinder Information'!A323)","v":""},"",{"$f":"IF(COUNTIF(N$2:N321,N321)=1,N321,\"\")","v":""}]
[null,null,null,null,null,null,null,null,null,null,null,null,{"$f":"+IF(P322=\"\",\"\",MAX(M$1:M321)+1)","v":""},{"$f":"IF('Gas Cylinder Information'!A324=\"\",\"\",'Gas Cylinder Information'!A324)","v":""},{"$f":"+IFERROR(INDEX(N$2:N$501,MATCH(ROW()-ROW($C$1),M$2:M$501,0)),\"\")","v":""},{"$f":"IF(COUNTIF(N$2:N322,N322)=1,N322,\"\")","v":""}]
[null,null,null,null,null,null,null,null,null,null,null,null,{"$f":"+IF(P323=\"\",\"\",MAX(M$1:M322)+1)","v":""},{"$f":"IF('Gas Cylinder Information'!A325=\"\",\"\",'Gas Cylinder Information'!A325)","v":""},"",{"$f":"IF(COUNTIF(N$2:N323,N323)=1,N323,\"\")","v":""}]
[null,null,null,null,null,null,null,null,null,null,null,null,{"$f":"+IF(P324=\"\",\"\",MAX(M$1:M323)+1)","v":""},{"$f":"IF('Gas Cylinder Information'!A326=\"\",\"\",'Gas Cylinder Information'!A326)","v":""},"",{"$f":"IF(COUNTIF(N$2:N324,N324)=1,N324,\"\")","v":""}]
[null,null,null,null,null,null,null,null,null,null,null,null,{"$f":"+IF(P325=\"\",\"\",MAX(M$1:M324)+1)","v":""},{"$f":"IF('Gas Cylinder Information'!A327=\"\",\"\",'Gas Cylinder Information'!A327)","v":""},"",{"$f":"IF(COUNTIF(N$2:N325,N325)=1,N325,\"\")","v":""}]
[null,null,null,null,null,null,null,null,null,null,null,null,{"$f":"+IF(P326=\"\",\"\",MAX(M$1:M325)+1)","v":""},{"$f":"IF('Gas Cylinder Information'!A328=\"\",\"\",'Gas Cylinder Information'!A328)","v":""},"",{"$f":"IF(COUNTIF(N$2:N326,N326)=1,N326,\"\")","v":""}]
[null,null,null,null,null,null,null,null,null,null,null,null,{"$f":"+IF(P327=\"\",\"\",MAX(M$1:M326)+1)","v":""},{"$f":"IF('Gas Cylinder Information'!A329=\"\",\"\",'Gas Cylinder Information'!A329)","v":""},"",{"$f":"IF(COUNTIF(N$2:N327,N327)=1,N327,\"\")","v":""}]
[null,null,null,null,null,null,null,null,null,null,null,null,{"$f":"+IF(P328=\"\",\"\",MAX(M$1:M327)+1)","v":""},{"$f":"IF('Gas Cylinder Information'!A330=\"\",\"\",'Gas Cylinder Information'!A330)","v":""},"",{"$f":"IF(COUNTIF(N$2:N328,N328)=1,N328,\"\")","v":""}]
[null,null,null,null,null,null,null,null,null,null,null,null,{"$f":"+IF(P329=\"\",\"\",MAX(M$1:M328)+1)","v":""},{"$f":"IF('Gas Cylinder Information'!A331=\"\",\"\",'Gas Cylinder Information'!A331)","v":""},"",{"$f":"IF(COUNTIF(N$2:N329,N329)=1,N329,\"\")","v":""}]
[null,null,null,null,null,null,null,null,null,null,null,null,{"$f":"+IF(P330=\"\",\"\",MAX(M$1:M329)+1)","v":""},{"$f":"IF('Gas Cylinder Information'!A332=\"\",\"\",'Gas Cylinder Information'!A332)","v":""},"",{"$f":"IF(COUNTIF(N$2:N330,N330)=1,N330,\"\")","v":""}]
[null,null,null,null,null,null,null,null,null,null,null,null,{"$f":"+IF(P331=\"\",\"\",MAX(M$1:M330)+1)","v":""},{"$f":"IF('Gas Cylinder Information'!A333=\"\",\"\",'Gas Cylinder Information'!A333)","v":""},"",{"$f":"IF(COUNTIF(N$2:N331,N331)=1,N331,\"\")","v":""}]
[null,null,null,null,null,null,null,null,null,null,null,null,{"$f":"+IF(P332=\"\",\"\",MAX(M$1:M331)+1)","v":""},{"$f":"IF('Gas Cylinder Information'!A334=\"\",\"\",'Gas Cylinder Information'!A334)","v":""},"",{"$f":"IF(COUNTIF(N$2:N332,N332)=1,N332,\"\")","v":""}]
[null,null,null,null,null,null,null,null,null,null,null,null,{"$f":"+IF(P333=\"\",\"\",MAX(M$1:M332)+1)","v":""},{"$f":"IF('Gas Cylinder Information'!A335=\"\",\"\",'Gas Cylinder Information'!A335)","v":""},"",{"$f":"IF(COUNTIF(N$2:N333,N333)=1,N333,\"\")","v":""}]
[null,null,null,null,null,null,null,null,null,null,null,null,{"$f":"+IF(P334=\"\",\"\",MAX(M$1:M333)+1)","v":""},{"$f":"IF('Gas Cylinder Information'!A336=\"\",\"\",'Gas Cylinder Information'!A336)","v":""},"",{"$f":"IF(COUNTIF(N$2:N334,N334)=1,N334,\"\")","v":""}]
[null,null,null,null,null,null,null,null,null,null,null,null,{"$f":"+IF(P335=\"\",\"\",MAX(M$1:M334)+1)","v":""},{"$f":"IF('Gas Cylinder Information'!A337=\"\",\"\",'Gas Cylinder Information'!A337)","v":""},"",{"$f":"IF(COUNTIF(N$2:N335,N335)=1,N335,\"\")","v":""}]
[null,null,null,null,null,null,null,null,null,null,null,null,{"$f":"+IF(P336=\"\",\"\",MAX(M$1:M335)+1)","v":""},{"$f":"IF('Gas Cylinder Information'!A338=\"\",\"\",'Gas Cylinder Information'!A338)","v":""},"",{"$f":"IF(COUNTIF(N$2:N336,N336)=1,N336,\"\")","v":""}]
[null,null,null,null,null,null,null,null,null,null,null,null,{"$f":"+IF(P337=\"\",\"\",MAX(M$1:M336)+1)","v":""},{"$f":"IF('Gas Cylinder Information'!A339=\"\",\"\",'Gas Cylinder Information'!A339)","v":""},"",{"$f":"IF(COUNTIF(N$2:N337,N337)=1,N337,\"\")","v":""}]
[null,null,null,null,null,null,null,null,null,null,null,null,{"$f":"+IF(P338=\"\",\"\",MAX(M$1:M337)+1)","v":""},{"$f":"IF('Gas Cylinder Information'!A340=\"\",\"\",'Gas Cylinder Information'!A340)","v":""},"",{"$f":"IF(COUNTIF(N$2:N338,N338)=1,N338,\"\")","v":""}]
[null,null,null,null,null,null,null,null,null,null,null,null,{"$f":"+IF(P339=\"\",\"\",MAX(M$1:M338)+1)","v":""},{"$f":"IF('Gas Cylinder Information'!A341=\"\",\"\",'Gas Cylinder Information'!A341)","v":""},"",{"$f":"IF(COUNTIF(N$2:N339,N339)=1,N339,\"\")","v":""}]
[null,null,null,null,null,null,null,null,null,null,null,null,{"$f":"+IF(P340=\"\",\"\",MAX(M$1:M339)+1)","v":""},{"$f":"IF('Gas Cylinder Information'!A342=\"\",\"\",'Gas Cylinder Information'!A342)","v":""},"",{"$f":"IF(COUNTIF(N$2:N340,N340)=1,N340,\"\")","v":""}]
[null,null,null,null,null,null,null,null,null,null,null,null,{"$f":"+IF(P341=\"\",\"\",MAX(M$1:M340)+1)","v":""},{"$f":"IF('Gas Cylinder Information'!A343=\"\",\"\",'Gas Cylinder Information'!A343)","v":""},"",{"$f":"IF(COUNTIF(N$2:N341,N341)=1,N341,\"\")","v":""}]
[null,null,null,null,null,null,null,null,null,null,null,null,{"$f":"+IF(P342=\"\",\"\",MAX(M$1:M341)+1)","v":""},{"$f":"IF('Gas Cylinder Information'!A344=\"\",\"\",'Gas Cylinder Information'!A344)","v":""},"",{"$f":"IF(COUNTIF(N$2:N342,N342)=1,N342,\"\")","v":""}]
[null,null,null,null,null,null,null,null,null,null,null,null,{"$f":"+IF(P343=\"\",\"\",MAX(M$1:M342)+1)","v":""},{"$f":"IF('Gas Cylinder Information'!A345=\"\",\"\",'Gas Cylinder Information'!A345)","v":""},"",{"$f":"IF(COUNTIF(N$2:N343,N343)=1,N343,\"\")","v":""}]
[null,null,null,null,null,null,null,null,null,null,null,null,{"$f":"+IF(P344=\"\",\"\",MAX(M$1:M343)+1)","v":""},{"$f":"IF('Gas Cylinder Information'!A346=\"\",\"\",'Gas Cylinder Information'!A346)","v":""},"",{"$f":"IF(COUNTIF(N$2:N344,N344)=1,N344,\"\")","v":""}]
[null,null,null,null,null,null,null,null,null,null,null,null,{"$f":"+IF(P345=\"\",\"\",MAX(M$1:M344)+1)","v":""},{"$f":"IF('Gas Cylinder Information'!A347=\"\",\"\",'Gas Cylinder Information'!A347)","v":""},"",{"$f":"IF(COUNTIF(N$2:N345,N345)=1,N345,\"\")","v":""}]
[null,null,null,null,null,null,null,null,null,null,null,null,{"$f":"+IF(P346=\"\",\"\",MAX(M$1:M345)+1)","v":""},{"$f":"IF('Gas Cylinder Information'!A348=\"\",\"\",'Gas Cylinder Information'!A348)","v":""},"",{"$f":"IF(COUNTIF(N$2:N346,N346)=1,N346,\"\")","v":""}]
[null,null,null,null,null,null,null,null,null,null,null,null,{"$f":"+IF(P347=\"\",\"\",MAX(M$1:M346)+1)","v":""},{"$f":"IF('Gas Cylinder Information'!A349=\"\",\"\",'Gas Cylinder Information'!A349)","v":""},"",{"$f":"IF(COUNTIF(N$2:N347,N347)=1,N347,\"\")","v":""}]
[null,null,null,null,null,null,null,null,null,null,null,null,{"$f":"+IF(P348=\"\",\"\",MAX(M$1:M347)+1)","v":""},{"$f":"IF('Gas Cylinder Information'!A350=\"\",\"\",'Gas Cylinder Information'!A350)","v":""},"",{"$f":"IF(COUNTIF(N$2:N348,N348)=1,N348,\"\")","v":""}]
[null,null,null,null,null,null,null,null,null,null,null,null,{"$f":"+IF(P349=\"\",\"\",MAX(M$1:M348)+1)","v":""},{"$f":"IF('Gas Cylinder Information'!A351=\"\",\"\",'Gas Cylinder Information'!A351)","v":""},"",{"$f":"IF(COUNTIF(N$2:N349,N349)=1,N349,\"\")","v":""}]
[null,null,null,null,null,null,null,null,null,null,null,null,{"$f":"+IF(P350=\"\",\"\",MAX(M$1:M349)+1)","v":""},{"$f":"IF('Gas Cylinder Information'!A352=\"\",\"\",'Gas Cylinder Information'!A352)","v":""},"",{"$f":"IF(COUNTIF(N$2:N350,N350)=1,N350,\"\")","v":""}]
[null,null,null,null,null,null,null,null,null,null,null,null,{"$f":"+IF(P351=\"\",\"\",MAX(M$1:M350)+1)","v":""},{"$f":"IF('Gas Cylinder Information'!A353=\"\",\"\",'Gas Cylinder Information'!A353)","v":""},"",{"$f":"IF(COUNTIF(N$2:N351,N351)=1,N351,\"\")","v":""}]
[null,null,null,null,null,null,null,null,null,null,null,null,{"$f":"+IF(P352=\"\",\"\",MAX(M$1:M351)+1)","v":""},{"$f":"IF('Gas Cylinder Information'!A354=\"\",\"\",'Gas Cylinder Information'!A354)","v":""},"",{"$f":"IF(COUNTIF(N$2:N352,N352)=1,N352,\"\")","v":""}]
[null,null,null,null,null,null,null,null,null,null,null,null,{"$f":"+IF(P353=\"\",\"\",MAX(M$1:M352)+1)","v":""},{"$f":"IF('Gas Cylinder Information'!A355=\"\",\"\",'Gas Cylinder Information'!A355)","v":""},"",{"$f":"IF(COUNTIF(N$2:N353,N353)=1,N353,\"\")","v":""}]
[null,null,null,null,null,null,null,null,null,null,null,null,{"$f":"+IF(P354=\"\",\"\",MAX(M$1:M353)+1)","v":""},{"$f":"IF('Gas Cylinder Information'!A356=\"\",\"\",'Gas Cylinder Information'!A356)","v":""},"",{"$f":"IF(COUNTIF(N$2:N354,N354)=1,N354,\"\")","v":""}]
[null,null,null,null,null,null,null,null,null,null,null,null,{"$f":"+IF(P355=\"\",\"\",MAX(M$1:M354)+1)","v":""},{"$f":"IF('Gas Cylinder Information'!A357=\"\",\"\",'Gas Cylinder Information'!A357)","v":""},"",{"$f":"IF(COUNTIF(N$2:N355,N355)=1,N355,\"\")","v":""}]
[null,null,null,null,null,null,null,null,null,null,null,null,{"$f":"+IF(P356=\"\",\"\",MAX(M$1:M355)+1)","v":""},{"$f":"IF('Gas Cylinder Information'!A358=\"\",\"\",'Gas Cylinder Information'!A358)","v":""},"",{"$f":"IF(COUNTIF(N$2:N356,N356)=1,N356,\"\")","v":""}]
[null,null,null,null,null,null,null,null,null,null,null,null,{"$f":"+IF(P357=\"\",\"\",MAX(M$1:M356)+1)","v":""},{"$f":"IF('Gas Cylinder Information'!A359=\"\",\"\",'Gas Cylinder Information'!A359)","v":""},"",{"$f":"IF(COUNTIF(N$2:N357,N357)=1,N357,\"\")","v":""}]
[null,null,null,null,null,null,null,null,null,null,null,null,{"$f":"+IF(P358=\"\",\"\",MAX(M$1:M357)+1)","v":""},{"$f":"IF('Gas Cylinder Information'!A360=\"\",\"\",'Gas Cylinder Information'!A360)","v":""},"",{"$f":"IF(COUNTIF(N$2:N358,N358)=1,N358,\"\")","v":""}]
[null,null,null,null,null,null,null,null,null,null,null,null,{"$f":"+IF(P359=\"\",\"\",MAX(M$1:M358)+1)","v":""},{"$f":"IF('Gas Cylinder Information'!A361=\"\",\"\",'Gas Cylinder Information'!A361)","v":""},"",{"$f":"IF(COUNTIF(N$2:N359,N359)=1,N359,\"\")","v":""}]
[null,null,null,null,null,null,null,null,null,null,null,null,{"$f":"+IF(P360=\"\",\"\",MAX(M$1:M359)+1)","v":""},{"$f":"IF('Gas Cylinder Information'!A362=\"\",\"\",'Gas Cylinder Information'!A362)","v":""},"",{"$f":"IF(COUNTIF(N$2:N360,N360)=1,N360,\"\")","v":""}]
[null,null,null,null,null,null,null,null,null,null,null,null,{"$f":"+IF(P361=\"\",\"\",MAX(M$1:M360)+1)","v":""},{"$f":"IF('Gas Cylinder Information'!A363=\"\",\"\",'Gas Cylinder Information'!A363)","v":""},"",{"$f":"IF(COUNTIF(N$2:N361,N361)=1,N361,\"\")","v":""}]
[null,null,null,null,null,null,null,null,null,null,null,null,{"$f":"+IF(P362=\"\",\"\",MAX(M$1:M361)+1)","v":""},{"$f":"IF('Gas Cylinder Information'!A364=\"\",\"\",'Gas Cylinder Information'!A364)","v":""},"",{"$f":"IF(COUNTIF(N$2:N362,N362)=1,N362,\"\")","v":""}]
[null,null,null,null,null,null,null,null,null,null,null,null,{"$f":"+IF(P363=\"\",\"\",MAX(M$1:M362)+1)","v":""},{"$f":"IF('Gas Cylinder Information'!A365=\"\",\"\",'Gas Cylinder Information'!A365)","v":""},"",{"$f":"IF(COUNTIF(N$2:N363,N363)=1,N363,\"\")","v":""}]
[null,null,null,null,null,null,null,null,null,null,null,null,{"$f":"+IF(P364=\"\",\"\",MAX(M$1:M363)+1)","v":""},{"$f":"IF('Gas Cylinder Information'!A366=\"\",\"\",'Gas Cylinder Information'!A366)","v":""},"",{"$f":"IF(COUNTIF(N$2:N364,N364)=1,N364,\"\")","v":""}]
[null,null,null,null,null,null,null,null,null,null,null,null,{"$f":"+IF(P365=\"\",\"\",MAX(M$1:M364)+1)","v":""},{"$f":"IF('Gas Cylinder Information'!A367=\"\",\"\",'Gas Cylinder Information'!A367)","v":""},"",{"$f":"IF(COUNTIF(N$2:N365,N365)=1,N365,\"\")","v":""}]
[null,null,null,null,null,null,null,null,null,null,null,null,{"$f":"+IF(P366=\"\",\"\",MAX(M$1:M365)+1)","v":""},{"$f":"IF('Gas Cylinder Information'!A368=\"\",\"\",'Gas Cylinder Information'!A368)","v":""},"",{"$f":"IF(COUNTIF(N$2:N366,N366)=1,N366,\"\")","v":""}]
[null,null,null,null,null,null,null,null,null,null,null,null,{"$f":"+IF(P367=\"\",\"\",MAX(M$1:M366)+1)","v":""},{"$f":"IF('Gas Cylinder Information'!A369=\"\",\"\",'Gas Cylinder Information'!A369)","v":""},"",{"$f":"IF(COUNTIF(N$2:N367,N367)=1,N367,\"\")","v":""}]
[null,null,null,null,null,null,null,null,null,null,null,null,{"$f":"+IF(P368=\"\",\"\",MAX(M$1:M367)+1)","v":""},{"$f":"IF('Gas Cylinder Information'!A370=\"\",\"\",'Gas Cylinder Information'!A370)","v":""},"",{"$f":"IF(COUNTIF(N$2:N368,N368)=1,N368,\"\")","v":""}]
[null,null,null,null,null,null,null,null,null,null,null,null,{"$f":"+IF(P369=\"\",\"\",MAX(M$1:M368)+1)","v":""},{"$f":"IF('Gas Cylinder Information'!A371=\"\",\"\",'Gas Cylinder Information'!A371)","v":""},"",{"$f":"IF(COUNTIF(N$2:N369,N369)=1,N369,\"\")","v":""}]
[null,null,null,null,null,null,null,null,null,null,null,null,{"$f":"+IF(P370=\"\",\"\",MAX(M$1:M369)+1)","v":""},{"$f":"IF('Gas Cylinder Information'!A372=\"\",\"\",'Gas Cylinder Information'!A372)","v":""},"",{"$f":"IF(COUNTIF(N$2:N370,N370)=1,N370,\"\")","v":""}]
[null,null,null,null,null,null,null,null,null,null,null,null,{"$f":"+IF(P371=\"\",\"\",MAX(M$1:M370)+1)","v":""},{"$f":"IF('Gas Cylinder Information'!A373=\"\",\"\",'Gas Cylinder Information'!A373)","v":""},"",{"$f":"IF(COUNTIF(N$2:N371,N371)=1,N371,\"\")","v":""}]
[null,null,null,null,null,null,null,null,null,null,null,null,{"$f":"+IF(P372=\"\",\"\",MAX(M$1:M371)+1)","v":""},{"$f":"IF('Gas Cylinder Information'!A374=\"\",\"\",'Gas Cylinder Information'!A374)","v":""},"",{"$f":"IF(COUNTIF(N$2:N372,N372)=1,N372,\"\")","v":""}]
[null,null,null,null,null,null,null,null,null,null,null,null,{"$f":"+IF(P373=\"\",\"\",MAX(M$1:M372)+1)","v":""},{"$f":"IF('Gas Cylinder Information'!A375=\"\",\"\",'Gas Cylinder Information'!A375)","v":""},"",{"$f":"IF(COUNTIF(N$2:N373,N373)=1,N373,\"\")","v":""}]
[null,null,null,null,null,null,null,null,null,null,null,null,{"$f":"+IF(P374=\"\",\"\",MAX(M$1:M373)+1)","v":""},{"$f":"IF('Gas Cylinder Information'!A376=\"\",\"\",'Gas Cylinder Information'!A376)","v":""},"",{"$f":"IF(COUNTIF(N$2:N374,N374)=1,N374,\"\")","v":""}]
[null,null,null,null,null,null,null,null,null,null,null,null,{"$f":"+IF(P375=\"\",\"\",MAX(M$1:M374)+1)","v":""},{"$f":"IF('Gas Cylinder Information'!A377=\"\",\"\",'Gas Cylinder Information'!A377)","v":""},"",{"$f":"IF(COUNTIF(N$2:N375,N375)=1,N375,\"\")","v":""}]
[null,null,null,null,null,null,null,null,null,null,null,null,{"$f":"+IF(P376=\"\",\"\",MAX(M$1:M375)+1)","v":""},{"$f":"IF('Gas Cylinder Information'!A378=\"\",\"\",'Gas Cylinder Information'!A378)","v":""},"",{"$f":"IF(COUNTIF(N$2:N376,N376)=1,N376,\"\")","v":""}]
[null,null,null,null,null,null,null,null,null,null,null,null,{"$f":"+IF(P377=\"\",\"\",MAX(M$1:M376)+1)","v":""},{"$f":"IF('Gas Cylinder Information'!A379=\"\",\"\",'Gas Cylinder Information'!A379)","v":""},"",{"$f":"IF(COUNTIF(N$2:N377,N377)=1,N377,\"\")","v":""}]
[null,null,null,null,null,null,null,null,null,null,null,null,{"$f":"+IF(P378=\"\",\"\",MAX(M$1:M377)+1)","v":""},{"$f":"IF('Gas Cylinder Information'!A380=\"\",\"\",'Gas Cylinder Information'!A380)","v":""},"",{"$f":"IF(COUNTIF(N$2:N378,N378)=1,N378,\"\")","v":""}]
[null,null,null,null,null,null,null,null,null,null,null,null,{"$f":"+IF(P379=\"\",\"\",MAX(M$1:M378)+1)","v":""},{"$f":"IF('Gas Cylinder Information'!A381=\"\",\"\",'Gas Cylinder Information'!A381)","v":""},"",{"$f":"IF(COUNTIF(N$2:N379,N379)=1,N379,\"\")","v":""}]
[null,null,null,null,null,null,null,null,null,null,null,null,{"$f":"+IF(P380=\"\",\"\",MAX(M$1:M379)+1)","v":""},{"$f":"IF('Gas Cylinder Information'!A382=\"\",\"\",'Gas Cylinder Information'!A382)","v":""},"",{"$f":"IF(COUNTIF(N$2:N380,N380)=1,N380,\"\")","v":""}]
[null,null,null,null,null,null,null,null,null,null,null,null,{"$f":"+IF(P381=\"\",\"\",MAX(M$1:M380)+1)","v":""},{"$f":"IF('Gas Cylinder Information'!A383=\"\",\"\",'Gas Cylinder Information'!A383)","v":""},"",{"$f":"IF(COUNTIF(N$2:N381,N381)=1,N381,\"\")","v":""}]
[null,null,null,null,null,null,null,null,null,null,null,null,{"$f":"+IF(P382=\"\",\"\",MAX(M$1:M381)+1)","v":""},{"$f":"IF('Gas Cylinder Information'!A384=\"\",\"\",'Gas Cylinder Information'!A384)","v":""},"",{"$f":"IF(COUNTIF(N$2:N382,N382)=1,N382,\"\")","v":""}]
[null,null,null,null,null,null,null,null,null,null,null,null,{"$f":"+IF(P383=\"\",\"\",MAX(M$1:M382)+1)","v":""},{"$f":"IF('Gas Cylinder Information'!A385=\"\",\"\",'Gas Cylinder Information'!A385)","v":""},"",{"$f":"IF(COUNTIF(N$2:N383,N383)=1,N383,\"\")","v":""}]
[null,null,null,null,null,null,null,null,null,null,null,null,{"$f":"+IF(P384=\"\",\"\",MAX(M$1:M383)+1)","v":""},{"$f":"IF('Gas Cylinder Information'!A386=\"\",\"\",'Gas Cylinder Information'!A386)","v":""},"",{"$f":"IF(COUNTIF(N$2:N384,N384)=1,N384,\"\")","v":""}]
[null,null,null,null,null,null,null,null,null,null,null,null,{"$f":"+IF(P385=\"\",\"\",MAX(M$1:M384)+1)","v":""},{"$f":"IF('Gas Cylinder Information'!A387=\"\",\"\",'Gas Cylinder Information'!A387)","v":""},"",{"$f":"IF(COUNTIF(N$2:N385,N385)=1,N385,\"\")","v":""}]
[null,null,null,null,null,null,null,null,null,null,null,null,{"$f":"+IF(P386=\"\",\"\",MAX(M$1:M385)+1)","v":""},{"$f":"IF('Gas Cylinder Information'!A388=\"\",\"\",'Gas Cylinder Information'!A388)","v":""},{"$f":"+IFERROR(INDEX(N$2:N$501,MATCH(ROW()-ROW($C$1),M$2:M$501,0)),\"\")","v":""},{"$f":"IF(COUNTIF(N$2:N386,N386)=1,N386,\"\")","v":""}]
[null,null,null,null,null,null,null,null,null,null,null,null,{"$f":"+IF(P387=\"\",\"\",MAX(M$1:M386)+1)","v":""},{"$f":"IF('Gas Cylinder Information'!A389=\"\",\"\",'Gas Cylinder Information'!A389)","v":""},"",{"$f":"IF(COUNTIF(N$2:N387,N387)=1,N387,\"\")","v":""}]
[null,null,null,null,null,null,null,null,null,null,null,null,{"$f":"+IF(P388=\"\",\"\",MAX(M$1:M387)+1)","v":""},{"$f":"IF('Gas Cylinder Information'!A390=\"\",\"\",'Gas Cylinder Information'!A390)","v":""},"",{"$f":"IF(COUNTIF(N$2:N388,N388)=1,N388,\"\")","v":""}]
[null,null,null,null,null,null,null,null,null,null,null,null,{"$f":"+IF(P389=\"\",\"\",MAX(M$1:M388)+1)","v":""},{"$f":"IF('Gas Cylinder Information'!A391=\"\",\"\",'Gas Cylinder Information'!A391)","v":""},"",{"$f":"IF(COUNTIF(N$2:N389,N389)=1,N389,\"\")","v":""}]
[null,null,null,null,null,null,null,null,null,null,null,null,{"$f":"+IF(P390=\"\",\"\",MAX(M$1:M389)+1)","v":""},{"$f":"IF('Gas Cylinder Information'!A392=\"\",\"\",'Gas Cylinder Information'!A392)","v":""},"",{"$f":"IF(COUNTIF(N$2:N390,N390)=1,N390,\"\")","v":""}]
[null,null,null,null,null,null,null,null,null,null,null,null,{"$f":"+IF(P391=\"\",\"\",MAX(M$1:M390)+1)","v":""},{"$f":"IF('Gas Cylinder Information'!A393=\"\",\"\",'Gas Cylinder Information'!A393)","v":""},"",{"$f":"IF(COUNTIF(N$2:N391,N391)=1,N391,\"\")","v":""}]
[null,null,null,null,null,null,null,null,null,null,null,null,{"$f":"+IF(P392=\"\",\"\",MAX(M$1:M391)+1)","v":""},{"$f":"IF('Gas Cylinder Information'!A394=\"\",\"\",'Gas Cylinder Information'!A394)","v":""},"",{"$f":"IF(COUNTIF(N$2:N392,N392)=1,N392,\"\")","v":""}]
[null,null,null,null,null,null,null,null,null,null,null,null,{"$f":"+IF(P393=\"\",\"\",MAX(M$1:M392)+1)","v":""},{"$f":"IF('Gas Cylinder Information'!A395=\"\",\"\",'Gas Cylinder Information'!A395)","v":""},"",{"$f":"IF(COUNTIF(N$2:N393,N393)=1,N393,\"\")","v":""}]
[null,null,null,null,null,null,null,null,null,null,null,null,{"$f":"+IF(P394=\"\",\"\",MAX(M$1:M393)+1)","v":""},{"$f":"IF('Gas Cylinder Information'!A396=\"\",\"\",'Gas Cylinder Information'!A396)","v":""},"",{"$f":"IF(COUNTIF(N$2:N394,N394)=1,N394,\"\")","v":""}]
[null,null,null,null,null,null,null,null,null,null,null,null,{"$f":"+IF(P395=\"\",\"\",MAX(M$1:M394)+1)","v":""},{"$f":"IF('Gas Cylinder Information'!A397=\"\",\"\",'Gas Cylinder Information'!A397)","v":""},"",{"$f":"IF(COUNTIF(N$2:N395,N395)=1,N395,\"\")","v":""}]
[null,null,null,null,null,null,null,null,null,null,null,null,{"$f":"+IF(P396=\"\",\"\",MAX(M$1:M395)+1)","v":""},{"$f":"IF('Gas Cylinder Information'!A398=\"\",\"\",'Gas Cylinder Information'!A398)","v":""},"",{"$f":"IF(COUNTIF(N$2:N396,N396)=1,N396,\"\")","v":""}]
[null,null,null,null,null,null,null,null,null,null,null,null,{"$f":"+IF(P397=\"\",\"\",MAX(M$1:M396)+1)","v":""},{"$f":"IF('Gas Cylinder Information'!A399=\"\",\"\",'Gas Cylinder Information'!A399)","v":""},"",{"$f":"IF(COUNTIF(N$2:N397,N397)=1,N397,\"\")","v":""}]
[null,null,null,null,null,null,null,null,null,null,null,null,{"$f":"+IF(P398=\"\",\"\",MAX(M$1:M397)+1)","v":""},{"$f":"IF('Gas Cylinder Information'!A400=\"\",\"\",'Gas Cylinder Information'!A400)","v":""},"",{"$f":"IF(COUNTIF(N$2:N398,N398)=1,N398,\"\")","v":""}]
[null,null,null,null,null,null,null,null,null,null,null,null,{"$f":"+IF(P399=\"\",\"\",MAX(M$1:M398)+1)","v":""},{"$f":"IF('Gas Cylinder Information'!A401=\"\",\"\",'Gas Cylinder Information'!A401)","v":""},"",{"$f":"IF(COUNTIF(N$2:N399,N399)=1,N399,\"\")","v":""}]
[null,null,null,null,null,null,null,null,null,null,null,null,{"$f":"+IF(P400=\"\",\"\",MAX(M$1:M399)+1)","v":""},{"$f":"IF('Gas Cylinder Information'!A402=\"\",\"\",'Gas Cylinder Information'!A402)","v":""},"",{"$f":"IF(COUNTIF(N$2:N400,N400)=1,N400,\"\")","v":""}]
[null,null,null,null,null,null,null,null,null,null,null,null,{"$f":"+IF(P401=\"\",\"\",MAX(M$1:M400)+1)","v":""},{"$f":"IF('Gas Cylinder Information'!A403=\"\",\"\",'Gas Cylinder Information'!A403)","v":""},"",{"$f":"IF(COUNTIF(N$2:N401,N401)=1,N401,\"\")","v":""}]
[null,null,null,null,null,null,null,null,null,null,null,null,{"$f":"+IF(P402=\"\",\"\",MAX(M$1:M401)+1)","v":""},{"$f":"IF('Gas Cylinder Information'!A404=\"\",\"\",'Gas Cylinder Information'!A404)","v":""},"",{"$f":"IF(COUNTIF(N$2:N402,N402)=1,N402,\"\")","v":""}]
[null,null,null,null,null,null,null,null,null,null,null,null,{"$f":"+IF(P403=\"\",\"\",MAX(M$1:M402)+1)","v":""},{"$f":"IF('Gas Cylinder Information'!A405=\"\",\"\",'Gas Cylinder Information'!A405)","v":""},"",{"$f":"IF(COUNTIF(N$2:N403,N403)=1,N403,\"\")","v":""}]
[null,null,null,null,null,null,null,null,null,null,null,null,{"$f":"+IF(P404=\"\",\"\",MAX(M$1:M403)+1)","v":""},{"$f":"IF('Gas Cylinder Information'!A406=\"\",\"\",'Gas Cylinder Information'!A406)","v":""},"",{"$f":"IF(COUNTIF(N$2:N404,N404)=1,N404,\"\")","v":""}]
[null,null,null,null,null,null,null,null,null,null,null,null,{"$f":"+IF(P405=\"\",\"\",MAX(M$1:M404)+1)","v":""},{"$f":"IF('Gas Cylinder Information'!A407=\"\",\"\",'Gas Cylinder Information'!A407)","v":""},"",{"$f":"IF(COUNTIF(N$2:N405,N405)=1,N405,\"\")","v":""}]
[null,null,null,null,null,null,null,null,null,null,null,null,{"$f":"+IF(P406=\"\",\"\",MAX(M$1:M405)+1)","v":""},{"$f":"IF('Gas Cylinder Information'!A408=\"\",\"\",'Gas Cylinder Information'!A408)","v":""},"",{"$f":"IF(COUNTIF(N$2:N406,N406)=1,N406,\"\")","v":""}]
[null,null,null,null,null,null,null,null,null,null,null,null,{"$f":"+IF(P407=\"\",\"\",MAX(M$1:M406)+1)","v":""},{"$f":"IF('Gas Cylinder Information'!A409=\"\",\"\",'Gas Cylinder Information'!A409)","v":""},"",{"$f":"IF(COUNTIF(N$2:N407,N407)=1,N407,\"\")","v":""}]
[null,null,null,null,null,null,null,null,null,null,null,null,{"$f":"+IF(P408=\"\",\"\",MAX(M$1:M407)+1)","v":""},{"$f":"IF('Gas Cylinder Information'!A410=\"\",\"\",'Gas Cylinder Information'!A410)","v":""},"",{"$f":"IF(COUNTIF(N$2:N408,N408)=1,N408,\"\")","v":""}]
[null,null,null,null,null,null,null,null,null,null,null,null,{"$f":"+IF(P409=\"\",\"\",MAX(M$1:M408)+1)","v":""},{"$f":"IF('Gas Cylinder Information'!A411=\"\",\"\",'Gas Cylinder Information'!A411)","v":""},"",{"$f":"IF(COUNTIF(N$2:N409,N409)=1,N409,\"\")","v":""}]
[null,null,null,null,null,null,null,null,null,null,null,null,{"$f":"+IF(P410=\"\",\"\",MAX(M$1:M409)+1)","v":""},{"$f":"IF('Gas Cylinder Information'!A412=\"\",\"\",'Gas Cylinder Information'!A412)","v":""},"",{"$f":"IF(COUNTIF(N$2:N410,N410)=1,N410,\"\")","v":""}]
[null,null,null,null,null,null,null,null,null,null,null,null,{"$f":"+IF(P411=\"\",\"\",MAX(M$1:M410)+1)","v":""},{"$f":"IF('Gas Cylinder Information'!A413=\"\",\"\",'Gas Cylinder Information'!A413)","v":""},"",{"$f":"IF(COUNTIF(N$2:N411,N411)=1,N411,\"\")","v":""}]
[null,null,null,null,null,null,null,null,null,null,null,null,{"$f":"+IF(P412=\"\",\"\",MAX(M$1:M411)+1)","v":""},{"$f":"IF('Gas Cylinder Information'!A414=\"\",\"\",'Gas Cylinder Information'!A414)","v":""},"",{"$f":"IF(COUNTIF(N$2:N412,N412)=1,N412,\"\")","v":""}]
[null,null,null,null,null,null,null,null,null,null,null,null,{"$f":"+IF(P413=\"\",\"\",MAX(M$1:M412)+1)","v":""},{"$f":"IF('Gas Cylinder Information'!A415=\"\",\"\",'Gas Cylinder Information'!A415)","v":""},"",{"$f":"IF(COUNTIF(N$2:N413,N413)=1,N413,\"\")","v":""}]
[null,null,null,null,null,null,null,null,null,null,null,null,{"$f":"+IF(P414=\"\",\"\",MAX(M$1:M413)+1)","v":""},{"$f":"IF('Gas Cylinder Information'!A416=\"\",\"\",'Gas Cylinder Information'!A416)","v":""},"",{"$f":"IF(COUNTIF(N$2:N414,N414)=1,N414,\"\")","v":""}]
[null,null,null,null,null,null,null,null,null,null,null,null,{"$f":"+IF(P415=\"\",\"\",MAX(M$1:M414)+1)","v":""},{"$f":"IF('Gas Cylinder Information'!A417=\"\",\"\",'Gas Cylinder Information'!A417)","v":""},"",{"$f":"IF(COUNTIF(N$2:N415,N415)=1,N415,\"\")","v":""}]
[null,null,null,null,null,null,null,null,null,null,null,null,{"$f":"+IF(P416=\"\",\"\",MAX(M$1:M415)+1)","v":""},{"$f":"IF('Gas Cylinder Information'!A418=\"\",\"\",'Gas Cylinder Information'!A418)","v":""},"",{"$f":"IF(COUNTIF(N$2:N416,N416)=1,N416,\"\")","v":""}]
[null,null,null,null,null,null,null,null,null,null,null,null,{"$f":"+IF(P417=\"\",\"\",MAX(M$1:M416)+1)","v":""},{"$f":"IF('Gas Cylinder Information'!A419=\"\",\"\",'Gas Cylinder Information'!A419)","v":""},"",{"$f":"IF(COUNTIF(N$2:N417,N417)=1,N417,\"\")","v":""}]
[null,null,null,null,null,null,null,null,null,null,null,null,{"$f":"+IF(P418=\"\",\"\",MAX(M$1:M417)+1)","v":""},{"$f":"IF('Gas Cylinder Information'!A420=\"\",\"\",'Gas Cylinder Information'!A420)","v":""},"",{"$f":"IF(COUNTIF(N$2:N418,N418)=1,N418,\"\")","v":""}]
[null,null,null,null,null,null,null,null,null,null,null,null,{"$f":"+IF(P419=\"\",\"\",MAX(M$1:M418)+1)","v":""},{"$f":"IF('Gas Cylinder Information'!A421=\"\",\"\",'Gas Cylinder Information'!A421)","v":""},"",{"$f":"IF(COUNTIF(N$2:N419,N419)=1,N419,\"\")","v":""}]
[null,null,null,null,null,null,null,null,null,null,null,null,{"$f":"+IF(P420=\"\",\"\",MAX(M$1:M419)+1)","v":""},{"$f":"IF('Gas Cylinder Information'!A422=\"\",\"\",'Gas Cylinder Information'!A422)","v":""},"",{"$f":"IF(COUNTIF(N$2:N420,N420)=1,N420,\"\")","v":""}]
[null,null,null,null,null,null,null,null,null,null,null,null,{"$f":"+IF(P421=\"\",\"\",MAX(M$1:M420)+1)","v":""},{"$f":"IF('Gas Cylinder Information'!A423=\"\",\"\",'Gas Cylinder Information'!A423)","v":""},"",{"$f":"IF(COUNTIF(N$2:N421,N421)=1,N421,\"\")","v":""}]
[null,null,null,null,null,null,null,null,null,null,null,null,{"$f":"+IF(P422=\"\",\"\",MAX(M$1:M421)+1)","v":""},{"$f":"IF('Gas Cylinder Information'!A424=\"\",\"\",'Gas Cylinder Information'!A424)","v":""},"",{"$f":"IF(COUNTIF(N$2:N422,N422)=1,N422,\"\")","v":""}]
[null,null,null,null,null,null,null,null,null,null,null,null,{"$f":"+IF(P423=\"\",\"\",MAX(M$1:M422)+1)","v":""},{"$f":"IF('Gas Cylinder Information'!A425=\"\",\"\",'Gas Cylinder Information'!A425)","v":""},"",{"$f":"IF(COUNTIF(N$2:N423,N423)=1,N423,\"\")","v":""}]
[null,null,null,null,null,null,null,null,null,null,null,null,{"$f":"+IF(P424=\"\",\"\",MAX(M$1:M423)+1)","v":""},{"$f":"IF('Gas Cylinder Information'!A426=\"\",\"\",'Gas Cylinder Information'!A426)","v":""},"",{"$f":"IF(COUNTIF(N$2:N424,N424)=1,N424,\"\")","v":""}]
[null,null,null,null,null,null,null,null,null,null,null,null,{"$f":"+IF(P425=\"\",\"\",MAX(M$1:M424)+1)","v":""},{"$f":"IF('Gas Cylinder Information'!A427=\"\",\"\",'Gas Cylinder Information'!A427)","v":""},"",{"$f":"IF(COUNTIF(N$2:N425,N425)=1,N425,\"\")","v":""}]
[null,null,null,null,null,null,null,null,null,null,null,null,{"$f":"+IF(P426=\"\",\"\",MAX(M$1:M425)+1)","v":""},{"$f":"IF('Gas Cylinder Information'!A428=\"\",\"\",'Gas Cylinder Information'!A428)","v":""},"",{"$f":"IF(COUNTIF(N$2:N426,N426)=1,N426,\"\")","v":""}]
[null,null,null,null,null,null,null,null,null,null,null,null,{"$f":"+IF(P427=\"\",\"\",MAX(M$1:M426)+1)","v":""},{"$f":"IF('Gas Cylinder Information'!A429=\"\",\"\",'Gas Cylinder Information'!A429)","v":""},"",{"$f":"IF(COUNTIF(N$2:N427,N427)=1,N427,\"\")","v":""}]
[null,null,null,null,null,null,null,null,null,null,null,null,{"$f":"+IF(P428=\"\",\"\",MAX(M$1:M427)+1)","v":""},{"$f":"IF('Gas Cylinder Information'!A430=\"\",\"\",'Gas Cylinder Information'!A430)","v":""},"",{"$f":"IF(COUNTIF(N$2:N428,N428)=1,N428,\"\")","v":""}]
[null,null,null,null,null,null,null,null,null,null,null,null,{"$f":"+IF(P429=\"\",\"\",MAX(M$1:M428)+1)","v":""},{"$f":"IF('Gas Cylinder Information'!A431=\"\",\"\",'Gas Cylinder Information'!A431)","v":""},"",{"$f":"IF(COUNTIF(N$2:N429,N429)=1,N429,\"\")","v":""}]
[null,null,null,null,null,null,null,null,null,null,null,null,{"$f":"+IF(P430=\"\",\"\",MAX(M$1:M429)+1)","v":""},{"$f":"IF('Gas Cylinder Information'!A432=\"\",\"\",'Gas Cylinder Information'!A432)","v":""},"",{"$f":"IF(COUNTIF(N$2:N430,N430)=1,N430,\"\")","v":""}]
[null,null,null,null,null,null,null,null,null,null,null,null,{"$f":"+IF(P431=\"\",\"\",MAX(M$1:M430)+1)","v":""},{"$f":"IF('Gas Cylinder Information'!A433=\"\",\"\",'Gas Cylinder Information'!A433)","v":""},"",{"$f":"IF(COUNTIF(N$2:N431,N431)=1,N431,\"\")","v":""}]
[null,null,null,null,null,null,null,null,null,null,null,null,{"$f":"+IF(P432=\"\",\"\",MAX(M$1:M431)+1)","v":""},{"$f":"IF('Gas Cylinder Information'!A434=\"\",\"\",'Gas Cylinder Information'!A434)","v":""},"",{"$f":"IF(COUNTIF(N$2:N432,N432)=1,N432,\"\")","v":""}]
[null,null,null,null,null,null,null,null,null,null,null,null,{"$f":"+IF(P433=\"\",\"\",MAX(M$1:M432)+1)","v":""},{"$f":"IF('Gas Cylinder Information'!A435=\"\",\"\",'Gas Cylinder Information'!A435)","v":""},"",{"$f":"IF(COUNTIF(N$2:N433,N433)=1,N433,\"\")","v":""}]
[null,null,null,null,null,null,null,null,null,null,null,null,{"$f":"+IF(P434=\"\",\"\",MAX(M$1:M433)+1)","v":""},{"$f":"IF('Gas Cylinder Information'!A436=\"\",\"\",'Gas Cylinder Information'!A436)","v":""},"",{"$f":"IF(COUNTIF(N$2:N434,N434)=1,N434,\"\")","v":""}]
[null,null,null,null,null,null,null,null,null,null,null,null,{"$f":"+IF(P435=\"\",\"\",MAX(M$1:M434)+1)","v":""},{"$f":"IF('Gas Cylinder Information'!A437=\"\",\"\",'Gas Cylinder Information'!A437)","v":""},"",{"$f":"IF(COUNTIF(N$2:N435,N435)=1,N435,\"\")","v":""}]
[null,null,null,null,null,null,null,null,null,null,null,null,{"$f":"+IF(P436=\"\",\"\",MAX(M$1:M435)+1)","v":""},{"$f":"IF('Gas Cylinder Information'!A438=\"\",\"\",'Gas Cylinder Information'!A438)","v":""},"",{"$f":"IF(COUNTIF(N$2:N436,N436)=1,N436,\"\")","v":""}]
[null,null,null,null,null,null,null,null,null,null,null,null,{"$f":"+IF(P437=\"\",\"\",MAX(M$1:M436)+1)","v":""},{"$f":"IF('Gas Cylinder Information'!A439=\"\",\"\",'Gas Cylinder Information'!A439)","v":""},"",{"$f":"IF(COUNTIF(N$2:N437,N437)=1,N437,\"\")","v":""}]
[null,null,null,null,null,null,null,null,null,null,null,null,{"$f":"+IF(P438=\"\",\"\",MAX(M$1:M437)+1)","v":""},{"$f":"IF('Gas Cylinder Information'!A440=\"\",\"\",'Gas Cylinder Information'!A440)","v":""},"",{"$f":"IF(COUNTIF(N$2:N438,N438)=1,N438,\"\")","v":""}]
[null,null,null,null,null,null,null,null,null,null,null,null,{"$f":"+IF(P439=\"\",\"\",MAX(M$1:M438)+1)","v":""},{"$f":"IF('Gas Cylinder Information'!A441=\"\",\"\",'Gas Cylinder Information'!A441)","v":""},"",{"$f":"IF(COUNTIF(N$2:N439,N439)=1,N439,\"\")","v":""}]
[null,null,null,null,null,null,null,null,null,null,null,null,{"$f":"+IF(P440=\"\",\"\",MAX(M$1:M439)+1)","v":""},{"$f":"IF('Gas Cylinder Information'!A442=\"\",\"\",'Gas Cylinder Information'!A442)","v":""},"",{"$f":"IF(COUNTIF(N$2:N440,N440)=1,N440,\"\")","v":""}]
[null,null,null,null,null,null,null,null,null,null,null,null,{"$f":"+IF(P441=\"\",\"\",MAX(M$1:M440)+1)","v":""},{"$f":"IF('Gas Cylinder Information'!A443=\"\",\"\",'Gas Cylinder Information'!A443)","v":""},"",{"$f":"IF(COUNTIF(N$2:N441,N441)=1,N441,\"\")","v":""}]
[null,null,null,null,null,null,null,null,null,null,null,null,{"$f":"+IF(P442=\"\",\"\",MAX(M$1:M441)+1)","v":""},{"$f":"IF('Gas Cylinder Information'!A444=\"\",\"\",'Gas Cylinder Information'!A444)","v":""},"",{"$f":"IF(COUNTIF(N$2:N442,N442)=1,N442,\"\")","v":""}]
[null,null,null,null,null,null,null,null,null,null,null,null,{"$f":"+IF(P443=\"\",\"\",MAX(M$1:M442)+1)","v":""},{"$f":"IF('Gas Cylinder Information'!A445=\"\",\"\",'Gas Cylinder Information'!A445)","v":""},"",{"$f":"IF(COUNTIF(N$2:N443,N443)=1,N443,\"\")","v":""}]
[null,null,null,null,null,null,null,null,null,null,null,null,{"$f":"+IF(P444=\"\",\"\",MAX(M$1:M443)+1)","v":""},{"$f":"IF('Gas Cylinder Information'!A446=\"\",\"\",'Gas Cylinder Information'!A446)","v":""},"",{"$f":"IF(COUNTIF(N$2:N444,N444)=1,N444,\"\")","v":""}]
[null,null,null,null,null,null,null,null,null,null,null,null,{"$f":"+IF(P445=\"\",\"\",MAX(M$1:M444)+1)","v":""},{"$f":"IF('Gas Cylinder Information'!A447=\"\",\"\",'Gas Cylinder Information'!A447)","v":""},"",{"$f":"IF(COUNTIF(N$2:N445,N445)=1,N445,\"\")","v":""}]
[null,null,null,null,null,null,null,null,null,null,null,null,{"$f":"+IF(P446=\"\",\"\",MAX(M$1:M445)+1)","v":""},{"$f":"IF('Gas Cylinder Information'!A448=\"\",\"\",'Gas Cylinder Information'!A448)","v":""},"",{"$f":"IF(COUNTIF(N$2:N446,N446)=1,N446,\"\")","v":""}]
[null,null,null,null,null,null,null,null,null,null,null,null,{"$f":"+IF(P447=\"\",\"\",MAX(M$1:M446)+1)","v":""},{"$f":"IF('Gas Cylinder Information'!A449=\"\",\"\",'Gas Cylinder Information'!A449)","v":""},"",{"$f":"IF(COUNTIF(N$2:N447,N447)=1,N447,\"\")","v":""}]
[null,null,null,null,null,null,null,null,null,null,null,null,{"$f":"+IF(P448=\"\",\"\",MAX(M$1:M447)+1)","v":""},{"$f":"IF('Gas Cylinder Information'!A450=\"\",\"\",'Gas Cylinder Information'!A450)","v":""},"",{"$f":"IF(COUNTIF(N$2:N448,N448)=1,N448,\"\")","v":""}]
[null,null,null,null,null,null,null,null,null,null,null,null,{"$f":"+IF(P449=\"\",\"\",MAX(M$1:M448)+1)","v":""},{"$f":"IF('Gas Cylinder Information'!A451=\"\",\"\",'Gas Cylinder Information'!A451)","v":""},"",{"$f":"IF(COUNTIF(N$2:N449,N449)=1,N449,\"\")","v":""}]
[null,null,null,null,null,null,null,null,null,null,null,null,{"$f":"+IF(P450=\"\",\"\",MAX(M$1:M449)+1)","v":""},{"$f":"IF('Gas Cylinder Information'!A452=\"\",\"\",'Gas Cylinder Information'!A452)","v":""},{"$f":"+IFERROR(INDEX(N$2:N$501,MATCH(ROW()-ROW($C$1),M$2:M$501,0)),\"\")","v":""},{"$f":"IF(COUNTIF(N$2:N450,N450)=1,N450,\"\")","v":""}]
[null,null,null,null,null,null,null,null,null,null,null,null,{"$f":"+IF(P451=\"\",\"\",MAX(M$1:M450)+1)","v":""},{"$f":"IF('Gas Cylinder Information'!A453=\"\",\"\",'Gas Cylinder Information'!A453)","v":""},"",{"$f":"IF(COUNTIF(N$2:N451,N451)=1,N451,\"\")","v":""}]
[null,null,null,null,null,null,null,null,null,null,null,null,{"$f":"+IF(P452=\"\",\"\",MAX(M$1:M451)+1)","v":""},{"$f":"IF('Gas Cylinder Information'!A454=\"\",\"\",'Gas Cylinder Information'!A454)","v":""},"",{"$f":"IF(COUNTIF(N$2:N452,N452)=1,N452,\"\")","v":""}]
[null,null,null,null,null,null,null,null,null,null,null,null,{"$f":"+IF(P453=\"\",\"\",MAX(M$1:M452)+1)","v":""},{"$f":"IF('Gas Cylinder Information'!A455=\"\",\"\",'Gas Cylinder Information'!A455)","v":""},"",{"$f":"IF(COUNTIF(N$2:N453,N453)=1,N453,\"\")","v":""}]
[null,null,null,null,null,null,null,null,null,null,null,null,{"$f":"+IF(P454=\"\",\"\",MAX(M$1:M453)+1)","v":""},{"$f":"IF('Gas Cylinder Information'!A456=\"\",\"\",'Gas Cylinder Information'!A456)","v":""},"",{"$f":"IF(COUNTIF(N$2:N454,N454)=1,N454,\"\")","v":""}]
[null,null,null,null,null,null,null,null,null,null,null,null,{"$f":"+IF(P455=\"\",\"\",MAX(M$1:M454)+1)","v":""},{"$f":"IF('Gas Cylinder Information'!A457=\"\",\"\",'Gas Cylinder Information'!A457)","v":""},"",{"$f":"IF(COUNTIF(N$2:N455,N455)=1,N455,\"\")","v":""}]
[null,null,null,null,null,null,null,null,null,null,null,null,{"$f":"+IF(P456=\"\",\"\",MAX(M$1:M455)+1)","v":""},{"$f":"IF('Gas Cylinder Information'!A458=\"\",\"\",'Gas Cylinder Information'!A458)","v":""},"",{"$f":"IF(COUNTIF(N$2:N456,N456)=1,N456,\"\")","v":""}]
[null,null,null,null,null,null,null,null,null,null,null,null,{"$f":"+IF(P457=\"\",\"\",MAX(M$1:M456)+1)","v":""},{"$f":"IF('Gas Cylinder Information'!A459=\"\",\"\",'Gas Cylinder Information'!A459)","v":""},"",{"$f":"IF(COUNTIF(N$2:N457,N457)=1,N457,\"\")","v":""}]
[null,null,null,null,null,null,null,null,null,null,null,null,{"$f":"+IF(P458=\"\",\"\",MAX(M$1:M457)+1)","v":""},{"$f":"IF('Gas Cylinder Information'!A460=\"\",\"\",'Gas Cylinder Information'!A460)","v":""},"",{"$f":"IF(COUNTIF(N$2:N458,N458)=1,N458,\"\")","v":""}]
[null,null,null,null,null,null,null,null,null,null,null,null,{"$f":"+IF(P459=\"\",\"\",MAX(M$1:M458)+1)","v":""},{"$f":"IF('Gas Cylinder Information'!A461=\"\",\"\",'Gas Cylinder Information'!A461)","v":""},"",{"$f":"IF(COUNTIF(N$2:N459,N459)=1,N459,\"\")","v":""}]
[null,null,null,null,null,null,null,null,null,null,null,null,{"$f":"+IF(P460=\"\",\"\",MAX(M$1:M459)+1)","v":""},{"$f":"IF('Gas Cylinder Information'!A462=\"\",\"\",'Gas Cylinder Information'!A462)","v":""},"",{"$f":"IF(COUNTIF(N$2:N460,N460)=1,N460,\"\")","v":""}]
[null,null,null,null,null,null,null,null,null,null,null,null,{"$f":"+IF(P461=\"\",\"\",MAX(M$1:M460)+1)","v":""},{"$f":"IF('Gas Cylinder Information'!A463=\"\",\"\",'Gas Cylinder Information'!A463)","v":""},"",{"$f":"IF(COUNTIF(N$2:N461,N461)=1,N461,\"\")","v":""}]
[null,null,null,null,null,null,null,null,null,null,null,null,{"$f":"+IF(P462=\"\",\"\",MAX(M$1:M461)+1)","v":""},{"$f":"IF('Gas Cylinder Information'!A464=\"\",\"\",'Gas Cylinder Information'!A464)","v":""},"",{"$f":"IF(COUNTIF(N$2:N462,N462)=1,N462,\"\")","v":""}]
[null,null,null,null,null,null,null,null,null,null,null,null,{"$f":"+IF(P463=\"\",\"\",MAX(M$1:M462)+1)","v":""},{"$f":"IF('Gas Cylinder Information'!A465=\"\",\"\",'Gas Cylinder Information'!A465)","v":""},"",{"$f":"IF(COUNTIF(N$2:N463,N463)=1,N463,\"\")","v":""}]
[null,null,null,null,null,null,null,null,null,null,null,null,{"$f":"+IF(P464=\"\",\"\",MAX(M$1:M463)+1)","v":""},{"$f":"IF('Gas Cylinder Information'!A466=\"\",\"\",'Gas Cylinder Information'!A466)","v":""},"",{"$f":"IF(COUNTIF(N$2:N464,N464)=1,N464,\"\")","v":""}]
[null,null,null,null,null,null,null,null,null,null,null,null,{"$f":"+IF(P465=\"\",\"\",MAX(M$1:M464)+1)","v":""},{"$f":"IF('Gas Cylinder Information'!A467=\"\",\"\",'Gas Cylinder Information'!A467)","v":""},"",{"$f":"IF(COUNTIF(N$2:N465,N465)=1,N465,\"\")","v":""}]
[null,null,null,null,null,null,null,null,null,null,null,null,{"$f":"+IF(P466=\"\",\"\",MAX(M$1:M465)+1)","v":""},{"$f":"IF('Gas Cylinder Information'!A468=\"\",\"\",'Gas Cylinder Information'!A468)","v":""},"",{"$f":"IF(COUNTIF(N$2:N466,N466)=1,N466,\"\")","v":""}]
[null,null,null,null,null,null,null,null,null,null,null,null,{"$f":"+IF(P467=\"\",\"\",MAX(M$1:M466)+1)","v":""},{"$f":"IF('Gas Cylinder Information'!A469=\"\",\"\",'Gas Cylinder Information'!A469)","v":""},"",{"$f":"IF(COUNTIF(N$2:N467,N467)=1,N467,\"\")","v":""}]
[null,null,null,null,null,null,null,null,null,null,null,null,{"$f":"+IF(P468=\"\",\"\",MAX(M$1:M467)+1)","v":""},{"$f":"IF('Gas Cylinder Information'!A470=\"\",\"\",'Gas Cylinder Information'!A470)","v":""},"",{"$f":"IF(COUNTIF(N$2:N468,N468)=1,N468,\"\")","v":""}]
[null,null,null,null,null,null,null,null,null,null,null,null,{"$f":"+IF(P469=\"\",\"\",MAX(M$1:M468)+1)","v":""},{"$f":"IF('Gas Cylinder Information'!A471=\"\",\"\",'Gas Cylinder Information'!A471)","v":""},"",{"$f":"IF(COUNTIF(N$2:N469,N469)=1,N469,\"\")","v":""}]
[null,null,null,null,null,null,null,null,null,null,null,null,{"$f":"+IF(P470=\"\",\"\",MAX(M$1:M469)+1)","v":""},{"$f":"IF('Gas Cylinder Information'!A472=\"\",\"\",'Gas Cylinder Information'!A472)","v":""},"",{"$f":"IF(COUNTIF(N$2:N470,N470)=1,N470,\"\")","v":""}]
[null,null,null,null,null,null,null,null,null,null,null,null,{"$f":"+IF(P471=\"\",\"\",MAX(M$1:M470)+1)","v":""},{"$f":"IF('Gas Cylinder Information'!A473=\"\",\"\",'Gas Cylinder Information'!A473)","v":""},"",{"$f":"IF(COUNTIF(N$2:N471,N471)=1,N471,\"\")","v":""}]
[null,null,null,null,null,null,null,null,null,null,null,null,{"$f":"+IF(P472=\"\",\"\",MAX(M$1:M471)+1)","v":""},{"$f":"IF('Gas Cylinder Information'!A474=\"\",\"\",'Gas Cylinder Information'!A474)","v":""},"",{"$f":"IF(COUNTIF(N$2:N472,N472)=1,N472,\"\")","v":""}]
[null,null,null,null,null,null,null,null,null,null,null,null,{"$f":"+IF(P473=\"\",\"\",MAX(M$1:M472)+1)","v":""},{"$f":"IF('Gas Cylinder Information'!A475=\"\",\"\",'Gas Cylinder Information'!A475)","v":""},"",{"$f":"IF(COUNTIF(N$2:N473,N473)=1,N473,\"\")","v":""}]
[null,null,null,null,null,null,null,null,null,null,null,null,{"$f":"+IF(P474=\"\",\"\",MAX(M$1:M473)+1)","v":""},{"$f":"IF('Gas Cylinder Information'!A476=\"\",\"\",'Gas Cylinder Information'!A476)","v":""},"",{"$f":"IF(COUNTIF(N$2:N474,N474)=1,N474,\"\")","v":""}]
[null,null,null,null,null,null,null,null,null,null,null,null,{"$f":"+IF(P475=\"\",\"\",MAX(M$1:M474)+1)","v":""},{"$f":"IF('Gas Cylinder Information'!A477=\"\",\"\",'Gas Cylinder Information'!A477)","v":""},"",{"$f":"IF(COUNTIF(N$2:N475,N475)=1,N475,\"\")","v":""}]
[null,null,null,null,null,null,null,null,null,null,null,null,{"$f":"+IF(P476=\"\",\"\",MAX(M$1:M475)+1)","v":""},{"$f":"IF('Gas Cylinder Information'!A478=\"\",\"\",'Gas Cylinder Information'!A478)","v":""},"",{"$f":"IF(COUNTIF(N$2:N476,N476)=1,N476,\"\")","v":""}]
[null,null,null,null,null,null,null,null,null,null,null,null,{"$f":"+IF(P477=\"\",\"\",MAX(M$1:M476)+1)","v":""},{"$f":"IF('Gas Cylinder Information'!A479=\"\",\"\",'Gas Cylinder Information'!A479)","v":""},"",{"$f":"IF(COUNTIF(N$2:N477,N477)=1,N477,\"\")","v":""}]
[null,null,null,null,null,null,null,null,null,null,null,null,{"$f":"+IF(P478=\"\",\"\",MAX(M$1:M477)+1)","v":""},{"$f":"IF('Gas Cylinder Information'!A480=\"\",\"\",'Gas Cylinder Information'!A480)","v":""},"",{"$f":"IF(COUNTIF(N$2:N478,N478)=1,N478,\"\")","v":""}]
[null,null,null,null,null,null,null,null,null,null,null,null,{"$f":"+IF(P479=\"\",\"\",MAX(M$1:M478)+1)","v":""},{"$f":"IF('Gas Cylinder Information'!A481=\"\",\"\",'Gas Cylinder Information'!A481)","v":""},"",{"$f":"IF(COUNTIF(N$2:N479,N479)=1,N479,\"\")","v":""}]
[null,null,null,null,null,null,null,null,null,null,null,null,{"$f":"+IF(P480=\"\",\"\",MAX(M$1:M479)+1)","v":""},{"$f":"IF('Gas Cylinder Information'!A482=\"\",\"\",'Gas Cylinder Information'!A482)","v":""},"",{"$f":"IF(COUNTIF(N$2:N480,N480)=1,N480,\"\")","v":""}]
[null,null,null,null,null,null,null,null,null,null,null,null,{"$f":"+IF(P481=\"\",\"\",MAX(M$1:M480)+1)","v":""},{"$f":"IF('Gas Cylinder Information'!A483=\"\",\"\",'Gas Cylinder Information'!A483)","v":""},"",{"$f":"IF(COUNTIF(N$2:N481,N481)=1,N481,\"\")","v":""}]
[null,null,null,null,null,null,null,null,null,null,null,null,{"$f":"+IF(P482=\"\",\"\",MAX(M$1:M481)+1)","v":""},{"$f":"IF('Gas Cylinder Information'!A484=\"\",\"\",'Gas Cylinder Information'!A484)","v":""},"",{"$f":"IF(COUNTIF(N$2:N482,N482)=1,N482,\"\")","v":""}]
[null,null,null,null,null,null,null,null,null,null,null,null,{"$f":"+IF(P483=\"\",\"\",MAX(M$1:M482)+1)","v":""},{"$f":"IF('Gas Cylinder Information'!A485=\"\",\"\",'Gas Cylinder Information'!A485)","v":""},"",{"$f":"IF(COUNTIF(N$2:N483,N483)=1,N483,\"\")","v":""}]
[null,null,null,null,null,null,null,null,null,null,null,null,{"$f":"+IF(P484=\"\",\"\",MAX(M$1:M483)+1)","v":""},{"$f":"IF('Gas Cylinder Information'!A486=\"\",\"\",'Gas Cylinder Information'!A486)","v":""},"",{"$f":"IF(COUNTIF(N$2:N484,N484)=1,N484,\"\")","v":""}]
[null,null,null,null,null,null,null,null,null,null,null,null,{"$f":"+IF(P485=\"\",\"\",MAX(M$1:M484)+1)","v":""},{"$f":"IF('Gas Cylinder Information'!A487=\"\",\"\",'Gas Cylinder Information'!A487)","v":""},"",{"$f":"IF(COUNTIF(N$2:N485,N485)=1,N485,\"\")","v":""}]
[null,null,null,null,null,null,null,null,null,null,null,null,{"$f":"+IF(P486=\"\",\"\",MAX(M$1:M485)+1)","v":""},{"$f":"IF('Gas Cylinder Information'!A488=\"\",\"\",'Gas Cylinder Information'!A488)","v":""},"",{"$f":"IF(COUNTIF(N$2:N486,N486)=1,N486,\"\")","v":""}]
[null,null,null,null,null,null,null,null,null,null,null,null,{"$f":"+IF(P487=\"\",\"\",MAX(M$1:M486)+1)","v":""},{"$f":"IF('Gas Cylinder Information'!A489=\"\",\"\",'Gas Cylinder Information'!A489)","v":""},"",{"$f":"IF(COUNTIF(N$2:N487,N487)=1,N487,\"\")","v":""}]
[null,null,null,null,null,null,null,null,null,null,null,null,{"$f":"+IF(P488=\"\",\"\",MAX(M$1:M487)+1)","v":""},{"$f":"IF('Gas Cylinder Information'!A490=\"\",\"\",'Gas Cylinder Information'!A490)","v":""},"",{"$f":"IF(COUNTIF(N$2:N488,N488)=1,N488,\"\")","v":""}]
[null,null,null,null,null,null,null,null,null,null,null,null,{"$f":"+IF(P489=\"\",\"\",MAX(M$1:M488)+1)","v":""},{"$f":"IF('Gas Cylinder Information'!A491=\"\",\"\",'Gas Cylinder Information'!A491)","v":""},"",{"$f":"IF(COUNTIF(N$2:N489,N489)=1,N489,\"\")","v":""}]
[null,null,null,null,null,null,null,null,null,null,null,null,{"$f":"+IF(P490=\"\",\"\",MAX(M$1:M489)+1)","v":""},{"$f":"IF('Gas Cylinder Information'!A492=\"\",\"\",'Gas Cylinder Information'!A492)","v":""},"",{"$f":"IF(COUNTIF(N$2:N490,N490)=1,N490,\"\")","v":""}]
[null,null,null,null,null,null,null,null,null,null,null,null,{"$f":"+IF(P491=\"\",\"\",MAX(M$1:M490)+1)","v":""},{"$f":"IF('Gas Cylinder Information'!A493=\"\",\"\",'Gas Cylinder Information'!A493)","v":""},"",{"$f":"IF(COUNTIF(N$2:N491,N491)=1,N491,\"\")","v":""}]
[null,null,null,null,null,null,null,null,null,null,null,null,{"$f":"+IF(P492=\"\",\"\",MAX(M$1:M491)+1)","v":""},{"$f":"IF('Gas Cylinder Information'!A494=\"\",\"\",'Gas Cylinder Information'!A494)","v":""},"",{"$f":"IF(COUNTIF(N$2:N492,N492)=1,N492,\"\")","v":""}]
[null,null,null,null,null,null,null,null,null,null,null,null,{"$f":"+IF(P493=\"\",\"\",MAX(M$1:M492)+1)","v":""},{"$f":"IF('Gas Cylinder Information'!A495=\"\",\"\",'Gas Cylinder Information'!A495)","v":""},"",{"$f":"IF(COUNTIF(N$2:N493,N493)=1,N493,\"\")","v":""}]
[null,null,null,null,null,null,null,null,null,null,null,null,{"$f":"+IF(P494=\"\",\"\",MAX(M$1:M493)+1)","v":""},{"$f":"IF('Gas Cylinder Information'!A496=\"\",\"\",'Gas Cylinder Information'!A496)","v":""},"",{"$f":"IF(COUNTIF(N$2:N494,N494)=1,N494,\"\")","v":""}]
[null,null,null,null,null,null,null,null,null,null,null,null,{"$f":"+IF(P495=\"\",\"\",MAX(M$1:M494)+1)","v":""},{"$f":"IF('Gas Cylinder Information'!A497=\"\",\"\",'Gas Cylinder Information'!A497)","v":""},"",{"$f":"IF(COUNTIF(N$2:N495,N495)=1,N495,\"\")","v":""}]
[null,null,null,null,null,null,null,null,null,null,null,null,{"$f":"+IF(P496=\"\",\"\",MAX(M$1:M495)+1)","v":""},{"$f":"IF('Gas Cylinder Information'!A498=\"\",\"\",'Gas Cylinder Information'!A498)","v":""},"",{"$f":"IF(COUNTIF(N$2:N496,N496)=1,N496,\"\")","v":""}]
[null,null,null,null,null,null,null,null,null,null,null,null,{"$f":"+IF(P497=\"\",\"\",MAX(M$1:M496)+1)","v":""},{"$f":"IF('Gas Cylinder Information'!A499=\"\",\"\",'Gas Cylinder Information'!A499)","v":""},"",{"$f":"IF(COUNTIF(N$2:N497,N497)=1,N497,\"\")","v":""}]
[null,null,null,null,null,null,null,null,null,null,null,null,{"$f":"+IF(P498=\"\",\"\",MAX(M$1:M497)+1)","v":""},{"$f":"IF('Gas Cylinder Information'!A500=\"\",\"\",'Gas Cylinder Information'!A500)","v":""},"",{"$f":"IF(COUNTIF(N$2:N498,N498)=1,N498,\"\")","v":""}]
[null,null,null,null,null,null,null,null,null,null,null,null,{"$f":"+IF(P499=\"\",\"\",MAX(M$1:M498)+1)","v":""},{"$f":"IF('Gas Cylinder Information'!A501=\"\",\"\",'Gas Cylinder Information'!A501)","v":""},"",{"$f":"IF(COUNTIF(N$2:N499,N499)=1,N499,\"\")","v":""}]
[null,null,null,null,null,null,null,null,null,null,null,null,{"$f":"+IF(P500=\"\",\"\",MAX(M$1:M499)+1)","v":""},{"$f":"IF('Gas Cylinder Information'!A502=\"\",\"\",'Gas Cylinder Information'!A502)","v":""},"",{"$f":"IF(COUNTIF(N$2:N500,N500)=1,N500,\"\")","v":""}]

{"sheet":"ERT_tblcylinv","index":12,"n_rows":1300,"n_cols":7,"rows_kept":1300,"cut":false,"hidden":false,"merged":[]}
["CylID","Compound(Analyte)","CertProcedure","CertValue","UncertainPercent","CertDate","ExpDate"]
[{"$f":"IF('Gas Cylinder Information'!A4=\"\",\"\",'Gas Cylinder Information'!A4)","v":""},{"$f":"IF('Gas Cylinder Information'!C4=\"\",\"\",'Gas Cylinder Information'!C4)","v":""},{"$f":"IF('Gas Cylinder Information'!D4=\"\",\"\",'Gas Cylinder Information'!D4)","v":""},{"$f":"IF('Gas Cylinder Information'!B4=\"\",\"\",'Gas Cylinder Information'!B4)","v":""},{"$f":"IF('Gas Cylinder Information'!E4=\"\",\"\",'Gas Cylinder Information'!E4)","v":""},{"$f":"IF('Gas Cylinder Information'!F4=\"\",\"\",'Gas Cylinder Information'!F4)","v":""},{"$f":"IF('Gas Cylinder Information'!G4=\"\",\"\",'Gas Cylinder Information'!G4)","v":""}]
[{"$f":"IF('Gas Cylinder Information'!A5=\"\",\"\",'Gas Cylinder Information'!A5)","v":""},{"$f":"IF('Gas Cylinder Information'!C5=\"\",\"\",'Gas Cylinder Information'!C5)","v":""},{"$f":"IF('Gas Cylinder Information'!D5=\"\",\"\",'Gas Cylinder Information'!D5)","v":""},{"$f":"IF('Gas Cylinder Information'!B5=\"\",\"\",'Gas Cylinder Information'!B5)","v":""},{"$f":"IF('Gas Cylinder Information'!E5=\"\",\"\",'Gas Cylinder Information'!E5)","v":""},{"$f":"IF('Gas Cylinder Information'!F5=\"\",\"\",'Gas Cylinder Information'!F5)","v":""},{"$f":"IF('Gas Cylinder Information'!G5=\"\",\"\",'Gas Cylinder Information'!G5)","v":""}]
[{"$f":"IF('Gas Cylinder Information'!A6=\"\",\"\",'Gas Cylinder Information'!A6)","v":""},{"$f":"IF('Gas Cylinder Information'!C6=\"\",\"\",'Gas Cylinder Information'!C6)","v":""},{"$f":"IF('Gas Cylinder Information'!D6=\"\",\"\",'Gas Cylinder Information'!D6)","v":""},{"$f":"IF('Gas Cylinder Information'!B6=\"\",\"\",'Gas Cylinder Information'!B6)","v":""},{"$f":"IF('Gas Cylinder Information'!E6=\"\",\"\",'Gas Cylinder Information'!E6)","v":""},{"$f":"IF('Gas Cylinder Information'!F6=\"\",\"\",'Gas Cylinder Information'!F6)","v":""},{"$f":"IF('Gas Cylinder Information'!G6=\"\",\"\",'Gas Cylinder Information'!G6)","v":""}]
[{"$f":"IF('Gas Cylinder Information'!A7=\"\",\"\",'Gas Cylinder Information'!A7)","v":""},{"$f":"IF('Gas Cylinder Information'!C7=\"\",\"\",'Gas Cylinder Information'!C7)","v":""},{"$f":"IF('Gas Cylinder Information'!D7=\"\",\"\",'Gas Cylinder Information'!D7)","v":""},{"$f":"IF('Gas Cylinder Information'!B7=\"\",\"\",'Gas Cylinder Information'!B7)","v":""},{"$f":"IF('Gas Cylinder Information'!E7=\"\",\"\",'Gas Cylinder Information'!E7)","v":""},{"$f":"IF('Gas Cylinder Information'!F7=\"\",\"\",'Gas Cylinder Information'!F7)","v":""},{"$f":"IF('Gas Cylinder Information'!G7=\"\",\"\",'Gas Cylinder Information'!G7)","v":""}]
[{"$f":"IF('Gas Cylinder Information'!A8=\"\",\"\",'Gas Cylinder Information'!A8)","v":""},{"$f":"IF('Gas Cylinder Information'!C8=\"\",\"\",'Gas Cylinder Information'!C8)","v":""},{"$f":"IF('Gas Cylinder Information'!D8=\"\",\"\",'Gas Cylinder Information'!D8)","v":""},{"$f":"IF('Gas Cylinder Information'!B8=\"\",\"\",'Gas Cylinder Information'!B8)","v":""},{"$f":"IF('Gas Cylinder Information'!E8=\"\",\"\",'Gas Cylinder Information'!E8)","v":""},{"$f":"IF('Gas Cylinder Information'!F8=\"\",\"\",'Gas Cylinder Information'!F8)","v":""},{"$f":"IF('Gas Cylinder Information'!G8=\"\",\"\",'Gas Cylinder Information'!G8)","v":""}]
[{"$f":"IF('Gas Cylinder Information'!A9=\"\",\"\",'Gas Cylinder Information'!A9)","v":""},{"$f":"IF('Gas Cylinder Information'!C9=\"\",\"\",'Gas Cylinder Information'!C9)","v":""},{"$f":"IF('Gas Cylinder Information'!D9=\"\",\"\",'Gas Cylinder Information'!D9)","v":""},{"$f":"IF('Gas Cylinder Information'!B9=\"\",\"\",'Gas Cylinder Information'!B9)","v":""},{"$f":"IF('Gas Cylinder Information'!E9=\"\",\"\",'Gas Cylinder Information'!E9)","v":""},{"$f":"IF('Gas Cylinder Information'!F9=\"\",\"\",'Gas Cylinder Information'!F9)","v":""},{"$f":"IF('Gas Cylinder Information'!G9=\"\",\"\",'Gas Cylinder Information'!G9)","v":""}]
[{"$f":"IF('Gas Cylinder Information'!A10=\"\",\"\",'Gas Cylinder Information'!A10)","v":""},{"$f":"IF('Gas Cylinder Information'!C10=\"\",\"\",'Gas Cylinder Information'!C10)","v":""},{"$f":"IF('Gas Cylinder Information'!D10=\"\",\"\",'Gas Cylinder Information'!D10)","v":""},{"$f":"IF('Gas Cylinder Information'!B10=\"\",\"\",'Gas Cylinder Information'!B10)","v":""},{"$f":"IF('Gas Cylinder Information'!E10=\"\",\"\",'Gas Cylinder Information'!E10)","v":""},{"$f":"IF('Gas Cylinder Information'!F10=\"\",\"\",'Gas Cylinder Information'!F10)","v":""},{"$f":"IF('Gas Cylinder Information'!G10=\"\",\"\",'Gas Cylinder Information'!G10)","v":""}]
[{"$f":"IF('Gas Cylinder Information'!A11=\"\",\"\",'Gas Cylinder Information'!A11)","v":""},{"$f":"IF('Gas Cylinder Information'!C11=\"\",\"\",'Gas Cylinder Information'!C11)","v":""},{"$f":"IF('Gas Cylinder Information'!D11=\"\",\"\",'Gas Cylinder Information'!D11)","v":""},{"$f":"IF('Gas Cylinder Information'!B11=\"\",\"\",'Gas Cylinder Information'!B11)","v":""},{"$f":"IF('Gas Cylinder Information'!E11=\"\",\"\",'Gas Cylinder Information'!E11)","v":""},{"$f":"IF('Gas Cylinder Information'!F11=\"\",\"\",'Gas Cylinder Information'!F11)","v":""},{"$f":"IF('Gas Cylinder Information'!G11=\"\",\"\",'Gas Cylinder Information'!G11)","v":""}]
[{"$f":"IF('Gas Cylinder Information'!A12=\"\",\"\",'Gas Cylinder Information'!A12)","v":""},{"$f":"IF('Gas Cylinder Information'!C12=\"\",\"\",'Gas Cylinder Information'!C12)","v":""},{"$f":"IF('Gas Cylinder Information'!D12=\"\",\"\",'Gas Cylinder Information'!D12)","v":""},{"$f":"IF('Gas Cylinder Information'!B12=\"\",\"\",'Gas Cylinder Information'!B12)","v":""},{"$f":"IF('Gas Cylinder Information'!E12=\"\",\"\",'Gas Cylinder Information'!E12)","v":""},{"$f":"IF('Gas Cylinder Information'!F12=\"\",\"\",'Gas Cylinder Information'!F12)","v":""},{"$f":"IF('Gas Cylinder Information'!G12=\"\",\"\",'Gas Cylinder Information'!G12)","v":""}]
[{"$f":"IF('Gas Cylinder Information'!A13=\"\",\"\",'Gas Cylinder Information'!A13)","v":""},{"$f":"IF('Gas Cylinder Information'!C13=\"\",\"\",'Gas Cylinder Information'!C13)","v":""},{"$f":"IF('Gas Cylinder Information'!D13=\"\",\"\",'Gas Cylinder Information'!D13)","v":""},{"$f":"IF('Gas Cylinder Information'!B13=\"\",\"\",'Gas Cylinder Information'!B13)","v":""},{"$f":"IF('Gas Cylinder Information'!E13=\"\",\"\",'Gas Cylinder Information'!E13)","v":""},{"$f":"IF('Gas Cylinder Information'!F13=\"\",\"\",'Gas Cylinder Information'!F13)","v":""},{"$f":"IF('Gas Cylinder Information'!G13=\"\",\"\",'Gas Cylinder Information'!G13)","v":""}]
[{"$f":"IF('Gas Cylinder Information'!A14=\"\",\"\",'Gas Cylinder Information'!A14)","v":""},{"$f":"IF('Gas Cylinder Information'!C14=\"\",\"\",'Gas Cylinder Information'!C14)","v":""},{"$f":"IF('Gas Cylinder Information'!D14=\"\",\"\",'Gas Cylinder Information'!D14)","v":""},{"$f":"IF('Gas Cylinder Information'!B14=\"\",\"\",'Gas Cylinder Information'!B14)","v":""},{"$f":"IF('Gas Cylinder Information'!E14=\"\",\"\",'Gas Cylinder Information'!E14)","v":""},{"$f":"IF('Gas Cylinder Information'!F14=\"\",\"\",'Gas Cylinder Information'!F14)","v":""},{"$f":"IF('Gas Cylinder Information'!G14=\"\",\"\",'Gas Cylinder Information'!G14)","v":""}]
[{"$f":"IF('Gas Cylinder Information'!A15=\"\",\"\",'Gas Cylinder Information'!A15)","v":""},{"$f":"IF('Gas Cylinder Information'!C15=\"\",\"\",'Gas Cylinder Information'!C15)","v":""},{"$f":"IF('Gas Cylinder Information'!D15=\"\",\"\",'Gas Cylinder Information'!D15)","v":""},{"$f":"IF('Gas Cylinder Information'!B15=\"\",\"\",'Gas Cylinder Information'!B15)","v":""},{"$f":"IF('Gas Cylinder Information'!E15=\"\",\"\",'Gas Cylinder Information'!E15)","v":""},{"$f":"IF('Gas Cylinder Information'!F15=\"\",\"\",'Gas Cylinder Information'!F15)","v":""},{"$f":"IF('Gas Cylinder Information'!G15=\"\",\"\",'Gas Cylinder Information'!G15)","v":""}]
[{"$f":"IF('Gas Cylinder Information'!A16=\"\",\"\",'Gas Cylinder Information'!A16)","v":""},{"$f":"IF('Gas Cylinder Information'!C16=\"\",\"\",'Gas Cylinder Information'!C16)","v":""},{"$f":"IF('Gas Cylinder Information'!D16=\"\",\"\",'Gas Cylinder Information'!D16)","v":""},{"$f":"IF('Gas Cylinder Information'!B16=\"\",\"\",'Gas Cylinder Information'!B16)","v":""},{"$f":"IF('Gas Cylinder Information'!E16=\"\",\"\",'Gas Cylinder Information'!E16)","v":""},{"$f":"IF('Gas Cylinder Information'!F16=\"\",\"\",'Gas Cylinder Information'!F16)","v":""},{"$f":"IF('Gas Cylinder Information'!G16=\"\",\"\",'Gas Cylinder Information'!G16)","v":""}]
[{"$f":"IF('Gas Cylinder Information'!A17=\"\",\"\",'Gas Cylinder Information'!A17)","v":""},{"$f":"IF('Gas Cylinder Information'!C17=\"\",\"\",'Gas Cylinder Information'!C17)","v":""},{"$f":"IF('Gas Cylinder Information'!D17=\"\",\"\",'Gas Cylinder Information'!D17)","v":""},{"$f":"IF('Gas Cylinder Information'!B17=\"\",\"\",'Gas Cylinder Information'!B17)","v":""},{"$f":"IF('Gas Cylinder Information'!E17=\"\",\"\",'Gas Cylinder Information'!E17)","v":""},{"$f":"IF('Gas Cylinder Information'!F17=\"\",\"\",'Gas Cylinder Information'!F17)","v":""},{"$f":"IF('Gas Cylinder Information'!G17=\"\",\"\",'Gas Cylinder Information'!G17)","v":""}]
[{"$f":"IF('Gas Cylinder Information'!A18=\"\",\"\",'Gas Cylinder Information'!A18)","v":""},{"$f":"IF('Gas Cylinder Information'!C18=\"\",\"\",'Gas Cylinder Information'!C18)","v":""},{"$f":"IF('Gas Cylinder Information'!D18=\"\",\"\",'Gas Cylinder Information'!D18)","v":""},{"$f":"IF('Gas Cylinder Information'!B18=\"\",\"\",'Gas Cylinder Information'!B18)","v":""},{"$f":"IF('Gas Cylinder Information'!E18=\"\",\"\",'Gas Cylinder Information'!E18)","v":""},{"$f":"IF('Gas Cylinder Information'!F18=\"\",\"\",'Gas Cylinder Information'!F18)","v":""},{"$f":"IF('Gas Cylinder Information'!G18=\"\",\"\",'Gas Cylinder Information'!G18)","v":""}]
[{"$f":"IF('Gas Cylinder Information'!A19=\"\",\"\",'Gas Cylinder Information'!A19)","v":""},{"$f":"IF('Gas Cylinder Information'!C19=\"\",\"\",'Gas Cylinder Information'!C19)","v":""},{"$f":"IF('Gas Cylinder Information'!D19=\"\",\"\",'Gas Cylinder Information'!D19)","v":""},{"$f":"IF('Gas Cylinder Information'!B19=\"\",\"\",'Gas Cylinder Information'!B19)","v":""},{"$f":"IF('Gas Cylinder Information'!E19=\"\",\"\",'Gas Cylinder Information'!E19)","v":""},{"$f":"IF('Gas Cylinder Information'!F19=\"\",\"\",'Gas Cylinder Information'!F19)","v":""},{"$f":"IF('Gas Cylinder Information'!G19=\"\",\"\",'Gas Cylinder Information'!G19)","v":""}]
[{"$f":"IF('Gas Cylinder Information'!A20=\"\",\"\",'Gas Cylinder Information'!A20)","v":""},{"$f":"IF('Gas Cylinder Information'!C20=\"\",\"\",'Gas Cylinder Information'!C20)","v":""},{"$f":"IF('Gas Cylinder Information'!D20=\"\",\"\",'Gas Cylinder Information'!D20)","v":""},{"$f":"IF('Gas Cylinder Information'!B20=\"\",\"\",'Gas Cylinder Information'!B20)","v":""},{"$f":"IF('Gas Cylinder Information'!E20=\"\",\"\",'Gas Cylinder Information'!E20)","v":""},{"$f":"IF('Gas Cylinder Information'!F20=\"\",\"\",'Gas Cylinder Information'!F20)","v":""},{"$f":"IF('Gas Cylinder Information'!G20=\"\",\"\",'Gas Cylinder Information'!G20)","v":""}]
[{"$f":"IF('Gas Cylinder Information'!A21=\"\",\"\",'Gas Cylinder Information'!A21)","v":""},{"$f":"IF('Gas Cylinder Information'!C21=\"\",\"\",'Gas Cylinder Information'!C21)","v":""},{"$f":"IF('Gas Cylinder Information'!D21=\"\",\"\",'Gas Cylinder Information'!D21)","v":""},{"$f":"IF('Gas Cylinder Information'!B21=\"\",\"\",'Gas Cylinder Information'!B21)","v":""},{"$f":"IF('Gas Cylinder Information'!E21=\"\",\"\",'Gas Cylinder Information'!E21)","v":""},{"$f":"IF('Gas Cylinder Information'!F21=\"\",\"\",'Gas Cylinder Information'!F21)","v":""},{"$f":"IF('Gas Cylinder Information'!G21=\"\",\"\",'Gas Cylinder Information'!G21)","v":""}]
[{"$f":"IF('Gas Cylinder Information'!A22=\"\",\"\",'Gas Cylinder Information'!A22)","v":""},{"$f":"IF('Gas Cylinder Information'!C22=\"\",\"\",'Gas Cylinder Information'!C22)","v":""},{"$f":"IF('Gas Cylinder Information'!D22=\"\",\"\",'Gas Cylinder Information'!D22)","v":""},{"$f":"IF('Gas Cylinder Information'!B22=\"\",\"\",'Gas Cylinder Information'!B22)","v":""},{"$f":"IF('Gas Cylinder Information'!E22=\"\",\"\",'Gas Cylinder Information'!E22)","v":""},{"$f":"IF('Gas Cylinder Information'!F22=\"\",\"\",'Gas Cylinder Information'!F22)","v":""},{"$f":"IF('Gas Cylinder Information'!G22=\"\",\"\",'Gas Cylinder Information'!G22)","v":""}]
[{"$f":"IF('Gas Cylinder Information'!A23=\"\",\"\",'Gas Cylinder Information'!A23)","v":""},{"$f":"IF('Gas Cylinder Information'!C23=\"\",\"\",'Gas Cylinder Information'!C23)","v":""},{"$f":"IF('Gas Cylinder Information'!D23=\"\",\"\",'Gas Cylinder Information'!D23)","v":""},{"$f":"IF('Gas Cylinder Information'!B23=\"\",\"\",'Gas Cylinder Information'!B23)","v":""},{"$f":"IF('Gas Cylinder Information'!E23=\"\",\"\",'Gas Cylinder Information'!E23)","v":""},{"$f":"IF('Gas Cylinder Information'!F23=\"\",\"\",'Gas Cylinder Information'!F23)","v":""},{"$f":"IF('Gas Cylinder Information'!G23=\"\",\"\",'Gas Cylinder Information'!G23)","v":""}]
[{"$f":"IF('Gas Cylinder Information'!A24=\"\",\"\",'Gas Cylinder Information'!A24)","v":""},{"$f":"IF('Gas Cylinder Information'!C24=\"\",\"\",'Gas Cylinder Information'!C24)","v":""},{"$f":"IF('Gas Cylinder Information'!D24=\"\",\"\",'Gas Cylinder Information'!D24)","v":""},{"$f":"IF('Gas Cylinder Information'!B24=\"\",\"\",'Gas Cylinder Information'!B24)","v":""},{"$f":"IF('Gas Cylinder Information'!E24=\"\",\"\",'Gas Cylinder Information'!E24)","v":""},{"$f":"IF('Gas Cylinder Information'!F24=\"\",\"\",'Gas Cylinder Information'!F24)","v":""},{"$f":"IF('Gas Cylinder Information'!G24=\"\",\"\",'Gas Cylinder Information'!G24)","v":""}]
[{"$f":"IF('Gas Cylinder Information'!A25=\"\",\"\",'Gas Cylinder Information'!A25)","v":""},{"$f":"IF('Gas Cylinder Information'!C25=\"\",\"\",'Gas Cylinder Information'!C25)","v":""},{"$f":"IF('Gas Cylinder Information'!D25=\"\",\"\",'Gas Cylinder Information'!D25)","v":""},{"$f":"IF('Gas Cylinder Information'!B25=\"\",\"\",'Gas Cylinder Information'!B25)","v":""},{"$f":"IF('Gas Cylinder Information'!E25=\"\",\"\",'Gas Cylinder Information'!E25)","v":""},{"$f":"IF('Gas Cylinder Information'!F25=\"\",\"\",'Gas Cylinder Information'!F25)","v":""},{"$f":"IF('Gas Cylinder Information'!G25=\"\",\"\",'Gas Cylinder Information'!G25)","v":""}]
[{"$f":"IF('Gas Cylinder Information'!A26=\"\",\"\",'Gas Cylinder Information'!A26)","v":""},{"$f":"IF('Gas Cylinder Information'!C26=\"\",\"\",'Gas Cylinder Information'!C26)","v":""},{"$f":"IF('Gas Cylinder Information'!D26=\"\",\"\",'Gas Cylinder Information'!D26)","v":""},{"$f":"IF('Gas Cylinder Information'!B26=\"\",\"\",'Gas Cylinder Information'!B26)","v":""},{"$f":"IF('Gas Cylinder Information'!E26=\"\",\"\",'Gas Cylinder Information'!E26)","v":""},{"$f":"IF('Gas Cylinder Information'!F26=\"\",\"\",'Gas Cylinder Information'!F26)","v":""},{"$f":"IF('Gas Cylinder Information'!G26=\"\",\"\",'Gas Cylinder Information'!G26)","v":""}]
[{"$f":"IF('Gas Cylinder Information'!A27=\"\",\"\",'Gas Cylinder Information'!A27)","v":""},{"$f":"IF('Gas Cylinder Information'!C27=\"\",\"\",'Gas Cylinder Information'!C27)","v":""},{"$f":"IF('Gas Cylinder Information'!D27=\"\",\"\",'Gas Cylinder Information'!D27)","v":""},{"$f":"IF('Gas Cylinder Information'!B27=\"\",\"\",'Gas Cylinder Information'!B27)","v":""},{"$f":"IF('Gas Cylinder Information'!E27=\"\",\"\",'Gas Cylinder Information'!E27)","v":""},{"$f":"IF('Gas Cylinder Information'!F27=\"\",\"\",'Gas Cylinder Information'!F27)","v":""},{"$f":"IF('Gas Cylinder Information'!G27=\"\",\"\",'Gas Cylinder Information'!G27)","v":""}]
[{"$f":"IF('Gas Cylinder Information'!A28=\"\",\"\",'Gas Cylinder Information'!A28)","v":""},{"$f":"IF('Gas Cylinder Information'!C28=\"\",\"\",'Gas Cylinder Information'!C28)","v":""},{"$f":"IF('Gas Cylinder Information'!D28=\"\",\"\",'Gas Cylinder Information'!D28)","v":""},{"$f":"IF('Gas Cylinder Information'!B28=\"\",\"\",'Gas Cylinder Information'!B28)","v":""},{"$f":"IF('Gas Cylinder Information'!E28=\"\",\"\",'Gas Cylinder Information'!E28)","v":""},{"$f":"IF('Gas Cylinder Information'!F28=\"\",\"\",'Gas Cylinder Information'!F28)","v":""},{"$f":"IF('Gas Cylinder Information'!G28=\"\",\"\",'Gas Cylinder Information'!G28)","v":""}]
[{"$f":"IF('Gas Cylinder Information'!A29=\"\",\"\",'Gas Cylinder Information'!A29)","v":""},{"$f":"IF('Gas Cylinder Information'!C29=\"\",\"\",'Gas Cylinder Information'!C29)","v":""},{"$f":"IF('Gas Cylinder Information'!D29=\"\",\"\",'Gas Cylinder Information'!D29)","v":""},{"$f":"IF('Gas Cylinder Information'!B29=\"\",\"\",'Gas Cylinder Information'!B29)","v":""},{"$f":"IF('Gas Cylinder Information'!E29=\"\",\"\",'Gas Cylinder Information'!E29)","v":""},{"$f":"IF('Gas Cylinder Information'!F29=\"\",\"\",'Gas Cylinder Information'!F29)","v":""},{"$f":"IF('Gas Cylinder Information'!G29=\"\",\"\",'Gas Cylinder Information'!G29)","v":""}]
[{"$f":"IF('Gas Cylinder Information'!A30=\"\",\"\",'Gas Cylinder Information'!A30)","v":""},{"$f":"IF('Gas Cylinder Information'!C30=\"\",\"\",'Gas Cylinder Information'!C30)","v":""},{"$f":"IF('Gas Cylinder Information'!D30=\"\",\"\",'Gas Cylinder Information'!D30)","v":""},{"$f":"IF('Gas Cylinder Information'!B30=\"\",\"\",'Gas Cylinder Information'!B30)","v":""},{"$f":"IF('Gas Cylinder Information'!E30=\"\",\"\",'Gas Cylinder Information'!E30)","v":""},{"$f":"IF('Gas Cylinder Information'!F30=\"\",\"\",'Gas Cylinder Information'!F30)","v":""},{"$f":"IF('Gas Cylinder Information'!G30=\"\",\"\",'Gas Cylinder Information'!G30)","v":""}]
[{"$f":"IF('Gas Cylinder Information'!A31=\"\",\"\",'Gas Cylinder Information'!A31)","v":""},{"$f":"IF('Gas Cylinder Information'!C31=\"\",\"\",'Gas Cylinder Information'!C31)","v":""},{"$f":"IF('Gas Cylinder Information'!D31=\"\",\"\",'Gas Cylinder Information'!D31)","v":""},{"$f":"IF('Gas Cylinder Information'!B31=\"\",\"\",'Gas Cylinder Information'!B31)","v":""},{"$f":"IF('Gas Cylinder Information'!E31=\"\",\"\",'Gas Cylinder Information'!E31)","v":""},{"$f":"IF('Gas Cylinder Information'!F31=\"\",\"\",'Gas Cylinder Information'!F31)","v":""},{"$f":"IF('Gas Cylinder Information'!G31=\"\",\"\",'Gas Cylinder Information'!G31)","v":""}]
[{"$f":"IF('Gas Cylinder Information'!A32=\"\",\"\",'Gas Cylinder Information'!A32)","v":""},{"$f":"IF('Gas Cylinder Information'!C32=\"\",\"\",'Gas Cylinder Information'!C32)","v":""},{"$f":"IF('Gas Cylinder Information'!D32=\"\",\"\",'Gas Cylinder Information'!D32)","v":""},{"$f":"IF('Gas Cylinder Information'!B32=\"\",\"\",'Gas Cylinder Information'!B32)","v":""},{"$f":"IF('Gas Cylinder Information'!E32=\"\",\"\",'Gas Cylinder Information'!E32)","v":""},{"$f":"IF('Gas Cylinder Information'!F32=\"\",\"\",'Gas Cylinder Information'!F32)","v":""},{"$f":"IF('Gas Cylinder Information'!G32=\"\",\"\",'Gas Cylinder Information'!G32)","v":""}]
[{"$f":"IF('Gas Cylinder Information'!A33=\"\",\"\",'Gas Cylinder Information'!A33)","v":""},{"$f":"IF('Gas Cylinder Information'!C33=\"\",\"\",'Gas Cylinder Information'!C33)","v":""},{"$f":"IF('Gas Cylinder Information'!D33=\"\",\"\",'Gas Cylinder Information'!D33)","v":""},{"$f":"IF('Gas Cylinder Information'!B33=\"\",\"\",'Gas Cylinder Information'!B33)","v":""},{"$f":"IF('Gas Cylinder Information'!E33=\"\",\"\",'Gas Cylinder Information'!E33)","v":""},{"$f":"IF('Gas Cylinder Information'!F33=\"\",\"\",'Gas Cylinder Information'!F33)","v":""},{"$f":"IF('Gas Cylinder Information'!G33=\"\",\"\",'Gas Cylinder Information'!G33)","v":""}]
[{"$f":"IF('Gas Cylinder Information'!A34=\"\",\"\",'Gas Cylinder Information'!A34)","v":""},{"$f":"IF('Gas Cylinder Information'!C34=\"\",\"\",'Gas Cylinder Information'!C34)","v":""},{"$f":"IF('Gas Cylinder Information'!D34=\"\",\"\",'Gas Cylinder Information'!D34)","v":""},{"$f":"IF('Gas Cylinder Information'!B34=\"\",\"\",'Gas Cylinder Information'!B34)","v":""},{"$f":"IF('Gas Cylinder Information'!E34=\"\",\"\",'Gas Cylinder Information'!E34)","v":""},{"$f":"IF('Gas Cylinder Information'!F34=\"\",\"\",'Gas Cylinder Information'!F34)","v":""},{"$f":"IF('Gas Cylinder Information'!G34=\"\",\"\",'Gas Cylinder Information'!G34)","v":""}]
[{"$f":"IF('Gas Cylinder Information'!A35=\"\",\"\",'Gas Cylinder Information'!A35)","v":""},{"$f":"IF('Gas Cylinder Information'!C35=\"\",\"\",'Gas Cylinder Information'!C35)","v":""},{"$f":"IF('Gas Cylinder Information'!D35=\"\",\"\",'Gas Cylinder Information'!D35)","v":""},{"$f":"IF('Gas Cylinder Information'!B35=\"\",\"\",'Gas Cylinder Information'!B35)","v":""},{"$f":"IF('Gas Cylinder Information'!E35=\"\",\"\",'Gas Cylinder Information'!E35)","v":""},{"$f":"IF('Gas Cylinder Information'!F35=\"\",\"\",'Gas Cylinder Information'!F35)","v":""},{"$f":"IF('Gas Cylinder Information'!G35=\"\",\"\",'Gas Cylinder Information'!G35)","v":""}]
[{"$f":"IF('Gas Cylinder Information'!A36=\"\",\"\",'Gas Cylinder Information'!A36)","v":""},{"$f":"IF('Gas Cylinder Information'!C36=\"\",\"\",'Gas Cylinder Information'!C36)","v":""},{"$f":"IF('Gas Cylinder Information'!D36=\"\",\"\",'Gas Cylinder Information'!D36)","v":""},{"$f":"IF('Gas Cylinder Information'!B36=\"\",\"\",'Gas Cylinder Information'!B36)","v":""},{"$f":"IF('Gas Cylinder Information'!E36=\"\",\"\",'Gas Cylinder Information'!E36)","v":""},{"$f":"IF('Gas Cylinder Information'!F36=\"\",\"\",'Gas Cylinder Information'!F36)","v":""},{"$f":"IF('Gas Cylinder Information'!G36=\"\",\"\",'Gas Cylinder Information'!G36)","v":""}]
[{"$f":"IF('Gas Cylinder Information'!A37=\"\",\"\",'Gas Cylinder Information'!A37)","v":""},{"$f":"IF('Gas Cylinder Information'!C37=\"\",\"\",'Gas Cylinder Information'!C37)","v":""},{"$f":"IF('Gas Cylinder Information'!D37=\"\",\"\",'Gas Cylinder Information'!D37)","v":""},{"$f":"IF('Gas Cylinder Information'!B37=\"\",\"\",'Gas Cylinder Information'!B37)","v":""},{"$f":"IF('Gas Cylinder Information'!E37=\"\",\"\",'Gas Cylinder Information'!E37)","v":""},{"$f":"IF('Gas Cylinder Information'!F37=\"\",\"\",'Gas Cylinder Information'!F37)","v":""},{"$f":"IF('Gas Cylinder Information'!G37=\"\",\"\",'Gas Cylinder Information'!G37)","v":""}]
[{"$f":"IF('Gas Cylinder Information'!A38=\"\",\"\",'Gas Cylinder Information'!A38)","v":""},{"$f":"IF('Gas Cylinder Information'!C38=\"\",\"\",'Gas Cylinder Information'!C38)","v":""},{"$f":"IF('Gas Cylinder Information'!D38=\"\",\"\",'Gas Cylinder Information'!D38)","v":""},{"$f":"IF('Gas Cylinder Information'!B38=\"\",\"\",'Gas Cylinder Information'!B38)","v":""},{"$f":"IF('Gas Cylinder Information'!E38=\"\",\"\",'Gas Cylinder Information'!E38)","v":""},{"$f":"IF('Gas Cylinder Information'!F38=\"\",\"\",'Gas Cylinder Information'!F38)","v":""},{"$f":"IF('Gas Cylinder Information'!G38=\"\",\"\",'Gas Cylinder Information'!G38)","v":""}]
[{"$f":"IF('Gas Cylinder Information'!A39=\"\",\"\",'Gas Cylinder Information'!A39)","v":""},{"$f":"IF('Gas Cylinder Information'!C39=\"\",\"\",'Gas Cylinder Information'!C39)","v":""},{"$f":"IF('Gas Cylinder Information'!D39=\"\",\"\",'Gas Cylinder Information'!D39)","v":""},{"$f":"IF('Gas Cylinder Information'!B39=\"\",\"\",'Gas Cylinder Information'!B39)","v":""},{"$f":"IF('Gas Cylinder Information'!E39=\"\",\"\",'Gas Cylinder Information'!E39)","v":""},{"$f":"IF('Gas Cylinder Information'!F39=\"\",\"\",'Gas Cylinder Information'!F39)","v":""},{"$f":"IF('Gas Cylinder Information'!G39=\"\",\"\",'Gas Cylinder Information'!G39)","v":""}]
[{"$f":"IF('Gas Cylinder Information'!A40=\"\",\"\",'Gas Cylinder Information'!A40)","v":""},{"$f":"IF('Gas Cylinder Information'!C40=\"\",\"\",'Gas Cylinder Information'!C40)","v":""},{"$f":"IF('Gas Cylinder Information'!D40=\"\",\"\",'Gas Cylinder Information'!D40)","v":""},{"$f":"IF('Gas Cylinder Information'!B40=\"\",\"\",'Gas Cylinder Information'!B40)","v":""},{"$f":"IF('Gas Cylinder Information'!E40=\"\",\"\",'Gas Cylinder Information'!E40)","v":""},{"$f":"IF('Gas Cylinder Information'!F40=\"\",\"\",'Gas Cylinder Information'!F40)","v":""},{"$f":"IF('Gas Cylinder Information'!G40=\"\",\"\",'Gas Cylinder Information'!G40)","v":""}]
[{"$f":"IF('Gas Cylinder Information'!A41=\"\",\"\",'Gas Cylinder Information'!A41)","v":""},{"$f":"IF('Gas Cylinder Information'!C41=\"\",\"\",'Gas Cylinder Information'!C41)","v":""},{"$f":"IF('Gas Cylinder Information'!D41=\"\",\"\",'Gas Cylinder Information'!D41)","v":""},{"$f":"IF('Gas Cylinder Information'!B41=\"\",\"\",'Gas Cylinder Information'!B41)","v":""},{"$f":"IF('Gas Cylinder Information'!E41=\"\",\"\",'Gas Cylinder Information'!E41)","v":""},{"$f":"IF('Gas Cylinder Information'!F41=\"\",\"\",'Gas Cylinder Information'!F41)","v":""},{"$f":"IF('Gas Cylinder Information'!G41=\"\",\"\",'Gas Cylinder Information'!G41)","v":""}]
[{"$f":"IF('Gas Cylinder Information'!A42=\"\",\"\",'Gas Cylinder Information'!A42)","v":""},{"$f":"IF('Gas Cylinder Information'!C42=\"\",\"\",'Gas Cylinder Information'!C42)","v":""},{"$f":"IF('Gas Cylinder Information'!D42=\"\",\"\",'Gas Cylinder Information'!D42)","v":""},{"$f":"IF('Gas Cylinder Information'!B42=\"\",\"\",'Gas Cylinder Information'!B42)","v":""},{"$f":"IF('Gas Cylinder Information'!E42=\"\",\"\",'Gas Cylinder Information'!E42)","v":""},{"$f":"IF('Gas Cylinder Information'!F42=\"\",\"\",'Gas Cylinder Information'!F42)","v":""},{"$f":"IF('Gas Cylinder Information'!G42=\"\",\"\",'Gas Cylinder Information'!G42)","v":""}]
[{"$f":"IF('Gas Cylinder Information'!A43=\"\",\"\",'Gas Cylinder Information'!A43)","v":""},{"$f":"IF('Gas Cylinder Information'!C43=\"\",\"\",'Gas Cylinder Information'!C43)","v":""},{"$f":"IF('Gas Cylinder Information'!D43=\"\",\"\",'Gas Cylinder Information'!D43)","v":""},{"$f":"IF('Gas Cylinder Information'!B43=\"\",\"\",'Gas Cylinder Information'!B43)","v":""},{"$f":"IF('Gas Cylinder Information'!E43=\"\",\"\",'Gas Cylinder Information'!E43)","v":""},{"$f":"IF('Gas Cylinder Information'!F43=\"\",\"\",'Gas Cylinder Information'!F43)","v":""},{"$f":"IF('Gas Cylinder Information'!G43=\"\",\"\",'Gas Cylinder Information'!G43)","v":""}]
[{"$f":"IF('Gas Cylinder Information'!A44=\"\",\"\",'Gas Cylinder Information'!A44)","v":""},{"$f":"IF('Gas Cylinder Information'!C44=\"\",\"\",'Gas Cylinder Information'!C44)","v":""},{"$f":"IF('Gas Cylinder Information'!D44=\"\",\"\",'Gas Cylinder Information'!D44)","v":""},{"$f":"IF('Gas Cylinder Information'!B44=\"\",\"\",'Gas Cylinder Information'!B44)","v":""},{"$f":"IF('Gas Cylinder Information'!E44=\"\",\"\",'Gas Cylinder Information'!E44)","v":""},{"$f":"IF('Gas Cylinder Information'!F44=\"\",\"\",'Gas Cylinder Information'!F44)","v":""},{"$f":"IF('Gas Cylinder Information'!G44=\"\",\"\",'Gas Cylinder Information'!G44)","v":""}]
[{"$f":"IF('Gas Cylinder Information'!A45=\"\",\"\",'Gas Cylinder Information'!A45)","v":""},{"$f":"IF('Gas Cylinder Information'!C45=\"\",\"\",'Gas Cylinder Information'!C45)","v":""},{"$f":"IF('Gas Cylinder Information'!D45=\"\",\"\",'Gas Cylinder Information'!D45)","v":""},{"$f":"IF('Gas Cylinder Information'!B45=\"\",\"\",'Gas Cylinder Information'!B45)","v":""},{"$f":"IF('Gas Cylinder Information'!E45=\"\",\"\",'Gas Cylinder Information'!E45)","v":""},{"$f":"IF('Gas Cylinder Information'!F45=\"\",\"\",'Gas Cylinder Information'!F45)","v":""},{"$f":"IF('Gas Cylinder Information'!G45=\"\",\"\",'Gas Cylinder Information'!G45)","v":""}]
[{"$f":"IF('Gas Cylinder Information'!A46=\"\",\"\",'Gas Cylinder Information'!A46)","v":""},{"$f":"IF('Gas Cylinder Information'!C46=\"\",\"\",'Gas Cylinder Information'!C46)","v":""},{"$f":"IF('Gas Cylinder Information'!D46=\"\",\"\",'Gas Cylinder Information'!D46)","v":""},{"$f":"IF('Gas Cylinder Information'!B46=\"\",\"\",'Gas Cylinder Information'!B46)","v":""},{"$f":"IF('Gas Cylinder Information'!E46=\"\",\"\",'Gas Cylinder Information'!E46)","v":""},{"$f":"IF('Gas Cylinder Information'!F46=\"\",\"\",'Gas Cylinder Information'!F46)","v":""},{"$f":"IF('Gas Cylinder Information'!G46=\"\",\"\",'Gas Cylinder Information'!G46)","v":""}]
[{"$f":"IF('Gas Cylinder Information'!A47=\"\",\"\",'Gas Cylinder Information'!A47)","v":""},{"$f":"IF('Gas Cylinder Information'!C47=\"\",\"\",'Gas Cylinder Information'!C47)","v":""},{"$f":"IF('Gas Cylinder Information'!D47=\"\",\"\",'Gas Cylinder Information'!D47)","v":""},{"$f":"IF('Gas Cylinder Information'!B47=\"\",\"\",'Gas Cylinder Information'!B47)","v":""},{"$f":"IF('Gas Cylinder Information'!E47=\"\",\"\",'Gas Cylinder Information'!E47)","v":""},{"$f":"IF('Gas Cylinder Information'!F47=\"\",\"\",'Gas Cylinder Information'!F47)","v":""},{"$f":"IF('Gas Cylinder Information'!G47=\"\",\"\",'Gas Cylinder Information'!G47)","v":""}]
[{"$f":"IF('Gas Cylinder Information'!A48=\"\",\"\",'Gas Cylinder Information'!A48)","v":""},{"$f":"IF('Gas Cylinder Information'!C48=\"\",\"\",'Gas Cylinder Information'!C48)","v":""},{"$f":"IF('Gas Cylinder Information'!D48=\"\",\"\",'Gas Cylinder Information'!D48)","v":""},{"$f":"IF('Gas Cylinder Information'!B48=\"\",\"\",'Gas Cylinder Information'!B48)","v":""},{"$f":"IF('Gas Cylinder Information'!E48=\"\",\"\",'Gas Cylinder Information'!E48)","v":""},{"$f":"IF('Gas Cylinder Information'!F48=\"\",\"\",'Gas Cylinder Information'!F48)","v":""},{"$f":"IF('Gas Cylinder Information'!G48=\"\",\"\",'Gas Cylinder Information'!G48)","v":""}]
[{"$f":"IF('Gas Cylinder Information'!A49=\"\",\"\",'Gas Cylinder Information'!A49)","v":""},{"$f":"IF('Gas Cylinder Information'!C49=\"\",\"\",'Gas Cylinder Information'!C49)","v":""},{"$f":"IF('Gas Cylinder Information'!D49=\"\",\"\",'Gas Cylinder Information'!D49)","v":""},{"$f":"IF('Gas Cylinder Information'!B49=\"\",\"\",'Gas Cylinder Information'!B49)","v":""},{"$f":"IF('Gas Cylinder Information'!E49=\"\",\"\",'Gas Cylinder Information'!E49)","v":""},{"$f":"IF('Gas Cylinder Information'!F49=\"\",\"\",'Gas Cylinder Information'!F49)","v":""},{"$f":"IF('Gas Cylinder Information'!G49=\"\",\"\",'Gas Cylinder Information'!G49)","v":""}]
[{"$f":"IF('Gas Cylinder Information'!A50=\"\",\"\",'Gas Cylinder Information'!A50)","v":""},{"$f":"IF('Gas Cylinder Information'!C50=\"\",\"\",'Gas Cylinder Information'!C50)","v":""},{"$f":"IF('Gas Cylinder Information'!D50=\"\",\"\",'Gas Cylinder Information'!D50)","v":""},{"$f":"IF('Gas Cylinder Information'!B50=\"\",\"\",'Gas Cylinder Information'!B50)","v":""},{"$f":"IF('Gas Cylinder Information'!E50=\"\",\"\",'Gas Cylinder Information'!E50)","v":""},{"$f":"IF('Gas Cylinder Information'!F50=\"\",\"\",'Gas Cylinder Information'!F50)","v":""},{"$f":"IF('Gas Cylinder Information'!G50=\"\",\"\",'Gas Cylinder Information'!G50)","v":""}]
[{"$f":"IF('Gas Cylinder Information'!A51=\"\",\"\",'Gas Cylinder Information'!A51)","v":""},{"$f":"IF('Gas Cylinder Information'!C51=\"\",\"\",'Gas Cylinder Information'!C51)","v":""},{"$f":"IF('Gas Cylinder Information'!D51=\"\",\"\",'Gas Cylinder Information'!D51)","v":""},{"$f":"IF('Gas Cylinder Information'!B51=\"\",\"\",'Gas Cylinder Information'!B51)","v":""},{"$f":"IF('Gas Cylinder Information'!E51=\"\",\"\",'Gas Cylinder Information'!E51)","v":""},{"$f":"IF('Gas Cylinder Information'!F51=\"\",\"\",'Gas Cylinder Information'!F51)","v":""},{"$f":"IF('Gas Cylinder Information'!G51=\"\",\"\",'Gas Cylinder Information'!G51)","v":""}]
[{"$f":"IF('Gas Cylinder Information'!A52=\"\",\"\",'Gas Cylinder Information'!A52)","v":""},{"$f":"IF('Gas Cylinder Information'!C52=\"\",\"\",'Gas Cylinder Information'!C52)","v":""},{"$f":"IF('Gas Cylinder Information'!D52=\"\",\"\",'Gas Cylinder Information'!D52)","v":""},{"$f":"IF('Gas Cylinder Information'!B52=\"\",\"\",'Gas Cylinder Information'!B52)","v":""},{"$f":"IF('Gas Cylinder Information'!E52=\"\",\"\",'Gas Cylinder Information'!E52)","v":""},{"$f":"IF('Gas Cylinder Information'!F52=\"\",\"\",'Gas Cylinder Information'!F52)","v":""},{"$f":"IF('Gas Cylinder Information'!G52=\"\",\"\",'Gas Cylinder Information'!G52)","v":""}]
[{"$f":"IF('Gas Cylinder Information'!A53=\"\",\"\",'Gas Cylinder Information'!A53)","v":""},{"$f":"IF('Gas Cylinder Information'!C53=\"\",\"\",'Gas Cylinder Information'!C53)","v":""},{"$f":"IF('Gas Cylinder Information'!D53=\"\",\"\",'Gas Cylinder Information'!D53)","v":""},{"$f":"IF('Gas Cylinder Information'!B53=\"\",\"\",'Gas Cylinder Information'!B53)","v":""},{"$f":"IF('Gas Cylinder Information'!E53=\"\",\"\",'Gas Cylinder Information'!E53)","v":""},{"$f":"IF('Gas Cylinder Information'!F53=\"\",\"\",'Gas Cylinder Information'!F53)","v":""},{"$f":"IF('Gas Cylinder Information'!G53=\"\",\"\",'Gas Cylinder Information'!G53)","v":""}]
[{"$f":"IF('Gas Cylinder Information'!A54=\"\",\"\",'Gas Cylinder Information'!A54)","v":""},{"$f":"IF('Gas Cylinder Information'!C54=\"\",\"\",'Gas Cylinder Information'!C54)","v":""},{"$f":"IF('Gas Cylinder Information'!D54=\"\",\"\",'Gas Cylinder Information'!D54)","v":""},{"$f":"IF('Gas Cylinder Information'!B54=\"\",\"\",'Gas Cylinder Information'!B54)","v":""},{"$f":"IF('Gas Cylinder Information'!E54=\"\",\"\",'Gas Cylinder Information'!E54)","v":""},{"$f":"IF('Gas Cylinder Information'!F54=\"\",\"\",'Gas Cylinder Information'!F54)","v":""},{"$f":"IF('Gas Cylinder Information'!G54=\"\",\"\",'Gas Cylinder Information'!G54)","v":""}]
[{"$f":"IF('Gas Cylinder Information'!A55=\"\",\"\",'Gas Cylinder Information'!A55)","v":""},{"$f":"IF('Gas Cylinder Information'!C55=\"\",\"\",'Gas Cylinder Information'!C55)","v":""},{"$f":"IF('Gas Cylinder Information'!D55=\"\",\"\",'Gas Cylinder Information'!D55)","v":""},{"$f":"IF('Gas Cylinder Information'!B55=\"\",\"\",'Gas Cylinder Information'!B55)","v":""},{"$f":"IF('Gas Cylinder Information'!E55=\"\",\"\",'Gas Cylinder Information'!E55)","v":""},{"$f":"IF('Gas Cylinder Information'!F55=\"\",\"\",'Gas Cylinder Information'!F55)","v":""},{"$f":"IF('Gas Cylinder Information'!G55=\"\",\"\",'Gas Cylinder Information'!G55)","v":""}]
[{"$f":"IF('Gas Cylinder Information'!A56=\"\",\"\",'Gas Cylinder Information'!A56)","v":""},{"$f":"IF('Gas Cylinder Information'!C56=\"\",\"\",'Gas Cylinder Information'!C56)","v":""},{"$f":"IF('Gas Cylinder Information'!D56=\"\",\"\",'Gas Cylinder Information'!D56)","v":""},{"$f":"IF('Gas Cylinder Information'!B56=\"\",\"\",'Gas Cylinder Information'!B56)","v":""},{"$f":"IF('Gas Cylinder Information'!E56=\"\",\"\",'Gas Cylinder Information'!E56)","v":""},{"$f":"IF('Gas Cylinder Information'!F56=\"\",\"\",'Gas Cylinder Information'!F56)","v":""},{"$f":"IF('Gas Cylinder Information'!G56=\"\",\"\",'Gas Cylinder Information'!G56)","v":""}]
[{"$f":"IF('Gas Cylinder Information'!A57=\"\",\"\",'Gas Cylinder Information'!A57)","v":""},{"$f":"IF('Gas Cylinder Information'!C57=\"\",\"\",'Gas Cylinder Information'!C57)","v":""},{"$f":"IF('Gas Cylinder Information'!D57=\"\",\"\",'Gas Cylinder Information'!D57)","v":""},{"$f":"IF('Gas Cylinder Information'!B57=\"\",\"\",'Gas Cylinder Information'!B57)","v":""},{"$f":"IF('Gas Cylinder Information'!E57=\"\",\"\",'Gas Cylinder Information'!E57)","v":""},{"$f":"IF('Gas Cylinder Information'!F57=\"\",\"\",'Gas Cylinder Information'!F57)","v":""},{"$f":"IF('Gas Cylinder Information'!G57=\"\",\"\",'Gas Cylinder Information'!G57)","v":""}]
[{"$f":"IF('Gas Cylinder Information'!A58=\"\",\"\",'Gas Cylinder Information'!A58)","v":""},{"$f":"IF('Gas Cylinder Information'!C58=\"\",\"\",'Gas Cylinder Information'!C58)","v":""},{"$f":"IF('Gas Cylinder Information'!D58=\"\",\"\",'Gas Cylinder Information'!D58)","v":""},{"$f":"IF('Gas Cylinder Information'!B58=\"\",\"\",'Gas Cylinder Information'!B58)","v":""},{"$f":"IF('Gas Cylinder Information'!E58=\"\",\"\",'Gas Cylinder Information'!E58)","v":""},{"$f":"IF('Gas Cylinder Information'!F58=\"\",\"\",'Gas Cylinder Information'!F58)","v":""},{"$f":"IF('Gas Cylinder Information'!G58=\"\",\"\",'Gas Cylinder Information'!G58)","v":""}]
[{"$f":"IF('Gas Cylinder Information'!A59=\"\",\"\",'Gas Cylinder Information'!A59)","v":""},{"$f":"IF('Gas Cylinder Information'!C59=\"\",\"\",'Gas Cylinder Information'!C59)","v":""},{"$f":"IF('Gas Cylinder Information'!D59=\"\",\"\",'Gas Cylinder Information'!D59)","v":""},{"$f":"IF('Gas Cylinder Information'!B59=\"\",\"\",'Gas Cylinder Information'!B59)","v":""},{"$f":"IF('Gas Cylinder Information'!E59=\"\",\"\",'Gas Cylinder Information'!E59)","v":""},{"$f":"IF('Gas Cylinder Information'!F59=\"\",\"\",'Gas Cylinder Information'!F59)","v":""},{"$f":"IF('Gas Cylinder Information'!G59=\"\",\"\",'Gas Cylinder Information'!G59)","v":""}]
[{"$f":"IF('Gas Cylinder Information'!A60=\"\",\"\",'Gas Cylinder Information'!A60)","v":""},{"$f":"IF('Gas Cylinder Information'!C60=\"\",\"\",'Gas Cylinder Information'!C60)","v":""},{"$f":"IF('Gas Cylinder Information'!D60=\"\",\"\",'Gas Cylinder Information'!D60)","v":""},{"$f":"IF('Gas Cylinder Information'!B60=\"\",\"\",'Gas Cylinder Information'!B60)","v":""},{"$f":"IF('Gas Cylinder Information'!E60=\"\",\"\",'Gas Cylinder Information'!E60)","v":""},{"$f":"IF('Gas Cylinder Information'!F60=\"\",\"\",'Gas Cylinder Information'!F60)","v":""},{"$f":"IF('Gas Cylinder Information'!G60=\"\",\"\",'Gas Cylinder Information'!G60)","v":""}]
[{"$f":"IF('Gas Cylinder Information'!A61=\"\",\"\",'Gas Cylinder Information'!A61)","v":""},{"$f":"IF('Gas Cylinder Information'!C61=\"\",\"\",'Gas Cylinder Information'!C61)","v":""},{"$f":"IF('Gas Cylinder Information'!D61=\"\",\"\",'Gas Cylinder Information'!D61)","v":""},{"$f":"IF('Gas Cylinder Information'!B61=\"\",\"\",'Gas Cylinder Information'!B61)","v":""},{"$f":"IF('Gas Cylinder Information'!E61=\"\",\"\",'Gas Cylinder Information'!E61)","v":""},{"$f":"IF('Gas Cylinder Information'!F61=\"\",\"\",'Gas Cylinder Information'!F61)","v":""},{"$f":"IF('Gas Cylinder Information'!G61=\"\",\"\",'Gas Cylinder Information'!G61)","v":""}]
[{"$f":"IF('Gas Cylinder Information'!A62=\"\",\"\",'Gas Cylinder Information'!A62)","v":""},{"$f":"IF('Gas Cylinder Information'!C62=\"\",\"\",'Gas Cylinder Information'!C62)","v":""},{"$f":"IF('Gas Cylinder Information'!D62=\"\",\"\",'Gas Cylinder Information'!D62)","v":""},{"$f":"IF('Gas Cylinder Information'!B62=\"\",\"\",'Gas Cylinder Information'!B62)","v":""},{"$f":"IF('Gas Cylinder Information'!E62=\"\",\"\",'Gas Cylinder Information'!E62)","v":""},{"$f":"IF('Gas Cylinder Information'!F62=\"\",\"\",'Gas Cylinder Information'!F62)","v":""},{"$f":"IF('Gas Cylinder Information'!G62=\"\",\"\",'Gas Cylinder Information'!G62)","v":""}]
[{"$f":"IF('Gas Cylinder Information'!A63=\"\",\"\",'Gas Cylinder Information'!A63)","v":""},{"$f":"IF('Gas Cylinder Information'!C63=\"\",\"\",'Gas Cylinder Information'!C63)","v":""},{"$f":"IF('Gas Cylinder Information'!D63=\"\",\"\",'Gas Cylinder Information'!D63)","v":""},{"$f":"IF('Gas Cylinder Information'!B63=\"\",\"\",'Gas Cylinder Information'!B63)","v":""},{"$f":"IF('Gas Cylinder Information'!E63=\"\",\"\",'Gas Cylinder Information'!E63)","v":""},{"$f":"IF('Gas Cylinder Information'!F63=\"\",\"\",'Gas Cylinder Information'!F63)","v":""},{"$f":"IF('Gas Cylinder Information'!G63=\"\",\"\",'Gas Cylinder Information'!G63)","v":""}]
[{"$f":"IF('Gas Cylinder Information'!A64=\"\",\"\",'Gas Cylinder Information'!A64)","v":""},{"$f":"IF('Gas Cylinder Information'!C64=\"\",\"\",'Gas Cylinder Information'!C64)","v":""},{"$f":"IF('Gas Cylinder Information'!D64=\"\",\"\",'Gas Cylinder Information'!D64)","v":""},{"$f":"IF('Gas Cylinder Information'!B64=\"\",\"\",'Gas Cylinder Information'!B64)","v":""},{"$f":"IF('Gas Cylinder Information'!E64=\"\",\"\",'Gas Cylinder Information'!E64)","v":""},{"$f":"IF('Gas Cylinder Information'!F64=\"\",\"\",'Gas Cylinder Information'!F64)","v":""},{"$f":"IF('Gas Cylinder Information'!G64=\"\",\"\",'Gas Cylinder Information'!G64)","v":""}]
[{"$f":"IF('Gas Cylinder Information'!A65=\"\",\"\",'Gas Cylinder Information'!A65)","v":""},{"$f":"IF('Gas Cylinder Information'!C65=\"\",\"\",'Gas Cylinder Information'!C65)","v":""},{"$f":"IF('Gas Cylinder Information'!D65=\"\",\"\",'Gas Cylinder Information'!D65)","v":""},{"$f":"IF('Gas Cylinder Information'!B65=\"\",\"\",'Gas Cylinder Information'!B65)","v":""},{"$f":"IF('Gas Cylinder Information'!E65=\"\",\"\",'Gas Cylinder Information'!E65)","v":""},{"$f":"IF('Gas Cylinder Information'!F65=\"\",\"\",'Gas Cylinder Information'!F65)","v":""},{"$f":"IF('Gas Cylinder Information'!G65=\"\",\"\",'Gas Cylinder Information'!G65)","v":""}]
[{"$f":"IF('Gas Cylinder Information'!A66=\"\",\"\",'Gas Cylinder Information'!A66)","v":""},{"$f":"IF('Gas Cylinder Information'!C66=\"\",\"\",'Gas Cylinder Information'!C66)","v":""},{"$f":"IF('Gas Cylinder Information'!D66=\"\",\"\",'Gas Cylinder Information'!D66)","v":""},{"$f":"IF('Gas Cylinder Information'!B66=\"\",\"\",'Gas Cylinder Information'!B66)","v":""},{"$f":"IF('Gas Cylinder Information'!E66=\"\",\"\",'Gas Cylinder Information'!E66)","v":""},{"$f":"IF('Gas Cylinder Information'!F66=\"\",\"\",'Gas Cylinder Information'!F66)","v":""},{"$f":"IF('Gas Cylinder Information'!G66=\"\",\"\",'Gas Cylinder Information'!G66)","v":""}]
[{"$f":"IF('Gas Cylinder Information'!A67=\"\",\"\",'Gas Cylinder Information'!A67)","v":""},{"$f":"IF('Gas Cylinder Information'!C67=\"\",\"\",'Gas Cylinder Information'!C67)","v":""},{"$f":"IF('Gas Cylinder Information'!D67=\"\",\"\",'Gas Cylinder Information'!D67)","v":""},{"$f":"IF('Gas Cylinder Information'!B67=\"\",\"\",'Gas Cylinder Information'!B67)","v":""},{"$f":"IF('Gas Cylinder Information'!E67=\"\",\"\",'Gas Cylinder Information'!E67)","v":""},{"$f":"IF('Gas Cylinder Information'!F67=\"\",\"\",'Gas Cylinder Information'!F67)","v":""},{"$f":"IF('Gas Cylinder Information'!G67=\"\",\"\",'Gas Cylinder Information'!G67)","v":""}]
[{"$f":"IF('Gas Cylinder Information'!A68=\"\",\"\",'Gas Cylinder Information'!A68)","v":""},{"$f":"IF('Gas Cylinder Information'!C68=\"\",\"\",'Gas Cylinder Information'!C68)","v":""},{"$f":"IF('Gas Cylinder Information'!D68=\"\",\"\",'Gas Cylinder Information'!D68)","v":""},{"$f":"IF('Gas Cylinder Information'!B68=\"\",\"\",'Gas Cylinder Information'!B68)","v":""},{"$f":"IF('Gas Cylinder Information'!E68=\"\",\"\",'Gas Cylinder Information'!E68)","v":""},{"$f":"IF('Gas Cylinder Information'!F68=\"\",\"\",'Gas Cylinder Information'!F68)","v":""},{"$f":"IF('Gas Cylinder Information'!G68=\"\",\"\",'Gas Cylinder Information'!G68)","v":""}]
[{"$f":"IF('Gas Cylinder Information'!A69=\"\",\"\",'Gas Cylinder Information'!A69)","v":""},{"$f":"IF('Gas Cylinder Information'!C69=\"\",\"\",'Gas Cylinder Information'!C69)","v":""},{"$f":"IF('Gas Cylinder Information'!D69=\"\",\"\",'Gas Cylinder Information'!D69)","v":""},{"$f":"IF('Gas Cylinder Information'!B69=\"\",\"\",'Gas Cylinder Information'!B69)","v":""},{"$f":"IF('Gas Cylinder Information'!E69=\"\",\"\",'Gas Cylinder Information'!E69)","v":""},{"$f":"IF('Gas Cylinder Information'!F69=\"\",\"\",'Gas Cylinder Information'!F69)","v":""},{"$f":"IF('Gas Cylinder Information'!G69=\"\",\"\",'Gas Cylinder Information'!G69)","v":""}]
[{"$f":"IF('Gas Cylinder Information'!A70=\"\",\"\",'Gas Cylinder Information'!A70)","v":""},{"$f":"IF('Gas Cylinder Information'!C70=\"\",\"\",'Gas Cylinder Information'!C70)","v":""},{"$f":"IF('Gas Cylinder Information'!D70=\"\",\"\",'Gas Cylinder Information'!D70)","v":""},{"$f":"IF('Gas Cylinder Information'!B70=\"\",\"\",'Gas Cylinder Information'!B70)","v":""},{"$f":"IF('Gas Cylinder Information'!E70=\"\",\"\",'Gas Cylinder Information'!E70)","v":""},{"$f":"IF('Gas Cylinder Information'!F70=\"\",\"\",'Gas Cylinder Information'!F70)","v":""},{"$f":"IF('Gas Cylinder Information'!G70=\"\",\"\",'Gas Cylinder Information'!G70)","v":""}]
[{"$f":"IF('Gas Cylinder Information'!A71=\"\",\"\",'Gas Cylinder Information'!A71)","v":""},{"$f":"IF('Gas Cylinder Information'!C71=\"\",\"\",'Gas Cylinder Information'!C71)","v":""},{"$f":"IF('Gas Cylinder Information'!D71=\"\",\"\",'Gas Cylinder Information'!D71)","v":""},{"$f":"IF('Gas Cylinder Information'!B71=\"\",\"\",'Gas Cylinder Information'!B71)","v":""},{"$f":"IF('Gas Cylinder Information'!E71=\"\",\"\",'Gas Cylinder Information'!E71)","v":""},{"$f":"IF('Gas Cylinder Information'!F71=\"\",\"\",'Gas Cylinder Information'!F71)","v":""},{"$f":"IF('Gas Cylinder Information'!G71=\"\",\"\",'Gas Cylinder Information'!G71)","v":""}]
[{"$f":"IF('Gas Cylinder Information'!A72=\"\",\"\",'Gas Cylinder Information'!A72)","v":""},{"$f":"IF('Gas Cylinder Information'!C72=\"\",\"\",'Gas Cylinder Information'!C72)","v":""},{"$f":"IF('Gas Cylinder Information'!D72=\"\",\"\",'Gas Cylinder Information'!D72)","v":""},{"$f":"IF('Gas Cylinder Information'!B72=\"\",\"\",'Gas Cylinder Information'!B72)","v":""},{"$f":"IF('Gas Cylinder Information'!E72=\"\",\"\",'Gas Cylinder Information'!E72)","v":""},{"$f":"IF('Gas Cylinder Information'!F72=\"\",\"\",'Gas Cylinder Information'!F72)","v":""},{"$f":"IF('Gas Cylinder Information'!G72=\"\",\"\",'Gas Cylinder Information'!G72)","v":""}]
[{"$f":"IF('Gas Cylinder Information'!A73=\"\",\"\",'Gas Cylinder Information'!A73)","v":""},{"$f":"IF('Gas Cylinder Information'!C73=\"\",\"\",'Gas Cylinder Information'!C73)","v":""},{"$f":"IF('Gas Cylinder Information'!D73=\"\",\"\",'Gas Cylinder Information'!D73)","v":""},{"$f":"IF('Gas Cylinder Information'!B73=\"\",\"\",'Gas Cylinder Information'!B73)","v":""},{"$f":"IF('Gas Cylinder Information'!E73=\"\",\"\",'Gas Cylinder Information'!E73)","v":""},{"$f":"IF('Gas Cylinder Information'!F73=\"\",\"\",'Gas Cylinder Information'!F73)","v":""},{"$f":"IF('Gas Cylinder Information'!G73=\"\",\"\",'Gas Cylinder Information'!G73)","v":""}]
[{"$f":"IF('Gas Cylinder Information'!A74=\"\",\"\",'Gas Cylinder Information'!A74)","v":""},{"$f":"IF('Gas Cylinder Information'!C74=\"\",\"\",'Gas Cylinder Information'!C74)","v":""},{"$f":"IF('Gas Cylinder Information'!D74=\"\",\"\",'Gas Cylinder Information'!D74)","v":""},{"$f":"IF('Gas Cylinder Information'!B74=\"\",\"\",'Gas Cylinder Information'!B74)","v":""},{"$f":"IF('Gas Cylinder Information'!E74=\"\",\"\",'Gas Cylinder Information'!E74)","v":""},{"$f":"IF('Gas Cylinder Information'!F74=\"\",\"\",'Gas Cylinder Information'!F74)","v":""},{"$f":"IF('Gas Cylinder Information'!G74=\"\",\"\",'Gas Cylinder Information'!G74)","v":""}]
[{"$f":"IF('Gas Cylinder Information'!A75=\"\",\"\",'Gas Cylinder Information'!A75)","v":""},{"$f":"IF('Gas Cylinder Information'!C75=\"\",\"\",'Gas Cylinder Information'!C75)","v":""},{"$f":"IF('Gas Cylinder Information'!D75=\"\",\"\",'Gas Cylinder Information'!D75)","v":""},{"$f":"IF('Gas Cylinder Information'!B75=\"\",\"\",'Gas Cylinder Information'!B75)","v":""},{"$f":"IF('Gas Cylinder Information'!E75=\"\",\"\",'Gas Cylinder Information'!E75)","v":""},{"$f":"IF('Gas Cylinder Information'!F75=\"\",\"\",'Gas Cylinder Information'!F75)","v":""},{"$f":"IF('Gas Cylinder Information'!G75=\"\",\"\",'Gas Cylinder Information'!G75)","v":""}]
[{"$f":"IF('Gas Cylinder Information'!A76=\"\",\"\",'Gas Cylinder Information'!A76)","v":""},{"$f":"IF('Gas Cylinder Information'!C76=\"\",\"\",'Gas Cylinder Information'!C76)","v":""},{"$f":"IF('Gas Cylinder Information'!D76=\"\",\"\",'Gas Cylinder Information'!D76)","v":""},{"$f":"IF('Gas Cylinder Information'!B76=\"\",\"\",'Gas Cylinder Information'!B76)","v":""},{"$f":"IF('Gas Cylinder Information'!E76=\"\",\"\",'Gas Cylinder Information'!E76)","v":""},{"$f":"IF('Gas Cylinder Information'!F76=\"\",\"\",'Gas Cylinder Information'!F76)","v":""},{"$f":"IF('Gas Cylinder Information'!G76=\"\",\"\",'Gas Cylinder Information'!G76)","v":""}]
[{"$f":"IF('Gas Cylinder Information'!A77=\"\",\"\",'Gas Cylinder Information'!A77)","v":""},{"$f":"IF('Gas Cylinder Information'!C77=\"\",\"\",'Gas Cylinder Information'!C77)","v":""},{"$f":"IF('Gas Cylinder Information'!D77=\"\",\"\",'Gas Cylinder Information'!D77)","v":""},{"$f":"IF('Gas Cylinder Information'!B77=\"\",\"\",'Gas Cylinder Information'!B77)","v":""},{"$f":"IF('Gas Cylinder Information'!E77=\"\",\"\",'Gas Cylinder Information'!E77)","v":""},{"$f":"IF('Gas Cylinder Information'!F77=\"\",\"\",'Gas Cylinder Information'!F77)","v":""},{"$f":"IF('Gas Cylinder Information'!G77=\"\",\"\",'Gas Cylinder Information'!G77)","v":""}]
[{"$f":"IF('Gas Cylinder Information'!A78=\"\",\"\",'Gas Cylinder Information'!A78)","v":""},{"$f":"IF('Gas Cylinder Information'!C78=\"\",\"\",'Gas Cylinder Information'!C78)","v":""},{"$f":"IF('Gas Cylinder Information'!D78=\"\",\"\",'Gas Cylinder Information'!D78)","v":""},{"$f":"IF('Gas Cylinder Information'!B78=\"\",\"\",'Gas Cylinder Information'!B78)","v":""},{"$f":"IF('Gas Cylinder Information'!E78=\"\",\"\",'Gas Cylinder Information'!E78)","v":""},{"$f":"IF('Gas Cylinder Information'!F78=\"\",\"\",'Gas Cylinder Information'!F78)","v":""},{"$f":"IF('Gas Cylinder Information'!G78=\"\",\"\",'Gas Cylinder Information'!G78)","v":""}]
[{"$f":"IF('Gas Cylinder Information'!A79=\"\",\"\",'Gas Cylinder Information'!A79)","v":""},{"$f":"IF('Gas Cylinder Information'!C79=\"\",\"\",'Gas Cylinder Information'!C79)","v":""},{"$f":"IF('Gas Cylinder Information'!D79=\"\",\"\",'Gas Cylinder Information'!D79)","v":""},{"$f":"IF('Gas Cylinder Information'!B79=\"\",\"\",'Gas Cylinder Information'!B79)","v":""},{"$f":"IF('Gas Cylinder Information'!E79=\"\",\"\",'Gas Cylinder Information'!E79)","v":""},{"$f":"IF('Gas Cylinder Information'!F79=\"\",\"\",'Gas Cylinder Information'!F79)","v":""},{"$f":"IF('Gas Cylinder Information'!G79=\"\",\"\",'Gas Cylinder Information'!G79)","v":""}]
[{"$f":"IF('Gas Cylinder Information'!A80=\"\",\"\",'Gas Cylinder Information'!A80)","v":""},{"$f":"IF('Gas Cylinder Information'!C80=\"\",\"\",'Gas Cylinder Information'!C80)","v":""},{"$f":"IF('Gas Cylinder Information'!D80=\"\",\"\",'Gas Cylinder Information'!D80)","v":""},{"$f":"IF('Gas Cylinder Information'!B80=\"\",\"\",'Gas Cylinder Information'!B80)","v":""},{"$f":"IF('Gas Cylinder Information'!E80=\"\",\"\",'Gas Cylinder Information'!E80)","v":""},{"$f":"IF('Gas Cylinder Information'!F80=\"\",\"\",'Gas Cylinder Information'!F80)","v":""},{"$f":"IF('Gas Cylinder Information'!G80=\"\",\"\",'Gas Cylinder Information'!G80)","v":""}]
[{"$f":"IF('Gas Cylinder Information'!A81=\"\",\"\",'Gas Cylinder Information'!A81)","v":""},{"$f":"IF('Gas Cylinder Information'!C81=\"\",\"\",'Gas Cylinder Information'!C81)","v":""},{"$f":"IF('Gas Cylinder Information'!D81=\"\",\"\",'Gas Cylinder Information'!D81)","v":""},{"$f":"IF('Gas Cylinder Information'!B81=\"\",\"\",'Gas Cylinder Information'!B81)","v":""},{"$f":"IF('Gas Cylinder Information'!E81=\"\",\"\",'Gas Cylinder Information'!E81)","v":""},{"$f":"IF('Gas Cylinder Information'!F81=\"\",\"\",'Gas Cylinder Information'!F81)","v":""},{"$f":"IF('Gas Cylinder Information'!G81=\"\",\"\",'Gas Cylinder Information'!G81)","v":""}]
[{"$f":"IF('Gas Cylinder Information'!A82=\"\",\"\",'Gas Cylinder Information'!A82)","v":""},{"$f":"IF('Gas Cylinder Information'!C82=\"\",\"\",'Gas Cylinder Information'!C82)","v":""},{"$f":"IF('Gas Cylinder Information'!D82=\"\",\"\",'Gas Cylinder Information'!D82)","v":""},{"$f":"IF('Gas Cylinder Information'!B82=\"\",\"\",'Gas Cylinder Information'!B82)","v":""},{"$f":"IF('Gas Cylinder Information'!E82=\"\",\"\",'Gas Cylinder Information'!E82)","v":""},{"$f":"IF('Gas Cylinder Information'!F82=\"\",\"\",'Gas Cylinder Information'!F82)","v":""},{"$f":"IF('Gas Cylinder Information'!G82=\"\",\"\",'Gas Cylinder Information'!G82)","v":""}]
[{"$f":"IF('Gas Cylinder Information'!A83=\"\",\"\",'Gas Cylinder Information'!A83)","v":""},{"$f":"IF('Gas Cylinder Information'!C83=\"\",\"\",'Gas Cylinder Information'!C83)","v":""},{"$f":"IF('Gas Cylinder Information'!D83=\"\",\"\",'Gas Cylinder Information'!D83)","v":""},{"$f":"IF('Gas Cylinder Information'!B83=\"\",\"\",'Gas Cylinder Information'!B83)","v":""},{"$f":"IF('Gas Cylinder Information'!E83=\"\",\"\",'Gas Cylinder Information'!E83)","v":""},{"$f":"IF('Gas Cylinder Information'!F83=\"\",\"\",'Gas Cylinder Information'!F83)","v":""},{"$f":"IF('Gas Cylinder Information'!G83=\"\",\"\",'Gas Cylinder Information'!G83)","v":""}]
[{"$f":"IF('Gas Cylinder Information'!A84=\"\",\"\",'Gas Cylinder Information'!A84)","v":""},{"$f":"IF('Gas Cylinder Information'!C84=\"\",\"\",'Gas Cylinder Information'!C84)","v":""},{"$f":"IF('Gas Cylinder Information'!D84=\"\",\"\",'Gas Cylinder Information'!D84)","v":""},{"$f":"IF('Gas Cylinder Information'!B84=\"\",\"\",'Gas Cylinder Information'!B84)","v":""},{"$f":"IF('Gas Cylinder Information'!E84=\"\",\"\",'Gas Cylinder Information'!E84)","v":""},{"$f":"IF('Gas Cylinder Information'!F84=\"\",\"\",'Gas Cylinder Information'!F84)","v":""},{"$f":"IF('Gas Cylinder Information'!G84=\"\",\"\",'Gas Cylinder Information'!G84)","v":""}]
[{"$f":"IF('Gas Cylinder Information'!A85=\"\",\"\",'Gas Cylinder Information'!A85)","v":""},{"$f":"IF('Gas Cylinder Information'!C85=\"\",\"\",'Gas Cylinder Information'!C85)","v":""},{"$f":"IF('Gas Cylinder Information'!D85=\"\",\"\",'Gas Cylinder Information'!D85)","v":""},{"$f":"IF('Gas Cylinder Information'!B85=\"\",\"\",'Gas Cylinder Information'!B85)","v":""},{"$f":"IF('Gas Cylinder Information'!E85=\"\",\"\",'Gas Cylinder Information'!E85)","v":""},{"$f":"IF('Gas Cylinder Information'!F85=\"\",\"\",'Gas Cylinder Information'!F85)","v":""},{"$f":"IF('Gas Cylinder Information'!G85=\"\",\"\",'Gas Cylinder Information'!G85)","v":""}]
[{"$f":"IF('Gas Cylinder Information'!A86=\"\",\"\",'Gas Cylinder Information'!A86)","v":""},{"$f":"IF('Gas Cylinder Information'!C86=\"\",\"\",'Gas Cylinder Information'!C86)","v":""},{"$f":"IF('Gas Cylinder Information'!D86=\"\",\"\",'Gas Cylinder Information'!D86)","v":""},{"$f":"IF('Gas Cylinder Information'!B86=\"\",\"\",'Gas Cylinder Information'!B86)","v":""},{"$f":"IF('Gas Cylinder Information'!E86=\"\",\"\",'Gas Cylinder Information'!E86)","v":""},{"$f":"IF('Gas Cylinder Information'!F86=\"\",\"\",'Gas Cylinder Information'!F86)","v":""},{"$f":"IF('Gas Cylinder Information'!G86=\"\",\"\",'Gas Cylinder Information'!G86)","v":""}]
[{"$f":"IF('Gas Cylinder Information'!A87=\"\",\"\",'Gas Cylinder Information'!A87)","v":""},{"$f":"IF('Gas Cylinder Information'!C87=\"\",\"\",'Gas Cylinder Information'!C87)","v":""},{"$f":"IF('Gas Cylinder Information'!D87=\"\",\"\",'Gas Cylinder Information'!D87)","v":""},{"$f":"IF('Gas Cylinder Information'!B87=\"\",\"\",'Gas Cylinder Information'!B87)","v":""},{"$f":"IF('Gas Cylinder Information'!E87=\"\",\"\",'Gas Cylinder Information'!E87)","v":""},{"$f":"IF('Gas Cylinder Information'!F87=\"\",\"\",'Gas Cylinder Information'!F87)","v":""},{"$f":"IF('Gas Cylinder Information'!G87=\"\",\"\",'Gas Cylinder Information'!G87)","v":""}]
[{"$f":"IF('Gas Cylinder Information'!A88=\"\",\"\",'Gas Cylinder Information'!A88)","v":""},{"$f":"IF('Gas Cylinder Information'!C88=\"\",\"\",'Gas Cylinder Information'!C88)","v":""},{"$f":"IF('Gas Cylinder Information'!D88=\"\",\"\",'Gas Cylinder Information'!D88)","v":""},{"$f":"IF('Gas Cylinder Information'!B88=\"\",\"\",'Gas Cylinder Information'!B88)","v":""},{"$f":"IF('Gas Cylinder Information'!E88=\"\",\"\",'Gas Cylinder Information'!E88)","v":""},{"$f":"IF('Gas Cylinder Information'!F88=\"\",\"\",'Gas Cylinder Information'!F88)","v":""},{"$f":"IF('Gas Cylinder Information'!G88=\"\",\"\",'Gas Cylinder Information'!G88)","v":""}]
[{"$f":"IF('Gas Cylinder Information'!A89=\"\",\"\",'Gas Cylinder Information'!A89)","v":""},{"$f":"IF('Gas Cylinder Information'!C89=\"\",\"\",'Gas Cylinder Information'!C89)","v":""},{"$f":"IF('Gas Cylinder Information'!D89=\"\",\"\",'Gas Cylinder Information'!D89)","v":""},{"$f":"IF('Gas Cylinder Information'!B89=\"\",\"\",'Gas Cylinder Information'!B89)","v":""},{"$f":"IF('Gas Cylinder Information'!E89=\"\",\"\",'Gas Cylinder Information'!E89)","v":""},{"$f":"IF('Gas Cylinder Information'!F89=\"\",\"\",'Gas Cylinder Information'!F89)","v":""},{"$f":"IF('Gas Cylinder Information'!G89=\"\",\"\",'Gas Cylinder Information'!G89)","v":""}]
[{"$f":"IF('Gas Cylinder Information'!A90=\"\",\"\",'Gas Cylinder Information'!A90)","v":""},{"$f":"IF('Gas Cylinder Information'!C90=\"\",\"\",'Gas Cylinder Information'!C90)","v":""},{"$f":"IF('Gas Cylinder Information'!D90=\"\",\"\",'Gas Cylinder Information'!D90)","v":""},{"$f":"IF('Gas Cylinder Information'!B90=\"\",\"\",'Gas Cylinder Information'!B90)","v":""},{"$f":"IF('Gas Cylinder Information'!E90=\"\",\"\",'Gas Cylinder Information'!E90)","v":""},{"$f":"IF('Gas Cylinder Information'!F90=\"\",\"\",'Gas Cylinder Information'!F90)","v":""},{"$f":"IF('Gas Cylinder Information'!G90=\"\",\"\",'Gas Cylinder Information'!G90)","v":""}]
[{"$f":"IF('Gas Cylinder Information'!A91=\"\",\"\",'Gas Cylinder Information'!A91)","v":""},{"$f":"IF('Gas Cylinder Information'!C91=\"\",\"\",'Gas Cylinder Information'!C91)","v":""},{"$f":"IF('Gas Cylinder Information'!D91=\"\",\"\",'Gas Cylinder Information'!D91)","v":""},{"$f":"IF('Gas Cylinder Information'!B91=\"\",\"\",'Gas Cylinder Information'!B91)","v":""},{"$f":"IF('Gas Cylinder Information'!E91=\"\",\"\",'Gas Cylinder Information'!E91)","v":""},{"$f":"IF('Gas Cylinder Information'!F91=\"\",\"\",'Gas Cylinder Information'!F91)","v":""},{"$f":"IF('Gas Cylinder Information'!G91=\"\",\"\",'Gas Cylinder Information'!G91)","v":""}]
[{"$f":"IF('Gas Cylinder Information'!A92=\"\",\"\",'Gas Cylinder Information'!A92)","v":""},{"$f":"IF('Gas Cylinder Information'!C92=\"\",\"\",'Gas Cylinder Information'!C92)","v":""},{"$f":"IF('Gas Cylinder Information'!D92=\"\",\"\",'Gas Cylinder Information'!D92)","v":""},{"$f":"IF('Gas Cylinder Information'!B92=\"\",\"\",'Gas Cylinder Information'!B92)","v":""},{"$f":"IF('Gas Cylinder Information'!E92=\"\",\"\",'Gas Cylinder Information'!E92)","v":""},{"$f":"IF('Gas Cylinder Information'!F92=\"\",\"\",'Gas Cylinder Information'!F92)","v":""},{"$f":"IF('Gas Cylinder Information'!G92=\"\",\"\",'Gas Cylinder Information'!G92)","v":""}]
[{"$f":"IF('Gas Cylinder Information'!A93=\"\",\"\",'Gas Cylinder Information'!A93)","v":""},{"$f":"IF('Gas Cylinder Information'!C93=\"\",\"\",'Gas Cylinder Information'!C93)","v":""},{"$f":"IF('Gas Cylinder Information'!D93=\"\",\"\",'Gas Cylinder Information'!D93)","v":""},{"$f":"IF('Gas Cylinder Information'!B93=\"\",\"\",'Gas Cylinder Information'!B93)","v":""},{"$f":"IF('Gas Cylinder Information'!E93=\"\",\"\",'Gas Cylinder Information'!E93)","v":""},{"$f":"IF('Gas Cylinder Information'!F93=\"\",\"\",'Gas Cylinder Information'!F93)","v":""},{"$f":"IF('Gas Cylinder Information'!G93=\"\",\"\",'Gas Cylinder Information'!G93)","v":""}]
[{"$f":"IF('Gas Cylinder Information'!A94=\"\",\"\",'Gas Cylinder Information'!A94)","v":""},{"$f":"IF('Gas Cylinder Information'!C94=\"\",\"\",'Gas Cylinder Information'!C94)","v":""},{"$f":"IF('Gas Cylinder Information'!D94=\"\",\"\",'Gas Cylinder Information'!D94)","v":""},{"$f":"IF('Gas Cylinder Information'!B94=\"\",\"\",'Gas Cylinder Information'!B94)","v":""},{"$f":"IF('Gas Cylinder Information'!E94=\"\",\"\",'Gas Cylinder Information'!E94)","v":""},{"$f":"IF('Gas Cylinder Information'!F94=\"\",\"\",'Gas Cylinder Information'!F94)","v":""},{"$f":"IF('Gas Cylinder Information'!G94=\"\",\"\",'Gas Cylinder Information'!G94)","v":""}]
[{"$f":"IF('Gas Cylinder Information'!A95=\"\",\"\",'Gas Cylinder Information'!A95)","v":""},{"$f":"IF('Gas Cylinder Information'!C95=\"\",\"\",'Gas Cylinder Information'!C95)","v":""},{"$f":"IF('Gas Cylinder Information'!D95=\"\",\"\",'Gas Cylinder Information'!D95)","v":""},{"$f":"IF('Gas Cylinder Information'!B95=\"\",\"\",'Gas Cylinder Information'!B95)","v":""},{"$f":"IF('Gas Cylinder Information'!E95=\"\",\"\",'Gas Cylinder Information'!E95)","v":""},{"$f":"IF('Gas Cylinder Information'!F95=\"\",\"\",'Gas Cylinder Information'!F95)","v":""},{"$f":"IF('Gas Cylinder Information'!G95=\"\",\"\",'Gas Cylinder Information'!G95)","v":""}]
[{"$f":"IF('Gas Cylinder Information'!A96=\"\",\"\",'Gas Cylinder Information'!A96)","v":""},{"$f":"IF('Gas Cylinder Information'!C96=\"\",\"\",'Gas Cylinder Information'!C96)","v":""},{"$f":"IF('Gas Cylinder Information'!D96=\"\",\"\",'Gas Cylinder Information'!D96)","v":""},{"$f":"IF('Gas Cylinder Information'!B96=\"\",\"\",'Gas Cylinder Information'!B96)","v":""},{"$f":"IF('Gas Cylinder Information'!E96=\"\",\"\",'Gas Cylinder Information'!E96)","v":""},{"$f":"IF('Gas Cylinder Information'!F96=\"\",\"\",'Gas Cylinder Information'!F96)","v":""},{"$f":"IF('Gas Cylinder Information'!G96=\"\",\"\",'Gas Cylinder Information'!G96)","v":""}]
[{"$f":"IF('Gas Cylinder Information'!A97=\"\",\"\",'Gas Cylinder Information'!A97)","v":""},{"$f":"IF('Gas Cylinder Information'!C97=\"\",\"\",'Gas Cylinder Information'!C97)","v":""},{"$f":"IF('Gas Cylinder Information'!D97=\"\",\"\",'Gas Cylinder Information'!D97)","v":""},{"$f":"IF('Gas Cylinder Information'!B97=\"\",\"\",'Gas Cylinder Information'!B97)","v":""},{"$f":"IF('Gas Cylinder Information'!E97=\"\",\"\",'Gas Cylinder Information'!E97)","v":""},{"$f":"IF('Gas Cylinder Information'!F97=\"\",\"\",'Gas Cylinder Information'!F97)","v":""},{"$f":"IF('Gas Cylinder Information'!G97=\"\",\"\",'Gas Cylinder Information'!G97)","v":""}]
[{"$f":"IF('Gas Cylinder Information'!A98=\"\",\"\",'Gas Cylinder Information'!A98)","v":""},{"$f":"IF('Gas Cylinder Information'!C98=\"\",\"\",'Gas Cylinder Information'!C98)","v":""},{"$f":"IF('Gas Cylinder Information'!D98=\"\",\"\",'Gas Cylinder Information'!D98)","v":""},{"$f":"IF('Gas Cylinder Information'!B98=\"\",\"\",'Gas Cylinder Information'!B98)","v":""},{"$f":"IF('Gas Cylinder Information'!E98=\"\",\"\",'Gas Cylinder Information'!E98)","v":""},{"$f":"IF('Gas Cylinder Information'!F98=\"\",\"\",'Gas Cylinder Information'!F98)","v":""},{"$f":"IF('Gas Cylinder Information'!G98=\"\",\"\",'Gas Cylinder Information'!G98)","v":""}]
[{"$f":"IF('Gas Cylinder Information'!A99=\"\",\"\",'Gas Cylinder Information'!A99)","v":""},{"$f":"IF('Gas Cylinder Information'!C99=\"\",\"\",'Gas Cylinder Information'!C99)","v":""},{"$f":"IF('Gas Cylinder Information'!D99=\"\",\"\",'Gas Cylinder Information'!D99)","v":""},{"$f":"IF('Gas Cylinder Information'!B99=\"\",\"\",'Gas Cylinder Information'!B99)","v":""},{"$f":"IF('Gas Cylinder Information'!E99=\"\",\"\",'Gas Cylinder Information'!E99)","v":""},{"$f":"IF('Gas Cylinder Information'!F99=\"\",\"\",'Gas Cylinder Information'!F99)","v":""},{"$f":"IF('Gas Cylinder Information'!G99=\"\",\"\",'Gas Cylinder Information'!G99)","v":""}]
[{"$f":"IF('Gas Cylinder Information'!A100=\"\",\"\",'Gas Cylinder Information'!A100)","v":""},{"$f":"IF('Gas Cylinder Information'!C100=\"\",\"\",'Gas Cylinder Information'!C100)","v":""},{"$f":"IF('Gas Cylinder Information'!D100=\"\",\"\",'Gas Cylinder Information'!D100)","v":""},{"$f":"IF('Gas Cylinder Information'!B100=\"\",\"\",'Gas Cylinder Information'!B100)","v":""},{"$f":"IF('Gas Cylinder Information'!E100=\"\",\"\",'Gas Cylinder Information'!E100)","v":""},{"$f":"IF('Gas Cylinder Information'!F100=\"\",\"\",'Gas Cylinder Information'!F100)","v":""},{"$f":"IF('Gas Cylinder Information'!G100=\"\",\"\",'Gas Cylinder Information'!G100)","v":""}]
[{"$f":"IF('Gas Cylinder Information'!A101=\"\",\"\",'Gas Cylinder Information'!A101)","v":""},{"$f":"IF('Gas Cylinder Information'!C101=\"\",\"\",'Gas Cylinder Information'!C101)","v":""},{"$f":"IF('Gas Cylinder Information'!D101=\"\",\"\",'Gas Cylinder Information'!D101)","v":""},{"$f":"IF('Gas Cylinder Information'!B101=\"\",\"\",'Gas Cylinder Information'!B101)","v":""},{"$f":"IF('Gas Cylinder Information'!E101=\"\",\"\",'Gas Cylinder Information'!E101)","v":""},{"$f":"IF('Gas Cylinder Information'!F101=\"\",\"\",'Gas Cylinder Information'!F101)","v":""},{"$f":"IF('Gas Cylinder Information'!G101=\"\",\"\",'Gas Cylinder Information'!G101)","v":""}]
[{"$f":"IF('Gas Cylinder Information'!A102=\"\",\"\",'Gas Cylinder Information'!A102)","v":""},{"$f":"IF('Gas Cylinder Information'!C102=\"\",\"\",'Gas Cylinder Information'!C102)","v":""},{"$f":"IF('Gas Cylinder Information'!D102=\"\",\"\",'Gas Cylinder Information'!D102)","v":""},{"$f":"IF('Gas Cylinder Information'!B102=\"\",\"\",'Gas Cylinder Information'!B102)","v":""},{"$f":"IF('Gas Cylinder Information'!E102=\"\",\"\",'Gas Cylinder Information'!E102)","v":""},{"$f":"IF('Gas Cylinder Information'!F102=\"\",\"\",'Gas Cylinder Information'!F102)","v":""},{"$f":"IF('Gas Cylinder Information'!G102=\"\",\"\",'Gas Cylinder Information'!G102)","v":""}]
[{"$f":"IF('Gas Cylinder Information'!A103=\"\",\"\",'Gas Cylinder Information'!A103)","v":""},{"$f":"IF('Gas Cylinder Information'!C103=\"\",\"\",'Gas Cylinder Information'!C103)","v":""},{"$f":"IF('Gas Cylinder Information'!D103=\"\",\"\",'Gas Cylinder Information'!D103)","v":""},{"$f":"IF('Gas Cylinder Information'!B103=\"\",\"\",'Gas Cylinder Information'!B103)","v":""},{"$f":"IF('Gas Cylinder Information'!E103=\"\",\"\",'Gas Cylinder Information'!E103)","v":""},{"$f":"IF('Gas Cylinder Information'!F103=\"\",\"\",'Gas Cylinder Information'!F103)","v":""},{"$f":"IF('Gas Cylinder Information'!G103=\"\",\"\",'Gas Cylinder Information'!G103)","v":""}]
[{"$f":"IF('Gas Cylinder Information'!A104=\"\",\"\",'Gas Cylinder Information'!A104)","v":""},{"$f":"IF('Gas Cylinder Information'!C104=\"\",\"\",'Gas Cylinder Information'!C104)","v":""},{"$f":"IF('Gas Cylinder Information'!D104=\"\",\"\",'Gas Cylinder Information'!D104)","v":""},{"$f":"IF('Gas Cylinder Information'!B104=\"\",\"\",'Gas Cylinder Information'!B104)","v":""},{"$f":"IF('Gas Cylinder Information'!E104=\"\",\"\",'Gas Cylinder Information'!E104)","v":""},{"$f":"IF('Gas Cylinder Information'!F104=\"\",\"\",'Gas Cylinder Information'!F104)","v":""},{"$f":"IF('Gas Cylinder Information'!G104=\"\",\"\",'Gas Cylinder Information'!G104)","v":""}]
[{"$f":"IF('Gas Cylinder Information'!A105=\"\",\"\",'Gas Cylinder Information'!A105)","v":""},{"$f":"IF('Gas Cylinder Information'!C105=\"\",\"\",'Gas Cylinder Information'!C105)","v":""},{"$f":"IF('Gas Cylinder Information'!D105=\"\",\"\",'Gas Cylinder Information'!D105)","v":""},{"$f":"IF('Gas Cylinder Information'!B105=\"\",\"\",'Gas Cylinder Information'!B105)","v":""},{"$f":"IF('Gas Cylinder Information'!E105=\"\",\"\",'Gas Cylinder Information'!E105)","v":""},{"$f":"IF('Gas Cylinder Information'!F105=\"\",\"\",'Gas Cylinder Information'!F105)","v":""},{"$f":"IF('Gas Cylinder Information'!G105=\"\",\"\",'Gas Cylinder Information'!G105)","v":""}]
[{"$f":"IF('Gas Cylinder Information'!A106=\"\",\"\",'Gas Cylinder Information'!A106)","v":""},{"$f":"IF('Gas Cylinder Information'!C106=\"\",\"\",'Gas Cylinder Information'!C106)","v":""},{"$f":"IF('Gas Cylinder Information'!D106=\"\",\"\",'Gas Cylinder Information'!D106)","v":""},{"$f":"IF('Gas Cylinder Information'!B106=\"\",\"\",'Gas Cylinder Information'!B106)","v":""},{"$f":"IF('Gas Cylinder Information'!E106=\"\",\"\",'Gas Cylinder Information'!E106)","v":""},{"$f":"IF('Gas Cylinder Information'!F106=\"\",\"\",'Gas Cylinder Information'!F106)","v":""},{"$f":"IF('Gas Cylinder Information'!G106=\"\",\"\",'Gas Cylinder Information'!G106)","v":""}]
[{"$f":"IF('Gas Cylinder Information'!A107=\"\",\"\",'Gas Cylinder Information'!A107)","v":""},{"$f":"IF('Gas Cylinder Information'!C107=\"\",\"\",'Gas Cylinder Information'!C107)","v":""},{"$f":"IF('Gas Cylinder Information'!D107=\"\",\"\",'Gas Cylinder Information'!D107)","v":""},{"$f":"IF('Gas Cylinder Information'!B107=\"\",\"\",'Gas Cylinder Information'!B107)","v":""},{"$f":"IF('Gas Cylinder Information'!E107=\"\",\"\",'Gas Cylinder Information'!E107)","v":""},{"$f":"IF('Gas Cylinder Information'!F107=\"\",\"\",'Gas Cylinder Information'!F107)","v":""},{"$f":"IF('Gas Cylinder Information'!G107=\"\",\"\",'Gas Cylinder Information'!G107)","v":""}]
[{"$f":"IF('Gas Cylinder Information'!A108=\"\",\"\",'Gas Cylinder Information'!A108)","v":""},{"$f":"IF('Gas Cylinder Information'!C108=\"\",\"\",'Gas Cylinder Information'!C108)","v":""},{"$f":"IF('Gas Cylinder Information'!D108=\"\",\"\",'Gas Cylinder Information'!D108)","v":""},{"$f":"IF('Gas Cylinder Information'!B108=\"\",\"\",'Gas Cylinder Information'!B108)","v":""},{"$f":"IF('Gas Cylinder Information'!E108=\"\",\"\",'Gas Cylinder Information'!E108)","v":""},{"$f":"IF('Gas Cylinder Information'!F108=\"\",\"\",'Gas Cylinder Information'!F108)","v":""},{"$f":"IF('Gas Cylinder Information'!G108=\"\",\"\",'Gas Cylinder Information'!G108)","v":""}]
[{"$f":"IF('Gas Cylinder Information'!A109=\"\",\"\",'Gas Cylinder Information'!A109)","v":""},{"$f":"IF('Gas Cylinder Information'!C109=\"\",\"\",'Gas Cylinder Information'!C109)","v":""},{"$f":"IF('Gas Cylinder Information'!D109=\"\",\"\",'Gas Cylinder Information'!D109)","v":""},{"$f":"IF('Gas Cylinder Information'!B109=\"\",\"\",'Gas Cylinder Information'!B109)","v":""},{"$f":"IF('Gas Cylinder Information'!E109=\"\",\"\",'Gas Cylinder Information'!E109)","v":""},{"$f":"IF('Gas Cylinder Information'!F109=\"\",\"\",'Gas Cylinder Information'!F109)","v":""},{"$f":"IF('Gas Cylinder Information'!G109=\"\",\"\",'Gas Cylinder Information'!G109)","v":""}]
[{"$f":"IF('Gas Cylinder Information'!A110=\"\",\"\",'Gas Cylinder Information'!A110)","v":""},{"$f":"IF('Gas Cylinder Information'!C110=\"\",\"\",'Gas Cylinder Information'!C110)","v":""},{"$f":"IF('Gas Cylinder Information'!D110=\"\",\"\",'Gas Cylinder Information'!D110)","v":""},{"$f":"IF('Gas Cylinder Information'!B110=\"\",\"\",'Gas Cylinder Information'!B110)","v":""},{"$f":"IF('Gas Cylinder Information'!E110=\"\",\"\",'Gas Cylinder Information'!E110)","v":""},{"$f":"IF('Gas Cylinder Information'!F110=\"\",\"\",'Gas Cylinder Information'!F110)","v":""},{"$f":"IF('Gas Cylinder Information'!G110=\"\",\"\",'Gas Cylinder Information'!G110)","v":""}]
[{"$f":"IF('Gas Cylinder Information'!A111=\"\",\"\",'Gas Cylinder Information'!A111)","v":""},{"$f":"IF('Gas Cylinder Information'!C111=\"\",\"\",'Gas Cylinder Information'!C111)","v":""},{"$f":"IF('Gas Cylinder Information'!D111=\"\",\"\",'Gas Cylinder Information'!D111)","v":""},{"$f":"IF('Gas Cylinder Information'!B111=\"\",\"\",'Gas Cylinder Information'!B111)","v":""},{"$f":"IF('Gas Cylinder Information'!E111=\"\",\"\",'Gas Cylinder Information'!E111)","v":""},{"$f":"IF('Gas Cylinder Information'!F111=\"\",\"\",'Gas Cylinder Information'!F111)","v":""},{"$f":"IF('Gas Cylinder Information'!G111=\"\",\"\",'Gas Cylinder Information'!G111)","v":""}]
[{"$f":"IF('Gas Cylinder Information'!A112=\"\",\"\",'Gas Cylinder Information'!A112)","v":""},{"$f":"IF('Gas Cylinder Information'!C112=\"\",\"\",'Gas Cylinder Information'!C112)","v":""},{"$f":"IF('Gas Cylinder Information'!D112=\"\",\"\",'Gas Cylinder Information'!D112)","v":""},{"$f":"IF('Gas Cylinder Information'!B112=\"\",\"\",'Gas Cylinder Information'!B112)","v":""},{"$f":"IF('Gas Cylinder Information'!E112=\"\",\"\",'Gas Cylinder Information'!E112)","v":""},{"$f":"IF('Gas Cylinder Information'!F112=\"\",\"\",'Gas Cylinder Information'!F112)","v":""},{"$f":"IF('Gas Cylinder Information'!G112=\"\",\"\",'Gas Cylinder Information'!G112)","v":""}]
[{"$f":"IF('Gas Cylinder Information'!A113=\"\",\"\",'Gas Cylinder Information'!A113)","v":""},{"$f":"IF('Gas Cylinder Information'!C113=\"\",\"\",'Gas Cylinder Information'!C113)","v":""},{"$f":"IF('Gas Cylinder Information'!D113=\"\",\"\",'Gas Cylinder Information'!D113)","v":""},{"$f":"IF('Gas Cylinder Information'!B113=\"\",\"\",'Gas Cylinder Information'!B113)","v":""},{"$f":"IF('Gas Cylinder Information'!E113=\"\",\"\",'Gas Cylinder Information'!E113)","v":""},{"$f":"IF('Gas Cylinder Information'!F113=\"\",\"\",'Gas Cylinder Information'!F113)","v":""},{"$f":"IF('Gas Cylinder Information'!G113=\"\",\"\",'Gas Cylinder Information'!G113)","v":""}]
[{"$f":"IF('Gas Cylinder Information'!A114=\"\",\"\",'Gas Cylinder Information'!A114)","v":""},{"$f":"IF('Gas Cylinder Information'!C114=\"\",\"\",'Gas Cylinder Information'!C114)","v":""},{"$f":"IF('Gas Cylinder Information'!D114=\"\",\"\",'Gas Cylinder Information'!D114)","v":""},{"$f":"IF('Gas Cylinder Information'!B114=\"\",\"\",'Gas Cylinder Information'!B114)","v":""},{"$f":"IF('Gas Cylinder Information'!E114=\"\",\"\",'Gas Cylinder Information'!E114)","v":""},{"$f":"IF('Gas Cylinder Information'!F114=\"\",\"\",'Gas Cylinder Information'!F114)","v":""},{"$f":"IF('Gas Cylinder Information'!G114=\"\",\"\",'Gas Cylinder Information'!G114)","v":""}]
[{"$f":"IF('Gas Cylinder Information'!A115=\"\",\"\",'Gas Cylinder Information'!A115)","v":""},{"$f":"IF('Gas Cylinder Information'!C115=\"\",\"\",'Gas Cylinder Information'!C115)","v":""},{"$f":"IF('Gas Cylinder Information'!D115=\"\",\"\",'Gas Cylinder Information'!D115)","v":""},{"$f":"IF('Gas Cylinder Information'!B115=\"\",\"\",'Gas Cylinder Information'!B115)","v":""},{"$f":"IF('Gas Cylinder Information'!E115=\"\",\"\",'Gas Cylinder Information'!E115)","v":""},{"$f":"IF('Gas Cylinder Information'!F115=\"\",\"\",'Gas Cylinder Information'!F115)","v":""},{"$f":"IF('Gas Cylinder Information'!G115=\"\",\"\",'Gas Cylinder Information'!G115)","v":""}]
[{"$f":"IF('Gas Cylinder Information'!A116=\"\",\"\",'Gas Cylinder Information'!A116)","v":""},{"$f":"IF('Gas Cylinder Information'!C116=\"\",\"\",'Gas Cylinder Information'!C116)","v":""},{"$f":"IF('Gas Cylinder Information'!D116=\"\",\"\",'Gas Cylinder Information'!D116)","v":""},{"$f":"IF('Gas Cylinder Information'!B116=\"\",\"\",'Gas Cylinder Information'!B116)","v":""},{"$f":"IF('Gas Cylinder Information'!E116=\"\",\"\",'Gas Cylinder Information'!E116)","v":""},{"$f":"IF('Gas Cylinder Information'!F116=\"\",\"\",'Gas Cylinder Information'!F116)","v":""},{"$f":"IF('Gas Cylinder Information'!G116=\"\",\"\",'Gas Cylinder Information'!G116)","v":""}]
[{"$f":"IF('Gas Cylinder Information'!A117=\"\",\"\",'Gas Cylinder Information'!A117)","v":""},{"$f":"IF('Gas Cylinder Information'!C117=\"\",\"\",'Gas Cylinder Information'!C117)","v":""},{"$f":"IF('Gas Cylinder Information'!D117=\"\",\"\",'Gas Cylinder Information'!D117)","v":""},{"$f":"IF('Gas Cylinder Information'!B117=\"\",\"\",'Gas Cylinder Information'!B117)","v":""},{"$f":"IF('Gas Cylinder Information'!E117=\"\",\"\",'Gas Cylinder Information'!E117)","v":""},{"$f":"IF('Gas Cylinder Information'!F117=\"\",\"\",'Gas Cylinder Information'!F117)","v":""},{"$f":"IF('Gas Cylinder Information'!G117=\"\",\"\",'Gas Cylinder Information'!G117)","v":""}]
[{"$f":"IF('Gas Cylinder Information'!A118=\"\",\"\",'Gas Cylinder Information'!A118)","v":""},{"$f":"IF('Gas Cylinder Information'!C118=\"\",\"\",'Gas Cylinder Information'!C118)","v":""},{"$f":"IF('Gas Cylinder Information'!D118=\"\",\"\",'Gas Cylinder Information'!D118)","v":""},{"$f":"IF('Gas Cylinder Information'!B118=\"\",\"\",'Gas Cylinder Information'!B118)","v":""},{"$f":"IF('Gas Cylinder Information'!E118=\"\",\"\",'Gas Cylinder Information'!E118)","v":""},{"$f":"IF('Gas Cylinder Information'!F118=\"\",\"\",'Gas Cylinder Information'!F118)","v":""},{"$f":"IF('Gas Cylinder Information'!G118=\"\",\"\",'Gas Cylinder Information'!G118)","v":""}]
[{"$f":"IF('Gas Cylinder Information'!A119=\"\",\"\",'Gas Cylinder Information'!A119)","v":""},{"$f":"IF('Gas Cylinder Information'!C119=\"\",\"\",'Gas Cylinder Information'!C119)","v":""},{"$f":"IF('Gas Cylinder Information'!D119=\"\",\"\",'Gas Cylinder Information'!D119)","v":""},{"$f":"IF('Gas Cylinder Information'!B119=\"\",\"\",'Gas Cylinder Information'!B119)","v":""},{"$f":"IF('Gas Cylinder Information'!E119=\"\",\"\",'Gas Cylinder Information'!E119)","v":""},{"$f":"IF('Gas Cylinder Information'!F119=\"\",\"\",'Gas Cylinder Information'!F119)","v":""},{"$f":"IF('Gas Cylinder Information'!G119=\"\",\"\",'Gas Cylinder Information'!G119)","v":""}]
[{"$f":"IF('Gas Cylinder Information'!A120=\"\",\"\",'Gas Cylinder Information'!A120)","v":""},{"$f":"IF('Gas Cylinder Information'!C120=\"\",\"\",'Gas Cylinder Information'!C120)","v":""},{"$f":"IF('Gas Cylinder Information'!D120=\"\",\"\",'Gas Cylinder Information'!D120)","v":""},{"$f":"IF('Gas Cylinder Information'!B120=\"\",\"\",'Gas Cylinder Information'!B120)","v":""},{"$f":"IF('Gas Cylinder Information'!E120=\"\",\"\",'Gas Cylinder Information'!E120)","v":""},{"$f":"IF('Gas Cylinder Information'!F120=\"\",\"\",'Gas Cylinder Information'!F120)","v":""},{"$f":"IF('Gas Cylinder Information'!G120=\"\",\"\",'Gas Cylinder Information'!G120)","v":""}]
[{"$f":"IF('Gas Cylinder Information'!A121=\"\",\"\",'Gas Cylinder Information'!A121)","v":""},{"$f":"IF('Gas Cylinder Information'!C121=\"\",\"\",'Gas Cylinder Information'!C121)","v":""},{"$f":"IF('Gas Cylinder Information'!D121=\"\",\"\",'Gas Cylinder Information'!D121)","v":""},{"$f":"IF('Gas Cylinder Information'!B121=\"\",\"\",'Gas Cylinder Information'!B121)","v":""},{"$f":"IF('Gas Cylinder Information'!E121=\"\",\"\",'Gas Cylinder Information'!E121)","v":""},{"$f":"IF('Gas Cylinder Information'!F121=\"\",\"\",'Gas Cylinder Information'!F121)","v":""},{"$f":"IF('Gas Cylinder Information'!G121=\"\",\"\",'Gas Cylinder Information'!G121)","v":""}]
[{"$f":"IF('Gas Cylinder Information'!A122=\"\",\"\",'Gas Cylinder Information'!A122)","v":""},{"$f":"IF('Gas Cylinder Information'!C122=\"\",\"\",'Gas Cylinder Information'!C122)","v":""},{"$f":"IF('Gas Cylinder Information'!D122=\"\",\"\",'Gas Cylinder Information'!D122)","v":""},{"$f":"IF('Gas Cylinder Information'!B122=\"\",\"\",'Gas Cylinder Information'!B122)","v":""},{"$f":"IF('Gas Cylinder Information'!E122=\"\",\"\",'Gas Cylinder Information'!E122)","v":""},{"$f":"IF('Gas Cylinder Information'!F122=\"\",\"\",'Gas Cylinder Information'!F122)","v":""},{"$f":"IF('Gas Cylinder Information'!G122=\"\",\"\",'Gas Cylinder Information'!G122)","v":""}]
[{"$f":"IF('Gas Cylinder Information'!A123=\"\",\"\",'Gas Cylinder Information'!A123)","v":""},{"$f":"IF('Gas Cylinder Information'!C123=\"\",\"\",'Gas Cylinder Information'!C123)","v":""},{"$f":"IF('Gas Cylinder Information'!D123=\"\",\"\",'Gas Cylinder Information'!D123)","v":""},{"$f":"IF('Gas Cylinder Information'!B123=\"\",\"\",'Gas Cylinder Information'!B123)","v":""},{"$f":"IF('Gas Cylinder Information'!E123=\"\",\"\",'Gas Cylinder Information'!E123)","v":""},{"$f":"IF('Gas Cylinder Information'!F123=\"\",\"\",'Gas Cylinder Information'!F123)","v":""},{"$f":"IF('Gas Cylinder Information'!G123=\"\",\"\",'Gas Cylinder Information'!G123)","v":""}]
[{"$f":"IF('Gas Cylinder Information'!A124=\"\",\"\",'Gas Cylinder Information'!A124)","v":""},{"$f":"IF('Gas Cylinder Information'!C124=\"\",\"\",'Gas Cylinder Information'!C124)","v":""},{"$f":"IF('Gas Cylinder Information'!D124=\"\",\"\",'Gas Cylinder Information'!D124)","v":""},{"$f":"IF('Gas Cylinder Information'!B124=\"\",\"\",'Gas Cylinder Information'!B124)","v":""},{"$f":"IF('Gas Cylinder Information'!E124=\"\",\"\",'Gas Cylinder Information'!E124)","v":""},{"$f":"IF('Gas Cylinder Information'!F124=\"\",\"\",'Gas Cylinder Information'!F124)","v":""},{"$f":"IF('Gas Cylinder Information'!G124=\"\",\"\",'Gas Cylinder Information'!G124)","v":""}]
[{"$f":"IF('Gas Cylinder Information'!A125=\"\",\"\",'Gas Cylinder Information'!A125)","v":""},{"$f":"IF('Gas Cylinder Information'!C125=\"\",\"\",'Gas Cylinder Information'!C125)","v":""},{"$f":"IF('Gas Cylinder Information'!D125=\"\",\"\",'Gas Cylinder Information'!D125)","v":""},{"$f":"IF('Gas Cylinder Information'!B125=\"\",\"\",'Gas Cylinder Information'!B125)","v":""},{"$f":"IF('Gas Cylinder Information'!E125=\"\",\"\",'Gas Cylinder Information'!E125)","v":""},{"$f":"IF('Gas Cylinder Information'!F125=\"\",\"\",'Gas Cylinder Information'!F125)","v":""},{"$f":"IF('Gas Cylinder Information'!G125=\"\",\"\",'Gas Cylinder Information'!G125)","v":""}]
[{"$f":"IF('Gas Cylinder Information'!A126=\"\",\"\",'Gas Cylinder Information'!A126)","v":""},{"$f":"IF('Gas Cylinder Information'!C126=\"\",\"\",'Gas Cylinder Information'!C126)","v":""},{"$f":"IF('Gas Cylinder Information'!D126=\"\",\"\",'Gas Cylinder Information'!D126)","v":""},{"$f":"IF('Gas Cylinder Information'!B126=\"\",\"\",'Gas Cylinder Information'!B126)","v":""},{"$f":"IF('Gas Cylinder Information'!E126=\"\",\"\",'Gas Cylinder Information'!E126)","v":""},{"$f":"IF('Gas Cylinder Information'!F126=\"\",\"\",'Gas Cylinder Information'!F126)","v":""},{"$f":"IF('Gas Cylinder Information'!G126=\"\",\"\",'Gas Cylinder Information'!G126)","v":""}]
[{"$f":"IF('Gas Cylinder Information'!A127=\"\",\"\",'Gas Cylinder Information'!A127)","v":""},{"$f":"IF('Gas Cylinder Information'!C127=\"\",\"\",'Gas Cylinder Information'!C127)","v":""},{"$f":"IF('Gas Cylinder Information'!D127=\"\",\"\",'Gas Cylinder Information'!D127)","v":""},{"$f":"IF('Gas Cylinder Information'!B127=\"\",\"\",'Gas Cylinder Information'!B127)","v":""},{"$f":"IF('Gas Cylinder Information'!E127=\"\",\"\",'Gas Cylinder Information'!E127)","v":""},{"$f":"IF('Gas Cylinder Information'!F127=\"\",\"\",'Gas Cylinder Information'!F127)","v":""},{"$f":"IF('Gas Cylinder Information'!G127=\"\",\"\",'Gas Cylinder Information'!G127)","v":""}]
[{"$f":"IF('Gas Cylinder Information'!A128=\"\",\"\",'Gas Cylinder Information'!A128)","v":""},{"$f":"IF('Gas Cylinder Information'!C128=\"\",\"\",'Gas Cylinder Information'!C128)","v":""},{"$f":"IF('Gas Cylinder Information'!D128=\"\",\"\",'Gas Cylinder Information'!D128)","v":""},{"$f":"IF('Gas Cylinder Information'!B128=\"\",\"\",'Gas Cylinder Information'!B128)","v":""},{"$f":"IF('Gas Cylinder Information'!E128=\"\",\"\",'Gas Cylinder Information'!E128)","v":""},{"$f":"IF('Gas Cylinder Information'!F128=\"\",\"\",'Gas Cylinder Information'!F128)","v":""},{"$f":"IF('Gas Cylinder Information'!G128=\"\",\"\",'Gas Cylinder Information'!G128)","v":""}]
[{"$f":"IF('Gas Cylinder Information'!A129=\"\",\"\",'Gas Cylinder Information'!A129)","v":""},{"$f":"IF('Gas Cylinder Information'!C129=\"\",\"\",'Gas Cylinder Information'!C129)","v":""},{"$f":"IF('Gas Cylinder Information'!D129=\"\",\"\",'Gas Cylinder Information'!D129)","v":""},{"$f":"IF('Gas Cylinder Information'!B129=\"\",\"\",'Gas Cylinder Information'!B129)","v":""},{"$f":"IF('Gas Cylinder Information'!E129=\"\",\"\",'Gas Cylinder Information'!E129)","v":""},{"$f":"IF('Gas Cylinder Information'!F129=\"\",\"\",'Gas Cylinder Information'!F129)","v":""},{"$f":"IF('Gas Cylinder Information'!G129=\"\",\"\",'Gas Cylinder Information'!G129)","v":""}]
[{"$f":"IF('Gas Cylinder Information'!A130=\"\",\"\",'Gas Cylinder Information'!A130)","v":""},{"$f":"IF('Gas Cylinder Information'!C130=\"\",\"\",'Gas Cylinder Information'!C130)","v":""},{"$f":"IF('Gas Cylinder Information'!D130=\"\",\"\",'Gas Cylinder Information'!D130)","v":""},{"$f":"IF('Gas Cylinder Information'!B130=\"\",\"\",'Gas Cylinder Information'!B130)","v":""},{"$f":"IF('Gas Cylinder Information'!E130=\"\",\"\",'Gas Cylinder Information'!E130)","v":""},{"$f":"IF('Gas Cylinder Information'!F130=\"\",\"\",'Gas Cylinder Information'!F130)","v":""},{"$f":"IF('Gas Cylinder Information'!G130=\"\",\"\",'Gas Cylinder Information'!G130)","v":""}]
[{"$f":"IF('Gas Cylinder Information'!A131=\"\",\"\",'Gas Cylinder Information'!A131)","v":""},{"$f":"IF('Gas Cylinder Information'!C131=\"\",\"\",'Gas Cylinder Information'!C131)","v":""},{"$f":"IF('Gas Cylinder Information'!D131=\"\",\"\",'Gas Cylinder Information'!D131)","v":""},{"$f":"IF('Gas Cylinder Information'!B131=\"\",\"\",'Gas Cylinder Information'!B131)","v":""},{"$f":"IF('Gas Cylinder Information'!E131=\"\",\"\",'Gas Cylinder Information'!E131)","v":""},{"$f":"IF('Gas Cylinder Information'!F131=\"\",\"\",'Gas Cylinder Information'!F131)","v":""},{"$f":"IF('Gas Cylinder Information'!G131=\"\",\"\",'Gas Cylinder Information'!G131)","v":""}]
[{"$f":"IF('Gas Cylinder Information'!A132=\"\",\"\",'Gas Cylinder Information'!A132)","v":""},{"$f":"IF('Gas Cylinder Information'!C132=\"\",\"\",'Gas Cylinder Information'!C132)","v":""},{"$f":"IF('Gas Cylinder Information'!D132=\"\",\"\",'Gas Cylinder Information'!D132)","v":""},{"$f":"IF('Gas Cylinder Information'!B132=\"\",\"\",'Gas Cylinder Information'!B132)","v":""},{"$f":"IF('Gas Cylinder Information'!E132=\"\",\"\",'Gas Cylinder Information'!E132)","v":""},{"$f":"IF('Gas Cylinder Information'!F132=\"\",\"\",'Gas Cylinder Information'!F132)","v":""},{"$f":"IF('Gas Cylinder Information'!G132=\"\",\"\",'Gas Cylinder Information'!G132)","v":""}]
[{"$f":"IF('Gas Cylinder Information'!A133=\"\",\"\",'Gas Cylinder Information'!A133)","v":""},{"$f":"IF('Gas Cylinder Information'!C133=\"\",\"\",'Gas Cylinder Information'!C133)","v":""},{"$f":"IF('Gas Cylinder Information'!D133=\"\",\"\",'Gas Cylinder Information'!D133)","v":""},{"$f":"IF('Gas Cylinder Information'!B133=\"\",\"\",'Gas Cylinder Information'!B133)","v":""},{"$f":"IF('Gas Cylinder Information'!E133=\"\",\"\",'Gas Cylinder Information'!E133)","v":""},{"$f":"IF('Gas Cylinder Information'!F133=\"\",\"\",'Gas Cylinder Information'!F133)","v":""},{"$f":"IF('Gas Cylinder Information'!G133=\"\",\"\",'Gas Cylinder Information'!G133)","v":""}]
[{"$f":"IF('Gas Cylinder Information'!A134=\"\",\"\",'Gas Cylinder Information'!A134)","v":""},{"$f":"IF('Gas Cylinder Information'!C134=\"\",\"\",'Gas Cylinder Information'!C134)","v":""},{"$f":"IF('Gas Cylinder Information'!D134=\"\",\"\",'Gas Cylinder Information'!D134)","v":""},{"$f":"IF('Gas Cylinder Information'!B134=\"\",\"\",'Gas Cylinder Information'!B134)","v":""},{"$f":"IF('Gas Cylinder Information'!E134=\"\",\"\",'Gas Cylinder Information'!E134)","v":""},{"$f":"IF('Gas Cylinder Information'!F134=\"\",\"\",'Gas Cylinder Information'!F134)","v":""},{"$f":"IF('Gas Cylinder Information'!G134=\"\",\"\",'Gas Cylinder Information'!G134)","v":""}]
[{"$f":"IF('Gas Cylinder Information'!A135=\"\",\"\",'Gas Cylinder Information'!A135)","v":""},{"$f":"IF('Gas Cylinder Information'!C135=\"\",\"\",'Gas Cylinder Information'!C135)","v":""},{"$f":"IF('Gas Cylinder Information'!D135=\"\",\"\",'Gas Cylinder Information'!D135)","v":""},{"$f":"IF('Gas Cylinder Information'!B135=\"\",\"\",'Gas Cylinder Information'!B135)","v":""},{"$f":"IF('Gas Cylinder Information'!E135=\"\",\"\",'Gas Cylinder Information'!E135)","v":""},{"$f":"IF('Gas Cylinder Information'!F135=\"\",\"\",'Gas Cylinder Information'!F135)","v":""},{"$f":"IF('Gas Cylinder Information'!G135=\"\",\"\",'Gas Cylinder Information'!G135)","v":""}]
[{"$f":"IF('Gas Cylinder Information'!A136=\"\",\"\",'Gas Cylinder Information'!A136)","v":""},{"$f":"IF('Gas Cylinder Information'!C136=\"\",\"\",'Gas Cylinder Information'!C136)","v":""},{"$f":"IF('Gas Cylinder Information'!D136=\"\",\"\",'Gas Cylinder Information'!D136)","v":""},{"$f":"IF('Gas Cylinder Information'!B136=\"\",\"\",'Gas Cylinder Information'!B136)","v":""},{"$f":"IF('Gas Cylinder Information'!E136=\"\",\"\",'Gas Cylinder Information'!E136)","v":""},{"$f":"IF('Gas Cylinder Information'!F136=\"\",\"\",'Gas Cylinder Information'!F136)","v":""},{"$f":"IF('Gas Cylinder Information'!G136=\"\",\"\",'Gas Cylinder Information'!G136)","v":""}]
[{"$f":"IF('Gas Cylinder Information'!A137=\"\",\"\",'Gas Cylinder Information'!A137)","v":""},{"$f":"IF('Gas Cylinder Information'!C137=\"\",\"\",'Gas Cylinder Information'!C137)","v":""},{"$f":"IF('Gas Cylinder Information'!D137=\"\",\"\",'Gas Cylinder Information'!D137)","v":""},{"$f":"IF('Gas Cylinder Information'!B137=\"\",\"\",'Gas Cylinder Information'!B137)","v":""},{"$f":"IF('Gas Cylinder Information'!E137=\"\",\"\",'Gas Cylinder Information'!E137)","v":""},{"$f":"IF('Gas Cylinder Information'!F137=\"\",\"\",'Gas Cylinder Information'!F137)","v":""},{"$f":"IF('Gas Cylinder Information'!G137=\"\",\"\",'Gas Cylinder Information'!G137)","v":""}]
[{"$f":"IF('Gas Cylinder Information'!A138=\"\",\"\",'Gas Cylinder Information'!A138)","v":""},{"$f":"IF('Gas Cylinder Information'!C138=\"\",\"\",'Gas Cylinder Information'!C138)","v":""},{"$f":"IF('Gas Cylinder Information'!D138=\"\",\"\",'Gas Cylinder Information'!D138)","v":""},{"$f":"IF('Gas Cylinder Information'!B138=\"\",\"\",'Gas Cylinder Information'!B138)","v":""},{"$f":"IF('Gas Cylinder Information'!E138=\"\",\"\",'Gas Cylinder Information'!E138)","v":""},{"$f":"IF('Gas Cylinder Information'!F138=\"\",\"\",'Gas Cylinder Information'!F138)","v":""},{"$f":"IF('Gas Cylinder Information'!G138=\"\",\"\",'Gas Cylinder Information'!G138)","v":""}]
[{"$f":"IF('Gas Cylinder Information'!A139=\"\",\"\",'Gas Cylinder Information'!A139)","v":""},{"$f":"IF('Gas Cylinder Information'!C139=\"\",\"\",'Gas Cylinder Information'!C139)","v":""},{"$f":"IF('Gas Cylinder Information'!D139=\"\",\"\",'Gas Cylinder Information'!D139)","v":""},{"$f":"IF('Gas Cylinder Information'!B139=\"\",\"\",'Gas Cylinder Information'!B139)","v":""},{"$f":"IF('Gas Cylinder Information'!E139=\"\",\"\",'Gas Cylinder Information'!E139)","v":""},{"$f":"IF('Gas Cylinder Information'!F139=\"\",\"\",'Gas Cylinder Information'!F139)","v":""},{"$f":"IF('Gas Cylinder Information'!G139=\"\",\"\",'Gas Cylinder Information'!G139)","v":""}]
[{"$f":"IF('Gas Cylinder Information'!A140=\"\",\"\",'Gas Cylinder Information'!A140)","v":""},{"$f":"IF('Gas Cylinder Information'!C140=\"\",\"\",'Gas Cylinder Information'!C140)","v":""},{"$f":"IF('Gas Cylinder Information'!D140=\"\",\"\",'Gas Cylinder Information'!D140)","v":""},{"$f":"IF('Gas Cylinder Information'!B140=\"\",\"\",'Gas Cylinder Information'!B140)","v":""},{"$f":"IF('Gas Cylinder Information'!E140=\"\",\"\",'Gas Cylinder Information'!E140)","v":""},{"$f":"IF('Gas Cylinder Information'!F140=\"\",\"\",'Gas Cylinder Information'!F140)","v":""},{"$f":"IF('Gas Cylinder Information'!G140=\"\",\"\",'Gas Cylinder Information'!G140)","v":""}]
[{"$f":"IF('Gas Cylinder Information'!A141=\"\",\"\",'Gas Cylinder Information'!A141)","v":""},{"$f":"IF('Gas Cylinder Information'!C141=\"\",\"\",'Gas Cylinder Information'!C141)","v":""},{"$f":"IF('Gas Cylinder Information'!D141=\"\",\"\",'Gas Cylinder Information'!D141)","v":""},{"$f":"IF('Gas Cylinder Information'!B141=\"\",\"\",'Gas Cylinder Information'!B141)","v":""},{"$f":"IF('Gas Cylinder Information'!E141=\"\",\"\",'Gas Cylinder Information'!E141)","v":""},{"$f":"IF('Gas Cylinder Information'!F141=\"\",\"\",'Gas Cylinder Information'!F141)","v":""},{"$f":"IF('Gas Cylinder Information'!G141=\"\",\"\",'Gas Cylinder Information'!G141)","v":""}]
[{"$f":"IF('Gas Cylinder Information'!A142=\"\",\"\",'Gas Cylinder Information'!A142)","v":""},{"$f":"IF('Gas Cylinder Information'!C142=\"\",\"\",'Gas Cylinder Information'!C142)","v":""},{"$f":"IF('Gas Cylinder Information'!D142=\"\",\"\",'Gas Cylinder Information'!D142)","v":""},{"$f":"IF('Gas Cylinder Information'!B142=\"\",\"\",'Gas Cylinder Information'!B142)","v":""},{"$f":"IF('Gas Cylinder Information'!E142=\"\",\"\",'Gas Cylinder Information'!E142)","v":""},{"$f":"IF('Gas Cylinder Information'!F142=\"\",\"\",'Gas Cylinder Information'!F142)","v":""},{"$f":"IF('Gas Cylinder Information'!G142=\"\",\"\",'Gas Cylinder Information'!G142)","v":""}]
[{"$f":"IF('Gas Cylinder Information'!A143=\"\",\"\",'Gas Cylinder Information'!A143)","v":""},{"$f":"IF('Gas Cylinder Information'!C143=\"\",\"\",'Gas Cylinder Information'!C143)","v":""},{"$f":"IF('Gas Cylinder Information'!D143=\"\",\"\",'Gas Cylinder Information'!D143)","v":""},{"$f":"IF('Gas Cylinder Information'!B143=\"\",\"\",'Gas Cylinder Information'!B143)","v":""},{"$f":"IF('Gas Cylinder Information'!E143=\"\",\"\",'Gas Cylinder Information'!E143)","v":""},{"$f":"IF('Gas Cylinder Information'!F143=\"\",\"\",'Gas Cylinder Information'!F143)","v":""},{"$f":"IF('Gas Cylinder Information'!G143=\"\",\"\",'Gas Cylinder Information'!G143)","v":""}]
[{"$f":"IF('Gas Cylinder Information'!A144=\"\",\"\",'Gas Cylinder Information'!A144)","v":""},{"$f":"IF('Gas Cylinder Information'!C144=\"\",\"\",'Gas Cylinder Information'!C144)","v":""},{"$f":"IF('Gas Cylinder Information'!D144=\"\",\"\",'Gas Cylinder Information'!D144)","v":""},{"$f":"IF('Gas Cylinder Information'!B144=\"\",\"\",'Gas Cylinder Information'!B144)","v":""},{"$f":"IF('Gas Cylinder Information'!E144=\"\",\"\",'Gas Cylinder Information'!E144)","v":""},{"$f":"IF('Gas Cylinder Information'!F144=\"\",\"\",'Gas Cylinder Information'!F144)","v":""},{"$f":"IF('Gas Cylinder Information'!G144=\"\",\"\",'Gas Cylinder Information'!G144)","v":""}]
[{"$f":"IF('Gas Cylinder Information'!A145=\"\",\"\",'Gas Cylinder Information'!A145)","v":""},{"$f":"IF('Gas Cylinder Information'!C145=\"\",\"\",'Gas Cylinder Information'!C145)","v":""},{"$f":"IF('Gas Cylinder Information'!D145=\"\",\"\",'Gas Cylinder Information'!D145)","v":""},{"$f":"IF('Gas Cylinder Information'!B145=\"\",\"\",'Gas Cylinder Information'!B145)","v":""},{"$f":"IF('Gas Cylinder Information'!E145=\"\",\"\",'Gas Cylinder Information'!E145)","v":""},{"$f":"IF('Gas Cylinder Information'!F145=\"\",\"\",'Gas Cylinder Information'!F145)","v":""},{"$f":"IF('Gas Cylinder Information'!G145=\"\",\"\",'Gas Cylinder Information'!G145)","v":""}]
[{"$f":"IF('Gas Cylinder Information'!A146=\"\",\"\",'Gas Cylinder Information'!A146)","v":""},{"$f":"IF('Gas Cylinder Information'!C146=\"\",\"\",'Gas Cylinder Information'!C146)","v":""},{"$f":"IF('Gas Cylinder Information'!D146=\"\",\"\",'Gas Cylinder Information'!D146)","v":""},{"$f":"IF('Gas Cylinder Information'!B146=\"\",\"\",'Gas Cylinder Information'!B146)","v":""},{"$f":"IF('Gas Cylinder Information'!E146=\"\",\"\",'Gas Cylinder Information'!E146)","v":""},{"$f":"IF('Gas Cylinder Information'!F146=\"\",\"\",'Gas Cylinder Information'!F146)","v":""},{"$f":"IF('Gas Cylinder Information'!G146=\"\",\"\",'Gas Cylinder Information'!G146)","v":""}]
[{"$f":"IF('Gas Cylinder Information'!A147=\"\",\"\",'Gas Cylinder Information'!A147)","v":""},{"$f":"IF('Gas Cylinder Information'!C147=\"\",\"\",'Gas Cylinder Information'!C147)","v":""},{"$f":"IF('Gas Cylinder Information'!D147=\"\",\"\",'Gas Cylinder Information'!D147)","v":""},{"$f":"IF('Gas Cylinder Information'!B147=\"\",\"\",'Gas Cylinder Information'!B147)","v":""},{"$f":"IF('Gas Cylinder Information'!E147=\"\",\"\",'Gas Cylinder Information'!E147)","v":""},{"$f":"IF('Gas Cylinder Information'!F147=\"\",\"\",'Gas Cylinder Information'!F147)","v":""},{"$f":"IF('Gas Cylinder Information'!G147=\"\",\"\",'Gas Cylinder Information'!G147)","v":""}]
[{"$f":"IF('Gas Cylinder Information'!A148=\"\",\"\",'Gas Cylinder Information'!A148)","v":""},{"$f":"IF('Gas Cylinder Information'!C148=\"\",\"\",'Gas Cylinder Information'!C148)","v":""},{"$f":"IF('Gas Cylinder Information'!D148=\"\",\"\",'Gas Cylinder Information'!D148)","v":""},{"$f":"IF('Gas Cylinder Information'!B148=\"\",\"\",'Gas Cylinder Information'!B148)","v":""},{"$f":"IF('Gas Cylinder Information'!E148=\"\",\"\",'Gas Cylinder Information'!E148)","v":""},{"$f":"IF('Gas Cylinder Information'!F148=\"\",\"\",'Gas Cylinder Information'!F148)","v":""},{"$f":"IF('Gas Cylinder Information'!G148=\"\",\"\",'Gas Cylinder Information'!G148)","v":""}]
[{"$f":"IF('Gas Cylinder Information'!A149=\"\",\"\",'Gas Cylinder Information'!A149)","v":""},{"$f":"IF('Gas Cylinder Information'!C149=\"\",\"\",'Gas Cylinder Information'!C149)","v":""},{"$f":"IF('Gas Cylinder Information'!D149=\"\",\"\",'Gas Cylinder Information'!D149)","v":""},{"$f":"IF('Gas Cylinder Information'!B149=\"\",\"\",'Gas Cylinder Information'!B149)","v":""},{"$f":"IF('Gas Cylinder Information'!E149=\"\",\"\",'Gas Cylinder Information'!E149)","v":""},{"$f":"IF('Gas Cylinder Information'!F149=\"\",\"\",'Gas Cylinder Information'!F149)","v":""},{"$f":"IF('Gas Cylinder Information'!G149=\"\",\"\",'Gas Cylinder Information'!G149)","v":""}]
[{"$f":"IF('Gas Cylinder Information'!A150=\"\",\"\",'Gas Cylinder Information'!A150)","v":""},{"$f":"IF('Gas Cylinder Information'!C150=\"\",\"\",'Gas Cylinder Information'!C150)","v":""},{"$f":"IF('Gas Cylinder Information'!D150=\"\",\"\",'Gas Cylinder Information'!D150)","v":""},{"$f":"IF('Gas Cylinder Information'!B150=\"\",\"\",'Gas Cylinder Information'!B150)","v":""},{"$f":"IF('Gas Cylinder Information'!E150=\"\",\"\",'Gas Cylinder Information'!E150)","v":""},{"$f":"IF('Gas Cylinder Information'!F150=\"\",\"\",'Gas Cylinder Information'!F150)","v":""},{"$f":"IF('Gas Cylinder Information'!G150=\"\",\"\",'Gas Cylinder Information'!G150)","v":""}]
[{"$f":"IF('Gas Cylinder Information'!A151=\"\",\"\",'Gas Cylinder Information'!A151)","v":""},{"$f":"IF('Gas Cylinder Information'!C151=\"\",\"\",'Gas Cylinder Information'!C151)","v":""},{"$f":"IF('Gas Cylinder Information'!D151=\"\",\"\",'Gas Cylinder Information'!D151)","v":""},{"$f":"IF('Gas Cylinder Information'!B151=\"\",\"\",'Gas Cylinder Information'!B151)","v":""},{"$f":"IF('Gas Cylinder Information'!E151=\"\",\"\",'Gas Cylinder Information'!E151)","v":""},{"$f":"IF('Gas Cylinder Information'!F151=\"\",\"\",'Gas Cylinder Information'!F151)","v":""},{"$f":"IF('Gas Cylinder Information'!G151=\"\",\"\",'Gas Cylinder Information'!G151)","v":""}]
[{"$f":"IF('Gas Cylinder Information'!A152=\"\",\"\",'Gas Cylinder Information'!A152)","v":""},{"$f":"IF('Gas Cylinder Information'!C152=\"\",\"\",'Gas Cylinder Information'!C152)","v":""},{"$f":"IF('Gas Cylinder Information'!D152=\"\",\"\",'Gas Cylinder Information'!D152)","v":""},{"$f":"IF('Gas Cylinder Information'!B152=\"\",\"\",'Gas Cylinder Information'!B152)","v":""},{"$f":"IF('Gas Cylinder Information'!E152=\"\",\"\",'Gas Cylinder Information'!E152)","v":""},{"$f":"IF('Gas Cylinder Information'!F152=\"\",\"\",'Gas Cylinder Information'!F152)","v":""},{"$f":"IF('Gas Cylinder Information'!G152=\"\",\"\",'Gas Cylinder Information'!G152)","v":""}]
[{"$f":"IF('Gas Cylinder Information'!A153=\"\",\"\",'Gas Cylinder Information'!A153)","v":""},{"$f":"IF('Gas Cylinder Information'!C153=\"\",\"\",'Gas Cylinder Information'!C153)","v":""},{"$f":"IF('Gas Cylinder Information'!D153=\"\",\"\",'Gas Cylinder Information'!D153)","v":""},{"$f":"IF('Gas Cylinder Information'!B153=\"\",\"\",'Gas Cylinder Information'!B153)","v":""},{"$f":"IF('Gas Cylinder Information'!E153=\"\",\"\",'Gas Cylinder Information'!E153)","v":""},{"$f":"IF('Gas Cylinder Information'!F153=\"\",\"\",'Gas Cylinder Information'!F153)","v":""},{"$f":"IF('Gas Cylinder Information'!G153=\"\",\"\",'Gas Cylinder Information'!G153)","v":""}]
[{"$f":"IF('Gas Cylinder Information'!A154=\"\",\"\",'Gas Cylinder Information'!A154)","v":""},{"$f":"IF('Gas Cylinder Information'!C154=\"\",\"\",'Gas Cylinder Information'!C154)","v":""},{"$f":"IF('Gas Cylinder Information'!D154=\"\",\"\",'Gas Cylinder Information'!D154)","v":""},{"$f":"IF('Gas Cylinder Information'!B154=\"\",\"\",'Gas Cylinder Information'!B154)","v":""},{"$f":"IF('Gas Cylinder Information'!E154=\"\",\"\",'Gas Cylinder Information'!E154)","v":""},{"$f":"IF('Gas Cylinder Information'!F154=\"\",\"\",'Gas Cylinder Information'!F154)","v":""},{"$f":"IF('Gas Cylinder Information'!G154=\"\",\"\",'Gas Cylinder Information'!G154)","v":""}]
[{"$f":"IF('Gas Cylinder Information'!A155=\"\",\"\",'Gas Cylinder Information'!A155)","v":""},{"$f":"IF('Gas Cylinder Information'!C155=\"\",\"\",'Gas Cylinder Information'!C155)","v":""},{"$f":"IF('Gas Cylinder Information'!D155=\"\",\"\",'Gas Cylinder Information'!D155)","v":""},{"$f":"IF('Gas Cylinder Information'!B155=\"\",\"\",'Gas Cylinder Information'!B155)","v":""},{"$f":"IF('Gas Cylinder Information'!E155=\"\",\"\",'Gas Cylinder Information'!E155)","v":""},{"$f":"IF('Gas Cylinder Information'!F155=\"\",\"\",'Gas Cylinder Information'!F155)","v":""},{"$f":"IF('Gas Cylinder Information'!G155=\"\",\"\",'Gas Cylinder Information'!G155)","v":""}]
[{"$f":"IF('Gas Cylinder Information'!A156=\"\",\"\",'Gas Cylinder Information'!A156)","v":""},{"$f":"IF('Gas Cylinder Information'!C156=\"\",\"\",'Gas Cylinder Information'!C156)","v":""},{"$f":"IF('Gas Cylinder Information'!D156=\"\",\"\",'Gas Cylinder Information'!D156)","v":""},{"$f":"IF('Gas Cylinder Information'!B156=\"\",\"\",'Gas Cylinder Information'!B156)","v":""},{"$f":"IF('Gas Cylinder Information'!E156=\"\",\"\",'Gas Cylinder Information'!E156)","v":""},{"$f":"IF('Gas Cylinder Information'!F156=\"\",\"\",'Gas Cylinder Information'!F156)","v":""},{"$f":"IF('Gas Cylinder Information'!G156=\"\",\"\",'Gas Cylinder Information'!G156)","v":""}]
[{"$f":"IF('Gas Cylinder Information'!A157=\"\",\"\",'Gas Cylinder Information'!A157)","v":""},{"$f":"IF('Gas Cylinder Information'!C157=\"\",\"\",'Gas Cylinder Information'!C157)","v":""},{"$f":"IF('Gas Cylinder Information'!D157=\"\",\"\",'Gas Cylinder Information'!D157)","v":""},{"$f":"IF('Gas Cylinder Information'!B157=\"\",\"\",'Gas Cylinder Information'!B157)","v":""},{"$f":"IF('Gas Cylinder Information'!E157=\"\",\"\",'Gas Cylinder Information'!E157)","v":""},{"$f":"IF('Gas Cylinder Information'!F157=\"\",\"\",'Gas Cylinder Information'!F157)","v":""},{"$f":"IF('Gas Cylinder Information'!G157=\"\",\"\",'Gas Cylinder Information'!G157)","v":""}]
[{"$f":"IF('Gas Cylinder Information'!A158=\"\",\"\",'Gas Cylinder Information'!A158)","v":""},{"$f":"IF('Gas Cylinder Information'!C158=\"\",\"\",'Gas Cylinder Information'!C158)","v":""},{"$f":"IF('Gas Cylinder Information'!D158=\"\",\"\",'Gas Cylinder Information'!D158)","v":""},{"$f":"IF('Gas Cylinder Information'!B158=\"\",\"\",'Gas Cylinder Information'!B158)","v":""},{"$f":"IF('Gas Cylinder Information'!E158=\"\",\"\",'Gas Cylinder Information'!E158)","v":""},{"$f":"IF('Gas Cylinder Information'!F158=\"\",\"\",'Gas Cylinder Information'!F158)","v":""},{"$f":"IF('Gas Cylinder Information'!G158=\"\",\"\",'Gas Cylinder Information'!G158)","v":""}]
[{"$f":"IF('Gas Cylinder Information'!A159=\"\",\"\",'Gas Cylinder Information'!A159)","v":""},{"$f":"IF('Gas Cylinder Information'!C159=\"\",\"\",'Gas Cylinder Information'!C159)","v":""},{"$f":"IF('Gas Cylinder Information'!D159=\"\",\"\",'Gas Cylinder Information'!D159)","v":""},{"$f":"IF('Gas Cylinder Information'!B159=\"\",\"\",'Gas Cylinder Information'!B159)","v":""},{"$f":"IF('Gas Cylinder Information'!E159=\"\",\"\",'Gas Cylinder Information'!E159)","v":""},{"$f":"IF('Gas Cylinder Information'!F159=\"\",\"\",'Gas Cylinder Information'!F159)","v":""},{"$f":"IF('Gas Cylinder Information'!G159=\"\",\"\",'Gas Cylinder Information'!G159)","v":""}]
[{"$f":"IF('Gas Cylinder Information'!A160=\"\",\"\",'Gas Cylinder Information'!A160)","v":""},{"$f":"IF('Gas Cylinder Information'!C160=\"\",\"\",'Gas Cylinder Information'!C160)","v":""},{"$f":"IF('Gas Cylinder Information'!D160=\"\",\"\",'Gas Cylinder Information'!D160)","v":""},{"$f":"IF('Gas Cylinder Information'!B160=\"\",\"\",'Gas Cylinder Information'!B160)","v":""},{"$f":"IF('Gas Cylinder Information'!E160=\"\",\"\",'Gas Cylinder Information'!E160)","v":""},{"$f":"IF('Gas Cylinder Information'!F160=\"\",\"\",'Gas Cylinder Information'!F160)","v":""},{"$f":"IF('Gas Cylinder Information'!G160=\"\",\"\",'Gas Cylinder Information'!G160)","v":""}]
[{"$f":"IF('Gas Cylinder Information'!A161=\"\",\"\",'Gas Cylinder Information'!A161)","v":""},{"$f":"IF('Gas Cylinder Information'!C161=\"\",\"\",'Gas Cylinder Information'!C161)","v":""},{"$f":"IF('Gas Cylinder Information'!D161=\"\",\"\",'Gas Cylinder Information'!D161)","v":""},{"$f":"IF('Gas Cylinder Information'!B161=\"\",\"\",'Gas Cylinder Information'!B161)","v":""},{"$f":"IF('Gas Cylinder Information'!E161=\"\",\"\",'Gas Cylinder Information'!E161)","v":""},{"$f":"IF('Gas Cylinder Information'!F161=\"\",\"\",'Gas Cylinder Information'!F161)","v":""},{"$f":"IF('Gas Cylinder Information'!G161=\"\",\"\",'Gas Cylinder Information'!G161)","v":""}]
[{"$f":"IF('Gas Cylinder Information'!A162=\"\",\"\",'Gas Cylinder Information'!A162)","v":""},{"$f":"IF('Gas Cylinder Information'!C162=\"\",\"\",'Gas Cylinder Information'!C162)","v":""},{"$f":"IF('Gas Cylinder Information'!D162=\"\",\"\",'Gas Cylinder Information'!D162)","v":""},{"$f":"IF('Gas Cylinder Information'!B162=\"\",\"\",'Gas Cylinder Information'!B162)","v":""},{"$f":"IF('Gas Cylinder Information'!E162=\"\",\"\",'Gas Cylinder Information'!E162)","v":""},{"$f":"IF('Gas Cylinder Information'!F162=\"\",\"\",'Gas Cylinder Information'!F162)","v":""},{"$f":"IF('Gas Cylinder Information'!G162=\"\",\"\",'Gas Cylinder Information'!G162)","v":""}]
[{"$f":"IF('Gas Cylinder Information'!A163=\"\",\"\",'Gas Cylinder Information'!A163)","v":""},{"$f":"IF('Gas Cylinder Information'!C163=\"\",\"\",'Gas Cylinder Information'!C163)","v":""},{"$f":"IF('Gas Cylinder Information'!D163=\"\",\"\",'Gas Cylinder Information'!D163)","v":""},{"$f":"IF('Gas Cylinder Information'!B163=\"\",\"\",'Gas Cylinder Information'!B163)","v":""},{"$f":"IF('Gas Cylinder Information'!E163=\"\",\"\",'Gas Cylinder Information'!E163)","v":""},{"$f":"IF('Gas Cylinder Information'!F163=\"\",\"\",'Gas Cylinder Information'!F163)","v":""},{"$f":"IF('Gas Cylinder Information'!G163=\"\",\"\",'Gas Cylinder Information'!G163)","v":""}]
[{"$f":"IF('Gas Cylinder Information'!A164=\"\",\"\",'Gas Cylinder Information'!A164)","v":""},{"$f":"IF('Gas Cylinder Information'!C164=\"\",\"\",'Gas Cylinder Information'!C164)","v":""},{"$f":"IF('Gas Cylinder Information'!D164=\"\",\"\",'Gas Cylinder Information'!D164)","v":""},{"$f":"IF('Gas Cylinder Information'!B164=\"\",\"\",'Gas Cylinder Information'!B164)","v":""},{"$f":"IF('Gas Cylinder Information'!E164=\"\",\"\",'Gas Cylinder Information'!E164)","v":""},{"$f":"IF('Gas Cylinder Information'!F164=\"\",\"\",'Gas Cylinder Information'!F164)","v":""},{"$f":"IF('Gas Cylinder Information'!G164=\"\",\"\",'Gas Cylinder Information'!G164)","v":""}]
[{"$f":"IF('Gas Cylinder Information'!A165=\"\",\"\",'Gas Cylinder Information'!A165)","v":""},{"$f":"IF('Gas Cylinder Information'!C165=\"\",\"\",'Gas Cylinder Information'!C165)","v":""},{"$f":"IF('Gas Cylinder Information'!D165=\"\",\"\",'Gas Cylinder Information'!D165)","v":""},{"$f":"IF('Gas Cylinder Information'!B165=\"\",\"\",'Gas Cylinder Information'!B165)","v":""},{"$f":"IF('Gas Cylinder Information'!E165=\"\",\"\",'Gas Cylinder Information'!E165)","v":""},{"$f":"IF('Gas Cylinder Information'!F165=\"\",\"\",'Gas Cylinder Information'!F165)","v":""},{"$f":"IF('Gas Cylinder Information'!G165=\"\",\"\",'Gas Cylinder Information'!G165)","v":""}]
[{"$f":"IF('Gas Cylinder Information'!A166=\"\",\"\",'Gas Cylinder Information'!A166)","v":""},{"$f":"IF('Gas Cylinder Information'!C166=\"\",\"\",'Gas Cylinder Information'!C166)","v":""},{"$f":"IF('Gas Cylinder Information'!D166=\"\",\"\",'Gas Cylinder Information'!D166)","v":""},{"$f":"IF('Gas Cylinder Information'!B166=\"\",\"\",'Gas Cylinder Information'!B166)","v":""},{"$f":"IF('Gas Cylinder Information'!E166=\"\",\"\",'Gas Cylinder Information'!E166)","v":""},{"$f":"IF('Gas Cylinder Information'!F166=\"\",\"\",'Gas Cylinder Information'!F166)","v":""},{"$f":"IF('Gas Cylinder Information'!G166=\"\",\"\",'Gas Cylinder Information'!G166)","v":""}]
[{"$f":"IF('Gas Cylinder Information'!A167=\"\",\"\",'Gas Cylinder Information'!A167)","v":""},{"$f":"IF('Gas Cylinder Information'!C167=\"\",\"\",'Gas Cylinder Information'!C167)","v":""},{"$f":"IF('Gas Cylinder Information'!D167=\"\",\"\",'Gas Cylinder Information'!D167)","v":""},{"$f":"IF('Gas Cylinder Information'!B167=\"\",\"\",'Gas Cylinder Information'!B167)","v":""},{"$f":"IF('Gas Cylinder Information'!E167=\"\",\"\",'Gas Cylinder Information'!E167)","v":""},{"$f":"IF('Gas Cylinder Information'!F167=\"\",\"\",'Gas Cylinder Information'!F167)","v":""},{"$f":"IF('Gas Cylinder Information'!G167=\"\",\"\",'Gas Cylinder Information'!G167)","v":""}]
[{"$f":"IF('Gas Cylinder Information'!A168=\"\",\"\",'Gas Cylinder Information'!A168)","v":""},{"$f":"IF('Gas Cylinder Information'!C168=\"\",\"\",'Gas Cylinder Information'!C168)","v":""},{"$f":"IF('Gas Cylinder Information'!D168=\"\",\"\",'Gas Cylinder Information'!D168)","v":""},{"$f":"IF('Gas Cylinder Information'!B168=\"\",\"\",'Gas Cylinder Information'!B168)","v":""},{"$f":"IF('Gas Cylinder Information'!E168=\"\",\"\",'Gas Cylinder Information'!E168)","v":""},{"$f":"IF('Gas Cylinder Information'!F168=\"\",\"\",'Gas Cylinder Information'!F168)","v":""},{"$f":"IF('Gas Cylinder Information'!G168=\"\",\"\",'Gas Cylinder Information'!G168)","v":""}]
[{"$f":"IF('Gas Cylinder Information'!A169=\"\",\"\",'Gas Cylinder Information'!A169)","v":""},{"$f":"IF('Gas Cylinder Information'!C169=\"\",\"\",'Gas Cylinder Information'!C169)","v":""},{"$f":"IF('Gas Cylinder Information'!D169=\"\",\"\",'Gas Cylinder Information'!D169)","v":""},{"$f":"IF('Gas Cylinder Information'!B169=\"\",\"\",'Gas Cylinder Information'!B169)","v":""},{"$f":"IF('Gas Cylinder Information'!E169=\"\",\"\",'Gas Cylinder Information'!E169)","v":""},{"$f":"IF('Gas Cylinder Information'!F169=\"\",\"\",'Gas Cylinder Information'!F169)","v":""},{"$f":"IF('Gas Cylinder Information'!G169=\"\",\"\",'Gas Cylinder Information'!G169)","v":""}]
[{"$f":"IF('Gas Cylinder Information'!A170=\"\",\"\",'Gas Cylinder Information'!A170)","v":""},{"$f":"IF('Gas Cylinder Information'!C170=\"\",\"\",'Gas Cylinder Information'!C170)","v":""},{"$f":"IF('Gas Cylinder Information'!D170=\"\",\"\",'Gas Cylinder Information'!D170)","v":""},{"$f":"IF('Gas Cylinder Information'!B170=\"\",\"\",'Gas Cylinder Information'!B170)","v":""},{"$f":"IF('Gas Cylinder Information'!E170=\"\",\"\",'Gas Cylinder Information'!E170)","v":""},{"$f":"IF('Gas Cylinder Information'!F170=\"\",\"\",'Gas Cylinder Information'!F170)","v":""},{"$f":"IF('Gas Cylinder Information'!G170=\"\",\"\",'Gas Cylinder Information'!G170)","v":""}]
[{"$f":"IF('Gas Cylinder Information'!A171=\"\",\"\",'Gas Cylinder Information'!A171)","v":""},{"$f":"IF('Gas Cylinder Information'!C171=\"\",\"\",'Gas Cylinder Information'!C171)","v":""},{"$f":"IF('Gas Cylinder Information'!D171=\"\",\"\",'Gas Cylinder Information'!D171)","v":""},{"$f":"IF('Gas Cylinder Information'!B171=\"\",\"\",'Gas Cylinder Information'!B171)","v":""},{"$f":"IF('Gas Cylinder Information'!E171=\"\",\"\",'Gas Cylinder Information'!E171)","v":""},{"$f":"IF('Gas Cylinder Information'!F171=\"\",\"\",'Gas Cylinder Information'!F171)","v":""},{"$f":"IF('Gas Cylinder Information'!G171=\"\",\"\",'Gas Cylinder Information'!G171)","v":""}]
[{"$f":"IF('Gas Cylinder Information'!A172=\"\",\"\",'Gas Cylinder Information'!A172)","v":""},{"$f":"IF('Gas Cylinder Information'!C172=\"\",\"\",'Gas Cylinder Information'!C172)","v":""},{"$f":"IF('Gas Cylinder Information'!D172=\"\",\"\",'Gas Cylinder Information'!D172)","v":""},{"$f":"IF('Gas Cylinder Information'!B172=\"\",\"\",'Gas Cylinder Information'!B172)","v":""},{"$f":"IF('Gas Cylinder Information'!E172=\"\",\"\",'Gas Cylinder Information'!E172)","v":""},{"$f":"IF('Gas Cylinder Information'!F172=\"\",\"\",'Gas Cylinder Information'!F172)","v":""},{"$f":"IF('Gas Cylinder Information'!G172=\"\",\"\",'Gas Cylinder Information'!G172)","v":""}]
[{"$f":"IF('Gas Cylinder Information'!A173=\"\",\"\",'Gas Cylinder Information'!A173)","v":""},{"$f":"IF('Gas Cylinder Information'!C173=\"\",\"\",'Gas Cylinder Information'!C173)","v":""},{"$f":"IF('Gas Cylinder Information'!D173=\"\",\"\",'Gas Cylinder Information'!D173)","v":""},{"$f":"IF('Gas Cylinder Information'!B173=\"\",\"\",'Gas Cylinder Information'!B173)","v":""},{"$f":"IF('Gas Cylinder Information'!E173=\"\",\"\",'Gas Cylinder Information'!E173)","v":""},{"$f":"IF('Gas Cylinder Information'!F173=\"\",\"\",'Gas Cylinder Information'!F173)","v":""},{"$f":"IF('Gas Cylinder Information'!G173=\"\",\"\",'Gas Cylinder Information'!G173)","v":""}]
[{"$f":"IF('Gas Cylinder Information'!A174=\"\",\"\",'Gas Cylinder Information'!A174)","v":""},{"$f":"IF('Gas Cylinder Information'!C174=\"\",\"\",'Gas Cylinder Information'!C174)","v":""},{"$f":"IF('Gas Cylinder Information'!D174=\"\",\"\",'Gas Cylinder Information'!D174)","v":""},{"$f":"IF('Gas Cylinder Information'!B174=\"\",\"\",'Gas Cylinder Information'!B174)","v":""},{"$f":"IF('Gas Cylinder Information'!E174=\"\",\"\",'Gas Cylinder Information'!E174)","v":""},{"$f":"IF('Gas Cylinder Information'!F174=\"\",\"\",'Gas Cylinder Information'!F174)","v":""},{"$f":"IF('Gas Cylinder Information'!G174=\"\",\"\",'Gas Cylinder Information'!G174)","v":""}]
[{"$f":"IF('Gas Cylinder Information'!A175=\"\",\"\",'Gas Cylinder Information'!A175)","v":""},{"$f":"IF('Gas Cylinder Information'!C175=\"\",\"\",'Gas Cylinder Information'!C175)","v":""},{"$f":"IF('Gas Cylinder Information'!D175=\"\",\"\",'Gas Cylinder Information'!D175)","v":""},{"$f":"IF('Gas Cylinder Information'!B175=\"\",\"\",'Gas Cylinder Information'!B175)","v":""},{"$f":"IF('Gas Cylinder Information'!E175=\"\",\"\",'Gas Cylinder Information'!E175)","v":""},{"$f":"IF('Gas Cylinder Information'!F175=\"\",\"\",'Gas Cylinder Information'!F175)","v":""},{"$f":"IF('Gas Cylinder Information'!G175=\"\",\"\",'Gas Cylinder Information'!G175)","v":""}]
[{"$f":"IF('Gas Cylinder Information'!A176=\"\",\"\",'Gas Cylinder Information'!A176)","v":""},{"$f":"IF('Gas Cylinder Information'!C176=\"\",\"\",'Gas Cylinder Information'!C176)","v":""},{"$f":"IF('Gas Cylinder Information'!D176=\"\",\"\",'Gas Cylinder Information'!D176)","v":""},{"$f":"IF('Gas Cylinder Information'!B176=\"\",\"\",'Gas Cylinder Information'!B176)","v":""},{"$f":"IF('Gas Cylinder Information'!E176=\"\",\"\",'Gas Cylinder Information'!E176)","v":""},{"$f":"IF('Gas Cylinder Information'!F176=\"\",\"\",'Gas Cylinder Information'!F176)","v":""},{"$f":"IF('Gas Cylinder Information'!G176=\"\",\"\",'Gas Cylinder Information'!G176)","v":""}]
[{"$f":"IF('Gas Cylinder Information'!A177=\"\",\"\",'Gas Cylinder Information'!A177)","v":""},{"$f":"IF('Gas Cylinder Information'!C177=\"\",\"\",'Gas Cylinder Information'!C177)","v":""},{"$f":"IF('Gas Cylinder Information'!D177=\"\",\"\",'Gas Cylinder Information'!D177)","v":""},{"$f":"IF('Gas Cylinder Information'!B177=\"\",\"\",'Gas Cylinder Information'!B177)","v":""},{"$f":"IF('Gas Cylinder Information'!E177=\"\",\"\",'Gas Cylinder Information'!E177)","v":""},{"$f":"IF('Gas Cylinder Information'!F177=\"\",\"\",'Gas Cylinder Information'!F177)","v":""},{"$f":"IF('Gas Cylinder Information'!G177=\"\",\"\",'Gas Cylinder Information'!G177)","v":""}]
[{"$f":"IF('Gas Cylinder Information'!A178=\"\",\"\",'Gas Cylinder Information'!A178)","v":""},{"$f":"IF('Gas Cylinder Information'!C178=\"\",\"\",'Gas Cylinder Information'!C178)","v":""},{"$f":"IF('Gas Cylinder Information'!D178=\"\",\"\",'Gas Cylinder Information'!D178)","v":""},{"$f":"IF('Gas Cylinder Information'!B178=\"\",\"\",'Gas Cylinder Information'!B178)","v":""},{"$f":"IF('Gas Cylinder Information'!E178=\"\",\"\",'Gas Cylinder Information'!E178)","v":""},{"$f":"IF('Gas Cylinder Information'!F178=\"\",\"\",'Gas Cylinder Information'!F178)","v":""},{"$f":"IF('Gas Cylinder Information'!G178=\"\",\"\",'Gas Cylinder Information'!G178)","v":""}]
[{"$f":"IF('Gas Cylinder Information'!A179=\"\",\"\",'Gas Cylinder Information'!A179)","v":""},{"$f":"IF('Gas Cylinder Information'!C179=\"\",\"\",'Gas Cylinder Information'!C179)","v":""},{"$f":"IF('Gas Cylinder Information'!D179=\"\",\"\",'Gas Cylinder Information'!D179)","v":""},{"$f":"IF('Gas Cylinder Information'!B179=\"\",\"\",'Gas Cylinder Information'!B179)","v":""},{"$f":"IF('Gas Cylinder Information'!E179=\"\",\"\",'Gas Cylinder Information'!E179)","v":""},{"$f":"IF('Gas Cylinder Information'!F179=\"\",\"\",'Gas Cylinder Information'!F179)","v":""},{"$f":"IF('Gas Cylinder Information'!G179=\"\",\"\",'Gas Cylinder Information'!G179)","v":""}]
[{"$f":"IF('Gas Cylinder Information'!A180=\"\",\"\",'Gas Cylinder Information'!A180)","v":""},{"$f":"IF('Gas Cylinder Information'!C180=\"\",\"\",'Gas Cylinder Information'!C180)","v":""},{"$f":"IF('Gas Cylinder Information'!D180=\"\",\"\",'Gas Cylinder Information'!D180)","v":""},{"$f":"IF('Gas Cylinder Information'!B180=\"\",\"\",'Gas Cylinder Information'!B180)","v":""},{"$f":"IF('Gas Cylinder Information'!E180=\"\",\"\",'Gas Cylinder Information'!E180)","v":""},{"$f":"IF('Gas Cylinder Information'!F180=\"\",\"\",'Gas Cylinder Information'!F180)","v":""},{"$f":"IF('Gas Cylinder Information'!G180=\"\",\"\",'Gas Cylinder Information'!G180)","v":""}]
[{"$f":"IF('Gas Cylinder Information'!A181=\"\",\"\",'Gas Cylinder Information'!A181)","v":""},{"$f":"IF('Gas Cylinder Information'!C181=\"\",\"\",'Gas Cylinder Information'!C181)","v":""},{"$f":"IF('Gas Cylinder Information'!D181=\"\",\"\",'Gas Cylinder Information'!D181)","v":""},{"$f":"IF('Gas Cylinder Information'!B181=\"\",\"\",'Gas Cylinder Information'!B181)","v":""},{"$f":"IF('Gas Cylinder Information'!E181=\"\",\"\",'Gas Cylinder Information'!E181)","v":""},{"$f":"IF('Gas Cylinder Information'!F181=\"\",\"\",'Gas Cylinder Information'!F181)","v":""},{"$f":"IF('Gas Cylinder Information'!G181=\"\",\"\",'Gas Cylinder Information'!G181)","v":""}]
[{"$f":"IF('Gas Cylinder Information'!A182=\"\",\"\",'Gas Cylinder Information'!A182)","v":""},{"$f":"IF('Gas Cylinder Information'!C182=\"\",\"\",'Gas Cylinder Information'!C182)","v":""},{"$f":"IF('Gas Cylinder Information'!D182=\"\",\"\",'Gas Cylinder Information'!D182)","v":""},{"$f":"IF('Gas Cylinder Information'!B182=\"\",\"\",'Gas Cylinder Information'!B182)","v":""},{"$f":"IF('Gas Cylinder Information'!E182=\"\",\"\",'Gas Cylinder Information'!E182)","v":""},{"$f":"IF('Gas Cylinder Information'!F182=\"\",\"\",'Gas Cylinder Information'!F182)","v":""},{"$f":"IF('Gas Cylinder Information'!G182=\"\",\"\",'Gas Cylinder Information'!G182)","v":""}]
[{"$f":"IF('Gas Cylinder Information'!A183=\"\",\"\",'Gas Cylinder Information'!A183)","v":""},{"$f":"IF('Gas Cylinder Information'!C183=\"\",\"\",'Gas Cylinder Information'!C183)","v":""},{"$f":"IF('Gas Cylinder Information'!D183=\"\",\"\",'Gas Cylinder Information'!D183)","v":""},{"$f":"IF('Gas Cylinder Information'!B183=\"\",\"\",'Gas Cylinder Information'!B183)","v":""},{"$f":"IF('Gas Cylinder Information'!E183=\"\",\"\",'Gas Cylinder Information'!E183)","v":""},{"$f":"IF('Gas Cylinder Information'!F183=\"\",\"\",'Gas Cylinder Information'!F183)","v":""},{"$f":"IF('Gas Cylinder Information'!G183=\"\",\"\",'Gas Cylinder Information'!G183)","v":""}]
[{"$f":"IF('Gas Cylinder Information'!A184=\"\",\"\",'Gas Cylinder Information'!A184)","v":""},{"$f":"IF('Gas Cylinder Information'!C184=\"\",\"\",'Gas Cylinder Information'!C184)","v":""},{"$f":"IF('Gas Cylinder Information'!D184=\"\",\"\",'Gas Cylinder Information'!D184)","v":""},{"$f":"IF('Gas Cylinder Information'!B184=\"\",\"\",'Gas Cylinder Information'!B184)","v":""},{"$f":"IF('Gas Cylinder Information'!E184=\"\",\"\",'Gas Cylinder Information'!E184)","v":""},{"$f":"IF('Gas Cylinder Information'!F184=\"\",\"\",'Gas Cylinder Information'!F184)","v":""},{"$f":"IF('Gas Cylinder Information'!G184=\"\",\"\",'Gas Cylinder Information'!G184)","v":""}]
[{"$f":"IF('Gas Cylinder Information'!A185=\"\",\"\",'Gas Cylinder Information'!A185)","v":""},{"$f":"IF('Gas Cylinder Information'!C185=\"\",\"\",'Gas Cylinder Information'!C185)","v":""},{"$f":"IF('Gas Cylinder Information'!D185=\"\",\"\",'Gas Cylinder Information'!D185)","v":""},{"$f":"IF('Gas Cylinder Information'!B185=\"\",\"\",'Gas Cylinder Information'!B185)","v":""},{"$f":"IF('Gas Cylinder Information'!E185=\"\",\"\",'Gas Cylinder Information'!E185)","v":""},{"$f":"IF('Gas Cylinder Information'!F185=\"\",\"\",'Gas Cylinder Information'!F185)","v":""},{"$f":"IF('Gas Cylinder Information'!G185=\"\",\"\",'Gas Cylinder Information'!G185)","v":""}]
[{"$f":"IF('Gas Cylinder Information'!A186=\"\",\"\",'Gas Cylinder Information'!A186)","v":""},{"$f":"IF('Gas Cylinder Information'!C186=\"\",\"\",'Gas Cylinder Information'!C186)","v":""},{"$f":"IF('Gas Cylinder Information'!D186=\"\",\"\",'Gas Cylinder Information'!D186)","v":""},{"$f":"IF('Gas Cylinder Information'!B186=\"\",\"\",'Gas Cylinder Information'!B186)","v":""},{"$f":"IF('Gas Cylinder Information'!E186=\"\",\"\",'Gas Cylinder Information'!E186)","v":""},{"$f":"IF('Gas Cylinder Information'!F186=\"\",\"\",'Gas Cylinder Information'!F186)","v":""},{"$f":"IF('Gas Cylinder Information'!G186=\"\",\"\",'Gas Cylinder Information'!G186)","v":""}]
[{"$f":"IF('Gas Cylinder Information'!A187=\"\",\"\",'Gas Cylinder Information'!A187)","v":""},{"$f":"IF('Gas Cylinder Information'!C187=\"\",\"\",'Gas Cylinder Information'!C187)","v":""},{"$f":"IF('Gas Cylinder Information'!D187=\"\",\"\",'Gas Cylinder Information'!D187)","v":""},{"$f":"IF('Gas Cylinder Information'!B187=\"\",\"\",'Gas Cylinder Information'!B187)","v":""},{"$f":"IF('Gas Cylinder Information'!E187=\"\",\"\",'Gas Cylinder Information'!E187)","v":""},{"$f":"IF('Gas Cylinder Information'!F187=\"\",\"\",'Gas Cylinder Information'!F187)","v":""},{"$f":"IF('Gas Cylinder Information'!G187=\"\",\"\",'Gas Cylinder Information'!G187)","v":""}]
[{"$f":"IF('Gas Cylinder Information'!A188=\"\",\"\",'Gas Cylinder Information'!A188)","v":""},{"$f":"IF('Gas Cylinder Information'!C188=\"\",\"\",'Gas Cylinder Information'!C188)","v":""},{"$f":"IF('Gas Cylinder Information'!D188=\"\",\"\",'Gas Cylinder Information'!D188)","v":""},{"$f":"IF('Gas Cylinder Information'!B188=\"\",\"\",'Gas Cylinder Information'!B188)","v":""},{"$f":"IF('Gas Cylinder Information'!E188=\"\",\"\",'Gas Cylinder Information'!E188)","v":""},{"$f":"IF('Gas Cylinder Information'!F188=\"\",\"\",'Gas Cylinder Information'!F188)","v":""},{"$f":"IF('Gas Cylinder Information'!G188=\"\",\"\",'Gas Cylinder Information'!G188)","v":""}]
[{"$f":"IF('Gas Cylinder Information'!A189=\"\",\"\",'Gas Cylinder Information'!A189)","v":""},{"$f":"IF('Gas Cylinder Information'!C189=\"\",\"\",'Gas Cylinder Information'!C189)","v":""},{"$f":"IF('Gas Cylinder Information'!D189=\"\",\"\",'Gas Cylinder Information'!D189)","v":""},{"$f":"IF('Gas Cylinder Information'!B189=\"\",\"\",'Gas Cylinder Information'!B189)","v":""},{"$f":"IF('Gas Cylinder Information'!E189=\"\",\"\",'Gas Cylinder Information'!E189)","v":""},{"$f":"IF('Gas Cylinder Information'!F189=\"\",\"\",'Gas Cylinder Information'!F189)","v":""},{"$f":"IF('Gas Cylinder Information'!G189=\"\",\"\",'Gas Cylinder Information'!G189)","v":""}]
[{"$f":"IF('Gas Cylinder Information'!A190=\"\",\"\",'Gas Cylinder Information'!A190)","v":""},{"$f":"IF('Gas Cylinder Information'!C190=\"\",\"\",'Gas Cylinder Information'!C190)","v":""},{"$f":"IF('Gas Cylinder Information'!D190=\"\",\"\",'Gas Cylinder Information'!D190)","v":""},{"$f":"IF('Gas Cylinder Information'!B190=\"\",\"\",'Gas Cylinder Information'!B190)","v":""},{"$f":"IF('Gas Cylinder Information'!E190=\"\",\"\",'Gas Cylinder Information'!E190)","v":""},{"$f":"IF('Gas Cylinder Information'!F190=\"\",\"\",'Gas Cylinder Information'!F190)","v":""},{"$f":"IF('Gas Cylinder Information'!G190=\"\",\"\",'Gas Cylinder Information'!G190)","v":""}]
[{"$f":"IF('Gas Cylinder Information'!A191=\"\",\"\",'Gas Cylinder Information'!A191)","v":""},{"$f":"IF('Gas Cylinder Information'!C191=\"\",\"\",'Gas Cylinder Information'!C191)","v":""},{"$f":"IF('Gas Cylinder Information'!D191=\"\",\"\",'Gas Cylinder Information'!D191)","v":""},{"$f":"IF('Gas Cylinder Information'!B191=\"\",\"\",'Gas Cylinder Information'!B191)","v":""},{"$f":"IF('Gas Cylinder Information'!E191=\"\",\"\",'Gas Cylinder Information'!E191)","v":""},{"$f":"IF('Gas Cylinder Information'!F191=\"\",\"\",'Gas Cylinder Information'!F191)","v":""},{"$f":"IF('Gas Cylinder Information'!G191=\"\",\"\",'Gas Cylinder Information'!G191)","v":""}]
[{"$f":"IF('Gas Cylinder Information'!A192=\"\",\"\",'Gas Cylinder Information'!A192)","v":""},{"$f":"IF('Gas Cylinder Information'!C192=\"\",\"\",'Gas Cylinder Information'!C192)","v":""},{"$f":"IF('Gas Cylinder Information'!D192=\"\",\"\",'Gas Cylinder Information'!D192)","v":""},{"$f":"IF('Gas Cylinder Information'!B192=\"\",\"\",'Gas Cylinder Information'!B192)","v":""},{"$f":"IF('Gas Cylinder Information'!E192=\"\",\"\",'Gas Cylinder Information'!E192)","v":""},{"$f":"IF('Gas Cylinder Information'!F192=\"\",\"\",'Gas Cylinder Information'!F192)","v":""},{"$f":"IF('Gas Cylinder Information'!G192=\"\",\"\",'Gas Cylinder Information'!G192)","v":""}]
[{"$f":"IF('Gas Cylinder Information'!A193=\"\",\"\",'Gas Cylinder Information'!A193)","v":""},{"$f":"IF('Gas Cylinder Information'!C193=\"\",\"\",'Gas Cylinder Information'!C193)","v":""},{"$f":"IF('Gas Cylinder Information'!D193=\"\",\"\",'Gas Cylinder Information'!D193)","v":""},{"$f":"IF('Gas Cylinder Information'!B193=\"\",\"\",'Gas Cylinder Information'!B193)","v":""},{"$f":"IF('Gas Cylinder Information'!E193=\"\",\"\",'Gas Cylinder Information'!E193)","v":""},{"$f":"IF('Gas Cylinder Information'!F193=\"\",\"\",'Gas Cylinder Information'!F193)","v":""},{"$f":"IF('Gas Cylinder Information'!G193=\"\",\"\",'Gas Cylinder Information'!G193)","v":""}]
[{"$f":"IF('Gas Cylinder Information'!A194=\"\",\"\",'Gas Cylinder Information'!A194)","v":""},{"$f":"IF('Gas Cylinder Information'!C194=\"\",\"\",'Gas Cylinder Information'!C194)","v":""},{"$f":"IF('Gas Cylinder Information'!D194=\"\",\"\",'Gas Cylinder Information'!D194)","v":""},{"$f":"IF('Gas Cylinder Information'!B194=\"\",\"\",'Gas Cylinder Information'!B194)","v":""},{"$f":"IF('Gas Cylinder Information'!E194=\"\",\"\",'Gas Cylinder Information'!E194)","v":""},{"$f":"IF('Gas Cylinder Information'!F194=\"\",\"\",'Gas Cylinder Information'!F194)","v":""},{"$f":"IF('Gas Cylinder Information'!G194=\"\",\"\",'Gas Cylinder Information'!G194)","v":""}]
[{"$f":"IF('Gas Cylinder Information'!A195=\"\",\"\",'Gas Cylinder Information'!A195)","v":""},{"$f":"IF('Gas Cylinder Information'!C195=\"\",\"\",'Gas Cylinder Information'!C195)","v":""},{"$f":"IF('Gas Cylinder Information'!D195=\"\",\"\",'Gas Cylinder Information'!D195)","v":""},{"$f":"IF('Gas Cylinder Information'!B195=\"\",\"\",'Gas Cylinder Information'!B195)","v":""},{"$f":"IF('Gas Cylinder Information'!E195=\"\",\"\",'Gas Cylinder Information'!E195)","v":""},{"$f":"IF('Gas Cylinder Information'!F195=\"\",\"\",'Gas Cylinder Information'!F195)","v":""},{"$f":"IF('Gas Cylinder Information'!G195=\"\",\"\",'Gas Cylinder Information'!G195)","v":""}]
[{"$f":"IF('Gas Cylinder Information'!A196=\"\",\"\",'Gas Cylinder Information'!A196)","v":""},{"$f":"IF('Gas Cylinder Information'!C196=\"\",\"\",'Gas Cylinder Information'!C196)","v":""},{"$f":"IF('Gas Cylinder Information'!D196=\"\",\"\",'Gas Cylinder Information'!D196)","v":""},{"$f":"IF('Gas Cylinder Information'!B196=\"\",\"\",'Gas Cylinder Information'!B196)","v":""},{"$f":"IF('Gas Cylinder Information'!E196=\"\",\"\",'Gas Cylinder Information'!E196)","v":""},{"$f":"IF('Gas Cylinder Information'!F196=\"\",\"\",'Gas Cylinder Information'!F196)","v":""},{"$f":"IF('Gas Cylinder Information'!G196=\"\",\"\",'Gas Cylinder Information'!G196)","v":""}]
[{"$f":"IF('Gas Cylinder Information'!A197=\"\",\"\",'Gas Cylinder Information'!A197)","v":""},{"$f":"IF('Gas Cylinder Information'!C197=\"\",\"\",'Gas Cylinder Information'!C197)","v":""},{"$f":"IF('Gas Cylinder Information'!D197=\"\",\"\",'Gas Cylinder Information'!D197)","v":""},{"$f":"IF('Gas Cylinder Information'!B197=\"\",\"\",'Gas Cylinder Information'!B197)","v":""},{"$f":"IF('Gas Cylinder Information'!E197=\"\",\"\",'Gas Cylinder Information'!E197)","v":""},{"$f":"IF('Gas Cylinder Information'!F197=\"\",\"\",'Gas Cylinder Information'!F197)","v":""},{"$f":"IF('Gas Cylinder Information'!G197=\"\",\"\",'Gas Cylinder Information'!G197)","v":""}]
[{"$f":"IF('Gas Cylinder Information'!A198=\"\",\"\",'Gas Cylinder Information'!A198)","v":""},{"$f":"IF('Gas Cylinder Information'!C198=\"\",\"\",'Gas Cylinder Information'!C198)","v":""},{"$f":"IF('Gas Cylinder Information'!D198=\"\",\"\",'Gas Cylinder Information'!D198)","v":""},{"$f":"IF('Gas Cylinder Information'!B198=\"\",\"\",'Gas Cylinder Information'!B198)","v":""},{"$f":"IF('Gas Cylinder Information'!E198=\"\",\"\",'Gas Cylinder Information'!E198)","v":""},{"$f":"IF('Gas Cylinder Information'!F198=\"\",\"\",'Gas Cylinder Information'!F198)","v":""},{"$f":"IF('Gas Cylinder Information'!G198=\"\",\"\",'Gas Cylinder Information'!G198)","v":""}]
[{"$f":"IF('Gas Cylinder Information'!A199=\"\",\"\",'Gas Cylinder Information'!A199)","v":""},{"$f":"IF('Gas Cylinder Information'!C199=\"\",\"\",'Gas Cylinder Information'!C199)","v":""},{"$f":"IF('Gas Cylinder Information'!D199=\"\",\"\",'Gas Cylinder Information'!D199)","v":""},{"$f":"IF('Gas Cylinder Information'!B199=\"\",\"\",'Gas Cylinder Information'!B199)","v":""},{"$f":"IF('Gas Cylinder Information'!E199=\"\",\"\",'Gas Cylinder Information'!E199)","v":""},{"$f":"IF('Gas Cylinder Information'!F199=\"\",\"\",'Gas Cylinder Information'!F199)","v":""},{"$f":"IF('Gas Cylinder Information'!G199=\"\",\"\",'Gas Cylinder Information'!G199)","v":""}]
[{"$f":"IF('Gas Cylinder Information'!A200=\"\",\"\",'Gas Cylinder Information'!A200)","v":""},{"$f":"IF('Gas Cylinder Information'!C200=\"\",\"\",'Gas Cylinder Information'!C200)","v":""},{"$f":"IF('Gas Cylinder Information'!D200=\"\",\"\",'Gas Cylinder Information'!D200)","v":""},{"$f":"IF('Gas Cylinder Information'!B200=\"\",\"\",'Gas Cylinder Information'!B200)","v":""},{"$f":"IF('Gas Cylinder Information'!E200=\"\",\"\",'Gas Cylinder Information'!E200)","v":""},{"$f":"IF('Gas Cylinder Information'!F200=\"\",\"\",'Gas Cylinder Information'!F200)","v":""},{"$f":"IF('Gas Cylinder Information'!G200=\"\",\"\",'Gas Cylinder Information'!G200)","v":""}]
[{"$f":"IF('Gas Cylinder Information'!A201=\"\",\"\",'Gas Cylinder Information'!A201)","v":""},{"$f":"IF('Gas Cylinder Information'!C201=\"\",\"\",'Gas Cylinder Information'!C201)","v":""},{"$f":"IF('Gas Cylinder Information'!D201=\"\",\"\",'Gas Cylinder Information'!D201)","v":""},{"$f":"IF('Gas Cylinder Information'!B201=\"\",\"\",'Gas Cylinder Information'!B201)","v":""},{"$f":"IF('Gas Cylinder Information'!E201=\"\",\"\",'Gas Cylinder Information'!E201)","v":""},{"$f":"IF('Gas Cylinder Information'!F201=\"\",\"\",'Gas Cylinder Information'!F201)","v":""},{"$f":"IF('Gas Cylinder Information'!G201=\"\",\"\",'Gas Cylinder Information'!G201)","v":""}]
[{"$f":"IF('Gas Cylinder Information'!A202=\"\",\"\",'Gas Cylinder Information'!A202)","v":""},{"$f":"IF('Gas Cylinder Information'!C202=\"\",\"\",'Gas Cylinder Information'!C202)","v":""},{"$f":"IF('Gas Cylinder Information'!D202=\"\",\"\",'Gas Cylinder Information'!D202)","v":""},{"$f":"IF('Gas Cylinder Information'!B202=\"\",\"\",'Gas Cylinder Information'!B202)","v":""},{"$f":"IF('Gas Cylinder Information'!E202=\"\",\"\",'Gas Cylinder Information'!E202)","v":""},{"$f":"IF('Gas Cylinder Information'!F202=\"\",\"\",'Gas Cylinder Information'!F202)","v":""},{"$f":"IF('Gas Cylinder Information'!G202=\"\",\"\",'Gas Cylinder Information'!G202)","v":""}]
[{"$f":"IF('Gas Cylinder Information'!A203=\"\",\"\",'Gas Cylinder Information'!A203)","v":""},{"$f":"IF('Gas Cylinder Information'!C203=\"\",\"\",'Gas Cylinder Information'!C203)","v":""},{"$f":"IF('Gas Cylinder Information'!D203=\"\",\"\",'Gas Cylinder Information'!D203)","v":""},{"$f":"IF('Gas Cylinder Information'!B203=\"\",\"\",'Gas Cylinder Information'!B203)","v":""},{"$f":"IF('Gas Cylinder Information'!E203=\"\",\"\",'Gas Cylinder Information'!E203)","v":""},{"$f":"IF('Gas Cylinder Information'!F203=\"\",\"\",'Gas Cylinder Information'!F203)","v":""},{"$f":"IF('Gas Cylinder Information'!G203=\"\",\"\",'Gas Cylinder Information'!G203)","v":""}]
[{"$f":"IF('Gas Cylinder Information'!A204=\"\",\"\",'Gas Cylinder Information'!A204)","v":""},{"$f":"IF('Gas Cylinder Information'!C204=\"\",\"\",'Gas Cylinder Information'!C204)","v":""},{"$f":"IF('Gas Cylinder Information'!D204=\"\",\"\",'Gas Cylinder Information'!D204)","v":""},{"$f":"IF('Gas Cylinder Information'!B204=\"\",\"\",'Gas Cylinder Information'!B204)","v":""},{"$f":"IF('Gas Cylinder Information'!E204=\"\",\"\",'Gas Cylinder Information'!E204)","v":""},{"$f":"IF('Gas Cylinder Information'!F204=\"\",\"\",'Gas Cylinder Information'!F204)","v":""},{"$f":"IF('Gas Cylinder Information'!G204=\"\",\"\",'Gas Cylinder Information'!G204)","v":""}]
[{"$f":"IF('Gas Cylinder Information'!A205=\"\",\"\",'Gas Cylinder Information'!A205)","v":""},{"$f":"IF('Gas Cylinder Information'!C205=\"\",\"\",'Gas Cylinder Information'!C205)","v":""},{"$f":"IF('Gas Cylinder Information'!D205=\"\",\"\",'Gas Cylinder Information'!D205)","v":""},{"$f":"IF('Gas Cylinder Information'!B205=\"\",\"\",'Gas Cylinder Information'!B205)","v":""},{"$f":"IF('Gas Cylinder Information'!E205=\"\",\"\",'Gas Cylinder Information'!E205)","v":""},{"$f":"IF('Gas Cylinder Information'!F205=\"\",\"\",'Gas Cylinder Information'!F205)","v":""},{"$f":"IF('Gas Cylinder Information'!G205=\"\",\"\",'Gas Cylinder Information'!G205)","v":""}]
[{"$f":"IF('Gas Cylinder Information'!A206=\"\",\"\",'Gas Cylinder Information'!A206)","v":""},{"$f":"IF('Gas Cylinder Information'!C206=\"\",\"\",'Gas Cylinder Information'!C206)","v":""},{"$f":"IF('Gas Cylinder Information'!D206=\"\",\"\",'Gas Cylinder Information'!D206)","v":""},{"$f":"IF('Gas Cylinder Information'!B206=\"\",\"\",'Gas Cylinder Information'!B206)","v":""},{"$f":"IF('Gas Cylinder Information'!E206=\"\",\"\",'Gas Cylinder Information'!E206)","v":""},{"$f":"IF('Gas Cylinder Information'!F206=\"\",\"\",'Gas Cylinder Information'!F206)","v":""},{"$f":"IF('Gas Cylinder Information'!G206=\"\",\"\",'Gas Cylinder Information'!G206)","v":""}]
[{"$f":"IF('Gas Cylinder Information'!A207=\"\",\"\",'Gas Cylinder Information'!A207)","v":""},{"$f":"IF('Gas Cylinder Information'!C207=\"\",\"\",'Gas Cylinder Information'!C207)","v":""},{"$f":"IF('Gas Cylinder Information'!D207=\"\",\"\",'Gas Cylinder Information'!D207)","v":""},{"$f":"IF('Gas Cylinder Information'!B207=\"\",\"\",'Gas Cylinder Information'!B207)","v":""},{"$f":"IF('Gas Cylinder Information'!E207=\"\",\"\",'Gas Cylinder Information'!E207)","v":""},{"$f":"IF('Gas Cylinder Information'!F207=\"\",\"\",'Gas Cylinder Information'!F207)","v":""},{"$f":"IF('Gas Cylinder Information'!G207=\"\",\"\",'Gas Cylinder Information'!G207)","v":""}]
[{"$f":"IF('Gas Cylinder Information'!A208=\"\",\"\",'Gas Cylinder Information'!A208)","v":""},{"$f":"IF('Gas Cylinder Information'!C208=\"\",\"\",'Gas Cylinder Information'!C208)","v":""},{"$f":"IF('Gas Cylinder Information'!D208=\"\",\"\",'Gas Cylinder Information'!D208)","v":""},{"$f":"IF('Gas Cylinder Information'!B208=\"\",\"\",'Gas Cylinder Information'!B208)","v":""},{"$f":"IF('Gas Cylinder Information'!E208=\"\",\"\",'Gas Cylinder Information'!E208)","v":""},{"$f":"IF('Gas Cylinder Information'!F208=\"\",\"\",'Gas Cylinder Information'!F208)","v":""},{"$f":"IF('Gas Cylinder Information'!G208=\"\",\"\",'Gas Cylinder Information'!G208)","v":""}]
[{"$f":"IF('Gas Cylinder Information'!A209=\"\",\"\",'Gas Cylinder Information'!A209)","v":""},{"$f":"IF('Gas Cylinder Information'!C209=\"\",\"\",'Gas Cylinder Information'!C209)","v":""},{"$f":"IF('Gas Cylinder Information'!D209=\"\",\"\",'Gas Cylinder Information'!D209)","v":""},{"$f":"IF('Gas Cylinder Information'!B209=\"\",\"\",'Gas Cylinder Information'!B209)","v":""},{"$f":"IF('Gas Cylinder Information'!E209=\"\",\"\",'Gas Cylinder Information'!E209)","v":""},{"$f":"IF('Gas Cylinder Information'!F209=\"\",\"\",'Gas Cylinder Information'!F209)","v":""},{"$f":"IF('Gas Cylinder Information'!G209=\"\",\"\",'Gas Cylinder Information'!G209)","v":""}]
[{"$f":"IF('Gas Cylinder Information'!A210=\"\",\"\",'Gas Cylinder Information'!A210)","v":""},{"$f":"IF('Gas Cylinder Information'!C210=\"\",\"\",'Gas Cylinder Information'!C210)","v":""},{"$f":"IF('Gas Cylinder Information'!D210=\"\",\"\",'Gas Cylinder Information'!D210)","v":""},{"$f":"IF('Gas Cylinder Information'!B210=\"\",\"\",'Gas Cylinder Information'!B210)","v":""},{"$f":"IF('Gas Cylinder Information'!E210=\"\",\"\",'Gas Cylinder Information'!E210)","v":""},{"$f":"IF('Gas Cylinder Information'!F210=\"\",\"\",'Gas Cylinder Information'!F210)","v":""},{"$f":"IF('Gas Cylinder Information'!G210=\"\",\"\",'Gas Cylinder Information'!G210)","v":""}]
[{"$f":"IF('Gas Cylinder Information'!A211=\"\",\"\",'Gas Cylinder Information'!A211)","v":""},{"$f":"IF('Gas Cylinder Information'!C211=\"\",\"\",'Gas Cylinder Information'!C211)","v":""},{"$f":"IF('Gas Cylinder Information'!D211=\"\",\"\",'Gas Cylinder Information'!D211)","v":""},{"$f":"IF('Gas Cylinder Information'!B211=\"\",\"\",'Gas Cylinder Information'!B211)","v":""},{"$f":"IF('Gas Cylinder Information'!E211=\"\",\"\",'Gas Cylinder Information'!E211)","v":""},{"$f":"IF('Gas Cylinder Information'!F211=\"\",\"\",'Gas Cylinder Information'!F211)","v":""},{"$f":"IF('Gas Cylinder Information'!G211=\"\",\"\",'Gas Cylinder Information'!G211)","v":""}]
[{"$f":"IF('Gas Cylinder Information'!A212=\"\",\"\",'Gas Cylinder Information'!A212)","v":""},{"$f":"IF('Gas Cylinder Information'!C212=\"\",\"\",'Gas Cylinder Information'!C212)","v":""},{"$f":"IF('Gas Cylinder Information'!D212=\"\",\"\",'Gas Cylinder Information'!D212)","v":""},{"$f":"IF('Gas Cylinder Information'!B212=\"\",\"\",'Gas Cylinder Information'!B212)","v":""},{"$f":"IF('Gas Cylinder Information'!E212=\"\",\"\",'Gas Cylinder Information'!E212)","v":""},{"$f":"IF('Gas Cylinder Information'!F212=\"\",\"\",'Gas Cylinder Information'!F212)","v":""},{"$f":"IF('Gas Cylinder Information'!G212=\"\",\"\",'Gas Cylinder Information'!G212)","v":""}]
[{"$f":"IF('Gas Cylinder Information'!A213=\"\",\"\",'Gas Cylinder Information'!A213)","v":""},{"$f":"IF('Gas Cylinder Information'!C213=\"\",\"\",'Gas Cylinder Information'!C213)","v":""},{"$f":"IF('Gas Cylinder Information'!D213=\"\",\"\",'Gas Cylinder Information'!D213)","v":""},{"$f":"IF('Gas Cylinder Information'!B213=\"\",\"\",'Gas Cylinder Information'!B213)","v":""},{"$f":"IF('Gas Cylinder Information'!E213=\"\",\"\",'Gas Cylinder Information'!E213)","v":""},{"$f":"IF('Gas Cylinder Information'!F213=\"\",\"\",'Gas Cylinder Information'!F213)","v":""},{"$f":"IF('Gas Cylinder Information'!G213=\"\",\"\",'Gas Cylinder Information'!G213)","v":""}]
[{"$f":"IF('Gas Cylinder Information'!A214=\"\",\"\",'Gas Cylinder Information'!A214)","v":""},{"$f":"IF('Gas Cylinder Information'!C214=\"\",\"\",'Gas Cylinder Information'!C214)","v":""},{"$f":"IF('Gas Cylinder Information'!D214=\"\",\"\",'Gas Cylinder Information'!D214)","v":""},{"$f":"IF('Gas Cylinder Information'!B214=\"\",\"\",'Gas Cylinder Information'!B214)","v":""},{"$f":"IF('Gas Cylinder Information'!E214=\"\",\"\",'Gas Cylinder Information'!E214)","v":""},{"$f":"IF('Gas Cylinder Information'!F214=\"\",\"\",'Gas Cylinder Information'!F214)","v":""},{"$f":"IF('Gas Cylinder Information'!G214=\"\",\"\",'Gas Cylinder Information'!G214)","v":""}]
[{"$f":"IF('Gas Cylinder Information'!A215=\"\",\"\",'Gas Cylinder Information'!A215)","v":""},{"$f":"IF('Gas Cylinder Information'!C215=\"\",\"\",'Gas Cylinder Information'!C215)","v":""},{"$f":"IF('Gas Cylinder Information'!D215=\"\",\"\",'Gas Cylinder Information'!D215)","v":""},{"$f":"IF('Gas Cylinder Information'!B215=\"\",\"\",'Gas Cylinder Information'!B215)","v":""},{"$f":"IF('Gas Cylinder Information'!E215=\"\",\"\",'Gas Cylinder Information'!E215)","v":""},{"$f":"IF('Gas Cylinder Information'!F215=\"\",\"\",'Gas Cylinder Information'!F215)","v":""},{"$f":"IF('Gas Cylinder Information'!G215=\"\",\"\",'Gas Cylinder Information'!G215)","v":""}]
[{"$f":"IF('Gas Cylinder Information'!A216=\"\",\"\",'Gas Cylinder Information'!A216)","v":""},{"$f":"IF('Gas Cylinder Information'!C216=\"\",\"\",'Gas Cylinder Information'!C216)","v":""},{"$f":"IF('Gas Cylinder Information'!D216=\"\",\"\",'Gas Cylinder Information'!D216)","v":""},{"$f":"IF('Gas Cylinder Information'!B216=\"\",\"\",'Gas Cylinder Information'!B216)","v":""},{"$f":"IF('Gas Cylinder Information'!E216=\"\",\"\",'Gas Cylinder Information'!E216)","v":""},{"$f":"IF('Gas Cylinder Information'!F216=\"\",\"\",'Gas Cylinder Information'!F216)","v":""},{"$f":"IF('Gas Cylinder Information'!G216=\"\",\"\",'Gas Cylinder Information'!G216)","v":""}]
[{"$f":"IF('Gas Cylinder Information'!A217=\"\",\"\",'Gas Cylinder Information'!A217)","v":""},{"$f":"IF('Gas Cylinder Information'!C217=\"\",\"\",'Gas Cylinder Information'!C217)","v":""},{"$f":"IF('Gas Cylinder Information'!D217=\"\",\"\",'Gas Cylinder Information'!D217)","v":""},{"$f":"IF('Gas Cylinder Information'!B217=\"\",\"\",'Gas Cylinder Information'!B217)","v":""},{"$f":"IF('Gas Cylinder Information'!E217=\"\",\"\",'Gas Cylinder Information'!E217)","v":""},{"$f":"IF('Gas Cylinder Information'!F217=\"\",\"\",'Gas Cylinder Information'!F217)","v":""},{"$f":"IF('Gas Cylinder Information'!G217=\"\",\"\",'Gas Cylinder Information'!G217)","v":""}]
[{"$f":"IF('Gas Cylinder Information'!A218=\"\",\"\",'Gas Cylinder Information'!A218)","v":""},{"$f":"IF('Gas Cylinder Information'!C218=\"\",\"\",'Gas Cylinder Information'!C218)","v":""},{"$f":"IF('Gas Cylinder Information'!D218=\"\",\"\",'Gas Cylinder Information'!D218)","v":""},{"$f":"IF('Gas Cylinder Information'!B218=\"\",\"\",'Gas Cylinder Information'!B218)","v":""},{"$f":"IF('Gas Cylinder Information'!E218=\"\",\"\",'Gas Cylinder Information'!E218)","v":""},{"$f":"IF('Gas Cylinder Information'!F218=\"\",\"\",'Gas Cylinder Information'!F218)","v":""},{"$f":"IF('Gas Cylinder Information'!G218=\"\",\"\",'Gas Cylinder Information'!G218)","v":""}]
[{"$f":"IF('Gas Cylinder Information'!A219=\"\",\"\",'Gas Cylinder Information'!A219)","v":""},{"$f":"IF('Gas Cylinder Information'!C219=\"\",\"\",'Gas Cylinder Information'!C219)","v":""},{"$f":"IF('Gas Cylinder Information'!D219=\"\",\"\",'Gas Cylinder Information'!D219)","v":""},{"$f":"IF('Gas Cylinder Information'!B219=\"\",\"\",'Gas Cylinder Information'!B219)","v":""},{"$f":"IF('Gas Cylinder Information'!E219=\"\",\"\",'Gas Cylinder Information'!E219)","v":""},{"$f":"IF('Gas Cylinder Information'!F219=\"\",\"\",'Gas Cylinder Information'!F219)","v":""},{"$f":"IF('Gas Cylinder Information'!G219=\"\",\"\",'Gas Cylinder Information'!G219)","v":""}]
[{"$f":"IF('Gas Cylinder Information'!A220=\"\",\"\",'Gas Cylinder Information'!A220)","v":""},{"$f":"IF('Gas Cylinder Information'!C220=\"\",\"\",'Gas Cylinder Information'!C220)","v":""},{"$f":"IF('Gas Cylinder Information'!D220=\"\",\"\",'Gas Cylinder Information'!D220)","v":""},{"$f":"IF('Gas Cylinder Information'!B220=\"\",\"\",'Gas Cylinder Information'!B220)","v":""},{"$f":"IF('Gas Cylinder Information'!E220=\"\",\"\",'Gas Cylinder Information'!E220)","v":""},{"$f":"IF('Gas Cylinder Information'!F220=\"\",\"\",'Gas Cylinder Information'!F220)","v":""},{"$f":"IF('Gas Cylinder Information'!G220=\"\",\"\",'Gas Cylinder Information'!G220)","v":""}]
[{"$f":"IF('Gas Cylinder Information'!A221=\"\",\"\",'Gas Cylinder Information'!A221)","v":""},{"$f":"IF('Gas Cylinder Information'!C221=\"\",\"\",'Gas Cylinder Information'!C221)","v":""},{"$f":"IF('Gas Cylinder Information'!D221=\"\",\"\",'Gas Cylinder Information'!D221)","v":""},{"$f":"IF('Gas Cylinder Information'!B221=\"\",\"\",'Gas Cylinder Information'!B221)","v":""},{"$f":"IF('Gas Cylinder Information'!E221=\"\",\"\",'Gas Cylinder Information'!E221)","v":""},{"$f":"IF('Gas Cylinder Information'!F221=\"\",\"\",'Gas Cylinder Information'!F221)","v":""},{"$f":"IF('Gas Cylinder Information'!G221=\"\",\"\",'Gas Cylinder Information'!G221)","v":""}]
[{"$f":"IF('Gas Cylinder Information'!A222=\"\",\"\",'Gas Cylinder Information'!A222)","v":""},{"$f":"IF('Gas Cylinder Information'!C222=\"\",\"\",'Gas Cylinder Information'!C222)","v":""},{"$f":"IF('Gas Cylinder Information'!D222=\"\",\"\",'Gas Cylinder Information'!D222)","v":""},{"$f":"IF('Gas Cylinder Information'!B222=\"\",\"\",'Gas Cylinder Information'!B222)","v":""},{"$f":"IF('Gas Cylinder Information'!E222=\"\",\"\",'Gas Cylinder Information'!E222)","v":""},{"$f":"IF('Gas Cylinder Information'!F222=\"\",\"\",'Gas Cylinder Information'!F222)","v":""},{"$f":"IF('Gas Cylinder Information'!G222=\"\",\"\",'Gas Cylinder Information'!G222)","v":""}]
[{"$f":"IF('Gas Cylinder Information'!A223=\"\",\"\",'Gas Cylinder Information'!A223)","v":""},{"$f":"IF('Gas Cylinder Information'!C223=\"\",\"\",'Gas Cylinder Information'!C223)","v":""},{"$f":"IF('Gas Cylinder Information'!D223=\"\",\"\",'Gas Cylinder Information'!D223)","v":""},{"$f":"IF('Gas Cylinder Information'!B223=\"\",\"\",'Gas Cylinder Information'!B223)","v":""},{"$f":"IF('Gas Cylinder Information'!E223=\"\",\"\",'Gas Cylinder Information'!E223)","v":""},{"$f":"IF('Gas Cylinder Information'!F223=\"\",\"\",'Gas Cylinder Information'!F223)","v":""},{"$f":"IF('Gas Cylinder Information'!G223=\"\",\"\",'Gas Cylinder Information'!G223)","v":""}]
[{"$f":"IF('Gas Cylinder Information'!A224=\"\",\"\",'Gas Cylinder Information'!A224)","v":""},{"$f":"IF('Gas Cylinder Information'!C224=\"\",\"\",'Gas Cylinder Information'!C224)","v":""},{"$f":"IF('Gas Cylinder Information'!D224=\"\",\"\",'Gas Cylinder Information'!D224)","v":""},{"$f":"IF('Gas Cylinder Information'!B224=\"\",\"\",'Gas Cylinder Information'!B224)","v":""},{"$f":"IF('Gas Cylinder Information'!E224=\"\",\"\",'Gas Cylinder Information'!E224)","v":""},{"$f":"IF('Gas Cylinder Information'!F224=\"\",\"\",'Gas Cylinder Information'!F224)","v":""},{"$f":"IF('Gas Cylinder Information'!G224=\"\",\"\",'Gas Cylinder Information'!G224)","v":""}]
[{"$f":"IF('Gas Cylinder Information'!A225=\"\",\"\",'Gas Cylinder Information'!A225)","v":""},{"$f":"IF('Gas Cylinder Information'!C225=\"\",\"\",'Gas Cylinder Information'!C225)","v":""},{"$f":"IF('Gas Cylinder Information'!D225=\"\",\"\",'Gas Cylinder Information'!D225)","v":""},{"$f":"IF('Gas Cylinder Information'!B225=\"\",\"\",'Gas Cylinder Information'!B225)","v":""},{"$f":"IF('Gas Cylinder Information'!E225=\"\",\"\",'Gas Cylinder Information'!E225)","v":""},{"$f":"IF('Gas Cylinder Information'!F225=\"\",\"\",'Gas Cylinder Information'!F225)","v":""},{"$f":"IF('Gas Cylinder Information'!G225=\"\",\"\",'Gas Cylinder Information'!G225)","v":""}]
[{"$f":"IF('Gas Cylinder Information'!A226=\"\",\"\",'Gas Cylinder Information'!A226)","v":""},{"$f":"IF('Gas Cylinder Information'!C226=\"\",\"\",'Gas Cylinder Information'!C226)","v":""},{"$f":"IF('Gas Cylinder Information'!D226=\"\",\"\",'Gas Cylinder Information'!D226)","v":""},{"$f":"IF('Gas Cylinder Information'!B226=\"\",\"\",'Gas Cylinder Information'!B226)","v":""},{"$f":"IF('Gas Cylinder Information'!E226=\"\",\"\",'Gas Cylinder Information'!E226)","v":""},{"$f":"IF('Gas Cylinder Information'!F226=\"\",\"\",'Gas Cylinder Information'!F226)","v":""},{"$f":"IF('Gas Cylinder Information'!G226=\"\",\"\",'Gas Cylinder Information'!G226)","v":""}]
[{"$f":"IF('Gas Cylinder Information'!A227=\"\",\"\",'Gas Cylinder Information'!A227)","v":""},{"$f":"IF('Gas Cylinder Information'!C227=\"\",\"\",'Gas Cylinder Information'!C227)","v":""},{"$f":"IF('Gas Cylinder Information'!D227=\"\",\"\",'Gas Cylinder Information'!D227)","v":""},{"$f":"IF('Gas Cylinder Information'!B227=\"\",\"\",'Gas Cylinder Information'!B227)","v":""},{"$f":"IF('Gas Cylinder Information'!E227=\"\",\"\",'Gas Cylinder Information'!E227)","v":""},{"$f":"IF('Gas Cylinder Information'!F227=\"\",\"\",'Gas Cylinder Information'!F227)","v":""},{"$f":"IF('Gas Cylinder Information'!G227=\"\",\"\",'Gas Cylinder Information'!G227)","v":""}]
[{"$f":"IF('Gas Cylinder Information'!A228=\"\",\"\",'Gas Cylinder Information'!A228)","v":""},{"$f":"IF('Gas Cylinder Information'!C228=\"\",\"\",'Gas Cylinder Information'!C228)","v":""},{"$f":"IF('Gas Cylinder Information'!D228=\"\",\"\",'Gas Cylinder Information'!D228)","v":""},{"$f":"IF('Gas Cylinder Information'!B228=\"\",\"\",'Gas Cylinder Information'!B228)","v":""},{"$f":"IF('Gas Cylinder Information'!E228=\"\",\"\",'Gas Cylinder Information'!E228)","v":""},{"$f":"IF('Gas Cylinder Information'!F228=\"\",\"\",'Gas Cylinder Information'!F228)","v":""},{"$f":"IF('Gas Cylinder Information'!G228=\"\",\"\",'Gas Cylinder Information'!G228)","v":""}]
[{"$f":"IF('Gas Cylinder Information'!A229=\"\",\"\",'Gas Cylinder Information'!A229)","v":""},{"$f":"IF('Gas Cylinder Information'!C229=\"\",\"\",'Gas Cylinder Information'!C229)","v":""},{"$f":"IF('Gas Cylinder Information'!D229=\"\",\"\",'Gas Cylinder Information'!D229)","v":""},{"$f":"IF('Gas Cylinder Information'!B229=\"\",\"\",'Gas Cylinder Information'!B229)","v":""},{"$f":"IF('Gas Cylinder Information'!E229=\"\",\"\",'Gas Cylinder Information'!E229)","v":""},{"$f":"IF('Gas Cylinder Information'!F229=\"\",\"\",'Gas Cylinder Information'!F229)","v":""},{"$f":"IF('Gas Cylinder Information'!G229=\"\",\"\",'Gas Cylinder Information'!G229)","v":""}]
[{"$f":"IF('Gas Cylinder Information'!A230=\"\",\"\",'Gas Cylinder Information'!A230)","v":""},{"$f":"IF('Gas Cylinder Information'!C230=\"\",\"\",'Gas Cylinder Information'!C230)","v":""},{"$f":"IF('Gas Cylinder Information'!D230=\"\",\"\",'Gas Cylinder Information'!D230)","v":""},{"$f":"IF('Gas Cylinder Information'!B230=\"\",\"\",'Gas Cylinder Information'!B230)","v":""},{"$f":"IF('Gas Cylinder Information'!E230=\"\",\"\",'Gas Cylinder Information'!E230)","v":""},{"$f":"IF('Gas Cylinder Information'!F230=\"\",\"\",'Gas Cylinder Information'!F230)","v":""},{"$f":"IF('Gas Cylinder Information'!G230=\"\",\"\",'Gas Cylinder Information'!G230)","v":""}]
[{"$f":"IF('Gas Cylinder Information'!A231=\"\",\"\",'Gas Cylinder Information'!A231)","v":""},{"$f":"IF('Gas Cylinder Information'!C231=\"\",\"\",'Gas Cylinder Information'!C231)","v":""},{"$f":"IF('Gas Cylinder Information'!D231=\"\",\"\",'Gas Cylinder Information'!D231)","v":""},{"$f":"IF('Gas Cylinder Information'!B231=\"\",\"\",'Gas Cylinder Information'!B231)","v":""},{"$f":"IF('Gas Cylinder Information'!E231=\"\",\"\",'Gas Cylinder Information'!E231)","v":""},{"$f":"IF('Gas Cylinder Information'!F231=\"\",\"\",'Gas Cylinder Information'!F231)","v":""},{"$f":"IF('Gas Cylinder Information'!G231=\"\",\"\",'Gas Cylinder Information'!G231)","v":""}]
[{"$f":"IF('Gas Cylinder Information'!A232=\"\",\"\",'Gas Cylinder Information'!A232)","v":""},{"$f":"IF('Gas Cylinder Information'!C232=\"\",\"\",'Gas Cylinder Information'!C232)","v":""},{"$f":"IF('Gas Cylinder Information'!D232=\"\",\"\",'Gas Cylinder Information'!D232)","v":""},{"$f":"IF('Gas Cylinder Information'!B232=\"\",\"\",'Gas Cylinder Information'!B232)","v":""},{"$f":"IF('Gas Cylinder Information'!E232=\"\",\"\",'Gas Cylinder Information'!E232)","v":""},{"$f":"IF('Gas Cylinder Information'!F232=\"\",\"\",'Gas Cylinder Information'!F232)","v":""},{"$f":"IF('Gas Cylinder Information'!G232=\"\",\"\",'Gas Cylinder Information'!G232)","v":""}]
[{"$f":"IF('Gas Cylinder Information'!A233=\"\",\"\",'Gas Cylinder Information'!A233)","v":""},{"$f":"IF('Gas Cylinder Information'!C233=\"\",\"\",'Gas Cylinder Information'!C233)","v":""},{"$f":"IF('Gas Cylinder Information'!D233=\"\",\"\",'Gas Cylinder Information'!D233)","v":""},{"$f":"IF('Gas Cylinder Information'!B233=\"\",\"\",'Gas Cylinder Information'!B233)","v":""},{"$f":"IF('Gas Cylinder Information'!E233=\"\",\"\",'Gas Cylinder Information'!E233)","v":""},{"$f":"IF('Gas Cylinder Information'!F233=\"\",\"\",'Gas Cylinder Information'!F233)","v":""},{"$f":"IF('Gas Cylinder Information'!G233=\"\",\"\",'Gas Cylinder Information'!G233)","v":""}]
[{"$f":"IF('Gas Cylinder Information'!A234=\"\",\"\",'Gas Cylinder Information'!A234)","v":""},{"$f":"IF('Gas Cylinder Information'!C234=\"\",\"\",'Gas Cylinder Information'!C234)","v":""},{"$f":"IF('Gas Cylinder Information'!D234=\"\",\"\",'Gas Cylinder Information'!D234)","v":""},{"$f":"IF('Gas Cylinder Information'!B234=\"\",\"\",'Gas Cylinder Information'!B234)","v":""},{"$f":"IF('Gas Cylinder Information'!E234=\"\",\"\",'Gas Cylinder Information'!E234)","v":""},{"$f":"IF('Gas Cylinder Information'!F234=\"\",\"\",'Gas Cylinder Information'!F234)","v":""},{"$f":"IF('Gas Cylinder Information'!G234=\"\",\"\",'Gas Cylinder Information'!G234)","v":""}]
[{"$f":"IF('Gas Cylinder Information'!A235=\"\",\"\",'Gas Cylinder Information'!A235)","v":""},{"$f":"IF('Gas Cylinder Information'!C235=\"\",\"\",'Gas Cylinder Information'!C235)","v":""},{"$f":"IF('Gas Cylinder Information'!D235=\"\",\"\",'Gas Cylinder Information'!D235)","v":""},{"$f":"IF('Gas Cylinder Information'!B235=\"\",\"\",'Gas Cylinder Information'!B235)","v":""},{"$f":"IF('Gas Cylinder Information'!E235=\"\",\"\",'Gas Cylinder Information'!E235)","v":""},{"$f":"IF('Gas Cylinder Information'!F235=\"\",\"\",'Gas Cylinder Information'!F235)","v":""},{"$f":"IF('Gas Cylinder Information'!G235=\"\",\"\",'Gas Cylinder Information'!G235)","v":""}]
[{"$f":"IF('Gas Cylinder Information'!A236=\"\",\"\",'Gas Cylinder Information'!A236)","v":""},{"$f":"IF('Gas Cylinder Information'!C236=\"\",\"\",'Gas Cylinder Information'!C236)","v":""},{"$f":"IF('Gas Cylinder Information'!D236=\"\",\"\",'Gas Cylinder Information'!D236)","v":""},{"$f":"IF('Gas Cylinder Information'!B236=\"\",\"\",'Gas Cylinder Information'!B236)","v":""},{"$f":"IF('Gas Cylinder Information'!E236=\"\",\"\",'Gas Cylinder Information'!E236)","v":""},{"$f":"IF('Gas Cylinder Information'!F236=\"\",\"\",'Gas Cylinder Information'!F236)","v":""},{"$f":"IF('Gas Cylinder Information'!G236=\"\",\"\",'Gas Cylinder Information'!G236)","v":""}]
[{"$f":"IF('Gas Cylinder Information'!A237=\"\",\"\",'Gas Cylinder Information'!A237)","v":""},{"$f":"IF('Gas Cylinder Information'!C237=\"\",\"\",'Gas Cylinder Information'!C237)","v":""},{"$f":"IF('Gas Cylinder Information'!D237=\"\",\"\",'Gas Cylinder Information'!D237)","v":""},{"$f":"IF('Gas Cylinder Information'!B237=\"\",\"\",'Gas Cylinder Information'!B237)","v":""},{"$f":"IF('Gas Cylinder Information'!E237=\"\",\"\",'Gas Cylinder Information'!E237)","v":""},{"$f":"IF('Gas Cylinder Information'!F237=\"\",\"\",'Gas Cylinder Information'!F237)","v":""},{"$f":"IF('Gas Cylinder Information'!G237=\"\",\"\",'Gas Cylinder Information'!G237)","v":""}]
[{"$f":"IF('Gas Cylinder Information'!A238=\"\",\"\",'Gas Cylinder Information'!A238)","v":""},{"$f":"IF('Gas Cylinder Information'!C238=\"\",\"\",'Gas Cylinder Information'!C238)","v":""},{"$f":"IF('Gas Cylinder Information'!D238=\"\",\"\",'Gas Cylinder Information'!D238)","v":""},{"$f":"IF('Gas Cylinder Information'!B238=\"\",\"\",'Gas Cylinder Information'!B238)","v":""},{"$f":"IF('Gas Cylinder Information'!E238=\"\",\"\",'Gas Cylinder Information'!E238)","v":""},{"$f":"IF('Gas Cylinder Information'!F238=\"\",\"\",'Gas Cylinder Information'!F238)","v":""},{"$f":"IF('Gas Cylinder Information'!G238=\"\",\"\",'Gas Cylinder Information'!G238)","v":""}]
[{"$f":"IF('Gas Cylinder Information'!A239=\"\",\"\",'Gas Cylinder Information'!A239)","v":""},{"$f":"IF('Gas Cylinder Information'!C239=\"\",\"\",'Gas Cylinder Information'!C239)","v":""},{"$f":"IF('Gas Cylinder Information'!D239=\"\",\"\",'Gas Cylinder Information'!D239)","v":""},{"$f":"IF('Gas Cylinder Information'!B239=\"\",\"\",'Gas Cylinder Information'!B239)","v":""},{"$f":"IF('Gas Cylinder Information'!E239=\"\",\"\",'Gas Cylinder Information'!E239)","v":""},{"$f":"IF('Gas Cylinder Information'!F239=\"\",\"\",'Gas Cylinder Information'!F239)","v":""},{"$f":"IF('Gas Cylinder Information'!G239=\"\",\"\",'Gas Cylinder Information'!G239)","v":""}]
[{"$f":"IF('Gas Cylinder Information'!A240=\"\",\"\",'Gas Cylinder Information'!A240)","v":""},{"$f":"IF('Gas Cylinder Information'!C240=\"\",\"\",'Gas Cylinder Information'!C240)","v":""},{"$f":"IF('Gas Cylinder Information'!D240=\"\",\"\",'Gas Cylinder Information'!D240)","v":""},{"$f":"IF('Gas Cylinder Information'!B240=\"\",\"\",'Gas Cylinder Information'!B240)","v":""},{"$f":"IF('Gas Cylinder Information'!E240=\"\",\"\",'Gas Cylinder Information'!E240)","v":""},{"$f":"IF('Gas Cylinder Information'!F240=\"\",\"\",'Gas Cylinder Information'!F240)","v":""},{"$f":"IF('Gas Cylinder Information'!G240=\"\",\"\",'Gas Cylinder Information'!G240)","v":""}]
[{"$f":"IF('Gas Cylinder Information'!A241=\"\",\"\",'Gas Cylinder Information'!A241)","v":""},{"$f":"IF('Gas Cylinder Information'!C241=\"\",\"\",'Gas Cylinder Information'!C241)","v":""},{"$f":"IF('Gas Cylinder Information'!D241=\"\",\"\",'Gas Cylinder Information'!D241)","v":""},{"$f":"IF('Gas Cylinder Information'!B241=\"\",\"\",'Gas Cylinder Information'!B241)","v":""},{"$f":"IF('Gas Cylinder Information'!E241=\"\",\"\",'Gas Cylinder Information'!E241)","v":""},{"$f":"IF('Gas Cylinder Information'!F241=\"\",\"\",'Gas Cylinder Information'!F241)","v":""},{"$f":"IF('Gas Cylinder Information'!G241=\"\",\"\",'Gas Cylinder Information'!G241)","v":""}]
[{"$f":"IF('Gas Cylinder Information'!A242=\"\",\"\",'Gas Cylinder Information'!A242)","v":""},{"$f":"IF('Gas Cylinder Information'!C242=\"\",\"\",'Gas Cylinder Information'!C242)","v":""},{"$f":"IF('Gas Cylinder Information'!D242=\"\",\"\",'Gas Cylinder Information'!D242)","v":""},{"$f":"IF('Gas Cylinder Information'!B242=\"\",\"\",'Gas Cylinder Information'!B242)","v":""},{"$f":"IF('Gas Cylinder Information'!E242=\"\",\"\",'Gas Cylinder Information'!E242)","v":""},{"$f":"IF('Gas Cylinder Information'!F242=\"\",\"\",'Gas Cylinder Information'!F242)","v":""},{"$f":"IF('Gas Cylinder Information'!G242=\"\",\"\",'Gas Cylinder Information'!G242)","v":""}]
[{"$f":"IF('Gas Cylinder Information'!A243=\"\",\"\",'Gas Cylinder Information'!A243)","v":""},{"$f":"IF('Gas Cylinder Information'!C243=\"\",\"\",'Gas Cylinder Information'!C243)","v":""},{"$f":"IF('Gas Cylinder Information'!D243=\"\",\"\",'Gas Cylinder Information'!D243)","v":""},{"$f":"IF('Gas Cylinder Information'!B243=\"\",\"\",'Gas Cylinder Information'!B243)","v":""},{"$f":"IF('Gas Cylinder Information'!E243=\"\",\"\",'Gas Cylinder Information'!E243)","v":""},{"$f":"IF('Gas Cylinder Information'!F243=\"\",\"\",'Gas Cylinder Information'!F243)","v":""},{"$f":"IF('Gas Cylinder Information'!G243=\"\",\"\",'Gas Cylinder Information'!G243)","v":""}]
[{"$f":"IF('Gas Cylinder Information'!A244=\"\",\"\",'Gas Cylinder Information'!A244)","v":""},{"$f":"IF('Gas Cylinder Information'!C244=\"\",\"\",'Gas Cylinder Information'!C244)","v":""},{"$f":"IF('Gas Cylinder Information'!D244=\"\",\"\",'Gas Cylinder Information'!D244)","v":""},{"$f":"IF('Gas Cylinder Information'!B244=\"\",\"\",'Gas Cylinder Information'!B244)","v":""},{"$f":"IF('Gas Cylinder Information'!E244=\"\",\"\",'Gas Cylinder Information'!E244)","v":""},{"$f":"IF('Gas Cylinder Information'!F244=\"\",\"\",'Gas Cylinder Information'!F244)","v":""},{"$f":"IF('Gas Cylinder Information'!G244=\"\",\"\",'Gas Cylinder Information'!G244)","v":""}]
[{"$f":"IF('Gas Cylinder Information'!A245=\"\",\"\",'Gas Cylinder Information'!A245)","v":""},{"$f":"IF('Gas Cylinder Information'!C245=\"\",\"\",'Gas Cylinder Information'!C245)","v":""},{"$f":"IF('Gas Cylinder Information'!D245=\"\",\"\",'Gas Cylinder Information'!D245)","v":""},{"$f":"IF('Gas Cylinder Information'!B245=\"\",\"\",'Gas Cylinder Information'!B245)","v":""},{"$f":"IF('Gas Cylinder Information'!E245=\"\",\"\",'Gas Cylinder Information'!E245)","v":""},{"$f":"IF('Gas Cylinder Information'!F245=\"\",\"\",'Gas Cylinder Information'!F245)","v":""},{"$f":"IF('Gas Cylinder Information'!G245=\"\",\"\",'Gas Cylinder Information'!G245)","v":""}]
[{"$f":"IF('Gas Cylinder Information'!A246=\"\",\"\",'Gas Cylinder Information'!A246)","v":""},{"$f":"IF('Gas Cylinder Information'!C246=\"\",\"\",'Gas Cylinder Information'!C246)","v":""},{"$f":"IF('Gas Cylinder Information'!D246=\"\",\"\",'Gas Cylinder Information'!D246)","v":""},{"$f":"IF('Gas Cylinder Information'!B246=\"\",\"\",'Gas Cylinder Information'!B246)","v":""},{"$f":"IF('Gas Cylinder Information'!E246=\"\",\"\",'Gas Cylinder Information'!E246)","v":""},{"$f":"IF('Gas Cylinder Information'!F246=\"\",\"\",'Gas Cylinder Information'!F246)","v":""},{"$f":"IF('Gas Cylinder Information'!G246=\"\",\"\",'Gas Cylinder Information'!G246)","v":""}]
[{"$f":"IF('Gas Cylinder Information'!A247=\"\",\"\",'Gas Cylinder Information'!A247)","v":""},{"$f":"IF('Gas Cylinder Information'!C247=\"\",\"\",'Gas Cylinder Information'!C247)","v":""},{"$f":"IF('Gas Cylinder Information'!D247=\"\",\"\",'Gas Cylinder Information'!D247)","v":""},{"$f":"IF('Gas Cylinder Information'!B247=\"\",\"\",'Gas Cylinder Information'!B247)","v":""},{"$f":"IF('Gas Cylinder Information'!E247=\"\",\"\",'Gas Cylinder Information'!E247)","v":""},{"$f":"IF('Gas Cylinder Information'!F247=\"\",\"\",'Gas Cylinder Information'!F247)","v":""},{"$f":"IF('Gas Cylinder Information'!G247=\"\",\"\",'Gas Cylinder Information'!G247)","v":""}]
[{"$f":"IF('Gas Cylinder Information'!A248=\"\",\"\",'Gas Cylinder Information'!A248)","v":""},{"$f":"IF('Gas Cylinder Information'!C248=\"\",\"\",'Gas Cylinder Information'!C248)","v":""},{"$f":"IF('Gas Cylinder Information'!D248=\"\",\"\",'Gas Cylinder Information'!D248)","v":""},{"$f":"IF('Gas Cylinder Information'!B248=\"\",\"\",'Gas Cylinder Information'!B248)","v":""},{"$f":"IF('Gas Cylinder Information'!E248=\"\",\"\",'Gas Cylinder Information'!E248)","v":""},{"$f":"IF('Gas Cylinder Information'!F248=\"\",\"\",'Gas Cylinder Information'!F248)","v":""},{"$f":"IF('Gas Cylinder Information'!G248=\"\",\"\",'Gas Cylinder Information'!G248)","v":""}]
[{"$f":"IF('Gas Cylinder Information'!A249=\"\",\"\",'Gas Cylinder Information'!A249)","v":""},{"$f":"IF('Gas Cylinder Information'!C249=\"\",\"\",'Gas Cylinder Information'!C249)","v":""},{"$f":"IF('Gas Cylinder Information'!D249=\"\",\"\",'Gas Cylinder Information'!D249)","v":""},{"$f":"IF('Gas Cylinder Information'!B249=\"\",\"\",'Gas Cylinder Information'!B249)","v":""},{"$f":"IF('Gas Cylinder Information'!E249=\"\",\"\",'Gas Cylinder Information'!E249)","v":""},{"$f":"IF('Gas Cylinder Information'!F249=\"\",\"\",'Gas Cylinder Information'!F249)","v":""},{"$f":"IF('Gas Cylinder Information'!G249=\"\",\"\",'Gas Cylinder Information'!G249)","v":""}]
[{"$f":"IF('Gas Cylinder Information'!A250=\"\",\"\",'Gas Cylinder Information'!A250)","v":""},{"$f":"IF('Gas Cylinder Information'!C250=\"\",\"\",'Gas Cylinder Information'!C250)","v":""},{"$f":"IF('Gas Cylinder Information'!D250=\"\",\"\",'Gas Cylinder Information'!D250)","v":""},{"$f":"IF('Gas Cylinder Information'!B250=\"\",\"\",'Gas Cylinder Information'!B250)","v":""},{"$f":"IF('Gas Cylinder Information'!E250=\"\",\"\",'Gas Cylinder Information'!E250)","v":""},{"$f":"IF('Gas Cylinder Information'!F250=\"\",\"\",'Gas Cylinder Information'!F250)","v":""},{"$f":"IF('Gas Cylinder Information'!G250=\"\",\"\",'Gas Cylinder Information'!G250)","v":""}]
[{"$f":"IF('Gas Cylinder Information'!A251=\"\",\"\",'Gas Cylinder Information'!A251)","v":""},{"$f":"IF('Gas Cylinder Information'!C251=\"\",\"\",'Gas Cylinder Information'!C251)","v":""},{"$f":"IF('Gas Cylinder Information'!D251=\"\",\"\",'Gas Cylinder Information'!D251)","v":""},{"$f":"IF('Gas Cylinder Information'!B251=\"\",\"\",'Gas Cylinder Information'!B251)","v":""},{"$f":"IF('Gas Cylinder Information'!E251=\"\",\"\",'Gas Cylinder Information'!E251)","v":""},{"$f":"IF('Gas Cylinder Information'!F251=\"\",\"\",'Gas Cylinder Information'!F251)","v":""},{"$f":"IF('Gas Cylinder Information'!G251=\"\",\"\",'Gas Cylinder Information'!G251)","v":""}]
[{"$f":"IF('Gas Cylinder Information'!A252=\"\",\"\",'Gas Cylinder Information'!A252)","v":""},{"$f":"IF('Gas Cylinder Information'!C252=\"\",\"\",'Gas Cylinder Information'!C252)","v":""},{"$f":"IF('Gas Cylinder Information'!D252=\"\",\"\",'Gas Cylinder Information'!D252)","v":""},{"$f":"IF('Gas Cylinder Information'!B252=\"\",\"\",'Gas Cylinder Information'!B252)","v":""},{"$f":"IF('Gas Cylinder Information'!E252=\"\",\"\",'Gas Cylinder Information'!E252)","v":""},{"$f":"IF('Gas Cylinder Information'!F252=\"\",\"\",'Gas Cylinder Information'!F252)","v":""},{"$f":"IF('Gas Cylinder Information'!G252=\"\",\"\",'Gas Cylinder Information'!G252)","v":""}]
[{"$f":"IF('Gas Cylinder Information'!A253=\"\",\"\",'Gas Cylinder Information'!A253)","v":""},{"$f":"IF('Gas Cylinder Information'!C253=\"\",\"\",'Gas Cylinder Information'!C253)","v":""},{"$f":"IF('Gas Cylinder Information'!D253=\"\",\"\",'Gas Cylinder Information'!D253)","v":""},{"$f":"IF('Gas Cylinder Information'!B253=\"\",\"\",'Gas Cylinder Information'!B253)","v":""},{"$f":"IF('Gas Cylinder Information'!E253=\"\",\"\",'Gas Cylinder Information'!E253)","v":""},{"$f":"IF('Gas Cylinder Information'!F253=\"\",\"\",'Gas Cylinder Information'!F253)","v":""},{"$f":"IF('Gas Cylinder Information'!G253=\"\",\"\",'Gas Cylinder Information'!G253)","v":""}]
[{"$f":"IF('Gas Cylinder Information'!A254=\"\",\"\",'Gas Cylinder Information'!A254)","v":""},{"$f":"IF('Gas Cylinder Information'!C254=\"\",\"\",'Gas Cylinder Information'!C254)","v":""},{"$f":"IF('Gas Cylinder Information'!D254=\"\",\"\",'Gas Cylinder Information'!D254)","v":""},{"$f":"IF('Gas Cylinder Information'!B254=\"\",\"\",'Gas Cylinder Information'!B254)","v":""},{"$f":"IF('Gas Cylinder Information'!E254=\"\",\"\",'Gas Cylinder Information'!E254)","v":""},{"$f":"IF('Gas Cylinder Information'!F254=\"\",\"\",'Gas Cylinder Information'!F254)","v":""},{"$f":"IF('Gas Cylinder Information'!G254=\"\",\"\",'Gas Cylinder Information'!G254)","v":""}]
[{"$f":"IF('Gas Cylinder Information'!A255=\"\",\"\",'Gas Cylinder Information'!A255)","v":""},{"$f":"IF('Gas Cylinder Information'!C255=\"\",\"\",'Gas Cylinder Information'!C255)","v":""},{"$f":"IF('Gas Cylinder Information'!D255=\"\",\"\",'Gas Cylinder Information'!D255)","v":""},{"$f":"IF('Gas Cylinder Information'!B255=\"\",\"\",'Gas Cylinder Information'!B255)","v":""},{"$f":"IF('Gas Cylinder Information'!E255=\"\",\"\",'Gas Cylinder Information'!E255)","v":""},{"$f":"IF('Gas Cylinder Information'!F255=\"\",\"\",'Gas Cylinder Information'!F255)","v":""},{"$f":"IF('Gas Cylinder Information'!G255=\"\",\"\",'Gas Cylinder Information'!G255)","v":""}]
[{"$f":"IF('Gas Cylinder Information'!A256=\"\",\"\",'Gas Cylinder Information'!A256)","v":""},{"$f":"IF('Gas Cylinder Information'!C256=\"\",\"\",'Gas Cylinder Information'!C256)","v":""},{"$f":"IF('Gas Cylinder Information'!D256=\"\",\"\",'Gas Cylinder Information'!D256)","v":""},{"$f":"IF('Gas Cylinder Information'!B256=\"\",\"\",'Gas Cylinder Information'!B256)","v":""},{"$f":"IF('Gas Cylinder Information'!E256=\"\",\"\",'Gas Cylinder Information'!E256)","v":""},{"$f":"IF('Gas Cylinder Information'!F256=\"\",\"\",'Gas Cylinder Information'!F256)","v":""},{"$f":"IF('Gas Cylinder Information'!G256=\"\",\"\",'Gas Cylinder Information'!G256)","v":""}]
[{"$f":"IF('Gas Cylinder Information'!A257=\"\",\"\",'Gas Cylinder Information'!A257)","v":""},{"$f":"IF('Gas Cylinder Information'!C257=\"\",\"\",'Gas Cylinder Information'!C257)","v":""},{"$f":"IF('Gas Cylinder Information'!D257=\"\",\"\",'Gas Cylinder Information'!D257)","v":""},{"$f":"IF('Gas Cylinder Information'!B257=\"\",\"\",'Gas Cylinder Information'!B257)","v":""},{"$f":"IF('Gas Cylinder Information'!E257=\"\",\"\",'Gas Cylinder Information'!E257)","v":""},{"$f":"IF('Gas Cylinder Information'!F257=\"\",\"\",'Gas Cylinder Information'!F257)","v":""},{"$f":"IF('Gas Cylinder Information'!G257=\"\",\"\",'Gas Cylinder Information'!G257)","v":""}]
[{"$f":"IF('Gas Cylinder Information'!A258=\"\",\"\",'Gas Cylinder Information'!A258)","v":""},{"$f":"IF('Gas Cylinder Information'!C258=\"\",\"\",'Gas Cylinder Information'!C258)","v":""},{"$f":"IF('Gas Cylinder Information'!D258=\"\",\"\",'Gas Cylinder Information'!D258)","v":""},{"$f":"IF('Gas Cylinder Information'!B258=\"\",\"\",'Gas Cylinder Information'!B258)","v":""},{"$f":"IF('Gas Cylinder Information'!E258=\"\",\"\",'Gas Cylinder Information'!E258)","v":""},{"$f":"IF('Gas Cylinder Information'!F258=\"\",\"\",'Gas Cylinder Information'!F258)","v":""},{"$f":"IF('Gas Cylinder Information'!G258=\"\",\"\",'Gas Cylinder Information'!G258)","v":""}]
[{"$f":"IF('Gas Cylinder Information'!A259=\"\",\"\",'Gas Cylinder Information'!A259)","v":""},{"$f":"IF('Gas Cylinder Information'!C259=\"\",\"\",'Gas Cylinder Information'!C259)","v":""},{"$f":"IF('Gas Cylinder Information'!D259=\"\",\"\",'Gas Cylinder Information'!D259)","v":""},{"$f":"IF('Gas Cylinder Information'!B259=\"\",\"\",'Gas Cylinder Information'!B259)","v":""},{"$f":"IF('Gas Cylinder Information'!E259=\"\",\"\",'Gas Cylinder Information'!E259)","v":""},{"$f":"IF('Gas Cylinder Information'!F259=\"\",\"\",'Gas Cylinder Information'!F259)","v":""},{"$f":"IF('Gas Cylinder Information'!G259=\"\",\"\",'Gas Cylinder Information'!G259)","v":""}]
[{"$f":"IF('Gas Cylinder Information'!A260=\"\",\"\",'Gas Cylinder Information'!A260)","v":""},{"$f":"IF('Gas Cylinder Information'!C260=\"\",\"\",'Gas Cylinder Information'!C260)","v":""},{"$f":"IF('Gas Cylinder Information'!D260=\"\",\"\",'Gas Cylinder Information'!D260)","v":""},{"$f":"IF('Gas Cylinder Information'!B260=\"\",\"\",'Gas Cylinder Information'!B260)","v":""},{"$f":"IF('Gas Cylinder Information'!E260=\"\",\"\",'Gas Cylinder Information'!E260)","v":""},{"$f":"IF('Gas Cylinder Information'!F260=\"\",\"\",'Gas Cylinder Information'!F260)","v":""},{"$f":"IF('Gas Cylinder Information'!G260=\"\",\"\",'Gas Cylinder Information'!G260)","v":""}]
[{"$f":"IF('Gas Cylinder Information'!A261=\"\",\"\",'Gas Cylinder Information'!A261)","v":""},{"$f":"IF('Gas Cylinder Information'!C261=\"\",\"\",'Gas Cylinder Information'!C261)","v":""},{"$f":"IF('Gas Cylinder Information'!D261=\"\",\"\",'Gas Cylinder Information'!D261)","v":""},{"$f":"IF('Gas Cylinder Information'!B261=\"\",\"\",'Gas Cylinder Information'!B261)","v":""},{"$f":"IF('Gas Cylinder Information'!E261=\"\",\"\",'Gas Cylinder Information'!E261)","v":""},{"$f":"IF('Gas Cylinder Information'!F261=\"\",\"\",'Gas Cylinder Information'!F261)","v":""},{"$f":"IF('Gas Cylinder Information'!G261=\"\",\"\",'Gas Cylinder Information'!G261)","v":""}]
[{"$f":"IF('Gas Cylinder Information'!A262=\"\",\"\",'Gas Cylinder Information'!A262)","v":""},{"$f":"IF('Gas Cylinder Information'!C262=\"\",\"\",'Gas Cylinder Information'!C262)","v":""},{"$f":"IF('Gas Cylinder Information'!D262=\"\",\"\",'Gas Cylinder Information'!D262)","v":""},{"$f":"IF('Gas Cylinder Information'!B262=\"\",\"\",'Gas Cylinder Information'!B262)","v":""},{"$f":"IF('Gas Cylinder Information'!E262=\"\",\"\",'Gas Cylinder Information'!E262)","v":""},{"$f":"IF('Gas Cylinder Information'!F262=\"\",\"\",'Gas Cylinder Information'!F262)","v":""},{"$f":"IF('Gas Cylinder Information'!G262=\"\",\"\",'Gas Cylinder Information'!G262)","v":""}]
[{"$f":"IF('Gas Cylinder Information'!A263=\"\",\"\",'Gas Cylinder Information'!A263)","v":""},{"$f":"IF('Gas Cylinder Information'!C263=\"\",\"\",'Gas Cylinder Information'!C263)","v":""},{"$f":"IF('Gas Cylinder Information'!D263=\"\",\"\",'Gas Cylinder Information'!D263)","v":""},{"$f":"IF('Gas Cylinder Information'!B263=\"\",\"\",'Gas Cylinder Information'!B263)","v":""},{"$f":"IF('Gas Cylinder Information'!E263=\"\",\"\",'Gas Cylinder Information'!E263)","v":""},{"$f":"IF('Gas Cylinder Information'!F263=\"\",\"\",'Gas Cylinder Information'!F263)","v":""},{"$f":"IF('Gas Cylinder Information'!G263=\"\",\"\",'Gas Cylinder Information'!G263)","v":""}]
[{"$f":"IF('Gas Cylinder Information'!A264=\"\",\"\",'Gas Cylinder Information'!A264)","v":""},{"$f":"IF('Gas Cylinder Information'!C264=\"\",\"\",'Gas Cylinder Information'!C264)","v":""},{"$f":"IF('Gas Cylinder Information'!D264=\"\",\"\",'Gas Cylinder Information'!D264)","v":""},{"$f":"IF('Gas Cylinder Information'!B264=\"\",\"\",'Gas Cylinder Information'!B264)","v":""},{"$f":"IF('Gas Cylinder Information'!E264=\"\",\"\",'Gas Cylinder Information'!E264)","v":""},{"$f":"IF('Gas Cylinder Information'!F264=\"\",\"\",'Gas Cylinder Information'!F264)","v":""},{"$f":"IF('Gas Cylinder Information'!G264=\"\",\"\",'Gas Cylinder Information'!G264)","v":""}]
[{"$f":"IF('Gas Cylinder Information'!A265=\"\",\"\",'Gas Cylinder Information'!A265)","v":""},{"$f":"IF('Gas Cylinder Information'!C265=\"\",\"\",'Gas Cylinder Information'!C265)","v":""},{"$f":"IF('Gas Cylinder Information'!D265=\"\",\"\",'Gas Cylinder Information'!D265)","v":""},{"$f":"IF('Gas Cylinder Information'!B265=\"\",\"\",'Gas Cylinder Information'!B265)","v":""},{"$f":"IF('Gas Cylinder Information'!E265=\"\",\"\",'Gas Cylinder Information'!E265)","v":""},{"$f":"IF('Gas Cylinder Information'!F265=\"\",\"\",'Gas Cylinder Information'!F265)","v":""},{"$f":"IF('Gas Cylinder Information'!G265=\"\",\"\",'Gas Cylinder Information'!G265)","v":""}]
[{"$f":"IF('Gas Cylinder Information'!A266=\"\",\"\",'Gas Cylinder Information'!A266)","v":""},{"$f":"IF('Gas Cylinder Information'!C266=\"\",\"\",'Gas Cylinder Information'!C266)","v":""},{"$f":"IF('Gas Cylinder Information'!D266=\"\",\"\",'Gas Cylinder Information'!D266)","v":""},{"$f":"IF('Gas Cylinder Information'!B266=\"\",\"\",'Gas Cylinder Information'!B266)","v":""},{"$f":"IF('Gas Cylinder Information'!E266=\"\",\"\",'Gas Cylinder Information'!E266)","v":""},{"$f":"IF('Gas Cylinder Information'!F266=\"\",\"\",'Gas Cylinder Information'!F266)","v":""},{"$f":"IF('Gas Cylinder Information'!G266=\"\",\"\",'Gas Cylinder Information'!G266)","v":""}]
[{"$f":"IF('Gas Cylinder Information'!A267=\"\",\"\",'Gas Cylinder Information'!A267)","v":""},{"$f":"IF('Gas Cylinder Information'!C267=\"\",\"\",'Gas Cylinder Information'!C267)","v":""},{"$f":"IF('Gas Cylinder Information'!D267=\"\",\"\",'Gas Cylinder Information'!D267)","v":""},{"$f":"IF('Gas Cylinder Information'!B267=\"\",\"\",'Gas Cylinder Information'!B267)","v":""},{"$f":"IF('Gas Cylinder Information'!E267=\"\",\"\",'Gas Cylinder Information'!E267)","v":""},{"$f":"IF('Gas Cylinder Information'!F267=\"\",\"\",'Gas Cylinder Information'!F267)","v":""},{"$f":"IF('Gas Cylinder Information'!G267=\"\",\"\",'Gas Cylinder Information'!G267)","v":""}]
[{"$f":"IF('Gas Cylinder Information'!A268=\"\",\"\",'Gas Cylinder Information'!A268)","v":""},{"$f":"IF('Gas Cylinder Information'!C268=\"\",\"\",'Gas Cylinder Information'!C268)","v":""},{"$f":"IF('Gas Cylinder Information'!D268=\"\",\"\",'Gas Cylinder Information'!D268)","v":""},{"$f":"IF('Gas Cylinder Information'!B268=\"\",\"\",'Gas Cylinder Information'!B268)","v":""},{"$f":"IF('Gas Cylinder Information'!E268=\"\",\"\",'Gas Cylinder Information'!E268)","v":""},{"$f":"IF('Gas Cylinder Information'!F268=\"\",\"\",'Gas Cylinder Information'!F268)","v":""},{"$f":"IF('Gas Cylinder Information'!G268=\"\",\"\",'Gas Cylinder Information'!G268)","v":""}]
[{"$f":"IF('Gas Cylinder Information'!A269=\"\",\"\",'Gas Cylinder Information'!A269)","v":""},{"$f":"IF('Gas Cylinder Information'!C269=\"\",\"\",'Gas Cylinder Information'!C269)","v":""},{"$f":"IF('Gas Cylinder Information'!D269=\"\",\"\",'Gas Cylinder Information'!D269)","v":""},{"$f":"IF('Gas Cylinder Information'!B269=\"\",\"\",'Gas Cylinder Information'!B269)","v":""},{"$f":"IF('Gas Cylinder Information'!E269=\"\",\"\",'Gas Cylinder Information'!E269)","v":""},{"$f":"IF('Gas Cylinder Information'!F269=\"\",\"\",'Gas Cylinder Information'!F269)","v":""},{"$f":"IF('Gas Cylinder Information'!G269=\"\",\"\",'Gas Cylinder Information'!G269)","v":""}]
[{"$f":"IF('Gas Cylinder Information'!A270=\"\",\"\",'Gas Cylinder Information'!A270)","v":""},{"$f":"IF('Gas Cylinder Information'!C270=\"\",\"\",'Gas Cylinder Information'!C270)","v":""},{"$f":"IF('Gas Cylinder Information'!D270=\"\",\"\",'Gas Cylinder Information'!D270)","v":""},{"$f":"IF('Gas Cylinder Information'!B270=\"\",\"\",'Gas Cylinder Information'!B270)","v":""},{"$f":"IF('Gas Cylinder Information'!E270=\"\",\"\",'Gas Cylinder Information'!E270)","v":""},{"$f":"IF('Gas Cylinder Information'!F270=\"\",\"\",'Gas Cylinder Information'!F270)","v":""},{"$f":"IF('Gas Cylinder Information'!G270=\"\",\"\",'Gas Cylinder Information'!G270)","v":""}]
[{"$f":"IF('Gas Cylinder Information'!A271=\"\",\"\",'Gas Cylinder Information'!A271)","v":""},{"$f":"IF('Gas Cylinder Information'!C271=\"\",\"\",'Gas Cylinder Information'!C271)","v":""},{"$f":"IF('Gas Cylinder Information'!D271=\"\",\"\",'Gas Cylinder Information'!D271)","v":""},{"$f":"IF('Gas Cylinder Information'!B271=\"\",\"\",'Gas Cylinder Information'!B271)","v":""},{"$f":"IF('Gas Cylinder Information'!E271=\"\",\"\",'Gas Cylinder Information'!E271)","v":""},{"$f":"IF('Gas Cylinder Information'!F271=\"\",\"\",'Gas Cylinder Information'!F271)","v":""},{"$f":"IF('Gas Cylinder Information'!G271=\"\",\"\",'Gas Cylinder Information'!G271)","v":""}]
[{"$f":"IF('Gas Cylinder Information'!A272=\"\",\"\",'Gas Cylinder Information'!A272)","v":""},{"$f":"IF('Gas Cylinder Information'!C272=\"\",\"\",'Gas Cylinder Information'!C272)","v":""},{"$f":"IF('Gas Cylinder Information'!D272=\"\",\"\",'Gas Cylinder Information'!D272)","v":""},{"$f":"IF('Gas Cylinder Information'!B272=\"\",\"\",'Gas Cylinder Information'!B272)","v":""},{"$f":"IF('Gas Cylinder Information'!E272=\"\",\"\",'Gas Cylinder Information'!E272)","v":""},{"$f":"IF('Gas Cylinder Information'!F272=\"\",\"\",'Gas Cylinder Information'!F272)","v":""},{"$f":"IF('Gas Cylinder Information'!G272=\"\",\"\",'Gas Cylinder Information'!G272)","v":""}]
[{"$f":"IF('Gas Cylinder Information'!A273=\"\",\"\",'Gas Cylinder Information'!A273)","v":""},{"$f":"IF('Gas Cylinder Information'!C273=\"\",\"\",'Gas Cylinder Information'!C273)","v":""},{"$f":"IF('Gas Cylinder Information'!D273=\"\",\"\",'Gas Cylinder Information'!D273)","v":""},{"$f":"IF('Gas Cylinder Information'!B273=\"\",\"\",'Gas Cylinder Information'!B273)","v":""},{"$f":"IF('Gas Cylinder Information'!E273=\"\",\"\",'Gas Cylinder Information'!E273)","v":""},{"$f":"IF('Gas Cylinder Information'!F273=\"\",\"\",'Gas Cylinder Information'!F273)","v":""},{"$f":"IF('Gas Cylinder Information'!G273=\"\",\"\",'Gas Cylinder Information'!G273)","v":""}]
[{"$f":"IF('Gas Cylinder Information'!A274=\"\",\"\",'Gas Cylinder Information'!A274)","v":""},{"$f":"IF('Gas Cylinder Information'!C274=\"\",\"\",'Gas Cylinder Information'!C274)","v":""},{"$f":"IF('Gas Cylinder Information'!D274=\"\",\"\",'Gas Cylinder Information'!D274)","v":""},{"$f":"IF('Gas Cylinder Information'!B274=\"\",\"\",'Gas Cylinder Information'!B274)","v":""},{"$f":"IF('Gas Cylinder Information'!E274=\"\",\"\",'Gas Cylinder Information'!E274)","v":""},{"$f":"IF('Gas Cylinder Information'!F274=\"\",\"\",'Gas Cylinder Information'!F274)","v":""},{"$f":"IF('Gas Cylinder Information'!G274=\"\",\"\",'Gas Cylinder Information'!G274)","v":""}]
[{"$f":"IF('Gas Cylinder Information'!A275=\"\",\"\",'Gas Cylinder Information'!A275)","v":""},{"$f":"IF('Gas Cylinder Information'!C275=\"\",\"\",'Gas Cylinder Information'!C275)","v":""},{"$f":"IF('Gas Cylinder Information'!D275=\"\",\"\",'Gas Cylinder Information'!D275)","v":""},{"$f":"IF('Gas Cylinder Information'!B275=\"\",\"\",'Gas Cylinder Information'!B275)","v":""},{"$f":"IF('Gas Cylinder Information'!E275=\"\",\"\",'Gas Cylinder Information'!E275)","v":""},{"$f":"IF('Gas Cylinder Information'!F275=\"\",\"\",'Gas Cylinder Information'!F275)","v":""},{"$f":"IF('Gas Cylinder Information'!G275=\"\",\"\",'Gas Cylinder Information'!G275)","v":""}]
[{"$f":"IF('Gas Cylinder Information'!A276=\"\",\"\",'Gas Cylinder Information'!A276)","v":""},{"$f":"IF('Gas Cylinder Information'!C276=\"\",\"\",'Gas Cylinder Information'!C276)","v":""},{"$f":"IF('Gas Cylinder Information'!D276=\"\",\"\",'Gas Cylinder Information'!D276)","v":""},{"$f":"IF('Gas Cylinder Information'!B276=\"\",\"\",'Gas Cylinder Information'!B276)","v":""},{"$f":"IF('Gas Cylinder Information'!E276=\"\",\"\",'Gas Cylinder Information'!E276)","v":""},{"$f":"IF('Gas Cylinder Information'!F276=\"\",\"\",'Gas Cylinder Information'!F276)","v":""},{"$f":"IF('Gas Cylinder Information'!G276=\"\",\"\",'Gas Cylinder Information'!G276)","v":""}]
[{"$f":"IF('Gas Cylinder Information'!A277=\"\",\"\",'Gas Cylinder Information'!A277)","v":""},{"$f":"IF('Gas Cylinder Information'!C277=\"\",\"\",'Gas Cylinder Information'!C277)","v":""},{"$f":"IF('Gas Cylinder Information'!D277=\"\",\"\",'Gas Cylinder Information'!D277)","v":""},{"$f":"IF('Gas Cylinder Information'!B277=\"\",\"\",'Gas Cylinder Information'!B277)","v":""},{"$f":"IF('Gas Cylinder Information'!E277=\"\",\"\",'Gas Cylinder Information'!E277)","v":""},{"$f":"IF('Gas Cylinder Information'!F277=\"\",\"\",'Gas Cylinder Information'!F277)","v":""},{"$f":"IF('Gas Cylinder Information'!G277=\"\",\"\",'Gas Cylinder Information'!G277)","v":""}]
[{"$f":"IF('Gas Cylinder Information'!A278=\"\",\"\",'Gas Cylinder Information'!A278)","v":""},{"$f":"IF('Gas Cylinder Information'!C278=\"\",\"\",'Gas Cylinder Information'!C278)","v":""},{"$f":"IF('Gas Cylinder Information'!D278=\"\",\"\",'Gas Cylinder Information'!D278)","v":""},{"$f":"IF('Gas Cylinder Information'!B278=\"\",\"\",'Gas Cylinder Information'!B278)","v":""},{"$f":"IF('Gas Cylinder Information'!E278=\"\",\"\",'Gas Cylinder Information'!E278)","v":""},{"$f":"IF('Gas Cylinder Information'!F278=\"\",\"\",'Gas Cylinder Information'!F278)","v":""},{"$f":"IF('Gas Cylinder Information'!G278=\"\",\"\",'Gas Cylinder Information'!G278)","v":""}]
[{"$f":"IF('Gas Cylinder Information'!A279=\"\",\"\",'Gas Cylinder Information'!A279)","v":""},{"$f":"IF('Gas Cylinder Information'!C279=\"\",\"\",'Gas Cylinder Information'!C279)","v":""},{"$f":"IF('Gas Cylinder Information'!D279=\"\",\"\",'Gas Cylinder Information'!D279)","v":""},{"$f":"IF('Gas Cylinder Information'!B279=\"\",\"\",'Gas Cylinder Information'!B279)","v":""},{"$f":"IF('Gas Cylinder Information'!E279=\"\",\"\",'Gas Cylinder Information'!E279)","v":""},{"$f":"IF('Gas Cylinder Information'!F279=\"\",\"\",'Gas Cylinder Information'!F279)","v":""},{"$f":"IF('Gas Cylinder Information'!G279=\"\",\"\",'Gas Cylinder Information'!G279)","v":""}]
[{"$f":"IF('Gas Cylinder Information'!A280=\"\",\"\",'Gas Cylinder Information'!A280)","v":""},{"$f":"IF('Gas Cylinder Information'!C280=\"\",\"\",'Gas Cylinder Information'!C280)","v":""},{"$f":"IF('Gas Cylinder Information'!D280=\"\",\"\",'Gas Cylinder Information'!D280)","v":""},{"$f":"IF('Gas Cylinder Information'!B280=\"\",\"\",'Gas Cylinder Information'!B280)","v":""},{"$f":"IF('Gas Cylinder Information'!E280=\"\",\"\",'Gas Cylinder Information'!E280)","v":""},{"$f":"IF('Gas Cylinder Information'!F280=\"\",\"\",'Gas Cylinder Information'!F280)","v":""},{"$f":"IF('Gas Cylinder Information'!G280=\"\",\"\",'Gas Cylinder Information'!G280)","v":""}]
[{"$f":"IF('Gas Cylinder Information'!A281=\"\",\"\",'Gas Cylinder Information'!A281)","v":""},{"$f":"IF('Gas Cylinder Information'!C281=\"\",\"\",'Gas Cylinder Information'!C281)","v":""},{"$f":"IF('Gas Cylinder Information'!D281=\"\",\"\",'Gas Cylinder Information'!D281)","v":""},{"$f":"IF('Gas Cylinder Information'!B281=\"\",\"\",'Gas Cylinder Information'!B281)","v":""},{"$f":"IF('Gas Cylinder Information'!E281=\"\",\"\",'Gas Cylinder Information'!E281)","v":""},{"$f":"IF('Gas Cylinder Information'!F281=\"\",\"\",'Gas Cylinder Information'!F281)","v":""},{"$f":"IF('Gas Cylinder Information'!G281=\"\",\"\",'Gas Cylinder Information'!G281)","v":""}]
[{"$f":"IF('Gas Cylinder Information'!A282=\"\",\"\",'Gas Cylinder Information'!A282)","v":""},{"$f":"IF('Gas Cylinder Information'!C282=\"\",\"\",'Gas Cylinder Information'!C282)","v":""},{"$f":"IF('Gas Cylinder Information'!D282=\"\",\"\",'Gas Cylinder Information'!D282)","v":""},{"$f":"IF('Gas Cylinder Information'!B282=\"\",\"\",'Gas Cylinder Information'!B282)","v":""},{"$f":"IF('Gas Cylinder Information'!E282=\"\",\"\",'Gas Cylinder Information'!E282)","v":""},{"$f":"IF('Gas Cylinder Information'!F282=\"\",\"\",'Gas Cylinder Information'!F282)","v":""},{"$f":"IF('Gas Cylinder Information'!G282=\"\",\"\",'Gas Cylinder Information'!G282)","v":""}]
[{"$f":"IF('Gas Cylinder Information'!A283=\"\",\"\",'Gas Cylinder Information'!A283)","v":""},{"$f":"IF('Gas Cylinder Information'!C283=\"\",\"\",'Gas Cylinder Information'!C283)","v":""},{"$f":"IF('Gas Cylinder Information'!D283=\"\",\"\",'Gas Cylinder Information'!D283)","v":""},{"$f":"IF('Gas Cylinder Information'!B283=\"\",\"\",'Gas Cylinder Information'!B283)","v":""},{"$f":"IF('Gas Cylinder Information'!E283=\"\",\"\",'Gas Cylinder Information'!E283)","v":""},{"$f":"IF('Gas Cylinder Information'!F283=\"\",\"\",'Gas Cylinder Information'!F283)","v":""},{"$f":"IF('Gas Cylinder Information'!G283=\"\",\"\",'Gas Cylinder Information'!G283)","v":""}]
[{"$f":"IF('Gas Cylinder Information'!A284=\"\",\"\",'Gas Cylinder Information'!A284)","v":""},{"$f":"IF('Gas Cylinder Information'!C284=\"\",\"\",'Gas Cylinder Information'!C284)","v":""},{"$f":"IF('Gas Cylinder Information'!D284=\"\",\"\",'Gas Cylinder Information'!D284)","v":""},{"$f":"IF('Gas Cylinder Information'!B284=\"\",\"\",'Gas Cylinder Information'!B284)","v":""},{"$f":"IF('Gas Cylinder Information'!E284=\"\",\"\",'Gas Cylinder Information'!E284)","v":""},{"$f":"IF('Gas Cylinder Information'!F284=\"\",\"\",'Gas Cylinder Information'!F284)","v":""},{"$f":"IF('Gas Cylinder Information'!G284=\"\",\"\",'Gas Cylinder Information'!G284)","v":""}]
[{"$f":"IF('Gas Cylinder Information'!A285=\"\",\"\",'Gas Cylinder Information'!A285)","v":""},{"$f":"IF('Gas Cylinder Information'!C285=\"\",\"\",'Gas Cylinder Information'!C285)","v":""},{"$f":"IF('Gas Cylinder Information'!D285=\"\",\"\",'Gas Cylinder Information'!D285)","v":""},{"$f":"IF('Gas Cylinder Information'!B285=\"\",\"\",'Gas Cylinder Information'!B285)","v":""},{"$f":"IF('Gas Cylinder Information'!E285=\"\",\"\",'Gas Cylinder Information'!E285)","v":""},{"$f":"IF('Gas Cylinder Information'!F285=\"\",\"\",'Gas Cylinder Information'!F285)","v":""},{"$f":"IF('Gas Cylinder Information'!G285=\"\",\"\",'Gas Cylinder Information'!G285)","v":""}]
[{"$f":"IF('Gas Cylinder Information'!A286=\"\",\"\",'Gas Cylinder Information'!A286)","v":""},{"$f":"IF('Gas Cylinder Information'!C286=\"\",\"\",'Gas Cylinder Information'!C286)","v":""},{"$f":"IF('Gas Cylinder Information'!D286=\"\",\"\",'Gas Cylinder Information'!D286)","v":""},{"$f":"IF('Gas Cylinder Information'!B286=\"\",\"\",'Gas Cylinder Information'!B286)","v":""},{"$f":"IF('Gas Cylinder Information'!E286=\"\",\"\",'Gas Cylinder Information'!E286)","v":""},{"$f":"IF('Gas Cylinder Information'!F286=\"\",\"\",'Gas Cylinder Information'!F286)","v":""},{"$f":"IF('Gas Cylinder Information'!G286=\"\",\"\",'Gas Cylinder Information'!G286)","v":""}]
[{"$f":"IF('Gas Cylinder Information'!A287=\"\",\"\",'Gas Cylinder Information'!A287)","v":""},{"$f":"IF('Gas Cylinder Information'!C287=\"\",\"\",'Gas Cylinder Information'!C287)","v":""},{"$f":"IF('Gas Cylinder Information'!D287=\"\",\"\",'Gas Cylinder Information'!D287)","v":""},{"$f":"IF('Gas Cylinder Information'!B287=\"\",\"\",'Gas Cylinder Information'!B287)","v":""},{"$f":"IF('Gas Cylinder Information'!E287=\"\",\"\",'Gas Cylinder Information'!E287)","v":""},{"$f":"IF('Gas Cylinder Information'!F287=\"\",\"\",'Gas Cylinder Information'!F287)","v":""},{"$f":"IF('Gas Cylinder Information'!G287=\"\",\"\",'Gas Cylinder Information'!G287)","v":""}]
[{"$f":"IF('Gas Cylinder Information'!A288=\"\",\"\",'Gas Cylinder Information'!A288)","v":""},{"$f":"IF('Gas Cylinder Information'!C288=\"\",\"\",'Gas Cylinder Information'!C288)","v":""},{"$f":"IF('Gas Cylinder Information'!D288=\"\",\"\",'Gas Cylinder Information'!D288)","v":""},{"$f":"IF('Gas Cylinder Information'!B288=\"\",\"\",'Gas Cylinder Information'!B288)","v":""},{"$f":"IF('Gas Cylinder Information'!E288=\"\",\"\",'Gas Cylinder Information'!E288)","v":""},{"$f":"IF('Gas Cylinder Information'!F288=\"\",\"\",'Gas Cylinder Information'!F288)","v":""},{"$f":"IF('Gas Cylinder Information'!G288=\"\",\"\",'Gas Cylinder Information'!G288)","v":""}]
[{"$f":"IF('Gas Cylinder Information'!A289=\"\",\"\",'Gas Cylinder Information'!A289)","v":""},{"$f":"IF('Gas Cylinder Information'!C289=\"\",\"\",'Gas Cylinder Information'!C289)","v":""},{"$f":"IF('Gas Cylinder Information'!D289=\"\",\"\",'Gas Cylinder Information'!D289)","v":""},{"$f":"IF('Gas Cylinder Information'!B289=\"\",\"\",'Gas Cylinder Information'!B289)","v":""},{"$f":"IF('Gas Cylinder Information'!E289=\"\",\"\",'Gas Cylinder Information'!E289)","v":""},{"$f":"IF('Gas Cylinder Information'!F289=\"\",\"\",'Gas Cylinder Information'!F289)","v":""},{"$f":"IF('Gas Cylinder Information'!G289=\"\",\"\",'Gas Cylinder Information'!G289)","v":""}]
[{"$f":"IF('Gas Cylinder Information'!A290=\"\",\"\",'Gas Cylinder Information'!A290)","v":""},{"$f":"IF('Gas Cylinder Information'!C290=\"\",\"\",'Gas Cylinder Information'!C290)","v":""},{"$f":"IF('Gas Cylinder Information'!D290=\"\",\"\",'Gas Cylinder Information'!D290)","v":""},{"$f":"IF('Gas Cylinder Information'!B290=\"\",\"\",'Gas Cylinder Information'!B290)","v":""},{"$f":"IF('Gas Cylinder Information'!E290=\"\",\"\",'Gas Cylinder Information'!E290)","v":""},{"$f":"IF('Gas Cylinder Information'!F290=\"\",\"\",'Gas Cylinder Information'!F290)","v":""},{"$f":"IF('Gas Cylinder Information'!G290=\"\",\"\",'Gas Cylinder Information'!G290)","v":""}]
[{"$f":"IF('Gas Cylinder Information'!A291=\"\",\"\",'Gas Cylinder Information'!A291)","v":""},{"$f":"IF('Gas Cylinder Information'!C291=\"\",\"\",'Gas Cylinder Information'!C291)","v":""},{"$f":"IF('Gas Cylinder Information'!D291=\"\",\"\",'Gas Cylinder Information'!D291)","v":""},{"$f":"IF('Gas Cylinder Information'!B291=\"\",\"\",'Gas Cylinder Information'!B291)","v":""},{"$f":"IF('Gas Cylinder Information'!E291=\"\",\"\",'Gas Cylinder Information'!E291)","v":""},{"$f":"IF('Gas Cylinder Information'!F291=\"\",\"\",'Gas Cylinder Information'!F291)","v":""},{"$f":"IF('Gas Cylinder Information'!G291=\"\",\"\",'Gas Cylinder Information'!G291)","v":""}]
[{"$f":"IF('Gas Cylinder Information'!A292=\"\",\"\",'Gas Cylinder Information'!A292)","v":""},{"$f":"IF('Gas Cylinder Information'!C292=\"\",\"\",'Gas Cylinder Information'!C292)","v":""},{"$f":"IF('Gas Cylinder Information'!D292=\"\",\"\",'Gas Cylinder Information'!D292)","v":""},{"$f":"IF('Gas Cylinder Information'!B292=\"\",\"\",'Gas Cylinder Information'!B292)","v":""},{"$f":"IF('Gas Cylinder Information'!E292=\"\",\"\",'Gas Cylinder Information'!E292)","v":""},{"$f":"IF('Gas Cylinder Information'!F292=\"\",\"\",'Gas Cylinder Information'!F292)","v":""},{"$f":"IF('Gas Cylinder Information'!G292=\"\",\"\",'Gas Cylinder Information'!G292)","v":""}]
[{"$f":"IF('Gas Cylinder Information'!A293=\"\",\"\",'Gas Cylinder Information'!A293)","v":""},{"$f":"IF('Gas Cylinder Information'!C293=\"\",\"\",'Gas Cylinder Information'!C293)","v":""},{"$f":"IF('Gas Cylinder Information'!D293=\"\",\"\",'Gas Cylinder Information'!D293)","v":""},{"$f":"IF('Gas Cylinder Information'!B293=\"\",\"\",'Gas Cylinder Information'!B293)","v":""},{"$f":"IF('Gas Cylinder Information'!E293=\"\",\"\",'Gas Cylinder Information'!E293)","v":""},{"$f":"IF('Gas Cylinder Information'!F293=\"\",\"\",'Gas Cylinder Information'!F293)","v":""},{"$f":"IF('Gas Cylinder Information'!G293=\"\",\"\",'Gas Cylinder Information'!G293)","v":""}]
[{"$f":"IF('Gas Cylinder Information'!A294=\"\",\"\",'Gas Cylinder Information'!A294)","v":""},{"$f":"IF('Gas Cylinder Information'!C294=\"\",\"\",'Gas Cylinder Information'!C294)","v":""},{"$f":"IF('Gas Cylinder Information'!D294=\"\",\"\",'Gas Cylinder Information'!D294)","v":""},{"$f":"IF('Gas Cylinder Information'!B294=\"\",\"\",'Gas Cylinder Information'!B294)","v":""},{"$f":"IF('Gas Cylinder Information'!E294=\"\",\"\",'Gas Cylinder Information'!E294)","v":""},{"$f":"IF('Gas Cylinder Information'!F294=\"\",\"\",'Gas Cylinder Information'!F294)","v":""},{"$f":"IF('Gas Cylinder Information'!G294=\"\",\"\",'Gas Cylinder Information'!G294)","v":""}]
[{"$f":"IF('Gas Cylinder Information'!A295=\"\",\"\",'Gas Cylinder Information'!A295)","v":""},{"$f":"IF('Gas Cylinder Information'!C295=\"\",\"\",'Gas Cylinder Information'!C295)","v":""},{"$f":"IF('Gas Cylinder Information'!D295=\"\",\"\",'Gas Cylinder Information'!D295)","v":""},{"$f":"IF('Gas Cylinder Information'!B295=\"\",\"\",'Gas Cylinder Information'!B295)","v":""},{"$f":"IF('Gas Cylinder Information'!E295=\"\",\"\",'Gas Cylinder Information'!E295)","v":""},{"$f":"IF('Gas Cylinder Information'!F295=\"\",\"\",'Gas Cylinder Information'!F295)","v":""},{"$f":"IF('Gas Cylinder Information'!G295=\"\",\"\",'Gas Cylinder Information'!G295)","v":""}]
[{"$f":"IF('Gas Cylinder Information'!A296=\"\",\"\",'Gas Cylinder Information'!A296)","v":""},{"$f":"IF('Gas Cylinder Information'!C296=\"\",\"\",'Gas Cylinder Information'!C296)","v":""},{"$f":"IF('Gas Cylinder Information'!D296=\"\",\"\",'Gas Cylinder Information'!D296)","v":""},{"$f":"IF('Gas Cylinder Information'!B296=\"\",\"\",'Gas Cylinder Information'!B296)","v":""},{"$f":"IF('Gas Cylinder Information'!E296=\"\",\"\",'Gas Cylinder Information'!E296)","v":""},{"$f":"IF('Gas Cylinder Information'!F296=\"\",\"\",'Gas Cylinder Information'!F296)","v":""},{"$f":"IF('Gas Cylinder Information'!G296=\"\",\"\",'Gas Cylinder Information'!G296)","v":""}]
[{"$f":"IF('Gas Cylinder Information'!A297=\"\",\"\",'Gas Cylinder Information'!A297)","v":""},{"$f":"IF('Gas Cylinder Information'!C297=\"\",\"\",'Gas Cylinder Information'!C297)","v":""},{"$f":"IF('Gas Cylinder Information'!D297=\"\",\"\",'Gas Cylinder Information'!D297)","v":""},{"$f":"IF('Gas Cylinder Information'!B297=\"\",\"\",'Gas Cylinder Information'!B297)","v":""},{"$f":"IF('Gas Cylinder Information'!E297=\"\",\"\",'Gas Cylinder Information'!E297)","v":""},{"$f":"IF('Gas Cylinder Information'!F297=\"\",\"\",'Gas Cylinder Information'!F297)","v":""},{"$f":"IF('Gas Cylinder Information'!G297=\"\",\"\",'Gas Cylinder Information'!G297)","v":""}]
[{"$f":"IF('Gas Cylinder Information'!A298=\"\",\"\",'Gas Cylinder Information'!A298)","v":""},{"$f":"IF('Gas Cylinder Information'!C298=\"\",\"\",'Gas Cylinder Information'!C298)","v":""},{"$f":"IF('Gas Cylinder Information'!D298=\"\",\"\",'Gas Cylinder Information'!D298)","v":""},{"$f":"IF('Gas Cylinder Information'!B298=\"\",\"\",'Gas Cylinder Information'!B298)","v":""},{"$f":"IF('Gas Cylinder Information'!E298=\"\",\"\",'Gas Cylinder Information'!E298)","v":""},{"$f":"IF('Gas Cylinder Information'!F298=\"\",\"\",'Gas Cylinder Information'!F298)","v":""},{"$f":"IF('Gas Cylinder Information'!G298=\"\",\"\",'Gas Cylinder Information'!G298)","v":""}]
[{"$f":"IF('Gas Cylinder Information'!A299=\"\",\"\",'Gas Cylinder Information'!A299)","v":""},{"$f":"IF('Gas Cylinder Information'!C299=\"\",\"\",'Gas Cylinder Information'!C299)","v":""},{"$f":"IF('Gas Cylinder Information'!D299=\"\",\"\",'Gas Cylinder Information'!D299)","v":""},{"$f":"IF('Gas Cylinder Information'!B299=\"\",\"\",'Gas Cylinder Information'!B299)","v":""},{"$f":"IF('Gas Cylinder Information'!E299=\"\",\"\",'Gas Cylinder Information'!E299)","v":""},{"$f":"IF('Gas Cylinder Information'!F299=\"\",\"\",'Gas Cylinder Information'!F299)","v":""},{"$f":"IF('Gas Cylinder Information'!G299=\"\",\"\",'Gas Cylinder Information'!G299)","v":""}]
[{"$f":"IF('Gas Cylinder Information'!A300=\"\",\"\",'Gas Cylinder Information'!A300)","v":""},{"$f":"IF('Gas Cylinder Information'!C300=\"\",\"\",'Gas Cylinder Information'!C300)","v":""},{"$f":"IF('Gas Cylinder Information'!D300=\"\",\"\",'Gas Cylinder Information'!D300)","v":""},{"$f":"IF('Gas Cylinder Information'!B300=\"\",\"\",'Gas Cylinder Information'!B300)","v":""},{"$f":"IF('Gas Cylinder Information'!E300=\"\",\"\",'Gas Cylinder Information'!E300)","v":""},{"$f":"IF('Gas Cylinder Information'!F300=\"\",\"\",'Gas Cylinder Information'!F300)","v":""},{"$f":"IF('Gas Cylinder Information'!G300=\"\",\"\",'Gas Cylinder Information'!G300)","v":""}]
[{"$f":"IF('Gas Cylinder Information'!A301=\"\",\"\",'Gas Cylinder Information'!A301)","v":""},{"$f":"IF('Gas Cylinder Information'!C301=\"\",\"\",'Gas Cylinder Information'!C301)","v":""},{"$f":"IF('Gas Cylinder Information'!D301=\"\",\"\",'Gas Cylinder Information'!D301)","v":""},{"$f":"IF('Gas Cylinder Information'!B301=\"\",\"\",'Gas Cylinder Information'!B301)","v":""},{"$f":"IF('Gas Cylinder Information'!E301=\"\",\"\",'Gas Cylinder Information'!E301)","v":""},{"$f":"IF('Gas Cylinder Information'!F301=\"\",\"\",'Gas Cylinder Information'!F301)","v":""},{"$f":"IF('Gas Cylinder Information'!G301=\"\",\"\",'Gas Cylinder Information'!G301)","v":""}]
[{"$f":"IF('Gas Cylinder Information'!A302=\"\",\"\",'Gas Cylinder Information'!A302)","v":""},{"$f":"IF('Gas Cylinder Information'!C302=\"\",\"\",'Gas Cylinder Information'!C302)","v":""},{"$f":"IF('Gas Cylinder Information'!D302=\"\",\"\",'Gas Cylinder Information'!D302)","v":""},{"$f":"IF('Gas Cylinder Information'!B302=\"\",\"\",'Gas Cylinder Information'!B302)","v":""},{"$f":"IF('Gas Cylinder Information'!E302=\"\",\"\",'Gas Cylinder Information'!E302)","v":""},{"$f":"IF('Gas Cylinder Information'!F302=\"\",\"\",'Gas Cylinder Information'!F302)","v":""},{"$f":"IF('Gas Cylinder Information'!G302=\"\",\"\",'Gas Cylinder Information'!G302)","v":""}]
[{"$f":"IF('Gas Cylinder Information'!A303=\"\",\"\",'Gas Cylinder Information'!A303)","v":""},{"$f":"IF('Gas Cylinder Information'!C303=\"\",\"\",'Gas Cylinder Information'!C303)","v":""},{"$f":"IF('Gas Cylinder Information'!D303=\"\",\"\",'Gas Cylinder Information'!D303)","v":""},{"$f":"IF('Gas Cylinder Information'!B303=\"\",\"\",'Gas Cylinder Information'!B303)","v":""},{"$f":"IF('Gas Cylinder Information'!E303=\"\",\"\",'Gas Cylinder Information'!E303)","v":""},{"$f":"IF('Gas Cylinder Information'!F303=\"\",\"\",'Gas Cylinder Information'!F303)","v":""},{"$f":"IF('Gas Cylinder Information'!G303=\"\",\"\",'Gas Cylinder Information'!G303)","v":""}]
[{"$f":"IF('Gas Cylinder Information'!A304=\"\",\"\",'Gas Cylinder Information'!A304)","v":""},{"$f":"IF('Gas Cylinder Information'!C304=\"\",\"\",'Gas Cylinder Information'!C304)","v":""},{"$f":"IF('Gas Cylinder Information'!D304=\"\",\"\",'Gas Cylinder Information'!D304)","v":""},{"$f":"IF('Gas Cylinder Information'!B304=\"\",\"\",'Gas Cylinder Information'!B304)","v":""},{"$f":"IF('Gas Cylinder Information'!E304=\"\",\"\",'Gas Cylinder Information'!E304)","v":""},{"$f":"IF('Gas Cylinder Information'!F304=\"\",\"\",'Gas Cylinder Information'!F304)","v":""},{"$f":"IF('Gas Cylinder Information'!G304=\"\",\"\",'Gas Cylinder Information'!G304)","v":""}]
[{"$f":"IF('Gas Cylinder Information'!A305=\"\",\"\",'Gas Cylinder Information'!A305)","v":""},{"$f":"IF('Gas Cylinder Information'!C305=\"\",\"\",'Gas Cylinder Information'!C305)","v":""},{"$f":"IF('Gas Cylinder Information'!D305=\"\",\"\",'Gas Cylinder Information'!D305)","v":""},{"$f":"IF('Gas Cylinder Information'!B305=\"\",\"\",'Gas Cylinder Information'!B305)","v":""},{"$f":"IF('Gas Cylinder Information'!E305=\"\",\"\",'Gas Cylinder Information'!E305)","v":""},{"$f":"IF('Gas Cylinder Information'!F305=\"\",\"\",'Gas Cylinder Information'!F305)","v":""},{"$f":"IF('Gas Cylinder Information'!G305=\"\",\"\",'Gas Cylinder Information'!G305)","v":""}]
[{"$f":"IF('Gas Cylinder Information'!A306=\"\",\"\",'Gas Cylinder Information'!A306)","v":""},{"$f":"IF('Gas Cylinder Information'!C306=\"\",\"\",'Gas Cylinder Information'!C306)","v":""},{"$f":"IF('Gas Cylinder Information'!D306=\"\",\"\",'Gas Cylinder Information'!D306)","v":""},{"$f":"IF('Gas Cylinder Information'!B306=\"\",\"\",'Gas Cylinder Information'!B306)","v":""},{"$f":"IF('Gas Cylinder Information'!E306=\"\",\"\",'Gas Cylinder Information'!E306)","v":""},{"$f":"IF('Gas Cylinder Information'!F306=\"\",\"\",'Gas Cylinder Information'!F306)","v":""},{"$f":"IF('Gas Cylinder Information'!G306=\"\",\"\",'Gas Cylinder Information'!G306)","v":""}]
[{"$f":"IF('Gas Cylinder Information'!A307=\"\",\"\",'Gas Cylinder Information'!A307)","v":""},{"$f":"IF('Gas Cylinder Information'!C307=\"\",\"\",'Gas Cylinder Information'!C307)","v":""},{"$f":"IF('Gas Cylinder Information'!D307=\"\",\"\",'Gas Cylinder Information'!D307)","v":""},{"$f":"IF('Gas Cylinder Information'!B307=\"\",\"\",'Gas Cylinder Information'!B307)","v":""},{"$f":"IF('Gas Cylinder Information'!E307=\"\",\"\",'Gas Cylinder Information'!E307)","v":""},{"$f":"IF('Gas Cylinder Information'!F307=\"\",\"\",'Gas Cylinder Information'!F307)","v":""},{"$f":"IF('Gas Cylinder Information'!G307=\"\",\"\",'Gas Cylinder Information'!G307)","v":""}]
[{"$f":"IF('Gas Cylinder Information'!A308=\"\",\"\",'Gas Cylinder Information'!A308)","v":""},{"$f":"IF('Gas Cylinder Information'!C308=\"\",\"\",'Gas Cylinder Information'!C308)","v":""},{"$f":"IF('Gas Cylinder Information'!D308=\"\",\"\",'Gas Cylinder Information'!D308)","v":""},{"$f":"IF('Gas Cylinder Information'!B308=\"\",\"\",'Gas Cylinder Information'!B308)","v":""},{"$f":"IF('Gas Cylinder Information'!E308=\"\",\"\",'Gas Cylinder Information'!E308)","v":""},{"$f":"IF('Gas Cylinder Information'!F308=\"\",\"\",'Gas Cylinder Information'!F308)","v":""},{"$f":"IF('Gas Cylinder Information'!G308=\"\",\"\",'Gas Cylinder Information'!G308)","v":""}]
[{"$f":"IF('Gas Cylinder Information'!A309=\"\",\"\",'Gas Cylinder Information'!A309)","v":""},{"$f":"IF('Gas Cylinder Information'!C309=\"\",\"\",'Gas Cylinder Information'!C309)","v":""},{"$f":"IF('Gas Cylinder Information'!D309=\"\",\"\",'Gas Cylinder Information'!D309)","v":""},{"$f":"IF('Gas Cylinder Information'!B309=\"\",\"\",'Gas Cylinder Information'!B309)","v":""},{"$f":"IF('Gas Cylinder Information'!E309=\"\",\"\",'Gas Cylinder Information'!E309)","v":""},{"$f":"IF('Gas Cylinder Information'!F309=\"\",\"\",'Gas Cylinder Information'!F309)","v":""},{"$f":"IF('Gas Cylinder Information'!G309=\"\",\"\",'Gas Cylinder Information'!G309)","v":""}]
[{"$f":"IF('Gas Cylinder Information'!A310=\"\",\"\",'Gas Cylinder Information'!A310)","v":""},{"$f":"IF('Gas Cylinder Information'!C310=\"\",\"\",'Gas Cylinder Information'!C310)","v":""},{"$f":"IF('Gas Cylinder Information'!D310=\"\",\"\",'Gas Cylinder Information'!D310)","v":""},{"$f":"IF('Gas Cylinder Information'!B310=\"\",\"\",'Gas Cylinder Information'!B310)","v":""},{"$f":"IF('Gas Cylinder Information'!E310=\"\",\"\",'Gas Cylinder Information'!E310)","v":""},{"$f":"IF('Gas Cylinder Information'!F310=\"\",\"\",'Gas Cylinder Information'!F310)","v":""},{"$f":"IF('Gas Cylinder Information'!G310=\"\",\"\",'Gas Cylinder Information'!G310)","v":""}]
[{"$f":"IF('Gas Cylinder Information'!A311=\"\",\"\",'Gas Cylinder Information'!A311)","v":""},{"$f":"IF('Gas Cylinder Information'!C311=\"\",\"\",'Gas Cylinder Information'!C311)","v":""},{"$f":"IF('Gas Cylinder Information'!D311=\"\",\"\",'Gas Cylinder Information'!D311)","v":""},{"$f":"IF('Gas Cylinder Information'!B311=\"\",\"\",'Gas Cylinder Information'!B311)","v":""},{"$f":"IF('Gas Cylinder Information'!E311=\"\",\"\",'Gas Cylinder Information'!E311)","v":""},{"$f":"IF('Gas Cylinder Information'!F311=\"\",\"\",'Gas Cylinder Information'!F311)","v":""},{"$f":"IF('Gas Cylinder Information'!G311=\"\",\"\",'Gas Cylinder Information'!G311)","v":""}]
[{"$f":"IF('Gas Cylinder Information'!A312=\"\",\"\",'Gas Cylinder Information'!A312)","v":""},{"$f":"IF('Gas Cylinder Information'!C312=\"\",\"\",'Gas Cylinder Information'!C312)","v":""},{"$f":"IF('Gas Cylinder Information'!D312=\"\",\"\",'Gas Cylinder Information'!D312)","v":""},{"$f":"IF('Gas Cylinder Information'!B312=\"\",\"\",'Gas Cylinder Information'!B312)","v":""},{"$f":"IF('Gas Cylinder Information'!E312=\"\",\"\",'Gas Cylinder Information'!E312)","v":""},{"$f":"IF('Gas Cylinder Information'!F312=\"\",\"\",'Gas Cylinder Information'!F312)","v":""},{"$f":"IF('Gas Cylinder Information'!G312=\"\",\"\",'Gas Cylinder Information'!G312)","v":""}]
[{"$f":"IF('Gas Cylinder Information'!A313=\"\",\"\",'Gas Cylinder Information'!A313)","v":""},{"$f":"IF('Gas Cylinder Information'!C313=\"\",\"\",'Gas Cylinder Information'!C313)","v":""},{"$f":"IF('Gas Cylinder Information'!D313=\"\",\"\",'Gas Cylinder Information'!D313)","v":""},{"$f":"IF('Gas Cylinder Information'!B313=\"\",\"\",'Gas Cylinder Information'!B313)","v":""},{"$f":"IF('Gas Cylinder Information'!E313=\"\",\"\",'Gas Cylinder Information'!E313)","v":""},{"$f":"IF('Gas Cylinder Information'!F313=\"\",\"\",'Gas Cylinder Information'!F313)","v":""},{"$f":"IF('Gas Cylinder Information'!G313=\"\",\"\",'Gas Cylinder Information'!G313)","v":""}]
[{"$f":"IF('Gas Cylinder Information'!A314=\"\",\"\",'Gas Cylinder Information'!A314)","v":""},{"$f":"IF('Gas Cylinder Information'!C314=\"\",\"\",'Gas Cylinder Information'!C314)","v":""},{"$f":"IF('Gas Cylinder Information'!D314=\"\",\"\",'Gas Cylinder Information'!D314)","v":""},{"$f":"IF('Gas Cylinder Information'!B314=\"\",\"\",'Gas Cylinder Information'!B314)","v":""},{"$f":"IF('Gas Cylinder Information'!E314=\"\",\"\",'Gas Cylinder Information'!E314)","v":""},{"$f":"IF('Gas Cylinder Information'!F314=\"\",\"\",'Gas Cylinder Information'!F314)","v":""},{"$f":"IF('Gas Cylinder Information'!G314=\"\",\"\",'Gas Cylinder Information'!G314)","v":""}]
[{"$f":"IF('Gas Cylinder Information'!A315=\"\",\"\",'Gas Cylinder Information'!A315)","v":""},{"$f":"IF('Gas Cylinder Information'!C315=\"\",\"\",'Gas Cylinder Information'!C315)","v":""},{"$f":"IF('Gas Cylinder Information'!D315=\"\",\"\",'Gas Cylinder Information'!D315)","v":""},{"$f":"IF('Gas Cylinder Information'!B315=\"\",\"\",'Gas Cylinder Information'!B315)","v":""},{"$f":"IF('Gas Cylinder Information'!E315=\"\",\"\",'Gas Cylinder Information'!E315)","v":""},{"$f":"IF('Gas Cylinder Information'!F315=\"\",\"\",'Gas Cylinder Information'!F315)","v":""},{"$f":"IF('Gas Cylinder Information'!G315=\"\",\"\",'Gas Cylinder Information'!G315)","v":""}]
[{"$f":"IF('Gas Cylinder Information'!A316=\"\",\"\",'Gas Cylinder Information'!A316)","v":""},{"$f":"IF('Gas Cylinder Information'!C316=\"\",\"\",'Gas Cylinder Information'!C316)","v":""},{"$f":"IF('Gas Cylinder Information'!D316=\"\",\"\",'Gas Cylinder Information'!D316)","v":""},{"$f":"IF('Gas Cylinder Information'!B316=\"\",\"\",'Gas Cylinder Information'!B316)","v":""},{"$f":"IF('Gas Cylinder Information'!E316=\"\",\"\",'Gas Cylinder Information'!E316)","v":""},{"$f":"IF('Gas Cylinder Information'!F316=\"\",\"\",'Gas Cylinder Information'!F316)","v":""},{"$f":"IF('Gas Cylinder Information'!G316=\"\",\"\",'Gas Cylinder Information'!G316)","v":""}]
[{"$f":"IF('Gas Cylinder Information'!A317=\"\",\"\",'Gas Cylinder Information'!A317)","v":""},{"$f":"IF('Gas Cylinder Information'!C317=\"\",\"\",'Gas Cylinder Information'!C317)","v":""},{"$f":"IF('Gas Cylinder Information'!D317=\"\",\"\",'Gas Cylinder Information'!D317)","v":""},{"$f":"IF('Gas Cylinder Information'!B317=\"\",\"\",'Gas Cylinder Information'!B317)","v":""},{"$f":"IF('Gas Cylinder Information'!E317=\"\",\"\",'Gas Cylinder Information'!E317)","v":""},{"$f":"IF('Gas Cylinder Information'!F317=\"\",\"\",'Gas Cylinder Information'!F317)","v":""},{"$f":"IF('Gas Cylinder Information'!G317=\"\",\"\",'Gas Cylinder Information'!G317)","v":""}]
[{"$f":"IF('Gas Cylinder Information'!A318=\"\",\"\",'Gas Cylinder Information'!A318)","v":""},{"$f":"IF('Gas Cylinder Information'!C318=\"\",\"\",'Gas Cylinder Information'!C318)","v":""},{"$f":"IF('Gas Cylinder Information'!D318=\"\",\"\",'Gas Cylinder Information'!D318)","v":""},{"$f":"IF('Gas Cylinder Information'!B318=\"\",\"\",'Gas Cylinder Information'!B318)","v":""},{"$f":"IF('Gas Cylinder Information'!E318=\"\",\"\",'Gas Cylinder Information'!E318)","v":""},{"$f":"IF('Gas Cylinder Information'!F318=\"\",\"\",'Gas Cylinder Information'!F318)","v":""},{"$f":"IF('Gas Cylinder Information'!G318=\"\",\"\",'Gas Cylinder Information'!G318)","v":""}]
[{"$f":"IF('Gas Cylinder Information'!A319=\"\",\"\",'Gas Cylinder Information'!A319)","v":""},{"$f":"IF('Gas Cylinder Information'!C319=\"\",\"\",'Gas Cylinder Information'!C319)","v":""},{"$f":"IF('Gas Cylinder Information'!D319=\"\",\"\",'Gas Cylinder Information'!D319)","v":""},{"$f":"IF('Gas Cylinder Information'!B319=\"\",\"\",'Gas Cylinder Information'!B319)","v":""},{"$f":"IF('Gas Cylinder Information'!E319=\"\",\"\",'Gas Cylinder Information'!E319)","v":""},{"$f":"IF('Gas Cylinder Information'!F319=\"\",\"\",'Gas Cylinder Information'!F319)","v":""},{"$f":"IF('Gas Cylinder Information'!G319=\"\",\"\",'Gas Cylinder Information'!G319)","v":""}]
[{"$f":"IF('Gas Cylinder Information'!A320=\"\",\"\",'Gas Cylinder Information'!A320)","v":""},{"$f":"IF('Gas Cylinder Information'!C320=\"\",\"\",'Gas Cylinder Information'!C320)","v":""},{"$f":"IF('Gas Cylinder Information'!D320=\"\",\"\",'Gas Cylinder Information'!D320)","v":""},{"$f":"IF('Gas Cylinder Information'!B320=\"\",\"\",'Gas Cylinder Information'!B320)","v":""},{"$f":"IF('Gas Cylinder Information'!E320=\"\",\"\",'Gas Cylinder Information'!E320)","v":""},{"$f":"IF('Gas Cylinder Information'!F320=\"\",\"\",'Gas Cylinder Information'!F320)","v":""},{"$f":"IF('Gas Cylinder Information'!G320=\"\",\"\",'Gas Cylinder Information'!G320)","v":""}]
[{"$f":"IF('Gas Cylinder Information'!A321=\"\",\"\",'Gas Cylinder Information'!A321)","v":""},{"$f":"IF('Gas Cylinder Information'!C321=\"\",\"\",'Gas Cylinder Information'!C321)","v":""},{"$f":"IF('Gas Cylinder Information'!D321=\"\",\"\",'Gas Cylinder Information'!D321)","v":""},{"$f":"IF('Gas Cylinder Information'!B321=\"\",\"\",'Gas Cylinder Information'!B321)","v":""},{"$f":"IF('Gas Cylinder Information'!E321=\"\",\"\",'Gas Cylinder Information'!E321)","v":""},{"$f":"IF('Gas Cylinder Information'!F321=\"\",\"\",'Gas Cylinder Information'!F321)","v":""},{"$f":"IF('Gas Cylinder Information'!G321=\"\",\"\",'Gas Cylinder Information'!G321)","v":""}]
[{"$f":"IF('Gas Cylinder Information'!A322=\"\",\"\",'Gas Cylinder Information'!A322)","v":""},{"$f":"IF('Gas Cylinder Information'!C322=\"\",\"\",'Gas Cylinder Information'!C322)","v":""},{"$f":"IF('Gas Cylinder Information'!D322=\"\",\"\",'Gas Cylinder Information'!D322)","v":""},{"$f":"IF('Gas Cylinder Information'!B322=\"\",\"\",'Gas Cylinder Information'!B322)","v":""},{"$f":"IF('Gas Cylinder Information'!E322=\"\",\"\",'Gas Cylinder Information'!E322)","v":""},{"$f":"IF('Gas Cylinder Information'!F322=\"\",\"\",'Gas Cylinder Information'!F322)","v":""},{"$f":"IF('Gas Cylinder Information'!G322=\"\",\"\",'Gas Cylinder Information'!G322)","v":""}]
[{"$f":"IF('Gas Cylinder Information'!A323=\"\",\"\",'Gas Cylinder Information'!A323)","v":""},{"$f":"IF('Gas Cylinder Information'!C323=\"\",\"\",'Gas Cylinder Information'!C323)","v":""},{"$f":"IF('Gas Cylinder Information'!D323=\"\",\"\",'Gas Cylinder Information'!D323)","v":""},{"$f":"IF('Gas Cylinder Information'!B323=\"\",\"\",'Gas Cylinder Information'!B323)","v":""},{"$f":"IF('Gas Cylinder Information'!E323=\"\",\"\",'Gas Cylinder Information'!E323)","v":""},{"$f":"IF('Gas Cylinder Information'!F323=\"\",\"\",'Gas Cylinder Information'!F323)","v":""},{"$f":"IF('Gas Cylinder Information'!G323=\"\",\"\",'Gas Cylinder Information'!G323)","v":""}]
[{"$f":"IF('Gas Cylinder Information'!A324=\"\",\"\",'Gas Cylinder Information'!A324)","v":""},{"$f":"IF('Gas Cylinder Information'!C324=\"\",\"\",'Gas Cylinder Information'!C324)","v":""},{"$f":"IF('Gas Cylinder Information'!D324=\"\",\"\",'Gas Cylinder Information'!D324)","v":""},{"$f":"IF('Gas Cylinder Information'!B324=\"\",\"\",'Gas Cylinder Information'!B324)","v":""},{"$f":"IF('Gas Cylinder Information'!E324=\"\",\"\",'Gas Cylinder Information'!E324)","v":""},{"$f":"IF('Gas Cylinder Information'!F324=\"\",\"\",'Gas Cylinder Information'!F324)","v":""},{"$f":"IF('Gas Cylinder Information'!G324=\"\",\"\",'Gas Cylinder Information'!G324)","v":""}]
[{"$f":"IF('Gas Cylinder Information'!A325=\"\",\"\",'Gas Cylinder Information'!A325)","v":""},{"$f":"IF('Gas Cylinder Information'!C325=\"\",\"\",'Gas Cylinder Information'!C325)","v":""},{"$f":"IF('Gas Cylinder Information'!D325=\"\",\"\",'Gas Cylinder Information'!D325)","v":""},{"$f":"IF('Gas Cylinder Information'!B325=\"\",\"\",'Gas Cylinder Information'!B325)","v":""},{"$f":"IF('Gas Cylinder Information'!E325=\"\",\"\",'Gas Cylinder Information'!E325)","v":""},{"$f":"IF('Gas Cylinder Information'!F325=\"\",\"\",'Gas Cylinder Information'!F325)","v":""},{"$f":"IF('Gas Cylinder Information'!G325=\"\",\"\",'Gas Cylinder Information'!G325)","v":""}]
[{"$f":"IF('Gas Cylinder Information'!A326=\"\",\"\",'Gas Cylinder Information'!A326)","v":""},{"$f":"IF('Gas Cylinder Information'!C326=\"\",\"\",'Gas Cylinder Information'!C326)","v":""},{"$f":"IF('Gas Cylinder Information'!D326=\"\",\"\",'Gas Cylinder Information'!D326)","v":""},{"$f":"IF('Gas Cylinder Information'!B326=\"\",\"\",'Gas Cylinder Information'!B326)","v":""},{"$f":"IF('Gas Cylinder Information'!E326=\"\",\"\",'Gas Cylinder Information'!E326)","v":""},{"$f":"IF('Gas Cylinder Information'!F326=\"\",\"\",'Gas Cylinder Information'!F326)","v":""},{"$f":"IF('Gas Cylinder Information'!G326=\"\",\"\",'Gas Cylinder Information'!G326)","v":""}]
[{"$f":"IF('Gas Cylinder Information'!A327=\"\",\"\",'Gas Cylinder Information'!A327)","v":""},{"$f":"IF('Gas Cylinder Information'!C327=\"\",\"\",'Gas Cylinder Information'!C327)","v":""},{"$f":"IF('Gas Cylinder Information'!D327=\"\",\"\",'Gas Cylinder Information'!D327)","v":""},{"$f":"IF('Gas Cylinder Information'!B327=\"\",\"\",'Gas Cylinder Information'!B327)","v":""},{"$f":"IF('Gas Cylinder Information'!E327=\"\",\"\",'Gas Cylinder Information'!E327)","v":""},{"$f":"IF('Gas Cylinder Information'!F327=\"\",\"\",'Gas Cylinder Information'!F327)","v":""},{"$f":"IF('Gas Cylinder Information'!G327=\"\",\"\",'Gas Cylinder Information'!G327)","v":""}]
[{"$f":"IF('Gas Cylinder Information'!A328=\"\",\"\",'Gas Cylinder Information'!A328)","v":""},{"$f":"IF('Gas Cylinder Information'!C328=\"\",\"\",'Gas Cylinder Information'!C328)","v":""},{"$f":"IF('Gas Cylinder Information'!D328=\"\",\"\",'Gas Cylinder Information'!D328)","v":""},{"$f":"IF('Gas Cylinder Information'!B328=\"\",\"\",'Gas Cylinder Information'!B328)","v":""},{"$f":"IF('Gas Cylinder Information'!E328=\"\",\"\",'Gas Cylinder Information'!E328)","v":""},{"$f":"IF('Gas Cylinder Information'!F328=\"\",\"\",'Gas Cylinder Information'!F328)","v":""},{"$f":"IF('Gas Cylinder Information'!G328=\"\",\"\",'Gas Cylinder Information'!G328)","v":""}]
[{"$f":"IF('Gas Cylinder Information'!A329=\"\",\"\",'Gas Cylinder Information'!A329)","v":""},{"$f":"IF('Gas Cylinder Information'!C329=\"\",\"\",'Gas Cylinder Information'!C329)","v":""},{"$f":"IF('Gas Cylinder Information'!D329=\"\",\"\",'Gas Cylinder Information'!D329)","v":""},{"$f":"IF('Gas Cylinder Information'!B329=\"\",\"\",'Gas Cylinder Information'!B329)","v":""},{"$f":"IF('Gas Cylinder Information'!E329=\"\",\"\",'Gas Cylinder Information'!E329)","v":""},{"$f":"IF('Gas Cylinder Information'!F329=\"\",\"\",'Gas Cylinder Information'!F329)","v":""},{"$f":"IF('Gas Cylinder Information'!G329=\"\",\"\",'Gas Cylinder Information'!G329)","v":""}]
[{"$f":"IF('Gas Cylinder Information'!A330=\"\",\"\",'Gas Cylinder Information'!A330)","v":""},{"$f":"IF('Gas Cylinder Information'!C330=\"\",\"\",'Gas Cylinder Information'!C330)","v":""},{"$f":"IF('Gas Cylinder Information'!D330=\"\",\"\",'Gas Cylinder Information'!D330)","v":""},{"$f":"IF('Gas Cylinder Information'!B330=\"\",\"\",'Gas Cylinder Information'!B330)","v":""},{"$f":"IF('Gas Cylinder Information'!E330=\"\",\"\",'Gas Cylinder Information'!E330)","v":""},{"$f":"IF('Gas Cylinder Information'!F330=\"\",\"\",'Gas Cylinder Information'!F330)","v":""},{"$f":"IF('Gas Cylinder Information'!G330=\"\",\"\",'Gas Cylinder Information'!G330)","v":""}]
[{"$f":"IF('Gas Cylinder Information'!A331=\"\",\"\",'Gas Cylinder Information'!A331)","v":""},{"$f":"IF('Gas Cylinder Information'!C331=\"\",\"\",'Gas Cylinder Information'!C331)","v":""},{"$f":"IF('Gas Cylinder Information'!D331=\"\",\"\",'Gas Cylinder Information'!D331)","v":""},{"$f":"IF('Gas Cylinder Information'!B331=\"\",\"\",'Gas Cylinder Information'!B331)","v":""},{"$f":"IF('Gas Cylinder Information'!E331=\"\",\"\",'Gas Cylinder Information'!E331)","v":""},{"$f":"IF('Gas Cylinder Information'!F331=\"\",\"\",'Gas Cylinder Information'!F331)","v":""},{"$f":"IF('Gas Cylinder Information'!G331=\"\",\"\",'Gas Cylinder Information'!G331)","v":""}]
[{"$f":"IF('Gas Cylinder Information'!A332=\"\",\"\",'Gas Cylinder Information'!A332)","v":""},{"$f":"IF('Gas Cylinder Information'!C332=\"\",\"\",'Gas Cylinder Information'!C332)","v":""},{"$f":"IF('Gas Cylinder Information'!D332=\"\",\"\",'Gas Cylinder Information'!D332)","v":""},{"$f":"IF('Gas Cylinder Information'!B332=\"\",\"\",'Gas Cylinder Information'!B332)","v":""},{"$f":"IF('Gas Cylinder Information'!E332=\"\",\"\",'Gas Cylinder Information'!E332)","v":""},{"$f":"IF('Gas Cylinder Information'!F332=\"\",\"\",'Gas Cylinder Information'!F332)","v":""},{"$f":"IF('Gas Cylinder Information'!G332=\"\",\"\",'Gas Cylinder Information'!G332)","v":""}]
[{"$f":"IF('Gas Cylinder Information'!A333=\"\",\"\",'Gas Cylinder Information'!A333)","v":""},{"$f":"IF('Gas Cylinder Information'!C333=\"\",\"\",'Gas Cylinder Information'!C333)","v":""},{"$f":"IF('Gas Cylinder Information'!D333=\"\",\"\",'Gas Cylinder Information'!D333)","v":""},{"$f":"IF('Gas Cylinder Information'!B333=\"\",\"\",'Gas Cylinder Information'!B333)","v":""},{"$f":"IF('Gas Cylinder Information'!E333=\"\",\"\",'Gas Cylinder Information'!E333)","v":""},{"$f":"IF('Gas Cylinder Information'!F333=\"\",\"\",'Gas Cylinder Information'!F333)","v":""},{"$f":"IF('Gas Cylinder Information'!G333=\"\",\"\",'Gas Cylinder Information'!G333)","v":""}]
[{"$f":"IF('Gas Cylinder Information'!A334=\"\",\"\",'Gas Cylinder Information'!A334)","v":""},{"$f":"IF('Gas Cylinder Information'!C334=\"\",\"\",'Gas Cylinder Information'!C334)","v":""},{"$f":"IF('Gas Cylinder Information'!D334=\"\",\"\",'Gas Cylinder Information'!D334)","v":""},{"$f":"IF('Gas Cylinder Information'!B334=\"\",\"\",'Gas Cylinder Information'!B334)","v":""},{"$f":"IF('Gas Cylinder Information'!E334=\"\",\"\",'Gas Cylinder Information'!E334)","v":""},{"$f":"IF('Gas Cylinder Information'!F334=\"\",\"\",'Gas Cylinder Information'!F334)","v":""},{"$f":"IF('Gas Cylinder Information'!G334=\"\",\"\",'Gas Cylinder Information'!G334)","v":""}]
[{"$f":"IF('Gas Cylinder Information'!A335=\"\",\"\",'Gas Cylinder Information'!A335)","v":""},{"$f":"IF('Gas Cylinder Information'!C335=\"\",\"\",'Gas Cylinder Information'!C335)","v":""},{"$f":"IF('Gas Cylinder Information'!D335=\"\",\"\",'Gas Cylinder Information'!D335)","v":""},{"$f":"IF('Gas Cylinder Information'!B335=\"\",\"\",'Gas Cylinder Information'!B335)","v":""},{"$f":"IF('Gas Cylinder Information'!E335=\"\",\"\",'Gas Cylinder Information'!E335)","v":""},{"$f":"IF('Gas Cylinder Information'!F335=\"\",\"\",'Gas Cylinder Information'!F335)","v":""},{"$f":"IF('Gas Cylinder Information'!G335=\"\",\"\",'Gas Cylinder Information'!G335)","v":""}]
[{"$f":"IF('Gas Cylinder Information'!A336=\"\",\"\",'Gas Cylinder Information'!A336)","v":""},{"$f":"IF('Gas Cylinder Information'!C336=\"\",\"\",'Gas Cylinder Information'!C336)","v":""},{"$f":"IF('Gas Cylinder Information'!D336=\"\",\"\",'Gas Cylinder Information'!D336)","v":""},{"$f":"IF('Gas Cylinder Information'!B336=\"\",\"\",'Gas Cylinder Information'!B336)","v":""},{"$f":"IF('Gas Cylinder Information'!E336=\"\",\"\",'Gas Cylinder Information'!E336)","v":""},{"$f":"IF('Gas Cylinder Information'!F336=\"\",\"\",'Gas Cylinder Information'!F336)","v":""},{"$f":"IF('Gas Cylinder Information'!G336=\"\",\"\",'Gas Cylinder Information'!G336)","v":""}]
[{"$f":"IF('Gas Cylinder Information'!A337=\"\",\"\",'Gas Cylinder Information'!A337)","v":""},{"$f":"IF('Gas Cylinder Information'!C337=\"\",\"\",'Gas Cylinder Information'!C337)","v":""},{"$f":"IF('Gas Cylinder Information'!D337=\"\",\"\",'Gas Cylinder Information'!D337)","v":""},{"$f":"IF('Gas Cylinder Information'!B337=\"\",\"\",'Gas Cylinder Information'!B337)","v":""},{"$f":"IF('Gas Cylinder Information'!E337=\"\",\"\",'Gas Cylinder Information'!E337)","v":""},{"$f":"IF('Gas Cylinder Information'!F337=\"\",\"\",'Gas Cylinder Information'!F337)","v":""},{"$f":"IF('Gas Cylinder Information'!G337=\"\",\"\",'Gas Cylinder Information'!G337)","v":""}]
[{"$f":"IF('Gas Cylinder Information'!A338=\"\",\"\",'Gas Cylinder Information'!A338)","v":""},{"$f":"IF('Gas Cylinder Information'!C338=\"\",\"\",'Gas Cylinder Information'!C338)","v":""},{"$f":"IF('Gas Cylinder Information'!D338=\"\",\"\",'Gas Cylinder Information'!D338)","v":""},{"$f":"IF('Gas Cylinder Information'!B338=\"\",\"\",'Gas Cylinder Information'!B338)","v":""},{"$f":"IF('Gas Cylinder Information'!E338=\"\",\"\",'Gas Cylinder Information'!E338)","v":""},{"$f":"IF('Gas Cylinder Information'!F338=\"\",\"\",'Gas Cylinder Information'!F338)","v":""},{"$f":"IF('Gas Cylinder Information'!G338=\"\",\"\",'Gas Cylinder Information'!G338)","v":""}]
[{"$f":"IF('Gas Cylinder Information'!A339=\"\",\"\",'Gas Cylinder Information'!A339)","v":""},{"$f":"IF('Gas Cylinder Information'!C339=\"\",\"\",'Gas Cylinder Information'!C339)","v":""},{"$f":"IF('Gas Cylinder Information'!D339=\"\",\"\",'Gas Cylinder Information'!D339)","v":""},{"$f":"IF('Gas Cylinder Information'!B339=\"\",\"\",'Gas Cylinder Information'!B339)","v":""},{"$f":"IF('Gas Cylinder Information'!E339=\"\",\"\",'Gas Cylinder Information'!E339)","v":""},{"$f":"IF('Gas Cylinder Information'!F339=\"\",\"\",'Gas Cylinder Information'!F339)","v":""},{"$f":"IF('Gas Cylinder Information'!G339=\"\",\"\",'Gas Cylinder Information'!G339)","v":""}]
[{"$f":"IF('Gas Cylinder Information'!A340=\"\",\"\",'Gas Cylinder Information'!A340)","v":""},{"$f":"IF('Gas Cylinder Information'!C340=\"\",\"\",'Gas Cylinder Information'!C340)","v":""},{"$f":"IF('Gas Cylinder Information'!D340=\"\",\"\",'Gas Cylinder Information'!D340)","v":""},{"$f":"IF('Gas Cylinder Information'!B340=\"\",\"\",'Gas Cylinder Information'!B340)","v":""},{"$f":"IF('Gas Cylinder Information'!E340=\"\",\"\",'Gas Cylinder Information'!E340)","v":""},{"$f":"IF('Gas Cylinder Information'!F340=\"\",\"\",'Gas Cylinder Information'!F340)","v":""},{"$f":"IF('Gas Cylinder Information'!G340=\"\",\"\",'Gas Cylinder Information'!G340)","v":""}]
[{"$f":"IF('Gas Cylinder Information'!A341=\"\",\"\",'Gas Cylinder Information'!A341)","v":""},{"$f":"IF('Gas Cylinder Information'!C341=\"\",\"\",'Gas Cylinder Information'!C341)","v":""},{"$f":"IF('Gas Cylinder Information'!D341=\"\",\"\",'Gas Cylinder Information'!D341)","v":""},{"$f":"IF('Gas Cylinder Information'!B341=\"\",\"\",'Gas Cylinder Information'!B341)","v":""},{"$f":"IF('Gas Cylinder Information'!E341=\"\",\"\",'Gas Cylinder Information'!E341)","v":""},{"$f":"IF('Gas Cylinder Information'!F341=\"\",\"\",'Gas Cylinder Information'!F341)","v":""},{"$f":"IF('Gas Cylinder Information'!G341=\"\",\"\",'Gas Cylinder Information'!G341)","v":""}]
[{"$f":"IF('Gas Cylinder Information'!A342=\"\",\"\",'Gas Cylinder Information'!A342)","v":""},{"$f":"IF('Gas Cylinder Information'!C342=\"\",\"\",'Gas Cylinder Information'!C342)","v":""},{"$f":"IF('Gas Cylinder Information'!D342=\"\",\"\",'Gas Cylinder Information'!D342)","v":""},{"$f":"IF('Gas Cylinder Information'!B342=\"\",\"\",'Gas Cylinder Information'!B342)","v":""},{"$f":"IF('Gas Cylinder Information'!E342=\"\",\"\",'Gas Cylinder Information'!E342)","v":""},{"$f":"IF('Gas Cylinder Information'!F342=\"\",\"\",'Gas Cylinder Information'!F342)","v":""},{"$f":"IF('Gas Cylinder Information'!G342=\"\",\"\",'Gas Cylinder Information'!G342)","v":""}]
[{"$f":"IF('Gas Cylinder Information'!A343=\"\",\"\",'Gas Cylinder Information'!A343)","v":""},{"$f":"IF('Gas Cylinder Information'!C343=\"\",\"\",'Gas Cylinder Information'!C343)","v":""},{"$f":"IF('Gas Cylinder Information'!D343=\"\",\"\",'Gas Cylinder Information'!D343)","v":""},{"$f":"IF('Gas Cylinder Information'!B343=\"\",\"\",'Gas Cylinder Information'!B343)","v":""},{"$f":"IF('Gas Cylinder Information'!E343=\"\",\"\",'Gas Cylinder Information'!E343)","v":""},{"$f":"IF('Gas Cylinder Information'!F343=\"\",\"\",'Gas Cylinder Information'!F343)","v":""},{"$f":"IF('Gas Cylinder Information'!G343=\"\",\"\",'Gas Cylinder Information'!G343)","v":""}]
[{"$f":"IF('Gas Cylinder Information'!A344=\"\",\"\",'Gas Cylinder Information'!A344)","v":""},{"$f":"IF('Gas Cylinder Information'!C344=\"\",\"\",'Gas Cylinder Information'!C344)","v":""},{"$f":"IF('Gas Cylinder Information'!D344=\"\",\"\",'Gas Cylinder Information'!D344)","v":""},{"$f":"IF('Gas Cylinder Information'!B344=\"\",\"\",'Gas Cylinder Information'!B344)","v":""},{"$f":"IF('Gas Cylinder Information'!E344=\"\",\"\",'Gas Cylinder Information'!E344)","v":""},{"$f":"IF('Gas Cylinder Information'!F344=\"\",\"\",'Gas Cylinder Information'!F344)","v":""},{"$f":"IF('Gas Cylinder Information'!G344=\"\",\"\",'Gas Cylinder Information'!G344)","v":""}]
[{"$f":"IF('Gas Cylinder Information'!A345=\"\",\"\",'Gas Cylinder Information'!A345)","v":""},{"$f":"IF('Gas Cylinder Information'!C345=\"\",\"\",'Gas Cylinder Information'!C345)","v":""},{"$f":"IF('Gas Cylinder Information'!D345=\"\",\"\",'Gas Cylinder Information'!D345)","v":""},{"$f":"IF('Gas Cylinder Information'!B345=\"\",\"\",'Gas Cylinder Information'!B345)","v":""},{"$f":"IF('Gas Cylinder Information'!E345=\"\",\"\",'Gas Cylinder Information'!E345)","v":""},{"$f":"IF('Gas Cylinder Information'!F345=\"\",\"\",'Gas Cylinder Information'!F345)","v":""},{"$f":"IF('Gas Cylinder Information'!G345=\"\",\"\",'Gas Cylinder Information'!G345)","v":""}]
[{"$f":"IF('Gas Cylinder Information'!A346=\"\",\"\",'Gas Cylinder Information'!A346)","v":""},{"$f":"IF('Gas Cylinder Information'!C346=\"\",\"\",'Gas Cylinder Information'!C346)","v":""},{"$f":"IF('Gas Cylinder Information'!D346=\"\",\"\",'Gas Cylinder Information'!D346)","v":""},{"$f":"IF('Gas Cylinder Information'!B346=\"\",\"\",'Gas Cylinder Information'!B346)","v":""},{"$f":"IF('Gas Cylinder Information'!E346=\"\",\"\",'Gas Cylinder Information'!E346)","v":""},{"$f":"IF('Gas Cylinder Information'!F346=\"\",\"\",'Gas Cylinder Information'!F346)","v":""},{"$f":"IF('Gas Cylinder Information'!G346=\"\",\"\",'Gas Cylinder Information'!G346)","v":""}]
[{"$f":"IF('Gas Cylinder Information'!A347=\"\",\"\",'Gas Cylinder Information'!A347)","v":""},{"$f":"IF('Gas Cylinder Information'!C347=\"\",\"\",'Gas Cylinder Information'!C347)","v":""},{"$f":"IF('Gas Cylinder Information'!D347=\"\",\"\",'Gas Cylinder Information'!D347)","v":""},{"$f":"IF('Gas Cylinder Information'!B347=\"\",\"\",'Gas Cylinder Information'!B347)","v":""},{"$f":"IF('Gas Cylinder Information'!E347=\"\",\"\",'Gas Cylinder Information'!E347)","v":""},{"$f":"IF('Gas Cylinder Information'!F347=\"\",\"\",'Gas Cylinder Information'!F347)","v":""},{"$f":"IF('Gas Cylinder Information'!G347=\"\",\"\",'Gas Cylinder Information'!G347)","v":""}]
[{"$f":"IF('Gas Cylinder Information'!A348=\"\",\"\",'Gas Cylinder Information'!A348)","v":""},{"$f":"IF('Gas Cylinder Information'!C348=\"\",\"\",'Gas Cylinder Information'!C348)","v":""},{"$f":"IF('Gas Cylinder Information'!D348=\"\",\"\",'Gas Cylinder Information'!D348)","v":""},{"$f":"IF('Gas Cylinder Information'!B348=\"\",\"\",'Gas Cylinder Information'!B348)","v":""},{"$f":"IF('Gas Cylinder Information'!E348=\"\",\"\",'Gas Cylinder Information'!E348)","v":""},{"$f":"IF('Gas Cylinder Information'!F348=\"\",\"\",'Gas Cylinder Information'!F348)","v":""},{"$f":"IF('Gas Cylinder Information'!G348=\"\",\"\",'Gas Cylinder Information'!G348)","v":""}]
[{"$f":"IF('Gas Cylinder Information'!A349=\"\",\"\",'Gas Cylinder Information'!A349)","v":""},{"$f":"IF('Gas Cylinder Information'!C349=\"\",\"\",'Gas Cylinder Information'!C349)","v":""},{"$f":"IF('Gas Cylinder Information'!D349=\"\",\"\",'Gas Cylinder Information'!D349)","v":""},{"$f":"IF('Gas Cylinder Information'!B349=\"\",\"\",'Gas Cylinder Information'!B349)","v":""},{"$f":"IF('Gas Cylinder Information'!E349=\"\",\"\",'Gas Cylinder Information'!E349)","v":""},{"$f":"IF('Gas Cylinder Information'!F349=\"\",\"\",'Gas Cylinder Information'!F349)","v":""},{"$f":"IF('Gas Cylinder Information'!G349=\"\",\"\",'Gas Cylinder Information'!G349)","v":""}]
[{"$f":"IF('Gas Cylinder Information'!A350=\"\",\"\",'Gas Cylinder Information'!A350)","v":""},{"$f":"IF('Gas Cylinder Information'!C350=\"\",\"\",'Gas Cylinder Information'!C350)","v":""},{"$f":"IF('Gas Cylinder Information'!D350=\"\",\"\",'Gas Cylinder Information'!D350)","v":""},{"$f":"IF('Gas Cylinder Information'!B350=\"\",\"\",'Gas Cylinder Information'!B350)","v":""},{"$f":"IF('Gas Cylinder Information'!E350=\"\",\"\",'Gas Cylinder Information'!E350)","v":""},{"$f":"IF('Gas Cylinder Information'!F350=\"\",\"\",'Gas Cylinder Information'!F350)","v":""},{"$f":"IF('Gas Cylinder Information'!G350=\"\",\"\",'Gas Cylinder Information'!G350)","v":""}]
[{"$f":"IF('Gas Cylinder Information'!A351=\"\",\"\",'Gas Cylinder Information'!A351)","v":""},{"$f":"IF('Gas Cylinder Information'!C351=\"\",\"\",'Gas Cylinder Information'!C351)","v":""},{"$f":"IF('Gas Cylinder Information'!D351=\"\",\"\",'Gas Cylinder Information'!D351)","v":""},{"$f":"IF('Gas Cylinder Information'!B351=\"\",\"\",'Gas Cylinder Information'!B351)","v":""},{"$f":"IF('Gas Cylinder Information'!E351=\"\",\"\",'Gas Cylinder Information'!E351)","v":""},{"$f":"IF('Gas Cylinder Information'!F351=\"\",\"\",'Gas Cylinder Information'!F351)","v":""},{"$f":"IF('Gas Cylinder Information'!G351=\"\",\"\",'Gas Cylinder Information'!G351)","v":""}]
[{"$f":"IF('Gas Cylinder Information'!A352=\"\",\"\",'Gas Cylinder Information'!A352)","v":""},{"$f":"IF('Gas Cylinder Information'!C352=\"\",\"\",'Gas Cylinder Information'!C352)","v":""},{"$f":"IF('Gas Cylinder Information'!D352=\"\",\"\",'Gas Cylinder Information'!D352)","v":""},{"$f":"IF('Gas Cylinder Information'!B352=\"\",\"\",'Gas Cylinder Information'!B352)","v":""},{"$f":"IF('Gas Cylinder Information'!E352=\"\",\"\",'Gas Cylinder Information'!E352)","v":""},{"$f":"IF('Gas Cylinder Information'!F352=\"\",\"\",'Gas Cylinder Information'!F352)","v":""},{"$f":"IF('Gas Cylinder Information'!G352=\"\",\"\",'Gas Cylinder Information'!G352)","v":""}]
[{"$f":"IF('Gas Cylinder Information'!A353=\"\",\"\",'Gas Cylinder Information'!A353)","v":""},{"$f":"IF('Gas Cylinder Information'!C353=\"\",\"\",'Gas Cylinder Information'!C353)","v":""},{"$f":"IF('Gas Cylinder Information'!D353=\"\",\"\",'Gas Cylinder Information'!D353)","v":""},{"$f":"IF('Gas Cylinder Information'!B353=\"\",\"\",'Gas Cylinder Information'!B353)","v":""},{"$f":"IF('Gas Cylinder Information'!E353=\"\",\"\",'Gas Cylinder Information'!E353)","v":""},{"$f":"IF('Gas Cylinder Information'!F353=\"\",\"\",'Gas Cylinder Information'!F353)","v":""},{"$f":"IF('Gas Cylinder Information'!G353=\"\",\"\",'Gas Cylinder Information'!G353)","v":""}]
[{"$f":"IF('Gas Cylinder Information'!A354=\"\",\"\",'Gas Cylinder Information'!A354)","v":""},{"$f":"IF('Gas Cylinder Information'!C354=\"\",\"\",'Gas Cylinder Information'!C354)","v":""},{"$f":"IF('Gas Cylinder Information'!D354=\"\",\"\",'Gas Cylinder Information'!D354)","v":""},{"$f":"IF('Gas Cylinder Information'!B354=\"\",\"\",'Gas Cylinder Information'!B354)","v":""},{"$f":"IF('Gas Cylinder Information'!E354=\"\",\"\",'Gas Cylinder Information'!E354)","v":""},{"$f":"IF('Gas Cylinder Information'!F354=\"\",\"\",'Gas Cylinder Information'!F354)","v":""},{"$f":"IF('Gas Cylinder Information'!G354=\"\",\"\",'Gas Cylinder Information'!G354)","v":""}]
[{"$f":"IF('Gas Cylinder Information'!A355=\"\",\"\",'Gas Cylinder Information'!A355)","v":""},{"$f":"IF('Gas Cylinder Information'!C355=\"\",\"\",'Gas Cylinder Information'!C355)","v":""},{"$f":"IF('Gas Cylinder Information'!D355=\"\",\"\",'Gas Cylinder Information'!D355)","v":""},{"$f":"IF('Gas Cylinder Information'!B355=\"\",\"\",'Gas Cylinder Information'!B355)","v":""},{"$f":"IF('Gas Cylinder Information'!E355=\"\",\"\",'Gas Cylinder Information'!E355)","v":""},{"$f":"IF('Gas Cylinder Information'!F355=\"\",\"\",'Gas Cylinder Information'!F355)","v":""},{"$f":"IF('Gas Cylinder Information'!G355=\"\",\"\",'Gas Cylinder Information'!G355)","v":""}]
[{"$f":"IF('Gas Cylinder Information'!A356=\"\",\"\",'Gas Cylinder Information'!A356)","v":""},{"$f":"IF('Gas Cylinder Information'!C356=\"\",\"\",'Gas Cylinder Information'!C356)","v":""},{"$f":"IF('Gas Cylinder Information'!D356=\"\",\"\",'Gas Cylinder Information'!D356)","v":""},{"$f":"IF('Gas Cylinder Information'!B356=\"\",\"\",'Gas Cylinder Information'!B356)","v":""},{"$f":"IF('Gas Cylinder Information'!E356=\"\",\"\",'Gas Cylinder Information'!E356)","v":""},{"$f":"IF('Gas Cylinder Information'!F356=\"\",\"\",'Gas Cylinder Information'!F356)","v":""},{"$f":"IF('Gas Cylinder Information'!G356=\"\",\"\",'Gas Cylinder Information'!G356)","v":""}]
[{"$f":"IF('Gas Cylinder Information'!A357=\"\",\"\",'Gas Cylinder Information'!A357)","v":""},{"$f":"IF('Gas Cylinder Information'!C357=\"\",\"\",'Gas Cylinder Information'!C357)","v":""},{"$f":"IF('Gas Cylinder Information'!D357=\"\",\"\",'Gas Cylinder Information'!D357)","v":""},{"$f":"IF('Gas Cylinder Information'!B357=\"\",\"\",'Gas Cylinder Information'!B357)","v":""},{"$f":"IF('Gas Cylinder Information'!E357=\"\",\"\",'Gas Cylinder Information'!E357)","v":""},{"$f":"IF('Gas Cylinder Information'!F357=\"\",\"\",'Gas Cylinder Information'!F357)","v":""},{"$f":"IF('Gas Cylinder Information'!G357=\"\",\"\",'Gas Cylinder Information'!G357)","v":""}]
[{"$f":"IF('Gas Cylinder Information'!A358=\"\",\"\",'Gas Cylinder Information'!A358)","v":""},{"$f":"IF('Gas Cylinder Information'!C358=\"\",\"\",'Gas Cylinder Information'!C358)","v":""},{"$f":"IF('Gas Cylinder Information'!D358=\"\",\"\",'Gas Cylinder Information'!D358)","v":""},{"$f":"IF('Gas Cylinder Information'!B358=\"\",\"\",'Gas Cylinder Information'!B358)","v":""},{"$f":"IF('Gas Cylinder Information'!E358=\"\",\"\",'Gas Cylinder Information'!E358)","v":""},{"$f":"IF('Gas Cylinder Information'!F358=\"\",\"\",'Gas Cylinder Information'!F358)","v":""},{"$f":"IF('Gas Cylinder Information'!G358=\"\",\"\",'Gas Cylinder Information'!G358)","v":""}]
[{"$f":"IF('Gas Cylinder Information'!A359=\"\",\"\",'Gas Cylinder Information'!A359)","v":""},{"$f":"IF('Gas Cylinder Information'!C359=\"\",\"\",'Gas Cylinder Information'!C359)","v":""},{"$f":"IF('Gas Cylinder Information'!D359=\"\",\"\",'Gas Cylinder Information'!D359)","v":""},{"$f":"IF('Gas Cylinder Information'!B359=\"\",\"\",'Gas Cylinder Information'!B359)","v":""},{"$f":"IF('Gas Cylinder Information'!E359=\"\",\"\",'Gas Cylinder Information'!E359)","v":""},{"$f":"IF('Gas Cylinder Information'!F359=\"\",\"\",'Gas Cylinder Information'!F359)","v":""},{"$f":"IF('Gas Cylinder Information'!G359=\"\",\"\",'Gas Cylinder Information'!G359)","v":""}]
[{"$f":"IF('Gas Cylinder Information'!A360=\"\",\"\",'Gas Cylinder Information'!A360)","v":""},{"$f":"IF('Gas Cylinder Information'!C360=\"\",\"\",'Gas Cylinder Information'!C360)","v":""},{"$f":"IF('Gas Cylinder Information'!D360=\"\",\"\",'Gas Cylinder Information'!D360)","v":""},{"$f":"IF('Gas Cylinder Information'!B360=\"\",\"\",'Gas Cylinder Information'!B360)","v":""},{"$f":"IF('Gas Cylinder Information'!E360=\"\",\"\",'Gas Cylinder Information'!E360)","v":""},{"$f":"IF('Gas Cylinder Information'!F360=\"\",\"\",'Gas Cylinder Information'!F360)","v":""},{"$f":"IF('Gas Cylinder Information'!G360=\"\",\"\",'Gas Cylinder Information'!G360)","v":""}]
[{"$f":"IF('Gas Cylinder Information'!A361=\"\",\"\",'Gas Cylinder Information'!A361)","v":""},{"$f":"IF('Gas Cylinder Information'!C361=\"\",\"\",'Gas Cylinder Information'!C361)","v":""},{"$f":"IF('Gas Cylinder Information'!D361=\"\",\"\",'Gas Cylinder Information'!D361)","v":""},{"$f":"IF('Gas Cylinder Information'!B361=\"\",\"\",'Gas Cylinder Information'!B361)","v":""},{"$f":"IF('Gas Cylinder Information'!E361=\"\",\"\",'Gas Cylinder Information'!E361)","v":""},{"$f":"IF('Gas Cylinder Information'!F361=\"\",\"\",'Gas Cylinder Information'!F361)","v":""},{"$f":"IF('Gas Cylinder Information'!G361=\"\",\"\",'Gas Cylinder Information'!G361)","v":""}]
[{"$f":"IF('Gas Cylinder Information'!A362=\"\",\"\",'Gas Cylinder Information'!A362)","v":""},{"$f":"IF('Gas Cylinder Information'!C362=\"\",\"\",'Gas Cylinder Information'!C362)","v":""},{"$f":"IF('Gas Cylinder Information'!D362=\"\",\"\",'Gas Cylinder Information'!D362)","v":""},{"$f":"IF('Gas Cylinder Information'!B362=\"\",\"\",'Gas Cylinder Information'!B362)","v":""},{"$f":"IF('Gas Cylinder Information'!E362=\"\",\"\",'Gas Cylinder Information'!E362)","v":""},{"$f":"IF('Gas Cylinder Information'!F362=\"\",\"\",'Gas Cylinder Information'!F362)","v":""},{"$f":"IF('Gas Cylinder Information'!G362=\"\",\"\",'Gas Cylinder Information'!G362)","v":""}]
[{"$f":"IF('Gas Cylinder Information'!A363=\"\",\"\",'Gas Cylinder Information'!A363)","v":""},{"$f":"IF('Gas Cylinder Information'!C363=\"\",\"\",'Gas Cylinder Information'!C363)","v":""},{"$f":"IF('Gas Cylinder Information'!D363=\"\",\"\",'Gas Cylinder Information'!D363)","v":""},{"$f":"IF('Gas Cylinder Information'!B363=\"\",\"\",'Gas Cylinder Information'!B363)","v":""},{"$f":"IF('Gas Cylinder Information'!E363=\"\",\"\",'Gas Cylinder Information'!E363)","v":""},{"$f":"IF('Gas Cylinder Information'!F363=\"\",\"\",'Gas Cylinder Information'!F363)","v":""},{"$f":"IF('Gas Cylinder Information'!G363=\"\",\"\",'Gas Cylinder Information'!G363)","v":""}]
[{"$f":"IF('Gas Cylinder Information'!A364=\"\",\"\",'Gas Cylinder Information'!A364)","v":""},{"$f":"IF('Gas Cylinder Information'!C364=\"\",\"\",'Gas Cylinder Information'!C364)","v":""},{"$f":"IF('Gas Cylinder Information'!D364=\"\",\"\",'Gas Cylinder Information'!D364)","v":""},{"$f":"IF('Gas Cylinder Information'!B364=\"\",\"\",'Gas Cylinder Information'!B364)","v":""},{"$f":"IF('Gas Cylinder Information'!E364=\"\",\"\",'Gas Cylinder Information'!E364)","v":""},{"$f":"IF('Gas Cylinder Information'!F364=\"\",\"\",'Gas Cylinder Information'!F364)","v":""},{"$f":"IF('Gas Cylinder Information'!G364=\"\",\"\",'Gas Cylinder Information'!G364)","v":""}]
[{"$f":"IF('Gas Cylinder Information'!A365=\"\",\"\",'Gas Cylinder Information'!A365)","v":""},{"$f":"IF('Gas Cylinder Information'!C365=\"\",\"\",'Gas Cylinder Information'!C365)","v":""},{"$f":"IF('Gas Cylinder Information'!D365=\"\",\"\",'Gas Cylinder Information'!D365)","v":""},{"$f":"IF('Gas Cylinder Information'!B365=\"\",\"\",'Gas Cylinder Information'!B365)","v":""},{"$f":"IF('Gas Cylinder Information'!E365=\"\",\"\",'Gas Cylinder Information'!E365)","v":""},{"$f":"IF('Gas Cylinder Information'!F365=\"\",\"\",'Gas Cylinder Information'!F365)","v":""},{"$f":"IF('Gas Cylinder Information'!G365=\"\",\"\",'Gas Cylinder Information'!G365)","v":""}]
[{"$f":"IF('Gas Cylinder Information'!A366=\"\",\"\",'Gas Cylinder Information'!A366)","v":""},{"$f":"IF('Gas Cylinder Information'!C366=\"\",\"\",'Gas Cylinder Information'!C366)","v":""},{"$f":"IF('Gas Cylinder Information'!D366=\"\",\"\",'Gas Cylinder Information'!D366)","v":""},{"$f":"IF('Gas Cylinder Information'!B366=\"\",\"\",'Gas Cylinder Information'!B366)","v":""},{"$f":"IF('Gas Cylinder Information'!E366=\"\",\"\",'Gas Cylinder Information'!E366)","v":""},{"$f":"IF('Gas Cylinder Information'!F366=\"\",\"\",'Gas Cylinder Information'!F366)","v":""},{"$f":"IF('Gas Cylinder Information'!G366=\"\",\"\",'Gas Cylinder Information'!G366)","v":""}]
[{"$f":"IF('Gas Cylinder Information'!A367=\"\",\"\",'Gas Cylinder Information'!A367)","v":""},{"$f":"IF('Gas Cylinder Information'!C367=\"\",\"\",'Gas Cylinder Information'!C367)","v":""},{"$f":"IF('Gas Cylinder Information'!D367=\"\",\"\",'Gas Cylinder Information'!D367)","v":""},{"$f":"IF('Gas Cylinder Information'!B367=\"\",\"\",'Gas Cylinder Information'!B367)","v":""},{"$f":"IF('Gas Cylinder Information'!E367=\"\",\"\",'Gas Cylinder Information'!E367)","v":""},{"$f":"IF('Gas Cylinder Information'!F367=\"\",\"\",'Gas Cylinder Information'!F367)","v":""},{"$f":"IF('Gas Cylinder Information'!G367=\"\",\"\",'Gas Cylinder Information'!G367)","v":""}]
[{"$f":"IF('Gas Cylinder Information'!A368=\"\",\"\",'Gas Cylinder Information'!A368)","v":""},{"$f":"IF('Gas Cylinder Information'!C368=\"\",\"\",'Gas Cylinder Information'!C368)","v":""},{"$f":"IF('Gas Cylinder Information'!D368=\"\",\"\",'Gas Cylinder Information'!D368)","v":""},{"$f":"IF('Gas Cylinder Information'!B368=\"\",\"\",'Gas Cylinder Information'!B368)","v":""},{"$f":"IF('Gas Cylinder Information'!E368=\"\",\"\",'Gas Cylinder Information'!E368)","v":""},{"$f":"IF('Gas Cylinder Information'!F368=\"\",\"\",'Gas Cylinder Information'!F368)","v":""},{"$f":"IF('Gas Cylinder Information'!G368=\"\",\"\",'Gas Cylinder Information'!G368)","v":""}]
[{"$f":"IF('Gas Cylinder Information'!A369=\"\",\"\",'Gas Cylinder Information'!A369)","v":""},{"$f":"IF('Gas Cylinder Information'!C369=\"\",\"\",'Gas Cylinder Information'!C369)","v":""},{"$f":"IF('Gas Cylinder Information'!D369=\"\",\"\",'Gas Cylinder Information'!D369)","v":""},{"$f":"IF('Gas Cylinder Information'!B369=\"\",\"\",'Gas Cylinder Information'!B369)","v":""},{"$f":"IF('Gas Cylinder Information'!E369=\"\",\"\",'Gas Cylinder Information'!E369)","v":""},{"$f":"IF('Gas Cylinder Information'!F369=\"\",\"\",'Gas Cylinder Information'!F369)","v":""},{"$f":"IF('Gas Cylinder Information'!G369=\"\",\"\",'Gas Cylinder Information'!G369)","v":""}]
[{"$f":"IF('Gas Cylinder Information'!A370=\"\",\"\",'Gas Cylinder Information'!A370)","v":""},{"$f":"IF('Gas Cylinder Information'!C370=\"\",\"\",'Gas Cylinder Information'!C370)","v":""},{"$f":"IF('Gas Cylinder Information'!D370=\"\",\"\",'Gas Cylinder Information'!D370)","v":""},{"$f":"IF('Gas Cylinder Information'!B370=\"\",\"\",'Gas Cylinder Information'!B370)","v":""},{"$f":"IF('Gas Cylinder Information'!E370=\"\",\"\",'Gas Cylinder Information'!E370)","v":""},{"$f":"IF('Gas Cylinder Information'!F370=\"\",\"\",'Gas Cylinder Information'!F370)","v":""},{"$f":"IF('Gas Cylinder Information'!G370=\"\",\"\",'Gas Cylinder Information'!G370)","v":""}]
[{"$f":"IF('Gas Cylinder Information'!A371=\"\",\"\",'Gas Cylinder Information'!A371)","v":""},{"$f":"IF('Gas Cylinder Information'!C371=\"\",\"\",'Gas Cylinder Information'!C371)","v":""},{"$f":"IF('Gas Cylinder Information'!D371=\"\",\"\",'Gas Cylinder Information'!D371)","v":""},{"$f":"IF('Gas Cylinder Information'!B371=\"\",\"\",'Gas Cylinder Information'!B371)","v":""},{"$f":"IF('Gas Cylinder Information'!E371=\"\",\"\",'Gas Cylinder Information'!E371)","v":""},{"$f":"IF('Gas Cylinder Information'!F371=\"\",\"\",'Gas Cylinder Information'!F371)","v":""},{"$f":"IF('Gas Cylinder Information'!G371=\"\",\"\",'Gas Cylinder Information'!G371)","v":""}]
[{"$f":"IF('Gas Cylinder Information'!A372=\"\",\"\",'Gas Cylinder Information'!A372)","v":""},{"$f":"IF('Gas Cylinder Information'!C372=\"\",\"\",'Gas Cylinder Information'!C372)","v":""},{"$f":"IF('Gas Cylinder Information'!D372=\"\",\"\",'Gas Cylinder Information'!D372)","v":""},{"$f":"IF('Gas Cylinder Information'!B372=\"\",\"\",'Gas Cylinder Information'!B372)","v":""},{"$f":"IF('Gas Cylinder Information'!E372=\"\",\"\",'Gas Cylinder Information'!E372)","v":""},{"$f":"IF('Gas Cylinder Information'!F372=\"\",\"\",'Gas Cylinder Information'!F372)","v":""},{"$f":"IF('Gas Cylinder Information'!G372=\"\",\"\",'Gas Cylinder Information'!G372)","v":""}]
[{"$f":"IF('Gas Cylinder Information'!A373=\"\",\"\",'Gas Cylinder Information'!A373)","v":""},{"$f":"IF('Gas Cylinder Information'!C373=\"\",\"\",'Gas Cylinder Information'!C373)","v":""},{"$f":"IF('Gas Cylinder Information'!D373=\"\",\"\",'Gas Cylinder Information'!D373)","v":""},{"$f":"IF('Gas Cylinder Information'!B373=\"\",\"\",'Gas Cylinder Information'!B373)","v":""},{"$f":"IF('Gas Cylinder Information'!E373=\"\",\"\",'Gas Cylinder Information'!E373)","v":""},{"$f":"IF('Gas Cylinder Information'!F373=\"\",\"\",'Gas Cylinder Information'!F373)","v":""},{"$f":"IF('Gas Cylinder Information'!G373=\"\",\"\",'Gas Cylinder Information'!G373)","v":""}]
[{"$f":"IF('Gas Cylinder Information'!A374=\"\",\"\",'Gas Cylinder Information'!A374)","v":""},{"$f":"IF('Gas Cylinder Information'!C374=\"\",\"\",'Gas Cylinder Information'!C374)","v":""},{"$f":"IF('Gas Cylinder Information'!D374=\"\",\"\",'Gas Cylinder Information'!D374)","v":""},{"$f":"IF('Gas Cylinder Information'!B374=\"\",\"\",'Gas Cylinder Information'!B374)","v":""},{"$f":"IF('Gas Cylinder Information'!E374=\"\",\"\",'Gas Cylinder Information'!E374)","v":""},{"$f":"IF('Gas Cylinder Information'!F374=\"\",\"\",'Gas Cylinder Information'!F374)","v":""},{"$f":"IF('Gas Cylinder Information'!G374=\"\",\"\",'Gas Cylinder Information'!G374)","v":""}]
[{"$f":"IF('Gas Cylinder Information'!A375=\"\",\"\",'Gas Cylinder Information'!A375)","v":""},{"$f":"IF('Gas Cylinder Information'!C375=\"\",\"\",'Gas Cylinder Information'!C375)","v":""},{"$f":"IF('Gas Cylinder Information'!D375=\"\",\"\",'Gas Cylinder Information'!D375)","v":""},{"$f":"IF('Gas Cylinder Information'!B375=\"\",\"\",'Gas Cylinder Information'!B375)","v":""},{"$f":"IF('Gas Cylinder Information'!E375=\"\",\"\",'Gas Cylinder Information'!E375)","v":""},{"$f":"IF('Gas Cylinder Information'!F375=\"\",\"\",'Gas Cylinder Information'!F375)","v":""},{"$f":"IF('Gas Cylinder Information'!G375=\"\",\"\",'Gas Cylinder Information'!G375)","v":""}]
[{"$f":"IF('Gas Cylinder Information'!A376=\"\",\"\",'Gas Cylinder Information'!A376)","v":""},{"$f":"IF('Gas Cylinder Information'!C376=\"\",\"\",'Gas Cylinder Information'!C376)","v":""},{"$f":"IF('Gas Cylinder Information'!D376=\"\",\"\",'Gas Cylinder Information'!D376)","v":""},{"$f":"IF('Gas Cylinder Information'!B376=\"\",\"\",'Gas Cylinder Information'!B376)","v":""},{"$f":"IF('Gas Cylinder Information'!E376=\"\",\"\",'Gas Cylinder Information'!E376)","v":""},{"$f":"IF('Gas Cylinder Information'!F376=\"\",\"\",'Gas Cylinder Information'!F376)","v":""},{"$f":"IF('Gas Cylinder Information'!G376=\"\",\"\",'Gas Cylinder Information'!G376)","v":""}]
[{"$f":"IF('Gas Cylinder Information'!A377=\"\",\"\",'Gas Cylinder Information'!A377)","v":""},{"$f":"IF('Gas Cylinder Information'!C377=\"\",\"\",'Gas Cylinder Information'!C377)","v":""},{"$f":"IF('Gas Cylinder Information'!D377=\"\",\"\",'Gas Cylinder Information'!D377)","v":""},{"$f":"IF('Gas Cylinder Information'!B377=\"\",\"\",'Gas Cylinder Information'!B377)","v":""},{"$f":"IF('Gas Cylinder Information'!E377=\"\",\"\",'Gas Cylinder Information'!E377)","v":""},{"$f":"IF('Gas Cylinder Information'!F377=\"\",\"\",'Gas Cylinder Information'!F377)","v":""},{"$f":"IF('Gas Cylinder Information'!G377=\"\",\"\",'Gas Cylinder Information'!G377)","v":""}]
[{"$f":"IF('Gas Cylinder Information'!A378=\"\",\"\",'Gas Cylinder Information'!A378)","v":""},{"$f":"IF('Gas Cylinder Information'!C378=\"\",\"\",'Gas Cylinder Information'!C378)","v":""},{"$f":"IF('Gas Cylinder Information'!D378=\"\",\"\",'Gas Cylinder Information'!D378)","v":""},{"$f":"IF('Gas Cylinder Information'!B378=\"\",\"\",'Gas Cylinder Information'!B378)","v":""},{"$f":"IF('Gas Cylinder Information'!E378=\"\",\"\",'Gas Cylinder Information'!E378)","v":""},{"$f":"IF('Gas Cylinder Information'!F378=\"\",\"\",'Gas Cylinder Information'!F378)","v":""},{"$f":"IF('Gas Cylinder Information'!G378=\"\",\"\",'Gas Cylinder Information'!G378)","v":""}]
[{"$f":"IF('Gas Cylinder Information'!A379=\"\",\"\",'Gas Cylinder Information'!A379)","v":""},{"$f":"IF('Gas Cylinder Information'!C379=\"\",\"\",'Gas Cylinder Information'!C379)","v":""},{"$f":"IF('Gas Cylinder Information'!D379=\"\",\"\",'Gas Cylinder Information'!D379)","v":""},{"$f":"IF('Gas Cylinder Information'!B379=\"\",\"\",'Gas Cylinder Information'!B379)","v":""},{"$f":"IF('Gas Cylinder Information'!E379=\"\",\"\",'Gas Cylinder Information'!E379)","v":""},{"$f":"IF('Gas Cylinder Information'!F379=\"\",\"\",'Gas Cylinder Information'!F379)","v":""},{"$f":"IF('Gas Cylinder Information'!G379=\"\",\"\",'Gas Cylinder Information'!G379)","v":""}]
[{"$f":"IF('Gas Cylinder Information'!A380=\"\",\"\",'Gas Cylinder Information'!A380)","v":""},{"$f":"IF('Gas Cylinder Information'!C380=\"\",\"\",'Gas Cylinder Information'!C380)","v":""},{"$f":"IF('Gas Cylinder Information'!D380=\"\",\"\",'Gas Cylinder Information'!D380)","v":""},{"$f":"IF('Gas Cylinder Information'!B380=\"\",\"\",'Gas Cylinder Information'!B380)","v":""},{"$f":"IF('Gas Cylinder Information'!E380=\"\",\"\",'Gas Cylinder Information'!E380)","v":""},{"$f":"IF('Gas Cylinder Information'!F380=\"\",\"\",'Gas Cylinder Information'!F380)","v":""},{"$f":"IF('Gas Cylinder Information'!G380=\"\",\"\",'Gas Cylinder Information'!G380)","v":""}]
[{"$f":"IF('Gas Cylinder Information'!A381=\"\",\"\",'Gas Cylinder Information'!A381)","v":""},{"$f":"IF('Gas Cylinder Information'!C381=\"\",\"\",'Gas Cylinder Information'!C381)","v":""},{"$f":"IF('Gas Cylinder Information'!D381=\"\",\"\",'Gas Cylinder Information'!D381)","v":""},{"$f":"IF('Gas Cylinder Information'!B381=\"\",\"\",'Gas Cylinder Information'!B381)","v":""},{"$f":"IF('Gas Cylinder Information'!E381=\"\",\"\",'Gas Cylinder Information'!E381)","v":""},{"$f":"IF('Gas Cylinder Information'!F381=\"\",\"\",'Gas Cylinder Information'!F381)","v":""},{"$f":"IF('Gas Cylinder Information'!G381=\"\",\"\",'Gas Cylinder Information'!G381)","v":""}]
[{"$f":"IF('Gas Cylinder Information'!A382=\"\",\"\",'Gas Cylinder Information'!A382)","v":""},{"$f":"IF('Gas Cylinder Information'!C382=\"\",\"\",'Gas Cylinder Information'!C382)","v":""},{"$f":"IF('Gas Cylinder Information'!D382=\"\",\"\",'Gas Cylinder Information'!D382)","v":""},{"$f":"IF('Gas Cylinder Information'!B382=\"\",\"\",'Gas Cylinder Information'!B382)","v":""},{"$f":"IF('Gas Cylinder Information'!E382=\"\",\"\",'Gas Cylinder Information'!E382)","v":""},{"$f":"IF('Gas Cylinder Information'!F382=\"\",\"\",'Gas Cylinder Information'!F382)","v":""},{"$f":"IF('Gas Cylinder Information'!G382=\"\",\"\",'Gas Cylinder Information'!G382)","v":""}]
[{"$f":"IF('Gas Cylinder Information'!A383=\"\",\"\",'Gas Cylinder Information'!A383)","v":""},{"$f":"IF('Gas Cylinder Information'!C383=\"\",\"\",'Gas Cylinder Information'!C383)","v":""},{"$f":"IF('Gas Cylinder Information'!D383=\"\",\"\",'Gas Cylinder Information'!D383)","v":""},{"$f":"IF('Gas Cylinder Information'!B383=\"\",\"\",'Gas Cylinder Information'!B383)","v":""},{"$f":"IF('Gas Cylinder Information'!E383=\"\",\"\",'Gas Cylinder Information'!E383)","v":""},{"$f":"IF('Gas Cylinder Information'!F383=\"\",\"\",'Gas Cylinder Information'!F383)","v":""},{"$f":"IF('Gas Cylinder Information'!G383=\"\",\"\",'Gas Cylinder Information'!G383)","v":""}]
[{"$f":"IF('Gas Cylinder Information'!A384=\"\",\"\",'Gas Cylinder Information'!A384)","v":""},{"$f":"IF('Gas Cylinder Information'!C384=\"\",\"\",'Gas Cylinder Information'!C384)","v":""},{"$f":"IF('Gas Cylinder Information'!D384=\"\",\"\",'Gas Cylinder Information'!D384)","v":""},{"$f":"IF('Gas Cylinder Information'!B384=\"\",\"\",'Gas Cylinder Information'!B384)","v":""},{"$f":"IF('Gas Cylinder Information'!E384=\"\",\"\",'Gas Cylinder Information'!E384)","v":""},{"$f":"IF('Gas Cylinder Information'!F384=\"\",\"\",'Gas Cylinder Information'!F384)","v":""},{"$f":"IF('Gas Cylinder Information'!G384=\"\",\"\",'Gas Cylinder Information'!G384)","v":""}]
[{"$f":"IF('Gas Cylinder Information'!A385=\"\",\"\",'Gas Cylinder Information'!A385)","v":""},{"$f":"IF('Gas Cylinder Information'!C385=\"\",\"\",'Gas Cylinder Information'!C385)","v":""},{"$f":"IF('Gas Cylinder Information'!D385=\"\",\"\",'Gas Cylinder Information'!D385)","v":""},{"$f":"IF('Gas Cylinder Information'!B385=\"\",\"\",'Gas Cylinder Information'!B385)","v":""},{"$f":"IF('Gas Cylinder Information'!E385=\"\",\"\",'Gas Cylinder Information'!E385)","v":""},{"$f":"IF('Gas Cylinder Information'!F385=\"\",\"\",'Gas Cylinder Information'!F385)","v":""},{"$f":"IF('Gas Cylinder Information'!G385=\"\",\"\",'Gas Cylinder Information'!G385)","v":""}]
[{"$f":"IF('Gas Cylinder Information'!A386=\"\",\"\",'Gas Cylinder Information'!A386)","v":""},{"$f":"IF('Gas Cylinder Information'!C386=\"\",\"\",'Gas Cylinder Information'!C386)","v":""},{"$f":"IF('Gas Cylinder Information'!D386=\"\",\"\",'Gas Cylinder Information'!D386)","v":""},{"$f":"IF('Gas Cylinder Information'!B386=\"\",\"\",'Gas Cylinder Information'!B386)","v":""},{"$f":"IF('Gas Cylinder Information'!E386=\"\",\"\",'Gas Cylinder Information'!E386)","v":""},{"$f":"IF('Gas Cylinder Information'!F386=\"\",\"\",'Gas Cylinder Information'!F386)","v":""},{"$f":"IF('Gas Cylinder Information'!G386=\"\",\"\",'Gas Cylinder Information'!G386)","v":""}]
[{"$f":"IF('Gas Cylinder Information'!A387=\"\",\"\",'Gas Cylinder Information'!A387)","v":""},{"$f":"IF('Gas Cylinder Information'!C387=\"\",\"\",'Gas Cylinder Information'!C387)","v":""},{"$f":"IF('Gas Cylinder Information'!D387=\"\",\"\",'Gas Cylinder Information'!D387)","v":""},{"$f":"IF('Gas Cylinder Information'!B387=\"\",\"\",'Gas Cylinder Information'!B387)","v":""},{"$f":"IF('Gas Cylinder Information'!E387=\"\",\"\",'Gas Cylinder Information'!E387)","v":""},{"$f":"IF('Gas Cylinder Information'!F387=\"\",\"\",'Gas Cylinder Information'!F387)","v":""},{"$f":"IF('Gas Cylinder Information'!G387=\"\",\"\",'Gas Cylinder Information'!G387)","v":""}]
[{"$f":"IF('Gas Cylinder Information'!A388=\"\",\"\",'Gas Cylinder Information'!A388)","v":""},{"$f":"IF('Gas Cylinder Information'!C388=\"\",\"\",'Gas Cylinder Information'!C388)","v":""},{"$f":"IF('Gas Cylinder Information'!D388=\"\",\"\",'Gas Cylinder Information'!D388)","v":""},{"$f":"IF('Gas Cylinder Information'!B388=\"\",\"\",'Gas Cylinder Information'!B388)","v":""},{"$f":"IF('Gas Cylinder Information'!E388=\"\",\"\",'Gas Cylinder Information'!E388)","v":""},{"$f":"IF('Gas Cylinder Information'!F388=\"\",\"\",'Gas Cylinder Information'!F388)","v":""},{"$f":"IF('Gas Cylinder Information'!G388=\"\",\"\",'Gas Cylinder Information'!G388)","v":""}]
[{"$f":"IF('Gas Cylinder Information'!A389=\"\",\"\",'Gas Cylinder Information'!A389)","v":""},{"$f":"IF('Gas Cylinder Information'!C389=\"\",\"\",'Gas Cylinder Information'!C389)","v":""},{"$f":"IF('Gas Cylinder Information'!D389=\"\",\"\",'Gas Cylinder Information'!D389)","v":""},{"$f":"IF('Gas Cylinder Information'!B389=\"\",\"\",'Gas Cylinder Information'!B389)","v":""},{"$f":"IF('Gas Cylinder Information'!E389=\"\",\"\",'Gas Cylinder Information'!E389)","v":""},{"$f":"IF('Gas Cylinder Information'!F389=\"\",\"\",'Gas Cylinder Information'!F389)","v":""},{"$f":"IF('Gas Cylinder Information'!G389=\"\",\"\",'Gas Cylinder Information'!G389)","v":""}]
[{"$f":"IF('Gas Cylinder Information'!A390=\"\",\"\",'Gas Cylinder Information'!A390)","v":""},{"$f":"IF('Gas Cylinder Information'!C390=\"\",\"\",'Gas Cylinder Information'!C390)","v":""},{"$f":"IF('Gas Cylinder Information'!D390=\"\",\"\",'Gas Cylinder Information'!D390)","v":""},{"$f":"IF('Gas Cylinder Information'!B390=\"\",\"\",'Gas Cylinder Information'!B390)","v":""},{"$f":"IF('Gas Cylinder Information'!E390=\"\",\"\",'Gas Cylinder Information'!E390)","v":""},{"$f":"IF('Gas Cylinder Information'!F390=\"\",\"\",'Gas Cylinder Information'!F390)","v":""},{"$f":"IF('Gas Cylinder Information'!G390=\"\",\"\",'Gas Cylinder Information'!G390)","v":""}]
[{"$f":"IF('Gas Cylinder Information'!A391=\"\",\"\",'Gas Cylinder Information'!A391)","v":""},{"$f":"IF('Gas Cylinder Information'!C391=\"\",\"\",'Gas Cylinder Information'!C391)","v":""},{"$f":"IF('Gas Cylinder Information'!D391=\"\",\"\",'Gas Cylinder Information'!D391)","v":""},{"$f":"IF('Gas Cylinder Information'!B391=\"\",\"\",'Gas Cylinder Information'!B391)","v":""},{"$f":"IF('Gas Cylinder Information'!E391=\"\",\"\",'Gas Cylinder Information'!E391)","v":""},{"$f":"IF('Gas Cylinder Information'!F391=\"\",\"\",'Gas Cylinder Information'!F391)","v":""},{"$f":"IF('Gas Cylinder Information'!G391=\"\",\"\",'Gas Cylinder Information'!G391)","v":""}]
[{"$f":"IF('Gas Cylinder Information'!A392=\"\",\"\",'Gas Cylinder Information'!A392)","v":""},{"$f":"IF('Gas Cylinder Information'!C392=\"\",\"\",'Gas Cylinder Information'!C392)","v":""},{"$f":"IF('Gas Cylinder Information'!D392=\"\",\"\",'Gas Cylinder Information'!D392)","v":""},{"$f":"IF('Gas Cylinder Information'!B392=\"\",\"\",'Gas Cylinder Information'!B392)","v":""},{"$f":"IF('Gas Cylinder Information'!E392=\"\",\"\",'Gas Cylinder Information'!E392)","v":""},{"$f":"IF('Gas Cylinder Information'!F392=\"\",\"\",'Gas Cylinder Information'!F392)","v":""},{"$f":"IF('Gas Cylinder Information'!G392=\"\",\"\",'Gas Cylinder Information'!G392)","v":""}]
[{"$f":"IF('Gas Cylinder Information'!A393=\"\",\"\",'Gas Cylinder Information'!A393)","v":""},{"$f":"IF('Gas Cylinder Information'!C393=\"\",\"\",'Gas Cylinder Information'!C393)","v":""},{"$f":"IF('Gas Cylinder Information'!D393=\"\",\"\",'Gas Cylinder Information'!D393)","v":""},{"$f":"IF('Gas Cylinder Information'!B393=\"\",\"\",'Gas Cylinder Information'!B393)","v":""},{"$f":"IF('Gas Cylinder Information'!E393=\"\",\"\",'Gas Cylinder Information'!E393)","v":""},{"$f":"IF('Gas Cylinder Information'!F393=\"\",\"\",'Gas Cylinder Information'!F393)","v":""},{"$f":"IF('Gas Cylinder Information'!G393=\"\",\"\",'Gas Cylinder Information'!G393)","v":""}]
[{"$f":"IF('Gas Cylinder Information'!A394=\"\",\"\",'Gas Cylinder Information'!A394)","v":""},{"$f":"IF('Gas Cylinder Information'!C394=\"\",\"\",'Gas Cylinder Information'!C394)","v":""},{"$f":"IF('Gas Cylinder Information'!D394=\"\",\"\",'Gas Cylinder Information'!D394)","v":""},{"$f":"IF('Gas Cylinder Information'!B394=\"\",\"\",'Gas Cylinder Information'!B394)","v":""},{"$f":"IF('Gas Cylinder Information'!E394=\"\",\"\",'Gas Cylinder Information'!E394)","v":""},{"$f":"IF('Gas Cylinder Information'!F394=\"\",\"\",'Gas Cylinder Information'!F394)","v":""},{"$f":"IF('Gas Cylinder Information'!G394=\"\",\"\",'Gas Cylinder Information'!G394)","v":""}]
[{"$f":"IF('Gas Cylinder Information'!A395=\"\",\"\",'Gas Cylinder Information'!A395)","v":""},{"$f":"IF('Gas Cylinder Information'!C395=\"\",\"\",'Gas Cylinder Information'!C395)","v":""},{"$f":"IF('Gas Cylinder Information'!D395=\"\",\"\",'Gas Cylinder Information'!D395)","v":""},{"$f":"IF('Gas Cylinder Information'!B395=\"\",\"\",'Gas Cylinder Information'!B395)","v":""},{"$f":"IF('Gas Cylinder Information'!E395=\"\",\"\",'Gas Cylinder Information'!E395)","v":""},{"$f":"IF('Gas Cylinder Information'!F395=\"\",\"\",'Gas Cylinder Information'!F395)","v":""},{"$f":"IF('Gas Cylinder Information'!G395=\"\",\"\",'Gas Cylinder Information'!G395)","v":""}]
[{"$f":"IF('Gas Cylinder Information'!A396=\"\",\"\",'Gas Cylinder Information'!A396)","v":""},{"$f":"IF('Gas Cylinder Information'!C396=\"\",\"\",'Gas Cylinder Information'!C396)","v":""},{"$f":"IF('Gas Cylinder Information'!D396=\"\",\"\",'Gas Cylinder Information'!D396)","v":""},{"$f":"IF('Gas Cylinder Information'!B396=\"\",\"\",'Gas Cylinder Information'!B396)","v":""},{"$f":"IF('Gas Cylinder Information'!E396=\"\",\"\",'Gas Cylinder Information'!E396)","v":""},{"$f":"IF('Gas Cylinder Information'!F396=\"\",\"\",'Gas Cylinder Information'!F396)","v":""},{"$f":"IF('Gas Cylinder Information'!G396=\"\",\"\",'Gas Cylinder Information'!G396)","v":""}]
[{"$f":"IF('Gas Cylinder Information'!A397=\"\",\"\",'Gas Cylinder Information'!A397)","v":""},{"$f":"IF('Gas Cylinder Information'!C397=\"\",\"\",'Gas Cylinder Information'!C397)","v":""},{"$f":"IF('Gas Cylinder Information'!D397=\"\",\"\",'Gas Cylinder Information'!D397)","v":""},{"$f":"IF('Gas Cylinder Information'!B397=\"\",\"\",'Gas Cylinder Information'!B397)","v":""},{"$f":"IF('Gas Cylinder Information'!E397=\"\",\"\",'Gas Cylinder Information'!E397)","v":""},{"$f":"IF('Gas Cylinder Information'!F397=\"\",\"\",'Gas Cylinder Information'!F397)","v":""},{"$f":"IF('Gas Cylinder Information'!G397=\"\",\"\",'Gas Cylinder Information'!G397)","v":""}]
[{"$f":"IF('Gas Cylinder Information'!A398=\"\",\"\",'Gas Cylinder Information'!A398)","v":""},{"$f":"IF('Gas Cylinder Information'!C398=\"\",\"\",'Gas Cylinder Information'!C398)","v":""},{"$f":"IF('Gas Cylinder Information'!D398=\"\",\"\",'Gas Cylinder Information'!D398)","v":""},{"$f":"IF('Gas Cylinder Information'!B398=\"\",\"\",'Gas Cylinder Information'!B398)","v":""},{"$f":"IF('Gas Cylinder Information'!E398=\"\",\"\",'Gas Cylinder Information'!E398)","v":""},{"$f":"IF('Gas Cylinder Information'!F398=\"\",\"\",'Gas Cylinder Information'!F398)","v":""},{"$f":"IF('Gas Cylinder Information'!G398=\"\",\"\",'Gas Cylinder Information'!G398)","v":""}]
[{"$f":"IF('Gas Cylinder Information'!A399=\"\",\"\",'Gas Cylinder Information'!A399)","v":""},{"$f":"IF('Gas Cylinder Information'!C399=\"\",\"\",'Gas Cylinder Information'!C399)","v":""},{"$f":"IF('Gas Cylinder Information'!D399=\"\",\"\",'Gas Cylinder Information'!D399)","v":""},{"$f":"IF('Gas Cylinder Information'!B399=\"\",\"\",'Gas Cylinder Information'!B399)","v":""},{"$f":"IF('Gas Cylinder Information'!E399=\"\",\"\",'Gas Cylinder Information'!E399)","v":""},{"$f":"IF('Gas Cylinder Information'!F399=\"\",\"\",'Gas Cylinder Information'!F399)","v":""},{"$f":"IF('Gas Cylinder Information'!G399=\"\",\"\",'Gas Cylinder Information'!G399)","v":""}]
[{"$f":"IF('Gas Cylinder Information'!A400=\"\",\"\",'Gas Cylinder Information'!A400)","v":""},{"$f":"IF('Gas Cylinder Information'!C400=\"\",\"\",'Gas Cylinder Information'!C400)","v":""},{"$f":"IF('Gas Cylinder Information'!D400=\"\",\"\",'Gas Cylinder Information'!D400)","v":""},{"$f":"IF('Gas Cylinder Information'!B400=\"\",\"\",'Gas Cylinder Information'!B400)","v":""},{"$f":"IF('Gas Cylinder Information'!E400=\"\",\"\",'Gas Cylinder Information'!E400)","v":""},{"$f":"IF('Gas Cylinder Information'!F400=\"\",\"\",'Gas Cylinder Information'!F400)","v":""},{"$f":"IF('Gas Cylinder Information'!G400=\"\",\"\",'Gas Cylinder Information'!G400)","v":""}]
[{"$f":"IF('Gas Cylinder Information'!A401=\"\",\"\",'Gas Cylinder Information'!A401)","v":""},{"$f":"IF('Gas Cylinder Information'!C401=\"\",\"\",'Gas Cylinder Information'!C401)","v":""},{"$f":"IF('Gas Cylinder Information'!D401=\"\",\"\",'Gas Cylinder Information'!D401)","v":""},{"$f":"IF('Gas Cylinder Information'!B401=\"\",\"\",'Gas Cylinder Information'!B401)","v":""},{"$f":"IF('Gas Cylinder Information'!E401=\"\",\"\",'Gas Cylinder Information'!E401)","v":""},{"$f":"IF('Gas Cylinder Information'!F401=\"\",\"\",'Gas Cylinder Information'!F401)","v":""},{"$f":"IF('Gas Cylinder Information'!G401=\"\",\"\",'Gas Cylinder Information'!G401)","v":""}]
[{"$f":"IF('Gas Cylinder Information'!A402=\"\",\"\",'Gas Cylinder Information'!A402)","v":""},{"$f":"IF('Gas Cylinder Information'!C402=\"\",\"\",'Gas Cylinder Information'!C402)","v":""},{"$f":"IF('Gas Cylinder Information'!D402=\"\",\"\",'Gas Cylinder Information'!D402)","v":""},{"$f":"IF('Gas Cylinder Information'!B402=\"\",\"\",'Gas Cylinder Information'!B402)","v":""},{"$f":"IF('Gas Cylinder Information'!E402=\"\",\"\",'Gas Cylinder Information'!E402)","v":""},{"$f":"IF('Gas Cylinder Information'!F402=\"\",\"\",'Gas Cylinder Information'!F402)","v":""},{"$f":"IF('Gas Cylinder Information'!G402=\"\",\"\",'Gas Cylinder Information'!G402)","v":""}]
[{"$f":"IF('Gas Cylinder Information'!A403=\"\",\"\",'Gas Cylinder Information'!A403)","v":""},{"$f":"IF('Gas Cylinder Information'!C403=\"\",\"\",'Gas Cylinder Information'!C403)","v":""},{"$f":"IF('Gas Cylinder Information'!D403=\"\",\"\",'Gas Cylinder Information'!D403)","v":""},{"$f":"IF('Gas Cylinder Information'!B403=\"\",\"\",'Gas Cylinder Information'!B403)","v":""},{"$f":"IF('Gas Cylinder Information'!E403=\"\",\"\",'Gas Cylinder Information'!E403)","v":""},{"$f":"IF('Gas Cylinder Information'!F403=\"\",\"\",'Gas Cylinder Information'!F403)","v":""},{"$f":"IF('Gas Cylinder Information'!G403=\"\",\"\",'Gas Cylinder Information'!G403)","v":""}]
[{"$f":"IF('Gas Cylinder Information'!A404=\"\",\"\",'Gas Cylinder Information'!A404)","v":""},{"$f":"IF('Gas Cylinder Information'!C404=\"\",\"\",'Gas Cylinder Information'!C404)","v":""},{"$f":"IF('Gas Cylinder Information'!D404=\"\",\"\",'Gas Cylinder Information'!D404)","v":""},{"$f":"IF('Gas Cylinder Information'!B404=\"\",\"\",'Gas Cylinder Information'!B404)","v":""},{"$f":"IF('Gas Cylinder Information'!E404=\"\",\"\",'Gas Cylinder Information'!E404)","v":""},{"$f":"IF('Gas Cylinder Information'!F404=\"\",\"\",'Gas Cylinder Information'!F404)","v":""},{"$f":"IF('Gas Cylinder Information'!G404=\"\",\"\",'Gas Cylinder Information'!G404)","v":""}]
[{"$f":"IF('Gas Cylinder Information'!A405=\"\",\"\",'Gas Cylinder Information'!A405)","v":""},{"$f":"IF('Gas Cylinder Information'!C405=\"\",\"\",'Gas Cylinder Information'!C405)","v":""},{"$f":"IF('Gas Cylinder Information'!D405=\"\",\"\",'Gas Cylinder Information'!D405)","v":""},{"$f":"IF('Gas Cylinder Information'!B405=\"\",\"\",'Gas Cylinder Information'!B405)","v":""},{"$f":"IF('Gas Cylinder Information'!E405=\"\",\"\",'Gas Cylinder Information'!E405)","v":""},{"$f":"IF('Gas Cylinder Information'!F405=\"\",\"\",'Gas Cylinder Information'!F405)","v":""},{"$f":"IF('Gas Cylinder Information'!G405=\"\",\"\",'Gas Cylinder Information'!G405)","v":""}]
[{"$f":"IF('Gas Cylinder Information'!A406=\"\",\"\",'Gas Cylinder Information'!A406)","v":""},{"$f":"IF('Gas Cylinder Information'!C406=\"\",\"\",'Gas Cylinder Information'!C406)","v":""},{"$f":"IF('Gas Cylinder Information'!D406=\"\",\"\",'Gas Cylinder Information'!D406)","v":""},{"$f":"IF('Gas Cylinder Information'!B406=\"\",\"\",'Gas Cylinder Information'!B406)","v":""},{"$f":"IF('Gas Cylinder Information'!E406=\"\",\"\",'Gas Cylinder Information'!E406)","v":""},{"$f":"IF('Gas Cylinder Information'!F406=\"\",\"\",'Gas Cylinder Information'!F406)","v":""},{"$f":"IF('Gas Cylinder Information'!G406=\"\",\"\",'Gas Cylinder Information'!G406)","v":""}]
[{"$f":"IF('Gas Cylinder Information'!A407=\"\",\"\",'Gas Cylinder Information'!A407)","v":""},{"$f":"IF('Gas Cylinder Information'!C407=\"\",\"\",'Gas Cylinder Information'!C407)","v":""},{"$f":"IF('Gas Cylinder Information'!D407=\"\",\"\",'Gas Cylinder Information'!D407)","v":""},{"$f":"IF('Gas Cylinder Information'!B407=\"\",\"\",'Gas Cylinder Information'!B407)","v":""},{"$f":"IF('Gas Cylinder Information'!E407=\"\",\"\",'Gas Cylinder Information'!E407)","v":""},{"$f":"IF('Gas Cylinder Information'!F407=\"\",\"\",'Gas Cylinder Information'!F407)","v":""},{"$f":"IF('Gas Cylinder Information'!G407=\"\",\"\",'Gas Cylinder Information'!G407)","v":""}]
[{"$f":"IF('Gas Cylinder Information'!A408=\"\",\"\",'Gas Cylinder Information'!A408)","v":""},{"$f":"IF('Gas Cylinder Information'!C408=\"\",\"\",'Gas Cylinder Information'!C408)","v":""},{"$f":"IF('Gas Cylinder Information'!D408=\"\",\"\",'Gas Cylinder Information'!D408)","v":""},{"$f":"IF('Gas Cylinder Information'!B408=\"\",\"\",'Gas Cylinder Information'!B408)","v":""},{"$f":"IF('Gas Cylinder Information'!E408=\"\",\"\",'Gas Cylinder Information'!E408)","v":""},{"$f":"IF('Gas Cylinder Information'!F408=\"\",\"\",'Gas Cylinder Information'!F408)","v":""},{"$f":"IF('Gas Cylinder Information'!G408=\"\",\"\",'Gas Cylinder Information'!G408)","v":""}]
[{"$f":"IF('Gas Cylinder Information'!A409=\"\",\"\",'Gas Cylinder Information'!A409)","v":""},{"$f":"IF('Gas Cylinder Information'!C409=\"\",\"\",'Gas Cylinder Information'!C409)","v":""},{"$f":"IF('Gas Cylinder Information'!D409=\"\",\"\",'Gas Cylinder Information'!D409)","v":""},{"$f":"IF('Gas Cylinder Information'!B409=\"\",\"\",'Gas Cylinder Information'!B409)","v":""},{"$f":"IF('Gas Cylinder Information'!E409=\"\",\"\",'Gas Cylinder Information'!E409)","v":""},{"$f":"IF('Gas Cylinder Information'!F409=\"\",\"\",'Gas Cylinder Information'!F409)","v":""},{"$f":"IF('Gas Cylinder Information'!G409=\"\",\"\",'Gas Cylinder Information'!G409)","v":""}]
[{"$f":"IF('Gas Cylinder Information'!A410=\"\",\"\",'Gas Cylinder Information'!A410)","v":""},{"$f":"IF('Gas Cylinder Information'!C410=\"\",\"\",'Gas Cylinder Information'!C410)","v":""},{"$f":"IF('Gas Cylinder Information'!D410=\"\",\"\",'Gas Cylinder Information'!D410)","v":""},{"$f":"IF('Gas Cylinder Information'!B410=\"\",\"\",'Gas Cylinder Information'!B410)","v":""},{"$f":"IF('Gas Cylinder Information'!E410=\"\",\"\",'Gas Cylinder Information'!E410)","v":""},{"$f":"IF('Gas Cylinder Information'!F410=\"\",\"\",'Gas Cylinder Information'!F410)","v":""},{"$f":"IF('Gas Cylinder Information'!G410=\"\",\"\",'Gas Cylinder Information'!G410)","v":""}]
[{"$f":"IF('Gas Cylinder Information'!A411=\"\",\"\",'Gas Cylinder Information'!A411)","v":""},{"$f":"IF('Gas Cylinder Information'!C411=\"\",\"\",'Gas Cylinder Information'!C411)","v":""},{"$f":"IF('Gas Cylinder Information'!D411=\"\",\"\",'Gas Cylinder Information'!D411)","v":""},{"$f":"IF('Gas Cylinder Information'!B411=\"\",\"\",'Gas Cylinder Information'!B411)","v":""},{"$f":"IF('Gas Cylinder Information'!E411=\"\",\"\",'Gas Cylinder Information'!E411)","v":""},{"$f":"IF('Gas Cylinder Information'!F411=\"\",\"\",'Gas Cylinder Information'!F411)","v":""},{"$f":"IF('Gas Cylinder Information'!G411=\"\",\"\",'Gas Cylinder Information'!G411)","v":""}]
[{"$f":"IF('Gas Cylinder Information'!A412=\"\",\"\",'Gas Cylinder Information'!A412)","v":""},{"$f":"IF('Gas Cylinder Information'!C412=\"\",\"\",'Gas Cylinder Information'!C412)","v":""},{"$f":"IF('Gas Cylinder Information'!D412=\"\",\"\",'Gas Cylinder Information'!D412)","v":""},{"$f":"IF('Gas Cylinder Information'!B412=\"\",\"\",'Gas Cylinder Information'!B412)","v":""},{"$f":"IF('Gas Cylinder Information'!E412=\"\",\"\",'Gas Cylinder Information'!E412)","v":""},{"$f":"IF('Gas Cylinder Information'!F412=\"\",\"\",'Gas Cylinder Information'!F412)","v":""},{"$f":"IF('Gas Cylinder Information'!G412=\"\",\"\",'Gas Cylinder Information'!G412)","v":""}]
[{"$f":"IF('Gas Cylinder Information'!A413=\"\",\"\",'Gas Cylinder Information'!A413)","v":""},{"$f":"IF('Gas Cylinder Information'!C413=\"\",\"\",'Gas Cylinder Information'!C413)","v":""},{"$f":"IF('Gas Cylinder Information'!D413=\"\",\"\",'Gas Cylinder Information'!D413)","v":""},{"$f":"IF('Gas Cylinder Information'!B413=\"\",\"\",'Gas Cylinder Information'!B413)","v":""},{"$f":"IF('Gas Cylinder Information'!E413=\"\",\"\",'Gas Cylinder Information'!E413)","v":""},{"$f":"IF('Gas Cylinder Information'!F413=\"\",\"\",'Gas Cylinder Information'!F413)","v":""},{"$f":"IF('Gas Cylinder Information'!G413=\"\",\"\",'Gas Cylinder Information'!G413)","v":""}]
[{"$f":"IF('Gas Cylinder Information'!A414=\"\",\"\",'Gas Cylinder Information'!A414)","v":""},{"$f":"IF('Gas Cylinder Information'!C414=\"\",\"\",'Gas Cylinder Information'!C414)","v":""},{"$f":"IF('Gas Cylinder Information'!D414=\"\",\"\",'Gas Cylinder Information'!D414)","v":""},{"$f":"IF('Gas Cylinder Information'!B414=\"\",\"\",'Gas Cylinder Information'!B414)","v":""},{"$f":"IF('Gas Cylinder Information'!E414=\"\",\"\",'Gas Cylinder Information'!E414)","v":""},{"$f":"IF('Gas Cylinder Information'!F414=\"\",\"\",'Gas Cylinder Information'!F414)","v":""},{"$f":"IF('Gas Cylinder Information'!G414=\"\",\"\",'Gas Cylinder Information'!G414)","v":""}]
[{"$f":"IF('Gas Cylinder Information'!A415=\"\",\"\",'Gas Cylinder Information'!A415)","v":""},{"$f":"IF('Gas Cylinder Information'!C415=\"\",\"\",'Gas Cylinder Information'!C415)","v":""},{"$f":"IF('Gas Cylinder Information'!D415=\"\",\"\",'Gas Cylinder Information'!D415)","v":""},{"$f":"IF('Gas Cylinder Information'!B415=\"\",\"\",'Gas Cylinder Information'!B415)","v":""},{"$f":"IF('Gas Cylinder Information'!E415=\"\",\"\",'Gas Cylinder Information'!E415)","v":""},{"$f":"IF('Gas Cylinder Information'!F415=\"\",\"\",'Gas Cylinder Information'!F415)","v":""},{"$f":"IF('Gas Cylinder Information'!G415=\"\",\"\",'Gas Cylinder Information'!G415)","v":""}]
[{"$f":"IF('Gas Cylinder Information'!A416=\"\",\"\",'Gas Cylinder Information'!A416)","v":""},{"$f":"IF('Gas Cylinder Information'!C416=\"\",\"\",'Gas Cylinder Information'!C416)","v":""},{"$f":"IF('Gas Cylinder Information'!D416=\"\",\"\",'Gas Cylinder Information'!D416)","v":""},{"$f":"IF('Gas Cylinder Information'!B416=\"\",\"\",'Gas Cylinder Information'!B416)","v":""},{"$f":"IF('Gas Cylinder Information'!E416=\"\",\"\",'Gas Cylinder Information'!E416)","v":""},{"$f":"IF('Gas Cylinder Information'!F416=\"\",\"\",'Gas Cylinder Information'!F416)","v":""},{"$f":"IF('Gas Cylinder Information'!G416=\"\",\"\",'Gas Cylinder Information'!G416)","v":""}]
[{"$f":"IF('Gas Cylinder Information'!A417=\"\",\"\",'Gas Cylinder Information'!A417)","v":""},{"$f":"IF('Gas Cylinder Information'!C417=\"\",\"\",'Gas Cylinder Information'!C417)","v":""},{"$f":"IF('Gas Cylinder Information'!D417=\"\",\"\",'Gas Cylinder Information'!D417)","v":""},{"$f":"IF('Gas Cylinder Information'!B417=\"\",\"\",'Gas Cylinder Information'!B417)","v":""},{"$f":"IF('Gas Cylinder Information'!E417=\"\",\"\",'Gas Cylinder Information'!E417)","v":""},{"$f":"IF('Gas Cylinder Information'!F417=\"\",\"\",'Gas Cylinder Information'!F417)","v":""},{"$f":"IF('Gas Cylinder Information'!G417=\"\",\"\",'Gas Cylinder Information'!G417)","v":""}]
[{"$f":"IF('Gas Cylinder Information'!A418=\"\",\"\",'Gas Cylinder Information'!A418)","v":""},{"$f":"IF('Gas Cylinder Information'!C418=\"\",\"\",'Gas Cylinder Information'!C418)","v":""},{"$f":"IF('Gas Cylinder Information'!D418=\"\",\"\",'Gas Cylinder Information'!D418)","v":""},{"$f":"IF('Gas Cylinder Information'!B418=\"\",\"\",'Gas Cylinder Information'!B418)","v":""},{"$f":"IF('Gas Cylinder Information'!E418=\"\",\"\",'Gas Cylinder Information'!E418)","v":""},{"$f":"IF('Gas Cylinder Information'!F418=\"\",\"\",'Gas Cylinder Information'!F418)","v":""},{"$f":"IF('Gas Cylinder Information'!G418=\"\",\"\",'Gas Cylinder Information'!G418)","v":""}]
[{"$f":"IF('Gas Cylinder Information'!A419=\"\",\"\",'Gas Cylinder Information'!A419)","v":""},{"$f":"IF('Gas Cylinder Information'!C419=\"\",\"\",'Gas Cylinder Information'!C419)","v":""},{"$f":"IF('Gas Cylinder Information'!D419=\"\",\"\",'Gas Cylinder Information'!D419)","v":""},{"$f":"IF('Gas Cylinder Information'!B419=\"\",\"\",'Gas Cylinder Information'!B419)","v":""},{"$f":"IF('Gas Cylinder Information'!E419=\"\",\"\",'Gas Cylinder Information'!E419)","v":""},{"$f":"IF('Gas Cylinder Information'!F419=\"\",\"\",'Gas Cylinder Information'!F419)","v":""},{"$f":"IF('Gas Cylinder Information'!G419=\"\",\"\",'Gas Cylinder Information'!G419)","v":""}]
[{"$f":"IF('Gas Cylinder Information'!A420=\"\",\"\",'Gas Cylinder Information'!A420)","v":""},{"$f":"IF('Gas Cylinder Information'!C420=\"\",\"\",'Gas Cylinder Information'!C420)","v":""},{"$f":"IF('Gas Cylinder Information'!D420=\"\",\"\",'Gas Cylinder Information'!D420)","v":""},{"$f":"IF('Gas Cylinder Information'!B420=\"\",\"\",'Gas Cylinder Information'!B420)","v":""},{"$f":"IF('Gas Cylinder Information'!E420=\"\",\"\",'Gas Cylinder Information'!E420)","v":""},{"$f":"IF('Gas Cylinder Information'!F420=\"\",\"\",'Gas Cylinder Information'!F420)","v":""},{"$f":"IF('Gas Cylinder Information'!G420=\"\",\"\",'Gas Cylinder Information'!G420)","v":""}]
[{"$f":"IF('Gas Cylinder Information'!A421=\"\",\"\",'Gas Cylinder Information'!A421)","v":""},{"$f":"IF('Gas Cylinder Information'!C421=\"\",\"\",'Gas Cylinder Information'!C421)","v":""},{"$f":"IF('Gas Cylinder Information'!D421=\"\",\"\",'Gas Cylinder Information'!D421)","v":""},{"$f":"IF('Gas Cylinder Information'!B421=\"\",\"\",'Gas Cylinder Information'!B421)","v":""},{"$f":"IF('Gas Cylinder Information'!E421=\"\",\"\",'Gas Cylinder Information'!E421)","v":""},{"$f":"IF('Gas Cylinder Information'!F421=\"\",\"\",'Gas Cylinder Information'!F421)","v":""},{"$f":"IF('Gas Cylinder Information'!G421=\"\",\"\",'Gas Cylinder Information'!G421)","v":""}]
[{"$f":"IF('Gas Cylinder Information'!A422=\"\",\"\",'Gas Cylinder Information'!A422)","v":""},{"$f":"IF('Gas Cylinder Information'!C422=\"\",\"\",'Gas Cylinder Information'!C422)","v":""},{"$f":"IF('Gas Cylinder Information'!D422=\"\",\"\",'Gas Cylinder Information'!D422)","v":""},{"$f":"IF('Gas Cylinder Information'!B422=\"\",\"\",'Gas Cylinder Information'!B422)","v":""},{"$f":"IF('Gas Cylinder Information'!E422=\"\",\"\",'Gas Cylinder Information'!E422)","v":""},{"$f":"IF('Gas Cylinder Information'!F422=\"\",\"\",'Gas Cylinder Information'!F422)","v":""},{"$f":"IF('Gas Cylinder Information'!G422=\"\",\"\",'Gas Cylinder Information'!G422)","v":""}]
[{"$f":"IF('Gas Cylinder Information'!A423=\"\",\"\",'Gas Cylinder Information'!A423)","v":""},{"$f":"IF('Gas Cylinder Information'!C423=\"\",\"\",'Gas Cylinder Information'!C423)","v":""},{"$f":"IF('Gas Cylinder Information'!D423=\"\",\"\",'Gas Cylinder Information'!D423)","v":""},{"$f":"IF('Gas Cylinder Information'!B423=\"\",\"\",'Gas Cylinder Information'!B423)","v":""},{"$f":"IF('Gas Cylinder Information'!E423=\"\",\"\",'Gas Cylinder Information'!E423)","v":""},{"$f":"IF('Gas Cylinder Information'!F423=\"\",\"\",'Gas Cylinder Information'!F423)","v":""},{"$f":"IF('Gas Cylinder Information'!G423=\"\",\"\",'Gas Cylinder Information'!G423)","v":""}]
[{"$f":"IF('Gas Cylinder Information'!A424=\"\",\"\",'Gas Cylinder Information'!A424)","v":""},{"$f":"IF('Gas Cylinder Information'!C424=\"\",\"\",'Gas Cylinder Information'!C424)","v":""},{"$f":"IF('Gas Cylinder Information'!D424=\"\",\"\",'Gas Cylinder Information'!D424)","v":""},{"$f":"IF('Gas Cylinder Information'!B424=\"\",\"\",'Gas Cylinder Information'!B424)","v":""},{"$f":"IF('Gas Cylinder Information'!E424=\"\",\"\",'Gas Cylinder Information'!E424)","v":""},{"$f":"IF('Gas Cylinder Information'!F424=\"\",\"\",'Gas Cylinder Information'!F424)","v":""},{"$f":"IF('Gas Cylinder Information'!G424=\"\",\"\",'Gas Cylinder Information'!G424)","v":""}]
[{"$f":"IF('Gas Cylinder Information'!A425=\"\",\"\",'Gas Cylinder Information'!A425)","v":""},{"$f":"IF('Gas Cylinder Information'!C425=\"\",\"\",'Gas Cylinder Information'!C425)","v":""},{"$f":"IF('Gas Cylinder Information'!D425=\"\",\"\",'Gas Cylinder Information'!D425)","v":""},{"$f":"IF('Gas Cylinder Information'!B425=\"\",\"\",'Gas Cylinder Information'!B425)","v":""},{"$f":"IF('Gas Cylinder Information'!E425=\"\",\"\",'Gas Cylinder Information'!E425)","v":""},{"$f":"IF('Gas Cylinder Information'!F425=\"\",\"\",'Gas Cylinder Information'!F425)","v":""},{"$f":"IF('Gas Cylinder Information'!G425=\"\",\"\",'Gas Cylinder Information'!G425)","v":""}]
[{"$f":"IF('Gas Cylinder Information'!A426=\"\",\"\",'Gas Cylinder Information'!A426)","v":""},{"$f":"IF('Gas Cylinder Information'!C426=\"\",\"\",'Gas Cylinder Information'!C426)","v":""},{"$f":"IF('Gas Cylinder Information'!D426=\"\",\"\",'Gas Cylinder Information'!D426)","v":""},{"$f":"IF('Gas Cylinder Information'!B426=\"\",\"\",'Gas Cylinder Information'!B426)","v":""},{"$f":"IF('Gas Cylinder Information'!E426=\"\",\"\",'Gas Cylinder Information'!E426)","v":""},{"$f":"IF('Gas Cylinder Information'!F426=\"\",\"\",'Gas Cylinder Information'!F426)","v":""},{"$f":"IF('Gas Cylinder Information'!G426=\"\",\"\",'Gas Cylinder Information'!G426)","v":""}]
[{"$f":"IF('Gas Cylinder Information'!A427=\"\",\"\",'Gas Cylinder Information'!A427)","v":""},{"$f":"IF('Gas Cylinder Information'!C427=\"\",\"\",'Gas Cylinder Information'!C427)","v":""},{"$f":"IF('Gas Cylinder Information'!D427=\"\",\"\",'Gas Cylinder Information'!D427)","v":""},{"$f":"IF('Gas Cylinder Information'!B427=\"\",\"\",'Gas Cylinder Information'!B427)","v":""},{"$f":"IF('Gas Cylinder Information'!E427=\"\",\"\",'Gas Cylinder Information'!E427)","v":""},{"$f":"IF('Gas Cylinder Information'!F427=\"\",\"\",'Gas Cylinder Information'!F427)","v":""},{"$f":"IF('Gas Cylinder Information'!G427=\"\",\"\",'Gas Cylinder Information'!G427)","v":""}]
[{"$f":"IF('Gas Cylinder Information'!A428=\"\",\"\",'Gas Cylinder Information'!A428)","v":""},{"$f":"IF('Gas Cylinder Information'!C428=\"\",\"\",'Gas Cylinder Information'!C428)","v":""},{"$f":"IF('Gas Cylinder Information'!D428=\"\",\"\",'Gas Cylinder Information'!D428)","v":""},{"$f":"IF('Gas Cylinder Information'!B428=\"\",\"\",'Gas Cylinder Information'!B428)","v":""},{"$f":"IF('Gas Cylinder Information'!E428=\"\",\"\",'Gas Cylinder Information'!E428)","v":""},{"$f":"IF('Gas Cylinder Information'!F428=\"\",\"\",'Gas Cylinder Information'!F428)","v":""},{"$f":"IF('Gas Cylinder Information'!G428=\"\",\"\",'Gas Cylinder Information'!G428)","v":""}]
[{"$f":"IF('Gas Cylinder Information'!A429=\"\",\"\",'Gas Cylinder Information'!A429)","v":""},{"$f":"IF('Gas Cylinder Information'!C429=\"\",\"\",'Gas Cylinder Information'!C429)","v":""},{"$f":"IF('Gas Cylinder Information'!D429=\"\",\"\",'Gas Cylinder Information'!D429)","v":""},{"$f":"IF('Gas Cylinder Information'!B429=\"\",\"\",'Gas Cylinder Information'!B429)","v":""},{"$f":"IF('Gas Cylinder Information'!E429=\"\",\"\",'Gas Cylinder Information'!E429)","v":""},{"$f":"IF('Gas Cylinder Information'!F429=\"\",\"\",'Gas Cylinder Information'!F429)","v":""},{"$f":"IF('Gas Cylinder Information'!G429=\"\",\"\",'Gas Cylinder Information'!G429)","v":""}]
[{"$f":"IF('Gas Cylinder Information'!A430=\"\",\"\",'Gas Cylinder Information'!A430)","v":""},{"$f":"IF('Gas Cylinder Information'!C430=\"\",\"\",'Gas Cylinder Information'!C430)","v":""},{"$f":"IF('Gas Cylinder Information'!D430=\"\",\"\",'Gas Cylinder Information'!D430)","v":""},{"$f":"IF('Gas Cylinder Information'!B430=\"\",\"\",'Gas Cylinder Information'!B430)","v":""},{"$f":"IF('Gas Cylinder Information'!E430=\"\",\"\",'Gas Cylinder Information'!E430)","v":""},{"$f":"IF('Gas Cylinder Information'!F430=\"\",\"\",'Gas Cylinder Information'!F430)","v":""},{"$f":"IF('Gas Cylinder Information'!G430=\"\",\"\",'Gas Cylinder Information'!G430)","v":""}]
[{"$f":"IF('Gas Cylinder Information'!A431=\"\",\"\",'Gas Cylinder Information'!A431)","v":""},{"$f":"IF('Gas Cylinder Information'!C431=\"\",\"\",'Gas Cylinder Information'!C431)","v":""},{"$f":"IF('Gas Cylinder Information'!D431=\"\",\"\",'Gas Cylinder Information'!D431)","v":""},{"$f":"IF('Gas Cylinder Information'!B431=\"\",\"\",'Gas Cylinder Information'!B431)","v":""},{"$f":"IF('Gas Cylinder Information'!E431=\"\",\"\",'Gas Cylinder Information'!E431)","v":""},{"$f":"IF('Gas Cylinder Information'!F431=\"\",\"\",'Gas Cylinder Information'!F431)","v":""},{"$f":"IF('Gas Cylinder Information'!G431=\"\",\"\",'Gas Cylinder Information'!G431)","v":""}]
[{"$f":"IF('Gas Cylinder Information'!A432=\"\",\"\",'Gas Cylinder Information'!A432)","v":""},{"$f":"IF('Gas Cylinder Information'!C432=\"\",\"\",'Gas Cylinder Information'!C432)","v":""},{"$f":"IF('Gas Cylinder Information'!D432=\"\",\"\",'Gas Cylinder Information'!D432)","v":""},{"$f":"IF('Gas Cylinder Information'!B432=\"\",\"\",'Gas Cylinder Information'!B432)","v":""},{"$f":"IF('Gas Cylinder Information'!E432=\"\",\"\",'Gas Cylinder Information'!E432)","v":""},{"$f":"IF('Gas Cylinder Information'!F432=\"\",\"\",'Gas Cylinder Information'!F432)","v":""},{"$f":"IF('Gas Cylinder Information'!G432=\"\",\"\",'Gas Cylinder Information'!G432)","v":""}]
[{"$f":"IF('Gas Cylinder Information'!A433=\"\",\"\",'Gas Cylinder Information'!A433)","v":""},{"$f":"IF('Gas Cylinder Information'!C433=\"\",\"\",'Gas Cylinder Information'!C433)","v":""},{"$f":"IF('Gas Cylinder Information'!D433=\"\",\"\",'Gas Cylinder Information'!D433)","v":""},{"$f":"IF('Gas Cylinder Information'!B433=\"\",\"\",'Gas Cylinder Information'!B433)","v":""},{"$f":"IF('Gas Cylinder Information'!E433=\"\",\"\",'Gas Cylinder Information'!E433)","v":""},{"$f":"IF('Gas Cylinder Information'!F433=\"\",\"\",'Gas Cylinder Information'!F433)","v":""},{"$f":"IF('Gas Cylinder Information'!G433=\"\",\"\",'Gas Cylinder Information'!G433)","v":""}]
[{"$f":"IF('Gas Cylinder Information'!A434=\"\",\"\",'Gas Cylinder Information'!A434)","v":""},{"$f":"IF('Gas Cylinder Information'!C434=\"\",\"\",'Gas Cylinder Information'!C434)","v":""},{"$f":"IF('Gas Cylinder Information'!D434=\"\",\"\",'Gas Cylinder Information'!D434)","v":""},{"$f":"IF('Gas Cylinder Information'!B434=\"\",\"\",'Gas Cylinder Information'!B434)","v":""},{"$f":"IF('Gas Cylinder Information'!E434=\"\",\"\",'Gas Cylinder Information'!E434)","v":""},{"$f":"IF('Gas Cylinder Information'!F434=\"\",\"\",'Gas Cylinder Information'!F434)","v":""},{"$f":"IF('Gas Cylinder Information'!G434=\"\",\"\",'Gas Cylinder Information'!G434)","v":""}]
[{"$f":"IF('Gas Cylinder Information'!A435=\"\",\"\",'Gas Cylinder Information'!A435)","v":""},{"$f":"IF('Gas Cylinder Information'!C435=\"\",\"\",'Gas Cylinder Information'!C435)","v":""},{"$f":"IF('Gas Cylinder Information'!D435=\"\",\"\",'Gas Cylinder Information'!D435)","v":""},{"$f":"IF('Gas Cylinder Information'!B435=\"\",\"\",'Gas Cylinder Information'!B435)","v":""},{"$f":"IF('Gas Cylinder Information'!E435=\"\",\"\",'Gas Cylinder Information'!E435)","v":""},{"$f":"IF('Gas Cylinder Information'!F435=\"\",\"\",'Gas Cylinder Information'!F435)","v":""},{"$f":"IF('Gas Cylinder Information'!G435=\"\",\"\",'Gas Cylinder Information'!G435)","v":""}]
[{"$f":"IF('Gas Cylinder Information'!A436=\"\",\"\",'Gas Cylinder Information'!A436)","v":""},{"$f":"IF('Gas Cylinder Information'!C436=\"\",\"\",'Gas Cylinder Information'!C436)","v":""},{"$f":"IF('Gas Cylinder Information'!D436=\"\",\"\",'Gas Cylinder Information'!D436)","v":""},{"$f":"IF('Gas Cylinder Information'!B436=\"\",\"\",'Gas Cylinder Information'!B436)","v":""},{"$f":"IF('Gas Cylinder Information'!E436=\"\",\"\",'Gas Cylinder Information'!E436)","v":""},{"$f":"IF('Gas Cylinder Information'!F436=\"\",\"\",'Gas Cylinder Information'!F436)","v":""},{"$f":"IF('Gas Cylinder Information'!G436=\"\",\"\",'Gas Cylinder Information'!G436)","v":""}]
[{"$f":"IF('Gas Cylinder Information'!A437=\"\",\"\",'Gas Cylinder Information'!A437)","v":""},{"$f":"IF('Gas Cylinder Information'!C437=\"\",\"\",'Gas Cylinder Information'!C437)","v":""},{"$f":"IF('Gas Cylinder Information'!D437=\"\",\"\",'Gas Cylinder Information'!D437)","v":""},{"$f":"IF('Gas Cylinder Information'!B437=\"\",\"\",'Gas Cylinder Information'!B437)","v":""},{"$f":"IF('Gas Cylinder Information'!E437=\"\",\"\",'Gas Cylinder Information'!E437)","v":""},{"$f":"IF('Gas Cylinder Information'!F437=\"\",\"\",'Gas Cylinder Information'!F437)","v":""},{"$f":"IF('Gas Cylinder Information'!G437=\"\",\"\",'Gas Cylinder Information'!G437)","v":""}]
[{"$f":"IF('Gas Cylinder Information'!A438=\"\",\"\",'Gas Cylinder Information'!A438)","v":""},{"$f":"IF('Gas Cylinder Information'!C438=\"\",\"\",'Gas Cylinder Information'!C438)","v":""},{"$f":"IF('Gas Cylinder Information'!D438=\"\",\"\",'Gas Cylinder Information'!D438)","v":""},{"$f":"IF('Gas Cylinder Information'!B438=\"\",\"\",'Gas Cylinder Information'!B438)","v":""},{"$f":"IF('Gas Cylinder Information'!E438=\"\",\"\",'Gas Cylinder Information'!E438)","v":""},{"$f":"IF('Gas Cylinder Information'!F438=\"\",\"\",'Gas Cylinder Information'!F438)","v":""},{"$f":"IF('Gas Cylinder Information'!G438=\"\",\"\",'Gas Cylinder Information'!G438)","v":""}]
[{"$f":"IF('Gas Cylinder Information'!A439=\"\",\"\",'Gas Cylinder Information'!A439)","v":""},{"$f":"IF('Gas Cylinder Information'!C439=\"\",\"\",'Gas Cylinder Information'!C439)","v":""},{"$f":"IF('Gas Cylinder Information'!D439=\"\",\"\",'Gas Cylinder Information'!D439)","v":""},{"$f":"IF('Gas Cylinder Information'!B439=\"\",\"\",'Gas Cylinder Information'!B439)","v":""},{"$f":"IF('Gas Cylinder Information'!E439=\"\",\"\",'Gas Cylinder Information'!E439)","v":""},{"$f":"IF('Gas Cylinder Information'!F439=\"\",\"\",'Gas Cylinder Information'!F439)","v":""},{"$f":"IF('Gas Cylinder Information'!G439=\"\",\"\",'Gas Cylinder Information'!G439)","v":""}]
[{"$f":"IF('Gas Cylinder Information'!A440=\"\",\"\",'Gas Cylinder Information'!A440)","v":""},{"$f":"IF('Gas Cylinder Information'!C440=\"\",\"\",'Gas Cylinder Information'!C440)","v":""},{"$f":"IF('Gas Cylinder Information'!D440=\"\",\"\",'Gas Cylinder Information'!D440)","v":""},{"$f":"IF('Gas Cylinder Information'!B440=\"\",\"\",'Gas Cylinder Information'!B440)","v":""},{"$f":"IF('Gas Cylinder Information'!E440=\"\",\"\",'Gas Cylinder Information'!E440)","v":""},{"$f":"IF('Gas Cylinder Information'!F440=\"\",\"\",'Gas Cylinder Information'!F440)","v":""},{"$f":"IF('Gas Cylinder Information'!G440=\"\",\"\",'Gas Cylinder Information'!G440)","v":""}]
[{"$f":"IF('Gas Cylinder Information'!A441=\"\",\"\",'Gas Cylinder Information'!A441)","v":""},{"$f":"IF('Gas Cylinder Information'!C441=\"\",\"\",'Gas Cylinder Information'!C441)","v":""},{"$f":"IF('Gas Cylinder Information'!D441=\"\",\"\",'Gas Cylinder Information'!D441)","v":""},{"$f":"IF('Gas Cylinder Information'!B441=\"\",\"\",'Gas Cylinder Information'!B441)","v":""},{"$f":"IF('Gas Cylinder Information'!E441=\"\",\"\",'Gas Cylinder Information'!E441)","v":""},{"$f":"IF('Gas Cylinder Information'!F441=\"\",\"\",'Gas Cylinder Information'!F441)","v":""},{"$f":"IF('Gas Cylinder Information'!G441=\"\",\"\",'Gas Cylinder Information'!G441)","v":""}]
[{"$f":"IF('Gas Cylinder Information'!A442=\"\",\"\",'Gas Cylinder Information'!A442)","v":""},{"$f":"IF('Gas Cylinder Information'!C442=\"\",\"\",'Gas Cylinder Information'!C442)","v":""},{"$f":"IF('Gas Cylinder Information'!D442=\"\",\"\",'Gas Cylinder Information'!D442)","v":""},{"$f":"IF('Gas Cylinder Information'!B442=\"\",\"\",'Gas Cylinder Information'!B442)","v":""},{"$f":"IF('Gas Cylinder Information'!E442=\"\",\"\",'Gas Cylinder Information'!E442)","v":""},{"$f":"IF('Gas Cylinder Information'!F442=\"\",\"\",'Gas Cylinder Information'!F442)","v":""},{"$f":"IF('Gas Cylinder Information'!G442=\"\",\"\",'Gas Cylinder Information'!G442)","v":""}]
[{"$f":"IF('Gas Cylinder Information'!A443=\"\",\"\",'Gas Cylinder Information'!A443)","v":""},{"$f":"IF('Gas Cylinder Information'!C443=\"\",\"\",'Gas Cylinder Information'!C443)","v":""},{"$f":"IF('Gas Cylinder Information'!D443=\"\",\"\",'Gas Cylinder Information'!D443)","v":""},{"$f":"IF('Gas Cylinder Information'!B443=\"\",\"\",'Gas Cylinder Information'!B443)","v":""},{"$f":"IF('Gas Cylinder Information'!E443=\"\",\"\",'Gas Cylinder Information'!E443)","v":""},{"$f":"IF('Gas Cylinder Information'!F443=\"\",\"\",'Gas Cylinder Information'!F443)","v":""},{"$f":"IF('Gas Cylinder Information'!G443=\"\",\"\",'Gas Cylinder Information'!G443)","v":""}]
[{"$f":"IF('Gas Cylinder Information'!A444=\"\",\"\",'Gas Cylinder Information'!A444)","v":""},{"$f":"IF('Gas Cylinder Information'!C444=\"\",\"\",'Gas Cylinder Information'!C444)","v":""},{"$f":"IF('Gas Cylinder Information'!D444=\"\",\"\",'Gas Cylinder Information'!D444)","v":""},{"$f":"IF('Gas Cylinder Information'!B444=\"\",\"\",'Gas Cylinder Information'!B444)","v":""},{"$f":"IF('Gas Cylinder Information'!E444=\"\",\"\",'Gas Cylinder Information'!E444)","v":""},{"$f":"IF('Gas Cylinder Information'!F444=\"\",\"\",'Gas Cylinder Information'!F444)","v":""},{"$f":"IF('Gas Cylinder Information'!G444=\"\",\"\",'Gas Cylinder Information'!G444)","v":""}]
[{"$f":"IF('Gas Cylinder Information'!A445=\"\",\"\",'Gas Cylinder Information'!A445)","v":""},{"$f":"IF('Gas Cylinder Information'!C445=\"\",\"\",'Gas Cylinder Information'!C445)","v":""},{"$f":"IF('Gas Cylinder Information'!D445=\"\",\"\",'Gas Cylinder Information'!D445)","v":""},{"$f":"IF('Gas Cylinder Information'!B445=\"\",\"\",'Gas Cylinder Information'!B445)","v":""},{"$f":"IF('Gas Cylinder Information'!E445=\"\",\"\",'Gas Cylinder Information'!E445)","v":""},{"$f":"IF('Gas Cylinder Information'!F445=\"\",\"\",'Gas Cylinder Information'!F445)","v":""},{"$f":"IF('Gas Cylinder Information'!G445=\"\",\"\",'Gas Cylinder Information'!G445)","v":""}]
[{"$f":"IF('Gas Cylinder Information'!A446=\"\",\"\",'Gas Cylinder Information'!A446)","v":""},{"$f":"IF('Gas Cylinder Information'!C446=\"\",\"\",'Gas Cylinder Information'!C446)","v":""},{"$f":"IF('Gas Cylinder Information'!D446=\"\",\"\",'Gas Cylinder Information'!D446)","v":""},{"$f":"IF('Gas Cylinder Information'!B446=\"\",\"\",'Gas Cylinder Information'!B446)","v":""},{"$f":"IF('Gas Cylinder Information'!E446=\"\",\"\",'Gas Cylinder Information'!E446)","v":""},{"$f":"IF('Gas Cylinder Information'!F446=\"\",\"\",'Gas Cylinder Information'!F446)","v":""},{"$f":"IF('Gas Cylinder Information'!G446=\"\",\"\",'Gas Cylinder Information'!G446)","v":""}]
[{"$f":"IF('Gas Cylinder Information'!A447=\"\",\"\",'Gas Cylinder Information'!A447)","v":""},{"$f":"IF('Gas Cylinder Information'!C447=\"\",\"\",'Gas Cylinder Information'!C447)","v":""},{"$f":"IF('Gas Cylinder Information'!D447=\"\",\"\",'Gas Cylinder Information'!D447)","v":""},{"$f":"IF('Gas Cylinder Information'!B447=\"\",\"\",'Gas Cylinder Information'!B447)","v":""},{"$f":"IF('Gas Cylinder Information'!E447=\"\",\"\",'Gas Cylinder Information'!E447)","v":""},{"$f":"IF('Gas Cylinder Information'!F447=\"\",\"\",'Gas Cylinder Information'!F447)","v":""},{"$f":"IF('Gas Cylinder Information'!G447=\"\",\"\",'Gas Cylinder Information'!G447)","v":""}]
[{"$f":"IF('Gas Cylinder Information'!A448=\"\",\"\",'Gas Cylinder Information'!A448)","v":""},{"$f":"IF('Gas Cylinder Information'!C448=\"\",\"\",'Gas Cylinder Information'!C448)","v":""},{"$f":"IF('Gas Cylinder Information'!D448=\"\",\"\",'Gas Cylinder Information'!D448)","v":""},{"$f":"IF('Gas Cylinder Information'!B448=\"\",\"\",'Gas Cylinder Information'!B448)","v":""},{"$f":"IF('Gas Cylinder Information'!E448=\"\",\"\",'Gas Cylinder Information'!E448)","v":""},{"$f":"IF('Gas Cylinder Information'!F448=\"\",\"\",'Gas Cylinder Information'!F448)","v":""},{"$f":"IF('Gas Cylinder Information'!G448=\"\",\"\",'Gas Cylinder Information'!G448)","v":""}]
[{"$f":"IF('Gas Cylinder Information'!A449=\"\",\"\",'Gas Cylinder Information'!A449)","v":""},{"$f":"IF('Gas Cylinder Information'!C449=\"\",\"\",'Gas Cylinder Information'!C449)","v":""},{"$f":"IF('Gas Cylinder Information'!D449=\"\",\"\",'Gas Cylinder Information'!D449)","v":""},{"$f":"IF('Gas Cylinder Information'!B449=\"\",\"\",'Gas Cylinder Information'!B449)","v":""},{"$f":"IF('Gas Cylinder Information'!E449=\"\",\"\",'Gas Cylinder Information'!E449)","v":""},{"$f":"IF('Gas Cylinder Information'!F449=\"\",\"\",'Gas Cylinder Information'!F449)","v":""},{"$f":"IF('Gas Cylinder Information'!G449=\"\",\"\",'Gas Cylinder Information'!G449)","v":""}]
[{"$f":"IF('Gas Cylinder Information'!A450=\"\",\"\",'Gas Cylinder Information'!A450)","v":""},{"$f":"IF('Gas Cylinder Information'!C450=\"\",\"\",'Gas Cylinder Information'!C450)","v":""},{"$f":"IF('Gas Cylinder Information'!D450=\"\",\"\",'Gas Cylinder Information'!D450)","v":""},{"$f":"IF('Gas Cylinder Information'!B450=\"\",\"\",'Gas Cylinder Information'!B450)","v":""},{"$f":"IF('Gas Cylinder Information'!E450=\"\",\"\",'Gas Cylinder Information'!E450)","v":""},{"$f":"IF('Gas Cylinder Information'!F450=\"\",\"\",'Gas Cylinder Information'!F450)","v":""},{"$f":"IF('Gas Cylinder Information'!G450=\"\",\"\",'Gas Cylinder Information'!G450)","v":""}]
[{"$f":"IF('Gas Cylinder Information'!A451=\"\",\"\",'Gas Cylinder Information'!A451)","v":""},{"$f":"IF('Gas Cylinder Information'!C451=\"\",\"\",'Gas Cylinder Information'!C451)","v":""},{"$f":"IF('Gas Cylinder Information'!D451=\"\",\"\",'Gas Cylinder Information'!D451)","v":""},{"$f":"IF('Gas Cylinder Information'!B451=\"\",\"\",'Gas Cylinder Information'!B451)","v":""},{"$f":"IF('Gas Cylinder Information'!E451=\"\",\"\",'Gas Cylinder Information'!E451)","v":""},{"$f":"IF('Gas Cylinder Information'!F451=\"\",\"\",'Gas Cylinder Information'!F451)","v":""},{"$f":"IF('Gas Cylinder Information'!G451=\"\",\"\",'Gas Cylinder Information'!G451)","v":""}]
[{"$f":"IF('Gas Cylinder Information'!A452=\"\",\"\",'Gas Cylinder Information'!A452)","v":""},{"$f":"IF('Gas Cylinder Information'!C452=\"\",\"\",'Gas Cylinder Information'!C452)","v":""},{"$f":"IF('Gas Cylinder Information'!D452=\"\",\"\",'Gas Cylinder Information'!D452)","v":""},{"$f":"IF('Gas Cylinder Information'!B452=\"\",\"\",'Gas Cylinder Information'!B452)","v":""},{"$f":"IF('Gas Cylinder Information'!E452=\"\",\"\",'Gas Cylinder Information'!E452)","v":""},{"$f":"IF('Gas Cylinder Information'!F452=\"\",\"\",'Gas Cylinder Information'!F452)","v":""},{"$f":"IF('Gas Cylinder Information'!G452=\"\",\"\",'Gas Cylinder Information'!G452)","v":""}]
[{"$f":"IF('Gas Cylinder Information'!A453=\"\",\"\",'Gas Cylinder Information'!A453)","v":""},{"$f":"IF('Gas Cylinder Information'!C453=\"\",\"\",'Gas Cylinder Information'!C453)","v":""},{"$f":"IF('Gas Cylinder Information'!D453=\"\",\"\",'Gas Cylinder Information'!D453)","v":""},{"$f":"IF('Gas Cylinder Information'!B453=\"\",\"\",'Gas Cylinder Information'!B453)","v":""},{"$f":"IF('Gas Cylinder Information'!E453=\"\",\"\",'Gas Cylinder Information'!E453)","v":""},{"$f":"IF('Gas Cylinder Information'!F453=\"\",\"\",'Gas Cylinder Information'!F453)","v":""},{"$f":"IF('Gas Cylinder Information'!G453=\"\",\"\",'Gas Cylinder Information'!G453)","v":""}]
[{"$f":"IF('Gas Cylinder Information'!A454=\"\",\"\",'Gas Cylinder Information'!A454)","v":""},{"$f":"IF('Gas Cylinder Information'!C454=\"\",\"\",'Gas Cylinder Information'!C454)","v":""},{"$f":"IF('Gas Cylinder Information'!D454=\"\",\"\",'Gas Cylinder Information'!D454)","v":""},{"$f":"IF('Gas Cylinder Information'!B454=\"\",\"\",'Gas Cylinder Information'!B454)","v":""},{"$f":"IF('Gas Cylinder Information'!E454=\"\",\"\",'Gas Cylinder Information'!E454)","v":""},{"$f":"IF('Gas Cylinder Information'!F454=\"\",\"\",'Gas Cylinder Information'!F454)","v":""},{"$f":"IF('Gas Cylinder Information'!G454=\"\",\"\",'Gas Cylinder Information'!G454)","v":""}]
[{"$f":"IF('Gas Cylinder Information'!A455=\"\",\"\",'Gas Cylinder Information'!A455)","v":""},{"$f":"IF('Gas Cylinder Information'!C455=\"\",\"\",'Gas Cylinder Information'!C455)","v":""},{"$f":"IF('Gas Cylinder Information'!D455=\"\",\"\",'Gas Cylinder Information'!D455)","v":""},{"$f":"IF('Gas Cylinder Information'!B455=\"\",\"\",'Gas Cylinder Information'!B455)","v":""},{"$f":"IF('Gas Cylinder Information'!E455=\"\",\"\",'Gas Cylinder Information'!E455)","v":""},{"$f":"IF('Gas Cylinder Information'!F455=\"\",\"\",'Gas Cylinder Information'!F455)","v":""},{"$f":"IF('Gas Cylinder Information'!G455=\"\",\"\",'Gas Cylinder Information'!G455)","v":""}]
[{"$f":"IF('Gas Cylinder Information'!A456=\"\",\"\",'Gas Cylinder Information'!A456)","v":""},{"$f":"IF('Gas Cylinder Information'!C456=\"\",\"\",'Gas Cylinder Information'!C456)","v":""},{"$f":"IF('Gas Cylinder Information'!D456=\"\",\"\",'Gas Cylinder Information'!D456)","v":""},{"$f":"IF('Gas Cylinder Information'!B456=\"\",\"\",'Gas Cylinder Information'!B456)","v":""},{"$f":"IF('Gas Cylinder Information'!E456=\"\",\"\",'Gas Cylinder Information'!E456)","v":""},{"$f":"IF('Gas Cylinder Information'!F456=\"\",\"\",'Gas Cylinder Information'!F456)","v":""},{"$f":"IF('Gas Cylinder Information'!G456=\"\",\"\",'Gas Cylinder Information'!G456)","v":""}]
[{"$f":"IF('Gas Cylinder Information'!A457=\"\",\"\",'Gas Cylinder Information'!A457)","v":""},{"$f":"IF('Gas Cylinder Information'!C457=\"\",\"\",'Gas Cylinder Information'!C457)","v":""},{"$f":"IF('Gas Cylinder Information'!D457=\"\",\"\",'Gas Cylinder Information'!D457)","v":""},{"$f":"IF('Gas Cylinder Information'!B457=\"\",\"\",'Gas Cylinder Information'!B457)","v":""},{"$f":"IF('Gas Cylinder Information'!E457=\"\",\"\",'Gas Cylinder Information'!E457)","v":""},{"$f":"IF('Gas Cylinder Information'!F457=\"\",\"\",'Gas Cylinder Information'!F457)","v":""},{"$f":"IF('Gas Cylinder Information'!G457=\"\",\"\",'Gas Cylinder Information'!G457)","v":""}]
[{"$f":"IF('Gas Cylinder Information'!A458=\"\",\"\",'Gas Cylinder Information'!A458)","v":""},{"$f":"IF('Gas Cylinder Information'!C458=\"\",\"\",'Gas Cylinder Information'!C458)","v":""},{"$f":"IF('Gas Cylinder Information'!D458=\"\",\"\",'Gas Cylinder Information'!D458)","v":""},{"$f":"IF('Gas Cylinder Information'!B458=\"\",\"\",'Gas Cylinder Information'!B458)","v":""},{"$f":"IF('Gas Cylinder Information'!E458=\"\",\"\",'Gas Cylinder Information'!E458)","v":""},{"$f":"IF('Gas Cylinder Information'!F458=\"\",\"\",'Gas Cylinder Information'!F458)","v":""},{"$f":"IF('Gas Cylinder Information'!G458=\"\",\"\",'Gas Cylinder Information'!G458)","v":""}]
[{"$f":"IF('Gas Cylinder Information'!A459=\"\",\"\",'Gas Cylinder Information'!A459)","v":""},{"$f":"IF('Gas Cylinder Information'!C459=\"\",\"\",'Gas Cylinder Information'!C459)","v":""},{"$f":"IF('Gas Cylinder Information'!D459=\"\",\"\",'Gas Cylinder Information'!D459)","v":""},{"$f":"IF('Gas Cylinder Information'!B459=\"\",\"\",'Gas Cylinder Information'!B459)","v":""},{"$f":"IF('Gas Cylinder Information'!E459=\"\",\"\",'Gas Cylinder Information'!E459)","v":""},{"$f":"IF('Gas Cylinder Information'!F459=\"\",\"\",'Gas Cylinder Information'!F459)","v":""},{"$f":"IF('Gas Cylinder Information'!G459=\"\",\"\",'Gas Cylinder Information'!G459)","v":""}]
[{"$f":"IF('Gas Cylinder Information'!A460=\"\",\"\",'Gas Cylinder Information'!A460)","v":""},{"$f":"IF('Gas Cylinder Information'!C460=\"\",\"\",'Gas Cylinder Information'!C460)","v":""},{"$f":"IF('Gas Cylinder Information'!D460=\"\",\"\",'Gas Cylinder Information'!D460)","v":""},{"$f":"IF('Gas Cylinder Information'!B460=\"\",\"\",'Gas Cylinder Information'!B460)","v":""},{"$f":"IF('Gas Cylinder Information'!E460=\"\",\"\",'Gas Cylinder Information'!E460)","v":""},{"$f":"IF('Gas Cylinder Information'!F460=\"\",\"\",'Gas Cylinder Information'!F460)","v":""},{"$f":"IF('Gas Cylinder Information'!G460=\"\",\"\",'Gas Cylinder Information'!G460)","v":""}]
[{"$f":"IF('Gas Cylinder Information'!A461=\"\",\"\",'Gas Cylinder Information'!A461)","v":""},{"$f":"IF('Gas Cylinder Information'!C461=\"\",\"\",'Gas Cylinder Information'!C461)","v":""},{"$f":"IF('Gas Cylinder Information'!D461=\"\",\"\",'Gas Cylinder Information'!D461)","v":""},{"$f":"IF('Gas Cylinder Information'!B461=\"\",\"\",'Gas Cylinder Information'!B461)","v":""},{"$f":"IF('Gas Cylinder Information'!E461=\"\",\"\",'Gas Cylinder Information'!E461)","v":""},{"$f":"IF('Gas Cylinder Information'!F461=\"\",\"\",'Gas Cylinder Information'!F461)","v":""},{"$f":"IF('Gas Cylinder Information'!G461=\"\",\"\",'Gas Cylinder Information'!G461)","v":""}]
[{"$f":"IF('Gas Cylinder Information'!A462=\"\",\"\",'Gas Cylinder Information'!A462)","v":""},{"$f":"IF('Gas Cylinder Information'!C462=\"\",\"\",'Gas Cylinder Information'!C462)","v":""},{"$f":"IF('Gas Cylinder Information'!D462=\"\",\"\",'Gas Cylinder Information'!D462)","v":""},{"$f":"IF('Gas Cylinder Information'!B462=\"\",\"\",'Gas Cylinder Information'!B462)","v":""},{"$f":"IF('Gas Cylinder Information'!E462=\"\",\"\",'Gas Cylinder Information'!E462)","v":""},{"$f":"IF('Gas Cylinder Information'!F462=\"\",\"\",'Gas Cylinder Information'!F462)","v":""},{"$f":"IF('Gas Cylinder Information'!G462=\"\",\"\",'Gas Cylinder Information'!G462)","v":""}]
[{"$f":"IF('Gas Cylinder Information'!A463=\"\",\"\",'Gas Cylinder Information'!A463)","v":""},{"$f":"IF('Gas Cylinder Information'!C463=\"\",\"\",'Gas Cylinder Information'!C463)","v":""},{"$f":"IF('Gas Cylinder Information'!D463=\"\",\"\",'Gas Cylinder Information'!D463)","v":""},{"$f":"IF('Gas Cylinder Information'!B463=\"\",\"\",'Gas Cylinder Information'!B463)","v":""},{"$f":"IF('Gas Cylinder Information'!E463=\"\",\"\",'Gas Cylinder Information'!E463)","v":""},{"$f":"IF('Gas Cylinder Information'!F463=\"\",\"\",'Gas Cylinder Information'!F463)","v":""},{"$f":"IF('Gas Cylinder Information'!G463=\"\",\"\",'Gas Cylinder Information'!G463)","v":""}]
[{"$f":"IF('Gas Cylinder Information'!A464=\"\",\"\",'Gas Cylinder Information'!A464)","v":""},{"$f":"IF('Gas Cylinder Information'!C464=\"\",\"\",'Gas Cylinder Information'!C464)","v":""},{"$f":"IF('Gas Cylinder Information'!D464=\"\",\"\",'Gas Cylinder Information'!D464)","v":""},{"$f":"IF('Gas Cylinder Information'!B464=\"\",\"\",'Gas Cylinder Information'!B464)","v":""},{"$f":"IF('Gas Cylinder Information'!E464=\"\",\"\",'Gas Cylinder Information'!E464)","v":""},{"$f":"IF('Gas Cylinder Information'!F464=\"\",\"\",'Gas Cylinder Information'!F464)","v":""},{"$f":"IF('Gas Cylinder Information'!G464=\"\",\"\",'Gas Cylinder Information'!G464)","v":""}]
[{"$f":"IF('Gas Cylinder Information'!A465=\"\",\"\",'Gas Cylinder Information'!A465)","v":""},{"$f":"IF('Gas Cylinder Information'!C465=\"\",\"\",'Gas Cylinder Information'!C465)","v":""},{"$f":"IF('Gas Cylinder Information'!D465=\"\",\"\",'Gas Cylinder Information'!D465)","v":""},{"$f":"IF('Gas Cylinder Information'!B465=\"\",\"\",'Gas Cylinder Information'!B465)","v":""},{"$f":"IF('Gas Cylinder Information'!E465=\"\",\"\",'Gas Cylinder Information'!E465)","v":""},{"$f":"IF('Gas Cylinder Information'!F465=\"\",\"\",'Gas Cylinder Information'!F465)","v":""},{"$f":"IF('Gas Cylinder Information'!G465=\"\",\"\",'Gas Cylinder Information'!G465)","v":""}]
[{"$f":"IF('Gas Cylinder Information'!A466=\"\",\"\",'Gas Cylinder Information'!A466)","v":""},{"$f":"IF('Gas Cylinder Information'!C466=\"\",\"\",'Gas Cylinder Information'!C466)","v":""},{"$f":"IF('Gas Cylinder Information'!D466=\"\",\"\",'Gas Cylinder Information'!D466)","v":""},{"$f":"IF('Gas Cylinder Information'!B466=\"\",\"\",'Gas Cylinder Information'!B466)","v":""},{"$f":"IF('Gas Cylinder Information'!E466=\"\",\"\",'Gas Cylinder Information'!E466)","v":""},{"$f":"IF('Gas Cylinder Information'!F466=\"\",\"\",'Gas Cylinder Information'!F466)","v":""},{"$f":"IF('Gas Cylinder Information'!G466=\"\",\"\",'Gas Cylinder Information'!G466)","v":""}]
[{"$f":"IF('Gas Cylinder Information'!A467=\"\",\"\",'Gas Cylinder Information'!A467)","v":""},{"$f":"IF('Gas Cylinder Information'!C467=\"\",\"\",'Gas Cylinder Information'!C467)","v":""},{"$f":"IF('Gas Cylinder Information'!D467=\"\",\"\",'Gas Cylinder Information'!D467)","v":""},{"$f":"IF('Gas Cylinder Information'!B467=\"\",\"\",'Gas Cylinder Information'!B467)","v":""},{"$f":"IF('Gas Cylinder Information'!E467=\"\",\"\",'Gas Cylinder Information'!E467)","v":""},{"$f":"IF('Gas Cylinder Information'!F467=\"\",\"\",'Gas Cylinder Information'!F467)","v":""},{"$f":"IF('Gas Cylinder Information'!G467=\"\",\"\",'Gas Cylinder Information'!G467)","v":""}]
[{"$f":"IF('Gas Cylinder Information'!A468=\"\",\"\",'Gas Cylinder Information'!A468)","v":""},{"$f":"IF('Gas Cylinder Information'!C468=\"\",\"\",'Gas Cylinder Information'!C468)","v":""},{"$f":"IF('Gas Cylinder Information'!D468=\"\",\"\",'Gas Cylinder Information'!D468)","v":""},{"$f":"IF('Gas Cylinder Information'!B468=\"\",\"\",'Gas Cylinder Information'!B468)","v":""},{"$f":"IF('Gas Cylinder Information'!E468=\"\",\"\",'Gas Cylinder Information'!E468)","v":""},{"$f":"IF('Gas Cylinder Information'!F468=\"\",\"\",'Gas Cylinder Information'!F468)","v":""},{"$f":"IF('Gas Cylinder Information'!G468=\"\",\"\",'Gas Cylinder Information'!G468)","v":""}]
[{"$f":"IF('Gas Cylinder Information'!A469=\"\",\"\",'Gas Cylinder Information'!A469)","v":""},{"$f":"IF('Gas Cylinder Information'!C469=\"\",\"\",'Gas Cylinder Information'!C469)","v":""},{"$f":"IF('Gas Cylinder Information'!D469=\"\",\"\",'Gas Cylinder Information'!D469)","v":""},{"$f":"IF('Gas Cylinder Information'!B469=\"\",\"\",'Gas Cylinder Information'!B469)","v":""},{"$f":"IF('Gas Cylinder Information'!E469=\"\",\"\",'Gas Cylinder Information'!E469)","v":""},{"$f":"IF('Gas Cylinder Information'!F469=\"\",\"\",'Gas Cylinder Information'!F469)","v":""},{"$f":"IF('Gas Cylinder Information'!G469=\"\",\"\",'Gas Cylinder Information'!G469)","v":""}]
[{"$f":"IF('Gas Cylinder Information'!A470=\"\",\"\",'Gas Cylinder Information'!A470)","v":""},{"$f":"IF('Gas Cylinder Information'!C470=\"\",\"\",'Gas Cylinder Information'!C470)","v":""},{"$f":"IF('Gas Cylinder Information'!D470=\"\",\"\",'Gas Cylinder Information'!D470)","v":""},{"$f":"IF('Gas Cylinder Information'!B470=\"\",\"\",'Gas Cylinder Information'!B470)","v":""},{"$f":"IF('Gas Cylinder Information'!E470=\"\",\"\",'Gas Cylinder Information'!E470)","v":""},{"$f":"IF('Gas Cylinder Information'!F470=\"\",\"\",'Gas Cylinder Information'!F470)","v":""},{"$f":"IF('Gas Cylinder Information'!G470=\"\",\"\",'Gas Cylinder Information'!G470)","v":""}]
[{"$f":"IF('Gas Cylinder Information'!A471=\"\",\"\",'Gas Cylinder Information'!A471)","v":""},{"$f":"IF('Gas Cylinder Information'!C471=\"\",\"\",'Gas Cylinder Information'!C471)","v":""},{"$f":"IF('Gas Cylinder Information'!D471=\"\",\"\",'Gas Cylinder Information'!D471)","v":""},{"$f":"IF('Gas Cylinder Information'!B471=\"\",\"\",'Gas Cylinder Information'!B471)","v":""},{"$f":"IF('Gas Cylinder Information'!E471=\"\",\"\",'Gas Cylinder Information'!E471)","v":""},{"$f":"IF('Gas Cylinder Information'!F471=\"\",\"\",'Gas Cylinder Information'!F471)","v":""},{"$f":"IF('Gas Cylinder Information'!G471=\"\",\"\",'Gas Cylinder Information'!G471)","v":""}]
[{"$f":"IF('Gas Cylinder Information'!A472=\"\",\"\",'Gas Cylinder Information'!A472)","v":""},{"$f":"IF('Gas Cylinder Information'!C472=\"\",\"\",'Gas Cylinder Information'!C472)","v":""},{"$f":"IF('Gas Cylinder Information'!D472=\"\",\"\",'Gas Cylinder Information'!D472)","v":""},{"$f":"IF('Gas Cylinder Information'!B472=\"\",\"\",'Gas Cylinder Information'!B472)","v":""},{"$f":"IF('Gas Cylinder Information'!E472=\"\",\"\",'Gas Cylinder Information'!E472)","v":""},{"$f":"IF('Gas Cylinder Information'!F472=\"\",\"\",'Gas Cylinder Information'!F472)","v":""},{"$f":"IF('Gas Cylinder Information'!G472=\"\",\"\",'Gas Cylinder Information'!G472)","v":""}]
[{"$f":"IF('Gas Cylinder Information'!A473=\"\",\"\",'Gas Cylinder Information'!A473)","v":""},{"$f":"IF('Gas Cylinder Information'!C473=\"\",\"\",'Gas Cylinder Information'!C473)","v":""},{"$f":"IF('Gas Cylinder Information'!D473=\"\",\"\",'Gas Cylinder Information'!D473)","v":""},{"$f":"IF('Gas Cylinder Information'!B473=\"\",\"\",'Gas Cylinder Information'!B473)","v":""},{"$f":"IF('Gas Cylinder Information'!E473=\"\",\"\",'Gas Cylinder Information'!E473)","v":""},{"$f":"IF('Gas Cylinder Information'!F473=\"\",\"\",'Gas Cylinder Information'!F473)","v":""},{"$f":"IF('Gas Cylinder Information'!G473=\"\",\"\",'Gas Cylinder Information'!G473)","v":""}]
[{"$f":"IF('Gas Cylinder Information'!A474=\"\",\"\",'Gas Cylinder Information'!A474)","v":""},{"$f":"IF('Gas Cylinder Information'!C474=\"\",\"\",'Gas Cylinder Information'!C474)","v":""},{"$f":"IF('Gas Cylinder Information'!D474=\"\",\"\",'Gas Cylinder Information'!D474)","v":""},{"$f":"IF('Gas Cylinder Information'!B474=\"\",\"\",'Gas Cylinder Information'!B474)","v":""},{"$f":"IF('Gas Cylinder Information'!E474=\"\",\"\",'Gas Cylinder Information'!E474)","v":""},{"$f":"IF('Gas Cylinder Information'!F474=\"\",\"\",'Gas Cylinder Information'!F474)","v":""},{"$f":"IF('Gas Cylinder Information'!G474=\"\",\"\",'Gas Cylinder Information'!G474)","v":""}]
[{"$f":"IF('Gas Cylinder Information'!A475=\"\",\"\",'Gas Cylinder Information'!A475)","v":""},{"$f":"IF('Gas Cylinder Information'!C475=\"\",\"\",'Gas Cylinder Information'!C475)","v":""},{"$f":"IF('Gas Cylinder Information'!D475=\"\",\"\",'Gas Cylinder Information'!D475)","v":""},{"$f":"IF('Gas Cylinder Information'!B475=\"\",\"\",'Gas Cylinder Information'!B475)","v":""},{"$f":"IF('Gas Cylinder Information'!E475=\"\",\"\",'Gas Cylinder Information'!E475)","v":""},{"$f":"IF('Gas Cylinder Information'!F475=\"\",\"\",'Gas Cylinder Information'!F475)","v":""},{"$f":"IF('Gas Cylinder Information'!G475=\"\",\"\",'Gas Cylinder Information'!G475)","v":""}]
[{"$f":"IF('Gas Cylinder Information'!A476=\"\",\"\",'Gas Cylinder Information'!A476)","v":""},{"$f":"IF('Gas Cylinder Information'!C476=\"\",\"\",'Gas Cylinder Information'!C476)","v":""},{"$f":"IF('Gas Cylinder Information'!D476=\"\",\"\",'Gas Cylinder Information'!D476)","v":""},{"$f":"IF('Gas Cylinder Information'!B476=\"\",\"\",'Gas Cylinder Information'!B476)","v":""},{"$f":"IF('Gas Cylinder Information'!E476=\"\",\"\",'Gas Cylinder Information'!E476)","v":""},{"$f":"IF('Gas Cylinder Information'!F476=\"\",\"\",'Gas Cylinder Information'!F476)","v":""},{"$f":"IF('Gas Cylinder Information'!G476=\"\",\"\",'Gas Cylinder Information'!G476)","v":""}]
[{"$f":"IF('Gas Cylinder Information'!A477=\"\",\"\",'Gas Cylinder Information'!A477)","v":""},{"$f":"IF('Gas Cylinder Information'!C477=\"\",\"\",'Gas Cylinder Information'!C477)","v":""},{"$f":"IF('Gas Cylinder Information'!D477=\"\",\"\",'Gas Cylinder Information'!D477)","v":""},{"$f":"IF('Gas Cylinder Information'!B477=\"\",\"\",'Gas Cylinder Information'!B477)","v":""},{"$f":"IF('Gas Cylinder Information'!E477=\"\",\"\",'Gas Cylinder Information'!E477)","v":""},{"$f":"IF('Gas Cylinder Information'!F477=\"\",\"\",'Gas Cylinder Information'!F477)","v":""},{"$f":"IF('Gas Cylinder Information'!G477=\"\",\"\",'Gas Cylinder Information'!G477)","v":""}]
[{"$f":"IF('Gas Cylinder Information'!A478=\"\",\"\",'Gas Cylinder Information'!A478)","v":""},{"$f":"IF('Gas Cylinder Information'!C478=\"\",\"\",'Gas Cylinder Information'!C478)","v":""},{"$f":"IF('Gas Cylinder Information'!D478=\"\",\"\",'Gas Cylinder Information'!D478)","v":""},{"$f":"IF('Gas Cylinder Information'!B478=\"\",\"\",'Gas Cylinder Information'!B478)","v":""},{"$f":"IF('Gas Cylinder Information'!E478=\"\",\"\",'Gas Cylinder Information'!E478)","v":""},{"$f":"IF('Gas Cylinder Information'!F478=\"\",\"\",'Gas Cylinder Information'!F478)","v":""},{"$f":"IF('Gas Cylinder Information'!G478=\"\",\"\",'Gas Cylinder Information'!G478)","v":""}]
[{"$f":"IF('Gas Cylinder Information'!A479=\"\",\"\",'Gas Cylinder Information'!A479)","v":""},{"$f":"IF('Gas Cylinder Information'!C479=\"\",\"\",'Gas Cylinder Information'!C479)","v":""},{"$f":"IF('Gas Cylinder Information'!D479=\"\",\"\",'Gas Cylinder Information'!D479)","v":""},{"$f":"IF('Gas Cylinder Information'!B479=\"\",\"\",'Gas Cylinder Information'!B479)","v":""},{"$f":"IF('Gas Cylinder Information'!E479=\"\",\"\",'Gas Cylinder Information'!E479)","v":""},{"$f":"IF('Gas Cylinder Information'!F479=\"\",\"\",'Gas Cylinder Information'!F479)","v":""},{"$f":"IF('Gas Cylinder Information'!G479=\"\",\"\",'Gas Cylinder Information'!G479)","v":""}]
[{"$f":"IF('Gas Cylinder Information'!A480=\"\",\"\",'Gas Cylinder Information'!A480)","v":""},{"$f":"IF('Gas Cylinder Information'!C480=\"\",\"\",'Gas Cylinder Information'!C480)","v":""},{"$f":"IF('Gas Cylinder Information'!D480=\"\",\"\",'Gas Cylinder Information'!D480)","v":""},{"$f":"IF('Gas Cylinder Information'!B480=\"\",\"\",'Gas Cylinder Information'!B480)","v":""},{"$f":"IF('Gas Cylinder Information'!E480=\"\",\"\",'Gas Cylinder Information'!E480)","v":""},{"$f":"IF('Gas Cylinder Information'!F480=\"\",\"\",'Gas Cylinder Information'!F480)","v":""},{"$f":"IF('Gas Cylinder Information'!G480=\"\",\"\",'Gas Cylinder Information'!G480)","v":""}]
[{"$f":"IF('Gas Cylinder Information'!A481=\"\",\"\",'Gas Cylinder Information'!A481)","v":""},{"$f":"IF('Gas Cylinder Information'!C481=\"\",\"\",'Gas Cylinder Information'!C481)","v":""},{"$f":"IF('Gas Cylinder Information'!D481=\"\",\"\",'Gas Cylinder Information'!D481)","v":""},{"$f":"IF('Gas Cylinder Information'!B481=\"\",\"\",'Gas Cylinder Information'!B481)","v":""},{"$f":"IF('Gas Cylinder Information'!E481=\"\",\"\",'Gas Cylinder Information'!E481)","v":""},{"$f":"IF('Gas Cylinder Information'!F481=\"\",\"\",'Gas Cylinder Information'!F481)","v":""},{"$f":"IF('Gas Cylinder Information'!G481=\"\",\"\",'Gas Cylinder Information'!G481)","v":""}]
[{"$f":"IF('Gas Cylinder Information'!A482=\"\",\"\",'Gas Cylinder Information'!A482)","v":""},{"$f":"IF('Gas Cylinder Information'!C482=\"\",\"\",'Gas Cylinder Information'!C482)","v":""},{"$f":"IF('Gas Cylinder Information'!D482=\"\",\"\",'Gas Cylinder Information'!D482)","v":""},{"$f":"IF('Gas Cylinder Information'!B482=\"\",\"\",'Gas Cylinder Information'!B482)","v":""},{"$f":"IF('Gas Cylinder Information'!E482=\"\",\"\",'Gas Cylinder Information'!E482)","v":""},{"$f":"IF('Gas Cylinder Information'!F482=\"\",\"\",'Gas Cylinder Information'!F482)","v":""},{"$f":"IF('Gas Cylinder Information'!G482=\"\",\"\",'Gas Cylinder Information'!G482)","v":""}]
[{"$f":"IF('Gas Cylinder Information'!A483=\"\",\"\",'Gas Cylinder Information'!A483)","v":""},{"$f":"IF('Gas Cylinder Information'!C483=\"\",\"\",'Gas Cylinder Information'!C483)","v":""},{"$f":"IF('Gas Cylinder Information'!D483=\"\",\"\",'Gas Cylinder Information'!D483)","v":""},{"$f":"IF('Gas Cylinder Information'!B483=\"\",\"\",'Gas Cylinder Information'!B483)","v":""},{"$f":"IF('Gas Cylinder Information'!E483=\"\",\"\",'Gas Cylinder Information'!E483)","v":""},{"$f":"IF('Gas Cylinder Information'!F483=\"\",\"\",'Gas Cylinder Information'!F483)","v":""},{"$f":"IF('Gas Cylinder Information'!G483=\"\",\"\",'Gas Cylinder Information'!G483)","v":""}]
[{"$f":"IF('Gas Cylinder Information'!A484=\"\",\"\",'Gas Cylinder Information'!A484)","v":""},{"$f":"IF('Gas Cylinder Information'!C484=\"\",\"\",'Gas Cylinder Information'!C484)","v":""},{"$f":"IF('Gas Cylinder Information'!D484=\"\",\"\",'Gas Cylinder Information'!D484)","v":""},{"$f":"IF('Gas Cylinder Information'!B484=\"\",\"\",'Gas Cylinder Information'!B484)","v":""},{"$f":"IF('Gas Cylinder Information'!E484=\"\",\"\",'Gas Cylinder Information'!E484)","v":""},{"$f":"IF('Gas Cylinder Information'!F484=\"\",\"\",'Gas Cylinder Information'!F484)","v":""},{"$f":"IF('Gas Cylinder Information'!G484=\"\",\"\",'Gas Cylinder Information'!G484)","v":""}]
[{"$f":"IF('Gas Cylinder Information'!A485=\"\",\"\",'Gas Cylinder Information'!A485)","v":""},{"$f":"IF('Gas Cylinder Information'!C485=\"\",\"\",'Gas Cylinder Information'!C485)","v":""},{"$f":"IF('Gas Cylinder Information'!D485=\"\",\"\",'Gas Cylinder Information'!D485)","v":""},{"$f":"IF('Gas Cylinder Information'!B485=\"\",\"\",'Gas Cylinder Information'!B485)","v":""},{"$f":"IF('Gas Cylinder Information'!E485=\"\",\"\",'Gas Cylinder Information'!E485)","v":""},{"$f":"IF('Gas Cylinder Information'!F485=\"\",\"\",'Gas Cylinder Information'!F485)","v":""},{"$f":"IF('Gas Cylinder Information'!G485=\"\",\"\",'Gas Cylinder Information'!G485)","v":""}]
[{"$f":"IF('Gas Cylinder Information'!A486=\"\",\"\",'Gas Cylinder Information'!A486)","v":""},{"$f":"IF('Gas Cylinder Information'!C486=\"\",\"\",'Gas Cylinder Information'!C486)","v":""},{"$f":"IF('Gas Cylinder Information'!D486=\"\",\"\",'Gas Cylinder Information'!D486)","v":""},{"$f":"IF('Gas Cylinder Information'!B486=\"\",\"\",'Gas Cylinder Information'!B486)","v":""},{"$f":"IF('Gas Cylinder Information'!E486=\"\",\"\",'Gas Cylinder Information'!E486)","v":""},{"$f":"IF('Gas Cylinder Information'!F486=\"\",\"\",'Gas Cylinder Information'!F486)","v":""},{"$f":"IF('Gas Cylinder Information'!G486=\"\",\"\",'Gas Cylinder Information'!G486)","v":""}]
[{"$f":"IF('Gas Cylinder Information'!A487=\"\",\"\",'Gas Cylinder Information'!A487)","v":""},{"$f":"IF('Gas Cylinder Information'!C487=\"\",\"\",'Gas Cylinder Information'!C487)","v":""},{"$f":"IF('Gas Cylinder Information'!D487=\"\",\"\",'Gas Cylinder Information'!D487)","v":""},{"$f":"IF('Gas Cylinder Information'!B487=\"\",\"\",'Gas Cylinder Information'!B487)","v":""},{"$f":"IF('Gas Cylinder Information'!E487=\"\",\"\",'Gas Cylinder Information'!E487)","v":""},{"$f":"IF('Gas Cylinder Information'!F487=\"\",\"\",'Gas Cylinder Information'!F487)","v":""},{"$f":"IF('Gas Cylinder Information'!G487=\"\",\"\",'Gas Cylinder Information'!G487)","v":""}]
[{"$f":"IF('Gas Cylinder Information'!A488=\"\",\"\",'Gas Cylinder Information'!A488)","v":""},{"$f":"IF('Gas Cylinder Information'!C488=\"\",\"\",'Gas Cylinder Information'!C488)","v":""},{"$f":"IF('Gas Cylinder Information'!D488=\"\",\"\",'Gas Cylinder Information'!D488)","v":""},{"$f":"IF('Gas Cylinder Information'!B488=\"\",\"\",'Gas Cylinder Information'!B488)","v":""},{"$f":"IF('Gas Cylinder Information'!E488=\"\",\"\",'Gas Cylinder Information'!E488)","v":""},{"$f":"IF('Gas Cylinder Information'!F488=\"\",\"\",'Gas Cylinder Information'!F488)","v":""},{"$f":"IF('Gas Cylinder Information'!G488=\"\",\"\",'Gas Cylinder Information'!G488)","v":""}]
[{"$f":"IF('Gas Cylinder Information'!A489=\"\",\"\",'Gas Cylinder Information'!A489)","v":""},{"$f":"IF('Gas Cylinder Information'!C489=\"\",\"\",'Gas Cylinder Information'!C489)","v":""},{"$f":"IF('Gas Cylinder Information'!D489=\"\",\"\",'Gas Cylinder Information'!D489)","v":""},{"$f":"IF('Gas Cylinder Information'!B489=\"\",\"\",'Gas Cylinder Information'!B489)","v":""},{"$f":"IF('Gas Cylinder Information'!E489=\"\",\"\",'Gas Cylinder Information'!E489)","v":""},{"$f":"IF('Gas Cylinder Information'!F489=\"\",\"\",'Gas Cylinder Information'!F489)","v":""},{"$f":"IF('Gas Cylinder Information'!G489=\"\",\"\",'Gas Cylinder Information'!G489)","v":""}]
[{"$f":"IF('Gas Cylinder Information'!A490=\"\",\"\",'Gas Cylinder Information'!A490)","v":""},{"$f":"IF('Gas Cylinder Information'!C490=\"\",\"\",'Gas Cylinder Information'!C490)","v":""},{"$f":"IF('Gas Cylinder Information'!D490=\"\",\"\",'Gas Cylinder Information'!D490)","v":""},{"$f":"IF('Gas Cylinder Information'!B490=\"\",\"\",'Gas Cylinder Information'!B490)","v":""},{"$f":"IF('Gas Cylinder Information'!E490=\"\",\"\",'Gas Cylinder Information'!E490)","v":""},{"$f":"IF('Gas Cylinder Information'!F490=\"\",\"\",'Gas Cylinder Information'!F490)","v":""},{"$f":"IF('Gas Cylinder Information'!G490=\"\",\"\",'Gas Cylinder Information'!G490)","v":""}]
[{"$f":"IF('Gas Cylinder Information'!A491=\"\",\"\",'Gas Cylinder Information'!A491)","v":""},{"$f":"IF('Gas Cylinder Information'!C491=\"\",\"\",'Gas Cylinder Information'!C491)","v":""},{"$f":"IF('Gas Cylinder Information'!D491=\"\",\"\",'Gas Cylinder Information'!D491)","v":""},{"$f":"IF('Gas Cylinder Information'!B491=\"\",\"\",'Gas Cylinder Information'!B491)","v":""},{"$f":"IF('Gas Cylinder Information'!E491=\"\",\"\",'Gas Cylinder Information'!E491)","v":""},{"$f":"IF('Gas Cylinder Information'!F491=\"\",\"\",'Gas Cylinder Information'!F491)","v":""},{"$f":"IF('Gas Cylinder Information'!G491=\"\",\"\",'Gas Cylinder Information'!G491)","v":""}]
[{"$f":"IF('Gas Cylinder Information'!A492=\"\",\"\",'Gas Cylinder Information'!A492)","v":""},{"$f":"IF('Gas Cylinder Information'!C492=\"\",\"\",'Gas Cylinder Information'!C492)","v":""},{"$f":"IF('Gas Cylinder Information'!D492=\"\",\"\",'Gas Cylinder Information'!D492)","v":""},{"$f":"IF('Gas Cylinder Information'!B492=\"\",\"\",'Gas Cylinder Information'!B492)","v":""},{"$f":"IF('Gas Cylinder Information'!E492=\"\",\"\",'Gas Cylinder Information'!E492)","v":""},{"$f":"IF('Gas Cylinder Information'!F492=\"\",\"\",'Gas Cylinder Information'!F492)","v":""},{"$f":"IF('Gas Cylinder Information'!G492=\"\",\"\",'Gas Cylinder Information'!G492)","v":""}]
[{"$f":"IF('Gas Cylinder Information'!A493=\"\",\"\",'Gas Cylinder Information'!A493)","v":""},{"$f":"IF('Gas Cylinder Information'!C493=\"\",\"\",'Gas Cylinder Information'!C493)","v":""},{"$f":"IF('Gas Cylinder Information'!D493=\"\",\"\",'Gas Cylinder Information'!D493)","v":""},{"$f":"IF('Gas Cylinder Information'!B493=\"\",\"\",'Gas Cylinder Information'!B493)","v":""},{"$f":"IF('Gas Cylinder Information'!E493=\"\",\"\",'Gas Cylinder Information'!E493)","v":""},{"$f":"IF('Gas Cylinder Information'!F493=\"\",\"\",'Gas Cylinder Information'!F493)","v":""},{"$f":"IF('Gas Cylinder Information'!G493=\"\",\"\",'Gas Cylinder Information'!G493)","v":""}]
[{"$f":"IF('Gas Cylinder Information'!A494=\"\",\"\",'Gas Cylinder Information'!A494)","v":""},{"$f":"IF('Gas Cylinder Information'!C494=\"\",\"\",'Gas Cylinder Information'!C494)","v":""},{"$f":"IF('Gas Cylinder Information'!D494=\"\",\"\",'Gas Cylinder Information'!D494)","v":""},{"$f":"IF('Gas Cylinder Information'!B494=\"\",\"\",'Gas Cylinder Information'!B494)","v":""},{"$f":"IF('Gas Cylinder Information'!E494=\"\",\"\",'Gas Cylinder Information'!E494)","v":""},{"$f":"IF('Gas Cylinder Information'!F494=\"\",\"\",'Gas Cylinder Information'!F494)","v":""},{"$f":"IF('Gas Cylinder Information'!G494=\"\",\"\",'Gas Cylinder Information'!G494)","v":""}]
[{"$f":"IF('Gas Cylinder Information'!A495=\"\",\"\",'Gas Cylinder Information'!A495)","v":""},{"$f":"IF('Gas Cylinder Information'!C495=\"\",\"\",'Gas Cylinder Information'!C495)","v":""},{"$f":"IF('Gas Cylinder Information'!D495=\"\",\"\",'Gas Cylinder Information'!D495)","v":""},{"$f":"IF('Gas Cylinder Information'!B495=\"\",\"\",'Gas Cylinder Information'!B495)","v":""},{"$f":"IF('Gas Cylinder Information'!E495=\"\",\"\",'Gas Cylinder Information'!E495)","v":""},{"$f":"IF('Gas Cylinder Information'!F495=\"\",\"\",'Gas Cylinder Information'!F495)","v":""},{"$f":"IF('Gas Cylinder Information'!G495=\"\",\"\",'Gas Cylinder Information'!G495)","v":""}]
[{"$f":"IF('Gas Cylinder Information'!A496=\"\",\"\",'Gas Cylinder Information'!A496)","v":""},{"$f":"IF('Gas Cylinder Information'!C496=\"\",\"\",'Gas Cylinder Information'!C496)","v":""},{"$f":"IF('Gas Cylinder Information'!D496=\"\",\"\",'Gas Cylinder Information'!D496)","v":""},{"$f":"IF('Gas Cylinder Information'!B496=\"\",\"\",'Gas Cylinder Information'!B496)","v":""},{"$f":"IF('Gas Cylinder Information'!E496=\"\",\"\",'Gas Cylinder Information'!E496)","v":""},{"$f":"IF('Gas Cylinder Information'!F496=\"\",\"\",'Gas Cylinder Information'!F496)","v":""},{"$f":"IF('Gas Cylinder Information'!G496=\"\",\"\",'Gas Cylinder Information'!G496)","v":""}]
[{"$f":"IF('Gas Cylinder Information'!A497=\"\",\"\",'Gas Cylinder Information'!A497)","v":""},{"$f":"IF('Gas Cylinder Information'!C497=\"\",\"\",'Gas Cylinder Information'!C497)","v":""},{"$f":"IF('Gas Cylinder Information'!D497=\"\",\"\",'Gas Cylinder Information'!D497)","v":""},{"$f":"IF('Gas Cylinder Information'!B497=\"\",\"\",'Gas Cylinder Information'!B497)","v":""},{"$f":"IF('Gas Cylinder Information'!E497=\"\",\"\",'Gas Cylinder Information'!E497)","v":""},{"$f":"IF('Gas Cylinder Information'!F497=\"\",\"\",'Gas Cylinder Information'!F497)","v":""},{"$f":"IF('Gas Cylinder Information'!G497=\"\",\"\",'Gas Cylinder Information'!G497)","v":""}]
[{"$f":"IF('Gas Cylinder Information'!A498=\"\",\"\",'Gas Cylinder Information'!A498)","v":""},{"$f":"IF('Gas Cylinder Information'!C498=\"\",\"\",'Gas Cylinder Information'!C498)","v":""},{"$f":"IF('Gas Cylinder Information'!D498=\"\",\"\",'Gas Cylinder Information'!D498)","v":""},{"$f":"IF('Gas Cylinder Information'!B498=\"\",\"\",'Gas Cylinder Information'!B498)","v":""},{"$f":"IF('Gas Cylinder Information'!E498=\"\",\"\",'Gas Cylinder Information'!E498)","v":""},{"$f":"IF('Gas Cylinder Information'!F498=\"\",\"\",'Gas Cylinder Information'!F498)","v":""},{"$f":"IF('Gas Cylinder Information'!G498=\"\",\"\",'Gas Cylinder Information'!G498)","v":""}]
[{"$f":"IF('Gas Cylinder Information'!A499=\"\",\"\",'Gas Cylinder Information'!A499)","v":""},{"$f":"IF('Gas Cylinder Information'!C499=\"\",\"\",'Gas Cylinder Information'!C499)","v":""},{"$f":"IF('Gas Cylinder Information'!D499=\"\",\"\",'Gas Cylinder Information'!D499)","v":""},{"$f":"IF('Gas Cylinder Information'!B499=\"\",\"\",'Gas Cylinder Information'!B499)","v":""},{"$f":"IF('Gas Cylinder Information'!E499=\"\",\"\",'Gas Cylinder Information'!E499)","v":""},{"$f":"IF('Gas Cylinder Information'!F499=\"\",\"\",'Gas Cylinder Information'!F499)","v":""},{"$f":"IF('Gas Cylinder Information'!G499=\"\",\"\",'Gas Cylinder Information'!G499)","v":""}]
[{"$f":"IF('Gas Cylinder Information'!A500=\"\",\"\",'Gas Cylinder Information'!A500)","v":""},{"$f":"IF('Gas Cylinder Information'!C500=\"\",\"\",'Gas Cylinder Information'!C500)","v":""},{"$f":"IF('Gas Cylinder Information'!D500=\"\",\"\",'Gas Cylinder Information'!D500)","v":""},{"$f":"IF('Gas Cylinder Information'!B500=\"\",\"\",'Gas Cylinder Information'!B500)","v":""},{"$f":"IF('Gas Cylinder Information'!E500=\"\",\"\",'Gas Cylinder Information'!E500)","v":""},{"$f":"IF('Gas Cylinder Information'!F500=\"\",\"\",'Gas Cylinder Information'!F500)","v":""},{"$f":"IF('Gas Cylinder Information'!G500=\"\",\"\",'Gas Cylinder Information'!G500)","v":""}]
[{"$f":"IF('Gas Cylinder Information'!A501=\"\",\"\",'Gas Cylinder Information'!A501)","v":""},{"$f":"IF('Gas Cylinder Information'!C501=\"\",\"\",'Gas Cylinder Information'!C501)","v":""},{"$f":"IF('Gas Cylinder Information'!D501=\"\",\"\",'Gas Cylinder Information'!D501)","v":""},{"$f":"IF('Gas Cylinder Information'!B501=\"\",\"\",'Gas Cylinder Information'!B501)","v":""},{"$f":"IF('Gas Cylinder Information'!E501=\"\",\"\",'Gas Cylinder Information'!E501)","v":""},{"$f":"IF('Gas Cylinder Information'!F501=\"\",\"\",'Gas Cylinder Information'!F501)","v":""},{"$f":"IF('Gas Cylinder Information'!G501=\"\",\"\",'Gas Cylinder Information'!G501)","v":""}]
[{"$f":"IF('Gas Cylinder Information'!A502=\"\",\"\",'Gas Cylinder Information'!A502)","v":""},{"$f":"IF('Gas Cylinder Information'!C502=\"\",\"\",'Gas Cylinder Information'!C502)","v":""},{"$f":"IF('Gas Cylinder Information'!D502=\"\",\"\",'Gas Cylinder Information'!D502)","v":""},{"$f":"IF('Gas Cylinder Information'!B502=\"\",\"\",'Gas Cylinder Information'!B502)","v":""},{"$f":"IF('Gas Cylinder Information'!E502=\"\",\"\",'Gas Cylinder Information'!E502)","v":""},{"$f":"IF('Gas Cylinder Information'!F502=\"\",\"\",'Gas Cylinder Information'!F502)","v":""},{"$f":"IF('Gas Cylinder Information'!G502=\"\",\"\",'Gas Cylinder Information'!G502)","v":""}]
[{"$f":"IF('Gas Cylinder Information'!A503=\"\",\"\",'Gas Cylinder Information'!A503)","v":""},{"$f":"IF('Gas Cylinder Information'!C503=\"\",\"\",'Gas Cylinder Information'!C503)","v":""},{"$f":"IF('Gas Cylinder Information'!D503=\"\",\"\",'Gas Cylinder Information'!D503)","v":""},{"$f":"IF('Gas Cylinder Information'!B503=\"\",\"\",'Gas Cylinder Information'!B503)","v":""},{"$f":"IF('Gas Cylinder Information'!E503=\"\",\"\",'Gas Cylinder Information'!E503)","v":""},{"$f":"IF('Gas Cylinder Information'!F503=\"\",\"\",'Gas Cylinder Information'!F503)","v":""},{"$f":"IF('Gas Cylinder Information'!G503=\"\",\"\",'Gas Cylinder Information'!G503)","v":""}]
[{"$f":"IF('Gas Cylinder Information'!A504=\"\",\"\",'Gas Cylinder Information'!A504)","v":""},{"$f":"IF('Gas Cylinder Information'!C504=\"\",\"\",'Gas Cylinder Information'!C504)","v":""},{"$f":"IF('Gas Cylinder Information'!D504=\"\",\"\",'Gas Cylinder Information'!D504)","v":""},{"$f":"IF('Gas Cylinder Information'!B504=\"\",\"\",'Gas Cylinder Information'!B504)","v":""},{"$f":"IF('Gas Cylinder Information'!E504=\"\",\"\",'Gas Cylinder Information'!E504)","v":""},{"$f":"IF('Gas Cylinder Information'!F504=\"\",\"\",'Gas Cylinder Information'!F504)","v":""},{"$f":"IF('Gas Cylinder Information'!G504=\"\",\"\",'Gas Cylinder Information'!G504)","v":""}]
[{"$f":"IF('Gas Cylinder Information'!A505=\"\",\"\",'Gas Cylinder Information'!A505)","v":""},{"$f":"IF('Gas Cylinder Information'!C505=\"\",\"\",'Gas Cylinder Information'!C505)","v":""},{"$f":"IF('Gas Cylinder Information'!D505=\"\",\"\",'Gas Cylinder Information'!D505)","v":""},{"$f":"IF('Gas Cylinder Information'!B505=\"\",\"\",'Gas Cylinder Information'!B505)","v":""},{"$f":"IF('Gas Cylinder Information'!E505=\"\",\"\",'Gas Cylinder Information'!E505)","v":""},{"$f":"IF('Gas Cylinder Information'!F505=\"\",\"\",'Gas Cylinder Information'!F505)","v":""},{"$f":"IF('Gas Cylinder Information'!G505=\"\",\"\",'Gas Cylinder Information'!G505)","v":""}]
[{"$f":"IF('Gas Cylinder Information'!A506=\"\",\"\",'Gas Cylinder Information'!A506)","v":""},{"$f":"IF('Gas Cylinder Information'!C506=\"\",\"\",'Gas Cylinder Information'!C506)","v":""},{"$f":"IF('Gas Cylinder Information'!D506=\"\",\"\",'Gas Cylinder Information'!D506)","v":""},{"$f":"IF('Gas Cylinder Information'!B506=\"\",\"\",'Gas Cylinder Information'!B506)","v":""},{"$f":"IF('Gas Cylinder Information'!E506=\"\",\"\",'Gas Cylinder Information'!E506)","v":""},{"$f":"IF('Gas Cylinder Information'!F506=\"\",\"\",'Gas Cylinder Information'!F506)","v":""},{"$f":"IF('Gas Cylinder Information'!G506=\"\",\"\",'Gas Cylinder Information'!G506)","v":""}]
[{"$f":"IF('Gas Cylinder Information'!A507=\"\",\"\",'Gas Cylinder Information'!A507)","v":""},{"$f":"IF('Gas Cylinder Information'!C507=\"\",\"\",'Gas Cylinder Information'!C507)","v":""},{"$f":"IF('Gas Cylinder Information'!D507=\"\",\"\",'Gas Cylinder Information'!D507)","v":""},{"$f":"IF('Gas Cylinder Information'!B507=\"\",\"\",'Gas Cylinder Information'!B507)","v":""},{"$f":"IF('Gas Cylinder Information'!E507=\"\",\"\",'Gas Cylinder Information'!E507)","v":""},{"$f":"IF('Gas Cylinder Information'!F507=\"\",\"\",'Gas Cylinder Information'!F507)","v":""},{"$f":"IF('Gas Cylinder Information'!G507=\"\",\"\",'Gas Cylinder Information'!G507)","v":""}]
[{"$f":"IF('Gas Cylinder Information'!A508=\"\",\"\",'Gas Cylinder Information'!A508)","v":""},{"$f":"IF('Gas Cylinder Information'!C508=\"\",\"\",'Gas Cylinder Information'!C508)","v":""},{"$f":"IF('Gas Cylinder Information'!D508=\"\",\"\",'Gas Cylinder Information'!D508)","v":""},{"$f":"IF('Gas Cylinder Information'!B508=\"\",\"\",'Gas Cylinder Information'!B508)","v":""},{"$f":"IF('Gas Cylinder Information'!E508=\"\",\"\",'Gas Cylinder Information'!E508)","v":""},{"$f":"IF('Gas Cylinder Information'!F508=\"\",\"\",'Gas Cylinder Information'!F508)","v":""},{"$f":"IF('Gas Cylinder Information'!G508=\"\",\"\",'Gas Cylinder Information'!G508)","v":""}]
[{"$f":"IF('Gas Cylinder Information'!A509=\"\",\"\",'Gas Cylinder Information'!A509)","v":""},{"$f":"IF('Gas Cylinder Information'!C509=\"\",\"\",'Gas Cylinder Information'!C509)","v":""},{"$f":"IF('Gas Cylinder Information'!D509=\"\",\"\",'Gas Cylinder Information'!D509)","v":""},{"$f":"IF('Gas Cylinder Information'!B509=\"\",\"\",'Gas Cylinder Information'!B509)","v":""},{"$f":"IF('Gas Cylinder Information'!E509=\"\",\"\",'Gas Cylinder Information'!E509)","v":""},{"$f":"IF('Gas Cylinder Information'!F509=\"\",\"\",'Gas Cylinder Information'!F509)","v":""},{"$f":"IF('Gas Cylinder Information'!G509=\"\",\"\",'Gas Cylinder Information'!G509)","v":""}]
[{"$f":"IF('Gas Cylinder Information'!A510=\"\",\"\",'Gas Cylinder Information'!A510)","v":""},{"$f":"IF('Gas Cylinder Information'!C510=\"\",\"\",'Gas Cylinder Information'!C510)","v":""},{"$f":"IF('Gas Cylinder Information'!D510=\"\",\"\",'Gas Cylinder Information'!D510)","v":""},{"$f":"IF('Gas Cylinder Information'!B510=\"\",\"\",'Gas Cylinder Information'!B510)","v":""},{"$f":"IF('Gas Cylinder Information'!E510=\"\",\"\",'Gas Cylinder Information'!E510)","v":""},{"$f":"IF('Gas Cylinder Information'!F510=\"\",\"\",'Gas Cylinder Information'!F510)","v":""},{"$f":"IF('Gas Cylinder Information'!G510=\"\",\"\",'Gas Cylinder Information'!G510)","v":""}]
[{"$f":"IF('Gas Cylinder Information'!A511=\"\",\"\",'Gas Cylinder Information'!A511)","v":""},{"$f":"IF('Gas Cylinder Information'!C511=\"\",\"\",'Gas Cylinder Information'!C511)","v":""},{"$f":"IF('Gas Cylinder Information'!D511=\"\",\"\",'Gas Cylinder Information'!D511)","v":""},{"$f":"IF('Gas Cylinder Information'!B511=\"\",\"\",'Gas Cylinder Information'!B511)","v":""},{"$f":"IF('Gas Cylinder Information'!E511=\"\",\"\",'Gas Cylinder Information'!E511)","v":""},{"$f":"IF('Gas Cylinder Information'!F511=\"\",\"\",'Gas Cylinder Information'!F511)","v":""},{"$f":"IF('Gas Cylinder Information'!G511=\"\",\"\",'Gas Cylinder Information'!G511)","v":""}]
[{"$f":"IF('Gas Cylinder Information'!A512=\"\",\"\",'Gas Cylinder Information'!A512)","v":""},{"$f":"IF('Gas Cylinder Information'!C512=\"\",\"\",'Gas Cylinder Information'!C512)","v":""},{"$f":"IF('Gas Cylinder Information'!D512=\"\",\"\",'Gas Cylinder Information'!D512)","v":""},{"$f":"IF('Gas Cylinder Information'!B512=\"\",\"\",'Gas Cylinder Information'!B512)","v":""},{"$f":"IF('Gas Cylinder Information'!E512=\"\",\"\",'Gas Cylinder Information'!E512)","v":""},{"$f":"IF('Gas Cylinder Information'!F512=\"\",\"\",'Gas Cylinder Information'!F512)","v":""},{"$f":"IF('Gas Cylinder Information'!G512=\"\",\"\",'Gas Cylinder Information'!G512)","v":""}]
[{"$f":"IF('Gas Cylinder Information'!A513=\"\",\"\",'Gas Cylinder Information'!A513)","v":""},{"$f":"IF('Gas Cylinder Information'!C513=\"\",\"\",'Gas Cylinder Information'!C513)","v":""},{"$f":"IF('Gas Cylinder Information'!D513=\"\",\"\",'Gas Cylinder Information'!D513)","v":""},{"$f":"IF('Gas Cylinder Information'!B513=\"\",\"\",'Gas Cylinder Information'!B513)","v":""},{"$f":"IF('Gas Cylinder Information'!E513=\"\",\"\",'Gas Cylinder Information'!E513)","v":""},{"$f":"IF('Gas Cylinder Information'!F513=\"\",\"\",'Gas Cylinder Information'!F513)","v":""},{"$f":"IF('Gas Cylinder Information'!G513=\"\",\"\",'Gas Cylinder Information'!G513)","v":""}]
[{"$f":"IF('Gas Cylinder Information'!A514=\"\",\"\",'Gas Cylinder Information'!A514)","v":""},{"$f":"IF('Gas Cylinder Information'!C514=\"\",\"\",'Gas Cylinder Information'!C514)","v":""},{"$f":"IF('Gas Cylinder Information'!D514=\"\",\"\",'Gas Cylinder Information'!D514)","v":""},{"$f":"IF('Gas Cylinder Information'!B514=\"\",\"\",'Gas Cylinder Information'!B514)","v":""},{"$f":"IF('Gas Cylinder Information'!E514=\"\",\"\",'Gas Cylinder Information'!E514)","v":""},{"$f":"IF('Gas Cylinder Information'!F514=\"\",\"\",'Gas Cylinder Information'!F514)","v":""},{"$f":"IF('Gas Cylinder Information'!G514=\"\",\"\",'Gas Cylinder Information'!G514)","v":""}]
[{"$f":"IF('Gas Cylinder Information'!A515=\"\",\"\",'Gas Cylinder Information'!A515)","v":""},{"$f":"IF('Gas Cylinder Information'!C515=\"\",\"\",'Gas Cylinder Information'!C515)","v":""},{"$f":"IF('Gas Cylinder Information'!D515=\"\",\"\",'Gas Cylinder Information'!D515)","v":""},{"$f":"IF('Gas Cylinder Information'!B515=\"\",\"\",'Gas Cylinder Information'!B515)","v":""},{"$f":"IF('Gas Cylinder Information'!E515=\"\",\"\",'Gas Cylinder Information'!E515)","v":""},{"$f":"IF('Gas Cylinder Information'!F515=\"\",\"\",'Gas Cylinder Information'!F515)","v":""},{"$f":"IF('Gas Cylinder Information'!G515=\"\",\"\",'Gas Cylinder Information'!G515)","v":""}]
[{"$f":"IF('Gas Cylinder Information'!A516=\"\",\"\",'Gas Cylinder Information'!A516)","v":""},{"$f":"IF('Gas Cylinder Information'!C516=\"\",\"\",'Gas Cylinder Information'!C516)","v":""},{"$f":"IF('Gas Cylinder Information'!D516=\"\",\"\",'Gas Cylinder Information'!D516)","v":""},{"$f":"IF('Gas Cylinder Information'!B516=\"\",\"\",'Gas Cylinder Information'!B516)","v":""},{"$f":"IF('Gas Cylinder Information'!E516=\"\",\"\",'Gas Cylinder Information'!E516)","v":""},{"$f":"IF('Gas Cylinder Information'!F516=\"\",\"\",'Gas Cylinder Information'!F516)","v":""},{"$f":"IF('Gas Cylinder Information'!G516=\"\",\"\",'Gas Cylinder Information'!G516)","v":""}]
[{"$f":"IF('Gas Cylinder Information'!A517=\"\",\"\",'Gas Cylinder Information'!A517)","v":""},{"$f":"IF('Gas Cylinder Information'!C517=\"\",\"\",'Gas Cylinder Information'!C517)","v":""},{"$f":"IF('Gas Cylinder Information'!D517=\"\",\"\",'Gas Cylinder Information'!D517)","v":""},{"$f":"IF('Gas Cylinder Information'!B517=\"\",\"\",'Gas Cylinder Information'!B517)","v":""},{"$f":"IF('Gas Cylinder Information'!E517=\"\",\"\",'Gas Cylinder Information'!E517)","v":""},{"$f":"IF('Gas Cylinder Information'!F517=\"\",\"\",'Gas Cylinder Information'!F517)","v":""},{"$f":"IF('Gas Cylinder Information'!G517=\"\",\"\",'Gas Cylinder Information'!G517)","v":""}]
[{"$f":"IF('Gas Cylinder Information'!A518=\"\",\"\",'Gas Cylinder Information'!A518)","v":""},{"$f":"IF('Gas Cylinder Information'!C518=\"\",\"\",'Gas Cylinder Information'!C518)","v":""},{"$f":"IF('Gas Cylinder Information'!D518=\"\",\"\",'Gas Cylinder Information'!D518)","v":""},{"$f":"IF('Gas Cylinder Information'!B518=\"\",\"\",'Gas Cylinder Information'!B518)","v":""},{"$f":"IF('Gas Cylinder Information'!E518=\"\",\"\",'Gas Cylinder Information'!E518)","v":""},{"$f":"IF('Gas Cylinder Information'!F518=\"\",\"\",'Gas Cylinder Information'!F518)","v":""},{"$f":"IF('Gas Cylinder Information'!G518=\"\",\"\",'Gas Cylinder Information'!G518)","v":""}]
[{"$f":"IF('Gas Cylinder Information'!A519=\"\",\"\",'Gas Cylinder Information'!A519)","v":""},{"$f":"IF('Gas Cylinder Information'!C519=\"\",\"\",'Gas Cylinder Information'!C519)","v":""},{"$f":"IF('Gas Cylinder Information'!D519=\"\",\"\",'Gas Cylinder Information'!D519)","v":""},{"$f":"IF('Gas Cylinder Information'!B519=\"\",\"\",'Gas Cylinder Information'!B519)","v":""},{"$f":"IF('Gas Cylinder Information'!E519=\"\",\"\",'Gas Cylinder Information'!E519)","v":""},{"$f":"IF('Gas Cylinder Information'!F519=\"\",\"\",'Gas Cylinder Information'!F519)","v":""},{"$f":"IF('Gas Cylinder Information'!G519=\"\",\"\",'Gas Cylinder Information'!G519)","v":""}]
[{"$f":"IF('Gas Cylinder Information'!A520=\"\",\"\",'Gas Cylinder Information'!A520)","v":""},{"$f":"IF('Gas Cylinder Information'!C520=\"\",\"\",'Gas Cylinder Information'!C520)","v":""},{"$f":"IF('Gas Cylinder Information'!D520=\"\",\"\",'Gas Cylinder Information'!D520)","v":""},{"$f":"IF('Gas Cylinder Information'!B520=\"\",\"\",'Gas Cylinder Information'!B520)","v":""},{"$f":"IF('Gas Cylinder Information'!E520=\"\",\"\",'Gas Cylinder Information'!E520)","v":""},{"$f":"IF('Gas Cylinder Information'!F520=\"\",\"\",'Gas Cylinder Information'!F520)","v":""},{"$f":"IF('Gas Cylinder Information'!G520=\"\",\"\",'Gas Cylinder Information'!G520)","v":""}]
[{"$f":"IF('Gas Cylinder Information'!A521=\"\",\"\",'Gas Cylinder Information'!A521)","v":""},{"$f":"IF('Gas Cylinder Information'!C521=\"\",\"\",'Gas Cylinder Information'!C521)","v":""},{"$f":"IF('Gas Cylinder Information'!D521=\"\",\"\",'Gas Cylinder Information'!D521)","v":""},{"$f":"IF('Gas Cylinder Information'!B521=\"\",\"\",'Gas Cylinder Information'!B521)","v":""},{"$f":"IF('Gas Cylinder Information'!E521=\"\",\"\",'Gas Cylinder Information'!E521)","v":""},{"$f":"IF('Gas Cylinder Information'!F521=\"\",\"\",'Gas Cylinder Information'!F521)","v":""},{"$f":"IF('Gas Cylinder Information'!G521=\"\",\"\",'Gas Cylinder Information'!G521)","v":""}]
[{"$f":"IF('Gas Cylinder Information'!A522=\"\",\"\",'Gas Cylinder Information'!A522)","v":""},{"$f":"IF('Gas Cylinder Information'!C522=\"\",\"\",'Gas Cylinder Information'!C522)","v":""},{"$f":"IF('Gas Cylinder Information'!D522=\"\",\"\",'Gas Cylinder Information'!D522)","v":""},{"$f":"IF('Gas Cylinder Information'!B522=\"\",\"\",'Gas Cylinder Information'!B522)","v":""},{"$f":"IF('Gas Cylinder Information'!E522=\"\",\"\",'Gas Cylinder Information'!E522)","v":""},{"$f":"IF('Gas Cylinder Information'!F522=\"\",\"\",'Gas Cylinder Information'!F522)","v":""},{"$f":"IF('Gas Cylinder Information'!G522=\"\",\"\",'Gas Cylinder Information'!G522)","v":""}]
[{"$f":"IF('Gas Cylinder Information'!A523=\"\",\"\",'Gas Cylinder Information'!A523)","v":""},{"$f":"IF('Gas Cylinder Information'!C523=\"\",\"\",'Gas Cylinder Information'!C523)","v":""},{"$f":"IF('Gas Cylinder Information'!D523=\"\",\"\",'Gas Cylinder Information'!D523)","v":""},{"$f":"IF('Gas Cylinder Information'!B523=\"\",\"\",'Gas Cylinder Information'!B523)","v":""},{"$f":"IF('Gas Cylinder Information'!E523=\"\",\"\",'Gas Cylinder Information'!E523)","v":""},{"$f":"IF('Gas Cylinder Information'!F523=\"\",\"\",'Gas Cylinder Information'!F523)","v":""},{"$f":"IF('Gas Cylinder Information'!G523=\"\",\"\",'Gas Cylinder Information'!G523)","v":""}]
[{"$f":"IF('Gas Cylinder Information'!A524=\"\",\"\",'Gas Cylinder Information'!A524)","v":""},{"$f":"IF('Gas Cylinder Information'!C524=\"\",\"\",'Gas Cylinder Information'!C524)","v":""},{"$f":"IF('Gas Cylinder Information'!D524=\"\",\"\",'Gas Cylinder Information'!D524)","v":""},{"$f":"IF('Gas Cylinder Information'!B524=\"\",\"\",'Gas Cylinder Information'!B524)","v":""},{"$f":"IF('Gas Cylinder Information'!E524=\"\",\"\",'Gas Cylinder Information'!E524)","v":""},{"$f":"IF('Gas Cylinder Information'!F524=\"\",\"\",'Gas Cylinder Information'!F524)","v":""},{"$f":"IF('Gas Cylinder Information'!G524=\"\",\"\",'Gas Cylinder Information'!G524)","v":""}]
[{"$f":"IF('Gas Cylinder Information'!A525=\"\",\"\",'Gas Cylinder Information'!A525)","v":""},{"$f":"IF('Gas Cylinder Information'!C525=\"\",\"\",'Gas Cylinder Information'!C525)","v":""},{"$f":"IF('Gas Cylinder Information'!D525=\"\",\"\",'Gas Cylinder Information'!D525)","v":""},{"$f":"IF('Gas Cylinder Information'!B525=\"\",\"\",'Gas Cylinder Information'!B525)","v":""},{"$f":"IF('Gas Cylinder Information'!E525=\"\",\"\",'Gas Cylinder Information'!E525)","v":""},{"$f":"IF('Gas Cylinder Information'!F525=\"\",\"\",'Gas Cylinder Information'!F525)","v":""},{"$f":"IF('Gas Cylinder Information'!G525=\"\",\"\",'Gas Cylinder Information'!G525)","v":""}]
[{"$f":"IF('Gas Cylinder Information'!A526=\"\",\"\",'Gas Cylinder Information'!A526)","v":""},{"$f":"IF('Gas Cylinder Information'!C526=\"\",\"\",'Gas Cylinder Information'!C526)","v":""},{"$f":"IF('Gas Cylinder Information'!D526=\"\",\"\",'Gas Cylinder Information'!D526)","v":""},{"$f":"IF('Gas Cylinder Information'!B526=\"\",\"\",'Gas Cylinder Information'!B526)","v":""},{"$f":"IF('Gas Cylinder Information'!E526=\"\",\"\",'Gas Cylinder Information'!E526)","v":""},{"$f":"IF('Gas Cylinder Information'!F526=\"\",\"\",'Gas Cylinder Information'!F526)","v":""},{"$f":"IF('Gas Cylinder Information'!G526=\"\",\"\",'Gas Cylinder Information'!G526)","v":""}]
[{"$f":"IF('Gas Cylinder Information'!A527=\"\",\"\",'Gas Cylinder Information'!A527)","v":""},{"$f":"IF('Gas Cylinder Information'!C527=\"\",\"\",'Gas Cylinder Information'!C527)","v":""},{"$f":"IF('Gas Cylinder Information'!D527=\"\",\"\",'Gas Cylinder Information'!D527)","v":""},{"$f":"IF('Gas Cylinder Information'!B527=\"\",\"\",'Gas Cylinder Information'!B527)","v":""},{"$f":"IF('Gas Cylinder Information'!E527=\"\",\"\",'Gas Cylinder Information'!E527)","v":""},{"$f":"IF('Gas Cylinder Information'!F527=\"\",\"\",'Gas Cylinder Information'!F527)","v":""},{"$f":"IF('Gas Cylinder Information'!G527=\"\",\"\",'Gas Cylinder Information'!G527)","v":""}]
[{"$f":"IF('Gas Cylinder Information'!A528=\"\",\"\",'Gas Cylinder Information'!A528)","v":""},{"$f":"IF('Gas Cylinder Information'!C528=\"\",\"\",'Gas Cylinder Information'!C528)","v":""},{"$f":"IF('Gas Cylinder Information'!D528=\"\",\"\",'Gas Cylinder Information'!D528)","v":""},{"$f":"IF('Gas Cylinder Information'!B528=\"\",\"\",'Gas Cylinder Information'!B528)","v":""},{"$f":"IF('Gas Cylinder Information'!E528=\"\",\"\",'Gas Cylinder Information'!E528)","v":""},{"$f":"IF('Gas Cylinder Information'!F528=\"\",\"\",'Gas Cylinder Information'!F528)","v":""},{"$f":"IF('Gas Cylinder Information'!G528=\"\",\"\",'Gas Cylinder Information'!G528)","v":""}]
[{"$f":"IF('Gas Cylinder Information'!A529=\"\",\"\",'Gas Cylinder Information'!A529)","v":""},{"$f":"IF('Gas Cylinder Information'!C529=\"\",\"\",'Gas Cylinder Information'!C529)","v":""},{"$f":"IF('Gas Cylinder Information'!D529=\"\",\"\",'Gas Cylinder Information'!D529)","v":""},{"$f":"IF('Gas Cylinder Information'!B529=\"\",\"\",'Gas Cylinder Information'!B529)","v":""},{"$f":"IF('Gas Cylinder Information'!E529=\"\",\"\",'Gas Cylinder Information'!E529)","v":""},{"$f":"IF('Gas Cylinder Information'!F529=\"\",\"\",'Gas Cylinder Information'!F529)","v":""},{"$f":"IF('Gas Cylinder Information'!G529=\"\",\"\",'Gas Cylinder Information'!G529)","v":""}]
[{"$f":"IF('Gas Cylinder Information'!A530=\"\",\"\",'Gas Cylinder Information'!A530)","v":""},{"$f":"IF('Gas Cylinder Information'!C530=\"\",\"\",'Gas Cylinder Information'!C530)","v":""},{"$f":"IF('Gas Cylinder Information'!D530=\"\",\"\",'Gas Cylinder Information'!D530)","v":""},{"$f":"IF('Gas Cylinder Information'!B530=\"\",\"\",'Gas Cylinder Information'!B530)","v":""},{"$f":"IF('Gas Cylinder Information'!E530=\"\",\"\",'Gas Cylinder Information'!E530)","v":""},{"$f":"IF('Gas Cylinder Information'!F530=\"\",\"\",'Gas Cylinder Information'!F530)","v":""},{"$f":"IF('Gas Cylinder Information'!G530=\"\",\"\",'Gas Cylinder Information'!G530)","v":""}]
[{"$f":"IF('Gas Cylinder Information'!A531=\"\",\"\",'Gas Cylinder Information'!A531)","v":""},{"$f":"IF('Gas Cylinder Information'!C531=\"\",\"\",'Gas Cylinder Information'!C531)","v":""},{"$f":"IF('Gas Cylinder Information'!D531=\"\",\"\",'Gas Cylinder Information'!D531)","v":""},{"$f":"IF('Gas Cylinder Information'!B531=\"\",\"\",'Gas Cylinder Information'!B531)","v":""},{"$f":"IF('Gas Cylinder Information'!E531=\"\",\"\",'Gas Cylinder Information'!E531)","v":""},{"$f":"IF('Gas Cylinder Information'!F531=\"\",\"\",'Gas Cylinder Information'!F531)","v":""},{"$f":"IF('Gas Cylinder Information'!G531=\"\",\"\",'Gas Cylinder Information'!G531)","v":""}]
[{"$f":"IF('Gas Cylinder Information'!A532=\"\",\"\",'Gas Cylinder Information'!A532)","v":""},{"$f":"IF('Gas Cylinder Information'!C532=\"\",\"\",'Gas Cylinder Information'!C532)","v":""},{"$f":"IF('Gas Cylinder Information'!D532=\"\",\"\",'Gas Cylinder Information'!D532)","v":""},{"$f":"IF('Gas Cylinder Information'!B532=\"\",\"\",'Gas Cylinder Information'!B532)","v":""},{"$f":"IF('Gas Cylinder Information'!E532=\"\",\"\",'Gas Cylinder Information'!E532)","v":""},{"$f":"IF('Gas Cylinder Information'!F532=\"\",\"\",'Gas Cylinder Information'!F532)","v":""},{"$f":"IF('Gas Cylinder Information'!G532=\"\",\"\",'Gas Cylinder Information'!G532)","v":""}]
[{"$f":"IF('Gas Cylinder Information'!A533=\"\",\"\",'Gas Cylinder Information'!A533)","v":""},{"$f":"IF('Gas Cylinder Information'!C533=\"\",\"\",'Gas Cylinder Information'!C533)","v":""},{"$f":"IF('Gas Cylinder Information'!D533=\"\",\"\",'Gas Cylinder Information'!D533)","v":""},{"$f":"IF('Gas Cylinder Information'!B533=\"\",\"\",'Gas Cylinder Information'!B533)","v":""},{"$f":"IF('Gas Cylinder Information'!E533=\"\",\"\",'Gas Cylinder Information'!E533)","v":""},{"$f":"IF('Gas Cylinder Information'!F533=\"\",\"\",'Gas Cylinder Information'!F533)","v":""},{"$f":"IF('Gas Cylinder Information'!G533=\"\",\"\",'Gas Cylinder Information'!G533)","v":""}]
[{"$f":"IF('Gas Cylinder Information'!A534=\"\",\"\",'Gas Cylinder Information'!A534)","v":""},{"$f":"IF('Gas Cylinder Information'!C534=\"\",\"\",'Gas Cylinder Information'!C534)","v":""},{"$f":"IF('Gas Cylinder Information'!D534=\"\",\"\",'Gas Cylinder Information'!D534)","v":""},{"$f":"IF('Gas Cylinder Information'!B534=\"\",\"\",'Gas Cylinder Information'!B534)","v":""},{"$f":"IF('Gas Cylinder Information'!E534=\"\",\"\",'Gas Cylinder Information'!E534)","v":""},{"$f":"IF('Gas Cylinder Information'!F534=\"\",\"\",'Gas Cylinder Information'!F534)","v":""},{"$f":"IF('Gas Cylinder Information'!G534=\"\",\"\",'Gas Cylinder Information'!G534)","v":""}]
[{"$f":"IF('Gas Cylinder Information'!A535=\"\",\"\",'Gas Cylinder Information'!A535)","v":""},{"$f":"IF('Gas Cylinder Information'!C535=\"\",\"\",'Gas Cylinder Information'!C535)","v":""},{"$f":"IF('Gas Cylinder Information'!D535=\"\",\"\",'Gas Cylinder Information'!D535)","v":""},{"$f":"IF('Gas Cylinder Information'!B535=\"\",\"\",'Gas Cylinder Information'!B535)","v":""},{"$f":"IF('Gas Cylinder Information'!E535=\"\",\"\",'Gas Cylinder Information'!E535)","v":""},{"$f":"IF('Gas Cylinder Information'!F535=\"\",\"\",'Gas Cylinder Information'!F535)","v":""},{"$f":"IF('Gas Cylinder Information'!G535=\"\",\"\",'Gas Cylinder Information'!G535)","v":""}]
[{"$f":"IF('Gas Cylinder Information'!A536=\"\",\"\",'Gas Cylinder Information'!A536)","v":""},{"$f":"IF('Gas Cylinder Information'!C536=\"\",\"\",'Gas Cylinder Information'!C536)","v":""},{"$f":"IF('Gas Cylinder Information'!D536=\"\",\"\",'Gas Cylinder Information'!D536)","v":""},{"$f":"IF('Gas Cylinder Information'!B536=\"\",\"\",'Gas Cylinder Information'!B536)","v":""},{"$f":"IF('Gas Cylinder Information'!E536=\"\",\"\",'Gas Cylinder Information'!E536)","v":""},{"$f":"IF('Gas Cylinder Information'!F536=\"\",\"\",'Gas Cylinder Information'!F536)","v":""},{"$f":"IF('Gas Cylinder Information'!G536=\"\",\"\",'Gas Cylinder Information'!G536)","v":""}]
[{"$f":"IF('Gas Cylinder Information'!A537=\"\",\"\",'Gas Cylinder Information'!A537)","v":""},{"$f":"IF('Gas Cylinder Information'!C537=\"\",\"\",'Gas Cylinder Information'!C537)","v":""},{"$f":"IF('Gas Cylinder Information'!D537=\"\",\"\",'Gas Cylinder Information'!D537)","v":""},{"$f":"IF('Gas Cylinder Information'!B537=\"\",\"\",'Gas Cylinder Information'!B537)","v":""},{"$f":"IF('Gas Cylinder Information'!E537=\"\",\"\",'Gas Cylinder Information'!E537)","v":""},{"$f":"IF('Gas Cylinder Information'!F537=\"\",\"\",'Gas Cylinder Information'!F537)","v":""},{"$f":"IF('Gas Cylinder Information'!G537=\"\",\"\",'Gas Cylinder Information'!G537)","v":""}]
[{"$f":"IF('Gas Cylinder Information'!A538=\"\",\"\",'Gas Cylinder Information'!A538)","v":""},{"$f":"IF('Gas Cylinder Information'!C538=\"\",\"\",'Gas Cylinder Information'!C538)","v":""},{"$f":"IF('Gas Cylinder Information'!D538=\"\",\"\",'Gas Cylinder Information'!D538)","v":""},{"$f":"IF('Gas Cylinder Information'!B538=\"\",\"\",'Gas Cylinder Information'!B538)","v":""},{"$f":"IF('Gas Cylinder Information'!E538=\"\",\"\",'Gas Cylinder Information'!E538)","v":""},{"$f":"IF('Gas Cylinder Information'!F538=\"\",\"\",'Gas Cylinder Information'!F538)","v":""},{"$f":"IF('Gas Cylinder Information'!G538=\"\",\"\",'Gas Cylinder Information'!G538)","v":""}]
[{"$f":"IF('Gas Cylinder Information'!A539=\"\",\"\",'Gas Cylinder Information'!A539)","v":""},{"$f":"IF('Gas Cylinder Information'!C539=\"\",\"\",'Gas Cylinder Information'!C539)","v":""},{"$f":"IF('Gas Cylinder Information'!D539=\"\",\"\",'Gas Cylinder Information'!D539)","v":""},{"$f":"IF('Gas Cylinder Information'!B539=\"\",\"\",'Gas Cylinder Information'!B539)","v":""},{"$f":"IF('Gas Cylinder Information'!E539=\"\",\"\",'Gas Cylinder Information'!E539)","v":""},{"$f":"IF('Gas Cylinder Information'!F539=\"\",\"\",'Gas Cylinder Information'!F539)","v":""},{"$f":"IF('Gas Cylinder Information'!G539=\"\",\"\",'Gas Cylinder Information'!G539)","v":""}]
[{"$f":"IF('Gas Cylinder Information'!A540=\"\",\"\",'Gas Cylinder Information'!A540)","v":""},{"$f":"IF('Gas Cylinder Information'!C540=\"\",\"\",'Gas Cylinder Information'!C540)","v":""},{"$f":"IF('Gas Cylinder Information'!D540=\"\",\"\",'Gas Cylinder Information'!D540)","v":""},{"$f":"IF('Gas Cylinder Information'!B540=\"\",\"\",'Gas Cylinder Information'!B540)","v":""},{"$f":"IF('Gas Cylinder Information'!E540=\"\",\"\",'Gas Cylinder Information'!E540)","v":""},{"$f":"IF('Gas Cylinder Information'!F540=\"\",\"\",'Gas Cylinder Information'!F540)","v":""},{"$f":"IF('Gas Cylinder Information'!G540=\"\",\"\",'Gas Cylinder Information'!G540)","v":""}]
[{"$f":"IF('Gas Cylinder Information'!A541=\"\",\"\",'Gas Cylinder Information'!A541)","v":""},{"$f":"IF('Gas Cylinder Information'!C541=\"\",\"\",'Gas Cylinder Information'!C541)","v":""},{"$f":"IF('Gas Cylinder Information'!D541=\"\",\"\",'Gas Cylinder Information'!D541)","v":""},{"$f":"IF('Gas Cylinder Information'!B541=\"\",\"\",'Gas Cylinder Information'!B541)","v":""},{"$f":"IF('Gas Cylinder Information'!E541=\"\",\"\",'Gas Cylinder Information'!E541)","v":""},{"$f":"IF('Gas Cylinder Information'!F541=\"\",\"\",'Gas Cylinder Information'!F541)","v":""},{"$f":"IF('Gas Cylinder Information'!G541=\"\",\"\",'Gas Cylinder Information'!G541)","v":""}]
[{"$f":"IF('Gas Cylinder Information'!A542=\"\",\"\",'Gas Cylinder Information'!A542)","v":""},{"$f":"IF('Gas Cylinder Information'!C542=\"\",\"\",'Gas Cylinder Information'!C542)","v":""},{"$f":"IF('Gas Cylinder Information'!D542=\"\",\"\",'Gas Cylinder Information'!D542)","v":""},{"$f":"IF('Gas Cylinder Information'!B542=\"\",\"\",'Gas Cylinder Information'!B542)","v":""},{"$f":"IF('Gas Cylinder Information'!E542=\"\",\"\",'Gas Cylinder Information'!E542)","v":""},{"$f":"IF('Gas Cylinder Information'!F542=\"\",\"\",'Gas Cylinder Information'!F542)","v":""},{"$f":"IF('Gas Cylinder Information'!G542=\"\",\"\",'Gas Cylinder Information'!G542)","v":""}]
[{"$f":"IF('Gas Cylinder Information'!A543=\"\",\"\",'Gas Cylinder Information'!A543)","v":""},{"$f":"IF('Gas Cylinder Information'!C543=\"\",\"\",'Gas Cylinder Information'!C543)","v":""},{"$f":"IF('Gas Cylinder Information'!D543=\"\",\"\",'Gas Cylinder Information'!D543)","v":""},{"$f":"IF('Gas Cylinder Information'!B543=\"\",\"\",'Gas Cylinder Information'!B543)","v":""},{"$f":"IF('Gas Cylinder Information'!E543=\"\",\"\",'Gas Cylinder Information'!E543)","v":""},{"$f":"IF('Gas Cylinder Information'!F543=\"\",\"\",'Gas Cylinder Information'!F543)","v":""},{"$f":"IF('Gas Cylinder Information'!G543=\"\",\"\",'Gas Cylinder Information'!G543)","v":""}]
[{"$f":"IF('Gas Cylinder Information'!A544=\"\",\"\",'Gas Cylinder Information'!A544)","v":""},{"$f":"IF('Gas Cylinder Information'!C544=\"\",\"\",'Gas Cylinder Information'!C544)","v":""},{"$f":"IF('Gas Cylinder Information'!D544=\"\",\"\",'Gas Cylinder Information'!D544)","v":""},{"$f":"IF('Gas Cylinder Information'!B544=\"\",\"\",'Gas Cylinder Information'!B544)","v":""},{"$f":"IF('Gas Cylinder Information'!E544=\"\",\"\",'Gas Cylinder Information'!E544)","v":""},{"$f":"IF('Gas Cylinder Information'!F544=\"\",\"\",'Gas Cylinder Information'!F544)","v":""},{"$f":"IF('Gas Cylinder Information'!G544=\"\",\"\",'Gas Cylinder Information'!G544)","v":""}]
[{"$f":"IF('Gas Cylinder Information'!A545=\"\",\"\",'Gas Cylinder Information'!A545)","v":""},{"$f":"IF('Gas Cylinder Information'!C545=\"\",\"\",'Gas Cylinder Information'!C545)","v":""},{"$f":"IF('Gas Cylinder Information'!D545=\"\",\"\",'Gas Cylinder Information'!D545)","v":""},{"$f":"IF('Gas Cylinder Information'!B545=\"\",\"\",'Gas Cylinder Information'!B545)","v":""},{"$f":"IF('Gas Cylinder Information'!E545=\"\",\"\",'Gas Cylinder Information'!E545)","v":""},{"$f":"IF('Gas Cylinder Information'!F545=\"\",\"\",'Gas Cylinder Information'!F545)","v":""},{"$f":"IF('Gas Cylinder Information'!G545=\"\",\"\",'Gas Cylinder Information'!G545)","v":""}]
[{"$f":"IF('Gas Cylinder Information'!A546=\"\",\"\",'Gas Cylinder Information'!A546)","v":""},{"$f":"IF('Gas Cylinder Information'!C546=\"\",\"\",'Gas Cylinder Information'!C546)","v":""},{"$f":"IF('Gas Cylinder Information'!D546=\"\",\"\",'Gas Cylinder Information'!D546)","v":""},{"$f":"IF('Gas Cylinder Information'!B546=\"\",\"\",'Gas Cylinder Information'!B546)","v":""},{"$f":"IF('Gas Cylinder Information'!E546=\"\",\"\",'Gas Cylinder Information'!E546)","v":""},{"$f":"IF('Gas Cylinder Information'!F546=\"\",\"\",'Gas Cylinder Information'!F546)","v":""},{"$f":"IF('Gas Cylinder Information'!G546=\"\",\"\",'Gas Cylinder Information'!G546)","v":""}]
[{"$f":"IF('Gas Cylinder Information'!A547=\"\",\"\",'Gas Cylinder Information'!A547)","v":""},{"$f":"IF('Gas Cylinder Information'!C547=\"\",\"\",'Gas Cylinder Information'!C547)","v":""},{"$f":"IF('Gas Cylinder Information'!D547=\"\",\"\",'Gas Cylinder Information'!D547)","v":""},{"$f":"IF('Gas Cylinder Information'!B547=\"\",\"\",'Gas Cylinder Information'!B547)","v":""},{"$f":"IF('Gas Cylinder Information'!E547=\"\",\"\",'Gas Cylinder Information'!E547)","v":""},{"$f":"IF('Gas Cylinder Information'!F547=\"\",\"\",'Gas Cylinder Information'!F547)","v":""},{"$f":"IF('Gas Cylinder Information'!G547=\"\",\"\",'Gas Cylinder Information'!G547)","v":""}]
[{"$f":"IF('Gas Cylinder Information'!A548=\"\",\"\",'Gas Cylinder Information'!A548)","v":""},{"$f":"IF('Gas Cylinder Information'!C548=\"\",\"\",'Gas Cylinder Information'!C548)","v":""},{"$f":"IF('Gas Cylinder Information'!D548=\"\",\"\",'Gas Cylinder Information'!D548)","v":""},{"$f":"IF('Gas Cylinder Information'!B548=\"\",\"\",'Gas Cylinder Information'!B548)","v":""},{"$f":"IF('Gas Cylinder Information'!E548=\"\",\"\",'Gas Cylinder Information'!E548)","v":""},{"$f":"IF('Gas Cylinder Information'!F548=\"\",\"\",'Gas Cylinder Information'!F548)","v":""},{"$f":"IF('Gas Cylinder Information'!G548=\"\",\"\",'Gas Cylinder Information'!G548)","v":""}]
[{"$f":"IF('Gas Cylinder Information'!A549=\"\",\"\",'Gas Cylinder Information'!A549)","v":""},{"$f":"IF('Gas Cylinder Information'!C549=\"\",\"\",'Gas Cylinder Information'!C549)","v":""},{"$f":"IF('Gas Cylinder Information'!D549=\"\",\"\",'Gas Cylinder Information'!D549)","v":""},{"$f":"IF('Gas Cylinder Information'!B549=\"\",\"\",'Gas Cylinder Information'!B549)","v":""},{"$f":"IF('Gas Cylinder Information'!E549=\"\",\"\",'Gas Cylinder Information'!E549)","v":""},{"$f":"IF('Gas Cylinder Information'!F549=\"\",\"\",'Gas Cylinder Information'!F549)","v":""},{"$f":"IF('Gas Cylinder Information'!G549=\"\",\"\",'Gas Cylinder Information'!G549)","v":""}]
[{"$f":"IF('Gas Cylinder Information'!A550=\"\",\"\",'Gas Cylinder Information'!A550)","v":""},{"$f":"IF('Gas Cylinder Information'!C550=\"\",\"\",'Gas Cylinder Information'!C550)","v":""},{"$f":"IF('Gas Cylinder Information'!D550=\"\",\"\",'Gas Cylinder Information'!D550)","v":""},{"$f":"IF('Gas Cylinder Information'!B550=\"\",\"\",'Gas Cylinder Information'!B550)","v":""},{"$f":"IF('Gas Cylinder Information'!E550=\"\",\"\",'Gas Cylinder Information'!E550)","v":""},{"$f":"IF('Gas Cylinder Information'!F550=\"\",\"\",'Gas Cylinder Information'!F550)","v":""},{"$f":"IF('Gas Cylinder Information'!G550=\"\",\"\",'Gas Cylinder Information'!G550)","v":""}]
[{"$f":"IF('Gas Cylinder Information'!A551=\"\",\"\",'Gas Cylinder Information'!A551)","v":""},{"$f":"IF('Gas Cylinder Information'!C551=\"\",\"\",'Gas Cylinder Information'!C551)","v":""},{"$f":"IF('Gas Cylinder Information'!D551=\"\",\"\",'Gas Cylinder Information'!D551)","v":""},{"$f":"IF('Gas Cylinder Information'!B551=\"\",\"\",'Gas Cylinder Information'!B551)","v":""},{"$f":"IF('Gas Cylinder Information'!E551=\"\",\"\",'Gas Cylinder Information'!E551)","v":""},{"$f":"IF('Gas Cylinder Information'!F551=\"\",\"\",'Gas Cylinder Information'!F551)","v":""},{"$f":"IF('Gas Cylinder Information'!G551=\"\",\"\",'Gas Cylinder Information'!G551)","v":""}]
[{"$f":"IF('Gas Cylinder Information'!A552=\"\",\"\",'Gas Cylinder Information'!A552)","v":""},{"$f":"IF('Gas Cylinder Information'!C552=\"\",\"\",'Gas Cylinder Information'!C552)","v":""},{"$f":"IF('Gas Cylinder Information'!D552=\"\",\"\",'Gas Cylinder Information'!D552)","v":""},{"$f":"IF('Gas Cylinder Information'!B552=\"\",\"\",'Gas Cylinder Information'!B552)","v":""},{"$f":"IF('Gas Cylinder Information'!E552=\"\",\"\",'Gas Cylinder Information'!E552)","v":""},{"$f":"IF('Gas Cylinder Information'!F552=\"\",\"\",'Gas Cylinder Information'!F552)","v":""},{"$f":"IF('Gas Cylinder Information'!G552=\"\",\"\",'Gas Cylinder Information'!G552)","v":""}]
[{"$f":"IF('Gas Cylinder Information'!A553=\"\",\"\",'Gas Cylinder Information'!A553)","v":""},{"$f":"IF('Gas Cylinder Information'!C553=\"\",\"\",'Gas Cylinder Information'!C553)","v":""},{"$f":"IF('Gas Cylinder Information'!D553=\"\",\"\",'Gas Cylinder Information'!D553)","v":""},{"$f":"IF('Gas Cylinder Information'!B553=\"\",\"\",'Gas Cylinder Information'!B553)","v":""},{"$f":"IF('Gas Cylinder Information'!E553=\"\",\"\",'Gas Cylinder Information'!E553)","v":""},{"$f":"IF('Gas Cylinder Information'!F553=\"\",\"\",'Gas Cylinder Information'!F553)","v":""},{"$f":"IF('Gas Cylinder Information'!G553=\"\",\"\",'Gas Cylinder Information'!G553)","v":""}]
[{"$f":"IF('Gas Cylinder Information'!A554=\"\",\"\",'Gas Cylinder Information'!A554)","v":""},{"$f":"IF('Gas Cylinder Information'!C554=\"\",\"\",'Gas Cylinder Information'!C554)","v":""},{"$f":"IF('Gas Cylinder Information'!D554=\"\",\"\",'Gas Cylinder Information'!D554)","v":""},{"$f":"IF('Gas Cylinder Information'!B554=\"\",\"\",'Gas Cylinder Information'!B554)","v":""},{"$f":"IF('Gas Cylinder Information'!E554=\"\",\"\",'Gas Cylinder Information'!E554)","v":""},{"$f":"IF('Gas Cylinder Information'!F554=\"\",\"\",'Gas Cylinder Information'!F554)","v":""},{"$f":"IF('Gas Cylinder Information'!G554=\"\",\"\",'Gas Cylinder Information'!G554)","v":""}]
[{"$f":"IF('Gas Cylinder Information'!A555=\"\",\"\",'Gas Cylinder Information'!A555)","v":""},{"$f":"IF('Gas Cylinder Information'!C555=\"\",\"\",'Gas Cylinder Information'!C555)","v":""},{"$f":"IF('Gas Cylinder Information'!D555=\"\",\"\",'Gas Cylinder Information'!D555)","v":""},{"$f":"IF('Gas Cylinder Information'!B555=\"\",\"\",'Gas Cylinder Information'!B555)","v":""},{"$f":"IF('Gas Cylinder Information'!E555=\"\",\"\",'Gas Cylinder Information'!E555)","v":""},{"$f":"IF('Gas Cylinder Information'!F555=\"\",\"\",'Gas Cylinder Information'!F555)","v":""},{"$f":"IF('Gas Cylinder Information'!G555=\"\",\"\",'Gas Cylinder Information'!G555)","v":""}]
[{"$f":"IF('Gas Cylinder Information'!A556=\"\",\"\",'Gas Cylinder Information'!A556)","v":""},{"$f":"IF('Gas Cylinder Information'!C556=\"\",\"\",'Gas Cylinder Information'!C556)","v":""},{"$f":"IF('Gas Cylinder Information'!D556=\"\",\"\",'Gas Cylinder Information'!D556)","v":""},{"$f":"IF('Gas Cylinder Information'!B556=\"\",\"\",'Gas Cylinder Information'!B556)","v":""},{"$f":"IF('Gas Cylinder Information'!E556=\"\",\"\",'Gas Cylinder Information'!E556)","v":""},{"$f":"IF('Gas Cylinder Information'!F556=\"\",\"\",'Gas Cylinder Information'!F556)","v":""},{"$f":"IF('Gas Cylinder Information'!G556=\"\",\"\",'Gas Cylinder Information'!G556)","v":""}]
[{"$f":"IF('Gas Cylinder Information'!A557=\"\",\"\",'Gas Cylinder Information'!A557)","v":""},{"$f":"IF('Gas Cylinder Information'!C557=\"\",\"\",'Gas Cylinder Information'!C557)","v":""},{"$f":"IF('Gas Cylinder Information'!D557=\"\",\"\",'Gas Cylinder Information'!D557)","v":""},{"$f":"IF('Gas Cylinder Information'!B557=\"\",\"\",'Gas Cylinder Information'!B557)","v":""},{"$f":"IF('Gas Cylinder Information'!E557=\"\",\"\",'Gas Cylinder Information'!E557)","v":""},{"$f":"IF('Gas Cylinder Information'!F557=\"\",\"\",'Gas Cylinder Information'!F557)","v":""},{"$f":"IF('Gas Cylinder Information'!G557=\"\",\"\",'Gas Cylinder Information'!G557)","v":""}]
[{"$f":"IF('Gas Cylinder Information'!A558=\"\",\"\",'Gas Cylinder Information'!A558)","v":""},{"$f":"IF('Gas Cylinder Information'!C558=\"\",\"\",'Gas Cylinder Information'!C558)","v":""},{"$f":"IF('Gas Cylinder Information'!D558=\"\",\"\",'Gas Cylinder Information'!D558)","v":""},{"$f":"IF('Gas Cylinder Information'!B558=\"\",\"\",'Gas Cylinder Information'!B558)","v":""},{"$f":"IF('Gas Cylinder Information'!E558=\"\",\"\",'Gas Cylinder Information'!E558)","v":""},{"$f":"IF('Gas Cylinder Information'!F558=\"\",\"\",'Gas Cylinder Information'!F558)","v":""},{"$f":"IF('Gas Cylinder Information'!G558=\"\",\"\",'Gas Cylinder Information'!G558)","v":""}]
[{"$f":"IF('Gas Cylinder Information'!A559=\"\",\"\",'Gas Cylinder Information'!A559)","v":""},{"$f":"IF('Gas Cylinder Information'!C559=\"\",\"\",'Gas Cylinder Information'!C559)","v":""},{"$f":"IF('Gas Cylinder Information'!D559=\"\",\"\",'Gas Cylinder Information'!D559)","v":""},{"$f":"IF('Gas Cylinder Information'!B559=\"\",\"\",'Gas Cylinder Information'!B559)","v":""},{"$f":"IF('Gas Cylinder Information'!E559=\"\",\"\",'Gas Cylinder Information'!E559)","v":""},{"$f":"IF('Gas Cylinder Information'!F559=\"\",\"\",'Gas Cylinder Information'!F559)","v":""},{"$f":"IF('Gas Cylinder Information'!G559=\"\",\"\",'Gas Cylinder Information'!G559)","v":""}]
[{"$f":"IF('Gas Cylinder Information'!A560=\"\",\"\",'Gas Cylinder Information'!A560)","v":""},{"$f":"IF('Gas Cylinder Information'!C560=\"\",\"\",'Gas Cylinder Information'!C560)","v":""},{"$f":"IF('Gas Cylinder Information'!D560=\"\",\"\",'Gas Cylinder Information'!D560)","v":""},{"$f":"IF('Gas Cylinder Information'!B560=\"\",\"\",'Gas Cylinder Information'!B560)","v":""},{"$f":"IF('Gas Cylinder Information'!E560=\"\",\"\",'Gas Cylinder Information'!E560)","v":""},{"$f":"IF('Gas Cylinder Information'!F560=\"\",\"\",'Gas Cylinder Information'!F560)","v":""},{"$f":"IF('Gas Cylinder Information'!G560=\"\",\"\",'Gas Cylinder Information'!G560)","v":""}]
[{"$f":"IF('Gas Cylinder Information'!A561=\"\",\"\",'Gas Cylinder Information'!A561)","v":""},{"$f":"IF('Gas Cylinder Information'!C561=\"\",\"\",'Gas Cylinder Information'!C561)","v":""},{"$f":"IF('Gas Cylinder Information'!D561=\"\",\"\",'Gas Cylinder Information'!D561)","v":""},{"$f":"IF('Gas Cylinder Information'!B561=\"\",\"\",'Gas Cylinder Information'!B561)","v":""},{"$f":"IF('Gas Cylinder Information'!E561=\"\",\"\",'Gas Cylinder Information'!E561)","v":""},{"$f":"IF('Gas Cylinder Information'!F561=\"\",\"\",'Gas Cylinder Information'!F561)","v":""},{"$f":"IF('Gas Cylinder Information'!G561=\"\",\"\",'Gas Cylinder Information'!G561)","v":""}]
[{"$f":"IF('Gas Cylinder Information'!A562=\"\",\"\",'Gas Cylinder Information'!A562)","v":""},{"$f":"IF('Gas Cylinder Information'!C562=\"\",\"\",'Gas Cylinder Information'!C562)","v":""},{"$f":"IF('Gas Cylinder Information'!D562=\"\",\"\",'Gas Cylinder Information'!D562)","v":""},{"$f":"IF('Gas Cylinder Information'!B562=\"\",\"\",'Gas Cylinder Information'!B562)","v":""},{"$f":"IF('Gas Cylinder Information'!E562=\"\",\"\",'Gas Cylinder Information'!E562)","v":""},{"$f":"IF('Gas Cylinder Information'!F562=\"\",\"\",'Gas Cylinder Information'!F562)","v":""},{"$f":"IF('Gas Cylinder Information'!G562=\"\",\"\",'Gas Cylinder Information'!G562)","v":""}]
[{"$f":"IF('Gas Cylinder Information'!A563=\"\",\"\",'Gas Cylinder Information'!A563)","v":""},{"$f":"IF('Gas Cylinder Information'!C563=\"\",\"\",'Gas Cylinder Information'!C563)","v":""},{"$f":"IF('Gas Cylinder Information'!D563=\"\",\"\",'Gas Cylinder Information'!D563)","v":""},{"$f":"IF('Gas Cylinder Information'!B563=\"\",\"\",'Gas Cylinder Information'!B563)","v":""},{"$f":"IF('Gas Cylinder Information'!E563=\"\",\"\",'Gas Cylinder Information'!E563)","v":""},{"$f":"IF('Gas Cylinder Information'!F563=\"\",\"\",'Gas Cylinder Information'!F563)","v":""},{"$f":"IF('Gas Cylinder Information'!G563=\"\",\"\",'Gas Cylinder Information'!G563)","v":""}]
[{"$f":"IF('Gas Cylinder Information'!A564=\"\",\"\",'Gas Cylinder Information'!A564)","v":""},{"$f":"IF('Gas Cylinder Information'!C564=\"\",\"\",'Gas Cylinder Information'!C564)","v":""},{"$f":"IF('Gas Cylinder Information'!D564=\"\",\"\",'Gas Cylinder Information'!D564)","v":""},{"$f":"IF('Gas Cylinder Information'!B564=\"\",\"\",'Gas Cylinder Information'!B564)","v":""},{"$f":"IF('Gas Cylinder Information'!E564=\"\",\"\",'Gas Cylinder Information'!E564)","v":""},{"$f":"IF('Gas Cylinder Information'!F564=\"\",\"\",'Gas Cylinder Information'!F564)","v":""},{"$f":"IF('Gas Cylinder Information'!G564=\"\",\"\",'Gas Cylinder Information'!G564)","v":""}]
[{"$f":"IF('Gas Cylinder Information'!A565=\"\",\"\",'Gas Cylinder Information'!A565)","v":""},{"$f":"IF('Gas Cylinder Information'!C565=\"\",\"\",'Gas Cylinder Information'!C565)","v":""},{"$f":"IF('Gas Cylinder Information'!D565=\"\",\"\",'Gas Cylinder Information'!D565)","v":""},{"$f":"IF('Gas Cylinder Information'!B565=\"\",\"\",'Gas Cylinder Information'!B565)","v":""},{"$f":"IF('Gas Cylinder Information'!E565=\"\",\"\",'Gas Cylinder Information'!E565)","v":""},{"$f":"IF('Gas Cylinder Information'!F565=\"\",\"\",'Gas Cylinder Information'!F565)","v":""},{"$f":"IF('Gas Cylinder Information'!G565=\"\",\"\",'Gas Cylinder Information'!G565)","v":""}]
[{"$f":"IF('Gas Cylinder Information'!A566=\"\",\"\",'Gas Cylinder Information'!A566)","v":""},{"$f":"IF('Gas Cylinder Information'!C566=\"\",\"\",'Gas Cylinder Information'!C566)","v":""},{"$f":"IF('Gas Cylinder Information'!D566=\"\",\"\",'Gas Cylinder Information'!D566)","v":""},{"$f":"IF('Gas Cylinder Information'!B566=\"\",\"\",'Gas Cylinder Information'!B566)","v":""},{"$f":"IF('Gas Cylinder Information'!E566=\"\",\"\",'Gas Cylinder Information'!E566)","v":""},{"$f":"IF('Gas Cylinder Information'!F566=\"\",\"\",'Gas Cylinder Information'!F566)","v":""},{"$f":"IF('Gas Cylinder Information'!G566=\"\",\"\",'Gas Cylinder Information'!G566)","v":""}]
[{"$f":"IF('Gas Cylinder Information'!A567=\"\",\"\",'Gas Cylinder Information'!A567)","v":""},{"$f":"IF('Gas Cylinder Information'!C567=\"\",\"\",'Gas Cylinder Information'!C567)","v":""},{"$f":"IF('Gas Cylinder Information'!D567=\"\",\"\",'Gas Cylinder Information'!D567)","v":""},{"$f":"IF('Gas Cylinder Information'!B567=\"\",\"\",'Gas Cylinder Information'!B567)","v":""},{"$f":"IF('Gas Cylinder Information'!E567=\"\",\"\",'Gas Cylinder Information'!E567)","v":""},{"$f":"IF('Gas Cylinder Information'!F567=\"\",\"\",'Gas Cylinder Information'!F567)","v":""},{"$f":"IF('Gas Cylinder Information'!G567=\"\",\"\",'Gas Cylinder Information'!G567)","v":""}]
[{"$f":"IF('Gas Cylinder Information'!A568=\"\",\"\",'Gas Cylinder Information'!A568)","v":""},{"$f":"IF('Gas Cylinder Information'!C568=\"\",\"\",'Gas Cylinder Information'!C568)","v":""},{"$f":"IF('Gas Cylinder Information'!D568=\"\",\"\",'Gas Cylinder Information'!D568)","v":""},{"$f":"IF('Gas Cylinder Information'!B568=\"\",\"\",'Gas Cylinder Information'!B568)","v":""},{"$f":"IF('Gas Cylinder Information'!E568=\"\",\"\",'Gas Cylinder Information'!E568)","v":""},{"$f":"IF('Gas Cylinder Information'!F568=\"\",\"\",'Gas Cylinder Information'!F568)","v":""},{"$f":"IF('Gas Cylinder Information'!G568=\"\",\"\",'Gas Cylinder Information'!G568)","v":""}]
[{"$f":"IF('Gas Cylinder Information'!A569=\"\",\"\",'Gas Cylinder Information'!A569)","v":""},{"$f":"IF('Gas Cylinder Information'!C569=\"\",\"\",'Gas Cylinder Information'!C569)","v":""},{"$f":"IF('Gas Cylinder Information'!D569=\"\",\"\",'Gas Cylinder Information'!D569)","v":""},{"$f":"IF('Gas Cylinder Information'!B569=\"\",\"\",'Gas Cylinder Information'!B569)","v":""},{"$f":"IF('Gas Cylinder Information'!E569=\"\",\"\",'Gas Cylinder Information'!E569)","v":""},{"$f":"IF('Gas Cylinder Information'!F569=\"\",\"\",'Gas Cylinder Information'!F569)","v":""},{"$f":"IF('Gas Cylinder Information'!G569=\"\",\"\",'Gas Cylinder Information'!G569)","v":""}]
[{"$f":"IF('Gas Cylinder Information'!A570=\"\",\"\",'Gas Cylinder Information'!A570)","v":""},{"$f":"IF('Gas Cylinder Information'!C570=\"\",\"\",'Gas Cylinder Information'!C570)","v":""},{"$f":"IF('Gas Cylinder Information'!D570=\"\",\"\",'Gas Cylinder Information'!D570)","v":""},{"$f":"IF('Gas Cylinder Information'!B570=\"\",\"\",'Gas Cylinder Information'!B570)","v":""},{"$f":"IF('Gas Cylinder Information'!E570=\"\",\"\",'Gas Cylinder Information'!E570)","v":""},{"$f":"IF('Gas Cylinder Information'!F570=\"\",\"\",'Gas Cylinder Information'!F570)","v":""},{"$f":"IF('Gas Cylinder Information'!G570=\"\",\"\",'Gas Cylinder Information'!G570)","v":""}]
[{"$f":"IF('Gas Cylinder Information'!A571=\"\",\"\",'Gas Cylinder Information'!A571)","v":""},{"$f":"IF('Gas Cylinder Information'!C571=\"\",\"\",'Gas Cylinder Information'!C571)","v":""},{"$f":"IF('Gas Cylinder Information'!D571=\"\",\"\",'Gas Cylinder Information'!D571)","v":""},{"$f":"IF('Gas Cylinder Information'!B571=\"\",\"\",'Gas Cylinder Information'!B571)","v":""},{"$f":"IF('Gas Cylinder Information'!E571=\"\",\"\",'Gas Cylinder Information'!E571)","v":""},{"$f":"IF('Gas Cylinder Information'!F571=\"\",\"\",'Gas Cylinder Information'!F571)","v":""},{"$f":"IF('Gas Cylinder Information'!G571=\"\",\"\",'Gas Cylinder Information'!G571)","v":""}]
[{"$f":"IF('Gas Cylinder Information'!A572=\"\",\"\",'Gas Cylinder Information'!A572)","v":""},{"$f":"IF('Gas Cylinder Information'!C572=\"\",\"\",'Gas Cylinder Information'!C572)","v":""},{"$f":"IF('Gas Cylinder Information'!D572=\"\",\"\",'Gas Cylinder Information'!D572)","v":""},{"$f":"IF('Gas Cylinder Information'!B572=\"\",\"\",'Gas Cylinder Information'!B572)","v":""},{"$f":"IF('Gas Cylinder Information'!E572=\"\",\"\",'Gas Cylinder Information'!E572)","v":""},{"$f":"IF('Gas Cylinder Information'!F572=\"\",\"\",'Gas Cylinder Information'!F572)","v":""},{"$f":"IF('Gas Cylinder Information'!G572=\"\",\"\",'Gas Cylinder Information'!G572)","v":""}]
[{"$f":"IF('Gas Cylinder Information'!A573=\"\",\"\",'Gas Cylinder Information'!A573)","v":""},{"$f":"IF('Gas Cylinder Information'!C573=\"\",\"\",'Gas Cylinder Information'!C573)","v":""},{"$f":"IF('Gas Cylinder Information'!D573=\"\",\"\",'Gas Cylinder Information'!D573)","v":""},{"$f":"IF('Gas Cylinder Information'!B573=\"\",\"\",'Gas Cylinder Information'!B573)","v":""},{"$f":"IF('Gas Cylinder Information'!E573=\"\",\"\",'Gas Cylinder Information'!E573)","v":""},{"$f":"IF('Gas Cylinder Information'!F573=\"\",\"\",'Gas Cylinder Information'!F573)","v":""},{"$f":"IF('Gas Cylinder Information'!G573=\"\",\"\",'Gas Cylinder Information'!G573)","v":""}]
[{"$f":"IF('Gas Cylinder Information'!A574=\"\",\"\",'Gas Cylinder Information'!A574)","v":""},{"$f":"IF('Gas Cylinder Information'!C574=\"\",\"\",'Gas Cylinder Information'!C574)","v":""},{"$f":"IF('Gas Cylinder Information'!D574=\"\",\"\",'Gas Cylinder Information'!D574)","v":""},{"$f":"IF('Gas Cylinder Information'!B574=\"\",\"\",'Gas Cylinder Information'!B574)","v":""},{"$f":"IF('Gas Cylinder Information'!E574=\"\",\"\",'Gas Cylinder Information'!E574)","v":""},{"$f":"IF('Gas Cylinder Information'!F574=\"\",\"\",'Gas Cylinder Information'!F574)","v":""},{"$f":"IF('Gas Cylinder Information'!G574=\"\",\"\",'Gas Cylinder Information'!G574)","v":""}]
[{"$f":"IF('Gas Cylinder Information'!A575=\"\",\"\",'Gas Cylinder Information'!A575)","v":""},{"$f":"IF('Gas Cylinder Information'!C575=\"\",\"\",'Gas Cylinder Information'!C575)","v":""},{"$f":"IF('Gas Cylinder Information'!D575=\"\",\"\",'Gas Cylinder Information'!D575)","v":""},{"$f":"IF('Gas Cylinder Information'!B575=\"\",\"\",'Gas Cylinder Information'!B575)","v":""},{"$f":"IF('Gas Cylinder Information'!E575=\"\",\"\",'Gas Cylinder Information'!E575)","v":""},{"$f":"IF('Gas Cylinder Information'!F575=\"\",\"\",'Gas Cylinder Information'!F575)","v":""},{"$f":"IF('Gas Cylinder Information'!G575=\"\",\"\",'Gas Cylinder Information'!G575)","v":""}]
[{"$f":"IF('Gas Cylinder Information'!A576=\"\",\"\",'Gas Cylinder Information'!A576)","v":""},{"$f":"IF('Gas Cylinder Information'!C576=\"\",\"\",'Gas Cylinder Information'!C576)","v":""},{"$f":"IF('Gas Cylinder Information'!D576=\"\",\"\",'Gas Cylinder Information'!D576)","v":""},{"$f":"IF('Gas Cylinder Information'!B576=\"\",\"\",'Gas Cylinder Information'!B576)","v":""},{"$f":"IF('Gas Cylinder Information'!E576=\"\",\"\",'Gas Cylinder Information'!E576)","v":""},{"$f":"IF('Gas Cylinder Information'!F576=\"\",\"\",'Gas Cylinder Information'!F576)","v":""},{"$f":"IF('Gas Cylinder Information'!G576=\"\",\"\",'Gas Cylinder Information'!G576)","v":""}]
[{"$f":"IF('Gas Cylinder Information'!A577=\"\",\"\",'Gas Cylinder Information'!A577)","v":""},{"$f":"IF('Gas Cylinder Information'!C577=\"\",\"\",'Gas Cylinder Information'!C577)","v":""},{"$f":"IF('Gas Cylinder Information'!D577=\"\",\"\",'Gas Cylinder Information'!D577)","v":""},{"$f":"IF('Gas Cylinder Information'!B577=\"\",\"\",'Gas Cylinder Information'!B577)","v":""},{"$f":"IF('Gas Cylinder Information'!E577=\"\",\"\",'Gas Cylinder Information'!E577)","v":""},{"$f":"IF('Gas Cylinder Information'!F577=\"\",\"\",'Gas Cylinder Information'!F577)","v":""},{"$f":"IF('Gas Cylinder Information'!G577=\"\",\"\",'Gas Cylinder Information'!G577)","v":""}]
[{"$f":"IF('Gas Cylinder Information'!A578=\"\",\"\",'Gas Cylinder Information'!A578)","v":""},{"$f":"IF('Gas Cylinder Information'!C578=\"\",\"\",'Gas Cylinder Information'!C578)","v":""},{"$f":"IF('Gas Cylinder Information'!D578=\"\",\"\",'Gas Cylinder Information'!D578)","v":""},{"$f":"IF('Gas Cylinder Information'!B578=\"\",\"\",'Gas Cylinder Information'!B578)","v":""},{"$f":"IF('Gas Cylinder Information'!E578=\"\",\"\",'Gas Cylinder Information'!E578)","v":""},{"$f":"IF('Gas Cylinder Information'!F578=\"\",\"\",'Gas Cylinder Information'!F578)","v":""},{"$f":"IF('Gas Cylinder Information'!G578=\"\",\"\",'Gas Cylinder Information'!G578)","v":""}]
[{"$f":"IF('Gas Cylinder Information'!A579=\"\",\"\",'Gas Cylinder Information'!A579)","v":""},{"$f":"IF('Gas Cylinder Information'!C579=\"\",\"\",'Gas Cylinder Information'!C579)","v":""},{"$f":"IF('Gas Cylinder Information'!D579=\"\",\"\",'Gas Cylinder Information'!D579)","v":""},{"$f":"IF('Gas Cylinder Information'!B579=\"\",\"\",'Gas Cylinder Information'!B579)","v":""},{"$f":"IF('Gas Cylinder Information'!E579=\"\",\"\",'Gas Cylinder Information'!E579)","v":""},{"$f":"IF('Gas Cylinder Information'!F579=\"\",\"\",'Gas Cylinder Information'!F579)","v":""},{"$f":"IF('Gas Cylinder Information'!G579=\"\",\"\",'Gas Cylinder Information'!G579)","v":""}]
[{"$f":"IF('Gas Cylinder Information'!A580=\"\",\"\",'Gas Cylinder Information'!A580)","v":""},{"$f":"IF('Gas Cylinder Information'!C580=\"\",\"\",'Gas Cylinder Information'!C580)","v":""},{"$f":"IF('Gas Cylinder Information'!D580=\"\",\"\",'Gas Cylinder Information'!D580)","v":""},{"$f":"IF('Gas Cylinder Information'!B580=\"\",\"\",'Gas Cylinder Information'!B580)","v":""},{"$f":"IF('Gas Cylinder Information'!E580=\"\",\"\",'Gas Cylinder Information'!E580)","v":""},{"$f":"IF('Gas Cylinder Information'!F580=\"\",\"\",'Gas Cylinder Information'!F580)","v":""},{"$f":"IF('Gas Cylinder Information'!G580=\"\",\"\",'Gas Cylinder Information'!G580)","v":""}]
[{"$f":"IF('Gas Cylinder Information'!A581=\"\",\"\",'Gas Cylinder Information'!A581)","v":""},{"$f":"IF('Gas Cylinder Information'!C581=\"\",\"\",'Gas Cylinder Information'!C581)","v":""},{"$f":"IF('Gas Cylinder Information'!D581=\"\",\"\",'Gas Cylinder Information'!D581)","v":""},{"$f":"IF('Gas Cylinder Information'!B581=\"\",\"\",'Gas Cylinder Information'!B581)","v":""},{"$f":"IF('Gas Cylinder Information'!E581=\"\",\"\",'Gas Cylinder Information'!E581)","v":""},{"$f":"IF('Gas Cylinder Information'!F581=\"\",\"\",'Gas Cylinder Information'!F581)","v":""},{"$f":"IF('Gas Cylinder Information'!G581=\"\",\"\",'Gas Cylinder Information'!G581)","v":""}]
[{"$f":"IF('Gas Cylinder Information'!A582=\"\",\"\",'Gas Cylinder Information'!A582)","v":""},{"$f":"IF('Gas Cylinder Information'!C582=\"\",\"\",'Gas Cylinder Information'!C582)","v":""},{"$f":"IF('Gas Cylinder Information'!D582=\"\",\"\",'Gas Cylinder Information'!D582)","v":""},{"$f":"IF('Gas Cylinder Information'!B582=\"\",\"\",'Gas Cylinder Information'!B582)","v":""},{"$f":"IF('Gas Cylinder Information'!E582=\"\",\"\",'Gas Cylinder Information'!E582)","v":""},{"$f":"IF('Gas Cylinder Information'!F582=\"\",\"\",'Gas Cylinder Information'!F582)","v":""},{"$f":"IF('Gas Cylinder Information'!G582=\"\",\"\",'Gas Cylinder Information'!G582)","v":""}]
[{"$f":"IF('Gas Cylinder Information'!A583=\"\",\"\",'Gas Cylinder Information'!A583)","v":""},{"$f":"IF('Gas Cylinder Information'!C583=\"\",\"\",'Gas Cylinder Information'!C583)","v":""},{"$f":"IF('Gas Cylinder Information'!D583=\"\",\"\",'Gas Cylinder Information'!D583)","v":""},{"$f":"IF('Gas Cylinder Information'!B583=\"\",\"\",'Gas Cylinder Information'!B583)","v":""},{"$f":"IF('Gas Cylinder Information'!E583=\"\",\"\",'Gas Cylinder Information'!E583)","v":""},{"$f":"IF('Gas Cylinder Information'!F583=\"\",\"\",'Gas Cylinder Information'!F583)","v":""},{"$f":"IF('Gas Cylinder Information'!G583=\"\",\"\",'Gas Cylinder Information'!G583)","v":""}]
[{"$f":"IF('Gas Cylinder Information'!A584=\"\",\"\",'Gas Cylinder Information'!A584)","v":""},{"$f":"IF('Gas Cylinder Information'!C584=\"\",\"\",'Gas Cylinder Information'!C584)","v":""},{"$f":"IF('Gas Cylinder Information'!D584=\"\",\"\",'Gas Cylinder Information'!D584)","v":""},{"$f":"IF('Gas Cylinder Information'!B584=\"\",\"\",'Gas Cylinder Information'!B584)","v":""},{"$f":"IF('Gas Cylinder Information'!E584=\"\",\"\",'Gas Cylinder Information'!E584)","v":""},{"$f":"IF('Gas Cylinder Information'!F584=\"\",\"\",'Gas Cylinder Information'!F584)","v":""},{"$f":"IF('Gas Cylinder Information'!G584=\"\",\"\",'Gas Cylinder Information'!G584)","v":""}]
[{"$f":"IF('Gas Cylinder Information'!A585=\"\",\"\",'Gas Cylinder Information'!A585)","v":""},{"$f":"IF('Gas Cylinder Information'!C585=\"\",\"\",'Gas Cylinder Information'!C585)","v":""},{"$f":"IF('Gas Cylinder Information'!D585=\"\",\"\",'Gas Cylinder Information'!D585)","v":""},{"$f":"IF('Gas Cylinder Information'!B585=\"\",\"\",'Gas Cylinder Information'!B585)","v":""},{"$f":"IF('Gas Cylinder Information'!E585=\"\",\"\",'Gas Cylinder Information'!E585)","v":""},{"$f":"IF('Gas Cylinder Information'!F585=\"\",\"\",'Gas Cylinder Information'!F585)","v":""},{"$f":"IF('Gas Cylinder Information'!G585=\"\",\"\",'Gas Cylinder Information'!G585)","v":""}]
[{"$f":"IF('Gas Cylinder Information'!A586=\"\",\"\",'Gas Cylinder Information'!A586)","v":""},{"$f":"IF('Gas Cylinder Information'!C586=\"\",\"\",'Gas Cylinder Information'!C586)","v":""},{"$f":"IF('Gas Cylinder Information'!D586=\"\",\"\",'Gas Cylinder Information'!D586)","v":""},{"$f":"IF('Gas Cylinder Information'!B586=\"\",\"\",'Gas Cylinder Information'!B586)","v":""},{"$f":"IF('Gas Cylinder Information'!E586=\"\",\"\",'Gas Cylinder Information'!E586)","v":""},{"$f":"IF('Gas Cylinder Information'!F586=\"\",\"\",'Gas Cylinder Information'!F586)","v":""},{"$f":"IF('Gas Cylinder Information'!G586=\"\",\"\",'Gas Cylinder Information'!G586)","v":""}]
[{"$f":"IF('Gas Cylinder Information'!A587=\"\",\"\",'Gas Cylinder Information'!A587)","v":""},{"$f":"IF('Gas Cylinder Information'!C587=\"\",\"\",'Gas Cylinder Information'!C587)","v":""},{"$f":"IF('Gas Cylinder Information'!D587=\"\",\"\",'Gas Cylinder Information'!D587)","v":""},{"$f":"IF('Gas Cylinder Information'!B587=\"\",\"\",'Gas Cylinder Information'!B587)","v":""},{"$f":"IF('Gas Cylinder Information'!E587=\"\",\"\",'Gas Cylinder Information'!E587)","v":""},{"$f":"IF('Gas Cylinder Information'!F587=\"\",\"\",'Gas Cylinder Information'!F587)","v":""},{"$f":"IF('Gas Cylinder Information'!G587=\"\",\"\",'Gas Cylinder Information'!G587)","v":""}]
[{"$f":"IF('Gas Cylinder Information'!A588=\"\",\"\",'Gas Cylinder Information'!A588)","v":""},{"$f":"IF('Gas Cylinder Information'!C588=\"\",\"\",'Gas Cylinder Information'!C588)","v":""},{"$f":"IF('Gas Cylinder Information'!D588=\"\",\"\",'Gas Cylinder Information'!D588)","v":""},{"$f":"IF('Gas Cylinder Information'!B588=\"\",\"\",'Gas Cylinder Information'!B588)","v":""},{"$f":"IF('Gas Cylinder Information'!E588=\"\",\"\",'Gas Cylinder Information'!E588)","v":""},{"$f":"IF('Gas Cylinder Information'!F588=\"\",\"\",'Gas Cylinder Information'!F588)","v":""},{"$f":"IF('Gas Cylinder Information'!G588=\"\",\"\",'Gas Cylinder Information'!G588)","v":""}]
[{"$f":"IF('Gas Cylinder Information'!A589=\"\",\"\",'Gas Cylinder Information'!A589)","v":""},{"$f":"IF('Gas Cylinder Information'!C589=\"\",\"\",'Gas Cylinder Information'!C589)","v":""},{"$f":"IF('Gas Cylinder Information'!D589=\"\",\"\",'Gas Cylinder Information'!D589)","v":""},{"$f":"IF('Gas Cylinder Information'!B589=\"\",\"\",'Gas Cylinder Information'!B589)","v":""},{"$f":"IF('Gas Cylinder Information'!E589=\"\",\"\",'Gas Cylinder Information'!E589)","v":""},{"$f":"IF('Gas Cylinder Information'!F589=\"\",\"\",'Gas Cylinder Information'!F589)","v":""},{"$f":"IF('Gas Cylinder Information'!G589=\"\",\"\",'Gas Cylinder Information'!G589)","v":""}]
[{"$f":"IF('Gas Cylinder Information'!A590=\"\",\"\",'Gas Cylinder Information'!A590)","v":""},{"$f":"IF('Gas Cylinder Information'!C590=\"\",\"\",'Gas Cylinder Information'!C590)","v":""},{"$f":"IF('Gas Cylinder Information'!D590=\"\",\"\",'Gas Cylinder Information'!D590)","v":""},{"$f":"IF('Gas Cylinder Information'!B590=\"\",\"\",'Gas Cylinder Information'!B590)","v":""},{"$f":"IF('Gas Cylinder Information'!E590=\"\",\"\",'Gas Cylinder Information'!E590)","v":""},{"$f":"IF('Gas Cylinder Information'!F590=\"\",\"\",'Gas Cylinder Information'!F590)","v":""},{"$f":"IF('Gas Cylinder Information'!G590=\"\",\"\",'Gas Cylinder Information'!G590)","v":""}]
[{"$f":"IF('Gas Cylinder Information'!A591=\"\",\"\",'Gas Cylinder Information'!A591)","v":""},{"$f":"IF('Gas Cylinder Information'!C591=\"\",\"\",'Gas Cylinder Information'!C591)","v":""},{"$f":"IF('Gas Cylinder Information'!D591=\"\",\"\",'Gas Cylinder Information'!D591)","v":""},{"$f":"IF('Gas Cylinder Information'!B591=\"\",\"\",'Gas Cylinder Information'!B591)","v":""},{"$f":"IF('Gas Cylinder Information'!E591=\"\",\"\",'Gas Cylinder Information'!E591)","v":""},{"$f":"IF('Gas Cylinder Information'!F591=\"\",\"\",'Gas Cylinder Information'!F591)","v":""},{"$f":"IF('Gas Cylinder Information'!G591=\"\",\"\",'Gas Cylinder Information'!G591)","v":""}]
[{"$f":"IF('Gas Cylinder Information'!A592=\"\",\"\",'Gas Cylinder Information'!A592)","v":""},{"$f":"IF('Gas Cylinder Information'!C592=\"\",\"\",'Gas Cylinder Information'!C592)","v":""},{"$f":"IF('Gas Cylinder Information'!D592=\"\",\"\",'Gas Cylinder Information'!D592)","v":""},{"$f":"IF('Gas Cylinder Information'!B592=\"\",\"\",'Gas Cylinder Information'!B592)","v":""},{"$f":"IF('Gas Cylinder Information'!E592=\"\",\"\",'Gas Cylinder Information'!E592)","v":""},{"$f":"IF('Gas Cylinder Information'!F592=\"\",\"\",'Gas Cylinder Information'!F592)","v":""},{"$f":"IF('Gas Cylinder Information'!G592=\"\",\"\",'Gas Cylinder Information'!G592)","v":""}]
[{"$f":"IF('Gas Cylinder Information'!A593=\"\",\"\",'Gas Cylinder Information'!A593)","v":""},{"$f":"IF('Gas Cylinder Information'!C593=\"\",\"\",'Gas Cylinder Information'!C593)","v":""},{"$f":"IF('Gas Cylinder Information'!D593=\"\",\"\",'Gas Cylinder Information'!D593)","v":""},{"$f":"IF('Gas Cylinder Information'!B593=\"\",\"\",'Gas Cylinder Information'!B593)","v":""},{"$f":"IF('Gas Cylinder Information'!E593=\"\",\"\",'Gas Cylinder Information'!E593)","v":""},{"$f":"IF('Gas Cylinder Information'!F593=\"\",\"\",'Gas Cylinder Information'!F593)","v":""},{"$f":"IF('Gas Cylinder Information'!G593=\"\",\"\",'Gas Cylinder Information'!G593)","v":""}]
[{"$f":"IF('Gas Cylinder Information'!A594=\"\",\"\",'Gas Cylinder Information'!A594)","v":""},{"$f":"IF('Gas Cylinder Information'!C594=\"\",\"\",'Gas Cylinder Information'!C594)","v":""},{"$f":"IF('Gas Cylinder Information'!D594=\"\",\"\",'Gas Cylinder Information'!D594)","v":""},{"$f":"IF('Gas Cylinder Information'!B594=\"\",\"\",'Gas Cylinder Information'!B594)","v":""},{"$f":"IF('Gas Cylinder Information'!E594=\"\",\"\",'Gas Cylinder Information'!E594)","v":""},{"$f":"IF('Gas Cylinder Information'!F594=\"\",\"\",'Gas Cylinder Information'!F594)","v":""},{"$f":"IF('Gas Cylinder Information'!G594=\"\",\"\",'Gas Cylinder Information'!G594)","v":""}]
[{"$f":"IF('Gas Cylinder Information'!A595=\"\",\"\",'Gas Cylinder Information'!A595)","v":""},{"$f":"IF('Gas Cylinder Information'!C595=\"\",\"\",'Gas Cylinder Information'!C595)","v":""},{"$f":"IF('Gas Cylinder Information'!D595=\"\",\"\",'Gas Cylinder Information'!D595)","v":""},{"$f":"IF('Gas Cylinder Information'!B595=\"\",\"\",'Gas Cylinder Information'!B595)","v":""},{"$f":"IF('Gas Cylinder Information'!E595=\"\",\"\",'Gas Cylinder Information'!E595)","v":""},{"$f":"IF('Gas Cylinder Information'!F595=\"\",\"\",'Gas Cylinder Information'!F595)","v":""},{"$f":"IF('Gas Cylinder Information'!G595=\"\",\"\",'Gas Cylinder Information'!G595)","v":""}]
[{"$f":"IF('Gas Cylinder Information'!A596=\"\",\"\",'Gas Cylinder Information'!A596)","v":""},{"$f":"IF('Gas Cylinder Information'!C596=\"\",\"\",'Gas Cylinder Information'!C596)","v":""},{"$f":"IF('Gas Cylinder Information'!D596=\"\",\"\",'Gas Cylinder Information'!D596)","v":""},{"$f":"IF('Gas Cylinder Information'!B596=\"\",\"\",'Gas Cylinder Information'!B596)","v":""},{"$f":"IF('Gas Cylinder Information'!E596=\"\",\"\",'Gas Cylinder Information'!E596)","v":""},{"$f":"IF('Gas Cylinder Information'!F596=\"\",\"\",'Gas Cylinder Information'!F596)","v":""},{"$f":"IF('Gas Cylinder Information'!G596=\"\",\"\",'Gas Cylinder Information'!G596)","v":""}]
[{"$f":"IF('Gas Cylinder Information'!A597=\"\",\"\",'Gas Cylinder Information'!A597)","v":""},{"$f":"IF('Gas Cylinder Information'!C597=\"\",\"\",'Gas Cylinder Information'!C597)","v":""},{"$f":"IF('Gas Cylinder Information'!D597=\"\",\"\",'Gas Cylinder Information'!D597)","v":""},{"$f":"IF('Gas Cylinder Information'!B597=\"\",\"\",'Gas Cylinder Information'!B597)","v":""},{"$f":"IF('Gas Cylinder Information'!E597=\"\",\"\",'Gas Cylinder Information'!E597)","v":""},{"$f":"IF('Gas Cylinder Information'!F597=\"\",\"\",'Gas Cylinder Information'!F597)","v":""},{"$f":"IF('Gas Cylinder Information'!G597=\"\",\"\",'Gas Cylinder Information'!G597)","v":""}]
[{"$f":"IF('Gas Cylinder Information'!A598=\"\",\"\",'Gas Cylinder Information'!A598)","v":""},{"$f":"IF('Gas Cylinder Information'!C598=\"\",\"\",'Gas Cylinder Information'!C598)","v":""},{"$f":"IF('Gas Cylinder Information'!D598=\"\",\"\",'Gas Cylinder Information'!D598)","v":""},{"$f":"IF('Gas Cylinder Information'!B598=\"\",\"\",'Gas Cylinder Information'!B598)","v":""},{"$f":"IF('Gas Cylinder Information'!E598=\"\",\"\",'Gas Cylinder Information'!E598)","v":""},{"$f":"IF('Gas Cylinder Information'!F598=\"\",\"\",'Gas Cylinder Information'!F598)","v":""},{"$f":"IF('Gas Cylinder Information'!G598=\"\",\"\",'Gas Cylinder Information'!G598)","v":""}]
[{"$f":"IF('Gas Cylinder Information'!A599=\"\",\"\",'Gas Cylinder Information'!A599)","v":""},{"$f":"IF('Gas Cylinder Information'!C599=\"\",\"\",'Gas Cylinder Information'!C599)","v":""},{"$f":"IF('Gas Cylinder Information'!D599=\"\",\"\",'Gas Cylinder Information'!D599)","v":""},{"$f":"IF('Gas Cylinder Information'!B599=\"\",\"\",'Gas Cylinder Information'!B599)","v":""},{"$f":"IF('Gas Cylinder Information'!E599=\"\",\"\",'Gas Cylinder Information'!E599)","v":""},{"$f":"IF('Gas Cylinder Information'!F599=\"\",\"\",'Gas Cylinder Information'!F599)","v":""},{"$f":"IF('Gas Cylinder Information'!G599=\"\",\"\",'Gas Cylinder Information'!G599)","v":""}]
[{"$f":"IF('Gas Cylinder Information'!A600=\"\",\"\",'Gas Cylinder Information'!A600)","v":""},{"$f":"IF('Gas Cylinder Information'!C600=\"\",\"\",'Gas Cylinder Information'!C600)","v":""},{"$f":"IF('Gas Cylinder Information'!D600=\"\",\"\",'Gas Cylinder Information'!D600)","v":""},{"$f":"IF('Gas Cylinder Information'!B600=\"\",\"\",'Gas Cylinder Information'!B600)","v":""},{"$f":"IF('Gas Cylinder Information'!E600=\"\",\"\",'Gas Cylinder Information'!E600)","v":""},{"$f":"IF('Gas Cylinder Information'!F600=\"\",\"\",'Gas Cylinder Information'!F600)","v":""},{"$f":"IF('Gas Cylinder Information'!G600=\"\",\"\",'Gas Cylinder Information'!G600)","v":""}]
[{"$f":"IF('Gas Cylinder Information'!A601=\"\",\"\",'Gas Cylinder Information'!A601)","v":""},{"$f":"IF('Gas Cylinder Information'!C601=\"\",\"\",'Gas Cylinder Information'!C601)","v":""},{"$f":"IF('Gas Cylinder Information'!D601=\"\",\"\",'Gas Cylinder Information'!D601)","v":""},{"$f":"IF('Gas Cylinder Information'!B601=\"\",\"\",'Gas Cylinder Information'!B601)","v":""},{"$f":"IF('Gas Cylinder Information'!E601=\"\",\"\",'Gas Cylinder Information'!E601)","v":""},{"$f":"IF('Gas Cylinder Information'!F601=\"\",\"\",'Gas Cylinder Information'!F601)","v":""},{"$f":"IF('Gas Cylinder Information'!G601=\"\",\"\",'Gas Cylinder Information'!G601)","v":""}]
[{"$f":"IF('Gas Cylinder Information'!A602=\"\",\"\",'Gas Cylinder Information'!A602)","v":""},{"$f":"IF('Gas Cylinder Information'!C602=\"\",\"\",'Gas Cylinder Information'!C602)","v":""},{"$f":"IF('Gas Cylinder Information'!D602=\"\",\"\",'Gas Cylinder Information'!D602)","v":""},{"$f":"IF('Gas Cylinder Information'!B602=\"\",\"\",'Gas Cylinder Information'!B602)","v":""},{"$f":"IF('Gas Cylinder Information'!E602=\"\",\"\",'Gas Cylinder Information'!E602)","v":""},{"$f":"IF('Gas Cylinder Information'!F602=\"\",\"\",'Gas Cylinder Information'!F602)","v":""},{"$f":"IF('Gas Cylinder Information'!G602=\"\",\"\",'Gas Cylinder Information'!G602)","v":""}]
[{"$f":"IF('Gas Cylinder Information'!A603=\"\",\"\",'Gas Cylinder Information'!A603)","v":""},{"$f":"IF('Gas Cylinder Information'!C603=\"\",\"\",'Gas Cylinder Information'!C603)","v":""},{"$f":"IF('Gas Cylinder Information'!D603=\"\",\"\",'Gas Cylinder Information'!D603)","v":""},{"$f":"IF('Gas Cylinder Information'!B603=\"\",\"\",'Gas Cylinder Information'!B603)","v":""},{"$f":"IF('Gas Cylinder Information'!E603=\"\",\"\",'Gas Cylinder Information'!E603)","v":""},{"$f":"IF('Gas Cylinder Information'!F603=\"\",\"\",'Gas Cylinder Information'!F603)","v":""},{"$f":"IF('Gas Cylinder Information'!G603=\"\",\"\",'Gas Cylinder Information'!G603)","v":""}]
[{"$f":"IF('Gas Cylinder Information'!A604=\"\",\"\",'Gas Cylinder Information'!A604)","v":""},{"$f":"IF('Gas Cylinder Information'!C604=\"\",\"\",'Gas Cylinder Information'!C604)","v":""},{"$f":"IF('Gas Cylinder Information'!D604=\"\",\"\",'Gas Cylinder Information'!D604)","v":""},{"$f":"IF('Gas Cylinder Information'!B604=\"\",\"\",'Gas Cylinder Information'!B604)","v":""},{"$f":"IF('Gas Cylinder Information'!E604=\"\",\"\",'Gas Cylinder Information'!E604)","v":""},{"$f":"IF('Gas Cylinder Information'!F604=\"\",\"\",'Gas Cylinder Information'!F604)","v":""},{"$f":"IF('Gas Cylinder Information'!G604=\"\",\"\",'Gas Cylinder Information'!G604)","v":""}]
[{"$f":"IF('Gas Cylinder Information'!A605=\"\",\"\",'Gas Cylinder Information'!A605)","v":""},{"$f":"IF('Gas Cylinder Information'!C605=\"\",\"\",'Gas Cylinder Information'!C605)","v":""},{"$f":"IF('Gas Cylinder Information'!D605=\"\",\"\",'Gas Cylinder Information'!D605)","v":""},{"$f":"IF('Gas Cylinder Information'!B605=\"\",\"\",'Gas Cylinder Information'!B605)","v":""},{"$f":"IF('Gas Cylinder Information'!E605=\"\",\"\",'Gas Cylinder Information'!E605)","v":""},{"$f":"IF('Gas Cylinder Information'!F605=\"\",\"\",'Gas Cylinder Information'!F605)","v":""},{"$f":"IF('Gas Cylinder Information'!G605=\"\",\"\",'Gas Cylinder Information'!G605)","v":""}]
[{"$f":"IF('Gas Cylinder Information'!A606=\"\",\"\",'Gas Cylinder Information'!A606)","v":""},{"$f":"IF('Gas Cylinder Information'!C606=\"\",\"\",'Gas Cylinder Information'!C606)","v":""},{"$f":"IF('Gas Cylinder Information'!D606=\"\",\"\",'Gas Cylinder Information'!D606)","v":""},{"$f":"IF('Gas Cylinder Information'!B606=\"\",\"\",'Gas Cylinder Information'!B606)","v":""},{"$f":"IF('Gas Cylinder Information'!E606=\"\",\"\",'Gas Cylinder Information'!E606)","v":""},{"$f":"IF('Gas Cylinder Information'!F606=\"\",\"\",'Gas Cylinder Information'!F606)","v":""},{"$f":"IF('Gas Cylinder Information'!G606=\"\",\"\",'Gas Cylinder Information'!G606)","v":""}]
[{"$f":"IF('Gas Cylinder Information'!A607=\"\",\"\",'Gas Cylinder Information'!A607)","v":""},{"$f":"IF('Gas Cylinder Information'!C607=\"\",\"\",'Gas Cylinder Information'!C607)","v":""},{"$f":"IF('Gas Cylinder Information'!D607=\"\",\"\",'Gas Cylinder Information'!D607)","v":""},{"$f":"IF('Gas Cylinder Information'!B607=\"\",\"\",'Gas Cylinder Information'!B607)","v":""},{"$f":"IF('Gas Cylinder Information'!E607=\"\",\"\",'Gas Cylinder Information'!E607)","v":""},{"$f":"IF('Gas Cylinder Information'!F607=\"\",\"\",'Gas Cylinder Information'!F607)","v":""},{"$f":"IF('Gas Cylinder Information'!G607=\"\",\"\",'Gas Cylinder Information'!G607)","v":""}]
[{"$f":"IF('Gas Cylinder Information'!A608=\"\",\"\",'Gas Cylinder Information'!A608)","v":""},{"$f":"IF('Gas Cylinder Information'!C608=\"\",\"\",'Gas Cylinder Information'!C608)","v":""},{"$f":"IF('Gas Cylinder Information'!D608=\"\",\"\",'Gas Cylinder Information'!D608)","v":""},{"$f":"IF('Gas Cylinder Information'!B608=\"\",\"\",'Gas Cylinder Information'!B608)","v":""},{"$f":"IF('Gas Cylinder Information'!E608=\"\",\"\",'Gas Cylinder Information'!E608)","v":""},{"$f":"IF('Gas Cylinder Information'!F608=\"\",\"\",'Gas Cylinder Information'!F608)","v":""},{"$f":"IF('Gas Cylinder Information'!G608=\"\",\"\",'Gas Cylinder Information'!G608)","v":""}]
[{"$f":"IF('Gas Cylinder Information'!A609=\"\",\"\",'Gas Cylinder Information'!A609)","v":""},{"$f":"IF('Gas Cylinder Information'!C609=\"\",\"\",'Gas Cylinder Information'!C609)","v":""},{"$f":"IF('Gas Cylinder Information'!D609=\"\",\"\",'Gas Cylinder Information'!D609)","v":""},{"$f":"IF('Gas Cylinder Information'!B609=\"\",\"\",'Gas Cylinder Information'!B609)","v":""},{"$f":"IF('Gas Cylinder Information'!E609=\"\",\"\",'Gas Cylinder Information'!E609)","v":""},{"$f":"IF('Gas Cylinder Information'!F609=\"\",\"\",'Gas Cylinder Information'!F609)","v":""},{"$f":"IF('Gas Cylinder Information'!G609=\"\",\"\",'Gas Cylinder Information'!G609)","v":""}]
[{"$f":"IF('Gas Cylinder Information'!A610=\"\",\"\",'Gas Cylinder Information'!A610)","v":""},{"$f":"IF('Gas Cylinder Information'!C610=\"\",\"\",'Gas Cylinder Information'!C610)","v":""},{"$f":"IF('Gas Cylinder Information'!D610=\"\",\"\",'Gas Cylinder Information'!D610)","v":""},{"$f":"IF('Gas Cylinder Information'!B610=\"\",\"\",'Gas Cylinder Information'!B610)","v":""},{"$f":"IF('Gas Cylinder Information'!E610=\"\",\"\",'Gas Cylinder Information'!E610)","v":""},{"$f":"IF('Gas Cylinder Information'!F610=\"\",\"\",'Gas Cylinder Information'!F610)","v":""},{"$f":"IF('Gas Cylinder Information'!G610=\"\",\"\",'Gas Cylinder Information'!G610)","v":""}]
[{"$f":"IF('Gas Cylinder Information'!A611=\"\",\"\",'Gas Cylinder Information'!A611)","v":""},{"$f":"IF('Gas Cylinder Information'!C611=\"\",\"\",'Gas Cylinder Information'!C611)","v":""},{"$f":"IF('Gas Cylinder Information'!D611=\"\",\"\",'Gas Cylinder Information'!D611)","v":""},{"$f":"IF('Gas Cylinder Information'!B611=\"\",\"\",'Gas Cylinder Information'!B611)","v":""},{"$f":"IF('Gas Cylinder Information'!E611=\"\",\"\",'Gas Cylinder Information'!E611)","v":""},{"$f":"IF('Gas Cylinder Information'!F611=\"\",\"\",'Gas Cylinder Information'!F611)","v":""},{"$f":"IF('Gas Cylinder Information'!G611=\"\",\"\",'Gas Cylinder Information'!G611)","v":""}]
[{"$f":"IF('Gas Cylinder Information'!A612=\"\",\"\",'Gas Cylinder Information'!A612)","v":""},{"$f":"IF('Gas Cylinder Information'!C612=\"\",\"\",'Gas Cylinder Information'!C612)","v":""},{"$f":"IF('Gas Cylinder Information'!D612=\"\",\"\",'Gas Cylinder Information'!D612)","v":""},{"$f":"IF('Gas Cylinder Information'!B612=\"\",\"\",'Gas Cylinder Information'!B612)","v":""},{"$f":"IF('Gas Cylinder Information'!E612=\"\",\"\",'Gas Cylinder Information'!E612)","v":""},{"$f":"IF('Gas Cylinder Information'!F612=\"\",\"\",'Gas Cylinder Information'!F612)","v":""},{"$f":"IF('Gas Cylinder Information'!G612=\"\",\"\",'Gas Cylinder Information'!G612)","v":""}]
[{"$f":"IF('Gas Cylinder Information'!A613=\"\",\"\",'Gas Cylinder Information'!A613)","v":""},{"$f":"IF('Gas Cylinder Information'!C613=\"\",\"\",'Gas Cylinder Information'!C613)","v":""},{"$f":"IF('Gas Cylinder Information'!D613=\"\",\"\",'Gas Cylinder Information'!D613)","v":""},{"$f":"IF('Gas Cylinder Information'!B613=\"\",\"\",'Gas Cylinder Information'!B613)","v":""},{"$f":"IF('Gas Cylinder Information'!E613=\"\",\"\",'Gas Cylinder Information'!E613)","v":""},{"$f":"IF('Gas Cylinder Information'!F613=\"\",\"\",'Gas Cylinder Information'!F613)","v":""},{"$f":"IF('Gas Cylinder Information'!G613=\"\",\"\",'Gas Cylinder Information'!G613)","v":""}]
[{"$f":"IF('Gas Cylinder Information'!A614=\"\",\"\",'Gas Cylinder Information'!A614)","v":""},{"$f":"IF('Gas Cylinder Information'!C614=\"\",\"\",'Gas Cylinder Information'!C614)","v":""},{"$f":"IF('Gas Cylinder Information'!D614=\"\",\"\",'Gas Cylinder Information'!D614)","v":""},{"$f":"IF('Gas Cylinder Information'!B614=\"\",\"\",'Gas Cylinder Information'!B614)","v":""},{"$f":"IF('Gas Cylinder Information'!E614=\"\",\"\",'Gas Cylinder Information'!E614)","v":""},{"$f":"IF('Gas Cylinder Information'!F614=\"\",\"\",'Gas Cylinder Information'!F614)","v":""},{"$f":"IF('Gas Cylinder Information'!G614=\"\",\"\",'Gas Cylinder Information'!G614)","v":""}]
[{"$f":"IF('Gas Cylinder Information'!A615=\"\",\"\",'Gas Cylinder Information'!A615)","v":""},{"$f":"IF('Gas Cylinder Information'!C615=\"\",\"\",'Gas Cylinder Information'!C615)","v":""},{"$f":"IF('Gas Cylinder Information'!D615=\"\",\"\",'Gas Cylinder Information'!D615)","v":""},{"$f":"IF('Gas Cylinder Information'!B615=\"\",\"\",'Gas Cylinder Information'!B615)","v":""},{"$f":"IF('Gas Cylinder Information'!E615=\"\",\"\",'Gas Cylinder Information'!E615)","v":""},{"$f":"IF('Gas Cylinder Information'!F615=\"\",\"\",'Gas Cylinder Information'!F615)","v":""},{"$f":"IF('Gas Cylinder Information'!G615=\"\",\"\",'Gas Cylinder Information'!G615)","v":""}]
[{"$f":"IF('Gas Cylinder Information'!A616=\"\",\"\",'Gas Cylinder Information'!A616)","v":""},{"$f":"IF('Gas Cylinder Information'!C616=\"\",\"\",'Gas Cylinder Information'!C616)","v":""},{"$f":"IF('Gas Cylinder Information'!D616=\"\",\"\",'Gas Cylinder Information'!D616)","v":""},{"$f":"IF('Gas Cylinder Information'!B616=\"\",\"\",'Gas Cylinder Information'!B616)","v":""},{"$f":"IF('Gas Cylinder Information'!E616=\"\",\"\",'Gas Cylinder Information'!E616)","v":""},{"$f":"IF('Gas Cylinder Information'!F616=\"\",\"\",'Gas Cylinder Information'!F616)","v":""},{"$f":"IF('Gas Cylinder Information'!G616=\"\",\"\",'Gas Cylinder Information'!G616)","v":""}]
[{"$f":"IF('Gas Cylinder Information'!A617=\"\",\"\",'Gas Cylinder Information'!A617)","v":""},{"$f":"IF('Gas Cylinder Information'!C617=\"\",\"\",'Gas Cylinder Information'!C617)","v":""},{"$f":"IF('Gas Cylinder Information'!D617=\"\",\"\",'Gas Cylinder Information'!D617)","v":""},{"$f":"IF('Gas Cylinder Information'!B617=\"\",\"\",'Gas Cylinder Information'!B617)","v":""},{"$f":"IF('Gas Cylinder Information'!E617=\"\",\"\",'Gas Cylinder Information'!E617)","v":""},{"$f":"IF('Gas Cylinder Information'!F617=\"\",\"\",'Gas Cylinder Information'!F617)","v":""},{"$f":"IF('Gas Cylinder Information'!G617=\"\",\"\",'Gas Cylinder Information'!G617)","v":""}]
[{"$f":"IF('Gas Cylinder Information'!A618=\"\",\"\",'Gas Cylinder Information'!A618)","v":""},{"$f":"IF('Gas Cylinder Information'!C618=\"\",\"\",'Gas Cylinder Information'!C618)","v":""},{"$f":"IF('Gas Cylinder Information'!D618=\"\",\"\",'Gas Cylinder Information'!D618)","v":""},{"$f":"IF('Gas Cylinder Information'!B618=\"\",\"\",'Gas Cylinder Information'!B618)","v":""},{"$f":"IF('Gas Cylinder Information'!E618=\"\",\"\",'Gas Cylinder Information'!E618)","v":""},{"$f":"IF('Gas Cylinder Information'!F618=\"\",\"\",'Gas Cylinder Information'!F618)","v":""},{"$f":"IF('Gas Cylinder Information'!G618=\"\",\"\",'Gas Cylinder Information'!G618)","v":""}]
[{"$f":"IF('Gas Cylinder Information'!A619=\"\",\"\",'Gas Cylinder Information'!A619)","v":""},{"$f":"IF('Gas Cylinder Information'!C619=\"\",\"\",'Gas Cylinder Information'!C619)","v":""},{"$f":"IF('Gas Cylinder Information'!D619=\"\",\"\",'Gas Cylinder Information'!D619)","v":""},{"$f":"IF('Gas Cylinder Information'!B619=\"\",\"\",'Gas Cylinder Information'!B619)","v":""},{"$f":"IF('Gas Cylinder Information'!E619=\"\",\"\",'Gas Cylinder Information'!E619)","v":""},{"$f":"IF('Gas Cylinder Information'!F619=\"\",\"\",'Gas Cylinder Information'!F619)","v":""},{"$f":"IF('Gas Cylinder Information'!G619=\"\",\"\",'Gas Cylinder Information'!G619)","v":""}]
[{"$f":"IF('Gas Cylinder Information'!A620=\"\",\"\",'Gas Cylinder Information'!A620)","v":""},{"$f":"IF('Gas Cylinder Information'!C620=\"\",\"\",'Gas Cylinder Information'!C620)","v":""},{"$f":"IF('Gas Cylinder Information'!D620=\"\",\"\",'Gas Cylinder Information'!D620)","v":""},{"$f":"IF('Gas Cylinder Information'!B620=\"\",\"\",'Gas Cylinder Information'!B620)","v":""},{"$f":"IF('Gas Cylinder Information'!E620=\"\",\"\",'Gas Cylinder Information'!E620)","v":""},{"$f":"IF('Gas Cylinder Information'!F620=\"\",\"\",'Gas Cylinder Information'!F620)","v":""},{"$f":"IF('Gas Cylinder Information'!G620=\"\",\"\",'Gas Cylinder Information'!G620)","v":""}]
[{"$f":"IF('Gas Cylinder Information'!A621=\"\",\"\",'Gas Cylinder Information'!A621)","v":""},{"$f":"IF('Gas Cylinder Information'!C621=\"\",\"\",'Gas Cylinder Information'!C621)","v":""},{"$f":"IF('Gas Cylinder Information'!D621=\"\",\"\",'Gas Cylinder Information'!D621)","v":""},{"$f":"IF('Gas Cylinder Information'!B621=\"\",\"\",'Gas Cylinder Information'!B621)","v":""},{"$f":"IF('Gas Cylinder Information'!E621=\"\",\"\",'Gas Cylinder Information'!E621)","v":""},{"$f":"IF('Gas Cylinder Information'!F621=\"\",\"\",'Gas Cylinder Information'!F621)","v":""},{"$f":"IF('Gas Cylinder Information'!G621=\"\",\"\",'Gas Cylinder Information'!G621)","v":""}]
[{"$f":"IF('Gas Cylinder Information'!A622=\"\",\"\",'Gas Cylinder Information'!A622)","v":""},{"$f":"IF('Gas Cylinder Information'!C622=\"\",\"\",'Gas Cylinder Information'!C622)","v":""},{"$f":"IF('Gas Cylinder Information'!D622=\"\",\"\",'Gas Cylinder Information'!D622)","v":""},{"$f":"IF('Gas Cylinder Information'!B622=\"\",\"\",'Gas Cylinder Information'!B622)","v":""},{"$f":"IF('Gas Cylinder Information'!E622=\"\",\"\",'Gas Cylinder Information'!E622)","v":""},{"$f":"IF('Gas Cylinder Information'!F622=\"\",\"\",'Gas Cylinder Information'!F622)","v":""},{"$f":"IF('Gas Cylinder Information'!G622=\"\",\"\",'Gas Cylinder Information'!G622)","v":""}]
[{"$f":"IF('Gas Cylinder Information'!A623=\"\",\"\",'Gas Cylinder Information'!A623)","v":""},{"$f":"IF('Gas Cylinder Information'!C623=\"\",\"\",'Gas Cylinder Information'!C623)","v":""},{"$f":"IF('Gas Cylinder Information'!D623=\"\",\"\",'Gas Cylinder Information'!D623)","v":""},{"$f":"IF('Gas Cylinder Information'!B623=\"\",\"\",'Gas Cylinder Information'!B623)","v":""},{"$f":"IF('Gas Cylinder Information'!E623=\"\",\"\",'Gas Cylinder Information'!E623)","v":""},{"$f":"IF('Gas Cylinder Information'!F623=\"\",\"\",'Gas Cylinder Information'!F623)","v":""},{"$f":"IF('Gas Cylinder Information'!G623=\"\",\"\",'Gas Cylinder Information'!G623)","v":""}]
[{"$f":"IF('Gas Cylinder Information'!A624=\"\",\"\",'Gas Cylinder Information'!A624)","v":""},{"$f":"IF('Gas Cylinder Information'!C624=\"\",\"\",'Gas Cylinder Information'!C624)","v":""},{"$f":"IF('Gas Cylinder Information'!D624=\"\",\"\",'Gas Cylinder Information'!D624)","v":""},{"$f":"IF('Gas Cylinder Information'!B624=\"\",\"\",'Gas Cylinder Information'!B624)","v":""},{"$f":"IF('Gas Cylinder Information'!E624=\"\",\"\",'Gas Cylinder Information'!E624)","v":""},{"$f":"IF('Gas Cylinder Information'!F624=\"\",\"\",'Gas Cylinder Information'!F624)","v":""},{"$f":"IF('Gas Cylinder Information'!G624=\"\",\"\",'Gas Cylinder Information'!G624)","v":""}]
[{"$f":"IF('Gas Cylinder Information'!A625=\"\",\"\",'Gas Cylinder Information'!A625)","v":""},{"$f":"IF('Gas Cylinder Information'!C625=\"\",\"\",'Gas Cylinder Information'!C625)","v":""},{"$f":"IF('Gas Cylinder Information'!D625=\"\",\"\",'Gas Cylinder Information'!D625)","v":""},{"$f":"IF('Gas Cylinder Information'!B625=\"\",\"\",'Gas Cylinder Information'!B625)","v":""},{"$f":"IF('Gas Cylinder Information'!E625=\"\",\"\",'Gas Cylinder Information'!E625)","v":""},{"$f":"IF('Gas Cylinder Information'!F625=\"\",\"\",'Gas Cylinder Information'!F625)","v":""},{"$f":"IF('Gas Cylinder Information'!G625=\"\",\"\",'Gas Cylinder Information'!G625)","v":""}]
[{"$f":"IF('Gas Cylinder Information'!A626=\"\",\"\",'Gas Cylinder Information'!A626)","v":""},{"$f":"IF('Gas Cylinder Information'!C626=\"\",\"\",'Gas Cylinder Information'!C626)","v":""},{"$f":"IF('Gas Cylinder Information'!D626=\"\",\"\",'Gas Cylinder Information'!D626)","v":""},{"$f":"IF('Gas Cylinder Information'!B626=\"\",\"\",'Gas Cylinder Information'!B626)","v":""},{"$f":"IF('Gas Cylinder Information'!E626=\"\",\"\",'Gas Cylinder Information'!E626)","v":""},{"$f":"IF('Gas Cylinder Information'!F626=\"\",\"\",'Gas Cylinder Information'!F626)","v":""},{"$f":"IF('Gas Cylinder Information'!G626=\"\",\"\",'Gas Cylinder Information'!G626)","v":""}]
[{"$f":"IF('Gas Cylinder Information'!A627=\"\",\"\",'Gas Cylinder Information'!A627)","v":""},{"$f":"IF('Gas Cylinder Information'!C627=\"\",\"\",'Gas Cylinder Information'!C627)","v":""},{"$f":"IF('Gas Cylinder Information'!D627=\"\",\"\",'Gas Cylinder Information'!D627)","v":""},{"$f":"IF('Gas Cylinder Information'!B627=\"\",\"\",'Gas Cylinder Information'!B627)","v":""},{"$f":"IF('Gas Cylinder Information'!E627=\"\",\"\",'Gas Cylinder Information'!E627)","v":""},{"$f":"IF('Gas Cylinder Information'!F627=\"\",\"\",'Gas Cylinder Information'!F627)","v":""},{"$f":"IF('Gas Cylinder Information'!G627=\"\",\"\",'Gas Cylinder Information'!G627)","v":""}]
[{"$f":"IF('Gas Cylinder Information'!A628=\"\",\"\",'Gas Cylinder Information'!A628)","v":""},{"$f":"IF('Gas Cylinder Information'!C628=\"\",\"\",'Gas Cylinder Information'!C628)","v":""},{"$f":"IF('Gas Cylinder Information'!D628=\"\",\"\",'Gas Cylinder Information'!D628)","v":""},{"$f":"IF('Gas Cylinder Information'!B628=\"\",\"\",'Gas Cylinder Information'!B628)","v":""},{"$f":"IF('Gas Cylinder Information'!E628=\"\",\"\",'Gas Cylinder Information'!E628)","v":""},{"$f":"IF('Gas Cylinder Information'!F628=\"\",\"\",'Gas Cylinder Information'!F628)","v":""},{"$f":"IF('Gas Cylinder Information'!G628=\"\",\"\",'Gas Cylinder Information'!G628)","v":""}]
[{"$f":"IF('Gas Cylinder Information'!A629=\"\",\"\",'Gas Cylinder Information'!A629)","v":""},{"$f":"IF('Gas Cylinder Information'!C629=\"\",\"\",'Gas Cylinder Information'!C629)","v":""},{"$f":"IF('Gas Cylinder Information'!D629=\"\",\"\",'Gas Cylinder Information'!D629)","v":""},{"$f":"IF('Gas Cylinder Information'!B629=\"\",\"\",'Gas Cylinder Information'!B629)","v":""},{"$f":"IF('Gas Cylinder Information'!E629=\"\",\"\",'Gas Cylinder Information'!E629)","v":""},{"$f":"IF('Gas Cylinder Information'!F629=\"\",\"\",'Gas Cylinder Information'!F629)","v":""},{"$f":"IF('Gas Cylinder Information'!G629=\"\",\"\",'Gas Cylinder Information'!G629)","v":""}]
[{"$f":"IF('Gas Cylinder Information'!A630=\"\",\"\",'Gas Cylinder Information'!A630)","v":""},{"$f":"IF('Gas Cylinder Information'!C630=\"\",\"\",'Gas Cylinder Information'!C630)","v":""},{"$f":"IF('Gas Cylinder Information'!D630=\"\",\"\",'Gas Cylinder Information'!D630)","v":""},{"$f":"IF('Gas Cylinder Information'!B630=\"\",\"\",'Gas Cylinder Information'!B630)","v":""},{"$f":"IF('Gas Cylinder Information'!E630=\"\",\"\",'Gas Cylinder Information'!E630)","v":""},{"$f":"IF('Gas Cylinder Information'!F630=\"\",\"\",'Gas Cylinder Information'!F630)","v":""},{"$f":"IF('Gas Cylinder Information'!G630=\"\",\"\",'Gas Cylinder Information'!G630)","v":""}]
[{"$f":"IF('Gas Cylinder Information'!A631=\"\",\"\",'Gas Cylinder Information'!A631)","v":""},{"$f":"IF('Gas Cylinder Information'!C631=\"\",\"\",'Gas Cylinder Information'!C631)","v":""},{"$f":"IF('Gas Cylinder Information'!D631=\"\",\"\",'Gas Cylinder Information'!D631)","v":""},{"$f":"IF('Gas Cylinder Information'!B631=\"\",\"\",'Gas Cylinder Information'!B631)","v":""},{"$f":"IF('Gas Cylinder Information'!E631=\"\",\"\",'Gas Cylinder Information'!E631)","v":""},{"$f":"IF('Gas Cylinder Information'!F631=\"\",\"\",'Gas Cylinder Information'!F631)","v":""},{"$f":"IF('Gas Cylinder Information'!G631=\"\",\"\",'Gas Cylinder Information'!G631)","v":""}]
[{"$f":"IF('Gas Cylinder Information'!A632=\"\",\"\",'Gas Cylinder Information'!A632)","v":""},{"$f":"IF('Gas Cylinder Information'!C632=\"\",\"\",'Gas Cylinder Information'!C632)","v":""},{"$f":"IF('Gas Cylinder Information'!D632=\"\",\"\",'Gas Cylinder Information'!D632)","v":""},{"$f":"IF('Gas Cylinder Information'!B632=\"\",\"\",'Gas Cylinder Information'!B632)","v":""},{"$f":"IF('Gas Cylinder Information'!E632=\"\",\"\",'Gas Cylinder Information'!E632)","v":""},{"$f":"IF('Gas Cylinder Information'!F632=\"\",\"\",'Gas Cylinder Information'!F632)","v":""},{"$f":"IF('Gas Cylinder Information'!G632=\"\",\"\",'Gas Cylinder Information'!G632)","v":""}]
[{"$f":"IF('Gas Cylinder Information'!A633=\"\",\"\",'Gas Cylinder Information'!A633)","v":""},{"$f":"IF('Gas Cylinder Information'!C633=\"\",\"\",'Gas Cylinder Information'!C633)","v":""},{"$f":"IF('Gas Cylinder Information'!D633=\"\",\"\",'Gas Cylinder Information'!D633)","v":""},{"$f":"IF('Gas Cylinder Information'!B633=\"\",\"\",'Gas Cylinder Information'!B633)","v":""},{"$f":"IF('Gas Cylinder Information'!E633=\"\",\"\",'Gas Cylinder Information'!E633)","v":""},{"$f":"IF('Gas Cylinder Information'!F633=\"\",\"\",'Gas Cylinder Information'!F633)","v":""},{"$f":"IF('Gas Cylinder Information'!G633=\"\",\"\",'Gas Cylinder Information'!G633)","v":""}]
[{"$f":"IF('Gas Cylinder Information'!A634=\"\",\"\",'Gas Cylinder Information'!A634)","v":""},{"$f":"IF('Gas Cylinder Information'!C634=\"\",\"\",'Gas Cylinder Information'!C634)","v":""},{"$f":"IF('Gas Cylinder Information'!D634=\"\",\"\",'Gas Cylinder Information'!D634)","v":""},{"$f":"IF('Gas Cylinder Information'!B634=\"\",\"\",'Gas Cylinder Information'!B634)","v":""},{"$f":"IF('Gas Cylinder Information'!E634=\"\",\"\",'Gas Cylinder Information'!E634)","v":""},{"$f":"IF('Gas Cylinder Information'!F634=\"\",\"\",'Gas Cylinder Information'!F634)","v":""},{"$f":"IF('Gas Cylinder Information'!G634=\"\",\"\",'Gas Cylinder Information'!G634)","v":""}]
[{"$f":"IF('Gas Cylinder Information'!A635=\"\",\"\",'Gas Cylinder Information'!A635)","v":""},{"$f":"IF('Gas Cylinder Information'!C635=\"\",\"\",'Gas Cylinder Information'!C635)","v":""},{"$f":"IF('Gas Cylinder Information'!D635=\"\",\"\",'Gas Cylinder Information'!D635)","v":""},{"$f":"IF('Gas Cylinder Information'!B635=\"\",\"\",'Gas Cylinder Information'!B635)","v":""},{"$f":"IF('Gas Cylinder Information'!E635=\"\",\"\",'Gas Cylinder Information'!E635)","v":""},{"$f":"IF('Gas Cylinder Information'!F635=\"\",\"\",'Gas Cylinder Information'!F635)","v":""},{"$f":"IF('Gas Cylinder Information'!G635=\"\",\"\",'Gas Cylinder Information'!G635)","v":""}]
[{"$f":"IF('Gas Cylinder Information'!A636=\"\",\"\",'Gas Cylinder Information'!A636)","v":""},{"$f":"IF('Gas Cylinder Information'!C636=\"\",\"\",'Gas Cylinder Information'!C636)","v":""},{"$f":"IF('Gas Cylinder Information'!D636=\"\",\"\",'Gas Cylinder Information'!D636)","v":""},{"$f":"IF('Gas Cylinder Information'!B636=\"\",\"\",'Gas Cylinder Information'!B636)","v":""},{"$f":"IF('Gas Cylinder Information'!E636=\"\",\"\",'Gas Cylinder Information'!E636)","v":""},{"$f":"IF('Gas Cylinder Information'!F636=\"\",\"\",'Gas Cylinder Information'!F636)","v":""},{"$f":"IF('Gas Cylinder Information'!G636=\"\",\"\",'Gas Cylinder Information'!G636)","v":""}]
[{"$f":"IF('Gas Cylinder Information'!A637=\"\",\"\",'Gas Cylinder Information'!A637)","v":""},{"$f":"IF('Gas Cylinder Information'!C637=\"\",\"\",'Gas Cylinder Information'!C637)","v":""},{"$f":"IF('Gas Cylinder Information'!D637=\"\",\"\",'Gas Cylinder Information'!D637)","v":""},{"$f":"IF('Gas Cylinder Information'!B637=\"\",\"\",'Gas Cylinder Information'!B637)","v":""},{"$f":"IF('Gas Cylinder Information'!E637=\"\",\"\",'Gas Cylinder Information'!E637)","v":""},{"$f":"IF('Gas Cylinder Information'!F637=\"\",\"\",'Gas Cylinder Information'!F637)","v":""},{"$f":"IF('Gas Cylinder Information'!G637=\"\",\"\",'Gas Cylinder Information'!G637)","v":""}]
[{"$f":"IF('Gas Cylinder Information'!A638=\"\",\"\",'Gas Cylinder Information'!A638)","v":""},{"$f":"IF('Gas Cylinder Information'!C638=\"\",\"\",'Gas Cylinder Information'!C638)","v":""},{"$f":"IF('Gas Cylinder Information'!D638=\"\",\"\",'Gas Cylinder Information'!D638)","v":""},{"$f":"IF('Gas Cylinder Information'!B638=\"\",\"\",'Gas Cylinder Information'!B638)","v":""},{"$f":"IF('Gas Cylinder Information'!E638=\"\",\"\",'Gas Cylinder Information'!E638)","v":""},{"$f":"IF('Gas Cylinder Information'!F638=\"\",\"\",'Gas Cylinder Information'!F638)","v":""},{"$f":"IF('Gas Cylinder Information'!G638=\"\",\"\",'Gas Cylinder Information'!G638)","v":""}]
[{"$f":"IF('Gas Cylinder Information'!A639=\"\",\"\",'Gas Cylinder Information'!A639)","v":""},{"$f":"IF('Gas Cylinder Information'!C639=\"\",\"\",'Gas Cylinder Information'!C639)","v":""},{"$f":"IF('Gas Cylinder Information'!D639=\"\",\"\",'Gas Cylinder Information'!D639)","v":""},{"$f":"IF('Gas Cylinder Information'!B639=\"\",\"\",'Gas Cylinder Information'!B639)","v":""},{"$f":"IF('Gas Cylinder Information'!E639=\"\",\"\",'Gas Cylinder Information'!E639)","v":""},{"$f":"IF('Gas Cylinder Information'!F639=\"\",\"\",'Gas Cylinder Information'!F639)","v":""},{"$f":"IF('Gas Cylinder Information'!G639=\"\",\"\",'Gas Cylinder Information'!G639)","v":""}]
[{"$f":"IF('Gas Cylinder Information'!A640=\"\",\"\",'Gas Cylinder Information'!A640)","v":""},{"$f":"IF('Gas Cylinder Information'!C640=\"\",\"\",'Gas Cylinder Information'!C640)","v":""},{"$f":"IF('Gas Cylinder Information'!D640=\"\",\"\",'Gas Cylinder Information'!D640)","v":""},{"$f":"IF('Gas Cylinder Information'!B640=\"\",\"\",'Gas Cylinder Information'!B640)","v":""},{"$f":"IF('Gas Cylinder Information'!E640=\"\",\"\",'Gas Cylinder Information'!E640)","v":""},{"$f":"IF('Gas Cylinder Information'!F640=\"\",\"\",'Gas Cylinder Information'!F640)","v":""},{"$f":"IF('Gas Cylinder Information'!G640=\"\",\"\",'Gas Cylinder Information'!G640)","v":""}]
[{"$f":"IF('Gas Cylinder Information'!A641=\"\",\"\",'Gas Cylinder Information'!A641)","v":""},{"$f":"IF('Gas Cylinder Information'!C641=\"\",\"\",'Gas Cylinder Information'!C641)","v":""},{"$f":"IF('Gas Cylinder Information'!D641=\"\",\"\",'Gas Cylinder Information'!D641)","v":""},{"$f":"IF('Gas Cylinder Information'!B641=\"\",\"\",'Gas Cylinder Information'!B641)","v":""},{"$f":"IF('Gas Cylinder Information'!E641=\"\",\"\",'Gas Cylinder Information'!E641)","v":""},{"$f":"IF('Gas Cylinder Information'!F641=\"\",\"\",'Gas Cylinder Information'!F641)","v":""},{"$f":"IF('Gas Cylinder Information'!G641=\"\",\"\",'Gas Cylinder Information'!G641)","v":""}]
[{"$f":"IF('Gas Cylinder Information'!A642=\"\",\"\",'Gas Cylinder Information'!A642)","v":""},{"$f":"IF('Gas Cylinder Information'!C642=\"\",\"\",'Gas Cylinder Information'!C642)","v":""},{"$f":"IF('Gas Cylinder Information'!D642=\"\",\"\",'Gas Cylinder Information'!D642)","v":""},{"$f":"IF('Gas Cylinder Information'!B642=\"\",\"\",'Gas Cylinder Information'!B642)","v":""},{"$f":"IF('Gas Cylinder Information'!E642=\"\",\"\",'Gas Cylinder Information'!E642)","v":""},{"$f":"IF('Gas Cylinder Information'!F642=\"\",\"\",'Gas Cylinder Information'!F642)","v":""},{"$f":"IF('Gas Cylinder Information'!G642=\"\",\"\",'Gas Cylinder Information'!G642)","v":""}]
[{"$f":"IF('Gas Cylinder Information'!A643=\"\",\"\",'Gas Cylinder Information'!A643)","v":""},{"$f":"IF('Gas Cylinder Information'!C643=\"\",\"\",'Gas Cylinder Information'!C643)","v":""},{"$f":"IF('Gas Cylinder Information'!D643=\"\",\"\",'Gas Cylinder Information'!D643)","v":""},{"$f":"IF('Gas Cylinder Information'!B643=\"\",\"\",'Gas Cylinder Information'!B643)","v":""},{"$f":"IF('Gas Cylinder Information'!E643=\"\",\"\",'Gas Cylinder Information'!E643)","v":""},{"$f":"IF('Gas Cylinder Information'!F643=\"\",\"\",'Gas Cylinder Information'!F643)","v":""},{"$f":"IF('Gas Cylinder Information'!G643=\"\",\"\",'Gas Cylinder Information'!G643)","v":""}]
[{"$f":"IF('Gas Cylinder Information'!A644=\"\",\"\",'Gas Cylinder Information'!A644)","v":""},{"$f":"IF('Gas Cylinder Information'!C644=\"\",\"\",'Gas Cylinder Information'!C644)","v":""},{"$f":"IF('Gas Cylinder Information'!D644=\"\",\"\",'Gas Cylinder Information'!D644)","v":""},{"$f":"IF('Gas Cylinder Information'!B644=\"\",\"\",'Gas Cylinder Information'!B644)","v":""},{"$f":"IF('Gas Cylinder Information'!E644=\"\",\"\",'Gas Cylinder Information'!E644)","v":""},{"$f":"IF('Gas Cylinder Information'!F644=\"\",\"\",'Gas Cylinder Information'!F644)","v":""},{"$f":"IF('Gas Cylinder Information'!G644=\"\",\"\",'Gas Cylinder Information'!G644)","v":""}]
[{"$f":"IF('Gas Cylinder Information'!A645=\"\",\"\",'Gas Cylinder Information'!A645)","v":""},{"$f":"IF('Gas Cylinder Information'!C645=\"\",\"\",'Gas Cylinder Information'!C645)","v":""},{"$f":"IF('Gas Cylinder Information'!D645=\"\",\"\",'Gas Cylinder Information'!D645)","v":""},{"$f":"IF('Gas Cylinder Information'!B645=\"\",\"\",'Gas Cylinder Information'!B645)","v":""},{"$f":"IF('Gas Cylinder Information'!E645=\"\",\"\",'Gas Cylinder Information'!E645)","v":""},{"$f":"IF('Gas Cylinder Information'!F645=\"\",\"\",'Gas Cylinder Information'!F645)","v":""},{"$f":"IF('Gas Cylinder Information'!G645=\"\",\"\",'Gas Cylinder Information'!G645)","v":""}]
[{"$f":"IF('Gas Cylinder Information'!A646=\"\",\"\",'Gas Cylinder Information'!A646)","v":""},{"$f":"IF('Gas Cylinder Information'!C646=\"\",\"\",'Gas Cylinder Information'!C646)","v":""},{"$f":"IF('Gas Cylinder Information'!D646=\"\",\"\",'Gas Cylinder Information'!D646)","v":""},{"$f":"IF('Gas Cylinder Information'!B646=\"\",\"\",'Gas Cylinder Information'!B646)","v":""},{"$f":"IF('Gas Cylinder Information'!E646=\"\",\"\",'Gas Cylinder Information'!E646)","v":""},{"$f":"IF('Gas Cylinder Information'!F646=\"\",\"\",'Gas Cylinder Information'!F646)","v":""},{"$f":"IF('Gas Cylinder Information'!G646=\"\",\"\",'Gas Cylinder Information'!G646)","v":""}]
[{"$f":"IF('Gas Cylinder Information'!A647=\"\",\"\",'Gas Cylinder Information'!A647)","v":""},{"$f":"IF('Gas Cylinder Information'!C647=\"\",\"\",'Gas Cylinder Information'!C647)","v":""},{"$f":"IF('Gas Cylinder Information'!D647=\"\",\"\",'Gas Cylinder Information'!D647)","v":""},{"$f":"IF('Gas Cylinder Information'!B647=\"\",\"\",'Gas Cylinder Information'!B647)","v":""},{"$f":"IF('Gas Cylinder Information'!E647=\"\",\"\",'Gas Cylinder Information'!E647)","v":""},{"$f":"IF('Gas Cylinder Information'!F647=\"\",\"\",'Gas Cylinder Information'!F647)","v":""},{"$f":"IF('Gas Cylinder Information'!G647=\"\",\"\",'Gas Cylinder Information'!G647)","v":""}]
[{"$f":"IF('Gas Cylinder Information'!A648=\"\",\"\",'Gas Cylinder Information'!A648)","v":""},{"$f":"IF('Gas Cylinder Information'!C648=\"\",\"\",'Gas Cylinder Information'!C648)","v":""},{"$f":"IF('Gas Cylinder Information'!D648=\"\",\"\",'Gas Cylinder Information'!D648)","v":""},{"$f":"IF('Gas Cylinder Information'!B648=\"\",\"\",'Gas Cylinder Information'!B648)","v":""},{"$f":"IF('Gas Cylinder Information'!E648=\"\",\"\",'Gas Cylinder Information'!E648)","v":""},{"$f":"IF('Gas Cylinder Information'!F648=\"\",\"\",'Gas Cylinder Information'!F648)","v":""},{"$f":"IF('Gas Cylinder Information'!G648=\"\",\"\",'Gas Cylinder Information'!G648)","v":""}]
[{"$f":"IF('Gas Cylinder Information'!A649=\"\",\"\",'Gas Cylinder Information'!A649)","v":""},{"$f":"IF('Gas Cylinder Information'!C649=\"\",\"\",'Gas Cylinder Information'!C649)","v":""},{"$f":"IF('Gas Cylinder Information'!D649=\"\",\"\",'Gas Cylinder Information'!D649)","v":""},{"$f":"IF('Gas Cylinder Information'!B649=\"\",\"\",'Gas Cylinder Information'!B649)","v":""},{"$f":"IF('Gas Cylinder Information'!E649=\"\",\"\",'Gas Cylinder Information'!E649)","v":""},{"$f":"IF('Gas Cylinder Information'!F649=\"\",\"\",'Gas Cylinder Information'!F649)","v":""},{"$f":"IF('Gas Cylinder Information'!G649=\"\",\"\",'Gas Cylinder Information'!G649)","v":""}]
[{"$f":"IF('Gas Cylinder Information'!A650=\"\",\"\",'Gas Cylinder Information'!A650)","v":""},{"$f":"IF('Gas Cylinder Information'!C650=\"\",\"\",'Gas Cylinder Information'!C650)","v":""},{"$f":"IF('Gas Cylinder Information'!D650=\"\",\"\",'Gas Cylinder Information'!D650)","v":""},{"$f":"IF('Gas Cylinder Information'!B650=\"\",\"\",'Gas Cylinder Information'!B650)","v":""},{"$f":"IF('Gas Cylinder Information'!E650=\"\",\"\",'Gas Cylinder Information'!E650)","v":""},{"$f":"IF('Gas Cylinder Information'!F650=\"\",\"\",'Gas Cylinder Information'!F650)","v":""},{"$f":"IF('Gas Cylinder Information'!G650=\"\",\"\",'Gas Cylinder Information'!G650)","v":""}]
[{"$f":"IF('Gas Cylinder Information'!A651=\"\",\"\",'Gas Cylinder Information'!A651)","v":""},{"$f":"IF('Gas Cylinder Information'!C651=\"\",\"\",'Gas Cylinder Information'!C651)","v":""},{"$f":"IF('Gas Cylinder Information'!D651=\"\",\"\",'Gas Cylinder Information'!D651)","v":""},{"$f":"IF('Gas Cylinder Information'!B651=\"\",\"\",'Gas Cylinder Information'!B651)","v":""},{"$f":"IF('Gas Cylinder Information'!E651=\"\",\"\",'Gas Cylinder Information'!E651)","v":""},{"$f":"IF('Gas Cylinder Information'!F651=\"\",\"\",'Gas Cylinder Information'!F651)","v":""},{"$f":"IF('Gas Cylinder Information'!G651=\"\",\"\",'Gas Cylinder Information'!G651)","v":""}]
[{"$f":"IF('Gas Cylinder Information'!A652=\"\",\"\",'Gas Cylinder Information'!A652)","v":""},{"$f":"IF('Gas Cylinder Information'!C652=\"\",\"\",'Gas Cylinder Information'!C652)","v":""},{"$f":"IF('Gas Cylinder Information'!D652=\"\",\"\",'Gas Cylinder Information'!D652)","v":""},{"$f":"IF('Gas Cylinder Information'!B652=\"\",\"\",'Gas Cylinder Information'!B652)","v":""},{"$f":"IF('Gas Cylinder Information'!E652=\"\",\"\",'Gas Cylinder Information'!E652)","v":""},{"$f":"IF('Gas Cylinder Information'!F652=\"\",\"\",'Gas Cylinder Information'!F652)","v":""},{"$f":"IF('Gas Cylinder Information'!G652=\"\",\"\",'Gas Cylinder Information'!G652)","v":""}]
[{"$f":"IF('Gas Cylinder Information'!A653=\"\",\"\",'Gas Cylinder Information'!A653)","v":""},{"$f":"IF('Gas Cylinder Information'!C653=\"\",\"\",'Gas Cylinder Information'!C653)","v":""},{"$f":"IF('Gas Cylinder Information'!D653=\"\",\"\",'Gas Cylinder Information'!D653)","v":""},{"$f":"IF('Gas Cylinder Information'!B653=\"\",\"\",'Gas Cylinder Information'!B653)","v":""},{"$f":"IF('Gas Cylinder Information'!E653=\"\",\"\",'Gas Cylinder Information'!E653)","v":""},{"$f":"IF('Gas Cylinder Information'!F653=\"\",\"\",'Gas Cylinder Information'!F653)","v":""},{"$f":"IF('Gas Cylinder Information'!G653=\"\",\"\",'Gas Cylinder Information'!G653)","v":""}]
[{"$f":"IF('Gas Cylinder Information'!A654=\"\",\"\",'Gas Cylinder Information'!A654)","v":""},{"$f":"IF('Gas Cylinder Information'!C654=\"\",\"\",'Gas Cylinder Information'!C654)","v":""},{"$f":"IF('Gas Cylinder Information'!D654=\"\",\"\",'Gas Cylinder Information'!D654)","v":""},{"$f":"IF('Gas Cylinder Information'!B654=\"\",\"\",'Gas Cylinder Information'!B654)","v":""},{"$f":"IF('Gas Cylinder Information'!E654=\"\",\"\",'Gas Cylinder Information'!E654)","v":""},{"$f":"IF('Gas Cylinder Information'!F654=\"\",\"\",'Gas Cylinder Information'!F654)","v":""},{"$f":"IF('Gas Cylinder Information'!G654=\"\",\"\",'Gas Cylinder Information'!G654)","v":""}]
[{"$f":"IF('Gas Cylinder Information'!A655=\"\",\"\",'Gas Cylinder Information'!A655)","v":""},{"$f":"IF('Gas Cylinder Information'!C655=\"\",\"\",'Gas Cylinder Information'!C655)","v":""},{"$f":"IF('Gas Cylinder Information'!D655=\"\",\"\",'Gas Cylinder Information'!D655)","v":""},{"$f":"IF('Gas Cylinder Information'!B655=\"\",\"\",'Gas Cylinder Information'!B655)","v":""},{"$f":"IF('Gas Cylinder Information'!E655=\"\",\"\",'Gas Cylinder Information'!E655)","v":""},{"$f":"IF('Gas Cylinder Information'!F655=\"\",\"\",'Gas Cylinder Information'!F655)","v":""},{"$f":"IF('Gas Cylinder Information'!G655=\"\",\"\",'Gas Cylinder Information'!G655)","v":""}]
[{"$f":"IF('Gas Cylinder Information'!A656=\"\",\"\",'Gas Cylinder Information'!A656)","v":""},{"$f":"IF('Gas Cylinder Information'!C656=\"\",\"\",'Gas Cylinder Information'!C656)","v":""},{"$f":"IF('Gas Cylinder Information'!D656=\"\",\"\",'Gas Cylinder Information'!D656)","v":""},{"$f":"IF('Gas Cylinder Information'!B656=\"\",\"\",'Gas Cylinder Information'!B656)","v":""},{"$f":"IF('Gas Cylinder Information'!E656=\"\",\"\",'Gas Cylinder Information'!E656)","v":""},{"$f":"IF('Gas Cylinder Information'!F656=\"\",\"\",'Gas Cylinder Information'!F656)","v":""},{"$f":"IF('Gas Cylinder Information'!G656=\"\",\"\",'Gas Cylinder Information'!G656)","v":""}]
[{"$f":"IF('Gas Cylinder Information'!A657=\"\",\"\",'Gas Cylinder Information'!A657)","v":""},{"$f":"IF('Gas Cylinder Information'!C657=\"\",\"\",'Gas Cylinder Information'!C657)","v":""},{"$f":"IF('Gas Cylinder Information'!D657=\"\",\"\",'Gas Cylinder Information'!D657)","v":""},{"$f":"IF('Gas Cylinder Information'!B657=\"\",\"\",'Gas Cylinder Information'!B657)","v":""},{"$f":"IF('Gas Cylinder Information'!E657=\"\",\"\",'Gas Cylinder Information'!E657)","v":""},{"$f":"IF('Gas Cylinder Information'!F657=\"\",\"\",'Gas Cylinder Information'!F657)","v":""},{"$f":"IF('Gas Cylinder Information'!G657=\"\",\"\",'Gas Cylinder Information'!G657)","v":""}]
[{"$f":"IF('Gas Cylinder Information'!A658=\"\",\"\",'Gas Cylinder Information'!A658)","v":""},{"$f":"IF('Gas Cylinder Information'!C658=\"\",\"\",'Gas Cylinder Information'!C658)","v":""},{"$f":"IF('Gas Cylinder Information'!D658=\"\",\"\",'Gas Cylinder Information'!D658)","v":""},{"$f":"IF('Gas Cylinder Information'!B658=\"\",\"\",'Gas Cylinder Information'!B658)","v":""},{"$f":"IF('Gas Cylinder Information'!E658=\"\",\"\",'Gas Cylinder Information'!E658)","v":""},{"$f":"IF('Gas Cylinder Information'!F658=\"\",\"\",'Gas Cylinder Information'!F658)","v":""},{"$f":"IF('Gas Cylinder Information'!G658=\"\",\"\",'Gas Cylinder Information'!G658)","v":""}]
[{"$f":"IF('Gas Cylinder Information'!A659=\"\",\"\",'Gas Cylinder Information'!A659)","v":""},{"$f":"IF('Gas Cylinder Information'!C659=\"\",\"\",'Gas Cylinder Information'!C659)","v":""},{"$f":"IF('Gas Cylinder Information'!D659=\"\",\"\",'Gas Cylinder Information'!D659)","v":""},{"$f":"IF('Gas Cylinder Information'!B659=\"\",\"\",'Gas Cylinder Information'!B659)","v":""},{"$f":"IF('Gas Cylinder Information'!E659=\"\",\"\",'Gas Cylinder Information'!E659)","v":""},{"$f":"IF('Gas Cylinder Information'!F659=\"\",\"\",'Gas Cylinder Information'!F659)","v":""},{"$f":"IF('Gas Cylinder Information'!G659=\"\",\"\",'Gas Cylinder Information'!G659)","v":""}]
[{"$f":"IF('Gas Cylinder Information'!A660=\"\",\"\",'Gas Cylinder Information'!A660)","v":""},{"$f":"IF('Gas Cylinder Information'!C660=\"\",\"\",'Gas Cylinder Information'!C660)","v":""},{"$f":"IF('Gas Cylinder Information'!D660=\"\",\"\",'Gas Cylinder Information'!D660)","v":""},{"$f":"IF('Gas Cylinder Information'!B660=\"\",\"\",'Gas Cylinder Information'!B660)","v":""},{"$f":"IF('Gas Cylinder Information'!E660=\"\",\"\",'Gas Cylinder Information'!E660)","v":""},{"$f":"IF('Gas Cylinder Information'!F660=\"\",\"\",'Gas Cylinder Information'!F660)","v":""},{"$f":"IF('Gas Cylinder Information'!G660=\"\",\"\",'Gas Cylinder Information'!G660)","v":""}]
[{"$f":"IF('Gas Cylinder Information'!A661=\"\",\"\",'Gas Cylinder Information'!A661)","v":""},{"$f":"IF('Gas Cylinder Information'!C661=\"\",\"\",'Gas Cylinder Information'!C661)","v":""},{"$f":"IF('Gas Cylinder Information'!D661=\"\",\"\",'Gas Cylinder Information'!D661)","v":""},{"$f":"IF('Gas Cylinder Information'!B661=\"\",\"\",'Gas Cylinder Information'!B661)","v":""},{"$f":"IF('Gas Cylinder Information'!E661=\"\",\"\",'Gas Cylinder Information'!E661)","v":""},{"$f":"IF('Gas Cylinder Information'!F661=\"\",\"\",'Gas Cylinder Information'!F661)","v":""},{"$f":"IF('Gas Cylinder Information'!G661=\"\",\"\",'Gas Cylinder Information'!G661)","v":""}]
[{"$f":"IF('Gas Cylinder Information'!A662=\"\",\"\",'Gas Cylinder Information'!A662)","v":""},{"$f":"IF('Gas Cylinder Information'!C662=\"\",\"\",'Gas Cylinder Information'!C662)","v":""},{"$f":"IF('Gas Cylinder Information'!D662=\"\",\"\",'Gas Cylinder Information'!D662)","v":""},{"$f":"IF('Gas Cylinder Information'!B662=\"\",\"\",'Gas Cylinder Information'!B662)","v":""},{"$f":"IF('Gas Cylinder Information'!E662=\"\",\"\",'Gas Cylinder Information'!E662)","v":""},{"$f":"IF('Gas Cylinder Information'!F662=\"\",\"\",'Gas Cylinder Information'!F662)","v":""},{"$f":"IF('Gas Cylinder Information'!G662=\"\",\"\",'Gas Cylinder Information'!G662)","v":""}]
[{"$f":"IF('Gas Cylinder Information'!A663=\"\",\"\",'Gas Cylinder Information'!A663)","v":""},{"$f":"IF('Gas Cylinder Information'!C663=\"\",\"\",'Gas Cylinder Information'!C663)","v":""},{"$f":"IF('Gas Cylinder Information'!D663=\"\",\"\",'Gas Cylinder Information'!D663)","v":""},{"$f":"IF('Gas Cylinder Information'!B663=\"\",\"\",'Gas Cylinder Information'!B663)","v":""},{"$f":"IF('Gas Cylinder Information'!E663=\"\",\"\",'Gas Cylinder Information'!E663)","v":""},{"$f":"IF('Gas Cylinder Information'!F663=\"\",\"\",'Gas Cylinder Information'!F663)","v":""},{"$f":"IF('Gas Cylinder Information'!G663=\"\",\"\",'Gas Cylinder Information'!G663)","v":""}]
[{"$f":"IF('Gas Cylinder Information'!A664=\"\",\"\",'Gas Cylinder Information'!A664)","v":""},{"$f":"IF('Gas Cylinder Information'!C664=\"\",\"\",'Gas Cylinder Information'!C664)","v":""},{"$f":"IF('Gas Cylinder Information'!D664=\"\",\"\",'Gas Cylinder Information'!D664)","v":""},{"$f":"IF('Gas Cylinder Information'!B664=\"\",\"\",'Gas Cylinder Information'!B664)","v":""},{"$f":"IF('Gas Cylinder Information'!E664=\"\",\"\",'Gas Cylinder Information'!E664)","v":""},{"$f":"IF('Gas Cylinder Information'!F664=\"\",\"\",'Gas Cylinder Information'!F664)","v":""},{"$f":"IF('Gas Cylinder Information'!G664=\"\",\"\",'Gas Cylinder Information'!G664)","v":""}]
[{"$f":"IF('Gas Cylinder Information'!A665=\"\",\"\",'Gas Cylinder Information'!A665)","v":""},{"$f":"IF('Gas Cylinder Information'!C665=\"\",\"\",'Gas Cylinder Information'!C665)","v":""},{"$f":"IF('Gas Cylinder Information'!D665=\"\",\"\",'Gas Cylinder Information'!D665)","v":""},{"$f":"IF('Gas Cylinder Information'!B665=\"\",\"\",'Gas Cylinder Information'!B665)","v":""},{"$f":"IF('Gas Cylinder Information'!E665=\"\",\"\",'Gas Cylinder Information'!E665)","v":""},{"$f":"IF('Gas Cylinder Information'!F665=\"\",\"\",'Gas Cylinder Information'!F665)","v":""},{"$f":"IF('Gas Cylinder Information'!G665=\"\",\"\",'Gas Cylinder Information'!G665)","v":""}]
[{"$f":"IF('Gas Cylinder Information'!A666=\"\",\"\",'Gas Cylinder Information'!A666)","v":""},{"$f":"IF('Gas Cylinder Information'!C666=\"\",\"\",'Gas Cylinder Information'!C666)","v":""},{"$f":"IF('Gas Cylinder Information'!D666=\"\",\"\",'Gas Cylinder Information'!D666)","v":""},{"$f":"IF('Gas Cylinder Information'!B666=\"\",\"\",'Gas Cylinder Information'!B666)","v":""},{"$f":"IF('Gas Cylinder Information'!E666=\"\",\"\",'Gas Cylinder Information'!E666)","v":""},{"$f":"IF('Gas Cylinder Information'!F666=\"\",\"\",'Gas Cylinder Information'!F666)","v":""},{"$f":"IF('Gas Cylinder Information'!G666=\"\",\"\",'Gas Cylinder Information'!G666)","v":""}]
[{"$f":"IF('Gas Cylinder Information'!A667=\"\",\"\",'Gas Cylinder Information'!A667)","v":""},{"$f":"IF('Gas Cylinder Information'!C667=\"\",\"\",'Gas Cylinder Information'!C667)","v":""},{"$f":"IF('Gas Cylinder Information'!D667=\"\",\"\",'Gas Cylinder Information'!D667)","v":""},{"$f":"IF('Gas Cylinder Information'!B667=\"\",\"\",'Gas Cylinder Information'!B667)","v":""},{"$f":"IF('Gas Cylinder Information'!E667=\"\",\"\",'Gas Cylinder Information'!E667)","v":""},{"$f":"IF('Gas Cylinder Information'!F667=\"\",\"\",'Gas Cylinder Information'!F667)","v":""},{"$f":"IF('Gas Cylinder Information'!G667=\"\",\"\",'Gas Cylinder Information'!G667)","v":""}]
[{"$f":"IF('Gas Cylinder Information'!A668=\"\",\"\",'Gas Cylinder Information'!A668)","v":""},{"$f":"IF('Gas Cylinder Information'!C668=\"\",\"\",'Gas Cylinder Information'!C668)","v":""},{"$f":"IF('Gas Cylinder Information'!D668=\"\",\"\",'Gas Cylinder Information'!D668)","v":""},{"$f":"IF('Gas Cylinder Information'!B668=\"\",\"\",'Gas Cylinder Information'!B668)","v":""},{"$f":"IF('Gas Cylinder Information'!E668=\"\",\"\",'Gas Cylinder Information'!E668)","v":""},{"$f":"IF('Gas Cylinder Information'!F668=\"\",\"\",'Gas Cylinder Information'!F668)","v":""},{"$f":"IF('Gas Cylinder Information'!G668=\"\",\"\",'Gas Cylinder Information'!G668)","v":""}]
[{"$f":"IF('Gas Cylinder Information'!A669=\"\",\"\",'Gas Cylinder Information'!A669)","v":""},{"$f":"IF('Gas Cylinder Information'!C669=\"\",\"\",'Gas Cylinder Information'!C669)","v":""},{"$f":"IF('Gas Cylinder Information'!D669=\"\",\"\",'Gas Cylinder Information'!D669)","v":""},{"$f":"IF('Gas Cylinder Information'!B669=\"\",\"\",'Gas Cylinder Information'!B669)","v":""},{"$f":"IF('Gas Cylinder Information'!E669=\"\",\"\",'Gas Cylinder Information'!E669)","v":""},{"$f":"IF('Gas Cylinder Information'!F669=\"\",\"\",'Gas Cylinder Information'!F669)","v":""},{"$f":"IF('Gas Cylinder Information'!G669=\"\",\"\",'Gas Cylinder Information'!G669)","v":""}]
[{"$f":"IF('Gas Cylinder Information'!A670=\"\",\"\",'Gas Cylinder Information'!A670)","v":""},{"$f":"IF('Gas Cylinder Information'!C670=\"\",\"\",'Gas Cylinder Information'!C670)","v":""},{"$f":"IF('Gas Cylinder Information'!D670=\"\",\"\",'Gas Cylinder Information'!D670)","v":""},{"$f":"IF('Gas Cylinder Information'!B670=\"\",\"\",'Gas Cylinder Information'!B670)","v":""},{"$f":"IF('Gas Cylinder Information'!E670=\"\",\"\",'Gas Cylinder Information'!E670)","v":""},{"$f":"IF('Gas Cylinder Information'!F670=\"\",\"\",'Gas Cylinder Information'!F670)","v":""},{"$f":"IF('Gas Cylinder Information'!G670=\"\",\"\",'Gas Cylinder Information'!G670)","v":""}]
[{"$f":"IF('Gas Cylinder Information'!A671=\"\",\"\",'Gas Cylinder Information'!A671)","v":""},{"$f":"IF('Gas Cylinder Information'!C671=\"\",\"\",'Gas Cylinder Information'!C671)","v":""},{"$f":"IF('Gas Cylinder Information'!D671=\"\",\"\",'Gas Cylinder Information'!D671)","v":""},{"$f":"IF('Gas Cylinder Information'!B671=\"\",\"\",'Gas Cylinder Information'!B671)","v":""},{"$f":"IF('Gas Cylinder Information'!E671=\"\",\"\",'Gas Cylinder Information'!E671)","v":""},{"$f":"IF('Gas Cylinder Information'!F671=\"\",\"\",'Gas Cylinder Information'!F671)","v":""},{"$f":"IF('Gas Cylinder Information'!G671=\"\",\"\",'Gas Cylinder Information'!G671)","v":""}]
[{"$f":"IF('Gas Cylinder Information'!A672=\"\",\"\",'Gas Cylinder Information'!A672)","v":""},{"$f":"IF('Gas Cylinder Information'!C672=\"\",\"\",'Gas Cylinder Information'!C672)","v":""},{"$f":"IF('Gas Cylinder Information'!D672=\"\",\"\",'Gas Cylinder Information'!D672)","v":""},{"$f":"IF('Gas Cylinder Information'!B672=\"\",\"\",'Gas Cylinder Information'!B672)","v":""},{"$f":"IF('Gas Cylinder Information'!E672=\"\",\"\",'Gas Cylinder Information'!E672)","v":""},{"$f":"IF('Gas Cylinder Information'!F672=\"\",\"\",'Gas Cylinder Information'!F672)","v":""},{"$f":"IF('Gas Cylinder Information'!G672=\"\",\"\",'Gas Cylinder Information'!G672)","v":""}]
[{"$f":"IF('Gas Cylinder Information'!A673=\"\",\"\",'Gas Cylinder Information'!A673)","v":""},{"$f":"IF('Gas Cylinder Information'!C673=\"\",\"\",'Gas Cylinder Information'!C673)","v":""},{"$f":"IF('Gas Cylinder Information'!D673=\"\",\"\",'Gas Cylinder Information'!D673)","v":""},{"$f":"IF('Gas Cylinder Information'!B673=\"\",\"\",'Gas Cylinder Information'!B673)","v":""},{"$f":"IF('Gas Cylinder Information'!E673=\"\",\"\",'Gas Cylinder Information'!E673)","v":""},{"$f":"IF('Gas Cylinder Information'!F673=\"\",\"\",'Gas Cylinder Information'!F673)","v":""},{"$f":"IF('Gas Cylinder Information'!G673=\"\",\"\",'Gas Cylinder Information'!G673)","v":""}]
[{"$f":"IF('Gas Cylinder Information'!A674=\"\",\"\",'Gas Cylinder Information'!A674)","v":""},{"$f":"IF('Gas Cylinder Information'!C674=\"\",\"\",'Gas Cylinder Information'!C674)","v":""},{"$f":"IF('Gas Cylinder Information'!D674=\"\",\"\",'Gas Cylinder Information'!D674)","v":""},{"$f":"IF('Gas Cylinder Information'!B674=\"\",\"\",'Gas Cylinder Information'!B674)","v":""},{"$f":"IF('Gas Cylinder Information'!E674=\"\",\"\",'Gas Cylinder Information'!E674)","v":""},{"$f":"IF('Gas Cylinder Information'!F674=\"\",\"\",'Gas Cylinder Information'!F674)","v":""},{"$f":"IF('Gas Cylinder Information'!G674=\"\",\"\",'Gas Cylinder Information'!G674)","v":""}]
[{"$f":"IF('Gas Cylinder Information'!A675=\"\",\"\",'Gas Cylinder Information'!A675)","v":""},{"$f":"IF('Gas Cylinder Information'!C675=\"\",\"\",'Gas Cylinder Information'!C675)","v":""},{"$f":"IF('Gas Cylinder Information'!D675=\"\",\"\",'Gas Cylinder Information'!D675)","v":""},{"$f":"IF('Gas Cylinder Information'!B675=\"\",\"\",'Gas Cylinder Information'!B675)","v":""},{"$f":"IF('Gas Cylinder Information'!E675=\"\",\"\",'Gas Cylinder Information'!E675)","v":""},{"$f":"IF('Gas Cylinder Information'!F675=\"\",\"\",'Gas Cylinder Information'!F675)","v":""},{"$f":"IF('Gas Cylinder Information'!G675=\"\",\"\",'Gas Cylinder Information'!G675)","v":""}]
[{"$f":"IF('Gas Cylinder Information'!A676=\"\",\"\",'Gas Cylinder Information'!A676)","v":""},{"$f":"IF('Gas Cylinder Information'!C676=\"\",\"\",'Gas Cylinder Information'!C676)","v":""},{"$f":"IF('Gas Cylinder Information'!D676=\"\",\"\",'Gas Cylinder Information'!D676)","v":""},{"$f":"IF('Gas Cylinder Information'!B676=\"\",\"\",'Gas Cylinder Information'!B676)","v":""},{"$f":"IF('Gas Cylinder Information'!E676=\"\",\"\",'Gas Cylinder Information'!E676)","v":""},{"$f":"IF('Gas Cylinder Information'!F676=\"\",\"\",'Gas Cylinder Information'!F676)","v":""},{"$f":"IF('Gas Cylinder Information'!G676=\"\",\"\",'Gas Cylinder Information'!G676)","v":""}]
[{"$f":"IF('Gas Cylinder Information'!A677=\"\",\"\",'Gas Cylinder Information'!A677)","v":""},{"$f":"IF('Gas Cylinder Information'!C677=\"\",\"\",'Gas Cylinder Information'!C677)","v":""},{"$f":"IF('Gas Cylinder Information'!D677=\"\",\"\",'Gas Cylinder Information'!D677)","v":""},{"$f":"IF('Gas Cylinder Information'!B677=\"\",\"\",'Gas Cylinder Information'!B677)","v":""},{"$f":"IF('Gas Cylinder Information'!E677=\"\",\"\",'Gas Cylinder Information'!E677)","v":""},{"$f":"IF('Gas Cylinder Information'!F677=\"\",\"\",'Gas Cylinder Information'!F677)","v":""},{"$f":"IF('Gas Cylinder Information'!G677=\"\",\"\",'Gas Cylinder Information'!G677)","v":""}]
[{"$f":"IF('Gas Cylinder Information'!A678=\"\",\"\",'Gas Cylinder Information'!A678)","v":""},{"$f":"IF('Gas Cylinder Information'!C678=\"\",\"\",'Gas Cylinder Information'!C678)","v":""},{"$f":"IF('Gas Cylinder Information'!D678=\"\",\"\",'Gas Cylinder Information'!D678)","v":""},{"$f":"IF('Gas Cylinder Information'!B678=\"\",\"\",'Gas Cylinder Information'!B678)","v":""},{"$f":"IF('Gas Cylinder Information'!E678=\"\",\"\",'Gas Cylinder Information'!E678)","v":""},{"$f":"IF('Gas Cylinder Information'!F678=\"\",\"\",'Gas Cylinder Information'!F678)","v":""},{"$f":"IF('Gas Cylinder Information'!G678=\"\",\"\",'Gas Cylinder Information'!G678)","v":""}]
[{"$f":"IF('Gas Cylinder Information'!A679=\"\",\"\",'Gas Cylinder Information'!A679)","v":""},{"$f":"IF('Gas Cylinder Information'!C679=\"\",\"\",'Gas Cylinder Information'!C679)","v":""},{"$f":"IF('Gas Cylinder Information'!D679=\"\",\"\",'Gas Cylinder Information'!D679)","v":""},{"$f":"IF('Gas Cylinder Information'!B679=\"\",\"\",'Gas Cylinder Information'!B679)","v":""},{"$f":"IF('Gas Cylinder Information'!E679=\"\",\"\",'Gas Cylinder Information'!E679)","v":""},{"$f":"IF('Gas Cylinder Information'!F679=\"\",\"\",'Gas Cylinder Information'!F679)","v":""},{"$f":"IF('Gas Cylinder Information'!G679=\"\",\"\",'Gas Cylinder Information'!G679)","v":""}]
[{"$f":"IF('Gas Cylinder Information'!A680=\"\",\"\",'Gas Cylinder Information'!A680)","v":""},{"$f":"IF('Gas Cylinder Information'!C680=\"\",\"\",'Gas Cylinder Information'!C680)","v":""},{"$f":"IF('Gas Cylinder Information'!D680=\"\",\"\",'Gas Cylinder Information'!D680)","v":""},{"$f":"IF('Gas Cylinder Information'!B680=\"\",\"\",'Gas Cylinder Information'!B680)","v":""},{"$f":"IF('Gas Cylinder Information'!E680=\"\",\"\",'Gas Cylinder Information'!E680)","v":""},{"$f":"IF('Gas Cylinder Information'!F680=\"\",\"\",'Gas Cylinder Information'!F680)","v":""},{"$f":"IF('Gas Cylinder Information'!G680=\"\",\"\",'Gas Cylinder Information'!G680)","v":""}]
[{"$f":"IF('Gas Cylinder Information'!A681=\"\",\"\",'Gas Cylinder Information'!A681)","v":""},{"$f":"IF('Gas Cylinder Information'!C681=\"\",\"\",'Gas Cylinder Information'!C681)","v":""},{"$f":"IF('Gas Cylinder Information'!D681=\"\",\"\",'Gas Cylinder Information'!D681)","v":""},{"$f":"IF('Gas Cylinder Information'!B681=\"\",\"\",'Gas Cylinder Information'!B681)","v":""},{"$f":"IF('Gas Cylinder Information'!E681=\"\",\"\",'Gas Cylinder Information'!E681)","v":""},{"$f":"IF('Gas Cylinder Information'!F681=\"\",\"\",'Gas Cylinder Information'!F681)","v":""},{"$f":"IF('Gas Cylinder Information'!G681=\"\",\"\",'Gas Cylinder Information'!G681)","v":""}]
[{"$f":"IF('Gas Cylinder Information'!A682=\"\",\"\",'Gas Cylinder Information'!A682)","v":""},{"$f":"IF('Gas Cylinder Information'!C682=\"\",\"\",'Gas Cylinder Information'!C682)","v":""},{"$f":"IF('Gas Cylinder Information'!D682=\"\",\"\",'Gas Cylinder Information'!D682)","v":""},{"$f":"IF('Gas Cylinder Information'!B682=\"\",\"\",'Gas Cylinder Information'!B682)","v":""},{"$f":"IF('Gas Cylinder Information'!E682=\"\",\"\",'Gas Cylinder Information'!E682)","v":""},{"$f":"IF('Gas Cylinder Information'!F682=\"\",\"\",'Gas Cylinder Information'!F682)","v":""},{"$f":"IF('Gas Cylinder Information'!G682=\"\",\"\",'Gas Cylinder Information'!G682)","v":""}]
[{"$f":"IF('Gas Cylinder Information'!A683=\"\",\"\",'Gas Cylinder Information'!A683)","v":""},{"$f":"IF('Gas Cylinder Information'!C683=\"\",\"\",'Gas Cylinder Information'!C683)","v":""},{"$f":"IF('Gas Cylinder Information'!D683=\"\",\"\",'Gas Cylinder Information'!D683)","v":""},{"$f":"IF('Gas Cylinder Information'!B683=\"\",\"\",'Gas Cylinder Information'!B683)","v":""},{"$f":"IF('Gas Cylinder Information'!E683=\"\",\"\",'Gas Cylinder Information'!E683)","v":""},{"$f":"IF('Gas Cylinder Information'!F683=\"\",\"\",'Gas Cylinder Information'!F683)","v":""},{"$f":"IF('Gas Cylinder Information'!G683=\"\",\"\",'Gas Cylinder Information'!G683)","v":""}]
[{"$f":"IF('Gas Cylinder Information'!A684=\"\",\"\",'Gas Cylinder Information'!A684)","v":""},{"$f":"IF('Gas Cylinder Information'!C684=\"\",\"\",'Gas Cylinder Information'!C684)","v":""},{"$f":"IF('Gas Cylinder Information'!D684=\"\",\"\",'Gas Cylinder Information'!D684)","v":""},{"$f":"IF('Gas Cylinder Information'!B684=\"\",\"\",'Gas Cylinder Information'!B684)","v":""},{"$f":"IF('Gas Cylinder Information'!E684=\"\",\"\",'Gas Cylinder Information'!E684)","v":""},{"$f":"IF('Gas Cylinder Information'!F684=\"\",\"\",'Gas Cylinder Information'!F684)","v":""},{"$f":"IF('Gas Cylinder Information'!G684=\"\",\"\",'Gas Cylinder Information'!G684)","v":""}]
[{"$f":"IF('Gas Cylinder Information'!A685=\"\",\"\",'Gas Cylinder Information'!A685)","v":""},{"$f":"IF('Gas Cylinder Information'!C685=\"\",\"\",'Gas Cylinder Information'!C685)","v":""},{"$f":"IF('Gas Cylinder Information'!D685=\"\",\"\",'Gas Cylinder Information'!D685)","v":""},{"$f":"IF('Gas Cylinder Information'!B685=\"\",\"\",'Gas Cylinder Information'!B685)","v":""},{"$f":"IF('Gas Cylinder Information'!E685=\"\",\"\",'Gas Cylinder Information'!E685)","v":""},{"$f":"IF('Gas Cylinder Information'!F685=\"\",\"\",'Gas Cylinder Information'!F685)","v":""},{"$f":"IF('Gas Cylinder Information'!G685=\"\",\"\",'Gas Cylinder Information'!G685)","v":""}]
[{"$f":"IF('Gas Cylinder Information'!A686=\"\",\"\",'Gas Cylinder Information'!A686)","v":""},{"$f":"IF('Gas Cylinder Information'!C686=\"\",\"\",'Gas Cylinder Information'!C686)","v":""},{"$f":"IF('Gas Cylinder Information'!D686=\"\",\"\",'Gas Cylinder Information'!D686)","v":""},{"$f":"IF('Gas Cylinder Information'!B686=\"\",\"\",'Gas Cylinder Information'!B686)","v":""},{"$f":"IF('Gas Cylinder Information'!E686=\"\",\"\",'Gas Cylinder Information'!E686)","v":""},{"$f":"IF('Gas Cylinder Information'!F686=\"\",\"\",'Gas Cylinder Information'!F686)","v":""},{"$f":"IF('Gas Cylinder Information'!G686=\"\",\"\",'Gas Cylinder Information'!G686)","v":""}]
[{"$f":"IF('Gas Cylinder Information'!A687=\"\",\"\",'Gas Cylinder Information'!A687)","v":""},{"$f":"IF('Gas Cylinder Information'!C687=\"\",\"\",'Gas Cylinder Information'!C687)","v":""},{"$f":"IF('Gas Cylinder Information'!D687=\"\",\"\",'Gas Cylinder Information'!D687)","v":""},{"$f":"IF('Gas Cylinder Information'!B687=\"\",\"\",'Gas Cylinder Information'!B687)","v":""},{"$f":"IF('Gas Cylinder Information'!E687=\"\",\"\",'Gas Cylinder Information'!E687)","v":""},{"$f":"IF('Gas Cylinder Information'!F687=\"\",\"\",'Gas Cylinder Information'!F687)","v":""},{"$f":"IF('Gas Cylinder Information'!G687=\"\",\"\",'Gas Cylinder Information'!G687)","v":""}]
[{"$f":"IF('Gas Cylinder Information'!A688=\"\",\"\",'Gas Cylinder Information'!A688)","v":""},{"$f":"IF('Gas Cylinder Information'!C688=\"\",\"\",'Gas Cylinder Information'!C688)","v":""},{"$f":"IF('Gas Cylinder Information'!D688=\"\",\"\",'Gas Cylinder Information'!D688)","v":""},{"$f":"IF('Gas Cylinder Information'!B688=\"\",\"\",'Gas Cylinder Information'!B688)","v":""},{"$f":"IF('Gas Cylinder Information'!E688=\"\",\"\",'Gas Cylinder Information'!E688)","v":""},{"$f":"IF('Gas Cylinder Information'!F688=\"\",\"\",'Gas Cylinder Information'!F688)","v":""},{"$f":"IF('Gas Cylinder Information'!G688=\"\",\"\",'Gas Cylinder Information'!G688)","v":""}]
[{"$f":"IF('Gas Cylinder Information'!A689=\"\",\"\",'Gas Cylinder Information'!A689)","v":""},{"$f":"IF('Gas Cylinder Information'!C689=\"\",\"\",'Gas Cylinder Information'!C689)","v":""},{"$f":"IF('Gas Cylinder Information'!D689=\"\",\"\",'Gas Cylinder Information'!D689)","v":""},{"$f":"IF('Gas Cylinder Information'!B689=\"\",\"\",'Gas Cylinder Information'!B689)","v":""},{"$f":"IF('Gas Cylinder Information'!E689=\"\",\"\",'Gas Cylinder Information'!E689)","v":""},{"$f":"IF('Gas Cylinder Information'!F689=\"\",\"\",'Gas Cylinder Information'!F689)","v":""},{"$f":"IF('Gas Cylinder Information'!G689=\"\",\"\",'Gas Cylinder Information'!G689)","v":""}]
[{"$f":"IF('Gas Cylinder Information'!A690=\"\",\"\",'Gas Cylinder Information'!A690)","v":""},{"$f":"IF('Gas Cylinder Information'!C690=\"\",\"\",'Gas Cylinder Information'!C690)","v":""},{"$f":"IF('Gas Cylinder Information'!D690=\"\",\"\",'Gas Cylinder Information'!D690)","v":""},{"$f":"IF('Gas Cylinder Information'!B690=\"\",\"\",'Gas Cylinder Information'!B690)","v":""},{"$f":"IF('Gas Cylinder Information'!E690=\"\",\"\",'Gas Cylinder Information'!E690)","v":""},{"$f":"IF('Gas Cylinder Information'!F690=\"\",\"\",'Gas Cylinder Information'!F690)","v":""},{"$f":"IF('Gas Cylinder Information'!G690=\"\",\"\",'Gas Cylinder Information'!G690)","v":""}]
[{"$f":"IF('Gas Cylinder Information'!A691=\"\",\"\",'Gas Cylinder Information'!A691)","v":""},{"$f":"IF('Gas Cylinder Information'!C691=\"\",\"\",'Gas Cylinder Information'!C691)","v":""},{"$f":"IF('Gas Cylinder Information'!D691=\"\",\"\",'Gas Cylinder Information'!D691)","v":""},{"$f":"IF('Gas Cylinder Information'!B691=\"\",\"\",'Gas Cylinder Information'!B691)","v":""},{"$f":"IF('Gas Cylinder Information'!E691=\"\",\"\",'Gas Cylinder Information'!E691)","v":""},{"$f":"IF('Gas Cylinder Information'!F691=\"\",\"\",'Gas Cylinder Information'!F691)","v":""},{"$f":"IF('Gas Cylinder Information'!G691=\"\",\"\",'Gas Cylinder Information'!G691)","v":""}]
[{"$f":"IF('Gas Cylinder Information'!A692=\"\",\"\",'Gas Cylinder Information'!A692)","v":""},{"$f":"IF('Gas Cylinder Information'!C692=\"\",\"\",'Gas Cylinder Information'!C692)","v":""},{"$f":"IF('Gas Cylinder Information'!D692=\"\",\"\",'Gas Cylinder Information'!D692)","v":""},{"$f":"IF('Gas Cylinder Information'!B692=\"\",\"\",'Gas Cylinder Information'!B692)","v":""},{"$f":"IF('Gas Cylinder Information'!E692=\"\",\"\",'Gas Cylinder Information'!E692)","v":""},{"$f":"IF('Gas Cylinder Information'!F692=\"\",\"\",'Gas Cylinder Information'!F692)","v":""},{"$f":"IF('Gas Cylinder Information'!G692=\"\",\"\",'Gas Cylinder Information'!G692)","v":""}]
[{"$f":"IF('Gas Cylinder Information'!A693=\"\",\"\",'Gas Cylinder Information'!A693)","v":""},{"$f":"IF('Gas Cylinder Information'!C693=\"\",\"\",'Gas Cylinder Information'!C693)","v":""},{"$f":"IF('Gas Cylinder Information'!D693=\"\",\"\",'Gas Cylinder Information'!D693)","v":""},{"$f":"IF('Gas Cylinder Information'!B693=\"\",\"\",'Gas Cylinder Information'!B693)","v":""},{"$f":"IF('Gas Cylinder Information'!E693=\"\",\"\",'Gas Cylinder Information'!E693)","v":""},{"$f":"IF('Gas Cylinder Information'!F693=\"\",\"\",'Gas Cylinder Information'!F693)","v":""},{"$f":"IF('Gas Cylinder Information'!G693=\"\",\"\",'Gas Cylinder Information'!G693)","v":""}]
[{"$f":"IF('Gas Cylinder Information'!A694=\"\",\"\",'Gas Cylinder Information'!A694)","v":""},{"$f":"IF('Gas Cylinder Information'!C694=\"\",\"\",'Gas Cylinder Information'!C694)","v":""},{"$f":"IF('Gas Cylinder Information'!D694=\"\",\"\",'Gas Cylinder Information'!D694)","v":""},{"$f":"IF('Gas Cylinder Information'!B694=\"\",\"\",'Gas Cylinder Information'!B694)","v":""},{"$f":"IF('Gas Cylinder Information'!E694=\"\",\"\",'Gas Cylinder Information'!E694)","v":""},{"$f":"IF('Gas Cylinder Information'!F694=\"\",\"\",'Gas Cylinder Information'!F694)","v":""},{"$f":"IF('Gas Cylinder Information'!G694=\"\",\"\",'Gas Cylinder Information'!G694)","v":""}]
[{"$f":"IF('Gas Cylinder Information'!A695=\"\",\"\",'Gas Cylinder Information'!A695)","v":""},{"$f":"IF('Gas Cylinder Information'!C695=\"\",\"\",'Gas Cylinder Information'!C695)","v":""},{"$f":"IF('Gas Cylinder Information'!D695=\"\",\"\",'Gas Cylinder Information'!D695)","v":""},{"$f":"IF('Gas Cylinder Information'!B695=\"\",\"\",'Gas Cylinder Information'!B695)","v":""},{"$f":"IF('Gas Cylinder Information'!E695=\"\",\"\",'Gas Cylinder Information'!E695)","v":""},{"$f":"IF('Gas Cylinder Information'!F695=\"\",\"\",'Gas Cylinder Information'!F695)","v":""},{"$f":"IF('Gas Cylinder Information'!G695=\"\",\"\",'Gas Cylinder Information'!G695)","v":""}]
[{"$f":"IF('Gas Cylinder Information'!A696=\"\",\"\",'Gas Cylinder Information'!A696)","v":""},{"$f":"IF('Gas Cylinder Information'!C696=\"\",\"\",'Gas Cylinder Information'!C696)","v":""},{"$f":"IF('Gas Cylinder Information'!D696=\"\",\"\",'Gas Cylinder Information'!D696)","v":""},{"$f":"IF('Gas Cylinder Information'!B696=\"\",\"\",'Gas Cylinder Information'!B696)","v":""},{"$f":"IF('Gas Cylinder Information'!E696=\"\",\"\",'Gas Cylinder Information'!E696)","v":""},{"$f":"IF('Gas Cylinder Information'!F696=\"\",\"\",'Gas Cylinder Information'!F696)","v":""},{"$f":"IF('Gas Cylinder Information'!G696=\"\",\"\",'Gas Cylinder Information'!G696)","v":""}]
[{"$f":"IF('Gas Cylinder Information'!A697=\"\",\"\",'Gas Cylinder Information'!A697)","v":""},{"$f":"IF('Gas Cylinder Information'!C697=\"\",\"\",'Gas Cylinder Information'!C697)","v":""},{"$f":"IF('Gas Cylinder Information'!D697=\"\",\"\",'Gas Cylinder Information'!D697)","v":""},{"$f":"IF('Gas Cylinder Information'!B697=\"\",\"\",'Gas Cylinder Information'!B697)","v":""},{"$f":"IF('Gas Cylinder Information'!E697=\"\",\"\",'Gas Cylinder Information'!E697)","v":""},{"$f":"IF('Gas Cylinder Information'!F697=\"\",\"\",'Gas Cylinder Information'!F697)","v":""},{"$f":"IF('Gas Cylinder Information'!G697=\"\",\"\",'Gas Cylinder Information'!G697)","v":""}]
[{"$f":"IF('Gas Cylinder Information'!A698=\"\",\"\",'Gas Cylinder Information'!A698)","v":""},{"$f":"IF('Gas Cylinder Information'!C698=\"\",\"\",'Gas Cylinder Information'!C698)","v":""},{"$f":"IF('Gas Cylinder Information'!D698=\"\",\"\",'Gas Cylinder Information'!D698)","v":""},{"$f":"IF('Gas Cylinder Information'!B698=\"\",\"\",'Gas Cylinder Information'!B698)","v":""},{"$f":"IF('Gas Cylinder Information'!E698=\"\",\"\",'Gas Cylinder Information'!E698)","v":""},{"$f":"IF('Gas Cylinder Information'!F698=\"\",\"\",'Gas Cylinder Information'!F698)","v":""},{"$f":"IF('Gas Cylinder Information'!G698=\"\",\"\",'Gas Cylinder Information'!G698)","v":""}]
[{"$f":"IF('Gas Cylinder Information'!A699=\"\",\"\",'Gas Cylinder Information'!A699)","v":""},{"$f":"IF('Gas Cylinder Information'!C699=\"\",\"\",'Gas Cylinder Information'!C699)","v":""},{"$f":"IF('Gas Cylinder Information'!D699=\"\",\"\",'Gas Cylinder Information'!D699)","v":""},{"$f":"IF('Gas Cylinder Information'!B699=\"\",\"\",'Gas Cylinder Information'!B699)","v":""},{"$f":"IF('Gas Cylinder Information'!E699=\"\",\"\",'Gas Cylinder Information'!E699)","v":""},{"$f":"IF('Gas Cylinder Information'!F699=\"\",\"\",'Gas Cylinder Information'!F699)","v":""},{"$f":"IF('Gas Cylinder Information'!G699=\"\",\"\",'Gas Cylinder Information'!G699)","v":""}]
[{"$f":"IF('Gas Cylinder Information'!A700=\"\",\"\",'Gas Cylinder Information'!A700)","v":""},{"$f":"IF('Gas Cylinder Information'!C700=\"\",\"\",'Gas Cylinder Information'!C700)","v":""},{"$f":"IF('Gas Cylinder Information'!D700=\"\",\"\",'Gas Cylinder Information'!D700)","v":""},{"$f":"IF('Gas Cylinder Information'!B700=\"\",\"\",'Gas Cylinder Information'!B700)","v":""},{"$f":"IF('Gas Cylinder Information'!E700=\"\",\"\",'Gas Cylinder Information'!E700)","v":""},{"$f":"IF('Gas Cylinder Information'!F700=\"\",\"\",'Gas Cylinder Information'!F700)","v":""},{"$f":"IF('Gas Cylinder Information'!G700=\"\",\"\",'Gas Cylinder Information'!G700)","v":""}]
[{"$f":"IF('Gas Cylinder Information'!A701=\"\",\"\",'Gas Cylinder Information'!A701)","v":""},{"$f":"IF('Gas Cylinder Information'!C701=\"\",\"\",'Gas Cylinder Information'!C701)","v":""},{"$f":"IF('Gas Cylinder Information'!D701=\"\",\"\",'Gas Cylinder Information'!D701)","v":""},{"$f":"IF('Gas Cylinder Information'!B701=\"\",\"\",'Gas Cylinder Information'!B701)","v":""},{"$f":"IF('Gas Cylinder Information'!E701=\"\",\"\",'Gas Cylinder Information'!E701)","v":""},{"$f":"IF('Gas Cylinder Information'!F701=\"\",\"\",'Gas Cylinder Information'!F701)","v":""},{"$f":"IF('Gas Cylinder Information'!G701=\"\",\"\",'Gas Cylinder Information'!G701)","v":""}]
[{"$f":"IF('Gas Cylinder Information'!A702=\"\",\"\",'Gas Cylinder Information'!A702)","v":""},{"$f":"IF('Gas Cylinder Information'!C702=\"\",\"\",'Gas Cylinder Information'!C702)","v":""},{"$f":"IF('Gas Cylinder Information'!D702=\"\",\"\",'Gas Cylinder Information'!D702)","v":""},{"$f":"IF('Gas Cylinder Information'!B702=\"\",\"\",'Gas Cylinder Information'!B702)","v":""},{"$f":"IF('Gas Cylinder Information'!E702=\"\",\"\",'Gas Cylinder Information'!E702)","v":""},{"$f":"IF('Gas Cylinder Information'!F702=\"\",\"\",'Gas Cylinder Information'!F702)","v":""},{"$f":"IF('Gas Cylinder Information'!G702=\"\",\"\",'Gas Cylinder Information'!G702)","v":""}]
[{"$f":"IF('Gas Cylinder Information'!A703=\"\",\"\",'Gas Cylinder Information'!A703)","v":""},{"$f":"IF('Gas Cylinder Information'!C703=\"\",\"\",'Gas Cylinder Information'!C703)","v":""},{"$f":"IF('Gas Cylinder Information'!D703=\"\",\"\",'Gas Cylinder Information'!D703)","v":""},{"$f":"IF('Gas Cylinder Information'!B703=\"\",\"\",'Gas Cylinder Information'!B703)","v":""},{"$f":"IF('Gas Cylinder Information'!E703=\"\",\"\",'Gas Cylinder Information'!E703)","v":""},{"$f":"IF('Gas Cylinder Information'!F703=\"\",\"\",'Gas Cylinder Information'!F703)","v":""},{"$f":"IF('Gas Cylinder Information'!G703=\"\",\"\",'Gas Cylinder Information'!G703)","v":""}]
[{"$f":"IF('Gas Cylinder Information'!A704=\"\",\"\",'Gas Cylinder Information'!A704)","v":""},{"$f":"IF('Gas Cylinder Information'!C704=\"\",\"\",'Gas Cylinder Information'!C704)","v":""},{"$f":"IF('Gas Cylinder Information'!D704=\"\",\"\",'Gas Cylinder Information'!D704)","v":""},{"$f":"IF('Gas Cylinder Information'!B704=\"\",\"\",'Gas Cylinder Information'!B704)","v":""},{"$f":"IF('Gas Cylinder Information'!E704=\"\",\"\",'Gas Cylinder Information'!E704)","v":""},{"$f":"IF('Gas Cylinder Information'!F704=\"\",\"\",'Gas Cylinder Information'!F704)","v":""},{"$f":"IF('Gas Cylinder Information'!G704=\"\",\"\",'Gas Cylinder Information'!G704)","v":""}]
[{"$f":"IF('Gas Cylinder Information'!A705=\"\",\"\",'Gas Cylinder Information'!A705)","v":""},{"$f":"IF('Gas Cylinder Information'!C705=\"\",\"\",'Gas Cylinder Information'!C705)","v":""},{"$f":"IF('Gas Cylinder Information'!D705=\"\",\"\",'Gas Cylinder Information'!D705)","v":""},{"$f":"IF('Gas Cylinder Information'!B705=\"\",\"\",'Gas Cylinder Information'!B705)","v":""},{"$f":"IF('Gas Cylinder Information'!E705=\"\",\"\",'Gas Cylinder Information'!E705)","v":""},{"$f":"IF('Gas Cylinder Information'!F705=\"\",\"\",'Gas Cylinder Information'!F705)","v":""},{"$f":"IF('Gas Cylinder Information'!G705=\"\",\"\",'Gas Cylinder Information'!G705)","v":""}]
[{"$f":"IF('Gas Cylinder Information'!A706=\"\",\"\",'Gas Cylinder Information'!A706)","v":""},{"$f":"IF('Gas Cylinder Information'!C706=\"\",\"\",'Gas Cylinder Information'!C706)","v":""},{"$f":"IF('Gas Cylinder Information'!D706=\"\",\"\",'Gas Cylinder Information'!D706)","v":""},{"$f":"IF('Gas Cylinder Information'!B706=\"\",\"\",'Gas Cylinder Information'!B706)","v":""},{"$f":"IF('Gas Cylinder Information'!E706=\"\",\"\",'Gas Cylinder Information'!E706)","v":""},{"$f":"IF('Gas Cylinder Information'!F706=\"\",\"\",'Gas Cylinder Information'!F706)","v":""},{"$f":"IF('Gas Cylinder Information'!G706=\"\",\"\",'Gas Cylinder Information'!G706)","v":""}]
[{"$f":"IF('Gas Cylinder Information'!A707=\"\",\"\",'Gas Cylinder Information'!A707)","v":""},{"$f":"IF('Gas Cylinder Information'!C707=\"\",\"\",'Gas Cylinder Information'!C707)","v":""},{"$f":"IF('Gas Cylinder Information'!D707=\"\",\"\",'Gas Cylinder Information'!D707)","v":""},{"$f":"IF('Gas Cylinder Information'!B707=\"\",\"\",'Gas Cylinder Information'!B707)","v":""},{"$f":"IF('Gas Cylinder Information'!E707=\"\",\"\",'Gas Cylinder Information'!E707)","v":""},{"$f":"IF('Gas Cylinder Information'!F707=\"\",\"\",'Gas Cylinder Information'!F707)","v":""},{"$f":"IF('Gas Cylinder Information'!G707=\"\",\"\",'Gas Cylinder Information'!G707)","v":""}]
[{"$f":"IF('Gas Cylinder Information'!A708=\"\",\"\",'Gas Cylinder Information'!A708)","v":""},{"$f":"IF('Gas Cylinder Information'!C708=\"\",\"\",'Gas Cylinder Information'!C708)","v":""},{"$f":"IF('Gas Cylinder Information'!D708=\"\",\"\",'Gas Cylinder Information'!D708)","v":""},{"$f":"IF('Gas Cylinder Information'!B708=\"\",\"\",'Gas Cylinder Information'!B708)","v":""},{"$f":"IF('Gas Cylinder Information'!E708=\"\",\"\",'Gas Cylinder Information'!E708)","v":""},{"$f":"IF('Gas Cylinder Information'!F708=\"\",\"\",'Gas Cylinder Information'!F708)","v":""},{"$f":"IF('Gas Cylinder Information'!G708=\"\",\"\",'Gas Cylinder Information'!G708)","v":""}]
[{"$f":"IF('Gas Cylinder Information'!A709=\"\",\"\",'Gas Cylinder Information'!A709)","v":""},{"$f":"IF('Gas Cylinder Information'!C709=\"\",\"\",'Gas Cylinder Information'!C709)","v":""},{"$f":"IF('Gas Cylinder Information'!D709=\"\",\"\",'Gas Cylinder Information'!D709)","v":""},{"$f":"IF('Gas Cylinder Information'!B709=\"\",\"\",'Gas Cylinder Information'!B709)","v":""},{"$f":"IF('Gas Cylinder Information'!E709=\"\",\"\",'Gas Cylinder Information'!E709)","v":""},{"$f":"IF('Gas Cylinder Information'!F709=\"\",\"\",'Gas Cylinder Information'!F709)","v":""},{"$f":"IF('Gas Cylinder Information'!G709=\"\",\"\",'Gas Cylinder Information'!G709)","v":""}]
[{"$f":"IF('Gas Cylinder Information'!A710=\"\",\"\",'Gas Cylinder Information'!A710)","v":""},{"$f":"IF('Gas Cylinder Information'!C710=\"\",\"\",'Gas Cylinder Information'!C710)","v":""},{"$f":"IF('Gas Cylinder Information'!D710=\"\",\"\",'Gas Cylinder Information'!D710)","v":""},{"$f":"IF('Gas Cylinder Information'!B710=\"\",\"\",'Gas Cylinder Information'!B710)","v":""},{"$f":"IF('Gas Cylinder Information'!E710=\"\",\"\",'Gas Cylinder Information'!E710)","v":""},{"$f":"IF('Gas Cylinder Information'!F710=\"\",\"\",'Gas Cylinder Information'!F710)","v":""},{"$f":"IF('Gas Cylinder Information'!G710=\"\",\"\",'Gas Cylinder Information'!G710)","v":""}]
[{"$f":"IF('Gas Cylinder Information'!A711=\"\",\"\",'Gas Cylinder Information'!A711)","v":""},{"$f":"IF('Gas Cylinder Information'!C711=\"\",\"\",'Gas Cylinder Information'!C711)","v":""},{"$f":"IF('Gas Cylinder Information'!D711=\"\",\"\",'Gas Cylinder Information'!D711)","v":""},{"$f":"IF('Gas Cylinder Information'!B711=\"\",\"\",'Gas Cylinder Information'!B711)","v":""},{"$f":"IF('Gas Cylinder Information'!E711=\"\",\"\",'Gas Cylinder Information'!E711)","v":""},{"$f":"IF('Gas Cylinder Information'!F711=\"\",\"\",'Gas Cylinder Information'!F711)","v":""},{"$f":"IF('Gas Cylinder Information'!G711=\"\",\"\",'Gas Cylinder Information'!G711)","v":""}]
[{"$f":"IF('Gas Cylinder Information'!A712=\"\",\"\",'Gas Cylinder Information'!A712)","v":""},{"$f":"IF('Gas Cylinder Information'!C712=\"\",\"\",'Gas Cylinder Information'!C712)","v":""},{"$f":"IF('Gas Cylinder Information'!D712=\"\",\"\",'Gas Cylinder Information'!D712)","v":""},{"$f":"IF('Gas Cylinder Information'!B712=\"\",\"\",'Gas Cylinder Information'!B712)","v":""},{"$f":"IF('Gas Cylinder Information'!E712=\"\",\"\",'Gas Cylinder Information'!E712)","v":""},{"$f":"IF('Gas Cylinder Information'!F712=\"\",\"\",'Gas Cylinder Information'!F712)","v":""},{"$f":"IF('Gas Cylinder Information'!G712=\"\",\"\",'Gas Cylinder Information'!G712)","v":""}]
[{"$f":"IF('Gas Cylinder Information'!A713=\"\",\"\",'Gas Cylinder Information'!A713)","v":""},{"$f":"IF('Gas Cylinder Information'!C713=\"\",\"\",'Gas Cylinder Information'!C713)","v":""},{"$f":"IF('Gas Cylinder Information'!D713=\"\",\"\",'Gas Cylinder Information'!D713)","v":""},{"$f":"IF('Gas Cylinder Information'!B713=\"\",\"\",'Gas Cylinder Information'!B713)","v":""},{"$f":"IF('Gas Cylinder Information'!E713=\"\",\"\",'Gas Cylinder Information'!E713)","v":""},{"$f":"IF('Gas Cylinder Information'!F713=\"\",\"\",'Gas Cylinder Information'!F713)","v":""},{"$f":"IF('Gas Cylinder Information'!G713=\"\",\"\",'Gas Cylinder Information'!G713)","v":""}]
[{"$f":"IF('Gas Cylinder Information'!A714=\"\",\"\",'Gas Cylinder Information'!A714)","v":""},{"$f":"IF('Gas Cylinder Information'!C714=\"\",\"\",'Gas Cylinder Information'!C714)","v":""},{"$f":"IF('Gas Cylinder Information'!D714=\"\",\"\",'Gas Cylinder Information'!D714)","v":""},{"$f":"IF('Gas Cylinder Information'!B714=\"\",\"\",'Gas Cylinder Information'!B714)","v":""},{"$f":"IF('Gas Cylinder Information'!E714=\"\",\"\",'Gas Cylinder Information'!E714)","v":""},{"$f":"IF('Gas Cylinder Information'!F714=\"\",\"\",'Gas Cylinder Information'!F714)","v":""},{"$f":"IF('Gas Cylinder Information'!G714=\"\",\"\",'Gas Cylinder Information'!G714)","v":""}]
[{"$f":"IF('Gas Cylinder Information'!A715=\"\",\"\",'Gas Cylinder Information'!A715)","v":""},{"$f":"IF('Gas Cylinder Information'!C715=\"\",\"\",'Gas Cylinder Information'!C715)","v":""},{"$f":"IF('Gas Cylinder Information'!D715=\"\",\"\",'Gas Cylinder Information'!D715)","v":""},{"$f":"IF('Gas Cylinder Information'!B715=\"\",\"\",'Gas Cylinder Information'!B715)","v":""},{"$f":"IF('Gas Cylinder Information'!E715=\"\",\"\",'Gas Cylinder Information'!E715)","v":""},{"$f":"IF('Gas Cylinder Information'!F715=\"\",\"\",'Gas Cylinder Information'!F715)","v":""},{"$f":"IF('Gas Cylinder Information'!G715=\"\",\"\",'Gas Cylinder Information'!G715)","v":""}]
[{"$f":"IF('Gas Cylinder Information'!A716=\"\",\"\",'Gas Cylinder Information'!A716)","v":""},{"$f":"IF('Gas Cylinder Information'!C716=\"\",\"\",'Gas Cylinder Information'!C716)","v":""},{"$f":"IF('Gas Cylinder Information'!D716=\"\",\"\",'Gas Cylinder Information'!D716)","v":""},{"$f":"IF('Gas Cylinder Information'!B716=\"\",\"\",'Gas Cylinder Information'!B716)","v":""},{"$f":"IF('Gas Cylinder Information'!E716=\"\",\"\",'Gas Cylinder Information'!E716)","v":""},{"$f":"IF('Gas Cylinder Information'!F716=\"\",\"\",'Gas Cylinder Information'!F716)","v":""},{"$f":"IF('Gas Cylinder Information'!G716=\"\",\"\",'Gas Cylinder Information'!G716)","v":""}]
[{"$f":"IF('Gas Cylinder Information'!A717=\"\",\"\",'Gas Cylinder Information'!A717)","v":""},{"$f":"IF('Gas Cylinder Information'!C717=\"\",\"\",'Gas Cylinder Information'!C717)","v":""},{"$f":"IF('Gas Cylinder Information'!D717=\"\",\"\",'Gas Cylinder Information'!D717)","v":""},{"$f":"IF('Gas Cylinder Information'!B717=\"\",\"\",'Gas Cylinder Information'!B717)","v":""},{"$f":"IF('Gas Cylinder Information'!E717=\"\",\"\",'Gas Cylinder Information'!E717)","v":""},{"$f":"IF('Gas Cylinder Information'!F717=\"\",\"\",'Gas Cylinder Information'!F717)","v":""},{"$f":"IF('Gas Cylinder Information'!G717=\"\",\"\",'Gas Cylinder Information'!G717)","v":""}]
[{"$f":"IF('Gas Cylinder Information'!A718=\"\",\"\",'Gas Cylinder Information'!A718)","v":""},{"$f":"IF('Gas Cylinder Information'!C718=\"\",\"\",'Gas Cylinder Information'!C718)","v":""},{"$f":"IF('Gas Cylinder Information'!D718=\"\",\"\",'Gas Cylinder Information'!D718)","v":""},{"$f":"IF('Gas Cylinder Information'!B718=\"\",\"\",'Gas Cylinder Information'!B718)","v":""},{"$f":"IF('Gas Cylinder Information'!E718=\"\",\"\",'Gas Cylinder Information'!E718)","v":""},{"$f":"IF('Gas Cylinder Information'!F718=\"\",\"\",'Gas Cylinder Information'!F718)","v":""},{"$f":"IF('Gas Cylinder Information'!G718=\"\",\"\",'Gas Cylinder Information'!G718)","v":""}]
[{"$f":"IF('Gas Cylinder Information'!A719=\"\",\"\",'Gas Cylinder Information'!A719)","v":""},{"$f":"IF('Gas Cylinder Information'!C719=\"\",\"\",'Gas Cylinder Information'!C719)","v":""},{"$f":"IF('Gas Cylinder Information'!D719=\"\",\"\",'Gas Cylinder Information'!D719)","v":""},{"$f":"IF('Gas Cylinder Information'!B719=\"\",\"\",'Gas Cylinder Information'!B719)","v":""},{"$f":"IF('Gas Cylinder Information'!E719=\"\",\"\",'Gas Cylinder Information'!E719)","v":""},{"$f":"IF('Gas Cylinder Information'!F719=\"\",\"\",'Gas Cylinder Information'!F719)","v":""},{"$f":"IF('Gas Cylinder Information'!G719=\"\",\"\",'Gas Cylinder Information'!G719)","v":""}]
[{"$f":"IF('Gas Cylinder Information'!A720=\"\",\"\",'Gas Cylinder Information'!A720)","v":""},{"$f":"IF('Gas Cylinder Information'!C720=\"\",\"\",'Gas Cylinder Information'!C720)","v":""},{"$f":"IF('Gas Cylinder Information'!D720=\"\",\"\",'Gas Cylinder Information'!D720)","v":""},{"$f":"IF('Gas Cylinder Information'!B720=\"\",\"\",'Gas Cylinder Information'!B720)","v":""},{"$f":"IF('Gas Cylinder Information'!E720=\"\",\"\",'Gas Cylinder Information'!E720)","v":""},{"$f":"IF('Gas Cylinder Information'!F720=\"\",\"\",'Gas Cylinder Information'!F720)","v":""},{"$f":"IF('Gas Cylinder Information'!G720=\"\",\"\",'Gas Cylinder Information'!G720)","v":""}]
[{"$f":"IF('Gas Cylinder Information'!A721=\"\",\"\",'Gas Cylinder Information'!A721)","v":""},{"$f":"IF('Gas Cylinder Information'!C721=\"\",\"\",'Gas Cylinder Information'!C721)","v":""},{"$f":"IF('Gas Cylinder Information'!D721=\"\",\"\",'Gas Cylinder Information'!D721)","v":""},{"$f":"IF('Gas Cylinder Information'!B721=\"\",\"\",'Gas Cylinder Information'!B721)","v":""},{"$f":"IF('Gas Cylinder Information'!E721=\"\",\"\",'Gas Cylinder Information'!E721)","v":""},{"$f":"IF('Gas Cylinder Information'!F721=\"\",\"\",'Gas Cylinder Information'!F721)","v":""},{"$f":"IF('Gas Cylinder Information'!G721=\"\",\"\",'Gas Cylinder Information'!G721)","v":""}]
[{"$f":"IF('Gas Cylinder Information'!A722=\"\",\"\",'Gas Cylinder Information'!A722)","v":""},{"$f":"IF('Gas Cylinder Information'!C722=\"\",\"\",'Gas Cylinder Information'!C722)","v":""},{"$f":"IF('Gas Cylinder Information'!D722=\"\",\"\",'Gas Cylinder Information'!D722)","v":""},{"$f":"IF('Gas Cylinder Information'!B722=\"\",\"\",'Gas Cylinder Information'!B722)","v":""},{"$f":"IF('Gas Cylinder Information'!E722=\"\",\"\",'Gas Cylinder Information'!E722)","v":""},{"$f":"IF('Gas Cylinder Information'!F722=\"\",\"\",'Gas Cylinder Information'!F722)","v":""},{"$f":"IF('Gas Cylinder Information'!G722=\"\",\"\",'Gas Cylinder Information'!G722)","v":""}]
[{"$f":"IF('Gas Cylinder Information'!A723=\"\",\"\",'Gas Cylinder Information'!A723)","v":""},{"$f":"IF('Gas Cylinder Information'!C723=\"\",\"\",'Gas Cylinder Information'!C723)","v":""},{"$f":"IF('Gas Cylinder Information'!D723=\"\",\"\",'Gas Cylinder Information'!D723)","v":""},{"$f":"IF('Gas Cylinder Information'!B723=\"\",\"\",'Gas Cylinder Information'!B723)","v":""},{"$f":"IF('Gas Cylinder Information'!E723=\"\",\"\",'Gas Cylinder Information'!E723)","v":""},{"$f":"IF('Gas Cylinder Information'!F723=\"\",\"\",'Gas Cylinder Information'!F723)","v":""},{"$f":"IF('Gas Cylinder Information'!G723=\"\",\"\",'Gas Cylinder Information'!G723)","v":""}]
[{"$f":"IF('Gas Cylinder Information'!A724=\"\",\"\",'Gas Cylinder Information'!A724)","v":""},{"$f":"IF('Gas Cylinder Information'!C724=\"\",\"\",'Gas Cylinder Information'!C724)","v":""},{"$f":"IF('Gas Cylinder Information'!D724=\"\",\"\",'Gas Cylinder Information'!D724)","v":""},{"$f":"IF('Gas Cylinder Information'!B724=\"\",\"\",'Gas Cylinder Information'!B724)","v":""},{"$f":"IF('Gas Cylinder Information'!E724=\"\",\"\",'Gas Cylinder Information'!E724)","v":""},{"$f":"IF('Gas Cylinder Information'!F724=\"\",\"\",'Gas Cylinder Information'!F724)","v":""},{"$f":"IF('Gas Cylinder Information'!G724=\"\",\"\",'Gas Cylinder Information'!G724)","v":""}]
[{"$f":"IF('Gas Cylinder Information'!A725=\"\",\"\",'Gas Cylinder Information'!A725)","v":""},{"$f":"IF('Gas Cylinder Information'!C725=\"\",\"\",'Gas Cylinder Information'!C725)","v":""},{"$f":"IF('Gas Cylinder Information'!D725=\"\",\"\",'Gas Cylinder Information'!D725)","v":""},{"$f":"IF('Gas Cylinder Information'!B725=\"\",\"\",'Gas Cylinder Information'!B725)","v":""},{"$f":"IF('Gas Cylinder Information'!E725=\"\",\"\",'Gas Cylinder Information'!E725)","v":""},{"$f":"IF('Gas Cylinder Information'!F725=\"\",\"\",'Gas Cylinder Information'!F725)","v":""},{"$f":"IF('Gas Cylinder Information'!G725=\"\",\"\",'Gas Cylinder Information'!G725)","v":""}]
[{"$f":"IF('Gas Cylinder Information'!A726=\"\",\"\",'Gas Cylinder Information'!A726)","v":""},{"$f":"IF('Gas Cylinder Information'!C726=\"\",\"\",'Gas Cylinder Information'!C726)","v":""},{"$f":"IF('Gas Cylinder Information'!D726=\"\",\"\",'Gas Cylinder Information'!D726)","v":""},{"$f":"IF('Gas Cylinder Information'!B726=\"\",\"\",'Gas Cylinder Information'!B726)","v":""},{"$f":"IF('Gas Cylinder Information'!E726=\"\",\"\",'Gas Cylinder Information'!E726)","v":""},{"$f":"IF('Gas Cylinder Information'!F726=\"\",\"\",'Gas Cylinder Information'!F726)","v":""},{"$f":"IF('Gas Cylinder Information'!G726=\"\",\"\",'Gas Cylinder Information'!G726)","v":""}]
[{"$f":"IF('Gas Cylinder Information'!A727=\"\",\"\",'Gas Cylinder Information'!A727)","v":""},{"$f":"IF('Gas Cylinder Information'!C727=\"\",\"\",'Gas Cylinder Information'!C727)","v":""},{"$f":"IF('Gas Cylinder Information'!D727=\"\",\"\",'Gas Cylinder Information'!D727)","v":""},{"$f":"IF('Gas Cylinder Information'!B727=\"\",\"\",'Gas Cylinder Information'!B727)","v":""},{"$f":"IF('Gas Cylinder Information'!E727=\"\",\"\",'Gas Cylinder Information'!E727)","v":""},{"$f":"IF('Gas Cylinder Information'!F727=\"\",\"\",'Gas Cylinder Information'!F727)","v":""},{"$f":"IF('Gas Cylinder Information'!G727=\"\",\"\",'Gas Cylinder Information'!G727)","v":""}]
[{"$f":"IF('Gas Cylinder Information'!A728=\"\",\"\",'Gas Cylinder Information'!A728)","v":""},{"$f":"IF('Gas Cylinder Information'!C728=\"\",\"\",'Gas Cylinder Information'!C728)","v":""},{"$f":"IF('Gas Cylinder Information'!D728=\"\",\"\",'Gas Cylinder Information'!D728)","v":""},{"$f":"IF('Gas Cylinder Information'!B728=\"\",\"\",'Gas Cylinder Information'!B728)","v":""},{"$f":"IF('Gas Cylinder Information'!E728=\"\",\"\",'Gas Cylinder Information'!E728)","v":""},{"$f":"IF('Gas Cylinder Information'!F728=\"\",\"\",'Gas Cylinder Information'!F728)","v":""},{"$f":"IF('Gas Cylinder Information'!G728=\"\",\"\",'Gas Cylinder Information'!G728)","v":""}]
[{"$f":"IF('Gas Cylinder Information'!A729=\"\",\"\",'Gas Cylinder Information'!A729)","v":""},{"$f":"IF('Gas Cylinder Information'!C729=\"\",\"\",'Gas Cylinder Information'!C729)","v":""},{"$f":"IF('Gas Cylinder Information'!D729=\"\",\"\",'Gas Cylinder Information'!D729)","v":""},{"$f":"IF('Gas Cylinder Information'!B729=\"\",\"\",'Gas Cylinder Information'!B729)","v":""},{"$f":"IF('Gas Cylinder Information'!E729=\"\",\"\",'Gas Cylinder Information'!E729)","v":""},{"$f":"IF('Gas Cylinder Information'!F729=\"\",\"\",'Gas Cylinder Information'!F729)","v":""},{"$f":"IF('Gas Cylinder Information'!G729=\"\",\"\",'Gas Cylinder Information'!G729)","v":""}]
[{"$f":"IF('Gas Cylinder Information'!A730=\"\",\"\",'Gas Cylinder Information'!A730)","v":""},{"$f":"IF('Gas Cylinder Information'!C730=\"\",\"\",'Gas Cylinder Information'!C730)","v":""},{"$f":"IF('Gas Cylinder Information'!D730=\"\",\"\",'Gas Cylinder Information'!D730)","v":""},{"$f":"IF('Gas Cylinder Information'!B730=\"\",\"\",'Gas Cylinder Information'!B730)","v":""},{"$f":"IF('Gas Cylinder Information'!E730=\"\",\"\",'Gas Cylinder Information'!E730)","v":""},{"$f":"IF('Gas Cylinder Information'!F730=\"\",\"\",'Gas Cylinder Information'!F730)","v":""},{"$f":"IF('Gas Cylinder Information'!G730=\"\",\"\",'Gas Cylinder Information'!G730)","v":""}]
[{"$f":"IF('Gas Cylinder Information'!A731=\"\",\"\",'Gas Cylinder Information'!A731)","v":""},{"$f":"IF('Gas Cylinder Information'!C731=\"\",\"\",'Gas Cylinder Information'!C731)","v":""},{"$f":"IF('Gas Cylinder Information'!D731=\"\",\"\",'Gas Cylinder Information'!D731)","v":""},{"$f":"IF('Gas Cylinder Information'!B731=\"\",\"\",'Gas Cylinder Information'!B731)","v":""},{"$f":"IF('Gas Cylinder Information'!E731=\"\",\"\",'Gas Cylinder Information'!E731)","v":""},{"$f":"IF('Gas Cylinder Information'!F731=\"\",\"\",'Gas Cylinder Information'!F731)","v":""},{"$f":"IF('Gas Cylinder Information'!G731=\"\",\"\",'Gas Cylinder Information'!G731)","v":""}]
[{"$f":"IF('Gas Cylinder Information'!A732=\"\",\"\",'Gas Cylinder Information'!A732)","v":""},{"$f":"IF('Gas Cylinder Information'!C732=\"\",\"\",'Gas Cylinder Information'!C732)","v":""},{"$f":"IF('Gas Cylinder Information'!D732=\"\",\"\",'Gas Cylinder Information'!D732)","v":""},{"$f":"IF('Gas Cylinder Information'!B732=\"\",\"\",'Gas Cylinder Information'!B732)","v":""},{"$f":"IF('Gas Cylinder Information'!E732=\"\",\"\",'Gas Cylinder Information'!E732)","v":""},{"$f":"IF('Gas Cylinder Information'!F732=\"\",\"\",'Gas Cylinder Information'!F732)","v":""},{"$f":"IF('Gas Cylinder Information'!G732=\"\",\"\",'Gas Cylinder Information'!G732)","v":""}]
[{"$f":"IF('Gas Cylinder Information'!A733=\"\",\"\",'Gas Cylinder Information'!A733)","v":""},{"$f":"IF('Gas Cylinder Information'!C733=\"\",\"\",'Gas Cylinder Information'!C733)","v":""},{"$f":"IF('Gas Cylinder Information'!D733=\"\",\"\",'Gas Cylinder Information'!D733)","v":""},{"$f":"IF('Gas Cylinder Information'!B733=\"\",\"\",'Gas Cylinder Information'!B733)","v":""},{"$f":"IF('Gas Cylinder Information'!E733=\"\",\"\",'Gas Cylinder Information'!E733)","v":""},{"$f":"IF('Gas Cylinder Information'!F733=\"\",\"\",'Gas Cylinder Information'!F733)","v":""},{"$f":"IF('Gas Cylinder Information'!G733=\"\",\"\",'Gas Cylinder Information'!G733)","v":""}]
[{"$f":"IF('Gas Cylinder Information'!A734=\"\",\"\",'Gas Cylinder Information'!A734)","v":""},{"$f":"IF('Gas Cylinder Information'!C734=\"\",\"\",'Gas Cylinder Information'!C734)","v":""},{"$f":"IF('Gas Cylinder Information'!D734=\"\",\"\",'Gas Cylinder Information'!D734)","v":""},{"$f":"IF('Gas Cylinder Information'!B734=\"\",\"\",'Gas Cylinder Information'!B734)","v":""},{"$f":"IF('Gas Cylinder Information'!E734=\"\",\"\",'Gas Cylinder Information'!E734)","v":""},{"$f":"IF('Gas Cylinder Information'!F734=\"\",\"\",'Gas Cylinder Information'!F734)","v":""},{"$f":"IF('Gas Cylinder Information'!G734=\"\",\"\",'Gas Cylinder Information'!G734)","v":""}]
[{"$f":"IF('Gas Cylinder Information'!A735=\"\",\"\",'Gas Cylinder Information'!A735)","v":""},{"$f":"IF('Gas Cylinder Information'!C735=\"\",\"\",'Gas Cylinder Information'!C735)","v":""},{"$f":"IF('Gas Cylinder Information'!D735=\"\",\"\",'Gas Cylinder Information'!D735)","v":""},{"$f":"IF('Gas Cylinder Information'!B735=\"\",\"\",'Gas Cylinder Information'!B735)","v":""},{"$f":"IF('Gas Cylinder Information'!E735=\"\",\"\",'Gas Cylinder Information'!E735)","v":""},{"$f":"IF('Gas Cylinder Information'!F735=\"\",\"\",'Gas Cylinder Information'!F735)","v":""},{"$f":"IF('Gas Cylinder Information'!G735=\"\",\"\",'Gas Cylinder Information'!G735)","v":""}]
[{"$f":"IF('Gas Cylinder Information'!A736=\"\",\"\",'Gas Cylinder Information'!A736)","v":""},{"$f":"IF('Gas Cylinder Information'!C736=\"\",\"\",'Gas Cylinder Information'!C736)","v":""},{"$f":"IF('Gas Cylinder Information'!D736=\"\",\"\",'Gas Cylinder Information'!D736)","v":""},{"$f":"IF('Gas Cylinder Information'!B736=\"\",\"\",'Gas Cylinder Information'!B736)","v":""},{"$f":"IF('Gas Cylinder Information'!E736=\"\",\"\",'Gas Cylinder Information'!E736)","v":""},{"$f":"IF('Gas Cylinder Information'!F736=\"\",\"\",'Gas Cylinder Information'!F736)","v":""},{"$f":"IF('Gas Cylinder Information'!G736=\"\",\"\",'Gas Cylinder Information'!G736)","v":""}]
[{"$f":"IF('Gas Cylinder Information'!A737=\"\",\"\",'Gas Cylinder Information'!A737)","v":""},{"$f":"IF('Gas Cylinder Information'!C737=\"\",\"\",'Gas Cylinder Information'!C737)","v":""},{"$f":"IF('Gas Cylinder Information'!D737=\"\",\"\",'Gas Cylinder Information'!D737)","v":""},{"$f":"IF('Gas Cylinder Information'!B737=\"\",\"\",'Gas Cylinder Information'!B737)","v":""},{"$f":"IF('Gas Cylinder Information'!E737=\"\",\"\",'Gas Cylinder Information'!E737)","v":""},{"$f":"IF('Gas Cylinder Information'!F737=\"\",\"\",'Gas Cylinder Information'!F737)","v":""},{"$f":"IF('Gas Cylinder Information'!G737=\"\",\"\",'Gas Cylinder Information'!G737)","v":""}]
[{"$f":"IF('Gas Cylinder Information'!A738=\"\",\"\",'Gas Cylinder Information'!A738)","v":""},{"$f":"IF('Gas Cylinder Information'!C738=\"\",\"\",'Gas Cylinder Information'!C738)","v":""},{"$f":"IF('Gas Cylinder Information'!D738=\"\",\"\",'Gas Cylinder Information'!D738)","v":""},{"$f":"IF('Gas Cylinder Information'!B738=\"\",\"\",'Gas Cylinder Information'!B738)","v":""},{"$f":"IF('Gas Cylinder Information'!E738=\"\",\"\",'Gas Cylinder Information'!E738)","v":""},{"$f":"IF('Gas Cylinder Information'!F738=\"\",\"\",'Gas Cylinder Information'!F738)","v":""},{"$f":"IF('Gas Cylinder Information'!G738=\"\",\"\",'Gas Cylinder Information'!G738)","v":""}]
[{"$f":"IF('Gas Cylinder Information'!A739=\"\",\"\",'Gas Cylinder Information'!A739)","v":""},{"$f":"IF('Gas Cylinder Information'!C739=\"\",\"\",'Gas Cylinder Information'!C739)","v":""},{"$f":"IF('Gas Cylinder Information'!D739=\"\",\"\",'Gas Cylinder Information'!D739)","v":""},{"$f":"IF('Gas Cylinder Information'!B739=\"\",\"\",'Gas Cylinder Information'!B739)","v":""},{"$f":"IF('Gas Cylinder Information'!E739=\"\",\"\",'Gas Cylinder Information'!E739)","v":""},{"$f":"IF('Gas Cylinder Information'!F739=\"\",\"\",'Gas Cylinder Information'!F739)","v":""},{"$f":"IF('Gas Cylinder Information'!G739=\"\",\"\",'Gas Cylinder Information'!G739)","v":""}]
[{"$f":"IF('Gas Cylinder Information'!A740=\"\",\"\",'Gas Cylinder Information'!A740)","v":""},{"$f":"IF('Gas Cylinder Information'!C740=\"\",\"\",'Gas Cylinder Information'!C740)","v":""},{"$f":"IF('Gas Cylinder Information'!D740=\"\",\"\",'Gas Cylinder Information'!D740)","v":""},{"$f":"IF('Gas Cylinder Information'!B740=\"\",\"\",'Gas Cylinder Information'!B740)","v":""},{"$f":"IF('Gas Cylinder Information'!E740=\"\",\"\",'Gas Cylinder Information'!E740)","v":""},{"$f":"IF('Gas Cylinder Information'!F740=\"\",\"\",'Gas Cylinder Information'!F740)","v":""},{"$f":"IF('Gas Cylinder Information'!G740=\"\",\"\",'Gas Cylinder Information'!G740)","v":""}]
[{"$f":"IF('Gas Cylinder Information'!A741=\"\",\"\",'Gas Cylinder Information'!A741)","v":""},{"$f":"IF('Gas Cylinder Information'!C741=\"\",\"\",'Gas Cylinder Information'!C741)","v":""},{"$f":"IF('Gas Cylinder Information'!D741=\"\",\"\",'Gas Cylinder Information'!D741)","v":""},{"$f":"IF('Gas Cylinder Information'!B741=\"\",\"\",'Gas Cylinder Information'!B741)","v":""},{"$f":"IF('Gas Cylinder Information'!E741=\"\",\"\",'Gas Cylinder Information'!E741)","v":""},{"$f":"IF('Gas Cylinder Information'!F741=\"\",\"\",'Gas Cylinder Information'!F741)","v":""},{"$f":"IF('Gas Cylinder Information'!G741=\"\",\"\",'Gas Cylinder Information'!G741)","v":""}]
[{"$f":"IF('Gas Cylinder Information'!A742=\"\",\"\",'Gas Cylinder Information'!A742)","v":""},{"$f":"IF('Gas Cylinder Information'!C742=\"\",\"\",'Gas Cylinder Information'!C742)","v":""},{"$f":"IF('Gas Cylinder Information'!D742=\"\",\"\",'Gas Cylinder Information'!D742)","v":""},{"$f":"IF('Gas Cylinder Information'!B742=\"\",\"\",'Gas Cylinder Information'!B742)","v":""},{"$f":"IF('Gas Cylinder Information'!E742=\"\",\"\",'Gas Cylinder Information'!E742)","v":""},{"$f":"IF('Gas Cylinder Information'!F742=\"\",\"\",'Gas Cylinder Information'!F742)","v":""},{"$f":"IF('Gas Cylinder Information'!G742=\"\",\"\",'Gas Cylinder Information'!G742)","v":""}]
[{"$f":"IF('Gas Cylinder Information'!A743=\"\",\"\",'Gas Cylinder Information'!A743)","v":""},{"$f":"IF('Gas Cylinder Information'!C743=\"\",\"\",'Gas Cylinder Information'!C743)","v":""},{"$f":"IF('Gas Cylinder Information'!D743=\"\",\"\",'Gas Cylinder Information'!D743)","v":""},{"$f":"IF('Gas Cylinder Information'!B743=\"\",\"\",'Gas Cylinder Information'!B743)","v":""},{"$f":"IF('Gas Cylinder Information'!E743=\"\",\"\",'Gas Cylinder Information'!E743)","v":""},{"$f":"IF('Gas Cylinder Information'!F743=\"\",\"\",'Gas Cylinder Information'!F743)","v":""},{"$f":"IF('Gas Cylinder Information'!G743=\"\",\"\",'Gas Cylinder Information'!G743)","v":""}]
[{"$f":"IF('Gas Cylinder Information'!A744=\"\",\"\",'Gas Cylinder Information'!A744)","v":""},{"$f":"IF('Gas Cylinder Information'!C744=\"\",\"\",'Gas Cylinder Information'!C744)","v":""},{"$f":"IF('Gas Cylinder Information'!D744=\"\",\"\",'Gas Cylinder Information'!D744)","v":""},{"$f":"IF('Gas Cylinder Information'!B744=\"\",\"\",'Gas Cylinder Information'!B744)","v":""},{"$f":"IF('Gas Cylinder Information'!E744=\"\",\"\",'Gas Cylinder Information'!E744)","v":""},{"$f":"IF('Gas Cylinder Information'!F744=\"\",\"\",'Gas Cylinder Information'!F744)","v":""},{"$f":"IF('Gas Cylinder Information'!G744=\"\",\"\",'Gas Cylinder Information'!G744)","v":""}]
[{"$f":"IF('Gas Cylinder Information'!A745=\"\",\"\",'Gas Cylinder Information'!A745)","v":""},{"$f":"IF('Gas Cylinder Information'!C745=\"\",\"\",'Gas Cylinder Information'!C745)","v":""},{"$f":"IF('Gas Cylinder Information'!D745=\"\",\"\",'Gas Cylinder Information'!D745)","v":""},{"$f":"IF('Gas Cylinder Information'!B745=\"\",\"\",'Gas Cylinder Information'!B745)","v":""},{"$f":"IF('Gas Cylinder Information'!E745=\"\",\"\",'Gas Cylinder Information'!E745)","v":""},{"$f":"IF('Gas Cylinder Information'!F745=\"\",\"\",'Gas Cylinder Information'!F745)","v":""},{"$f":"IF('Gas Cylinder Information'!G745=\"\",\"\",'Gas Cylinder Information'!G745)","v":""}]
[{"$f":"IF('Gas Cylinder Information'!A746=\"\",\"\",'Gas Cylinder Information'!A746)","v":""},{"$f":"IF('Gas Cylinder Information'!C746=\"\",\"\",'Gas Cylinder Information'!C746)","v":""},{"$f":"IF('Gas Cylinder Information'!D746=\"\",\"\",'Gas Cylinder Information'!D746)","v":""},{"$f":"IF('Gas Cylinder Information'!B746=\"\",\"\",'Gas Cylinder Information'!B746)","v":""},{"$f":"IF('Gas Cylinder Information'!E746=\"\",\"\",'Gas Cylinder Information'!E746)","v":""},{"$f":"IF('Gas Cylinder Information'!F746=\"\",\"\",'Gas Cylinder Information'!F746)","v":""},{"$f":"IF('Gas Cylinder Information'!G746=\"\",\"\",'Gas Cylinder Information'!G746)","v":""}]
[{"$f":"IF('Gas Cylinder Information'!A747=\"\",\"\",'Gas Cylinder Information'!A747)","v":""},{"$f":"IF('Gas Cylinder Information'!C747=\"\",\"\",'Gas Cylinder Information'!C747)","v":""},{"$f":"IF('Gas Cylinder Information'!D747=\"\",\"\",'Gas Cylinder Information'!D747)","v":""},{"$f":"IF('Gas Cylinder Information'!B747=\"\",\"\",'Gas Cylinder Information'!B747)","v":""},{"$f":"IF('Gas Cylinder Information'!E747=\"\",\"\",'Gas Cylinder Information'!E747)","v":""},{"$f":"IF('Gas Cylinder Information'!F747=\"\",\"\",'Gas Cylinder Information'!F747)","v":""},{"$f":"IF('Gas Cylinder Information'!G747=\"\",\"\",'Gas Cylinder Information'!G747)","v":""}]
[{"$f":"IF('Gas Cylinder Information'!A748=\"\",\"\",'Gas Cylinder Information'!A748)","v":""},{"$f":"IF('Gas Cylinder Information'!C748=\"\",\"\",'Gas Cylinder Information'!C748)","v":""},{"$f":"IF('Gas Cylinder Information'!D748=\"\",\"\",'Gas Cylinder Information'!D748)","v":""},{"$f":"IF('Gas Cylinder Information'!B748=\"\",\"\",'Gas Cylinder Information'!B748)","v":""},{"$f":"IF('Gas Cylinder Information'!E748=\"\",\"\",'Gas Cylinder Information'!E748)","v":""},{"$f":"IF('Gas Cylinder Information'!F748=\"\",\"\",'Gas Cylinder Information'!F748)","v":""},{"$f":"IF('Gas Cylinder Information'!G748=\"\",\"\",'Gas Cylinder Information'!G748)","v":""}]
[{"$f":"IF('Gas Cylinder Information'!A749=\"\",\"\",'Gas Cylinder Information'!A749)","v":""},{"$f":"IF('Gas Cylinder Information'!C749=\"\",\"\",'Gas Cylinder Information'!C749)","v":""},{"$f":"IF('Gas Cylinder Information'!D749=\"\",\"\",'Gas Cylinder Information'!D749)","v":""},{"$f":"IF('Gas Cylinder Information'!B749=\"\",\"\",'Gas Cylinder Information'!B749)","v":""},{"$f":"IF('Gas Cylinder Information'!E749=\"\",\"\",'Gas Cylinder Information'!E749)","v":""},{"$f":"IF('Gas Cylinder Information'!F749=\"\",\"\",'Gas Cylinder Information'!F749)","v":""},{"$f":"IF('Gas Cylinder Information'!G749=\"\",\"\",'Gas Cylinder Information'!G749)","v":""}]
[{"$f":"IF('Gas Cylinder Information'!A750=\"\",\"\",'Gas Cylinder Information'!A750)","v":""},{"$f":"IF('Gas Cylinder Information'!C750=\"\",\"\",'Gas Cylinder Information'!C750)","v":""},{"$f":"IF('Gas Cylinder Information'!D750=\"\",\"\",'Gas Cylinder Information'!D750)","v":""},{"$f":"IF('Gas Cylinder Information'!B750=\"\",\"\",'Gas Cylinder Information'!B750)","v":""},{"$f":"IF('Gas Cylinder Information'!E750=\"\",\"\",'Gas Cylinder Information'!E750)","v":""},{"$f":"IF('Gas Cylinder Information'!F750=\"\",\"\",'Gas Cylinder Information'!F750)","v":""},{"$f":"IF('Gas Cylinder Information'!G750=\"\",\"\",'Gas Cylinder Information'!G750)","v":""}]
[{"$f":"IF('Gas Cylinder Information'!A751=\"\",\"\",'Gas Cylinder Information'!A751)","v":""},{"$f":"IF('Gas Cylinder Information'!C751=\"\",\"\",'Gas Cylinder Information'!C751)","v":""},{"$f":"IF('Gas Cylinder Information'!D751=\"\",\"\",'Gas Cylinder Information'!D751)","v":""},{"$f":"IF('Gas Cylinder Information'!B751=\"\",\"\",'Gas Cylinder Information'!B751)","v":""},{"$f":"IF('Gas Cylinder Information'!E751=\"\",\"\",'Gas Cylinder Information'!E751)","v":""},{"$f":"IF('Gas Cylinder Information'!F751=\"\",\"\",'Gas Cylinder Information'!F751)","v":""},{"$f":"IF('Gas Cylinder Information'!G751=\"\",\"\",'Gas Cylinder Information'!G751)","v":""}]
[{"$f":"IF('Gas Cylinder Information'!A752=\"\",\"\",'Gas Cylinder Information'!A752)","v":""},{"$f":"IF('Gas Cylinder Information'!C752=\"\",\"\",'Gas Cylinder Information'!C752)","v":""},{"$f":"IF('Gas Cylinder Information'!D752=\"\",\"\",'Gas Cylinder Information'!D752)","v":""},{"$f":"IF('Gas Cylinder Information'!B752=\"\",\"\",'Gas Cylinder Information'!B752)","v":""},{"$f":"IF('Gas Cylinder Information'!E752=\"\",\"\",'Gas Cylinder Information'!E752)","v":""},{"$f":"IF('Gas Cylinder Information'!F752=\"\",\"\",'Gas Cylinder Information'!F752)","v":""},{"$f":"IF('Gas Cylinder Information'!G752=\"\",\"\",'Gas Cylinder Information'!G752)","v":""}]
[{"$f":"IF('Gas Cylinder Information'!A753=\"\",\"\",'Gas Cylinder Information'!A753)","v":""},{"$f":"IF('Gas Cylinder Information'!C753=\"\",\"\",'Gas Cylinder Information'!C753)","v":""},{"$f":"IF('Gas Cylinder Information'!D753=\"\",\"\",'Gas Cylinder Information'!D753)","v":""},{"$f":"IF('Gas Cylinder Information'!B753=\"\",\"\",'Gas Cylinder Information'!B753)","v":""},{"$f":"IF('Gas Cylinder Information'!E753=\"\",\"\",'Gas Cylinder Information'!E753)","v":""},{"$f":"IF('Gas Cylinder Information'!F753=\"\",\"\",'Gas Cylinder Information'!F753)","v":""},{"$f":"IF('Gas Cylinder Information'!G753=\"\",\"\",'Gas Cylinder Information'!G753)","v":""}]
[{"$f":"IF('Gas Cylinder Information'!A754=\"\",\"\",'Gas Cylinder Information'!A754)","v":""},{"$f":"IF('Gas Cylinder Information'!C754=\"\",\"\",'Gas Cylinder Information'!C754)","v":""},{"$f":"IF('Gas Cylinder Information'!D754=\"\",\"\",'Gas Cylinder Information'!D754)","v":""},{"$f":"IF('Gas Cylinder Information'!B754=\"\",\"\",'Gas Cylinder Information'!B754)","v":""},{"$f":"IF('Gas Cylinder Information'!E754=\"\",\"\",'Gas Cylinder Information'!E754)","v":""},{"$f":"IF('Gas Cylinder Information'!F754=\"\",\"\",'Gas Cylinder Information'!F754)","v":""},{"$f":"IF('Gas Cylinder Information'!G754=\"\",\"\",'Gas Cylinder Information'!G754)","v":""}]
[{"$f":"IF('Gas Cylinder Information'!A755=\"\",\"\",'Gas Cylinder Information'!A755)","v":""},{"$f":"IF('Gas Cylinder Information'!C755=\"\",\"\",'Gas Cylinder Information'!C755)","v":""},{"$f":"IF('Gas Cylinder Information'!D755=\"\",\"\",'Gas Cylinder Information'!D755)","v":""},{"$f":"IF('Gas Cylinder Information'!B755=\"\",\"\",'Gas Cylinder Information'!B755)","v":""},{"$f":"IF('Gas Cylinder Information'!E755=\"\",\"\",'Gas Cylinder Information'!E755)","v":""},{"$f":"IF('Gas Cylinder Information'!F755=\"\",\"\",'Gas Cylinder Information'!F755)","v":""},{"$f":"IF('Gas Cylinder Information'!G755=\"\",\"\",'Gas Cylinder Information'!G755)","v":""}]
[{"$f":"IF('Gas Cylinder Information'!A756=\"\",\"\",'Gas Cylinder Information'!A756)","v":""},{"$f":"IF('Gas Cylinder Information'!C756=\"\",\"\",'Gas Cylinder Information'!C756)","v":""},{"$f":"IF('Gas Cylinder Information'!D756=\"\",\"\",'Gas Cylinder Information'!D756)","v":""},{"$f":"IF('Gas Cylinder Information'!B756=\"\",\"\",'Gas Cylinder Information'!B756)","v":""},{"$f":"IF('Gas Cylinder Information'!E756=\"\",\"\",'Gas Cylinder Information'!E756)","v":""},{"$f":"IF('Gas Cylinder Information'!F756=\"\",\"\",'Gas Cylinder Information'!F756)","v":""},{"$f":"IF('Gas Cylinder Information'!G756=\"\",\"\",'Gas Cylinder Information'!G756)","v":""}]
[{"$f":"IF('Gas Cylinder Information'!A757=\"\",\"\",'Gas Cylinder Information'!A757)","v":""},{"$f":"IF('Gas Cylinder Information'!C757=\"\",\"\",'Gas Cylinder Information'!C757)","v":""},{"$f":"IF('Gas Cylinder Information'!D757=\"\",\"\",'Gas Cylinder Information'!D757)","v":""},{"$f":"IF('Gas Cylinder Information'!B757=\"\",\"\",'Gas Cylinder Information'!B757)","v":""},{"$f":"IF('Gas Cylinder Information'!E757=\"\",\"\",'Gas Cylinder Information'!E757)","v":""},{"$f":"IF('Gas Cylinder Information'!F757=\"\",\"\",'Gas Cylinder Information'!F757)","v":""},{"$f":"IF('Gas Cylinder Information'!G757=\"\",\"\",'Gas Cylinder Information'!G757)","v":""}]
[{"$f":"IF('Gas Cylinder Information'!A758=\"\",\"\",'Gas Cylinder Information'!A758)","v":""},{"$f":"IF('Gas Cylinder Information'!C758=\"\",\"\",'Gas Cylinder Information'!C758)","v":""},{"$f":"IF('Gas Cylinder Information'!D758=\"\",\"\",'Gas Cylinder Information'!D758)","v":""},{"$f":"IF('Gas Cylinder Information'!B758=\"\",\"\",'Gas Cylinder Information'!B758)","v":""},{"$f":"IF('Gas Cylinder Information'!E758=\"\",\"\",'Gas Cylinder Information'!E758)","v":""},{"$f":"IF('Gas Cylinder Information'!F758=\"\",\"\",'Gas Cylinder Information'!F758)","v":""},{"$f":"IF('Gas Cylinder Information'!G758=\"\",\"\",'Gas Cylinder Information'!G758)","v":""}]
[{"$f":"IF('Gas Cylinder Information'!A759=\"\",\"\",'Gas Cylinder Information'!A759)","v":""},{"$f":"IF('Gas Cylinder Information'!C759=\"\",\"\",'Gas Cylinder Information'!C759)","v":""},{"$f":"IF('Gas Cylinder Information'!D759=\"\",\"\",'Gas Cylinder Information'!D759)","v":""},{"$f":"IF('Gas Cylinder Information'!B759=\"\",\"\",'Gas Cylinder Information'!B759)","v":""},{"$f":"IF('Gas Cylinder Information'!E759=\"\",\"\",'Gas Cylinder Information'!E759)","v":""},{"$f":"IF('Gas Cylinder Information'!F759=\"\",\"\",'Gas Cylinder Information'!F759)","v":""},{"$f":"IF('Gas Cylinder Information'!G759=\"\",\"\",'Gas Cylinder Information'!G759)","v":""}]
[{"$f":"IF('Gas Cylinder Information'!A760=\"\",\"\",'Gas Cylinder Information'!A760)","v":""},{"$f":"IF('Gas Cylinder Information'!C760=\"\",\"\",'Gas Cylinder Information'!C760)","v":""},{"$f":"IF('Gas Cylinder Information'!D760=\"\",\"\",'Gas Cylinder Information'!D760)","v":""},{"$f":"IF('Gas Cylinder Information'!B760=\"\",\"\",'Gas Cylinder Information'!B760)","v":""},{"$f":"IF('Gas Cylinder Information'!E760=\"\",\"\",'Gas Cylinder Information'!E760)","v":""},{"$f":"IF('Gas Cylinder Information'!F760=\"\",\"\",'Gas Cylinder Information'!F760)","v":""},{"$f":"IF('Gas Cylinder Information'!G760=\"\",\"\",'Gas Cylinder Information'!G760)","v":""}]
[{"$f":"IF('Gas Cylinder Information'!A761=\"\",\"\",'Gas Cylinder Information'!A761)","v":""},{"$f":"IF('Gas Cylinder Information'!C761=\"\",\"\",'Gas Cylinder Information'!C761)","v":""},{"$f":"IF('Gas Cylinder Information'!D761=\"\",\"\",'Gas Cylinder Information'!D761)","v":""},{"$f":"IF('Gas Cylinder Information'!B761=\"\",\"\",'Gas Cylinder Information'!B761)","v":""},{"$f":"IF('Gas Cylinder Information'!E761=\"\",\"\",'Gas Cylinder Information'!E761)","v":""},{"$f":"IF('Gas Cylinder Information'!F761=\"\",\"\",'Gas Cylinder Information'!F761)","v":""},{"$f":"IF('Gas Cylinder Information'!G761=\"\",\"\",'Gas Cylinder Information'!G761)","v":""}]
[{"$f":"IF('Gas Cylinder Information'!A762=\"\",\"\",'Gas Cylinder Information'!A762)","v":""},{"$f":"IF('Gas Cylinder Information'!C762=\"\",\"\",'Gas Cylinder Information'!C762)","v":""},{"$f":"IF('Gas Cylinder Information'!D762=\"\",\"\",'Gas Cylinder Information'!D762)","v":""},{"$f":"IF('Gas Cylinder Information'!B762=\"\",\"\",'Gas Cylinder Information'!B762)","v":""},{"$f":"IF('Gas Cylinder Information'!E762=\"\",\"\",'Gas Cylinder Information'!E762)","v":""},{"$f":"IF('Gas Cylinder Information'!F762=\"\",\"\",'Gas Cylinder Information'!F762)","v":""},{"$f":"IF('Gas Cylinder Information'!G762=\"\",\"\",'Gas Cylinder Information'!G762)","v":""}]
[{"$f":"IF('Gas Cylinder Information'!A763=\"\",\"\",'Gas Cylinder Information'!A763)","v":""},{"$f":"IF('Gas Cylinder Information'!C763=\"\",\"\",'Gas Cylinder Information'!C763)","v":""},{"$f":"IF('Gas Cylinder Information'!D763=\"\",\"\",'Gas Cylinder Information'!D763)","v":""},{"$f":"IF('Gas Cylinder Information'!B763=\"\",\"\",'Gas Cylinder Information'!B763)","v":""},{"$f":"IF('Gas Cylinder Information'!E763=\"\",\"\",'Gas Cylinder Information'!E763)","v":""},{"$f":"IF('Gas Cylinder Information'!F763=\"\",\"\",'Gas Cylinder Information'!F763)","v":""},{"$f":"IF('Gas Cylinder Information'!G763=\"\",\"\",'Gas Cylinder Information'!G763)","v":""}]
[{"$f":"IF('Gas Cylinder Information'!A764=\"\",\"\",'Gas Cylinder Information'!A764)","v":""},{"$f":"IF('Gas Cylinder Information'!C764=\"\",\"\",'Gas Cylinder Information'!C764)","v":""},{"$f":"IF('Gas Cylinder Information'!D764=\"\",\"\",'Gas Cylinder Information'!D764)","v":""},{"$f":"IF('Gas Cylinder Information'!B764=\"\",\"\",'Gas Cylinder Information'!B764)","v":""},{"$f":"IF('Gas Cylinder Information'!E764=\"\",\"\",'Gas Cylinder Information'!E764)","v":""},{"$f":"IF('Gas Cylinder Information'!F764=\"\",\"\",'Gas Cylinder Information'!F764)","v":""},{"$f":"IF('Gas Cylinder Information'!G764=\"\",\"\",'Gas Cylinder Information'!G764)","v":""}]
[{"$f":"IF('Gas Cylinder Information'!A765=\"\",\"\",'Gas Cylinder Information'!A765)","v":""},{"$f":"IF('Gas Cylinder Information'!C765=\"\",\"\",'Gas Cylinder Information'!C765)","v":""},{"$f":"IF('Gas Cylinder Information'!D765=\"\",\"\",'Gas Cylinder Information'!D765)","v":""},{"$f":"IF('Gas Cylinder Information'!B765=\"\",\"\",'Gas Cylinder Information'!B765)","v":""},{"$f":"IF('Gas Cylinder Information'!E765=\"\",\"\",'Gas Cylinder Information'!E765)","v":""},{"$f":"IF('Gas Cylinder Information'!F765=\"\",\"\",'Gas Cylinder Information'!F765)","v":""},{"$f":"IF('Gas Cylinder Information'!G765=\"\",\"\",'Gas Cylinder Information'!G765)","v":""}]
[{"$f":"IF('Gas Cylinder Information'!A766=\"\",\"\",'Gas Cylinder Information'!A766)","v":""},{"$f":"IF('Gas Cylinder Information'!C766=\"\",\"\",'Gas Cylinder Information'!C766)","v":""},{"$f":"IF('Gas Cylinder Information'!D766=\"\",\"\",'Gas Cylinder Information'!D766)","v":""},{"$f":"IF('Gas Cylinder Information'!B766=\"\",\"\",'Gas Cylinder Information'!B766)","v":""},{"$f":"IF('Gas Cylinder Information'!E766=\"\",\"\",'Gas Cylinder Information'!E766)","v":""},{"$f":"IF('Gas Cylinder Information'!F766=\"\",\"\",'Gas Cylinder Information'!F766)","v":""},{"$f":"IF('Gas Cylinder Information'!G766=\"\",\"\",'Gas Cylinder Information'!G766)","v":""}]
[{"$f":"IF('Gas Cylinder Information'!A767=\"\",\"\",'Gas Cylinder Information'!A767)","v":""},{"$f":"IF('Gas Cylinder Information'!C767=\"\",\"\",'Gas Cylinder Information'!C767)","v":""},{"$f":"IF('Gas Cylinder Information'!D767=\"\",\"\",'Gas Cylinder Information'!D767)","v":""},{"$f":"IF('Gas Cylinder Information'!B767=\"\",\"\",'Gas Cylinder Information'!B767)","v":""},{"$f":"IF('Gas Cylinder Information'!E767=\"\",\"\",'Gas Cylinder Information'!E767)","v":""},{"$f":"IF('Gas Cylinder Information'!F767=\"\",\"\",'Gas Cylinder Information'!F767)","v":""},{"$f":"IF('Gas Cylinder Information'!G767=\"\",\"\",'Gas Cylinder Information'!G767)","v":""}]
[{"$f":"IF('Gas Cylinder Information'!A768=\"\",\"\",'Gas Cylinder Information'!A768)","v":""},{"$f":"IF('Gas Cylinder Information'!C768=\"\",\"\",'Gas Cylinder Information'!C768)","v":""},{"$f":"IF('Gas Cylinder Information'!D768=\"\",\"\",'Gas Cylinder Information'!D768)","v":""},{"$f":"IF('Gas Cylinder Information'!B768=\"\",\"\",'Gas Cylinder Information'!B768)","v":""},{"$f":"IF('Gas Cylinder Information'!E768=\"\",\"\",'Gas Cylinder Information'!E768)","v":""},{"$f":"IF('Gas Cylinder Information'!F768=\"\",\"\",'Gas Cylinder Information'!F768)","v":""},{"$f":"IF('Gas Cylinder Information'!G768=\"\",\"\",'Gas Cylinder Information'!G768)","v":""}]
[{"$f":"IF('Gas Cylinder Information'!A769=\"\",\"\",'Gas Cylinder Information'!A769)","v":""},{"$f":"IF('Gas Cylinder Information'!C769=\"\",\"\",'Gas Cylinder Information'!C769)","v":""},{"$f":"IF('Gas Cylinder Information'!D769=\"\",\"\",'Gas Cylinder Information'!D769)","v":""},{"$f":"IF('Gas Cylinder Information'!B769=\"\",\"\",'Gas Cylinder Information'!B769)","v":""},{"$f":"IF('Gas Cylinder Information'!E769=\"\",\"\",'Gas Cylinder Information'!E769)","v":""},{"$f":"IF('Gas Cylinder Information'!F769=\"\",\"\",'Gas Cylinder Information'!F769)","v":""},{"$f":"IF('Gas Cylinder Information'!G769=\"\",\"\",'Gas Cylinder Information'!G769)","v":""}]
[{"$f":"IF('Gas Cylinder Information'!A770=\"\",\"\",'Gas Cylinder Information'!A770)","v":""},{"$f":"IF('Gas Cylinder Information'!C770=\"\",\"\",'Gas Cylinder Information'!C770)","v":""},{"$f":"IF('Gas Cylinder Information'!D770=\"\",\"\",'Gas Cylinder Information'!D770)","v":""},{"$f":"IF('Gas Cylinder Information'!B770=\"\",\"\",'Gas Cylinder Information'!B770)","v":""},{"$f":"IF('Gas Cylinder Information'!E770=\"\",\"\",'Gas Cylinder Information'!E770)","v":""},{"$f":"IF('Gas Cylinder Information'!F770=\"\",\"\",'Gas Cylinder Information'!F770)","v":""},{"$f":"IF('Gas Cylinder Information'!G770=\"\",\"\",'Gas Cylinder Information'!G770)","v":""}]
[{"$f":"IF('Gas Cylinder Information'!A771=\"\",\"\",'Gas Cylinder Information'!A771)","v":""},{"$f":"IF('Gas Cylinder Information'!C771=\"\",\"\",'Gas Cylinder Information'!C771)","v":""},{"$f":"IF('Gas Cylinder Information'!D771=\"\",\"\",'Gas Cylinder Information'!D771)","v":""},{"$f":"IF('Gas Cylinder Information'!B771=\"\",\"\",'Gas Cylinder Information'!B771)","v":""},{"$f":"IF('Gas Cylinder Information'!E771=\"\",\"\",'Gas Cylinder Information'!E771)","v":""},{"$f":"IF('Gas Cylinder Information'!F771=\"\",\"\",'Gas Cylinder Information'!F771)","v":""},{"$f":"IF('Gas Cylinder Information'!G771=\"\",\"\",'Gas Cylinder Information'!G771)","v":""}]
[{"$f":"IF('Gas Cylinder Information'!A772=\"\",\"\",'Gas Cylinder Information'!A772)","v":""},{"$f":"IF('Gas Cylinder Information'!C772=\"\",\"\",'Gas Cylinder Information'!C772)","v":""},{"$f":"IF('Gas Cylinder Information'!D772=\"\",\"\",'Gas Cylinder Information'!D772)","v":""},{"$f":"IF('Gas Cylinder Information'!B772=\"\",\"\",'Gas Cylinder Information'!B772)","v":""},{"$f":"IF('Gas Cylinder Information'!E772=\"\",\"\",'Gas Cylinder Information'!E772)","v":""},{"$f":"IF('Gas Cylinder Information'!F772=\"\",\"\",'Gas Cylinder Information'!F772)","v":""},{"$f":"IF('Gas Cylinder Information'!G772=\"\",\"\",'Gas Cylinder Information'!G772)","v":""}]
[{"$f":"IF('Gas Cylinder Information'!A773=\"\",\"\",'Gas Cylinder Information'!A773)","v":""},{"$f":"IF('Gas Cylinder Information'!C773=\"\",\"\",'Gas Cylinder Information'!C773)","v":""},{"$f":"IF('Gas Cylinder Information'!D773=\"\",\"\",'Gas Cylinder Information'!D773)","v":""},{"$f":"IF('Gas Cylinder Information'!B773=\"\",\"\",'Gas Cylinder Information'!B773)","v":""},{"$f":"IF('Gas Cylinder Information'!E773=\"\",\"\",'Gas Cylinder Information'!E773)","v":""},{"$f":"IF('Gas Cylinder Information'!F773=\"\",\"\",'Gas Cylinder Information'!F773)","v":""},{"$f":"IF('Gas Cylinder Information'!G773=\"\",\"\",'Gas Cylinder Information'!G773)","v":""}]
[{"$f":"IF('Gas Cylinder Information'!A774=\"\",\"\",'Gas Cylinder Information'!A774)","v":""},{"$f":"IF('Gas Cylinder Information'!C774=\"\",\"\",'Gas Cylinder Information'!C774)","v":""},{"$f":"IF('Gas Cylinder Information'!D774=\"\",\"\",'Gas Cylinder Information'!D774)","v":""},{"$f":"IF('Gas Cylinder Information'!B774=\"\",\"\",'Gas Cylinder Information'!B774)","v":""},{"$f":"IF('Gas Cylinder Information'!E774=\"\",\"\",'Gas Cylinder Information'!E774)","v":""},{"$f":"IF('Gas Cylinder Information'!F774=\"\",\"\",'Gas Cylinder Information'!F774)","v":""},{"$f":"IF('Gas Cylinder Information'!G774=\"\",\"\",'Gas Cylinder Information'!G774)","v":""}]
[{"$f":"IF('Gas Cylinder Information'!A775=\"\",\"\",'Gas Cylinder Information'!A775)","v":""},{"$f":"IF('Gas Cylinder Information'!C775=\"\",\"\",'Gas Cylinder Information'!C775)","v":""},{"$f":"IF('Gas Cylinder Information'!D775=\"\",\"\",'Gas Cylinder Information'!D775)","v":""},{"$f":"IF('Gas Cylinder Information'!B775=\"\",\"\",'Gas Cylinder Information'!B775)","v":""},{"$f":"IF('Gas Cylinder Information'!E775=\"\",\"\",'Gas Cylinder Information'!E775)","v":""},{"$f":"IF('Gas Cylinder Information'!F775=\"\",\"\",'Gas Cylinder Information'!F775)","v":""},{"$f":"IF('Gas Cylinder Information'!G775=\"\",\"\",'Gas Cylinder Information'!G775)","v":""}]
[{"$f":"IF('Gas Cylinder Information'!A776=\"\",\"\",'Gas Cylinder Information'!A776)","v":""},{"$f":"IF('Gas Cylinder Information'!C776=\"\",\"\",'Gas Cylinder Information'!C776)","v":""},{"$f":"IF('Gas Cylinder Information'!D776=\"\",\"\",'Gas Cylinder Information'!D776)","v":""},{"$f":"IF('Gas Cylinder Information'!B776=\"\",\"\",'Gas Cylinder Information'!B776)","v":""},{"$f":"IF('Gas Cylinder Information'!E776=\"\",\"\",'Gas Cylinder Information'!E776)","v":""},{"$f":"IF('Gas Cylinder Information'!F776=\"\",\"\",'Gas Cylinder Information'!F776)","v":""},{"$f":"IF('Gas Cylinder Information'!G776=\"\",\"\",'Gas Cylinder Information'!G776)","v":""}]
[{"$f":"IF('Gas Cylinder Information'!A777=\"\",\"\",'Gas Cylinder Information'!A777)","v":""},{"$f":"IF('Gas Cylinder Information'!C777=\"\",\"\",'Gas Cylinder Information'!C777)","v":""},{"$f":"IF('Gas Cylinder Information'!D777=\"\",\"\",'Gas Cylinder Information'!D777)","v":""},{"$f":"IF('Gas Cylinder Information'!B777=\"\",\"\",'Gas Cylinder Information'!B777)","v":""},{"$f":"IF('Gas Cylinder Information'!E777=\"\",\"\",'Gas Cylinder Information'!E777)","v":""},{"$f":"IF('Gas Cylinder Information'!F777=\"\",\"\",'Gas Cylinder Information'!F777)","v":""},{"$f":"IF('Gas Cylinder Information'!G777=\"\",\"\",'Gas Cylinder Information'!G777)","v":""}]
[{"$f":"IF('Gas Cylinder Information'!A778=\"\",\"\",'Gas Cylinder Information'!A778)","v":""},{"$f":"IF('Gas Cylinder Information'!C778=\"\",\"\",'Gas Cylinder Information'!C778)","v":""},{"$f":"IF('Gas Cylinder Information'!D778=\"\",\"\",'Gas Cylinder Information'!D778)","v":""},{"$f":"IF('Gas Cylinder Information'!B778=\"\",\"\",'Gas Cylinder Information'!B778)","v":""},{"$f":"IF('Gas Cylinder Information'!E778=\"\",\"\",'Gas Cylinder Information'!E778)","v":""},{"$f":"IF('Gas Cylinder Information'!F778=\"\",\"\",'Gas Cylinder Information'!F778)","v":""},{"$f":"IF('Gas Cylinder Information'!G778=\"\",\"\",'Gas Cylinder Information'!G778)","v":""}]
[{"$f":"IF('Gas Cylinder Information'!A779=\"\",\"\",'Gas Cylinder Information'!A779)","v":""},{"$f":"IF('Gas Cylinder Information'!C779=\"\",\"\",'Gas Cylinder Information'!C779)","v":""},{"$f":"IF('Gas Cylinder Information'!D779=\"\",\"\",'Gas Cylinder Information'!D779)","v":""},{"$f":"IF('Gas Cylinder Information'!B779=\"\",\"\",'Gas Cylinder Information'!B779)","v":""},{"$f":"IF('Gas Cylinder Information'!E779=\"\",\"\",'Gas Cylinder Information'!E779)","v":""},{"$f":"IF('Gas Cylinder Information'!F779=\"\",\"\",'Gas Cylinder Information'!F779)","v":""},{"$f":"IF('Gas Cylinder Information'!G779=\"\",\"\",'Gas Cylinder Information'!G779)","v":""}]
[{"$f":"IF('Gas Cylinder Information'!A780=\"\",\"\",'Gas Cylinder Information'!A780)","v":""},{"$f":"IF('Gas Cylinder Information'!C780=\"\",\"\",'Gas Cylinder Information'!C780)","v":""},{"$f":"IF('Gas Cylinder Information'!D780=\"\",\"\",'Gas Cylinder Information'!D780)","v":""},{"$f":"IF('Gas Cylinder Information'!B780=\"\",\"\",'Gas Cylinder Information'!B780)","v":""},{"$f":"IF('Gas Cylinder Information'!E780=\"\",\"\",'Gas Cylinder Information'!E780)","v":""},{"$f":"IF('Gas Cylinder Information'!F780=\"\",\"\",'Gas Cylinder Information'!F780)","v":""},{"$f":"IF('Gas Cylinder Information'!G780=\"\",\"\",'Gas Cylinder Information'!G780)","v":""}]
[{"$f":"IF('Gas Cylinder Information'!A781=\"\",\"\",'Gas Cylinder Information'!A781)","v":""},{"$f":"IF('Gas Cylinder Information'!C781=\"\",\"\",'Gas Cylinder Information'!C781)","v":""},{"$f":"IF('Gas Cylinder Information'!D781=\"\",\"\",'Gas Cylinder Information'!D781)","v":""},{"$f":"IF('Gas Cylinder Information'!B781=\"\",\"\",'Gas Cylinder Information'!B781)","v":""},{"$f":"IF('Gas Cylinder Information'!E781=\"\",\"\",'Gas Cylinder Information'!E781)","v":""},{"$f":"IF('Gas Cylinder Information'!F781=\"\",\"\",'Gas Cylinder Information'!F781)","v":""},{"$f":"IF('Gas Cylinder Information'!G781=\"\",\"\",'Gas Cylinder Information'!G781)","v":""}]
[{"$f":"IF('Gas Cylinder Information'!A782=\"\",\"\",'Gas Cylinder Information'!A782)","v":""},{"$f":"IF('Gas Cylinder Information'!C782=\"\",\"\",'Gas Cylinder Information'!C782)","v":""},{"$f":"IF('Gas Cylinder Information'!D782=\"\",\"\",'Gas Cylinder Information'!D782)","v":""},{"$f":"IF('Gas Cylinder Information'!B782=\"\",\"\",'Gas Cylinder Information'!B782)","v":""},{"$f":"IF('Gas Cylinder Information'!E782=\"\",\"\",'Gas Cylinder Information'!E782)","v":""},{"$f":"IF('Gas Cylinder Information'!F782=\"\",\"\",'Gas Cylinder Information'!F782)","v":""},{"$f":"IF('Gas Cylinder Information'!G782=\"\",\"\",'Gas Cylinder Information'!G782)","v":""}]
[{"$f":"IF('Gas Cylinder Information'!A783=\"\",\"\",'Gas Cylinder Information'!A783)","v":""},{"$f":"IF('Gas Cylinder Information'!C783=\"\",\"\",'Gas Cylinder Information'!C783)","v":""},{"$f":"IF('Gas Cylinder Information'!D783=\"\",\"\",'Gas Cylinder Information'!D783)","v":""},{"$f":"IF('Gas Cylinder Information'!B783=\"\",\"\",'Gas Cylinder Information'!B783)","v":""},{"$f":"IF('Gas Cylinder Information'!E783=\"\",\"\",'Gas Cylinder Information'!E783)","v":""},{"$f":"IF('Gas Cylinder Information'!F783=\"\",\"\",'Gas Cylinder Information'!F783)","v":""},{"$f":"IF('Gas Cylinder Information'!G783=\"\",\"\",'Gas Cylinder Information'!G783)","v":""}]
[{"$f":"IF('Gas Cylinder Information'!A784=\"\",\"\",'Gas Cylinder Information'!A784)","v":""},{"$f":"IF('Gas Cylinder Information'!C784=\"\",\"\",'Gas Cylinder Information'!C784)","v":""},{"$f":"IF('Gas Cylinder Information'!D784=\"\",\"\",'Gas Cylinder Information'!D784)","v":""},{"$f":"IF('Gas Cylinder Information'!B784=\"\",\"\",'Gas Cylinder Information'!B784)","v":""},{"$f":"IF('Gas Cylinder Information'!E784=\"\",\"\",'Gas Cylinder Information'!E784)","v":""},{"$f":"IF('Gas Cylinder Information'!F784=\"\",\"\",'Gas Cylinder Information'!F784)","v":""},{"$f":"IF('Gas Cylinder Information'!G784=\"\",\"\",'Gas Cylinder Information'!G784)","v":""}]
[{"$f":"IF('Gas Cylinder Information'!A785=\"\",\"\",'Gas Cylinder Information'!A785)","v":""},{"$f":"IF('Gas Cylinder Information'!C785=\"\",\"\",'Gas Cylinder Information'!C785)","v":""},{"$f":"IF('Gas Cylinder Information'!D785=\"\",\"\",'Gas Cylinder Information'!D785)","v":""},{"$f":"IF('Gas Cylinder Information'!B785=\"\",\"\",'Gas Cylinder Information'!B785)","v":""},{"$f":"IF('Gas Cylinder Information'!E785=\"\",\"\",'Gas Cylinder Information'!E785)","v":""},{"$f":"IF('Gas Cylinder Information'!F785=\"\",\"\",'Gas Cylinder Information'!F785)","v":""},{"$f":"IF('Gas Cylinder Information'!G785=\"\",\"\",'Gas Cylinder Information'!G785)","v":""}]
[{"$f":"IF('Gas Cylinder Information'!A786=\"\",\"\",'Gas Cylinder Information'!A786)","v":""},{"$f":"IF('Gas Cylinder Information'!C786=\"\",\"\",'Gas Cylinder Information'!C786)","v":""},{"$f":"IF('Gas Cylinder Information'!D786=\"\",\"\",'Gas Cylinder Information'!D786)","v":""},{"$f":"IF('Gas Cylinder Information'!B786=\"\",\"\",'Gas Cylinder Information'!B786)","v":""},{"$f":"IF('Gas Cylinder Information'!E786=\"\",\"\",'Gas Cylinder Information'!E786)","v":""},{"$f":"IF('Gas Cylinder Information'!F786=\"\",\"\",'Gas Cylinder Information'!F786)","v":""},{"$f":"IF('Gas Cylinder Information'!G786=\"\",\"\",'Gas Cylinder Information'!G786)","v":""}]
[{"$f":"IF('Gas Cylinder Information'!A787=\"\",\"\",'Gas Cylinder Information'!A787)","v":""},{"$f":"IF('Gas Cylinder Information'!C787=\"\",\"\",'Gas Cylinder Information'!C787)","v":""},{"$f":"IF('Gas Cylinder Information'!D787=\"\",\"\",'Gas Cylinder Information'!D787)","v":""},{"$f":"IF('Gas Cylinder Information'!B787=\"\",\"\",'Gas Cylinder Information'!B787)","v":""},{"$f":"IF('Gas Cylinder Information'!E787=\"\",\"\",'Gas Cylinder Information'!E787)","v":""},{"$f":"IF('Gas Cylinder Information'!F787=\"\",\"\",'Gas Cylinder Information'!F787)","v":""},{"$f":"IF('Gas Cylinder Information'!G787=\"\",\"\",'Gas Cylinder Information'!G787)","v":""}]
[{"$f":"IF('Gas Cylinder Information'!A788=\"\",\"\",'Gas Cylinder Information'!A788)","v":""},{"$f":"IF('Gas Cylinder Information'!C788=\"\",\"\",'Gas Cylinder Information'!C788)","v":""},{"$f":"IF('Gas Cylinder Information'!D788=\"\",\"\",'Gas Cylinder Information'!D788)","v":""},{"$f":"IF('Gas Cylinder Information'!B788=\"\",\"\",'Gas Cylinder Information'!B788)","v":""},{"$f":"IF('Gas Cylinder Information'!E788=\"\",\"\",'Gas Cylinder Information'!E788)","v":""},{"$f":"IF('Gas Cylinder Information'!F788=\"\",\"\",'Gas Cylinder Information'!F788)","v":""},{"$f":"IF('Gas Cylinder Information'!G788=\"\",\"\",'Gas Cylinder Information'!G788)","v":""}]
[{"$f":"IF('Gas Cylinder Information'!A789=\"\",\"\",'Gas Cylinder Information'!A789)","v":""},{"$f":"IF('Gas Cylinder Information'!C789=\"\",\"\",'Gas Cylinder Information'!C789)","v":""},{"$f":"IF('Gas Cylinder Information'!D789=\"\",\"\",'Gas Cylinder Information'!D789)","v":""},{"$f":"IF('Gas Cylinder Information'!B789=\"\",\"\",'Gas Cylinder Information'!B789)","v":""},{"$f":"IF('Gas Cylinder Information'!E789=\"\",\"\",'Gas Cylinder Information'!E789)","v":""},{"$f":"IF('Gas Cylinder Information'!F789=\"\",\"\",'Gas Cylinder Information'!F789)","v":""},{"$f":"IF('Gas Cylinder Information'!G789=\"\",\"\",'Gas Cylinder Information'!G789)","v":""}]
[{"$f":"IF('Gas Cylinder Information'!A790=\"\",\"\",'Gas Cylinder Information'!A790)","v":""},{"$f":"IF('Gas Cylinder Information'!C790=\"\",\"\",'Gas Cylinder Information'!C790)","v":""},{"$f":"IF('Gas Cylinder Information'!D790=\"\",\"\",'Gas Cylinder Information'!D790)","v":""},{"$f":"IF('Gas Cylinder Information'!B790=\"\",\"\",'Gas Cylinder Information'!B790)","v":""},{"$f":"IF('Gas Cylinder Information'!E790=\"\",\"\",'Gas Cylinder Information'!E790)","v":""},{"$f":"IF('Gas Cylinder Information'!F790=\"\",\"\",'Gas Cylinder Information'!F790)","v":""},{"$f":"IF('Gas Cylinder Information'!G790=\"\",\"\",'Gas Cylinder Information'!G790)","v":""}]
[{"$f":"IF('Gas Cylinder Information'!A791=\"\",\"\",'Gas Cylinder Information'!A791)","v":""},{"$f":"IF('Gas Cylinder Information'!C791=\"\",\"\",'Gas Cylinder Information'!C791)","v":""},{"$f":"IF('Gas Cylinder Information'!D791=\"\",\"\",'Gas Cylinder Information'!D791)","v":""},{"$f":"IF('Gas Cylinder Information'!B791=\"\",\"\",'Gas Cylinder Information'!B791)","v":""},{"$f":"IF('Gas Cylinder Information'!E791=\"\",\"\",'Gas Cylinder Information'!E791)","v":""},{"$f":"IF('Gas Cylinder Information'!F791=\"\",\"\",'Gas Cylinder Information'!F791)","v":""},{"$f":"IF('Gas Cylinder Information'!G791=\"\",\"\",'Gas Cylinder Information'!G791)","v":""}]
[{"$f":"IF('Gas Cylinder Information'!A792=\"\",\"\",'Gas Cylinder Information'!A792)","v":""},{"$f":"IF('Gas Cylinder Information'!C792=\"\",\"\",'Gas Cylinder Information'!C792)","v":""},{"$f":"IF('Gas Cylinder Information'!D792=\"\",\"\",'Gas Cylinder Information'!D792)","v":""},{"$f":"IF('Gas Cylinder Information'!B792=\"\",\"\",'Gas Cylinder Information'!B792)","v":""},{"$f":"IF('Gas Cylinder Information'!E792=\"\",\"\",'Gas Cylinder Information'!E792)","v":""},{"$f":"IF('Gas Cylinder Information'!F792=\"\",\"\",'Gas Cylinder Information'!F792)","v":""},{"$f":"IF('Gas Cylinder Information'!G792=\"\",\"\",'Gas Cylinder Information'!G792)","v":""}]
[{"$f":"IF('Gas Cylinder Information'!A793=\"\",\"\",'Gas Cylinder Information'!A793)","v":""},{"$f":"IF('Gas Cylinder Information'!C793=\"\",\"\",'Gas Cylinder Information'!C793)","v":""},{"$f":"IF('Gas Cylinder Information'!D793=\"\",\"\",'Gas Cylinder Information'!D793)","v":""},{"$f":"IF('Gas Cylinder Information'!B793=\"\",\"\",'Gas Cylinder Information'!B793)","v":""},{"$f":"IF('Gas Cylinder Information'!E793=\"\",\"\",'Gas Cylinder Information'!E793)","v":""},{"$f":"IF('Gas Cylinder Information'!F793=\"\",\"\",'Gas Cylinder Information'!F793)","v":""},{"$f":"IF('Gas Cylinder Information'!G793=\"\",\"\",'Gas Cylinder Information'!G793)","v":""}]
[{"$f":"IF('Gas Cylinder Information'!A794=\"\",\"\",'Gas Cylinder Information'!A794)","v":""},{"$f":"IF('Gas Cylinder Information'!C794=\"\",\"\",'Gas Cylinder Information'!C794)","v":""},{"$f":"IF('Gas Cylinder Information'!D794=\"\",\"\",'Gas Cylinder Information'!D794)","v":""},{"$f":"IF('Gas Cylinder Information'!B794=\"\",\"\",'Gas Cylinder Information'!B794)","v":""},{"$f":"IF('Gas Cylinder Information'!E794=\"\",\"\",'Gas Cylinder Information'!E794)","v":""},{"$f":"IF('Gas Cylinder Information'!F794=\"\",\"\",'Gas Cylinder Information'!F794)","v":""},{"$f":"IF('Gas Cylinder Information'!G794=\"\",\"\",'Gas Cylinder Information'!G794)","v":""}]
[{"$f":"IF('Gas Cylinder Information'!A795=\"\",\"\",'Gas Cylinder Information'!A795)","v":""},{"$f":"IF('Gas Cylinder Information'!C795=\"\",\"\",'Gas Cylinder Information'!C795)","v":""},{"$f":"IF('Gas Cylinder Information'!D795=\"\",\"\",'Gas Cylinder Information'!D795)","v":""},{"$f":"IF('Gas Cylinder Information'!B795=\"\",\"\",'Gas Cylinder Information'!B795)","v":""},{"$f":"IF('Gas Cylinder Information'!E795=\"\",\"\",'Gas Cylinder Information'!E795)","v":""},{"$f":"IF('Gas Cylinder Information'!F795=\"\",\"\",'Gas Cylinder Information'!F795)","v":""},{"$f":"IF('Gas Cylinder Information'!G795=\"\",\"\",'Gas Cylinder Information'!G795)","v":""}]
[{"$f":"IF('Gas Cylinder Information'!A796=\"\",\"\",'Gas Cylinder Information'!A796)","v":""},{"$f":"IF('Gas Cylinder Information'!C796=\"\",\"\",'Gas Cylinder Information'!C796)","v":""},{"$f":"IF('Gas Cylinder Information'!D796=\"\",\"\",'Gas Cylinder Information'!D796)","v":""},{"$f":"IF('Gas Cylinder Information'!B796=\"\",\"\",'Gas Cylinder Information'!B796)","v":""},{"$f":"IF('Gas Cylinder Information'!E796=\"\",\"\",'Gas Cylinder Information'!E796)","v":""},{"$f":"IF('Gas Cylinder Information'!F796=\"\",\"\",'Gas Cylinder Information'!F796)","v":""},{"$f":"IF('Gas Cylinder Information'!G796=\"\",\"\",'Gas Cylinder Information'!G796)","v":""}]
[{"$f":"IF('Gas Cylinder Information'!A797=\"\",\"\",'Gas Cylinder Information'!A797)","v":""},{"$f":"IF('Gas Cylinder Information'!C797=\"\",\"\",'Gas Cylinder Information'!C797)","v":""},{"$f":"IF('Gas Cylinder Information'!D797=\"\",\"\",'Gas Cylinder Information'!D797)","v":""},{"$f":"IF('Gas Cylinder Information'!B797=\"\",\"\",'Gas Cylinder Information'!B797)","v":""},{"$f":"IF('Gas Cylinder Information'!E797=\"\",\"\",'Gas Cylinder Information'!E797)","v":""},{"$f":"IF('Gas Cylinder Information'!F797=\"\",\"\",'Gas Cylinder Information'!F797)","v":""},{"$f":"IF('Gas Cylinder Information'!G797=\"\",\"\",'Gas Cylinder Information'!G797)","v":""}]
[{"$f":"IF('Gas Cylinder Information'!A798=\"\",\"\",'Gas Cylinder Information'!A798)","v":""},{"$f":"IF('Gas Cylinder Information'!C798=\"\",\"\",'Gas Cylinder Information'!C798)","v":""},{"$f":"IF('Gas Cylinder Information'!D798=\"\",\"\",'Gas Cylinder Information'!D798)","v":""},{"$f":"IF('Gas Cylinder Information'!B798=\"\",\"\",'Gas Cylinder Information'!B798)","v":""},{"$f":"IF('Gas Cylinder Information'!E798=\"\",\"\",'Gas Cylinder Information'!E798)","v":""},{"$f":"IF('Gas Cylinder Information'!F798=\"\",\"\",'Gas Cylinder Information'!F798)","v":""},{"$f":"IF('Gas Cylinder Information'!G798=\"\",\"\",'Gas Cylinder Information'!G798)","v":""}]
[{"$f":"IF('Gas Cylinder Information'!A799=\"\",\"\",'Gas Cylinder Information'!A799)","v":""},{"$f":"IF('Gas Cylinder Information'!C799=\"\",\"\",'Gas Cylinder Information'!C799)","v":""},{"$f":"IF('Gas Cylinder Information'!D799=\"\",\"\",'Gas Cylinder Information'!D799)","v":""},{"$f":"IF('Gas Cylinder Information'!B799=\"\",\"\",'Gas Cylinder Information'!B799)","v":""},{"$f":"IF('Gas Cylinder Information'!E799=\"\",\"\",'Gas Cylinder Information'!E799)","v":""},{"$f":"IF('Gas Cylinder Information'!F799=\"\",\"\",'Gas Cylinder Information'!F799)","v":""},{"$f":"IF('Gas Cylinder Information'!G799=\"\",\"\",'Gas Cylinder Information'!G799)","v":""}]
[{"$f":"IF('Gas Cylinder Information'!A800=\"\",\"\",'Gas Cylinder Information'!A800)","v":""},{"$f":"IF('Gas Cylinder Information'!C800=\"\",\"\",'Gas Cylinder Information'!C800)","v":""},{"$f":"IF('Gas Cylinder Information'!D800=\"\",\"\",'Gas Cylinder Information'!D800)","v":""},{"$f":"IF('Gas Cylinder Information'!B800=\"\",\"\",'Gas Cylinder Information'!B800)","v":""},{"$f":"IF('Gas Cylinder Information'!E800=\"\",\"\",'Gas Cylinder Information'!E800)","v":""},{"$f":"IF('Gas Cylinder Information'!F800=\"\",\"\",'Gas Cylinder Information'!F800)","v":""},{"$f":"IF('Gas Cylinder Information'!G800=\"\",\"\",'Gas Cylinder Information'!G800)","v":""}]
[{"$f":"IF('Gas Cylinder Information'!A801=\"\",\"\",'Gas Cylinder Information'!A801)","v":""},{"$f":"IF('Gas Cylinder Information'!C801=\"\",\"\",'Gas Cylinder Information'!C801)","v":""},{"$f":"IF('Gas Cylinder Information'!D801=\"\",\"\",'Gas Cylinder Information'!D801)","v":""},{"$f":"IF('Gas Cylinder Information'!B801=\"\",\"\",'Gas Cylinder Information'!B801)","v":""},{"$f":"IF('Gas Cylinder Information'!E801=\"\",\"\",'Gas Cylinder Information'!E801)","v":""},{"$f":"IF('Gas Cylinder Information'!F801=\"\",\"\",'Gas Cylinder Information'!F801)","v":""},{"$f":"IF('Gas Cylinder Information'!G801=\"\",\"\",'Gas Cylinder Information'!G801)","v":""}]
[{"$f":"IF('Gas Cylinder Information'!A802=\"\",\"\",'Gas Cylinder Information'!A802)","v":""},{"$f":"IF('Gas Cylinder Information'!C802=\"\",\"\",'Gas Cylinder Information'!C802)","v":""},{"$f":"IF('Gas Cylinder Information'!D802=\"\",\"\",'Gas Cylinder Information'!D802)","v":""},{"$f":"IF('Gas Cylinder Information'!B802=\"\",\"\",'Gas Cylinder Information'!B802)","v":""},{"$f":"IF('Gas Cylinder Information'!E802=\"\",\"\",'Gas Cylinder Information'!E802)","v":""},{"$f":"IF('Gas Cylinder Information'!F802=\"\",\"\",'Gas Cylinder Information'!F802)","v":""},{"$f":"IF('Gas Cylinder Information'!G802=\"\",\"\",'Gas Cylinder Information'!G802)","v":""}]
[{"$f":"IF('Gas Cylinder Information'!A803=\"\",\"\",'Gas Cylinder Information'!A803)","v":""},{"$f":"IF('Gas Cylinder Information'!C803=\"\",\"\",'Gas Cylinder Information'!C803)","v":""},{"$f":"IF('Gas Cylinder Information'!D803=\"\",\"\",'Gas Cylinder Information'!D803)","v":""},{"$f":"IF('Gas Cylinder Information'!B803=\"\",\"\",'Gas Cylinder Information'!B803)","v":""},{"$f":"IF('Gas Cylinder Information'!E803=\"\",\"\",'Gas Cylinder Information'!E803)","v":""},{"$f":"IF('Gas Cylinder Information'!F803=\"\",\"\",'Gas Cylinder Information'!F803)","v":""},{"$f":"IF('Gas Cylinder Information'!G803=\"\",\"\",'Gas Cylinder Information'!G803)","v":""}]
[{"$f":"IF('Gas Cylinder Information'!A804=\"\",\"\",'Gas Cylinder Information'!A804)","v":""},{"$f":"IF('Gas Cylinder Information'!C804=\"\",\"\",'Gas Cylinder Information'!C804)","v":""},{"$f":"IF('Gas Cylinder Information'!D804=\"\",\"\",'Gas Cylinder Information'!D804)","v":""},{"$f":"IF('Gas Cylinder Information'!B804=\"\",\"\",'Gas Cylinder Information'!B804)","v":""},{"$f":"IF('Gas Cylinder Information'!E804=\"\",\"\",'Gas Cylinder Information'!E804)","v":""},{"$f":"IF('Gas Cylinder Information'!F804=\"\",\"\",'Gas Cylinder Information'!F804)","v":""},{"$f":"IF('Gas Cylinder Information'!G804=\"\",\"\",'Gas Cylinder Information'!G804)","v":""}]
[{"$f":"IF('Gas Cylinder Information'!A805=\"\",\"\",'Gas Cylinder Information'!A805)","v":""},{"$f":"IF('Gas Cylinder Information'!C805=\"\",\"\",'Gas Cylinder Information'!C805)","v":""},{"$f":"IF('Gas Cylinder Information'!D805=\"\",\"\",'Gas Cylinder Information'!D805)","v":""},{"$f":"IF('Gas Cylinder Information'!B805=\"\",\"\",'Gas Cylinder Information'!B805)","v":""},{"$f":"IF('Gas Cylinder Information'!E805=\"\",\"\",'Gas Cylinder Information'!E805)","v":""},{"$f":"IF('Gas Cylinder Information'!F805=\"\",\"\",'Gas Cylinder Information'!F805)","v":""},{"$f":"IF('Gas Cylinder Information'!G805=\"\",\"\",'Gas Cylinder Information'!G805)","v":""}]
[{"$f":"IF('Gas Cylinder Information'!A806=\"\",\"\",'Gas Cylinder Information'!A806)","v":""},{"$f":"IF('Gas Cylinder Information'!C806=\"\",\"\",'Gas Cylinder Information'!C806)","v":""},{"$f":"IF('Gas Cylinder Information'!D806=\"\",\"\",'Gas Cylinder Information'!D806)","v":""},{"$f":"IF('Gas Cylinder Information'!B806=\"\",\"\",'Gas Cylinder Information'!B806)","v":""},{"$f":"IF('Gas Cylinder Information'!E806=\"\",\"\",'Gas Cylinder Information'!E806)","v":""},{"$f":"IF('Gas Cylinder Information'!F806=\"\",\"\",'Gas Cylinder Information'!F806)","v":""},{"$f":"IF('Gas Cylinder Information'!G806=\"\",\"\",'Gas Cylinder Information'!G806)","v":""}]
[{"$f":"IF('Gas Cylinder Information'!A807=\"\",\"\",'Gas Cylinder Information'!A807)","v":""},{"$f":"IF('Gas Cylinder Information'!C807=\"\",\"\",'Gas Cylinder Information'!C807)","v":""},{"$f":"IF('Gas Cylinder Information'!D807=\"\",\"\",'Gas Cylinder Information'!D807)","v":""},{"$f":"IF('Gas Cylinder Information'!B807=\"\",\"\",'Gas Cylinder Information'!B807)","v":""},{"$f":"IF('Gas Cylinder Information'!E807=\"\",\"\",'Gas Cylinder Information'!E807)","v":""},{"$f":"IF('Gas Cylinder Information'!F807=\"\",\"\",'Gas Cylinder Information'!F807)","v":""},{"$f":"IF('Gas Cylinder Information'!G807=\"\",\"\",'Gas Cylinder Information'!G807)","v":""}]
[{"$f":"IF('Gas Cylinder Information'!A808=\"\",\"\",'Gas Cylinder Information'!A808)","v":""},{"$f":"IF('Gas Cylinder Information'!C808=\"\",\"\",'Gas Cylinder Information'!C808)","v":""},{"$f":"IF('Gas Cylinder Information'!D808=\"\",\"\",'Gas Cylinder Information'!D808)","v":""},{"$f":"IF('Gas Cylinder Information'!B808=\"\",\"\",'Gas Cylinder Information'!B808)","v":""},{"$f":"IF('Gas Cylinder Information'!E808=\"\",\"\",'Gas Cylinder Information'!E808)","v":""},{"$f":"IF('Gas Cylinder Information'!F808=\"\",\"\",'Gas Cylinder Information'!F808)","v":""},{"$f":"IF('Gas Cylinder Information'!G808=\"\",\"\",'Gas Cylinder Information'!G808)","v":""}]
[{"$f":"IF('Gas Cylinder Information'!A809=\"\",\"\",'Gas Cylinder Information'!A809)","v":""},{"$f":"IF('Gas Cylinder Information'!C809=\"\",\"\",'Gas Cylinder Information'!C809)","v":""},{"$f":"IF('Gas Cylinder Information'!D809=\"\",\"\",'Gas Cylinder Information'!D809)","v":""},{"$f":"IF('Gas Cylinder Information'!B809=\"\",\"\",'Gas Cylinder Information'!B809)","v":""},{"$f":"IF('Gas Cylinder Information'!E809=\"\",\"\",'Gas Cylinder Information'!E809)","v":""},{"$f":"IF('Gas Cylinder Information'!F809=\"\",\"\",'Gas Cylinder Information'!F809)","v":""},{"$f":"IF('Gas Cylinder Information'!G809=\"\",\"\",'Gas Cylinder Information'!G809)","v":""}]
[{"$f":"IF('Gas Cylinder Information'!A810=\"\",\"\",'Gas Cylinder Information'!A810)","v":""},{"$f":"IF('Gas Cylinder Information'!C810=\"\",\"\",'Gas Cylinder Information'!C810)","v":""},{"$f":"IF('Gas Cylinder Information'!D810=\"\",\"\",'Gas Cylinder Information'!D810)","v":""},{"$f":"IF('Gas Cylinder Information'!B810=\"\",\"\",'Gas Cylinder Information'!B810)","v":""},{"$f":"IF('Gas Cylinder Information'!E810=\"\",\"\",'Gas Cylinder Information'!E810)","v":""},{"$f":"IF('Gas Cylinder Information'!F810=\"\",\"\",'Gas Cylinder Information'!F810)","v":""},{"$f":"IF('Gas Cylinder Information'!G810=\"\",\"\",'Gas Cylinder Information'!G810)","v":""}]
[{"$f":"IF('Gas Cylinder Information'!A811=\"\",\"\",'Gas Cylinder Information'!A811)","v":""},{"$f":"IF('Gas Cylinder Information'!C811=\"\",\"\",'Gas Cylinder Information'!C811)","v":""},{"$f":"IF('Gas Cylinder Information'!D811=\"\",\"\",'Gas Cylinder Information'!D811)","v":""},{"$f":"IF('Gas Cylinder Information'!B811=\"\",\"\",'Gas Cylinder Information'!B811)","v":""},{"$f":"IF('Gas Cylinder Information'!E811=\"\",\"\",'Gas Cylinder Information'!E811)","v":""},{"$f":"IF('Gas Cylinder Information'!F811=\"\",\"\",'Gas Cylinder Information'!F811)","v":""},{"$f":"IF('Gas Cylinder Information'!G811=\"\",\"\",'Gas Cylinder Information'!G811)","v":""}]
[{"$f":"IF('Gas Cylinder Information'!A812=\"\",\"\",'Gas Cylinder Information'!A812)","v":""},{"$f":"IF('Gas Cylinder Information'!C812=\"\",\"\",'Gas Cylinder Information'!C812)","v":""},{"$f":"IF('Gas Cylinder Information'!D812=\"\",\"\",'Gas Cylinder Information'!D812)","v":""},{"$f":"IF('Gas Cylinder Information'!B812=\"\",\"\",'Gas Cylinder Information'!B812)","v":""},{"$f":"IF('Gas Cylinder Information'!E812=\"\",\"\",'Gas Cylinder Information'!E812)","v":""},{"$f":"IF('Gas Cylinder Information'!F812=\"\",\"\",'Gas Cylinder Information'!F812)","v":""},{"$f":"IF('Gas Cylinder Information'!G812=\"\",\"\",'Gas Cylinder Information'!G812)","v":""}]
[{"$f":"IF('Gas Cylinder Information'!A813=\"\",\"\",'Gas Cylinder Information'!A813)","v":""},{"$f":"IF('Gas Cylinder Information'!C813=\"\",\"\",'Gas Cylinder Information'!C813)","v":""},{"$f":"IF('Gas Cylinder Information'!D813=\"\",\"\",'Gas Cylinder Information'!D813)","v":""},{"$f":"IF('Gas Cylinder Information'!B813=\"\",\"\",'Gas Cylinder Information'!B813)","v":""},{"$f":"IF('Gas Cylinder Information'!E813=\"\",\"\",'Gas Cylinder Information'!E813)","v":""},{"$f":"IF('Gas Cylinder Information'!F813=\"\",\"\",'Gas Cylinder Information'!F813)","v":""},{"$f":"IF('Gas Cylinder Information'!G813=\"\",\"\",'Gas Cylinder Information'!G813)","v":""}]
[{"$f":"IF('Gas Cylinder Information'!A814=\"\",\"\",'Gas Cylinder Information'!A814)","v":""},{"$f":"IF('Gas Cylinder Information'!C814=\"\",\"\",'Gas Cylinder Information'!C814)","v":""},{"$f":"IF('Gas Cylinder Information'!D814=\"\",\"\",'Gas Cylinder Information'!D814)","v":""},{"$f":"IF('Gas Cylinder Information'!B814=\"\",\"\",'Gas Cylinder Information'!B814)","v":""},{"$f":"IF('Gas Cylinder Information'!E814=\"\",\"\",'Gas Cylinder Information'!E814)","v":""},{"$f":"IF('Gas Cylinder Information'!F814=\"\",\"\",'Gas Cylinder Information'!F814)","v":""},{"$f":"IF('Gas Cylinder Information'!G814=\"\",\"\",'Gas Cylinder Information'!G814)","v":""}]
[{"$f":"IF('Gas Cylinder Information'!A815=\"\",\"\",'Gas Cylinder Information'!A815)","v":""},{"$f":"IF('Gas Cylinder Information'!C815=\"\",\"\",'Gas Cylinder Information'!C815)","v":""},{"$f":"IF('Gas Cylinder Information'!D815=\"\",\"\",'Gas Cylinder Information'!D815)","v":""},{"$f":"IF('Gas Cylinder Information'!B815=\"\",\"\",'Gas Cylinder Information'!B815)","v":""},{"$f":"IF('Gas Cylinder Information'!E815=\"\",\"\",'Gas Cylinder Information'!E815)","v":""},{"$f":"IF('Gas Cylinder Information'!F815=\"\",\"\",'Gas Cylinder Information'!F815)","v":""},{"$f":"IF('Gas Cylinder Information'!G815=\"\",\"\",'Gas Cylinder Information'!G815)","v":""}]
[{"$f":"IF('Gas Cylinder Information'!A816=\"\",\"\",'Gas Cylinder Information'!A816)","v":""},{"$f":"IF('Gas Cylinder Information'!C816=\"\",\"\",'Gas Cylinder Information'!C816)","v":""},{"$f":"IF('Gas Cylinder Information'!D816=\"\",\"\",'Gas Cylinder Information'!D816)","v":""},{"$f":"IF('Gas Cylinder Information'!B816=\"\",\"\",'Gas Cylinder Information'!B816)","v":""},{"$f":"IF('Gas Cylinder Information'!E816=\"\",\"\",'Gas Cylinder Information'!E816)","v":""},{"$f":"IF('Gas Cylinder Information'!F816=\"\",\"\",'Gas Cylinder Information'!F816)","v":""},{"$f":"IF('Gas Cylinder Information'!G816=\"\",\"\",'Gas Cylinder Information'!G816)","v":""}]
[{"$f":"IF('Gas Cylinder Information'!A817=\"\",\"\",'Gas Cylinder Information'!A817)","v":""},{"$f":"IF('Gas Cylinder Information'!C817=\"\",\"\",'Gas Cylinder Information'!C817)","v":""},{"$f":"IF('Gas Cylinder Information'!D817=\"\",\"\",'Gas Cylinder Information'!D817)","v":""},{"$f":"IF('Gas Cylinder Information'!B817=\"\",\"\",'Gas Cylinder Information'!B817)","v":""},{"$f":"IF('Gas Cylinder Information'!E817=\"\",\"\",'Gas Cylinder Information'!E817)","v":""},{"$f":"IF('Gas Cylinder Information'!F817=\"\",\"\",'Gas Cylinder Information'!F817)","v":""},{"$f":"IF('Gas Cylinder Information'!G817=\"\",\"\",'Gas Cylinder Information'!G817)","v":""}]
[{"$f":"IF('Gas Cylinder Information'!A818=\"\",\"\",'Gas Cylinder Information'!A818)","v":""},{"$f":"IF('Gas Cylinder Information'!C818=\"\",\"\",'Gas Cylinder Information'!C818)","v":""},{"$f":"IF('Gas Cylinder Information'!D818=\"\",\"\",'Gas Cylinder Information'!D818)","v":""},{"$f":"IF('Gas Cylinder Information'!B818=\"\",\"\",'Gas Cylinder Information'!B818)","v":""},{"$f":"IF('Gas Cylinder Information'!E818=\"\",\"\",'Gas Cylinder Information'!E818)","v":""},{"$f":"IF('Gas Cylinder Information'!F818=\"\",\"\",'Gas Cylinder Information'!F818)","v":""},{"$f":"IF('Gas Cylinder Information'!G818=\"\",\"\",'Gas Cylinder Information'!G818)","v":""}]
[{"$f":"IF('Gas Cylinder Information'!A819=\"\",\"\",'Gas Cylinder Information'!A819)","v":""},{"$f":"IF('Gas Cylinder Information'!C819=\"\",\"\",'Gas Cylinder Information'!C819)","v":""},{"$f":"IF('Gas Cylinder Information'!D819=\"\",\"\",'Gas Cylinder Information'!D819)","v":""},{"$f":"IF('Gas Cylinder Information'!B819=\"\",\"\",'Gas Cylinder Information'!B819)","v":""},{"$f":"IF('Gas Cylinder Information'!E819=\"\",\"\",'Gas Cylinder Information'!E819)","v":""},{"$f":"IF('Gas Cylinder Information'!F819=\"\",\"\",'Gas Cylinder Information'!F819)","v":""},{"$f":"IF('Gas Cylinder Information'!G819=\"\",\"\",'Gas Cylinder Information'!G819)","v":""}]
[{"$f":"IF('Gas Cylinder Information'!A820=\"\",\"\",'Gas Cylinder Information'!A820)","v":""},{"$f":"IF('Gas Cylinder Information'!C820=\"\",\"\",'Gas Cylinder Information'!C820)","v":""},{"$f":"IF('Gas Cylinder Information'!D820=\"\",\"\",'Gas Cylinder Information'!D820)","v":""},{"$f":"IF('Gas Cylinder Information'!B820=\"\",\"\",'Gas Cylinder Information'!B820)","v":""},{"$f":"IF('Gas Cylinder Information'!E820=\"\",\"\",'Gas Cylinder Information'!E820)","v":""},{"$f":"IF('Gas Cylinder Information'!F820=\"\",\"\",'Gas Cylinder Information'!F820)","v":""},{"$f":"IF('Gas Cylinder Information'!G820=\"\",\"\",'Gas Cylinder Information'!G820)","v":""}]
[{"$f":"IF('Gas Cylinder Information'!A821=\"\",\"\",'Gas Cylinder Information'!A821)","v":""},{"$f":"IF('Gas Cylinder Information'!C821=\"\",\"\",'Gas Cylinder Information'!C821)","v":""},{"$f":"IF('Gas Cylinder Information'!D821=\"\",\"\",'Gas Cylinder Information'!D821)","v":""},{"$f":"IF('Gas Cylinder Information'!B821=\"\",\"\",'Gas Cylinder Information'!B821)","v":""},{"$f":"IF('Gas Cylinder Information'!E821=\"\",\"\",'Gas Cylinder Information'!E821)","v":""},{"$f":"IF('Gas Cylinder Information'!F821=\"\",\"\",'Gas Cylinder Information'!F821)","v":""},{"$f":"IF('Gas Cylinder Information'!G821=\"\",\"\",'Gas Cylinder Information'!G821)","v":""}]
[{"$f":"IF('Gas Cylinder Information'!A822=\"\",\"\",'Gas Cylinder Information'!A822)","v":""},{"$f":"IF('Gas Cylinder Information'!C822=\"\",\"\",'Gas Cylinder Information'!C822)","v":""},{"$f":"IF('Gas Cylinder Information'!D822=\"\",\"\",'Gas Cylinder Information'!D822)","v":""},{"$f":"IF('Gas Cylinder Information'!B822=\"\",\"\",'Gas Cylinder Information'!B822)","v":""},{"$f":"IF('Gas Cylinder Information'!E822=\"\",\"\",'Gas Cylinder Information'!E822)","v":""},{"$f":"IF('Gas Cylinder Information'!F822=\"\",\"\",'Gas Cylinder Information'!F822)","v":""},{"$f":"IF('Gas Cylinder Information'!G822=\"\",\"\",'Gas Cylinder Information'!G822)","v":""}]
[{"$f":"IF('Gas Cylinder Information'!A823=\"\",\"\",'Gas Cylinder Information'!A823)","v":""},{"$f":"IF('Gas Cylinder Information'!C823=\"\",\"\",'Gas Cylinder Information'!C823)","v":""},{"$f":"IF('Gas Cylinder Information'!D823=\"\",\"\",'Gas Cylinder Information'!D823)","v":""},{"$f":"IF('Gas Cylinder Information'!B823=\"\",\"\",'Gas Cylinder Information'!B823)","v":""},{"$f":"IF('Gas Cylinder Information'!E823=\"\",\"\",'Gas Cylinder Information'!E823)","v":""},{"$f":"IF('Gas Cylinder Information'!F823=\"\",\"\",'Gas Cylinder Information'!F823)","v":""},{"$f":"IF('Gas Cylinder Information'!G823=\"\",\"\",'Gas Cylinder Information'!G823)","v":""}]
[{"$f":"IF('Gas Cylinder Information'!A824=\"\",\"\",'Gas Cylinder Information'!A824)","v":""},{"$f":"IF('Gas Cylinder Information'!C824=\"\",\"\",'Gas Cylinder Information'!C824)","v":""},{"$f":"IF('Gas Cylinder Information'!D824=\"\",\"\",'Gas Cylinder Information'!D824)","v":""},{"$f":"IF('Gas Cylinder Information'!B824=\"\",\"\",'Gas Cylinder Information'!B824)","v":""},{"$f":"IF('Gas Cylinder Information'!E824=\"\",\"\",'Gas Cylinder Information'!E824)","v":""},{"$f":"IF('Gas Cylinder Information'!F824=\"\",\"\",'Gas Cylinder Information'!F824)","v":""},{"$f":"IF('Gas Cylinder Information'!G824=\"\",\"\",'Gas Cylinder Information'!G824)","v":""}]
[{"$f":"IF('Gas Cylinder Information'!A825=\"\",\"\",'Gas Cylinder Information'!A825)","v":""},{"$f":"IF('Gas Cylinder Information'!C825=\"\",\"\",'Gas Cylinder Information'!C825)","v":""},{"$f":"IF('Gas Cylinder Information'!D825=\"\",\"\",'Gas Cylinder Information'!D825)","v":""},{"$f":"IF('Gas Cylinder Information'!B825=\"\",\"\",'Gas Cylinder Information'!B825)","v":""},{"$f":"IF('Gas Cylinder Information'!E825=\"\",\"\",'Gas Cylinder Information'!E825)","v":""},{"$f":"IF('Gas Cylinder Information'!F825=\"\",\"\",'Gas Cylinder Information'!F825)","v":""},{"$f":"IF('Gas Cylinder Information'!G825=\"\",\"\",'Gas Cylinder Information'!G825)","v":""}]
[{"$f":"IF('Gas Cylinder Information'!A826=\"\",\"\",'Gas Cylinder Information'!A826)","v":""},{"$f":"IF('Gas Cylinder Information'!C826=\"\",\"\",'Gas Cylinder Information'!C826)","v":""},{"$f":"IF('Gas Cylinder Information'!D826=\"\",\"\",'Gas Cylinder Information'!D826)","v":""},{"$f":"IF('Gas Cylinder Information'!B826=\"\",\"\",'Gas Cylinder Information'!B826)","v":""},{"$f":"IF('Gas Cylinder Information'!E826=\"\",\"\",'Gas Cylinder Information'!E826)","v":""},{"$f":"IF('Gas Cylinder Information'!F826=\"\",\"\",'Gas Cylinder Information'!F826)","v":""},{"$f":"IF('Gas Cylinder Information'!G826=\"\",\"\",'Gas Cylinder Information'!G826)","v":""}]
[{"$f":"IF('Gas Cylinder Information'!A827=\"\",\"\",'Gas Cylinder Information'!A827)","v":""},{"$f":"IF('Gas Cylinder Information'!C827=\"\",\"\",'Gas Cylinder Information'!C827)","v":""},{"$f":"IF('Gas Cylinder Information'!D827=\"\",\"\",'Gas Cylinder Information'!D827)","v":""},{"$f":"IF('Gas Cylinder Information'!B827=\"\",\"\",'Gas Cylinder Information'!B827)","v":""},{"$f":"IF('Gas Cylinder Information'!E827=\"\",\"\",'Gas Cylinder Information'!E827)","v":""},{"$f":"IF('Gas Cylinder Information'!F827=\"\",\"\",'Gas Cylinder Information'!F827)","v":""},{"$f":"IF('Gas Cylinder Information'!G827=\"\",\"\",'Gas Cylinder Information'!G827)","v":""}]
[{"$f":"IF('Gas Cylinder Information'!A828=\"\",\"\",'Gas Cylinder Information'!A828)","v":""},{"$f":"IF('Gas Cylinder Information'!C828=\"\",\"\",'Gas Cylinder Information'!C828)","v":""},{"$f":"IF('Gas Cylinder Information'!D828=\"\",\"\",'Gas Cylinder Information'!D828)","v":""},{"$f":"IF('Gas Cylinder Information'!B828=\"\",\"\",'Gas Cylinder Information'!B828)","v":""},{"$f":"IF('Gas Cylinder Information'!E828=\"\",\"\",'Gas Cylinder Information'!E828)","v":""},{"$f":"IF('Gas Cylinder Information'!F828=\"\",\"\",'Gas Cylinder Information'!F828)","v":""},{"$f":"IF('Gas Cylinder Information'!G828=\"\",\"\",'Gas Cylinder Information'!G828)","v":""}]
[{"$f":"IF('Gas Cylinder Information'!A829=\"\",\"\",'Gas Cylinder Information'!A829)","v":""},{"$f":"IF('Gas Cylinder Information'!C829=\"\",\"\",'Gas Cylinder Information'!C829)","v":""},{"$f":"IF('Gas Cylinder Information'!D829=\"\",\"\",'Gas Cylinder Information'!D829)","v":""},{"$f":"IF('Gas Cylinder Information'!B829=\"\",\"\",'Gas Cylinder Information'!B829)","v":""},{"$f":"IF('Gas Cylinder Information'!E829=\"\",\"\",'Gas Cylinder Information'!E829)","v":""},{"$f":"IF('Gas Cylinder Information'!F829=\"\",\"\",'Gas Cylinder Information'!F829)","v":""},{"$f":"IF('Gas Cylinder Information'!G829=\"\",\"\",'Gas Cylinder Information'!G829)","v":""}]
[{"$f":"IF('Gas Cylinder Information'!A830=\"\",\"\",'Gas Cylinder Information'!A830)","v":""},{"$f":"IF('Gas Cylinder Information'!C830=\"\",\"\",'Gas Cylinder Information'!C830)","v":""},{"$f":"IF('Gas Cylinder Information'!D830=\"\",\"\",'Gas Cylinder Information'!D830)","v":""},{"$f":"IF('Gas Cylinder Information'!B830=\"\",\"\",'Gas Cylinder Information'!B830)","v":""},{"$f":"IF('Gas Cylinder Information'!E830=\"\",\"\",'Gas Cylinder Information'!E830)","v":""},{"$f":"IF('Gas Cylinder Information'!F830=\"\",\"\",'Gas Cylinder Information'!F830)","v":""},{"$f":"IF('Gas Cylinder Information'!G830=\"\",\"\",'Gas Cylinder Information'!G830)","v":""}]
[{"$f":"IF('Gas Cylinder Information'!A831=\"\",\"\",'Gas Cylinder Information'!A831)","v":""},{"$f":"IF('Gas Cylinder Information'!C831=\"\",\"\",'Gas Cylinder Information'!C831)","v":""},{"$f":"IF('Gas Cylinder Information'!D831=\"\",\"\",'Gas Cylinder Information'!D831)","v":""},{"$f":"IF('Gas Cylinder Information'!B831=\"\",\"\",'Gas Cylinder Information'!B831)","v":""},{"$f":"IF('Gas Cylinder Information'!E831=\"\",\"\",'Gas Cylinder Information'!E831)","v":""},{"$f":"IF('Gas Cylinder Information'!F831=\"\",\"\",'Gas Cylinder Information'!F831)","v":""},{"$f":"IF('Gas Cylinder Information'!G831=\"\",\"\",'Gas Cylinder Information'!G831)","v":""}]
[{"$f":"IF('Gas Cylinder Information'!A832=\"\",\"\",'Gas Cylinder Information'!A832)","v":""},{"$f":"IF('Gas Cylinder Information'!C832=\"\",\"\",'Gas Cylinder Information'!C832)","v":""},{"$f":"IF('Gas Cylinder Information'!D832=\"\",\"\",'Gas Cylinder Information'!D832)","v":""},{"$f":"IF('Gas Cylinder Information'!B832=\"\",\"\",'Gas Cylinder Information'!B832)","v":""},{"$f":"IF('Gas Cylinder Information'!E832=\"\",\"\",'Gas Cylinder Information'!E832)","v":""},{"$f":"IF('Gas Cylinder Information'!F832=\"\",\"\",'Gas Cylinder Information'!F832)","v":""},{"$f":"IF('Gas Cylinder Information'!G832=\"\",\"\",'Gas Cylinder Information'!G832)","v":""}]
[{"$f":"IF('Gas Cylinder Information'!A833=\"\",\"\",'Gas Cylinder Information'!A833)","v":""},{"$f":"IF('Gas Cylinder Information'!C833=\"\",\"\",'Gas Cylinder Information'!C833)","v":""},{"$f":"IF('Gas Cylinder Information'!D833=\"\",\"\",'Gas Cylinder Information'!D833)","v":""},{"$f":"IF('Gas Cylinder Information'!B833=\"\",\"\",'Gas Cylinder Information'!B833)","v":""},{"$f":"IF('Gas Cylinder Information'!E833=\"\",\"\",'Gas Cylinder Information'!E833)","v":""},{"$f":"IF('Gas Cylinder Information'!F833=\"\",\"\",'Gas Cylinder Information'!F833)","v":""},{"$f":"IF('Gas Cylinder Information'!G833=\"\",\"\",'Gas Cylinder Information'!G833)","v":""}]
[{"$f":"IF('Gas Cylinder Information'!A834=\"\",\"\",'Gas Cylinder Information'!A834)","v":""},{"$f":"IF('Gas Cylinder Information'!C834=\"\",\"\",'Gas Cylinder Information'!C834)","v":""},{"$f":"IF('Gas Cylinder Information'!D834=\"\",\"\",'Gas Cylinder Information'!D834)","v":""},{"$f":"IF('Gas Cylinder Information'!B834=\"\",\"\",'Gas Cylinder Information'!B834)","v":""},{"$f":"IF('Gas Cylinder Information'!E834=\"\",\"\",'Gas Cylinder Information'!E834)","v":""},{"$f":"IF('Gas Cylinder Information'!F834=\"\",\"\",'Gas Cylinder Information'!F834)","v":""},{"$f":"IF('Gas Cylinder Information'!G834=\"\",\"\",'Gas Cylinder Information'!G834)","v":""}]
[{"$f":"IF('Gas Cylinder Information'!A835=\"\",\"\",'Gas Cylinder Information'!A835)","v":""},{"$f":"IF('Gas Cylinder Information'!C835=\"\",\"\",'Gas Cylinder Information'!C835)","v":""},{"$f":"IF('Gas Cylinder Information'!D835=\"\",\"\",'Gas Cylinder Information'!D835)","v":""},{"$f":"IF('Gas Cylinder Information'!B835=\"\",\"\",'Gas Cylinder Information'!B835)","v":""},{"$f":"IF('Gas Cylinder Information'!E835=\"\",\"\",'Gas Cylinder Information'!E835)","v":""},{"$f":"IF('Gas Cylinder Information'!F835=\"\",\"\",'Gas Cylinder Information'!F835)","v":""},{"$f":"IF('Gas Cylinder Information'!G835=\"\",\"\",'Gas Cylinder Information'!G835)","v":""}]
[{"$f":"IF('Gas Cylinder Information'!A836=\"\",\"\",'Gas Cylinder Information'!A836)","v":""},{"$f":"IF('Gas Cylinder Information'!C836=\"\",\"\",'Gas Cylinder Information'!C836)","v":""},{"$f":"IF('Gas Cylinder Information'!D836=\"\",\"\",'Gas Cylinder Information'!D836)","v":""},{"$f":"IF('Gas Cylinder Information'!B836=\"\",\"\",'Gas Cylinder Information'!B836)","v":""},{"$f":"IF('Gas Cylinder Information'!E836=\"\",\"\",'Gas Cylinder Information'!E836)","v":""},{"$f":"IF('Gas Cylinder Information'!F836=\"\",\"\",'Gas Cylinder Information'!F836)","v":""},{"$f":"IF('Gas Cylinder Information'!G836=\"\",\"\",'Gas Cylinder Information'!G836)","v":""}]
[{"$f":"IF('Gas Cylinder Information'!A837=\"\",\"\",'Gas Cylinder Information'!A837)","v":""},{"$f":"IF('Gas Cylinder Information'!C837=\"\",\"\",'Gas Cylinder Information'!C837)","v":""},{"$f":"IF('Gas Cylinder Information'!D837=\"\",\"\",'Gas Cylinder Information'!D837)","v":""},{"$f":"IF('Gas Cylinder Information'!B837=\"\",\"\",'Gas Cylinder Information'!B837)","v":""},{"$f":"IF('Gas Cylinder Information'!E837=\"\",\"\",'Gas Cylinder Information'!E837)","v":""},{"$f":"IF('Gas Cylinder Information'!F837=\"\",\"\",'Gas Cylinder Information'!F837)","v":""},{"$f":"IF('Gas Cylinder Information'!G837=\"\",\"\",'Gas Cylinder Information'!G837)","v":""}]
[{"$f":"IF('Gas Cylinder Information'!A838=\"\",\"\",'Gas Cylinder Information'!A838)","v":""},{"$f":"IF('Gas Cylinder Information'!C838=\"\",\"\",'Gas Cylinder Information'!C838)","v":""},{"$f":"IF('Gas Cylinder Information'!D838=\"\",\"\",'Gas Cylinder Information'!D838)","v":""},{"$f":"IF('Gas Cylinder Information'!B838=\"\",\"\",'Gas Cylinder Information'!B838)","v":""},{"$f":"IF('Gas Cylinder Information'!E838=\"\",\"\",'Gas Cylinder Information'!E838)","v":""},{"$f":"IF('Gas Cylinder Information'!F838=\"\",\"\",'Gas Cylinder Information'!F838)","v":""},{"$f":"IF('Gas Cylinder Information'!G838=\"\",\"\",'Gas Cylinder Information'!G838)","v":""}]
[{"$f":"IF('Gas Cylinder Information'!A839=\"\",\"\",'Gas Cylinder Information'!A839)","v":""},{"$f":"IF('Gas Cylinder Information'!C839=\"\",\"\",'Gas Cylinder Information'!C839)","v":""},{"$f":"IF('Gas Cylinder Information'!D839=\"\",\"\",'Gas Cylinder Information'!D839)","v":""},{"$f":"IF('Gas Cylinder Information'!B839=\"\",\"\",'Gas Cylinder Information'!B839)","v":""},{"$f":"IF('Gas Cylinder Information'!E839=\"\",\"\",'Gas Cylinder Information'!E839)","v":""},{"$f":"IF('Gas Cylinder Information'!F839=\"\",\"\",'Gas Cylinder Information'!F839)","v":""},{"$f":"IF('Gas Cylinder Information'!G839=\"\",\"\",'Gas Cylinder Information'!G839)","v":""}]
[{"$f":"IF('Gas Cylinder Information'!A840=\"\",\"\",'Gas Cylinder Information'!A840)","v":""},{"$f":"IF('Gas Cylinder Information'!C840=\"\",\"\",'Gas Cylinder Information'!C840)","v":""},{"$f":"IF('Gas Cylinder Information'!D840=\"\",\"\",'Gas Cylinder Information'!D840)","v":""},{"$f":"IF('Gas Cylinder Information'!B840=\"\",\"\",'Gas Cylinder Information'!B840)","v":""},{"$f":"IF('Gas Cylinder Information'!E840=\"\",\"\",'Gas Cylinder Information'!E840)","v":""},{"$f":"IF('Gas Cylinder Information'!F840=\"\",\"\",'Gas Cylinder Information'!F840)","v":""},{"$f":"IF('Gas Cylinder Information'!G840=\"\",\"\",'Gas Cylinder Information'!G840)","v":""}]
[{"$f":"IF('Gas Cylinder Information'!A841=\"\",\"\",'Gas Cylinder Information'!A841)","v":""},{"$f":"IF('Gas Cylinder Information'!C841=\"\",\"\",'Gas Cylinder Information'!C841)","v":""},{"$f":"IF('Gas Cylinder Information'!D841=\"\",\"\",'Gas Cylinder Information'!D841)","v":""},{"$f":"IF('Gas Cylinder Information'!B841=\"\",\"\",'Gas Cylinder Information'!B841)","v":""},{"$f":"IF('Gas Cylinder Information'!E841=\"\",\"\",'Gas Cylinder Information'!E841)","v":""},{"$f":"IF('Gas Cylinder Information'!F841=\"\",\"\",'Gas Cylinder Information'!F841)","v":""},{"$f":"IF('Gas Cylinder Information'!G841=\"\",\"\",'Gas Cylinder Information'!G841)","v":""}]
[{"$f":"IF('Gas Cylinder Information'!A842=\"\",\"\",'Gas Cylinder Information'!A842)","v":""},{"$f":"IF('Gas Cylinder Information'!C842=\"\",\"\",'Gas Cylinder Information'!C842)","v":""},{"$f":"IF('Gas Cylinder Information'!D842=\"\",\"\",'Gas Cylinder Information'!D842)","v":""},{"$f":"IF('Gas Cylinder Information'!B842=\"\",\"\",'Gas Cylinder Information'!B842)","v":""},{"$f":"IF('Gas Cylinder Information'!E842=\"\",\"\",'Gas Cylinder Information'!E842)","v":""},{"$f":"IF('Gas Cylinder Information'!F842=\"\",\"\",'Gas Cylinder Information'!F842)","v":""},{"$f":"IF('Gas Cylinder Information'!G842=\"\",\"\",'Gas Cylinder Information'!G842)","v":""}]
[{"$f":"IF('Gas Cylinder Information'!A843=\"\",\"\",'Gas Cylinder Information'!A843)","v":""},{"$f":"IF('Gas Cylinder Information'!C843=\"\",\"\",'Gas Cylinder Information'!C843)","v":""},{"$f":"IF('Gas Cylinder Information'!D843=\"\",\"\",'Gas Cylinder Information'!D843)","v":""},{"$f":"IF('Gas Cylinder Information'!B843=\"\",\"\",'Gas Cylinder Information'!B843)","v":""},{"$f":"IF('Gas Cylinder Information'!E843=\"\",\"\",'Gas Cylinder Information'!E843)","v":""},{"$f":"IF('Gas Cylinder Information'!F843=\"\",\"\",'Gas Cylinder Information'!F843)","v":""},{"$f":"IF('Gas Cylinder Information'!G843=\"\",\"\",'Gas Cylinder Information'!G843)","v":""}]
[{"$f":"IF('Gas Cylinder Information'!A844=\"\",\"\",'Gas Cylinder Information'!A844)","v":""},{"$f":"IF('Gas Cylinder Information'!C844=\"\",\"\",'Gas Cylinder Information'!C844)","v":""},{"$f":"IF('Gas Cylinder Information'!D844=\"\",\"\",'Gas Cylinder Information'!D844)","v":""},{"$f":"IF('Gas Cylinder Information'!B844=\"\",\"\",'Gas Cylinder Information'!B844)","v":""},{"$f":"IF('Gas Cylinder Information'!E844=\"\",\"\",'Gas Cylinder Information'!E844)","v":""},{"$f":"IF('Gas Cylinder Information'!F844=\"\",\"\",'Gas Cylinder Information'!F844)","v":""},{"$f":"IF('Gas Cylinder Information'!G844=\"\",\"\",'Gas Cylinder Information'!G844)","v":""}]
[{"$f":"IF('Gas Cylinder Information'!A845=\"\",\"\",'Gas Cylinder Information'!A845)","v":""},{"$f":"IF('Gas Cylinder Information'!C845=\"\",\"\",'Gas Cylinder Information'!C845)","v":""},{"$f":"IF('Gas Cylinder Information'!D845=\"\",\"\",'Gas Cylinder Information'!D845)","v":""},{"$f":"IF('Gas Cylinder Information'!B845=\"\",\"\",'Gas Cylinder Information'!B845)","v":""},{"$f":"IF('Gas Cylinder Information'!E845=\"\",\"\",'Gas Cylinder Information'!E845)","v":""},{"$f":"IF('Gas Cylinder Information'!F845=\"\",\"\",'Gas Cylinder Information'!F845)","v":""},{"$f":"IF('Gas Cylinder Information'!G845=\"\",\"\",'Gas Cylinder Information'!G845)","v":""}]
[{"$f":"IF('Gas Cylinder Information'!A846=\"\",\"\",'Gas Cylinder Information'!A846)","v":""},{"$f":"IF('Gas Cylinder Information'!C846=\"\",\"\",'Gas Cylinder Information'!C846)","v":""},{"$f":"IF('Gas Cylinder Information'!D846=\"\",\"\",'Gas Cylinder Information'!D846)","v":""},{"$f":"IF('Gas Cylinder Information'!B846=\"\",\"\",'Gas Cylinder Information'!B846)","v":""},{"$f":"IF('Gas Cylinder Information'!E846=\"\",\"\",'Gas Cylinder Information'!E846)","v":""},{"$f":"IF('Gas Cylinder Information'!F846=\"\",\"\",'Gas Cylinder Information'!F846)","v":""},{"$f":"IF('Gas Cylinder Information'!G846=\"\",\"\",'Gas Cylinder Information'!G846)","v":""}]
[{"$f":"IF('Gas Cylinder Information'!A847=\"\",\"\",'Gas Cylinder Information'!A847)","v":""},{"$f":"IF('Gas Cylinder Information'!C847=\"\",\"\",'Gas Cylinder Information'!C847)","v":""},{"$f":"IF('Gas Cylinder Information'!D847=\"\",\"\",'Gas Cylinder Information'!D847)","v":""},{"$f":"IF('Gas Cylinder Information'!B847=\"\",\"\",'Gas Cylinder Information'!B847)","v":""},{"$f":"IF('Gas Cylinder Information'!E847=\"\",\"\",'Gas Cylinder Information'!E847)","v":""},{"$f":"IF('Gas Cylinder Information'!F847=\"\",\"\",'Gas Cylinder Information'!F847)","v":""},{"$f":"IF('Gas Cylinder Information'!G847=\"\",\"\",'Gas Cylinder Information'!G847)","v":""}]
[{"$f":"IF('Gas Cylinder Information'!A848=\"\",\"\",'Gas Cylinder Information'!A848)","v":""},{"$f":"IF('Gas Cylinder Information'!C848=\"\",\"\",'Gas Cylinder Information'!C848)","v":""},{"$f":"IF('Gas Cylinder Information'!D848=\"\",\"\",'Gas Cylinder Information'!D848)","v":""},{"$f":"IF('Gas Cylinder Information'!B848=\"\",\"\",'Gas Cylinder Information'!B848)","v":""},{"$f":"IF('Gas Cylinder Information'!E848=\"\",\"\",'Gas Cylinder Information'!E848)","v":""},{"$f":"IF('Gas Cylinder Information'!F848=\"\",\"\",'Gas Cylinder Information'!F848)","v":""},{"$f":"IF('Gas Cylinder Information'!G848=\"\",\"\",'Gas Cylinder Information'!G848)","v":""}]
[{"$f":"IF('Gas Cylinder Information'!A849=\"\",\"\",'Gas Cylinder Information'!A849)","v":""},{"$f":"IF('Gas Cylinder Information'!C849=\"\",\"\",'Gas Cylinder Information'!C849)","v":""},{"$f":"IF('Gas Cylinder Information'!D849=\"\",\"\",'Gas Cylinder Information'!D849)","v":""},{"$f":"IF('Gas Cylinder Information'!B849=\"\",\"\",'Gas Cylinder Information'!B849)","v":""},{"$f":"IF('Gas Cylinder Information'!E849=\"\",\"\",'Gas Cylinder Information'!E849)","v":""},{"$f":"IF('Gas Cylinder Information'!F849=\"\",\"\",'Gas Cylinder Information'!F849)","v":""},{"$f":"IF('Gas Cylinder Information'!G849=\"\",\"\",'Gas Cylinder Information'!G849)","v":""}]
[{"$f":"IF('Gas Cylinder Information'!A850=\"\",\"\",'Gas Cylinder Information'!A850)","v":""},{"$f":"IF('Gas Cylinder Information'!C850=\"\",\"\",'Gas Cylinder Information'!C850)","v":""},{"$f":"IF('Gas Cylinder Information'!D850=\"\",\"\",'Gas Cylinder Information'!D850)","v":""},{"$f":"IF('Gas Cylinder Information'!B850=\"\",\"\",'Gas Cylinder Information'!B850)","v":""},{"$f":"IF('Gas Cylinder Information'!E850=\"\",\"\",'Gas Cylinder Information'!E850)","v":""},{"$f":"IF('Gas Cylinder Information'!F850=\"\",\"\",'Gas Cylinder Information'!F850)","v":""},{"$f":"IF('Gas Cylinder Information'!G850=\"\",\"\",'Gas Cylinder Information'!G850)","v":""}]
[{"$f":"IF('Gas Cylinder Information'!A851=\"\",\"\",'Gas Cylinder Information'!A851)","v":""},{"$f":"IF('Gas Cylinder Information'!C851=\"\",\"\",'Gas Cylinder Information'!C851)","v":""},{"$f":"IF('Gas Cylinder Information'!D851=\"\",\"\",'Gas Cylinder Information'!D851)","v":""},{"$f":"IF('Gas Cylinder Information'!B851=\"\",\"\",'Gas Cylinder Information'!B851)","v":""},{"$f":"IF('Gas Cylinder Information'!E851=\"\",\"\",'Gas Cylinder Information'!E851)","v":""},{"$f":"IF('Gas Cylinder Information'!F851=\"\",\"\",'Gas Cylinder Information'!F851)","v":""},{"$f":"IF('Gas Cylinder Information'!G851=\"\",\"\",'Gas Cylinder Information'!G851)","v":""}]
[{"$f":"IF('Gas Cylinder Information'!A852=\"\",\"\",'Gas Cylinder Information'!A852)","v":""},{"$f":"IF('Gas Cylinder Information'!C852=\"\",\"\",'Gas Cylinder Information'!C852)","v":""},{"$f":"IF('Gas Cylinder Information'!D852=\"\",\"\",'Gas Cylinder Information'!D852)","v":""},{"$f":"IF('Gas Cylinder Information'!B852=\"\",\"\",'Gas Cylinder Information'!B852)","v":""},{"$f":"IF('Gas Cylinder Information'!E852=\"\",\"\",'Gas Cylinder Information'!E852)","v":""},{"$f":"IF('Gas Cylinder Information'!F852=\"\",\"\",'Gas Cylinder Information'!F852)","v":""},{"$f":"IF('Gas Cylinder Information'!G852=\"\",\"\",'Gas Cylinder Information'!G852)","v":""}]
[{"$f":"IF('Gas Cylinder Information'!A853=\"\",\"\",'Gas Cylinder Information'!A853)","v":""},{"$f":"IF('Gas Cylinder Information'!C853=\"\",\"\",'Gas Cylinder Information'!C853)","v":""},{"$f":"IF('Gas Cylinder Information'!D853=\"\",\"\",'Gas Cylinder Information'!D853)","v":""},{"$f":"IF('Gas Cylinder Information'!B853=\"\",\"\",'Gas Cylinder Information'!B853)","v":""},{"$f":"IF('Gas Cylinder Information'!E853=\"\",\"\",'Gas Cylinder Information'!E853)","v":""},{"$f":"IF('Gas Cylinder Information'!F853=\"\",\"\",'Gas Cylinder Information'!F853)","v":""},{"$f":"IF('Gas Cylinder Information'!G853=\"\",\"\",'Gas Cylinder Information'!G853)","v":""}]
[{"$f":"IF('Gas Cylinder Information'!A854=\"\",\"\",'Gas Cylinder Information'!A854)","v":""},{"$f":"IF('Gas Cylinder Information'!C854=\"\",\"\",'Gas Cylinder Information'!C854)","v":""},{"$f":"IF('Gas Cylinder Information'!D854=\"\",\"\",'Gas Cylinder Information'!D854)","v":""},{"$f":"IF('Gas Cylinder Information'!B854=\"\",\"\",'Gas Cylinder Information'!B854)","v":""},{"$f":"IF('Gas Cylinder Information'!E854=\"\",\"\",'Gas Cylinder Information'!E854)","v":""},{"$f":"IF('Gas Cylinder Information'!F854=\"\",\"\",'Gas Cylinder Information'!F854)","v":""},{"$f":"IF('Gas Cylinder Information'!G854=\"\",\"\",'Gas Cylinder Information'!G854)","v":""}]
[{"$f":"IF('Gas Cylinder Information'!A855=\"\",\"\",'Gas Cylinder Information'!A855)","v":""},{"$f":"IF('Gas Cylinder Information'!C855=\"\",\"\",'Gas Cylinder Information'!C855)","v":""},{"$f":"IF('Gas Cylinder Information'!D855=\"\",\"\",'Gas Cylinder Information'!D855)","v":""},{"$f":"IF('Gas Cylinder Information'!B855=\"\",\"\",'Gas Cylinder Information'!B855)","v":""},{"$f":"IF('Gas Cylinder Information'!E855=\"\",\"\",'Gas Cylinder Information'!E855)","v":""},{"$f":"IF('Gas Cylinder Information'!F855=\"\",\"\",'Gas Cylinder Information'!F855)","v":""},{"$f":"IF('Gas Cylinder Information'!G855=\"\",\"\",'Gas Cylinder Information'!G855)","v":""}]
[{"$f":"IF('Gas Cylinder Information'!A856=\"\",\"\",'Gas Cylinder Information'!A856)","v":""},{"$f":"IF('Gas Cylinder Information'!C856=\"\",\"\",'Gas Cylinder Information'!C856)","v":""},{"$f":"IF('Gas Cylinder Information'!D856=\"\",\"\",'Gas Cylinder Information'!D856)","v":""},{"$f":"IF('Gas Cylinder Information'!B856=\"\",\"\",'Gas Cylinder Information'!B856)","v":""},{"$f":"IF('Gas Cylinder Information'!E856=\"\",\"\",'Gas Cylinder Information'!E856)","v":""},{"$f":"IF('Gas Cylinder Information'!F856=\"\",\"\",'Gas Cylinder Information'!F856)","v":""},{"$f":"IF('Gas Cylinder Information'!G856=\"\",\"\",'Gas Cylinder Information'!G856)","v":""}]
[{"$f":"IF('Gas Cylinder Information'!A857=\"\",\"\",'Gas Cylinder Information'!A857)","v":""},{"$f":"IF('Gas Cylinder Information'!C857=\"\",\"\",'Gas Cylinder Information'!C857)","v":""},{"$f":"IF('Gas Cylinder Information'!D857=\"\",\"\",'Gas Cylinder Information'!D857)","v":""},{"$f":"IF('Gas Cylinder Information'!B857=\"\",\"\",'Gas Cylinder Information'!B857)","v":""},{"$f":"IF('Gas Cylinder Information'!E857=\"\",\"\",'Gas Cylinder Information'!E857)","v":""},{"$f":"IF('Gas Cylinder Information'!F857=\"\",\"\",'Gas Cylinder Information'!F857)","v":""},{"$f":"IF('Gas Cylinder Information'!G857=\"\",\"\",'Gas Cylinder Information'!G857)","v":""}]
[{"$f":"IF('Gas Cylinder Information'!A858=\"\",\"\",'Gas Cylinder Information'!A858)","v":""},{"$f":"IF('Gas Cylinder Information'!C858=\"\",\"\",'Gas Cylinder Information'!C858)","v":""},{"$f":"IF('Gas Cylinder Information'!D858=\"\",\"\",'Gas Cylinder Information'!D858)","v":""},{"$f":"IF('Gas Cylinder Information'!B858=\"\",\"\",'Gas Cylinder Information'!B858)","v":""},{"$f":"IF('Gas Cylinder Information'!E858=\"\",\"\",'Gas Cylinder Information'!E858)","v":""},{"$f":"IF('Gas Cylinder Information'!F858=\"\",\"\",'Gas Cylinder Information'!F858)","v":""},{"$f":"IF('Gas Cylinder Information'!G858=\"\",\"\",'Gas Cylinder Information'!G858)","v":""}]
[{"$f":"IF('Gas Cylinder Information'!A859=\"\",\"\",'Gas Cylinder Information'!A859)","v":""},{"$f":"IF('Gas Cylinder Information'!C859=\"\",\"\",'Gas Cylinder Information'!C859)","v":""},{"$f":"IF('Gas Cylinder Information'!D859=\"\",\"\",'Gas Cylinder Information'!D859)","v":""},{"$f":"IF('Gas Cylinder Information'!B859=\"\",\"\",'Gas Cylinder Information'!B859)","v":""},{"$f":"IF('Gas Cylinder Information'!E859=\"\",\"\",'Gas Cylinder Information'!E859)","v":""},{"$f":"IF('Gas Cylinder Information'!F859=\"\",\"\",'Gas Cylinder Information'!F859)","v":""},{"$f":"IF('Gas Cylinder Information'!G859=\"\",\"\",'Gas Cylinder Information'!G859)","v":""}]
[{"$f":"IF('Gas Cylinder Information'!A860=\"\",\"\",'Gas Cylinder Information'!A860)","v":""},{"$f":"IF('Gas Cylinder Information'!C860=\"\",\"\",'Gas Cylinder Information'!C860)","v":""},{"$f":"IF('Gas Cylinder Information'!D860=\"\",\"\",'Gas Cylinder Information'!D860)","v":""},{"$f":"IF('Gas Cylinder Information'!B860=\"\",\"\",'Gas Cylinder Information'!B860)","v":""},{"$f":"IF('Gas Cylinder Information'!E860=\"\",\"\",'Gas Cylinder Information'!E860)","v":""},{"$f":"IF('Gas Cylinder Information'!F860=\"\",\"\",'Gas Cylinder Information'!F860)","v":""},{"$f":"IF('Gas Cylinder Information'!G860=\"\",\"\",'Gas Cylinder Information'!G860)","v":""}]
[{"$f":"IF('Gas Cylinder Information'!A861=\"\",\"\",'Gas Cylinder Information'!A861)","v":""},{"$f":"IF('Gas Cylinder Information'!C861=\"\",\"\",'Gas Cylinder Information'!C861)","v":""},{"$f":"IF('Gas Cylinder Information'!D861=\"\",\"\",'Gas Cylinder Information'!D861)","v":""},{"$f":"IF('Gas Cylinder Information'!B861=\"\",\"\",'Gas Cylinder Information'!B861)","v":""},{"$f":"IF('Gas Cylinder Information'!E861=\"\",\"\",'Gas Cylinder Information'!E861)","v":""},{"$f":"IF('Gas Cylinder Information'!F861=\"\",\"\",'Gas Cylinder Information'!F861)","v":""},{"$f":"IF('Gas Cylinder Information'!G861=\"\",\"\",'Gas Cylinder Information'!G861)","v":""}]
[{"$f":"IF('Gas Cylinder Information'!A862=\"\",\"\",'Gas Cylinder Information'!A862)","v":""},{"$f":"IF('Gas Cylinder Information'!C862=\"\",\"\",'Gas Cylinder Information'!C862)","v":""},{"$f":"IF('Gas Cylinder Information'!D862=\"\",\"\",'Gas Cylinder Information'!D862)","v":""},{"$f":"IF('Gas Cylinder Information'!B862=\"\",\"\",'Gas Cylinder Information'!B862)","v":""},{"$f":"IF('Gas Cylinder Information'!E862=\"\",\"\",'Gas Cylinder Information'!E862)","v":""},{"$f":"IF('Gas Cylinder Information'!F862=\"\",\"\",'Gas Cylinder Information'!F862)","v":""},{"$f":"IF('Gas Cylinder Information'!G862=\"\",\"\",'Gas Cylinder Information'!G862)","v":""}]
[{"$f":"IF('Gas Cylinder Information'!A863=\"\",\"\",'Gas Cylinder Information'!A863)","v":""},{"$f":"IF('Gas Cylinder Information'!C863=\"\",\"\",'Gas Cylinder Information'!C863)","v":""},{"$f":"IF('Gas Cylinder Information'!D863=\"\",\"\",'Gas Cylinder Information'!D863)","v":""},{"$f":"IF('Gas Cylinder Information'!B863=\"\",\"\",'Gas Cylinder Information'!B863)","v":""},{"$f":"IF('Gas Cylinder Information'!E863=\"\",\"\",'Gas Cylinder Information'!E863)","v":""},{"$f":"IF('Gas Cylinder Information'!F863=\"\",\"\",'Gas Cylinder Information'!F863)","v":""},{"$f":"IF('Gas Cylinder Information'!G863=\"\",\"\",'Gas Cylinder Information'!G863)","v":""}]
[{"$f":"IF('Gas Cylinder Information'!A864=\"\",\"\",'Gas Cylinder Information'!A864)","v":""},{"$f":"IF('Gas Cylinder Information'!C864=\"\",\"\",'Gas Cylinder Information'!C864)","v":""},{"$f":"IF('Gas Cylinder Information'!D864=\"\",\"\",'Gas Cylinder Information'!D864)","v":""},{"$f":"IF('Gas Cylinder Information'!B864=\"\",\"\",'Gas Cylinder Information'!B864)","v":""},{"$f":"IF('Gas Cylinder Information'!E864=\"\",\"\",'Gas Cylinder Information'!E864)","v":""},{"$f":"IF('Gas Cylinder Information'!F864=\"\",\"\",'Gas Cylinder Information'!F864)","v":""},{"$f":"IF('Gas Cylinder Information'!G864=\"\",\"\",'Gas Cylinder Information'!G864)","v":""}]
[{"$f":"IF('Gas Cylinder Information'!A865=\"\",\"\",'Gas Cylinder Information'!A865)","v":""},{"$f":"IF('Gas Cylinder Information'!C865=\"\",\"\",'Gas Cylinder Information'!C865)","v":""},{"$f":"IF('Gas Cylinder Information'!D865=\"\",\"\",'Gas Cylinder Information'!D865)","v":""},{"$f":"IF('Gas Cylinder Information'!B865=\"\",\"\",'Gas Cylinder Information'!B865)","v":""},{"$f":"IF('Gas Cylinder Information'!E865=\"\",\"\",'Gas Cylinder Information'!E865)","v":""},{"$f":"IF('Gas Cylinder Information'!F865=\"\",\"\",'Gas Cylinder Information'!F865)","v":""},{"$f":"IF('Gas Cylinder Information'!G865=\"\",\"\",'Gas Cylinder Information'!G865)","v":""}]
[{"$f":"IF('Gas Cylinder Information'!A866=\"\",\"\",'Gas Cylinder Information'!A866)","v":""},{"$f":"IF('Gas Cylinder Information'!C866=\"\",\"\",'Gas Cylinder Information'!C866)","v":""},{"$f":"IF('Gas Cylinder Information'!D866=\"\",\"\",'Gas Cylinder Information'!D866)","v":""},{"$f":"IF('Gas Cylinder Information'!B866=\"\",\"\",'Gas Cylinder Information'!B866)","v":""},{"$f":"IF('Gas Cylinder Information'!E866=\"\",\"\",'Gas Cylinder Information'!E866)","v":""},{"$f":"IF('Gas Cylinder Information'!F866=\"\",\"\",'Gas Cylinder Information'!F866)","v":""},{"$f":"IF('Gas Cylinder Information'!G866=\"\",\"\",'Gas Cylinder Information'!G866)","v":""}]
[{"$f":"IF('Gas Cylinder Information'!A867=\"\",\"\",'Gas Cylinder Information'!A867)","v":""},{"$f":"IF('Gas Cylinder Information'!C867=\"\",\"\",'Gas Cylinder Information'!C867)","v":""},{"$f":"IF('Gas Cylinder Information'!D867=\"\",\"\",'Gas Cylinder Information'!D867)","v":""},{"$f":"IF('Gas Cylinder Information'!B867=\"\",\"\",'Gas Cylinder Information'!B867)","v":""},{"$f":"IF('Gas Cylinder Information'!E867=\"\",\"\",'Gas Cylinder Information'!E867)","v":""},{"$f":"IF('Gas Cylinder Information'!F867=\"\",\"\",'Gas Cylinder Information'!F867)","v":""},{"$f":"IF('Gas Cylinder Information'!G867=\"\",\"\",'Gas Cylinder Information'!G867)","v":""}]
[{"$f":"IF('Gas Cylinder Information'!A868=\"\",\"\",'Gas Cylinder Information'!A868)","v":""},{"$f":"IF('Gas Cylinder Information'!C868=\"\",\"\",'Gas Cylinder Information'!C868)","v":""},{"$f":"IF('Gas Cylinder Information'!D868=\"\",\"\",'Gas Cylinder Information'!D868)","v":""},{"$f":"IF('Gas Cylinder Information'!B868=\"\",\"\",'Gas Cylinder Information'!B868)","v":""},{"$f":"IF('Gas Cylinder Information'!E868=\"\",\"\",'Gas Cylinder Information'!E868)","v":""},{"$f":"IF('Gas Cylinder Information'!F868=\"\",\"\",'Gas Cylinder Information'!F868)","v":""},{"$f":"IF('Gas Cylinder Information'!G868=\"\",\"\",'Gas Cylinder Information'!G868)","v":""}]
[{"$f":"IF('Gas Cylinder Information'!A869=\"\",\"\",'Gas Cylinder Information'!A869)","v":""},{"$f":"IF('Gas Cylinder Information'!C869=\"\",\"\",'Gas Cylinder Information'!C869)","v":""},{"$f":"IF('Gas Cylinder Information'!D869=\"\",\"\",'Gas Cylinder Information'!D869)","v":""},{"$f":"IF('Gas Cylinder Information'!B869=\"\",\"\",'Gas Cylinder Information'!B869)","v":""},{"$f":"IF('Gas Cylinder Information'!E869=\"\",\"\",'Gas Cylinder Information'!E869)","v":""},{"$f":"IF('Gas Cylinder Information'!F869=\"\",\"\",'Gas Cylinder Information'!F869)","v":""},{"$f":"IF('Gas Cylinder Information'!G869=\"\",\"\",'Gas Cylinder Information'!G869)","v":""}]
[{"$f":"IF('Gas Cylinder Information'!A870=\"\",\"\",'Gas Cylinder Information'!A870)","v":""},{"$f":"IF('Gas Cylinder Information'!C870=\"\",\"\",'Gas Cylinder Information'!C870)","v":""},{"$f":"IF('Gas Cylinder Information'!D870=\"\",\"\",'Gas Cylinder Information'!D870)","v":""},{"$f":"IF('Gas Cylinder Information'!B870=\"\",\"\",'Gas Cylinder Information'!B870)","v":""},{"$f":"IF('Gas Cylinder Information'!E870=\"\",\"\",'Gas Cylinder Information'!E870)","v":""},{"$f":"IF('Gas Cylinder Information'!F870=\"\",\"\",'Gas Cylinder Information'!F870)","v":""},{"$f":"IF('Gas Cylinder Information'!G870=\"\",\"\",'Gas Cylinder Information'!G870)","v":""}]
[{"$f":"IF('Gas Cylinder Information'!A871=\"\",\"\",'Gas Cylinder Information'!A871)","v":""},{"$f":"IF('Gas Cylinder Information'!C871=\"\",\"\",'Gas Cylinder Information'!C871)","v":""},{"$f":"IF('Gas Cylinder Information'!D871=\"\",\"\",'Gas Cylinder Information'!D871)","v":""},{"$f":"IF('Gas Cylinder Information'!B871=\"\",\"\",'Gas Cylinder Information'!B871)","v":""},{"$f":"IF('Gas Cylinder Information'!E871=\"\",\"\",'Gas Cylinder Information'!E871)","v":""},{"$f":"IF('Gas Cylinder Information'!F871=\"\",\"\",'Gas Cylinder Information'!F871)","v":""},{"$f":"IF('Gas Cylinder Information'!G871=\"\",\"\",'Gas Cylinder Information'!G871)","v":""}]
[{"$f":"IF('Gas Cylinder Information'!A872=\"\",\"\",'Gas Cylinder Information'!A872)","v":""},{"$f":"IF('Gas Cylinder Information'!C872=\"\",\"\",'Gas Cylinder Information'!C872)","v":""},{"$f":"IF('Gas Cylinder Information'!D872=\"\",\"\",'Gas Cylinder Information'!D872)","v":""},{"$f":"IF('Gas Cylinder Information'!B872=\"\",\"\",'Gas Cylinder Information'!B872)","v":""},{"$f":"IF('Gas Cylinder Information'!E872=\"\",\"\",'Gas Cylinder Information'!E872)","v":""},{"$f":"IF('Gas Cylinder Information'!F872=\"\",\"\",'Gas Cylinder Information'!F872)","v":""},{"$f":"IF('Gas Cylinder Information'!G872=\"\",\"\",'Gas Cylinder Information'!G872)","v":""}]
[{"$f":"IF('Gas Cylinder Information'!A873=\"\",\"\",'Gas Cylinder Information'!A873)","v":""},{"$f":"IF('Gas Cylinder Information'!C873=\"\",\"\",'Gas Cylinder Information'!C873)","v":""},{"$f":"IF('Gas Cylinder Information'!D873=\"\",\"\",'Gas Cylinder Information'!D873)","v":""},{"$f":"IF('Gas Cylinder Information'!B873=\"\",\"\",'Gas Cylinder Information'!B873)","v":""},{"$f":"IF('Gas Cylinder Information'!E873=\"\",\"\",'Gas Cylinder Information'!E873)","v":""},{"$f":"IF('Gas Cylinder Information'!F873=\"\",\"\",'Gas Cylinder Information'!F873)","v":""},{"$f":"IF('Gas Cylinder Information'!G873=\"\",\"\",'Gas Cylinder Information'!G873)","v":""}]
[{"$f":"IF('Gas Cylinder Information'!A874=\"\",\"\",'Gas Cylinder Information'!A874)","v":""},{"$f":"IF('Gas Cylinder Information'!C874=\"\",\"\",'Gas Cylinder Information'!C874)","v":""},{"$f":"IF('Gas Cylinder Information'!D874=\"\",\"\",'Gas Cylinder Information'!D874)","v":""},{"$f":"IF('Gas Cylinder Information'!B874=\"\",\"\",'Gas Cylinder Information'!B874)","v":""},{"$f":"IF('Gas Cylinder Information'!E874=\"\",\"\",'Gas Cylinder Information'!E874)","v":""},{"$f":"IF('Gas Cylinder Information'!F874=\"\",\"\",'Gas Cylinder Information'!F874)","v":""},{"$f":"IF('Gas Cylinder Information'!G874=\"\",\"\",'Gas Cylinder Information'!G874)","v":""}]
[{"$f":"IF('Gas Cylinder Information'!A875=\"\",\"\",'Gas Cylinder Information'!A875)","v":""},{"$f":"IF('Gas Cylinder Information'!C875=\"\",\"\",'Gas Cylinder Information'!C875)","v":""},{"$f":"IF('Gas Cylinder Information'!D875=\"\",\"\",'Gas Cylinder Information'!D875)","v":""},{"$f":"IF('Gas Cylinder Information'!B875=\"\",\"\",'Gas Cylinder Information'!B875)","v":""},{"$f":"IF('Gas Cylinder Information'!E875=\"\",\"\",'Gas Cylinder Information'!E875)","v":""},{"$f":"IF('Gas Cylinder Information'!F875=\"\",\"\",'Gas Cylinder Information'!F875)","v":""},{"$f":"IF('Gas Cylinder Information'!G875=\"\",\"\",'Gas Cylinder Information'!G875)","v":""}]
[{"$f":"IF('Gas Cylinder Information'!A876=\"\",\"\",'Gas Cylinder Information'!A876)","v":""},{"$f":"IF('Gas Cylinder Information'!C876=\"\",\"\",'Gas Cylinder Information'!C876)","v":""},{"$f":"IF('Gas Cylinder Information'!D876=\"\",\"\",'Gas Cylinder Information'!D876)","v":""},{"$f":"IF('Gas Cylinder Information'!B876=\"\",\"\",'Gas Cylinder Information'!B876)","v":""},{"$f":"IF('Gas Cylinder Information'!E876=\"\",\"\",'Gas Cylinder Information'!E876)","v":""},{"$f":"IF('Gas Cylinder Information'!F876=\"\",\"\",'Gas Cylinder Information'!F876)","v":""},{"$f":"IF('Gas Cylinder Information'!G876=\"\",\"\",'Gas Cylinder Information'!G876)","v":""}]
[{"$f":"IF('Gas Cylinder Information'!A877=\"\",\"\",'Gas Cylinder Information'!A877)","v":""},{"$f":"IF('Gas Cylinder Information'!C877=\"\",\"\",'Gas Cylinder Information'!C877)","v":""},{"$f":"IF('Gas Cylinder Information'!D877=\"\",\"\",'Gas Cylinder Information'!D877)","v":""},{"$f":"IF('Gas Cylinder Information'!B877=\"\",\"\",'Gas Cylinder Information'!B877)","v":""},{"$f":"IF('Gas Cylinder Information'!E877=\"\",\"\",'Gas Cylinder Information'!E877)","v":""},{"$f":"IF('Gas Cylinder Information'!F877=\"\",\"\",'Gas Cylinder Information'!F877)","v":""},{"$f":"IF('Gas Cylinder Information'!G877=\"\",\"\",'Gas Cylinder Information'!G877)","v":""}]
[{"$f":"IF('Gas Cylinder Information'!A878=\"\",\"\",'Gas Cylinder Information'!A878)","v":""},{"$f":"IF('Gas Cylinder Information'!C878=\"\",\"\",'Gas Cylinder Information'!C878)","v":""},{"$f":"IF('Gas Cylinder Information'!D878=\"\",\"\",'Gas Cylinder Information'!D878)","v":""},{"$f":"IF('Gas Cylinder Information'!B878=\"\",\"\",'Gas Cylinder Information'!B878)","v":""},{"$f":"IF('Gas Cylinder Information'!E878=\"\",\"\",'Gas Cylinder Information'!E878)","v":""},{"$f":"IF('Gas Cylinder Information'!F878=\"\",\"\",'Gas Cylinder Information'!F878)","v":""},{"$f":"IF('Gas Cylinder Information'!G878=\"\",\"\",'Gas Cylinder Information'!G878)","v":""}]
[{"$f":"IF('Gas Cylinder Information'!A879=\"\",\"\",'Gas Cylinder Information'!A879)","v":""},{"$f":"IF('Gas Cylinder Information'!C879=\"\",\"\",'Gas Cylinder Information'!C879)","v":""},{"$f":"IF('Gas Cylinder Information'!D879=\"\",\"\",'Gas Cylinder Information'!D879)","v":""},{"$f":"IF('Gas Cylinder Information'!B879=\"\",\"\",'Gas Cylinder Information'!B879)","v":""},{"$f":"IF('Gas Cylinder Information'!E879=\"\",\"\",'Gas Cylinder Information'!E879)","v":""},{"$f":"IF('Gas Cylinder Information'!F879=\"\",\"\",'Gas Cylinder Information'!F879)","v":""},{"$f":"IF('Gas Cylinder Information'!G879=\"\",\"\",'Gas Cylinder Information'!G879)","v":""}]
[{"$f":"IF('Gas Cylinder Information'!A880=\"\",\"\",'Gas Cylinder Information'!A880)","v":""},{"$f":"IF('Gas Cylinder Information'!C880=\"\",\"\",'Gas Cylinder Information'!C880)","v":""},{"$f":"IF('Gas Cylinder Information'!D880=\"\",\"\",'Gas Cylinder Information'!D880)","v":""},{"$f":"IF('Gas Cylinder Information'!B880=\"\",\"\",'Gas Cylinder Information'!B880)","v":""},{"$f":"IF('Gas Cylinder Information'!E880=\"\",\"\",'Gas Cylinder Information'!E880)","v":""},{"$f":"IF('Gas Cylinder Information'!F880=\"\",\"\",'Gas Cylinder Information'!F880)","v":""},{"$f":"IF('Gas Cylinder Information'!G880=\"\",\"\",'Gas Cylinder Information'!G880)","v":""}]
[{"$f":"IF('Gas Cylinder Information'!A881=\"\",\"\",'Gas Cylinder Information'!A881)","v":""},{"$f":"IF('Gas Cylinder Information'!C881=\"\",\"\",'Gas Cylinder Information'!C881)","v":""},{"$f":"IF('Gas Cylinder Information'!D881=\"\",\"\",'Gas Cylinder Information'!D881)","v":""},{"$f":"IF('Gas Cylinder Information'!B881=\"\",\"\",'Gas Cylinder Information'!B881)","v":""},{"$f":"IF('Gas Cylinder Information'!E881=\"\",\"\",'Gas Cylinder Information'!E881)","v":""},{"$f":"IF('Gas Cylinder Information'!F881=\"\",\"\",'Gas Cylinder Information'!F881)","v":""},{"$f":"IF('Gas Cylinder Information'!G881=\"\",\"\",'Gas Cylinder Information'!G881)","v":""}]
[{"$f":"IF('Gas Cylinder Information'!A882=\"\",\"\",'Gas Cylinder Information'!A882)","v":""},{"$f":"IF('Gas Cylinder Information'!C882=\"\",\"\",'Gas Cylinder Information'!C882)","v":""},{"$f":"IF('Gas Cylinder Information'!D882=\"\",\"\",'Gas Cylinder Information'!D882)","v":""},{"$f":"IF('Gas Cylinder Information'!B882=\"\",\"\",'Gas Cylinder Information'!B882)","v":""},{"$f":"IF('Gas Cylinder Information'!E882=\"\",\"\",'Gas Cylinder Information'!E882)","v":""},{"$f":"IF('Gas Cylinder Information'!F882=\"\",\"\",'Gas Cylinder Information'!F882)","v":""},{"$f":"IF('Gas Cylinder Information'!G882=\"\",\"\",'Gas Cylinder Information'!G882)","v":""}]
[{"$f":"IF('Gas Cylinder Information'!A883=\"\",\"\",'Gas Cylinder Information'!A883)","v":""},{"$f":"IF('Gas Cylinder Information'!C883=\"\",\"\",'Gas Cylinder Information'!C883)","v":""},{"$f":"IF('Gas Cylinder Information'!D883=\"\",\"\",'Gas Cylinder Information'!D883)","v":""},{"$f":"IF('Gas Cylinder Information'!B883=\"\",\"\",'Gas Cylinder Information'!B883)","v":""},{"$f":"IF('Gas Cylinder Information'!E883=\"\",\"\",'Gas Cylinder Information'!E883)","v":""},{"$f":"IF('Gas Cylinder Information'!F883=\"\",\"\",'Gas Cylinder Information'!F883)","v":""},{"$f":"IF('Gas Cylinder Information'!G883=\"\",\"\",'Gas Cylinder Information'!G883)","v":""}]
[{"$f":"IF('Gas Cylinder Information'!A884=\"\",\"\",'Gas Cylinder Information'!A884)","v":""},{"$f":"IF('Gas Cylinder Information'!C884=\"\",\"\",'Gas Cylinder Information'!C884)","v":""},{"$f":"IF('Gas Cylinder Information'!D884=\"\",\"\",'Gas Cylinder Information'!D884)","v":""},{"$f":"IF('Gas Cylinder Information'!B884=\"\",\"\",'Gas Cylinder Information'!B884)","v":""},{"$f":"IF('Gas Cylinder Information'!E884=\"\",\"\",'Gas Cylinder Information'!E884)","v":""},{"$f":"IF('Gas Cylinder Information'!F884=\"\",\"\",'Gas Cylinder Information'!F884)","v":""},{"$f":"IF('Gas Cylinder Information'!G884=\"\",\"\",'Gas Cylinder Information'!G884)","v":""}]
[{"$f":"IF('Gas Cylinder Information'!A885=\"\",\"\",'Gas Cylinder Information'!A885)","v":""},{"$f":"IF('Gas Cylinder Information'!C885=\"\",\"\",'Gas Cylinder Information'!C885)","v":""},{"$f":"IF('Gas Cylinder Information'!D885=\"\",\"\",'Gas Cylinder Information'!D885)","v":""},{"$f":"IF('Gas Cylinder Information'!B885=\"\",\"\",'Gas Cylinder Information'!B885)","v":""},{"$f":"IF('Gas Cylinder Information'!E885=\"\",\"\",'Gas Cylinder Information'!E885)","v":""},{"$f":"IF('Gas Cylinder Information'!F885=\"\",\"\",'Gas Cylinder Information'!F885)","v":""},{"$f":"IF('Gas Cylinder Information'!G885=\"\",\"\",'Gas Cylinder Information'!G885)","v":""}]
[{"$f":"IF('Gas Cylinder Information'!A886=\"\",\"\",'Gas Cylinder Information'!A886)","v":""},{"$f":"IF('Gas Cylinder Information'!C886=\"\",\"\",'Gas Cylinder Information'!C886)","v":""},{"$f":"IF('Gas Cylinder Information'!D886=\"\",\"\",'Gas Cylinder Information'!D886)","v":""},{"$f":"IF('Gas Cylinder Information'!B886=\"\",\"\",'Gas Cylinder Information'!B886)","v":""},{"$f":"IF('Gas Cylinder Information'!E886=\"\",\"\",'Gas Cylinder Information'!E886)","v":""},{"$f":"IF('Gas Cylinder Information'!F886=\"\",\"\",'Gas Cylinder Information'!F886)","v":""},{"$f":"IF('Gas Cylinder Information'!G886=\"\",\"\",'Gas Cylinder Information'!G886)","v":""}]
[{"$f":"IF('Gas Cylinder Information'!A887=\"\",\"\",'Gas Cylinder Information'!A887)","v":""},{"$f":"IF('Gas Cylinder Information'!C887=\"\",\"\",'Gas Cylinder Information'!C887)","v":""},{"$f":"IF('Gas Cylinder Information'!D887=\"\",\"\",'Gas Cylinder Information'!D887)","v":""},{"$f":"IF('Gas Cylinder Information'!B887=\"\",\"\",'Gas Cylinder Information'!B887)","v":""},{"$f":"IF('Gas Cylinder Information'!E887=\"\",\"\",'Gas Cylinder Information'!E887)","v":""},{"$f":"IF('Gas Cylinder Information'!F887=\"\",\"\",'Gas Cylinder Information'!F887)","v":""},{"$f":"IF('Gas Cylinder Information'!G887=\"\",\"\",'Gas Cylinder Information'!G887)","v":""}]
[{"$f":"IF('Gas Cylinder Information'!A888=\"\",\"\",'Gas Cylinder Information'!A888)","v":""},{"$f":"IF('Gas Cylinder Information'!C888=\"\",\"\",'Gas Cylinder Information'!C888)","v":""},{"$f":"IF('Gas Cylinder Information'!D888=\"\",\"\",'Gas Cylinder Information'!D888)","v":""},{"$f":"IF('Gas Cylinder Information'!B888=\"\",\"\",'Gas Cylinder Information'!B888)","v":""},{"$f":"IF('Gas Cylinder Information'!E888=\"\",\"\",'Gas Cylinder Information'!E888)","v":""},{"$f":"IF('Gas Cylinder Information'!F888=\"\",\"\",'Gas Cylinder Information'!F888)","v":""},{"$f":"IF('Gas Cylinder Information'!G888=\"\",\"\",'Gas Cylinder Information'!G888)","v":""}]
[{"$f":"IF('Gas Cylinder Information'!A889=\"\",\"\",'Gas Cylinder Information'!A889)","v":""},{"$f":"IF('Gas Cylinder Information'!C889=\"\",\"\",'Gas Cylinder Information'!C889)","v":""},{"$f":"IF('Gas Cylinder Information'!D889=\"\",\"\",'Gas Cylinder Information'!D889)","v":""},{"$f":"IF('Gas Cylinder Information'!B889=\"\",\"\",'Gas Cylinder Information'!B889)","v":""},{"$f":"IF('Gas Cylinder Information'!E889=\"\",\"\",'Gas Cylinder Information'!E889)","v":""},{"$f":"IF('Gas Cylinder Information'!F889=\"\",\"\",'Gas Cylinder Information'!F889)","v":""},{"$f":"IF('Gas Cylinder Information'!G889=\"\",\"\",'Gas Cylinder Information'!G889)","v":""}]
[{"$f":"IF('Gas Cylinder Information'!A890=\"\",\"\",'Gas Cylinder Information'!A890)","v":""},{"$f":"IF('Gas Cylinder Information'!C890=\"\",\"\",'Gas Cylinder Information'!C890)","v":""},{"$f":"IF('Gas Cylinder Information'!D890=\"\",\"\",'Gas Cylinder Information'!D890)","v":""},{"$f":"IF('Gas Cylinder Information'!B890=\"\",\"\",'Gas Cylinder Information'!B890)","v":""},{"$f":"IF('Gas Cylinder Information'!E890=\"\",\"\",'Gas Cylinder Information'!E890)","v":""},{"$f":"IF('Gas Cylinder Information'!F890=\"\",\"\",'Gas Cylinder Information'!F890)","v":""},{"$f":"IF('Gas Cylinder Information'!G890=\"\",\"\",'Gas Cylinder Information'!G890)","v":""}]
[{"$f":"IF('Gas Cylinder Information'!A891=\"\",\"\",'Gas Cylinder Information'!A891)","v":""},{"$f":"IF('Gas Cylinder Information'!C891=\"\",\"\",'Gas Cylinder Information'!C891)","v":""},{"$f":"IF('Gas Cylinder Information'!D891=\"\",\"\",'Gas Cylinder Information'!D891)","v":""},{"$f":"IF('Gas Cylinder Information'!B891=\"\",\"\",'Gas Cylinder Information'!B891)","v":""},{"$f":"IF('Gas Cylinder Information'!E891=\"\",\"\",'Gas Cylinder Information'!E891)","v":""},{"$f":"IF('Gas Cylinder Information'!F891=\"\",\"\",'Gas Cylinder Information'!F891)","v":""},{"$f":"IF('Gas Cylinder Information'!G891=\"\",\"\",'Gas Cylinder Information'!G891)","v":""}]
[{"$f":"IF('Gas Cylinder Information'!A892=\"\",\"\",'Gas Cylinder Information'!A892)","v":""},{"$f":"IF('Gas Cylinder Information'!C892=\"\",\"\",'Gas Cylinder Information'!C892)","v":""},{"$f":"IF('Gas Cylinder Information'!D892=\"\",\"\",'Gas Cylinder Information'!D892)","v":""},{"$f":"IF('Gas Cylinder Information'!B892=\"\",\"\",'Gas Cylinder Information'!B892)","v":""},{"$f":"IF('Gas Cylinder Information'!E892=\"\",\"\",'Gas Cylinder Information'!E892)","v":""},{"$f":"IF('Gas Cylinder Information'!F892=\"\",\"\",'Gas Cylinder Information'!F892)","v":""},{"$f":"IF('Gas Cylinder Information'!G892=\"\",\"\",'Gas Cylinder Information'!G892)","v":""}]
[{"$f":"IF('Gas Cylinder Information'!A893=\"\",\"\",'Gas Cylinder Information'!A893)","v":""},{"$f":"IF('Gas Cylinder Information'!C893=\"\",\"\",'Gas Cylinder Information'!C893)","v":""},{"$f":"IF('Gas Cylinder Information'!D893=\"\",\"\",'Gas Cylinder Information'!D893)","v":""},{"$f":"IF('Gas Cylinder Information'!B893=\"\",\"\",'Gas Cylinder Information'!B893)","v":""},{"$f":"IF('Gas Cylinder Information'!E893=\"\",\"\",'Gas Cylinder Information'!E893)","v":""},{"$f":"IF('Gas Cylinder Information'!F893=\"\",\"\",'Gas Cylinder Information'!F893)","v":""},{"$f":"IF('Gas Cylinder Information'!G893=\"\",\"\",'Gas Cylinder Information'!G893)","v":""}]
[{"$f":"IF('Gas Cylinder Information'!A894=\"\",\"\",'Gas Cylinder Information'!A894)","v":""},{"$f":"IF('Gas Cylinder Information'!C894=\"\",\"\",'Gas Cylinder Information'!C894)","v":""},{"$f":"IF('Gas Cylinder Information'!D894=\"\",\"\",'Gas Cylinder Information'!D894)","v":""},{"$f":"IF('Gas Cylinder Information'!B894=\"\",\"\",'Gas Cylinder Information'!B894)","v":""},{"$f":"IF('Gas Cylinder Information'!E894=\"\",\"\",'Gas Cylinder Information'!E894)","v":""},{"$f":"IF('Gas Cylinder Information'!F894=\"\",\"\",'Gas Cylinder Information'!F894)","v":""},{"$f":"IF('Gas Cylinder Information'!G894=\"\",\"\",'Gas Cylinder Information'!G894)","v":""}]
[{"$f":"IF('Gas Cylinder Information'!A895=\"\",\"\",'Gas Cylinder Information'!A895)","v":""},{"$f":"IF('Gas Cylinder Information'!C895=\"\",\"\",'Gas Cylinder Information'!C895)","v":""},{"$f":"IF('Gas Cylinder Information'!D895=\"\",\"\",'Gas Cylinder Information'!D895)","v":""},{"$f":"IF('Gas Cylinder Information'!B895=\"\",\"\",'Gas Cylinder Information'!B895)","v":""},{"$f":"IF('Gas Cylinder Information'!E895=\"\",\"\",'Gas Cylinder Information'!E895)","v":""},{"$f":"IF('Gas Cylinder Information'!F895=\"\",\"\",'Gas Cylinder Information'!F895)","v":""},{"$f":"IF('Gas Cylinder Information'!G895=\"\",\"\",'Gas Cylinder Information'!G895)","v":""}]
[{"$f":"IF('Gas Cylinder Information'!A896=\"\",\"\",'Gas Cylinder Information'!A896)","v":""},{"$f":"IF('Gas Cylinder Information'!C896=\"\",\"\",'Gas Cylinder Information'!C896)","v":""},{"$f":"IF('Gas Cylinder Information'!D896=\"\",\"\",'Gas Cylinder Information'!D896)","v":""},{"$f":"IF('Gas Cylinder Information'!B896=\"\",\"\",'Gas Cylinder Information'!B896)","v":""},{"$f":"IF('Gas Cylinder Information'!E896=\"\",\"\",'Gas Cylinder Information'!E896)","v":""},{"$f":"IF('Gas Cylinder Information'!F896=\"\",\"\",'Gas Cylinder Information'!F896)","v":""},{"$f":"IF('Gas Cylinder Information'!G896=\"\",\"\",'Gas Cylinder Information'!G896)","v":""}]
[{"$f":"IF('Gas Cylinder Information'!A897=\"\",\"\",'Gas Cylinder Information'!A897)","v":""},{"$f":"IF('Gas Cylinder Information'!C897=\"\",\"\",'Gas Cylinder Information'!C897)","v":""},{"$f":"IF('Gas Cylinder Information'!D897=\"\",\"\",'Gas Cylinder Information'!D897)","v":""},{"$f":"IF('Gas Cylinder Information'!B897=\"\",\"\",'Gas Cylinder Information'!B897)","v":""},{"$f":"IF('Gas Cylinder Information'!E897=\"\",\"\",'Gas Cylinder Information'!E897)","v":""},{"$f":"IF('Gas Cylinder Information'!F897=\"\",\"\",'Gas Cylinder Information'!F897)","v":""},{"$f":"IF('Gas Cylinder Information'!G897=\"\",\"\",'Gas Cylinder Information'!G897)","v":""}]
[{"$f":"IF('Gas Cylinder Information'!A898=\"\",\"\",'Gas Cylinder Information'!A898)","v":""},{"$f":"IF('Gas Cylinder Information'!C898=\"\",\"\",'Gas Cylinder Information'!C898)","v":""},{"$f":"IF('Gas Cylinder Information'!D898=\"\",\"\",'Gas Cylinder Information'!D898)","v":""},{"$f":"IF('Gas Cylinder Information'!B898=\"\",\"\",'Gas Cylinder Information'!B898)","v":""},{"$f":"IF('Gas Cylinder Information'!E898=\"\",\"\",'Gas Cylinder Information'!E898)","v":""},{"$f":"IF('Gas Cylinder Information'!F898=\"\",\"\",'Gas Cylinder Information'!F898)","v":""},{"$f":"IF('Gas Cylinder Information'!G898=\"\",\"\",'Gas Cylinder Information'!G898)","v":""}]
[{"$f":"IF('Gas Cylinder Information'!A899=\"\",\"\",'Gas Cylinder Information'!A899)","v":""},{"$f":"IF('Gas Cylinder Information'!C899=\"\",\"\",'Gas Cylinder Information'!C899)","v":""},{"$f":"IF('Gas Cylinder Information'!D899=\"\",\"\",'Gas Cylinder Information'!D899)","v":""},{"$f":"IF('Gas Cylinder Information'!B899=\"\",\"\",'Gas Cylinder Information'!B899)","v":""},{"$f":"IF('Gas Cylinder Information'!E899=\"\",\"\",'Gas Cylinder Information'!E899)","v":""},{"$f":"IF('Gas Cylinder Information'!F899=\"\",\"\",'Gas Cylinder Information'!F899)","v":""},{"$f":"IF('Gas Cylinder Information'!G899=\"\",\"\",'Gas Cylinder Information'!G899)","v":""}]
[{"$f":"IF('Gas Cylinder Information'!A900=\"\",\"\",'Gas Cylinder Information'!A900)","v":""},{"$f":"IF('Gas Cylinder Information'!C900=\"\",\"\",'Gas Cylinder Information'!C900)","v":""},{"$f":"IF('Gas Cylinder Information'!D900=\"\",\"\",'Gas Cylinder Information'!D900)","v":""},{"$f":"IF('Gas Cylinder Information'!B900=\"\",\"\",'Gas Cylinder Information'!B900)","v":""},{"$f":"IF('Gas Cylinder Information'!E900=\"\",\"\",'Gas Cylinder Information'!E900)","v":""},{"$f":"IF('Gas Cylinder Information'!F900=\"\",\"\",'Gas Cylinder Information'!F900)","v":""},{"$f":"IF('Gas Cylinder Information'!G900=\"\",\"\",'Gas Cylinder Information'!G900)","v":""}]
[{"$f":"IF('Gas Cylinder Information'!A901=\"\",\"\",'Gas Cylinder Information'!A901)","v":""},{"$f":"IF('Gas Cylinder Information'!C901=\"\",\"\",'Gas Cylinder Information'!C901)","v":""},{"$f":"IF('Gas Cylinder Information'!D901=\"\",\"\",'Gas Cylinder Information'!D901)","v":""},{"$f":"IF('Gas Cylinder Information'!B901=\"\",\"\",'Gas Cylinder Information'!B901)","v":""},{"$f":"IF('Gas Cylinder Information'!E901=\"\",\"\",'Gas Cylinder Information'!E901)","v":""},{"$f":"IF('Gas Cylinder Information'!F901=\"\",\"\",'Gas Cylinder Information'!F901)","v":""},{"$f":"IF('Gas Cylinder Information'!G901=\"\",\"\",'Gas Cylinder Information'!G901)","v":""}]
[{"$f":"IF('Gas Cylinder Information'!A902=\"\",\"\",'Gas Cylinder Information'!A902)","v":""},{"$f":"IF('Gas Cylinder Information'!C902=\"\",\"\",'Gas Cylinder Information'!C902)","v":""},{"$f":"IF('Gas Cylinder Information'!D902=\"\",\"\",'Gas Cylinder Information'!D902)","v":""},{"$f":"IF('Gas Cylinder Information'!B902=\"\",\"\",'Gas Cylinder Information'!B902)","v":""},{"$f":"IF('Gas Cylinder Information'!E902=\"\",\"\",'Gas Cylinder Information'!E902)","v":""},{"$f":"IF('Gas Cylinder Information'!F902=\"\",\"\",'Gas Cylinder Information'!F902)","v":""},{"$f":"IF('Gas Cylinder Information'!G902=\"\",\"\",'Gas Cylinder Information'!G902)","v":""}]
[{"$f":"IF('Gas Cylinder Information'!A903=\"\",\"\",'Gas Cylinder Information'!A903)","v":""},{"$f":"IF('Gas Cylinder Information'!C903=\"\",\"\",'Gas Cylinder Information'!C903)","v":""},{"$f":"IF('Gas Cylinder Information'!D903=\"\",\"\",'Gas Cylinder Information'!D903)","v":""},{"$f":"IF('Gas Cylinder Information'!B903=\"\",\"\",'Gas Cylinder Information'!B903)","v":""},{"$f":"IF('Gas Cylinder Information'!E903=\"\",\"\",'Gas Cylinder Information'!E903)","v":""},{"$f":"IF('Gas Cylinder Information'!F903=\"\",\"\",'Gas Cylinder Information'!F903)","v":""},{"$f":"IF('Gas Cylinder Information'!G903=\"\",\"\",'Gas Cylinder Information'!G903)","v":""}]
[{"$f":"IF('Gas Cylinder Information'!A904=\"\",\"\",'Gas Cylinder Information'!A904)","v":""},{"$f":"IF('Gas Cylinder Information'!C904=\"\",\"\",'Gas Cylinder Information'!C904)","v":""},{"$f":"IF('Gas Cylinder Information'!D904=\"\",\"\",'Gas Cylinder Information'!D904)","v":""},{"$f":"IF('Gas Cylinder Information'!B904=\"\",\"\",'Gas Cylinder Information'!B904)","v":""},{"$f":"IF('Gas Cylinder Information'!E904=\"\",\"\",'Gas Cylinder Information'!E904)","v":""},{"$f":"IF('Gas Cylinder Information'!F904=\"\",\"\",'Gas Cylinder Information'!F904)","v":""},{"$f":"IF('Gas Cylinder Information'!G904=\"\",\"\",'Gas Cylinder Information'!G904)","v":""}]
[{"$f":"IF('Gas Cylinder Information'!A905=\"\",\"\",'Gas Cylinder Information'!A905)","v":""},{"$f":"IF('Gas Cylinder Information'!C905=\"\",\"\",'Gas Cylinder Information'!C905)","v":""},{"$f":"IF('Gas Cylinder Information'!D905=\"\",\"\",'Gas Cylinder Information'!D905)","v":""},{"$f":"IF('Gas Cylinder Information'!B905=\"\",\"\",'Gas Cylinder Information'!B905)","v":""},{"$f":"IF('Gas Cylinder Information'!E905=\"\",\"\",'Gas Cylinder Information'!E905)","v":""},{"$f":"IF('Gas Cylinder Information'!F905=\"\",\"\",'Gas Cylinder Information'!F905)","v":""},{"$f":"IF('Gas Cylinder Information'!G905=\"\",\"\",'Gas Cylinder Information'!G905)","v":""}]
[{"$f":"IF('Gas Cylinder Information'!A906=\"\",\"\",'Gas Cylinder Information'!A906)","v":""},{"$f":"IF('Gas Cylinder Information'!C906=\"\",\"\",'Gas Cylinder Information'!C906)","v":""},{"$f":"IF('Gas Cylinder Information'!D906=\"\",\"\",'Gas Cylinder Information'!D906)","v":""},{"$f":"IF('Gas Cylinder Information'!B906=\"\",\"\",'Gas Cylinder Information'!B906)","v":""},{"$f":"IF('Gas Cylinder Information'!E906=\"\",\"\",'Gas Cylinder Information'!E906)","v":""},{"$f":"IF('Gas Cylinder Information'!F906=\"\",\"\",'Gas Cylinder Information'!F906)","v":""},{"$f":"IF('Gas Cylinder Information'!G906=\"\",\"\",'Gas Cylinder Information'!G906)","v":""}]
[{"$f":"IF('Gas Cylinder Information'!A907=\"\",\"\",'Gas Cylinder Information'!A907)","v":""},{"$f":"IF('Gas Cylinder Information'!C907=\"\",\"\",'Gas Cylinder Information'!C907)","v":""},{"$f":"IF('Gas Cylinder Information'!D907=\"\",\"\",'Gas Cylinder Information'!D907)","v":""},{"$f":"IF('Gas Cylinder Information'!B907=\"\",\"\",'Gas Cylinder Information'!B907)","v":""},{"$f":"IF('Gas Cylinder Information'!E907=\"\",\"\",'Gas Cylinder Information'!E907)","v":""},{"$f":"IF('Gas Cylinder Information'!F907=\"\",\"\",'Gas Cylinder Information'!F907)","v":""},{"$f":"IF('Gas Cylinder Information'!G907=\"\",\"\",'Gas Cylinder Information'!G907)","v":""}]
[{"$f":"IF('Gas Cylinder Information'!A908=\"\",\"\",'Gas Cylinder Information'!A908)","v":""},{"$f":"IF('Gas Cylinder Information'!C908=\"\",\"\",'Gas Cylinder Information'!C908)","v":""},{"$f":"IF('Gas Cylinder Information'!D908=\"\",\"\",'Gas Cylinder Information'!D908)","v":""},{"$f":"IF('Gas Cylinder Information'!B908=\"\",\"\",'Gas Cylinder Information'!B908)","v":""},{"$f":"IF('Gas Cylinder Information'!E908=\"\",\"\",'Gas Cylinder Information'!E908)","v":""},{"$f":"IF('Gas Cylinder Information'!F908=\"\",\"\",'Gas Cylinder Information'!F908)","v":""},{"$f":"IF('Gas Cylinder Information'!G908=\"\",\"\",'Gas Cylinder Information'!G908)","v":""}]
[{"$f":"IF('Gas Cylinder Information'!A909=\"\",\"\",'Gas Cylinder Information'!A909)","v":""},{"$f":"IF('Gas Cylinder Information'!C909=\"\",\"\",'Gas Cylinder Information'!C909)","v":""},{"$f":"IF('Gas Cylinder Information'!D909=\"\",\"\",'Gas Cylinder Information'!D909)","v":""},{"$f":"IF('Gas Cylinder Information'!B909=\"\",\"\",'Gas Cylinder Information'!B909)","v":""},{"$f":"IF('Gas Cylinder Information'!E909=\"\",\"\",'Gas Cylinder Information'!E909)","v":""},{"$f":"IF('Gas Cylinder Information'!F909=\"\",\"\",'Gas Cylinder Information'!F909)","v":""},{"$f":"IF('Gas Cylinder Information'!G909=\"\",\"\",'Gas Cylinder Information'!G909)","v":""}]
[{"$f":"IF('Gas Cylinder Information'!A910=\"\",\"\",'Gas Cylinder Information'!A910)","v":""},{"$f":"IF('Gas Cylinder Information'!C910=\"\",\"\",'Gas Cylinder Information'!C910)","v":""},{"$f":"IF('Gas Cylinder Information'!D910=\"\",\"\",'Gas Cylinder Information'!D910)","v":""},{"$f":"IF('Gas Cylinder Information'!B910=\"\",\"\",'Gas Cylinder Information'!B910)","v":""},{"$f":"IF('Gas Cylinder Information'!E910=\"\",\"\",'Gas Cylinder Information'!E910)","v":""},{"$f":"IF('Gas Cylinder Information'!F910=\"\",\"\",'Gas Cylinder Information'!F910)","v":""},{"$f":"IF('Gas Cylinder Information'!G910=\"\",\"\",'Gas Cylinder Information'!G910)","v":""}]
[{"$f":"IF('Gas Cylinder Information'!A911=\"\",\"\",'Gas Cylinder Information'!A911)","v":""},{"$f":"IF('Gas Cylinder Information'!C911=\"\",\"\",'Gas Cylinder Information'!C911)","v":""},{"$f":"IF('Gas Cylinder Information'!D911=\"\",\"\",'Gas Cylinder Information'!D911)","v":""},{"$f":"IF('Gas Cylinder Information'!B911=\"\",\"\",'Gas Cylinder Information'!B911)","v":""},{"$f":"IF('Gas Cylinder Information'!E911=\"\",\"\",'Gas Cylinder Information'!E911)","v":""},{"$f":"IF('Gas Cylinder Information'!F911=\"\",\"\",'Gas Cylinder Information'!F911)","v":""},{"$f":"IF('Gas Cylinder Information'!G911=\"\",\"\",'Gas Cylinder Information'!G911)","v":""}]
[{"$f":"IF('Gas Cylinder Information'!A912=\"\",\"\",'Gas Cylinder Information'!A912)","v":""},{"$f":"IF('Gas Cylinder Information'!C912=\"\",\"\",'Gas Cylinder Information'!C912)","v":""},{"$f":"IF('Gas Cylinder Information'!D912=\"\",\"\",'Gas Cylinder Information'!D912)","v":""},{"$f":"IF('Gas Cylinder Information'!B912=\"\",\"\",'Gas Cylinder Information'!B912)","v":""},{"$f":"IF('Gas Cylinder Information'!E912=\"\",\"\",'Gas Cylinder Information'!E912)","v":""},{"$f":"IF('Gas Cylinder Information'!F912=\"\",\"\",'Gas Cylinder Information'!F912)","v":""},{"$f":"IF('Gas Cylinder Information'!G912=\"\",\"\",'Gas Cylinder Information'!G912)","v":""}]
[{"$f":"IF('Gas Cylinder Information'!A913=\"\",\"\",'Gas Cylinder Information'!A913)","v":""},{"$f":"IF('Gas Cylinder Information'!C913=\"\",\"\",'Gas Cylinder Information'!C913)","v":""},{"$f":"IF('Gas Cylinder Information'!D913=\"\",\"\",'Gas Cylinder Information'!D913)","v":""},{"$f":"IF('Gas Cylinder Information'!B913=\"\",\"\",'Gas Cylinder Information'!B913)","v":""},{"$f":"IF('Gas Cylinder Information'!E913=\"\",\"\",'Gas Cylinder Information'!E913)","v":""},{"$f":"IF('Gas Cylinder Information'!F913=\"\",\"\",'Gas Cylinder Information'!F913)","v":""},{"$f":"IF('Gas Cylinder Information'!G913=\"\",\"\",'Gas Cylinder Information'!G913)","v":""}]
[{"$f":"IF('Gas Cylinder Information'!A914=\"\",\"\",'Gas Cylinder Information'!A914)","v":""},{"$f":"IF('Gas Cylinder Information'!C914=\"\",\"\",'Gas Cylinder Information'!C914)","v":""},{"$f":"IF('Gas Cylinder Information'!D914=\"\",\"\",'Gas Cylinder Information'!D914)","v":""},{"$f":"IF('Gas Cylinder Information'!B914=\"\",\"\",'Gas Cylinder Information'!B914)","v":""},{"$f":"IF('Gas Cylinder Information'!E914=\"\",\"\",'Gas Cylinder Information'!E914)","v":""},{"$f":"IF('Gas Cylinder Information'!F914=\"\",\"\",'Gas Cylinder Information'!F914)","v":""},{"$f":"IF('Gas Cylinder Information'!G914=\"\",\"\",'Gas Cylinder Information'!G914)","v":""}]
[{"$f":"IF('Gas Cylinder Information'!A915=\"\",\"\",'Gas Cylinder Information'!A915)","v":""},{"$f":"IF('Gas Cylinder Information'!C915=\"\",\"\",'Gas Cylinder Information'!C915)","v":""},{"$f":"IF('Gas Cylinder Information'!D915=\"\",\"\",'Gas Cylinder Information'!D915)","v":""},{"$f":"IF('Gas Cylinder Information'!B915=\"\",\"\",'Gas Cylinder Information'!B915)","v":""},{"$f":"IF('Gas Cylinder Information'!E915=\"\",\"\",'Gas Cylinder Information'!E915)","v":""},{"$f":"IF('Gas Cylinder Information'!F915=\"\",\"\",'Gas Cylinder Information'!F915)","v":""},{"$f":"IF('Gas Cylinder Information'!G915=\"\",\"\",'Gas Cylinder Information'!G915)","v":""}]
[{"$f":"IF('Gas Cylinder Information'!A916=\"\",\"\",'Gas Cylinder Information'!A916)","v":""},{"$f":"IF('Gas Cylinder Information'!C916=\"\",\"\",'Gas Cylinder Information'!C916)","v":""},{"$f":"IF('Gas Cylinder Information'!D916=\"\",\"\",'Gas Cylinder Information'!D916)","v":""},{"$f":"IF('Gas Cylinder Information'!B916=\"\",\"\",'Gas Cylinder Information'!B916)","v":""},{"$f":"IF('Gas Cylinder Information'!E916=\"\",\"\",'Gas Cylinder Information'!E916)","v":""},{"$f":"IF('Gas Cylinder Information'!F916=\"\",\"\",'Gas Cylinder Information'!F916)","v":""},{"$f":"IF('Gas Cylinder Information'!G916=\"\",\"\",'Gas Cylinder Information'!G916)","v":""}]
[{"$f":"IF('Gas Cylinder Information'!A917=\"\",\"\",'Gas Cylinder Information'!A917)","v":""},{"$f":"IF('Gas Cylinder Information'!C917=\"\",\"\",'Gas Cylinder Information'!C917)","v":""},{"$f":"IF('Gas Cylinder Information'!D917=\"\",\"\",'Gas Cylinder Information'!D917)","v":""},{"$f":"IF('Gas Cylinder Information'!B917=\"\",\"\",'Gas Cylinder Information'!B917)","v":""},{"$f":"IF('Gas Cylinder Information'!E917=\"\",\"\",'Gas Cylinder Information'!E917)","v":""},{"$f":"IF('Gas Cylinder Information'!F917=\"\",\"\",'Gas Cylinder Information'!F917)","v":""},{"$f":"IF('Gas Cylinder Information'!G917=\"\",\"\",'Gas Cylinder Information'!G917)","v":""}]
[{"$f":"IF('Gas Cylinder Information'!A918=\"\",\"\",'Gas Cylinder Information'!A918)","v":""},{"$f":"IF('Gas Cylinder Information'!C918=\"\",\"\",'Gas Cylinder Information'!C918)","v":""},{"$f":"IF('Gas Cylinder Information'!D918=\"\",\"\",'Gas Cylinder Information'!D918)","v":""},{"$f":"IF('Gas Cylinder Information'!B918=\"\",\"\",'Gas Cylinder Information'!B918)","v":""},{"$f":"IF('Gas Cylinder Information'!E918=\"\",\"\",'Gas Cylinder Information'!E918)","v":""},{"$f":"IF('Gas Cylinder Information'!F918=\"\",\"\",'Gas Cylinder Information'!F918)","v":""},{"$f":"IF('Gas Cylinder Information'!G918=\"\",\"\",'Gas Cylinder Information'!G918)","v":""}]
[{"$f":"IF('Gas Cylinder Information'!A919=\"\",\"\",'Gas Cylinder Information'!A919)","v":""},{"$f":"IF('Gas Cylinder Information'!C919=\"\",\"\",'Gas Cylinder Information'!C919)","v":""},{"$f":"IF('Gas Cylinder Information'!D919=\"\",\"\",'Gas Cylinder Information'!D919)","v":""},{"$f":"IF('Gas Cylinder Information'!B919=\"\",\"\",'Gas Cylinder Information'!B919)","v":""},{"$f":"IF('Gas Cylinder Information'!E919=\"\",\"\",'Gas Cylinder Information'!E919)","v":""},{"$f":"IF('Gas Cylinder Information'!F919=\"\",\"\",'Gas Cylinder Information'!F919)","v":""},{"$f":"IF('Gas Cylinder Information'!G919=\"\",\"\",'Gas Cylinder Information'!G919)","v":""}]
[{"$f":"IF('Gas Cylinder Information'!A920=\"\",\"\",'Gas Cylinder Information'!A920)","v":""},{"$f":"IF('Gas Cylinder Information'!C920=\"\",\"\",'Gas Cylinder Information'!C920)","v":""},{"$f":"IF('Gas Cylinder Information'!D920=\"\",\"\",'Gas Cylinder Information'!D920)","v":""},{"$f":"IF('Gas Cylinder Information'!B920=\"\",\"\",'Gas Cylinder Information'!B920)","v":""},{"$f":"IF('Gas Cylinder Information'!E920=\"\",\"\",'Gas Cylinder Information'!E920)","v":""},{"$f":"IF('Gas Cylinder Information'!F920=\"\",\"\",'Gas Cylinder Information'!F920)","v":""},{"$f":"IF('Gas Cylinder Information'!G920=\"\",\"\",'Gas Cylinder Information'!G920)","v":""}]
[{"$f":"IF('Gas Cylinder Information'!A921=\"\",\"\",'Gas Cylinder Information'!A921)","v":""},{"$f":"IF('Gas Cylinder Information'!C921=\"\",\"\",'Gas Cylinder Information'!C921)","v":""},{"$f":"IF('Gas Cylinder Information'!D921=\"\",\"\",'Gas Cylinder Information'!D921)","v":""},{"$f":"IF('Gas Cylinder Information'!B921=\"\",\"\",'Gas Cylinder Information'!B921)","v":""},{"$f":"IF('Gas Cylinder Information'!E921=\"\",\"\",'Gas Cylinder Information'!E921)","v":""},{"$f":"IF('Gas Cylinder Information'!F921=\"\",\"\",'Gas Cylinder Information'!F921)","v":""},{"$f":"IF('Gas Cylinder Information'!G921=\"\",\"\",'Gas Cylinder Information'!G921)","v":""}]
[{"$f":"IF('Gas Cylinder Information'!A922=\"\",\"\",'Gas Cylinder Information'!A922)","v":""},{"$f":"IF('Gas Cylinder Information'!C922=\"\",\"\",'Gas Cylinder Information'!C922)","v":""},{"$f":"IF('Gas Cylinder Information'!D922=\"\",\"\",'Gas Cylinder Information'!D922)","v":""},{"$f":"IF('Gas Cylinder Information'!B922=\"\",\"\",'Gas Cylinder Information'!B922)","v":""},{"$f":"IF('Gas Cylinder Information'!E922=\"\",\"\",'Gas Cylinder Information'!E922)","v":""},{"$f":"IF('Gas Cylinder Information'!F922=\"\",\"\",'Gas Cylinder Information'!F922)","v":""},{"$f":"IF('Gas Cylinder Information'!G922=\"\",\"\",'Gas Cylinder Information'!G922)","v":""}]
[{"$f":"IF('Gas Cylinder Information'!A923=\"\",\"\",'Gas Cylinder Information'!A923)","v":""},{"$f":"IF('Gas Cylinder Information'!C923=\"\",\"\",'Gas Cylinder Information'!C923)","v":""},{"$f":"IF('Gas Cylinder Information'!D923=\"\",\"\",'Gas Cylinder Information'!D923)","v":""},{"$f":"IF('Gas Cylinder Information'!B923=\"\",\"\",'Gas Cylinder Information'!B923)","v":""},{"$f":"IF('Gas Cylinder Information'!E923=\"\",\"\",'Gas Cylinder Information'!E923)","v":""},{"$f":"IF('Gas Cylinder Information'!F923=\"\",\"\",'Gas Cylinder Information'!F923)","v":""},{"$f":"IF('Gas Cylinder Information'!G923=\"\",\"\",'Gas Cylinder Information'!G923)","v":""}]
[{"$f":"IF('Gas Cylinder Information'!A924=\"\",\"\",'Gas Cylinder Information'!A924)","v":""},{"$f":"IF('Gas Cylinder Information'!C924=\"\",\"\",'Gas Cylinder Information'!C924)","v":""},{"$f":"IF('Gas Cylinder Information'!D924=\"\",\"\",'Gas Cylinder Information'!D924)","v":""},{"$f":"IF('Gas Cylinder Information'!B924=\"\",\"\",'Gas Cylinder Information'!B924)","v":""},{"$f":"IF('Gas Cylinder Information'!E924=\"\",\"\",'Gas Cylinder Information'!E924)","v":""},{"$f":"IF('Gas Cylinder Information'!F924=\"\",\"\",'Gas Cylinder Information'!F924)","v":""},{"$f":"IF('Gas Cylinder Information'!G924=\"\",\"\",'Gas Cylinder Information'!G924)","v":""}]
[{"$f":"IF('Gas Cylinder Information'!A925=\"\",\"\",'Gas Cylinder Information'!A925)","v":""},{"$f":"IF('Gas Cylinder Information'!C925=\"\",\"\",'Gas Cylinder Information'!C925)","v":""},{"$f":"IF('Gas Cylinder Information'!D925=\"\",\"\",'Gas Cylinder Information'!D925)","v":""},{"$f":"IF('Gas Cylinder Information'!B925=\"\",\"\",'Gas Cylinder Information'!B925)","v":""},{"$f":"IF('Gas Cylinder Information'!E925=\"\",\"\",'Gas Cylinder Information'!E925)","v":""},{"$f":"IF('Gas Cylinder Information'!F925=\"\",\"\",'Gas Cylinder Information'!F925)","v":""},{"$f":"IF('Gas Cylinder Information'!G925=\"\",\"\",'Gas Cylinder Information'!G925)","v":""}]
[{"$f":"IF('Gas Cylinder Information'!A926=\"\",\"\",'Gas Cylinder Information'!A926)","v":""},{"$f":"IF('Gas Cylinder Information'!C926=\"\",\"\",'Gas Cylinder Information'!C926)","v":""},{"$f":"IF('Gas Cylinder Information'!D926=\"\",\"\",'Gas Cylinder Information'!D926)","v":""},{"$f":"IF('Gas Cylinder Information'!B926=\"\",\"\",'Gas Cylinder Information'!B926)","v":""},{"$f":"IF('Gas Cylinder Information'!E926=\"\",\"\",'Gas Cylinder Information'!E926)","v":""},{"$f":"IF('Gas Cylinder Information'!F926=\"\",\"\",'Gas Cylinder Information'!F926)","v":""},{"$f":"IF('Gas Cylinder Information'!G926=\"\",\"\",'Gas Cylinder Information'!G926)","v":""}]
[{"$f":"IF('Gas Cylinder Information'!A927=\"\",\"\",'Gas Cylinder Information'!A927)","v":""},{"$f":"IF('Gas Cylinder Information'!C927=\"\",\"\",'Gas Cylinder Information'!C927)","v":""},{"$f":"IF('Gas Cylinder Information'!D927=\"\",\"\",'Gas Cylinder Information'!D927)","v":""},{"$f":"IF('Gas Cylinder Information'!B927=\"\",\"\",'Gas Cylinder Information'!B927)","v":""},{"$f":"IF('Gas Cylinder Information'!E927=\"\",\"\",'Gas Cylinder Information'!E927)","v":""},{"$f":"IF('Gas Cylinder Information'!F927=\"\",\"\",'Gas Cylinder Information'!F927)","v":""},{"$f":"IF('Gas Cylinder Information'!G927=\"\",\"\",'Gas Cylinder Information'!G927)","v":""}]
[{"$f":"IF('Gas Cylinder Information'!A928=\"\",\"\",'Gas Cylinder Information'!A928)","v":""},{"$f":"IF('Gas Cylinder Information'!C928=\"\",\"\",'Gas Cylinder Information'!C928)","v":""},{"$f":"IF('Gas Cylinder Information'!D928=\"\",\"\",'Gas Cylinder Information'!D928)","v":""},{"$f":"IF('Gas Cylinder Information'!B928=\"\",\"\",'Gas Cylinder Information'!B928)","v":""},{"$f":"IF('Gas Cylinder Information'!E928=\"\",\"\",'Gas Cylinder Information'!E928)","v":""},{"$f":"IF('Gas Cylinder Information'!F928=\"\",\"\",'Gas Cylinder Information'!F928)","v":""},{"$f":"IF('Gas Cylinder Information'!G928=\"\",\"\",'Gas Cylinder Information'!G928)","v":""}]
[{"$f":"IF('Gas Cylinder Information'!A929=\"\",\"\",'Gas Cylinder Information'!A929)","v":""},{"$f":"IF('Gas Cylinder Information'!C929=\"\",\"\",'Gas Cylinder Information'!C929)","v":""},{"$f":"IF('Gas Cylinder Information'!D929=\"\",\"\",'Gas Cylinder Information'!D929)","v":""},{"$f":"IF('Gas Cylinder Information'!B929=\"\",\"\",'Gas Cylinder Information'!B929)","v":""},{"$f":"IF('Gas Cylinder Information'!E929=\"\",\"\",'Gas Cylinder Information'!E929)","v":""},{"$f":"IF('Gas Cylinder Information'!F929=\"\",\"\",'Gas Cylinder Information'!F929)","v":""},{"$f":"IF('Gas Cylinder Information'!G929=\"\",\"\",'Gas Cylinder Information'!G929)","v":""}]
[{"$f":"IF('Gas Cylinder Information'!A930=\"\",\"\",'Gas Cylinder Information'!A930)","v":""},{"$f":"IF('Gas Cylinder Information'!C930=\"\",\"\",'Gas Cylinder Information'!C930)","v":""},{"$f":"IF('Gas Cylinder Information'!D930=\"\",\"\",'Gas Cylinder Information'!D930)","v":""},{"$f":"IF('Gas Cylinder Information'!B930=\"\",\"\",'Gas Cylinder Information'!B930)","v":""},{"$f":"IF('Gas Cylinder Information'!E930=\"\",\"\",'Gas Cylinder Information'!E930)","v":""},{"$f":"IF('Gas Cylinder Information'!F930=\"\",\"\",'Gas Cylinder Information'!F930)","v":""},{"$f":"IF('Gas Cylinder Information'!G930=\"\",\"\",'Gas Cylinder Information'!G930)","v":""}]
[{"$f":"IF('Gas Cylinder Information'!A931=\"\",\"\",'Gas Cylinder Information'!A931)","v":""},{"$f":"IF('Gas Cylinder Information'!C931=\"\",\"\",'Gas Cylinder Information'!C931)","v":""},{"$f":"IF('Gas Cylinder Information'!D931=\"\",\"\",'Gas Cylinder Information'!D931)","v":""},{"$f":"IF('Gas Cylinder Information'!B931=\"\",\"\",'Gas Cylinder Information'!B931)","v":""},{"$f":"IF('Gas Cylinder Information'!E931=\"\",\"\",'Gas Cylinder Information'!E931)","v":""},{"$f":"IF('Gas Cylinder Information'!F931=\"\",\"\",'Gas Cylinder Information'!F931)","v":""},{"$f":"IF('Gas Cylinder Information'!G931=\"\",\"\",'Gas Cylinder Information'!G931)","v":""}]
[{"$f":"IF('Gas Cylinder Information'!A932=\"\",\"\",'Gas Cylinder Information'!A932)","v":""},{"$f":"IF('Gas Cylinder Information'!C932=\"\",\"\",'Gas Cylinder Information'!C932)","v":""},{"$f":"IF('Gas Cylinder Information'!D932=\"\",\"\",'Gas Cylinder Information'!D932)","v":""},{"$f":"IF('Gas Cylinder Information'!B932=\"\",\"\",'Gas Cylinder Information'!B932)","v":""},{"$f":"IF('Gas Cylinder Information'!E932=\"\",\"\",'Gas Cylinder Information'!E932)","v":""},{"$f":"IF('Gas Cylinder Information'!F932=\"\",\"\",'Gas Cylinder Information'!F932)","v":""},{"$f":"IF('Gas Cylinder Information'!G932=\"\",\"\",'Gas Cylinder Information'!G932)","v":""}]
[{"$f":"IF('Gas Cylinder Information'!A933=\"\",\"\",'Gas Cylinder Information'!A933)","v":""},{"$f":"IF('Gas Cylinder Information'!C933=\"\",\"\",'Gas Cylinder Information'!C933)","v":""},{"$f":"IF('Gas Cylinder Information'!D933=\"\",\"\",'Gas Cylinder Information'!D933)","v":""},{"$f":"IF('Gas Cylinder Information'!B933=\"\",\"\",'Gas Cylinder Information'!B933)","v":""},{"$f":"IF('Gas Cylinder Information'!E933=\"\",\"\",'Gas Cylinder Information'!E933)","v":""},{"$f":"IF('Gas Cylinder Information'!F933=\"\",\"\",'Gas Cylinder Information'!F933)","v":""},{"$f":"IF('Gas Cylinder Information'!G933=\"\",\"\",'Gas Cylinder Information'!G933)","v":""}]
[{"$f":"IF('Gas Cylinder Information'!A934=\"\",\"\",'Gas Cylinder Information'!A934)","v":""},{"$f":"IF('Gas Cylinder Information'!C934=\"\",\"\",'Gas Cylinder Information'!C934)","v":""},{"$f":"IF('Gas Cylinder Information'!D934=\"\",\"\",'Gas Cylinder Information'!D934)","v":""},{"$f":"IF('Gas Cylinder Information'!B934=\"\",\"\",'Gas Cylinder Information'!B934)","v":""},{"$f":"IF('Gas Cylinder Information'!E934=\"\",\"\",'Gas Cylinder Information'!E934)","v":""},{"$f":"IF('Gas Cylinder Information'!F934=\"\",\"\",'Gas Cylinder Information'!F934)","v":""},{"$f":"IF('Gas Cylinder Information'!G934=\"\",\"\",'Gas Cylinder Information'!G934)","v":""}]
[{"$f":"IF('Gas Cylinder Information'!A935=\"\",\"\",'Gas Cylinder Information'!A935)","v":""},{"$f":"IF('Gas Cylinder Information'!C935=\"\",\"\",'Gas Cylinder Information'!C935)","v":""},{"$f":"IF('Gas Cylinder Information'!D935=\"\",\"\",'Gas Cylinder Information'!D935)","v":""},{"$f":"IF('Gas Cylinder Information'!B935=\"\",\"\",'Gas Cylinder Information'!B935)","v":""},{"$f":"IF('Gas Cylinder Information'!E935=\"\",\"\",'Gas Cylinder Information'!E935)","v":""},{"$f":"IF('Gas Cylinder Information'!F935=\"\",\"\",'Gas Cylinder Information'!F935)","v":""},{"$f":"IF('Gas Cylinder Information'!G935=\"\",\"\",'Gas Cylinder Information'!G935)","v":""}]
[{"$f":"IF('Gas Cylinder Information'!A936=\"\",\"\",'Gas Cylinder Information'!A936)","v":""},{"$f":"IF('Gas Cylinder Information'!C936=\"\",\"\",'Gas Cylinder Information'!C936)","v":""},{"$f":"IF('Gas Cylinder Information'!D936=\"\",\"\",'Gas Cylinder Information'!D936)","v":""},{"$f":"IF('Gas Cylinder Information'!B936=\"\",\"\",'Gas Cylinder Information'!B936)","v":""},{"$f":"IF('Gas Cylinder Information'!E936=\"\",\"\",'Gas Cylinder Information'!E936)","v":""},{"$f":"IF('Gas Cylinder Information'!F936=\"\",\"\",'Gas Cylinder Information'!F936)","v":""},{"$f":"IF('Gas Cylinder Information'!G936=\"\",\"\",'Gas Cylinder Information'!G936)","v":""}]
[{"$f":"IF('Gas Cylinder Information'!A937=\"\",\"\",'Gas Cylinder Information'!A937)","v":""},{"$f":"IF('Gas Cylinder Information'!C937=\"\",\"\",'Gas Cylinder Information'!C937)","v":""},{"$f":"IF('Gas Cylinder Information'!D937=\"\",\"\",'Gas Cylinder Information'!D937)","v":""},{"$f":"IF('Gas Cylinder Information'!B937=\"\",\"\",'Gas Cylinder Information'!B937)","v":""},{"$f":"IF('Gas Cylinder Information'!E937=\"\",\"\",'Gas Cylinder Information'!E937)","v":""},{"$f":"IF('Gas Cylinder Information'!F937=\"\",\"\",'Gas Cylinder Information'!F937)","v":""},{"$f":"IF('Gas Cylinder Information'!G937=\"\",\"\",'Gas Cylinder Information'!G937)","v":""}]
[{"$f":"IF('Gas Cylinder Information'!A938=\"\",\"\",'Gas Cylinder Information'!A938)","v":""},{"$f":"IF('Gas Cylinder Information'!C938=\"\",\"\",'Gas Cylinder Information'!C938)","v":""},{"$f":"IF('Gas Cylinder Information'!D938=\"\",\"\",'Gas Cylinder Information'!D938)","v":""},{"$f":"IF('Gas Cylinder Information'!B938=\"\",\"\",'Gas Cylinder Information'!B938)","v":""},{"$f":"IF('Gas Cylinder Information'!E938=\"\",\"\",'Gas Cylinder Information'!E938)","v":""},{"$f":"IF('Gas Cylinder Information'!F938=\"\",\"\",'Gas Cylinder Information'!F938)","v":""},{"$f":"IF('Gas Cylinder Information'!G938=\"\",\"\",'Gas Cylinder Information'!G938)","v":""}]
[{"$f":"IF('Gas Cylinder Information'!A939=\"\",\"\",'Gas Cylinder Information'!A939)","v":""},{"$f":"IF('Gas Cylinder Information'!C939=\"\",\"\",'Gas Cylinder Information'!C939)","v":""},{"$f":"IF('Gas Cylinder Information'!D939=\"\",\"\",'Gas Cylinder Information'!D939)","v":""},{"$f":"IF('Gas Cylinder Information'!B939=\"\",\"\",'Gas Cylinder Information'!B939)","v":""},{"$f":"IF('Gas Cylinder Information'!E939=\"\",\"\",'Gas Cylinder Information'!E939)","v":""},{"$f":"IF('Gas Cylinder Information'!F939=\"\",\"\",'Gas Cylinder Information'!F939)","v":""},{"$f":"IF('Gas Cylinder Information'!G939=\"\",\"\",'Gas Cylinder Information'!G939)","v":""}]
[{"$f":"IF('Gas Cylinder Information'!A940=\"\",\"\",'Gas Cylinder Information'!A940)","v":""},{"$f":"IF('Gas Cylinder Information'!C940=\"\",\"\",'Gas Cylinder Information'!C940)","v":""},{"$f":"IF('Gas Cylinder Information'!D940=\"\",\"\",'Gas Cylinder Information'!D940)","v":""},{"$f":"IF('Gas Cylinder Information'!B940=\"\",\"\",'Gas Cylinder Information'!B940)","v":""},{"$f":"IF('Gas Cylinder Information'!E940=\"\",\"\",'Gas Cylinder Information'!E940)","v":""},{"$f":"IF('Gas Cylinder Information'!F940=\"\",\"\",'Gas Cylinder Information'!F940)","v":""},{"$f":"IF('Gas Cylinder Information'!G940=\"\",\"\",'Gas Cylinder Information'!G940)","v":""}]
[{"$f":"IF('Gas Cylinder Information'!A941=\"\",\"\",'Gas Cylinder Information'!A941)","v":""},{"$f":"IF('Gas Cylinder Information'!C941=\"\",\"\",'Gas Cylinder Information'!C941)","v":""},{"$f":"IF('Gas Cylinder Information'!D941=\"\",\"\",'Gas Cylinder Information'!D941)","v":""},{"$f":"IF('Gas Cylinder Information'!B941=\"\",\"\",'Gas Cylinder Information'!B941)","v":""},{"$f":"IF('Gas Cylinder Information'!E941=\"\",\"\",'Gas Cylinder Information'!E941)","v":""},{"$f":"IF('Gas Cylinder Information'!F941=\"\",\"\",'Gas Cylinder Information'!F941)","v":""},{"$f":"IF('Gas Cylinder Information'!G941=\"\",\"\",'Gas Cylinder Information'!G941)","v":""}]
[{"$f":"IF('Gas Cylinder Information'!A942=\"\",\"\",'Gas Cylinder Information'!A942)","v":""},{"$f":"IF('Gas Cylinder Information'!C942=\"\",\"\",'Gas Cylinder Information'!C942)","v":""},{"$f":"IF('Gas Cylinder Information'!D942=\"\",\"\",'Gas Cylinder Information'!D942)","v":""},{"$f":"IF('Gas Cylinder Information'!B942=\"\",\"\",'Gas Cylinder Information'!B942)","v":""},{"$f":"IF('Gas Cylinder Information'!E942=\"\",\"\",'Gas Cylinder Information'!E942)","v":""},{"$f":"IF('Gas Cylinder Information'!F942=\"\",\"\",'Gas Cylinder Information'!F942)","v":""},{"$f":"IF('Gas Cylinder Information'!G942=\"\",\"\",'Gas Cylinder Information'!G942)","v":""}]
[{"$f":"IF('Gas Cylinder Information'!A943=\"\",\"\",'Gas Cylinder Information'!A943)","v":""},{"$f":"IF('Gas Cylinder Information'!C943=\"\",\"\",'Gas Cylinder Information'!C943)","v":""},{"$f":"IF('Gas Cylinder Information'!D943=\"\",\"\",'Gas Cylinder Information'!D943)","v":""},{"$f":"IF('Gas Cylinder Information'!B943=\"\",\"\",'Gas Cylinder Information'!B943)","v":""},{"$f":"IF('Gas Cylinder Information'!E943=\"\",\"\",'Gas Cylinder Information'!E943)","v":""},{"$f":"IF('Gas Cylinder Information'!F943=\"\",\"\",'Gas Cylinder Information'!F943)","v":""},{"$f":"IF('Gas Cylinder Information'!G943=\"\",\"\",'Gas Cylinder Information'!G943)","v":""}]
[{"$f":"IF('Gas Cylinder Information'!A944=\"\",\"\",'Gas Cylinder Information'!A944)","v":""},{"$f":"IF('Gas Cylinder Information'!C944=\"\",\"\",'Gas Cylinder Information'!C944)","v":""},{"$f":"IF('Gas Cylinder Information'!D944=\"\",\"\",'Gas Cylinder Information'!D944)","v":""},{"$f":"IF('Gas Cylinder Information'!B944=\"\",\"\",'Gas Cylinder Information'!B944)","v":""},{"$f":"IF('Gas Cylinder Information'!E944=\"\",\"\",'Gas Cylinder Information'!E944)","v":""},{"$f":"IF('Gas Cylinder Information'!F944=\"\",\"\",'Gas Cylinder Information'!F944)","v":""},{"$f":"IF('Gas Cylinder Information'!G944=\"\",\"\",'Gas Cylinder Information'!G944)","v":""}]
[{"$f":"IF('Gas Cylinder Information'!A945=\"\",\"\",'Gas Cylinder Information'!A945)","v":""},{"$f":"IF('Gas Cylinder Information'!C945=\"\",\"\",'Gas Cylinder Information'!C945)","v":""},{"$f":"IF('Gas Cylinder Information'!D945=\"\",\"\",'Gas Cylinder Information'!D945)","v":""},{"$f":"IF('Gas Cylinder Information'!B945=\"\",\"\",'Gas Cylinder Information'!B945)","v":""},{"$f":"IF('Gas Cylinder Information'!E945=\"\",\"\",'Gas Cylinder Information'!E945)","v":""},{"$f":"IF('Gas Cylinder Information'!F945=\"\",\"\",'Gas Cylinder Information'!F945)","v":""},{"$f":"IF('Gas Cylinder Information'!G945=\"\",\"\",'Gas Cylinder Information'!G945)","v":""}]
[{"$f":"IF('Gas Cylinder Information'!A946=\"\",\"\",'Gas Cylinder Information'!A946)","v":""},{"$f":"IF('Gas Cylinder Information'!C946=\"\",\"\",'Gas Cylinder Information'!C946)","v":""},{"$f":"IF('Gas Cylinder Information'!D946=\"\",\"\",'Gas Cylinder Information'!D946)","v":""},{"$f":"IF('Gas Cylinder Information'!B946=\"\",\"\",'Gas Cylinder Information'!B946)","v":""},{"$f":"IF('Gas Cylinder Information'!E946=\"\",\"\",'Gas Cylinder Information'!E946)","v":""},{"$f":"IF('Gas Cylinder Information'!F946=\"\",\"\",'Gas Cylinder Information'!F946)","v":""},{"$f":"IF('Gas Cylinder Information'!G946=\"\",\"\",'Gas Cylinder Information'!G946)","v":""}]
[{"$f":"IF('Gas Cylinder Information'!A947=\"\",\"\",'Gas Cylinder Information'!A947)","v":""},{"$f":"IF('Gas Cylinder Information'!C947=\"\",\"\",'Gas Cylinder Information'!C947)","v":""},{"$f":"IF('Gas Cylinder Information'!D947=\"\",\"\",'Gas Cylinder Information'!D947)","v":""},{"$f":"IF('Gas Cylinder Information'!B947=\"\",\"\",'Gas Cylinder Information'!B947)","v":""},{"$f":"IF('Gas Cylinder Information'!E947=\"\",\"\",'Gas Cylinder Information'!E947)","v":""},{"$f":"IF('Gas Cylinder Information'!F947=\"\",\"\",'Gas Cylinder Information'!F947)","v":""},{"$f":"IF('Gas Cylinder Information'!G947=\"\",\"\",'Gas Cylinder Information'!G947)","v":""}]
[{"$f":"IF('Gas Cylinder Information'!A948=\"\",\"\",'Gas Cylinder Information'!A948)","v":""},{"$f":"IF('Gas Cylinder Information'!C948=\"\",\"\",'Gas Cylinder Information'!C948)","v":""},{"$f":"IF('Gas Cylinder Information'!D948=\"\",\"\",'Gas Cylinder Information'!D948)","v":""},{"$f":"IF('Gas Cylinder Information'!B948=\"\",\"\",'Gas Cylinder Information'!B948)","v":""},{"$f":"IF('Gas Cylinder Information'!E948=\"\",\"\",'Gas Cylinder Information'!E948)","v":""},{"$f":"IF('Gas Cylinder Information'!F948=\"\",\"\",'Gas Cylinder Information'!F948)","v":""},{"$f":"IF('Gas Cylinder Information'!G948=\"\",\"\",'Gas Cylinder Information'!G948)","v":""}]
[{"$f":"IF('Gas Cylinder Information'!A949=\"\",\"\",'Gas Cylinder Information'!A949)","v":""},{"$f":"IF('Gas Cylinder Information'!C949=\"\",\"\",'Gas Cylinder Information'!C949)","v":""},{"$f":"IF('Gas Cylinder Information'!D949=\"\",\"\",'Gas Cylinder Information'!D949)","v":""},{"$f":"IF('Gas Cylinder Information'!B949=\"\",\"\",'Gas Cylinder Information'!B949)","v":""},{"$f":"IF('Gas Cylinder Information'!E949=\"\",\"\",'Gas Cylinder Information'!E949)","v":""},{"$f":"IF('Gas Cylinder Information'!F949=\"\",\"\",'Gas Cylinder Information'!F949)","v":""},{"$f":"IF('Gas Cylinder Information'!G949=\"\",\"\",'Gas Cylinder Information'!G949)","v":""}]
[{"$f":"IF('Gas Cylinder Information'!A950=\"\",\"\",'Gas Cylinder Information'!A950)","v":""},{"$f":"IF('Gas Cylinder Information'!C950=\"\",\"\",'Gas Cylinder Information'!C950)","v":""},{"$f":"IF('Gas Cylinder Information'!D950=\"\",\"\",'Gas Cylinder Information'!D950)","v":""},{"$f":"IF('Gas Cylinder Information'!B950=\"\",\"\",'Gas Cylinder Information'!B950)","v":""},{"$f":"IF('Gas Cylinder Information'!E950=\"\",\"\",'Gas Cylinder Information'!E950)","v":""},{"$f":"IF('Gas Cylinder Information'!F950=\"\",\"\",'Gas Cylinder Information'!F950)","v":""},{"$f":"IF('Gas Cylinder Information'!G950=\"\",\"\",'Gas Cylinder Information'!G950)","v":""}]
[{"$f":"IF('Gas Cylinder Information'!A951=\"\",\"\",'Gas Cylinder Information'!A951)","v":""},{"$f":"IF('Gas Cylinder Information'!C951=\"\",\"\",'Gas Cylinder Information'!C951)","v":""},{"$f":"IF('Gas Cylinder Information'!D951=\"\",\"\",'Gas Cylinder Information'!D951)","v":""},{"$f":"IF('Gas Cylinder Information'!B951=\"\",\"\",'Gas Cylinder Information'!B951)","v":""},{"$f":"IF('Gas Cylinder Information'!E951=\"\",\"\",'Gas Cylinder Information'!E951)","v":""},{"$f":"IF('Gas Cylinder Information'!F951=\"\",\"\",'Gas Cylinder Information'!F951)","v":""},{"$f":"IF('Gas Cylinder Information'!G951=\"\",\"\",'Gas Cylinder Information'!G951)","v":""}]
[{"$f":"IF('Gas Cylinder Information'!A952=\"\",\"\",'Gas Cylinder Information'!A952)","v":""},{"$f":"IF('Gas Cylinder Information'!C952=\"\",\"\",'Gas Cylinder Information'!C952)","v":""},{"$f":"IF('Gas Cylinder Information'!D952=\"\",\"\",'Gas Cylinder Information'!D952)","v":""},{"$f":"IF('Gas Cylinder Information'!B952=\"\",\"\",'Gas Cylinder Information'!B952)","v":""},{"$f":"IF('Gas Cylinder Information'!E952=\"\",\"\",'Gas Cylinder Information'!E952)","v":""},{"$f":"IF('Gas Cylinder Information'!F952=\"\",\"\",'Gas Cylinder Information'!F952)","v":""},{"$f":"IF('Gas Cylinder Information'!G952=\"\",\"\",'Gas Cylinder Information'!G952)","v":""}]
[{"$f":"IF('Gas Cylinder Information'!A953=\"\",\"\",'Gas Cylinder Information'!A953)","v":""},{"$f":"IF('Gas Cylinder Information'!C953=\"\",\"\",'Gas Cylinder Information'!C953)","v":""},{"$f":"IF('Gas Cylinder Information'!D953=\"\",\"\",'Gas Cylinder Information'!D953)","v":""},{"$f":"IF('Gas Cylinder Information'!B953=\"\",\"\",'Gas Cylinder Information'!B953)","v":""},{"$f":"IF('Gas Cylinder Information'!E953=\"\",\"\",'Gas Cylinder Information'!E953)","v":""},{"$f":"IF('Gas Cylinder Information'!F953=\"\",\"\",'Gas Cylinder Information'!F953)","v":""},{"$f":"IF('Gas Cylinder Information'!G953=\"\",\"\",'Gas Cylinder Information'!G953)","v":""}]
[{"$f":"IF('Gas Cylinder Information'!A954=\"\",\"\",'Gas Cylinder Information'!A954)","v":""},{"$f":"IF('Gas Cylinder Information'!C954=\"\",\"\",'Gas Cylinder Information'!C954)","v":""},{"$f":"IF('Gas Cylinder Information'!D954=\"\",\"\",'Gas Cylinder Information'!D954)","v":""},{"$f":"IF('Gas Cylinder Information'!B954=\"\",\"\",'Gas Cylinder Information'!B954)","v":""},{"$f":"IF('Gas Cylinder Information'!E954=\"\",\"\",'Gas Cylinder Information'!E954)","v":""},{"$f":"IF('Gas Cylinder Information'!F954=\"\",\"\",'Gas Cylinder Information'!F954)","v":""},{"$f":"IF('Gas Cylinder Information'!G954=\"\",\"\",'Gas Cylinder Information'!G954)","v":""}]
[{"$f":"IF('Gas Cylinder Information'!A955=\"\",\"\",'Gas Cylinder Information'!A955)","v":""},{"$f":"IF('Gas Cylinder Information'!C955=\"\",\"\",'Gas Cylinder Information'!C955)","v":""},{"$f":"IF('Gas Cylinder Information'!D955=\"\",\"\",'Gas Cylinder Information'!D955)","v":""},{"$f":"IF('Gas Cylinder Information'!B955=\"\",\"\",'Gas Cylinder Information'!B955)","v":""},{"$f":"IF('Gas Cylinder Information'!E955=\"\",\"\",'Gas Cylinder Information'!E955)","v":""},{"$f":"IF('Gas Cylinder Information'!F955=\"\",\"\",'Gas Cylinder Information'!F955)","v":""},{"$f":"IF('Gas Cylinder Information'!G955=\"\",\"\",'Gas Cylinder Information'!G955)","v":""}]
[{"$f":"IF('Gas Cylinder Information'!A956=\"\",\"\",'Gas Cylinder Information'!A956)","v":""},{"$f":"IF('Gas Cylinder Information'!C956=\"\",\"\",'Gas Cylinder Information'!C956)","v":""},{"$f":"IF('Gas Cylinder Information'!D956=\"\",\"\",'Gas Cylinder Information'!D956)","v":""},{"$f":"IF('Gas Cylinder Information'!B956=\"\",\"\",'Gas Cylinder Information'!B956)","v":""},{"$f":"IF('Gas Cylinder Information'!E956=\"\",\"\",'Gas Cylinder Information'!E956)","v":""},{"$f":"IF('Gas Cylinder Information'!F956=\"\",\"\",'Gas Cylinder Information'!F956)","v":""},{"$f":"IF('Gas Cylinder Information'!G956=\"\",\"\",'Gas Cylinder Information'!G956)","v":""}]
[{"$f":"IF('Gas Cylinder Information'!A957=\"\",\"\",'Gas Cylinder Information'!A957)","v":""},{"$f":"IF('Gas Cylinder Information'!C957=\"\",\"\",'Gas Cylinder Information'!C957)","v":""},{"$f":"IF('Gas Cylinder Information'!D957=\"\",\"\",'Gas Cylinder Information'!D957)","v":""},{"$f":"IF('Gas Cylinder Information'!B957=\"\",\"\",'Gas Cylinder Information'!B957)","v":""},{"$f":"IF('Gas Cylinder Information'!E957=\"\",\"\",'Gas Cylinder Information'!E957)","v":""},{"$f":"IF('Gas Cylinder Information'!F957=\"\",\"\",'Gas Cylinder Information'!F957)","v":""},{"$f":"IF('Gas Cylinder Information'!G957=\"\",\"\",'Gas Cylinder Information'!G957)","v":""}]
[{"$f":"IF('Gas Cylinder Information'!A958=\"\",\"\",'Gas Cylinder Information'!A958)","v":""},{"$f":"IF('Gas Cylinder Information'!C958=\"\",\"\",'Gas Cylinder Information'!C958)","v":""},{"$f":"IF('Gas Cylinder Information'!D958=\"\",\"\",'Gas Cylinder Information'!D958)","v":""},{"$f":"IF('Gas Cylinder Information'!B958=\"\",\"\",'Gas Cylinder Information'!B958)","v":""},{"$f":"IF('Gas Cylinder Information'!E958=\"\",\"\",'Gas Cylinder Information'!E958)","v":""},{"$f":"IF('Gas Cylinder Information'!F958=\"\",\"\",'Gas Cylinder Information'!F958)","v":""},{"$f":"IF('Gas Cylinder Information'!G958=\"\",\"\",'Gas Cylinder Information'!G958)","v":""}]
[{"$f":"IF('Gas Cylinder Information'!A959=\"\",\"\",'Gas Cylinder Information'!A959)","v":""},{"$f":"IF('Gas Cylinder Information'!C959=\"\",\"\",'Gas Cylinder Information'!C959)","v":""},{"$f":"IF('Gas Cylinder Information'!D959=\"\",\"\",'Gas Cylinder Information'!D959)","v":""},{"$f":"IF('Gas Cylinder Information'!B959=\"\",\"\",'Gas Cylinder Information'!B959)","v":""},{"$f":"IF('Gas Cylinder Information'!E959=\"\",\"\",'Gas Cylinder Information'!E959)","v":""},{"$f":"IF('Gas Cylinder Information'!F959=\"\",\"\",'Gas Cylinder Information'!F959)","v":""},{"$f":"IF('Gas Cylinder Information'!G959=\"\",\"\",'Gas Cylinder Information'!G959)","v":""}]
[{"$f":"IF('Gas Cylinder Information'!A960=\"\",\"\",'Gas Cylinder Information'!A960)","v":""},{"$f":"IF('Gas Cylinder Information'!C960=\"\",\"\",'Gas Cylinder Information'!C960)","v":""},{"$f":"IF('Gas Cylinder Information'!D960=\"\",\"\",'Gas Cylinder Information'!D960)","v":""},{"$f":"IF('Gas Cylinder Information'!B960=\"\",\"\",'Gas Cylinder Information'!B960)","v":""},{"$f":"IF('Gas Cylinder Information'!E960=\"\",\"\",'Gas Cylinder Information'!E960)","v":""},{"$f":"IF('Gas Cylinder Information'!F960=\"\",\"\",'Gas Cylinder Information'!F960)","v":""},{"$f":"IF('Gas Cylinder Information'!G960=\"\",\"\",'Gas Cylinder Information'!G960)","v":""}]
[{"$f":"IF('Gas Cylinder Information'!A961=\"\",\"\",'Gas Cylinder Information'!A961)","v":""},{"$f":"IF('Gas Cylinder Information'!C961=\"\",\"\",'Gas Cylinder Information'!C961)","v":""},{"$f":"IF('Gas Cylinder Information'!D961=\"\",\"\",'Gas Cylinder Information'!D961)","v":""},{"$f":"IF('Gas Cylinder Information'!B961=\"\",\"\",'Gas Cylinder Information'!B961)","v":""},{"$f":"IF('Gas Cylinder Information'!E961=\"\",\"\",'Gas Cylinder Information'!E961)","v":""},{"$f":"IF('Gas Cylinder Information'!F961=\"\",\"\",'Gas Cylinder Information'!F961)","v":""},{"$f":"IF('Gas Cylinder Information'!G961=\"\",\"\",'Gas Cylinder Information'!G961)","v":""}]
[{"$f":"IF('Gas Cylinder Information'!A962=\"\",\"\",'Gas Cylinder Information'!A962)","v":""},{"$f":"IF('Gas Cylinder Information'!C962=\"\",\"\",'Gas Cylinder Information'!C962)","v":""},{"$f":"IF('Gas Cylinder Information'!D962=\"\",\"\",'Gas Cylinder Information'!D962)","v":""},{"$f":"IF('Gas Cylinder Information'!B962=\"\",\"\",'Gas Cylinder Information'!B962)","v":""},{"$f":"IF('Gas Cylinder Information'!E962=\"\",\"\",'Gas Cylinder Information'!E962)","v":""},{"$f":"IF('Gas Cylinder Information'!F962=\"\",\"\",'Gas Cylinder Information'!F962)","v":""},{"$f":"IF('Gas Cylinder Information'!G962=\"\",\"\",'Gas Cylinder Information'!G962)","v":""}]
[{"$f":"IF('Gas Cylinder Information'!A963=\"\",\"\",'Gas Cylinder Information'!A963)","v":""},{"$f":"IF('Gas Cylinder Information'!C963=\"\",\"\",'Gas Cylinder Information'!C963)","v":""},{"$f":"IF('Gas Cylinder Information'!D963=\"\",\"\",'Gas Cylinder Information'!D963)","v":""},{"$f":"IF('Gas Cylinder Information'!B963=\"\",\"\",'Gas Cylinder Information'!B963)","v":""},{"$f":"IF('Gas Cylinder Information'!E963=\"\",\"\",'Gas Cylinder Information'!E963)","v":""},{"$f":"IF('Gas Cylinder Information'!F963=\"\",\"\",'Gas Cylinder Information'!F963)","v":""},{"$f":"IF('Gas Cylinder Information'!G963=\"\",\"\",'Gas Cylinder Information'!G963)","v":""}]
[{"$f":"IF('Gas Cylinder Information'!A964=\"\",\"\",'Gas Cylinder Information'!A964)","v":""},{"$f":"IF('Gas Cylinder Information'!C964=\"\",\"\",'Gas Cylinder Information'!C964)","v":""},{"$f":"IF('Gas Cylinder Information'!D964=\"\",\"\",'Gas Cylinder Information'!D964)","v":""},{"$f":"IF('Gas Cylinder Information'!B964=\"\",\"\",'Gas Cylinder Information'!B964)","v":""},{"$f":"IF('Gas Cylinder Information'!E964=\"\",\"\",'Gas Cylinder Information'!E964)","v":""},{"$f":"IF('Gas Cylinder Information'!F964=\"\",\"\",'Gas Cylinder Information'!F964)","v":""},{"$f":"IF('Gas Cylinder Information'!G964=\"\",\"\",'Gas Cylinder Information'!G964)","v":""}]
[{"$f":"IF('Gas Cylinder Information'!A965=\"\",\"\",'Gas Cylinder Information'!A965)","v":""},{"$f":"IF('Gas Cylinder Information'!C965=\"\",\"\",'Gas Cylinder Information'!C965)","v":""},{"$f":"IF('Gas Cylinder Information'!D965=\"\",\"\",'Gas Cylinder Information'!D965)","v":""},{"$f":"IF('Gas Cylinder Information'!B965=\"\",\"\",'Gas Cylinder Information'!B965)","v":""},{"$f":"IF('Gas Cylinder Information'!E965=\"\",\"\",'Gas Cylinder Information'!E965)","v":""},{"$f":"IF('Gas Cylinder Information'!F965=\"\",\"\",'Gas Cylinder Information'!F965)","v":""},{"$f":"IF('Gas Cylinder Information'!G965=\"\",\"\",'Gas Cylinder Information'!G965)","v":""}]
[{"$f":"IF('Gas Cylinder Information'!A966=\"\",\"\",'Gas Cylinder Information'!A966)","v":""},{"$f":"IF('Gas Cylinder Information'!C966=\"\",\"\",'Gas Cylinder Information'!C966)","v":""},{"$f":"IF('Gas Cylinder Information'!D966=\"\",\"\",'Gas Cylinder Information'!D966)","v":""},{"$f":"IF('Gas Cylinder Information'!B966=\"\",\"\",'Gas Cylinder Information'!B966)","v":""},{"$f":"IF('Gas Cylinder Information'!E966=\"\",\"\",'Gas Cylinder Information'!E966)","v":""},{"$f":"IF('Gas Cylinder Information'!F966=\"\",\"\",'Gas Cylinder Information'!F966)","v":""},{"$f":"IF('Gas Cylinder Information'!G966=\"\",\"\",'Gas Cylinder Information'!G966)","v":""}]
[{"$f":"IF('Gas Cylinder Information'!A967=\"\",\"\",'Gas Cylinder Information'!A967)","v":""},{"$f":"IF('Gas Cylinder Information'!C967=\"\",\"\",'Gas Cylinder Information'!C967)","v":""},{"$f":"IF('Gas Cylinder Information'!D967=\"\",\"\",'Gas Cylinder Information'!D967)","v":""},{"$f":"IF('Gas Cylinder Information'!B967=\"\",\"\",'Gas Cylinder Information'!B967)","v":""},{"$f":"IF('Gas Cylinder Information'!E967=\"\",\"\",'Gas Cylinder Information'!E967)","v":""},{"$f":"IF('Gas Cylinder Information'!F967=\"\",\"\",'Gas Cylinder Information'!F967)","v":""},{"$f":"IF('Gas Cylinder Information'!G967=\"\",\"\",'Gas Cylinder Information'!G967)","v":""}]
[{"$f":"IF('Gas Cylinder Information'!A968=\"\",\"\",'Gas Cylinder Information'!A968)","v":""},{"$f":"IF('Gas Cylinder Information'!C968=\"\",\"\",'Gas Cylinder Information'!C968)","v":""},{"$f":"IF('Gas Cylinder Information'!D968=\"\",\"\",'Gas Cylinder Information'!D968)","v":""},{"$f":"IF('Gas Cylinder Information'!B968=\"\",\"\",'Gas Cylinder Information'!B968)","v":""},{"$f":"IF('Gas Cylinder Information'!E968=\"\",\"\",'Gas Cylinder Information'!E968)","v":""},{"$f":"IF('Gas Cylinder Information'!F968=\"\",\"\",'Gas Cylinder Information'!F968)","v":""},{"$f":"IF('Gas Cylinder Information'!G968=\"\",\"\",'Gas Cylinder Information'!G968)","v":""}]
[{"$f":"IF('Gas Cylinder Information'!A969=\"\",\"\",'Gas Cylinder Information'!A969)","v":""},{"$f":"IF('Gas Cylinder Information'!C969=\"\",\"\",'Gas Cylinder Information'!C969)","v":""},{"$f":"IF('Gas Cylinder Information'!D969=\"\",\"\",'Gas Cylinder Information'!D969)","v":""},{"$f":"IF('Gas Cylinder Information'!B969=\"\",\"\",'Gas Cylinder Information'!B969)","v":""},{"$f":"IF('Gas Cylinder Information'!E969=\"\",\"\",'Gas Cylinder Information'!E969)","v":""},{"$f":"IF('Gas Cylinder Information'!F969=\"\",\"\",'Gas Cylinder Information'!F969)","v":""},{"$f":"IF('Gas Cylinder Information'!G969=\"\",\"\",'Gas Cylinder Information'!G969)","v":""}]
[{"$f":"IF('Gas Cylinder Information'!A970=\"\",\"\",'Gas Cylinder Information'!A970)","v":""},{"$f":"IF('Gas Cylinder Information'!C970=\"\",\"\",'Gas Cylinder Information'!C970)","v":""},{"$f":"IF('Gas Cylinder Information'!D970=\"\",\"\",'Gas Cylinder Information'!D970)","v":""},{"$f":"IF('Gas Cylinder Information'!B970=\"\",\"\",'Gas Cylinder Information'!B970)","v":""},{"$f":"IF('Gas Cylinder Information'!E970=\"\",\"\",'Gas Cylinder Information'!E970)","v":""},{"$f":"IF('Gas Cylinder Information'!F970=\"\",\"\",'Gas Cylinder Information'!F970)","v":""},{"$f":"IF('Gas Cylinder Information'!G970=\"\",\"\",'Gas Cylinder Information'!G970)","v":""}]
[{"$f":"IF('Gas Cylinder Information'!A971=\"\",\"\",'Gas Cylinder Information'!A971)","v":""},{"$f":"IF('Gas Cylinder Information'!C971=\"\",\"\",'Gas Cylinder Information'!C971)","v":""},{"$f":"IF('Gas Cylinder Information'!D971=\"\",\"\",'Gas Cylinder Information'!D971)","v":""},{"$f":"IF('Gas Cylinder Information'!B971=\"\",\"\",'Gas Cylinder Information'!B971)","v":""},{"$f":"IF('Gas Cylinder Information'!E971=\"\",\"\",'Gas Cylinder Information'!E971)","v":""},{"$f":"IF('Gas Cylinder Information'!F971=\"\",\"\",'Gas Cylinder Information'!F971)","v":""},{"$f":"IF('Gas Cylinder Information'!G971=\"\",\"\",'Gas Cylinder Information'!G971)","v":""}]
[{"$f":"IF('Gas Cylinder Information'!A972=\"\",\"\",'Gas Cylinder Information'!A972)","v":""},{"$f":"IF('Gas Cylinder Information'!C972=\"\",\"\",'Gas Cylinder Information'!C972)","v":""},{"$f":"IF('Gas Cylinder Information'!D972=\"\",\"\",'Gas Cylinder Information'!D972)","v":""},{"$f":"IF('Gas Cylinder Information'!B972=\"\",\"\",'Gas Cylinder Information'!B972)","v":""},{"$f":"IF('Gas Cylinder Information'!E972=\"\",\"\",'Gas Cylinder Information'!E972)","v":""},{"$f":"IF('Gas Cylinder Information'!F972=\"\",\"\",'Gas Cylinder Information'!F972)","v":""},{"$f":"IF('Gas Cylinder Information'!G972=\"\",\"\",'Gas Cylinder Information'!G972)","v":""}]
[{"$f":"IF('Gas Cylinder Information'!A973=\"\",\"\",'Gas Cylinder Information'!A973)","v":""},{"$f":"IF('Gas Cylinder Information'!C973=\"\",\"\",'Gas Cylinder Information'!C973)","v":""},{"$f":"IF('Gas Cylinder Information'!D973=\"\",\"\",'Gas Cylinder Information'!D973)","v":""},{"$f":"IF('Gas Cylinder Information'!B973=\"\",\"\",'Gas Cylinder Information'!B973)","v":""},{"$f":"IF('Gas Cylinder Information'!E973=\"\",\"\",'Gas Cylinder Information'!E973)","v":""},{"$f":"IF('Gas Cylinder Information'!F973=\"\",\"\",'Gas Cylinder Information'!F973)","v":""},{"$f":"IF('Gas Cylinder Information'!G973=\"\",\"\",'Gas Cylinder Information'!G973)","v":""}]
[{"$f":"IF('Gas Cylinder Information'!A974=\"\",\"\",'Gas Cylinder Information'!A974)","v":""},{"$f":"IF('Gas Cylinder Information'!C974=\"\",\"\",'Gas Cylinder Information'!C974)","v":""},{"$f":"IF('Gas Cylinder Information'!D974=\"\",\"\",'Gas Cylinder Information'!D974)","v":""},{"$f":"IF('Gas Cylinder Information'!B974=\"\",\"\",'Gas Cylinder Information'!B974)","v":""},{"$f":"IF('Gas Cylinder Information'!E974=\"\",\"\",'Gas Cylinder Information'!E974)","v":""},{"$f":"IF('Gas Cylinder Information'!F974=\"\",\"\",'Gas Cylinder Information'!F974)","v":""},{"$f":"IF('Gas Cylinder Information'!G974=\"\",\"\",'Gas Cylinder Information'!G974)","v":""}]
[{"$f":"IF('Gas Cylinder Information'!A975=\"\",\"\",'Gas Cylinder Information'!A975)","v":""},{"$f":"IF('Gas Cylinder Information'!C975=\"\",\"\",'Gas Cylinder Information'!C975)","v":""},{"$f":"IF('Gas Cylinder Information'!D975=\"\",\"\",'Gas Cylinder Information'!D975)","v":""},{"$f":"IF('Gas Cylinder Information'!B975=\"\",\"\",'Gas Cylinder Information'!B975)","v":""},{"$f":"IF('Gas Cylinder Information'!E975=\"\",\"\",'Gas Cylinder Information'!E975)","v":""},{"$f":"IF('Gas Cylinder Information'!F975=\"\",\"\",'Gas Cylinder Information'!F975)","v":""},{"$f":"IF('Gas Cylinder Information'!G975=\"\",\"\",'Gas Cylinder Information'!G975)","v":""}]
[{"$f":"IF('Gas Cylinder Information'!A976=\"\",\"\",'Gas Cylinder Information'!A976)","v":""},{"$f":"IF('Gas Cylinder Information'!C976=\"\",\"\",'Gas Cylinder Information'!C976)","v":""},{"$f":"IF('Gas Cylinder Information'!D976=\"\",\"\",'Gas Cylinder Information'!D976)","v":""},{"$f":"IF('Gas Cylinder Information'!B976=\"\",\"\",'Gas Cylinder Information'!B976)","v":""},{"$f":"IF('Gas Cylinder Information'!E976=\"\",\"\",'Gas Cylinder Information'!E976)","v":""},{"$f":"IF('Gas Cylinder Information'!F976=\"\",\"\",'Gas Cylinder Information'!F976)","v":""},{"$f":"IF('Gas Cylinder Information'!G976=\"\",\"\",'Gas Cylinder Information'!G976)","v":""}]
[{"$f":"IF('Gas Cylinder Information'!A977=\"\",\"\",'Gas Cylinder Information'!A977)","v":""},{"$f":"IF('Gas Cylinder Information'!C977=\"\",\"\",'Gas Cylinder Information'!C977)","v":""},{"$f":"IF('Gas Cylinder Information'!D977=\"\",\"\",'Gas Cylinder Information'!D977)","v":""},{"$f":"IF('Gas Cylinder Information'!B977=\"\",\"\",'Gas Cylinder Information'!B977)","v":""},{"$f":"IF('Gas Cylinder Information'!E977=\"\",\"\",'Gas Cylinder Information'!E977)","v":""},{"$f":"IF('Gas Cylinder Information'!F977=\"\",\"\",'Gas Cylinder Information'!F977)","v":""},{"$f":"IF('Gas Cylinder Information'!G977=\"\",\"\",'Gas Cylinder Information'!G977)","v":""}]
[{"$f":"IF('Gas Cylinder Information'!A978=\"\",\"\",'Gas Cylinder Information'!A978)","v":""},{"$f":"IF('Gas Cylinder Information'!C978=\"\",\"\",'Gas Cylinder Information'!C978)","v":""},{"$f":"IF('Gas Cylinder Information'!D978=\"\",\"\",'Gas Cylinder Information'!D978)","v":""},{"$f":"IF('Gas Cylinder Information'!B978=\"\",\"\",'Gas Cylinder Information'!B978)","v":""},{"$f":"IF('Gas Cylinder Information'!E978=\"\",\"\",'Gas Cylinder Information'!E978)","v":""},{"$f":"IF('Gas Cylinder Information'!F978=\"\",\"\",'Gas Cylinder Information'!F978)","v":""},{"$f":"IF('Gas Cylinder Information'!G978=\"\",\"\",'Gas Cylinder Information'!G978)","v":""}]
[{"$f":"IF('Gas Cylinder Information'!A979=\"\",\"\",'Gas Cylinder Information'!A979)","v":""},{"$f":"IF('Gas Cylinder Information'!C979=\"\",\"\",'Gas Cylinder Information'!C979)","v":""},{"$f":"IF('Gas Cylinder Information'!D979=\"\",\"\",'Gas Cylinder Information'!D979)","v":""},{"$f":"IF('Gas Cylinder Information'!B979=\"\",\"\",'Gas Cylinder Information'!B979)","v":""},{"$f":"IF('Gas Cylinder Information'!E979=\"\",\"\",'Gas Cylinder Information'!E979)","v":""},{"$f":"IF('Gas Cylinder Information'!F979=\"\",\"\",'Gas Cylinder Information'!F979)","v":""},{"$f":"IF('Gas Cylinder Information'!G979=\"\",\"\",'Gas Cylinder Information'!G979)","v":""}]
[{"$f":"IF('Gas Cylinder Information'!A980=\"\",\"\",'Gas Cylinder Information'!A980)","v":""},{"$f":"IF('Gas Cylinder Information'!C980=\"\",\"\",'Gas Cylinder Information'!C980)","v":""},{"$f":"IF('Gas Cylinder Information'!D980=\"\",\"\",'Gas Cylinder Information'!D980)","v":""},{"$f":"IF('Gas Cylinder Information'!B980=\"\",\"\",'Gas Cylinder Information'!B980)","v":""},{"$f":"IF('Gas Cylinder Information'!E980=\"\",\"\",'Gas Cylinder Information'!E980)","v":""},{"$f":"IF('Gas Cylinder Information'!F980=\"\",\"\",'Gas Cylinder Information'!F980)","v":""},{"$f":"IF('Gas Cylinder Information'!G980=\"\",\"\",'Gas Cylinder Information'!G980)","v":""}]
[{"$f":"IF('Gas Cylinder Information'!A981=\"\",\"\",'Gas Cylinder Information'!A981)","v":""},{"$f":"IF('Gas Cylinder Information'!C981=\"\",\"\",'Gas Cylinder Information'!C981)","v":""},{"$f":"IF('Gas Cylinder Information'!D981=\"\",\"\",'Gas Cylinder Information'!D981)","v":""},{"$f":"IF('Gas Cylinder Information'!B981=\"\",\"\",'Gas Cylinder Information'!B981)","v":""},{"$f":"IF('Gas Cylinder Information'!E981=\"\",\"\",'Gas Cylinder Information'!E981)","v":""},{"$f":"IF('Gas Cylinder Information'!F981=\"\",\"\",'Gas Cylinder Information'!F981)","v":""},{"$f":"IF('Gas Cylinder Information'!G981=\"\",\"\",'Gas Cylinder Information'!G981)","v":""}]
[{"$f":"IF('Gas Cylinder Information'!A982=\"\",\"\",'Gas Cylinder Information'!A982)","v":""},{"$f":"IF('Gas Cylinder Information'!C982=\"\",\"\",'Gas Cylinder Information'!C982)","v":""},{"$f":"IF('Gas Cylinder Information'!D982=\"\",\"\",'Gas Cylinder Information'!D982)","v":""},{"$f":"IF('Gas Cylinder Information'!B982=\"\",\"\",'Gas Cylinder Information'!B982)","v":""},{"$f":"IF('Gas Cylinder Information'!E982=\"\",\"\",'Gas Cylinder Information'!E982)","v":""},{"$f":"IF('Gas Cylinder Information'!F982=\"\",\"\",'Gas Cylinder Information'!F982)","v":""},{"$f":"IF('Gas Cylinder Information'!G982=\"\",\"\",'Gas Cylinder Information'!G982)","v":""}]
[{"$f":"IF('Gas Cylinder Information'!A983=\"\",\"\",'Gas Cylinder Information'!A983)","v":""},{"$f":"IF('Gas Cylinder Information'!C983=\"\",\"\",'Gas Cylinder Information'!C983)","v":""},{"$f":"IF('Gas Cylinder Information'!D983=\"\",\"\",'Gas Cylinder Information'!D983)","v":""},{"$f":"IF('Gas Cylinder Information'!B983=\"\",\"\",'Gas Cylinder Information'!B983)","v":""},{"$f":"IF('Gas Cylinder Information'!E983=\"\",\"\",'Gas Cylinder Information'!E983)","v":""},{"$f":"IF('Gas Cylinder Information'!F983=\"\",\"\",'Gas Cylinder Information'!F983)","v":""},{"$f":"IF('Gas Cylinder Information'!G983=\"\",\"\",'Gas Cylinder Information'!G983)","v":""}]
[{"$f":"IF('Gas Cylinder Information'!A984=\"\",\"\",'Gas Cylinder Information'!A984)","v":""},{"$f":"IF('Gas Cylinder Information'!C984=\"\",\"\",'Gas Cylinder Information'!C984)","v":""},{"$f":"IF('Gas Cylinder Information'!D984=\"\",\"\",'Gas Cylinder Information'!D984)","v":""},{"$f":"IF('Gas Cylinder Information'!B984=\"\",\"\",'Gas Cylinder Information'!B984)","v":""},{"$f":"IF('Gas Cylinder Information'!E984=\"\",\"\",'Gas Cylinder Information'!E984)","v":""},{"$f":"IF('Gas Cylinder Information'!F984=\"\",\"\",'Gas Cylinder Information'!F984)","v":""},{"$f":"IF('Gas Cylinder Information'!G984=\"\",\"\",'Gas Cylinder Information'!G984)","v":""}]
[{"$f":"IF('Gas Cylinder Information'!A985=\"\",\"\",'Gas Cylinder Information'!A985)","v":""},{"$f":"IF('Gas Cylinder Information'!C985=\"\",\"\",'Gas Cylinder Information'!C985)","v":""},{"$f":"IF('Gas Cylinder Information'!D985=\"\",\"\",'Gas Cylinder Information'!D985)","v":""},{"$f":"IF('Gas Cylinder Information'!B985=\"\",\"\",'Gas Cylinder Information'!B985)","v":""},{"$f":"IF('Gas Cylinder Information'!E985=\"\",\"\",'Gas Cylinder Information'!E985)","v":""},{"$f":"IF('Gas Cylinder Information'!F985=\"\",\"\",'Gas Cylinder Information'!F985)","v":""},{"$f":"IF('Gas Cylinder Information'!G985=\"\",\"\",'Gas Cylinder Information'!G985)","v":""}]
[{"$f":"IF('Gas Cylinder Information'!A986=\"\",\"\",'Gas Cylinder Information'!A986)","v":""},{"$f":"IF('Gas Cylinder Information'!C986=\"\",\"\",'Gas Cylinder Information'!C986)","v":""},{"$f":"IF('Gas Cylinder Information'!D986=\"\",\"\",'Gas Cylinder Information'!D986)","v":""},{"$f":"IF('Gas Cylinder Information'!B986=\"\",\"\",'Gas Cylinder Information'!B986)","v":""},{"$f":"IF('Gas Cylinder Information'!E986=\"\",\"\",'Gas Cylinder Information'!E986)","v":""},{"$f":"IF('Gas Cylinder Information'!F986=\"\",\"\",'Gas Cylinder Information'!F986)","v":""},{"$f":"IF('Gas Cylinder Information'!G986=\"\",\"\",'Gas Cylinder Information'!G986)","v":""}]
[{"$f":"IF('Gas Cylinder Information'!A987=\"\",\"\",'Gas Cylinder Information'!A987)","v":""},{"$f":"IF('Gas Cylinder Information'!C987=\"\",\"\",'Gas Cylinder Information'!C987)","v":""},{"$f":"IF('Gas Cylinder Information'!D987=\"\",\"\",'Gas Cylinder Information'!D987)","v":""},{"$f":"IF('Gas Cylinder Information'!B987=\"\",\"\",'Gas Cylinder Information'!B987)","v":""},{"$f":"IF('Gas Cylinder Information'!E987=\"\",\"\",'Gas Cylinder Information'!E987)","v":""},{"$f":"IF('Gas Cylinder Information'!F987=\"\",\"\",'Gas Cylinder Information'!F987)","v":""},{"$f":"IF('Gas Cylinder Information'!G987=\"\",\"\",'Gas Cylinder Information'!G987)","v":""}]
[{"$f":"IF('Gas Cylinder Information'!A988=\"\",\"\",'Gas Cylinder Information'!A988)","v":""},{"$f":"IF('Gas Cylinder Information'!C988=\"\",\"\",'Gas Cylinder Information'!C988)","v":""},{"$f":"IF('Gas Cylinder Information'!D988=\"\",\"\",'Gas Cylinder Information'!D988)","v":""},{"$f":"IF('Gas Cylinder Information'!B988=\"\",\"\",'Gas Cylinder Information'!B988)","v":""},{"$f":"IF('Gas Cylinder Information'!E988=\"\",\"\",'Gas Cylinder Information'!E988)","v":""},{"$f":"IF('Gas Cylinder Information'!F988=\"\",\"\",'Gas Cylinder Information'!F988)","v":""},{"$f":"IF('Gas Cylinder Information'!G988=\"\",\"\",'Gas Cylinder Information'!G988)","v":""}]
[{"$f":"IF('Gas Cylinder Information'!A989=\"\",\"\",'Gas Cylinder Information'!A989)","v":""},{"$f":"IF('Gas Cylinder Information'!C989=\"\",\"\",'Gas Cylinder Information'!C989)","v":""},{"$f":"IF('Gas Cylinder Information'!D989=\"\",\"\",'Gas Cylinder Information'!D989)","v":""},{"$f":"IF('Gas Cylinder Information'!B989=\"\",\"\",'Gas Cylinder Information'!B989)","v":""},{"$f":"IF('Gas Cylinder Information'!E989=\"\",\"\",'Gas Cylinder Information'!E989)","v":""},{"$f":"IF('Gas Cylinder Information'!F989=\"\",\"\",'Gas Cylinder Information'!F989)","v":""},{"$f":"IF('Gas Cylinder Information'!G989=\"\",\"\",'Gas Cylinder Information'!G989)","v":""}]
[{"$f":"IF('Gas Cylinder Information'!A990=\"\",\"\",'Gas Cylinder Information'!A990)","v":""},{"$f":"IF('Gas Cylinder Information'!C990=\"\",\"\",'Gas Cylinder Information'!C990)","v":""},{"$f":"IF('Gas Cylinder Information'!D990=\"\",\"\",'Gas Cylinder Information'!D990)","v":""},{"$f":"IF('Gas Cylinder Information'!B990=\"\",\"\",'Gas Cylinder Information'!B990)","v":""},{"$f":"IF('Gas Cylinder Information'!E990=\"\",\"\",'Gas Cylinder Information'!E990)","v":""},{"$f":"IF('Gas Cylinder Information'!F990=\"\",\"\",'Gas Cylinder Information'!F990)","v":""},{"$f":"IF('Gas Cylinder Information'!G990=\"\",\"\",'Gas Cylinder Information'!G990)","v":""}]
[{"$f":"IF('Gas Cylinder Information'!A991=\"\",\"\",'Gas Cylinder Information'!A991)","v":""},{"$f":"IF('Gas Cylinder Information'!C991=\"\",\"\",'Gas Cylinder Information'!C991)","v":""},{"$f":"IF('Gas Cylinder Information'!D991=\"\",\"\",'Gas Cylinder Information'!D991)","v":""},{"$f":"IF('Gas Cylinder Information'!B991=\"\",\"\",'Gas Cylinder Information'!B991)","v":""},{"$f":"IF('Gas Cylinder Information'!E991=\"\",\"\",'Gas Cylinder Information'!E991)","v":""},{"$f":"IF('Gas Cylinder Information'!F991=\"\",\"\",'Gas Cylinder Information'!F991)","v":""},{"$f":"IF('Gas Cylinder Information'!G991=\"\",\"\",'Gas Cylinder Information'!G991)","v":""}]
[{"$f":"IF('Gas Cylinder Information'!A992=\"\",\"\",'Gas Cylinder Information'!A992)","v":""},{"$f":"IF('Gas Cylinder Information'!C992=\"\",\"\",'Gas Cylinder Information'!C992)","v":""},{"$f":"IF('Gas Cylinder Information'!D992=\"\",\"\",'Gas Cylinder Information'!D992)","v":""},{"$f":"IF('Gas Cylinder Information'!B992=\"\",\"\",'Gas Cylinder Information'!B992)","v":""},{"$f":"IF('Gas Cylinder Information'!E992=\"\",\"\",'Gas Cylinder Information'!E992)","v":""},{"$f":"IF('Gas Cylinder Information'!F992=\"\",\"\",'Gas Cylinder Information'!F992)","v":""},{"$f":"IF('Gas Cylinder Information'!G992=\"\",\"\",'Gas Cylinder Information'!G992)","v":""}]
[{"$f":"IF('Gas Cylinder Information'!A993=\"\",\"\",'Gas Cylinder Information'!A993)","v":""},{"$f":"IF('Gas Cylinder Information'!C993=\"\",\"\",'Gas Cylinder Information'!C993)","v":""},{"$f":"IF('Gas Cylinder Information'!D993=\"\",\"\",'Gas Cylinder Information'!D993)","v":""},{"$f":"IF('Gas Cylinder Information'!B993=\"\",\"\",'Gas Cylinder Information'!B993)","v":""},{"$f":"IF('Gas Cylinder Information'!E993=\"\",\"\",'Gas Cylinder Information'!E993)","v":""},{"$f":"IF('Gas Cylinder Information'!F993=\"\",\"\",'Gas Cylinder Information'!F993)","v":""},{"$f":"IF('Gas Cylinder Information'!G993=\"\",\"\",'Gas Cylinder Information'!G993)","v":""}]
[{"$f":"IF('Gas Cylinder Information'!A994=\"\",\"\",'Gas Cylinder Information'!A994)","v":""},{"$f":"IF('Gas Cylinder Information'!C994=\"\",\"\",'Gas Cylinder Information'!C994)","v":""},{"$f":"IF('Gas Cylinder Information'!D994=\"\",\"\",'Gas Cylinder Information'!D994)","v":""},{"$f":"IF('Gas Cylinder Information'!B994=\"\",\"\",'Gas Cylinder Information'!B994)","v":""},{"$f":"IF('Gas Cylinder Information'!E994=\"\",\"\",'Gas Cylinder Information'!E994)","v":""},{"$f":"IF('Gas Cylinder Information'!F994=\"\",\"\",'Gas Cylinder Information'!F994)","v":""},{"$f":"IF('Gas Cylinder Information'!G994=\"\",\"\",'Gas Cylinder Information'!G994)","v":""}]
[{"$f":"IF('Gas Cylinder Information'!A995=\"\",\"\",'Gas Cylinder Information'!A995)","v":""},{"$f":"IF('Gas Cylinder Information'!C995=\"\",\"\",'Gas Cylinder Information'!C995)","v":""},{"$f":"IF('Gas Cylinder Information'!D995=\"\",\"\",'Gas Cylinder Information'!D995)","v":""},{"$f":"IF('Gas Cylinder Information'!B995=\"\",\"\",'Gas Cylinder Information'!B995)","v":""},{"$f":"IF('Gas Cylinder Information'!E995=\"\",\"\",'Gas Cylinder Information'!E995)","v":""},{"$f":"IF('Gas Cylinder Information'!F995=\"\",\"\",'Gas Cylinder Information'!F995)","v":""},{"$f":"IF('Gas Cylinder Information'!G995=\"\",\"\",'Gas Cylinder Information'!G995)","v":""}]
[{"$f":"IF('Gas Cylinder Information'!A996=\"\",\"\",'Gas Cylinder Information'!A996)","v":""},{"$f":"IF('Gas Cylinder Information'!C996=\"\",\"\",'Gas Cylinder Information'!C996)","v":""},{"$f":"IF('Gas Cylinder Information'!D996=\"\",\"\",'Gas Cylinder Information'!D996)","v":""},{"$f":"IF('Gas Cylinder Information'!B996=\"\",\"\",'Gas Cylinder Information'!B996)","v":""},{"$f":"IF('Gas Cylinder Information'!E996=\"\",\"\",'Gas Cylinder Information'!E996)","v":""},{"$f":"IF('Gas Cylinder Information'!F996=\"\",\"\",'Gas Cylinder Information'!F996)","v":""},{"$f":"IF('Gas Cylinder Information'!G996=\"\",\"\",'Gas Cylinder Information'!G996)","v":""}]
[{"$f":"IF('Gas Cylinder Information'!A997=\"\",\"\",'Gas Cylinder Information'!A997)","v":""},{"$f":"IF('Gas Cylinder Information'!C997=\"\",\"\",'Gas Cylinder Information'!C997)","v":""},{"$f":"IF('Gas Cylinder Information'!D997=\"\",\"\",'Gas Cylinder Information'!D997)","v":""},{"$f":"IF('Gas Cylinder Information'!B997=\"\",\"\",'Gas Cylinder Information'!B997)","v":""},{"$f":"IF('Gas Cylinder Information'!E997=\"\",\"\",'Gas Cylinder Information'!E997)","v":""},{"$f":"IF('Gas Cylinder Information'!F997=\"\",\"\",'Gas Cylinder Information'!F997)","v":""},{"$f":"IF('Gas Cylinder Information'!G997=\"\",\"\",'Gas Cylinder Information'!G997)","v":""}]
[{"$f":"IF('Gas Cylinder Information'!A998=\"\",\"\",'Gas Cylinder Information'!A998)","v":""},{"$f":"IF('Gas Cylinder Information'!C998=\"\",\"\",'Gas Cylinder Information'!C998)","v":""},{"$f":"IF('Gas Cylinder Information'!D998=\"\",\"\",'Gas Cylinder Information'!D998)","v":""},{"$f":"IF('Gas Cylinder Information'!B998=\"\",\"\",'Gas Cylinder Information'!B998)","v":""},{"$f":"IF('Gas Cylinder Information'!E998=\"\",\"\",'Gas Cylinder Information'!E998)","v":""},{"$f":"IF('Gas Cylinder Information'!F998=\"\",\"\",'Gas Cylinder Information'!F998)","v":""},{"$f":"IF('Gas Cylinder Information'!G998=\"\",\"\",'Gas Cylinder Information'!G998)","v":""}]
[{"$f":"IF('Gas Cylinder Information'!A999=\"\",\"\",'Gas Cylinder Information'!A999)","v":""},{"$f":"IF('Gas Cylinder Information'!C999=\"\",\"\",'Gas Cylinder Information'!C999)","v":""},{"$f":"IF('Gas Cylinder Information'!D999=\"\",\"\",'Gas Cylinder Information'!D999)","v":""},{"$f":"IF('Gas Cylinder Information'!B999=\"\",\"\",'Gas Cylinder Information'!B999)","v":""},{"$f":"IF('Gas Cylinder Information'!E999=\"\",\"\",'Gas Cylinder Information'!E999)","v":""},{"$f":"IF('Gas Cylinder Information'!F999=\"\",\"\",'Gas Cylinder Information'!F999)","v":""},{"$f":"IF('Gas Cylinder Information'!G999=\"\",\"\",'Gas Cylinder Information'!G999)","v":""}]
[{"$f":"IF('Gas Cylinder Information'!A1000=\"\",\"\",'Gas Cylinder Information'!A1000)","v":""},{"$f":"IF('Gas Cylinder Information'!C1000=\"\",\"\",'Gas Cylinder Information'!C1000)","v":""},{"$f":"IF('Gas Cylinder Information'!D1000=\"\",\"\",'Gas Cylinder Information'!D1000)","v":""},{"$f":"IF('Gas Cylinder Information'!B1000=\"\",\"\",'Gas Cylinder Information'!B1000)","v":""},{"$f":"IF('Gas Cylinder Information'!E1000=\"\",\"\",'Gas Cylinder Information'!E1000)","v":""},{"$f":"IF('Gas Cylinder Information'!F1000=\"\",\"\",'Gas Cylinder Information'!F1000)","v":""},{"$f":"IF('Gas Cylinder Information'!G1000=\"\",\"\",'Gas Cylinder Information'!G1000)","v":""}]
[{"$f":"IF('Gas Cylinder Information'!A1001=\"\",\"\",'Gas Cylinder Information'!A1001)","v":""},{"$f":"IF('Gas Cylinder Information'!C1001=\"\",\"\",'Gas Cylinder Information'!C1001)","v":""},{"$f":"IF('Gas Cylinder Information'!D1001=\"\",\"\",'Gas Cylinder Information'!D1001)","v":""},{"$f":"IF('Gas Cylinder Information'!B1001=\"\",\"\",'Gas Cylinder Information'!B1001)","v":""},{"$f":"IF('Gas Cylinder Information'!E1001=\"\",\"\",'Gas Cylinder Information'!E1001)","v":""},{"$f":"IF('Gas Cylinder Information'!F1001=\"\",\"\",'Gas Cylinder Information'!F1001)","v":""},{"$f":"IF('Gas Cylinder Information'!G1001=\"\",\"\",'Gas Cylinder Information'!G1001)","v":""}]
[{"$f":"IF('Gas Cylinder Information'!A1002=\"\",\"\",'Gas Cylinder Information'!A1002)","v":""},{"$f":"IF('Gas Cylinder Information'!C1002=\"\",\"\",'Gas Cylinder Information'!C1002)","v":""},{"$f":"IF('Gas Cylinder Information'!D1002=\"\",\"\",'Gas Cylinder Information'!D1002)","v":""},{"$f":"IF('Gas Cylinder Information'!B1002=\"\",\"\",'Gas Cylinder Information'!B1002)","v":""},{"$f":"IF('Gas Cylinder Information'!E1002=\"\",\"\",'Gas Cylinder Information'!E1002)","v":""},{"$f":"IF('Gas Cylinder Information'!F1002=\"\",\"\",'Gas Cylinder Information'!F1002)","v":""},{"$f":"IF('Gas Cylinder Information'!G1002=\"\",\"\",'Gas Cylinder Information'!G1002)","v":""}]
[{"$f":"IF('Gas Cylinder Information'!A1003=\"\",\"\",'Gas Cylinder Information'!A1003)","v":""},{"$f":"IF('Gas Cylinder Information'!C1003=\"\",\"\",'Gas Cylinder Information'!C1003)","v":""},{"$f":"IF('Gas Cylinder Information'!D1003=\"\",\"\",'Gas Cylinder Information'!D1003)","v":""},{"$f":"IF('Gas Cylinder Information'!B1003=\"\",\"\",'Gas Cylinder Information'!B1003)","v":""},{"$f":"IF('Gas Cylinder Information'!E1003=\"\",\"\",'Gas Cylinder Information'!E1003)","v":""},{"$f":"IF('Gas Cylinder Information'!F1003=\"\",\"\",'Gas Cylinder Information'!F1003)","v":""},{"$f":"IF('Gas Cylinder Information'!G1003=\"\",\"\",'Gas Cylinder Information'!G1003)","v":""}]
[{"$f":"IF('Gas Cylinder Information'!A1004=\"\",\"\",'Gas Cylinder Information'!A1004)","v":""},{"$f":"IF('Gas Cylinder Information'!C1004=\"\",\"\",'Gas Cylinder Information'!C1004)","v":""},{"$f":"IF('Gas Cylinder Information'!D1004=\"\",\"\",'Gas Cylinder Information'!D1004)","v":""},{"$f":"IF('Gas Cylinder Information'!B1004=\"\",\"\",'Gas Cylinder Information'!B1004)","v":""},{"$f":"IF('Gas Cylinder Information'!E1004=\"\",\"\",'Gas Cylinder Information'!E1004)","v":""},{"$f":"IF('Gas Cylinder Information'!F1004=\"\",\"\",'Gas Cylinder Information'!F1004)","v":""},{"$f":"IF('Gas Cylinder Information'!G1004=\"\",\"\",'Gas Cylinder Information'!G1004)","v":""}]
[{"$f":"IF('Gas Cylinder Information'!A1005=\"\",\"\",'Gas Cylinder Information'!A1005)","v":""},{"$f":"IF('Gas Cylinder Information'!C1005=\"\",\"\",'Gas Cylinder Information'!C1005)","v":""},{"$f":"IF('Gas Cylinder Information'!D1005=\"\",\"\",'Gas Cylinder Information'!D1005)","v":""},{"$f":"IF('Gas Cylinder Information'!B1005=\"\",\"\",'Gas Cylinder Information'!B1005)","v":""},{"$f":"IF('Gas Cylinder Information'!E1005=\"\",\"\",'Gas Cylinder Information'!E1005)","v":""},{"$f":"IF('Gas Cylinder Information'!F1005=\"\",\"\",'Gas Cylinder Information'!F1005)","v":""},{"$f":"IF('Gas Cylinder Information'!G1005=\"\",\"\",'Gas Cylinder Information'!G1005)","v":""}]
[{"$f":"IF('Gas Cylinder Information'!A1006=\"\",\"\",'Gas Cylinder Information'!A1006)","v":""},{"$f":"IF('Gas Cylinder Information'!C1006=\"\",\"\",'Gas Cylinder Information'!C1006)","v":""},{"$f":"IF('Gas Cylinder Information'!D1006=\"\",\"\",'Gas Cylinder Information'!D1006)","v":""},{"$f":"IF('Gas Cylinder Information'!B1006=\"\",\"\",'Gas Cylinder Information'!B1006)","v":""},{"$f":"IF('Gas Cylinder Information'!E1006=\"\",\"\",'Gas Cylinder Information'!E1006)","v":""},{"$f":"IF('Gas Cylinder Information'!F1006=\"\",\"\",'Gas Cylinder Information'!F1006)","v":""},{"$f":"IF('Gas Cylinder Information'!G1006=\"\",\"\",'Gas Cylinder Information'!G1006)","v":""}]
[{"$f":"'Gas Cylinder Information'!A1007","v":0},{"$f":"'Gas Cylinder Information'!C1007","v":0},{"$f":"'Gas Cylinder Information'!D1007","v":0},{"$f":"'Gas Cylinder Information'!B1007","v":0},{"$f":"'Gas Cylinder Information'!E1007","v":0},{"$f":"'Gas Cylinder Information'!F1007","v":0},{"$f":"'Gas Cylinder Information'!G1007","v":0}]
[{"$f":"'Gas Cylinder Information'!A1008","v":0},{"$f":"'Gas Cylinder Information'!C1008","v":0},{"$f":"'Gas Cylinder Information'!D1008","v":0},{"$f":"'Gas Cylinder Information'!B1008","v":0},{"$f":"'Gas Cylinder Information'!E1008","v":0},{"$f":"'Gas Cylinder Information'!F1008","v":0},{"$f":"'Gas Cylinder Information'!G1008","v":0}]
[{"$f":"'Gas Cylinder Information'!A1009","v":0},{"$f":"'Gas Cylinder Information'!C1009","v":0},{"$f":"'Gas Cylinder Information'!D1009","v":0},{"$f":"'Gas Cylinder Information'!B1009","v":0},{"$f":"'Gas Cylinder Information'!E1009","v":0},{"$f":"'Gas Cylinder Information'!F1009","v":0},{"$f":"'Gas Cylinder Information'!G1009","v":0}]
[{"$f":"'Gas Cylinder Information'!A1010","v":0},{"$f":"'Gas Cylinder Information'!C1010","v":0},{"$f":"'Gas Cylinder Information'!D1010","v":0},{"$f":"'Gas Cylinder Information'!B1010","v":0},{"$f":"'Gas Cylinder Information'!E1010","v":0},{"$f":"'Gas Cylinder Information'!F1010","v":0},{"$f":"'Gas Cylinder Information'!G1010","v":0}]
[{"$f":"'Gas Cylinder Information'!A1011","v":0},{"$f":"'Gas Cylinder Information'!C1011","v":0},{"$f":"'Gas Cylinder Information'!D1011","v":0},{"$f":"'Gas Cylinder Information'!B1011","v":0},{"$f":"'Gas Cylinder Information'!E1011","v":0},{"$f":"'Gas Cylinder Information'!F1011","v":0},{"$f":"'Gas Cylinder Information'!G1011","v":0}]
[{"$f":"'Gas Cylinder Information'!A1012","v":0},{"$f":"'Gas Cylinder Information'!C1012","v":0},{"$f":"'Gas Cylinder Information'!D1012","v":0},{"$f":"'Gas Cylinder Information'!B1012","v":0},{"$f":"'Gas Cylinder Information'!E1012","v":0},{"$f":"'Gas Cylinder Information'!F1012","v":0},{"$f":"'Gas Cylinder Information'!G1012","v":0}]
[{"$f":"'Gas Cylinder Information'!A1013","v":0},{"$f":"'Gas Cylinder Information'!C1013","v":0},{"$f":"'Gas Cylinder Information'!D1013","v":0},{"$f":"'Gas Cylinder Information'!B1013","v":0},{"$f":"'Gas Cylinder Information'!E1013","v":0},{"$f":"'Gas Cylinder Information'!F1013","v":0},{"$f":"'Gas Cylinder Information'!G1013","v":0}]
[{"$f":"'Gas Cylinder Information'!A1014","v":0},{"$f":"'Gas Cylinder Information'!C1014","v":0},{"$f":"'Gas Cylinder Information'!D1014","v":0},{"$f":"'Gas Cylinder Information'!B1014","v":0},{"$f":"'Gas Cylinder Information'!E1014","v":0},{"$f":"'Gas Cylinder Information'!F1014","v":0},{"$f":"'Gas Cylinder Information'!G1014","v":0}]
[{"$f":"'Gas Cylinder Information'!A1015","v":0},{"$f":"'Gas Cylinder Information'!C1015","v":0},{"$f":"'Gas Cylinder Information'!D1015","v":0},{"$f":"'Gas Cylinder Information'!B1015","v":0},{"$f":"'Gas Cylinder Information'!E1015","v":0},{"$f":"'Gas Cylinder Information'!F1015","v":0},{"$f":"'Gas Cylinder Information'!G1015","v":0}]
[{"$f":"'Gas Cylinder Information'!A1016","v":0},{"$f":"'Gas Cylinder Information'!C1016","v":0},{"$f":"'Gas Cylinder Information'!D1016","v":0},{"$f":"'Gas Cylinder Information'!B1016","v":0},{"$f":"'Gas Cylinder Information'!E1016","v":0},{"$f":"'Gas Cylinder Information'!F1016","v":0},{"$f":"'Gas Cylinder Information'!G1016","v":0}]
[{"$f":"'Gas Cylinder Information'!A1017","v":0},{"$f":"'Gas Cylinder Information'!C1017","v":0},{"$f":"'Gas Cylinder Information'!D1017","v":0},{"$f":"'Gas Cylinder Information'!B1017","v":0},{"$f":"'Gas Cylinder Information'!E1017","v":0},{"$f":"'Gas Cylinder Information'!F1017","v":0},{"$f":"'Gas Cylinder Information'!G1017","v":0}]
[{"$f":"'Gas Cylinder Information'!A1018","v":0},{"$f":"'Gas Cylinder Information'!C1018","v":0},{"$f":"'Gas Cylinder Information'!D1018","v":0},{"$f":"'Gas Cylinder Information'!B1018","v":0},{"$f":"'Gas Cylinder Information'!E1018","v":0},{"$f":"'Gas Cylinder Information'!F1018","v":0},{"$f":"'Gas Cylinder Information'!G1018","v":0}]
[{"$f":"'Gas Cylinder Information'!A1019","v":0},{"$f":"'Gas Cylinder Information'!C1019","v":0},{"$f":"'Gas Cylinder Information'!D1019","v":0},{"$f":"'Gas Cylinder Information'!B1019","v":0},{"$f":"'Gas Cylinder Information'!E1019","v":0},{"$f":"'Gas Cylinder Information'!F1019","v":0},{"$f":"'Gas Cylinder Information'!G1019","v":0}]
[{"$f":"'Gas Cylinder Information'!A1020","v":0},{"$f":"'Gas Cylinder Information'!C1020","v":0},{"$f":"'Gas Cylinder Information'!D1020","v":0},{"$f":"'Gas Cylinder Information'!B1020","v":0},{"$f":"'Gas Cylinder Information'!E1020","v":0},{"$f":"'Gas Cylinder Information'!F1020","v":0},{"$f":"'Gas Cylinder Information'!G1020","v":0}]
[{"$f":"'Gas Cylinder Information'!A1021","v":0},{"$f":"'Gas Cylinder Information'!C1021","v":0},{"$f":"'Gas Cylinder Information'!D1021","v":0},{"$f":"'Gas Cylinder Information'!B1021","v":0},{"$f":"'Gas Cylinder Information'!E1021","v":0},{"$f":"'Gas Cylinder Information'!F1021","v":0},{"$f":"'Gas Cylinder Information'!G1021","v":0}]
[{"$f":"'Gas Cylinder Information'!A1022","v":0},{"$f":"'Gas Cylinder Information'!C1022","v":0},{"$f":"'Gas Cylinder Information'!D1022","v":0},{"$f":"'Gas Cylinder Information'!B1022","v":0},{"$f":"'Gas Cylinder Information'!E1022","v":0},{"$f":"'Gas Cylinder Information'!F1022","v":0},{"$f":"'Gas Cylinder Information'!G1022","v":0}]
[{"$f":"'Gas Cylinder Information'!A1023","v":0},{"$f":"'Gas Cylinder Information'!C1023","v":0},{"$f":"'Gas Cylinder Information'!D1023","v":0},{"$f":"'Gas Cylinder Information'!B1023","v":0},{"$f":"'Gas Cylinder Information'!E1023","v":0},{"$f":"'Gas Cylinder Information'!F1023","v":0},{"$f":"'Gas Cylinder Information'!G1023","v":0}]
[{"$f":"'Gas Cylinder Information'!A1024","v":0},{"$f":"'Gas Cylinder Information'!C1024","v":0},{"$f":"'Gas Cylinder Information'!D1024","v":0},{"$f":"'Gas Cylinder Information'!B1024","v":0},{"$f":"'Gas Cylinder Information'!E1024","v":0},{"$f":"'Gas Cylinder Information'!F1024","v":0},{"$f":"'Gas Cylinder Information'!G1024","v":0}]
[{"$f":"'Gas Cylinder Information'!A1025","v":0},{"$f":"'Gas Cylinder Information'!C1025","v":0},{"$f":"'Gas Cylinder Information'!D1025","v":0},{"$f":"'Gas Cylinder Information'!B1025","v":0},{"$f":"'Gas Cylinder Information'!E1025","v":0},{"$f":"'Gas Cylinder Information'!F1025","v":0},{"$f":"'Gas Cylinder Information'!G1025","v":0}]
[{"$f":"'Gas Cylinder Information'!A1026","v":0},{"$f":"'Gas Cylinder Information'!C1026","v":0},{"$f":"'Gas Cylinder Information'!D1026","v":0},{"$f":"'Gas Cylinder Information'!B1026","v":0},{"$f":"'Gas Cylinder Information'!E1026","v":0},{"$f":"'Gas Cylinder Information'!F1026","v":0},{"$f":"'Gas Cylinder Information'!G1026","v":0}]
[{"$f":"'Gas Cylinder Information'!A1027","v":0},{"$f":"'Gas Cylinder Information'!C1027","v":0},{"$f":"'Gas Cylinder Information'!D1027","v":0},{"$f":"'Gas Cylinder Information'!B1027","v":0},{"$f":"'Gas Cylinder Information'!E1027","v":0},{"$f":"'Gas Cylinder Information'!F1027","v":0},{"$f":"'Gas Cylinder Information'!G1027","v":0}]
[{"$f":"'Gas Cylinder Information'!A1028","v":0},{"$f":"'Gas Cylinder Information'!C1028","v":0},{"$f":"'Gas Cylinder Information'!D1028","v":0},{"$f":"'Gas Cylinder Information'!B1028","v":0},{"$f":"'Gas Cylinder Information'!E1028","v":0},{"$f":"'Gas Cylinder Information'!F1028","v":0},{"$f":"'Gas Cylinder Information'!G1028","v":0}]
[{"$f":"'Gas Cylinder Information'!A1029","v":0},{"$f":"'Gas Cylinder Information'!C1029","v":0},{"$f":"'Gas Cylinder Information'!D1029","v":0},{"$f":"'Gas Cylinder Information'!B1029","v":0},{"$f":"'Gas Cylinder Information'!E1029","v":0},{"$f":"'Gas Cylinder Information'!F1029","v":0},{"$f":"'Gas Cylinder Information'!G1029","v":0}]
[{"$f":"'Gas Cylinder Information'!A1030","v":0},{"$f":"'Gas Cylinder Information'!C1030","v":0},{"$f":"'Gas Cylinder Information'!D1030","v":0},{"$f":"'Gas Cylinder Information'!B1030","v":0},{"$f":"'Gas Cylinder Information'!E1030","v":0},{"$f":"'Gas Cylinder Information'!F1030","v":0},{"$f":"'Gas Cylinder Information'!G1030","v":0}]
[{"$f":"'Gas Cylinder Information'!A1031","v":0},{"$f":"'Gas Cylinder Information'!C1031","v":0},{"$f":"'Gas Cylinder Information'!D1031","v":0},{"$f":"'Gas Cylinder Information'!B1031","v":0},{"$f":"'Gas Cylinder Information'!E1031","v":0},{"$f":"'Gas Cylinder Information'!F1031","v":0},{"$f":"'Gas Cylinder Information'!G1031","v":0}]
[{"$f":"'Gas Cylinder Information'!A1032","v":0},{"$f":"'Gas Cylinder Information'!C1032","v":0},{"$f":"'Gas Cylinder Information'!D1032","v":0},{"$f":"'Gas Cylinder Information'!B1032","v":0},{"$f":"'Gas Cylinder Information'!E1032","v":0},{"$f":"'Gas Cylinder Information'!F1032","v":0},{"$f":"'Gas Cylinder Information'!G1032","v":0}]
[{"$f":"'Gas Cylinder Information'!A1033","v":0},{"$f":"'Gas Cylinder Information'!C1033","v":0},{"$f":"'Gas Cylinder Information'!D1033","v":0},{"$f":"'Gas Cylinder Information'!B1033","v":0},{"$f":"'Gas Cylinder Information'!E1033","v":0},{"$f":"'Gas Cylinder Information'!F1033","v":0},{"$f":"'Gas Cylinder Information'!G1033","v":0}]
[{"$f":"'Gas Cylinder Information'!A1034","v":0},{"$f":"'Gas Cylinder Information'!C1034","v":0},{"$f":"'Gas Cylinder Information'!D1034","v":0},{"$f":"'Gas Cylinder Information'!B1034","v":0},{"$f":"'Gas Cylinder Information'!E1034","v":0},{"$f":"'Gas Cylinder Information'!F1034","v":0},{"$f":"'Gas Cylinder Information'!G1034","v":0}]
[{"$f":"'Gas Cylinder Information'!A1035","v":0},{"$f":"'Gas Cylinder Information'!C1035","v":0},{"$f":"'Gas Cylinder Information'!D1035","v":0},{"$f":"'Gas Cylinder Information'!B1035","v":0},{"$f":"'Gas Cylinder Information'!E1035","v":0},{"$f":"'Gas Cylinder Information'!F1035","v":0},{"$f":"'Gas Cylinder Information'!G1035","v":0}]
[{"$f":"'Gas Cylinder Information'!A1036","v":0},{"$f":"'Gas Cylinder Information'!C1036","v":0},{"$f":"'Gas Cylinder Information'!D1036","v":0},{"$f":"'Gas Cylinder Information'!B1036","v":0},{"$f":"'Gas Cylinder Information'!E1036","v":0},{"$f":"'Gas Cylinder Information'!F1036","v":0},{"$f":"'Gas Cylinder Information'!G1036","v":0}]
[{"$f":"'Gas Cylinder Information'!A1037","v":0},{"$f":"'Gas Cylinder Information'!C1037","v":0},{"$f":"'Gas Cylinder Information'!D1037","v":0},{"$f":"'Gas Cylinder Information'!B1037","v":0},{"$f":"'Gas Cylinder Information'!E1037","v":0},{"$f":"'Gas Cylinder Information'!F1037","v":0},{"$f":"'Gas Cylinder Information'!G1037","v":0}]
[{"$f":"'Gas Cylinder Information'!A1038","v":0},{"$f":"'Gas Cylinder Information'!C1038","v":0},{"$f":"'Gas Cylinder Information'!D1038","v":0},{"$f":"'Gas Cylinder Information'!B1038","v":0},{"$f":"'Gas Cylinder Information'!E1038","v":0},{"$f":"'Gas Cylinder Information'!F1038","v":0},{"$f":"'Gas Cylinder Information'!G1038","v":0}]
[{"$f":"'Gas Cylinder Information'!A1039","v":0},{"$f":"'Gas Cylinder Information'!C1039","v":0},{"$f":"'Gas Cylinder Information'!D1039","v":0},{"$f":"'Gas Cylinder Information'!B1039","v":0},{"$f":"'Gas Cylinder Information'!E1039","v":0},{"$f":"'Gas Cylinder Information'!F1039","v":0},{"$f":"'Gas Cylinder Information'!G1039","v":0}]
[{"$f":"'Gas Cylinder Information'!A1040","v":0},{"$f":"'Gas Cylinder Information'!C1040","v":0},{"$f":"'Gas Cylinder Information'!D1040","v":0},{"$f":"'Gas Cylinder Information'!B1040","v":0},{"$f":"'Gas Cylinder Information'!E1040","v":0},{"$f":"'Gas Cylinder Information'!F1040","v":0},{"$f":"'Gas Cylinder Information'!G1040","v":0}]
[{"$f":"'Gas Cylinder Information'!A1041","v":0},{"$f":"'Gas Cylinder Information'!C1041","v":0},{"$f":"'Gas Cylinder Information'!D1041","v":0},{"$f":"'Gas Cylinder Information'!B1041","v":0},{"$f":"'Gas Cylinder Information'!E1041","v":0},{"$f":"'Gas Cylinder Information'!F1041","v":0},{"$f":"'Gas Cylinder Information'!G1041","v":0}]
[{"$f":"'Gas Cylinder Information'!A1042","v":0},{"$f":"'Gas Cylinder Information'!C1042","v":0},{"$f":"'Gas Cylinder Information'!D1042","v":0},{"$f":"'Gas Cylinder Information'!B1042","v":0},{"$f":"'Gas Cylinder Information'!E1042","v":0},{"$f":"'Gas Cylinder Information'!F1042","v":0},{"$f":"'Gas Cylinder Information'!G1042","v":0}]
[{"$f":"'Gas Cylinder Information'!A1043","v":0},{"$f":"'Gas Cylinder Information'!C1043","v":0},{"$f":"'Gas Cylinder Information'!D1043","v":0},{"$f":"'Gas Cylinder Information'!B1043","v":0},{"$f":"'Gas Cylinder Information'!E1043","v":0},{"$f":"'Gas Cylinder Information'!F1043","v":0},{"$f":"'Gas Cylinder Information'!G1043","v":0}]
[{"$f":"'Gas Cylinder Information'!A1044","v":0},{"$f":"'Gas Cylinder Information'!C1044","v":0},{"$f":"'Gas Cylinder Information'!D1044","v":0},{"$f":"'Gas Cylinder Information'!B1044","v":0},{"$f":"'Gas Cylinder Information'!E1044","v":0},{"$f":"'Gas Cylinder Information'!F1044","v":0},{"$f":"'Gas Cylinder Information'!G1044","v":0}]
[{"$f":"'Gas Cylinder Information'!A1045","v":0},{"$f":"'Gas Cylinder Information'!C1045","v":0},{"$f":"'Gas Cylinder Information'!D1045","v":0},{"$f":"'Gas Cylinder Information'!B1045","v":0},{"$f":"'Gas Cylinder Information'!E1045","v":0},{"$f":"'Gas Cylinder Information'!F1045","v":0},{"$f":"'Gas Cylinder Information'!G1045","v":0}]
[{"$f":"'Gas Cylinder Information'!A1046","v":0},{"$f":"'Gas Cylinder Information'!C1046","v":0},{"$f":"'Gas Cylinder Information'!D1046","v":0},{"$f":"'Gas Cylinder Information'!B1046","v":0},{"$f":"'Gas Cylinder Information'!E1046","v":0},{"$f":"'Gas Cylinder Information'!F1046","v":0},{"$f":"'Gas Cylinder Information'!G1046","v":0}]
[{"$f":"'Gas Cylinder Information'!A1047","v":0},{"$f":"'Gas Cylinder Information'!C1047","v":0},{"$f":"'Gas Cylinder Information'!D1047","v":0},{"$f":"'Gas Cylinder Information'!B1047","v":0},{"$f":"'Gas Cylinder Information'!E1047","v":0},{"$f":"'Gas Cylinder Information'!F1047","v":0},{"$f":"'Gas Cylinder Information'!G1047","v":0}]
[{"$f":"'Gas Cylinder Information'!A1048","v":0},{"$f":"'Gas Cylinder Information'!C1048","v":0},{"$f":"'Gas Cylinder Information'!D1048","v":0},{"$f":"'Gas Cylinder Information'!B1048","v":0},{"$f":"'Gas Cylinder Information'!E1048","v":0},{"$f":"'Gas Cylinder Information'!F1048","v":0},{"$f":"'Gas Cylinder Information'!G1048","v":0}]
[{"$f":"'Gas Cylinder Information'!A1049","v":0},{"$f":"'Gas Cylinder Information'!C1049","v":0},{"$f":"'Gas Cylinder Information'!D1049","v":0},{"$f":"'Gas Cylinder Information'!B1049","v":0},{"$f":"'Gas Cylinder Information'!E1049","v":0},{"$f":"'Gas Cylinder Information'!F1049","v":0},{"$f":"'Gas Cylinder Information'!G1049","v":0}]
[{"$f":"'Gas Cylinder Information'!A1050","v":0},{"$f":"'Gas Cylinder Information'!C1050","v":0},{"$f":"'Gas Cylinder Information'!D1050","v":0},{"$f":"'Gas Cylinder Information'!B1050","v":0},{"$f":"'Gas Cylinder Information'!E1050","v":0},{"$f":"'Gas Cylinder Information'!F1050","v":0},{"$f":"'Gas Cylinder Information'!G1050","v":0}]
[{"$f":"'Gas Cylinder Information'!A1051","v":0},{"$f":"'Gas Cylinder Information'!C1051","v":0},{"$f":"'Gas Cylinder Information'!D1051","v":0},{"$f":"'Gas Cylinder Information'!B1051","v":0},{"$f":"'Gas Cylinder Information'!E1051","v":0},{"$f":"'Gas Cylinder Information'!F1051","v":0},{"$f":"'Gas Cylinder Information'!G1051","v":0}]
[{"$f":"'Gas Cylinder Information'!A1052","v":0},{"$f":"'Gas Cylinder Information'!C1052","v":0},{"$f":"'Gas Cylinder Information'!D1052","v":0},{"$f":"'Gas Cylinder Information'!B1052","v":0},{"$f":"'Gas Cylinder Information'!E1052","v":0},{"$f":"'Gas Cylinder Information'!F1052","v":0},{"$f":"'Gas Cylinder Information'!G1052","v":0}]
[{"$f":"'Gas Cylinder Information'!A1053","v":0},{"$f":"'Gas Cylinder Information'!C1053","v":0},{"$f":"'Gas Cylinder Information'!D1053","v":0},{"$f":"'Gas Cylinder Information'!B1053","v":0},{"$f":"'Gas Cylinder Information'!E1053","v":0},{"$f":"'Gas Cylinder Information'!F1053","v":0},{"$f":"'Gas Cylinder Information'!G1053","v":0}]
[{"$f":"'Gas Cylinder Information'!A1054","v":0},{"$f":"'Gas Cylinder Information'!C1054","v":0},{"$f":"'Gas Cylinder Information'!D1054","v":0},{"$f":"'Gas Cylinder Information'!B1054","v":0},{"$f":"'Gas Cylinder Information'!E1054","v":0},{"$f":"'Gas Cylinder Information'!F1054","v":0},{"$f":"'Gas Cylinder Information'!G1054","v":0}]
[{"$f":"'Gas Cylinder Information'!A1055","v":0},{"$f":"'Gas Cylinder Information'!C1055","v":0},{"$f":"'Gas Cylinder Information'!D1055","v":0},{"$f":"'Gas Cylinder Information'!B1055","v":0},{"$f":"'Gas Cylinder Information'!E1055","v":0},{"$f":"'Gas Cylinder Information'!F1055","v":0},{"$f":"'Gas Cylinder Information'!G1055","v":0}]
[{"$f":"'Gas Cylinder Information'!A1056","v":0},{"$f":"'Gas Cylinder Information'!C1056","v":0},{"$f":"'Gas Cylinder Information'!D1056","v":0},{"$f":"'Gas Cylinder Information'!B1056","v":0},{"$f":"'Gas Cylinder Information'!E1056","v":0},{"$f":"'Gas Cylinder Information'!F1056","v":0},{"$f":"'Gas Cylinder Information'!G1056","v":0}]
[{"$f":"'Gas Cylinder Information'!A1057","v":0},{"$f":"'Gas Cylinder Information'!C1057","v":0},{"$f":"'Gas Cylinder Information'!D1057","v":0},{"$f":"'Gas Cylinder Information'!B1057","v":0},{"$f":"'Gas Cylinder Information'!E1057","v":0},{"$f":"'Gas Cylinder Information'!F1057","v":0},{"$f":"'Gas Cylinder Information'!G1057","v":0}]
[{"$f":"'Gas Cylinder Information'!A1058","v":0},{"$f":"'Gas Cylinder Information'!C1058","v":0},{"$f":"'Gas Cylinder Information'!D1058","v":0},{"$f":"'Gas Cylinder Information'!B1058","v":0},{"$f":"'Gas Cylinder Information'!E1058","v":0},{"$f":"'Gas Cylinder Information'!F1058","v":0},{"$f":"'Gas Cylinder Information'!G1058","v":0}]
[{"$f":"'Gas Cylinder Information'!A1059","v":0},{"$f":"'Gas Cylinder Information'!C1059","v":0},{"$f":"'Gas Cylinder Information'!D1059","v":0},{"$f":"'Gas Cylinder Information'!B1059","v":0},{"$f":"'Gas Cylinder Information'!E1059","v":0},{"$f":"'Gas Cylinder Information'!F1059","v":0},{"$f":"'Gas Cylinder Information'!G1059","v":0}]
[{"$f":"'Gas Cylinder Information'!A1060","v":0},{"$f":"'Gas Cylinder Information'!C1060","v":0},{"$f":"'Gas Cylinder Information'!D1060","v":0},{"$f":"'Gas Cylinder Information'!B1060","v":0},{"$f":"'Gas Cylinder Information'!E1060","v":0},{"$f":"'Gas Cylinder Information'!F1060","v":0},{"$f":"'Gas Cylinder Information'!G1060","v":0}]
[{"$f":"'Gas Cylinder Information'!A1061","v":0},{"$f":"'Gas Cylinder Information'!C1061","v":0},{"$f":"'Gas Cylinder Information'!D1061","v":0},{"$f":"'Gas Cylinder Information'!B1061","v":0},{"$f":"'Gas Cylinder Information'!E1061","v":0},{"$f":"'Gas Cylinder Information'!F1061","v":0},{"$f":"'Gas Cylinder Information'!G1061","v":0}]
[{"$f":"'Gas Cylinder Information'!A1062","v":0},{"$f":"'Gas Cylinder Information'!C1062","v":0},{"$f":"'Gas Cylinder Information'!D1062","v":0},{"$f":"'Gas Cylinder Information'!B1062","v":0},{"$f":"'Gas Cylinder Information'!E1062","v":0},{"$f":"'Gas Cylinder Information'!F1062","v":0},{"$f":"'Gas Cylinder Information'!G1062","v":0}]
[{"$f":"'Gas Cylinder Information'!A1063","v":0},{"$f":"'Gas Cylinder Information'!C1063","v":0},{"$f":"'Gas Cylinder Information'!D1063","v":0},{"$f":"'Gas Cylinder Information'!B1063","v":0},{"$f":"'Gas Cylinder Information'!E1063","v":0},{"$f":"'Gas Cylinder Information'!F1063","v":0},{"$f":"'Gas Cylinder Information'!G1063","v":0}]
[{"$f":"'Gas Cylinder Information'!A1064","v":0},{"$f":"'Gas Cylinder Information'!C1064","v":0},{"$f":"'Gas Cylinder Information'!D1064","v":0},{"$f":"'Gas Cylinder Information'!B1064","v":0},{"$f":"'Gas Cylinder Information'!E1064","v":0},{"$f":"'Gas Cylinder Information'!F1064","v":0},{"$f":"'Gas Cylinder Information'!G1064","v":0}]
[{"$f":"'Gas Cylinder Information'!A1065","v":0},{"$f":"'Gas Cylinder Information'!C1065","v":0},{"$f":"'Gas Cylinder Information'!D1065","v":0},{"$f":"'Gas Cylinder Information'!B1065","v":0},{"$f":"'Gas Cylinder Information'!E1065","v":0},{"$f":"'Gas Cylinder Information'!F1065","v":0},{"$f":"'Gas Cylinder Information'!G1065","v":0}]
[{"$f":"'Gas Cylinder Information'!A1066","v":0},{"$f":"'Gas Cylinder Information'!C1066","v":0},{"$f":"'Gas Cylinder Information'!D1066","v":0},{"$f":"'Gas Cylinder Information'!B1066","v":0},{"$f":"'Gas Cylinder Information'!E1066","v":0},{"$f":"'Gas Cylinder Information'!F1066","v":0},{"$f":"'Gas Cylinder Information'!G1066","v":0}]
[{"$f":"'Gas Cylinder Information'!A1067","v":0},{"$f":"'Gas Cylinder Information'!C1067","v":0},{"$f":"'Gas Cylinder Information'!D1067","v":0},{"$f":"'Gas Cylinder Information'!B1067","v":0},{"$f":"'Gas Cylinder Information'!E1067","v":0},{"$f":"'Gas Cylinder Information'!F1067","v":0},{"$f":"'Gas Cylinder Information'!G1067","v":0}]
[{"$f":"'Gas Cylinder Information'!A1068","v":0},{"$f":"'Gas Cylinder Information'!C1068","v":0},{"$f":"'Gas Cylinder Information'!D1068","v":0},{"$f":"'Gas Cylinder Information'!B1068","v":0},{"$f":"'Gas Cylinder Information'!E1068","v":0},{"$f":"'Gas Cylinder Information'!F1068","v":0},{"$f":"'Gas Cylinder Information'!G1068","v":0}]
[{"$f":"'Gas Cylinder Information'!A1069","v":0},{"$f":"'Gas Cylinder Information'!C1069","v":0},{"$f":"'Gas Cylinder Information'!D1069","v":0},{"$f":"'Gas Cylinder Information'!B1069","v":0},{"$f":"'Gas Cylinder Information'!E1069","v":0},{"$f":"'Gas Cylinder Information'!F1069","v":0},{"$f":"'Gas Cylinder Information'!G1069","v":0}]
[{"$f":"'Gas Cylinder Information'!A1070","v":0},{"$f":"'Gas Cylinder Information'!C1070","v":0},{"$f":"'Gas Cylinder Information'!D1070","v":0},{"$f":"'Gas Cylinder Information'!B1070","v":0},{"$f":"'Gas Cylinder Information'!E1070","v":0},{"$f":"'Gas Cylinder Information'!F1070","v":0},{"$f":"'Gas Cylinder Information'!G1070","v":0}]
[{"$f":"'Gas Cylinder Information'!A1071","v":0},{"$f":"'Gas Cylinder Information'!C1071","v":0},{"$f":"'Gas Cylinder Information'!D1071","v":0},{"$f":"'Gas Cylinder Information'!B1071","v":0},{"$f":"'Gas Cylinder Information'!E1071","v":0},{"$f":"'Gas Cylinder Information'!F1071","v":0},{"$f":"'Gas Cylinder Information'!G1071","v":0}]
[{"$f":"'Gas Cylinder Information'!A1072","v":0},{"$f":"'Gas Cylinder Information'!C1072","v":0},{"$f":"'Gas Cylinder Information'!D1072","v":0},{"$f":"'Gas Cylinder Information'!B1072","v":0},{"$f":"'Gas Cylinder Information'!E1072","v":0},{"$f":"'Gas Cylinder Information'!F1072","v":0},{"$f":"'Gas Cylinder Information'!G1072","v":0}]
[{"$f":"'Gas Cylinder Information'!A1073","v":0},{"$f":"'Gas Cylinder Information'!C1073","v":0},{"$f":"'Gas Cylinder Information'!D1073","v":0},{"$f":"'Gas Cylinder Information'!B1073","v":0},{"$f":"'Gas Cylinder Information'!E1073","v":0},{"$f":"'Gas Cylinder Information'!F1073","v":0},{"$f":"'Gas Cylinder Information'!G1073","v":0}]
[{"$f":"'Gas Cylinder Information'!A1074","v":0},{"$f":"'Gas Cylinder Information'!C1074","v":0},{"$f":"'Gas Cylinder Information'!D1074","v":0},{"$f":"'Gas Cylinder Information'!B1074","v":0},{"$f":"'Gas Cylinder Information'!E1074","v":0},{"$f":"'Gas Cylinder Information'!F1074","v":0},{"$f":"'Gas Cylinder Information'!G1074","v":0}]
[{"$f":"'Gas Cylinder Information'!A1075","v":0},{"$f":"'Gas Cylinder Information'!C1075","v":0},{"$f":"'Gas Cylinder Information'!D1075","v":0},{"$f":"'Gas Cylinder Information'!B1075","v":0},{"$f":"'Gas Cylinder Information'!E1075","v":0},{"$f":"'Gas Cylinder Information'!F1075","v":0},{"$f":"'Gas Cylinder Information'!G1075","v":0}]
[{"$f":"'Gas Cylinder Information'!A1076","v":0},{"$f":"'Gas Cylinder Information'!C1076","v":0},{"$f":"'Gas Cylinder Information'!D1076","v":0},{"$f":"'Gas Cylinder Information'!B1076","v":0},{"$f":"'Gas Cylinder Information'!E1076","v":0},{"$f":"'Gas Cylinder Information'!F1076","v":0},{"$f":"'Gas Cylinder Information'!G1076","v":0}]
[{"$f":"'Gas Cylinder Information'!A1077","v":0},{"$f":"'Gas Cylinder Information'!C1077","v":0},{"$f":"'Gas Cylinder Information'!D1077","v":0},{"$f":"'Gas Cylinder Information'!B1077","v":0},{"$f":"'Gas Cylinder Information'!E1077","v":0},{"$f":"'Gas Cylinder Information'!F1077","v":0},{"$f":"'Gas Cylinder Information'!G1077","v":0}]
[{"$f":"'Gas Cylinder Information'!A1078","v":0},{"$f":"'Gas Cylinder Information'!C1078","v":0},{"$f":"'Gas Cylinder Information'!D1078","v":0},{"$f":"'Gas Cylinder Information'!B1078","v":0},{"$f":"'Gas Cylinder Information'!E1078","v":0},{"$f":"'Gas Cylinder Information'!F1078","v":0},{"$f":"'Gas Cylinder Information'!G1078","v":0}]
[{"$f":"'Gas Cylinder Information'!A1079","v":0},{"$f":"'Gas Cylinder Information'!C1079","v":0},{"$f":"'Gas Cylinder Information'!D1079","v":0},{"$f":"'Gas Cylinder Information'!B1079","v":0},{"$f":"'Gas Cylinder Information'!E1079","v":0},{"$f":"'Gas Cylinder Information'!F1079","v":0},{"$f":"'Gas Cylinder Information'!G1079","v":0}]
[{"$f":"'Gas Cylinder Information'!A1080","v":0},{"$f":"'Gas Cylinder Information'!C1080","v":0},{"$f":"'Gas Cylinder Information'!D1080","v":0},{"$f":"'Gas Cylinder Information'!B1080","v":0},{"$f":"'Gas Cylinder Information'!E1080","v":0},{"$f":"'Gas Cylinder Information'!F1080","v":0},{"$f":"'Gas Cylinder Information'!G1080","v":0}]
[{"$f":"'Gas Cylinder Information'!A1081","v":0},{"$f":"'Gas Cylinder Information'!C1081","v":0},{"$f":"'Gas Cylinder Information'!D1081","v":0},{"$f":"'Gas Cylinder Information'!B1081","v":0},{"$f":"'Gas Cylinder Information'!E1081","v":0},{"$f":"'Gas Cylinder Information'!F1081","v":0},{"$f":"'Gas Cylinder Information'!G1081","v":0}]
[{"$f":"'Gas Cylinder Information'!A1082","v":0},{"$f":"'Gas Cylinder Information'!C1082","v":0},{"$f":"'Gas Cylinder Information'!D1082","v":0},{"$f":"'Gas Cylinder Information'!B1082","v":0},{"$f":"'Gas Cylinder Information'!E1082","v":0},{"$f":"'Gas Cylinder Information'!F1082","v":0},{"$f":"'Gas Cylinder Information'!G1082","v":0}]
[{"$f":"'Gas Cylinder Information'!A1083","v":0},{"$f":"'Gas Cylinder Information'!C1083","v":0},{"$f":"'Gas Cylinder Information'!D1083","v":0},{"$f":"'Gas Cylinder Information'!B1083","v":0},{"$f":"'Gas Cylinder Information'!E1083","v":0},{"$f":"'Gas Cylinder Information'!F1083","v":0},{"$f":"'Gas Cylinder Information'!G1083","v":0}]
[{"$f":"'Gas Cylinder Information'!A1084","v":0},{"$f":"'Gas Cylinder Information'!C1084","v":0},{"$f":"'Gas Cylinder Information'!D1084","v":0},{"$f":"'Gas Cylinder Information'!B1084","v":0},{"$f":"'Gas Cylinder Information'!E1084","v":0},{"$f":"'Gas Cylinder Information'!F1084","v":0},{"$f":"'Gas Cylinder Information'!G1084","v":0}]
[{"$f":"'Gas Cylinder Information'!A1085","v":0},{"$f":"'Gas Cylinder Information'!C1085","v":0},{"$f":"'Gas Cylinder Information'!D1085","v":0},{"$f":"'Gas Cylinder Information'!B1085","v":0},{"$f":"'Gas Cylinder Information'!E1085","v":0},{"$f":"'Gas Cylinder Information'!F1085","v":0},{"$f":"'Gas Cylinder Information'!G1085","v":0}]
[{"$f":"'Gas Cylinder Information'!A1086","v":0},{"$f":"'Gas Cylinder Information'!C1086","v":0},{"$f":"'Gas Cylinder Information'!D1086","v":0},{"$f":"'Gas Cylinder Information'!B1086","v":0},{"$f":"'Gas Cylinder Information'!E1086","v":0},{"$f":"'Gas Cylinder Information'!F1086","v":0},{"$f":"'Gas Cylinder Information'!G1086","v":0}]
[{"$f":"'Gas Cylinder Information'!A1087","v":0},{"$f":"'Gas Cylinder Information'!C1087","v":0},{"$f":"'Gas Cylinder Information'!D1087","v":0},{"$f":"'Gas Cylinder Information'!B1087","v":0},{"$f":"'Gas Cylinder Information'!E1087","v":0},{"$f":"'Gas Cylinder Information'!F1087","v":0},{"$f":"'Gas Cylinder Information'!G1087","v":0}]
[{"$f":"'Gas Cylinder Information'!A1088","v":0},{"$f":"'Gas Cylinder Information'!C1088","v":0},{"$f":"'Gas Cylinder Information'!D1088","v":0},{"$f":"'Gas Cylinder Information'!B1088","v":0},{"$f":"'Gas Cylinder Information'!E1088","v":0},{"$f":"'Gas Cylinder Information'!F1088","v":0},{"$f":"'Gas Cylinder Information'!G1088","v":0}]
[{"$f":"'Gas Cylinder Information'!A1089","v":0},{"$f":"'Gas Cylinder Information'!C1089","v":0},{"$f":"'Gas Cylinder Information'!D1089","v":0},{"$f":"'Gas Cylinder Information'!B1089","v":0},{"$f":"'Gas Cylinder Information'!E1089","v":0},{"$f":"'Gas Cylinder Information'!F1089","v":0},{"$f":"'Gas Cylinder Information'!G1089","v":0}]
[{"$f":"'Gas Cylinder Information'!A1090","v":0},{"$f":"'Gas Cylinder Information'!C1090","v":0},{"$f":"'Gas Cylinder Information'!D1090","v":0},{"$f":"'Gas Cylinder Information'!B1090","v":0},{"$f":"'Gas Cylinder Information'!E1090","v":0},{"$f":"'Gas Cylinder Information'!F1090","v":0},{"$f":"'Gas Cylinder Information'!G1090","v":0}]
[{"$f":"'Gas Cylinder Information'!A1091","v":0},{"$f":"'Gas Cylinder Information'!C1091","v":0},{"$f":"'Gas Cylinder Information'!D1091","v":0},{"$f":"'Gas Cylinder Information'!B1091","v":0},{"$f":"'Gas Cylinder Information'!E1091","v":0},{"$f":"'Gas Cylinder Information'!F1091","v":0},{"$f":"'Gas Cylinder Information'!G1091","v":0}]
[{"$f":"'Gas Cylinder Information'!A1092","v":0},{"$f":"'Gas Cylinder Information'!C1092","v":0},{"$f":"'Gas Cylinder Information'!D1092","v":0},{"$f":"'Gas Cylinder Information'!B1092","v":0},{"$f":"'Gas Cylinder Information'!E1092","v":0},{"$f":"'Gas Cylinder Information'!F1092","v":0},{"$f":"'Gas Cylinder Information'!G1092","v":0}]
[{"$f":"'Gas Cylinder Information'!A1093","v":0},{"$f":"'Gas Cylinder Information'!C1093","v":0},{"$f":"'Gas Cylinder Information'!D1093","v":0},{"$f":"'Gas Cylinder Information'!B1093","v":0},{"$f":"'Gas Cylinder Information'!E1093","v":0},{"$f":"'Gas Cylinder Information'!F1093","v":0},{"$f":"'Gas Cylinder Information'!G1093","v":0}]
[{"$f":"'Gas Cylinder Information'!A1094","v":0},{"$f":"'Gas Cylinder Information'!C1094","v":0},{"$f":"'Gas Cylinder Information'!D1094","v":0},{"$f":"'Gas Cylinder Information'!B1094","v":0},{"$f":"'Gas Cylinder Information'!E1094","v":0},{"$f":"'Gas Cylinder Information'!F1094","v":0},{"$f":"'Gas Cylinder Information'!G1094","v":0}]
[{"$f":"'Gas Cylinder Information'!A1095","v":0},{"$f":"'Gas Cylinder Information'!C1095","v":0},{"$f":"'Gas Cylinder Information'!D1095","v":0},{"$f":"'Gas Cylinder Information'!B1095","v":0},{"$f":"'Gas Cylinder Information'!E1095","v":0},{"$f":"'Gas Cylinder Information'!F1095","v":0},{"$f":"'Gas Cylinder Information'!G1095","v":0}]
[{"$f":"'Gas Cylinder Information'!A1096","v":0},{"$f":"'Gas Cylinder Information'!C1096","v":0},{"$f":"'Gas Cylinder Information'!D1096","v":0},{"$f":"'Gas Cylinder Information'!B1096","v":0},{"$f":"'Gas Cylinder Information'!E1096","v":0},{"$f":"'Gas Cylinder Information'!F1096","v":0},{"$f":"'Gas Cylinder Information'!G1096","v":0}]
[{"$f":"'Gas Cylinder Information'!A1097","v":0},{"$f":"'Gas Cylinder Information'!C1097","v":0},{"$f":"'Gas Cylinder Information'!D1097","v":0},{"$f":"'Gas Cylinder Information'!B1097","v":0},{"$f":"'Gas Cylinder Information'!E1097","v":0},{"$f":"'Gas Cylinder Information'!F1097","v":0},{"$f":"'Gas Cylinder Information'!G1097","v":0}]
[{"$f":"'Gas Cylinder Information'!A1098","v":0},{"$f":"'Gas Cylinder Information'!C1098","v":0},{"$f":"'Gas Cylinder Information'!D1098","v":0},{"$f":"'Gas Cylinder Information'!B1098","v":0},{"$f":"'Gas Cylinder Information'!E1098","v":0},{"$f":"'Gas Cylinder Information'!F1098","v":0},{"$f":"'Gas Cylinder Information'!G1098","v":0}]
[{"$f":"'Gas Cylinder Information'!A1099","v":0},{"$f":"'Gas Cylinder Information'!C1099","v":0},{"$f":"'Gas Cylinder Information'!D1099","v":0},{"$f":"'Gas Cylinder Information'!B1099","v":0},{"$f":"'Gas Cylinder Information'!E1099","v":0},{"$f":"'Gas Cylinder Information'!F1099","v":0},{"$f":"'Gas Cylinder Information'!G1099","v":0}]
[{"$f":"'Gas Cylinder Information'!A1100","v":0},{"$f":"'Gas Cylinder Information'!C1100","v":0},{"$f":"'Gas Cylinder Information'!D1100","v":0},{"$f":"'Gas Cylinder Information'!B1100","v":0},{"$f":"'Gas Cylinder Information'!E1100","v":0},{"$f":"'Gas Cylinder Information'!F1100","v":0},{"$f":"'Gas Cylinder Information'!G1100","v":0}]
[{"$f":"'Gas Cylinder Information'!A1101","v":0},{"$f":"'Gas Cylinder Information'!C1101","v":0},{"$f":"'Gas Cylinder Information'!D1101","v":0},{"$f":"'Gas Cylinder Information'!B1101","v":0},{"$f":"'Gas Cylinder Information'!E1101","v":0},{"$f":"'Gas Cylinder Information'!F1101","v":0},{"$f":"'Gas Cylinder Information'!G1101","v":0}]
[{"$f":"'Gas Cylinder Information'!A1102","v":0},{"$f":"'Gas Cylinder Information'!C1102","v":0},{"$f":"'Gas Cylinder Information'!D1102","v":0},{"$f":"'Gas Cylinder Information'!B1102","v":0},{"$f":"'Gas Cylinder Information'!E1102","v":0},{"$f":"'Gas Cylinder Information'!F1102","v":0},{"$f":"'Gas Cylinder Information'!G1102","v":0}]
[{"$f":"'Gas Cylinder Information'!A1103","v":0},{"$f":"'Gas Cylinder Information'!C1103","v":0},{"$f":"'Gas Cylinder Information'!D1103","v":0},{"$f":"'Gas Cylinder Information'!B1103","v":0},{"$f":"'Gas Cylinder Information'!E1103","v":0},{"$f":"'Gas Cylinder Information'!F1103","v":0},{"$f":"'Gas Cylinder Information'!G1103","v":0}]
[{"$f":"'Gas Cylinder Information'!A1104","v":0},{"$f":"'Gas Cylinder Information'!C1104","v":0},{"$f":"'Gas Cylinder Information'!D1104","v":0},{"$f":"'Gas Cylinder Information'!B1104","v":0},{"$f":"'Gas Cylinder Information'!E1104","v":0},{"$f":"'Gas Cylinder Information'!F1104","v":0},{"$f":"'Gas Cylinder Information'!G1104","v":0}]
[{"$f":"'Gas Cylinder Information'!A1105","v":0},{"$f":"'Gas Cylinder Information'!C1105","v":0},{"$f":"'Gas Cylinder Information'!D1105","v":0},{"$f":"'Gas Cylinder Information'!B1105","v":0},{"$f":"'Gas Cylinder Information'!E1105","v":0},{"$f":"'Gas Cylinder Information'!F1105","v":0},{"$f":"'Gas Cylinder Information'!G1105","v":0}]
[{"$f":"'Gas Cylinder Information'!A1106","v":0},{"$f":"'Gas Cylinder Information'!C1106","v":0},{"$f":"'Gas Cylinder Information'!D1106","v":0},{"$f":"'Gas Cylinder Information'!B1106","v":0},{"$f":"'Gas Cylinder Information'!E1106","v":0},{"$f":"'Gas Cylinder Information'!F1106","v":0},{"$f":"'Gas Cylinder Information'!G1106","v":0}]
[{"$f":"'Gas Cylinder Information'!A1107","v":0},{"$f":"'Gas Cylinder Information'!C1107","v":0},{"$f":"'Gas Cylinder Information'!D1107","v":0},{"$f":"'Gas Cylinder Information'!B1107","v":0},{"$f":"'Gas Cylinder Information'!E1107","v":0},{"$f":"'Gas Cylinder Information'!F1107","v":0},{"$f":"'Gas Cylinder Information'!G1107","v":0}]
[{"$f":"'Gas Cylinder Information'!A1108","v":0},{"$f":"'Gas Cylinder Information'!C1108","v":0},{"$f":"'Gas Cylinder Information'!D1108","v":0},{"$f":"'Gas Cylinder Information'!B1108","v":0},{"$f":"'Gas Cylinder Information'!E1108","v":0},{"$f":"'Gas Cylinder Information'!F1108","v":0},{"$f":"'Gas Cylinder Information'!G1108","v":0}]
[{"$f":"'Gas Cylinder Information'!A1109","v":0},{"$f":"'Gas Cylinder Information'!C1109","v":0},{"$f":"'Gas Cylinder Information'!D1109","v":0},{"$f":"'Gas Cylinder Information'!B1109","v":0},{"$f":"'Gas Cylinder Information'!E1109","v":0},{"$f":"'Gas Cylinder Information'!F1109","v":0},{"$f":"'Gas Cylinder Information'!G1109","v":0}]
[{"$f":"'Gas Cylinder Information'!A1110","v":0},{"$f":"'Gas Cylinder Information'!C1110","v":0},{"$f":"'Gas Cylinder Information'!D1110","v":0},{"$f":"'Gas Cylinder Information'!B1110","v":0},{"$f":"'Gas Cylinder Information'!E1110","v":0},{"$f":"'Gas Cylinder Information'!F1110","v":0},{"$f":"'Gas Cylinder Information'!G1110","v":0}]
[{"$f":"'Gas Cylinder Information'!A1111","v":0},{"$f":"'Gas Cylinder Information'!C1111","v":0},{"$f":"'Gas Cylinder Information'!D1111","v":0},{"$f":"'Gas Cylinder Information'!B1111","v":0},{"$f":"'Gas Cylinder Information'!E1111","v":0},{"$f":"'Gas Cylinder Information'!F1111","v":0},{"$f":"'Gas Cylinder Information'!G1111","v":0}]
[{"$f":"'Gas Cylinder Information'!A1112","v":0},{"$f":"'Gas Cylinder Information'!C1112","v":0},{"$f":"'Gas Cylinder Information'!D1112","v":0},{"$f":"'Gas Cylinder Information'!B1112","v":0},{"$f":"'Gas Cylinder Information'!E1112","v":0},{"$f":"'Gas Cylinder Information'!F1112","v":0},{"$f":"'Gas Cylinder Information'!G1112","v":0}]
[{"$f":"'Gas Cylinder Information'!A1113","v":0},{"$f":"'Gas Cylinder Information'!C1113","v":0},{"$f":"'Gas Cylinder Information'!D1113","v":0},{"$f":"'Gas Cylinder Information'!B1113","v":0},{"$f":"'Gas Cylinder Information'!E1113","v":0},{"$f":"'Gas Cylinder Information'!F1113","v":0},{"$f":"'Gas Cylinder Information'!G1113","v":0}]
[{"$f":"'Gas Cylinder Information'!A1114","v":0},{"$f":"'Gas Cylinder Information'!C1114","v":0},{"$f":"'Gas Cylinder Information'!D1114","v":0},{"$f":"'Gas Cylinder Information'!B1114","v":0},{"$f":"'Gas Cylinder Information'!E1114","v":0},{"$f":"'Gas Cylinder Information'!F1114","v":0},{"$f":"'Gas Cylinder Information'!G1114","v":0}]
[{"$f":"'Gas Cylinder Information'!A1115","v":0},{"$f":"'Gas Cylinder Information'!C1115","v":0},{"$f":"'Gas Cylinder Information'!D1115","v":0},{"$f":"'Gas Cylinder Information'!B1115","v":0},{"$f":"'Gas Cylinder Information'!E1115","v":0},{"$f":"'Gas Cylinder Information'!F1115","v":0},{"$f":"'Gas Cylinder Information'!G1115","v":0}]
[{"$f":"'Gas Cylinder Information'!A1116","v":0},{"$f":"'Gas Cylinder Information'!C1116","v":0},{"$f":"'Gas Cylinder Information'!D1116","v":0},{"$f":"'Gas Cylinder Information'!B1116","v":0},{"$f":"'Gas Cylinder Information'!E1116","v":0},{"$f":"'Gas Cylinder Information'!F1116","v":0},{"$f":"'Gas Cylinder Information'!G1116","v":0}]
[{"$f":"'Gas Cylinder Information'!A1117","v":0},{"$f":"'Gas Cylinder Information'!C1117","v":0},{"$f":"'Gas Cylinder Information'!D1117","v":0},{"$f":"'Gas Cylinder Information'!B1117","v":0},{"$f":"'Gas Cylinder Information'!E1117","v":0},{"$f":"'Gas Cylinder Information'!F1117","v":0},{"$f":"'Gas Cylinder Information'!G1117","v":0}]
[{"$f":"'Gas Cylinder Information'!A1118","v":0},{"$f":"'Gas Cylinder Information'!C1118","v":0},{"$f":"'Gas Cylinder Information'!D1118","v":0},{"$f":"'Gas Cylinder Information'!B1118","v":0},{"$f":"'Gas Cylinder Information'!E1118","v":0},{"$f":"'Gas Cylinder Information'!F1118","v":0},{"$f":"'Gas Cylinder Information'!G1118","v":0}]
[{"$f":"'Gas Cylinder Information'!A1119","v":0},{"$f":"'Gas Cylinder Information'!C1119","v":0},{"$f":"'Gas Cylinder Information'!D1119","v":0},{"$f":"'Gas Cylinder Information'!B1119","v":0},{"$f":"'Gas Cylinder Information'!E1119","v":0},{"$f":"'Gas Cylinder Information'!F1119","v":0},{"$f":"'Gas Cylinder Information'!G1119","v":0}]
[{"$f":"'Gas Cylinder Information'!A1120","v":0},{"$f":"'Gas Cylinder Information'!C1120","v":0},{"$f":"'Gas Cylinder Information'!D1120","v":0},{"$f":"'Gas Cylinder Information'!B1120","v":0},{"$f":"'Gas Cylinder Information'!E1120","v":0},{"$f":"'Gas Cylinder Information'!F1120","v":0},{"$f":"'Gas Cylinder Information'!G1120","v":0}]
[{"$f":"'Gas Cylinder Information'!A1121","v":0},{"$f":"'Gas Cylinder Information'!C1121","v":0},{"$f":"'Gas Cylinder Information'!D1121","v":0},{"$f":"'Gas Cylinder Information'!B1121","v":0},{"$f":"'Gas Cylinder Information'!E1121","v":0},{"$f":"'Gas Cylinder Information'!F1121","v":0},{"$f":"'Gas Cylinder Information'!G1121","v":0}]
[{"$f":"'Gas Cylinder Information'!A1122","v":0},{"$f":"'Gas Cylinder Information'!C1122","v":0},{"$f":"'Gas Cylinder Information'!D1122","v":0},{"$f":"'Gas Cylinder Information'!B1122","v":0},{"$f":"'Gas Cylinder Information'!E1122","v":0},{"$f":"'Gas Cylinder Information'!F1122","v":0},{"$f":"'Gas Cylinder Information'!G1122","v":0}]
[{"$f":"'Gas Cylinder Information'!A1123","v":0},{"$f":"'Gas Cylinder Information'!C1123","v":0},{"$f":"'Gas Cylinder Information'!D1123","v":0},{"$f":"'Gas Cylinder Information'!B1123","v":0},{"$f":"'Gas Cylinder Information'!E1123","v":0},{"$f":"'Gas Cylinder Information'!F1123","v":0},{"$f":"'Gas Cylinder Information'!G1123","v":0}]
[{"$f":"'Gas Cylinder Information'!A1124","v":0},{"$f":"'Gas Cylinder Information'!C1124","v":0},{"$f":"'Gas Cylinder Information'!D1124","v":0},{"$f":"'Gas Cylinder Information'!B1124","v":0},{"$f":"'Gas Cylinder Information'!E1124","v":0},{"$f":"'Gas Cylinder Information'!F1124","v":0},{"$f":"'Gas Cylinder Information'!G1124","v":0}]
[{"$f":"'Gas Cylinder Information'!A1125","v":0},{"$f":"'Gas Cylinder Information'!C1125","v":0},{"$f":"'Gas Cylinder Information'!D1125","v":0},{"$f":"'Gas Cylinder Information'!B1125","v":0},{"$f":"'Gas Cylinder Information'!E1125","v":0},{"$f":"'Gas Cylinder Information'!F1125","v":0},{"$f":"'Gas Cylinder Information'!G1125","v":0}]
[{"$f":"'Gas Cylinder Information'!A1126","v":0},{"$f":"'Gas Cylinder Information'!C1126","v":0},{"$f":"'Gas Cylinder Information'!D1126","v":0},{"$f":"'Gas Cylinder Information'!B1126","v":0},{"$f":"'Gas Cylinder Information'!E1126","v":0},{"$f":"'Gas Cylinder Information'!F1126","v":0},{"$f":"'Gas Cylinder Information'!G1126","v":0}]
[{"$f":"'Gas Cylinder Information'!A1127","v":0},{"$f":"'Gas Cylinder Information'!C1127","v":0},{"$f":"'Gas Cylinder Information'!D1127","v":0},{"$f":"'Gas Cylinder Information'!B1127","v":0},{"$f":"'Gas Cylinder Information'!E1127","v":0},{"$f":"'Gas Cylinder Information'!F1127","v":0},{"$f":"'Gas Cylinder Information'!G1127","v":0}]
[{"$f":"'Gas Cylinder Information'!A1128","v":0},{"$f":"'Gas Cylinder Information'!C1128","v":0},{"$f":"'Gas Cylinder Information'!D1128","v":0},{"$f":"'Gas Cylinder Information'!B1128","v":0},{"$f":"'Gas Cylinder Information'!E1128","v":0},{"$f":"'Gas Cylinder Information'!F1128","v":0},{"$f":"'Gas Cylinder Information'!G1128","v":0}]
[{"$f":"'Gas Cylinder Information'!A1129","v":0},{"$f":"'Gas Cylinder Information'!C1129","v":0},{"$f":"'Gas Cylinder Information'!D1129","v":0},{"$f":"'Gas Cylinder Information'!B1129","v":0},{"$f":"'Gas Cylinder Information'!E1129","v":0},{"$f":"'Gas Cylinder Information'!F1129","v":0},{"$f":"'Gas Cylinder Information'!G1129","v":0}]
[{"$f":"'Gas Cylinder Information'!A1130","v":0},{"$f":"'Gas Cylinder Information'!C1130","v":0},{"$f":"'Gas Cylinder Information'!D1130","v":0},{"$f":"'Gas Cylinder Information'!B1130","v":0},{"$f":"'Gas Cylinder Information'!E1130","v":0},{"$f":"'Gas Cylinder Information'!F1130","v":0},{"$f":"'Gas Cylinder Information'!G1130","v":0}]
[{"$f":"'Gas Cylinder Information'!A1131","v":0},{"$f":"'Gas Cylinder Information'!C1131","v":0},{"$f":"'Gas Cylinder Information'!D1131","v":0},{"$f":"'Gas Cylinder Information'!B1131","v":0},{"$f":"'Gas Cylinder Information'!E1131","v":0},{"$f":"'Gas Cylinder Information'!F1131","v":0},{"$f":"'Gas Cylinder Information'!G1131","v":0}]
[{"$f":"'Gas Cylinder Information'!A1132","v":0},{"$f":"'Gas Cylinder Information'!C1132","v":0},{"$f":"'Gas Cylinder Information'!D1132","v":0},{"$f":"'Gas Cylinder Information'!B1132","v":0},{"$f":"'Gas Cylinder Information'!E1132","v":0},{"$f":"'Gas Cylinder Information'!F1132","v":0},{"$f":"'Gas Cylinder Information'!G1132","v":0}]
[{"$f":"'Gas Cylinder Information'!A1133","v":0},{"$f":"'Gas Cylinder Information'!C1133","v":0},{"$f":"'Gas Cylinder Information'!D1133","v":0},{"$f":"'Gas Cylinder Information'!B1133","v":0},{"$f":"'Gas Cylinder Information'!E1133","v":0},{"$f":"'Gas Cylinder Information'!F1133","v":0},{"$f":"'Gas Cylinder Information'!G1133","v":0}]
[{"$f":"'Gas Cylinder Information'!A1134","v":0},{"$f":"'Gas Cylinder Information'!C1134","v":0},{"$f":"'Gas Cylinder Information'!D1134","v":0},{"$f":"'Gas Cylinder Information'!B1134","v":0},{"$f":"'Gas Cylinder Information'!E1134","v":0},{"$f":"'Gas Cylinder Information'!F1134","v":0},{"$f":"'Gas Cylinder Information'!G1134","v":0}]
[{"$f":"'Gas Cylinder Information'!A1135","v":0},{"$f":"'Gas Cylinder Information'!C1135","v":0},{"$f":"'Gas Cylinder Information'!D1135","v":0},{"$f":"'Gas Cylinder Information'!B1135","v":0},{"$f":"'Gas Cylinder Information'!E1135","v":0},{"$f":"'Gas Cylinder Information'!F1135","v":0},{"$f":"'Gas Cylinder Information'!G1135","v":0}]
[{"$f":"'Gas Cylinder Information'!A1136","v":0},{"$f":"'Gas Cylinder Information'!C1136","v":0},{"$f":"'Gas Cylinder Information'!D1136","v":0},{"$f":"'Gas Cylinder Information'!B1136","v":0},{"$f":"'Gas Cylinder Information'!E1136","v":0},{"$f":"'Gas Cylinder Information'!F1136","v":0},{"$f":"'Gas Cylinder Information'!G1136","v":0}]
[{"$f":"'Gas Cylinder Information'!A1137","v":0},{"$f":"'Gas Cylinder Information'!C1137","v":0},{"$f":"'Gas Cylinder Information'!D1137","v":0},{"$f":"'Gas Cylinder Information'!B1137","v":0},{"$f":"'Gas Cylinder Information'!E1137","v":0},{"$f":"'Gas Cylinder Information'!F1137","v":0},{"$f":"'Gas Cylinder Information'!G1137","v":0}]
[{"$f":"'Gas Cylinder Information'!A1138","v":0},{"$f":"'Gas Cylinder Information'!C1138","v":0},{"$f":"'Gas Cylinder Information'!D1138","v":0},{"$f":"'Gas Cylinder Information'!B1138","v":0},{"$f":"'Gas Cylinder Information'!E1138","v":0},{"$f":"'Gas Cylinder Information'!F1138","v":0},{"$f":"'Gas Cylinder Information'!G1138","v":0}]
[{"$f":"'Gas Cylinder Information'!A1139","v":0},{"$f":"'Gas Cylinder Information'!C1139","v":0},{"$f":"'Gas Cylinder Information'!D1139","v":0},{"$f":"'Gas Cylinder Information'!B1139","v":0},{"$f":"'Gas Cylinder Information'!E1139","v":0},{"$f":"'Gas Cylinder Information'!F1139","v":0},{"$f":"'Gas Cylinder Information'!G1139","v":0}]
[{"$f":"'Gas Cylinder Information'!A1140","v":0},{"$f":"'Gas Cylinder Information'!C1140","v":0},{"$f":"'Gas Cylinder Information'!D1140","v":0},{"$f":"'Gas Cylinder Information'!B1140","v":0},{"$f":"'Gas Cylinder Information'!E1140","v":0},{"$f":"'Gas Cylinder Information'!F1140","v":0},{"$f":"'Gas Cylinder Information'!G1140","v":0}]
[{"$f":"'Gas Cylinder Information'!A1141","v":0},{"$f":"'Gas Cylinder Information'!C1141","v":0},{"$f":"'Gas Cylinder Information'!D1141","v":0},{"$f":"'Gas Cylinder Information'!B1141","v":0},{"$f":"'Gas Cylinder Information'!E1141","v":0},{"$f":"'Gas Cylinder Information'!F1141","v":0},{"$f":"'Gas Cylinder Information'!G1141","v":0}]
[{"$f":"'Gas Cylinder Information'!A1142","v":0},{"$f":"'Gas Cylinder Information'!C1142","v":0},{"$f":"'Gas Cylinder Information'!D1142","v":0},{"$f":"'Gas Cylinder Information'!B1142","v":0},{"$f":"'Gas Cylinder Information'!E1142","v":0},{"$f":"'Gas Cylinder Information'!F1142","v":0},{"$f":"'Gas Cylinder Information'!G1142","v":0}]
[{"$f":"'Gas Cylinder Information'!A1143","v":0},{"$f":"'Gas Cylinder Information'!C1143","v":0},{"$f":"'Gas Cylinder Information'!D1143","v":0},{"$f":"'Gas Cylinder Information'!B1143","v":0},{"$f":"'Gas Cylinder Information'!E1143","v":0},{"$f":"'Gas Cylinder Information'!F1143","v":0},{"$f":"'Gas Cylinder Information'!G1143","v":0}]
[{"$f":"'Gas Cylinder Information'!A1144","v":0},{"$f":"'Gas Cylinder Information'!C1144","v":0},{"$f":"'Gas Cylinder Information'!D1144","v":0},{"$f":"'Gas Cylinder Information'!B1144","v":0},{"$f":"'Gas Cylinder Information'!E1144","v":0},{"$f":"'Gas Cylinder Information'!F1144","v":0},{"$f":"'Gas Cylinder Information'!G1144","v":0}]
[{"$f":"'Gas Cylinder Information'!A1145","v":0},{"$f":"'Gas Cylinder Information'!C1145","v":0},{"$f":"'Gas Cylinder Information'!D1145","v":0},{"$f":"'Gas Cylinder Information'!B1145","v":0},{"$f":"'Gas Cylinder Information'!E1145","v":0},{"$f":"'Gas Cylinder Information'!F1145","v":0},{"$f":"'Gas Cylinder Information'!G1145","v":0}]
[{"$f":"'Gas Cylinder Information'!A1146","v":0},{"$f":"'Gas Cylinder Information'!C1146","v":0},{"$f":"'Gas Cylinder Information'!D1146","v":0},{"$f":"'Gas Cylinder Information'!B1146","v":0},{"$f":"'Gas Cylinder Information'!E1146","v":0},{"$f":"'Gas Cylinder Information'!F1146","v":0},{"$f":"'Gas Cylinder Information'!G1146","v":0}]
[{"$f":"'Gas Cylinder Information'!A1147","v":0},{"$f":"'Gas Cylinder Information'!C1147","v":0},{"$f":"'Gas Cylinder Information'!D1147","v":0},{"$f":"'Gas Cylinder Information'!B1147","v":0},{"$f":"'Gas Cylinder Information'!E1147","v":0},{"$f":"'Gas Cylinder Information'!F1147","v":0},{"$f":"'Gas Cylinder Information'!G1147","v":0}]
[{"$f":"'Gas Cylinder Information'!A1148","v":0},{"$f":"'Gas Cylinder Information'!C1148","v":0},{"$f":"'Gas Cylinder Information'!D1148","v":0},{"$f":"'Gas Cylinder Information'!B1148","v":0},{"$f":"'Gas Cylinder Information'!E1148","v":0},{"$f":"'Gas Cylinder Information'!F1148","v":0},{"$f":"'Gas Cylinder Information'!G1148","v":0}]
[{"$f":"'Gas Cylinder Information'!A1149","v":0},{"$f":"'Gas Cylinder Information'!C1149","v":0},{"$f":"'Gas Cylinder Information'!D1149","v":0},{"$f":"'Gas Cylinder Information'!B1149","v":0},{"$f":"'Gas Cylinder Information'!E1149","v":0},{"$f":"'Gas Cylinder Information'!F1149","v":0},{"$f":"'Gas Cylinder Information'!G1149","v":0}]
[{"$f":"'Gas Cylinder Information'!A1150","v":0},{"$f":"'Gas Cylinder Information'!C1150","v":0},{"$f":"'Gas Cylinder Information'!D1150","v":0},{"$f":"'Gas Cylinder Information'!B1150","v":0},{"$f":"'Gas Cylinder Information'!E1150","v":0},{"$f":"'Gas Cylinder Information'!F1150","v":0},{"$f":"'Gas Cylinder Information'!G1150","v":0}]
[{"$f":"'Gas Cylinder Information'!A1151","v":0},{"$f":"'Gas Cylinder Information'!C1151","v":0},{"$f":"'Gas Cylinder Information'!D1151","v":0},{"$f":"'Gas Cylinder Information'!B1151","v":0},{"$f":"'Gas Cylinder Information'!E1151","v":0},{"$f":"'Gas Cylinder Information'!F1151","v":0},{"$f":"'Gas Cylinder Information'!G1151","v":0}]
[{"$f":"'Gas Cylinder Information'!A1152","v":0},{"$f":"'Gas Cylinder Information'!C1152","v":0},{"$f":"'Gas Cylinder Information'!D1152","v":0},{"$f":"'Gas Cylinder Information'!B1152","v":0},{"$f":"'Gas Cylinder Information'!E1152","v":0},{"$f":"'Gas Cylinder Information'!F1152","v":0},{"$f":"'Gas Cylinder Information'!G1152","v":0}]
[{"$f":"'Gas Cylinder Information'!A1153","v":0},{"$f":"'Gas Cylinder Information'!C1153","v":0},{"$f":"'Gas Cylinder Information'!D1153","v":0},{"$f":"'Gas Cylinder Information'!B1153","v":0},{"$f":"'Gas Cylinder Information'!E1153","v":0},{"$f":"'Gas Cylinder Information'!F1153","v":0},{"$f":"'Gas Cylinder Information'!G1153","v":0}]
[{"$f":"'Gas Cylinder Information'!A1154","v":0},{"$f":"'Gas Cylinder Information'!C1154","v":0},{"$f":"'Gas Cylinder Information'!D1154","v":0},{"$f":"'Gas Cylinder Information'!B1154","v":0},{"$f":"'Gas Cylinder Information'!E1154","v":0},{"$f":"'Gas Cylinder Information'!F1154","v":0},{"$f":"'Gas Cylinder Information'!G1154","v":0}]
[{"$f":"'Gas Cylinder Information'!A1155","v":0},{"$f":"'Gas Cylinder Information'!C1155","v":0},{"$f":"'Gas Cylinder Information'!D1155","v":0},{"$f":"'Gas Cylinder Information'!B1155","v":0},{"$f":"'Gas Cylinder Information'!E1155","v":0},{"$f":"'Gas Cylinder Information'!F1155","v":0},{"$f":"'Gas Cylinder Information'!G1155","v":0}]
[{"$f":"'Gas Cylinder Information'!A1156","v":0},{"$f":"'Gas Cylinder Information'!C1156","v":0},{"$f":"'Gas Cylinder Information'!D1156","v":0},{"$f":"'Gas Cylinder Information'!B1156","v":0},{"$f":"'Gas Cylinder Information'!E1156","v":0},{"$f":"'Gas Cylinder Information'!F1156","v":0},{"$f":"'Gas Cylinder Information'!G1156","v":0}]
[{"$f":"'Gas Cylinder Information'!A1157","v":0},{"$f":"'Gas Cylinder Information'!C1157","v":0},{"$f":"'Gas Cylinder Information'!D1157","v":0},{"$f":"'Gas Cylinder Information'!B1157","v":0},{"$f":"'Gas Cylinder Information'!E1157","v":0},{"$f":"'Gas Cylinder Information'!F1157","v":0},{"$f":"'Gas Cylinder Information'!G1157","v":0}]
[{"$f":"'Gas Cylinder Information'!A1158","v":0},{"$f":"'Gas Cylinder Information'!C1158","v":0},{"$f":"'Gas Cylinder Information'!D1158","v":0},{"$f":"'Gas Cylinder Information'!B1158","v":0},{"$f":"'Gas Cylinder Information'!E1158","v":0},{"$f":"'Gas Cylinder Information'!F1158","v":0},{"$f":"'Gas Cylinder Information'!G1158","v":0}]
[{"$f":"'Gas Cylinder Information'!A1159","v":0},{"$f":"'Gas Cylinder Information'!C1159","v":0},{"$f":"'Gas Cylinder Information'!D1159","v":0},{"$f":"'Gas Cylinder Information'!B1159","v":0},{"$f":"'Gas Cylinder Information'!E1159","v":0},{"$f":"'Gas Cylinder Information'!F1159","v":0},{"$f":"'Gas Cylinder Information'!G1159","v":0}]
[{"$f":"'Gas Cylinder Information'!A1160","v":0},{"$f":"'Gas Cylinder Information'!C1160","v":0},{"$f":"'Gas Cylinder Information'!D1160","v":0},{"$f":"'Gas Cylinder Information'!B1160","v":0},{"$f":"'Gas Cylinder Information'!E1160","v":0},{"$f":"'Gas Cylinder Information'!F1160","v":0},{"$f":"'Gas Cylinder Information'!G1160","v":0}]
[{"$f":"'Gas Cylinder Information'!A1161","v":0},{"$f":"'Gas Cylinder Information'!C1161","v":0},{"$f":"'Gas Cylinder Information'!D1161","v":0},{"$f":"'Gas Cylinder Information'!B1161","v":0},{"$f":"'Gas Cylinder Information'!E1161","v":0},{"$f":"'Gas Cylinder Information'!F1161","v":0},{"$f":"'Gas Cylinder Information'!G1161","v":0}]
[{"$f":"'Gas Cylinder Information'!A1162","v":0},{"$f":"'Gas Cylinder Information'!C1162","v":0},{"$f":"'Gas Cylinder Information'!D1162","v":0},{"$f":"'Gas Cylinder Information'!B1162","v":0},{"$f":"'Gas Cylinder Information'!E1162","v":0},{"$f":"'Gas Cylinder Information'!F1162","v":0},{"$f":"'Gas Cylinder Information'!G1162","v":0}]
[{"$f":"'Gas Cylinder Information'!A1163","v":0},{"$f":"'Gas Cylinder Information'!C1163","v":0},{"$f":"'Gas Cylinder Information'!D1163","v":0},{"$f":"'Gas Cylinder Information'!B1163","v":0},{"$f":"'Gas Cylinder Information'!E1163","v":0},{"$f":"'Gas Cylinder Information'!F1163","v":0},{"$f":"'Gas Cylinder Information'!G1163","v":0}]
[{"$f":"'Gas Cylinder Information'!A1164","v":0},{"$f":"'Gas Cylinder Information'!C1164","v":0},{"$f":"'Gas Cylinder Information'!D1164","v":0},{"$f":"'Gas Cylinder Information'!B1164","v":0},{"$f":"'Gas Cylinder Information'!E1164","v":0},{"$f":"'Gas Cylinder Information'!F1164","v":0},{"$f":"'Gas Cylinder Information'!G1164","v":0}]
[{"$f":"'Gas Cylinder Information'!A1165","v":0},{"$f":"'Gas Cylinder Information'!C1165","v":0},{"$f":"'Gas Cylinder Information'!D1165","v":0},{"$f":"'Gas Cylinder Information'!B1165","v":0},{"$f":"'Gas Cylinder Information'!E1165","v":0},{"$f":"'Gas Cylinder Information'!F1165","v":0},{"$f":"'Gas Cylinder Information'!G1165","v":0}]
[{"$f":"'Gas Cylinder Information'!A1166","v":0},{"$f":"'Gas Cylinder Information'!C1166","v":0},{"$f":"'Gas Cylinder Information'!D1166","v":0},{"$f":"'Gas Cylinder Information'!B1166","v":0},{"$f":"'Gas Cylinder Information'!E1166","v":0},{"$f":"'Gas Cylinder Information'!F1166","v":0},{"$f":"'Gas Cylinder Information'!G1166","v":0}]
[{"$f":"'Gas Cylinder Information'!A1167","v":0},{"$f":"'Gas Cylinder Information'!C1167","v":0},{"$f":"'Gas Cylinder Information'!D1167","v":0},{"$f":"'Gas Cylinder Information'!B1167","v":0},{"$f":"'Gas Cylinder Information'!E1167","v":0},{"$f":"'Gas Cylinder Information'!F1167","v":0},{"$f":"'Gas Cylinder Information'!G1167","v":0}]
[{"$f":"'Gas Cylinder Information'!A1168","v":0},{"$f":"'Gas Cylinder Information'!C1168","v":0},{"$f":"'Gas Cylinder Information'!D1168","v":0},{"$f":"'Gas Cylinder Information'!B1168","v":0},{"$f":"'Gas Cylinder Information'!E1168","v":0},{"$f":"'Gas Cylinder Information'!F1168","v":0},{"$f":"'Gas Cylinder Information'!G1168","v":0}]
[{"$f":"'Gas Cylinder Information'!A1169","v":0},{"$f":"'Gas Cylinder Information'!C1169","v":0},{"$f":"'Gas Cylinder Information'!D1169","v":0},{"$f":"'Gas Cylinder Information'!B1169","v":0},{"$f":"'Gas Cylinder Information'!E1169","v":0},{"$f":"'Gas Cylinder Information'!F1169","v":0},{"$f":"'Gas Cylinder Information'!G1169","v":0}]
[{"$f":"'Gas Cylinder Information'!A1170","v":0},{"$f":"'Gas Cylinder Information'!C1170","v":0},{"$f":"'Gas Cylinder Information'!D1170","v":0},{"$f":"'Gas Cylinder Information'!B1170","v":0},{"$f":"'Gas Cylinder Information'!E1170","v":0},{"$f":"'Gas Cylinder Information'!F1170","v":0},{"$f":"'Gas Cylinder Information'!G1170","v":0}]
[{"$f":"'Gas Cylinder Information'!A1171","v":0},{"$f":"'Gas Cylinder Information'!C1171","v":0},{"$f":"'Gas Cylinder Information'!D1171","v":0},{"$f":"'Gas Cylinder Information'!B1171","v":0},{"$f":"'Gas Cylinder Information'!E1171","v":0},{"$f":"'Gas Cylinder Information'!F1171","v":0},{"$f":"'Gas Cylinder Information'!G1171","v":0}]
[{"$f":"'Gas Cylinder Information'!A1172","v":0},{"$f":"'Gas Cylinder Information'!C1172","v":0},{"$f":"'Gas Cylinder Information'!D1172","v":0},{"$f":"'Gas Cylinder Information'!B1172","v":0},{"$f":"'Gas Cylinder Information'!E1172","v":0},{"$f":"'Gas Cylinder Information'!F1172","v":0},{"$f":"'Gas Cylinder Information'!G1172","v":0}]
[{"$f":"'Gas Cylinder Information'!A1173","v":0},{"$f":"'Gas Cylinder Information'!C1173","v":0},{"$f":"'Gas Cylinder Information'!D1173","v":0},{"$f":"'Gas Cylinder Information'!B1173","v":0},{"$f":"'Gas Cylinder Information'!E1173","v":0},{"$f":"'Gas Cylinder Information'!F1173","v":0},{"$f":"'Gas Cylinder Information'!G1173","v":0}]
[{"$f":"'Gas Cylinder Information'!A1174","v":0},{"$f":"'Gas Cylinder Information'!C1174","v":0},{"$f":"'Gas Cylinder Information'!D1174","v":0},{"$f":"'Gas Cylinder Information'!B1174","v":0},{"$f":"'Gas Cylinder Information'!E1174","v":0},{"$f":"'Gas Cylinder Information'!F1174","v":0},{"$f":"'Gas Cylinder Information'!G1174","v":0}]
[{"$f":"'Gas Cylinder Information'!A1175","v":0},{"$f":"'Gas Cylinder Information'!C1175","v":0},{"$f":"'Gas Cylinder Information'!D1175","v":0},{"$f":"'Gas Cylinder Information'!B1175","v":0},{"$f":"'Gas Cylinder Information'!E1175","v":0},{"$f":"'Gas Cylinder Information'!F1175","v":0},{"$f":"'Gas Cylinder Information'!G1175","v":0}]
[{"$f":"'Gas Cylinder Information'!A1176","v":0},{"$f":"'Gas Cylinder Information'!C1176","v":0},{"$f":"'Gas Cylinder Information'!D1176","v":0},{"$f":"'Gas Cylinder Information'!B1176","v":0},{"$f":"'Gas Cylinder Information'!E1176","v":0},{"$f":"'Gas Cylinder Information'!F1176","v":0},{"$f":"'Gas Cylinder Information'!G1176","v":0}]
[{"$f":"'Gas Cylinder Information'!A1177","v":0},{"$f":"'Gas Cylinder Information'!C1177","v":0},{"$f":"'Gas Cylinder Information'!D1177","v":0},{"$f":"'Gas Cylinder Information'!B1177","v":0},{"$f":"'Gas Cylinder Information'!E1177","v":0},{"$f":"'Gas Cylinder Information'!F1177","v":0},{"$f":"'Gas Cylinder Information'!G1177","v":0}]
[{"$f":"'Gas Cylinder Information'!A1178","v":0},{"$f":"'Gas Cylinder Information'!C1178","v":0},{"$f":"'Gas Cylinder Information'!D1178","v":0},{"$f":"'Gas Cylinder Information'!B1178","v":0},{"$f":"'Gas Cylinder Information'!E1178","v":0},{"$f":"'Gas Cylinder Information'!F1178","v":0},{"$f":"'Gas Cylinder Information'!G1178","v":0}]
[{"$f":"'Gas Cylinder Information'!A1179","v":0},{"$f":"'Gas Cylinder Information'!C1179","v":0},{"$f":"'Gas Cylinder Information'!D1179","v":0},{"$f":"'Gas Cylinder Information'!B1179","v":0},{"$f":"'Gas Cylinder Information'!E1179","v":0},{"$f":"'Gas Cylinder Information'!F1179","v":0},{"$f":"'Gas Cylinder Information'!G1179","v":0}]
[{"$f":"'Gas Cylinder Information'!A1180","v":0},{"$f":"'Gas Cylinder Information'!C1180","v":0},{"$f":"'Gas Cylinder Information'!D1180","v":0},{"$f":"'Gas Cylinder Information'!B1180","v":0},{"$f":"'Gas Cylinder Information'!E1180","v":0},{"$f":"'Gas Cylinder Information'!F1180","v":0},{"$f":"'Gas Cylinder Information'!G1180","v":0}]
[{"$f":"'Gas Cylinder Information'!A1181","v":0},{"$f":"'Gas Cylinder Information'!C1181","v":0},{"$f":"'Gas Cylinder Information'!D1181","v":0},{"$f":"'Gas Cylinder Information'!B1181","v":0},{"$f":"'Gas Cylinder Information'!E1181","v":0},{"$f":"'Gas Cylinder Information'!F1181","v":0},{"$f":"'Gas Cylinder Information'!G1181","v":0}]
[{"$f":"'Gas Cylinder Information'!A1182","v":0},{"$f":"'Gas Cylinder Information'!C1182","v":0},{"$f":"'Gas Cylinder Information'!D1182","v":0},{"$f":"'Gas Cylinder Information'!B1182","v":0},{"$f":"'Gas Cylinder Information'!E1182","v":0},{"$f":"'Gas Cylinder Information'!F1182","v":0},{"$f":"'Gas Cylinder Information'!G1182","v":0}]
[{"$f":"'Gas Cylinder Information'!A1183","v":0},{"$f":"'Gas Cylinder Information'!C1183","v":0},{"$f":"'Gas Cylinder Information'!D1183","v":0},{"$f":"'Gas Cylinder Information'!B1183","v":0},{"$f":"'Gas Cylinder Information'!E1183","v":0},{"$f":"'Gas Cylinder Information'!F1183","v":0},{"$f":"'Gas Cylinder Information'!G1183","v":0}]
[{"$f":"'Gas Cylinder Information'!A1184","v":0},{"$f":"'Gas Cylinder Information'!C1184","v":0},{"$f":"'Gas Cylinder Information'!D1184","v":0},{"$f":"'Gas Cylinder Information'!B1184","v":0},{"$f":"'Gas Cylinder Information'!E1184","v":0},{"$f":"'Gas Cylinder Information'!F1184","v":0},{"$f":"'Gas Cylinder Information'!G1184","v":0}]
[{"$f":"'Gas Cylinder Information'!A1185","v":0},{"$f":"'Gas Cylinder Information'!C1185","v":0},{"$f":"'Gas Cylinder Information'!D1185","v":0},{"$f":"'Gas Cylinder Information'!B1185","v":0},{"$f":"'Gas Cylinder Information'!E1185","v":0},{"$f":"'Gas Cylinder Information'!F1185","v":0},{"$f":"'Gas Cylinder Information'!G1185","v":0}]
[{"$f":"'Gas Cylinder Information'!A1186","v":0},{"$f":"'Gas Cylinder Information'!C1186","v":0},{"$f":"'Gas Cylinder Information'!D1186","v":0},{"$f":"'Gas Cylinder Information'!B1186","v":0},{"$f":"'Gas Cylinder Information'!E1186","v":0},{"$f":"'Gas Cylinder Information'!F1186","v":0},{"$f":"'Gas Cylinder Information'!G1186","v":0}]
[{"$f":"'Gas Cylinder Information'!A1187","v":0},{"$f":"'Gas Cylinder Information'!C1187","v":0},{"$f":"'Gas Cylinder Information'!D1187","v":0},{"$f":"'Gas Cylinder Information'!B1187","v":0},{"$f":"'Gas Cylinder Information'!E1187","v":0},{"$f":"'Gas Cylinder Information'!F1187","v":0},{"$f":"'Gas Cylinder Information'!G1187","v":0}]
[{"$f":"'Gas Cylinder Information'!A1188","v":0},{"$f":"'Gas Cylinder Information'!C1188","v":0},{"$f":"'Gas Cylinder Information'!D1188","v":0},{"$f":"'Gas Cylinder Information'!B1188","v":0},{"$f":"'Gas Cylinder Information'!E1188","v":0},{"$f":"'Gas Cylinder Information'!F1188","v":0},{"$f":"'Gas Cylinder Information'!G1188","v":0}]
[{"$f":"'Gas Cylinder Information'!A1189","v":0},{"$f":"'Gas Cylinder Information'!C1189","v":0},{"$f":"'Gas Cylinder Information'!D1189","v":0},{"$f":"'Gas Cylinder Information'!B1189","v":0},{"$f":"'Gas Cylinder Information'!E1189","v":0},{"$f":"'Gas Cylinder Information'!F1189","v":0},{"$f":"'Gas Cylinder Information'!G1189","v":0}]
[{"$f":"'Gas Cylinder Information'!A1190","v":0},{"$f":"'Gas Cylinder Information'!C1190","v":0},{"$f":"'Gas Cylinder Information'!D1190","v":0},{"$f":"'Gas Cylinder Information'!B1190","v":0},{"$f":"'Gas Cylinder Information'!E1190","v":0},{"$f":"'Gas Cylinder Information'!F1190","v":0},{"$f":"'Gas Cylinder Information'!G1190","v":0}]
[{"$f":"'Gas Cylinder Information'!A1191","v":0},{"$f":"'Gas Cylinder Information'!C1191","v":0},{"$f":"'Gas Cylinder Information'!D1191","v":0},{"$f":"'Gas Cylinder Information'!B1191","v":0},{"$f":"'Gas Cylinder Information'!E1191","v":0},{"$f":"'Gas Cylinder Information'!F1191","v":0},{"$f":"'Gas Cylinder Information'!G1191","v":0}]
[{"$f":"'Gas Cylinder Information'!A1192","v":0},{"$f":"'Gas Cylinder Information'!C1192","v":0},{"$f":"'Gas Cylinder Information'!D1192","v":0},{"$f":"'Gas Cylinder Information'!B1192","v":0},{"$f":"'Gas Cylinder Information'!E1192","v":0},{"$f":"'Gas Cylinder Information'!F1192","v":0},{"$f":"'Gas Cylinder Information'!G1192","v":0}]
[{"$f":"'Gas Cylinder Information'!A1193","v":0},{"$f":"'Gas Cylinder Information'!C1193","v":0},{"$f":"'Gas Cylinder Information'!D1193","v":0},{"$f":"'Gas Cylinder Information'!B1193","v":0},{"$f":"'Gas Cylinder Information'!E1193","v":0},{"$f":"'Gas Cylinder Information'!F1193","v":0},{"$f":"'Gas Cylinder Information'!G1193","v":0}]
[{"$f":"'Gas Cylinder Information'!A1194","v":0},{"$f":"'Gas Cylinder Information'!C1194","v":0},{"$f":"'Gas Cylinder Information'!D1194","v":0},{"$f":"'Gas Cylinder Information'!B1194","v":0},{"$f":"'Gas Cylinder Information'!E1194","v":0},{"$f":"'Gas Cylinder Information'!F1194","v":0},{"$f":"'Gas Cylinder Information'!G1194","v":0}]
[{"$f":"'Gas Cylinder Information'!A1195","v":0},{"$f":"'Gas Cylinder Information'!C1195","v":0},{"$f":"'Gas Cylinder Information'!D1195","v":0},{"$f":"'Gas Cylinder Information'!B1195","v":0},{"$f":"'Gas Cylinder Information'!E1195","v":0},{"$f":"'Gas Cylinder Information'!F1195","v":0},{"$f":"'Gas Cylinder Information'!G1195","v":0}]
[{"$f":"'Gas Cylinder Information'!A1196","v":0},{"$f":"'Gas Cylinder Information'!C1196","v":0},{"$f":"'Gas Cylinder Information'!D1196","v":0},{"$f":"'Gas Cylinder Information'!B1196","v":0},{"$f":"'Gas Cylinder Information'!E1196","v":0},{"$f":"'Gas Cylinder Information'!F1196","v":0},{"$f":"'Gas Cylinder Information'!G1196","v":0}]
[{"$f":"'Gas Cylinder Information'!A1197","v":0},{"$f":"'Gas Cylinder Information'!C1197","v":0},{"$f":"'Gas Cylinder Information'!D1197","v":0},{"$f":"'Gas Cylinder Information'!B1197","v":0},{"$f":"'Gas Cylinder Information'!E1197","v":0},{"$f":"'Gas Cylinder Information'!F1197","v":0},{"$f":"'Gas Cylinder Information'!G1197","v":0}]
[{"$f":"'Gas Cylinder Information'!A1198","v":0},{"$f":"'Gas Cylinder Information'!C1198","v":0},{"$f":"'Gas Cylinder Information'!D1198","v":0},{"$f":"'Gas Cylinder Information'!B1198","v":0},{"$f":"'Gas Cylinder Information'!E1198","v":0},{"$f":"'Gas Cylinder Information'!F1198","v":0},{"$f":"'Gas Cylinder Information'!G1198","v":0}]
[{"$f":"'Gas Cylinder Information'!A1199","v":0},{"$f":"'Gas Cylinder Information'!C1199","v":0},{"$f":"'Gas Cylinder Information'!D1199","v":0},{"$f":"'Gas Cylinder Information'!B1199","v":0},{"$f":"'Gas Cylinder Information'!E1199","v":0},{"$f":"'Gas Cylinder Information'!F1199","v":0},{"$f":"'Gas Cylinder Information'!G1199","v":0}]
[{"$f":"'Gas Cylinder Information'!A1200","v":0},{"$f":"'Gas Cylinder Information'!C1200","v":0},{"$f":"'Gas Cylinder Information'!D1200","v":0},{"$f":"'Gas Cylinder Information'!B1200","v":0},{"$f":"'Gas Cylinder Information'!E1200","v":0},{"$f":"'Gas Cylinder Information'!F1200","v":0},{"$f":"'Gas Cylinder Information'!G1200","v":0}]
[{"$f":"'Gas Cylinder Information'!A1201","v":0},{"$f":"'Gas Cylinder Information'!C1201","v":0},{"$f":"'Gas Cylinder Information'!D1201","v":0},{"$f":"'Gas Cylinder Information'!B1201","v":0},{"$f":"'Gas Cylinder Information'!E1201","v":0},{"$f":"'Gas Cylinder Information'!F1201","v":0},{"$f":"'Gas Cylinder Information'!G1201","v":0}]
[{"$f":"'Gas Cylinder Information'!A1202","v":0},{"$f":"'Gas Cylinder Information'!C1202","v":0},{"$f":"'Gas Cylinder Information'!D1202","v":0},{"$f":"'Gas Cylinder Information'!B1202","v":0},{"$f":"'Gas Cylinder Information'!E1202","v":0},{"$f":"'Gas Cylinder Information'!F1202","v":0},{"$f":"'Gas Cylinder Information'!G1202","v":0}]
[{"$f":"'Gas Cylinder Information'!A1203","v":0},{"$f":"'Gas Cylinder Information'!C1203","v":0},{"$f":"'Gas Cylinder Information'!D1203","v":0},{"$f":"'Gas Cylinder Information'!B1203","v":0},{"$f":"'Gas Cylinder Information'!E1203","v":0},{"$f":"'Gas Cylinder Information'!F1203","v":0},{"$f":"'Gas Cylinder Information'!G1203","v":0}]
[{"$f":"'Gas Cylinder Information'!A1204","v":0},{"$f":"'Gas Cylinder Information'!C1204","v":0},{"$f":"'Gas Cylinder Information'!D1204","v":0},{"$f":"'Gas Cylinder Information'!B1204","v":0},{"$f":"'Gas Cylinder Information'!E1204","v":0},{"$f":"'Gas Cylinder Information'!F1204","v":0},{"$f":"'Gas Cylinder Information'!G1204","v":0}]
[{"$f":"'Gas Cylinder Information'!A1205","v":0},{"$f":"'Gas Cylinder Information'!C1205","v":0},{"$f":"'Gas Cylinder Information'!D1205","v":0},{"$f":"'Gas Cylinder Information'!B1205","v":0},{"$f":"'Gas Cylinder Information'!E1205","v":0},{"$f":"'Gas Cylinder Information'!F1205","v":0},{"$f":"'Gas Cylinder Information'!G1205","v":0}]
[{"$f":"'Gas Cylinder Information'!A1206","v":0},{"$f":"'Gas Cylinder Information'!C1206","v":0},{"$f":"'Gas Cylinder Information'!D1206","v":0},{"$f":"'Gas Cylinder Information'!B1206","v":0},{"$f":"'Gas Cylinder Information'!E1206","v":0},{"$f":"'Gas Cylinder Information'!F1206","v":0},{"$f":"'Gas Cylinder Information'!G1206","v":0}]
[{"$f":"'Gas Cylinder Information'!A1207","v":0},{"$f":"'Gas Cylinder Information'!C1207","v":0},{"$f":"'Gas Cylinder Information'!D1207","v":0},{"$f":"'Gas Cylinder Information'!B1207","v":0},{"$f":"'Gas Cylinder Information'!E1207","v":0},{"$f":"'Gas Cylinder Information'!F1207","v":0},{"$f":"'Gas Cylinder Information'!G1207","v":0}]
[{"$f":"'Gas Cylinder Information'!A1208","v":0},{"$f":"'Gas Cylinder Information'!C1208","v":0},{"$f":"'Gas Cylinder Information'!D1208","v":0},{"$f":"'Gas Cylinder Information'!B1208","v":0},{"$f":"'Gas Cylinder Information'!E1208","v":0},{"$f":"'Gas Cylinder Information'!F1208","v":0},{"$f":"'Gas Cylinder Information'!G1208","v":0}]
[{"$f":"'Gas Cylinder Information'!A1209","v":0},{"$f":"'Gas Cylinder Information'!C1209","v":0},{"$f":"'Gas Cylinder Information'!D1209","v":0},{"$f":"'Gas Cylinder Information'!B1209","v":0},{"$f":"'Gas Cylinder Information'!E1209","v":0},{"$f":"'Gas Cylinder Information'!F1209","v":0},{"$f":"'Gas Cylinder Information'!G1209","v":0}]
[{"$f":"'Gas Cylinder Information'!A1210","v":0},{"$f":"'Gas Cylinder Information'!C1210","v":0},{"$f":"'Gas Cylinder Information'!D1210","v":0},{"$f":"'Gas Cylinder Information'!B1210","v":0},{"$f":"'Gas Cylinder Information'!E1210","v":0},{"$f":"'Gas Cylinder Information'!F1210","v":0},{"$f":"'Gas Cylinder Information'!G1210","v":0}]
[{"$f":"'Gas Cylinder Information'!A1211","v":0},{"$f":"'Gas Cylinder Information'!C1211","v":0},{"$f":"'Gas Cylinder Information'!D1211","v":0},{"$f":"'Gas Cylinder Information'!B1211","v":0},{"$f":"'Gas Cylinder Information'!E1211","v":0},{"$f":"'Gas Cylinder Information'!F1211","v":0},{"$f":"'Gas Cylinder Information'!G1211","v":0}]
[{"$f":"'Gas Cylinder Information'!A1212","v":0},{"$f":"'Gas Cylinder Information'!C1212","v":0},{"$f":"'Gas Cylinder Information'!D1212","v":0},{"$f":"'Gas Cylinder Information'!B1212","v":0},{"$f":"'Gas Cylinder Information'!E1212","v":0},{"$f":"'Gas Cylinder Information'!F1212","v":0},{"$f":"'Gas Cylinder Information'!G1212","v":0}]
[{"$f":"'Gas Cylinder Information'!A1213","v":0},{"$f":"'Gas Cylinder Information'!C1213","v":0},{"$f":"'Gas Cylinder Information'!D1213","v":0},{"$f":"'Gas Cylinder Information'!B1213","v":0},{"$f":"'Gas Cylinder Information'!E1213","v":0},{"$f":"'Gas Cylinder Information'!F1213","v":0},{"$f":"'Gas Cylinder Information'!G1213","v":0}]
[{"$f":"'Gas Cylinder Information'!A1214","v":0},{"$f":"'Gas Cylinder Information'!C1214","v":0},{"$f":"'Gas Cylinder Information'!D1214","v":0},{"$f":"'Gas Cylinder Information'!B1214","v":0},{"$f":"'Gas Cylinder Information'!E1214","v":0},{"$f":"'Gas Cylinder Information'!F1214","v":0},{"$f":"'Gas Cylinder Information'!G1214","v":0}]
[{"$f":"'Gas Cylinder Information'!A1215","v":0},{"$f":"'Gas Cylinder Information'!C1215","v":0},{"$f":"'Gas Cylinder Information'!D1215","v":0},{"$f":"'Gas Cylinder Information'!B1215","v":0},{"$f":"'Gas Cylinder Information'!E1215","v":0},{"$f":"'Gas Cylinder Information'!F1215","v":0},{"$f":"'Gas Cylinder Information'!G1215","v":0}]
[{"$f":"'Gas Cylinder Information'!A1216","v":0},{"$f":"'Gas Cylinder Information'!C1216","v":0},{"$f":"'Gas Cylinder Information'!D1216","v":0},{"$f":"'Gas Cylinder Information'!B1216","v":0},{"$f":"'Gas Cylinder Information'!E1216","v":0},{"$f":"'Gas Cylinder Information'!F1216","v":0},{"$f":"'Gas Cylinder Information'!G1216","v":0}]
[{"$f":"'Gas Cylinder Information'!A1217","v":0},{"$f":"'Gas Cylinder Information'!C1217","v":0},{"$f":"'Gas Cylinder Information'!D1217","v":0},{"$f":"'Gas Cylinder Information'!B1217","v":0},{"$f":"'Gas Cylinder Information'!E1217","v":0},{"$f":"'Gas Cylinder Information'!F1217","v":0},{"$f":"'Gas Cylinder Information'!G1217","v":0}]
[{"$f":"'Gas Cylinder Information'!A1218","v":0},{"$f":"'Gas Cylinder Information'!C1218","v":0},{"$f":"'Gas Cylinder Information'!D1218","v":0},{"$f":"'Gas Cylinder Information'!B1218","v":0},{"$f":"'Gas Cylinder Information'!E1218","v":0},{"$f":"'Gas Cylinder Information'!F1218","v":0},{"$f":"'Gas Cylinder Information'!G1218","v":0}]
[{"$f":"'Gas Cylinder Information'!A1219","v":0},{"$f":"'Gas Cylinder Information'!C1219","v":0},{"$f":"'Gas Cylinder Information'!D1219","v":0},{"$f":"'Gas Cylinder Information'!B1219","v":0},{"$f":"'Gas Cylinder Information'!E1219","v":0},{"$f":"'Gas Cylinder Information'!F1219","v":0},{"$f":"'Gas Cylinder Information'!G1219","v":0}]
[{"$f":"'Gas Cylinder Information'!A1220","v":0},{"$f":"'Gas Cylinder Information'!C1220","v":0},{"$f":"'Gas Cylinder Information'!D1220","v":0},{"$f":"'Gas Cylinder Information'!B1220","v":0},{"$f":"'Gas Cylinder Information'!E1220","v":0},{"$f":"'Gas Cylinder Information'!F1220","v":0},{"$f":"'Gas Cylinder Information'!G1220","v":0}]
[{"$f":"'Gas Cylinder Information'!A1221","v":0},{"$f":"'Gas Cylinder Information'!C1221","v":0},{"$f":"'Gas Cylinder Information'!D1221","v":0},{"$f":"'Gas Cylinder Information'!B1221","v":0},{"$f":"'Gas Cylinder Information'!E1221","v":0},{"$f":"'Gas Cylinder Information'!F1221","v":0},{"$f":"'Gas Cylinder Information'!G1221","v":0}]
[{"$f":"'Gas Cylinder Information'!A1222","v":0},{"$f":"'Gas Cylinder Information'!C1222","v":0},{"$f":"'Gas Cylinder Information'!D1222","v":0},{"$f":"'Gas Cylinder Information'!B1222","v":0},{"$f":"'Gas Cylinder Information'!E1222","v":0},{"$f":"'Gas Cylinder Information'!F1222","v":0},{"$f":"'Gas Cylinder Information'!G1222","v":0}]
[{"$f":"'Gas Cylinder Information'!A1223","v":0},{"$f":"'Gas Cylinder Information'!C1223","v":0},{"$f":"'Gas Cylinder Information'!D1223","v":0},{"$f":"'Gas Cylinder Information'!B1223","v":0},{"$f":"'Gas Cylinder Information'!E1223","v":0},{"$f":"'Gas Cylinder Information'!F1223","v":0},{"$f":"'Gas Cylinder Information'!G1223","v":0}]
[{"$f":"'Gas Cylinder Information'!A1224","v":0},{"$f":"'Gas Cylinder Information'!C1224","v":0},{"$f":"'Gas Cylinder Information'!D1224","v":0},{"$f":"'Gas Cylinder Information'!B1224","v":0},{"$f":"'Gas Cylinder Information'!E1224","v":0},{"$f":"'Gas Cylinder Information'!F1224","v":0},{"$f":"'Gas Cylinder Information'!G1224","v":0}]
[{"$f":"'Gas Cylinder Information'!A1225","v":0},{"$f":"'Gas Cylinder Information'!C1225","v":0},{"$f":"'Gas Cylinder Information'!D1225","v":0},{"$f":"'Gas Cylinder Information'!B1225","v":0},{"$f":"'Gas Cylinder Information'!E1225","v":0},{"$f":"'Gas Cylinder Information'!F1225","v":0},{"$f":"'Gas Cylinder Information'!G1225","v":0}]
[{"$f":"'Gas Cylinder Information'!A1226","v":0},{"$f":"'Gas Cylinder Information'!C1226","v":0},{"$f":"'Gas Cylinder Information'!D1226","v":0},{"$f":"'Gas Cylinder Information'!B1226","v":0},{"$f":"'Gas Cylinder Information'!E1226","v":0},{"$f":"'Gas Cylinder Information'!F1226","v":0},{"$f":"'Gas Cylinder Information'!G1226","v":0}]
[{"$f":"'Gas Cylinder Information'!A1227","v":0},{"$f":"'Gas Cylinder Information'!C1227","v":0},{"$f":"'Gas Cylinder Information'!D1227","v":0},{"$f":"'Gas Cylinder Information'!B1227","v":0},{"$f":"'Gas Cylinder Information'!E1227","v":0},{"$f":"'Gas Cylinder Information'!F1227","v":0},{"$f":"'Gas Cylinder Information'!G1227","v":0}]
[{"$f":"'Gas Cylinder Information'!A1228","v":0},{"$f":"'Gas Cylinder Information'!C1228","v":0},{"$f":"'Gas Cylinder Information'!D1228","v":0},{"$f":"'Gas Cylinder Information'!B1228","v":0},{"$f":"'Gas Cylinder Information'!E1228","v":0},{"$f":"'Gas Cylinder Information'!F1228","v":0},{"$f":"'Gas Cylinder Information'!G1228","v":0}]
[{"$f":"'Gas Cylinder Information'!A1229","v":0},{"$f":"'Gas Cylinder Information'!C1229","v":0},{"$f":"'Gas Cylinder Information'!D1229","v":0},{"$f":"'Gas Cylinder Information'!B1229","v":0},{"$f":"'Gas Cylinder Information'!E1229","v":0},{"$f":"'Gas Cylinder Information'!F1229","v":0},{"$f":"'Gas Cylinder Information'!G1229","v":0}]
[{"$f":"'Gas Cylinder Information'!A1230","v":0},{"$f":"'Gas Cylinder Information'!C1230","v":0},{"$f":"'Gas Cylinder Information'!D1230","v":0},{"$f":"'Gas Cylinder Information'!B1230","v":0},{"$f":"'Gas Cylinder Information'!E1230","v":0},{"$f":"'Gas Cylinder Information'!F1230","v":0},{"$f":"'Gas Cylinder Information'!G1230","v":0}]
[{"$f":"'Gas Cylinder Information'!A1231","v":0},{"$f":"'Gas Cylinder Information'!C1231","v":0},{"$f":"'Gas Cylinder Information'!D1231","v":0},{"$f":"'Gas Cylinder Information'!B1231","v":0},{"$f":"'Gas Cylinder Information'!E1231","v":0},{"$f":"'Gas Cylinder Information'!F1231","v":0},{"$f":"'Gas Cylinder Information'!G1231","v":0}]
[{"$f":"'Gas Cylinder Information'!A1232","v":0},{"$f":"'Gas Cylinder Information'!C1232","v":0},{"$f":"'Gas Cylinder Information'!D1232","v":0},{"$f":"'Gas Cylinder Information'!B1232","v":0},{"$f":"'Gas Cylinder Information'!E1232","v":0},{"$f":"'Gas Cylinder Information'!F1232","v":0},{"$f":"'Gas Cylinder Information'!G1232","v":0}]
[{"$f":"'Gas Cylinder Information'!A1233","v":0},{"$f":"'Gas Cylinder Information'!C1233","v":0},{"$f":"'Gas Cylinder Information'!D1233","v":0},{"$f":"'Gas Cylinder Information'!B1233","v":0},{"$f":"'Gas Cylinder Information'!E1233","v":0},{"$f":"'Gas Cylinder Information'!F1233","v":0},{"$f":"'Gas Cylinder Information'!G1233","v":0}]
[{"$f":"'Gas Cylinder Information'!A1234","v":0},{"$f":"'Gas Cylinder Information'!C1234","v":0},{"$f":"'Gas Cylinder Information'!D1234","v":0},{"$f":"'Gas Cylinder Information'!B1234","v":0},{"$f":"'Gas Cylinder Information'!E1234","v":0},{"$f":"'Gas Cylinder Information'!F1234","v":0},{"$f":"'Gas Cylinder Information'!G1234","v":0}]
[{"$f":"'Gas Cylinder Information'!A1235","v":0},{"$f":"'Gas Cylinder Information'!C1235","v":0},{"$f":"'Gas Cylinder Information'!D1235","v":0},{"$f":"'Gas Cylinder Information'!B1235","v":0},{"$f":"'Gas Cylinder Information'!E1235","v":0},{"$f":"'Gas Cylinder Information'!F1235","v":0},{"$f":"'Gas Cylinder Information'!G1235","v":0}]
[{"$f":"'Gas Cylinder Information'!A1236","v":0},{"$f":"'Gas Cylinder Information'!C1236","v":0},{"$f":"'Gas Cylinder Information'!D1236","v":0},{"$f":"'Gas Cylinder Information'!B1236","v":0},{"$f":"'Gas Cylinder Information'!E1236","v":0},{"$f":"'Gas Cylinder Information'!F1236","v":0},{"$f":"'Gas Cylinder Information'!G1236","v":0}]
[{"$f":"'Gas Cylinder Information'!A1237","v":0},{"$f":"'Gas Cylinder Information'!C1237","v":0},{"$f":"'Gas Cylinder Information'!D1237","v":0},{"$f":"'Gas Cylinder Information'!B1237","v":0},{"$f":"'Gas Cylinder Information'!E1237","v":0},{"$f":"'Gas Cylinder Information'!F1237","v":0},{"$f":"'Gas Cylinder Information'!G1237","v":0}]
[{"$f":"'Gas Cylinder Information'!A1238","v":0},{"$f":"'Gas Cylinder Information'!C1238","v":0},{"$f":"'Gas Cylinder Information'!D1238","v":0},{"$f":"'Gas Cylinder Information'!B1238","v":0},{"$f":"'Gas Cylinder Information'!E1238","v":0},{"$f":"'Gas Cylinder Information'!F1238","v":0},{"$f":"'Gas Cylinder Information'!G1238","v":0}]
[{"$f":"'Gas Cylinder Information'!A1239","v":0},{"$f":"'Gas Cylinder Information'!C1239","v":0},{"$f":"'Gas Cylinder Information'!D1239","v":0},{"$f":"'Gas Cylinder Information'!B1239","v":0},{"$f":"'Gas Cylinder Information'!E1239","v":0},{"$f":"'Gas Cylinder Information'!F1239","v":0},{"$f":"'Gas Cylinder Information'!G1239","v":0}]
[{"$f":"'Gas Cylinder Information'!A1240","v":0},{"$f":"'Gas Cylinder Information'!C1240","v":0},{"$f":"'Gas Cylinder Information'!D1240","v":0},{"$f":"'Gas Cylinder Information'!B1240","v":0},{"$f":"'Gas Cylinder Information'!E1240","v":0},{"$f":"'Gas Cylinder Information'!F1240","v":0},{"$f":"'Gas Cylinder Information'!G1240","v":0}]
[{"$f":"'Gas Cylinder Information'!A1241","v":0},{"$f":"'Gas Cylinder Information'!C1241","v":0},{"$f":"'Gas Cylinder Information'!D1241","v":0},{"$f":"'Gas Cylinder Information'!B1241","v":0},{"$f":"'Gas Cylinder Information'!E1241","v":0},{"$f":"'Gas Cylinder Information'!F1241","v":0},{"$f":"'Gas Cylinder Information'!G1241","v":0}]
[{"$f":"'Gas Cylinder Information'!A1242","v":0},{"$f":"'Gas Cylinder Information'!C1242","v":0},{"$f":"'Gas Cylinder Information'!D1242","v":0},{"$f":"'Gas Cylinder Information'!B1242","v":0},{"$f":"'Gas Cylinder Information'!E1242","v":0},{"$f":"'Gas Cylinder Information'!F1242","v":0},{"$f":"'Gas Cylinder Information'!G1242","v":0}]
[{"$f":"'Gas Cylinder Information'!A1243","v":0},{"$f":"'Gas Cylinder Information'!C1243","v":0},{"$f":"'Gas Cylinder Information'!D1243","v":0},{"$f":"'Gas Cylinder Information'!B1243","v":0},{"$f":"'Gas Cylinder Information'!E1243","v":0},{"$f":"'Gas Cylinder Information'!F1243","v":0},{"$f":"'Gas Cylinder Information'!G1243","v":0}]
[{"$f":"'Gas Cylinder Information'!A1244","v":0},{"$f":"'Gas Cylinder Information'!C1244","v":0},{"$f":"'Gas Cylinder Information'!D1244","v":0},{"$f":"'Gas Cylinder Information'!B1244","v":0},{"$f":"'Gas Cylinder Information'!E1244","v":0},{"$f":"'Gas Cylinder Information'!F1244","v":0},{"$f":"'Gas Cylinder Information'!G1244","v":0}]
[{"$f":"'Gas Cylinder Information'!A1245","v":0},{"$f":"'Gas Cylinder Information'!C1245","v":0},{"$f":"'Gas Cylinder Information'!D1245","v":0},{"$f":"'Gas Cylinder Information'!B1245","v":0},{"$f":"'Gas Cylinder Information'!E1245","v":0},{"$f":"'Gas Cylinder Information'!F1245","v":0},{"$f":"'Gas Cylinder Information'!G1245","v":0}]
[{"$f":"'Gas Cylinder Information'!A1246","v":0},{"$f":"'Gas Cylinder Information'!C1246","v":0},{"$f":"'Gas Cylinder Information'!D1246","v":0},{"$f":"'Gas Cylinder Information'!B1246","v":0},{"$f":"'Gas Cylinder Information'!E1246","v":0},{"$f":"'Gas Cylinder Information'!F1246","v":0},{"$f":"'Gas Cylinder Information'!G1246","v":0}]
[{"$f":"'Gas Cylinder Information'!A1247","v":0},{"$f":"'Gas Cylinder Information'!C1247","v":0},{"$f":"'Gas Cylinder Information'!D1247","v":0},{"$f":"'Gas Cylinder Information'!B1247","v":0},{"$f":"'Gas Cylinder Information'!E1247","v":0},{"$f":"'Gas Cylinder Information'!F1247","v":0},{"$f":"'Gas Cylinder Information'!G1247","v":0}]
[{"$f":"'Gas Cylinder Information'!A1248","v":0},{"$f":"'Gas Cylinder Information'!C1248","v":0},{"$f":"'Gas Cylinder Information'!D1248","v":0},{"$f":"'Gas Cylinder Information'!B1248","v":0},{"$f":"'Gas Cylinder Information'!E1248","v":0},{"$f":"'Gas Cylinder Information'!F1248","v":0},{"$f":"'Gas Cylinder Information'!G1248","v":0}]
[{"$f":"'Gas Cylinder Information'!A1249","v":0},{"$f":"'Gas Cylinder Information'!C1249","v":0},{"$f":"'Gas Cylinder Information'!D1249","v":0},{"$f":"'Gas Cylinder Information'!B1249","v":0},{"$f":"'Gas Cylinder Information'!E1249","v":0},{"$f":"'Gas Cylinder Information'!F1249","v":0},{"$f":"'Gas Cylinder Information'!G1249","v":0}]
[{"$f":"'Gas Cylinder Information'!A1250","v":0},{"$f":"'Gas Cylinder Information'!C1250","v":0},{"$f":"'Gas Cylinder Information'!D1250","v":0},{"$f":"'Gas Cylinder Information'!B1250","v":0},{"$f":"'Gas Cylinder Information'!E1250","v":0},{"$f":"'Gas Cylinder Information'!F1250","v":0},{"$f":"'Gas Cylinder Information'!G1250","v":0}]
[{"$f":"'Gas Cylinder Information'!A1251","v":0},{"$f":"'Gas Cylinder Information'!C1251","v":0},{"$f":"'Gas Cylinder Information'!D1251","v":0},{"$f":"'Gas Cylinder Information'!B1251","v":0},{"$f":"'Gas Cylinder Information'!E1251","v":0},{"$f":"'Gas Cylinder Information'!F1251","v":0},{"$f":"'Gas Cylinder Information'!G1251","v":0}]
[{"$f":"'Gas Cylinder Information'!A1252","v":0},{"$f":"'Gas Cylinder Information'!C1252","v":0},{"$f":"'Gas Cylinder Information'!D1252","v":0},{"$f":"'Gas Cylinder Information'!B1252","v":0},{"$f":"'Gas Cylinder Information'!E1252","v":0},{"$f":"'Gas Cylinder Information'!F1252","v":0},{"$f":"'Gas Cylinder Information'!G1252","v":0}]
[{"$f":"'Gas Cylinder Information'!A1253","v":0},{"$f":"'Gas Cylinder Information'!C1253","v":0},{"$f":"'Gas Cylinder Information'!D1253","v":0},{"$f":"'Gas Cylinder Information'!B1253","v":0},{"$f":"'Gas Cylinder Information'!E1253","v":0},{"$f":"'Gas Cylinder Information'!F1253","v":0},{"$f":"'Gas Cylinder Information'!G1253","v":0}]
[{"$f":"'Gas Cylinder Information'!A1254","v":0},{"$f":"'Gas Cylinder Information'!C1254","v":0},{"$f":"'Gas Cylinder Information'!D1254","v":0},{"$f":"'Gas Cylinder Information'!B1254","v":0},{"$f":"'Gas Cylinder Information'!E1254","v":0},{"$f":"'Gas Cylinder Information'!F1254","v":0},{"$f":"'Gas Cylinder Information'!G1254","v":0}]
[{"$f":"'Gas Cylinder Information'!A1255","v":0},{"$f":"'Gas Cylinder Information'!C1255","v":0},{"$f":"'Gas Cylinder Information'!D1255","v":0},{"$f":"'Gas Cylinder Information'!B1255","v":0},{"$f":"'Gas Cylinder Information'!E1255","v":0},{"$f":"'Gas Cylinder Information'!F1255","v":0},{"$f":"'Gas Cylinder Information'!G1255","v":0}]
[{"$f":"'Gas Cylinder Information'!A1256","v":0},{"$f":"'Gas Cylinder Information'!C1256","v":0},{"$f":"'Gas Cylinder Information'!D1256","v":0},{"$f":"'Gas Cylinder Information'!B1256","v":0},{"$f":"'Gas Cylinder Information'!E1256","v":0},{"$f":"'Gas Cylinder Information'!F1256","v":0},{"$f":"'Gas Cylinder Information'!G1256","v":0}]
[{"$f":"'Gas Cylinder Information'!A1257","v":0},{"$f":"'Gas Cylinder Information'!C1257","v":0},{"$f":"'Gas Cylinder Information'!D1257","v":0},{"$f":"'Gas Cylinder Information'!B1257","v":0},{"$f":"'Gas Cylinder Information'!E1257","v":0},{"$f":"'Gas Cylinder Information'!F1257","v":0},{"$f":"'Gas Cylinder Information'!G1257","v":0}]
[{"$f":"'Gas Cylinder Information'!A1258","v":0},{"$f":"'Gas Cylinder Information'!C1258","v":0},{"$f":"'Gas Cylinder Information'!D1258","v":0},{"$f":"'Gas Cylinder Information'!B1258","v":0},{"$f":"'Gas Cylinder Information'!E1258","v":0},{"$f":"'Gas Cylinder Information'!F1258","v":0},{"$f":"'Gas Cylinder Information'!G1258","v":0}]
[{"$f":"'Gas Cylinder Information'!A1259","v":0},{"$f":"'Gas Cylinder Information'!C1259","v":0},{"$f":"'Gas Cylinder Information'!D1259","v":0},{"$f":"'Gas Cylinder Information'!B1259","v":0},{"$f":"'Gas Cylinder Information'!E1259","v":0},{"$f":"'Gas Cylinder Information'!F1259","v":0},{"$f":"'Gas Cylinder Information'!G1259","v":0}]
[{"$f":"'Gas Cylinder Information'!A1260","v":0},{"$f":"'Gas Cylinder Information'!C1260","v":0},{"$f":"'Gas Cylinder Information'!D1260","v":0},{"$f":"'Gas Cylinder Information'!B1260","v":0},{"$f":"'Gas Cylinder Information'!E1260","v":0},{"$f":"'Gas Cylinder Information'!F1260","v":0},{"$f":"'Gas Cylinder Information'!G1260","v":0}]
[{"$f":"'Gas Cylinder Information'!A1261","v":0},{"$f":"'Gas Cylinder Information'!C1261","v":0},{"$f":"'Gas Cylinder Information'!D1261","v":0},{"$f":"'Gas Cylinder Information'!B1261","v":0},{"$f":"'Gas Cylinder Information'!E1261","v":0},{"$f":"'Gas Cylinder Information'!F1261","v":0},{"$f":"'Gas Cylinder Information'!G1261","v":0}]
[{"$f":"'Gas Cylinder Information'!A1262","v":0},{"$f":"'Gas Cylinder Information'!C1262","v":0},{"$f":"'Gas Cylinder Information'!D1262","v":0},{"$f":"'Gas Cylinder Information'!B1262","v":0},{"$f":"'Gas Cylinder Information'!E1262","v":0},{"$f":"'Gas Cylinder Information'!F1262","v":0},{"$f":"'Gas Cylinder Information'!G1262","v":0}]
[{"$f":"'Gas Cylinder Information'!A1263","v":0},{"$f":"'Gas Cylinder Information'!C1263","v":0},{"$f":"'Gas Cylinder Information'!D1263","v":0},{"$f":"'Gas Cylinder Information'!B1263","v":0},{"$f":"'Gas Cylinder Information'!E1263","v":0},{"$f":"'Gas Cylinder Information'!F1263","v":0},{"$f":"'Gas Cylinder Information'!G1263","v":0}]
[{"$f":"'Gas Cylinder Information'!A1264","v":0},{"$f":"'Gas Cylinder Information'!C1264","v":0},{"$f":"'Gas Cylinder Information'!D1264","v":0},{"$f":"'Gas Cylinder Information'!B1264","v":0},{"$f":"'Gas Cylinder Information'!E1264","v":0},{"$f":"'Gas Cylinder Information'!F1264","v":0},{"$f":"'Gas Cylinder Information'!G1264","v":0}]
[{"$f":"'Gas Cylinder Information'!A1265","v":0},{"$f":"'Gas Cylinder Information'!C1265","v":0},{"$f":"'Gas Cylinder Information'!D1265","v":0},{"$f":"'Gas Cylinder Information'!B1265","v":0},{"$f":"'Gas Cylinder Information'!E1265","v":0},{"$f":"'Gas Cylinder Information'!F1265","v":0},{"$f":"'Gas Cylinder Information'!G1265","v":0}]
[{"$f":"'Gas Cylinder Information'!A1266","v":0},{"$f":"'Gas Cylinder Information'!C1266","v":0},{"$f":"'Gas Cylinder Information'!D1266","v":0},{"$f":"'Gas Cylinder Information'!B1266","v":0},{"$f":"'Gas Cylinder Information'!E1266","v":0},{"$f":"'Gas Cylinder Information'!F1266","v":0},{"$f":"'Gas Cylinder Information'!G1266","v":0}]
[{"$f":"'Gas Cylinder Information'!A1267","v":0},{"$f":"'Gas Cylinder Information'!C1267","v":0},{"$f":"'Gas Cylinder Information'!D1267","v":0},{"$f":"'Gas Cylinder Information'!B1267","v":0},{"$f":"'Gas Cylinder Information'!E1267","v":0},{"$f":"'Gas Cylinder Information'!F1267","v":0},{"$f":"'Gas Cylinder Information'!G1267","v":0}]
[{"$f":"'Gas Cylinder Information'!A1268","v":0},{"$f":"'Gas Cylinder Information'!C1268","v":0},{"$f":"'Gas Cylinder Information'!D1268","v":0},{"$f":"'Gas Cylinder Information'!B1268","v":0},{"$f":"'Gas Cylinder Information'!E1268","v":0},{"$f":"'Gas Cylinder Information'!F1268","v":0},{"$f":"'Gas Cylinder Information'!G1268","v":0}]
[{"$f":"'Gas Cylinder Information'!A1269","v":0},{"$f":"'Gas Cylinder Information'!C1269","v":0},{"$f":"'Gas Cylinder Information'!D1269","v":0},{"$f":"'Gas Cylinder Information'!B1269","v":0},{"$f":"'Gas Cylinder Information'!E1269","v":0},{"$f":"'Gas Cylinder Information'!F1269","v":0},{"$f":"'Gas Cylinder Information'!G1269","v":0}]
[{"$f":"'Gas Cylinder Information'!A1270","v":0},{"$f":"'Gas Cylinder Information'!C1270","v":0},{"$f":"'Gas Cylinder Information'!D1270","v":0},{"$f":"'Gas Cylinder Information'!B1270","v":0},{"$f":"'Gas Cylinder Information'!E1270","v":0},{"$f":"'Gas Cylinder Information'!F1270","v":0},{"$f":"'Gas Cylinder Information'!G1270","v":0}]
[{"$f":"'Gas Cylinder Information'!A1271","v":0},{"$f":"'Gas Cylinder Information'!C1271","v":0},{"$f":"'Gas Cylinder Information'!D1271","v":0},{"$f":"'Gas Cylinder Information'!B1271","v":0},{"$f":"'Gas Cylinder Information'!E1271","v":0},{"$f":"'Gas Cylinder Information'!F1271","v":0},{"$f":"'Gas Cylinder Information'!G1271","v":0}]
[{"$f":"'Gas Cylinder Information'!A1272","v":0},{"$f":"'Gas Cylinder Information'!C1272","v":0},{"$f":"'Gas Cylinder Information'!D1272","v":0},{"$f":"'Gas Cylinder Information'!B1272","v":0},{"$f":"'Gas Cylinder Information'!E1272","v":0},{"$f":"'Gas Cylinder Information'!F1272","v":0},{"$f":"'Gas Cylinder Information'!G1272","v":0}]
[{"$f":"'Gas Cylinder Information'!A1273","v":0},{"$f":"'Gas Cylinder Information'!C1273","v":0},{"$f":"'Gas Cylinder Information'!D1273","v":0},{"$f":"'Gas Cylinder Information'!B1273","v":0},{"$f":"'Gas Cylinder Information'!E1273","v":0},{"$f":"'Gas Cylinder Information'!F1273","v":0},{"$f":"'Gas Cylinder Information'!G1273","v":0}]
[{"$f":"'Gas Cylinder Information'!A1274","v":0},{"$f":"'Gas Cylinder Information'!C1274","v":0},{"$f":"'Gas Cylinder Information'!D1274","v":0},{"$f":"'Gas Cylinder Information'!B1274","v":0},{"$f":"'Gas Cylinder Information'!E1274","v":0},{"$f":"'Gas Cylinder Information'!F1274","v":0},{"$f":"'Gas Cylinder Information'!G1274","v":0}]
[{"$f":"'Gas Cylinder Information'!A1275","v":0},{"$f":"'Gas Cylinder Information'!C1275","v":0},{"$f":"'Gas Cylinder Information'!D1275","v":0},{"$f":"'Gas Cylinder Information'!B1275","v":0},{"$f":"'Gas Cylinder Information'!E1275","v":0},{"$f":"'Gas Cylinder Information'!F1275","v":0},{"$f":"'Gas Cylinder Information'!G1275","v":0}]
[{"$f":"'Gas Cylinder Information'!A1276","v":0},{"$f":"'Gas Cylinder Information'!C1276","v":0},{"$f":"'Gas Cylinder Information'!D1276","v":0},{"$f":"'Gas Cylinder Information'!B1276","v":0},{"$f":"'Gas Cylinder Information'!E1276","v":0},{"$f":"'Gas Cylinder Information'!F1276","v":0},{"$f":"'Gas Cylinder Information'!G1276","v":0}]
[{"$f":"'Gas Cylinder Information'!A1277","v":0},{"$f":"'Gas Cylinder Information'!C1277","v":0},{"$f":"'Gas Cylinder Information'!D1277","v":0},{"$f":"'Gas Cylinder Information'!B1277","v":0},{"$f":"'Gas Cylinder Information'!E1277","v":0},{"$f":"'Gas Cylinder Information'!F1277","v":0},{"$f":"'Gas Cylinder Information'!G1277","v":0}]
[{"$f":"'Gas Cylinder Information'!A1278","v":0},{"$f":"'Gas Cylinder Information'!C1278","v":0},{"$f":"'Gas Cylinder Information'!D1278","v":0},{"$f":"'Gas Cylinder Information'!B1278","v":0},{"$f":"'Gas Cylinder Information'!E1278","v":0},{"$f":"'Gas Cylinder Information'!F1278","v":0},{"$f":"'Gas Cylinder Information'!G1278","v":0}]
[{"$f":"'Gas Cylinder Information'!A1279","v":0},{"$f":"'Gas Cylinder Information'!C1279","v":0},{"$f":"'Gas Cylinder Information'!D1279","v":0},{"$f":"'Gas Cylinder Information'!B1279","v":0},{"$f":"'Gas Cylinder Information'!E1279","v":0},{"$f":"'Gas Cylinder Information'!F1279","v":0},{"$f":"'Gas Cylinder Information'!G1279","v":0}]
[{"$f":"'Gas Cylinder Information'!A1280","v":0},{"$f":"'Gas Cylinder Information'!C1280","v":0},{"$f":"'Gas Cylinder Information'!D1280","v":0},{"$f":"'Gas Cylinder Information'!B1280","v":0},{"$f":"'Gas Cylinder Information'!E1280","v":0},{"$f":"'Gas Cylinder Information'!F1280","v":0},{"$f":"'Gas Cylinder Information'!G1280","v":0}]
[{"$f":"'Gas Cylinder Information'!A1281","v":0},{"$f":"'Gas Cylinder Information'!C1281","v":0},{"$f":"'Gas Cylinder Information'!D1281","v":0},{"$f":"'Gas Cylinder Information'!B1281","v":0},{"$f":"'Gas Cylinder Information'!E1281","v":0},{"$f":"'Gas Cylinder Information'!F1281","v":0},{"$f":"'Gas Cylinder Information'!G1281","v":0}]
[{"$f":"'Gas Cylinder Information'!A1282","v":0},{"$f":"'Gas Cylinder Information'!C1282","v":0},{"$f":"'Gas Cylinder Information'!D1282","v":0},{"$f":"'Gas Cylinder Information'!B1282","v":0},{"$f":"'Gas Cylinder Information'!E1282","v":0},{"$f":"'Gas Cylinder Information'!F1282","v":0},{"$f":"'Gas Cylinder Information'!G1282","v":0}]
[{"$f":"'Gas Cylinder Information'!A1283","v":0},{"$f":"'Gas Cylinder Information'!C1283","v":0},{"$f":"'Gas Cylinder Information'!D1283","v":0},{"$f":"'Gas Cylinder Information'!B1283","v":0},{"$f":"'Gas Cylinder Information'!E1283","v":0},{"$f":"'Gas Cylinder Information'!F1283","v":0},{"$f":"'Gas Cylinder Information'!G1283","v":0}]
[{"$f":"'Gas Cylinder Information'!A1284","v":0},{"$f":"'Gas Cylinder Information'!C1284","v":0},{"$f":"'Gas Cylinder Information'!D1284","v":0},{"$f":"'Gas Cylinder Information'!B1284","v":0},{"$f":"'Gas Cylinder Information'!E1284","v":0},{"$f":"'Gas Cylinder Information'!F1284","v":0},{"$f":"'Gas Cylinder Information'!G1284","v":0}]
[{"$f":"'Gas Cylinder Information'!A1285","v":0},{"$f":"'Gas Cylinder Information'!C1285","v":0},{"$f":"'Gas Cylinder Information'!D1285","v":0},{"$f":"'Gas Cylinder Information'!B1285","v":0},{"$f":"'Gas Cylinder Information'!E1285","v":0},{"$f":"'Gas Cylinder Information'!F1285","v":0},{"$f":"'Gas Cylinder Information'!G1285","v":0}]
[{"$f":"'Gas Cylinder Information'!A1286","v":0},{"$f":"'Gas Cylinder Information'!C1286","v":0},{"$f":"'Gas Cylinder Information'!D1286","v":0},{"$f":"'Gas Cylinder Information'!B1286","v":0},{"$f":"'Gas Cylinder Information'!E1286","v":0},{"$f":"'Gas Cylinder Information'!F1286","v":0},{"$f":"'Gas Cylinder Information'!G1286","v":0}]
[{"$f":"'Gas Cylinder Information'!A1287","v":0},{"$f":"'Gas Cylinder Information'!C1287","v":0},{"$f":"'Gas Cylinder Information'!D1287","v":0},{"$f":"'Gas Cylinder Information'!B1287","v":0},{"$f":"'Gas Cylinder Information'!E1287","v":0},{"$f":"'Gas Cylinder Information'!F1287","v":0},{"$f":"'Gas Cylinder Information'!G1287","v":0}]
[{"$f":"'Gas Cylinder Information'!A1288","v":0},{"$f":"'Gas Cylinder Information'!C1288","v":0},{"$f":"'Gas Cylinder Information'!D1288","v":0},{"$f":"'Gas Cylinder Information'!B1288","v":0},{"$f":"'Gas Cylinder Information'!E1288","v":0},{"$f":"'Gas Cylinder Information'!F1288","v":0},{"$f":"'Gas Cylinder Information'!G1288","v":0}]
[{"$f":"'Gas Cylinder Information'!A1289","v":0},{"$f":"'Gas Cylinder Information'!C1289","v":0},{"$f":"'Gas Cylinder Information'!D1289","v":0},{"$f":"'Gas Cylinder Information'!B1289","v":0},{"$f":"'Gas Cylinder Information'!E1289","v":0},{"$f":"'Gas Cylinder Information'!F1289","v":0},{"$f":"'Gas Cylinder Information'!G1289","v":0}]
[{"$f":"'Gas Cylinder Information'!A1290","v":0},{"$f":"'Gas Cylinder Information'!C1290","v":0},{"$f":"'Gas Cylinder Information'!D1290","v":0},{"$f":"'Gas Cylinder Information'!B1290","v":0},{"$f":"'Gas Cylinder Information'!E1290","v":0},{"$f":"'Gas Cylinder Information'!F1290","v":0},{"$f":"'Gas Cylinder Information'!G1290","v":0}]
[{"$f":"'Gas Cylinder Information'!A1291","v":0},{"$f":"'Gas Cylinder Information'!C1291","v":0},{"$f":"'Gas Cylinder Information'!D1291","v":0},{"$f":"'Gas Cylinder Information'!B1291","v":0},{"$f":"'Gas Cylinder Information'!E1291","v":0},{"$f":"'Gas Cylinder Information'!F1291","v":0},{"$f":"'Gas Cylinder Information'!G1291","v":0}]
[{"$f":"'Gas Cylinder Information'!A1292","v":0},{"$f":"'Gas Cylinder Information'!C1292","v":0},{"$f":"'Gas Cylinder Information'!D1292","v":0},{"$f":"'Gas Cylinder Information'!B1292","v":0},{"$f":"'Gas Cylinder Information'!E1292","v":0},{"$f":"'Gas Cylinder Information'!F1292","v":0},{"$f":"'Gas Cylinder Information'!G1292","v":0}]
[{"$f":"'Gas Cylinder Information'!A1293","v":0},{"$f":"'Gas Cylinder Information'!C1293","v":0},{"$f":"'Gas Cylinder Information'!D1293","v":0},{"$f":"'Gas Cylinder Information'!B1293","v":0},{"$f":"'Gas Cylinder Information'!E1293","v":0},{"$f":"'Gas Cylinder Information'!F1293","v":0},{"$f":"'Gas Cylinder Information'!G1293","v":0}]
[{"$f":"'Gas Cylinder Information'!A1294","v":0},{"$f":"'Gas Cylinder Information'!C1294","v":0},{"$f":"'Gas Cylinder Information'!D1294","v":0},{"$f":"'Gas Cylinder Information'!B1294","v":0},{"$f":"'Gas Cylinder Information'!E1294","v":0},{"$f":"'Gas Cylinder Information'!F1294","v":0},{"$f":"'Gas Cylinder Information'!G1294","v":0}]
[{"$f":"'Gas Cylinder Information'!A1295","v":0},{"$f":"'Gas Cylinder Information'!C1295","v":0},{"$f":"'Gas Cylinder Information'!D1295","v":0},{"$f":"'Gas Cylinder Information'!B1295","v":0},{"$f":"'Gas Cylinder Information'!E1295","v":0},{"$f":"'Gas Cylinder Information'!F1295","v":0},{"$f":"'Gas Cylinder Information'!G1295","v":0}]
[{"$f":"'Gas Cylinder Information'!A1296","v":0},{"$f":"'Gas Cylinder Information'!C1296","v":0},{"$f":"'Gas Cylinder Information'!D1296","v":0},{"$f":"'Gas Cylinder Information'!B1296","v":0},{"$f":"'Gas Cylinder Information'!E1296","v":0},{"$f":"'Gas Cylinder Information'!F1296","v":0},{"$f":"'Gas Cylinder Information'!G1296","v":0}]
[{"$f":"'Gas Cylinder Information'!A1297","v":0},{"$f":"'Gas Cylinder Information'!C1297","v":0},{"$f":"'Gas Cylinder Information'!D1297","v":0},{"$f":"'Gas Cylinder Information'!B1297","v":0},{"$f":"'Gas Cylinder Information'!E1297","v":0},{"$f":"'Gas Cylinder Information'!F1297","v":0},{"$f":"'Gas Cylinder Information'!G1297","v":0}]
[{"$f":"'Gas Cylinder Information'!A1298","v":0},{"$f":"'Gas Cylinder Information'!C1298","v":0},{"$f":"'Gas Cylinder Information'!D1298","v":0},{"$f":"'Gas Cylinder Information'!B1298","v":0},{"$f":"'Gas Cylinder Information'!E1298","v":0},{"$f":"'Gas Cylinder Information'!F1298","v":0},{"$f":"'Gas Cylinder Information'!G1298","v":0}]
[{"$f":"'Gas Cylinder Information'!A1299","v":0},{"$f":"'Gas Cylinder Information'!C1299","v":0},{"$f":"'Gas Cylinder Information'!D1299","v":0},{"$f":"'Gas Cylinder Information'!B1299","v":0},{"$f":"'Gas Cylinder Information'!E1299","v":0},{"$f":"'Gas Cylinder Information'!F1299","v":0},{"$f":"'Gas Cylinder Information'!G1299","v":0}]
[{"$f":"'Gas Cylinder Information'!A1300","v":0},{"$f":"'Gas Cylinder Information'!C1300","v":0},{"$f":"'Gas Cylinder Information'!D1300","v":0},{"$f":"'Gas Cylinder Information'!B1300","v":0},{"$f":"'Gas Cylinder Information'!E1300","v":0},{"$f":"'Gas Cylinder Information'!F1300","v":0},{"$f":"'Gas Cylinder Information'!G1300","v":0}]
[{"$f":"'Gas Cylinder Information'!A1301","v":0},{"$f":"'Gas Cylinder Information'!C1301","v":0},{"$f":"'Gas Cylinder Information'!D1301","v":0},{"$f":"'Gas Cylinder Information'!B1301","v":0},{"$f":"'Gas Cylinder Information'!E1301","v":0},{"$f":"'Gas Cylinder Information'!F1301","v":0},{"$f":"'Gas Cylinder Information'!G1301","v":0}]
[{"$f":"'Gas Cylinder Information'!A1302","v":0},{"$f":"'Gas Cylinder Information'!C1302","v":0},{"$f":"'Gas Cylinder Information'!D1302","v":0},{"$f":"'Gas Cylinder Information'!B1302","v":0},{"$f":"'Gas Cylinder Information'!E1302","v":0},{"$f":"'Gas Cylinder Information'!F1302","v":0},{"$f":"'Gas Cylinder Information'!G1302","v":0}]

{"sheet":"ERT_tblCals ","index":13,"n_rows":22,"n_cols":21,"rows_kept":22,"cut":false,"hidden":false,"merged":[]}
["Location","Method","Set","Span","DZCylID","DZRV","DLCylID","DLRV","DlError","DMCylID","DMRV","DMError","DHCylID","DHRV","DHError","SZCylID","SZRV","SZError","SHCylID","SHRV","SHError"]
[{"$f":"'Gas Calibration'!A4","v":0},{"$f":"'Gas Calibration'!B4","v":0},{"$f":"'Gas Calibration'!C4","v":1},{"$f":"'Gas Calibration'!E4","v":""},{"$f":"'Gas Calibration'!G4","v":0},{"$f":"'Gas Calibration'!I4","v":0},{"$f":"'Gas Calibration'!G5","v":0},{"$f":"'Gas Calibration'!I5","v":0},"",{"$f":"'Gas Calibration'!G6","v":0},{"$f":"'Gas Calibration'!I6","v":0},null,{"$f":"'Gas Calibration'!G7","v":0},{"$f":"'Gas Calibration'!I7","v":0},null,{"$f":"'Gas Calibration'!G8","v":0},{"$f":"'Gas Calibration'!I8","v":0},null,{"$f":"'Gas Calibration'!G9","v":0},{"$f":"'Gas Calibration'!I9","v":0}]
[{"$f":"'Gas Calibration'!A10","v":""},{"$f":"'Gas Calibration'!B10","v":0},{"$f":"'Gas Calibration'!C10","v":2},{"$f":"'Gas Calibration'!E10","v":""},{"$f":"'Gas Calibration'!G11","v":0},{"$f":"'Gas Calibration'!I11","v":0},{"$f":"'Gas Calibration'!G12","v":0},{"$f":"'Gas Calibration'!I12","v":0},"",{"$f":"'Gas Calibration'!G13","v":0},{"$f":"'Gas Calibration'!I13","v":0},null,{"$f":"'Gas Calibration'!G14","v":0},{"$f":"'Gas Calibration'!I14","v":0},null,{"$f":"'Gas Calibration'!G15","v":0},{"$f":"'Gas Calibration'!I15","v":0},null,{"$f":"'Gas Calibration'!G16","v":0},{"$f":"'Gas Calibration'!I16","v":0}]
[{"$f":"'Gas Calibration'!A17","v":""},{"$f":"'Gas Calibration'!B17","v":0},{"$f":"'Gas Calibration'!C17","v":3},{"$f":"'Gas Calibration'!E17","v":""},{"$f":"'Gas Calibration'!G18","v":0},{"$f":"'Gas Calibration'!I18","v":0},{"$f":"'Gas Calibration'!G19","v":0},{"$f":"'Gas Calibration'!I19","v":0},"",{"$f":"'Gas Calibration'!G20","v":0},{"$f":"'Gas Calibration'!I20","v":0},null,{"$f":"'Gas Calibration'!G21","v":0},{"$f":"'Gas Calibration'!I21","v":0},null,{"$f":"'Gas Calibration'!G22","v":0},{"$f":"'Gas Calibration'!I22","v":0},null,{"$f":"'Gas Calibration'!G23","v":0},{"$f":"'Gas Calibration'!I23","v":0}]
[{"$f":"'Gas Calibration'!A24","v":""},{"$f":"'Gas Calibration'!B24","v":0},{"$f":"'Gas Calibration'!C24","v":4},{"$f":"'Gas Calibration'!E24","v":""},{"$f":"'Gas Calibration'!G25","v":0},{"$f":"'Gas Calibration'!I25","v":0},{"$f":"'Gas Calibration'!G26","v":0},{"$f":"'Gas Calibration'!I26","v":0},"",{"$f":"'Gas Calibration'!G27","v":0},{"$f":"'Gas Calibration'!I27","v":0},null,{"$f":"'Gas Calibration'!G28","v":0},{"$f":"'Gas Calibration'!I28","v":0},null,{"$f":"'Gas Calibration'!G29","v":0},{"$f":"'Gas Calibration'!I29","v":0},null,{"$f":"'Gas Calibration'!G30","v":0},{"$f":"'Gas Calibration'!I30","v":0}]
[{"$f":"'Gas Calibration'!A31","v":""},{"$f":"'Gas Calibration'!B31","v":0},{"$f":"'Gas Calibration'!C31","v":5},{"$f":"'Gas Calibration'!E31","v":""},{"$f":"'Gas Calibration'!G32","v":0},{"$f":"'Gas Calibration'!I32","v":0},{"$f":"'Gas Calibration'!G33","v":0},{"$f":"'Gas Calibration'!I33","v":0},"",{"$f":"'Gas Calibration'!G34","v":0},{"$f":"'Gas Calibration'!I34","v":0},null,{"$f":"'Gas Calibration'!G35","v":0},{"$f":"'Gas Calibration'!I35","v":0},null,{"$f":"'Gas Calibration'!G36","v":0},{"$f":"'Gas Calibration'!I36","v":0},null,{"$f":"'Gas Calibration'!G37","v":0},{"$f":"'Gas Calibration'!I37","v":0}]
[{"$f":"'Gas Calibration'!A38","v":""},{"$f":"'Gas Calibration'!B38","v":0},{"$f":"'Gas Calibration'!C38","v":6},{"$f":"'Gas Calibration'!E38","v":""},{"$f":"'Gas Calibration'!G39","v":0},{"$f":"'Gas Calibration'!I39","v":0},{"$f":"'Gas Calibration'!G40","v":0},{"$f":"'Gas Calibration'!I40","v":0},null,{"$f":"'Gas Calibration'!G41","v":0},{"$f":"'Gas Calibration'!I41","v":0},null,{"$f":"'Gas Calibration'!G42","v":0},{"$f":"'Gas Calibration'!I42","v":0},null,{"$f":"'Gas Calibration'!G43","v":0},{"$f":"'Gas Calibration'!I43","v":0},null,{"$f":"'Gas Calibration'!G44","v":0},{"$f":"'Gas Calibration'!I44","v":0}]
[{"$f":"'Gas Calibration'!A45","v":""},{"$f":"'Gas Calibration'!B45","v":0},{"$f":"'Gas Calibration'!C45","v":7},{"$f":"'Gas Calibration'!E45","v":""},{"$f":"'Gas Calibration'!G46","v":0},{"$f":"'Gas Calibration'!I46","v":0},{"$f":"'Gas Calibration'!G47","v":0},{"$f":"'Gas Calibration'!I47","v":0},null,{"$f":"'Gas Calibration'!G48","v":0},{"$f":"'Gas Calibration'!I48","v":0},null,{"$f":"'Gas Calibration'!G49","v":0},{"$f":"'Gas Calibration'!I49","v":0},null,{"$f":"'Gas Calibration'!G50","v":0},{"$f":"'Gas Calibration'!I50","v":0},null,{"$f":"'Gas Calibration'!G51","v":0},{"$f":"'Gas Calibration'!I51","v":0}]
[{"$f":"'Gas Calibration'!A52","v":""},{"$f":"'Gas Calibration'!B52","v":0},{"$f":"'Gas Calibration'!C52","v":8},{"$f":"'Gas Calibration'!E52","v":""},{"$f":"'Gas Calibration'!G53","v":0},{"$f":"'Gas Calibration'!I53","v":0},{"$f":"'Gas Calibration'!G54","v":0},{"$f":"'Gas Calibration'!I54","v":0},null,{"$f":"'Gas Calibration'!G55","v":0},{"$f":"'Gas Calibration'!I55","v":0},null,{"$f":"'Gas Calibration'!G56","v":0},{"$f":"'Gas Calibration'!I56","v":0},null,{"$f":"'Gas Calibration'!G57","v":0},{"$f":"'Gas Calibration'!I57","v":0},null,{"$f":"'Gas Calibration'!G58","v":0},{"$f":"'Gas Calibration'!I58","v":0}]
[{"$f":"'Gas Calibration'!A59","v":""},{"$f":"'Gas Calibration'!B59","v":0},{"$f":"'Gas Calibration'!C59","v":9},{"$f":"'Gas Calibration'!E59","v":""},{"$f":"'Gas Calibration'!G60","v":0},{"$f":"'Gas Calibration'!I60","v":0},{"$f":"'Gas Calibration'!G61","v":0},{"$f":"'Gas Calibration'!I61","v":0},null,{"$f":"'Gas Calibration'!G62","v":0},{"$f":"'Gas Calibration'!I62","v":0},null,{"$f":"'Gas Calibration'!G63","v":0},{"$f":"'Gas Calibration'!I63","v":0},null,{"$f":"'Gas Calibration'!G64","v":0},{"$f":"'Gas Calibration'!I64","v":0},null,{"$f":"'Gas Calibration'!G65","v":0},{"$f":"'Gas Calibration'!I65","v":0}]
[{"$f":"'Gas Calibration'!A66","v":""},{"$f":"'Gas Calibration'!B66","v":0},{"$f":"'Gas Calibration'!C66","v":10},{"$f":"'Gas Calibration'!E66","v":""},{"$f":"'Gas Calibration'!G67","v":0},{"$f":"'Gas Calibration'!I67","v":0},{"$f":"'Gas Calibration'!G68","v":0},{"$f":"'Gas Calibration'!I68","v":0},null,{"$f":"'Gas Calibration'!G69","v":0},{"$f":"'Gas Calibration'!I69","v":0},null,{"$f":"'Gas Calibration'!G70","v":0},{"$f":"'Gas Calibration'!I70","v":0},null,{"$f":"'Gas Calibration'!G71","v":0},{"$f":"'Gas Calibration'!I71","v":0},null,{"$f":"'Gas Calibration'!G72","v":0},{"$f":"'Gas Calibration'!I72","v":0}]
[{"$f":"'Gas Calibration'!A73","v":""},{"$f":"'Gas Calibration'!B73","v":0},{"$f":"'Gas Calibration'!C73","v":11},{"$f":"'Gas Calibration'!E73","v":""},{"$f":"'Gas Calibration'!G74","v":0},{"$f":"'Gas Calibration'!I74","v":0},{"$f":"'Gas Calibration'!G75","v":0},{"$f":"'Gas Calibration'!I75","v":0},null,{"$f":"'Gas Calibration'!G76","v":0},{"$f":"'Gas Calibration'!I76","v":0},null,{"$f":"'Gas Calibration'!G77","v":0},{"$f":"'Gas Calibration'!I77","v":0},null,{"$f":"'Gas Calibration'!G78","v":0},{"$f":"'Gas Calibration'!I78","v":0},null,{"$f":"'Gas Calibration'!G79","v":0},{"$f":"'Gas Calibration'!I79","v":0}]
[{"$f":"'Gas Calibration'!A80","v":""},{"$f":"'Gas Calibration'!B80","v":0},{"$f":"'Gas Calibration'!C80","v":12},{"$f":"'Gas Calibration'!E80","v":""},{"$f":"'Gas Calibration'!G81","v":0},{"$f":"'Gas Calibration'!I81","v":0},{"$f":"'Gas Calibration'!G82","v":0},{"$f":"'Gas Calibration'!I82","v":0},null,{"$f":"'Gas Calibration'!G83","v":0},{"$f":"'Gas Calibration'!I83","v":0},null,{"$f":"'Gas Calibration'!G84","v":0},{"$f":"'Gas Calibration'!I84","v":0},null,{"$f":"'Gas Calibration'!G85","v":0},{"$f":"'Gas Calibration'!I85","v":0},null,{"$f":"'Gas Calibration'!G86","v":0},{"$f":"'Gas Calibration'!I86","v":0}]
[{"$f":"'Gas Calibration'!A87","v":""},{"$f":"'Gas Calibration'!B87","v":0},{"$f":"'Gas Calibration'!C87","v":13},{"$f":"'Gas Calibration'!E87","v":""},{"$f":"'Gas Calibration'!G88","v":0},{"$f":"'Gas Calibration'!I88","v":0},{"$f":"'Gas Calibration'!G89","v":0},{"$f":"'Gas Calibration'!I89","v":0},null,{"$f":"'Gas Calibration'!G90","v":0},{"$f":"'Gas Calibration'!I90","v":0},null,{"$f":"'Gas Calibration'!G91","v":0},{"$f":"'Gas Calibration'!I91","v":0},null,{"$f":"'Gas Calibration'!G92","v":0},{"$f":"'Gas Calibration'!I92","v":0},null,{"$f":"'Gas Calibration'!G93","v":0},{"$f":"'Gas Calibration'!I93","v":0}]
[{"$f":"'Gas Calibration'!A94","v":""},{"$f":"'Gas Calibration'!B94","v":0},{"$f":"'Gas Calibration'!C94","v":14},{"$f":"'Gas Calibration'!E94","v":""},{"$f":"'Gas Calibration'!G95","v":0},{"$f":"'Gas Calibration'!I95","v":0},{"$f":"'Gas Calibration'!G96","v":0},{"$f":"'Gas Calibration'!I96","v":0},null,{"$f":"'Gas Calibration'!G97","v":0},{"$f":"'Gas Calibration'!I97","v":0},null,{"$f":"'Gas Calibration'!G98","v":0},{"$f":"'Gas Calibration'!I98","v":0},null,{"$f":"'Gas Calibration'!G99","v":0},{"$f":"'Gas Calibration'!I99","v":0},null,{"$f":"'Gas Calibration'!G100","v":0},{"$f":"'Gas Calibration'!I100","v":0}]
[{"$f":"'Gas Calibration'!A101","v":""},{"$f":"'Gas Calibration'!B101","v":0},{"$f":"'Gas Calibration'!C101","v":15},{"$f":"'Gas Calibration'!E101","v":""},{"$f":"'Gas Calibration'!G102","v":0},{"$f":"'Gas Calibration'!I102","v":0},{"$f":"'Gas Calibration'!G103","v":0},{"$f":"'Gas Calibration'!I103","v":0},null,{"$f":"'Gas Calibration'!G104","v":0},{"$f":"'Gas Calibration'!I104","v":0},null,{"$f":"'Gas Calibration'!G105","v":0},{"$f":"'Gas Calibration'!I105","v":0},null,{"$f":"'Gas Calibration'!G106","v":0},{"$f":"'Gas Calibration'!I106","v":0},null,{"$f":"'Gas Calibration'!G107","v":0},{"$f":"'Gas Calibration'!I107","v":0}]
[{"$f":"'Gas Calibration'!A108","v":""},{"$f":"'Gas Calibration'!B108","v":0},{"$f":"'Gas Calibration'!C108","v":16},{"$f":"'Gas Calibration'!E108","v":""},{"$f":"'Gas Calibration'!G109","v":0},{"$f":"'Gas Calibration'!I109","v":0},{"$f":"'Gas Calibration'!G110","v":0},{"$f":"'Gas Calibration'!I110","v":0},null,{"$f":"'Gas Calibration'!G111","v":0},{"$f":"'Gas Calibration'!I111","v":0},null,{"$f":"'Gas Calibration'!G112","v":0},{"$f":"'Gas Calibration'!I112","v":0},null,{"$f":"'Gas Calibration'!G113","v":0},{"$f":"'Gas Calibration'!I113","v":0},null,{"$f":"'Gas Calibration'!G114","v":0},{"$f":"'Gas Calibration'!I114","v":0}]
[{"$f":"'Gas Calibration'!A115","v":""},{"$f":"'Gas Calibration'!B115","v":0},{"$f":"'Gas Calibration'!C115","v":17},{"$f":"'Gas Calibration'!E115","v":""},{"$f":"'Gas Calibration'!G116","v":0},{"$f":"'Gas Calibration'!I116","v":0},{"$f":"'Gas Calibration'!G117","v":0},{"$f":"'Gas Calibration'!I117","v":0},null,{"$f":"'Gas Calibration'!G118","v":0},{"$f":"'Gas Calibration'!I118","v":0},null,{"$f":"'Gas Calibration'!G119","v":0},{"$f":"'Gas Calibration'!I119","v":0},null,{"$f":"'Gas Calibration'!G120","v":0},{"$f":"'Gas Calibration'!I120","v":0},null,{"$f":"'Gas Calibration'!G121","v":0},{"$f":"'Gas Calibration'!I121","v":0}]
[{"$f":"'Gas Calibration'!A122","v":""},{"$f":"'Gas Calibration'!B122","v":0},{"$f":"'Gas Calibration'!C122","v":18},{"$f":"'Gas Calibration'!E122","v":""},{"$f":"'Gas Calibration'!G123","v":0},{"$f":"'Gas Calibration'!I123","v":0},{"$f":"'Gas Calibration'!G124","v":0},{"$f":"'Gas Calibration'!I124","v":0},null,{"$f":"'Gas Calibration'!G125","v":0},{"$f":"'Gas Calibration'!I125","v":0},null,{"$f":"'Gas Calibration'!G126","v":0},{"$f":"'Gas Calibration'!I126","v":0},null,{"$f":"'Gas Calibration'!G127","v":0},{"$f":"'Gas Calibration'!I127","v":0},null,{"$f":"'Gas Calibration'!G128","v":0},{"$f":"'Gas Calibration'!I128","v":0}]
[{"$f":"'Gas Calibration'!A129","v":""},{"$f":"'Gas Calibration'!B129","v":0},{"$f":"'Gas Calibration'!C129","v":19},{"$f":"'Gas Calibration'!E129","v":""},{"$f":"'Gas Calibration'!G130","v":0},{"$f":"'Gas Calibration'!I130","v":0},{"$f":"'Gas Calibration'!G131","v":0},{"$f":"'Gas Calibration'!I131","v":0},{"$f":"'Gas Calibration'!H131","v":""},{"$f":"'Gas Calibration'!G132","v":0},{"$f":"'Gas Calibration'!I132","v":0},null,{"$f":"'Gas Calibration'!G133","v":0},{"$f":"'Gas Calibration'!I133","v":0},null,{"$f":"'Gas Calibration'!G134","v":0},{"$f":"'Gas Calibration'!I134","v":0},null,{"$f":"'Gas Calibration'!G135","v":0},{"$f":"'Gas Calibration'!I135","v":0}]
[{"$f":"'Gas Calibration'!A136","v":""},{"$f":"'Gas Calibration'!B136","v":0},{"$f":"'Gas Calibration'!C136","v":20},{"$f":"'Gas Calibration'!E136","v":""},{"$f":"'Gas Calibration'!G137","v":0},{"$f":"'Gas Calibration'!I137","v":0},{"$f":"'Gas Calibration'!G138","v":0},{"$f":"'Gas Calibration'!I138","v":0},null,{"$f":"'Gas Calibration'!G139","v":0},{"$f":"'Gas Calibration'!I139","v":0},null,{"$f":"'Gas Calibration'!G140","v":0},{"$f":"'Gas Calibration'!I140","v":0},null,{"$f":"'Gas Calibration'!G141","v":0},{"$f":"'Gas Calibration'!I141","v":0},null,{"$f":"'Gas Calibration'!G142","v":0},{"$f":"'Gas Calibration'!I142","v":0}]
[{"$f":"'Gas Calibration'!A143","v":""},{"$f":"'Gas Calibration'!B143","v":0},{"$f":"'Gas Calibration'!C143","v":21},{"$f":"'Gas Calibration'!E143","v":""},{"$f":"'Gas Calibration'!G144","v":0},{"$f":"'Gas Calibration'!I144","v":0},{"$f":"'Gas Calibration'!G145","v":0},{"$f":"'Gas Calibration'!I145","v":0},null,{"$f":"'Gas Calibration'!G146","v":0},{"$f":"'Gas Calibration'!I146","v":0},null,{"$f":"'Gas Calibration'!G147","v":0},{"$f":"'Gas Calibration'!I147","v":0},null,{"$f":"'Gas Calibration'!G148","v":0},{"$f":"'Gas Calibration'!I148","v":0},null,{"$f":"'Gas Calibration'!G149","v":0},{"$f":"'Gas Calibration'!I149","v":0}]

{"sheet":"ERT_tblRunDataITM","index":14,"n_rows":73,"n_cols":30,"rows_kept":73,"cut":false,"hidden":false,"merged":[]}
["Location","Method","Run","RunDate","StartTime","EndTime","AnalyzerMake","AnalyzerModel","AnalyzerSN","OperRange","OperUnits","Readings","TimeInterval","CalSet","CalPreZCylID","CalPreZRV","CalPreHCylID","CalPreHRV","CalPostZCylID","CalPostZRV","CalPostHCylID","CalPostHRV","Cavg","CavgUnits","CgasUnits","FuelType","Fd","Fw","Fc","Fo"]
[{"$f":"IF(('Instrumental Data'!B15)=\"\",\"\",'Instrumental Data'!$C$2)","v":""},{"$f":"IF(('Instrumental Data'!$B15)=\"\",\"\",'Instrumental Data'!$C$3)","v":""},{"$f":"IF(('Instrumental Data'!B15)=\"\",\"\",'Instrumental Data'!B15)","v":""},{"$f":"IF(('Instrumental Data'!C15)=\"\",\"\",'Instrumental Data'!C15)","v":""},{"$f":"IF(('Instrumental Data'!D15)=\"\",\"\",TEXT('Instrumental Data'!D15,\"hh:mm\"))","v":""},{"$f":"IF(('Instrumental Data'!E15)=\"\",\"\",TEXT('Instrumental Data'!E15,\"hh:mm\"))","v":""},{"$f":"IF(('Instrumental Data'!B15)=\"\",\"\",'Instrumental Data'!C$7)","v":""},{"$f":"IF(('Instrumental Data'!B15)=\"\",\"\",'Instrumental Data'!C$8)","v":""},{"$f":"IF(('Instrumental Data'!B15)=\"\",\"\",'Instrumental Data'!C$9)","v":""},{"$f":"IF(('Instrumental Data'!B15)=\"\",\"\",'Instrumental Data'!F$6)","v":""},{"$f":"IF(('Instrumental Data'!B15)=\"\",\"\",'Instrumental Data'!F$7)","v":""},{"$f":"IF(('Instrumental Data'!B15)=\"\",\"\",'Instrumental Data'!F$8)","v":""},{"$f":"IF(('Instrumental Data'!B15)=\"\",\"\",'Instrumental Data'!F$9)","v":""},{"$f":"IF(('Instrumental Data'!B15)=\"\",\"\",'Instrumental Data'!F15)","v":""},{"$f":"IFERROR(VLOOKUP(N2&\" SystemZero\",List!$J$2:$L$43,2,FALSE),\"\")","v":""},{"$f":"IF('Instrumental Data'!G15=\"\",\"\",'Instrumental Data'!G15)","v":""},{"$f":"IFERROR(VLOOKUP(N2&\" SystemUpscale\",List!$J$2:$L$43,2,FALSE),\"\")","v":""},{"$f":"IF(('Instrumental Data'!H15)=\"\",\"\",'Instrumental Data'!H15)","v":""},{"$f":"IFERROR(VLOOKUP(N2&\" SystemZero\",List!$J$2:$L$43,2,FALSE),\"\")","v":""},{"$f":"IF(('Instrumental Data'!K15)=\"\",\"\",'Instrumental Data'!K15)","v":""},{"$f":"IFERROR(VLOOKUP(N2&\" SystemUpscale\",List!$J$2:$L$43,2,FALSE),\"\")","v":""},{"$f":"IF(('Instrumental Data'!L15)=\"\",\"\",'Instrumental Data'!L15)","v":""},{"$f":"IF(('Instrumental Data'!I15)=\"\",\"\",'Instrumental Data'!I15)","v":""},{"$f":"IF(('Instrumental Data'!B15)=\"\",\"\",'Instrumental Data'!$J$15)","v":""},{"$f":"IF(('Instrumental Data'!B15)=\"\",\"\",'Instrumental Data'!$J$15)","v":""},{"$f":"IF(('Instrumental Data'!B15)=\"\",\"\",'Instrumental Data'!F$10)","v":""}]
[{"$f":"IF(('Instrumental Data'!B16)=\"\",\"\",'Instrumental Data'!$C$2)","v":""},{"$f":"IF(('Instrumental Data'!$B16)=\"\",\"\",'Instrumental Data'!$C$3)","v":""},{"$f":"IF(('Instrumental Data'!B16)=\"\",\"\",'Instrumental Data'!B16)","v":""},{"$f":"IF(('Instrumental Data'!C16)=\"\",\"\",'Instrumental Data'!C16)","v":""},{"$f":"IF(('Instrumental Data'!D16)=\"\",\"\",TEXT('Instrumental Data'!D16,\"hh:mm\"))","v":""},{"$f":"IF(('Instrumental Data'!E16)=\"\",\"\",TEXT('Instrumental Data'!E16,\"hh:mm\"))","v":""},{"$f":"IF(('Instrumental Data'!B16)=\"\",\"\",'Instrumental Data'!C$7)","v":""},{"$f":"IF(('Instrumental Data'!B16)=\"\",\"\",'Instrumental Data'!C$8)","v":""},{"$f":"IF(('Instrumental Data'!B16)=\"\",\"\",'Instrumental Data'!C$9)","v":""},{"$f":"IF(('Instrumental Data'!B16)=\"\",\"\",'Instrumental Data'!F$6)","v":""},{"$f":"IF(('Instrumental Data'!B16)=\"\",\"\",'Instrumental Data'!F$7)","v":""},{"$f":"IF(('Instrumental Data'!B16)=\"\",\"\",'Instrumental Data'!F$8)","v":""},{"$f":"IF(('Instrumental Data'!B16)=\"\",\"\",'Instrumental Data'!F$9)","v":""},{"$f":"IF(('Instrumental Data'!B16)=\"\",\"\",'Instrumental Data'!F16)","v":""},{"$f":"IFERROR(VLOOKUP(N3&\" SystemZero\",List!$J$2:$L$43,2,FALSE),\"\")","v":""},{"$f":"IF('Instrumental Data'!G16=\"\",\"\",'Instrumental Data'!G16)","v":""},{"$f":"IFERROR(VLOOKUP(N3&\" SystemUpscale\",List!$J$2:$L$43,2,FALSE),\"\")","v":""},{"$f":"IF(('Instrumental Data'!H16)=\"\",\"\",'Instrumental Data'!H16)","v":""},{"$f":"IFERROR(VLOOKUP(N3&\" SystemZero\",List!$J$2:$L$43,2,FALSE),\"\")","v":""},{"$f":"IF(('Instrumental Data'!K16)=\"\",\"\",'Instrumental Data'!K16)","v":""},{"$f":"IFERROR(VLOOKUP(N3&\" SystemUpscale\",List!$J$2:$L$43,2,FALSE),\"\")","v":""},{"$f":"IF(('Instrumental Data'!L16)=\"\",\"\",'Instrumental Data'!L16)","v":""},{"$f":"IF(('Instrumental Data'!I16)=\"\",\"\",'Instrumental Data'!I16)","v":""},{"$f":"IF(('Instrumental Data'!B16)=\"\",\"\",'Instrumental Data'!$J$15)","v":""},{"$f":"IF(('Instrumental Data'!B16)=\"\",\"\",'Instrumental Data'!$J$15)","v":""},{"$f":"IF(('Instrumental Data'!B16)=\"\",\"\",'Instrumental Data'!F$10)","v":""}]
[{"$f":"IF(('Instrumental Data'!B17)=\"\",\"\",'Instrumental Data'!$C$2)","v":""},{"$f":"IF(('Instrumental Data'!$B17)=\"\",\"\",'Instrumental Data'!$C$3)","v":""},{"$f":"IF(('Instrumental Data'!B17)=\"\",\"\",'Instrumental Data'!B17)","v":""},{"$f":"IF(('Instrumental Data'!C17)=\"\",\"\",'Instrumental Data'!C17)","v":""},{"$f":"IF(('Instrumental Data'!D17)=\"\",\"\",TEXT('Instrumental Data'!D17,\"hh:mm\"))","v":""},{"$f":"IF(('Instrumental Data'!E17)=\"\",\"\",TEXT('Instrumental Data'!E17,\"hh:mm\"))","v":""},{"$f":"IF(('Instrumental Data'!B17)=\"\",\"\",'Instrumental Data'!C$7)","v":""},{"$f":"IF(('Instrumental Data'!B17)=\"\",\"\",'Instrumental Data'!C$8)","v":""},{"$f":"IF(('Instrumental Data'!B17)=\"\",\"\",'Instrumental Data'!C$9)","v":""},{"$f":"IF(('Instrumental Data'!B17)=\"\",\"\",'Instrumental Data'!F$6)","v":""},{"$f":"IF(('Instrumental Data'!B17)=\"\",\"\",'Instrumental Data'!F$7)","v":""},{"$f":"IF(('Instrumental Data'!B17)=\"\",\"\",'Instrumental Data'!F$8)","v":""},{"$f":"IF(('Instrumental Data'!B17)=\"\",\"\",'Instrumental Data'!F$9)","v":""},{"$f":"IF(('Instrumental Data'!B17)=\"\",\"\",'Instrumental Data'!F17)","v":""},{"$f":"IFERROR(VLOOKUP(N4&\" SystemZero\",List!$J$2:$L$43,2,FALSE),\"\")","v":""},{"$f":"IF('Instrumental Data'!G17=\"\",\"\",'Instrumental Data'!G17)","v":""},{"$f":"IFERROR(VLOOKUP(N4&\" SystemUpscale\",List!$J$2:$L$43,2,FALSE),\"\")","v":""},{"$f":"IF(('Instrumental Data'!H17)=\"\",\"\",'Instrumental Data'!H17)","v":""},{"$f":"IFERROR(VLOOKUP(N4&\" SystemZero\",List!$J$2:$L$43,2,FALSE),\"\")","v":""},{"$f":"IF(('Instrumental Data'!K17)=\"\",\"\",'Instrumental Data'!K17)","v":""},{"$f":"IFERROR(VLOOKUP(N4&\" SystemUpscale\",List!$J$2:$L$43,2,FALSE),\"\")","v":""},{"$f":"IF(('Instrumental Data'!L17)=\"\",\"\",'Instrumental Data'!L17)","v":""},{"$f":"IF(('Instrumental Data'!I17)=\"\",\"\",'Instrumental Data'!I17)","v":""},{"$f":"IF(('Instrumental Data'!B17)=\"\",\"\",'Instrumental Data'!$J$15)","v":""},{"$f":"IF(('Instrumental Data'!B17)=\"\",\"\",'Instrumental Data'!$J$15)","v":""},{"$f":"IF(('Instrumental Data'!B17)=\"\",\"\",'Instrumental Data'!F$10)","v":""}]
[{"$f":"IF(('Instrumental Data'!B18)=\"\",\"\",'Instrumental Data'!$C$2)","v":""},{"$f":"IF(('Instrumental Data'!$B18)=\"\",\"\",'Instrumental Data'!$C$3)","v":""},{"$f":"IF(('Instrumental Data'!B18)=\"\",\"\",'Instrumental Data'!B18)","v":""},{"$f":"IF(('Instrumental Data'!C18)=\"\",\"\",'Instrumental Data'!C18)","v":""},{"$f":"IF(('Instrumental Data'!D18)=\"\",\"\",TEXT('Instrumental Data'!D18,\"hh:mm\"))","v":""},{"$f":"IF(('Instrumental Data'!E18)=\"\",\"\",TEXT('Instrumental Data'!E18,\"hh:mm\"))","v":""},{"$f":"IF(('Instrumental Data'!B18)=\"\",\"\",'Instrumental Data'!C$7)","v":""},{"$f":"IF(('Instrumental Data'!B18)=\"\",\"\",'Instrumental Data'!C$8)","v":""},{"$f":"IF(('Instrumental Data'!B18)=\"\",\"\",'Instrumental Data'!C$9)","v":""},{"$f":"IF(('Instrumental Data'!B18)=\"\",\"\",'Instrumental Data'!F$6)","v":""},{"$f":"IF(('Instrumental Data'!B18)=\"\",\"\",'Instrumental Data'!F$7)","v":""},{"$f":"IF(('Instrumental Data'!B18)=\"\",\"\",'Instrumental Data'!F$8)","v":""},{"$f":"IF(('Instrumental Data'!B18)=\"\",\"\",'Instrumental Data'!F$9)","v":""},{"$f":"IF(('Instrumental Data'!B18)=\"\",\"\",'Instrumental Data'!F18)","v":""},{"$f":"IFERROR(VLOOKUP(N5&\" SystemZero\",List!$J$2:$L$43,2,FALSE),\"\")","v":""},{"$f":"IF('Instrumental Data'!G18=\"\",\"\",'Instrumental Data'!G18)","v":""},{"$f":"IFERROR(VLOOKUP(N5&\" SystemUpscale\",List!$J$2:$L$43,2,FALSE),\"\")","v":""},{"$f":"IF(('Instrumental Data'!H18)=\"\",\"\",'Instrumental Data'!H18)","v":""},{"$f":"IFERROR(VLOOKUP(N5&\" SystemZero\",List!$J$2:$L$43,2,FALSE),\"\")","v":""},{"$f":"IF(('Instrumental Data'!K18)=\"\",\"\",'Instrumental Data'!K18)","v":""},{"$f":"IFERROR(VLOOKUP(N5&\" SystemUpscale\",List!$J$2:$L$43,2,FALSE),\"\")","v":""},{"$f":"IF(('Instrumental Data'!L18)=\"\",\"\",'Instrumental Data'!L18)","v":""},{"$f":"IF(('Instrumental Data'!I18)=\"\",\"\",'Instrumental Data'!I18)","v":""},{"$f":"IF(('Instrumental Data'!B18)=\"\",\"\",'Instrumental Data'!$J$15)","v":""},{"$f":"IF(('Instrumental Data'!B18)=\"\",\"\",'Instrumental Data'!$J$15)","v":""},{"$f":"IF(('Instrumental Data'!B18)=\"\",\"\",'Instrumental Data'!F$10)","v":""}]
[{"$f":"IF(('Instrumental Data'!B19)=\"\",\"\",'Instrumental Data'!$C$2)","v":""},{"$f":"IF(('Instrumental Data'!$B19)=\"\",\"\",'Instrumental Data'!$C$3)","v":""},{"$f":"IF(('Instrumental Data'!B19)=\"\",\"\",'Instrumental Data'!B19)","v":""},{"$f":"IF(('Instrumental Data'!C19)=\"\",\"\",'Instrumental Data'!C19)","v":""},{"$f":"IF(('Instrumental Data'!D19)=\"\",\"\",TEXT('Instrumental Data'!D19,\"hh:mm\"))","v":""},{"$f":"IF(('Instrumental Data'!E19)=\"\",\"\",TEXT('Instrumental Data'!E19,\"hh:mm\"))","v":""},{"$f":"IF(('Instrumental Data'!B19)=\"\",\"\",'Instrumental Data'!C$7)","v":""},{"$f":"IF(('Instrumental Data'!B19)=\"\",\"\",'Instrumental Data'!C$8)","v":""},{"$f":"IF(('Instrumental Data'!B19)=\"\",\"\",'Instrumental Data'!C$9)","v":""},{"$f":"IF(('Instrumental Data'!B19)=\"\",\"\",'Instrumental Data'!F$6)","v":""},{"$f":"IF(('Instrumental Data'!B19)=\"\",\"\",'Instrumental Data'!F$7)","v":""},{"$f":"IF(('Instrumental Data'!B19)=\"\",\"\",'Instrumental Data'!F$8)","v":""},{"$f":"IF(('Instrumental Data'!B19)=\"\",\"\",'Instrumental Data'!F$9)","v":""},{"$f":"IF(('Instrumental Data'!B19)=\"\",\"\",'Instrumental Data'!F19)","v":""},{"$f":"IFERROR(VLOOKUP(N6&\" SystemZero\",List!$J$2:$L$43,2,FALSE),\"\")","v":""},{"$f":"IF('Instrumental Data'!G19=\"\",\"\",'Instrumental Data'!G19)","v":""},{"$f":"IFERROR(VLOOKUP(N6&\" SystemUpscale\",List!$J$2:$L$43,2,FALSE),\"\")","v":""},{"$f":"IF(('Instrumental Data'!H19)=\"\",\"\",'Instrumental Data'!H19)","v":""},{"$f":"IFERROR(VLOOKUP(N6&\" SystemZero\",List!$J$2:$L$43,2,FALSE),\"\")","v":""},{"$f":"IF(('Instrumental Data'!K19)=\"\",\"\",'Instrumental Data'!K19)","v":""},{"$f":"IFERROR(VLOOKUP(N6&\" SystemUpscale\",List!$J$2:$L$43,2,FALSE),\"\")","v":""},{"$f":"IF(('Instrumental Data'!L19)=\"\",\"\",'Instrumental Data'!L19)","v":""},{"$f":"IF(('Instrumental Data'!I19)=\"\",\"\",'Instrumental Data'!I19)","v":""},{"$f":"IF(('Instrumental Data'!B19)=\"\",\"\",'Instrumental Data'!$J$15)","v":""},{"$f":"IF(('Instrumental Data'!B19)=\"\",\"\",'Instrumental Data'!$J$15)","v":""},{"$f":"IF(('Instrumental Data'!B19)=\"\",\"\",'Instrumental Data'!F$10)","v":""}]
[{"$f":"IF(('Instrumental Data'!B20)=\"\",\"\",'Instrumental Data'!$C$2)","v":""},{"$f":"IF(('Instrumental Data'!$B20)=\"\",\"\",'Instrumental Data'!$C$3)","v":""},{"$f":"IF(('Instrumental Data'!B20)=\"\",\"\",'Instrumental Data'!B20)","v":""},{"$f":"IF(('Instrumental Data'!C20)=\"\",\"\",'Instrumental Data'!C20)","v":""},{"$f":"IF(('Instrumental Data'!D20)=\"\",\"\",TEXT('Instrumental Data'!D20,\"hh:mm\"))","v":""},{"$f":"IF(('Instrumental Data'!E20)=\"\",\"\",TEXT('Instrumental Data'!E20,\"hh:mm\"))","v":""},{"$f":"IF(('Instrumental Data'!B20)=\"\",\"\",'Instrumental Data'!C$7)","v":""},{"$f":"IF(('Instrumental Data'!B20)=\"\",\"\",'Instrumental Data'!C$8)","v":""},{"$f":"IF(('Instrumental Data'!B20)=\"\",\"\",'Instrumental Data'!C$9)","v":""},{"$f":"IF(('Instrumental Data'!B20)=\"\",\"\",'Instrumental Data'!F$6)","v":""},{"$f":"IF(('Instrumental Data'!B20)=\"\",\"\",'Instrumental Data'!F$7)","v":""},{"$f":"IF(('Instrumental Data'!B20)=\"\",\"\",'Instrumental Data'!F$8)","v":""},{"$f":"IF(('Instrumental Data'!B20)=\"\",\"\",'Instrumental Data'!F$9)","v":""},{"$f":"IF(('Instrumental Data'!B20)=\"\",\"\",'Instrumental Data'!F20)","v":""},{"$f":"IFERROR(VLOOKUP(N7&\" SystemZero\",List!$J$2:$L$43,2,FALSE),\"\")","v":""},{"$f":"IF('Instrumental Data'!G20=\"\",\"\",'Instrumental Data'!G20)","v":""},{"$f":"IFERROR(VLOOKUP(N7&\" SystemUpscale\",List!$J$2:$L$43,2,FALSE),\"\")","v":""},{"$f":"IF(('Instrumental Data'!H20)=\"\",\"\",'Instrumental Data'!H20)","v":""},{"$f":"IFERROR(VLOOKUP(N7&\" SystemZero\",List!$J$2:$L$43,2,FALSE),\"\")","v":""},{"$f":"IF(('Instrumental Data'!K20)=\"\",\"\",'Instrumental Data'!K20)","v":""},{"$f":"IFERROR(VLOOKUP(N7&\" SystemUpscale\",List!$J$2:$L$43,2,FALSE),\"\")","v":""},{"$f":"IF(('Instrumental Data'!L20)=\"\",\"\",'Instrumental Data'!L20)","v":""},{"$f":"IF(('Instrumental Data'!I20)=\"\",\"\",'Instrumental Data'!I20)","v":""},{"$f":"IF(('Instrumental Data'!B20)=\"\",\"\",'Instrumental Data'!$J$15)","v":""},{"$f":"IF(('Instrumental Data'!B20)=\"\",\"\",'Instrumental Data'!$J$15)","v":""},{"$f":"IF(('Instrumental Data'!B20)=\"\",\"\",'Instrumental Data'!F$10)","v":""}]
[{"$f":"IF(('Instrumental Data'!B21)=\"\",\"\",'Instrumental Data'!$C$2)","v":""},{"$f":"IF(('Instrumental Data'!$B21)=\"\",\"\",'Instrumental Data'!$C$3)","v":""},{"$f":"IF(('Instrumental Data'!B21)=\"\",\"\",'Instrumental Data'!B21)","v":""},{"$f":"IF(('Instrumental Data'!C21)=\"\",\"\",'Instrumental Data'!C21)","v":""},{"$f":"IF(('Instrumental Data'!D21)=\"\",\"\",TEXT('Instrumental Data'!D21,\"hh:mm\"))","v":""},{"$f":"IF(('Instrumental Data'!E21)=\"\",\"\",TEXT('Instrumental Data'!E21,\"hh:mm\"))","v":""},{"$f":"IF(('Instrumental Data'!B21)=\"\",\"\",'Instrumental Data'!C$7)","v":""},{"$f":"IF(('Instrumental Data'!B21)=\"\",\"\",'Instrumental Data'!C$8)","v":""},{"$f":"IF(('Instrumental Data'!B21)=\"\",\"\",'Instrumental Data'!C$9)","v":""},{"$f":"IF(('Instrumental Data'!B21)=\"\",\"\",'Instrumental Data'!F$6)","v":""},{"$f":"IF(('Instrumental Data'!B21)=\"\",\"\",'Instrumental Data'!F$7)","v":""},{"$f":"IF(('Instrumental Data'!B21)=\"\",\"\",'Instrumental Data'!F$8)","v":""},{"$f":"IF(('Instrumental Data'!B21)=\"\",\"\",'Instrumental Data'!F$9)","v":""},{"$f":"IF(('Instrumental Data'!B21)=\"\",\"\",'Instrumental Data'!F21)","v":""},{"$f":"IFERROR(VLOOKUP(N8&\" SystemZero\",List!$J$2:$L$43,2,FALSE),\"\")","v":""},{"$f":"IF('Instrumental Data'!G21=\"\",\"\",'Instrumental Data'!G21)","v":""},{"$f":"IFERROR(VLOOKUP(N8&\" SystemUpscale\",List!$J$2:$L$43,2,FALSE),\"\")","v":""},{"$f":"IF(('Instrumental Data'!H21)=\"\",\"\",'Instrumental Data'!H21)","v":""},{"$f":"IFERROR(VLOOKUP(N8&\" SystemZero\",List!$J$2:$L$43,2,FALSE),\"\")","v":""},{"$f":"IF(('Instrumental Data'!K21)=\"\",\"\",'Instrumental Data'!K21)","v":""},{"$f":"IFERROR(VLOOKUP(N8&\" SystemUpscale\",List!$J$2:$L$43,2,FALSE),\"\")","v":""},{"$f":"IF(('Instrumental Data'!L21)=\"\",\"\",'Instrumental Data'!L21)","v":""},{"$f":"IF(('Instrumental Data'!I21)=\"\",\"\",'Instrumental Data'!I21)","v":""},{"$f":"IF(('Instrumental Data'!B21)=\"\",\"\",'Instrumental Data'!$J$15)","v":""},{"$f":"IF(('Instrumental Data'!B21)=\"\",\"\",'Instrumental Data'!$J$15)","v":""},{"$f":"IF(('Instrumental Data'!B21)=\"\",\"\",'Instrumental Data'!F$10)","v":""}]
[{"$f":"IF(('Instrumental Data'!B22)=\"\",\"\",'Instrumental Data'!$C$2)","v":""},{"$f":"IF(('Instrumental Data'!$B22)=\"\",\"\",'Instrumental Data'!$C$3)","v":""},{"$f":"IF(('Instrumental Data'!B22)=\"\",\"\",'Instrumental Data'!B22)","v":""},{"$f":"IF(('Instrumental Data'!C22)=\"\",\"\",'Instrumental Data'!C22)","v":""},{"$f":"IF(('Instrumental Data'!D22)=\"\",\"\",TEXT('Instrumental Data'!D22,\"hh:mm\"))","v":""},{"$f":"IF(('Instrumental Data'!E22)=\"\",\"\",TEXT('Instrumental Data'!E22,\"hh:mm\"))","v":""},{"$f":"IF(('Instrumental Data'!B22)=\"\",\"\",'Instrumental Data'!C$7)","v":""},{"$f":"IF(('Instrumental Data'!B22)=\"\",\"\",'Instrumental Data'!C$8)","v":""},{"$f":"IF(('Instrumental Data'!B22)=\"\",\"\",'Instrumental Data'!C$9)","v":""},{"$f":"IF(('Instrumental Data'!B22)=\"\",\"\",'Instrumental Data'!F$6)","v":""},{"$f":"IF(('Instrumental Data'!B22)=\"\",\"\",'Instrumental Data'!F$7)","v":""},{"$f":"IF(('Instrumental Data'!B22)=\"\",\"\",'Instrumental Data'!F$8)","v":""},{"$f":"IF(('Instrumental Data'!B22)=\"\",\"\",'Instrumental Data'!F$9)","v":""},{"$f":"IF(('Instrumental Data'!B22)=\"\",\"\",'Instrumental Data'!F22)","v":""},{"$f":"IFERROR(VLOOKUP(N9&\" SystemZero\",List!$J$2:$L$43,2,FALSE),\"\")","v":""},{"$f":"IF('Instrumental Data'!G22=\"\",\"\",'Instrumental Data'!G22)","v":""},{"$f":"IFERROR(VLOOKUP(N9&\" SystemUpscale\",List!$J$2:$L$43,2,FALSE),\"\")","v":""},{"$f":"IF(('Instrumental Data'!H22)=\"\",\"\",'Instrumental Data'!H22)","v":""},{"$f":"IFERROR(VLOOKUP(N9&\" SystemZero\",List!$J$2:$L$43,2,FALSE),\"\")","v":""},{"$f":"IF(('Instrumental Data'!K22)=\"\",\"\",'Instrumental Data'!K22)","v":""},{"$f":"IFERROR(VLOOKUP(N9&\" SystemUpscale\",List!$J$2:$L$43,2,FALSE),\"\")","v":""},{"$f":"IF(('Instrumental Data'!L22)=\"\",\"\",'Instrumental Data'!L22)","v":""},{"$f":"IF(('Instrumental Data'!I22)=\"\",\"\",'Instrumental Data'!I22)","v":""},{"$f":"IF(('Instrumental Data'!B22)=\"\",\"\",'Instrumental Data'!$J$15)","v":""},{"$f":"IF(('Instrumental Data'!B22)=\"\",\"\",'Instrumental Data'!$J$15)","v":""},{"$f":"IF(('Instrumental Data'!B22)=\"\",\"\",'Instrumental Data'!F$10)","v":""}]
[{"$f":"IF(('Instrumental Data'!B23)=\"\",\"\",'Instrumental Data'!$C$2)","v":""},{"$f":"IF(('Instrumental Data'!$B23)=\"\",\"\",'Instrumental Data'!$C$3)","v":""},{"$f":"IF(('Instrumental Data'!B23)=\"\",\"\",'Instrumental Data'!B23)","v":""},{"$f":"IF(('Instrumental Data'!C23)=\"\",\"\",'Instrumental Data'!C23)","v":""},{"$f":"IF(('Instrumental Data'!D23)=\"\",\"\",TEXT('Instrumental Data'!D23,\"hh:mm\"))","v":""},{"$f":"IF(('Instrumental Data'!E23)=\"\",\"\",TEXT('Instrumental Data'!E23,\"hh:mm\"))","v":""},{"$f":"IF(('Instrumental Data'!B23)=\"\",\"\",'Instrumental Data'!C$7)","v":""},{"$f":"IF(('Instrumental Data'!B23)=\"\",\"\",'Instrumental Data'!C$8)","v":""},{"$f":"IF(('Instrumental Data'!B23)=\"\",\"\",'Instrumental Data'!C$9)","v":""},{"$f":"IF(('Instrumental Data'!B23)=\"\",\"\",'Instrumental Data'!F$6)","v":""},{"$f":"IF(('Instrumental Data'!B23)=\"\",\"\",'Instrumental Data'!F$7)","v":""},{"$f":"IF(('Instrumental Data'!B23)=\"\",\"\",'Instrumental Data'!F$8)","v":""},{"$f":"IF(('Instrumental Data'!B23)=\"\",\"\",'Instrumental Data'!F$9)","v":""},{"$f":"IF(('Instrumental Data'!B23)=\"\",\"\",'Instrumental Data'!F23)","v":""},{"$f":"IFERROR(VLOOKUP(N10&\" SystemZero\",List!$J$2:$L$43,2,FALSE),\"\")","v":""},{"$f":"IF('Instrumental Data'!G23=\"\",\"\",'Instrumental Data'!G23)","v":""},{"$f":"IFERROR(VLOOKUP(N10&\" SystemUpscale\",List!$J$2:$L$43,2,FALSE),\"\")","v":""},{"$f":"IF(('Instrumental Data'!H23)=\"\",\"\",'Instrumental Data'!H23)","v":""},{"$f":"IFERROR(VLOOKUP(N10&\" SystemZero\",List!$J$2:$L$43,2,FALSE),\"\")","v":""},{"$f":"IF(('Instrumental Data'!K23)=\"\",\"\",'Instrumental Data'!K23)","v":""},{"$f":"IFERROR(VLOOKUP(N10&\" SystemUpscale\",List!$J$2:$L$43,2,FALSE),\"\")","v":""},{"$f":"IF(('Instrumental Data'!L23)=\"\",\"\",'Instrumental Data'!L23)","v":""},{"$f":"IF(('Instrumental Data'!I23)=\"\",\"\",'Instrumental Data'!I23)","v":""},{"$f":"IF(('Instrumental Data'!B23)=\"\",\"\",'Instrumental Data'!$J$15)","v":""},{"$f":"IF(('Instrumental Data'!B23)=\"\",\"\",'Instrumental Data'!$J$15)","v":""},{"$f":"IF(('Instrumental Data'!B23)=\"\",\"\",'Instrumental Data'!F$10)","v":""}]
[{"$f":"IF(('Instrumental Data'!B24)=\"\",\"\",'Instrumental Data'!$C$2)","v":""},{"$f":"IF(('Instrumental Data'!$B24)=\"\",\"\",'Instrumental Data'!$C$3)","v":""},{"$f":"IF(('Instrumental Data'!B24)=\"\",\"\",'Instrumental Data'!B24)","v":""},{"$f":"IF(('Instrumental Data'!C24)=\"\",\"\",'Instrumental Data'!C24)","v":""},{"$f":"IF(('Instrumental Data'!D24)=\"\",\"\",TEXT('Instrumental Data'!D24,\"hh:mm\"))","v":""},{"$f":"IF(('Instrumental Data'!E24)=\"\",\"\",TEXT('Instrumental Data'!E24,\"hh:mm\"))","v":""},{"$f":"IF(('Instrumental Data'!B24)=\"\",\"\",'Instrumental Data'!C$7)","v":""},{"$f":"IF(('Instrumental Data'!B24)=\"\",\"\",'Instrumental Data'!C$8)","v":""},{"$f":"IF(('Instrumental Data'!B24)=\"\",\"\",'Instrumental Data'!C$9)","v":""},{"$f":"IF(('Instrumental Data'!B24)=\"\",\"\",'Instrumental Data'!F$6)","v":""},{"$f":"IF(('Instrumental Data'!B24)=\"\",\"\",'Instrumental Data'!F$7)","v":""},{"$f":"IF(('Instrumental Data'!B24)=\"\",\"\",'Instrumental Data'!F$8)","v":""},{"$f":"IF(('Instrumental Data'!B24)=\"\",\"\",'Instrumental Data'!F$9)","v":""},{"$f":"IF(('Instrumental Data'!B24)=\"\",\"\",'Instrumental Data'!F24)","v":""},{"$f":"IFERROR(VLOOKUP(N11&\" SystemZero\",List!$J$2:$L$43,2,FALSE),\"\")","v":""},{"$f":"IF('Instrumental Data'!G24=\"\",\"\",'Instrumental Data'!G24)","v":""},{"$f":"IFERROR(VLOOKUP(N11&\" SystemUpscale\",List!$J$2:$L$43,2,FALSE),\"\")","v":""},{"$f":"IF(('Instrumental Data'!H24)=\"\",\"\",'Instrumental Data'!H24)","v":""},{"$f":"IFERROR(VLOOKUP(N11&\" SystemZero\",List!$J$2:$L$43,2,FALSE),\"\")","v":""},{"$f":"IF(('Instrumental Data'!K24)=\"\",\"\",'Instrumental Data'!K24)","v":""},{"$f":"IFERROR(VLOOKUP(N11&\" SystemUpscale\",List!$J$2:$L$43,2,FALSE),\"\")","v":""},{"$f":"IF(('Instrumental Data'!L24)=\"\",\"\",'Instrumental Data'!L24)","v":""},{"$f":"IF(('Instrumental Data'!I24)=\"\",\"\",'Instrumental Data'!I24)","v":""},{"$f":"IF(('Instrumental Data'!B24)=\"\",\"\",'Instrumental Data'!$J$15)","v":""},{"$f":"IF(('Instrumental Data'!B24)=\"\",\"\",'Instrumental Data'!$J$15)","v":""},{"$f":"IF(('Instrumental Data'!B24)=\"\",\"\",'Instrumental Data'!F$10)","v":""}]
[{"$f":"IF(('Instrumental Data'!B25)=\"\",\"\",'Instrumental Data'!$C$2)","v":""},{"$f":"IF(('Instrumental Data'!$B25)=\"\",\"\",'Instrumental Data'!$C$3)","v":""},{"$f":"IF(('Instrumental Data'!B25)=\"\",\"\",'Instrumental Data'!B25)","v":""},{"$f":"IF(('Instrumental Data'!C25)=\"\",\"\",'Instrumental Data'!C25)","v":""},{"$f":"IF(('Instrumental Data'!D25)=\"\",\"\",TEXT('Instrumental Data'!D25,\"hh:mm\"))","v":""},{"$f":"IF(('Instrumental Data'!E25)=\"\",\"\",TEXT('Instrumental Data'!E25,\"hh:mm\"))","v":""},{"$f":"IF(('Instrumental Data'!B25)=\"\",\"\",'Instrumental Data'!C$7)","v":""},{"$f":"IF(('Instrumental Data'!B25)=\"\",\"\",'Instrumental Data'!C$8)","v":""},{"$f":"IF(('Instrumental Data'!B25)=\"\",\"\",'Instrumental Data'!C$9)","v":""},{"$f":"IF(('Instrumental Data'!B25)=\"\",\"\",'Instrumental Data'!F$6)","v":""},{"$f":"IF(('Instrumental Data'!B25)=\"\",\"\",'Instrumental Data'!F$7)","v":""},{"$f":"IF(('Instrumental Data'!B25)=\"\",\"\",'Instrumental Data'!F$8)","v":""},{"$f":"IF(('Instrumental Data'!B25)=\"\",\"\",'Instrumental Data'!F$9)","v":""},{"$f":"IF(('Instrumental Data'!B25)=\"\",\"\",'Instrumental Data'!F25)","v":""},{"$f":"IFERROR(VLOOKUP(N12&\" SystemZero\",List!$J$2:$L$43,2,FALSE),\"\")","v":""},{"$f":"IF('Instrumental Data'!G25=\"\",\"\",'Instrumental Data'!G25)","v":""},{"$f":"IFERROR(VLOOKUP(N12&\" SystemUpscale\",List!$J$2:$L$43,2,FALSE),\"\")","v":""},{"$f":"IF(('Instrumental Data'!H25)=\"\",\"\",'Instrumental Data'!H25)","v":""},{"$f":"IFERROR(VLOOKUP(N12&\" SystemZero\",List!$J$2:$L$43,2,FALSE),\"\")","v":""},{"$f":"IF(('Instrumental Data'!K25)=\"\",\"\",'Instrumental Data'!K25)","v":""},{"$f":"IFERROR(VLOOKUP(N12&\" SystemUpscale\",List!$J$2:$L$43,2,FALSE),\"\")","v":""},{"$f":"IF(('Instrumental Data'!L25)=\"\",\"\",'Instrumental Data'!L25)","v":""},{"$f":"IF(('Instrumental Data'!I25)=\"\",\"\",'Instrumental Data'!I25)","v":""},{"$f":"IF(('Instrumental Data'!B25)=\"\",\"\",'Instrumental Data'!$J$15)","v":""},{"$f":"IF(('Instrumental Data'!B25)=\"\",\"\",'Instrumental Data'!$J$15)","v":""},{"$f":"IF(('Instrumental Data'!B25)=\"\",\"\",'Instrumental Data'!F$10)","v":""}]
[{"$f":"IF(('Instrumental Data'!B26)=\"\",\"\",'Instrumental Data'!$C$2)","v":""},{"$f":"IF(('Instrumental Data'!$B26)=\"\",\"\",'Instrumental Data'!$C$3)","v":""},{"$f":"IF(('Instrumental Data'!B26)=\"\",\"\",'Instrumental Data'!B26)","v":""},{"$f":"IF(('Instrumental Data'!C26)=\"\",\"\",'Instrumental Data'!C26)","v":""},{"$f":"IF(('Instrumental Data'!D26)=\"\",\"\",TEXT('Instrumental Data'!D26,\"hh:mm\"))","v":""},{"$f":"IF(('Instrumental Data'!E26)=\"\",\"\",TEXT('Instrumental Data'!E26,\"hh:mm\"))","v":""},{"$f":"IF(('Instrumental Data'!B26)=\"\",\"\",'Instrumental Data'!C$7)","v":""},{"$f":"IF(('Instrumental Data'!B26)=\"\",\"\",'Instrumental Data'!C$8)","v":""},{"$f":"IF(('Instrumental Data'!B26)=\"\",\"\",'Instrumental Data'!C$9)","v":""},{"$f":"IF(('Instrumental Data'!B26)=\"\",\"\",'Instrumental Data'!F$6)","v":""},{"$f":"IF(('Instrumental Data'!B26)=\"\",\"\",'Instrumental Data'!F$7)","v":""},{"$f":"IF(('Instrumental Data'!B26)=\"\",\"\",'Instrumental Data'!F$8)","v":""},{"$f":"IF(('Instrumental Data'!B26)=\"\",\"\",'Instrumental Data'!F$9)","v":""},{"$f":"IF(('Instrumental Data'!B26)=\"\",\"\",'Instrumental Data'!F26)","v":""},{"$f":"IFERROR(VLOOKUP(N13&\" SystemZero\",List!$J$2:$L$43,2,FALSE),\"\")","v":""},{"$f":"IF('Instrumental Data'!G26=\"\",\"\",'Instrumental Data'!G26)","v":""},{"$f":"IFERROR(VLOOKUP(N13&\" SystemUpscale\",List!$J$2:$L$43,2,FALSE),\"\")","v":""},{"$f":"IF(('Instrumental Data'!H26)=\"\",\"\",'Instrumental Data'!H26)","v":""},{"$f":"IFERROR(VLOOKUP(N13&\" SystemZero\",List!$J$2:$L$43,2,FALSE),\"\")","v":""},{"$f":"IF(('Instrumental Data'!K26)=\"\",\"\",'Instrumental Data'!K26)","v":""},{"$f":"IFERROR(VLOOKUP(N13&\" SystemUpscale\",List!$J$2:$L$43,2,FALSE),\"\")","v":""},{"$f":"IF(('Instrumental Data'!L26)=\"\",\"\",'Instrumental Data'!L26)","v":""},{"$f":"IF(('Instrumental Data'!I26)=\"\",\"\",'Instrumental Data'!I26)","v":""},{"$f":"IF(('Instrumental Data'!B26)=\"\",\"\",'Instrumental Data'!$J$15)","v":""},{"$f":"IF(('Instrumental Data'!B26)=\"\",\"\",'Instrumental Data'!$J$15)","v":""},{"$f":"IF(('Instrumental Data'!B26)=\"\",\"\",'Instrumental Data'!F$10)","v":""}]
[{"$f":"IF(('Instrumental Data'!B41)=\"\",\"\",'Instrumental Data'!$C$28)","v":""},{"$f":"IF(('Instrumental Data'!B41)=\"\",\"\",'Instrumental Data'!$C$29)","v":""},{"$f":"IF(('Instrumental Data'!B41)=\"\",\"\",'Instrumental Data'!B41)","v":""},{"$f":"IF(('Instrumental Data'!C41)=\"\",\"\",'Instrumental Data'!C41)","v":""},{"$f":"IF(('Instrumental Data'!D41)=\"\",\"\",TEXT('Instrumental Data'!D41,\"hh:mm\"))","v":""},{"$f":"IF(('Instrumental Data'!E41)=\"\",\"\",TEXT('Instrumental Data'!E41,\"hh:mm\"))","v":""},{"$f":"IF(('Instrumental Data'!B41)=\"\",\"\",'Instrumental Data'!C$33)","v":""},{"$f":"IF(('Instrumental Data'!B41)=\"\",\"\",'Instrumental Data'!C$34)","v":""},{"$f":"IF(('Instrumental Data'!B41)=\"\",\"\",'Instrumental Data'!C$35)","v":""},{"$f":"IF(('Instrumental Data'!B41)=\"\",\"\",'Instrumental Data'!F$32)","v":""},{"$f":"IF(('Instrumental Data'!B41)=\"\",\"\",'Instrumental Data'!F$33)","v":""},{"$f":"IF(('Instrumental Data'!B41)=\"\",\"\",'Instrumental Data'!F$34)","v":""},{"$f":"IF(('Instrumental Data'!B41)=\"\",\"\",'Instrumental Data'!F$35)","v":""},{"$f":"IF(('Instrumental Data'!B41)=\"\",\"\",'Instrumental Data'!F41)","v":""},{"$f":"IFERROR(VLOOKUP(N14&\" SystemZero\",List!$J$2:$L$43,2,FALSE),\"\")","v":""},{"$f":"IF(('Instrumental Data'!G41)=\"\",\"\",'Instrumental Data'!G41)","v":""},{"$f":"IFERROR(VLOOKUP(N14&\" SystemUpscale\",List!$J$2:$L$43,2,FALSE),\"\")","v":""},{"$f":"IF(('Instrumental Data'!H41)=\"\",\"\",'Instrumental Data'!H41)","v":""},{"$f":"IFERROR(VLOOKUP(N14&\" SystemZero\",List!$J$2:$L$43,2,FALSE),\"\")","v":""},{"$f":"IF(('Instrumental Data'!K41)=\"\",\"\",'Instrumental Data'!K41)","v":""},{"$f":"IFERROR(VLOOKUP(N14&\" SystemUpscale\",List!$J$2:$L$43,2,FALSE),\"\")","v":""},{"$f":"IF(('Instrumental Data'!L41)=\"\",\"\",'Instrumental Data'!L41)","v":""},{"$f":"IF(('Instrumental Data'!I41)=\"\",\"\",'Instrumental Data'!I41)","v":""},{"$f":"IF(('Instrumental Data'!B41)=\"\",\"\",'Instrumental Data'!$J$41)","v":""},{"$f":"IF(('Instrumental Data'!B41)=\"\",\"\",'Instrumental Data'!$J$41)","v":""},{"$f":"IF(('Instrumental Data'!B41)=\"\",\"\",'Instrumental Data'!F$36)","v":""}]
[{"$f":"IF(('Instrumental Data'!B42)=\"\",\"\",'Instrumental Data'!$C$28)","v":""},{"$f":"IF(('Instrumental Data'!B42)=\"\",\"\",'Instrumental Data'!$C$29)","v":""},{"$f":"IF(('Instrumental Data'!B42)=\"\",\"\",'Instrumental Data'!B42)","v":""},{"$f":"IF(('Instrumental Data'!C42)=\"\",\"\",'Instrumental Data'!C42)","v":""},{"$f":"IF(('Instrumental Data'!D42)=\"\",\"\",TEXT('Instrumental Data'!D42,\"hh:mm\"))","v":""},{"$f":"IF(('Instrumental Data'!E42)=\"\",\"\",TEXT('Instrumental Data'!E42,\"hh:mm\"))","v":""},{"$f":"IF(('Instrumental Data'!B42)=\"\",\"\",'Instrumental Data'!C$33)","v":""},{"$f":"IF(('Instrumental Data'!B42)=\"\",\"\",'Instrumental Data'!C$34)","v":""},{"$f":"IF(('Instrumental Data'!B42)=\"\",\"\",'Instrumental Data'!C$35)","v":""},{"$f":"IF(('Instrumental Data'!B42)=\"\",\"\",'Instrumental Data'!F$32)","v":""},{"$f":"IF(('Instrumental Data'!B42)=\"\",\"\",'Instrumental Data'!F$33)","v":""},{"$f":"IF(('Instrumental Data'!B42)=\"\",\"\",'Instrumental Data'!F$34)","v":""},{"$f":"IF(('Instrumental Data'!B42)=\"\",\"\",'Instrumental Data'!F$35)","v":""},{"$f":"IF(('Instrumental Data'!B42)=\"\",\"\",'Instrumental Data'!F42)","v":""},{"$f":"IFERROR(VLOOKUP(N15&\" SystemZero\",List!$J$2:$L$43,2,FALSE),\"\")","v":""},{"$f":"IF(('Instrumental Data'!G42)=\"\",\"\",'Instrumental Data'!G42)","v":""},{"$f":"IFERROR(VLOOKUP(N15&\" SystemUpscale\",List!$J$2:$L$43,2,FALSE),\"\")","v":""},{"$f":"IF(('Instrumental Data'!H42)=\"\",\"\",'Instrumental Data'!H42)","v":""},{"$f":"IFERROR(VLOOKUP(N15&\" SystemZero\",List!$J$2:$L$43,2,FALSE),\"\")","v":""},{"$f":"IF(('Instrumental Data'!K42)=\"\",\"\",'Instrumental Data'!K42)","v":""},{"$f":"IFERROR(VLOOKUP(N15&\" SystemUpscale\",List!$J$2:$L$43,2,FALSE),\"\")","v":""},{"$f":"IF(('Instrumental Data'!L42)=\"\",\"\",'Instrumental Data'!L42)","v":""},{"$f":"IF(('Instrumental Data'!I42)=\"\",\"\",'Instrumental Data'!I42)","v":""},{"$f":"IF(('Instrumental Data'!B42)=\"\",\"\",'Instrumental Data'!$J$41)","v":""},{"$f":"IF(('Instrumental Data'!B42)=\"\",\"\",'Instrumental Data'!$J$41)","v":""},{"$f":"IF(('Instrumental Data'!B42)=\"\",\"\",'Instrumental Data'!F$36)","v":""}]
[{"$f":"IF(('Instrumental Data'!B43)=\"\",\"\",'Instrumental Data'!$C$28)","v":""},{"$f":"IF(('Instrumental Data'!B43)=\"\",\"\",'Instrumental Data'!$C$29)","v":""},{"$f":"IF(('Instrumental Data'!B43)=\"\",\"\",'Instrumental Data'!B43)","v":""},{"$f":"IF(('Instrumental Data'!C43)=\"\",\"\",'Instrumental Data'!C43)","v":""},{"$f":"IF(('Instrumental Data'!D43)=\"\",\"\",TEXT('Instrumental Data'!D43,\"hh:mm\"))","v":""},{"$f":"IF(('Instrumental Data'!E43)=\"\",\"\",TEXT('Instrumental Data'!E43,\"hh:mm\"))","v":""},{"$f":"IF(('Instrumental Data'!B43)=\"\",\"\",'Instrumental Data'!C$33)","v":""},{"$f":"IF(('Instrumental Data'!B43)=\"\",\"\",'Instrumental Data'!C$34)","v":""},{"$f":"IF(('Instrumental Data'!B43)=\"\",\"\",'Instrumental Data'!C$35)","v":""},{"$f":"IF(('Instrumental Data'!B43)=\"\",\"\",'Instrumental Data'!F$32)","v":""},{"$f":"IF(('Instrumental Data'!B43)=\"\",\"\",'Instrumental Data'!F$33)","v":""},{"$f":"IF(('Instrumental Data'!B43)=\"\",\"\",'Instrumental Data'!F$34)","v":""},{"$f":"IF(('Instrumental Data'!B43)=\"\",\"\",'Instrumental Data'!F$35)","v":""},{"$f":"IF(('Instrumental Data'!B43)=\"\",\"\",'Instrumental Data'!F43)","v":""},{"$f":"IFERROR(VLOOKUP(N16&\" SystemZero\",List!$J$2:$L$43,2,FALSE),\"\")","v":""},{"$f":"IF(('Instrumental Data'!G43)=\"\",\"\",'Instrumental Data'!G43)","v":""},{"$f":"IFERROR(VLOOKUP(N16&\" SystemUpscale\",List!$J$2:$L$43,2,FALSE),\"\")","v":""},{"$f":"IF(('Instrumental Data'!H43)=\"\",\"\",'Instrumental Data'!H43)","v":""},{"$f":"IFERROR(VLOOKUP(N16&\" SystemZero\",List!$J$2:$L$43,2,FALSE),\"\")","v":""},{"$f":"IF(('Instrumental Data'!K43)=\"\",\"\",'Instrumental Data'!K43)","v":""},{"$f":"IFERROR(VLOOKUP(N16&\" SystemUpscale\",List!$J$2:$L$43,2,FALSE),\"\")","v":""},{"$f":"IF(('Instrumental Data'!L43)=\"\",\"\",'Instrumental Data'!L43)","v":""},{"$f":"IF(('Instrumental Data'!I43)=\"\",\"\",'Instrumental Data'!I43)","v":""},{"$f":"IF(('Instrumental Data'!B43)=\"\",\"\",'Instrumental Data'!$J$41)","v":""},{"$f":"IF(('Instrumental Data'!B43)=\"\",\"\",'Instrumental Data'!$J$41)","v":""},{"$f":"IF(('Instrumental Data'!B43)=\"\",\"\",'Instrumental Data'!F$36)","v":""}]
[{"$f":"IF(('Instrumental Data'!B44)=\"\",\"\",'Instrumental Data'!$C$28)","v":""},{"$f":"IF(('Instrumental Data'!B44)=\"\",\"\",'Instrumental Data'!$C$29)","v":""},{"$f":"IF(('Instrumental Data'!B44)=\"\",\"\",'Instrumental Data'!B44)","v":""},{"$f":"IF(('Instrumental Data'!C44)=\"\",\"\",'Instrumental Data'!C44)","v":""},{"$f":"IF(('Instrumental Data'!D44)=\"\",\"\",TEXT('Instrumental Data'!D44,\"hh:mm\"))","v":""},{"$f":"IF(('Instrumental Data'!E44)=\"\",\"\",TEXT('Instrumental Data'!E44,\"hh:mm\"))","v":""},{"$f":"IF(('Instrumental Data'!B44)=\"\",\"\",'Instrumental Data'!C$33)","v":""},{"$f":"IF(('Instrumental Data'!B44)=\"\",\"\",'Instrumental Data'!C$34)","v":""},{"$f":"IF(('Instrumental Data'!B44)=\"\",\"\",'Instrumental Data'!C$35)","v":""},{"$f":"IF(('Instrumental Data'!B44)=\"\",\"\",'Instrumental Data'!F$32)","v":""},{"$f":"IF(('Instrumental Data'!B44)=\"\",\"\",'Instrumental Data'!F$33)","v":""},{"$f":"IF(('Instrumental Data'!B44)=\"\",\"\",'Instrumental Data'!F$34)","v":""},{"$f":"IF(('Instrumental Data'!B44)=\"\",\"\",'Instrumental Data'!F$35)","v":""},{"$f":"IF(('Instrumental Data'!B44)=\"\",\"\",'Instrumental Data'!F44)","v":""},{"$f":"IFERROR(VLOOKUP(N17&\" SystemZero\",List!$J$2:$L$43,2,FALSE),\"\")","v":""},{"$f":"IF(('Instrumental Data'!G44)=\"\",\"\",'Instrumental Data'!G44)","v":""},{"$f":"IFERROR(VLOOKUP(N17&\" SystemUpscale\",List!$J$2:$L$43,2,FALSE),\"\")","v":""},{"$f":"IF(('Instrumental Data'!H44)=\"\",\"\",'Instrumental Data'!H44)","v":""},{"$f":"IFERROR(VLOOKUP(N17&\" SystemZero\",List!$J$2:$L$43,2,FALSE),\"\")","v":""},{"$f":"IF(('Instrumental Data'!K44)=\"\",\"\",'Instrumental Data'!K44)","v":""},{"$f":"IFERROR(VLOOKUP(N17&\" SystemUpscale\",List!$J$2:$L$43,2,FALSE),\"\")","v":""},{"$f":"IF(('Instrumental Data'!L44)=\"\",\"\",'Instrumental Data'!L44)","v":""},{"$f":"IF(('Instrumental Data'!I44)=\"\",\"\",'Instrumental Data'!I44)","v":""},{"$f":"IF(('Instrumental Data'!B44)=\"\",\"\",'Instrumental Data'!$J$41)","v":""},{"$f":"IF(('Instrumental Data'!B44)=\"\",\"\",'Instrumental Data'!$J$41)","v":""},{"$f":"IF(('Instrumental Data'!B44)=\"\",\"\",'Instrumental Data'!F$36)","v":""}]
[{"$f":"IF(('Instrumental Data'!B45)=\"\",\"\",'Instrumental Data'!$C$28)","v":""},{"$f":"IF(('Instrumental Data'!B45)=\"\",\"\",'Instrumental Data'!$C$29)","v":""},{"$f":"IF(('Instrumental Data'!B45)=\"\",\"\",'Instrumental Data'!B45)","v":""},{"$f":"IF(('Instrumental Data'!C45)=\"\",\"\",'Instrumental Data'!C45)","v":""},{"$f":"IF(('Instrumental Data'!D45)=\"\",\"\",TEXT('Instrumental Data'!D45,\"hh:mm\"))","v":""},{"$f":"IF(('Instrumental Data'!E45)=\"\",\"\",TEXT('Instrumental Data'!E45,\"hh:mm\"))","v":""},{"$f":"IF(('Instrumental Data'!B45)=\"\",\"\",'Instrumental Data'!C$33)","v":""},{"$f":"IF(('Instrumental Data'!B45)=\"\",\"\",'Instrumental Data'!C$34)","v":""},{"$f":"IF(('Instrumental Data'!B45)=\"\",\"\",'Instrumental Data'!C$35)","v":""},{"$f":"IF(('Instrumental Data'!B45)=\"\",\"\",'Instrumental Data'!F$32)","v":""},{"$f":"IF(('Instrumental Data'!B45)=\"\",\"\",'Instrumental Data'!F$33)","v":""},{"$f":"IF(('Instrumental Data'!B45)=\"\",\"\",'Instrumental Data'!F$34)","v":""},{"$f":"IF(('Instrumental Data'!B45)=\"\",\"\",'Instrumental Data'!F$35)","v":""},{"$f":"IF(('Instrumental Data'!B45)=\"\",\"\",'Instrumental Data'!F45)","v":""},{"$f":"IFERROR(VLOOKUP(N18&\" SystemZero\",List!$J$2:$L$43,2,FALSE),\"\")","v":""},{"$f":"IF(('Instrumental Data'!G45)=\"\",\"\",'Instrumental Data'!G45)","v":""},{"$f":"IFERROR(VLOOKUP(N18&\" SystemUpscale\",List!$J$2:$L$43,2,FALSE),\"\")","v":""},{"$f":"IF(('Instrumental Data'!H45)=\"\",\"\",'Instrumental Data'!H45)","v":""},{"$f":"IFERROR(VLOOKUP(N18&\" SystemZero\",List!$J$2:$L$43,2,FALSE),\"\")","v":""},{"$f":"IF(('Instrumental Data'!K45)=\"\",\"\",'Instrumental Data'!K45)","v":""},{"$f":"IFERROR(VLOOKUP(N18&\" SystemUpscale\",List!$J$2:$L$43,2,FALSE),\"\")","v":""},{"$f":"IF(('Instrumental Data'!L45)=\"\",\"\",'Instrumental Data'!L45)","v":""},{"$f":"IF(('Instrumental Data'!I45)=\"\",\"\",'Instrumental Data'!I45)","v":""},{"$f":"IF(('Instrumental Data'!B45)=\"\",\"\",'Instrumental Data'!$J$41)","v":""},{"$f":"IF(('Instrumental Data'!B45)=\"\",\"\",'Instrumental Data'!$J$41)","v":""},{"$f":"IF(('Instrumental Data'!B45)=\"\",\"\",'Instrumental Data'!F$36)","v":""}]
[{"$f":"IF(('Instrumental Data'!B46)=\"\",\"\",'Instrumental Data'!$C$28)","v":""},{"$f":"IF(('Instrumental Data'!B46)=\"\",\"\",'Instrumental Data'!$C$29)","v":""},{"$f":"IF(('Instrumental Data'!B46)=\"\",\"\",'Instrumental Data'!B46)","v":""},{"$f":"IF(('Instrumental Data'!C46)=\"\",\"\",'Instrumental Data'!C46)","v":""},{"$f":"IF(('Instrumental Data'!D46)=\"\",\"\",TEXT('Instrumental Data'!D46,\"hh:mm\"))","v":""},{"$f":"IF(('Instrumental Data'!E46)=\"\",\"\",TEXT('Instrumental Data'!E46,\"hh:mm\"))","v":""},{"$f":"IF(('Instrumental Data'!B46)=\"\",\"\",'Instrumental Data'!C$33)","v":""},{"$f":"IF(('Instrumental Data'!B46)=\"\",\"\",'Instrumental Data'!C$34)","v":""},{"$f":"IF(('Instrumental Data'!B46)=\"\",\"\",'Instrumental Data'!C$35)","v":""},{"$f":"IF(('Instrumental Data'!B46)=\"\",\"\",'Instrumental Data'!F$32)","v":""},{"$f":"IF(('Instrumental Data'!B46)=\"\",\"\",'Instrumental Data'!F$33)","v":""},{"$f":"IF(('Instrumental Data'!B46)=\"\",\"\",'Instrumental Data'!F$34)","v":""},{"$f":"IF(('Instrumental Data'!B46)=\"\",\"\",'Instrumental Data'!F$35)","v":""},{"$f":"IF(('Instrumental Data'!B46)=\"\",\"\",'Instrumental Data'!F46)","v":""},{"$f":"IFERROR(VLOOKUP(N19&\" SystemZero\",List!$J$2:$L$43,2,FALSE),\"\")","v":""},{"$f":"IF(('Instrumental Data'!G46)=\"\",\"\",'Instrumental Data'!G46)","v":""},{"$f":"IFERROR(VLOOKUP(N19&\" SystemUpscale\",List!$J$2:$L$43,2,FALSE),\"\")","v":""},{"$f":"IF(('Instrumental Data'!H46)=\"\",\"\",'Instrumental Data'!H46)","v":""},{"$f":"IFERROR(VLOOKUP(N19&\" SystemZero\",List!$J$2:$L$43,2,FALSE),\"\")","v":""},{"$f":"IF(('Instrumental Data'!K46)=\"\",\"\",'Instrumental Data'!K46)","v":""},{"$f":"IFERROR(VLOOKUP(N19&\" SystemUpscale\",List!$J$2:$L$43,2,FALSE),\"\")","v":""},{"$f":"IF(('Instrumental Data'!L46)=\"\",\"\",'Instrumental Data'!L46)","v":""},{"$f":"IF(('Instrumental Data'!I46)=\"\",\"\",'Instrumental Data'!I46)","v":""},{"$f":"IF(('Instrumental Data'!B46)=\"\",\"\",'Instrumental Data'!$J$41)","v":""},{"$f":"IF(('Instrumental Data'!B46)=\"\",\"\",'Instrumental Data'!$J$41)","v":""},{"$f":"IF(('Instrumental Data'!B46)=\"\",\"\",'Instrumental Data'!F$36)","v":""}]
[{"$f":"IF(('Instrumental Data'!B47)=\"\",\"\",'Instrumental Data'!$C$28)","v":""},{"$f":"IF(('Instrumental Data'!B47)=\"\",\"\",'Instrumental Data'!$C$29)","v":""},{"$f":"IF(('Instrumental Data'!B47)=\"\",\"\",'Instrumental Data'!B47)","v":""},{"$f":"IF(('Instrumental Data'!C47)=\"\",\"\",'Instrumental Data'!C47)","v":""},{"$f":"IF(('Instrumental Data'!D47)=\"\",\"\",TEXT('Instrumental Data'!D47,\"hh:mm\"))","v":""},{"$f":"IF(('Instrumental Data'!E47)=\"\",\"\",TEXT('Instrumental Data'!E47,\"hh:mm\"))","v":""},{"$f":"IF(('Instrumental Data'!B47)=\"\",\"\",'Instrumental Data'!C$33)","v":""},{"$f":"IF(('Instrumental Data'!B47)=\"\",\"\",'Instrumental Data'!C$34)","v":""},{"$f":"IF(('Instrumental Data'!B47)=\"\",\"\",'Instrumental Data'!C$35)","v":""},{"$f":"IF(('Instrumental Data'!B47)=\"\",\"\",'Instrumental Data'!F$32)","v":""},{"$f":"IF(('Instrumental Data'!B47)=\"\",\"\",'Instrumental Data'!F$33)","v":""},{"$f":"IF(('Instrumental Data'!B47)=\"\",\"\",'Instrumental Data'!F$34)","v":""},{"$f":"IF(('Instrumental Data'!B47)=\"\",\"\",'Instrumental Data'!F$35)","v":""},{"$f":"IF(('Instrumental Data'!B47)=\"\",\"\",'Instrumental Data'!F47)","v":""},{"$f":"IFERROR(VLOOKUP(N20&\" SystemZero\",List!$J$2:$L$43,2,FALSE),\"\")","v":""},{"$f":"IF(('Instrumental Data'!G47)=\"\",\"\",'Instrumental Data'!G47)","v":""},{"$f":"IFERROR(VLOOKUP(N20&\" SystemUpscale\",List!$J$2:$L$43,2,FALSE),\"\")","v":""},{"$f":"IF(('Instrumental Data'!H47)=\"\",\"\",'Instrumental Data'!H47)","v":""},{"$f":"IFERROR(VLOOKUP(N20&\" SystemZero\",List!$J$2:$L$43,2,FALSE),\"\")","v":""},{"$f":"IF(('Instrumental Data'!K47)=\"\",\"\",'Instrumental Data'!K47)","v":""},{"$f":"IFERROR(VLOOKUP(N20&\" SystemUpscale\",List!$J$2:$L$43,2,FALSE),\"\")","v":""},{"$f":"IF(('Instrumental Data'!L47)=\"\",\"\",'Instrumental Data'!L47)","v":""},{"$f":"IF(('Instrumental Data'!I47)=\"\",\"\",'Instrumental Data'!I47)","v":""},{"$f":"IF(('Instrumental Data'!B47)=\"\",\"\",'Instrumental Data'!$J$41)","v":""},{"$f":"IF(('Instrumental Data'!B47)=\"\",\"\",'Instrumental Data'!$J$41)","v":""},{"$f":"IF(('Instrumental Data'!B47)=\"\",\"\",'Instrumental Data'!F$36)","v":""}]
[{"$f":"IF(('Instrumental Data'!B48)=\"\",\"\",'Instrumental Data'!$C$28)","v":""},{"$f":"IF(('Instrumental Data'!B48)=\"\",\"\",'Instrumental Data'!$C$29)","v":""},{"$f":"IF(('Instrumental Data'!B48)=\"\",\"\",'Instrumental Data'!B48)","v":""},{"$f":"IF(('Instrumental Data'!C48)=\"\",\"\",'Instrumental Data'!C48)","v":""},{"$f":"IF(('Instrumental Data'!D48)=\"\",\"\",TEXT('Instrumental Data'!D48,\"hh:mm\"))","v":""},{"$f":"IF(('Instrumental Data'!E48)=\"\",\"\",TEXT('Instrumental Data'!E48,\"hh:mm\"))","v":""},{"$f":"IF(('Instrumental Data'!B48)=\"\",\"\",'Instrumental Data'!C$33)","v":""},{"$f":"IF(('Instrumental Data'!B48)=\"\",\"\",'Instrumental Data'!C$34)","v":""},{"$f":"IF(('Instrumental Data'!B48)=\"\",\"\",'Instrumental Data'!C$35)","v":""},{"$f":"IF(('Instrumental Data'!B48)=\"\",\"\",'Instrumental Data'!F$32)","v":""},{"$f":"IF(('Instrumental Data'!B48)=\"\",\"\",'Instrumental Data'!F$33)","v":""},{"$f":"IF(('Instrumental Data'!B48)=\"\",\"\",'Instrumental Data'!F$34)","v":""},{"$f":"IF(('Instrumental Data'!B48)=\"\",\"\",'Instrumental Data'!F$35)","v":""},{"$f":"IF(('Instrumental Data'!B48)=\"\",\"\",'Instrumental Data'!F48)","v":""},{"$f":"IFERROR(VLOOKUP(N21&\" SystemZero\",List!$J$2:$L$43,2,FALSE),\"\")","v":""},{"$f":"IF(('Instrumental Data'!G48)=\"\",\"\",'Instrumental Data'!G48)","v":""},{"$f":"IFERROR(VLOOKUP(N21&\" SystemUpscale\",List!$J$2:$L$43,2,FALSE),\"\")","v":""},{"$f":"IF(('Instrumental Data'!H48)=\"\",\"\",'Instrumental Data'!H48)","v":""},{"$f":"IFERROR(VLOOKUP(N21&\" SystemZero\",List!$J$2:$L$43,2,FALSE),\"\")","v":""},{"$f":"IF(('Instrumental Data'!K48)=\"\",\"\",'Instrumental Data'!K48)","v":""},{"$f":"IFERROR(VLOOKUP(N21&\" SystemUpscale\",List!$J$2:$L$43,2,FALSE),\"\")","v":""},{"$f":"IF(('Instrumental Data'!L48)=\"\",\"\",'Instrumental Data'!L48)","v":""},{"$f":"IF(('Instrumental Data'!I48)=\"\",\"\",'Instrumental Data'!I48)","v":""},{"$f":"IF(('Instrumental Data'!B48)=\"\",\"\",'Instrumental Data'!$J$41)","v":""},{"$f":"IF(('Instrumental Data'!B48)=\"\",\"\",'Instrumental Data'!$J$41)","v":""},{"$f":"IF(('Instrumental Data'!B48)=\"\",\"\",'Instrumental Data'!F$36)","v":""}]
[{"$f":"IF(('Instrumental Data'!B49)=\"\",\"\",'Instrumental Data'!$C$28)","v":""},{"$f":"IF(('Instrumental Data'!B49)=\"\",\"\",'Instrumental Data'!$C$29)","v":""},{"$f":"IF(('Instrumental Data'!B49)=\"\",\"\",'Instrumental Data'!B49)","v":""},{"$f":"IF(('Instrumental Data'!C49)=\"\",\"\",'Instrumental Data'!C49)","v":""},{"$f":"IF(('Instrumental Data'!D49)=\"\",\"\",TEXT('Instrumental Data'!D49,\"hh:mm\"))","v":""},{"$f":"IF(('Instrumental Data'!E49)=\"\",\"\",TEXT('Instrumental Data'!E49,\"hh:mm\"))","v":""},{"$f":"IF(('Instrumental Data'!B49)=\"\",\"\",'Instrumental Data'!C$33)","v":""},{"$f":"IF(('Instrumental Data'!B49)=\"\",\"\",'Instrumental Data'!C$34)","v":""},{"$f":"IF(('Instrumental Data'!B49)=\"\",\"\",'Instrumental Data'!C$35)","v":""},{"$f":"IF(('Instrumental Data'!B49)=\"\",\"\",'Instrumental Data'!F$32)","v":""},{"$f":"IF(('Instrumental Data'!B49)=\"\",\"\",'Instrumental Data'!F$33)","v":""},{"$f":"IF(('Instrumental Data'!B49)=\"\",\"\",'Instrumental Data'!F$34)","v":""},{"$f":"IF(('Instrumental Data'!B49)=\"\",\"\",'Instrumental Data'!F$35)","v":""},{"$f":"IF(('Instrumental Data'!B49)=\"\",\"\",'Instrumental Data'!F49)","v":""},{"$f":"IFERROR(VLOOKUP(N22&\" SystemZero\",List!$J$2:$L$43,2,FALSE),\"\")","v":""},{"$f":"IF(('Instrumental Data'!G49)=\"\",\"\",'Instrumental Data'!G49)","v":""},{"$f":"IFERROR(VLOOKUP(N22&\" SystemUpscale\",List!$J$2:$L$43,2,FALSE),\"\")","v":""},{"$f":"IF(('Instrumental Data'!H49)=\"\",\"\",'Instrumental Data'!H49)","v":""},{"$f":"IFERROR(VLOOKUP(N22&\" SystemZero\",List!$J$2:$L$43,2,FALSE),\"\")","v":""},{"$f":"IF(('Instrumental Data'!K49)=\"\",\"\",'Instrumental Data'!K49)","v":""},{"$f":"IFERROR(VLOOKUP(N22&\" SystemUpscale\",List!$J$2:$L$43,2,FALSE),\"\")","v":""},{"$f":"IF(('Instrumental Data'!L49)=\"\",\"\",'Instrumental Data'!L49)","v":""},{"$f":"IF(('Instrumental Data'!I49)=\"\",\"\",'Instrumental Data'!I49)","v":""},{"$f":"IF(('Instrumental Data'!B49)=\"\",\"\",'Instrumental Data'!$J$41)","v":""},{"$f":"IF(('Instrumental Data'!B49)=\"\",\"\",'Instrumental Data'!$J$41)","v":""},{"$f":"IF(('Instrumental Data'!B49)=\"\",\"\",'Instrumental Data'!F$36)","v":""}]
[{"$f":"IF(('Instrumental Data'!B50)=\"\",\"\",'Instrumental Data'!$C$28)","v":""},{"$f":"IF(('Instrumental Data'!B50)=\"\",\"\",'Instrumental Data'!$C$29)","v":""},{"$f":"IF(('Instrumental Data'!B50)=\"\",\"\",'Instrumental Data'!B50)","v":""},{"$f":"IF(('Instrumental Data'!C50)=\"\",\"\",'Instrumental Data'!C50)","v":""},{"$f":"IF(('Instrumental Data'!D50)=\"\",\"\",TEXT('Instrumental Data'!D50,\"hh:mm\"))","v":""},{"$f":"IF(('Instrumental Data'!E50)=\"\",\"\",TEXT('Instrumental Data'!E50,\"hh:mm\"))","v":""},{"$f":"IF(('Instrumental Data'!B50)=\"\",\"\",'Instrumental Data'!C$33)","v":""},{"$f":"IF(('Instrumental Data'!B50)=\"\",\"\",'Instrumental Data'!C$34)","v":""},{"$f":"IF(('Instrumental Data'!B50)=\"\",\"\",'Instrumental Data'!C$35)","v":""},{"$f":"IF(('Instrumental Data'!B50)=\"\",\"\",'Instrumental Data'!F$32)","v":""},{"$f":"IF(('Instrumental Data'!B50)=\"\",\"\",'Instrumental Data'!F$33)","v":""},{"$f":"IF(('Instrumental Data'!B50)=\"\",\"\",'Instrumental Data'!F$34)","v":""},{"$f":"IF(('Instrumental Data'!B50)=\"\",\"\",'Instrumental Data'!F$35)","v":""},{"$f":"IF(('Instrumental Data'!B50)=\"\",\"\",'Instrumental Data'!F50)","v":""},{"$f":"IFERROR(VLOOKUP(N23&\" SystemZero\",List!$J$2:$L$43,2,FALSE),\"\")","v":""},{"$f":"IF(('Instrumental Data'!G50)=\"\",\"\",'Instrumental Data'!G50)","v":""},{"$f":"IFERROR(VLOOKUP(N23&\" SystemUpscale\",List!$J$2:$L$43,2,FALSE),\"\")","v":""},{"$f":"IF(('Instrumental Data'!H50)=\"\",\"\",'Instrumental Data'!H50)","v":""},{"$f":"IFERROR(VLOOKUP(N23&\" SystemZero\",List!$J$2:$L$43,2,FALSE),\"\")","v":""},{"$f":"IF(('Instrumental Data'!K50)=\"\",\"\",'Instrumental Data'!K50)","v":""},{"$f":"IFERROR(VLOOKUP(N23&\" SystemUpscale\",List!$J$2:$L$43,2,FALSE),\"\")","v":""},{"$f":"IF(('Instrumental Data'!L50)=\"\",\"\",'Instrumental Data'!L50)","v":""},{"$f":"IF(('Instrumental Data'!I50)=\"\",\"\",'Instrumental Data'!I50)","v":""},{"$f":"IF(('Instrumental Data'!B50)=\"\",\"\",'Instrumental Data'!$J$41)","v":""},{"$f":"IF(('Instrumental Data'!B50)=\"\",\"\",'Instrumental Data'!$J$41)","v":""},{"$f":"IF(('Instrumental Data'!B50)=\"\",\"\",'Instrumental Data'!F$36)","v":""}]
[{"$f":"IF(('Instrumental Data'!B51)=\"\",\"\",'Instrumental Data'!$C$28)","v":""},{"$f":"IF(('Instrumental Data'!B51)=\"\",\"\",'Instrumental Data'!$C$29)","v":""},{"$f":"IF(('Instrumental Data'!B51)=\"\",\"\",'Instrumental Data'!B51)","v":""},{"$f":"IF(('Instrumental Data'!C51)=\"\",\"\",'Instrumental Data'!C51)","v":""},{"$f":"IF(('Instrumental Data'!D51)=\"\",\"\",TEXT('Instrumental Data'!D51,\"hh:mm\"))","v":""},{"$f":"IF(('Instrumental Data'!E51)=\"\",\"\",TEXT('Instrumental Data'!E51,\"hh:mm\"))","v":""},{"$f":"IF(('Instrumental Data'!B51)=\"\",\"\",'Instrumental Data'!C$33)","v":""},{"$f":"IF(('Instrumental Data'!B51)=\"\",\"\",'Instrumental Data'!C$34)","v":""},{"$f":"IF(('Instrumental Data'!B51)=\"\",\"\",'Instrumental Data'!C$35)","v":""},{"$f":"IF(('Instrumental Data'!B51)=\"\",\"\",'Instrumental Data'!F$32)","v":""},{"$f":"IF(('Instrumental Data'!B51)=\"\",\"\",'Instrumental Data'!F$33)","v":""},{"$f":"IF(('Instrumental Data'!B51)=\"\",\"\",'Instrumental Data'!F$34)","v":""},{"$f":"IF(('Instrumental Data'!B51)=\"\",\"\",'Instrumental Data'!F$35)","v":""},{"$f":"IF(('Instrumental Data'!B51)=\"\",\"\",'Instrumental Data'!F51)","v":""},{"$f":"IFERROR(VLOOKUP(N24&\" SystemZero\",List!$J$2:$L$43,2,FALSE),\"\")","v":""},{"$f":"IF(('Instrumental Data'!G51)=\"\",\"\",'Instrumental Data'!G51)","v":""},{"$f":"IFERROR(VLOOKUP(N24&\" SystemUpscale\",List!$J$2:$L$43,2,FALSE),\"\")","v":""},{"$f":"IF(('Instrumental Data'!H51)=\"\",\"\",'Instrumental Data'!H51)","v":""},{"$f":"IFERROR(VLOOKUP(N24&\" SystemZero\",List!$J$2:$L$43,2,FALSE),\"\")","v":""},{"$f":"IF(('Instrumental Data'!K51)=\"\",\"\",'Instrumental Data'!K51)","v":""},{"$f":"IFERROR(VLOOKUP(N24&\" SystemUpscale\",List!$J$2:$L$43,2,FALSE),\"\")","v":""},{"$f":"IF(('Instrumental Data'!L51)=\"\",\"\",'Instrumental Data'!L51)","v":""},{"$f":"IF(('Instrumental Data'!I51)=\"\",\"\",'Instrumental Data'!I51)","v":""},{"$f":"IF(('Instrumental Data'!B51)=\"\",\"\",'Instrumental Data'!$J$41)","v":""},{"$f":"IF(('Instrumental Data'!B51)=\"\",\"\",'Instrumental Data'!$J$41)","v":""},{"$f":"IF(('Instrumental Data'!B51)=\"\",\"\",'Instrumental Data'!F$36)","v":""}]
[{"$f":"IF(('Instrumental Data'!B52)=\"\",\"\",'Instrumental Data'!$C$28)","v":""},{"$f":"IF(('Instrumental Data'!B52)=\"\",\"\",'Instrumental Data'!$C$29)","v":""},{"$f":"IF(('Instrumental Data'!B52)=\"\",\"\",'Instrumental Data'!B52)","v":""},{"$f":"IF(('Instrumental Data'!C52)=\"\",\"\",'Instrumental Data'!C52)","v":""},{"$f":"IF(('Instrumental Data'!D52)=\"\",\"\",TEXT('Instrumental Data'!D52,\"hh:mm\"))","v":""},{"$f":"IF(('Instrumental Data'!E52)=\"\",\"\",TEXT('Instrumental Data'!E52,\"hh:mm\"))","v":""},{"$f":"IF(('Instrumental Data'!B52)=\"\",\"\",'Instrumental Data'!C$33)","v":""},{"$f":"IF(('Instrumental Data'!B52)=\"\",\"\",'Instrumental Data'!C$34)","v":""},{"$f":"IF(('Instrumental Data'!B52)=\"\",\"\",'Instrumental Data'!C$35)","v":""},{"$f":"IF(('Instrumental Data'!B52)=\"\",\"\",'Instrumental Data'!F$32)","v":""},{"$f":"IF(('Instrumental Data'!B52)=\"\",\"\",'Instrumental Data'!F$33)","v":""},{"$f":"IF(('Instrumental Data'!B52)=\"\",\"\",'Instrumental Data'!F$34)","v":""},{"$f":"IF(('Instrumental Data'!B52)=\"\",\"\",'Instrumental Data'!F$35)","v":""},{"$f":"IF(('Instrumental Data'!B52)=\"\",\"\",'Instrumental Data'!F52)","v":""},{"$f":"IFERROR(VLOOKUP(N25&\" SystemZero\",List!$J$2:$L$43,2,FALSE),\"\")","v":""},{"$f":"IF(('Instrumental Data'!G52)=\"\",\"\",'Instrumental Data'!G52)","v":""},{"$f":"IFERROR(VLOOKUP(N25&\" SystemUpscale\",List!$J$2:$L$43,2,FALSE),\"\")","v":""},{"$f":"IF(('Instrumental Data'!H52)=\"\",\"\",'Instrumental Data'!H52)","v":""},{"$f":"IFERROR(VLOOKUP(N25&\" SystemZero\",List!$J$2:$L$43,2,FALSE),\"\")","v":""},{"$f":"IF(('Instrumental Data'!K52)=\"\",\"\",'Instrumental Data'!K52)","v":""},{"$f":"IFERROR(VLOOKUP(N25&\" SystemUpscale\",List!$J$2:$L$43,2,FALSE),\"\")","v":""},{"$f":"IF(('Instrumental Data'!L52)=\"\",\"\",'Instrumental Data'!L52)","v":""},{"$f":"IF(('Instrumental Data'!I52)=\"\",\"\",'Instrumental Data'!I52)","v":""},{"$f":"IF(('Instrumental Data'!B52)=\"\",\"\",'Instrumental Data'!$J$41)","v":""},{"$f":"IF(('Instrumental Data'!B52)=\"\",\"\",'Instrumental Data'!$J$41)","v":""},{"$f":"IF(('Instrumental Data'!B52)=\"\",\"\",'Instrumental Data'!F$36)","v":""}]
[{"$f":"IF(('Instrumental Data'!B67)=\"\",\"\",'Instrumental Data'!$C$54)","v":""},{"$f":"IF(('Instrumental Data'!B67)=\"\",\"\",'Instrumental Data'!$C$55)","v":""},{"$f":"IF(('Instrumental Data'!B67)=\"\",\"\",'Instrumental Data'!B67)","v":""},{"$f":"IF(('Instrumental Data'!C67)=\"\",\"\",'Instrumental Data'!C67)","v":""},{"$f":"IF(('Instrumental Data'!D67)=\"\",\"\",TEXT('Instrumental Data'!D67,\"hh:mm\"))","v":""},{"$f":"IF(('Instrumental Data'!E67)=\"\",\"\",TEXT('Instrumental Data'!E67,\"hh:mm\"))","v":""},{"$f":"IF(('Instrumental Data'!B67)=\"\",\"\",'Instrumental Data'!C$59)","v":""},{"$f":"IF(('Instrumental Data'!B67)=\"\",\"\",'Instrumental Data'!C$60)","v":""},{"$f":"IF(('Instrumental Data'!B67)=\"\",\"\",'Instrumental Data'!C$61)","v":""},{"$f":"IF(('Instrumental Data'!B67)=\"\",\"\",'Instrumental Data'!F$58)","v":""},{"$f":"IF(('Instrumental Data'!B67)=\"\",\"\",'Instrumental Data'!F$59)","v":""},{"$f":"IF(('Instrumental Data'!B67)=\"\",\"\",'Instrumental Data'!F$60)","v":""},{"$f":"IF(('Instrumental Data'!B67)=\"\",\"\",'Instrumental Data'!F$61)","v":""},{"$f":"IF(('Instrumental Data'!B67)=\"\",\"\",'Instrumental Data'!F67)","v":""},{"$f":"IFERROR(VLOOKUP(N26&\" SystemZero\",List!$J$2:$L$43,2,FALSE),\"\")","v":""},{"$f":"IF(('Instrumental Data'!G67)=\"\",\"\",'Instrumental Data'!G67)","v":""},{"$f":"IFERROR(VLOOKUP(N26&\" SystemUpscale\",List!$J$2:$L$43,2,FALSE),\"\")","v":""},{"$f":"IF(('Instrumental Data'!H67)=\"\",\"\",'Instrumental Data'!H67)","v":""},{"$f":"IFERROR(VLOOKUP(N26&\" SystemZero\",List!$J$2:$L$43,2,FALSE),\"\")","v":""},{"$f":"IF(('Instrumental Data'!K67)=\"\",\"\",'Instrumental Data'!K67)","v":""},{"$f":"IFERROR(VLOOKUP(N26&\" SystemUpscale\",List!$J$2:$L$43,2,FALSE),\"\")","v":""},{"$f":"IF(('Instrumental Data'!L67)=\"\",\"\",'Instrumental Data'!L67)","v":""},{"$f":"IF(('Instrumental Data'!I67)=\"\",\"\",'Instrumental Data'!I67)","v":""},{"$f":"IF(('Instrumental Data'!B67)=\"\",\"\",'Instrumental Data'!$J67)","v":""},{"$f":"IF(('Instrumental Data'!B67)=\"\",\"\",'Instrumental Data'!$J67)","v":""},{"$f":"IF(('Instrumental Data'!B67)=\"\",\"\",'Instrumental Data'!F$62)","v":""}]
[{"$f":"IF(('Instrumental Data'!B68)=\"\",\"\",'Instrumental Data'!$C$54)","v":""},{"$f":"IF(('Instrumental Data'!B68)=\"\",\"\",'Instrumental Data'!$C$55)","v":""},{"$f":"IF(('Instrumental Data'!B68)=\"\",\"\",'Instrumental Data'!B68)","v":""},{"$f":"IF(('Instrumental Data'!C68)=\"\",\"\",'Instrumental Data'!C68)","v":""},{"$f":"IF(('Instrumental Data'!D68)=\"\",\"\",TEXT('Instrumental Data'!D68,\"hh:mm\"))","v":""},{"$f":"IF(('Instrumental Data'!E68)=\"\",\"\",TEXT('Instrumental Data'!E68,\"hh:mm\"))","v":""},{"$f":"IF(('Instrumental Data'!B68)=\"\",\"\",'Instrumental Data'!C$59)","v":""},{"$f":"IF(('Instrumental Data'!B68)=\"\",\"\",'Instrumental Data'!C$60)","v":""},{"$f":"IF(('Instrumental Data'!B68)=\"\",\"\",'Instrumental Data'!C$61)","v":""},{"$f":"IF(('Instrumental Data'!B68)=\"\",\"\",'Instrumental Data'!F$58)","v":""},{"$f":"IF(('Instrumental Data'!B68)=\"\",\"\",'Instrumental Data'!F$59)","v":""},{"$f":"IF(('Instrumental Data'!B68)=\"\",\"\",'Instrumental Data'!F$60)","v":""},{"$f":"IF(('Instrumental Data'!B68)=\"\",\"\",'Instrumental Data'!F$61)","v":""},{"$f":"IF(('Instrumental Data'!B68)=\"\",\"\",'Instrumental Data'!F68)","v":""},{"$f":"IFERROR(VLOOKUP(N27&\" SystemZero\",List!$J$2:$L$43,2,FALSE),\"\")","v":""},{"$f":"IF(('Instrumental Data'!G68)=\"\",\"\",'Instrumental Data'!G68)","v":""},{"$f":"IFERROR(VLOOKUP(N27&\" SystemUpscale\",List!$J$2:$L$43,2,FALSE),\"\")","v":""},{"$f":"IF(('Instrumental Data'!H68)=\"\",\"\",'Instrumental Data'!H68)","v":""},{"$f":"IFERROR(VLOOKUP(N27&\" SystemZero\",List!$J$2:$L$43,2,FALSE),\"\")","v":""},{"$f":"IF(('Instrumental Data'!K68)=\"\",\"\",'Instrumental Data'!K68)","v":""},{"$f":"IFERROR(VLOOKUP(N27&\" SystemUpscale\",List!$J$2:$L$43,2,FALSE),\"\")","v":""},{"$f":"IF(('Instrumental Data'!L68)=\"\",\"\",'Instrumental Data'!L68)","v":""},{"$f":"IF(('Instrumental Data'!I68)=\"\",\"\",'Instrumental Data'!I68)","v":""},{"$f":"IF(('Instrumental Data'!B68)=\"\",\"\",'Instrumental Data'!$J68)","v":""},{"$f":"IF(('Instrumental Data'!B68)=\"\",\"\",'Instrumental Data'!$J68)","v":""},{"$f":"IF(('Instrumental Data'!B68)=\"\",\"\",'Instrumental Data'!F$62)","v":""}]
[{"$f":"IF(('Instrumental Data'!B69)=\"\",\"\",'Instrumental Data'!$C$54)","v":""},{"$f":"IF(('Instrumental Data'!B69)=\"\",\"\",'Instrumental Data'!$C$55)","v":""},{"$f":"IF(('Instrumental Data'!B69)=\"\",\"\",'Instrumental Data'!B69)","v":""},{"$f":"IF(('Instrumental Data'!C69)=\"\",\"\",'Instrumental Data'!C69)","v":""},{"$f":"IF(('Instrumental Data'!D69)=\"\",\"\",TEXT('Instrumental Data'!D69,\"hh:mm\"))","v":""},{"$f":"IF(('Instrumental Data'!E69)=\"\",\"\",TEXT('Instrumental Data'!E69,\"hh:mm\"))","v":""},{"$f":"IF(('Instrumental Data'!B69)=\"\",\"\",'Instrumental Data'!C$59)","v":""},{"$f":"IF(('Instrumental Data'!B69)=\"\",\"\",'Instrumental Data'!C$60)","v":""},{"$f":"IF(('Instrumental Data'!B69)=\"\",\"\",'Instrumental Data'!C$61)","v":""},{"$f":"IF(('Instrumental Data'!B69)=\"\",\"\",'Instrumental Data'!F$58)","v":""},{"$f":"IF(('Instrumental Data'!B69)=\"\",\"\",'Instrumental Data'!F$59)","v":""},{"$f":"IF(('Instrumental Data'!B69)=\"\",\"\",'Instrumental Data'!F$60)","v":""},{"$f":"IF(('Instrumental Data'!B69)=\"\",\"\",'Instrumental Data'!F$61)","v":""},{"$f":"IF(('Instrumental Data'!B69)=\"\",\"\",'Instrumental Data'!F69)","v":""},{"$f":"IFERROR(VLOOKUP(N28&\" SystemZero\",List!$J$2:$L$43,2,FALSE),\"\")","v":""},{"$f":"IF(('Instrumental Data'!G69)=\"\",\"\",'Instrumental Data'!G69)","v":""},{"$f":"IFERROR(VLOOKUP(N28&\" SystemUpscale\",List!$J$2:$L$43,2,FALSE),\"\")","v":""},{"$f":"IF(('Instrumental Data'!H69)=\"\",\"\",'Instrumental Data'!H69)","v":""},{"$f":"IFERROR(VLOOKUP(N28&\" SystemZero\",List!$J$2:$L$43,2,FALSE),\"\")","v":""},{"$f":"IF(('Instrumental Data'!K69)=\"\",\"\",'Instrumental Data'!K69)","v":""},{"$f":"IFERROR(VLOOKUP(N28&\" SystemUpscale\",List!$J$2:$L$43,2,FALSE),\"\")","v":""},{"$f":"IF(('Instrumental Data'!L69)=\"\",\"\",'Instrumental Data'!L69)","v":""},{"$f":"IF(('Instrumental Data'!I69)=\"\",\"\",'Instrumental Data'!I69)","v":""},{"$f":"IF(('Instrumental Data'!B69)=\"\",\"\",'Instrumental Data'!$J69)","v":""},{"$f":"IF(('Instrumental Data'!B69)=\"\",\"\",'Instrumental Data'!$J69)","v":""},{"$f":"IF(('Instrumental Data'!B69)=\"\",\"\",'Instrumental Data'!F$62)","v":""}]
[{"$f":"IF(('Instrumental Data'!B70)=\"\",\"\",'Instrumental Data'!$C$54)","v":""},{"$f":"IF(('Instrumental Data'!B70)=\"\",\"\",'Instrumental Data'!$C$55)","v":""},{"$f":"IF(('Instrumental Data'!B70)=\"\",\"\",'Instrumental Data'!B70)","v":""},{"$f":"IF(('Instrumental Data'!C70)=\"\",\"\",'Instrumental Data'!C70)","v":""},{"$f":"IF(('Instrumental Data'!D70)=\"\",\"\",TEXT('Instrumental Data'!D70,\"hh:mm\"))","v":""},{"$f":"IF(('Instrumental Data'!E70)=\"\",\"\",TEXT('Instrumental Data'!E70,\"hh:mm\"))","v":""},{"$f":"IF(('Instrumental Data'!B70)=\"\",\"\",'Instrumental Data'!C$59)","v":""},{"$f":"IF(('Instrumental Data'!B70)=\"\",\"\",'Instrumental Data'!C$60)","v":""},{"$f":"IF(('Instrumental Data'!B70)=\"\",\"\",'Instrumental Data'!C$61)","v":""},{"$f":"IF(('Instrumental Data'!B70)=\"\",\"\",'Instrumental Data'!F$58)","v":""},{"$f":"IF(('Instrumental Data'!B70)=\"\",\"\",'Instrumental Data'!F$59)","v":""},{"$f":"IF(('Instrumental Data'!B70)=\"\",\"\",'Instrumental Data'!F$60)","v":""},{"$f":"IF(('Instrumental Data'!B70)=\"\",\"\",'Instrumental Data'!F$61)","v":""},{"$f":"IF(('Instrumental Data'!B70)=\"\",\"\",'Instrumental Data'!F70)","v":""},{"$f":"IFERROR(VLOOKUP(N29&\" SystemZero\",List!$J$2:$L$43,2,FALSE),\"\")","v":""},{"$f":"IF(('Instrumental Data'!G70)=\"\",\"\",'Instrumental Data'!G70)","v":""},{"$f":"IFERROR(VLOOKUP(N29&\" SystemUpscale\",List!$J$2:$L$43,2,FALSE),\"\")","v":""},{"$f":"IF(('Instrumental Data'!H70)=\"\",\"\",'Instrumental Data'!H70)","v":""},{"$f":"IFERROR(VLOOKUP(N29&\" SystemZero\",List!$J$2:$L$43,2,FALSE),\"\")","v":""},{"$f":"IF(('Instrumental Data'!K70)=\"\",\"\",'Instrumental Data'!K70)","v":""},{"$f":"IFERROR(VLOOKUP(N29&\" SystemUpscale\",List!$J$2:$L$43,2,FALSE),\"\")","v":""},{"$f":"IF(('Instrumental Data'!L70)=\"\",\"\",'Instrumental Data'!L70)","v":""},{"$f":"IF(('Instrumental Data'!I70)=\"\",\"\",'Instrumental Data'!I70)","v":""},{"$f":"IF(('Instrumental Data'!B70)=\"\",\"\",'Instrumental Data'!$J70)","v":""},{"$f":"IF(('Instrumental Data'!B70)=\"\",\"\",'Instrumental Data'!$J70)","v":""},{"$f":"IF(('Instrumental Data'!B70)=\"\",\"\",'Instrumental Data'!F$62)","v":""}]
[{"$f":"IF(('Instrumental Data'!B71)=\"\",\"\",'Instrumental Data'!$C$54)","v":""},{"$f":"IF(('Instrumental Data'!B71)=\"\",\"\",'Instrumental Data'!$C$55)","v":""},{"$f":"IF(('Instrumental Data'!B71)=\"\",\"\",'Instrumental Data'!B71)","v":""},{"$f":"IF(('Instrumental Data'!C71)=\"\",\"\",'Instrumental Data'!C71)","v":""},{"$f":"IF(('Instrumental Data'!D71)=\"\",\"\",TEXT('Instrumental Data'!D71,\"hh:mm\"))","v":""},{"$f":"IF(('Instrumental Data'!E71)=\"\",\"\",TEXT('Instrumental Data'!E71,\"hh:mm\"))","v":""},{"$f":"IF(('Instrumental Data'!B71)=\"\",\"\",'Instrumental Data'!C$59)","v":""},{"$f":"IF(('Instrumental Data'!B71)=\"\",\"\",'Instrumental Data'!C$60)","v":""},{"$f":"IF(('Instrumental Data'!B71)=\"\",\"\",'Instrumental Data'!C$61)","v":""},{"$f":"IF(('Instrumental Data'!B71)=\"\",\"\",'Instrumental Data'!F$58)","v":""},{"$f":"IF(('Instrumental Data'!B71)=\"\",\"\",'Instrumental Data'!F$59)","v":""},{"$f":"IF(('Instrumental Data'!B71)=\"\",\"\",'Instrumental Data'!F$60)","v":""},{"$f":"IF(('Instrumental Data'!B71)=\"\",\"\",'Instrumental Data'!F$61)","v":""},{"$f":"IF(('Instrumental Data'!B71)=\"\",\"\",'Instrumental Data'!F71)","v":""},{"$f":"IFERROR(VLOOKUP(N30&\" SystemZero\",List!$J$2:$L$43,2,FALSE),\"\")","v":""},{"$f":"IF(('Instrumental Data'!G71)=\"\",\"\",'Instrumental Data'!G71)","v":""},{"$f":"IFERROR(VLOOKUP(N30&\" SystemUpscale\",List!$J$2:$L$43,2,FALSE),\"\")","v":""},{"$f":"IF(('Instrumental Data'!H71)=\"\",\"\",'Instrumental Data'!H71)","v":""},{"$f":"IFERROR(VLOOKUP(N30&\" SystemZero\",List!$J$2:$L$43,2,FALSE),\"\")","v":""},{"$f":"IF(('Instrumental Data'!K71)=\"\",\"\",'Instrumental Data'!K71)","v":""},{"$f":"IFERROR(VLOOKUP(N30&\" SystemUpscale\",List!$J$2:$L$43,2,FALSE),\"\")","v":""},{"$f":"IF(('Instrumental Data'!L71)=\"\",\"\",'Instrumental Data'!L71)","v":""},{"$f":"IF(('Instrumental Data'!I71)=\"\",\"\",'Instrumental Data'!I71)","v":""},{"$f":"IF(('Instrumental Data'!B71)=\"\",\"\",'Instrumental Data'!$J71)","v":""},{"$f":"IF(('Instrumental Data'!B71)=\"\",\"\",'Instrumental Data'!$J71)","v":""},{"$f":"IF(('Instrumental Data'!B71)=\"\",\"\",'Instrumental Data'!F$62)","v":""}]
[{"$f":"IF(('Instrumental Data'!B72)=\"\",\"\",'Instrumental Data'!$C$54)","v":""},{"$f":"IF(('Instrumental Data'!B72)=\"\",\"\",'Instrumental Data'!$C$55)","v":""},{"$f":"IF(('Instrumental Data'!B72)=\"\",\"\",'Instrumental Data'!B72)","v":""},{"$f":"IF(('Instrumental Data'!C72)=\"\",\"\",'Instrumental Data'!C72)","v":""},{"$f":"IF(('Instrumental Data'!D72)=\"\",\"\",TEXT('Instrumental Data'!D72,\"hh:mm\"))","v":""},{"$f":"IF(('Instrumental Data'!E72)=\"\",\"\",TEXT('Instrumental Data'!E72,\"hh:mm\"))","v":""},{"$f":"IF(('Instrumental Data'!B72)=\"\",\"\",'Instrumental Data'!C$59)","v":""},{"$f":"IF(('Instrumental Data'!B72)=\"\",\"\",'Instrumental Data'!C$60)","v":""},{"$f":"IF(('Instrumental Data'!B72)=\"\",\"\",'Instrumental Data'!C$61)","v":""},{"$f":"IF(('Instrumental Data'!B72)=\"\",\"\",'Instrumental Data'!F$58)","v":""},{"$f":"IF(('Instrumental Data'!B72)=\"\",\"\",'Instrumental Data'!F$59)","v":""},{"$f":"IF(('Instrumental Data'!B72)=\"\",\"\",'Instrumental Data'!F$60)","v":""},{"$f":"IF(('Instrumental Data'!B72)=\"\",\"\",'Instrumental Data'!F$61)","v":""},{"$f":"IF(('Instrumental Data'!B72)=\"\",\"\",'Instrumental Data'!F72)","v":""},{"$f":"IFERROR(VLOOKUP(N31&\" SystemZero\",List!$J$2:$L$43,2,FALSE),\"\")","v":""},{"$f":"IF(('Instrumental Data'!G72)=\"\",\"\",'Instrumental Data'!G72)","v":""},{"$f":"IFERROR(VLOOKUP(N31&\" SystemUpscale\",List!$J$2:$L$43,2,FALSE),\"\")","v":""},{"$f":"IF(('Instrumental Data'!H72)=\"\",\"\",'Instrumental Data'!H72)","v":""},{"$f":"IFERROR(VLOOKUP(N31&\" SystemZero\",List!$J$2:$L$43,2,FALSE),\"\")","v":""},{"$f":"IF(('Instrumental Data'!K72)=\"\",\"\",'Instrumental Data'!K72)","v":""},{"$f":"IFERROR(VLOOKUP(N31&\" SystemUpscale\",List!$J$2:$L$43,2,FALSE),\"\")","v":""},{"$f":"IF(('Instrumental Data'!L72)=\"\",\"\",'Instrumental Data'!L72)","v":""},{"$f":"IF(('Instrumental Data'!I72)=\"\",\"\",'Instrumental Data'!I72)","v":""},{"$f":"IF(('Instrumental Data'!B72)=\"\",\"\",'Instrumental Data'!$J72)","v":""},{"$f":"IF(('Instrumental Data'!B72)=\"\",\"\",'Instrumental Data'!$J72)","v":""},{"$f":"IF(('Instrumental Data'!B72)=\"\",\"\",'Instrumental Data'!F$62)","v":""}]
[{"$f":"IF(('Instrumental Data'!B73)=\"\",\"\",'Instrumental Data'!$C$54)","v":""},{"$f":"IF(('Instrumental Data'!B73)=\"\",\"\",'Instrumental Data'!$C$55)","v":""},{"$f":"IF(('Instrumental Data'!B73)=\"\",\"\",'Instrumental Data'!B73)","v":""},{"$f":"IF(('Instrumental Data'!C73)=\"\",\"\",'Instrumental Data'!C73)","v":""},{"$f":"IF(('Instrumental Data'!D73)=\"\",\"\",TEXT('Instrumental Data'!D73,\"hh:mm\"))","v":""},{"$f":"IF(('Instrumental Data'!E73)=\"\",\"\",TEXT('Instrumental Data'!E73,\"hh:mm\"))","v":""},{"$f":"IF(('Instrumental Data'!B73)=\"\",\"\",'Instrumental Data'!C$59)","v":""},{"$f":"IF(('Instrumental Data'!B73)=\"\",\"\",'Instrumental Data'!C$60)","v":""},{"$f":"IF(('Instrumental Data'!B73)=\"\",\"\",'Instrumental Data'!C$61)","v":""},{"$f":"IF(('Instrumental Data'!B73)=\"\",\"\",'Instrumental Data'!F$58)","v":""},{"$f":"IF(('Instrumental Data'!B73)=\"\",\"\",'Instrumental Data'!F$59)","v":""},{"$f":"IF(('Instrumental Data'!B73)=\"\",\"\",'Instrumental Data'!F$60)","v":""},{"$f":"IF(('Instrumental Data'!B73)=\"\",\"\",'Instrumental Data'!F$61)","v":""},{"$f":"IF(('Instrumental Data'!B73)=\"\",\"\",'Instrumental Data'!F73)","v":""},{"$f":"IFERROR(VLOOKUP(N32&\" SystemZero\",List!$J$2:$L$43,2,FALSE),\"\")","v":""},{"$f":"IF(('Instrumental Data'!G73)=\"\",\"\",'Instrumental Data'!G73)","v":""},{"$f":"IFERROR(VLOOKUP(N32&\" SystemUpscale\",List!$J$2:$L$43,2,FALSE),\"\")","v":""},{"$f":"IF(('Instrumental Data'!H73)=\"\",\"\",'Instrumental Data'!H73)","v":""},{"$f":"IFERROR(VLOOKUP(N32&\" SystemZero\",List!$J$2:$L$43,2,FALSE),\"\")","v":""},{"$f":"IF(('Instrumental Data'!K73)=\"\",\"\",'Instrumental Data'!K73)","v":""},{"$f":"IFERROR(VLOOKUP(N32&\" SystemUpscale\",List!$J$2:$L$43,2,FALSE),\"\")","v":""},{"$f":"IF(('Instrumental Data'!L73)=\"\",\"\",'Instrumental Data'!L73)","v":""},{"$f":"IF(('Instrumental Data'!I73)=\"\",\"\",'Instrumental Data'!I73)","v":""},{"$f":"IF(('Instrumental Data'!B73)=\"\",\"\",'Instrumental Data'!$J73)","v":""},{"$f":"IF(('Instrumental Data'!B73)=\"\",\"\",'Instrumental Data'!$J73)","v":""},{"$f":"IF(('Instrumental Data'!B73)=\"\",\"\",'Instrumental Data'!F$62)","v":""}]
[{"$f":"IF(('Instrumental Data'!B74)=\"\",\"\",'Instrumental Data'!$C$54)","v":""},{"$f":"IF(('Instrumental Data'!B74)=\"\",\"\",'Instrumental Data'!$C$55)","v":""},{"$f":"IF(('Instrumental Data'!B74)=\"\",\"\",'Instrumental Data'!B74)","v":""},{"$f":"IF(('Instrumental Data'!C74)=\"\",\"\",'Instrumental Data'!C74)","v":""},{"$f":"IF(('Instrumental Data'!D74)=\"\",\"\",TEXT('Instrumental Data'!D74,\"hh:mm\"))","v":""},{"$f":"IF(('Instrumental Data'!E74)=\"\",\"\",TEXT('Instrumental Data'!E74,\"hh:mm\"))","v":""},{"$f":"IF(('Instrumental Data'!B74)=\"\",\"\",'Instrumental Data'!C$59)","v":""},{"$f":"IF(('Instrumental Data'!B74)=\"\",\"\",'Instrumental Data'!C$60)","v":""},{"$f":"IF(('Instrumental Data'!B74)=\"\",\"\",'Instrumental Data'!C$61)","v":""},{"$f":"IF(('Instrumental Data'!B74)=\"\",\"\",'Instrumental Data'!F$58)","v":""},{"$f":"IF(('Instrumental Data'!B74)=\"\",\"\",'Instrumental Data'!F$59)","v":""},{"$f":"IF(('Instrumental Data'!B74)=\"\",\"\",'Instrumental Data'!F$60)","v":""},{"$f":"IF(('Instrumental Data'!B74)=\"\",\"\",'Instrumental Data'!F$61)","v":""},{"$f":"IF(('Instrumental Data'!B74)=\"\",\"\",'Instrumental Data'!F74)","v":""},{"$f":"IFERROR(VLOOKUP(N33&\" SystemZero\",List!$J$2:$L$43,2,FALSE),\"\")","v":""},{"$f":"IF(('Instrumental Data'!G74)=\"\",\"\",'Instrumental Data'!G74)","v":""},{"$f":"IFERROR(VLOOKUP(N33&\" SystemUpscale\",List!$J$2:$L$43,2,FALSE),\"\")","v":""},{"$f":"IF(('Instrumental Data'!H74)=\"\",\"\",'Instrumental Data'!H74)","v":""},{"$f":"IFERROR(VLOOKUP(N33&\" SystemZero\",List!$J$2:$L$43,2,FALSE),\"\")","v":""},{"$f":"IF(('Instrumental Data'!K74)=\"\",\"\",'Instrumental Data'!K74)","v":""},{"$f":"IFERROR(VLOOKUP(N33&\" SystemUpscale\",List!$J$2:$L$43,2,FALSE),\"\")","v":""},{"$f":"IF(('Instrumental Data'!L74)=\"\",\"\",'Instrumental Data'!L74)","v":""},{"$f":"IF(('Instrumental Data'!I74)=\"\",\"\",'Instrumental Data'!I74)","v":""},{"$f":"IF(('Instrumental Data'!B74)=\"\",\"\",'Instrumental Data'!$J74)","v":""},{"$f":"IF(('Instrumental Data'!B74)=\"\",\"\",'Instrumental Data'!$J74)","v":""},{"$f":"IF(('Instrumental Data'!B74)=\"\",\"\",'Instrumental Data'!F$62)","v":""}]
[{"$f":"IF(('Instrumental Data'!B75)=\"\",\"\",'Instrumental Data'!$C$54)","v":""},{"$f":"IF(('Instrumental Data'!B75)=\"\",\"\",'Instrumental Data'!$C$55)","v":""},{"$f":"IF(('Instrumental Data'!B75)=\"\",\"\",'Instrumental Data'!B75)","v":""},{"$f":"IF(('Instrumental Data'!C75)=\"\",\"\",'Instrumental Data'!C75)","v":""},{"$f":"IF(('Instrumental Data'!D75)=\"\",\"\",TEXT('Instrumental Data'!D75,\"hh:mm\"))","v":""},{"$f":"IF(('Instrumental Data'!E75)=\"\",\"\",TEXT('Instrumental Data'!E75,\"hh:mm\"))","v":""},{"$f":"IF(('Instrumental Data'!B75)=\"\",\"\",'Instrumental Data'!C$59)","v":""},{"$f":"IF(('Instrumental Data'!B75)=\"\",\"\",'Instrumental Data'!C$60)","v":""},{"$f":"IF(('Instrumental Data'!B75)=\"\",\"\",'Instrumental Data'!C$61)","v":""},{"$f":"IF(('Instrumental Data'!B75)=\"\",\"\",'Instrumental Data'!F$58)","v":""},{"$f":"IF(('Instrumental Data'!B75)=\"\",\"\",'Instrumental Data'!F$59)","v":""},{"$f":"IF(('Instrumental Data'!B75)=\"\",\"\",'Instrumental Data'!F$60)","v":""},{"$f":"IF(('Instrumental Data'!B75)=\"\",\"\",'Instrumental Data'!F$61)","v":""},{"$f":"IF(('Instrumental Data'!B75)=\"\",\"\",'Instrumental Data'!F75)","v":""},{"$f":"IFERROR(VLOOKUP(N34&\" SystemZero\",List!$J$2:$L$43,2,FALSE),\"\")","v":""},{"$f":"IF(('Instrumental Data'!G75)=\"\",\"\",'Instrumental Data'!G75)","v":""},{"$f":"IFERROR(VLOOKUP(N34&\" SystemUpscale\",List!$J$2:$L$43,2,FALSE),\"\")","v":""},{"$f":"IF(('Instrumental Data'!H75)=\"\",\"\",'Instrumental Data'!H75)","v":""},{"$f":"IFERROR(VLOOKUP(N34&\" SystemZero\",List!$J$2:$L$43,2,FALSE),\"\")","v":""},{"$f":"IF(('Instrumental Data'!K75)=\"\",\"\",'Instrumental Data'!K75)","v":""},{"$f":"IFERROR(VLOOKUP(N34&\" SystemUpscale\",List!$J$2:$L$43,2,FALSE),\"\")","v":""},{"$f":"IF(('Instrumental Data'!L75)=\"\",\"\",'Instrumental Data'!L75)","v":""},{"$f":"IF(('Instrumental Data'!I75)=\"\",\"\",'Instrumental Data'!I75)","v":""},{"$f":"IF(('Instrumental Data'!B75)=\"\",\"\",'Instrumental Data'!$J75)","v":""},{"$f":"IF(('Instrumental Data'!B75)=\"\",\"\",'Instrumental Data'!$J75)","v":""},{"$f":"IF(('Instrumental Data'!B75)=\"\",\"\",'Instrumental Data'!F$62)","v":""}]
[{"$f":"IF(('Instrumental Data'!B76)=\"\",\"\",'Instrumental Data'!$C$54)","v":""},{"$f":"IF(('Instrumental Data'!B76)=\"\",\"\",'Instrumental Data'!$C$55)","v":""},{"$f":"IF(('Instrumental Data'!B76)=\"\",\"\",'Instrumental Data'!B76)","v":""},{"$f":"IF(('Instrumental Data'!C76)=\"\",\"\",'Instrumental Data'!C76)","v":""},{"$f":"IF(('Instrumental Data'!D76)=\"\",\"\",TEXT('Instrumental Data'!D76,\"hh:mm\"))","v":""},{"$f":"IF(('Instrumental Data'!E76)=\"\",\"\",TEXT('Instrumental Data'!E76,\"hh:mm\"))","v":""},{"$f":"IF(('Instrumental Data'!B76)=\"\",\"\",'Instrumental Data'!C$59)","v":""},{"$f":"IF(('Instrumental Data'!B76)=\"\",\"\",'Instrumental Data'!C$60)","v":""},{"$f":"IF(('Instrumental Data'!B76)=\"\",\"\",'Instrumental Data'!C$61)","v":""},{"$f":"IF(('Instrumental Data'!B76)=\"\",\"\",'Instrumental Data'!F$58)","v":""},{"$f":"IF(('Instrumental Data'!B76)=\"\",\"\",'Instrumental Data'!F$59)","v":""},{"$f":"IF(('Instrumental Data'!B76)=\"\",\"\",'Instrumental Data'!F$60)","v":""},{"$f":"IF(('Instrumental Data'!B76)=\"\",\"\",'Instrumental Data'!F$61)","v":""},{"$f":"IF(('Instrumental Data'!B76)=\"\",\"\",'Instrumental Data'!F76)","v":""},{"$f":"IFERROR(VLOOKUP(N35&\" SystemZero\",List!$J$2:$L$43,2,FALSE),\"\")","v":""},{"$f":"IF(('Instrumental Data'!G76)=\"\",\"\",'Instrumental Data'!G76)","v":""},{"$f":"IFERROR(VLOOKUP(N35&\" SystemUpscale\",List!$J$2:$L$43,2,FALSE),\"\")","v":""},{"$f":"IF(('Instrumental Data'!H76)=\"\",\"\",'Instrumental Data'!H76)","v":""},{"$f":"IFERROR(VLOOKUP(N35&\" SystemZero\",List!$J$2:$L$43,2,FALSE),\"\")","v":""},{"$f":"IF(('Instrumental Data'!K76)=\"\",\"\",'Instrumental Data'!K76)","v":""},{"$f":"IFERROR(VLOOKUP(N35&\" SystemUpscale\",List!$J$2:$L$43,2,FALSE),\"\")","v":""},{"$f":"IF(('Instrumental Data'!L76)=\"\",\"\",'Instrumental Data'!L76)","v":""},{"$f":"IF(('Instrumental Data'!I76)=\"\",\"\",'Instrumental Data'!I76)","v":""},{"$f":"IF(('Instrumental Data'!B76)=\"\",\"\",'Instrumental Data'!$J76)","v":""},{"$f":"IF(('Instrumental Data'!B76)=\"\",\"\",'Instrumental Data'!$J76)","v":""},{"$f":"IF(('Instrumental Data'!B76)=\"\",\"\",'Instrumental Data'!F$62)","v":""}]
[{"$f":"IF(('Instrumental Data'!B77)=\"\",\"\",'Instrumental Data'!$C$54)","v":""},{"$f":"IF(('Instrumental Data'!B77)=\"\",\"\",'Instrumental Data'!$C$55)","v":""},{"$f":"IF(('Instrumental Data'!B77)=\"\",\"\",'Instrumental Data'!B77)","v":""},{"$f":"IF(('Instrumental Data'!C77)=\"\",\"\",'Instrumental Data'!C77)","v":""},{"$f":"IF(('Instrumental Data'!D77)=\"\",\"\",TEXT('Instrumental Data'!D77,\"hh:mm\"))","v":""},{"$f":"IF(('Instrumental Data'!E77)=\"\",\"\",TEXT('Instrumental Data'!E77,\"hh:mm\"))","v":""},{"$f":"IF(('Instrumental Data'!B77)=\"\",\"\",'Instrumental Data'!C$59)","v":""},{"$f":"IF(('Instrumental Data'!B77)=\"\",\"\",'Instrumental Data'!C$60)","v":""},{"$f":"IF(('Instrumental Data'!B77)=\"\",\"\",'Instrumental Data'!C$61)","v":""},{"$f":"IF(('Instrumental Data'!B77)=\"\",\"\",'Instrumental Data'!F$58)","v":""},{"$f":"IF(('Instrumental Data'!B77)=\"\",\"\",'Instrumental Data'!F$59)","v":""},{"$f":"IF(('Instrumental Data'!B77)=\"\",\"\",'Instrumental Data'!F$60)","v":""},{"$f":"IF(('Instrumental Data'!B77)=\"\",\"\",'Instrumental Data'!F$61)","v":""},{"$f":"IF(('Instrumental Data'!B77)=\"\",\"\",'Instrumental Data'!F77)","v":""},{"$f":"IFERROR(VLOOKUP(N36&\" SystemZero\",List!$J$2:$L$43,2,FALSE),\"\")","v":""},{"$f":"IF(('Instrumental Data'!G77)=\"\",\"\",'Instrumental Data'!G77)","v":""},{"$f":"IFERROR(VLOOKUP(N36&\" SystemUpscale\",List!$J$2:$L$43,2,FALSE),\"\")","v":""},{"$f":"IF(('Instrumental Data'!H77)=\"\",\"\",'Instrumental Data'!H77)","v":""},{"$f":"IFERROR(VLOOKUP(N36&\" SystemZero\",List!$J$2:$L$43,2,FALSE),\"\")","v":""},{"$f":"IF(('Instrumental Data'!K77)=\"\",\"\",'Instrumental Data'!K77)","v":""},{"$f":"IFERROR(VLOOKUP(N36&\" SystemUpscale\",List!$J$2:$L$43,2,FALSE),\"\")","v":""},{"$f":"IF(('Instrumental Data'!L77)=\"\",\"\",'Instrumental Data'!L77)","v":""},{"$f":"IF(('Instrumental Data'!I77)=\"\",\"\",'Instrumental Data'!I77)","v":""},{"$f":"IF(('Instrumental Data'!B77)=\"\",\"\",'Instrumental Data'!$J77)","v":""},{"$f":"IF(('Instrumental Data'!B77)=\"\",\"\",'Instrumental Data'!$J77)","v":""},{"$f":"IF(('Instrumental Data'!B77)=\"\",\"\",'Instrumental Data'!F$62)","v":""}]
[{"$f":"IF(('Instrumental Data'!B78)=\"\",\"\",'Instrumental Data'!$C$54)","v":""},{"$f":"IF(('Instrumental Data'!B78)=\"\",\"\",'Instrumental Data'!$C$55)","v":""},{"$f":"IF(('Instrumental Data'!B78)=\"\",\"\",'Instrumental Data'!B78)","v":""},{"$f":"IF(('Instrumental Data'!C78)=\"\",\"\",'Instrumental Data'!C78)","v":""},{"$f":"IF(('Instrumental Data'!D78)=\"\",\"\",TEXT('Instrumental Data'!D78,\"hh:mm\"))","v":""},{"$f":"IF(('Instrumental Data'!E78)=\"\",\"\",TEXT('Instrumental Data'!E78,\"hh:mm\"))","v":""},{"$f":"IF(('Instrumental Data'!B78)=\"\",\"\",'Instrumental Data'!C$59)","v":""},{"$f":"IF(('Instrumental Data'!B78)=\"\",\"\",'Instrumental Data'!C$60)","v":""},{"$f":"IF(('Instrumental Data'!B78)=\"\",\"\",'Instrumental Data'!C$61)","v":""},{"$f":"IF(('Instrumental Data'!B78)=\"\",\"\",'Instrumental Data'!F$58)","v":""},{"$f":"IF(('Instrumental Data'!B78)=\"\",\"\",'Instrumental Data'!F$59)","v":""},{"$f":"IF(('Instrumental Data'!B78)=\"\",\"\",'Instrumental Data'!F$60)","v":""},{"$f":"IF(('Instrumental Data'!B78)=\"\",\"\",'Instrumental Data'!F$61)","v":""},{"$f":"IF(('Instrumental Data'!B78)=\"\",\"\",'Instrumental Data'!F78)","v":""},{"$f":"IFERROR(VLOOKUP(N37&\" SystemZero\",List!$J$2:$L$43,2,FALSE),\"\")","v":""},{"$f":"IF(('Instrumental Data'!G78)=\"\",\"\",'Instrumental Data'!G78)","v":""},{"$f":"IFERROR(VLOOKUP(N37&\" SystemUpscale\",List!$J$2:$L$43,2,FALSE),\"\")","v":""},{"$f":"IF(('Instrumental Data'!H78)=\"\",\"\",'Instrumental Data'!H78)","v":""},{"$f":"IFERROR(VLOOKUP(N37&\" SystemZero\",List!$J$2:$L$43,2,FALSE),\"\")","v":""},{"$f":"IF(('Instrumental Data'!K78)=\"\",\"\",'Instrumental Data'!K78)","v":""},{"$f":"IFERROR(VLOOKUP(N37&\" SystemUpscale\",List!$J$2:$L$43,2,FALSE),\"\")","v":""},{"$f":"IF(('Instrumental Data'!L78)=\"\",\"\",'Instrumental Data'!L78)","v":""},{"$f":"IF(('Instrumental Data'!I78)=\"\",\"\",'Instrumental Data'!I78)","v":""},{"$f":"IF(('Instrumental Data'!B78)=\"\",\"\",'Instrumental Data'!$J78)","v":""},{"$f":"IF(('Instrumental Data'!B78)=\"\",\"\",'Instrumental Data'!$J78)","v":""},{"$f":"IF(('Instrumental Data'!B78)=\"\",\"\",'Instrumental Data'!F$62)","v":""}]
[{"$f":"IF(('Instrumental Data'!B93)=\"\",\"\",'Instrumental Data'!$C$80)","v":""},{"$f":"IF(('Instrumental Data'!B93)=\"\",\"\",'Instrumental Data'!$C$81)","v":""},{"$f":"IF(('Instrumental Data'!B93)=\"\",\"\",'Instrumental Data'!B93)","v":""},{"$f":"IF(('Instrumental Data'!C93)=\"\",\"\",'Instrumental Data'!C93)","v":""},{"$f":"IF(('Instrumental Data'!D93)=\"\",\"\",TEXT('Instrumental Data'!D93,\"hh:mm\"))","v":""},{"$f":"IF(('Instrumental Data'!E93)=\"\",\"\",TEXT('Instrumental Data'!E93,\"hh:mm\"))","v":""},{"$f":"IF(('Instrumental Data'!B93)=\"\",\"\",'Instrumental Data'!C$85)","v":""},{"$f":"IF(('Instrumental Data'!B93)=\"\",\"\",'Instrumental Data'!C$86)","v":""},{"$f":"IF(('Instrumental Data'!B93)=\"\",\"\",'Instrumental Data'!C$87)","v":""},{"$f":"IF(('Instrumental Data'!B93)=\"\",\"\",'Instrumental Data'!F$84)","v":""},{"$f":"IF(('Instrumental Data'!B93)=\"\",\"\",'Instrumental Data'!F$85)","v":""},{"$f":"IF(('Instrumental Data'!B93)=\"\",\"\",'Instrumental Data'!F$86)","v":""},{"$f":"IF(('Instrumental Data'!B93)=\"\",\"\",'Instrumental Data'!F$87)","v":""},{"$f":"IF(('Instrumental Data'!B93)=\"\",\"\",'Instrumental Data'!F93)","v":""},{"$f":"IFERROR(VLOOKUP(N38&\" SystemZero\",List!$J$2:$L$43,2,FALSE),\"\")","v":""},{"$f":"IF(('Instrumental Data'!G93)=\"\",\"\",'Instrumental Data'!G93)","v":""},{"$f":"IFERROR(VLOOKUP(N38&\" SystemUpscale\",List!$J$2:$L$43,2,FALSE),\"\")","v":""},{"$f":"IF(('Instrumental Data'!H93)=\"\",\"\",'Instrumental Data'!H93)","v":""},{"$f":"IFERROR(VLOOKUP(N38&\" SystemZero\",List!$J$2:$L$43,2,FALSE),\"\")","v":""},{"$f":"IF(('Instrumental Data'!K93)=\"\",\"\",'Instrumental Data'!K93)","v":""},{"$f":"IFERROR(VLOOKUP(N38&\" SystemUpscale\",List!$J$2:$L$43,2,FALSE),\"\")","v":""},{"$f":"IF(('Instrumental Data'!L93)=\"\",\"\",'Instrumental Data'!L93)","v":""},{"$f":"IF(('Instrumental Data'!I93)=\"\",\"\",'Instrumental Data'!I93)","v":""},{"$f":"IF(('Instrumental Data'!B93)=\"\",\"\",'Instrumental Data'!$J93)","v":""},{"$f":"IF(('Instrumental Data'!B93)=\"\",\"\",'Instrumental Data'!$J93)","v":""},{"$f":"IF(('Instrumental Data'!B93)=\"\",\"\",'Instrumental Data'!F$62)","v":""}]
[{"$f":"IF(('Instrumental Data'!B94)=\"\",\"\",'Instrumental Data'!$C$80)","v":""},{"$f":"IF(('Instrumental Data'!B94)=\"\",\"\",'Instrumental Data'!$C$81)","v":""},{"$f":"IF(('Instrumental Data'!B94)=\"\",\"\",'Instrumental Data'!B94)","v":""},{"$f":"IF(('Instrumental Data'!C94)=\"\",\"\",'Instrumental Data'!C94)","v":""},{"$f":"IF(('Instrumental Data'!D94)=\"\",\"\",TEXT('Instrumental Data'!D94,\"hh:mm\"))","v":""},{"$f":"IF(('Instrumental Data'!E94)=\"\",\"\",TEXT('Instrumental Data'!E94,\"hh:mm\"))","v":""},{"$f":"IF(('Instrumental Data'!B94)=\"\",\"\",'Instrumental Data'!C$85)","v":""},{"$f":"IF(('Instrumental Data'!B94)=\"\",\"\",'Instrumental Data'!C$86)","v":""},{"$f":"IF(('Instrumental Data'!B94)=\"\",\"\",'Instrumental Data'!C$87)","v":""},{"$f":"IF(('Instrumental Data'!B94)=\"\",\"\",'Instrumental Data'!F$84)","v":""},{"$f":"IF(('Instrumental Data'!B94)=\"\",\"\",'Instrumental Data'!F$85)","v":""},{"$f":"IF(('Instrumental Data'!B94)=\"\",\"\",'Instrumental Data'!F$86)","v":""},{"$f":"IF(('Instrumental Data'!B94)=\"\",\"\",'Instrumental Data'!F$87)","v":""},{"$f":"IF(('Instrumental Data'!B94)=\"\",\"\",'Instrumental Data'!F94)","v":""},{"$f":"IFERROR(VLOOKUP(N39&\" SystemZero\",List!$J$2:$L$43,2,FALSE),\"\")","v":""},{"$f":"IF(('Instrumental Data'!G94)=\"\",\"\",'Instrumental Data'!G94)","v":""},{"$f":"IFERROR(VLOOKUP(N39&\" SystemUpscale\",List!$J$2:$L$43,2,FALSE),\"\")","v":""},{"$f":"IF(('Instrumental Data'!H94)=\"\",\"\",'Instrumental Data'!H94)","v":""},{"$f":"IFERROR(VLOOKUP(N39&\" SystemZero\",List!$J$2:$L$43,2,FALSE),\"\")","v":""},{"$f":"IF(('Instrumental Data'!K94)=\"\",\"\",'Instrumental Data'!K94)","v":""},{"$f":"IFERROR(VLOOKUP(N39&\" SystemUpscale\",List!$J$2:$L$43,2,FALSE),\"\")","v":""},{"$f":"IF(('Instrumental Data'!L94)=\"\",\"\",'Instrumental Data'!L94)","v":""},{"$f":"IF(('Instrumental Data'!I94)=\"\",\"\",'Instrumental Data'!I94)","v":""},{"$f":"IF(('Instrumental Data'!B94)=\"\",\"\",'Instrumental Data'!$J94)","v":""},{"$f":"IF(('Instrumental Data'!B94)=\"\",\"\",'Instrumental Data'!$J94)","v":""},{"$f":"IF(('Instrumental Data'!B94)=\"\",\"\",'Instrumental Data'!F$62)","v":""}]
[{"$f":"IF(('Instrumental Data'!B95)=\"\",\"\",'Instrumental Data'!$C$80)","v":""},{"$f":"IF(('Instrumental Data'!B95)=\"\",\"\",'Instrumental Data'!$C$81)","v":""},{"$f":"IF(('Instrumental Data'!B95)=\"\",\"\",'Instrumental Data'!B95)","v":""},{"$f":"IF(('Instrumental Data'!C95)=\"\",\"\",'Instrumental Data'!C95)","v":""},{"$f":"IF(('Instrumental Data'!D95)=\"\",\"\",TEXT('Instrumental Data'!D95,\"hh:mm\"))","v":""},{"$f":"IF(('Instrumental Data'!E95)=\"\",\"\",TEXT('Instrumental Data'!E95,\"hh:mm\"))","v":""},{"$f":"IF(('Instrumental Data'!B95)=\"\",\"\",'Instrumental Data'!C$85)","v":""},{"$f":"IF(('Instrumental Data'!B95)=\"\",\"\",'Instrumental Data'!C$86)","v":""},{"$f":"IF(('Instrumental Data'!B95)=\"\",\"\",'Instrumental Data'!C$87)","v":""},{"$f":"IF(('Instrumental Data'!B95)=\"\",\"\",'Instrumental Data'!F$84)","v":""},{"$f":"IF(('Instrumental Data'!B95)=\"\",\"\",'Instrumental Data'!F$85)","v":""},{"$f":"IF(('Instrumental Data'!B95)=\"\",\"\",'Instrumental Data'!F$86)","v":""},{"$f":"IF(('Instrumental Data'!B95)=\"\",\"\",'Instrumental Data'!F$87)","v":""},{"$f":"IF(('Instrumental Data'!B95)=\"\",\"\",'Instrumental Data'!F95)","v":""},{"$f":"IFERROR(VLOOKUP(N40&\" SystemZero\",List!$J$2:$L$43,2,FALSE),\"\")","v":""},{"$f":"IF(('Instrumental Data'!G95)=\"\",\"\",'Instrumental Data'!G95)","v":""},{"$f":"IFERROR(VLOOKUP(N40&\" SystemUpscale\",List!$J$2:$L$43,2,FALSE),\"\")","v":""},{"$f":"IF(('Instrumental Data'!H95)=\"\",\"\",'Instrumental Data'!H95)","v":""},{"$f":"IFERROR(VLOOKUP(N40&\" SystemZero\",List!$J$2:$L$43,2,FALSE),\"\")","v":""},{"$f":"IF(('Instrumental Data'!K95)=\"\",\"\",'Instrumental Data'!K95)","v":""},{"$f":"IFERROR(VLOOKUP(N40&\" SystemUpscale\",List!$J$2:$L$43,2,FALSE),\"\")","v":""},{"$f":"IF(('Instrumental Data'!L95)=\"\",\"\",'Instrumental Data'!L95)","v":""},{"$f":"IF(('Instrumental Data'!I95)=\"\",\"\",'Instrumental Data'!I95)","v":""},{"$f":"IF(('Instrumental Data'!B95)=\"\",\"\",'Instrumental Data'!$J95)","v":""},{"$f":"IF(('Instrumental Data'!B95)=\"\",\"\",'Instrumental Data'!$J95)","v":""},{"$f":"IF(('Instrumental Data'!B95)=\"\",\"\",'Instrumental Data'!F$62)","v":""}]
[{"$f":"IF(('Instrumental Data'!B96)=\"\",\"\",'Instrumental Data'!$C$80)","v":""},{"$f":"IF(('Instrumental Data'!B96)=\"\",\"\",'Instrumental Data'!$C$81)","v":""},{"$f":"IF(('Instrumental Data'!B96)=\"\",\"\",'Instrumental Data'!B96)","v":""},{"$f":"IF(('Instrumental Data'!C96)=\"\",\"\",'Instrumental Data'!C96)","v":""},{"$f":"IF(('Instrumental Data'!D96)=\"\",\"\",TEXT('Instrumental Data'!D96,\"hh:mm\"))","v":""},{"$f":"IF(('Instrumental Data'!E96)=\"\",\"\",TEXT('Instrumental Data'!E96,\"hh:mm\"))","v":""},{"$f":"IF(('Instrumental Data'!B96)=\"\",\"\",'Instrumental Data'!C$85)","v":""},{"$f":"IF(('Instrumental Data'!B96)=\"\",\"\",'Instrumental Data'!C$86)","v":""},{"$f":"IF(('Instrumental Data'!B96)=\"\",\"\",'Instrumental Data'!C$87)","v":""},{"$f":"IF(('Instrumental Data'!B96)=\"\",\"\",'Instrumental Data'!F$84)","v":""},{"$f":"IF(('Instrumental Data'!B96)=\"\",\"\",'Instrumental Data'!F$85)","v":""},{"$f":"IF(('Instrumental Data'!B96)=\"\",\"\",'Instrumental Data'!F$86)","v":""},{"$f":"IF(('Instrumental Data'!B96)=\"\",\"\",'Instrumental Data'!F$87)","v":""},{"$f":"IF(('Instrumental Data'!B96)=\"\",\"\",'Instrumental Data'!F96)","v":""},{"$f":"IFERROR(VLOOKUP(N41&\" SystemZero\",List!$J$2:$L$43,2,FALSE),\"\")","v":""},{"$f":"IF(('Instrumental Data'!G96)=\"\",\"\",'Instrumental Data'!G96)","v":""},{"$f":"IFERROR(VLOOKUP(N41&\" SystemUpscale\",List!$J$2:$L$43,2,FALSE),\"\")","v":""},{"$f":"IF(('Instrumental Data'!H96)=\"\",\"\",'Instrumental Data'!H96)","v":""},{"$f":"IFERROR(VLOOKUP(N41&\" SystemZero\",List!$J$2:$L$43,2,FALSE),\"\")","v":""},{"$f":"IF(('Instrumental Data'!K96)=\"\",\"\",'Instrumental Data'!K96)","v":""},{"$f":"IFERROR(VLOOKUP(N41&\" SystemUpscale\",List!$J$2:$L$43,2,FALSE),\"\")","v":""},{"$f":"IF(('Instrumental Data'!L96)=\"\",\"\",'Instrumental Data'!L96)","v":""},{"$f":"IF(('Instrumental Data'!I96)=\"\",\"\",'Instrumental Data'!I96)","v":""},{"$f":"IF(('Instrumental Data'!B96)=\"\",\"\",'Instrumental Data'!$J96)","v":""},{"$f":"IF(('Instrumental Data'!B96)=\"\",\"\",'Instrumental Data'!$J96)","v":""},{"$f":"IF(('Instrumental Data'!B96)=\"\",\"\",'Instrumental Data'!F$62)","v":""}]
[{"$f":"IF(('Instrumental Data'!B97)=\"\",\"\",'Instrumental Data'!$C$80)","v":""},{"$f":"IF(('Instrumental Data'!B97)=\"\",\"\",'Instrumental Data'!$C$81)","v":""},{"$f":"IF(('Instrumental Data'!B97)=\"\",\"\",'Instrumental Data'!B97)","v":""},{"$f":"IF(('Instrumental Data'!C97)=\"\",\"\",'Instrumental Data'!C97)","v":""},{"$f":"IF(('Instrumental Data'!D97)=\"\",\"\",TEXT('Instrumental Data'!D97,\"hh:mm\"))","v":""},{"$f":"IF(('Instrumental Data'!E97)=\"\",\"\",TEXT('Instrumental Data'!E97,\"hh:mm\"))","v":""},{"$f":"IF(('Instrumental Data'!B97)=\"\",\"\",'Instrumental Data'!C$85)","v":""},{"$f":"IF(('Instrumental Data'!B97)=\"\",\"\",'Instrumental Data'!C$86)","v":""},{"$f":"IF(('Instrumental Data'!B97)=\"\",\"\",'Instrumental Data'!C$87)","v":""},{"$f":"IF(('Instrumental Data'!B97)=\"\",\"\",'Instrumental Data'!F$84)","v":""},{"$f":"IF(('Instrumental Data'!B97)=\"\",\"\",'Instrumental Data'!F$85)","v":""},{"$f":"IF(('Instrumental Data'!B97)=\"\",\"\",'Instrumental Data'!F$86)","v":""},{"$f":"IF(('Instrumental Data'!B97)=\"\",\"\",'Instrumental Data'!F$87)","v":""},{"$f":"IF(('Instrumental Data'!B97)=\"\",\"\",'Instrumental Data'!F97)","v":""},{"$f":"IFERROR(VLOOKUP(N42&\" SystemZero\",List!$J$2:$L$43,2,FALSE),\"\")","v":""},{"$f":"IF(('Instrumental Data'!G97)=\"\",\"\",'Instrumental Data'!G97)","v":""},{"$f":"IFERROR(VLOOKUP(N42&\" SystemUpscale\",List!$J$2:$L$43,2,FALSE),\"\")","v":""},{"$f":"IF(('Instrumental Data'!H97)=\"\",\"\",'Instrumental Data'!H97)","v":""},{"$f":"IFERROR(VLOOKUP(N42&\" SystemZero\",List!$J$2:$L$43,2,FALSE),\"\")","v":""},{"$f":"IF(('Instrumental Data'!K97)=\"\",\"\",'Instrumental Data'!K97)","v":""},{"$f":"IFERROR(VLOOKUP(N42&\" SystemUpscale\",List!$J$2:$L$43,2,FALSE),\"\")","v":""},{"$f":"IF(('Instrumental Data'!L97)=\"\",\"\",'Instrumental Data'!L97)","v":""},{"$f":"IF(('Instrumental Data'!I97)=\"\",\"\",'Instrumental Data'!I97)","v":""},{"$f":"IF(('Instrumental Data'!B97)=\"\",\"\",'Instrumental Data'!$J97)","v":""},{"$f":"IF(('Instrumental Data'!B97)=\"\",\"\",'Instrumental Data'!$J97)","v":""},{"$f":"IF(('Instrumental Data'!B97)=\"\",\"\",'Instrumental Data'!F$62)","v":""}]
[{"$f":"IF(('Instrumental Data'!B98)=\"\",\"\",'Instrumental Data'!$C$80)","v":""},{"$f":"IF(('Instrumental Data'!B98)=\"\",\"\",'Instrumental Data'!$C$81)","v":""},{"$f":"IF(('Instrumental Data'!B98)=\"\",\"\",'Instrumental Data'!B98)","v":""},{"$f":"IF(('Instrumental Data'!C98)=\"\",\"\",'Instrumental Data'!C98)","v":""},{"$f":"IF(('Instrumental Data'!D98)=\"\",\"\",TEXT('Instrumental Data'!D98,\"hh:mm\"))","v":""},{"$f":"IF(('Instrumental Data'!E98)=\"\",\"\",TEXT('Instrumental Data'!E98,\"hh:mm\"))","v":""},{"$f":"IF(('Instrumental Data'!B98)=\"\",\"\",'Instrumental Data'!C$85)","v":""},{"$f":"IF(('Instrumental Data'!B98)=\"\",\"\",'Instrumental Data'!C$86)","v":""},{"$f":"IF(('Instrumental Data'!B98)=\"\",\"\",'Instrumental Data'!C$87)","v":""},{"$f":"IF(('Instrumental Data'!B98)=\"\",\"\",'Instrumental Data'!F$84)","v":""},{"$f":"IF(('Instrumental Data'!B98)=\"\",\"\",'Instrumental Data'!F$85)","v":""},{"$f":"IF(('Instrumental Data'!B98)=\"\",\"\",'Instrumental Data'!F$86)","v":""},{"$f":"IF(('Instrumental Data'!B98)=\"\",\"\",'Instrumental Data'!F$87)","v":""},{"$f":"IF(('Instrumental Data'!B98)=\"\",\"\",'Instrumental Data'!F98)","v":""},{"$f":"IFERROR(VLOOKUP(N43&\" SystemZero\",List!$J$2:$L$43,2,FALSE),\"\")","v":""},{"$f":"IF(('Instrumental Data'!G98)=\"\",\"\",'Instrumental Data'!G98)","v":""},{"$f":"IFERROR(VLOOKUP(N43&\" SystemUpscale\",List!$J$2:$L$43,2,FALSE),\"\")","v":""},{"$f":"IF(('Instrumental Data'!H98)=\"\",\"\",'Instrumental Data'!H98)","v":""},{"$f":"IFERROR(VLOOKUP(N43&\" SystemZero\",List!$J$2:$L$43,2,FALSE),\"\")","v":""},{"$f":"IF(('Instrumental Data'!K98)=\"\",\"\",'Instrumental Data'!K98)","v":""},{"$f":"IFERROR(VLOOKUP(N43&\" SystemUpscale\",List!$J$2:$L$43,2,FALSE),\"\")","v":""},{"$f":"IF(('Instrumental Data'!L98)=\"\",\"\",'Instrumental Data'!L98)","v":""},{"$f":"IF(('Instrumental Data'!I98)=\"\",\"\",'Instrumental Data'!I98)","v":""},{"$f":"IF(('Instrumental Data'!B98)=\"\",\"\",'Instrumental Data'!$J98)","v":""},{"$f":"IF(('Instrumental Data'!B98)=\"\",\"\",'Instrumental Data'!$J98)","v":""},{"$f":"IF(('Instrumental Data'!B98)=\"\",\"\",'Instrumental Data'!F$62)","v":""}]
[{"$f":"IF(('Instrumental Data'!B99)=\"\",\"\",'Instrumental Data'!$C$80)","v":""},{"$f":"IF(('Instrumental Data'!B99)=\"\",\"\",'Instrumental Data'!$C$81)","v":""},{"$f":"IF(('Instrumental Data'!B99)=\"\",\"\",'Instrumental Data'!B99)","v":""},{"$f":"IF(('Instrumental Data'!C99)=\"\",\"\",'Instrumental Data'!C99)","v":""},{"$f":"IF(('Instrumental Data'!D99)=\"\",\"\",TEXT('Instrumental Data'!D99,\"hh:mm\"))","v":""},{"$f":"IF(('Instrumental Data'!E99)=\"\",\"\",TEXT('Instrumental Data'!E99,\"hh:mm\"))","v":""},{"$f":"IF(('Instrumental Data'!B99)=\"\",\"\",'Instrumental Data'!C$85)","v":""},{"$f":"IF(('Instrumental Data'!B99)=\"\",\"\",'Instrumental Data'!C$86)","v":""},{"$f":"IF(('Instrumental Data'!B99)=\"\",\"\",'Instrumental Data'!C$87)","v":""},{"$f":"IF(('Instrumental Data'!B99)=\"\",\"\",'Instrumental Data'!F$84)","v":""},{"$f":"IF(('Instrumental Data'!B99)=\"\",\"\",'Instrumental Data'!F$85)","v":""},{"$f":"IF(('Instrumental Data'!B99)=\"\",\"\",'Instrumental Data'!F$86)","v":""},{"$f":"IF(('Instrumental Data'!B99)=\"\",\"\",'Instrumental Data'!F$87)","v":""},{"$f":"IF(('Instrumental Data'!B99)=\"\",\"\",'Instrumental Data'!F99)","v":""},{"$f":"IFERROR(VLOOKUP(N44&\" SystemZero\",List!$J$2:$L$43,2,FALSE),\"\")","v":""},{"$f":"IF(('Instrumental Data'!G99)=\"\",\"\",'Instrumental Data'!G99)","v":""},{"$f":"IFERROR(VLOOKUP(N44&\" SystemUpscale\",List!$J$2:$L$43,2,FALSE),\"\")","v":""},{"$f":"IF(('Instrumental Data'!H99)=\"\",\"\",'Instrumental Data'!H99)","v":""},{"$f":"IFERROR(VLOOKUP(N44&\" SystemZero\",List!$J$2:$L$43,2,FALSE),\"\")","v":""},{"$f":"IF(('Instrumental Data'!K99)=\"\",\"\",'Instrumental Data'!K99)","v":""},{"$f":"IFERROR(VLOOKUP(N44&\" SystemUpscale\",List!$J$2:$L$43,2,FALSE),\"\")","v":""},{"$f":"IF(('Instrumental Data'!L99)=\"\",\"\",'Instrumental Data'!L99)","v":""},{"$f":"IF(('Instrumental Data'!I99)=\"\",\"\",'Instrumental Data'!I99)","v":""},{"$f":"IF(('Instrumental Data'!B99)=\"\",\"\",'Instrumental Data'!$J99)","v":""},{"$f":"IF(('Instrumental Data'!B99)=\"\",\"\",'Instrumental Data'!$J99)","v":""},{"$f":"IF(('Instrumental Data'!B99)=\"\",\"\",'Instrumental Data'!F$62)","v":""}]
[{"$f":"IF(('Instrumental Data'!B100)=\"\",\"\",'Instrumental Data'!$C$80)","v":""},{"$f":"IF(('Instrumental Data'!B100)=\"\",\"\",'Instrumental Data'!$C$81)","v":""},{"$f":"IF(('Instrumental Data'!B100)=\"\",\"\",'Instrumental Data'!B100)","v":""},{"$f":"IF(('Instrumental Data'!C100)=\"\",\"\",'Instrumental Data'!C100)","v":""},{"$f":"IF(('Instrumental Data'!D100)=\"\",\"\",TEXT('Instrumental Data'!D100,\"hh:mm\"))","v":""},{"$f":"IF(('Instrumental Data'!E100)=\"\",\"\",TEXT('Instrumental Data'!E100,\"hh:mm\"))","v":""},{"$f":"IF(('Instrumental Data'!B100)=\"\",\"\",'Instrumental Data'!C$85)","v":""},{"$f":"IF(('Instrumental Data'!B100)=\"\",\"\",'Instrumental Data'!C$86)","v":""},{"$f":"IF(('Instrumental Data'!B100)=\"\",\"\",'Instrumental Data'!C$87)","v":""},{"$f":"IF(('Instrumental Data'!B100)=\"\",\"\",'Instrumental Data'!F$84)","v":""},{"$f":"IF(('Instrumental Data'!B100)=\"\",\"\",'Instrumental Data'!F$85)","v":""},{"$f":"IF(('Instrumental Data'!B100)=\"\",\"\",'Instrumental Data'!F$86)","v":""},{"$f":"IF(('Instrumental Data'!B100)=\"\",\"\",'Instrumental Data'!F$87)","v":""},{"$f":"IF(('Instrumental Data'!B100)=\"\",\"\",'Instrumental Data'!F100)","v":""},{"$f":"IFERROR(VLOOKUP(N45&\" SystemZero\",List!$J$2:$L$43,2,FALSE),\"\")","v":""},{"$f":"IF(('Instrumental Data'!G100)=\"\",\"\",'Instrumental Data'!G100)","v":""},{"$f":"IFERROR(VLOOKUP(N45&\" SystemUpscale\",List!$J$2:$L$43,2,FALSE),\"\")","v":""},{"$f":"IF(('Instrumental Data'!H100)=\"\",\"\",'Instrumental Data'!H100)","v":""},{"$f":"IFERROR(VLOOKUP(N45&\" SystemZero\",List!$J$2:$L$43,2,FALSE),\"\")","v":""},{"$f":"IF(('Instrumental Data'!K100)=\"\",\"\",'Instrumental Data'!K100)","v":""},{"$f":"IFERROR(VLOOKUP(N45&\" SystemUpscale\",List!$J$2:$L$43,2,FALSE),\"\")","v":""},{"$f":"IF(('Instrumental Data'!L100)=\"\",\"\",'Instrumental Data'!L100)","v":""},{"$f":"IF(('Instrumental Data'!I100)=\"\",\"\",'Instrumental Data'!I100)","v":""},{"$f":"IF(('Instrumental Data'!B100)=\"\",\"\",'Instrumental Data'!$J100)","v":""},{"$f":"IF(('Instrumental Data'!B100)=\"\",\"\",'Instrumental Data'!$J100)","v":""},{"$f":"IF(('Instrumental Data'!B100)=\"\",\"\",'Instrumental Data'!F$62)","v":""}]
[{"$f":"IF(('Instrumental Data'!B101)=\"\",\"\",'Instrumental Data'!$C$80)","v":""},{"$f":"IF(('Instrumental Data'!B101)=\"\",\"\",'Instrumental Data'!$C$81)","v":""},{"$f":"IF(('Instrumental Data'!B101)=\"\",\"\",'Instrumental Data'!B101)","v":""},{"$f":"IF(('Instrumental Data'!C101)=\"\",\"\",'Instrumental Data'!C101)","v":""},{"$f":"IF(('Instrumental Data'!D101)=\"\",\"\",TEXT('Instrumental Data'!D101,\"hh:mm\"))","v":""},{"$f":"IF(('Instrumental Data'!E101)=\"\",\"\",TEXT('Instrumental Data'!E101,\"hh:mm\"))","v":""},{"$f":"IF(('Instrumental Data'!B101)=\"\",\"\",'Instrumental Data'!C$85)","v":""},{"$f":"IF(('Instrumental Data'!B101)=\"\",\"\",'Instrumental Data'!C$86)","v":""},{"$f":"IF(('Instrumental Data'!B101)=\"\",\"\",'Instrumental Data'!C$87)","v":""},{"$f":"IF(('Instrumental Data'!B101)=\"\",\"\",'Instrumental Data'!F$84)","v":""},{"$f":"IF(('Instrumental Data'!B101)=\"\",\"\",'Instrumental Data'!F$85)","v":""},{"$f":"IF(('Instrumental Data'!B101)=\"\",\"\",'Instrumental Data'!F$86)","v":""},{"$f":"IF(('Instrumental Data'!B101)=\"\",\"\",'Instrumental Data'!F$87)","v":""},{"$f":"IF(('Instrumental Data'!B101)=\"\",\"\",'Instrumental Data'!F101)","v":""},{"$f":"IFERROR(VLOOKUP(N46&\" SystemZero\",List!$J$2:$L$43,2,FALSE),\"\")","v":""},{"$f":"IF(('Instrumental Data'!G101)=\"\",\"\",'Instrumental Data'!G101)","v":""},{"$f":"IFERROR(VLOOKUP(N46&\" SystemUpscale\",List!$J$2:$L$43,2,FALSE),\"\")","v":""},{"$f":"IF(('Instrumental Data'!H101)=\"\",\"\",'Instrumental Data'!H101)","v":""},{"$f":"IFERROR(VLOOKUP(N46&\" SystemZero\",List!$J$2:$L$43,2,FALSE),\"\")","v":""},{"$f":"IF(('Instrumental Data'!K101)=\"\",\"\",'Instrumental Data'!K101)","v":""},{"$f":"IFERROR(VLOOKUP(N46&\" SystemUpscale\",List!$J$2:$L$43,2,FALSE),\"\")","v":""},{"$f":"IF(('Instrumental Data'!L101)=\"\",\"\",'Instrumental Data'!L101)","v":""},{"$f":"IF(('Instrumental Data'!I101)=\"\",\"\",'Instrumental Data'!I101)","v":""},{"$f":"IF(('Instrumental Data'!B101)=\"\",\"\",'Instrumental Data'!$J101)","v":""},{"$f":"IF(('Instrumental Data'!B101)=\"\",\"\",'Instrumental Data'!$J101)","v":""},{"$f":"IF(('Instrumental Data'!B101)=\"\",\"\",'Instrumental Data'!F$62)","v":""}]
[{"$f":"IF(('Instrumental Data'!B102)=\"\",\"\",'Instrumental Data'!$C$80)","v":""},{"$f":"IF(('Instrumental Data'!B102)=\"\",\"\",'Instrumental Data'!$C$81)","v":""},{"$f":"IF(('Instrumental Data'!B102)=\"\",\"\",'Instrumental Data'!B102)","v":""},{"$f":"IF(('Instrumental Data'!C102)=\"\",\"\",'Instrumental Data'!C102)","v":""},{"$f":"IF(('Instrumental Data'!D102)=\"\",\"\",TEXT('Instrumental Data'!D102,\"hh:mm\"))","v":""},{"$f":"IF(('Instrumental Data'!E102)=\"\",\"\",TEXT('Instrumental Data'!E102,\"hh:mm\"))","v":""},{"$f":"IF(('Instrumental Data'!B102)=\"\",\"\",'Instrumental Data'!C$85)","v":""},{"$f":"IF(('Instrumental Data'!B102)=\"\",\"\",'Instrumental Data'!C$86)","v":""},{"$f":"IF(('Instrumental Data'!B102)=\"\",\"\",'Instrumental Data'!C$87)","v":""},{"$f":"IF(('Instrumental Data'!B102)=\"\",\"\",'Instrumental Data'!F$84)","v":""},{"$f":"IF(('Instrumental Data'!B102)=\"\",\"\",'Instrumental Data'!F$85)","v":""},{"$f":"IF(('Instrumental Data'!B102)=\"\",\"\",'Instrumental Data'!F$86)","v":""},{"$f":"IF(('Instrumental Data'!B102)=\"\",\"\",'Instrumental Data'!F$87)","v":""},{"$f":"IF(('Instrumental Data'!B102)=\"\",\"\",'Instrumental Data'!F102)","v":""},{"$f":"IFERROR(VLOOKUP(N47&\" SystemZero\",List!$J$2:$L$43,2,FALSE),\"\")","v":""},{"$f":"IF(('Instrumental Data'!G102)=\"\",\"\",'Instrumental Data'!G102)","v":""},{"$f":"IFERROR(VLOOKUP(N47&\" SystemUpscale\",List!$J$2:$L$43,2,FALSE),\"\")","v":""},{"$f":"IF(('Instrumental Data'!H102)=\"\",\"\",'Instrumental Data'!H102)","v":""},{"$f":"IFERROR(VLOOKUP(N47&\" SystemZero\",List!$J$2:$L$43,2,FALSE),\"\")","v":""},{"$f":"IF(('Instrumental Data'!K102)=\"\",\"\",'Instrumental Data'!K102)","v":""},{"$f":"IFERROR(VLOOKUP(N47&\" SystemUpscale\",List!$J$2:$L$43,2,FALSE),\"\")","v":""},{"$f":"IF(('Instrumental Data'!L102)=\"\",\"\",'Instrumental Data'!L102)","v":""},{"$f":"IF(('Instrumental Data'!I102)=\"\",\"\",'Instrumental Data'!I102)","v":""},{"$f":"IF(('Instrumental Data'!B102)=\"\",\"\",'Instrumental Data'!$J102)","v":""},{"$f":"IF(('Instrumental Data'!B102)=\"\",\"\",'Instrumental Data'!$J102)","v":""},{"$f":"IF(('Instrumental Data'!B102)=\"\",\"\",'Instrumental Data'!F$62)","v":""}]
[{"$f":"IF(('Instrumental Data'!B103)=\"\",\"\",'Instrumental Data'!$C$80)","v":""},{"$f":"IF(('Instrumental Data'!B103)=\"\",\"\",'Instrumental Data'!$C$81)","v":""},{"$f":"IF(('Instrumental Data'!B103)=\"\",\"\",'Instrumental Data'!B103)","v":""},{"$f":"IF(('Instrumental Data'!C103)=\"\",\"\",'Instrumental Data'!C103)","v":""},{"$f":"IF(('Instrumental Data'!D103)=\"\",\"\",TEXT('Instrumental Data'!D103,\"hh:mm\"))","v":""},{"$f":"IF(('Instrumental Data'!E103)=\"\",\"\",TEXT('Instrumental Data'!E103,\"hh:mm\"))","v":""},{"$f":"IF(('Instrumental Data'!B103)=\"\",\"\",'Instrumental Data'!C$85)","v":""},{"$f":"IF(('Instrumental Data'!B103)=\"\",\"\",'Instrumental Data'!C$86)","v":""},{"$f":"IF(('Instrumental Data'!B103)=\"\",\"\",'Instrumental Data'!C$87)","v":""},{"$f":"IF(('Instrumental Data'!B103)=\"\",\"\",'Instrumental Data'!F$84)","v":""},{"$f":"IF(('Instrumental Data'!B103)=\"\",\"\",'Instrumental Data'!F$85)","v":""},{"$f":"IF(('Instrumental Data'!B103)=\"\",\"\",'Instrumental Data'!F$86)","v":""},{"$f":"IF(('Instrumental Data'!B103)=\"\",\"\",'Instrumental Data'!F$87)","v":""},{"$f":"IF(('Instrumental Data'!B103)=\"\",\"\",'Instrumental Data'!F103)","v":""},{"$f":"IFERROR(VLOOKUP(N48&\" SystemZero\",List!$J$2:$L$43,2,FALSE),\"\")","v":""},{"$f":"IF(('Instrumental Data'!G103)=\"\",\"\",'Instrumental Data'!G103)","v":""},{"$f":"IFERROR(VLOOKUP(N48&\" SystemUpscale\",List!$J$2:$L$43,2,FALSE),\"\")","v":""},{"$f":"IF(('Instrumental Data'!H103)=\"\",\"\",'Instrumental Data'!H103)","v":""},{"$f":"IFERROR(VLOOKUP(N48&\" SystemZero\",List!$J$2:$L$43,2,FALSE),\"\")","v":""},{"$f":"IF(('Instrumental Data'!K103)=\"\",\"\",'Instrumental Data'!K103)","v":""},{"$f":"IFERROR(VLOOKUP(N48&\" SystemUpscale\",List!$J$2:$L$43,2,FALSE),\"\")","v":""},{"$f":"IF(('Instrumental Data'!L103)=\"\",\"\",'Instrumental Data'!L103)","v":""},{"$f":"IF(('Instrumental Data'!I103)=\"\",\"\",'Instrumental Data'!I103)","v":""},{"$f":"IF(('Instrumental Data'!B103)=\"\",\"\",'Instrumental Data'!$J103)","v":""},{"$f":"IF(('Instrumental Data'!B103)=\"\",\"\",'Instrumental Data'!$J103)","v":""},{"$f":"IF(('Instrumental Data'!B103)=\"\",\"\",'Instrumental Data'!F$62)","v":""}]
[{"$f":"IF(('Instrumental Data'!B104)=\"\",\"\",'Instrumental Data'!$C$80)","v":""},{"$f":"IF(('Instrumental Data'!B104)=\"\",\"\",'Instrumental Data'!$C$81)","v":""},{"$f":"IF(('Instrumental Data'!B104)=\"\",\"\",'Instrumental Data'!B104)","v":""},{"$f":"IF(('Instrumental Data'!C104)=\"\",\"\",'Instrumental Data'!C104)","v":""},{"$f":"IF(('Instrumental Data'!D104)=\"\",\"\",TEXT('Instrumental Data'!D104,\"hh:mm\"))","v":""},{"$f":"IF(('Instrumental Data'!E104)=\"\",\"\",TEXT('Instrumental Data'!E104,\"hh:mm\"))","v":""},{"$f":"IF(('Instrumental Data'!B104)=\"\",\"\",'Instrumental Data'!C$85)","v":""},{"$f":"IF(('Instrumental Data'!B104)=\"\",\"\",'Instrumental Data'!C$86)","v":""},{"$f":"IF(('Instrumental Data'!B104)=\"\",\"\",'Instrumental Data'!C$87)","v":""},{"$f":"IF(('Instrumental Data'!B104)=\"\",\"\",'Instrumental Data'!F$84)","v":""},{"$f":"IF(('Instrumental Data'!B104)=\"\",\"\",'Instrumental Data'!F$85)","v":""},{"$f":"IF(('Instrumental Data'!B104)=\"\",\"\",'Instrumental Data'!F$86)","v":""},{"$f":"IF(('Instrumental Data'!B104)=\"\",\"\",'Instrumental Data'!F$87)","v":""},{"$f":"IF(('Instrumental Data'!B104)=\"\",\"\",'Instrumental Data'!F104)","v":""},{"$f":"IFERROR(VLOOKUP(N49&\" SystemZero\",List!$J$2:$L$43,2,FALSE),\"\")","v":""},{"$f":"IF(('Instrumental Data'!G104)=\"\",\"\",'Instrumental Data'!G104)","v":""},{"$f":"IFERROR(VLOOKUP(N49&\" SystemUpscale\",List!$J$2:$L$43,2,FALSE),\"\")","v":""},{"$f":"IF(('Instrumental Data'!H104)=\"\",\"\",'Instrumental Data'!H104)","v":""},{"$f":"IFERROR(VLOOKUP(N49&\" SystemZero\",List!$J$2:$L$43,2,FALSE),\"\")","v":""},{"$f":"IF(('Instrumental Data'!K104)=\"\",\"\",'Instrumental Data'!K104)","v":""},{"$f":"IFERROR(VLOOKUP(N49&\" SystemUpscale\",List!$J$2:$L$43,2,FALSE),\"\")","v":""},{"$f":"IF(('Instrumental Data'!L104)=\"\",\"\",'Instrumental Data'!L104)","v":""},{"$f":"IF(('Instrumental Data'!I104)=\"\",\"\",'Instrumental Data'!I104)","v":""},{"$f":"IF(('Instrumental Data'!B104)=\"\",\"\",'Instrumental Data'!$J104)","v":""},{"$f":"IF(('Instrumental Data'!B104)=\"\",\"\",'Instrumental Data'!$J104)","v":""},{"$f":"IF(('Instrumental Data'!B104)=\"\",\"\",'Instrumental Data'!F$62)","v":""}]
[{"$f":"IF(('Instrumental Data'!B119)=\"\",\"\",'Instrumental Data'!$C$106)","v":""},{"$f":"IF(('Instrumental Data'!B119)=\"\",\"\",'Instrumental Data'!$C$107)","v":""},{"$f":"IF(('Instrumental Data'!B119)=\"\",\"\",'Instrumental Data'!B119)","v":""},{"$f":"IF(('Instrumental Data'!C119)=\"\",\"\",'Instrumental Data'!C119)","v":""},{"$f":"IF(('Instrumental Data'!D119)=\"\",\"\",TEXT('Instrumental Data'!D119,\"hh:mm\"))","v":""},{"$f":"IF(('Instrumental Data'!E119)=\"\",\"\",TEXT('Instrumental Data'!E119,\"hh:mm\"))","v":""},{"$f":"IF(('Instrumental Data'!B119)=\"\",\"\",'Instrumental Data'!C$111)","v":""},{"$f":"IF(('Instrumental Data'!B119)=\"\",\"\",'Instrumental Data'!C$112)","v":""},{"$f":"IF(('Instrumental Data'!B119)=\"\",\"\",'Instrumental Data'!C$113)","v":""},{"$f":"IF(('Instrumental Data'!B119)=\"\",\"\",'Instrumental Data'!F$110)","v":""},{"$f":"IF(('Instrumental Data'!B119)=\"\",\"\",'Instrumental Data'!F$111)","v":""},{"$f":"IF(('Instrumental Data'!B119)=\"\",\"\",'Instrumental Data'!F$112)","v":""},{"$f":"IF(('Instrumental Data'!B119)=\"\",\"\",'Instrumental Data'!F$113)","v":""},{"$f":"IF(('Instrumental Data'!B119)=\"\",\"\",'Instrumental Data'!F119)","v":""},{"$f":"IFERROR(VLOOKUP(N50&\" SystemZero\",List!$J$2:$L$43,2,FALSE),\"\")","v":""},{"$f":"IF(('Instrumental Data'!G119)=\"\",\"\",'Instrumental Data'!G119)","v":""},{"$f":"IFERROR(VLOOKUP(N50&\" SystemUpscale\",List!$J$2:$L$43,2,FALSE),\"\")","v":""},{"$f":"IF(('Instrumental Data'!H119)=\"\",\"\",'Instrumental Data'!H119)","v":""},{"$f":"IFERROR(VLOOKUP(N50&\" SystemZero\",List!$J$2:$L$43,2,FALSE),\"\")","v":""},{"$f":"IF(('Instrumental Data'!K119)=\"\",\"\",'Instrumental Data'!K119)","v":""},{"$f":"IFERROR(VLOOKUP(N50&\" SystemUpscale\",List!$J$2:$L$43,2,FALSE),\"\")","v":""},{"$f":"IF(('Instrumental Data'!L119)=\"\",\"\",'Instrumental Data'!L119)","v":""},{"$f":"IF(('Instrumental Data'!I119)=\"\",\"\",'Instrumental Data'!I119)","v":""},{"$f":"IF(('Instrumental Data'!B119)=\"\",\"\",'Instrumental Data'!$J119)","v":""},{"$f":"IF(('Instrumental Data'!B119)=\"\",\"\",'Instrumental Data'!$J119)","v":""},{"$f":"IF(('Instrumental Data'!B119)=\"\",\"\",'Instrumental Data'!F$114)","v":""}]
[{"$f":"IF(('Instrumental Data'!B120)=\"\",\"\",'Instrumental Data'!$C$106)","v":""},{"$f":"IF(('Instrumental Data'!B120)=\"\",\"\",'Instrumental Data'!$C$107)","v":""},{"$f":"IF(('Instrumental Data'!B120)=\"\",\"\",'Instrumental Data'!B120)","v":""},{"$f":"IF(('Instrumental Data'!C120)=\"\",\"\",'Instrumental Data'!C120)","v":""},{"$f":"IF(('Instrumental Data'!D120)=\"\",\"\",TEXT('Instrumental Data'!D120,\"hh:mm\"))","v":""},{"$f":"IF(('Instrumental Data'!E120)=\"\",\"\",TEXT('Instrumental Data'!E120,\"hh:mm\"))","v":""},{"$f":"IF(('Instrumental Data'!B120)=\"\",\"\",'Instrumental Data'!C$111)","v":""},{"$f":"IF(('Instrumental Data'!B120)=\"\",\"\",'Instrumental Data'!C$112)","v":""},{"$f":"IF(('Instrumental Data'!B120)=\"\",\"\",'Instrumental Data'!C$113)","v":""},{"$f":"IF(('Instrumental Data'!B120)=\"\",\"\",'Instrumental Data'!F$110)","v":""},{"$f":"IF(('Instrumental Data'!B120)=\"\",\"\",'Instrumental Data'!F$111)","v":""},{"$f":"IF(('Instrumental Data'!B120)=\"\",\"\",'Instrumental Data'!F$112)","v":""},{"$f":"IF(('Instrumental Data'!B120)=\"\",\"\",'Instrumental Data'!F$113)","v":""},{"$f":"IF(('Instrumental Data'!B120)=\"\",\"\",'Instrumental Data'!F120)","v":""},{"$f":"IFERROR(VLOOKUP(N51&\" SystemZero\",List!$J$2:$L$43,2,FALSE),\"\")","v":""},{"$f":"IF(('Instrumental Data'!G120)=\"\",\"\",'Instrumental Data'!G120)","v":""},{"$f":"IFERROR(VLOOKUP(N51&\" SystemUpscale\",List!$J$2:$L$43,2,FALSE),\"\")","v":""},{"$f":"IF(('Instrumental Data'!H120)=\"\",\"\",'Instrumental Data'!H120)","v":""},{"$f":"IFERROR(VLOOKUP(N51&\" SystemZero\",List!$J$2:$L$43,2,FALSE),\"\")","v":""},{"$f":"IF(('Instrumental Data'!K120)=\"\",\"\",'Instrumental Data'!K120)","v":""},{"$f":"IFERROR(VLOOKUP(N51&\" SystemUpscale\",List!$J$2:$L$43,2,FALSE),\"\")","v":""},{"$f":"IF(('Instrumental Data'!L120)=\"\",\"\",'Instrumental Data'!L120)","v":""},{"$f":"IF(('Instrumental Data'!I120)=\"\",\"\",'Instrumental Data'!I120)","v":""},{"$f":"IF(('Instrumental Data'!B120)=\"\",\"\",'Instrumental Data'!$J120)","v":""},{"$f":"IF(('Instrumental Data'!B120)=\"\",\"\",'Instrumental Data'!$J120)","v":""},{"$f":"IF(('Instrumental Data'!B120)=\"\",\"\",'Instrumental Data'!F$114)","v":""}]
[{"$f":"IF(('Instrumental Data'!B121)=\"\",\"\",'Instrumental Data'!$C$106)","v":""},{"$f":"IF(('Instrumental Data'!B121)=\"\",\"\",'Instrumental Data'!$C$107)","v":""},{"$f":"IF(('Instrumental Data'!B121)=\"\",\"\",'Instrumental Data'!B121)","v":""},{"$f":"IF(('Instrumental Data'!C121)=\"\",\"\",'Instrumental Data'!C121)","v":""},{"$f":"IF(('Instrumental Data'!D121)=\"\",\"\",TEXT('Instrumental Data'!D121,\"hh:mm\"))","v":""},{"$f":"IF(('Instrumental Data'!E121)=\"\",\"\",TEXT('Instrumental Data'!E121,\"hh:mm\"))","v":""},{"$f":"IF(('Instrumental Data'!B121)=\"\",\"\",'Instrumental Data'!C$111)","v":""},{"$f":"IF(('Instrumental Data'!B121)=\"\",\"\",'Instrumental Data'!C$112)","v":""},{"$f":"IF(('Instrumental Data'!B121)=\"\",\"\",'Instrumental Data'!C$113)","v":""},{"$f":"IF(('Instrumental Data'!B121)=\"\",\"\",'Instrumental Data'!F$110)","v":""},{"$f":"IF(('Instrumental Data'!B121)=\"\",\"\",'Instrumental Data'!F$111)","v":""},{"$f":"IF(('Instrumental Data'!B121)=\"\",\"\",'Instrumental Data'!F$112)","v":""},{"$f":"IF(('Instrumental Data'!B121)=\"\",\"\",'Instrumental Data'!F$113)","v":""},{"$f":"IF(('Instrumental Data'!B121)=\"\",\"\",'Instrumental Data'!F121)","v":""},{"$f":"IFERROR(VLOOKUP(N52&\" SystemZero\",List!$J$2:$L$43,2,FALSE),\"\")","v":""},{"$f":"IF(('Instrumental Data'!G121)=\"\",\"\",'Instrumental Data'!G121)","v":""},{"$f":"IFERROR(VLOOKUP(N52&\" SystemUpscale\",List!$J$2:$L$43,2,FALSE),\"\")","v":""},{"$f":"IF(('Instrumental Data'!H121)=\"\",\"\",'Instrumental Data'!H121)","v":""},{"$f":"IFERROR(VLOOKUP(N52&\" SystemZero\",List!$J$2:$L$43,2,FALSE),\"\")","v":""},{"$f":"IF(('Instrumental Data'!K121)=\"\",\"\",'Instrumental Data'!K121)","v":""},{"$f":"IFERROR(VLOOKUP(N52&\" SystemUpscale\",List!$J$2:$L$43,2,FALSE),\"\")","v":""},{"$f":"IF(('Instrumental Data'!L121)=\"\",\"\",'Instrumental Data'!L121)","v":""},{"$f":"IF(('Instrumental Data'!I121)=\"\",\"\",'Instrumental Data'!I121)","v":""},{"$f":"IF(('Instrumental Data'!B121)=\"\",\"\",'Instrumental Data'!$J121)","v":""},{"$f":"IF(('Instrumental Data'!B121)=\"\",\"\",'Instrumental Data'!$J121)","v":""},{"$f":"IF(('Instrumental Data'!B121)=\"\",\"\",'Instrumental Data'!F$114)","v":""}]
[{"$f":"IF(('Instrumental Data'!B122)=\"\",\"\",'Instrumental Data'!$C$106)","v":""},{"$f":"IF(('Instrumental Data'!B122)=\"\",\"\",'Instrumental Data'!$C$107)","v":""},{"$f":"IF(('Instrumental Data'!B122)=\"\",\"\",'Instrumental Data'!B122)","v":""},{"$f":"IF(('Instrumental Data'!C122)=\"\",\"\",'Instrumental Data'!C122)","v":""},{"$f":"IF(('Instrumental Data'!D122)=\"\",\"\",TEXT('Instrumental Data'!D122,\"hh:mm\"))","v":""},{"$f":"IF(('Instrumental Data'!E122)=\"\",\"\",TEXT('Instrumental Data'!E122,\"hh:mm\"))","v":""},{"$f":"IF(('Instrumental Data'!B122)=\"\",\"\",'Instrumental Data'!C$111)","v":""},{"$f":"IF(('Instrumental Data'!B122)=\"\",\"\",'Instrumental Data'!C$112)","v":""},{"$f":"IF(('Instrumental Data'!B122)=\"\",\"\",'Instrumental Data'!C$113)","v":""},{"$f":"IF(('Instrumental Data'!B122)=\"\",\"\",'Instrumental Data'!F$110)","v":""},{"$f":"IF(('Instrumental Data'!B122)=\"\",\"\",'Instrumental Data'!F$111)","v":""},{"$f":"IF(('Instrumental Data'!B122)=\"\",\"\",'Instrumental Data'!F$112)","v":""},{"$f":"IF(('Instrumental Data'!B122)=\"\",\"\",'Instrumental Data'!F$113)","v":""},{"$f":"IF(('Instrumental Data'!B122)=\"\",\"\",'Instrumental Data'!F122)","v":""},{"$f":"IFERROR(VLOOKUP(N53&\" SystemZero\",List!$J$2:$L$43,2,FALSE),\"\")","v":""},{"$f":"IF(('Instrumental Data'!G122)=\"\",\"\",'Instrumental Data'!G122)","v":""},{"$f":"IFERROR(VLOOKUP(N53&\" SystemUpscale\",List!$J$2:$L$43,2,FALSE),\"\")","v":""},{"$f":"IF(('Instrumental Data'!H122)=\"\",\"\",'Instrumental Data'!H122)","v":""},{"$f":"IFERROR(VLOOKUP(N53&\" SystemZero\",List!$J$2:$L$43,2,FALSE),\"\")","v":""},{"$f":"IF(('Instrumental Data'!K122)=\"\",\"\",'Instrumental Data'!K122)","v":""},{"$f":"IFERROR(VLOOKUP(N53&\" SystemUpscale\",List!$J$2:$L$43,2,FALSE),\"\")","v":""},{"$f":"IF(('Instrumental Data'!L122)=\"\",\"\",'Instrumental Data'!L122)","v":""},{"$f":"IF(('Instrumental Data'!I122)=\"\",\"\",'Instrumental Data'!I122)","v":""},{"$f":"IF(('Instrumental Data'!B122)=\"\",\"\",'Instrumental Data'!$J122)","v":""},{"$f":"IF(('Instrumental Data'!B122)=\"\",\"\",'Instrumental Data'!$J122)","v":""},{"$f":"IF(('Instrumental Data'!B122)=\"\",\"\",'Instrumental Data'!F$114)","v":""}]
[{"$f":"IF(('Instrumental Data'!B123)=\"\",\"\",'Instrumental Data'!$C$106)","v":""},{"$f":"IF(('Instrumental Data'!B123)=\"\",\"\",'Instrumental Data'!$C$107)","v":""},{"$f":"IF(('Instrumental Data'!B123)=\"\",\"\",'Instrumental Data'!B123)","v":""},{"$f":"IF(('Instrumental Data'!C123)=\"\",\"\",'Instrumental Data'!C123)","v":""},{"$f":"IF(('Instrumental Data'!D123)=\"\",\"\",TEXT('Instrumental Data'!D123,\"hh:mm\"))","v":""},{"$f":"IF(('Instrumental Data'!E123)=\"\",\"\",TEXT('Instrumental Data'!E123,\"hh:mm\"))","v":""},{"$f":"IF(('Instrumental Data'!B123)=\"\",\"\",'Instrumental Data'!C$111)","v":""},{"$f":"IF(('Instrumental Data'!B123)=\"\",\"\",'Instrumental Data'!C$112)","v":""},{"$f":"IF(('Instrumental Data'!B123)=\"\",\"\",'Instrumental Data'!C$113)","v":""},{"$f":"IF(('Instrumental Data'!B123)=\"\",\"\",'Instrumental Data'!F$110)","v":""},{"$f":"IF(('Instrumental Data'!B123)=\"\",\"\",'Instrumental Data'!F$111)","v":""},{"$f":"IF(('Instrumental Data'!B123)=\"\",\"\",'Instrumental Data'!F$112)","v":""},{"$f":"IF(('Instrumental Data'!B123)=\"\",\"\",'Instrumental Data'!F$113)","v":""},{"$f":"IF(('Instrumental Data'!B123)=\"\",\"\",'Instrumental Data'!F123)","v":""},{"$f":"IFERROR(VLOOKUP(N54&\" SystemZero\",List!$J$2:$L$43,2,FALSE),\"\")","v":""},{"$f":"IF(('Instrumental Data'!G123)=\"\",\"\",'Instrumental Data'!G123)","v":""},{"$f":"IFERROR(VLOOKUP(N54&\" SystemUpscale\",List!$J$2:$L$43,2,FALSE),\"\")","v":""},{"$f":"IF(('Instrumental Data'!H123)=\"\",\"\",'Instrumental Data'!H123)","v":""},{"$f":"IFERROR(VLOOKUP(N54&\" SystemZero\",List!$J$2:$L$43,2,FALSE),\"\")","v":""},{"$f":"IF(('Instrumental Data'!K123)=\"\",\"\",'Instrumental Data'!K123)","v":""},{"$f":"IFERROR(VLOOKUP(N54&\" SystemUpscale\",List!$J$2:$L$43,2,FALSE),\"\")","v":""},{"$f":"IF(('Instrumental Data'!L123)=\"\",\"\",'Instrumental Data'!L123)","v":""},{"$f":"IF(('Instrumental Data'!I123)=\"\",\"\",'Instrumental Data'!I123)","v":""},{"$f":"IF(('Instrumental Data'!B123)=\"\",\"\",'Instrumental Data'!$J123)","v":""},{"$f":"IF(('Instrumental Data'!B123)=\"\",\"\",'Instrumental Data'!$J123)","v":""},{"$f":"IF(('Instrumental Data'!B123)=\"\",\"\",'Instrumental Data'!F$114)","v":""}]
[{"$f":"IF(('Instrumental Data'!B124)=\"\",\"\",'Instrumental Data'!$C$106)","v":""},{"$f":"IF(('Instrumental Data'!B124)=\"\",\"\",'Instrumental Data'!$C$107)","v":""},{"$f":"IF(('Instrumental Data'!B124)=\"\",\"\",'Instrumental Data'!B124)","v":""},{"$f":"IF(('Instrumental Data'!C124)=\"\",\"\",'Instrumental Data'!C124)","v":""},{"$f":"IF(('Instrumental Data'!D124)=\"\",\"\",TEXT('Instrumental Data'!D124,\"hh:mm\"))","v":""},{"$f":"IF(('Instrumental Data'!E124)=\"\",\"\",TEXT('Instrumental Data'!E124,\"hh:mm\"))","v":""},{"$f":"IF(('Instrumental Data'!B124)=\"\",\"\",'Instrumental Data'!C$111)","v":""},{"$f":"IF(('Instrumental Data'!B124)=\"\",\"\",'Instrumental Data'!C$112)","v":""},{"$f":"IF(('Instrumental Data'!B124)=\"\",\"\",'Instrumental Data'!C$113)","v":""},{"$f":"IF(('Instrumental Data'!B124)=\"\",\"\",'Instrumental Data'!F$110)","v":""},{"$f":"IF(('Instrumental Data'!B124)=\"\",\"\",'Instrumental Data'!F$111)","v":""},{"$f":"IF(('Instrumental Data'!B124)=\"\",\"\",'Instrumental Data'!F$112)","v":""},{"$f":"IF(('Instrumental Data'!B124)=\"\",\"\",'Instrumental Data'!F$113)","v":""},{"$f":"IF(('Instrumental Data'!B124)=\"\",\"\",'Instrumental Data'!F124)","v":""},{"$f":"IFERROR(VLOOKUP(N55&\" SystemZero\",List!$J$2:$L$43,2,FALSE),\"\")","v":""},{"$f":"IF(('Instrumental Data'!G124)=\"\",\"\",'Instrumental Data'!G124)","v":""},{"$f":"IFERROR(VLOOKUP(N55&\" SystemUpscale\",List!$J$2:$L$43,2,FALSE),\"\")","v":""},{"$f":"IF(('Instrumental Data'!H124)=\"\",\"\",'Instrumental Data'!H124)","v":""},{"$f":"IFERROR(VLOOKUP(N55&\" SystemZero\",List!$J$2:$L$43,2,FALSE),\"\")","v":""},{"$f":"IF(('Instrumental Data'!K124)=\"\",\"\",'Instrumental Data'!K124)","v":""},{"$f":"IFERROR(VLOOKUP(N55&\" SystemUpscale\",List!$J$2:$L$43,2,FALSE),\"\")","v":""},{"$f":"IF(('Instrumental Data'!L124)=\"\",\"\",'Instrumental Data'!L124)","v":""},{"$f":"IF(('Instrumental Data'!I124)=\"\",\"\",'Instrumental Data'!I124)","v":""},{"$f":"IF(('Instrumental Data'!B124)=\"\",\"\",'Instrumental Data'!$J124)","v":""},{"$f":"IF(('Instrumental Data'!B124)=\"\",\"\",'Instrumental Data'!$J124)","v":""},{"$f":"IF(('Instrumental Data'!B124)=\"\",\"\",'Instrumental Data'!F$114)","v":""}]
[{"$f":"IF(('Instrumental Data'!B125)=\"\",\"\",'Instrumental Data'!$C$106)","v":""},{"$f":"IF(('Instrumental Data'!B125)=\"\",\"\",'Instrumental Data'!$C$107)","v":""},{"$f":"IF(('Instrumental Data'!B125)=\"\",\"\",'Instrumental Data'!B125)","v":""},{"$f":"IF(('Instrumental Data'!C125)=\"\",\"\",'Instrumental Data'!C125)","v":""},{"$f":"IF(('Instrumental Data'!D125)=\"\",\"\",TEXT('Instrumental Data'!D125,\"hh:mm\"))","v":""},{"$f":"IF(('Instrumental Data'!E125)=\"\",\"\",TEXT('Instrumental Data'!E125,\"hh:mm\"))","v":""},{"$f":"IF(('Instrumental Data'!B125)=\"\",\"\",'Instrumental Data'!C$111)","v":""},{"$f":"IF(('Instrumental Data'!B125)=\"\",\"\",'Instrumental Data'!C$112)","v":""},{"$f":"IF(('Instrumental Data'!B125)=\"\",\"\",'Instrumental Data'!C$113)","v":""},{"$f":"IF(('Instrumental Data'!B125)=\"\",\"\",'Instrumental Data'!F$110)","v":""},{"$f":"IF(('Instrumental Data'!B125)=\"\",\"\",'Instrumental Data'!F$111)","v":""},{"$f":"IF(('Instrumental Data'!B125)=\"\",\"\",'Instrumental Data'!F$112)","v":""},{"$f":"IF(('Instrumental Data'!B125)=\"\",\"\",'Instrumental Data'!F$113)","v":""},{"$f":"IF(('Instrumental Data'!B125)=\"\",\"\",'Instrumental Data'!F125)","v":""},{"$f":"IFERROR(VLOOKUP(N56&\" SystemZero\",List!$J$2:$L$43,2,FALSE),\"\")","v":""},{"$f":"IF(('Instrumental Data'!G125)=\"\",\"\",'Instrumental Data'!G125)","v":""},{"$f":"IFERROR(VLOOKUP(N56&\" SystemUpscale\",List!$J$2:$L$43,2,FALSE),\"\")","v":""},{"$f":"IF(('Instrumental Data'!H125)=\"\",\"\",'Instrumental Data'!H125)","v":""},{"$f":"IFERROR(VLOOKUP(N56&\" SystemZero\",List!$J$2:$L$43,2,FALSE),\"\")","v":""},{"$f":"IF(('Instrumental Data'!K125)=\"\",\"\",'Instrumental Data'!K125)","v":""},{"$f":"IFERROR(VLOOKUP(N56&\" SystemUpscale\",List!$J$2:$L$43,2,FALSE),\"\")","v":""},{"$f":"IF(('Instrumental Data'!L125)=\"\",\"\",'Instrumental Data'!L125)","v":""},{"$f":"IF(('Instrumental Data'!I125)=\"\",\"\",'Instrumental Data'!I125)","v":""},{"$f":"IF(('Instrumental Data'!B125)=\"\",\"\",'Instrumental Data'!$J125)","v":""},{"$f":"IF(('Instrumental Data'!B125)=\"\",\"\",'Instrumental Data'!$J125)","v":""},{"$f":"IF(('Instrumental Data'!B125)=\"\",\"\",'Instrumental Data'!F$114)","v":""}]
[{"$f":"IF(('Instrumental Data'!B126)=\"\",\"\",'Instrumental Data'!$C$106)","v":""},{"$f":"IF(('Instrumental Data'!B126)=\"\",\"\",'Instrumental Data'!$C$107)","v":""},{"$f":"IF(('Instrumental Data'!B126)=\"\",\"\",'Instrumental Data'!B126)","v":""},{"$f":"IF(('Instrumental Data'!C126)=\"\",\"\",'Instrumental Data'!C126)","v":""},{"$f":"IF(('Instrumental Data'!D126)=\"\",\"\",TEXT('Instrumental Data'!D126,\"hh:mm\"))","v":""},{"$f":"IF(('Instrumental Data'!E126)=\"\",\"\",TEXT('Instrumental Data'!E126,\"hh:mm\"))","v":""},{"$f":"IF(('Instrumental Data'!B126)=\"\",\"\",'Instrumental Data'!C$111)","v":""},{"$f":"IF(('Instrumental Data'!B126)=\"\",\"\",'Instrumental Data'!C$112)","v":""},{"$f":"IF(('Instrumental Data'!B126)=\"\",\"\",'Instrumental Data'!C$113)","v":""},{"$f":"IF(('Instrumental Data'!B126)=\"\",\"\",'Instrumental Data'!F$110)","v":""},{"$f":"IF(('Instrumental Data'!B126)=\"\",\"\",'Instrumental Data'!F$111)","v":""},{"$f":"IF(('Instrumental Data'!B126)=\"\",\"\",'Instrumental Data'!F$112)","v":""},{"$f":"IF(('Instrumental Data'!B126)=\"\",\"\",'Instrumental Data'!F$113)","v":""},{"$f":"IF(('Instrumental Data'!B126)=\"\",\"\",'Instrumental Data'!F126)","v":""},{"$f":"IFERROR(VLOOKUP(N57&\" SystemZero\",List!$J$2:$L$43,2,FALSE),\"\")","v":""},{"$f":"IF(('Instrumental Data'!G126)=\"\",\"\",'Instrumental Data'!G126)","v":""},{"$f":"IFERROR(VLOOKUP(N57&\" SystemUpscale\",List!$J$2:$L$43,2,FALSE),\"\")","v":""},{"$f":"IF(('Instrumental Data'!H126)=\"\",\"\",'Instrumental Data'!H126)","v":""},{"$f":"IFERROR(VLOOKUP(N57&\" SystemZero\",List!$J$2:$L$43,2,FALSE),\"\")","v":""},{"$f":"IF(('Instrumental Data'!K126)=\"\",\"\",'Instrumental Data'!K126)","v":""},{"$f":"IFERROR(VLOOKUP(N57&\" SystemUpscale\",List!$J$2:$L$43,2,FALSE),\"\")","v":""},{"$f":"IF(('Instrumental Data'!L126)=\"\",\"\",'Instrumental Data'!L126)","v":""},{"$f":"IF(('Instrumental Data'!I126)=\"\",\"\",'Instrumental Data'!I126)","v":""},{"$f":"IF(('Instrumental Data'!B126)=\"\",\"\",'Instrumental Data'!$J126)","v":""},{"$f":"IF(('Instrumental Data'!B126)=\"\",\"\",'Instrumental Data'!$J126)","v":""},{"$f":"IF(('Instrumental Data'!B126)=\"\",\"\",'Instrumental Data'!F$114)","v":""}]
[{"$f":"IF(('Instrumental Data'!B127)=\"\",\"\",'Instrumental Data'!$C$106)","v":""},{"$f":"IF(('Instrumental Data'!B127)=\"\",\"\",'Instrumental Data'!$C$107)","v":""},{"$f":"IF(('Instrumental Data'!B127)=\"\",\"\",'Instrumental Data'!B127)","v":""},{"$f":"IF(('Instrumental Data'!C127)=\"\",\"\",'Instrumental Data'!C127)","v":""},{"$f":"IF(('Instrumental Data'!D127)=\"\",\"\",TEXT('Instrumental Data'!D127,\"hh:mm\"))","v":""},{"$f":"IF(('Instrumental Data'!E127)=\"\",\"\",TEXT('Instrumental Data'!E127,\"hh:mm\"))","v":""},{"$f":"IF(('Instrumental Data'!B127)=\"\",\"\",'Instrumental Data'!C$111)","v":""},{"$f":"IF(('Instrumental Data'!B127)=\"\",\"\",'Instrumental Data'!C$112)","v":""},{"$f":"IF(('Instrumental Data'!B127)=\"\",\"\",'Instrumental Data'!C$113)","v":""},{"$f":"IF(('Instrumental Data'!B127)=\"\",\"\",'Instrumental Data'!F$110)","v":""},{"$f":"IF(('Instrumental Data'!B127)=\"\",\"\",'Instrumental Data'!F$111)","v":""},{"$f":"IF(('Instrumental Data'!B127)=\"\",\"\",'Instrumental Data'!F$112)","v":""},{"$f":"IF(('Instrumental Data'!B127)=\"\",\"\",'Instrumental Data'!F$113)","v":""},{"$f":"IF(('Instrumental Data'!B127)=\"\",\"\",'Instrumental Data'!F127)","v":""},{"$f":"IFERROR(VLOOKUP(N58&\" SystemZero\",List!$J$2:$L$43,2,FALSE),\"\")","v":""},{"$f":"IF(('Instrumental Data'!G127)=\"\",\"\",'Instrumental Data'!G127)","v":""},{"$f":"IFERROR(VLOOKUP(N58&\" SystemUpscale\",List!$J$2:$L$43,2,FALSE),\"\")","v":""},{"$f":"IF(('Instrumental Data'!H127)=\"\",\"\",'Instrumental Data'!H127)","v":""},{"$f":"IFERROR(VLOOKUP(N58&\" SystemZero\",List!$J$2:$L$43,2,FALSE),\"\")","v":""},{"$f":"IF(('Instrumental Data'!K127)=\"\",\"\",'Instrumental Data'!K127)","v":""},{"$f":"IFERROR(VLOOKUP(N58&\" SystemUpscale\",List!$J$2:$L$43,2,FALSE),\"\")","v":""},{"$f":"IF(('Instrumental Data'!L127)=\"\",\"\",'Instrumental Data'!L127)","v":""},{"$f":"IF(('Instrumental Data'!I127)=\"\",\"\",'Instrumental Data'!I127)","v":""},{"$f":"IF(('Instrumental Data'!B127)=\"\",\"\",'Instrumental Data'!$J127)","v":""},{"$f":"IF(('Instrumental Data'!B127)=\"\",\"\",'Instrumental Data'!$J127)","v":""},{"$f":"IF(('Instrumental Data'!B127)=\"\",\"\",'Instrumental Data'!F$114)","v":""}]
[{"$f":"IF(('Instrumental Data'!B128)=\"\",\"\",'Instrumental Data'!$C$106)","v":""},{"$f":"IF(('Instrumental Data'!B128)=\"\",\"\",'Instrumental Data'!$C$107)","v":""},{"$f":"IF(('Instrumental Data'!B128)=\"\",\"\",'Instrumental Data'!B128)","v":""},{"$f":"IF(('Instrumental Data'!C128)=\"\",\"\",'Instrumental Data'!C128)","v":""},{"$f":"IF(('Instrumental Data'!D128)=\"\",\"\",TEXT('Instrumental Data'!D128,\"hh:mm\"))","v":""},{"$f":"IF(('Instrumental Data'!E128)=\"\",\"\",TEXT('Instrumental Data'!E128,\"hh:mm\"))","v":""},{"$f":"IF(('Instrumental Data'!B128)=\"\",\"\",'Instrumental Data'!C$111)","v":""},{"$f":"IF(('Instrumental Data'!B128)=\"\",\"\",'Instrumental Data'!C$112)","v":""},{"$f":"IF(('Instrumental Data'!B128)=\"\",\"\",'Instrumental Data'!C$113)","v":""},{"$f":"IF(('Instrumental Data'!B128)=\"\",\"\",'Instrumental Data'!F$110)","v":""},{"$f":"IF(('Instrumental Data'!B128)=\"\",\"\",'Instrumental Data'!F$111)","v":""},{"$f":"IF(('Instrumental Data'!B128)=\"\",\"\",'Instrumental Data'!F$112)","v":""},{"$f":"IF(('Instrumental Data'!B128)=\"\",\"\",'Instrumental Data'!F$113)","v":""},{"$f":"IF(('Instrumental Data'!B128)=\"\",\"\",'Instrumental Data'!F128)","v":""},{"$f":"IFERROR(VLOOKUP(N59&\" SystemZero\",List!$J$2:$L$43,2,FALSE),\"\")","v":""},{"$f":"IF(('Instrumental Data'!G128)=\"\",\"\",'Instrumental Data'!G128)","v":""},{"$f":"IFERROR(VLOOKUP(N59&\" SystemUpscale\",List!$J$2:$L$43,2,FALSE),\"\")","v":""},{"$f":"IF(('Instrumental Data'!H128)=\"\",\"\",'Instrumental Data'!H128)","v":""},{"$f":"IFERROR(VLOOKUP(N59&\" SystemZero\",List!$J$2:$L$43,2,FALSE),\"\")","v":""},{"$f":"IF(('Instrumental Data'!K128)=\"\",\"\",'Instrumental Data'!K128)","v":""},{"$f":"IFERROR(VLOOKUP(N59&\" SystemUpscale\",List!$J$2:$L$43,2,FALSE),\"\")","v":""},{"$f":"IF(('Instrumental Data'!L128)=\"\",\"\",'Instrumental Data'!L128)","v":""},{"$f":"IF(('Instrumental Data'!I128)=\"\",\"\",'Instrumental Data'!I128)","v":""},{"$f":"IF(('Instrumental Data'!B128)=\"\",\"\",'Instrumental Data'!$J128)","v":""},{"$f":"IF(('Instrumental Data'!B128)=\"\",\"\",'Instrumental Data'!$J128)","v":""},{"$f":"IF(('Instrumental Data'!B128)=\"\",\"\",'Instrumental Data'!F$114)","v":""}]
[{"$f":"IF(('Instrumental Data'!B129)=\"\",\"\",'Instrumental Data'!$C$106)","v":""},{"$f":"IF(('Instrumental Data'!B129)=\"\",\"\",'Instrumental Data'!$C$107)","v":""},{"$f":"IF(('Instrumental Data'!B129)=\"\",\"\",'Instrumental Data'!B129)","v":""},{"$f":"IF(('Instrumental Data'!C129)=\"\",\"\",'Instrumental Data'!C129)","v":""},{"$f":"IF(('Instrumental Data'!D129)=\"\",\"\",TEXT('Instrumental Data'!D129,\"hh:mm\"))","v":""},{"$f":"IF(('Instrumental Data'!E129)=\"\",\"\",TEXT('Instrumental Data'!E129,\"hh:mm\"))","v":""},{"$f":"IF(('Instrumental Data'!B129)=\"\",\"\",'Instrumental Data'!C$111)","v":""},{"$f":"IF(('Instrumental Data'!B129)=\"\",\"\",'Instrumental Data'!C$112)","v":""},{"$f":"IF(('Instrumental Data'!B129)=\"\",\"\",'Instrumental Data'!C$113)","v":""},{"$f":"IF(('Instrumental Data'!B129)=\"\",\"\",'Instrumental Data'!F$110)","v":""},{"$f":"IF(('Instrumental Data'!B129)=\"\",\"\",'Instrumental Data'!F$111)","v":""},{"$f":"IF(('Instrumental Data'!B129)=\"\",\"\",'Instrumental Data'!F$112)","v":""},{"$f":"IF(('Instrumental Data'!B129)=\"\",\"\",'Instrumental Data'!F$113)","v":""},{"$f":"IF(('Instrumental Data'!B129)=\"\",\"\",'Instrumental Data'!F129)","v":""},{"$f":"IFERROR(VLOOKUP(N60&\" SystemZero\",List!$J$2:$L$43,2,FALSE),\"\")","v":""},{"$f":"IF(('Instrumental Data'!G129)=\"\",\"\",'Instrumental Data'!G129)","v":""},{"$f":"IFERROR(VLOOKUP(N60&\" SystemUpscale\",List!$J$2:$L$43,2,FALSE),\"\")","v":""},{"$f":"IF(('Instrumental Data'!H129)=\"\",\"\",'Instrumental Data'!H129)","v":""},{"$f":"IFERROR(VLOOKUP(N60&\" SystemZero\",List!$J$2:$L$43,2,FALSE),\"\")","v":""},{"$f":"IF(('Instrumental Data'!K129)=\"\",\"\",'Instrumental Data'!K129)","v":""},{"$f":"IFERROR(VLOOKUP(N60&\" SystemUpscale\",List!$J$2:$L$43,2,FALSE),\"\")","v":""},{"$f":"IF(('Instrumental Data'!L129)=\"\",\"\",'Instrumental Data'!L129)","v":""},{"$f":"IF(('Instrumental Data'!I129)=\"\",\"\",'Instrumental Data'!I129)","v":""},{"$f":"IF(('Instrumental Data'!B129)=\"\",\"\",'Instrumental Data'!$J129)","v":""},{"$f":"IF(('Instrumental Data'!B129)=\"\",\"\",'Instrumental Data'!$J129)","v":""},{"$f":"IF(('Instrumental Data'!B129)=\"\",\"\",'Instrumental Data'!F$114)","v":""}]
[{"$f":"IF(('Instrumental Data'!B130)=\"\",\"\",'Instrumental Data'!$C$106)","v":""},{"$f":"IF(('Instrumental Data'!B130)=\"\",\"\",'Instrumental Data'!$C$107)","v":""},{"$f":"IF(('Instrumental Data'!B130)=\"\",\"\",'Instrumental Data'!B130)","v":""},{"$f":"IF(('Instrumental Data'!C130)=\"\",\"\",'Instrumental Data'!C130)","v":""},{"$f":"IF(('Instrumental Data'!D130)=\"\",\"\",TEXT('Instrumental Data'!D130,\"hh:mm\"))","v":""},{"$f":"IF(('Instrumental Data'!E130)=\"\",\"\",TEXT('Instrumental Data'!E130,\"hh:mm\"))","v":""},{"$f":"IF(('Instrumental Data'!B130)=\"\",\"\",'Instrumental Data'!C$111)","v":""},{"$f":"IF(('Instrumental Data'!B130)=\"\",\"\",'Instrumental Data'!C$112)","v":""},{"$f":"IF(('Instrumental Data'!B130)=\"\",\"\",'Instrumental Data'!C$113)","v":""},{"$f":"IF(('Instrumental Data'!B130)=\"\",\"\",'Instrumental Data'!F$110)","v":""},{"$f":"IF(('Instrumental Data'!B130)=\"\",\"\",'Instrumental Data'!F$111)","v":""},{"$f":"IF(('Instrumental Data'!B130)=\"\",\"\",'Instrumental Data'!F$112)","v":""},{"$f":"IF(('Instrumental Data'!B130)=\"\",\"\",'Instrumental Data'!F$113)","v":""},{"$f":"IF(('Instrumental Data'!B130)=\"\",\"\",'Instrumental Data'!F130)","v":""},{"$f":"IFERROR(VLOOKUP(N61&\" SystemZero\",List!$J$2:$L$43,2,FALSE),\"\")","v":""},{"$f":"IF(('Instrumental Data'!G130)=\"\",\"\",'Instrumental Data'!G130)","v":""},{"$f":"IFERROR(VLOOKUP(N61&\" SystemUpscale\",List!$J$2:$L$43,2,FALSE),\"\")","v":""},{"$f":"IF(('Instrumental Data'!H130)=\"\",\"\",'Instrumental Data'!H130)","v":""},{"$f":"IFERROR(VLOOKUP(N61&\" SystemZero\",List!$J$2:$L$43,2,FALSE),\"\")","v":""},{"$f":"IF(('Instrumental Data'!K130)=\"\",\"\",'Instrumental Data'!K130)","v":""},{"$f":"IFERROR(VLOOKUP(N61&\" SystemUpscale\",List!$J$2:$L$43,2,FALSE),\"\")","v":""},{"$f":"IF(('Instrumental Data'!L130)=\"\",\"\",'Instrumental Data'!L130)","v":""},{"$f":"IF(('Instrumental Data'!I130)=\"\",\"\",'Instrumental Data'!I130)","v":""},{"$f":"IF(('Instrumental Data'!B130)=\"\",\"\",'Instrumental Data'!$J130)","v":""},{"$f":"IF(('Instrumental Data'!B130)=\"\",\"\",'Instrumental Data'!$J130)","v":""},{"$f":"IF(('Instrumental Data'!B130)=\"\",\"\",'Instrumental Data'!F$114)","v":""}]
[{"$f":"IF(('Instrumental Data'!B145)=\"\",\"\",'Instrumental Data'!$C$132)","v":""},{"$f":"IF(('Instrumental Data'!B145)=\"\",\"\",'Instrumental Data'!$C$133)","v":""},{"$f":"IF(('Instrumental Data'!B145)=\"\",\"\",'Instrumental Data'!B145)","v":""},{"$f":"IF(('Instrumental Data'!C145)=\"\",\"\",'Instrumental Data'!C145)","v":""},{"$f":"IF(('Instrumental Data'!D145)=\"\",\"\",TEXT('Instrumental Data'!D145,\"hh:mm\"))","v":""},{"$f":"IF(('Instrumental Data'!E145)=\"\",\"\",TEXT('Instrumental Data'!E145,\"hh:mm\"))","v":""},{"$f":"IF(('Instrumental Data'!B145)=\"\",\"\",'Instrumental Data'!C$137)","v":""},{"$f":"IF(('Instrumental Data'!B145)=\"\",\"\",'Instrumental Data'!C$138)","v":""},{"$f":"IF(('Instrumental Data'!B145)=\"\",\"\",'Instrumental Data'!C$139)","v":""},{"$f":"IF(('Instrumental Data'!B145)=\"\",\"\",'Instrumental Data'!F$136)","v":""},{"$f":"IF(('Instrumental Data'!B145)=\"\",\"\",'Instrumental Data'!F$137)","v":""},{"$f":"IF(('Instrumental Data'!B145)=\"\",\"\",'Instrumental Data'!F$138)","v":""},{"$f":"IF(('Instrumental Data'!B145)=\"\",\"\",'Instrumental Data'!F$139)","v":""},{"$f":"IF(('Instrumental Data'!B145)=\"\",\"\",'Instrumental Data'!F145)","v":""},{"$f":"IFERROR(VLOOKUP(N62&\" SystemZero\",List!$J$2:$L$43,2,FALSE),\"\")","v":""},{"$f":"IF(('Instrumental Data'!G145)=\"\",\"\",'Instrumental Data'!G145)","v":""},{"$f":"IFERROR(VLOOKUP(N62&\" SystemUpscale\",List!$J$2:$L$43,2,FALSE),\"\")","v":""},{"$f":"IF(('Instrumental Data'!H145)=\"\",\"\",'Instrumental Data'!H145)","v":""},{"$f":"IFERROR(VLOOKUP(N62&\" SystemZero\",List!$J$2:$L$43,2,FALSE),\"\")","v":""},{"$f":"IF(('Instrumental Data'!K145)=\"\",\"\",'Instrumental Data'!K145)","v":""},{"$f":"IFERROR(VLOOKUP(N62&\" SystemUpscale\",List!$J$2:$L$43,2,FALSE),\"\")","v":""},{"$f":"IF(('Instrumental Data'!L145)=\"\",\"\",'Instrumental Data'!L145)","v":""},{"$f":"IF(('Instrumental Data'!I145)=\"\",\"\",'Instrumental Data'!I145)","v":""},{"$f":"IF(('Instrumental Data'!B145)=\"\",\"\",'Instrumental Data'!$J145)","v":""},{"$f":"IF(('Instrumental Data'!B145)=\"\",\"\",'Instrumental Data'!$J145)","v":""},{"$f":"IF(('Instrumental Data'!B145)=\"\",\"\",'Instrumental Data'!F$140)","v":""}]
[{"$f":"IF(('Instrumental Data'!B146)=\"\",\"\",'Instrumental Data'!$C$132)","v":""},{"$f":"IF(('Instrumental Data'!B146)=\"\",\"\",'Instrumental Data'!$C$133)","v":""},{"$f":"IF(('Instrumental Data'!B146)=\"\",\"\",'Instrumental Data'!B146)","v":""},{"$f":"IF(('Instrumental Data'!C146)=\"\",\"\",'Instrumental Data'!C146)","v":""},{"$f":"IF(('Instrumental Data'!D146)=\"\",\"\",TEXT('Instrumental Data'!D146,\"hh:mm\"))","v":""},{"$f":"IF(('Instrumental Data'!E146)=\"\",\"\",TEXT('Instrumental Data'!E146,\"hh:mm\"))","v":""},{"$f":"IF(('Instrumental Data'!B146)=\"\",\"\",'Instrumental Data'!C$137)","v":""},{"$f":"IF(('Instrumental Data'!B146)=\"\",\"\",'Instrumental Data'!C$138)","v":""},{"$f":"IF(('Instrumental Data'!B146)=\"\",\"\",'Instrumental Data'!C$139)","v":""},{"$f":"IF(('Instrumental Data'!B146)=\"\",\"\",'Instrumental Data'!F$136)","v":""},{"$f":"IF(('Instrumental Data'!B146)=\"\",\"\",'Instrumental Data'!F$137)","v":""},{"$f":"IF(('Instrumental Data'!B146)=\"\",\"\",'Instrumental Data'!F$138)","v":""},{"$f":"IF(('Instrumental Data'!B146)=\"\",\"\",'Instrumental Data'!F$113)","v":""},{"$f":"IF(('Instrumental Data'!B146)=\"\",\"\",'Instrumental Data'!F146)","v":""},{"$f":"IFERROR(VLOOKUP(N63&\" SystemZero\",List!$J$2:$L$43,2,FALSE),\"\")","v":""},{"$f":"IF(('Instrumental Data'!G146)=\"\",\"\",'Instrumental Data'!G146)","v":""},{"$f":"IFERROR(VLOOKUP(N63&\" SystemUpscale\",List!$J$2:$L$43,2,FALSE),\"\")","v":""},{"$f":"IF(('Instrumental Data'!H146)=\"\",\"\",'Instrumental Data'!H146)","v":""},{"$f":"IFERROR(VLOOKUP(N63&\" SystemZero\",List!$J$2:$L$43,2,FALSE),\"\")","v":""},{"$f":"IF(('Instrumental Data'!K146)=\"\",\"\",'Instrumental Data'!K146)","v":""},{"$f":"IFERROR(VLOOKUP(N63&\" SystemUpscale\",List!$J$2:$L$43,2,FALSE),\"\")","v":""},{"$f":"IF(('Instrumental Data'!L146)=\"\",\"\",'Instrumental Data'!L146)","v":""},{"$f":"IF(('Instrumental Data'!I146)=\"\",\"\",'Instrumental Data'!I146)","v":""},{"$f":"IF(('Instrumental Data'!B146)=\"\",\"\",'Instrumental Data'!$J146)","v":""},{"$f":"IF(('Instrumental Data'!B146)=\"\",\"\",'Instrumental Data'!$J146)","v":""},{"$f":"IF(('Instrumental Data'!B146)=\"\",\"\",'Instrumental Data'!F$140)","v":""}]
[{"$f":"IF(('Instrumental Data'!B147)=\"\",\"\",'Instrumental Data'!$C$132)","v":""},{"$f":"IF(('Instrumental Data'!B147)=\"\",\"\",'Instrumental Data'!$C$133)","v":""},{"$f":"IF(('Instrumental Data'!B147)=\"\",\"\",'Instrumental Data'!B147)","v":""},{"$f":"IF(('Instrumental Data'!C147)=\"\",\"\",'Instrumental Data'!C147)","v":""},{"$f":"IF(('Instrumental Data'!D147)=\"\",\"\",TEXT('Instrumental Data'!D147,\"hh:mm\"))","v":""},{"$f":"IF(('Instrumental Data'!E147)=\"\",\"\",TEXT('Instrumental Data'!E147,\"hh:mm\"))","v":""},{"$f":"IF(('Instrumental Data'!B147)=\"\",\"\",'Instrumental Data'!C$137)","v":""},{"$f":"IF(('Instrumental Data'!B147)=\"\",\"\",'Instrumental Data'!C$138)","v":""},{"$f":"IF(('Instrumental Data'!B147)=\"\",\"\",'Instrumental Data'!C$139)","v":""},{"$f":"IF(('Instrumental Data'!B147)=\"\",\"\",'Instrumental Data'!F$136)","v":""},{"$f":"IF(('Instrumental Data'!B147)=\"\",\"\",'Instrumental Data'!F$137)","v":""},{"$f":"IF(('Instrumental Data'!B147)=\"\",\"\",'Instrumental Data'!F$138)","v":""},{"$f":"IF(('Instrumental Data'!B147)=\"\",\"\",'Instrumental Data'!F$113)","v":""},{"$f":"IF(('Instrumental Data'!B147)=\"\",\"\",'Instrumental Data'!F147)","v":""},{"$f":"IFERROR(VLOOKUP(N64&\" SystemZero\",List!$J$2:$L$43,2,FALSE),\"\")","v":""},{"$f":"IF(('Instrumental Data'!G147)=\"\",\"\",'Instrumental Data'!G147)","v":""},{"$f":"IFERROR(VLOOKUP(N64&\" SystemUpscale\",List!$J$2:$L$43,2,FALSE),\"\")","v":""},{"$f":"IF(('Instrumental Data'!H147)=\"\",\"\",'Instrumental Data'!H147)","v":""},{"$f":"IFERROR(VLOOKUP(N64&\" SystemZero\",List!$J$2:$L$43,2,FALSE),\"\")","v":""},{"$f":"IF(('Instrumental Data'!K147)=\"\",\"\",'Instrumental Data'!K147)","v":""},{"$f":"IFERROR(VLOOKUP(N64&\" SystemUpscale\",List!$J$2:$L$43,2,FALSE),\"\")","v":""},{"$f":"IF(('Instrumental Data'!L147)=\"\",\"\",'Instrumental Data'!L147)","v":""},{"$f":"IF(('Instrumental Data'!I147)=\"\",\"\",'Instrumental Data'!I147)","v":""},{"$f":"IF(('Instrumental Data'!B147)=\"\",\"\",'Instrumental Data'!$J147)","v":""},{"$f":"IF(('Instrumental Data'!B147)=\"\",\"\",'Instrumental Data'!$J147)","v":""},{"$f":"IF(('Instrumental Data'!B147)=\"\",\"\",'Instrumental Data'!F$140)","v":""}]
[{"$f":"IF(('Instrumental Data'!B148)=\"\",\"\",'Instrumental Data'!$C$132)","v":""},{"$f":"IF(('Instrumental Data'!B148)=\"\",\"\",'Instrumental Data'!$C$133)","v":""},{"$f":"IF(('Instrumental Data'!B148)=\"\",\"\",'Instrumental Data'!B148)","v":""},{"$f":"IF(('Instrumental Data'!C148)=\"\",\"\",'Instrumental Data'!C148)","v":""},{"$f":"IF(('Instrumental Data'!D148)=\"\",\"\",TEXT('Instrumental Data'!D148,\"hh:mm\"))","v":""},{"$f":"IF(('Instrumental Data'!E148)=\"\",\"\",TEXT('Instrumental Data'!E148,\"hh:mm\"))","v":""},{"$f":"IF(('Instrumental Data'!B148)=\"\",\"\",'Instrumental Data'!C$137)","v":""},{"$f":"IF(('Instrumental Data'!B148)=\"\",\"\",'Instrumental Data'!C$138)","v":""},{"$f":"IF(('Instrumental Data'!B148)=\"\",\"\",'Instrumental Data'!C$139)","v":""},{"$f":"IF(('Instrumental Data'!B148)=\"\",\"\",'Instrumental Data'!F$136)","v":""},{"$f":"IF(('Instrumental Data'!B148)=\"\",\"\",'Instrumental Data'!F$137)","v":""},{"$f":"IF(('Instrumental Data'!B148)=\"\",\"\",'Instrumental Data'!F$138)","v":""},{"$f":"IF(('Instrumental Data'!B148)=\"\",\"\",'Instrumental Data'!F$113)","v":""},{"$f":"IF(('Instrumental Data'!B148)=\"\",\"\",'Instrumental Data'!F148)","v":""},{"$f":"IFERROR(VLOOKUP(N65&\" SystemZero\",List!$J$2:$L$43,2,FALSE),\"\")","v":""},{"$f":"IF(('Instrumental Data'!G148)=\"\",\"\",'Instrumental Data'!G148)","v":""},{"$f":"IFERROR(VLOOKUP(N65&\" SystemUpscale\",List!$J$2:$L$43,2,FALSE),\"\")","v":""},{"$f":"IF(('Instrumental Data'!H148)=\"\",\"\",'Instrumental Data'!H148)","v":""},{"$f":"IFERROR(VLOOKUP(N65&\" SystemZero\",List!$J$2:$L$43,2,FALSE),\"\")","v":""},{"$f":"IF(('Instrumental Data'!K148)=\"\",\"\",'Instrumental Data'!K148)","v":""},{"$f":"IFERROR(VLOOKUP(N65&\" SystemUpscale\",List!$J$2:$L$43,2,FALSE),\"\")","v":""},{"$f":"IF(('Instrumental Data'!L148)=\"\",\"\",'Instrumental Data'!L148)","v":""},{"$f":"IF(('Instrumental Data'!I148)=\"\",\"\",'Instrumental Data'!I148)","v":""},{"$f":"IF(('Instrumental Data'!B148)=\"\",\"\",'Instrumental Data'!$J148)","v":""},{"$f":"IF(('Instrumental Data'!B148)=\"\",\"\",'Instrumental Data'!$J148)","v":""},{"$f":"IF(('Instrumental Data'!B148)=\"\",\"\",'Instrumental Data'!F$140)","v":""}]
[{"$f":"IF(('Instrumental Data'!B149)=\"\",\"\",'Instrumental Data'!$C$132)","v":""},{"$f":"IF(('Instrumental Data'!B149)=\"\",\"\",'Instrumental Data'!$C$133)","v":""},{"$f":"IF(('Instrumental Data'!B149)=\"\",\"\",'Instrumental Data'!B149)","v":""},{"$f":"IF(('Instrumental Data'!C149)=\"\",\"\",'Instrumental Data'!C149)","v":""},{"$f":"IF(('Instrumental Data'!D149)=\"\",\"\",TEXT('Instrumental Data'!D149,\"hh:mm\"))","v":""},{"$f":"IF(('Instrumental Data'!E149)=\"\",\"\",TEXT('Instrumental Data'!E149,\"hh:mm\"))","v":""},{"$f":"IF(('Instrumental Data'!B149)=\"\",\"\",'Instrumental Data'!C$137)","v":""},{"$f":"IF(('Instrumental Data'!B149)=\"\",\"\",'Instrumental Data'!C$138)","v":""},{"$f":"IF(('Instrumental Data'!B149)=\"\",\"\",'Instrumental Data'!C$139)","v":""},{"$f":"IF(('Instrumental Data'!B149)=\"\",\"\",'Instrumental Data'!F$136)","v":""},{"$f":"IF(('Instrumental Data'!B149)=\"\",\"\",'Instrumental Data'!F$137)","v":""},{"$f":"IF(('Instrumental Data'!B149)=\"\",\"\",'Instrumental Data'!F$138)","v":""},{"$f":"IF(('Instrumental Data'!B149)=\"\",\"\",'Instrumental Data'!F$113)","v":""},{"$f":"IF(('Instrumental Data'!B149)=\"\",\"\",'Instrumental Data'!F149)","v":""},{"$f":"IFERROR(VLOOKUP(N66&\" SystemZero\",List!$J$2:$L$43,2,FALSE),\"\")","v":""},{"$f":"IF(('Instrumental Data'!G149)=\"\",\"\",'Instrumental Data'!G149)","v":""},{"$f":"IFERROR(VLOOKUP(N66&\" SystemUpscale\",List!$J$2:$L$43,2,FALSE),\"\")","v":""},{"$f":"IF(('Instrumental Data'!H149)=\"\",\"\",'Instrumental Data'!H149)","v":""},{"$f":"IFERROR(VLOOKUP(N66&\" SystemZero\",List!$J$2:$L$43,2,FALSE),\"\")","v":""},{"$f":"IF(('Instrumental Data'!K149)=\"\",\"\",'Instrumental Data'!K149)","v":""},{"$f":"IFERROR(VLOOKUP(N66&\" SystemUpscale\",List!$J$2:$L$43,2,FALSE),\"\")","v":""},{"$f":"IF(('Instrumental Data'!L149)=\"\",\"\",'Instrumental Data'!L149)","v":""},{"$f":"IF(('Instrumental Data'!I149)=\"\",\"\",'Instrumental Data'!I149)","v":""},{"$f":"IF(('Instrumental Data'!B149)=\"\",\"\",'Instrumental Data'!$J149)","v":""},{"$f":"IF(('Instrumental Data'!B149)=\"\",\"\",'Instrumental Data'!$J149)","v":""},{"$f":"IF(('Instrumental Data'!B149)=\"\",\"\",'Instrumental Data'!F$140)","v":""}]
[{"$f":"IF(('Instrumental Data'!B150)=\"\",\"\",'Instrumental Data'!$C$132)","v":""},{"$f":"IF(('Instrumental Data'!B150)=\"\",\"\",'Instrumental Data'!$C$133)","v":""},{"$f":"IF(('Instrumental Data'!B150)=\"\",\"\",'Instrumental Data'!B150)","v":""},{"$f":"IF(('Instrumental Data'!C150)=\"\",\"\",'Instrumental Data'!C150)","v":""},{"$f":"IF(('Instrumental Data'!D150)=\"\",\"\",TEXT('Instrumental Data'!D150,\"hh:mm\"))","v":""},{"$f":"IF(('Instrumental Data'!E150)=\"\",\"\",TEXT('Instrumental Data'!E150,\"hh:mm\"))","v":""},{"$f":"IF(('Instrumental Data'!B150)=\"\",\"\",'Instrumental Data'!C$137)","v":""},{"$f":"IF(('Instrumental Data'!B150)=\"\",\"\",'Instrumental Data'!C$138)","v":""},{"$f":"IF(('Instrumental Data'!B150)=\"\",\"\",'Instrumental Data'!C$139)","v":""},{"$f":"IF(('Instrumental Data'!B150)=\"\",\"\",'Instrumental Data'!F$136)","v":""},{"$f":"IF(('Instrumental Data'!B150)=\"\",\"\",'Instrumental Data'!F$137)","v":""},{"$f":"IF(('Instrumental Data'!B150)=\"\",\"\",'Instrumental Data'!F$138)","v":""},{"$f":"IF(('Instrumental Data'!B150)=\"\",\"\",'Instrumental Data'!F$113)","v":""},{"$f":"IF(('Instrumental Data'!B150)=\"\",\"\",'Instrumental Data'!F150)","v":""},{"$f":"IFERROR(VLOOKUP(N67&\" SystemZero\",List!$J$2:$L$43,2,FALSE),\"\")","v":""},{"$f":"IF(('Instrumental Data'!G150)=\"\",\"\",'Instrumental Data'!G150)","v":""},{"$f":"IFERROR(VLOOKUP(N67&\" SystemUpscale\",List!$J$2:$L$43,2,FALSE),\"\")","v":""},{"$f":"IF(('Instrumental Data'!H150)=\"\",\"\",'Instrumental Data'!H150)","v":""},{"$f":"IFERROR(VLOOKUP(N67&\" SystemZero\",List!$J$2:$L$43,2,FALSE),\"\")","v":""},{"$f":"IF(('Instrumental Data'!K150)=\"\",\"\",'Instrumental Data'!K150)","v":""},{"$f":"IFERROR(VLOOKUP(N67&\" SystemUpscale\",List!$J$2:$L$43,2,FALSE),\"\")","v":""},{"$f":"IF(('Instrumental Data'!L150)=\"\",\"\",'Instrumental Data'!L150)","v":""},{"$f":"IF(('Instrumental Data'!I150)=\"\",\"\",'Instrumental Data'!I150)","v":""},{"$f":"IF(('Instrumental Data'!B150)=\"\",\"\",'Instrumental Data'!$J150)","v":""},{"$f":"IF(('Instrumental Data'!B150)=\"\",\"\",'Instrumental Data'!$J150)","v":""},{"$f":"IF(('Instrumental Data'!B150)=\"\",\"\",'Instrumental Data'!F$140)","v":""}]
[{"$f":"IF(('Instrumental Data'!B151)=\"\",\"\",'Instrumental Data'!$C$132)","v":""},{"$f":"IF(('Instrumental Data'!B151)=\"\",\"\",'Instrumental Data'!$C$133)","v":""},{"$f":"IF(('Instrumental Data'!B151)=\"\",\"\",'Instrumental Data'!B151)","v":""},{"$f":"IF(('Instrumental Data'!C151)=\"\",\"\",'Instrumental Data'!C151)","v":""},{"$f":"IF(('Instrumental Data'!D151)=\"\",\"\",TEXT('Instrumental Data'!D151,\"hh:mm\"))","v":""},{"$f":"IF(('Instrumental Data'!E151)=\"\",\"\",TEXT('Instrumental Data'!E151,\"hh:mm\"))","v":""},{"$f":"IF(('Instrumental Data'!B151)=\"\",\"\",'Instrumental Data'!C$137)","v":""},{"$f":"IF(('Instrumental Data'!B151)=\"\",\"\",'Instrumental Data'!C$138)","v":""},{"$f":"IF(('Instrumental Data'!B151)=\"\",\"\",'Instrumental Data'!C$139)","v":""},{"$f":"IF(('Instrumental Data'!B151)=\"\",\"\",'Instrumental Data'!F$136)","v":""},{"$f":"IF(('Instrumental Data'!B151)=\"\",\"\",'Instrumental Data'!F$137)","v":""},{"$f":"IF(('Instrumental Data'!B151)=\"\",\"\",'Instrumental Data'!F$138)","v":""},{"$f":"IF(('Instrumental Data'!B151)=\"\",\"\",'Instrumental Data'!F$113)","v":""},{"$f":"IF(('Instrumental Data'!B151)=\"\",\"\",'Instrumental Data'!F151)","v":""},{"$f":"IFERROR(VLOOKUP(N68&\" SystemZero\",List!$J$2:$L$43,2,FALSE),\"\")","v":""},{"$f":"IF(('Instrumental Data'!G151)=\"\",\"\",'Instrumental Data'!G151)","v":""},{"$f":"IFERROR(VLOOKUP(N68&\" SystemUpscale\",List!$J$2:$L$43,2,FALSE),\"\")","v":""},{"$f":"IF(('Instrumental Data'!H151)=\"\",\"\",'Instrumental Data'!H151)","v":""},{"$f":"IFERROR(VLOOKUP(N68&\" SystemZero\",List!$J$2:$L$43,2,FALSE),\"\")","v":""},{"$f":"IF(('Instrumental Data'!K151)=\"\",\"\",'Instrumental Data'!K151)","v":""},{"$f":"IFERROR(VLOOKUP(N68&\" SystemUpscale\",List!$J$2:$L$43,2,FALSE),\"\")","v":""},{"$f":"IF(('Instrumental Data'!L151)=\"\",\"\",'Instrumental Data'!L151)","v":""},{"$f":"IF(('Instrumental Data'!I151)=\"\",\"\",'Instrumental Data'!I151)","v":""},{"$f":"IF(('Instrumental Data'!B151)=\"\",\"\",'Instrumental Data'!$J151)","v":""},{"$f":"IF(('Instrumental Data'!B151)=\"\",\"\",'Instrumental Data'!$J151)","v":""},{"$f":"IF(('Instrumental Data'!B151)=\"\",\"\",'Instrumental Data'!F$140)","v":""}]
[{"$f":"IF(('Instrumental Data'!B152)=\"\",\"\",'Instrumental Data'!$C$132)","v":""},{"$f":"IF(('Instrumental Data'!B152)=\"\",\"\",'Instrumental Data'!$C$133)","v":""},{"$f":"IF(('Instrumental Data'!B152)=\"\",\"\",'Instrumental Data'!B152)","v":""},{"$f":"IF(('Instrumental Data'!C152)=\"\",\"\",'Instrumental Data'!C152)","v":""},{"$f":"IF(('Instrumental Data'!D152)=\"\",\"\",TEXT('Instrumental Data'!D152,\"hh:mm\"))","v":""},{"$f":"IF(('Instrumental Data'!E152)=\"\",\"\",TEXT('Instrumental Data'!E152,\"hh:mm\"))","v":""},{"$f":"IF(('Instrumental Data'!B152)=\"\",\"\",'Instrumental Data'!C$137)","v":""},{"$f":"IF(('Instrumental Data'!B152)=\"\",\"\",'Instrumental Data'!C$138)","v":""},{"$f":"IF(('Instrumental Data'!B152)=\"\",\"\",'Instrumental Data'!C$139)","v":""},{"$f":"IF(('Instrumental Data'!B152)=\"\",\"\",'Instrumental Data'!F$136)","v":""},{"$f":"IF(('Instrumental Data'!B152)=\"\",\"\",'Instrumental Data'!F$137)","v":""},{"$f":"IF(('Instrumental Data'!B152)=\"\",\"\",'Instrumental Data'!F$138)","v":""},{"$f":"IF(('Instrumental Data'!B152)=\"\",\"\",'Instrumental Data'!F$113)","v":""},{"$f":"IF(('Instrumental Data'!B152)=\"\",\"\",'Instrumental Data'!F152)","v":""},{"$f":"IFERROR(VLOOKUP(N69&\" SystemZero\",List!$J$2:$L$43,2,FALSE),\"\")","v":""},{"$f":"IF(('Instrumental Data'!G152)=\"\",\"\",'Instrumental Data'!G152)","v":""},{"$f":"IFERROR(VLOOKUP(N69&\" SystemUpscale\",List!$J$2:$L$43,2,FALSE),\"\")","v":""},{"$f":"IF(('Instrumental Data'!H152)=\"\",\"\",'Instrumental Data'!H152)","v":""},{"$f":"IFERROR(VLOOKUP(N69&\" SystemZero\",List!$J$2:$L$43,2,FALSE),\"\")","v":""},{"$f":"IF(('Instrumental Data'!K152)=\"\",\"\",'Instrumental Data'!K152)","v":""},{"$f":"IFERROR(VLOOKUP(N69&\" SystemUpscale\",List!$J$2:$L$43,2,FALSE),\"\")","v":""},{"$f":"IF(('Instrumental Data'!L152)=\"\",\"\",'Instrumental Data'!L152)","v":""},{"$f":"IF(('Instrumental Data'!I152)=\"\",\"\",'Instrumental Data'!I152)","v":""},{"$f":"IF(('Instrumental Data'!B152)=\"\",\"\",'Instrumental Data'!$J152)","v":""},{"$f":"IF(('Instrumental Data'!B152)=\"\",\"\",'Instrumental Data'!$J152)","v":""},{"$f":"IF(('Instrumental Data'!B152)=\"\",\"\",'Instrumental Data'!F$140)","v":""}]
[{"$f":"IF(('Instrumental Data'!B153)=\"\",\"\",'Instrumental Data'!$C$132)","v":""},{"$f":"IF(('Instrumental Data'!B153)=\"\",\"\",'Instrumental Data'!$C$133)","v":""},{"$f":"IF(('Instrumental Data'!B153)=\"\",\"\",'Instrumental Data'!B153)","v":""},{"$f":"IF(('Instrumental Data'!C153)=\"\",\"\",'Instrumental Data'!C153)","v":""},{"$f":"IF(('Instrumental Data'!D153)=\"\",\"\",TEXT('Instrumental Data'!D153,\"hh:mm\"))","v":""},{"$f":"IF(('Instrumental Data'!E153)=\"\",\"\",TEXT('Instrumental Data'!E153,\"hh:mm\"))","v":""},{"$f":"IF(('Instrumental Data'!B153)=\"\",\"\",'Instrumental Data'!C$137)","v":""},{"$f":"IF(('Instrumental Data'!B153)=\"\",\"\",'Instrumental Data'!C$138)","v":""},{"$f":"IF(('Instrumental Data'!B153)=\"\",\"\",'Instrumental Data'!C$139)","v":""},{"$f":"IF(('Instrumental Data'!B153)=\"\",\"\",'Instrumental Data'!F$136)","v":""},{"$f":"IF(('Instrumental Data'!B153)=\"\",\"\",'Instrumental Data'!F$137)","v":""},{"$f":"IF(('Instrumental Data'!B153)=\"\",\"\",'Instrumental Data'!F$138)","v":""},{"$f":"IF(('Instrumental Data'!B153)=\"\",\"\",'Instrumental Data'!F$113)","v":""},{"$f":"IF(('Instrumental Data'!B153)=\"\",\"\",'Instrumental Data'!F153)","v":""},{"$f":"IFERROR(VLOOKUP(N70&\" SystemZero\",List!$J$2:$L$43,2,FALSE),\"\")","v":""},{"$f":"IF(('Instrumental Data'!G153)=\"\",\"\",'Instrumental Data'!G153)","v":""},{"$f":"IFERROR(VLOOKUP(N70&\" SystemUpscale\",List!$J$2:$L$43,2,FALSE),\"\")","v":""},{"$f":"IF(('Instrumental Data'!H153)=\"\",\"\",'Instrumental Data'!H153)","v":""},{"$f":"IFERROR(VLOOKUP(N70&\" SystemZero\",List!$J$2:$L$43,2,FALSE),\"\")","v":""},{"$f":"IF(('Instrumental Data'!K153)=\"\",\"\",'Instrumental Data'!K153)","v":""},{"$f":"IFERROR(VLOOKUP(N70&\" SystemUpscale\",List!$J$2:$L$43,2,FALSE),\"\")","v":""},{"$f":"IF(('Instrumental Data'!L153)=\"\",\"\",'Instrumental Data'!L153)","v":""},{"$f":"IF(('Instrumental Data'!I153)=\"\",\"\",'Instrumental Data'!I153)","v":""},{"$f":"IF(('Instrumental Data'!B153)=\"\",\"\",'Instrumental Data'!$J153)","v":""},{"$f":"IF(('Instrumental Data'!B153)=\"\",\"\",'Instrumental Data'!$J153)","v":""},{"$f":"IF(('Instrumental Data'!B153)=\"\",\"\",'Instrumental Data'!F$140)","v":""}]
[{"$f":"IF(('Instrumental Data'!B154)=\"\",\"\",'Instrumental Data'!$C$132)","v":""},{"$f":"IF(('Instrumental Data'!B154)=\"\",\"\",'Instrumental Data'!$C$133)","v":""},{"$f":"IF(('Instrumental Data'!B154)=\"\",\"\",'Instrumental Data'!B154)","v":""},{"$f":"IF(('Instrumental Data'!C154)=\"\",\"\",'Instrumental Data'!C154)","v":""},{"$f":"IF(('Instrumental Data'!D154)=\"\",\"\",TEXT('Instrumental Data'!D154,\"hh:mm\"))","v":""},{"$f":"IF(('Instrumental Data'!E154)=\"\",\"\",TEXT('Instrumental Data'!E154,\"hh:mm\"))","v":""},{"$f":"IF(('Instrumental Data'!B154)=\"\",\"\",'Instrumental Data'!C$137)","v":""},{"$f":"IF(('Instrumental Data'!B154)=\"\",\"\",'Instrumental Data'!C$138)","v":""},{"$f":"IF(('Instrumental Data'!B154)=\"\",\"\",'Instrumental Data'!C$139)","v":""},{"$f":"IF(('Instrumental Data'!B154)=\"\",\"\",'Instrumental Data'!F$136)","v":""},{"$f":"IF(('Instrumental Data'!B154)=\"\",\"\",'Instrumental Data'!F$137)","v":""},{"$f":"IF(('Instrumental Data'!B154)=\"\",\"\",'Instrumental Data'!F$138)","v":""},{"$f":"IF(('Instrumental Data'!B154)=\"\",\"\",'Instrumental Data'!F$113)","v":""},{"$f":"IF(('Instrumental Data'!B154)=\"\",\"\",'Instrumental Data'!F154)","v":""},{"$f":"IFERROR(VLOOKUP(N71&\" SystemZero\",List!$J$2:$L$43,2,FALSE),\"\")","v":""},{"$f":"IF(('Instrumental Data'!G154)=\"\",\"\",'Instrumental Data'!G154)","v":""},{"$f":"IFERROR(VLOOKUP(N71&\" SystemUpscale\",List!$J$2:$L$43,2,FALSE),\"\")","v":""},{"$f":"IF(('Instrumental Data'!H154)=\"\",\"\",'Instrumental Data'!H154)","v":""},{"$f":"IFERROR(VLOOKUP(N71&\" SystemZero\",List!$J$2:$L$43,2,FALSE),\"\")","v":""},{"$f":"IF(('Instrumental Data'!K154)=\"\",\"\",'Instrumental Data'!K154)","v":""},{"$f":"IFERROR(VLOOKUP(N71&\" SystemUpscale\",List!$J$2:$L$43,2,FALSE),\"\")","v":""},{"$f":"IF(('Instrumental Data'!L154)=\"\",\"\",'Instrumental Data'!L154)","v":""},{"$f":"IF(('Instrumental Data'!I154)=\"\",\"\",'Instrumental Data'!I154)","v":""},{"$f":"IF(('Instrumental Data'!B154)=\"\",\"\",'Instrumental Data'!$J154)","v":""},{"$f":"IF(('Instrumental Data'!B154)=\"\",\"\",'Instrumental Data'!$J154)","v":""},{"$f":"IF(('Instrumental Data'!B154)=\"\",\"\",'Instrumental Data'!F$140)","v":""}]
[{"$f":"IF(('Instrumental Data'!B155)=\"\",\"\",'Instrumental Data'!$C$132)","v":""},{"$f":"IF(('Instrumental Data'!B155)=\"\",\"\",'Instrumental Data'!$C$133)","v":""},{"$f":"IF(('Instrumental Data'!B155)=\"\",\"\",'Instrumental Data'!B155)","v":""},{"$f":"IF(('Instrumental Data'!C155)=\"\",\"\",'Instrumental Data'!C155)","v":""},{"$f":"IF(('Instrumental Data'!D155)=\"\",\"\",TEXT('Instrumental Data'!D155,\"hh:mm\"))","v":""},{"$f":"IF(('Instrumental Data'!E155)=\"\",\"\",TEXT('Instrumental Data'!E155,\"hh:mm\"))","v":""},{"$f":"IF(('Instrumental Data'!B155)=\"\",\"\",'Instrumental Data'!C$137)","v":""},{"$f":"IF(('Instrumental Data'!B155)=\"\",\"\",'Instrumental Data'!C$138)","v":""},{"$f":"IF(('Instrumental Data'!B155)=\"\",\"\",'Instrumental Data'!C$139)","v":""},{"$f":"IF(('Instrumental Data'!B155)=\"\",\"\",'Instrumental Data'!F$136)","v":""},{"$f":"IF(('Instrumental Data'!B155)=\"\",\"\",'Instrumental Data'!F$137)","v":""},{"$f":"IF(('Instrumental Data'!B155)=\"\",\"\",'Instrumental Data'!F$138)","v":""},{"$f":"IF(('Instrumental Data'!B155)=\"\",\"\",'Instrumental Data'!F$113)","v":""},{"$f":"IF(('Instrumental Data'!B155)=\"\",\"\",'Instrumental Data'!F155)","v":""},{"$f":"IFERROR(VLOOKUP(N72&\" SystemZero\",List!$J$2:$L$43,2,FALSE),\"\")","v":""},{"$f":"IF(('Instrumental Data'!G155)=\"\",\"\",'Instrumental Data'!G155)","v":""},{"$f":"IFERROR(VLOOKUP(N72&\" SystemUpscale\",List!$J$2:$L$43,2,FALSE),\"\")","v":""},{"$f":"IF(('Instrumental Data'!H155)=\"\",\"\",'Instrumental Data'!H155)","v":""},{"$f":"IFERROR(VLOOKUP(N72&\" SystemZero\",List!$J$2:$L$43,2,FALSE),\"\")","v":""},{"$f":"IF(('Instrumental Data'!K155)=\"\",\"\",'Instrumental Data'!K155)","v":""},{"$f":"IFERROR(VLOOKUP(N72&\" SystemUpscale\",List!$J$2:$L$43,2,FALSE),\"\")","v":""},{"$f":"IF(('Instrumental Data'!L155)=\"\",\"\",'Instrumental Data'!L155)","v":""},{"$f":"IF(('Instrumental Data'!I155)=\"\",\"\",'Instrumental Data'!I155)","v":""},{"$f":"IF(('Instrumental Data'!B155)=\"\",\"\",'Instrumental Data'!$J155)","v":""},{"$f":"IF(('Instrumental Data'!B155)=\"\",\"\",'Instrumental Data'!$J155)","v":""},{"$f":"IF(('Instrumental Data'!B155)=\"\",\"\",'Instrumental Data'!F$140)","v":""}]
[{"$f":"IF(('Instrumental Data'!B156)=\"\",\"\",'Instrumental Data'!$C$132)","v":""},{"$f":"IF(('Instrumental Data'!B156)=\"\",\"\",'Instrumental Data'!$C$133)","v":""},{"$f":"IF(('Instrumental Data'!B156)=\"\",\"\",'Instrumental Data'!B156)","v":""},{"$f":"IF(('Instrumental Data'!C156)=\"\",\"\",'Instrumental Data'!C156)","v":""},{"$f":"IF(('Instrumental Data'!D156)=\"\",\"\",TEXT('Instrumental Data'!D156,\"hh:mm\"))","v":""},{"$f":"IF(('Instrumental Data'!E156)=\"\",\"\",TEXT('Instrumental Data'!E156,\"hh:mm\"))","v":""},{"$f":"IF(('Instrumental Data'!B156)=\"\",\"\",'Instrumental Data'!C$137)","v":""},{"$f":"IF(('Instrumental Data'!B156)=\"\",\"\",'Instrumental Data'!C$138)","v":""},{"$f":"IF(('Instrumental Data'!B156)=\"\",\"\",'Instrumental Data'!C$139)","v":""},{"$f":"IF(('Instrumental Data'!B156)=\"\",\"\",'Instrumental Data'!F$136)","v":""},{"$f":"IF(('Instrumental Data'!B156)=\"\",\"\",'Instrumental Data'!F$137)","v":""},{"$f":"IF(('Instrumental Data'!B156)=\"\",\"\",'Instrumental Data'!F$138)","v":""},{"$f":"IF(('Instrumental Data'!B156)=\"\",\"\",'Instrumental Data'!F$113)","v":""},{"$f":"IF(('Instrumental Data'!B156)=\"\",\"\",'Instrumental Data'!F156)","v":""},{"$f":"IFERROR(VLOOKUP(N73&\" SystemZero\",List!$J$2:$L$43,2,FALSE),\"\")","v":""},{"$f":"IF(('Instrumental Data'!G156)=\"\",\"\",'Instrumental Data'!G156)","v":""},{"$f":"IFERROR(VLOOKUP(N73&\" SystemUpscale\",List!$J$2:$L$43,2,FALSE),\"\")","v":""},{"$f":"IF(('Instrumental Data'!H156)=\"\",\"\",'Instrumental Data'!H156)","v":""},{"$f":"IFERROR(VLOOKUP(N73&\" SystemZero\",List!$J$2:$L$43,2,FALSE),\"\")","v":""},{"$f":"IF(('Instrumental Data'!K156)=\"\",\"\",'Instrumental Data'!K156)","v":""},{"$f":"IFERROR(VLOOKUP(N73&\" SystemUpscale\",List!$J$2:$L$43,2,FALSE),\"\")","v":""},{"$f":"IF(('Instrumental Data'!L156)=\"\",\"\",'Instrumental Data'!L156)","v":""},{"$f":"IF(('Instrumental Data'!I156)=\"\",\"\",'Instrumental Data'!I156)","v":""},{"$f":"IF(('Instrumental Data'!B156)=\"\",\"\",'Instrumental Data'!$J156)","v":""},{"$f":"IF(('Instrumental Data'!B156)=\"\",\"\",'Instrumental Data'!$J156)","v":""},{"$f":"IF(('Instrumental Data'!B156)=\"\",\"\",'Instrumental Data'!F$140)","v":""}]

{"sheet":"Version","index":15,"n_rows":4,"n_cols":2,"rows_kept":4,"cut":false,"hidden":false,"merged":[]}
["Date","Revision Description"]
["2021-04-05","fixed date import on ERT_tblRunData ITM; fixed dropdown selection in G25 of Gas Calibration sheet; corrected import formula for ERT_tblCals and all table so it can  import zeros."]
["2023-04-17","Updated import instructions"]
["2024-04-12","fixed set 4 lo cylinder ID link; fixed set 6 operating parameter and post zero cal import links"]