{"text_format":"1","workbook":"xlsx","n_sheets":20,"sheets":["Welcome","Company_Information","Menus","Process_Identification","List_Process","List_Controls","CMS_Identification","List_CMS","CMS_Downtime","CMS_Downtime_Data","CMS_Downtime_Summary","Deviations_Limit_No_CMS","Deviations_Op_Param_CMS","OpParam_Deviation_CMS_Data","Deviations_Op_Param_CMS_Summary","Emission_Estimate","Semiannual_Certification","Revisions","Worksheet Map","ESRI_MAPINFO_SHEET"],"not_rendered":{"charts":0,"images":1,"macros":1,"external_links":0,"defined_names":11,"comments":0,"pivot_tables":0},"unopened":[],"bounds":{"document_bytes":16777216,"sheet_cells":100000,"rows_first":2000,"rows_last":500,"rows_between":2000,"halvings":0,"cell_chars":16384,"cell_head_chars":4096},"cells_cut":0,"cells_raw":0,"read":"whole","date_system":"1900"}

{"sheet":"Welcome","index":0,"n_rows":29,"n_cols":2,"rows_kept":29,"cut":false,"hidden":false,"merged":[]}
["DO NOT REMOVE OR EDIT INFORMATION IN ROWS 1 THROUGH 5\nFOR INTERNAL USE ONLY"]
["Template Name","63.3400(c) Semiannual Compliance Report (Spreadsheet Template)"]
["CitationID","63.3400(c)"]
["Template Version","v1.00"]
["Last Updated Date",45427]
["Blank","OMB No.: 2060-0511 Form 5900-0527 For further Paperwork Reduction Act information see: \nhttps://www.epa.gov/electronic-reporting-air-emissions/paperwork-reduction-act-pra-cedri-and-ert"]
[null,"For further Paperwork Reduction Act information see: \nhttps://www.epa.gov/electronic-reporting-air-emissions/paperwork-reduction-act-pra-cedri-and-ert"]
["Blank","40 CFR Part 63, Subpart JJJJ National Emission Standards for Hazardous Air Pollutants: Paper and Other Web Coating - §63.3400 Semiannual Compliance Report Spreadsheet Template"]
[null,"Welcome and Instructions"]
[null,"Purpose:"]
[null,"This spreadsheet template was designed by the U.S. EPA to facilitate semiannual excess emissions reporting under 40 CFR part 63, subpart JJJJ National Emission Standard for Hazardous Air Pollutants: Paper and Other Web Coating.  "]
[null,"The semiannual reporting requirements included in this report are found in §63.3400."]
[null,"Electronic reporting:"]
[null,"Electronic submission of semiannual excess emissions reports through the EPA's Compliance and Emissions Data Reporting (CEDRI) is required under §63.3400(h)."]
[null,"CEDRI is accessed through the EPA's Central Data Exchange: https://cdx.epa.gov"]
[null,"This spreadsheet template may be uploaded to CEDRI to fulfill the electronic reporting requirement under §63.3400(h).\n"]
[null,"The CEDRI spreadsheet template upload feature allows you to submit data in a single report for a single company or multiple companies, as well as multiple sites, using this EPA provided Excel workbook.  Data for each company must be entered into the worksheet labeled \"Company Information\" in this Excel workbook.  Each row in the \"Company Information\" worksheet includes the data for a single company. The Company Record No. in column A will be used to match the information on each tab to the appropriate facility. \n"]
[null,"For semiannual report, you may reference a single file attachment that includes additional information on the \"Facility_Info\" tab. \n"]
[null,"Do not submit information you claim as confidential business information (CBI) to EPA via CEDRI. EPA will make all the information submitted through CEDRI available to the public without further notice to you. Anything submitted using CEDRI cannot later be claimed to be CBI. Furthermore, under CAA section 114(c) emissions data is not entitled to confidential treatment and requires EPA to make emissions data available to the public. Thus, emissions data will not be protected as CBI and will be made publicly available.\n"]
[null,"Although we do not expect persons to assert a claim of CBI, if persons wish to assert a CBI claim, you must submit the report via CEDRI with the CBI omitted and mail a complete report, including any information claimed to be CBI, to EPA on a compact disc, flash drive, or other commonly used electronic storage media via U.S. postal service. You must mark the outside of the digital storage media as CBI and then identify electronically within the digital storage media the specific information that is claimed as CBI. Mail the media to the address in the referencing federal regulation. If no address is specified, mail the media to:\n"]
[null,"U.S. EPA/OAQPS/CORE CBI Office Attention: Group Leader, \nMeasurement Policy Group MD C404-02\n4930 Old Page Rd\nDurham, North Carolina 27703"]
["Blank","IMPORTANT: The spreadsheet must be uploaded into CEDRI as a single ZIP file, which must include this Excel workbook and any related attachments that were referenced in the workbook (i.e., additional information file found in the \"Company Information\" worksheet).\n"]
[null,"Note: If you are uploading file attachments for your report, the uploaded files may be in any format (e.g., ZIP, docx, PDF). If you would like to include an Excel file(s) as an attachment, you must first zip the Excel file(s) into a separate ZIP file to the master ZIP file that will be uploaded into CEDRI.\n"]
[null,"Once all data have been entered in the worksheet, combine this Excel workbook and all attachment files (including any ZIP file containing separate excel file(s), if applicable) into a single ZIP file for upload to CEDRI.\n"]
[null,"Please ensure your report includes all of the required data elements found in the listed citations below for this spreadsheet upload submission."]
["Blank","Template Navigation and Tabs to Complete:\nGreen Tabs:  Green tabs are to be completed as required in order to complete the Semiannual report.   Some cells are linked to previous tabs or are calculations dependent upon data entry.                                                                                                                                                                                                                                                                                      Gray Tabs:  The gray tabs contain general summary information.                                                                                                                                                                                                                                              Pink Tabs: pink tabs are calculated information based on input in the green tabs, if appropropriate.                                                                                                                                                                                                                    \n\nWithin the tabs, example rows are colored light red (rows 14 through 23), and the XML tags (row 13) are colored green.  These rows are locked; no data entry is made in these rows.                                                                                                                                                                                                                                                                                                                                                                                                                                                                                        You should start each Semiannual report with a new, blank template."]
[null,"Certification:\nFill out the Semiannual - Certification tab to complete the certification statements of §§63.3400(c)(2)(iv) and (vi).  "]
[null,"Certification per §63.3400(c)(2)(ii):"]
[null,"Certification of your report in CEDRI satisfies the requirement in §63.3400(c)(2)(ii) that a certifying official certify the accuracy of the content of the report."]

{"sheet":"Company_Information","index":1,"n_rows":33,"n_cols":19,"rows_kept":33,"cut":false,"hidden":false,"merged":[[10,14,10,15],[10,2,10,10]]}
[null,"DO NOT REMOVE OR EDIT INFORMATION IN ROWS 1 THROUGH 5\nFOR INTERNAL USE ONLY"]
[null,"Template Name",{"$f":"+Welcome!B2","v":"63.3400(c) Semiannual Compliance Report (Spreadsheet Template)"}]
[null,"CitationID",{"$f":"+Welcome!B3","v":"63.3400(c)"}]
[null,"Template Version",{"$f":"+Welcome!B4","v":"v1.00"}]
[null,"Last Updated Date",{"$f":"+Welcome!B5","v":45427}]
[]
[null,"40 CFR Part 63, Subpart JJJJ National Emission Standards for Hazardous Air Pollutants: Paper and Other Web Coating - §63.3400 Semiannual Compliance Report Spreadsheet Template"]
[null,"\n"]
[]
[]
[null,null,"SITE INFORMATION",null,null,null,null,null,null,null,null,"REPORTING PERIOD",null,null,"ADDITIONAL INFORMATION",null,"DEVIATIONS AND DOWNTIME"]
[null,"Company Record No. \n(Field value will automatically generate if a value is not entered.)","Company Name\n(§63.3400(c)(2)(i))","Address\n(§63.3400(c)(2)(i))","Address 2 ","City\n(§63.3400(c)(2)(i))","County                                (§63.3400(c)(2)(i))","State Abbreviation\n(§63.3400(c)(2)(i))","Zip Code\n(§63.3400(c)(2)(i))","Responsible Agency Facility ID \n(State Facility Identifier)","New or Existing Affected Source\n(as defined in §63.3310)                  (Select from Dropdown)","Date of Report\n(§63.3400(c)(2)(iii))","Beginning Date of Reporting Period\n(§63.3400(c)(2)(iii))","Ending Date of\n Reporting Period\n(§63.3400(c)(2)(iii))","Please enter any additional information.","Enter associated file name reference. ","Did any deviation(s) from the emission limitations occur during the reporting period?                                                  (§63.3400(c)(2)(v) and (vi))                             (Select from Dropdown)","Did any deviation(s) from operating parameters occur during the reporting period?                                                                                     (§63.3400(c)(2)(v) and (vi))                             (Select from Dropdown)","Did any CMS downtime occur during the reporting period?                                                  (§63.3400(c)(2)(v) and (vi))                             (Select from Dropdown)"]
[null,"RecordId","CompanyName","AddressLine1","AddressLine2","CityName","CountyName","StateName","ZipCode","StateFacId","NewExist","ReportDate","PeriodStartDate","PeriodEndDate","AddInfo","AddFile","EmissionsDeviationYesNo","OperatingDeviationYesNo","DowntimeDeviationYesNo"]
[null,"e.g.: 1","e.g.: ABC Company","e.g.: 123 Main Street","e.g.: Suite 100","e.g.: Brooklyn","e.g.: Kings","e.g.: NY","e.g.: 11221","e.g.: 9145555555","e.g.: Existing","e.g.: 7/15/2017","e.g.: 01/01/2017","e.g.: 6/30/2017","e.g.:","e.g.: addlinfo.zip ","e.g.: Yes","e.g.: Yes","e.g.: Yes"]
[null,"e.g.:","e.g.:","e.g.:","e.g.:","e.g.:","e.g.:","e.g.:","e.g.:","e.g.:","e.g.:","e.g.:","e.g.:","e.g.:","e.g.:","e.g.:","e.g.:","e.g.:","e.g.:"]
[null,"e.g.:","e.g.:","e.g.:","e.g.:","e.g.:","e.g.:","e.g.:","e.g.:","e.g.:","e.g.:","e.g.:","e.g.:","e.g.:","e.g.:","e.g.:","e.g.:","e.g.:","e.g.:"]
[null,"e.g.:","e.g.:","e.g.:","e.g.:","e.g.:","e.g.:","e.g.:","e.g.:","e.g.:","e.g.:","e.g.:","e.g.:","e.g.:","e.g.:","e.g.:","e.g.:","e.g.:","e.g.:"]
[null,"e.g.:","e.g.:","e.g.:","e.g.:","e.g.:","e.g.:","e.g.:","e.g.:","e.g.:","e.g.:","e.g.:","e.g.:","e.g.:","e.g.:","e.g.:","e.g.:","e.g.:","e.g.:"]
[null,"e.g.:","e.g.:","e.g.:","e.g.:","e.g.:","e.g.:","e.g.:","e.g.:","e.g.:","e.g.:","e.g.:","e.g.:","e.g.:","e.g.:","e.g.:","e.g.:","e.g.:","e.g.:"]
[null,"e.g.:","e.g.:","e.g.:","e.g.:","e.g.:","e.g.:","e.g.:","e.g.:","e.g.:","e.g.:","e.g.:","e.g.:","e.g.:","e.g.:","e.g.:","e.g.:","e.g.:","e.g.:"]
[null,"e.g.:","e.g.:","e.g.:","e.g.:","e.g.:","e.g.:","e.g.:","e.g.:","e.g.:","e.g.:","e.g.:","e.g.:","e.g.:","e.g.:","e.g.:","e.g.:","e.g.:","e.g.:"]
[null,"e.g.:","e.g.:","e.g.:","e.g.:","e.g.:","e.g.:","e.g.:","e.g.:","e.g.:","e.g.:","e.g.:","e.g.:","e.g.:","e.g.:","e.g.:","e.g.:","e.g.:","e.g.:"]
[null,"e.g.:","e.g.:","e.g.:","e.g.:","e.g.:","e.g.:","e.g.:","e.g.:","e.g.:","e.g.:","e.g.:","e.g.:","e.g.:","e.g.:","e.g.:","e.g.:","e.g.:","e.g.:"]
[null,{"$f":"IF(C24=\"\",\"\",MAX($B$23:B23)+1)","v":""}]
[null,{"$f":"IF(C25=\"\",\"\",MAX($B$23:B24)+1)","v":""}]
[null,{"$f":"IF(C26=\"\",\"\",MAX($B$23:B25)+1)","v":""}]
[null,{"$f":"IF(C27=\"\",\"\",MAX($B$23:B26)+1)","v":""}]
[null,{"$f":"IF(C28=\"\",\"\",MAX($B$23:B27)+1)","v":""}]
[null,{"$f":"IF(C29=\"\",\"\",MAX($B$23:B28)+1)","v":""}]
[null,{"$f":"IF(C30=\"\",\"\",MAX($B$23:B29)+1)","v":""}]
[null,{"$f":"IF(C31=\"\",\"\",MAX($B$23:B30)+1)","v":""}]
[null,{"$f":"IF(C32=\"\",\"\",MAX($B$23:B31)+1)","v":""}]
[null,{"$f":"IF(C33=\"\",\"\",MAX($B$23:B32)+1)","v":""}]

{"sheet":"Menus","index":2,"n_rows":57,"n_cols":15,"rows_kept":57,"cut":false,"hidden":true,"merged":[]}
["Months for Reporting Periods",null,"Operating Scenarios",null,null,"Compliance Options",null,"Company Record Number","Unique CompanyID","Rank","CompanyIDList",null,"states",null,"Operating Parameters"]
["January",null,"Compliant Coating",null,null,"0.04 kg organic HAP per kg coating material",null,{"$f":"IF(Company_Information!B24=\"\",\"\",Company_Information!B24)","v":""},{"$f":"IF(COUNTIF(H$2:H2,H2)=1,H2,\"\")","v":""},{"$f":"+IF(I2=\"\",\"\",MAX(I1:I$1)+1)","v":""},{"$f":"+IFERROR(INDEX($H$2:$H$11,MATCH(ROW()-ROW($C$1),$J$2:$J$11,0)),\"\")","v":""},null,"AK",null,"RTO - Minimum Combustion Chamber Temperature"]
["February",null,"Intermittently Controlled",null,null,"0.016 kg organic HAP per kg coating material",null,{"$f":"IF(Company_Information!B25=\"\",\"\",Company_Information!B25)","v":""},{"$f":"IF(COUNTIF(H$2:H3,H3)=1,H3,\"\")","v":""},{"$f":"+IF(I3=\"\",\"\",MAX(I$1:I2)+1)","v":""},"",null,"AL",null,"CatOx - Minimum Catalyst Bed Inlet Temperature"]
["March ",null,"Control - RTO",null,null,"0.2 kg organic HAP per kg coating solids",null,{"$f":"IF(Company_Information!B26=\"\",\"\",Company_Information!B26)","v":""},{"$f":"IF(COUNTIF(H$2:H4,H4)=1,H4,\"\")","v":""},{"$f":"+IF(I4=\"\",\"\",MAX(I$1:I3)+1)","v":""},"",null,"AR",null,"CatOx - Minimum Catalyst Bed Temperature Rise"]
["April",null,"Control - CO",null,null,"0.08 kg organic HAP per kg coating solids",null,{"$f":"IF(Company_Information!B27=\"\",\"\",Company_Information!B27)","v":""},{"$f":"IF(COUNTIF(H$2:H5,H5)=1,H5,\"\")","v":""},{"$f":"+IF(I5=\"\",\"\",MAX(I$1:I4)+1)","v":""},"",null,"AS",null,"CatOx - Minimum Catalyst Bed Minimum Temperature >50 F Above Ignition Temperature"]
["May",null,"Control - TO",null,null,"95 percent efficiency",null,{"$f":"IF(Company_Information!B28=\"\",\"\",Company_Information!B28)","v":""},{"$f":"IF(COUNTIF(H$2:H6,H6)=1,H6,\"\")","v":""},{"$f":"+IF(I6=\"\",\"\",MAX(I$1:I5)+1)","v":""},"",null,"AZ",null,"Other Operating Parameter Limit (Insert Description Here)"]
["June",null,"Control - SRS",null,null,"98 percent efficiency",null,{"$f":"IF(Company_Information!B29=\"\",\"\",Company_Information!B29)","v":""},{"$f":"IF(COUNTIF(H$2:H7,H7)=1,H7,\"\")","v":""},{"$f":"+IF(I7=\"\",\"\",MAX(I$1:I6)+1)","v":""},"",null,"CA"]
["July",null,"Control - Other",null,null,"20 ppmv organic HAP and 100 percent capture efficiency",null,{"$f":"IF(Company_Information!B30=\"\",\"\",Company_Information!B30)","v":""},{"$f":"IF(COUNTIF(H$2:H8,H8)=1,H8,\"\")","v":""},{"$f":"+IF(I8=\"\",\"\",MAX(I$1:I7)+1)","v":""},"",null,"CO"]
["August",null,null,null,null,"Other Operating Parameter Limit (Insert Description Here)",null,{"$f":"IF(Company_Information!B31=\"\",\"\",Company_Information!B31)","v":""},{"$f":"IF(COUNTIF(H$2:H9,H9)=1,H9,\"\")","v":""},{"$f":"+IF(I9=\"\",\"\",MAX(I$1:I8)+1)","v":""},"",null,"CT"]
["September",null,null,null,null,null,null,{"$f":"IF(Company_Information!B32=\"\",\"\",Company_Information!B32)","v":""},{"$f":"IF(COUNTIF(H$2:H10,H10)=1,H10,\"\")","v":""},{"$f":"+IF(I10=\"\",\"\",MAX(I$1:I9)+1)","v":""},"",null,"DC"]
["October",null,null,null,null,null,null,{"$f":"IF(Company_Information!B33=\"\",\"\",Company_Information!B33)","v":""},{"$f":"IF(COUNTIF(H$2:H11,H11)=1,H11,\"\")","v":""},{"$f":"+IF(I11=\"\",\"\",MAX(I$1:I10)+1)","v":""},"",null,"DE"]
["November",null,null,null,null,null,null,null,null,null,null,null,"FL"]
["December",null,null,null,null,null,null,null,null,null,null,null,"GA"]
[null,null,null,null,null,null,null,null,null,null,null,null,"GU"]
[null,null,null,null,null,null,null,null,null,null,null,null,"HI"]
[null,null,null,null,null,null,null,null,null,null,null,null,"IA"]
[null,null,null,null,null,null,null,null,null,null,null,null,"ID"]
[null,null,null,null,null,null,null,null,null,null,null,null,"IL"]
[null,null,null,null,null,null,null,null,null,null,null,null,"IN"]
[null,null,null,null,null,null,null,null,null,null,null,null,"KS"]
[null,null,null,null,null,null,null,null,null,null,null,null,"KY"]
[null,null,null,null,null,null,null,null,null,null,null,null,"LA"]
[null,null,null,null,null,null,null,null,null,null,null,null,"MA"]
[null,null,null,null,null,null,null,null,null,null,null,null,"MD"]
[null,null,null,null,null,null,null,null,null,null,null,null,"ME"]
[null,null,null,null,null,null,null,null,null,null,null,null,"MI"]
[null,null,null,null,null,null,null,null,null,null,null,null,"MN"]
[null,null,null,null,null,null,null,null,null,null,null,null,"MO"]
[null,null,null,null,null,null,null,null,null,null,null,null,"MP"]
[null,null,null,null,null,null,null,null,null,null,null,null,"MS"]
[null,null,null,null,null,null,null,null,null,null,null,null,"MT"]
[null,null,null,null,null,null,null,null,null,null,null,null,"NC"]
[null,null,null,null,null,null,null,null,null,null,null,null,"ND"]
[null,null,null,null,null,null,null,null,null,null,null,null,"NE"]
[null,null,null,null,null,null,null,null,null,null,null,null,"NH"]
[null,null,null,null,null,null,null,null,null,null,null,null,"NJ"]
[null,null,null,null,null,null,null,null,null,null,null,null,"NM"]
[null,null,null,null,null,null,null,null,null,null,null,null,"NV"]
[null,null,null,null,null,null,null,null,null,null,null,null,"NY"]
[null,null,null,null,null,null,null,null,null,null,null,null,"OH"]
[null,null,null,null,null,null,null,null,null,null,null,null,"OK"]
[null,null,null,null,null,null,null,null,null,null,null,null,"OR"]
[null,null,null,null,null,null,null,null,null,null,null,null,"PA"]
[null,null,null,null,null,null,null,null,null,null,null,null,"PR"]
[null,null,null,null,null,null,null,null,null,null,null,null,"RI"]
[null,null,null,null,null,null,null,null,null,null,null,null,"SC"]
[null,null,null,null,null,null,null,null,null,null,null,null,"SD"]
[null,null,null,null,null,null,null,null,null,null,null,null,"TN"]
[null,null,null,null,null,null,null,null,null,null,null,null,"TX"]
[null,null,null,null,null,null,null,null,null,null,null,null,"UT"]
[null,null,null,null,null,null,null,null,null,null,null,null,"VA"]
[null,null,null,null,null,null,null,null,null,null,null,null,"VI"]
[null,null,null,null,null,null,null,null,null,null,null,null,"VT"]
[null,null,null,null,null,null,null,null,null,null,null,null,"WA"]
[null,null,null,null,null,null,null,null,null,null,null,null,"WI"]
[null,null,null,null,null,null,null,null,null,null,null,null,"WV"]
[null,null,null,null,null,null,null,null,null,null,null,null,"WY"]

{"sheet":"Process_Identification","index":3,"n_rows":23,"n_cols":6,"rows_kept":23,"cut":false,"hidden":false,"merged":[]}
[null,"DO NOT REMOVE OR EDIT INFORMATION IN ROWS 1 THROUGH 5\nFOR INTERNAL USE ONLY"]
[null,"Template Name",{"$f":"Welcome!B2","v":"63.3400(c) Semiannual Compliance Report (Spreadsheet Template)"}]
[null,"CitationID",{"$f":"Welcome!B3","v":"63.3400(c)"}]
[null,"Template Version",{"$f":"Welcome!B4","v":"v1.00"}]
[null,"Last Updated Date",{"$f":"Welcome!B5","v":45427}]
[]
[null,"40 CFR Part 63, Subpart JJJJ National Emission Standards for Hazardous Air Pollutants: Paper and Other Web Coating -"]
[null," §63.3400 Semiannual Compliance Report Spreadsheet Template"]
[]
[]
[]
[null,"Company Record No.\n(Select from Dropdown)","Affected Source\n(§63.3400(c)(2)(v) and (vi))","Operating Scenario\n(§63.3400(c)(2)(v) and (vi))\n(Select from Dropdown)","Total Source\nOperating Time (hours)\n(§63.3400(c)(2)(v)(A) and (vi)(A)) ","Associated Control Device Identification, if applicable (§63.3400(c)(2)(v) and (vi))"]
[null,"RecordId","WebcoatID","OperateScenario","OpScenarioOpTime","ControlID"]
[null,"e.g.: 1","e.g.: Line 1","e.g.: Control -RTO","e.g.: 4300 ","e.g.: RTO1"]
[null,"e.g.: 1","e.g.: Line 1","e.g.: Compliant Coating","e.g.: 4300 ","e.g.: SRS2"]
[null,"e.g.:","e.g.:","e.g.:","e.g.:","e.g.:"]
[null,"e.g.:","e.g.:","e.g.:","e.g.:","e.g.:"]
[null,"e.g.:","e.g.:","e.g.:","e.g.:","e.g.:"]
[null,"e.g.:","e.g.:","e.g.:","e.g.:","e.g.:"]
[null,"e.g.:","e.g.:","e.g.:","e.g.:","e.g.:"]
[null,"e.g.:","e.g.:","e.g.:","e.g.:","e.g.:"]
[null,"e.g.:","e.g.:","e.g.:","e.g.:","e.g.:"]
[null,"e.g.:","e.g.:","e.g.:","e.g.:","e.g.:"]

{"sheet":"List_Process","index":4,"n_rows":501,"n_cols":20,"rows_kept":501,"cut":false,"hidden":true,"merged":[]}
["Process sort",null,null,null,null,null," ",null,null,null,null,null,null,null,null,"Process Summary"]
["Group_Record_Count","Affected_Source_Record_Count","Company_Record_No.","Affected_Source_Grouping","Operate_Scenario","Operating_Hours","Control_ID","Concat: Company & Affected Source","Concat: Company_&_Affected_Source&_Control_Scenario","Remove_Dups_Affected_Source","Affected_Source_List","Op_Hours_by_Month_by_Group",null,null,null,"Record_Count","Affected Source","Company ID","Affected_Source","Operating_Time"]
[{"$f":"+IF(K3=\"\",\"\",MAX(A$1:A2)+1)","v":""},{"$f":"+IF(J3=\"\",\"\",MAX(B$1:B2)+1)","v":""},{"$f":"IF(Process_Identification!B24=\"\",\"\",Process_Identification!B24)","v":""},{"$f":"IF(Process_Identification!C24=\"\",\"\",Process_Identification!C24)","v":""},{"$f":"IF(Process_Identification!D24=\"\",\"\",Process_Identification!D24)","v":""},{"$f":"IF(Process_Identification!E24=\"\",\"\",Process_Identification!E24)","v":""},{"$f":"IF(Process_Identification!F24=\"\",\"\",Process_Identification!F24)","v":""},{"$f":"IF(C3=\"\",\"\",C3&\" - \"&D3)","v":""},{"$f":"IF(C3=\"\",\"\",C3&\" - \"&D3&\" - \"&E3)","v":""},{"$f":"IF(COUNTIF(H$2:H3,H3)=1,H3,\"\")","v":""},{"$f":"+IFERROR(INDEX($J$2:$J$101,MATCH(ROW()-ROW($K$2),$B$2:$B$100,0)),\"\")","v":""},{"$f":"IF(SUMIF(Table1012[Concat: Company & Affected Source],K3,Table1012[Operating_Hours])=0,\"\",SUMIF(Table1012[Concat: Company & Affected Source],K3,Table1012[Operating_Hours]))","v":""},null,null,null,{"$f":"+IF(T3=\"\",\"\",MAX(P$1:P2)+1)","v":""},{"$f":"IF(Table1012[[#This Row],[Affected_Source_List]]=\"\",\"\",Table1012[[#This Row],[Affected_Source_List]])","v":""},{"$f":"TRIM(MID(SUBSTITUTE($Q3,\" - \",REPT(\" \",999)),COLUMNS($P:P)*999-998,999))","v":""},{"$f":"TRIM(MID(SUBSTITUTE($Q3,\" - \",REPT(\" \",999)),COLUMNS($P:Q)*999-998,999))","v":""},{"$f":"VLOOKUP(Q3,$K$3:$L$501,2,FALSE)","v":""}]
[{"$f":"+IF(K4=\"\",\"\",MAX(A$1:A3)+1)","v":""},{"$f":"+IF(J4=\"\",\"\",MAX(B$1:B3)+1)","v":""},{"$f":"IF(Process_Identification!B25=\"\",\"\",Process_Identification!B25)","v":""},{"$f":"IF(Process_Identification!C25=\"\",\"\",Process_Identification!C25)","v":""},{"$f":"IF(Process_Identification!D25=\"\",\"\",Process_Identification!D25)","v":""},{"$f":"IF(Process_Identification!E25=\"\",\"\",Process_Identification!E25)","v":""},{"$f":"IF(Process_Identification!F25=\"\",\"\",Process_Identification!F25)","v":""},{"$f":"IF(C4=\"\",\"\",C4&\" - \"&D4)","v":""},{"$f":"IF(C4=\"\",\"\",C4&\" - \"&D4&\" - \"&E4)","v":""},{"$f":"IF(COUNTIF(H$2:H4,H4)=1,H4,\"\")","v":""},"",{"$f":"IF(SUMIF(Table1012[Concat: Company & Affected Source],K4,Table1012[Operating_Hours])=0,\"\",SUMIF(Table1012[Concat: Company & Affected Source],K4,Table1012[Operating_Hours]))","v":""},null,null,null,{"$f":"+IF(T4=\"\",\"\",MAX(P$1:P3)+1)","v":""},{"$f":"IF(Table1012[[#This Row],[Affected_Source_List]]=\"\",\"\",Table1012[[#This Row],[Affected_Source_List]])","v":""},{"$f":"TRIM(MID(SUBSTITUTE($Q4,\" - \",REPT(\" \",999)),COLUMNS($P:P)*999-998,999))","v":""},{"$f":"TRIM(MID(SUBSTITUTE($Q4,\" - \",REPT(\" \",999)),COLUMNS($P:Q)*999-998,999))","v":""},{"$f":"VLOOKUP(Q4,$K$3:$L$501,2,FALSE)","v":""}]
[{"$f":"+IF(K5=\"\",\"\",MAX(A$1:A4)+1)","v":""},{"$f":"+IF(J5=\"\",\"\",MAX(B$1:B4)+1)","v":""},{"$f":"IF(Process_Identification!B26=\"\",\"\",Process_Identification!B26)","v":""},{"$f":"IF(Process_Identification!C26=\"\",\"\",Process_Identification!C26)","v":""},{"$f":"IF(Process_Identification!D26=\"\",\"\",Process_Identification!D26)","v":""},{"$f":"IF(Process_Identification!E26=\"\",\"\",Process_Identification!E26)","v":""},{"$f":"IF(Process_Identification!F26=\"\",\"\",Process_Identification!F26)","v":""},"","",{"$f":"IF(COUNTIF(H$2:H5,H5)=1,H5,\"\")","v":""},"",{"$f":"IF(SUMIF(Table1012[Concat: Company & Affected Source],K5,Table1012[Operating_Hours])=0,\"\",SUMIF(Table1012[Concat: Company & Affected Source],K5,Table1012[Operating_Hours]))","v":""},null,null,null,{"$f":"+IF(T5=\"\",\"\",MAX(P$1:P4)+1)","v":""},{"$f":"IF(Table1012[[#This Row],[Affected_Source_List]]=\"\",\"\",Table1012[[#This Row],[Affected_Source_List]])","v":""},{"$f":"TRIM(MID(SUBSTITUTE($Q5,\" - \",REPT(\" \",999)),COLUMNS($P:P)*999-998,999))","v":""},{"$f":"TRIM(MID(SUBSTITUTE($Q5,\" - \",REPT(\" \",999)),COLUMNS($P:Q)*999-998,999))","v":""},""]
[{"$f":"+IF(K6=\"\",\"\",MAX(A$1:A5)+1)","v":""},{"$f":"+IF(J6=\"\",\"\",MAX(B$1:B5)+1)","v":""},{"$f":"IF(Process_Identification!B27=\"\",\"\",Process_Identification!B27)","v":""},{"$f":"IF(Process_Identification!C27=\"\",\"\",Process_Identification!C27)","v":""},{"$f":"IF(Process_Identification!D27=\"\",\"\",Process_Identification!D27)","v":""},{"$f":"IF(Process_Identification!E27=\"\",\"\",Process_Identification!E27)","v":""},{"$f":"IF(Process_Identification!F27=\"\",\"\",Process_Identification!F27)","v":""},"","",{"$f":"IF(COUNTIF(H$2:H6,H6)=1,H6,\"\")","v":""},"",{"$f":"IF(SUMIF(Table1012[Concat: Company & Affected Source],K6,Table1012[Operating_Hours])=0,\"\",SUMIF(Table1012[Concat: Company & Affected Source],K6,Table1012[Operating_Hours]))","v":""},null,null,null,{"$f":"+IF(T6=\"\",\"\",MAX(P$1:P5)+1)","v":""},{"$f":"IF(Table1012[[#This Row],[Affected_Source_List]]=\"\",\"\",Table1012[[#This Row],[Affected_Source_List]])","v":""},{"$f":"TRIM(MID(SUBSTITUTE($Q6,\" - \",REPT(\" \",999)),COLUMNS($P:P)*999-998,999))","v":""},{"$f":"TRIM(MID(SUBSTITUTE($Q6,\" - \",REPT(\" \",999)),COLUMNS($P:Q)*999-998,999))","v":""},""]
[{"$f":"+IF(K7=\"\",\"\",MAX(A$1:A6)+1)","v":""},{"$f":"+IF(J7=\"\",\"\",MAX(B$1:B6)+1)","v":""},{"$f":"IF(Process_Identification!B28=\"\",\"\",Process_Identification!B28)","v":""},{"$f":"IF(Process_Identification!C28=\"\",\"\",Process_Identification!C28)","v":""},{"$f":"IF(Process_Identification!D28=\"\",\"\",Process_Identification!D28)","v":""},{"$f":"IF(Process_Identification!E28=\"\",\"\",Process_Identification!E28)","v":""},{"$f":"IF(Process_Identification!F28=\"\",\"\",Process_Identification!F28)","v":""},"","",{"$f":"IF(COUNTIF(H$2:H7,H7)=1,H7,\"\")","v":""},"",{"$f":"IF(SUMIF(Table1012[Concat: Company & Affected Source],K7,Table1012[Operating_Hours])=0,\"\",SUMIF(Table1012[Concat: Company & Affected Source],K7,Table1012[Operating_Hours]))","v":""},null,null,null,{"$f":"+IF(T7=\"\",\"\",MAX(P$1:P6)+1)","v":""},{"$f":"IF(Table1012[[#This Row],[Affected_Source_List]]=\"\",\"\",Table1012[[#This Row],[Affected_Source_List]])","v":""},{"$f":"TRIM(MID(SUBSTITUTE($Q7,\" - \",REPT(\" \",999)),COLUMNS($P:P)*999-998,999))","v":""},{"$f":"TRIM(MID(SUBSTITUTE($Q7,\" - \",REPT(\" \",999)),COLUMNS($P:Q)*999-998,999))","v":""},""]
[{"$f":"+IF(K8=\"\",\"\",MAX(A$1:A7)+1)","v":""},{"$f":"+IF(J8=\"\",\"\",MAX(B$1:B7)+1)","v":""},{"$f":"IF(Process_Identification!B29=\"\",\"\",Process_Identification!B29)","v":""},{"$f":"IF(Process_Identification!C29=\"\",\"\",Process_Identification!C29)","v":""},{"$f":"IF(Process_Identification!D29=\"\",\"\",Process_Identification!D29)","v":""},{"$f":"IF(Process_Identification!E29=\"\",\"\",Process_Identification!E29)","v":""},{"$f":"IF(Process_Identification!F29=\"\",\"\",Process_Identification!F29)","v":""},"","",{"$f":"IF(COUNTIF(H$2:H8,H8)=1,H8,\"\")","v":""},"",{"$f":"IF(SUMIF(Table1012[Concat: Company & Affected Source],K8,Table1012[Operating_Hours])=0,\"\",SUMIF(Table1012[Concat: Company & Affected Source],K8,Table1012[Operating_Hours]))","v":""},null,null,null,{"$f":"+IF(T8=\"\",\"\",MAX(P$1:P7)+1)","v":""},{"$f":"IF(Table1012[[#This Row],[Affected_Source_List]]=\"\",\"\",Table1012[[#This Row],[Affected_Source_List]])","v":""},{"$f":"TRIM(MID(SUBSTITUTE($Q8,\" - \",REPT(\" \",999)),COLUMNS($P:P)*999-998,999))","v":""},{"$f":"TRIM(MID(SUBSTITUTE($Q8,\" - \",REPT(\" \",999)),COLUMNS($P:Q)*999-998,999))","v":""},""]
[{"$f":"+IF(K9=\"\",\"\",MAX(A$1:A8)+1)","v":""},{"$f":"+IF(J9=\"\",\"\",MAX(B$1:B8)+1)","v":""},{"$f":"IF(Process_Identification!B30=\"\",\"\",Process_Identification!B30)","v":""},{"$f":"IF(Process_Identification!C30=\"\",\"\",Process_Identification!C30)","v":""},{"$f":"IF(Process_Identification!D30=\"\",\"\",Process_Identification!D30)","v":""},{"$f":"IF(Process_Identification!E30=\"\",\"\",Process_Identification!E30)","v":""},{"$f":"IF(Process_Identification!F30=\"\",\"\",Process_Identification!F30)","v":""},"","",{"$f":"IF(COUNTIF(H$2:H9,H9)=1,H9,\"\")","v":""},"",{"$f":"IF(SUMIF(Table1012[Concat: Company & Affected Source],K9,Table1012[Operating_Hours])=0,\"\",SUMIF(Table1012[Concat: Company & Affected Source],K9,Table1012[Operating_Hours]))","v":""},null,null,null,{"$f":"+IF(T9=\"\",\"\",MAX(P$1:P8)+1)","v":""},{"$f":"IF(Table1012[[#This Row],[Affected_Source_List]]=\"\",\"\",Table1012[[#This Row],[Affected_Source_List]])","v":""},{"$f":"TRIM(MID(SUBSTITUTE($Q9,\" - \",REPT(\" \",999)),COLUMNS($P:P)*999-998,999))","v":""},{"$f":"TRIM(MID(SUBSTITUTE($Q9,\" - \",REPT(\" \",999)),COLUMNS($P:Q)*999-998,999))","v":""},""]
[{"$f":"+IF(K10=\"\",\"\",MAX(A$1:A9)+1)","v":""},{"$f":"+IF(J10=\"\",\"\",MAX(B$1:B9)+1)","v":""},{"$f":"IF(Process_Identification!B31=\"\",\"\",Process_Identification!B31)","v":""},{"$f":"IF(Process_Identification!C31=\"\",\"\",Process_Identification!C31)","v":""},{"$f":"IF(Process_Identification!D31=\"\",\"\",Process_Identification!D31)","v":""},{"$f":"IF(Process_Identification!E31=\"\",\"\",Process_Identification!E31)","v":""},{"$f":"IF(Process_Identification!F31=\"\",\"\",Process_Identification!F31)","v":""},"","",{"$f":"IF(COUNTIF(H$2:H10,H10)=1,H10,\"\")","v":""},"",{"$f":"IF(SUMIF(Table1012[Concat: Company & Affected Source],K10,Table1012[Operating_Hours])=0,\"\",SUMIF(Table1012[Concat: Company & Affected Source],K10,Table1012[Operating_Hours]))","v":""},null,null,null,{"$f":"+IF(T10=\"\",\"\",MAX(P$1:P9)+1)","v":""},{"$f":"IF(Table1012[[#This Row],[Affected_Source_List]]=\"\",\"\",Table1012[[#This Row],[Affected_Source_List]])","v":""},{"$f":"TRIM(MID(SUBSTITUTE($Q10,\" - \",REPT(\" \",999)),COLUMNS($P:P)*999-998,999))","v":""},{"$f":"TRIM(MID(SUBSTITUTE($Q10,\" - \",REPT(\" \",999)),COLUMNS($P:Q)*999-998,999))","v":""},""]
[{"$f":"+IF(K11=\"\",\"\",MAX(A$1:A10)+1)","v":""},{"$f":"+IF(J11=\"\",\"\",MAX(B$1:B10)+1)","v":""},{"$f":"IF(Process_Identification!B32=\"\",\"\",Process_Identification!B32)","v":""},{"$f":"IF(Process_Identification!C32=\"\",\"\",Process_Identification!C32)","v":""},{"$f":"IF(Process_Identification!D32=\"\",\"\",Process_Identification!D32)","v":""},{"$f":"IF(Process_Identification!E32=\"\",\"\",Process_Identification!E32)","v":""},{"$f":"IF(Process_Identification!F32=\"\",\"\",Process_Identification!F32)","v":""},"","",{"$f":"IF(COUNTIF(H$2:H11,H11)=1,H11,\"\")","v":""},"",{"$f":"IF(SUMIF(Table1012[Concat: Company & Affected Source],K11,Table1012[Operating_Hours])=0,\"\",SUMIF(Table1012[Concat: Company & Affected Source],K11,Table1012[Operating_Hours]))","v":""},null,null,null,{"$f":"+IF(T11=\"\",\"\",MAX(P$1:P10)+1)","v":""},{"$f":"IF(Table1012[[#This Row],[Affected_Source_List]]=\"\",\"\",Table1012[[#This Row],[Affected_Source_List]])","v":""},{"$f":"TRIM(MID(SUBSTITUTE($Q11,\" - \",REPT(\" \",999)),COLUMNS($P:P)*999-998,999))","v":""},{"$f":"TRIM(MID(SUBSTITUTE($Q11,\" - \",REPT(\" \",999)),COLUMNS($P:Q)*999-998,999))","v":""},""]
[{"$f":"+IF(K12=\"\",\"\",MAX(A$1:A11)+1)","v":""},{"$f":"+IF(J12=\"\",\"\",MAX(B$1:B11)+1)","v":""},{"$f":"IF(Process_Identification!B33=\"\",\"\",Process_Identification!B33)","v":""},{"$f":"IF(Process_Identification!C33=\"\",\"\",Process_Identification!C33)","v":""},{"$f":"IF(Process_Identification!D33=\"\",\"\",Process_Identification!D33)","v":""},{"$f":"IF(Process_Identification!E33=\"\",\"\",Process_Identification!E33)","v":""},{"$f":"IF(Process_Identification!F33=\"\",\"\",Process_Identification!F33)","v":""},"","",{"$f":"IF(COUNTIF(H$2:H12,H12)=1,H12,\"\")","v":""},"",{"$f":"IF(SUMIF(Table1012[Concat: Company & Affected Source],K12,Table1012[Operating_Hours])=0,\"\",SUMIF(Table1012[Concat: Company & Affected Source],K12,Table1012[Operating_Hours]))","v":""},null,null,null,{"$f":"+IF(T12=\"\",\"\",MAX(P$1:P11)+1)","v":""},{"$f":"IF(Table1012[[#This Row],[Affected_Source_List]]=\"\",\"\",Table1012[[#This Row],[Affected_Source_List]])","v":""},{"$f":"TRIM(MID(SUBSTITUTE($Q12,\" - \",REPT(\" \",999)),COLUMNS($P:P)*999-998,999))","v":""},{"$f":"TRIM(MID(SUBSTITUTE($Q12,\" - \",REPT(\" \",999)),COLUMNS($P:Q)*999-998,999))","v":""},""]
[{"$f":"+IF(K13=\"\",\"\",MAX(A$1:A12)+1)","v":""},{"$f":"+IF(J13=\"\",\"\",MAX(B$1:B12)+1)","v":""},{"$f":"IF(Process_Identification!B34=\"\",\"\",Process_Identification!B34)","v":""},{"$f":"IF(Process_Identification!C34=\"\",\"\",Process_Identification!C34)","v":""},{"$f":"IF(Process_Identification!D34=\"\",\"\",Process_Identification!D34)","v":""},{"$f":"IF(Process_Identification!E34=\"\",\"\",Process_Identification!E34)","v":""},{"$f":"IF(Process_Identification!F34=\"\",\"\",Process_Identification!F34)","v":""},"","",{"$f":"IF(COUNTIF(H$2:H13,H13)=1,H13,\"\")","v":""},"",{"$f":"IF(SUMIF(Table1012[Concat: Company & Affected Source],K13,Table1012[Operating_Hours])=0,\"\",SUMIF(Table1012[Concat: Company & Affected Source],K13,Table1012[Operating_Hours]))","v":""},null,null,null,{"$f":"+IF(T13=\"\",\"\",MAX(P$1:P12)+1)","v":""},{"$f":"IF(Table1012[[#This Row],[Affected_Source_List]]=\"\",\"\",Table1012[[#This Row],[Affected_Source_List]])","v":""},{"$f":"TRIM(MID(SUBSTITUTE($Q13,\" - \",REPT(\" \",999)),COLUMNS($P:P)*999-998,999))","v":""},{"$f":"TRIM(MID(SUBSTITUTE($Q13,\" - \",REPT(\" \",999)),COLUMNS($P:Q)*999-998,999))","v":""},""]
[{"$f":"+IF(K14=\"\",\"\",MAX(A$1:A13)+1)","v":""},{"$f":"+IF(J14=\"\",\"\",MAX(B$1:B13)+1)","v":""},{"$f":"IF(Process_Identification!B35=\"\",\"\",Process_Identification!B35)","v":""},{"$f":"IF(Process_Identification!C35=\"\",\"\",Process_Identification!C35)","v":""},{"$f":"IF(Process_Identification!D35=\"\",\"\",Process_Identification!D35)","v":""},{"$f":"IF(Process_Identification!E35=\"\",\"\",Process_Identification!E35)","v":""},{"$f":"IF(Process_Identification!F35=\"\",\"\",Process_Identification!F35)","v":""},"","",{"$f":"IF(COUNTIF(H$2:H14,H14)=1,H14,\"\")","v":""},"",{"$f":"IF(SUMIF(Table1012[Concat: Company & Affected Source],K14,Table1012[Operating_Hours])=0,\"\",SUMIF(Table1012[Concat: Company & Affected Source],K14,Table1012[Operating_Hours]))","v":""},null,null,null,{"$f":"+IF(T14=\"\",\"\",MAX(P$1:P13)+1)","v":""},{"$f":"IF(Table1012[[#This Row],[Affected_Source_List]]=\"\",\"\",Table1012[[#This Row],[Affected_Source_List]])","v":""},{"$f":"TRIM(MID(SUBSTITUTE($Q14,\" - \",REPT(\" \",999)),COLUMNS($P:P)*999-998,999))","v":""},{"$f":"TRIM(MID(SUBSTITUTE($Q14,\" - \",REPT(\" \",999)),COLUMNS($P:Q)*999-998,999))","v":""},""]
[{"$f":"+IF(K15=\"\",\"\",MAX(A$1:A14)+1)","v":""},{"$f":"+IF(J15=\"\",\"\",MAX(B$1:B14)+1)","v":""},{"$f":"IF(Process_Identification!B36=\"\",\"\",Process_Identification!B36)","v":""},{"$f":"IF(Process_Identification!C36=\"\",\"\",Process_Identification!C36)","v":""},{"$f":"IF(Process_Identification!D36=\"\",\"\",Process_Identification!D36)","v":""},{"$f":"IF(Process_Identification!E36=\"\",\"\",Process_Identification!E36)","v":""},{"$f":"IF(Process_Identification!F36=\"\",\"\",Process_Identification!F36)","v":""},"","",{"$f":"IF(COUNTIF(H$2:H15,H15)=1,H15,\"\")","v":""},"",{"$f":"IF(SUMIF(Table1012[Concat: Company & Affected Source],K15,Table1012[Operating_Hours])=0,\"\",SUMIF(Table1012[Concat: Company & Affected Source],K15,Table1012[Operating_Hours]))","v":""},null,null,null,{"$f":"+IF(T15=\"\",\"\",MAX(P$1:P14)+1)","v":""},{"$f":"IF(Table1012[[#This Row],[Affected_Source_List]]=\"\",\"\",Table1012[[#This Row],[Affected_Source_List]])","v":""},{"$f":"TRIM(MID(SUBSTITUTE($Q15,\" - \",REPT(\" \",999)),COLUMNS($P:P)*999-998,999))","v":""},{"$f":"TRIM(MID(SUBSTITUTE($Q15,\" - \",REPT(\" \",999)),COLUMNS($P:Q)*999-998,999))","v":""},""]
[{"$f":"+IF(K16=\"\",\"\",MAX(A$1:A15)+1)","v":""},{"$f":"+IF(J16=\"\",\"\",MAX(B$1:B15)+1)","v":""},{"$f":"IF(Process_Identification!B37=\"\",\"\",Process_Identification!B37)","v":""},{"$f":"IF(Process_Identification!C37=\"\",\"\",Process_Identification!C37)","v":""},{"$f":"IF(Process_Identification!D37=\"\",\"\",Process_Identification!D37)","v":""},{"$f":"IF(Process_Identification!E37=\"\",\"\",Process_Identification!E37)","v":""},{"$f":"IF(Process_Identification!F37=\"\",\"\",Process_Identification!F37)","v":""},"","",{"$f":"IF(COUNTIF(H$2:H16,H16)=1,H16,\"\")","v":""},"",{"$f":"IF(SUMIF(Table1012[Concat: Company & Affected Source],K16,Table1012[Operating_Hours])=0,\"\",SUMIF(Table1012[Concat: Company & Affected Source],K16,Table1012[Operating_Hours]))","v":""},null,null,null,{"$f":"+IF(T16=\"\",\"\",MAX(P$1:P15)+1)","v":""},{"$f":"IF(Table1012[[#This Row],[Affected_Source_List]]=\"\",\"\",Table1012[[#This Row],[Affected_Source_List]])","v":""},{"$f":"TRIM(MID(SUBSTITUTE($Q16,\" - \",REPT(\" \",999)),COLUMNS($P:P)*999-998,999))","v":""},{"$f":"TRIM(MID(SUBSTITUTE($Q16,\" - \",REPT(\" \",999)),COLUMNS($P:Q)*999-998,999))","v":""},""]
[{"$f":"+IF(K17=\"\",\"\",MAX(A$1:A16)+1)","v":""},{"$f":"+IF(J17=\"\",\"\",MAX(B$1:B16)+1)","v":""},{"$f":"IF(Process_Identification!B38=\"\",\"\",Process_Identification!B38)","v":""},{"$f":"IF(Process_Identification!C38=\"\",\"\",Process_Identification!C38)","v":""},{"$f":"IF(Process_Identification!D38=\"\",\"\",Process_Identification!D38)","v":""},{"$f":"IF(Process_Identification!E38=\"\",\"\",Process_Identification!E38)","v":""},{"$f":"IF(Process_Identification!F38=\"\",\"\",Process_Identification!F38)","v":""},"","",{"$f":"IF(COUNTIF(H$2:H17,H17)=1,H17,\"\")","v":""},"",{"$f":"IF(SUMIF(Table1012[Concat: Company & Affected Source],K17,Table1012[Operating_Hours])=0,\"\",SUMIF(Table1012[Concat: Company & Affected Source],K17,Table1012[Operating_Hours]))","v":""},null,null,null,{"$f":"+IF(T17=\"\",\"\",MAX(P$1:P16)+1)","v":""},{"$f":"IF(Table1012[[#This Row],[Affected_Source_List]]=\"\",\"\",Table1012[[#This Row],[Affected_Source_List]])","v":""},{"$f":"TRIM(MID(SUBSTITUTE($Q17,\" - \",REPT(\" \",999)),COLUMNS($P:P)*999-998,999))","v":""},{"$f":"TRIM(MID(SUBSTITUTE($Q17,\" - \",REPT(\" \",999)),COLUMNS($P:Q)*999-998,999))","v":""},""]
[{"$f":"+IF(K18=\"\",\"\",MAX(A$1:A17)+1)","v":""},{"$f":"+IF(J18=\"\",\"\",MAX(B$1:B17)+1)","v":""},{"$f":"IF(Process_Identification!B39=\"\",\"\",Process_Identification!B39)","v":""},{"$f":"IF(Process_Identification!C39=\"\",\"\",Process_Identification!C39)","v":""},{"$f":"IF(Process_Identification!D39=\"\",\"\",Process_Identification!D39)","v":""},{"$f":"IF(Process_Identification!E39=\"\",\"\",Process_Identification!E39)","v":""},{"$f":"IF(Process_Identification!F39=\"\",\"\",Process_Identification!F39)","v":""},"","",{"$f":"IF(COUNTIF(H$2:H18,H18)=1,H18,\"\")","v":""},"",{"$f":"IF(SUMIF(Table1012[Concat: Company & Affected Source],K18,Table1012[Operating_Hours])=0,\"\",SUMIF(Table1012[Concat: Company & Affected Source],K18,Table1012[Operating_Hours]))","v":""},null,null,null,{"$f":"+IF(T18=\"\",\"\",MAX(P$1:P17)+1)","v":""},{"$f":"IF(Table1012[[#This Row],[Affected_Source_List]]=\"\",\"\",Table1012[[#This Row],[Affected_Source_List]])","v":""},{"$f":"TRIM(MID(SUBSTITUTE($Q18,\" - \",REPT(\" \",999)),COLUMNS($P:P)*999-998,999))","v":""},{"$f":"TRIM(MID(SUBSTITUTE($Q18,\" - \",REPT(\" \",999)),COLUMNS($P:Q)*999-998,999))","v":""},""]
[{"$f":"+IF(K19=\"\",\"\",MAX(A$1:A18)+1)","v":""},{"$f":"+IF(J19=\"\",\"\",MAX(B$1:B18)+1)","v":""},{"$f":"IF(Process_Identification!B40=\"\",\"\",Process_Identification!B40)","v":""},{"$f":"IF(Process_Identification!C40=\"\",\"\",Process_Identification!C40)","v":""},{"$f":"IF(Process_Identification!D40=\"\",\"\",Process_Identification!D40)","v":""},{"$f":"IF(Process_Identification!E40=\"\",\"\",Process_Identification!E40)","v":""},{"$f":"IF(Process_Identification!F40=\"\",\"\",Process_Identification!F40)","v":""},"","",{"$f":"IF(COUNTIF(H$2:H19,H19)=1,H19,\"\")","v":""},"",{"$f":"IF(SUMIF(Table1012[Concat: Company & Affected Source],K19,Table1012[Operating_Hours])=0,\"\",SUMIF(Table1012[Concat: Company & Affected Source],K19,Table1012[Operating_Hours]))","v":""},null,null,null,{"$f":"+IF(T19=\"\",\"\",MAX(P$1:P18)+1)","v":""},{"$f":"IF(Table1012[[#This Row],[Affected_Source_List]]=\"\",\"\",Table1012[[#This Row],[Affected_Source_List]])","v":""},{"$f":"TRIM(MID(SUBSTITUTE($Q19,\" - \",REPT(\" \",999)),COLUMNS($P:P)*999-998,999))","v":""},{"$f":"TRIM(MID(SUBSTITUTE($Q19,\" - \",REPT(\" \",999)),COLUMNS($P:Q)*999-998,999))","v":""},""]
[{"$f":"+IF(K20=\"\",\"\",MAX(A$1:A19)+1)","v":""},{"$f":"+IF(J20=\"\",\"\",MAX(B$1:B19)+1)","v":""},{"$f":"IF(Process_Identification!B41=\"\",\"\",Process_Identification!B41)","v":""},{"$f":"IF(Process_Identification!C41=\"\",\"\",Process_Identification!C41)","v":""},{"$f":"IF(Process_Identification!D41=\"\",\"\",Process_Identification!D41)","v":""},{"$f":"IF(Process_Identification!E41=\"\",\"\",Process_Identification!E41)","v":""},{"$f":"IF(Process_Identification!F41=\"\",\"\",Process_Identification!F41)","v":""},"","",{"$f":"IF(COUNTIF(H$2:H20,H20)=1,H20,\"\")","v":""},"",{"$f":"IF(SUMIF(Table1012[Concat: Company & Affected Source],K20,Table1012[Operating_Hours])=0,\"\",SUMIF(Table1012[Concat: Company & Affected Source],K20,Table1012[Operating_Hours]))","v":""},null,null,null,{"$f":"+IF(T20=\"\",\"\",MAX(P$1:P19)+1)","v":""},{"$f":"IF(Table1012[[#This Row],[Affected_Source_List]]=\"\",\"\",Table1012[[#This Row],[Affected_Source_List]])","v":""},{"$f":"TRIM(MID(SUBSTITUTE($Q20,\" - \",REPT(\" \",999)),COLUMNS($P:P)*999-998,999))","v":""},{"$f":"TRIM(MID(SUBSTITUTE($Q20,\" - \",REPT(\" \",999)),COLUMNS($P:Q)*999-998,999))","v":""},""]
[{"$f":"+IF(K21=\"\",\"\",MAX(A$1:A20)+1)","v":""},{"$f":"+IF(J21=\"\",\"\",MAX(B$1:B20)+1)","v":""},{"$f":"IF(Process_Identification!B42=\"\",\"\",Process_Identification!B42)","v":""},{"$f":"IF(Process_Identification!C42=\"\",\"\",Process_Identification!C42)","v":""},{"$f":"IF(Process_Identification!D42=\"\",\"\",Process_Identification!D42)","v":""},{"$f":"IF(Process_Identification!E42=\"\",\"\",Process_Identification!E42)","v":""},{"$f":"IF(Process_Identification!F42=\"\",\"\",Process_Identification!F42)","v":""},"","",{"$f":"IF(COUNTIF(H$2:H21,H21)=1,H21,\"\")","v":""},"",{"$f":"IF(SUMIF(Table1012[Concat: Company & Affected Source],K21,Table1012[Operating_Hours])=0,\"\",SUMIF(Table1012[Concat: Company & Affected Source],K21,Table1012[Operating_Hours]))","v":""},null,null,null,{"$f":"+IF(T21=\"\",\"\",MAX(P$1:P20)+1)","v":""},{"$f":"IF(Table1012[[#This Row],[Affected_Source_List]]=\"\",\"\",Table1012[[#This Row],[Affected_Source_List]])","v":""},{"$f":"TRIM(MID(SUBSTITUTE($Q21,\" - \",REPT(\" \",999)),COLUMNS($P:P)*999-998,999))","v":""},{"$f":"TRIM(MID(SUBSTITUTE($Q21,\" - \",REPT(\" \",999)),COLUMNS($P:Q)*999-998,999))","v":""},""]
[{"$f":"+IF(K22=\"\",\"\",MAX(A$1:A21)+1)","v":""},{"$f":"+IF(J22=\"\",\"\",MAX(B$1:B21)+1)","v":""},{"$f":"IF(Process_Identification!B43=\"\",\"\",Process_Identification!B43)","v":""},{"$f":"IF(Process_Identification!C43=\"\",\"\",Process_Identification!C43)","v":""},{"$f":"IF(Process_Identification!D43=\"\",\"\",Process_Identification!D43)","v":""},{"$f":"IF(Process_Identification!E43=\"\",\"\",Process_Identification!E43)","v":""},{"$f":"IF(Process_Identification!F43=\"\",\"\",Process_Identification!F43)","v":""},"","",{"$f":"IF(COUNTIF(H$2:H22,H22)=1,H22,\"\")","v":""},"",{"$f":"IF(SUMIF(Table1012[Concat: Company & Affected Source],K22,Table1012[Operating_Hours])=0,\"\",SUMIF(Table1012[Concat: Company & Affected Source],K22,Table1012[Operating_Hours]))","v":""},null,null,null,{"$f":"+IF(T22=\"\",\"\",MAX(P$1:P21)+1)","v":""},{"$f":"IF(Table1012[[#This Row],[Affected_Source_List]]=\"\",\"\",Table1012[[#This Row],[Affected_Source_List]])","v":""},{"$f":"TRIM(MID(SUBSTITUTE($Q22,\" - \",REPT(\" \",999)),COLUMNS($P:P)*999-998,999))","v":""},{"$f":"TRIM(MID(SUBSTITUTE($Q22,\" - \",REPT(\" \",999)),COLUMNS($P:Q)*999-998,999))","v":""},""]
[{"$f":"+IF(K23=\"\",\"\",MAX(A$1:A22)+1)","v":""},{"$f":"+IF(J23=\"\",\"\",MAX(B$1:B22)+1)","v":""},{"$f":"IF(Process_Identification!B44=\"\",\"\",Process_Identification!B44)","v":""},{"$f":"IF(Process_Identification!C44=\"\",\"\",Process_Identification!C44)","v":""},{"$f":"IF(Process_Identification!D44=\"\",\"\",Process_Identification!D44)","v":""},{"$f":"IF(Process_Identification!E44=\"\",\"\",Process_Identification!E44)","v":""},{"$f":"IF(Process_Identification!F44=\"\",\"\",Process_Identification!F44)","v":""},"","",{"$f":"IF(COUNTIF(H$2:H23,H23)=1,H23,\"\")","v":""},"",{"$f":"IF(SUMIF(Table1012[Concat: Company & Affected Source],K23,Table1012[Operating_Hours])=0,\"\",SUMIF(Table1012[Concat: Company & Affected Source],K23,Table1012[Operating_Hours]))","v":""},null,null,null,{"$f":"+IF(T23=\"\",\"\",MAX(P$1:P22)+1)","v":""},{"$f":"IF(Table1012[[#This Row],[Affected_Source_List]]=\"\",\"\",Table1012[[#This Row],[Affected_Source_List]])","v":""},{"$f":"TRIM(MID(SUBSTITUTE($Q23,\" - \",REPT(\" \",999)),COLUMNS($P:P)*999-998,999))","v":""},{"$f":"TRIM(MID(SUBSTITUTE($Q23,\" - \",REPT(\" \",999)),COLUMNS($P:Q)*999-998,999))","v":""},""]
[{"$f":"+IF(K24=\"\",\"\",MAX(A$1:A23)+1)","v":""},{"$f":"+IF(J24=\"\",\"\",MAX(B$1:B23)+1)","v":""},{"$f":"IF(Process_Identification!B45=\"\",\"\",Process_Identification!B45)","v":""},{"$f":"IF(Process_Identification!C45=\"\",\"\",Process_Identification!C45)","v":""},{"$f":"IF(Process_Identification!D45=\"\",\"\",Process_Identification!D45)","v":""},{"$f":"IF(Process_Identification!E45=\"\",\"\",Process_Identification!E45)","v":""},{"$f":"IF(Process_Identification!F45=\"\",\"\",Process_Identification!F45)","v":""},"","",{"$f":"IF(COUNTIF(H$2:H24,H24)=1,H24,\"\")","v":""},"",{"$f":"IF(SUMIF(Table1012[Concat: Company & Affected Source],K24,Table1012[Operating_Hours])=0,\"\",SUMIF(Table1012[Concat: Company & Affected Source],K24,Table1012[Operating_Hours]))","v":""},null,null,null,{"$f":"+IF(T24=\"\",\"\",MAX(P$1:P23)+1)","v":""},{"$f":"IF(Table1012[[#This Row],[Affected_Source_List]]=\"\",\"\",Table1012[[#This Row],[Affected_Source_List]])","v":""},{"$f":"TRIM(MID(SUBSTITUTE($Q24,\" - \",REPT(\" \",999)),COLUMNS($P:P)*999-998,999))","v":""},{"$f":"TRIM(MID(SUBSTITUTE($Q24,\" - \",REPT(\" \",999)),COLUMNS($P:Q)*999-998,999))","v":""},""]
[{"$f":"+IF(K25=\"\",\"\",MAX(A$1:A24)+1)","v":""},{"$f":"+IF(J25=\"\",\"\",MAX(B$1:B24)+1)","v":""},{"$f":"IF(Process_Identification!B46=\"\",\"\",Process_Identification!B46)","v":""},{"$f":"IF(Process_Identification!C46=\"\",\"\",Process_Identification!C46)","v":""},{"$f":"IF(Process_Identification!D46=\"\",\"\",Process_Identification!D46)","v":""},{"$f":"IF(Process_Identification!E46=\"\",\"\",Process_Identification!E46)","v":""},{"$f":"IF(Process_Identification!F46=\"\",\"\",Process_Identification!F46)","v":""},"","",{"$f":"IF(COUNTIF(H$2:H25,H25)=1,H25,\"\")","v":""},"",{"$f":"IF(SUMIF(Table1012[Concat: Company & Affected Source],K25,Table1012[Operating_Hours])=0,\"\",SUMIF(Table1012[Concat: Company & Affected Source],K25,Table1012[Operating_Hours]))","v":""},null,null,null,{"$f":"+IF(T25=\"\",\"\",MAX(P$1:P24)+1)","v":""},{"$f":"IF(Table1012[[#This Row],[Affected_Source_List]]=\"\",\"\",Table1012[[#This Row],[Affected_Source_List]])","v":""},{"$f":"TRIM(MID(SUBSTITUTE($Q25,\" - \",REPT(\" \",999)),COLUMNS($P:P)*999-998,999))","v":""},{"$f":"TRIM(MID(SUBSTITUTE($Q25,\" - \",REPT(\" \",999)),COLUMNS($P:Q)*999-998,999))","v":""},""]
[{"$f":"+IF(K26=\"\",\"\",MAX(A$1:A25)+1)","v":""},{"$f":"+IF(J26=\"\",\"\",MAX(B$1:B25)+1)","v":""},{"$f":"IF(Process_Identification!B47=\"\",\"\",Process_Identification!B47)","v":""},{"$f":"IF(Process_Identification!C47=\"\",\"\",Process_Identification!C47)","v":""},{"$f":"IF(Process_Identification!D47=\"\",\"\",Process_Identification!D47)","v":""},{"$f":"IF(Process_Identification!E47=\"\",\"\",Process_Identification!E47)","v":""},{"$f":"IF(Process_Identification!F47=\"\",\"\",Process_Identification!F47)","v":""},"","",{"$f":"IF(COUNTIF(H$2:H26,H26)=1,H26,\"\")","v":""},"",{"$f":"IF(SUMIF(Table1012[Concat: Company & Affected Source],K26,Table1012[Operating_Hours])=0,\"\",SUMIF(Table1012[Concat: Company & Affected Source],K26,Table1012[Operating_Hours]))","v":""},null,null,null,{"$f":"+IF(T26=\"\",\"\",MAX(P$1:P25)+1)","v":""},{"$f":"IF(Table1012[[#This Row],[Affected_Source_List]]=\"\",\"\",Table1012[[#This Row],[Affected_Source_List]])","v":""},{"$f":"TRIM(MID(SUBSTITUTE($Q26,\" - \",REPT(\" \",999)),COLUMNS($P:P)*999-998,999))","v":""},{"$f":"TRIM(MID(SUBSTITUTE($Q26,\" - \",REPT(\" \",999)),COLUMNS($P:Q)*999-998,999))","v":""},""]
[{"$f":"+IF(K27=\"\",\"\",MAX(A$1:A26)+1)","v":""},{"$f":"+IF(J27=\"\",\"\",MAX(B$1:B26)+1)","v":""},{"$f":"IF(Process_Identification!B48=\"\",\"\",Process_Identification!B48)","v":""},{"$f":"IF(Process_Identification!C48=\"\",\"\",Process_Identification!C48)","v":""},{"$f":"IF(Process_Identification!D48=\"\",\"\",Process_Identification!D48)","v":""},{"$f":"IF(Process_Identification!E48=\"\",\"\",Process_Identification!E48)","v":""},{"$f":"IF(Process_Identification!F48=\"\",\"\",Process_Identification!F48)","v":""},"","",{"$f":"IF(COUNTIF(H$2:H27,H27)=1,H27,\"\")","v":""},"",{"$f":"IF(SUMIF(Table1012[Concat: Company & Affected Source],K27,Table1012[Operating_Hours])=0,\"\",SUMIF(Table1012[Concat: Company & Affected Source],K27,Table1012[Operating_Hours]))","v":""},null,null,null,{"$f":"+IF(T27=\"\",\"\",MAX(P$1:P26)+1)","v":""},{"$f":"IF(Table1012[[#This Row],[Affected_Source_List]]=\"\",\"\",Table1012[[#This Row],[Affected_Source_List]])","v":""},{"$f":"TRIM(MID(SUBSTITUTE($Q27,\" - \",REPT(\" \",999)),COLUMNS($P:P)*999-998,999))","v":""},{"$f":"TRIM(MID(SUBSTITUTE($Q27,\" - \",REPT(\" \",999)),COLUMNS($P:Q)*999-998,999))","v":""},""]
[{"$f":"+IF(K28=\"\",\"\",MAX(A$1:A27)+1)","v":""},{"$f":"+IF(J28=\"\",\"\",MAX(B$1:B27)+1)","v":""},{"$f":"IF(Process_Identification!B49=\"\",\"\",Process_Identification!B49)","v":""},{"$f":"IF(Process_Identification!C49=\"\",\"\",Process_Identification!C49)","v":""},{"$f":"IF(Process_Identification!D49=\"\",\"\",Process_Identification!D49)","v":""},{"$f":"IF(Process_Identification!E49=\"\",\"\",Process_Identification!E49)","v":""},{"$f":"IF(Process_Identification!F49=\"\",\"\",Process_Identification!F49)","v":""},"","",{"$f":"IF(COUNTIF(H$2:H28,H28)=1,H28,\"\")","v":""},"",{"$f":"IF(SUMIF(Table1012[Concat: Company & Affected Source],K28,Table1012[Operating_Hours])=0,\"\",SUMIF(Table1012[Concat: Company & Affected Source],K28,Table1012[Operating_Hours]))","v":""},null,null,null,{"$f":"+IF(T28=\"\",\"\",MAX(P$1:P27)+1)","v":""},{"$f":"IF(Table1012[[#This Row],[Affected_Source_List]]=\"\",\"\",Table1012[[#This Row],[Affected_Source_List]])","v":""},{"$f":"TRIM(MID(SUBSTITUTE($Q28,\" - \",REPT(\" \",999)),COLUMNS($P:P)*999-998,999))","v":""},{"$f":"TRIM(MID(SUBSTITUTE($Q28,\" - \",REPT(\" \",999)),COLUMNS($P:Q)*999-998,999))","v":""},""]
[{"$f":"+IF(K29=\"\",\"\",MAX(A$1:A28)+1)","v":""},{"$f":"+IF(J29=\"\",\"\",MAX(B$1:B28)+1)","v":""},{"$f":"IF(Process_Identification!B50=\"\",\"\",Process_Identification!B50)","v":""},{"$f":"IF(Process_Identification!C50=\"\",\"\",Process_Identification!C50)","v":""},{"$f":"IF(Process_Identification!D50=\"\",\"\",Process_Identification!D50)","v":""},{"$f":"IF(Process_Identification!E50=\"\",\"\",Process_Identification!E50)","v":""},{"$f":"IF(Process_Identification!F50=\"\",\"\",Process_Identification!F50)","v":""},"","",{"$f":"IF(COUNTIF(H$2:H29,H29)=1,H29,\"\")","v":""},"",{"$f":"IF(SUMIF(Table1012[Concat: Company & Affected Source],K29,Table1012[Operating_Hours])=0,\"\",SUMIF(Table1012[Concat: Company & Affected Source],K29,Table1012[Operating_Hours]))","v":""},null,null,null,{"$f":"+IF(T29=\"\",\"\",MAX(P$1:P28)+1)","v":""},{"$f":"IF(Table1012[[#This Row],[Affected_Source_List]]=\"\",\"\",Table1012[[#This Row],[Affected_Source_List]])","v":""},{"$f":"TRIM(MID(SUBSTITUTE($Q29,\" - \",REPT(\" \",999)),COLUMNS($P:P)*999-998,999))","v":""},{"$f":"TRIM(MID(SUBSTITUTE($Q29,\" - \",REPT(\" \",999)),COLUMNS($P:Q)*999-998,999))","v":""},""]
[{"$f":"+IF(K30=\"\",\"\",MAX(A$1:A29)+1)","v":""},{"$f":"+IF(J30=\"\",\"\",MAX(B$1:B29)+1)","v":""},{"$f":"IF(Process_Identification!B51=\"\",\"\",Process_Identification!B51)","v":""},{"$f":"IF(Process_Identification!C51=\"\",\"\",Process_Identification!C51)","v":""},{"$f":"IF(Process_Identification!D51=\"\",\"\",Process_Identification!D51)","v":""},{"$f":"IF(Process_Identification!E51=\"\",\"\",Process_Identification!E51)","v":""},{"$f":"IF(Process_Identification!F51=\"\",\"\",Process_Identification!F51)","v":""},"","",{"$f":"IF(COUNTIF(H$2:H30,H30)=1,H30,\"\")","v":""},"",{"$f":"IF(SUMIF(Table1012[Concat: Company & Affected Source],K30,Table1012[Operating_Hours])=0,\"\",SUMIF(Table1012[Concat: Company & Affected Source],K30,Table1012[Operating_Hours]))","v":""},null,null,null,{"$f":"+IF(T30=\"\",\"\",MAX(P$1:P29)+1)","v":""},{"$f":"IF(Table1012[[#This Row],[Affected_Source_List]]=\"\",\"\",Table1012[[#This Row],[Affected_Source_List]])","v":""},{"$f":"TRIM(MID(SUBSTITUTE($Q30,\" - \",REPT(\" \",999)),COLUMNS($P:P)*999-998,999))","v":""},{"$f":"TRIM(MID(SUBSTITUTE($Q30,\" - \",REPT(\" \",999)),COLUMNS($P:Q)*999-998,999))","v":""},""]
[{"$f":"+IF(K31=\"\",\"\",MAX(A$1:A30)+1)","v":""},{"$f":"+IF(J31=\"\",\"\",MAX(B$1:B30)+1)","v":""},{"$f":"IF(Process_Identification!B52=\"\",\"\",Process_Identification!B52)","v":""},{"$f":"IF(Process_Identification!C52=\"\",\"\",Process_Identification!C52)","v":""},{"$f":"IF(Process_Identification!D52=\"\",\"\",Process_Identification!D52)","v":""},{"$f":"IF(Process_Identification!E52=\"\",\"\",Process_Identification!E52)","v":""},{"$f":"IF(Process_Identification!F52=\"\",\"\",Process_Identification!F52)","v":""},"","",{"$f":"IF(COUNTIF(H$2:H31,H31)=1,H31,\"\")","v":""},"",{"$f":"IF(SUMIF(Table1012[Concat: Company & Affected Source],K31,Table1012[Operating_Hours])=0,\"\",SUMIF(Table1012[Concat: Company & Affected Source],K31,Table1012[Operating_Hours]))","v":""},null,null,null,{"$f":"+IF(T31=\"\",\"\",MAX(P$1:P30)+1)","v":""},{"$f":"IF(Table1012[[#This Row],[Affected_Source_List]]=\"\",\"\",Table1012[[#This Row],[Affected_Source_List]])","v":""},{"$f":"TRIM(MID(SUBSTITUTE($Q31,\" - \",REPT(\" \",999)),COLUMNS($P:P)*999-998,999))","v":""},{"$f":"TRIM(MID(SUBSTITUTE($Q31,\" - \",REPT(\" \",999)),COLUMNS($P:Q)*999-998,999))","v":""},""]
[{"$f":"+IF(K32=\"\",\"\",MAX(A$1:A31)+1)","v":""},{"$f":"+IF(J32=\"\",\"\",MAX(B$1:B31)+1)","v":""},{"$f":"IF(Process_Identification!B53=\"\",\"\",Process_Identification!B53)","v":""},{"$f":"IF(Process_Identification!C53=\"\",\"\",Process_Identification!C53)","v":""},{"$f":"IF(Process_Identification!D53=\"\",\"\",Process_Identification!D53)","v":""},{"$f":"IF(Process_Identification!E53=\"\",\"\",Process_Identification!E53)","v":""},{"$f":"IF(Process_Identification!F53=\"\",\"\",Process_Identification!F53)","v":""},"","",{"$f":"IF(COUNTIF(H$2:H32,H32)=1,H32,\"\")","v":""},"",{"$f":"IF(SUMIF(Table1012[Concat: Company & Affected Source],K32,Table1012[Operating_Hours])=0,\"\",SUMIF(Table1012[Concat: Company & Affected Source],K32,Table1012[Operating_Hours]))","v":""},null,null,null,{"$f":"+IF(T32=\"\",\"\",MAX(P$1:P31)+1)","v":""},{"$f":"IF(Table1012[[#This Row],[Affected_Source_List]]=\"\",\"\",Table1012[[#This Row],[Affected_Source_List]])","v":""},{"$f":"TRIM(MID(SUBSTITUTE($Q32,\" - \",REPT(\" \",999)),COLUMNS($P:P)*999-998,999))","v":""},{"$f":"TRIM(MID(SUBSTITUTE($Q32,\" - \",REPT(\" \",999)),COLUMNS($P:Q)*999-998,999))","v":""},""]
[{"$f":"+IF(K33=\"\",\"\",MAX(A$1:A32)+1)","v":""},{"$f":"+IF(J33=\"\",\"\",MAX(B$1:B32)+1)","v":""},{"$f":"IF(Process_Identification!B54=\"\",\"\",Process_Identification!B54)","v":""},{"$f":"IF(Process_Identification!C54=\"\",\"\",Process_Identification!C54)","v":""},{"$f":"IF(Process_Identification!D54=\"\",\"\",Process_Identification!D54)","v":""},{"$f":"IF(Process_Identification!E54=\"\",\"\",Process_Identification!E54)","v":""},{"$f":"IF(Process_Identification!F54=\"\",\"\",Process_Identification!F54)","v":""},"","",{"$f":"IF(COUNTIF(H$2:H33,H33)=1,H33,\"\")","v":""},"",{"$f":"IF(SUMIF(Table1012[Concat: Company & Affected Source],K33,Table1012[Operating_Hours])=0,\"\",SUMIF(Table1012[Concat: Company & Affected Source],K33,Table1012[Operating_Hours]))","v":""},null,null,null,{"$f":"+IF(T33=\"\",\"\",MAX(P$1:P32)+1)","v":""},{"$f":"IF(Table1012[[#This Row],[Affected_Source_List]]=\"\",\"\",Table1012[[#This Row],[Affected_Source_List]])","v":""},{"$f":"TRIM(MID(SUBSTITUTE($Q33,\" - \",REPT(\" \",999)),COLUMNS($P:P)*999-998,999))","v":""},{"$f":"TRIM(MID(SUBSTITUTE($Q33,\" - \",REPT(\" \",999)),COLUMNS($P:Q)*999-998,999))","v":""},""]
[{"$f":"+IF(K34=\"\",\"\",MAX(A$1:A33)+1)","v":""},{"$f":"+IF(J34=\"\",\"\",MAX(B$1:B33)+1)","v":""},{"$f":"IF(Process_Identification!B55=\"\",\"\",Process_Identification!B55)","v":""},{"$f":"IF(Process_Identification!C55=\"\",\"\",Process_Identification!C55)","v":""},{"$f":"IF(Process_Identification!D55=\"\",\"\",Process_Identification!D55)","v":""},{"$f":"IF(Process_Identification!E55=\"\",\"\",Process_Identification!E55)","v":""},{"$f":"IF(Process_Identification!F55=\"\",\"\",Process_Identification!F55)","v":""},"","",{"$f":"IF(COUNTIF(H$2:H34,H34)=1,H34,\"\")","v":""},"",{"$f":"IF(SUMIF(Table1012[Concat: Company & Affected Source],K34,Table1012[Operating_Hours])=0,\"\",SUMIF(Table1012[Concat: Company & Affected Source],K34,Table1012[Operating_Hours]))","v":""},null,null,null,{"$f":"+IF(T34=\"\",\"\",MAX(P$1:P33)+1)","v":""},{"$f":"IF(Table1012[[#This Row],[Affected_Source_List]]=\"\",\"\",Table1012[[#This Row],[Affected_Source_List]])","v":""},{"$f":"TRIM(MID(SUBSTITUTE($Q34,\" - \",REPT(\" \",999)),COLUMNS($P:P)*999-998,999))","v":""},{"$f":"TRIM(MID(SUBSTITUTE($Q34,\" - \",REPT(\" \",999)),COLUMNS($P:Q)*999-998,999))","v":""},""]
[{"$f":"+IF(K35=\"\",\"\",MAX(A$1:A34)+1)","v":""},{"$f":"+IF(J35=\"\",\"\",MAX(B$1:B34)+1)","v":""},{"$f":"IF(Process_Identification!B56=\"\",\"\",Process_Identification!B56)","v":""},{"$f":"IF(Process_Identification!C56=\"\",\"\",Process_Identification!C56)","v":""},{"$f":"IF(Process_Identification!D56=\"\",\"\",Process_Identification!D56)","v":""},{"$f":"IF(Process_Identification!E56=\"\",\"\",Process_Identification!E56)","v":""},{"$f":"IF(Process_Identification!F56=\"\",\"\",Process_Identification!F56)","v":""},"","",{"$f":"IF(COUNTIF(H$2:H35,H35)=1,H35,\"\")","v":""},{"$f":"+IFERROR(INDEX($J$2:$J$101,MATCH(ROW()-ROW($K$2),$B$2:$B$100,0)),\"\")","v":""},{"$f":"IF(SUMIF(Table1012[Concat: Company & Affected Source],K35,Table1012[Operating_Hours])=0,\"\",SUMIF(Table1012[Concat: Company & Affected Source],K35,Table1012[Operating_Hours]))","v":""},null,null,null,{"$f":"+IF(T35=\"\",\"\",MAX(P$1:P34)+1)","v":""},{"$f":"IF(Table1012[[#This Row],[Affected_Source_List]]=\"\",\"\",Table1012[[#This Row],[Affected_Source_List]])","v":""},{"$f":"TRIM(MID(SUBSTITUTE($Q35,\" - \",REPT(\" \",999)),COLUMNS($P:P)*999-998,999))","v":""},{"$f":"TRIM(MID(SUBSTITUTE($Q35,\" - \",REPT(\" \",999)),COLUMNS($P:Q)*999-998,999))","v":""},""]
[{"$f":"+IF(K36=\"\",\"\",MAX(A$1:A35)+1)","v":""},{"$f":"+IF(J36=\"\",\"\",MAX(B$1:B35)+1)","v":""},{"$f":"IF(Process_Identification!B57=\"\",\"\",Process_Identification!B57)","v":""},{"$f":"IF(Process_Identification!C57=\"\",\"\",Process_Identification!C57)","v":""},{"$f":"IF(Process_Identification!D57=\"\",\"\",Process_Identification!D57)","v":""},{"$f":"IF(Process_Identification!E57=\"\",\"\",Process_Identification!E57)","v":""},{"$f":"IF(Process_Identification!F57=\"\",\"\",Process_Identification!F57)","v":""},"","",{"$f":"IF(COUNTIF(H$2:H36,H36)=1,H36,\"\")","v":""},"",{"$f":"IF(SUMIF(Table1012[Concat: Company & Affected Source],K36,Table1012[Operating_Hours])=0,\"\",SUMIF(Table1012[Concat: Company & Affected Source],K36,Table1012[Operating_Hours]))","v":""},null,null,null,{"$f":"+IF(T36=\"\",\"\",MAX(P$1:P35)+1)","v":""},{"$f":"IF(Table1012[[#This Row],[Affected_Source_List]]=\"\",\"\",Table1012[[#This Row],[Affected_Source_List]])","v":""},{"$f":"TRIM(MID(SUBSTITUTE($Q36,\" - \",REPT(\" \",999)),COLUMNS($P:P)*999-998,999))","v":""},{"$f":"TRIM(MID(SUBSTITUTE($Q36,\" - \",REPT(\" \",999)),COLUMNS($P:Q)*999-998,999))","v":""},""]
[{"$f":"+IF(K37=\"\",\"\",MAX(A$1:A36)+1)","v":""},{"$f":"+IF(J37=\"\",\"\",MAX(B$1:B36)+1)","v":""},{"$f":"IF(Process_Identification!B58=\"\",\"\",Process_Identification!B58)","v":""},{"$f":"IF(Process_Identification!C58=\"\",\"\",Process_Identification!C58)","v":""},{"$f":"IF(Process_Identification!D58=\"\",\"\",Process_Identification!D58)","v":""},{"$f":"IF(Process_Identification!E58=\"\",\"\",Process_Identification!E58)","v":""},{"$f":"IF(Process_Identification!F58=\"\",\"\",Process_Identification!F58)","v":""},"","",{"$f":"IF(COUNTIF(H$2:H37,H37)=1,H37,\"\")","v":""},"",{"$f":"IF(SUMIF(Table1012[Concat: Company & Affected Source],K37,Table1012[Operating_Hours])=0,\"\",SUMIF(Table1012[Concat: Company & Affected Source],K37,Table1012[Operating_Hours]))","v":""},null,null,null,{"$f":"+IF(T37=\"\",\"\",MAX(P$1:P36)+1)","v":""},{"$f":"IF(Table1012[[#This Row],[Affected_Source_List]]=\"\",\"\",Table1012[[#This Row],[Affected_Source_List]])","v":""},{"$f":"TRIM(MID(SUBSTITUTE($Q37,\" - \",REPT(\" \",999)),COLUMNS($P:P)*999-998,999))","v":""},{"$f":"TRIM(MID(SUBSTITUTE($Q37,\" - \",REPT(\" \",999)),COLUMNS($P:Q)*999-998,999))","v":""},""]
[{"$f":"+IF(K38=\"\",\"\",MAX(A$1:A37)+1)","v":""},{"$f":"+IF(J38=\"\",\"\",MAX(B$1:B37)+1)","v":""},{"$f":"IF(Process_Identification!B59=\"\",\"\",Process_Identification!B59)","v":""},{"$f":"IF(Process_Identification!C59=\"\",\"\",Process_Identification!C59)","v":""},{"$f":"IF(Process_Identification!D59=\"\",\"\",Process_Identification!D59)","v":""},{"$f":"IF(Process_Identification!E59=\"\",\"\",Process_Identification!E59)","v":""},{"$f":"IF(Process_Identification!F59=\"\",\"\",Process_Identification!F59)","v":""},"","",{"$f":"IF(COUNTIF(H$2:H38,H38)=1,H38,\"\")","v":""},"",{"$f":"IF(SUMIF(Table1012[Concat: Company & Affected Source],K38,Table1012[Operating_Hours])=0,\"\",SUMIF(Table1012[Concat: Company & Affected Source],K38,Table1012[Operating_Hours]))","v":""},null,null,null,{"$f":"+IF(T38=\"\",\"\",MAX(P$1:P37)+1)","v":""},{"$f":"IF(Table1012[[#This Row],[Affected_Source_List]]=\"\",\"\",Table1012[[#This Row],[Affected_Source_List]])","v":""},{"$f":"TRIM(MID(SUBSTITUTE($Q38,\" - \",REPT(\" \",999)),COLUMNS($P:P)*999-998,999))","v":""},{"$f":"TRIM(MID(SUBSTITUTE($Q38,\" - \",REPT(\" \",999)),COLUMNS($P:Q)*999-998,999))","v":""},""]
[{"$f":"+IF(K39=\"\",\"\",MAX(A$1:A38)+1)","v":""},{"$f":"+IF(J39=\"\",\"\",MAX(B$1:B38)+1)","v":""},{"$f":"IF(Process_Identification!B60=\"\",\"\",Process_Identification!B60)","v":""},{"$f":"IF(Process_Identification!C60=\"\",\"\",Process_Identification!C60)","v":""},{"$f":"IF(Process_Identification!D60=\"\",\"\",Process_Identification!D60)","v":""},{"$f":"IF(Process_Identification!E60=\"\",\"\",Process_Identification!E60)","v":""},{"$f":"IF(Process_Identification!F60=\"\",\"\",Process_Identification!F60)","v":""},"","",{"$f":"IF(COUNTIF(H$2:H39,H39)=1,H39,\"\")","v":""},"",{"$f":"IF(SUMIF(Table1012[Concat: Company & Affected Source],K39,Table1012[Operating_Hours])=0,\"\",SUMIF(Table1012[Concat: Company & Affected Source],K39,Table1012[Operating_Hours]))","v":""},null,null,null,{"$f":"+IF(T39=\"\",\"\",MAX(P$1:P38)+1)","v":""},{"$f":"IF(Table1012[[#This Row],[Affected_Source_List]]=\"\",\"\",Table1012[[#This Row],[Affected_Source_List]])","v":""},{"$f":"TRIM(MID(SUBSTITUTE($Q39,\" - \",REPT(\" \",999)),COLUMNS($P:P)*999-998,999))","v":""},{"$f":"TRIM(MID(SUBSTITUTE($Q39,\" - \",REPT(\" \",999)),COLUMNS($P:Q)*999-998,999))","v":""},""]
[{"$f":"+IF(K40=\"\",\"\",MAX(A$1:A39)+1)","v":""},{"$f":"+IF(J40=\"\",\"\",MAX(B$1:B39)+1)","v":""},{"$f":"IF(Process_Identification!B61=\"\",\"\",Process_Identification!B61)","v":""},{"$f":"IF(Process_Identification!C61=\"\",\"\",Process_Identification!C61)","v":""},{"$f":"IF(Process_Identification!D61=\"\",\"\",Process_Identification!D61)","v":""},{"$f":"IF(Process_Identification!E61=\"\",\"\",Process_Identification!E61)","v":""},{"$f":"IF(Process_Identification!F61=\"\",\"\",Process_Identification!F61)","v":""},"","",{"$f":"IF(COUNTIF(H$2:H40,H40)=1,H40,\"\")","v":""},"",{"$f":"IF(SUMIF(Table1012[Concat: Company & Affected Source],K40,Table1012[Operating_Hours])=0,\"\",SUMIF(Table1012[Concat: Company & Affected Source],K40,Table1012[Operating_Hours]))","v":""},null,null,null,{"$f":"+IF(T40=\"\",\"\",MAX(P$1:P39)+1)","v":""},{"$f":"IF(Table1012[[#This Row],[Affected_Source_List]]=\"\",\"\",Table1012[[#This Row],[Affected_Source_List]])","v":""},{"$f":"TRIM(MID(SUBSTITUTE($Q40,\" - \",REPT(\" \",999)),COLUMNS($P:P)*999-998,999))","v":""},{"$f":"TRIM(MID(SUBSTITUTE($Q40,\" - \",REPT(\" \",999)),COLUMNS($P:Q)*999-998,999))","v":""},""]
[{"$f":"+IF(K41=\"\",\"\",MAX(A$1:A40)+1)","v":""},{"$f":"+IF(J41=\"\",\"\",MAX(B$1:B40)+1)","v":""},{"$f":"IF(Process_Identification!B62=\"\",\"\",Process_Identification!B62)","v":""},{"$f":"IF(Process_Identification!C62=\"\",\"\",Process_Identification!C62)","v":""},{"$f":"IF(Process_Identification!D62=\"\",\"\",Process_Identification!D62)","v":""},{"$f":"IF(Process_Identification!E62=\"\",\"\",Process_Identification!E62)","v":""},{"$f":"IF(Process_Identification!F62=\"\",\"\",Process_Identification!F62)","v":""},"","",{"$f":"IF(COUNTIF(H$2:H41,H41)=1,H41,\"\")","v":""},"",{"$f":"IF(SUMIF(Table1012[Concat: Company & Affected Source],K41,Table1012[Operating_Hours])=0,\"\",SUMIF(Table1012[Concat: Company & Affected Source],K41,Table1012[Operating_Hours]))","v":""},null,null,null,{"$f":"+IF(T41=\"\",\"\",MAX(P$1:P40)+1)","v":""},{"$f":"IF(Table1012[[#This Row],[Affected_Source_List]]=\"\",\"\",Table1012[[#This Row],[Affected_Source_List]])","v":""},{"$f":"TRIM(MID(SUBSTITUTE($Q41,\" - \",REPT(\" \",999)),COLUMNS($P:P)*999-998,999))","v":""},{"$f":"TRIM(MID(SUBSTITUTE($Q41,\" - \",REPT(\" \",999)),COLUMNS($P:Q)*999-998,999))","v":""},""]
[{"$f":"+IF(K42=\"\",\"\",MAX(A$1:A41)+1)","v":""},{"$f":"+IF(J42=\"\",\"\",MAX(B$1:B41)+1)","v":""},{"$f":"IF(Process_Identification!B63=\"\",\"\",Process_Identification!B63)","v":""},{"$f":"IF(Process_Identification!C63=\"\",\"\",Process_Identification!C63)","v":""},{"$f":"IF(Process_Identification!D63=\"\",\"\",Process_Identification!D63)","v":""},{"$f":"IF(Process_Identification!E63=\"\",\"\",Process_Identification!E63)","v":""},{"$f":"IF(Process_Identification!F63=\"\",\"\",Process_Identification!F63)","v":""},"","",{"$f":"IF(COUNTIF(H$2:H42,H42)=1,H42,\"\")","v":""},"",{"$f":"IF(SUMIF(Table1012[Concat: Company & Affected Source],K42,Table1012[Operating_Hours])=0,\"\",SUMIF(Table1012[Concat: Company & Affected Source],K42,Table1012[Operating_Hours]))","v":""},null,null,null,{"$f":"+IF(T42=\"\",\"\",MAX(P$1:P41)+1)","v":""},{"$f":"IF(Table1012[[#This Row],[Affected_Source_List]]=\"\",\"\",Table1012[[#This Row],[Affected_Source_List]])","v":""},{"$f":"TRIM(MID(SUBSTITUTE($Q42,\" - \",REPT(\" \",999)),COLUMNS($P:P)*999-998,999))","v":""},{"$f":"TRIM(MID(SUBSTITUTE($Q42,\" - \",REPT(\" \",999)),COLUMNS($P:Q)*999-998,999))","v":""},""]
[{"$f":"+IF(K43=\"\",\"\",MAX(A$1:A42)+1)","v":""},{"$f":"+IF(J43=\"\",\"\",MAX(B$1:B42)+1)","v":""},{"$f":"IF(Process_Identification!B64=\"\",\"\",Process_Identification!B64)","v":""},{"$f":"IF(Process_Identification!C64=\"\",\"\",Process_Identification!C64)","v":""},{"$f":"IF(Process_Identification!D64=\"\",\"\",Process_Identification!D64)","v":""},{"$f":"IF(Process_Identification!E64=\"\",\"\",Process_Identification!E64)","v":""},{"$f":"IF(Process_Identification!F64=\"\",\"\",Process_Identification!F64)","v":""},"","",{"$f":"IF(COUNTIF(H$2:H43,H43)=1,H43,\"\")","v":""},"",{"$f":"IF(SUMIF(Table1012[Concat: Company & Affected Source],K43,Table1012[Operating_Hours])=0,\"\",SUMIF(Table1012[Concat: Company & Affected Source],K43,Table1012[Operating_Hours]))","v":""},null,null,null,{"$f":"+IF(T43=\"\",\"\",MAX(P$1:P42)+1)","v":""},{"$f":"IF(Table1012[[#This Row],[Affected_Source_List]]=\"\",\"\",Table1012[[#This Row],[Affected_Source_List]])","v":""},{"$f":"TRIM(MID(SUBSTITUTE($Q43,\" - \",REPT(\" \",999)),COLUMNS($P:P)*999-998,999))","v":""},{"$f":"TRIM(MID(SUBSTITUTE($Q43,\" - \",REPT(\" \",999)),COLUMNS($P:Q)*999-998,999))","v":""},""]
[{"$f":"+IF(K44=\"\",\"\",MAX(A$1:A43)+1)","v":""},{"$f":"+IF(J44=\"\",\"\",MAX(B$1:B43)+1)","v":""},{"$f":"IF(Process_Identification!B65=\"\",\"\",Process_Identification!B65)","v":""},{"$f":"IF(Process_Identification!C65=\"\",\"\",Process_Identification!C65)","v":""},{"$f":"IF(Process_Identification!D65=\"\",\"\",Process_Identification!D65)","v":""},{"$f":"IF(Process_Identification!E65=\"\",\"\",Process_Identification!E65)","v":""},{"$f":"IF(Process_Identification!F65=\"\",\"\",Process_Identification!F65)","v":""},"","",{"$f":"IF(COUNTIF(H$2:H44,H44)=1,H44,\"\")","v":""},"",{"$f":"IF(SUMIF(Table1012[Concat: Company & Affected Source],K44,Table1012[Operating_Hours])=0,\"\",SUMIF(Table1012[Concat: Company & Affected Source],K44,Table1012[Operating_Hours]))","v":""},null,null,null,{"$f":"+IF(T44=\"\",\"\",MAX(P$1:P43)+1)","v":""},{"$f":"IF(Table1012[[#This Row],[Affected_Source_List]]=\"\",\"\",Table1012[[#This Row],[Affected_Source_List]])","v":""},{"$f":"TRIM(MID(SUBSTITUTE($Q44,\" - \",REPT(\" \",999)),COLUMNS($P:P)*999-998,999))","v":""},{"$f":"TRIM(MID(SUBSTITUTE($Q44,\" - \",REPT(\" \",999)),COLUMNS($P:Q)*999-998,999))","v":""},""]
[{"$f":"+IF(K45=\"\",\"\",MAX(A$1:A44)+1)","v":""},{"$f":"+IF(J45=\"\",\"\",MAX(B$1:B44)+1)","v":""},{"$f":"IF(Process_Identification!B66=\"\",\"\",Process_Identification!B66)","v":""},{"$f":"IF(Process_Identification!C66=\"\",\"\",Process_Identification!C66)","v":""},{"$f":"IF(Process_Identification!D66=\"\",\"\",Process_Identification!D66)","v":""},{"$f":"IF(Process_Identification!E66=\"\",\"\",Process_Identification!E66)","v":""},{"$f":"IF(Process_Identification!F66=\"\",\"\",Process_Identification!F66)","v":""},"","",{"$f":"IF(COUNTIF(H$2:H45,H45)=1,H45,\"\")","v":""},"",{"$f":"IF(SUMIF(Table1012[Concat: Company & Affected Source],K45,Table1012[Operating_Hours])=0,\"\",SUMIF(Table1012[Concat: Company & Affected Source],K45,Table1012[Operating_Hours]))","v":""},null,null,null,{"$f":"+IF(T45=\"\",\"\",MAX(P$1:P44)+1)","v":""},{"$f":"IF(Table1012[[#This Row],[Affected_Source_List]]=\"\",\"\",Table1012[[#This Row],[Affected_Source_List]])","v":""},{"$f":"TRIM(MID(SUBSTITUTE($Q45,\" - \",REPT(\" \",999)),COLUMNS($P:P)*999-998,999))","v":""},{"$f":"TRIM(MID(SUBSTITUTE($Q45,\" - \",REPT(\" \",999)),COLUMNS($P:Q)*999-998,999))","v":""},""]
[{"$f":"+IF(K46=\"\",\"\",MAX(A$1:A45)+1)","v":""},{"$f":"+IF(J46=\"\",\"\",MAX(B$1:B45)+1)","v":""},{"$f":"IF(Process_Identification!B67=\"\",\"\",Process_Identification!B67)","v":""},{"$f":"IF(Process_Identification!C67=\"\",\"\",Process_Identification!C67)","v":""},{"$f":"IF(Process_Identification!D67=\"\",\"\",Process_Identification!D67)","v":""},{"$f":"IF(Process_Identification!E67=\"\",\"\",Process_Identification!E67)","v":""},{"$f":"IF(Process_Identification!F67=\"\",\"\",Process_Identification!F67)","v":""},"","",{"$f":"IF(COUNTIF(H$2:H46,H46)=1,H46,\"\")","v":""},"",{"$f":"IF(SUMIF(Table1012[Concat: Company & Affected Source],K46,Table1012[Operating_Hours])=0,\"\",SUMIF(Table1012[Concat: Company & Affected Source],K46,Table1012[Operating_Hours]))","v":""},null,null,null,{"$f":"+IF(T46=\"\",\"\",MAX(P$1:P45)+1)","v":""},{"$f":"IF(Table1012[[#This Row],[Affected_Source_List]]=\"\",\"\",Table1012[[#This Row],[Affected_Source_List]])","v":""},{"$f":"TRIM(MID(SUBSTITUTE($Q46,\" - \",REPT(\" \",999)),COLUMNS($P:P)*999-998,999))","v":""},{"$f":"TRIM(MID(SUBSTITUTE($Q46,\" - \",REPT(\" \",999)),COLUMNS($P:Q)*999-998,999))","v":""},""]
[{"$f":"+IF(K47=\"\",\"\",MAX(A$1:A46)+1)","v":""},{"$f":"+IF(J47=\"\",\"\",MAX(B$1:B46)+1)","v":""},{"$f":"IF(Process_Identification!B68=\"\",\"\",Process_Identification!B68)","v":""},{"$f":"IF(Process_Identification!C68=\"\",\"\",Process_Identification!C68)","v":""},{"$f":"IF(Process_Identification!D68=\"\",\"\",Process_Identification!D68)","v":""},{"$f":"IF(Process_Identification!E68=\"\",\"\",Process_Identification!E68)","v":""},{"$f":"IF(Process_Identification!F68=\"\",\"\",Process_Identification!F68)","v":""},"","",{"$f":"IF(COUNTIF(H$2:H47,H47)=1,H47,\"\")","v":""},"",{"$f":"IF(SUMIF(Table1012[Concat: Company & Affected Source],K47,Table1012[Operating_Hours])=0,\"\",SUMIF(Table1012[Concat: Company & Affected Source],K47,Table1012[Operating_Hours]))","v":""},null,null,null,{"$f":"+IF(T47=\"\",\"\",MAX(P$1:P46)+1)","v":""},{"$f":"IF(Table1012[[#This Row],[Affected_Source_List]]=\"\",\"\",Table1012[[#This Row],[Affected_Source_List]])","v":""},{"$f":"TRIM(MID(SUBSTITUTE($Q47,\" - \",REPT(\" \",999)),COLUMNS($P:P)*999-998,999))","v":""},{"$f":"TRIM(MID(SUBSTITUTE($Q47,\" - \",REPT(\" \",999)),COLUMNS($P:Q)*999-998,999))","v":""},""]
[{"$f":"+IF(K48=\"\",\"\",MAX(A$1:A47)+1)","v":""},{"$f":"+IF(J48=\"\",\"\",MAX(B$1:B47)+1)","v":""},{"$f":"IF(Process_Identification!B69=\"\",\"\",Process_Identification!B69)","v":""},{"$f":"IF(Process_Identification!C69=\"\",\"\",Process_Identification!C69)","v":""},{"$f":"IF(Process_Identification!D69=\"\",\"\",Process_Identification!D69)","v":""},{"$f":"IF(Process_Identification!E69=\"\",\"\",Process_Identification!E69)","v":""},{"$f":"IF(Process_Identification!F69=\"\",\"\",Process_Identification!F69)","v":""},"","",{"$f":"IF(COUNTIF(H$2:H48,H48)=1,H48,\"\")","v":""},"",{"$f":"IF(SUMIF(Table1012[Concat: Company & Affected Source],K48,Table1012[Operating_Hours])=0,\"\",SUMIF(Table1012[Concat: Company & Affected Source],K48,Table1012[Operating_Hours]))","v":""},null,null,null,{"$f":"+IF(T48=\"\",\"\",MAX(P$1:P47)+1)","v":""},{"$f":"IF(Table1012[[#This Row],[Affected_Source_List]]=\"\",\"\",Table1012[[#This Row],[Affected_Source_List]])","v":""},{"$f":"TRIM(MID(SUBSTITUTE($Q48,\" - \",REPT(\" \",999)),COLUMNS($P:P)*999-998,999))","v":""},{"$f":"TRIM(MID(SUBSTITUTE($Q48,\" - \",REPT(\" \",999)),COLUMNS($P:Q)*999-998,999))","v":""},""]
[{"$f":"+IF(K49=\"\",\"\",MAX(A$1:A48)+1)","v":""},{"$f":"+IF(J49=\"\",\"\",MAX(B$1:B48)+1)","v":""},{"$f":"IF(Process_Identification!B70=\"\",\"\",Process_Identification!B70)","v":""},{"$f":"IF(Process_Identification!C70=\"\",\"\",Process_Identification!C70)","v":""},{"$f":"IF(Process_Identification!D70=\"\",\"\",Process_Identification!D70)","v":""},{"$f":"IF(Process_Identification!E70=\"\",\"\",Process_Identification!E70)","v":""},{"$f":"IF(Process_Identification!F70=\"\",\"\",Process_Identification!F70)","v":""},"","",{"$f":"IF(COUNTIF(H$2:H49,H49)=1,H49,\"\")","v":""},"",{"$f":"IF(SUMIF(Table1012[Concat: Company & Affected Source],K49,Table1012[Operating_Hours])=0,\"\",SUMIF(Table1012[Concat: Company & Affected Source],K49,Table1012[Operating_Hours]))","v":""},null,null,null,{"$f":"+IF(T49=\"\",\"\",MAX(P$1:P48)+1)","v":""},{"$f":"IF(Table1012[[#This Row],[Affected_Source_List]]=\"\",\"\",Table1012[[#This Row],[Affected_Source_List]])","v":""},{"$f":"TRIM(MID(SUBSTITUTE($Q49,\" - \",REPT(\" \",999)),COLUMNS($P:P)*999-998,999))","v":""},{"$f":"TRIM(MID(SUBSTITUTE($Q49,\" - \",REPT(\" \",999)),COLUMNS($P:Q)*999-998,999))","v":""},""]
[{"$f":"+IF(K50=\"\",\"\",MAX(A$1:A49)+1)","v":""},{"$f":"+IF(J50=\"\",\"\",MAX(B$1:B49)+1)","v":""},{"$f":"IF(Process_Identification!B71=\"\",\"\",Process_Identification!B71)","v":""},{"$f":"IF(Process_Identification!C71=\"\",\"\",Process_Identification!C71)","v":""},{"$f":"IF(Process_Identification!D71=\"\",\"\",Process_Identification!D71)","v":""},{"$f":"IF(Process_Identification!E71=\"\",\"\",Process_Identification!E71)","v":""},{"$f":"IF(Process_Identification!F71=\"\",\"\",Process_Identification!F71)","v":""},"","",{"$f":"IF(COUNTIF(H$2:H50,H50)=1,H50,\"\")","v":""},"",{"$f":"IF(SUMIF(Table1012[Concat: Company & Affected Source],K50,Table1012[Operating_Hours])=0,\"\",SUMIF(Table1012[Concat: Company & Affected Source],K50,Table1012[Operating_Hours]))","v":""},null,null,null,{"$f":"+IF(T50=\"\",\"\",MAX(P$1:P49)+1)","v":""},{"$f":"IF(Table1012[[#This Row],[Affected_Source_List]]=\"\",\"\",Table1012[[#This Row],[Affected_Source_List]])","v":""},{"$f":"TRIM(MID(SUBSTITUTE($Q50,\" - \",REPT(\" \",999)),COLUMNS($P:P)*999-998,999))","v":""},{"$f":"TRIM(MID(SUBSTITUTE($Q50,\" - \",REPT(\" \",999)),COLUMNS($P:Q)*999-998,999))","v":""},""]
[{"$f":"+IF(K51=\"\",\"\",MAX(A$1:A50)+1)","v":""},{"$f":"+IF(J51=\"\",\"\",MAX(B$1:B50)+1)","v":""},{"$f":"IF(Process_Identification!B72=\"\",\"\",Process_Identification!B72)","v":""},{"$f":"IF(Process_Identification!C72=\"\",\"\",Process_Identification!C72)","v":""},{"$f":"IF(Process_Identification!D72=\"\",\"\",Process_Identification!D72)","v":""},{"$f":"IF(Process_Identification!E72=\"\",\"\",Process_Identification!E72)","v":""},{"$f":"IF(Process_Identification!F72=\"\",\"\",Process_Identification!F72)","v":""},"","",{"$f":"IF(COUNTIF(H$2:H51,H51)=1,H51,\"\")","v":""},"",{"$f":"IF(SUMIF(Table1012[Concat: Company & Affected Source],K51,Table1012[Operating_Hours])=0,\"\",SUMIF(Table1012[Concat: Company & Affected Source],K51,Table1012[Operating_Hours]))","v":""},null,null,null,{"$f":"+IF(T51=\"\",\"\",MAX(P$1:P50)+1)","v":""},{"$f":"IF(Table1012[[#This Row],[Affected_Source_List]]=\"\",\"\",Table1012[[#This Row],[Affected_Source_List]])","v":""},{"$f":"TRIM(MID(SUBSTITUTE($Q51,\" - \",REPT(\" \",999)),COLUMNS($P:P)*999-998,999))","v":""},{"$f":"TRIM(MID(SUBSTITUTE($Q51,\" - \",REPT(\" \",999)),COLUMNS($P:Q)*999-998,999))","v":""},""]
[{"$f":"+IF(K52=\"\",\"\",MAX(A$1:A51)+1)","v":""},{"$f":"+IF(J52=\"\",\"\",MAX(B$1:B51)+1)","v":""},{"$f":"IF(Process_Identification!B73=\"\",\"\",Process_Identification!B73)","v":""},{"$f":"IF(Process_Identification!C73=\"\",\"\",Process_Identification!C73)","v":""},{"$f":"IF(Process_Identification!D73=\"\",\"\",Process_Identification!D73)","v":""},{"$f":"IF(Process_Identification!E73=\"\",\"\",Process_Identification!E73)","v":""},{"$f":"IF(Process_Identification!F73=\"\",\"\",Process_Identification!F73)","v":""},"","",{"$f":"IF(COUNTIF(H$2:H52,H52)=1,H52,\"\")","v":""},"",{"$f":"IF(SUMIF(Table1012[Concat: Company & Affected Source],K52,Table1012[Operating_Hours])=0,\"\",SUMIF(Table1012[Concat: Company & Affected Source],K52,Table1012[Operating_Hours]))","v":""},null,null,null,{"$f":"+IF(T52=\"\",\"\",MAX(P$1:P51)+1)","v":""},{"$f":"IF(Table1012[[#This Row],[Affected_Source_List]]=\"\",\"\",Table1012[[#This Row],[Affected_Source_List]])","v":""},{"$f":"TRIM(MID(SUBSTITUTE($Q52,\" - \",REPT(\" \",999)),COLUMNS($P:P)*999-998,999))","v":""},{"$f":"TRIM(MID(SUBSTITUTE($Q52,\" - \",REPT(\" \",999)),COLUMNS($P:Q)*999-998,999))","v":""},""]
[{"$f":"+IF(K53=\"\",\"\",MAX(A$1:A52)+1)","v":""},{"$f":"+IF(J53=\"\",\"\",MAX(B$1:B52)+1)","v":""},{"$f":"IF(Process_Identification!B74=\"\",\"\",Process_Identification!B74)","v":""},{"$f":"IF(Process_Identification!C74=\"\",\"\",Process_Identification!C74)","v":""},{"$f":"IF(Process_Identification!D74=\"\",\"\",Process_Identification!D74)","v":""},{"$f":"IF(Process_Identification!E74=\"\",\"\",Process_Identification!E74)","v":""},{"$f":"IF(Process_Identification!F74=\"\",\"\",Process_Identification!F74)","v":""},"","",{"$f":"IF(COUNTIF(H$2:H53,H53)=1,H53,\"\")","v":""},"",{"$f":"IF(SUMIF(Table1012[Concat: Company & Affected Source],K53,Table1012[Operating_Hours])=0,\"\",SUMIF(Table1012[Concat: Company & Affected Source],K53,Table1012[Operating_Hours]))","v":""},null,null,null,{"$f":"+IF(T53=\"\",\"\",MAX(P$1:P52)+1)","v":""},{"$f":"IF(Table1012[[#This Row],[Affected_Source_List]]=\"\",\"\",Table1012[[#This Row],[Affected_Source_List]])","v":""},{"$f":"TRIM(MID(SUBSTITUTE($Q53,\" - \",REPT(\" \",999)),COLUMNS($P:P)*999-998,999))","v":""},{"$f":"TRIM(MID(SUBSTITUTE($Q53,\" - \",REPT(\" \",999)),COLUMNS($P:Q)*999-998,999))","v":""},""]
[{"$f":"+IF(K54=\"\",\"\",MAX(A$1:A53)+1)","v":""},{"$f":"+IF(J54=\"\",\"\",MAX(B$1:B53)+1)","v":""},{"$f":"IF(Process_Identification!B75=\"\",\"\",Process_Identification!B75)","v":""},{"$f":"IF(Process_Identification!C75=\"\",\"\",Process_Identification!C75)","v":""},{"$f":"IF(Process_Identification!D75=\"\",\"\",Process_Identification!D75)","v":""},{"$f":"IF(Process_Identification!E75=\"\",\"\",Process_Identification!E75)","v":""},{"$f":"IF(Process_Identification!F75=\"\",\"\",Process_Identification!F75)","v":""},"","",{"$f":"IF(COUNTIF(H$2:H54,H54)=1,H54,\"\")","v":""},"",{"$f":"IF(SUMIF(Table1012[Concat: Company & Affected Source],K54,Table1012[Operating_Hours])=0,\"\",SUMIF(Table1012[Concat: Company & Affected Source],K54,Table1012[Operating_Hours]))","v":""},null,null,null,{"$f":"+IF(T54=\"\",\"\",MAX(P$1:P53)+1)","v":""},{"$f":"IF(Table1012[[#This Row],[Affected_Source_List]]=\"\",\"\",Table1012[[#This Row],[Affected_Source_List]])","v":""},{"$f":"TRIM(MID(SUBSTITUTE($Q54,\" - \",REPT(\" \",999)),COLUMNS($P:P)*999-998,999))","v":""},{"$f":"TRIM(MID(SUBSTITUTE($Q54,\" - \",REPT(\" \",999)),COLUMNS($P:Q)*999-998,999))","v":""},""]
[{"$f":"+IF(K55=\"\",\"\",MAX(A$1:A54)+1)","v":""},{"$f":"+IF(J55=\"\",\"\",MAX(B$1:B54)+1)","v":""},{"$f":"IF(Process_Identification!B76=\"\",\"\",Process_Identification!B76)","v":""},{"$f":"IF(Process_Identification!C76=\"\",\"\",Process_Identification!C76)","v":""},{"$f":"IF(Process_Identification!D76=\"\",\"\",Process_Identification!D76)","v":""},{"$f":"IF(Process_Identification!E76=\"\",\"\",Process_Identification!E76)","v":""},{"$f":"IF(Process_Identification!F76=\"\",\"\",Process_Identification!F76)","v":""},"","",{"$f":"IF(COUNTIF(H$2:H55,H55)=1,H55,\"\")","v":""},"",{"$f":"IF(SUMIF(Table1012[Concat: Company & Affected Source],K55,Table1012[Operating_Hours])=0,\"\",SUMIF(Table1012[Concat: Company & Affected Source],K55,Table1012[Operating_Hours]))","v":""},null,null,null,{"$f":"+IF(T55=\"\",\"\",MAX(P$1:P54)+1)","v":""},{"$f":"IF(Table1012[[#This Row],[Affected_Source_List]]=\"\",\"\",Table1012[[#This Row],[Affected_Source_List]])","v":""},{"$f":"TRIM(MID(SUBSTITUTE($Q55,\" - \",REPT(\" \",999)),COLUMNS($P:P)*999-998,999))","v":""},{"$f":"TRIM(MID(SUBSTITUTE($Q55,\" - \",REPT(\" \",999)),COLUMNS($P:Q)*999-998,999))","v":""},""]
[{"$f":"+IF(K56=\"\",\"\",MAX(A$1:A55)+1)","v":""},{"$f":"+IF(J56=\"\",\"\",MAX(B$1:B55)+1)","v":""},{"$f":"IF(Process_Identification!B77=\"\",\"\",Process_Identification!B77)","v":""},{"$f":"IF(Process_Identification!C77=\"\",\"\",Process_Identification!C77)","v":""},{"$f":"IF(Process_Identification!D77=\"\",\"\",Process_Identification!D77)","v":""},{"$f":"IF(Process_Identification!E77=\"\",\"\",Process_Identification!E77)","v":""},{"$f":"IF(Process_Identification!F77=\"\",\"\",Process_Identification!F77)","v":""},"","",{"$f":"IF(COUNTIF(H$2:H56,H56)=1,H56,\"\")","v":""},"",{"$f":"IF(SUMIF(Table1012[Concat: Company & Affected Source],K56,Table1012[Operating_Hours])=0,\"\",SUMIF(Table1012[Concat: Company & Affected Source],K56,Table1012[Operating_Hours]))","v":""},null,null,null,{"$f":"+IF(T56=\"\",\"\",MAX(P$1:P55)+1)","v":""},{"$f":"IF(Table1012[[#This Row],[Affected_Source_List]]=\"\",\"\",Table1012[[#This Row],[Affected_Source_List]])","v":""},{"$f":"TRIM(MID(SUBSTITUTE($Q56,\" - \",REPT(\" \",999)),COLUMNS($P:P)*999-998,999))","v":""},{"$f":"TRIM(MID(SUBSTITUTE($Q56,\" - \",REPT(\" \",999)),COLUMNS($P:Q)*999-998,999))","v":""},""]
[{"$f":"+IF(K57=\"\",\"\",MAX(A$1:A56)+1)","v":""},{"$f":"+IF(J57=\"\",\"\",MAX(B$1:B56)+1)","v":""},{"$f":"IF(Process_Identification!B78=\"\",\"\",Process_Identification!B78)","v":""},{"$f":"IF(Process_Identification!C78=\"\",\"\",Process_Identification!C78)","v":""},{"$f":"IF(Process_Identification!D78=\"\",\"\",Process_Identification!D78)","v":""},{"$f":"IF(Process_Identification!E78=\"\",\"\",Process_Identification!E78)","v":""},{"$f":"IF(Process_Identification!F78=\"\",\"\",Process_Identification!F78)","v":""},"","",{"$f":"IF(COUNTIF(H$2:H57,H57)=1,H57,\"\")","v":""},"",{"$f":"IF(SUMIF(Table1012[Concat: Company & Affected Source],K57,Table1012[Operating_Hours])=0,\"\",SUMIF(Table1012[Concat: Company & Affected Source],K57,Table1012[Operating_Hours]))","v":""},null,null,null,{"$f":"+IF(T57=\"\",\"\",MAX(P$1:P56)+1)","v":""},{"$f":"IF(Table1012[[#This Row],[Affected_Source_List]]=\"\",\"\",Table1012[[#This Row],[Affected_Source_List]])","v":""},{"$f":"TRIM(MID(SUBSTITUTE($Q57,\" - \",REPT(\" \",999)),COLUMNS($P:P)*999-998,999))","v":""},{"$f":"TRIM(MID(SUBSTITUTE($Q57,\" - \",REPT(\" \",999)),COLUMNS($P:Q)*999-998,999))","v":""},""]
[{"$f":"+IF(K58=\"\",\"\",MAX(A$1:A57)+1)","v":""},{"$f":"+IF(J58=\"\",\"\",MAX(B$1:B57)+1)","v":""},{"$f":"IF(Process_Identification!B79=\"\",\"\",Process_Identification!B79)","v":""},{"$f":"IF(Process_Identification!C79=\"\",\"\",Process_Identification!C79)","v":""},{"$f":"IF(Process_Identification!D79=\"\",\"\",Process_Identification!D79)","v":""},{"$f":"IF(Process_Identification!E79=\"\",\"\",Process_Identification!E79)","v":""},{"$f":"IF(Process_Identification!F79=\"\",\"\",Process_Identification!F79)","v":""},"","",{"$f":"IF(COUNTIF(H$2:H58,H58)=1,H58,\"\")","v":""},"",{"$f":"IF(SUMIF(Table1012[Concat: Company & Affected Source],K58,Table1012[Operating_Hours])=0,\"\",SUMIF(Table1012[Concat: Company & Affected Source],K58,Table1012[Operating_Hours]))","v":""},null,null,null,{"$f":"+IF(T58=\"\",\"\",MAX(P$1:P57)+1)","v":""},{"$f":"IF(Table1012[[#This Row],[Affected_Source_List]]=\"\",\"\",Table1012[[#This Row],[Affected_Source_List]])","v":""},{"$f":"TRIM(MID(SUBSTITUTE($Q58,\" - \",REPT(\" \",999)),COLUMNS($P:P)*999-998,999))","v":""},{"$f":"TRIM(MID(SUBSTITUTE($Q58,\" - \",REPT(\" \",999)),COLUMNS($P:Q)*999-998,999))","v":""},""]
[{"$f":"+IF(K59=\"\",\"\",MAX(A$1:A58)+1)","v":""},{"$f":"+IF(J59=\"\",\"\",MAX(B$1:B58)+1)","v":""},{"$f":"IF(Process_Identification!B80=\"\",\"\",Process_Identification!B80)","v":""},{"$f":"IF(Process_Identification!C80=\"\",\"\",Process_Identification!C80)","v":""},{"$f":"IF(Process_Identification!D80=\"\",\"\",Process_Identification!D80)","v":""},{"$f":"IF(Process_Identification!E80=\"\",\"\",Process_Identification!E80)","v":""},{"$f":"IF(Process_Identification!F80=\"\",\"\",Process_Identification!F80)","v":""},"","",{"$f":"IF(COUNTIF(H$2:H59,H59)=1,H59,\"\")","v":""},"",{"$f":"IF(SUMIF(Table1012[Concat: Company & Affected Source],K59,Table1012[Operating_Hours])=0,\"\",SUMIF(Table1012[Concat: Company & Affected Source],K59,Table1012[Operating_Hours]))","v":""},null,null,null,{"$f":"+IF(T59=\"\",\"\",MAX(P$1:P58)+1)","v":""},{"$f":"IF(Table1012[[#This Row],[Affected_Source_List]]=\"\",\"\",Table1012[[#This Row],[Affected_Source_List]])","v":""},{"$f":"TRIM(MID(SUBSTITUTE($Q59,\" - \",REPT(\" \",999)),COLUMNS($P:P)*999-998,999))","v":""},{"$f":"TRIM(MID(SUBSTITUTE($Q59,\" - \",REPT(\" \",999)),COLUMNS($P:Q)*999-998,999))","v":""},""]
[{"$f":"+IF(K60=\"\",\"\",MAX(A$1:A59)+1)","v":""},{"$f":"+IF(J60=\"\",\"\",MAX(B$1:B59)+1)","v":""},{"$f":"IF(Process_Identification!B81=\"\",\"\",Process_Identification!B81)","v":""},{"$f":"IF(Process_Identification!C81=\"\",\"\",Process_Identification!C81)","v":""},{"$f":"IF(Process_Identification!D81=\"\",\"\",Process_Identification!D81)","v":""},{"$f":"IF(Process_Identification!E81=\"\",\"\",Process_Identification!E81)","v":""},{"$f":"IF(Process_Identification!F81=\"\",\"\",Process_Identification!F81)","v":""},"","",{"$f":"IF(COUNTIF(H$2:H60,H60)=1,H60,\"\")","v":""},"",{"$f":"IF(SUMIF(Table1012[Concat: Company & Affected Source],K60,Table1012[Operating_Hours])=0,\"\",SUMIF(Table1012[Concat: Company & Affected Source],K60,Table1012[Operating_Hours]))","v":""},null,null,null,{"$f":"+IF(T60=\"\",\"\",MAX(P$1:P59)+1)","v":""},{"$f":"IF(Table1012[[#This Row],[Affected_Source_List]]=\"\",\"\",Table1012[[#This Row],[Affected_Source_List]])","v":""},{"$f":"TRIM(MID(SUBSTITUTE($Q60,\" - \",REPT(\" \",999)),COLUMNS($P:P)*999-998,999))","v":""},{"$f":"TRIM(MID(SUBSTITUTE($Q60,\" - \",REPT(\" \",999)),COLUMNS($P:Q)*999-998,999))","v":""},""]
[{"$f":"+IF(K61=\"\",\"\",MAX(A$1:A60)+1)","v":""},{"$f":"+IF(J61=\"\",\"\",MAX(B$1:B60)+1)","v":""},{"$f":"IF(Process_Identification!B82=\"\",\"\",Process_Identification!B82)","v":""},{"$f":"IF(Process_Identification!C82=\"\",\"\",Process_Identification!C82)","v":""},{"$f":"IF(Process_Identification!D82=\"\",\"\",Process_Identification!D82)","v":""},{"$f":"IF(Process_Identification!E82=\"\",\"\",Process_Identification!E82)","v":""},{"$f":"IF(Process_Identification!F82=\"\",\"\",Process_Identification!F82)","v":""},"","",{"$f":"IF(COUNTIF(H$2:H61,H61)=1,H61,\"\")","v":""},"",{"$f":"IF(SUMIF(Table1012[Concat: Company & Affected Source],K61,Table1012[Operating_Hours])=0,\"\",SUMIF(Table1012[Concat: Company & Affected Source],K61,Table1012[Operating_Hours]))","v":""},null,null,null,{"$f":"+IF(T61=\"\",\"\",MAX(P$1:P60)+1)","v":""},{"$f":"IF(Table1012[[#This Row],[Affected_Source_List]]=\"\",\"\",Table1012[[#This Row],[Affected_Source_List]])","v":""},{"$f":"TRIM(MID(SUBSTITUTE($Q61,\" - \",REPT(\" \",999)),COLUMNS($P:P)*999-998,999))","v":""},{"$f":"TRIM(MID(SUBSTITUTE($Q61,\" - \",REPT(\" \",999)),COLUMNS($P:Q)*999-998,999))","v":""},""]
[{"$f":"+IF(K62=\"\",\"\",MAX(A$1:A61)+1)","v":""},{"$f":"+IF(J62=\"\",\"\",MAX(B$1:B61)+1)","v":""},{"$f":"IF(Process_Identification!B83=\"\",\"\",Process_Identification!B83)","v":""},{"$f":"IF(Process_Identification!C83=\"\",\"\",Process_Identification!C83)","v":""},{"$f":"IF(Process_Identification!D83=\"\",\"\",Process_Identification!D83)","v":""},{"$f":"IF(Process_Identification!E83=\"\",\"\",Process_Identification!E83)","v":""},{"$f":"IF(Process_Identification!F83=\"\",\"\",Process_Identification!F83)","v":""},"","",{"$f":"IF(COUNTIF(H$2:H62,H62)=1,H62,\"\")","v":""},"",{"$f":"IF(SUMIF(Table1012[Concat: Company & Affected Source],K62,Table1012[Operating_Hours])=0,\"\",SUMIF(Table1012[Concat: Company & Affected Source],K62,Table1012[Operating_Hours]))","v":""},null,null,null,{"$f":"+IF(T62=\"\",\"\",MAX(P$1:P61)+1)","v":""},{"$f":"IF(Table1012[[#This Row],[Affected_Source_List]]=\"\",\"\",Table1012[[#This Row],[Affected_Source_List]])","v":""},{"$f":"TRIM(MID(SUBSTITUTE($Q62,\" - \",REPT(\" \",999)),COLUMNS($P:P)*999-998,999))","v":""},{"$f":"TRIM(MID(SUBSTITUTE($Q62,\" - \",REPT(\" \",999)),COLUMNS($P:Q)*999-998,999))","v":""},""]
[{"$f":"+IF(K63=\"\",\"\",MAX(A$1:A62)+1)","v":""},{"$f":"+IF(J63=\"\",\"\",MAX(B$1:B62)+1)","v":""},{"$f":"IF(Process_Identification!B84=\"\",\"\",Process_Identification!B84)","v":""},{"$f":"IF(Process_Identification!C84=\"\",\"\",Process_Identification!C84)","v":""},{"$f":"IF(Process_Identification!D84=\"\",\"\",Process_Identification!D84)","v":""},{"$f":"IF(Process_Identification!E84=\"\",\"\",Process_Identification!E84)","v":""},{"$f":"IF(Process_Identification!F84=\"\",\"\",Process_Identification!F84)","v":""},"","",{"$f":"IF(COUNTIF(H$2:H63,H63)=1,H63,\"\")","v":""},"",{"$f":"IF(SUMIF(Table1012[Concat: Company & Affected Source],K63,Table1012[Operating_Hours])=0,\"\",SUMIF(Table1012[Concat: Company & Affected Source],K63,Table1012[Operating_Hours]))","v":""},null,null,null,{"$f":"+IF(T63=\"\",\"\",MAX(P$1:P62)+1)","v":""},{"$f":"IF(Table1012[[#This Row],[Affected_Source_List]]=\"\",\"\",Table1012[[#This Row],[Affected_Source_List]])","v":""},{"$f":"TRIM(MID(SUBSTITUTE($Q63,\" - \",REPT(\" \",999)),COLUMNS($P:P)*999-998,999))","v":""},{"$f":"TRIM(MID(SUBSTITUTE($Q63,\" - \",REPT(\" \",999)),COLUMNS($P:Q)*999-998,999))","v":""},""]
[{"$f":"+IF(K64=\"\",\"\",MAX(A$1:A63)+1)","v":""},{"$f":"+IF(J64=\"\",\"\",MAX(B$1:B63)+1)","v":""},{"$f":"IF(Process_Identification!B85=\"\",\"\",Process_Identification!B85)","v":""},{"$f":"IF(Process_Identification!C85=\"\",\"\",Process_Identification!C85)","v":""},{"$f":"IF(Process_Identification!D85=\"\",\"\",Process_Identification!D85)","v":""},{"$f":"IF(Process_Identification!E85=\"\",\"\",Process_Identification!E85)","v":""},{"$f":"IF(Process_Identification!F85=\"\",\"\",Process_Identification!F85)","v":""},"","",{"$f":"IF(COUNTIF(H$2:H64,H64)=1,H64,\"\")","v":""},"",{"$f":"IF(SUMIF(Table1012[Concat: Company & Affected Source],K64,Table1012[Operating_Hours])=0,\"\",SUMIF(Table1012[Concat: Company & Affected Source],K64,Table1012[Operating_Hours]))","v":""},null,null,null,{"$f":"+IF(T64=\"\",\"\",MAX(P$1:P63)+1)","v":""},{"$f":"IF(Table1012[[#This Row],[Affected_Source_List]]=\"\",\"\",Table1012[[#This Row],[Affected_Source_List]])","v":""},{"$f":"TRIM(MID(SUBSTITUTE($Q64,\" - \",REPT(\" \",999)),COLUMNS($P:P)*999-998,999))","v":""},{"$f":"TRIM(MID(SUBSTITUTE($Q64,\" - \",REPT(\" \",999)),COLUMNS($P:Q)*999-998,999))","v":""},""]
[{"$f":"+IF(K65=\"\",\"\",MAX(A$1:A64)+1)","v":""},{"$f":"+IF(J65=\"\",\"\",MAX(B$1:B64)+1)","v":""},{"$f":"IF(Process_Identification!B86=\"\",\"\",Process_Identification!B86)","v":""},{"$f":"IF(Process_Identification!C86=\"\",\"\",Process_Identification!C86)","v":""},{"$f":"IF(Process_Identification!D86=\"\",\"\",Process_Identification!D86)","v":""},{"$f":"IF(Process_Identification!E86=\"\",\"\",Process_Identification!E86)","v":""},{"$f":"IF(Process_Identification!F86=\"\",\"\",Process_Identification!F86)","v":""},"","",{"$f":"IF(COUNTIF(H$2:H65,H65)=1,H65,\"\")","v":""},"",{"$f":"IF(SUMIF(Table1012[Concat: Company & Affected Source],K65,Table1012[Operating_Hours])=0,\"\",SUMIF(Table1012[Concat: Company & Affected Source],K65,Table1012[Operating_Hours]))","v":""},null,null,null,{"$f":"+IF(T65=\"\",\"\",MAX(P$1:P64)+1)","v":""},{"$f":"IF(Table1012[[#This Row],[Affected_Source_List]]=\"\",\"\",Table1012[[#This Row],[Affected_Source_List]])","v":""},{"$f":"TRIM(MID(SUBSTITUTE($Q65,\" - \",REPT(\" \",999)),COLUMNS($P:P)*999-998,999))","v":""},{"$f":"TRIM(MID(SUBSTITUTE($Q65,\" - \",REPT(\" \",999)),COLUMNS($P:Q)*999-998,999))","v":""},""]
[{"$f":"+IF(K66=\"\",\"\",MAX(A$1:A65)+1)","v":""},{"$f":"+IF(J66=\"\",\"\",MAX(B$1:B65)+1)","v":""},{"$f":"IF(Process_Identification!B87=\"\",\"\",Process_Identification!B87)","v":""},{"$f":"IF(Process_Identification!C87=\"\",\"\",Process_Identification!C87)","v":""},{"$f":"IF(Process_Identification!D87=\"\",\"\",Process_Identification!D87)","v":""},{"$f":"IF(Process_Identification!E87=\"\",\"\",Process_Identification!E87)","v":""},{"$f":"IF(Process_Identification!F87=\"\",\"\",Process_Identification!F87)","v":""},"","",{"$f":"IF(COUNTIF(H$2:H66,H66)=1,H66,\"\")","v":""},"",{"$f":"IF(SUMIF(Table1012[Concat: Company & Affected Source],K66,Table1012[Operating_Hours])=0,\"\",SUMIF(Table1012[Concat: Company & Affected Source],K66,Table1012[Operating_Hours]))","v":""},null,null,null,{"$f":"+IF(T66=\"\",\"\",MAX(P$1:P65)+1)","v":""},{"$f":"IF(Table1012[[#This Row],[Affected_Source_List]]=\"\",\"\",Table1012[[#This Row],[Affected_Source_List]])","v":""},{"$f":"TRIM(MID(SUBSTITUTE($Q66,\" - \",REPT(\" \",999)),COLUMNS($P:P)*999-998,999))","v":""},{"$f":"TRIM(MID(SUBSTITUTE($Q66,\" - \",REPT(\" \",999)),COLUMNS($P:Q)*999-998,999))","v":""},""]
[{"$f":"+IF(K67=\"\",\"\",MAX(A$1:A66)+1)","v":""},{"$f":"+IF(J67=\"\",\"\",MAX(B$1:B66)+1)","v":""},{"$f":"IF(Process_Identification!B88=\"\",\"\",Process_Identification!B88)","v":""},{"$f":"IF(Process_Identification!C88=\"\",\"\",Process_Identification!C88)","v":""},{"$f":"IF(Process_Identification!D88=\"\",\"\",Process_Identification!D88)","v":""},{"$f":"IF(Process_Identification!E88=\"\",\"\",Process_Identification!E88)","v":""},{"$f":"IF(Process_Identification!F88=\"\",\"\",Process_Identification!F88)","v":""},"","",{"$f":"IF(COUNTIF(H$2:H67,H67)=1,H67,\"\")","v":""},{"$f":"+IFERROR(INDEX($J$2:$J$101,MATCH(ROW()-ROW($K$2),$B$2:$B$100,0)),\"\")","v":""},{"$f":"IF(SUMIF(Table1012[Concat: Company & Affected Source],K67,Table1012[Operating_Hours])=0,\"\",SUMIF(Table1012[Concat: Company & Affected Source],K67,Table1012[Operating_Hours]))","v":""},null,null,null,{"$f":"+IF(T67=\"\",\"\",MAX(P$1:P66)+1)","v":""},{"$f":"IF(Table1012[[#This Row],[Affected_Source_List]]=\"\",\"\",Table1012[[#This Row],[Affected_Source_List]])","v":""},{"$f":"TRIM(MID(SUBSTITUTE($Q67,\" - \",REPT(\" \",999)),COLUMNS($P:P)*999-998,999))","v":""},{"$f":"TRIM(MID(SUBSTITUTE($Q67,\" - \",REPT(\" \",999)),COLUMNS($P:Q)*999-998,999))","v":""},""]
[{"$f":"+IF(K68=\"\",\"\",MAX(A$1:A67)+1)","v":""},{"$f":"+IF(J68=\"\",\"\",MAX(B$1:B67)+1)","v":""},{"$f":"IF(Process_Identification!B89=\"\",\"\",Process_Identification!B89)","v":""},{"$f":"IF(Process_Identification!C89=\"\",\"\",Process_Identification!C89)","v":""},{"$f":"IF(Process_Identification!D89=\"\",\"\",Process_Identification!D89)","v":""},{"$f":"IF(Process_Identification!E89=\"\",\"\",Process_Identification!E89)","v":""},{"$f":"IF(Process_Identification!F89=\"\",\"\",Process_Identification!F89)","v":""},{"$f":"IF(C68=\"\",\"\",C68&\" - \"&D68)","v":""},{"$f":"IF(C68=\"\",\"\",C68&\" - \"&D68&\" - \"&E68)","v":""},{"$f":"IF(COUNTIF(H$2:H68,H68)=1,H68,\"\")","v":""},"",{"$f":"IF(SUMIF(Table1012[Concat: Company & Affected Source],K68,Table1012[Operating_Hours])=0,\"\",SUMIF(Table1012[Concat: Company & Affected Source],K68,Table1012[Operating_Hours]))","v":""},null,null,null,{"$f":"+IF(T68=\"\",\"\",MAX(P$1:P67)+1)","v":""},{"$f":"IF(Table1012[[#This Row],[Affected_Source_List]]=\"\",\"\",Table1012[[#This Row],[Affected_Source_List]])","v":""},{"$f":"TRIM(MID(SUBSTITUTE($Q68,\" - \",REPT(\" \",999)),COLUMNS($P:P)*999-998,999))","v":""},{"$f":"TRIM(MID(SUBSTITUTE($Q68,\" - \",REPT(\" \",999)),COLUMNS($P:Q)*999-998,999))","v":""},{"$f":"VLOOKUP(Q68,$K$3:$L$501,2,FALSE)","v":""}]
[{"$f":"+IF(K69=\"\",\"\",MAX(A$1:A68)+1)","v":""},{"$f":"+IF(J69=\"\",\"\",MAX(B$1:B68)+1)","v":""},{"$f":"IF(Process_Identification!B90=\"\",\"\",Process_Identification!B90)","v":""},{"$f":"IF(Process_Identification!C90=\"\",\"\",Process_Identification!C90)","v":""},{"$f":"IF(Process_Identification!D90=\"\",\"\",Process_Identification!D90)","v":""},{"$f":"IF(Process_Identification!E90=\"\",\"\",Process_Identification!E90)","v":""},{"$f":"IF(Process_Identification!F90=\"\",\"\",Process_Identification!F90)","v":""},"","",{"$f":"IF(COUNTIF(H$2:H69,H69)=1,H69,\"\")","v":""},"",{"$f":"IF(SUMIF(Table1012[Concat: Company & Affected Source],K69,Table1012[Operating_Hours])=0,\"\",SUMIF(Table1012[Concat: Company & Affected Source],K69,Table1012[Operating_Hours]))","v":""},null,null,null,{"$f":"+IF(T69=\"\",\"\",MAX(P$1:P68)+1)","v":""},{"$f":"IF(Table1012[[#This Row],[Affected_Source_List]]=\"\",\"\",Table1012[[#This Row],[Affected_Source_List]])","v":""},{"$f":"TRIM(MID(SUBSTITUTE($Q69,\" - \",REPT(\" \",999)),COLUMNS($P:P)*999-998,999))","v":""},{"$f":"TRIM(MID(SUBSTITUTE($Q69,\" - \",REPT(\" \",999)),COLUMNS($P:Q)*999-998,999))","v":""},""]
[{"$f":"+IF(K70=\"\",\"\",MAX(A$1:A69)+1)","v":""},{"$f":"+IF(J70=\"\",\"\",MAX(B$1:B69)+1)","v":""},{"$f":"IF(Process_Identification!B91=\"\",\"\",Process_Identification!B91)","v":""},{"$f":"IF(Process_Identification!C91=\"\",\"\",Process_Identification!C91)","v":""},{"$f":"IF(Process_Identification!D91=\"\",\"\",Process_Identification!D91)","v":""},{"$f":"IF(Process_Identification!E91=\"\",\"\",Process_Identification!E91)","v":""},{"$f":"IF(Process_Identification!F91=\"\",\"\",Process_Identification!F91)","v":""},"","",{"$f":"IF(COUNTIF(H$2:H70,H70)=1,H70,\"\")","v":""},"",{"$f":"IF(SUMIF(Table1012[Concat: Company & Affected Source],K70,Table1012[Operating_Hours])=0,\"\",SUMIF(Table1012[Concat: Company & Affected Source],K70,Table1012[Operating_Hours]))","v":""},null,null,null,{"$f":"+IF(T70=\"\",\"\",MAX(P$1:P69)+1)","v":""},{"$f":"IF(Table1012[[#This Row],[Affected_Source_List]]=\"\",\"\",Table1012[[#This Row],[Affected_Source_List]])","v":""},{"$f":"TRIM(MID(SUBSTITUTE($Q70,\" - \",REPT(\" \",999)),COLUMNS($P:P)*999-998,999))","v":""},{"$f":"TRIM(MID(SUBSTITUTE($Q70,\" - \",REPT(\" \",999)),COLUMNS($P:Q)*999-998,999))","v":""},""]
[{"$f":"+IF(K71=\"\",\"\",MAX(A$1:A70)+1)","v":""},{"$f":"+IF(J71=\"\",\"\",MAX(B$1:B70)+1)","v":""},{"$f":"IF(Process_Identification!B92=\"\",\"\",Process_Identification!B92)","v":""},{"$f":"IF(Process_Identification!C92=\"\",\"\",Process_Identification!C92)","v":""},{"$f":"IF(Process_Identification!D92=\"\",\"\",Process_Identification!D92)","v":""},{"$f":"IF(Process_Identification!E92=\"\",\"\",Process_Identification!E92)","v":""},{"$f":"IF(Process_Identification!F92=\"\",\"\",Process_Identification!F92)","v":""},"","",{"$f":"IF(COUNTIF(H$2:H71,H71)=1,H71,\"\")","v":""},"",{"$f":"IF(SUMIF(Table1012[Concat: Company & Affected Source],K71,Table1012[Operating_Hours])=0,\"\",SUMIF(Table1012[Concat: Company & Affected Source],K71,Table1012[Operating_Hours]))","v":""},null,null,null,{"$f":"+IF(T71=\"\",\"\",MAX(P$1:P70)+1)","v":""},{"$f":"IF(Table1012[[#This Row],[Affected_Source_List]]=\"\",\"\",Table1012[[#This Row],[Affected_Source_List]])","v":""},{"$f":"TRIM(MID(SUBSTITUTE($Q71,\" - \",REPT(\" \",999)),COLUMNS($P:P)*999-998,999))","v":""},{"$f":"TRIM(MID(SUBSTITUTE($Q71,\" - \",REPT(\" \",999)),COLUMNS($P:Q)*999-998,999))","v":""},""]
[{"$f":"+IF(K72=\"\",\"\",MAX(A$1:A71)+1)","v":""},{"$f":"+IF(J72=\"\",\"\",MAX(B$1:B71)+1)","v":""},{"$f":"IF(Process_Identification!B93=\"\",\"\",Process_Identification!B93)","v":""},{"$f":"IF(Process_Identification!C93=\"\",\"\",Process_Identification!C93)","v":""},{"$f":"IF(Process_Identification!D93=\"\",\"\",Process_Identification!D93)","v":""},{"$f":"IF(Process_Identification!E93=\"\",\"\",Process_Identification!E93)","v":""},{"$f":"IF(Process_Identification!F93=\"\",\"\",Process_Identification!F93)","v":""},"","",{"$f":"IF(COUNTIF(H$2:H72,H72)=1,H72,\"\")","v":""},"",{"$f":"IF(SUMIF(Table1012[Concat: Company & Affected Source],K72,Table1012[Operating_Hours])=0,\"\",SUMIF(Table1012[Concat: Company & Affected Source],K72,Table1012[Operating_Hours]))","v":""},null,null,null,{"$f":"+IF(T72=\"\",\"\",MAX(P$1:P71)+1)","v":""},{"$f":"IF(Table1012[[#This Row],[Affected_Source_List]]=\"\",\"\",Table1012[[#This Row],[Affected_Source_List]])","v":""},{"$f":"TRIM(MID(SUBSTITUTE($Q72,\" - \",REPT(\" \",999)),COLUMNS($P:P)*999-998,999))","v":""},{"$f":"TRIM(MID(SUBSTITUTE($Q72,\" - \",REPT(\" \",999)),COLUMNS($P:Q)*999-998,999))","v":""},""]
[{"$f":"+IF(K73=\"\",\"\",MAX(A$1:A72)+1)","v":""},{"$f":"+IF(J73=\"\",\"\",MAX(B$1:B72)+1)","v":""},{"$f":"IF(Process_Identification!B94=\"\",\"\",Process_Identification!B94)","v":""},{"$f":"IF(Process_Identification!C94=\"\",\"\",Process_Identification!C94)","v":""},{"$f":"IF(Process_Identification!D94=\"\",\"\",Process_Identification!D94)","v":""},{"$f":"IF(Process_Identification!E94=\"\",\"\",Process_Identification!E94)","v":""},{"$f":"IF(Process_Identification!F94=\"\",\"\",Process_Identification!F94)","v":""},"","",{"$f":"IF(COUNTIF(H$2:H73,H73)=1,H73,\"\")","v":""},"",{"$f":"IF(SUMIF(Table1012[Concat: Company & Affected Source],K73,Table1012[Operating_Hours])=0,\"\",SUMIF(Table1012[Concat: Company & Affected Source],K73,Table1012[Operating_Hours]))","v":""},null,null,null,{"$f":"+IF(T73=\"\",\"\",MAX(P$1:P72)+1)","v":""},{"$f":"IF(Table1012[[#This Row],[Affected_Source_List]]=\"\",\"\",Table1012[[#This Row],[Affected_Source_List]])","v":""},{"$f":"TRIM(MID(SUBSTITUTE($Q73,\" - \",REPT(\" \",999)),COLUMNS($P:P)*999-998,999))","v":""},{"$f":"TRIM(MID(SUBSTITUTE($Q73,\" - \",REPT(\" \",999)),COLUMNS($P:Q)*999-998,999))","v":""},""]
[{"$f":"+IF(K74=\"\",\"\",MAX(A$1:A73)+1)","v":""},{"$f":"+IF(J74=\"\",\"\",MAX(B$1:B73)+1)","v":""},{"$f":"IF(Process_Identification!B95=\"\",\"\",Process_Identification!B95)","v":""},{"$f":"IF(Process_Identification!C95=\"\",\"\",Process_Identification!C95)","v":""},{"$f":"IF(Process_Identification!D95=\"\",\"\",Process_Identification!D95)","v":""},{"$f":"IF(Process_Identification!E95=\"\",\"\",Process_Identification!E95)","v":""},{"$f":"IF(Process_Identification!F95=\"\",\"\",Process_Identification!F95)","v":""},"","",{"$f":"IF(COUNTIF(H$2:H74,H74)=1,H74,\"\")","v":""},"",{"$f":"IF(SUMIF(Table1012[Concat: Company & Affected Source],K74,Table1012[Operating_Hours])=0,\"\",SUMIF(Table1012[Concat: Company & Affected Source],K74,Table1012[Operating_Hours]))","v":""},null,null,null,{"$f":"+IF(T74=\"\",\"\",MAX(P$1:P73)+1)","v":""},{"$f":"IF(Table1012[[#This Row],[Affected_Source_List]]=\"\",\"\",Table1012[[#This Row],[Affected_Source_List]])","v":""},{"$f":"TRIM(MID(SUBSTITUTE($Q74,\" - \",REPT(\" \",999)),COLUMNS($P:P)*999-998,999))","v":""},{"$f":"TRIM(MID(SUBSTITUTE($Q74,\" - \",REPT(\" \",999)),COLUMNS($P:Q)*999-998,999))","v":""},""]
[{"$f":"+IF(K75=\"\",\"\",MAX(A$1:A74)+1)","v":""},{"$f":"+IF(J75=\"\",\"\",MAX(B$1:B74)+1)","v":""},{"$f":"IF(Process_Identification!B96=\"\",\"\",Process_Identification!B96)","v":""},{"$f":"IF(Process_Identification!C96=\"\",\"\",Process_Identification!C96)","v":""},{"$f":"IF(Process_Identification!D96=\"\",\"\",Process_Identification!D96)","v":""},{"$f":"IF(Process_Identification!E96=\"\",\"\",Process_Identification!E96)","v":""},{"$f":"IF(Process_Identification!F96=\"\",\"\",Process_Identification!F96)","v":""},"","",{"$f":"IF(COUNTIF(H$2:H75,H75)=1,H75,\"\")","v":""},"",{"$f":"IF(SUMIF(Table1012[Concat: Company & Affected Source],K75,Table1012[Operating_Hours])=0,\"\",SUMIF(Table1012[Concat: Company & Affected Source],K75,Table1012[Operating_Hours]))","v":""},null,null,null,{"$f":"+IF(T75=\"\",\"\",MAX(P$1:P74)+1)","v":""},{"$f":"IF(Table1012[[#This Row],[Affected_Source_List]]=\"\",\"\",Table1012[[#This Row],[Affected_Source_List]])","v":""},{"$f":"TRIM(MID(SUBSTITUTE($Q75,\" - \",REPT(\" \",999)),COLUMNS($P:P)*999-998,999))","v":""},{"$f":"TRIM(MID(SUBSTITUTE($Q75,\" - \",REPT(\" \",999)),COLUMNS($P:Q)*999-998,999))","v":""},""]
[{"$f":"+IF(K76=\"\",\"\",MAX(A$1:A75)+1)","v":""},{"$f":"+IF(J76=\"\",\"\",MAX(B$1:B75)+1)","v":""},{"$f":"IF(Process_Identification!B97=\"\",\"\",Process_Identification!B97)","v":""},{"$f":"IF(Process_Identification!C97=\"\",\"\",Process_Identification!C97)","v":""},{"$f":"IF(Process_Identification!D97=\"\",\"\",Process_Identification!D97)","v":""},{"$f":"IF(Process_Identification!E97=\"\",\"\",Process_Identification!E97)","v":""},{"$f":"IF(Process_Identification!F97=\"\",\"\",Process_Identification!F97)","v":""},"","",{"$f":"IF(COUNTIF(H$2:H76,H76)=1,H76,\"\")","v":""},"",{"$f":"IF(SUMIF(Table1012[Concat: Company & Affected Source],K76,Table1012[Operating_Hours])=0,\"\",SUMIF(Table1012[Concat: Company & Affected Source],K76,Table1012[Operating_Hours]))","v":""},null,null,null,{"$f":"+IF(T76=\"\",\"\",MAX(P$1:P75)+1)","v":""},{"$f":"IF(Table1012[[#This Row],[Affected_Source_List]]=\"\",\"\",Table1012[[#This Row],[Affected_Source_List]])","v":""},{"$f":"TRIM(MID(SUBSTITUTE($Q76,\" - \",REPT(\" \",999)),COLUMNS($P:P)*999-998,999))","v":""},{"$f":"TRIM(MID(SUBSTITUTE($Q76,\" - \",REPT(\" \",999)),COLUMNS($P:Q)*999-998,999))","v":""},""]
[{"$f":"+IF(K77=\"\",\"\",MAX(A$1:A76)+1)","v":""},{"$f":"+IF(J77=\"\",\"\",MAX(B$1:B76)+1)","v":""},{"$f":"IF(Process_Identification!B98=\"\",\"\",Process_Identification!B98)","v":""},{"$f":"IF(Process_Identification!C98=\"\",\"\",Process_Identification!C98)","v":""},{"$f":"IF(Process_Identification!D98=\"\",\"\",Process_Identification!D98)","v":""},{"$f":"IF(Process_Identification!E98=\"\",\"\",Process_Identification!E98)","v":""},{"$f":"IF(Process_Identification!F98=\"\",\"\",Process_Identification!F98)","v":""},"","",{"$f":"IF(COUNTIF(H$2:H77,H77)=1,H77,\"\")","v":""},"",{"$f":"IF(SUMIF(Table1012[Concat: Company & Affected Source],K77,Table1012[Operating_Hours])=0,\"\",SUMIF(Table1012[Concat: Company & Affected Source],K77,Table1012[Operating_Hours]))","v":""},null,null,null,{"$f":"+IF(T77=\"\",\"\",MAX(P$1:P76)+1)","v":""},{"$f":"IF(Table1012[[#This Row],[Affected_Source_List]]=\"\",\"\",Table1012[[#This Row],[Affected_Source_List]])","v":""},{"$f":"TRIM(MID(SUBSTITUTE($Q77,\" - \",REPT(\" \",999)),COLUMNS($P:P)*999-998,999))","v":""},{"$f":"TRIM(MID(SUBSTITUTE($Q77,\" - \",REPT(\" \",999)),COLUMNS($P:Q)*999-998,999))","v":""},""]
[{"$f":"+IF(K78=\"\",\"\",MAX(A$1:A77)+1)","v":""},{"$f":"+IF(J78=\"\",\"\",MAX(B$1:B77)+1)","v":""},{"$f":"IF(Process_Identification!B99=\"\",\"\",Process_Identification!B99)","v":""},{"$f":"IF(Process_Identification!C99=\"\",\"\",Process_Identification!C99)","v":""},{"$f":"IF(Process_Identification!D99=\"\",\"\",Process_Identification!D99)","v":""},{"$f":"IF(Process_Identification!E99=\"\",\"\",Process_Identification!E99)","v":""},{"$f":"IF(Process_Identification!F99=\"\",\"\",Process_Identification!F99)","v":""},"","",{"$f":"IF(COUNTIF(H$2:H78,H78)=1,H78,\"\")","v":""},"",{"$f":"IF(SUMIF(Table1012[Concat: Company & Affected Source],K78,Table1012[Operating_Hours])=0,\"\",SUMIF(Table1012[Concat: Company & Affected Source],K78,Table1012[Operating_Hours]))","v":""},null,null,null,{"$f":"+IF(T78=\"\",\"\",MAX(P$1:P77)+1)","v":""},{"$f":"IF(Table1012[[#This Row],[Affected_Source_List]]=\"\",\"\",Table1012[[#This Row],[Affected_Source_List]])","v":""},{"$f":"TRIM(MID(SUBSTITUTE($Q78,\" - \",REPT(\" \",999)),COLUMNS($P:P)*999-998,999))","v":""},{"$f":"TRIM(MID(SUBSTITUTE($Q78,\" - \",REPT(\" \",999)),COLUMNS($P:Q)*999-998,999))","v":""},""]
[{"$f":"+IF(K79=\"\",\"\",MAX(A$1:A78)+1)","v":""},{"$f":"+IF(J79=\"\",\"\",MAX(B$1:B78)+1)","v":""},{"$f":"IF(Process_Identification!B100=\"\",\"\",Process_Identification!B100)","v":""},{"$f":"IF(Process_Identification!C100=\"\",\"\",Process_Identification!C100)","v":""},{"$f":"IF(Process_Identification!D100=\"\",\"\",Process_Identification!D100)","v":""},{"$f":"IF(Process_Identification!E100=\"\",\"\",Process_Identification!E100)","v":""},{"$f":"IF(Process_Identification!F100=\"\",\"\",Process_Identification!F100)","v":""},"","",{"$f":"IF(COUNTIF(H$2:H79,H79)=1,H79,\"\")","v":""},"",{"$f":"IF(SUMIF(Table1012[Concat: Company & Affected Source],K79,Table1012[Operating_Hours])=0,\"\",SUMIF(Table1012[Concat: Company & Affected Source],K79,Table1012[Operating_Hours]))","v":""},null,null,null,{"$f":"+IF(T79=\"\",\"\",MAX(P$1:P78)+1)","v":""},{"$f":"IF(Table1012[[#This Row],[Affected_Source_List]]=\"\",\"\",Table1012[[#This Row],[Affected_Source_List]])","v":""},{"$f":"TRIM(MID(SUBSTITUTE($Q79,\" - \",REPT(\" \",999)),COLUMNS($P:P)*999-998,999))","v":""},{"$f":"TRIM(MID(SUBSTITUTE($Q79,\" - \",REPT(\" \",999)),COLUMNS($P:Q)*999-998,999))","v":""},""]
[null,null,{"$f":"IF(CMS_Identification!B101=\"\",\"\",CMS_Identification!B101)","v":""},{"$f":"IF(CMS_Identification!#REF!=\"\",\"\",CMS_Identification!#REF!)","v":{"$error":"#REF!"}},null,null,null,null,{"$f":"IF(A80=\"\",\"\",A80&\" \"&C80)","v":""}]
[null,null,{"$f":"IF(CMS_Identification!B102=\"\",\"\",CMS_Identification!B102)","v":""},{"$f":"IF(CMS_Identification!#REF!=\"\",\"\",CMS_Identification!#REF!)","v":{"$error":"#REF!"}},null,null,null,null,""]
[null,null,{"$f":"IF(CMS_Identification!B103=\"\",\"\",CMS_Identification!B103)","v":""},{"$f":"IF(CMS_Identification!#REF!=\"\",\"\",CMS_Identification!#REF!)","v":{"$error":"#REF!"}},null,null,null,null,""]
[null,null,{"$f":"IF(CMS_Identification!B104=\"\",\"\",CMS_Identification!B104)","v":""},{"$f":"IF(CMS_Identification!#REF!=\"\",\"\",CMS_Identification!#REF!)","v":{"$error":"#REF!"}},null,null,null,null,""]
[null,null,{"$f":"IF(CMS_Identification!B105=\"\",\"\",CMS_Identification!B105)","v":""},{"$f":"IF(CMS_Identification!#REF!=\"\",\"\",CMS_Identification!#REF!)","v":{"$error":"#REF!"}},null,null,null,null,""]
[null,null,{"$f":"IF(CMS_Identification!B106=\"\",\"\",CMS_Identification!B106)","v":""},{"$f":"IF(CMS_Identification!#REF!=\"\",\"\",CMS_Identification!#REF!)","v":{"$error":"#REF!"}},null,null,null,null,""]
[null,null,{"$f":"IF(CMS_Identification!B107=\"\",\"\",CMS_Identification!B107)","v":""},{"$f":"IF(CMS_Identification!#REF!=\"\",\"\",CMS_Identification!#REF!)","v":{"$error":"#REF!"}},null,null,null,null,""]
[null,null,{"$f":"IF(CMS_Identification!B108=\"\",\"\",CMS_Identification!B108)","v":""},{"$f":"IF(CMS_Identification!#REF!=\"\",\"\",CMS_Identification!#REF!)","v":{"$error":"#REF!"}},null,null,null,null,""]
[null,null,{"$f":"IF(CMS_Identification!B109=\"\",\"\",CMS_Identification!B109)","v":""},{"$f":"IF(CMS_Identification!#REF!=\"\",\"\",CMS_Identification!#REF!)","v":{"$error":"#REF!"}},null,null,null,null,""]
[null,null,{"$f":"IF(CMS_Identification!B110=\"\",\"\",CMS_Identification!B110)","v":""},{"$f":"IF(CMS_Identification!#REF!=\"\",\"\",CMS_Identification!#REF!)","v":{"$error":"#REF!"}},null,null,null,null,""]
[null,null,{"$f":"IF(CMS_Identification!B111=\"\",\"\",CMS_Identification!B111)","v":""},{"$f":"IF(CMS_Identification!#REF!=\"\",\"\",CMS_Identification!#REF!)","v":{"$error":"#REF!"}},null,null,null,null,""]
[null,null,{"$f":"IF(CMS_Identification!B112=\"\",\"\",CMS_Identification!B112)","v":""},{"$f":"IF(CMS_Identification!#REF!=\"\",\"\",CMS_Identification!#REF!)","v":{"$error":"#REF!"}},null,null,null,null,""]
[null,null,{"$f":"IF(CMS_Identification!B113=\"\",\"\",CMS_Identification!B113)","v":""},{"$f":"IF(CMS_Identification!#REF!=\"\",\"\",CMS_Identification!#REF!)","v":{"$error":"#REF!"}},null,null,null,null,""]
[null,null,{"$f":"IF(CMS_Identification!B114=\"\",\"\",CMS_Identification!B114)","v":""},{"$f":"IF(CMS_Identification!#REF!=\"\",\"\",CMS_Identification!#REF!)","v":{"$error":"#REF!"}},null,null,null,null,""]
[null,null,{"$f":"IF(CMS_Identification!B115=\"\",\"\",CMS_Identification!B115)","v":""},{"$f":"IF(CMS_Identification!#REF!=\"\",\"\",CMS_Identification!#REF!)","v":{"$error":"#REF!"}},null,null,null,null,""]
[null,null,{"$f":"IF(CMS_Identification!B116=\"\",\"\",CMS_Identification!B116)","v":""},{"$f":"IF(CMS_Identification!#REF!=\"\",\"\",CMS_Identification!#REF!)","v":{"$error":"#REF!"}},null,null,null,null,""]
[null,null,{"$f":"IF(CMS_Identification!B117=\"\",\"\",CMS_Identification!B117)","v":""},{"$f":"IF(CMS_Identification!#REF!=\"\",\"\",CMS_Identification!#REF!)","v":{"$error":"#REF!"}},null,null,null,null,""]
[null,null,{"$f":"IF(CMS_Identification!B118=\"\",\"\",CMS_Identification!B118)","v":""},{"$f":"IF(CMS_Identification!#REF!=\"\",\"\",CMS_Identification!#REF!)","v":{"$error":"#REF!"}},null,null,null,null,""]
[null,null,{"$f":"IF(CMS_Identification!B119=\"\",\"\",CMS_Identification!B119)","v":""},{"$f":"IF(CMS_Identification!#REF!=\"\",\"\",CMS_Identification!#REF!)","v":{"$error":"#REF!"}},null,null,null,null,""]
[null,null,{"$f":"IF(CMS_Identification!B120=\"\",\"\",CMS_Identification!B120)","v":""},{"$f":"IF(CMS_Identification!#REF!=\"\",\"\",CMS_Identification!#REF!)","v":{"$error":"#REF!"}},null,null,null,null,""]
[null,null,{"$f":"IF(CMS_Identification!B121=\"\",\"\",CMS_Identification!B121)","v":""},{"$f":"IF(CMS_Identification!#REF!=\"\",\"\",CMS_Identification!#REF!)","v":{"$error":"#REF!"}},null,null,null,null,""]
[null,null,{"$f":"IF(CMS_Identification!B122=\"\",\"\",CMS_Identification!B122)","v":""},{"$f":"IF(CMS_Identification!#REF!=\"\",\"\",CMS_Identification!#REF!)","v":{"$error":"#REF!"}},null,null,null,null,""]
[null,null,{"$f":"IF(CMS_Identification!B123=\"\",\"\",CMS_Identification!B123)","v":""},{"$f":"IF(CMS_Identification!#REF!=\"\",\"\",CMS_Identification!#REF!)","v":{"$error":"#REF!"}},null,null,null,null,""]
[null,null,{"$f":"IF(CMS_Identification!B124=\"\",\"\",CMS_Identification!B124)","v":""},{"$f":"IF(CMS_Identification!#REF!=\"\",\"\",CMS_Identification!#REF!)","v":{"$error":"#REF!"}},null,null,null,null,""]
[null,null,{"$f":"IF(CMS_Identification!B125=\"\",\"\",CMS_Identification!B125)","v":""},{"$f":"IF(CMS_Identification!#REF!=\"\",\"\",CMS_Identification!#REF!)","v":{"$error":"#REF!"}},null,null,null,null,""]
[null,null,{"$f":"IF(CMS_Identification!B126=\"\",\"\",CMS_Identification!B126)","v":""},{"$f":"IF(CMS_Identification!#REF!=\"\",\"\",CMS_Identification!#REF!)","v":{"$error":"#REF!"}},null,null,null,null,""]
[null,null,{"$f":"IF(CMS_Identification!B127=\"\",\"\",CMS_Identification!B127)","v":""},{"$f":"IF(CMS_Identification!#REF!=\"\",\"\",CMS_Identification!#REF!)","v":{"$error":"#REF!"}},null,null,null,null,""]
[null,null,{"$f":"IF(CMS_Identification!B128=\"\",\"\",CMS_Identification!B128)","v":""},{"$f":"IF(CMS_Identification!#REF!=\"\",\"\",CMS_Identification!#REF!)","v":{"$error":"#REF!"}},null,null,null,null,""]
[null,null,{"$f":"IF(CMS_Identification!B129=\"\",\"\",CMS_Identification!B129)","v":""},{"$f":"IF(CMS_Identification!#REF!=\"\",\"\",CMS_Identification!#REF!)","v":{"$error":"#REF!"}},null,null,null,null,""]
[null,null,{"$f":"IF(CMS_Identification!B130=\"\",\"\",CMS_Identification!B130)","v":""},{"$f":"IF(CMS_Identification!#REF!=\"\",\"\",CMS_Identification!#REF!)","v":{"$error":"#REF!"}},null,null,null,null,""]
[null,null,{"$f":"IF(CMS_Identification!B131=\"\",\"\",CMS_Identification!B131)","v":""},{"$f":"IF(CMS_Identification!#REF!=\"\",\"\",CMS_Identification!#REF!)","v":{"$error":"#REF!"}},null,null,null,null,""]
[null,null,{"$f":"IF(CMS_Identification!B132=\"\",\"\",CMS_Identification!B132)","v":""},{"$f":"IF(CMS_Identification!#REF!=\"\",\"\",CMS_Identification!#REF!)","v":{"$error":"#REF!"}},null,null,null,null,""]
[null,null,{"$f":"IF(CMS_Identification!B133=\"\",\"\",CMS_Identification!B133)","v":""},{"$f":"IF(CMS_Identification!#REF!=\"\",\"\",CMS_Identification!#REF!)","v":{"$error":"#REF!"}},null,null,null,null,""]
[null,null,{"$f":"IF(CMS_Identification!B134=\"\",\"\",CMS_Identification!B134)","v":""},{"$f":"IF(CMS_Identification!#REF!=\"\",\"\",CMS_Identification!#REF!)","v":{"$error":"#REF!"}},null,null,null,null,""]
[null,null,{"$f":"IF(CMS_Identification!B135=\"\",\"\",CMS_Identification!B135)","v":""},{"$f":"IF(CMS_Identification!#REF!=\"\",\"\",CMS_Identification!#REF!)","v":{"$error":"#REF!"}},null,null,null,null,""]
[null,null,{"$f":"IF(CMS_Identification!B136=\"\",\"\",CMS_Identification!B136)","v":""},{"$f":"IF(CMS_Identification!#REF!=\"\",\"\",CMS_Identification!#REF!)","v":{"$error":"#REF!"}},null,null,null,null,""]
[null,null,{"$f":"IF(CMS_Identification!B137=\"\",\"\",CMS_Identification!B137)","v":""},{"$f":"IF(CMS_Identification!#REF!=\"\",\"\",CMS_Identification!#REF!)","v":{"$error":"#REF!"}},null,null,null,null,""]
[null,null,{"$f":"IF(CMS_Identification!B138=\"\",\"\",CMS_Identification!B138)","v":""},{"$f":"IF(CMS_Identification!#REF!=\"\",\"\",CMS_Identification!#REF!)","v":{"$error":"#REF!"}},null,null,null,null,""]
[null,null,{"$f":"IF(CMS_Identification!B139=\"\",\"\",CMS_Identification!B139)","v":""},{"$f":"IF(CMS_Identification!#REF!=\"\",\"\",CMS_Identification!#REF!)","v":{"$error":"#REF!"}},null,null,null,null,""]
[null,null,{"$f":"IF(CMS_Identification!B140=\"\",\"\",CMS_Identification!B140)","v":""},{"$f":"IF(CMS_Identification!#REF!=\"\",\"\",CMS_Identification!#REF!)","v":{"$error":"#REF!"}},null,null,null,null,""]
[null,null,{"$f":"IF(CMS_Identification!B141=\"\",\"\",CMS_Identification!B141)","v":""},{"$f":"IF(CMS_Identification!#REF!=\"\",\"\",CMS_Identification!#REF!)","v":{"$error":"#REF!"}},null,null,null,null,""]
[null,null,{"$f":"IF(CMS_Identification!B142=\"\",\"\",CMS_Identification!B142)","v":""},{"$f":"IF(CMS_Identification!#REF!=\"\",\"\",CMS_Identification!#REF!)","v":{"$error":"#REF!"}},null,null,null,null,""]
[null,null,{"$f":"IF(CMS_Identification!B143=\"\",\"\",CMS_Identification!B143)","v":""},{"$f":"IF(CMS_Identification!#REF!=\"\",\"\",CMS_Identification!#REF!)","v":{"$error":"#REF!"}},null,null,null,null,""]
[null,null,{"$f":"IF(CMS_Identification!B144=\"\",\"\",CMS_Identification!B144)","v":""},{"$f":"IF(CMS_Identification!#REF!=\"\",\"\",CMS_Identification!#REF!)","v":{"$error":"#REF!"}},null,null,null,null,""]
[null,null,{"$f":"IF(CMS_Identification!B145=\"\",\"\",CMS_Identification!B145)","v":""},{"$f":"IF(CMS_Identification!#REF!=\"\",\"\",CMS_Identification!#REF!)","v":{"$error":"#REF!"}},null,null,null,null,""]
[null,null,{"$f":"IF(CMS_Identification!B146=\"\",\"\",CMS_Identification!B146)","v":""},{"$f":"IF(CMS_Identification!#REF!=\"\",\"\",CMS_Identification!#REF!)","v":{"$error":"#REF!"}},null,null,null,null,""]
[null,null,{"$f":"IF(CMS_Identification!B147=\"\",\"\",CMS_Identification!B147)","v":""},{"$f":"IF(CMS_Identification!#REF!=\"\",\"\",CMS_Identification!#REF!)","v":{"$error":"#REF!"}},null,null,null,null,""]
[null,null,{"$f":"IF(CMS_Identification!B148=\"\",\"\",CMS_Identification!B148)","v":""},{"$f":"IF(CMS_Identification!#REF!=\"\",\"\",CMS_Identification!#REF!)","v":{"$error":"#REF!"}},null,null,null,null,""]
[null,null,{"$f":"IF(CMS_Identification!B149=\"\",\"\",CMS_Identification!B149)","v":""},{"$f":"IF(CMS_Identification!#REF!=\"\",\"\",CMS_Identification!#REF!)","v":{"$error":"#REF!"}},null,null,null,null,""]
[null,null,{"$f":"IF(CMS_Identification!B150=\"\",\"\",CMS_Identification!B150)","v":""},{"$f":"IF(CMS_Identification!#REF!=\"\",\"\",CMS_Identification!#REF!)","v":{"$error":"#REF!"}},null,null,null,null,""]
[null,null,{"$f":"IF(CMS_Identification!B151=\"\",\"\",CMS_Identification!B151)","v":""},{"$f":"IF(CMS_Identification!#REF!=\"\",\"\",CMS_Identification!#REF!)","v":{"$error":"#REF!"}},null,null,null,null,""]
[null,null,{"$f":"IF(CMS_Identification!B152=\"\",\"\",CMS_Identification!B152)","v":""},{"$f":"IF(CMS_Identification!#REF!=\"\",\"\",CMS_Identification!#REF!)","v":{"$error":"#REF!"}},null,null,null,null,""]
[null,null,{"$f":"IF(CMS_Identification!B153=\"\",\"\",CMS_Identification!B153)","v":""},{"$f":"IF(CMS_Identification!#REF!=\"\",\"\",CMS_Identification!#REF!)","v":{"$error":"#REF!"}},null,null,null,null,""]
[null,null,{"$f":"IF(CMS_Identification!B154=\"\",\"\",CMS_Identification!B154)","v":""},{"$f":"IF(CMS_Identification!#REF!=\"\",\"\",CMS_Identification!#REF!)","v":{"$error":"#REF!"}},null,null,null,null,""]
[null,null,{"$f":"IF(CMS_Identification!B155=\"\",\"\",CMS_Identification!B155)","v":""},{"$f":"IF(CMS_Identification!#REF!=\"\",\"\",CMS_Identification!#REF!)","v":{"$error":"#REF!"}},null,null,null,null,""]
[null,null,{"$f":"IF(CMS_Identification!B156=\"\",\"\",CMS_Identification!B156)","v":""},{"$f":"IF(CMS_Identification!#REF!=\"\",\"\",CMS_Identification!#REF!)","v":{"$error":"#REF!"}},null,null,null,null,""]
[null,null,{"$f":"IF(CMS_Identification!B157=\"\",\"\",CMS_Identification!B157)","v":""},{"$f":"IF(CMS_Identification!#REF!=\"\",\"\",CMS_Identification!#REF!)","v":{"$error":"#REF!"}},null,null,null,null,""]
[null,null,{"$f":"IF(CMS_Identification!B158=\"\",\"\",CMS_Identification!B158)","v":""},{"$f":"IF(CMS_Identification!#REF!=\"\",\"\",CMS_Identification!#REF!)","v":{"$error":"#REF!"}},null,null,null,null,""]
[null,null,{"$f":"IF(CMS_Identification!B159=\"\",\"\",CMS_Identification!B159)","v":""},{"$f":"IF(CMS_Identification!#REF!=\"\",\"\",CMS_Identification!#REF!)","v":{"$error":"#REF!"}},null,null,null,null,""]
[null,null,{"$f":"IF(CMS_Identification!B160=\"\",\"\",CMS_Identification!B160)","v":""},{"$f":"IF(CMS_Identification!#REF!=\"\",\"\",CMS_Identification!#REF!)","v":{"$error":"#REF!"}},null,null,null,null,""]
[null,null,{"$f":"IF(CMS_Identification!B161=\"\",\"\",CMS_Identification!B161)","v":""},{"$f":"IF(CMS_Identification!#REF!=\"\",\"\",CMS_Identification!#REF!)","v":{"$error":"#REF!"}},null,null,null,null,""]
[null,null,{"$f":"IF(CMS_Identification!B162=\"\",\"\",CMS_Identification!B162)","v":""},{"$f":"IF(CMS_Identification!#REF!=\"\",\"\",CMS_Identification!#REF!)","v":{"$error":"#REF!"}},null,null,null,null,""]
[null,null,{"$f":"IF(CMS_Identification!B163=\"\",\"\",CMS_Identification!B163)","v":""},{"$f":"IF(CMS_Identification!#REF!=\"\",\"\",CMS_Identification!#REF!)","v":{"$error":"#REF!"}},null,null,null,null,""]
[null,null,{"$f":"IF(CMS_Identification!B164=\"\",\"\",CMS_Identification!B164)","v":""},{"$f":"IF(CMS_Identification!#REF!=\"\",\"\",CMS_Identification!#REF!)","v":{"$error":"#REF!"}},null,null,null,null,""]
[null,null,{"$f":"IF(CMS_Identification!B165=\"\",\"\",CMS_Identification!B165)","v":""},{"$f":"IF(CMS_Identification!#REF!=\"\",\"\",CMS_Identification!#REF!)","v":{"$error":"#REF!"}},null,null,null,null,{"$f":"IF(A144=\"\",\"\",A144&\" \"&C144)","v":""}]
[null,null,{"$f":"IF(CMS_Identification!B166=\"\",\"\",CMS_Identification!B166)","v":""},{"$f":"IF(CMS_Identification!#REF!=\"\",\"\",CMS_Identification!#REF!)","v":{"$error":"#REF!"}},null,null,null,null,""]
[null,null,{"$f":"IF(CMS_Identification!B167=\"\",\"\",CMS_Identification!B167)","v":""},{"$f":"IF(CMS_Identification!#REF!=\"\",\"\",CMS_Identification!#REF!)","v":{"$error":"#REF!"}},null,null,null,null,""]
[null,null,{"$f":"IF(CMS_Identification!B168=\"\",\"\",CMS_Identification!B168)","v":""},{"$f":"IF(CMS_Identification!#REF!=\"\",\"\",CMS_Identification!#REF!)","v":{"$error":"#REF!"}},null,null,null,null,""]
[null,null,{"$f":"IF(CMS_Identification!B169=\"\",\"\",CMS_Identification!B169)","v":""},{"$f":"IF(CMS_Identification!#REF!=\"\",\"\",CMS_Identification!#REF!)","v":{"$error":"#REF!"}},null,null,null,null,""]
[null,null,{"$f":"IF(CMS_Identification!B170=\"\",\"\",CMS_Identification!B170)","v":""},{"$f":"IF(CMS_Identification!#REF!=\"\",\"\",CMS_Identification!#REF!)","v":{"$error":"#REF!"}},null,null,null,null,""]
[null,null,{"$f":"IF(CMS_Identification!B171=\"\",\"\",CMS_Identification!B171)","v":""},{"$f":"IF(CMS_Identification!#REF!=\"\",\"\",CMS_Identification!#REF!)","v":{"$error":"#REF!"}},null,null,null,null,""]
[null,null,{"$f":"IF(CMS_Identification!B172=\"\",\"\",CMS_Identification!B172)","v":""},{"$f":"IF(CMS_Identification!#REF!=\"\",\"\",CMS_Identification!#REF!)","v":{"$error":"#REF!"}},null,null,null,null,""]
[null,null,{"$f":"IF(CMS_Identification!B173=\"\",\"\",CMS_Identification!B173)","v":""},{"$f":"IF(CMS_Identification!#REF!=\"\",\"\",CMS_Identification!#REF!)","v":{"$error":"#REF!"}},null,null,null,null,""]
[null,null,{"$f":"IF(CMS_Identification!B174=\"\",\"\",CMS_Identification!B174)","v":""},{"$f":"IF(CMS_Identification!#REF!=\"\",\"\",CMS_Identification!#REF!)","v":{"$error":"#REF!"}},null,null,null,null,""]
[null,null,{"$f":"IF(CMS_Identification!B175=\"\",\"\",CMS_Identification!B175)","v":""},{"$f":"IF(CMS_Identification!#REF!=\"\",\"\",CMS_Identification!#REF!)","v":{"$error":"#REF!"}},null,null,null,null,""]
[null,null,{"$f":"IF(CMS_Identification!B176=\"\",\"\",CMS_Identification!B176)","v":""},{"$f":"IF(CMS_Identification!#REF!=\"\",\"\",CMS_Identification!#REF!)","v":{"$error":"#REF!"}},null,null,null,null,""]
[null,null,{"$f":"IF(CMS_Identification!B177=\"\",\"\",CMS_Identification!B177)","v":""},{"$f":"IF(CMS_Identification!#REF!=\"\",\"\",CMS_Identification!#REF!)","v":{"$error":"#REF!"}},null,null,null,null,""]
[null,null,{"$f":"IF(CMS_Identification!B178=\"\",\"\",CMS_Identification!B178)","v":""},{"$f":"IF(CMS_Identification!#REF!=\"\",\"\",CMS_Identification!#REF!)","v":{"$error":"#REF!"}},null,null,null,null,""]
[null,null,{"$f":"IF(CMS_Identification!B179=\"\",\"\",CMS_Identification!B179)","v":""},{"$f":"IF(CMS_Identification!#REF!=\"\",\"\",CMS_Identification!#REF!)","v":{"$error":"#REF!"}},null,null,null,null,""]
[null,null,{"$f":"IF(CMS_Identification!B180=\"\",\"\",CMS_Identification!B180)","v":""},{"$f":"IF(CMS_Identification!#REF!=\"\",\"\",CMS_Identification!#REF!)","v":{"$error":"#REF!"}},null,null,null,null,""]
[null,null,{"$f":"IF(CMS_Identification!B181=\"\",\"\",CMS_Identification!B181)","v":""},{"$f":"IF(CMS_Identification!#REF!=\"\",\"\",CMS_Identification!#REF!)","v":{"$error":"#REF!"}},null,null,null,null,""]
[null,null,{"$f":"IF(CMS_Identification!B182=\"\",\"\",CMS_Identification!B182)","v":""},{"$f":"IF(CMS_Identification!#REF!=\"\",\"\",CMS_Identification!#REF!)","v":{"$error":"#REF!"}},null,null,null,null,""]
[null,null,{"$f":"IF(CMS_Identification!B183=\"\",\"\",CMS_Identification!B183)","v":""},{"$f":"IF(CMS_Identification!#REF!=\"\",\"\",CMS_Identification!#REF!)","v":{"$error":"#REF!"}},null,null,null,null,""]
[null,null,{"$f":"IF(CMS_Identification!B184=\"\",\"\",CMS_Identification!B184)","v":""},{"$f":"IF(CMS_Identification!#REF!=\"\",\"\",CMS_Identification!#REF!)","v":{"$error":"#REF!"}},null,null,null,null,""]
[null,null,{"$f":"IF(CMS_Identification!B185=\"\",\"\",CMS_Identification!B185)","v":""},{"$f":"IF(CMS_Identification!#REF!=\"\",\"\",CMS_Identification!#REF!)","v":{"$error":"#REF!"}},null,null,null,null,""]
[null,null,{"$f":"IF(CMS_Identification!B186=\"\",\"\",CMS_Identification!B186)","v":""},{"$f":"IF(CMS_Identification!#REF!=\"\",\"\",CMS_Identification!#REF!)","v":{"$error":"#REF!"}},null,null,null,null,""]
[null,null,{"$f":"IF(CMS_Identification!B187=\"\",\"\",CMS_Identification!B187)","v":""},{"$f":"IF(CMS_Identification!#REF!=\"\",\"\",CMS_Identification!#REF!)","v":{"$error":"#REF!"}},null,null,null,null,""]
[null,null,{"$f":"IF(CMS_Identification!B188=\"\",\"\",CMS_Identification!B188)","v":""},{"$f":"IF(CMS_Identification!#REF!=\"\",\"\",CMS_Identification!#REF!)","v":{"$error":"#REF!"}},null,null,null,null,""]
[null,null,{"$f":"IF(CMS_Identification!B189=\"\",\"\",CMS_Identification!B189)","v":""},{"$f":"IF(CMS_Identification!#REF!=\"\",\"\",CMS_Identification!#REF!)","v":{"$error":"#REF!"}},null,null,null,null,""]
[null,null,{"$f":"IF(CMS_Identification!B190=\"\",\"\",CMS_Identification!B190)","v":""},{"$f":"IF(CMS_Identification!#REF!=\"\",\"\",CMS_Identification!#REF!)","v":{"$error":"#REF!"}},null,null,null,null,""]
[null,null,{"$f":"IF(CMS_Identification!B191=\"\",\"\",CMS_Identification!B191)","v":""},{"$f":"IF(CMS_Identification!#REF!=\"\",\"\",CMS_Identification!#REF!)","v":{"$error":"#REF!"}},null,null,null,null,""]
[null,null,{"$f":"IF(CMS_Identification!B192=\"\",\"\",CMS_Identification!B192)","v":""},{"$f":"IF(CMS_Identification!#REF!=\"\",\"\",CMS_Identification!#REF!)","v":{"$error":"#REF!"}},null,null,null,null,""]
[null,null,{"$f":"IF(CMS_Identification!B193=\"\",\"\",CMS_Identification!B193)","v":""},{"$f":"IF(CMS_Identification!#REF!=\"\",\"\",CMS_Identification!#REF!)","v":{"$error":"#REF!"}},null,null,null,null,""]
[null,null,{"$f":"IF(CMS_Identification!B194=\"\",\"\",CMS_Identification!B194)","v":""},{"$f":"IF(CMS_Identification!#REF!=\"\",\"\",CMS_Identification!#REF!)","v":{"$error":"#REF!"}},null,null,null,null,""]
[null,null,{"$f":"IF(CMS_Identification!B195=\"\",\"\",CMS_Identification!B195)","v":""},{"$f":"IF(CMS_Identification!#REF!=\"\",\"\",CMS_Identification!#REF!)","v":{"$error":"#REF!"}},null,null,null,null,""]
[null,null,{"$f":"IF(CMS_Identification!B196=\"\",\"\",CMS_Identification!B196)","v":""},{"$f":"IF(CMS_Identification!#REF!=\"\",\"\",CMS_Identification!#REF!)","v":{"$error":"#REF!"}},null,null,null,null,""]
[null,null,{"$f":"IF(CMS_Identification!B197=\"\",\"\",CMS_Identification!B197)","v":""},{"$f":"IF(CMS_Identification!#REF!=\"\",\"\",CMS_Identification!#REF!)","v":{"$error":"#REF!"}},null,null,null,null,""]
[null,null,{"$f":"IF(CMS_Identification!B198=\"\",\"\",CMS_Identification!B198)","v":""},{"$f":"IF(CMS_Identification!#REF!=\"\",\"\",CMS_Identification!#REF!)","v":{"$error":"#REF!"}},null,null,null,null,""]
[null,null,{"$f":"IF(CMS_Identification!B199=\"\",\"\",CMS_Identification!B199)","v":""},{"$f":"IF(CMS_Identification!#REF!=\"\",\"\",CMS_Identification!#REF!)","v":{"$error":"#REF!"}},null,null,null,null,""]
[null,null,{"$f":"IF(CMS_Identification!B200=\"\",\"\",CMS_Identification!B200)","v":""},{"$f":"IF(CMS_Identification!#REF!=\"\",\"\",CMS_Identification!#REF!)","v":{"$error":"#REF!"}},null,null,null,null,""]
[null,null,{"$f":"IF(CMS_Identification!B201=\"\",\"\",CMS_Identification!B201)","v":""},{"$f":"IF(CMS_Identification!#REF!=\"\",\"\",CMS_Identification!#REF!)","v":{"$error":"#REF!"}},null,null,null,null,""]
[null,null,{"$f":"IF(CMS_Identification!B202=\"\",\"\",CMS_Identification!B202)","v":""},{"$f":"IF(CMS_Identification!#REF!=\"\",\"\",CMS_Identification!#REF!)","v":{"$error":"#REF!"}},null,null,null,null,""]
[null,null,{"$f":"IF(CMS_Identification!B203=\"\",\"\",CMS_Identification!B203)","v":""},{"$f":"IF(CMS_Identification!#REF!=\"\",\"\",CMS_Identification!#REF!)","v":{"$error":"#REF!"}},null,null,null,null,""]
[null,null,{"$f":"IF(CMS_Identification!B204=\"\",\"\",CMS_Identification!B204)","v":""},{"$f":"IF(CMS_Identification!#REF!=\"\",\"\",CMS_Identification!#REF!)","v":{"$error":"#REF!"}},null,null,null,null,""]
[null,null,{"$f":"IF(CMS_Identification!B205=\"\",\"\",CMS_Identification!B205)","v":""},{"$f":"IF(CMS_Identification!#REF!=\"\",\"\",CMS_Identification!#REF!)","v":{"$error":"#REF!"}},null,null,null,null,""]
[null,null,{"$f":"IF(CMS_Identification!B206=\"\",\"\",CMS_Identification!B206)","v":""},{"$f":"IF(CMS_Identification!#REF!=\"\",\"\",CMS_Identification!#REF!)","v":{"$error":"#REF!"}},null,null,null,null,""]
[null,null,{"$f":"IF(CMS_Identification!B207=\"\",\"\",CMS_Identification!B207)","v":""},{"$f":"IF(CMS_Identification!#REF!=\"\",\"\",CMS_Identification!#REF!)","v":{"$error":"#REF!"}},null,null,null,null,""]
[null,null,{"$f":"IF(CMS_Identification!B208=\"\",\"\",CMS_Identification!B208)","v":""},{"$f":"IF(CMS_Identification!#REF!=\"\",\"\",CMS_Identification!#REF!)","v":{"$error":"#REF!"}},null,null,null,null,""]
[null,null,{"$f":"IF(CMS_Identification!B209=\"\",\"\",CMS_Identification!B209)","v":""},{"$f":"IF(CMS_Identification!#REF!=\"\",\"\",CMS_Identification!#REF!)","v":{"$error":"#REF!"}},null,null,null,null,""]
[null,null,{"$f":"IF(CMS_Identification!B210=\"\",\"\",CMS_Identification!B210)","v":""},{"$f":"IF(CMS_Identification!#REF!=\"\",\"\",CMS_Identification!#REF!)","v":{"$error":"#REF!"}},null,null,null,null,""]
[null,null,{"$f":"IF(CMS_Identification!B211=\"\",\"\",CMS_Identification!B211)","v":""},{"$f":"IF(CMS_Identification!#REF!=\"\",\"\",CMS_Identification!#REF!)","v":{"$error":"#REF!"}},null,null,null,null,""]
[null,null,{"$f":"IF(CMS_Identification!B212=\"\",\"\",CMS_Identification!B212)","v":""},{"$f":"IF(CMS_Identification!#REF!=\"\",\"\",CMS_Identification!#REF!)","v":{"$error":"#REF!"}},null,null,null,null,""]
[null,null,{"$f":"IF(CMS_Identification!B213=\"\",\"\",CMS_Identification!B213)","v":""},{"$f":"IF(CMS_Identification!#REF!=\"\",\"\",CMS_Identification!#REF!)","v":{"$error":"#REF!"}},null,null,null,null,""]
[null,null,{"$f":"IF(CMS_Identification!B214=\"\",\"\",CMS_Identification!B214)","v":""},{"$f":"IF(CMS_Identification!#REF!=\"\",\"\",CMS_Identification!#REF!)","v":{"$error":"#REF!"}},null,null,null,null,""]
[null,null,{"$f":"IF(CMS_Identification!B215=\"\",\"\",CMS_Identification!B215)","v":""},{"$f":"IF(CMS_Identification!#REF!=\"\",\"\",CMS_Identification!#REF!)","v":{"$error":"#REF!"}},null,null,null,null,""]
[null,null,{"$f":"IF(CMS_Identification!B216=\"\",\"\",CMS_Identification!B216)","v":""},{"$f":"IF(CMS_Identification!#REF!=\"\",\"\",CMS_Identification!#REF!)","v":{"$error":"#REF!"}},null,null,null,null,""]
[null,null,{"$f":"IF(CMS_Identification!B217=\"\",\"\",CMS_Identification!B217)","v":""},{"$f":"IF(CMS_Identification!#REF!=\"\",\"\",CMS_Identification!#REF!)","v":{"$error":"#REF!"}},null,null,null,null,""]
[null,null,{"$f":"IF(CMS_Identification!B218=\"\",\"\",CMS_Identification!B218)","v":""},{"$f":"IF(CMS_Identification!#REF!=\"\",\"\",CMS_Identification!#REF!)","v":{"$error":"#REF!"}},null,null,null,null,""]
[null,null,{"$f":"IF(CMS_Identification!B219=\"\",\"\",CMS_Identification!B219)","v":""},{"$f":"IF(CMS_Identification!#REF!=\"\",\"\",CMS_Identification!#REF!)","v":{"$error":"#REF!"}},null,null,null,null,""]
[null,null,{"$f":"IF(CMS_Identification!B220=\"\",\"\",CMS_Identification!B220)","v":""},{"$f":"IF(CMS_Identification!#REF!=\"\",\"\",CMS_Identification!#REF!)","v":{"$error":"#REF!"}},null,null,null,null,""]
[null,null,{"$f":"IF(CMS_Identification!B221=\"\",\"\",CMS_Identification!B221)","v":""},{"$f":"IF(CMS_Identification!#REF!=\"\",\"\",CMS_Identification!#REF!)","v":{"$error":"#REF!"}},null,null,null,null,""]
[null,null,{"$f":"IF(CMS_Identification!B222=\"\",\"\",CMS_Identification!B222)","v":""},{"$f":"IF(CMS_Identification!#REF!=\"\",\"\",CMS_Identification!#REF!)","v":{"$error":"#REF!"}},null,null,null,null,""]
[null,null,{"$f":"IF(CMS_Identification!B223=\"\",\"\",CMS_Identification!B223)","v":""},{"$f":"IF(CMS_Identification!#REF!=\"\",\"\",CMS_Identification!#REF!)","v":{"$error":"#REF!"}},null,null,null,null,""]
[null,null,{"$f":"IF(CMS_Identification!B224=\"\",\"\",CMS_Identification!B224)","v":""},{"$f":"IF(CMS_Identification!#REF!=\"\",\"\",CMS_Identification!#REF!)","v":{"$error":"#REF!"}},null,null,null,null,""]
[null,null,{"$f":"IF(CMS_Identification!B225=\"\",\"\",CMS_Identification!B225)","v":""},{"$f":"IF(CMS_Identification!#REF!=\"\",\"\",CMS_Identification!#REF!)","v":{"$error":"#REF!"}},null,null,null,null,""]
[null,null,{"$f":"IF(CMS_Identification!B226=\"\",\"\",CMS_Identification!B226)","v":""},{"$f":"IF(CMS_Identification!#REF!=\"\",\"\",CMS_Identification!#REF!)","v":{"$error":"#REF!"}},null,null,null,null,""]
[null,null,{"$f":"IF(CMS_Identification!B227=\"\",\"\",CMS_Identification!B227)","v":""},{"$f":"IF(CMS_Identification!#REF!=\"\",\"\",CMS_Identification!#REF!)","v":{"$error":"#REF!"}},null,null,null,null,""]
[null,null,{"$f":"IF(CMS_Identification!B228=\"\",\"\",CMS_Identification!B228)","v":""},{"$f":"IF(CMS_Identification!#REF!=\"\",\"\",CMS_Identification!#REF!)","v":{"$error":"#REF!"}},null,null,null,null,""]
[null,null,{"$f":"IF(CMS_Identification!B229=\"\",\"\",CMS_Identification!B229)","v":""},{"$f":"IF(CMS_Identification!#REF!=\"\",\"\",CMS_Identification!#REF!)","v":{"$error":"#REF!"}},null,null,null,null,{"$f":"IF(A208=\"\",\"\",A208&\" \"&C208)","v":""}]
[null,null,{"$f":"IF(CMS_Identification!B230=\"\",\"\",CMS_Identification!B230)","v":""},{"$f":"IF(CMS_Identification!#REF!=\"\",\"\",CMS_Identification!#REF!)","v":{"$error":"#REF!"}},null,null,null,null,""]
[null,null,{"$f":"IF(CMS_Identification!B231=\"\",\"\",CMS_Identification!B231)","v":""},{"$f":"IF(CMS_Identification!#REF!=\"\",\"\",CMS_Identification!#REF!)","v":{"$error":"#REF!"}},null,null,null,null,""]
[null,null,{"$f":"IF(CMS_Identification!B232=\"\",\"\",CMS_Identification!B232)","v":""},{"$f":"IF(CMS_Identification!#REF!=\"\",\"\",CMS_Identification!#REF!)","v":{"$error":"#REF!"}},null,null,null,null,""]
[null,null,{"$f":"IF(CMS_Identification!B233=\"\",\"\",CMS_Identification!B233)","v":""},{"$f":"IF(CMS_Identification!#REF!=\"\",\"\",CMS_Identification!#REF!)","v":{"$error":"#REF!"}},null,null,null,null,""]
[null,null,{"$f":"IF(CMS_Identification!B234=\"\",\"\",CMS_Identification!B234)","v":""},{"$f":"IF(CMS_Identification!#REF!=\"\",\"\",CMS_Identification!#REF!)","v":{"$error":"#REF!"}},null,null,null,null,""]
[null,null,{"$f":"IF(CMS_Identification!B235=\"\",\"\",CMS_Identification!B235)","v":""},{"$f":"IF(CMS_Identification!#REF!=\"\",\"\",CMS_Identification!#REF!)","v":{"$error":"#REF!"}},null,null,null,null,""]
[null,null,{"$f":"IF(CMS_Identification!B236=\"\",\"\",CMS_Identification!B236)","v":""},{"$f":"IF(CMS_Identification!#REF!=\"\",\"\",CMS_Identification!#REF!)","v":{"$error":"#REF!"}},null,null,null,null,""]
[null,null,{"$f":"IF(CMS_Identification!B237=\"\",\"\",CMS_Identification!B237)","v":""},{"$f":"IF(CMS_Identification!#REF!=\"\",\"\",CMS_Identification!#REF!)","v":{"$error":"#REF!"}},null,null,null,null,""]
[null,null,{"$f":"IF(CMS_Identification!B238=\"\",\"\",CMS_Identification!B238)","v":""},{"$f":"IF(CMS_Identification!#REF!=\"\",\"\",CMS_Identification!#REF!)","v":{"$error":"#REF!"}},null,null,null,null,""]
[null,null,{"$f":"IF(CMS_Identification!B239=\"\",\"\",CMS_Identification!B239)","v":""},{"$f":"IF(CMS_Identification!#REF!=\"\",\"\",CMS_Identification!#REF!)","v":{"$error":"#REF!"}},null,null,null,null,""]
[null,null,{"$f":"IF(CMS_Identification!B240=\"\",\"\",CMS_Identification!B240)","v":""},{"$f":"IF(CMS_Identification!#REF!=\"\",\"\",CMS_Identification!#REF!)","v":{"$error":"#REF!"}},null,null,null,null,""]
[null,null,{"$f":"IF(CMS_Identification!B241=\"\",\"\",CMS_Identification!B241)","v":""},{"$f":"IF(CMS_Identification!#REF!=\"\",\"\",CMS_Identification!#REF!)","v":{"$error":"#REF!"}},null,null,null,null,""]
[null,null,{"$f":"IF(CMS_Identification!B242=\"\",\"\",CMS_Identification!B242)","v":""},{"$f":"IF(CMS_Identification!#REF!=\"\",\"\",CMS_Identification!#REF!)","v":{"$error":"#REF!"}},null,null,null,null,""]
[null,null,{"$f":"IF(CMS_Identification!B243=\"\",\"\",CMS_Identification!B243)","v":""},{"$f":"IF(CMS_Identification!#REF!=\"\",\"\",CMS_Identification!#REF!)","v":{"$error":"#REF!"}},null,null,null,null,""]
[null,null,{"$f":"IF(CMS_Identification!B244=\"\",\"\",CMS_Identification!B244)","v":""},{"$f":"IF(CMS_Identification!#REF!=\"\",\"\",CMS_Identification!#REF!)","v":{"$error":"#REF!"}},null,null,null,null,""]
[null,null,{"$f":"IF(CMS_Identification!B245=\"\",\"\",CMS_Identification!B245)","v":""},{"$f":"IF(CMS_Identification!#REF!=\"\",\"\",CMS_Identification!#REF!)","v":{"$error":"#REF!"}},null,null,null,null,""]
[null,null,{"$f":"IF(CMS_Identification!B246=\"\",\"\",CMS_Identification!B246)","v":""},{"$f":"IF(CMS_Identification!#REF!=\"\",\"\",CMS_Identification!#REF!)","v":{"$error":"#REF!"}},null,null,null,null,""]
[null,null,{"$f":"IF(CMS_Identification!B247=\"\",\"\",CMS_Identification!B247)","v":""},{"$f":"IF(CMS_Identification!#REF!=\"\",\"\",CMS_Identification!#REF!)","v":{"$error":"#REF!"}},null,null,null,null,""]
[null,null,{"$f":"IF(CMS_Identification!B248=\"\",\"\",CMS_Identification!B248)","v":""},{"$f":"IF(CMS_Identification!#REF!=\"\",\"\",CMS_Identification!#REF!)","v":{"$error":"#REF!"}},null,null,null,null,""]
[null,null,{"$f":"IF(CMS_Identification!B249=\"\",\"\",CMS_Identification!B249)","v":""},{"$f":"IF(CMS_Identification!#REF!=\"\",\"\",CMS_Identification!#REF!)","v":{"$error":"#REF!"}},null,null,null,null,""]
[null,null,{"$f":"IF(CMS_Identification!B250=\"\",\"\",CMS_Identification!B250)","v":""},{"$f":"IF(CMS_Identification!#REF!=\"\",\"\",CMS_Identification!#REF!)","v":{"$error":"#REF!"}},null,null,null,null,""]
[null,null,{"$f":"IF(CMS_Identification!B251=\"\",\"\",CMS_Identification!B251)","v":""},{"$f":"IF(CMS_Identification!#REF!=\"\",\"\",CMS_Identification!#REF!)","v":{"$error":"#REF!"}},null,null,null,null,""]
[null,null,{"$f":"IF(CMS_Identification!B252=\"\",\"\",CMS_Identification!B252)","v":""},{"$f":"IF(CMS_Identification!#REF!=\"\",\"\",CMS_Identification!#REF!)","v":{"$error":"#REF!"}},null,null,null,null,""]
[null,null,{"$f":"IF(CMS_Identification!B253=\"\",\"\",CMS_Identification!B253)","v":""},{"$f":"IF(CMS_Identification!#REF!=\"\",\"\",CMS_Identification!#REF!)","v":{"$error":"#REF!"}},null,null,null,null,""]
[null,null,{"$f":"IF(CMS_Identification!B254=\"\",\"\",CMS_Identification!B254)","v":""},{"$f":"IF(CMS_Identification!#REF!=\"\",\"\",CMS_Identification!#REF!)","v":{"$error":"#REF!"}},null,null,null,null,""]
[null,null,{"$f":"IF(CMS_Identification!B255=\"\",\"\",CMS_Identification!B255)","v":""},{"$f":"IF(CMS_Identification!#REF!=\"\",\"\",CMS_Identification!#REF!)","v":{"$error":"#REF!"}},null,null,null,null,""]
[null,null,{"$f":"IF(CMS_Identification!B256=\"\",\"\",CMS_Identification!B256)","v":""},{"$f":"IF(CMS_Identification!#REF!=\"\",\"\",CMS_Identification!#REF!)","v":{"$error":"#REF!"}},null,null,null,null,""]
[null,null,{"$f":"IF(CMS_Identification!B257=\"\",\"\",CMS_Identification!B257)","v":""},{"$f":"IF(CMS_Identification!#REF!=\"\",\"\",CMS_Identification!#REF!)","v":{"$error":"#REF!"}},null,null,null,null,""]
[null,null,{"$f":"IF(CMS_Identification!B258=\"\",\"\",CMS_Identification!B258)","v":""},{"$f":"IF(CMS_Identification!#REF!=\"\",\"\",CMS_Identification!#REF!)","v":{"$error":"#REF!"}},null,null,null,null,""]
[null,null,{"$f":"IF(CMS_Identification!B259=\"\",\"\",CMS_Identification!B259)","v":""},{"$f":"IF(CMS_Identification!#REF!=\"\",\"\",CMS_Identification!#REF!)","v":{"$error":"#REF!"}},null,null,null,null,""]
[null,null,{"$f":"IF(CMS_Identification!B260=\"\",\"\",CMS_Identification!B260)","v":""},{"$f":"IF(CMS_Identification!#REF!=\"\",\"\",CMS_Identification!#REF!)","v":{"$error":"#REF!"}},null,null,null,null,""]
[null,null,{"$f":"IF(CMS_Identification!B261=\"\",\"\",CMS_Identification!B261)","v":""},{"$f":"IF(CMS_Identification!#REF!=\"\",\"\",CMS_Identification!#REF!)","v":{"$error":"#REF!"}},null,null,null,null,""]
[null,null,{"$f":"IF(CMS_Identification!B262=\"\",\"\",CMS_Identification!B262)","v":""},{"$f":"IF(CMS_Identification!#REF!=\"\",\"\",CMS_Identification!#REF!)","v":{"$error":"#REF!"}},null,null,null,null,""]
[null,null,{"$f":"IF(CMS_Identification!B263=\"\",\"\",CMS_Identification!B263)","v":""},{"$f":"IF(CMS_Identification!#REF!=\"\",\"\",CMS_Identification!#REF!)","v":{"$error":"#REF!"}},null,null,null,null,""]
[null,null,{"$f":"IF(CMS_Identification!B264=\"\",\"\",CMS_Identification!B264)","v":""},{"$f":"IF(CMS_Identification!#REF!=\"\",\"\",CMS_Identification!#REF!)","v":{"$error":"#REF!"}},null,null,null,null,""]
[null,null,{"$f":"IF(CMS_Identification!B265=\"\",\"\",CMS_Identification!B265)","v":""},{"$f":"IF(CMS_Identification!#REF!=\"\",\"\",CMS_Identification!#REF!)","v":{"$error":"#REF!"}},null,null,null,null,""]
[null,null,{"$f":"IF(CMS_Identification!B266=\"\",\"\",CMS_Identification!B266)","v":""},{"$f":"IF(CMS_Identification!#REF!=\"\",\"\",CMS_Identification!#REF!)","v":{"$error":"#REF!"}},null,null,null,null,""]
[null,null,{"$f":"IF(CMS_Identification!B267=\"\",\"\",CMS_Identification!B267)","v":""},{"$f":"IF(CMS_Identification!#REF!=\"\",\"\",CMS_Identification!#REF!)","v":{"$error":"#REF!"}},null,null,null,null,""]
[null,null,{"$f":"IF(CMS_Identification!B268=\"\",\"\",CMS_Identification!B268)","v":""},{"$f":"IF(CMS_Identification!#REF!=\"\",\"\",CMS_Identification!#REF!)","v":{"$error":"#REF!"}},null,null,null,null,""]
[null,null,{"$f":"IF(CMS_Identification!B269=\"\",\"\",CMS_Identification!B269)","v":""},{"$f":"IF(CMS_Identification!#REF!=\"\",\"\",CMS_Identification!#REF!)","v":{"$error":"#REF!"}},null,null,null,null,""]
[null,null,{"$f":"IF(CMS_Identification!B270=\"\",\"\",CMS_Identification!B270)","v":""},{"$f":"IF(CMS_Identification!#REF!=\"\",\"\",CMS_Identification!#REF!)","v":{"$error":"#REF!"}},null,null,null,null,""]
[null,null,{"$f":"IF(CMS_Identification!B271=\"\",\"\",CMS_Identification!B271)","v":""},{"$f":"IF(CMS_Identification!#REF!=\"\",\"\",CMS_Identification!#REF!)","v":{"$error":"#REF!"}},null,null,null,null,""]
[null,null,{"$f":"IF(CMS_Identification!B272=\"\",\"\",CMS_Identification!B272)","v":""},{"$f":"IF(CMS_Identification!#REF!=\"\",\"\",CMS_Identification!#REF!)","v":{"$error":"#REF!"}},null,null,null,null,""]
[null,null,{"$f":"IF(CMS_Identification!B273=\"\",\"\",CMS_Identification!B273)","v":""},{"$f":"IF(CMS_Identification!#REF!=\"\",\"\",CMS_Identification!#REF!)","v":{"$error":"#REF!"}},null,null,null,null,""]
[null,null,{"$f":"IF(CMS_Identification!B274=\"\",\"\",CMS_Identification!B274)","v":""},{"$f":"IF(CMS_Identification!#REF!=\"\",\"\",CMS_Identification!#REF!)","v":{"$error":"#REF!"}},null,null,null,null,""]
[null,null,{"$f":"IF(CMS_Identification!B275=\"\",\"\",CMS_Identification!B275)","v":""},{"$f":"IF(CMS_Identification!#REF!=\"\",\"\",CMS_Identification!#REF!)","v":{"$error":"#REF!"}},null,null,null,null,""]
[null,null,{"$f":"IF(CMS_Identification!B276=\"\",\"\",CMS_Identification!B276)","v":""},{"$f":"IF(CMS_Identification!#REF!=\"\",\"\",CMS_Identification!#REF!)","v":{"$error":"#REF!"}},null,null,null,null,""]
[null,null,{"$f":"IF(CMS_Identification!B277=\"\",\"\",CMS_Identification!B277)","v":""},{"$f":"IF(CMS_Identification!#REF!=\"\",\"\",CMS_Identification!#REF!)","v":{"$error":"#REF!"}},null,null,null,null,""]
[null,null,{"$f":"IF(CMS_Identification!B278=\"\",\"\",CMS_Identification!B278)","v":""},{"$f":"IF(CMS_Identification!#REF!=\"\",\"\",CMS_Identification!#REF!)","v":{"$error":"#REF!"}},null,null,null,null,""]
[null,null,{"$f":"IF(CMS_Identification!B279=\"\",\"\",CMS_Identification!B279)","v":""},{"$f":"IF(CMS_Identification!#REF!=\"\",\"\",CMS_Identification!#REF!)","v":{"$error":"#REF!"}},null,null,null,null,""]
[null,null,{"$f":"IF(CMS_Identification!B280=\"\",\"\",CMS_Identification!B280)","v":""},{"$f":"IF(CMS_Identification!#REF!=\"\",\"\",CMS_Identification!#REF!)","v":{"$error":"#REF!"}},null,null,null,null,""]
[null,null,{"$f":"IF(CMS_Identification!B281=\"\",\"\",CMS_Identification!B281)","v":""},{"$f":"IF(CMS_Identification!#REF!=\"\",\"\",CMS_Identification!#REF!)","v":{"$error":"#REF!"}},null,null,null,null,""]
[null,null,{"$f":"IF(CMS_Identification!B282=\"\",\"\",CMS_Identification!B282)","v":""},{"$f":"IF(CMS_Identification!#REF!=\"\",\"\",CMS_Identification!#REF!)","v":{"$error":"#REF!"}},null,null,null,null,""]
[null,null,{"$f":"IF(CMS_Identification!B283=\"\",\"\",CMS_Identification!B283)","v":""},{"$f":"IF(CMS_Identification!#REF!=\"\",\"\",CMS_Identification!#REF!)","v":{"$error":"#REF!"}},null,null,null,null,""]
[null,null,{"$f":"IF(CMS_Identification!B284=\"\",\"\",CMS_Identification!B284)","v":""},{"$f":"IF(CMS_Identification!#REF!=\"\",\"\",CMS_Identification!#REF!)","v":{"$error":"#REF!"}},null,null,null,null,""]
[null,null,{"$f":"IF(CMS_Identification!B285=\"\",\"\",CMS_Identification!B285)","v":""},{"$f":"IF(CMS_Identification!#REF!=\"\",\"\",CMS_Identification!#REF!)","v":{"$error":"#REF!"}},null,null,null,null,""]
[null,null,{"$f":"IF(CMS_Identification!B286=\"\",\"\",CMS_Identification!B286)","v":""},{"$f":"IF(CMS_Identification!#REF!=\"\",\"\",CMS_Identification!#REF!)","v":{"$error":"#REF!"}},null,null,null,null,""]
[null,null,{"$f":"IF(CMS_Identification!B287=\"\",\"\",CMS_Identification!B287)","v":""},{"$f":"IF(CMS_Identification!#REF!=\"\",\"\",CMS_Identification!#REF!)","v":{"$error":"#REF!"}},null,null,null,null,""]
[null,null,{"$f":"IF(CMS_Identification!B288=\"\",\"\",CMS_Identification!B288)","v":""},{"$f":"IF(CMS_Identification!#REF!=\"\",\"\",CMS_Identification!#REF!)","v":{"$error":"#REF!"}},null,null,null,null,""]
[null,null,{"$f":"IF(CMS_Identification!B289=\"\",\"\",CMS_Identification!B289)","v":""},{"$f":"IF(CMS_Identification!#REF!=\"\",\"\",CMS_Identification!#REF!)","v":{"$error":"#REF!"}},null,null,null,null,""]
[null,null,{"$f":"IF(CMS_Identification!B290=\"\",\"\",CMS_Identification!B290)","v":""},{"$f":"IF(CMS_Identification!#REF!=\"\",\"\",CMS_Identification!#REF!)","v":{"$error":"#REF!"}},null,null,null,null,""]
[null,null,{"$f":"IF(CMS_Identification!B291=\"\",\"\",CMS_Identification!B291)","v":""},{"$f":"IF(CMS_Identification!#REF!=\"\",\"\",CMS_Identification!#REF!)","v":{"$error":"#REF!"}},null,null,null,null,""]
[null,null,{"$f":"IF(CMS_Identification!B292=\"\",\"\",CMS_Identification!B292)","v":""},{"$f":"IF(CMS_Identification!#REF!=\"\",\"\",CMS_Identification!#REF!)","v":{"$error":"#REF!"}},null,null,null,null,""]
[null,null,{"$f":"IF(CMS_Identification!B293=\"\",\"\",CMS_Identification!B293)","v":""},{"$f":"IF(CMS_Identification!#REF!=\"\",\"\",CMS_Identification!#REF!)","v":{"$error":"#REF!"}},null,null,null,null,{"$f":"IF(A272=\"\",\"\",A272&\" \"&C272)","v":""}]
[null,null,{"$f":"IF(CMS_Identification!B294=\"\",\"\",CMS_Identification!B294)","v":""},{"$f":"IF(CMS_Identification!#REF!=\"\",\"\",CMS_Identification!#REF!)","v":{"$error":"#REF!"}},null,null,null,null,""]
[null,null,{"$f":"IF(CMS_Identification!B295=\"\",\"\",CMS_Identification!B295)","v":""},{"$f":"IF(CMS_Identification!#REF!=\"\",\"\",CMS_Identification!#REF!)","v":{"$error":"#REF!"}},null,null,null,null,""]
[null,null,{"$f":"IF(CMS_Identification!B296=\"\",\"\",CMS_Identification!B296)","v":""},{"$f":"IF(CMS_Identification!#REF!=\"\",\"\",CMS_Identification!#REF!)","v":{"$error":"#REF!"}},null,null,null,null,""]
[null,null,{"$f":"IF(CMS_Identification!B297=\"\",\"\",CMS_Identification!B297)","v":""},{"$f":"IF(CMS_Identification!#REF!=\"\",\"\",CMS_Identification!#REF!)","v":{"$error":"#REF!"}},null,null,null,null,""]
[null,null,{"$f":"IF(CMS_Identification!B298=\"\",\"\",CMS_Identification!B298)","v":""},{"$f":"IF(CMS_Identification!#REF!=\"\",\"\",CMS_Identification!#REF!)","v":{"$error":"#REF!"}},null,null,null,null,""]
[null,null,{"$f":"IF(CMS_Identification!B299=\"\",\"\",CMS_Identification!B299)","v":""},{"$f":"IF(CMS_Identification!#REF!=\"\",\"\",CMS_Identification!#REF!)","v":{"$error":"#REF!"}},null,null,null,null,""]
[null,null,{"$f":"IF(CMS_Identification!B300=\"\",\"\",CMS_Identification!B300)","v":""},{"$f":"IF(CMS_Identification!#REF!=\"\",\"\",CMS_Identification!#REF!)","v":{"$error":"#REF!"}},null,null,null,null,""]
[null,null,{"$f":"IF(CMS_Identification!B301=\"\",\"\",CMS_Identification!B301)","v":""},{"$f":"IF(CMS_Identification!#REF!=\"\",\"\",CMS_Identification!#REF!)","v":{"$error":"#REF!"}},null,null,null,null,""]
[null,null,{"$f":"IF(CMS_Identification!B302=\"\",\"\",CMS_Identification!B302)","v":""},{"$f":"IF(CMS_Identification!#REF!=\"\",\"\",CMS_Identification!#REF!)","v":{"$error":"#REF!"}},null,null,null,null,""]
[null,null,{"$f":"IF(CMS_Identification!B303=\"\",\"\",CMS_Identification!B303)","v":""},{"$f":"IF(CMS_Identification!#REF!=\"\",\"\",CMS_Identification!#REF!)","v":{"$error":"#REF!"}},null,null,null,null,""]
[null,null,{"$f":"IF(CMS_Identification!B304=\"\",\"\",CMS_Identification!B304)","v":""},{"$f":"IF(CMS_Identification!#REF!=\"\",\"\",CMS_Identification!#REF!)","v":{"$error":"#REF!"}},null,null,null,null,""]
[null,null,{"$f":"IF(CMS_Identification!B305=\"\",\"\",CMS_Identification!B305)","v":""},{"$f":"IF(CMS_Identification!#REF!=\"\",\"\",CMS_Identification!#REF!)","v":{"$error":"#REF!"}},null,null,null,null,""]
[null,null,{"$f":"IF(CMS_Identification!B306=\"\",\"\",CMS_Identification!B306)","v":""},{"$f":"IF(CMS_Identification!#REF!=\"\",\"\",CMS_Identification!#REF!)","v":{"$error":"#REF!"}},null,null,null,null,""]
[null,null,{"$f":"IF(CMS_Identification!B307=\"\",\"\",CMS_Identification!B307)","v":""},{"$f":"IF(CMS_Identification!#REF!=\"\",\"\",CMS_Identification!#REF!)","v":{"$error":"#REF!"}},null,null,null,null,""]
[null,null,{"$f":"IF(CMS_Identification!B308=\"\",\"\",CMS_Identification!B308)","v":""},{"$f":"IF(CMS_Identification!#REF!=\"\",\"\",CMS_Identification!#REF!)","v":{"$error":"#REF!"}},null,null,null,null,""]
[null,null,{"$f":"IF(CMS_Identification!B309=\"\",\"\",CMS_Identification!B309)","v":""},{"$f":"IF(CMS_Identification!#REF!=\"\",\"\",CMS_Identification!#REF!)","v":{"$error":"#REF!"}},null,null,null,null,""]
[null,null,{"$f":"IF(CMS_Identification!B310=\"\",\"\",CMS_Identification!B310)","v":""},{"$f":"IF(CMS_Identification!#REF!=\"\",\"\",CMS_Identification!#REF!)","v":{"$error":"#REF!"}},null,null,null,null,""]
[null,null,{"$f":"IF(CMS_Identification!B311=\"\",\"\",CMS_Identification!B311)","v":""},{"$f":"IF(CMS_Identification!#REF!=\"\",\"\",CMS_Identification!#REF!)","v":{"$error":"#REF!"}},null,null,null,null,""]
[null,null,{"$f":"IF(CMS_Identification!B312=\"\",\"\",CMS_Identification!B312)","v":""},{"$f":"IF(CMS_Identification!#REF!=\"\",\"\",CMS_Identification!#REF!)","v":{"$error":"#REF!"}},null,null,null,null,""]
[null,null,{"$f":"IF(CMS_Identification!B313=\"\",\"\",CMS_Identification!B313)","v":""},{"$f":"IF(CMS_Identification!#REF!=\"\",\"\",CMS_Identification!#REF!)","v":{"$error":"#REF!"}},null,null,null,null,""]
[null,null,{"$f":"IF(CMS_Identification!B314=\"\",\"\",CMS_Identification!B314)","v":""},{"$f":"IF(CMS_Identification!#REF!=\"\",\"\",CMS_Identification!#REF!)","v":{"$error":"#REF!"}},null,null,null,null,""]
[null,null,{"$f":"IF(CMS_Identification!B315=\"\",\"\",CMS_Identification!B315)","v":""},{"$f":"IF(CMS_Identification!#REF!=\"\",\"\",CMS_Identification!#REF!)","v":{"$error":"#REF!"}},null,null,null,null,""]
[null,null,{"$f":"IF(CMS_Identification!B316=\"\",\"\",CMS_Identification!B316)","v":""},{"$f":"IF(CMS_Identification!#REF!=\"\",\"\",CMS_Identification!#REF!)","v":{"$error":"#REF!"}},null,null,null,null,""]
[null,null,{"$f":"IF(CMS_Identification!B317=\"\",\"\",CMS_Identification!B317)","v":""},{"$f":"IF(CMS_Identification!#REF!=\"\",\"\",CMS_Identification!#REF!)","v":{"$error":"#REF!"}},null,null,null,null,""]
[null,null,{"$f":"IF(CMS_Identification!B318=\"\",\"\",CMS_Identification!B318)","v":""},{"$f":"IF(CMS_Identification!#REF!=\"\",\"\",CMS_Identification!#REF!)","v":{"$error":"#REF!"}},null,null,null,null,""]
[null,null,{"$f":"IF(CMS_Identification!B319=\"\",\"\",CMS_Identification!B319)","v":""},{"$f":"IF(CMS_Identification!#REF!=\"\",\"\",CMS_Identification!#REF!)","v":{"$error":"#REF!"}},null,null,null,null,""]
[null,null,{"$f":"IF(CMS_Identification!B320=\"\",\"\",CMS_Identification!B320)","v":""},{"$f":"IF(CMS_Identification!#REF!=\"\",\"\",CMS_Identification!#REF!)","v":{"$error":"#REF!"}},null,null,null,null,""]
[null,null,{"$f":"IF(CMS_Identification!B321=\"\",\"\",CMS_Identification!B321)","v":""},{"$f":"IF(CMS_Identification!#REF!=\"\",\"\",CMS_Identification!#REF!)","v":{"$error":"#REF!"}},null,null,null,null,""]
[null,null,{"$f":"IF(CMS_Identification!B322=\"\",\"\",CMS_Identification!B322)","v":""},{"$f":"IF(CMS_Identification!#REF!=\"\",\"\",CMS_Identification!#REF!)","v":{"$error":"#REF!"}},null,null,null,null,""]
[null,null,{"$f":"IF(CMS_Identification!B323=\"\",\"\",CMS_Identification!B323)","v":""},{"$f":"IF(CMS_Identification!#REF!=\"\",\"\",CMS_Identification!#REF!)","v":{"$error":"#REF!"}},null,null,null,null,""]
[null,null,{"$f":"IF(CMS_Identification!B324=\"\",\"\",CMS_Identification!B324)","v":""},{"$f":"IF(CMS_Identification!#REF!=\"\",\"\",CMS_Identification!#REF!)","v":{"$error":"#REF!"}},null,null,null,null,""]
[null,null,{"$f":"IF(CMS_Identification!B325=\"\",\"\",CMS_Identification!B325)","v":""},{"$f":"IF(CMS_Identification!#REF!=\"\",\"\",CMS_Identification!#REF!)","v":{"$error":"#REF!"}},null,null,null,null,""]
[null,null,{"$f":"IF(CMS_Identification!B326=\"\",\"\",CMS_Identification!B326)","v":""},{"$f":"IF(CMS_Identification!#REF!=\"\",\"\",CMS_Identification!#REF!)","v":{"$error":"#REF!"}},null,null,null,null,""]
[null,null,{"$f":"IF(CMS_Identification!B327=\"\",\"\",CMS_Identification!B327)","v":""},{"$f":"IF(CMS_Identification!#REF!=\"\",\"\",CMS_Identification!#REF!)","v":{"$error":"#REF!"}},null,null,null,null,""]
[null,null,{"$f":"IF(CMS_Identification!B328=\"\",\"\",CMS_Identification!B328)","v":""},{"$f":"IF(CMS_Identification!#REF!=\"\",\"\",CMS_Identification!#REF!)","v":{"$error":"#REF!"}},null,null,null,null,""]
[null,null,{"$f":"IF(CMS_Identification!B329=\"\",\"\",CMS_Identification!B329)","v":""},{"$f":"IF(CMS_Identification!#REF!=\"\",\"\",CMS_Identification!#REF!)","v":{"$error":"#REF!"}},null,null,null,null,""]
[null,null,{"$f":"IF(CMS_Identification!B330=\"\",\"\",CMS_Identification!B330)","v":""},{"$f":"IF(CMS_Identification!#REF!=\"\",\"\",CMS_Identification!#REF!)","v":{"$error":"#REF!"}},null,null,null,null,""]
[null,null,{"$f":"IF(CMS_Identification!B331=\"\",\"\",CMS_Identification!B331)","v":""},{"$f":"IF(CMS_Identification!#REF!=\"\",\"\",CMS_Identification!#REF!)","v":{"$error":"#REF!"}},null,null,null,null,""]
[null,null,{"$f":"IF(CMS_Identification!B332=\"\",\"\",CMS_Identification!B332)","v":""},{"$f":"IF(CMS_Identification!#REF!=\"\",\"\",CMS_Identification!#REF!)","v":{"$error":"#REF!"}},null,null,null,null,""]
[null,null,{"$f":"IF(CMS_Identification!B333=\"\",\"\",CMS_Identification!B333)","v":""},{"$f":"IF(CMS_Identification!#REF!=\"\",\"\",CMS_Identification!#REF!)","v":{"$error":"#REF!"}},null,null,null,null,""]
[null,null,{"$f":"IF(CMS_Identification!B334=\"\",\"\",CMS_Identification!B334)","v":""},{"$f":"IF(CMS_Identification!#REF!=\"\",\"\",CMS_Identification!#REF!)","v":{"$error":"#REF!"}},null,null,null,null,""]
[null,null,{"$f":"IF(CMS_Identification!B335=\"\",\"\",CMS_Identification!B335)","v":""},{"$f":"IF(CMS_Identification!#REF!=\"\",\"\",CMS_Identification!#REF!)","v":{"$error":"#REF!"}},null,null,null,null,""]
[null,null,{"$f":"IF(CMS_Identification!B336=\"\",\"\",CMS_Identification!B336)","v":""},{"$f":"IF(CMS_Identification!#REF!=\"\",\"\",CMS_Identification!#REF!)","v":{"$error":"#REF!"}},null,null,null,null,""]
[null,null,{"$f":"IF(CMS_Identification!B337=\"\",\"\",CMS_Identification!B337)","v":""},{"$f":"IF(CMS_Identification!#REF!=\"\",\"\",CMS_Identification!#REF!)","v":{"$error":"#REF!"}},null,null,null,null,""]
[null,null,{"$f":"IF(CMS_Identification!B338=\"\",\"\",CMS_Identification!B338)","v":""},{"$f":"IF(CMS_Identification!#REF!=\"\",\"\",CMS_Identification!#REF!)","v":{"$error":"#REF!"}},null,null,null,null,""]
[null,null,{"$f":"IF(CMS_Identification!B339=\"\",\"\",CMS_Identification!B339)","v":""},{"$f":"IF(CMS_Identification!#REF!=\"\",\"\",CMS_Identification!#REF!)","v":{"$error":"#REF!"}},null,null,null,null,""]
[null,null,{"$f":"IF(CMS_Identification!B340=\"\",\"\",CMS_Identification!B340)","v":""},{"$f":"IF(CMS_Identification!#REF!=\"\",\"\",CMS_Identification!#REF!)","v":{"$error":"#REF!"}},null,null,null,null,""]
[null,null,{"$f":"IF(CMS_Identification!B341=\"\",\"\",CMS_Identification!B341)","v":""},{"$f":"IF(CMS_Identification!#REF!=\"\",\"\",CMS_Identification!#REF!)","v":{"$error":"#REF!"}},null,null,null,null,""]
[null,null,{"$f":"IF(CMS_Identification!B342=\"\",\"\",CMS_Identification!B342)","v":""},{"$f":"IF(CMS_Identification!#REF!=\"\",\"\",CMS_Identification!#REF!)","v":{"$error":"#REF!"}},null,null,null,null,""]
[null,null,{"$f":"IF(CMS_Identification!B343=\"\",\"\",CMS_Identification!B343)","v":""},{"$f":"IF(CMS_Identification!#REF!=\"\",\"\",CMS_Identification!#REF!)","v":{"$error":"#REF!"}},null,null,null,null,""]
[null,null,{"$f":"IF(CMS_Identification!B344=\"\",\"\",CMS_Identification!B344)","v":""},{"$f":"IF(CMS_Identification!#REF!=\"\",\"\",CMS_Identification!#REF!)","v":{"$error":"#REF!"}},null,null,null,null,""]
[null,null,{"$f":"IF(CMS_Identification!B345=\"\",\"\",CMS_Identification!B345)","v":""},{"$f":"IF(CMS_Identification!#REF!=\"\",\"\",CMS_Identification!#REF!)","v":{"$error":"#REF!"}},null,null,null,null,""]
[null,null,{"$f":"IF(CMS_Identification!B346=\"\",\"\",CMS_Identification!B346)","v":""},{"$f":"IF(CMS_Identification!#REF!=\"\",\"\",CMS_Identification!#REF!)","v":{"$error":"#REF!"}},null,null,null,null,""]
[null,null,{"$f":"IF(CMS_Identification!B347=\"\",\"\",CMS_Identification!B347)","v":""},{"$f":"IF(CMS_Identification!#REF!=\"\",\"\",CMS_Identification!#REF!)","v":{"$error":"#REF!"}},null,null,null,null,""]
[null,null,{"$f":"IF(CMS_Identification!B348=\"\",\"\",CMS_Identification!B348)","v":""},{"$f":"IF(CMS_Identification!#REF!=\"\",\"\",CMS_Identification!#REF!)","v":{"$error":"#REF!"}},null,null,null,null,""]
[null,null,{"$f":"IF(CMS_Identification!B349=\"\",\"\",CMS_Identification!B349)","v":""},{"$f":"IF(CMS_Identification!#REF!=\"\",\"\",CMS_Identification!#REF!)","v":{"$error":"#REF!"}},null,null,null,null,""]
[null,null,{"$f":"IF(CMS_Identification!B350=\"\",\"\",CMS_Identification!B350)","v":""},{"$f":"IF(CMS_Identification!#REF!=\"\",\"\",CMS_Identification!#REF!)","v":{"$error":"#REF!"}},null,null,null,null,""]
[null,null,{"$f":"IF(CMS_Identification!B351=\"\",\"\",CMS_Identification!B351)","v":""},{"$f":"IF(CMS_Identification!#REF!=\"\",\"\",CMS_Identification!#REF!)","v":{"$error":"#REF!"}},null,null,null,null,""]
[null,null,{"$f":"IF(CMS_Identification!B352=\"\",\"\",CMS_Identification!B352)","v":""},{"$f":"IF(CMS_Identification!#REF!=\"\",\"\",CMS_Identification!#REF!)","v":{"$error":"#REF!"}},null,null,null,null,""]
[null,null,{"$f":"IF(CMS_Identification!B353=\"\",\"\",CMS_Identification!B353)","v":""},{"$f":"IF(CMS_Identification!#REF!=\"\",\"\",CMS_Identification!#REF!)","v":{"$error":"#REF!"}},null,null,null,null,""]
[null,null,{"$f":"IF(CMS_Identification!B354=\"\",\"\",CMS_Identification!B354)","v":""},{"$f":"IF(CMS_Identification!#REF!=\"\",\"\",CMS_Identification!#REF!)","v":{"$error":"#REF!"}},null,null,null,null,""]
[null,null,{"$f":"IF(CMS_Identification!B355=\"\",\"\",CMS_Identification!B355)","v":""},{"$f":"IF(CMS_Identification!#REF!=\"\",\"\",CMS_Identification!#REF!)","v":{"$error":"#REF!"}},null,null,null,null,""]
[null,null,{"$f":"IF(CMS_Identification!B356=\"\",\"\",CMS_Identification!B356)","v":""},{"$f":"IF(CMS_Identification!#REF!=\"\",\"\",CMS_Identification!#REF!)","v":{"$error":"#REF!"}},null,null,null,null,""]
[null,null,{"$f":"IF(CMS_Identification!B357=\"\",\"\",CMS_Identification!B357)","v":""},{"$f":"IF(CMS_Identification!#REF!=\"\",\"\",CMS_Identification!#REF!)","v":{"$error":"#REF!"}},null,null,null,null,{"$f":"IF(A336=\"\",\"\",A336&\" \"&C336)","v":""}]
[null,null,{"$f":"IF(CMS_Identification!B358=\"\",\"\",CMS_Identification!B358)","v":""},{"$f":"IF(CMS_Identification!#REF!=\"\",\"\",CMS_Identification!#REF!)","v":{"$error":"#REF!"}},null,null,null,null,""]
[null,null,{"$f":"IF(CMS_Identification!B359=\"\",\"\",CMS_Identification!B359)","v":""},{"$f":"IF(CMS_Identification!#REF!=\"\",\"\",CMS_Identification!#REF!)","v":{"$error":"#REF!"}},null,null,null,null,""]
[null,null,{"$f":"IF(CMS_Identification!B360=\"\",\"\",CMS_Identification!B360)","v":""},{"$f":"IF(CMS_Identification!#REF!=\"\",\"\",CMS_Identification!#REF!)","v":{"$error":"#REF!"}},null,null,null,null,""]
[null,null,{"$f":"IF(CMS_Identification!B361=\"\",\"\",CMS_Identification!B361)","v":""},{"$f":"IF(CMS_Identification!#REF!=\"\",\"\",CMS_Identification!#REF!)","v":{"$error":"#REF!"}},null,null,null,null,""]
[null,null,{"$f":"IF(CMS_Identification!B362=\"\",\"\",CMS_Identification!B362)","v":""},{"$f":"IF(CMS_Identification!#REF!=\"\",\"\",CMS_Identification!#REF!)","v":{"$error":"#REF!"}},null,null,null,null,""]
[null,null,{"$f":"IF(CMS_Identification!B363=\"\",\"\",CMS_Identification!B363)","v":""},{"$f":"IF(CMS_Identification!#REF!=\"\",\"\",CMS_Identification!#REF!)","v":{"$error":"#REF!"}},null,null,null,null,""]
[null,null,{"$f":"IF(CMS_Identification!B364=\"\",\"\",CMS_Identification!B364)","v":""},{"$f":"IF(CMS_Identification!#REF!=\"\",\"\",CMS_Identification!#REF!)","v":{"$error":"#REF!"}},null,null,null,null,""]
[null,null,{"$f":"IF(CMS_Identification!B365=\"\",\"\",CMS_Identification!B365)","v":""},{"$f":"IF(CMS_Identification!#REF!=\"\",\"\",CMS_Identification!#REF!)","v":{"$error":"#REF!"}},null,null,null,null,""]
[null,null,{"$f":"IF(CMS_Identification!B366=\"\",\"\",CMS_Identification!B366)","v":""},{"$f":"IF(CMS_Identification!#REF!=\"\",\"\",CMS_Identification!#REF!)","v":{"$error":"#REF!"}},null,null,null,null,""]
[null,null,{"$f":"IF(CMS_Identification!B367=\"\",\"\",CMS_Identification!B367)","v":""},{"$f":"IF(CMS_Identification!#REF!=\"\",\"\",CMS_Identification!#REF!)","v":{"$error":"#REF!"}},null,null,null,null,""]
[null,null,{"$f":"IF(CMS_Identification!B368=\"\",\"\",CMS_Identification!B368)","v":""},{"$f":"IF(CMS_Identification!#REF!=\"\",\"\",CMS_Identification!#REF!)","v":{"$error":"#REF!"}},null,null,null,null,""]
[null,null,{"$f":"IF(CMS_Identification!B369=\"\",\"\",CMS_Identification!B369)","v":""},{"$f":"IF(CMS_Identification!#REF!=\"\",\"\",CMS_Identification!#REF!)","v":{"$error":"#REF!"}},null,null,null,null,""]
[null,null,{"$f":"IF(CMS_Identification!B370=\"\",\"\",CMS_Identification!B370)","v":""},{"$f":"IF(CMS_Identification!#REF!=\"\",\"\",CMS_Identification!#REF!)","v":{"$error":"#REF!"}},null,null,null,null,""]
[null,null,{"$f":"IF(CMS_Identification!B371=\"\",\"\",CMS_Identification!B371)","v":""},{"$f":"IF(CMS_Identification!#REF!=\"\",\"\",CMS_Identification!#REF!)","v":{"$error":"#REF!"}},null,null,null,null,""]
[null,null,{"$f":"IF(CMS_Identification!B372=\"\",\"\",CMS_Identification!B372)","v":""},{"$f":"IF(CMS_Identification!#REF!=\"\",\"\",CMS_Identification!#REF!)","v":{"$error":"#REF!"}},null,null,null,null,""]
[null,null,{"$f":"IF(CMS_Identification!B373=\"\",\"\",CMS_Identification!B373)","v":""},{"$f":"IF(CMS_Identification!#REF!=\"\",\"\",CMS_Identification!#REF!)","v":{"$error":"#REF!"}},null,null,null,null,""]
[null,null,{"$f":"IF(CMS_Identification!B374=\"\",\"\",CMS_Identification!B374)","v":""},{"$f":"IF(CMS_Identification!#REF!=\"\",\"\",CMS_Identification!#REF!)","v":{"$error":"#REF!"}},null,null,null,null,""]
[null,null,{"$f":"IF(CMS_Identification!B375=\"\",\"\",CMS_Identification!B375)","v":""},{"$f":"IF(CMS_Identification!#REF!=\"\",\"\",CMS_Identification!#REF!)","v":{"$error":"#REF!"}},null,null,null,null,""]
[null,null,{"$f":"IF(CMS_Identification!B376=\"\",\"\",CMS_Identification!B376)","v":""},{"$f":"IF(CMS_Identification!#REF!=\"\",\"\",CMS_Identification!#REF!)","v":{"$error":"#REF!"}},null,null,null,null,""]
[null,null,{"$f":"IF(CMS_Identification!B377=\"\",\"\",CMS_Identification!B377)","v":""},{"$f":"IF(CMS_Identification!#REF!=\"\",\"\",CMS_Identification!#REF!)","v":{"$error":"#REF!"}},null,null,null,null,""]
[null,null,{"$f":"IF(CMS_Identification!B378=\"\",\"\",CMS_Identification!B378)","v":""},{"$f":"IF(CMS_Identification!#REF!=\"\",\"\",CMS_Identification!#REF!)","v":{"$error":"#REF!"}},null,null,null,null,""]
[null,null,{"$f":"IF(CMS_Identification!B379=\"\",\"\",CMS_Identification!B379)","v":""},{"$f":"IF(CMS_Identification!#REF!=\"\",\"\",CMS_Identification!#REF!)","v":{"$error":"#REF!"}},null,null,null,null,""]
[null,null,{"$f":"IF(CMS_Identification!B380=\"\",\"\",CMS_Identification!B380)","v":""},{"$f":"IF(CMS_Identification!#REF!=\"\",\"\",CMS_Identification!#REF!)","v":{"$error":"#REF!"}},null,null,null,null,""]
[null,null,{"$f":"IF(CMS_Identification!B381=\"\",\"\",CMS_Identification!B381)","v":""},{"$f":"IF(CMS_Identification!#REF!=\"\",\"\",CMS_Identification!#REF!)","v":{"$error":"#REF!"}},null,null,null,null,""]
[null,null,{"$f":"IF(CMS_Identification!B382=\"\",\"\",CMS_Identification!B382)","v":""},{"$f":"IF(CMS_Identification!#REF!=\"\",\"\",CMS_Identification!#REF!)","v":{"$error":"#REF!"}},null,null,null,null,""]
[null,null,{"$f":"IF(CMS_Identification!B383=\"\",\"\",CMS_Identification!B383)","v":""},{"$f":"IF(CMS_Identification!#REF!=\"\",\"\",CMS_Identification!#REF!)","v":{"$error":"#REF!"}},null,null,null,null,""]
[null,null,{"$f":"IF(CMS_Identification!B384=\"\",\"\",CMS_Identification!B384)","v":""},{"$f":"IF(CMS_Identification!#REF!=\"\",\"\",CMS_Identification!#REF!)","v":{"$error":"#REF!"}},null,null,null,null,""]
[null,null,{"$f":"IF(CMS_Identification!B385=\"\",\"\",CMS_Identification!B385)","v":""},{"$f":"IF(CMS_Identification!#REF!=\"\",\"\",CMS_Identification!#REF!)","v":{"$error":"#REF!"}},null,null,null,null,""]
[null,null,{"$f":"IF(CMS_Identification!B386=\"\",\"\",CMS_Identification!B386)","v":""},{"$f":"IF(CMS_Identification!#REF!=\"\",\"\",CMS_Identification!#REF!)","v":{"$error":"#REF!"}},null,null,null,null,""]
[null,null,{"$f":"IF(CMS_Identification!B387=\"\",\"\",CMS_Identification!B387)","v":""},{"$f":"IF(CMS_Identification!#REF!=\"\",\"\",CMS_Identification!#REF!)","v":{"$error":"#REF!"}},null,null,null,null,""]
[null,null,{"$f":"IF(CMS_Identification!B388=\"\",\"\",CMS_Identification!B388)","v":""},{"$f":"IF(CMS_Identification!#REF!=\"\",\"\",CMS_Identification!#REF!)","v":{"$error":"#REF!"}},null,null,null,null,""]
[null,null,{"$f":"IF(CMS_Identification!B389=\"\",\"\",CMS_Identification!B389)","v":""},{"$f":"IF(CMS_Identification!#REF!=\"\",\"\",CMS_Identification!#REF!)","v":{"$error":"#REF!"}},null,null,null,null,""]
[null,null,{"$f":"IF(CMS_Identification!B390=\"\",\"\",CMS_Identification!B390)","v":""},{"$f":"IF(CMS_Identification!#REF!=\"\",\"\",CMS_Identification!#REF!)","v":{"$error":"#REF!"}},null,null,null,null,""]
[null,null,{"$f":"IF(CMS_Identification!B391=\"\",\"\",CMS_Identification!B391)","v":""},{"$f":"IF(CMS_Identification!#REF!=\"\",\"\",CMS_Identification!#REF!)","v":{"$error":"#REF!"}},null,null,null,null,""]
[null,null,{"$f":"IF(CMS_Identification!B392=\"\",\"\",CMS_Identification!B392)","v":""},{"$f":"IF(CMS_Identification!#REF!=\"\",\"\",CMS_Identification!#REF!)","v":{"$error":"#REF!"}},null,null,null,null,""]
[null,null,{"$f":"IF(CMS_Identification!B393=\"\",\"\",CMS_Identification!B393)","v":""},{"$f":"IF(CMS_Identification!#REF!=\"\",\"\",CMS_Identification!#REF!)","v":{"$error":"#REF!"}},null,null,null,null,""]
[null,null,{"$f":"IF(CMS_Identification!B394=\"\",\"\",CMS_Identification!B394)","v":""},{"$f":"IF(CMS_Identification!#REF!=\"\",\"\",CMS_Identification!#REF!)","v":{"$error":"#REF!"}},null,null,null,null,""]
[null,null,{"$f":"IF(CMS_Identification!B395=\"\",\"\",CMS_Identification!B395)","v":""},{"$f":"IF(CMS_Identification!#REF!=\"\",\"\",CMS_Identification!#REF!)","v":{"$error":"#REF!"}},null,null,null,null,""]
[null,null,{"$f":"IF(CMS_Identification!B396=\"\",\"\",CMS_Identification!B396)","v":""},{"$f":"IF(CMS_Identification!#REF!=\"\",\"\",CMS_Identification!#REF!)","v":{"$error":"#REF!"}},null,null,null,null,""]
[null,null,{"$f":"IF(CMS_Identification!B397=\"\",\"\",CMS_Identification!B397)","v":""},{"$f":"IF(CMS_Identification!#REF!=\"\",\"\",CMS_Identification!#REF!)","v":{"$error":"#REF!"}},null,null,null,null,""]
[null,null,{"$f":"IF(CMS_Identification!B398=\"\",\"\",CMS_Identification!B398)","v":""},{"$f":"IF(CMS_Identification!#REF!=\"\",\"\",CMS_Identification!#REF!)","v":{"$error":"#REF!"}},null,null,null,null,""]
[null,null,{"$f":"IF(CMS_Identification!B399=\"\",\"\",CMS_Identification!B399)","v":""},{"$f":"IF(CMS_Identification!#REF!=\"\",\"\",CMS_Identification!#REF!)","v":{"$error":"#REF!"}},null,null,null,null,""]
[null,null,{"$f":"IF(CMS_Identification!B400=\"\",\"\",CMS_Identification!B400)","v":""},{"$f":"IF(CMS_Identification!#REF!=\"\",\"\",CMS_Identification!#REF!)","v":{"$error":"#REF!"}},null,null,null,null,""]
[null,null,{"$f":"IF(CMS_Identification!B401=\"\",\"\",CMS_Identification!B401)","v":""},{"$f":"IF(CMS_Identification!#REF!=\"\",\"\",CMS_Identification!#REF!)","v":{"$error":"#REF!"}},null,null,null,null,""]
[null,null,{"$f":"IF(CMS_Identification!B402=\"\",\"\",CMS_Identification!B402)","v":""},{"$f":"IF(CMS_Identification!#REF!=\"\",\"\",CMS_Identification!#REF!)","v":{"$error":"#REF!"}},null,null,null,null,""]
[null,null,{"$f":"IF(CMS_Identification!B403=\"\",\"\",CMS_Identification!B403)","v":""},{"$f":"IF(CMS_Identification!#REF!=\"\",\"\",CMS_Identification!#REF!)","v":{"$error":"#REF!"}},null,null,null,null,""]
[null,null,{"$f":"IF(CMS_Identification!B404=\"\",\"\",CMS_Identification!B404)","v":""},{"$f":"IF(CMS_Identification!#REF!=\"\",\"\",CMS_Identification!#REF!)","v":{"$error":"#REF!"}},null,null,null,null,""]
[null,null,{"$f":"IF(CMS_Identification!B405=\"\",\"\",CMS_Identification!B405)","v":""},{"$f":"IF(CMS_Identification!#REF!=\"\",\"\",CMS_Identification!#REF!)","v":{"$error":"#REF!"}},null,null,null,null,""]
[null,null,{"$f":"IF(CMS_Identification!B406=\"\",\"\",CMS_Identification!B406)","v":""},{"$f":"IF(CMS_Identification!#REF!=\"\",\"\",CMS_Identification!#REF!)","v":{"$error":"#REF!"}},null,null,null,null,""]
[null,null,{"$f":"IF(CMS_Identification!B407=\"\",\"\",CMS_Identification!B407)","v":""},{"$f":"IF(CMS_Identification!#REF!=\"\",\"\",CMS_Identification!#REF!)","v":{"$error":"#REF!"}},null,null,null,null,""]
[null,null,{"$f":"IF(CMS_Identification!B408=\"\",\"\",CMS_Identification!B408)","v":""},{"$f":"IF(CMS_Identification!#REF!=\"\",\"\",CMS_Identification!#REF!)","v":{"$error":"#REF!"}},null,null,null,null,""]
[null,null,{"$f":"IF(CMS_Identification!B409=\"\",\"\",CMS_Identification!B409)","v":""},{"$f":"IF(CMS_Identification!#REF!=\"\",\"\",CMS_Identification!#REF!)","v":{"$error":"#REF!"}},null,null,null,null,""]
[null,null,{"$f":"IF(CMS_Identification!B410=\"\",\"\",CMS_Identification!B410)","v":""},{"$f":"IF(CMS_Identification!#REF!=\"\",\"\",CMS_Identification!#REF!)","v":{"$error":"#REF!"}},null,null,null,null,""]
[null,null,{"$f":"IF(CMS_Identification!B411=\"\",\"\",CMS_Identification!B411)","v":""},{"$f":"IF(CMS_Identification!#REF!=\"\",\"\",CMS_Identification!#REF!)","v":{"$error":"#REF!"}},null,null,null,null,""]
[null,null,{"$f":"IF(CMS_Identification!B412=\"\",\"\",CMS_Identification!B412)","v":""},{"$f":"IF(CMS_Identification!#REF!=\"\",\"\",CMS_Identification!#REF!)","v":{"$error":"#REF!"}},null,null,null,null,""]
[null,null,{"$f":"IF(CMS_Identification!B413=\"\",\"\",CMS_Identification!B413)","v":""},{"$f":"IF(CMS_Identification!#REF!=\"\",\"\",CMS_Identification!#REF!)","v":{"$error":"#REF!"}},null,null,null,null,""]
[null,null,{"$f":"IF(CMS_Identification!B414=\"\",\"\",CMS_Identification!B414)","v":""},{"$f":"IF(CMS_Identification!#REF!=\"\",\"\",CMS_Identification!#REF!)","v":{"$error":"#REF!"}},null,null,null,null,""]
[null,null,{"$f":"IF(CMS_Identification!B415=\"\",\"\",CMS_Identification!B415)","v":""},{"$f":"IF(CMS_Identification!#REF!=\"\",\"\",CMS_Identification!#REF!)","v":{"$error":"#REF!"}},null,null,null,null,""]
[null,null,{"$f":"IF(CMS_Identification!B416=\"\",\"\",CMS_Identification!B416)","v":""},{"$f":"IF(CMS_Identification!#REF!=\"\",\"\",CMS_Identification!#REF!)","v":{"$error":"#REF!"}},null,null,null,null,""]
[null,null,{"$f":"IF(CMS_Identification!B417=\"\",\"\",CMS_Identification!B417)","v":""},{"$f":"IF(CMS_Identification!#REF!=\"\",\"\",CMS_Identification!#REF!)","v":{"$error":"#REF!"}},null,null,null,null,""]
[null,null,{"$f":"IF(CMS_Identification!B418=\"\",\"\",CMS_Identification!B418)","v":""},{"$f":"IF(CMS_Identification!#REF!=\"\",\"\",CMS_Identification!#REF!)","v":{"$error":"#REF!"}},null,null,null,null,""]
[null,null,{"$f":"IF(CMS_Identification!B419=\"\",\"\",CMS_Identification!B419)","v":""},{"$f":"IF(CMS_Identification!#REF!=\"\",\"\",CMS_Identification!#REF!)","v":{"$error":"#REF!"}},null,null,null,null,""]
[null,null,{"$f":"IF(CMS_Identification!B420=\"\",\"\",CMS_Identification!B420)","v":""},{"$f":"IF(CMS_Identification!#REF!=\"\",\"\",CMS_Identification!#REF!)","v":{"$error":"#REF!"}},null,null,null,null,""]
[null,null,{"$f":"IF(CMS_Identification!B421=\"\",\"\",CMS_Identification!B421)","v":""},{"$f":"IF(CMS_Identification!#REF!=\"\",\"\",CMS_Identification!#REF!)","v":{"$error":"#REF!"}},null,null,null,null,{"$f":"IF(A400=\"\",\"\",A400&\" \"&C400)","v":""}]
[null,null,{"$f":"IF(CMS_Identification!B422=\"\",\"\",CMS_Identification!B422)","v":""},{"$f":"IF(CMS_Identification!#REF!=\"\",\"\",CMS_Identification!#REF!)","v":{"$error":"#REF!"}},null,null,null,null,""]
[null,null,{"$f":"IF(CMS_Identification!B423=\"\",\"\",CMS_Identification!B423)","v":""},{"$f":"IF(CMS_Identification!#REF!=\"\",\"\",CMS_Identification!#REF!)","v":{"$error":"#REF!"}},null,null,null,null,""]
[null,null,{"$f":"IF(CMS_Identification!B424=\"\",\"\",CMS_Identification!B424)","v":""},{"$f":"IF(CMS_Identification!#REF!=\"\",\"\",CMS_Identification!#REF!)","v":{"$error":"#REF!"}},null,null,null,null,""]
[null,null,{"$f":"IF(CMS_Identification!B425=\"\",\"\",CMS_Identification!B425)","v":""},{"$f":"IF(CMS_Identification!#REF!=\"\",\"\",CMS_Identification!#REF!)","v":{"$error":"#REF!"}},null,null,null,null,""]
[null,null,{"$f":"IF(CMS_Identification!B426=\"\",\"\",CMS_Identification!B426)","v":""},{"$f":"IF(CMS_Identification!#REF!=\"\",\"\",CMS_Identification!#REF!)","v":{"$error":"#REF!"}},null,null,null,null,""]
[null,null,{"$f":"IF(CMS_Identification!B427=\"\",\"\",CMS_Identification!B427)","v":""},{"$f":"IF(CMS_Identification!#REF!=\"\",\"\",CMS_Identification!#REF!)","v":{"$error":"#REF!"}},null,null,null,null,""]
[null,null,{"$f":"IF(CMS_Identification!B428=\"\",\"\",CMS_Identification!B428)","v":""},{"$f":"IF(CMS_Identification!#REF!=\"\",\"\",CMS_Identification!#REF!)","v":{"$error":"#REF!"}},null,null,null,null,""]
[null,null,{"$f":"IF(CMS_Identification!B429=\"\",\"\",CMS_Identification!B429)","v":""},{"$f":"IF(CMS_Identification!#REF!=\"\",\"\",CMS_Identification!#REF!)","v":{"$error":"#REF!"}},null,null,null,null,""]
[null,null,{"$f":"IF(CMS_Identification!B430=\"\",\"\",CMS_Identification!B430)","v":""},{"$f":"IF(CMS_Identification!#REF!=\"\",\"\",CMS_Identification!#REF!)","v":{"$error":"#REF!"}},null,null,null,null,""]
[null,null,{"$f":"IF(CMS_Identification!B431=\"\",\"\",CMS_Identification!B431)","v":""},{"$f":"IF(CMS_Identification!#REF!=\"\",\"\",CMS_Identification!#REF!)","v":{"$error":"#REF!"}},null,null,null,null,""]
[null,null,{"$f":"IF(CMS_Identification!B432=\"\",\"\",CMS_Identification!B432)","v":""},{"$f":"IF(CMS_Identification!#REF!=\"\",\"\",CMS_Identification!#REF!)","v":{"$error":"#REF!"}},null,null,null,null,""]
[null,null,{"$f":"IF(CMS_Identification!B433=\"\",\"\",CMS_Identification!B433)","v":""},{"$f":"IF(CMS_Identification!#REF!=\"\",\"\",CMS_Identification!#REF!)","v":{"$error":"#REF!"}},null,null,null,null,""]
[null,null,{"$f":"IF(CMS_Identification!B434=\"\",\"\",CMS_Identification!B434)","v":""},{"$f":"IF(CMS_Identification!#REF!=\"\",\"\",CMS_Identification!#REF!)","v":{"$error":"#REF!"}},null,null,null,null,""]
[null,null,{"$f":"IF(CMS_Identification!B435=\"\",\"\",CMS_Identification!B435)","v":""},{"$f":"IF(CMS_Identification!#REF!=\"\",\"\",CMS_Identification!#REF!)","v":{"$error":"#REF!"}},null,null,null,null,""]
[null,null,{"$f":"IF(CMS_Identification!B436=\"\",\"\",CMS_Identification!B436)","v":""},{"$f":"IF(CMS_Identification!#REF!=\"\",\"\",CMS_Identification!#REF!)","v":{"$error":"#REF!"}},null,null,null,null,""]
[null,null,{"$f":"IF(CMS_Identification!B437=\"\",\"\",CMS_Identification!B437)","v":""},{"$f":"IF(CMS_Identification!#REF!=\"\",\"\",CMS_Identification!#REF!)","v":{"$error":"#REF!"}},null,null,null,null,""]
[null,null,{"$f":"IF(CMS_Identification!B438=\"\",\"\",CMS_Identification!B438)","v":""},{"$f":"IF(CMS_Identification!#REF!=\"\",\"\",CMS_Identification!#REF!)","v":{"$error":"#REF!"}},null,null,null,null,""]
[null,null,{"$f":"IF(CMS_Identification!B439=\"\",\"\",CMS_Identification!B439)","v":""},{"$f":"IF(CMS_Identification!#REF!=\"\",\"\",CMS_Identification!#REF!)","v":{"$error":"#REF!"}},null,null,null,null,""]
[null,null,{"$f":"IF(CMS_Identification!B440=\"\",\"\",CMS_Identification!B440)","v":""},{"$f":"IF(CMS_Identification!#REF!=\"\",\"\",CMS_Identification!#REF!)","v":{"$error":"#REF!"}},null,null,null,null,""]
[null,null,{"$f":"IF(CMS_Identification!B441=\"\",\"\",CMS_Identification!B441)","v":""},{"$f":"IF(CMS_Identification!#REF!=\"\",\"\",CMS_Identification!#REF!)","v":{"$error":"#REF!"}},null,null,null,null,""]
[null,null,{"$f":"IF(CMS_Identification!B442=\"\",\"\",CMS_Identification!B442)","v":""},{"$f":"IF(CMS_Identification!#REF!=\"\",\"\",CMS_Identification!#REF!)","v":{"$error":"#REF!"}},null,null,null,null,""]
[null,null,{"$f":"IF(CMS_Identification!B443=\"\",\"\",CMS_Identification!B443)","v":""},{"$f":"IF(CMS_Identification!#REF!=\"\",\"\",CMS_Identification!#REF!)","v":{"$error":"#REF!"}},null,null,null,null,""]
[null,null,{"$f":"IF(CMS_Identification!B444=\"\",\"\",CMS_Identification!B444)","v":""},{"$f":"IF(CMS_Identification!#REF!=\"\",\"\",CMS_Identification!#REF!)","v":{"$error":"#REF!"}},null,null,null,null,""]
[null,null,{"$f":"IF(CMS_Identification!B445=\"\",\"\",CMS_Identification!B445)","v":""},{"$f":"IF(CMS_Identification!#REF!=\"\",\"\",CMS_Identification!#REF!)","v":{"$error":"#REF!"}},null,null,null,null,""]
[null,null,{"$f":"IF(CMS_Identification!B446=\"\",\"\",CMS_Identification!B446)","v":""},{"$f":"IF(CMS_Identification!#REF!=\"\",\"\",CMS_Identification!#REF!)","v":{"$error":"#REF!"}},null,null,null,null,""]
[null,null,{"$f":"IF(CMS_Identification!B447=\"\",\"\",CMS_Identification!B447)","v":""},{"$f":"IF(CMS_Identification!#REF!=\"\",\"\",CMS_Identification!#REF!)","v":{"$error":"#REF!"}},null,null,null,null,""]
[null,null,{"$f":"IF(CMS_Identification!B448=\"\",\"\",CMS_Identification!B448)","v":""},{"$f":"IF(CMS_Identification!#REF!=\"\",\"\",CMS_Identification!#REF!)","v":{"$error":"#REF!"}},null,null,null,null,""]
[null,null,{"$f":"IF(CMS_Identification!B449=\"\",\"\",CMS_Identification!B449)","v":""},{"$f":"IF(CMS_Identification!#REF!=\"\",\"\",CMS_Identification!#REF!)","v":{"$error":"#REF!"}},null,null,null,null,""]
[null,null,{"$f":"IF(CMS_Identification!B450=\"\",\"\",CMS_Identification!B450)","v":""},{"$f":"IF(CMS_Identification!#REF!=\"\",\"\",CMS_Identification!#REF!)","v":{"$error":"#REF!"}},null,null,null,null,""]
[null,null,{"$f":"IF(CMS_Identification!B451=\"\",\"\",CMS_Identification!B451)","v":""},{"$f":"IF(CMS_Identification!#REF!=\"\",\"\",CMS_Identification!#REF!)","v":{"$error":"#REF!"}},null,null,null,null,""]
[null,null,{"$f":"IF(CMS_Identification!B452=\"\",\"\",CMS_Identification!B452)","v":""},{"$f":"IF(CMS_Identification!#REF!=\"\",\"\",CMS_Identification!#REF!)","v":{"$error":"#REF!"}},null,null,null,null,""]
[null,null,{"$f":"IF(CMS_Identification!B453=\"\",\"\",CMS_Identification!B453)","v":""},{"$f":"IF(CMS_Identification!#REF!=\"\",\"\",CMS_Identification!#REF!)","v":{"$error":"#REF!"}},null,null,null,null,""]
[null,null,{"$f":"IF(CMS_Identification!B454=\"\",\"\",CMS_Identification!B454)","v":""},{"$f":"IF(CMS_Identification!#REF!=\"\",\"\",CMS_Identification!#REF!)","v":{"$error":"#REF!"}},null,null,null,null,""]
[null,null,{"$f":"IF(CMS_Identification!B455=\"\",\"\",CMS_Identification!B455)","v":""},{"$f":"IF(CMS_Identification!#REF!=\"\",\"\",CMS_Identification!#REF!)","v":{"$error":"#REF!"}},null,null,null,null,""]
[null,null,{"$f":"IF(CMS_Identification!B456=\"\",\"\",CMS_Identification!B456)","v":""},{"$f":"IF(CMS_Identification!#REF!=\"\",\"\",CMS_Identification!#REF!)","v":{"$error":"#REF!"}},null,null,null,null,""]
[null,null,{"$f":"IF(CMS_Identification!B457=\"\",\"\",CMS_Identification!B457)","v":""},{"$f":"IF(CMS_Identification!#REF!=\"\",\"\",CMS_Identification!#REF!)","v":{"$error":"#REF!"}},null,null,null,null,""]
[null,null,{"$f":"IF(CMS_Identification!B458=\"\",\"\",CMS_Identification!B458)","v":""},{"$f":"IF(CMS_Identification!#REF!=\"\",\"\",CMS_Identification!#REF!)","v":{"$error":"#REF!"}},null,null,null,null,""]
[null,null,{"$f":"IF(CMS_Identification!B459=\"\",\"\",CMS_Identification!B459)","v":""},{"$f":"IF(CMS_Identification!#REF!=\"\",\"\",CMS_Identification!#REF!)","v":{"$error":"#REF!"}},null,null,null,null,""]
[null,null,{"$f":"IF(CMS_Identification!B460=\"\",\"\",CMS_Identification!B460)","v":""},{"$f":"IF(CMS_Identification!#REF!=\"\",\"\",CMS_Identification!#REF!)","v":{"$error":"#REF!"}},null,null,null,null,""]
[null,null,{"$f":"IF(CMS_Identification!B461=\"\",\"\",CMS_Identification!B461)","v":""},{"$f":"IF(CMS_Identification!#REF!=\"\",\"\",CMS_Identification!#REF!)","v":{"$error":"#REF!"}},null,null,null,null,""]
[null,null,{"$f":"IF(CMS_Identification!B462=\"\",\"\",CMS_Identification!B462)","v":""},{"$f":"IF(CMS_Identification!#REF!=\"\",\"\",CMS_Identification!#REF!)","v":{"$error":"#REF!"}},null,null,null,null,""]
[null,null,{"$f":"IF(CMS_Identification!B463=\"\",\"\",CMS_Identification!B463)","v":""},{"$f":"IF(CMS_Identification!#REF!=\"\",\"\",CMS_Identification!#REF!)","v":{"$error":"#REF!"}},null,null,null,null,""]
[null,null,{"$f":"IF(CMS_Identification!B464=\"\",\"\",CMS_Identification!B464)","v":""},{"$f":"IF(CMS_Identification!#REF!=\"\",\"\",CMS_Identification!#REF!)","v":{"$error":"#REF!"}},null,null,null,null,""]
[null,null,{"$f":"IF(CMS_Identification!B465=\"\",\"\",CMS_Identification!B465)","v":""},{"$f":"IF(CMS_Identification!#REF!=\"\",\"\",CMS_Identification!#REF!)","v":{"$error":"#REF!"}},null,null,null,null,""]
[null,null,{"$f":"IF(CMS_Identification!B466=\"\",\"\",CMS_Identification!B466)","v":""},{"$f":"IF(CMS_Identification!#REF!=\"\",\"\",CMS_Identification!#REF!)","v":{"$error":"#REF!"}},null,null,null,null,""]
[null,null,{"$f":"IF(CMS_Identification!B467=\"\",\"\",CMS_Identification!B467)","v":""},{"$f":"IF(CMS_Identification!#REF!=\"\",\"\",CMS_Identification!#REF!)","v":{"$error":"#REF!"}},null,null,null,null,""]
[null,null,{"$f":"IF(CMS_Identification!B468=\"\",\"\",CMS_Identification!B468)","v":""},{"$f":"IF(CMS_Identification!#REF!=\"\",\"\",CMS_Identification!#REF!)","v":{"$error":"#REF!"}},null,null,null,null,""]
[null,null,{"$f":"IF(CMS_Identification!B469=\"\",\"\",CMS_Identification!B469)","v":""},{"$f":"IF(CMS_Identification!#REF!=\"\",\"\",CMS_Identification!#REF!)","v":{"$error":"#REF!"}},null,null,null,null,""]
[null,null,{"$f":"IF(CMS_Identification!B470=\"\",\"\",CMS_Identification!B470)","v":""},{"$f":"IF(CMS_Identification!#REF!=\"\",\"\",CMS_Identification!#REF!)","v":{"$error":"#REF!"}},null,null,null,null,""]
[null,null,{"$f":"IF(CMS_Identification!B471=\"\",\"\",CMS_Identification!B471)","v":""},{"$f":"IF(CMS_Identification!#REF!=\"\",\"\",CMS_Identification!#REF!)","v":{"$error":"#REF!"}},null,null,null,null,""]
[null,null,{"$f":"IF(CMS_Identification!B472=\"\",\"\",CMS_Identification!B472)","v":""},{"$f":"IF(CMS_Identification!#REF!=\"\",\"\",CMS_Identification!#REF!)","v":{"$error":"#REF!"}},null,null,null,null,""]
[null,null,{"$f":"IF(CMS_Identification!B473=\"\",\"\",CMS_Identification!B473)","v":""},{"$f":"IF(CMS_Identification!#REF!=\"\",\"\",CMS_Identification!#REF!)","v":{"$error":"#REF!"}},null,null,null,null,""]
[null,null,{"$f":"IF(CMS_Identification!B474=\"\",\"\",CMS_Identification!B474)","v":""},{"$f":"IF(CMS_Identification!#REF!=\"\",\"\",CMS_Identification!#REF!)","v":{"$error":"#REF!"}},null,null,null,null,""]
[null,null,{"$f":"IF(CMS_Identification!B475=\"\",\"\",CMS_Identification!B475)","v":""},{"$f":"IF(CMS_Identification!#REF!=\"\",\"\",CMS_Identification!#REF!)","v":{"$error":"#REF!"}},null,null,null,null,""]
[null,null,{"$f":"IF(CMS_Identification!B476=\"\",\"\",CMS_Identification!B476)","v":""},{"$f":"IF(CMS_Identification!#REF!=\"\",\"\",CMS_Identification!#REF!)","v":{"$error":"#REF!"}},null,null,null,null,""]
[null,null,{"$f":"IF(CMS_Identification!B477=\"\",\"\",CMS_Identification!B477)","v":""},{"$f":"IF(CMS_Identification!#REF!=\"\",\"\",CMS_Identification!#REF!)","v":{"$error":"#REF!"}},null,null,null,null,""]
[null,null,{"$f":"IF(CMS_Identification!B478=\"\",\"\",CMS_Identification!B478)","v":""},{"$f":"IF(CMS_Identification!#REF!=\"\",\"\",CMS_Identification!#REF!)","v":{"$error":"#REF!"}},null,null,null,null,""]
[null,null,{"$f":"IF(CMS_Identification!B479=\"\",\"\",CMS_Identification!B479)","v":""},{"$f":"IF(CMS_Identification!#REF!=\"\",\"\",CMS_Identification!#REF!)","v":{"$error":"#REF!"}},null,null,null,null,""]
[null,null,{"$f":"IF(CMS_Identification!B480=\"\",\"\",CMS_Identification!B480)","v":""},{"$f":"IF(CMS_Identification!#REF!=\"\",\"\",CMS_Identification!#REF!)","v":{"$error":"#REF!"}},null,null,null,null,""]
[null,null,{"$f":"IF(CMS_Identification!B481=\"\",\"\",CMS_Identification!B481)","v":""},{"$f":"IF(CMS_Identification!#REF!=\"\",\"\",CMS_Identification!#REF!)","v":{"$error":"#REF!"}},null,null,null,null,""]
[null,null,{"$f":"IF(CMS_Identification!B482=\"\",\"\",CMS_Identification!B482)","v":""},{"$f":"IF(CMS_Identification!#REF!=\"\",\"\",CMS_Identification!#REF!)","v":{"$error":"#REF!"}},null,null,null,null,""]
[null,null,{"$f":"IF(CMS_Identification!B483=\"\",\"\",CMS_Identification!B483)","v":""},{"$f":"IF(CMS_Identification!#REF!=\"\",\"\",CMS_Identification!#REF!)","v":{"$error":"#REF!"}},null,null,null,null,""]
[null,null,{"$f":"IF(CMS_Identification!B484=\"\",\"\",CMS_Identification!B484)","v":""},{"$f":"IF(CMS_Identification!#REF!=\"\",\"\",CMS_Identification!#REF!)","v":{"$error":"#REF!"}},null,null,null,null,""]
[null,null,{"$f":"IF(CMS_Identification!B485=\"\",\"\",CMS_Identification!B485)","v":""},{"$f":"IF(CMS_Identification!#REF!=\"\",\"\",CMS_Identification!#REF!)","v":{"$error":"#REF!"}},null,null,null,null,{"$f":"IF(A464=\"\",\"\",A464&\" \"&C464)","v":""}]
[null,null,{"$f":"IF(CMS_Identification!B486=\"\",\"\",CMS_Identification!B486)","v":""},{"$f":"IF(CMS_Identification!#REF!=\"\",\"\",CMS_Identification!#REF!)","v":{"$error":"#REF!"}},null,null,null,null,""]
[null,null,{"$f":"IF(CMS_Identification!B487=\"\",\"\",CMS_Identification!B487)","v":""},{"$f":"IF(CMS_Identification!#REF!=\"\",\"\",CMS_Identification!#REF!)","v":{"$error":"#REF!"}},null,null,null,null,""]
[null,null,{"$f":"IF(CMS_Identification!B488=\"\",\"\",CMS_Identification!B488)","v":""},{"$f":"IF(CMS_Identification!#REF!=\"\",\"\",CMS_Identification!#REF!)","v":{"$error":"#REF!"}},null,null,null,null,""]
[null,null,{"$f":"IF(CMS_Identification!B489=\"\",\"\",CMS_Identification!B489)","v":""},{"$f":"IF(CMS_Identification!#REF!=\"\",\"\",CMS_Identification!#REF!)","v":{"$error":"#REF!"}},null,null,null,null,""]
[null,null,{"$f":"IF(CMS_Identification!B490=\"\",\"\",CMS_Identification!B490)","v":""},{"$f":"IF(CMS_Identification!#REF!=\"\",\"\",CMS_Identification!#REF!)","v":{"$error":"#REF!"}},null,null,null,null,""]
[null,null,{"$f":"IF(CMS_Identification!B491=\"\",\"\",CMS_Identification!B491)","v":""},{"$f":"IF(CMS_Identification!#REF!=\"\",\"\",CMS_Identification!#REF!)","v":{"$error":"#REF!"}},null,null,null,null,""]
[null,null,{"$f":"IF(CMS_Identification!B492=\"\",\"\",CMS_Identification!B492)","v":""},{"$f":"IF(CMS_Identification!#REF!=\"\",\"\",CMS_Identification!#REF!)","v":{"$error":"#REF!"}},null,null,null,null,""]
[null,null,{"$f":"IF(CMS_Identification!B493=\"\",\"\",CMS_Identification!B493)","v":""},{"$f":"IF(CMS_Identification!#REF!=\"\",\"\",CMS_Identification!#REF!)","v":{"$error":"#REF!"}},null,null,null,null,""]
[null,null,{"$f":"IF(CMS_Identification!B494=\"\",\"\",CMS_Identification!B494)","v":""},{"$f":"IF(CMS_Identification!#REF!=\"\",\"\",CMS_Identification!#REF!)","v":{"$error":"#REF!"}},null,null,null,null,""]
[null,null,{"$f":"IF(CMS_Identification!B495=\"\",\"\",CMS_Identification!B495)","v":""},{"$f":"IF(CMS_Identification!#REF!=\"\",\"\",CMS_Identification!#REF!)","v":{"$error":"#REF!"}},null,null,null,null,""]
[null,null,{"$f":"IF(CMS_Identification!B496=\"\",\"\",CMS_Identification!B496)","v":""},{"$f":"IF(CMS_Identification!#REF!=\"\",\"\",CMS_Identification!#REF!)","v":{"$error":"#REF!"}},null,null,null,null,""]
[null,null,{"$f":"IF(CMS_Identification!B497=\"\",\"\",CMS_Identification!B497)","v":""},{"$f":"IF(CMS_Identification!#REF!=\"\",\"\",CMS_Identification!#REF!)","v":{"$error":"#REF!"}},null,null,null,null,""]
[null,null,{"$f":"IF(CMS_Identification!B498=\"\",\"\",CMS_Identification!B498)","v":""},{"$f":"IF(CMS_Identification!#REF!=\"\",\"\",CMS_Identification!#REF!)","v":{"$error":"#REF!"}},null,null,null,null,""]
[null,null,{"$f":"IF(CMS_Identification!B499=\"\",\"\",CMS_Identification!B499)","v":""},{"$f":"IF(CMS_Identification!#REF!=\"\",\"\",CMS_Identification!#REF!)","v":{"$error":"#REF!"}},null,null,null,null,""]
[null,null,{"$f":"IF(CMS_Identification!B500=\"\",\"\",CMS_Identification!B500)","v":""},{"$f":"IF(CMS_Identification!#REF!=\"\",\"\",CMS_Identification!#REF!)","v":{"$error":"#REF!"}},null,null,null,null,""]
[null,null,{"$f":"IF(CMS_Identification!B501=\"\",\"\",CMS_Identification!B501)","v":""},{"$f":"IF(CMS_Identification!#REF!=\"\",\"\",CMS_Identification!#REF!)","v":{"$error":"#REF!"}},null,null,null,null,""]
[null,null,{"$f":"IF(CMS_Identification!B502=\"\",\"\",CMS_Identification!B502)","v":""},{"$f":"IF(CMS_Identification!#REF!=\"\",\"\",CMS_Identification!#REF!)","v":{"$error":"#REF!"}},null,null,null,null,""]
[null,null,{"$f":"IF(CMS_Identification!B503=\"\",\"\",CMS_Identification!B503)","v":""},{"$f":"IF(CMS_Identification!#REF!=\"\",\"\",CMS_Identification!#REF!)","v":{"$error":"#REF!"}},null,null,null,null,""]
[null,null,{"$f":"IF(CMS_Identification!B504=\"\",\"\",CMS_Identification!B504)","v":""},{"$f":"IF(CMS_Identification!#REF!=\"\",\"\",CMS_Identification!#REF!)","v":{"$error":"#REF!"}},null,null,null,null,""]
[{"$f":"IF(CMS_Identification!#REF!=\"\",\"\",CMS_Identification!#REF!)","v":{"$error":"#REF!"}},null,{"$f":"IF(CMS_Identification!B505=\"\",\"\",CMS_Identification!B505)","v":""},{"$f":"IF(CMS_Identification!#REF!=\"\",\"\",CMS_Identification!#REF!)","v":{"$error":"#REF!"}},null,null,null,null,{"$error":"#REF!"}]
[null,null,{"$f":"IF(CMS_Identification!B506=\"\",\"\",CMS_Identification!B506)","v":""},{"$f":"IF(CMS_Identification!#REF!=\"\",\"\",CMS_Identification!#REF!)","v":{"$error":"#REF!"}},null,null,null,null,""]
[null,null,{"$f":"IF(CMS_Identification!B507=\"\",\"\",CMS_Identification!B507)","v":""},{"$f":"IF(CMS_Identification!#REF!=\"\",\"\",CMS_Identification!#REF!)","v":{"$error":"#REF!"}},null,null,null,null,""]
[null,null,{"$f":"IF(CMS_Identification!B508=\"\",\"\",CMS_Identification!B508)","v":""},{"$f":"IF(CMS_Identification!#REF!=\"\",\"\",CMS_Identification!#REF!)","v":{"$error":"#REF!"}},null,null,null,null,""]
[null,null,{"$f":"IF(CMS_Identification!B509=\"\",\"\",CMS_Identification!B509)","v":""},{"$f":"IF(CMS_Identification!#REF!=\"\",\"\",CMS_Identification!#REF!)","v":{"$error":"#REF!"}},null,null,null,null,""]
[null,null,{"$f":"IF(CMS_Identification!B510=\"\",\"\",CMS_Identification!B510)","v":""},{"$f":"IF(CMS_Identification!#REF!=\"\",\"\",CMS_Identification!#REF!)","v":{"$error":"#REF!"}},null,null,null,null,""]
[null,null,{"$f":"IF(CMS_Identification!B511=\"\",\"\",CMS_Identification!B511)","v":""},{"$f":"IF(CMS_Identification!#REF!=\"\",\"\",CMS_Identification!#REF!)","v":{"$error":"#REF!"}},null,null,null,null,""]
[null,null,{"$f":"IF(CMS_Identification!B512=\"\",\"\",CMS_Identification!B512)","v":""},{"$f":"IF(CMS_Identification!#REF!=\"\",\"\",CMS_Identification!#REF!)","v":{"$error":"#REF!"}},null,null,null,null,""]
[null,null,{"$f":"IF(CMS_Identification!B513=\"\",\"\",CMS_Identification!B513)","v":""},{"$f":"IF(CMS_Identification!#REF!=\"\",\"\",CMS_Identification!#REF!)","v":{"$error":"#REF!"}},null,null,null,null,""]
[null,null,{"$f":"IF(CMS_Identification!B514=\"\",\"\",CMS_Identification!B514)","v":""},{"$f":"IF(CMS_Identification!#REF!=\"\",\"\",CMS_Identification!#REF!)","v":{"$error":"#REF!"}},null,null,null,null,""]
[null,null,{"$f":"IF(CMS_Identification!B515=\"\",\"\",CMS_Identification!B515)","v":""},{"$f":"IF(CMS_Identification!#REF!=\"\",\"\",CMS_Identification!#REF!)","v":{"$error":"#REF!"}},null,null,null,null,""]
[null,null,{"$f":"IF(CMS_Identification!B516=\"\",\"\",CMS_Identification!B516)","v":""},{"$f":"IF(CMS_Identification!#REF!=\"\",\"\",CMS_Identification!#REF!)","v":{"$error":"#REF!"}},null,null,null,null,""]
[null,null,{"$f":"IF(CMS_Identification!B517=\"\",\"\",CMS_Identification!B517)","v":""},{"$f":"IF(CMS_Identification!#REF!=\"\",\"\",CMS_Identification!#REF!)","v":{"$error":"#REF!"}},null,null,null,null,""]
[null,null,{"$f":"IF(CMS_Identification!B518=\"\",\"\",CMS_Identification!B518)","v":""},{"$f":"IF(CMS_Identification!#REF!=\"\",\"\",CMS_Identification!#REF!)","v":{"$error":"#REF!"}},null,null,null,null,""]
[null,null,{"$f":"IF(CMS_Identification!B519=\"\",\"\",CMS_Identification!B519)","v":""},{"$f":"IF(CMS_Identification!#REF!=\"\",\"\",CMS_Identification!#REF!)","v":{"$error":"#REF!"}},null,null,null,null,""]
[null,null,{"$f":"IF(CMS_Identification!B520=\"\",\"\",CMS_Identification!B520)","v":""},{"$f":"IF(CMS_Identification!#REF!=\"\",\"\",CMS_Identification!#REF!)","v":{"$error":"#REF!"}},null,null,null,null,""]
[null,null,{"$f":"IF(CMS_Identification!B521=\"\",\"\",CMS_Identification!B521)","v":""},{"$f":"IF(CMS_Identification!#REF!=\"\",\"\",CMS_Identification!#REF!)","v":{"$error":"#REF!"}},null,null,null,null,""]
[null,null,{"$f":"IF(CMS_Identification!B522=\"\",\"\",CMS_Identification!B522)","v":""},{"$f":"IF(CMS_Identification!#REF!=\"\",\"\",CMS_Identification!#REF!)","v":{"$error":"#REF!"}},null,null,null,null,""]

{"sheet":"List_Controls","index":5,"n_rows":501,"n_cols":12,"rows_kept":501,"cut":false,"hidden":true,"merged":[]}
["Controls sort",null,null,null,null," "]
["Control_Record_Count","Affected_Source_Record_Count","Company_Record_No.","Affected_Source_Grouping","Operating_Hours","Control_ID","Concat: Control_ID_&_Month","Remove_Dups_Controls","Control_List","List Company ID","List Affected_Source","List Operating_Time"]
[{"$f":"+IF(I3=\"\",\"\",MAX(A$1:A2)+1)","v":""},{"$f":"+IF(H3=\"\",\"\",MAX(B$1:B2)+1)","v":""},{"$f":"IF(Process_Identification!F24=\"\",\"\",Process_Identification!B24)","v":""},{"$f":"IF(Process_Identification!F24=\"\",\"\",Process_Identification!C24)","v":""},{"$f":"IF(Process_Identification!F24=\"\",\"\",Process_Identification!E24)","v":""},{"$f":"IF(Process_Identification!F24=\"\",\"\",Process_Identification!F24)","v":""},{"$f":"IF(C3=\"\",\"\",C3&\" - \"&F3)","v":""},{"$f":"IF(COUNTIF(G$2:G3,G3)=1,G3,\"\")","v":""},{"$f":"+IFERROR(INDEX($H$2:$H$101,MATCH(ROW()-ROW($I$2),$B$2:$B$100,0)),\"\")","v":""},{"$f":"+IFERROR(INDEX(C$2:C$101,MATCH(ROW()-ROW($I$2),$B$2:$B$100,0)),\"\")","v":""},{"$f":"+IFERROR(INDEX(F$2:F$101,MATCH(ROW()-ROW($I$2),$B$2:$B$100,0)),\"\")","v":""},{"$f":"+IFERROR(INDEX(E$2:E$101,MATCH(ROW()-ROW($I$2),$B$2:$B$100,0)),\"\")","v":""}]
[{"$f":"+IF(I4=\"\",\"\",MAX(A$1:A3)+1)","v":""},{"$f":"+IF(H4=\"\",\"\",MAX(B$1:B3)+1)","v":""},{"$f":"IF(Process_Identification!F25=\"\",\"\",Process_Identification!B25)","v":""},{"$f":"IF(Process_Identification!F25=\"\",\"\",Process_Identification!C25)","v":""},{"$f":"IF(Process_Identification!F25=\"\",\"\",Process_Identification!E25)","v":""},{"$f":"IF(Process_Identification!F25=\"\",\"\",Process_Identification!F25)","v":""},"",{"$f":"IF(COUNTIF(G$2:G4,G4)=1,G4,\"\")","v":""},"","","",""]
[{"$f":"+IF(I5=\"\",\"\",MAX(A$1:A4)+1)","v":""},{"$f":"+IF(H5=\"\",\"\",MAX(B$1:B4)+1)","v":""},{"$f":"IF(Process_Identification!F26=\"\",\"\",Process_Identification!B26)","v":""},{"$f":"IF(Process_Identification!F26=\"\",\"\",Process_Identification!C26)","v":""},{"$f":"IF(Process_Identification!F26=\"\",\"\",Process_Identification!E26)","v":""},{"$f":"IF(Process_Identification!F26=\"\",\"\",Process_Identification!F26)","v":""},"",{"$f":"IF(COUNTIF(G$2:G5,G5)=1,G5,\"\")","v":""},"","","",""]
[{"$f":"+IF(I6=\"\",\"\",MAX(A$1:A5)+1)","v":""},{"$f":"+IF(H6=\"\",\"\",MAX(B$1:B5)+1)","v":""},{"$f":"IF(Process_Identification!F27=\"\",\"\",Process_Identification!B27)","v":""},{"$f":"IF(Process_Identification!F27=\"\",\"\",Process_Identification!C27)","v":""},{"$f":"IF(Process_Identification!F27=\"\",\"\",Process_Identification!E27)","v":""},{"$f":"IF(Process_Identification!F27=\"\",\"\",Process_Identification!F27)","v":""},"",{"$f":"IF(COUNTIF(G$2:G6,G6)=1,G6,\"\")","v":""},"","","",""]
[{"$f":"+IF(I7=\"\",\"\",MAX(A$1:A6)+1)","v":""},{"$f":"+IF(H7=\"\",\"\",MAX(B$1:B6)+1)","v":""},{"$f":"IF(Process_Identification!F28=\"\",\"\",Process_Identification!B28)","v":""},{"$f":"IF(Process_Identification!F28=\"\",\"\",Process_Identification!C28)","v":""},{"$f":"IF(Process_Identification!F28=\"\",\"\",Process_Identification!E28)","v":""},{"$f":"IF(Process_Identification!F28=\"\",\"\",Process_Identification!F28)","v":""},"",{"$f":"IF(COUNTIF(G$2:G7,G7)=1,G7,\"\")","v":""},"","","",""]
[{"$f":"+IF(I8=\"\",\"\",MAX(A$1:A7)+1)","v":""},{"$f":"+IF(H8=\"\",\"\",MAX(B$1:B7)+1)","v":""},{"$f":"IF(Process_Identification!F29=\"\",\"\",Process_Identification!B29)","v":""},{"$f":"IF(Process_Identification!F29=\"\",\"\",Process_Identification!C29)","v":""},{"$f":"IF(Process_Identification!F29=\"\",\"\",Process_Identification!E29)","v":""},{"$f":"IF(Process_Identification!F29=\"\",\"\",Process_Identification!F29)","v":""},"",{"$f":"IF(COUNTIF(G$2:G8,G8)=1,G8,\"\")","v":""},"","","",""]
[{"$f":"+IF(I9=\"\",\"\",MAX(A$1:A8)+1)","v":""},{"$f":"+IF(H9=\"\",\"\",MAX(B$1:B8)+1)","v":""},{"$f":"IF(Process_Identification!F30=\"\",\"\",Process_Identification!B30)","v":""},{"$f":"IF(Process_Identification!F30=\"\",\"\",Process_Identification!C30)","v":""},{"$f":"IF(Process_Identification!F30=\"\",\"\",Process_Identification!E30)","v":""},{"$f":"IF(Process_Identification!F30=\"\",\"\",Process_Identification!F30)","v":""},"",{"$f":"IF(COUNTIF(G$2:G9,G9)=1,G9,\"\")","v":""},"","","",""]
[{"$f":"+IF(I10=\"\",\"\",MAX(A$1:A9)+1)","v":""},{"$f":"+IF(H10=\"\",\"\",MAX(B$1:B9)+1)","v":""},{"$f":"IF(Process_Identification!F31=\"\",\"\",Process_Identification!B31)","v":""},{"$f":"IF(Process_Identification!F31=\"\",\"\",Process_Identification!C31)","v":""},{"$f":"IF(Process_Identification!F31=\"\",\"\",Process_Identification!E31)","v":""},{"$f":"IF(Process_Identification!F31=\"\",\"\",Process_Identification!F31)","v":""},"",{"$f":"IF(COUNTIF(G$2:G10,G10)=1,G10,\"\")","v":""},"","","",""]
[{"$f":"+IF(I11=\"\",\"\",MAX(A$1:A10)+1)","v":""},{"$f":"+IF(H11=\"\",\"\",MAX(B$1:B10)+1)","v":""},{"$f":"IF(Process_Identification!F32=\"\",\"\",Process_Identification!B32)","v":""},{"$f":"IF(Process_Identification!F32=\"\",\"\",Process_Identification!C32)","v":""},{"$f":"IF(Process_Identification!F32=\"\",\"\",Process_Identification!E32)","v":""},{"$f":"IF(Process_Identification!F32=\"\",\"\",Process_Identification!F32)","v":""},"",{"$f":"IF(COUNTIF(G$2:G11,G11)=1,G11,\"\")","v":""},"","","",""]
[{"$f":"+IF(I12=\"\",\"\",MAX(A$1:A11)+1)","v":""},{"$f":"+IF(H12=\"\",\"\",MAX(B$1:B11)+1)","v":""},{"$f":"IF(Process_Identification!F33=\"\",\"\",Process_Identification!B33)","v":""},{"$f":"IF(Process_Identification!F33=\"\",\"\",Process_Identification!C33)","v":""},{"$f":"IF(Process_Identification!F33=\"\",\"\",Process_Identification!E33)","v":""},{"$f":"IF(Process_Identification!F33=\"\",\"\",Process_Identification!F33)","v":""},"",{"$f":"IF(COUNTIF(G$2:G12,G12)=1,G12,\"\")","v":""},"","","",""]
[{"$f":"+IF(I13=\"\",\"\",MAX(A$1:A12)+1)","v":""},{"$f":"+IF(H13=\"\",\"\",MAX(B$1:B12)+1)","v":""},{"$f":"IF(Process_Identification!F34=\"\",\"\",Process_Identification!B34)","v":""},{"$f":"IF(Process_Identification!F34=\"\",\"\",Process_Identification!C34)","v":""},{"$f":"IF(Process_Identification!F34=\"\",\"\",Process_Identification!E34)","v":""},{"$f":"IF(Process_Identification!F34=\"\",\"\",Process_Identification!F34)","v":""},"",{"$f":"IF(COUNTIF(G$2:G13,G13)=1,G13,\"\")","v":""},"","","",""]
[{"$f":"+IF(I14=\"\",\"\",MAX(A$1:A13)+1)","v":""},{"$f":"+IF(H14=\"\",\"\",MAX(B$1:B13)+1)","v":""},{"$f":"IF(Process_Identification!F35=\"\",\"\",Process_Identification!B35)","v":""},{"$f":"IF(Process_Identification!F35=\"\",\"\",Process_Identification!C35)","v":""},{"$f":"IF(Process_Identification!F35=\"\",\"\",Process_Identification!E35)","v":""},{"$f":"IF(Process_Identification!F35=\"\",\"\",Process_Identification!F35)","v":""},"",{"$f":"IF(COUNTIF(G$2:G14,G14)=1,G14,\"\")","v":""},"","","",""]
[{"$f":"+IF(I15=\"\",\"\",MAX(A$1:A14)+1)","v":""},{"$f":"+IF(H15=\"\",\"\",MAX(B$1:B14)+1)","v":""},{"$f":"IF(Process_Identification!F36=\"\",\"\",Process_Identification!B36)","v":""},{"$f":"IF(Process_Identification!F36=\"\",\"\",Process_Identification!C36)","v":""},{"$f":"IF(Process_Identification!F36=\"\",\"\",Process_Identification!E36)","v":""},{"$f":"IF(Process_Identification!F36=\"\",\"\",Process_Identification!F36)","v":""},"",{"$f":"IF(COUNTIF(G$2:G15,G15)=1,G15,\"\")","v":""},"","","",""]
[{"$f":"+IF(I16=\"\",\"\",MAX(A$1:A15)+1)","v":""},{"$f":"+IF(H16=\"\",\"\",MAX(B$1:B15)+1)","v":""},{"$f":"IF(Process_Identification!F37=\"\",\"\",Process_Identification!B37)","v":""},{"$f":"IF(Process_Identification!F37=\"\",\"\",Process_Identification!C37)","v":""},{"$f":"IF(Process_Identification!F37=\"\",\"\",Process_Identification!E37)","v":""},{"$f":"IF(Process_Identification!F37=\"\",\"\",Process_Identification!F37)","v":""},"",{"$f":"IF(COUNTIF(G$2:G16,G16)=1,G16,\"\")","v":""},"","","",""]
[{"$f":"+IF(I17=\"\",\"\",MAX(A$1:A16)+1)","v":""},{"$f":"+IF(H17=\"\",\"\",MAX(B$1:B16)+1)","v":""},{"$f":"IF(Process_Identification!F38=\"\",\"\",Process_Identification!B38)","v":""},{"$f":"IF(Process_Identification!F38=\"\",\"\",Process_Identification!C38)","v":""},{"$f":"IF(Process_Identification!F38=\"\",\"\",Process_Identification!E38)","v":""},{"$f":"IF(Process_Identification!F38=\"\",\"\",Process_Identification!F38)","v":""},"",{"$f":"IF(COUNTIF(G$2:G17,G17)=1,G17,\"\")","v":""},"","","",""]
[{"$f":"+IF(I18=\"\",\"\",MAX(A$1:A17)+1)","v":""},{"$f":"+IF(H18=\"\",\"\",MAX(B$1:B17)+1)","v":""},{"$f":"IF(Process_Identification!F39=\"\",\"\",Process_Identification!B39)","v":""},{"$f":"IF(Process_Identification!F39=\"\",\"\",Process_Identification!C39)","v":""},{"$f":"IF(Process_Identification!F39=\"\",\"\",Process_Identification!E39)","v":""},{"$f":"IF(Process_Identification!F39=\"\",\"\",Process_Identification!F39)","v":""},"",{"$f":"IF(COUNTIF(G$2:G18,G18)=1,G18,\"\")","v":""},"","","",""]
[{"$f":"+IF(I19=\"\",\"\",MAX(A$1:A18)+1)","v":""},{"$f":"+IF(H19=\"\",\"\",MAX(B$1:B18)+1)","v":""},{"$f":"IF(Process_Identification!F40=\"\",\"\",Process_Identification!B40)","v":""},{"$f":"IF(Process_Identification!F40=\"\",\"\",Process_Identification!C40)","v":""},{"$f":"IF(Process_Identification!F40=\"\",\"\",Process_Identification!E40)","v":""},{"$f":"IF(Process_Identification!F40=\"\",\"\",Process_Identification!F40)","v":""},"",{"$f":"IF(COUNTIF(G$2:G19,G19)=1,G19,\"\")","v":""},"","","",""]
[{"$f":"+IF(I20=\"\",\"\",MAX(A$1:A19)+1)","v":""},{"$f":"+IF(H20=\"\",\"\",MAX(B$1:B19)+1)","v":""},{"$f":"IF(Process_Identification!F41=\"\",\"\",Process_Identification!B41)","v":""},{"$f":"IF(Process_Identification!F41=\"\",\"\",Process_Identification!C41)","v":""},{"$f":"IF(Process_Identification!F41=\"\",\"\",Process_Identification!E41)","v":""},{"$f":"IF(Process_Identification!F41=\"\",\"\",Process_Identification!F41)","v":""},"",{"$f":"IF(COUNTIF(G$2:G20,G20)=1,G20,\"\")","v":""},"","","",""]
[{"$f":"+IF(I21=\"\",\"\",MAX(A$1:A20)+1)","v":""},{"$f":"+IF(H21=\"\",\"\",MAX(B$1:B20)+1)","v":""},{"$f":"IF(Process_Identification!F42=\"\",\"\",Process_Identification!B42)","v":""},{"$f":"IF(Process_Identification!F42=\"\",\"\",Process_Identification!C42)","v":""},{"$f":"IF(Process_Identification!F42=\"\",\"\",Process_Identification!E42)","v":""},{"$f":"IF(Process_Identification!F42=\"\",\"\",Process_Identification!F42)","v":""},"",{"$f":"IF(COUNTIF(G$2:G21,G21)=1,G21,\"\")","v":""},"","","",""]
[{"$f":"+IF(I22=\"\",\"\",MAX(A$1:A21)+1)","v":""},{"$f":"+IF(H22=\"\",\"\",MAX(B$1:B21)+1)","v":""},{"$f":"IF(Process_Identification!F43=\"\",\"\",Process_Identification!B43)","v":""},{"$f":"IF(Process_Identification!F43=\"\",\"\",Process_Identification!C43)","v":""},{"$f":"IF(Process_Identification!F43=\"\",\"\",Process_Identification!E43)","v":""},{"$f":"IF(Process_Identification!F43=\"\",\"\",Process_Identification!F43)","v":""},"",{"$f":"IF(COUNTIF(G$2:G22,G22)=1,G22,\"\")","v":""},"","","",""]
[{"$f":"+IF(I23=\"\",\"\",MAX(A$1:A22)+1)","v":""},{"$f":"+IF(H23=\"\",\"\",MAX(B$1:B22)+1)","v":""},{"$f":"IF(Process_Identification!F44=\"\",\"\",Process_Identification!B44)","v":""},{"$f":"IF(Process_Identification!F44=\"\",\"\",Process_Identification!C44)","v":""},{"$f":"IF(Process_Identification!F44=\"\",\"\",Process_Identification!E44)","v":""},{"$f":"IF(Process_Identification!F44=\"\",\"\",Process_Identification!F44)","v":""},"",{"$f":"IF(COUNTIF(G$2:G23,G23)=1,G23,\"\")","v":""},"","","",""]
[{"$f":"+IF(I24=\"\",\"\",MAX(A$1:A23)+1)","v":""},{"$f":"+IF(H24=\"\",\"\",MAX(B$1:B23)+1)","v":""},{"$f":"IF(Process_Identification!F45=\"\",\"\",Process_Identification!B45)","v":""},{"$f":"IF(Process_Identification!F45=\"\",\"\",Process_Identification!C45)","v":""},{"$f":"IF(Process_Identification!F45=\"\",\"\",Process_Identification!E45)","v":""},{"$f":"IF(Process_Identification!F45=\"\",\"\",Process_Identification!F45)","v":""},"",{"$f":"IF(COUNTIF(G$2:G24,G24)=1,G24,\"\")","v":""},"","","",""]
[{"$f":"+IF(I25=\"\",\"\",MAX(A$1:A24)+1)","v":""},{"$f":"+IF(H25=\"\",\"\",MAX(B$1:B24)+1)","v":""},{"$f":"IF(Process_Identification!F46=\"\",\"\",Process_Identification!B46)","v":""},{"$f":"IF(Process_Identification!F46=\"\",\"\",Process_Identification!C46)","v":""},{"$f":"IF(Process_Identification!F46=\"\",\"\",Process_Identification!E46)","v":""},{"$f":"IF(Process_Identification!F46=\"\",\"\",Process_Identification!F46)","v":""},"",{"$f":"IF(COUNTIF(G$2:G25,G25)=1,G25,\"\")","v":""},"","","",""]
[{"$f":"+IF(I26=\"\",\"\",MAX(A$1:A25)+1)","v":""},{"$f":"+IF(H26=\"\",\"\",MAX(B$1:B25)+1)","v":""},{"$f":"IF(Process_Identification!F47=\"\",\"\",Process_Identification!B47)","v":""},{"$f":"IF(Process_Identification!F47=\"\",\"\",Process_Identification!C47)","v":""},{"$f":"IF(Process_Identification!F47=\"\",\"\",Process_Identification!E47)","v":""},{"$f":"IF(Process_Identification!F47=\"\",\"\",Process_Identification!F47)","v":""},"",{"$f":"IF(COUNTIF(G$2:G26,G26)=1,G26,\"\")","v":""},"","","",""]
[{"$f":"+IF(I27=\"\",\"\",MAX(A$1:A26)+1)","v":""},{"$f":"+IF(H27=\"\",\"\",MAX(B$1:B26)+1)","v":""},{"$f":"IF(Process_Identification!F48=\"\",\"\",Process_Identification!B48)","v":""},{"$f":"IF(Process_Identification!F48=\"\",\"\",Process_Identification!C48)","v":""},{"$f":"IF(Process_Identification!F48=\"\",\"\",Process_Identification!E48)","v":""},{"$f":"IF(Process_Identification!F48=\"\",\"\",Process_Identification!F48)","v":""},"",{"$f":"IF(COUNTIF(G$2:G27,G27)=1,G27,\"\")","v":""},"","","",""]
[{"$f":"+IF(I28=\"\",\"\",MAX(A$1:A27)+1)","v":""},{"$f":"+IF(H28=\"\",\"\",MAX(B$1:B27)+1)","v":""},{"$f":"IF(Process_Identification!F49=\"\",\"\",Process_Identification!B49)","v":""},{"$f":"IF(Process_Identification!F49=\"\",\"\",Process_Identification!C49)","v":""},{"$f":"IF(Process_Identification!F49=\"\",\"\",Process_Identification!E49)","v":""},{"$f":"IF(Process_Identification!F49=\"\",\"\",Process_Identification!F49)","v":""},"",{"$f":"IF(COUNTIF(G$2:G28,G28)=1,G28,\"\")","v":""},"","","",""]
[{"$f":"+IF(I29=\"\",\"\",MAX(A$1:A28)+1)","v":""},{"$f":"+IF(H29=\"\",\"\",MAX(B$1:B28)+1)","v":""},{"$f":"IF(Process_Identification!F50=\"\",\"\",Process_Identification!B50)","v":""},{"$f":"IF(Process_Identification!F50=\"\",\"\",Process_Identification!C50)","v":""},{"$f":"IF(Process_Identification!F50=\"\",\"\",Process_Identification!E50)","v":""},{"$f":"IF(Process_Identification!F50=\"\",\"\",Process_Identification!F50)","v":""},"",{"$f":"IF(COUNTIF(G$2:G29,G29)=1,G29,\"\")","v":""},"","","",""]
[{"$f":"+IF(I30=\"\",\"\",MAX(A$1:A29)+1)","v":""},{"$f":"+IF(H30=\"\",\"\",MAX(B$1:B29)+1)","v":""},{"$f":"IF(Process_Identification!F51=\"\",\"\",Process_Identification!B51)","v":""},{"$f":"IF(Process_Identification!F51=\"\",\"\",Process_Identification!C51)","v":""},{"$f":"IF(Process_Identification!F51=\"\",\"\",Process_Identification!E51)","v":""},{"$f":"IF(Process_Identification!F51=\"\",\"\",Process_Identification!F51)","v":""},"",{"$f":"IF(COUNTIF(G$2:G30,G30)=1,G30,\"\")","v":""},"","","",""]
[{"$f":"+IF(I31=\"\",\"\",MAX(A$1:A30)+1)","v":""},{"$f":"+IF(H31=\"\",\"\",MAX(B$1:B30)+1)","v":""},{"$f":"IF(Process_Identification!F52=\"\",\"\",Process_Identification!B52)","v":""},{"$f":"IF(Process_Identification!F52=\"\",\"\",Process_Identification!C52)","v":""},{"$f":"IF(Process_Identification!F52=\"\",\"\",Process_Identification!E52)","v":""},{"$f":"IF(Process_Identification!F52=\"\",\"\",Process_Identification!F52)","v":""},"",{"$f":"IF(COUNTIF(G$2:G31,G31)=1,G31,\"\")","v":""},"","","",""]
[{"$f":"+IF(I32=\"\",\"\",MAX(A$1:A31)+1)","v":""},{"$f":"+IF(H32=\"\",\"\",MAX(B$1:B31)+1)","v":""},{"$f":"IF(Process_Identification!F53=\"\",\"\",Process_Identification!B53)","v":""},{"$f":"IF(Process_Identification!F53=\"\",\"\",Process_Identification!C53)","v":""},{"$f":"IF(Process_Identification!F53=\"\",\"\",Process_Identification!E53)","v":""},{"$f":"IF(Process_Identification!F53=\"\",\"\",Process_Identification!F53)","v":""},"",{"$f":"IF(COUNTIF(G$2:G32,G32)=1,G32,\"\")","v":""},"","","",""]
[{"$f":"+IF(I33=\"\",\"\",MAX(A$1:A32)+1)","v":""},{"$f":"+IF(H33=\"\",\"\",MAX(B$1:B32)+1)","v":""},{"$f":"IF(Process_Identification!F54=\"\",\"\",Process_Identification!B54)","v":""},{"$f":"IF(Process_Identification!F54=\"\",\"\",Process_Identification!C54)","v":""},{"$f":"IF(Process_Identification!F54=\"\",\"\",Process_Identification!E54)","v":""},{"$f":"IF(Process_Identification!F54=\"\",\"\",Process_Identification!F54)","v":""},"",{"$f":"IF(COUNTIF(G$2:G33,G33)=1,G33,\"\")","v":""},"","","",""]
[{"$f":"+IF(I34=\"\",\"\",MAX(A$1:A33)+1)","v":""},{"$f":"+IF(H34=\"\",\"\",MAX(B$1:B33)+1)","v":""},{"$f":"IF(Process_Identification!F55=\"\",\"\",Process_Identification!B55)","v":""},{"$f":"IF(Process_Identification!F55=\"\",\"\",Process_Identification!C55)","v":""},{"$f":"IF(Process_Identification!F55=\"\",\"\",Process_Identification!E55)","v":""},{"$f":"IF(Process_Identification!F55=\"\",\"\",Process_Identification!F55)","v":""},"",{"$f":"IF(COUNTIF(G$2:G34,G34)=1,G34,\"\")","v":""},"","","",""]
[{"$f":"+IF(I35=\"\",\"\",MAX(A$1:A34)+1)","v":""},{"$f":"+IF(H35=\"\",\"\",MAX(B$1:B34)+1)","v":""},{"$f":"IF(Process_Identification!F56=\"\",\"\",Process_Identification!B56)","v":""},{"$f":"IF(Process_Identification!F56=\"\",\"\",Process_Identification!C56)","v":""},{"$f":"IF(Process_Identification!F56=\"\",\"\",Process_Identification!E56)","v":""},{"$f":"IF(Process_Identification!F56=\"\",\"\",Process_Identification!F56)","v":""},"",{"$f":"IF(COUNTIF(G$2:G35,G35)=1,G35,\"\")","v":""},{"$f":"+IFERROR(INDEX($H$2:$H$101,MATCH(ROW()-ROW($I$2),$B$2:$B$100,0)),\"\")","v":""},{"$f":"+IFERROR(INDEX(C$2:C$101,MATCH(ROW()-ROW($I$2),$B$2:$B$100,0)),\"\")","v":""},{"$f":"+IFERROR(INDEX(F$2:F$101,MATCH(ROW()-ROW($I$2),$B$2:$B$100,0)),\"\")","v":""},{"$f":"+IFERROR(INDEX(E$2:E$101,MATCH(ROW()-ROW($I$2),$B$2:$B$100,0)),\"\")","v":""}]
[{"$f":"+IF(I36=\"\",\"\",MAX(A$1:A35)+1)","v":""},{"$f":"+IF(H36=\"\",\"\",MAX(B$1:B35)+1)","v":""},{"$f":"IF(Process_Identification!F57=\"\",\"\",Process_Identification!B57)","v":""},{"$f":"IF(Process_Identification!F57=\"\",\"\",Process_Identification!C57)","v":""},{"$f":"IF(Process_Identification!F57=\"\",\"\",Process_Identification!E57)","v":""},{"$f":"IF(Process_Identification!F57=\"\",\"\",Process_Identification!F57)","v":""},"",{"$f":"IF(COUNTIF(G$2:G36,G36)=1,G36,\"\")","v":""},"","","",""]
[{"$f":"+IF(I37=\"\",\"\",MAX(A$1:A36)+1)","v":""},{"$f":"+IF(H37=\"\",\"\",MAX(B$1:B36)+1)","v":""},{"$f":"IF(Process_Identification!F58=\"\",\"\",Process_Identification!B58)","v":""},{"$f":"IF(Process_Identification!F58=\"\",\"\",Process_Identification!C58)","v":""},{"$f":"IF(Process_Identification!F58=\"\",\"\",Process_Identification!E58)","v":""},{"$f":"IF(Process_Identification!F58=\"\",\"\",Process_Identification!F58)","v":""},"",{"$f":"IF(COUNTIF(G$2:G37,G37)=1,G37,\"\")","v":""},"","","",""]
[{"$f":"+IF(I38=\"\",\"\",MAX(A$1:A37)+1)","v":""},{"$f":"+IF(H38=\"\",\"\",MAX(B$1:B37)+1)","v":""},{"$f":"IF(Process_Identification!F59=\"\",\"\",Process_Identification!B59)","v":""},{"$f":"IF(Process_Identification!F59=\"\",\"\",Process_Identification!C59)","v":""},{"$f":"IF(Process_Identification!F59=\"\",\"\",Process_Identification!E59)","v":""},{"$f":"IF(Process_Identification!F59=\"\",\"\",Process_Identification!F59)","v":""},"",{"$f":"IF(COUNTIF(G$2:G38,G38)=1,G38,\"\")","v":""},"","","",""]
[{"$f":"+IF(I39=\"\",\"\",MAX(A$1:A38)+1)","v":""},{"$f":"+IF(H39=\"\",\"\",MAX(B$1:B38)+1)","v":""},{"$f":"IF(Process_Identification!F60=\"\",\"\",Process_Identification!B60)","v":""},{"$f":"IF(Process_Identification!F60=\"\",\"\",Process_Identification!C60)","v":""},{"$f":"IF(Process_Identification!F60=\"\",\"\",Process_Identification!E60)","v":""},{"$f":"IF(Process_Identification!F60=\"\",\"\",Process_Identification!F60)","v":""},"",{"$f":"IF(COUNTIF(G$2:G39,G39)=1,G39,\"\")","v":""},"","","",""]
[{"$f":"+IF(I40=\"\",\"\",MAX(A$1:A39)+1)","v":""},{"$f":"+IF(H40=\"\",\"\",MAX(B$1:B39)+1)","v":""},{"$f":"IF(Process_Identification!F61=\"\",\"\",Process_Identification!B61)","v":""},{"$f":"IF(Process_Identification!F61=\"\",\"\",Process_Identification!C61)","v":""},{"$f":"IF(Process_Identification!F61=\"\",\"\",Process_Identification!E61)","v":""},{"$f":"IF(Process_Identification!F61=\"\",\"\",Process_Identification!F61)","v":""},"",{"$f":"IF(COUNTIF(G$2:G40,G40)=1,G40,\"\")","v":""},"","","",""]
[{"$f":"+IF(I41=\"\",\"\",MAX(A$1:A40)+1)","v":""},{"$f":"+IF(H41=\"\",\"\",MAX(B$1:B40)+1)","v":""},{"$f":"IF(Process_Identification!F62=\"\",\"\",Process_Identification!B62)","v":""},{"$f":"IF(Process_Identification!F62=\"\",\"\",Process_Identification!C62)","v":""},{"$f":"IF(Process_Identification!F62=\"\",\"\",Process_Identification!E62)","v":""},{"$f":"IF(Process_Identification!F62=\"\",\"\",Process_Identification!F62)","v":""},"",{"$f":"IF(COUNTIF(G$2:G41,G41)=1,G41,\"\")","v":""},"","","",""]
[{"$f":"+IF(I42=\"\",\"\",MAX(A$1:A41)+1)","v":""},{"$f":"+IF(H42=\"\",\"\",MAX(B$1:B41)+1)","v":""},{"$f":"IF(Process_Identification!F63=\"\",\"\",Process_Identification!B63)","v":""},{"$f":"IF(Process_Identification!F63=\"\",\"\",Process_Identification!C63)","v":""},{"$f":"IF(Process_Identification!F63=\"\",\"\",Process_Identification!E63)","v":""},{"$f":"IF(Process_Identification!F63=\"\",\"\",Process_Identification!F63)","v":""},"",{"$f":"IF(COUNTIF(G$2:G42,G42)=1,G42,\"\")","v":""},"","","",""]
[{"$f":"+IF(I43=\"\",\"\",MAX(A$1:A42)+1)","v":""},{"$f":"+IF(H43=\"\",\"\",MAX(B$1:B42)+1)","v":""},{"$f":"IF(Process_Identification!F64=\"\",\"\",Process_Identification!B64)","v":""},{"$f":"IF(Process_Identification!F64=\"\",\"\",Process_Identification!C64)","v":""},{"$f":"IF(Process_Identification!F64=\"\",\"\",Process_Identification!E64)","v":""},{"$f":"IF(Process_Identification!F64=\"\",\"\",Process_Identification!F64)","v":""},"",{"$f":"IF(COUNTIF(G$2:G43,G43)=1,G43,\"\")","v":""},"","","",""]
[{"$f":"+IF(I44=\"\",\"\",MAX(A$1:A43)+1)","v":""},{"$f":"+IF(H44=\"\",\"\",MAX(B$1:B43)+1)","v":""},{"$f":"IF(Process_Identification!F65=\"\",\"\",Process_Identification!B65)","v":""},{"$f":"IF(Process_Identification!F65=\"\",\"\",Process_Identification!C65)","v":""},{"$f":"IF(Process_Identification!F65=\"\",\"\",Process_Identification!E65)","v":""},{"$f":"IF(Process_Identification!F65=\"\",\"\",Process_Identification!F65)","v":""},"",{"$f":"IF(COUNTIF(G$2:G44,G44)=1,G44,\"\")","v":""},"","","",""]
[{"$f":"+IF(I45=\"\",\"\",MAX(A$1:A44)+1)","v":""},{"$f":"+IF(H45=\"\",\"\",MAX(B$1:B44)+1)","v":""},{"$f":"IF(Process_Identification!F66=\"\",\"\",Process_Identification!B66)","v":""},{"$f":"IF(Process_Identification!F66=\"\",\"\",Process_Identification!C66)","v":""},{"$f":"IF(Process_Identification!F66=\"\",\"\",Process_Identification!E66)","v":""},{"$f":"IF(Process_Identification!F66=\"\",\"\",Process_Identification!F66)","v":""},"",{"$f":"IF(COUNTIF(G$2:G45,G45)=1,G45,\"\")","v":""},"","","",""]
[{"$f":"+IF(I46=\"\",\"\",MAX(A$1:A45)+1)","v":""},{"$f":"+IF(H46=\"\",\"\",MAX(B$1:B45)+1)","v":""},{"$f":"IF(Process_Identification!F67=\"\",\"\",Process_Identification!B67)","v":""},{"$f":"IF(Process_Identification!F67=\"\",\"\",Process_Identification!C67)","v":""},{"$f":"IF(Process_Identification!F67=\"\",\"\",Process_Identification!E67)","v":""},{"$f":"IF(Process_Identification!F67=\"\",\"\",Process_Identification!F67)","v":""},"",{"$f":"IF(COUNTIF(G$2:G46,G46)=1,G46,\"\")","v":""},"","","",""]
[{"$f":"+IF(I47=\"\",\"\",MAX(A$1:A46)+1)","v":""},{"$f":"+IF(H47=\"\",\"\",MAX(B$1:B46)+1)","v":""},{"$f":"IF(Process_Identification!F68=\"\",\"\",Process_Identification!B68)","v":""},{"$f":"IF(Process_Identification!F68=\"\",\"\",Process_Identification!C68)","v":""},{"$f":"IF(Process_Identification!F68=\"\",\"\",Process_Identification!E68)","v":""},{"$f":"IF(Process_Identification!F68=\"\",\"\",Process_Identification!F68)","v":""},"",{"$f":"IF(COUNTIF(G$2:G47,G47)=1,G47,\"\")","v":""},"","","",""]
[{"$f":"+IF(I48=\"\",\"\",MAX(A$1:A47)+1)","v":""},{"$f":"+IF(H48=\"\",\"\",MAX(B$1:B47)+1)","v":""},{"$f":"IF(Process_Identification!F69=\"\",\"\",Process_Identification!B69)","v":""},{"$f":"IF(Process_Identification!F69=\"\",\"\",Process_Identification!C69)","v":""},{"$f":"IF(Process_Identification!F69=\"\",\"\",Process_Identification!E69)","v":""},{"$f":"IF(Process_Identification!F69=\"\",\"\",Process_Identification!F69)","v":""},"",{"$f":"IF(COUNTIF(G$2:G48,G48)=1,G48,\"\")","v":""},"","","",""]
[{"$f":"+IF(I49=\"\",\"\",MAX(A$1:A48)+1)","v":""},{"$f":"+IF(H49=\"\",\"\",MAX(B$1:B48)+1)","v":""},{"$f":"IF(Process_Identification!F70=\"\",\"\",Process_Identification!B70)","v":""},{"$f":"IF(Process_Identification!F70=\"\",\"\",Process_Identification!C70)","v":""},{"$f":"IF(Process_Identification!F70=\"\",\"\",Process_Identification!E70)","v":""},{"$f":"IF(Process_Identification!F70=\"\",\"\",Process_Identification!F70)","v":""},"",{"$f":"IF(COUNTIF(G$2:G49,G49)=1,G49,\"\")","v":""},"","","",""]
[{"$f":"+IF(I50=\"\",\"\",MAX(A$1:A49)+1)","v":""},{"$f":"+IF(H50=\"\",\"\",MAX(B$1:B49)+1)","v":""},{"$f":"IF(Process_Identification!F71=\"\",\"\",Process_Identification!B71)","v":""},{"$f":"IF(Process_Identification!F71=\"\",\"\",Process_Identification!C71)","v":""},{"$f":"IF(Process_Identification!F71=\"\",\"\",Process_Identification!E71)","v":""},{"$f":"IF(Process_Identification!F71=\"\",\"\",Process_Identification!F71)","v":""},"",{"$f":"IF(COUNTIF(G$2:G50,G50)=1,G50,\"\")","v":""},"","","",""]
[{"$f":"+IF(I51=\"\",\"\",MAX(A$1:A50)+1)","v":""},{"$f":"+IF(H51=\"\",\"\",MAX(B$1:B50)+1)","v":""},{"$f":"IF(Process_Identification!F72=\"\",\"\",Process_Identification!B72)","v":""},{"$f":"IF(Process_Identification!F72=\"\",\"\",Process_Identification!C72)","v":""},{"$f":"IF(Process_Identification!F72=\"\",\"\",Process_Identification!E72)","v":""},{"$f":"IF(Process_Identification!F72=\"\",\"\",Process_Identification!F72)","v":""},"",{"$f":"IF(COUNTIF(G$2:G51,G51)=1,G51,\"\")","v":""},"","","",""]
[{"$f":"+IF(I52=\"\",\"\",MAX(A$1:A51)+1)","v":""},{"$f":"+IF(H52=\"\",\"\",MAX(B$1:B51)+1)","v":""},{"$f":"IF(Process_Identification!F73=\"\",\"\",Process_Identification!B73)","v":""},{"$f":"IF(Process_Identification!F73=\"\",\"\",Process_Identification!C73)","v":""},{"$f":"IF(Process_Identification!F73=\"\",\"\",Process_Identification!E73)","v":""},{"$f":"IF(Process_Identification!F73=\"\",\"\",Process_Identification!F73)","v":""},"",{"$f":"IF(COUNTIF(G$2:G52,G52)=1,G52,\"\")","v":""},"","","",""]
[{"$f":"+IF(I53=\"\",\"\",MAX(A$1:A52)+1)","v":""},{"$f":"+IF(H53=\"\",\"\",MAX(B$1:B52)+1)","v":""},{"$f":"IF(Process_Identification!F74=\"\",\"\",Process_Identification!B74)","v":""},{"$f":"IF(Process_Identification!F74=\"\",\"\",Process_Identification!C74)","v":""},{"$f":"IF(Process_Identification!F74=\"\",\"\",Process_Identification!E74)","v":""},{"$f":"IF(Process_Identification!F74=\"\",\"\",Process_Identification!F74)","v":""},"",{"$f":"IF(COUNTIF(G$2:G53,G53)=1,G53,\"\")","v":""},"","","",""]
[{"$f":"+IF(I54=\"\",\"\",MAX(A$1:A53)+1)","v":""},{"$f":"+IF(H54=\"\",\"\",MAX(B$1:B53)+1)","v":""},{"$f":"IF(Process_Identification!F75=\"\",\"\",Process_Identification!B75)","v":""},{"$f":"IF(Process_Identification!F75=\"\",\"\",Process_Identification!C75)","v":""},{"$f":"IF(Process_Identification!F75=\"\",\"\",Process_Identification!E75)","v":""},{"$f":"IF(Process_Identification!F75=\"\",\"\",Process_Identification!F75)","v":""},"",{"$f":"IF(COUNTIF(G$2:G54,G54)=1,G54,\"\")","v":""},"","","",""]
[{"$f":"+IF(I55=\"\",\"\",MAX(A$1:A54)+1)","v":""},{"$f":"+IF(H55=\"\",\"\",MAX(B$1:B54)+1)","v":""},{"$f":"IF(Process_Identification!F76=\"\",\"\",Process_Identification!B76)","v":""},{"$f":"IF(Process_Identification!F76=\"\",\"\",Process_Identification!C76)","v":""},{"$f":"IF(Process_Identification!F76=\"\",\"\",Process_Identification!E76)","v":""},{"$f":"IF(Process_Identification!F76=\"\",\"\",Process_Identification!F76)","v":""},"",{"$f":"IF(COUNTIF(G$2:G55,G55)=1,G55,\"\")","v":""},"","","",""]
[{"$f":"+IF(I56=\"\",\"\",MAX(A$1:A55)+1)","v":""},{"$f":"+IF(H56=\"\",\"\",MAX(B$1:B55)+1)","v":""},{"$f":"IF(Process_Identification!F77=\"\",\"\",Process_Identification!B77)","v":""},{"$f":"IF(Process_Identification!F77=\"\",\"\",Process_Identification!C77)","v":""},{"$f":"IF(Process_Identification!F77=\"\",\"\",Process_Identification!E77)","v":""},{"$f":"IF(Process_Identification!F77=\"\",\"\",Process_Identification!F77)","v":""},"",{"$f":"IF(COUNTIF(G$2:G56,G56)=1,G56,\"\")","v":""},"","","",""]
[{"$f":"+IF(I57=\"\",\"\",MAX(A$1:A56)+1)","v":""},{"$f":"+IF(H57=\"\",\"\",MAX(B$1:B56)+1)","v":""},{"$f":"IF(Process_Identification!F78=\"\",\"\",Process_Identification!B78)","v":""},{"$f":"IF(Process_Identification!F78=\"\",\"\",Process_Identification!C78)","v":""},{"$f":"IF(Process_Identification!F78=\"\",\"\",Process_Identification!E78)","v":""},{"$f":"IF(Process_Identification!F78=\"\",\"\",Process_Identification!F78)","v":""},"",{"$f":"IF(COUNTIF(G$2:G57,G57)=1,G57,\"\")","v":""},"","","",""]
[{"$f":"+IF(I58=\"\",\"\",MAX(A$1:A57)+1)","v":""},{"$f":"+IF(H58=\"\",\"\",MAX(B$1:B57)+1)","v":""},{"$f":"IF(Process_Identification!F79=\"\",\"\",Process_Identification!B79)","v":""},{"$f":"IF(Process_Identification!F79=\"\",\"\",Process_Identification!C79)","v":""},{"$f":"IF(Process_Identification!F79=\"\",\"\",Process_Identification!E79)","v":""},{"$f":"IF(Process_Identification!F79=\"\",\"\",Process_Identification!F79)","v":""},"",{"$f":"IF(COUNTIF(G$2:G58,G58)=1,G58,\"\")","v":""},"","","",""]
[{"$f":"+IF(I59=\"\",\"\",MAX(A$1:A58)+1)","v":""},{"$f":"+IF(H59=\"\",\"\",MAX(B$1:B58)+1)","v":""},{"$f":"IF(Process_Identification!F80=\"\",\"\",Process_Identification!B80)","v":""},{"$f":"IF(Process_Identification!F80=\"\",\"\",Process_Identification!C80)","v":""},{"$f":"IF(Process_Identification!F80=\"\",\"\",Process_Identification!E80)","v":""},{"$f":"IF(Process_Identification!F80=\"\",\"\",Process_Identification!F80)","v":""},"",{"$f":"IF(COUNTIF(G$2:G59,G59)=1,G59,\"\")","v":""},"","","",""]
[{"$f":"+IF(I60=\"\",\"\",MAX(A$1:A59)+1)","v":""},{"$f":"+IF(H60=\"\",\"\",MAX(B$1:B59)+1)","v":""},{"$f":"IF(Process_Identification!F81=\"\",\"\",Process_Identification!B81)","v":""},{"$f":"IF(Process_Identification!F81=\"\",\"\",Process_Identification!C81)","v":""},{"$f":"IF(Process_Identification!F81=\"\",\"\",Process_Identification!E81)","v":""},{"$f":"IF(Process_Identification!F81=\"\",\"\",Process_Identification!F81)","v":""},{"$f":"IF(C60=\"\",\"\",C60&\" - \"&F60)","v":""},{"$f":"IF(COUNTIF(G$2:G60,G60)=1,G60,\"\")","v":""},"","","",""]
[{"$f":"+IF(I61=\"\",\"\",MAX(A$1:A60)+1)","v":""},{"$f":"+IF(H61=\"\",\"\",MAX(B$1:B60)+1)","v":""},{"$f":"IF(Process_Identification!F82=\"\",\"\",Process_Identification!B82)","v":""},{"$f":"IF(Process_Identification!F82=\"\",\"\",Process_Identification!C82)","v":""},{"$f":"IF(Process_Identification!F82=\"\",\"\",Process_Identification!E82)","v":""},{"$f":"IF(Process_Identification!F82=\"\",\"\",Process_Identification!F82)","v":""},{"$f":"IF(C61=\"\",\"\",C61&\" - \"&F61)","v":""},{"$f":"IF(COUNTIF(G$2:G61,G61)=1,G61,\"\")","v":""},"","","",""]
[{"$f":"+IF(I62=\"\",\"\",MAX(A$1:A61)+1)","v":""},{"$f":"+IF(H62=\"\",\"\",MAX(B$1:B61)+1)","v":""},{"$f":"IF(Process_Identification!F83=\"\",\"\",Process_Identification!B83)","v":""},{"$f":"IF(Process_Identification!F83=\"\",\"\",Process_Identification!C83)","v":""},{"$f":"IF(Process_Identification!F83=\"\",\"\",Process_Identification!E83)","v":""},{"$f":"IF(Process_Identification!F83=\"\",\"\",Process_Identification!F83)","v":""},"",{"$f":"IF(COUNTIF(G$2:G62,G62)=1,G62,\"\")","v":""},"","","",""]
[{"$f":"+IF(I63=\"\",\"\",MAX(A$1:A62)+1)","v":""},{"$f":"+IF(H63=\"\",\"\",MAX(B$1:B62)+1)","v":""},{"$f":"IF(Process_Identification!F84=\"\",\"\",Process_Identification!B84)","v":""},{"$f":"IF(Process_Identification!F84=\"\",\"\",Process_Identification!C84)","v":""},{"$f":"IF(Process_Identification!F84=\"\",\"\",Process_Identification!E84)","v":""},{"$f":"IF(Process_Identification!F84=\"\",\"\",Process_Identification!F84)","v":""},"",{"$f":"IF(COUNTIF(G$2:G63,G63)=1,G63,\"\")","v":""},"","","",""]
[{"$f":"+IF(I64=\"\",\"\",MAX(A$1:A63)+1)","v":""},{"$f":"+IF(H64=\"\",\"\",MAX(B$1:B63)+1)","v":""},{"$f":"IF(Process_Identification!F85=\"\",\"\",Process_Identification!B85)","v":""},{"$f":"IF(Process_Identification!F85=\"\",\"\",Process_Identification!C85)","v":""},{"$f":"IF(Process_Identification!F85=\"\",\"\",Process_Identification!E85)","v":""},{"$f":"IF(Process_Identification!F85=\"\",\"\",Process_Identification!F85)","v":""},"",{"$f":"IF(COUNTIF(G$2:G64,G64)=1,G64,\"\")","v":""},"","","",""]
[{"$f":"+IF(I65=\"\",\"\",MAX(A$1:A64)+1)","v":""},{"$f":"+IF(H65=\"\",\"\",MAX(B$1:B64)+1)","v":""},{"$f":"IF(Process_Identification!F86=\"\",\"\",Process_Identification!B86)","v":""},{"$f":"IF(Process_Identification!F86=\"\",\"\",Process_Identification!C86)","v":""},{"$f":"IF(Process_Identification!F86=\"\",\"\",Process_Identification!E86)","v":""},{"$f":"IF(Process_Identification!F86=\"\",\"\",Process_Identification!F86)","v":""},"",{"$f":"IF(COUNTIF(G$2:G65,G65)=1,G65,\"\")","v":""},"","","",""]
[{"$f":"+IF(I66=\"\",\"\",MAX(A$1:A65)+1)","v":""},{"$f":"+IF(H66=\"\",\"\",MAX(B$1:B65)+1)","v":""},{"$f":"IF(Process_Identification!F87=\"\",\"\",Process_Identification!B87)","v":""},{"$f":"IF(Process_Identification!F87=\"\",\"\",Process_Identification!C87)","v":""},{"$f":"IF(Process_Identification!F87=\"\",\"\",Process_Identification!E87)","v":""},{"$f":"IF(Process_Identification!F87=\"\",\"\",Process_Identification!F87)","v":""},"",{"$f":"IF(COUNTIF(G$2:G66,G66)=1,G66,\"\")","v":""},"","","",""]
[{"$f":"+IF(I67=\"\",\"\",MAX(A$1:A66)+1)","v":""},{"$f":"+IF(H67=\"\",\"\",MAX(B$1:B66)+1)","v":""},{"$f":"IF(Process_Identification!F88=\"\",\"\",Process_Identification!B88)","v":""},{"$f":"IF(Process_Identification!F88=\"\",\"\",Process_Identification!C88)","v":""},{"$f":"IF(Process_Identification!F88=\"\",\"\",Process_Identification!E88)","v":""},{"$f":"IF(Process_Identification!F88=\"\",\"\",Process_Identification!F88)","v":""},"",{"$f":"IF(COUNTIF(G$2:G67,G67)=1,G67,\"\")","v":""},{"$f":"+IFERROR(INDEX($H$2:$H$101,MATCH(ROW()-ROW($I$2),$B$2:$B$100,0)),\"\")","v":""},{"$f":"+IFERROR(INDEX(C$2:C$101,MATCH(ROW()-ROW($I$2),$B$2:$B$100,0)),\"\")","v":""},{"$f":"+IFERROR(INDEX(F$2:F$101,MATCH(ROW()-ROW($I$2),$B$2:$B$100,0)),\"\")","v":""},{"$f":"+IFERROR(INDEX(E$2:E$101,MATCH(ROW()-ROW($I$2),$B$2:$B$100,0)),\"\")","v":""}]
[{"$f":"+IF(I68=\"\",\"\",MAX(A$1:A67)+1)","v":""},{"$f":"+IF(H68=\"\",\"\",MAX(B$1:B67)+1)","v":""},{"$f":"IF(Process_Identification!F89=\"\",\"\",Process_Identification!B89)","v":""},{"$f":"IF(Process_Identification!F89=\"\",\"\",Process_Identification!C89)","v":""},{"$f":"IF(Process_Identification!F89=\"\",\"\",Process_Identification!E89)","v":""},{"$f":"IF(Process_Identification!F89=\"\",\"\",Process_Identification!F89)","v":""},"",{"$f":"IF(COUNTIF(G$2:G68,G68)=1,G68,\"\")","v":""},"","","",""]
[{"$f":"+IF(I69=\"\",\"\",MAX(A$1:A68)+1)","v":""},{"$f":"+IF(H69=\"\",\"\",MAX(B$1:B68)+1)","v":""},{"$f":"IF(Process_Identification!F90=\"\",\"\",Process_Identification!B90)","v":""},{"$f":"IF(Process_Identification!F90=\"\",\"\",Process_Identification!C90)","v":""},{"$f":"IF(Process_Identification!F90=\"\",\"\",Process_Identification!E90)","v":""},{"$f":"IF(Process_Identification!F90=\"\",\"\",Process_Identification!F90)","v":""},"",{"$f":"IF(COUNTIF(G$2:G69,G69)=1,G69,\"\")","v":""},"","","",""]
[{"$f":"+IF(I70=\"\",\"\",MAX(A$1:A69)+1)","v":""},{"$f":"+IF(H70=\"\",\"\",MAX(B$1:B69)+1)","v":""},{"$f":"IF(Process_Identification!F91=\"\",\"\",Process_Identification!B91)","v":""},{"$f":"IF(Process_Identification!F91=\"\",\"\",Process_Identification!C91)","v":""},{"$f":"IF(Process_Identification!F91=\"\",\"\",Process_Identification!E91)","v":""},{"$f":"IF(Process_Identification!F91=\"\",\"\",Process_Identification!F91)","v":""},"",{"$f":"IF(COUNTIF(G$2:G70,G70)=1,G70,\"\")","v":""},"","","",""]
[{"$f":"+IF(I71=\"\",\"\",MAX(A$1:A70)+1)","v":""},{"$f":"+IF(H71=\"\",\"\",MAX(B$1:B70)+1)","v":""},{"$f":"IF(Process_Identification!F92=\"\",\"\",Process_Identification!B92)","v":""},{"$f":"IF(Process_Identification!F92=\"\",\"\",Process_Identification!C92)","v":""},{"$f":"IF(Process_Identification!F92=\"\",\"\",Process_Identification!E92)","v":""},{"$f":"IF(Process_Identification!F92=\"\",\"\",Process_Identification!F92)","v":""},"",{"$f":"IF(COUNTIF(G$2:G71,G71)=1,G71,\"\")","v":""},"","","",""]
[{"$f":"+IF(I72=\"\",\"\",MAX(A$1:A71)+1)","v":""},{"$f":"+IF(H72=\"\",\"\",MAX(B$1:B71)+1)","v":""},{"$f":"IF(Process_Identification!F93=\"\",\"\",Process_Identification!B93)","v":""},{"$f":"IF(Process_Identification!F93=\"\",\"\",Process_Identification!C93)","v":""},{"$f":"IF(Process_Identification!F93=\"\",\"\",Process_Identification!E93)","v":""},{"$f":"IF(Process_Identification!F93=\"\",\"\",Process_Identification!F93)","v":""},"",{"$f":"IF(COUNTIF(G$2:G72,G72)=1,G72,\"\")","v":""},"","","",""]
[{"$f":"+IF(I73=\"\",\"\",MAX(A$1:A72)+1)","v":""},{"$f":"+IF(H73=\"\",\"\",MAX(B$1:B72)+1)","v":""},{"$f":"IF(Process_Identification!F94=\"\",\"\",Process_Identification!B94)","v":""},{"$f":"IF(Process_Identification!F94=\"\",\"\",Process_Identification!C94)","v":""},{"$f":"IF(Process_Identification!F94=\"\",\"\",Process_Identification!E94)","v":""},{"$f":"IF(Process_Identification!F94=\"\",\"\",Process_Identification!F94)","v":""},"",{"$f":"IF(COUNTIF(G$2:G73,G73)=1,G73,\"\")","v":""},"","","",""]
[{"$f":"+IF(I74=\"\",\"\",MAX(A$1:A73)+1)","v":""},{"$f":"+IF(H74=\"\",\"\",MAX(B$1:B73)+1)","v":""},{"$f":"IF(Process_Identification!F95=\"\",\"\",Process_Identification!B95)","v":""},{"$f":"IF(Process_Identification!F95=\"\",\"\",Process_Identification!C95)","v":""},{"$f":"IF(Process_Identification!F95=\"\",\"\",Process_Identification!E95)","v":""},{"$f":"IF(Process_Identification!F95=\"\",\"\",Process_Identification!F95)","v":""},"",{"$f":"IF(COUNTIF(G$2:G74,G74)=1,G74,\"\")","v":""},"","","",""]
[{"$f":"+IF(I75=\"\",\"\",MAX(A$1:A74)+1)","v":""},{"$f":"+IF(H75=\"\",\"\",MAX(B$1:B74)+1)","v":""},{"$f":"IF(Process_Identification!F96=\"\",\"\",Process_Identification!B96)","v":""},{"$f":"IF(Process_Identification!F96=\"\",\"\",Process_Identification!C96)","v":""},{"$f":"IF(Process_Identification!F96=\"\",\"\",Process_Identification!E96)","v":""},{"$f":"IF(Process_Identification!F96=\"\",\"\",Process_Identification!F96)","v":""},"",{"$f":"IF(COUNTIF(G$2:G75,G75)=1,G75,\"\")","v":""},"","","",""]
[{"$f":"+IF(I76=\"\",\"\",MAX(A$1:A75)+1)","v":""},{"$f":"+IF(H76=\"\",\"\",MAX(B$1:B75)+1)","v":""},{"$f":"IF(Process_Identification!F97=\"\",\"\",Process_Identification!B97)","v":""},{"$f":"IF(Process_Identification!F97=\"\",\"\",Process_Identification!C97)","v":""},{"$f":"IF(Process_Identification!F97=\"\",\"\",Process_Identification!E97)","v":""},{"$f":"IF(Process_Identification!F97=\"\",\"\",Process_Identification!F97)","v":""},"",{"$f":"IF(COUNTIF(G$2:G76,G76)=1,G76,\"\")","v":""},"","","",""]
[{"$f":"+IF(I77=\"\",\"\",MAX(A$1:A76)+1)","v":""},{"$f":"+IF(H77=\"\",\"\",MAX(B$1:B76)+1)","v":""},{"$f":"IF(Process_Identification!F98=\"\",\"\",Process_Identification!B98)","v":""},{"$f":"IF(Process_Identification!F98=\"\",\"\",Process_Identification!C98)","v":""},{"$f":"IF(Process_Identification!F98=\"\",\"\",Process_Identification!E98)","v":""},{"$f":"IF(Process_Identification!F98=\"\",\"\",Process_Identification!F98)","v":""},"",{"$f":"IF(COUNTIF(G$2:G77,G77)=1,G77,\"\")","v":""},"","","",""]
[{"$f":"+IF(I78=\"\",\"\",MAX(A$1:A77)+1)","v":""},{"$f":"+IF(H78=\"\",\"\",MAX(B$1:B77)+1)","v":""},{"$f":"IF(Process_Identification!F99=\"\",\"\",Process_Identification!B99)","v":""},{"$f":"IF(Process_Identification!F99=\"\",\"\",Process_Identification!C99)","v":""},{"$f":"IF(Process_Identification!F99=\"\",\"\",Process_Identification!E99)","v":""},{"$f":"IF(Process_Identification!F99=\"\",\"\",Process_Identification!F99)","v":""},"",{"$f":"IF(COUNTIF(G$2:G78,G78)=1,G78,\"\")","v":""},"","","",""]
[{"$f":"+IF(I79=\"\",\"\",MAX(A$1:A78)+1)","v":""},{"$f":"+IF(H79=\"\",\"\",MAX(B$1:B78)+1)","v":""},{"$f":"IF(Process_Identification!F100=\"\",\"\",Process_Identification!B100)","v":""},{"$f":"IF(Process_Identification!F100=\"\",\"\",Process_Identification!C100)","v":""},{"$f":"IF(Process_Identification!F100=\"\",\"\",Process_Identification!E100)","v":""},{"$f":"IF(Process_Identification!F100=\"\",\"\",Process_Identification!F100)","v":""},"",{"$f":"IF(COUNTIF(G$2:G79,G79)=1,G79,\"\")","v":""},"","","",""]
[null,null,{"$f":"IF(CMS_Identification!B101=\"\",\"\",CMS_Identification!B101)","v":""},{"$f":"IF(CMS_Identification!#REF!=\"\",\"\",CMS_Identification!#REF!)","v":{"$error":"#REF!"}}]
[null,null,{"$f":"IF(CMS_Identification!B102=\"\",\"\",CMS_Identification!B102)","v":""},{"$f":"IF(CMS_Identification!#REF!=\"\",\"\",CMS_Identification!#REF!)","v":{"$error":"#REF!"}}]
[null,null,{"$f":"IF(CMS_Identification!B103=\"\",\"\",CMS_Identification!B103)","v":""},{"$f":"IF(CMS_Identification!#REF!=\"\",\"\",CMS_Identification!#REF!)","v":{"$error":"#REF!"}}]
[null,null,{"$f":"IF(CMS_Identification!B104=\"\",\"\",CMS_Identification!B104)","v":""},{"$f":"IF(CMS_Identification!#REF!=\"\",\"\",CMS_Identification!#REF!)","v":{"$error":"#REF!"}}]
[null,null,{"$f":"IF(CMS_Identification!B105=\"\",\"\",CMS_Identification!B105)","v":""},{"$f":"IF(CMS_Identification!#REF!=\"\",\"\",CMS_Identification!#REF!)","v":{"$error":"#REF!"}}]
[null,null,{"$f":"IF(CMS_Identification!B106=\"\",\"\",CMS_Identification!B106)","v":""},{"$f":"IF(CMS_Identification!#REF!=\"\",\"\",CMS_Identification!#REF!)","v":{"$error":"#REF!"}}]
[null,null,{"$f":"IF(CMS_Identification!B107=\"\",\"\",CMS_Identification!B107)","v":""},{"$f":"IF(CMS_Identification!#REF!=\"\",\"\",CMS_Identification!#REF!)","v":{"$error":"#REF!"}}]
[null,null,{"$f":"IF(CMS_Identification!B108=\"\",\"\",CMS_Identification!B108)","v":""},{"$f":"IF(CMS_Identification!#REF!=\"\",\"\",CMS_Identification!#REF!)","v":{"$error":"#REF!"}}]
[null,null,{"$f":"IF(CMS_Identification!B109=\"\",\"\",CMS_Identification!B109)","v":""},{"$f":"IF(CMS_Identification!#REF!=\"\",\"\",CMS_Identification!#REF!)","v":{"$error":"#REF!"}}]
[null,null,{"$f":"IF(CMS_Identification!B110=\"\",\"\",CMS_Identification!B110)","v":""},{"$f":"IF(CMS_Identification!#REF!=\"\",\"\",CMS_Identification!#REF!)","v":{"$error":"#REF!"}}]
[null,null,{"$f":"IF(CMS_Identification!B111=\"\",\"\",CMS_Identification!B111)","v":""},{"$f":"IF(CMS_Identification!#REF!=\"\",\"\",CMS_Identification!#REF!)","v":{"$error":"#REF!"}}]
[null,null,{"$f":"IF(CMS_Identification!B112=\"\",\"\",CMS_Identification!B112)","v":""},{"$f":"IF(CMS_Identification!#REF!=\"\",\"\",CMS_Identification!#REF!)","v":{"$error":"#REF!"}}]
[null,null,{"$f":"IF(CMS_Identification!B113=\"\",\"\",CMS_Identification!B113)","v":""},{"$f":"IF(CMS_Identification!#REF!=\"\",\"\",CMS_Identification!#REF!)","v":{"$error":"#REF!"}}]
[null,null,{"$f":"IF(CMS_Identification!B114=\"\",\"\",CMS_Identification!B114)","v":""},{"$f":"IF(CMS_Identification!#REF!=\"\",\"\",CMS_Identification!#REF!)","v":{"$error":"#REF!"}}]
[null,null,{"$f":"IF(CMS_Identification!B115=\"\",\"\",CMS_Identification!B115)","v":""},{"$f":"IF(CMS_Identification!#REF!=\"\",\"\",CMS_Identification!#REF!)","v":{"$error":"#REF!"}}]
[null,null,{"$f":"IF(CMS_Identification!B116=\"\",\"\",CMS_Identification!B116)","v":""},{"$f":"IF(CMS_Identification!#REF!=\"\",\"\",CMS_Identification!#REF!)","v":{"$error":"#REF!"}}]
[null,null,{"$f":"IF(CMS_Identification!B117=\"\",\"\",CMS_Identification!B117)","v":""},{"$f":"IF(CMS_Identification!#REF!=\"\",\"\",CMS_Identification!#REF!)","v":{"$error":"#REF!"}}]
[null,null,{"$f":"IF(CMS_Identification!B118=\"\",\"\",CMS_Identification!B118)","v":""},{"$f":"IF(CMS_Identification!#REF!=\"\",\"\",CMS_Identification!#REF!)","v":{"$error":"#REF!"}}]
[null,null,{"$f":"IF(CMS_Identification!B119=\"\",\"\",CMS_Identification!B119)","v":""},{"$f":"IF(CMS_Identification!#REF!=\"\",\"\",CMS_Identification!#REF!)","v":{"$error":"#REF!"}}]
[null,null,{"$f":"IF(CMS_Identification!B120=\"\",\"\",CMS_Identification!B120)","v":""},{"$f":"IF(CMS_Identification!#REF!=\"\",\"\",CMS_Identification!#REF!)","v":{"$error":"#REF!"}}]
[null,null,{"$f":"IF(CMS_Identification!B121=\"\",\"\",CMS_Identification!B121)","v":""},{"$f":"IF(CMS_Identification!#REF!=\"\",\"\",CMS_Identification!#REF!)","v":{"$error":"#REF!"}}]
[null,null,{"$f":"IF(CMS_Identification!B122=\"\",\"\",CMS_Identification!B122)","v":""},{"$f":"IF(CMS_Identification!#REF!=\"\",\"\",CMS_Identification!#REF!)","v":{"$error":"#REF!"}}]
[null,null,{"$f":"IF(CMS_Identification!B123=\"\",\"\",CMS_Identification!B123)","v":""},{"$f":"IF(CMS_Identification!#REF!=\"\",\"\",CMS_Identification!#REF!)","v":{"$error":"#REF!"}}]
[null,null,{"$f":"IF(CMS_Identification!B124=\"\",\"\",CMS_Identification!B124)","v":""},{"$f":"IF(CMS_Identification!#REF!=\"\",\"\",CMS_Identification!#REF!)","v":{"$error":"#REF!"}}]
[null,null,{"$f":"IF(CMS_Identification!B125=\"\",\"\",CMS_Identification!B125)","v":""},{"$f":"IF(CMS_Identification!#REF!=\"\",\"\",CMS_Identification!#REF!)","v":{"$error":"#REF!"}}]
[null,null,{"$f":"IF(CMS_Identification!B126=\"\",\"\",CMS_Identification!B126)","v":""},{"$f":"IF(CMS_Identification!#REF!=\"\",\"\",CMS_Identification!#REF!)","v":{"$error":"#REF!"}}]
[null,null,{"$f":"IF(CMS_Identification!B127=\"\",\"\",CMS_Identification!B127)","v":""},{"$f":"IF(CMS_Identification!#REF!=\"\",\"\",CMS_Identification!#REF!)","v":{"$error":"#REF!"}}]
[null,null,{"$f":"IF(CMS_Identification!B128=\"\",\"\",CMS_Identification!B128)","v":""},{"$f":"IF(CMS_Identification!#REF!=\"\",\"\",CMS_Identification!#REF!)","v":{"$error":"#REF!"}}]
[null,null,{"$f":"IF(CMS_Identification!B129=\"\",\"\",CMS_Identification!B129)","v":""},{"$f":"IF(CMS_Identification!#REF!=\"\",\"\",CMS_Identification!#REF!)","v":{"$error":"#REF!"}}]
[null,null,{"$f":"IF(CMS_Identification!B130=\"\",\"\",CMS_Identification!B130)","v":""},{"$f":"IF(CMS_Identification!#REF!=\"\",\"\",CMS_Identification!#REF!)","v":{"$error":"#REF!"}}]
[null,null,{"$f":"IF(CMS_Identification!B131=\"\",\"\",CMS_Identification!B131)","v":""},{"$f":"IF(CMS_Identification!#REF!=\"\",\"\",CMS_Identification!#REF!)","v":{"$error":"#REF!"}}]
[null,null,{"$f":"IF(CMS_Identification!B132=\"\",\"\",CMS_Identification!B132)","v":""},{"$f":"IF(CMS_Identification!#REF!=\"\",\"\",CMS_Identification!#REF!)","v":{"$error":"#REF!"}}]
[null,null,{"$f":"IF(CMS_Identification!B133=\"\",\"\",CMS_Identification!B133)","v":""},{"$f":"IF(CMS_Identification!#REF!=\"\",\"\",CMS_Identification!#REF!)","v":{"$error":"#REF!"}}]
[null,null,{"$f":"IF(CMS_Identification!B134=\"\",\"\",CMS_Identification!B134)","v":""},{"$f":"IF(CMS_Identification!#REF!=\"\",\"\",CMS_Identification!#REF!)","v":{"$error":"#REF!"}}]
[null,null,{"$f":"IF(CMS_Identification!B135=\"\",\"\",CMS_Identification!B135)","v":""},{"$f":"IF(CMS_Identification!#REF!=\"\",\"\",CMS_Identification!#REF!)","v":{"$error":"#REF!"}}]
[null,null,{"$f":"IF(CMS_Identification!B136=\"\",\"\",CMS_Identification!B136)","v":""},{"$f":"IF(CMS_Identification!#REF!=\"\",\"\",CMS_Identification!#REF!)","v":{"$error":"#REF!"}}]
[null,null,{"$f":"IF(CMS_Identification!B137=\"\",\"\",CMS_Identification!B137)","v":""},{"$f":"IF(CMS_Identification!#REF!=\"\",\"\",CMS_Identification!#REF!)","v":{"$error":"#REF!"}}]
[null,null,{"$f":"IF(CMS_Identification!B138=\"\",\"\",CMS_Identification!B138)","v":""},{"$f":"IF(CMS_Identification!#REF!=\"\",\"\",CMS_Identification!#REF!)","v":{"$error":"#REF!"}}]
[null,null,{"$f":"IF(CMS_Identification!B139=\"\",\"\",CMS_Identification!B139)","v":""},{"$f":"IF(CMS_Identification!#REF!=\"\",\"\",CMS_Identification!#REF!)","v":{"$error":"#REF!"}}]
[null,null,{"$f":"IF(CMS_Identification!B140=\"\",\"\",CMS_Identification!B140)","v":""},{"$f":"IF(CMS_Identification!#REF!=\"\",\"\",CMS_Identification!#REF!)","v":{"$error":"#REF!"}}]
[null,null,{"$f":"IF(CMS_Identification!B141=\"\",\"\",CMS_Identification!B141)","v":""},{"$f":"IF(CMS_Identification!#REF!=\"\",\"\",CMS_Identification!#REF!)","v":{"$error":"#REF!"}}]
[null,null,{"$f":"IF(CMS_Identification!B142=\"\",\"\",CMS_Identification!B142)","v":""},{"$f":"IF(CMS_Identification!#REF!=\"\",\"\",CMS_Identification!#REF!)","v":{"$error":"#REF!"}}]
[null,null,{"$f":"IF(CMS_Identification!B143=\"\",\"\",CMS_Identification!B143)","v":""},{"$f":"IF(CMS_Identification!#REF!=\"\",\"\",CMS_Identification!#REF!)","v":{"$error":"#REF!"}}]
[null,null,{"$f":"IF(CMS_Identification!B144=\"\",\"\",CMS_Identification!B144)","v":""},{"$f":"IF(CMS_Identification!#REF!=\"\",\"\",CMS_Identification!#REF!)","v":{"$error":"#REF!"}}]
[null,null,{"$f":"IF(CMS_Identification!B145=\"\",\"\",CMS_Identification!B145)","v":""},{"$f":"IF(CMS_Identification!#REF!=\"\",\"\",CMS_Identification!#REF!)","v":{"$error":"#REF!"}}]
[null,null,{"$f":"IF(CMS_Identification!B146=\"\",\"\",CMS_Identification!B146)","v":""},{"$f":"IF(CMS_Identification!#REF!=\"\",\"\",CMS_Identification!#REF!)","v":{"$error":"#REF!"}}]
[null,null,{"$f":"IF(CMS_Identification!B147=\"\",\"\",CMS_Identification!B147)","v":""},{"$f":"IF(CMS_Identification!#REF!=\"\",\"\",CMS_Identification!#REF!)","v":{"$error":"#REF!"}}]
[null,null,{"$f":"IF(CMS_Identification!B148=\"\",\"\",CMS_Identification!B148)","v":""},{"$f":"IF(CMS_Identification!#REF!=\"\",\"\",CMS_Identification!#REF!)","v":{"$error":"#REF!"}}]
[null,null,{"$f":"IF(CMS_Identification!B149=\"\",\"\",CMS_Identification!B149)","v":""},{"$f":"IF(CMS_Identification!#REF!=\"\",\"\",CMS_Identification!#REF!)","v":{"$error":"#REF!"}}]
[null,null,{"$f":"IF(CMS_Identification!B150=\"\",\"\",CMS_Identification!B150)","v":""},{"$f":"IF(CMS_Identification!#REF!=\"\",\"\",CMS_Identification!#REF!)","v":{"$error":"#REF!"}}]
[null,null,{"$f":"IF(CMS_Identification!B151=\"\",\"\",CMS_Identification!B151)","v":""},{"$f":"IF(CMS_Identification!#REF!=\"\",\"\",CMS_Identification!#REF!)","v":{"$error":"#REF!"}}]
[null,null,{"$f":"IF(CMS_Identification!B152=\"\",\"\",CMS_Identification!B152)","v":""},{"$f":"IF(CMS_Identification!#REF!=\"\",\"\",CMS_Identification!#REF!)","v":{"$error":"#REF!"}}]
[null,null,{"$f":"IF(CMS_Identification!B153=\"\",\"\",CMS_Identification!B153)","v":""},{"$f":"IF(CMS_Identification!#REF!=\"\",\"\",CMS_Identification!#REF!)","v":{"$error":"#REF!"}}]
[null,null,{"$f":"IF(CMS_Identification!B154=\"\",\"\",CMS_Identification!B154)","v":""},{"$f":"IF(CMS_Identification!#REF!=\"\",\"\",CMS_Identification!#REF!)","v":{"$error":"#REF!"}}]
[null,null,{"$f":"IF(CMS_Identification!B155=\"\",\"\",CMS_Identification!B155)","v":""},{"$f":"IF(CMS_Identification!#REF!=\"\",\"\",CMS_Identification!#REF!)","v":{"$error":"#REF!"}}]
[null,null,{"$f":"IF(CMS_Identification!B156=\"\",\"\",CMS_Identification!B156)","v":""},{"$f":"IF(CMS_Identification!#REF!=\"\",\"\",CMS_Identification!#REF!)","v":{"$error":"#REF!"}}]
[null,null,{"$f":"IF(CMS_Identification!B157=\"\",\"\",CMS_Identification!B157)","v":""},{"$f":"IF(CMS_Identification!#REF!=\"\",\"\",CMS_Identification!#REF!)","v":{"$error":"#REF!"}}]
[null,null,{"$f":"IF(CMS_Identification!B158=\"\",\"\",CMS_Identification!B158)","v":""},{"$f":"IF(CMS_Identification!#REF!=\"\",\"\",CMS_Identification!#REF!)","v":{"$error":"#REF!"}}]
[null,null,{"$f":"IF(CMS_Identification!B159=\"\",\"\",CMS_Identification!B159)","v":""},{"$f":"IF(CMS_Identification!#REF!=\"\",\"\",CMS_Identification!#REF!)","v":{"$error":"#REF!"}}]
[null,null,{"$f":"IF(CMS_Identification!B160=\"\",\"\",CMS_Identification!B160)","v":""},{"$f":"IF(CMS_Identification!#REF!=\"\",\"\",CMS_Identification!#REF!)","v":{"$error":"#REF!"}}]
[null,null,{"$f":"IF(CMS_Identification!B161=\"\",\"\",CMS_Identification!B161)","v":""},{"$f":"IF(CMS_Identification!#REF!=\"\",\"\",CMS_Identification!#REF!)","v":{"$error":"#REF!"}}]
[null,null,{"$f":"IF(CMS_Identification!B162=\"\",\"\",CMS_Identification!B162)","v":""},{"$f":"IF(CMS_Identification!#REF!=\"\",\"\",CMS_Identification!#REF!)","v":{"$error":"#REF!"}}]
[null,null,{"$f":"IF(CMS_Identification!B163=\"\",\"\",CMS_Identification!B163)","v":""},{"$f":"IF(CMS_Identification!#REF!=\"\",\"\",CMS_Identification!#REF!)","v":{"$error":"#REF!"}}]
[null,null,{"$f":"IF(CMS_Identification!B164=\"\",\"\",CMS_Identification!B164)","v":""},{"$f":"IF(CMS_Identification!#REF!=\"\",\"\",CMS_Identification!#REF!)","v":{"$error":"#REF!"}}]
[null,null,{"$f":"IF(CMS_Identification!B165=\"\",\"\",CMS_Identification!B165)","v":""},{"$f":"IF(CMS_Identification!#REF!=\"\",\"\",CMS_Identification!#REF!)","v":{"$error":"#REF!"}}]
[null,null,{"$f":"IF(CMS_Identification!B166=\"\",\"\",CMS_Identification!B166)","v":""},{"$f":"IF(CMS_Identification!#REF!=\"\",\"\",CMS_Identification!#REF!)","v":{"$error":"#REF!"}}]
[null,null,{"$f":"IF(CMS_Identification!B167=\"\",\"\",CMS_Identification!B167)","v":""},{"$f":"IF(CMS_Identification!#REF!=\"\",\"\",CMS_Identification!#REF!)","v":{"$error":"#REF!"}}]
[null,null,{"$f":"IF(CMS_Identification!B168=\"\",\"\",CMS_Identification!B168)","v":""},{"$f":"IF(CMS_Identification!#REF!=\"\",\"\",CMS_Identification!#REF!)","v":{"$error":"#REF!"}}]
[null,null,{"$f":"IF(CMS_Identification!B169=\"\",\"\",CMS_Identification!B169)","v":""},{"$f":"IF(CMS_Identification!#REF!=\"\",\"\",CMS_Identification!#REF!)","v":{"$error":"#REF!"}}]
[null,null,{"$f":"IF(CMS_Identification!B170=\"\",\"\",CMS_Identification!B170)","v":""},{"$f":"IF(CMS_Identification!#REF!=\"\",\"\",CMS_Identification!#REF!)","v":{"$error":"#REF!"}}]
[null,null,{"$f":"IF(CMS_Identification!B171=\"\",\"\",CMS_Identification!B171)","v":""},{"$f":"IF(CMS_Identification!#REF!=\"\",\"\",CMS_Identification!#REF!)","v":{"$error":"#REF!"}}]
[null,null,{"$f":"IF(CMS_Identification!B172=\"\",\"\",CMS_Identification!B172)","v":""},{"$f":"IF(CMS_Identification!#REF!=\"\",\"\",CMS_Identification!#REF!)","v":{"$error":"#REF!"}}]
[null,null,{"$f":"IF(CMS_Identification!B173=\"\",\"\",CMS_Identification!B173)","v":""},{"$f":"IF(CMS_Identification!#REF!=\"\",\"\",CMS_Identification!#REF!)","v":{"$error":"#REF!"}}]
[null,null,{"$f":"IF(CMS_Identification!B174=\"\",\"\",CMS_Identification!B174)","v":""},{"$f":"IF(CMS_Identification!#REF!=\"\",\"\",CMS_Identification!#REF!)","v":{"$error":"#REF!"}}]
[null,null,{"$f":"IF(CMS_Identification!B175=\"\",\"\",CMS_Identification!B175)","v":""},{"$f":"IF(CMS_Identification!#REF!=\"\",\"\",CMS_Identification!#REF!)","v":{"$error":"#REF!"}}]
[null,null,{"$f":"IF(CMS_Identification!B176=\"\",\"\",CMS_Identification!B176)","v":""},{"$f":"IF(CMS_Identification!#REF!=\"\",\"\",CMS_Identification!#REF!)","v":{"$error":"#REF!"}}]
[null,null,{"$f":"IF(CMS_Identification!B177=\"\",\"\",CMS_Identification!B177)","v":""},{"$f":"IF(CMS_Identification!#REF!=\"\",\"\",CMS_Identification!#REF!)","v":{"$error":"#REF!"}}]
[null,null,{"$f":"IF(CMS_Identification!B178=\"\",\"\",CMS_Identification!B178)","v":""},{"$f":"IF(CMS_Identification!#REF!=\"\",\"\",CMS_Identification!#REF!)","v":{"$error":"#REF!"}}]
[null,null,{"$f":"IF(CMS_Identification!B179=\"\",\"\",CMS_Identification!B179)","v":""},{"$f":"IF(CMS_Identification!#REF!=\"\",\"\",CMS_Identification!#REF!)","v":{"$error":"#REF!"}}]
[null,null,{"$f":"IF(CMS_Identification!B180=\"\",\"\",CMS_Identification!B180)","v":""},{"$f":"IF(CMS_Identification!#REF!=\"\",\"\",CMS_Identification!#REF!)","v":{"$error":"#REF!"}}]
[null,null,{"$f":"IF(CMS_Identification!B181=\"\",\"\",CMS_Identification!B181)","v":""},{"$f":"IF(CMS_Identification!#REF!=\"\",\"\",CMS_Identification!#REF!)","v":{"$error":"#REF!"}}]
[null,null,{"$f":"IF(CMS_Identification!B182=\"\",\"\",CMS_Identification!B182)","v":""},{"$f":"IF(CMS_Identification!#REF!=\"\",\"\",CMS_Identification!#REF!)","v":{"$error":"#REF!"}}]
[null,null,{"$f":"IF(CMS_Identification!B183=\"\",\"\",CMS_Identification!B183)","v":""},{"$f":"IF(CMS_Identification!#REF!=\"\",\"\",CMS_Identification!#REF!)","v":{"$error":"#REF!"}}]
[null,null,{"$f":"IF(CMS_Identification!B184=\"\",\"\",CMS_Identification!B184)","v":""},{"$f":"IF(CMS_Identification!#REF!=\"\",\"\",CMS_Identification!#REF!)","v":{"$error":"#REF!"}}]
[null,null,{"$f":"IF(CMS_Identification!B185=\"\",\"\",CMS_Identification!B185)","v":""},{"$f":"IF(CMS_Identification!#REF!=\"\",\"\",CMS_Identification!#REF!)","v":{"$error":"#REF!"}}]
[null,null,{"$f":"IF(CMS_Identification!B186=\"\",\"\",CMS_Identification!B186)","v":""},{"$f":"IF(CMS_Identification!#REF!=\"\",\"\",CMS_Identification!#REF!)","v":{"$error":"#REF!"}}]
[null,null,{"$f":"IF(CMS_Identification!B187=\"\",\"\",CMS_Identification!B187)","v":""},{"$f":"IF(CMS_Identification!#REF!=\"\",\"\",CMS_Identification!#REF!)","v":{"$error":"#REF!"}}]
[null,null,{"$f":"IF(CMS_Identification!B188=\"\",\"\",CMS_Identification!B188)","v":""},{"$f":"IF(CMS_Identification!#REF!=\"\",\"\",CMS_Identification!#REF!)","v":{"$error":"#REF!"}}]
[null,null,{"$f":"IF(CMS_Identification!B189=\"\",\"\",CMS_Identification!B189)","v":""},{"$f":"IF(CMS_Identification!#REF!=\"\",\"\",CMS_Identification!#REF!)","v":{"$error":"#REF!"}}]
[null,null,{"$f":"IF(CMS_Identification!B190=\"\",\"\",CMS_Identification!B190)","v":""},{"$f":"IF(CMS_Identification!#REF!=\"\",\"\",CMS_Identification!#REF!)","v":{"$error":"#REF!"}}]
[null,null,{"$f":"IF(CMS_Identification!B191=\"\",\"\",CMS_Identification!B191)","v":""},{"$f":"IF(CMS_Identification!#REF!=\"\",\"\",CMS_Identification!#REF!)","v":{"$error":"#REF!"}}]
[null,null,{"$f":"IF(CMS_Identification!B192=\"\",\"\",CMS_Identification!B192)","v":""},{"$f":"IF(CMS_Identification!#REF!=\"\",\"\",CMS_Identification!#REF!)","v":{"$error":"#REF!"}}]
[null,null,{"$f":"IF(CMS_Identification!B193=\"\",\"\",CMS_Identification!B193)","v":""},{"$f":"IF(CMS_Identification!#REF!=\"\",\"\",CMS_Identification!#REF!)","v":{"$error":"#REF!"}}]
[null,null,{"$f":"IF(CMS_Identification!B194=\"\",\"\",CMS_Identification!B194)","v":""},{"$f":"IF(CMS_Identification!#REF!=\"\",\"\",CMS_Identification!#REF!)","v":{"$error":"#REF!"}}]
[null,null,{"$f":"IF(CMS_Identification!B195=\"\",\"\",CMS_Identification!B195)","v":""},{"$f":"IF(CMS_Identification!#REF!=\"\",\"\",CMS_Identification!#REF!)","v":{"$error":"#REF!"}}]
[null,null,{"$f":"IF(CMS_Identification!B196=\"\",\"\",CMS_Identification!B196)","v":""},{"$f":"IF(CMS_Identification!#REF!=\"\",\"\",CMS_Identification!#REF!)","v":{"$error":"#REF!"}}]
[null,null,{"$f":"IF(CMS_Identification!B197=\"\",\"\",CMS_Identification!B197)","v":""},{"$f":"IF(CMS_Identification!#REF!=\"\",\"\",CMS_Identification!#REF!)","v":{"$error":"#REF!"}}]
[null,null,{"$f":"IF(CMS_Identification!B198=\"\",\"\",CMS_Identification!B198)","v":""},{"$f":"IF(CMS_Identification!#REF!=\"\",\"\",CMS_Identification!#REF!)","v":{"$error":"#REF!"}}]
[null,null,{"$f":"IF(CMS_Identification!B199=\"\",\"\",CMS_Identification!B199)","v":""},{"$f":"IF(CMS_Identification!#REF!=\"\",\"\",CMS_Identification!#REF!)","v":{"$error":"#REF!"}}]
[null,null,{"$f":"IF(CMS_Identification!B200=\"\",\"\",CMS_Identification!B200)","v":""},{"$f":"IF(CMS_Identification!#REF!=\"\",\"\",CMS_Identification!#REF!)","v":{"$error":"#REF!"}}]
[null,null,{"$f":"IF(CMS_Identification!B201=\"\",\"\",CMS_Identification!B201)","v":""},{"$f":"IF(CMS_Identification!#REF!=\"\",\"\",CMS_Identification!#REF!)","v":{"$error":"#REF!"}}]
[null,null,{"$f":"IF(CMS_Identification!B202=\"\",\"\",CMS_Identification!B202)","v":""},{"$f":"IF(CMS_Identification!#REF!=\"\",\"\",CMS_Identification!#REF!)","v":{"$error":"#REF!"}}]
[null,null,{"$f":"IF(CMS_Identification!B203=\"\",\"\",CMS_Identification!B203)","v":""},{"$f":"IF(CMS_Identification!#REF!=\"\",\"\",CMS_Identification!#REF!)","v":{"$error":"#REF!"}}]
[null,null,{"$f":"IF(CMS_Identification!B204=\"\",\"\",CMS_Identification!B204)","v":""},{"$f":"IF(CMS_Identification!#REF!=\"\",\"\",CMS_Identification!#REF!)","v":{"$error":"#REF!"}}]
[null,null,{"$f":"IF(CMS_Identification!B205=\"\",\"\",CMS_Identification!B205)","v":""},{"$f":"IF(CMS_Identification!#REF!=\"\",\"\",CMS_Identification!#REF!)","v":{"$error":"#REF!"}}]
[null,null,{"$f":"IF(CMS_Identification!B206=\"\",\"\",CMS_Identification!B206)","v":""},{"$f":"IF(CMS_Identification!#REF!=\"\",\"\",CMS_Identification!#REF!)","v":{"$error":"#REF!"}}]
[null,null,{"$f":"IF(CMS_Identification!B207=\"\",\"\",CMS_Identification!B207)","v":""},{"$f":"IF(CMS_Identification!#REF!=\"\",\"\",CMS_Identification!#REF!)","v":{"$error":"#REF!"}}]
[null,null,{"$f":"IF(CMS_Identification!B208=\"\",\"\",CMS_Identification!B208)","v":""},{"$f":"IF(CMS_Identification!#REF!=\"\",\"\",CMS_Identification!#REF!)","v":{"$error":"#REF!"}}]
[null,null,{"$f":"IF(CMS_Identification!B209=\"\",\"\",CMS_Identification!B209)","v":""},{"$f":"IF(CMS_Identification!#REF!=\"\",\"\",CMS_Identification!#REF!)","v":{"$error":"#REF!"}}]
[null,null,{"$f":"IF(CMS_Identification!B210=\"\",\"\",CMS_Identification!B210)","v":""},{"$f":"IF(CMS_Identification!#REF!=\"\",\"\",CMS_Identification!#REF!)","v":{"$error":"#REF!"}}]
[null,null,{"$f":"IF(CMS_Identification!B211=\"\",\"\",CMS_Identification!B211)","v":""},{"$f":"IF(CMS_Identification!#REF!=\"\",\"\",CMS_Identification!#REF!)","v":{"$error":"#REF!"}}]
[null,null,{"$f":"IF(CMS_Identification!B212=\"\",\"\",CMS_Identification!B212)","v":""},{"$f":"IF(CMS_Identification!#REF!=\"\",\"\",CMS_Identification!#REF!)","v":{"$error":"#REF!"}}]
[null,null,{"$f":"IF(CMS_Identification!B213=\"\",\"\",CMS_Identification!B213)","v":""},{"$f":"IF(CMS_Identification!#REF!=\"\",\"\",CMS_Identification!#REF!)","v":{"$error":"#REF!"}}]
[null,null,{"$f":"IF(CMS_Identification!B214=\"\",\"\",CMS_Identification!B214)","v":""},{"$f":"IF(CMS_Identification!#REF!=\"\",\"\",CMS_Identification!#REF!)","v":{"$error":"#REF!"}}]
[null,null,{"$f":"IF(CMS_Identification!B215=\"\",\"\",CMS_Identification!B215)","v":""},{"$f":"IF(CMS_Identification!#REF!=\"\",\"\",CMS_Identification!#REF!)","v":{"$error":"#REF!"}}]
[null,null,{"$f":"IF(CMS_Identification!B216=\"\",\"\",CMS_Identification!B216)","v":""},{"$f":"IF(CMS_Identification!#REF!=\"\",\"\",CMS_Identification!#REF!)","v":{"$error":"#REF!"}}]
[null,null,{"$f":"IF(CMS_Identification!B217=\"\",\"\",CMS_Identification!B217)","v":""},{"$f":"IF(CMS_Identification!#REF!=\"\",\"\",CMS_Identification!#REF!)","v":{"$error":"#REF!"}}]
[null,null,{"$f":"IF(CMS_Identification!B218=\"\",\"\",CMS_Identification!B218)","v":""},{"$f":"IF(CMS_Identification!#REF!=\"\",\"\",CMS_Identification!#REF!)","v":{"$error":"#REF!"}}]
[null,null,{"$f":"IF(CMS_Identification!B219=\"\",\"\",CMS_Identification!B219)","v":""},{"$f":"IF(CMS_Identification!#REF!=\"\",\"\",CMS_Identification!#REF!)","v":{"$error":"#REF!"}}]
[null,null,{"$f":"IF(CMS_Identification!B220=\"\",\"\",CMS_Identification!B220)","v":""},{"$f":"IF(CMS_Identification!#REF!=\"\",\"\",CMS_Identification!#REF!)","v":{"$error":"#REF!"}}]
[null,null,{"$f":"IF(CMS_Identification!B221=\"\",\"\",CMS_Identification!B221)","v":""},{"$f":"IF(CMS_Identification!#REF!=\"\",\"\",CMS_Identification!#REF!)","v":{"$error":"#REF!"}}]
[null,null,{"$f":"IF(CMS_Identification!B222=\"\",\"\",CMS_Identification!B222)","v":""},{"$f":"IF(CMS_Identification!#REF!=\"\",\"\",CMS_Identification!#REF!)","v":{"$error":"#REF!"}}]
[null,null,{"$f":"IF(CMS_Identification!B223=\"\",\"\",CMS_Identification!B223)","v":""},{"$f":"IF(CMS_Identification!#REF!=\"\",\"\",CMS_Identification!#REF!)","v":{"$error":"#REF!"}}]
[null,null,{"$f":"IF(CMS_Identification!B224=\"\",\"\",CMS_Identification!B224)","v":""},{"$f":"IF(CMS_Identification!#REF!=\"\",\"\",CMS_Identification!#REF!)","v":{"$error":"#REF!"}}]
[null,null,{"$f":"IF(CMS_Identification!B225=\"\",\"\",CMS_Identification!B225)","v":""},{"$f":"IF(CMS_Identification!#REF!=\"\",\"\",CMS_Identification!#REF!)","v":{"$error":"#REF!"}}]
[null,null,{"$f":"IF(CMS_Identification!B226=\"\",\"\",CMS_Identification!B226)","v":""},{"$f":"IF(CMS_Identification!#REF!=\"\",\"\",CMS_Identification!#REF!)","v":{"$error":"#REF!"}}]
[null,null,{"$f":"IF(CMS_Identification!B227=\"\",\"\",CMS_Identification!B227)","v":""},{"$f":"IF(CMS_Identification!#REF!=\"\",\"\",CMS_Identification!#REF!)","v":{"$error":"#REF!"}}]
[null,null,{"$f":"IF(CMS_Identification!B228=\"\",\"\",CMS_Identification!B228)","v":""},{"$f":"IF(CMS_Identification!#REF!=\"\",\"\",CMS_Identification!#REF!)","v":{"$error":"#REF!"}}]
[null,null,{"$f":"IF(CMS_Identification!B229=\"\",\"\",CMS_Identification!B229)","v":""},{"$f":"IF(CMS_Identification!#REF!=\"\",\"\",CMS_Identification!#REF!)","v":{"$error":"#REF!"}}]
[null,null,{"$f":"IF(CMS_Identification!B230=\"\",\"\",CMS_Identification!B230)","v":""},{"$f":"IF(CMS_Identification!#REF!=\"\",\"\",CMS_Identification!#REF!)","v":{"$error":"#REF!"}}]
[null,null,{"$f":"IF(CMS_Identification!B231=\"\",\"\",CMS_Identification!B231)","v":""},{"$f":"IF(CMS_Identification!#REF!=\"\",\"\",CMS_Identification!#REF!)","v":{"$error":"#REF!"}}]
[null,null,{"$f":"IF(CMS_Identification!B232=\"\",\"\",CMS_Identification!B232)","v":""},{"$f":"IF(CMS_Identification!#REF!=\"\",\"\",CMS_Identification!#REF!)","v":{"$error":"#REF!"}}]
[null,null,{"$f":"IF(CMS_Identification!B233=\"\",\"\",CMS_Identification!B233)","v":""},{"$f":"IF(CMS_Identification!#REF!=\"\",\"\",CMS_Identification!#REF!)","v":{"$error":"#REF!"}}]
[null,null,{"$f":"IF(CMS_Identification!B234=\"\",\"\",CMS_Identification!B234)","v":""},{"$f":"IF(CMS_Identification!#REF!=\"\",\"\",CMS_Identification!#REF!)","v":{"$error":"#REF!"}}]
[null,null,{"$f":"IF(CMS_Identification!B235=\"\",\"\",CMS_Identification!B235)","v":""},{"$f":"IF(CMS_Identification!#REF!=\"\",\"\",CMS_Identification!#REF!)","v":{"$error":"#REF!"}}]
[null,null,{"$f":"IF(CMS_Identification!B236=\"\",\"\",CMS_Identification!B236)","v":""},{"$f":"IF(CMS_Identification!#REF!=\"\",\"\",CMS_Identification!#REF!)","v":{"$error":"#REF!"}}]
[null,null,{"$f":"IF(CMS_Identification!B237=\"\",\"\",CMS_Identification!B237)","v":""},{"$f":"IF(CMS_Identification!#REF!=\"\",\"\",CMS_Identification!#REF!)","v":{"$error":"#REF!"}}]
[null,null,{"$f":"IF(CMS_Identification!B238=\"\",\"\",CMS_Identification!B238)","v":""},{"$f":"IF(CMS_Identification!#REF!=\"\",\"\",CMS_Identification!#REF!)","v":{"$error":"#REF!"}}]
[null,null,{"$f":"IF(CMS_Identification!B239=\"\",\"\",CMS_Identification!B239)","v":""},{"$f":"IF(CMS_Identification!#REF!=\"\",\"\",CMS_Identification!#REF!)","v":{"$error":"#REF!"}}]
[null,null,{"$f":"IF(CMS_Identification!B240=\"\",\"\",CMS_Identification!B240)","v":""},{"$f":"IF(CMS_Identification!#REF!=\"\",\"\",CMS_Identification!#REF!)","v":{"$error":"#REF!"}}]
[null,null,{"$f":"IF(CMS_Identification!B241=\"\",\"\",CMS_Identification!B241)","v":""},{"$f":"IF(CMS_Identification!#REF!=\"\",\"\",CMS_Identification!#REF!)","v":{"$error":"#REF!"}}]
[null,null,{"$f":"IF(CMS_Identification!B242=\"\",\"\",CMS_Identification!B242)","v":""},{"$f":"IF(CMS_Identification!#REF!=\"\",\"\",CMS_Identification!#REF!)","v":{"$error":"#REF!"}}]
[null,null,{"$f":"IF(CMS_Identification!B243=\"\",\"\",CMS_Identification!B243)","v":""},{"$f":"IF(CMS_Identification!#REF!=\"\",\"\",CMS_Identification!#REF!)","v":{"$error":"#REF!"}}]
[null,null,{"$f":"IF(CMS_Identification!B244=\"\",\"\",CMS_Identification!B244)","v":""},{"$f":"IF(CMS_Identification!#REF!=\"\",\"\",CMS_Identification!#REF!)","v":{"$error":"#REF!"}}]
[null,null,{"$f":"IF(CMS_Identification!B245=\"\",\"\",CMS_Identification!B245)","v":""},{"$f":"IF(CMS_Identification!#REF!=\"\",\"\",CMS_Identification!#REF!)","v":{"$error":"#REF!"}}]
[null,null,{"$f":"IF(CMS_Identification!B246=\"\",\"\",CMS_Identification!B246)","v":""},{"$f":"IF(CMS_Identification!#REF!=\"\",\"\",CMS_Identification!#REF!)","v":{"$error":"#REF!"}}]
[null,null,{"$f":"IF(CMS_Identification!B247=\"\",\"\",CMS_Identification!B247)","v":""},{"$f":"IF(CMS_Identification!#REF!=\"\",\"\",CMS_Identification!#REF!)","v":{"$error":"#REF!"}}]
[null,null,{"$f":"IF(CMS_Identification!B248=\"\",\"\",CMS_Identification!B248)","v":""},{"$f":"IF(CMS_Identification!#REF!=\"\",\"\",CMS_Identification!#REF!)","v":{"$error":"#REF!"}}]
[null,null,{"$f":"IF(CMS_Identification!B249=\"\",\"\",CMS_Identification!B249)","v":""},{"$f":"IF(CMS_Identification!#REF!=\"\",\"\",CMS_Identification!#REF!)","v":{"$error":"#REF!"}}]
[null,null,{"$f":"IF(CMS_Identification!B250=\"\",\"\",CMS_Identification!B250)","v":""},{"$f":"IF(CMS_Identification!#REF!=\"\",\"\",CMS_Identification!#REF!)","v":{"$error":"#REF!"}}]
[null,null,{"$f":"IF(CMS_Identification!B251=\"\",\"\",CMS_Identification!B251)","v":""},{"$f":"IF(CMS_Identification!#REF!=\"\",\"\",CMS_Identification!#REF!)","v":{"$error":"#REF!"}}]
[null,null,{"$f":"IF(CMS_Identification!B252=\"\",\"\",CMS_Identification!B252)","v":""},{"$f":"IF(CMS_Identification!#REF!=\"\",\"\",CMS_Identification!#REF!)","v":{"$error":"#REF!"}}]
[null,null,{"$f":"IF(CMS_Identification!B253=\"\",\"\",CMS_Identification!B253)","v":""},{"$f":"IF(CMS_Identification!#REF!=\"\",\"\",CMS_Identification!#REF!)","v":{"$error":"#REF!"}}]
[null,null,{"$f":"IF(CMS_Identification!B254=\"\",\"\",CMS_Identification!B254)","v":""},{"$f":"IF(CMS_Identification!#REF!=\"\",\"\",CMS_Identification!#REF!)","v":{"$error":"#REF!"}}]
[null,null,{"$f":"IF(CMS_Identification!B255=\"\",\"\",CMS_Identification!B255)","v":""},{"$f":"IF(CMS_Identification!#REF!=\"\",\"\",CMS_Identification!#REF!)","v":{"$error":"#REF!"}}]
[null,null,{"$f":"IF(CMS_Identification!B256=\"\",\"\",CMS_Identification!B256)","v":""},{"$f":"IF(CMS_Identification!#REF!=\"\",\"\",CMS_Identification!#REF!)","v":{"$error":"#REF!"}}]
[null,null,{"$f":"IF(CMS_Identification!B257=\"\",\"\",CMS_Identification!B257)","v":""},{"$f":"IF(CMS_Identification!#REF!=\"\",\"\",CMS_Identification!#REF!)","v":{"$error":"#REF!"}}]
[null,null,{"$f":"IF(CMS_Identification!B258=\"\",\"\",CMS_Identification!B258)","v":""},{"$f":"IF(CMS_Identification!#REF!=\"\",\"\",CMS_Identification!#REF!)","v":{"$error":"#REF!"}}]
[null,null,{"$f":"IF(CMS_Identification!B259=\"\",\"\",CMS_Identification!B259)","v":""},{"$f":"IF(CMS_Identification!#REF!=\"\",\"\",CMS_Identification!#REF!)","v":{"$error":"#REF!"}}]
[null,null,{"$f":"IF(CMS_Identification!B260=\"\",\"\",CMS_Identification!B260)","v":""},{"$f":"IF(CMS_Identification!#REF!=\"\",\"\",CMS_Identification!#REF!)","v":{"$error":"#REF!"}}]
[null,null,{"$f":"IF(CMS_Identification!B261=\"\",\"\",CMS_Identification!B261)","v":""},{"$f":"IF(CMS_Identification!#REF!=\"\",\"\",CMS_Identification!#REF!)","v":{"$error":"#REF!"}}]
[null,null,{"$f":"IF(CMS_Identification!B262=\"\",\"\",CMS_Identification!B262)","v":""},{"$f":"IF(CMS_Identification!#REF!=\"\",\"\",CMS_Identification!#REF!)","v":{"$error":"#REF!"}}]
[null,null,{"$f":"IF(CMS_Identification!B263=\"\",\"\",CMS_Identification!B263)","v":""},{"$f":"IF(CMS_Identification!#REF!=\"\",\"\",CMS_Identification!#REF!)","v":{"$error":"#REF!"}}]
[null,null,{"$f":"IF(CMS_Identification!B264=\"\",\"\",CMS_Identification!B264)","v":""},{"$f":"IF(CMS_Identification!#REF!=\"\",\"\",CMS_Identification!#REF!)","v":{"$error":"#REF!"}}]
[null,null,{"$f":"IF(CMS_Identification!B265=\"\",\"\",CMS_Identification!B265)","v":""},{"$f":"IF(CMS_Identification!#REF!=\"\",\"\",CMS_Identification!#REF!)","v":{"$error":"#REF!"}}]
[null,null,{"$f":"IF(CMS_Identification!B266=\"\",\"\",CMS_Identification!B266)","v":""},{"$f":"IF(CMS_Identification!#REF!=\"\",\"\",CMS_Identification!#REF!)","v":{"$error":"#REF!"}}]
[null,null,{"$f":"IF(CMS_Identification!B267=\"\",\"\",CMS_Identification!B267)","v":""},{"$f":"IF(CMS_Identification!#REF!=\"\",\"\",CMS_Identification!#REF!)","v":{"$error":"#REF!"}}]
[null,null,{"$f":"IF(CMS_Identification!B268=\"\",\"\",CMS_Identification!B268)","v":""},{"$f":"IF(CMS_Identification!#REF!=\"\",\"\",CMS_Identification!#REF!)","v":{"$error":"#REF!"}}]
[null,null,{"$f":"IF(CMS_Identification!B269=\"\",\"\",CMS_Identification!B269)","v":""},{"$f":"IF(CMS_Identification!#REF!=\"\",\"\",CMS_Identification!#REF!)","v":{"$error":"#REF!"}}]
[null,null,{"$f":"IF(CMS_Identification!B270=\"\",\"\",CMS_Identification!B270)","v":""},{"$f":"IF(CMS_Identification!#REF!=\"\",\"\",CMS_Identification!#REF!)","v":{"$error":"#REF!"}}]
[null,null,{"$f":"IF(CMS_Identification!B271=\"\",\"\",CMS_Identification!B271)","v":""},{"$f":"IF(CMS_Identification!#REF!=\"\",\"\",CMS_Identification!#REF!)","v":{"$error":"#REF!"}}]
[null,null,{"$f":"IF(CMS_Identification!B272=\"\",\"\",CMS_Identification!B272)","v":""},{"$f":"IF(CMS_Identification!#REF!=\"\",\"\",CMS_Identification!#REF!)","v":{"$error":"#REF!"}}]
[null,null,{"$f":"IF(CMS_Identification!B273=\"\",\"\",CMS_Identification!B273)","v":""},{"$f":"IF(CMS_Identification!#REF!=\"\",\"\",CMS_Identification!#REF!)","v":{"$error":"#REF!"}}]
[null,null,{"$f":"IF(CMS_Identification!B274=\"\",\"\",CMS_Identification!B274)","v":""},{"$f":"IF(CMS_Identification!#REF!=\"\",\"\",CMS_Identification!#REF!)","v":{"$error":"#REF!"}}]
[null,null,{"$f":"IF(CMS_Identification!B275=\"\",\"\",CMS_Identification!B275)","v":""},{"$f":"IF(CMS_Identification!#REF!=\"\",\"\",CMS_Identification!#REF!)","v":{"$error":"#REF!"}}]
[null,null,{"$f":"IF(CMS_Identification!B276=\"\",\"\",CMS_Identification!B276)","v":""},{"$f":"IF(CMS_Identification!#REF!=\"\",\"\",CMS_Identification!#REF!)","v":{"$error":"#REF!"}}]
[null,null,{"$f":"IF(CMS_Identification!B277=\"\",\"\",CMS_Identification!B277)","v":""},{"$f":"IF(CMS_Identification!#REF!=\"\",\"\",CMS_Identification!#REF!)","v":{"$error":"#REF!"}}]
[null,null,{"$f":"IF(CMS_Identification!B278=\"\",\"\",CMS_Identification!B278)","v":""},{"$f":"IF(CMS_Identification!#REF!=\"\",\"\",CMS_Identification!#REF!)","v":{"$error":"#REF!"}}]
[null,null,{"$f":"IF(CMS_Identification!B279=\"\",\"\",CMS_Identification!B279)","v":""},{"$f":"IF(CMS_Identification!#REF!=\"\",\"\",CMS_Identification!#REF!)","v":{"$error":"#REF!"}}]
[null,null,{"$f":"IF(CMS_Identification!B280=\"\",\"\",CMS_Identification!B280)","v":""},{"$f":"IF(CMS_Identification!#REF!=\"\",\"\",CMS_Identification!#REF!)","v":{"$error":"#REF!"}}]
[null,null,{"$f":"IF(CMS_Identification!B281=\"\",\"\",CMS_Identification!B281)","v":""},{"$f":"IF(CMS_Identification!#REF!=\"\",\"\",CMS_Identification!#REF!)","v":{"$error":"#REF!"}}]
[null,null,{"$f":"IF(CMS_Identification!B282=\"\",\"\",CMS_Identification!B282)","v":""},{"$f":"IF(CMS_Identification!#REF!=\"\",\"\",CMS_Identification!#REF!)","v":{"$error":"#REF!"}}]
[null,null,{"$f":"IF(CMS_Identification!B283=\"\",\"\",CMS_Identification!B283)","v":""},{"$f":"IF(CMS_Identification!#REF!=\"\",\"\",CMS_Identification!#REF!)","v":{"$error":"#REF!"}}]
[null,null,{"$f":"IF(CMS_Identification!B284=\"\",\"\",CMS_Identification!B284)","v":""},{"$f":"IF(CMS_Identification!#REF!=\"\",\"\",CMS_Identification!#REF!)","v":{"$error":"#REF!"}}]
[null,null,{"$f":"IF(CMS_Identification!B285=\"\",\"\",CMS_Identification!B285)","v":""},{"$f":"IF(CMS_Identification!#REF!=\"\",\"\",CMS_Identification!#REF!)","v":{"$error":"#REF!"}}]
[null,null,{"$f":"IF(CMS_Identification!B286=\"\",\"\",CMS_Identification!B286)","v":""},{"$f":"IF(CMS_Identification!#REF!=\"\",\"\",CMS_Identification!#REF!)","v":{"$error":"#REF!"}}]
[null,null,{"$f":"IF(CMS_Identification!B287=\"\",\"\",CMS_Identification!B287)","v":""},{"$f":"IF(CMS_Identification!#REF!=\"\",\"\",CMS_Identification!#REF!)","v":{"$error":"#REF!"}}]
[null,null,{"$f":"IF(CMS_Identification!B288=\"\",\"\",CMS_Identification!B288)","v":""},{"$f":"IF(CMS_Identification!#REF!=\"\",\"\",CMS_Identification!#REF!)","v":{"$error":"#REF!"}}]
[null,null,{"$f":"IF(CMS_Identification!B289=\"\",\"\",CMS_Identification!B289)","v":""},{"$f":"IF(CMS_Identification!#REF!=\"\",\"\",CMS_Identification!#REF!)","v":{"$error":"#REF!"}}]
[null,null,{"$f":"IF(CMS_Identification!B290=\"\",\"\",CMS_Identification!B290)","v":""},{"$f":"IF(CMS_Identification!#REF!=\"\",\"\",CMS_Identification!#REF!)","v":{"$error":"#REF!"}}]
[null,null,{"$f":"IF(CMS_Identification!B291=\"\",\"\",CMS_Identification!B291)","v":""},{"$f":"IF(CMS_Identification!#REF!=\"\",\"\",CMS_Identification!#REF!)","v":{"$error":"#REF!"}}]
[null,null,{"$f":"IF(CMS_Identification!B292=\"\",\"\",CMS_Identification!B292)","v":""},{"$f":"IF(CMS_Identification!#REF!=\"\",\"\",CMS_Identification!#REF!)","v":{"$error":"#REF!"}}]
[null,null,{"$f":"IF(CMS_Identification!B293=\"\",\"\",CMS_Identification!B293)","v":""},{"$f":"IF(CMS_Identification!#REF!=\"\",\"\",CMS_Identification!#REF!)","v":{"$error":"#REF!"}}]
[null,null,{"$f":"IF(CMS_Identification!B294=\"\",\"\",CMS_Identification!B294)","v":""},{"$f":"IF(CMS_Identification!#REF!=\"\",\"\",CMS_Identification!#REF!)","v":{"$error":"#REF!"}}]
[null,null,{"$f":"IF(CMS_Identification!B295=\"\",\"\",CMS_Identification!B295)","v":""},{"$f":"IF(CMS_Identification!#REF!=\"\",\"\",CMS_Identification!#REF!)","v":{"$error":"#REF!"}}]
[null,null,{"$f":"IF(CMS_Identification!B296=\"\",\"\",CMS_Identification!B296)","v":""},{"$f":"IF(CMS_Identification!#REF!=\"\",\"\",CMS_Identification!#REF!)","v":{"$error":"#REF!"}}]
[null,null,{"$f":"IF(CMS_Identification!B297=\"\",\"\",CMS_Identification!B297)","v":""},{"$f":"IF(CMS_Identification!#REF!=\"\",\"\",CMS_Identification!#REF!)","v":{"$error":"#REF!"}}]
[null,null,{"$f":"IF(CMS_Identification!B298=\"\",\"\",CMS_Identification!B298)","v":""},{"$f":"IF(CMS_Identification!#REF!=\"\",\"\",CMS_Identification!#REF!)","v":{"$error":"#REF!"}}]
[null,null,{"$f":"IF(CMS_Identification!B299=\"\",\"\",CMS_Identification!B299)","v":""},{"$f":"IF(CMS_Identification!#REF!=\"\",\"\",CMS_Identification!#REF!)","v":{"$error":"#REF!"}}]
[null,null,{"$f":"IF(CMS_Identification!B300=\"\",\"\",CMS_Identification!B300)","v":""},{"$f":"IF(CMS_Identification!#REF!=\"\",\"\",CMS_Identification!#REF!)","v":{"$error":"#REF!"}}]
[null,null,{"$f":"IF(CMS_Identification!B301=\"\",\"\",CMS_Identification!B301)","v":""},{"$f":"IF(CMS_Identification!#REF!=\"\",\"\",CMS_Identification!#REF!)","v":{"$error":"#REF!"}}]
[null,null,{"$f":"IF(CMS_Identification!B302=\"\",\"\",CMS_Identification!B302)","v":""},{"$f":"IF(CMS_Identification!#REF!=\"\",\"\",CMS_Identification!#REF!)","v":{"$error":"#REF!"}}]
[null,null,{"$f":"IF(CMS_Identification!B303=\"\",\"\",CMS_Identification!B303)","v":""},{"$f":"IF(CMS_Identification!#REF!=\"\",\"\",CMS_Identification!#REF!)","v":{"$error":"#REF!"}}]
[null,null,{"$f":"IF(CMS_Identification!B304=\"\",\"\",CMS_Identification!B304)","v":""},{"$f":"IF(CMS_Identification!#REF!=\"\",\"\",CMS_Identification!#REF!)","v":{"$error":"#REF!"}}]
[null,null,{"$f":"IF(CMS_Identification!B305=\"\",\"\",CMS_Identification!B305)","v":""},{"$f":"IF(CMS_Identification!#REF!=\"\",\"\",CMS_Identification!#REF!)","v":{"$error":"#REF!"}}]
[null,null,{"$f":"IF(CMS_Identification!B306=\"\",\"\",CMS_Identification!B306)","v":""},{"$f":"IF(CMS_Identification!#REF!=\"\",\"\",CMS_Identification!#REF!)","v":{"$error":"#REF!"}}]
[null,null,{"$f":"IF(CMS_Identification!B307=\"\",\"\",CMS_Identification!B307)","v":""},{"$f":"IF(CMS_Identification!#REF!=\"\",\"\",CMS_Identification!#REF!)","v":{"$error":"#REF!"}}]
[null,null,{"$f":"IF(CMS_Identification!B308=\"\",\"\",CMS_Identification!B308)","v":""},{"$f":"IF(CMS_Identification!#REF!=\"\",\"\",CMS_Identification!#REF!)","v":{"$error":"#REF!"}}]
[null,null,{"$f":"IF(CMS_Identification!B309=\"\",\"\",CMS_Identification!B309)","v":""},{"$f":"IF(CMS_Identification!#REF!=\"\",\"\",CMS_Identification!#REF!)","v":{"$error":"#REF!"}}]
[null,null,{"$f":"IF(CMS_Identification!B310=\"\",\"\",CMS_Identification!B310)","v":""},{"$f":"IF(CMS_Identification!#REF!=\"\",\"\",CMS_Identification!#REF!)","v":{"$error":"#REF!"}}]
[null,null,{"$f":"IF(CMS_Identification!B311=\"\",\"\",CMS_Identification!B311)","v":""},{"$f":"IF(CMS_Identification!#REF!=\"\",\"\",CMS_Identification!#REF!)","v":{"$error":"#REF!"}}]
[null,null,{"$f":"IF(CMS_Identification!B312=\"\",\"\",CMS_Identification!B312)","v":""},{"$f":"IF(CMS_Identification!#REF!=\"\",\"\",CMS_Identification!#REF!)","v":{"$error":"#REF!"}}]
[null,null,{"$f":"IF(CMS_Identification!B313=\"\",\"\",CMS_Identification!B313)","v":""},{"$f":"IF(CMS_Identification!#REF!=\"\",\"\",CMS_Identification!#REF!)","v":{"$error":"#REF!"}}]
[null,null,{"$f":"IF(CMS_Identification!B314=\"\",\"\",CMS_Identification!B314)","v":""},{"$f":"IF(CMS_Identification!#REF!=\"\",\"\",CMS_Identification!#REF!)","v":{"$error":"#REF!"}}]
[null,null,{"$f":"IF(CMS_Identification!B315=\"\",\"\",CMS_Identification!B315)","v":""},{"$f":"IF(CMS_Identification!#REF!=\"\",\"\",CMS_Identification!#REF!)","v":{"$error":"#REF!"}}]
[null,null,{"$f":"IF(CMS_Identification!B316=\"\",\"\",CMS_Identification!B316)","v":""},{"$f":"IF(CMS_Identification!#REF!=\"\",\"\",CMS_Identification!#REF!)","v":{"$error":"#REF!"}}]
[null,null,{"$f":"IF(CMS_Identification!B317=\"\",\"\",CMS_Identification!B317)","v":""},{"$f":"IF(CMS_Identification!#REF!=\"\",\"\",CMS_Identification!#REF!)","v":{"$error":"#REF!"}}]
[null,null,{"$f":"IF(CMS_Identification!B318=\"\",\"\",CMS_Identification!B318)","v":""},{"$f":"IF(CMS_Identification!#REF!=\"\",\"\",CMS_Identification!#REF!)","v":{"$error":"#REF!"}}]
[null,null,{"$f":"IF(CMS_Identification!B319=\"\",\"\",CMS_Identification!B319)","v":""},{"$f":"IF(CMS_Identification!#REF!=\"\",\"\",CMS_Identification!#REF!)","v":{"$error":"#REF!"}}]
[null,null,{"$f":"IF(CMS_Identification!B320=\"\",\"\",CMS_Identification!B320)","v":""},{"$f":"IF(CMS_Identification!#REF!=\"\",\"\",CMS_Identification!#REF!)","v":{"$error":"#REF!"}}]
[null,null,{"$f":"IF(CMS_Identification!B321=\"\",\"\",CMS_Identification!B321)","v":""},{"$f":"IF(CMS_Identification!#REF!=\"\",\"\",CMS_Identification!#REF!)","v":{"$error":"#REF!"}}]
[null,null,{"$f":"IF(CMS_Identification!B322=\"\",\"\",CMS_Identification!B322)","v":""},{"$f":"IF(CMS_Identification!#REF!=\"\",\"\",CMS_Identification!#REF!)","v":{"$error":"#REF!"}}]
[null,null,{"$f":"IF(CMS_Identification!B323=\"\",\"\",CMS_Identification!B323)","v":""},{"$f":"IF(CMS_Identification!#REF!=\"\",\"\",CMS_Identification!#REF!)","v":{"$error":"#REF!"}}]
[null,null,{"$f":"IF(CMS_Identification!B324=\"\",\"\",CMS_Identification!B324)","v":""},{"$f":"IF(CMS_Identification!#REF!=\"\",\"\",CMS_Identification!#REF!)","v":{"$error":"#REF!"}}]
[null,null,{"$f":"IF(CMS_Identification!B325=\"\",\"\",CMS_Identification!B325)","v":""},{"$f":"IF(CMS_Identification!#REF!=\"\",\"\",CMS_Identification!#REF!)","v":{"$error":"#REF!"}}]
[null,null,{"$f":"IF(CMS_Identification!B326=\"\",\"\",CMS_Identification!B326)","v":""},{"$f":"IF(CMS_Identification!#REF!=\"\",\"\",CMS_Identification!#REF!)","v":{"$error":"#REF!"}}]
[null,null,{"$f":"IF(CMS_Identification!B327=\"\",\"\",CMS_Identification!B327)","v":""},{"$f":"IF(CMS_Identification!#REF!=\"\",\"\",CMS_Identification!#REF!)","v":{"$error":"#REF!"}}]
[null,null,{"$f":"IF(CMS_Identification!B328=\"\",\"\",CMS_Identification!B328)","v":""},{"$f":"IF(CMS_Identification!#REF!=\"\",\"\",CMS_Identification!#REF!)","v":{"$error":"#REF!"}}]
[null,null,{"$f":"IF(CMS_Identification!B329=\"\",\"\",CMS_Identification!B329)","v":""},{"$f":"IF(CMS_Identification!#REF!=\"\",\"\",CMS_Identification!#REF!)","v":{"$error":"#REF!"}}]
[null,null,{"$f":"IF(CMS_Identification!B330=\"\",\"\",CMS_Identification!B330)","v":""},{"$f":"IF(CMS_Identification!#REF!=\"\",\"\",CMS_Identification!#REF!)","v":{"$error":"#REF!"}}]
[null,null,{"$f":"IF(CMS_Identification!B331=\"\",\"\",CMS_Identification!B331)","v":""},{"$f":"IF(CMS_Identification!#REF!=\"\",\"\",CMS_Identification!#REF!)","v":{"$error":"#REF!"}}]
[null,null,{"$f":"IF(CMS_Identification!B332=\"\",\"\",CMS_Identification!B332)","v":""},{"$f":"IF(CMS_Identification!#REF!=\"\",\"\",CMS_Identification!#REF!)","v":{"$error":"#REF!"}}]
[null,null,{"$f":"IF(CMS_Identification!B333=\"\",\"\",CMS_Identification!B333)","v":""},{"$f":"IF(CMS_Identification!#REF!=\"\",\"\",CMS_Identification!#REF!)","v":{"$error":"#REF!"}}]
[null,null,{"$f":"IF(CMS_Identification!B334=\"\",\"\",CMS_Identification!B334)","v":""},{"$f":"IF(CMS_Identification!#REF!=\"\",\"\",CMS_Identification!#REF!)","v":{"$error":"#REF!"}}]
[null,null,{"$f":"IF(CMS_Identification!B335=\"\",\"\",CMS_Identification!B335)","v":""},{"$f":"IF(CMS_Identification!#REF!=\"\",\"\",CMS_Identification!#REF!)","v":{"$error":"#REF!"}}]
[null,null,{"$f":"IF(CMS_Identification!B336=\"\",\"\",CMS_Identification!B336)","v":""},{"$f":"IF(CMS_Identification!#REF!=\"\",\"\",CMS_Identification!#REF!)","v":{"$error":"#REF!"}}]
[null,null,{"$f":"IF(CMS_Identification!B337=\"\",\"\",CMS_Identification!B337)","v":""},{"$f":"IF(CMS_Identification!#REF!=\"\",\"\",CMS_Identification!#REF!)","v":{"$error":"#REF!"}}]
[null,null,{"$f":"IF(CMS_Identification!B338=\"\",\"\",CMS_Identification!B338)","v":""},{"$f":"IF(CMS_Identification!#REF!=\"\",\"\",CMS_Identification!#REF!)","v":{"$error":"#REF!"}}]
[null,null,{"$f":"IF(CMS_Identification!B339=\"\",\"\",CMS_Identification!B339)","v":""},{"$f":"IF(CMS_Identification!#REF!=\"\",\"\",CMS_Identification!#REF!)","v":{"$error":"#REF!"}}]
[null,null,{"$f":"IF(CMS_Identification!B340=\"\",\"\",CMS_Identification!B340)","v":""},{"$f":"IF(CMS_Identification!#REF!=\"\",\"\",CMS_Identification!#REF!)","v":{"$error":"#REF!"}}]
[null,null,{"$f":"IF(CMS_Identification!B341=\"\",\"\",CMS_Identification!B341)","v":""},{"$f":"IF(CMS_Identification!#REF!=\"\",\"\",CMS_Identification!#REF!)","v":{"$error":"#REF!"}}]
[null,null,{"$f":"IF(CMS_Identification!B342=\"\",\"\",CMS_Identification!B342)","v":""},{"$f":"IF(CMS_Identification!#REF!=\"\",\"\",CMS_Identification!#REF!)","v":{"$error":"#REF!"}}]
[null,null,{"$f":"IF(CMS_Identification!B343=\"\",\"\",CMS_Identification!B343)","v":""},{"$f":"IF(CMS_Identification!#REF!=\"\",\"\",CMS_Identification!#REF!)","v":{"$error":"#REF!"}}]
[null,null,{"$f":"IF(CMS_Identification!B344=\"\",\"\",CMS_Identification!B344)","v":""},{"$f":"IF(CMS_Identification!#REF!=\"\",\"\",CMS_Identification!#REF!)","v":{"$error":"#REF!"}}]
[null,null,{"$f":"IF(CMS_Identification!B345=\"\",\"\",CMS_Identification!B345)","v":""},{"$f":"IF(CMS_Identification!#REF!=\"\",\"\",CMS_Identification!#REF!)","v":{"$error":"#REF!"}}]
[null,null,{"$f":"IF(CMS_Identification!B346=\"\",\"\",CMS_Identification!B346)","v":""},{"$f":"IF(CMS_Identification!#REF!=\"\",\"\",CMS_Identification!#REF!)","v":{"$error":"#REF!"}}]
[null,null,{"$f":"IF(CMS_Identification!B347=\"\",\"\",CMS_Identification!B347)","v":""},{"$f":"IF(CMS_Identification!#REF!=\"\",\"\",CMS_Identification!#REF!)","v":{"$error":"#REF!"}}]
[null,null,{"$f":"IF(CMS_Identification!B348=\"\",\"\",CMS_Identification!B348)","v":""},{"$f":"IF(CMS_Identification!#REF!=\"\",\"\",CMS_Identification!#REF!)","v":{"$error":"#REF!"}}]
[null,null,{"$f":"IF(CMS_Identification!B349=\"\",\"\",CMS_Identification!B349)","v":""},{"$f":"IF(CMS_Identification!#REF!=\"\",\"\",CMS_Identification!#REF!)","v":{"$error":"#REF!"}}]
[null,null,{"$f":"IF(CMS_Identification!B350=\"\",\"\",CMS_Identification!B350)","v":""},{"$f":"IF(CMS_Identification!#REF!=\"\",\"\",CMS_Identification!#REF!)","v":{"$error":"#REF!"}}]
[null,null,{"$f":"IF(CMS_Identification!B351=\"\",\"\",CMS_Identification!B351)","v":""},{"$f":"IF(CMS_Identification!#REF!=\"\",\"\",CMS_Identification!#REF!)","v":{"$error":"#REF!"}}]
[null,null,{"$f":"IF(CMS_Identification!B352=\"\",\"\",CMS_Identification!B352)","v":""},{"$f":"IF(CMS_Identification!#REF!=\"\",\"\",CMS_Identification!#REF!)","v":{"$error":"#REF!"}}]
[null,null,{"$f":"IF(CMS_Identification!B353=\"\",\"\",CMS_Identification!B353)","v":""},{"$f":"IF(CMS_Identification!#REF!=\"\",\"\",CMS_Identification!#REF!)","v":{"$error":"#REF!"}}]
[null,null,{"$f":"IF(CMS_Identification!B354=\"\",\"\",CMS_Identification!B354)","v":""},{"$f":"IF(CMS_Identification!#REF!=\"\",\"\",CMS_Identification!#REF!)","v":{"$error":"#REF!"}}]
[null,null,{"$f":"IF(CMS_Identification!B355=\"\",\"\",CMS_Identification!B355)","v":""},{"$f":"IF(CMS_Identification!#REF!=\"\",\"\",CMS_Identification!#REF!)","v":{"$error":"#REF!"}}]
[null,null,{"$f":"IF(CMS_Identification!B356=\"\",\"\",CMS_Identification!B356)","v":""},{"$f":"IF(CMS_Identification!#REF!=\"\",\"\",CMS_Identification!#REF!)","v":{"$error":"#REF!"}}]
[null,null,{"$f":"IF(CMS_Identification!B357=\"\",\"\",CMS_Identification!B357)","v":""},{"$f":"IF(CMS_Identification!#REF!=\"\",\"\",CMS_Identification!#REF!)","v":{"$error":"#REF!"}}]
[null,null,{"$f":"IF(CMS_Identification!B358=\"\",\"\",CMS_Identification!B358)","v":""},{"$f":"IF(CMS_Identification!#REF!=\"\",\"\",CMS_Identification!#REF!)","v":{"$error":"#REF!"}}]
[null,null,{"$f":"IF(CMS_Identification!B359=\"\",\"\",CMS_Identification!B359)","v":""},{"$f":"IF(CMS_Identification!#REF!=\"\",\"\",CMS_Identification!#REF!)","v":{"$error":"#REF!"}}]
[null,null,{"$f":"IF(CMS_Identification!B360=\"\",\"\",CMS_Identification!B360)","v":""},{"$f":"IF(CMS_Identification!#REF!=\"\",\"\",CMS_Identification!#REF!)","v":{"$error":"#REF!"}}]
[null,null,{"$f":"IF(CMS_Identification!B361=\"\",\"\",CMS_Identification!B361)","v":""},{"$f":"IF(CMS_Identification!#REF!=\"\",\"\",CMS_Identification!#REF!)","v":{"$error":"#REF!"}}]
[null,null,{"$f":"IF(CMS_Identification!B362=\"\",\"\",CMS_Identification!B362)","v":""},{"$f":"IF(CMS_Identification!#REF!=\"\",\"\",CMS_Identification!#REF!)","v":{"$error":"#REF!"}}]
[null,null,{"$f":"IF(CMS_Identification!B363=\"\",\"\",CMS_Identification!B363)","v":""},{"$f":"IF(CMS_Identification!#REF!=\"\",\"\",CMS_Identification!#REF!)","v":{"$error":"#REF!"}}]
[null,null,{"$f":"IF(CMS_Identification!B364=\"\",\"\",CMS_Identification!B364)","v":""},{"$f":"IF(CMS_Identification!#REF!=\"\",\"\",CMS_Identification!#REF!)","v":{"$error":"#REF!"}}]
[null,null,{"$f":"IF(CMS_Identification!B365=\"\",\"\",CMS_Identification!B365)","v":""},{"$f":"IF(CMS_Identification!#REF!=\"\",\"\",CMS_Identification!#REF!)","v":{"$error":"#REF!"}}]
[null,null,{"$f":"IF(CMS_Identification!B366=\"\",\"\",CMS_Identification!B366)","v":""},{"$f":"IF(CMS_Identification!#REF!=\"\",\"\",CMS_Identification!#REF!)","v":{"$error":"#REF!"}}]
[null,null,{"$f":"IF(CMS_Identification!B367=\"\",\"\",CMS_Identification!B367)","v":""},{"$f":"IF(CMS_Identification!#REF!=\"\",\"\",CMS_Identification!#REF!)","v":{"$error":"#REF!"}}]
[null,null,{"$f":"IF(CMS_Identification!B368=\"\",\"\",CMS_Identification!B368)","v":""},{"$f":"IF(CMS_Identification!#REF!=\"\",\"\",CMS_Identification!#REF!)","v":{"$error":"#REF!"}}]
[null,null,{"$f":"IF(CMS_Identification!B369=\"\",\"\",CMS_Identification!B369)","v":""},{"$f":"IF(CMS_Identification!#REF!=\"\",\"\",CMS_Identification!#REF!)","v":{"$error":"#REF!"}}]
[null,null,{"$f":"IF(CMS_Identification!B370=\"\",\"\",CMS_Identification!B370)","v":""},{"$f":"IF(CMS_Identification!#REF!=\"\",\"\",CMS_Identification!#REF!)","v":{"$error":"#REF!"}}]
[null,null,{"$f":"IF(CMS_Identification!B371=\"\",\"\",CMS_Identification!B371)","v":""},{"$f":"IF(CMS_Identification!#REF!=\"\",\"\",CMS_Identification!#REF!)","v":{"$error":"#REF!"}}]
[null,null,{"$f":"IF(CMS_Identification!B372=\"\",\"\",CMS_Identification!B372)","v":""},{"$f":"IF(CMS_Identification!#REF!=\"\",\"\",CMS_Identification!#REF!)","v":{"$error":"#REF!"}}]
[null,null,{"$f":"IF(CMS_Identification!B373=\"\",\"\",CMS_Identification!B373)","v":""},{"$f":"IF(CMS_Identification!#REF!=\"\",\"\",CMS_Identification!#REF!)","v":{"$error":"#REF!"}}]
[null,null,{"$f":"IF(CMS_Identification!B374=\"\",\"\",CMS_Identification!B374)","v":""},{"$f":"IF(CMS_Identification!#REF!=\"\",\"\",CMS_Identification!#REF!)","v":{"$error":"#REF!"}}]
[null,null,{"$f":"IF(CMS_Identification!B375=\"\",\"\",CMS_Identification!B375)","v":""},{"$f":"IF(CMS_Identification!#REF!=\"\",\"\",CMS_Identification!#REF!)","v":{"$error":"#REF!"}}]
[null,null,{"$f":"IF(CMS_Identification!B376=\"\",\"\",CMS_Identification!B376)","v":""},{"$f":"IF(CMS_Identification!#REF!=\"\",\"\",CMS_Identification!#REF!)","v":{"$error":"#REF!"}}]
[null,null,{"$f":"IF(CMS_Identification!B377=\"\",\"\",CMS_Identification!B377)","v":""},{"$f":"IF(CMS_Identification!#REF!=\"\",\"\",CMS_Identification!#REF!)","v":{"$error":"#REF!"}}]
[null,null,{"$f":"IF(CMS_Identification!B378=\"\",\"\",CMS_Identification!B378)","v":""},{"$f":"IF(CMS_Identification!#REF!=\"\",\"\",CMS_Identification!#REF!)","v":{"$error":"#REF!"}}]
[null,null,{"$f":"IF(CMS_Identification!B379=\"\",\"\",CMS_Identification!B379)","v":""},{"$f":"IF(CMS_Identification!#REF!=\"\",\"\",CMS_Identification!#REF!)","v":{"$error":"#REF!"}}]
[null,null,{"$f":"IF(CMS_Identification!B380=\"\",\"\",CMS_Identification!B380)","v":""},{"$f":"IF(CMS_Identification!#REF!=\"\",\"\",CMS_Identification!#REF!)","v":{"$error":"#REF!"}}]
[null,null,{"$f":"IF(CMS_Identification!B381=\"\",\"\",CMS_Identification!B381)","v":""},{"$f":"IF(CMS_Identification!#REF!=\"\",\"\",CMS_Identification!#REF!)","v":{"$error":"#REF!"}}]
[null,null,{"$f":"IF(CMS_Identification!B382=\"\",\"\",CMS_Identification!B382)","v":""},{"$f":"IF(CMS_Identification!#REF!=\"\",\"\",CMS_Identification!#REF!)","v":{"$error":"#REF!"}}]
[null,null,{"$f":"IF(CMS_Identification!B383=\"\",\"\",CMS_Identification!B383)","v":""},{"$f":"IF(CMS_Identification!#REF!=\"\",\"\",CMS_Identification!#REF!)","v":{"$error":"#REF!"}}]
[null,null,{"$f":"IF(CMS_Identification!B384=\"\",\"\",CMS_Identification!B384)","v":""},{"$f":"IF(CMS_Identification!#REF!=\"\",\"\",CMS_Identification!#REF!)","v":{"$error":"#REF!"}}]
[null,null,{"$f":"IF(CMS_Identification!B385=\"\",\"\",CMS_Identification!B385)","v":""},{"$f":"IF(CMS_Identification!#REF!=\"\",\"\",CMS_Identification!#REF!)","v":{"$error":"#REF!"}}]
[null,null,{"$f":"IF(CMS_Identification!B386=\"\",\"\",CMS_Identification!B386)","v":""},{"$f":"IF(CMS_Identification!#REF!=\"\",\"\",CMS_Identification!#REF!)","v":{"$error":"#REF!"}}]
[null,null,{"$f":"IF(CMS_Identification!B387=\"\",\"\",CMS_Identification!B387)","v":""},{"$f":"IF(CMS_Identification!#REF!=\"\",\"\",CMS_Identification!#REF!)","v":{"$error":"#REF!"}}]
[null,null,{"$f":"IF(CMS_Identification!B388=\"\",\"\",CMS_Identification!B388)","v":""},{"$f":"IF(CMS_Identification!#REF!=\"\",\"\",CMS_Identification!#REF!)","v":{"$error":"#REF!"}}]
[null,null,{"$f":"IF(CMS_Identification!B389=\"\",\"\",CMS_Identification!B389)","v":""},{"$f":"IF(CMS_Identification!#REF!=\"\",\"\",CMS_Identification!#REF!)","v":{"$error":"#REF!"}}]
[null,null,{"$f":"IF(CMS_Identification!B390=\"\",\"\",CMS_Identification!B390)","v":""},{"$f":"IF(CMS_Identification!#REF!=\"\",\"\",CMS_Identification!#REF!)","v":{"$error":"#REF!"}}]
[null,null,{"$f":"IF(CMS_Identification!B391=\"\",\"\",CMS_Identification!B391)","v":""},{"$f":"IF(CMS_Identification!#REF!=\"\",\"\",CMS_Identification!#REF!)","v":{"$error":"#REF!"}}]
[null,null,{"$f":"IF(CMS_Identification!B392=\"\",\"\",CMS_Identification!B392)","v":""},{"$f":"IF(CMS_Identification!#REF!=\"\",\"\",CMS_Identification!#REF!)","v":{"$error":"#REF!"}}]
[null,null,{"$f":"IF(CMS_Identification!B393=\"\",\"\",CMS_Identification!B393)","v":""},{"$f":"IF(CMS_Identification!#REF!=\"\",\"\",CMS_Identification!#REF!)","v":{"$error":"#REF!"}}]
[null,null,{"$f":"IF(CMS_Identification!B394=\"\",\"\",CMS_Identification!B394)","v":""},{"$f":"IF(CMS_Identification!#REF!=\"\",\"\",CMS_Identification!#REF!)","v":{"$error":"#REF!"}}]
[null,null,{"$f":"IF(CMS_Identification!B395=\"\",\"\",CMS_Identification!B395)","v":""},{"$f":"IF(CMS_Identification!#REF!=\"\",\"\",CMS_Identification!#REF!)","v":{"$error":"#REF!"}}]
[null,null,{"$f":"IF(CMS_Identification!B396=\"\",\"\",CMS_Identification!B396)","v":""},{"$f":"IF(CMS_Identification!#REF!=\"\",\"\",CMS_Identification!#REF!)","v":{"$error":"#REF!"}}]
[null,null,{"$f":"IF(CMS_Identification!B397=\"\",\"\",CMS_Identification!B397)","v":""},{"$f":"IF(CMS_Identification!#REF!=\"\",\"\",CMS_Identification!#REF!)","v":{"$error":"#REF!"}}]
[null,null,{"$f":"IF(CMS_Identification!B398=\"\",\"\",CMS_Identification!B398)","v":""},{"$f":"IF(CMS_Identification!#REF!=\"\",\"\",CMS_Identification!#REF!)","v":{"$error":"#REF!"}}]
[null,null,{"$f":"IF(CMS_Identification!B399=\"\",\"\",CMS_Identification!B399)","v":""},{"$f":"IF(CMS_Identification!#REF!=\"\",\"\",CMS_Identification!#REF!)","v":{"$error":"#REF!"}}]
[null,null,{"$f":"IF(CMS_Identification!B400=\"\",\"\",CMS_Identification!B400)","v":""},{"$f":"IF(CMS_Identification!#REF!=\"\",\"\",CMS_Identification!#REF!)","v":{"$error":"#REF!"}}]
[null,null,{"$f":"IF(CMS_Identification!B401=\"\",\"\",CMS_Identification!B401)","v":""},{"$f":"IF(CMS_Identification!#REF!=\"\",\"\",CMS_Identification!#REF!)","v":{"$error":"#REF!"}}]
[null,null,{"$f":"IF(CMS_Identification!B402=\"\",\"\",CMS_Identification!B402)","v":""},{"$f":"IF(CMS_Identification!#REF!=\"\",\"\",CMS_Identification!#REF!)","v":{"$error":"#REF!"}}]
[null,null,{"$f":"IF(CMS_Identification!B403=\"\",\"\",CMS_Identification!B403)","v":""},{"$f":"IF(CMS_Identification!#REF!=\"\",\"\",CMS_Identification!#REF!)","v":{"$error":"#REF!"}}]
[null,null,{"$f":"IF(CMS_Identification!B404=\"\",\"\",CMS_Identification!B404)","v":""},{"$f":"IF(CMS_Identification!#REF!=\"\",\"\",CMS_Identification!#REF!)","v":{"$error":"#REF!"}}]
[null,null,{"$f":"IF(CMS_Identification!B405=\"\",\"\",CMS_Identification!B405)","v":""},{"$f":"IF(CMS_Identification!#REF!=\"\",\"\",CMS_Identification!#REF!)","v":{"$error":"#REF!"}}]
[null,null,{"$f":"IF(CMS_Identification!B406=\"\",\"\",CMS_Identification!B406)","v":""},{"$f":"IF(CMS_Identification!#REF!=\"\",\"\",CMS_Identification!#REF!)","v":{"$error":"#REF!"}}]
[null,null,{"$f":"IF(CMS_Identification!B407=\"\",\"\",CMS_Identification!B407)","v":""},{"$f":"IF(CMS_Identification!#REF!=\"\",\"\",CMS_Identification!#REF!)","v":{"$error":"#REF!"}}]
[null,null,{"$f":"IF(CMS_Identification!B408=\"\",\"\",CMS_Identification!B408)","v":""},{"$f":"IF(CMS_Identification!#REF!=\"\",\"\",CMS_Identification!#REF!)","v":{"$error":"#REF!"}}]
[null,null,{"$f":"IF(CMS_Identification!B409=\"\",\"\",CMS_Identification!B409)","v":""},{"$f":"IF(CMS_Identification!#REF!=\"\",\"\",CMS_Identification!#REF!)","v":{"$error":"#REF!"}}]
[null,null,{"$f":"IF(CMS_Identification!B410=\"\",\"\",CMS_Identification!B410)","v":""},{"$f":"IF(CMS_Identification!#REF!=\"\",\"\",CMS_Identification!#REF!)","v":{"$error":"#REF!"}}]
[null,null,{"$f":"IF(CMS_Identification!B411=\"\",\"\",CMS_Identification!B411)","v":""},{"$f":"IF(CMS_Identification!#REF!=\"\",\"\",CMS_Identification!#REF!)","v":{"$error":"#REF!"}}]
[null,null,{"$f":"IF(CMS_Identification!B412=\"\",\"\",CMS_Identification!B412)","v":""},{"$f":"IF(CMS_Identification!#REF!=\"\",\"\",CMS_Identification!#REF!)","v":{"$error":"#REF!"}}]
[null,null,{"$f":"IF(CMS_Identification!B413=\"\",\"\",CMS_Identification!B413)","v":""},{"$f":"IF(CMS_Identification!#REF!=\"\",\"\",CMS_Identification!#REF!)","v":{"$error":"#REF!"}}]
[null,null,{"$f":"IF(CMS_Identification!B414=\"\",\"\",CMS_Identification!B414)","v":""},{"$f":"IF(CMS_Identification!#REF!=\"\",\"\",CMS_Identification!#REF!)","v":{"$error":"#REF!"}}]
[null,null,{"$f":"IF(CMS_Identification!B415=\"\",\"\",CMS_Identification!B415)","v":""},{"$f":"IF(CMS_Identification!#REF!=\"\",\"\",CMS_Identification!#REF!)","v":{"$error":"#REF!"}}]
[null,null,{"$f":"IF(CMS_Identification!B416=\"\",\"\",CMS_Identification!B416)","v":""},{"$f":"IF(CMS_Identification!#REF!=\"\",\"\",CMS_Identification!#REF!)","v":{"$error":"#REF!"}}]
[null,null,{"$f":"IF(CMS_Identification!B417=\"\",\"\",CMS_Identification!B417)","v":""},{"$f":"IF(CMS_Identification!#REF!=\"\",\"\",CMS_Identification!#REF!)","v":{"$error":"#REF!"}}]
[null,null,{"$f":"IF(CMS_Identification!B418=\"\",\"\",CMS_Identification!B418)","v":""},{"$f":"IF(CMS_Identification!#REF!=\"\",\"\",CMS_Identification!#REF!)","v":{"$error":"#REF!"}}]
[null,null,{"$f":"IF(CMS_Identification!B419=\"\",\"\",CMS_Identification!B419)","v":""},{"$f":"IF(CMS_Identification!#REF!=\"\",\"\",CMS_Identification!#REF!)","v":{"$error":"#REF!"}}]
[null,null,{"$f":"IF(CMS_Identification!B420=\"\",\"\",CMS_Identification!B420)","v":""},{"$f":"IF(CMS_Identification!#REF!=\"\",\"\",CMS_Identification!#REF!)","v":{"$error":"#REF!"}}]
[null,null,{"$f":"IF(CMS_Identification!B421=\"\",\"\",CMS_Identification!B421)","v":""},{"$f":"IF(CMS_Identification!#REF!=\"\",\"\",CMS_Identification!#REF!)","v":{"$error":"#REF!"}}]
[null,null,{"$f":"IF(CMS_Identification!B422=\"\",\"\",CMS_Identification!B422)","v":""},{"$f":"IF(CMS_Identification!#REF!=\"\",\"\",CMS_Identification!#REF!)","v":{"$error":"#REF!"}}]
[null,null,{"$f":"IF(CMS_Identification!B423=\"\",\"\",CMS_Identification!B423)","v":""},{"$f":"IF(CMS_Identification!#REF!=\"\",\"\",CMS_Identification!#REF!)","v":{"$error":"#REF!"}}]
[null,null,{"$f":"IF(CMS_Identification!B424=\"\",\"\",CMS_Identification!B424)","v":""},{"$f":"IF(CMS_Identification!#REF!=\"\",\"\",CMS_Identification!#REF!)","v":{"$error":"#REF!"}}]
[null,null,{"$f":"IF(CMS_Identification!B425=\"\",\"\",CMS_Identification!B425)","v":""},{"$f":"IF(CMS_Identification!#REF!=\"\",\"\",CMS_Identification!#REF!)","v":{"$error":"#REF!"}}]
[null,null,{"$f":"IF(CMS_Identification!B426=\"\",\"\",CMS_Identification!B426)","v":""},{"$f":"IF(CMS_Identification!#REF!=\"\",\"\",CMS_Identification!#REF!)","v":{"$error":"#REF!"}}]
[null,null,{"$f":"IF(CMS_Identification!B427=\"\",\"\",CMS_Identification!B427)","v":""},{"$f":"IF(CMS_Identification!#REF!=\"\",\"\",CMS_Identification!#REF!)","v":{"$error":"#REF!"}}]
[null,null,{"$f":"IF(CMS_Identification!B428=\"\",\"\",CMS_Identification!B428)","v":""},{"$f":"IF(CMS_Identification!#REF!=\"\",\"\",CMS_Identification!#REF!)","v":{"$error":"#REF!"}}]
[null,null,{"$f":"IF(CMS_Identification!B429=\"\",\"\",CMS_Identification!B429)","v":""},{"$f":"IF(CMS_Identification!#REF!=\"\",\"\",CMS_Identification!#REF!)","v":{"$error":"#REF!"}}]
[null,null,{"$f":"IF(CMS_Identification!B430=\"\",\"\",CMS_Identification!B430)","v":""},{"$f":"IF(CMS_Identification!#REF!=\"\",\"\",CMS_Identification!#REF!)","v":{"$error":"#REF!"}}]
[null,null,{"$f":"IF(CMS_Identification!B431=\"\",\"\",CMS_Identification!B431)","v":""},{"$f":"IF(CMS_Identification!#REF!=\"\",\"\",CMS_Identification!#REF!)","v":{"$error":"#REF!"}}]
[null,null,{"$f":"IF(CMS_Identification!B432=\"\",\"\",CMS_Identification!B432)","v":""},{"$f":"IF(CMS_Identification!#REF!=\"\",\"\",CMS_Identification!#REF!)","v":{"$error":"#REF!"}}]
[null,null,{"$f":"IF(CMS_Identification!B433=\"\",\"\",CMS_Identification!B433)","v":""},{"$f":"IF(CMS_Identification!#REF!=\"\",\"\",CMS_Identification!#REF!)","v":{"$error":"#REF!"}}]
[null,null,{"$f":"IF(CMS_Identification!B434=\"\",\"\",CMS_Identification!B434)","v":""},{"$f":"IF(CMS_Identification!#REF!=\"\",\"\",CMS_Identification!#REF!)","v":{"$error":"#REF!"}}]
[null,null,{"$f":"IF(CMS_Identification!B435=\"\",\"\",CMS_Identification!B435)","v":""},{"$f":"IF(CMS_Identification!#REF!=\"\",\"\",CMS_Identification!#REF!)","v":{"$error":"#REF!"}}]
[null,null,{"$f":"IF(CMS_Identification!B436=\"\",\"\",CMS_Identification!B436)","v":""},{"$f":"IF(CMS_Identification!#REF!=\"\",\"\",CMS_Identification!#REF!)","v":{"$error":"#REF!"}}]
[null,null,{"$f":"IF(CMS_Identification!B437=\"\",\"\",CMS_Identification!B437)","v":""},{"$f":"IF(CMS_Identification!#REF!=\"\",\"\",CMS_Identification!#REF!)","v":{"$error":"#REF!"}}]
[null,null,{"$f":"IF(CMS_Identification!B438=\"\",\"\",CMS_Identification!B438)","v":""},{"$f":"IF(CMS_Identification!#REF!=\"\",\"\",CMS_Identification!#REF!)","v":{"$error":"#REF!"}}]
[null,null,{"$f":"IF(CMS_Identification!B439=\"\",\"\",CMS_Identification!B439)","v":""},{"$f":"IF(CMS_Identification!#REF!=\"\",\"\",CMS_Identification!#REF!)","v":{"$error":"#REF!"}}]
[null,null,{"$f":"IF(CMS_Identification!B440=\"\",\"\",CMS_Identification!B440)","v":""},{"$f":"IF(CMS_Identification!#REF!=\"\",\"\",CMS_Identification!#REF!)","v":{"$error":"#REF!"}}]
[null,null,{"$f":"IF(CMS_Identification!B441=\"\",\"\",CMS_Identification!B441)","v":""},{"$f":"IF(CMS_Identification!#REF!=\"\",\"\",CMS_Identification!#REF!)","v":{"$error":"#REF!"}}]
[null,null,{"$f":"IF(CMS_Identification!B442=\"\",\"\",CMS_Identification!B442)","v":""},{"$f":"IF(CMS_Identification!#REF!=\"\",\"\",CMS_Identification!#REF!)","v":{"$error":"#REF!"}}]
[null,null,{"$f":"IF(CMS_Identification!B443=\"\",\"\",CMS_Identification!B443)","v":""},{"$f":"IF(CMS_Identification!#REF!=\"\",\"\",CMS_Identification!#REF!)","v":{"$error":"#REF!"}}]
[null,null,{"$f":"IF(CMS_Identification!B444=\"\",\"\",CMS_Identification!B444)","v":""},{"$f":"IF(CMS_Identification!#REF!=\"\",\"\",CMS_Identification!#REF!)","v":{"$error":"#REF!"}}]
[null,null,{"$f":"IF(CMS_Identification!B445=\"\",\"\",CMS_Identification!B445)","v":""},{"$f":"IF(CMS_Identification!#REF!=\"\",\"\",CMS_Identification!#REF!)","v":{"$error":"#REF!"}}]
[null,null,{"$f":"IF(CMS_Identification!B446=\"\",\"\",CMS_Identification!B446)","v":""},{"$f":"IF(CMS_Identification!#REF!=\"\",\"\",CMS_Identification!#REF!)","v":{"$error":"#REF!"}}]
[null,null,{"$f":"IF(CMS_Identification!B447=\"\",\"\",CMS_Identification!B447)","v":""},{"$f":"IF(CMS_Identification!#REF!=\"\",\"\",CMS_Identification!#REF!)","v":{"$error":"#REF!"}}]
[null,null,{"$f":"IF(CMS_Identification!B448=\"\",\"\",CMS_Identification!B448)","v":""},{"$f":"IF(CMS_Identification!#REF!=\"\",\"\",CMS_Identification!#REF!)","v":{"$error":"#REF!"}}]
[null,null,{"$f":"IF(CMS_Identification!B449=\"\",\"\",CMS_Identification!B449)","v":""},{"$f":"IF(CMS_Identification!#REF!=\"\",\"\",CMS_Identification!#REF!)","v":{"$error":"#REF!"}}]
[null,null,{"$f":"IF(CMS_Identification!B450=\"\",\"\",CMS_Identification!B450)","v":""},{"$f":"IF(CMS_Identification!#REF!=\"\",\"\",CMS_Identification!#REF!)","v":{"$error":"#REF!"}}]
[null,null,{"$f":"IF(CMS_Identification!B451=\"\",\"\",CMS_Identification!B451)","v":""},{"$f":"IF(CMS_Identification!#REF!=\"\",\"\",CMS_Identification!#REF!)","v":{"$error":"#REF!"}}]
[null,null,{"$f":"IF(CMS_Identification!B452=\"\",\"\",CMS_Identification!B452)","v":""},{"$f":"IF(CMS_Identification!#REF!=\"\",\"\",CMS_Identification!#REF!)","v":{"$error":"#REF!"}}]
[null,null,{"$f":"IF(CMS_Identification!B453=\"\",\"\",CMS_Identification!B453)","v":""},{"$f":"IF(CMS_Identification!#REF!=\"\",\"\",CMS_Identification!#REF!)","v":{"$error":"#REF!"}}]
[null,null,{"$f":"IF(CMS_Identification!B454=\"\",\"\",CMS_Identification!B454)","v":""},{"$f":"IF(CMS_Identification!#REF!=\"\",\"\",CMS_Identification!#REF!)","v":{"$error":"#REF!"}}]
[null,null,{"$f":"IF(CMS_Identification!B455=\"\",\"\",CMS_Identification!B455)","v":""},{"$f":"IF(CMS_Identification!#REF!=\"\",\"\",CMS_Identification!#REF!)","v":{"$error":"#REF!"}}]
[null,null,{"$f":"IF(CMS_Identification!B456=\"\",\"\",CMS_Identification!B456)","v":""},{"$f":"IF(CMS_Identification!#REF!=\"\",\"\",CMS_Identification!#REF!)","v":{"$error":"#REF!"}}]
[null,null,{"$f":"IF(CMS_Identification!B457=\"\",\"\",CMS_Identification!B457)","v":""},{"$f":"IF(CMS_Identification!#REF!=\"\",\"\",CMS_Identification!#REF!)","v":{"$error":"#REF!"}}]
[null,null,{"$f":"IF(CMS_Identification!B458=\"\",\"\",CMS_Identification!B458)","v":""},{"$f":"IF(CMS_Identification!#REF!=\"\",\"\",CMS_Identification!#REF!)","v":{"$error":"#REF!"}}]
[null,null,{"$f":"IF(CMS_Identification!B459=\"\",\"\",CMS_Identification!B459)","v":""},{"$f":"IF(CMS_Identification!#REF!=\"\",\"\",CMS_Identification!#REF!)","v":{"$error":"#REF!"}}]
[null,null,{"$f":"IF(CMS_Identification!B460=\"\",\"\",CMS_Identification!B460)","v":""},{"$f":"IF(CMS_Identification!#REF!=\"\",\"\",CMS_Identification!#REF!)","v":{"$error":"#REF!"}}]
[null,null,{"$f":"IF(CMS_Identification!B461=\"\",\"\",CMS_Identification!B461)","v":""},{"$f":"IF(CMS_Identification!#REF!=\"\",\"\",CMS_Identification!#REF!)","v":{"$error":"#REF!"}}]
[null,null,{"$f":"IF(CMS_Identification!B462=\"\",\"\",CMS_Identification!B462)","v":""},{"$f":"IF(CMS_Identification!#REF!=\"\",\"\",CMS_Identification!#REF!)","v":{"$error":"#REF!"}}]
[null,null,{"$f":"IF(CMS_Identification!B463=\"\",\"\",CMS_Identification!B463)","v":""},{"$f":"IF(CMS_Identification!#REF!=\"\",\"\",CMS_Identification!#REF!)","v":{"$error":"#REF!"}}]
[null,null,{"$f":"IF(CMS_Identification!B464=\"\",\"\",CMS_Identification!B464)","v":""},{"$f":"IF(CMS_Identification!#REF!=\"\",\"\",CMS_Identification!#REF!)","v":{"$error":"#REF!"}}]
[null,null,{"$f":"IF(CMS_Identification!B465=\"\",\"\",CMS_Identification!B465)","v":""},{"$f":"IF(CMS_Identification!#REF!=\"\",\"\",CMS_Identification!#REF!)","v":{"$error":"#REF!"}}]
[null,null,{"$f":"IF(CMS_Identification!B466=\"\",\"\",CMS_Identification!B466)","v":""},{"$f":"IF(CMS_Identification!#REF!=\"\",\"\",CMS_Identification!#REF!)","v":{"$error":"#REF!"}}]
[null,null,{"$f":"IF(CMS_Identification!B467=\"\",\"\",CMS_Identification!B467)","v":""},{"$f":"IF(CMS_Identification!#REF!=\"\",\"\",CMS_Identification!#REF!)","v":{"$error":"#REF!"}}]
[null,null,{"$f":"IF(CMS_Identification!B468=\"\",\"\",CMS_Identification!B468)","v":""},{"$f":"IF(CMS_Identification!#REF!=\"\",\"\",CMS_Identification!#REF!)","v":{"$error":"#REF!"}}]
[null,null,{"$f":"IF(CMS_Identification!B469=\"\",\"\",CMS_Identification!B469)","v":""},{"$f":"IF(CMS_Identification!#REF!=\"\",\"\",CMS_Identification!#REF!)","v":{"$error":"#REF!"}}]
[null,null,{"$f":"IF(CMS_Identification!B470=\"\",\"\",CMS_Identification!B470)","v":""},{"$f":"IF(CMS_Identification!#REF!=\"\",\"\",CMS_Identification!#REF!)","v":{"$error":"#REF!"}}]
[null,null,{"$f":"IF(CMS_Identification!B471=\"\",\"\",CMS_Identification!B471)","v":""},{"$f":"IF(CMS_Identification!#REF!=\"\",\"\",CMS_Identification!#REF!)","v":{"$error":"#REF!"}}]
[null,null,{"$f":"IF(CMS_Identification!B472=\"\",\"\",CMS_Identification!B472)","v":""},{"$f":"IF(CMS_Identification!#REF!=\"\",\"\",CMS_Identification!#REF!)","v":{"$error":"#REF!"}}]
[null,null,{"$f":"IF(CMS_Identification!B473=\"\",\"\",CMS_Identification!B473)","v":""},{"$f":"IF(CMS_Identification!#REF!=\"\",\"\",CMS_Identification!#REF!)","v":{"$error":"#REF!"}}]
[null,null,{"$f":"IF(CMS_Identification!B474=\"\",\"\",CMS_Identification!B474)","v":""},{"$f":"IF(CMS_Identification!#REF!=\"\",\"\",CMS_Identification!#REF!)","v":{"$error":"#REF!"}}]
[null,null,{"$f":"IF(CMS_Identification!B475=\"\",\"\",CMS_Identification!B475)","v":""},{"$f":"IF(CMS_Identification!#REF!=\"\",\"\",CMS_Identification!#REF!)","v":{"$error":"#REF!"}}]
[null,null,{"$f":"IF(CMS_Identification!B476=\"\",\"\",CMS_Identification!B476)","v":""},{"$f":"IF(CMS_Identification!#REF!=\"\",\"\",CMS_Identification!#REF!)","v":{"$error":"#REF!"}}]
[null,null,{"$f":"IF(CMS_Identification!B477=\"\",\"\",CMS_Identification!B477)","v":""},{"$f":"IF(CMS_Identification!#REF!=\"\",\"\",CMS_Identification!#REF!)","v":{"$error":"#REF!"}}]
[null,null,{"$f":"IF(CMS_Identification!B478=\"\",\"\",CMS_Identification!B478)","v":""},{"$f":"IF(CMS_Identification!#REF!=\"\",\"\",CMS_Identification!#REF!)","v":{"$error":"#REF!"}}]
[null,null,{"$f":"IF(CMS_Identification!B479=\"\",\"\",CMS_Identification!B479)","v":""},{"$f":"IF(CMS_Identification!#REF!=\"\",\"\",CMS_Identification!#REF!)","v":{"$error":"#REF!"}}]
[null,null,{"$f":"IF(CMS_Identification!B480=\"\",\"\",CMS_Identification!B480)","v":""},{"$f":"IF(CMS_Identification!#REF!=\"\",\"\",CMS_Identification!#REF!)","v":{"$error":"#REF!"}}]
[null,null,{"$f":"IF(CMS_Identification!B481=\"\",\"\",CMS_Identification!B481)","v":""},{"$f":"IF(CMS_Identification!#REF!=\"\",\"\",CMS_Identification!#REF!)","v":{"$error":"#REF!"}}]
[null,null,{"$f":"IF(CMS_Identification!B482=\"\",\"\",CMS_Identification!B482)","v":""},{"$f":"IF(CMS_Identification!#REF!=\"\",\"\",CMS_Identification!#REF!)","v":{"$error":"#REF!"}}]
[null,null,{"$f":"IF(CMS_Identification!B483=\"\",\"\",CMS_Identification!B483)","v":""},{"$f":"IF(CMS_Identification!#REF!=\"\",\"\",CMS_Identification!#REF!)","v":{"$error":"#REF!"}}]
[null,null,{"$f":"IF(CMS_Identification!B484=\"\",\"\",CMS_Identification!B484)","v":""},{"$f":"IF(CMS_Identification!#REF!=\"\",\"\",CMS_Identification!#REF!)","v":{"$error":"#REF!"}}]
[null,null,{"$f":"IF(CMS_Identification!B485=\"\",\"\",CMS_Identification!B485)","v":""},{"$f":"IF(CMS_Identification!#REF!=\"\",\"\",CMS_Identification!#REF!)","v":{"$error":"#REF!"}}]
[null,null,{"$f":"IF(CMS_Identification!B486=\"\",\"\",CMS_Identification!B486)","v":""},{"$f":"IF(CMS_Identification!#REF!=\"\",\"\",CMS_Identification!#REF!)","v":{"$error":"#REF!"}}]
[null,null,{"$f":"IF(CMS_Identification!B487=\"\",\"\",CMS_Identification!B487)","v":""},{"$f":"IF(CMS_Identification!#REF!=\"\",\"\",CMS_Identification!#REF!)","v":{"$error":"#REF!"}}]
[null,null,{"$f":"IF(CMS_Identification!B488=\"\",\"\",CMS_Identification!B488)","v":""},{"$f":"IF(CMS_Identification!#REF!=\"\",\"\",CMS_Identification!#REF!)","v":{"$error":"#REF!"}}]
[null,null,{"$f":"IF(CMS_Identification!B489=\"\",\"\",CMS_Identification!B489)","v":""},{"$f":"IF(CMS_Identification!#REF!=\"\",\"\",CMS_Identification!#REF!)","v":{"$error":"#REF!"}}]
[null,null,{"$f":"IF(CMS_Identification!B490=\"\",\"\",CMS_Identification!B490)","v":""},{"$f":"IF(CMS_Identification!#REF!=\"\",\"\",CMS_Identification!#REF!)","v":{"$error":"#REF!"}}]
[null,null,{"$f":"IF(CMS_Identification!B491=\"\",\"\",CMS_Identification!B491)","v":""},{"$f":"IF(CMS_Identification!#REF!=\"\",\"\",CMS_Identification!#REF!)","v":{"$error":"#REF!"}}]
[null,null,{"$f":"IF(CMS_Identification!B492=\"\",\"\",CMS_Identification!B492)","v":""},{"$f":"IF(CMS_Identification!#REF!=\"\",\"\",CMS_Identification!#REF!)","v":{"$error":"#REF!"}}]
[null,null,{"$f":"IF(CMS_Identification!B493=\"\",\"\",CMS_Identification!B493)","v":""},{"$f":"IF(CMS_Identification!#REF!=\"\",\"\",CMS_Identification!#REF!)","v":{"$error":"#REF!"}}]
[null,null,{"$f":"IF(CMS_Identification!B494=\"\",\"\",CMS_Identification!B494)","v":""},{"$f":"IF(CMS_Identification!#REF!=\"\",\"\",CMS_Identification!#REF!)","v":{"$error":"#REF!"}}]
[null,null,{"$f":"IF(CMS_Identification!B495=\"\",\"\",CMS_Identification!B495)","v":""},{"$f":"IF(CMS_Identification!#REF!=\"\",\"\",CMS_Identification!#REF!)","v":{"$error":"#REF!"}}]
[null,null,{"$f":"IF(CMS_Identification!B496=\"\",\"\",CMS_Identification!B496)","v":""},{"$f":"IF(CMS_Identification!#REF!=\"\",\"\",CMS_Identification!#REF!)","v":{"$error":"#REF!"}}]
[null,null,{"$f":"IF(CMS_Identification!B497=\"\",\"\",CMS_Identification!B497)","v":""},{"$f":"IF(CMS_Identification!#REF!=\"\",\"\",CMS_Identification!#REF!)","v":{"$error":"#REF!"}}]
[null,null,{"$f":"IF(CMS_Identification!B498=\"\",\"\",CMS_Identification!B498)","v":""},{"$f":"IF(CMS_Identification!#REF!=\"\",\"\",CMS_Identification!#REF!)","v":{"$error":"#REF!"}}]
[null,null,{"$f":"IF(CMS_Identification!B499=\"\",\"\",CMS_Identification!B499)","v":""},{"$f":"IF(CMS_Identification!#REF!=\"\",\"\",CMS_Identification!#REF!)","v":{"$error":"#REF!"}}]
[null,null,{"$f":"IF(CMS_Identification!B500=\"\",\"\",CMS_Identification!B500)","v":""},{"$f":"IF(CMS_Identification!#REF!=\"\",\"\",CMS_Identification!#REF!)","v":{"$error":"#REF!"}}]
[null,null,{"$f":"IF(CMS_Identification!B501=\"\",\"\",CMS_Identification!B501)","v":""},{"$f":"IF(CMS_Identification!#REF!=\"\",\"\",CMS_Identification!#REF!)","v":{"$error":"#REF!"}}]
[null,null,{"$f":"IF(CMS_Identification!B502=\"\",\"\",CMS_Identification!B502)","v":""},{"$f":"IF(CMS_Identification!#REF!=\"\",\"\",CMS_Identification!#REF!)","v":{"$error":"#REF!"}}]
[null,null,{"$f":"IF(CMS_Identification!B503=\"\",\"\",CMS_Identification!B503)","v":""},{"$f":"IF(CMS_Identification!#REF!=\"\",\"\",CMS_Identification!#REF!)","v":{"$error":"#REF!"}}]
[null,null,{"$f":"IF(CMS_Identification!B504=\"\",\"\",CMS_Identification!B504)","v":""},{"$f":"IF(CMS_Identification!#REF!=\"\",\"\",CMS_Identification!#REF!)","v":{"$error":"#REF!"}}]
[{"$f":"IF(CMS_Identification!#REF!=\"\",\"\",CMS_Identification!#REF!)","v":{"$error":"#REF!"}},null,{"$f":"IF(CMS_Identification!B505=\"\",\"\",CMS_Identification!B505)","v":""},{"$f":"IF(CMS_Identification!#REF!=\"\",\"\",CMS_Identification!#REF!)","v":{"$error":"#REF!"}}]
[null,null,{"$f":"IF(CMS_Identification!B506=\"\",\"\",CMS_Identification!B506)","v":""},{"$f":"IF(CMS_Identification!#REF!=\"\",\"\",CMS_Identification!#REF!)","v":{"$error":"#REF!"}}]
[null,null,{"$f":"IF(CMS_Identification!B507=\"\",\"\",CMS_Identification!B507)","v":""},{"$f":"IF(CMS_Identification!#REF!=\"\",\"\",CMS_Identification!#REF!)","v":{"$error":"#REF!"}}]
[null,null,{"$f":"IF(CMS_Identification!B508=\"\",\"\",CMS_Identification!B508)","v":""},{"$f":"IF(CMS_Identification!#REF!=\"\",\"\",CMS_Identification!#REF!)","v":{"$error":"#REF!"}}]
[null,null,{"$f":"IF(CMS_Identification!B509=\"\",\"\",CMS_Identification!B509)","v":""},{"$f":"IF(CMS_Identification!#REF!=\"\",\"\",CMS_Identification!#REF!)","v":{"$error":"#REF!"}}]
[null,null,{"$f":"IF(CMS_Identification!B510=\"\",\"\",CMS_Identification!B510)","v":""},{"$f":"IF(CMS_Identification!#REF!=\"\",\"\",CMS_Identification!#REF!)","v":{"$error":"#REF!"}}]
[null,null,{"$f":"IF(CMS_Identification!B511=\"\",\"\",CMS_Identification!B511)","v":""},{"$f":"IF(CMS_Identification!#REF!=\"\",\"\",CMS_Identification!#REF!)","v":{"$error":"#REF!"}}]
[null,null,{"$f":"IF(CMS_Identification!B512=\"\",\"\",CMS_Identification!B512)","v":""},{"$f":"IF(CMS_Identification!#REF!=\"\",\"\",CMS_Identification!#REF!)","v":{"$error":"#REF!"}}]
[null,null,{"$f":"IF(CMS_Identification!B513=\"\",\"\",CMS_Identification!B513)","v":""},{"$f":"IF(CMS_Identification!#REF!=\"\",\"\",CMS_Identification!#REF!)","v":{"$error":"#REF!"}}]
[null,null,{"$f":"IF(CMS_Identification!B514=\"\",\"\",CMS_Identification!B514)","v":""},{"$f":"IF(CMS_Identification!#REF!=\"\",\"\",CMS_Identification!#REF!)","v":{"$error":"#REF!"}}]
[null,null,{"$f":"IF(CMS_Identification!B515=\"\",\"\",CMS_Identification!B515)","v":""},{"$f":"IF(CMS_Identification!#REF!=\"\",\"\",CMS_Identification!#REF!)","v":{"$error":"#REF!"}}]
[null,null,{"$f":"IF(CMS_Identification!B516=\"\",\"\",CMS_Identification!B516)","v":""},{"$f":"IF(CMS_Identification!#REF!=\"\",\"\",CMS_Identification!#REF!)","v":{"$error":"#REF!"}}]
[null,null,{"$f":"IF(CMS_Identification!B517=\"\",\"\",CMS_Identification!B517)","v":""},{"$f":"IF(CMS_Identification!#REF!=\"\",\"\",CMS_Identification!#REF!)","v":{"$error":"#REF!"}}]
[null,null,{"$f":"IF(CMS_Identification!B518=\"\",\"\",CMS_Identification!B518)","v":""},{"$f":"IF(CMS_Identification!#REF!=\"\",\"\",CMS_Identification!#REF!)","v":{"$error":"#REF!"}}]
[null,null,{"$f":"IF(CMS_Identification!B519=\"\",\"\",CMS_Identification!B519)","v":""},{"$f":"IF(CMS_Identification!#REF!=\"\",\"\",CMS_Identification!#REF!)","v":{"$error":"#REF!"}}]
[null,null,{"$f":"IF(CMS_Identification!B520=\"\",\"\",CMS_Identification!B520)","v":""},{"$f":"IF(CMS_Identification!#REF!=\"\",\"\",CMS_Identification!#REF!)","v":{"$error":"#REF!"}}]
[null,null,{"$f":"IF(CMS_Identification!B521=\"\",\"\",CMS_Identification!B521)","v":""},{"$f":"IF(CMS_Identification!#REF!=\"\",\"\",CMS_Identification!#REF!)","v":{"$error":"#REF!"}}]
[null,null,{"$f":"IF(CMS_Identification!B522=\"\",\"\",CMS_Identification!B522)","v":""},{"$f":"IF(CMS_Identification!#REF!=\"\",\"\",CMS_Identification!#REF!)","v":{"$error":"#REF!"}}]

{"sheet":"CMS_Identification","index":6,"n_rows":100,"n_cols":9,"rows_kept":100,"cut":false,"hidden":false,"merged":[]}
[null,"DO NOT REMOVE OR EDIT INFORMATION IN ROWS 1 THROUGH 5\nFOR INTERNAL USE ONLY"]
[null,"Template Name"]
[null,"CitationID"]
[null,"Template Version"]
[null,"Last Updated Date"]
[]
[null,"40 CFR Part 63, Subpart JJJJ National Emission Standards for Hazardous Air Pollutants: Paper and Other Web Coating - §63.3400 Semiannual Compliance Report Spreadsheet Template"]
[]
[]
[]
[]
[null,"Company Record No.\n(Autocompleted)","Control ID \n(Autocompleted)","Control Device Identification\n(Select from Dropdown)","Control Device\nOperating Time (hours)\n(§63.3400(c)(2)(vi)(A))","Type of CMS\n(§63.3400(c)(2)(vi)) \n(Select from Dropdown)","Brief Description of CMS\n(§63.3400(c)(2)(vi))","Date of Latest CEMS\nand CPMS Certification or Audit\n(§63.3400(c)(2)(vi)(I))","Description of any changes in CEMS, CPMS, or controls since the last reporting period\n(§63.3400(c)(2)(vi)(J))"]
[null,"RecordId","WebcoatID","RecordAndWebcoat","OpScenarioOpTime","CmsType","CmsDescrip","CmsCert","CmsChangesDesc"]
[null,"e.g.: 1","e.g.: RTO1","e.g.: Line 1","e.g.: 4300 ","e.g.: CEMS - Continuous Emission Monitoring System","e.g.: Inlet Model XX THC Analyzer","e.g.: 2/2/2017","e.g.: Replaced pump in THC analyzer"]
[null,"e.g.: 1","e.g.: SRS2","e.g.: Line 1","e.g.: 4300 ","e.g.: CPMS - Continuous Parameter Monitoring System","e.g.: Thermal Oxidizer Combustion Chamber Thermocouple","e.g.: 2/2/2017","e.g.: Replaced thermocouple"]
[null,"e.g.:","e.g.:","e.g.:","e.g.:","e.g.:","e.g.:","e.g.:","e.g.:"]
[null,"e.g.:","e.g.:","e.g.:","e.g.:","e.g.:","e.g.:","e.g.:","e.g.:"]
[null,"e.g.:","e.g.:","e.g.:","e.g.:","e.g.:","e.g.:","e.g.:","e.g.:"]
[null,"e.g.:","e.g.:","e.g.:","e.g.:","e.g.:","e.g.:","e.g.:","e.g.:"]
[null,"e.g.:","e.g.:","e.g.:","e.g.:","e.g.:","e.g.:","e.g.:","e.g.:"]
[null,"e.g.:","e.g.:","e.g.:","e.g.:","e.g.:","e.g.:","e.g.:","e.g.:"]
[null,"e.g.:","e.g.:","e.g.:","e.g.:","e.g.:","e.g.:","e.g.:","e.g.:"]
[null,"e.g.:","e.g.:","e.g.:","e.g.:","e.g.:","e.g.:","e.g.:","e.g.:"]
[null,{"$f":"IF(D24=\"\",\"\",VLOOKUP($D24,List_Controls!$I$3:$L$79,2,FALSE))","v":""},{"$f":"IF(D24=\"\",\"\",VLOOKUP($D24,List_Controls!$I$3:$L$79,3,FALSE))","v":""}]
[null,{"$f":"IF(D25=\"\",\"\",VLOOKUP($D25,List_Controls!$I$3:$L$79,2,FALSE))","v":""},{"$f":"IF(D25=\"\",\"\",VLOOKUP($D25,List_Controls!$I$3:$L$79,3,FALSE))","v":""}]
[null,{"$f":"IF(D26=\"\",\"\",VLOOKUP($D26,List_Controls!$I$3:$L$79,2,FALSE))","v":""},{"$f":"IF(D26=\"\",\"\",VLOOKUP($D26,List_Controls!$I$3:$L$79,3,FALSE))","v":""}]
[null,{"$f":"IF(D27=\"\",\"\",VLOOKUP($D27,List_Controls!$I$3:$L$79,2,FALSE))","v":""},{"$f":"IF(D27=\"\",\"\",VLOOKUP($D27,List_Controls!$I$3:$L$79,3,FALSE))","v":""}]
[null,{"$f":"IF(D28=\"\",\"\",VLOOKUP($D28,List_Controls!$I$3:$L$79,2,FALSE))","v":""},{"$f":"IF(D28=\"\",\"\",VLOOKUP($D28,List_Controls!$I$3:$L$79,3,FALSE))","v":""}]
[null,{"$f":"IF(D29=\"\",\"\",VLOOKUP($D29,List_Controls!$I$3:$L$79,2,FALSE))","v":""},{"$f":"IF(D29=\"\",\"\",VLOOKUP($D29,List_Controls!$I$3:$L$79,3,FALSE))","v":""}]
[null,{"$f":"IF(D30=\"\",\"\",VLOOKUP($D30,List_Controls!$I$3:$L$79,2,FALSE))","v":""},{"$f":"IF(D30=\"\",\"\",VLOOKUP($D30,List_Controls!$I$3:$L$79,3,FALSE))","v":""}]
[null,{"$f":"IF(D31=\"\",\"\",VLOOKUP($D31,List_Controls!$I$3:$L$79,2,FALSE))","v":""},{"$f":"IF(D31=\"\",\"\",VLOOKUP($D31,List_Controls!$I$3:$L$79,3,FALSE))","v":""}]
[null,{"$f":"IF(D32=\"\",\"\",VLOOKUP($D32,List_Controls!$I$3:$L$79,2,FALSE))","v":""},{"$f":"IF(D32=\"\",\"\",VLOOKUP($D32,List_Controls!$I$3:$L$79,3,FALSE))","v":""}]
[null,{"$f":"IF(D33=\"\",\"\",VLOOKUP($D33,List_Controls!$I$3:$L$79,2,FALSE))","v":""},{"$f":"IF(D33=\"\",\"\",VLOOKUP($D33,List_Controls!$I$3:$L$79,3,FALSE))","v":""}]
[null,{"$f":"IF(D34=\"\",\"\",VLOOKUP($D34,List_Controls!$I$3:$L$79,2,FALSE))","v":""},{"$f":"IF(D34=\"\",\"\",VLOOKUP($D34,List_Controls!$I$3:$L$79,3,FALSE))","v":""}]
[null,{"$f":"IF(D35=\"\",\"\",VLOOKUP($D35,List_Controls!$I$3:$L$79,2,FALSE))","v":""},{"$f":"IF(D35=\"\",\"\",VLOOKUP($D35,List_Controls!$I$3:$L$79,3,FALSE))","v":""}]
[null,{"$f":"IF(D36=\"\",\"\",VLOOKUP($D36,List_Controls!$I$3:$L$79,2,FALSE))","v":""},{"$f":"IF(D36=\"\",\"\",VLOOKUP($D36,List_Controls!$I$3:$L$79,3,FALSE))","v":""}]
[null,{"$f":"IF(D37=\"\",\"\",VLOOKUP($D37,List_Controls!$I$3:$L$79,2,FALSE))","v":""},{"$f":"IF(D37=\"\",\"\",VLOOKUP($D37,List_Controls!$I$3:$L$79,3,FALSE))","v":""}]
[null,{"$f":"IF(D38=\"\",\"\",VLOOKUP($D38,List_Controls!$I$3:$L$79,2,FALSE))","v":""},{"$f":"IF(D38=\"\",\"\",VLOOKUP($D38,List_Controls!$I$3:$L$79,3,FALSE))","v":""}]
[null,{"$f":"IF(D39=\"\",\"\",VLOOKUP($D39,List_Controls!$I$3:$L$79,2,FALSE))","v":""},{"$f":"IF(D39=\"\",\"\",VLOOKUP($D39,List_Controls!$I$3:$L$79,3,FALSE))","v":""}]
[null,{"$f":"IF(D40=\"\",\"\",VLOOKUP($D40,List_Controls!$I$3:$L$79,2,FALSE))","v":""},{"$f":"IF(D40=\"\",\"\",VLOOKUP($D40,List_Controls!$I$3:$L$79,3,FALSE))","v":""}]
[null,{"$f":"IF(D41=\"\",\"\",VLOOKUP($D41,List_Controls!$I$3:$L$79,2,FALSE))","v":""},{"$f":"IF(D41=\"\",\"\",VLOOKUP($D41,List_Controls!$I$3:$L$79,3,FALSE))","v":""}]
[null,{"$f":"IF(D42=\"\",\"\",VLOOKUP($D42,List_Controls!$I$3:$L$79,2,FALSE))","v":""},{"$f":"IF(D42=\"\",\"\",VLOOKUP($D42,List_Controls!$I$3:$L$79,3,FALSE))","v":""}]
[null,{"$f":"IF(D43=\"\",\"\",VLOOKUP($D43,List_Controls!$I$3:$L$79,2,FALSE))","v":""},{"$f":"IF(D43=\"\",\"\",VLOOKUP($D43,List_Controls!$I$3:$L$79,3,FALSE))","v":""}]
[null,{"$f":"IF(D44=\"\",\"\",VLOOKUP($D44,List_Controls!$I$3:$L$79,2,FALSE))","v":""},{"$f":"IF(D44=\"\",\"\",VLOOKUP($D44,List_Controls!$I$3:$L$79,3,FALSE))","v":""}]
[null,{"$f":"IF(D45=\"\",\"\",VLOOKUP($D45,List_Controls!$I$3:$L$79,2,FALSE))","v":""},{"$f":"IF(D45=\"\",\"\",VLOOKUP($D45,List_Controls!$I$3:$L$79,3,FALSE))","v":""}]
[null,{"$f":"IF(D46=\"\",\"\",VLOOKUP($D46,List_Controls!$I$3:$L$79,2,FALSE))","v":""},{"$f":"IF(D46=\"\",\"\",VLOOKUP($D46,List_Controls!$I$3:$L$79,3,FALSE))","v":""}]
[null,{"$f":"IF(D47=\"\",\"\",VLOOKUP($D47,List_Controls!$I$3:$L$79,2,FALSE))","v":""},{"$f":"IF(D47=\"\",\"\",VLOOKUP($D47,List_Controls!$I$3:$L$79,3,FALSE))","v":""}]
[null,{"$f":"IF(D48=\"\",\"\",VLOOKUP($D48,List_Controls!$I$3:$L$79,2,FALSE))","v":""},{"$f":"IF(D48=\"\",\"\",VLOOKUP($D48,List_Controls!$I$3:$L$79,3,FALSE))","v":""}]
[null,{"$f":"IF(D49=\"\",\"\",VLOOKUP($D49,List_Controls!$I$3:$L$79,2,FALSE))","v":""},{"$f":"IF(D49=\"\",\"\",VLOOKUP($D49,List_Controls!$I$3:$L$79,3,FALSE))","v":""}]
[null,{"$f":"IF(D50=\"\",\"\",VLOOKUP($D50,List_Controls!$I$3:$L$79,2,FALSE))","v":""},{"$f":"IF(D50=\"\",\"\",VLOOKUP($D50,List_Controls!$I$3:$L$79,3,FALSE))","v":""}]
[null,{"$f":"IF(D51=\"\",\"\",VLOOKUP($D51,List_Controls!$I$3:$L$79,2,FALSE))","v":""},{"$f":"IF(D51=\"\",\"\",VLOOKUP($D51,List_Controls!$I$3:$L$79,3,FALSE))","v":""}]
[null,{"$f":"IF(D52=\"\",\"\",VLOOKUP($D52,List_Controls!$I$3:$L$79,2,FALSE))","v":""},{"$f":"IF(D52=\"\",\"\",VLOOKUP($D52,List_Controls!$I$3:$L$79,3,FALSE))","v":""}]
[null,{"$f":"IF(D53=\"\",\"\",VLOOKUP($D53,List_Controls!$I$3:$L$79,2,FALSE))","v":""},{"$f":"IF(D53=\"\",\"\",VLOOKUP($D53,List_Controls!$I$3:$L$79,3,FALSE))","v":""}]
[null,{"$f":"IF(D54=\"\",\"\",VLOOKUP($D54,List_Controls!$I$3:$L$79,2,FALSE))","v":""},{"$f":"IF(D54=\"\",\"\",VLOOKUP($D54,List_Controls!$I$3:$L$79,3,FALSE))","v":""}]
[null,{"$f":"IF(D55=\"\",\"\",VLOOKUP($D55,List_Controls!$I$3:$L$79,2,FALSE))","v":""},{"$f":"IF(D55=\"\",\"\",VLOOKUP($D55,List_Controls!$I$3:$L$79,3,FALSE))","v":""}]
[null,{"$f":"IF(D56=\"\",\"\",VLOOKUP($D56,List_Controls!$I$3:$L$79,2,FALSE))","v":""},{"$f":"IF(D56=\"\",\"\",VLOOKUP($D56,List_Controls!$I$3:$L$79,3,FALSE))","v":""}]
[null,{"$f":"IF(D57=\"\",\"\",VLOOKUP($D57,List_Controls!$I$3:$L$79,2,FALSE))","v":""},{"$f":"IF(D57=\"\",\"\",VLOOKUP($D57,List_Controls!$I$3:$L$79,3,FALSE))","v":""}]
[null,{"$f":"IF(D58=\"\",\"\",VLOOKUP($D58,List_Controls!$I$3:$L$79,2,FALSE))","v":""},{"$f":"IF(D58=\"\",\"\",VLOOKUP($D58,List_Controls!$I$3:$L$79,3,FALSE))","v":""}]
[null,{"$f":"IF(D59=\"\",\"\",VLOOKUP($D59,List_Controls!$I$3:$L$79,2,FALSE))","v":""},{"$f":"IF(D59=\"\",\"\",VLOOKUP($D59,List_Controls!$I$3:$L$79,3,FALSE))","v":""}]
[null,{"$f":"IF(D60=\"\",\"\",VLOOKUP($D60,List_Controls!$I$3:$L$79,2,FALSE))","v":""},{"$f":"IF(D60=\"\",\"\",VLOOKUP($D60,List_Controls!$I$3:$L$79,3,FALSE))","v":""}]
[null,{"$f":"IF(D61=\"\",\"\",VLOOKUP($D61,List_Controls!$I$3:$L$79,2,FALSE))","v":""},{"$f":"IF(D61=\"\",\"\",VLOOKUP($D61,List_Controls!$I$3:$L$79,3,FALSE))","v":""}]
[null,{"$f":"IF(D62=\"\",\"\",VLOOKUP($D62,List_Controls!$I$3:$L$79,2,FALSE))","v":""},{"$f":"IF(D62=\"\",\"\",VLOOKUP($D62,List_Controls!$I$3:$L$79,3,FALSE))","v":""}]
[null,{"$f":"IF(D63=\"\",\"\",VLOOKUP($D63,List_Controls!$I$3:$L$79,2,FALSE))","v":""},{"$f":"IF(D63=\"\",\"\",VLOOKUP($D63,List_Controls!$I$3:$L$79,3,FALSE))","v":""}]
[null,{"$f":"IF(D64=\"\",\"\",VLOOKUP($D64,List_Controls!$I$3:$L$79,2,FALSE))","v":""},{"$f":"IF(D64=\"\",\"\",VLOOKUP($D64,List_Controls!$I$3:$L$79,3,FALSE))","v":""}]
[null,{"$f":"IF(D65=\"\",\"\",VLOOKUP($D65,List_Controls!$I$3:$L$79,2,FALSE))","v":""},{"$f":"IF(D65=\"\",\"\",VLOOKUP($D65,List_Controls!$I$3:$L$79,3,FALSE))","v":""}]
[null,{"$f":"IF(D66=\"\",\"\",VLOOKUP($D66,List_Controls!$I$3:$L$79,2,FALSE))","v":""},{"$f":"IF(D66=\"\",\"\",VLOOKUP($D66,List_Controls!$I$3:$L$79,3,FALSE))","v":""}]
[null,{"$f":"IF(D67=\"\",\"\",VLOOKUP($D67,List_Controls!$I$3:$L$79,2,FALSE))","v":""},{"$f":"IF(D67=\"\",\"\",VLOOKUP($D67,List_Controls!$I$3:$L$79,3,FALSE))","v":""}]
[null,{"$f":"IF(D68=\"\",\"\",VLOOKUP($D68,List_Controls!$I$3:$L$79,2,FALSE))","v":""},{"$f":"IF(D68=\"\",\"\",VLOOKUP($D68,List_Controls!$I$3:$L$79,3,FALSE))","v":""}]
[null,{"$f":"IF(D69=\"\",\"\",VLOOKUP($D69,List_Controls!$I$3:$L$79,2,FALSE))","v":""},{"$f":"IF(D69=\"\",\"\",VLOOKUP($D69,List_Controls!$I$3:$L$79,3,FALSE))","v":""}]
[null,{"$f":"IF(D70=\"\",\"\",VLOOKUP($D70,List_Controls!$I$3:$L$79,2,FALSE))","v":""},{"$f":"IF(D70=\"\",\"\",VLOOKUP($D70,List_Controls!$I$3:$L$79,3,FALSE))","v":""}]
[null,{"$f":"IF(D71=\"\",\"\",VLOOKUP($D71,List_Controls!$I$3:$L$79,2,FALSE))","v":""},{"$f":"IF(D71=\"\",\"\",VLOOKUP($D71,List_Controls!$I$3:$L$79,3,FALSE))","v":""}]
[null,{"$f":"IF(D72=\"\",\"\",VLOOKUP($D72,List_Controls!$I$3:$L$79,2,FALSE))","v":""},{"$f":"IF(D72=\"\",\"\",VLOOKUP($D72,List_Controls!$I$3:$L$79,3,FALSE))","v":""}]
[null,{"$f":"IF(D73=\"\",\"\",VLOOKUP($D73,List_Controls!$I$3:$L$79,2,FALSE))","v":""},{"$f":"IF(D73=\"\",\"\",VLOOKUP($D73,List_Controls!$I$3:$L$79,3,FALSE))","v":""}]
[null,{"$f":"IF(D74=\"\",\"\",VLOOKUP($D74,List_Controls!$I$3:$L$79,2,FALSE))","v":""},{"$f":"IF(D74=\"\",\"\",VLOOKUP($D74,List_Controls!$I$3:$L$79,3,FALSE))","v":""}]
[null,{"$f":"IF(D75=\"\",\"\",VLOOKUP($D75,List_Controls!$I$3:$L$79,2,FALSE))","v":""},{"$f":"IF(D75=\"\",\"\",VLOOKUP($D75,List_Controls!$I$3:$L$79,3,FALSE))","v":""}]
[null,{"$f":"IF(D76=\"\",\"\",VLOOKUP($D76,List_Controls!$I$3:$L$79,2,FALSE))","v":""},{"$f":"IF(D76=\"\",\"\",VLOOKUP($D76,List_Controls!$I$3:$L$79,3,FALSE))","v":""}]
[null,{"$f":"IF(D77=\"\",\"\",VLOOKUP($D77,List_Controls!$I$3:$L$79,2,FALSE))","v":""},{"$f":"IF(D77=\"\",\"\",VLOOKUP($D77,List_Controls!$I$3:$L$79,3,FALSE))","v":""}]
[null,{"$f":"IF(D78=\"\",\"\",VLOOKUP($D78,List_Controls!$I$3:$L$79,2,FALSE))","v":""},{"$f":"IF(D78=\"\",\"\",VLOOKUP($D78,List_Controls!$I$3:$L$79,3,FALSE))","v":""}]
[null,{"$f":"IF(D79=\"\",\"\",VLOOKUP($D79,List_Controls!$I$3:$L$79,2,FALSE))","v":""},{"$f":"IF(D79=\"\",\"\",VLOOKUP($D79,List_Controls!$I$3:$L$79,3,FALSE))","v":""}]
[null,{"$f":"IF(D80=\"\",\"\",VLOOKUP($D80,List_Controls!$I$3:$L$79,2,FALSE))","v":""},{"$f":"IF(D80=\"\",\"\",VLOOKUP($D80,List_Controls!$I$3:$L$79,3,FALSE))","v":""}]
[null,{"$f":"IF(D81=\"\",\"\",VLOOKUP($D81,List_Controls!$I$3:$L$79,2,FALSE))","v":""},{"$f":"IF(D81=\"\",\"\",VLOOKUP($D81,List_Controls!$I$3:$L$79,3,FALSE))","v":""}]
[null,{"$f":"IF(D82=\"\",\"\",VLOOKUP($D82,List_Controls!$I$3:$L$79,2,FALSE))","v":""},{"$f":"IF(D82=\"\",\"\",VLOOKUP($D82,List_Controls!$I$3:$L$79,3,FALSE))","v":""}]
[null,{"$f":"IF(D83=\"\",\"\",VLOOKUP($D83,List_Controls!$I$3:$L$79,2,FALSE))","v":""},{"$f":"IF(D83=\"\",\"\",VLOOKUP($D83,List_Controls!$I$3:$L$79,3,FALSE))","v":""}]
[null,{"$f":"IF(D84=\"\",\"\",VLOOKUP($D84,List_Controls!$I$3:$L$79,2,FALSE))","v":""},{"$f":"IF(D84=\"\",\"\",VLOOKUP($D84,List_Controls!$I$3:$L$79,3,FALSE))","v":""}]
[null,{"$f":"IF(D85=\"\",\"\",VLOOKUP($D85,List_Controls!$I$3:$L$79,2,FALSE))","v":""},{"$f":"IF(D85=\"\",\"\",VLOOKUP($D85,List_Controls!$I$3:$L$79,3,FALSE))","v":""}]
[null,{"$f":"IF(D86=\"\",\"\",VLOOKUP($D86,List_Controls!$I$3:$L$79,2,FALSE))","v":""},{"$f":"IF(D86=\"\",\"\",VLOOKUP($D86,List_Controls!$I$3:$L$79,3,FALSE))","v":""}]
[null,{"$f":"IF(D87=\"\",\"\",VLOOKUP($D87,List_Controls!$I$3:$L$79,2,FALSE))","v":""},{"$f":"IF(D87=\"\",\"\",VLOOKUP($D87,List_Controls!$I$3:$L$79,3,FALSE))","v":""}]
[null,{"$f":"IF(D88=\"\",\"\",VLOOKUP($D88,List_Controls!$I$3:$L$79,2,FALSE))","v":""},{"$f":"IF(D88=\"\",\"\",VLOOKUP($D88,List_Controls!$I$3:$L$79,3,FALSE))","v":""}]
[null,{"$f":"IF(D89=\"\",\"\",VLOOKUP($D89,List_Controls!$I$3:$L$79,2,FALSE))","v":""},{"$f":"IF(D89=\"\",\"\",VLOOKUP($D89,List_Controls!$I$3:$L$79,3,FALSE))","v":""}]
[null,{"$f":"IF(D90=\"\",\"\",VLOOKUP($D90,List_Controls!$I$3:$L$79,2,FALSE))","v":""},{"$f":"IF(D90=\"\",\"\",VLOOKUP($D90,List_Controls!$I$3:$L$79,3,FALSE))","v":""}]
[null,{"$f":"IF(D91=\"\",\"\",VLOOKUP($D91,List_Controls!$I$3:$L$79,2,FALSE))","v":""},{"$f":"IF(D91=\"\",\"\",VLOOKUP($D91,List_Controls!$I$3:$L$79,3,FALSE))","v":""}]
[null,{"$f":"IF(D92=\"\",\"\",VLOOKUP($D92,List_Controls!$I$3:$L$79,2,FALSE))","v":""},{"$f":"IF(D92=\"\",\"\",VLOOKUP($D92,List_Controls!$I$3:$L$79,3,FALSE))","v":""}]
[null,{"$f":"IF(D93=\"\",\"\",VLOOKUP($D93,List_Controls!$I$3:$L$79,2,FALSE))","v":""},{"$f":"IF(D93=\"\",\"\",VLOOKUP($D93,List_Controls!$I$3:$L$79,3,FALSE))","v":""}]
[null,{"$f":"IF(D94=\"\",\"\",VLOOKUP($D94,List_Controls!$I$3:$L$79,2,FALSE))","v":""},{"$f":"IF(D94=\"\",\"\",VLOOKUP($D94,List_Controls!$I$3:$L$79,3,FALSE))","v":""}]
[null,{"$f":"IF(D95=\"\",\"\",VLOOKUP($D95,List_Controls!$I$3:$L$79,2,FALSE))","v":""},{"$f":"IF(D95=\"\",\"\",VLOOKUP($D95,List_Controls!$I$3:$L$79,3,FALSE))","v":""}]
[null,{"$f":"IF(D96=\"\",\"\",VLOOKUP($D96,List_Controls!$I$3:$L$79,2,FALSE))","v":""},{"$f":"IF(D96=\"\",\"\",VLOOKUP($D96,List_Controls!$I$3:$L$79,3,FALSE))","v":""}]
[null,{"$f":"IF(D97=\"\",\"\",VLOOKUP($D97,List_Controls!$I$3:$L$79,2,FALSE))","v":""},{"$f":"IF(D97=\"\",\"\",VLOOKUP($D97,List_Controls!$I$3:$L$79,3,FALSE))","v":""}]
[null,{"$f":"IF(D98=\"\",\"\",VLOOKUP($D98,List_Controls!$I$3:$L$79,2,FALSE))","v":""},{"$f":"IF(D98=\"\",\"\",VLOOKUP($D98,List_Controls!$I$3:$L$79,3,FALSE))","v":""}]
[null,{"$f":"IF(D99=\"\",\"\",VLOOKUP($D99,List_Controls!$I$3:$L$79,2,FALSE))","v":""},{"$f":"IF(D99=\"\",\"\",VLOOKUP($D99,List_Controls!$I$3:$L$79,3,FALSE))","v":""}]
[null,{"$f":"IF(D100=\"\",\"\",VLOOKUP($D100,List_Controls!$I$3:$L$79,2,FALSE))","v":""},{"$f":"IF(D100=\"\",\"\",VLOOKUP($D100,List_Controls!$I$3:$L$79,3,FALSE))","v":""}]

{"sheet":"List_CMS","index":7,"n_rows":79,"n_cols":17,"rows_kept":79,"cut":false,"hidden":true,"merged":[]}
["CMS Sort"]
["Group_Record_Count","Company_Record_No.","Company_Record__No","Control_ID","Operation_Hours","Type_CMS","CMS_Description","CMS_Type_Short","Concat: Control_&_CMS","Remove_Dups_CMS","Record Count","CMSList","Company ID","Control Device","CMS Type","CMS Description","Contol Device Operating Hours"]
[{"$f":"+IF(J3=\"\",\"\",MAX(A$1:A2)+1)","v":""},{"$f":"IF(CMS_Identification!D24=\"\",\"\",CMS_Identification!D24)","v":""},{"$f":"IF(CMS_Identification!D24=\"\",\"\",CMS_Identification!B24)","v":""},{"$f":"IF(CMS_Identification!D24=\"\",\"\",CMS_Identification!C24)","v":""},{"$f":"IF(CMS_Identification!D24=\"\",\"\",CMS_Identification!E24)","v":""},{"$f":"IF(CMS_Identification!D24=\"\",\"\",CMS_Identification!F24)","v":""},{"$f":"IF(CMS_Identification!D24=\"\",\"\",CMS_Identification!G24)","v":""},{"$f":"IF(Table101214[[#This Row],[Type_CMS]]=\"\",\"\",IF(Table101214[[#This Row],[Type_CMS]]=\"CPMS - Continuous Parameter Monitoring System\",\"CPMS\",IF(Table101214[[#This Row],[Type_CMS]]=\"CEMS - Continuous Emission Monitoring System\",\"CEMS\",\"\")))","v":""},{"$f":"IF(Table101214[[#This Row],[CMS_Type_Short]]=\"\",\"\",IF(B3=\"\",\"\",B3&\" - \"&Table101214[[#This Row],[CMS_Description]]))","v":""},{"$f":"IF(COUNTIF(I$2:I3,I3)=1,I3,\"\")","v":""},{"$f":"+IF(L3=\"\",\"\",MAX(K$1:K2)+1)","v":""},{"$f":"+IFERROR(INDEX($J$2:$J$101,MATCH(ROW()-ROW($L$2),$A$2:$A$100,0)),\"\")","v":""},{"$f":"+IFERROR(INDEX($C$2:$C$101,MATCH(ROW()-ROW($L$2),$A$2:$A$100,0)),\"\")","v":""},{"$f":"+IFERROR(INDEX($D$2:$D$101,MATCH(ROW()-ROW($L$2),$A$2:$A$100,0)),\"\")","v":""},{"$f":"+IFERROR(INDEX($F$2:$F$101,MATCH(ROW()-ROW($L$2),$A$2:$A$100,0)),\"\")","v":""},{"$f":"+IFERROR(INDEX($G$2:$G$101,MATCH(ROW()-ROW($L$2),$A$2:$A$100,0)),\"\")","v":""},{"$f":"+IFERROR(INDEX($E$2:$E$101,MATCH(ROW()-ROW($L$2),$A$2:$A$100,0)),\"\")","v":""}]
[{"$f":"+IF(J4=\"\",\"\",MAX(A$1:A3)+1)","v":""},{"$f":"IF(CMS_Identification!D25=\"\",\"\",CMS_Identification!D25)","v":""},{"$f":"IF(CMS_Identification!D25=\"\",\"\",CMS_Identification!B25)","v":""},{"$f":"IF(CMS_Identification!D25=\"\",\"\",CMS_Identification!C25)","v":""},{"$f":"IF(CMS_Identification!D25=\"\",\"\",CMS_Identification!E25)","v":""},{"$f":"IF(CMS_Identification!D25=\"\",\"\",CMS_Identification!F25)","v":""},{"$f":"IF(CMS_Identification!D25=\"\",\"\",CMS_Identification!G25)","v":""},{"$f":"IF(Table101214[[#This Row],[Type_CMS]]=\"\",\"\",IF(Table101214[[#This Row],[Type_CMS]]=\"CPMS - Continuous Parameter Monitoring System\",\"CPMS\",IF(Table101214[[#This Row],[Type_CMS]]=\"CEMS - Continuous Emission Monitoring System\",\"CEMS\",\"\")))","v":""},{"$f":"IF(Table101214[[#This Row],[CMS_Type_Short]]=\"\",\"\",IF(B4=\"\",\"\",B4&\" - \"&Table101214[[#This Row],[CMS_Description]]))","v":""},{"$f":"IF(COUNTIF(I$2:I4,I4)=1,I4,\"\")","v":""},{"$f":"+IF(L4=\"\",\"\",MAX(K$1:K3)+1)","v":""},"","","","","",""]
[{"$f":"+IF(J5=\"\",\"\",MAX(A$1:A4)+1)","v":""},{"$f":"IF(CMS_Identification!D26=\"\",\"\",CMS_Identification!D26)","v":""},{"$f":"IF(CMS_Identification!D26=\"\",\"\",CMS_Identification!B26)","v":""},{"$f":"IF(CMS_Identification!D26=\"\",\"\",CMS_Identification!C26)","v":""},{"$f":"IF(CMS_Identification!D26=\"\",\"\",CMS_Identification!E26)","v":""},{"$f":"IF(CMS_Identification!D26=\"\",\"\",CMS_Identification!F26)","v":""},{"$f":"IF(CMS_Identification!D26=\"\",\"\",CMS_Identification!G26)","v":""},{"$f":"IF(Table101214[[#This Row],[Type_CMS]]=\"\",\"\",IF(Table101214[[#This Row],[Type_CMS]]=\"CPMS - Continuous Parameter Monitoring System\",\"CPMS\",IF(Table101214[[#This Row],[Type_CMS]]=\"CEMS - Continuous Emission Monitoring System\",\"CEMS\",\"\")))","v":""},{"$f":"IF(Table101214[[#This Row],[CMS_Type_Short]]=\"\",\"\",IF(B5=\"\",\"\",B5&\" - \"&Table101214[[#This Row],[CMS_Description]]))","v":""},{"$f":"IF(COUNTIF(I$2:I5,I5)=1,I5,\"\")","v":""},{"$f":"+IF(L5=\"\",\"\",MAX(K$1:K4)+1)","v":""},"","","","","",""]
[{"$f":"+IF(J6=\"\",\"\",MAX(A$1:A5)+1)","v":""},{"$f":"IF(CMS_Identification!D27=\"\",\"\",CMS_Identification!D27)","v":""},{"$f":"IF(CMS_Identification!D27=\"\",\"\",CMS_Identification!B27)","v":""},{"$f":"IF(CMS_Identification!D27=\"\",\"\",CMS_Identification!C27)","v":""},{"$f":"IF(CMS_Identification!D27=\"\",\"\",CMS_Identification!E27)","v":""},{"$f":"IF(CMS_Identification!D27=\"\",\"\",CMS_Identification!F27)","v":""},{"$f":"IF(CMS_Identification!D27=\"\",\"\",CMS_Identification!G27)","v":""},{"$f":"IF(Table101214[[#This Row],[Type_CMS]]=\"\",\"\",IF(Table101214[[#This Row],[Type_CMS]]=\"CPMS - Continuous Parameter Monitoring System\",\"CPMS\",IF(Table101214[[#This Row],[Type_CMS]]=\"CEMS - Continuous Emission Monitoring System\",\"CEMS\",\"\")))","v":""},{"$f":"IF(Table101214[[#This Row],[CMS_Type_Short]]=\"\",\"\",IF(B6=\"\",\"\",B6&\" - \"&Table101214[[#This Row],[CMS_Description]]))","v":""},{"$f":"IF(COUNTIF(I$2:I6,I6)=1,I6,\"\")","v":""},{"$f":"+IF(L6=\"\",\"\",MAX(K$1:K5)+1)","v":""},"","","","","",""]
[{"$f":"+IF(J7=\"\",\"\",MAX(A$1:A6)+1)","v":""},{"$f":"IF(CMS_Identification!D28=\"\",\"\",CMS_Identification!D28)","v":""},{"$f":"IF(CMS_Identification!D28=\"\",\"\",CMS_Identification!B28)","v":""},{"$f":"IF(CMS_Identification!D28=\"\",\"\",CMS_Identification!C28)","v":""},{"$f":"IF(CMS_Identification!D28=\"\",\"\",CMS_Identification!E28)","v":""},{"$f":"IF(CMS_Identification!D28=\"\",\"\",CMS_Identification!F28)","v":""},{"$f":"IF(CMS_Identification!D28=\"\",\"\",CMS_Identification!G28)","v":""},{"$f":"IF(Table101214[[#This Row],[Type_CMS]]=\"\",\"\",IF(Table101214[[#This Row],[Type_CMS]]=\"CPMS - Continuous Parameter Monitoring System\",\"CPMS\",IF(Table101214[[#This Row],[Type_CMS]]=\"CEMS - Continuous Emission Monitoring System\",\"CEMS\",\"\")))","v":""},{"$f":"IF(Table101214[[#This Row],[CMS_Type_Short]]=\"\",\"\",IF(B7=\"\",\"\",B7&\" - \"&Table101214[[#This Row],[CMS_Description]]))","v":""},{"$f":"IF(COUNTIF(I$2:I7,I7)=1,I7,\"\")","v":""},{"$f":"+IF(L7=\"\",\"\",MAX(K$1:K6)+1)","v":""},"","","","","",""]
[{"$f":"+IF(J8=\"\",\"\",MAX(A$1:A7)+1)","v":""},{"$f":"IF(CMS_Identification!D29=\"\",\"\",CMS_Identification!D29)","v":""},{"$f":"IF(CMS_Identification!D29=\"\",\"\",CMS_Identification!B29)","v":""},{"$f":"IF(CMS_Identification!D29=\"\",\"\",CMS_Identification!C29)","v":""},{"$f":"IF(CMS_Identification!D29=\"\",\"\",CMS_Identification!E29)","v":""},{"$f":"IF(CMS_Identification!D29=\"\",\"\",CMS_Identification!F29)","v":""},{"$f":"IF(CMS_Identification!D29=\"\",\"\",CMS_Identification!G29)","v":""},{"$f":"IF(Table101214[[#This Row],[Type_CMS]]=\"\",\"\",IF(Table101214[[#This Row],[Type_CMS]]=\"CPMS - Continuous Parameter Monitoring System\",\"CPMS\",IF(Table101214[[#This Row],[Type_CMS]]=\"CEMS - Continuous Emission Monitoring System\",\"CEMS\",\"\")))","v":""},{"$f":"IF(Table101214[[#This Row],[CMS_Type_Short]]=\"\",\"\",IF(B8=\"\",\"\",B8&\" - \"&Table101214[[#This Row],[CMS_Description]]))","v":""},{"$f":"IF(COUNTIF(I$2:I8,I8)=1,I8,\"\")","v":""},{"$f":"+IF(L8=\"\",\"\",MAX(K$1:K7)+1)","v":""},"","","","","",""]
[{"$f":"+IF(J9=\"\",\"\",MAX(A$1:A8)+1)","v":""},{"$f":"IF(CMS_Identification!D30=\"\",\"\",CMS_Identification!D30)","v":""},{"$f":"IF(CMS_Identification!D30=\"\",\"\",CMS_Identification!B30)","v":""},{"$f":"IF(CMS_Identification!D30=\"\",\"\",CMS_Identification!C30)","v":""},{"$f":"IF(CMS_Identification!D30=\"\",\"\",CMS_Identification!E30)","v":""},{"$f":"IF(CMS_Identification!D30=\"\",\"\",CMS_Identification!F30)","v":""},{"$f":"IF(CMS_Identification!D30=\"\",\"\",CMS_Identification!G30)","v":""},{"$f":"IF(Table101214[[#This Row],[Type_CMS]]=\"\",\"\",IF(Table101214[[#This Row],[Type_CMS]]=\"CPMS - Continuous Parameter Monitoring System\",\"CPMS\",IF(Table101214[[#This Row],[Type_CMS]]=\"CEMS - Continuous Emission Monitoring System\",\"CEMS\",\"\")))","v":""},{"$f":"IF(Table101214[[#This Row],[CMS_Type_Short]]=\"\",\"\",IF(B9=\"\",\"\",B9&\" - \"&Table101214[[#This Row],[CMS_Description]]))","v":""},{"$f":"IF(COUNTIF(I$2:I9,I9)=1,I9,\"\")","v":""},{"$f":"+IF(L9=\"\",\"\",MAX(K$1:K8)+1)","v":""},"","","","","",""]
[{"$f":"+IF(J10=\"\",\"\",MAX(A$1:A9)+1)","v":""},{"$f":"IF(CMS_Identification!D31=\"\",\"\",CMS_Identification!D31)","v":""},{"$f":"IF(CMS_Identification!D31=\"\",\"\",CMS_Identification!B31)","v":""},{"$f":"IF(CMS_Identification!D31=\"\",\"\",CMS_Identification!C31)","v":""},{"$f":"IF(CMS_Identification!D31=\"\",\"\",CMS_Identification!E31)","v":""},{"$f":"IF(CMS_Identification!D31=\"\",\"\",CMS_Identification!F31)","v":""},{"$f":"IF(CMS_Identification!D31=\"\",\"\",CMS_Identification!G31)","v":""},{"$f":"IF(Table101214[[#This Row],[Type_CMS]]=\"\",\"\",IF(Table101214[[#This Row],[Type_CMS]]=\"CPMS - Continuous Parameter Monitoring System\",\"CPMS\",IF(Table101214[[#This Row],[Type_CMS]]=\"CEMS - Continuous Emission Monitoring System\",\"CEMS\",\"\")))","v":""},{"$f":"IF(Table101214[[#This Row],[CMS_Type_Short]]=\"\",\"\",IF(B10=\"\",\"\",B10&\" - \"&Table101214[[#This Row],[CMS_Description]]))","v":""},{"$f":"IF(COUNTIF(I$2:I10,I10)=1,I10,\"\")","v":""},{"$f":"+IF(L10=\"\",\"\",MAX(K$1:K9)+1)","v":""},"","","","","",""]
[{"$f":"+IF(J11=\"\",\"\",MAX(A$1:A10)+1)","v":""},{"$f":"IF(CMS_Identification!D32=\"\",\"\",CMS_Identification!D32)","v":""},{"$f":"IF(CMS_Identification!D32=\"\",\"\",CMS_Identification!B32)","v":""},{"$f":"IF(CMS_Identification!D32=\"\",\"\",CMS_Identification!C32)","v":""},{"$f":"IF(CMS_Identification!D32=\"\",\"\",CMS_Identification!E32)","v":""},{"$f":"IF(CMS_Identification!D32=\"\",\"\",CMS_Identification!F32)","v":""},{"$f":"IF(CMS_Identification!D32=\"\",\"\",CMS_Identification!G32)","v":""},{"$f":"IF(Table101214[[#This Row],[Type_CMS]]=\"\",\"\",IF(Table101214[[#This Row],[Type_CMS]]=\"CPMS - Continuous Parameter Monitoring System\",\"CPMS\",IF(Table101214[[#This Row],[Type_CMS]]=\"CEMS - Continuous Emission Monitoring System\",\"CEMS\",\"\")))","v":""},{"$f":"IF(Table101214[[#This Row],[CMS_Type_Short]]=\"\",\"\",IF(B11=\"\",\"\",B11&\" - \"&Table101214[[#This Row],[CMS_Description]]))","v":""},{"$f":"IF(COUNTIF(I$2:I11,I11)=1,I11,\"\")","v":""},{"$f":"+IF(L11=\"\",\"\",MAX(K$1:K10)+1)","v":""},"","","","","",""]
[{"$f":"+IF(J12=\"\",\"\",MAX(A$1:A11)+1)","v":""},{"$f":"IF(CMS_Identification!D33=\"\",\"\",CMS_Identification!D33)","v":""},{"$f":"IF(CMS_Identification!D33=\"\",\"\",CMS_Identification!B33)","v":""},{"$f":"IF(CMS_Identification!D33=\"\",\"\",CMS_Identification!C33)","v":""},{"$f":"IF(CMS_Identification!D33=\"\",\"\",CMS_Identification!E33)","v":""},{"$f":"IF(CMS_Identification!D33=\"\",\"\",CMS_Identification!F33)","v":""},{"$f":"IF(CMS_Identification!D33=\"\",\"\",CMS_Identification!G33)","v":""},{"$f":"IF(Table101214[[#This Row],[Type_CMS]]=\"\",\"\",IF(Table101214[[#This Row],[Type_CMS]]=\"CPMS - Continuous Parameter Monitoring System\",\"CPMS\",IF(Table101214[[#This Row],[Type_CMS]]=\"CEMS - Continuous Emission Monitoring System\",\"CEMS\",\"\")))","v":""},{"$f":"IF(Table101214[[#This Row],[CMS_Type_Short]]=\"\",\"\",IF(B12=\"\",\"\",B12&\" - \"&Table101214[[#This Row],[CMS_Description]]))","v":""},{"$f":"IF(COUNTIF(I$2:I12,I12)=1,I12,\"\")","v":""},{"$f":"+IF(L12=\"\",\"\",MAX(K$1:K11)+1)","v":""},"","","","","",""]
[{"$f":"+IF(J13=\"\",\"\",MAX(A$1:A12)+1)","v":""},{"$f":"IF(CMS_Identification!D34=\"\",\"\",CMS_Identification!D34)","v":""},{"$f":"IF(CMS_Identification!D34=\"\",\"\",CMS_Identification!B34)","v":""},{"$f":"IF(CMS_Identification!D34=\"\",\"\",CMS_Identification!C34)","v":""},{"$f":"IF(CMS_Identification!D34=\"\",\"\",CMS_Identification!E34)","v":""},{"$f":"IF(CMS_Identification!D34=\"\",\"\",CMS_Identification!F34)","v":""},{"$f":"IF(CMS_Identification!D34=\"\",\"\",CMS_Identification!G34)","v":""},{"$f":"IF(Table101214[[#This Row],[Type_CMS]]=\"\",\"\",IF(Table101214[[#This Row],[Type_CMS]]=\"CPMS - Continuous Parameter Monitoring System\",\"CPMS\",IF(Table101214[[#This Row],[Type_CMS]]=\"CEMS - Continuous Emission Monitoring System\",\"CEMS\",\"\")))","v":""},{"$f":"IF(Table101214[[#This Row],[CMS_Type_Short]]=\"\",\"\",IF(B13=\"\",\"\",B13&\" - \"&Table101214[[#This Row],[CMS_Description]]))","v":""},{"$f":"IF(COUNTIF(I$2:I13,I13)=1,I13,\"\")","v":""},{"$f":"+IF(L13=\"\",\"\",MAX(K$1:K12)+1)","v":""},"","","","","",""]
[{"$f":"+IF(J14=\"\",\"\",MAX(A$1:A13)+1)","v":""},{"$f":"IF(CMS_Identification!D35=\"\",\"\",CMS_Identification!D35)","v":""},{"$f":"IF(CMS_Identification!D35=\"\",\"\",CMS_Identification!B35)","v":""},{"$f":"IF(CMS_Identification!D35=\"\",\"\",CMS_Identification!C35)","v":""},{"$f":"IF(CMS_Identification!D35=\"\",\"\",CMS_Identification!E35)","v":""},{"$f":"IF(CMS_Identification!D35=\"\",\"\",CMS_Identification!F35)","v":""},{"$f":"IF(CMS_Identification!D35=\"\",\"\",CMS_Identification!G35)","v":""},{"$f":"IF(Table101214[[#This Row],[Type_CMS]]=\"\",\"\",IF(Table101214[[#This Row],[Type_CMS]]=\"CPMS - Continuous Parameter Monitoring System\",\"CPMS\",IF(Table101214[[#This Row],[Type_CMS]]=\"CEMS - Continuous Emission Monitoring System\",\"CEMS\",\"\")))","v":""},{"$f":"IF(Table101214[[#This Row],[CMS_Type_Short]]=\"\",\"\",IF(B14=\"\",\"\",B14&\" - \"&Table101214[[#This Row],[CMS_Description]]))","v":""},{"$f":"IF(COUNTIF(I$2:I14,I14)=1,I14,\"\")","v":""},{"$f":"+IF(L14=\"\",\"\",MAX(K$1:K13)+1)","v":""},"","","","","",""]
[{"$f":"+IF(J15=\"\",\"\",MAX(A$1:A14)+1)","v":""},{"$f":"IF(CMS_Identification!D36=\"\",\"\",CMS_Identification!D36)","v":""},{"$f":"IF(CMS_Identification!D36=\"\",\"\",CMS_Identification!B36)","v":""},{"$f":"IF(CMS_Identification!D36=\"\",\"\",CMS_Identification!C36)","v":""},{"$f":"IF(CMS_Identification!D36=\"\",\"\",CMS_Identification!E36)","v":""},{"$f":"IF(CMS_Identification!D36=\"\",\"\",CMS_Identification!F36)","v":""},{"$f":"IF(CMS_Identification!D36=\"\",\"\",CMS_Identification!G36)","v":""},{"$f":"IF(Table101214[[#This Row],[Type_CMS]]=\"\",\"\",IF(Table101214[[#This Row],[Type_CMS]]=\"CPMS - Continuous Parameter Monitoring System\",\"CPMS\",IF(Table101214[[#This Row],[Type_CMS]]=\"CEMS - Continuous Emission Monitoring System\",\"CEMS\",\"\")))","v":""},{"$f":"IF(Table101214[[#This Row],[CMS_Type_Short]]=\"\",\"\",IF(B15=\"\",\"\",B15&\" - \"&Table101214[[#This Row],[CMS_Description]]))","v":""},{"$f":"IF(COUNTIF(I$2:I15,I15)=1,I15,\"\")","v":""},{"$f":"+IF(L15=\"\",\"\",MAX(K$1:K14)+1)","v":""},"","","","","",""]
[{"$f":"+IF(J16=\"\",\"\",MAX(A$1:A15)+1)","v":""},{"$f":"IF(CMS_Identification!D37=\"\",\"\",CMS_Identification!D37)","v":""},{"$f":"IF(CMS_Identification!D37=\"\",\"\",CMS_Identification!B37)","v":""},{"$f":"IF(CMS_Identification!D37=\"\",\"\",CMS_Identification!C37)","v":""},{"$f":"IF(CMS_Identification!D37=\"\",\"\",CMS_Identification!E37)","v":""},{"$f":"IF(CMS_Identification!D37=\"\",\"\",CMS_Identification!F37)","v":""},{"$f":"IF(CMS_Identification!D37=\"\",\"\",CMS_Identification!G37)","v":""},{"$f":"IF(Table101214[[#This Row],[Type_CMS]]=\"\",\"\",IF(Table101214[[#This Row],[Type_CMS]]=\"CPMS - Continuous Parameter Monitoring System\",\"CPMS\",IF(Table101214[[#This Row],[Type_CMS]]=\"CEMS - Continuous Emission Monitoring System\",\"CEMS\",\"\")))","v":""},{"$f":"IF(Table101214[[#This Row],[CMS_Type_Short]]=\"\",\"\",IF(B16=\"\",\"\",B16&\" - \"&Table101214[[#This Row],[CMS_Description]]))","v":""},{"$f":"IF(COUNTIF(I$2:I16,I16)=1,I16,\"\")","v":""},{"$f":"+IF(L16=\"\",\"\",MAX(K$1:K15)+1)","v":""},"","","","","",""]
[{"$f":"+IF(J17=\"\",\"\",MAX(A$1:A16)+1)","v":""},{"$f":"IF(CMS_Identification!D38=\"\",\"\",CMS_Identification!D38)","v":""},{"$f":"IF(CMS_Identification!D38=\"\",\"\",CMS_Identification!B38)","v":""},{"$f":"IF(CMS_Identification!D38=\"\",\"\",CMS_Identification!C38)","v":""},{"$f":"IF(CMS_Identification!D38=\"\",\"\",CMS_Identification!E38)","v":""},{"$f":"IF(CMS_Identification!D38=\"\",\"\",CMS_Identification!F38)","v":""},{"$f":"IF(CMS_Identification!D38=\"\",\"\",CMS_Identification!G38)","v":""},{"$f":"IF(Table101214[[#This Row],[Type_CMS]]=\"\",\"\",IF(Table101214[[#This Row],[Type_CMS]]=\"CPMS - Continuous Parameter Monitoring System\",\"CPMS\",IF(Table101214[[#This Row],[Type_CMS]]=\"CEMS - Continuous Emission Monitoring System\",\"CEMS\",\"\")))","v":""},{"$f":"IF(Table101214[[#This Row],[CMS_Type_Short]]=\"\",\"\",IF(B17=\"\",\"\",B17&\" - \"&Table101214[[#This Row],[CMS_Description]]))","v":""},{"$f":"IF(COUNTIF(I$2:I17,I17)=1,I17,\"\")","v":""},{"$f":"+IF(L17=\"\",\"\",MAX(K$1:K16)+1)","v":""},"","","","","",""]
[{"$f":"+IF(J18=\"\",\"\",MAX(A$1:A17)+1)","v":""},{"$f":"IF(CMS_Identification!D39=\"\",\"\",CMS_Identification!D39)","v":""},{"$f":"IF(CMS_Identification!D39=\"\",\"\",CMS_Identification!B39)","v":""},{"$f":"IF(CMS_Identification!D39=\"\",\"\",CMS_Identification!C39)","v":""},{"$f":"IF(CMS_Identification!D39=\"\",\"\",CMS_Identification!E39)","v":""},{"$f":"IF(CMS_Identification!D39=\"\",\"\",CMS_Identification!F39)","v":""},{"$f":"IF(CMS_Identification!D39=\"\",\"\",CMS_Identification!G39)","v":""},{"$f":"IF(Table101214[[#This Row],[Type_CMS]]=\"\",\"\",IF(Table101214[[#This Row],[Type_CMS]]=\"CPMS - Continuous Parameter Monitoring System\",\"CPMS\",IF(Table101214[[#This Row],[Type_CMS]]=\"CEMS - Continuous Emission Monitoring System\",\"CEMS\",\"\")))","v":""},{"$f":"IF(Table101214[[#This Row],[CMS_Type_Short]]=\"\",\"\",IF(B18=\"\",\"\",B18&\" - \"&Table101214[[#This Row],[CMS_Description]]))","v":""},{"$f":"IF(COUNTIF(I$2:I18,I18)=1,I18,\"\")","v":""},{"$f":"+IF(L18=\"\",\"\",MAX(K$1:K17)+1)","v":""},"","","","","",""]
[{"$f":"+IF(J19=\"\",\"\",MAX(A$1:A18)+1)","v":""},{"$f":"IF(CMS_Identification!D40=\"\",\"\",CMS_Identification!D40)","v":""},{"$f":"IF(CMS_Identification!D40=\"\",\"\",CMS_Identification!B40)","v":""},{"$f":"IF(CMS_Identification!D40=\"\",\"\",CMS_Identification!C40)","v":""},{"$f":"IF(CMS_Identification!D40=\"\",\"\",CMS_Identification!E40)","v":""},{"$f":"IF(CMS_Identification!D40=\"\",\"\",CMS_Identification!F40)","v":""},{"$f":"IF(CMS_Identification!D40=\"\",\"\",CMS_Identification!G40)","v":""},{"$f":"IF(Table101214[[#This Row],[Type_CMS]]=\"\",\"\",IF(Table101214[[#This Row],[Type_CMS]]=\"CPMS - Continuous Parameter Monitoring System\",\"CPMS\",IF(Table101214[[#This Row],[Type_CMS]]=\"CEMS - Continuous Emission Monitoring System\",\"CEMS\",\"\")))","v":""},{"$f":"IF(Table101214[[#This Row],[CMS_Type_Short]]=\"\",\"\",IF(B19=\"\",\"\",B19&\" - \"&Table101214[[#This Row],[CMS_Description]]))","v":""},{"$f":"IF(COUNTIF(I$2:I19,I19)=1,I19,\"\")","v":""},{"$f":"+IF(L19=\"\",\"\",MAX(K$1:K18)+1)","v":""},"","","","","",""]
[{"$f":"+IF(J20=\"\",\"\",MAX(A$1:A19)+1)","v":""},{"$f":"IF(CMS_Identification!D41=\"\",\"\",CMS_Identification!D41)","v":""},{"$f":"IF(CMS_Identification!D41=\"\",\"\",CMS_Identification!B41)","v":""},{"$f":"IF(CMS_Identification!D41=\"\",\"\",CMS_Identification!C41)","v":""},{"$f":"IF(CMS_Identification!D41=\"\",\"\",CMS_Identification!E41)","v":""},{"$f":"IF(CMS_Identification!D41=\"\",\"\",CMS_Identification!F41)","v":""},{"$f":"IF(CMS_Identification!D41=\"\",\"\",CMS_Identification!G41)","v":""},{"$f":"IF(Table101214[[#This Row],[Type_CMS]]=\"\",\"\",IF(Table101214[[#This Row],[Type_CMS]]=\"CPMS - Continuous Parameter Monitoring System\",\"CPMS\",IF(Table101214[[#This Row],[Type_CMS]]=\"CEMS - Continuous Emission Monitoring System\",\"CEMS\",\"\")))","v":""},{"$f":"IF(Table101214[[#This Row],[CMS_Type_Short]]=\"\",\"\",IF(B20=\"\",\"\",B20&\" - \"&Table101214[[#This Row],[CMS_Description]]))","v":""},{"$f":"IF(COUNTIF(I$2:I20,I20)=1,I20,\"\")","v":""},{"$f":"+IF(L20=\"\",\"\",MAX(K$1:K19)+1)","v":""},"","","","","",""]
[{"$f":"+IF(J21=\"\",\"\",MAX(A$1:A20)+1)","v":""},{"$f":"IF(CMS_Identification!D42=\"\",\"\",CMS_Identification!D42)","v":""},{"$f":"IF(CMS_Identification!D42=\"\",\"\",CMS_Identification!B42)","v":""},{"$f":"IF(CMS_Identification!D42=\"\",\"\",CMS_Identification!C42)","v":""},{"$f":"IF(CMS_Identification!D42=\"\",\"\",CMS_Identification!E42)","v":""},{"$f":"IF(CMS_Identification!D42=\"\",\"\",CMS_Identification!F42)","v":""},{"$f":"IF(CMS_Identification!D42=\"\",\"\",CMS_Identification!G42)","v":""},{"$f":"IF(Table101214[[#This Row],[Type_CMS]]=\"\",\"\",IF(Table101214[[#This Row],[Type_CMS]]=\"CPMS - Continuous Parameter Monitoring System\",\"CPMS\",IF(Table101214[[#This Row],[Type_CMS]]=\"CEMS - Continuous Emission Monitoring System\",\"CEMS\",\"\")))","v":""},{"$f":"IF(Table101214[[#This Row],[CMS_Type_Short]]=\"\",\"\",IF(B21=\"\",\"\",B21&\" - \"&Table101214[[#This Row],[CMS_Description]]))","v":""},{"$f":"IF(COUNTIF(I$2:I21,I21)=1,I21,\"\")","v":""},{"$f":"+IF(L21=\"\",\"\",MAX(K$1:K20)+1)","v":""},"","","","","",""]
[{"$f":"+IF(J22=\"\",\"\",MAX(A$1:A21)+1)","v":""},{"$f":"IF(CMS_Identification!D43=\"\",\"\",CMS_Identification!D43)","v":""},{"$f":"IF(CMS_Identification!D43=\"\",\"\",CMS_Identification!B43)","v":""},{"$f":"IF(CMS_Identification!D43=\"\",\"\",CMS_Identification!C43)","v":""},{"$f":"IF(CMS_Identification!D43=\"\",\"\",CMS_Identification!E43)","v":""},{"$f":"IF(CMS_Identification!D43=\"\",\"\",CMS_Identification!F43)","v":""},{"$f":"IF(CMS_Identification!D43=\"\",\"\",CMS_Identification!G43)","v":""},{"$f":"IF(Table101214[[#This Row],[Type_CMS]]=\"\",\"\",IF(Table101214[[#This Row],[Type_CMS]]=\"CPMS - Continuous Parameter Monitoring System\",\"CPMS\",IF(Table101214[[#This Row],[Type_CMS]]=\"CEMS - Continuous Emission Monitoring System\",\"CEMS\",\"\")))","v":""},{"$f":"IF(Table101214[[#This Row],[CMS_Type_Short]]=\"\",\"\",IF(B22=\"\",\"\",B22&\" - \"&Table101214[[#This Row],[CMS_Description]]))","v":""},{"$f":"IF(COUNTIF(I$2:I22,I22)=1,I22,\"\")","v":""},{"$f":"+IF(L22=\"\",\"\",MAX(K$1:K21)+1)","v":""},"","","","","",""]
[{"$f":"+IF(J23=\"\",\"\",MAX(A$1:A22)+1)","v":""},{"$f":"IF(CMS_Identification!D44=\"\",\"\",CMS_Identification!D44)","v":""},{"$f":"IF(CMS_Identification!D44=\"\",\"\",CMS_Identification!B44)","v":""},{"$f":"IF(CMS_Identification!D44=\"\",\"\",CMS_Identification!C44)","v":""},{"$f":"IF(CMS_Identification!D44=\"\",\"\",CMS_Identification!E44)","v":""},{"$f":"IF(CMS_Identification!D44=\"\",\"\",CMS_Identification!F44)","v":""},{"$f":"IF(CMS_Identification!D44=\"\",\"\",CMS_Identification!G44)","v":""},{"$f":"IF(Table101214[[#This Row],[Type_CMS]]=\"\",\"\",IF(Table101214[[#This Row],[Type_CMS]]=\"CPMS - Continuous Parameter Monitoring System\",\"CPMS\",IF(Table101214[[#This Row],[Type_CMS]]=\"CEMS - Continuous Emission Monitoring System\",\"CEMS\",\"\")))","v":""},{"$f":"IF(Table101214[[#This Row],[CMS_Type_Short]]=\"\",\"\",IF(B23=\"\",\"\",B23&\" - \"&Table101214[[#This Row],[CMS_Description]]))","v":""},{"$f":"IF(COUNTIF(I$2:I23,I23)=1,I23,\"\")","v":""},{"$f":"+IF(L23=\"\",\"\",MAX(K$1:K22)+1)","v":""},"","","","","",""]
[{"$f":"+IF(J24=\"\",\"\",MAX(A$1:A23)+1)","v":""},{"$f":"IF(CMS_Identification!D45=\"\",\"\",CMS_Identification!D45)","v":""},{"$f":"IF(CMS_Identification!D45=\"\",\"\",CMS_Identification!B45)","v":""},{"$f":"IF(CMS_Identification!D45=\"\",\"\",CMS_Identification!C45)","v":""},{"$f":"IF(CMS_Identification!D45=\"\",\"\",CMS_Identification!E45)","v":""},{"$f":"IF(CMS_Identification!D45=\"\",\"\",CMS_Identification!F45)","v":""},{"$f":"IF(CMS_Identification!D45=\"\",\"\",CMS_Identification!G45)","v":""},{"$f":"IF(Table101214[[#This Row],[Type_CMS]]=\"\",\"\",IF(Table101214[[#This Row],[Type_CMS]]=\"CPMS - Continuous Parameter Monitoring System\",\"CPMS\",IF(Table101214[[#This Row],[Type_CMS]]=\"CEMS - Continuous Emission Monitoring System\",\"CEMS\",\"\")))","v":""},{"$f":"IF(Table101214[[#This Row],[CMS_Type_Short]]=\"\",\"\",IF(B24=\"\",\"\",B24&\" - \"&Table101214[[#This Row],[CMS_Description]]))","v":""},{"$f":"IF(COUNTIF(I$2:I24,I24)=1,I24,\"\")","v":""},{"$f":"+IF(L24=\"\",\"\",MAX(K$1:K23)+1)","v":""},"","","","","",""]
[{"$f":"+IF(J25=\"\",\"\",MAX(A$1:A24)+1)","v":""},{"$f":"IF(CMS_Identification!D46=\"\",\"\",CMS_Identification!D46)","v":""},{"$f":"IF(CMS_Identification!D46=\"\",\"\",CMS_Identification!B46)","v":""},{"$f":"IF(CMS_Identification!D46=\"\",\"\",CMS_Identification!C46)","v":""},{"$f":"IF(CMS_Identification!D46=\"\",\"\",CMS_Identification!E46)","v":""},{"$f":"IF(CMS_Identification!D46=\"\",\"\",CMS_Identification!F46)","v":""},{"$f":"IF(CMS_Identification!D46=\"\",\"\",CMS_Identification!G46)","v":""},{"$f":"IF(Table101214[[#This Row],[Type_CMS]]=\"\",\"\",IF(Table101214[[#This Row],[Type_CMS]]=\"CPMS - Continuous Parameter Monitoring System\",\"CPMS\",IF(Table101214[[#This Row],[Type_CMS]]=\"CEMS - Continuous Emission Monitoring System\",\"CEMS\",\"\")))","v":""},{"$f":"IF(Table101214[[#This Row],[CMS_Type_Short]]=\"\",\"\",IF(B25=\"\",\"\",B25&\" - \"&Table101214[[#This Row],[CMS_Description]]))","v":""},{"$f":"IF(COUNTIF(I$2:I25,I25)=1,I25,\"\")","v":""},{"$f":"+IF(L25=\"\",\"\",MAX(K$1:K24)+1)","v":""},"","","","","",""]
[{"$f":"+IF(J26=\"\",\"\",MAX(A$1:A25)+1)","v":""},{"$f":"IF(CMS_Identification!D47=\"\",\"\",CMS_Identification!D47)","v":""},{"$f":"IF(CMS_Identification!D47=\"\",\"\",CMS_Identification!B47)","v":""},{"$f":"IF(CMS_Identification!D47=\"\",\"\",CMS_Identification!C47)","v":""},{"$f":"IF(CMS_Identification!D47=\"\",\"\",CMS_Identification!E47)","v":""},{"$f":"IF(CMS_Identification!D47=\"\",\"\",CMS_Identification!F47)","v":""},{"$f":"IF(CMS_Identification!D47=\"\",\"\",CMS_Identification!G47)","v":""},{"$f":"IF(Table101214[[#This Row],[Type_CMS]]=\"\",\"\",IF(Table101214[[#This Row],[Type_CMS]]=\"CPMS - Continuous Parameter Monitoring System\",\"CPMS\",IF(Table101214[[#This Row],[Type_CMS]]=\"CEMS - Continuous Emission Monitoring System\",\"CEMS\",\"\")))","v":""},{"$f":"IF(Table101214[[#This Row],[CMS_Type_Short]]=\"\",\"\",IF(B26=\"\",\"\",B26&\" - \"&Table101214[[#This Row],[CMS_Description]]))","v":""},{"$f":"IF(COUNTIF(I$2:I26,I26)=1,I26,\"\")","v":""},{"$f":"+IF(L26=\"\",\"\",MAX(K$1:K25)+1)","v":""},"","","","","",""]
[{"$f":"+IF(J27=\"\",\"\",MAX(A$1:A26)+1)","v":""},{"$f":"IF(CMS_Identification!D48=\"\",\"\",CMS_Identification!D48)","v":""},{"$f":"IF(CMS_Identification!D48=\"\",\"\",CMS_Identification!B48)","v":""},{"$f":"IF(CMS_Identification!D48=\"\",\"\",CMS_Identification!C48)","v":""},{"$f":"IF(CMS_Identification!D48=\"\",\"\",CMS_Identification!E48)","v":""},{"$f":"IF(CMS_Identification!D48=\"\",\"\",CMS_Identification!F48)","v":""},{"$f":"IF(CMS_Identification!D48=\"\",\"\",CMS_Identification!G48)","v":""},{"$f":"IF(Table101214[[#This Row],[Type_CMS]]=\"\",\"\",IF(Table101214[[#This Row],[Type_CMS]]=\"CPMS - Continuous Parameter Monitoring System\",\"CPMS\",IF(Table101214[[#This Row],[Type_CMS]]=\"CEMS - Continuous Emission Monitoring System\",\"CEMS\",\"\")))","v":""},{"$f":"IF(Table101214[[#This Row],[CMS_Type_Short]]=\"\",\"\",IF(B27=\"\",\"\",B27&\" - \"&Table101214[[#This Row],[CMS_Description]]))","v":""},{"$f":"IF(COUNTIF(I$2:I27,I27)=1,I27,\"\")","v":""},{"$f":"+IF(L27=\"\",\"\",MAX(K$1:K26)+1)","v":""},"","","","","",""]
[{"$f":"+IF(J28=\"\",\"\",MAX(A$1:A27)+1)","v":""},{"$f":"IF(CMS_Identification!D49=\"\",\"\",CMS_Identification!D49)","v":""},{"$f":"IF(CMS_Identification!D49=\"\",\"\",CMS_Identification!B49)","v":""},{"$f":"IF(CMS_Identification!D49=\"\",\"\",CMS_Identification!C49)","v":""},{"$f":"IF(CMS_Identification!D49=\"\",\"\",CMS_Identification!E49)","v":""},{"$f":"IF(CMS_Identification!D49=\"\",\"\",CMS_Identification!F49)","v":""},{"$f":"IF(CMS_Identification!D49=\"\",\"\",CMS_Identification!G49)","v":""},{"$f":"IF(Table101214[[#This Row],[Type_CMS]]=\"\",\"\",IF(Table101214[[#This Row],[Type_CMS]]=\"CPMS - Continuous Parameter Monitoring System\",\"CPMS\",IF(Table101214[[#This Row],[Type_CMS]]=\"CEMS - Continuous Emission Monitoring System\",\"CEMS\",\"\")))","v":""},{"$f":"IF(Table101214[[#This Row],[CMS_Type_Short]]=\"\",\"\",IF(B28=\"\",\"\",B28&\" - \"&Table101214[[#This Row],[CMS_Description]]))","v":""},{"$f":"IF(COUNTIF(I$2:I28,I28)=1,I28,\"\")","v":""},{"$f":"+IF(L28=\"\",\"\",MAX(K$1:K27)+1)","v":""},"","","","","",""]
[{"$f":"+IF(J29=\"\",\"\",MAX(A$1:A28)+1)","v":""},{"$f":"IF(CMS_Identification!D50=\"\",\"\",CMS_Identification!D50)","v":""},{"$f":"IF(CMS_Identification!D50=\"\",\"\",CMS_Identification!B50)","v":""},{"$f":"IF(CMS_Identification!D50=\"\",\"\",CMS_Identification!C50)","v":""},{"$f":"IF(CMS_Identification!D50=\"\",\"\",CMS_Identification!E50)","v":""},{"$f":"IF(CMS_Identification!D50=\"\",\"\",CMS_Identification!F50)","v":""},{"$f":"IF(CMS_Identification!D50=\"\",\"\",CMS_Identification!G50)","v":""},{"$f":"IF(Table101214[[#This Row],[Type_CMS]]=\"\",\"\",IF(Table101214[[#This Row],[Type_CMS]]=\"CPMS - Continuous Parameter Monitoring System\",\"CPMS\",IF(Table101214[[#This Row],[Type_CMS]]=\"CEMS - Continuous Emission Monitoring System\",\"CEMS\",\"\")))","v":""},{"$f":"IF(Table101214[[#This Row],[CMS_Type_Short]]=\"\",\"\",IF(B29=\"\",\"\",B29&\" - \"&Table101214[[#This Row],[CMS_Description]]))","v":""},{"$f":"IF(COUNTIF(I$2:I29,I29)=1,I29,\"\")","v":""},{"$f":"+IF(L29=\"\",\"\",MAX(K$1:K28)+1)","v":""},"","","","","",""]
[{"$f":"+IF(J30=\"\",\"\",MAX(A$1:A29)+1)","v":""},{"$f":"IF(CMS_Identification!D51=\"\",\"\",CMS_Identification!D51)","v":""},{"$f":"IF(CMS_Identification!D51=\"\",\"\",CMS_Identification!B51)","v":""},{"$f":"IF(CMS_Identification!D51=\"\",\"\",CMS_Identification!C51)","v":""},{"$f":"IF(CMS_Identification!D51=\"\",\"\",CMS_Identification!E51)","v":""},{"$f":"IF(CMS_Identification!D51=\"\",\"\",CMS_Identification!F51)","v":""},{"$f":"IF(CMS_Identification!D51=\"\",\"\",CMS_Identification!G51)","v":""},{"$f":"IF(Table101214[[#This Row],[Type_CMS]]=\"\",\"\",IF(Table101214[[#This Row],[Type_CMS]]=\"CPMS - Continuous Parameter Monitoring System\",\"CPMS\",IF(Table101214[[#This Row],[Type_CMS]]=\"CEMS - Continuous Emission Monitoring System\",\"CEMS\",\"\")))","v":""},{"$f":"IF(Table101214[[#This Row],[CMS_Type_Short]]=\"\",\"\",IF(B30=\"\",\"\",B30&\" - \"&Table101214[[#This Row],[CMS_Description]]))","v":""},{"$f":"IF(COUNTIF(I$2:I30,I30)=1,I30,\"\")","v":""},{"$f":"+IF(L30=\"\",\"\",MAX(K$1:K29)+1)","v":""},"","","","","",""]
[{"$f":"+IF(J31=\"\",\"\",MAX(A$1:A30)+1)","v":""},{"$f":"IF(CMS_Identification!D52=\"\",\"\",CMS_Identification!D52)","v":""},{"$f":"IF(CMS_Identification!D52=\"\",\"\",CMS_Identification!B52)","v":""},{"$f":"IF(CMS_Identification!D52=\"\",\"\",CMS_Identification!C52)","v":""},{"$f":"IF(CMS_Identification!D52=\"\",\"\",CMS_Identification!E52)","v":""},{"$f":"IF(CMS_Identification!D52=\"\",\"\",CMS_Identification!F52)","v":""},{"$f":"IF(CMS_Identification!D52=\"\",\"\",CMS_Identification!G52)","v":""},{"$f":"IF(Table101214[[#This Row],[Type_CMS]]=\"\",\"\",IF(Table101214[[#This Row],[Type_CMS]]=\"CPMS - Continuous Parameter Monitoring System\",\"CPMS\",IF(Table101214[[#This Row],[Type_CMS]]=\"CEMS - Continuous Emission Monitoring System\",\"CEMS\",\"\")))","v":""},{"$f":"IF(Table101214[[#This Row],[CMS_Type_Short]]=\"\",\"\",IF(B31=\"\",\"\",B31&\" - \"&Table101214[[#This Row],[CMS_Description]]))","v":""},{"$f":"IF(COUNTIF(I$2:I31,I31)=1,I31,\"\")","v":""},{"$f":"+IF(L31=\"\",\"\",MAX(K$1:K30)+1)","v":""},"","","","","",""]
[{"$f":"+IF(J32=\"\",\"\",MAX(A$1:A31)+1)","v":""},{"$f":"IF(CMS_Identification!D53=\"\",\"\",CMS_Identification!D53)","v":""},{"$f":"IF(CMS_Identification!D53=\"\",\"\",CMS_Identification!B53)","v":""},{"$f":"IF(CMS_Identification!D53=\"\",\"\",CMS_Identification!C53)","v":""},{"$f":"IF(CMS_Identification!D53=\"\",\"\",CMS_Identification!E53)","v":""},{"$f":"IF(CMS_Identification!D53=\"\",\"\",CMS_Identification!F53)","v":""},{"$f":"IF(CMS_Identification!D53=\"\",\"\",CMS_Identification!G53)","v":""},{"$f":"IF(Table101214[[#This Row],[Type_CMS]]=\"\",\"\",IF(Table101214[[#This Row],[Type_CMS]]=\"CPMS - Continuous Parameter Monitoring System\",\"CPMS\",IF(Table101214[[#This Row],[Type_CMS]]=\"CEMS - Continuous Emission Monitoring System\",\"CEMS\",\"\")))","v":""},{"$f":"IF(Table101214[[#This Row],[CMS_Type_Short]]=\"\",\"\",IF(B32=\"\",\"\",B32&\" - \"&Table101214[[#This Row],[CMS_Description]]))","v":""},{"$f":"IF(COUNTIF(I$2:I32,I32)=1,I32,\"\")","v":""},{"$f":"+IF(L32=\"\",\"\",MAX(K$1:K31)+1)","v":""},"","","","","",""]
[{"$f":"+IF(J33=\"\",\"\",MAX(A$1:A32)+1)","v":""},{"$f":"IF(CMS_Identification!D54=\"\",\"\",CMS_Identification!D54)","v":""},{"$f":"IF(CMS_Identification!D54=\"\",\"\",CMS_Identification!B54)","v":""},{"$f":"IF(CMS_Identification!D54=\"\",\"\",CMS_Identification!C54)","v":""},{"$f":"IF(CMS_Identification!D54=\"\",\"\",CMS_Identification!E54)","v":""},{"$f":"IF(CMS_Identification!D54=\"\",\"\",CMS_Identification!F54)","v":""},{"$f":"IF(CMS_Identification!D54=\"\",\"\",CMS_Identification!G54)","v":""},{"$f":"IF(Table101214[[#This Row],[Type_CMS]]=\"\",\"\",IF(Table101214[[#This Row],[Type_CMS]]=\"CPMS - Continuous Parameter Monitoring System\",\"CPMS\",IF(Table101214[[#This Row],[Type_CMS]]=\"CEMS - Continuous Emission Monitoring System\",\"CEMS\",\"\")))","v":""},{"$f":"IF(Table101214[[#This Row],[CMS_Type_Short]]=\"\",\"\",IF(B33=\"\",\"\",B33&\" - \"&Table101214[[#This Row],[CMS_Description]]))","v":""},{"$f":"IF(COUNTIF(I$2:I33,I33)=1,I33,\"\")","v":""},{"$f":"+IF(L33=\"\",\"\",MAX(K$1:K32)+1)","v":""},"","","","","",""]
[{"$f":"+IF(J34=\"\",\"\",MAX(A$1:A33)+1)","v":""},{"$f":"IF(CMS_Identification!D55=\"\",\"\",CMS_Identification!D55)","v":""},{"$f":"IF(CMS_Identification!D55=\"\",\"\",CMS_Identification!B55)","v":""},{"$f":"IF(CMS_Identification!D55=\"\",\"\",CMS_Identification!C55)","v":""},{"$f":"IF(CMS_Identification!D55=\"\",\"\",CMS_Identification!E55)","v":""},{"$f":"IF(CMS_Identification!D55=\"\",\"\",CMS_Identification!F55)","v":""},{"$f":"IF(CMS_Identification!D55=\"\",\"\",CMS_Identification!G55)","v":""},{"$f":"IF(Table101214[[#This Row],[Type_CMS]]=\"\",\"\",IF(Table101214[[#This Row],[Type_CMS]]=\"CPMS - Continuous Parameter Monitoring System\",\"CPMS\",IF(Table101214[[#This Row],[Type_CMS]]=\"CEMS - Continuous Emission Monitoring System\",\"CEMS\",\"\")))","v":""},{"$f":"IF(Table101214[[#This Row],[CMS_Type_Short]]=\"\",\"\",IF(B34=\"\",\"\",B34&\" - \"&Table101214[[#This Row],[CMS_Description]]))","v":""},{"$f":"IF(COUNTIF(I$2:I34,I34)=1,I34,\"\")","v":""},{"$f":"+IF(L34=\"\",\"\",MAX(K$1:K33)+1)","v":""},"","","","","",""]
[{"$f":"+IF(J35=\"\",\"\",MAX(A$1:A34)+1)","v":""},{"$f":"IF(CMS_Identification!D56=\"\",\"\",CMS_Identification!D56)","v":""},{"$f":"IF(CMS_Identification!D56=\"\",\"\",CMS_Identification!B56)","v":""},{"$f":"IF(CMS_Identification!D56=\"\",\"\",CMS_Identification!C56)","v":""},{"$f":"IF(CMS_Identification!D56=\"\",\"\",CMS_Identification!E56)","v":""},{"$f":"IF(CMS_Identification!D56=\"\",\"\",CMS_Identification!F56)","v":""},{"$f":"IF(CMS_Identification!D56=\"\",\"\",CMS_Identification!G56)","v":""},{"$f":"IF(Table101214[[#This Row],[Type_CMS]]=\"\",\"\",IF(Table101214[[#This Row],[Type_CMS]]=\"CPMS - Continuous Parameter Monitoring System\",\"CPMS\",IF(Table101214[[#This Row],[Type_CMS]]=\"CEMS - Continuous Emission Monitoring System\",\"CEMS\",\"\")))","v":""},{"$f":"IF(Table101214[[#This Row],[CMS_Type_Short]]=\"\",\"\",IF(B35=\"\",\"\",B35&\" - \"&Table101214[[#This Row],[CMS_Description]]))","v":""},{"$f":"IF(COUNTIF(I$2:I35,I35)=1,I35,\"\")","v":""},{"$f":"+IF(L35=\"\",\"\",MAX(K$1:K34)+1)","v":""},{"$f":"+IFERROR(INDEX($J$2:$J$101,MATCH(ROW()-ROW($L$2),$A$2:$A$100,0)),\"\")","v":""},{"$f":"+IFERROR(INDEX($C$2:$C$101,MATCH(ROW()-ROW($L$2),$A$2:$A$100,0)),\"\")","v":""},{"$f":"+IFERROR(INDEX($D$2:$D$101,MATCH(ROW()-ROW($L$2),$A$2:$A$100,0)),\"\")","v":""},{"$f":"+IFERROR(INDEX($F$2:$F$101,MATCH(ROW()-ROW($L$2),$A$2:$A$100,0)),\"\")","v":""},{"$f":"+IFERROR(INDEX($G$2:$G$101,MATCH(ROW()-ROW($L$2),$A$2:$A$100,0)),\"\")","v":""},{"$f":"+IFERROR(INDEX($E$2:$E$101,MATCH(ROW()-ROW($L$2),$A$2:$A$100,0)),\"\")","v":""}]
[{"$f":"+IF(J36=\"\",\"\",MAX(A$1:A35)+1)","v":""},{"$f":"IF(CMS_Identification!D57=\"\",\"\",CMS_Identification!D57)","v":""},{"$f":"IF(CMS_Identification!D57=\"\",\"\",CMS_Identification!B57)","v":""},{"$f":"IF(CMS_Identification!D57=\"\",\"\",CMS_Identification!C57)","v":""},{"$f":"IF(CMS_Identification!D57=\"\",\"\",CMS_Identification!E57)","v":""},{"$f":"IF(CMS_Identification!D57=\"\",\"\",CMS_Identification!F57)","v":""},{"$f":"IF(CMS_Identification!D57=\"\",\"\",CMS_Identification!G57)","v":""},{"$f":"IF(Table101214[[#This Row],[Type_CMS]]=\"\",\"\",IF(Table101214[[#This Row],[Type_CMS]]=\"CPMS - Continuous Parameter Monitoring System\",\"CPMS\",IF(Table101214[[#This Row],[Type_CMS]]=\"CEMS - Continuous Emission Monitoring System\",\"CEMS\",\"\")))","v":""},{"$f":"IF(Table101214[[#This Row],[CMS_Type_Short]]=\"\",\"\",IF(B36=\"\",\"\",B36&\" - \"&Table101214[[#This Row],[CMS_Description]]))","v":""},{"$f":"IF(COUNTIF(I$2:I36,I36)=1,I36,\"\")","v":""},{"$f":"+IF(L36=\"\",\"\",MAX(K$1:K35)+1)","v":""},"","","","","",""]
[{"$f":"+IF(J37=\"\",\"\",MAX(A$1:A36)+1)","v":""},{"$f":"IF(CMS_Identification!D58=\"\",\"\",CMS_Identification!D58)","v":""},{"$f":"IF(CMS_Identification!D58=\"\",\"\",CMS_Identification!B58)","v":""},{"$f":"IF(CMS_Identification!D58=\"\",\"\",CMS_Identification!C58)","v":""},{"$f":"IF(CMS_Identification!D58=\"\",\"\",CMS_Identification!E58)","v":""},{"$f":"IF(CMS_Identification!D58=\"\",\"\",CMS_Identification!F58)","v":""},{"$f":"IF(CMS_Identification!D58=\"\",\"\",CMS_Identification!G58)","v":""},{"$f":"IF(Table101214[[#This Row],[Type_CMS]]=\"\",\"\",IF(Table101214[[#This Row],[Type_CMS]]=\"CPMS - Continuous Parameter Monitoring System\",\"CPMS\",IF(Table101214[[#This Row],[Type_CMS]]=\"CEMS - Continuous Emission Monitoring System\",\"CEMS\",\"\")))","v":""},{"$f":"IF(Table101214[[#This Row],[CMS_Type_Short]]=\"\",\"\",IF(B37=\"\",\"\",B37&\" - \"&Table101214[[#This Row],[CMS_Description]]))","v":""},{"$f":"IF(COUNTIF(I$2:I37,I37)=1,I37,\"\")","v":""},{"$f":"+IF(L37=\"\",\"\",MAX(K$1:K36)+1)","v":""},"","","","","",""]
[{"$f":"+IF(J38=\"\",\"\",MAX(A$1:A37)+1)","v":""},{"$f":"IF(CMS_Identification!D59=\"\",\"\",CMS_Identification!D59)","v":""},{"$f":"IF(CMS_Identification!D59=\"\",\"\",CMS_Identification!B59)","v":""},{"$f":"IF(CMS_Identification!D59=\"\",\"\",CMS_Identification!C59)","v":""},{"$f":"IF(CMS_Identification!D59=\"\",\"\",CMS_Identification!E59)","v":""},{"$f":"IF(CMS_Identification!D59=\"\",\"\",CMS_Identification!F59)","v":""},{"$f":"IF(CMS_Identification!D59=\"\",\"\",CMS_Identification!G59)","v":""},{"$f":"IF(Table101214[[#This Row],[Type_CMS]]=\"\",\"\",IF(Table101214[[#This Row],[Type_CMS]]=\"CPMS - Continuous Parameter Monitoring System\",\"CPMS\",IF(Table101214[[#This Row],[Type_CMS]]=\"CEMS - Continuous Emission Monitoring System\",\"CEMS\",\"\")))","v":""},{"$f":"IF(Table101214[[#This Row],[CMS_Type_Short]]=\"\",\"\",IF(B38=\"\",\"\",B38&\" - \"&Table101214[[#This Row],[CMS_Description]]))","v":""},{"$f":"IF(COUNTIF(I$2:I38,I38)=1,I38,\"\")","v":""},{"$f":"+IF(L38=\"\",\"\",MAX(K$1:K37)+1)","v":""},"","","","","",""]
[{"$f":"+IF(J39=\"\",\"\",MAX(A$1:A38)+1)","v":""},{"$f":"IF(CMS_Identification!D60=\"\",\"\",CMS_Identification!D60)","v":""},{"$f":"IF(CMS_Identification!D60=\"\",\"\",CMS_Identification!B60)","v":""},{"$f":"IF(CMS_Identification!D60=\"\",\"\",CMS_Identification!C60)","v":""},{"$f":"IF(CMS_Identification!D60=\"\",\"\",CMS_Identification!E60)","v":""},{"$f":"IF(CMS_Identification!D60=\"\",\"\",CMS_Identification!F60)","v":""},{"$f":"IF(CMS_Identification!D60=\"\",\"\",CMS_Identification!G60)","v":""},{"$f":"IF(Table101214[[#This Row],[Type_CMS]]=\"\",\"\",IF(Table101214[[#This Row],[Type_CMS]]=\"CPMS - Continuous Parameter Monitoring System\",\"CPMS\",IF(Table101214[[#This Row],[Type_CMS]]=\"CEMS - Continuous Emission Monitoring System\",\"CEMS\",\"\")))","v":""},{"$f":"IF(Table101214[[#This Row],[CMS_Type_Short]]=\"\",\"\",IF(B39=\"\",\"\",B39&\" - \"&Table101214[[#This Row],[CMS_Description]]))","v":""},{"$f":"IF(COUNTIF(I$2:I39,I39)=1,I39,\"\")","v":""},{"$f":"+IF(L39=\"\",\"\",MAX(K$1:K38)+1)","v":""},"","","","","",""]
[{"$f":"+IF(J40=\"\",\"\",MAX(A$1:A39)+1)","v":""},{"$f":"IF(CMS_Identification!D61=\"\",\"\",CMS_Identification!D61)","v":""},{"$f":"IF(CMS_Identification!D61=\"\",\"\",CMS_Identification!B61)","v":""},{"$f":"IF(CMS_Identification!D61=\"\",\"\",CMS_Identification!C61)","v":""},{"$f":"IF(CMS_Identification!D61=\"\",\"\",CMS_Identification!E61)","v":""},{"$f":"IF(CMS_Identification!D61=\"\",\"\",CMS_Identification!F61)","v":""},{"$f":"IF(CMS_Identification!D61=\"\",\"\",CMS_Identification!G61)","v":""},{"$f":"IF(Table101214[[#This Row],[Type_CMS]]=\"\",\"\",IF(Table101214[[#This Row],[Type_CMS]]=\"CPMS - Continuous Parameter Monitoring System\",\"CPMS\",IF(Table101214[[#This Row],[Type_CMS]]=\"CEMS - Continuous Emission Monitoring System\",\"CEMS\",\"\")))","v":""},{"$f":"IF(Table101214[[#This Row],[CMS_Type_Short]]=\"\",\"\",IF(B40=\"\",\"\",B40&\" - \"&Table101214[[#This Row],[CMS_Description]]))","v":""},{"$f":"IF(COUNTIF(I$2:I40,I40)=1,I40,\"\")","v":""},{"$f":"+IF(L40=\"\",\"\",MAX(K$1:K39)+1)","v":""},"","","","","",""]
[{"$f":"+IF(J41=\"\",\"\",MAX(A$1:A40)+1)","v":""},{"$f":"IF(CMS_Identification!D62=\"\",\"\",CMS_Identification!D62)","v":""},{"$f":"IF(CMS_Identification!D62=\"\",\"\",CMS_Identification!B62)","v":""},{"$f":"IF(CMS_Identification!D62=\"\",\"\",CMS_Identification!C62)","v":""},{"$f":"IF(CMS_Identification!D62=\"\",\"\",CMS_Identification!E62)","v":""},{"$f":"IF(CMS_Identification!D62=\"\",\"\",CMS_Identification!F62)","v":""},{"$f":"IF(CMS_Identification!D62=\"\",\"\",CMS_Identification!G62)","v":""},{"$f":"IF(Table101214[[#This Row],[Type_CMS]]=\"\",\"\",IF(Table101214[[#This Row],[Type_CMS]]=\"CPMS - Continuous Parameter Monitoring System\",\"CPMS\",IF(Table101214[[#This Row],[Type_CMS]]=\"CEMS - Continuous Emission Monitoring System\",\"CEMS\",\"\")))","v":""},{"$f":"IF(Table101214[[#This Row],[CMS_Type_Short]]=\"\",\"\",IF(B41=\"\",\"\",B41&\" - \"&Table101214[[#This Row],[CMS_Description]]))","v":""},{"$f":"IF(COUNTIF(I$2:I41,I41)=1,I41,\"\")","v":""},{"$f":"+IF(L41=\"\",\"\",MAX(K$1:K40)+1)","v":""},"","","","","",""]
[{"$f":"+IF(J42=\"\",\"\",MAX(A$1:A41)+1)","v":""},{"$f":"IF(CMS_Identification!D63=\"\",\"\",CMS_Identification!D63)","v":""},{"$f":"IF(CMS_Identification!D63=\"\",\"\",CMS_Identification!B63)","v":""},{"$f":"IF(CMS_Identification!D63=\"\",\"\",CMS_Identification!C63)","v":""},{"$f":"IF(CMS_Identification!D63=\"\",\"\",CMS_Identification!E63)","v":""},{"$f":"IF(CMS_Identification!D63=\"\",\"\",CMS_Identification!F63)","v":""},{"$f":"IF(CMS_Identification!D63=\"\",\"\",CMS_Identification!G63)","v":""},{"$f":"IF(Table101214[[#This Row],[Type_CMS]]=\"\",\"\",IF(Table101214[[#This Row],[Type_CMS]]=\"CPMS - Continuous Parameter Monitoring System\",\"CPMS\",IF(Table101214[[#This Row],[Type_CMS]]=\"CEMS - Continuous Emission Monitoring System\",\"CEMS\",\"\")))","v":""},{"$f":"IF(Table101214[[#This Row],[CMS_Type_Short]]=\"\",\"\",IF(B42=\"\",\"\",B42&\" - \"&Table101214[[#This Row],[CMS_Description]]))","v":""},{"$f":"IF(COUNTIF(I$2:I42,I42)=1,I42,\"\")","v":""},{"$f":"+IF(L42=\"\",\"\",MAX(K$1:K41)+1)","v":""},"","","","","",""]
[{"$f":"+IF(J43=\"\",\"\",MAX(A$1:A42)+1)","v":""},{"$f":"IF(CMS_Identification!D64=\"\",\"\",CMS_Identification!D64)","v":""},{"$f":"IF(CMS_Identification!D64=\"\",\"\",CMS_Identification!B64)","v":""},{"$f":"IF(CMS_Identification!D64=\"\",\"\",CMS_Identification!C64)","v":""},{"$f":"IF(CMS_Identification!D64=\"\",\"\",CMS_Identification!E64)","v":""},{"$f":"IF(CMS_Identification!D64=\"\",\"\",CMS_Identification!F64)","v":""},{"$f":"IF(CMS_Identification!D64=\"\",\"\",CMS_Identification!G64)","v":""},{"$f":"IF(Table101214[[#This Row],[Type_CMS]]=\"\",\"\",IF(Table101214[[#This Row],[Type_CMS]]=\"CPMS - Continuous Parameter Monitoring System\",\"CPMS\",IF(Table101214[[#This Row],[Type_CMS]]=\"CEMS - Continuous Emission Monitoring System\",\"CEMS\",\"\")))","v":""},{"$f":"IF(Table101214[[#This Row],[CMS_Type_Short]]=\"\",\"\",IF(B43=\"\",\"\",B43&\" - \"&Table101214[[#This Row],[CMS_Description]]))","v":""},{"$f":"IF(COUNTIF(I$2:I43,I43)=1,I43,\"\")","v":""},{"$f":"+IF(L43=\"\",\"\",MAX(K$1:K42)+1)","v":""},"","","","","",""]
[{"$f":"+IF(J44=\"\",\"\",MAX(A$1:A43)+1)","v":""},{"$f":"IF(CMS_Identification!D65=\"\",\"\",CMS_Identification!D65)","v":""},{"$f":"IF(CMS_Identification!D65=\"\",\"\",CMS_Identification!B65)","v":""},{"$f":"IF(CMS_Identification!D65=\"\",\"\",CMS_Identification!C65)","v":""},{"$f":"IF(CMS_Identification!D65=\"\",\"\",CMS_Identification!E65)","v":""},{"$f":"IF(CMS_Identification!D65=\"\",\"\",CMS_Identification!F65)","v":""},{"$f":"IF(CMS_Identification!D65=\"\",\"\",CMS_Identification!G65)","v":""},{"$f":"IF(Table101214[[#This Row],[Type_CMS]]=\"\",\"\",IF(Table101214[[#This Row],[Type_CMS]]=\"CPMS - Continuous Parameter Monitoring System\",\"CPMS\",IF(Table101214[[#This Row],[Type_CMS]]=\"CEMS - Continuous Emission Monitoring System\",\"CEMS\",\"\")))","v":""},{"$f":"IF(Table101214[[#This Row],[CMS_Type_Short]]=\"\",\"\",IF(B44=\"\",\"\",B44&\" - \"&Table101214[[#This Row],[CMS_Description]]))","v":""},{"$f":"IF(COUNTIF(I$2:I44,I44)=1,I44,\"\")","v":""},{"$f":"+IF(L44=\"\",\"\",MAX(K$1:K43)+1)","v":""},"","","","","",""]
[{"$f":"+IF(J45=\"\",\"\",MAX(A$1:A44)+1)","v":""},{"$f":"IF(CMS_Identification!D66=\"\",\"\",CMS_Identification!D66)","v":""},{"$f":"IF(CMS_Identification!D66=\"\",\"\",CMS_Identification!B66)","v":""},{"$f":"IF(CMS_Identification!D66=\"\",\"\",CMS_Identification!C66)","v":""},{"$f":"IF(CMS_Identification!D66=\"\",\"\",CMS_Identification!E66)","v":""},{"$f":"IF(CMS_Identification!D66=\"\",\"\",CMS_Identification!F66)","v":""},{"$f":"IF(CMS_Identification!D66=\"\",\"\",CMS_Identification!G66)","v":""},{"$f":"IF(Table101214[[#This Row],[Type_CMS]]=\"\",\"\",IF(Table101214[[#This Row],[Type_CMS]]=\"CPMS - Continuous Parameter Monitoring System\",\"CPMS\",IF(Table101214[[#This Row],[Type_CMS]]=\"CEMS - Continuous Emission Monitoring System\",\"CEMS\",\"\")))","v":""},{"$f":"IF(Table101214[[#This Row],[CMS_Type_Short]]=\"\",\"\",IF(B45=\"\",\"\",B45&\" - \"&Table101214[[#This Row],[CMS_Description]]))","v":""},{"$f":"IF(COUNTIF(I$2:I45,I45)=1,I45,\"\")","v":""},{"$f":"+IF(L45=\"\",\"\",MAX(K$1:K44)+1)","v":""},"","","","","",""]
[{"$f":"+IF(J46=\"\",\"\",MAX(A$1:A45)+1)","v":""},{"$f":"IF(CMS_Identification!D67=\"\",\"\",CMS_Identification!D67)","v":""},{"$f":"IF(CMS_Identification!D67=\"\",\"\",CMS_Identification!B67)","v":""},{"$f":"IF(CMS_Identification!D67=\"\",\"\",CMS_Identification!C67)","v":""},{"$f":"IF(CMS_Identification!D67=\"\",\"\",CMS_Identification!E67)","v":""},{"$f":"IF(CMS_Identification!D67=\"\",\"\",CMS_Identification!F67)","v":""},{"$f":"IF(CMS_Identification!D67=\"\",\"\",CMS_Identification!G67)","v":""},{"$f":"IF(Table101214[[#This Row],[Type_CMS]]=\"\",\"\",IF(Table101214[[#This Row],[Type_CMS]]=\"CPMS - Continuous Parameter Monitoring System\",\"CPMS\",IF(Table101214[[#This Row],[Type_CMS]]=\"CEMS - Continuous Emission Monitoring System\",\"CEMS\",\"\")))","v":""},{"$f":"IF(Table101214[[#This Row],[CMS_Type_Short]]=\"\",\"\",IF(B46=\"\",\"\",B46&\" - \"&Table101214[[#This Row],[CMS_Description]]))","v":""},{"$f":"IF(COUNTIF(I$2:I46,I46)=1,I46,\"\")","v":""},{"$f":"+IF(L46=\"\",\"\",MAX(K$1:K45)+1)","v":""},"","","","","",""]
[{"$f":"+IF(J47=\"\",\"\",MAX(A$1:A46)+1)","v":""},{"$f":"IF(CMS_Identification!D68=\"\",\"\",CMS_Identification!D68)","v":""},{"$f":"IF(CMS_Identification!D68=\"\",\"\",CMS_Identification!B68)","v":""},{"$f":"IF(CMS_Identification!D68=\"\",\"\",CMS_Identification!C68)","v":""},{"$f":"IF(CMS_Identification!D68=\"\",\"\",CMS_Identification!E68)","v":""},{"$f":"IF(CMS_Identification!D68=\"\",\"\",CMS_Identification!F68)","v":""},{"$f":"IF(CMS_Identification!D68=\"\",\"\",CMS_Identification!G68)","v":""},{"$f":"IF(Table101214[[#This Row],[Type_CMS]]=\"\",\"\",IF(Table101214[[#This Row],[Type_CMS]]=\"CPMS - Continuous Parameter Monitoring System\",\"CPMS\",IF(Table101214[[#This Row],[Type_CMS]]=\"CEMS - Continuous Emission Monitoring System\",\"CEMS\",\"\")))","v":""},{"$f":"IF(Table101214[[#This Row],[CMS_Type_Short]]=\"\",\"\",IF(B47=\"\",\"\",B47&\" - \"&Table101214[[#This Row],[CMS_Description]]))","v":""},{"$f":"IF(COUNTIF(I$2:I47,I47)=1,I47,\"\")","v":""},{"$f":"+IF(L47=\"\",\"\",MAX(K$1:K46)+1)","v":""},"","","","","",""]
[{"$f":"+IF(J48=\"\",\"\",MAX(A$1:A47)+1)","v":""},{"$f":"IF(CMS_Identification!D69=\"\",\"\",CMS_Identification!D69)","v":""},{"$f":"IF(CMS_Identification!D69=\"\",\"\",CMS_Identification!B69)","v":""},{"$f":"IF(CMS_Identification!D69=\"\",\"\",CMS_Identification!C69)","v":""},{"$f":"IF(CMS_Identification!D69=\"\",\"\",CMS_Identification!E69)","v":""},{"$f":"IF(CMS_Identification!D69=\"\",\"\",CMS_Identification!F69)","v":""},{"$f":"IF(CMS_Identification!D69=\"\",\"\",CMS_Identification!G69)","v":""},{"$f":"IF(Table101214[[#This Row],[Type_CMS]]=\"\",\"\",IF(Table101214[[#This Row],[Type_CMS]]=\"CPMS - Continuous Parameter Monitoring System\",\"CPMS\",IF(Table101214[[#This Row],[Type_CMS]]=\"CEMS - Continuous Emission Monitoring System\",\"CEMS\",\"\")))","v":""},{"$f":"IF(Table101214[[#This Row],[CMS_Type_Short]]=\"\",\"\",IF(B48=\"\",\"\",B48&\" - \"&Table101214[[#This Row],[CMS_Description]]))","v":""},{"$f":"IF(COUNTIF(I$2:I48,I48)=1,I48,\"\")","v":""},{"$f":"+IF(L48=\"\",\"\",MAX(K$1:K47)+1)","v":""},"","","","","",""]
[{"$f":"+IF(J49=\"\",\"\",MAX(A$1:A48)+1)","v":""},{"$f":"IF(CMS_Identification!D70=\"\",\"\",CMS_Identification!D70)","v":""},{"$f":"IF(CMS_Identification!D70=\"\",\"\",CMS_Identification!B70)","v":""},{"$f":"IF(CMS_Identification!D70=\"\",\"\",CMS_Identification!C70)","v":""},{"$f":"IF(CMS_Identification!D70=\"\",\"\",CMS_Identification!E70)","v":""},{"$f":"IF(CMS_Identification!D70=\"\",\"\",CMS_Identification!F70)","v":""},{"$f":"IF(CMS_Identification!D70=\"\",\"\",CMS_Identification!G70)","v":""},{"$f":"IF(Table101214[[#This Row],[Type_CMS]]=\"\",\"\",IF(Table101214[[#This Row],[Type_CMS]]=\"CPMS - Continuous Parameter Monitoring System\",\"CPMS\",IF(Table101214[[#This Row],[Type_CMS]]=\"CEMS - Continuous Emission Monitoring System\",\"CEMS\",\"\")))","v":""},{"$f":"IF(Table101214[[#This Row],[CMS_Type_Short]]=\"\",\"\",IF(B49=\"\",\"\",B49&\" - \"&Table101214[[#This Row],[CMS_Description]]))","v":""},{"$f":"IF(COUNTIF(I$2:I49,I49)=1,I49,\"\")","v":""},{"$f":"+IF(L49=\"\",\"\",MAX(K$1:K48)+1)","v":""},"","","","","",""]
[{"$f":"+IF(J50=\"\",\"\",MAX(A$1:A49)+1)","v":""},{"$f":"IF(CMS_Identification!D71=\"\",\"\",CMS_Identification!D71)","v":""},{"$f":"IF(CMS_Identification!D71=\"\",\"\",CMS_Identification!B71)","v":""},{"$f":"IF(CMS_Identification!D71=\"\",\"\",CMS_Identification!C71)","v":""},{"$f":"IF(CMS_Identification!D71=\"\",\"\",CMS_Identification!E71)","v":""},{"$f":"IF(CMS_Identification!D71=\"\",\"\",CMS_Identification!F71)","v":""},{"$f":"IF(CMS_Identification!D71=\"\",\"\",CMS_Identification!G71)","v":""},{"$f":"IF(Table101214[[#This Row],[Type_CMS]]=\"\",\"\",IF(Table101214[[#This Row],[Type_CMS]]=\"CPMS - Continuous Parameter Monitoring System\",\"CPMS\",IF(Table101214[[#This Row],[Type_CMS]]=\"CEMS - Continuous Emission Monitoring System\",\"CEMS\",\"\")))","v":""},{"$f":"IF(Table101214[[#This Row],[CMS_Type_Short]]=\"\",\"\",IF(B50=\"\",\"\",B50&\" - \"&Table101214[[#This Row],[CMS_Description]]))","v":""},{"$f":"IF(COUNTIF(I$2:I50,I50)=1,I50,\"\")","v":""},{"$f":"+IF(L50=\"\",\"\",MAX(K$1:K49)+1)","v":""},"","","","","",""]
[{"$f":"+IF(J51=\"\",\"\",MAX(A$1:A50)+1)","v":""},{"$f":"IF(CMS_Identification!D72=\"\",\"\",CMS_Identification!D72)","v":""},{"$f":"IF(CMS_Identification!D72=\"\",\"\",CMS_Identification!B72)","v":""},{"$f":"IF(CMS_Identification!D72=\"\",\"\",CMS_Identification!C72)","v":""},{"$f":"IF(CMS_Identification!D72=\"\",\"\",CMS_Identification!E72)","v":""},{"$f":"IF(CMS_Identification!D72=\"\",\"\",CMS_Identification!F72)","v":""},{"$f":"IF(CMS_Identification!D72=\"\",\"\",CMS_Identification!G72)","v":""},{"$f":"IF(Table101214[[#This Row],[Type_CMS]]=\"\",\"\",IF(Table101214[[#This Row],[Type_CMS]]=\"CPMS - Continuous Parameter Monitoring System\",\"CPMS\",IF(Table101214[[#This Row],[Type_CMS]]=\"CEMS - Continuous Emission Monitoring System\",\"CEMS\",\"\")))","v":""},{"$f":"IF(Table101214[[#This Row],[CMS_Type_Short]]=\"\",\"\",IF(B51=\"\",\"\",B51&\" - \"&Table101214[[#This Row],[CMS_Description]]))","v":""},{"$f":"IF(COUNTIF(I$2:I51,I51)=1,I51,\"\")","v":""},{"$f":"+IF(L51=\"\",\"\",MAX(K$1:K50)+1)","v":""},"","","","","",""]
[{"$f":"+IF(J52=\"\",\"\",MAX(A$1:A51)+1)","v":""},{"$f":"IF(CMS_Identification!D73=\"\",\"\",CMS_Identification!D73)","v":""},{"$f":"IF(CMS_Identification!D73=\"\",\"\",CMS_Identification!B73)","v":""},{"$f":"IF(CMS_Identification!D73=\"\",\"\",CMS_Identification!C73)","v":""},{"$f":"IF(CMS_Identification!D73=\"\",\"\",CMS_Identification!E73)","v":""},{"$f":"IF(CMS_Identification!D73=\"\",\"\",CMS_Identification!F73)","v":""},{"$f":"IF(CMS_Identification!D73=\"\",\"\",CMS_Identification!G73)","v":""},{"$f":"IF(Table101214[[#This Row],[Type_CMS]]=\"\",\"\",IF(Table101214[[#This Row],[Type_CMS]]=\"CPMS - Continuous Parameter Monitoring System\",\"CPMS\",IF(Table101214[[#This Row],[Type_CMS]]=\"CEMS - Continuous Emission Monitoring System\",\"CEMS\",\"\")))","v":""},{"$f":"IF(Table101214[[#This Row],[CMS_Type_Short]]=\"\",\"\",IF(B52=\"\",\"\",B52&\" - \"&Table101214[[#This Row],[CMS_Description]]))","v":""},{"$f":"IF(COUNTIF(I$2:I52,I52)=1,I52,\"\")","v":""},{"$f":"+IF(L52=\"\",\"\",MAX(K$1:K51)+1)","v":""},"","","","","",""]
[{"$f":"+IF(J53=\"\",\"\",MAX(A$1:A52)+1)","v":""},{"$f":"IF(CMS_Identification!D74=\"\",\"\",CMS_Identification!D74)","v":""},{"$f":"IF(CMS_Identification!D74=\"\",\"\",CMS_Identification!B74)","v":""},{"$f":"IF(CMS_Identification!D74=\"\",\"\",CMS_Identification!C74)","v":""},{"$f":"IF(CMS_Identification!D74=\"\",\"\",CMS_Identification!E74)","v":""},{"$f":"IF(CMS_Identification!D74=\"\",\"\",CMS_Identification!F74)","v":""},{"$f":"IF(CMS_Identification!D74=\"\",\"\",CMS_Identification!G74)","v":""},{"$f":"IF(Table101214[[#This Row],[Type_CMS]]=\"\",\"\",IF(Table101214[[#This Row],[Type_CMS]]=\"CPMS - Continuous Parameter Monitoring System\",\"CPMS\",IF(Table101214[[#This Row],[Type_CMS]]=\"CEMS - Continuous Emission Monitoring System\",\"CEMS\",\"\")))","v":""},{"$f":"IF(Table101214[[#This Row],[CMS_Type_Short]]=\"\",\"\",IF(B53=\"\",\"\",B53&\" - \"&Table101214[[#This Row],[CMS_Description]]))","v":""},{"$f":"IF(COUNTIF(I$2:I53,I53)=1,I53,\"\")","v":""},{"$f":"+IF(L53=\"\",\"\",MAX(K$1:K52)+1)","v":""},"","","","","",""]
[{"$f":"+IF(J54=\"\",\"\",MAX(A$1:A53)+1)","v":""},{"$f":"IF(CMS_Identification!D75=\"\",\"\",CMS_Identification!D75)","v":""},{"$f":"IF(CMS_Identification!D75=\"\",\"\",CMS_Identification!B75)","v":""},{"$f":"IF(CMS_Identification!D75=\"\",\"\",CMS_Identification!C75)","v":""},{"$f":"IF(CMS_Identification!D75=\"\",\"\",CMS_Identification!E75)","v":""},{"$f":"IF(CMS_Identification!D75=\"\",\"\",CMS_Identification!F75)","v":""},{"$f":"IF(CMS_Identification!D75=\"\",\"\",CMS_Identification!G75)","v":""},{"$f":"IF(Table101214[[#This Row],[Type_CMS]]=\"\",\"\",IF(Table101214[[#This Row],[Type_CMS]]=\"CPMS - Continuous Parameter Monitoring System\",\"CPMS\",IF(Table101214[[#This Row],[Type_CMS]]=\"CEMS - Continuous Emission Monitoring System\",\"CEMS\",\"\")))","v":""},{"$f":"IF(Table101214[[#This Row],[CMS_Type_Short]]=\"\",\"\",IF(B54=\"\",\"\",B54&\" - \"&Table101214[[#This Row],[CMS_Description]]))","v":""},{"$f":"IF(COUNTIF(I$2:I54,I54)=1,I54,\"\")","v":""},{"$f":"+IF(L54=\"\",\"\",MAX(K$1:K53)+1)","v":""},"","","","","",""]
[{"$f":"+IF(J55=\"\",\"\",MAX(A$1:A54)+1)","v":""},{"$f":"IF(CMS_Identification!D76=\"\",\"\",CMS_Identification!D76)","v":""},{"$f":"IF(CMS_Identification!D76=\"\",\"\",CMS_Identification!B76)","v":""},{"$f":"IF(CMS_Identification!D76=\"\",\"\",CMS_Identification!C76)","v":""},{"$f":"IF(CMS_Identification!D76=\"\",\"\",CMS_Identification!E76)","v":""},{"$f":"IF(CMS_Identification!D76=\"\",\"\",CMS_Identification!F76)","v":""},{"$f":"IF(CMS_Identification!D76=\"\",\"\",CMS_Identification!G76)","v":""},{"$f":"IF(Table101214[[#This Row],[Type_CMS]]=\"\",\"\",IF(Table101214[[#This Row],[Type_CMS]]=\"CPMS - Continuous Parameter Monitoring System\",\"CPMS\",IF(Table101214[[#This Row],[Type_CMS]]=\"CEMS - Continuous Emission Monitoring System\",\"CEMS\",\"\")))","v":""},{"$f":"IF(Table101214[[#This Row],[CMS_Type_Short]]=\"\",\"\",IF(B55=\"\",\"\",B55&\" - \"&Table101214[[#This Row],[CMS_Description]]))","v":""},{"$f":"IF(COUNTIF(I$2:I55,I55)=1,I55,\"\")","v":""},{"$f":"+IF(L55=\"\",\"\",MAX(K$1:K54)+1)","v":""},"","","","","",""]
[{"$f":"+IF(J56=\"\",\"\",MAX(A$1:A55)+1)","v":""},{"$f":"IF(CMS_Identification!D77=\"\",\"\",CMS_Identification!D77)","v":""},{"$f":"IF(CMS_Identification!D77=\"\",\"\",CMS_Identification!B77)","v":""},{"$f":"IF(CMS_Identification!D77=\"\",\"\",CMS_Identification!C77)","v":""},{"$f":"IF(CMS_Identification!D77=\"\",\"\",CMS_Identification!E77)","v":""},{"$f":"IF(CMS_Identification!D77=\"\",\"\",CMS_Identification!F77)","v":""},{"$f":"IF(CMS_Identification!D77=\"\",\"\",CMS_Identification!G77)","v":""},{"$f":"IF(Table101214[[#This Row],[Type_CMS]]=\"\",\"\",IF(Table101214[[#This Row],[Type_CMS]]=\"CPMS - Continuous Parameter Monitoring System\",\"CPMS\",IF(Table101214[[#This Row],[Type_CMS]]=\"CEMS - Continuous Emission Monitoring System\",\"CEMS\",\"\")))","v":""},{"$f":"IF(Table101214[[#This Row],[CMS_Type_Short]]=\"\",\"\",IF(B56=\"\",\"\",B56&\" - \"&Table101214[[#This Row],[CMS_Description]]))","v":""},{"$f":"IF(COUNTIF(I$2:I56,I56)=1,I56,\"\")","v":""},{"$f":"+IF(L56=\"\",\"\",MAX(K$1:K55)+1)","v":""},"","","","","",""]
[{"$f":"+IF(J57=\"\",\"\",MAX(A$1:A56)+1)","v":""},{"$f":"IF(CMS_Identification!D78=\"\",\"\",CMS_Identification!D78)","v":""},{"$f":"IF(CMS_Identification!D78=\"\",\"\",CMS_Identification!B78)","v":""},{"$f":"IF(CMS_Identification!D78=\"\",\"\",CMS_Identification!C78)","v":""},{"$f":"IF(CMS_Identification!D78=\"\",\"\",CMS_Identification!E78)","v":""},{"$f":"IF(CMS_Identification!D78=\"\",\"\",CMS_Identification!F78)","v":""},{"$f":"IF(CMS_Identification!D78=\"\",\"\",CMS_Identification!G78)","v":""},{"$f":"IF(Table101214[[#This Row],[Type_CMS]]=\"\",\"\",IF(Table101214[[#This Row],[Type_CMS]]=\"CPMS - Continuous Parameter Monitoring System\",\"CPMS\",IF(Table101214[[#This Row],[Type_CMS]]=\"CEMS - Continuous Emission Monitoring System\",\"CEMS\",\"\")))","v":""},{"$f":"IF(Table101214[[#This Row],[CMS_Type_Short]]=\"\",\"\",IF(B57=\"\",\"\",B57&\" - \"&Table101214[[#This Row],[CMS_Description]]))","v":""},{"$f":"IF(COUNTIF(I$2:I57,I57)=1,I57,\"\")","v":""},{"$f":"+IF(L57=\"\",\"\",MAX(K$1:K56)+1)","v":""},"","","","","",""]
[{"$f":"+IF(J58=\"\",\"\",MAX(A$1:A57)+1)","v":""},{"$f":"IF(CMS_Identification!D79=\"\",\"\",CMS_Identification!D79)","v":""},{"$f":"IF(CMS_Identification!D79=\"\",\"\",CMS_Identification!B79)","v":""},{"$f":"IF(CMS_Identification!D79=\"\",\"\",CMS_Identification!C79)","v":""},{"$f":"IF(CMS_Identification!D79=\"\",\"\",CMS_Identification!E79)","v":""},{"$f":"IF(CMS_Identification!D79=\"\",\"\",CMS_Identification!F79)","v":""},{"$f":"IF(CMS_Identification!D79=\"\",\"\",CMS_Identification!G79)","v":""},{"$f":"IF(Table101214[[#This Row],[Type_CMS]]=\"\",\"\",IF(Table101214[[#This Row],[Type_CMS]]=\"CPMS - Continuous Parameter Monitoring System\",\"CPMS\",IF(Table101214[[#This Row],[Type_CMS]]=\"CEMS - Continuous Emission Monitoring System\",\"CEMS\",\"\")))","v":""},{"$f":"IF(Table101214[[#This Row],[CMS_Type_Short]]=\"\",\"\",IF(B58=\"\",\"\",B58&\" - \"&Table101214[[#This Row],[CMS_Description]]))","v":""},{"$f":"IF(COUNTIF(I$2:I58,I58)=1,I58,\"\")","v":""},{"$f":"+IF(L58=\"\",\"\",MAX(K$1:K57)+1)","v":""},"","","","","",""]
[{"$f":"+IF(J59=\"\",\"\",MAX(A$1:A58)+1)","v":""},{"$f":"IF(CMS_Identification!D80=\"\",\"\",CMS_Identification!D80)","v":""},{"$f":"IF(CMS_Identification!D80=\"\",\"\",CMS_Identification!B80)","v":""},{"$f":"IF(CMS_Identification!D80=\"\",\"\",CMS_Identification!C80)","v":""},{"$f":"IF(CMS_Identification!D80=\"\",\"\",CMS_Identification!E80)","v":""},{"$f":"IF(CMS_Identification!D80=\"\",\"\",CMS_Identification!F80)","v":""},{"$f":"IF(CMS_Identification!D80=\"\",\"\",CMS_Identification!G80)","v":""},{"$f":"IF(Table101214[[#This Row],[Type_CMS]]=\"\",\"\",IF(Table101214[[#This Row],[Type_CMS]]=\"CPMS - Continuous Parameter Monitoring System\",\"CPMS\",IF(Table101214[[#This Row],[Type_CMS]]=\"CEMS - Continuous Emission Monitoring System\",\"CEMS\",\"\")))","v":""},{"$f":"IF(Table101214[[#This Row],[CMS_Type_Short]]=\"\",\"\",IF(B59=\"\",\"\",B59&\" - \"&Table101214[[#This Row],[CMS_Description]]))","v":""},{"$f":"IF(COUNTIF(I$2:I59,I59)=1,I59,\"\")","v":""},{"$f":"+IF(L59=\"\",\"\",MAX(K$1:K58)+1)","v":""},"","","","","",""]
[{"$f":"+IF(J60=\"\",\"\",MAX(A$1:A59)+1)","v":""},{"$f":"IF(CMS_Identification!D81=\"\",\"\",CMS_Identification!D81)","v":""},{"$f":"IF(CMS_Identification!D81=\"\",\"\",CMS_Identification!B81)","v":""},{"$f":"IF(CMS_Identification!D81=\"\",\"\",CMS_Identification!C81)","v":""},{"$f":"IF(CMS_Identification!D81=\"\",\"\",CMS_Identification!E81)","v":""},{"$f":"IF(CMS_Identification!D81=\"\",\"\",CMS_Identification!F81)","v":""},{"$f":"IF(CMS_Identification!D81=\"\",\"\",CMS_Identification!G81)","v":""},{"$f":"IF(Table101214[[#This Row],[Type_CMS]]=\"\",\"\",IF(Table101214[[#This Row],[Type_CMS]]=\"CPMS - Continuous Parameter Monitoring System\",\"CPMS\",IF(Table101214[[#This Row],[Type_CMS]]=\"CEMS - Continuous Emission Monitoring System\",\"CEMS\",\"\")))","v":""},{"$f":"IF(Table101214[[#This Row],[CMS_Type_Short]]=\"\",\"\",IF(B60=\"\",\"\",B60&\" - \"&Table101214[[#This Row],[CMS_Description]]))","v":""},{"$f":"IF(COUNTIF(I$2:I60,I60)=1,I60,\"\")","v":""},{"$f":"+IF(L60=\"\",\"\",MAX(K$1:K59)+1)","v":""},"","","","","",""]
[{"$f":"+IF(J61=\"\",\"\",MAX(A$1:A60)+1)","v":""},{"$f":"IF(CMS_Identification!D82=\"\",\"\",CMS_Identification!D82)","v":""},{"$f":"IF(CMS_Identification!D82=\"\",\"\",CMS_Identification!B82)","v":""},{"$f":"IF(CMS_Identification!D82=\"\",\"\",CMS_Identification!C82)","v":""},{"$f":"IF(CMS_Identification!D82=\"\",\"\",CMS_Identification!E82)","v":""},{"$f":"IF(CMS_Identification!D82=\"\",\"\",CMS_Identification!F82)","v":""},{"$f":"IF(CMS_Identification!D82=\"\",\"\",CMS_Identification!G82)","v":""},{"$f":"IF(Table101214[[#This Row],[Type_CMS]]=\"\",\"\",IF(Table101214[[#This Row],[Type_CMS]]=\"CPMS - Continuous Parameter Monitoring System\",\"CPMS\",IF(Table101214[[#This Row],[Type_CMS]]=\"CEMS - Continuous Emission Monitoring System\",\"CEMS\",\"\")))","v":""},{"$f":"IF(Table101214[[#This Row],[CMS_Type_Short]]=\"\",\"\",IF(B61=\"\",\"\",B61&\" - \"&Table101214[[#This Row],[CMS_Description]]))","v":""},{"$f":"IF(COUNTIF(I$2:I61,I61)=1,I61,\"\")","v":""},{"$f":"+IF(L61=\"\",\"\",MAX(K$1:K60)+1)","v":""},"","","","","",""]
[{"$f":"+IF(J62=\"\",\"\",MAX(A$1:A61)+1)","v":""},{"$f":"IF(CMS_Identification!D83=\"\",\"\",CMS_Identification!D83)","v":""},{"$f":"IF(CMS_Identification!D83=\"\",\"\",CMS_Identification!B83)","v":""},{"$f":"IF(CMS_Identification!D83=\"\",\"\",CMS_Identification!C83)","v":""},{"$f":"IF(CMS_Identification!D83=\"\",\"\",CMS_Identification!E83)","v":""},{"$f":"IF(CMS_Identification!D83=\"\",\"\",CMS_Identification!F83)","v":""},{"$f":"IF(CMS_Identification!D83=\"\",\"\",CMS_Identification!G83)","v":""},{"$f":"IF(Table101214[[#This Row],[Type_CMS]]=\"\",\"\",IF(Table101214[[#This Row],[Type_CMS]]=\"CPMS - Continuous Parameter Monitoring System\",\"CPMS\",IF(Table101214[[#This Row],[Type_CMS]]=\"CEMS - Continuous Emission Monitoring System\",\"CEMS\",\"\")))","v":""},{"$f":"IF(Table101214[[#This Row],[CMS_Type_Short]]=\"\",\"\",IF(B62=\"\",\"\",B62&\" - \"&Table101214[[#This Row],[CMS_Description]]))","v":""},{"$f":"IF(COUNTIF(I$2:I62,I62)=1,I62,\"\")","v":""},{"$f":"+IF(L62=\"\",\"\",MAX(K$1:K61)+1)","v":""},"","","","","",""]
[{"$f":"+IF(J63=\"\",\"\",MAX(A$1:A62)+1)","v":""},{"$f":"IF(CMS_Identification!D84=\"\",\"\",CMS_Identification!D84)","v":""},{"$f":"IF(CMS_Identification!D84=\"\",\"\",CMS_Identification!B84)","v":""},{"$f":"IF(CMS_Identification!D84=\"\",\"\",CMS_Identification!C84)","v":""},{"$f":"IF(CMS_Identification!D84=\"\",\"\",CMS_Identification!E84)","v":""},{"$f":"IF(CMS_Identification!D84=\"\",\"\",CMS_Identification!F84)","v":""},{"$f":"IF(CMS_Identification!D84=\"\",\"\",CMS_Identification!G84)","v":""},{"$f":"IF(Table101214[[#This Row],[Type_CMS]]=\"\",\"\",IF(Table101214[[#This Row],[Type_CMS]]=\"CPMS - Continuous Parameter Monitoring System\",\"CPMS\",IF(Table101214[[#This Row],[Type_CMS]]=\"CEMS - Continuous Emission Monitoring System\",\"CEMS\",\"\")))","v":""},{"$f":"IF(Table101214[[#This Row],[CMS_Type_Short]]=\"\",\"\",IF(B63=\"\",\"\",B63&\" - \"&Table101214[[#This Row],[CMS_Description]]))","v":""},{"$f":"IF(COUNTIF(I$2:I63,I63)=1,I63,\"\")","v":""},{"$f":"+IF(L63=\"\",\"\",MAX(K$1:K62)+1)","v":""},"","","","","",""]
[{"$f":"+IF(J64=\"\",\"\",MAX(A$1:A63)+1)","v":""},{"$f":"IF(CMS_Identification!D85=\"\",\"\",CMS_Identification!D85)","v":""},{"$f":"IF(CMS_Identification!D85=\"\",\"\",CMS_Identification!B85)","v":""},{"$f":"IF(CMS_Identification!D85=\"\",\"\",CMS_Identification!C85)","v":""},{"$f":"IF(CMS_Identification!D85=\"\",\"\",CMS_Identification!E85)","v":""},{"$f":"IF(CMS_Identification!D85=\"\",\"\",CMS_Identification!F85)","v":""},{"$f":"IF(CMS_Identification!D85=\"\",\"\",CMS_Identification!G85)","v":""},{"$f":"IF(Table101214[[#This Row],[Type_CMS]]=\"\",\"\",IF(Table101214[[#This Row],[Type_CMS]]=\"CPMS - Continuous Parameter Monitoring System\",\"CPMS\",IF(Table101214[[#This Row],[Type_CMS]]=\"CEMS - Continuous Emission Monitoring System\",\"CEMS\",\"\")))","v":""},{"$f":"IF(Table101214[[#This Row],[CMS_Type_Short]]=\"\",\"\",IF(B64=\"\",\"\",B64&\" - \"&Table101214[[#This Row],[CMS_Description]]))","v":""},{"$f":"IF(COUNTIF(I$2:I64,I64)=1,I64,\"\")","v":""},{"$f":"+IF(L64=\"\",\"\",MAX(K$1:K63)+1)","v":""},"","","","","",""]
[{"$f":"+IF(J65=\"\",\"\",MAX(A$1:A64)+1)","v":""},{"$f":"IF(CMS_Identification!D86=\"\",\"\",CMS_Identification!D86)","v":""},{"$f":"IF(CMS_Identification!D86=\"\",\"\",CMS_Identification!B86)","v":""},{"$f":"IF(CMS_Identification!D86=\"\",\"\",CMS_Identification!C86)","v":""},{"$f":"IF(CMS_Identification!D86=\"\",\"\",CMS_Identification!E86)","v":""},{"$f":"IF(CMS_Identification!D86=\"\",\"\",CMS_Identification!F86)","v":""},{"$f":"IF(CMS_Identification!D86=\"\",\"\",CMS_Identification!G86)","v":""},{"$f":"IF(Table101214[[#This Row],[Type_CMS]]=\"\",\"\",IF(Table101214[[#This Row],[Type_CMS]]=\"CPMS - Continuous Parameter Monitoring System\",\"CPMS\",IF(Table101214[[#This Row],[Type_CMS]]=\"CEMS - Continuous Emission Monitoring System\",\"CEMS\",\"\")))","v":""},{"$f":"IF(Table101214[[#This Row],[CMS_Type_Short]]=\"\",\"\",IF(B65=\"\",\"\",B65&\" - \"&Table101214[[#This Row],[CMS_Description]]))","v":""},{"$f":"IF(COUNTIF(I$2:I65,I65)=1,I65,\"\")","v":""},{"$f":"+IF(L65=\"\",\"\",MAX(K$1:K64)+1)","v":""},"","","","","",""]
[{"$f":"+IF(J66=\"\",\"\",MAX(A$1:A65)+1)","v":""},{"$f":"IF(CMS_Identification!D87=\"\",\"\",CMS_Identification!D87)","v":""},{"$f":"IF(CMS_Identification!D87=\"\",\"\",CMS_Identification!B87)","v":""},{"$f":"IF(CMS_Identification!D87=\"\",\"\",CMS_Identification!C87)","v":""},{"$f":"IF(CMS_Identification!D87=\"\",\"\",CMS_Identification!E87)","v":""},{"$f":"IF(CMS_Identification!D87=\"\",\"\",CMS_Identification!F87)","v":""},{"$f":"IF(CMS_Identification!D87=\"\",\"\",CMS_Identification!G87)","v":""},{"$f":"IF(Table101214[[#This Row],[Type_CMS]]=\"\",\"\",IF(Table101214[[#This Row],[Type_CMS]]=\"CPMS - Continuous Parameter Monitoring System\",\"CPMS\",IF(Table101214[[#This Row],[Type_CMS]]=\"CEMS - Continuous Emission Monitoring System\",\"CEMS\",\"\")))","v":""},{"$f":"IF(Table101214[[#This Row],[CMS_Type_Short]]=\"\",\"\",IF(B66=\"\",\"\",B66&\" - \"&Table101214[[#This Row],[CMS_Description]]))","v":""},{"$f":"IF(COUNTIF(I$2:I66,I66)=1,I66,\"\")","v":""},{"$f":"+IF(L66=\"\",\"\",MAX(K$1:K65)+1)","v":""},"","","","","",""]
[{"$f":"+IF(J67=\"\",\"\",MAX(A$1:A66)+1)","v":""},{"$f":"IF(CMS_Identification!D88=\"\",\"\",CMS_Identification!D88)","v":""},{"$f":"IF(CMS_Identification!D88=\"\",\"\",CMS_Identification!B88)","v":""},{"$f":"IF(CMS_Identification!D88=\"\",\"\",CMS_Identification!C88)","v":""},{"$f":"IF(CMS_Identification!D88=\"\",\"\",CMS_Identification!E88)","v":""},{"$f":"IF(CMS_Identification!D88=\"\",\"\",CMS_Identification!F88)","v":""},{"$f":"IF(CMS_Identification!D88=\"\",\"\",CMS_Identification!G88)","v":""},{"$f":"IF(Table101214[[#This Row],[Type_CMS]]=\"\",\"\",IF(Table101214[[#This Row],[Type_CMS]]=\"CPMS - Continuous Parameter Monitoring System\",\"CPMS\",IF(Table101214[[#This Row],[Type_CMS]]=\"CEMS - Continuous Emission Monitoring System\",\"CEMS\",\"\")))","v":""},{"$f":"IF(Table101214[[#This Row],[CMS_Type_Short]]=\"\",\"\",IF(B67=\"\",\"\",B67&\" - \"&Table101214[[#This Row],[CMS_Description]]))","v":""},{"$f":"IF(COUNTIF(I$2:I67,I67)=1,I67,\"\")","v":""},{"$f":"+IF(L67=\"\",\"\",MAX(K$1:K66)+1)","v":""},{"$f":"+IFERROR(INDEX($J$2:$J$101,MATCH(ROW()-ROW($L$2),$A$2:$A$100,0)),\"\")","v":""},{"$f":"+IFERROR(INDEX($C$2:$C$101,MATCH(ROW()-ROW($L$2),$A$2:$A$100,0)),\"\")","v":""},{"$f":"+IFERROR(INDEX($D$2:$D$101,MATCH(ROW()-ROW($L$2),$A$2:$A$100,0)),\"\")","v":""},{"$f":"+IFERROR(INDEX($F$2:$F$101,MATCH(ROW()-ROW($L$2),$A$2:$A$100,0)),\"\")","v":""},{"$f":"+IFERROR(INDEX($G$2:$G$101,MATCH(ROW()-ROW($L$2),$A$2:$A$100,0)),\"\")","v":""},{"$f":"+IFERROR(INDEX($E$2:$E$101,MATCH(ROW()-ROW($L$2),$A$2:$A$100,0)),\"\")","v":""}]
[{"$f":"+IF(J68=\"\",\"\",MAX(A$1:A67)+1)","v":""},{"$f":"IF(CMS_Identification!D89=\"\",\"\",CMS_Identification!D89)","v":""},{"$f":"IF(CMS_Identification!D89=\"\",\"\",CMS_Identification!B89)","v":""},{"$f":"IF(CMS_Identification!D89=\"\",\"\",CMS_Identification!C89)","v":""},{"$f":"IF(CMS_Identification!D89=\"\",\"\",CMS_Identification!E89)","v":""},{"$f":"IF(CMS_Identification!D89=\"\",\"\",CMS_Identification!F89)","v":""},{"$f":"IF(CMS_Identification!D89=\"\",\"\",CMS_Identification!G89)","v":""},{"$f":"IF(Table101214[[#This Row],[Type_CMS]]=\"\",\"\",IF(Table101214[[#This Row],[Type_CMS]]=\"CPMS - Continuous Parameter Monitoring System\",\"CPMS\",IF(Table101214[[#This Row],[Type_CMS]]=\"CEMS - Continuous Emission Monitoring System\",\"CEMS\",\"\")))","v":""},{"$f":"IF(Table101214[[#This Row],[CMS_Type_Short]]=\"\",\"\",IF(B68=\"\",\"\",B68&\" - \"&Table101214[[#This Row],[CMS_Description]]))","v":""},{"$f":"IF(COUNTIF(I$2:I68,I68)=1,I68,\"\")","v":""},{"$f":"+IF(L68=\"\",\"\",MAX(K$1:K67)+1)","v":""},"","","","","",""]
[{"$f":"+IF(J69=\"\",\"\",MAX(A$1:A68)+1)","v":""},{"$f":"IF(CMS_Identification!D90=\"\",\"\",CMS_Identification!D90)","v":""},{"$f":"IF(CMS_Identification!D90=\"\",\"\",CMS_Identification!B90)","v":""},{"$f":"IF(CMS_Identification!D90=\"\",\"\",CMS_Identification!C90)","v":""},{"$f":"IF(CMS_Identification!D90=\"\",\"\",CMS_Identification!E90)","v":""},{"$f":"IF(CMS_Identification!D90=\"\",\"\",CMS_Identification!F90)","v":""},{"$f":"IF(CMS_Identification!D90=\"\",\"\",CMS_Identification!G90)","v":""},{"$f":"IF(Table101214[[#This Row],[Type_CMS]]=\"\",\"\",IF(Table101214[[#This Row],[Type_CMS]]=\"CPMS - Continuous Parameter Monitoring System\",\"CPMS\",IF(Table101214[[#This Row],[Type_CMS]]=\"CEMS - Continuous Emission Monitoring System\",\"CEMS\",\"\")))","v":""},{"$f":"IF(Table101214[[#This Row],[CMS_Type_Short]]=\"\",\"\",IF(B69=\"\",\"\",B69&\" - \"&Table101214[[#This Row],[CMS_Description]]))","v":""},{"$f":"IF(COUNTIF(I$2:I69,I69)=1,I69,\"\")","v":""},{"$f":"+IF(L69=\"\",\"\",MAX(K$1:K68)+1)","v":""},"","","","","",""]
[{"$f":"+IF(J70=\"\",\"\",MAX(A$1:A69)+1)","v":""},{"$f":"IF(CMS_Identification!D91=\"\",\"\",CMS_Identification!D91)","v":""},{"$f":"IF(CMS_Identification!D91=\"\",\"\",CMS_Identification!B91)","v":""},{"$f":"IF(CMS_Identification!D91=\"\",\"\",CMS_Identification!C91)","v":""},{"$f":"IF(CMS_Identification!D91=\"\",\"\",CMS_Identification!E91)","v":""},{"$f":"IF(CMS_Identification!D91=\"\",\"\",CMS_Identification!F91)","v":""},{"$f":"IF(CMS_Identification!D91=\"\",\"\",CMS_Identification!G91)","v":""},{"$f":"IF(Table101214[[#This Row],[Type_CMS]]=\"\",\"\",IF(Table101214[[#This Row],[Type_CMS]]=\"CPMS - Continuous Parameter Monitoring System\",\"CPMS\",IF(Table101214[[#This Row],[Type_CMS]]=\"CEMS - Continuous Emission Monitoring System\",\"CEMS\",\"\")))","v":""},{"$f":"IF(Table101214[[#This Row],[CMS_Type_Short]]=\"\",\"\",IF(B70=\"\",\"\",B70&\" - \"&Table101214[[#This Row],[CMS_Description]]))","v":""},{"$f":"IF(COUNTIF(I$2:I70,I70)=1,I70,\"\")","v":""},{"$f":"+IF(L70=\"\",\"\",MAX(K$1:K69)+1)","v":""},"","","","","",""]
[{"$f":"+IF(J71=\"\",\"\",MAX(A$1:A70)+1)","v":""},{"$f":"IF(CMS_Identification!D92=\"\",\"\",CMS_Identification!D92)","v":""},{"$f":"IF(CMS_Identification!D92=\"\",\"\",CMS_Identification!B92)","v":""},{"$f":"IF(CMS_Identification!D92=\"\",\"\",CMS_Identification!C92)","v":""},{"$f":"IF(CMS_Identification!D92=\"\",\"\",CMS_Identification!E92)","v":""},{"$f":"IF(CMS_Identification!D92=\"\",\"\",CMS_Identification!F92)","v":""},{"$f":"IF(CMS_Identification!D92=\"\",\"\",CMS_Identification!G92)","v":""},{"$f":"IF(Table101214[[#This Row],[Type_CMS]]=\"\",\"\",IF(Table101214[[#This Row],[Type_CMS]]=\"CPMS - Continuous Parameter Monitoring System\",\"CPMS\",IF(Table101214[[#This Row],[Type_CMS]]=\"CEMS - Continuous Emission Monitoring System\",\"CEMS\",\"\")))","v":""},{"$f":"IF(Table101214[[#This Row],[CMS_Type_Short]]=\"\",\"\",IF(B71=\"\",\"\",B71&\" - \"&Table101214[[#This Row],[CMS_Description]]))","v":""},{"$f":"IF(COUNTIF(I$2:I71,I71)=1,I71,\"\")","v":""},{"$f":"+IF(L71=\"\",\"\",MAX(K$1:K70)+1)","v":""},"","","","","",""]
[{"$f":"+IF(J72=\"\",\"\",MAX(A$1:A71)+1)","v":""},{"$f":"IF(CMS_Identification!D93=\"\",\"\",CMS_Identification!D93)","v":""},{"$f":"IF(CMS_Identification!D93=\"\",\"\",CMS_Identification!B93)","v":""},{"$f":"IF(CMS_Identification!D93=\"\",\"\",CMS_Identification!C93)","v":""},{"$f":"IF(CMS_Identification!D93=\"\",\"\",CMS_Identification!E93)","v":""},{"$f":"IF(CMS_Identification!D93=\"\",\"\",CMS_Identification!F93)","v":""},{"$f":"IF(CMS_Identification!D93=\"\",\"\",CMS_Identification!G93)","v":""},{"$f":"IF(Table101214[[#This Row],[Type_CMS]]=\"\",\"\",IF(Table101214[[#This Row],[Type_CMS]]=\"CPMS - Continuous Parameter Monitoring System\",\"CPMS\",IF(Table101214[[#This Row],[Type_CMS]]=\"CEMS - Continuous Emission Monitoring System\",\"CEMS\",\"\")))","v":""},{"$f":"IF(Table101214[[#This Row],[CMS_Type_Short]]=\"\",\"\",IF(B72=\"\",\"\",B72&\" - \"&Table101214[[#This Row],[CMS_Description]]))","v":""},{"$f":"IF(COUNTIF(I$2:I72,I72)=1,I72,\"\")","v":""},{"$f":"+IF(L72=\"\",\"\",MAX(K$1:K71)+1)","v":""},"","","","","",""]
[{"$f":"+IF(J73=\"\",\"\",MAX(A$1:A72)+1)","v":""},{"$f":"IF(CMS_Identification!D94=\"\",\"\",CMS_Identification!D94)","v":""},{"$f":"IF(CMS_Identification!D94=\"\",\"\",CMS_Identification!B94)","v":""},{"$f":"IF(CMS_Identification!D94=\"\",\"\",CMS_Identification!C94)","v":""},{"$f":"IF(CMS_Identification!D94=\"\",\"\",CMS_Identification!E94)","v":""},{"$f":"IF(CMS_Identification!D94=\"\",\"\",CMS_Identification!F94)","v":""},{"$f":"IF(CMS_Identification!D94=\"\",\"\",CMS_Identification!G94)","v":""},{"$f":"IF(Table101214[[#This Row],[Type_CMS]]=\"\",\"\",IF(Table101214[[#This Row],[Type_CMS]]=\"CPMS - Continuous Parameter Monitoring System\",\"CPMS\",IF(Table101214[[#This Row],[Type_CMS]]=\"CEMS - Continuous Emission Monitoring System\",\"CEMS\",\"\")))","v":""},{"$f":"IF(Table101214[[#This Row],[CMS_Type_Short]]=\"\",\"\",IF(B73=\"\",\"\",B73&\" - \"&Table101214[[#This Row],[CMS_Description]]))","v":""},{"$f":"IF(COUNTIF(I$2:I73,I73)=1,I73,\"\")","v":""},{"$f":"+IF(L73=\"\",\"\",MAX(K$1:K72)+1)","v":""},"","","","","",""]
[{"$f":"+IF(J74=\"\",\"\",MAX(A$1:A73)+1)","v":""},{"$f":"IF(CMS_Identification!D95=\"\",\"\",CMS_Identification!D95)","v":""},{"$f":"IF(CMS_Identification!D95=\"\",\"\",CMS_Identification!B95)","v":""},{"$f":"IF(CMS_Identification!D95=\"\",\"\",CMS_Identification!C95)","v":""},{"$f":"IF(CMS_Identification!D95=\"\",\"\",CMS_Identification!E95)","v":""},{"$f":"IF(CMS_Identification!D95=\"\",\"\",CMS_Identification!F95)","v":""},{"$f":"IF(CMS_Identification!D95=\"\",\"\",CMS_Identification!G95)","v":""},{"$f":"IF(Table101214[[#This Row],[Type_CMS]]=\"\",\"\",IF(Table101214[[#This Row],[Type_CMS]]=\"CPMS - Continuous Parameter Monitoring System\",\"CPMS\",IF(Table101214[[#This Row],[Type_CMS]]=\"CEMS - Continuous Emission Monitoring System\",\"CEMS\",\"\")))","v":""},{"$f":"IF(Table101214[[#This Row],[CMS_Type_Short]]=\"\",\"\",IF(B74=\"\",\"\",B74&\" - \"&Table101214[[#This Row],[CMS_Description]]))","v":""},{"$f":"IF(COUNTIF(I$2:I74,I74)=1,I74,\"\")","v":""},{"$f":"+IF(L74=\"\",\"\",MAX(K$1:K73)+1)","v":""},"","","","","",""]
[{"$f":"+IF(J75=\"\",\"\",MAX(A$1:A74)+1)","v":""},{"$f":"IF(CMS_Identification!D96=\"\",\"\",CMS_Identification!D96)","v":""},{"$f":"IF(CMS_Identification!D96=\"\",\"\",CMS_Identification!B96)","v":""},{"$f":"IF(CMS_Identification!D96=\"\",\"\",CMS_Identification!C96)","v":""},{"$f":"IF(CMS_Identification!D96=\"\",\"\",CMS_Identification!E96)","v":""},{"$f":"IF(CMS_Identification!D96=\"\",\"\",CMS_Identification!F96)","v":""},{"$f":"IF(CMS_Identification!D96=\"\",\"\",CMS_Identification!G96)","v":""},{"$f":"IF(Table101214[[#This Row],[Type_CMS]]=\"\",\"\",IF(Table101214[[#This Row],[Type_CMS]]=\"CPMS - Continuous Parameter Monitoring System\",\"CPMS\",IF(Table101214[[#This Row],[Type_CMS]]=\"CEMS - Continuous Emission Monitoring System\",\"CEMS\",\"\")))","v":""},{"$f":"IF(Table101214[[#This Row],[CMS_Type_Short]]=\"\",\"\",IF(B75=\"\",\"\",B75&\" - \"&Table101214[[#This Row],[CMS_Description]]))","v":""},{"$f":"IF(COUNTIF(I$2:I75,I75)=1,I75,\"\")","v":""},{"$f":"+IF(L75=\"\",\"\",MAX(K$1:K74)+1)","v":""},"","","","","",""]
[{"$f":"+IF(J76=\"\",\"\",MAX(A$1:A75)+1)","v":""},{"$f":"IF(CMS_Identification!D97=\"\",\"\",CMS_Identification!D97)","v":""},{"$f":"IF(CMS_Identification!D97=\"\",\"\",CMS_Identification!B97)","v":""},{"$f":"IF(CMS_Identification!D97=\"\",\"\",CMS_Identification!C97)","v":""},{"$f":"IF(CMS_Identification!D97=\"\",\"\",CMS_Identification!E97)","v":""},{"$f":"IF(CMS_Identification!D97=\"\",\"\",CMS_Identification!F97)","v":""},{"$f":"IF(CMS_Identification!D97=\"\",\"\",CMS_Identification!G97)","v":""},{"$f":"IF(Table101214[[#This Row],[Type_CMS]]=\"\",\"\",IF(Table101214[[#This Row],[Type_CMS]]=\"CPMS - Continuous Parameter Monitoring System\",\"CPMS\",IF(Table101214[[#This Row],[Type_CMS]]=\"CEMS - Continuous Emission Monitoring System\",\"CEMS\",\"\")))","v":""},{"$f":"IF(Table101214[[#This Row],[CMS_Type_Short]]=\"\",\"\",IF(B76=\"\",\"\",B76&\" - \"&Table101214[[#This Row],[CMS_Description]]))","v":""},{"$f":"IF(COUNTIF(I$2:I76,I76)=1,I76,\"\")","v":""},{"$f":"+IF(L76=\"\",\"\",MAX(K$1:K75)+1)","v":""},"","","","","",""]
[{"$f":"+IF(J77=\"\",\"\",MAX(A$1:A76)+1)","v":""},{"$f":"IF(CMS_Identification!D98=\"\",\"\",CMS_Identification!D98)","v":""},{"$f":"IF(CMS_Identification!D98=\"\",\"\",CMS_Identification!B98)","v":""},{"$f":"IF(CMS_Identification!D98=\"\",\"\",CMS_Identification!C98)","v":""},{"$f":"IF(CMS_Identification!D98=\"\",\"\",CMS_Identification!E98)","v":""},{"$f":"IF(CMS_Identification!D98=\"\",\"\",CMS_Identification!F98)","v":""},{"$f":"IF(CMS_Identification!D98=\"\",\"\",CMS_Identification!G98)","v":""},{"$f":"IF(Table101214[[#This Row],[Type_CMS]]=\"\",\"\",IF(Table101214[[#This Row],[Type_CMS]]=\"CPMS - Continuous Parameter Monitoring System\",\"CPMS\",IF(Table101214[[#This Row],[Type_CMS]]=\"CEMS - Continuous Emission Monitoring System\",\"CEMS\",\"\")))","v":""},{"$f":"IF(Table101214[[#This Row],[CMS_Type_Short]]=\"\",\"\",IF(B77=\"\",\"\",B77&\" - \"&Table101214[[#This Row],[CMS_Description]]))","v":""},{"$f":"IF(COUNTIF(I$2:I77,I77)=1,I77,\"\")","v":""},{"$f":"+IF(L77=\"\",\"\",MAX(K$1:K76)+1)","v":""},"","","","","",""]
[{"$f":"+IF(J78=\"\",\"\",MAX(A$1:A77)+1)","v":""},{"$f":"IF(CMS_Identification!D99=\"\",\"\",CMS_Identification!D99)","v":""},{"$f":"IF(CMS_Identification!D99=\"\",\"\",CMS_Identification!B99)","v":""},{"$f":"IF(CMS_Identification!D99=\"\",\"\",CMS_Identification!C99)","v":""},{"$f":"IF(CMS_Identification!D99=\"\",\"\",CMS_Identification!E99)","v":""},{"$f":"IF(CMS_Identification!D99=\"\",\"\",CMS_Identification!F99)","v":""},{"$f":"IF(CMS_Identification!D99=\"\",\"\",CMS_Identification!G99)","v":""},{"$f":"IF(Table101214[[#This Row],[Type_CMS]]=\"\",\"\",IF(Table101214[[#This Row],[Type_CMS]]=\"CPMS - Continuous Parameter Monitoring System\",\"CPMS\",IF(Table101214[[#This Row],[Type_CMS]]=\"CEMS - Continuous Emission Monitoring System\",\"CEMS\",\"\")))","v":""},{"$f":"IF(Table101214[[#This Row],[CMS_Type_Short]]=\"\",\"\",IF(B78=\"\",\"\",B78&\" - \"&Table101214[[#This Row],[CMS_Description]]))","v":""},{"$f":"IF(COUNTIF(I$2:I78,I78)=1,I78,\"\")","v":""},{"$f":"+IF(L78=\"\",\"\",MAX(K$1:K77)+1)","v":""},"","","","","",""]
[{"$f":"+IF(J79=\"\",\"\",MAX(A$1:A78)+1)","v":""},{"$f":"IF(CMS_Identification!D100=\"\",\"\",CMS_Identification!D100)","v":""},{"$f":"IF(CMS_Identification!D100=\"\",\"\",CMS_Identification!B100)","v":""},{"$f":"IF(CMS_Identification!D100=\"\",\"\",CMS_Identification!C100)","v":""},{"$f":"IF(CMS_Identification!D100=\"\",\"\",CMS_Identification!E100)","v":""},{"$f":"IF(CMS_Identification!D100=\"\",\"\",CMS_Identification!F100)","v":""},{"$f":"IF(CMS_Identification!D100=\"\",\"\",CMS_Identification!G100)","v":""},{"$f":"IF(Table101214[[#This Row],[Type_CMS]]=\"\",\"\",IF(Table101214[[#This Row],[Type_CMS]]=\"CPMS - Continuous Parameter Monitoring System\",\"CPMS\",IF(Table101214[[#This Row],[Type_CMS]]=\"CEMS - Continuous Emission Monitoring System\",\"CEMS\",\"\")))","v":""},{"$f":"IF(Table101214[[#This Row],[CMS_Type_Short]]=\"\",\"\",IF(B79=\"\",\"\",B79&\" - \"&Table101214[[#This Row],[CMS_Description]]))","v":""},{"$f":"IF(COUNTIF(I$2:I79,I79)=1,I79,\"\")","v":""},{"$f":"+IF(L79=\"\",\"\",MAX(K$1:K78)+1)","v":""},"","","","","",""]

{"sheet":"CMS_Downtime","index":8,"n_rows":500,"n_cols":13,"rows_kept":500,"cut":false,"hidden":false,"merged":[]}
[null,"DO NOT REMOVE OR EDIT INFORMATION IN ROWS 1 THROUGH 5\nFOR INTERNAL USE ONLY"]
[null,"Template Name"]
[null,"CitationID"]
[null,"Template Version"]
[null,"Last Updated Date"]
[]
[null,"40 CFR Part 63, Subpart JJJJ National Emission Standards for Hazardous Air Pollutants: Paper and Other Web Coating - §63.3400 Semiannual Compliance Report Spreadsheet Template"]
[]
[]
[]
[]
[null,"Company Record No.\n(Autocompleted)","Control Device\n(§63.3400(c)(2)(v) and (vi))\n(Autocompleted)","Type of CMS\n(§63.3400(c)(2)(vi)) \n(Autocompleted)","Brief Description of CMS\n(§63.3400(c)(2)(vi))\n(Autocompleted)","Company Record Number, Control Device, and CMS Identification\n(Select from Dropdown)","Inoperative (not including low level (zero) and high level checks) or Out of Control\n(§63.3400(c)(2)(vi)(B) and (C))\n(Select from Dropdown)","Starting Date  Inoperative or Out of Control\n(§63.3400(c)(2)(vi)(B) or (C))","Starting Time Inoperative or Out of Control\n(§63.3400(c)(2)(vi)(B) or (C))","Ending Date Inoperative or Out of Control\n(§63.3400(c)(2)(vi)(B) or (C))","Ending Time Inoperative or Out of Control\n(§63.3400(c)(2)(vi)(B) or (C))","Total Duration Inoperative or Out of Control (hours)\n(§63.3400(c)(2)(vi)(E))\n(Calculated Value)","Cause of Downtime Incidents\n(§63.3400(c)(vi)(D) and (H))\n(Select from Dropdown)"]
[null,"RecordId","ControlId_CMSD","CMSType","CMSDescription","RecordControlCMS","InopOoC","StartDate_CMSD","StartTime_CMSD","EndDate_CMSD","EndTime_CMSD","Duration_CMSD","Cause_CMSD"]
[null,"e.g.: 1","e.g.: Group 1","e.g.: CPMS - Continuous Parameter Monitoring System","e.g.: Thermal Oxidizer Combustion Chamber Thermocouple","e.g.: 1 - RTO1 - CPMS - Thermal Oxidizer Combustion Chamber Thermocouple ","e.g.: Inoperative","e.g.: 3/2/2017","e.g.: 15:52","e.g.: 3/2/2017","e.g.: 17:45","e.g.: 1.88","e.g.: Monitoring equipment malfunctions"]
[null,"e.g.:","e.g.:","e.g.:","e.g.:","e.g.:","e.g.:","e.g.:","e.g.:","e.g.:","e.g.:","e.g.:","e.g.:"]
[null,"e.g.:","e.g.:","e.g.:","e.g.:","e.g.:","e.g.:","e.g.:","e.g.:","e.g.:","e.g.:","e.g.:","e.g.:"]
[null,"e.g.:","e.g.:","e.g.:","e.g.:","e.g.:","e.g.:","e.g.:","e.g.:","e.g.:","e.g.:","e.g.:","e.g.:"]
[null,"e.g.:","e.g.:","e.g.:","e.g.:","e.g.:","e.g.:","e.g.:","e.g.:","e.g.:","e.g.:","e.g.:","e.g.:"]
[null,"e.g.:","e.g.:","e.g.:","e.g.:","e.g.:","e.g.:","e.g.:","e.g.:","e.g.:","e.g.:","e.g.:","e.g.:"]
[null,"e.g.:","e.g.:","e.g.:","e.g.:","e.g.:","e.g.:","e.g.:","e.g.:","e.g.:","e.g.:","e.g.:","e.g.:"]
[null,"e.g.:","e.g.:","e.g.:","e.g.:","e.g.:","e.g.:","e.g.:","e.g.:","e.g.:","e.g.:","e.g.:","e.g.:"]
[null,"e.g.:","e.g.:","e.g.:","e.g.:","e.g.:","e.g.:","e.g.:","e.g.:","e.g.:","e.g.:","e.g.:","e.g.:"]
[null,"e.g.:","e.g.:","e.g.:","e.g.:","e.g.:","e.g.:","e.g.:","e.g.:","e.g.:","e.g.:","e.g.:","e.g.:"]
[null,{"$f":"IF(F24=\"\",\"\",VLOOKUP(F24,List_CMS!$L$3:$Q$79,2,FALSE))","v":""},{"$f":"IF(F24=\"\",\"\",VLOOKUP(F24,List_CMS!$L$3:$Q$79,3,FALSE))","v":""},{"$f":"IF(F24=\"\",\"\",VLOOKUP(F24,List_CMS!$L$3:$Q$79,4,FALSE))","v":""},{"$f":"IF(F24=\"\",\"\",VLOOKUP(F24,List_CMS!$L$3:$Q$79,5,FALSE))","v":""},null,null,null,null,null,null,{"$f":"IF(K24=\"\",\"\",(VALUE(TEXT(J24,\"m/dd/yy \")&TEXT(K24,\"hh:mm:ss\"))-(VALUE(TEXT(H24,\"m/dd/yy \")&TEXT(I24,\"hh:mm:ss\"))))*24)","v":""}]
[null,{"$f":"IF(F25=\"\",\"\",VLOOKUP(F25,List_CMS!$L$3:$Q$79,2,FALSE))","v":""},{"$f":"IF(F25=\"\",\"\",VLOOKUP(F25,List_CMS!$L$3:$Q$79,3,FALSE))","v":""},{"$f":"IF(F25=\"\",\"\",VLOOKUP(F25,List_CMS!$L$3:$Q$79,4,FALSE))","v":""},{"$f":"IF(F25=\"\",\"\",VLOOKUP(F25,List_CMS!$L$3:$Q$79,5,FALSE))","v":""},null,null,null,null,null,null,{"$f":"IF(K25=\"\",\"\",(VALUE(TEXT(J25,\"m/dd/yy \")&TEXT(K25,\"hh:mm:ss\"))-(VALUE(TEXT(H25,\"m/dd/yy \")&TEXT(I25,\"hh:mm:ss\"))))*24)","v":""}]
[null,{"$f":"IF(F26=\"\",\"\",VLOOKUP(F26,List_CMS!$L$3:$Q$79,2,FALSE))","v":""},{"$f":"IF(F26=\"\",\"\",VLOOKUP(F26,List_CMS!$L$3:$Q$79,3,FALSE))","v":""},{"$f":"IF(F26=\"\",\"\",VLOOKUP(F26,List_CMS!$L$3:$Q$79,4,FALSE))","v":""},{"$f":"IF(F26=\"\",\"\",VLOOKUP(F26,List_CMS!$L$3:$Q$79,5,FALSE))","v":""},null,null,null,null,null,null,""]
[null,{"$f":"IF(F27=\"\",\"\",VLOOKUP(F27,List_CMS!$L$3:$Q$79,2,FALSE))","v":""},{"$f":"IF(F27=\"\",\"\",VLOOKUP(F27,List_CMS!$L$3:$Q$79,3,FALSE))","v":""},{"$f":"IF(F27=\"\",\"\",VLOOKUP(F27,List_CMS!$L$3:$Q$79,4,FALSE))","v":""},{"$f":"IF(F27=\"\",\"\",VLOOKUP(F27,List_CMS!$L$3:$Q$79,5,FALSE))","v":""},null,null,null,null,null,null,""]
[null,{"$f":"IF(F28=\"\",\"\",VLOOKUP(F28,List_CMS!$L$3:$Q$79,2,FALSE))","v":""},{"$f":"IF(F28=\"\",\"\",VLOOKUP(F28,List_CMS!$L$3:$Q$79,3,FALSE))","v":""},{"$f":"IF(F28=\"\",\"\",VLOOKUP(F28,List_CMS!$L$3:$Q$79,4,FALSE))","v":""},{"$f":"IF(F28=\"\",\"\",VLOOKUP(F28,List_CMS!$L$3:$Q$79,5,FALSE))","v":""},null,null,null,null,null,null,""]
[null,{"$f":"IF(F29=\"\",\"\",VLOOKUP(F29,List_CMS!$L$3:$Q$79,2,FALSE))","v":""},{"$f":"IF(F29=\"\",\"\",VLOOKUP(F29,List_CMS!$L$3:$Q$79,3,FALSE))","v":""},{"$f":"IF(F29=\"\",\"\",VLOOKUP(F29,List_CMS!$L$3:$Q$79,4,FALSE))","v":""},{"$f":"IF(F29=\"\",\"\",VLOOKUP(F29,List_CMS!$L$3:$Q$79,5,FALSE))","v":""},null,null,null,null,null,null,""]
[null,{"$f":"IF(F30=\"\",\"\",VLOOKUP(F30,List_CMS!$L$3:$Q$79,2,FALSE))","v":""},{"$f":"IF(F30=\"\",\"\",VLOOKUP(F30,List_CMS!$L$3:$Q$79,3,FALSE))","v":""},{"$f":"IF(F30=\"\",\"\",VLOOKUP(F30,List_CMS!$L$3:$Q$79,4,FALSE))","v":""},{"$f":"IF(F30=\"\",\"\",VLOOKUP(F30,List_CMS!$L$3:$Q$79,5,FALSE))","v":""},null,null,null,null,null,null,""]
[null,{"$f":"IF(F31=\"\",\"\",VLOOKUP(F31,List_CMS!$L$3:$Q$79,2,FALSE))","v":""},{"$f":"IF(F31=\"\",\"\",VLOOKUP(F31,List_CMS!$L$3:$Q$79,3,FALSE))","v":""},{"$f":"IF(F31=\"\",\"\",VLOOKUP(F31,List_CMS!$L$3:$Q$79,4,FALSE))","v":""},{"$f":"IF(F31=\"\",\"\",VLOOKUP(F31,List_CMS!$L$3:$Q$79,5,FALSE))","v":""},null,null,null,null,null,null,""]
[null,{"$f":"IF(F32=\"\",\"\",VLOOKUP(F32,List_CMS!$L$3:$Q$79,2,FALSE))","v":""},{"$f":"IF(F32=\"\",\"\",VLOOKUP(F32,List_CMS!$L$3:$Q$79,3,FALSE))","v":""},{"$f":"IF(F32=\"\",\"\",VLOOKUP(F32,List_CMS!$L$3:$Q$79,4,FALSE))","v":""},{"$f":"IF(F32=\"\",\"\",VLOOKUP(F32,List_CMS!$L$3:$Q$79,5,FALSE))","v":""},null,null,null,null,null,null,""]
[null,{"$f":"IF(F33=\"\",\"\",VLOOKUP(F33,List_CMS!$L$3:$Q$79,2,FALSE))","v":""},{"$f":"IF(F33=\"\",\"\",VLOOKUP(F33,List_CMS!$L$3:$Q$79,3,FALSE))","v":""},{"$f":"IF(F33=\"\",\"\",VLOOKUP(F33,List_CMS!$L$3:$Q$79,4,FALSE))","v":""},{"$f":"IF(F33=\"\",\"\",VLOOKUP(F33,List_CMS!$L$3:$Q$79,5,FALSE))","v":""},null,null,null,null,null,null,""]
[null,{"$f":"IF(F34=\"\",\"\",VLOOKUP(F34,List_CMS!$L$3:$Q$79,2,FALSE))","v":""},{"$f":"IF(F34=\"\",\"\",VLOOKUP(F34,List_CMS!$L$3:$Q$79,3,FALSE))","v":""},{"$f":"IF(F34=\"\",\"\",VLOOKUP(F34,List_CMS!$L$3:$Q$79,4,FALSE))","v":""},{"$f":"IF(F34=\"\",\"\",VLOOKUP(F34,List_CMS!$L$3:$Q$79,5,FALSE))","v":""},null,null,null,null,null,null,""]
[null,{"$f":"IF(F35=\"\",\"\",VLOOKUP(F35,List_CMS!$L$3:$Q$79,2,FALSE))","v":""},{"$f":"IF(F35=\"\",\"\",VLOOKUP(F35,List_CMS!$L$3:$Q$79,3,FALSE))","v":""},{"$f":"IF(F35=\"\",\"\",VLOOKUP(F35,List_CMS!$L$3:$Q$79,4,FALSE))","v":""},{"$f":"IF(F35=\"\",\"\",VLOOKUP(F35,List_CMS!$L$3:$Q$79,5,FALSE))","v":""},null,null,null,null,null,null,""]
[null,{"$f":"IF(F36=\"\",\"\",VLOOKUP(F36,List_CMS!$L$3:$Q$79,2,FALSE))","v":""},{"$f":"IF(F36=\"\",\"\",VLOOKUP(F36,List_CMS!$L$3:$Q$79,3,FALSE))","v":""},{"$f":"IF(F36=\"\",\"\",VLOOKUP(F36,List_CMS!$L$3:$Q$79,4,FALSE))","v":""},{"$f":"IF(F36=\"\",\"\",VLOOKUP(F36,List_CMS!$L$3:$Q$79,5,FALSE))","v":""},null,null,null,null,null,null,""]
[null,{"$f":"IF(F37=\"\",\"\",VLOOKUP(F37,List_CMS!$L$3:$Q$79,2,FALSE))","v":""},{"$f":"IF(F37=\"\",\"\",VLOOKUP(F37,List_CMS!$L$3:$Q$79,3,FALSE))","v":""},{"$f":"IF(F37=\"\",\"\",VLOOKUP(F37,List_CMS!$L$3:$Q$79,4,FALSE))","v":""},{"$f":"IF(F37=\"\",\"\",VLOOKUP(F37,List_CMS!$L$3:$Q$79,5,FALSE))","v":""},null,null,null,null,null,null,""]
[null,{"$f":"IF(F38=\"\",\"\",VLOOKUP(F38,List_CMS!$L$3:$Q$79,2,FALSE))","v":""},{"$f":"IF(F38=\"\",\"\",VLOOKUP(F38,List_CMS!$L$3:$Q$79,3,FALSE))","v":""},{"$f":"IF(F38=\"\",\"\",VLOOKUP(F38,List_CMS!$L$3:$Q$79,4,FALSE))","v":""},{"$f":"IF(F38=\"\",\"\",VLOOKUP(F38,List_CMS!$L$3:$Q$79,5,FALSE))","v":""},null,null,null,null,null,null,""]
[null,{"$f":"IF(F39=\"\",\"\",VLOOKUP(F39,List_CMS!$L$3:$Q$79,2,FALSE))","v":""},{"$f":"IF(F39=\"\",\"\",VLOOKUP(F39,List_CMS!$L$3:$Q$79,3,FALSE))","v":""},{"$f":"IF(F39=\"\",\"\",VLOOKUP(F39,List_CMS!$L$3:$Q$79,4,FALSE))","v":""},{"$f":"IF(F39=\"\",\"\",VLOOKUP(F39,List_CMS!$L$3:$Q$79,5,FALSE))","v":""},null,null,null,null,null,null,""]
[null,{"$f":"IF(F40=\"\",\"\",VLOOKUP(F40,List_CMS!$L$3:$Q$79,2,FALSE))","v":""},{"$f":"IF(F40=\"\",\"\",VLOOKUP(F40,List_CMS!$L$3:$Q$79,3,FALSE))","v":""},{"$f":"IF(F40=\"\",\"\",VLOOKUP(F40,List_CMS!$L$3:$Q$79,4,FALSE))","v":""},{"$f":"IF(F40=\"\",\"\",VLOOKUP(F40,List_CMS!$L$3:$Q$79,5,FALSE))","v":""},null,null,null,null,null,null,""]
[null,{"$f":"IF(F41=\"\",\"\",VLOOKUP(F41,List_CMS!$L$3:$Q$79,2,FALSE))","v":""},{"$f":"IF(F41=\"\",\"\",VLOOKUP(F41,List_CMS!$L$3:$Q$79,3,FALSE))","v":""},{"$f":"IF(F41=\"\",\"\",VLOOKUP(F41,List_CMS!$L$3:$Q$79,4,FALSE))","v":""},{"$f":"IF(F41=\"\",\"\",VLOOKUP(F41,List_CMS!$L$3:$Q$79,5,FALSE))","v":""},null,null,null,null,null,null,""]
[null,{"$f":"IF(F42=\"\",\"\",VLOOKUP(F42,List_CMS!$L$3:$Q$79,2,FALSE))","v":""},{"$f":"IF(F42=\"\",\"\",VLOOKUP(F42,List_CMS!$L$3:$Q$79,3,FALSE))","v":""},{"$f":"IF(F42=\"\",\"\",VLOOKUP(F42,List_CMS!$L$3:$Q$79,4,FALSE))","v":""},{"$f":"IF(F42=\"\",\"\",VLOOKUP(F42,List_CMS!$L$3:$Q$79,5,FALSE))","v":""},null,null,null,null,null,null,""]
[null,{"$f":"IF(F43=\"\",\"\",VLOOKUP(F43,List_CMS!$L$3:$Q$79,2,FALSE))","v":""},{"$f":"IF(F43=\"\",\"\",VLOOKUP(F43,List_CMS!$L$3:$Q$79,3,FALSE))","v":""},{"$f":"IF(F43=\"\",\"\",VLOOKUP(F43,List_CMS!$L$3:$Q$79,4,FALSE))","v":""},{"$f":"IF(F43=\"\",\"\",VLOOKUP(F43,List_CMS!$L$3:$Q$79,5,FALSE))","v":""},null,null,null,null,null,null,""]
[null,{"$f":"IF(F44=\"\",\"\",VLOOKUP(F44,List_CMS!$L$3:$Q$79,2,FALSE))","v":""},{"$f":"IF(F44=\"\",\"\",VLOOKUP(F44,List_CMS!$L$3:$Q$79,3,FALSE))","v":""},{"$f":"IF(F44=\"\",\"\",VLOOKUP(F44,List_CMS!$L$3:$Q$79,4,FALSE))","v":""},{"$f":"IF(F44=\"\",\"\",VLOOKUP(F44,List_CMS!$L$3:$Q$79,5,FALSE))","v":""},null,null,null,null,null,null,""]
[null,{"$f":"IF(F45=\"\",\"\",VLOOKUP(F45,List_CMS!$L$3:$Q$79,2,FALSE))","v":""},{"$f":"IF(F45=\"\",\"\",VLOOKUP(F45,List_CMS!$L$3:$Q$79,3,FALSE))","v":""},{"$f":"IF(F45=\"\",\"\",VLOOKUP(F45,List_CMS!$L$3:$Q$79,4,FALSE))","v":""},{"$f":"IF(F45=\"\",\"\",VLOOKUP(F45,List_CMS!$L$3:$Q$79,5,FALSE))","v":""},null,null,null,null,null,null,""]
[null,{"$f":"IF(F46=\"\",\"\",VLOOKUP(F46,List_CMS!$L$3:$Q$79,2,FALSE))","v":""},{"$f":"IF(F46=\"\",\"\",VLOOKUP(F46,List_CMS!$L$3:$Q$79,3,FALSE))","v":""},{"$f":"IF(F46=\"\",\"\",VLOOKUP(F46,List_CMS!$L$3:$Q$79,4,FALSE))","v":""},{"$f":"IF(F46=\"\",\"\",VLOOKUP(F46,List_CMS!$L$3:$Q$79,5,FALSE))","v":""},null,null,null,null,null,null,""]
[null,{"$f":"IF(F47=\"\",\"\",VLOOKUP(F47,List_CMS!$L$3:$Q$79,2,FALSE))","v":""},{"$f":"IF(F47=\"\",\"\",VLOOKUP(F47,List_CMS!$L$3:$Q$79,3,FALSE))","v":""},{"$f":"IF(F47=\"\",\"\",VLOOKUP(F47,List_CMS!$L$3:$Q$79,4,FALSE))","v":""},{"$f":"IF(F47=\"\",\"\",VLOOKUP(F47,List_CMS!$L$3:$Q$79,5,FALSE))","v":""},null,null,null,null,null,null,""]
[null,{"$f":"IF(F48=\"\",\"\",VLOOKUP(F48,List_CMS!$L$3:$Q$79,2,FALSE))","v":""},{"$f":"IF(F48=\"\",\"\",VLOOKUP(F48,List_CMS!$L$3:$Q$79,3,FALSE))","v":""},{"$f":"IF(F48=\"\",\"\",VLOOKUP(F48,List_CMS!$L$3:$Q$79,4,FALSE))","v":""},{"$f":"IF(F48=\"\",\"\",VLOOKUP(F48,List_CMS!$L$3:$Q$79,5,FALSE))","v":""},null,null,null,null,null,null,""]
[null,{"$f":"IF(F49=\"\",\"\",VLOOKUP(F49,List_CMS!$L$3:$Q$79,2,FALSE))","v":""},{"$f":"IF(F49=\"\",\"\",VLOOKUP(F49,List_CMS!$L$3:$Q$79,3,FALSE))","v":""},{"$f":"IF(F49=\"\",\"\",VLOOKUP(F49,List_CMS!$L$3:$Q$79,4,FALSE))","v":""},{"$f":"IF(F49=\"\",\"\",VLOOKUP(F49,List_CMS!$L$3:$Q$79,5,FALSE))","v":""},null,null,null,null,null,null,""]
[null,{"$f":"IF(F50=\"\",\"\",VLOOKUP(F50,List_CMS!$L$3:$Q$79,2,FALSE))","v":""},{"$f":"IF(F50=\"\",\"\",VLOOKUP(F50,List_CMS!$L$3:$Q$79,3,FALSE))","v":""},{"$f":"IF(F50=\"\",\"\",VLOOKUP(F50,List_CMS!$L$3:$Q$79,4,FALSE))","v":""},{"$f":"IF(F50=\"\",\"\",VLOOKUP(F50,List_CMS!$L$3:$Q$79,5,FALSE))","v":""},null,null,null,null,null,null,""]
[null,{"$f":"IF(F51=\"\",\"\",VLOOKUP(F51,List_CMS!$L$3:$Q$79,2,FALSE))","v":""},{"$f":"IF(F51=\"\",\"\",VLOOKUP(F51,List_CMS!$L$3:$Q$79,3,FALSE))","v":""},{"$f":"IF(F51=\"\",\"\",VLOOKUP(F51,List_CMS!$L$3:$Q$79,4,FALSE))","v":""},{"$f":"IF(F51=\"\",\"\",VLOOKUP(F51,List_CMS!$L$3:$Q$79,5,FALSE))","v":""},null,null,null,null,null,null,""]
[null,{"$f":"IF(F52=\"\",\"\",VLOOKUP(F52,List_CMS!$L$3:$Q$79,2,FALSE))","v":""},{"$f":"IF(F52=\"\",\"\",VLOOKUP(F52,List_CMS!$L$3:$Q$79,3,FALSE))","v":""},{"$f":"IF(F52=\"\",\"\",VLOOKUP(F52,List_CMS!$L$3:$Q$79,4,FALSE))","v":""},{"$f":"IF(F52=\"\",\"\",VLOOKUP(F52,List_CMS!$L$3:$Q$79,5,FALSE))","v":""},null,null,null,null,null,null,""]
[null,{"$f":"IF(F53=\"\",\"\",VLOOKUP(F53,List_CMS!$L$3:$Q$79,2,FALSE))","v":""},{"$f":"IF(F53=\"\",\"\",VLOOKUP(F53,List_CMS!$L$3:$Q$79,3,FALSE))","v":""},{"$f":"IF(F53=\"\",\"\",VLOOKUP(F53,List_CMS!$L$3:$Q$79,4,FALSE))","v":""},{"$f":"IF(F53=\"\",\"\",VLOOKUP(F53,List_CMS!$L$3:$Q$79,5,FALSE))","v":""},null,null,null,null,null,null,""]
[null,{"$f":"IF(F54=\"\",\"\",VLOOKUP(F54,List_CMS!$L$3:$Q$79,2,FALSE))","v":""},{"$f":"IF(F54=\"\",\"\",VLOOKUP(F54,List_CMS!$L$3:$Q$79,3,FALSE))","v":""},{"$f":"IF(F54=\"\",\"\",VLOOKUP(F54,List_CMS!$L$3:$Q$79,4,FALSE))","v":""},{"$f":"IF(F54=\"\",\"\",VLOOKUP(F54,List_CMS!$L$3:$Q$79,5,FALSE))","v":""},null,null,null,null,null,null,""]
[null,{"$f":"IF(F55=\"\",\"\",VLOOKUP(F55,List_CMS!$L$3:$Q$79,2,FALSE))","v":""},{"$f":"IF(F55=\"\",\"\",VLOOKUP(F55,List_CMS!$L$3:$Q$79,3,FALSE))","v":""},{"$f":"IF(F55=\"\",\"\",VLOOKUP(F55,List_CMS!$L$3:$Q$79,4,FALSE))","v":""},{"$f":"IF(F55=\"\",\"\",VLOOKUP(F55,List_CMS!$L$3:$Q$79,5,FALSE))","v":""},null,null,null,null,null,null,""]
[null,{"$f":"IF(F56=\"\",\"\",VLOOKUP(F56,List_CMS!$L$3:$Q$79,2,FALSE))","v":""},{"$f":"IF(F56=\"\",\"\",VLOOKUP(F56,List_CMS!$L$3:$Q$79,3,FALSE))","v":""},{"$f":"IF(F56=\"\",\"\",VLOOKUP(F56,List_CMS!$L$3:$Q$79,4,FALSE))","v":""},{"$f":"IF(F56=\"\",\"\",VLOOKUP(F56,List_CMS!$L$3:$Q$79,5,FALSE))","v":""},null,null,null,null,null,null,""]
[null,{"$f":"IF(F57=\"\",\"\",VLOOKUP(F57,List_CMS!$L$3:$Q$79,2,FALSE))","v":""},{"$f":"IF(F57=\"\",\"\",VLOOKUP(F57,List_CMS!$L$3:$Q$79,3,FALSE))","v":""},{"$f":"IF(F57=\"\",\"\",VLOOKUP(F57,List_CMS!$L$3:$Q$79,4,FALSE))","v":""},{"$f":"IF(F57=\"\",\"\",VLOOKUP(F57,List_CMS!$L$3:$Q$79,5,FALSE))","v":""},null,null,null,null,null,null,""]
[null,{"$f":"IF(F58=\"\",\"\",VLOOKUP(F58,List_CMS!$L$3:$Q$79,2,FALSE))","v":""},{"$f":"IF(F58=\"\",\"\",VLOOKUP(F58,List_CMS!$L$3:$Q$79,3,FALSE))","v":""},{"$f":"IF(F58=\"\",\"\",VLOOKUP(F58,List_CMS!$L$3:$Q$79,4,FALSE))","v":""},{"$f":"IF(F58=\"\",\"\",VLOOKUP(F58,List_CMS!$L$3:$Q$79,5,FALSE))","v":""},null,null,null,null,null,null,""]
[null,{"$f":"IF(F59=\"\",\"\",VLOOKUP(F59,List_CMS!$L$3:$Q$79,2,FALSE))","v":""},{"$f":"IF(F59=\"\",\"\",VLOOKUP(F59,List_CMS!$L$3:$Q$79,3,FALSE))","v":""},{"$f":"IF(F59=\"\",\"\",VLOOKUP(F59,List_CMS!$L$3:$Q$79,4,FALSE))","v":""},{"$f":"IF(F59=\"\",\"\",VLOOKUP(F59,List_CMS!$L$3:$Q$79,5,FALSE))","v":""},null,null,null,null,null,null,""]
[null,{"$f":"IF(F60=\"\",\"\",VLOOKUP(F60,List_CMS!$L$3:$Q$79,2,FALSE))","v":""},{"$f":"IF(F60=\"\",\"\",VLOOKUP(F60,List_CMS!$L$3:$Q$79,3,FALSE))","v":""},{"$f":"IF(F60=\"\",\"\",VLOOKUP(F60,List_CMS!$L$3:$Q$79,4,FALSE))","v":""},{"$f":"IF(F60=\"\",\"\",VLOOKUP(F60,List_CMS!$L$3:$Q$79,5,FALSE))","v":""},null,null,null,null,null,null,""]
[null,{"$f":"IF(F61=\"\",\"\",VLOOKUP(F61,List_CMS!$L$3:$Q$79,2,FALSE))","v":""},{"$f":"IF(F61=\"\",\"\",VLOOKUP(F61,List_CMS!$L$3:$Q$79,3,FALSE))","v":""},{"$f":"IF(F61=\"\",\"\",VLOOKUP(F61,List_CMS!$L$3:$Q$79,4,FALSE))","v":""},{"$f":"IF(F61=\"\",\"\",VLOOKUP(F61,List_CMS!$L$3:$Q$79,5,FALSE))","v":""},null,null,null,null,null,null,""]
[null,{"$f":"IF(F62=\"\",\"\",VLOOKUP(F62,List_CMS!$L$3:$Q$79,2,FALSE))","v":""},{"$f":"IF(F62=\"\",\"\",VLOOKUP(F62,List_CMS!$L$3:$Q$79,3,FALSE))","v":""},{"$f":"IF(F62=\"\",\"\",VLOOKUP(F62,List_CMS!$L$3:$Q$79,4,FALSE))","v":""},{"$f":"IF(F62=\"\",\"\",VLOOKUP(F62,List_CMS!$L$3:$Q$79,5,FALSE))","v":""},null,null,null,null,null,null,""]
[null,{"$f":"IF(F63=\"\",\"\",VLOOKUP(F63,List_CMS!$L$3:$Q$79,2,FALSE))","v":""},{"$f":"IF(F63=\"\",\"\",VLOOKUP(F63,List_CMS!$L$3:$Q$79,3,FALSE))","v":""},{"$f":"IF(F63=\"\",\"\",VLOOKUP(F63,List_CMS!$L$3:$Q$79,4,FALSE))","v":""},{"$f":"IF(F63=\"\",\"\",VLOOKUP(F63,List_CMS!$L$3:$Q$79,5,FALSE))","v":""},null,null,null,null,null,null,""]
[null,{"$f":"IF(F64=\"\",\"\",VLOOKUP(F64,List_CMS!$L$3:$Q$79,2,FALSE))","v":""},{"$f":"IF(F64=\"\",\"\",VLOOKUP(F64,List_CMS!$L$3:$Q$79,3,FALSE))","v":""},{"$f":"IF(F64=\"\",\"\",VLOOKUP(F64,List_CMS!$L$3:$Q$79,4,FALSE))","v":""},{"$f":"IF(F64=\"\",\"\",VLOOKUP(F64,List_CMS!$L$3:$Q$79,5,FALSE))","v":""},null,null,null,null,null,null,""]
[null,{"$f":"IF(F65=\"\",\"\",VLOOKUP(F65,List_CMS!$L$3:$Q$79,2,FALSE))","v":""},{"$f":"IF(F65=\"\",\"\",VLOOKUP(F65,List_CMS!$L$3:$Q$79,3,FALSE))","v":""},{"$f":"IF(F65=\"\",\"\",VLOOKUP(F65,List_CMS!$L$3:$Q$79,4,FALSE))","v":""},{"$f":"IF(F65=\"\",\"\",VLOOKUP(F65,List_CMS!$L$3:$Q$79,5,FALSE))","v":""},null,null,null,null,null,null,""]
[null,{"$f":"IF(F66=\"\",\"\",VLOOKUP(F66,List_CMS!$L$3:$Q$79,2,FALSE))","v":""},{"$f":"IF(F66=\"\",\"\",VLOOKUP(F66,List_CMS!$L$3:$Q$79,3,FALSE))","v":""},{"$f":"IF(F66=\"\",\"\",VLOOKUP(F66,List_CMS!$L$3:$Q$79,4,FALSE))","v":""},{"$f":"IF(F66=\"\",\"\",VLOOKUP(F66,List_CMS!$L$3:$Q$79,5,FALSE))","v":""},null,null,null,null,null,null,""]
[null,{"$f":"IF(F67=\"\",\"\",VLOOKUP(F67,List_CMS!$L$3:$Q$79,2,FALSE))","v":""},{"$f":"IF(F67=\"\",\"\",VLOOKUP(F67,List_CMS!$L$3:$Q$79,3,FALSE))","v":""},{"$f":"IF(F67=\"\",\"\",VLOOKUP(F67,List_CMS!$L$3:$Q$79,4,FALSE))","v":""},{"$f":"IF(F67=\"\",\"\",VLOOKUP(F67,List_CMS!$L$3:$Q$79,5,FALSE))","v":""},null,null,null,null,null,null,""]
[null,{"$f":"IF(F68=\"\",\"\",VLOOKUP(F68,List_CMS!$L$3:$Q$79,2,FALSE))","v":""},{"$f":"IF(F68=\"\",\"\",VLOOKUP(F68,List_CMS!$L$3:$Q$79,3,FALSE))","v":""},{"$f":"IF(F68=\"\",\"\",VLOOKUP(F68,List_CMS!$L$3:$Q$79,4,FALSE))","v":""},{"$f":"IF(F68=\"\",\"\",VLOOKUP(F68,List_CMS!$L$3:$Q$79,5,FALSE))","v":""},null,null,null,null,null,null,""]
[null,{"$f":"IF(F69=\"\",\"\",VLOOKUP(F69,List_CMS!$L$3:$Q$79,2,FALSE))","v":""},{"$f":"IF(F69=\"\",\"\",VLOOKUP(F69,List_CMS!$L$3:$Q$79,3,FALSE))","v":""},{"$f":"IF(F69=\"\",\"\",VLOOKUP(F69,List_CMS!$L$3:$Q$79,4,FALSE))","v":""},{"$f":"IF(F69=\"\",\"\",VLOOKUP(F69,List_CMS!$L$3:$Q$79,5,FALSE))","v":""},null,null,null,null,null,null,""]
[null,{"$f":"IF(F70=\"\",\"\",VLOOKUP(F70,List_CMS!$L$3:$Q$79,2,FALSE))","v":""},{"$f":"IF(F70=\"\",\"\",VLOOKUP(F70,List_CMS!$L$3:$Q$79,3,FALSE))","v":""},{"$f":"IF(F70=\"\",\"\",VLOOKUP(F70,List_CMS!$L$3:$Q$79,4,FALSE))","v":""},{"$f":"IF(F70=\"\",\"\",VLOOKUP(F70,List_CMS!$L$3:$Q$79,5,FALSE))","v":""},null,null,null,null,null,null,""]
[null,{"$f":"IF(F71=\"\",\"\",VLOOKUP(F71,List_CMS!$L$3:$Q$79,2,FALSE))","v":""},{"$f":"IF(F71=\"\",\"\",VLOOKUP(F71,List_CMS!$L$3:$Q$79,3,FALSE))","v":""},{"$f":"IF(F71=\"\",\"\",VLOOKUP(F71,List_CMS!$L$3:$Q$79,4,FALSE))","v":""},{"$f":"IF(F71=\"\",\"\",VLOOKUP(F71,List_CMS!$L$3:$Q$79,5,FALSE))","v":""},null,null,null,null,null,null,""]
[null,{"$f":"IF(F72=\"\",\"\",VLOOKUP(F72,List_CMS!$L$3:$Q$79,2,FALSE))","v":""},{"$f":"IF(F72=\"\",\"\",VLOOKUP(F72,List_CMS!$L$3:$Q$79,3,FALSE))","v":""},{"$f":"IF(F72=\"\",\"\",VLOOKUP(F72,List_CMS!$L$3:$Q$79,4,FALSE))","v":""},{"$f":"IF(F72=\"\",\"\",VLOOKUP(F72,List_CMS!$L$3:$Q$79,5,FALSE))","v":""},null,null,null,null,null,null,""]
[null,{"$f":"IF(F73=\"\",\"\",VLOOKUP(F73,List_CMS!$L$3:$Q$79,2,FALSE))","v":""},{"$f":"IF(F73=\"\",\"\",VLOOKUP(F73,List_CMS!$L$3:$Q$79,3,FALSE))","v":""},{"$f":"IF(F73=\"\",\"\",VLOOKUP(F73,List_CMS!$L$3:$Q$79,4,FALSE))","v":""},{"$f":"IF(F73=\"\",\"\",VLOOKUP(F73,List_CMS!$L$3:$Q$79,5,FALSE))","v":""},null,null,null,null,null,null,""]
[null,{"$f":"IF(F74=\"\",\"\",VLOOKUP(F74,List_CMS!$L$3:$Q$79,2,FALSE))","v":""},{"$f":"IF(F74=\"\",\"\",VLOOKUP(F74,List_CMS!$L$3:$Q$79,3,FALSE))","v":""},{"$f":"IF(F74=\"\",\"\",VLOOKUP(F74,List_CMS!$L$3:$Q$79,4,FALSE))","v":""},{"$f":"IF(F74=\"\",\"\",VLOOKUP(F74,List_CMS!$L$3:$Q$79,5,FALSE))","v":""},null,null,null,null,null,null,""]
[null,{"$f":"IF(F75=\"\",\"\",VLOOKUP(F75,List_CMS!$L$3:$Q$79,2,FALSE))","v":""},{"$f":"IF(F75=\"\",\"\",VLOOKUP(F75,List_CMS!$L$3:$Q$79,3,FALSE))","v":""},{"$f":"IF(F75=\"\",\"\",VLOOKUP(F75,List_CMS!$L$3:$Q$79,4,FALSE))","v":""},{"$f":"IF(F75=\"\",\"\",VLOOKUP(F75,List_CMS!$L$3:$Q$79,5,FALSE))","v":""},null,null,null,null,null,null,""]
[null,{"$f":"IF(F76=\"\",\"\",VLOOKUP(F76,List_CMS!$L$3:$Q$79,2,FALSE))","v":""},{"$f":"IF(F76=\"\",\"\",VLOOKUP(F76,List_CMS!$L$3:$Q$79,3,FALSE))","v":""},{"$f":"IF(F76=\"\",\"\",VLOOKUP(F76,List_CMS!$L$3:$Q$79,4,FALSE))","v":""},{"$f":"IF(F76=\"\",\"\",VLOOKUP(F76,List_CMS!$L$3:$Q$79,5,FALSE))","v":""},null,null,null,null,null,null,""]
[null,{"$f":"IF(F77=\"\",\"\",VLOOKUP(F77,List_CMS!$L$3:$Q$79,2,FALSE))","v":""},{"$f":"IF(F77=\"\",\"\",VLOOKUP(F77,List_CMS!$L$3:$Q$79,3,FALSE))","v":""},{"$f":"IF(F77=\"\",\"\",VLOOKUP(F77,List_CMS!$L$3:$Q$79,4,FALSE))","v":""},{"$f":"IF(F77=\"\",\"\",VLOOKUP(F77,List_CMS!$L$3:$Q$79,5,FALSE))","v":""},null,null,null,null,null,null,""]
[null,{"$f":"IF(F78=\"\",\"\",VLOOKUP(F78,List_CMS!$L$3:$Q$79,2,FALSE))","v":""},{"$f":"IF(F78=\"\",\"\",VLOOKUP(F78,List_CMS!$L$3:$Q$79,3,FALSE))","v":""},{"$f":"IF(F78=\"\",\"\",VLOOKUP(F78,List_CMS!$L$3:$Q$79,4,FALSE))","v":""},{"$f":"IF(F78=\"\",\"\",VLOOKUP(F78,List_CMS!$L$3:$Q$79,5,FALSE))","v":""},null,null,null,null,null,null,""]
[null,{"$f":"IF(F79=\"\",\"\",VLOOKUP(F79,List_CMS!$L$3:$Q$79,2,FALSE))","v":""},{"$f":"IF(F79=\"\",\"\",VLOOKUP(F79,List_CMS!$L$3:$Q$79,3,FALSE))","v":""},{"$f":"IF(F79=\"\",\"\",VLOOKUP(F79,List_CMS!$L$3:$Q$79,4,FALSE))","v":""},{"$f":"IF(F79=\"\",\"\",VLOOKUP(F79,List_CMS!$L$3:$Q$79,5,FALSE))","v":""},null,null,null,null,null,null,""]
[null,{"$f":"IF(F80=\"\",\"\",VLOOKUP(F80,List_CMS!$L$3:$Q$79,2,FALSE))","v":""},{"$f":"IF(F80=\"\",\"\",VLOOKUP(F80,List_CMS!$L$3:$Q$79,3,FALSE))","v":""},{"$f":"IF(F80=\"\",\"\",VLOOKUP(F80,List_CMS!$L$3:$Q$79,4,FALSE))","v":""},{"$f":"IF(F80=\"\",\"\",VLOOKUP(F80,List_CMS!$L$3:$Q$79,5,FALSE))","v":""},null,null,null,null,null,null,""]
[null,{"$f":"IF(F81=\"\",\"\",VLOOKUP(F81,List_CMS!$L$3:$Q$79,2,FALSE))","v":""},{"$f":"IF(F81=\"\",\"\",VLOOKUP(F81,List_CMS!$L$3:$Q$79,3,FALSE))","v":""},{"$f":"IF(F81=\"\",\"\",VLOOKUP(F81,List_CMS!$L$3:$Q$79,4,FALSE))","v":""},{"$f":"IF(F81=\"\",\"\",VLOOKUP(F81,List_CMS!$L$3:$Q$79,5,FALSE))","v":""},null,null,null,null,null,null,""]
[null,{"$f":"IF(F82=\"\",\"\",VLOOKUP(F82,List_CMS!$L$3:$Q$79,2,FALSE))","v":""},{"$f":"IF(F82=\"\",\"\",VLOOKUP(F82,List_CMS!$L$3:$Q$79,3,FALSE))","v":""},{"$f":"IF(F82=\"\",\"\",VLOOKUP(F82,List_CMS!$L$3:$Q$79,4,FALSE))","v":""},{"$f":"IF(F82=\"\",\"\",VLOOKUP(F82,List_CMS!$L$3:$Q$79,5,FALSE))","v":""},null,null,null,null,null,null,""]
[null,{"$f":"IF(F83=\"\",\"\",VLOOKUP(F83,List_CMS!$L$3:$Q$79,2,FALSE))","v":""},{"$f":"IF(F83=\"\",\"\",VLOOKUP(F83,List_CMS!$L$3:$Q$79,3,FALSE))","v":""},{"$f":"IF(F83=\"\",\"\",VLOOKUP(F83,List_CMS!$L$3:$Q$79,4,FALSE))","v":""},{"$f":"IF(F83=\"\",\"\",VLOOKUP(F83,List_CMS!$L$3:$Q$79,5,FALSE))","v":""},null,null,null,null,null,null,""]
[null,{"$f":"IF(F84=\"\",\"\",VLOOKUP(F84,List_CMS!$L$3:$Q$79,2,FALSE))","v":""},{"$f":"IF(F84=\"\",\"\",VLOOKUP(F84,List_CMS!$L$3:$Q$79,3,FALSE))","v":""},{"$f":"IF(F84=\"\",\"\",VLOOKUP(F84,List_CMS!$L$3:$Q$79,4,FALSE))","v":""},{"$f":"IF(F84=\"\",\"\",VLOOKUP(F84,List_CMS!$L$3:$Q$79,5,FALSE))","v":""},null,null,null,null,null,null,""]
[null,{"$f":"IF(F85=\"\",\"\",VLOOKUP(F85,List_CMS!$L$3:$Q$79,2,FALSE))","v":""},{"$f":"IF(F85=\"\",\"\",VLOOKUP(F85,List_CMS!$L$3:$Q$79,3,FALSE))","v":""},{"$f":"IF(F85=\"\",\"\",VLOOKUP(F85,List_CMS!$L$3:$Q$79,4,FALSE))","v":""},{"$f":"IF(F85=\"\",\"\",VLOOKUP(F85,List_CMS!$L$3:$Q$79,5,FALSE))","v":""},null,null,null,null,null,null,""]
[null,{"$f":"IF(F86=\"\",\"\",VLOOKUP(F86,List_CMS!$L$3:$Q$79,2,FALSE))","v":""},{"$f":"IF(F86=\"\",\"\",VLOOKUP(F86,List_CMS!$L$3:$Q$79,3,FALSE))","v":""},{"$f":"IF(F86=\"\",\"\",VLOOKUP(F86,List_CMS!$L$3:$Q$79,4,FALSE))","v":""},{"$f":"IF(F86=\"\",\"\",VLOOKUP(F86,List_CMS!$L$3:$Q$79,5,FALSE))","v":""},null,null,null,null,null,null,""]
[null,{"$f":"IF(F87=\"\",\"\",VLOOKUP(F87,List_CMS!$L$3:$Q$79,2,FALSE))","v":""},{"$f":"IF(F87=\"\",\"\",VLOOKUP(F87,List_CMS!$L$3:$Q$79,3,FALSE))","v":""},{"$f":"IF(F87=\"\",\"\",VLOOKUP(F87,List_CMS!$L$3:$Q$79,4,FALSE))","v":""},{"$f":"IF(F87=\"\",\"\",VLOOKUP(F87,List_CMS!$L$3:$Q$79,5,FALSE))","v":""},null,null,null,null,null,null,""]
[null,{"$f":"IF(F88=\"\",\"\",VLOOKUP(F88,List_CMS!$L$3:$Q$79,2,FALSE))","v":""},{"$f":"IF(F88=\"\",\"\",VLOOKUP(F88,List_CMS!$L$3:$Q$79,3,FALSE))","v":""},{"$f":"IF(F88=\"\",\"\",VLOOKUP(F88,List_CMS!$L$3:$Q$79,4,FALSE))","v":""},{"$f":"IF(F88=\"\",\"\",VLOOKUP(F88,List_CMS!$L$3:$Q$79,5,FALSE))","v":""},null,null,null,null,null,null,""]
[null,{"$f":"IF(F89=\"\",\"\",VLOOKUP(F89,List_CMS!$L$3:$Q$79,2,FALSE))","v":""},{"$f":"IF(F89=\"\",\"\",VLOOKUP(F89,List_CMS!$L$3:$Q$79,3,FALSE))","v":""},{"$f":"IF(F89=\"\",\"\",VLOOKUP(F89,List_CMS!$L$3:$Q$79,4,FALSE))","v":""},{"$f":"IF(F89=\"\",\"\",VLOOKUP(F89,List_CMS!$L$3:$Q$79,5,FALSE))","v":""},null,null,null,null,null,null,{"$f":"IF(K89=\"\",\"\",(VALUE(TEXT(J89,\"m/dd/yy \")&TEXT(K89,\"hh:mm:ss\"))-(VALUE(TEXT(H89,\"m/dd/yy \")&TEXT(I89,\"hh:mm:ss\"))))*24)","v":""}]
[null,{"$f":"IF(F90=\"\",\"\",VLOOKUP(F90,List_CMS!$L$3:$Q$79,2,FALSE))","v":""},{"$f":"IF(F90=\"\",\"\",VLOOKUP(F90,List_CMS!$L$3:$Q$79,3,FALSE))","v":""},{"$f":"IF(F90=\"\",\"\",VLOOKUP(F90,List_CMS!$L$3:$Q$79,4,FALSE))","v":""},{"$f":"IF(F90=\"\",\"\",VLOOKUP(F90,List_CMS!$L$3:$Q$79,5,FALSE))","v":""},null,null,null,null,null,null,""]
[null,{"$f":"IF(F91=\"\",\"\",VLOOKUP(F91,List_CMS!$L$3:$Q$79,2,FALSE))","v":""},{"$f":"IF(F91=\"\",\"\",VLOOKUP(F91,List_CMS!$L$3:$Q$79,3,FALSE))","v":""},{"$f":"IF(F91=\"\",\"\",VLOOKUP(F91,List_CMS!$L$3:$Q$79,4,FALSE))","v":""},{"$f":"IF(F91=\"\",\"\",VLOOKUP(F91,List_CMS!$L$3:$Q$79,5,FALSE))","v":""},null,null,null,null,null,null,""]
[null,{"$f":"IF(F92=\"\",\"\",VLOOKUP(F92,List_CMS!$L$3:$Q$79,2,FALSE))","v":""},{"$f":"IF(F92=\"\",\"\",VLOOKUP(F92,List_CMS!$L$3:$Q$79,3,FALSE))","v":""},{"$f":"IF(F92=\"\",\"\",VLOOKUP(F92,List_CMS!$L$3:$Q$79,4,FALSE))","v":""},{"$f":"IF(F92=\"\",\"\",VLOOKUP(F92,List_CMS!$L$3:$Q$79,5,FALSE))","v":""},null,null,null,null,null,null,""]
[null,{"$f":"IF(F93=\"\",\"\",VLOOKUP(F93,List_CMS!$L$3:$Q$79,2,FALSE))","v":""},{"$f":"IF(F93=\"\",\"\",VLOOKUP(F93,List_CMS!$L$3:$Q$79,3,FALSE))","v":""},{"$f":"IF(F93=\"\",\"\",VLOOKUP(F93,List_CMS!$L$3:$Q$79,4,FALSE))","v":""},{"$f":"IF(F93=\"\",\"\",VLOOKUP(F93,List_CMS!$L$3:$Q$79,5,FALSE))","v":""},null,null,null,null,null,null,""]
[null,{"$f":"IF(F94=\"\",\"\",VLOOKUP(F94,List_CMS!$L$3:$Q$79,2,FALSE))","v":""},{"$f":"IF(F94=\"\",\"\",VLOOKUP(F94,List_CMS!$L$3:$Q$79,3,FALSE))","v":""},{"$f":"IF(F94=\"\",\"\",VLOOKUP(F94,List_CMS!$L$3:$Q$79,4,FALSE))","v":""},{"$f":"IF(F94=\"\",\"\",VLOOKUP(F94,List_CMS!$L$3:$Q$79,5,FALSE))","v":""},null,null,null,null,null,null,""]
[null,{"$f":"IF(F95=\"\",\"\",VLOOKUP(F95,List_CMS!$L$3:$Q$79,2,FALSE))","v":""},{"$f":"IF(F95=\"\",\"\",VLOOKUP(F95,List_CMS!$L$3:$Q$79,3,FALSE))","v":""},{"$f":"IF(F95=\"\",\"\",VLOOKUP(F95,List_CMS!$L$3:$Q$79,4,FALSE))","v":""},{"$f":"IF(F95=\"\",\"\",VLOOKUP(F95,List_CMS!$L$3:$Q$79,5,FALSE))","v":""},null,null,null,null,null,null,""]
[null,{"$f":"IF(F96=\"\",\"\",VLOOKUP(F96,List_CMS!$L$3:$Q$79,2,FALSE))","v":""},{"$f":"IF(F96=\"\",\"\",VLOOKUP(F96,List_CMS!$L$3:$Q$79,3,FALSE))","v":""},{"$f":"IF(F96=\"\",\"\",VLOOKUP(F96,List_CMS!$L$3:$Q$79,4,FALSE))","v":""},{"$f":"IF(F96=\"\",\"\",VLOOKUP(F96,List_CMS!$L$3:$Q$79,5,FALSE))","v":""},null,null,null,null,null,null,""]
[null,{"$f":"IF(F97=\"\",\"\",VLOOKUP(F97,List_CMS!$L$3:$Q$79,2,FALSE))","v":""},{"$f":"IF(F97=\"\",\"\",VLOOKUP(F97,List_CMS!$L$3:$Q$79,3,FALSE))","v":""},{"$f":"IF(F97=\"\",\"\",VLOOKUP(F97,List_CMS!$L$3:$Q$79,4,FALSE))","v":""},{"$f":"IF(F97=\"\",\"\",VLOOKUP(F97,List_CMS!$L$3:$Q$79,5,FALSE))","v":""},null,null,null,null,null,null,""]
[null,{"$f":"IF(F98=\"\",\"\",VLOOKUP(F98,List_CMS!$L$3:$Q$79,2,FALSE))","v":""},{"$f":"IF(F98=\"\",\"\",VLOOKUP(F98,List_CMS!$L$3:$Q$79,3,FALSE))","v":""},{"$f":"IF(F98=\"\",\"\",VLOOKUP(F98,List_CMS!$L$3:$Q$79,4,FALSE))","v":""},{"$f":"IF(F98=\"\",\"\",VLOOKUP(F98,List_CMS!$L$3:$Q$79,5,FALSE))","v":""},null,null,null,null,null,null,""]
[null,{"$f":"IF(F99=\"\",\"\",VLOOKUP(F99,List_CMS!$L$3:$Q$79,2,FALSE))","v":""},{"$f":"IF(F99=\"\",\"\",VLOOKUP(F99,List_CMS!$L$3:$Q$79,3,FALSE))","v":""},{"$f":"IF(F99=\"\",\"\",VLOOKUP(F99,List_CMS!$L$3:$Q$79,4,FALSE))","v":""},{"$f":"IF(F99=\"\",\"\",VLOOKUP(F99,List_CMS!$L$3:$Q$79,5,FALSE))","v":""},null,null,null,null,null,null,""]
[null,{"$f":"IF(F100=\"\",\"\",VLOOKUP(F100,List_CMS!$L$3:$Q$79,2,FALSE))","v":""},{"$f":"IF(F100=\"\",\"\",VLOOKUP(F100,List_CMS!$L$3:$Q$79,3,FALSE))","v":""},{"$f":"IF(F100=\"\",\"\",VLOOKUP(F100,List_CMS!$L$3:$Q$79,4,FALSE))","v":""},{"$f":"IF(F100=\"\",\"\",VLOOKUP(F100,List_CMS!$L$3:$Q$79,5,FALSE))","v":""},null,null,null,null,null,null,""]
[null,{"$f":"IF(F101=\"\",\"\",VLOOKUP(F101,List_CMS!$L$3:$Q$79,2,FALSE))","v":""},{"$f":"IF(F101=\"\",\"\",VLOOKUP(F101,List_CMS!$L$3:$Q$79,3,FALSE))","v":""},{"$f":"IF(F101=\"\",\"\",VLOOKUP(F101,List_CMS!$L$3:$Q$79,4,FALSE))","v":""},{"$f":"IF(F101=\"\",\"\",VLOOKUP(F101,List_CMS!$L$3:$Q$79,5,FALSE))","v":""},null,null,null,null,null,null,""]
[null,{"$f":"IF(F102=\"\",\"\",VLOOKUP(F102,List_CMS!$L$3:$Q$79,2,FALSE))","v":""},{"$f":"IF(F102=\"\",\"\",VLOOKUP(F102,List_CMS!$L$3:$Q$79,3,FALSE))","v":""},{"$f":"IF(F102=\"\",\"\",VLOOKUP(F102,List_CMS!$L$3:$Q$79,4,FALSE))","v":""},{"$f":"IF(F102=\"\",\"\",VLOOKUP(F102,List_CMS!$L$3:$Q$79,5,FALSE))","v":""},null,null,null,null,null,null,""]
[null,{"$f":"IF(F103=\"\",\"\",VLOOKUP(F103,List_CMS!$L$3:$Q$79,2,FALSE))","v":""},{"$f":"IF(F103=\"\",\"\",VLOOKUP(F103,List_CMS!$L$3:$Q$79,3,FALSE))","v":""},{"$f":"IF(F103=\"\",\"\",VLOOKUP(F103,List_CMS!$L$3:$Q$79,4,FALSE))","v":""},{"$f":"IF(F103=\"\",\"\",VLOOKUP(F103,List_CMS!$L$3:$Q$79,5,FALSE))","v":""},null,null,null,null,null,null,""]
[null,{"$f":"IF(F104=\"\",\"\",VLOOKUP(F104,List_CMS!$L$3:$Q$79,2,FALSE))","v":""},{"$f":"IF(F104=\"\",\"\",VLOOKUP(F104,List_CMS!$L$3:$Q$79,3,FALSE))","v":""},{"$f":"IF(F104=\"\",\"\",VLOOKUP(F104,List_CMS!$L$3:$Q$79,4,FALSE))","v":""},{"$f":"IF(F104=\"\",\"\",VLOOKUP(F104,List_CMS!$L$3:$Q$79,5,FALSE))","v":""},null,null,null,null,null,null,""]
[null,{"$f":"IF(F105=\"\",\"\",VLOOKUP(F105,List_CMS!$L$3:$Q$79,2,FALSE))","v":""},{"$f":"IF(F105=\"\",\"\",VLOOKUP(F105,List_CMS!$L$3:$Q$79,3,FALSE))","v":""},{"$f":"IF(F105=\"\",\"\",VLOOKUP(F105,List_CMS!$L$3:$Q$79,4,FALSE))","v":""},{"$f":"IF(F105=\"\",\"\",VLOOKUP(F105,List_CMS!$L$3:$Q$79,5,FALSE))","v":""},null,null,null,null,null,null,""]
[null,{"$f":"IF(F106=\"\",\"\",VLOOKUP(F106,List_CMS!$L$3:$Q$79,2,FALSE))","v":""},{"$f":"IF(F106=\"\",\"\",VLOOKUP(F106,List_CMS!$L$3:$Q$79,3,FALSE))","v":""},{"$f":"IF(F106=\"\",\"\",VLOOKUP(F106,List_CMS!$L$3:$Q$79,4,FALSE))","v":""},{"$f":"IF(F106=\"\",\"\",VLOOKUP(F106,List_CMS!$L$3:$Q$79,5,FALSE))","v":""},null,null,null,null,null,null,""]
[null,{"$f":"IF(F107=\"\",\"\",VLOOKUP(F107,List_CMS!$L$3:$Q$79,2,FALSE))","v":""},{"$f":"IF(F107=\"\",\"\",VLOOKUP(F107,List_CMS!$L$3:$Q$79,3,FALSE))","v":""},{"$f":"IF(F107=\"\",\"\",VLOOKUP(F107,List_CMS!$L$3:$Q$79,4,FALSE))","v":""},{"$f":"IF(F107=\"\",\"\",VLOOKUP(F107,List_CMS!$L$3:$Q$79,5,FALSE))","v":""},null,null,null,null,null,null,""]
[null,{"$f":"IF(F108=\"\",\"\",VLOOKUP(F108,List_CMS!$L$3:$Q$79,2,FALSE))","v":""},{"$f":"IF(F108=\"\",\"\",VLOOKUP(F108,List_CMS!$L$3:$Q$79,3,FALSE))","v":""},{"$f":"IF(F108=\"\",\"\",VLOOKUP(F108,List_CMS!$L$3:$Q$79,4,FALSE))","v":""},{"$f":"IF(F108=\"\",\"\",VLOOKUP(F108,List_CMS!$L$3:$Q$79,5,FALSE))","v":""},null,null,null,null,null,null,""]
[null,{"$f":"IF(F109=\"\",\"\",VLOOKUP(F109,List_CMS!$L$3:$Q$79,2,FALSE))","v":""},{"$f":"IF(F109=\"\",\"\",VLOOKUP(F109,List_CMS!$L$3:$Q$79,3,FALSE))","v":""},{"$f":"IF(F109=\"\",\"\",VLOOKUP(F109,List_CMS!$L$3:$Q$79,4,FALSE))","v":""},{"$f":"IF(F109=\"\",\"\",VLOOKUP(F109,List_CMS!$L$3:$Q$79,5,FALSE))","v":""},null,null,null,null,null,null,""]
[null,{"$f":"IF(F110=\"\",\"\",VLOOKUP(F110,List_CMS!$L$3:$Q$79,2,FALSE))","v":""},{"$f":"IF(F110=\"\",\"\",VLOOKUP(F110,List_CMS!$L$3:$Q$79,3,FALSE))","v":""},{"$f":"IF(F110=\"\",\"\",VLOOKUP(F110,List_CMS!$L$3:$Q$79,4,FALSE))","v":""},{"$f":"IF(F110=\"\",\"\",VLOOKUP(F110,List_CMS!$L$3:$Q$79,5,FALSE))","v":""},null,null,null,null,null,null,""]
[null,{"$f":"IF(F111=\"\",\"\",VLOOKUP(F111,List_CMS!$L$3:$Q$79,2,FALSE))","v":""},{"$f":"IF(F111=\"\",\"\",VLOOKUP(F111,List_CMS!$L$3:$Q$79,3,FALSE))","v":""},{"$f":"IF(F111=\"\",\"\",VLOOKUP(F111,List_CMS!$L$3:$Q$79,4,FALSE))","v":""},{"$f":"IF(F111=\"\",\"\",VLOOKUP(F111,List_CMS!$L$3:$Q$79,5,FALSE))","v":""},null,null,null,null,null,null,""]
[null,{"$f":"IF(F112=\"\",\"\",VLOOKUP(F112,List_CMS!$L$3:$Q$79,2,FALSE))","v":""},{"$f":"IF(F112=\"\",\"\",VLOOKUP(F112,List_CMS!$L$3:$Q$79,3,FALSE))","v":""},{"$f":"IF(F112=\"\",\"\",VLOOKUP(F112,List_CMS!$L$3:$Q$79,4,FALSE))","v":""},{"$f":"IF(F112=\"\",\"\",VLOOKUP(F112,List_CMS!$L$3:$Q$79,5,FALSE))","v":""},null,null,null,null,null,null,""]
[null,{"$f":"IF(F113=\"\",\"\",VLOOKUP(F113,List_CMS!$L$3:$Q$79,2,FALSE))","v":""},{"$f":"IF(F113=\"\",\"\",VLOOKUP(F113,List_CMS!$L$3:$Q$79,3,FALSE))","v":""},{"$f":"IF(F113=\"\",\"\",VLOOKUP(F113,List_CMS!$L$3:$Q$79,4,FALSE))","v":""},{"$f":"IF(F113=\"\",\"\",VLOOKUP(F113,List_CMS!$L$3:$Q$79,5,FALSE))","v":""},null,null,null,null,null,null,""]
[null,{"$f":"IF(F114=\"\",\"\",VLOOKUP(F114,List_CMS!$L$3:$Q$79,2,FALSE))","v":""},{"$f":"IF(F114=\"\",\"\",VLOOKUP(F114,List_CMS!$L$3:$Q$79,3,FALSE))","v":""},{"$f":"IF(F114=\"\",\"\",VLOOKUP(F114,List_CMS!$L$3:$Q$79,4,FALSE))","v":""},{"$f":"IF(F114=\"\",\"\",VLOOKUP(F114,List_CMS!$L$3:$Q$79,5,FALSE))","v":""},null,null,null,null,null,null,""]
[null,{"$f":"IF(F115=\"\",\"\",VLOOKUP(F115,List_CMS!$L$3:$Q$79,2,FALSE))","v":""},{"$f":"IF(F115=\"\",\"\",VLOOKUP(F115,List_CMS!$L$3:$Q$79,3,FALSE))","v":""},{"$f":"IF(F115=\"\",\"\",VLOOKUP(F115,List_CMS!$L$3:$Q$79,4,FALSE))","v":""},{"$f":"IF(F115=\"\",\"\",VLOOKUP(F115,List_CMS!$L$3:$Q$79,5,FALSE))","v":""},null,null,null,null,null,null,""]
[null,{"$f":"IF(F116=\"\",\"\",VLOOKUP(F116,List_CMS!$L$3:$Q$79,2,FALSE))","v":""},{"$f":"IF(F116=\"\",\"\",VLOOKUP(F116,List_CMS!$L$3:$Q$79,3,FALSE))","v":""},{"$f":"IF(F116=\"\",\"\",VLOOKUP(F116,List_CMS!$L$3:$Q$79,4,FALSE))","v":""},{"$f":"IF(F116=\"\",\"\",VLOOKUP(F116,List_CMS!$L$3:$Q$79,5,FALSE))","v":""},null,null,null,null,null,null,""]
[null,{"$f":"IF(F117=\"\",\"\",VLOOKUP(F117,List_CMS!$L$3:$Q$79,2,FALSE))","v":""},{"$f":"IF(F117=\"\",\"\",VLOOKUP(F117,List_CMS!$L$3:$Q$79,3,FALSE))","v":""},{"$f":"IF(F117=\"\",\"\",VLOOKUP(F117,List_CMS!$L$3:$Q$79,4,FALSE))","v":""},{"$f":"IF(F117=\"\",\"\",VLOOKUP(F117,List_CMS!$L$3:$Q$79,5,FALSE))","v":""},null,null,null,null,null,null,""]
[null,{"$f":"IF(F118=\"\",\"\",VLOOKUP(F118,List_CMS!$L$3:$Q$79,2,FALSE))","v":""},{"$f":"IF(F118=\"\",\"\",VLOOKUP(F118,List_CMS!$L$3:$Q$79,3,FALSE))","v":""},{"$f":"IF(F118=\"\",\"\",VLOOKUP(F118,List_CMS!$L$3:$Q$79,4,FALSE))","v":""},{"$f":"IF(F118=\"\",\"\",VLOOKUP(F118,List_CMS!$L$3:$Q$79,5,FALSE))","v":""},null,null,null,null,null,null,""]
[null,{"$f":"IF(F119=\"\",\"\",VLOOKUP(F119,List_CMS!$L$3:$Q$79,2,FALSE))","v":""},{"$f":"IF(F119=\"\",\"\",VLOOKUP(F119,List_CMS!$L$3:$Q$79,3,FALSE))","v":""},{"$f":"IF(F119=\"\",\"\",VLOOKUP(F119,List_CMS!$L$3:$Q$79,4,FALSE))","v":""},{"$f":"IF(F119=\"\",\"\",VLOOKUP(F119,List_CMS!$L$3:$Q$79,5,FALSE))","v":""},null,null,null,null,null,null,""]
[null,{"$f":"IF(F120=\"\",\"\",VLOOKUP(F120,List_CMS!$L$3:$Q$79,2,FALSE))","v":""},{"$f":"IF(F120=\"\",\"\",VLOOKUP(F120,List_CMS!$L$3:$Q$79,3,FALSE))","v":""},{"$f":"IF(F120=\"\",\"\",VLOOKUP(F120,List_CMS!$L$3:$Q$79,4,FALSE))","v":""},{"$f":"IF(F120=\"\",\"\",VLOOKUP(F120,List_CMS!$L$3:$Q$79,5,FALSE))","v":""},null,null,null,null,null,null,""]
[null,{"$f":"IF(F121=\"\",\"\",VLOOKUP(F121,List_CMS!$L$3:$Q$79,2,FALSE))","v":""},{"$f":"IF(F121=\"\",\"\",VLOOKUP(F121,List_CMS!$L$3:$Q$79,3,FALSE))","v":""},{"$f":"IF(F121=\"\",\"\",VLOOKUP(F121,List_CMS!$L$3:$Q$79,4,FALSE))","v":""},{"$f":"IF(F121=\"\",\"\",VLOOKUP(F121,List_CMS!$L$3:$Q$79,5,FALSE))","v":""},null,null,null,null,null,null,""]
[null,{"$f":"IF(F122=\"\",\"\",VLOOKUP(F122,List_CMS!$L$3:$Q$79,2,FALSE))","v":""},{"$f":"IF(F122=\"\",\"\",VLOOKUP(F122,List_CMS!$L$3:$Q$79,3,FALSE))","v":""},{"$f":"IF(F122=\"\",\"\",VLOOKUP(F122,List_CMS!$L$3:$Q$79,4,FALSE))","v":""},{"$f":"IF(F122=\"\",\"\",VLOOKUP(F122,List_CMS!$L$3:$Q$79,5,FALSE))","v":""},null,null,null,null,null,null,""]
[null,{"$f":"IF(F123=\"\",\"\",VLOOKUP(F123,List_CMS!$L$3:$Q$79,2,FALSE))","v":""},{"$f":"IF(F123=\"\",\"\",VLOOKUP(F123,List_CMS!$L$3:$Q$79,3,FALSE))","v":""},{"$f":"IF(F123=\"\",\"\",VLOOKUP(F123,List_CMS!$L$3:$Q$79,4,FALSE))","v":""},{"$f":"IF(F123=\"\",\"\",VLOOKUP(F123,List_CMS!$L$3:$Q$79,5,FALSE))","v":""},null,null,null,null,null,null,""]
[null,{"$f":"IF(F124=\"\",\"\",VLOOKUP(F124,List_CMS!$L$3:$Q$79,2,FALSE))","v":""},{"$f":"IF(F124=\"\",\"\",VLOOKUP(F124,List_CMS!$L$3:$Q$79,3,FALSE))","v":""},{"$f":"IF(F124=\"\",\"\",VLOOKUP(F124,List_CMS!$L$3:$Q$79,4,FALSE))","v":""},{"$f":"IF(F124=\"\",\"\",VLOOKUP(F124,List_CMS!$L$3:$Q$79,5,FALSE))","v":""},null,null,null,null,null,null,""]
[null,{"$f":"IF(F125=\"\",\"\",VLOOKUP(F125,List_CMS!$L$3:$Q$79,2,FALSE))","v":""},{"$f":"IF(F125=\"\",\"\",VLOOKUP(F125,List_CMS!$L$3:$Q$79,3,FALSE))","v":""},{"$f":"IF(F125=\"\",\"\",VLOOKUP(F125,List_CMS!$L$3:$Q$79,4,FALSE))","v":""},{"$f":"IF(F125=\"\",\"\",VLOOKUP(F125,List_CMS!$L$3:$Q$79,5,FALSE))","v":""},null,null,null,null,null,null,""]
[null,{"$f":"IF(F126=\"\",\"\",VLOOKUP(F126,List_CMS!$L$3:$Q$79,2,FALSE))","v":""},{"$f":"IF(F126=\"\",\"\",VLOOKUP(F126,List_CMS!$L$3:$Q$79,3,FALSE))","v":""},{"$f":"IF(F126=\"\",\"\",VLOOKUP(F126,List_CMS!$L$3:$Q$79,4,FALSE))","v":""},{"$f":"IF(F126=\"\",\"\",VLOOKUP(F126,List_CMS!$L$3:$Q$79,5,FALSE))","v":""},null,null,null,null,null,null,""]
[null,{"$f":"IF(F127=\"\",\"\",VLOOKUP(F127,List_CMS!$L$3:$Q$79,2,FALSE))","v":""},{"$f":"IF(F127=\"\",\"\",VLOOKUP(F127,List_CMS!$L$3:$Q$79,3,FALSE))","v":""},{"$f":"IF(F127=\"\",\"\",VLOOKUP(F127,List_CMS!$L$3:$Q$79,4,FALSE))","v":""},{"$f":"IF(F127=\"\",\"\",VLOOKUP(F127,List_CMS!$L$3:$Q$79,5,FALSE))","v":""},null,null,null,null,null,null,""]
[null,{"$f":"IF(F128=\"\",\"\",VLOOKUP(F128,List_CMS!$L$3:$Q$79,2,FALSE))","v":""},{"$f":"IF(F128=\"\",\"\",VLOOKUP(F128,List_CMS!$L$3:$Q$79,3,FALSE))","v":""},{"$f":"IF(F128=\"\",\"\",VLOOKUP(F128,List_CMS!$L$3:$Q$79,4,FALSE))","v":""},{"$f":"IF(F128=\"\",\"\",VLOOKUP(F128,List_CMS!$L$3:$Q$79,5,FALSE))","v":""},null,null,null,null,null,null,""]
[null,{"$f":"IF(F129=\"\",\"\",VLOOKUP(F129,List_CMS!$L$3:$Q$79,2,FALSE))","v":""},{"$f":"IF(F129=\"\",\"\",VLOOKUP(F129,List_CMS!$L$3:$Q$79,3,FALSE))","v":""},{"$f":"IF(F129=\"\",\"\",VLOOKUP(F129,List_CMS!$L$3:$Q$79,4,FALSE))","v":""},{"$f":"IF(F129=\"\",\"\",VLOOKUP(F129,List_CMS!$L$3:$Q$79,5,FALSE))","v":""},null,null,null,null,null,null,""]
[null,{"$f":"IF(F130=\"\",\"\",VLOOKUP(F130,List_CMS!$L$3:$Q$79,2,FALSE))","v":""},{"$f":"IF(F130=\"\",\"\",VLOOKUP(F130,List_CMS!$L$3:$Q$79,3,FALSE))","v":""},{"$f":"IF(F130=\"\",\"\",VLOOKUP(F130,List_CMS!$L$3:$Q$79,4,FALSE))","v":""},{"$f":"IF(F130=\"\",\"\",VLOOKUP(F130,List_CMS!$L$3:$Q$79,5,FALSE))","v":""},null,null,null,null,null,null,""]
[null,{"$f":"IF(F131=\"\",\"\",VLOOKUP(F131,List_CMS!$L$3:$Q$79,2,FALSE))","v":""},{"$f":"IF(F131=\"\",\"\",VLOOKUP(F131,List_CMS!$L$3:$Q$79,3,FALSE))","v":""},{"$f":"IF(F131=\"\",\"\",VLOOKUP(F131,List_CMS!$L$3:$Q$79,4,FALSE))","v":""},{"$f":"IF(F131=\"\",\"\",VLOOKUP(F131,List_CMS!$L$3:$Q$79,5,FALSE))","v":""},null,null,null,null,null,null,""]
[null,{"$f":"IF(F132=\"\",\"\",VLOOKUP(F132,List_CMS!$L$3:$Q$79,2,FALSE))","v":""},{"$f":"IF(F132=\"\",\"\",VLOOKUP(F132,List_CMS!$L$3:$Q$79,3,FALSE))","v":""},{"$f":"IF(F132=\"\",\"\",VLOOKUP(F132,List_CMS!$L$3:$Q$79,4,FALSE))","v":""},{"$f":"IF(F132=\"\",\"\",VLOOKUP(F132,List_CMS!$L$3:$Q$79,5,FALSE))","v":""},null,null,null,null,null,null,""]
[null,{"$f":"IF(F133=\"\",\"\",VLOOKUP(F133,List_CMS!$L$3:$Q$79,2,FALSE))","v":""},{"$f":"IF(F133=\"\",\"\",VLOOKUP(F133,List_CMS!$L$3:$Q$79,3,FALSE))","v":""},{"$f":"IF(F133=\"\",\"\",VLOOKUP(F133,List_CMS!$L$3:$Q$79,4,FALSE))","v":""},{"$f":"IF(F133=\"\",\"\",VLOOKUP(F133,List_CMS!$L$3:$Q$79,5,FALSE))","v":""},null,null,null,null,null,null,""]
[null,{"$f":"IF(F134=\"\",\"\",VLOOKUP(F134,List_CMS!$L$3:$Q$79,2,FALSE))","v":""},{"$f":"IF(F134=\"\",\"\",VLOOKUP(F134,List_CMS!$L$3:$Q$79,3,FALSE))","v":""},{"$f":"IF(F134=\"\",\"\",VLOOKUP(F134,List_CMS!$L$3:$Q$79,4,FALSE))","v":""},{"$f":"IF(F134=\"\",\"\",VLOOKUP(F134,List_CMS!$L$3:$Q$79,5,FALSE))","v":""},null,null,null,null,null,null,""]
[null,{"$f":"IF(F135=\"\",\"\",VLOOKUP(F135,List_CMS!$L$3:$Q$79,2,FALSE))","v":""},{"$f":"IF(F135=\"\",\"\",VLOOKUP(F135,List_CMS!$L$3:$Q$79,3,FALSE))","v":""},{"$f":"IF(F135=\"\",\"\",VLOOKUP(F135,List_CMS!$L$3:$Q$79,4,FALSE))","v":""},{"$f":"IF(F135=\"\",\"\",VLOOKUP(F135,List_CMS!$L$3:$Q$79,5,FALSE))","v":""},null,null,null,null,null,null,""]
[null,{"$f":"IF(F136=\"\",\"\",VLOOKUP(F136,List_CMS!$L$3:$Q$79,2,FALSE))","v":""},{"$f":"IF(F136=\"\",\"\",VLOOKUP(F136,List_CMS!$L$3:$Q$79,3,FALSE))","v":""},{"$f":"IF(F136=\"\",\"\",VLOOKUP(F136,List_CMS!$L$3:$Q$79,4,FALSE))","v":""},{"$f":"IF(F136=\"\",\"\",VLOOKUP(F136,List_CMS!$L$3:$Q$79,5,FALSE))","v":""},null,null,null,null,null,null,""]
[null,{"$f":"IF(F137=\"\",\"\",VLOOKUP(F137,List_CMS!$L$3:$Q$79,2,FALSE))","v":""},{"$f":"IF(F137=\"\",\"\",VLOOKUP(F137,List_CMS!$L$3:$Q$79,3,FALSE))","v":""},{"$f":"IF(F137=\"\",\"\",VLOOKUP(F137,List_CMS!$L$3:$Q$79,4,FALSE))","v":""},{"$f":"IF(F137=\"\",\"\",VLOOKUP(F137,List_CMS!$L$3:$Q$79,5,FALSE))","v":""},null,null,null,null,null,null,""]
[null,{"$f":"IF(F138=\"\",\"\",VLOOKUP(F138,List_CMS!$L$3:$Q$79,2,FALSE))","v":""},{"$f":"IF(F138=\"\",\"\",VLOOKUP(F138,List_CMS!$L$3:$Q$79,3,FALSE))","v":""},{"$f":"IF(F138=\"\",\"\",VLOOKUP(F138,List_CMS!$L$3:$Q$79,4,FALSE))","v":""},{"$f":"IF(F138=\"\",\"\",VLOOKUP(F138,List_CMS!$L$3:$Q$79,5,FALSE))","v":""},null,null,null,null,null,null,""]
[null,{"$f":"IF(F139=\"\",\"\",VLOOKUP(F139,List_CMS!$L$3:$Q$79,2,FALSE))","v":""},{"$f":"IF(F139=\"\",\"\",VLOOKUP(F139,List_CMS!$L$3:$Q$79,3,FALSE))","v":""},{"$f":"IF(F139=\"\",\"\",VLOOKUP(F139,List_CMS!$L$3:$Q$79,4,FALSE))","v":""},{"$f":"IF(F139=\"\",\"\",VLOOKUP(F139,List_CMS!$L$3:$Q$79,5,FALSE))","v":""},null,null,null,null,null,null,""]
[null,{"$f":"IF(F140=\"\",\"\",VLOOKUP(F140,List_CMS!$L$3:$Q$79,2,FALSE))","v":""},{"$f":"IF(F140=\"\",\"\",VLOOKUP(F140,List_CMS!$L$3:$Q$79,3,FALSE))","v":""},{"$f":"IF(F140=\"\",\"\",VLOOKUP(F140,List_CMS!$L$3:$Q$79,4,FALSE))","v":""},{"$f":"IF(F140=\"\",\"\",VLOOKUP(F140,List_CMS!$L$3:$Q$79,5,FALSE))","v":""},null,null,null,null,null,null,""]
[null,{"$f":"IF(F141=\"\",\"\",VLOOKUP(F141,List_CMS!$L$3:$Q$79,2,FALSE))","v":""},{"$f":"IF(F141=\"\",\"\",VLOOKUP(F141,List_CMS!$L$3:$Q$79,3,FALSE))","v":""},{"$f":"IF(F141=\"\",\"\",VLOOKUP(F141,List_CMS!$L$3:$Q$79,4,FALSE))","v":""},{"$f":"IF(F141=\"\",\"\",VLOOKUP(F141,List_CMS!$L$3:$Q$79,5,FALSE))","v":""},null,null,null,null,null,null,""]
[null,{"$f":"IF(F142=\"\",\"\",VLOOKUP(F142,List_CMS!$L$3:$Q$79,2,FALSE))","v":""},{"$f":"IF(F142=\"\",\"\",VLOOKUP(F142,List_CMS!$L$3:$Q$79,3,FALSE))","v":""},{"$f":"IF(F142=\"\",\"\",VLOOKUP(F142,List_CMS!$L$3:$Q$79,4,FALSE))","v":""},{"$f":"IF(F142=\"\",\"\",VLOOKUP(F142,List_CMS!$L$3:$Q$79,5,FALSE))","v":""},null,null,null,null,null,null,""]
[null,{"$f":"IF(F143=\"\",\"\",VLOOKUP(F143,List_CMS!$L$3:$Q$79,2,FALSE))","v":""},{"$f":"IF(F143=\"\",\"\",VLOOKUP(F143,List_CMS!$L$3:$Q$79,3,FALSE))","v":""},{"$f":"IF(F143=\"\",\"\",VLOOKUP(F143,List_CMS!$L$3:$Q$79,4,FALSE))","v":""},{"$f":"IF(F143=\"\",\"\",VLOOKUP(F143,List_CMS!$L$3:$Q$79,5,FALSE))","v":""},null,null,null,null,null,null,""]
[null,{"$f":"IF(F144=\"\",\"\",VLOOKUP(F144,List_CMS!$L$3:$Q$79,2,FALSE))","v":""},{"$f":"IF(F144=\"\",\"\",VLOOKUP(F144,List_CMS!$L$3:$Q$79,3,FALSE))","v":""},{"$f":"IF(F144=\"\",\"\",VLOOKUP(F144,List_CMS!$L$3:$Q$79,4,FALSE))","v":""},{"$f":"IF(F144=\"\",\"\",VLOOKUP(F144,List_CMS!$L$3:$Q$79,5,FALSE))","v":""},null,null,null,null,null,null,""]
[null,{"$f":"IF(F145=\"\",\"\",VLOOKUP(F145,List_CMS!$L$3:$Q$79,2,FALSE))","v":""},{"$f":"IF(F145=\"\",\"\",VLOOKUP(F145,List_CMS!$L$3:$Q$79,3,FALSE))","v":""},{"$f":"IF(F145=\"\",\"\",VLOOKUP(F145,List_CMS!$L$3:$Q$79,4,FALSE))","v":""},{"$f":"IF(F145=\"\",\"\",VLOOKUP(F145,List_CMS!$L$3:$Q$79,5,FALSE))","v":""},null,null,null,null,null,null,""]
[null,{"$f":"IF(F146=\"\",\"\",VLOOKUP(F146,List_CMS!$L$3:$Q$79,2,FALSE))","v":""},{"$f":"IF(F146=\"\",\"\",VLOOKUP(F146,List_CMS!$L$3:$Q$79,3,FALSE))","v":""},{"$f":"IF(F146=\"\",\"\",VLOOKUP(F146,List_CMS!$L$3:$Q$79,4,FALSE))","v":""},{"$f":"IF(F146=\"\",\"\",VLOOKUP(F146,List_CMS!$L$3:$Q$79,5,FALSE))","v":""},null,null,null,null,null,null,""]
[null,{"$f":"IF(F147=\"\",\"\",VLOOKUP(F147,List_CMS!$L$3:$Q$79,2,FALSE))","v":""},{"$f":"IF(F147=\"\",\"\",VLOOKUP(F147,List_CMS!$L$3:$Q$79,3,FALSE))","v":""},{"$f":"IF(F147=\"\",\"\",VLOOKUP(F147,List_CMS!$L$3:$Q$79,4,FALSE))","v":""},{"$f":"IF(F147=\"\",\"\",VLOOKUP(F147,List_CMS!$L$3:$Q$79,5,FALSE))","v":""},null,null,null,null,null,null,""]
[null,{"$f":"IF(F148=\"\",\"\",VLOOKUP(F148,List_CMS!$L$3:$Q$79,2,FALSE))","v":""},{"$f":"IF(F148=\"\",\"\",VLOOKUP(F148,List_CMS!$L$3:$Q$79,3,FALSE))","v":""},{"$f":"IF(F148=\"\",\"\",VLOOKUP(F148,List_CMS!$L$3:$Q$79,4,FALSE))","v":""},{"$f":"IF(F148=\"\",\"\",VLOOKUP(F148,List_CMS!$L$3:$Q$79,5,FALSE))","v":""},null,null,null,null,null,null,""]
[null,{"$f":"IF(F149=\"\",\"\",VLOOKUP(F149,List_CMS!$L$3:$Q$79,2,FALSE))","v":""},{"$f":"IF(F149=\"\",\"\",VLOOKUP(F149,List_CMS!$L$3:$Q$79,3,FALSE))","v":""},{"$f":"IF(F149=\"\",\"\",VLOOKUP(F149,List_CMS!$L$3:$Q$79,4,FALSE))","v":""},{"$f":"IF(F149=\"\",\"\",VLOOKUP(F149,List_CMS!$L$3:$Q$79,5,FALSE))","v":""},null,null,null,null,null,null,""]
[null,{"$f":"IF(F150=\"\",\"\",VLOOKUP(F150,List_CMS!$L$3:$Q$79,2,FALSE))","v":""},{"$f":"IF(F150=\"\",\"\",VLOOKUP(F150,List_CMS!$L$3:$Q$79,3,FALSE))","v":""},{"$f":"IF(F150=\"\",\"\",VLOOKUP(F150,List_CMS!$L$3:$Q$79,4,FALSE))","v":""},{"$f":"IF(F150=\"\",\"\",VLOOKUP(F150,List_CMS!$L$3:$Q$79,5,FALSE))","v":""},null,null,null,null,null,null,""]
[null,{"$f":"IF(F151=\"\",\"\",VLOOKUP(F151,List_CMS!$L$3:$Q$79,2,FALSE))","v":""},{"$f":"IF(F151=\"\",\"\",VLOOKUP(F151,List_CMS!$L$3:$Q$79,3,FALSE))","v":""},{"$f":"IF(F151=\"\",\"\",VLOOKUP(F151,List_CMS!$L$3:$Q$79,4,FALSE))","v":""},{"$f":"IF(F151=\"\",\"\",VLOOKUP(F151,List_CMS!$L$3:$Q$79,5,FALSE))","v":""},null,null,null,null,null,null,""]
[null,{"$f":"IF(F152=\"\",\"\",VLOOKUP(F152,List_CMS!$L$3:$Q$79,2,FALSE))","v":""},{"$f":"IF(F152=\"\",\"\",VLOOKUP(F152,List_CMS!$L$3:$Q$79,3,FALSE))","v":""},{"$f":"IF(F152=\"\",\"\",VLOOKUP(F152,List_CMS!$L$3:$Q$79,4,FALSE))","v":""},{"$f":"IF(F152=\"\",\"\",VLOOKUP(F152,List_CMS!$L$3:$Q$79,5,FALSE))","v":""},null,null,null,null,null,null,""]
[null,{"$f":"IF(F153=\"\",\"\",VLOOKUP(F153,List_CMS!$L$3:$Q$79,2,FALSE))","v":""},{"$f":"IF(F153=\"\",\"\",VLOOKUP(F153,List_CMS!$L$3:$Q$79,3,FALSE))","v":""},{"$f":"IF(F153=\"\",\"\",VLOOKUP(F153,List_CMS!$L$3:$Q$79,4,FALSE))","v":""},{"$f":"IF(F153=\"\",\"\",VLOOKUP(F153,List_CMS!$L$3:$Q$79,5,FALSE))","v":""},null,null,null,null,null,null,{"$f":"IF(K153=\"\",\"\",(VALUE(TEXT(J153,\"m/dd/yy \")&TEXT(K153,\"hh:mm:ss\"))-(VALUE(TEXT(H153,\"m/dd/yy \")&TEXT(I153,\"hh:mm:ss\"))))*24)","v":""}]
[null,{"$f":"IF(F154=\"\",\"\",VLOOKUP(F154,List_CMS!$L$3:$Q$79,2,FALSE))","v":""},{"$f":"IF(F154=\"\",\"\",VLOOKUP(F154,List_CMS!$L$3:$Q$79,3,FALSE))","v":""},{"$f":"IF(F154=\"\",\"\",VLOOKUP(F154,List_CMS!$L$3:$Q$79,4,FALSE))","v":""},{"$f":"IF(F154=\"\",\"\",VLOOKUP(F154,List_CMS!$L$3:$Q$79,5,FALSE))","v":""},null,null,null,null,null,null,""]
[null,{"$f":"IF(F155=\"\",\"\",VLOOKUP(F155,List_CMS!$L$3:$Q$79,2,FALSE))","v":""},{"$f":"IF(F155=\"\",\"\",VLOOKUP(F155,List_CMS!$L$3:$Q$79,3,FALSE))","v":""},{"$f":"IF(F155=\"\",\"\",VLOOKUP(F155,List_CMS!$L$3:$Q$79,4,FALSE))","v":""},{"$f":"IF(F155=\"\",\"\",VLOOKUP(F155,List_CMS!$L$3:$Q$79,5,FALSE))","v":""},null,null,null,null,null,null,""]
[null,{"$f":"IF(F156=\"\",\"\",VLOOKUP(F156,List_CMS!$L$3:$Q$79,2,FALSE))","v":""},{"$f":"IF(F156=\"\",\"\",VLOOKUP(F156,List_CMS!$L$3:$Q$79,3,FALSE))","v":""},{"$f":"IF(F156=\"\",\"\",VLOOKUP(F156,List_CMS!$L$3:$Q$79,4,FALSE))","v":""},{"$f":"IF(F156=\"\",\"\",VLOOKUP(F156,List_CMS!$L$3:$Q$79,5,FALSE))","v":""},null,null,null,null,null,null,""]
[null,{"$f":"IF(F157=\"\",\"\",VLOOKUP(F157,List_CMS!$L$3:$Q$79,2,FALSE))","v":""},{"$f":"IF(F157=\"\",\"\",VLOOKUP(F157,List_CMS!$L$3:$Q$79,3,FALSE))","v":""},{"$f":"IF(F157=\"\",\"\",VLOOKUP(F157,List_CMS!$L$3:$Q$79,4,FALSE))","v":""},{"$f":"IF(F157=\"\",\"\",VLOOKUP(F157,List_CMS!$L$3:$Q$79,5,FALSE))","v":""},null,null,null,null,null,null,""]
[null,{"$f":"IF(F158=\"\",\"\",VLOOKUP(F158,List_CMS!$L$3:$Q$79,2,FALSE))","v":""},{"$f":"IF(F158=\"\",\"\",VLOOKUP(F158,List_CMS!$L$3:$Q$79,3,FALSE))","v":""},{"$f":"IF(F158=\"\",\"\",VLOOKUP(F158,List_CMS!$L$3:$Q$79,4,FALSE))","v":""},{"$f":"IF(F158=\"\",\"\",VLOOKUP(F158,List_CMS!$L$3:$Q$79,5,FALSE))","v":""},null,null,null,null,null,null,""]
[null,{"$f":"IF(F159=\"\",\"\",VLOOKUP(F159,List_CMS!$L$3:$Q$79,2,FALSE))","v":""},{"$f":"IF(F159=\"\",\"\",VLOOKUP(F159,List_CMS!$L$3:$Q$79,3,FALSE))","v":""},{"$f":"IF(F159=\"\",\"\",VLOOKUP(F159,List_CMS!$L$3:$Q$79,4,FALSE))","v":""},{"$f":"IF(F159=\"\",\"\",VLOOKUP(F159,List_CMS!$L$3:$Q$79,5,FALSE))","v":""},null,null,null,null,null,null,""]
[null,{"$f":"IF(F160=\"\",\"\",VLOOKUP(F160,List_CMS!$L$3:$Q$79,2,FALSE))","v":""},{"$f":"IF(F160=\"\",\"\",VLOOKUP(F160,List_CMS!$L$3:$Q$79,3,FALSE))","v":""},{"$f":"IF(F160=\"\",\"\",VLOOKUP(F160,List_CMS!$L$3:$Q$79,4,FALSE))","v":""},{"$f":"IF(F160=\"\",\"\",VLOOKUP(F160,List_CMS!$L$3:$Q$79,5,FALSE))","v":""},null,null,null,null,null,null,""]
[null,{"$f":"IF(F161=\"\",\"\",VLOOKUP(F161,List_CMS!$L$3:$Q$79,2,FALSE))","v":""},{"$f":"IF(F161=\"\",\"\",VLOOKUP(F161,List_CMS!$L$3:$Q$79,3,FALSE))","v":""},{"$f":"IF(F161=\"\",\"\",VLOOKUP(F161,List_CMS!$L$3:$Q$79,4,FALSE))","v":""},{"$f":"IF(F161=\"\",\"\",VLOOKUP(F161,List_CMS!$L$3:$Q$79,5,FALSE))","v":""},null,null,null,null,null,null,""]
[null,{"$f":"IF(F162=\"\",\"\",VLOOKUP(F162,List_CMS!$L$3:$Q$79,2,FALSE))","v":""},{"$f":"IF(F162=\"\",\"\",VLOOKUP(F162,List_CMS!$L$3:$Q$79,3,FALSE))","v":""},{"$f":"IF(F162=\"\",\"\",VLOOKUP(F162,List_CMS!$L$3:$Q$79,4,FALSE))","v":""},{"$f":"IF(F162=\"\",\"\",VLOOKUP(F162,List_CMS!$L$3:$Q$79,5,FALSE))","v":""},null,null,null,null,null,null,""]
[null,{"$f":"IF(F163=\"\",\"\",VLOOKUP(F163,List_CMS!$L$3:$Q$79,2,FALSE))","v":""},{"$f":"IF(F163=\"\",\"\",VLOOKUP(F163,List_CMS!$L$3:$Q$79,3,FALSE))","v":""},{"$f":"IF(F163=\"\",\"\",VLOOKUP(F163,List_CMS!$L$3:$Q$79,4,FALSE))","v":""},{"$f":"IF(F163=\"\",\"\",VLOOKUP(F163,List_CMS!$L$3:$Q$79,5,FALSE))","v":""},null,null,null,null,null,null,""]
[null,{"$f":"IF(F164=\"\",\"\",VLOOKUP(F164,List_CMS!$L$3:$Q$79,2,FALSE))","v":""},{"$f":"IF(F164=\"\",\"\",VLOOKUP(F164,List_CMS!$L$3:$Q$79,3,FALSE))","v":""},{"$f":"IF(F164=\"\",\"\",VLOOKUP(F164,List_CMS!$L$3:$Q$79,4,FALSE))","v":""},{"$f":"IF(F164=\"\",\"\",VLOOKUP(F164,List_CMS!$L$3:$Q$79,5,FALSE))","v":""},null,null,null,null,null,null,""]
[null,{"$f":"IF(F165=\"\",\"\",VLOOKUP(F165,List_CMS!$L$3:$Q$79,2,FALSE))","v":""},{"$f":"IF(F165=\"\",\"\",VLOOKUP(F165,List_CMS!$L$3:$Q$79,3,FALSE))","v":""},{"$f":"IF(F165=\"\",\"\",VLOOKUP(F165,List_CMS!$L$3:$Q$79,4,FALSE))","v":""},{"$f":"IF(F165=\"\",\"\",VLOOKUP(F165,List_CMS!$L$3:$Q$79,5,FALSE))","v":""},null,null,null,null,null,null,""]
[null,{"$f":"IF(F166=\"\",\"\",VLOOKUP(F166,List_CMS!$L$3:$Q$79,2,FALSE))","v":""},{"$f":"IF(F166=\"\",\"\",VLOOKUP(F166,List_CMS!$L$3:$Q$79,3,FALSE))","v":""},{"$f":"IF(F166=\"\",\"\",VLOOKUP(F166,List_CMS!$L$3:$Q$79,4,FALSE))","v":""},{"$f":"IF(F166=\"\",\"\",VLOOKUP(F166,List_CMS!$L$3:$Q$79,5,FALSE))","v":""},null,null,null,null,null,null,""]
[null,{"$f":"IF(F167=\"\",\"\",VLOOKUP(F167,List_CMS!$L$3:$Q$79,2,FALSE))","v":""},{"$f":"IF(F167=\"\",\"\",VLOOKUP(F167,List_CMS!$L$3:$Q$79,3,FALSE))","v":""},{"$f":"IF(F167=\"\",\"\",VLOOKUP(F167,List_CMS!$L$3:$Q$79,4,FALSE))","v":""},{"$f":"IF(F167=\"\",\"\",VLOOKUP(F167,List_CMS!$L$3:$Q$79,5,FALSE))","v":""},null,null,null,null,null,null,""]
[null,{"$f":"IF(F168=\"\",\"\",VLOOKUP(F168,List_CMS!$L$3:$Q$79,2,FALSE))","v":""},{"$f":"IF(F168=\"\",\"\",VLOOKUP(F168,List_CMS!$L$3:$Q$79,3,FALSE))","v":""},{"$f":"IF(F168=\"\",\"\",VLOOKUP(F168,List_CMS!$L$3:$Q$79,4,FALSE))","v":""},{"$f":"IF(F168=\"\",\"\",VLOOKUP(F168,List_CMS!$L$3:$Q$79,5,FALSE))","v":""},null,null,null,null,null,null,""]
[null,{"$f":"IF(F169=\"\",\"\",VLOOKUP(F169,List_CMS!$L$3:$Q$79,2,FALSE))","v":""},{"$f":"IF(F169=\"\",\"\",VLOOKUP(F169,List_CMS!$L$3:$Q$79,3,FALSE))","v":""},{"$f":"IF(F169=\"\",\"\",VLOOKUP(F169,List_CMS!$L$3:$Q$79,4,FALSE))","v":""},{"$f":"IF(F169=\"\",\"\",VLOOKUP(F169,List_CMS!$L$3:$Q$79,5,FALSE))","v":""},null,null,null,null,null,null,""]
[null,{"$f":"IF(F170=\"\",\"\",VLOOKUP(F170,List_CMS!$L$3:$Q$79,2,FALSE))","v":""},{"$f":"IF(F170=\"\",\"\",VLOOKUP(F170,List_CMS!$L$3:$Q$79,3,FALSE))","v":""},{"$f":"IF(F170=\"\",\"\",VLOOKUP(F170,List_CMS!$L$3:$Q$79,4,FALSE))","v":""},{"$f":"IF(F170=\"\",\"\",VLOOKUP(F170,List_CMS!$L$3:$Q$79,5,FALSE))","v":""},null,null,null,null,null,null,""]
[null,{"$f":"IF(F171=\"\",\"\",VLOOKUP(F171,List_CMS!$L$3:$Q$79,2,FALSE))","v":""},{"$f":"IF(F171=\"\",\"\",VLOOKUP(F171,List_CMS!$L$3:$Q$79,3,FALSE))","v":""},{"$f":"IF(F171=\"\",\"\",VLOOKUP(F171,List_CMS!$L$3:$Q$79,4,FALSE))","v":""},{"$f":"IF(F171=\"\",\"\",VLOOKUP(F171,List_CMS!$L$3:$Q$79,5,FALSE))","v":""},null,null,null,null,null,null,""]
[null,{"$f":"IF(F172=\"\",\"\",VLOOKUP(F172,List_CMS!$L$3:$Q$79,2,FALSE))","v":""},{"$f":"IF(F172=\"\",\"\",VLOOKUP(F172,List_CMS!$L$3:$Q$79,3,FALSE))","v":""},{"$f":"IF(F172=\"\",\"\",VLOOKUP(F172,List_CMS!$L$3:$Q$79,4,FALSE))","v":""},{"$f":"IF(F172=\"\",\"\",VLOOKUP(F172,List_CMS!$L$3:$Q$79,5,FALSE))","v":""},null,null,null,null,null,null,""]
[null,{"$f":"IF(F173=\"\",\"\",VLOOKUP(F173,List_CMS!$L$3:$Q$79,2,FALSE))","v":""},{"$f":"IF(F173=\"\",\"\",VLOOKUP(F173,List_CMS!$L$3:$Q$79,3,FALSE))","v":""},{"$f":"IF(F173=\"\",\"\",VLOOKUP(F173,List_CMS!$L$3:$Q$79,4,FALSE))","v":""},{"$f":"IF(F173=\"\",\"\",VLOOKUP(F173,List_CMS!$L$3:$Q$79,5,FALSE))","v":""},null,null,null,null,null,null,""]
[null,{"$f":"IF(F174=\"\",\"\",VLOOKUP(F174,List_CMS!$L$3:$Q$79,2,FALSE))","v":""},{"$f":"IF(F174=\"\",\"\",VLOOKUP(F174,List_CMS!$L$3:$Q$79,3,FALSE))","v":""},{"$f":"IF(F174=\"\",\"\",VLOOKUP(F174,List_CMS!$L$3:$Q$79,4,FALSE))","v":""},{"$f":"IF(F174=\"\",\"\",VLOOKUP(F174,List_CMS!$L$3:$Q$79,5,FALSE))","v":""},null,null,null,null,null,null,""]
[null,{"$f":"IF(F175=\"\",\"\",VLOOKUP(F175,List_CMS!$L$3:$Q$79,2,FALSE))","v":""},{"$f":"IF(F175=\"\",\"\",VLOOKUP(F175,List_CMS!$L$3:$Q$79,3,FALSE))","v":""},{"$f":"IF(F175=\"\",\"\",VLOOKUP(F175,List_CMS!$L$3:$Q$79,4,FALSE))","v":""},{"$f":"IF(F175=\"\",\"\",VLOOKUP(F175,List_CMS!$L$3:$Q$79,5,FALSE))","v":""},null,null,null,null,null,null,""]
[null,{"$f":"IF(F176=\"\",\"\",VLOOKUP(F176,List_CMS!$L$3:$Q$79,2,FALSE))","v":""},{"$f":"IF(F176=\"\",\"\",VLOOKUP(F176,List_CMS!$L$3:$Q$79,3,FALSE))","v":""},{"$f":"IF(F176=\"\",\"\",VLOOKUP(F176,List_CMS!$L$3:$Q$79,4,FALSE))","v":""},{"$f":"IF(F176=\"\",\"\",VLOOKUP(F176,List_CMS!$L$3:$Q$79,5,FALSE))","v":""},null,null,null,null,null,null,""]
[null,{"$f":"IF(F177=\"\",\"\",VLOOKUP(F177,List_CMS!$L$3:$Q$79,2,FALSE))","v":""},{"$f":"IF(F177=\"\",\"\",VLOOKUP(F177,List_CMS!$L$3:$Q$79,3,FALSE))","v":""},{"$f":"IF(F177=\"\",\"\",VLOOKUP(F177,List_CMS!$L$3:$Q$79,4,FALSE))","v":""},{"$f":"IF(F177=\"\",\"\",VLOOKUP(F177,List_CMS!$L$3:$Q$79,5,FALSE))","v":""},null,null,null,null,null,null,""]
[null,{"$f":"IF(F178=\"\",\"\",VLOOKUP(F178,List_CMS!$L$3:$Q$79,2,FALSE))","v":""},{"$f":"IF(F178=\"\",\"\",VLOOKUP(F178,List_CMS!$L$3:$Q$79,3,FALSE))","v":""},{"$f":"IF(F178=\"\",\"\",VLOOKUP(F178,List_CMS!$L$3:$Q$79,4,FALSE))","v":""},{"$f":"IF(F178=\"\",\"\",VLOOKUP(F178,List_CMS!$L$3:$Q$79,5,FALSE))","v":""},null,null,null,null,null,null,""]
[null,{"$f":"IF(F179=\"\",\"\",VLOOKUP(F179,List_CMS!$L$3:$Q$79,2,FALSE))","v":""},{"$f":"IF(F179=\"\",\"\",VLOOKUP(F179,List_CMS!$L$3:$Q$79,3,FALSE))","v":""},{"$f":"IF(F179=\"\",\"\",VLOOKUP(F179,List_CMS!$L$3:$Q$79,4,FALSE))","v":""},{"$f":"IF(F179=\"\",\"\",VLOOKUP(F179,List_CMS!$L$3:$Q$79,5,FALSE))","v":""},null,null,null,null,null,null,""]
[null,{"$f":"IF(F180=\"\",\"\",VLOOKUP(F180,List_CMS!$L$3:$Q$79,2,FALSE))","v":""},{"$f":"IF(F180=\"\",\"\",VLOOKUP(F180,List_CMS!$L$3:$Q$79,3,FALSE))","v":""},{"$f":"IF(F180=\"\",\"\",VLOOKUP(F180,List_CMS!$L$3:$Q$79,4,FALSE))","v":""},{"$f":"IF(F180=\"\",\"\",VLOOKUP(F180,List_CMS!$L$3:$Q$79,5,FALSE))","v":""},null,null,null,null,null,null,""]
[null,{"$f":"IF(F181=\"\",\"\",VLOOKUP(F181,List_CMS!$L$3:$Q$79,2,FALSE))","v":""},{"$f":"IF(F181=\"\",\"\",VLOOKUP(F181,List_CMS!$L$3:$Q$79,3,FALSE))","v":""},{"$f":"IF(F181=\"\",\"\",VLOOKUP(F181,List_CMS!$L$3:$Q$79,4,FALSE))","v":""},{"$f":"IF(F181=\"\",\"\",VLOOKUP(F181,List_CMS!$L$3:$Q$79,5,FALSE))","v":""},null,null,null,null,null,null,""]
[null,{"$f":"IF(F182=\"\",\"\",VLOOKUP(F182,List_CMS!$L$3:$Q$79,2,FALSE))","v":""},{"$f":"IF(F182=\"\",\"\",VLOOKUP(F182,List_CMS!$L$3:$Q$79,3,FALSE))","v":""},{"$f":"IF(F182=\"\",\"\",VLOOKUP(F182,List_CMS!$L$3:$Q$79,4,FALSE))","v":""},{"$f":"IF(F182=\"\",\"\",VLOOKUP(F182,List_CMS!$L$3:$Q$79,5,FALSE))","v":""},null,null,null,null,null,null,""]
[null,{"$f":"IF(F183=\"\",\"\",VLOOKUP(F183,List_CMS!$L$3:$Q$79,2,FALSE))","v":""},{"$f":"IF(F183=\"\",\"\",VLOOKUP(F183,List_CMS!$L$3:$Q$79,3,FALSE))","v":""},{"$f":"IF(F183=\"\",\"\",VLOOKUP(F183,List_CMS!$L$3:$Q$79,4,FALSE))","v":""},{"$f":"IF(F183=\"\",\"\",VLOOKUP(F183,List_CMS!$L$3:$Q$79,5,FALSE))","v":""},null,null,null,null,null,null,""]
[null,{"$f":"IF(F184=\"\",\"\",VLOOKUP(F184,List_CMS!$L$3:$Q$79,2,FALSE))","v":""},{"$f":"IF(F184=\"\",\"\",VLOOKUP(F184,List_CMS!$L$3:$Q$79,3,FALSE))","v":""},{"$f":"IF(F184=\"\",\"\",VLOOKUP(F184,List_CMS!$L$3:$Q$79,4,FALSE))","v":""},{"$f":"IF(F184=\"\",\"\",VLOOKUP(F184,List_CMS!$L$3:$Q$79,5,FALSE))","v":""},null,null,null,null,null,null,""]
[null,{"$f":"IF(F185=\"\",\"\",VLOOKUP(F185,List_CMS!$L$3:$Q$79,2,FALSE))","v":""},{"$f":"IF(F185=\"\",\"\",VLOOKUP(F185,List_CMS!$L$3:$Q$79,3,FALSE))","v":""},{"$f":"IF(F185=\"\",\"\",VLOOKUP(F185,List_CMS!$L$3:$Q$79,4,FALSE))","v":""},{"$f":"IF(F185=\"\",\"\",VLOOKUP(F185,List_CMS!$L$3:$Q$79,5,FALSE))","v":""},null,null,null,null,null,null,""]
[null,{"$f":"IF(F186=\"\",\"\",VLOOKUP(F186,List_CMS!$L$3:$Q$79,2,FALSE))","v":""},{"$f":"IF(F186=\"\",\"\",VLOOKUP(F186,List_CMS!$L$3:$Q$79,3,FALSE))","v":""},{"$f":"IF(F186=\"\",\"\",VLOOKUP(F186,List_CMS!$L$3:$Q$79,4,FALSE))","v":""},{"$f":"IF(F186=\"\",\"\",VLOOKUP(F186,List_CMS!$L$3:$Q$79,5,FALSE))","v":""},null,null,null,null,null,null,""]
[null,{"$f":"IF(F187=\"\",\"\",VLOOKUP(F187,List_CMS!$L$3:$Q$79,2,FALSE))","v":""},{"$f":"IF(F187=\"\",\"\",VLOOKUP(F187,List_CMS!$L$3:$Q$79,3,FALSE))","v":""},{"$f":"IF(F187=\"\",\"\",VLOOKUP(F187,List_CMS!$L$3:$Q$79,4,FALSE))","v":""},{"$f":"IF(F187=\"\",\"\",VLOOKUP(F187,List_CMS!$L$3:$Q$79,5,FALSE))","v":""},null,null,null,null,null,null,""]
[null,{"$f":"IF(F188=\"\",\"\",VLOOKUP(F188,List_CMS!$L$3:$Q$79,2,FALSE))","v":""},{"$f":"IF(F188=\"\",\"\",VLOOKUP(F188,List_CMS!$L$3:$Q$79,3,FALSE))","v":""},{"$f":"IF(F188=\"\",\"\",VLOOKUP(F188,List_CMS!$L$3:$Q$79,4,FALSE))","v":""},{"$f":"IF(F188=\"\",\"\",VLOOKUP(F188,List_CMS!$L$3:$Q$79,5,FALSE))","v":""},null,null,null,null,null,null,""]
[null,{"$f":"IF(F189=\"\",\"\",VLOOKUP(F189,List_CMS!$L$3:$Q$79,2,FALSE))","v":""},{"$f":"IF(F189=\"\",\"\",VLOOKUP(F189,List_CMS!$L$3:$Q$79,3,FALSE))","v":""},{"$f":"IF(F189=\"\",\"\",VLOOKUP(F189,List_CMS!$L$3:$Q$79,4,FALSE))","v":""},{"$f":"IF(F189=\"\",\"\",VLOOKUP(F189,List_CMS!$L$3:$Q$79,5,FALSE))","v":""},null,null,null,null,null,null,""]
[null,{"$f":"IF(F190=\"\",\"\",VLOOKUP(F190,List_CMS!$L$3:$Q$79,2,FALSE))","v":""},{"$f":"IF(F190=\"\",\"\",VLOOKUP(F190,List_CMS!$L$3:$Q$79,3,FALSE))","v":""},{"$f":"IF(F190=\"\",\"\",VLOOKUP(F190,List_CMS!$L$3:$Q$79,4,FALSE))","v":""},{"$f":"IF(F190=\"\",\"\",VLOOKUP(F190,List_CMS!$L$3:$Q$79,5,FALSE))","v":""},null,null,null,null,null,null,""]
[null,{"$f":"IF(F191=\"\",\"\",VLOOKUP(F191,List_CMS!$L$3:$Q$79,2,FALSE))","v":""},{"$f":"IF(F191=\"\",\"\",VLOOKUP(F191,List_CMS!$L$3:$Q$79,3,FALSE))","v":""},{"$f":"IF(F191=\"\",\"\",VLOOKUP(F191,List_CMS!$L$3:$Q$79,4,FALSE))","v":""},{"$f":"IF(F191=\"\",\"\",VLOOKUP(F191,List_CMS!$L$3:$Q$79,5,FALSE))","v":""},null,null,null,null,null,null,""]
[null,{"$f":"IF(F192=\"\",\"\",VLOOKUP(F192,List_CMS!$L$3:$Q$79,2,FALSE))","v":""},{"$f":"IF(F192=\"\",\"\",VLOOKUP(F192,List_CMS!$L$3:$Q$79,3,FALSE))","v":""},{"$f":"IF(F192=\"\",\"\",VLOOKUP(F192,List_CMS!$L$3:$Q$79,4,FALSE))","v":""},{"$f":"IF(F192=\"\",\"\",VLOOKUP(F192,List_CMS!$L$3:$Q$79,5,FALSE))","v":""},null,null,null,null,null,null,""]
[null,{"$f":"IF(F193=\"\",\"\",VLOOKUP(F193,List_CMS!$L$3:$Q$79,2,FALSE))","v":""},{"$f":"IF(F193=\"\",\"\",VLOOKUP(F193,List_CMS!$L$3:$Q$79,3,FALSE))","v":""},{"$f":"IF(F193=\"\",\"\",VLOOKUP(F193,List_CMS!$L$3:$Q$79,4,FALSE))","v":""},{"$f":"IF(F193=\"\",\"\",VLOOKUP(F193,List_CMS!$L$3:$Q$79,5,FALSE))","v":""},null,null,null,null,null,null,""]
[null,{"$f":"IF(F194=\"\",\"\",VLOOKUP(F194,List_CMS!$L$3:$Q$79,2,FALSE))","v":""},{"$f":"IF(F194=\"\",\"\",VLOOKUP(F194,List_CMS!$L$3:$Q$79,3,FALSE))","v":""},{"$f":"IF(F194=\"\",\"\",VLOOKUP(F194,List_CMS!$L$3:$Q$79,4,FALSE))","v":""},{"$f":"IF(F194=\"\",\"\",VLOOKUP(F194,List_CMS!$L$3:$Q$79,5,FALSE))","v":""},null,null,null,null,null,null,""]
[null,{"$f":"IF(F195=\"\",\"\",VLOOKUP(F195,List_CMS!$L$3:$Q$79,2,FALSE))","v":""},{"$f":"IF(F195=\"\",\"\",VLOOKUP(F195,List_CMS!$L$3:$Q$79,3,FALSE))","v":""},{"$f":"IF(F195=\"\",\"\",VLOOKUP(F195,List_CMS!$L$3:$Q$79,4,FALSE))","v":""},{"$f":"IF(F195=\"\",\"\",VLOOKUP(F195,List_CMS!$L$3:$Q$79,5,FALSE))","v":""},null,null,null,null,null,null,""]
[null,{"$f":"IF(F196=\"\",\"\",VLOOKUP(F196,List_CMS!$L$3:$Q$79,2,FALSE))","v":""},{"$f":"IF(F196=\"\",\"\",VLOOKUP(F196,List_CMS!$L$3:$Q$79,3,FALSE))","v":""},{"$f":"IF(F196=\"\",\"\",VLOOKUP(F196,List_CMS!$L$3:$Q$79,4,FALSE))","v":""},{"$f":"IF(F196=\"\",\"\",VLOOKUP(F196,List_CMS!$L$3:$Q$79,5,FALSE))","v":""},null,null,null,null,null,null,""]
[null,{"$f":"IF(F197=\"\",\"\",VLOOKUP(F197,List_CMS!$L$3:$Q$79,2,FALSE))","v":""},{"$f":"IF(F197=\"\",\"\",VLOOKUP(F197,List_CMS!$L$3:$Q$79,3,FALSE))","v":""},{"$f":"IF(F197=\"\",\"\",VLOOKUP(F197,List_CMS!$L$3:$Q$79,4,FALSE))","v":""},{"$f":"IF(F197=\"\",\"\",VLOOKUP(F197,List_CMS!$L$3:$Q$79,5,FALSE))","v":""},null,null,null,null,null,null,""]
[null,{"$f":"IF(F198=\"\",\"\",VLOOKUP(F198,List_CMS!$L$3:$Q$79,2,FALSE))","v":""},{"$f":"IF(F198=\"\",\"\",VLOOKUP(F198,List_CMS!$L$3:$Q$79,3,FALSE))","v":""},{"$f":"IF(F198=\"\",\"\",VLOOKUP(F198,List_CMS!$L$3:$Q$79,4,FALSE))","v":""},{"$f":"IF(F198=\"\",\"\",VLOOKUP(F198,List_CMS!$L$3:$Q$79,5,FALSE))","v":""},null,null,null,null,null,null,""]
[null,{"$f":"IF(F199=\"\",\"\",VLOOKUP(F199,List_CMS!$L$3:$Q$79,2,FALSE))","v":""},{"$f":"IF(F199=\"\",\"\",VLOOKUP(F199,List_CMS!$L$3:$Q$79,3,FALSE))","v":""},{"$f":"IF(F199=\"\",\"\",VLOOKUP(F199,List_CMS!$L$3:$Q$79,4,FALSE))","v":""},{"$f":"IF(F199=\"\",\"\",VLOOKUP(F199,List_CMS!$L$3:$Q$79,5,FALSE))","v":""},null,null,null,null,null,null,""]
[null,{"$f":"IF(F200=\"\",\"\",VLOOKUP(F200,List_CMS!$L$3:$Q$79,2,FALSE))","v":""},{"$f":"IF(F200=\"\",\"\",VLOOKUP(F200,List_CMS!$L$3:$Q$79,3,FALSE))","v":""},{"$f":"IF(F200=\"\",\"\",VLOOKUP(F200,List_CMS!$L$3:$Q$79,4,FALSE))","v":""},{"$f":"IF(F200=\"\",\"\",VLOOKUP(F200,List_CMS!$L$3:$Q$79,5,FALSE))","v":""},null,null,null,null,null,null,""]
[null,{"$f":"IF(F201=\"\",\"\",VLOOKUP(F201,List_CMS!$L$3:$Q$79,2,FALSE))","v":""},{"$f":"IF(F201=\"\",\"\",VLOOKUP(F201,List_CMS!$L$3:$Q$79,3,FALSE))","v":""},{"$f":"IF(F201=\"\",\"\",VLOOKUP(F201,List_CMS!$L$3:$Q$79,4,FALSE))","v":""},{"$f":"IF(F201=\"\",\"\",VLOOKUP(F201,List_CMS!$L$3:$Q$79,5,FALSE))","v":""},null,null,null,null,null,null,""]
[null,{"$f":"IF(F202=\"\",\"\",VLOOKUP(F202,List_CMS!$L$3:$Q$79,2,FALSE))","v":""},{"$f":"IF(F202=\"\",\"\",VLOOKUP(F202,List_CMS!$L$3:$Q$79,3,FALSE))","v":""},{"$f":"IF(F202=\"\",\"\",VLOOKUP(F202,List_CMS!$L$3:$Q$79,4,FALSE))","v":""},{"$f":"IF(F202=\"\",\"\",VLOOKUP(F202,List_CMS!$L$3:$Q$79,5,FALSE))","v":""},null,null,null,null,null,null,""]
[null,{"$f":"IF(F203=\"\",\"\",VLOOKUP(F203,List_CMS!$L$3:$Q$79,2,FALSE))","v":""},{"$f":"IF(F203=\"\",\"\",VLOOKUP(F203,List_CMS!$L$3:$Q$79,3,FALSE))","v":""},{"$f":"IF(F203=\"\",\"\",VLOOKUP(F203,List_CMS!$L$3:$Q$79,4,FALSE))","v":""},{"$f":"IF(F203=\"\",\"\",VLOOKUP(F203,List_CMS!$L$3:$Q$79,5,FALSE))","v":""},null,null,null,null,null,null,""]
[null,{"$f":"IF(F204=\"\",\"\",VLOOKUP(F204,List_CMS!$L$3:$Q$79,2,FALSE))","v":""},{"$f":"IF(F204=\"\",\"\",VLOOKUP(F204,List_CMS!$L$3:$Q$79,3,FALSE))","v":""},{"$f":"IF(F204=\"\",\"\",VLOOKUP(F204,List_CMS!$L$3:$Q$79,4,FALSE))","v":""},{"$f":"IF(F204=\"\",\"\",VLOOKUP(F204,List_CMS!$L$3:$Q$79,5,FALSE))","v":""},null,null,null,null,null,null,""]
[null,{"$f":"IF(F205=\"\",\"\",VLOOKUP(F205,List_CMS!$L$3:$Q$79,2,FALSE))","v":""},{"$f":"IF(F205=\"\",\"\",VLOOKUP(F205,List_CMS!$L$3:$Q$79,3,FALSE))","v":""},{"$f":"IF(F205=\"\",\"\",VLOOKUP(F205,List_CMS!$L$3:$Q$79,4,FALSE))","v":""},{"$f":"IF(F205=\"\",\"\",VLOOKUP(F205,List_CMS!$L$3:$Q$79,5,FALSE))","v":""},null,null,null,null,null,null,""]
[null,{"$f":"IF(F206=\"\",\"\",VLOOKUP(F206,List_CMS!$L$3:$Q$79,2,FALSE))","v":""},{"$f":"IF(F206=\"\",\"\",VLOOKUP(F206,List_CMS!$L$3:$Q$79,3,FALSE))","v":""},{"$f":"IF(F206=\"\",\"\",VLOOKUP(F206,List_CMS!$L$3:$Q$79,4,FALSE))","v":""},{"$f":"IF(F206=\"\",\"\",VLOOKUP(F206,List_CMS!$L$3:$Q$79,5,FALSE))","v":""},null,null,null,null,null,null,""]
[null,{"$f":"IF(F207=\"\",\"\",VLOOKUP(F207,List_CMS!$L$3:$Q$79,2,FALSE))","v":""},{"$f":"IF(F207=\"\",\"\",VLOOKUP(F207,List_CMS!$L$3:$Q$79,3,FALSE))","v":""},{"$f":"IF(F207=\"\",\"\",VLOOKUP(F207,List_CMS!$L$3:$Q$79,4,FALSE))","v":""},{"$f":"IF(F207=\"\",\"\",VLOOKUP(F207,List_CMS!$L$3:$Q$79,5,FALSE))","v":""},null,null,null,null,null,null,""]
[null,{"$f":"IF(F208=\"\",\"\",VLOOKUP(F208,List_CMS!$L$3:$Q$79,2,FALSE))","v":""},{"$f":"IF(F208=\"\",\"\",VLOOKUP(F208,List_CMS!$L$3:$Q$79,3,FALSE))","v":""},{"$f":"IF(F208=\"\",\"\",VLOOKUP(F208,List_CMS!$L$3:$Q$79,4,FALSE))","v":""},{"$f":"IF(F208=\"\",\"\",VLOOKUP(F208,List_CMS!$L$3:$Q$79,5,FALSE))","v":""},null,null,null,null,null,null,""]
[null,{"$f":"IF(F209=\"\",\"\",VLOOKUP(F209,List_CMS!$L$3:$Q$79,2,FALSE))","v":""},{"$f":"IF(F209=\"\",\"\",VLOOKUP(F209,List_CMS!$L$3:$Q$79,3,FALSE))","v":""},{"$f":"IF(F209=\"\",\"\",VLOOKUP(F209,List_CMS!$L$3:$Q$79,4,FALSE))","v":""},{"$f":"IF(F209=\"\",\"\",VLOOKUP(F209,List_CMS!$L$3:$Q$79,5,FALSE))","v":""},null,null,null,null,null,null,""]
[null,{"$f":"IF(F210=\"\",\"\",VLOOKUP(F210,List_CMS!$L$3:$Q$79,2,FALSE))","v":""},{"$f":"IF(F210=\"\",\"\",VLOOKUP(F210,List_CMS!$L$3:$Q$79,3,FALSE))","v":""},{"$f":"IF(F210=\"\",\"\",VLOOKUP(F210,List_CMS!$L$3:$Q$79,4,FALSE))","v":""},{"$f":"IF(F210=\"\",\"\",VLOOKUP(F210,List_CMS!$L$3:$Q$79,5,FALSE))","v":""},null,null,null,null,null,null,""]
[null,{"$f":"IF(F211=\"\",\"\",VLOOKUP(F211,List_CMS!$L$3:$Q$79,2,FALSE))","v":""},{"$f":"IF(F211=\"\",\"\",VLOOKUP(F211,List_CMS!$L$3:$Q$79,3,FALSE))","v":""},{"$f":"IF(F211=\"\",\"\",VLOOKUP(F211,List_CMS!$L$3:$Q$79,4,FALSE))","v":""},{"$f":"IF(F211=\"\",\"\",VLOOKUP(F211,List_CMS!$L$3:$Q$79,5,FALSE))","v":""},null,null,null,null,null,null,""]
[null,{"$f":"IF(F212=\"\",\"\",VLOOKUP(F212,List_CMS!$L$3:$Q$79,2,FALSE))","v":""},{"$f":"IF(F212=\"\",\"\",VLOOKUP(F212,List_CMS!$L$3:$Q$79,3,FALSE))","v":""},{"$f":"IF(F212=\"\",\"\",VLOOKUP(F212,List_CMS!$L$3:$Q$79,4,FALSE))","v":""},{"$f":"IF(F212=\"\",\"\",VLOOKUP(F212,List_CMS!$L$3:$Q$79,5,FALSE))","v":""},null,null,null,null,null,null,""]
[null,{"$f":"IF(F213=\"\",\"\",VLOOKUP(F213,List_CMS!$L$3:$Q$79,2,FALSE))","v":""},{"$f":"IF(F213=\"\",\"\",VLOOKUP(F213,List_CMS!$L$3:$Q$79,3,FALSE))","v":""},{"$f":"IF(F213=\"\",\"\",VLOOKUP(F213,List_CMS!$L$3:$Q$79,4,FALSE))","v":""},{"$f":"IF(F213=\"\",\"\",VLOOKUP(F213,List_CMS!$L$3:$Q$79,5,FALSE))","v":""},null,null,null,null,null,null,""]
[null,{"$f":"IF(F214=\"\",\"\",VLOOKUP(F214,List_CMS!$L$3:$Q$79,2,FALSE))","v":""},{"$f":"IF(F214=\"\",\"\",VLOOKUP(F214,List_CMS!$L$3:$Q$79,3,FALSE))","v":""},{"$f":"IF(F214=\"\",\"\",VLOOKUP(F214,List_CMS!$L$3:$Q$79,4,FALSE))","v":""},{"$f":"IF(F214=\"\",\"\",VLOOKUP(F214,List_CMS!$L$3:$Q$79,5,FALSE))","v":""},null,null,null,null,null,null,""]
[null,{"$f":"IF(F215=\"\",\"\",VLOOKUP(F215,List_CMS!$L$3:$Q$79,2,FALSE))","v":""},{"$f":"IF(F215=\"\",\"\",VLOOKUP(F215,List_CMS!$L$3:$Q$79,3,FALSE))","v":""},{"$f":"IF(F215=\"\",\"\",VLOOKUP(F215,List_CMS!$L$3:$Q$79,4,FALSE))","v":""},{"$f":"IF(F215=\"\",\"\",VLOOKUP(F215,List_CMS!$L$3:$Q$79,5,FALSE))","v":""},null,null,null,null,null,null,""]
[null,{"$f":"IF(F216=\"\",\"\",VLOOKUP(F216,List_CMS!$L$3:$Q$79,2,FALSE))","v":""},{"$f":"IF(F216=\"\",\"\",VLOOKUP(F216,List_CMS!$L$3:$Q$79,3,FALSE))","v":""},{"$f":"IF(F216=\"\",\"\",VLOOKUP(F216,List_CMS!$L$3:$Q$79,4,FALSE))","v":""},{"$f":"IF(F216=\"\",\"\",VLOOKUP(F216,List_CMS!$L$3:$Q$79,5,FALSE))","v":""},null,null,null,null,null,null,""]
[null,{"$f":"IF(F217=\"\",\"\",VLOOKUP(F217,List_CMS!$L$3:$Q$79,2,FALSE))","v":""},{"$f":"IF(F217=\"\",\"\",VLOOKUP(F217,List_CMS!$L$3:$Q$79,3,FALSE))","v":""},{"$f":"IF(F217=\"\",\"\",VLOOKUP(F217,List_CMS!$L$3:$Q$79,4,FALSE))","v":""},{"$f":"IF(F217=\"\",\"\",VLOOKUP(F217,List_CMS!$L$3:$Q$79,5,FALSE))","v":""},null,null,null,null,null,null,{"$f":"IF(K217=\"\",\"\",(VALUE(TEXT(J217,\"m/dd/yy \")&TEXT(K217,\"hh:mm:ss\"))-(VALUE(TEXT(H217,\"m/dd/yy \")&TEXT(I217,\"hh:mm:ss\"))))*24)","v":""}]
[null,{"$f":"IF(F218=\"\",\"\",VLOOKUP(F218,List_CMS!$L$3:$Q$79,2,FALSE))","v":""},{"$f":"IF(F218=\"\",\"\",VLOOKUP(F218,List_CMS!$L$3:$Q$79,3,FALSE))","v":""},{"$f":"IF(F218=\"\",\"\",VLOOKUP(F218,List_CMS!$L$3:$Q$79,4,FALSE))","v":""},{"$f":"IF(F218=\"\",\"\",VLOOKUP(F218,List_CMS!$L$3:$Q$79,5,FALSE))","v":""},null,null,null,null,null,null,""]
[null,{"$f":"IF(F219=\"\",\"\",VLOOKUP(F219,List_CMS!$L$3:$Q$79,2,FALSE))","v":""},{"$f":"IF(F219=\"\",\"\",VLOOKUP(F219,List_CMS!$L$3:$Q$79,3,FALSE))","v":""},{"$f":"IF(F219=\"\",\"\",VLOOKUP(F219,List_CMS!$L$3:$Q$79,4,FALSE))","v":""},{"$f":"IF(F219=\"\",\"\",VLOOKUP(F219,List_CMS!$L$3:$Q$79,5,FALSE))","v":""},null,null,null,null,null,null,""]
[null,{"$f":"IF(F220=\"\",\"\",VLOOKUP(F220,List_CMS!$L$3:$Q$79,2,FALSE))","v":""},{"$f":"IF(F220=\"\",\"\",VLOOKUP(F220,List_CMS!$L$3:$Q$79,3,FALSE))","v":""},{"$f":"IF(F220=\"\",\"\",VLOOKUP(F220,List_CMS!$L$3:$Q$79,4,FALSE))","v":""},{"$f":"IF(F220=\"\",\"\",VLOOKUP(F220,List_CMS!$L$3:$Q$79,5,FALSE))","v":""},null,null,null,null,null,null,""]
[null,{"$f":"IF(F221=\"\",\"\",VLOOKUP(F221,List_CMS!$L$3:$Q$79,2,FALSE))","v":""},{"$f":"IF(F221=\"\",\"\",VLOOKUP(F221,List_CMS!$L$3:$Q$79,3,FALSE))","v":""},{"$f":"IF(F221=\"\",\"\",VLOOKUP(F221,List_CMS!$L$3:$Q$79,4,FALSE))","v":""},{"$f":"IF(F221=\"\",\"\",VLOOKUP(F221,List_CMS!$L$3:$Q$79,5,FALSE))","v":""},null,null,null,null,null,null,""]
[null,{"$f":"IF(F222=\"\",\"\",VLOOKUP(F222,List_CMS!$L$3:$Q$79,2,FALSE))","v":""},{"$f":"IF(F222=\"\",\"\",VLOOKUP(F222,List_CMS!$L$3:$Q$79,3,FALSE))","v":""},{"$f":"IF(F222=\"\",\"\",VLOOKUP(F222,List_CMS!$L$3:$Q$79,4,FALSE))","v":""},{"$f":"IF(F222=\"\",\"\",VLOOKUP(F222,List_CMS!$L$3:$Q$79,5,FALSE))","v":""},null,null,null,null,null,null,""]
[null,{"$f":"IF(F223=\"\",\"\",VLOOKUP(F223,List_CMS!$L$3:$Q$79,2,FALSE))","v":""},{"$f":"IF(F223=\"\",\"\",VLOOKUP(F223,List_CMS!$L$3:$Q$79,3,FALSE))","v":""},{"$f":"IF(F223=\"\",\"\",VLOOKUP(F223,List_CMS!$L$3:$Q$79,4,FALSE))","v":""},{"$f":"IF(F223=\"\",\"\",VLOOKUP(F223,List_CMS!$L$3:$Q$79,5,FALSE))","v":""},null,null,null,null,null,null,""]
[null,{"$f":"IF(F224=\"\",\"\",VLOOKUP(F224,List_CMS!$L$3:$Q$79,2,FALSE))","v":""},{"$f":"IF(F224=\"\",\"\",VLOOKUP(F224,List_CMS!$L$3:$Q$79,3,FALSE))","v":""},{"$f":"IF(F224=\"\",\"\",VLOOKUP(F224,List_CMS!$L$3:$Q$79,4,FALSE))","v":""},{"$f":"IF(F224=\"\",\"\",VLOOKUP(F224,List_CMS!$L$3:$Q$79,5,FALSE))","v":""},null,null,null,null,null,null,""]
[null,{"$f":"IF(F225=\"\",\"\",VLOOKUP(F225,List_CMS!$L$3:$Q$79,2,FALSE))","v":""},{"$f":"IF(F225=\"\",\"\",VLOOKUP(F225,List_CMS!$L$3:$Q$79,3,FALSE))","v":""},{"$f":"IF(F225=\"\",\"\",VLOOKUP(F225,List_CMS!$L$3:$Q$79,4,FALSE))","v":""},{"$f":"IF(F225=\"\",\"\",VLOOKUP(F225,List_CMS!$L$3:$Q$79,5,FALSE))","v":""},null,null,null,null,null,null,""]
[null,{"$f":"IF(F226=\"\",\"\",VLOOKUP(F226,List_CMS!$L$3:$Q$79,2,FALSE))","v":""},{"$f":"IF(F226=\"\",\"\",VLOOKUP(F226,List_CMS!$L$3:$Q$79,3,FALSE))","v":""},{"$f":"IF(F226=\"\",\"\",VLOOKUP(F226,List_CMS!$L$3:$Q$79,4,FALSE))","v":""},{"$f":"IF(F226=\"\",\"\",VLOOKUP(F226,List_CMS!$L$3:$Q$79,5,FALSE))","v":""},null,null,null,null,null,null,""]
[null,{"$f":"IF(F227=\"\",\"\",VLOOKUP(F227,List_CMS!$L$3:$Q$79,2,FALSE))","v":""},{"$f":"IF(F227=\"\",\"\",VLOOKUP(F227,List_CMS!$L$3:$Q$79,3,FALSE))","v":""},{"$f":"IF(F227=\"\",\"\",VLOOKUP(F227,List_CMS!$L$3:$Q$79,4,FALSE))","v":""},{"$f":"IF(F227=\"\",\"\",VLOOKUP(F227,List_CMS!$L$3:$Q$79,5,FALSE))","v":""},null,null,null,null,null,null,""]
[null,{"$f":"IF(F228=\"\",\"\",VLOOKUP(F228,List_CMS!$L$3:$Q$79,2,FALSE))","v":""},{"$f":"IF(F228=\"\",\"\",VLOOKUP(F228,List_CMS!$L$3:$Q$79,3,FALSE))","v":""},{"$f":"IF(F228=\"\",\"\",VLOOKUP(F228,List_CMS!$L$3:$Q$79,4,FALSE))","v":""},{"$f":"IF(F228=\"\",\"\",VLOOKUP(F228,List_CMS!$L$3:$Q$79,5,FALSE))","v":""},null,null,null,null,null,null,""]
[null,{"$f":"IF(F229=\"\",\"\",VLOOKUP(F229,List_CMS!$L$3:$Q$79,2,FALSE))","v":""},{"$f":"IF(F229=\"\",\"\",VLOOKUP(F229,List_CMS!$L$3:$Q$79,3,FALSE))","v":""},{"$f":"IF(F229=\"\",\"\",VLOOKUP(F229,List_CMS!$L$3:$Q$79,4,FALSE))","v":""},{"$f":"IF(F229=\"\",\"\",VLOOKUP(F229,List_CMS!$L$3:$Q$79,5,FALSE))","v":""},null,null,null,null,null,null,""]
[null,{"$f":"IF(F230=\"\",\"\",VLOOKUP(F230,List_CMS!$L$3:$Q$79,2,FALSE))","v":""},{"$f":"IF(F230=\"\",\"\",VLOOKUP(F230,List_CMS!$L$3:$Q$79,3,FALSE))","v":""},{"$f":"IF(F230=\"\",\"\",VLOOKUP(F230,List_CMS!$L$3:$Q$79,4,FALSE))","v":""},{"$f":"IF(F230=\"\",\"\",VLOOKUP(F230,List_CMS!$L$3:$Q$79,5,FALSE))","v":""},null,null,null,null,null,null,""]
[null,{"$f":"IF(F231=\"\",\"\",VLOOKUP(F231,List_CMS!$L$3:$Q$79,2,FALSE))","v":""},{"$f":"IF(F231=\"\",\"\",VLOOKUP(F231,List_CMS!$L$3:$Q$79,3,FALSE))","v":""},{"$f":"IF(F231=\"\",\"\",VLOOKUP(F231,List_CMS!$L$3:$Q$79,4,FALSE))","v":""},{"$f":"IF(F231=\"\",\"\",VLOOKUP(F231,List_CMS!$L$3:$Q$79,5,FALSE))","v":""},null,null,null,null,null,null,""]
[null,{"$f":"IF(F232=\"\",\"\",VLOOKUP(F232,List_CMS!$L$3:$Q$79,2,FALSE))","v":""},{"$f":"IF(F232=\"\",\"\",VLOOKUP(F232,List_CMS!$L$3:$Q$79,3,FALSE))","v":""},{"$f":"IF(F232=\"\",\"\",VLOOKUP(F232,List_CMS!$L$3:$Q$79,4,FALSE))","v":""},{"$f":"IF(F232=\"\",\"\",VLOOKUP(F232,List_CMS!$L$3:$Q$79,5,FALSE))","v":""},null,null,null,null,null,null,""]
[null,{"$f":"IF(F233=\"\",\"\",VLOOKUP(F233,List_CMS!$L$3:$Q$79,2,FALSE))","v":""},{"$f":"IF(F233=\"\",\"\",VLOOKUP(F233,List_CMS!$L$3:$Q$79,3,FALSE))","v":""},{"$f":"IF(F233=\"\",\"\",VLOOKUP(F233,List_CMS!$L$3:$Q$79,4,FALSE))","v":""},{"$f":"IF(F233=\"\",\"\",VLOOKUP(F233,List_CMS!$L$3:$Q$79,5,FALSE))","v":""},null,null,null,null,null,null,""]
[null,{"$f":"IF(F234=\"\",\"\",VLOOKUP(F234,List_CMS!$L$3:$Q$79,2,FALSE))","v":""},{"$f":"IF(F234=\"\",\"\",VLOOKUP(F234,List_CMS!$L$3:$Q$79,3,FALSE))","v":""},{"$f":"IF(F234=\"\",\"\",VLOOKUP(F234,List_CMS!$L$3:$Q$79,4,FALSE))","v":""},{"$f":"IF(F234=\"\",\"\",VLOOKUP(F234,List_CMS!$L$3:$Q$79,5,FALSE))","v":""},null,null,null,null,null,null,""]
[null,{"$f":"IF(F235=\"\",\"\",VLOOKUP(F235,List_CMS!$L$3:$Q$79,2,FALSE))","v":""},{"$f":"IF(F235=\"\",\"\",VLOOKUP(F235,List_CMS!$L$3:$Q$79,3,FALSE))","v":""},{"$f":"IF(F235=\"\",\"\",VLOOKUP(F235,List_CMS!$L$3:$Q$79,4,FALSE))","v":""},{"$f":"IF(F235=\"\",\"\",VLOOKUP(F235,List_CMS!$L$3:$Q$79,5,FALSE))","v":""},null,null,null,null,null,null,""]
[null,{"$f":"IF(F236=\"\",\"\",VLOOKUP(F236,List_CMS!$L$3:$Q$79,2,FALSE))","v":""},{"$f":"IF(F236=\"\",\"\",VLOOKUP(F236,List_CMS!$L$3:$Q$79,3,FALSE))","v":""},{"$f":"IF(F236=\"\",\"\",VLOOKUP(F236,List_CMS!$L$3:$Q$79,4,FALSE))","v":""},{"$f":"IF(F236=\"\",\"\",VLOOKUP(F236,List_CMS!$L$3:$Q$79,5,FALSE))","v":""},null,null,null,null,null,null,""]
[null,{"$f":"IF(F237=\"\",\"\",VLOOKUP(F237,List_CMS!$L$3:$Q$79,2,FALSE))","v":""},{"$f":"IF(F237=\"\",\"\",VLOOKUP(F237,List_CMS!$L$3:$Q$79,3,FALSE))","v":""},{"$f":"IF(F237=\"\",\"\",VLOOKUP(F237,List_CMS!$L$3:$Q$79,4,FALSE))","v":""},{"$f":"IF(F237=\"\",\"\",VLOOKUP(F237,List_CMS!$L$3:$Q$79,5,FALSE))","v":""},null,null,null,null,null,null,""]
[null,{"$f":"IF(F238=\"\",\"\",VLOOKUP(F238,List_CMS!$L$3:$Q$79,2,FALSE))","v":""},{"$f":"IF(F238=\"\",\"\",VLOOKUP(F238,List_CMS!$L$3:$Q$79,3,FALSE))","v":""},{"$f":"IF(F238=\"\",\"\",VLOOKUP(F238,List_CMS!$L$3:$Q$79,4,FALSE))","v":""},{"$f":"IF(F238=\"\",\"\",VLOOKUP(F238,List_CMS!$L$3:$Q$79,5,FALSE))","v":""},null,null,null,null,null,null,""]
[null,{"$f":"IF(F239=\"\",\"\",VLOOKUP(F239,List_CMS!$L$3:$Q$79,2,FALSE))","v":""},{"$f":"IF(F239=\"\",\"\",VLOOKUP(F239,List_CMS!$L$3:$Q$79,3,FALSE))","v":""},{"$f":"IF(F239=\"\",\"\",VLOOKUP(F239,List_CMS!$L$3:$Q$79,4,FALSE))","v":""},{"$f":"IF(F239=\"\",\"\",VLOOKUP(F239,List_CMS!$L$3:$Q$79,5,FALSE))","v":""},null,null,null,null,null,null,""]
[null,{"$f":"IF(F240=\"\",\"\",VLOOKUP(F240,List_CMS!$L$3:$Q$79,2,FALSE))","v":""},{"$f":"IF(F240=\"\",\"\",VLOOKUP(F240,List_CMS!$L$3:$Q$79,3,FALSE))","v":""},{"$f":"IF(F240=\"\",\"\",VLOOKUP(F240,List_CMS!$L$3:$Q$79,4,FALSE))","v":""},{"$f":"IF(F240=\"\",\"\",VLOOKUP(F240,List_CMS!$L$3:$Q$79,5,FALSE))","v":""},null,null,null,null,null,null,""]
[null,{"$f":"IF(F241=\"\",\"\",VLOOKUP(F241,List_CMS!$L$3:$Q$79,2,FALSE))","v":""},{"$f":"IF(F241=\"\",\"\",VLOOKUP(F241,List_CMS!$L$3:$Q$79,3,FALSE))","v":""},{"$f":"IF(F241=\"\",\"\",VLOOKUP(F241,List_CMS!$L$3:$Q$79,4,FALSE))","v":""},{"$f":"IF(F241=\"\",\"\",VLOOKUP(F241,List_CMS!$L$3:$Q$79,5,FALSE))","v":""},null,null,null,null,null,null,""]
[null,{"$f":"IF(F242=\"\",\"\",VLOOKUP(F242,List_CMS!$L$3:$Q$79,2,FALSE))","v":""},{"$f":"IF(F242=\"\",\"\",VLOOKUP(F242,List_CMS!$L$3:$Q$79,3,FALSE))","v":""},{"$f":"IF(F242=\"\",\"\",VLOOKUP(F242,List_CMS!$L$3:$Q$79,4,FALSE))","v":""},{"$f":"IF(F242=\"\",\"\",VLOOKUP(F242,List_CMS!$L$3:$Q$79,5,FALSE))","v":""},null,null,null,null,null,null,""]
[null,{"$f":"IF(F243=\"\",\"\",VLOOKUP(F243,List_CMS!$L$3:$Q$79,2,FALSE))","v":""},{"$f":"IF(F243=\"\",\"\",VLOOKUP(F243,List_CMS!$L$3:$Q$79,3,FALSE))","v":""},{"$f":"IF(F243=\"\",\"\",VLOOKUP(F243,List_CMS!$L$3:$Q$79,4,FALSE))","v":""},{"$f":"IF(F243=\"\",\"\",VLOOKUP(F243,List_CMS!$L$3:$Q$79,5,FALSE))","v":""},null,null,null,null,null,null,""]
[null,{"$f":"IF(F244=\"\",\"\",VLOOKUP(F244,List_CMS!$L$3:$Q$79,2,FALSE))","v":""},{"$f":"IF(F244=\"\",\"\",VLOOKUP(F244,List_CMS!$L$3:$Q$79,3,FALSE))","v":""},{"$f":"IF(F244=\"\",\"\",VLOOKUP(F244,List_CMS!$L$3:$Q$79,4,FALSE))","v":""},{"$f":"IF(F244=\"\",\"\",VLOOKUP(F244,List_CMS!$L$3:$Q$79,5,FALSE))","v":""},null,null,null,null,null,null,""]
[null,{"$f":"IF(F245=\"\",\"\",VLOOKUP(F245,List_CMS!$L$3:$Q$79,2,FALSE))","v":""},{"$f":"IF(F245=\"\",\"\",VLOOKUP(F245,List_CMS!$L$3:$Q$79,3,FALSE))","v":""},{"$f":"IF(F245=\"\",\"\",VLOOKUP(F245,List_CMS!$L$3:$Q$79,4,FALSE))","v":""},{"$f":"IF(F245=\"\",\"\",VLOOKUP(F245,List_CMS!$L$3:$Q$79,5,FALSE))","v":""},null,null,null,null,null,null,""]
[null,{"$f":"IF(F246=\"\",\"\",VLOOKUP(F246,List_CMS!$L$3:$Q$79,2,FALSE))","v":""},{"$f":"IF(F246=\"\",\"\",VLOOKUP(F246,List_CMS!$L$3:$Q$79,3,FALSE))","v":""},{"$f":"IF(F246=\"\",\"\",VLOOKUP(F246,List_CMS!$L$3:$Q$79,4,FALSE))","v":""},{"$f":"IF(F246=\"\",\"\",VLOOKUP(F246,List_CMS!$L$3:$Q$79,5,FALSE))","v":""},null,null,null,null,null,null,""]
[null,{"$f":"IF(F247=\"\",\"\",VLOOKUP(F247,List_CMS!$L$3:$Q$79,2,FALSE))","v":""},{"$f":"IF(F247=\"\",\"\",VLOOKUP(F247,List_CMS!$L$3:$Q$79,3,FALSE))","v":""},{"$f":"IF(F247=\"\",\"\",VLOOKUP(F247,List_CMS!$L$3:$Q$79,4,FALSE))","v":""},{"$f":"IF(F247=\"\",\"\",VLOOKUP(F247,List_CMS!$L$3:$Q$79,5,FALSE))","v":""},null,null,null,null,null,null,""]
[null,{"$f":"IF(F248=\"\",\"\",VLOOKUP(F248,List_CMS!$L$3:$Q$79,2,FALSE))","v":""},{"$f":"IF(F248=\"\",\"\",VLOOKUP(F248,List_CMS!$L$3:$Q$79,3,FALSE))","v":""},{"$f":"IF(F248=\"\",\"\",VLOOKUP(F248,List_CMS!$L$3:$Q$79,4,FALSE))","v":""},{"$f":"IF(F248=\"\",\"\",VLOOKUP(F248,List_CMS!$L$3:$Q$79,5,FALSE))","v":""},null,null,null,null,null,null,""]
[null,{"$f":"IF(F249=\"\",\"\",VLOOKUP(F249,List_CMS!$L$3:$Q$79,2,FALSE))","v":""},{"$f":"IF(F249=\"\",\"\",VLOOKUP(F249,List_CMS!$L$3:$Q$79,3,FALSE))","v":""},{"$f":"IF(F249=\"\",\"\",VLOOKUP(F249,List_CMS!$L$3:$Q$79,4,FALSE))","v":""},{"$f":"IF(F249=\"\",\"\",VLOOKUP(F249,List_CMS!$L$3:$Q$79,5,FALSE))","v":""},null,null,null,null,null,null,""]
[null,{"$f":"IF(F250=\"\",\"\",VLOOKUP(F250,List_CMS!$L$3:$Q$79,2,FALSE))","v":""},{"$f":"IF(F250=\"\",\"\",VLOOKUP(F250,List_CMS!$L$3:$Q$79,3,FALSE))","v":""},{"$f":"IF(F250=\"\",\"\",VLOOKUP(F250,List_CMS!$L$3:$Q$79,4,FALSE))","v":""},{"$f":"IF(F250=\"\",\"\",VLOOKUP(F250,List_CMS!$L$3:$Q$79,5,FALSE))","v":""},null,null,null,null,null,null,""]
[null,{"$f":"IF(F251=\"\",\"\",VLOOKUP(F251,List_CMS!$L$3:$Q$79,2,FALSE))","v":""},{"$f":"IF(F251=\"\",\"\",VLOOKUP(F251,List_CMS!$L$3:$Q$79,3,FALSE))","v":""},{"$f":"IF(F251=\"\",\"\",VLOOKUP(F251,List_CMS!$L$3:$Q$79,4,FALSE))","v":""},{"$f":"IF(F251=\"\",\"\",VLOOKUP(F251,List_CMS!$L$3:$Q$79,5,FALSE))","v":""},null,null,null,null,null,null,""]
[null,{"$f":"IF(F252=\"\",\"\",VLOOKUP(F252,List_CMS!$L$3:$Q$79,2,FALSE))","v":""},{"$f":"IF(F252=\"\",\"\",VLOOKUP(F252,List_CMS!$L$3:$Q$79,3,FALSE))","v":""},{"$f":"IF(F252=\"\",\"\",VLOOKUP(F252,List_CMS!$L$3:$Q$79,4,FALSE))","v":""},{"$f":"IF(F252=\"\",\"\",VLOOKUP(F252,List_CMS!$L$3:$Q$79,5,FALSE))","v":""},null,null,null,null,null,null,""]
[null,{"$f":"IF(F253=\"\",\"\",VLOOKUP(F253,List_CMS!$L$3:$Q$79,2,FALSE))","v":""},{"$f":"IF(F253=\"\",\"\",VLOOKUP(F253,List_CMS!$L$3:$Q$79,3,FALSE))","v":""},{"$f":"IF(F253=\"\",\"\",VLOOKUP(F253,List_CMS!$L$3:$Q$79,4,FALSE))","v":""},{"$f":"IF(F253=\"\",\"\",VLOOKUP(F253,List_CMS!$L$3:$Q$79,5,FALSE))","v":""},null,null,null,null,null,null,""]
[null,{"$f":"IF(F254=\"\",\"\",VLOOKUP(F254,List_CMS!$L$3:$Q$79,2,FALSE))","v":""},{"$f":"IF(F254=\"\",\"\",VLOOKUP(F254,List_CMS!$L$3:$Q$79,3,FALSE))","v":""},{"$f":"IF(F254=\"\",\"\",VLOOKUP(F254,List_CMS!$L$3:$Q$79,4,FALSE))","v":""},{"$f":"IF(F254=\"\",\"\",VLOOKUP(F254,List_CMS!$L$3:$Q$79,5,FALSE))","v":""},null,null,null,null,null,null,""]
[null,{"$f":"IF(F255=\"\",\"\",VLOOKUP(F255,List_CMS!$L$3:$Q$79,2,FALSE))","v":""},{"$f":"IF(F255=\"\",\"\",VLOOKUP(F255,List_CMS!$L$3:$Q$79,3,FALSE))","v":""},{"$f":"IF(F255=\"\",\"\",VLOOKUP(F255,List_CMS!$L$3:$Q$79,4,FALSE))","v":""},{"$f":"IF(F255=\"\",\"\",VLOOKUP(F255,List_CMS!$L$3:$Q$79,5,FALSE))","v":""},null,null,null,null,null,null,""]
[null,{"$f":"IF(F256=\"\",\"\",VLOOKUP(F256,List_CMS!$L$3:$Q$79,2,FALSE))","v":""},{"$f":"IF(F256=\"\",\"\",VLOOKUP(F256,List_CMS!$L$3:$Q$79,3,FALSE))","v":""},{"$f":"IF(F256=\"\",\"\",VLOOKUP(F256,List_CMS!$L$3:$Q$79,4,FALSE))","v":""},{"$f":"IF(F256=\"\",\"\",VLOOKUP(F256,List_CMS!$L$3:$Q$79,5,FALSE))","v":""},null,null,null,null,null,null,""]
[null,{"$f":"IF(F257=\"\",\"\",VLOOKUP(F257,List_CMS!$L$3:$Q$79,2,FALSE))","v":""},{"$f":"IF(F257=\"\",\"\",VLOOKUP(F257,List_CMS!$L$3:$Q$79,3,FALSE))","v":""},{"$f":"IF(F257=\"\",\"\",VLOOKUP(F257,List_CMS!$L$3:$Q$79,4,FALSE))","v":""},{"$f":"IF(F257=\"\",\"\",VLOOKUP(F257,List_CMS!$L$3:$Q$79,5,FALSE))","v":""},null,null,null,null,null,null,""]
[null,{"$f":"IF(F258=\"\",\"\",VLOOKUP(F258,List_CMS!$L$3:$Q$79,2,FALSE))","v":""},{"$f":"IF(F258=\"\",\"\",VLOOKUP(F258,List_CMS!$L$3:$Q$79,3,FALSE))","v":""},{"$f":"IF(F258=\"\",\"\",VLOOKUP(F258,List_CMS!$L$3:$Q$79,4,FALSE))","v":""},{"$f":"IF(F258=\"\",\"\",VLOOKUP(F258,List_CMS!$L$3:$Q$79,5,FALSE))","v":""},null,null,null,null,null,null,""]
[null,{"$f":"IF(F259=\"\",\"\",VLOOKUP(F259,List_CMS!$L$3:$Q$79,2,FALSE))","v":""},{"$f":"IF(F259=\"\",\"\",VLOOKUP(F259,List_CMS!$L$3:$Q$79,3,FALSE))","v":""},{"$f":"IF(F259=\"\",\"\",VLOOKUP(F259,List_CMS!$L$3:$Q$79,4,FALSE))","v":""},{"$f":"IF(F259=\"\",\"\",VLOOKUP(F259,List_CMS!$L$3:$Q$79,5,FALSE))","v":""},null,null,null,null,null,null,""]
[null,{"$f":"IF(F260=\"\",\"\",VLOOKUP(F260,List_CMS!$L$3:$Q$79,2,FALSE))","v":""},{"$f":"IF(F260=\"\",\"\",VLOOKUP(F260,List_CMS!$L$3:$Q$79,3,FALSE))","v":""},{"$f":"IF(F260=\"\",\"\",VLOOKUP(F260,List_CMS!$L$3:$Q$79,4,FALSE))","v":""},{"$f":"IF(F260=\"\",\"\",VLOOKUP(F260,List_CMS!$L$3:$Q$79,5,FALSE))","v":""},null,null,null,null,null,null,""]
[null,{"$f":"IF(F261=\"\",\"\",VLOOKUP(F261,List_CMS!$L$3:$Q$79,2,FALSE))","v":""},{"$f":"IF(F261=\"\",\"\",VLOOKUP(F261,List_CMS!$L$3:$Q$79,3,FALSE))","v":""},{"$f":"IF(F261=\"\",\"\",VLOOKUP(F261,List_CMS!$L$3:$Q$79,4,FALSE))","v":""},{"$f":"IF(F261=\"\",\"\",VLOOKUP(F261,List_CMS!$L$3:$Q$79,5,FALSE))","v":""},null,null,null,null,null,null,""]
[null,{"$f":"IF(F262=\"\",\"\",VLOOKUP(F262,List_CMS!$L$3:$Q$79,2,FALSE))","v":""},{"$f":"IF(F262=\"\",\"\",VLOOKUP(F262,List_CMS!$L$3:$Q$79,3,FALSE))","v":""},{"$f":"IF(F262=\"\",\"\",VLOOKUP(F262,List_CMS!$L$3:$Q$79,4,FALSE))","v":""},{"$f":"IF(F262=\"\",\"\",VLOOKUP(F262,List_CMS!$L$3:$Q$79,5,FALSE))","v":""},null,null,null,null,null,null,""]
[null,{"$f":"IF(F263=\"\",\"\",VLOOKUP(F263,List_CMS!$L$3:$Q$79,2,FALSE))","v":""},{"$f":"IF(F263=\"\",\"\",VLOOKUP(F263,List_CMS!$L$3:$Q$79,3,FALSE))","v":""},{"$f":"IF(F263=\"\",\"\",VLOOKUP(F263,List_CMS!$L$3:$Q$79,4,FALSE))","v":""},{"$f":"IF(F263=\"\",\"\",VLOOKUP(F263,List_CMS!$L$3:$Q$79,5,FALSE))","v":""},null,null,null,null,null,null,""]
[null,{"$f":"IF(F264=\"\",\"\",VLOOKUP(F264,List_CMS!$L$3:$Q$79,2,FALSE))","v":""},{"$f":"IF(F264=\"\",\"\",VLOOKUP(F264,List_CMS!$L$3:$Q$79,3,FALSE))","v":""},{"$f":"IF(F264=\"\",\"\",VLOOKUP(F264,List_CMS!$L$3:$Q$79,4,FALSE))","v":""},{"$f":"IF(F264=\"\",\"\",VLOOKUP(F264,List_CMS!$L$3:$Q$79,5,FALSE))","v":""},null,null,null,null,null,null,""]
[null,{"$f":"IF(F265=\"\",\"\",VLOOKUP(F265,List_CMS!$L$3:$Q$79,2,FALSE))","v":""},{"$f":"IF(F265=\"\",\"\",VLOOKUP(F265,List_CMS!$L$3:$Q$79,3,FALSE))","v":""},{"$f":"IF(F265=\"\",\"\",VLOOKUP(F265,List_CMS!$L$3:$Q$79,4,FALSE))","v":""},{"$f":"IF(F265=\"\",\"\",VLOOKUP(F265,List_CMS!$L$3:$Q$79,5,FALSE))","v":""},null,null,null,null,null,null,""]
[null,{"$f":"IF(F266=\"\",\"\",VLOOKUP(F266,List_CMS!$L$3:$Q$79,2,FALSE))","v":""},{"$f":"IF(F266=\"\",\"\",VLOOKUP(F266,List_CMS!$L$3:$Q$79,3,FALSE))","v":""},{"$f":"IF(F266=\"\",\"\",VLOOKUP(F266,List_CMS!$L$3:$Q$79,4,FALSE))","v":""},{"$f":"IF(F266=\"\",\"\",VLOOKUP(F266,List_CMS!$L$3:$Q$79,5,FALSE))","v":""},null,null,null,null,null,null,""]
[null,{"$f":"IF(F267=\"\",\"\",VLOOKUP(F267,List_CMS!$L$3:$Q$79,2,FALSE))","v":""},{"$f":"IF(F267=\"\",\"\",VLOOKUP(F267,List_CMS!$L$3:$Q$79,3,FALSE))","v":""},{"$f":"IF(F267=\"\",\"\",VLOOKUP(F267,List_CMS!$L$3:$Q$79,4,FALSE))","v":""},{"$f":"IF(F267=\"\",\"\",VLOOKUP(F267,List_CMS!$L$3:$Q$79,5,FALSE))","v":""},null,null,null,null,null,null,""]
[null,{"$f":"IF(F268=\"\",\"\",VLOOKUP(F268,List_CMS!$L$3:$Q$79,2,FALSE))","v":""},{"$f":"IF(F268=\"\",\"\",VLOOKUP(F268,List_CMS!$L$3:$Q$79,3,FALSE))","v":""},{"$f":"IF(F268=\"\",\"\",VLOOKUP(F268,List_CMS!$L$3:$Q$79,4,FALSE))","v":""},{"$f":"IF(F268=\"\",\"\",VLOOKUP(F268,List_CMS!$L$3:$Q$79,5,FALSE))","v":""},null,null,null,null,null,null,""]
[null,{"$f":"IF(F269=\"\",\"\",VLOOKUP(F269,List_CMS!$L$3:$Q$79,2,FALSE))","v":""},{"$f":"IF(F269=\"\",\"\",VLOOKUP(F269,List_CMS!$L$3:$Q$79,3,FALSE))","v":""},{"$f":"IF(F269=\"\",\"\",VLOOKUP(F269,List_CMS!$L$3:$Q$79,4,FALSE))","v":""},{"$f":"IF(F269=\"\",\"\",VLOOKUP(F269,List_CMS!$L$3:$Q$79,5,FALSE))","v":""},null,null,null,null,null,null,""]
[null,{"$f":"IF(F270=\"\",\"\",VLOOKUP(F270,List_CMS!$L$3:$Q$79,2,FALSE))","v":""},{"$f":"IF(F270=\"\",\"\",VLOOKUP(F270,List_CMS!$L$3:$Q$79,3,FALSE))","v":""},{"$f":"IF(F270=\"\",\"\",VLOOKUP(F270,List_CMS!$L$3:$Q$79,4,FALSE))","v":""},{"$f":"IF(F270=\"\",\"\",VLOOKUP(F270,List_CMS!$L$3:$Q$79,5,FALSE))","v":""},null,null,null,null,null,null,""]
[null,{"$f":"IF(F271=\"\",\"\",VLOOKUP(F271,List_CMS!$L$3:$Q$79,2,FALSE))","v":""},{"$f":"IF(F271=\"\",\"\",VLOOKUP(F271,List_CMS!$L$3:$Q$79,3,FALSE))","v":""},{"$f":"IF(F271=\"\",\"\",VLOOKUP(F271,List_CMS!$L$3:$Q$79,4,FALSE))","v":""},{"$f":"IF(F271=\"\",\"\",VLOOKUP(F271,List_CMS!$L$3:$Q$79,5,FALSE))","v":""},null,null,null,null,null,null,""]
[null,{"$f":"IF(F272=\"\",\"\",VLOOKUP(F272,List_CMS!$L$3:$Q$79,2,FALSE))","v":""},{"$f":"IF(F272=\"\",\"\",VLOOKUP(F272,List_CMS!$L$3:$Q$79,3,FALSE))","v":""},{"$f":"IF(F272=\"\",\"\",VLOOKUP(F272,List_CMS!$L$3:$Q$79,4,FALSE))","v":""},{"$f":"IF(F272=\"\",\"\",VLOOKUP(F272,List_CMS!$L$3:$Q$79,5,FALSE))","v":""},null,null,null,null,null,null,""]
[null,{"$f":"IF(F273=\"\",\"\",VLOOKUP(F273,List_CMS!$L$3:$Q$79,2,FALSE))","v":""},{"$f":"IF(F273=\"\",\"\",VLOOKUP(F273,List_CMS!$L$3:$Q$79,3,FALSE))","v":""},{"$f":"IF(F273=\"\",\"\",VLOOKUP(F273,List_CMS!$L$3:$Q$79,4,FALSE))","v":""},{"$f":"IF(F273=\"\",\"\",VLOOKUP(F273,List_CMS!$L$3:$Q$79,5,FALSE))","v":""},null,null,null,null,null,null,""]
[null,{"$f":"IF(F274=\"\",\"\",VLOOKUP(F274,List_CMS!$L$3:$Q$79,2,FALSE))","v":""},{"$f":"IF(F274=\"\",\"\",VLOOKUP(F274,List_CMS!$L$3:$Q$79,3,FALSE))","v":""},{"$f":"IF(F274=\"\",\"\",VLOOKUP(F274,List_CMS!$L$3:$Q$79,4,FALSE))","v":""},{"$f":"IF(F274=\"\",\"\",VLOOKUP(F274,List_CMS!$L$3:$Q$79,5,FALSE))","v":""},null,null,null,null,null,null,""]
[null,{"$f":"IF(F275=\"\",\"\",VLOOKUP(F275,List_CMS!$L$3:$Q$79,2,FALSE))","v":""},{"$f":"IF(F275=\"\",\"\",VLOOKUP(F275,List_CMS!$L$3:$Q$79,3,FALSE))","v":""},{"$f":"IF(F275=\"\",\"\",VLOOKUP(F275,List_CMS!$L$3:$Q$79,4,FALSE))","v":""},{"$f":"IF(F275=\"\",\"\",VLOOKUP(F275,List_CMS!$L$3:$Q$79,5,FALSE))","v":""},null,null,null,null,null,null,""]
[null,{"$f":"IF(F276=\"\",\"\",VLOOKUP(F276,List_CMS!$L$3:$Q$79,2,FALSE))","v":""},{"$f":"IF(F276=\"\",\"\",VLOOKUP(F276,List_CMS!$L$3:$Q$79,3,FALSE))","v":""},{"$f":"IF(F276=\"\",\"\",VLOOKUP(F276,List_CMS!$L$3:$Q$79,4,FALSE))","v":""},{"$f":"IF(F276=\"\",\"\",VLOOKUP(F276,List_CMS!$L$3:$Q$79,5,FALSE))","v":""},null,null,null,null,null,null,""]
[null,{"$f":"IF(F277=\"\",\"\",VLOOKUP(F277,List_CMS!$L$3:$Q$79,2,FALSE))","v":""},{"$f":"IF(F277=\"\",\"\",VLOOKUP(F277,List_CMS!$L$3:$Q$79,3,FALSE))","v":""},{"$f":"IF(F277=\"\",\"\",VLOOKUP(F277,List_CMS!$L$3:$Q$79,4,FALSE))","v":""},{"$f":"IF(F277=\"\",\"\",VLOOKUP(F277,List_CMS!$L$3:$Q$79,5,FALSE))","v":""},null,null,null,null,null,null,""]
[null,{"$f":"IF(F278=\"\",\"\",VLOOKUP(F278,List_CMS!$L$3:$Q$79,2,FALSE))","v":""},{"$f":"IF(F278=\"\",\"\",VLOOKUP(F278,List_CMS!$L$3:$Q$79,3,FALSE))","v":""},{"$f":"IF(F278=\"\",\"\",VLOOKUP(F278,List_CMS!$L$3:$Q$79,4,FALSE))","v":""},{"$f":"IF(F278=\"\",\"\",VLOOKUP(F278,List_CMS!$L$3:$Q$79,5,FALSE))","v":""},null,null,null,null,null,null,""]
[null,{"$f":"IF(F279=\"\",\"\",VLOOKUP(F279,List_CMS!$L$3:$Q$79,2,FALSE))","v":""},{"$f":"IF(F279=\"\",\"\",VLOOKUP(F279,List_CMS!$L$3:$Q$79,3,FALSE))","v":""},{"$f":"IF(F279=\"\",\"\",VLOOKUP(F279,List_CMS!$L$3:$Q$79,4,FALSE))","v":""},{"$f":"IF(F279=\"\",\"\",VLOOKUP(F279,List_CMS!$L$3:$Q$79,5,FALSE))","v":""},null,null,null,null,null,null,""]
[null,{"$f":"IF(F280=\"\",\"\",VLOOKUP(F280,List_CMS!$L$3:$Q$79,2,FALSE))","v":""},{"$f":"IF(F280=\"\",\"\",VLOOKUP(F280,List_CMS!$L$3:$Q$79,3,FALSE))","v":""},{"$f":"IF(F280=\"\",\"\",VLOOKUP(F280,List_CMS!$L$3:$Q$79,4,FALSE))","v":""},{"$f":"IF(F280=\"\",\"\",VLOOKUP(F280,List_CMS!$L$3:$Q$79,5,FALSE))","v":""},null,null,null,null,null,null,""]
[null,{"$f":"IF(F281=\"\",\"\",VLOOKUP(F281,List_CMS!$L$3:$Q$79,2,FALSE))","v":""},{"$f":"IF(F281=\"\",\"\",VLOOKUP(F281,List_CMS!$L$3:$Q$79,3,FALSE))","v":""},{"$f":"IF(F281=\"\",\"\",VLOOKUP(F281,List_CMS!$L$3:$Q$79,4,FALSE))","v":""},{"$f":"IF(F281=\"\",\"\",VLOOKUP(F281,List_CMS!$L$3:$Q$79,5,FALSE))","v":""},null,null,null,null,null,null,{"$f":"IF(K281=\"\",\"\",(VALUE(TEXT(J281,\"m/dd/yy \")&TEXT(K281,\"hh:mm:ss\"))-(VALUE(TEXT(H281,\"m/dd/yy \")&TEXT(I281,\"hh:mm:ss\"))))*24)","v":""}]
[null,{"$f":"IF(F282=\"\",\"\",VLOOKUP(F282,List_CMS!$L$3:$Q$79,2,FALSE))","v":""},{"$f":"IF(F282=\"\",\"\",VLOOKUP(F282,List_CMS!$L$3:$Q$79,3,FALSE))","v":""},{"$f":"IF(F282=\"\",\"\",VLOOKUP(F282,List_CMS!$L$3:$Q$79,4,FALSE))","v":""},{"$f":"IF(F282=\"\",\"\",VLOOKUP(F282,List_CMS!$L$3:$Q$79,5,FALSE))","v":""},null,null,null,null,null,null,""]
[null,{"$f":"IF(F283=\"\",\"\",VLOOKUP(F283,List_CMS!$L$3:$Q$79,2,FALSE))","v":""},{"$f":"IF(F283=\"\",\"\",VLOOKUP(F283,List_CMS!$L$3:$Q$79,3,FALSE))","v":""},{"$f":"IF(F283=\"\",\"\",VLOOKUP(F283,List_CMS!$L$3:$Q$79,4,FALSE))","v":""},{"$f":"IF(F283=\"\",\"\",VLOOKUP(F283,List_CMS!$L$3:$Q$79,5,FALSE))","v":""},null,null,null,null,null,null,""]
[null,{"$f":"IF(F284=\"\",\"\",VLOOKUP(F284,List_CMS!$L$3:$Q$79,2,FALSE))","v":""},{"$f":"IF(F284=\"\",\"\",VLOOKUP(F284,List_CMS!$L$3:$Q$79,3,FALSE))","v":""},{"$f":"IF(F284=\"\",\"\",VLOOKUP(F284,List_CMS!$L$3:$Q$79,4,FALSE))","v":""},{"$f":"IF(F284=\"\",\"\",VLOOKUP(F284,List_CMS!$L$3:$Q$79,5,FALSE))","v":""},null,null,null,null,null,null,""]
[null,{"$f":"IF(F285=\"\",\"\",VLOOKUP(F285,List_CMS!$L$3:$Q$79,2,FALSE))","v":""},{"$f":"IF(F285=\"\",\"\",VLOOKUP(F285,List_CMS!$L$3:$Q$79,3,FALSE))","v":""},{"$f":"IF(F285=\"\",\"\",VLOOKUP(F285,List_CMS!$L$3:$Q$79,4,FALSE))","v":""},{"$f":"IF(F285=\"\",\"\",VLOOKUP(F285,List_CMS!$L$3:$Q$79,5,FALSE))","v":""},null,null,null,null,null,null,""]
[null,{"$f":"IF(F286=\"\",\"\",VLOOKUP(F286,List_CMS!$L$3:$Q$79,2,FALSE))","v":""},{"$f":"IF(F286=\"\",\"\",VLOOKUP(F286,List_CMS!$L$3:$Q$79,3,FALSE))","v":""},{"$f":"IF(F286=\"\",\"\",VLOOKUP(F286,List_CMS!$L$3:$Q$79,4,FALSE))","v":""},{"$f":"IF(F286=\"\",\"\",VLOOKUP(F286,List_CMS!$L$3:$Q$79,5,FALSE))","v":""},null,null,null,null,null,null,""]
[null,{"$f":"IF(F287=\"\",\"\",VLOOKUP(F287,List_CMS!$L$3:$Q$79,2,FALSE))","v":""},{"$f":"IF(F287=\"\",\"\",VLOOKUP(F287,List_CMS!$L$3:$Q$79,3,FALSE))","v":""},{"$f":"IF(F287=\"\",\"\",VLOOKUP(F287,List_CMS!$L$3:$Q$79,4,FALSE))","v":""},{"$f":"IF(F287=\"\",\"\",VLOOKUP(F287,List_CMS!$L$3:$Q$79,5,FALSE))","v":""},null,null,null,null,null,null,""]
[null,{"$f":"IF(F288=\"\",\"\",VLOOKUP(F288,List_CMS!$L$3:$Q$79,2,FALSE))","v":""},{"$f":"IF(F288=\"\",\"\",VLOOKUP(F288,List_CMS!$L$3:$Q$79,3,FALSE))","v":""},{"$f":"IF(F288=\"\",\"\",VLOOKUP(F288,List_CMS!$L$3:$Q$79,4,FALSE))","v":""},{"$f":"IF(F288=\"\",\"\",VLOOKUP(F288,List_CMS!$L$3:$Q$79,5,FALSE))","v":""},null,null,null,null,null,null,""]
[null,{"$f":"IF(F289=\"\",\"\",VLOOKUP(F289,List_CMS!$L$3:$Q$79,2,FALSE))","v":""},{"$f":"IF(F289=\"\",\"\",VLOOKUP(F289,List_CMS!$L$3:$Q$79,3,FALSE))","v":""},{"$f":"IF(F289=\"\",\"\",VLOOKUP(F289,List_CMS!$L$3:$Q$79,4,FALSE))","v":""},{"$f":"IF(F289=\"\",\"\",VLOOKUP(F289,List_CMS!$L$3:$Q$79,5,FALSE))","v":""},null,null,null,null,null,null,""]
[null,{"$f":"IF(F290=\"\",\"\",VLOOKUP(F290,List_CMS!$L$3:$Q$79,2,FALSE))","v":""},{"$f":"IF(F290=\"\",\"\",VLOOKUP(F290,List_CMS!$L$3:$Q$79,3,FALSE))","v":""},{"$f":"IF(F290=\"\",\"\",VLOOKUP(F290,List_CMS!$L$3:$Q$79,4,FALSE))","v":""},{"$f":"IF(F290=\"\",\"\",VLOOKUP(F290,List_CMS!$L$3:$Q$79,5,FALSE))","v":""},null,null,null,null,null,null,""]
[null,{"$f":"IF(F291=\"\",\"\",VLOOKUP(F291,List_CMS!$L$3:$Q$79,2,FALSE))","v":""},{"$f":"IF(F291=\"\",\"\",VLOOKUP(F291,List_CMS!$L$3:$Q$79,3,FALSE))","v":""},{"$f":"IF(F291=\"\",\"\",VLOOKUP(F291,List_CMS!$L$3:$Q$79,4,FALSE))","v":""},{"$f":"IF(F291=\"\",\"\",VLOOKUP(F291,List_CMS!$L$3:$Q$79,5,FALSE))","v":""},null,null,null,null,null,null,""]
[null,{"$f":"IF(F292=\"\",\"\",VLOOKUP(F292,List_CMS!$L$3:$Q$79,2,FALSE))","v":""},{"$f":"IF(F292=\"\",\"\",VLOOKUP(F292,List_CMS!$L$3:$Q$79,3,FALSE))","v":""},{"$f":"IF(F292=\"\",\"\",VLOOKUP(F292,List_CMS!$L$3:$Q$79,4,FALSE))","v":""},{"$f":"IF(F292=\"\",\"\",VLOOKUP(F292,List_CMS!$L$3:$Q$79,5,FALSE))","v":""},null,null,null,null,null,null,""]
[null,{"$f":"IF(F293=\"\",\"\",VLOOKUP(F293,List_CMS!$L$3:$Q$79,2,FALSE))","v":""},{"$f":"IF(F293=\"\",\"\",VLOOKUP(F293,List_CMS!$L$3:$Q$79,3,FALSE))","v":""},{"$f":"IF(F293=\"\",\"\",VLOOKUP(F293,List_CMS!$L$3:$Q$79,4,FALSE))","v":""},{"$f":"IF(F293=\"\",\"\",VLOOKUP(F293,List_CMS!$L$3:$Q$79,5,FALSE))","v":""},null,null,null,null,null,null,""]
[null,{"$f":"IF(F294=\"\",\"\",VLOOKUP(F294,List_CMS!$L$3:$Q$79,2,FALSE))","v":""},{"$f":"IF(F294=\"\",\"\",VLOOKUP(F294,List_CMS!$L$3:$Q$79,3,FALSE))","v":""},{"$f":"IF(F294=\"\",\"\",VLOOKUP(F294,List_CMS!$L$3:$Q$79,4,FALSE))","v":""},{"$f":"IF(F294=\"\",\"\",VLOOKUP(F294,List_CMS!$L$3:$Q$79,5,FALSE))","v":""},null,null,null,null,null,null,""]
[null,{"$f":"IF(F295=\"\",\"\",VLOOKUP(F295,List_CMS!$L$3:$Q$79,2,FALSE))","v":""},{"$f":"IF(F295=\"\",\"\",VLOOKUP(F295,List_CMS!$L$3:$Q$79,3,FALSE))","v":""},{"$f":"IF(F295=\"\",\"\",VLOOKUP(F295,List_CMS!$L$3:$Q$79,4,FALSE))","v":""},{"$f":"IF(F295=\"\",\"\",VLOOKUP(F295,List_CMS!$L$3:$Q$79,5,FALSE))","v":""},null,null,null,null,null,null,""]
[null,{"$f":"IF(F296=\"\",\"\",VLOOKUP(F296,List_CMS!$L$3:$Q$79,2,FALSE))","v":""},{"$f":"IF(F296=\"\",\"\",VLOOKUP(F296,List_CMS!$L$3:$Q$79,3,FALSE))","v":""},{"$f":"IF(F296=\"\",\"\",VLOOKUP(F296,List_CMS!$L$3:$Q$79,4,FALSE))","v":""},{"$f":"IF(F296=\"\",\"\",VLOOKUP(F296,List_CMS!$L$3:$Q$79,5,FALSE))","v":""},null,null,null,null,null,null,""]
[null,{"$f":"IF(F297=\"\",\"\",VLOOKUP(F297,List_CMS!$L$3:$Q$79,2,FALSE))","v":""},{"$f":"IF(F297=\"\",\"\",VLOOKUP(F297,List_CMS!$L$3:$Q$79,3,FALSE))","v":""},{"$f":"IF(F297=\"\",\"\",VLOOKUP(F297,List_CMS!$L$3:$Q$79,4,FALSE))","v":""},{"$f":"IF(F297=\"\",\"\",VLOOKUP(F297,List_CMS!$L$3:$Q$79,5,FALSE))","v":""},null,null,null,null,null,null,""]
[null,{"$f":"IF(F298=\"\",\"\",VLOOKUP(F298,List_CMS!$L$3:$Q$79,2,FALSE))","v":""},{"$f":"IF(F298=\"\",\"\",VLOOKUP(F298,List_CMS!$L$3:$Q$79,3,FALSE))","v":""},{"$f":"IF(F298=\"\",\"\",VLOOKUP(F298,List_CMS!$L$3:$Q$79,4,FALSE))","v":""},{"$f":"IF(F298=\"\",\"\",VLOOKUP(F298,List_CMS!$L$3:$Q$79,5,FALSE))","v":""},null,null,null,null,null,null,""]
[null,{"$f":"IF(F299=\"\",\"\",VLOOKUP(F299,List_CMS!$L$3:$Q$79,2,FALSE))","v":""},{"$f":"IF(F299=\"\",\"\",VLOOKUP(F299,List_CMS!$L$3:$Q$79,3,FALSE))","v":""},{"$f":"IF(F299=\"\",\"\",VLOOKUP(F299,List_CMS!$L$3:$Q$79,4,FALSE))","v":""},{"$f":"IF(F299=\"\",\"\",VLOOKUP(F299,List_CMS!$L$3:$Q$79,5,FALSE))","v":""},null,null,null,null,null,null,""]
[null,{"$f":"IF(F300=\"\",\"\",VLOOKUP(F300,List_CMS!$L$3:$Q$79,2,FALSE))","v":""},{"$f":"IF(F300=\"\",\"\",VLOOKUP(F300,List_CMS!$L$3:$Q$79,3,FALSE))","v":""},{"$f":"IF(F300=\"\",\"\",VLOOKUP(F300,List_CMS!$L$3:$Q$79,4,FALSE))","v":""},{"$f":"IF(F300=\"\",\"\",VLOOKUP(F300,List_CMS!$L$3:$Q$79,5,FALSE))","v":""},null,null,null,null,null,null,""]
[null,{"$f":"IF(F301=\"\",\"\",VLOOKUP(F301,List_CMS!$L$3:$Q$79,2,FALSE))","v":""},{"$f":"IF(F301=\"\",\"\",VLOOKUP(F301,List_CMS!$L$3:$Q$79,3,FALSE))","v":""},{"$f":"IF(F301=\"\",\"\",VLOOKUP(F301,List_CMS!$L$3:$Q$79,4,FALSE))","v":""},{"$f":"IF(F301=\"\",\"\",VLOOKUP(F301,List_CMS!$L$3:$Q$79,5,FALSE))","v":""},null,null,null,null,null,null,""]
[null,{"$f":"IF(F302=\"\",\"\",VLOOKUP(F302,List_CMS!$L$3:$Q$79,2,FALSE))","v":""},{"$f":"IF(F302=\"\",\"\",VLOOKUP(F302,List_CMS!$L$3:$Q$79,3,FALSE))","v":""},{"$f":"IF(F302=\"\",\"\",VLOOKUP(F302,List_CMS!$L$3:$Q$79,4,FALSE))","v":""},{"$f":"IF(F302=\"\",\"\",VLOOKUP(F302,List_CMS!$L$3:$Q$79,5,FALSE))","v":""},null,null,null,null,null,null,""]
[null,{"$f":"IF(F303=\"\",\"\",VLOOKUP(F303,List_CMS!$L$3:$Q$79,2,FALSE))","v":""},{"$f":"IF(F303=\"\",\"\",VLOOKUP(F303,List_CMS!$L$3:$Q$79,3,FALSE))","v":""},{"$f":"IF(F303=\"\",\"\",VLOOKUP(F303,List_CMS!$L$3:$Q$79,4,FALSE))","v":""},{"$f":"IF(F303=\"\",\"\",VLOOKUP(F303,List_CMS!$L$3:$Q$79,5,FALSE))","v":""},null,null,null,null,null,null,""]
[null,{"$f":"IF(F304=\"\",\"\",VLOOKUP(F304,List_CMS!$L$3:$Q$79,2,FALSE))","v":""},{"$f":"IF(F304=\"\",\"\",VLOOKUP(F304,List_CMS!$L$3:$Q$79,3,FALSE))","v":""},{"$f":"IF(F304=\"\",\"\",VLOOKUP(F304,List_CMS!$L$3:$Q$79,4,FALSE))","v":""},{"$f":"IF(F304=\"\",\"\",VLOOKUP(F304,List_CMS!$L$3:$Q$79,5,FALSE))","v":""},null,null,null,null,null,null,""]
[null,{"$f":"IF(F305=\"\",\"\",VLOOKUP(F305,List_CMS!$L$3:$Q$79,2,FALSE))","v":""},{"$f":"IF(F305=\"\",\"\",VLOOKUP(F305,List_CMS!$L$3:$Q$79,3,FALSE))","v":""},{"$f":"IF(F305=\"\",\"\",VLOOKUP(F305,List_CMS!$L$3:$Q$79,4,FALSE))","v":""},{"$f":"IF(F305=\"\",\"\",VLOOKUP(F305,List_CMS!$L$3:$Q$79,5,FALSE))","v":""},null,null,null,null,null,null,""]
[null,{"$f":"IF(F306=\"\",\"\",VLOOKUP(F306,List_CMS!$L$3:$Q$79,2,FALSE))","v":""},{"$f":"IF(F306=\"\",\"\",VLOOKUP(F306,List_CMS!$L$3:$Q$79,3,FALSE))","v":""},{"$f":"IF(F306=\"\",\"\",VLOOKUP(F306,List_CMS!$L$3:$Q$79,4,FALSE))","v":""},{"$f":"IF(F306=\"\",\"\",VLOOKUP(F306,List_CMS!$L$3:$Q$79,5,FALSE))","v":""},null,null,null,null,null,null,""]
[null,{"$f":"IF(F307=\"\",\"\",VLOOKUP(F307,List_CMS!$L$3:$Q$79,2,FALSE))","v":""},{"$f":"IF(F307=\"\",\"\",VLOOKUP(F307,List_CMS!$L$3:$Q$79,3,FALSE))","v":""},{"$f":"IF(F307=\"\",\"\",VLOOKUP(F307,List_CMS!$L$3:$Q$79,4,FALSE))","v":""},{"$f":"IF(F307=\"\",\"\",VLOOKUP(F307,List_CMS!$L$3:$Q$79,5,FALSE))","v":""},null,null,null,null,null,null,""]
[null,{"$f":"IF(F308=\"\",\"\",VLOOKUP(F308,List_CMS!$L$3:$Q$79,2,FALSE))","v":""},{"$f":"IF(F308=\"\",\"\",VLOOKUP(F308,List_CMS!$L$3:$Q$79,3,FALSE))","v":""},{"$f":"IF(F308=\"\",\"\",VLOOKUP(F308,List_CMS!$L$3:$Q$79,4,FALSE))","v":""},{"$f":"IF(F308=\"\",\"\",VLOOKUP(F308,List_CMS!$L$3:$Q$79,5,FALSE))","v":""},null,null,null,null,null,null,""]
[null,{"$f":"IF(F309=\"\",\"\",VLOOKUP(F309,List_CMS!$L$3:$Q$79,2,FALSE))","v":""},{"$f":"IF(F309=\"\",\"\",VLOOKUP(F309,List_CMS!$L$3:$Q$79,3,FALSE))","v":""},{"$f":"IF(F309=\"\",\"\",VLOOKUP(F309,List_CMS!$L$3:$Q$79,4,FALSE))","v":""},{"$f":"IF(F309=\"\",\"\",VLOOKUP(F309,List_CMS!$L$3:$Q$79,5,FALSE))","v":""},null,null,null,null,null,null,""]
[null,{"$f":"IF(F310=\"\",\"\",VLOOKUP(F310,List_CMS!$L$3:$Q$79,2,FALSE))","v":""},{"$f":"IF(F310=\"\",\"\",VLOOKUP(F310,List_CMS!$L$3:$Q$79,3,FALSE))","v":""},{"$f":"IF(F310=\"\",\"\",VLOOKUP(F310,List_CMS!$L$3:$Q$79,4,FALSE))","v":""},{"$f":"IF(F310=\"\",\"\",VLOOKUP(F310,List_CMS!$L$3:$Q$79,5,FALSE))","v":""},null,null,null,null,null,null,""]
[null,{"$f":"IF(F311=\"\",\"\",VLOOKUP(F311,List_CMS!$L$3:$Q$79,2,FALSE))","v":""},{"$f":"IF(F311=\"\",\"\",VLOOKUP(F311,List_CMS!$L$3:$Q$79,3,FALSE))","v":""},{"$f":"IF(F311=\"\",\"\",VLOOKUP(F311,List_CMS!$L$3:$Q$79,4,FALSE))","v":""},{"$f":"IF(F311=\"\",\"\",VLOOKUP(F311,List_CMS!$L$3:$Q$79,5,FALSE))","v":""},null,null,null,null,null,null,""]
[null,{"$f":"IF(F312=\"\",\"\",VLOOKUP(F312,List_CMS!$L$3:$Q$79,2,FALSE))","v":""},{"$f":"IF(F312=\"\",\"\",VLOOKUP(F312,List_CMS!$L$3:$Q$79,3,FALSE))","v":""},{"$f":"IF(F312=\"\",\"\",VLOOKUP(F312,List_CMS!$L$3:$Q$79,4,FALSE))","v":""},{"$f":"IF(F312=\"\",\"\",VLOOKUP(F312,List_CMS!$L$3:$Q$79,5,FALSE))","v":""},null,null,null,null,null,null,""]
[null,{"$f":"IF(F313=\"\",\"\",VLOOKUP(F313,List_CMS!$L$3:$Q$79,2,FALSE))","v":""},{"$f":"IF(F313=\"\",\"\",VLOOKUP(F313,List_CMS!$L$3:$Q$79,3,FALSE))","v":""},{"$f":"IF(F313=\"\",\"\",VLOOKUP(F313,List_CMS!$L$3:$Q$79,4,FALSE))","v":""},{"$f":"IF(F313=\"\",\"\",VLOOKUP(F313,List_CMS!$L$3:$Q$79,5,FALSE))","v":""},null,null,null,null,null,null,""]
[null,{"$f":"IF(F314=\"\",\"\",VLOOKUP(F314,List_CMS!$L$3:$Q$79,2,FALSE))","v":""},{"$f":"IF(F314=\"\",\"\",VLOOKUP(F314,List_CMS!$L$3:$Q$79,3,FALSE))","v":""},{"$f":"IF(F314=\"\",\"\",VLOOKUP(F314,List_CMS!$L$3:$Q$79,4,FALSE))","v":""},{"$f":"IF(F314=\"\",\"\",VLOOKUP(F314,List_CMS!$L$3:$Q$79,5,FALSE))","v":""},null,null,null,null,null,null,""]
[null,{"$f":"IF(F315=\"\",\"\",VLOOKUP(F315,List_CMS!$L$3:$Q$79,2,FALSE))","v":""},{"$f":"IF(F315=\"\",\"\",VLOOKUP(F315,List_CMS!$L$3:$Q$79,3,FALSE))","v":""},{"$f":"IF(F315=\"\",\"\",VLOOKUP(F315,List_CMS!$L$3:$Q$79,4,FALSE))","v":""},{"$f":"IF(F315=\"\",\"\",VLOOKUP(F315,List_CMS!$L$3:$Q$79,5,FALSE))","v":""},null,null,null,null,null,null,""]
[null,{"$f":"IF(F316=\"\",\"\",VLOOKUP(F316,List_CMS!$L$3:$Q$79,2,FALSE))","v":""},{"$f":"IF(F316=\"\",\"\",VLOOKUP(F316,List_CMS!$L$3:$Q$79,3,FALSE))","v":""},{"$f":"IF(F316=\"\",\"\",VLOOKUP(F316,List_CMS!$L$3:$Q$79,4,FALSE))","v":""},{"$f":"IF(F316=\"\",\"\",VLOOKUP(F316,List_CMS!$L$3:$Q$79,5,FALSE))","v":""},null,null,null,null,null,null,""]
[null,{"$f":"IF(F317=\"\",\"\",VLOOKUP(F317,List_CMS!$L$3:$Q$79,2,FALSE))","v":""},{"$f":"IF(F317=\"\",\"\",VLOOKUP(F317,List_CMS!$L$3:$Q$79,3,FALSE))","v":""},{"$f":"IF(F317=\"\",\"\",VLOOKUP(F317,List_CMS!$L$3:$Q$79,4,FALSE))","v":""},{"$f":"IF(F317=\"\",\"\",VLOOKUP(F317,List_CMS!$L$3:$Q$79,5,FALSE))","v":""},null,null,null,null,null,null,""]
[null,{"$f":"IF(F318=\"\",\"\",VLOOKUP(F318,List_CMS!$L$3:$Q$79,2,FALSE))","v":""},{"$f":"IF(F318=\"\",\"\",VLOOKUP(F318,List_CMS!$L$3:$Q$79,3,FALSE))","v":""},{"$f":"IF(F318=\"\",\"\",VLOOKUP(F318,List_CMS!$L$3:$Q$79,4,FALSE))","v":""},{"$f":"IF(F318=\"\",\"\",VLOOKUP(F318,List_CMS!$L$3:$Q$79,5,FALSE))","v":""},null,null,null,null,null,null,""]
[null,{"$f":"IF(F319=\"\",\"\",VLOOKUP(F319,List_CMS!$L$3:$Q$79,2,FALSE))","v":""},{"$f":"IF(F319=\"\",\"\",VLOOKUP(F319,List_CMS!$L$3:$Q$79,3,FALSE))","v":""},{"$f":"IF(F319=\"\",\"\",VLOOKUP(F319,List_CMS!$L$3:$Q$79,4,FALSE))","v":""},{"$f":"IF(F319=\"\",\"\",VLOOKUP(F319,List_CMS!$L$3:$Q$79,5,FALSE))","v":""},null,null,null,null,null,null,""]
[null,{"$f":"IF(F320=\"\",\"\",VLOOKUP(F320,List_CMS!$L$3:$Q$79,2,FALSE))","v":""},{"$f":"IF(F320=\"\",\"\",VLOOKUP(F320,List_CMS!$L$3:$Q$79,3,FALSE))","v":""},{"$f":"IF(F320=\"\",\"\",VLOOKUP(F320,List_CMS!$L$3:$Q$79,4,FALSE))","v":""},{"$f":"IF(F320=\"\",\"\",VLOOKUP(F320,List_CMS!$L$3:$Q$79,5,FALSE))","v":""},null,null,null,null,null,null,""]
[null,{"$f":"IF(F321=\"\",\"\",VLOOKUP(F321,List_CMS!$L$3:$Q$79,2,FALSE))","v":""},{"$f":"IF(F321=\"\",\"\",VLOOKUP(F321,List_CMS!$L$3:$Q$79,3,FALSE))","v":""},{"$f":"IF(F321=\"\",\"\",VLOOKUP(F321,List_CMS!$L$3:$Q$79,4,FALSE))","v":""},{"$f":"IF(F321=\"\",\"\",VLOOKUP(F321,List_CMS!$L$3:$Q$79,5,FALSE))","v":""},null,null,null,null,null,null,""]
[null,{"$f":"IF(F322=\"\",\"\",VLOOKUP(F322,List_CMS!$L$3:$Q$79,2,FALSE))","v":""},{"$f":"IF(F322=\"\",\"\",VLOOKUP(F322,List_CMS!$L$3:$Q$79,3,FALSE))","v":""},{"$f":"IF(F322=\"\",\"\",VLOOKUP(F322,List_CMS!$L$3:$Q$79,4,FALSE))","v":""},{"$f":"IF(F322=\"\",\"\",VLOOKUP(F322,List_CMS!$L$3:$Q$79,5,FALSE))","v":""},null,null,null,null,null,null,""]
[null,{"$f":"IF(F323=\"\",\"\",VLOOKUP(F323,List_CMS!$L$3:$Q$79,2,FALSE))","v":""},{"$f":"IF(F323=\"\",\"\",VLOOKUP(F323,List_CMS!$L$3:$Q$79,3,FALSE))","v":""},{"$f":"IF(F323=\"\",\"\",VLOOKUP(F323,List_CMS!$L$3:$Q$79,4,FALSE))","v":""},{"$f":"IF(F323=\"\",\"\",VLOOKUP(F323,List_CMS!$L$3:$Q$79,5,FALSE))","v":""},null,null,null,null,null,null,""]
[null,{"$f":"IF(F324=\"\",\"\",VLOOKUP(F324,List_CMS!$L$3:$Q$79,2,FALSE))","v":""},{"$f":"IF(F324=\"\",\"\",VLOOKUP(F324,List_CMS!$L$3:$Q$79,3,FALSE))","v":""},{"$f":"IF(F324=\"\",\"\",VLOOKUP(F324,List_CMS!$L$3:$Q$79,4,FALSE))","v":""},{"$f":"IF(F324=\"\",\"\",VLOOKUP(F324,List_CMS!$L$3:$Q$79,5,FALSE))","v":""},null,null,null,null,null,null,""]
[null,{"$f":"IF(F325=\"\",\"\",VLOOKUP(F325,List_CMS!$L$3:$Q$79,2,FALSE))","v":""},{"$f":"IF(F325=\"\",\"\",VLOOKUP(F325,List_CMS!$L$3:$Q$79,3,FALSE))","v":""},{"$f":"IF(F325=\"\",\"\",VLOOKUP(F325,List_CMS!$L$3:$Q$79,4,FALSE))","v":""},{"$f":"IF(F325=\"\",\"\",VLOOKUP(F325,List_CMS!$L$3:$Q$79,5,FALSE))","v":""},null,null,null,null,null,null,""]
[null,{"$f":"IF(F326=\"\",\"\",VLOOKUP(F326,List_CMS!$L$3:$Q$79,2,FALSE))","v":""},{"$f":"IF(F326=\"\",\"\",VLOOKUP(F326,List_CMS!$L$3:$Q$79,3,FALSE))","v":""},{"$f":"IF(F326=\"\",\"\",VLOOKUP(F326,List_CMS!$L$3:$Q$79,4,FALSE))","v":""},{"$f":"IF(F326=\"\",\"\",VLOOKUP(F326,List_CMS!$L$3:$Q$79,5,FALSE))","v":""},null,null,null,null,null,null,""]
[null,{"$f":"IF(F327=\"\",\"\",VLOOKUP(F327,List_CMS!$L$3:$Q$79,2,FALSE))","v":""},{"$f":"IF(F327=\"\",\"\",VLOOKUP(F327,List_CMS!$L$3:$Q$79,3,FALSE))","v":""},{"$f":"IF(F327=\"\",\"\",VLOOKUP(F327,List_CMS!$L$3:$Q$79,4,FALSE))","v":""},{"$f":"IF(F327=\"\",\"\",VLOOKUP(F327,List_CMS!$L$3:$Q$79,5,FALSE))","v":""},null,null,null,null,null,null,""]
[null,{"$f":"IF(F328=\"\",\"\",VLOOKUP(F328,List_CMS!$L$3:$Q$79,2,FALSE))","v":""},{"$f":"IF(F328=\"\",\"\",VLOOKUP(F328,List_CMS!$L$3:$Q$79,3,FALSE))","v":""},{"$f":"IF(F328=\"\",\"\",VLOOKUP(F328,List_CMS!$L$3:$Q$79,4,FALSE))","v":""},{"$f":"IF(F328=\"\",\"\",VLOOKUP(F328,List_CMS!$L$3:$Q$79,5,FALSE))","v":""},null,null,null,null,null,null,""]
[null,{"$f":"IF(F329=\"\",\"\",VLOOKUP(F329,List_CMS!$L$3:$Q$79,2,FALSE))","v":""},{"$f":"IF(F329=\"\",\"\",VLOOKUP(F329,List_CMS!$L$3:$Q$79,3,FALSE))","v":""},{"$f":"IF(F329=\"\",\"\",VLOOKUP(F329,List_CMS!$L$3:$Q$79,4,FALSE))","v":""},{"$f":"IF(F329=\"\",\"\",VLOOKUP(F329,List_CMS!$L$3:$Q$79,5,FALSE))","v":""},null,null,null,null,null,null,""]
[null,{"$f":"IF(F330=\"\",\"\",VLOOKUP(F330,List_CMS!$L$3:$Q$79,2,FALSE))","v":""},{"$f":"IF(F330=\"\",\"\",VLOOKUP(F330,List_CMS!$L$3:$Q$79,3,FALSE))","v":""},{"$f":"IF(F330=\"\",\"\",VLOOKUP(F330,List_CMS!$L$3:$Q$79,4,FALSE))","v":""},{"$f":"IF(F330=\"\",\"\",VLOOKUP(F330,List_CMS!$L$3:$Q$79,5,FALSE))","v":""},null,null,null,null,null,null,""]
[null,{"$f":"IF(F331=\"\",\"\",VLOOKUP(F331,List_CMS!$L$3:$Q$79,2,FALSE))","v":""},{"$f":"IF(F331=\"\",\"\",VLOOKUP(F331,List_CMS!$L$3:$Q$79,3,FALSE))","v":""},{"$f":"IF(F331=\"\",\"\",VLOOKUP(F331,List_CMS!$L$3:$Q$79,4,FALSE))","v":""},{"$f":"IF(F331=\"\",\"\",VLOOKUP(F331,List_CMS!$L$3:$Q$79,5,FALSE))","v":""},null,null,null,null,null,null,""]
[null,{"$f":"IF(F332=\"\",\"\",VLOOKUP(F332,List_CMS!$L$3:$Q$79,2,FALSE))","v":""},{"$f":"IF(F332=\"\",\"\",VLOOKUP(F332,List_CMS!$L$3:$Q$79,3,FALSE))","v":""},{"$f":"IF(F332=\"\",\"\",VLOOKUP(F332,List_CMS!$L$3:$Q$79,4,FALSE))","v":""},{"$f":"IF(F332=\"\",\"\",VLOOKUP(F332,List_CMS!$L$3:$Q$79,5,FALSE))","v":""},null,null,null,null,null,null,""]
[null,{"$f":"IF(F333=\"\",\"\",VLOOKUP(F333,List_CMS!$L$3:$Q$79,2,FALSE))","v":""},{"$f":"IF(F333=\"\",\"\",VLOOKUP(F333,List_CMS!$L$3:$Q$79,3,FALSE))","v":""},{"$f":"IF(F333=\"\",\"\",VLOOKUP(F333,List_CMS!$L$3:$Q$79,4,FALSE))","v":""},{"$f":"IF(F333=\"\",\"\",VLOOKUP(F333,List_CMS!$L$3:$Q$79,5,FALSE))","v":""},null,null,null,null,null,null,""]
[null,{"$f":"IF(F334=\"\",\"\",VLOOKUP(F334,List_CMS!$L$3:$Q$79,2,FALSE))","v":""},{"$f":"IF(F334=\"\",\"\",VLOOKUP(F334,List_CMS!$L$3:$Q$79,3,FALSE))","v":""},{"$f":"IF(F334=\"\",\"\",VLOOKUP(F334,List_CMS!$L$3:$Q$79,4,FALSE))","v":""},{"$f":"IF(F334=\"\",\"\",VLOOKUP(F334,List_CMS!$L$3:$Q$79,5,FALSE))","v":""},null,null,null,null,null,null,""]
[null,{"$f":"IF(F335=\"\",\"\",VLOOKUP(F335,List_CMS!$L$3:$Q$79,2,FALSE))","v":""},{"$f":"IF(F335=\"\",\"\",VLOOKUP(F335,List_CMS!$L$3:$Q$79,3,FALSE))","v":""},{"$f":"IF(F335=\"\",\"\",VLOOKUP(F335,List_CMS!$L$3:$Q$79,4,FALSE))","v":""},{"$f":"IF(F335=\"\",\"\",VLOOKUP(F335,List_CMS!$L$3:$Q$79,5,FALSE))","v":""},null,null,null,null,null,null,""]
[null,{"$f":"IF(F336=\"\",\"\",VLOOKUP(F336,List_CMS!$L$3:$Q$79,2,FALSE))","v":""},{"$f":"IF(F336=\"\",\"\",VLOOKUP(F336,List_CMS!$L$3:$Q$79,3,FALSE))","v":""},{"$f":"IF(F336=\"\",\"\",VLOOKUP(F336,List_CMS!$L$3:$Q$79,4,FALSE))","v":""},{"$f":"IF(F336=\"\",\"\",VLOOKUP(F336,List_CMS!$L$3:$Q$79,5,FALSE))","v":""},null,null,null,null,null,null,""]
[null,{"$f":"IF(F337=\"\",\"\",VLOOKUP(F337,List_CMS!$L$3:$Q$79,2,FALSE))","v":""},{"$f":"IF(F337=\"\",\"\",VLOOKUP(F337,List_CMS!$L$3:$Q$79,3,FALSE))","v":""},{"$f":"IF(F337=\"\",\"\",VLOOKUP(F337,List_CMS!$L$3:$Q$79,4,FALSE))","v":""},{"$f":"IF(F337=\"\",\"\",VLOOKUP(F337,List_CMS!$L$3:$Q$79,5,FALSE))","v":""},null,null,null,null,null,null,""]
[null,{"$f":"IF(F338=\"\",\"\",VLOOKUP(F338,List_CMS!$L$3:$Q$79,2,FALSE))","v":""},{"$f":"IF(F338=\"\",\"\",VLOOKUP(F338,List_CMS!$L$3:$Q$79,3,FALSE))","v":""},{"$f":"IF(F338=\"\",\"\",VLOOKUP(F338,List_CMS!$L$3:$Q$79,4,FALSE))","v":""},{"$f":"IF(F338=\"\",\"\",VLOOKUP(F338,List_CMS!$L$3:$Q$79,5,FALSE))","v":""},null,null,null,null,null,null,""]
[null,{"$f":"IF(F339=\"\",\"\",VLOOKUP(F339,List_CMS!$L$3:$Q$79,2,FALSE))","v":""},{"$f":"IF(F339=\"\",\"\",VLOOKUP(F339,List_CMS!$L$3:$Q$79,3,FALSE))","v":""},{"$f":"IF(F339=\"\",\"\",VLOOKUP(F339,List_CMS!$L$3:$Q$79,4,FALSE))","v":""},{"$f":"IF(F339=\"\",\"\",VLOOKUP(F339,List_CMS!$L$3:$Q$79,5,FALSE))","v":""},null,null,null,null,null,null,""]
[null,{"$f":"IF(F340=\"\",\"\",VLOOKUP(F340,List_CMS!$L$3:$Q$79,2,FALSE))","v":""},{"$f":"IF(F340=\"\",\"\",VLOOKUP(F340,List_CMS!$L$3:$Q$79,3,FALSE))","v":""},{"$f":"IF(F340=\"\",\"\",VLOOKUP(F340,List_CMS!$L$3:$Q$79,4,FALSE))","v":""},{"$f":"IF(F340=\"\",\"\",VLOOKUP(F340,List_CMS!$L$3:$Q$79,5,FALSE))","v":""},null,null,null,null,null,null,""]
[null,{"$f":"IF(F341=\"\",\"\",VLOOKUP(F341,List_CMS!$L$3:$Q$79,2,FALSE))","v":""},{"$f":"IF(F341=\"\",\"\",VLOOKUP(F341,List_CMS!$L$3:$Q$79,3,FALSE))","v":""},{"$f":"IF(F341=\"\",\"\",VLOOKUP(F341,List_CMS!$L$3:$Q$79,4,FALSE))","v":""},{"$f":"IF(F341=\"\",\"\",VLOOKUP(F341,List_CMS!$L$3:$Q$79,5,FALSE))","v":""},null,null,null,null,null,null,""]
[null,{"$f":"IF(F342=\"\",\"\",VLOOKUP(F342,List_CMS!$L$3:$Q$79,2,FALSE))","v":""},{"$f":"IF(F342=\"\",\"\",VLOOKUP(F342,List_CMS!$L$3:$Q$79,3,FALSE))","v":""},{"$f":"IF(F342=\"\",\"\",VLOOKUP(F342,List_CMS!$L$3:$Q$79,4,FALSE))","v":""},{"$f":"IF(F342=\"\",\"\",VLOOKUP(F342,List_CMS!$L$3:$Q$79,5,FALSE))","v":""},null,null,null,null,null,null,""]
[null,{"$f":"IF(F343=\"\",\"\",VLOOKUP(F343,List_CMS!$L$3:$Q$79,2,FALSE))","v":""},{"$f":"IF(F343=\"\",\"\",VLOOKUP(F343,List_CMS!$L$3:$Q$79,3,FALSE))","v":""},{"$f":"IF(F343=\"\",\"\",VLOOKUP(F343,List_CMS!$L$3:$Q$79,4,FALSE))","v":""},{"$f":"IF(F343=\"\",\"\",VLOOKUP(F343,List_CMS!$L$3:$Q$79,5,FALSE))","v":""},null,null,null,null,null,null,""]
[null,{"$f":"IF(F344=\"\",\"\",VLOOKUP(F344,List_CMS!$L$3:$Q$79,2,FALSE))","v":""},{"$f":"IF(F344=\"\",\"\",VLOOKUP(F344,List_CMS!$L$3:$Q$79,3,FALSE))","v":""},{"$f":"IF(F344=\"\",\"\",VLOOKUP(F344,List_CMS!$L$3:$Q$79,4,FALSE))","v":""},{"$f":"IF(F344=\"\",\"\",VLOOKUP(F344,List_CMS!$L$3:$Q$79,5,FALSE))","v":""},null,null,null,null,null,null,""]
[null,{"$f":"IF(F345=\"\",\"\",VLOOKUP(F345,List_CMS!$L$3:$Q$79,2,FALSE))","v":""},{"$f":"IF(F345=\"\",\"\",VLOOKUP(F345,List_CMS!$L$3:$Q$79,3,FALSE))","v":""},{"$f":"IF(F345=\"\",\"\",VLOOKUP(F345,List_CMS!$L$3:$Q$79,4,FALSE))","v":""},{"$f":"IF(F345=\"\",\"\",VLOOKUP(F345,List_CMS!$L$3:$Q$79,5,FALSE))","v":""},null,null,null,null,null,null,{"$f":"IF(K345=\"\",\"\",(VALUE(TEXT(J345,\"m/dd/yy \")&TEXT(K345,\"hh:mm:ss\"))-(VALUE(TEXT(H345,\"m/dd/yy \")&TEXT(I345,\"hh:mm:ss\"))))*24)","v":""}]
[null,{"$f":"IF(F346=\"\",\"\",VLOOKUP(F346,List_CMS!$L$3:$Q$79,2,FALSE))","v":""},{"$f":"IF(F346=\"\",\"\",VLOOKUP(F346,List_CMS!$L$3:$Q$79,3,FALSE))","v":""},{"$f":"IF(F346=\"\",\"\",VLOOKUP(F346,List_CMS!$L$3:$Q$79,4,FALSE))","v":""},{"$f":"IF(F346=\"\",\"\",VLOOKUP(F346,List_CMS!$L$3:$Q$79,5,FALSE))","v":""},null,null,null,null,null,null,""]
[null,{"$f":"IF(F347=\"\",\"\",VLOOKUP(F347,List_CMS!$L$3:$Q$79,2,FALSE))","v":""},{"$f":"IF(F347=\"\",\"\",VLOOKUP(F347,List_CMS!$L$3:$Q$79,3,FALSE))","v":""},{"$f":"IF(F347=\"\",\"\",VLOOKUP(F347,List_CMS!$L$3:$Q$79,4,FALSE))","v":""},{"$f":"IF(F347=\"\",\"\",VLOOKUP(F347,List_CMS!$L$3:$Q$79,5,FALSE))","v":""},null,null,null,null,null,null,""]
[null,{"$f":"IF(F348=\"\",\"\",VLOOKUP(F348,List_CMS!$L$3:$Q$79,2,FALSE))","v":""},{"$f":"IF(F348=\"\",\"\",VLOOKUP(F348,List_CMS!$L$3:$Q$79,3,FALSE))","v":""},{"$f":"IF(F348=\"\",\"\",VLOOKUP(F348,List_CMS!$L$3:$Q$79,4,FALSE))","v":""},{"$f":"IF(F348=\"\",\"\",VLOOKUP(F348,List_CMS!$L$3:$Q$79,5,FALSE))","v":""},null,null,null,null,null,null,""]
[null,{"$f":"IF(F349=\"\",\"\",VLOOKUP(F349,List_CMS!$L$3:$Q$79,2,FALSE))","v":""},{"$f":"IF(F349=\"\",\"\",VLOOKUP(F349,List_CMS!$L$3:$Q$79,3,FALSE))","v":""},{"$f":"IF(F349=\"\",\"\",VLOOKUP(F349,List_CMS!$L$3:$Q$79,4,FALSE))","v":""},{"$f":"IF(F349=\"\",\"\",VLOOKUP(F349,List_CMS!$L$3:$Q$79,5,FALSE))","v":""},null,null,null,null,null,null,""]
[null,{"$f":"IF(F350=\"\",\"\",VLOOKUP(F350,List_CMS!$L$3:$Q$79,2,FALSE))","v":""},{"$f":"IF(F350=\"\",\"\",VLOOKUP(F350,List_CMS!$L$3:$Q$79,3,FALSE))","v":""},{"$f":"IF(F350=\"\",\"\",VLOOKUP(F350,List_CMS!$L$3:$Q$79,4,FALSE))","v":""},{"$f":"IF(F350=\"\",\"\",VLOOKUP(F350,List_CMS!$L$3:$Q$79,5,FALSE))","v":""},null,null,null,null,null,null,""]
[null,{"$f":"IF(F351=\"\",\"\",VLOOKUP(F351,List_CMS!$L$3:$Q$79,2,FALSE))","v":""},{"$f":"IF(F351=\"\",\"\",VLOOKUP(F351,List_CMS!$L$3:$Q$79,3,FALSE))","v":""},{"$f":"IF(F351=\"\",\"\",VLOOKUP(F351,List_CMS!$L$3:$Q$79,4,FALSE))","v":""},{"$f":"IF(F351=\"\",\"\",VLOOKUP(F351,List_CMS!$L$3:$Q$79,5,FALSE))","v":""},null,null,null,null,null,null,""]
[null,{"$f":"IF(F352=\"\",\"\",VLOOKUP(F352,List_CMS!$L$3:$Q$79,2,FALSE))","v":""},{"$f":"IF(F352=\"\",\"\",VLOOKUP(F352,List_CMS!$L$3:$Q$79,3,FALSE))","v":""},{"$f":"IF(F352=\"\",\"\",VLOOKUP(F352,List_CMS!$L$3:$Q$79,4,FALSE))","v":""},{"$f":"IF(F352=\"\",\"\",VLOOKUP(F352,List_CMS!$L$3:$Q$79,5,FALSE))","v":""},null,null,null,null,null,null,""]
[null,{"$f":"IF(F353=\"\",\"\",VLOOKUP(F353,List_CMS!$L$3:$Q$79,2,FALSE))","v":""},{"$f":"IF(F353=\"\",\"\",VLOOKUP(F353,List_CMS!$L$3:$Q$79,3,FALSE))","v":""},{"$f":"IF(F353=\"\",\"\",VLOOKUP(F353,List_CMS!$L$3:$Q$79,4,FALSE))","v":""},{"$f":"IF(F353=\"\",\"\",VLOOKUP(F353,List_CMS!$L$3:$Q$79,5,FALSE))","v":""},null,null,null,null,null,null,""]
[null,{"$f":"IF(F354=\"\",\"\",VLOOKUP(F354,List_CMS!$L$3:$Q$79,2,FALSE))","v":""},{"$f":"IF(F354=\"\",\"\",VLOOKUP(F354,List_CMS!$L$3:$Q$79,3,FALSE))","v":""},{"$f":"IF(F354=\"\",\"\",VLOOKUP(F354,List_CMS!$L$3:$Q$79,4,FALSE))","v":""},{"$f":"IF(F354=\"\",\"\",VLOOKUP(F354,List_CMS!$L$3:$Q$79,5,FALSE))","v":""},null,null,null,null,null,null,""]
[null,{"$f":"IF(F355=\"\",\"\",VLOOKUP(F355,List_CMS!$L$3:$Q$79,2,FALSE))","v":""},{"$f":"IF(F355=\"\",\"\",VLOOKUP(F355,List_CMS!$L$3:$Q$79,3,FALSE))","v":""},{"$f":"IF(F355=\"\",\"\",VLOOKUP(F355,List_CMS!$L$3:$Q$79,4,FALSE))","v":""},{"$f":"IF(F355=\"\",\"\",VLOOKUP(F355,List_CMS!$L$3:$Q$79,5,FALSE))","v":""},null,null,null,null,null,null,""]
[null,{"$f":"IF(F356=\"\",\"\",VLOOKUP(F356,List_CMS!$L$3:$Q$79,2,FALSE))","v":""},{"$f":"IF(F356=\"\",\"\",VLOOKUP(F356,List_CMS!$L$3:$Q$79,3,FALSE))","v":""},{"$f":"IF(F356=\"\",\"\",VLOOKUP(F356,List_CMS!$L$3:$Q$79,4,FALSE))","v":""},{"$f":"IF(F356=\"\",\"\",VLOOKUP(F356,List_CMS!$L$3:$Q$79,5,FALSE))","v":""},null,null,null,null,null,null,""]
[null,{"$f":"IF(F357=\"\",\"\",VLOOKUP(F357,List_CMS!$L$3:$Q$79,2,FALSE))","v":""},{"$f":"IF(F357=\"\",\"\",VLOOKUP(F357,List_CMS!$L$3:$Q$79,3,FALSE))","v":""},{"$f":"IF(F357=\"\",\"\",VLOOKUP(F357,List_CMS!$L$3:$Q$79,4,FALSE))","v":""},{"$f":"IF(F357=\"\",\"\",VLOOKUP(F357,List_CMS!$L$3:$Q$79,5,FALSE))","v":""},null,null,null,null,null,null,""]
[null,{"$f":"IF(F358=\"\",\"\",VLOOKUP(F358,List_CMS!$L$3:$Q$79,2,FALSE))","v":""},{"$f":"IF(F358=\"\",\"\",VLOOKUP(F358,List_CMS!$L$3:$Q$79,3,FALSE))","v":""},{"$f":"IF(F358=\"\",\"\",VLOOKUP(F358,List_CMS!$L$3:$Q$79,4,FALSE))","v":""},{"$f":"IF(F358=\"\",\"\",VLOOKUP(F358,List_CMS!$L$3:$Q$79,5,FALSE))","v":""},null,null,null,null,null,null,""]
[null,{"$f":"IF(F359=\"\",\"\",VLOOKUP(F359,List_CMS!$L$3:$Q$79,2,FALSE))","v":""},{"$f":"IF(F359=\"\",\"\",VLOOKUP(F359,List_CMS!$L$3:$Q$79,3,FALSE))","v":""},{"$f":"IF(F359=\"\",\"\",VLOOKUP(F359,List_CMS!$L$3:$Q$79,4,FALSE))","v":""},{"$f":"IF(F359=\"\",\"\",VLOOKUP(F359,List_CMS!$L$3:$Q$79,5,FALSE))","v":""},null,null,null,null,null,null,""]
[null,{"$f":"IF(F360=\"\",\"\",VLOOKUP(F360,List_CMS!$L$3:$Q$79,2,FALSE))","v":""},{"$f":"IF(F360=\"\",\"\",VLOOKUP(F360,List_CMS!$L$3:$Q$79,3,FALSE))","v":""},{"$f":"IF(F360=\"\",\"\",VLOOKUP(F360,List_CMS!$L$3:$Q$79,4,FALSE))","v":""},{"$f":"IF(F360=\"\",\"\",VLOOKUP(F360,List_CMS!$L$3:$Q$79,5,FALSE))","v":""},null,null,null,null,null,null,""]
[null,{"$f":"IF(F361=\"\",\"\",VLOOKUP(F361,List_CMS!$L$3:$Q$79,2,FALSE))","v":""},{"$f":"IF(F361=\"\",\"\",VLOOKUP(F361,List_CMS!$L$3:$Q$79,3,FALSE))","v":""},{"$f":"IF(F361=\"\",\"\",VLOOKUP(F361,List_CMS!$L$3:$Q$79,4,FALSE))","v":""},{"$f":"IF(F361=\"\",\"\",VLOOKUP(F361,List_CMS!$L$3:$Q$79,5,FALSE))","v":""},null,null,null,null,null,null,""]
[null,{"$f":"IF(F362=\"\",\"\",VLOOKUP(F362,List_CMS!$L$3:$Q$79,2,FALSE))","v":""},{"$f":"IF(F362=\"\",\"\",VLOOKUP(F362,List_CMS!$L$3:$Q$79,3,FALSE))","v":""},{"$f":"IF(F362=\"\",\"\",VLOOKUP(F362,List_CMS!$L$3:$Q$79,4,FALSE))","v":""},{"$f":"IF(F362=\"\",\"\",VLOOKUP(F362,List_CMS!$L$3:$Q$79,5,FALSE))","v":""},null,null,null,null,null,null,""]
[null,{"$f":"IF(F363=\"\",\"\",VLOOKUP(F363,List_CMS!$L$3:$Q$79,2,FALSE))","v":""},{"$f":"IF(F363=\"\",\"\",VLOOKUP(F363,List_CMS!$L$3:$Q$79,3,FALSE))","v":""},{"$f":"IF(F363=\"\",\"\",VLOOKUP(F363,List_CMS!$L$3:$Q$79,4,FALSE))","v":""},{"$f":"IF(F363=\"\",\"\",VLOOKUP(F363,List_CMS!$L$3:$Q$79,5,FALSE))","v":""},null,null,null,null,null,null,""]
[null,{"$f":"IF(F364=\"\",\"\",VLOOKUP(F364,List_CMS!$L$3:$Q$79,2,FALSE))","v":""},{"$f":"IF(F364=\"\",\"\",VLOOKUP(F364,List_CMS!$L$3:$Q$79,3,FALSE))","v":""},{"$f":"IF(F364=\"\",\"\",VLOOKUP(F364,List_CMS!$L$3:$Q$79,4,FALSE))","v":""},{"$f":"IF(F364=\"\",\"\",VLOOKUP(F364,List_CMS!$L$3:$Q$79,5,FALSE))","v":""},null,null,null,null,null,null,""]
[null,{"$f":"IF(F365=\"\",\"\",VLOOKUP(F365,List_CMS!$L$3:$Q$79,2,FALSE))","v":""},{"$f":"IF(F365=\"\",\"\",VLOOKUP(F365,List_CMS!$L$3:$Q$79,3,FALSE))","v":""},{"$f":"IF(F365=\"\",\"\",VLOOKUP(F365,List_CMS!$L$3:$Q$79,4,FALSE))","v":""},{"$f":"IF(F365=\"\",\"\",VLOOKUP(F365,List_CMS!$L$3:$Q$79,5,FALSE))","v":""},null,null,null,null,null,null,""]
[null,{"$f":"IF(F366=\"\",\"\",VLOOKUP(F366,List_CMS!$L$3:$Q$79,2,FALSE))","v":""},{"$f":"IF(F366=\"\",\"\",VLOOKUP(F366,List_CMS!$L$3:$Q$79,3,FALSE))","v":""},{"$f":"IF(F366=\"\",\"\",VLOOKUP(F366,List_CMS!$L$3:$Q$79,4,FALSE))","v":""},{"$f":"IF(F366=\"\",\"\",VLOOKUP(F366,List_CMS!$L$3:$Q$79,5,FALSE))","v":""},null,null,null,null,null,null,""]
[null,{"$f":"IF(F367=\"\",\"\",VLOOKUP(F367,List_CMS!$L$3:$Q$79,2,FALSE))","v":""},{"$f":"IF(F367=\"\",\"\",VLOOKUP(F367,List_CMS!$L$3:$Q$79,3,FALSE))","v":""},{"$f":"IF(F367=\"\",\"\",VLOOKUP(F367,List_CMS!$L$3:$Q$79,4,FALSE))","v":""},{"$f":"IF(F367=\"\",\"\",VLOOKUP(F367,List_CMS!$L$3:$Q$79,5,FALSE))","v":""},null,null,null,null,null,null,""]
[null,{"$f":"IF(F368=\"\",\"\",VLOOKUP(F368,List_CMS!$L$3:$Q$79,2,FALSE))","v":""},{"$f":"IF(F368=\"\",\"\",VLOOKUP(F368,List_CMS!$L$3:$Q$79,3,FALSE))","v":""},{"$f":"IF(F368=\"\",\"\",VLOOKUP(F368,List_CMS!$L$3:$Q$79,4,FALSE))","v":""},{"$f":"IF(F368=\"\",\"\",VLOOKUP(F368,List_CMS!$L$3:$Q$79,5,FALSE))","v":""},null,null,null,null,null,null,""]
[null,{"$f":"IF(F369=\"\",\"\",VLOOKUP(F369,List_CMS!$L$3:$Q$79,2,FALSE))","v":""},{"$f":"IF(F369=\"\",\"\",VLOOKUP(F369,List_CMS!$L$3:$Q$79,3,FALSE))","v":""},{"$f":"IF(F369=\"\",\"\",VLOOKUP(F369,List_CMS!$L$3:$Q$79,4,FALSE))","v":""},{"$f":"IF(F369=\"\",\"\",VLOOKUP(F369,List_CMS!$L$3:$Q$79,5,FALSE))","v":""},null,null,null,null,null,null,""]
[null,{"$f":"IF(F370=\"\",\"\",VLOOKUP(F370,List_CMS!$L$3:$Q$79,2,FALSE))","v":""},{"$f":"IF(F370=\"\",\"\",VLOOKUP(F370,List_CMS!$L$3:$Q$79,3,FALSE))","v":""},{"$f":"IF(F370=\"\",\"\",VLOOKUP(F370,List_CMS!$L$3:$Q$79,4,FALSE))","v":""},{"$f":"IF(F370=\"\",\"\",VLOOKUP(F370,List_CMS!$L$3:$Q$79,5,FALSE))","v":""},null,null,null,null,null,null,""]
[null,{"$f":"IF(F371=\"\",\"\",VLOOKUP(F371,List_CMS!$L$3:$Q$79,2,FALSE))","v":""},{"$f":"IF(F371=\"\",\"\",VLOOKUP(F371,List_CMS!$L$3:$Q$79,3,FALSE))","v":""},{"$f":"IF(F371=\"\",\"\",VLOOKUP(F371,List_CMS!$L$3:$Q$79,4,FALSE))","v":""},{"$f":"IF(F371=\"\",\"\",VLOOKUP(F371,List_CMS!$L$3:$Q$79,5,FALSE))","v":""},null,null,null,null,null,null,""]
[null,{"$f":"IF(F372=\"\",\"\",VLOOKUP(F372,List_CMS!$L$3:$Q$79,2,FALSE))","v":""},{"$f":"IF(F372=\"\",\"\",VLOOKUP(F372,List_CMS!$L$3:$Q$79,3,FALSE))","v":""},{"$f":"IF(F372=\"\",\"\",VLOOKUP(F372,List_CMS!$L$3:$Q$79,4,FALSE))","v":""},{"$f":"IF(F372=\"\",\"\",VLOOKUP(F372,List_CMS!$L$3:$Q$79,5,FALSE))","v":""},null,null,null,null,null,null,""]
[null,{"$f":"IF(F373=\"\",\"\",VLOOKUP(F373,List_CMS!$L$3:$Q$79,2,FALSE))","v":""},{"$f":"IF(F373=\"\",\"\",VLOOKUP(F373,List_CMS!$L$3:$Q$79,3,FALSE))","v":""},{"$f":"IF(F373=\"\",\"\",VLOOKUP(F373,List_CMS!$L$3:$Q$79,4,FALSE))","v":""},{"$f":"IF(F373=\"\",\"\",VLOOKUP(F373,List_CMS!$L$3:$Q$79,5,FALSE))","v":""},null,null,null,null,null,null,""]
[null,{"$f":"IF(F374=\"\",\"\",VLOOKUP(F374,List_CMS!$L$3:$Q$79,2,FALSE))","v":""},{"$f":"IF(F374=\"\",\"\",VLOOKUP(F374,List_CMS!$L$3:$Q$79,3,FALSE))","v":""},{"$f":"IF(F374=\"\",\"\",VLOOKUP(F374,List_CMS!$L$3:$Q$79,4,FALSE))","v":""},{"$f":"IF(F374=\"\",\"\",VLOOKUP(F374,List_CMS!$L$3:$Q$79,5,FALSE))","v":""},null,null,null,null,null,null,""]
[null,{"$f":"IF(F375=\"\",\"\",VLOOKUP(F375,List_CMS!$L$3:$Q$79,2,FALSE))","v":""},{"$f":"IF(F375=\"\",\"\",VLOOKUP(F375,List_CMS!$L$3:$Q$79,3,FALSE))","v":""},{"$f":"IF(F375=\"\",\"\",VLOOKUP(F375,List_CMS!$L$3:$Q$79,4,FALSE))","v":""},{"$f":"IF(F375=\"\",\"\",VLOOKUP(F375,List_CMS!$L$3:$Q$79,5,FALSE))","v":""},null,null,null,null,null,null,""]
[null,{"$f":"IF(F376=\"\",\"\",VLOOKUP(F376,List_CMS!$L$3:$Q$79,2,FALSE))","v":""},{"$f":"IF(F376=\"\",\"\",VLOOKUP(F376,List_CMS!$L$3:$Q$79,3,FALSE))","v":""},{"$f":"IF(F376=\"\",\"\",VLOOKUP(F376,List_CMS!$L$3:$Q$79,4,FALSE))","v":""},{"$f":"IF(F376=\"\",\"\",VLOOKUP(F376,List_CMS!$L$3:$Q$79,5,FALSE))","v":""},null,null,null,null,null,null,""]
[null,{"$f":"IF(F377=\"\",\"\",VLOOKUP(F377,List_CMS!$L$3:$Q$79,2,FALSE))","v":""},{"$f":"IF(F377=\"\",\"\",VLOOKUP(F377,List_CMS!$L$3:$Q$79,3,FALSE))","v":""},{"$f":"IF(F377=\"\",\"\",VLOOKUP(F377,List_CMS!$L$3:$Q$79,4,FALSE))","v":""},{"$f":"IF(F377=\"\",\"\",VLOOKUP(F377,List_CMS!$L$3:$Q$79,5,FALSE))","v":""},null,null,null,null,null,null,""]
[null,{"$f":"IF(F378=\"\",\"\",VLOOKUP(F378,List_CMS!$L$3:$Q$79,2,FALSE))","v":""},{"$f":"IF(F378=\"\",\"\",VLOOKUP(F378,List_CMS!$L$3:$Q$79,3,FALSE))","v":""},{"$f":"IF(F378=\"\",\"\",VLOOKUP(F378,List_CMS!$L$3:$Q$79,4,FALSE))","v":""},{"$f":"IF(F378=\"\",\"\",VLOOKUP(F378,List_CMS!$L$3:$Q$79,5,FALSE))","v":""},null,null,null,null,null,null,""]
[null,{"$f":"IF(F379=\"\",\"\",VLOOKUP(F379,List_CMS!$L$3:$Q$79,2,FALSE))","v":""},{"$f":"IF(F379=\"\",\"\",VLOOKUP(F379,List_CMS!$L$3:$Q$79,3,FALSE))","v":""},{"$f":"IF(F379=\"\",\"\",VLOOKUP(F379,List_CMS!$L$3:$Q$79,4,FALSE))","v":""},{"$f":"IF(F379=\"\",\"\",VLOOKUP(F379,List_CMS!$L$3:$Q$79,5,FALSE))","v":""},null,null,null,null,null,null,""]
[null,{"$f":"IF(F380=\"\",\"\",VLOOKUP(F380,List_CMS!$L$3:$Q$79,2,FALSE))","v":""},{"$f":"IF(F380=\"\",\"\",VLOOKUP(F380,List_CMS!$L$3:$Q$79,3,FALSE))","v":""},{"$f":"IF(F380=\"\",\"\",VLOOKUP(F380,List_CMS!$L$3:$Q$79,4,FALSE))","v":""},{"$f":"IF(F380=\"\",\"\",VLOOKUP(F380,List_CMS!$L$3:$Q$79,5,FALSE))","v":""},null,null,null,null,null,null,""]
[null,{"$f":"IF(F381=\"\",\"\",VLOOKUP(F381,List_CMS!$L$3:$Q$79,2,FALSE))","v":""},{"$f":"IF(F381=\"\",\"\",VLOOKUP(F381,List_CMS!$L$3:$Q$79,3,FALSE))","v":""},{"$f":"IF(F381=\"\",\"\",VLOOKUP(F381,List_CMS!$L$3:$Q$79,4,FALSE))","v":""},{"$f":"IF(F381=\"\",\"\",VLOOKUP(F381,List_CMS!$L$3:$Q$79,5,FALSE))","v":""},null,null,null,null,null,null,""]
[null,{"$f":"IF(F382=\"\",\"\",VLOOKUP(F382,List_CMS!$L$3:$Q$79,2,FALSE))","v":""},{"$f":"IF(F382=\"\",\"\",VLOOKUP(F382,List_CMS!$L$3:$Q$79,3,FALSE))","v":""},{"$f":"IF(F382=\"\",\"\",VLOOKUP(F382,List_CMS!$L$3:$Q$79,4,FALSE))","v":""},{"$f":"IF(F382=\"\",\"\",VLOOKUP(F382,List_CMS!$L$3:$Q$79,5,FALSE))","v":""},null,null,null,null,null,null,""]
[null,{"$f":"IF(F383=\"\",\"\",VLOOKUP(F383,List_CMS!$L$3:$Q$79,2,FALSE))","v":""},{"$f":"IF(F383=\"\",\"\",VLOOKUP(F383,List_CMS!$L$3:$Q$79,3,FALSE))","v":""},{"$f":"IF(F383=\"\",\"\",VLOOKUP(F383,List_CMS!$L$3:$Q$79,4,FALSE))","v":""},{"$f":"IF(F383=\"\",\"\",VLOOKUP(F383,List_CMS!$L$3:$Q$79,5,FALSE))","v":""},null,null,null,null,null,null,""]
[null,{"$f":"IF(F384=\"\",\"\",VLOOKUP(F384,List_CMS!$L$3:$Q$79,2,FALSE))","v":""},{"$f":"IF(F384=\"\",\"\",VLOOKUP(F384,List_CMS!$L$3:$Q$79,3,FALSE))","v":""},{"$f":"IF(F384=\"\",\"\",VLOOKUP(F384,List_CMS!$L$3:$Q$79,4,FALSE))","v":""},{"$f":"IF(F384=\"\",\"\",VLOOKUP(F384,List_CMS!$L$3:$Q$79,5,FALSE))","v":""},null,null,null,null,null,null,""]
[null,{"$f":"IF(F385=\"\",\"\",VLOOKUP(F385,List_CMS!$L$3:$Q$79,2,FALSE))","v":""},{"$f":"IF(F385=\"\",\"\",VLOOKUP(F385,List_CMS!$L$3:$Q$79,3,FALSE))","v":""},{"$f":"IF(F385=\"\",\"\",VLOOKUP(F385,List_CMS!$L$3:$Q$79,4,FALSE))","v":""},{"$f":"IF(F385=\"\",\"\",VLOOKUP(F385,List_CMS!$L$3:$Q$79,5,FALSE))","v":""},null,null,null,null,null,null,""]
[null,{"$f":"IF(F386=\"\",\"\",VLOOKUP(F386,List_CMS!$L$3:$Q$79,2,FALSE))","v":""},{"$f":"IF(F386=\"\",\"\",VLOOKUP(F386,List_CMS!$L$3:$Q$79,3,FALSE))","v":""},{"$f":"IF(F386=\"\",\"\",VLOOKUP(F386,List_CMS!$L$3:$Q$79,4,FALSE))","v":""},{"$f":"IF(F386=\"\",\"\",VLOOKUP(F386,List_CMS!$L$3:$Q$79,5,FALSE))","v":""},null,null,null,null,null,null,""]
[null,{"$f":"IF(F387=\"\",\"\",VLOOKUP(F387,List_CMS!$L$3:$Q$79,2,FALSE))","v":""},{"$f":"IF(F387=\"\",\"\",VLOOKUP(F387,List_CMS!$L$3:$Q$79,3,FALSE))","v":""},{"$f":"IF(F387=\"\",\"\",VLOOKUP(F387,List_CMS!$L$3:$Q$79,4,FALSE))","v":""},{"$f":"IF(F387=\"\",\"\",VLOOKUP(F387,List_CMS!$L$3:$Q$79,5,FALSE))","v":""},null,null,null,null,null,null,""]
[null,{"$f":"IF(F388=\"\",\"\",VLOOKUP(F388,List_CMS!$L$3:$Q$79,2,FALSE))","v":""},{"$f":"IF(F388=\"\",\"\",VLOOKUP(F388,List_CMS!$L$3:$Q$79,3,FALSE))","v":""},{"$f":"IF(F388=\"\",\"\",VLOOKUP(F388,List_CMS!$L$3:$Q$79,4,FALSE))","v":""},{"$f":"IF(F388=\"\",\"\",VLOOKUP(F388,List_CMS!$L$3:$Q$79,5,FALSE))","v":""},null,null,null,null,null,null,""]
[null,{"$f":"IF(F389=\"\",\"\",VLOOKUP(F389,List_CMS!$L$3:$Q$79,2,FALSE))","v":""},{"$f":"IF(F389=\"\",\"\",VLOOKUP(F389,List_CMS!$L$3:$Q$79,3,FALSE))","v":""},{"$f":"IF(F389=\"\",\"\",VLOOKUP(F389,List_CMS!$L$3:$Q$79,4,FALSE))","v":""},{"$f":"IF(F389=\"\",\"\",VLOOKUP(F389,List_CMS!$L$3:$Q$79,5,FALSE))","v":""},null,null,null,null,null,null,""]
[null,{"$f":"IF(F390=\"\",\"\",VLOOKUP(F390,List_CMS!$L$3:$Q$79,2,FALSE))","v":""},{"$f":"IF(F390=\"\",\"\",VLOOKUP(F390,List_CMS!$L$3:$Q$79,3,FALSE))","v":""},{"$f":"IF(F390=\"\",\"\",VLOOKUP(F390,List_CMS!$L$3:$Q$79,4,FALSE))","v":""},{"$f":"IF(F390=\"\",\"\",VLOOKUP(F390,List_CMS!$L$3:$Q$79,5,FALSE))","v":""},null,null,null,null,null,null,""]
[null,{"$f":"IF(F391=\"\",\"\",VLOOKUP(F391,List_CMS!$L$3:$Q$79,2,FALSE))","v":""},{"$f":"IF(F391=\"\",\"\",VLOOKUP(F391,List_CMS!$L$3:$Q$79,3,FALSE))","v":""},{"$f":"IF(F391=\"\",\"\",VLOOKUP(F391,List_CMS!$L$3:$Q$79,4,FALSE))","v":""},{"$f":"IF(F391=\"\",\"\",VLOOKUP(F391,List_CMS!$L$3:$Q$79,5,FALSE))","v":""},null,null,null,null,null,null,""]
[null,{"$f":"IF(F392=\"\",\"\",VLOOKUP(F392,List_CMS!$L$3:$Q$79,2,FALSE))","v":""},{"$f":"IF(F392=\"\",\"\",VLOOKUP(F392,List_CMS!$L$3:$Q$79,3,FALSE))","v":""},{"$f":"IF(F392=\"\",\"\",VLOOKUP(F392,List_CMS!$L$3:$Q$79,4,FALSE))","v":""},{"$f":"IF(F392=\"\",\"\",VLOOKUP(F392,List_CMS!$L$3:$Q$79,5,FALSE))","v":""},null,null,null,null,null,null,""]
[null,{"$f":"IF(F393=\"\",\"\",VLOOKUP(F393,List_CMS!$L$3:$Q$79,2,FALSE))","v":""},{"$f":"IF(F393=\"\",\"\",VLOOKUP(F393,List_CMS!$L$3:$Q$79,3,FALSE))","v":""},{"$f":"IF(F393=\"\",\"\",VLOOKUP(F393,List_CMS!$L$3:$Q$79,4,FALSE))","v":""},{"$f":"IF(F393=\"\",\"\",VLOOKUP(F393,List_CMS!$L$3:$Q$79,5,FALSE))","v":""},null,null,null,null,null,null,""]
[null,{"$f":"IF(F394=\"\",\"\",VLOOKUP(F394,List_CMS!$L$3:$Q$79,2,FALSE))","v":""},{"$f":"IF(F394=\"\",\"\",VLOOKUP(F394,List_CMS!$L$3:$Q$79,3,FALSE))","v":""},{"$f":"IF(F394=\"\",\"\",VLOOKUP(F394,List_CMS!$L$3:$Q$79,4,FALSE))","v":""},{"$f":"IF(F394=\"\",\"\",VLOOKUP(F394,List_CMS!$L$3:$Q$79,5,FALSE))","v":""},null,null,null,null,null,null,""]
[null,{"$f":"IF(F395=\"\",\"\",VLOOKUP(F395,List_CMS!$L$3:$Q$79,2,FALSE))","v":""},{"$f":"IF(F395=\"\",\"\",VLOOKUP(F395,List_CMS!$L$3:$Q$79,3,FALSE))","v":""},{"$f":"IF(F395=\"\",\"\",VLOOKUP(F395,List_CMS!$L$3:$Q$79,4,FALSE))","v":""},{"$f":"IF(F395=\"\",\"\",VLOOKUP(F395,List_CMS!$L$3:$Q$79,5,FALSE))","v":""},null,null,null,null,null,null,""]
[null,{"$f":"IF(F396=\"\",\"\",VLOOKUP(F396,List_CMS!$L$3:$Q$79,2,FALSE))","v":""},{"$f":"IF(F396=\"\",\"\",VLOOKUP(F396,List_CMS!$L$3:$Q$79,3,FALSE))","v":""},{"$f":"IF(F396=\"\",\"\",VLOOKUP(F396,List_CMS!$L$3:$Q$79,4,FALSE))","v":""},{"$f":"IF(F396=\"\",\"\",VLOOKUP(F396,List_CMS!$L$3:$Q$79,5,FALSE))","v":""},null,null,null,null,null,null,""]
[null,{"$f":"IF(F397=\"\",\"\",VLOOKUP(F397,List_CMS!$L$3:$Q$79,2,FALSE))","v":""},{"$f":"IF(F397=\"\",\"\",VLOOKUP(F397,List_CMS!$L$3:$Q$79,3,FALSE))","v":""},{"$f":"IF(F397=\"\",\"\",VLOOKUP(F397,List_CMS!$L$3:$Q$79,4,FALSE))","v":""},{"$f":"IF(F397=\"\",\"\",VLOOKUP(F397,List_CMS!$L$3:$Q$79,5,FALSE))","v":""},null,null,null,null,null,null,""]
[null,{"$f":"IF(F398=\"\",\"\",VLOOKUP(F398,List_CMS!$L$3:$Q$79,2,FALSE))","v":""},{"$f":"IF(F398=\"\",\"\",VLOOKUP(F398,List_CMS!$L$3:$Q$79,3,FALSE))","v":""},{"$f":"IF(F398=\"\",\"\",VLOOKUP(F398,List_CMS!$L$3:$Q$79,4,FALSE))","v":""},{"$f":"IF(F398=\"\",\"\",VLOOKUP(F398,List_CMS!$L$3:$Q$79,5,FALSE))","v":""},null,null,null,null,null,null,""]
[null,{"$f":"IF(F399=\"\",\"\",VLOOKUP(F399,List_CMS!$L$3:$Q$79,2,FALSE))","v":""},{"$f":"IF(F399=\"\",\"\",VLOOKUP(F399,List_CMS!$L$3:$Q$79,3,FALSE))","v":""},{"$f":"IF(F399=\"\",\"\",VLOOKUP(F399,List_CMS!$L$3:$Q$79,4,FALSE))","v":""},{"$f":"IF(F399=\"\",\"\",VLOOKUP(F399,List_CMS!$L$3:$Q$79,5,FALSE))","v":""},null,null,null,null,null,null,""]
[null,{"$f":"IF(F400=\"\",\"\",VLOOKUP(F400,List_CMS!$L$3:$Q$79,2,FALSE))","v":""},{"$f":"IF(F400=\"\",\"\",VLOOKUP(F400,List_CMS!$L$3:$Q$79,3,FALSE))","v":""},{"$f":"IF(F400=\"\",\"\",VLOOKUP(F400,List_CMS!$L$3:$Q$79,4,FALSE))","v":""},{"$f":"IF(F400=\"\",\"\",VLOOKUP(F400,List_CMS!$L$3:$Q$79,5,FALSE))","v":""},null,null,null,null,null,null,""]
[null,{"$f":"IF(F401=\"\",\"\",VLOOKUP(F401,List_CMS!$L$3:$Q$79,2,FALSE))","v":""},{"$f":"IF(F401=\"\",\"\",VLOOKUP(F401,List_CMS!$L$3:$Q$79,3,FALSE))","v":""},{"$f":"IF(F401=\"\",\"\",VLOOKUP(F401,List_CMS!$L$3:$Q$79,4,FALSE))","v":""},{"$f":"IF(F401=\"\",\"\",VLOOKUP(F401,List_CMS!$L$3:$Q$79,5,FALSE))","v":""},null,null,null,null,null,null,""]
[null,{"$f":"IF(F402=\"\",\"\",VLOOKUP(F402,List_CMS!$L$3:$Q$79,2,FALSE))","v":""},{"$f":"IF(F402=\"\",\"\",VLOOKUP(F402,List_CMS!$L$3:$Q$79,3,FALSE))","v":""},{"$f":"IF(F402=\"\",\"\",VLOOKUP(F402,List_CMS!$L$3:$Q$79,4,FALSE))","v":""},{"$f":"IF(F402=\"\",\"\",VLOOKUP(F402,List_CMS!$L$3:$Q$79,5,FALSE))","v":""},null,null,null,null,null,null,""]
[null,{"$f":"IF(F403=\"\",\"\",VLOOKUP(F403,List_CMS!$L$3:$Q$79,2,FALSE))","v":""},{"$f":"IF(F403=\"\",\"\",VLOOKUP(F403,List_CMS!$L$3:$Q$79,3,FALSE))","v":""},{"$f":"IF(F403=\"\",\"\",VLOOKUP(F403,List_CMS!$L$3:$Q$79,4,FALSE))","v":""},{"$f":"IF(F403=\"\",\"\",VLOOKUP(F403,List_CMS!$L$3:$Q$79,5,FALSE))","v":""},null,null,null,null,null,null,""]
[null,{"$f":"IF(F404=\"\",\"\",VLOOKUP(F404,List_CMS!$L$3:$Q$79,2,FALSE))","v":""},{"$f":"IF(F404=\"\",\"\",VLOOKUP(F404,List_CMS!$L$3:$Q$79,3,FALSE))","v":""},{"$f":"IF(F404=\"\",\"\",VLOOKUP(F404,List_CMS!$L$3:$Q$79,4,FALSE))","v":""},{"$f":"IF(F404=\"\",\"\",VLOOKUP(F404,List_CMS!$L$3:$Q$79,5,FALSE))","v":""},null,null,null,null,null,null,""]
[null,{"$f":"IF(F405=\"\",\"\",VLOOKUP(F405,List_CMS!$L$3:$Q$79,2,FALSE))","v":""},{"$f":"IF(F405=\"\",\"\",VLOOKUP(F405,List_CMS!$L$3:$Q$79,3,FALSE))","v":""},{"$f":"IF(F405=\"\",\"\",VLOOKUP(F405,List_CMS!$L$3:$Q$79,4,FALSE))","v":""},{"$f":"IF(F405=\"\",\"\",VLOOKUP(F405,List_CMS!$L$3:$Q$79,5,FALSE))","v":""},null,null,null,null,null,null,""]
[null,{"$f":"IF(F406=\"\",\"\",VLOOKUP(F406,List_CMS!$L$3:$Q$79,2,FALSE))","v":""},{"$f":"IF(F406=\"\",\"\",VLOOKUP(F406,List_CMS!$L$3:$Q$79,3,FALSE))","v":""},{"$f":"IF(F406=\"\",\"\",VLOOKUP(F406,List_CMS!$L$3:$Q$79,4,FALSE))","v":""},{"$f":"IF(F406=\"\",\"\",VLOOKUP(F406,List_CMS!$L$3:$Q$79,5,FALSE))","v":""},null,null,null,null,null,null,""]
[null,{"$f":"IF(F407=\"\",\"\",VLOOKUP(F407,List_CMS!$L$3:$Q$79,2,FALSE))","v":""},{"$f":"IF(F407=\"\",\"\",VLOOKUP(F407,List_CMS!$L$3:$Q$79,3,FALSE))","v":""},{"$f":"IF(F407=\"\",\"\",VLOOKUP(F407,List_CMS!$L$3:$Q$79,4,FALSE))","v":""},{"$f":"IF(F407=\"\",\"\",VLOOKUP(F407,List_CMS!$L$3:$Q$79,5,FALSE))","v":""},null,null,null,null,null,null,""]
[null,{"$f":"IF(F408=\"\",\"\",VLOOKUP(F408,List_CMS!$L$3:$Q$79,2,FALSE))","v":""},{"$f":"IF(F408=\"\",\"\",VLOOKUP(F408,List_CMS!$L$3:$Q$79,3,FALSE))","v":""},{"$f":"IF(F408=\"\",\"\",VLOOKUP(F408,List_CMS!$L$3:$Q$79,4,FALSE))","v":""},{"$f":"IF(F408=\"\",\"\",VLOOKUP(F408,List_CMS!$L$3:$Q$79,5,FALSE))","v":""},null,null,null,null,null,null,""]
[null,{"$f":"IF(F409=\"\",\"\",VLOOKUP(F409,List_CMS!$L$3:$Q$79,2,FALSE))","v":""},{"$f":"IF(F409=\"\",\"\",VLOOKUP(F409,List_CMS!$L$3:$Q$79,3,FALSE))","v":""},{"$f":"IF(F409=\"\",\"\",VLOOKUP(F409,List_CMS!$L$3:$Q$79,4,FALSE))","v":""},{"$f":"IF(F409=\"\",\"\",VLOOKUP(F409,List_CMS!$L$3:$Q$79,5,FALSE))","v":""},null,null,null,null,null,null,{"$f":"IF(K409=\"\",\"\",(VALUE(TEXT(J409,\"m/dd/yy \")&TEXT(K409,\"hh:mm:ss\"))-(VALUE(TEXT(H409,\"m/dd/yy \")&TEXT(I409,\"hh:mm:ss\"))))*24)","v":""}]
[null,{"$f":"IF(F410=\"\",\"\",VLOOKUP(F410,List_CMS!$L$3:$Q$79,2,FALSE))","v":""},{"$f":"IF(F410=\"\",\"\",VLOOKUP(F410,List_CMS!$L$3:$Q$79,3,FALSE))","v":""},{"$f":"IF(F410=\"\",\"\",VLOOKUP(F410,List_CMS!$L$3:$Q$79,4,FALSE))","v":""},{"$f":"IF(F410=\"\",\"\",VLOOKUP(F410,List_CMS!$L$3:$Q$79,5,FALSE))","v":""},null,null,null,null,null,null,""]
[null,{"$f":"IF(F411=\"\",\"\",VLOOKUP(F411,List_CMS!$L$3:$Q$79,2,FALSE))","v":""},{"$f":"IF(F411=\"\",\"\",VLOOKUP(F411,List_CMS!$L$3:$Q$79,3,FALSE))","v":""},{"$f":"IF(F411=\"\",\"\",VLOOKUP(F411,List_CMS!$L$3:$Q$79,4,FALSE))","v":""},{"$f":"IF(F411=\"\",\"\",VLOOKUP(F411,List_CMS!$L$3:$Q$79,5,FALSE))","v":""},null,null,null,null,null,null,""]
[null,{"$f":"IF(F412=\"\",\"\",VLOOKUP(F412,List_CMS!$L$3:$Q$79,2,FALSE))","v":""},{"$f":"IF(F412=\"\",\"\",VLOOKUP(F412,List_CMS!$L$3:$Q$79,3,FALSE))","v":""},{"$f":"IF(F412=\"\",\"\",VLOOKUP(F412,List_CMS!$L$3:$Q$79,4,FALSE))","v":""},{"$f":"IF(F412=\"\",\"\",VLOOKUP(F412,List_CMS!$L$3:$Q$79,5,FALSE))","v":""},null,null,null,null,null,null,""]
[null,{"$f":"IF(F413=\"\",\"\",VLOOKUP(F413,List_CMS!$L$3:$Q$79,2,FALSE))","v":""},{"$f":"IF(F413=\"\",\"\",VLOOKUP(F413,List_CMS!$L$3:$Q$79,3,FALSE))","v":""},{"$f":"IF(F413=\"\",\"\",VLOOKUP(F413,List_CMS!$L$3:$Q$79,4,FALSE))","v":""},{"$f":"IF(F413=\"\",\"\",VLOOKUP(F413,List_CMS!$L$3:$Q$79,5,FALSE))","v":""},null,null,null,null,null,null,""]
[null,{"$f":"IF(F414=\"\",\"\",VLOOKUP(F414,List_CMS!$L$3:$Q$79,2,FALSE))","v":""},{"$f":"IF(F414=\"\",\"\",VLOOKUP(F414,List_CMS!$L$3:$Q$79,3,FALSE))","v":""},{"$f":"IF(F414=\"\",\"\",VLOOKUP(F414,List_CMS!$L$3:$Q$79,4,FALSE))","v":""},{"$f":"IF(F414=\"\",\"\",VLOOKUP(F414,List_CMS!$L$3:$Q$79,5,FALSE))","v":""},null,null,null,null,null,null,""]
[null,{"$f":"IF(F415=\"\",\"\",VLOOKUP(F415,List_CMS!$L$3:$Q$79,2,FALSE))","v":""},{"$f":"IF(F415=\"\",\"\",VLOOKUP(F415,List_CMS!$L$3:$Q$79,3,FALSE))","v":""},{"$f":"IF(F415=\"\",\"\",VLOOKUP(F415,List_CMS!$L$3:$Q$79,4,FALSE))","v":""},{"$f":"IF(F415=\"\",\"\",VLOOKUP(F415,List_CMS!$L$3:$Q$79,5,FALSE))","v":""},null,null,null,null,null,null,""]
[null,{"$f":"IF(F416=\"\",\"\",VLOOKUP(F416,List_CMS!$L$3:$Q$79,2,FALSE))","v":""},{"$f":"IF(F416=\"\",\"\",VLOOKUP(F416,List_CMS!$L$3:$Q$79,3,FALSE))","v":""},{"$f":"IF(F416=\"\",\"\",VLOOKUP(F416,List_CMS!$L$3:$Q$79,4,FALSE))","v":""},{"$f":"IF(F416=\"\",\"\",VLOOKUP(F416,List_CMS!$L$3:$Q$79,5,FALSE))","v":""},null,null,null,null,null,null,""]
[null,{"$f":"IF(F417=\"\",\"\",VLOOKUP(F417,List_CMS!$L$3:$Q$79,2,FALSE))","v":""},{"$f":"IF(F417=\"\",\"\",VLOOKUP(F417,List_CMS!$L$3:$Q$79,3,FALSE))","v":""},{"$f":"IF(F417=\"\",\"\",VLOOKUP(F417,List_CMS!$L$3:$Q$79,4,FALSE))","v":""},{"$f":"IF(F417=\"\",\"\",VLOOKUP(F417,List_CMS!$L$3:$Q$79,5,FALSE))","v":""},null,null,null,null,null,null,""]
[null,{"$f":"IF(F418=\"\",\"\",VLOOKUP(F418,List_CMS!$L$3:$Q$79,2,FALSE))","v":""},{"$f":"IF(F418=\"\",\"\",VLOOKUP(F418,List_CMS!$L$3:$Q$79,3,FALSE))","v":""},{"$f":"IF(F418=\"\",\"\",VLOOKUP(F418,List_CMS!$L$3:$Q$79,4,FALSE))","v":""},{"$f":"IF(F418=\"\",\"\",VLOOKUP(F418,List_CMS!$L$3:$Q$79,5,FALSE))","v":""},null,null,null,null,null,null,""]
[null,{"$f":"IF(F419=\"\",\"\",VLOOKUP(F419,List_CMS!$L$3:$Q$79,2,FALSE))","v":""},{"$f":"IF(F419=\"\",\"\",VLOOKUP(F419,List_CMS!$L$3:$Q$79,3,FALSE))","v":""},{"$f":"IF(F419=\"\",\"\",VLOOKUP(F419,List_CMS!$L$3:$Q$79,4,FALSE))","v":""},{"$f":"IF(F419=\"\",\"\",VLOOKUP(F419,List_CMS!$L$3:$Q$79,5,FALSE))","v":""},null,null,null,null,null,null,""]
[null,{"$f":"IF(F420=\"\",\"\",VLOOKUP(F420,List_CMS!$L$3:$Q$79,2,FALSE))","v":""},{"$f":"IF(F420=\"\",\"\",VLOOKUP(F420,List_CMS!$L$3:$Q$79,3,FALSE))","v":""},{"$f":"IF(F420=\"\",\"\",VLOOKUP(F420,List_CMS!$L$3:$Q$79,4,FALSE))","v":""},{"$f":"IF(F420=\"\",\"\",VLOOKUP(F420,List_CMS!$L$3:$Q$79,5,FALSE))","v":""},null,null,null,null,null,null,""]
[null,{"$f":"IF(F421=\"\",\"\",VLOOKUP(F421,List_CMS!$L$3:$Q$79,2,FALSE))","v":""},{"$f":"IF(F421=\"\",\"\",VLOOKUP(F421,List_CMS!$L$3:$Q$79,3,FALSE))","v":""},{"$f":"IF(F421=\"\",\"\",VLOOKUP(F421,List_CMS!$L$3:$Q$79,4,FALSE))","v":""},{"$f":"IF(F421=\"\",\"\",VLOOKUP(F421,List_CMS!$L$3:$Q$79,5,FALSE))","v":""},null,null,null,null,null,null,""]
[null,{"$f":"IF(F422=\"\",\"\",VLOOKUP(F422,List_CMS!$L$3:$Q$79,2,FALSE))","v":""},{"$f":"IF(F422=\"\",\"\",VLOOKUP(F422,List_CMS!$L$3:$Q$79,3,FALSE))","v":""},{"$f":"IF(F422=\"\",\"\",VLOOKUP(F422,List_CMS!$L$3:$Q$79,4,FALSE))","v":""},{"$f":"IF(F422=\"\",\"\",VLOOKUP(F422,List_CMS!$L$3:$Q$79,5,FALSE))","v":""},null,null,null,null,null,null,""]
[null,{"$f":"IF(F423=\"\",\"\",VLOOKUP(F423,List_CMS!$L$3:$Q$79,2,FALSE))","v":""},{"$f":"IF(F423=\"\",\"\",VLOOKUP(F423,List_CMS!$L$3:$Q$79,3,FALSE))","v":""},{"$f":"IF(F423=\"\",\"\",VLOOKUP(F423,List_CMS!$L$3:$Q$79,4,FALSE))","v":""},{"$f":"IF(F423=\"\",\"\",VLOOKUP(F423,List_CMS!$L$3:$Q$79,5,FALSE))","v":""},null,null,null,null,null,null,""]
[null,{"$f":"IF(F424=\"\",\"\",VLOOKUP(F424,List_CMS!$L$3:$Q$79,2,FALSE))","v":""},{"$f":"IF(F424=\"\",\"\",VLOOKUP(F424,List_CMS!$L$3:$Q$79,3,FALSE))","v":""},{"$f":"IF(F424=\"\",\"\",VLOOKUP(F424,List_CMS!$L$3:$Q$79,4,FALSE))","v":""},{"$f":"IF(F424=\"\",\"\",VLOOKUP(F424,List_CMS!$L$3:$Q$79,5,FALSE))","v":""},null,null,null,null,null,null,""]
[null,{"$f":"IF(F425=\"\",\"\",VLOOKUP(F425,List_CMS!$L$3:$Q$79,2,FALSE))","v":""},{"$f":"IF(F425=\"\",\"\",VLOOKUP(F425,List_CMS!$L$3:$Q$79,3,FALSE))","v":""},{"$f":"IF(F425=\"\",\"\",VLOOKUP(F425,List_CMS!$L$3:$Q$79,4,FALSE))","v":""},{"$f":"IF(F425=\"\",\"\",VLOOKUP(F425,List_CMS!$L$3:$Q$79,5,FALSE))","v":""},null,null,null,null,null,null,""]
[null,{"$f":"IF(F426=\"\",\"\",VLOOKUP(F426,List_CMS!$L$3:$Q$79,2,FALSE))","v":""},{"$f":"IF(F426=\"\",\"\",VLOOKUP(F426,List_CMS!$L$3:$Q$79,3,FALSE))","v":""},{"$f":"IF(F426=\"\",\"\",VLOOKUP(F426,List_CMS!$L$3:$Q$79,4,FALSE))","v":""},{"$f":"IF(F426=\"\",\"\",VLOOKUP(F426,List_CMS!$L$3:$Q$79,5,FALSE))","v":""},null,null,null,null,null,null,""]
[null,{"$f":"IF(F427=\"\",\"\",VLOOKUP(F427,List_CMS!$L$3:$Q$79,2,FALSE))","v":""},{"$f":"IF(F427=\"\",\"\",VLOOKUP(F427,List_CMS!$L$3:$Q$79,3,FALSE))","v":""},{"$f":"IF(F427=\"\",\"\",VLOOKUP(F427,List_CMS!$L$3:$Q$79,4,FALSE))","v":""},{"$f":"IF(F427=\"\",\"\",VLOOKUP(F427,List_CMS!$L$3:$Q$79,5,FALSE))","v":""},null,null,null,null,null,null,""]
[null,{"$f":"IF(F428=\"\",\"\",VLOOKUP(F428,List_CMS!$L$3:$Q$79,2,FALSE))","v":""},{"$f":"IF(F428=\"\",\"\",VLOOKUP(F428,List_CMS!$L$3:$Q$79,3,FALSE))","v":""},{"$f":"IF(F428=\"\",\"\",VLOOKUP(F428,List_CMS!$L$3:$Q$79,4,FALSE))","v":""},{"$f":"IF(F428=\"\",\"\",VLOOKUP(F428,List_CMS!$L$3:$Q$79,5,FALSE))","v":""},null,null,null,null,null,null,""]
[null,{"$f":"IF(F429=\"\",\"\",VLOOKUP(F429,List_CMS!$L$3:$Q$79,2,FALSE))","v":""},{"$f":"IF(F429=\"\",\"\",VLOOKUP(F429,List_CMS!$L$3:$Q$79,3,FALSE))","v":""},{"$f":"IF(F429=\"\",\"\",VLOOKUP(F429,List_CMS!$L$3:$Q$79,4,FALSE))","v":""},{"$f":"IF(F429=\"\",\"\",VLOOKUP(F429,List_CMS!$L$3:$Q$79,5,FALSE))","v":""},null,null,null,null,null,null,""]
[null,{"$f":"IF(F430=\"\",\"\",VLOOKUP(F430,List_CMS!$L$3:$Q$79,2,FALSE))","v":""},{"$f":"IF(F430=\"\",\"\",VLOOKUP(F430,List_CMS!$L$3:$Q$79,3,FALSE))","v":""},{"$f":"IF(F430=\"\",\"\",VLOOKUP(F430,List_CMS!$L$3:$Q$79,4,FALSE))","v":""},{"$f":"IF(F430=\"\",\"\",VLOOKUP(F430,List_CMS!$L$3:$Q$79,5,FALSE))","v":""},null,null,null,null,null,null,""]
[null,{"$f":"IF(F431=\"\",\"\",VLOOKUP(F431,List_CMS!$L$3:$Q$79,2,FALSE))","v":""},{"$f":"IF(F431=\"\",\"\",VLOOKUP(F431,List_CMS!$L$3:$Q$79,3,FALSE))","v":""},{"$f":"IF(F431=\"\",\"\",VLOOKUP(F431,List_CMS!$L$3:$Q$79,4,FALSE))","v":""},{"$f":"IF(F431=\"\",\"\",VLOOKUP(F431,List_CMS!$L$3:$Q$79,5,FALSE))","v":""},null,null,null,null,null,null,""]
[null,{"$f":"IF(F432=\"\",\"\",VLOOKUP(F432,List_CMS!$L$3:$Q$79,2,FALSE))","v":""},{"$f":"IF(F432=\"\",\"\",VLOOKUP(F432,List_CMS!$L$3:$Q$79,3,FALSE))","v":""},{"$f":"IF(F432=\"\",\"\",VLOOKUP(F432,List_CMS!$L$3:$Q$79,4,FALSE))","v":""},{"$f":"IF(F432=\"\",\"\",VLOOKUP(F432,List_CMS!$L$3:$Q$79,5,FALSE))","v":""},null,null,null,null,null,null,""]
[null,{"$f":"IF(F433=\"\",\"\",VLOOKUP(F433,List_CMS!$L$3:$Q$79,2,FALSE))","v":""},{"$f":"IF(F433=\"\",\"\",VLOOKUP(F433,List_CMS!$L$3:$Q$79,3,FALSE))","v":""},{"$f":"IF(F433=\"\",\"\",VLOOKUP(F433,List_CMS!$L$3:$Q$79,4,FALSE))","v":""},{"$f":"IF(F433=\"\",\"\",VLOOKUP(F433,List_CMS!$L$3:$Q$79,5,FALSE))","v":""},null,null,null,null,null,null,""]
[null,{"$f":"IF(F434=\"\",\"\",VLOOKUP(F434,List_CMS!$L$3:$Q$79,2,FALSE))","v":""},{"$f":"IF(F434=\"\",\"\",VLOOKUP(F434,List_CMS!$L$3:$Q$79,3,FALSE))","v":""},{"$f":"IF(F434=\"\",\"\",VLOOKUP(F434,List_CMS!$L$3:$Q$79,4,FALSE))","v":""},{"$f":"IF(F434=\"\",\"\",VLOOKUP(F434,List_CMS!$L$3:$Q$79,5,FALSE))","v":""},null,null,null,null,null,null,""]
[null,{"$f":"IF(F435=\"\",\"\",VLOOKUP(F435,List_CMS!$L$3:$Q$79,2,FALSE))","v":""},{"$f":"IF(F435=\"\",\"\",VLOOKUP(F435,List_CMS!$L$3:$Q$79,3,FALSE))","v":""},{"$f":"IF(F435=\"\",\"\",VLOOKUP(F435,List_CMS!$L$3:$Q$79,4,FALSE))","v":""},{"$f":"IF(F435=\"\",\"\",VLOOKUP(F435,List_CMS!$L$3:$Q$79,5,FALSE))","v":""},null,null,null,null,null,null,""]
[null,{"$f":"IF(F436=\"\",\"\",VLOOKUP(F436,List_CMS!$L$3:$Q$79,2,FALSE))","v":""},{"$f":"IF(F436=\"\",\"\",VLOOKUP(F436,List_CMS!$L$3:$Q$79,3,FALSE))","v":""},{"$f":"IF(F436=\"\",\"\",VLOOKUP(F436,List_CMS!$L$3:$Q$79,4,FALSE))","v":""},{"$f":"IF(F436=\"\",\"\",VLOOKUP(F436,List_CMS!$L$3:$Q$79,5,FALSE))","v":""},null,null,null,null,null,null,""]
[null,{"$f":"IF(F437=\"\",\"\",VLOOKUP(F437,List_CMS!$L$3:$Q$79,2,FALSE))","v":""},{"$f":"IF(F437=\"\",\"\",VLOOKUP(F437,List_CMS!$L$3:$Q$79,3,FALSE))","v":""},{"$f":"IF(F437=\"\",\"\",VLOOKUP(F437,List_CMS!$L$3:$Q$79,4,FALSE))","v":""},{"$f":"IF(F437=\"\",\"\",VLOOKUP(F437,List_CMS!$L$3:$Q$79,5,FALSE))","v":""},null,null,null,null,null,null,""]
[null,{"$f":"IF(F438=\"\",\"\",VLOOKUP(F438,List_CMS!$L$3:$Q$79,2,FALSE))","v":""},{"$f":"IF(F438=\"\",\"\",VLOOKUP(F438,List_CMS!$L$3:$Q$79,3,FALSE))","v":""},{"$f":"IF(F438=\"\",\"\",VLOOKUP(F438,List_CMS!$L$3:$Q$79,4,FALSE))","v":""},{"$f":"IF(F438=\"\",\"\",VLOOKUP(F438,List_CMS!$L$3:$Q$79,5,FALSE))","v":""},null,null,null,null,null,null,""]
[null,{"$f":"IF(F439=\"\",\"\",VLOOKUP(F439,List_CMS!$L$3:$Q$79,2,FALSE))","v":""},{"$f":"IF(F439=\"\",\"\",VLOOKUP(F439,List_CMS!$L$3:$Q$79,3,FALSE))","v":""},{"$f":"IF(F439=\"\",\"\",VLOOKUP(F439,List_CMS!$L$3:$Q$79,4,FALSE))","v":""},{"$f":"IF(F439=\"\",\"\",VLOOKUP(F439,List_CMS!$L$3:$Q$79,5,FALSE))","v":""},null,null,null,null,null,null,""]
[null,{"$f":"IF(F440=\"\",\"\",VLOOKUP(F440,List_CMS!$L$3:$Q$79,2,FALSE))","v":""},{"$f":"IF(F440=\"\",\"\",VLOOKUP(F440,List_CMS!$L$3:$Q$79,3,FALSE))","v":""},{"$f":"IF(F440=\"\",\"\",VLOOKUP(F440,List_CMS!$L$3:$Q$79,4,FALSE))","v":""},{"$f":"IF(F440=\"\",\"\",VLOOKUP(F440,List_CMS!$L$3:$Q$79,5,FALSE))","v":""},null,null,null,null,null,null,""]
[null,{"$f":"IF(F441=\"\",\"\",VLOOKUP(F441,List_CMS!$L$3:$Q$79,2,FALSE))","v":""},{"$f":"IF(F441=\"\",\"\",VLOOKUP(F441,List_CMS!$L$3:$Q$79,3,FALSE))","v":""},{"$f":"IF(F441=\"\",\"\",VLOOKUP(F441,List_CMS!$L$3:$Q$79,4,FALSE))","v":""},{"$f":"IF(F441=\"\",\"\",VLOOKUP(F441,List_CMS!$L$3:$Q$79,5,FALSE))","v":""},null,null,null,null,null,null,""]
[null,{"$f":"IF(F442=\"\",\"\",VLOOKUP(F442,List_CMS!$L$3:$Q$79,2,FALSE))","v":""},{"$f":"IF(F442=\"\",\"\",VLOOKUP(F442,List_CMS!$L$3:$Q$79,3,FALSE))","v":""},{"$f":"IF(F442=\"\",\"\",VLOOKUP(F442,List_CMS!$L$3:$Q$79,4,FALSE))","v":""},{"$f":"IF(F442=\"\",\"\",VLOOKUP(F442,List_CMS!$L$3:$Q$79,5,FALSE))","v":""},null,null,null,null,null,null,""]
[null,{"$f":"IF(F443=\"\",\"\",VLOOKUP(F443,List_CMS!$L$3:$Q$79,2,FALSE))","v":""},{"$f":"IF(F443=\"\",\"\",VLOOKUP(F443,List_CMS!$L$3:$Q$79,3,FALSE))","v":""},{"$f":"IF(F443=\"\",\"\",VLOOKUP(F443,List_CMS!$L$3:$Q$79,4,FALSE))","v":""},{"$f":"IF(F443=\"\",\"\",VLOOKUP(F443,List_CMS!$L$3:$Q$79,5,FALSE))","v":""},null,null,null,null,null,null,""]
[null,{"$f":"IF(F444=\"\",\"\",VLOOKUP(F444,List_CMS!$L$3:$Q$79,2,FALSE))","v":""},{"$f":"IF(F444=\"\",\"\",VLOOKUP(F444,List_CMS!$L$3:$Q$79,3,FALSE))","v":""},{"$f":"IF(F444=\"\",\"\",VLOOKUP(F444,List_CMS!$L$3:$Q$79,4,FALSE))","v":""},{"$f":"IF(F444=\"\",\"\",VLOOKUP(F444,List_CMS!$L$3:$Q$79,5,FALSE))","v":""},null,null,null,null,null,null,""]
[null,{"$f":"IF(F445=\"\",\"\",VLOOKUP(F445,List_CMS!$L$3:$Q$79,2,FALSE))","v":""},{"$f":"IF(F445=\"\",\"\",VLOOKUP(F445,List_CMS!$L$3:$Q$79,3,FALSE))","v":""},{"$f":"IF(F445=\"\",\"\",VLOOKUP(F445,List_CMS!$L$3:$Q$79,4,FALSE))","v":""},{"$f":"IF(F445=\"\",\"\",VLOOKUP(F445,List_CMS!$L$3:$Q$79,5,FALSE))","v":""},null,null,null,null,null,null,""]
[null,{"$f":"IF(F446=\"\",\"\",VLOOKUP(F446,List_CMS!$L$3:$Q$79,2,FALSE))","v":""},{"$f":"IF(F446=\"\",\"\",VLOOKUP(F446,List_CMS!$L$3:$Q$79,3,FALSE))","v":""},{"$f":"IF(F446=\"\",\"\",VLOOKUP(F446,List_CMS!$L$3:$Q$79,4,FALSE))","v":""},{"$f":"IF(F446=\"\",\"\",VLOOKUP(F446,List_CMS!$L$3:$Q$79,5,FALSE))","v":""},null,null,null,null,null,null,""]
[null,{"$f":"IF(F447=\"\",\"\",VLOOKUP(F447,List_CMS!$L$3:$Q$79,2,FALSE))","v":""},{"$f":"IF(F447=\"\",\"\",VLOOKUP(F447,List_CMS!$L$3:$Q$79,3,FALSE))","v":""},{"$f":"IF(F447=\"\",\"\",VLOOKUP(F447,List_CMS!$L$3:$Q$79,4,FALSE))","v":""},{"$f":"IF(F447=\"\",\"\",VLOOKUP(F447,List_CMS!$L$3:$Q$79,5,FALSE))","v":""},null,null,null,null,null,null,""]
[null,{"$f":"IF(F448=\"\",\"\",VLOOKUP(F448,List_CMS!$L$3:$Q$79,2,FALSE))","v":""},{"$f":"IF(F448=\"\",\"\",VLOOKUP(F448,List_CMS!$L$3:$Q$79,3,FALSE))","v":""},{"$f":"IF(F448=\"\",\"\",VLOOKUP(F448,List_CMS!$L$3:$Q$79,4,FALSE))","v":""},{"$f":"IF(F448=\"\",\"\",VLOOKUP(F448,List_CMS!$L$3:$Q$79,5,FALSE))","v":""},null,null,null,null,null,null,""]
[null,{"$f":"IF(F449=\"\",\"\",VLOOKUP(F449,List_CMS!$L$3:$Q$79,2,FALSE))","v":""},{"$f":"IF(F449=\"\",\"\",VLOOKUP(F449,List_CMS!$L$3:$Q$79,3,FALSE))","v":""},{"$f":"IF(F449=\"\",\"\",VLOOKUP(F449,List_CMS!$L$3:$Q$79,4,FALSE))","v":""},{"$f":"IF(F449=\"\",\"\",VLOOKUP(F449,List_CMS!$L$3:$Q$79,5,FALSE))","v":""},null,null,null,null,null,null,""]
[null,{"$f":"IF(F450=\"\",\"\",VLOOKUP(F450,List_CMS!$L$3:$Q$79,2,FALSE))","v":""},{"$f":"IF(F450=\"\",\"\",VLOOKUP(F450,List_CMS!$L$3:$Q$79,3,FALSE))","v":""},{"$f":"IF(F450=\"\",\"\",VLOOKUP(F450,List_CMS!$L$3:$Q$79,4,FALSE))","v":""},{"$f":"IF(F450=\"\",\"\",VLOOKUP(F450,List_CMS!$L$3:$Q$79,5,FALSE))","v":""},null,null,null,null,null,null,""]
[null,{"$f":"IF(F451=\"\",\"\",VLOOKUP(F451,List_CMS!$L$3:$Q$79,2,FALSE))","v":""},{"$f":"IF(F451=\"\",\"\",VLOOKUP(F451,List_CMS!$L$3:$Q$79,3,FALSE))","v":""},{"$f":"IF(F451=\"\",\"\",VLOOKUP(F451,List_CMS!$L$3:$Q$79,4,FALSE))","v":""},{"$f":"IF(F451=\"\",\"\",VLOOKUP(F451,List_CMS!$L$3:$Q$79,5,FALSE))","v":""},null,null,null,null,null,null,""]
[null,{"$f":"IF(F452=\"\",\"\",VLOOKUP(F452,List_CMS!$L$3:$Q$79,2,FALSE))","v":""},{"$f":"IF(F452=\"\",\"\",VLOOKUP(F452,List_CMS!$L$3:$Q$79,3,FALSE))","v":""},{"$f":"IF(F452=\"\",\"\",VLOOKUP(F452,List_CMS!$L$3:$Q$79,4,FALSE))","v":""},{"$f":"IF(F452=\"\",\"\",VLOOKUP(F452,List_CMS!$L$3:$Q$79,5,FALSE))","v":""},null,null,null,null,null,null,""]
[null,{"$f":"IF(F453=\"\",\"\",VLOOKUP(F453,List_CMS!$L$3:$Q$79,2,FALSE))","v":""},{"$f":"IF(F453=\"\",\"\",VLOOKUP(F453,List_CMS!$L$3:$Q$79,3,FALSE))","v":""},{"$f":"IF(F453=\"\",\"\",VLOOKUP(F453,List_CMS!$L$3:$Q$79,4,FALSE))","v":""},{"$f":"IF(F453=\"\",\"\",VLOOKUP(F453,List_CMS!$L$3:$Q$79,5,FALSE))","v":""},null,null,null,null,null,null,""]
[null,{"$f":"IF(F454=\"\",\"\",VLOOKUP(F454,List_CMS!$L$3:$Q$79,2,FALSE))","v":""},{"$f":"IF(F454=\"\",\"\",VLOOKUP(F454,List_CMS!$L$3:$Q$79,3,FALSE))","v":""},{"$f":"IF(F454=\"\",\"\",VLOOKUP(F454,List_CMS!$L$3:$Q$79,4,FALSE))","v":""},{"$f":"IF(F454=\"\",\"\",VLOOKUP(F454,List_CMS!$L$3:$Q$79,5,FALSE))","v":""},null,null,null,null,null,null,""]
[null,{"$f":"IF(F455=\"\",\"\",VLOOKUP(F455,List_CMS!$L$3:$Q$79,2,FALSE))","v":""},{"$f":"IF(F455=\"\",\"\",VLOOKUP(F455,List_CMS!$L$3:$Q$79,3,FALSE))","v":""},{"$f":"IF(F455=\"\",\"\",VLOOKUP(F455,List_CMS!$L$3:$Q$79,4,FALSE))","v":""},{"$f":"IF(F455=\"\",\"\",VLOOKUP(F455,List_CMS!$L$3:$Q$79,5,FALSE))","v":""},null,null,null,null,null,null,""]
[null,{"$f":"IF(F456=\"\",\"\",VLOOKUP(F456,List_CMS!$L$3:$Q$79,2,FALSE))","v":""},{"$f":"IF(F456=\"\",\"\",VLOOKUP(F456,List_CMS!$L$3:$Q$79,3,FALSE))","v":""},{"$f":"IF(F456=\"\",\"\",VLOOKUP(F456,List_CMS!$L$3:$Q$79,4,FALSE))","v":""},{"$f":"IF(F456=\"\",\"\",VLOOKUP(F456,List_CMS!$L$3:$Q$79,5,FALSE))","v":""},null,null,null,null,null,null,""]
[null,{"$f":"IF(F457=\"\",\"\",VLOOKUP(F457,List_CMS!$L$3:$Q$79,2,FALSE))","v":""},{"$f":"IF(F457=\"\",\"\",VLOOKUP(F457,List_CMS!$L$3:$Q$79,3,FALSE))","v":""},{"$f":"IF(F457=\"\",\"\",VLOOKUP(F457,List_CMS!$L$3:$Q$79,4,FALSE))","v":""},{"$f":"IF(F457=\"\",\"\",VLOOKUP(F457,List_CMS!$L$3:$Q$79,5,FALSE))","v":""},null,null,null,null,null,null,""]
[null,{"$f":"IF(F458=\"\",\"\",VLOOKUP(F458,List_CMS!$L$3:$Q$79,2,FALSE))","v":""},{"$f":"IF(F458=\"\",\"\",VLOOKUP(F458,List_CMS!$L$3:$Q$79,3,FALSE))","v":""},{"$f":"IF(F458=\"\",\"\",VLOOKUP(F458,List_CMS!$L$3:$Q$79,4,FALSE))","v":""},{"$f":"IF(F458=\"\",\"\",VLOOKUP(F458,List_CMS!$L$3:$Q$79,5,FALSE))","v":""},null,null,null,null,null,null,""]
[null,{"$f":"IF(F459=\"\",\"\",VLOOKUP(F459,List_CMS!$L$3:$Q$79,2,FALSE))","v":""},{"$f":"IF(F459=\"\",\"\",VLOOKUP(F459,List_CMS!$L$3:$Q$79,3,FALSE))","v":""},{"$f":"IF(F459=\"\",\"\",VLOOKUP(F459,List_CMS!$L$3:$Q$79,4,FALSE))","v":""},{"$f":"IF(F459=\"\",\"\",VLOOKUP(F459,List_CMS!$L$3:$Q$79,5,FALSE))","v":""},null,null,null,null,null,null,""]
[null,{"$f":"IF(F460=\"\",\"\",VLOOKUP(F460,List_CMS!$L$3:$Q$79,2,FALSE))","v":""},{"$f":"IF(F460=\"\",\"\",VLOOKUP(F460,List_CMS!$L$3:$Q$79,3,FALSE))","v":""},{"$f":"IF(F460=\"\",\"\",VLOOKUP(F460,List_CMS!$L$3:$Q$79,4,FALSE))","v":""},{"$f":"IF(F460=\"\",\"\",VLOOKUP(F460,List_CMS!$L$3:$Q$79,5,FALSE))","v":""},null,null,null,null,null,null,""]
[null,{"$f":"IF(F461=\"\",\"\",VLOOKUP(F461,List_CMS!$L$3:$Q$79,2,FALSE))","v":""},{"$f":"IF(F461=\"\",\"\",VLOOKUP(F461,List_CMS!$L$3:$Q$79,3,FALSE))","v":""},{"$f":"IF(F461=\"\",\"\",VLOOKUP(F461,List_CMS!$L$3:$Q$79,4,FALSE))","v":""},{"$f":"IF(F461=\"\",\"\",VLOOKUP(F461,List_CMS!$L$3:$Q$79,5,FALSE))","v":""},null,null,null,null,null,null,""]
[null,{"$f":"IF(F462=\"\",\"\",VLOOKUP(F462,List_CMS!$L$3:$Q$79,2,FALSE))","v":""},{"$f":"IF(F462=\"\",\"\",VLOOKUP(F462,List_CMS!$L$3:$Q$79,3,FALSE))","v":""},{"$f":"IF(F462=\"\",\"\",VLOOKUP(F462,List_CMS!$L$3:$Q$79,4,FALSE))","v":""},{"$f":"IF(F462=\"\",\"\",VLOOKUP(F462,List_CMS!$L$3:$Q$79,5,FALSE))","v":""},null,null,null,null,null,null,""]
[null,{"$f":"IF(F463=\"\",\"\",VLOOKUP(F463,List_CMS!$L$3:$Q$79,2,FALSE))","v":""},{"$f":"IF(F463=\"\",\"\",VLOOKUP(F463,List_CMS!$L$3:$Q$79,3,FALSE))","v":""},{"$f":"IF(F463=\"\",\"\",VLOOKUP(F463,List_CMS!$L$3:$Q$79,4,FALSE))","v":""},{"$f":"IF(F463=\"\",\"\",VLOOKUP(F463,List_CMS!$L$3:$Q$79,5,FALSE))","v":""},null,null,null,null,null,null,""]
[null,{"$f":"IF(F464=\"\",\"\",VLOOKUP(F464,List_CMS!$L$3:$Q$79,2,FALSE))","v":""},{"$f":"IF(F464=\"\",\"\",VLOOKUP(F464,List_CMS!$L$3:$Q$79,3,FALSE))","v":""},{"$f":"IF(F464=\"\",\"\",VLOOKUP(F464,List_CMS!$L$3:$Q$79,4,FALSE))","v":""},{"$f":"IF(F464=\"\",\"\",VLOOKUP(F464,List_CMS!$L$3:$Q$79,5,FALSE))","v":""},null,null,null,null,null,null,""]
[null,{"$f":"IF(F465=\"\",\"\",VLOOKUP(F465,List_CMS!$L$3:$Q$79,2,FALSE))","v":""},{"$f":"IF(F465=\"\",\"\",VLOOKUP(F465,List_CMS!$L$3:$Q$79,3,FALSE))","v":""},{"$f":"IF(F465=\"\",\"\",VLOOKUP(F465,List_CMS!$L$3:$Q$79,4,FALSE))","v":""},{"$f":"IF(F465=\"\",\"\",VLOOKUP(F465,List_CMS!$L$3:$Q$79,5,FALSE))","v":""},null,null,null,null,null,null,""]
[null,{"$f":"IF(F466=\"\",\"\",VLOOKUP(F466,List_CMS!$L$3:$Q$79,2,FALSE))","v":""},{"$f":"IF(F466=\"\",\"\",VLOOKUP(F466,List_CMS!$L$3:$Q$79,3,FALSE))","v":""},{"$f":"IF(F466=\"\",\"\",VLOOKUP(F466,List_CMS!$L$3:$Q$79,4,FALSE))","v":""},{"$f":"IF(F466=\"\",\"\",VLOOKUP(F466,List_CMS!$L$3:$Q$79,5,FALSE))","v":""},null,null,null,null,null,null,""]
[null,{"$f":"IF(F467=\"\",\"\",VLOOKUP(F467,List_CMS!$L$3:$Q$79,2,FALSE))","v":""},{"$f":"IF(F467=\"\",\"\",VLOOKUP(F467,List_CMS!$L$3:$Q$79,3,FALSE))","v":""},{"$f":"IF(F467=\"\",\"\",VLOOKUP(F467,List_CMS!$L$3:$Q$79,4,FALSE))","v":""},{"$f":"IF(F467=\"\",\"\",VLOOKUP(F467,List_CMS!$L$3:$Q$79,5,FALSE))","v":""},null,null,null,null,null,null,""]
[null,{"$f":"IF(F468=\"\",\"\",VLOOKUP(F468,List_CMS!$L$3:$Q$79,2,FALSE))","v":""},{"$f":"IF(F468=\"\",\"\",VLOOKUP(F468,List_CMS!$L$3:$Q$79,3,FALSE))","v":""},{"$f":"IF(F468=\"\",\"\",VLOOKUP(F468,List_CMS!$L$3:$Q$79,4,FALSE))","v":""},{"$f":"IF(F468=\"\",\"\",VLOOKUP(F468,List_CMS!$L$3:$Q$79,5,FALSE))","v":""},null,null,null,null,null,null,""]
[null,{"$f":"IF(F469=\"\",\"\",VLOOKUP(F469,List_CMS!$L$3:$Q$79,2,FALSE))","v":""},{"$f":"IF(F469=\"\",\"\",VLOOKUP(F469,List_CMS!$L$3:$Q$79,3,FALSE))","v":""},{"$f":"IF(F469=\"\",\"\",VLOOKUP(F469,List_CMS!$L$3:$Q$79,4,FALSE))","v":""},{"$f":"IF(F469=\"\",\"\",VLOOKUP(F469,List_CMS!$L$3:$Q$79,5,FALSE))","v":""},null,null,null,null,null,null,""]
[null,{"$f":"IF(F470=\"\",\"\",VLOOKUP(F470,List_CMS!$L$3:$Q$79,2,FALSE))","v":""},{"$f":"IF(F470=\"\",\"\",VLOOKUP(F470,List_CMS!$L$3:$Q$79,3,FALSE))","v":""},{"$f":"IF(F470=\"\",\"\",VLOOKUP(F470,List_CMS!$L$3:$Q$79,4,FALSE))","v":""},{"$f":"IF(F470=\"\",\"\",VLOOKUP(F470,List_CMS!$L$3:$Q$79,5,FALSE))","v":""},null,null,null,null,null,null,""]
[null,{"$f":"IF(F471=\"\",\"\",VLOOKUP(F471,List_CMS!$L$3:$Q$79,2,FALSE))","v":""},{"$f":"IF(F471=\"\",\"\",VLOOKUP(F471,List_CMS!$L$3:$Q$79,3,FALSE))","v":""},{"$f":"IF(F471=\"\",\"\",VLOOKUP(F471,List_CMS!$L$3:$Q$79,4,FALSE))","v":""},{"$f":"IF(F471=\"\",\"\",VLOOKUP(F471,List_CMS!$L$3:$Q$79,5,FALSE))","v":""},null,null,null,null,null,null,""]
[null,{"$f":"IF(F472=\"\",\"\",VLOOKUP(F472,List_CMS!$L$3:$Q$79,2,FALSE))","v":""},{"$f":"IF(F472=\"\",\"\",VLOOKUP(F472,List_CMS!$L$3:$Q$79,3,FALSE))","v":""},{"$f":"IF(F472=\"\",\"\",VLOOKUP(F472,List_CMS!$L$3:$Q$79,4,FALSE))","v":""},{"$f":"IF(F472=\"\",\"\",VLOOKUP(F472,List_CMS!$L$3:$Q$79,5,FALSE))","v":""},null,null,null,null,null,null,""]
[null,{"$f":"IF(F473=\"\",\"\",VLOOKUP(F473,List_CMS!$L$3:$Q$79,2,FALSE))","v":""},{"$f":"IF(F473=\"\",\"\",VLOOKUP(F473,List_CMS!$L$3:$Q$79,3,FALSE))","v":""},{"$f":"IF(F473=\"\",\"\",VLOOKUP(F473,List_CMS!$L$3:$Q$79,4,FALSE))","v":""},{"$f":"IF(F473=\"\",\"\",VLOOKUP(F473,List_CMS!$L$3:$Q$79,5,FALSE))","v":""},null,null,null,null,null,null,{"$f":"IF(K473=\"\",\"\",(VALUE(TEXT(J473,\"m/dd/yy \")&TEXT(K473,\"hh:mm:ss\"))-(VALUE(TEXT(H473,\"m/dd/yy \")&TEXT(I473,\"hh:mm:ss\"))))*24)","v":""}]
[null,{"$f":"IF(F474=\"\",\"\",VLOOKUP(F474,List_CMS!$L$3:$Q$79,2,FALSE))","v":""},{"$f":"IF(F474=\"\",\"\",VLOOKUP(F474,List_CMS!$L$3:$Q$79,3,FALSE))","v":""},{"$f":"IF(F474=\"\",\"\",VLOOKUP(F474,List_CMS!$L$3:$Q$79,4,FALSE))","v":""},{"$f":"IF(F474=\"\",\"\",VLOOKUP(F474,List_CMS!$L$3:$Q$79,5,FALSE))","v":""},null,null,null,null,null,null,""]
[null,{"$f":"IF(F475=\"\",\"\",VLOOKUP(F475,List_CMS!$L$3:$Q$79,2,FALSE))","v":""},{"$f":"IF(F475=\"\",\"\",VLOOKUP(F475,List_CMS!$L$3:$Q$79,3,FALSE))","v":""},{"$f":"IF(F475=\"\",\"\",VLOOKUP(F475,List_CMS!$L$3:$Q$79,4,FALSE))","v":""},{"$f":"IF(F475=\"\",\"\",VLOOKUP(F475,List_CMS!$L$3:$Q$79,5,FALSE))","v":""},null,null,null,null,null,null,""]
[null,{"$f":"IF(F476=\"\",\"\",VLOOKUP(F476,List_CMS!$L$3:$Q$79,2,FALSE))","v":""},{"$f":"IF(F476=\"\",\"\",VLOOKUP(F476,List_CMS!$L$3:$Q$79,3,FALSE))","v":""},{"$f":"IF(F476=\"\",\"\",VLOOKUP(F476,List_CMS!$L$3:$Q$79,4,FALSE))","v":""},{"$f":"IF(F476=\"\",\"\",VLOOKUP(F476,List_CMS!$L$3:$Q$79,5,FALSE))","v":""},null,null,null,null,null,null,""]
[null,{"$f":"IF(F477=\"\",\"\",VLOOKUP(F477,List_CMS!$L$3:$Q$79,2,FALSE))","v":""},{"$f":"IF(F477=\"\",\"\",VLOOKUP(F477,List_CMS!$L$3:$Q$79,3,FALSE))","v":""},{"$f":"IF(F477=\"\",\"\",VLOOKUP(F477,List_CMS!$L$3:$Q$79,4,FALSE))","v":""},{"$f":"IF(F477=\"\",\"\",VLOOKUP(F477,List_CMS!$L$3:$Q$79,5,FALSE))","v":""},null,null,null,null,null,null,""]
[null,{"$f":"IF(F478=\"\",\"\",VLOOKUP(F478,List_CMS!$L$3:$Q$79,2,FALSE))","v":""},{"$f":"IF(F478=\"\",\"\",VLOOKUP(F478,List_CMS!$L$3:$Q$79,3,FALSE))","v":""},{"$f":"IF(F478=\"\",\"\",VLOOKUP(F478,List_CMS!$L$3:$Q$79,4,FALSE))","v":""},{"$f":"IF(F478=\"\",\"\",VLOOKUP(F478,List_CMS!$L$3:$Q$79,5,FALSE))","v":""},null,null,null,null,null,null,""]
[null,{"$f":"IF(F479=\"\",\"\",VLOOKUP(F479,List_CMS!$L$3:$Q$79,2,FALSE))","v":""},{"$f":"IF(F479=\"\",\"\",VLOOKUP(F479,List_CMS!$L$3:$Q$79,3,FALSE))","v":""},{"$f":"IF(F479=\"\",\"\",VLOOKUP(F479,List_CMS!$L$3:$Q$79,4,FALSE))","v":""},{"$f":"IF(F479=\"\",\"\",VLOOKUP(F479,List_CMS!$L$3:$Q$79,5,FALSE))","v":""},null,null,null,null,null,null,""]
[null,{"$f":"IF(F480=\"\",\"\",VLOOKUP(F480,List_CMS!$L$3:$Q$79,2,FALSE))","v":""},{"$f":"IF(F480=\"\",\"\",VLOOKUP(F480,List_CMS!$L$3:$Q$79,3,FALSE))","v":""},{"$f":"IF(F480=\"\",\"\",VLOOKUP(F480,List_CMS!$L$3:$Q$79,4,FALSE))","v":""},{"$f":"IF(F480=\"\",\"\",VLOOKUP(F480,List_CMS!$L$3:$Q$79,5,FALSE))","v":""},null,null,null,null,null,null,""]
[null,{"$f":"IF(F481=\"\",\"\",VLOOKUP(F481,List_CMS!$L$3:$Q$79,2,FALSE))","v":""},{"$f":"IF(F481=\"\",\"\",VLOOKUP(F481,List_CMS!$L$3:$Q$79,3,FALSE))","v":""},{"$f":"IF(F481=\"\",\"\",VLOOKUP(F481,List_CMS!$L$3:$Q$79,4,FALSE))","v":""},{"$f":"IF(F481=\"\",\"\",VLOOKUP(F481,List_CMS!$L$3:$Q$79,5,FALSE))","v":""},null,null,null,null,null,null,""]
[null,{"$f":"IF(F482=\"\",\"\",VLOOKUP(F482,List_CMS!$L$3:$Q$79,2,FALSE))","v":""},{"$f":"IF(F482=\"\",\"\",VLOOKUP(F482,List_CMS!$L$3:$Q$79,3,FALSE))","v":""},{"$f":"IF(F482=\"\",\"\",VLOOKUP(F482,List_CMS!$L$3:$Q$79,4,FALSE))","v":""},{"$f":"IF(F482=\"\",\"\",VLOOKUP(F482,List_CMS!$L$3:$Q$79,5,FALSE))","v":""},null,null,null,null,null,null,""]
[null,{"$f":"IF(F483=\"\",\"\",VLOOKUP(F483,List_CMS!$L$3:$Q$79,2,FALSE))","v":""},{"$f":"IF(F483=\"\",\"\",VLOOKUP(F483,List_CMS!$L$3:$Q$79,3,FALSE))","v":""},{"$f":"IF(F483=\"\",\"\",VLOOKUP(F483,List_CMS!$L$3:$Q$79,4,FALSE))","v":""},{"$f":"IF(F483=\"\",\"\",VLOOKUP(F483,List_CMS!$L$3:$Q$79,5,FALSE))","v":""},null,null,null,null,null,null,""]
[null,{"$f":"IF(F484=\"\",\"\",VLOOKUP(F484,List_CMS!$L$3:$Q$79,2,FALSE))","v":""},{"$f":"IF(F484=\"\",\"\",VLOOKUP(F484,List_CMS!$L$3:$Q$79,3,FALSE))","v":""},{"$f":"IF(F484=\"\",\"\",VLOOKUP(F484,List_CMS!$L$3:$Q$79,4,FALSE))","v":""},{"$f":"IF(F484=\"\",\"\",VLOOKUP(F484,List_CMS!$L$3:$Q$79,5,FALSE))","v":""},null,null,null,null,null,null,""]
[null,{"$f":"IF(F485=\"\",\"\",VLOOKUP(F485,List_CMS!$L$3:$Q$79,2,FALSE))","v":""},{"$f":"IF(F485=\"\",\"\",VLOOKUP(F485,List_CMS!$L$3:$Q$79,3,FALSE))","v":""},{"$f":"IF(F485=\"\",\"\",VLOOKUP(F485,List_CMS!$L$3:$Q$79,4,FALSE))","v":""},{"$f":"IF(F485=\"\",\"\",VLOOKUP(F485,List_CMS!$L$3:$Q$79,5,FALSE))","v":""},null,null,null,null,null,null,""]
[null,{"$f":"IF(F486=\"\",\"\",VLOOKUP(F486,List_CMS!$L$3:$Q$79,2,FALSE))","v":""},{"$f":"IF(F486=\"\",\"\",VLOOKUP(F486,List_CMS!$L$3:$Q$79,3,FALSE))","v":""},{"$f":"IF(F486=\"\",\"\",VLOOKUP(F486,List_CMS!$L$3:$Q$79,4,FALSE))","v":""},{"$f":"IF(F486=\"\",\"\",VLOOKUP(F486,List_CMS!$L$3:$Q$79,5,FALSE))","v":""},null,null,null,null,null,null,""]
[null,{"$f":"IF(F487=\"\",\"\",VLOOKUP(F487,List_CMS!$L$3:$Q$79,2,FALSE))","v":""},{"$f":"IF(F487=\"\",\"\",VLOOKUP(F487,List_CMS!$L$3:$Q$79,3,FALSE))","v":""},{"$f":"IF(F487=\"\",\"\",VLOOKUP(F487,List_CMS!$L$3:$Q$79,4,FALSE))","v":""},{"$f":"IF(F487=\"\",\"\",VLOOKUP(F487,List_CMS!$L$3:$Q$79,5,FALSE))","v":""},null,null,null,null,null,null,""]
[null,{"$f":"IF(F488=\"\",\"\",VLOOKUP(F488,List_CMS!$L$3:$Q$79,2,FALSE))","v":""},{"$f":"IF(F488=\"\",\"\",VLOOKUP(F488,List_CMS!$L$3:$Q$79,3,FALSE))","v":""},{"$f":"IF(F488=\"\",\"\",VLOOKUP(F488,List_CMS!$L$3:$Q$79,4,FALSE))","v":""},{"$f":"IF(F488=\"\",\"\",VLOOKUP(F488,List_CMS!$L$3:$Q$79,5,FALSE))","v":""},null,null,null,null,null,null,""]
[null,{"$f":"IF(F489=\"\",\"\",VLOOKUP(F489,List_CMS!$L$3:$Q$79,2,FALSE))","v":""},{"$f":"IF(F489=\"\",\"\",VLOOKUP(F489,List_CMS!$L$3:$Q$79,3,FALSE))","v":""},{"$f":"IF(F489=\"\",\"\",VLOOKUP(F489,List_CMS!$L$3:$Q$79,4,FALSE))","v":""},{"$f":"IF(F489=\"\",\"\",VLOOKUP(F489,List_CMS!$L$3:$Q$79,5,FALSE))","v":""},null,null,null,null,null,null,""]
[null,{"$f":"IF(F490=\"\",\"\",VLOOKUP(F490,List_CMS!$L$3:$Q$79,2,FALSE))","v":""},{"$f":"IF(F490=\"\",\"\",VLOOKUP(F490,List_CMS!$L$3:$Q$79,3,FALSE))","v":""},{"$f":"IF(F490=\"\",\"\",VLOOKUP(F490,List_CMS!$L$3:$Q$79,4,FALSE))","v":""},{"$f":"IF(F490=\"\",\"\",VLOOKUP(F490,List_CMS!$L$3:$Q$79,5,FALSE))","v":""},null,null,null,null,null,null,""]
[null,{"$f":"IF(F491=\"\",\"\",VLOOKUP(F491,List_CMS!$L$3:$Q$79,2,FALSE))","v":""},{"$f":"IF(F491=\"\",\"\",VLOOKUP(F491,List_CMS!$L$3:$Q$79,3,FALSE))","v":""},{"$f":"IF(F491=\"\",\"\",VLOOKUP(F491,List_CMS!$L$3:$Q$79,4,FALSE))","v":""},{"$f":"IF(F491=\"\",\"\",VLOOKUP(F491,List_CMS!$L$3:$Q$79,5,FALSE))","v":""},null,null,null,null,null,null,""]
[null,{"$f":"IF(F492=\"\",\"\",VLOOKUP(F492,List_CMS!$L$3:$Q$79,2,FALSE))","v":""},{"$f":"IF(F492=\"\",\"\",VLOOKUP(F492,List_CMS!$L$3:$Q$79,3,FALSE))","v":""},{"$f":"IF(F492=\"\",\"\",VLOOKUP(F492,List_CMS!$L$3:$Q$79,4,FALSE))","v":""},{"$f":"IF(F492=\"\",\"\",VLOOKUP(F492,List_CMS!$L$3:$Q$79,5,FALSE))","v":""},null,null,null,null,null,null,""]
[null,{"$f":"IF(F493=\"\",\"\",VLOOKUP(F493,List_CMS!$L$3:$Q$79,2,FALSE))","v":""},{"$f":"IF(F493=\"\",\"\",VLOOKUP(F493,List_CMS!$L$3:$Q$79,3,FALSE))","v":""},{"$f":"IF(F493=\"\",\"\",VLOOKUP(F493,List_CMS!$L$3:$Q$79,4,FALSE))","v":""},{"$f":"IF(F493=\"\",\"\",VLOOKUP(F493,List_CMS!$L$3:$Q$79,5,FALSE))","v":""},null,null,null,null,null,null,""]
[null,{"$f":"IF(F494=\"\",\"\",VLOOKUP(F494,List_CMS!$L$3:$Q$79,2,FALSE))","v":""},{"$f":"IF(F494=\"\",\"\",VLOOKUP(F494,List_CMS!$L$3:$Q$79,3,FALSE))","v":""},{"$f":"IF(F494=\"\",\"\",VLOOKUP(F494,List_CMS!$L$3:$Q$79,4,FALSE))","v":""},{"$f":"IF(F494=\"\",\"\",VLOOKUP(F494,List_CMS!$L$3:$Q$79,5,FALSE))","v":""},null,null,null,null,null,null,""]
[null,{"$f":"IF(F495=\"\",\"\",VLOOKUP(F495,List_CMS!$L$3:$Q$79,2,FALSE))","v":""},{"$f":"IF(F495=\"\",\"\",VLOOKUP(F495,List_CMS!$L$3:$Q$79,3,FALSE))","v":""},{"$f":"IF(F495=\"\",\"\",VLOOKUP(F495,List_CMS!$L$3:$Q$79,4,FALSE))","v":""},{"$f":"IF(F495=\"\",\"\",VLOOKUP(F495,List_CMS!$L$3:$Q$79,5,FALSE))","v":""},null,null,null,null,null,null,""]
[null,{"$f":"IF(F496=\"\",\"\",VLOOKUP(F496,List_CMS!$L$3:$Q$79,2,FALSE))","v":""},{"$f":"IF(F496=\"\",\"\",VLOOKUP(F496,List_CMS!$L$3:$Q$79,3,FALSE))","v":""},{"$f":"IF(F496=\"\",\"\",VLOOKUP(F496,List_CMS!$L$3:$Q$79,4,FALSE))","v":""},{"$f":"IF(F496=\"\",\"\",VLOOKUP(F496,List_CMS!$L$3:$Q$79,5,FALSE))","v":""},null,null,null,null,null,null,""]
[null,{"$f":"IF(F497=\"\",\"\",VLOOKUP(F497,List_CMS!$L$3:$Q$79,2,FALSE))","v":""},{"$f":"IF(F497=\"\",\"\",VLOOKUP(F497,List_CMS!$L$3:$Q$79,3,FALSE))","v":""},{"$f":"IF(F497=\"\",\"\",VLOOKUP(F497,List_CMS!$L$3:$Q$79,4,FALSE))","v":""},{"$f":"IF(F497=\"\",\"\",VLOOKUP(F497,List_CMS!$L$3:$Q$79,5,FALSE))","v":""},null,null,null,null,null,null,""]
[null,{"$f":"IF(F498=\"\",\"\",VLOOKUP(F498,List_CMS!$L$3:$Q$79,2,FALSE))","v":""},{"$f":"IF(F498=\"\",\"\",VLOOKUP(F498,List_CMS!$L$3:$Q$79,3,FALSE))","v":""},{"$f":"IF(F498=\"\",\"\",VLOOKUP(F498,List_CMS!$L$3:$Q$79,4,FALSE))","v":""},{"$f":"IF(F498=\"\",\"\",VLOOKUP(F498,List_CMS!$L$3:$Q$79,5,FALSE))","v":""},null,null,null,null,null,null,""]
[null,{"$f":"IF(F499=\"\",\"\",VLOOKUP(F499,List_CMS!$L$3:$Q$79,2,FALSE))","v":""},{"$f":"IF(F499=\"\",\"\",VLOOKUP(F499,List_CMS!$L$3:$Q$79,3,FALSE))","v":""},{"$f":"IF(F499=\"\",\"\",VLOOKUP(F499,List_CMS!$L$3:$Q$79,4,FALSE))","v":""},{"$f":"IF(F499=\"\",\"\",VLOOKUP(F499,List_CMS!$L$3:$Q$79,5,FALSE))","v":""},null,null,null,null,null,null,""]
[null,{"$f":"IF(F500=\"\",\"\",VLOOKUP(F500,List_CMS!$L$3:$Q$79,2,FALSE))","v":""},{"$f":"IF(F500=\"\",\"\",VLOOKUP(F500,List_CMS!$L$3:$Q$79,3,FALSE))","v":""},{"$f":"IF(F500=\"\",\"\",VLOOKUP(F500,List_CMS!$L$3:$Q$79,4,FALSE))","v":""},{"$f":"IF(F500=\"\",\"\",VLOOKUP(F500,List_CMS!$L$3:$Q$79,5,FALSE))","v":""},null,null,null,null,null,null,""]

{"sheet":"CMS_Downtime_Data","index":9,"n_rows":501,"n_cols":14,"rows_kept":501,"cut":false,"hidden":true,"merged":[]}
["InOp or Down Summary"]
["Record_Count","CMS_Long Description","Company ID","Control_ID","CMS_Type","CMS_Description","Concat","Remove_Dups_CMS","CMS_List","Company ID","Control_ID","CMS_Type","CMS_Description","Control device Op Time"]
[{"$f":"+IF(H3=\"\",\"\",MAX(A$1:A2)+1)","v":""},{"$f":"IF(CMS_Downtime!F24=\"\",\"\",CMS_Downtime!F24)","v":""},{"$f":"IF(CMS_Downtime!$F24=\"\",\"\",CMS_Downtime!B24)","v":""},{"$f":"IF(CMS_Downtime!$F24=\"\",\"\",CMS_Downtime!C24)","v":""},{"$f":"IF(CMS_Downtime!$F24=\"\",\"\",CMS_Downtime!D24)","v":""},{"$f":"IF(CMS_Downtime!$F24=\"\",\"\",CMS_Downtime!E24)","v":""},{"$f":"IF(B3=\"\",\"\",C3&\" - \"&D3&\" - \"&F3)","v":""},{"$f":"IF(COUNTIF(G$2:G3,G3)=1,G3,\"\")","v":""},{"$f":"+IFERROR(INDEX($H$2:$H$499,MATCH(ROW()-ROW($I$2),$A$2:$A$499,0)),\"\")","v":""},{"$f":"+IFERROR(INDEX(C$2:C$499,MATCH(ROW()-ROW($I$2),$A$2:$A$499,0)),\"\")","v":""},{"$f":"+IFERROR(INDEX(D$2:D$499,MATCH(ROW()-ROW($I$2),$A$2:$A$499,0)),\"\")","v":""},"","",{"$f":"IF(I3=\"\",\"\",VLOOKUP(I3,List_CMS!$L$3:$Q$79,6,FALSE))","v":""}]
[{"$f":"+IF(H4=\"\",\"\",MAX(A$1:A3)+1)","v":""},{"$f":"IF(CMS_Downtime!F25=\"\",\"\",CMS_Downtime!F25)","v":""},{"$f":"IF(CMS_Downtime!$F25=\"\",\"\",CMS_Downtime!B25)","v":""},{"$f":"IF(CMS_Downtime!$F25=\"\",\"\",CMS_Downtime!C25)","v":""},{"$f":"IF(CMS_Downtime!$F25=\"\",\"\",CMS_Downtime!D25)","v":""},{"$f":"IF(CMS_Downtime!$F25=\"\",\"\",CMS_Downtime!E25)","v":""},{"$f":"IF(B4=\"\",\"\",C4&\" - \"&D4&\" - \"&F4)","v":""},{"$f":"IF(COUNTIF(G$2:G4,G4)=1,G4,\"\")","v":""},"",{"$f":"+IFERROR(INDEX(C$2:C$499,MATCH(ROW()-ROW($I$2),$A$2:$A$499,0)),\"\")","v":""},{"$f":"+IFERROR(INDEX(D$2:D$499,MATCH(ROW()-ROW($I$2),$A$2:$A$499,0)),\"\")","v":""},{"$f":"+IFERROR(INDEX(E$2:E$499,MATCH(ROW()-ROW($I$2),$A$2:$A$499,0)),\"\")","v":""},{"$f":"+IFERROR(INDEX(F$2:F$499,MATCH(ROW()-ROW($I$2),$A$2:$A$499,0)),\"\")","v":""},{"$f":"IF(I4=\"\",\"\",VLOOKUP(I4,List_CMS!$L$3:$Q$79,6,FALSE))","v":""}]
[{"$f":"+IF(H5=\"\",\"\",MAX(A$1:A4)+1)","v":""},{"$f":"IF(CMS_Downtime!F26=\"\",\"\",CMS_Downtime!F26)","v":""},{"$f":"IF(CMS_Downtime!$F26=\"\",\"\",CMS_Downtime!B26)","v":""},{"$f":"IF(CMS_Downtime!$F26=\"\",\"\",CMS_Downtime!C26)","v":""},{"$f":"IF(CMS_Downtime!$F26=\"\",\"\",CMS_Downtime!D26)","v":""},{"$f":"IF(CMS_Downtime!$F26=\"\",\"\",CMS_Downtime!E26)","v":""},"",{"$f":"IF(COUNTIF(G$2:G5,G5)=1,G5,\"\")","v":""},"","","","","",{"$f":"IF(I5=\"\",\"\",VLOOKUP(I5,List_CMS!$L$3:$Q$79,6,FALSE))","v":""}]
[{"$f":"+IF(H6=\"\",\"\",MAX(A$1:A5)+1)","v":""},{"$f":"IF(CMS_Downtime!F27=\"\",\"\",CMS_Downtime!F27)","v":""},{"$f":"IF(CMS_Downtime!$F27=\"\",\"\",CMS_Downtime!B27)","v":""},{"$f":"IF(CMS_Downtime!$F27=\"\",\"\",CMS_Downtime!C27)","v":""},{"$f":"IF(CMS_Downtime!$F27=\"\",\"\",CMS_Downtime!D27)","v":""},{"$f":"IF(CMS_Downtime!$F27=\"\",\"\",CMS_Downtime!E27)","v":""},"",{"$f":"IF(COUNTIF(G$2:G6,G6)=1,G6,\"\")","v":""},"","","","","",{"$f":"IF(I6=\"\",\"\",VLOOKUP(I6,List_CMS!$L$3:$Q$79,6,FALSE))","v":""}]
[{"$f":"+IF(H7=\"\",\"\",MAX(A$1:A6)+1)","v":""},{"$f":"IF(CMS_Downtime!F28=\"\",\"\",CMS_Downtime!F28)","v":""},{"$f":"IF(CMS_Downtime!$F28=\"\",\"\",CMS_Downtime!B28)","v":""},{"$f":"IF(CMS_Downtime!$F28=\"\",\"\",CMS_Downtime!C28)","v":""},{"$f":"IF(CMS_Downtime!$F28=\"\",\"\",CMS_Downtime!D28)","v":""},{"$f":"IF(CMS_Downtime!$F28=\"\",\"\",CMS_Downtime!E28)","v":""},"",{"$f":"IF(COUNTIF(G$2:G7,G7)=1,G7,\"\")","v":""},"","","","","",{"$f":"IF(I7=\"\",\"\",VLOOKUP(I7,List_CMS!$L$3:$Q$79,6,FALSE))","v":""}]
[{"$f":"+IF(H8=\"\",\"\",MAX(A$1:A7)+1)","v":""},{"$f":"IF(CMS_Downtime!F29=\"\",\"\",CMS_Downtime!F29)","v":""},{"$f":"IF(CMS_Downtime!$F29=\"\",\"\",CMS_Downtime!B29)","v":""},{"$f":"IF(CMS_Downtime!$F29=\"\",\"\",CMS_Downtime!C29)","v":""},{"$f":"IF(CMS_Downtime!$F29=\"\",\"\",CMS_Downtime!D29)","v":""},{"$f":"IF(CMS_Downtime!$F29=\"\",\"\",CMS_Downtime!E29)","v":""},"",{"$f":"IF(COUNTIF(G$2:G8,G8)=1,G8,\"\")","v":""},"","","","","",{"$f":"IF(I8=\"\",\"\",VLOOKUP(I8,List_CMS!$L$3:$Q$79,6,FALSE))","v":""}]
[{"$f":"+IF(H9=\"\",\"\",MAX(A$1:A8)+1)","v":""},{"$f":"IF(CMS_Downtime!F30=\"\",\"\",CMS_Downtime!F30)","v":""},{"$f":"IF(CMS_Downtime!$F30=\"\",\"\",CMS_Downtime!B30)","v":""},{"$f":"IF(CMS_Downtime!$F30=\"\",\"\",CMS_Downtime!C30)","v":""},{"$f":"IF(CMS_Downtime!$F30=\"\",\"\",CMS_Downtime!D30)","v":""},{"$f":"IF(CMS_Downtime!$F30=\"\",\"\",CMS_Downtime!E30)","v":""},"",{"$f":"IF(COUNTIF(G$2:G9,G9)=1,G9,\"\")","v":""},"","","","","",{"$f":"IF(I9=\"\",\"\",VLOOKUP(I9,List_CMS!$L$3:$Q$79,6,FALSE))","v":""}]
[{"$f":"+IF(H10=\"\",\"\",MAX(A$1:A9)+1)","v":""},{"$f":"IF(CMS_Downtime!F31=\"\",\"\",CMS_Downtime!F31)","v":""},{"$f":"IF(CMS_Downtime!$F31=\"\",\"\",CMS_Downtime!B31)","v":""},{"$f":"IF(CMS_Downtime!$F31=\"\",\"\",CMS_Downtime!C31)","v":""},{"$f":"IF(CMS_Downtime!$F31=\"\",\"\",CMS_Downtime!D31)","v":""},{"$f":"IF(CMS_Downtime!$F31=\"\",\"\",CMS_Downtime!E31)","v":""},"",{"$f":"IF(COUNTIF(G$2:G10,G10)=1,G10,\"\")","v":""},"","","","","",{"$f":"IF(I10=\"\",\"\",VLOOKUP(I10,List_CMS!$L$3:$Q$79,6,FALSE))","v":""}]
[{"$f":"+IF(H11=\"\",\"\",MAX(A$1:A10)+1)","v":""},{"$f":"IF(CMS_Downtime!F32=\"\",\"\",CMS_Downtime!F32)","v":""},{"$f":"IF(CMS_Downtime!$F32=\"\",\"\",CMS_Downtime!B32)","v":""},{"$f":"IF(CMS_Downtime!$F32=\"\",\"\",CMS_Downtime!C32)","v":""},{"$f":"IF(CMS_Downtime!$F32=\"\",\"\",CMS_Downtime!D32)","v":""},{"$f":"IF(CMS_Downtime!$F32=\"\",\"\",CMS_Downtime!E32)","v":""},"",{"$f":"IF(COUNTIF(G$2:G11,G11)=1,G11,\"\")","v":""},"","","","","",{"$f":"IF(I11=\"\",\"\",VLOOKUP(I11,List_CMS!$L$3:$Q$79,6,FALSE))","v":""}]
[{"$f":"+IF(H12=\"\",\"\",MAX(A$1:A11)+1)","v":""},{"$f":"IF(CMS_Downtime!F33=\"\",\"\",CMS_Downtime!F33)","v":""},{"$f":"IF(CMS_Downtime!$F33=\"\",\"\",CMS_Downtime!B33)","v":""},{"$f":"IF(CMS_Downtime!$F33=\"\",\"\",CMS_Downtime!C33)","v":""},{"$f":"IF(CMS_Downtime!$F33=\"\",\"\",CMS_Downtime!D33)","v":""},{"$f":"IF(CMS_Downtime!$F33=\"\",\"\",CMS_Downtime!E33)","v":""},"",{"$f":"IF(COUNTIF(G$2:G12,G12)=1,G12,\"\")","v":""},"","","","","",{"$f":"IF(I12=\"\",\"\",VLOOKUP(I12,List_CMS!$L$3:$Q$79,6,FALSE))","v":""}]
[{"$f":"+IF(H13=\"\",\"\",MAX(A$1:A12)+1)","v":""},{"$f":"IF(CMS_Downtime!F34=\"\",\"\",CMS_Downtime!F34)","v":""},{"$f":"IF(CMS_Downtime!$F34=\"\",\"\",CMS_Downtime!B34)","v":""},{"$f":"IF(CMS_Downtime!$F34=\"\",\"\",CMS_Downtime!C34)","v":""},{"$f":"IF(CMS_Downtime!$F34=\"\",\"\",CMS_Downtime!D34)","v":""},{"$f":"IF(CMS_Downtime!$F34=\"\",\"\",CMS_Downtime!E34)","v":""},"",{"$f":"IF(COUNTIF(G$2:G13,G13)=1,G13,\"\")","v":""},"","","","","",{"$f":"IF(I13=\"\",\"\",VLOOKUP(I13,List_CMS!$L$3:$Q$79,6,FALSE))","v":""}]
[{"$f":"+IF(H14=\"\",\"\",MAX(A$1:A13)+1)","v":""},{"$f":"IF(CMS_Downtime!F35=\"\",\"\",CMS_Downtime!F35)","v":""},{"$f":"IF(CMS_Downtime!$F35=\"\",\"\",CMS_Downtime!B35)","v":""},{"$f":"IF(CMS_Downtime!$F35=\"\",\"\",CMS_Downtime!C35)","v":""},{"$f":"IF(CMS_Downtime!$F35=\"\",\"\",CMS_Downtime!D35)","v":""},{"$f":"IF(CMS_Downtime!$F35=\"\",\"\",CMS_Downtime!E35)","v":""},"",{"$f":"IF(COUNTIF(G$2:G14,G14)=1,G14,\"\")","v":""},"","","","","",{"$f":"IF(I14=\"\",\"\",VLOOKUP(I14,List_CMS!$L$3:$Q$79,6,FALSE))","v":""}]
[{"$f":"+IF(H15=\"\",\"\",MAX(A$1:A14)+1)","v":""},{"$f":"IF(CMS_Downtime!F36=\"\",\"\",CMS_Downtime!F36)","v":""},{"$f":"IF(CMS_Downtime!$F36=\"\",\"\",CMS_Downtime!B36)","v":""},{"$f":"IF(CMS_Downtime!$F36=\"\",\"\",CMS_Downtime!C36)","v":""},{"$f":"IF(CMS_Downtime!$F36=\"\",\"\",CMS_Downtime!D36)","v":""},{"$f":"IF(CMS_Downtime!$F36=\"\",\"\",CMS_Downtime!E36)","v":""},"",{"$f":"IF(COUNTIF(G$2:G15,G15)=1,G15,\"\")","v":""},"","","","","",{"$f":"IF(I15=\"\",\"\",VLOOKUP(I15,List_CMS!$L$3:$Q$79,6,FALSE))","v":""}]
[{"$f":"+IF(H16=\"\",\"\",MAX(A$1:A15)+1)","v":""},{"$f":"IF(CMS_Downtime!F37=\"\",\"\",CMS_Downtime!F37)","v":""},{"$f":"IF(CMS_Downtime!$F37=\"\",\"\",CMS_Downtime!B37)","v":""},{"$f":"IF(CMS_Downtime!$F37=\"\",\"\",CMS_Downtime!C37)","v":""},{"$f":"IF(CMS_Downtime!$F37=\"\",\"\",CMS_Downtime!D37)","v":""},{"$f":"IF(CMS_Downtime!$F37=\"\",\"\",CMS_Downtime!E37)","v":""},"",{"$f":"IF(COUNTIF(G$2:G16,G16)=1,G16,\"\")","v":""},"","","","","",{"$f":"IF(I16=\"\",\"\",VLOOKUP(I16,List_CMS!$L$3:$Q$79,6,FALSE))","v":""}]
[{"$f":"+IF(H17=\"\",\"\",MAX(A$1:A16)+1)","v":""},{"$f":"IF(CMS_Downtime!F38=\"\",\"\",CMS_Downtime!F38)","v":""},{"$f":"IF(CMS_Downtime!$F38=\"\",\"\",CMS_Downtime!B38)","v":""},{"$f":"IF(CMS_Downtime!$F38=\"\",\"\",CMS_Downtime!C38)","v":""},{"$f":"IF(CMS_Downtime!$F38=\"\",\"\",CMS_Downtime!D38)","v":""},{"$f":"IF(CMS_Downtime!$F38=\"\",\"\",CMS_Downtime!E38)","v":""},"",{"$f":"IF(COUNTIF(G$2:G17,G17)=1,G17,\"\")","v":""},"","","","","",{"$f":"IF(I17=\"\",\"\",VLOOKUP(I17,List_CMS!$L$3:$Q$79,6,FALSE))","v":""}]
[{"$f":"+IF(H18=\"\",\"\",MAX(A$1:A17)+1)","v":""},{"$f":"IF(CMS_Downtime!F39=\"\",\"\",CMS_Downtime!F39)","v":""},{"$f":"IF(CMS_Downtime!$F39=\"\",\"\",CMS_Downtime!B39)","v":""},{"$f":"IF(CMS_Downtime!$F39=\"\",\"\",CMS_Downtime!C39)","v":""},{"$f":"IF(CMS_Downtime!$F39=\"\",\"\",CMS_Downtime!D39)","v":""},{"$f":"IF(CMS_Downtime!$F39=\"\",\"\",CMS_Downtime!E39)","v":""},"",{"$f":"IF(COUNTIF(G$2:G18,G18)=1,G18,\"\")","v":""},"","","","","",{"$f":"IF(I18=\"\",\"\",VLOOKUP(I18,List_CMS!$L$3:$Q$79,6,FALSE))","v":""}]
[{"$f":"+IF(H19=\"\",\"\",MAX(A$1:A18)+1)","v":""},{"$f":"IF(CMS_Downtime!F40=\"\",\"\",CMS_Downtime!F40)","v":""},{"$f":"IF(CMS_Downtime!$F40=\"\",\"\",CMS_Downtime!B40)","v":""},{"$f":"IF(CMS_Downtime!$F40=\"\",\"\",CMS_Downtime!C40)","v":""},{"$f":"IF(CMS_Downtime!$F40=\"\",\"\",CMS_Downtime!D40)","v":""},{"$f":"IF(CMS_Downtime!$F40=\"\",\"\",CMS_Downtime!E40)","v":""},"",{"$f":"IF(COUNTIF(G$2:G19,G19)=1,G19,\"\")","v":""},"","","","","",{"$f":"IF(I19=\"\",\"\",VLOOKUP(I19,List_CMS!$L$3:$Q$79,6,FALSE))","v":""}]
[{"$f":"+IF(H20=\"\",\"\",MAX(A$1:A19)+1)","v":""},{"$f":"IF(CMS_Downtime!F41=\"\",\"\",CMS_Downtime!F41)","v":""},{"$f":"IF(CMS_Downtime!$F41=\"\",\"\",CMS_Downtime!B41)","v":""},{"$f":"IF(CMS_Downtime!$F41=\"\",\"\",CMS_Downtime!C41)","v":""},{"$f":"IF(CMS_Downtime!$F41=\"\",\"\",CMS_Downtime!D41)","v":""},{"$f":"IF(CMS_Downtime!$F41=\"\",\"\",CMS_Downtime!E41)","v":""},"",{"$f":"IF(COUNTIF(G$2:G20,G20)=1,G20,\"\")","v":""},"","","","","",{"$f":"IF(I20=\"\",\"\",VLOOKUP(I20,List_CMS!$L$3:$Q$79,6,FALSE))","v":""}]
[{"$f":"+IF(H21=\"\",\"\",MAX(A$1:A20)+1)","v":""},{"$f":"IF(CMS_Downtime!F42=\"\",\"\",CMS_Downtime!F42)","v":""},{"$f":"IF(CMS_Downtime!$F42=\"\",\"\",CMS_Downtime!B42)","v":""},{"$f":"IF(CMS_Downtime!$F42=\"\",\"\",CMS_Downtime!C42)","v":""},{"$f":"IF(CMS_Downtime!$F42=\"\",\"\",CMS_Downtime!D42)","v":""},{"$f":"IF(CMS_Downtime!$F42=\"\",\"\",CMS_Downtime!E42)","v":""},"",{"$f":"IF(COUNTIF(G$2:G21,G21)=1,G21,\"\")","v":""},"","","","","",{"$f":"IF(I21=\"\",\"\",VLOOKUP(I21,List_CMS!$L$3:$Q$79,6,FALSE))","v":""}]
[{"$f":"+IF(H22=\"\",\"\",MAX(A$1:A21)+1)","v":""},{"$f":"IF(CMS_Downtime!F43=\"\",\"\",CMS_Downtime!F43)","v":""},{"$f":"IF(CMS_Downtime!$F43=\"\",\"\",CMS_Downtime!B43)","v":""},{"$f":"IF(CMS_Downtime!$F43=\"\",\"\",CMS_Downtime!C43)","v":""},{"$f":"IF(CMS_Downtime!$F43=\"\",\"\",CMS_Downtime!D43)","v":""},{"$f":"IF(CMS_Downtime!$F43=\"\",\"\",CMS_Downtime!E43)","v":""},"",{"$f":"IF(COUNTIF(G$2:G22,G22)=1,G22,\"\")","v":""},"","","","","",{"$f":"IF(I22=\"\",\"\",VLOOKUP(I22,List_CMS!$L$3:$Q$79,6,FALSE))","v":""}]
[{"$f":"+IF(H23=\"\",\"\",MAX(A$1:A22)+1)","v":""},{"$f":"IF(CMS_Downtime!F44=\"\",\"\",CMS_Downtime!F44)","v":""},{"$f":"IF(CMS_Downtime!$F44=\"\",\"\",CMS_Downtime!B44)","v":""},{"$f":"IF(CMS_Downtime!$F44=\"\",\"\",CMS_Downtime!C44)","v":""},{"$f":"IF(CMS_Downtime!$F44=\"\",\"\",CMS_Downtime!D44)","v":""},{"$f":"IF(CMS_Downtime!$F44=\"\",\"\",CMS_Downtime!E44)","v":""},"",{"$f":"IF(COUNTIF(G$2:G23,G23)=1,G23,\"\")","v":""},"","","","","",{"$f":"IF(I23=\"\",\"\",VLOOKUP(I23,List_CMS!$L$3:$Q$79,6,FALSE))","v":""}]
[{"$f":"+IF(H24=\"\",\"\",MAX(A$1:A23)+1)","v":""},{"$f":"IF(CMS_Downtime!F45=\"\",\"\",CMS_Downtime!F45)","v":""},{"$f":"IF(CMS_Downtime!$F45=\"\",\"\",CMS_Downtime!B45)","v":""},{"$f":"IF(CMS_Downtime!$F45=\"\",\"\",CMS_Downtime!C45)","v":""},{"$f":"IF(CMS_Downtime!$F45=\"\",\"\",CMS_Downtime!D45)","v":""},{"$f":"IF(CMS_Downtime!$F45=\"\",\"\",CMS_Downtime!E45)","v":""},"",{"$f":"IF(COUNTIF(G$2:G24,G24)=1,G24,\"\")","v":""},"","","","","",{"$f":"IF(I24=\"\",\"\",VLOOKUP(I24,List_CMS!$L$3:$Q$79,6,FALSE))","v":""}]
[{"$f":"+IF(H25=\"\",\"\",MAX(A$1:A24)+1)","v":""},{"$f":"IF(CMS_Downtime!F46=\"\",\"\",CMS_Downtime!F46)","v":""},{"$f":"IF(CMS_Downtime!$F46=\"\",\"\",CMS_Downtime!B46)","v":""},{"$f":"IF(CMS_Downtime!$F46=\"\",\"\",CMS_Downtime!C46)","v":""},{"$f":"IF(CMS_Downtime!$F46=\"\",\"\",CMS_Downtime!D46)","v":""},{"$f":"IF(CMS_Downtime!$F46=\"\",\"\",CMS_Downtime!E46)","v":""},"",{"$f":"IF(COUNTIF(G$2:G25,G25)=1,G25,\"\")","v":""},"","","","","",{"$f":"IF(I25=\"\",\"\",VLOOKUP(I25,List_CMS!$L$3:$Q$79,6,FALSE))","v":""}]
[{"$f":"+IF(H26=\"\",\"\",MAX(A$1:A25)+1)","v":""},{"$f":"IF(CMS_Downtime!F47=\"\",\"\",CMS_Downtime!F47)","v":""},{"$f":"IF(CMS_Downtime!$F47=\"\",\"\",CMS_Downtime!B47)","v":""},{"$f":"IF(CMS_Downtime!$F47=\"\",\"\",CMS_Downtime!C47)","v":""},{"$f":"IF(CMS_Downtime!$F47=\"\",\"\",CMS_Downtime!D47)","v":""},{"$f":"IF(CMS_Downtime!$F47=\"\",\"\",CMS_Downtime!E47)","v":""},"",{"$f":"IF(COUNTIF(G$2:G26,G26)=1,G26,\"\")","v":""},"","","","","",{"$f":"IF(I26=\"\",\"\",VLOOKUP(I26,List_CMS!$L$3:$Q$79,6,FALSE))","v":""}]
[{"$f":"+IF(H27=\"\",\"\",MAX(A$1:A26)+1)","v":""},{"$f":"IF(CMS_Downtime!F48=\"\",\"\",CMS_Downtime!F48)","v":""},{"$f":"IF(CMS_Downtime!$F48=\"\",\"\",CMS_Downtime!B48)","v":""},{"$f":"IF(CMS_Downtime!$F48=\"\",\"\",CMS_Downtime!C48)","v":""},{"$f":"IF(CMS_Downtime!$F48=\"\",\"\",CMS_Downtime!D48)","v":""},{"$f":"IF(CMS_Downtime!$F48=\"\",\"\",CMS_Downtime!E48)","v":""},"",{"$f":"IF(COUNTIF(G$2:G27,G27)=1,G27,\"\")","v":""},"","","","","",{"$f":"IF(I27=\"\",\"\",VLOOKUP(I27,List_CMS!$L$3:$Q$79,6,FALSE))","v":""}]
[{"$f":"+IF(H28=\"\",\"\",MAX(A$1:A27)+1)","v":""},{"$f":"IF(CMS_Downtime!F49=\"\",\"\",CMS_Downtime!F49)","v":""},{"$f":"IF(CMS_Downtime!$F49=\"\",\"\",CMS_Downtime!B49)","v":""},{"$f":"IF(CMS_Downtime!$F49=\"\",\"\",CMS_Downtime!C49)","v":""},{"$f":"IF(CMS_Downtime!$F49=\"\",\"\",CMS_Downtime!D49)","v":""},{"$f":"IF(CMS_Downtime!$F49=\"\",\"\",CMS_Downtime!E49)","v":""},"",{"$f":"IF(COUNTIF(G$2:G28,G28)=1,G28,\"\")","v":""},"","","","","",{"$f":"IF(I28=\"\",\"\",VLOOKUP(I28,List_CMS!$L$3:$Q$79,6,FALSE))","v":""}]
[{"$f":"+IF(H29=\"\",\"\",MAX(A$1:A28)+1)","v":""},{"$f":"IF(CMS_Downtime!F50=\"\",\"\",CMS_Downtime!F50)","v":""},{"$f":"IF(CMS_Downtime!$F50=\"\",\"\",CMS_Downtime!B50)","v":""},{"$f":"IF(CMS_Downtime!$F50=\"\",\"\",CMS_Downtime!C50)","v":""},{"$f":"IF(CMS_Downtime!$F50=\"\",\"\",CMS_Downtime!D50)","v":""},{"$f":"IF(CMS_Downtime!$F50=\"\",\"\",CMS_Downtime!E50)","v":""},"",{"$f":"IF(COUNTIF(G$2:G29,G29)=1,G29,\"\")","v":""},"","","","","",{"$f":"IF(I29=\"\",\"\",VLOOKUP(I29,List_CMS!$L$3:$Q$79,6,FALSE))","v":""}]
[{"$f":"+IF(H30=\"\",\"\",MAX(A$1:A29)+1)","v":""},{"$f":"IF(CMS_Downtime!F51=\"\",\"\",CMS_Downtime!F51)","v":""},{"$f":"IF(CMS_Downtime!$F51=\"\",\"\",CMS_Downtime!B51)","v":""},{"$f":"IF(CMS_Downtime!$F51=\"\",\"\",CMS_Downtime!C51)","v":""},{"$f":"IF(CMS_Downtime!$F51=\"\",\"\",CMS_Downtime!D51)","v":""},{"$f":"IF(CMS_Downtime!$F51=\"\",\"\",CMS_Downtime!E51)","v":""},"",{"$f":"IF(COUNTIF(G$2:G30,G30)=1,G30,\"\")","v":""},"","","","","",{"$f":"IF(I30=\"\",\"\",VLOOKUP(I30,List_CMS!$L$3:$Q$79,6,FALSE))","v":""}]
[{"$f":"+IF(H31=\"\",\"\",MAX(A$1:A30)+1)","v":""},{"$f":"IF(CMS_Downtime!F52=\"\",\"\",CMS_Downtime!F52)","v":""},{"$f":"IF(CMS_Downtime!$F52=\"\",\"\",CMS_Downtime!B52)","v":""},{"$f":"IF(CMS_Downtime!$F52=\"\",\"\",CMS_Downtime!C52)","v":""},{"$f":"IF(CMS_Downtime!$F52=\"\",\"\",CMS_Downtime!D52)","v":""},{"$f":"IF(CMS_Downtime!$F52=\"\",\"\",CMS_Downtime!E52)","v":""},"",{"$f":"IF(COUNTIF(G$2:G31,G31)=1,G31,\"\")","v":""},"","","","","",{"$f":"IF(I31=\"\",\"\",VLOOKUP(I31,List_CMS!$L$3:$Q$79,6,FALSE))","v":""}]
[{"$f":"+IF(H32=\"\",\"\",MAX(A$1:A31)+1)","v":""},{"$f":"IF(CMS_Downtime!F53=\"\",\"\",CMS_Downtime!F53)","v":""},{"$f":"IF(CMS_Downtime!$F53=\"\",\"\",CMS_Downtime!B53)","v":""},{"$f":"IF(CMS_Downtime!$F53=\"\",\"\",CMS_Downtime!C53)","v":""},{"$f":"IF(CMS_Downtime!$F53=\"\",\"\",CMS_Downtime!D53)","v":""},{"$f":"IF(CMS_Downtime!$F53=\"\",\"\",CMS_Downtime!E53)","v":""},"",{"$f":"IF(COUNTIF(G$2:G32,G32)=1,G32,\"\")","v":""},"","","","","",{"$f":"IF(I32=\"\",\"\",VLOOKUP(I32,List_CMS!$L$3:$Q$79,6,FALSE))","v":""}]
[{"$f":"+IF(H33=\"\",\"\",MAX(A$1:A32)+1)","v":""},{"$f":"IF(CMS_Downtime!F54=\"\",\"\",CMS_Downtime!F54)","v":""},{"$f":"IF(CMS_Downtime!$F54=\"\",\"\",CMS_Downtime!B54)","v":""},{"$f":"IF(CMS_Downtime!$F54=\"\",\"\",CMS_Downtime!C54)","v":""},{"$f":"IF(CMS_Downtime!$F54=\"\",\"\",CMS_Downtime!D54)","v":""},{"$f":"IF(CMS_Downtime!$F54=\"\",\"\",CMS_Downtime!E54)","v":""},"",{"$f":"IF(COUNTIF(G$2:G33,G33)=1,G33,\"\")","v":""},"","","","","",{"$f":"IF(I33=\"\",\"\",VLOOKUP(I33,List_CMS!$L$3:$Q$79,6,FALSE))","v":""}]
[{"$f":"+IF(H34=\"\",\"\",MAX(A$1:A33)+1)","v":""},{"$f":"IF(CMS_Downtime!F55=\"\",\"\",CMS_Downtime!F55)","v":""},{"$f":"IF(CMS_Downtime!$F55=\"\",\"\",CMS_Downtime!B55)","v":""},{"$f":"IF(CMS_Downtime!$F55=\"\",\"\",CMS_Downtime!C55)","v":""},{"$f":"IF(CMS_Downtime!$F55=\"\",\"\",CMS_Downtime!D55)","v":""},{"$f":"IF(CMS_Downtime!$F55=\"\",\"\",CMS_Downtime!E55)","v":""},"",{"$f":"IF(COUNTIF(G$2:G34,G34)=1,G34,\"\")","v":""},"","","","","",{"$f":"IF(I34=\"\",\"\",VLOOKUP(I34,List_CMS!$L$3:$Q$79,6,FALSE))","v":""}]
[{"$f":"+IF(H35=\"\",\"\",MAX(A$1:A34)+1)","v":""},{"$f":"IF(CMS_Downtime!F56=\"\",\"\",CMS_Downtime!F56)","v":""},{"$f":"IF(CMS_Downtime!$F56=\"\",\"\",CMS_Downtime!B56)","v":""},{"$f":"IF(CMS_Downtime!$F56=\"\",\"\",CMS_Downtime!C56)","v":""},{"$f":"IF(CMS_Downtime!$F56=\"\",\"\",CMS_Downtime!D56)","v":""},{"$f":"IF(CMS_Downtime!$F56=\"\",\"\",CMS_Downtime!E56)","v":""},"",{"$f":"IF(COUNTIF(G$2:G35,G35)=1,G35,\"\")","v":""},"","","","","",{"$f":"IF(I35=\"\",\"\",VLOOKUP(I35,List_CMS!$L$3:$Q$79,6,FALSE))","v":""}]
[{"$f":"+IF(H36=\"\",\"\",MAX(A$1:A35)+1)","v":""},{"$f":"IF(CMS_Downtime!F57=\"\",\"\",CMS_Downtime!F57)","v":""},{"$f":"IF(CMS_Downtime!$F57=\"\",\"\",CMS_Downtime!B57)","v":""},{"$f":"IF(CMS_Downtime!$F57=\"\",\"\",CMS_Downtime!C57)","v":""},{"$f":"IF(CMS_Downtime!$F57=\"\",\"\",CMS_Downtime!D57)","v":""},{"$f":"IF(CMS_Downtime!$F57=\"\",\"\",CMS_Downtime!E57)","v":""},"",{"$f":"IF(COUNTIF(G$2:G36,G36)=1,G36,\"\")","v":""},"","","","","",{"$f":"IF(I36=\"\",\"\",VLOOKUP(I36,List_CMS!$L$3:$Q$79,6,FALSE))","v":""}]
[{"$f":"+IF(H37=\"\",\"\",MAX(A$1:A36)+1)","v":""},{"$f":"IF(CMS_Downtime!F58=\"\",\"\",CMS_Downtime!F58)","v":""},{"$f":"IF(CMS_Downtime!$F58=\"\",\"\",CMS_Downtime!B58)","v":""},{"$f":"IF(CMS_Downtime!$F58=\"\",\"\",CMS_Downtime!C58)","v":""},{"$f":"IF(CMS_Downtime!$F58=\"\",\"\",CMS_Downtime!D58)","v":""},{"$f":"IF(CMS_Downtime!$F58=\"\",\"\",CMS_Downtime!E58)","v":""},"",{"$f":"IF(COUNTIF(G$2:G37,G37)=1,G37,\"\")","v":""},"","","","","",{"$f":"IF(I37=\"\",\"\",VLOOKUP(I37,List_CMS!$L$3:$Q$79,6,FALSE))","v":""}]
[{"$f":"+IF(H38=\"\",\"\",MAX(A$1:A37)+1)","v":""},{"$f":"IF(CMS_Downtime!F59=\"\",\"\",CMS_Downtime!F59)","v":""},{"$f":"IF(CMS_Downtime!$F59=\"\",\"\",CMS_Downtime!B59)","v":""},{"$f":"IF(CMS_Downtime!$F59=\"\",\"\",CMS_Downtime!C59)","v":""},{"$f":"IF(CMS_Downtime!$F59=\"\",\"\",CMS_Downtime!D59)","v":""},{"$f":"IF(CMS_Downtime!$F59=\"\",\"\",CMS_Downtime!E59)","v":""},"",{"$f":"IF(COUNTIF(G$2:G38,G38)=1,G38,\"\")","v":""},"","","","","",{"$f":"IF(I38=\"\",\"\",VLOOKUP(I38,List_CMS!$L$3:$Q$79,6,FALSE))","v":""}]
[{"$f":"+IF(H39=\"\",\"\",MAX(A$1:A38)+1)","v":""},{"$f":"IF(CMS_Downtime!F60=\"\",\"\",CMS_Downtime!F60)","v":""},{"$f":"IF(CMS_Downtime!$F60=\"\",\"\",CMS_Downtime!B60)","v":""},{"$f":"IF(CMS_Downtime!$F60=\"\",\"\",CMS_Downtime!C60)","v":""},{"$f":"IF(CMS_Downtime!$F60=\"\",\"\",CMS_Downtime!D60)","v":""},{"$f":"IF(CMS_Downtime!$F60=\"\",\"\",CMS_Downtime!E60)","v":""},"",{"$f":"IF(COUNTIF(G$2:G39,G39)=1,G39,\"\")","v":""},"","","","","",{"$f":"IF(I39=\"\",\"\",VLOOKUP(I39,List_CMS!$L$3:$Q$79,6,FALSE))","v":""}]
[{"$f":"+IF(H40=\"\",\"\",MAX(A$1:A39)+1)","v":""},{"$f":"IF(CMS_Downtime!F61=\"\",\"\",CMS_Downtime!F61)","v":""},{"$f":"IF(CMS_Downtime!$F61=\"\",\"\",CMS_Downtime!B61)","v":""},{"$f":"IF(CMS_Downtime!$F61=\"\",\"\",CMS_Downtime!C61)","v":""},{"$f":"IF(CMS_Downtime!$F61=\"\",\"\",CMS_Downtime!D61)","v":""},{"$f":"IF(CMS_Downtime!$F61=\"\",\"\",CMS_Downtime!E61)","v":""},"",{"$f":"IF(COUNTIF(G$2:G40,G40)=1,G40,\"\")","v":""},"","","","","",{"$f":"IF(I40=\"\",\"\",VLOOKUP(I40,List_CMS!$L$3:$Q$79,6,FALSE))","v":""}]
[{"$f":"+IF(H41=\"\",\"\",MAX(A$1:A40)+1)","v":""},{"$f":"IF(CMS_Downtime!F62=\"\",\"\",CMS_Downtime!F62)","v":""},{"$f":"IF(CMS_Downtime!$F62=\"\",\"\",CMS_Downtime!B62)","v":""},{"$f":"IF(CMS_Downtime!$F62=\"\",\"\",CMS_Downtime!C62)","v":""},{"$f":"IF(CMS_Downtime!$F62=\"\",\"\",CMS_Downtime!D62)","v":""},{"$f":"IF(CMS_Downtime!$F62=\"\",\"\",CMS_Downtime!E62)","v":""},"",{"$f":"IF(COUNTIF(G$2:G41,G41)=1,G41,\"\")","v":""},"","","","","",{"$f":"IF(I41=\"\",\"\",VLOOKUP(I41,List_CMS!$L$3:$Q$79,6,FALSE))","v":""}]
[{"$f":"+IF(H42=\"\",\"\",MAX(A$1:A41)+1)","v":""},{"$f":"IF(CMS_Downtime!F63=\"\",\"\",CMS_Downtime!F63)","v":""},{"$f":"IF(CMS_Downtime!$F63=\"\",\"\",CMS_Downtime!B63)","v":""},{"$f":"IF(CMS_Downtime!$F63=\"\",\"\",CMS_Downtime!C63)","v":""},{"$f":"IF(CMS_Downtime!$F63=\"\",\"\",CMS_Downtime!D63)","v":""},{"$f":"IF(CMS_Downtime!$F63=\"\",\"\",CMS_Downtime!E63)","v":""},"",{"$f":"IF(COUNTIF(G$2:G42,G42)=1,G42,\"\")","v":""},"","","","","",{"$f":"IF(I42=\"\",\"\",VLOOKUP(I42,List_CMS!$L$3:$Q$79,6,FALSE))","v":""}]
[{"$f":"+IF(H43=\"\",\"\",MAX(A$1:A42)+1)","v":""},{"$f":"IF(CMS_Downtime!F64=\"\",\"\",CMS_Downtime!F64)","v":""},{"$f":"IF(CMS_Downtime!$F64=\"\",\"\",CMS_Downtime!B64)","v":""},{"$f":"IF(CMS_Downtime!$F64=\"\",\"\",CMS_Downtime!C64)","v":""},{"$f":"IF(CMS_Downtime!$F64=\"\",\"\",CMS_Downtime!D64)","v":""},{"$f":"IF(CMS_Downtime!$F64=\"\",\"\",CMS_Downtime!E64)","v":""},"",{"$f":"IF(COUNTIF(G$2:G43,G43)=1,G43,\"\")","v":""},"","","","","",{"$f":"IF(I43=\"\",\"\",VLOOKUP(I43,List_CMS!$L$3:$Q$79,6,FALSE))","v":""}]
[{"$f":"+IF(H44=\"\",\"\",MAX(A$1:A43)+1)","v":""},{"$f":"IF(CMS_Downtime!F65=\"\",\"\",CMS_Downtime!F65)","v":""},{"$f":"IF(CMS_Downtime!$F65=\"\",\"\",CMS_Downtime!B65)","v":""},{"$f":"IF(CMS_Downtime!$F65=\"\",\"\",CMS_Downtime!C65)","v":""},{"$f":"IF(CMS_Downtime!$F65=\"\",\"\",CMS_Downtime!D65)","v":""},{"$f":"IF(CMS_Downtime!$F65=\"\",\"\",CMS_Downtime!E65)","v":""},"",{"$f":"IF(COUNTIF(G$2:G44,G44)=1,G44,\"\")","v":""},"","","","","",{"$f":"IF(I44=\"\",\"\",VLOOKUP(I44,List_CMS!$L$3:$Q$79,6,FALSE))","v":""}]
[{"$f":"+IF(H45=\"\",\"\",MAX(A$1:A44)+1)","v":""},{"$f":"IF(CMS_Downtime!F66=\"\",\"\",CMS_Downtime!F66)","v":""},{"$f":"IF(CMS_Downtime!$F66=\"\",\"\",CMS_Downtime!B66)","v":""},{"$f":"IF(CMS_Downtime!$F66=\"\",\"\",CMS_Downtime!C66)","v":""},{"$f":"IF(CMS_Downtime!$F66=\"\",\"\",CMS_Downtime!D66)","v":""},{"$f":"IF(CMS_Downtime!$F66=\"\",\"\",CMS_Downtime!E66)","v":""},"",{"$f":"IF(COUNTIF(G$2:G45,G45)=1,G45,\"\")","v":""},"","","","","",{"$f":"IF(I45=\"\",\"\",VLOOKUP(I45,List_CMS!$L$3:$Q$79,6,FALSE))","v":""}]
[{"$f":"+IF(H46=\"\",\"\",MAX(A$1:A45)+1)","v":""},{"$f":"IF(CMS_Downtime!F67=\"\",\"\",CMS_Downtime!F67)","v":""},{"$f":"IF(CMS_Downtime!$F67=\"\",\"\",CMS_Downtime!B67)","v":""},{"$f":"IF(CMS_Downtime!$F67=\"\",\"\",CMS_Downtime!C67)","v":""},{"$f":"IF(CMS_Downtime!$F67=\"\",\"\",CMS_Downtime!D67)","v":""},{"$f":"IF(CMS_Downtime!$F67=\"\",\"\",CMS_Downtime!E67)","v":""},"",{"$f":"IF(COUNTIF(G$2:G46,G46)=1,G46,\"\")","v":""},"","","","","",{"$f":"IF(I46=\"\",\"\",VLOOKUP(I46,List_CMS!$L$3:$Q$79,6,FALSE))","v":""}]
[{"$f":"+IF(H47=\"\",\"\",MAX(A$1:A46)+1)","v":""},{"$f":"IF(CMS_Downtime!F68=\"\",\"\",CMS_Downtime!F68)","v":""},{"$f":"IF(CMS_Downtime!$F68=\"\",\"\",CMS_Downtime!B68)","v":""},{"$f":"IF(CMS_Downtime!$F68=\"\",\"\",CMS_Downtime!C68)","v":""},{"$f":"IF(CMS_Downtime!$F68=\"\",\"\",CMS_Downtime!D68)","v":""},{"$f":"IF(CMS_Downtime!$F68=\"\",\"\",CMS_Downtime!E68)","v":""},"",{"$f":"IF(COUNTIF(G$2:G47,G47)=1,G47,\"\")","v":""},"","","","","",{"$f":"IF(I47=\"\",\"\",VLOOKUP(I47,List_CMS!$L$3:$Q$79,6,FALSE))","v":""}]
[{"$f":"+IF(H48=\"\",\"\",MAX(A$1:A47)+1)","v":""},{"$f":"IF(CMS_Downtime!F69=\"\",\"\",CMS_Downtime!F69)","v":""},{"$f":"IF(CMS_Downtime!$F69=\"\",\"\",CMS_Downtime!B69)","v":""},{"$f":"IF(CMS_Downtime!$F69=\"\",\"\",CMS_Downtime!C69)","v":""},{"$f":"IF(CMS_Downtime!$F69=\"\",\"\",CMS_Downtime!D69)","v":""},{"$f":"IF(CMS_Downtime!$F69=\"\",\"\",CMS_Downtime!E69)","v":""},"",{"$f":"IF(COUNTIF(G$2:G48,G48)=1,G48,\"\")","v":""},"","","","","",{"$f":"IF(I48=\"\",\"\",VLOOKUP(I48,List_CMS!$L$3:$Q$79,6,FALSE))","v":""}]
[{"$f":"+IF(H49=\"\",\"\",MAX(A$1:A48)+1)","v":""},{"$f":"IF(CMS_Downtime!F70=\"\",\"\",CMS_Downtime!F70)","v":""},{"$f":"IF(CMS_Downtime!$F70=\"\",\"\",CMS_Downtime!B70)","v":""},{"$f":"IF(CMS_Downtime!$F70=\"\",\"\",CMS_Downtime!C70)","v":""},{"$f":"IF(CMS_Downtime!$F70=\"\",\"\",CMS_Downtime!D70)","v":""},{"$f":"IF(CMS_Downtime!$F70=\"\",\"\",CMS_Downtime!E70)","v":""},"",{"$f":"IF(COUNTIF(G$2:G49,G49)=1,G49,\"\")","v":""},"","","","","",{"$f":"IF(I49=\"\",\"\",VLOOKUP(I49,List_CMS!$L$3:$Q$79,6,FALSE))","v":""}]
[{"$f":"+IF(H50=\"\",\"\",MAX(A$1:A49)+1)","v":""},{"$f":"IF(CMS_Downtime!F71=\"\",\"\",CMS_Downtime!F71)","v":""},{"$f":"IF(CMS_Downtime!$F71=\"\",\"\",CMS_Downtime!B71)","v":""},{"$f":"IF(CMS_Downtime!$F71=\"\",\"\",CMS_Downtime!C71)","v":""},{"$f":"IF(CMS_Downtime!$F71=\"\",\"\",CMS_Downtime!D71)","v":""},{"$f":"IF(CMS_Downtime!$F71=\"\",\"\",CMS_Downtime!E71)","v":""},"",{"$f":"IF(COUNTIF(G$2:G50,G50)=1,G50,\"\")","v":""},"","","","","",{"$f":"IF(I50=\"\",\"\",VLOOKUP(I50,List_CMS!$L$3:$Q$79,6,FALSE))","v":""}]
[{"$f":"+IF(H51=\"\",\"\",MAX(A$1:A50)+1)","v":""},{"$f":"IF(CMS_Downtime!F72=\"\",\"\",CMS_Downtime!F72)","v":""},{"$f":"IF(CMS_Downtime!$F72=\"\",\"\",CMS_Downtime!B72)","v":""},{"$f":"IF(CMS_Downtime!$F72=\"\",\"\",CMS_Downtime!C72)","v":""},{"$f":"IF(CMS_Downtime!$F72=\"\",\"\",CMS_Downtime!D72)","v":""},{"$f":"IF(CMS_Downtime!$F72=\"\",\"\",CMS_Downtime!E72)","v":""},"",{"$f":"IF(COUNTIF(G$2:G51,G51)=1,G51,\"\")","v":""},"","","","","",{"$f":"IF(I51=\"\",\"\",VLOOKUP(I51,List_CMS!$L$3:$Q$79,6,FALSE))","v":""}]
[{"$f":"+IF(H52=\"\",\"\",MAX(A$1:A51)+1)","v":""},{"$f":"IF(CMS_Downtime!F73=\"\",\"\",CMS_Downtime!F73)","v":""},{"$f":"IF(CMS_Downtime!$F73=\"\",\"\",CMS_Downtime!B73)","v":""},{"$f":"IF(CMS_Downtime!$F73=\"\",\"\",CMS_Downtime!C73)","v":""},{"$f":"IF(CMS_Downtime!$F73=\"\",\"\",CMS_Downtime!D73)","v":""},{"$f":"IF(CMS_Downtime!$F73=\"\",\"\",CMS_Downtime!E73)","v":""},"",{"$f":"IF(COUNTIF(G$2:G52,G52)=1,G52,\"\")","v":""},"","","","","",{"$f":"IF(I52=\"\",\"\",VLOOKUP(I52,List_CMS!$L$3:$Q$79,6,FALSE))","v":""}]
[{"$f":"+IF(H53=\"\",\"\",MAX(A$1:A52)+1)","v":""},{"$f":"IF(CMS_Downtime!F74=\"\",\"\",CMS_Downtime!F74)","v":""},{"$f":"IF(CMS_Downtime!$F74=\"\",\"\",CMS_Downtime!B74)","v":""},{"$f":"IF(CMS_Downtime!$F74=\"\",\"\",CMS_Downtime!C74)","v":""},{"$f":"IF(CMS_Downtime!$F74=\"\",\"\",CMS_Downtime!D74)","v":""},{"$f":"IF(CMS_Downtime!$F74=\"\",\"\",CMS_Downtime!E74)","v":""},"",{"$f":"IF(COUNTIF(G$2:G53,G53)=1,G53,\"\")","v":""},"","","","","",{"$f":"IF(I53=\"\",\"\",VLOOKUP(I53,List_CMS!$L$3:$Q$79,6,FALSE))","v":""}]
[{"$f":"+IF(H54=\"\",\"\",MAX(A$1:A53)+1)","v":""},{"$f":"IF(CMS_Downtime!F75=\"\",\"\",CMS_Downtime!F75)","v":""},{"$f":"IF(CMS_Downtime!$F75=\"\",\"\",CMS_Downtime!B75)","v":""},{"$f":"IF(CMS_Downtime!$F75=\"\",\"\",CMS_Downtime!C75)","v":""},{"$f":"IF(CMS_Downtime!$F75=\"\",\"\",CMS_Downtime!D75)","v":""},{"$f":"IF(CMS_Downtime!$F75=\"\",\"\",CMS_Downtime!E75)","v":""},"",{"$f":"IF(COUNTIF(G$2:G54,G54)=1,G54,\"\")","v":""},"","","","","",{"$f":"IF(I54=\"\",\"\",VLOOKUP(I54,List_CMS!$L$3:$Q$79,6,FALSE))","v":""}]
[{"$f":"+IF(H55=\"\",\"\",MAX(A$1:A54)+1)","v":""},{"$f":"IF(CMS_Downtime!F76=\"\",\"\",CMS_Downtime!F76)","v":""},{"$f":"IF(CMS_Downtime!$F76=\"\",\"\",CMS_Downtime!B76)","v":""},{"$f":"IF(CMS_Downtime!$F76=\"\",\"\",CMS_Downtime!C76)","v":""},{"$f":"IF(CMS_Downtime!$F76=\"\",\"\",CMS_Downtime!D76)","v":""},{"$f":"IF(CMS_Downtime!$F76=\"\",\"\",CMS_Downtime!E76)","v":""},"",{"$f":"IF(COUNTIF(G$2:G55,G55)=1,G55,\"\")","v":""},"","","","","",{"$f":"IF(I55=\"\",\"\",VLOOKUP(I55,List_CMS!$L$3:$Q$79,6,FALSE))","v":""}]
[{"$f":"+IF(H56=\"\",\"\",MAX(A$1:A55)+1)","v":""},{"$f":"IF(CMS_Downtime!F77=\"\",\"\",CMS_Downtime!F77)","v":""},{"$f":"IF(CMS_Downtime!$F77=\"\",\"\",CMS_Downtime!B77)","v":""},{"$f":"IF(CMS_Downtime!$F77=\"\",\"\",CMS_Downtime!C77)","v":""},{"$f":"IF(CMS_Downtime!$F77=\"\",\"\",CMS_Downtime!D77)","v":""},{"$f":"IF(CMS_Downtime!$F77=\"\",\"\",CMS_Downtime!E77)","v":""},"",{"$f":"IF(COUNTIF(G$2:G56,G56)=1,G56,\"\")","v":""},"","","","","",{"$f":"IF(I56=\"\",\"\",VLOOKUP(I56,List_CMS!$L$3:$Q$79,6,FALSE))","v":""}]
[{"$f":"+IF(H57=\"\",\"\",MAX(A$1:A56)+1)","v":""},{"$f":"IF(CMS_Downtime!F78=\"\",\"\",CMS_Downtime!F78)","v":""},{"$f":"IF(CMS_Downtime!$F78=\"\",\"\",CMS_Downtime!B78)","v":""},{"$f":"IF(CMS_Downtime!$F78=\"\",\"\",CMS_Downtime!C78)","v":""},{"$f":"IF(CMS_Downtime!$F78=\"\",\"\",CMS_Downtime!D78)","v":""},{"$f":"IF(CMS_Downtime!$F78=\"\",\"\",CMS_Downtime!E78)","v":""},"",{"$f":"IF(COUNTIF(G$2:G57,G57)=1,G57,\"\")","v":""},"","","","","",{"$f":"IF(I57=\"\",\"\",VLOOKUP(I57,List_CMS!$L$3:$Q$79,6,FALSE))","v":""}]
[{"$f":"+IF(H58=\"\",\"\",MAX(A$1:A57)+1)","v":""},{"$f":"IF(CMS_Downtime!F79=\"\",\"\",CMS_Downtime!F79)","v":""},{"$f":"IF(CMS_Downtime!$F79=\"\",\"\",CMS_Downtime!B79)","v":""},{"$f":"IF(CMS_Downtime!$F79=\"\",\"\",CMS_Downtime!C79)","v":""},{"$f":"IF(CMS_Downtime!$F79=\"\",\"\",CMS_Downtime!D79)","v":""},{"$f":"IF(CMS_Downtime!$F79=\"\",\"\",CMS_Downtime!E79)","v":""},"",{"$f":"IF(COUNTIF(G$2:G58,G58)=1,G58,\"\")","v":""},"","","","","",{"$f":"IF(I58=\"\",\"\",VLOOKUP(I58,List_CMS!$L$3:$Q$79,6,FALSE))","v":""}]
[{"$f":"+IF(H59=\"\",\"\",MAX(A$1:A58)+1)","v":""},{"$f":"IF(CMS_Downtime!F80=\"\",\"\",CMS_Downtime!F80)","v":""},{"$f":"IF(CMS_Downtime!$F80=\"\",\"\",CMS_Downtime!B80)","v":""},{"$f":"IF(CMS_Downtime!$F80=\"\",\"\",CMS_Downtime!C80)","v":""},{"$f":"IF(CMS_Downtime!$F80=\"\",\"\",CMS_Downtime!D80)","v":""},{"$f":"IF(CMS_Downtime!$F80=\"\",\"\",CMS_Downtime!E80)","v":""},"",{"$f":"IF(COUNTIF(G$2:G59,G59)=1,G59,\"\")","v":""},"","","","","",{"$f":"IF(I59=\"\",\"\",VLOOKUP(I59,List_CMS!$L$3:$Q$79,6,FALSE))","v":""}]
[{"$f":"+IF(H60=\"\",\"\",MAX(A$1:A59)+1)","v":""},{"$f":"IF(CMS_Downtime!F81=\"\",\"\",CMS_Downtime!F81)","v":""},{"$f":"IF(CMS_Downtime!$F81=\"\",\"\",CMS_Downtime!B81)","v":""},{"$f":"IF(CMS_Downtime!$F81=\"\",\"\",CMS_Downtime!C81)","v":""},{"$f":"IF(CMS_Downtime!$F81=\"\",\"\",CMS_Downtime!D81)","v":""},{"$f":"IF(CMS_Downtime!$F81=\"\",\"\",CMS_Downtime!E81)","v":""},"",{"$f":"IF(COUNTIF(G$2:G60,G60)=1,G60,\"\")","v":""},"","","","","",{"$f":"IF(I60=\"\",\"\",VLOOKUP(I60,List_CMS!$L$3:$Q$79,6,FALSE))","v":""}]
[{"$f":"+IF(H61=\"\",\"\",MAX(A$1:A60)+1)","v":""},{"$f":"IF(CMS_Downtime!F82=\"\",\"\",CMS_Downtime!F82)","v":""},{"$f":"IF(CMS_Downtime!$F82=\"\",\"\",CMS_Downtime!B82)","v":""},{"$f":"IF(CMS_Downtime!$F82=\"\",\"\",CMS_Downtime!C82)","v":""},{"$f":"IF(CMS_Downtime!$F82=\"\",\"\",CMS_Downtime!D82)","v":""},{"$f":"IF(CMS_Downtime!$F82=\"\",\"\",CMS_Downtime!E82)","v":""},"",{"$f":"IF(COUNTIF(G$2:G61,G61)=1,G61,\"\")","v":""},"","","","","",{"$f":"IF(I61=\"\",\"\",VLOOKUP(I61,List_CMS!$L$3:$Q$79,6,FALSE))","v":""}]
[{"$f":"+IF(H62=\"\",\"\",MAX(A$1:A61)+1)","v":""},{"$f":"IF(CMS_Downtime!F83=\"\",\"\",CMS_Downtime!F83)","v":""},{"$f":"IF(CMS_Downtime!$F83=\"\",\"\",CMS_Downtime!B83)","v":""},{"$f":"IF(CMS_Downtime!$F83=\"\",\"\",CMS_Downtime!C83)","v":""},{"$f":"IF(CMS_Downtime!$F83=\"\",\"\",CMS_Downtime!D83)","v":""},{"$f":"IF(CMS_Downtime!$F83=\"\",\"\",CMS_Downtime!E83)","v":""},"",{"$f":"IF(COUNTIF(G$2:G62,G62)=1,G62,\"\")","v":""},"","","","","",{"$f":"IF(I62=\"\",\"\",VLOOKUP(I62,List_CMS!$L$3:$Q$79,6,FALSE))","v":""}]
[{"$f":"+IF(H63=\"\",\"\",MAX(A$1:A62)+1)","v":""},{"$f":"IF(CMS_Downtime!F84=\"\",\"\",CMS_Downtime!F84)","v":""},{"$f":"IF(CMS_Downtime!$F84=\"\",\"\",CMS_Downtime!B84)","v":""},{"$f":"IF(CMS_Downtime!$F84=\"\",\"\",CMS_Downtime!C84)","v":""},{"$f":"IF(CMS_Downtime!$F84=\"\",\"\",CMS_Downtime!D84)","v":""},{"$f":"IF(CMS_Downtime!$F84=\"\",\"\",CMS_Downtime!E84)","v":""},"",{"$f":"IF(COUNTIF(G$2:G63,G63)=1,G63,\"\")","v":""},"","","","","",{"$f":"IF(I63=\"\",\"\",VLOOKUP(I63,List_CMS!$L$3:$Q$79,6,FALSE))","v":""}]
[{"$f":"+IF(H64=\"\",\"\",MAX(A$1:A63)+1)","v":""},{"$f":"IF(CMS_Downtime!F85=\"\",\"\",CMS_Downtime!F85)","v":""},{"$f":"IF(CMS_Downtime!$F85=\"\",\"\",CMS_Downtime!B85)","v":""},{"$f":"IF(CMS_Downtime!$F85=\"\",\"\",CMS_Downtime!C85)","v":""},{"$f":"IF(CMS_Downtime!$F85=\"\",\"\",CMS_Downtime!D85)","v":""},{"$f":"IF(CMS_Downtime!$F85=\"\",\"\",CMS_Downtime!E85)","v":""},"",{"$f":"IF(COUNTIF(G$2:G64,G64)=1,G64,\"\")","v":""},"","","","","",{"$f":"IF(I64=\"\",\"\",VLOOKUP(I64,List_CMS!$L$3:$Q$79,6,FALSE))","v":""}]
[{"$f":"+IF(H65=\"\",\"\",MAX(A$1:A64)+1)","v":""},{"$f":"IF(CMS_Downtime!F86=\"\",\"\",CMS_Downtime!F86)","v":""},{"$f":"IF(CMS_Downtime!$F86=\"\",\"\",CMS_Downtime!B86)","v":""},{"$f":"IF(CMS_Downtime!$F86=\"\",\"\",CMS_Downtime!C86)","v":""},{"$f":"IF(CMS_Downtime!$F86=\"\",\"\",CMS_Downtime!D86)","v":""},{"$f":"IF(CMS_Downtime!$F86=\"\",\"\",CMS_Downtime!E86)","v":""},"",{"$f":"IF(COUNTIF(G$2:G65,G65)=1,G65,\"\")","v":""},"","","","","",{"$f":"IF(I65=\"\",\"\",VLOOKUP(I65,List_CMS!$L$3:$Q$79,6,FALSE))","v":""}]
[{"$f":"+IF(H66=\"\",\"\",MAX(A$1:A65)+1)","v":""},{"$f":"IF(CMS_Downtime!F87=\"\",\"\",CMS_Downtime!F87)","v":""},{"$f":"IF(CMS_Downtime!$F87=\"\",\"\",CMS_Downtime!B87)","v":""},{"$f":"IF(CMS_Downtime!$F87=\"\",\"\",CMS_Downtime!C87)","v":""},{"$f":"IF(CMS_Downtime!$F87=\"\",\"\",CMS_Downtime!D87)","v":""},{"$f":"IF(CMS_Downtime!$F87=\"\",\"\",CMS_Downtime!E87)","v":""},"",{"$f":"IF(COUNTIF(G$2:G66,G66)=1,G66,\"\")","v":""},"","","","","",{"$f":"IF(I66=\"\",\"\",VLOOKUP(I66,List_CMS!$L$3:$Q$79,6,FALSE))","v":""}]
[{"$f":"+IF(H67=\"\",\"\",MAX(A$1:A66)+1)","v":""},{"$f":"IF(CMS_Downtime!F88=\"\",\"\",CMS_Downtime!F88)","v":""},{"$f":"IF(CMS_Downtime!$F88=\"\",\"\",CMS_Downtime!B88)","v":""},{"$f":"IF(CMS_Downtime!$F88=\"\",\"\",CMS_Downtime!C88)","v":""},{"$f":"IF(CMS_Downtime!$F88=\"\",\"\",CMS_Downtime!D88)","v":""},{"$f":"IF(CMS_Downtime!$F88=\"\",\"\",CMS_Downtime!E88)","v":""},"",{"$f":"IF(COUNTIF(G$2:G67,G67)=1,G67,\"\")","v":""},{"$f":"+IFERROR(INDEX($H$2:$H$499,MATCH(ROW()-ROW($I$2),$A$2:$A$499,0)),\"\")","v":""},"","","","",{"$f":"IF(I67=\"\",\"\",VLOOKUP(I67,List_CMS!$L$3:$Q$79,6,FALSE))","v":""}]
[{"$f":"+IF(H68=\"\",\"\",MAX(A$1:A67)+1)","v":""},{"$f":"IF(CMS_Downtime!F89=\"\",\"\",CMS_Downtime!F89)","v":""},{"$f":"IF(CMS_Downtime!$F89=\"\",\"\",CMS_Downtime!B89)","v":""},{"$f":"IF(CMS_Downtime!$F89=\"\",\"\",CMS_Downtime!C89)","v":""},{"$f":"IF(CMS_Downtime!$F89=\"\",\"\",CMS_Downtime!D89)","v":""},{"$f":"IF(CMS_Downtime!$F89=\"\",\"\",CMS_Downtime!E89)","v":""},{"$f":"IF(B68=\"\",\"\",C68&\" - \"&D68&\" - \"&F68)","v":""},{"$f":"IF(COUNTIF(G$2:G68,G68)=1,G68,\"\")","v":""},"",{"$f":"+IFERROR(INDEX(C$2:C$499,MATCH(ROW()-ROW($I$2),$A$2:$A$499,0)),\"\")","v":""},{"$f":"+IFERROR(INDEX(D$2:D$499,MATCH(ROW()-ROW($I$2),$A$2:$A$499,0)),\"\")","v":""},{"$f":"+IFERROR(INDEX(E$2:E$499,MATCH(ROW()-ROW($I$2),$A$2:$A$499,0)),\"\")","v":""},{"$f":"+IFERROR(INDEX(F$2:F$499,MATCH(ROW()-ROW($I$2),$A$2:$A$499,0)),\"\")","v":""},{"$f":"IF(I68=\"\",\"\",VLOOKUP(I68,List_CMS!$L$3:$Q$79,6,FALSE))","v":""}]
[{"$f":"+IF(H69=\"\",\"\",MAX(A$1:A68)+1)","v":""},{"$f":"IF(CMS_Downtime!F90=\"\",\"\",CMS_Downtime!F90)","v":""},{"$f":"IF(CMS_Downtime!$F90=\"\",\"\",CMS_Downtime!B90)","v":""},{"$f":"IF(CMS_Downtime!$F90=\"\",\"\",CMS_Downtime!C90)","v":""},{"$f":"IF(CMS_Downtime!$F90=\"\",\"\",CMS_Downtime!D90)","v":""},{"$f":"IF(CMS_Downtime!$F90=\"\",\"\",CMS_Downtime!E90)","v":""},"",{"$f":"IF(COUNTIF(G$2:G69,G69)=1,G69,\"\")","v":""},"","","","","",{"$f":"IF(I69=\"\",\"\",VLOOKUP(I69,List_CMS!$L$3:$Q$79,6,FALSE))","v":""}]
[{"$f":"+IF(H70=\"\",\"\",MAX(A$1:A69)+1)","v":""},{"$f":"IF(CMS_Downtime!F91=\"\",\"\",CMS_Downtime!F91)","v":""},{"$f":"IF(CMS_Downtime!$F91=\"\",\"\",CMS_Downtime!B91)","v":""},{"$f":"IF(CMS_Downtime!$F91=\"\",\"\",CMS_Downtime!C91)","v":""},{"$f":"IF(CMS_Downtime!$F91=\"\",\"\",CMS_Downtime!D91)","v":""},{"$f":"IF(CMS_Downtime!$F91=\"\",\"\",CMS_Downtime!E91)","v":""},"",{"$f":"IF(COUNTIF(G$2:G70,G70)=1,G70,\"\")","v":""},"","","","","",{"$f":"IF(I70=\"\",\"\",VLOOKUP(I70,List_CMS!$L$3:$Q$79,6,FALSE))","v":""}]
[{"$f":"+IF(H71=\"\",\"\",MAX(A$1:A70)+1)","v":""},{"$f":"IF(CMS_Downtime!F92=\"\",\"\",CMS_Downtime!F92)","v":""},{"$f":"IF(CMS_Downtime!$F92=\"\",\"\",CMS_Downtime!B92)","v":""},{"$f":"IF(CMS_Downtime!$F92=\"\",\"\",CMS_Downtime!C92)","v":""},{"$f":"IF(CMS_Downtime!$F92=\"\",\"\",CMS_Downtime!D92)","v":""},{"$f":"IF(CMS_Downtime!$F92=\"\",\"\",CMS_Downtime!E92)","v":""},"",{"$f":"IF(COUNTIF(G$2:G71,G71)=1,G71,\"\")","v":""},"","","","","",{"$f":"IF(I71=\"\",\"\",VLOOKUP(I71,List_CMS!$L$3:$Q$79,6,FALSE))","v":""}]
[{"$f":"+IF(H72=\"\",\"\",MAX(A$1:A71)+1)","v":""},{"$f":"IF(CMS_Downtime!F93=\"\",\"\",CMS_Downtime!F93)","v":""},{"$f":"IF(CMS_Downtime!$F93=\"\",\"\",CMS_Downtime!B93)","v":""},{"$f":"IF(CMS_Downtime!$F93=\"\",\"\",CMS_Downtime!C93)","v":""},{"$f":"IF(CMS_Downtime!$F93=\"\",\"\",CMS_Downtime!D93)","v":""},{"$f":"IF(CMS_Downtime!$F93=\"\",\"\",CMS_Downtime!E93)","v":""},"",{"$f":"IF(COUNTIF(G$2:G72,G72)=1,G72,\"\")","v":""},"","","","","",{"$f":"IF(I72=\"\",\"\",VLOOKUP(I72,List_CMS!$L$3:$Q$79,6,FALSE))","v":""}]
[{"$f":"+IF(H73=\"\",\"\",MAX(A$1:A72)+1)","v":""},{"$f":"IF(CMS_Downtime!F94=\"\",\"\",CMS_Downtime!F94)","v":""},{"$f":"IF(CMS_Downtime!$F94=\"\",\"\",CMS_Downtime!B94)","v":""},{"$f":"IF(CMS_Downtime!$F94=\"\",\"\",CMS_Downtime!C94)","v":""},{"$f":"IF(CMS_Downtime!$F94=\"\",\"\",CMS_Downtime!D94)","v":""},{"$f":"IF(CMS_Downtime!$F94=\"\",\"\",CMS_Downtime!E94)","v":""},"",{"$f":"IF(COUNTIF(G$2:G73,G73)=1,G73,\"\")","v":""},"","","","","",{"$f":"IF(I73=\"\",\"\",VLOOKUP(I73,List_CMS!$L$3:$Q$79,6,FALSE))","v":""}]
[{"$f":"+IF(H74=\"\",\"\",MAX(A$1:A73)+1)","v":""},{"$f":"IF(CMS_Downtime!F95=\"\",\"\",CMS_Downtime!F95)","v":""},{"$f":"IF(CMS_Downtime!$F95=\"\",\"\",CMS_Downtime!B95)","v":""},{"$f":"IF(CMS_Downtime!$F95=\"\",\"\",CMS_Downtime!C95)","v":""},{"$f":"IF(CMS_Downtime!$F95=\"\",\"\",CMS_Downtime!D95)","v":""},{"$f":"IF(CMS_Downtime!$F95=\"\",\"\",CMS_Downtime!E95)","v":""},"",{"$f":"IF(COUNTIF(G$2:G74,G74)=1,G74,\"\")","v":""},"","","","","",{"$f":"IF(I74=\"\",\"\",VLOOKUP(I74,List_CMS!$L$3:$Q$79,6,FALSE))","v":""}]
[{"$f":"+IF(H75=\"\",\"\",MAX(A$1:A74)+1)","v":""},{"$f":"IF(CMS_Downtime!F96=\"\",\"\",CMS_Downtime!F96)","v":""},{"$f":"IF(CMS_Downtime!$F96=\"\",\"\",CMS_Downtime!B96)","v":""},{"$f":"IF(CMS_Downtime!$F96=\"\",\"\",CMS_Downtime!C96)","v":""},{"$f":"IF(CMS_Downtime!$F96=\"\",\"\",CMS_Downtime!D96)","v":""},{"$f":"IF(CMS_Downtime!$F96=\"\",\"\",CMS_Downtime!E96)","v":""},"",{"$f":"IF(COUNTIF(G$2:G75,G75)=1,G75,\"\")","v":""},"","","","","",{"$f":"IF(I75=\"\",\"\",VLOOKUP(I75,List_CMS!$L$3:$Q$79,6,FALSE))","v":""}]
[{"$f":"+IF(H76=\"\",\"\",MAX(A$1:A75)+1)","v":""},{"$f":"IF(CMS_Downtime!F97=\"\",\"\",CMS_Downtime!F97)","v":""},{"$f":"IF(CMS_Downtime!$F97=\"\",\"\",CMS_Downtime!B97)","v":""},{"$f":"IF(CMS_Downtime!$F97=\"\",\"\",CMS_Downtime!C97)","v":""},{"$f":"IF(CMS_Downtime!$F97=\"\",\"\",CMS_Downtime!D97)","v":""},{"$f":"IF(CMS_Downtime!$F97=\"\",\"\",CMS_Downtime!E97)","v":""},"",{"$f":"IF(COUNTIF(G$2:G76,G76)=1,G76,\"\")","v":""},"","","","","",{"$f":"IF(I76=\"\",\"\",VLOOKUP(I76,List_CMS!$L$3:$Q$79,6,FALSE))","v":""}]
[{"$f":"+IF(H77=\"\",\"\",MAX(A$1:A76)+1)","v":""},{"$f":"IF(CMS_Downtime!F98=\"\",\"\",CMS_Downtime!F98)","v":""},{"$f":"IF(CMS_Downtime!$F98=\"\",\"\",CMS_Downtime!B98)","v":""},{"$f":"IF(CMS_Downtime!$F98=\"\",\"\",CMS_Downtime!C98)","v":""},{"$f":"IF(CMS_Downtime!$F98=\"\",\"\",CMS_Downtime!D98)","v":""},{"$f":"IF(CMS_Downtime!$F98=\"\",\"\",CMS_Downtime!E98)","v":""},"",{"$f":"IF(COUNTIF(G$2:G77,G77)=1,G77,\"\")","v":""},"","","","","",{"$f":"IF(I77=\"\",\"\",VLOOKUP(I77,List_CMS!$L$3:$Q$79,6,FALSE))","v":""}]
[{"$f":"+IF(H78=\"\",\"\",MAX(A$1:A77)+1)","v":""},{"$f":"IF(CMS_Downtime!F99=\"\",\"\",CMS_Downtime!F99)","v":""},{"$f":"IF(CMS_Downtime!$F99=\"\",\"\",CMS_Downtime!B99)","v":""},{"$f":"IF(CMS_Downtime!$F99=\"\",\"\",CMS_Downtime!C99)","v":""},{"$f":"IF(CMS_Downtime!$F99=\"\",\"\",CMS_Downtime!D99)","v":""},{"$f":"IF(CMS_Downtime!$F99=\"\",\"\",CMS_Downtime!E99)","v":""},"",{"$f":"IF(COUNTIF(G$2:G78,G78)=1,G78,\"\")","v":""},"","","","","",{"$f":"IF(I78=\"\",\"\",VLOOKUP(I78,List_CMS!$L$3:$Q$79,6,FALSE))","v":""}]
[{"$f":"+IF(H79=\"\",\"\",MAX(A$1:A78)+1)","v":""},{"$f":"IF(CMS_Downtime!F100=\"\",\"\",CMS_Downtime!F100)","v":""},{"$f":"IF(CMS_Downtime!$F100=\"\",\"\",CMS_Downtime!B100)","v":""},{"$f":"IF(CMS_Downtime!$F100=\"\",\"\",CMS_Downtime!C100)","v":""},{"$f":"IF(CMS_Downtime!$F100=\"\",\"\",CMS_Downtime!D100)","v":""},{"$f":"IF(CMS_Downtime!$F100=\"\",\"\",CMS_Downtime!E100)","v":""},"",{"$f":"IF(COUNTIF(G$2:G79,G79)=1,G79,\"\")","v":""},"","","","","",{"$f":"IF(I79=\"\",\"\",VLOOKUP(I79,List_CMS!$L$3:$Q$79,6,FALSE))","v":""}]
[{"$f":"+IF(H80=\"\",\"\",MAX(A$1:A79)+1)","v":""},{"$f":"IF(CMS_Downtime!F101=\"\",\"\",CMS_Downtime!F101)","v":""},{"$f":"IF(CMS_Downtime!$F101=\"\",\"\",CMS_Downtime!B101)","v":""},{"$f":"IF(CMS_Downtime!$F101=\"\",\"\",CMS_Downtime!C101)","v":""},{"$f":"IF(CMS_Downtime!$F101=\"\",\"\",CMS_Downtime!D101)","v":""},{"$f":"IF(CMS_Downtime!$F101=\"\",\"\",CMS_Downtime!E101)","v":""},"",{"$f":"IF(COUNTIF(G$2:G80,G80)=1,G80,\"\")","v":""},"","","","","",{"$f":"IF(I80=\"\",\"\",VLOOKUP(I80,List_CMS!$L$3:$Q$79,6,FALSE))","v":""}]
[{"$f":"+IF(H81=\"\",\"\",MAX(A$1:A80)+1)","v":""},{"$f":"IF(CMS_Downtime!F102=\"\",\"\",CMS_Downtime!F102)","v":""},{"$f":"IF(CMS_Downtime!$F102=\"\",\"\",CMS_Downtime!B102)","v":""},{"$f":"IF(CMS_Downtime!$F102=\"\",\"\",CMS_Downtime!C102)","v":""},{"$f":"IF(CMS_Downtime!$F102=\"\",\"\",CMS_Downtime!D102)","v":""},{"$f":"IF(CMS_Downtime!$F102=\"\",\"\",CMS_Downtime!E102)","v":""},"",{"$f":"IF(COUNTIF(G$2:G81,G81)=1,G81,\"\")","v":""},"","","","","",{"$f":"IF(I81=\"\",\"\",VLOOKUP(I81,List_CMS!$L$3:$Q$79,6,FALSE))","v":""}]
[{"$f":"+IF(H82=\"\",\"\",MAX(A$1:A81)+1)","v":""},{"$f":"IF(CMS_Downtime!F103=\"\",\"\",CMS_Downtime!F103)","v":""},{"$f":"IF(CMS_Downtime!$F103=\"\",\"\",CMS_Downtime!B103)","v":""},{"$f":"IF(CMS_Downtime!$F103=\"\",\"\",CMS_Downtime!C103)","v":""},{"$f":"IF(CMS_Downtime!$F103=\"\",\"\",CMS_Downtime!D103)","v":""},{"$f":"IF(CMS_Downtime!$F103=\"\",\"\",CMS_Downtime!E103)","v":""},"",{"$f":"IF(COUNTIF(G$2:G82,G82)=1,G82,\"\")","v":""},"","","","","",{"$f":"IF(I82=\"\",\"\",VLOOKUP(I82,List_CMS!$L$3:$Q$79,6,FALSE))","v":""}]
[{"$f":"+IF(H83=\"\",\"\",MAX(A$1:A82)+1)","v":""},{"$f":"IF(CMS_Downtime!F104=\"\",\"\",CMS_Downtime!F104)","v":""},{"$f":"IF(CMS_Downtime!$F104=\"\",\"\",CMS_Downtime!B104)","v":""},{"$f":"IF(CMS_Downtime!$F104=\"\",\"\",CMS_Downtime!C104)","v":""},{"$f":"IF(CMS_Downtime!$F104=\"\",\"\",CMS_Downtime!D104)","v":""},{"$f":"IF(CMS_Downtime!$F104=\"\",\"\",CMS_Downtime!E104)","v":""},"",{"$f":"IF(COUNTIF(G$2:G83,G83)=1,G83,\"\")","v":""},"","","","","",{"$f":"IF(I83=\"\",\"\",VLOOKUP(I83,List_CMS!$L$3:$Q$79,6,FALSE))","v":""}]
[{"$f":"+IF(H84=\"\",\"\",MAX(A$1:A83)+1)","v":""},{"$f":"IF(CMS_Downtime!F105=\"\",\"\",CMS_Downtime!F105)","v":""},{"$f":"IF(CMS_Downtime!$F105=\"\",\"\",CMS_Downtime!B105)","v":""},{"$f":"IF(CMS_Downtime!$F105=\"\",\"\",CMS_Downtime!C105)","v":""},{"$f":"IF(CMS_Downtime!$F105=\"\",\"\",CMS_Downtime!D105)","v":""},{"$f":"IF(CMS_Downtime!$F105=\"\",\"\",CMS_Downtime!E105)","v":""},"",{"$f":"IF(COUNTIF(G$2:G84,G84)=1,G84,\"\")","v":""},"","","","","",{"$f":"IF(I84=\"\",\"\",VLOOKUP(I84,List_CMS!$L$3:$Q$79,6,FALSE))","v":""}]
[{"$f":"+IF(H85=\"\",\"\",MAX(A$1:A84)+1)","v":""},{"$f":"IF(CMS_Downtime!F106=\"\",\"\",CMS_Downtime!F106)","v":""},{"$f":"IF(CMS_Downtime!$F106=\"\",\"\",CMS_Downtime!B106)","v":""},{"$f":"IF(CMS_Downtime!$F106=\"\",\"\",CMS_Downtime!C106)","v":""},{"$f":"IF(CMS_Downtime!$F106=\"\",\"\",CMS_Downtime!D106)","v":""},{"$f":"IF(CMS_Downtime!$F106=\"\",\"\",CMS_Downtime!E106)","v":""},"",{"$f":"IF(COUNTIF(G$2:G85,G85)=1,G85,\"\")","v":""},"","","","","",{"$f":"IF(I85=\"\",\"\",VLOOKUP(I85,List_CMS!$L$3:$Q$79,6,FALSE))","v":""}]
[{"$f":"+IF(H86=\"\",\"\",MAX(A$1:A85)+1)","v":""},{"$f":"IF(CMS_Downtime!F107=\"\",\"\",CMS_Downtime!F107)","v":""},{"$f":"IF(CMS_Downtime!$F107=\"\",\"\",CMS_Downtime!B107)","v":""},{"$f":"IF(CMS_Downtime!$F107=\"\",\"\",CMS_Downtime!C107)","v":""},{"$f":"IF(CMS_Downtime!$F107=\"\",\"\",CMS_Downtime!D107)","v":""},{"$f":"IF(CMS_Downtime!$F107=\"\",\"\",CMS_Downtime!E107)","v":""},"",{"$f":"IF(COUNTIF(G$2:G86,G86)=1,G86,\"\")","v":""},"","","","","",{"$f":"IF(I86=\"\",\"\",VLOOKUP(I86,List_CMS!$L$3:$Q$79,6,FALSE))","v":""}]
[{"$f":"+IF(H87=\"\",\"\",MAX(A$1:A86)+1)","v":""},{"$f":"IF(CMS_Downtime!F108=\"\",\"\",CMS_Downtime!F108)","v":""},{"$f":"IF(CMS_Downtime!$F108=\"\",\"\",CMS_Downtime!B108)","v":""},{"$f":"IF(CMS_Downtime!$F108=\"\",\"\",CMS_Downtime!C108)","v":""},{"$f":"IF(CMS_Downtime!$F108=\"\",\"\",CMS_Downtime!D108)","v":""},{"$f":"IF(CMS_Downtime!$F108=\"\",\"\",CMS_Downtime!E108)","v":""},"",{"$f":"IF(COUNTIF(G$2:G87,G87)=1,G87,\"\")","v":""},"","","","","",{"$f":"IF(I87=\"\",\"\",VLOOKUP(I87,List_CMS!$L$3:$Q$79,6,FALSE))","v":""}]
[{"$f":"+IF(H88=\"\",\"\",MAX(A$1:A87)+1)","v":""},{"$f":"IF(CMS_Downtime!F109=\"\",\"\",CMS_Downtime!F109)","v":""},{"$f":"IF(CMS_Downtime!$F109=\"\",\"\",CMS_Downtime!B109)","v":""},{"$f":"IF(CMS_Downtime!$F109=\"\",\"\",CMS_Downtime!C109)","v":""},{"$f":"IF(CMS_Downtime!$F109=\"\",\"\",CMS_Downtime!D109)","v":""},{"$f":"IF(CMS_Downtime!$F109=\"\",\"\",CMS_Downtime!E109)","v":""},"",{"$f":"IF(COUNTIF(G$2:G88,G88)=1,G88,\"\")","v":""},"","","","","",{"$f":"IF(I88=\"\",\"\",VLOOKUP(I88,List_CMS!$L$3:$Q$79,6,FALSE))","v":""}]
[{"$f":"+IF(H89=\"\",\"\",MAX(A$1:A88)+1)","v":""},{"$f":"IF(CMS_Downtime!F110=\"\",\"\",CMS_Downtime!F110)","v":""},{"$f":"IF(CMS_Downtime!$F110=\"\",\"\",CMS_Downtime!B110)","v":""},{"$f":"IF(CMS_Downtime!$F110=\"\",\"\",CMS_Downtime!C110)","v":""},{"$f":"IF(CMS_Downtime!$F110=\"\",\"\",CMS_Downtime!D110)","v":""},{"$f":"IF(CMS_Downtime!$F110=\"\",\"\",CMS_Downtime!E110)","v":""},"",{"$f":"IF(COUNTIF(G$2:G89,G89)=1,G89,\"\")","v":""},"","","","","",{"$f":"IF(I89=\"\",\"\",VLOOKUP(I89,List_CMS!$L$3:$Q$79,6,FALSE))","v":""}]
[{"$f":"+IF(H90=\"\",\"\",MAX(A$1:A89)+1)","v":""},{"$f":"IF(CMS_Downtime!F111=\"\",\"\",CMS_Downtime!F111)","v":""},{"$f":"IF(CMS_Downtime!$F111=\"\",\"\",CMS_Downtime!B111)","v":""},{"$f":"IF(CMS_Downtime!$F111=\"\",\"\",CMS_Downtime!C111)","v":""},{"$f":"IF(CMS_Downtime!$F111=\"\",\"\",CMS_Downtime!D111)","v":""},{"$f":"IF(CMS_Downtime!$F111=\"\",\"\",CMS_Downtime!E111)","v":""},"",{"$f":"IF(COUNTIF(G$2:G90,G90)=1,G90,\"\")","v":""},"","","","","",{"$f":"IF(I90=\"\",\"\",VLOOKUP(I90,List_CMS!$L$3:$Q$79,6,FALSE))","v":""}]
[{"$f":"+IF(H91=\"\",\"\",MAX(A$1:A90)+1)","v":""},{"$f":"IF(CMS_Downtime!F112=\"\",\"\",CMS_Downtime!F112)","v":""},{"$f":"IF(CMS_Downtime!$F112=\"\",\"\",CMS_Downtime!B112)","v":""},{"$f":"IF(CMS_Downtime!$F112=\"\",\"\",CMS_Downtime!C112)","v":""},{"$f":"IF(CMS_Downtime!$F112=\"\",\"\",CMS_Downtime!D112)","v":""},{"$f":"IF(CMS_Downtime!$F112=\"\",\"\",CMS_Downtime!E112)","v":""},"",{"$f":"IF(COUNTIF(G$2:G91,G91)=1,G91,\"\")","v":""},"","","","","",{"$f":"IF(I91=\"\",\"\",VLOOKUP(I91,List_CMS!$L$3:$Q$79,6,FALSE))","v":""}]
[{"$f":"+IF(H92=\"\",\"\",MAX(A$1:A91)+1)","v":""},{"$f":"IF(CMS_Downtime!F113=\"\",\"\",CMS_Downtime!F113)","v":""},{"$f":"IF(CMS_Downtime!$F113=\"\",\"\",CMS_Downtime!B113)","v":""},{"$f":"IF(CMS_Downtime!$F113=\"\",\"\",CMS_Downtime!C113)","v":""},{"$f":"IF(CMS_Downtime!$F113=\"\",\"\",CMS_Downtime!D113)","v":""},{"$f":"IF(CMS_Downtime!$F113=\"\",\"\",CMS_Downtime!E113)","v":""},"",{"$f":"IF(COUNTIF(G$2:G92,G92)=1,G92,\"\")","v":""},"","","","","",{"$f":"IF(I92=\"\",\"\",VLOOKUP(I92,List_CMS!$L$3:$Q$79,6,FALSE))","v":""}]
[{"$f":"+IF(H93=\"\",\"\",MAX(A$1:A92)+1)","v":""},{"$f":"IF(CMS_Downtime!F114=\"\",\"\",CMS_Downtime!F114)","v":""},{"$f":"IF(CMS_Downtime!$F114=\"\",\"\",CMS_Downtime!B114)","v":""},{"$f":"IF(CMS_Downtime!$F114=\"\",\"\",CMS_Downtime!C114)","v":""},{"$f":"IF(CMS_Downtime!$F114=\"\",\"\",CMS_Downtime!D114)","v":""},{"$f":"IF(CMS_Downtime!$F114=\"\",\"\",CMS_Downtime!E114)","v":""},"",{"$f":"IF(COUNTIF(G$2:G93,G93)=1,G93,\"\")","v":""},"","","","","",{"$f":"IF(I93=\"\",\"\",VLOOKUP(I93,List_CMS!$L$3:$Q$79,6,FALSE))","v":""}]
[{"$f":"+IF(H94=\"\",\"\",MAX(A$1:A93)+1)","v":""},{"$f":"IF(CMS_Downtime!F115=\"\",\"\",CMS_Downtime!F115)","v":""},{"$f":"IF(CMS_Downtime!$F115=\"\",\"\",CMS_Downtime!B115)","v":""},{"$f":"IF(CMS_Downtime!$F115=\"\",\"\",CMS_Downtime!C115)","v":""},{"$f":"IF(CMS_Downtime!$F115=\"\",\"\",CMS_Downtime!D115)","v":""},{"$f":"IF(CMS_Downtime!$F115=\"\",\"\",CMS_Downtime!E115)","v":""},"",{"$f":"IF(COUNTIF(G$2:G94,G94)=1,G94,\"\")","v":""},"","","","","",{"$f":"IF(I94=\"\",\"\",VLOOKUP(I94,List_CMS!$L$3:$Q$79,6,FALSE))","v":""}]
[{"$f":"+IF(H95=\"\",\"\",MAX(A$1:A94)+1)","v":""},{"$f":"IF(CMS_Downtime!F116=\"\",\"\",CMS_Downtime!F116)","v":""},{"$f":"IF(CMS_Downtime!$F116=\"\",\"\",CMS_Downtime!B116)","v":""},{"$f":"IF(CMS_Downtime!$F116=\"\",\"\",CMS_Downtime!C116)","v":""},{"$f":"IF(CMS_Downtime!$F116=\"\",\"\",CMS_Downtime!D116)","v":""},{"$f":"IF(CMS_Downtime!$F116=\"\",\"\",CMS_Downtime!E116)","v":""},"",{"$f":"IF(COUNTIF(G$2:G95,G95)=1,G95,\"\")","v":""},"","","","","",{"$f":"IF(I95=\"\",\"\",VLOOKUP(I95,List_CMS!$L$3:$Q$79,6,FALSE))","v":""}]
[{"$f":"+IF(H96=\"\",\"\",MAX(A$1:A95)+1)","v":""},{"$f":"IF(CMS_Downtime!F117=\"\",\"\",CMS_Downtime!F117)","v":""},{"$f":"IF(CMS_Downtime!$F117=\"\",\"\",CMS_Downtime!B117)","v":""},{"$f":"IF(CMS_Downtime!$F117=\"\",\"\",CMS_Downtime!C117)","v":""},{"$f":"IF(CMS_Downtime!$F117=\"\",\"\",CMS_Downtime!D117)","v":""},{"$f":"IF(CMS_Downtime!$F117=\"\",\"\",CMS_Downtime!E117)","v":""},"",{"$f":"IF(COUNTIF(G$2:G96,G96)=1,G96,\"\")","v":""},"","","","","",{"$f":"IF(I96=\"\",\"\",VLOOKUP(I96,List_CMS!$L$3:$Q$79,6,FALSE))","v":""}]
[{"$f":"+IF(H97=\"\",\"\",MAX(A$1:A96)+1)","v":""},{"$f":"IF(CMS_Downtime!F118=\"\",\"\",CMS_Downtime!F118)","v":""},{"$f":"IF(CMS_Downtime!$F118=\"\",\"\",CMS_Downtime!B118)","v":""},{"$f":"IF(CMS_Downtime!$F118=\"\",\"\",CMS_Downtime!C118)","v":""},{"$f":"IF(CMS_Downtime!$F118=\"\",\"\",CMS_Downtime!D118)","v":""},{"$f":"IF(CMS_Downtime!$F118=\"\",\"\",CMS_Downtime!E118)","v":""},"",{"$f":"IF(COUNTIF(G$2:G97,G97)=1,G97,\"\")","v":""},"","","","","",{"$f":"IF(I97=\"\",\"\",VLOOKUP(I97,List_CMS!$L$3:$Q$79,6,FALSE))","v":""}]
[{"$f":"+IF(H98=\"\",\"\",MAX(A$1:A97)+1)","v":""},{"$f":"IF(CMS_Downtime!F119=\"\",\"\",CMS_Downtime!F119)","v":""},{"$f":"IF(CMS_Downtime!$F119=\"\",\"\",CMS_Downtime!B119)","v":""},{"$f":"IF(CMS_Downtime!$F119=\"\",\"\",CMS_Downtime!C119)","v":""},{"$f":"IF(CMS_Downtime!$F119=\"\",\"\",CMS_Downtime!D119)","v":""},{"$f":"IF(CMS_Downtime!$F119=\"\",\"\",CMS_Downtime!E119)","v":""},"",{"$f":"IF(COUNTIF(G$2:G98,G98)=1,G98,\"\")","v":""},"","","","","",{"$f":"IF(I98=\"\",\"\",VLOOKUP(I98,List_CMS!$L$3:$Q$79,6,FALSE))","v":""}]
[{"$f":"+IF(H99=\"\",\"\",MAX(A$1:A98)+1)","v":""},{"$f":"IF(CMS_Downtime!F120=\"\",\"\",CMS_Downtime!F120)","v":""},{"$f":"IF(CMS_Downtime!$F120=\"\",\"\",CMS_Downtime!B120)","v":""},{"$f":"IF(CMS_Downtime!$F120=\"\",\"\",CMS_Downtime!C120)","v":""},{"$f":"IF(CMS_Downtime!$F120=\"\",\"\",CMS_Downtime!D120)","v":""},{"$f":"IF(CMS_Downtime!$F120=\"\",\"\",CMS_Downtime!E120)","v":""},"",{"$f":"IF(COUNTIF(G$2:G99,G99)=1,G99,\"\")","v":""},"","","","","",{"$f":"IF(I99=\"\",\"\",VLOOKUP(I99,List_CMS!$L$3:$Q$79,6,FALSE))","v":""}]
[{"$f":"+IF(H100=\"\",\"\",MAX(A$1:A99)+1)","v":""},{"$f":"IF(CMS_Downtime!F121=\"\",\"\",CMS_Downtime!F121)","v":""},{"$f":"IF(CMS_Downtime!$F121=\"\",\"\",CMS_Downtime!B121)","v":""},{"$f":"IF(CMS_Downtime!$F121=\"\",\"\",CMS_Downtime!C121)","v":""},{"$f":"IF(CMS_Downtime!$F121=\"\",\"\",CMS_Downtime!D121)","v":""},{"$f":"IF(CMS_Downtime!$F121=\"\",\"\",CMS_Downtime!E121)","v":""},"",{"$f":"IF(COUNTIF(G$2:G100,G100)=1,G100,\"\")","v":""},"","","","","",{"$f":"IF(I100=\"\",\"\",VLOOKUP(I100,List_CMS!$L$3:$Q$79,6,FALSE))","v":""}]
[{"$f":"+IF(H101=\"\",\"\",MAX(A$1:A100)+1)","v":""},{"$f":"IF(CMS_Downtime!F122=\"\",\"\",CMS_Downtime!F122)","v":""},{"$f":"IF(CMS_Downtime!$F122=\"\",\"\",CMS_Downtime!B122)","v":""},{"$f":"IF(CMS_Downtime!$F122=\"\",\"\",CMS_Downtime!C122)","v":""},{"$f":"IF(CMS_Downtime!$F122=\"\",\"\",CMS_Downtime!D122)","v":""},{"$f":"IF(CMS_Downtime!$F122=\"\",\"\",CMS_Downtime!E122)","v":""},"",{"$f":"IF(COUNTIF(G$2:G101,G101)=1,G101,\"\")","v":""},"","","","","",{"$f":"IF(I101=\"\",\"\",VLOOKUP(I101,List_CMS!$L$3:$Q$79,6,FALSE))","v":""}]
[{"$f":"+IF(H102=\"\",\"\",MAX(A$1:A101)+1)","v":""},{"$f":"IF(CMS_Downtime!F123=\"\",\"\",CMS_Downtime!F123)","v":""},{"$f":"IF(CMS_Downtime!$F123=\"\",\"\",CMS_Downtime!B123)","v":""},{"$f":"IF(CMS_Downtime!$F123=\"\",\"\",CMS_Downtime!C123)","v":""},{"$f":"IF(CMS_Downtime!$F123=\"\",\"\",CMS_Downtime!D123)","v":""},{"$f":"IF(CMS_Downtime!$F123=\"\",\"\",CMS_Downtime!E123)","v":""},"",{"$f":"IF(COUNTIF(G$2:G102,G102)=1,G102,\"\")","v":""},"","","","","",{"$f":"IF(I102=\"\",\"\",VLOOKUP(I102,List_CMS!$L$3:$Q$79,6,FALSE))","v":""}]
[{"$f":"+IF(H103=\"\",\"\",MAX(A$1:A102)+1)","v":""},{"$f":"IF(CMS_Downtime!F124=\"\",\"\",CMS_Downtime!F124)","v":""},{"$f":"IF(CMS_Downtime!$F124=\"\",\"\",CMS_Downtime!B124)","v":""},{"$f":"IF(CMS_Downtime!$F124=\"\",\"\",CMS_Downtime!C124)","v":""},{"$f":"IF(CMS_Downtime!$F124=\"\",\"\",CMS_Downtime!D124)","v":""},{"$f":"IF(CMS_Downtime!$F124=\"\",\"\",CMS_Downtime!E124)","v":""},"",{"$f":"IF(COUNTIF(G$2:G103,G103)=1,G103,\"\")","v":""},"","","","","",{"$f":"IF(I103=\"\",\"\",VLOOKUP(I103,List_CMS!$L$3:$Q$79,6,FALSE))","v":""}]
[{"$f":"+IF(H104=\"\",\"\",MAX(A$1:A103)+1)","v":""},{"$f":"IF(CMS_Downtime!F125=\"\",\"\",CMS_Downtime!F125)","v":""},{"$f":"IF(CMS_Downtime!$F125=\"\",\"\",CMS_Downtime!B125)","v":""},{"$f":"IF(CMS_Downtime!$F125=\"\",\"\",CMS_Downtime!C125)","v":""},{"$f":"IF(CMS_Downtime!$F125=\"\",\"\",CMS_Downtime!D125)","v":""},{"$f":"IF(CMS_Downtime!$F125=\"\",\"\",CMS_Downtime!E125)","v":""},"",{"$f":"IF(COUNTIF(G$2:G104,G104)=1,G104,\"\")","v":""},"","","","","",{"$f":"IF(I104=\"\",\"\",VLOOKUP(I104,List_CMS!$L$3:$Q$79,6,FALSE))","v":""}]
[{"$f":"+IF(H105=\"\",\"\",MAX(A$1:A104)+1)","v":""},{"$f":"IF(CMS_Downtime!F126=\"\",\"\",CMS_Downtime!F126)","v":""},{"$f":"IF(CMS_Downtime!$F126=\"\",\"\",CMS_Downtime!B126)","v":""},{"$f":"IF(CMS_Downtime!$F126=\"\",\"\",CMS_Downtime!C126)","v":""},{"$f":"IF(CMS_Downtime!$F126=\"\",\"\",CMS_Downtime!D126)","v":""},{"$f":"IF(CMS_Downtime!$F126=\"\",\"\",CMS_Downtime!E126)","v":""},"",{"$f":"IF(COUNTIF(G$2:G105,G105)=1,G105,\"\")","v":""},"","","","","",{"$f":"IF(I105=\"\",\"\",VLOOKUP(I105,List_CMS!$L$3:$Q$79,6,FALSE))","v":""}]
[{"$f":"+IF(H106=\"\",\"\",MAX(A$1:A105)+1)","v":""},{"$f":"IF(CMS_Downtime!F127=\"\",\"\",CMS_Downtime!F127)","v":""},{"$f":"IF(CMS_Downtime!$F127=\"\",\"\",CMS_Downtime!B127)","v":""},{"$f":"IF(CMS_Downtime!$F127=\"\",\"\",CMS_Downtime!C127)","v":""},{"$f":"IF(CMS_Downtime!$F127=\"\",\"\",CMS_Downtime!D127)","v":""},{"$f":"IF(CMS_Downtime!$F127=\"\",\"\",CMS_Downtime!E127)","v":""},"",{"$f":"IF(COUNTIF(G$2:G106,G106)=1,G106,\"\")","v":""},"","","","","",{"$f":"IF(I106=\"\",\"\",VLOOKUP(I106,List_CMS!$L$3:$Q$79,6,FALSE))","v":""}]
[{"$f":"+IF(H107=\"\",\"\",MAX(A$1:A106)+1)","v":""},{"$f":"IF(CMS_Downtime!F128=\"\",\"\",CMS_Downtime!F128)","v":""},{"$f":"IF(CMS_Downtime!$F128=\"\",\"\",CMS_Downtime!B128)","v":""},{"$f":"IF(CMS_Downtime!$F128=\"\",\"\",CMS_Downtime!C128)","v":""},{"$f":"IF(CMS_Downtime!$F128=\"\",\"\",CMS_Downtime!D128)","v":""},{"$f":"IF(CMS_Downtime!$F128=\"\",\"\",CMS_Downtime!E128)","v":""},"",{"$f":"IF(COUNTIF(G$2:G107,G107)=1,G107,\"\")","v":""},"","","","","",{"$f":"IF(I107=\"\",\"\",VLOOKUP(I107,List_CMS!$L$3:$Q$79,6,FALSE))","v":""}]
[{"$f":"+IF(H108=\"\",\"\",MAX(A$1:A107)+1)","v":""},{"$f":"IF(CMS_Downtime!F129=\"\",\"\",CMS_Downtime!F129)","v":""},{"$f":"IF(CMS_Downtime!$F129=\"\",\"\",CMS_Downtime!B129)","v":""},{"$f":"IF(CMS_Downtime!$F129=\"\",\"\",CMS_Downtime!C129)","v":""},{"$f":"IF(CMS_Downtime!$F129=\"\",\"\",CMS_Downtime!D129)","v":""},{"$f":"IF(CMS_Downtime!$F129=\"\",\"\",CMS_Downtime!E129)","v":""},"",{"$f":"IF(COUNTIF(G$2:G108,G108)=1,G108,\"\")","v":""},"","","","","",{"$f":"IF(I108=\"\",\"\",VLOOKUP(I108,List_CMS!$L$3:$Q$79,6,FALSE))","v":""}]
[{"$f":"+IF(H109=\"\",\"\",MAX(A$1:A108)+1)","v":""},{"$f":"IF(CMS_Downtime!F130=\"\",\"\",CMS_Downtime!F130)","v":""},{"$f":"IF(CMS_Downtime!$F130=\"\",\"\",CMS_Downtime!B130)","v":""},{"$f":"IF(CMS_Downtime!$F130=\"\",\"\",CMS_Downtime!C130)","v":""},{"$f":"IF(CMS_Downtime!$F130=\"\",\"\",CMS_Downtime!D130)","v":""},{"$f":"IF(CMS_Downtime!$F130=\"\",\"\",CMS_Downtime!E130)","v":""},"",{"$f":"IF(COUNTIF(G$2:G109,G109)=1,G109,\"\")","v":""},"","","","","",{"$f":"IF(I109=\"\",\"\",VLOOKUP(I109,List_CMS!$L$3:$Q$79,6,FALSE))","v":""}]
[{"$f":"+IF(H110=\"\",\"\",MAX(A$1:A109)+1)","v":""},{"$f":"IF(CMS_Downtime!F131=\"\",\"\",CMS_Downtime!F131)","v":""},{"$f":"IF(CMS_Downtime!$F131=\"\",\"\",CMS_Downtime!B131)","v":""},{"$f":"IF(CMS_Downtime!$F131=\"\",\"\",CMS_Downtime!C131)","v":""},{"$f":"IF(CMS_Downtime!$F131=\"\",\"\",CMS_Downtime!D131)","v":""},{"$f":"IF(CMS_Downtime!$F131=\"\",\"\",CMS_Downtime!E131)","v":""},"",{"$f":"IF(COUNTIF(G$2:G110,G110)=1,G110,\"\")","v":""},"","","","","",{"$f":"IF(I110=\"\",\"\",VLOOKUP(I110,List_CMS!$L$3:$Q$79,6,FALSE))","v":""}]
[{"$f":"+IF(H111=\"\",\"\",MAX(A$1:A110)+1)","v":""},{"$f":"IF(CMS_Downtime!F132=\"\",\"\",CMS_Downtime!F132)","v":""},{"$f":"IF(CMS_Downtime!$F132=\"\",\"\",CMS_Downtime!B132)","v":""},{"$f":"IF(CMS_Downtime!$F132=\"\",\"\",CMS_Downtime!C132)","v":""},{"$f":"IF(CMS_Downtime!$F132=\"\",\"\",CMS_Downtime!D132)","v":""},{"$f":"IF(CMS_Downtime!$F132=\"\",\"\",CMS_Downtime!E132)","v":""},"",{"$f":"IF(COUNTIF(G$2:G111,G111)=1,G111,\"\")","v":""},"","","","","",{"$f":"IF(I111=\"\",\"\",VLOOKUP(I111,List_CMS!$L$3:$Q$79,6,FALSE))","v":""}]
[{"$f":"+IF(H112=\"\",\"\",MAX(A$1:A111)+1)","v":""},{"$f":"IF(CMS_Downtime!F133=\"\",\"\",CMS_Downtime!F133)","v":""},{"$f":"IF(CMS_Downtime!$F133=\"\",\"\",CMS_Downtime!B133)","v":""},{"$f":"IF(CMS_Downtime!$F133=\"\",\"\",CMS_Downtime!C133)","v":""},{"$f":"IF(CMS_Downtime!$F133=\"\",\"\",CMS_Downtime!D133)","v":""},{"$f":"IF(CMS_Downtime!$F133=\"\",\"\",CMS_Downtime!E133)","v":""},"",{"$f":"IF(COUNTIF(G$2:G112,G112)=1,G112,\"\")","v":""},"","","","","",{"$f":"IF(I112=\"\",\"\",VLOOKUP(I112,List_CMS!$L$3:$Q$79,6,FALSE))","v":""}]
[{"$f":"+IF(H113=\"\",\"\",MAX(A$1:A112)+1)","v":""},{"$f":"IF(CMS_Downtime!F134=\"\",\"\",CMS_Downtime!F134)","v":""},{"$f":"IF(CMS_Downtime!$F134=\"\",\"\",CMS_Downtime!B134)","v":""},{"$f":"IF(CMS_Downtime!$F134=\"\",\"\",CMS_Downtime!C134)","v":""},{"$f":"IF(CMS_Downtime!$F134=\"\",\"\",CMS_Downtime!D134)","v":""},{"$f":"IF(CMS_Downtime!$F134=\"\",\"\",CMS_Downtime!E134)","v":""},"",{"$f":"IF(COUNTIF(G$2:G113,G113)=1,G113,\"\")","v":""},"","","","","",{"$f":"IF(I113=\"\",\"\",VLOOKUP(I113,List_CMS!$L$3:$Q$79,6,FALSE))","v":""}]
[{"$f":"+IF(H114=\"\",\"\",MAX(A$1:A113)+1)","v":""},{"$f":"IF(CMS_Downtime!F135=\"\",\"\",CMS_Downtime!F135)","v":""},{"$f":"IF(CMS_Downtime!$F135=\"\",\"\",CMS_Downtime!B135)","v":""},{"$f":"IF(CMS_Downtime!$F135=\"\",\"\",CMS_Downtime!C135)","v":""},{"$f":"IF(CMS_Downtime!$F135=\"\",\"\",CMS_Downtime!D135)","v":""},{"$f":"IF(CMS_Downtime!$F135=\"\",\"\",CMS_Downtime!E135)","v":""},"",{"$f":"IF(COUNTIF(G$2:G114,G114)=1,G114,\"\")","v":""},"","","","","",{"$f":"IF(I114=\"\",\"\",VLOOKUP(I114,List_CMS!$L$3:$Q$79,6,FALSE))","v":""}]
[{"$f":"+IF(H115=\"\",\"\",MAX(A$1:A114)+1)","v":""},{"$f":"IF(CMS_Downtime!F136=\"\",\"\",CMS_Downtime!F136)","v":""},{"$f":"IF(CMS_Downtime!$F136=\"\",\"\",CMS_Downtime!B136)","v":""},{"$f":"IF(CMS_Downtime!$F136=\"\",\"\",CMS_Downtime!C136)","v":""},{"$f":"IF(CMS_Downtime!$F136=\"\",\"\",CMS_Downtime!D136)","v":""},{"$f":"IF(CMS_Downtime!$F136=\"\",\"\",CMS_Downtime!E136)","v":""},"",{"$f":"IF(COUNTIF(G$2:G115,G115)=1,G115,\"\")","v":""},"","","","","",{"$f":"IF(I115=\"\",\"\",VLOOKUP(I115,List_CMS!$L$3:$Q$79,6,FALSE))","v":""}]
[{"$f":"+IF(H116=\"\",\"\",MAX(A$1:A115)+1)","v":""},{"$f":"IF(CMS_Downtime!F137=\"\",\"\",CMS_Downtime!F137)","v":""},{"$f":"IF(CMS_Downtime!$F137=\"\",\"\",CMS_Downtime!B137)","v":""},{"$f":"IF(CMS_Downtime!$F137=\"\",\"\",CMS_Downtime!C137)","v":""},{"$f":"IF(CMS_Downtime!$F137=\"\",\"\",CMS_Downtime!D137)","v":""},{"$f":"IF(CMS_Downtime!$F137=\"\",\"\",CMS_Downtime!E137)","v":""},"",{"$f":"IF(COUNTIF(G$2:G116,G116)=1,G116,\"\")","v":""},"","","","","",{"$f":"IF(I116=\"\",\"\",VLOOKUP(I116,List_CMS!$L$3:$Q$79,6,FALSE))","v":""}]
[{"$f":"+IF(H117=\"\",\"\",MAX(A$1:A116)+1)","v":""},{"$f":"IF(CMS_Downtime!F138=\"\",\"\",CMS_Downtime!F138)","v":""},{"$f":"IF(CMS_Downtime!$F138=\"\",\"\",CMS_Downtime!B138)","v":""},{"$f":"IF(CMS_Downtime!$F138=\"\",\"\",CMS_Downtime!C138)","v":""},{"$f":"IF(CMS_Downtime!$F138=\"\",\"\",CMS_Downtime!D138)","v":""},{"$f":"IF(CMS_Downtime!$F138=\"\",\"\",CMS_Downtime!E138)","v":""},"",{"$f":"IF(COUNTIF(G$2:G117,G117)=1,G117,\"\")","v":""},"","","","","",{"$f":"IF(I117=\"\",\"\",VLOOKUP(I117,List_CMS!$L$3:$Q$79,6,FALSE))","v":""}]
[{"$f":"+IF(H118=\"\",\"\",MAX(A$1:A117)+1)","v":""},{"$f":"IF(CMS_Downtime!F139=\"\",\"\",CMS_Downtime!F139)","v":""},{"$f":"IF(CMS_Downtime!$F139=\"\",\"\",CMS_Downtime!B139)","v":""},{"$f":"IF(CMS_Downtime!$F139=\"\",\"\",CMS_Downtime!C139)","v":""},{"$f":"IF(CMS_Downtime!$F139=\"\",\"\",CMS_Downtime!D139)","v":""},{"$f":"IF(CMS_Downtime!$F139=\"\",\"\",CMS_Downtime!E139)","v":""},"",{"$f":"IF(COUNTIF(G$2:G118,G118)=1,G118,\"\")","v":""},"","","","","",{"$f":"IF(I118=\"\",\"\",VLOOKUP(I118,List_CMS!$L$3:$Q$79,6,FALSE))","v":""}]
[{"$f":"+IF(H119=\"\",\"\",MAX(A$1:A118)+1)","v":""},{"$f":"IF(CMS_Downtime!F140=\"\",\"\",CMS_Downtime!F140)","v":""},{"$f":"IF(CMS_Downtime!$F140=\"\",\"\",CMS_Downtime!B140)","v":""},{"$f":"IF(CMS_Downtime!$F140=\"\",\"\",CMS_Downtime!C140)","v":""},{"$f":"IF(CMS_Downtime!$F140=\"\",\"\",CMS_Downtime!D140)","v":""},{"$f":"IF(CMS_Downtime!$F140=\"\",\"\",CMS_Downtime!E140)","v":""},"",{"$f":"IF(COUNTIF(G$2:G119,G119)=1,G119,\"\")","v":""},"","","","","",{"$f":"IF(I119=\"\",\"\",VLOOKUP(I119,List_CMS!$L$3:$Q$79,6,FALSE))","v":""}]
[{"$f":"+IF(H120=\"\",\"\",MAX(A$1:A119)+1)","v":""},{"$f":"IF(CMS_Downtime!F141=\"\",\"\",CMS_Downtime!F141)","v":""},{"$f":"IF(CMS_Downtime!$F141=\"\",\"\",CMS_Downtime!B141)","v":""},{"$f":"IF(CMS_Downtime!$F141=\"\",\"\",CMS_Downtime!C141)","v":""},{"$f":"IF(CMS_Downtime!$F141=\"\",\"\",CMS_Downtime!D141)","v":""},{"$f":"IF(CMS_Downtime!$F141=\"\",\"\",CMS_Downtime!E141)","v":""},"",{"$f":"IF(COUNTIF(G$2:G120,G120)=1,G120,\"\")","v":""},"","","","","",{"$f":"IF(I120=\"\",\"\",VLOOKUP(I120,List_CMS!$L$3:$Q$79,6,FALSE))","v":""}]
[{"$f":"+IF(H121=\"\",\"\",MAX(A$1:A120)+1)","v":""},{"$f":"IF(CMS_Downtime!F142=\"\",\"\",CMS_Downtime!F142)","v":""},{"$f":"IF(CMS_Downtime!$F142=\"\",\"\",CMS_Downtime!B142)","v":""},{"$f":"IF(CMS_Downtime!$F142=\"\",\"\",CMS_Downtime!C142)","v":""},{"$f":"IF(CMS_Downtime!$F142=\"\",\"\",CMS_Downtime!D142)","v":""},{"$f":"IF(CMS_Downtime!$F142=\"\",\"\",CMS_Downtime!E142)","v":""},"",{"$f":"IF(COUNTIF(G$2:G121,G121)=1,G121,\"\")","v":""},"","","","","",{"$f":"IF(I121=\"\",\"\",VLOOKUP(I121,List_CMS!$L$3:$Q$79,6,FALSE))","v":""}]
[{"$f":"+IF(H122=\"\",\"\",MAX(A$1:A121)+1)","v":""},{"$f":"IF(CMS_Downtime!F143=\"\",\"\",CMS_Downtime!F143)","v":""},{"$f":"IF(CMS_Downtime!$F143=\"\",\"\",CMS_Downtime!B143)","v":""},{"$f":"IF(CMS_Downtime!$F143=\"\",\"\",CMS_Downtime!C143)","v":""},{"$f":"IF(CMS_Downtime!$F143=\"\",\"\",CMS_Downtime!D143)","v":""},{"$f":"IF(CMS_Downtime!$F143=\"\",\"\",CMS_Downtime!E143)","v":""},"",{"$f":"IF(COUNTIF(G$2:G122,G122)=1,G122,\"\")","v":""},"","","","","",{"$f":"IF(I122=\"\",\"\",VLOOKUP(I122,List_CMS!$L$3:$Q$79,6,FALSE))","v":""}]
[{"$f":"+IF(H123=\"\",\"\",MAX(A$1:A122)+1)","v":""},{"$f":"IF(CMS_Downtime!F144=\"\",\"\",CMS_Downtime!F144)","v":""},{"$f":"IF(CMS_Downtime!$F144=\"\",\"\",CMS_Downtime!B144)","v":""},{"$f":"IF(CMS_Downtime!$F144=\"\",\"\",CMS_Downtime!C144)","v":""},{"$f":"IF(CMS_Downtime!$F144=\"\",\"\",CMS_Downtime!D144)","v":""},{"$f":"IF(CMS_Downtime!$F144=\"\",\"\",CMS_Downtime!E144)","v":""},"",{"$f":"IF(COUNTIF(G$2:G123,G123)=1,G123,\"\")","v":""},"","","","","",{"$f":"IF(I123=\"\",\"\",VLOOKUP(I123,List_CMS!$L$3:$Q$79,6,FALSE))","v":""}]
[{"$f":"+IF(H124=\"\",\"\",MAX(A$1:A123)+1)","v":""},{"$f":"IF(CMS_Downtime!F145=\"\",\"\",CMS_Downtime!F145)","v":""},{"$f":"IF(CMS_Downtime!$F145=\"\",\"\",CMS_Downtime!B145)","v":""},{"$f":"IF(CMS_Downtime!$F145=\"\",\"\",CMS_Downtime!C145)","v":""},{"$f":"IF(CMS_Downtime!$F145=\"\",\"\",CMS_Downtime!D145)","v":""},{"$f":"IF(CMS_Downtime!$F145=\"\",\"\",CMS_Downtime!E145)","v":""},"",{"$f":"IF(COUNTIF(G$2:G124,G124)=1,G124,\"\")","v":""},"","","","","",{"$f":"IF(I124=\"\",\"\",VLOOKUP(I124,List_CMS!$L$3:$Q$79,6,FALSE))","v":""}]
[{"$f":"+IF(H125=\"\",\"\",MAX(A$1:A124)+1)","v":""},{"$f":"IF(CMS_Downtime!F146=\"\",\"\",CMS_Downtime!F146)","v":""},{"$f":"IF(CMS_Downtime!$F146=\"\",\"\",CMS_Downtime!B146)","v":""},{"$f":"IF(CMS_Downtime!$F146=\"\",\"\",CMS_Downtime!C146)","v":""},{"$f":"IF(CMS_Downtime!$F146=\"\",\"\",CMS_Downtime!D146)","v":""},{"$f":"IF(CMS_Downtime!$F146=\"\",\"\",CMS_Downtime!E146)","v":""},"",{"$f":"IF(COUNTIF(G$2:G125,G125)=1,G125,\"\")","v":""},"","","","","",{"$f":"IF(I125=\"\",\"\",VLOOKUP(I125,List_CMS!$L$3:$Q$79,6,FALSE))","v":""}]
[{"$f":"+IF(H126=\"\",\"\",MAX(A$1:A125)+1)","v":""},{"$f":"IF(CMS_Downtime!F147=\"\",\"\",CMS_Downtime!F147)","v":""},{"$f":"IF(CMS_Downtime!$F147=\"\",\"\",CMS_Downtime!B147)","v":""},{"$f":"IF(CMS_Downtime!$F147=\"\",\"\",CMS_Downtime!C147)","v":""},{"$f":"IF(CMS_Downtime!$F147=\"\",\"\",CMS_Downtime!D147)","v":""},{"$f":"IF(CMS_Downtime!$F147=\"\",\"\",CMS_Downtime!E147)","v":""},"",{"$f":"IF(COUNTIF(G$2:G126,G126)=1,G126,\"\")","v":""},"","","","","",{"$f":"IF(I126=\"\",\"\",VLOOKUP(I126,List_CMS!$L$3:$Q$79,6,FALSE))","v":""}]
[{"$f":"+IF(H127=\"\",\"\",MAX(A$1:A126)+1)","v":""},{"$f":"IF(CMS_Downtime!F148=\"\",\"\",CMS_Downtime!F148)","v":""},{"$f":"IF(CMS_Downtime!$F148=\"\",\"\",CMS_Downtime!B148)","v":""},{"$f":"IF(CMS_Downtime!$F148=\"\",\"\",CMS_Downtime!C148)","v":""},{"$f":"IF(CMS_Downtime!$F148=\"\",\"\",CMS_Downtime!D148)","v":""},{"$f":"IF(CMS_Downtime!$F148=\"\",\"\",CMS_Downtime!E148)","v":""},"",{"$f":"IF(COUNTIF(G$2:G127,G127)=1,G127,\"\")","v":""},"","","","","",{"$f":"IF(I127=\"\",\"\",VLOOKUP(I127,List_CMS!$L$3:$Q$79,6,FALSE))","v":""}]
[{"$f":"+IF(H128=\"\",\"\",MAX(A$1:A127)+1)","v":""},{"$f":"IF(CMS_Downtime!F149=\"\",\"\",CMS_Downtime!F149)","v":""},{"$f":"IF(CMS_Downtime!$F149=\"\",\"\",CMS_Downtime!B149)","v":""},{"$f":"IF(CMS_Downtime!$F149=\"\",\"\",CMS_Downtime!C149)","v":""},{"$f":"IF(CMS_Downtime!$F149=\"\",\"\",CMS_Downtime!D149)","v":""},{"$f":"IF(CMS_Downtime!$F149=\"\",\"\",CMS_Downtime!E149)","v":""},"",{"$f":"IF(COUNTIF(G$2:G128,G128)=1,G128,\"\")","v":""},"","","","","",{"$f":"IF(I128=\"\",\"\",VLOOKUP(I128,List_CMS!$L$3:$Q$79,6,FALSE))","v":""}]
[{"$f":"+IF(H129=\"\",\"\",MAX(A$1:A128)+1)","v":""},{"$f":"IF(CMS_Downtime!F150=\"\",\"\",CMS_Downtime!F150)","v":""},{"$f":"IF(CMS_Downtime!$F150=\"\",\"\",CMS_Downtime!B150)","v":""},{"$f":"IF(CMS_Downtime!$F150=\"\",\"\",CMS_Downtime!C150)","v":""},{"$f":"IF(CMS_Downtime!$F150=\"\",\"\",CMS_Downtime!D150)","v":""},{"$f":"IF(CMS_Downtime!$F150=\"\",\"\",CMS_Downtime!E150)","v":""},"",{"$f":"IF(COUNTIF(G$2:G129,G129)=1,G129,\"\")","v":""},"","","","","",{"$f":"IF(I129=\"\",\"\",VLOOKUP(I129,List_CMS!$L$3:$Q$79,6,FALSE))","v":""}]
[{"$f":"+IF(H130=\"\",\"\",MAX(A$1:A129)+1)","v":""},{"$f":"IF(CMS_Downtime!F151=\"\",\"\",CMS_Downtime!F151)","v":""},{"$f":"IF(CMS_Downtime!$F151=\"\",\"\",CMS_Downtime!B151)","v":""},{"$f":"IF(CMS_Downtime!$F151=\"\",\"\",CMS_Downtime!C151)","v":""},{"$f":"IF(CMS_Downtime!$F151=\"\",\"\",CMS_Downtime!D151)","v":""},{"$f":"IF(CMS_Downtime!$F151=\"\",\"\",CMS_Downtime!E151)","v":""},"",{"$f":"IF(COUNTIF(G$2:G130,G130)=1,G130,\"\")","v":""},"","","","","",{"$f":"IF(I130=\"\",\"\",VLOOKUP(I130,List_CMS!$L$3:$Q$79,6,FALSE))","v":""}]
[{"$f":"+IF(H131=\"\",\"\",MAX(A$1:A130)+1)","v":""},{"$f":"IF(CMS_Downtime!F152=\"\",\"\",CMS_Downtime!F152)","v":""},{"$f":"IF(CMS_Downtime!$F152=\"\",\"\",CMS_Downtime!B152)","v":""},{"$f":"IF(CMS_Downtime!$F152=\"\",\"\",CMS_Downtime!C152)","v":""},{"$f":"IF(CMS_Downtime!$F152=\"\",\"\",CMS_Downtime!D152)","v":""},{"$f":"IF(CMS_Downtime!$F152=\"\",\"\",CMS_Downtime!E152)","v":""},"",{"$f":"IF(COUNTIF(G$2:G131,G131)=1,G131,\"\")","v":""},{"$f":"+IFERROR(INDEX($H$2:$H$499,MATCH(ROW()-ROW($I$2),$A$2:$A$499,0)),\"\")","v":""},"","","","",{"$f":"IF(I131=\"\",\"\",VLOOKUP(I131,List_CMS!$L$3:$Q$79,6,FALSE))","v":""}]
[{"$f":"+IF(H132=\"\",\"\",MAX(A$1:A131)+1)","v":""},{"$f":"IF(CMS_Downtime!F153=\"\",\"\",CMS_Downtime!F153)","v":""},{"$f":"IF(CMS_Downtime!$F153=\"\",\"\",CMS_Downtime!B153)","v":""},{"$f":"IF(CMS_Downtime!$F153=\"\",\"\",CMS_Downtime!C153)","v":""},{"$f":"IF(CMS_Downtime!$F153=\"\",\"\",CMS_Downtime!D153)","v":""},{"$f":"IF(CMS_Downtime!$F153=\"\",\"\",CMS_Downtime!E153)","v":""},{"$f":"IF(B132=\"\",\"\",C132&\" - \"&D132&\" - \"&F132)","v":""},{"$f":"IF(COUNTIF(G$2:G132,G132)=1,G132,\"\")","v":""},"",{"$f":"+IFERROR(INDEX(C$2:C$499,MATCH(ROW()-ROW($I$2),$A$2:$A$499,0)),\"\")","v":""},{"$f":"+IFERROR(INDEX(D$2:D$499,MATCH(ROW()-ROW($I$2),$A$2:$A$499,0)),\"\")","v":""},{"$f":"+IFERROR(INDEX(E$2:E$499,MATCH(ROW()-ROW($I$2),$A$2:$A$499,0)),\"\")","v":""},{"$f":"+IFERROR(INDEX(F$2:F$499,MATCH(ROW()-ROW($I$2),$A$2:$A$499,0)),\"\")","v":""},{"$f":"IF(I132=\"\",\"\",VLOOKUP(I132,List_CMS!$L$3:$Q$79,6,FALSE))","v":""}]
[{"$f":"+IF(H133=\"\",\"\",MAX(A$1:A132)+1)","v":""},{"$f":"IF(CMS_Downtime!F154=\"\",\"\",CMS_Downtime!F154)","v":""},{"$f":"IF(CMS_Downtime!$F154=\"\",\"\",CMS_Downtime!B154)","v":""},{"$f":"IF(CMS_Downtime!$F154=\"\",\"\",CMS_Downtime!C154)","v":""},{"$f":"IF(CMS_Downtime!$F154=\"\",\"\",CMS_Downtime!D154)","v":""},{"$f":"IF(CMS_Downtime!$F154=\"\",\"\",CMS_Downtime!E154)","v":""},"",{"$f":"IF(COUNTIF(G$2:G133,G133)=1,G133,\"\")","v":""},"","","","","",{"$f":"IF(I133=\"\",\"\",VLOOKUP(I133,List_CMS!$L$3:$Q$79,6,FALSE))","v":""}]
[{"$f":"+IF(H134=\"\",\"\",MAX(A$1:A133)+1)","v":""},{"$f":"IF(CMS_Downtime!F155=\"\",\"\",CMS_Downtime!F155)","v":""},{"$f":"IF(CMS_Downtime!$F155=\"\",\"\",CMS_Downtime!B155)","v":""},{"$f":"IF(CMS_Downtime!$F155=\"\",\"\",CMS_Downtime!C155)","v":""},{"$f":"IF(CMS_Downtime!$F155=\"\",\"\",CMS_Downtime!D155)","v":""},{"$f":"IF(CMS_Downtime!$F155=\"\",\"\",CMS_Downtime!E155)","v":""},"",{"$f":"IF(COUNTIF(G$2:G134,G134)=1,G134,\"\")","v":""},"","","","","",{"$f":"IF(I134=\"\",\"\",VLOOKUP(I134,List_CMS!$L$3:$Q$79,6,FALSE))","v":""}]
[{"$f":"+IF(H135=\"\",\"\",MAX(A$1:A134)+1)","v":""},{"$f":"IF(CMS_Downtime!F156=\"\",\"\",CMS_Downtime!F156)","v":""},{"$f":"IF(CMS_Downtime!$F156=\"\",\"\",CMS_Downtime!B156)","v":""},{"$f":"IF(CMS_Downtime!$F156=\"\",\"\",CMS_Downtime!C156)","v":""},{"$f":"IF(CMS_Downtime!$F156=\"\",\"\",CMS_Downtime!D156)","v":""},{"$f":"IF(CMS_Downtime!$F156=\"\",\"\",CMS_Downtime!E156)","v":""},"",{"$f":"IF(COUNTIF(G$2:G135,G135)=1,G135,\"\")","v":""},"","","","","",{"$f":"IF(I135=\"\",\"\",VLOOKUP(I135,List_CMS!$L$3:$Q$79,6,FALSE))","v":""}]
[{"$f":"+IF(H136=\"\",\"\",MAX(A$1:A135)+1)","v":""},{"$f":"IF(CMS_Downtime!F157=\"\",\"\",CMS_Downtime!F157)","v":""},{"$f":"IF(CMS_Downtime!$F157=\"\",\"\",CMS_Downtime!B157)","v":""},{"$f":"IF(CMS_Downtime!$F157=\"\",\"\",CMS_Downtime!C157)","v":""},{"$f":"IF(CMS_Downtime!$F157=\"\",\"\",CMS_Downtime!D157)","v":""},{"$f":"IF(CMS_Downtime!$F157=\"\",\"\",CMS_Downtime!E157)","v":""},"",{"$f":"IF(COUNTIF(G$2:G136,G136)=1,G136,\"\")","v":""},"","","","","",{"$f":"IF(I136=\"\",\"\",VLOOKUP(I136,List_CMS!$L$3:$Q$79,6,FALSE))","v":""}]
[{"$f":"+IF(H137=\"\",\"\",MAX(A$1:A136)+1)","v":""},{"$f":"IF(CMS_Downtime!F158=\"\",\"\",CMS_Downtime!F158)","v":""},{"$f":"IF(CMS_Downtime!$F158=\"\",\"\",CMS_Downtime!B158)","v":""},{"$f":"IF(CMS_Downtime!$F158=\"\",\"\",CMS_Downtime!C158)","v":""},{"$f":"IF(CMS_Downtime!$F158=\"\",\"\",CMS_Downtime!D158)","v":""},{"$f":"IF(CMS_Downtime!$F158=\"\",\"\",CMS_Downtime!E158)","v":""},"",{"$f":"IF(COUNTIF(G$2:G137,G137)=1,G137,\"\")","v":""},"","","","","",{"$f":"IF(I137=\"\",\"\",VLOOKUP(I137,List_CMS!$L$3:$Q$79,6,FALSE))","v":""}]
[{"$f":"+IF(H138=\"\",\"\",MAX(A$1:A137)+1)","v":""},{"$f":"IF(CMS_Downtime!F159=\"\",\"\",CMS_Downtime!F159)","v":""},{"$f":"IF(CMS_Downtime!$F159=\"\",\"\",CMS_Downtime!B159)","v":""},{"$f":"IF(CMS_Downtime!$F159=\"\",\"\",CMS_Downtime!C159)","v":""},{"$f":"IF(CMS_Downtime!$F159=\"\",\"\",CMS_Downtime!D159)","v":""},{"$f":"IF(CMS_Downtime!$F159=\"\",\"\",CMS_Downtime!E159)","v":""},"",{"$f":"IF(COUNTIF(G$2:G138,G138)=1,G138,\"\")","v":""},"","","","","",{"$f":"IF(I138=\"\",\"\",VLOOKUP(I138,List_CMS!$L$3:$Q$79,6,FALSE))","v":""}]
[{"$f":"+IF(H139=\"\",\"\",MAX(A$1:A138)+1)","v":""},{"$f":"IF(CMS_Downtime!F160=\"\",\"\",CMS_Downtime!F160)","v":""},{"$f":"IF(CMS_Downtime!$F160=\"\",\"\",CMS_Downtime!B160)","v":""},{"$f":"IF(CMS_Downtime!$F160=\"\",\"\",CMS_Downtime!C160)","v":""},{"$f":"IF(CMS_Downtime!$F160=\"\",\"\",CMS_Downtime!D160)","v":""},{"$f":"IF(CMS_Downtime!$F160=\"\",\"\",CMS_Downtime!E160)","v":""},"",{"$f":"IF(COUNTIF(G$2:G139,G139)=1,G139,\"\")","v":""},"","","","","",{"$f":"IF(I139=\"\",\"\",VLOOKUP(I139,List_CMS!$L$3:$Q$79,6,FALSE))","v":""}]
[{"$f":"+IF(H140=\"\",\"\",MAX(A$1:A139)+1)","v":""},{"$f":"IF(CMS_Downtime!F161=\"\",\"\",CMS_Downtime!F161)","v":""},{"$f":"IF(CMS_Downtime!$F161=\"\",\"\",CMS_Downtime!B161)","v":""},{"$f":"IF(CMS_Downtime!$F161=\"\",\"\",CMS_Downtime!C161)","v":""},{"$f":"IF(CMS_Downtime!$F161=\"\",\"\",CMS_Downtime!D161)","v":""},{"$f":"IF(CMS_Downtime!$F161=\"\",\"\",CMS_Downtime!E161)","v":""},"",{"$f":"IF(COUNTIF(G$2:G140,G140)=1,G140,\"\")","v":""},"","","","","",{"$f":"IF(I140=\"\",\"\",VLOOKUP(I140,List_CMS!$L$3:$Q$79,6,FALSE))","v":""}]
[{"$f":"+IF(H141=\"\",\"\",MAX(A$1:A140)+1)","v":""},{"$f":"IF(CMS_Downtime!F162=\"\",\"\",CMS_Downtime!F162)","v":""},{"$f":"IF(CMS_Downtime!$F162=\"\",\"\",CMS_Downtime!B162)","v":""},{"$f":"IF(CMS_Downtime!$F162=\"\",\"\",CMS_Downtime!C162)","v":""},{"$f":"IF(CMS_Downtime!$F162=\"\",\"\",CMS_Downtime!D162)","v":""},{"$f":"IF(CMS_Downtime!$F162=\"\",\"\",CMS_Downtime!E162)","v":""},"",{"$f":"IF(COUNTIF(G$2:G141,G141)=1,G141,\"\")","v":""},"","","","","",{"$f":"IF(I141=\"\",\"\",VLOOKUP(I141,List_CMS!$L$3:$Q$79,6,FALSE))","v":""}]
[{"$f":"+IF(H142=\"\",\"\",MAX(A$1:A141)+1)","v":""},{"$f":"IF(CMS_Downtime!F163=\"\",\"\",CMS_Downtime!F163)","v":""},{"$f":"IF(CMS_Downtime!$F163=\"\",\"\",CMS_Downtime!B163)","v":""},{"$f":"IF(CMS_Downtime!$F163=\"\",\"\",CMS_Downtime!C163)","v":""},{"$f":"IF(CMS_Downtime!$F163=\"\",\"\",CMS_Downtime!D163)","v":""},{"$f":"IF(CMS_Downtime!$F163=\"\",\"\",CMS_Downtime!E163)","v":""},"",{"$f":"IF(COUNTIF(G$2:G142,G142)=1,G142,\"\")","v":""},"","","","","",{"$f":"IF(I142=\"\",\"\",VLOOKUP(I142,List_CMS!$L$3:$Q$79,6,FALSE))","v":""}]
[{"$f":"+IF(H143=\"\",\"\",MAX(A$1:A142)+1)","v":""},{"$f":"IF(CMS_Downtime!F164=\"\",\"\",CMS_Downtime!F164)","v":""},{"$f":"IF(CMS_Downtime!$F164=\"\",\"\",CMS_Downtime!B164)","v":""},{"$f":"IF(CMS_Downtime!$F164=\"\",\"\",CMS_Downtime!C164)","v":""},{"$f":"IF(CMS_Downtime!$F164=\"\",\"\",CMS_Downtime!D164)","v":""},{"$f":"IF(CMS_Downtime!$F164=\"\",\"\",CMS_Downtime!E164)","v":""},"",{"$f":"IF(COUNTIF(G$2:G143,G143)=1,G143,\"\")","v":""},"","","","","",{"$f":"IF(I143=\"\",\"\",VLOOKUP(I143,List_CMS!$L$3:$Q$79,6,FALSE))","v":""}]
[{"$f":"+IF(H144=\"\",\"\",MAX(A$1:A143)+1)","v":""},{"$f":"IF(CMS_Downtime!F165=\"\",\"\",CMS_Downtime!F165)","v":""},{"$f":"IF(CMS_Downtime!$F165=\"\",\"\",CMS_Downtime!B165)","v":""},{"$f":"IF(CMS_Downtime!$F165=\"\",\"\",CMS_Downtime!C165)","v":""},{"$f":"IF(CMS_Downtime!$F165=\"\",\"\",CMS_Downtime!D165)","v":""},{"$f":"IF(CMS_Downtime!$F165=\"\",\"\",CMS_Downtime!E165)","v":""},"",{"$f":"IF(COUNTIF(G$2:G144,G144)=1,G144,\"\")","v":""},"","","","","",{"$f":"IF(I144=\"\",\"\",VLOOKUP(I144,List_CMS!$L$3:$Q$79,6,FALSE))","v":""}]
[{"$f":"+IF(H145=\"\",\"\",MAX(A$1:A144)+1)","v":""},{"$f":"IF(CMS_Downtime!F166=\"\",\"\",CMS_Downtime!F166)","v":""},{"$f":"IF(CMS_Downtime!$F166=\"\",\"\",CMS_Downtime!B166)","v":""},{"$f":"IF(CMS_Downtime!$F166=\"\",\"\",CMS_Downtime!C166)","v":""},{"$f":"IF(CMS_Downtime!$F166=\"\",\"\",CMS_Downtime!D166)","v":""},{"$f":"IF(CMS_Downtime!$F166=\"\",\"\",CMS_Downtime!E166)","v":""},"",{"$f":"IF(COUNTIF(G$2:G145,G145)=1,G145,\"\")","v":""},"","","","","",{"$f":"IF(I145=\"\",\"\",VLOOKUP(I145,List_CMS!$L$3:$Q$79,6,FALSE))","v":""}]
[{"$f":"+IF(H146=\"\",\"\",MAX(A$1:A145)+1)","v":""},{"$f":"IF(CMS_Downtime!F167=\"\",\"\",CMS_Downtime!F167)","v":""},{"$f":"IF(CMS_Downtime!$F167=\"\",\"\",CMS_Downtime!B167)","v":""},{"$f":"IF(CMS_Downtime!$F167=\"\",\"\",CMS_Downtime!C167)","v":""},{"$f":"IF(CMS_Downtime!$F167=\"\",\"\",CMS_Downtime!D167)","v":""},{"$f":"IF(CMS_Downtime!$F167=\"\",\"\",CMS_Downtime!E167)","v":""},"",{"$f":"IF(COUNTIF(G$2:G146,G146)=1,G146,\"\")","v":""},"","","","","",{"$f":"IF(I146=\"\",\"\",VLOOKUP(I146,List_CMS!$L$3:$Q$79,6,FALSE))","v":""}]
[{"$f":"+IF(H147=\"\",\"\",MAX(A$1:A146)+1)","v":""},{"$f":"IF(CMS_Downtime!F168=\"\",\"\",CMS_Downtime!F168)","v":""},{"$f":"IF(CMS_Downtime!$F168=\"\",\"\",CMS_Downtime!B168)","v":""},{"$f":"IF(CMS_Downtime!$F168=\"\",\"\",CMS_Downtime!C168)","v":""},{"$f":"IF(CMS_Downtime!$F168=\"\",\"\",CMS_Downtime!D168)","v":""},{"$f":"IF(CMS_Downtime!$F168=\"\",\"\",CMS_Downtime!E168)","v":""},"",{"$f":"IF(COUNTIF(G$2:G147,G147)=1,G147,\"\")","v":""},"","","","","",{"$f":"IF(I147=\"\",\"\",VLOOKUP(I147,List_CMS!$L$3:$Q$79,6,FALSE))","v":""}]
[{"$f":"+IF(H148=\"\",\"\",MAX(A$1:A147)+1)","v":""},{"$f":"IF(CMS_Downtime!F169=\"\",\"\",CMS_Downtime!F169)","v":""},{"$f":"IF(CMS_Downtime!$F169=\"\",\"\",CMS_Downtime!B169)","v":""},{"$f":"IF(CMS_Downtime!$F169=\"\",\"\",CMS_Downtime!C169)","v":""},{"$f":"IF(CMS_Downtime!$F169=\"\",\"\",CMS_Downtime!D169)","v":""},{"$f":"IF(CMS_Downtime!$F169=\"\",\"\",CMS_Downtime!E169)","v":""},"",{"$f":"IF(COUNTIF(G$2:G148,G148)=1,G148,\"\")","v":""},"","","","","",{"$f":"IF(I148=\"\",\"\",VLOOKUP(I148,List_CMS!$L$3:$Q$79,6,FALSE))","v":""}]
[{"$f":"+IF(H149=\"\",\"\",MAX(A$1:A148)+1)","v":""},{"$f":"IF(CMS_Downtime!F170=\"\",\"\",CMS_Downtime!F170)","v":""},{"$f":"IF(CMS_Downtime!$F170=\"\",\"\",CMS_Downtime!B170)","v":""},{"$f":"IF(CMS_Downtime!$F170=\"\",\"\",CMS_Downtime!C170)","v":""},{"$f":"IF(CMS_Downtime!$F170=\"\",\"\",CMS_Downtime!D170)","v":""},{"$f":"IF(CMS_Downtime!$F170=\"\",\"\",CMS_Downtime!E170)","v":""},"",{"$f":"IF(COUNTIF(G$2:G149,G149)=1,G149,\"\")","v":""},"","","","","",{"$f":"IF(I149=\"\",\"\",VLOOKUP(I149,List_CMS!$L$3:$Q$79,6,FALSE))","v":""}]
[{"$f":"+IF(H150=\"\",\"\",MAX(A$1:A149)+1)","v":""},{"$f":"IF(CMS_Downtime!F171=\"\",\"\",CMS_Downtime!F171)","v":""},{"$f":"IF(CMS_Downtime!$F171=\"\",\"\",CMS_Downtime!B171)","v":""},{"$f":"IF(CMS_Downtime!$F171=\"\",\"\",CMS_Downtime!C171)","v":""},{"$f":"IF(CMS_Downtime!$F171=\"\",\"\",CMS_Downtime!D171)","v":""},{"$f":"IF(CMS_Downtime!$F171=\"\",\"\",CMS_Downtime!E171)","v":""},"",{"$f":"IF(COUNTIF(G$2:G150,G150)=1,G150,\"\")","v":""},"","","","","",{"$f":"IF(I150=\"\",\"\",VLOOKUP(I150,List_CMS!$L$3:$Q$79,6,FALSE))","v":""}]
[{"$f":"+IF(H151=\"\",\"\",MAX(A$1:A150)+1)","v":""},{"$f":"IF(CMS_Downtime!F172=\"\",\"\",CMS_Downtime!F172)","v":""},{"$f":"IF(CMS_Downtime!$F172=\"\",\"\",CMS_Downtime!B172)","v":""},{"$f":"IF(CMS_Downtime!$F172=\"\",\"\",CMS_Downtime!C172)","v":""},{"$f":"IF(CMS_Downtime!$F172=\"\",\"\",CMS_Downtime!D172)","v":""},{"$f":"IF(CMS_Downtime!$F172=\"\",\"\",CMS_Downtime!E172)","v":""},"",{"$f":"IF(COUNTIF(G$2:G151,G151)=1,G151,\"\")","v":""},"","","","","",{"$f":"IF(I151=\"\",\"\",VLOOKUP(I151,List_CMS!$L$3:$Q$79,6,FALSE))","v":""}]
[{"$f":"+IF(H152=\"\",\"\",MAX(A$1:A151)+1)","v":""},{"$f":"IF(CMS_Downtime!F173=\"\",\"\",CMS_Downtime!F173)","v":""},{"$f":"IF(CMS_Downtime!$F173=\"\",\"\",CMS_Downtime!B173)","v":""},{"$f":"IF(CMS_Downtime!$F173=\"\",\"\",CMS_Downtime!C173)","v":""},{"$f":"IF(CMS_Downtime!$F173=\"\",\"\",CMS_Downtime!D173)","v":""},{"$f":"IF(CMS_Downtime!$F173=\"\",\"\",CMS_Downtime!E173)","v":""},"",{"$f":"IF(COUNTIF(G$2:G152,G152)=1,G152,\"\")","v":""},"","","","","",{"$f":"IF(I152=\"\",\"\",VLOOKUP(I152,List_CMS!$L$3:$Q$79,6,FALSE))","v":""}]
[{"$f":"+IF(H153=\"\",\"\",MAX(A$1:A152)+1)","v":""},{"$f":"IF(CMS_Downtime!F174=\"\",\"\",CMS_Downtime!F174)","v":""},{"$f":"IF(CMS_Downtime!$F174=\"\",\"\",CMS_Downtime!B174)","v":""},{"$f":"IF(CMS_Downtime!$F174=\"\",\"\",CMS_Downtime!C174)","v":""},{"$f":"IF(CMS_Downtime!$F174=\"\",\"\",CMS_Downtime!D174)","v":""},{"$f":"IF(CMS_Downtime!$F174=\"\",\"\",CMS_Downtime!E174)","v":""},"",{"$f":"IF(COUNTIF(G$2:G153,G153)=1,G153,\"\")","v":""},"","","","","",{"$f":"IF(I153=\"\",\"\",VLOOKUP(I153,List_CMS!$L$3:$Q$79,6,FALSE))","v":""}]
[{"$f":"+IF(H154=\"\",\"\",MAX(A$1:A153)+1)","v":""},{"$f":"IF(CMS_Downtime!F175=\"\",\"\",CMS_Downtime!F175)","v":""},{"$f":"IF(CMS_Downtime!$F175=\"\",\"\",CMS_Downtime!B175)","v":""},{"$f":"IF(CMS_Downtime!$F175=\"\",\"\",CMS_Downtime!C175)","v":""},{"$f":"IF(CMS_Downtime!$F175=\"\",\"\",CMS_Downtime!D175)","v":""},{"$f":"IF(CMS_Downtime!$F175=\"\",\"\",CMS_Downtime!E175)","v":""},"",{"$f":"IF(COUNTIF(G$2:G154,G154)=1,G154,\"\")","v":""},"","","","","",{"$f":"IF(I154=\"\",\"\",VLOOKUP(I154,List_CMS!$L$3:$Q$79,6,FALSE))","v":""}]
[{"$f":"+IF(H155=\"\",\"\",MAX(A$1:A154)+1)","v":""},{"$f":"IF(CMS_Downtime!F176=\"\",\"\",CMS_Downtime!F176)","v":""},{"$f":"IF(CMS_Downtime!$F176=\"\",\"\",CMS_Downtime!B176)","v":""},{"$f":"IF(CMS_Downtime!$F176=\"\",\"\",CMS_Downtime!C176)","v":""},{"$f":"IF(CMS_Downtime!$F176=\"\",\"\",CMS_Downtime!D176)","v":""},{"$f":"IF(CMS_Downtime!$F176=\"\",\"\",CMS_Downtime!E176)","v":""},"",{"$f":"IF(COUNTIF(G$2:G155,G155)=1,G155,\"\")","v":""},"","","","","",{"$f":"IF(I155=\"\",\"\",VLOOKUP(I155,List_CMS!$L$3:$Q$79,6,FALSE))","v":""}]
[{"$f":"+IF(H156=\"\",\"\",MAX(A$1:A155)+1)","v":""},{"$f":"IF(CMS_Downtime!F177=\"\",\"\",CMS_Downtime!F177)","v":""},{"$f":"IF(CMS_Downtime!$F177=\"\",\"\",CMS_Downtime!B177)","v":""},{"$f":"IF(CMS_Downtime!$F177=\"\",\"\",CMS_Downtime!C177)","v":""},{"$f":"IF(CMS_Downtime!$F177=\"\",\"\",CMS_Downtime!D177)","v":""},{"$f":"IF(CMS_Downtime!$F177=\"\",\"\",CMS_Downtime!E177)","v":""},"",{"$f":"IF(COUNTIF(G$2:G156,G156)=1,G156,\"\")","v":""},"","","","","",{"$f":"IF(I156=\"\",\"\",VLOOKUP(I156,List_CMS!$L$3:$Q$79,6,FALSE))","v":""}]
[{"$f":"+IF(H157=\"\",\"\",MAX(A$1:A156)+1)","v":""},{"$f":"IF(CMS_Downtime!F178=\"\",\"\",CMS_Downtime!F178)","v":""},{"$f":"IF(CMS_Downtime!$F178=\"\",\"\",CMS_Downtime!B178)","v":""},{"$f":"IF(CMS_Downtime!$F178=\"\",\"\",CMS_Downtime!C178)","v":""},{"$f":"IF(CMS_Downtime!$F178=\"\",\"\",CMS_Downtime!D178)","v":""},{"$f":"IF(CMS_Downtime!$F178=\"\",\"\",CMS_Downtime!E178)","v":""},"",{"$f":"IF(COUNTIF(G$2:G157,G157)=1,G157,\"\")","v":""},"","","","","",{"$f":"IF(I157=\"\",\"\",VLOOKUP(I157,List_CMS!$L$3:$Q$79,6,FALSE))","v":""}]
[{"$f":"+IF(H158=\"\",\"\",MAX(A$1:A157)+1)","v":""},{"$f":"IF(CMS_Downtime!F179=\"\",\"\",CMS_Downtime!F179)","v":""},{"$f":"IF(CMS_Downtime!$F179=\"\",\"\",CMS_Downtime!B179)","v":""},{"$f":"IF(CMS_Downtime!$F179=\"\",\"\",CMS_Downtime!C179)","v":""},{"$f":"IF(CMS_Downtime!$F179=\"\",\"\",CMS_Downtime!D179)","v":""},{"$f":"IF(CMS_Downtime!$F179=\"\",\"\",CMS_Downtime!E179)","v":""},"",{"$f":"IF(COUNTIF(G$2:G158,G158)=1,G158,\"\")","v":""},"","","","","",{"$f":"IF(I158=\"\",\"\",VLOOKUP(I158,List_CMS!$L$3:$Q$79,6,FALSE))","v":""}]
[{"$f":"+IF(H159=\"\",\"\",MAX(A$1:A158)+1)","v":""},{"$f":"IF(CMS_Downtime!F180=\"\",\"\",CMS_Downtime!F180)","v":""},{"$f":"IF(CMS_Downtime!$F180=\"\",\"\",CMS_Downtime!B180)","v":""},{"$f":"IF(CMS_Downtime!$F180=\"\",\"\",CMS_Downtime!C180)","v":""},{"$f":"IF(CMS_Downtime!$F180=\"\",\"\",CMS_Downtime!D180)","v":""},{"$f":"IF(CMS_Downtime!$F180=\"\",\"\",CMS_Downtime!E180)","v":""},"",{"$f":"IF(COUNTIF(G$2:G159,G159)=1,G159,\"\")","v":""},"","","","","",{"$f":"IF(I159=\"\",\"\",VLOOKUP(I159,List_CMS!$L$3:$Q$79,6,FALSE))","v":""}]
[{"$f":"+IF(H160=\"\",\"\",MAX(A$1:A159)+1)","v":""},{"$f":"IF(CMS_Downtime!F181=\"\",\"\",CMS_Downtime!F181)","v":""},{"$f":"IF(CMS_Downtime!$F181=\"\",\"\",CMS_Downtime!B181)","v":""},{"$f":"IF(CMS_Downtime!$F181=\"\",\"\",CMS_Downtime!C181)","v":""},{"$f":"IF(CMS_Downtime!$F181=\"\",\"\",CMS_Downtime!D181)","v":""},{"$f":"IF(CMS_Downtime!$F181=\"\",\"\",CMS_Downtime!E181)","v":""},"",{"$f":"IF(COUNTIF(G$2:G160,G160)=1,G160,\"\")","v":""},"","","","","",{"$f":"IF(I160=\"\",\"\",VLOOKUP(I160,List_CMS!$L$3:$Q$79,6,FALSE))","v":""}]
[{"$f":"+IF(H161=\"\",\"\",MAX(A$1:A160)+1)","v":""},{"$f":"IF(CMS_Downtime!F182=\"\",\"\",CMS_Downtime!F182)","v":""},{"$f":"IF(CMS_Downtime!$F182=\"\",\"\",CMS_Downtime!B182)","v":""},{"$f":"IF(CMS_Downtime!$F182=\"\",\"\",CMS_Downtime!C182)","v":""},{"$f":"IF(CMS_Downtime!$F182=\"\",\"\",CMS_Downtime!D182)","v":""},{"$f":"IF(CMS_Downtime!$F182=\"\",\"\",CMS_Downtime!E182)","v":""},"",{"$f":"IF(COUNTIF(G$2:G161,G161)=1,G161,\"\")","v":""},"","","","","",{"$f":"IF(I161=\"\",\"\",VLOOKUP(I161,List_CMS!$L$3:$Q$79,6,FALSE))","v":""}]
[{"$f":"+IF(H162=\"\",\"\",MAX(A$1:A161)+1)","v":""},{"$f":"IF(CMS_Downtime!F183=\"\",\"\",CMS_Downtime!F183)","v":""},{"$f":"IF(CMS_Downtime!$F183=\"\",\"\",CMS_Downtime!B183)","v":""},{"$f":"IF(CMS_Downtime!$F183=\"\",\"\",CMS_Downtime!C183)","v":""},{"$f":"IF(CMS_Downtime!$F183=\"\",\"\",CMS_Downtime!D183)","v":""},{"$f":"IF(CMS_Downtime!$F183=\"\",\"\",CMS_Downtime!E183)","v":""},"",{"$f":"IF(COUNTIF(G$2:G162,G162)=1,G162,\"\")","v":""},"","","","","",{"$f":"IF(I162=\"\",\"\",VLOOKUP(I162,List_CMS!$L$3:$Q$79,6,FALSE))","v":""}]
[{"$f":"+IF(H163=\"\",\"\",MAX(A$1:A162)+1)","v":""},{"$f":"IF(CMS_Downtime!F184=\"\",\"\",CMS_Downtime!F184)","v":""},{"$f":"IF(CMS_Downtime!$F184=\"\",\"\",CMS_Downtime!B184)","v":""},{"$f":"IF(CMS_Downtime!$F184=\"\",\"\",CMS_Downtime!C184)","v":""},{"$f":"IF(CMS_Downtime!$F184=\"\",\"\",CMS_Downtime!D184)","v":""},{"$f":"IF(CMS_Downtime!$F184=\"\",\"\",CMS_Downtime!E184)","v":""},"",{"$f":"IF(COUNTIF(G$2:G163,G163)=1,G163,\"\")","v":""},"","","","","",{"$f":"IF(I163=\"\",\"\",VLOOKUP(I163,List_CMS!$L$3:$Q$79,6,FALSE))","v":""}]
[{"$f":"+IF(H164=\"\",\"\",MAX(A$1:A163)+1)","v":""},{"$f":"IF(CMS_Downtime!F185=\"\",\"\",CMS_Downtime!F185)","v":""},{"$f":"IF(CMS_Downtime!$F185=\"\",\"\",CMS_Downtime!B185)","v":""},{"$f":"IF(CMS_Downtime!$F185=\"\",\"\",CMS_Downtime!C185)","v":""},{"$f":"IF(CMS_Downtime!$F185=\"\",\"\",CMS_Downtime!D185)","v":""},{"$f":"IF(CMS_Downtime!$F185=\"\",\"\",CMS_Downtime!E185)","v":""},"",{"$f":"IF(COUNTIF(G$2:G164,G164)=1,G164,\"\")","v":""},"","","","","",{"$f":"IF(I164=\"\",\"\",VLOOKUP(I164,List_CMS!$L$3:$Q$79,6,FALSE))","v":""}]
[{"$f":"+IF(H165=\"\",\"\",MAX(A$1:A164)+1)","v":""},{"$f":"IF(CMS_Downtime!F186=\"\",\"\",CMS_Downtime!F186)","v":""},{"$f":"IF(CMS_Downtime!$F186=\"\",\"\",CMS_Downtime!B186)","v":""},{"$f":"IF(CMS_Downtime!$F186=\"\",\"\",CMS_Downtime!C186)","v":""},{"$f":"IF(CMS_Downtime!$F186=\"\",\"\",CMS_Downtime!D186)","v":""},{"$f":"IF(CMS_Downtime!$F186=\"\",\"\",CMS_Downtime!E186)","v":""},"",{"$f":"IF(COUNTIF(G$2:G165,G165)=1,G165,\"\")","v":""},"","","","","",{"$f":"IF(I165=\"\",\"\",VLOOKUP(I165,List_CMS!$L$3:$Q$79,6,FALSE))","v":""}]
[{"$f":"+IF(H166=\"\",\"\",MAX(A$1:A165)+1)","v":""},{"$f":"IF(CMS_Downtime!F187=\"\",\"\",CMS_Downtime!F187)","v":""},{"$f":"IF(CMS_Downtime!$F187=\"\",\"\",CMS_Downtime!B187)","v":""},{"$f":"IF(CMS_Downtime!$F187=\"\",\"\",CMS_Downtime!C187)","v":""},{"$f":"IF(CMS_Downtime!$F187=\"\",\"\",CMS_Downtime!D187)","v":""},{"$f":"IF(CMS_Downtime!$F187=\"\",\"\",CMS_Downtime!E187)","v":""},"",{"$f":"IF(COUNTIF(G$2:G166,G166)=1,G166,\"\")","v":""},"","","","","",{"$f":"IF(I166=\"\",\"\",VLOOKUP(I166,List_CMS!$L$3:$Q$79,6,FALSE))","v":""}]
[{"$f":"+IF(H167=\"\",\"\",MAX(A$1:A166)+1)","v":""},{"$f":"IF(CMS_Downtime!F188=\"\",\"\",CMS_Downtime!F188)","v":""},{"$f":"IF(CMS_Downtime!$F188=\"\",\"\",CMS_Downtime!B188)","v":""},{"$f":"IF(CMS_Downtime!$F188=\"\",\"\",CMS_Downtime!C188)","v":""},{"$f":"IF(CMS_Downtime!$F188=\"\",\"\",CMS_Downtime!D188)","v":""},{"$f":"IF(CMS_Downtime!$F188=\"\",\"\",CMS_Downtime!E188)","v":""},"",{"$f":"IF(COUNTIF(G$2:G167,G167)=1,G167,\"\")","v":""},"","","","","",{"$f":"IF(I167=\"\",\"\",VLOOKUP(I167,List_CMS!$L$3:$Q$79,6,FALSE))","v":""}]
[{"$f":"+IF(H168=\"\",\"\",MAX(A$1:A167)+1)","v":""},{"$f":"IF(CMS_Downtime!F189=\"\",\"\",CMS_Downtime!F189)","v":""},{"$f":"IF(CMS_Downtime!$F189=\"\",\"\",CMS_Downtime!B189)","v":""},{"$f":"IF(CMS_Downtime!$F189=\"\",\"\",CMS_Downtime!C189)","v":""},{"$f":"IF(CMS_Downtime!$F189=\"\",\"\",CMS_Downtime!D189)","v":""},{"$f":"IF(CMS_Downtime!$F189=\"\",\"\",CMS_Downtime!E189)","v":""},"",{"$f":"IF(COUNTIF(G$2:G168,G168)=1,G168,\"\")","v":""},"","","","","",{"$f":"IF(I168=\"\",\"\",VLOOKUP(I168,List_CMS!$L$3:$Q$79,6,FALSE))","v":""}]
[{"$f":"+IF(H169=\"\",\"\",MAX(A$1:A168)+1)","v":""},{"$f":"IF(CMS_Downtime!F190=\"\",\"\",CMS_Downtime!F190)","v":""},{"$f":"IF(CMS_Downtime!$F190=\"\",\"\",CMS_Downtime!B190)","v":""},{"$f":"IF(CMS_Downtime!$F190=\"\",\"\",CMS_Downtime!C190)","v":""},{"$f":"IF(CMS_Downtime!$F190=\"\",\"\",CMS_Downtime!D190)","v":""},{"$f":"IF(CMS_Downtime!$F190=\"\",\"\",CMS_Downtime!E190)","v":""},"",{"$f":"IF(COUNTIF(G$2:G169,G169)=1,G169,\"\")","v":""},"","","","","",{"$f":"IF(I169=\"\",\"\",VLOOKUP(I169,List_CMS!$L$3:$Q$79,6,FALSE))","v":""}]
[{"$f":"+IF(H170=\"\",\"\",MAX(A$1:A169)+1)","v":""},{"$f":"IF(CMS_Downtime!F191=\"\",\"\",CMS_Downtime!F191)","v":""},{"$f":"IF(CMS_Downtime!$F191=\"\",\"\",CMS_Downtime!B191)","v":""},{"$f":"IF(CMS_Downtime!$F191=\"\",\"\",CMS_Downtime!C191)","v":""},{"$f":"IF(CMS_Downtime!$F191=\"\",\"\",CMS_Downtime!D191)","v":""},{"$f":"IF(CMS_Downtime!$F191=\"\",\"\",CMS_Downtime!E191)","v":""},"",{"$f":"IF(COUNTIF(G$2:G170,G170)=1,G170,\"\")","v":""},"","","","","",{"$f":"IF(I170=\"\",\"\",VLOOKUP(I170,List_CMS!$L$3:$Q$79,6,FALSE))","v":""}]
[{"$f":"+IF(H171=\"\",\"\",MAX(A$1:A170)+1)","v":""},{"$f":"IF(CMS_Downtime!F192=\"\",\"\",CMS_Downtime!F192)","v":""},{"$f":"IF(CMS_Downtime!$F192=\"\",\"\",CMS_Downtime!B192)","v":""},{"$f":"IF(CMS_Downtime!$F192=\"\",\"\",CMS_Downtime!C192)","v":""},{"$f":"IF(CMS_Downtime!$F192=\"\",\"\",CMS_Downtime!D192)","v":""},{"$f":"IF(CMS_Downtime!$F192=\"\",\"\",CMS_Downtime!E192)","v":""},"",{"$f":"IF(COUNTIF(G$2:G171,G171)=1,G171,\"\")","v":""},"","","","","",{"$f":"IF(I171=\"\",\"\",VLOOKUP(I171,List_CMS!$L$3:$Q$79,6,FALSE))","v":""}]
[{"$f":"+IF(H172=\"\",\"\",MAX(A$1:A171)+1)","v":""},{"$f":"IF(CMS_Downtime!F193=\"\",\"\",CMS_Downtime!F193)","v":""},{"$f":"IF(CMS_Downtime!$F193=\"\",\"\",CMS_Downtime!B193)","v":""},{"$f":"IF(CMS_Downtime!$F193=\"\",\"\",CMS_Downtime!C193)","v":""},{"$f":"IF(CMS_Downtime!$F193=\"\",\"\",CMS_Downtime!D193)","v":""},{"$f":"IF(CMS_Downtime!$F193=\"\",\"\",CMS_Downtime!E193)","v":""},"",{"$f":"IF(COUNTIF(G$2:G172,G172)=1,G172,\"\")","v":""},"","","","","",{"$f":"IF(I172=\"\",\"\",VLOOKUP(I172,List_CMS!$L$3:$Q$79,6,FALSE))","v":""}]
[{"$f":"+IF(H173=\"\",\"\",MAX(A$1:A172)+1)","v":""},{"$f":"IF(CMS_Downtime!F194=\"\",\"\",CMS_Downtime!F194)","v":""},{"$f":"IF(CMS_Downtime!$F194=\"\",\"\",CMS_Downtime!B194)","v":""},{"$f":"IF(CMS_Downtime!$F194=\"\",\"\",CMS_Downtime!C194)","v":""},{"$f":"IF(CMS_Downtime!$F194=\"\",\"\",CMS_Downtime!D194)","v":""},{"$f":"IF(CMS_Downtime!$F194=\"\",\"\",CMS_Downtime!E194)","v":""},"",{"$f":"IF(COUNTIF(G$2:G173,G173)=1,G173,\"\")","v":""},"","","","","",{"$f":"IF(I173=\"\",\"\",VLOOKUP(I173,List_CMS!$L$3:$Q$79,6,FALSE))","v":""}]
[{"$f":"+IF(H174=\"\",\"\",MAX(A$1:A173)+1)","v":""},{"$f":"IF(CMS_Downtime!F195=\"\",\"\",CMS_Downtime!F195)","v":""},{"$f":"IF(CMS_Downtime!$F195=\"\",\"\",CMS_Downtime!B195)","v":""},{"$f":"IF(CMS_Downtime!$F195=\"\",\"\",CMS_Downtime!C195)","v":""},{"$f":"IF(CMS_Downtime!$F195=\"\",\"\",CMS_Downtime!D195)","v":""},{"$f":"IF(CMS_Downtime!$F195=\"\",\"\",CMS_Downtime!E195)","v":""},"",{"$f":"IF(COUNTIF(G$2:G174,G174)=1,G174,\"\")","v":""},"","","","","",{"$f":"IF(I174=\"\",\"\",VLOOKUP(I174,List_CMS!$L$3:$Q$79,6,FALSE))","v":""}]
[{"$f":"+IF(H175=\"\",\"\",MAX(A$1:A174)+1)","v":""},{"$f":"IF(CMS_Downtime!F196=\"\",\"\",CMS_Downtime!F196)","v":""},{"$f":"IF(CMS_Downtime!$F196=\"\",\"\",CMS_Downtime!B196)","v":""},{"$f":"IF(CMS_Downtime!$F196=\"\",\"\",CMS_Downtime!C196)","v":""},{"$f":"IF(CMS_Downtime!$F196=\"\",\"\",CMS_Downtime!D196)","v":""},{"$f":"IF(CMS_Downtime!$F196=\"\",\"\",CMS_Downtime!E196)","v":""},"",{"$f":"IF(COUNTIF(G$2:G175,G175)=1,G175,\"\")","v":""},"","","","","",{"$f":"IF(I175=\"\",\"\",VLOOKUP(I175,List_CMS!$L$3:$Q$79,6,FALSE))","v":""}]
[{"$f":"+IF(H176=\"\",\"\",MAX(A$1:A175)+1)","v":""},{"$f":"IF(CMS_Downtime!F197=\"\",\"\",CMS_Downtime!F197)","v":""},{"$f":"IF(CMS_Downtime!$F197=\"\",\"\",CMS_Downtime!B197)","v":""},{"$f":"IF(CMS_Downtime!$F197=\"\",\"\",CMS_Downtime!C197)","v":""},{"$f":"IF(CMS_Downtime!$F197=\"\",\"\",CMS_Downtime!D197)","v":""},{"$f":"IF(CMS_Downtime!$F197=\"\",\"\",CMS_Downtime!E197)","v":""},"",{"$f":"IF(COUNTIF(G$2:G176,G176)=1,G176,\"\")","v":""},"","","","","",{"$f":"IF(I176=\"\",\"\",VLOOKUP(I176,List_CMS!$L$3:$Q$79,6,FALSE))","v":""}]
[{"$f":"+IF(H177=\"\",\"\",MAX(A$1:A176)+1)","v":""},{"$f":"IF(CMS_Downtime!F198=\"\",\"\",CMS_Downtime!F198)","v":""},{"$f":"IF(CMS_Downtime!$F198=\"\",\"\",CMS_Downtime!B198)","v":""},{"$f":"IF(CMS_Downtime!$F198=\"\",\"\",CMS_Downtime!C198)","v":""},{"$f":"IF(CMS_Downtime!$F198=\"\",\"\",CMS_Downtime!D198)","v":""},{"$f":"IF(CMS_Downtime!$F198=\"\",\"\",CMS_Downtime!E198)","v":""},"",{"$f":"IF(COUNTIF(G$2:G177,G177)=1,G177,\"\")","v":""},"","","","","",{"$f":"IF(I177=\"\",\"\",VLOOKUP(I177,List_CMS!$L$3:$Q$79,6,FALSE))","v":""}]
[{"$f":"+IF(H178=\"\",\"\",MAX(A$1:A177)+1)","v":""},{"$f":"IF(CMS_Downtime!F199=\"\",\"\",CMS_Downtime!F199)","v":""},{"$f":"IF(CMS_Downtime!$F199=\"\",\"\",CMS_Downtime!B199)","v":""},{"$f":"IF(CMS_Downtime!$F199=\"\",\"\",CMS_Downtime!C199)","v":""},{"$f":"IF(CMS_Downtime!$F199=\"\",\"\",CMS_Downtime!D199)","v":""},{"$f":"IF(CMS_Downtime!$F199=\"\",\"\",CMS_Downtime!E199)","v":""},"",{"$f":"IF(COUNTIF(G$2:G178,G178)=1,G178,\"\")","v":""},"","","","","",{"$f":"IF(I178=\"\",\"\",VLOOKUP(I178,List_CMS!$L$3:$Q$79,6,FALSE))","v":""}]
[{"$f":"+IF(H179=\"\",\"\",MAX(A$1:A178)+1)","v":""},{"$f":"IF(CMS_Downtime!F200=\"\",\"\",CMS_Downtime!F200)","v":""},{"$f":"IF(CMS_Downtime!$F200=\"\",\"\",CMS_Downtime!B200)","v":""},{"$f":"IF(CMS_Downtime!$F200=\"\",\"\",CMS_Downtime!C200)","v":""},{"$f":"IF(CMS_Downtime!$F200=\"\",\"\",CMS_Downtime!D200)","v":""},{"$f":"IF(CMS_Downtime!$F200=\"\",\"\",CMS_Downtime!E200)","v":""},"",{"$f":"IF(COUNTIF(G$2:G179,G179)=1,G179,\"\")","v":""},"","","","","",{"$f":"IF(I179=\"\",\"\",VLOOKUP(I179,List_CMS!$L$3:$Q$79,6,FALSE))","v":""}]
[{"$f":"+IF(H180=\"\",\"\",MAX(A$1:A179)+1)","v":""},{"$f":"IF(CMS_Downtime!F201=\"\",\"\",CMS_Downtime!F201)","v":""},{"$f":"IF(CMS_Downtime!$F201=\"\",\"\",CMS_Downtime!B201)","v":""},{"$f":"IF(CMS_Downtime!$F201=\"\",\"\",CMS_Downtime!C201)","v":""},{"$f":"IF(CMS_Downtime!$F201=\"\",\"\",CMS_Downtime!D201)","v":""},{"$f":"IF(CMS_Downtime!$F201=\"\",\"\",CMS_Downtime!E201)","v":""},"",{"$f":"IF(COUNTIF(G$2:G180,G180)=1,G180,\"\")","v":""},"","","","","",{"$f":"IF(I180=\"\",\"\",VLOOKUP(I180,List_CMS!$L$3:$Q$79,6,FALSE))","v":""}]
[{"$f":"+IF(H181=\"\",\"\",MAX(A$1:A180)+1)","v":""},{"$f":"IF(CMS_Downtime!F202=\"\",\"\",CMS_Downtime!F202)","v":""},{"$f":"IF(CMS_Downtime!$F202=\"\",\"\",CMS_Downtime!B202)","v":""},{"$f":"IF(CMS_Downtime!$F202=\"\",\"\",CMS_Downtime!C202)","v":""},{"$f":"IF(CMS_Downtime!$F202=\"\",\"\",CMS_Downtime!D202)","v":""},{"$f":"IF(CMS_Downtime!$F202=\"\",\"\",CMS_Downtime!E202)","v":""},"",{"$f":"IF(COUNTIF(G$2:G181,G181)=1,G181,\"\")","v":""},"","","","","",{"$f":"IF(I181=\"\",\"\",VLOOKUP(I181,List_CMS!$L$3:$Q$79,6,FALSE))","v":""}]
[{"$f":"+IF(H182=\"\",\"\",MAX(A$1:A181)+1)","v":""},{"$f":"IF(CMS_Downtime!F203=\"\",\"\",CMS_Downtime!F203)","v":""},{"$f":"IF(CMS_Downtime!$F203=\"\",\"\",CMS_Downtime!B203)","v":""},{"$f":"IF(CMS_Downtime!$F203=\"\",\"\",CMS_Downtime!C203)","v":""},{"$f":"IF(CMS_Downtime!$F203=\"\",\"\",CMS_Downtime!D203)","v":""},{"$f":"IF(CMS_Downtime!$F203=\"\",\"\",CMS_Downtime!E203)","v":""},"",{"$f":"IF(COUNTIF(G$2:G182,G182)=1,G182,\"\")","v":""},"","","","","",{"$f":"IF(I182=\"\",\"\",VLOOKUP(I182,List_CMS!$L$3:$Q$79,6,FALSE))","v":""}]
[{"$f":"+IF(H183=\"\",\"\",MAX(A$1:A182)+1)","v":""},{"$f":"IF(CMS_Downtime!F204=\"\",\"\",CMS_Downtime!F204)","v":""},{"$f":"IF(CMS_Downtime!$F204=\"\",\"\",CMS_Downtime!B204)","v":""},{"$f":"IF(CMS_Downtime!$F204=\"\",\"\",CMS_Downtime!C204)","v":""},{"$f":"IF(CMS_Downtime!$F204=\"\",\"\",CMS_Downtime!D204)","v":""},{"$f":"IF(CMS_Downtime!$F204=\"\",\"\",CMS_Downtime!E204)","v":""},"",{"$f":"IF(COUNTIF(G$2:G183,G183)=1,G183,\"\")","v":""},"","","","","",{"$f":"IF(I183=\"\",\"\",VLOOKUP(I183,List_CMS!$L$3:$Q$79,6,FALSE))","v":""}]
[{"$f":"+IF(H184=\"\",\"\",MAX(A$1:A183)+1)","v":""},{"$f":"IF(CMS_Downtime!F205=\"\",\"\",CMS_Downtime!F205)","v":""},{"$f":"IF(CMS_Downtime!$F205=\"\",\"\",CMS_Downtime!B205)","v":""},{"$f":"IF(CMS_Downtime!$F205=\"\",\"\",CMS_Downtime!C205)","v":""},{"$f":"IF(CMS_Downtime!$F205=\"\",\"\",CMS_Downtime!D205)","v":""},{"$f":"IF(CMS_Downtime!$F205=\"\",\"\",CMS_Downtime!E205)","v":""},"",{"$f":"IF(COUNTIF(G$2:G184,G184)=1,G184,\"\")","v":""},"","","","","",{"$f":"IF(I184=\"\",\"\",VLOOKUP(I184,List_CMS!$L$3:$Q$79,6,FALSE))","v":""}]
[{"$f":"+IF(H185=\"\",\"\",MAX(A$1:A184)+1)","v":""},{"$f":"IF(CMS_Downtime!F206=\"\",\"\",CMS_Downtime!F206)","v":""},{"$f":"IF(CMS_Downtime!$F206=\"\",\"\",CMS_Downtime!B206)","v":""},{"$f":"IF(CMS_Downtime!$F206=\"\",\"\",CMS_Downtime!C206)","v":""},{"$f":"IF(CMS_Downtime!$F206=\"\",\"\",CMS_Downtime!D206)","v":""},{"$f":"IF(CMS_Downtime!$F206=\"\",\"\",CMS_Downtime!E206)","v":""},"",{"$f":"IF(COUNTIF(G$2:G185,G185)=1,G185,\"\")","v":""},"","","","","",{"$f":"IF(I185=\"\",\"\",VLOOKUP(I185,List_CMS!$L$3:$Q$79,6,FALSE))","v":""}]
[{"$f":"+IF(H186=\"\",\"\",MAX(A$1:A185)+1)","v":""},{"$f":"IF(CMS_Downtime!F207=\"\",\"\",CMS_Downtime!F207)","v":""},{"$f":"IF(CMS_Downtime!$F207=\"\",\"\",CMS_Downtime!B207)","v":""},{"$f":"IF(CMS_Downtime!$F207=\"\",\"\",CMS_Downtime!C207)","v":""},{"$f":"IF(CMS_Downtime!$F207=\"\",\"\",CMS_Downtime!D207)","v":""},{"$f":"IF(CMS_Downtime!$F207=\"\",\"\",CMS_Downtime!E207)","v":""},"",{"$f":"IF(COUNTIF(G$2:G186,G186)=1,G186,\"\")","v":""},"","","","","",{"$f":"IF(I186=\"\",\"\",VLOOKUP(I186,List_CMS!$L$3:$Q$79,6,FALSE))","v":""}]
[{"$f":"+IF(H187=\"\",\"\",MAX(A$1:A186)+1)","v":""},{"$f":"IF(CMS_Downtime!F208=\"\",\"\",CMS_Downtime!F208)","v":""},{"$f":"IF(CMS_Downtime!$F208=\"\",\"\",CMS_Downtime!B208)","v":""},{"$f":"IF(CMS_Downtime!$F208=\"\",\"\",CMS_Downtime!C208)","v":""},{"$f":"IF(CMS_Downtime!$F208=\"\",\"\",CMS_Downtime!D208)","v":""},{"$f":"IF(CMS_Downtime!$F208=\"\",\"\",CMS_Downtime!E208)","v":""},"",{"$f":"IF(COUNTIF(G$2:G187,G187)=1,G187,\"\")","v":""},"","","","","",{"$f":"IF(I187=\"\",\"\",VLOOKUP(I187,List_CMS!$L$3:$Q$79,6,FALSE))","v":""}]
[{"$f":"+IF(H188=\"\",\"\",MAX(A$1:A187)+1)","v":""},{"$f":"IF(CMS_Downtime!F209=\"\",\"\",CMS_Downtime!F209)","v":""},{"$f":"IF(CMS_Downtime!$F209=\"\",\"\",CMS_Downtime!B209)","v":""},{"$f":"IF(CMS_Downtime!$F209=\"\",\"\",CMS_Downtime!C209)","v":""},{"$f":"IF(CMS_Downtime!$F209=\"\",\"\",CMS_Downtime!D209)","v":""},{"$f":"IF(CMS_Downtime!$F209=\"\",\"\",CMS_Downtime!E209)","v":""},"",{"$f":"IF(COUNTIF(G$2:G188,G188)=1,G188,\"\")","v":""},"","","","","",{"$f":"IF(I188=\"\",\"\",VLOOKUP(I188,List_CMS!$L$3:$Q$79,6,FALSE))","v":""}]
[{"$f":"+IF(H189=\"\",\"\",MAX(A$1:A188)+1)","v":""},{"$f":"IF(CMS_Downtime!F210=\"\",\"\",CMS_Downtime!F210)","v":""},{"$f":"IF(CMS_Downtime!$F210=\"\",\"\",CMS_Downtime!B210)","v":""},{"$f":"IF(CMS_Downtime!$F210=\"\",\"\",CMS_Downtime!C210)","v":""},{"$f":"IF(CMS_Downtime!$F210=\"\",\"\",CMS_Downtime!D210)","v":""},{"$f":"IF(CMS_Downtime!$F210=\"\",\"\",CMS_Downtime!E210)","v":""},"",{"$f":"IF(COUNTIF(G$2:G189,G189)=1,G189,\"\")","v":""},"","","","","",{"$f":"IF(I189=\"\",\"\",VLOOKUP(I189,List_CMS!$L$3:$Q$79,6,FALSE))","v":""}]
[{"$f":"+IF(H190=\"\",\"\",MAX(A$1:A189)+1)","v":""},{"$f":"IF(CMS_Downtime!F211=\"\",\"\",CMS_Downtime!F211)","v":""},{"$f":"IF(CMS_Downtime!$F211=\"\",\"\",CMS_Downtime!B211)","v":""},{"$f":"IF(CMS_Downtime!$F211=\"\",\"\",CMS_Downtime!C211)","v":""},{"$f":"IF(CMS_Downtime!$F211=\"\",\"\",CMS_Downtime!D211)","v":""},{"$f":"IF(CMS_Downtime!$F211=\"\",\"\",CMS_Downtime!E211)","v":""},"",{"$f":"IF(COUNTIF(G$2:G190,G190)=1,G190,\"\")","v":""},"","","","","",{"$f":"IF(I190=\"\",\"\",VLOOKUP(I190,List_CMS!$L$3:$Q$79,6,FALSE))","v":""}]
[{"$f":"+IF(H191=\"\",\"\",MAX(A$1:A190)+1)","v":""},{"$f":"IF(CMS_Downtime!F212=\"\",\"\",CMS_Downtime!F212)","v":""},{"$f":"IF(CMS_Downtime!$F212=\"\",\"\",CMS_Downtime!B212)","v":""},{"$f":"IF(CMS_Downtime!$F212=\"\",\"\",CMS_Downtime!C212)","v":""},{"$f":"IF(CMS_Downtime!$F212=\"\",\"\",CMS_Downtime!D212)","v":""},{"$f":"IF(CMS_Downtime!$F212=\"\",\"\",CMS_Downtime!E212)","v":""},"",{"$f":"IF(COUNTIF(G$2:G191,G191)=1,G191,\"\")","v":""},"","","","","",{"$f":"IF(I191=\"\",\"\",VLOOKUP(I191,List_CMS!$L$3:$Q$79,6,FALSE))","v":""}]
[{"$f":"+IF(H192=\"\",\"\",MAX(A$1:A191)+1)","v":""},{"$f":"IF(CMS_Downtime!F213=\"\",\"\",CMS_Downtime!F213)","v":""},{"$f":"IF(CMS_Downtime!$F213=\"\",\"\",CMS_Downtime!B213)","v":""},{"$f":"IF(CMS_Downtime!$F213=\"\",\"\",CMS_Downtime!C213)","v":""},{"$f":"IF(CMS_Downtime!$F213=\"\",\"\",CMS_Downtime!D213)","v":""},{"$f":"IF(CMS_Downtime!$F213=\"\",\"\",CMS_Downtime!E213)","v":""},"",{"$f":"IF(COUNTIF(G$2:G192,G192)=1,G192,\"\")","v":""},"","","","","",{"$f":"IF(I192=\"\",\"\",VLOOKUP(I192,List_CMS!$L$3:$Q$79,6,FALSE))","v":""}]
[{"$f":"+IF(H193=\"\",\"\",MAX(A$1:A192)+1)","v":""},{"$f":"IF(CMS_Downtime!F214=\"\",\"\",CMS_Downtime!F214)","v":""},{"$f":"IF(CMS_Downtime!$F214=\"\",\"\",CMS_Downtime!B214)","v":""},{"$f":"IF(CMS_Downtime!$F214=\"\",\"\",CMS_Downtime!C214)","v":""},{"$f":"IF(CMS_Downtime!$F214=\"\",\"\",CMS_Downtime!D214)","v":""},{"$f":"IF(CMS_Downtime!$F214=\"\",\"\",CMS_Downtime!E214)","v":""},"",{"$f":"IF(COUNTIF(G$2:G193,G193)=1,G193,\"\")","v":""},"","","","","",{"$f":"IF(I193=\"\",\"\",VLOOKUP(I193,List_CMS!$L$3:$Q$79,6,FALSE))","v":""}]
[{"$f":"+IF(H194=\"\",\"\",MAX(A$1:A193)+1)","v":""},{"$f":"IF(CMS_Downtime!F215=\"\",\"\",CMS_Downtime!F215)","v":""},{"$f":"IF(CMS_Downtime!$F215=\"\",\"\",CMS_Downtime!B215)","v":""},{"$f":"IF(CMS_Downtime!$F215=\"\",\"\",CMS_Downtime!C215)","v":""},{"$f":"IF(CMS_Downtime!$F215=\"\",\"\",CMS_Downtime!D215)","v":""},{"$f":"IF(CMS_Downtime!$F215=\"\",\"\",CMS_Downtime!E215)","v":""},"",{"$f":"IF(COUNTIF(G$2:G194,G194)=1,G194,\"\")","v":""},"","","","","",{"$f":"IF(I194=\"\",\"\",VLOOKUP(I194,List_CMS!$L$3:$Q$79,6,FALSE))","v":""}]
[{"$f":"+IF(H195=\"\",\"\",MAX(A$1:A194)+1)","v":""},{"$f":"IF(CMS_Downtime!F216=\"\",\"\",CMS_Downtime!F216)","v":""},{"$f":"IF(CMS_Downtime!$F216=\"\",\"\",CMS_Downtime!B216)","v":""},{"$f":"IF(CMS_Downtime!$F216=\"\",\"\",CMS_Downtime!C216)","v":""},{"$f":"IF(CMS_Downtime!$F216=\"\",\"\",CMS_Downtime!D216)","v":""},{"$f":"IF(CMS_Downtime!$F216=\"\",\"\",CMS_Downtime!E216)","v":""},"",{"$f":"IF(COUNTIF(G$2:G195,G195)=1,G195,\"\")","v":""},{"$f":"+IFERROR(INDEX($H$2:$H$499,MATCH(ROW()-ROW($I$2),$A$2:$A$499,0)),\"\")","v":""},"","","","",{"$f":"IF(I195=\"\",\"\",VLOOKUP(I195,List_CMS!$L$3:$Q$79,6,FALSE))","v":""}]
[{"$f":"+IF(H196=\"\",\"\",MAX(A$1:A195)+1)","v":""},{"$f":"IF(CMS_Downtime!F217=\"\",\"\",CMS_Downtime!F217)","v":""},{"$f":"IF(CMS_Downtime!$F217=\"\",\"\",CMS_Downtime!B217)","v":""},{"$f":"IF(CMS_Downtime!$F217=\"\",\"\",CMS_Downtime!C217)","v":""},{"$f":"IF(CMS_Downtime!$F217=\"\",\"\",CMS_Downtime!D217)","v":""},{"$f":"IF(CMS_Downtime!$F217=\"\",\"\",CMS_Downtime!E217)","v":""},{"$f":"IF(B196=\"\",\"\",C196&\" - \"&D196&\" - \"&F196)","v":""},{"$f":"IF(COUNTIF(G$2:G196,G196)=1,G196,\"\")","v":""},"",{"$f":"+IFERROR(INDEX(C$2:C$499,MATCH(ROW()-ROW($I$2),$A$2:$A$499,0)),\"\")","v":""},{"$f":"+IFERROR(INDEX(D$2:D$499,MATCH(ROW()-ROW($I$2),$A$2:$A$499,0)),\"\")","v":""},{"$f":"+IFERROR(INDEX(E$2:E$499,MATCH(ROW()-ROW($I$2),$A$2:$A$499,0)),\"\")","v":""},{"$f":"+IFERROR(INDEX(F$2:F$499,MATCH(ROW()-ROW($I$2),$A$2:$A$499,0)),\"\")","v":""},{"$f":"IF(I196=\"\",\"\",VLOOKUP(I196,List_CMS!$L$3:$Q$79,6,FALSE))","v":""}]
[{"$f":"+IF(H197=\"\",\"\",MAX(A$1:A196)+1)","v":""},{"$f":"IF(CMS_Downtime!F218=\"\",\"\",CMS_Downtime!F218)","v":""},{"$f":"IF(CMS_Downtime!$F218=\"\",\"\",CMS_Downtime!B218)","v":""},{"$f":"IF(CMS_Downtime!$F218=\"\",\"\",CMS_Downtime!C218)","v":""},{"$f":"IF(CMS_Downtime!$F218=\"\",\"\",CMS_Downtime!D218)","v":""},{"$f":"IF(CMS_Downtime!$F218=\"\",\"\",CMS_Downtime!E218)","v":""},"",{"$f":"IF(COUNTIF(G$2:G197,G197)=1,G197,\"\")","v":""},"","","","","",{"$f":"IF(I197=\"\",\"\",VLOOKUP(I197,List_CMS!$L$3:$Q$79,6,FALSE))","v":""}]
[{"$f":"+IF(H198=\"\",\"\",MAX(A$1:A197)+1)","v":""},{"$f":"IF(CMS_Downtime!F219=\"\",\"\",CMS_Downtime!F219)","v":""},{"$f":"IF(CMS_Downtime!$F219=\"\",\"\",CMS_Downtime!B219)","v":""},{"$f":"IF(CMS_Downtime!$F219=\"\",\"\",CMS_Downtime!C219)","v":""},{"$f":"IF(CMS_Downtime!$F219=\"\",\"\",CMS_Downtime!D219)","v":""},{"$f":"IF(CMS_Downtime!$F219=\"\",\"\",CMS_Downtime!E219)","v":""},"",{"$f":"IF(COUNTIF(G$2:G198,G198)=1,G198,\"\")","v":""},"","","","","",{"$f":"IF(I198=\"\",\"\",VLOOKUP(I198,List_CMS!$L$3:$Q$79,6,FALSE))","v":""}]
[{"$f":"+IF(H199=\"\",\"\",MAX(A$1:A198)+1)","v":""},{"$f":"IF(CMS_Downtime!F220=\"\",\"\",CMS_Downtime!F220)","v":""},{"$f":"IF(CMS_Downtime!$F220=\"\",\"\",CMS_Downtime!B220)","v":""},{"$f":"IF(CMS_Downtime!$F220=\"\",\"\",CMS_Downtime!C220)","v":""},{"$f":"IF(CMS_Downtime!$F220=\"\",\"\",CMS_Downtime!D220)","v":""},{"$f":"IF(CMS_Downtime!$F220=\"\",\"\",CMS_Downtime!E220)","v":""},"",{"$f":"IF(COUNTIF(G$2:G199,G199)=1,G199,\"\")","v":""},"","","","","",{"$f":"IF(I199=\"\",\"\",VLOOKUP(I199,List_CMS!$L$3:$Q$79,6,FALSE))","v":""}]
[{"$f":"+IF(H200=\"\",\"\",MAX(A$1:A199)+1)","v":""},{"$f":"IF(CMS_Downtime!F221=\"\",\"\",CMS_Downtime!F221)","v":""},{"$f":"IF(CMS_Downtime!$F221=\"\",\"\",CMS_Downtime!B221)","v":""},{"$f":"IF(CMS_Downtime!$F221=\"\",\"\",CMS_Downtime!C221)","v":""},{"$f":"IF(CMS_Downtime!$F221=\"\",\"\",CMS_Downtime!D221)","v":""},{"$f":"IF(CMS_Downtime!$F221=\"\",\"\",CMS_Downtime!E221)","v":""},"",{"$f":"IF(COUNTIF(G$2:G200,G200)=1,G200,\"\")","v":""},"","","","","",{"$f":"IF(I200=\"\",\"\",VLOOKUP(I200,List_CMS!$L$3:$Q$79,6,FALSE))","v":""}]
[{"$f":"+IF(H201=\"\",\"\",MAX(A$1:A200)+1)","v":""},{"$f":"IF(CMS_Downtime!F222=\"\",\"\",CMS_Downtime!F222)","v":""},{"$f":"IF(CMS_Downtime!$F222=\"\",\"\",CMS_Downtime!B222)","v":""},{"$f":"IF(CMS_Downtime!$F222=\"\",\"\",CMS_Downtime!C222)","v":""},{"$f":"IF(CMS_Downtime!$F222=\"\",\"\",CMS_Downtime!D222)","v":""},{"$f":"IF(CMS_Downtime!$F222=\"\",\"\",CMS_Downtime!E222)","v":""},"",{"$f":"IF(COUNTIF(G$2:G201,G201)=1,G201,\"\")","v":""},"","","","","",{"$f":"IF(I201=\"\",\"\",VLOOKUP(I201,List_CMS!$L$3:$Q$79,6,FALSE))","v":""}]
[{"$f":"+IF(H202=\"\",\"\",MAX(A$1:A201)+1)","v":""},{"$f":"IF(CMS_Downtime!F223=\"\",\"\",CMS_Downtime!F223)","v":""},{"$f":"IF(CMS_Downtime!$F223=\"\",\"\",CMS_Downtime!B223)","v":""},{"$f":"IF(CMS_Downtime!$F223=\"\",\"\",CMS_Downtime!C223)","v":""},{"$f":"IF(CMS_Downtime!$F223=\"\",\"\",CMS_Downtime!D223)","v":""},{"$f":"IF(CMS_Downtime!$F223=\"\",\"\",CMS_Downtime!E223)","v":""},"",{"$f":"IF(COUNTIF(G$2:G202,G202)=1,G202,\"\")","v":""},"","","","","",{"$f":"IF(I202=\"\",\"\",VLOOKUP(I202,List_CMS!$L$3:$Q$79,6,FALSE))","v":""}]
[{"$f":"+IF(H203=\"\",\"\",MAX(A$1:A202)+1)","v":""},{"$f":"IF(CMS_Downtime!F224=\"\",\"\",CMS_Downtime!F224)","v":""},{"$f":"IF(CMS_Downtime!$F224=\"\",\"\",CMS_Downtime!B224)","v":""},{"$f":"IF(CMS_Downtime!$F224=\"\",\"\",CMS_Downtime!C224)","v":""},{"$f":"IF(CMS_Downtime!$F224=\"\",\"\",CMS_Downtime!D224)","v":""},{"$f":"IF(CMS_Downtime!$F224=\"\",\"\",CMS_Downtime!E224)","v":""},"",{"$f":"IF(COUNTIF(G$2:G203,G203)=1,G203,\"\")","v":""},"","","","","",{"$f":"IF(I203=\"\",\"\",VLOOKUP(I203,List_CMS!$L$3:$Q$79,6,FALSE))","v":""}]
[{"$f":"+IF(H204=\"\",\"\",MAX(A$1:A203)+1)","v":""},{"$f":"IF(CMS_Downtime!F225=\"\",\"\",CMS_Downtime!F225)","v":""},{"$f":"IF(CMS_Downtime!$F225=\"\",\"\",CMS_Downtime!B225)","v":""},{"$f":"IF(CMS_Downtime!$F225=\"\",\"\",CMS_Downtime!C225)","v":""},{"$f":"IF(CMS_Downtime!$F225=\"\",\"\",CMS_Downtime!D225)","v":""},{"$f":"IF(CMS_Downtime!$F225=\"\",\"\",CMS_Downtime!E225)","v":""},"",{"$f":"IF(COUNTIF(G$2:G204,G204)=1,G204,\"\")","v":""},"","","","","",{"$f":"IF(I204=\"\",\"\",VLOOKUP(I204,List_CMS!$L$3:$Q$79,6,FALSE))","v":""}]
[{"$f":"+IF(H205=\"\",\"\",MAX(A$1:A204)+1)","v":""},{"$f":"IF(CMS_Downtime!F226=\"\",\"\",CMS_Downtime!F226)","v":""},{"$f":"IF(CMS_Downtime!$F226=\"\",\"\",CMS_Downtime!B226)","v":""},{"$f":"IF(CMS_Downtime!$F226=\"\",\"\",CMS_Downtime!C226)","v":""},{"$f":"IF(CMS_Downtime!$F226=\"\",\"\",CMS_Downtime!D226)","v":""},{"$f":"IF(CMS_Downtime!$F226=\"\",\"\",CMS_Downtime!E226)","v":""},"",{"$f":"IF(COUNTIF(G$2:G205,G205)=1,G205,\"\")","v":""},"","","","","",{"$f":"IF(I205=\"\",\"\",VLOOKUP(I205,List_CMS!$L$3:$Q$79,6,FALSE))","v":""}]
[{"$f":"+IF(H206=\"\",\"\",MAX(A$1:A205)+1)","v":""},{"$f":"IF(CMS_Downtime!F227=\"\",\"\",CMS_Downtime!F227)","v":""},{"$f":"IF(CMS_Downtime!$F227=\"\",\"\",CMS_Downtime!B227)","v":""},{"$f":"IF(CMS_Downtime!$F227=\"\",\"\",CMS_Downtime!C227)","v":""},{"$f":"IF(CMS_Downtime!$F227=\"\",\"\",CMS_Downtime!D227)","v":""},{"$f":"IF(CMS_Downtime!$F227=\"\",\"\",CMS_Downtime!E227)","v":""},"",{"$f":"IF(COUNTIF(G$2:G206,G206)=1,G206,\"\")","v":""},"","","","","",{"$f":"IF(I206=\"\",\"\",VLOOKUP(I206,List_CMS!$L$3:$Q$79,6,FALSE))","v":""}]
[{"$f":"+IF(H207=\"\",\"\",MAX(A$1:A206)+1)","v":""},{"$f":"IF(CMS_Downtime!F228=\"\",\"\",CMS_Downtime!F228)","v":""},{"$f":"IF(CMS_Downtime!$F228=\"\",\"\",CMS_Downtime!B228)","v":""},{"$f":"IF(CMS_Downtime!$F228=\"\",\"\",CMS_Downtime!C228)","v":""},{"$f":"IF(CMS_Downtime!$F228=\"\",\"\",CMS_Downtime!D228)","v":""},{"$f":"IF(CMS_Downtime!$F228=\"\",\"\",CMS_Downtime!E228)","v":""},"",{"$f":"IF(COUNTIF(G$2:G207,G207)=1,G207,\"\")","v":""},"","","","","",{"$f":"IF(I207=\"\",\"\",VLOOKUP(I207,List_CMS!$L$3:$Q$79,6,FALSE))","v":""}]
[{"$f":"+IF(H208=\"\",\"\",MAX(A$1:A207)+1)","v":""},{"$f":"IF(CMS_Downtime!F229=\"\",\"\",CMS_Downtime!F229)","v":""},{"$f":"IF(CMS_Downtime!$F229=\"\",\"\",CMS_Downtime!B229)","v":""},{"$f":"IF(CMS_Downtime!$F229=\"\",\"\",CMS_Downtime!C229)","v":""},{"$f":"IF(CMS_Downtime!$F229=\"\",\"\",CMS_Downtime!D229)","v":""},{"$f":"IF(CMS_Downtime!$F229=\"\",\"\",CMS_Downtime!E229)","v":""},"",{"$f":"IF(COUNTIF(G$2:G208,G208)=1,G208,\"\")","v":""},"","","","","",{"$f":"IF(I208=\"\",\"\",VLOOKUP(I208,List_CMS!$L$3:$Q$79,6,FALSE))","v":""}]
[{"$f":"+IF(H209=\"\",\"\",MAX(A$1:A208)+1)","v":""},{"$f":"IF(CMS_Downtime!F230=\"\",\"\",CMS_Downtime!F230)","v":""},{"$f":"IF(CMS_Downtime!$F230=\"\",\"\",CMS_Downtime!B230)","v":""},{"$f":"IF(CMS_Downtime!$F230=\"\",\"\",CMS_Downtime!C230)","v":""},{"$f":"IF(CMS_Downtime!$F230=\"\",\"\",CMS_Downtime!D230)","v":""},{"$f":"IF(CMS_Downtime!$F230=\"\",\"\",CMS_Downtime!E230)","v":""},"",{"$f":"IF(COUNTIF(G$2:G209,G209)=1,G209,\"\")","v":""},"","","","","",{"$f":"IF(I209=\"\",\"\",VLOOKUP(I209,List_CMS!$L$3:$Q$79,6,FALSE))","v":""}]
[{"$f":"+IF(H210=\"\",\"\",MAX(A$1:A209)+1)","v":""},{"$f":"IF(CMS_Downtime!F231=\"\",\"\",CMS_Downtime!F231)","v":""},{"$f":"IF(CMS_Downtime!$F231=\"\",\"\",CMS_Downtime!B231)","v":""},{"$f":"IF(CMS_Downtime!$F231=\"\",\"\",CMS_Downtime!C231)","v":""},{"$f":"IF(CMS_Downtime!$F231=\"\",\"\",CMS_Downtime!D231)","v":""},{"$f":"IF(CMS_Downtime!$F231=\"\",\"\",CMS_Downtime!E231)","v":""},"",{"$f":"IF(COUNTIF(G$2:G210,G210)=1,G210,\"\")","v":""},"","","","","",{"$f":"IF(I210=\"\",\"\",VLOOKUP(I210,List_CMS!$L$3:$Q$79,6,FALSE))","v":""}]
[{"$f":"+IF(H211=\"\",\"\",MAX(A$1:A210)+1)","v":""},{"$f":"IF(CMS_Downtime!F232=\"\",\"\",CMS_Downtime!F232)","v":""},{"$f":"IF(CMS_Downtime!$F232=\"\",\"\",CMS_Downtime!B232)","v":""},{"$f":"IF(CMS_Downtime!$F232=\"\",\"\",CMS_Downtime!C232)","v":""},{"$f":"IF(CMS_Downtime!$F232=\"\",\"\",CMS_Downtime!D232)","v":""},{"$f":"IF(CMS_Downtime!$F232=\"\",\"\",CMS_Downtime!E232)","v":""},"",{"$f":"IF(COUNTIF(G$2:G211,G211)=1,G211,\"\")","v":""},"","","","","",{"$f":"IF(I211=\"\",\"\",VLOOKUP(I211,List_CMS!$L$3:$Q$79,6,FALSE))","v":""}]
[{"$f":"+IF(H212=\"\",\"\",MAX(A$1:A211)+1)","v":""},{"$f":"IF(CMS_Downtime!F233=\"\",\"\",CMS_Downtime!F233)","v":""},{"$f":"IF(CMS_Downtime!$F233=\"\",\"\",CMS_Downtime!B233)","v":""},{"$f":"IF(CMS_Downtime!$F233=\"\",\"\",CMS_Downtime!C233)","v":""},{"$f":"IF(CMS_Downtime!$F233=\"\",\"\",CMS_Downtime!D233)","v":""},{"$f":"IF(CMS_Downtime!$F233=\"\",\"\",CMS_Downtime!E233)","v":""},"",{"$f":"IF(COUNTIF(G$2:G212,G212)=1,G212,\"\")","v":""},"","","","","",{"$f":"IF(I212=\"\",\"\",VLOOKUP(I212,List_CMS!$L$3:$Q$79,6,FALSE))","v":""}]
[{"$f":"+IF(H213=\"\",\"\",MAX(A$1:A212)+1)","v":""},{"$f":"IF(CMS_Downtime!F234=\"\",\"\",CMS_Downtime!F234)","v":""},{"$f":"IF(CMS_Downtime!$F234=\"\",\"\",CMS_Downtime!B234)","v":""},{"$f":"IF(CMS_Downtime!$F234=\"\",\"\",CMS_Downtime!C234)","v":""},{"$f":"IF(CMS_Downtime!$F234=\"\",\"\",CMS_Downtime!D234)","v":""},{"$f":"IF(CMS_Downtime!$F234=\"\",\"\",CMS_Downtime!E234)","v":""},"",{"$f":"IF(COUNTIF(G$2:G213,G213)=1,G213,\"\")","v":""},"","","","","",{"$f":"IF(I213=\"\",\"\",VLOOKUP(I213,List_CMS!$L$3:$Q$79,6,FALSE))","v":""}]
[{"$f":"+IF(H214=\"\",\"\",MAX(A$1:A213)+1)","v":""},{"$f":"IF(CMS_Downtime!F235=\"\",\"\",CMS_Downtime!F235)","v":""},{"$f":"IF(CMS_Downtime!$F235=\"\",\"\",CMS_Downtime!B235)","v":""},{"$f":"IF(CMS_Downtime!$F235=\"\",\"\",CMS_Downtime!C235)","v":""},{"$f":"IF(CMS_Downtime!$F235=\"\",\"\",CMS_Downtime!D235)","v":""},{"$f":"IF(CMS_Downtime!$F235=\"\",\"\",CMS_Downtime!E235)","v":""},"",{"$f":"IF(COUNTIF(G$2:G214,G214)=1,G214,\"\")","v":""},"","","","","",{"$f":"IF(I214=\"\",\"\",VLOOKUP(I214,List_CMS!$L$3:$Q$79,6,FALSE))","v":""}]
[{"$f":"+IF(H215=\"\",\"\",MAX(A$1:A214)+1)","v":""},{"$f":"IF(CMS_Downtime!F236=\"\",\"\",CMS_Downtime!F236)","v":""},{"$f":"IF(CMS_Downtime!$F236=\"\",\"\",CMS_Downtime!B236)","v":""},{"$f":"IF(CMS_Downtime!$F236=\"\",\"\",CMS_Downtime!C236)","v":""},{"$f":"IF(CMS_Downtime!$F236=\"\",\"\",CMS_Downtime!D236)","v":""},{"$f":"IF(CMS_Downtime!$F236=\"\",\"\",CMS_Downtime!E236)","v":""},"",{"$f":"IF(COUNTIF(G$2:G215,G215)=1,G215,\"\")","v":""},"","","","","",{"$f":"IF(I215=\"\",\"\",VLOOKUP(I215,List_CMS!$L$3:$Q$79,6,FALSE))","v":""}]
[{"$f":"+IF(H216=\"\",\"\",MAX(A$1:A215)+1)","v":""},{"$f":"IF(CMS_Downtime!F237=\"\",\"\",CMS_Downtime!F237)","v":""},{"$f":"IF(CMS_Downtime!$F237=\"\",\"\",CMS_Downtime!B237)","v":""},{"$f":"IF(CMS_Downtime!$F237=\"\",\"\",CMS_Downtime!C237)","v":""},{"$f":"IF(CMS_Downtime!$F237=\"\",\"\",CMS_Downtime!D237)","v":""},{"$f":"IF(CMS_Downtime!$F237=\"\",\"\",CMS_Downtime!E237)","v":""},"",{"$f":"IF(COUNTIF(G$2:G216,G216)=1,G216,\"\")","v":""},"","","","","",{"$f":"IF(I216=\"\",\"\",VLOOKUP(I216,List_CMS!$L$3:$Q$79,6,FALSE))","v":""}]
[{"$f":"+IF(H217=\"\",\"\",MAX(A$1:A216)+1)","v":""},{"$f":"IF(CMS_Downtime!F238=\"\",\"\",CMS_Downtime!F238)","v":""},{"$f":"IF(CMS_Downtime!$F238=\"\",\"\",CMS_Downtime!B238)","v":""},{"$f":"IF(CMS_Downtime!$F238=\"\",\"\",CMS_Downtime!C238)","v":""},{"$f":"IF(CMS_Downtime!$F238=\"\",\"\",CMS_Downtime!D238)","v":""},{"$f":"IF(CMS_Downtime!$F238=\"\",\"\",CMS_Downtime!E238)","v":""},"",{"$f":"IF(COUNTIF(G$2:G217,G217)=1,G217,\"\")","v":""},"","","","","",{"$f":"IF(I217=\"\",\"\",VLOOKUP(I217,List_CMS!$L$3:$Q$79,6,FALSE))","v":""}]
[{"$f":"+IF(H218=\"\",\"\",MAX(A$1:A217)+1)","v":""},{"$f":"IF(CMS_Downtime!F239=\"\",\"\",CMS_Downtime!F239)","v":""},{"$f":"IF(CMS_Downtime!$F239=\"\",\"\",CMS_Downtime!B239)","v":""},{"$f":"IF(CMS_Downtime!$F239=\"\",\"\",CMS_Downtime!C239)","v":""},{"$f":"IF(CMS_Downtime!$F239=\"\",\"\",CMS_Downtime!D239)","v":""},{"$f":"IF(CMS_Downtime!$F239=\"\",\"\",CMS_Downtime!E239)","v":""},"",{"$f":"IF(COUNTIF(G$2:G218,G218)=1,G218,\"\")","v":""},"","","","","",{"$f":"IF(I218=\"\",\"\",VLOOKUP(I218,List_CMS!$L$3:$Q$79,6,FALSE))","v":""}]
[{"$f":"+IF(H219=\"\",\"\",MAX(A$1:A218)+1)","v":""},{"$f":"IF(CMS_Downtime!F240=\"\",\"\",CMS_Downtime!F240)","v":""},{"$f":"IF(CMS_Downtime!$F240=\"\",\"\",CMS_Downtime!B240)","v":""},{"$f":"IF(CMS_Downtime!$F240=\"\",\"\",CMS_Downtime!C240)","v":""},{"$f":"IF(CMS_Downtime!$F240=\"\",\"\",CMS_Downtime!D240)","v":""},{"$f":"IF(CMS_Downtime!$F240=\"\",\"\",CMS_Downtime!E240)","v":""},"",{"$f":"IF(COUNTIF(G$2:G219,G219)=1,G219,\"\")","v":""},"","","","","",{"$f":"IF(I219=\"\",\"\",VLOOKUP(I219,List_CMS!$L$3:$Q$79,6,FALSE))","v":""}]
[{"$f":"+IF(H220=\"\",\"\",MAX(A$1:A219)+1)","v":""},{"$f":"IF(CMS_Downtime!F241=\"\",\"\",CMS_Downtime!F241)","v":""},{"$f":"IF(CMS_Downtime!$F241=\"\",\"\",CMS_Downtime!B241)","v":""},{"$f":"IF(CMS_Downtime!$F241=\"\",\"\",CMS_Downtime!C241)","v":""},{"$f":"IF(CMS_Downtime!$F241=\"\",\"\",CMS_Downtime!D241)","v":""},{"$f":"IF(CMS_Downtime!$F241=\"\",\"\",CMS_Downtime!E241)","v":""},"",{"$f":"IF(COUNTIF(G$2:G220,G220)=1,G220,\"\")","v":""},"","","","","",{"$f":"IF(I220=\"\",\"\",VLOOKUP(I220,List_CMS!$L$3:$Q$79,6,FALSE))","v":""}]
[{"$f":"+IF(H221=\"\",\"\",MAX(A$1:A220)+1)","v":""},{"$f":"IF(CMS_Downtime!F242=\"\",\"\",CMS_Downtime!F242)","v":""},{"$f":"IF(CMS_Downtime!$F242=\"\",\"\",CMS_Downtime!B242)","v":""},{"$f":"IF(CMS_Downtime!$F242=\"\",\"\",CMS_Downtime!C242)","v":""},{"$f":"IF(CMS_Downtime!$F242=\"\",\"\",CMS_Downtime!D242)","v":""},{"$f":"IF(CMS_Downtime!$F242=\"\",\"\",CMS_Downtime!E242)","v":""},"",{"$f":"IF(COUNTIF(G$2:G221,G221)=1,G221,\"\")","v":""},"","","","","",{"$f":"IF(I221=\"\",\"\",VLOOKUP(I221,List_CMS!$L$3:$Q$79,6,FALSE))","v":""}]
[{"$f":"+IF(H222=\"\",\"\",MAX(A$1:A221)+1)","v":""},{"$f":"IF(CMS_Downtime!F243=\"\",\"\",CMS_Downtime!F243)","v":""},{"$f":"IF(CMS_Downtime!$F243=\"\",\"\",CMS_Downtime!B243)","v":""},{"$f":"IF(CMS_Downtime!$F243=\"\",\"\",CMS_Downtime!C243)","v":""},{"$f":"IF(CMS_Downtime!$F243=\"\",\"\",CMS_Downtime!D243)","v":""},{"$f":"IF(CMS_Downtime!$F243=\"\",\"\",CMS_Downtime!E243)","v":""},"",{"$f":"IF(COUNTIF(G$2:G222,G222)=1,G222,\"\")","v":""},"","","","","",{"$f":"IF(I222=\"\",\"\",VLOOKUP(I222,List_CMS!$L$3:$Q$79,6,FALSE))","v":""}]
[{"$f":"+IF(H223=\"\",\"\",MAX(A$1:A222)+1)","v":""},{"$f":"IF(CMS_Downtime!F244=\"\",\"\",CMS_Downtime!F244)","v":""},{"$f":"IF(CMS_Downtime!$F244=\"\",\"\",CMS_Downtime!B244)","v":""},{"$f":"IF(CMS_Downtime!$F244=\"\",\"\",CMS_Downtime!C244)","v":""},{"$f":"IF(CMS_Downtime!$F244=\"\",\"\",CMS_Downtime!D244)","v":""},{"$f":"IF(CMS_Downtime!$F244=\"\",\"\",CMS_Downtime!E244)","v":""},"",{"$f":"IF(COUNTIF(G$2:G223,G223)=1,G223,\"\")","v":""},"","","","","",{"$f":"IF(I223=\"\",\"\",VLOOKUP(I223,List_CMS!$L$3:$Q$79,6,FALSE))","v":""}]
[{"$f":"+IF(H224=\"\",\"\",MAX(A$1:A223)+1)","v":""},{"$f":"IF(CMS_Downtime!F245=\"\",\"\",CMS_Downtime!F245)","v":""},{"$f":"IF(CMS_Downtime!$F245=\"\",\"\",CMS_Downtime!B245)","v":""},{"$f":"IF(CMS_Downtime!$F245=\"\",\"\",CMS_Downtime!C245)","v":""},{"$f":"IF(CMS_Downtime!$F245=\"\",\"\",CMS_Downtime!D245)","v":""},{"$f":"IF(CMS_Downtime!$F245=\"\",\"\",CMS_Downtime!E245)","v":""},"",{"$f":"IF(COUNTIF(G$2:G224,G224)=1,G224,\"\")","v":""},"","","","","",{"$f":"IF(I224=\"\",\"\",VLOOKUP(I224,List_CMS!$L$3:$Q$79,6,FALSE))","v":""}]
[{"$f":"+IF(H225=\"\",\"\",MAX(A$1:A224)+1)","v":""},{"$f":"IF(CMS_Downtime!F246=\"\",\"\",CMS_Downtime!F246)","v":""},{"$f":"IF(CMS_Downtime!$F246=\"\",\"\",CMS_Downtime!B246)","v":""},{"$f":"IF(CMS_Downtime!$F246=\"\",\"\",CMS_Downtime!C246)","v":""},{"$f":"IF(CMS_Downtime!$F246=\"\",\"\",CMS_Downtime!D246)","v":""},{"$f":"IF(CMS_Downtime!$F246=\"\",\"\",CMS_Downtime!E246)","v":""},"",{"$f":"IF(COUNTIF(G$2:G225,G225)=1,G225,\"\")","v":""},"","","","","",{"$f":"IF(I225=\"\",\"\",VLOOKUP(I225,List_CMS!$L$3:$Q$79,6,FALSE))","v":""}]
[{"$f":"+IF(H226=\"\",\"\",MAX(A$1:A225)+1)","v":""},{"$f":"IF(CMS_Downtime!F247=\"\",\"\",CMS_Downtime!F247)","v":""},{"$f":"IF(CMS_Downtime!$F247=\"\",\"\",CMS_Downtime!B247)","v":""},{"$f":"IF(CMS_Downtime!$F247=\"\",\"\",CMS_Downtime!C247)","v":""},{"$f":"IF(CMS_Downtime!$F247=\"\",\"\",CMS_Downtime!D247)","v":""},{"$f":"IF(CMS_Downtime!$F247=\"\",\"\",CMS_Downtime!E247)","v":""},"",{"$f":"IF(COUNTIF(G$2:G226,G226)=1,G226,\"\")","v":""},"","","","","",{"$f":"IF(I226=\"\",\"\",VLOOKUP(I226,List_CMS!$L$3:$Q$79,6,FALSE))","v":""}]
[{"$f":"+IF(H227=\"\",\"\",MAX(A$1:A226)+1)","v":""},{"$f":"IF(CMS_Downtime!F248=\"\",\"\",CMS_Downtime!F248)","v":""},{"$f":"IF(CMS_Downtime!$F248=\"\",\"\",CMS_Downtime!B248)","v":""},{"$f":"IF(CMS_Downtime!$F248=\"\",\"\",CMS_Downtime!C248)","v":""},{"$f":"IF(CMS_Downtime!$F248=\"\",\"\",CMS_Downtime!D248)","v":""},{"$f":"IF(CMS_Downtime!$F248=\"\",\"\",CMS_Downtime!E248)","v":""},"",{"$f":"IF(COUNTIF(G$2:G227,G227)=1,G227,\"\")","v":""},"","","","","",{"$f":"IF(I227=\"\",\"\",VLOOKUP(I227,List_CMS!$L$3:$Q$79,6,FALSE))","v":""}]
[{"$f":"+IF(H228=\"\",\"\",MAX(A$1:A227)+1)","v":""},{"$f":"IF(CMS_Downtime!F249=\"\",\"\",CMS_Downtime!F249)","v":""},{"$f":"IF(CMS_Downtime!$F249=\"\",\"\",CMS_Downtime!B249)","v":""},{"$f":"IF(CMS_Downtime!$F249=\"\",\"\",CMS_Downtime!C249)","v":""},{"$f":"IF(CMS_Downtime!$F249=\"\",\"\",CMS_Downtime!D249)","v":""},{"$f":"IF(CMS_Downtime!$F249=\"\",\"\",CMS_Downtime!E249)","v":""},"",{"$f":"IF(COUNTIF(G$2:G228,G228)=1,G228,\"\")","v":""},"","","","","",{"$f":"IF(I228=\"\",\"\",VLOOKUP(I228,List_CMS!$L$3:$Q$79,6,FALSE))","v":""}]
[{"$f":"+IF(H229=\"\",\"\",MAX(A$1:A228)+1)","v":""},{"$f":"IF(CMS_Downtime!F250=\"\",\"\",CMS_Downtime!F250)","v":""},{"$f":"IF(CMS_Downtime!$F250=\"\",\"\",CMS_Downtime!B250)","v":""},{"$f":"IF(CMS_Downtime!$F250=\"\",\"\",CMS_Downtime!C250)","v":""},{"$f":"IF(CMS_Downtime!$F250=\"\",\"\",CMS_Downtime!D250)","v":""},{"$f":"IF(CMS_Downtime!$F250=\"\",\"\",CMS_Downtime!E250)","v":""},"",{"$f":"IF(COUNTIF(G$2:G229,G229)=1,G229,\"\")","v":""},"","","","","",{"$f":"IF(I229=\"\",\"\",VLOOKUP(I229,List_CMS!$L$3:$Q$79,6,FALSE))","v":""}]
[{"$f":"+IF(H230=\"\",\"\",MAX(A$1:A229)+1)","v":""},{"$f":"IF(CMS_Downtime!F251=\"\",\"\",CMS_Downtime!F251)","v":""},{"$f":"IF(CMS_Downtime!$F251=\"\",\"\",CMS_Downtime!B251)","v":""},{"$f":"IF(CMS_Downtime!$F251=\"\",\"\",CMS_Downtime!C251)","v":""},{"$f":"IF(CMS_Downtime!$F251=\"\",\"\",CMS_Downtime!D251)","v":""},{"$f":"IF(CMS_Downtime!$F251=\"\",\"\",CMS_Downtime!E251)","v":""},"",{"$f":"IF(COUNTIF(G$2:G230,G230)=1,G230,\"\")","v":""},"","","","","",{"$f":"IF(I230=\"\",\"\",VLOOKUP(I230,List_CMS!$L$3:$Q$79,6,FALSE))","v":""}]
[{"$f":"+IF(H231=\"\",\"\",MAX(A$1:A230)+1)","v":""},{"$f":"IF(CMS_Downtime!F252=\"\",\"\",CMS_Downtime!F252)","v":""},{"$f":"IF(CMS_Downtime!$F252=\"\",\"\",CMS_Downtime!B252)","v":""},{"$f":"IF(CMS_Downtime!$F252=\"\",\"\",CMS_Downtime!C252)","v":""},{"$f":"IF(CMS_Downtime!$F252=\"\",\"\",CMS_Downtime!D252)","v":""},{"$f":"IF(CMS_Downtime!$F252=\"\",\"\",CMS_Downtime!E252)","v":""},"",{"$f":"IF(COUNTIF(G$2:G231,G231)=1,G231,\"\")","v":""},"","","","","",{"$f":"IF(I231=\"\",\"\",VLOOKUP(I231,List_CMS!$L$3:$Q$79,6,FALSE))","v":""}]
[{"$f":"+IF(H232=\"\",\"\",MAX(A$1:A231)+1)","v":""},{"$f":"IF(CMS_Downtime!F253=\"\",\"\",CMS_Downtime!F253)","v":""},{"$f":"IF(CMS_Downtime!$F253=\"\",\"\",CMS_Downtime!B253)","v":""},{"$f":"IF(CMS_Downtime!$F253=\"\",\"\",CMS_Downtime!C253)","v":""},{"$f":"IF(CMS_Downtime!$F253=\"\",\"\",CMS_Downtime!D253)","v":""},{"$f":"IF(CMS_Downtime!$F253=\"\",\"\",CMS_Downtime!E253)","v":""},"",{"$f":"IF(COUNTIF(G$2:G232,G232)=1,G232,\"\")","v":""},"","","","","",{"$f":"IF(I232=\"\",\"\",VLOOKUP(I232,List_CMS!$L$3:$Q$79,6,FALSE))","v":""}]
[{"$f":"+IF(H233=\"\",\"\",MAX(A$1:A232)+1)","v":""},{"$f":"IF(CMS_Downtime!F254=\"\",\"\",CMS_Downtime!F254)","v":""},{"$f":"IF(CMS_Downtime!$F254=\"\",\"\",CMS_Downtime!B254)","v":""},{"$f":"IF(CMS_Downtime!$F254=\"\",\"\",CMS_Downtime!C254)","v":""},{"$f":"IF(CMS_Downtime!$F254=\"\",\"\",CMS_Downtime!D254)","v":""},{"$f":"IF(CMS_Downtime!$F254=\"\",\"\",CMS_Downtime!E254)","v":""},"",{"$f":"IF(COUNTIF(G$2:G233,G233)=1,G233,\"\")","v":""},"","","","","",{"$f":"IF(I233=\"\",\"\",VLOOKUP(I233,List_CMS!$L$3:$Q$79,6,FALSE))","v":""}]
[{"$f":"+IF(H234=\"\",\"\",MAX(A$1:A233)+1)","v":""},{"$f":"IF(CMS_Downtime!F255=\"\",\"\",CMS_Downtime!F255)","v":""},{"$f":"IF(CMS_Downtime!$F255=\"\",\"\",CMS_Downtime!B255)","v":""},{"$f":"IF(CMS_Downtime!$F255=\"\",\"\",CMS_Downtime!C255)","v":""},{"$f":"IF(CMS_Downtime!$F255=\"\",\"\",CMS_Downtime!D255)","v":""},{"$f":"IF(CMS_Downtime!$F255=\"\",\"\",CMS_Downtime!E255)","v":""},"",{"$f":"IF(COUNTIF(G$2:G234,G234)=1,G234,\"\")","v":""},"","","","","",{"$f":"IF(I234=\"\",\"\",VLOOKUP(I234,List_CMS!$L$3:$Q$79,6,FALSE))","v":""}]
[{"$f":"+IF(H235=\"\",\"\",MAX(A$1:A234)+1)","v":""},{"$f":"IF(CMS_Downtime!F256=\"\",\"\",CMS_Downtime!F256)","v":""},{"$f":"IF(CMS_Downtime!$F256=\"\",\"\",CMS_Downtime!B256)","v":""},{"$f":"IF(CMS_Downtime!$F256=\"\",\"\",CMS_Downtime!C256)","v":""},{"$f":"IF(CMS_Downtime!$F256=\"\",\"\",CMS_Downtime!D256)","v":""},{"$f":"IF(CMS_Downtime!$F256=\"\",\"\",CMS_Downtime!E256)","v":""},"",{"$f":"IF(COUNTIF(G$2:G235,G235)=1,G235,\"\")","v":""},"","","","","",{"$f":"IF(I235=\"\",\"\",VLOOKUP(I235,List_CMS!$L$3:$Q$79,6,FALSE))","v":""}]
[{"$f":"+IF(H236=\"\",\"\",MAX(A$1:A235)+1)","v":""},{"$f":"IF(CMS_Downtime!F257=\"\",\"\",CMS_Downtime!F257)","v":""},{"$f":"IF(CMS_Downtime!$F257=\"\",\"\",CMS_Downtime!B257)","v":""},{"$f":"IF(CMS_Downtime!$F257=\"\",\"\",CMS_Downtime!C257)","v":""},{"$f":"IF(CMS_Downtime!$F257=\"\",\"\",CMS_Downtime!D257)","v":""},{"$f":"IF(CMS_Downtime!$F257=\"\",\"\",CMS_Downtime!E257)","v":""},"",{"$f":"IF(COUNTIF(G$2:G236,G236)=1,G236,\"\")","v":""},"","","","","",{"$f":"IF(I236=\"\",\"\",VLOOKUP(I236,List_CMS!$L$3:$Q$79,6,FALSE))","v":""}]
[{"$f":"+IF(H237=\"\",\"\",MAX(A$1:A236)+1)","v":""},{"$f":"IF(CMS_Downtime!F258=\"\",\"\",CMS_Downtime!F258)","v":""},{"$f":"IF(CMS_Downtime!$F258=\"\",\"\",CMS_Downtime!B258)","v":""},{"$f":"IF(CMS_Downtime!$F258=\"\",\"\",CMS_Downtime!C258)","v":""},{"$f":"IF(CMS_Downtime!$F258=\"\",\"\",CMS_Downtime!D258)","v":""},{"$f":"IF(CMS_Downtime!$F258=\"\",\"\",CMS_Downtime!E258)","v":""},"",{"$f":"IF(COUNTIF(G$2:G237,G237)=1,G237,\"\")","v":""},"","","","","",{"$f":"IF(I237=\"\",\"\",VLOOKUP(I237,List_CMS!$L$3:$Q$79,6,FALSE))","v":""}]
[{"$f":"+IF(H238=\"\",\"\",MAX(A$1:A237)+1)","v":""},{"$f":"IF(CMS_Downtime!F259=\"\",\"\",CMS_Downtime!F259)","v":""},{"$f":"IF(CMS_Downtime!$F259=\"\",\"\",CMS_Downtime!B259)","v":""},{"$f":"IF(CMS_Downtime!$F259=\"\",\"\",CMS_Downtime!C259)","v":""},{"$f":"IF(CMS_Downtime!$F259=\"\",\"\",CMS_Downtime!D259)","v":""},{"$f":"IF(CMS_Downtime!$F259=\"\",\"\",CMS_Downtime!E259)","v":""},"",{"$f":"IF(COUNTIF(G$2:G238,G238)=1,G238,\"\")","v":""},"","","","","",{"$f":"IF(I238=\"\",\"\",VLOOKUP(I238,List_CMS!$L$3:$Q$79,6,FALSE))","v":""}]
[{"$f":"+IF(H239=\"\",\"\",MAX(A$1:A238)+1)","v":""},{"$f":"IF(CMS_Downtime!F260=\"\",\"\",CMS_Downtime!F260)","v":""},{"$f":"IF(CMS_Downtime!$F260=\"\",\"\",CMS_Downtime!B260)","v":""},{"$f":"IF(CMS_Downtime!$F260=\"\",\"\",CMS_Downtime!C260)","v":""},{"$f":"IF(CMS_Downtime!$F260=\"\",\"\",CMS_Downtime!D260)","v":""},{"$f":"IF(CMS_Downtime!$F260=\"\",\"\",CMS_Downtime!E260)","v":""},"",{"$f":"IF(COUNTIF(G$2:G239,G239)=1,G239,\"\")","v":""},"","","","","",{"$f":"IF(I239=\"\",\"\",VLOOKUP(I239,List_CMS!$L$3:$Q$79,6,FALSE))","v":""}]
[{"$f":"+IF(H240=\"\",\"\",MAX(A$1:A239)+1)","v":""},{"$f":"IF(CMS_Downtime!F261=\"\",\"\",CMS_Downtime!F261)","v":""},{"$f":"IF(CMS_Downtime!$F261=\"\",\"\",CMS_Downtime!B261)","v":""},{"$f":"IF(CMS_Downtime!$F261=\"\",\"\",CMS_Downtime!C261)","v":""},{"$f":"IF(CMS_Downtime!$F261=\"\",\"\",CMS_Downtime!D261)","v":""},{"$f":"IF(CMS_Downtime!$F261=\"\",\"\",CMS_Downtime!E261)","v":""},"",{"$f":"IF(COUNTIF(G$2:G240,G240)=1,G240,\"\")","v":""},"","","","","",{"$f":"IF(I240=\"\",\"\",VLOOKUP(I240,List_CMS!$L$3:$Q$79,6,FALSE))","v":""}]
[{"$f":"+IF(H241=\"\",\"\",MAX(A$1:A240)+1)","v":""},{"$f":"IF(CMS_Downtime!F262=\"\",\"\",CMS_Downtime!F262)","v":""},{"$f":"IF(CMS_Downtime!$F262=\"\",\"\",CMS_Downtime!B262)","v":""},{"$f":"IF(CMS_Downtime!$F262=\"\",\"\",CMS_Downtime!C262)","v":""},{"$f":"IF(CMS_Downtime!$F262=\"\",\"\",CMS_Downtime!D262)","v":""},{"$f":"IF(CMS_Downtime!$F262=\"\",\"\",CMS_Downtime!E262)","v":""},"",{"$f":"IF(COUNTIF(G$2:G241,G241)=1,G241,\"\")","v":""},"","","","","",{"$f":"IF(I241=\"\",\"\",VLOOKUP(I241,List_CMS!$L$3:$Q$79,6,FALSE))","v":""}]
[{"$f":"+IF(H242=\"\",\"\",MAX(A$1:A241)+1)","v":""},{"$f":"IF(CMS_Downtime!F263=\"\",\"\",CMS_Downtime!F263)","v":""},{"$f":"IF(CMS_Downtime!$F263=\"\",\"\",CMS_Downtime!B263)","v":""},{"$f":"IF(CMS_Downtime!$F263=\"\",\"\",CMS_Downtime!C263)","v":""},{"$f":"IF(CMS_Downtime!$F263=\"\",\"\",CMS_Downtime!D263)","v":""},{"$f":"IF(CMS_Downtime!$F263=\"\",\"\",CMS_Downtime!E263)","v":""},"",{"$f":"IF(COUNTIF(G$2:G242,G242)=1,G242,\"\")","v":""},"","","","","",{"$f":"IF(I242=\"\",\"\",VLOOKUP(I242,List_CMS!$L$3:$Q$79,6,FALSE))","v":""}]
[{"$f":"+IF(H243=\"\",\"\",MAX(A$1:A242)+1)","v":""},{"$f":"IF(CMS_Downtime!F264=\"\",\"\",CMS_Downtime!F264)","v":""},{"$f":"IF(CMS_Downtime!$F264=\"\",\"\",CMS_Downtime!B264)","v":""},{"$f":"IF(CMS_Downtime!$F264=\"\",\"\",CMS_Downtime!C264)","v":""},{"$f":"IF(CMS_Downtime!$F264=\"\",\"\",CMS_Downtime!D264)","v":""},{"$f":"IF(CMS_Downtime!$F264=\"\",\"\",CMS_Downtime!E264)","v":""},"",{"$f":"IF(COUNTIF(G$2:G243,G243)=1,G243,\"\")","v":""},"","","","","",{"$f":"IF(I243=\"\",\"\",VLOOKUP(I243,List_CMS!$L$3:$Q$79,6,FALSE))","v":""}]
[{"$f":"+IF(H244=\"\",\"\",MAX(A$1:A243)+1)","v":""},{"$f":"IF(CMS_Downtime!F265=\"\",\"\",CMS_Downtime!F265)","v":""},{"$f":"IF(CMS_Downtime!$F265=\"\",\"\",CMS_Downtime!B265)","v":""},{"$f":"IF(CMS_Downtime!$F265=\"\",\"\",CMS_Downtime!C265)","v":""},{"$f":"IF(CMS_Downtime!$F265=\"\",\"\",CMS_Downtime!D265)","v":""},{"$f":"IF(CMS_Downtime!$F265=\"\",\"\",CMS_Downtime!E265)","v":""},"",{"$f":"IF(COUNTIF(G$2:G244,G244)=1,G244,\"\")","v":""},"","","","","",{"$f":"IF(I244=\"\",\"\",VLOOKUP(I244,List_CMS!$L$3:$Q$79,6,FALSE))","v":""}]
[{"$f":"+IF(H245=\"\",\"\",MAX(A$1:A244)+1)","v":""},{"$f":"IF(CMS_Downtime!F266=\"\",\"\",CMS_Downtime!F266)","v":""},{"$f":"IF(CMS_Downtime!$F266=\"\",\"\",CMS_Downtime!B266)","v":""},{"$f":"IF(CMS_Downtime!$F266=\"\",\"\",CMS_Downtime!C266)","v":""},{"$f":"IF(CMS_Downtime!$F266=\"\",\"\",CMS_Downtime!D266)","v":""},{"$f":"IF(CMS_Downtime!$F266=\"\",\"\",CMS_Downtime!E266)","v":""},"",{"$f":"IF(COUNTIF(G$2:G245,G245)=1,G245,\"\")","v":""},"","","","","",{"$f":"IF(I245=\"\",\"\",VLOOKUP(I245,List_CMS!$L$3:$Q$79,6,FALSE))","v":""}]
[{"$f":"+IF(H246=\"\",\"\",MAX(A$1:A245)+1)","v":""},{"$f":"IF(CMS_Downtime!F267=\"\",\"\",CMS_Downtime!F267)","v":""},{"$f":"IF(CMS_Downtime!$F267=\"\",\"\",CMS_Downtime!B267)","v":""},{"$f":"IF(CMS_Downtime!$F267=\"\",\"\",CMS_Downtime!C267)","v":""},{"$f":"IF(CMS_Downtime!$F267=\"\",\"\",CMS_Downtime!D267)","v":""},{"$f":"IF(CMS_Downtime!$F267=\"\",\"\",CMS_Downtime!E267)","v":""},"",{"$f":"IF(COUNTIF(G$2:G246,G246)=1,G246,\"\")","v":""},"","","","","",{"$f":"IF(I246=\"\",\"\",VLOOKUP(I246,List_CMS!$L$3:$Q$79,6,FALSE))","v":""}]
[{"$f":"+IF(H247=\"\",\"\",MAX(A$1:A246)+1)","v":""},{"$f":"IF(CMS_Downtime!F268=\"\",\"\",CMS_Downtime!F268)","v":""},{"$f":"IF(CMS_Downtime!$F268=\"\",\"\",CMS_Downtime!B268)","v":""},{"$f":"IF(CMS_Downtime!$F268=\"\",\"\",CMS_Downtime!C268)","v":""},{"$f":"IF(CMS_Downtime!$F268=\"\",\"\",CMS_Downtime!D268)","v":""},{"$f":"IF(CMS_Downtime!$F268=\"\",\"\",CMS_Downtime!E268)","v":""},"",{"$f":"IF(COUNTIF(G$2:G247,G247)=1,G247,\"\")","v":""},"","","","","",{"$f":"IF(I247=\"\",\"\",VLOOKUP(I247,List_CMS!$L$3:$Q$79,6,FALSE))","v":""}]
[{"$f":"+IF(H248=\"\",\"\",MAX(A$1:A247)+1)","v":""},{"$f":"IF(CMS_Downtime!F269=\"\",\"\",CMS_Downtime!F269)","v":""},{"$f":"IF(CMS_Downtime!$F269=\"\",\"\",CMS_Downtime!B269)","v":""},{"$f":"IF(CMS_Downtime!$F269=\"\",\"\",CMS_Downtime!C269)","v":""},{"$f":"IF(CMS_Downtime!$F269=\"\",\"\",CMS_Downtime!D269)","v":""},{"$f":"IF(CMS_Downtime!$F269=\"\",\"\",CMS_Downtime!E269)","v":""},"",{"$f":"IF(COUNTIF(G$2:G248,G248)=1,G248,\"\")","v":""},"","","","","",{"$f":"IF(I248=\"\",\"\",VLOOKUP(I248,List_CMS!$L$3:$Q$79,6,FALSE))","v":""}]
[{"$f":"+IF(H249=\"\",\"\",MAX(A$1:A248)+1)","v":""},{"$f":"IF(CMS_Downtime!F270=\"\",\"\",CMS_Downtime!F270)","v":""},{"$f":"IF(CMS_Downtime!$F270=\"\",\"\",CMS_Downtime!B270)","v":""},{"$f":"IF(CMS_Downtime!$F270=\"\",\"\",CMS_Downtime!C270)","v":""},{"$f":"IF(CMS_Downtime!$F270=\"\",\"\",CMS_Downtime!D270)","v":""},{"$f":"IF(CMS_Downtime!$F270=\"\",\"\",CMS_Downtime!E270)","v":""},"",{"$f":"IF(COUNTIF(G$2:G249,G249)=1,G249,\"\")","v":""},"","","","","",{"$f":"IF(I249=\"\",\"\",VLOOKUP(I249,List_CMS!$L$3:$Q$79,6,FALSE))","v":""}]
[{"$f":"+IF(H250=\"\",\"\",MAX(A$1:A249)+1)","v":""},{"$f":"IF(CMS_Downtime!F271=\"\",\"\",CMS_Downtime!F271)","v":""},{"$f":"IF(CMS_Downtime!$F271=\"\",\"\",CMS_Downtime!B271)","v":""},{"$f":"IF(CMS_Downtime!$F271=\"\",\"\",CMS_Downtime!C271)","v":""},{"$f":"IF(CMS_Downtime!$F271=\"\",\"\",CMS_Downtime!D271)","v":""},{"$f":"IF(CMS_Downtime!$F271=\"\",\"\",CMS_Downtime!E271)","v":""},"",{"$f":"IF(COUNTIF(G$2:G250,G250)=1,G250,\"\")","v":""},"","","","","",{"$f":"IF(I250=\"\",\"\",VLOOKUP(I250,List_CMS!$L$3:$Q$79,6,FALSE))","v":""}]
[{"$f":"+IF(H251=\"\",\"\",MAX(A$1:A250)+1)","v":""},{"$f":"IF(CMS_Downtime!F272=\"\",\"\",CMS_Downtime!F272)","v":""},{"$f":"IF(CMS_Downtime!$F272=\"\",\"\",CMS_Downtime!B272)","v":""},{"$f":"IF(CMS_Downtime!$F272=\"\",\"\",CMS_Downtime!C272)","v":""},{"$f":"IF(CMS_Downtime!$F272=\"\",\"\",CMS_Downtime!D272)","v":""},{"$f":"IF(CMS_Downtime!$F272=\"\",\"\",CMS_Downtime!E272)","v":""},"",{"$f":"IF(COUNTIF(G$2:G251,G251)=1,G251,\"\")","v":""},"","","","","",{"$f":"IF(I251=\"\",\"\",VLOOKUP(I251,List_CMS!$L$3:$Q$79,6,FALSE))","v":""}]
[{"$f":"+IF(H252=\"\",\"\",MAX(A$1:A251)+1)","v":""},{"$f":"IF(CMS_Downtime!F273=\"\",\"\",CMS_Downtime!F273)","v":""},{"$f":"IF(CMS_Downtime!$F273=\"\",\"\",CMS_Downtime!B273)","v":""},{"$f":"IF(CMS_Downtime!$F273=\"\",\"\",CMS_Downtime!C273)","v":""},{"$f":"IF(CMS_Downtime!$F273=\"\",\"\",CMS_Downtime!D273)","v":""},{"$f":"IF(CMS_Downtime!$F273=\"\",\"\",CMS_Downtime!E273)","v":""},"",{"$f":"IF(COUNTIF(G$2:G252,G252)=1,G252,\"\")","v":""},"","","","","",{"$f":"IF(I252=\"\",\"\",VLOOKUP(I252,List_CMS!$L$3:$Q$79,6,FALSE))","v":""}]
[{"$f":"+IF(H253=\"\",\"\",MAX(A$1:A252)+1)","v":""},{"$f":"IF(CMS_Downtime!F274=\"\",\"\",CMS_Downtime!F274)","v":""},{"$f":"IF(CMS_Downtime!$F274=\"\",\"\",CMS_Downtime!B274)","v":""},{"$f":"IF(CMS_Downtime!$F274=\"\",\"\",CMS_Downtime!C274)","v":""},{"$f":"IF(CMS_Downtime!$F274=\"\",\"\",CMS_Downtime!D274)","v":""},{"$f":"IF(CMS_Downtime!$F274=\"\",\"\",CMS_Downtime!E274)","v":""},"",{"$f":"IF(COUNTIF(G$2:G253,G253)=1,G253,\"\")","v":""},"","","","","",{"$f":"IF(I253=\"\",\"\",VLOOKUP(I253,List_CMS!$L$3:$Q$79,6,FALSE))","v":""}]
[{"$f":"+IF(H254=\"\",\"\",MAX(A$1:A253)+1)","v":""},{"$f":"IF(CMS_Downtime!F275=\"\",\"\",CMS_Downtime!F275)","v":""},{"$f":"IF(CMS_Downtime!$F275=\"\",\"\",CMS_Downtime!B275)","v":""},{"$f":"IF(CMS_Downtime!$F275=\"\",\"\",CMS_Downtime!C275)","v":""},{"$f":"IF(CMS_Downtime!$F275=\"\",\"\",CMS_Downtime!D275)","v":""},{"$f":"IF(CMS_Downtime!$F275=\"\",\"\",CMS_Downtime!E275)","v":""},"",{"$f":"IF(COUNTIF(G$2:G254,G254)=1,G254,\"\")","v":""},"","","","","",{"$f":"IF(I254=\"\",\"\",VLOOKUP(I254,List_CMS!$L$3:$Q$79,6,FALSE))","v":""}]
[{"$f":"+IF(H255=\"\",\"\",MAX(A$1:A254)+1)","v":""},{"$f":"IF(CMS_Downtime!F276=\"\",\"\",CMS_Downtime!F276)","v":""},{"$f":"IF(CMS_Downtime!$F276=\"\",\"\",CMS_Downtime!B276)","v":""},{"$f":"IF(CMS_Downtime!$F276=\"\",\"\",CMS_Downtime!C276)","v":""},{"$f":"IF(CMS_Downtime!$F276=\"\",\"\",CMS_Downtime!D276)","v":""},{"$f":"IF(CMS_Downtime!$F276=\"\",\"\",CMS_Downtime!E276)","v":""},"",{"$f":"IF(COUNTIF(G$2:G255,G255)=1,G255,\"\")","v":""},"","","","","",{"$f":"IF(I255=\"\",\"\",VLOOKUP(I255,List_CMS!$L$3:$Q$79,6,FALSE))","v":""}]
[{"$f":"+IF(H256=\"\",\"\",MAX(A$1:A255)+1)","v":""},{"$f":"IF(CMS_Downtime!F277=\"\",\"\",CMS_Downtime!F277)","v":""},{"$f":"IF(CMS_Downtime!$F277=\"\",\"\",CMS_Downtime!B277)","v":""},{"$f":"IF(CMS_Downtime!$F277=\"\",\"\",CMS_Downtime!C277)","v":""},{"$f":"IF(CMS_Downtime!$F277=\"\",\"\",CMS_Downtime!D277)","v":""},{"$f":"IF(CMS_Downtime!$F277=\"\",\"\",CMS_Downtime!E277)","v":""},"",{"$f":"IF(COUNTIF(G$2:G256,G256)=1,G256,\"\")","v":""},"","","","","",{"$f":"IF(I256=\"\",\"\",VLOOKUP(I256,List_CMS!$L$3:$Q$79,6,FALSE))","v":""}]
[{"$f":"+IF(H257=\"\",\"\",MAX(A$1:A256)+1)","v":""},{"$f":"IF(CMS_Downtime!F278=\"\",\"\",CMS_Downtime!F278)","v":""},{"$f":"IF(CMS_Downtime!$F278=\"\",\"\",CMS_Downtime!B278)","v":""},{"$f":"IF(CMS_Downtime!$F278=\"\",\"\",CMS_Downtime!C278)","v":""},{"$f":"IF(CMS_Downtime!$F278=\"\",\"\",CMS_Downtime!D278)","v":""},{"$f":"IF(CMS_Downtime!$F278=\"\",\"\",CMS_Downtime!E278)","v":""},"",{"$f":"IF(COUNTIF(G$2:G257,G257)=1,G257,\"\")","v":""},"","","","","",{"$f":"IF(I257=\"\",\"\",VLOOKUP(I257,List_CMS!$L$3:$Q$79,6,FALSE))","v":""}]
[{"$f":"+IF(H258=\"\",\"\",MAX(A$1:A257)+1)","v":""},{"$f":"IF(CMS_Downtime!F279=\"\",\"\",CMS_Downtime!F279)","v":""},{"$f":"IF(CMS_Downtime!$F279=\"\",\"\",CMS_Downtime!B279)","v":""},{"$f":"IF(CMS_Downtime!$F279=\"\",\"\",CMS_Downtime!C279)","v":""},{"$f":"IF(CMS_Downtime!$F279=\"\",\"\",CMS_Downtime!D279)","v":""},{"$f":"IF(CMS_Downtime!$F279=\"\",\"\",CMS_Downtime!E279)","v":""},"",{"$f":"IF(COUNTIF(G$2:G258,G258)=1,G258,\"\")","v":""},"","","","","",{"$f":"IF(I258=\"\",\"\",VLOOKUP(I258,List_CMS!$L$3:$Q$79,6,FALSE))","v":""}]
[{"$f":"+IF(H259=\"\",\"\",MAX(A$1:A258)+1)","v":""},{"$f":"IF(CMS_Downtime!F280=\"\",\"\",CMS_Downtime!F280)","v":""},{"$f":"IF(CMS_Downtime!$F280=\"\",\"\",CMS_Downtime!B280)","v":""},{"$f":"IF(CMS_Downtime!$F280=\"\",\"\",CMS_Downtime!C280)","v":""},{"$f":"IF(CMS_Downtime!$F280=\"\",\"\",CMS_Downtime!D280)","v":""},{"$f":"IF(CMS_Downtime!$F280=\"\",\"\",CMS_Downtime!E280)","v":""},"",{"$f":"IF(COUNTIF(G$2:G259,G259)=1,G259,\"\")","v":""},{"$f":"+IFERROR(INDEX($H$2:$H$499,MATCH(ROW()-ROW($I$2),$A$2:$A$499,0)),\"\")","v":""},"","","","",{"$f":"IF(I259=\"\",\"\",VLOOKUP(I259,List_CMS!$L$3:$Q$79,6,FALSE))","v":""}]
[{"$f":"+IF(H260=\"\",\"\",MAX(A$1:A259)+1)","v":""},{"$f":"IF(CMS_Downtime!F281=\"\",\"\",CMS_Downtime!F281)","v":""},{"$f":"IF(CMS_Downtime!$F281=\"\",\"\",CMS_Downtime!B281)","v":""},{"$f":"IF(CMS_Downtime!$F281=\"\",\"\",CMS_Downtime!C281)","v":""},{"$f":"IF(CMS_Downtime!$F281=\"\",\"\",CMS_Downtime!D281)","v":""},{"$f":"IF(CMS_Downtime!$F281=\"\",\"\",CMS_Downtime!E281)","v":""},{"$f":"IF(B260=\"\",\"\",C260&\" - \"&D260&\" - \"&F260)","v":""},{"$f":"IF(COUNTIF(G$2:G260,G260)=1,G260,\"\")","v":""},"",{"$f":"+IFERROR(INDEX(C$2:C$499,MATCH(ROW()-ROW($I$2),$A$2:$A$499,0)),\"\")","v":""},{"$f":"+IFERROR(INDEX(D$2:D$499,MATCH(ROW()-ROW($I$2),$A$2:$A$499,0)),\"\")","v":""},{"$f":"+IFERROR(INDEX(E$2:E$499,MATCH(ROW()-ROW($I$2),$A$2:$A$499,0)),\"\")","v":""},{"$f":"+IFERROR(INDEX(F$2:F$499,MATCH(ROW()-ROW($I$2),$A$2:$A$499,0)),\"\")","v":""},{"$f":"IF(I260=\"\",\"\",VLOOKUP(I260,List_CMS!$L$3:$Q$79,6,FALSE))","v":""}]
[{"$f":"+IF(H261=\"\",\"\",MAX(A$1:A260)+1)","v":""},{"$f":"IF(CMS_Downtime!F282=\"\",\"\",CMS_Downtime!F282)","v":""},{"$f":"IF(CMS_Downtime!$F282=\"\",\"\",CMS_Downtime!B282)","v":""},{"$f":"IF(CMS_Downtime!$F282=\"\",\"\",CMS_Downtime!C282)","v":""},{"$f":"IF(CMS_Downtime!$F282=\"\",\"\",CMS_Downtime!D282)","v":""},{"$f":"IF(CMS_Downtime!$F282=\"\",\"\",CMS_Downtime!E282)","v":""},"",{"$f":"IF(COUNTIF(G$2:G261,G261)=1,G261,\"\")","v":""},"","","","","",{"$f":"IF(I261=\"\",\"\",VLOOKUP(I261,List_CMS!$L$3:$Q$79,6,FALSE))","v":""}]
[{"$f":"+IF(H262=\"\",\"\",MAX(A$1:A261)+1)","v":""},{"$f":"IF(CMS_Downtime!F283=\"\",\"\",CMS_Downtime!F283)","v":""},{"$f":"IF(CMS_Downtime!$F283=\"\",\"\",CMS_Downtime!B283)","v":""},{"$f":"IF(CMS_Downtime!$F283=\"\",\"\",CMS_Downtime!C283)","v":""},{"$f":"IF(CMS_Downtime!$F283=\"\",\"\",CMS_Downtime!D283)","v":""},{"$f":"IF(CMS_Downtime!$F283=\"\",\"\",CMS_Downtime!E283)","v":""},"",{"$f":"IF(COUNTIF(G$2:G262,G262)=1,G262,\"\")","v":""},"","","","","",{"$f":"IF(I262=\"\",\"\",VLOOKUP(I262,List_CMS!$L$3:$Q$79,6,FALSE))","v":""}]
[{"$f":"+IF(H263=\"\",\"\",MAX(A$1:A262)+1)","v":""},{"$f":"IF(CMS_Downtime!F284=\"\",\"\",CMS_Downtime!F284)","v":""},{"$f":"IF(CMS_Downtime!$F284=\"\",\"\",CMS_Downtime!B284)","v":""},{"$f":"IF(CMS_Downtime!$F284=\"\",\"\",CMS_Downtime!C284)","v":""},{"$f":"IF(CMS_Downtime!$F284=\"\",\"\",CMS_Downtime!D284)","v":""},{"$f":"IF(CMS_Downtime!$F284=\"\",\"\",CMS_Downtime!E284)","v":""},"",{"$f":"IF(COUNTIF(G$2:G263,G263)=1,G263,\"\")","v":""},"","","","","",{"$f":"IF(I263=\"\",\"\",VLOOKUP(I263,List_CMS!$L$3:$Q$79,6,FALSE))","v":""}]
[{"$f":"+IF(H264=\"\",\"\",MAX(A$1:A263)+1)","v":""},{"$f":"IF(CMS_Downtime!F285=\"\",\"\",CMS_Downtime!F285)","v":""},{"$f":"IF(CMS_Downtime!$F285=\"\",\"\",CMS_Downtime!B285)","v":""},{"$f":"IF(CMS_Downtime!$F285=\"\",\"\",CMS_Downtime!C285)","v":""},{"$f":"IF(CMS_Downtime!$F285=\"\",\"\",CMS_Downtime!D285)","v":""},{"$f":"IF(CMS_Downtime!$F285=\"\",\"\",CMS_Downtime!E285)","v":""},"",{"$f":"IF(COUNTIF(G$2:G264,G264)=1,G264,\"\")","v":""},"","","","","",{"$f":"IF(I264=\"\",\"\",VLOOKUP(I264,List_CMS!$L$3:$Q$79,6,FALSE))","v":""}]
[{"$f":"+IF(H265=\"\",\"\",MAX(A$1:A264)+1)","v":""},{"$f":"IF(CMS_Downtime!F286=\"\",\"\",CMS_Downtime!F286)","v":""},{"$f":"IF(CMS_Downtime!$F286=\"\",\"\",CMS_Downtime!B286)","v":""},{"$f":"IF(CMS_Downtime!$F286=\"\",\"\",CMS_Downtime!C286)","v":""},{"$f":"IF(CMS_Downtime!$F286=\"\",\"\",CMS_Downtime!D286)","v":""},{"$f":"IF(CMS_Downtime!$F286=\"\",\"\",CMS_Downtime!E286)","v":""},"",{"$f":"IF(COUNTIF(G$2:G265,G265)=1,G265,\"\")","v":""},"","","","","",{"$f":"IF(I265=\"\",\"\",VLOOKUP(I265,List_CMS!$L$3:$Q$79,6,FALSE))","v":""}]
[{"$f":"+IF(H266=\"\",\"\",MAX(A$1:A265)+1)","v":""},{"$f":"IF(CMS_Downtime!F287=\"\",\"\",CMS_Downtime!F287)","v":""},{"$f":"IF(CMS_Downtime!$F287=\"\",\"\",CMS_Downtime!B287)","v":""},{"$f":"IF(CMS_Downtime!$F287=\"\",\"\",CMS_Downtime!C287)","v":""},{"$f":"IF(CMS_Downtime!$F287=\"\",\"\",CMS_Downtime!D287)","v":""},{"$f":"IF(CMS_Downtime!$F287=\"\",\"\",CMS_Downtime!E287)","v":""},"",{"$f":"IF(COUNTIF(G$2:G266,G266)=1,G266,\"\")","v":""},"","","","","",{"$f":"IF(I266=\"\",\"\",VLOOKUP(I266,List_CMS!$L$3:$Q$79,6,FALSE))","v":""}]
[{"$f":"+IF(H267=\"\",\"\",MAX(A$1:A266)+1)","v":""},{"$f":"IF(CMS_Downtime!F288=\"\",\"\",CMS_Downtime!F288)","v":""},{"$f":"IF(CMS_Downtime!$F288=\"\",\"\",CMS_Downtime!B288)","v":""},{"$f":"IF(CMS_Downtime!$F288=\"\",\"\",CMS_Downtime!C288)","v":""},{"$f":"IF(CMS_Downtime!$F288=\"\",\"\",CMS_Downtime!D288)","v":""},{"$f":"IF(CMS_Downtime!$F288=\"\",\"\",CMS_Downtime!E288)","v":""},"",{"$f":"IF(COUNTIF(G$2:G267,G267)=1,G267,\"\")","v":""},"","","","","",{"$f":"IF(I267=\"\",\"\",VLOOKUP(I267,List_CMS!$L$3:$Q$79,6,FALSE))","v":""}]
[{"$f":"+IF(H268=\"\",\"\",MAX(A$1:A267)+1)","v":""},{"$f":"IF(CMS_Downtime!F289=\"\",\"\",CMS_Downtime!F289)","v":""},{"$f":"IF(CMS_Downtime!$F289=\"\",\"\",CMS_Downtime!B289)","v":""},{"$f":"IF(CMS_Downtime!$F289=\"\",\"\",CMS_Downtime!C289)","v":""},{"$f":"IF(CMS_Downtime!$F289=\"\",\"\",CMS_Downtime!D289)","v":""},{"$f":"IF(CMS_Downtime!$F289=\"\",\"\",CMS_Downtime!E289)","v":""},"",{"$f":"IF(COUNTIF(G$2:G268,G268)=1,G268,\"\")","v":""},"","","","","",{"$f":"IF(I268=\"\",\"\",VLOOKUP(I268,List_CMS!$L$3:$Q$79,6,FALSE))","v":""}]
[{"$f":"+IF(H269=\"\",\"\",MAX(A$1:A268)+1)","v":""},{"$f":"IF(CMS_Downtime!F290=\"\",\"\",CMS_Downtime!F290)","v":""},{"$f":"IF(CMS_Downtime!$F290=\"\",\"\",CMS_Downtime!B290)","v":""},{"$f":"IF(CMS_Downtime!$F290=\"\",\"\",CMS_Downtime!C290)","v":""},{"$f":"IF(CMS_Downtime!$F290=\"\",\"\",CMS_Downtime!D290)","v":""},{"$f":"IF(CMS_Downtime!$F290=\"\",\"\",CMS_Downtime!E290)","v":""},"",{"$f":"IF(COUNTIF(G$2:G269,G269)=1,G269,\"\")","v":""},"","","","","",{"$f":"IF(I269=\"\",\"\",VLOOKUP(I269,List_CMS!$L$3:$Q$79,6,FALSE))","v":""}]
[{"$f":"+IF(H270=\"\",\"\",MAX(A$1:A269)+1)","v":""},{"$f":"IF(CMS_Downtime!F291=\"\",\"\",CMS_Downtime!F291)","v":""},{"$f":"IF(CMS_Downtime!$F291=\"\",\"\",CMS_Downtime!B291)","v":""},{"$f":"IF(CMS_Downtime!$F291=\"\",\"\",CMS_Downtime!C291)","v":""},{"$f":"IF(CMS_Downtime!$F291=\"\",\"\",CMS_Downtime!D291)","v":""},{"$f":"IF(CMS_Downtime!$F291=\"\",\"\",CMS_Downtime!E291)","v":""},"",{"$f":"IF(COUNTIF(G$2:G270,G270)=1,G270,\"\")","v":""},"","","","","",{"$f":"IF(I270=\"\",\"\",VLOOKUP(I270,List_CMS!$L$3:$Q$79,6,FALSE))","v":""}]
[{"$f":"+IF(H271=\"\",\"\",MAX(A$1:A270)+1)","v":""},{"$f":"IF(CMS_Downtime!F292=\"\",\"\",CMS_Downtime!F292)","v":""},{"$f":"IF(CMS_Downtime!$F292=\"\",\"\",CMS_Downtime!B292)","v":""},{"$f":"IF(CMS_Downtime!$F292=\"\",\"\",CMS_Downtime!C292)","v":""},{"$f":"IF(CMS_Downtime!$F292=\"\",\"\",CMS_Downtime!D292)","v":""},{"$f":"IF(CMS_Downtime!$F292=\"\",\"\",CMS_Downtime!E292)","v":""},"",{"$f":"IF(COUNTIF(G$2:G271,G271)=1,G271,\"\")","v":""},"","","","","",{"$f":"IF(I271=\"\",\"\",VLOOKUP(I271,List_CMS!$L$3:$Q$79,6,FALSE))","v":""}]
[{"$f":"+IF(H272=\"\",\"\",MAX(A$1:A271)+1)","v":""},{"$f":"IF(CMS_Downtime!F293=\"\",\"\",CMS_Downtime!F293)","v":""},{"$f":"IF(CMS_Downtime!$F293=\"\",\"\",CMS_Downtime!B293)","v":""},{"$f":"IF(CMS_Downtime!$F293=\"\",\"\",CMS_Downtime!C293)","v":""},{"$f":"IF(CMS_Downtime!$F293=\"\",\"\",CMS_Downtime!D293)","v":""},{"$f":"IF(CMS_Downtime!$F293=\"\",\"\",CMS_Downtime!E293)","v":""},"",{"$f":"IF(COUNTIF(G$2:G272,G272)=1,G272,\"\")","v":""},"","","","","",{"$f":"IF(I272=\"\",\"\",VLOOKUP(I272,List_CMS!$L$3:$Q$79,6,FALSE))","v":""}]
[{"$f":"+IF(H273=\"\",\"\",MAX(A$1:A272)+1)","v":""},{"$f":"IF(CMS_Downtime!F294=\"\",\"\",CMS_Downtime!F294)","v":""},{"$f":"IF(CMS_Downtime!$F294=\"\",\"\",CMS_Downtime!B294)","v":""},{"$f":"IF(CMS_Downtime!$F294=\"\",\"\",CMS_Downtime!C294)","v":""},{"$f":"IF(CMS_Downtime!$F294=\"\",\"\",CMS_Downtime!D294)","v":""},{"$f":"IF(CMS_Downtime!$F294=\"\",\"\",CMS_Downtime!E294)","v":""},"",{"$f":"IF(COUNTIF(G$2:G273,G273)=1,G273,\"\")","v":""},"","","","","",{"$f":"IF(I273=\"\",\"\",VLOOKUP(I273,List_CMS!$L$3:$Q$79,6,FALSE))","v":""}]
[{"$f":"+IF(H274=\"\",\"\",MAX(A$1:A273)+1)","v":""},{"$f":"IF(CMS_Downtime!F295=\"\",\"\",CMS_Downtime!F295)","v":""},{"$f":"IF(CMS_Downtime!$F295=\"\",\"\",CMS_Downtime!B295)","v":""},{"$f":"IF(CMS_Downtime!$F295=\"\",\"\",CMS_Downtime!C295)","v":""},{"$f":"IF(CMS_Downtime!$F295=\"\",\"\",CMS_Downtime!D295)","v":""},{"$f":"IF(CMS_Downtime!$F295=\"\",\"\",CMS_Downtime!E295)","v":""},"",{"$f":"IF(COUNTIF(G$2:G274,G274)=1,G274,\"\")","v":""},"","","","","",{"$f":"IF(I274=\"\",\"\",VLOOKUP(I274,List_CMS!$L$3:$Q$79,6,FALSE))","v":""}]
[{"$f":"+IF(H275=\"\",\"\",MAX(A$1:A274)+1)","v":""},{"$f":"IF(CMS_Downtime!F296=\"\",\"\",CMS_Downtime!F296)","v":""},{"$f":"IF(CMS_Downtime!$F296=\"\",\"\",CMS_Downtime!B296)","v":""},{"$f":"IF(CMS_Downtime!$F296=\"\",\"\",CMS_Downtime!C296)","v":""},{"$f":"IF(CMS_Downtime!$F296=\"\",\"\",CMS_Downtime!D296)","v":""},{"$f":"IF(CMS_Downtime!$F296=\"\",\"\",CMS_Downtime!E296)","v":""},"",{"$f":"IF(COUNTIF(G$2:G275,G275)=1,G275,\"\")","v":""},"","","","","",{"$f":"IF(I275=\"\",\"\",VLOOKUP(I275,List_CMS!$L$3:$Q$79,6,FALSE))","v":""}]
[{"$f":"+IF(H276=\"\",\"\",MAX(A$1:A275)+1)","v":""},{"$f":"IF(CMS_Downtime!F297=\"\",\"\",CMS_Downtime!F297)","v":""},{"$f":"IF(CMS_Downtime!$F297=\"\",\"\",CMS_Downtime!B297)","v":""},{"$f":"IF(CMS_Downtime!$F297=\"\",\"\",CMS_Downtime!C297)","v":""},{"$f":"IF(CMS_Downtime!$F297=\"\",\"\",CMS_Downtime!D297)","v":""},{"$f":"IF(CMS_Downtime!$F297=\"\",\"\",CMS_Downtime!E297)","v":""},"",{"$f":"IF(COUNTIF(G$2:G276,G276)=1,G276,\"\")","v":""},"","","","","",{"$f":"IF(I276=\"\",\"\",VLOOKUP(I276,List_CMS!$L$3:$Q$79,6,FALSE))","v":""}]
[{"$f":"+IF(H277=\"\",\"\",MAX(A$1:A276)+1)","v":""},{"$f":"IF(CMS_Downtime!F298=\"\",\"\",CMS_Downtime!F298)","v":""},{"$f":"IF(CMS_Downtime!$F298=\"\",\"\",CMS_Downtime!B298)","v":""},{"$f":"IF(CMS_Downtime!$F298=\"\",\"\",CMS_Downtime!C298)","v":""},{"$f":"IF(CMS_Downtime!$F298=\"\",\"\",CMS_Downtime!D298)","v":""},{"$f":"IF(CMS_Downtime!$F298=\"\",\"\",CMS_Downtime!E298)","v":""},"",{"$f":"IF(COUNTIF(G$2:G277,G277)=1,G277,\"\")","v":""},"","","","","",{"$f":"IF(I277=\"\",\"\",VLOOKUP(I277,List_CMS!$L$3:$Q$79,6,FALSE))","v":""}]
[{"$f":"+IF(H278=\"\",\"\",MAX(A$1:A277)+1)","v":""},{"$f":"IF(CMS_Downtime!F299=\"\",\"\",CMS_Downtime!F299)","v":""},{"$f":"IF(CMS_Downtime!$F299=\"\",\"\",CMS_Downtime!B299)","v":""},{"$f":"IF(CMS_Downtime!$F299=\"\",\"\",CMS_Downtime!C299)","v":""},{"$f":"IF(CMS_Downtime!$F299=\"\",\"\",CMS_Downtime!D299)","v":""},{"$f":"IF(CMS_Downtime!$F299=\"\",\"\",CMS_Downtime!E299)","v":""},"",{"$f":"IF(COUNTIF(G$2:G278,G278)=1,G278,\"\")","v":""},"","","","","",{"$f":"IF(I278=\"\",\"\",VLOOKUP(I278,List_CMS!$L$3:$Q$79,6,FALSE))","v":""}]
[{"$f":"+IF(H279=\"\",\"\",MAX(A$1:A278)+1)","v":""},{"$f":"IF(CMS_Downtime!F300=\"\",\"\",CMS_Downtime!F300)","v":""},{"$f":"IF(CMS_Downtime!$F300=\"\",\"\",CMS_Downtime!B300)","v":""},{"$f":"IF(CMS_Downtime!$F300=\"\",\"\",CMS_Downtime!C300)","v":""},{"$f":"IF(CMS_Downtime!$F300=\"\",\"\",CMS_Downtime!D300)","v":""},{"$f":"IF(CMS_Downtime!$F300=\"\",\"\",CMS_Downtime!E300)","v":""},"",{"$f":"IF(COUNTIF(G$2:G279,G279)=1,G279,\"\")","v":""},"","","","","",{"$f":"IF(I279=\"\",\"\",VLOOKUP(I279,List_CMS!$L$3:$Q$79,6,FALSE))","v":""}]
[{"$f":"+IF(H280=\"\",\"\",MAX(A$1:A279)+1)","v":""},{"$f":"IF(CMS_Downtime!F301=\"\",\"\",CMS_Downtime!F301)","v":""},{"$f":"IF(CMS_Downtime!$F301=\"\",\"\",CMS_Downtime!B301)","v":""},{"$f":"IF(CMS_Downtime!$F301=\"\",\"\",CMS_Downtime!C301)","v":""},{"$f":"IF(CMS_Downtime!$F301=\"\",\"\",CMS_Downtime!D301)","v":""},{"$f":"IF(CMS_Downtime!$F301=\"\",\"\",CMS_Downtime!E301)","v":""},"",{"$f":"IF(COUNTIF(G$2:G280,G280)=1,G280,\"\")","v":""},"","","","","",{"$f":"IF(I280=\"\",\"\",VLOOKUP(I280,List_CMS!$L$3:$Q$79,6,FALSE))","v":""}]
[{"$f":"+IF(H281=\"\",\"\",MAX(A$1:A280)+1)","v":""},{"$f":"IF(CMS_Downtime!F302=\"\",\"\",CMS_Downtime!F302)","v":""},{"$f":"IF(CMS_Downtime!$F302=\"\",\"\",CMS_Downtime!B302)","v":""},{"$f":"IF(CMS_Downtime!$F302=\"\",\"\",CMS_Downtime!C302)","v":""},{"$f":"IF(CMS_Downtime!$F302=\"\",\"\",CMS_Downtime!D302)","v":""},{"$f":"IF(CMS_Downtime!$F302=\"\",\"\",CMS_Downtime!E302)","v":""},"",{"$f":"IF(COUNTIF(G$2:G281,G281)=1,G281,\"\")","v":""},"","","","","",{"$f":"IF(I281=\"\",\"\",VLOOKUP(I281,List_CMS!$L$3:$Q$79,6,FALSE))","v":""}]
[{"$f":"+IF(H282=\"\",\"\",MAX(A$1:A281)+1)","v":""},{"$f":"IF(CMS_Downtime!F303=\"\",\"\",CMS_Downtime!F303)","v":""},{"$f":"IF(CMS_Downtime!$F303=\"\",\"\",CMS_Downtime!B303)","v":""},{"$f":"IF(CMS_Downtime!$F303=\"\",\"\",CMS_Downtime!C303)","v":""},{"$f":"IF(CMS_Downtime!$F303=\"\",\"\",CMS_Downtime!D303)","v":""},{"$f":"IF(CMS_Downtime!$F303=\"\",\"\",CMS_Downtime!E303)","v":""},"",{"$f":"IF(COUNTIF(G$2:G282,G282)=1,G282,\"\")","v":""},"","","","","",{"$f":"IF(I282=\"\",\"\",VLOOKUP(I282,List_CMS!$L$3:$Q$79,6,FALSE))","v":""}]
[{"$f":"+IF(H283=\"\",\"\",MAX(A$1:A282)+1)","v":""},{"$f":"IF(CMS_Downtime!F304=\"\",\"\",CMS_Downtime!F304)","v":""},{"$f":"IF(CMS_Downtime!$F304=\"\",\"\",CMS_Downtime!B304)","v":""},{"$f":"IF(CMS_Downtime!$F304=\"\",\"\",CMS_Downtime!C304)","v":""},{"$f":"IF(CMS_Downtime!$F304=\"\",\"\",CMS_Downtime!D304)","v":""},{"$f":"IF(CMS_Downtime!$F304=\"\",\"\",CMS_Downtime!E304)","v":""},"",{"$f":"IF(COUNTIF(G$2:G283,G283)=1,G283,\"\")","v":""},"","","","","",{"$f":"IF(I283=\"\",\"\",VLOOKUP(I283,List_CMS!$L$3:$Q$79,6,FALSE))","v":""}]
[{"$f":"+IF(H284=\"\",\"\",MAX(A$1:A283)+1)","v":""},{"$f":"IF(CMS_Downtime!F305=\"\",\"\",CMS_Downtime!F305)","v":""},{"$f":"IF(CMS_Downtime!$F305=\"\",\"\",CMS_Downtime!B305)","v":""},{"$f":"IF(CMS_Downtime!$F305=\"\",\"\",CMS_Downtime!C305)","v":""},{"$f":"IF(CMS_Downtime!$F305=\"\",\"\",CMS_Downtime!D305)","v":""},{"$f":"IF(CMS_Downtime!$F305=\"\",\"\",CMS_Downtime!E305)","v":""},"",{"$f":"IF(COUNTIF(G$2:G284,G284)=1,G284,\"\")","v":""},"","","","","",{"$f":"IF(I284=\"\",\"\",VLOOKUP(I284,List_CMS!$L$3:$Q$79,6,FALSE))","v":""}]
[{"$f":"+IF(H285=\"\",\"\",MAX(A$1:A284)+1)","v":""},{"$f":"IF(CMS_Downtime!F306=\"\",\"\",CMS_Downtime!F306)","v":""},{"$f":"IF(CMS_Downtime!$F306=\"\",\"\",CMS_Downtime!B306)","v":""},{"$f":"IF(CMS_Downtime!$F306=\"\",\"\",CMS_Downtime!C306)","v":""},{"$f":"IF(CMS_Downtime!$F306=\"\",\"\",CMS_Downtime!D306)","v":""},{"$f":"IF(CMS_Downtime!$F306=\"\",\"\",CMS_Downtime!E306)","v":""},"",{"$f":"IF(COUNTIF(G$2:G285,G285)=1,G285,\"\")","v":""},"","","","","",{"$f":"IF(I285=\"\",\"\",VLOOKUP(I285,List_CMS!$L$3:$Q$79,6,FALSE))","v":""}]
[{"$f":"+IF(H286=\"\",\"\",MAX(A$1:A285)+1)","v":""},{"$f":"IF(CMS_Downtime!F307=\"\",\"\",CMS_Downtime!F307)","v":""},{"$f":"IF(CMS_Downtime!$F307=\"\",\"\",CMS_Downtime!B307)","v":""},{"$f":"IF(CMS_Downtime!$F307=\"\",\"\",CMS_Downtime!C307)","v":""},{"$f":"IF(CMS_Downtime!$F307=\"\",\"\",CMS_Downtime!D307)","v":""},{"$f":"IF(CMS_Downtime!$F307=\"\",\"\",CMS_Downtime!E307)","v":""},"",{"$f":"IF(COUNTIF(G$2:G286,G286)=1,G286,\"\")","v":""},"","","","","",{"$f":"IF(I286=\"\",\"\",VLOOKUP(I286,List_CMS!$L$3:$Q$79,6,FALSE))","v":""}]
[{"$f":"+IF(H287=\"\",\"\",MAX(A$1:A286)+1)","v":""},{"$f":"IF(CMS_Downtime!F308=\"\",\"\",CMS_Downtime!F308)","v":""},{"$f":"IF(CMS_Downtime!$F308=\"\",\"\",CMS_Downtime!B308)","v":""},{"$f":"IF(CMS_Downtime!$F308=\"\",\"\",CMS_Downtime!C308)","v":""},{"$f":"IF(CMS_Downtime!$F308=\"\",\"\",CMS_Downtime!D308)","v":""},{"$f":"IF(CMS_Downtime!$F308=\"\",\"\",CMS_Downtime!E308)","v":""},"",{"$f":"IF(COUNTIF(G$2:G287,G287)=1,G287,\"\")","v":""},"","","","","",{"$f":"IF(I287=\"\",\"\",VLOOKUP(I287,List_CMS!$L$3:$Q$79,6,FALSE))","v":""}]
[{"$f":"+IF(H288=\"\",\"\",MAX(A$1:A287)+1)","v":""},{"$f":"IF(CMS_Downtime!F309=\"\",\"\",CMS_Downtime!F309)","v":""},{"$f":"IF(CMS_Downtime!$F309=\"\",\"\",CMS_Downtime!B309)","v":""},{"$f":"IF(CMS_Downtime!$F309=\"\",\"\",CMS_Downtime!C309)","v":""},{"$f":"IF(CMS_Downtime!$F309=\"\",\"\",CMS_Downtime!D309)","v":""},{"$f":"IF(CMS_Downtime!$F309=\"\",\"\",CMS_Downtime!E309)","v":""},"",{"$f":"IF(COUNTIF(G$2:G288,G288)=1,G288,\"\")","v":""},"","","","","",{"$f":"IF(I288=\"\",\"\",VLOOKUP(I288,List_CMS!$L$3:$Q$79,6,FALSE))","v":""}]
[{"$f":"+IF(H289=\"\",\"\",MAX(A$1:A288)+1)","v":""},{"$f":"IF(CMS_Downtime!F310=\"\",\"\",CMS_Downtime!F310)","v":""},{"$f":"IF(CMS_Downtime!$F310=\"\",\"\",CMS_Downtime!B310)","v":""},{"$f":"IF(CMS_Downtime!$F310=\"\",\"\",CMS_Downtime!C310)","v":""},{"$f":"IF(CMS_Downtime!$F310=\"\",\"\",CMS_Downtime!D310)","v":""},{"$f":"IF(CMS_Downtime!$F310=\"\",\"\",CMS_Downtime!E310)","v":""},"",{"$f":"IF(COUNTIF(G$2:G289,G289)=1,G289,\"\")","v":""},"","","","","",{"$f":"IF(I289=\"\",\"\",VLOOKUP(I289,List_CMS!$L$3:$Q$79,6,FALSE))","v":""}]
[{"$f":"+IF(H290=\"\",\"\",MAX(A$1:A289)+1)","v":""},{"$f":"IF(CMS_Downtime!F311=\"\",\"\",CMS_Downtime!F311)","v":""},{"$f":"IF(CMS_Downtime!$F311=\"\",\"\",CMS_Downtime!B311)","v":""},{"$f":"IF(CMS_Downtime!$F311=\"\",\"\",CMS_Downtime!C311)","v":""},{"$f":"IF(CMS_Downtime!$F311=\"\",\"\",CMS_Downtime!D311)","v":""},{"$f":"IF(CMS_Downtime!$F311=\"\",\"\",CMS_Downtime!E311)","v":""},"",{"$f":"IF(COUNTIF(G$2:G290,G290)=1,G290,\"\")","v":""},"","","","","",{"$f":"IF(I290=\"\",\"\",VLOOKUP(I290,List_CMS!$L$3:$Q$79,6,FALSE))","v":""}]
[{"$f":"+IF(H291=\"\",\"\",MAX(A$1:A290)+1)","v":""},{"$f":"IF(CMS_Downtime!F312=\"\",\"\",CMS_Downtime!F312)","v":""},{"$f":"IF(CMS_Downtime!$F312=\"\",\"\",CMS_Downtime!B312)","v":""},{"$f":"IF(CMS_Downtime!$F312=\"\",\"\",CMS_Downtime!C312)","v":""},{"$f":"IF(CMS_Downtime!$F312=\"\",\"\",CMS_Downtime!D312)","v":""},{"$f":"IF(CMS_Downtime!$F312=\"\",\"\",CMS_Downtime!E312)","v":""},"",{"$f":"IF(COUNTIF(G$2:G291,G291)=1,G291,\"\")","v":""},"","","","","",{"$f":"IF(I291=\"\",\"\",VLOOKUP(I291,List_CMS!$L$3:$Q$79,6,FALSE))","v":""}]
[{"$f":"+IF(H292=\"\",\"\",MAX(A$1:A291)+1)","v":""},{"$f":"IF(CMS_Downtime!F313=\"\",\"\",CMS_Downtime!F313)","v":""},{"$f":"IF(CMS_Downtime!$F313=\"\",\"\",CMS_Downtime!B313)","v":""},{"$f":"IF(CMS_Downtime!$F313=\"\",\"\",CMS_Downtime!C313)","v":""},{"$f":"IF(CMS_Downtime!$F313=\"\",\"\",CMS_Downtime!D313)","v":""},{"$f":"IF(CMS_Downtime!$F313=\"\",\"\",CMS_Downtime!E313)","v":""},"",{"$f":"IF(COUNTIF(G$2:G292,G292)=1,G292,\"\")","v":""},"","","","","",{"$f":"IF(I292=\"\",\"\",VLOOKUP(I292,List_CMS!$L$3:$Q$79,6,FALSE))","v":""}]
[{"$f":"+IF(H293=\"\",\"\",MAX(A$1:A292)+1)","v":""},{"$f":"IF(CMS_Downtime!F314=\"\",\"\",CMS_Downtime!F314)","v":""},{"$f":"IF(CMS_Downtime!$F314=\"\",\"\",CMS_Downtime!B314)","v":""},{"$f":"IF(CMS_Downtime!$F314=\"\",\"\",CMS_Downtime!C314)","v":""},{"$f":"IF(CMS_Downtime!$F314=\"\",\"\",CMS_Downtime!D314)","v":""},{"$f":"IF(CMS_Downtime!$F314=\"\",\"\",CMS_Downtime!E314)","v":""},"",{"$f":"IF(COUNTIF(G$2:G293,G293)=1,G293,\"\")","v":""},"","","","","",{"$f":"IF(I293=\"\",\"\",VLOOKUP(I293,List_CMS!$L$3:$Q$79,6,FALSE))","v":""}]
[{"$f":"+IF(H294=\"\",\"\",MAX(A$1:A293)+1)","v":""},{"$f":"IF(CMS_Downtime!F315=\"\",\"\",CMS_Downtime!F315)","v":""},{"$f":"IF(CMS_Downtime!$F315=\"\",\"\",CMS_Downtime!B315)","v":""},{"$f":"IF(CMS_Downtime!$F315=\"\",\"\",CMS_Downtime!C315)","v":""},{"$f":"IF(CMS_Downtime!$F315=\"\",\"\",CMS_Downtime!D315)","v":""},{"$f":"IF(CMS_Downtime!$F315=\"\",\"\",CMS_Downtime!E315)","v":""},"",{"$f":"IF(COUNTIF(G$2:G294,G294)=1,G294,\"\")","v":""},"","","","","",{"$f":"IF(I294=\"\",\"\",VLOOKUP(I294,List_CMS!$L$3:$Q$79,6,FALSE))","v":""}]
[{"$f":"+IF(H295=\"\",\"\",MAX(A$1:A294)+1)","v":""},{"$f":"IF(CMS_Downtime!F316=\"\",\"\",CMS_Downtime!F316)","v":""},{"$f":"IF(CMS_Downtime!$F316=\"\",\"\",CMS_Downtime!B316)","v":""},{"$f":"IF(CMS_Downtime!$F316=\"\",\"\",CMS_Downtime!C316)","v":""},{"$f":"IF(CMS_Downtime!$F316=\"\",\"\",CMS_Downtime!D316)","v":""},{"$f":"IF(CMS_Downtime!$F316=\"\",\"\",CMS_Downtime!E316)","v":""},"",{"$f":"IF(COUNTIF(G$2:G295,G295)=1,G295,\"\")","v":""},"","","","","",{"$f":"IF(I295=\"\",\"\",VLOOKUP(I295,List_CMS!$L$3:$Q$79,6,FALSE))","v":""}]
[{"$f":"+IF(H296=\"\",\"\",MAX(A$1:A295)+1)","v":""},{"$f":"IF(CMS_Downtime!F317=\"\",\"\",CMS_Downtime!F317)","v":""},{"$f":"IF(CMS_Downtime!$F317=\"\",\"\",CMS_Downtime!B317)","v":""},{"$f":"IF(CMS_Downtime!$F317=\"\",\"\",CMS_Downtime!C317)","v":""},{"$f":"IF(CMS_Downtime!$F317=\"\",\"\",CMS_Downtime!D317)","v":""},{"$f":"IF(CMS_Downtime!$F317=\"\",\"\",CMS_Downtime!E317)","v":""},"",{"$f":"IF(COUNTIF(G$2:G296,G296)=1,G296,\"\")","v":""},"","","","","",{"$f":"IF(I296=\"\",\"\",VLOOKUP(I296,List_CMS!$L$3:$Q$79,6,FALSE))","v":""}]
[{"$f":"+IF(H297=\"\",\"\",MAX(A$1:A296)+1)","v":""},{"$f":"IF(CMS_Downtime!F318=\"\",\"\",CMS_Downtime!F318)","v":""},{"$f":"IF(CMS_Downtime!$F318=\"\",\"\",CMS_Downtime!B318)","v":""},{"$f":"IF(CMS_Downtime!$F318=\"\",\"\",CMS_Downtime!C318)","v":""},{"$f":"IF(CMS_Downtime!$F318=\"\",\"\",CMS_Downtime!D318)","v":""},{"$f":"IF(CMS_Downtime!$F318=\"\",\"\",CMS_Downtime!E318)","v":""},"",{"$f":"IF(COUNTIF(G$2:G297,G297)=1,G297,\"\")","v":""},"","","","","",{"$f":"IF(I297=\"\",\"\",VLOOKUP(I297,List_CMS!$L$3:$Q$79,6,FALSE))","v":""}]
[{"$f":"+IF(H298=\"\",\"\",MAX(A$1:A297)+1)","v":""},{"$f":"IF(CMS_Downtime!F319=\"\",\"\",CMS_Downtime!F319)","v":""},{"$f":"IF(CMS_Downtime!$F319=\"\",\"\",CMS_Downtime!B319)","v":""},{"$f":"IF(CMS_Downtime!$F319=\"\",\"\",CMS_Downtime!C319)","v":""},{"$f":"IF(CMS_Downtime!$F319=\"\",\"\",CMS_Downtime!D319)","v":""},{"$f":"IF(CMS_Downtime!$F319=\"\",\"\",CMS_Downtime!E319)","v":""},"",{"$f":"IF(COUNTIF(G$2:G298,G298)=1,G298,\"\")","v":""},"","","","","",{"$f":"IF(I298=\"\",\"\",VLOOKUP(I298,List_CMS!$L$3:$Q$79,6,FALSE))","v":""}]
[{"$f":"+IF(H299=\"\",\"\",MAX(A$1:A298)+1)","v":""},{"$f":"IF(CMS_Downtime!F320=\"\",\"\",CMS_Downtime!F320)","v":""},{"$f":"IF(CMS_Downtime!$F320=\"\",\"\",CMS_Downtime!B320)","v":""},{"$f":"IF(CMS_Downtime!$F320=\"\",\"\",CMS_Downtime!C320)","v":""},{"$f":"IF(CMS_Downtime!$F320=\"\",\"\",CMS_Downtime!D320)","v":""},{"$f":"IF(CMS_Downtime!$F320=\"\",\"\",CMS_Downtime!E320)","v":""},"",{"$f":"IF(COUNTIF(G$2:G299,G299)=1,G299,\"\")","v":""},"","","","","",{"$f":"IF(I299=\"\",\"\",VLOOKUP(I299,List_CMS!$L$3:$Q$79,6,FALSE))","v":""}]
[{"$f":"+IF(H300=\"\",\"\",MAX(A$1:A299)+1)","v":""},{"$f":"IF(CMS_Downtime!F321=\"\",\"\",CMS_Downtime!F321)","v":""},{"$f":"IF(CMS_Downtime!$F321=\"\",\"\",CMS_Downtime!B321)","v":""},{"$f":"IF(CMS_Downtime!$F321=\"\",\"\",CMS_Downtime!C321)","v":""},{"$f":"IF(CMS_Downtime!$F321=\"\",\"\",CMS_Downtime!D321)","v":""},{"$f":"IF(CMS_Downtime!$F321=\"\",\"\",CMS_Downtime!E321)","v":""},"",{"$f":"IF(COUNTIF(G$2:G300,G300)=1,G300,\"\")","v":""},"","","","","",{"$f":"IF(I300=\"\",\"\",VLOOKUP(I300,List_CMS!$L$3:$Q$79,6,FALSE))","v":""}]
[{"$f":"+IF(H301=\"\",\"\",MAX(A$1:A300)+1)","v":""},{"$f":"IF(CMS_Downtime!F322=\"\",\"\",CMS_Downtime!F322)","v":""},{"$f":"IF(CMS_Downtime!$F322=\"\",\"\",CMS_Downtime!B322)","v":""},{"$f":"IF(CMS_Downtime!$F322=\"\",\"\",CMS_Downtime!C322)","v":""},{"$f":"IF(CMS_Downtime!$F322=\"\",\"\",CMS_Downtime!D322)","v":""},{"$f":"IF(CMS_Downtime!$F322=\"\",\"\",CMS_Downtime!E322)","v":""},"",{"$f":"IF(COUNTIF(G$2:G301,G301)=1,G301,\"\")","v":""},"","","","","",{"$f":"IF(I301=\"\",\"\",VLOOKUP(I301,List_CMS!$L$3:$Q$79,6,FALSE))","v":""}]
[{"$f":"+IF(H302=\"\",\"\",MAX(A$1:A301)+1)","v":""},{"$f":"IF(CMS_Downtime!F323=\"\",\"\",CMS_Downtime!F323)","v":""},{"$f":"IF(CMS_Downtime!$F323=\"\",\"\",CMS_Downtime!B323)","v":""},{"$f":"IF(CMS_Downtime!$F323=\"\",\"\",CMS_Downtime!C323)","v":""},{"$f":"IF(CMS_Downtime!$F323=\"\",\"\",CMS_Downtime!D323)","v":""},{"$f":"IF(CMS_Downtime!$F323=\"\",\"\",CMS_Downtime!E323)","v":""},"",{"$f":"IF(COUNTIF(G$2:G302,G302)=1,G302,\"\")","v":""},"","","","","",{"$f":"IF(I302=\"\",\"\",VLOOKUP(I302,List_CMS!$L$3:$Q$79,6,FALSE))","v":""}]
[{"$f":"+IF(H303=\"\",\"\",MAX(A$1:A302)+1)","v":""},{"$f":"IF(CMS_Downtime!F324=\"\",\"\",CMS_Downtime!F324)","v":""},{"$f":"IF(CMS_Downtime!$F324=\"\",\"\",CMS_Downtime!B324)","v":""},{"$f":"IF(CMS_Downtime!$F324=\"\",\"\",CMS_Downtime!C324)","v":""},{"$f":"IF(CMS_Downtime!$F324=\"\",\"\",CMS_Downtime!D324)","v":""},{"$f":"IF(CMS_Downtime!$F324=\"\",\"\",CMS_Downtime!E324)","v":""},"",{"$f":"IF(COUNTIF(G$2:G303,G303)=1,G303,\"\")","v":""},"","","","","",{"$f":"IF(I303=\"\",\"\",VLOOKUP(I303,List_CMS!$L$3:$Q$79,6,FALSE))","v":""}]
[{"$f":"+IF(H304=\"\",\"\",MAX(A$1:A303)+1)","v":""},{"$f":"IF(CMS_Downtime!F325=\"\",\"\",CMS_Downtime!F325)","v":""},{"$f":"IF(CMS_Downtime!$F325=\"\",\"\",CMS_Downtime!B325)","v":""},{"$f":"IF(CMS_Downtime!$F325=\"\",\"\",CMS_Downtime!C325)","v":""},{"$f":"IF(CMS_Downtime!$F325=\"\",\"\",CMS_Downtime!D325)","v":""},{"$f":"IF(CMS_Downtime!$F325=\"\",\"\",CMS_Downtime!E325)","v":""},"",{"$f":"IF(COUNTIF(G$2:G304,G304)=1,G304,\"\")","v":""},"","","","","",{"$f":"IF(I304=\"\",\"\",VLOOKUP(I304,List_CMS!$L$3:$Q$79,6,FALSE))","v":""}]
[{"$f":"+IF(H305=\"\",\"\",MAX(A$1:A304)+1)","v":""},{"$f":"IF(CMS_Downtime!F326=\"\",\"\",CMS_Downtime!F326)","v":""},{"$f":"IF(CMS_Downtime!$F326=\"\",\"\",CMS_Downtime!B326)","v":""},{"$f":"IF(CMS_Downtime!$F326=\"\",\"\",CMS_Downtime!C326)","v":""},{"$f":"IF(CMS_Downtime!$F326=\"\",\"\",CMS_Downtime!D326)","v":""},{"$f":"IF(CMS_Downtime!$F326=\"\",\"\",CMS_Downtime!E326)","v":""},"",{"$f":"IF(COUNTIF(G$2:G305,G305)=1,G305,\"\")","v":""},"","","","","",{"$f":"IF(I305=\"\",\"\",VLOOKUP(I305,List_CMS!$L$3:$Q$79,6,FALSE))","v":""}]
[{"$f":"+IF(H306=\"\",\"\",MAX(A$1:A305)+1)","v":""},{"$f":"IF(CMS_Downtime!F327=\"\",\"\",CMS_Downtime!F327)","v":""},{"$f":"IF(CMS_Downtime!$F327=\"\",\"\",CMS_Downtime!B327)","v":""},{"$f":"IF(CMS_Downtime!$F327=\"\",\"\",CMS_Downtime!C327)","v":""},{"$f":"IF(CMS_Downtime!$F327=\"\",\"\",CMS_Downtime!D327)","v":""},{"$f":"IF(CMS_Downtime!$F327=\"\",\"\",CMS_Downtime!E327)","v":""},"",{"$f":"IF(COUNTIF(G$2:G306,G306)=1,G306,\"\")","v":""},"","","","","",{"$f":"IF(I306=\"\",\"\",VLOOKUP(I306,List_CMS!$L$3:$Q$79,6,FALSE))","v":""}]
[{"$f":"+IF(H307=\"\",\"\",MAX(A$1:A306)+1)","v":""},{"$f":"IF(CMS_Downtime!F328=\"\",\"\",CMS_Downtime!F328)","v":""},{"$f":"IF(CMS_Downtime!$F328=\"\",\"\",CMS_Downtime!B328)","v":""},{"$f":"IF(CMS_Downtime!$F328=\"\",\"\",CMS_Downtime!C328)","v":""},{"$f":"IF(CMS_Downtime!$F328=\"\",\"\",CMS_Downtime!D328)","v":""},{"$f":"IF(CMS_Downtime!$F328=\"\",\"\",CMS_Downtime!E328)","v":""},"",{"$f":"IF(COUNTIF(G$2:G307,G307)=1,G307,\"\")","v":""},"","","","","",{"$f":"IF(I307=\"\",\"\",VLOOKUP(I307,List_CMS!$L$3:$Q$79,6,FALSE))","v":""}]
[{"$f":"+IF(H308=\"\",\"\",MAX(A$1:A307)+1)","v":""},{"$f":"IF(CMS_Downtime!F329=\"\",\"\",CMS_Downtime!F329)","v":""},{"$f":"IF(CMS_Downtime!$F329=\"\",\"\",CMS_Downtime!B329)","v":""},{"$f":"IF(CMS_Downtime!$F329=\"\",\"\",CMS_Downtime!C329)","v":""},{"$f":"IF(CMS_Downtime!$F329=\"\",\"\",CMS_Downtime!D329)","v":""},{"$f":"IF(CMS_Downtime!$F329=\"\",\"\",CMS_Downtime!E329)","v":""},"",{"$f":"IF(COUNTIF(G$2:G308,G308)=1,G308,\"\")","v":""},"","","","","",{"$f":"IF(I308=\"\",\"\",VLOOKUP(I308,List_CMS!$L$3:$Q$79,6,FALSE))","v":""}]
[{"$f":"+IF(H309=\"\",\"\",MAX(A$1:A308)+1)","v":""},{"$f":"IF(CMS_Downtime!F330=\"\",\"\",CMS_Downtime!F330)","v":""},{"$f":"IF(CMS_Downtime!$F330=\"\",\"\",CMS_Downtime!B330)","v":""},{"$f":"IF(CMS_Downtime!$F330=\"\",\"\",CMS_Downtime!C330)","v":""},{"$f":"IF(CMS_Downtime!$F330=\"\",\"\",CMS_Downtime!D330)","v":""},{"$f":"IF(CMS_Downtime!$F330=\"\",\"\",CMS_Downtime!E330)","v":""},"",{"$f":"IF(COUNTIF(G$2:G309,G309)=1,G309,\"\")","v":""},"","","","","",{"$f":"IF(I309=\"\",\"\",VLOOKUP(I309,List_CMS!$L$3:$Q$79,6,FALSE))","v":""}]
[{"$f":"+IF(H310=\"\",\"\",MAX(A$1:A309)+1)","v":""},{"$f":"IF(CMS_Downtime!F331=\"\",\"\",CMS_Downtime!F331)","v":""},{"$f":"IF(CMS_Downtime!$F331=\"\",\"\",CMS_Downtime!B331)","v":""},{"$f":"IF(CMS_Downtime!$F331=\"\",\"\",CMS_Downtime!C331)","v":""},{"$f":"IF(CMS_Downtime!$F331=\"\",\"\",CMS_Downtime!D331)","v":""},{"$f":"IF(CMS_Downtime!$F331=\"\",\"\",CMS_Downtime!E331)","v":""},"",{"$f":"IF(COUNTIF(G$2:G310,G310)=1,G310,\"\")","v":""},"","","","","",{"$f":"IF(I310=\"\",\"\",VLOOKUP(I310,List_CMS!$L$3:$Q$79,6,FALSE))","v":""}]
[{"$f":"+IF(H311=\"\",\"\",MAX(A$1:A310)+1)","v":""},{"$f":"IF(CMS_Downtime!F332=\"\",\"\",CMS_Downtime!F332)","v":""},{"$f":"IF(CMS_Downtime!$F332=\"\",\"\",CMS_Downtime!B332)","v":""},{"$f":"IF(CMS_Downtime!$F332=\"\",\"\",CMS_Downtime!C332)","v":""},{"$f":"IF(CMS_Downtime!$F332=\"\",\"\",CMS_Downtime!D332)","v":""},{"$f":"IF(CMS_Downtime!$F332=\"\",\"\",CMS_Downtime!E332)","v":""},"",{"$f":"IF(COUNTIF(G$2:G311,G311)=1,G311,\"\")","v":""},"","","","","",{"$f":"IF(I311=\"\",\"\",VLOOKUP(I311,List_CMS!$L$3:$Q$79,6,FALSE))","v":""}]
[{"$f":"+IF(H312=\"\",\"\",MAX(A$1:A311)+1)","v":""},{"$f":"IF(CMS_Downtime!F333=\"\",\"\",CMS_Downtime!F333)","v":""},{"$f":"IF(CMS_Downtime!$F333=\"\",\"\",CMS_Downtime!B333)","v":""},{"$f":"IF(CMS_Downtime!$F333=\"\",\"\",CMS_Downtime!C333)","v":""},{"$f":"IF(CMS_Downtime!$F333=\"\",\"\",CMS_Downtime!D333)","v":""},{"$f":"IF(CMS_Downtime!$F333=\"\",\"\",CMS_Downtime!E333)","v":""},"",{"$f":"IF(COUNTIF(G$2:G312,G312)=1,G312,\"\")","v":""},"","","","","",{"$f":"IF(I312=\"\",\"\",VLOOKUP(I312,List_CMS!$L$3:$Q$79,6,FALSE))","v":""}]
[{"$f":"+IF(H313=\"\",\"\",MAX(A$1:A312)+1)","v":""},{"$f":"IF(CMS_Downtime!F334=\"\",\"\",CMS_Downtime!F334)","v":""},{"$f":"IF(CMS_Downtime!$F334=\"\",\"\",CMS_Downtime!B334)","v":""},{"$f":"IF(CMS_Downtime!$F334=\"\",\"\",CMS_Downtime!C334)","v":""},{"$f":"IF(CMS_Downtime!$F334=\"\",\"\",CMS_Downtime!D334)","v":""},{"$f":"IF(CMS_Downtime!$F334=\"\",\"\",CMS_Downtime!E334)","v":""},"",{"$f":"IF(COUNTIF(G$2:G313,G313)=1,G313,\"\")","v":""},"","","","","",{"$f":"IF(I313=\"\",\"\",VLOOKUP(I313,List_CMS!$L$3:$Q$79,6,FALSE))","v":""}]
[{"$f":"+IF(H314=\"\",\"\",MAX(A$1:A313)+1)","v":""},{"$f":"IF(CMS_Downtime!F335=\"\",\"\",CMS_Downtime!F335)","v":""},{"$f":"IF(CMS_Downtime!$F335=\"\",\"\",CMS_Downtime!B335)","v":""},{"$f":"IF(CMS_Downtime!$F335=\"\",\"\",CMS_Downtime!C335)","v":""},{"$f":"IF(CMS_Downtime!$F335=\"\",\"\",CMS_Downtime!D335)","v":""},{"$f":"IF(CMS_Downtime!$F335=\"\",\"\",CMS_Downtime!E335)","v":""},"",{"$f":"IF(COUNTIF(G$2:G314,G314)=1,G314,\"\")","v":""},"","","","","",{"$f":"IF(I314=\"\",\"\",VLOOKUP(I314,List_CMS!$L$3:$Q$79,6,FALSE))","v":""}]
[{"$f":"+IF(H315=\"\",\"\",MAX(A$1:A314)+1)","v":""},{"$f":"IF(CMS_Downtime!F336=\"\",\"\",CMS_Downtime!F336)","v":""},{"$f":"IF(CMS_Downtime!$F336=\"\",\"\",CMS_Downtime!B336)","v":""},{"$f":"IF(CMS_Downtime!$F336=\"\",\"\",CMS_Downtime!C336)","v":""},{"$f":"IF(CMS_Downtime!$F336=\"\",\"\",CMS_Downtime!D336)","v":""},{"$f":"IF(CMS_Downtime!$F336=\"\",\"\",CMS_Downtime!E336)","v":""},"",{"$f":"IF(COUNTIF(G$2:G315,G315)=1,G315,\"\")","v":""},"","","","","",{"$f":"IF(I315=\"\",\"\",VLOOKUP(I315,List_CMS!$L$3:$Q$79,6,FALSE))","v":""}]
[{"$f":"+IF(H316=\"\",\"\",MAX(A$1:A315)+1)","v":""},{"$f":"IF(CMS_Downtime!F337=\"\",\"\",CMS_Downtime!F337)","v":""},{"$f":"IF(CMS_Downtime!$F337=\"\",\"\",CMS_Downtime!B337)","v":""},{"$f":"IF(CMS_Downtime!$F337=\"\",\"\",CMS_Downtime!C337)","v":""},{"$f":"IF(CMS_Downtime!$F337=\"\",\"\",CMS_Downtime!D337)","v":""},{"$f":"IF(CMS_Downtime!$F337=\"\",\"\",CMS_Downtime!E337)","v":""},"",{"$f":"IF(COUNTIF(G$2:G316,G316)=1,G316,\"\")","v":""},"","","","","",{"$f":"IF(I316=\"\",\"\",VLOOKUP(I316,List_CMS!$L$3:$Q$79,6,FALSE))","v":""}]
[{"$f":"+IF(H317=\"\",\"\",MAX(A$1:A316)+1)","v":""},{"$f":"IF(CMS_Downtime!F338=\"\",\"\",CMS_Downtime!F338)","v":""},{"$f":"IF(CMS_Downtime!$F338=\"\",\"\",CMS_Downtime!B338)","v":""},{"$f":"IF(CMS_Downtime!$F338=\"\",\"\",CMS_Downtime!C338)","v":""},{"$f":"IF(CMS_Downtime!$F338=\"\",\"\",CMS_Downtime!D338)","v":""},{"$f":"IF(CMS_Downtime!$F338=\"\",\"\",CMS_Downtime!E338)","v":""},"",{"$f":"IF(COUNTIF(G$2:G317,G317)=1,G317,\"\")","v":""},"","","","","",{"$f":"IF(I317=\"\",\"\",VLOOKUP(I317,List_CMS!$L$3:$Q$79,6,FALSE))","v":""}]
[{"$f":"+IF(H318=\"\",\"\",MAX(A$1:A317)+1)","v":""},{"$f":"IF(CMS_Downtime!F339=\"\",\"\",CMS_Downtime!F339)","v":""},{"$f":"IF(CMS_Downtime!$F339=\"\",\"\",CMS_Downtime!B339)","v":""},{"$f":"IF(CMS_Downtime!$F339=\"\",\"\",CMS_Downtime!C339)","v":""},{"$f":"IF(CMS_Downtime!$F339=\"\",\"\",CMS_Downtime!D339)","v":""},{"$f":"IF(CMS_Downtime!$F339=\"\",\"\",CMS_Downtime!E339)","v":""},"",{"$f":"IF(COUNTIF(G$2:G318,G318)=1,G318,\"\")","v":""},"","","","","",{"$f":"IF(I318=\"\",\"\",VLOOKUP(I318,List_CMS!$L$3:$Q$79,6,FALSE))","v":""}]
[{"$f":"+IF(H319=\"\",\"\",MAX(A$1:A318)+1)","v":""},{"$f":"IF(CMS_Downtime!F340=\"\",\"\",CMS_Downtime!F340)","v":""},{"$f":"IF(CMS_Downtime!$F340=\"\",\"\",CMS_Downtime!B340)","v":""},{"$f":"IF(CMS_Downtime!$F340=\"\",\"\",CMS_Downtime!C340)","v":""},{"$f":"IF(CMS_Downtime!$F340=\"\",\"\",CMS_Downtime!D340)","v":""},{"$f":"IF(CMS_Downtime!$F340=\"\",\"\",CMS_Downtime!E340)","v":""},"",{"$f":"IF(COUNTIF(G$2:G319,G319)=1,G319,\"\")","v":""},"","","","","",{"$f":"IF(I319=\"\",\"\",VLOOKUP(I319,List_CMS!$L$3:$Q$79,6,FALSE))","v":""}]
[{"$f":"+IF(H320=\"\",\"\",MAX(A$1:A319)+1)","v":""},{"$f":"IF(CMS_Downtime!F341=\"\",\"\",CMS_Downtime!F341)","v":""},{"$f":"IF(CMS_Downtime!$F341=\"\",\"\",CMS_Downtime!B341)","v":""},{"$f":"IF(CMS_Downtime!$F341=\"\",\"\",CMS_Downtime!C341)","v":""},{"$f":"IF(CMS_Downtime!$F341=\"\",\"\",CMS_Downtime!D341)","v":""},{"$f":"IF(CMS_Downtime!$F341=\"\",\"\",CMS_Downtime!E341)","v":""},"",{"$f":"IF(COUNTIF(G$2:G320,G320)=1,G320,\"\")","v":""},"","","","","",{"$f":"IF(I320=\"\",\"\",VLOOKUP(I320,List_CMS!$L$3:$Q$79,6,FALSE))","v":""}]
[{"$f":"+IF(H321=\"\",\"\",MAX(A$1:A320)+1)","v":""},{"$f":"IF(CMS_Downtime!F342=\"\",\"\",CMS_Downtime!F342)","v":""},{"$f":"IF(CMS_Downtime!$F342=\"\",\"\",CMS_Downtime!B342)","v":""},{"$f":"IF(CMS_Downtime!$F342=\"\",\"\",CMS_Downtime!C342)","v":""},{"$f":"IF(CMS_Downtime!$F342=\"\",\"\",CMS_Downtime!D342)","v":""},{"$f":"IF(CMS_Downtime!$F342=\"\",\"\",CMS_Downtime!E342)","v":""},"",{"$f":"IF(COUNTIF(G$2:G321,G321)=1,G321,\"\")","v":""},"","","","","",{"$f":"IF(I321=\"\",\"\",VLOOKUP(I321,List_CMS!$L$3:$Q$79,6,FALSE))","v":""}]
[{"$f":"+IF(H322=\"\",\"\",MAX(A$1:A321)+1)","v":""},{"$f":"IF(CMS_Downtime!F343=\"\",\"\",CMS_Downtime!F343)","v":""},{"$f":"IF(CMS_Downtime!$F343=\"\",\"\",CMS_Downtime!B343)","v":""},{"$f":"IF(CMS_Downtime!$F343=\"\",\"\",CMS_Downtime!C343)","v":""},{"$f":"IF(CMS_Downtime!$F343=\"\",\"\",CMS_Downtime!D343)","v":""},{"$f":"IF(CMS_Downtime!$F343=\"\",\"\",CMS_Downtime!E343)","v":""},"",{"$f":"IF(COUNTIF(G$2:G322,G322)=1,G322,\"\")","v":""},"","","","","",{"$f":"IF(I322=\"\",\"\",VLOOKUP(I322,List_CMS!$L$3:$Q$79,6,FALSE))","v":""}]
[{"$f":"+IF(H323=\"\",\"\",MAX(A$1:A322)+1)","v":""},{"$f":"IF(CMS_Downtime!F344=\"\",\"\",CMS_Downtime!F344)","v":""},{"$f":"IF(CMS_Downtime!$F344=\"\",\"\",CMS_Downtime!B344)","v":""},{"$f":"IF(CMS_Downtime!$F344=\"\",\"\",CMS_Downtime!C344)","v":""},{"$f":"IF(CMS_Downtime!$F344=\"\",\"\",CMS_Downtime!D344)","v":""},{"$f":"IF(CMS_Downtime!$F344=\"\",\"\",CMS_Downtime!E344)","v":""},"",{"$f":"IF(COUNTIF(G$2:G323,G323)=1,G323,\"\")","v":""},{"$f":"+IFERROR(INDEX($H$2:$H$499,MATCH(ROW()-ROW($I$2),$A$2:$A$499,0)),\"\")","v":""},"","","","",{"$f":"IF(I323=\"\",\"\",VLOOKUP(I323,List_CMS!$L$3:$Q$79,6,FALSE))","v":""}]
[{"$f":"+IF(H324=\"\",\"\",MAX(A$1:A323)+1)","v":""},{"$f":"IF(CMS_Downtime!F345=\"\",\"\",CMS_Downtime!F345)","v":""},{"$f":"IF(CMS_Downtime!$F345=\"\",\"\",CMS_Downtime!B345)","v":""},{"$f":"IF(CMS_Downtime!$F345=\"\",\"\",CMS_Downtime!C345)","v":""},{"$f":"IF(CMS_Downtime!$F345=\"\",\"\",CMS_Downtime!D345)","v":""},{"$f":"IF(CMS_Downtime!$F345=\"\",\"\",CMS_Downtime!E345)","v":""},{"$f":"IF(B324=\"\",\"\",C324&\" - \"&D324&\" - \"&F324)","v":""},{"$f":"IF(COUNTIF(G$2:G324,G324)=1,G324,\"\")","v":""},"",{"$f":"+IFERROR(INDEX(C$2:C$499,MATCH(ROW()-ROW($I$2),$A$2:$A$499,0)),\"\")","v":""},{"$f":"+IFERROR(INDEX(D$2:D$499,MATCH(ROW()-ROW($I$2),$A$2:$A$499,0)),\"\")","v":""},{"$f":"+IFERROR(INDEX(E$2:E$499,MATCH(ROW()-ROW($I$2),$A$2:$A$499,0)),\"\")","v":""},{"$f":"+IFERROR(INDEX(F$2:F$499,MATCH(ROW()-ROW($I$2),$A$2:$A$499,0)),\"\")","v":""},{"$f":"IF(I324=\"\",\"\",VLOOKUP(I324,List_CMS!$L$3:$Q$79,6,FALSE))","v":""}]
[{"$f":"+IF(H325=\"\",\"\",MAX(A$1:A324)+1)","v":""},{"$f":"IF(CMS_Downtime!F346=\"\",\"\",CMS_Downtime!F346)","v":""},{"$f":"IF(CMS_Downtime!$F346=\"\",\"\",CMS_Downtime!B346)","v":""},{"$f":"IF(CMS_Downtime!$F346=\"\",\"\",CMS_Downtime!C346)","v":""},{"$f":"IF(CMS_Downtime!$F346=\"\",\"\",CMS_Downtime!D346)","v":""},{"$f":"IF(CMS_Downtime!$F346=\"\",\"\",CMS_Downtime!E346)","v":""},"",{"$f":"IF(COUNTIF(G$2:G325,G325)=1,G325,\"\")","v":""},"","","","","",{"$f":"IF(I325=\"\",\"\",VLOOKUP(I325,List_CMS!$L$3:$Q$79,6,FALSE))","v":""}]
[{"$f":"+IF(H326=\"\",\"\",MAX(A$1:A325)+1)","v":""},{"$f":"IF(CMS_Downtime!F347=\"\",\"\",CMS_Downtime!F347)","v":""},{"$f":"IF(CMS_Downtime!$F347=\"\",\"\",CMS_Downtime!B347)","v":""},{"$f":"IF(CMS_Downtime!$F347=\"\",\"\",CMS_Downtime!C347)","v":""},{"$f":"IF(CMS_Downtime!$F347=\"\",\"\",CMS_Downtime!D347)","v":""},{"$f":"IF(CMS_Downtime!$F347=\"\",\"\",CMS_Downtime!E347)","v":""},"",{"$f":"IF(COUNTIF(G$2:G326,G326)=1,G326,\"\")","v":""},"","","","","",{"$f":"IF(I326=\"\",\"\",VLOOKUP(I326,List_CMS!$L$3:$Q$79,6,FALSE))","v":""}]
[{"$f":"+IF(H327=\"\",\"\",MAX(A$1:A326)+1)","v":""},{"$f":"IF(CMS_Downtime!F348=\"\",\"\",CMS_Downtime!F348)","v":""},{"$f":"IF(CMS_Downtime!$F348=\"\",\"\",CMS_Downtime!B348)","v":""},{"$f":"IF(CMS_Downtime!$F348=\"\",\"\",CMS_Downtime!C348)","v":""},{"$f":"IF(CMS_Downtime!$F348=\"\",\"\",CMS_Downtime!D348)","v":""},{"$f":"IF(CMS_Downtime!$F348=\"\",\"\",CMS_Downtime!E348)","v":""},"",{"$f":"IF(COUNTIF(G$2:G327,G327)=1,G327,\"\")","v":""},"","","","","",{"$f":"IF(I327=\"\",\"\",VLOOKUP(I327,List_CMS!$L$3:$Q$79,6,FALSE))","v":""}]
[{"$f":"+IF(H328=\"\",\"\",MAX(A$1:A327)+1)","v":""},{"$f":"IF(CMS_Downtime!F349=\"\",\"\",CMS_Downtime!F349)","v":""},{"$f":"IF(CMS_Downtime!$F349=\"\",\"\",CMS_Downtime!B349)","v":""},{"$f":"IF(CMS_Downtime!$F349=\"\",\"\",CMS_Downtime!C349)","v":""},{"$f":"IF(CMS_Downtime!$F349=\"\",\"\",CMS_Downtime!D349)","v":""},{"$f":"IF(CMS_Downtime!$F349=\"\",\"\",CMS_Downtime!E349)","v":""},"",{"$f":"IF(COUNTIF(G$2:G328,G328)=1,G328,\"\")","v":""},"","","","","",{"$f":"IF(I328=\"\",\"\",VLOOKUP(I328,List_CMS!$L$3:$Q$79,6,FALSE))","v":""}]
[{"$f":"+IF(H329=\"\",\"\",MAX(A$1:A328)+1)","v":""},{"$f":"IF(CMS_Downtime!F350=\"\",\"\",CMS_Downtime!F350)","v":""},{"$f":"IF(CMS_Downtime!$F350=\"\",\"\",CMS_Downtime!B350)","v":""},{"$f":"IF(CMS_Downtime!$F350=\"\",\"\",CMS_Downtime!C350)","v":""},{"$f":"IF(CMS_Downtime!$F350=\"\",\"\",CMS_Downtime!D350)","v":""},{"$f":"IF(CMS_Downtime!$F350=\"\",\"\",CMS_Downtime!E350)","v":""},"",{"$f":"IF(COUNTIF(G$2:G329,G329)=1,G329,\"\")","v":""},"","","","","",{"$f":"IF(I329=\"\",\"\",VLOOKUP(I329,List_CMS!$L$3:$Q$79,6,FALSE))","v":""}]
[{"$f":"+IF(H330=\"\",\"\",MAX(A$1:A329)+1)","v":""},{"$f":"IF(CMS_Downtime!F351=\"\",\"\",CMS_Downtime!F351)","v":""},{"$f":"IF(CMS_Downtime!$F351=\"\",\"\",CMS_Downtime!B351)","v":""},{"$f":"IF(CMS_Downtime!$F351=\"\",\"\",CMS_Downtime!C351)","v":""},{"$f":"IF(CMS_Downtime!$F351=\"\",\"\",CMS_Downtime!D351)","v":""},{"$f":"IF(CMS_Downtime!$F351=\"\",\"\",CMS_Downtime!E351)","v":""},"",{"$f":"IF(COUNTIF(G$2:G330,G330)=1,G330,\"\")","v":""},"","","","","",{"$f":"IF(I330=\"\",\"\",VLOOKUP(I330,List_CMS!$L$3:$Q$79,6,FALSE))","v":""}]
[{"$f":"+IF(H331=\"\",\"\",MAX(A$1:A330)+1)","v":""},{"$f":"IF(CMS_Downtime!F352=\"\",\"\",CMS_Downtime!F352)","v":""},{"$f":"IF(CMS_Downtime!$F352=\"\",\"\",CMS_Downtime!B352)","v":""},{"$f":"IF(CMS_Downtime!$F352=\"\",\"\",CMS_Downtime!C352)","v":""},{"$f":"IF(CMS_Downtime!$F352=\"\",\"\",CMS_Downtime!D352)","v":""},{"$f":"IF(CMS_Downtime!$F352=\"\",\"\",CMS_Downtime!E352)","v":""},"",{"$f":"IF(COUNTIF(G$2:G331,G331)=1,G331,\"\")","v":""},"","","","","",{"$f":"IF(I331=\"\",\"\",VLOOKUP(I331,List_CMS!$L$3:$Q$79,6,FALSE))","v":""}]
[{"$f":"+IF(H332=\"\",\"\",MAX(A$1:A331)+1)","v":""},{"$f":"IF(CMS_Downtime!F353=\"\",\"\",CMS_Downtime!F353)","v":""},{"$f":"IF(CMS_Downtime!$F353=\"\",\"\",CMS_Downtime!B353)","v":""},{"$f":"IF(CMS_Downtime!$F353=\"\",\"\",CMS_Downtime!C353)","v":""},{"$f":"IF(CMS_Downtime!$F353=\"\",\"\",CMS_Downtime!D353)","v":""},{"$f":"IF(CMS_Downtime!$F353=\"\",\"\",CMS_Downtime!E353)","v":""},"",{"$f":"IF(COUNTIF(G$2:G332,G332)=1,G332,\"\")","v":""},"","","","","",{"$f":"IF(I332=\"\",\"\",VLOOKUP(I332,List_CMS!$L$3:$Q$79,6,FALSE))","v":""}]
[{"$f":"+IF(H333=\"\",\"\",MAX(A$1:A332)+1)","v":""},{"$f":"IF(CMS_Downtime!F354=\"\",\"\",CMS_Downtime!F354)","v":""},{"$f":"IF(CMS_Downtime!$F354=\"\",\"\",CMS_Downtime!B354)","v":""},{"$f":"IF(CMS_Downtime!$F354=\"\",\"\",CMS_Downtime!C354)","v":""},{"$f":"IF(CMS_Downtime!$F354=\"\",\"\",CMS_Downtime!D354)","v":""},{"$f":"IF(CMS_Downtime!$F354=\"\",\"\",CMS_Downtime!E354)","v":""},"",{"$f":"IF(COUNTIF(G$2:G333,G333)=1,G333,\"\")","v":""},"","","","","",{"$f":"IF(I333=\"\",\"\",VLOOKUP(I333,List_CMS!$L$3:$Q$79,6,FALSE))","v":""}]
[{"$f":"+IF(H334=\"\",\"\",MAX(A$1:A333)+1)","v":""},{"$f":"IF(CMS_Downtime!F355=\"\",\"\",CMS_Downtime!F355)","v":""},{"$f":"IF(CMS_Downtime!$F355=\"\",\"\",CMS_Downtime!B355)","v":""},{"$f":"IF(CMS_Downtime!$F355=\"\",\"\",CMS_Downtime!C355)","v":""},{"$f":"IF(CMS_Downtime!$F355=\"\",\"\",CMS_Downtime!D355)","v":""},{"$f":"IF(CMS_Downtime!$F355=\"\",\"\",CMS_Downtime!E355)","v":""},"",{"$f":"IF(COUNTIF(G$2:G334,G334)=1,G334,\"\")","v":""},"","","","","",{"$f":"IF(I334=\"\",\"\",VLOOKUP(I334,List_CMS!$L$3:$Q$79,6,FALSE))","v":""}]
[{"$f":"+IF(H335=\"\",\"\",MAX(A$1:A334)+1)","v":""},{"$f":"IF(CMS_Downtime!F356=\"\",\"\",CMS_Downtime!F356)","v":""},{"$f":"IF(CMS_Downtime!$F356=\"\",\"\",CMS_Downtime!B356)","v":""},{"$f":"IF(CMS_Downtime!$F356=\"\",\"\",CMS_Downtime!C356)","v":""},{"$f":"IF(CMS_Downtime!$F356=\"\",\"\",CMS_Downtime!D356)","v":""},{"$f":"IF(CMS_Downtime!$F356=\"\",\"\",CMS_Downtime!E356)","v":""},"",{"$f":"IF(COUNTIF(G$2:G335,G335)=1,G335,\"\")","v":""},"","","","","",{"$f":"IF(I335=\"\",\"\",VLOOKUP(I335,List_CMS!$L$3:$Q$79,6,FALSE))","v":""}]
[{"$f":"+IF(H336=\"\",\"\",MAX(A$1:A335)+1)","v":""},{"$f":"IF(CMS_Downtime!F357=\"\",\"\",CMS_Downtime!F357)","v":""},{"$f":"IF(CMS_Downtime!$F357=\"\",\"\",CMS_Downtime!B357)","v":""},{"$f":"IF(CMS_Downtime!$F357=\"\",\"\",CMS_Downtime!C357)","v":""},{"$f":"IF(CMS_Downtime!$F357=\"\",\"\",CMS_Downtime!D357)","v":""},{"$f":"IF(CMS_Downtime!$F357=\"\",\"\",CMS_Downtime!E357)","v":""},"",{"$f":"IF(COUNTIF(G$2:G336,G336)=1,G336,\"\")","v":""},"","","","","",{"$f":"IF(I336=\"\",\"\",VLOOKUP(I336,List_CMS!$L$3:$Q$79,6,FALSE))","v":""}]
[{"$f":"+IF(H337=\"\",\"\",MAX(A$1:A336)+1)","v":""},{"$f":"IF(CMS_Downtime!F358=\"\",\"\",CMS_Downtime!F358)","v":""},{"$f":"IF(CMS_Downtime!$F358=\"\",\"\",CMS_Downtime!B358)","v":""},{"$f":"IF(CMS_Downtime!$F358=\"\",\"\",CMS_Downtime!C358)","v":""},{"$f":"IF(CMS_Downtime!$F358=\"\",\"\",CMS_Downtime!D358)","v":""},{"$f":"IF(CMS_Downtime!$F358=\"\",\"\",CMS_Downtime!E358)","v":""},"",{"$f":"IF(COUNTIF(G$2:G337,G337)=1,G337,\"\")","v":""},"","","","","",{"$f":"IF(I337=\"\",\"\",VLOOKUP(I337,List_CMS!$L$3:$Q$79,6,FALSE))","v":""}]
[{"$f":"+IF(H338=\"\",\"\",MAX(A$1:A337)+1)","v":""},{"$f":"IF(CMS_Downtime!F359=\"\",\"\",CMS_Downtime!F359)","v":""},{"$f":"IF(CMS_Downtime!$F359=\"\",\"\",CMS_Downtime!B359)","v":""},{"$f":"IF(CMS_Downtime!$F359=\"\",\"\",CMS_Downtime!C359)","v":""},{"$f":"IF(CMS_Downtime!$F359=\"\",\"\",CMS_Downtime!D359)","v":""},{"$f":"IF(CMS_Downtime!$F359=\"\",\"\",CMS_Downtime!E359)","v":""},"",{"$f":"IF(COUNTIF(G$2:G338,G338)=1,G338,\"\")","v":""},"","","","","",{"$f":"IF(I338=\"\",\"\",VLOOKUP(I338,List_CMS!$L$3:$Q$79,6,FALSE))","v":""}]
[{"$f":"+IF(H339=\"\",\"\",MAX(A$1:A338)+1)","v":""},{"$f":"IF(CMS_Downtime!F360=\"\",\"\",CMS_Downtime!F360)","v":""},{"$f":"IF(CMS_Downtime!$F360=\"\",\"\",CMS_Downtime!B360)","v":""},{"$f":"IF(CMS_Downtime!$F360=\"\",\"\",CMS_Downtime!C360)","v":""},{"$f":"IF(CMS_Downtime!$F360=\"\",\"\",CMS_Downtime!D360)","v":""},{"$f":"IF(CMS_Downtime!$F360=\"\",\"\",CMS_Downtime!E360)","v":""},"",{"$f":"IF(COUNTIF(G$2:G339,G339)=1,G339,\"\")","v":""},"","","","","",{"$f":"IF(I339=\"\",\"\",VLOOKUP(I339,List_CMS!$L$3:$Q$79,6,FALSE))","v":""}]
[{"$f":"+IF(H340=\"\",\"\",MAX(A$1:A339)+1)","v":""},{"$f":"IF(CMS_Downtime!F361=\"\",\"\",CMS_Downtime!F361)","v":""},{"$f":"IF(CMS_Downtime!$F361=\"\",\"\",CMS_Downtime!B361)","v":""},{"$f":"IF(CMS_Downtime!$F361=\"\",\"\",CMS_Downtime!C361)","v":""},{"$f":"IF(CMS_Downtime!$F361=\"\",\"\",CMS_Downtime!D361)","v":""},{"$f":"IF(CMS_Downtime!$F361=\"\",\"\",CMS_Downtime!E361)","v":""},"",{"$f":"IF(COUNTIF(G$2:G340,G340)=1,G340,\"\")","v":""},"","","","","",{"$f":"IF(I340=\"\",\"\",VLOOKUP(I340,List_CMS!$L$3:$Q$79,6,FALSE))","v":""}]
[{"$f":"+IF(H341=\"\",\"\",MAX(A$1:A340)+1)","v":""},{"$f":"IF(CMS_Downtime!F362=\"\",\"\",CMS_Downtime!F362)","v":""},{"$f":"IF(CMS_Downtime!$F362=\"\",\"\",CMS_Downtime!B362)","v":""},{"$f":"IF(CMS_Downtime!$F362=\"\",\"\",CMS_Downtime!C362)","v":""},{"$f":"IF(CMS_Downtime!$F362=\"\",\"\",CMS_Downtime!D362)","v":""},{"$f":"IF(CMS_Downtime!$F362=\"\",\"\",CMS_Downtime!E362)","v":""},"",{"$f":"IF(COUNTIF(G$2:G341,G341)=1,G341,\"\")","v":""},"","","","","",{"$f":"IF(I341=\"\",\"\",VLOOKUP(I341,List_CMS!$L$3:$Q$79,6,FALSE))","v":""}]
[{"$f":"+IF(H342=\"\",\"\",MAX(A$1:A341)+1)","v":""},{"$f":"IF(CMS_Downtime!F363=\"\",\"\",CMS_Downtime!F363)","v":""},{"$f":"IF(CMS_Downtime!$F363=\"\",\"\",CMS_Downtime!B363)","v":""},{"$f":"IF(CMS_Downtime!$F363=\"\",\"\",CMS_Downtime!C363)","v":""},{"$f":"IF(CMS_Downtime!$F363=\"\",\"\",CMS_Downtime!D363)","v":""},{"$f":"IF(CMS_Downtime!$F363=\"\",\"\",CMS_Downtime!E363)","v":""},"",{"$f":"IF(COUNTIF(G$2:G342,G342)=1,G342,\"\")","v":""},"","","","","",{"$f":"IF(I342=\"\",\"\",VLOOKUP(I342,List_CMS!$L$3:$Q$79,6,FALSE))","v":""}]
[{"$f":"+IF(H343=\"\",\"\",MAX(A$1:A342)+1)","v":""},{"$f":"IF(CMS_Downtime!F364=\"\",\"\",CMS_Downtime!F364)","v":""},{"$f":"IF(CMS_Downtime!$F364=\"\",\"\",CMS_Downtime!B364)","v":""},{"$f":"IF(CMS_Downtime!$F364=\"\",\"\",CMS_Downtime!C364)","v":""},{"$f":"IF(CMS_Downtime!$F364=\"\",\"\",CMS_Downtime!D364)","v":""},{"$f":"IF(CMS_Downtime!$F364=\"\",\"\",CMS_Downtime!E364)","v":""},"",{"$f":"IF(COUNTIF(G$2:G343,G343)=1,G343,\"\")","v":""},"","","","","",{"$f":"IF(I343=\"\",\"\",VLOOKUP(I343,List_CMS!$L$3:$Q$79,6,FALSE))","v":""}]
[{"$f":"+IF(H344=\"\",\"\",MAX(A$1:A343)+1)","v":""},{"$f":"IF(CMS_Downtime!F365=\"\",\"\",CMS_Downtime!F365)","v":""},{"$f":"IF(CMS_Downtime!$F365=\"\",\"\",CMS_Downtime!B365)","v":""},{"$f":"IF(CMS_Downtime!$F365=\"\",\"\",CMS_Downtime!C365)","v":""},{"$f":"IF(CMS_Downtime!$F365=\"\",\"\",CMS_Downtime!D365)","v":""},{"$f":"IF(CMS_Downtime!$F365=\"\",\"\",CMS_Downtime!E365)","v":""},"",{"$f":"IF(COUNTIF(G$2:G344,G344)=1,G344,\"\")","v":""},"","","","","",{"$f":"IF(I344=\"\",\"\",VLOOKUP(I344,List_CMS!$L$3:$Q$79,6,FALSE))","v":""}]
[{"$f":"+IF(H345=\"\",\"\",MAX(A$1:A344)+1)","v":""},{"$f":"IF(CMS_Downtime!F366=\"\",\"\",CMS_Downtime!F366)","v":""},{"$f":"IF(CMS_Downtime!$F366=\"\",\"\",CMS_Downtime!B366)","v":""},{"$f":"IF(CMS_Downtime!$F366=\"\",\"\",CMS_Downtime!C366)","v":""},{"$f":"IF(CMS_Downtime!$F366=\"\",\"\",CMS_Downtime!D366)","v":""},{"$f":"IF(CMS_Downtime!$F366=\"\",\"\",CMS_Downtime!E366)","v":""},"",{"$f":"IF(COUNTIF(G$2:G345,G345)=1,G345,\"\")","v":""},"","","","","",{"$f":"IF(I345=\"\",\"\",VLOOKUP(I345,List_CMS!$L$3:$Q$79,6,FALSE))","v":""}]
[{"$f":"+IF(H346=\"\",\"\",MAX(A$1:A345)+1)","v":""},{"$f":"IF(CMS_Downtime!F367=\"\",\"\",CMS_Downtime!F367)","v":""},{"$f":"IF(CMS_Downtime!$F367=\"\",\"\",CMS_Downtime!B367)","v":""},{"$f":"IF(CMS_Downtime!$F367=\"\",\"\",CMS_Downtime!C367)","v":""},{"$f":"IF(CMS_Downtime!$F367=\"\",\"\",CMS_Downtime!D367)","v":""},{"$f":"IF(CMS_Downtime!$F367=\"\",\"\",CMS_Downtime!E367)","v":""},"",{"$f":"IF(COUNTIF(G$2:G346,G346)=1,G346,\"\")","v":""},"","","","","",{"$f":"IF(I346=\"\",\"\",VLOOKUP(I346,List_CMS!$L$3:$Q$79,6,FALSE))","v":""}]
[{"$f":"+IF(H347=\"\",\"\",MAX(A$1:A346)+1)","v":""},{"$f":"IF(CMS_Downtime!F368=\"\",\"\",CMS_Downtime!F368)","v":""},{"$f":"IF(CMS_Downtime!$F368=\"\",\"\",CMS_Downtime!B368)","v":""},{"$f":"IF(CMS_Downtime!$F368=\"\",\"\",CMS_Downtime!C368)","v":""},{"$f":"IF(CMS_Downtime!$F368=\"\",\"\",CMS_Downtime!D368)","v":""},{"$f":"IF(CMS_Downtime!$F368=\"\",\"\",CMS_Downtime!E368)","v":""},"",{"$f":"IF(COUNTIF(G$2:G347,G347)=1,G347,\"\")","v":""},"","","","","",{"$f":"IF(I347=\"\",\"\",VLOOKUP(I347,List_CMS!$L$3:$Q$79,6,FALSE))","v":""}]
[{"$f":"+IF(H348=\"\",\"\",MAX(A$1:A347)+1)","v":""},{"$f":"IF(CMS_Downtime!F369=\"\",\"\",CMS_Downtime!F369)","v":""},{"$f":"IF(CMS_Downtime!$F369=\"\",\"\",CMS_Downtime!B369)","v":""},{"$f":"IF(CMS_Downtime!$F369=\"\",\"\",CMS_Downtime!C369)","v":""},{"$f":"IF(CMS_Downtime!$F369=\"\",\"\",CMS_Downtime!D369)","v":""},{"$f":"IF(CMS_Downtime!$F369=\"\",\"\",CMS_Downtime!E369)","v":""},"",{"$f":"IF(COUNTIF(G$2:G348,G348)=1,G348,\"\")","v":""},"","","","","",{"$f":"IF(I348=\"\",\"\",VLOOKUP(I348,List_CMS!$L$3:$Q$79,6,FALSE))","v":""}]
[{"$f":"+IF(H349=\"\",\"\",MAX(A$1:A348)+1)","v":""},{"$f":"IF(CMS_Downtime!F370=\"\",\"\",CMS_Downtime!F370)","v":""},{"$f":"IF(CMS_Downtime!$F370=\"\",\"\",CMS_Downtime!B370)","v":""},{"$f":"IF(CMS_Downtime!$F370=\"\",\"\",CMS_Downtime!C370)","v":""},{"$f":"IF(CMS_Downtime!$F370=\"\",\"\",CMS_Downtime!D370)","v":""},{"$f":"IF(CMS_Downtime!$F370=\"\",\"\",CMS_Downtime!E370)","v":""},"",{"$f":"IF(COUNTIF(G$2:G349,G349)=1,G349,\"\")","v":""},"","","","","",{"$f":"IF(I349=\"\",\"\",VLOOKUP(I349,List_CMS!$L$3:$Q$79,6,FALSE))","v":""}]
[{"$f":"+IF(H350=\"\",\"\",MAX(A$1:A349)+1)","v":""},{"$f":"IF(CMS_Downtime!F371=\"\",\"\",CMS_Downtime!F371)","v":""},{"$f":"IF(CMS_Downtime!$F371=\"\",\"\",CMS_Downtime!B371)","v":""},{"$f":"IF(CMS_Downtime!$F371=\"\",\"\",CMS_Downtime!C371)","v":""},{"$f":"IF(CMS_Downtime!$F371=\"\",\"\",CMS_Downtime!D371)","v":""},{"$f":"IF(CMS_Downtime!$F371=\"\",\"\",CMS_Downtime!E371)","v":""},"",{"$f":"IF(COUNTIF(G$2:G350,G350)=1,G350,\"\")","v":""},"","","","","",{"$f":"IF(I350=\"\",\"\",VLOOKUP(I350,List_CMS!$L$3:$Q$79,6,FALSE))","v":""}]
[{"$f":"+IF(H351=\"\",\"\",MAX(A$1:A350)+1)","v":""},{"$f":"IF(CMS_Downtime!F372=\"\",\"\",CMS_Downtime!F372)","v":""},{"$f":"IF(CMS_Downtime!$F372=\"\",\"\",CMS_Downtime!B372)","v":""},{"$f":"IF(CMS_Downtime!$F372=\"\",\"\",CMS_Downtime!C372)","v":""},{"$f":"IF(CMS_Downtime!$F372=\"\",\"\",CMS_Downtime!D372)","v":""},{"$f":"IF(CMS_Downtime!$F372=\"\",\"\",CMS_Downtime!E372)","v":""},"",{"$f":"IF(COUNTIF(G$2:G351,G351)=1,G351,\"\")","v":""},"","","","","",{"$f":"IF(I351=\"\",\"\",VLOOKUP(I351,List_CMS!$L$3:$Q$79,6,FALSE))","v":""}]
[{"$f":"+IF(H352=\"\",\"\",MAX(A$1:A351)+1)","v":""},{"$f":"IF(CMS_Downtime!F373=\"\",\"\",CMS_Downtime!F373)","v":""},{"$f":"IF(CMS_Downtime!$F373=\"\",\"\",CMS_Downtime!B373)","v":""},{"$f":"IF(CMS_Downtime!$F373=\"\",\"\",CMS_Downtime!C373)","v":""},{"$f":"IF(CMS_Downtime!$F373=\"\",\"\",CMS_Downtime!D373)","v":""},{"$f":"IF(CMS_Downtime!$F373=\"\",\"\",CMS_Downtime!E373)","v":""},"",{"$f":"IF(COUNTIF(G$2:G352,G352)=1,G352,\"\")","v":""},"","","","","",{"$f":"IF(I352=\"\",\"\",VLOOKUP(I352,List_CMS!$L$3:$Q$79,6,FALSE))","v":""}]
[{"$f":"+IF(H353=\"\",\"\",MAX(A$1:A352)+1)","v":""},{"$f":"IF(CMS_Downtime!F374=\"\",\"\",CMS_Downtime!F374)","v":""},{"$f":"IF(CMS_Downtime!$F374=\"\",\"\",CMS_Downtime!B374)","v":""},{"$f":"IF(CMS_Downtime!$F374=\"\",\"\",CMS_Downtime!C374)","v":""},{"$f":"IF(CMS_Downtime!$F374=\"\",\"\",CMS_Downtime!D374)","v":""},{"$f":"IF(CMS_Downtime!$F374=\"\",\"\",CMS_Downtime!E374)","v":""},"",{"$f":"IF(COUNTIF(G$2:G353,G353)=1,G353,\"\")","v":""},"","","","","",{"$f":"IF(I353=\"\",\"\",VLOOKUP(I353,List_CMS!$L$3:$Q$79,6,FALSE))","v":""}]
[{"$f":"+IF(H354=\"\",\"\",MAX(A$1:A353)+1)","v":""},{"$f":"IF(CMS_Downtime!F375=\"\",\"\",CMS_Downtime!F375)","v":""},{"$f":"IF(CMS_Downtime!$F375=\"\",\"\",CMS_Downtime!B375)","v":""},{"$f":"IF(CMS_Downtime!$F375=\"\",\"\",CMS_Downtime!C375)","v":""},{"$f":"IF(CMS_Downtime!$F375=\"\",\"\",CMS_Downtime!D375)","v":""},{"$f":"IF(CMS_Downtime!$F375=\"\",\"\",CMS_Downtime!E375)","v":""},"",{"$f":"IF(COUNTIF(G$2:G354,G354)=1,G354,\"\")","v":""},"","","","","",{"$f":"IF(I354=\"\",\"\",VLOOKUP(I354,List_CMS!$L$3:$Q$79,6,FALSE))","v":""}]
[{"$f":"+IF(H355=\"\",\"\",MAX(A$1:A354)+1)","v":""},{"$f":"IF(CMS_Downtime!F376=\"\",\"\",CMS_Downtime!F376)","v":""},{"$f":"IF(CMS_Downtime!$F376=\"\",\"\",CMS_Downtime!B376)","v":""},{"$f":"IF(CMS_Downtime!$F376=\"\",\"\",CMS_Downtime!C376)","v":""},{"$f":"IF(CMS_Downtime!$F376=\"\",\"\",CMS_Downtime!D376)","v":""},{"$f":"IF(CMS_Downtime!$F376=\"\",\"\",CMS_Downtime!E376)","v":""},"",{"$f":"IF(COUNTIF(G$2:G355,G355)=1,G355,\"\")","v":""},"","","","","",{"$f":"IF(I355=\"\",\"\",VLOOKUP(I355,List_CMS!$L$3:$Q$79,6,FALSE))","v":""}]
[{"$f":"+IF(H356=\"\",\"\",MAX(A$1:A355)+1)","v":""},{"$f":"IF(CMS_Downtime!F377=\"\",\"\",CMS_Downtime!F377)","v":""},{"$f":"IF(CMS_Downtime!$F377=\"\",\"\",CMS_Downtime!B377)","v":""},{"$f":"IF(CMS_Downtime!$F377=\"\",\"\",CMS_Downtime!C377)","v":""},{"$f":"IF(CMS_Downtime!$F377=\"\",\"\",CMS_Downtime!D377)","v":""},{"$f":"IF(CMS_Downtime!$F377=\"\",\"\",CMS_Downtime!E377)","v":""},"",{"$f":"IF(COUNTIF(G$2:G356,G356)=1,G356,\"\")","v":""},"","","","","",{"$f":"IF(I356=\"\",\"\",VLOOKUP(I356,List_CMS!$L$3:$Q$79,6,FALSE))","v":""}]
[{"$f":"+IF(H357=\"\",\"\",MAX(A$1:A356)+1)","v":""},{"$f":"IF(CMS_Downtime!F378=\"\",\"\",CMS_Downtime!F378)","v":""},{"$f":"IF(CMS_Downtime!$F378=\"\",\"\",CMS_Downtime!B378)","v":""},{"$f":"IF(CMS_Downtime!$F378=\"\",\"\",CMS_Downtime!C378)","v":""},{"$f":"IF(CMS_Downtime!$F378=\"\",\"\",CMS_Downtime!D378)","v":""},{"$f":"IF(CMS_Downtime!$F378=\"\",\"\",CMS_Downtime!E378)","v":""},"",{"$f":"IF(COUNTIF(G$2:G357,G357)=1,G357,\"\")","v":""},"","","","","",{"$f":"IF(I357=\"\",\"\",VLOOKUP(I357,List_CMS!$L$3:$Q$79,6,FALSE))","v":""}]
[{"$f":"+IF(H358=\"\",\"\",MAX(A$1:A357)+1)","v":""},{"$f":"IF(CMS_Downtime!F379=\"\",\"\",CMS_Downtime!F379)","v":""},{"$f":"IF(CMS_Downtime!$F379=\"\",\"\",CMS_Downtime!B379)","v":""},{"$f":"IF(CMS_Downtime!$F379=\"\",\"\",CMS_Downtime!C379)","v":""},{"$f":"IF(CMS_Downtime!$F379=\"\",\"\",CMS_Downtime!D379)","v":""},{"$f":"IF(CMS_Downtime!$F379=\"\",\"\",CMS_Downtime!E379)","v":""},"",{"$f":"IF(COUNTIF(G$2:G358,G358)=1,G358,\"\")","v":""},"","","","","",{"$f":"IF(I358=\"\",\"\",VLOOKUP(I358,List_CMS!$L$3:$Q$79,6,FALSE))","v":""}]
[{"$f":"+IF(H359=\"\",\"\",MAX(A$1:A358)+1)","v":""},{"$f":"IF(CMS_Downtime!F380=\"\",\"\",CMS_Downtime!F380)","v":""},{"$f":"IF(CMS_Downtime!$F380=\"\",\"\",CMS_Downtime!B380)","v":""},{"$f":"IF(CMS_Downtime!$F380=\"\",\"\",CMS_Downtime!C380)","v":""},{"$f":"IF(CMS_Downtime!$F380=\"\",\"\",CMS_Downtime!D380)","v":""},{"$f":"IF(CMS_Downtime!$F380=\"\",\"\",CMS_Downtime!E380)","v":""},"",{"$f":"IF(COUNTIF(G$2:G359,G359)=1,G359,\"\")","v":""},"","","","","",{"$f":"IF(I359=\"\",\"\",VLOOKUP(I359,List_CMS!$L$3:$Q$79,6,FALSE))","v":""}]
[{"$f":"+IF(H360=\"\",\"\",MAX(A$1:A359)+1)","v":""},{"$f":"IF(CMS_Downtime!F381=\"\",\"\",CMS_Downtime!F381)","v":""},{"$f":"IF(CMS_Downtime!$F381=\"\",\"\",CMS_Downtime!B381)","v":""},{"$f":"IF(CMS_Downtime!$F381=\"\",\"\",CMS_Downtime!C381)","v":""},{"$f":"IF(CMS_Downtime!$F381=\"\",\"\",CMS_Downtime!D381)","v":""},{"$f":"IF(CMS_Downtime!$F381=\"\",\"\",CMS_Downtime!E381)","v":""},"",{"$f":"IF(COUNTIF(G$2:G360,G360)=1,G360,\"\")","v":""},"","","","","",{"$f":"IF(I360=\"\",\"\",VLOOKUP(I360,List_CMS!$L$3:$Q$79,6,FALSE))","v":""}]
[{"$f":"+IF(H361=\"\",\"\",MAX(A$1:A360)+1)","v":""},{"$f":"IF(CMS_Downtime!F382=\"\",\"\",CMS_Downtime!F382)","v":""},{"$f":"IF(CMS_Downtime!$F382=\"\",\"\",CMS_Downtime!B382)","v":""},{"$f":"IF(CMS_Downtime!$F382=\"\",\"\",CMS_Downtime!C382)","v":""},{"$f":"IF(CMS_Downtime!$F382=\"\",\"\",CMS_Downtime!D382)","v":""},{"$f":"IF(CMS_Downtime!$F382=\"\",\"\",CMS_Downtime!E382)","v":""},"",{"$f":"IF(COUNTIF(G$2:G361,G361)=1,G361,\"\")","v":""},"","","","","",{"$f":"IF(I361=\"\",\"\",VLOOKUP(I361,List_CMS!$L$3:$Q$79,6,FALSE))","v":""}]
[{"$f":"+IF(H362=\"\",\"\",MAX(A$1:A361)+1)","v":""},{"$f":"IF(CMS_Downtime!F383=\"\",\"\",CMS_Downtime!F383)","v":""},{"$f":"IF(CMS_Downtime!$F383=\"\",\"\",CMS_Downtime!B383)","v":""},{"$f":"IF(CMS_Downtime!$F383=\"\",\"\",CMS_Downtime!C383)","v":""},{"$f":"IF(CMS_Downtime!$F383=\"\",\"\",CMS_Downtime!D383)","v":""},{"$f":"IF(CMS_Downtime!$F383=\"\",\"\",CMS_Downtime!E383)","v":""},"",{"$f":"IF(COUNTIF(G$2:G362,G362)=1,G362,\"\")","v":""},"","","","","",{"$f":"IF(I362=\"\",\"\",VLOOKUP(I362,List_CMS!$L$3:$Q$79,6,FALSE))","v":""}]
[{"$f":"+IF(H363=\"\",\"\",MAX(A$1:A362)+1)","v":""},{"$f":"IF(CMS_Downtime!F384=\"\",\"\",CMS_Downtime!F384)","v":""},{"$f":"IF(CMS_Downtime!$F384=\"\",\"\",CMS_Downtime!B384)","v":""},{"$f":"IF(CMS_Downtime!$F384=\"\",\"\",CMS_Downtime!C384)","v":""},{"$f":"IF(CMS_Downtime!$F384=\"\",\"\",CMS_Downtime!D384)","v":""},{"$f":"IF(CMS_Downtime!$F384=\"\",\"\",CMS_Downtime!E384)","v":""},"",{"$f":"IF(COUNTIF(G$2:G363,G363)=1,G363,\"\")","v":""},"","","","","",{"$f":"IF(I363=\"\",\"\",VLOOKUP(I363,List_CMS!$L$3:$Q$79,6,FALSE))","v":""}]
[{"$f":"+IF(H364=\"\",\"\",MAX(A$1:A363)+1)","v":""},{"$f":"IF(CMS_Downtime!F385=\"\",\"\",CMS_Downtime!F385)","v":""},{"$f":"IF(CMS_Downtime!$F385=\"\",\"\",CMS_Downtime!B385)","v":""},{"$f":"IF(CMS_Downtime!$F385=\"\",\"\",CMS_Downtime!C385)","v":""},{"$f":"IF(CMS_Downtime!$F385=\"\",\"\",CMS_Downtime!D385)","v":""},{"$f":"IF(CMS_Downtime!$F385=\"\",\"\",CMS_Downtime!E385)","v":""},"",{"$f":"IF(COUNTIF(G$2:G364,G364)=1,G364,\"\")","v":""},"","","","","",{"$f":"IF(I364=\"\",\"\",VLOOKUP(I364,List_CMS!$L$3:$Q$79,6,FALSE))","v":""}]
[{"$f":"+IF(H365=\"\",\"\",MAX(A$1:A364)+1)","v":""},{"$f":"IF(CMS_Downtime!F386=\"\",\"\",CMS_Downtime!F386)","v":""},{"$f":"IF(CMS_Downtime!$F386=\"\",\"\",CMS_Downtime!B386)","v":""},{"$f":"IF(CMS_Downtime!$F386=\"\",\"\",CMS_Downtime!C386)","v":""},{"$f":"IF(CMS_Downtime!$F386=\"\",\"\",CMS_Downtime!D386)","v":""},{"$f":"IF(CMS_Downtime!$F386=\"\",\"\",CMS_Downtime!E386)","v":""},"",{"$f":"IF(COUNTIF(G$2:G365,G365)=1,G365,\"\")","v":""},"","","","","",{"$f":"IF(I365=\"\",\"\",VLOOKUP(I365,List_CMS!$L$3:$Q$79,6,FALSE))","v":""}]
[{"$f":"+IF(H366=\"\",\"\",MAX(A$1:A365)+1)","v":""},{"$f":"IF(CMS_Downtime!F387=\"\",\"\",CMS_Downtime!F387)","v":""},{"$f":"IF(CMS_Downtime!$F387=\"\",\"\",CMS_Downtime!B387)","v":""},{"$f":"IF(CMS_Downtime!$F387=\"\",\"\",CMS_Downtime!C387)","v":""},{"$f":"IF(CMS_Downtime!$F387=\"\",\"\",CMS_Downtime!D387)","v":""},{"$f":"IF(CMS_Downtime!$F387=\"\",\"\",CMS_Downtime!E387)","v":""},"",{"$f":"IF(COUNTIF(G$2:G366,G366)=1,G366,\"\")","v":""},"","","","","",{"$f":"IF(I366=\"\",\"\",VLOOKUP(I366,List_CMS!$L$3:$Q$79,6,FALSE))","v":""}]
[{"$f":"+IF(H367=\"\",\"\",MAX(A$1:A366)+1)","v":""},{"$f":"IF(CMS_Downtime!F388=\"\",\"\",CMS_Downtime!F388)","v":""},{"$f":"IF(CMS_Downtime!$F388=\"\",\"\",CMS_Downtime!B388)","v":""},{"$f":"IF(CMS_Downtime!$F388=\"\",\"\",CMS_Downtime!C388)","v":""},{"$f":"IF(CMS_Downtime!$F388=\"\",\"\",CMS_Downtime!D388)","v":""},{"$f":"IF(CMS_Downtime!$F388=\"\",\"\",CMS_Downtime!E388)","v":""},"",{"$f":"IF(COUNTIF(G$2:G367,G367)=1,G367,\"\")","v":""},"","","","","",{"$f":"IF(I367=\"\",\"\",VLOOKUP(I367,List_CMS!$L$3:$Q$79,6,FALSE))","v":""}]
[{"$f":"+IF(H368=\"\",\"\",MAX(A$1:A367)+1)","v":""},{"$f":"IF(CMS_Downtime!F389=\"\",\"\",CMS_Downtime!F389)","v":""},{"$f":"IF(CMS_Downtime!$F389=\"\",\"\",CMS_Downtime!B389)","v":""},{"$f":"IF(CMS_Downtime!$F389=\"\",\"\",CMS_Downtime!C389)","v":""},{"$f":"IF(CMS_Downtime!$F389=\"\",\"\",CMS_Downtime!D389)","v":""},{"$f":"IF(CMS_Downtime!$F389=\"\",\"\",CMS_Downtime!E389)","v":""},"",{"$f":"IF(COUNTIF(G$2:G368,G368)=1,G368,\"\")","v":""},"","","","","",{"$f":"IF(I368=\"\",\"\",VLOOKUP(I368,List_CMS!$L$3:$Q$79,6,FALSE))","v":""}]
[{"$f":"+IF(H369=\"\",\"\",MAX(A$1:A368)+1)","v":""},{"$f":"IF(CMS_Downtime!F390=\"\",\"\",CMS_Downtime!F390)","v":""},{"$f":"IF(CMS_Downtime!$F390=\"\",\"\",CMS_Downtime!B390)","v":""},{"$f":"IF(CMS_Downtime!$F390=\"\",\"\",CMS_Downtime!C390)","v":""},{"$f":"IF(CMS_Downtime!$F390=\"\",\"\",CMS_Downtime!D390)","v":""},{"$f":"IF(CMS_Downtime!$F390=\"\",\"\",CMS_Downtime!E390)","v":""},"",{"$f":"IF(COUNTIF(G$2:G369,G369)=1,G369,\"\")","v":""},"","","","","",{"$f":"IF(I369=\"\",\"\",VLOOKUP(I369,List_CMS!$L$3:$Q$79,6,FALSE))","v":""}]
[{"$f":"+IF(H370=\"\",\"\",MAX(A$1:A369)+1)","v":""},{"$f":"IF(CMS_Downtime!F391=\"\",\"\",CMS_Downtime!F391)","v":""},{"$f":"IF(CMS_Downtime!$F391=\"\",\"\",CMS_Downtime!B391)","v":""},{"$f":"IF(CMS_Downtime!$F391=\"\",\"\",CMS_Downtime!C391)","v":""},{"$f":"IF(CMS_Downtime!$F391=\"\",\"\",CMS_Downtime!D391)","v":""},{"$f":"IF(CMS_Downtime!$F391=\"\",\"\",CMS_Downtime!E391)","v":""},"",{"$f":"IF(COUNTIF(G$2:G370,G370)=1,G370,\"\")","v":""},"","","","","",{"$f":"IF(I370=\"\",\"\",VLOOKUP(I370,List_CMS!$L$3:$Q$79,6,FALSE))","v":""}]
[{"$f":"+IF(H371=\"\",\"\",MAX(A$1:A370)+1)","v":""},{"$f":"IF(CMS_Downtime!F392=\"\",\"\",CMS_Downtime!F392)","v":""},{"$f":"IF(CMS_Downtime!$F392=\"\",\"\",CMS_Downtime!B392)","v":""},{"$f":"IF(CMS_Downtime!$F392=\"\",\"\",CMS_Downtime!C392)","v":""},{"$f":"IF(CMS_Downtime!$F392=\"\",\"\",CMS_Downtime!D392)","v":""},{"$f":"IF(CMS_Downtime!$F392=\"\",\"\",CMS_Downtime!E392)","v":""},"",{"$f":"IF(COUNTIF(G$2:G371,G371)=1,G371,\"\")","v":""},"","","","","",{"$f":"IF(I371=\"\",\"\",VLOOKUP(I371,List_CMS!$L$3:$Q$79,6,FALSE))","v":""}]
[{"$f":"+IF(H372=\"\",\"\",MAX(A$1:A371)+1)","v":""},{"$f":"IF(CMS_Downtime!F393=\"\",\"\",CMS_Downtime!F393)","v":""},{"$f":"IF(CMS_Downtime!$F393=\"\",\"\",CMS_Downtime!B393)","v":""},{"$f":"IF(CMS_Downtime!$F393=\"\",\"\",CMS_Downtime!C393)","v":""},{"$f":"IF(CMS_Downtime!$F393=\"\",\"\",CMS_Downtime!D393)","v":""},{"$f":"IF(CMS_Downtime!$F393=\"\",\"\",CMS_Downtime!E393)","v":""},"",{"$f":"IF(COUNTIF(G$2:G372,G372)=1,G372,\"\")","v":""},"","","","","",{"$f":"IF(I372=\"\",\"\",VLOOKUP(I372,List_CMS!$L$3:$Q$79,6,FALSE))","v":""}]
[{"$f":"+IF(H373=\"\",\"\",MAX(A$1:A372)+1)","v":""},{"$f":"IF(CMS_Downtime!F394=\"\",\"\",CMS_Downtime!F394)","v":""},{"$f":"IF(CMS_Downtime!$F394=\"\",\"\",CMS_Downtime!B394)","v":""},{"$f":"IF(CMS_Downtime!$F394=\"\",\"\",CMS_Downtime!C394)","v":""},{"$f":"IF(CMS_Downtime!$F394=\"\",\"\",CMS_Downtime!D394)","v":""},{"$f":"IF(CMS_Downtime!$F394=\"\",\"\",CMS_Downtime!E394)","v":""},"",{"$f":"IF(COUNTIF(G$2:G373,G373)=1,G373,\"\")","v":""},"","","","","",{"$f":"IF(I373=\"\",\"\",VLOOKUP(I373,List_CMS!$L$3:$Q$79,6,FALSE))","v":""}]
[{"$f":"+IF(H374=\"\",\"\",MAX(A$1:A373)+1)","v":""},{"$f":"IF(CMS_Downtime!F395=\"\",\"\",CMS_Downtime!F395)","v":""},{"$f":"IF(CMS_Downtime!$F395=\"\",\"\",CMS_Downtime!B395)","v":""},{"$f":"IF(CMS_Downtime!$F395=\"\",\"\",CMS_Downtime!C395)","v":""},{"$f":"IF(CMS_Downtime!$F395=\"\",\"\",CMS_Downtime!D395)","v":""},{"$f":"IF(CMS_Downtime!$F395=\"\",\"\",CMS_Downtime!E395)","v":""},"",{"$f":"IF(COUNTIF(G$2:G374,G374)=1,G374,\"\")","v":""},"","","","","",{"$f":"IF(I374=\"\",\"\",VLOOKUP(I374,List_CMS!$L$3:$Q$79,6,FALSE))","v":""}]
[{"$f":"+IF(H375=\"\",\"\",MAX(A$1:A374)+1)","v":""},{"$f":"IF(CMS_Downtime!F396=\"\",\"\",CMS_Downtime!F396)","v":""},{"$f":"IF(CMS_Downtime!$F396=\"\",\"\",CMS_Downtime!B396)","v":""},{"$f":"IF(CMS_Downtime!$F396=\"\",\"\",CMS_Downtime!C396)","v":""},{"$f":"IF(CMS_Downtime!$F396=\"\",\"\",CMS_Downtime!D396)","v":""},{"$f":"IF(CMS_Downtime!$F396=\"\",\"\",CMS_Downtime!E396)","v":""},"",{"$f":"IF(COUNTIF(G$2:G375,G375)=1,G375,\"\")","v":""},"","","","","",{"$f":"IF(I375=\"\",\"\",VLOOKUP(I375,List_CMS!$L$3:$Q$79,6,FALSE))","v":""}]
[{"$f":"+IF(H376=\"\",\"\",MAX(A$1:A375)+1)","v":""},{"$f":"IF(CMS_Downtime!F397=\"\",\"\",CMS_Downtime!F397)","v":""},{"$f":"IF(CMS_Downtime!$F397=\"\",\"\",CMS_Downtime!B397)","v":""},{"$f":"IF(CMS_Downtime!$F397=\"\",\"\",CMS_Downtime!C397)","v":""},{"$f":"IF(CMS_Downtime!$F397=\"\",\"\",CMS_Downtime!D397)","v":""},{"$f":"IF(CMS_Downtime!$F397=\"\",\"\",CMS_Downtime!E397)","v":""},"",{"$f":"IF(COUNTIF(G$2:G376,G376)=1,G376,\"\")","v":""},"","","","","",{"$f":"IF(I376=\"\",\"\",VLOOKUP(I376,List_CMS!$L$3:$Q$79,6,FALSE))","v":""}]
[{"$f":"+IF(H377=\"\",\"\",MAX(A$1:A376)+1)","v":""},{"$f":"IF(CMS_Downtime!F398=\"\",\"\",CMS_Downtime!F398)","v":""},{"$f":"IF(CMS_Downtime!$F398=\"\",\"\",CMS_Downtime!B398)","v":""},{"$f":"IF(CMS_Downtime!$F398=\"\",\"\",CMS_Downtime!C398)","v":""},{"$f":"IF(CMS_Downtime!$F398=\"\",\"\",CMS_Downtime!D398)","v":""},{"$f":"IF(CMS_Downtime!$F398=\"\",\"\",CMS_Downtime!E398)","v":""},"",{"$f":"IF(COUNTIF(G$2:G377,G377)=1,G377,\"\")","v":""},"","","","","",{"$f":"IF(I377=\"\",\"\",VLOOKUP(I377,List_CMS!$L$3:$Q$79,6,FALSE))","v":""}]
[{"$f":"+IF(H378=\"\",\"\",MAX(A$1:A377)+1)","v":""},{"$f":"IF(CMS_Downtime!F399=\"\",\"\",CMS_Downtime!F399)","v":""},{"$f":"IF(CMS_Downtime!$F399=\"\",\"\",CMS_Downtime!B399)","v":""},{"$f":"IF(CMS_Downtime!$F399=\"\",\"\",CMS_Downtime!C399)","v":""},{"$f":"IF(CMS_Downtime!$F399=\"\",\"\",CMS_Downtime!D399)","v":""},{"$f":"IF(CMS_Downtime!$F399=\"\",\"\",CMS_Downtime!E399)","v":""},"",{"$f":"IF(COUNTIF(G$2:G378,G378)=1,G378,\"\")","v":""},"","","","","",{"$f":"IF(I378=\"\",\"\",VLOOKUP(I378,List_CMS!$L$3:$Q$79,6,FALSE))","v":""}]
[{"$f":"+IF(H379=\"\",\"\",MAX(A$1:A378)+1)","v":""},{"$f":"IF(CMS_Downtime!F400=\"\",\"\",CMS_Downtime!F400)","v":""},{"$f":"IF(CMS_Downtime!$F400=\"\",\"\",CMS_Downtime!B400)","v":""},{"$f":"IF(CMS_Downtime!$F400=\"\",\"\",CMS_Downtime!C400)","v":""},{"$f":"IF(CMS_Downtime!$F400=\"\",\"\",CMS_Downtime!D400)","v":""},{"$f":"IF(CMS_Downtime!$F400=\"\",\"\",CMS_Downtime!E400)","v":""},"",{"$f":"IF(COUNTIF(G$2:G379,G379)=1,G379,\"\")","v":""},"","","","","",{"$f":"IF(I379=\"\",\"\",VLOOKUP(I379,List_CMS!$L$3:$Q$79,6,FALSE))","v":""}]
[{"$f":"+IF(H380=\"\",\"\",MAX(A$1:A379)+1)","v":""},{"$f":"IF(CMS_Downtime!F401=\"\",\"\",CMS_Downtime!F401)","v":""},{"$f":"IF(CMS_Downtime!$F401=\"\",\"\",CMS_Downtime!B401)","v":""},{"$f":"IF(CMS_Downtime!$F401=\"\",\"\",CMS_Downtime!C401)","v":""},{"$f":"IF(CMS_Downtime!$F401=\"\",\"\",CMS_Downtime!D401)","v":""},{"$f":"IF(CMS_Downtime!$F401=\"\",\"\",CMS_Downtime!E401)","v":""},"",{"$f":"IF(COUNTIF(G$2:G380,G380)=1,G380,\"\")","v":""},"","","","","",{"$f":"IF(I380=\"\",\"\",VLOOKUP(I380,List_CMS!$L$3:$Q$79,6,FALSE))","v":""}]
[{"$f":"+IF(H381=\"\",\"\",MAX(A$1:A380)+1)","v":""},{"$f":"IF(CMS_Downtime!F402=\"\",\"\",CMS_Downtime!F402)","v":""},{"$f":"IF(CMS_Downtime!$F402=\"\",\"\",CMS_Downtime!B402)","v":""},{"$f":"IF(CMS_Downtime!$F402=\"\",\"\",CMS_Downtime!C402)","v":""},{"$f":"IF(CMS_Downtime!$F402=\"\",\"\",CMS_Downtime!D402)","v":""},{"$f":"IF(CMS_Downtime!$F402=\"\",\"\",CMS_Downtime!E402)","v":""},"",{"$f":"IF(COUNTIF(G$2:G381,G381)=1,G381,\"\")","v":""},"","","","","",{"$f":"IF(I381=\"\",\"\",VLOOKUP(I381,List_CMS!$L$3:$Q$79,6,FALSE))","v":""}]
[{"$f":"+IF(H382=\"\",\"\",MAX(A$1:A381)+1)","v":""},{"$f":"IF(CMS_Downtime!F403=\"\",\"\",CMS_Downtime!F403)","v":""},{"$f":"IF(CMS_Downtime!$F403=\"\",\"\",CMS_Downtime!B403)","v":""},{"$f":"IF(CMS_Downtime!$F403=\"\",\"\",CMS_Downtime!C403)","v":""},{"$f":"IF(CMS_Downtime!$F403=\"\",\"\",CMS_Downtime!D403)","v":""},{"$f":"IF(CMS_Downtime!$F403=\"\",\"\",CMS_Downtime!E403)","v":""},"",{"$f":"IF(COUNTIF(G$2:G382,G382)=1,G382,\"\")","v":""},"","","","","",{"$f":"IF(I382=\"\",\"\",VLOOKUP(I382,List_CMS!$L$3:$Q$79,6,FALSE))","v":""}]
[{"$f":"+IF(H383=\"\",\"\",MAX(A$1:A382)+1)","v":""},{"$f":"IF(CMS_Downtime!F404=\"\",\"\",CMS_Downtime!F404)","v":""},{"$f":"IF(CMS_Downtime!$F404=\"\",\"\",CMS_Downtime!B404)","v":""},{"$f":"IF(CMS_Downtime!$F404=\"\",\"\",CMS_Downtime!C404)","v":""},{"$f":"IF(CMS_Downtime!$F404=\"\",\"\",CMS_Downtime!D404)","v":""},{"$f":"IF(CMS_Downtime!$F404=\"\",\"\",CMS_Downtime!E404)","v":""},"",{"$f":"IF(COUNTIF(G$2:G383,G383)=1,G383,\"\")","v":""},"","","","","",{"$f":"IF(I383=\"\",\"\",VLOOKUP(I383,List_CMS!$L$3:$Q$79,6,FALSE))","v":""}]
[{"$f":"+IF(H384=\"\",\"\",MAX(A$1:A383)+1)","v":""},{"$f":"IF(CMS_Downtime!F405=\"\",\"\",CMS_Downtime!F405)","v":""},{"$f":"IF(CMS_Downtime!$F405=\"\",\"\",CMS_Downtime!B405)","v":""},{"$f":"IF(CMS_Downtime!$F405=\"\",\"\",CMS_Downtime!C405)","v":""},{"$f":"IF(CMS_Downtime!$F405=\"\",\"\",CMS_Downtime!D405)","v":""},{"$f":"IF(CMS_Downtime!$F405=\"\",\"\",CMS_Downtime!E405)","v":""},"",{"$f":"IF(COUNTIF(G$2:G384,G384)=1,G384,\"\")","v":""},"","","","","",{"$f":"IF(I384=\"\",\"\",VLOOKUP(I384,List_CMS!$L$3:$Q$79,6,FALSE))","v":""}]
[{"$f":"+IF(H385=\"\",\"\",MAX(A$1:A384)+1)","v":""},{"$f":"IF(CMS_Downtime!F406=\"\",\"\",CMS_Downtime!F406)","v":""},{"$f":"IF(CMS_Downtime!$F406=\"\",\"\",CMS_Downtime!B406)","v":""},{"$f":"IF(CMS_Downtime!$F406=\"\",\"\",CMS_Downtime!C406)","v":""},{"$f":"IF(CMS_Downtime!$F406=\"\",\"\",CMS_Downtime!D406)","v":""},{"$f":"IF(CMS_Downtime!$F406=\"\",\"\",CMS_Downtime!E406)","v":""},"",{"$f":"IF(COUNTIF(G$2:G385,G385)=1,G385,\"\")","v":""},"","","","","",{"$f":"IF(I385=\"\",\"\",VLOOKUP(I385,List_CMS!$L$3:$Q$79,6,FALSE))","v":""}]
[{"$f":"+IF(H386=\"\",\"\",MAX(A$1:A385)+1)","v":""},{"$f":"IF(CMS_Downtime!F407=\"\",\"\",CMS_Downtime!F407)","v":""},{"$f":"IF(CMS_Downtime!$F407=\"\",\"\",CMS_Downtime!B407)","v":""},{"$f":"IF(CMS_Downtime!$F407=\"\",\"\",CMS_Downtime!C407)","v":""},{"$f":"IF(CMS_Downtime!$F407=\"\",\"\",CMS_Downtime!D407)","v":""},{"$f":"IF(CMS_Downtime!$F407=\"\",\"\",CMS_Downtime!E407)","v":""},"",{"$f":"IF(COUNTIF(G$2:G386,G386)=1,G386,\"\")","v":""},"","","","","",{"$f":"IF(I386=\"\",\"\",VLOOKUP(I386,List_CMS!$L$3:$Q$79,6,FALSE))","v":""}]
[{"$f":"+IF(H387=\"\",\"\",MAX(A$1:A386)+1)","v":""},{"$f":"IF(CMS_Downtime!F408=\"\",\"\",CMS_Downtime!F408)","v":""},{"$f":"IF(CMS_Downtime!$F408=\"\",\"\",CMS_Downtime!B408)","v":""},{"$f":"IF(CMS_Downtime!$F408=\"\",\"\",CMS_Downtime!C408)","v":""},{"$f":"IF(CMS_Downtime!$F408=\"\",\"\",CMS_Downtime!D408)","v":""},{"$f":"IF(CMS_Downtime!$F408=\"\",\"\",CMS_Downtime!E408)","v":""},"",{"$f":"IF(COUNTIF(G$2:G387,G387)=1,G387,\"\")","v":""},{"$f":"+IFERROR(INDEX($H$2:$H$499,MATCH(ROW()-ROW($I$2),$A$2:$A$499,0)),\"\")","v":""},"","","","",{"$f":"IF(I387=\"\",\"\",VLOOKUP(I387,List_CMS!$L$3:$Q$79,6,FALSE))","v":""}]
[{"$f":"+IF(H388=\"\",\"\",MAX(A$1:A387)+1)","v":""},{"$f":"IF(CMS_Downtime!F409=\"\",\"\",CMS_Downtime!F409)","v":""},{"$f":"IF(CMS_Downtime!$F409=\"\",\"\",CMS_Downtime!B409)","v":""},{"$f":"IF(CMS_Downtime!$F409=\"\",\"\",CMS_Downtime!C409)","v":""},{"$f":"IF(CMS_Downtime!$F409=\"\",\"\",CMS_Downtime!D409)","v":""},{"$f":"IF(CMS_Downtime!$F409=\"\",\"\",CMS_Downtime!E409)","v":""},{"$f":"IF(B388=\"\",\"\",C388&\" - \"&D388&\" - \"&F388)","v":""},{"$f":"IF(COUNTIF(G$2:G388,G388)=1,G388,\"\")","v":""},"",{"$f":"+IFERROR(INDEX(C$2:C$499,MATCH(ROW()-ROW($I$2),$A$2:$A$499,0)),\"\")","v":""},{"$f":"+IFERROR(INDEX(D$2:D$499,MATCH(ROW()-ROW($I$2),$A$2:$A$499,0)),\"\")","v":""},{"$f":"+IFERROR(INDEX(E$2:E$499,MATCH(ROW()-ROW($I$2),$A$2:$A$499,0)),\"\")","v":""},{"$f":"+IFERROR(INDEX(F$2:F$499,MATCH(ROW()-ROW($I$2),$A$2:$A$499,0)),\"\")","v":""},{"$f":"IF(I388=\"\",\"\",VLOOKUP(I388,List_CMS!$L$3:$Q$79,6,FALSE))","v":""}]
[{"$f":"+IF(H389=\"\",\"\",MAX(A$1:A388)+1)","v":""},{"$f":"IF(CMS_Downtime!F410=\"\",\"\",CMS_Downtime!F410)","v":""},{"$f":"IF(CMS_Downtime!$F410=\"\",\"\",CMS_Downtime!B410)","v":""},{"$f":"IF(CMS_Downtime!$F410=\"\",\"\",CMS_Downtime!C410)","v":""},{"$f":"IF(CMS_Downtime!$F410=\"\",\"\",CMS_Downtime!D410)","v":""},{"$f":"IF(CMS_Downtime!$F410=\"\",\"\",CMS_Downtime!E410)","v":""},"",{"$f":"IF(COUNTIF(G$2:G389,G389)=1,G389,\"\")","v":""},"","","","","",{"$f":"IF(I389=\"\",\"\",VLOOKUP(I389,List_CMS!$L$3:$Q$79,6,FALSE))","v":""}]
[{"$f":"+IF(H390=\"\",\"\",MAX(A$1:A389)+1)","v":""},{"$f":"IF(CMS_Downtime!F411=\"\",\"\",CMS_Downtime!F411)","v":""},{"$f":"IF(CMS_Downtime!$F411=\"\",\"\",CMS_Downtime!B411)","v":""},{"$f":"IF(CMS_Downtime!$F411=\"\",\"\",CMS_Downtime!C411)","v":""},{"$f":"IF(CMS_Downtime!$F411=\"\",\"\",CMS_Downtime!D411)","v":""},{"$f":"IF(CMS_Downtime!$F411=\"\",\"\",CMS_Downtime!E411)","v":""},"",{"$f":"IF(COUNTIF(G$2:G390,G390)=1,G390,\"\")","v":""},"","","","","",{"$f":"IF(I390=\"\",\"\",VLOOKUP(I390,List_CMS!$L$3:$Q$79,6,FALSE))","v":""}]
[{"$f":"+IF(H391=\"\",\"\",MAX(A$1:A390)+1)","v":""},{"$f":"IF(CMS_Downtime!F412=\"\",\"\",CMS_Downtime!F412)","v":""},{"$f":"IF(CMS_Downtime!$F412=\"\",\"\",CMS_Downtime!B412)","v":""},{"$f":"IF(CMS_Downtime!$F412=\"\",\"\",CMS_Downtime!C412)","v":""},{"$f":"IF(CMS_Downtime!$F412=\"\",\"\",CMS_Downtime!D412)","v":""},{"$f":"IF(CMS_Downtime!$F412=\"\",\"\",CMS_Downtime!E412)","v":""},"",{"$f":"IF(COUNTIF(G$2:G391,G391)=1,G391,\"\")","v":""},"","","","","",{"$f":"IF(I391=\"\",\"\",VLOOKUP(I391,List_CMS!$L$3:$Q$79,6,FALSE))","v":""}]
[{"$f":"+IF(H392=\"\",\"\",MAX(A$1:A391)+1)","v":""},{"$f":"IF(CMS_Downtime!F413=\"\",\"\",CMS_Downtime!F413)","v":""},{"$f":"IF(CMS_Downtime!$F413=\"\",\"\",CMS_Downtime!B413)","v":""},{"$f":"IF(CMS_Downtime!$F413=\"\",\"\",CMS_Downtime!C413)","v":""},{"$f":"IF(CMS_Downtime!$F413=\"\",\"\",CMS_Downtime!D413)","v":""},{"$f":"IF(CMS_Downtime!$F413=\"\",\"\",CMS_Downtime!E413)","v":""},"",{"$f":"IF(COUNTIF(G$2:G392,G392)=1,G392,\"\")","v":""},"","","","","",{"$f":"IF(I392=\"\",\"\",VLOOKUP(I392,List_CMS!$L$3:$Q$79,6,FALSE))","v":""}]
[{"$f":"+IF(H393=\"\",\"\",MAX(A$1:A392)+1)","v":""},{"$f":"IF(CMS_Downtime!F414=\"\",\"\",CMS_Downtime!F414)","v":""},{"$f":"IF(CMS_Downtime!$F414=\"\",\"\",CMS_Downtime!B414)","v":""},{"$f":"IF(CMS_Downtime!$F414=\"\",\"\",CMS_Downtime!C414)","v":""},{"$f":"IF(CMS_Downtime!$F414=\"\",\"\",CMS_Downtime!D414)","v":""},{"$f":"IF(CMS_Downtime!$F414=\"\",\"\",CMS_Downtime!E414)","v":""},"",{"$f":"IF(COUNTIF(G$2:G393,G393)=1,G393,\"\")","v":""},"","","","","",{"$f":"IF(I393=\"\",\"\",VLOOKUP(I393,List_CMS!$L$3:$Q$79,6,FALSE))","v":""}]
[{"$f":"+IF(H394=\"\",\"\",MAX(A$1:A393)+1)","v":""},{"$f":"IF(CMS_Downtime!F415=\"\",\"\",CMS_Downtime!F415)","v":""},{"$f":"IF(CMS_Downtime!$F415=\"\",\"\",CMS_Downtime!B415)","v":""},{"$f":"IF(CMS_Downtime!$F415=\"\",\"\",CMS_Downtime!C415)","v":""},{"$f":"IF(CMS_Downtime!$F415=\"\",\"\",CMS_Downtime!D415)","v":""},{"$f":"IF(CMS_Downtime!$F415=\"\",\"\",CMS_Downtime!E415)","v":""},"",{"$f":"IF(COUNTIF(G$2:G394,G394)=1,G394,\"\")","v":""},"","","","","",{"$f":"IF(I394=\"\",\"\",VLOOKUP(I394,List_CMS!$L$3:$Q$79,6,FALSE))","v":""}]
[{"$f":"+IF(H395=\"\",\"\",MAX(A$1:A394)+1)","v":""},{"$f":"IF(CMS_Downtime!F416=\"\",\"\",CMS_Downtime!F416)","v":""},{"$f":"IF(CMS_Downtime!$F416=\"\",\"\",CMS_Downtime!B416)","v":""},{"$f":"IF(CMS_Downtime!$F416=\"\",\"\",CMS_Downtime!C416)","v":""},{"$f":"IF(CMS_Downtime!$F416=\"\",\"\",CMS_Downtime!D416)","v":""},{"$f":"IF(CMS_Downtime!$F416=\"\",\"\",CMS_Downtime!E416)","v":""},"",{"$f":"IF(COUNTIF(G$2:G395,G395)=1,G395,\"\")","v":""},"","","","","",{"$f":"IF(I395=\"\",\"\",VLOOKUP(I395,List_CMS!$L$3:$Q$79,6,FALSE))","v":""}]
[{"$f":"+IF(H396=\"\",\"\",MAX(A$1:A395)+1)","v":""},{"$f":"IF(CMS_Downtime!F417=\"\",\"\",CMS_Downtime!F417)","v":""},{"$f":"IF(CMS_Downtime!$F417=\"\",\"\",CMS_Downtime!B417)","v":""},{"$f":"IF(CMS_Downtime!$F417=\"\",\"\",CMS_Downtime!C417)","v":""},{"$f":"IF(CMS_Downtime!$F417=\"\",\"\",CMS_Downtime!D417)","v":""},{"$f":"IF(CMS_Downtime!$F417=\"\",\"\",CMS_Downtime!E417)","v":""},"",{"$f":"IF(COUNTIF(G$2:G396,G396)=1,G396,\"\")","v":""},"","","","","",{"$f":"IF(I396=\"\",\"\",VLOOKUP(I396,List_CMS!$L$3:$Q$79,6,FALSE))","v":""}]
[{"$f":"+IF(H397=\"\",\"\",MAX(A$1:A396)+1)","v":""},{"$f":"IF(CMS_Downtime!F418=\"\",\"\",CMS_Downtime!F418)","v":""},{"$f":"IF(CMS_Downtime!$F418=\"\",\"\",CMS_Downtime!B418)","v":""},{"$f":"IF(CMS_Downtime!$F418=\"\",\"\",CMS_Downtime!C418)","v":""},{"$f":"IF(CMS_Downtime!$F418=\"\",\"\",CMS_Downtime!D418)","v":""},{"$f":"IF(CMS_Downtime!$F418=\"\",\"\",CMS_Downtime!E418)","v":""},"",{"$f":"IF(COUNTIF(G$2:G397,G397)=1,G397,\"\")","v":""},"","","","","",{"$f":"IF(I397=\"\",\"\",VLOOKUP(I397,List_CMS!$L$3:$Q$79,6,FALSE))","v":""}]
[{"$f":"+IF(H398=\"\",\"\",MAX(A$1:A397)+1)","v":""},{"$f":"IF(CMS_Downtime!F419=\"\",\"\",CMS_Downtime!F419)","v":""},{"$f":"IF(CMS_Downtime!$F419=\"\",\"\",CMS_Downtime!B419)","v":""},{"$f":"IF(CMS_Downtime!$F419=\"\",\"\",CMS_Downtime!C419)","v":""},{"$f":"IF(CMS_Downtime!$F419=\"\",\"\",CMS_Downtime!D419)","v":""},{"$f":"IF(CMS_Downtime!$F419=\"\",\"\",CMS_Downtime!E419)","v":""},"",{"$f":"IF(COUNTIF(G$2:G398,G398)=1,G398,\"\")","v":""},"","","","","",{"$f":"IF(I398=\"\",\"\",VLOOKUP(I398,List_CMS!$L$3:$Q$79,6,FALSE))","v":""}]
[{"$f":"+IF(H399=\"\",\"\",MAX(A$1:A398)+1)","v":""},{"$f":"IF(CMS_Downtime!F420=\"\",\"\",CMS_Downtime!F420)","v":""},{"$f":"IF(CMS_Downtime!$F420=\"\",\"\",CMS_Downtime!B420)","v":""},{"$f":"IF(CMS_Downtime!$F420=\"\",\"\",CMS_Downtime!C420)","v":""},{"$f":"IF(CMS_Downtime!$F420=\"\",\"\",CMS_Downtime!D420)","v":""},{"$f":"IF(CMS_Downtime!$F420=\"\",\"\",CMS_Downtime!E420)","v":""},"",{"$f":"IF(COUNTIF(G$2:G399,G399)=1,G399,\"\")","v":""},"","","","","",{"$f":"IF(I399=\"\",\"\",VLOOKUP(I399,List_CMS!$L$3:$Q$79,6,FALSE))","v":""}]
[{"$f":"+IF(H400=\"\",\"\",MAX(A$1:A399)+1)","v":""},{"$f":"IF(CMS_Downtime!F421=\"\",\"\",CMS_Downtime!F421)","v":""},{"$f":"IF(CMS_Downtime!$F421=\"\",\"\",CMS_Downtime!B421)","v":""},{"$f":"IF(CMS_Downtime!$F421=\"\",\"\",CMS_Downtime!C421)","v":""},{"$f":"IF(CMS_Downtime!$F421=\"\",\"\",CMS_Downtime!D421)","v":""},{"$f":"IF(CMS_Downtime!$F421=\"\",\"\",CMS_Downtime!E421)","v":""},"",{"$f":"IF(COUNTIF(G$2:G400,G400)=1,G400,\"\")","v":""},"","","","","",{"$f":"IF(I400=\"\",\"\",VLOOKUP(I400,List_CMS!$L$3:$Q$79,6,FALSE))","v":""}]
[{"$f":"+IF(H401=\"\",\"\",MAX(A$1:A400)+1)","v":""},{"$f":"IF(CMS_Downtime!F422=\"\",\"\",CMS_Downtime!F422)","v":""},{"$f":"IF(CMS_Downtime!$F422=\"\",\"\",CMS_Downtime!B422)","v":""},{"$f":"IF(CMS_Downtime!$F422=\"\",\"\",CMS_Downtime!C422)","v":""},{"$f":"IF(CMS_Downtime!$F422=\"\",\"\",CMS_Downtime!D422)","v":""},{"$f":"IF(CMS_Downtime!$F422=\"\",\"\",CMS_Downtime!E422)","v":""},"",{"$f":"IF(COUNTIF(G$2:G401,G401)=1,G401,\"\")","v":""},"","","","","",{"$f":"IF(I401=\"\",\"\",VLOOKUP(I401,List_CMS!$L$3:$Q$79,6,FALSE))","v":""}]
[{"$f":"+IF(H402=\"\",\"\",MAX(A$1:A401)+1)","v":""},{"$f":"IF(CMS_Downtime!F423=\"\",\"\",CMS_Downtime!F423)","v":""},{"$f":"IF(CMS_Downtime!$F423=\"\",\"\",CMS_Downtime!B423)","v":""},{"$f":"IF(CMS_Downtime!$F423=\"\",\"\",CMS_Downtime!C423)","v":""},{"$f":"IF(CMS_Downtime!$F423=\"\",\"\",CMS_Downtime!D423)","v":""},{"$f":"IF(CMS_Downtime!$F423=\"\",\"\",CMS_Downtime!E423)","v":""},"",{"$f":"IF(COUNTIF(G$2:G402,G402)=1,G402,\"\")","v":""},"","","","","",{"$f":"IF(I402=\"\",\"\",VLOOKUP(I402,List_CMS!$L$3:$Q$79,6,FALSE))","v":""}]
[{"$f":"+IF(H403=\"\",\"\",MAX(A$1:A402)+1)","v":""},{"$f":"IF(CMS_Downtime!F424=\"\",\"\",CMS_Downtime!F424)","v":""},{"$f":"IF(CMS_Downtime!$F424=\"\",\"\",CMS_Downtime!B424)","v":""},{"$f":"IF(CMS_Downtime!$F424=\"\",\"\",CMS_Downtime!C424)","v":""},{"$f":"IF(CMS_Downtime!$F424=\"\",\"\",CMS_Downtime!D424)","v":""},{"$f":"IF(CMS_Downtime!$F424=\"\",\"\",CMS_Downtime!E424)","v":""},"",{"$f":"IF(COUNTIF(G$2:G403,G403)=1,G403,\"\")","v":""},"","","","","",{"$f":"IF(I403=\"\",\"\",VLOOKUP(I403,List_CMS!$L$3:$Q$79,6,FALSE))","v":""}]
[{"$f":"+IF(H404=\"\",\"\",MAX(A$1:A403)+1)","v":""},{"$f":"IF(CMS_Downtime!F425=\"\",\"\",CMS_Downtime!F425)","v":""},{"$f":"IF(CMS_Downtime!$F425=\"\",\"\",CMS_Downtime!B425)","v":""},{"$f":"IF(CMS_Downtime!$F425=\"\",\"\",CMS_Downtime!C425)","v":""},{"$f":"IF(CMS_Downtime!$F425=\"\",\"\",CMS_Downtime!D425)","v":""},{"$f":"IF(CMS_Downtime!$F425=\"\",\"\",CMS_Downtime!E425)","v":""},"",{"$f":"IF(COUNTIF(G$2:G404,G404)=1,G404,\"\")","v":""},"","","","","",{"$f":"IF(I404=\"\",\"\",VLOOKUP(I404,List_CMS!$L$3:$Q$79,6,FALSE))","v":""}]
[{"$f":"+IF(H405=\"\",\"\",MAX(A$1:A404)+1)","v":""},{"$f":"IF(CMS_Downtime!F426=\"\",\"\",CMS_Downtime!F426)","v":""},{"$f":"IF(CMS_Downtime!$F426=\"\",\"\",CMS_Downtime!B426)","v":""},{"$f":"IF(CMS_Downtime!$F426=\"\",\"\",CMS_Downtime!C426)","v":""},{"$f":"IF(CMS_Downtime!$F426=\"\",\"\",CMS_Downtime!D426)","v":""},{"$f":"IF(CMS_Downtime!$F426=\"\",\"\",CMS_Downtime!E426)","v":""},"",{"$f":"IF(COUNTIF(G$2:G405,G405)=1,G405,\"\")","v":""},"","","","","",{"$f":"IF(I405=\"\",\"\",VLOOKUP(I405,List_CMS!$L$3:$Q$79,6,FALSE))","v":""}]
[{"$f":"+IF(H406=\"\",\"\",MAX(A$1:A405)+1)","v":""},{"$f":"IF(CMS_Downtime!F427=\"\",\"\",CMS_Downtime!F427)","v":""},{"$f":"IF(CMS_Downtime!$F427=\"\",\"\",CMS_Downtime!B427)","v":""},{"$f":"IF(CMS_Downtime!$F427=\"\",\"\",CMS_Downtime!C427)","v":""},{"$f":"IF(CMS_Downtime!$F427=\"\",\"\",CMS_Downtime!D427)","v":""},{"$f":"IF(CMS_Downtime!$F427=\"\",\"\",CMS_Downtime!E427)","v":""},"",{"$f":"IF(COUNTIF(G$2:G406,G406)=1,G406,\"\")","v":""},"","","","","",{"$f":"IF(I406=\"\",\"\",VLOOKUP(I406,List_CMS!$L$3:$Q$79,6,FALSE))","v":""}]
[{"$f":"+IF(H407=\"\",\"\",MAX(A$1:A406)+1)","v":""},{"$f":"IF(CMS_Downtime!F428=\"\",\"\",CMS_Downtime!F428)","v":""},{"$f":"IF(CMS_Downtime!$F428=\"\",\"\",CMS_Downtime!B428)","v":""},{"$f":"IF(CMS_Downtime!$F428=\"\",\"\",CMS_Downtime!C428)","v":""},{"$f":"IF(CMS_Downtime!$F428=\"\",\"\",CMS_Downtime!D428)","v":""},{"$f":"IF(CMS_Downtime!$F428=\"\",\"\",CMS_Downtime!E428)","v":""},"",{"$f":"IF(COUNTIF(G$2:G407,G407)=1,G407,\"\")","v":""},"","","","","",{"$f":"IF(I407=\"\",\"\",VLOOKUP(I407,List_CMS!$L$3:$Q$79,6,FALSE))","v":""}]
[{"$f":"+IF(H408=\"\",\"\",MAX(A$1:A407)+1)","v":""},{"$f":"IF(CMS_Downtime!F429=\"\",\"\",CMS_Downtime!F429)","v":""},{"$f":"IF(CMS_Downtime!$F429=\"\",\"\",CMS_Downtime!B429)","v":""},{"$f":"IF(CMS_Downtime!$F429=\"\",\"\",CMS_Downtime!C429)","v":""},{"$f":"IF(CMS_Downtime!$F429=\"\",\"\",CMS_Downtime!D429)","v":""},{"$f":"IF(CMS_Downtime!$F429=\"\",\"\",CMS_Downtime!E429)","v":""},"",{"$f":"IF(COUNTIF(G$2:G408,G408)=1,G408,\"\")","v":""},"","","","","",{"$f":"IF(I408=\"\",\"\",VLOOKUP(I408,List_CMS!$L$3:$Q$79,6,FALSE))","v":""}]
[{"$f":"+IF(H409=\"\",\"\",MAX(A$1:A408)+1)","v":""},{"$f":"IF(CMS_Downtime!F430=\"\",\"\",CMS_Downtime!F430)","v":""},{"$f":"IF(CMS_Downtime!$F430=\"\",\"\",CMS_Downtime!B430)","v":""},{"$f":"IF(CMS_Downtime!$F430=\"\",\"\",CMS_Downtime!C430)","v":""},{"$f":"IF(CMS_Downtime!$F430=\"\",\"\",CMS_Downtime!D430)","v":""},{"$f":"IF(CMS_Downtime!$F430=\"\",\"\",CMS_Downtime!E430)","v":""},"",{"$f":"IF(COUNTIF(G$2:G409,G409)=1,G409,\"\")","v":""},"","","","","",{"$f":"IF(I409=\"\",\"\",VLOOKUP(I409,List_CMS!$L$3:$Q$79,6,FALSE))","v":""}]
[{"$f":"+IF(H410=\"\",\"\",MAX(A$1:A409)+1)","v":""},{"$f":"IF(CMS_Downtime!F431=\"\",\"\",CMS_Downtime!F431)","v":""},{"$f":"IF(CMS_Downtime!$F431=\"\",\"\",CMS_Downtime!B431)","v":""},{"$f":"IF(CMS_Downtime!$F431=\"\",\"\",CMS_Downtime!C431)","v":""},{"$f":"IF(CMS_Downtime!$F431=\"\",\"\",CMS_Downtime!D431)","v":""},{"$f":"IF(CMS_Downtime!$F431=\"\",\"\",CMS_Downtime!E431)","v":""},"",{"$f":"IF(COUNTIF(G$2:G410,G410)=1,G410,\"\")","v":""},"","","","","",{"$f":"IF(I410=\"\",\"\",VLOOKUP(I410,List_CMS!$L$3:$Q$79,6,FALSE))","v":""}]
[{"$f":"+IF(H411=\"\",\"\",MAX(A$1:A410)+1)","v":""},{"$f":"IF(CMS_Downtime!F432=\"\",\"\",CMS_Downtime!F432)","v":""},{"$f":"IF(CMS_Downtime!$F432=\"\",\"\",CMS_Downtime!B432)","v":""},{"$f":"IF(CMS_Downtime!$F432=\"\",\"\",CMS_Downtime!C432)","v":""},{"$f":"IF(CMS_Downtime!$F432=\"\",\"\",CMS_Downtime!D432)","v":""},{"$f":"IF(CMS_Downtime!$F432=\"\",\"\",CMS_Downtime!E432)","v":""},"",{"$f":"IF(COUNTIF(G$2:G411,G411)=1,G411,\"\")","v":""},"","","","","",{"$f":"IF(I411=\"\",\"\",VLOOKUP(I411,List_CMS!$L$3:$Q$79,6,FALSE))","v":""}]
[{"$f":"+IF(H412=\"\",\"\",MAX(A$1:A411)+1)","v":""},{"$f":"IF(CMS_Downtime!F433=\"\",\"\",CMS_Downtime!F433)","v":""},{"$f":"IF(CMS_Downtime!$F433=\"\",\"\",CMS_Downtime!B433)","v":""},{"$f":"IF(CMS_Downtime!$F433=\"\",\"\",CMS_Downtime!C433)","v":""},{"$f":"IF(CMS_Downtime!$F433=\"\",\"\",CMS_Downtime!D433)","v":""},{"$f":"IF(CMS_Downtime!$F433=\"\",\"\",CMS_Downtime!E433)","v":""},"",{"$f":"IF(COUNTIF(G$2:G412,G412)=1,G412,\"\")","v":""},"","","","","",{"$f":"IF(I412=\"\",\"\",VLOOKUP(I412,List_CMS!$L$3:$Q$79,6,FALSE))","v":""}]
[{"$f":"+IF(H413=\"\",\"\",MAX(A$1:A412)+1)","v":""},{"$f":"IF(CMS_Downtime!F434=\"\",\"\",CMS_Downtime!F434)","v":""},{"$f":"IF(CMS_Downtime!$F434=\"\",\"\",CMS_Downtime!B434)","v":""},{"$f":"IF(CMS_Downtime!$F434=\"\",\"\",CMS_Downtime!C434)","v":""},{"$f":"IF(CMS_Downtime!$F434=\"\",\"\",CMS_Downtime!D434)","v":""},{"$f":"IF(CMS_Downtime!$F434=\"\",\"\",CMS_Downtime!E434)","v":""},"",{"$f":"IF(COUNTIF(G$2:G413,G413)=1,G413,\"\")","v":""},"","","","","",{"$f":"IF(I413=\"\",\"\",VLOOKUP(I413,List_CMS!$L$3:$Q$79,6,FALSE))","v":""}]
[{"$f":"+IF(H414=\"\",\"\",MAX(A$1:A413)+1)","v":""},{"$f":"IF(CMS_Downtime!F435=\"\",\"\",CMS_Downtime!F435)","v":""},{"$f":"IF(CMS_Downtime!$F435=\"\",\"\",CMS_Downtime!B435)","v":""},{"$f":"IF(CMS_Downtime!$F435=\"\",\"\",CMS_Downtime!C435)","v":""},{"$f":"IF(CMS_Downtime!$F435=\"\",\"\",CMS_Downtime!D435)","v":""},{"$f":"IF(CMS_Downtime!$F435=\"\",\"\",CMS_Downtime!E435)","v":""},"",{"$f":"IF(COUNTIF(G$2:G414,G414)=1,G414,\"\")","v":""},"","","","","",{"$f":"IF(I414=\"\",\"\",VLOOKUP(I414,List_CMS!$L$3:$Q$79,6,FALSE))","v":""}]
[{"$f":"+IF(H415=\"\",\"\",MAX(A$1:A414)+1)","v":""},{"$f":"IF(CMS_Downtime!F436=\"\",\"\",CMS_Downtime!F436)","v":""},{"$f":"IF(CMS_Downtime!$F436=\"\",\"\",CMS_Downtime!B436)","v":""},{"$f":"IF(CMS_Downtime!$F436=\"\",\"\",CMS_Downtime!C436)","v":""},{"$f":"IF(CMS_Downtime!$F436=\"\",\"\",CMS_Downtime!D436)","v":""},{"$f":"IF(CMS_Downtime!$F436=\"\",\"\",CMS_Downtime!E436)","v":""},"",{"$f":"IF(COUNTIF(G$2:G415,G415)=1,G415,\"\")","v":""},"","","","","",{"$f":"IF(I415=\"\",\"\",VLOOKUP(I415,List_CMS!$L$3:$Q$79,6,FALSE))","v":""}]
[{"$f":"+IF(H416=\"\",\"\",MAX(A$1:A415)+1)","v":""},{"$f":"IF(CMS_Downtime!F437=\"\",\"\",CMS_Downtime!F437)","v":""},{"$f":"IF(CMS_Downtime!$F437=\"\",\"\",CMS_Downtime!B437)","v":""},{"$f":"IF(CMS_Downtime!$F437=\"\",\"\",CMS_Downtime!C437)","v":""},{"$f":"IF(CMS_Downtime!$F437=\"\",\"\",CMS_Downtime!D437)","v":""},{"$f":"IF(CMS_Downtime!$F437=\"\",\"\",CMS_Downtime!E437)","v":""},"",{"$f":"IF(COUNTIF(G$2:G416,G416)=1,G416,\"\")","v":""},"","","","","",{"$f":"IF(I416=\"\",\"\",VLOOKUP(I416,List_CMS!$L$3:$Q$79,6,FALSE))","v":""}]
[{"$f":"+IF(H417=\"\",\"\",MAX(A$1:A416)+1)","v":""},{"$f":"IF(CMS_Downtime!F438=\"\",\"\",CMS_Downtime!F438)","v":""},{"$f":"IF(CMS_Downtime!$F438=\"\",\"\",CMS_Downtime!B438)","v":""},{"$f":"IF(CMS_Downtime!$F438=\"\",\"\",CMS_Downtime!C438)","v":""},{"$f":"IF(CMS_Downtime!$F438=\"\",\"\",CMS_Downtime!D438)","v":""},{"$f":"IF(CMS_Downtime!$F438=\"\",\"\",CMS_Downtime!E438)","v":""},"",{"$f":"IF(COUNTIF(G$2:G417,G417)=1,G417,\"\")","v":""},"","","","","",{"$f":"IF(I417=\"\",\"\",VLOOKUP(I417,List_CMS!$L$3:$Q$79,6,FALSE))","v":""}]
[{"$f":"+IF(H418=\"\",\"\",MAX(A$1:A417)+1)","v":""},{"$f":"IF(CMS_Downtime!F439=\"\",\"\",CMS_Downtime!F439)","v":""},{"$f":"IF(CMS_Downtime!$F439=\"\",\"\",CMS_Downtime!B439)","v":""},{"$f":"IF(CMS_Downtime!$F439=\"\",\"\",CMS_Downtime!C439)","v":""},{"$f":"IF(CMS_Downtime!$F439=\"\",\"\",CMS_Downtime!D439)","v":""},{"$f":"IF(CMS_Downtime!$F439=\"\",\"\",CMS_Downtime!E439)","v":""},"",{"$f":"IF(COUNTIF(G$2:G418,G418)=1,G418,\"\")","v":""},"","","","","",{"$f":"IF(I418=\"\",\"\",VLOOKUP(I418,List_CMS!$L$3:$Q$79,6,FALSE))","v":""}]
[{"$f":"+IF(H419=\"\",\"\",MAX(A$1:A418)+1)","v":""},{"$f":"IF(CMS_Downtime!F440=\"\",\"\",CMS_Downtime!F440)","v":""},{"$f":"IF(CMS_Downtime!$F440=\"\",\"\",CMS_Downtime!B440)","v":""},{"$f":"IF(CMS_Downtime!$F440=\"\",\"\",CMS_Downtime!C440)","v":""},{"$f":"IF(CMS_Downtime!$F440=\"\",\"\",CMS_Downtime!D440)","v":""},{"$f":"IF(CMS_Downtime!$F440=\"\",\"\",CMS_Downtime!E440)","v":""},"",{"$f":"IF(COUNTIF(G$2:G419,G419)=1,G419,\"\")","v":""},"","","","","",{"$f":"IF(I419=\"\",\"\",VLOOKUP(I419,List_CMS!$L$3:$Q$79,6,FALSE))","v":""}]
[{"$f":"+IF(H420=\"\",\"\",MAX(A$1:A419)+1)","v":""},{"$f":"IF(CMS_Downtime!F441=\"\",\"\",CMS_Downtime!F441)","v":""},{"$f":"IF(CMS_Downtime!$F441=\"\",\"\",CMS_Downtime!B441)","v":""},{"$f":"IF(CMS_Downtime!$F441=\"\",\"\",CMS_Downtime!C441)","v":""},{"$f":"IF(CMS_Downtime!$F441=\"\",\"\",CMS_Downtime!D441)","v":""},{"$f":"IF(CMS_Downtime!$F441=\"\",\"\",CMS_Downtime!E441)","v":""},"",{"$f":"IF(COUNTIF(G$2:G420,G420)=1,G420,\"\")","v":""},"","","","","",{"$f":"IF(I420=\"\",\"\",VLOOKUP(I420,List_CMS!$L$3:$Q$79,6,FALSE))","v":""}]
[{"$f":"+IF(H421=\"\",\"\",MAX(A$1:A420)+1)","v":""},{"$f":"IF(CMS_Downtime!F442=\"\",\"\",CMS_Downtime!F442)","v":""},{"$f":"IF(CMS_Downtime!$F442=\"\",\"\",CMS_Downtime!B442)","v":""},{"$f":"IF(CMS_Downtime!$F442=\"\",\"\",CMS_Downtime!C442)","v":""},{"$f":"IF(CMS_Downtime!$F442=\"\",\"\",CMS_Downtime!D442)","v":""},{"$f":"IF(CMS_Downtime!$F442=\"\",\"\",CMS_Downtime!E442)","v":""},"",{"$f":"IF(COUNTIF(G$2:G421,G421)=1,G421,\"\")","v":""},"","","","","",{"$f":"IF(I421=\"\",\"\",VLOOKUP(I421,List_CMS!$L$3:$Q$79,6,FALSE))","v":""}]
[{"$f":"+IF(H422=\"\",\"\",MAX(A$1:A421)+1)","v":""},{"$f":"IF(CMS_Downtime!F443=\"\",\"\",CMS_Downtime!F443)","v":""},{"$f":"IF(CMS_Downtime!$F443=\"\",\"\",CMS_Downtime!B443)","v":""},{"$f":"IF(CMS_Downtime!$F443=\"\",\"\",CMS_Downtime!C443)","v":""},{"$f":"IF(CMS_Downtime!$F443=\"\",\"\",CMS_Downtime!D443)","v":""},{"$f":"IF(CMS_Downtime!$F443=\"\",\"\",CMS_Downtime!E443)","v":""},"",{"$f":"IF(COUNTIF(G$2:G422,G422)=1,G422,\"\")","v":""},"","","","","",{"$f":"IF(I422=\"\",\"\",VLOOKUP(I422,List_CMS!$L$3:$Q$79,6,FALSE))","v":""}]
[{"$f":"+IF(H423=\"\",\"\",MAX(A$1:A422)+1)","v":""},{"$f":"IF(CMS_Downtime!F444=\"\",\"\",CMS_Downtime!F444)","v":""},{"$f":"IF(CMS_Downtime!$F444=\"\",\"\",CMS_Downtime!B444)","v":""},{"$f":"IF(CMS_Downtime!$F444=\"\",\"\",CMS_Downtime!C444)","v":""},{"$f":"IF(CMS_Downtime!$F444=\"\",\"\",CMS_Downtime!D444)","v":""},{"$f":"IF(CMS_Downtime!$F444=\"\",\"\",CMS_Downtime!E444)","v":""},"",{"$f":"IF(COUNTIF(G$2:G423,G423)=1,G423,\"\")","v":""},"","","","","",{"$f":"IF(I423=\"\",\"\",VLOOKUP(I423,List_CMS!$L$3:$Q$79,6,FALSE))","v":""}]
[{"$f":"+IF(H424=\"\",\"\",MAX(A$1:A423)+1)","v":""},{"$f":"IF(CMS_Downtime!F445=\"\",\"\",CMS_Downtime!F445)","v":""},{"$f":"IF(CMS_Downtime!$F445=\"\",\"\",CMS_Downtime!B445)","v":""},{"$f":"IF(CMS_Downtime!$F445=\"\",\"\",CMS_Downtime!C445)","v":""},{"$f":"IF(CMS_Downtime!$F445=\"\",\"\",CMS_Downtime!D445)","v":""},{"$f":"IF(CMS_Downtime!$F445=\"\",\"\",CMS_Downtime!E445)","v":""},"",{"$f":"IF(COUNTIF(G$2:G424,G424)=1,G424,\"\")","v":""},"","","","","",{"$f":"IF(I424=\"\",\"\",VLOOKUP(I424,List_CMS!$L$3:$Q$79,6,FALSE))","v":""}]
[{"$f":"+IF(H425=\"\",\"\",MAX(A$1:A424)+1)","v":""},{"$f":"IF(CMS_Downtime!F446=\"\",\"\",CMS_Downtime!F446)","v":""},{"$f":"IF(CMS_Downtime!$F446=\"\",\"\",CMS_Downtime!B446)","v":""},{"$f":"IF(CMS_Downtime!$F446=\"\",\"\",CMS_Downtime!C446)","v":""},{"$f":"IF(CMS_Downtime!$F446=\"\",\"\",CMS_Downtime!D446)","v":""},{"$f":"IF(CMS_Downtime!$F446=\"\",\"\",CMS_Downtime!E446)","v":""},"",{"$f":"IF(COUNTIF(G$2:G425,G425)=1,G425,\"\")","v":""},"","","","","",{"$f":"IF(I425=\"\",\"\",VLOOKUP(I425,List_CMS!$L$3:$Q$79,6,FALSE))","v":""}]
[{"$f":"+IF(H426=\"\",\"\",MAX(A$1:A425)+1)","v":""},{"$f":"IF(CMS_Downtime!F447=\"\",\"\",CMS_Downtime!F447)","v":""},{"$f":"IF(CMS_Downtime!$F447=\"\",\"\",CMS_Downtime!B447)","v":""},{"$f":"IF(CMS_Downtime!$F447=\"\",\"\",CMS_Downtime!C447)","v":""},{"$f":"IF(CMS_Downtime!$F447=\"\",\"\",CMS_Downtime!D447)","v":""},{"$f":"IF(CMS_Downtime!$F447=\"\",\"\",CMS_Downtime!E447)","v":""},"",{"$f":"IF(COUNTIF(G$2:G426,G426)=1,G426,\"\")","v":""},"","","","","",{"$f":"IF(I426=\"\",\"\",VLOOKUP(I426,List_CMS!$L$3:$Q$79,6,FALSE))","v":""}]
[{"$f":"+IF(H427=\"\",\"\",MAX(A$1:A426)+1)","v":""},{"$f":"IF(CMS_Downtime!F448=\"\",\"\",CMS_Downtime!F448)","v":""},{"$f":"IF(CMS_Downtime!$F448=\"\",\"\",CMS_Downtime!B448)","v":""},{"$f":"IF(CMS_Downtime!$F448=\"\",\"\",CMS_Downtime!C448)","v":""},{"$f":"IF(CMS_Downtime!$F448=\"\",\"\",CMS_Downtime!D448)","v":""},{"$f":"IF(CMS_Downtime!$F448=\"\",\"\",CMS_Downtime!E448)","v":""},"",{"$f":"IF(COUNTIF(G$2:G427,G427)=1,G427,\"\")","v":""},"","","","","",{"$f":"IF(I427=\"\",\"\",VLOOKUP(I427,List_CMS!$L$3:$Q$79,6,FALSE))","v":""}]
[{"$f":"+IF(H428=\"\",\"\",MAX(A$1:A427)+1)","v":""},{"$f":"IF(CMS_Downtime!F449=\"\",\"\",CMS_Downtime!F449)","v":""},{"$f":"IF(CMS_Downtime!$F449=\"\",\"\",CMS_Downtime!B449)","v":""},{"$f":"IF(CMS_Downtime!$F449=\"\",\"\",CMS_Downtime!C449)","v":""},{"$f":"IF(CMS_Downtime!$F449=\"\",\"\",CMS_Downtime!D449)","v":""},{"$f":"IF(CMS_Downtime!$F449=\"\",\"\",CMS_Downtime!E449)","v":""},"",{"$f":"IF(COUNTIF(G$2:G428,G428)=1,G428,\"\")","v":""},"","","","","",{"$f":"IF(I428=\"\",\"\",VLOOKUP(I428,List_CMS!$L$3:$Q$79,6,FALSE))","v":""}]
[{"$f":"+IF(H429=\"\",\"\",MAX(A$1:A428)+1)","v":""},{"$f":"IF(CMS_Downtime!F450=\"\",\"\",CMS_Downtime!F450)","v":""},{"$f":"IF(CMS_Downtime!$F450=\"\",\"\",CMS_Downtime!B450)","v":""},{"$f":"IF(CMS_Downtime!$F450=\"\",\"\",CMS_Downtime!C450)","v":""},{"$f":"IF(CMS_Downtime!$F450=\"\",\"\",CMS_Downtime!D450)","v":""},{"$f":"IF(CMS_Downtime!$F450=\"\",\"\",CMS_Downtime!E450)","v":""},"",{"$f":"IF(COUNTIF(G$2:G429,G429)=1,G429,\"\")","v":""},"","","","","",{"$f":"IF(I429=\"\",\"\",VLOOKUP(I429,List_CMS!$L$3:$Q$79,6,FALSE))","v":""}]
[{"$f":"+IF(H430=\"\",\"\",MAX(A$1:A429)+1)","v":""},{"$f":"IF(CMS_Downtime!F451=\"\",\"\",CMS_Downtime!F451)","v":""},{"$f":"IF(CMS_Downtime!$F451=\"\",\"\",CMS_Downtime!B451)","v":""},{"$f":"IF(CMS_Downtime!$F451=\"\",\"\",CMS_Downtime!C451)","v":""},{"$f":"IF(CMS_Downtime!$F451=\"\",\"\",CMS_Downtime!D451)","v":""},{"$f":"IF(CMS_Downtime!$F451=\"\",\"\",CMS_Downtime!E451)","v":""},"",{"$f":"IF(COUNTIF(G$2:G430,G430)=1,G430,\"\")","v":""},"","","","","",{"$f":"IF(I430=\"\",\"\",VLOOKUP(I430,List_CMS!$L$3:$Q$79,6,FALSE))","v":""}]
[{"$f":"+IF(H431=\"\",\"\",MAX(A$1:A430)+1)","v":""},{"$f":"IF(CMS_Downtime!F452=\"\",\"\",CMS_Downtime!F452)","v":""},{"$f":"IF(CMS_Downtime!$F452=\"\",\"\",CMS_Downtime!B452)","v":""},{"$f":"IF(CMS_Downtime!$F452=\"\",\"\",CMS_Downtime!C452)","v":""},{"$f":"IF(CMS_Downtime!$F452=\"\",\"\",CMS_Downtime!D452)","v":""},{"$f":"IF(CMS_Downtime!$F452=\"\",\"\",CMS_Downtime!E452)","v":""},"",{"$f":"IF(COUNTIF(G$2:G431,G431)=1,G431,\"\")","v":""},"","","","","",{"$f":"IF(I431=\"\",\"\",VLOOKUP(I431,List_CMS!$L$3:$Q$79,6,FALSE))","v":""}]
[{"$f":"+IF(H432=\"\",\"\",MAX(A$1:A431)+1)","v":""},{"$f":"IF(CMS_Downtime!F453=\"\",\"\",CMS_Downtime!F453)","v":""},{"$f":"IF(CMS_Downtime!$F453=\"\",\"\",CMS_Downtime!B453)","v":""},{"$f":"IF(CMS_Downtime!$F453=\"\",\"\",CMS_Downtime!C453)","v":""},{"$f":"IF(CMS_Downtime!$F453=\"\",\"\",CMS_Downtime!D453)","v":""},{"$f":"IF(CMS_Downtime!$F453=\"\",\"\",CMS_Downtime!E453)","v":""},"",{"$f":"IF(COUNTIF(G$2:G432,G432)=1,G432,\"\")","v":""},"","","","","",{"$f":"IF(I432=\"\",\"\",VLOOKUP(I432,List_CMS!$L$3:$Q$79,6,FALSE))","v":""}]
[{"$f":"+IF(H433=\"\",\"\",MAX(A$1:A432)+1)","v":""},{"$f":"IF(CMS_Downtime!F454=\"\",\"\",CMS_Downtime!F454)","v":""},{"$f":"IF(CMS_Downtime!$F454=\"\",\"\",CMS_Downtime!B454)","v":""},{"$f":"IF(CMS_Downtime!$F454=\"\",\"\",CMS_Downtime!C454)","v":""},{"$f":"IF(CMS_Downtime!$F454=\"\",\"\",CMS_Downtime!D454)","v":""},{"$f":"IF(CMS_Downtime!$F454=\"\",\"\",CMS_Downtime!E454)","v":""},"",{"$f":"IF(COUNTIF(G$2:G433,G433)=1,G433,\"\")","v":""},"","","","","",{"$f":"IF(I433=\"\",\"\",VLOOKUP(I433,List_CMS!$L$3:$Q$79,6,FALSE))","v":""}]
[{"$f":"+IF(H434=\"\",\"\",MAX(A$1:A433)+1)","v":""},{"$f":"IF(CMS_Downtime!F455=\"\",\"\",CMS_Downtime!F455)","v":""},{"$f":"IF(CMS_Downtime!$F455=\"\",\"\",CMS_Downtime!B455)","v":""},{"$f":"IF(CMS_Downtime!$F455=\"\",\"\",CMS_Downtime!C455)","v":""},{"$f":"IF(CMS_Downtime!$F455=\"\",\"\",CMS_Downtime!D455)","v":""},{"$f":"IF(CMS_Downtime!$F455=\"\",\"\",CMS_Downtime!E455)","v":""},"",{"$f":"IF(COUNTIF(G$2:G434,G434)=1,G434,\"\")","v":""},"","","","","",{"$f":"IF(I434=\"\",\"\",VLOOKUP(I434,List_CMS!$L$3:$Q$79,6,FALSE))","v":""}]
[{"$f":"+IF(H435=\"\",\"\",MAX(A$1:A434)+1)","v":""},{"$f":"IF(CMS_Downtime!F456=\"\",\"\",CMS_Downtime!F456)","v":""},{"$f":"IF(CMS_Downtime!$F456=\"\",\"\",CMS_Downtime!B456)","v":""},{"$f":"IF(CMS_Downtime!$F456=\"\",\"\",CMS_Downtime!C456)","v":""},{"$f":"IF(CMS_Downtime!$F456=\"\",\"\",CMS_Downtime!D456)","v":""},{"$f":"IF(CMS_Downtime!$F456=\"\",\"\",CMS_Downtime!E456)","v":""},"",{"$f":"IF(COUNTIF(G$2:G435,G435)=1,G435,\"\")","v":""},"","","","","",{"$f":"IF(I435=\"\",\"\",VLOOKUP(I435,List_CMS!$L$3:$Q$79,6,FALSE))","v":""}]
[{"$f":"+IF(H436=\"\",\"\",MAX(A$1:A435)+1)","v":""},{"$f":"IF(CMS_Downtime!F457=\"\",\"\",CMS_Downtime!F457)","v":""},{"$f":"IF(CMS_Downtime!$F457=\"\",\"\",CMS_Downtime!B457)","v":""},{"$f":"IF(CMS_Downtime!$F457=\"\",\"\",CMS_Downtime!C457)","v":""},{"$f":"IF(CMS_Downtime!$F457=\"\",\"\",CMS_Downtime!D457)","v":""},{"$f":"IF(CMS_Downtime!$F457=\"\",\"\",CMS_Downtime!E457)","v":""},"",{"$f":"IF(COUNTIF(G$2:G436,G436)=1,G436,\"\")","v":""},"","","","","",{"$f":"IF(I436=\"\",\"\",VLOOKUP(I436,List_CMS!$L$3:$Q$79,6,FALSE))","v":""}]
[{"$f":"+IF(H437=\"\",\"\",MAX(A$1:A436)+1)","v":""},{"$f":"IF(CMS_Downtime!F458=\"\",\"\",CMS_Downtime!F458)","v":""},{"$f":"IF(CMS_Downtime!$F458=\"\",\"\",CMS_Downtime!B458)","v":""},{"$f":"IF(CMS_Downtime!$F458=\"\",\"\",CMS_Downtime!C458)","v":""},{"$f":"IF(CMS_Downtime!$F458=\"\",\"\",CMS_Downtime!D458)","v":""},{"$f":"IF(CMS_Downtime!$F458=\"\",\"\",CMS_Downtime!E458)","v":""},"",{"$f":"IF(COUNTIF(G$2:G437,G437)=1,G437,\"\")","v":""},"","","","","",{"$f":"IF(I437=\"\",\"\",VLOOKUP(I437,List_CMS!$L$3:$Q$79,6,FALSE))","v":""}]
[{"$f":"+IF(H438=\"\",\"\",MAX(A$1:A437)+1)","v":""},{"$f":"IF(CMS_Downtime!F459=\"\",\"\",CMS_Downtime!F459)","v":""},{"$f":"IF(CMS_Downtime!$F459=\"\",\"\",CMS_Downtime!B459)","v":""},{"$f":"IF(CMS_Downtime!$F459=\"\",\"\",CMS_Downtime!C459)","v":""},{"$f":"IF(CMS_Downtime!$F459=\"\",\"\",CMS_Downtime!D459)","v":""},{"$f":"IF(CMS_Downtime!$F459=\"\",\"\",CMS_Downtime!E459)","v":""},"",{"$f":"IF(COUNTIF(G$2:G438,G438)=1,G438,\"\")","v":""},"","","","","",{"$f":"IF(I438=\"\",\"\",VLOOKUP(I438,List_CMS!$L$3:$Q$79,6,FALSE))","v":""}]
[{"$f":"+IF(H439=\"\",\"\",MAX(A$1:A438)+1)","v":""},{"$f":"IF(CMS_Downtime!F460=\"\",\"\",CMS_Downtime!F460)","v":""},{"$f":"IF(CMS_Downtime!$F460=\"\",\"\",CMS_Downtime!B460)","v":""},{"$f":"IF(CMS_Downtime!$F460=\"\",\"\",CMS_Downtime!C460)","v":""},{"$f":"IF(CMS_Downtime!$F460=\"\",\"\",CMS_Downtime!D460)","v":""},{"$f":"IF(CMS_Downtime!$F460=\"\",\"\",CMS_Downtime!E460)","v":""},"",{"$f":"IF(COUNTIF(G$2:G439,G439)=1,G439,\"\")","v":""},"","","","","",{"$f":"IF(I439=\"\",\"\",VLOOKUP(I439,List_CMS!$L$3:$Q$79,6,FALSE))","v":""}]
[{"$f":"+IF(H440=\"\",\"\",MAX(A$1:A439)+1)","v":""},{"$f":"IF(CMS_Downtime!F461=\"\",\"\",CMS_Downtime!F461)","v":""},{"$f":"IF(CMS_Downtime!$F461=\"\",\"\",CMS_Downtime!B461)","v":""},{"$f":"IF(CMS_Downtime!$F461=\"\",\"\",CMS_Downtime!C461)","v":""},{"$f":"IF(CMS_Downtime!$F461=\"\",\"\",CMS_Downtime!D461)","v":""},{"$f":"IF(CMS_Downtime!$F461=\"\",\"\",CMS_Downtime!E461)","v":""},"",{"$f":"IF(COUNTIF(G$2:G440,G440)=1,G440,\"\")","v":""},"","","","","",{"$f":"IF(I440=\"\",\"\",VLOOKUP(I440,List_CMS!$L$3:$Q$79,6,FALSE))","v":""}]
[{"$f":"+IF(H441=\"\",\"\",MAX(A$1:A440)+1)","v":""},{"$f":"IF(CMS_Downtime!F462=\"\",\"\",CMS_Downtime!F462)","v":""},{"$f":"IF(CMS_Downtime!$F462=\"\",\"\",CMS_Downtime!B462)","v":""},{"$f":"IF(CMS_Downtime!$F462=\"\",\"\",CMS_Downtime!C462)","v":""},{"$f":"IF(CMS_Downtime!$F462=\"\",\"\",CMS_Downtime!D462)","v":""},{"$f":"IF(CMS_Downtime!$F462=\"\",\"\",CMS_Downtime!E462)","v":""},"",{"$f":"IF(COUNTIF(G$2:G441,G441)=1,G441,\"\")","v":""},"","","","","",{"$f":"IF(I441=\"\",\"\",VLOOKUP(I441,List_CMS!$L$3:$Q$79,6,FALSE))","v":""}]
[{"$f":"+IF(H442=\"\",\"\",MAX(A$1:A441)+1)","v":""},{"$f":"IF(CMS_Downtime!F463=\"\",\"\",CMS_Downtime!F463)","v":""},{"$f":"IF(CMS_Downtime!$F463=\"\",\"\",CMS_Downtime!B463)","v":""},{"$f":"IF(CMS_Downtime!$F463=\"\",\"\",CMS_Downtime!C463)","v":""},{"$f":"IF(CMS_Downtime!$F463=\"\",\"\",CMS_Downtime!D463)","v":""},{"$f":"IF(CMS_Downtime!$F463=\"\",\"\",CMS_Downtime!E463)","v":""},"",{"$f":"IF(COUNTIF(G$2:G442,G442)=1,G442,\"\")","v":""},"","","","","",{"$f":"IF(I442=\"\",\"\",VLOOKUP(I442,List_CMS!$L$3:$Q$79,6,FALSE))","v":""}]
[{"$f":"+IF(H443=\"\",\"\",MAX(A$1:A442)+1)","v":""},{"$f":"IF(CMS_Downtime!F464=\"\",\"\",CMS_Downtime!F464)","v":""},{"$f":"IF(CMS_Downtime!$F464=\"\",\"\",CMS_Downtime!B464)","v":""},{"$f":"IF(CMS_Downtime!$F464=\"\",\"\",CMS_Downtime!C464)","v":""},{"$f":"IF(CMS_Downtime!$F464=\"\",\"\",CMS_Downtime!D464)","v":""},{"$f":"IF(CMS_Downtime!$F464=\"\",\"\",CMS_Downtime!E464)","v":""},"",{"$f":"IF(COUNTIF(G$2:G443,G443)=1,G443,\"\")","v":""},"","","","","",{"$f":"IF(I443=\"\",\"\",VLOOKUP(I443,List_CMS!$L$3:$Q$79,6,FALSE))","v":""}]
[{"$f":"+IF(H444=\"\",\"\",MAX(A$1:A443)+1)","v":""},{"$f":"IF(CMS_Downtime!F465=\"\",\"\",CMS_Downtime!F465)","v":""},{"$f":"IF(CMS_Downtime!$F465=\"\",\"\",CMS_Downtime!B465)","v":""},{"$f":"IF(CMS_Downtime!$F465=\"\",\"\",CMS_Downtime!C465)","v":""},{"$f":"IF(CMS_Downtime!$F465=\"\",\"\",CMS_Downtime!D465)","v":""},{"$f":"IF(CMS_Downtime!$F465=\"\",\"\",CMS_Downtime!E465)","v":""},"",{"$f":"IF(COUNTIF(G$2:G444,G444)=1,G444,\"\")","v":""},"","","","","",{"$f":"IF(I444=\"\",\"\",VLOOKUP(I444,List_CMS!$L$3:$Q$79,6,FALSE))","v":""}]
[{"$f":"+IF(H445=\"\",\"\",MAX(A$1:A444)+1)","v":""},{"$f":"IF(CMS_Downtime!F466=\"\",\"\",CMS_Downtime!F466)","v":""},{"$f":"IF(CMS_Downtime!$F466=\"\",\"\",CMS_Downtime!B466)","v":""},{"$f":"IF(CMS_Downtime!$F466=\"\",\"\",CMS_Downtime!C466)","v":""},{"$f":"IF(CMS_Downtime!$F466=\"\",\"\",CMS_Downtime!D466)","v":""},{"$f":"IF(CMS_Downtime!$F466=\"\",\"\",CMS_Downtime!E466)","v":""},"",{"$f":"IF(COUNTIF(G$2:G445,G445)=1,G445,\"\")","v":""},"","","","","",{"$f":"IF(I445=\"\",\"\",VLOOKUP(I445,List_CMS!$L$3:$Q$79,6,FALSE))","v":""}]
[{"$f":"+IF(H446=\"\",\"\",MAX(A$1:A445)+1)","v":""},{"$f":"IF(CMS_Downtime!F467=\"\",\"\",CMS_Downtime!F467)","v":""},{"$f":"IF(CMS_Downtime!$F467=\"\",\"\",CMS_Downtime!B467)","v":""},{"$f":"IF(CMS_Downtime!$F467=\"\",\"\",CMS_Downtime!C467)","v":""},{"$f":"IF(CMS_Downtime!$F467=\"\",\"\",CMS_Downtime!D467)","v":""},{"$f":"IF(CMS_Downtime!$F467=\"\",\"\",CMS_Downtime!E467)","v":""},"",{"$f":"IF(COUNTIF(G$2:G446,G446)=1,G446,\"\")","v":""},"","","","","",{"$f":"IF(I446=\"\",\"\",VLOOKUP(I446,List_CMS!$L$3:$Q$79,6,FALSE))","v":""}]
[{"$f":"+IF(H447=\"\",\"\",MAX(A$1:A446)+1)","v":""},{"$f":"IF(CMS_Downtime!F468=\"\",\"\",CMS_Downtime!F468)","v":""},{"$f":"IF(CMS_Downtime!$F468=\"\",\"\",CMS_Downtime!B468)","v":""},{"$f":"IF(CMS_Downtime!$F468=\"\",\"\",CMS_Downtime!C468)","v":""},{"$f":"IF(CMS_Downtime!$F468=\"\",\"\",CMS_Downtime!D468)","v":""},{"$f":"IF(CMS_Downtime!$F468=\"\",\"\",CMS_Downtime!E468)","v":""},"",{"$f":"IF(COUNTIF(G$2:G447,G447)=1,G447,\"\")","v":""},"","","","","",{"$f":"IF(I447=\"\",\"\",VLOOKUP(I447,List_CMS!$L$3:$Q$79,6,FALSE))","v":""}]
[{"$f":"+IF(H448=\"\",\"\",MAX(A$1:A447)+1)","v":""},{"$f":"IF(CMS_Downtime!F469=\"\",\"\",CMS_Downtime!F469)","v":""},{"$f":"IF(CMS_Downtime!$F469=\"\",\"\",CMS_Downtime!B469)","v":""},{"$f":"IF(CMS_Downtime!$F469=\"\",\"\",CMS_Downtime!C469)","v":""},{"$f":"IF(CMS_Downtime!$F469=\"\",\"\",CMS_Downtime!D469)","v":""},{"$f":"IF(CMS_Downtime!$F469=\"\",\"\",CMS_Downtime!E469)","v":""},"",{"$f":"IF(COUNTIF(G$2:G448,G448)=1,G448,\"\")","v":""},"","","","","",{"$f":"IF(I448=\"\",\"\",VLOOKUP(I448,List_CMS!$L$3:$Q$79,6,FALSE))","v":""}]
[{"$f":"+IF(H449=\"\",\"\",MAX(A$1:A448)+1)","v":""},{"$f":"IF(CMS_Downtime!F470=\"\",\"\",CMS_Downtime!F470)","v":""},{"$f":"IF(CMS_Downtime!$F470=\"\",\"\",CMS_Downtime!B470)","v":""},{"$f":"IF(CMS_Downtime!$F470=\"\",\"\",CMS_Downtime!C470)","v":""},{"$f":"IF(CMS_Downtime!$F470=\"\",\"\",CMS_Downtime!D470)","v":""},{"$f":"IF(CMS_Downtime!$F470=\"\",\"\",CMS_Downtime!E470)","v":""},"",{"$f":"IF(COUNTIF(G$2:G449,G449)=1,G449,\"\")","v":""},"","","","","",{"$f":"IF(I449=\"\",\"\",VLOOKUP(I449,List_CMS!$L$3:$Q$79,6,FALSE))","v":""}]
[{"$f":"+IF(H450=\"\",\"\",MAX(A$1:A449)+1)","v":""},{"$f":"IF(CMS_Downtime!F471=\"\",\"\",CMS_Downtime!F471)","v":""},{"$f":"IF(CMS_Downtime!$F471=\"\",\"\",CMS_Downtime!B471)","v":""},{"$f":"IF(CMS_Downtime!$F471=\"\",\"\",CMS_Downtime!C471)","v":""},{"$f":"IF(CMS_Downtime!$F471=\"\",\"\",CMS_Downtime!D471)","v":""},{"$f":"IF(CMS_Downtime!$F471=\"\",\"\",CMS_Downtime!E471)","v":""},"",{"$f":"IF(COUNTIF(G$2:G450,G450)=1,G450,\"\")","v":""},"","","","","",{"$f":"IF(I450=\"\",\"\",VLOOKUP(I450,List_CMS!$L$3:$Q$79,6,FALSE))","v":""}]
[{"$f":"+IF(H451=\"\",\"\",MAX(A$1:A450)+1)","v":""},{"$f":"IF(CMS_Downtime!F472=\"\",\"\",CMS_Downtime!F472)","v":""},{"$f":"IF(CMS_Downtime!$F472=\"\",\"\",CMS_Downtime!B472)","v":""},{"$f":"IF(CMS_Downtime!$F472=\"\",\"\",CMS_Downtime!C472)","v":""},{"$f":"IF(CMS_Downtime!$F472=\"\",\"\",CMS_Downtime!D472)","v":""},{"$f":"IF(CMS_Downtime!$F472=\"\",\"\",CMS_Downtime!E472)","v":""},"",{"$f":"IF(COUNTIF(G$2:G451,G451)=1,G451,\"\")","v":""},{"$f":"+IFERROR(INDEX($H$2:$H$499,MATCH(ROW()-ROW($I$2),$A$2:$A$499,0)),\"\")","v":""},"","","","",{"$f":"IF(I451=\"\",\"\",VLOOKUP(I451,List_CMS!$L$3:$Q$79,6,FALSE))","v":""}]
[{"$f":"+IF(H452=\"\",\"\",MAX(A$1:A451)+1)","v":""},{"$f":"IF(CMS_Downtime!F473=\"\",\"\",CMS_Downtime!F473)","v":""},{"$f":"IF(CMS_Downtime!$F473=\"\",\"\",CMS_Downtime!B473)","v":""},{"$f":"IF(CMS_Downtime!$F473=\"\",\"\",CMS_Downtime!C473)","v":""},{"$f":"IF(CMS_Downtime!$F473=\"\",\"\",CMS_Downtime!D473)","v":""},{"$f":"IF(CMS_Downtime!$F473=\"\",\"\",CMS_Downtime!E473)","v":""},{"$f":"IF(B452=\"\",\"\",C452&\" - \"&D452&\" - \"&F452)","v":""},{"$f":"IF(COUNTIF(G$2:G452,G452)=1,G452,\"\")","v":""},"",{"$f":"+IFERROR(INDEX(C$2:C$499,MATCH(ROW()-ROW($I$2),$A$2:$A$499,0)),\"\")","v":""},{"$f":"+IFERROR(INDEX(D$2:D$499,MATCH(ROW()-ROW($I$2),$A$2:$A$499,0)),\"\")","v":""},{"$f":"+IFERROR(INDEX(E$2:E$499,MATCH(ROW()-ROW($I$2),$A$2:$A$499,0)),\"\")","v":""},{"$f":"+IFERROR(INDEX(F$2:F$499,MATCH(ROW()-ROW($I$2),$A$2:$A$499,0)),\"\")","v":""},{"$f":"IF(I452=\"\",\"\",VLOOKUP(I452,List_CMS!$L$3:$Q$79,6,FALSE))","v":""}]
[{"$f":"+IF(H453=\"\",\"\",MAX(A$1:A452)+1)","v":""},{"$f":"IF(CMS_Downtime!F474=\"\",\"\",CMS_Downtime!F474)","v":""},{"$f":"IF(CMS_Downtime!$F474=\"\",\"\",CMS_Downtime!B474)","v":""},{"$f":"IF(CMS_Downtime!$F474=\"\",\"\",CMS_Downtime!C474)","v":""},{"$f":"IF(CMS_Downtime!$F474=\"\",\"\",CMS_Downtime!D474)","v":""},{"$f":"IF(CMS_Downtime!$F474=\"\",\"\",CMS_Downtime!E474)","v":""},"",{"$f":"IF(COUNTIF(G$2:G453,G453)=1,G453,\"\")","v":""},"","","","","",{"$f":"IF(I453=\"\",\"\",VLOOKUP(I453,List_CMS!$L$3:$Q$79,6,FALSE))","v":""}]
[{"$f":"+IF(H454=\"\",\"\",MAX(A$1:A453)+1)","v":""},{"$f":"IF(CMS_Downtime!F475=\"\",\"\",CMS_Downtime!F475)","v":""},{"$f":"IF(CMS_Downtime!$F475=\"\",\"\",CMS_Downtime!B475)","v":""},{"$f":"IF(CMS_Downtime!$F475=\"\",\"\",CMS_Downtime!C475)","v":""},{"$f":"IF(CMS_Downtime!$F475=\"\",\"\",CMS_Downtime!D475)","v":""},{"$f":"IF(CMS_Downtime!$F475=\"\",\"\",CMS_Downtime!E475)","v":""},"",{"$f":"IF(COUNTIF(G$2:G454,G454)=1,G454,\"\")","v":""},"","","","","",{"$f":"IF(I454=\"\",\"\",VLOOKUP(I454,List_CMS!$L$3:$Q$79,6,FALSE))","v":""}]
[{"$f":"+IF(H455=\"\",\"\",MAX(A$1:A454)+1)","v":""},{"$f":"IF(CMS_Downtime!F476=\"\",\"\",CMS_Downtime!F476)","v":""},{"$f":"IF(CMS_Downtime!$F476=\"\",\"\",CMS_Downtime!B476)","v":""},{"$f":"IF(CMS_Downtime!$F476=\"\",\"\",CMS_Downtime!C476)","v":""},{"$f":"IF(CMS_Downtime!$F476=\"\",\"\",CMS_Downtime!D476)","v":""},{"$f":"IF(CMS_Downtime!$F476=\"\",\"\",CMS_Downtime!E476)","v":""},"",{"$f":"IF(COUNTIF(G$2:G455,G455)=1,G455,\"\")","v":""},"","","","","",{"$f":"IF(I455=\"\",\"\",VLOOKUP(I455,List_CMS!$L$3:$Q$79,6,FALSE))","v":""}]
[{"$f":"+IF(H456=\"\",\"\",MAX(A$1:A455)+1)","v":""},{"$f":"IF(CMS_Downtime!F477=\"\",\"\",CMS_Downtime!F477)","v":""},{"$f":"IF(CMS_Downtime!$F477=\"\",\"\",CMS_Downtime!B477)","v":""},{"$f":"IF(CMS_Downtime!$F477=\"\",\"\",CMS_Downtime!C477)","v":""},{"$f":"IF(CMS_Downtime!$F477=\"\",\"\",CMS_Downtime!D477)","v":""},{"$f":"IF(CMS_Downtime!$F477=\"\",\"\",CMS_Downtime!E477)","v":""},"",{"$f":"IF(COUNTIF(G$2:G456,G456)=1,G456,\"\")","v":""},"","","","","",{"$f":"IF(I456=\"\",\"\",VLOOKUP(I456,List_CMS!$L$3:$Q$79,6,FALSE))","v":""}]
[{"$f":"+IF(H457=\"\",\"\",MAX(A$1:A456)+1)","v":""},{"$f":"IF(CMS_Downtime!F478=\"\",\"\",CMS_Downtime!F478)","v":""},{"$f":"IF(CMS_Downtime!$F478=\"\",\"\",CMS_Downtime!B478)","v":""},{"$f":"IF(CMS_Downtime!$F478=\"\",\"\",CMS_Downtime!C478)","v":""},{"$f":"IF(CMS_Downtime!$F478=\"\",\"\",CMS_Downtime!D478)","v":""},{"$f":"IF(CMS_Downtime!$F478=\"\",\"\",CMS_Downtime!E478)","v":""},"",{"$f":"IF(COUNTIF(G$2:G457,G457)=1,G457,\"\")","v":""},"","","","","",{"$f":"IF(I457=\"\",\"\",VLOOKUP(I457,List_CMS!$L$3:$Q$79,6,FALSE))","v":""}]
[{"$f":"+IF(H458=\"\",\"\",MAX(A$1:A457)+1)","v":""},{"$f":"IF(CMS_Downtime!F479=\"\",\"\",CMS_Downtime!F479)","v":""},{"$f":"IF(CMS_Downtime!$F479=\"\",\"\",CMS_Downtime!B479)","v":""},{"$f":"IF(CMS_Downtime!$F479=\"\",\"\",CMS_Downtime!C479)","v":""},{"$f":"IF(CMS_Downtime!$F479=\"\",\"\",CMS_Downtime!D479)","v":""},{"$f":"IF(CMS_Downtime!$F479=\"\",\"\",CMS_Downtime!E479)","v":""},"",{"$f":"IF(COUNTIF(G$2:G458,G458)=1,G458,\"\")","v":""},"","","","","",{"$f":"IF(I458=\"\",\"\",VLOOKUP(I458,List_CMS!$L$3:$Q$79,6,FALSE))","v":""}]
[{"$f":"+IF(H459=\"\",\"\",MAX(A$1:A458)+1)","v":""},{"$f":"IF(CMS_Downtime!F480=\"\",\"\",CMS_Downtime!F480)","v":""},{"$f":"IF(CMS_Downtime!$F480=\"\",\"\",CMS_Downtime!B480)","v":""},{"$f":"IF(CMS_Downtime!$F480=\"\",\"\",CMS_Downtime!C480)","v":""},{"$f":"IF(CMS_Downtime!$F480=\"\",\"\",CMS_Downtime!D480)","v":""},{"$f":"IF(CMS_Downtime!$F480=\"\",\"\",CMS_Downtime!E480)","v":""},"",{"$f":"IF(COUNTIF(G$2:G459,G459)=1,G459,\"\")","v":""},"","","","","",{"$f":"IF(I459=\"\",\"\",VLOOKUP(I459,List_CMS!$L$3:$Q$79,6,FALSE))","v":""}]
[{"$f":"+IF(H460=\"\",\"\",MAX(A$1:A459)+1)","v":""},{"$f":"IF(CMS_Downtime!F481=\"\",\"\",CMS_Downtime!F481)","v":""},{"$f":"IF(CMS_Downtime!$F481=\"\",\"\",CMS_Downtime!B481)","v":""},{"$f":"IF(CMS_Downtime!$F481=\"\",\"\",CMS_Downtime!C481)","v":""},{"$f":"IF(CMS_Downtime!$F481=\"\",\"\",CMS_Downtime!D481)","v":""},{"$f":"IF(CMS_Downtime!$F481=\"\",\"\",CMS_Downtime!E481)","v":""},"",{"$f":"IF(COUNTIF(G$2:G460,G460)=1,G460,\"\")","v":""},"","","","","",{"$f":"IF(I460=\"\",\"\",VLOOKUP(I460,List_CMS!$L$3:$Q$79,6,FALSE))","v":""}]
[{"$f":"+IF(H461=\"\",\"\",MAX(A$1:A460)+1)","v":""},{"$f":"IF(CMS_Downtime!F482=\"\",\"\",CMS_Downtime!F482)","v":""},{"$f":"IF(CMS_Downtime!$F482=\"\",\"\",CMS_Downtime!B482)","v":""},{"$f":"IF(CMS_Downtime!$F482=\"\",\"\",CMS_Downtime!C482)","v":""},{"$f":"IF(CMS_Downtime!$F482=\"\",\"\",CMS_Downtime!D482)","v":""},{"$f":"IF(CMS_Downtime!$F482=\"\",\"\",CMS_Downtime!E482)","v":""},"",{"$f":"IF(COUNTIF(G$2:G461,G461)=1,G461,\"\")","v":""},"","","","","",{"$f":"IF(I461=\"\",\"\",VLOOKUP(I461,List_CMS!$L$3:$Q$79,6,FALSE))","v":""}]
[{"$f":"+IF(H462=\"\",\"\",MAX(A$1:A461)+1)","v":""},{"$f":"IF(CMS_Downtime!F483=\"\",\"\",CMS_Downtime!F483)","v":""},{"$f":"IF(CMS_Downtime!$F483=\"\",\"\",CMS_Downtime!B483)","v":""},{"$f":"IF(CMS_Downtime!$F483=\"\",\"\",CMS_Downtime!C483)","v":""},{"$f":"IF(CMS_Downtime!$F483=\"\",\"\",CMS_Downtime!D483)","v":""},{"$f":"IF(CMS_Downtime!$F483=\"\",\"\",CMS_Downtime!E483)","v":""},"",{"$f":"IF(COUNTIF(G$2:G462,G462)=1,G462,\"\")","v":""},"","","","","",{"$f":"IF(I462=\"\",\"\",VLOOKUP(I462,List_CMS!$L$3:$Q$79,6,FALSE))","v":""}]
[{"$f":"+IF(H463=\"\",\"\",MAX(A$1:A462)+1)","v":""},{"$f":"IF(CMS_Downtime!F484=\"\",\"\",CMS_Downtime!F484)","v":""},{"$f":"IF(CMS_Downtime!$F484=\"\",\"\",CMS_Downtime!B484)","v":""},{"$f":"IF(CMS_Downtime!$F484=\"\",\"\",CMS_Downtime!C484)","v":""},{"$f":"IF(CMS_Downtime!$F484=\"\",\"\",CMS_Downtime!D484)","v":""},{"$f":"IF(CMS_Downtime!$F484=\"\",\"\",CMS_Downtime!E484)","v":""},"",{"$f":"IF(COUNTIF(G$2:G463,G463)=1,G463,\"\")","v":""},"","","","","",{"$f":"IF(I463=\"\",\"\",VLOOKUP(I463,List_CMS!$L$3:$Q$79,6,FALSE))","v":""}]
[{"$f":"+IF(H464=\"\",\"\",MAX(A$1:A463)+1)","v":""},{"$f":"IF(CMS_Downtime!F485=\"\",\"\",CMS_Downtime!F485)","v":""},{"$f":"IF(CMS_Downtime!$F485=\"\",\"\",CMS_Downtime!B485)","v":""},{"$f":"IF(CMS_Downtime!$F485=\"\",\"\",CMS_Downtime!C485)","v":""},{"$f":"IF(CMS_Downtime!$F485=\"\",\"\",CMS_Downtime!D485)","v":""},{"$f":"IF(CMS_Downtime!$F485=\"\",\"\",CMS_Downtime!E485)","v":""},"",{"$f":"IF(COUNTIF(G$2:G464,G464)=1,G464,\"\")","v":""},"","","","","",{"$f":"IF(I464=\"\",\"\",VLOOKUP(I464,List_CMS!$L$3:$Q$79,6,FALSE))","v":""}]
[{"$f":"+IF(H465=\"\",\"\",MAX(A$1:A464)+1)","v":""},{"$f":"IF(CMS_Downtime!F486=\"\",\"\",CMS_Downtime!F486)","v":""},{"$f":"IF(CMS_Downtime!$F486=\"\",\"\",CMS_Downtime!B486)","v":""},{"$f":"IF(CMS_Downtime!$F486=\"\",\"\",CMS_Downtime!C486)","v":""},{"$f":"IF(CMS_Downtime!$F486=\"\",\"\",CMS_Downtime!D486)","v":""},{"$f":"IF(CMS_Downtime!$F486=\"\",\"\",CMS_Downtime!E486)","v":""},"",{"$f":"IF(COUNTIF(G$2:G465,G465)=1,G465,\"\")","v":""},"","","","","",{"$f":"IF(I465=\"\",\"\",VLOOKUP(I465,List_CMS!$L$3:$Q$79,6,FALSE))","v":""}]
[{"$f":"+IF(H466=\"\",\"\",MAX(A$1:A465)+1)","v":""},{"$f":"IF(CMS_Downtime!F487=\"\",\"\",CMS_Downtime!F487)","v":""},{"$f":"IF(CMS_Downtime!$F487=\"\",\"\",CMS_Downtime!B487)","v":""},{"$f":"IF(CMS_Downtime!$F487=\"\",\"\",CMS_Downtime!C487)","v":""},{"$f":"IF(CMS_Downtime!$F487=\"\",\"\",CMS_Downtime!D487)","v":""},{"$f":"IF(CMS_Downtime!$F487=\"\",\"\",CMS_Downtime!E487)","v":""},"",{"$f":"IF(COUNTIF(G$2:G466,G466)=1,G466,\"\")","v":""},"","","","","",{"$f":"IF(I466=\"\",\"\",VLOOKUP(I466,List_CMS!$L$3:$Q$79,6,FALSE))","v":""}]
[{"$f":"+IF(H467=\"\",\"\",MAX(A$1:A466)+1)","v":""},{"$f":"IF(CMS_Downtime!F488=\"\",\"\",CMS_Downtime!F488)","v":""},{"$f":"IF(CMS_Downtime!$F488=\"\",\"\",CMS_Downtime!B488)","v":""},{"$f":"IF(CMS_Downtime!$F488=\"\",\"\",CMS_Downtime!C488)","v":""},{"$f":"IF(CMS_Downtime!$F488=\"\",\"\",CMS_Downtime!D488)","v":""},{"$f":"IF(CMS_Downtime!$F488=\"\",\"\",CMS_Downtime!E488)","v":""},"",{"$f":"IF(COUNTIF(G$2:G467,G467)=1,G467,\"\")","v":""},"","","","","",{"$f":"IF(I467=\"\",\"\",VLOOKUP(I467,List_CMS!$L$3:$Q$79,6,FALSE))","v":""}]
[{"$f":"+IF(H468=\"\",\"\",MAX(A$1:A467)+1)","v":""},{"$f":"IF(CMS_Downtime!F489=\"\",\"\",CMS_Downtime!F489)","v":""},{"$f":"IF(CMS_Downtime!$F489=\"\",\"\",CMS_Downtime!B489)","v":""},{"$f":"IF(CMS_Downtime!$F489=\"\",\"\",CMS_Downtime!C489)","v":""},{"$f":"IF(CMS_Downtime!$F489=\"\",\"\",CMS_Downtime!D489)","v":""},{"$f":"IF(CMS_Downtime!$F489=\"\",\"\",CMS_Downtime!E489)","v":""},"",{"$f":"IF(COUNTIF(G$2:G468,G468)=1,G468,\"\")","v":""},"","","","","",{"$f":"IF(I468=\"\",\"\",VLOOKUP(I468,List_CMS!$L$3:$Q$79,6,FALSE))","v":""}]
[{"$f":"+IF(H469=\"\",\"\",MAX(A$1:A468)+1)","v":""},{"$f":"IF(CMS_Downtime!F490=\"\",\"\",CMS_Downtime!F490)","v":""},{"$f":"IF(CMS_Downtime!$F490=\"\",\"\",CMS_Downtime!B490)","v":""},{"$f":"IF(CMS_Downtime!$F490=\"\",\"\",CMS_Downtime!C490)","v":""},{"$f":"IF(CMS_Downtime!$F490=\"\",\"\",CMS_Downtime!D490)","v":""},{"$f":"IF(CMS_Downtime!$F490=\"\",\"\",CMS_Downtime!E490)","v":""},"",{"$f":"IF(COUNTIF(G$2:G469,G469)=1,G469,\"\")","v":""},"","","","","",{"$f":"IF(I469=\"\",\"\",VLOOKUP(I469,List_CMS!$L$3:$Q$79,6,FALSE))","v":""}]
[{"$f":"+IF(H470=\"\",\"\",MAX(A$1:A469)+1)","v":""},{"$f":"IF(CMS_Downtime!F491=\"\",\"\",CMS_Downtime!F491)","v":""},{"$f":"IF(CMS_Downtime!$F491=\"\",\"\",CMS_Downtime!B491)","v":""},{"$f":"IF(CMS_Downtime!$F491=\"\",\"\",CMS_Downtime!C491)","v":""},{"$f":"IF(CMS_Downtime!$F491=\"\",\"\",CMS_Downtime!D491)","v":""},{"$f":"IF(CMS_Downtime!$F491=\"\",\"\",CMS_Downtime!E491)","v":""},"",{"$f":"IF(COUNTIF(G$2:G470,G470)=1,G470,\"\")","v":""},"","","","","",{"$f":"IF(I470=\"\",\"\",VLOOKUP(I470,List_CMS!$L$3:$Q$79,6,FALSE))","v":""}]
[{"$f":"+IF(H471=\"\",\"\",MAX(A$1:A470)+1)","v":""},{"$f":"IF(CMS_Downtime!F492=\"\",\"\",CMS_Downtime!F492)","v":""},{"$f":"IF(CMS_Downtime!$F492=\"\",\"\",CMS_Downtime!B492)","v":""},{"$f":"IF(CMS_Downtime!$F492=\"\",\"\",CMS_Downtime!C492)","v":""},{"$f":"IF(CMS_Downtime!$F492=\"\",\"\",CMS_Downtime!D492)","v":""},{"$f":"IF(CMS_Downtime!$F492=\"\",\"\",CMS_Downtime!E492)","v":""},"",{"$f":"IF(COUNTIF(G$2:G471,G471)=1,G471,\"\")","v":""},"","","","","",{"$f":"IF(I471=\"\",\"\",VLOOKUP(I471,List_CMS!$L$3:$Q$79,6,FALSE))","v":""}]
[{"$f":"+IF(H472=\"\",\"\",MAX(A$1:A471)+1)","v":""},{"$f":"IF(CMS_Downtime!F493=\"\",\"\",CMS_Downtime!F493)","v":""},{"$f":"IF(CMS_Downtime!$F493=\"\",\"\",CMS_Downtime!B493)","v":""},{"$f":"IF(CMS_Downtime!$F493=\"\",\"\",CMS_Downtime!C493)","v":""},{"$f":"IF(CMS_Downtime!$F493=\"\",\"\",CMS_Downtime!D493)","v":""},{"$f":"IF(CMS_Downtime!$F493=\"\",\"\",CMS_Downtime!E493)","v":""},"",{"$f":"IF(COUNTIF(G$2:G472,G472)=1,G472,\"\")","v":""},"","","","","",{"$f":"IF(I472=\"\",\"\",VLOOKUP(I472,List_CMS!$L$3:$Q$79,6,FALSE))","v":""}]
[{"$f":"+IF(H473=\"\",\"\",MAX(A$1:A472)+1)","v":""},{"$f":"IF(CMS_Downtime!F494=\"\",\"\",CMS_Downtime!F494)","v":""},{"$f":"IF(CMS_Downtime!$F494=\"\",\"\",CMS_Downtime!B494)","v":""},{"$f":"IF(CMS_Downtime!$F494=\"\",\"\",CMS_Downtime!C494)","v":""},{"$f":"IF(CMS_Downtime!$F494=\"\",\"\",CMS_Downtime!D494)","v":""},{"$f":"IF(CMS_Downtime!$F494=\"\",\"\",CMS_Downtime!E494)","v":""},"",{"$f":"IF(COUNTIF(G$2:G473,G473)=1,G473,\"\")","v":""},"","","","","",{"$f":"IF(I473=\"\",\"\",VLOOKUP(I473,List_CMS!$L$3:$Q$79,6,FALSE))","v":""}]
[{"$f":"+IF(H474=\"\",\"\",MAX(A$1:A473)+1)","v":""},{"$f":"IF(CMS_Downtime!F495=\"\",\"\",CMS_Downtime!F495)","v":""},{"$f":"IF(CMS_Downtime!$F495=\"\",\"\",CMS_Downtime!B495)","v":""},{"$f":"IF(CMS_Downtime!$F495=\"\",\"\",CMS_Downtime!C495)","v":""},{"$f":"IF(CMS_Downtime!$F495=\"\",\"\",CMS_Downtime!D495)","v":""},{"$f":"IF(CMS_Downtime!$F495=\"\",\"\",CMS_Downtime!E495)","v":""},"",{"$f":"IF(COUNTIF(G$2:G474,G474)=1,G474,\"\")","v":""},"","","","","",{"$f":"IF(I474=\"\",\"\",VLOOKUP(I474,List_CMS!$L$3:$Q$79,6,FALSE))","v":""}]
[{"$f":"+IF(H475=\"\",\"\",MAX(A$1:A474)+1)","v":""},{"$f":"IF(CMS_Downtime!F496=\"\",\"\",CMS_Downtime!F496)","v":""},{"$f":"IF(CMS_Downtime!$F496=\"\",\"\",CMS_Downtime!B496)","v":""},{"$f":"IF(CMS_Downtime!$F496=\"\",\"\",CMS_Downtime!C496)","v":""},{"$f":"IF(CMS_Downtime!$F496=\"\",\"\",CMS_Downtime!D496)","v":""},{"$f":"IF(CMS_Downtime!$F496=\"\",\"\",CMS_Downtime!E496)","v":""},"",{"$f":"IF(COUNTIF(G$2:G475,G475)=1,G475,\"\")","v":""},"","","","","",{"$f":"IF(I475=\"\",\"\",VLOOKUP(I475,List_CMS!$L$3:$Q$79,6,FALSE))","v":""}]
[{"$f":"+IF(H476=\"\",\"\",MAX(A$1:A475)+1)","v":""},{"$f":"IF(CMS_Downtime!F497=\"\",\"\",CMS_Downtime!F497)","v":""},{"$f":"IF(CMS_Downtime!$F497=\"\",\"\",CMS_Downtime!B497)","v":""},{"$f":"IF(CMS_Downtime!$F497=\"\",\"\",CMS_Downtime!C497)","v":""},{"$f":"IF(CMS_Downtime!$F497=\"\",\"\",CMS_Downtime!D497)","v":""},{"$f":"IF(CMS_Downtime!$F497=\"\",\"\",CMS_Downtime!E497)","v":""},"",{"$f":"IF(COUNTIF(G$2:G476,G476)=1,G476,\"\")","v":""},"","","","","",{"$f":"IF(I476=\"\",\"\",VLOOKUP(I476,List_CMS!$L$3:$Q$79,6,FALSE))","v":""}]
[{"$f":"+IF(H477=\"\",\"\",MAX(A$1:A476)+1)","v":""},{"$f":"IF(CMS_Downtime!F498=\"\",\"\",CMS_Downtime!F498)","v":""},{"$f":"IF(CMS_Downtime!$F498=\"\",\"\",CMS_Downtime!B498)","v":""},{"$f":"IF(CMS_Downtime!$F498=\"\",\"\",CMS_Downtime!C498)","v":""},{"$f":"IF(CMS_Downtime!$F498=\"\",\"\",CMS_Downtime!D498)","v":""},{"$f":"IF(CMS_Downtime!$F498=\"\",\"\",CMS_Downtime!E498)","v":""},"",{"$f":"IF(COUNTIF(G$2:G477,G477)=1,G477,\"\")","v":""},"","","","","",{"$f":"IF(I477=\"\",\"\",VLOOKUP(I477,List_CMS!$L$3:$Q$79,6,FALSE))","v":""}]
[{"$f":"+IF(H478=\"\",\"\",MAX(A$1:A477)+1)","v":""},{"$f":"IF(CMS_Downtime!F499=\"\",\"\",CMS_Downtime!F499)","v":""},{"$f":"IF(CMS_Downtime!$F499=\"\",\"\",CMS_Downtime!B499)","v":""},{"$f":"IF(CMS_Downtime!$F499=\"\",\"\",CMS_Downtime!C499)","v":""},{"$f":"IF(CMS_Downtime!$F499=\"\",\"\",CMS_Downtime!D499)","v":""},{"$f":"IF(CMS_Downtime!$F499=\"\",\"\",CMS_Downtime!E499)","v":""},"",{"$f":"IF(COUNTIF(G$2:G478,G478)=1,G478,\"\")","v":""},"","","","","",{"$f":"IF(I478=\"\",\"\",VLOOKUP(I478,List_CMS!$L$3:$Q$79,6,FALSE))","v":""}]
[{"$f":"+IF(H479=\"\",\"\",MAX(A$1:A478)+1)","v":""},{"$f":"IF(CMS_Downtime!F500=\"\",\"\",CMS_Downtime!F500)","v":""},{"$f":"IF(CMS_Downtime!$F500=\"\",\"\",CMS_Downtime!B500)","v":""},{"$f":"IF(CMS_Downtime!$F500=\"\",\"\",CMS_Downtime!C500)","v":""},{"$f":"IF(CMS_Downtime!$F500=\"\",\"\",CMS_Downtime!D500)","v":""},{"$f":"IF(CMS_Downtime!$F500=\"\",\"\",CMS_Downtime!E500)","v":""},"",{"$f":"IF(COUNTIF(G$2:G479,G479)=1,G479,\"\")","v":""},"","","","","",{"$f":"IF(I479=\"\",\"\",VLOOKUP(I479,List_CMS!$L$3:$Q$79,6,FALSE))","v":""}]
[{"$f":"+IF(H480=\"\",\"\",MAX(A$1:A479)+1)","v":""},{"$f":"IF(CMS_Downtime!B501=\"\",\"\",CMS_Downtime!B501)","v":""},{"$f":"IF(CMS_Downtime!$B501=\"\",\"\",CMS_Downtime!C501)","v":""},{"$f":"IF(CMS_Downtime!$B501=\"\",\"\",CMS_Downtime!D501)","v":""},{"$f":"IF(CMS_Downtime!$B501=\"\",\"\",CMS_Downtime!E501)","v":""},{"$f":"IF(CMS_Downtime!$B501=\"\",\"\",CMS_Downtime!#REF!)","v":""},"",{"$f":"IF(COUNTIF(G$2:G480,G480)=1,G480,\"\")","v":""},"","","","","",{"$f":"IF(I480=\"\",\"\",VLOOKUP(I480,List_CMS!$L$3:$Q$79,6,FALSE))","v":""}]
[{"$f":"+IF(H481=\"\",\"\",MAX(A$1:A480)+1)","v":""},{"$f":"IF(CMS_Downtime!B502=\"\",\"\",CMS_Downtime!B502)","v":""},{"$f":"IF(CMS_Downtime!$B502=\"\",\"\",CMS_Downtime!C502)","v":""},{"$f":"IF(CMS_Downtime!$B502=\"\",\"\",CMS_Downtime!D502)","v":""},{"$f":"IF(CMS_Downtime!$B502=\"\",\"\",CMS_Downtime!E502)","v":""},{"$f":"IF(CMS_Downtime!$B502=\"\",\"\",CMS_Downtime!#REF!)","v":""},"",{"$f":"IF(COUNTIF(G$2:G481,G481)=1,G481,\"\")","v":""},"","","","","",{"$f":"IF(I481=\"\",\"\",VLOOKUP(I481,List_CMS!$L$3:$Q$79,6,FALSE))","v":""}]
[{"$f":"+IF(H482=\"\",\"\",MAX(A$1:A481)+1)","v":""},{"$f":"IF(CMS_Downtime!B503=\"\",\"\",CMS_Downtime!B503)","v":""},{"$f":"IF(CMS_Downtime!$B503=\"\",\"\",CMS_Downtime!C503)","v":""},{"$f":"IF(CMS_Downtime!$B503=\"\",\"\",CMS_Downtime!D503)","v":""},{"$f":"IF(CMS_Downtime!$B503=\"\",\"\",CMS_Downtime!E503)","v":""},{"$f":"IF(CMS_Downtime!$B503=\"\",\"\",CMS_Downtime!#REF!)","v":""},"",{"$f":"IF(COUNTIF(G$2:G482,G482)=1,G482,\"\")","v":""},"","","","","",{"$f":"IF(I482=\"\",\"\",VLOOKUP(I482,List_CMS!$L$3:$Q$79,6,FALSE))","v":""}]
[{"$f":"+IF(H483=\"\",\"\",MAX(A$1:A482)+1)","v":""},{"$f":"IF(CMS_Downtime!B504=\"\",\"\",CMS_Downtime!B504)","v":""},{"$f":"IF(CMS_Downtime!$B504=\"\",\"\",CMS_Downtime!C504)","v":""},{"$f":"IF(CMS_Downtime!$B504=\"\",\"\",CMS_Downtime!D504)","v":""},{"$f":"IF(CMS_Downtime!$B504=\"\",\"\",CMS_Downtime!E504)","v":""},{"$f":"IF(CMS_Downtime!$B504=\"\",\"\",CMS_Downtime!#REF!)","v":""},"",{"$f":"IF(COUNTIF(G$2:G483,G483)=1,G483,\"\")","v":""},"","","","","",{"$f":"IF(I483=\"\",\"\",VLOOKUP(I483,List_CMS!$L$3:$Q$79,6,FALSE))","v":""}]
[{"$f":"+IF(H484=\"\",\"\",MAX(A$1:A483)+1)","v":""},{"$f":"IF(CMS_Downtime!B505=\"\",\"\",CMS_Downtime!B505)","v":""},{"$f":"IF(CMS_Downtime!$B505=\"\",\"\",CMS_Downtime!C505)","v":""},{"$f":"IF(CMS_Downtime!$B505=\"\",\"\",CMS_Downtime!D505)","v":""},{"$f":"IF(CMS_Downtime!$B505=\"\",\"\",CMS_Downtime!E505)","v":""},{"$f":"IF(CMS_Downtime!$B505=\"\",\"\",CMS_Downtime!#REF!)","v":""},"",{"$f":"IF(COUNTIF(G$2:G484,G484)=1,G484,\"\")","v":""},"","","","","",{"$f":"IF(I484=\"\",\"\",VLOOKUP(I484,List_CMS!$L$3:$Q$79,6,FALSE))","v":""}]
[{"$f":"+IF(H485=\"\",\"\",MAX(A$1:A484)+1)","v":""},{"$f":"IF(CMS_Downtime!B506=\"\",\"\",CMS_Downtime!B506)","v":""},{"$f":"IF(CMS_Downtime!$B506=\"\",\"\",CMS_Downtime!C506)","v":""},{"$f":"IF(CMS_Downtime!$B506=\"\",\"\",CMS_Downtime!D506)","v":""},{"$f":"IF(CMS_Downtime!$B506=\"\",\"\",CMS_Downtime!E506)","v":""},{"$f":"IF(CMS_Downtime!$B506=\"\",\"\",CMS_Downtime!#REF!)","v":""},"",{"$f":"IF(COUNTIF(G$2:G485,G485)=1,G485,\"\")","v":""},"","","","","",{"$f":"IF(I485=\"\",\"\",VLOOKUP(I485,List_CMS!$L$3:$Q$79,6,FALSE))","v":""}]
[{"$f":"+IF(H486=\"\",\"\",MAX(A$1:A485)+1)","v":""},{"$f":"IF(CMS_Downtime!B507=\"\",\"\",CMS_Downtime!B507)","v":""},{"$f":"IF(CMS_Downtime!$B507=\"\",\"\",CMS_Downtime!C507)","v":""},{"$f":"IF(CMS_Downtime!$B507=\"\",\"\",CMS_Downtime!D507)","v":""},{"$f":"IF(CMS_Downtime!$B507=\"\",\"\",CMS_Downtime!E507)","v":""},{"$f":"IF(CMS_Downtime!$B507=\"\",\"\",CMS_Downtime!#REF!)","v":""},"",{"$f":"IF(COUNTIF(G$2:G486,G486)=1,G486,\"\")","v":""},"","","","","",{"$f":"IF(I486=\"\",\"\",VLOOKUP(I486,List_CMS!$L$3:$Q$79,6,FALSE))","v":""}]
[{"$f":"+IF(H487=\"\",\"\",MAX(A$1:A486)+1)","v":""},{"$f":"IF(CMS_Downtime!B508=\"\",\"\",CMS_Downtime!B508)","v":""},{"$f":"IF(CMS_Downtime!$B508=\"\",\"\",CMS_Downtime!C508)","v":""},{"$f":"IF(CMS_Downtime!$B508=\"\",\"\",CMS_Downtime!D508)","v":""},{"$f":"IF(CMS_Downtime!$B508=\"\",\"\",CMS_Downtime!E508)","v":""},{"$f":"IF(CMS_Downtime!$B508=\"\",\"\",CMS_Downtime!#REF!)","v":""},"",{"$f":"IF(COUNTIF(G$2:G487,G487)=1,G487,\"\")","v":""},"","","","","",{"$f":"IF(I487=\"\",\"\",VLOOKUP(I487,List_CMS!$L$3:$Q$79,6,FALSE))","v":""}]
[{"$f":"+IF(H488=\"\",\"\",MAX(A$1:A487)+1)","v":""},{"$f":"IF(CMS_Downtime!B509=\"\",\"\",CMS_Downtime!B509)","v":""},{"$f":"IF(CMS_Downtime!$B509=\"\",\"\",CMS_Downtime!C509)","v":""},{"$f":"IF(CMS_Downtime!$B509=\"\",\"\",CMS_Downtime!D509)","v":""},{"$f":"IF(CMS_Downtime!$B509=\"\",\"\",CMS_Downtime!E509)","v":""},{"$f":"IF(CMS_Downtime!$B509=\"\",\"\",CMS_Downtime!#REF!)","v":""},"",{"$f":"IF(COUNTIF(G$2:G488,G488)=1,G488,\"\")","v":""},"","","","","",{"$f":"IF(I488=\"\",\"\",VLOOKUP(I488,List_CMS!$L$3:$Q$79,6,FALSE))","v":""}]
[{"$f":"+IF(H489=\"\",\"\",MAX(A$1:A488)+1)","v":""},{"$f":"IF(CMS_Downtime!B510=\"\",\"\",CMS_Downtime!B510)","v":""},{"$f":"IF(CMS_Downtime!$B510=\"\",\"\",CMS_Downtime!C510)","v":""},{"$f":"IF(CMS_Downtime!$B510=\"\",\"\",CMS_Downtime!D510)","v":""},{"$f":"IF(CMS_Downtime!$B510=\"\",\"\",CMS_Downtime!E510)","v":""},{"$f":"IF(CMS_Downtime!$B510=\"\",\"\",CMS_Downtime!#REF!)","v":""},"",{"$f":"IF(COUNTIF(G$2:G489,G489)=1,G489,\"\")","v":""},"","","","","",{"$f":"IF(I489=\"\",\"\",VLOOKUP(I489,List_CMS!$L$3:$Q$79,6,FALSE))","v":""}]
[{"$f":"+IF(H490=\"\",\"\",MAX(A$1:A489)+1)","v":""},{"$f":"IF(CMS_Downtime!B511=\"\",\"\",CMS_Downtime!B511)","v":""},{"$f":"IF(CMS_Downtime!$B511=\"\",\"\",CMS_Downtime!C511)","v":""},{"$f":"IF(CMS_Downtime!$B511=\"\",\"\",CMS_Downtime!D511)","v":""},{"$f":"IF(CMS_Downtime!$B511=\"\",\"\",CMS_Downtime!E511)","v":""},{"$f":"IF(CMS_Downtime!$B511=\"\",\"\",CMS_Downtime!#REF!)","v":""},"",{"$f":"IF(COUNTIF(G$2:G490,G490)=1,G490,\"\")","v":""},"","","","","",{"$f":"IF(I490=\"\",\"\",VLOOKUP(I490,List_CMS!$L$3:$Q$79,6,FALSE))","v":""}]
[{"$f":"+IF(H491=\"\",\"\",MAX(A$1:A490)+1)","v":""},{"$f":"IF(CMS_Downtime!B512=\"\",\"\",CMS_Downtime!B512)","v":""},{"$f":"IF(CMS_Downtime!$B512=\"\",\"\",CMS_Downtime!C512)","v":""},{"$f":"IF(CMS_Downtime!$B512=\"\",\"\",CMS_Downtime!D512)","v":""},{"$f":"IF(CMS_Downtime!$B512=\"\",\"\",CMS_Downtime!E512)","v":""},{"$f":"IF(CMS_Downtime!$B512=\"\",\"\",CMS_Downtime!#REF!)","v":""},"",{"$f":"IF(COUNTIF(G$2:G491,G491)=1,G491,\"\")","v":""},"","","","","",{"$f":"IF(I491=\"\",\"\",VLOOKUP(I491,List_CMS!$L$3:$Q$79,6,FALSE))","v":""}]
[{"$f":"+IF(H492=\"\",\"\",MAX(A$1:A491)+1)","v":""},{"$f":"IF(CMS_Downtime!B513=\"\",\"\",CMS_Downtime!B513)","v":""},{"$f":"IF(CMS_Downtime!$B513=\"\",\"\",CMS_Downtime!C513)","v":""},{"$f":"IF(CMS_Downtime!$B513=\"\",\"\",CMS_Downtime!D513)","v":""},{"$f":"IF(CMS_Downtime!$B513=\"\",\"\",CMS_Downtime!E513)","v":""},{"$f":"IF(CMS_Downtime!$B513=\"\",\"\",CMS_Downtime!#REF!)","v":""},"",{"$f":"IF(COUNTIF(G$2:G492,G492)=1,G492,\"\")","v":""},"","","","","",{"$f":"IF(I492=\"\",\"\",VLOOKUP(I492,List_CMS!$L$3:$Q$79,6,FALSE))","v":""}]
[{"$f":"+IF(H493=\"\",\"\",MAX(A$1:A492)+1)","v":""},{"$f":"IF(CMS_Downtime!B514=\"\",\"\",CMS_Downtime!B514)","v":""},{"$f":"IF(CMS_Downtime!$B514=\"\",\"\",CMS_Downtime!C514)","v":""},{"$f":"IF(CMS_Downtime!$B514=\"\",\"\",CMS_Downtime!D514)","v":""},{"$f":"IF(CMS_Downtime!$B514=\"\",\"\",CMS_Downtime!E514)","v":""},{"$f":"IF(CMS_Downtime!$B514=\"\",\"\",CMS_Downtime!#REF!)","v":""},"",{"$f":"IF(COUNTIF(G$2:G493,G493)=1,G493,\"\")","v":""},"","","","","",{"$f":"IF(I493=\"\",\"\",VLOOKUP(I493,List_CMS!$L$3:$Q$79,6,FALSE))","v":""}]
[{"$f":"+IF(H494=\"\",\"\",MAX(A$1:A493)+1)","v":""},{"$f":"IF(CMS_Downtime!B515=\"\",\"\",CMS_Downtime!B515)","v":""},{"$f":"IF(CMS_Downtime!$B515=\"\",\"\",CMS_Downtime!C515)","v":""},{"$f":"IF(CMS_Downtime!$B515=\"\",\"\",CMS_Downtime!D515)","v":""},{"$f":"IF(CMS_Downtime!$B515=\"\",\"\",CMS_Downtime!E515)","v":""},{"$f":"IF(CMS_Downtime!$B515=\"\",\"\",CMS_Downtime!#REF!)","v":""},"",{"$f":"IF(COUNTIF(G$2:G494,G494)=1,G494,\"\")","v":""},"","","","","",{"$f":"IF(I494=\"\",\"\",VLOOKUP(I494,List_CMS!$L$3:$Q$79,6,FALSE))","v":""}]
[{"$f":"+IF(H495=\"\",\"\",MAX(A$1:A494)+1)","v":""},{"$f":"IF(CMS_Downtime!B516=\"\",\"\",CMS_Downtime!B516)","v":""},{"$f":"IF(CMS_Downtime!$B516=\"\",\"\",CMS_Downtime!C516)","v":""},{"$f":"IF(CMS_Downtime!$B516=\"\",\"\",CMS_Downtime!D516)","v":""},{"$f":"IF(CMS_Downtime!$B516=\"\",\"\",CMS_Downtime!E516)","v":""},{"$f":"IF(CMS_Downtime!$B516=\"\",\"\",CMS_Downtime!#REF!)","v":""},"",{"$f":"IF(COUNTIF(G$2:G495,G495)=1,G495,\"\")","v":""},"","","","","",{"$f":"IF(I495=\"\",\"\",VLOOKUP(I495,List_CMS!$L$3:$Q$79,6,FALSE))","v":""}]
[{"$f":"+IF(H496=\"\",\"\",MAX(A$1:A495)+1)","v":""},{"$f":"IF(CMS_Downtime!B517=\"\",\"\",CMS_Downtime!B517)","v":""},{"$f":"IF(CMS_Downtime!$B517=\"\",\"\",CMS_Downtime!C517)","v":""},{"$f":"IF(CMS_Downtime!$B517=\"\",\"\",CMS_Downtime!D517)","v":""},{"$f":"IF(CMS_Downtime!$B517=\"\",\"\",CMS_Downtime!E517)","v":""},{"$f":"IF(CMS_Downtime!$B517=\"\",\"\",CMS_Downtime!#REF!)","v":""},"",{"$f":"IF(COUNTIF(G$2:G496,G496)=1,G496,\"\")","v":""},"","","","","",{"$f":"IF(I496=\"\",\"\",VLOOKUP(I496,List_CMS!$L$3:$Q$79,6,FALSE))","v":""}]
[{"$f":"+IF(H497=\"\",\"\",MAX(A$1:A496)+1)","v":""},{"$f":"IF(CMS_Downtime!B518=\"\",\"\",CMS_Downtime!B518)","v":""},{"$f":"IF(CMS_Downtime!$B518=\"\",\"\",CMS_Downtime!C518)","v":""},{"$f":"IF(CMS_Downtime!$B518=\"\",\"\",CMS_Downtime!D518)","v":""},{"$f":"IF(CMS_Downtime!$B518=\"\",\"\",CMS_Downtime!E518)","v":""},{"$f":"IF(CMS_Downtime!$B518=\"\",\"\",CMS_Downtime!#REF!)","v":""},"",{"$f":"IF(COUNTIF(G$2:G497,G497)=1,G497,\"\")","v":""},"","","","","",{"$f":"IF(I497=\"\",\"\",VLOOKUP(I497,List_CMS!$L$3:$Q$79,6,FALSE))","v":""}]
[{"$f":"+IF(H498=\"\",\"\",MAX(A$1:A497)+1)","v":""},{"$f":"IF(CMS_Downtime!B519=\"\",\"\",CMS_Downtime!B519)","v":""},{"$f":"IF(CMS_Downtime!$B519=\"\",\"\",CMS_Downtime!C519)","v":""},{"$f":"IF(CMS_Downtime!$B519=\"\",\"\",CMS_Downtime!D519)","v":""},{"$f":"IF(CMS_Downtime!$B519=\"\",\"\",CMS_Downtime!E519)","v":""},{"$f":"IF(CMS_Downtime!$B519=\"\",\"\",CMS_Downtime!#REF!)","v":""},"",{"$f":"IF(COUNTIF(G$2:G498,G498)=1,G498,\"\")","v":""},"","","","","",{"$f":"IF(I498=\"\",\"\",VLOOKUP(I498,List_CMS!$L$3:$Q$79,6,FALSE))","v":""}]
[{"$f":"+IF(H499=\"\",\"\",MAX(A$1:A498)+1)","v":""},{"$f":"IF(CMS_Downtime!B520=\"\",\"\",CMS_Downtime!B520)","v":""},{"$f":"IF(CMS_Downtime!$B520=\"\",\"\",CMS_Downtime!C520)","v":""},{"$f":"IF(CMS_Downtime!$B520=\"\",\"\",CMS_Downtime!D520)","v":""},{"$f":"IF(CMS_Downtime!$B520=\"\",\"\",CMS_Downtime!E520)","v":""},{"$f":"IF(CMS_Downtime!$B520=\"\",\"\",CMS_Downtime!#REF!)","v":""},"",{"$f":"IF(COUNTIF(G$2:G499,G499)=1,G499,\"\")","v":""},"","","","","",{"$f":"IF(I499=\"\",\"\",VLOOKUP(I499,List_CMS!$L$3:$Q$79,6,FALSE))","v":""}]
[{"$f":"+IF(H500=\"\",\"\",MAX(A$1:A499)+1)","v":""},{"$f":"IF(CMS_Downtime!B521=\"\",\"\",CMS_Downtime!B521)","v":""},{"$f":"IF(CMS_Downtime!$B521=\"\",\"\",CMS_Downtime!C521)","v":""},{"$f":"IF(CMS_Downtime!$B521=\"\",\"\",CMS_Downtime!D521)","v":""},{"$f":"IF(CMS_Downtime!$B521=\"\",\"\",CMS_Downtime!E521)","v":""},{"$f":"IF(CMS_Downtime!$B521=\"\",\"\",CMS_Downtime!#REF!)","v":""},"",{"$f":"IF(COUNTIF(G$2:G500,G500)=1,G500,\"\")","v":""},"","","","","",{"$f":"IF(I500=\"\",\"\",VLOOKUP(I500,List_CMS!$L$3:$Q$79,6,FALSE))","v":""}]
[{"$f":"+IF(H501=\"\",\"\",MAX(A$1:A500)+1)","v":""},{"$f":"IF(CMS_Downtime!B522=\"\",\"\",CMS_Downtime!B522)","v":""},{"$f":"IF(CMS_Downtime!$B522=\"\",\"\",CMS_Downtime!C522)","v":""},{"$f":"IF(CMS_Downtime!$B522=\"\",\"\",CMS_Downtime!D522)","v":""},{"$f":"IF(CMS_Downtime!$B522=\"\",\"\",CMS_Downtime!E522)","v":""},{"$f":"IF(CMS_Downtime!$B522=\"\",\"\",CMS_Downtime!#REF!)","v":""},"",{"$f":"IF(COUNTIF(G$2:G501,G501)=1,G501,\"\")","v":""},"","","","","",{"$f":"IF(I501=\"\",\"\",VLOOKUP(I501,List_CMS!$L$3:$Q$79,6,FALSE))","v":""}]

{"sheet":"CMS_Downtime_Summary","index":10,"n_rows":100,"n_cols":12,"rows_kept":100,"cut":false,"hidden":false,"merged":[]}
[null,"DO NOT REMOVE OR EDIT INFORMATION IN ROWS 1 THROUGH 5\nFOR INTERNAL USE ONLY"]
[null,"Template Name"]
[null,"CitationID"]
[null,"Template Version"]
[null,"Last Updated Date"]
[]
[null,"40 CFR Part 63, Subpart JJJJ National Emission Standards for Hazardous Air Pollutants: Paper and Other Web Coating - §63.3400 Semiannual Compliance Report Spreadsheet Template"]
[]
[]
[]
[]
[null,"Company Record No.\n(Autocompleted)","Control Device\n(§63.3400(c)(2)(v) and (vi))\n(Autocompleted)","Brief Description of CMS\n(§63.3400(c)(2)(vi))\n(Autocompleted)","Total Source\nOperating Time per Operating Scenario (hours)\n(§63.3400(c)(2)(vi)(A))\n(Autocompleted)","Total Duration of Downtime (hours)\n(§63.3400(c)(2)(vi)(G))\n(Calculated Value)","Total Duration of Downtime as a Percent of Total Source Operating Time\n(§63.3400(c)(2)(vi)(G))\n(Calculated Value)","Total Duration of Downtime Due to Monitoring Equipment Malfunctions (hours)\n(§63.3400(c)(2)(vi)(H))\n(Calculated Value)","Total Duration of Downtime Due to Non-Monitoring Equipment Malfunctions (hours)\n(§63.3400(c)(2)(vi)(H))\n(Calculated Value)","Total Duration of\n Downtime Due to QA/QC Calibrations (hours)\n(§63.3400(c)(2)(vi)(H))\n(Calculated Value)","Total Duration of Downtime Due to Other Known Causes (hours)\n(§63.3400(c)(2)(vi)(H))\n(Calculated Value)","Total Duration of Downtime \nDue to Other Unknown Causes (hours)\n(§63.3400(c)(2)(vi)(H))\n(Calculated Value)"]
[null,"RecordId","ControlID_CMSDS","CMSDescription_CMSDS","CMSDOperatingTime","TotalDuration_CMSDS","TotalDurationPercent_CMSDS","TotalDurationMonitMal_CMSDS","TotalDurationNonMonitMal_CMSDS","TotalDurationQAQC_CMSDS","TotalDurationKnown_CMSDS","TotalDurationUnknown_CMSDS"]
[null,"e.g.: 1","e.g. Group 1","e.g. Thermal Oxidizer Combustion Chamber Thermocouple","e.g.: 4300 ","e.g.: 1.88","e.g.: 0.04%","e.g.: 1.88","e.g.: 0.00","e.g.: 0.00","e.g.: 0.00","e.g.: 0.00"]
[null,"e.g.:","e.g.:","e.g.:","e.g.:","e.g.:","e.g.:","e.g.:","e.g.:","e.g.:","e.g.:","e.g.:"]
[null,"e.g.:","e.g.:","e.g.:","e.g.:","e.g.:","e.g.:","e.g.:","e.g.:","e.g.:","e.g.:","e.g.:"]
[null,"e.g.:","e.g.:","e.g.:","e.g.:","e.g.:","e.g.:","e.g.:","e.g.:","e.g.:","e.g.:","e.g.:"]
[null,"e.g.:","e.g.:","e.g.:","e.g.:","e.g.:","e.g.:","e.g.:","e.g.:","e.g.:","e.g.:","e.g.:"]
[null,"e.g.:","e.g.:","e.g.:","e.g.:","e.g.:","e.g.:","e.g.:","e.g.:","e.g.:","e.g.:","e.g.:"]
[null,"e.g.:","e.g.:","e.g.:","e.g.:","e.g.:","e.g.:","e.g.:","e.g.:","e.g.:","e.g.:","e.g.:"]
[null,"e.g.:","e.g.:","e.g.:","e.g.:","e.g.:","e.g.:","e.g.:","e.g.:","e.g.:","e.g.:","e.g.:"]
[null,"e.g.:","e.g.:","e.g.:","e.g.:","e.g.:","e.g.:","e.g.:","e.g.:","e.g.:","e.g.:","e.g.:"]
[null,"e.g.:","e.g.:","e.g.:","e.g.:","e.g.:","e.g.:","e.g.:","e.g.:","e.g.:","e.g.:","e.g.:"]
[null,{"$f":"IF(CMS_Downtime_Data!J3=\"\",\"\",CMS_Downtime_Data!J3)","v":""},{"$f":"IF(CMS_Downtime_Data!K3=\"\",\"\",CMS_Downtime_Data!K3)","v":""},{"$f":"IF(CMS_Downtime_Data!M3=\"\",\"\",CMS_Downtime_Data!M3)","v":""},{"$f":"IF(CMS_Downtime_Data!N3=\"\",\"\",CMS_Downtime_Data!N3)","v":""},{"$f":"IF(E24=\"\",\"\",SUMIFS(CMS_Downtime!$L$24:$L$500,CMS_Downtime!$B$24:$B$500,B24,CMS_Downtime!$C$24:$C$500,C24,CMS_Downtime!$E$24:$E$500,D24))","v":""},{"$f":"IF(F24=\"\",\"\",F24/E24)","v":""},{"$f":"IF($E24=\"\",\"\",SUMIFS(CMS_Downtime!$L$24:$L$500,CMS_Downtime!$B$24:$B$500,$B24,CMS_Downtime!$C$24:$C$500,$C24,CMS_Downtime!$E$24:$E$500,$D24,CMS_Downtime!$M$24:$M$500,\"Monitoring equipment malfunctions\"))","v":""},{"$f":"IF($E24=\"\",\"\",SUMIFS(CMS_Downtime!$L$24:$L$500,CMS_Downtime!$B$24:$B$500,$B24,CMS_Downtime!$C$24:$C$500,$C24,CMS_Downtime!$E$24:$E$500,$D24,CMS_Downtime!$M$24:$M$500,\"Non-monitoring equipment malfunctions\"))","v":""},{"$f":"IF($E24=\"\",\"\",SUMIFS(CMS_Downtime!$L$24:$L$500,CMS_Downtime!$B$24:$B$500,$B24,CMS_Downtime!$C$24:$C$500,$C24,CMS_Downtime!$E$24:$E$500,$D24,CMS_Downtime!$M$24:$M$500,\"Quality assurance/quality control calibrations\"))","v":""},{"$f":"IF($E24=\"\",\"\",SUMIFS(CMS_Downtime!$L$24:$L$500,CMS_Downtime!$B$24:$B$500,$B24,CMS_Downtime!$C$24:$C$500,$C24,CMS_Downtime!$E$24:$E$500,$D24,CMS_Downtime!$M$24:$M$500,\"Other known causes\"))","v":""},{"$f":"IF($E24=\"\",\"\",SUMIFS(CMS_Downtime!$L$24:$L$500,CMS_Downtime!$B$24:$B$500,$B24,CMS_Downtime!$C$24:$C$500,$C24,CMS_Downtime!$E$24:$E$500,$D24,CMS_Downtime!$M$24:$M$500,\"Other unknown causes\"))","v":""}]
[null,{"$f":"IF(CMS_Downtime_Data!J4=\"\",\"\",CMS_Downtime_Data!J4)","v":""},{"$f":"IF(CMS_Downtime_Data!K4=\"\",\"\",CMS_Downtime_Data!K4)","v":""},{"$f":"IF(CMS_Downtime_Data!M4=\"\",\"\",CMS_Downtime_Data!M4)","v":""},{"$f":"IF(CMS_Downtime_Data!N4=\"\",\"\",CMS_Downtime_Data!N4)","v":""},{"$f":"IF(E25=\"\",\"\",SUMIFS(CMS_Downtime!$L$24:$L$500,CMS_Downtime!$B$24:$B$500,B25,CMS_Downtime!$C$24:$C$500,C25,CMS_Downtime!$E$24:$E$500,D25))","v":""},{"$f":"IF(F25=\"\",\"\",F25/E25)","v":""},{"$f":"IF($E25=\"\",\"\",SUMIFS(CMS_Downtime!$L$24:$L$500,CMS_Downtime!$B$24:$B$500,B25,CMS_Downtime!$C$24:$C$500,C25,CMS_Downtime!$E$24:$E$500,D25,CMS_Downtime!$M$24:$M$500,\"Monitoring equipment malfunctions\"))","v":""},{"$f":"IF($E25=\"\",\"\",SUMIFS(CMS_Downtime!$L$24:$L$500,CMS_Downtime!$B$24:$B$500,$B25,CMS_Downtime!$C$24:$C$500,$C25,CMS_Downtime!$E$24:$E$500,$D25,CMS_Downtime!$M$24:$M$500,\"Non-monitoring equipment malfunctions\"))","v":""},{"$f":"IF($E25=\"\",\"\",SUMIFS(CMS_Downtime!$L$24:$L$500,CMS_Downtime!$B$24:$B$500,$B25,CMS_Downtime!$C$24:$C$500,$C25,CMS_Downtime!$E$24:$E$500,$D25,CMS_Downtime!$M$24:$M$500,\"Quality assurance/quality control calibrations\"))","v":""},{"$f":"IF($E25=\"\",\"\",SUMIFS(CMS_Downtime!$L$24:$L$500,CMS_Downtime!$B$24:$B$500,$B25,CMS_Downtime!$C$24:$C$500,$C25,CMS_Downtime!$E$24:$E$500,$D25,CMS_Downtime!$M$24:$M$500,\"Other known causes\"))","v":""},{"$f":"IF($E25=\"\",\"\",SUMIFS(CMS_Downtime!$L$24:$L$500,CMS_Downtime!$B$24:$B$500,$B25,CMS_Downtime!$C$24:$C$500,$C25,CMS_Downtime!$E$24:$E$500,$D25,CMS_Downtime!$M$24:$M$500,\"Other unknown causes\"))","v":""}]
[null,{"$f":"IF(CMS_Downtime_Data!J5=\"\",\"\",CMS_Downtime_Data!J5)","v":""},{"$f":"IF(CMS_Downtime_Data!K5=\"\",\"\",CMS_Downtime_Data!K5)","v":""},{"$f":"IF(CMS_Downtime_Data!M5=\"\",\"\",CMS_Downtime_Data!M5)","v":""},{"$f":"IF(CMS_Downtime_Data!N5=\"\",\"\",CMS_Downtime_Data!N5)","v":""},{"$f":"IF(E26=\"\",\"\",SUMIFS(CMS_Downtime!$L$24:$L$500,CMS_Downtime!$B$24:$B$500,B26,CMS_Downtime!$C$24:$C$500,C26,CMS_Downtime!$E$24:$E$500,D26))","v":""},"",{"$f":"IF($E26=\"\",\"\",SUMIFS(CMS_Downtime!$L$24:$L$500,CMS_Downtime!$B$24:$B$500,B26,CMS_Downtime!$C$24:$C$500,C26,CMS_Downtime!$E$24:$E$500,D26,CMS_Downtime!$M$24:$M$500,\"Monitoring equipment malfunctions\"))","v":""},{"$f":"IF($E26=\"\",\"\",SUMIFS(CMS_Downtime!$L$24:$L$500,CMS_Downtime!$B$24:$B$500,$B26,CMS_Downtime!$C$24:$C$500,$C26,CMS_Downtime!$E$24:$E$500,$D26,CMS_Downtime!$M$24:$M$500,\"Non-monitoring equipment malfunctions\"))","v":""},{"$f":"IF($E26=\"\",\"\",SUMIFS(CMS_Downtime!$L$24:$L$500,CMS_Downtime!$B$24:$B$500,$B26,CMS_Downtime!$C$24:$C$500,$C26,CMS_Downtime!$E$24:$E$500,$D26,CMS_Downtime!$M$24:$M$500,\"Quality assurance/quality control calibrations\"))","v":""},{"$f":"IF($E26=\"\",\"\",SUMIFS(CMS_Downtime!$L$24:$L$500,CMS_Downtime!$B$24:$B$500,$B26,CMS_Downtime!$C$24:$C$500,$C26,CMS_Downtime!$E$24:$E$500,$D26,CMS_Downtime!$M$24:$M$500,\"Other known causes\"))","v":""},{"$f":"IF($E26=\"\",\"\",SUMIFS(CMS_Downtime!$L$24:$L$500,CMS_Downtime!$B$24:$B$500,$B26,CMS_Downtime!$C$24:$C$500,$C26,CMS_Downtime!$E$24:$E$500,$D26,CMS_Downtime!$M$24:$M$500,\"Other unknown causes\"))","v":""}]
[null,{"$f":"IF(CMS_Downtime_Data!J6=\"\",\"\",CMS_Downtime_Data!J6)","v":""},{"$f":"IF(CMS_Downtime_Data!K6=\"\",\"\",CMS_Downtime_Data!K6)","v":""},{"$f":"IF(CMS_Downtime_Data!M6=\"\",\"\",CMS_Downtime_Data!M6)","v":""},{"$f":"IF(CMS_Downtime_Data!N6=\"\",\"\",CMS_Downtime_Data!N6)","v":""},{"$f":"IF(E27=\"\",\"\",SUMIFS(CMS_Downtime!$L$24:$L$500,CMS_Downtime!$B$24:$B$500,B27,CMS_Downtime!$C$24:$C$500,C27,CMS_Downtime!$E$24:$E$500,D27))","v":""},"",{"$f":"IF($E27=\"\",\"\",SUMIFS(CMS_Downtime!$L$24:$L$500,CMS_Downtime!$B$24:$B$500,B27,CMS_Downtime!$C$24:$C$500,C27,CMS_Downtime!$E$24:$E$500,D27,CMS_Downtime!$M$24:$M$500,\"Monitoring equipment malfunctions\"))","v":""},{"$f":"IF($E27=\"\",\"\",SUMIFS(CMS_Downtime!$L$24:$L$500,CMS_Downtime!$B$24:$B$500,$B27,CMS_Downtime!$C$24:$C$500,$C27,CMS_Downtime!$E$24:$E$500,$D27,CMS_Downtime!$M$24:$M$500,\"Non-monitoring equipment malfunctions\"))","v":""},{"$f":"IF($E27=\"\",\"\",SUMIFS(CMS_Downtime!$L$24:$L$500,CMS_Downtime!$B$24:$B$500,$B27,CMS_Downtime!$C$24:$C$500,$C27,CMS_Downtime!$E$24:$E$500,$D27,CMS_Downtime!$M$24:$M$500,\"Quality assurance/quality control calibrations\"))","v":""},{"$f":"IF($E27=\"\",\"\",SUMIFS(CMS_Downtime!$L$24:$L$500,CMS_Downtime!$B$24:$B$500,$B27,CMS_Downtime!$C$24:$C$500,$C27,CMS_Downtime!$E$24:$E$500,$D27,CMS_Downtime!$M$24:$M$500,\"Other known causes\"))","v":""},{"$f":"IF($E27=\"\",\"\",SUMIFS(CMS_Downtime!$L$24:$L$500,CMS_Downtime!$B$24:$B$500,$B27,CMS_Downtime!$C$24:$C$500,$C27,CMS_Downtime!$E$24:$E$500,$D27,CMS_Downtime!$M$24:$M$500,\"Other unknown causes\"))","v":""}]
[null,{"$f":"IF(CMS_Downtime_Data!J7=\"\",\"\",CMS_Downtime_Data!J7)","v":""},{"$f":"IF(CMS_Downtime_Data!K7=\"\",\"\",CMS_Downtime_Data!K7)","v":""},{"$f":"IF(CMS_Downtime_Data!M7=\"\",\"\",CMS_Downtime_Data!M7)","v":""},{"$f":"IF(CMS_Downtime_Data!N7=\"\",\"\",CMS_Downtime_Data!N7)","v":""},{"$f":"IF(E28=\"\",\"\",SUMIFS(CMS_Downtime!$L$24:$L$500,CMS_Downtime!$B$24:$B$500,B28,CMS_Downtime!$C$24:$C$500,C28,CMS_Downtime!$E$24:$E$500,D28))","v":""},"",{"$f":"IF($E28=\"\",\"\",SUMIFS(CMS_Downtime!$L$24:$L$500,CMS_Downtime!$B$24:$B$500,B28,CMS_Downtime!$C$24:$C$500,C28,CMS_Downtime!$E$24:$E$500,D28,CMS_Downtime!$M$24:$M$500,\"Monitoring equipment malfunctions\"))","v":""},{"$f":"IF($E28=\"\",\"\",SUMIFS(CMS_Downtime!$L$24:$L$500,CMS_Downtime!$B$24:$B$500,$B28,CMS_Downtime!$C$24:$C$500,$C28,CMS_Downtime!$E$24:$E$500,$D28,CMS_Downtime!$M$24:$M$500,\"Non-monitoring equipment malfunctions\"))","v":""},{"$f":"IF($E28=\"\",\"\",SUMIFS(CMS_Downtime!$L$24:$L$500,CMS_Downtime!$B$24:$B$500,$B28,CMS_Downtime!$C$24:$C$500,$C28,CMS_Downtime!$E$24:$E$500,$D28,CMS_Downtime!$M$24:$M$500,\"Quality assurance/quality control calibrations\"))","v":""},{"$f":"IF($E28=\"\",\"\",SUMIFS(CMS_Downtime!$L$24:$L$500,CMS_Downtime!$B$24:$B$500,$B28,CMS_Downtime!$C$24:$C$500,$C28,CMS_Downtime!$E$24:$E$500,$D28,CMS_Downtime!$M$24:$M$500,\"Other known causes\"))","v":""},{"$f":"IF($E28=\"\",\"\",SUMIFS(CMS_Downtime!$L$24:$L$500,CMS_Downtime!$B$24:$B$500,$B28,CMS_Downtime!$C$24:$C$500,$C28,CMS_Downtime!$E$24:$E$500,$D28,CMS_Downtime!$M$24:$M$500,\"Other unknown causes\"))","v":""}]
[null,{"$f":"IF(CMS_Downtime_Data!J8=\"\",\"\",CMS_Downtime_Data!J8)","v":""},{"$f":"IF(CMS_Downtime_Data!K8=\"\",\"\",CMS_Downtime_Data!K8)","v":""},{"$f":"IF(CMS_Downtime_Data!M8=\"\",\"\",CMS_Downtime_Data!M8)","v":""},{"$f":"IF(CMS_Downtime_Data!N8=\"\",\"\",CMS_Downtime_Data!N8)","v":""},{"$f":"IF(E29=\"\",\"\",SUMIFS(CMS_Downtime!$L$24:$L$500,CMS_Downtime!$B$24:$B$500,B29,CMS_Downtime!$C$24:$C$500,C29,CMS_Downtime!$E$24:$E$500,D29))","v":""},"",{"$f":"IF($E29=\"\",\"\",SUMIFS(CMS_Downtime!$L$24:$L$500,CMS_Downtime!$B$24:$B$500,B29,CMS_Downtime!$C$24:$C$500,C29,CMS_Downtime!$E$24:$E$500,D29,CMS_Downtime!$M$24:$M$500,\"Monitoring equipment malfunctions\"))","v":""},{"$f":"IF($E29=\"\",\"\",SUMIFS(CMS_Downtime!$L$24:$L$500,CMS_Downtime!$B$24:$B$500,$B29,CMS_Downtime!$C$24:$C$500,$C29,CMS_Downtime!$E$24:$E$500,$D29,CMS_Downtime!$M$24:$M$500,\"Non-monitoring equipment malfunctions\"))","v":""},{"$f":"IF($E29=\"\",\"\",SUMIFS(CMS_Downtime!$L$24:$L$500,CMS_Downtime!$B$24:$B$500,$B29,CMS_Downtime!$C$24:$C$500,$C29,CMS_Downtime!$E$24:$E$500,$D29,CMS_Downtime!$M$24:$M$500,\"Quality assurance/quality control calibrations\"))","v":""},{"$f":"IF($E29=\"\",\"\",SUMIFS(CMS_Downtime!$L$24:$L$500,CMS_Downtime!$B$24:$B$500,$B29,CMS_Downtime!$C$24:$C$500,$C29,CMS_Downtime!$E$24:$E$500,$D29,CMS_Downtime!$M$24:$M$500,\"Other known causes\"))","v":""},{"$f":"IF($E29=\"\",\"\",SUMIFS(CMS_Downtime!$L$24:$L$500,CMS_Downtime!$B$24:$B$500,$B29,CMS_Downtime!$C$24:$C$500,$C29,CMS_Downtime!$E$24:$E$500,$D29,CMS_Downtime!$M$24:$M$500,\"Other unknown causes\"))","v":""}]
[null,{"$f":"IF(CMS_Downtime_Data!J9=\"\",\"\",CMS_Downtime_Data!J9)","v":""},{"$f":"IF(CMS_Downtime_Data!K9=\"\",\"\",CMS_Downtime_Data!K9)","v":""},{"$f":"IF(CMS_Downtime_Data!M9=\"\",\"\",CMS_Downtime_Data!M9)","v":""},{"$f":"IF(CMS_Downtime_Data!N9=\"\",\"\",CMS_Downtime_Data!N9)","v":""},{"$f":"IF(E30=\"\",\"\",SUMIFS(CMS_Downtime!$L$24:$L$500,CMS_Downtime!$B$24:$B$500,B30,CMS_Downtime!$C$24:$C$500,C30,CMS_Downtime!$E$24:$E$500,D30))","v":""},"",{"$f":"IF($E30=\"\",\"\",SUMIFS(CMS_Downtime!$L$24:$L$500,CMS_Downtime!$B$24:$B$500,B30,CMS_Downtime!$C$24:$C$500,C30,CMS_Downtime!$E$24:$E$500,D30,CMS_Downtime!$M$24:$M$500,\"Monitoring equipment malfunctions\"))","v":""},{"$f":"IF($E30=\"\",\"\",SUMIFS(CMS_Downtime!$L$24:$L$500,CMS_Downtime!$B$24:$B$500,$B30,CMS_Downtime!$C$24:$C$500,$C30,CMS_Downtime!$E$24:$E$500,$D30,CMS_Downtime!$M$24:$M$500,\"Non-monitoring equipment malfunctions\"))","v":""},{"$f":"IF($E30=\"\",\"\",SUMIFS(CMS_Downtime!$L$24:$L$500,CMS_Downtime!$B$24:$B$500,$B30,CMS_Downtime!$C$24:$C$500,$C30,CMS_Downtime!$E$24:$E$500,$D30,CMS_Downtime!$M$24:$M$500,\"Quality assurance/quality control calibrations\"))","v":""},{"$f":"IF($E30=\"\",\"\",SUMIFS(CMS_Downtime!$L$24:$L$500,CMS_Downtime!$B$24:$B$500,$B30,CMS_Downtime!$C$24:$C$500,$C30,CMS_Downtime!$E$24:$E$500,$D30,CMS_Downtime!$M$24:$M$500,\"Other known causes\"))","v":""},{"$f":"IF($E30=\"\",\"\",SUMIFS(CMS_Downtime!$L$24:$L$500,CMS_Downtime!$B$24:$B$500,$B30,CMS_Downtime!$C$24:$C$500,$C30,CMS_Downtime!$E$24:$E$500,$D30,CMS_Downtime!$M$24:$M$500,\"Other unknown causes\"))","v":""}]
[null,{"$f":"IF(CMS_Downtime_Data!J10=\"\",\"\",CMS_Downtime_Data!J10)","v":""},{"$f":"IF(CMS_Downtime_Data!K10=\"\",\"\",CMS_Downtime_Data!K10)","v":""},{"$f":"IF(CMS_Downtime_Data!M10=\"\",\"\",CMS_Downtime_Data!M10)","v":""},{"$f":"IF(CMS_Downtime_Data!N10=\"\",\"\",CMS_Downtime_Data!N10)","v":""},{"$f":"IF(E31=\"\",\"\",SUMIFS(CMS_Downtime!$L$24:$L$500,CMS_Downtime!$B$24:$B$500,B31,CMS_Downtime!$C$24:$C$500,C31,CMS_Downtime!$E$24:$E$500,D31))","v":""},"",{"$f":"IF($E31=\"\",\"\",SUMIFS(CMS_Downtime!$L$24:$L$500,CMS_Downtime!$B$24:$B$500,B31,CMS_Downtime!$C$24:$C$500,C31,CMS_Downtime!$E$24:$E$500,D31,CMS_Downtime!$M$24:$M$500,\"Monitoring equipment malfunctions\"))","v":""},{"$f":"IF($E31=\"\",\"\",SUMIFS(CMS_Downtime!$L$24:$L$500,CMS_Downtime!$B$24:$B$500,$B31,CMS_Downtime!$C$24:$C$500,$C31,CMS_Downtime!$E$24:$E$500,$D31,CMS_Downtime!$M$24:$M$500,\"Non-monitoring equipment malfunctions\"))","v":""},{"$f":"IF($E31=\"\",\"\",SUMIFS(CMS_Downtime!$L$24:$L$500,CMS_Downtime!$B$24:$B$500,$B31,CMS_Downtime!$C$24:$C$500,$C31,CMS_Downtime!$E$24:$E$500,$D31,CMS_Downtime!$M$24:$M$500,\"Quality assurance/quality control calibrations\"))","v":""},{"$f":"IF($E31=\"\",\"\",SUMIFS(CMS_Downtime!$L$24:$L$500,CMS_Downtime!$B$24:$B$500,$B31,CMS_Downtime!$C$24:$C$500,$C31,CMS_Downtime!$E$24:$E$500,$D31,CMS_Downtime!$M$24:$M$500,\"Other known causes\"))","v":""},{"$f":"IF($E31=\"\",\"\",SUMIFS(CMS_Downtime!$L$24:$L$500,CMS_Downtime!$B$24:$B$500,$B31,CMS_Downtime!$C$24:$C$500,$C31,CMS_Downtime!$E$24:$E$500,$D31,CMS_Downtime!$M$24:$M$500,\"Other unknown causes\"))","v":""}]
[null,{"$f":"IF(CMS_Downtime_Data!J11=\"\",\"\",CMS_Downtime_Data!J11)","v":""},{"$f":"IF(CMS_Downtime_Data!K11=\"\",\"\",CMS_Downtime_Data!K11)","v":""},{"$f":"IF(CMS_Downtime_Data!M11=\"\",\"\",CMS_Downtime_Data!M11)","v":""},{"$f":"IF(CMS_Downtime_Data!N11=\"\",\"\",CMS_Downtime_Data!N11)","v":""},{"$f":"IF(E32=\"\",\"\",SUMIFS(CMS_Downtime!$L$24:$L$500,CMS_Downtime!$B$24:$B$500,B32,CMS_Downtime!$C$24:$C$500,C32,CMS_Downtime!$E$24:$E$500,D32))","v":""},"",{"$f":"IF($E32=\"\",\"\",SUMIFS(CMS_Downtime!$L$24:$L$500,CMS_Downtime!$B$24:$B$500,B32,CMS_Downtime!$C$24:$C$500,C32,CMS_Downtime!$E$24:$E$500,D32,CMS_Downtime!$M$24:$M$500,\"Monitoring equipment malfunctions\"))","v":""},{"$f":"IF($E32=\"\",\"\",SUMIFS(CMS_Downtime!$L$24:$L$500,CMS_Downtime!$B$24:$B$500,$B32,CMS_Downtime!$C$24:$C$500,$C32,CMS_Downtime!$E$24:$E$500,$D32,CMS_Downtime!$M$24:$M$500,\"Non-monitoring equipment malfunctions\"))","v":""},{"$f":"IF($E32=\"\",\"\",SUMIFS(CMS_Downtime!$L$24:$L$500,CMS_Downtime!$B$24:$B$500,$B32,CMS_Downtime!$C$24:$C$500,$C32,CMS_Downtime!$E$24:$E$500,$D32,CMS_Downtime!$M$24:$M$500,\"Quality assurance/quality control calibrations\"))","v":""},{"$f":"IF($E32=\"\",\"\",SUMIFS(CMS_Downtime!$L$24:$L$500,CMS_Downtime!$B$24:$B$500,$B32,CMS_Downtime!$C$24:$C$500,$C32,CMS_Downtime!$E$24:$E$500,$D32,CMS_Downtime!$M$24:$M$500,\"Other known causes\"))","v":""},{"$f":"IF($E32=\"\",\"\",SUMIFS(CMS_Downtime!$L$24:$L$500,CMS_Downtime!$B$24:$B$500,$B32,CMS_Downtime!$C$24:$C$500,$C32,CMS_Downtime!$E$24:$E$500,$D32,CMS_Downtime!$M$24:$M$500,\"Other unknown causes\"))","v":""}]
[null,{"$f":"IF(CMS_Downtime_Data!J12=\"\",\"\",CMS_Downtime_Data!J12)","v":""},{"$f":"IF(CMS_Downtime_Data!K12=\"\",\"\",CMS_Downtime_Data!K12)","v":""},{"$f":"IF(CMS_Downtime_Data!M12=\"\",\"\",CMS_Downtime_Data!M12)","v":""},{"$f":"IF(CMS_Downtime_Data!N12=\"\",\"\",CMS_Downtime_Data!N12)","v":""},{"$f":"IF(E33=\"\",\"\",SUMIFS(CMS_Downtime!$L$24:$L$500,CMS_Downtime!$B$24:$B$500,B33,CMS_Downtime!$C$24:$C$500,C33,CMS_Downtime!$E$24:$E$500,D33))","v":""},"",{"$f":"IF($E33=\"\",\"\",SUMIFS(CMS_Downtime!$L$24:$L$500,CMS_Downtime!$B$24:$B$500,B33,CMS_Downtime!$C$24:$C$500,C33,CMS_Downtime!$E$24:$E$500,D33,CMS_Downtime!$M$24:$M$500,\"Monitoring equipment malfunctions\"))","v":""},{"$f":"IF($E33=\"\",\"\",SUMIFS(CMS_Downtime!$L$24:$L$500,CMS_Downtime!$B$24:$B$500,$B33,CMS_Downtime!$C$24:$C$500,$C33,CMS_Downtime!$E$24:$E$500,$D33,CMS_Downtime!$M$24:$M$500,\"Non-monitoring equipment malfunctions\"))","v":""},{"$f":"IF($E33=\"\",\"\",SUMIFS(CMS_Downtime!$L$24:$L$500,CMS_Downtime!$B$24:$B$500,$B33,CMS_Downtime!$C$24:$C$500,$C33,CMS_Downtime!$E$24:$E$500,$D33,CMS_Downtime!$M$24:$M$500,\"Quality assurance/quality control calibrations\"))","v":""},{"$f":"IF($E33=\"\",\"\",SUMIFS(CMS_Downtime!$L$24:$L$500,CMS_Downtime!$B$24:$B$500,$B33,CMS_Downtime!$C$24:$C$500,$C33,CMS_Downtime!$E$24:$E$500,$D33,CMS_Downtime!$M$24:$M$500,\"Other known causes\"))","v":""},{"$f":"IF($E33=\"\",\"\",SUMIFS(CMS_Downtime!$L$24:$L$500,CMS_Downtime!$B$24:$B$500,$B33,CMS_Downtime!$C$24:$C$500,$C33,CMS_Downtime!$E$24:$E$500,$D33,CMS_Downtime!$M$24:$M$500,\"Other unknown causes\"))","v":""}]
[null,{"$f":"IF(CMS_Downtime_Data!J13=\"\",\"\",CMS_Downtime_Data!J13)","v":""},{"$f":"IF(CMS_Downtime_Data!K13=\"\",\"\",CMS_Downtime_Data!K13)","v":""},{"$f":"IF(CMS_Downtime_Data!M13=\"\",\"\",CMS_Downtime_Data!M13)","v":""},{"$f":"IF(CMS_Downtime_Data!N13=\"\",\"\",CMS_Downtime_Data!N13)","v":""},{"$f":"IF(E34=\"\",\"\",SUMIFS(CMS_Downtime!$L$24:$L$500,CMS_Downtime!$B$24:$B$500,B34,CMS_Downtime!$C$24:$C$500,C34,CMS_Downtime!$E$24:$E$500,D34))","v":""},"",{"$f":"IF($E34=\"\",\"\",SUMIFS(CMS_Downtime!$L$24:$L$500,CMS_Downtime!$B$24:$B$500,B34,CMS_Downtime!$C$24:$C$500,C34,CMS_Downtime!$E$24:$E$500,D34,CMS_Downtime!$M$24:$M$500,\"Monitoring equipment malfunctions\"))","v":""},{"$f":"IF($E34=\"\",\"\",SUMIFS(CMS_Downtime!$L$24:$L$500,CMS_Downtime!$B$24:$B$500,$B34,CMS_Downtime!$C$24:$C$500,$C34,CMS_Downtime!$E$24:$E$500,$D34,CMS_Downtime!$M$24:$M$500,\"Non-monitoring equipment malfunctions\"))","v":""},{"$f":"IF($E34=\"\",\"\",SUMIFS(CMS_Downtime!$L$24:$L$500,CMS_Downtime!$B$24:$B$500,$B34,CMS_Downtime!$C$24:$C$500,$C34,CMS_Downtime!$E$24:$E$500,$D34,CMS_Downtime!$M$24:$M$500,\"Quality assurance/quality control calibrations\"))","v":""},{"$f":"IF($E34=\"\",\"\",SUMIFS(CMS_Downtime!$L$24:$L$500,CMS_Downtime!$B$24:$B$500,$B34,CMS_Downtime!$C$24:$C$500,$C34,CMS_Downtime!$E$24:$E$500,$D34,CMS_Downtime!$M$24:$M$500,\"Other known causes\"))","v":""},{"$f":"IF($E34=\"\",\"\",SUMIFS(CMS_Downtime!$L$24:$L$500,CMS_Downtime!$B$24:$B$500,$B34,CMS_Downtime!$C$24:$C$500,$C34,CMS_Downtime!$E$24:$E$500,$D34,CMS_Downtime!$M$24:$M$500,\"Other unknown causes\"))","v":""}]
[null,{"$f":"IF(CMS_Downtime_Data!J14=\"\",\"\",CMS_Downtime_Data!J14)","v":""},{"$f":"IF(CMS_Downtime_Data!K14=\"\",\"\",CMS_Downtime_Data!K14)","v":""},{"$f":"IF(CMS_Downtime_Data!M14=\"\",\"\",CMS_Downtime_Data!M14)","v":""},{"$f":"IF(CMS_Downtime_Data!N14=\"\",\"\",CMS_Downtime_Data!N14)","v":""},{"$f":"IF(E35=\"\",\"\",SUMIFS(CMS_Downtime!$L$24:$L$500,CMS_Downtime!$B$24:$B$500,B35,CMS_Downtime!$C$24:$C$500,C35,CMS_Downtime!$E$24:$E$500,D35))","v":""},"",{"$f":"IF($E35=\"\",\"\",SUMIFS(CMS_Downtime!$L$24:$L$500,CMS_Downtime!$B$24:$B$500,B35,CMS_Downtime!$C$24:$C$500,C35,CMS_Downtime!$E$24:$E$500,D35,CMS_Downtime!$M$24:$M$500,\"Monitoring equipment malfunctions\"))","v":""},{"$f":"IF($E35=\"\",\"\",SUMIFS(CMS_Downtime!$L$24:$L$500,CMS_Downtime!$B$24:$B$500,$B35,CMS_Downtime!$C$24:$C$500,$C35,CMS_Downtime!$E$24:$E$500,$D35,CMS_Downtime!$M$24:$M$500,\"Non-monitoring equipment malfunctions\"))","v":""},{"$f":"IF($E35=\"\",\"\",SUMIFS(CMS_Downtime!$L$24:$L$500,CMS_Downtime!$B$24:$B$500,$B35,CMS_Downtime!$C$24:$C$500,$C35,CMS_Downtime!$E$24:$E$500,$D35,CMS_Downtime!$M$24:$M$500,\"Quality assurance/quality control calibrations\"))","v":""},{"$f":"IF($E35=\"\",\"\",SUMIFS(CMS_Downtime!$L$24:$L$500,CMS_Downtime!$B$24:$B$500,$B35,CMS_Downtime!$C$24:$C$500,$C35,CMS_Downtime!$E$24:$E$500,$D35,CMS_Downtime!$M$24:$M$500,\"Other known causes\"))","v":""},{"$f":"IF($E35=\"\",\"\",SUMIFS(CMS_Downtime!$L$24:$L$500,CMS_Downtime!$B$24:$B$500,$B35,CMS_Downtime!$C$24:$C$500,$C35,CMS_Downtime!$E$24:$E$500,$D35,CMS_Downtime!$M$24:$M$500,\"Other unknown causes\"))","v":""}]
[null,{"$f":"IF(CMS_Downtime_Data!J15=\"\",\"\",CMS_Downtime_Data!J15)","v":""},{"$f":"IF(CMS_Downtime_Data!K15=\"\",\"\",CMS_Downtime_Data!K15)","v":""},{"$f":"IF(CMS_Downtime_Data!M15=\"\",\"\",CMS_Downtime_Data!M15)","v":""},{"$f":"IF(CMS_Downtime_Data!N15=\"\",\"\",CMS_Downtime_Data!N15)","v":""},{"$f":"IF(E36=\"\",\"\",SUMIFS(CMS_Downtime!$L$24:$L$500,CMS_Downtime!$B$24:$B$500,B36,CMS_Downtime!$C$24:$C$500,C36,CMS_Downtime!$E$24:$E$500,D36))","v":""},"",{"$f":"IF($E36=\"\",\"\",SUMIFS(CMS_Downtime!$L$24:$L$500,CMS_Downtime!$B$24:$B$500,B36,CMS_Downtime!$C$24:$C$500,C36,CMS_Downtime!$E$24:$E$500,D36,CMS_Downtime!$M$24:$M$500,\"Monitoring equipment malfunctions\"))","v":""},{"$f":"IF($E36=\"\",\"\",SUMIFS(CMS_Downtime!$L$24:$L$500,CMS_Downtime!$B$24:$B$500,$B36,CMS_Downtime!$C$24:$C$500,$C36,CMS_Downtime!$E$24:$E$500,$D36,CMS_Downtime!$M$24:$M$500,\"Non-monitoring equipment malfunctions\"))","v":""},{"$f":"IF($E36=\"\",\"\",SUMIFS(CMS_Downtime!$L$24:$L$500,CMS_Downtime!$B$24:$B$500,$B36,CMS_Downtime!$C$24:$C$500,$C36,CMS_Downtime!$E$24:$E$500,$D36,CMS_Downtime!$M$24:$M$500,\"Quality assurance/quality control calibrations\"))","v":""},{"$f":"IF($E36=\"\",\"\",SUMIFS(CMS_Downtime!$L$24:$L$500,CMS_Downtime!$B$24:$B$500,$B36,CMS_Downtime!$C$24:$C$500,$C36,CMS_Downtime!$E$24:$E$500,$D36,CMS_Downtime!$M$24:$M$500,\"Other known causes\"))","v":""},{"$f":"IF($E36=\"\",\"\",SUMIFS(CMS_Downtime!$L$24:$L$500,CMS_Downtime!$B$24:$B$500,$B36,CMS_Downtime!$C$24:$C$500,$C36,CMS_Downtime!$E$24:$E$500,$D36,CMS_Downtime!$M$24:$M$500,\"Other unknown causes\"))","v":""}]
[null,{"$f":"IF(CMS_Downtime_Data!J16=\"\",\"\",CMS_Downtime_Data!J16)","v":""},{"$f":"IF(CMS_Downtime_Data!K16=\"\",\"\",CMS_Downtime_Data!K16)","v":""},{"$f":"IF(CMS_Downtime_Data!M16=\"\",\"\",CMS_Downtime_Data!M16)","v":""},{"$f":"IF(CMS_Downtime_Data!N16=\"\",\"\",CMS_Downtime_Data!N16)","v":""},{"$f":"IF(E37=\"\",\"\",SUMIFS(CMS_Downtime!$L$24:$L$500,CMS_Downtime!$B$24:$B$500,B37,CMS_Downtime!$C$24:$C$500,C37,CMS_Downtime!$E$24:$E$500,D37))","v":""},"",{"$f":"IF($E37=\"\",\"\",SUMIFS(CMS_Downtime!$L$24:$L$500,CMS_Downtime!$B$24:$B$500,B37,CMS_Downtime!$C$24:$C$500,C37,CMS_Downtime!$E$24:$E$500,D37,CMS_Downtime!$M$24:$M$500,\"Monitoring equipment malfunctions\"))","v":""},{"$f":"IF($E37=\"\",\"\",SUMIFS(CMS_Downtime!$L$24:$L$500,CMS_Downtime!$B$24:$B$500,$B37,CMS_Downtime!$C$24:$C$500,$C37,CMS_Downtime!$E$24:$E$500,$D37,CMS_Downtime!$M$24:$M$500,\"Non-monitoring equipment malfunctions\"))","v":""},{"$f":"IF($E37=\"\",\"\",SUMIFS(CMS_Downtime!$L$24:$L$500,CMS_Downtime!$B$24:$B$500,$B37,CMS_Downtime!$C$24:$C$500,$C37,CMS_Downtime!$E$24:$E$500,$D37,CMS_Downtime!$M$24:$M$500,\"Quality assurance/quality control calibrations\"))","v":""},{"$f":"IF($E37=\"\",\"\",SUMIFS(CMS_Downtime!$L$24:$L$500,CMS_Downtime!$B$24:$B$500,$B37,CMS_Downtime!$C$24:$C$500,$C37,CMS_Downtime!$E$24:$E$500,$D37,CMS_Downtime!$M$24:$M$500,\"Other known causes\"))","v":""},{"$f":"IF($E37=\"\",\"\",SUMIFS(CMS_Downtime!$L$24:$L$500,CMS_Downtime!$B$24:$B$500,$B37,CMS_Downtime!$C$24:$C$500,$C37,CMS_Downtime!$E$24:$E$500,$D37,CMS_Downtime!$M$24:$M$500,\"Other unknown causes\"))","v":""}]
[null,{"$f":"IF(CMS_Downtime_Data!J17=\"\",\"\",CMS_Downtime_Data!J17)","v":""},{"$f":"IF(CMS_Downtime_Data!K17=\"\",\"\",CMS_Downtime_Data!K17)","v":""},{"$f":"IF(CMS_Downtime_Data!M17=\"\",\"\",CMS_Downtime_Data!M17)","v":""},{"$f":"IF(CMS_Downtime_Data!N17=\"\",\"\",CMS_Downtime_Data!N17)","v":""},{"$f":"IF(E38=\"\",\"\",SUMIFS(CMS_Downtime!$L$24:$L$500,CMS_Downtime!$B$24:$B$500,B38,CMS_Downtime!$C$24:$C$500,C38,CMS_Downtime!$E$24:$E$500,D38))","v":""},"",{"$f":"IF($E38=\"\",\"\",SUMIFS(CMS_Downtime!$L$24:$L$500,CMS_Downtime!$B$24:$B$500,B38,CMS_Downtime!$C$24:$C$500,C38,CMS_Downtime!$E$24:$E$500,D38,CMS_Downtime!$M$24:$M$500,\"Monitoring equipment malfunctions\"))","v":""},{"$f":"IF($E38=\"\",\"\",SUMIFS(CMS_Downtime!$L$24:$L$500,CMS_Downtime!$B$24:$B$500,$B38,CMS_Downtime!$C$24:$C$500,$C38,CMS_Downtime!$E$24:$E$500,$D38,CMS_Downtime!$M$24:$M$500,\"Non-monitoring equipment malfunctions\"))","v":""},{"$f":"IF($E38=\"\",\"\",SUMIFS(CMS_Downtime!$L$24:$L$500,CMS_Downtime!$B$24:$B$500,$B38,CMS_Downtime!$C$24:$C$500,$C38,CMS_Downtime!$E$24:$E$500,$D38,CMS_Downtime!$M$24:$M$500,\"Quality assurance/quality control calibrations\"))","v":""},{"$f":"IF($E38=\"\",\"\",SUMIFS(CMS_Downtime!$L$24:$L$500,CMS_Downtime!$B$24:$B$500,$B38,CMS_Downtime!$C$24:$C$500,$C38,CMS_Downtime!$E$24:$E$500,$D38,CMS_Downtime!$M$24:$M$500,\"Other known causes\"))","v":""},{"$f":"IF($E38=\"\",\"\",SUMIFS(CMS_Downtime!$L$24:$L$500,CMS_Downtime!$B$24:$B$500,$B38,CMS_Downtime!$C$24:$C$500,$C38,CMS_Downtime!$E$24:$E$500,$D38,CMS_Downtime!$M$24:$M$500,\"Other unknown causes\"))","v":""}]
[null,{"$f":"IF(CMS_Downtime_Data!J18=\"\",\"\",CMS_Downtime_Data!J18)","v":""},{"$f":"IF(CMS_Downtime_Data!K18=\"\",\"\",CMS_Downtime_Data!K18)","v":""},{"$f":"IF(CMS_Downtime_Data!M18=\"\",\"\",CMS_Downtime_Data!M18)","v":""},{"$f":"IF(CMS_Downtime_Data!N18=\"\",\"\",CMS_Downtime_Data!N18)","v":""},{"$f":"IF(E39=\"\",\"\",SUMIFS(CMS_Downtime!$L$24:$L$500,CMS_Downtime!$B$24:$B$500,B39,CMS_Downtime!$C$24:$C$500,C39,CMS_Downtime!$E$24:$E$500,D39))","v":""},"",{"$f":"IF($E39=\"\",\"\",SUMIFS(CMS_Downtime!$L$24:$L$500,CMS_Downtime!$B$24:$B$500,B39,CMS_Downtime!$C$24:$C$500,C39,CMS_Downtime!$E$24:$E$500,D39,CMS_Downtime!$M$24:$M$500,\"Monitoring equipment malfunctions\"))","v":""},{"$f":"IF($E39=\"\",\"\",SUMIFS(CMS_Downtime!$L$24:$L$500,CMS_Downtime!$B$24:$B$500,$B39,CMS_Downtime!$C$24:$C$500,$C39,CMS_Downtime!$E$24:$E$500,$D39,CMS_Downtime!$M$24:$M$500,\"Non-monitoring equipment malfunctions\"))","v":""},{"$f":"IF($E39=\"\",\"\",SUMIFS(CMS_Downtime!$L$24:$L$500,CMS_Downtime!$B$24:$B$500,$B39,CMS_Downtime!$C$24:$C$500,$C39,CMS_Downtime!$E$24:$E$500,$D39,CMS_Downtime!$M$24:$M$500,\"Quality assurance/quality control calibrations\"))","v":""},{"$f":"IF($E39=\"\",\"\",SUMIFS(CMS_Downtime!$L$24:$L$500,CMS_Downtime!$B$24:$B$500,$B39,CMS_Downtime!$C$24:$C$500,$C39,CMS_Downtime!$E$24:$E$500,$D39,CMS_Downtime!$M$24:$M$500,\"Other known causes\"))","v":""},{"$f":"IF($E39=\"\",\"\",SUMIFS(CMS_Downtime!$L$24:$L$500,CMS_Downtime!$B$24:$B$500,$B39,CMS_Downtime!$C$24:$C$500,$C39,CMS_Downtime!$E$24:$E$500,$D39,CMS_Downtime!$M$24:$M$500,\"Other unknown causes\"))","v":""}]
[null,{"$f":"IF(CMS_Downtime_Data!J19=\"\",\"\",CMS_Downtime_Data!J19)","v":""},{"$f":"IF(CMS_Downtime_Data!K19=\"\",\"\",CMS_Downtime_Data!K19)","v":""},{"$f":"IF(CMS_Downtime_Data!M19=\"\",\"\",CMS_Downtime_Data!M19)","v":""},{"$f":"IF(CMS_Downtime_Data!N19=\"\",\"\",CMS_Downtime_Data!N19)","v":""},{"$f":"IF(E40=\"\",\"\",SUMIFS(CMS_Downtime!$L$24:$L$500,CMS_Downtime!$B$24:$B$500,B40,CMS_Downtime!$C$24:$C$500,C40,CMS_Downtime!$E$24:$E$500,D40))","v":""},"",{"$f":"IF($E40=\"\",\"\",SUMIFS(CMS_Downtime!$L$24:$L$500,CMS_Downtime!$B$24:$B$500,B40,CMS_Downtime!$C$24:$C$500,C40,CMS_Downtime!$E$24:$E$500,D40,CMS_Downtime!$M$24:$M$500,\"Monitoring equipment malfunctions\"))","v":""},{"$f":"IF($E40=\"\",\"\",SUMIFS(CMS_Downtime!$L$24:$L$500,CMS_Downtime!$B$24:$B$500,$B40,CMS_Downtime!$C$24:$C$500,$C40,CMS_Downtime!$E$24:$E$500,$D40,CMS_Downtime!$M$24:$M$500,\"Non-monitoring equipment malfunctions\"))","v":""},{"$f":"IF($E40=\"\",\"\",SUMIFS(CMS_Downtime!$L$24:$L$500,CMS_Downtime!$B$24:$B$500,$B40,CMS_Downtime!$C$24:$C$500,$C40,CMS_Downtime!$E$24:$E$500,$D40,CMS_Downtime!$M$24:$M$500,\"Quality assurance/quality control calibrations\"))","v":""},{"$f":"IF($E40=\"\",\"\",SUMIFS(CMS_Downtime!$L$24:$L$500,CMS_Downtime!$B$24:$B$500,$B40,CMS_Downtime!$C$24:$C$500,$C40,CMS_Downtime!$E$24:$E$500,$D40,CMS_Downtime!$M$24:$M$500,\"Other known causes\"))","v":""},{"$f":"IF($E40=\"\",\"\",SUMIFS(CMS_Downtime!$L$24:$L$500,CMS_Downtime!$B$24:$B$500,$B40,CMS_Downtime!$C$24:$C$500,$C40,CMS_Downtime!$E$24:$E$500,$D40,CMS_Downtime!$M$24:$M$500,\"Other unknown causes\"))","v":""}]
[null,{"$f":"IF(CMS_Downtime_Data!J20=\"\",\"\",CMS_Downtime_Data!J20)","v":""},{"$f":"IF(CMS_Downtime_Data!K20=\"\",\"\",CMS_Downtime_Data!K20)","v":""},{"$f":"IF(CMS_Downtime_Data!M20=\"\",\"\",CMS_Downtime_Data!M20)","v":""},{"$f":"IF(CMS_Downtime_Data!N20=\"\",\"\",CMS_Downtime_Data!N20)","v":""},{"$f":"IF(E41=\"\",\"\",SUMIFS(CMS_Downtime!$L$24:$L$500,CMS_Downtime!$B$24:$B$500,B41,CMS_Downtime!$C$24:$C$500,C41,CMS_Downtime!$E$24:$E$500,D41))","v":""},"",{"$f":"IF($E41=\"\",\"\",SUMIFS(CMS_Downtime!$L$24:$L$500,CMS_Downtime!$B$24:$B$500,B41,CMS_Downtime!$C$24:$C$500,C41,CMS_Downtime!$E$24:$E$500,D41,CMS_Downtime!$M$24:$M$500,\"Monitoring equipment malfunctions\"))","v":""},{"$f":"IF($E41=\"\",\"\",SUMIFS(CMS_Downtime!$L$24:$L$500,CMS_Downtime!$B$24:$B$500,$B41,CMS_Downtime!$C$24:$C$500,$C41,CMS_Downtime!$E$24:$E$500,$D41,CMS_Downtime!$M$24:$M$500,\"Non-monitoring equipment malfunctions\"))","v":""},{"$f":"IF($E41=\"\",\"\",SUMIFS(CMS_Downtime!$L$24:$L$500,CMS_Downtime!$B$24:$B$500,$B41,CMS_Downtime!$C$24:$C$500,$C41,CMS_Downtime!$E$24:$E$500,$D41,CMS_Downtime!$M$24:$M$500,\"Quality assurance/quality control calibrations\"))","v":""},{"$f":"IF($E41=\"\",\"\",SUMIFS(CMS_Downtime!$L$24:$L$500,CMS_Downtime!$B$24:$B$500,$B41,CMS_Downtime!$C$24:$C$500,$C41,CMS_Downtime!$E$24:$E$500,$D41,CMS_Downtime!$M$24:$M$500,\"Other known causes\"))","v":""},{"$f":"IF($E41=\"\",\"\",SUMIFS(CMS_Downtime!$L$24:$L$500,CMS_Downtime!$B$24:$B$500,$B41,CMS_Downtime!$C$24:$C$500,$C41,CMS_Downtime!$E$24:$E$500,$D41,CMS_Downtime!$M$24:$M$500,\"Other unknown causes\"))","v":""}]
[null,{"$f":"IF(CMS_Downtime_Data!J21=\"\",\"\",CMS_Downtime_Data!J21)","v":""},{"$f":"IF(CMS_Downtime_Data!K21=\"\",\"\",CMS_Downtime_Data!K21)","v":""},{"$f":"IF(CMS_Downtime_Data!M21=\"\",\"\",CMS_Downtime_Data!M21)","v":""},{"$f":"IF(CMS_Downtime_Data!N21=\"\",\"\",CMS_Downtime_Data!N21)","v":""},{"$f":"IF(E42=\"\",\"\",SUMIFS(CMS_Downtime!$L$24:$L$500,CMS_Downtime!$B$24:$B$500,B42,CMS_Downtime!$C$24:$C$500,C42,CMS_Downtime!$E$24:$E$500,D42))","v":""},"",{"$f":"IF($E42=\"\",\"\",SUMIFS(CMS_Downtime!$L$24:$L$500,CMS_Downtime!$B$24:$B$500,B42,CMS_Downtime!$C$24:$C$500,C42,CMS_Downtime!$E$24:$E$500,D42,CMS_Downtime!$M$24:$M$500,\"Monitoring equipment malfunctions\"))","v":""},{"$f":"IF($E42=\"\",\"\",SUMIFS(CMS_Downtime!$L$24:$L$500,CMS_Downtime!$B$24:$B$500,$B42,CMS_Downtime!$C$24:$C$500,$C42,CMS_Downtime!$E$24:$E$500,$D42,CMS_Downtime!$M$24:$M$500,\"Non-monitoring equipment malfunctions\"))","v":""},{"$f":"IF($E42=\"\",\"\",SUMIFS(CMS_Downtime!$L$24:$L$500,CMS_Downtime!$B$24:$B$500,$B42,CMS_Downtime!$C$24:$C$500,$C42,CMS_Downtime!$E$24:$E$500,$D42,CMS_Downtime!$M$24:$M$500,\"Quality assurance/quality control calibrations\"))","v":""},{"$f":"IF($E42=\"\",\"\",SUMIFS(CMS_Downtime!$L$24:$L$500,CMS_Downtime!$B$24:$B$500,$B42,CMS_Downtime!$C$24:$C$500,$C42,CMS_Downtime!$E$24:$E$500,$D42,CMS_Downtime!$M$24:$M$500,\"Other known causes\"))","v":""},{"$f":"IF($E42=\"\",\"\",SUMIFS(CMS_Downtime!$L$24:$L$500,CMS_Downtime!$B$24:$B$500,$B42,CMS_Downtime!$C$24:$C$500,$C42,CMS_Downtime!$E$24:$E$500,$D42,CMS_Downtime!$M$24:$M$500,\"Other unknown causes\"))","v":""}]
[null,{"$f":"IF(CMS_Downtime_Data!J22=\"\",\"\",CMS_Downtime_Data!J22)","v":""},{"$f":"IF(CMS_Downtime_Data!K22=\"\",\"\",CMS_Downtime_Data!K22)","v":""},{"$f":"IF(CMS_Downtime_Data!M22=\"\",\"\",CMS_Downtime_Data!M22)","v":""},{"$f":"IF(CMS_Downtime_Data!N22=\"\",\"\",CMS_Downtime_Data!N22)","v":""},{"$f":"IF(E43=\"\",\"\",SUMIFS(CMS_Downtime!$L$24:$L$500,CMS_Downtime!$B$24:$B$500,B43,CMS_Downtime!$C$24:$C$500,C43,CMS_Downtime!$E$24:$E$500,D43))","v":""},"",{"$f":"IF($E43=\"\",\"\",SUMIFS(CMS_Downtime!$L$24:$L$500,CMS_Downtime!$B$24:$B$500,B43,CMS_Downtime!$C$24:$C$500,C43,CMS_Downtime!$E$24:$E$500,D43,CMS_Downtime!$M$24:$M$500,\"Monitoring equipment malfunctions\"))","v":""},{"$f":"IF($E43=\"\",\"\",SUMIFS(CMS_Downtime!$L$24:$L$500,CMS_Downtime!$B$24:$B$500,$B43,CMS_Downtime!$C$24:$C$500,$C43,CMS_Downtime!$E$24:$E$500,$D43,CMS_Downtime!$M$24:$M$500,\"Non-monitoring equipment malfunctions\"))","v":""},{"$f":"IF($E43=\"\",\"\",SUMIFS(CMS_Downtime!$L$24:$L$500,CMS_Downtime!$B$24:$B$500,$B43,CMS_Downtime!$C$24:$C$500,$C43,CMS_Downtime!$E$24:$E$500,$D43,CMS_Downtime!$M$24:$M$500,\"Quality assurance/quality control calibrations\"))","v":""},{"$f":"IF($E43=\"\",\"\",SUMIFS(CMS_Downtime!$L$24:$L$500,CMS_Downtime!$B$24:$B$500,$B43,CMS_Downtime!$C$24:$C$500,$C43,CMS_Downtime!$E$24:$E$500,$D43,CMS_Downtime!$M$24:$M$500,\"Other known causes\"))","v":""},{"$f":"IF($E43=\"\",\"\",SUMIFS(CMS_Downtime!$L$24:$L$500,CMS_Downtime!$B$24:$B$500,$B43,CMS_Downtime!$C$24:$C$500,$C43,CMS_Downtime!$E$24:$E$500,$D43,CMS_Downtime!$M$24:$M$500,\"Other unknown causes\"))","v":""}]
[null,{"$f":"IF(CMS_Downtime_Data!J23=\"\",\"\",CMS_Downtime_Data!J23)","v":""},{"$f":"IF(CMS_Downtime_Data!K23=\"\",\"\",CMS_Downtime_Data!K23)","v":""},{"$f":"IF(CMS_Downtime_Data!M23=\"\",\"\",CMS_Downtime_Data!M23)","v":""},{"$f":"IF(CMS_Downtime_Data!N23=\"\",\"\",CMS_Downtime_Data!N23)","v":""},{"$f":"IF(E44=\"\",\"\",SUMIFS(CMS_Downtime!$L$24:$L$500,CMS_Downtime!$B$24:$B$500,B44,CMS_Downtime!$C$24:$C$500,C44,CMS_Downtime!$E$24:$E$500,D44))","v":""},"",{"$f":"IF($E44=\"\",\"\",SUMIFS(CMS_Downtime!$L$24:$L$500,CMS_Downtime!$B$24:$B$500,B44,CMS_Downtime!$C$24:$C$500,C44,CMS_Downtime!$E$24:$E$500,D44,CMS_Downtime!$M$24:$M$500,\"Monitoring equipment malfunctions\"))","v":""},{"$f":"IF($E44=\"\",\"\",SUMIFS(CMS_Downtime!$L$24:$L$500,CMS_Downtime!$B$24:$B$500,$B44,CMS_Downtime!$C$24:$C$500,$C44,CMS_Downtime!$E$24:$E$500,$D44,CMS_Downtime!$M$24:$M$500,\"Non-monitoring equipment malfunctions\"))","v":""},{"$f":"IF($E44=\"\",\"\",SUMIFS(CMS_Downtime!$L$24:$L$500,CMS_Downtime!$B$24:$B$500,$B44,CMS_Downtime!$C$24:$C$500,$C44,CMS_Downtime!$E$24:$E$500,$D44,CMS_Downtime!$M$24:$M$500,\"Quality assurance/quality control calibrations\"))","v":""},{"$f":"IF($E44=\"\",\"\",SUMIFS(CMS_Downtime!$L$24:$L$500,CMS_Downtime!$B$24:$B$500,$B44,CMS_Downtime!$C$24:$C$500,$C44,CMS_Downtime!$E$24:$E$500,$D44,CMS_Downtime!$M$24:$M$500,\"Other known causes\"))","v":""},{"$f":"IF($E44=\"\",\"\",SUMIFS(CMS_Downtime!$L$24:$L$500,CMS_Downtime!$B$24:$B$500,$B44,CMS_Downtime!$C$24:$C$500,$C44,CMS_Downtime!$E$24:$E$500,$D44,CMS_Downtime!$M$24:$M$500,\"Other unknown causes\"))","v":""}]
[null,{"$f":"IF(CMS_Downtime_Data!J24=\"\",\"\",CMS_Downtime_Data!J24)","v":""},{"$f":"IF(CMS_Downtime_Data!K24=\"\",\"\",CMS_Downtime_Data!K24)","v":""},{"$f":"IF(CMS_Downtime_Data!M24=\"\",\"\",CMS_Downtime_Data!M24)","v":""},{"$f":"IF(CMS_Downtime_Data!N24=\"\",\"\",CMS_Downtime_Data!N24)","v":""},{"$f":"IF(E45=\"\",\"\",SUMIFS(CMS_Downtime!$L$24:$L$500,CMS_Downtime!$B$24:$B$500,B45,CMS_Downtime!$C$24:$C$500,C45,CMS_Downtime!$E$24:$E$500,D45))","v":""},"",{"$f":"IF($E45=\"\",\"\",SUMIFS(CMS_Downtime!$L$24:$L$500,CMS_Downtime!$B$24:$B$500,B45,CMS_Downtime!$C$24:$C$500,C45,CMS_Downtime!$E$24:$E$500,D45,CMS_Downtime!$M$24:$M$500,\"Monitoring equipment malfunctions\"))","v":""},{"$f":"IF($E45=\"\",\"\",SUMIFS(CMS_Downtime!$L$24:$L$500,CMS_Downtime!$B$24:$B$500,$B45,CMS_Downtime!$C$24:$C$500,$C45,CMS_Downtime!$E$24:$E$500,$D45,CMS_Downtime!$M$24:$M$500,\"Non-monitoring equipment malfunctions\"))","v":""},{"$f":"IF($E45=\"\",\"\",SUMIFS(CMS_Downtime!$L$24:$L$500,CMS_Downtime!$B$24:$B$500,$B45,CMS_Downtime!$C$24:$C$500,$C45,CMS_Downtime!$E$24:$E$500,$D45,CMS_Downtime!$M$24:$M$500,\"Quality assurance/quality control calibrations\"))","v":""},{"$f":"IF($E45=\"\",\"\",SUMIFS(CMS_Downtime!$L$24:$L$500,CMS_Downtime!$B$24:$B$500,$B45,CMS_Downtime!$C$24:$C$500,$C45,CMS_Downtime!$E$24:$E$500,$D45,CMS_Downtime!$M$24:$M$500,\"Other known causes\"))","v":""},{"$f":"IF($E45=\"\",\"\",SUMIFS(CMS_Downtime!$L$24:$L$500,CMS_Downtime!$B$24:$B$500,$B45,CMS_Downtime!$C$24:$C$500,$C45,CMS_Downtime!$E$24:$E$500,$D45,CMS_Downtime!$M$24:$M$500,\"Other unknown causes\"))","v":""}]
[null,{"$f":"IF(CMS_Downtime_Data!J25=\"\",\"\",CMS_Downtime_Data!J25)","v":""},{"$f":"IF(CMS_Downtime_Data!K25=\"\",\"\",CMS_Downtime_Data!K25)","v":""},{"$f":"IF(CMS_Downtime_Data!M25=\"\",\"\",CMS_Downtime_Data!M25)","v":""},{"$f":"IF(CMS_Downtime_Data!N25=\"\",\"\",CMS_Downtime_Data!N25)","v":""},{"$f":"IF(E46=\"\",\"\",SUMIFS(CMS_Downtime!$L$24:$L$500,CMS_Downtime!$B$24:$B$500,B46,CMS_Downtime!$C$24:$C$500,C46,CMS_Downtime!$E$24:$E$500,D46))","v":""},"",{"$f":"IF($E46=\"\",\"\",SUMIFS(CMS_Downtime!$L$24:$L$500,CMS_Downtime!$B$24:$B$500,B46,CMS_Downtime!$C$24:$C$500,C46,CMS_Downtime!$E$24:$E$500,D46,CMS_Downtime!$M$24:$M$500,\"Monitoring equipment malfunctions\"))","v":""},{"$f":"IF($E46=\"\",\"\",SUMIFS(CMS_Downtime!$L$24:$L$500,CMS_Downtime!$B$24:$B$500,$B46,CMS_Downtime!$C$24:$C$500,$C46,CMS_Downtime!$E$24:$E$500,$D46,CMS_Downtime!$M$24:$M$500,\"Non-monitoring equipment malfunctions\"))","v":""},{"$f":"IF($E46=\"\",\"\",SUMIFS(CMS_Downtime!$L$24:$L$500,CMS_Downtime!$B$24:$B$500,$B46,CMS_Downtime!$C$24:$C$500,$C46,CMS_Downtime!$E$24:$E$500,$D46,CMS_Downtime!$M$24:$M$500,\"Quality assurance/quality control calibrations\"))","v":""},{"$f":"IF($E46=\"\",\"\",SUMIFS(CMS_Downtime!$L$24:$L$500,CMS_Downtime!$B$24:$B$500,$B46,CMS_Downtime!$C$24:$C$500,$C46,CMS_Downtime!$E$24:$E$500,$D46,CMS_Downtime!$M$24:$M$500,\"Other known causes\"))","v":""},{"$f":"IF($E46=\"\",\"\",SUMIFS(CMS_Downtime!$L$24:$L$500,CMS_Downtime!$B$24:$B$500,$B46,CMS_Downtime!$C$24:$C$500,$C46,CMS_Downtime!$E$24:$E$500,$D46,CMS_Downtime!$M$24:$M$500,\"Other unknown causes\"))","v":""}]
[null,{"$f":"IF(CMS_Downtime_Data!J26=\"\",\"\",CMS_Downtime_Data!J26)","v":""},{"$f":"IF(CMS_Downtime_Data!K26=\"\",\"\",CMS_Downtime_Data!K26)","v":""},{"$f":"IF(CMS_Downtime_Data!M26=\"\",\"\",CMS_Downtime_Data!M26)","v":""},{"$f":"IF(CMS_Downtime_Data!N26=\"\",\"\",CMS_Downtime_Data!N26)","v":""},{"$f":"IF(E47=\"\",\"\",SUMIFS(CMS_Downtime!$L$24:$L$500,CMS_Downtime!$B$24:$B$500,B47,CMS_Downtime!$C$24:$C$500,C47,CMS_Downtime!$E$24:$E$500,D47))","v":""},"",{"$f":"IF($E47=\"\",\"\",SUMIFS(CMS_Downtime!$L$24:$L$500,CMS_Downtime!$B$24:$B$500,B47,CMS_Downtime!$C$24:$C$500,C47,CMS_Downtime!$E$24:$E$500,D47,CMS_Downtime!$M$24:$M$500,\"Monitoring equipment malfunctions\"))","v":""},{"$f":"IF($E47=\"\",\"\",SUMIFS(CMS_Downtime!$L$24:$L$500,CMS_Downtime!$B$24:$B$500,$B47,CMS_Downtime!$C$24:$C$500,$C47,CMS_Downtime!$E$24:$E$500,$D47,CMS_Downtime!$M$24:$M$500,\"Non-monitoring equipment malfunctions\"))","v":""},{"$f":"IF($E47=\"\",\"\",SUMIFS(CMS_Downtime!$L$24:$L$500,CMS_Downtime!$B$24:$B$500,$B47,CMS_Downtime!$C$24:$C$500,$C47,CMS_Downtime!$E$24:$E$500,$D47,CMS_Downtime!$M$24:$M$500,\"Quality assurance/quality control calibrations\"))","v":""},{"$f":"IF($E47=\"\",\"\",SUMIFS(CMS_Downtime!$L$24:$L$500,CMS_Downtime!$B$24:$B$500,$B47,CMS_Downtime!$C$24:$C$500,$C47,CMS_Downtime!$E$24:$E$500,$D47,CMS_Downtime!$M$24:$M$500,\"Other known causes\"))","v":""},{"$f":"IF($E47=\"\",\"\",SUMIFS(CMS_Downtime!$L$24:$L$500,CMS_Downtime!$B$24:$B$500,$B47,CMS_Downtime!$C$24:$C$500,$C47,CMS_Downtime!$E$24:$E$500,$D47,CMS_Downtime!$M$24:$M$500,\"Other unknown causes\"))","v":""}]
[null,{"$f":"IF(CMS_Downtime_Data!J27=\"\",\"\",CMS_Downtime_Data!J27)","v":""},{"$f":"IF(CMS_Downtime_Data!K27=\"\",\"\",CMS_Downtime_Data!K27)","v":""},{"$f":"IF(CMS_Downtime_Data!M27=\"\",\"\",CMS_Downtime_Data!M27)","v":""},{"$f":"IF(CMS_Downtime_Data!N27=\"\",\"\",CMS_Downtime_Data!N27)","v":""},{"$f":"IF(E48=\"\",\"\",SUMIFS(CMS_Downtime!$L$24:$L$500,CMS_Downtime!$B$24:$B$500,B48,CMS_Downtime!$C$24:$C$500,C48,CMS_Downtime!$E$24:$E$500,D48))","v":""},"",{"$f":"IF($E48=\"\",\"\",SUMIFS(CMS_Downtime!$L$24:$L$500,CMS_Downtime!$B$24:$B$500,B48,CMS_Downtime!$C$24:$C$500,C48,CMS_Downtime!$E$24:$E$500,D48,CMS_Downtime!$M$24:$M$500,\"Monitoring equipment malfunctions\"))","v":""},{"$f":"IF($E48=\"\",\"\",SUMIFS(CMS_Downtime!$L$24:$L$500,CMS_Downtime!$B$24:$B$500,$B48,CMS_Downtime!$C$24:$C$500,$C48,CMS_Downtime!$E$24:$E$500,$D48,CMS_Downtime!$M$24:$M$500,\"Non-monitoring equipment malfunctions\"))","v":""},{"$f":"IF($E48=\"\",\"\",SUMIFS(CMS_Downtime!$L$24:$L$500,CMS_Downtime!$B$24:$B$500,$B48,CMS_Downtime!$C$24:$C$500,$C48,CMS_Downtime!$E$24:$E$500,$D48,CMS_Downtime!$M$24:$M$500,\"Quality assurance/quality control calibrations\"))","v":""},{"$f":"IF($E48=\"\",\"\",SUMIFS(CMS_Downtime!$L$24:$L$500,CMS_Downtime!$B$24:$B$500,$B48,CMS_Downtime!$C$24:$C$500,$C48,CMS_Downtime!$E$24:$E$500,$D48,CMS_Downtime!$M$24:$M$500,\"Other known causes\"))","v":""},{"$f":"IF($E48=\"\",\"\",SUMIFS(CMS_Downtime!$L$24:$L$500,CMS_Downtime!$B$24:$B$500,$B48,CMS_Downtime!$C$24:$C$500,$C48,CMS_Downtime!$E$24:$E$500,$D48,CMS_Downtime!$M$24:$M$500,\"Other unknown causes\"))","v":""}]
[null,{"$f":"IF(CMS_Downtime_Data!J28=\"\",\"\",CMS_Downtime_Data!J28)","v":""},{"$f":"IF(CMS_Downtime_Data!K28=\"\",\"\",CMS_Downtime_Data!K28)","v":""},{"$f":"IF(CMS_Downtime_Data!M28=\"\",\"\",CMS_Downtime_Data!M28)","v":""},{"$f":"IF(CMS_Downtime_Data!N28=\"\",\"\",CMS_Downtime_Data!N28)","v":""},{"$f":"IF(E49=\"\",\"\",SUMIFS(CMS_Downtime!$L$24:$L$500,CMS_Downtime!$B$24:$B$500,B49,CMS_Downtime!$C$24:$C$500,C49,CMS_Downtime!$E$24:$E$500,D49))","v":""},"",{"$f":"IF($E49=\"\",\"\",SUMIFS(CMS_Downtime!$L$24:$L$500,CMS_Downtime!$B$24:$B$500,B49,CMS_Downtime!$C$24:$C$500,C49,CMS_Downtime!$E$24:$E$500,D49,CMS_Downtime!$M$24:$M$500,\"Monitoring equipment malfunctions\"))","v":""},{"$f":"IF($E49=\"\",\"\",SUMIFS(CMS_Downtime!$L$24:$L$500,CMS_Downtime!$B$24:$B$500,$B49,CMS_Downtime!$C$24:$C$500,$C49,CMS_Downtime!$E$24:$E$500,$D49,CMS_Downtime!$M$24:$M$500,\"Non-monitoring equipment malfunctions\"))","v":""},{"$f":"IF($E49=\"\",\"\",SUMIFS(CMS_Downtime!$L$24:$L$500,CMS_Downtime!$B$24:$B$500,$B49,CMS_Downtime!$C$24:$C$500,$C49,CMS_Downtime!$E$24:$E$500,$D49,CMS_Downtime!$M$24:$M$500,\"Quality assurance/quality control calibrations\"))","v":""},{"$f":"IF($E49=\"\",\"\",SUMIFS(CMS_Downtime!$L$24:$L$500,CMS_Downtime!$B$24:$B$500,$B49,CMS_Downtime!$C$24:$C$500,$C49,CMS_Downtime!$E$24:$E$500,$D49,CMS_Downtime!$M$24:$M$500,\"Other known causes\"))","v":""},{"$f":"IF($E49=\"\",\"\",SUMIFS(CMS_Downtime!$L$24:$L$500,CMS_Downtime!$B$24:$B$500,$B49,CMS_Downtime!$C$24:$C$500,$C49,CMS_Downtime!$E$24:$E$500,$D49,CMS_Downtime!$M$24:$M$500,\"Other unknown causes\"))","v":""}]
[null,{"$f":"IF(CMS_Downtime_Data!J29=\"\",\"\",CMS_Downtime_Data!J29)","v":""},{"$f":"IF(CMS_Downtime_Data!K29=\"\",\"\",CMS_Downtime_Data!K29)","v":""},{"$f":"IF(CMS_Downtime_Data!M29=\"\",\"\",CMS_Downtime_Data!M29)","v":""},{"$f":"IF(CMS_Downtime_Data!N29=\"\",\"\",CMS_Downtime_Data!N29)","v":""},{"$f":"IF(E50=\"\",\"\",SUMIFS(CMS_Downtime!$L$24:$L$500,CMS_Downtime!$B$24:$B$500,B50,CMS_Downtime!$C$24:$C$500,C50,CMS_Downtime!$E$24:$E$500,D50))","v":""},"",{"$f":"IF($E50=\"\",\"\",SUMIFS(CMS_Downtime!$L$24:$L$500,CMS_Downtime!$B$24:$B$500,B50,CMS_Downtime!$C$24:$C$500,C50,CMS_Downtime!$E$24:$E$500,D50,CMS_Downtime!$M$24:$M$500,\"Monitoring equipment malfunctions\"))","v":""},{"$f":"IF($E50=\"\",\"\",SUMIFS(CMS_Downtime!$L$24:$L$500,CMS_Downtime!$B$24:$B$500,$B50,CMS_Downtime!$C$24:$C$500,$C50,CMS_Downtime!$E$24:$E$500,$D50,CMS_Downtime!$M$24:$M$500,\"Non-monitoring equipment malfunctions\"))","v":""},{"$f":"IF($E50=\"\",\"\",SUMIFS(CMS_Downtime!$L$24:$L$500,CMS_Downtime!$B$24:$B$500,$B50,CMS_Downtime!$C$24:$C$500,$C50,CMS_Downtime!$E$24:$E$500,$D50,CMS_Downtime!$M$24:$M$500,\"Quality assurance/quality control calibrations\"))","v":""},{"$f":"IF($E50=\"\",\"\",SUMIFS(CMS_Downtime!$L$24:$L$500,CMS_Downtime!$B$24:$B$500,$B50,CMS_Downtime!$C$24:$C$500,$C50,CMS_Downtime!$E$24:$E$500,$D50,CMS_Downtime!$M$24:$M$500,\"Other known causes\"))","v":""},{"$f":"IF($E50=\"\",\"\",SUMIFS(CMS_Downtime!$L$24:$L$500,CMS_Downtime!$B$24:$B$500,$B50,CMS_Downtime!$C$24:$C$500,$C50,CMS_Downtime!$E$24:$E$500,$D50,CMS_Downtime!$M$24:$M$500,\"Other unknown causes\"))","v":""}]
[null,{"$f":"IF(CMS_Downtime_Data!J30=\"\",\"\",CMS_Downtime_Data!J30)","v":""},{"$f":"IF(CMS_Downtime_Data!K30=\"\",\"\",CMS_Downtime_Data!K30)","v":""},{"$f":"IF(CMS_Downtime_Data!M30=\"\",\"\",CMS_Downtime_Data!M30)","v":""},{"$f":"IF(CMS_Downtime_Data!N30=\"\",\"\",CMS_Downtime_Data!N30)","v":""},{"$f":"IF(E51=\"\",\"\",SUMIFS(CMS_Downtime!$L$24:$L$500,CMS_Downtime!$B$24:$B$500,B51,CMS_Downtime!$C$24:$C$500,C51,CMS_Downtime!$E$24:$E$500,D51))","v":""},"",{"$f":"IF($E51=\"\",\"\",SUMIFS(CMS_Downtime!$L$24:$L$500,CMS_Downtime!$B$24:$B$500,B51,CMS_Downtime!$C$24:$C$500,C51,CMS_Downtime!$E$24:$E$500,D51,CMS_Downtime!$M$24:$M$500,\"Monitoring equipment malfunctions\"))","v":""},{"$f":"IF($E51=\"\",\"\",SUMIFS(CMS_Downtime!$L$24:$L$500,CMS_Downtime!$B$24:$B$500,$B51,CMS_Downtime!$C$24:$C$500,$C51,CMS_Downtime!$E$24:$E$500,$D51,CMS_Downtime!$M$24:$M$500,\"Non-monitoring equipment malfunctions\"))","v":""},{"$f":"IF($E51=\"\",\"\",SUMIFS(CMS_Downtime!$L$24:$L$500,CMS_Downtime!$B$24:$B$500,$B51,CMS_Downtime!$C$24:$C$500,$C51,CMS_Downtime!$E$24:$E$500,$D51,CMS_Downtime!$M$24:$M$500,\"Quality assurance/quality control calibrations\"))","v":""},{"$f":"IF($E51=\"\",\"\",SUMIFS(CMS_Downtime!$L$24:$L$500,CMS_Downtime!$B$24:$B$500,$B51,CMS_Downtime!$C$24:$C$500,$C51,CMS_Downtime!$E$24:$E$500,$D51,CMS_Downtime!$M$24:$M$500,\"Other known causes\"))","v":""},{"$f":"IF($E51=\"\",\"\",SUMIFS(CMS_Downtime!$L$24:$L$500,CMS_Downtime!$B$24:$B$500,$B51,CMS_Downtime!$C$24:$C$500,$C51,CMS_Downtime!$E$24:$E$500,$D51,CMS_Downtime!$M$24:$M$500,\"Other unknown causes\"))","v":""}]
[null,{"$f":"IF(CMS_Downtime_Data!J31=\"\",\"\",CMS_Downtime_Data!J31)","v":""},{"$f":"IF(CMS_Downtime_Data!K31=\"\",\"\",CMS_Downtime_Data!K31)","v":""},{"$f":"IF(CMS_Downtime_Data!M31=\"\",\"\",CMS_Downtime_Data!M31)","v":""},{"$f":"IF(CMS_Downtime_Data!N31=\"\",\"\",CMS_Downtime_Data!N31)","v":""},{"$f":"IF(E52=\"\",\"\",SUMIFS(CMS_Downtime!$L$24:$L$500,CMS_Downtime!$B$24:$B$500,B52,CMS_Downtime!$C$24:$C$500,C52,CMS_Downtime!$E$24:$E$500,D52))","v":""},"",{"$f":"IF($E52=\"\",\"\",SUMIFS(CMS_Downtime!$L$24:$L$500,CMS_Downtime!$B$24:$B$500,B52,CMS_Downtime!$C$24:$C$500,C52,CMS_Downtime!$E$24:$E$500,D52,CMS_Downtime!$M$24:$M$500,\"Monitoring equipment malfunctions\"))","v":""},{"$f":"IF($E52=\"\",\"\",SUMIFS(CMS_Downtime!$L$24:$L$500,CMS_Downtime!$B$24:$B$500,$B52,CMS_Downtime!$C$24:$C$500,$C52,CMS_Downtime!$E$24:$E$500,$D52,CMS_Downtime!$M$24:$M$500,\"Non-monitoring equipment malfunctions\"))","v":""},{"$f":"IF($E52=\"\",\"\",SUMIFS(CMS_Downtime!$L$24:$L$500,CMS_Downtime!$B$24:$B$500,$B52,CMS_Downtime!$C$24:$C$500,$C52,CMS_Downtime!$E$24:$E$500,$D52,CMS_Downtime!$M$24:$M$500,\"Quality assurance/quality control calibrations\"))","v":""},{"$f":"IF($E52=\"\",\"\",SUMIFS(CMS_Downtime!$L$24:$L$500,CMS_Downtime!$B$24:$B$500,$B52,CMS_Downtime!$C$24:$C$500,$C52,CMS_Downtime!$E$24:$E$500,$D52,CMS_Downtime!$M$24:$M$500,\"Other known causes\"))","v":""},{"$f":"IF($E52=\"\",\"\",SUMIFS(CMS_Downtime!$L$24:$L$500,CMS_Downtime!$B$24:$B$500,$B52,CMS_Downtime!$C$24:$C$500,$C52,CMS_Downtime!$E$24:$E$500,$D52,CMS_Downtime!$M$24:$M$500,\"Other unknown causes\"))","v":""}]
[null,{"$f":"IF(CMS_Downtime_Data!J32=\"\",\"\",CMS_Downtime_Data!J32)","v":""},{"$f":"IF(CMS_Downtime_Data!K32=\"\",\"\",CMS_Downtime_Data!K32)","v":""},{"$f":"IF(CMS_Downtime_Data!M32=\"\",\"\",CMS_Downtime_Data!M32)","v":""},{"$f":"IF(CMS_Downtime_Data!N32=\"\",\"\",CMS_Downtime_Data!N32)","v":""},{"$f":"IF(E53=\"\",\"\",SUMIFS(CMS_Downtime!$L$24:$L$500,CMS_Downtime!$B$24:$B$500,B53,CMS_Downtime!$C$24:$C$500,C53,CMS_Downtime!$E$24:$E$500,D53))","v":""},"",{"$f":"IF($E53=\"\",\"\",SUMIFS(CMS_Downtime!$L$24:$L$500,CMS_Downtime!$B$24:$B$500,B53,CMS_Downtime!$C$24:$C$500,C53,CMS_Downtime!$E$24:$E$500,D53,CMS_Downtime!$M$24:$M$500,\"Monitoring equipment malfunctions\"))","v":""},{"$f":"IF($E53=\"\",\"\",SUMIFS(CMS_Downtime!$L$24:$L$500,CMS_Downtime!$B$24:$B$500,$B53,CMS_Downtime!$C$24:$C$500,$C53,CMS_Downtime!$E$24:$E$500,$D53,CMS_Downtime!$M$24:$M$500,\"Non-monitoring equipment malfunctions\"))","v":""},{"$f":"IF($E53=\"\",\"\",SUMIFS(CMS_Downtime!$L$24:$L$500,CMS_Downtime!$B$24:$B$500,$B53,CMS_Downtime!$C$24:$C$500,$C53,CMS_Downtime!$E$24:$E$500,$D53,CMS_Downtime!$M$24:$M$500,\"Quality assurance/quality control calibrations\"))","v":""},{"$f":"IF($E53=\"\",\"\",SUMIFS(CMS_Downtime!$L$24:$L$500,CMS_Downtime!$B$24:$B$500,$B53,CMS_Downtime!$C$24:$C$500,$C53,CMS_Downtime!$E$24:$E$500,$D53,CMS_Downtime!$M$24:$M$500,\"Other known causes\"))","v":""},{"$f":"IF($E53=\"\",\"\",SUMIFS(CMS_Downtime!$L$24:$L$500,CMS_Downtime!$B$24:$B$500,$B53,CMS_Downtime!$C$24:$C$500,$C53,CMS_Downtime!$E$24:$E$500,$D53,CMS_Downtime!$M$24:$M$500,\"Other unknown causes\"))","v":""}]
[null,{"$f":"IF(CMS_Downtime_Data!J33=\"\",\"\",CMS_Downtime_Data!J33)","v":""},{"$f":"IF(CMS_Downtime_Data!K33=\"\",\"\",CMS_Downtime_Data!K33)","v":""},{"$f":"IF(CMS_Downtime_Data!M33=\"\",\"\",CMS_Downtime_Data!M33)","v":""},{"$f":"IF(CMS_Downtime_Data!N33=\"\",\"\",CMS_Downtime_Data!N33)","v":""},{"$f":"IF(E54=\"\",\"\",SUMIFS(CMS_Downtime!$L$24:$L$500,CMS_Downtime!$B$24:$B$500,B54,CMS_Downtime!$C$24:$C$500,C54,CMS_Downtime!$E$24:$E$500,D54))","v":""},"",{"$f":"IF($E54=\"\",\"\",SUMIFS(CMS_Downtime!$L$24:$L$500,CMS_Downtime!$B$24:$B$500,B54,CMS_Downtime!$C$24:$C$500,C54,CMS_Downtime!$E$24:$E$500,D54,CMS_Downtime!$M$24:$M$500,\"Monitoring equipment malfunctions\"))","v":""},{"$f":"IF($E54=\"\",\"\",SUMIFS(CMS_Downtime!$L$24:$L$500,CMS_Downtime!$B$24:$B$500,$B54,CMS_Downtime!$C$24:$C$500,$C54,CMS_Downtime!$E$24:$E$500,$D54,CMS_Downtime!$M$24:$M$500,\"Non-monitoring equipment malfunctions\"))","v":""},{"$f":"IF($E54=\"\",\"\",SUMIFS(CMS_Downtime!$L$24:$L$500,CMS_Downtime!$B$24:$B$500,$B54,CMS_Downtime!$C$24:$C$500,$C54,CMS_Downtime!$E$24:$E$500,$D54,CMS_Downtime!$M$24:$M$500,\"Quality assurance/quality control calibrations\"))","v":""},{"$f":"IF($E54=\"\",\"\",SUMIFS(CMS_Downtime!$L$24:$L$500,CMS_Downtime!$B$24:$B$500,$B54,CMS_Downtime!$C$24:$C$500,$C54,CMS_Downtime!$E$24:$E$500,$D54,CMS_Downtime!$M$24:$M$500,\"Other known causes\"))","v":""},{"$f":"IF($E54=\"\",\"\",SUMIFS(CMS_Downtime!$L$24:$L$500,CMS_Downtime!$B$24:$B$500,$B54,CMS_Downtime!$C$24:$C$500,$C54,CMS_Downtime!$E$24:$E$500,$D54,CMS_Downtime!$M$24:$M$500,\"Other unknown causes\"))","v":""}]
[null,{"$f":"IF(CMS_Downtime_Data!J34=\"\",\"\",CMS_Downtime_Data!J34)","v":""},{"$f":"IF(CMS_Downtime_Data!K34=\"\",\"\",CMS_Downtime_Data!K34)","v":""},{"$f":"IF(CMS_Downtime_Data!M34=\"\",\"\",CMS_Downtime_Data!M34)","v":""},{"$f":"IF(CMS_Downtime_Data!N34=\"\",\"\",CMS_Downtime_Data!N34)","v":""},{"$f":"IF(E55=\"\",\"\",SUMIFS(CMS_Downtime!$L$24:$L$500,CMS_Downtime!$B$24:$B$500,B55,CMS_Downtime!$C$24:$C$500,C55,CMS_Downtime!$E$24:$E$500,D55))","v":""},"",{"$f":"IF($E55=\"\",\"\",SUMIFS(CMS_Downtime!$L$24:$L$500,CMS_Downtime!$B$24:$B$500,B55,CMS_Downtime!$C$24:$C$500,C55,CMS_Downtime!$E$24:$E$500,D55,CMS_Downtime!$M$24:$M$500,\"Monitoring equipment malfunctions\"))","v":""},{"$f":"IF($E55=\"\",\"\",SUMIFS(CMS_Downtime!$L$24:$L$500,CMS_Downtime!$B$24:$B$500,$B55,CMS_Downtime!$C$24:$C$500,$C55,CMS_Downtime!$E$24:$E$500,$D55,CMS_Downtime!$M$24:$M$500,\"Non-monitoring equipment malfunctions\"))","v":""},{"$f":"IF($E55=\"\",\"\",SUMIFS(CMS_Downtime!$L$24:$L$500,CMS_Downtime!$B$24:$B$500,$B55,CMS_Downtime!$C$24:$C$500,$C55,CMS_Downtime!$E$24:$E$500,$D55,CMS_Downtime!$M$24:$M$500,\"Quality assurance/quality control calibrations\"))","v":""},{"$f":"IF($E55=\"\",\"\",SUMIFS(CMS_Downtime!$L$24:$L$500,CMS_Downtime!$B$24:$B$500,$B55,CMS_Downtime!$C$24:$C$500,$C55,CMS_Downtime!$E$24:$E$500,$D55,CMS_Downtime!$M$24:$M$500,\"Other known causes\"))","v":""},{"$f":"IF($E55=\"\",\"\",SUMIFS(CMS_Downtime!$L$24:$L$500,CMS_Downtime!$B$24:$B$500,$B55,CMS_Downtime!$C$24:$C$500,$C55,CMS_Downtime!$E$24:$E$500,$D55,CMS_Downtime!$M$24:$M$500,\"Other unknown causes\"))","v":""}]
[null,{"$f":"IF(CMS_Downtime_Data!J35=\"\",\"\",CMS_Downtime_Data!J35)","v":""},{"$f":"IF(CMS_Downtime_Data!K35=\"\",\"\",CMS_Downtime_Data!K35)","v":""},{"$f":"IF(CMS_Downtime_Data!M35=\"\",\"\",CMS_Downtime_Data!M35)","v":""},{"$f":"IF(CMS_Downtime_Data!N35=\"\",\"\",CMS_Downtime_Data!N35)","v":""},{"$f":"IF(E56=\"\",\"\",SUMIFS(CMS_Downtime!$L$24:$L$500,CMS_Downtime!$B$24:$B$500,B56,CMS_Downtime!$C$24:$C$500,C56,CMS_Downtime!$E$24:$E$500,D56))","v":""},"",{"$f":"IF($E56=\"\",\"\",SUMIFS(CMS_Downtime!$L$24:$L$500,CMS_Downtime!$B$24:$B$500,B56,CMS_Downtime!$C$24:$C$500,C56,CMS_Downtime!$E$24:$E$500,D56,CMS_Downtime!$M$24:$M$500,\"Monitoring equipment malfunctions\"))","v":""},{"$f":"IF($E56=\"\",\"\",SUMIFS(CMS_Downtime!$L$24:$L$500,CMS_Downtime!$B$24:$B$500,$B56,CMS_Downtime!$C$24:$C$500,$C56,CMS_Downtime!$E$24:$E$500,$D56,CMS_Downtime!$M$24:$M$500,\"Non-monitoring equipment malfunctions\"))","v":""},{"$f":"IF($E56=\"\",\"\",SUMIFS(CMS_Downtime!$L$24:$L$500,CMS_Downtime!$B$24:$B$500,$B56,CMS_Downtime!$C$24:$C$500,$C56,CMS_Downtime!$E$24:$E$500,$D56,CMS_Downtime!$M$24:$M$500,\"Quality assurance/quality control calibrations\"))","v":""},{"$f":"IF($E56=\"\",\"\",SUMIFS(CMS_Downtime!$L$24:$L$500,CMS_Downtime!$B$24:$B$500,$B56,CMS_Downtime!$C$24:$C$500,$C56,CMS_Downtime!$E$24:$E$500,$D56,CMS_Downtime!$M$24:$M$500,\"Other known causes\"))","v":""},{"$f":"IF($E56=\"\",\"\",SUMIFS(CMS_Downtime!$L$24:$L$500,CMS_Downtime!$B$24:$B$500,$B56,CMS_Downtime!$C$24:$C$500,$C56,CMS_Downtime!$E$24:$E$500,$D56,CMS_Downtime!$M$24:$M$500,\"Other unknown causes\"))","v":""}]
[null,{"$f":"IF(CMS_Downtime_Data!J36=\"\",\"\",CMS_Downtime_Data!J36)","v":""},{"$f":"IF(CMS_Downtime_Data!K36=\"\",\"\",CMS_Downtime_Data!K36)","v":""},{"$f":"IF(CMS_Downtime_Data!M36=\"\",\"\",CMS_Downtime_Data!M36)","v":""},{"$f":"IF(CMS_Downtime_Data!N36=\"\",\"\",CMS_Downtime_Data!N36)","v":""},{"$f":"IF(E57=\"\",\"\",SUMIFS(CMS_Downtime!$L$24:$L$500,CMS_Downtime!$B$24:$B$500,B57,CMS_Downtime!$C$24:$C$500,C57,CMS_Downtime!$E$24:$E$500,D57))","v":""},"",{"$f":"IF($E57=\"\",\"\",SUMIFS(CMS_Downtime!$L$24:$L$500,CMS_Downtime!$B$24:$B$500,B57,CMS_Downtime!$C$24:$C$500,C57,CMS_Downtime!$E$24:$E$500,D57,CMS_Downtime!$M$24:$M$500,\"Monitoring equipment malfunctions\"))","v":""},{"$f":"IF($E57=\"\",\"\",SUMIFS(CMS_Downtime!$L$24:$L$500,CMS_Downtime!$B$24:$B$500,$B57,CMS_Downtime!$C$24:$C$500,$C57,CMS_Downtime!$E$24:$E$500,$D57,CMS_Downtime!$M$24:$M$500,\"Non-monitoring equipment malfunctions\"))","v":""},{"$f":"IF($E57=\"\",\"\",SUMIFS(CMS_Downtime!$L$24:$L$500,CMS_Downtime!$B$24:$B$500,$B57,CMS_Downtime!$C$24:$C$500,$C57,CMS_Downtime!$E$24:$E$500,$D57,CMS_Downtime!$M$24:$M$500,\"Quality assurance/quality control calibrations\"))","v":""},{"$f":"IF($E57=\"\",\"\",SUMIFS(CMS_Downtime!$L$24:$L$500,CMS_Downtime!$B$24:$B$500,$B57,CMS_Downtime!$C$24:$C$500,$C57,CMS_Downtime!$E$24:$E$500,$D57,CMS_Downtime!$M$24:$M$500,\"Other known causes\"))","v":""},{"$f":"IF($E57=\"\",\"\",SUMIFS(CMS_Downtime!$L$24:$L$500,CMS_Downtime!$B$24:$B$500,$B57,CMS_Downtime!$C$24:$C$500,$C57,CMS_Downtime!$E$24:$E$500,$D57,CMS_Downtime!$M$24:$M$500,\"Other unknown causes\"))","v":""}]
[null,{"$f":"IF(CMS_Downtime_Data!J37=\"\",\"\",CMS_Downtime_Data!J37)","v":""},{"$f":"IF(CMS_Downtime_Data!K37=\"\",\"\",CMS_Downtime_Data!K37)","v":""},{"$f":"IF(CMS_Downtime_Data!M37=\"\",\"\",CMS_Downtime_Data!M37)","v":""},{"$f":"IF(CMS_Downtime_Data!N37=\"\",\"\",CMS_Downtime_Data!N37)","v":""},{"$f":"IF(E58=\"\",\"\",SUMIFS(CMS_Downtime!$L$24:$L$500,CMS_Downtime!$B$24:$B$500,B58,CMS_Downtime!$C$24:$C$500,C58,CMS_Downtime!$E$24:$E$500,D58))","v":""},"",{"$f":"IF($E58=\"\",\"\",SUMIFS(CMS_Downtime!$L$24:$L$500,CMS_Downtime!$B$24:$B$500,B58,CMS_Downtime!$C$24:$C$500,C58,CMS_Downtime!$E$24:$E$500,D58,CMS_Downtime!$M$24:$M$500,\"Monitoring equipment malfunctions\"))","v":""},{"$f":"IF($E58=\"\",\"\",SUMIFS(CMS_Downtime!$L$24:$L$500,CMS_Downtime!$B$24:$B$500,$B58,CMS_Downtime!$C$24:$C$500,$C58,CMS_Downtime!$E$24:$E$500,$D58,CMS_Downtime!$M$24:$M$500,\"Non-monitoring equipment malfunctions\"))","v":""},{"$f":"IF($E58=\"\",\"\",SUMIFS(CMS_Downtime!$L$24:$L$500,CMS_Downtime!$B$24:$B$500,$B58,CMS_Downtime!$C$24:$C$500,$C58,CMS_Downtime!$E$24:$E$500,$D58,CMS_Downtime!$M$24:$M$500,\"Quality assurance/quality control calibrations\"))","v":""},{"$f":"IF($E58=\"\",\"\",SUMIFS(CMS_Downtime!$L$24:$L$500,CMS_Downtime!$B$24:$B$500,$B58,CMS_Downtime!$C$24:$C$500,$C58,CMS_Downtime!$E$24:$E$500,$D58,CMS_Downtime!$M$24:$M$500,\"Other known causes\"))","v":""},{"$f":"IF($E58=\"\",\"\",SUMIFS(CMS_Downtime!$L$24:$L$500,CMS_Downtime!$B$24:$B$500,$B58,CMS_Downtime!$C$24:$C$500,$C58,CMS_Downtime!$E$24:$E$500,$D58,CMS_Downtime!$M$24:$M$500,\"Other unknown causes\"))","v":""}]
[null,{"$f":"IF(CMS_Downtime_Data!J38=\"\",\"\",CMS_Downtime_Data!J38)","v":""},{"$f":"IF(CMS_Downtime_Data!K38=\"\",\"\",CMS_Downtime_Data!K38)","v":""},{"$f":"IF(CMS_Downtime_Data!M38=\"\",\"\",CMS_Downtime_Data!M38)","v":""},{"$f":"IF(CMS_Downtime_Data!N38=\"\",\"\",CMS_Downtime_Data!N38)","v":""},{"$f":"IF(E59=\"\",\"\",SUMIFS(CMS_Downtime!$L$24:$L$500,CMS_Downtime!$B$24:$B$500,B59,CMS_Downtime!$C$24:$C$500,C59,CMS_Downtime!$E$24:$E$500,D59))","v":""},"",{"$f":"IF($E59=\"\",\"\",SUMIFS(CMS_Downtime!$L$24:$L$500,CMS_Downtime!$B$24:$B$500,B59,CMS_Downtime!$C$24:$C$500,C59,CMS_Downtime!$E$24:$E$500,D59,CMS_Downtime!$M$24:$M$500,\"Monitoring equipment malfunctions\"))","v":""},{"$f":"IF($E59=\"\",\"\",SUMIFS(CMS_Downtime!$L$24:$L$500,CMS_Downtime!$B$24:$B$500,$B59,CMS_Downtime!$C$24:$C$500,$C59,CMS_Downtime!$E$24:$E$500,$D59,CMS_Downtime!$M$24:$M$500,\"Non-monitoring equipment malfunctions\"))","v":""},{"$f":"IF($E59=\"\",\"\",SUMIFS(CMS_Downtime!$L$24:$L$500,CMS_Downtime!$B$24:$B$500,$B59,CMS_Downtime!$C$24:$C$500,$C59,CMS_Downtime!$E$24:$E$500,$D59,CMS_Downtime!$M$24:$M$500,\"Quality assurance/quality control calibrations\"))","v":""},{"$f":"IF($E59=\"\",\"\",SUMIFS(CMS_Downtime!$L$24:$L$500,CMS_Downtime!$B$24:$B$500,$B59,CMS_Downtime!$C$24:$C$500,$C59,CMS_Downtime!$E$24:$E$500,$D59,CMS_Downtime!$M$24:$M$500,\"Other known causes\"))","v":""},{"$f":"IF($E59=\"\",\"\",SUMIFS(CMS_Downtime!$L$24:$L$500,CMS_Downtime!$B$24:$B$500,$B59,CMS_Downtime!$C$24:$C$500,$C59,CMS_Downtime!$E$24:$E$500,$D59,CMS_Downtime!$M$24:$M$500,\"Other unknown causes\"))","v":""}]
[null,{"$f":"IF(CMS_Downtime_Data!J39=\"\",\"\",CMS_Downtime_Data!J39)","v":""},{"$f":"IF(CMS_Downtime_Data!K39=\"\",\"\",CMS_Downtime_Data!K39)","v":""},{"$f":"IF(CMS_Downtime_Data!M39=\"\",\"\",CMS_Downtime_Data!M39)","v":""},{"$f":"IF(CMS_Downtime_Data!N39=\"\",\"\",CMS_Downtime_Data!N39)","v":""},{"$f":"IF(E60=\"\",\"\",SUMIFS(CMS_Downtime!$L$24:$L$500,CMS_Downtime!$B$24:$B$500,B60,CMS_Downtime!$C$24:$C$500,C60,CMS_Downtime!$E$24:$E$500,D60))","v":""},"",{"$f":"IF($E60=\"\",\"\",SUMIFS(CMS_Downtime!$L$24:$L$500,CMS_Downtime!$B$24:$B$500,B60,CMS_Downtime!$C$24:$C$500,C60,CMS_Downtime!$E$24:$E$500,D60,CMS_Downtime!$M$24:$M$500,\"Monitoring equipment malfunctions\"))","v":""},{"$f":"IF($E60=\"\",\"\",SUMIFS(CMS_Downtime!$L$24:$L$500,CMS_Downtime!$B$24:$B$500,$B60,CMS_Downtime!$C$24:$C$500,$C60,CMS_Downtime!$E$24:$E$500,$D60,CMS_Downtime!$M$24:$M$500,\"Non-monitoring equipment malfunctions\"))","v":""},{"$f":"IF($E60=\"\",\"\",SUMIFS(CMS_Downtime!$L$24:$L$500,CMS_Downtime!$B$24:$B$500,$B60,CMS_Downtime!$C$24:$C$500,$C60,CMS_Downtime!$E$24:$E$500,$D60,CMS_Downtime!$M$24:$M$500,\"Quality assurance/quality control calibrations\"))","v":""},{"$f":"IF($E60=\"\",\"\",SUMIFS(CMS_Downtime!$L$24:$L$500,CMS_Downtime!$B$24:$B$500,$B60,CMS_Downtime!$C$24:$C$500,$C60,CMS_Downtime!$E$24:$E$500,$D60,CMS_Downtime!$M$24:$M$500,\"Other known causes\"))","v":""},{"$f":"IF($E60=\"\",\"\",SUMIFS(CMS_Downtime!$L$24:$L$500,CMS_Downtime!$B$24:$B$500,$B60,CMS_Downtime!$C$24:$C$500,$C60,CMS_Downtime!$E$24:$E$500,$D60,CMS_Downtime!$M$24:$M$500,\"Other unknown causes\"))","v":""}]
[null,{"$f":"IF(CMS_Downtime_Data!J40=\"\",\"\",CMS_Downtime_Data!J40)","v":""},{"$f":"IF(CMS_Downtime_Data!K40=\"\",\"\",CMS_Downtime_Data!K40)","v":""},{"$f":"IF(CMS_Downtime_Data!M40=\"\",\"\",CMS_Downtime_Data!M40)","v":""},{"$f":"IF(CMS_Downtime_Data!N40=\"\",\"\",CMS_Downtime_Data!N40)","v":""},{"$f":"IF(E61=\"\",\"\",SUMIFS(CMS_Downtime!$L$24:$L$500,CMS_Downtime!$B$24:$B$500,B61,CMS_Downtime!$C$24:$C$500,C61,CMS_Downtime!$E$24:$E$500,D61))","v":""},"",{"$f":"IF($E61=\"\",\"\",SUMIFS(CMS_Downtime!$L$24:$L$500,CMS_Downtime!$B$24:$B$500,B61,CMS_Downtime!$C$24:$C$500,C61,CMS_Downtime!$E$24:$E$500,D61,CMS_Downtime!$M$24:$M$500,\"Monitoring equipment malfunctions\"))","v":""},{"$f":"IF($E61=\"\",\"\",SUMIFS(CMS_Downtime!$L$24:$L$500,CMS_Downtime!$B$24:$B$500,$B61,CMS_Downtime!$C$24:$C$500,$C61,CMS_Downtime!$E$24:$E$500,$D61,CMS_Downtime!$M$24:$M$500,\"Non-monitoring equipment malfunctions\"))","v":""},{"$f":"IF($E61=\"\",\"\",SUMIFS(CMS_Downtime!$L$24:$L$500,CMS_Downtime!$B$24:$B$500,$B61,CMS_Downtime!$C$24:$C$500,$C61,CMS_Downtime!$E$24:$E$500,$D61,CMS_Downtime!$M$24:$M$500,\"Quality assurance/quality control calibrations\"))","v":""},{"$f":"IF($E61=\"\",\"\",SUMIFS(CMS_Downtime!$L$24:$L$500,CMS_Downtime!$B$24:$B$500,$B61,CMS_Downtime!$C$24:$C$500,$C61,CMS_Downtime!$E$24:$E$500,$D61,CMS_Downtime!$M$24:$M$500,\"Other known causes\"))","v":""},{"$f":"IF($E61=\"\",\"\",SUMIFS(CMS_Downtime!$L$24:$L$500,CMS_Downtime!$B$24:$B$500,$B61,CMS_Downtime!$C$24:$C$500,$C61,CMS_Downtime!$E$24:$E$500,$D61,CMS_Downtime!$M$24:$M$500,\"Other unknown causes\"))","v":""}]
[null,{"$f":"IF(CMS_Downtime_Data!J41=\"\",\"\",CMS_Downtime_Data!J41)","v":""},{"$f":"IF(CMS_Downtime_Data!K41=\"\",\"\",CMS_Downtime_Data!K41)","v":""},{"$f":"IF(CMS_Downtime_Data!M41=\"\",\"\",CMS_Downtime_Data!M41)","v":""},{"$f":"IF(CMS_Downtime_Data!N41=\"\",\"\",CMS_Downtime_Data!N41)","v":""},{"$f":"IF(E62=\"\",\"\",SUMIFS(CMS_Downtime!$L$24:$L$500,CMS_Downtime!$B$24:$B$500,B62,CMS_Downtime!$C$24:$C$500,C62,CMS_Downtime!$E$24:$E$500,D62))","v":""},"",{"$f":"IF($E62=\"\",\"\",SUMIFS(CMS_Downtime!$L$24:$L$500,CMS_Downtime!$B$24:$B$500,B62,CMS_Downtime!$C$24:$C$500,C62,CMS_Downtime!$E$24:$E$500,D62,CMS_Downtime!$M$24:$M$500,\"Monitoring equipment malfunctions\"))","v":""},{"$f":"IF($E62=\"\",\"\",SUMIFS(CMS_Downtime!$L$24:$L$500,CMS_Downtime!$B$24:$B$500,$B62,CMS_Downtime!$C$24:$C$500,$C62,CMS_Downtime!$E$24:$E$500,$D62,CMS_Downtime!$M$24:$M$500,\"Non-monitoring equipment malfunctions\"))","v":""},{"$f":"IF($E62=\"\",\"\",SUMIFS(CMS_Downtime!$L$24:$L$500,CMS_Downtime!$B$24:$B$500,$B62,CMS_Downtime!$C$24:$C$500,$C62,CMS_Downtime!$E$24:$E$500,$D62,CMS_Downtime!$M$24:$M$500,\"Quality assurance/quality control calibrations\"))","v":""},{"$f":"IF($E62=\"\",\"\",SUMIFS(CMS_Downtime!$L$24:$L$500,CMS_Downtime!$B$24:$B$500,$B62,CMS_Downtime!$C$24:$C$500,$C62,CMS_Downtime!$E$24:$E$500,$D62,CMS_Downtime!$M$24:$M$500,\"Other known causes\"))","v":""},{"$f":"IF($E62=\"\",\"\",SUMIFS(CMS_Downtime!$L$24:$L$500,CMS_Downtime!$B$24:$B$500,$B62,CMS_Downtime!$C$24:$C$500,$C62,CMS_Downtime!$E$24:$E$500,$D62,CMS_Downtime!$M$24:$M$500,\"Other unknown causes\"))","v":""}]
[null,{"$f":"IF(CMS_Downtime_Data!J42=\"\",\"\",CMS_Downtime_Data!J42)","v":""},{"$f":"IF(CMS_Downtime_Data!K42=\"\",\"\",CMS_Downtime_Data!K42)","v":""},{"$f":"IF(CMS_Downtime_Data!M42=\"\",\"\",CMS_Downtime_Data!M42)","v":""},{"$f":"IF(CMS_Downtime_Data!N42=\"\",\"\",CMS_Downtime_Data!N42)","v":""},{"$f":"IF(E63=\"\",\"\",SUMIFS(CMS_Downtime!$L$24:$L$500,CMS_Downtime!$B$24:$B$500,B63,CMS_Downtime!$C$24:$C$500,C63,CMS_Downtime!$E$24:$E$500,D63))","v":""},"",{"$f":"IF($E63=\"\",\"\",SUMIFS(CMS_Downtime!$L$24:$L$500,CMS_Downtime!$B$24:$B$500,B63,CMS_Downtime!$C$24:$C$500,C63,CMS_Downtime!$E$24:$E$500,D63,CMS_Downtime!$M$24:$M$500,\"Monitoring equipment malfunctions\"))","v":""},{"$f":"IF($E63=\"\",\"\",SUMIFS(CMS_Downtime!$L$24:$L$500,CMS_Downtime!$B$24:$B$500,$B63,CMS_Downtime!$C$24:$C$500,$C63,CMS_Downtime!$E$24:$E$500,$D63,CMS_Downtime!$M$24:$M$500,\"Non-monitoring equipment malfunctions\"))","v":""},{"$f":"IF($E63=\"\",\"\",SUMIFS(CMS_Downtime!$L$24:$L$500,CMS_Downtime!$B$24:$B$500,$B63,CMS_Downtime!$C$24:$C$500,$C63,CMS_Downtime!$E$24:$E$500,$D63,CMS_Downtime!$M$24:$M$500,\"Quality assurance/quality control calibrations\"))","v":""},{"$f":"IF($E63=\"\",\"\",SUMIFS(CMS_Downtime!$L$24:$L$500,CMS_Downtime!$B$24:$B$500,$B63,CMS_Downtime!$C$24:$C$500,$C63,CMS_Downtime!$E$24:$E$500,$D63,CMS_Downtime!$M$24:$M$500,\"Other known causes\"))","v":""},{"$f":"IF($E63=\"\",\"\",SUMIFS(CMS_Downtime!$L$24:$L$500,CMS_Downtime!$B$24:$B$500,$B63,CMS_Downtime!$C$24:$C$500,$C63,CMS_Downtime!$E$24:$E$500,$D63,CMS_Downtime!$M$24:$M$500,\"Other unknown causes\"))","v":""}]
[null,{"$f":"IF(CMS_Downtime_Data!J43=\"\",\"\",CMS_Downtime_Data!J43)","v":""},{"$f":"IF(CMS_Downtime_Data!K43=\"\",\"\",CMS_Downtime_Data!K43)","v":""},{"$f":"IF(CMS_Downtime_Data!M43=\"\",\"\",CMS_Downtime_Data!M43)","v":""},{"$f":"IF(CMS_Downtime_Data!N43=\"\",\"\",CMS_Downtime_Data!N43)","v":""},{"$f":"IF(E64=\"\",\"\",SUMIFS(CMS_Downtime!$L$24:$L$500,CMS_Downtime!$B$24:$B$500,B64,CMS_Downtime!$C$24:$C$500,C64,CMS_Downtime!$E$24:$E$500,D64))","v":""},"",{"$f":"IF($E64=\"\",\"\",SUMIFS(CMS_Downtime!$L$24:$L$500,CMS_Downtime!$B$24:$B$500,B64,CMS_Downtime!$C$24:$C$500,C64,CMS_Downtime!$E$24:$E$500,D64,CMS_Downtime!$M$24:$M$500,\"Monitoring equipment malfunctions\"))","v":""},{"$f":"IF($E64=\"\",\"\",SUMIFS(CMS_Downtime!$L$24:$L$500,CMS_Downtime!$B$24:$B$500,$B64,CMS_Downtime!$C$24:$C$500,$C64,CMS_Downtime!$E$24:$E$500,$D64,CMS_Downtime!$M$24:$M$500,\"Non-monitoring equipment malfunctions\"))","v":""},{"$f":"IF($E64=\"\",\"\",SUMIFS(CMS_Downtime!$L$24:$L$500,CMS_Downtime!$B$24:$B$500,$B64,CMS_Downtime!$C$24:$C$500,$C64,CMS_Downtime!$E$24:$E$500,$D64,CMS_Downtime!$M$24:$M$500,\"Quality assurance/quality control calibrations\"))","v":""},{"$f":"IF($E64=\"\",\"\",SUMIFS(CMS_Downtime!$L$24:$L$500,CMS_Downtime!$B$24:$B$500,$B64,CMS_Downtime!$C$24:$C$500,$C64,CMS_Downtime!$E$24:$E$500,$D64,CMS_Downtime!$M$24:$M$500,\"Other known causes\"))","v":""},{"$f":"IF($E64=\"\",\"\",SUMIFS(CMS_Downtime!$L$24:$L$500,CMS_Downtime!$B$24:$B$500,$B64,CMS_Downtime!$C$24:$C$500,$C64,CMS_Downtime!$E$24:$E$500,$D64,CMS_Downtime!$M$24:$M$500,\"Other unknown causes\"))","v":""}]
[null,{"$f":"IF(CMS_Downtime_Data!J44=\"\",\"\",CMS_Downtime_Data!J44)","v":""},{"$f":"IF(CMS_Downtime_Data!K44=\"\",\"\",CMS_Downtime_Data!K44)","v":""},{"$f":"IF(CMS_Downtime_Data!M44=\"\",\"\",CMS_Downtime_Data!M44)","v":""},{"$f":"IF(CMS_Downtime_Data!N44=\"\",\"\",CMS_Downtime_Data!N44)","v":""},{"$f":"IF(E65=\"\",\"\",SUMIFS(CMS_Downtime!$L$24:$L$500,CMS_Downtime!$B$24:$B$500,B65,CMS_Downtime!$C$24:$C$500,C65,CMS_Downtime!$E$24:$E$500,D65))","v":""},"",{"$f":"IF($E65=\"\",\"\",SUMIFS(CMS_Downtime!$L$24:$L$500,CMS_Downtime!$B$24:$B$500,B65,CMS_Downtime!$C$24:$C$500,C65,CMS_Downtime!$E$24:$E$500,D65,CMS_Downtime!$M$24:$M$500,\"Monitoring equipment malfunctions\"))","v":""},{"$f":"IF($E65=\"\",\"\",SUMIFS(CMS_Downtime!$L$24:$L$500,CMS_Downtime!$B$24:$B$500,$B65,CMS_Downtime!$C$24:$C$500,$C65,CMS_Downtime!$E$24:$E$500,$D65,CMS_Downtime!$M$24:$M$500,\"Non-monitoring equipment malfunctions\"))","v":""},{"$f":"IF($E65=\"\",\"\",SUMIFS(CMS_Downtime!$L$24:$L$500,CMS_Downtime!$B$24:$B$500,$B65,CMS_Downtime!$C$24:$C$500,$C65,CMS_Downtime!$E$24:$E$500,$D65,CMS_Downtime!$M$24:$M$500,\"Quality assurance/quality control calibrations\"))","v":""},{"$f":"IF($E65=\"\",\"\",SUMIFS(CMS_Downtime!$L$24:$L$500,CMS_Downtime!$B$24:$B$500,$B65,CMS_Downtime!$C$24:$C$500,$C65,CMS_Downtime!$E$24:$E$500,$D65,CMS_Downtime!$M$24:$M$500,\"Other known causes\"))","v":""},{"$f":"IF($E65=\"\",\"\",SUMIFS(CMS_Downtime!$L$24:$L$500,CMS_Downtime!$B$24:$B$500,$B65,CMS_Downtime!$C$24:$C$500,$C65,CMS_Downtime!$E$24:$E$500,$D65,CMS_Downtime!$M$24:$M$500,\"Other unknown causes\"))","v":""}]
[null,{"$f":"IF(CMS_Downtime_Data!J45=\"\",\"\",CMS_Downtime_Data!J45)","v":""},{"$f":"IF(CMS_Downtime_Data!K45=\"\",\"\",CMS_Downtime_Data!K45)","v":""},{"$f":"IF(CMS_Downtime_Data!M45=\"\",\"\",CMS_Downtime_Data!M45)","v":""},{"$f":"IF(CMS_Downtime_Data!N45=\"\",\"\",CMS_Downtime_Data!N45)","v":""},{"$f":"IF(E66=\"\",\"\",SUMIFS(CMS_Downtime!$L$24:$L$500,CMS_Downtime!$B$24:$B$500,B66,CMS_Downtime!$C$24:$C$500,C66,CMS_Downtime!$E$24:$E$500,D66))","v":""},"",{"$f":"IF($E66=\"\",\"\",SUMIFS(CMS_Downtime!$L$24:$L$500,CMS_Downtime!$B$24:$B$500,B66,CMS_Downtime!$C$24:$C$500,C66,CMS_Downtime!$E$24:$E$500,D66,CMS_Downtime!$M$24:$M$500,\"Monitoring equipment malfunctions\"))","v":""},{"$f":"IF($E66=\"\",\"\",SUMIFS(CMS_Downtime!$L$24:$L$500,CMS_Downtime!$B$24:$B$500,$B66,CMS_Downtime!$C$24:$C$500,$C66,CMS_Downtime!$E$24:$E$500,$D66,CMS_Downtime!$M$24:$M$500,\"Non-monitoring equipment malfunctions\"))","v":""},{"$f":"IF($E66=\"\",\"\",SUMIFS(CMS_Downtime!$L$24:$L$500,CMS_Downtime!$B$24:$B$500,$B66,CMS_Downtime!$C$24:$C$500,$C66,CMS_Downtime!$E$24:$E$500,$D66,CMS_Downtime!$M$24:$M$500,\"Quality assurance/quality control calibrations\"))","v":""},{"$f":"IF($E66=\"\",\"\",SUMIFS(CMS_Downtime!$L$24:$L$500,CMS_Downtime!$B$24:$B$500,$B66,CMS_Downtime!$C$24:$C$500,$C66,CMS_Downtime!$E$24:$E$500,$D66,CMS_Downtime!$M$24:$M$500,\"Other known causes\"))","v":""},{"$f":"IF($E66=\"\",\"\",SUMIFS(CMS_Downtime!$L$24:$L$500,CMS_Downtime!$B$24:$B$500,$B66,CMS_Downtime!$C$24:$C$500,$C66,CMS_Downtime!$E$24:$E$500,$D66,CMS_Downtime!$M$24:$M$500,\"Other unknown causes\"))","v":""}]
[null,{"$f":"IF(CMS_Downtime_Data!J46=\"\",\"\",CMS_Downtime_Data!J46)","v":""},{"$f":"IF(CMS_Downtime_Data!K46=\"\",\"\",CMS_Downtime_Data!K46)","v":""},{"$f":"IF(CMS_Downtime_Data!M46=\"\",\"\",CMS_Downtime_Data!M46)","v":""},{"$f":"IF(CMS_Downtime_Data!N46=\"\",\"\",CMS_Downtime_Data!N46)","v":""},{"$f":"IF(E67=\"\",\"\",SUMIFS(CMS_Downtime!$L$24:$L$500,CMS_Downtime!$B$24:$B$500,B67,CMS_Downtime!$C$24:$C$500,C67,CMS_Downtime!$E$24:$E$500,D67))","v":""},"",{"$f":"IF($E67=\"\",\"\",SUMIFS(CMS_Downtime!$L$24:$L$500,CMS_Downtime!$B$24:$B$500,B67,CMS_Downtime!$C$24:$C$500,C67,CMS_Downtime!$E$24:$E$500,D67,CMS_Downtime!$M$24:$M$500,\"Monitoring equipment malfunctions\"))","v":""},{"$f":"IF($E67=\"\",\"\",SUMIFS(CMS_Downtime!$L$24:$L$500,CMS_Downtime!$B$24:$B$500,$B67,CMS_Downtime!$C$24:$C$500,$C67,CMS_Downtime!$E$24:$E$500,$D67,CMS_Downtime!$M$24:$M$500,\"Non-monitoring equipment malfunctions\"))","v":""},{"$f":"IF($E67=\"\",\"\",SUMIFS(CMS_Downtime!$L$24:$L$500,CMS_Downtime!$B$24:$B$500,$B67,CMS_Downtime!$C$24:$C$500,$C67,CMS_Downtime!$E$24:$E$500,$D67,CMS_Downtime!$M$24:$M$500,\"Quality assurance/quality control calibrations\"))","v":""},{"$f":"IF($E67=\"\",\"\",SUMIFS(CMS_Downtime!$L$24:$L$500,CMS_Downtime!$B$24:$B$500,$B67,CMS_Downtime!$C$24:$C$500,$C67,CMS_Downtime!$E$24:$E$500,$D67,CMS_Downtime!$M$24:$M$500,\"Other known causes\"))","v":""},{"$f":"IF($E67=\"\",\"\",SUMIFS(CMS_Downtime!$L$24:$L$500,CMS_Downtime!$B$24:$B$500,$B67,CMS_Downtime!$C$24:$C$500,$C67,CMS_Downtime!$E$24:$E$500,$D67,CMS_Downtime!$M$24:$M$500,\"Other unknown causes\"))","v":""}]
[null,{"$f":"IF(CMS_Downtime_Data!J47=\"\",\"\",CMS_Downtime_Data!J47)","v":""},{"$f":"IF(CMS_Downtime_Data!K47=\"\",\"\",CMS_Downtime_Data!K47)","v":""},{"$f":"IF(CMS_Downtime_Data!M47=\"\",\"\",CMS_Downtime_Data!M47)","v":""},{"$f":"IF(CMS_Downtime_Data!N47=\"\",\"\",CMS_Downtime_Data!N47)","v":""},{"$f":"IF(E68=\"\",\"\",SUMIFS(CMS_Downtime!$L$24:$L$500,CMS_Downtime!$B$24:$B$500,B68,CMS_Downtime!$C$24:$C$500,C68,CMS_Downtime!$E$24:$E$500,D68))","v":""},"",{"$f":"IF($E68=\"\",\"\",SUMIFS(CMS_Downtime!$L$24:$L$500,CMS_Downtime!$B$24:$B$500,B68,CMS_Downtime!$C$24:$C$500,C68,CMS_Downtime!$E$24:$E$500,D68,CMS_Downtime!$M$24:$M$500,\"Monitoring equipment malfunctions\"))","v":""},{"$f":"IF($E68=\"\",\"\",SUMIFS(CMS_Downtime!$L$24:$L$500,CMS_Downtime!$B$24:$B$500,$B68,CMS_Downtime!$C$24:$C$500,$C68,CMS_Downtime!$E$24:$E$500,$D68,CMS_Downtime!$M$24:$M$500,\"Non-monitoring equipment malfunctions\"))","v":""},{"$f":"IF($E68=\"\",\"\",SUMIFS(CMS_Downtime!$L$24:$L$500,CMS_Downtime!$B$24:$B$500,$B68,CMS_Downtime!$C$24:$C$500,$C68,CMS_Downtime!$E$24:$E$500,$D68,CMS_Downtime!$M$24:$M$500,\"Quality assurance/quality control calibrations\"))","v":""},{"$f":"IF($E68=\"\",\"\",SUMIFS(CMS_Downtime!$L$24:$L$500,CMS_Downtime!$B$24:$B$500,$B68,CMS_Downtime!$C$24:$C$500,$C68,CMS_Downtime!$E$24:$E$500,$D68,CMS_Downtime!$M$24:$M$500,\"Other known causes\"))","v":""},{"$f":"IF($E68=\"\",\"\",SUMIFS(CMS_Downtime!$L$24:$L$500,CMS_Downtime!$B$24:$B$500,$B68,CMS_Downtime!$C$24:$C$500,$C68,CMS_Downtime!$E$24:$E$500,$D68,CMS_Downtime!$M$24:$M$500,\"Other unknown causes\"))","v":""}]
[null,{"$f":"IF(CMS_Downtime_Data!J48=\"\",\"\",CMS_Downtime_Data!J48)","v":""},{"$f":"IF(CMS_Downtime_Data!K48=\"\",\"\",CMS_Downtime_Data!K48)","v":""},{"$f":"IF(CMS_Downtime_Data!M48=\"\",\"\",CMS_Downtime_Data!M48)","v":""},{"$f":"IF(CMS_Downtime_Data!N48=\"\",\"\",CMS_Downtime_Data!N48)","v":""},{"$f":"IF(E69=\"\",\"\",SUMIFS(CMS_Downtime!$L$24:$L$500,CMS_Downtime!$B$24:$B$500,B69,CMS_Downtime!$C$24:$C$500,C69,CMS_Downtime!$E$24:$E$500,D69))","v":""},"",{"$f":"IF($E69=\"\",\"\",SUMIFS(CMS_Downtime!$L$24:$L$500,CMS_Downtime!$B$24:$B$500,B69,CMS_Downtime!$C$24:$C$500,C69,CMS_Downtime!$E$24:$E$500,D69,CMS_Downtime!$M$24:$M$500,\"Monitoring equipment malfunctions\"))","v":""},{"$f":"IF($E69=\"\",\"\",SUMIFS(CMS_Downtime!$L$24:$L$500,CMS_Downtime!$B$24:$B$500,$B69,CMS_Downtime!$C$24:$C$500,$C69,CMS_Downtime!$E$24:$E$500,$D69,CMS_Downtime!$M$24:$M$500,\"Non-monitoring equipment malfunctions\"))","v":""},{"$f":"IF($E69=\"\",\"\",SUMIFS(CMS_Downtime!$L$24:$L$500,CMS_Downtime!$B$24:$B$500,$B69,CMS_Downtime!$C$24:$C$500,$C69,CMS_Downtime!$E$24:$E$500,$D69,CMS_Downtime!$M$24:$M$500,\"Quality assurance/quality control calibrations\"))","v":""},{"$f":"IF($E69=\"\",\"\",SUMIFS(CMS_Downtime!$L$24:$L$500,CMS_Downtime!$B$24:$B$500,$B69,CMS_Downtime!$C$24:$C$500,$C69,CMS_Downtime!$E$24:$E$500,$D69,CMS_Downtime!$M$24:$M$500,\"Other known causes\"))","v":""},{"$f":"IF($E69=\"\",\"\",SUMIFS(CMS_Downtime!$L$24:$L$500,CMS_Downtime!$B$24:$B$500,$B69,CMS_Downtime!$C$24:$C$500,$C69,CMS_Downtime!$E$24:$E$500,$D69,CMS_Downtime!$M$24:$M$500,\"Other unknown causes\"))","v":""}]
[null,{"$f":"IF(CMS_Downtime_Data!J49=\"\",\"\",CMS_Downtime_Data!J49)","v":""},{"$f":"IF(CMS_Downtime_Data!K49=\"\",\"\",CMS_Downtime_Data!K49)","v":""},{"$f":"IF(CMS_Downtime_Data!M49=\"\",\"\",CMS_Downtime_Data!M49)","v":""},{"$f":"IF(CMS_Downtime_Data!N49=\"\",\"\",CMS_Downtime_Data!N49)","v":""},{"$f":"IF(E70=\"\",\"\",SUMIFS(CMS_Downtime!$L$24:$L$500,CMS_Downtime!$B$24:$B$500,B70,CMS_Downtime!$C$24:$C$500,C70,CMS_Downtime!$E$24:$E$500,D70))","v":""},"",{"$f":"IF($E70=\"\",\"\",SUMIFS(CMS_Downtime!$L$24:$L$500,CMS_Downtime!$B$24:$B$500,B70,CMS_Downtime!$C$24:$C$500,C70,CMS_Downtime!$E$24:$E$500,D70,CMS_Downtime!$M$24:$M$500,\"Monitoring equipment malfunctions\"))","v":""},{"$f":"IF($E70=\"\",\"\",SUMIFS(CMS_Downtime!$L$24:$L$500,CMS_Downtime!$B$24:$B$500,$B70,CMS_Downtime!$C$24:$C$500,$C70,CMS_Downtime!$E$24:$E$500,$D70,CMS_Downtime!$M$24:$M$500,\"Non-monitoring equipment malfunctions\"))","v":""},{"$f":"IF($E70=\"\",\"\",SUMIFS(CMS_Downtime!$L$24:$L$500,CMS_Downtime!$B$24:$B$500,$B70,CMS_Downtime!$C$24:$C$500,$C70,CMS_Downtime!$E$24:$E$500,$D70,CMS_Downtime!$M$24:$M$500,\"Quality assurance/quality control calibrations\"))","v":""},{"$f":"IF($E70=\"\",\"\",SUMIFS(CMS_Downtime!$L$24:$L$500,CMS_Downtime!$B$24:$B$500,$B70,CMS_Downtime!$C$24:$C$500,$C70,CMS_Downtime!$E$24:$E$500,$D70,CMS_Downtime!$M$24:$M$500,\"Other known causes\"))","v":""},{"$f":"IF($E70=\"\",\"\",SUMIFS(CMS_Downtime!$L$24:$L$500,CMS_Downtime!$B$24:$B$500,$B70,CMS_Downtime!$C$24:$C$500,$C70,CMS_Downtime!$E$24:$E$500,$D70,CMS_Downtime!$M$24:$M$500,\"Other unknown causes\"))","v":""}]
[null,{"$f":"IF(CMS_Downtime_Data!J50=\"\",\"\",CMS_Downtime_Data!J50)","v":""},{"$f":"IF(CMS_Downtime_Data!K50=\"\",\"\",CMS_Downtime_Data!K50)","v":""},{"$f":"IF(CMS_Downtime_Data!M50=\"\",\"\",CMS_Downtime_Data!M50)","v":""},{"$f":"IF(CMS_Downtime_Data!N50=\"\",\"\",CMS_Downtime_Data!N50)","v":""},{"$f":"IF(E71=\"\",\"\",SUMIFS(CMS_Downtime!$L$24:$L$500,CMS_Downtime!$B$24:$B$500,B71,CMS_Downtime!$C$24:$C$500,C71,CMS_Downtime!$E$24:$E$500,D71))","v":""},"",{"$f":"IF($E71=\"\",\"\",SUMIFS(CMS_Downtime!$L$24:$L$500,CMS_Downtime!$B$24:$B$500,B71,CMS_Downtime!$C$24:$C$500,C71,CMS_Downtime!$E$24:$E$500,D71,CMS_Downtime!$M$24:$M$500,\"Monitoring equipment malfunctions\"))","v":""},{"$f":"IF($E71=\"\",\"\",SUMIFS(CMS_Downtime!$L$24:$L$500,CMS_Downtime!$B$24:$B$500,$B71,CMS_Downtime!$C$24:$C$500,$C71,CMS_Downtime!$E$24:$E$500,$D71,CMS_Downtime!$M$24:$M$500,\"Non-monitoring equipment malfunctions\"))","v":""},{"$f":"IF($E71=\"\",\"\",SUMIFS(CMS_Downtime!$L$24:$L$500,CMS_Downtime!$B$24:$B$500,$B71,CMS_Downtime!$C$24:$C$500,$C71,CMS_Downtime!$E$24:$E$500,$D71,CMS_Downtime!$M$24:$M$500,\"Quality assurance/quality control calibrations\"))","v":""},{"$f":"IF($E71=\"\",\"\",SUMIFS(CMS_Downtime!$L$24:$L$500,CMS_Downtime!$B$24:$B$500,$B71,CMS_Downtime!$C$24:$C$500,$C71,CMS_Downtime!$E$24:$E$500,$D71,CMS_Downtime!$M$24:$M$500,\"Other known causes\"))","v":""},{"$f":"IF($E71=\"\",\"\",SUMIFS(CMS_Downtime!$L$24:$L$500,CMS_Downtime!$B$24:$B$500,$B71,CMS_Downtime!$C$24:$C$500,$C71,CMS_Downtime!$E$24:$E$500,$D71,CMS_Downtime!$M$24:$M$500,\"Other unknown causes\"))","v":""}]
[null,{"$f":"IF(CMS_Downtime_Data!J51=\"\",\"\",CMS_Downtime_Data!J51)","v":""},{"$f":"IF(CMS_Downtime_Data!K51=\"\",\"\",CMS_Downtime_Data!K51)","v":""},{"$f":"IF(CMS_Downtime_Data!M51=\"\",\"\",CMS_Downtime_Data!M51)","v":""},{"$f":"IF(CMS_Downtime_Data!N51=\"\",\"\",CMS_Downtime_Data!N51)","v":""},{"$f":"IF(E72=\"\",\"\",SUMIFS(CMS_Downtime!$L$24:$L$500,CMS_Downtime!$B$24:$B$500,B72,CMS_Downtime!$C$24:$C$500,C72,CMS_Downtime!$E$24:$E$500,D72))","v":""},"",{"$f":"IF($E72=\"\",\"\",SUMIFS(CMS_Downtime!$L$24:$L$500,CMS_Downtime!$B$24:$B$500,B72,CMS_Downtime!$C$24:$C$500,C72,CMS_Downtime!$E$24:$E$500,D72,CMS_Downtime!$M$24:$M$500,\"Monitoring equipment malfunctions\"))","v":""},{"$f":"IF($E72=\"\",\"\",SUMIFS(CMS_Downtime!$L$24:$L$500,CMS_Downtime!$B$24:$B$500,$B72,CMS_Downtime!$C$24:$C$500,$C72,CMS_Downtime!$E$24:$E$500,$D72,CMS_Downtime!$M$24:$M$500,\"Non-monitoring equipment malfunctions\"))","v":""},{"$f":"IF($E72=\"\",\"\",SUMIFS(CMS_Downtime!$L$24:$L$500,CMS_Downtime!$B$24:$B$500,$B72,CMS_Downtime!$C$24:$C$500,$C72,CMS_Downtime!$E$24:$E$500,$D72,CMS_Downtime!$M$24:$M$500,\"Quality assurance/quality control calibrations\"))","v":""},{"$f":"IF($E72=\"\",\"\",SUMIFS(CMS_Downtime!$L$24:$L$500,CMS_Downtime!$B$24:$B$500,$B72,CMS_Downtime!$C$24:$C$500,$C72,CMS_Downtime!$E$24:$E$500,$D72,CMS_Downtime!$M$24:$M$500,\"Other known causes\"))","v":""},{"$f":"IF($E72=\"\",\"\",SUMIFS(CMS_Downtime!$L$24:$L$500,CMS_Downtime!$B$24:$B$500,$B72,CMS_Downtime!$C$24:$C$500,$C72,CMS_Downtime!$E$24:$E$500,$D72,CMS_Downtime!$M$24:$M$500,\"Other unknown causes\"))","v":""}]
[null,{"$f":"IF(CMS_Downtime_Data!J52=\"\",\"\",CMS_Downtime_Data!J52)","v":""},{"$f":"IF(CMS_Downtime_Data!K52=\"\",\"\",CMS_Downtime_Data!K52)","v":""},{"$f":"IF(CMS_Downtime_Data!M52=\"\",\"\",CMS_Downtime_Data!M52)","v":""},{"$f":"IF(CMS_Downtime_Data!N52=\"\",\"\",CMS_Downtime_Data!N52)","v":""},{"$f":"IF(E73=\"\",\"\",SUMIFS(CMS_Downtime!$L$24:$L$500,CMS_Downtime!$B$24:$B$500,B73,CMS_Downtime!$C$24:$C$500,C73,CMS_Downtime!$E$24:$E$500,D73))","v":""},"",{"$f":"IF($E73=\"\",\"\",SUMIFS(CMS_Downtime!$L$24:$L$500,CMS_Downtime!$B$24:$B$500,B73,CMS_Downtime!$C$24:$C$500,C73,CMS_Downtime!$E$24:$E$500,D73,CMS_Downtime!$M$24:$M$500,\"Monitoring equipment malfunctions\"))","v":""},{"$f":"IF($E73=\"\",\"\",SUMIFS(CMS_Downtime!$L$24:$L$500,CMS_Downtime!$B$24:$B$500,$B73,CMS_Downtime!$C$24:$C$500,$C73,CMS_Downtime!$E$24:$E$500,$D73,CMS_Downtime!$M$24:$M$500,\"Non-monitoring equipment malfunctions\"))","v":""},{"$f":"IF($E73=\"\",\"\",SUMIFS(CMS_Downtime!$L$24:$L$500,CMS_Downtime!$B$24:$B$500,$B73,CMS_Downtime!$C$24:$C$500,$C73,CMS_Downtime!$E$24:$E$500,$D73,CMS_Downtime!$M$24:$M$500,\"Quality assurance/quality control calibrations\"))","v":""},{"$f":"IF($E73=\"\",\"\",SUMIFS(CMS_Downtime!$L$24:$L$500,CMS_Downtime!$B$24:$B$500,$B73,CMS_Downtime!$C$24:$C$500,$C73,CMS_Downtime!$E$24:$E$500,$D73,CMS_Downtime!$M$24:$M$500,\"Other known causes\"))","v":""},{"$f":"IF($E73=\"\",\"\",SUMIFS(CMS_Downtime!$L$24:$L$500,CMS_Downtime!$B$24:$B$500,$B73,CMS_Downtime!$C$24:$C$500,$C73,CMS_Downtime!$E$24:$E$500,$D73,CMS_Downtime!$M$24:$M$500,\"Other unknown causes\"))","v":""}]
[null,{"$f":"IF(CMS_Downtime_Data!J53=\"\",\"\",CMS_Downtime_Data!J53)","v":""},{"$f":"IF(CMS_Downtime_Data!K53=\"\",\"\",CMS_Downtime_Data!K53)","v":""},{"$f":"IF(CMS_Downtime_Data!M53=\"\",\"\",CMS_Downtime_Data!M53)","v":""},{"$f":"IF(CMS_Downtime_Data!N53=\"\",\"\",CMS_Downtime_Data!N53)","v":""},{"$f":"IF(E74=\"\",\"\",SUMIFS(CMS_Downtime!$L$24:$L$500,CMS_Downtime!$B$24:$B$500,B74,CMS_Downtime!$C$24:$C$500,C74,CMS_Downtime!$E$24:$E$500,D74))","v":""},"",{"$f":"IF($E74=\"\",\"\",SUMIFS(CMS_Downtime!$L$24:$L$500,CMS_Downtime!$B$24:$B$500,B74,CMS_Downtime!$C$24:$C$500,C74,CMS_Downtime!$E$24:$E$500,D74,CMS_Downtime!$M$24:$M$500,\"Monitoring equipment malfunctions\"))","v":""},{"$f":"IF($E74=\"\",\"\",SUMIFS(CMS_Downtime!$L$24:$L$500,CMS_Downtime!$B$24:$B$500,$B74,CMS_Downtime!$C$24:$C$500,$C74,CMS_Downtime!$E$24:$E$500,$D74,CMS_Downtime!$M$24:$M$500,\"Non-monitoring equipment malfunctions\"))","v":""},{"$f":"IF($E74=\"\",\"\",SUMIFS(CMS_Downtime!$L$24:$L$500,CMS_Downtime!$B$24:$B$500,$B74,CMS_Downtime!$C$24:$C$500,$C74,CMS_Downtime!$E$24:$E$500,$D74,CMS_Downtime!$M$24:$M$500,\"Quality assurance/quality control calibrations\"))","v":""},{"$f":"IF($E74=\"\",\"\",SUMIFS(CMS_Downtime!$L$24:$L$500,CMS_Downtime!$B$24:$B$500,$B74,CMS_Downtime!$C$24:$C$500,$C74,CMS_Downtime!$E$24:$E$500,$D74,CMS_Downtime!$M$24:$M$500,\"Other known causes\"))","v":""},{"$f":"IF($E74=\"\",\"\",SUMIFS(CMS_Downtime!$L$24:$L$500,CMS_Downtime!$B$24:$B$500,$B74,CMS_Downtime!$C$24:$C$500,$C74,CMS_Downtime!$E$24:$E$500,$D74,CMS_Downtime!$M$24:$M$500,\"Other unknown causes\"))","v":""}]
[null,{"$f":"IF(CMS_Downtime_Data!J54=\"\",\"\",CMS_Downtime_Data!J54)","v":""},{"$f":"IF(CMS_Downtime_Data!K54=\"\",\"\",CMS_Downtime_Data!K54)","v":""},{"$f":"IF(CMS_Downtime_Data!M54=\"\",\"\",CMS_Downtime_Data!M54)","v":""},{"$f":"IF(CMS_Downtime_Data!N54=\"\",\"\",CMS_Downtime_Data!N54)","v":""},{"$f":"IF(E75=\"\",\"\",SUMIFS(CMS_Downtime!$L$24:$L$500,CMS_Downtime!$B$24:$B$500,B75,CMS_Downtime!$C$24:$C$500,C75,CMS_Downtime!$E$24:$E$500,D75))","v":""},"",{"$f":"IF($E75=\"\",\"\",SUMIFS(CMS_Downtime!$L$24:$L$500,CMS_Downtime!$B$24:$B$500,B75,CMS_Downtime!$C$24:$C$500,C75,CMS_Downtime!$E$24:$E$500,D75,CMS_Downtime!$M$24:$M$500,\"Monitoring equipment malfunctions\"))","v":""},{"$f":"IF($E75=\"\",\"\",SUMIFS(CMS_Downtime!$L$24:$L$500,CMS_Downtime!$B$24:$B$500,$B75,CMS_Downtime!$C$24:$C$500,$C75,CMS_Downtime!$E$24:$E$500,$D75,CMS_Downtime!$M$24:$M$500,\"Non-monitoring equipment malfunctions\"))","v":""},{"$f":"IF($E75=\"\",\"\",SUMIFS(CMS_Downtime!$L$24:$L$500,CMS_Downtime!$B$24:$B$500,$B75,CMS_Downtime!$C$24:$C$500,$C75,CMS_Downtime!$E$24:$E$500,$D75,CMS_Downtime!$M$24:$M$500,\"Quality assurance/quality control calibrations\"))","v":""},{"$f":"IF($E75=\"\",\"\",SUMIFS(CMS_Downtime!$L$24:$L$500,CMS_Downtime!$B$24:$B$500,$B75,CMS_Downtime!$C$24:$C$500,$C75,CMS_Downtime!$E$24:$E$500,$D75,CMS_Downtime!$M$24:$M$500,\"Other known causes\"))","v":""},{"$f":"IF($E75=\"\",\"\",SUMIFS(CMS_Downtime!$L$24:$L$500,CMS_Downtime!$B$24:$B$500,$B75,CMS_Downtime!$C$24:$C$500,$C75,CMS_Downtime!$E$24:$E$500,$D75,CMS_Downtime!$M$24:$M$500,\"Other unknown causes\"))","v":""}]
[null,{"$f":"IF(CMS_Downtime_Data!J55=\"\",\"\",CMS_Downtime_Data!J55)","v":""},{"$f":"IF(CMS_Downtime_Data!K55=\"\",\"\",CMS_Downtime_Data!K55)","v":""},{"$f":"IF(CMS_Downtime_Data!M55=\"\",\"\",CMS_Downtime_Data!M55)","v":""},{"$f":"IF(CMS_Downtime_Data!N55=\"\",\"\",CMS_Downtime_Data!N55)","v":""},{"$f":"IF(E76=\"\",\"\",SUMIFS(CMS_Downtime!$L$24:$L$500,CMS_Downtime!$B$24:$B$500,B76,CMS_Downtime!$C$24:$C$500,C76,CMS_Downtime!$E$24:$E$500,D76))","v":""},"",{"$f":"IF($E76=\"\",\"\",SUMIFS(CMS_Downtime!$L$24:$L$500,CMS_Downtime!$B$24:$B$500,B76,CMS_Downtime!$C$24:$C$500,C76,CMS_Downtime!$E$24:$E$500,D76,CMS_Downtime!$M$24:$M$500,\"Monitoring equipment malfunctions\"))","v":""},{"$f":"IF($E76=\"\",\"\",SUMIFS(CMS_Downtime!$L$24:$L$500,CMS_Downtime!$B$24:$B$500,$B76,CMS_Downtime!$C$24:$C$500,$C76,CMS_Downtime!$E$24:$E$500,$D76,CMS_Downtime!$M$24:$M$500,\"Non-monitoring equipment malfunctions\"))","v":""},{"$f":"IF($E76=\"\",\"\",SUMIFS(CMS_Downtime!$L$24:$L$500,CMS_Downtime!$B$24:$B$500,$B76,CMS_Downtime!$C$24:$C$500,$C76,CMS_Downtime!$E$24:$E$500,$D76,CMS_Downtime!$M$24:$M$500,\"Quality assurance/quality control calibrations\"))","v":""},{"$f":"IF($E76=\"\",\"\",SUMIFS(CMS_Downtime!$L$24:$L$500,CMS_Downtime!$B$24:$B$500,$B76,CMS_Downtime!$C$24:$C$500,$C76,CMS_Downtime!$E$24:$E$500,$D76,CMS_Downtime!$M$24:$M$500,\"Other known causes\"))","v":""},{"$f":"IF($E76=\"\",\"\",SUMIFS(CMS_Downtime!$L$24:$L$500,CMS_Downtime!$B$24:$B$500,$B76,CMS_Downtime!$C$24:$C$500,$C76,CMS_Downtime!$E$24:$E$500,$D76,CMS_Downtime!$M$24:$M$500,\"Other unknown causes\"))","v":""}]
[null,{"$f":"IF(CMS_Downtime_Data!J56=\"\",\"\",CMS_Downtime_Data!J56)","v":""},{"$f":"IF(CMS_Downtime_Data!K56=\"\",\"\",CMS_Downtime_Data!K56)","v":""},{"$f":"IF(CMS_Downtime_Data!M56=\"\",\"\",CMS_Downtime_Data!M56)","v":""},{"$f":"IF(CMS_Downtime_Data!N56=\"\",\"\",CMS_Downtime_Data!N56)","v":""},{"$f":"IF(E77=\"\",\"\",SUMIFS(CMS_Downtime!$L$24:$L$500,CMS_Downtime!$B$24:$B$500,B77,CMS_Downtime!$C$24:$C$500,C77,CMS_Downtime!$E$24:$E$500,D77))","v":""},"",{"$f":"IF($E77=\"\",\"\",SUMIFS(CMS_Downtime!$L$24:$L$500,CMS_Downtime!$B$24:$B$500,B77,CMS_Downtime!$C$24:$C$500,C77,CMS_Downtime!$E$24:$E$500,D77,CMS_Downtime!$M$24:$M$500,\"Monitoring equipment malfunctions\"))","v":""},{"$f":"IF($E77=\"\",\"\",SUMIFS(CMS_Downtime!$L$24:$L$500,CMS_Downtime!$B$24:$B$500,$B77,CMS_Downtime!$C$24:$C$500,$C77,CMS_Downtime!$E$24:$E$500,$D77,CMS_Downtime!$M$24:$M$500,\"Non-monitoring equipment malfunctions\"))","v":""},{"$f":"IF($E77=\"\",\"\",SUMIFS(CMS_Downtime!$L$24:$L$500,CMS_Downtime!$B$24:$B$500,$B77,CMS_Downtime!$C$24:$C$500,$C77,CMS_Downtime!$E$24:$E$500,$D77,CMS_Downtime!$M$24:$M$500,\"Quality assurance/quality control calibrations\"))","v":""},{"$f":"IF($E77=\"\",\"\",SUMIFS(CMS_Downtime!$L$24:$L$500,CMS_Downtime!$B$24:$B$500,$B77,CMS_Downtime!$C$24:$C$500,$C77,CMS_Downtime!$E$24:$E$500,$D77,CMS_Downtime!$M$24:$M$500,\"Other known causes\"))","v":""},{"$f":"IF($E77=\"\",\"\",SUMIFS(CMS_Downtime!$L$24:$L$500,CMS_Downtime!$B$24:$B$500,$B77,CMS_Downtime!$C$24:$C$500,$C77,CMS_Downtime!$E$24:$E$500,$D77,CMS_Downtime!$M$24:$M$500,\"Other unknown causes\"))","v":""}]
[null,{"$f":"IF(CMS_Downtime_Data!J57=\"\",\"\",CMS_Downtime_Data!J57)","v":""},{"$f":"IF(CMS_Downtime_Data!K57=\"\",\"\",CMS_Downtime_Data!K57)","v":""},{"$f":"IF(CMS_Downtime_Data!M57=\"\",\"\",CMS_Downtime_Data!M57)","v":""},{"$f":"IF(CMS_Downtime_Data!N57=\"\",\"\",CMS_Downtime_Data!N57)","v":""},{"$f":"IF(E78=\"\",\"\",SUMIFS(CMS_Downtime!$L$24:$L$500,CMS_Downtime!$B$24:$B$500,B78,CMS_Downtime!$C$24:$C$500,C78,CMS_Downtime!$E$24:$E$500,D78))","v":""},"",{"$f":"IF($E78=\"\",\"\",SUMIFS(CMS_Downtime!$L$24:$L$500,CMS_Downtime!$B$24:$B$500,B78,CMS_Downtime!$C$24:$C$500,C78,CMS_Downtime!$E$24:$E$500,D78,CMS_Downtime!$M$24:$M$500,\"Monitoring equipment malfunctions\"))","v":""},{"$f":"IF($E78=\"\",\"\",SUMIFS(CMS_Downtime!$L$24:$L$500,CMS_Downtime!$B$24:$B$500,$B78,CMS_Downtime!$C$24:$C$500,$C78,CMS_Downtime!$E$24:$E$500,$D78,CMS_Downtime!$M$24:$M$500,\"Non-monitoring equipment malfunctions\"))","v":""},{"$f":"IF($E78=\"\",\"\",SUMIFS(CMS_Downtime!$L$24:$L$500,CMS_Downtime!$B$24:$B$500,$B78,CMS_Downtime!$C$24:$C$500,$C78,CMS_Downtime!$E$24:$E$500,$D78,CMS_Downtime!$M$24:$M$500,\"Quality assurance/quality control calibrations\"))","v":""},{"$f":"IF($E78=\"\",\"\",SUMIFS(CMS_Downtime!$L$24:$L$500,CMS_Downtime!$B$24:$B$500,$B78,CMS_Downtime!$C$24:$C$500,$C78,CMS_Downtime!$E$24:$E$500,$D78,CMS_Downtime!$M$24:$M$500,\"Other known causes\"))","v":""},{"$f":"IF($E78=\"\",\"\",SUMIFS(CMS_Downtime!$L$24:$L$500,CMS_Downtime!$B$24:$B$500,$B78,CMS_Downtime!$C$24:$C$500,$C78,CMS_Downtime!$E$24:$E$500,$D78,CMS_Downtime!$M$24:$M$500,\"Other unknown causes\"))","v":""}]
[null,{"$f":"IF(CMS_Downtime_Data!J58=\"\",\"\",CMS_Downtime_Data!J58)","v":""},{"$f":"IF(CMS_Downtime_Data!K58=\"\",\"\",CMS_Downtime_Data!K58)","v":""},{"$f":"IF(CMS_Downtime_Data!M58=\"\",\"\",CMS_Downtime_Data!M58)","v":""},{"$f":"IF(CMS_Downtime_Data!N58=\"\",\"\",CMS_Downtime_Data!N58)","v":""},{"$f":"IF(E79=\"\",\"\",SUMIFS(CMS_Downtime!$L$24:$L$500,CMS_Downtime!$B$24:$B$500,B79,CMS_Downtime!$C$24:$C$500,C79,CMS_Downtime!$E$24:$E$500,D79))","v":""},"",{"$f":"IF($E79=\"\",\"\",SUMIFS(CMS_Downtime!$L$24:$L$500,CMS_Downtime!$B$24:$B$500,B79,CMS_Downtime!$C$24:$C$500,C79,CMS_Downtime!$E$24:$E$500,D79,CMS_Downtime!$M$24:$M$500,\"Monitoring equipment malfunctions\"))","v":""},{"$f":"IF($E79=\"\",\"\",SUMIFS(CMS_Downtime!$L$24:$L$500,CMS_Downtime!$B$24:$B$500,$B79,CMS_Downtime!$C$24:$C$500,$C79,CMS_Downtime!$E$24:$E$500,$D79,CMS_Downtime!$M$24:$M$500,\"Non-monitoring equipment malfunctions\"))","v":""},{"$f":"IF($E79=\"\",\"\",SUMIFS(CMS_Downtime!$L$24:$L$500,CMS_Downtime!$B$24:$B$500,$B79,CMS_Downtime!$C$24:$C$500,$C79,CMS_Downtime!$E$24:$E$500,$D79,CMS_Downtime!$M$24:$M$500,\"Quality assurance/quality control calibrations\"))","v":""},{"$f":"IF($E79=\"\",\"\",SUMIFS(CMS_Downtime!$L$24:$L$500,CMS_Downtime!$B$24:$B$500,$B79,CMS_Downtime!$C$24:$C$500,$C79,CMS_Downtime!$E$24:$E$500,$D79,CMS_Downtime!$M$24:$M$500,\"Other known causes\"))","v":""},{"$f":"IF($E79=\"\",\"\",SUMIFS(CMS_Downtime!$L$24:$L$500,CMS_Downtime!$B$24:$B$500,$B79,CMS_Downtime!$C$24:$C$500,$C79,CMS_Downtime!$E$24:$E$500,$D79,CMS_Downtime!$M$24:$M$500,\"Other unknown causes\"))","v":""}]
[null,{"$f":"IF(CMS_Downtime_Data!J59=\"\",\"\",CMS_Downtime_Data!J59)","v":""},{"$f":"IF(CMS_Downtime_Data!K59=\"\",\"\",CMS_Downtime_Data!K59)","v":""},{"$f":"IF(CMS_Downtime_Data!M59=\"\",\"\",CMS_Downtime_Data!M59)","v":""},{"$f":"IF(CMS_Downtime_Data!N59=\"\",\"\",CMS_Downtime_Data!N59)","v":""},{"$f":"IF(E80=\"\",\"\",SUMIFS(CMS_Downtime!$L$24:$L$500,CMS_Downtime!$B$24:$B$500,B80,CMS_Downtime!$C$24:$C$500,C80,CMS_Downtime!$E$24:$E$500,D80))","v":""},"",{"$f":"IF($E80=\"\",\"\",SUMIFS(CMS_Downtime!$L$24:$L$500,CMS_Downtime!$B$24:$B$500,B80,CMS_Downtime!$C$24:$C$500,C80,CMS_Downtime!$E$24:$E$500,D80,CMS_Downtime!$M$24:$M$500,\"Monitoring equipment malfunctions\"))","v":""},{"$f":"IF($E80=\"\",\"\",SUMIFS(CMS_Downtime!$L$24:$L$500,CMS_Downtime!$B$24:$B$500,$B80,CMS_Downtime!$C$24:$C$500,$C80,CMS_Downtime!$E$24:$E$500,$D80,CMS_Downtime!$M$24:$M$500,\"Non-monitoring equipment malfunctions\"))","v":""},{"$f":"IF($E80=\"\",\"\",SUMIFS(CMS_Downtime!$L$24:$L$500,CMS_Downtime!$B$24:$B$500,$B80,CMS_Downtime!$C$24:$C$500,$C80,CMS_Downtime!$E$24:$E$500,$D80,CMS_Downtime!$M$24:$M$500,\"Quality assurance/quality control calibrations\"))","v":""},{"$f":"IF($E80=\"\",\"\",SUMIFS(CMS_Downtime!$L$24:$L$500,CMS_Downtime!$B$24:$B$500,$B80,CMS_Downtime!$C$24:$C$500,$C80,CMS_Downtime!$E$24:$E$500,$D80,CMS_Downtime!$M$24:$M$500,\"Other known causes\"))","v":""},{"$f":"IF($E80=\"\",\"\",SUMIFS(CMS_Downtime!$L$24:$L$500,CMS_Downtime!$B$24:$B$500,$B80,CMS_Downtime!$C$24:$C$500,$C80,CMS_Downtime!$E$24:$E$500,$D80,CMS_Downtime!$M$24:$M$500,\"Other unknown causes\"))","v":""}]
[null,{"$f":"IF(CMS_Downtime_Data!J60=\"\",\"\",CMS_Downtime_Data!J60)","v":""},{"$f":"IF(CMS_Downtime_Data!K60=\"\",\"\",CMS_Downtime_Data!K60)","v":""},{"$f":"IF(CMS_Downtime_Data!M60=\"\",\"\",CMS_Downtime_Data!M60)","v":""},{"$f":"IF(CMS_Downtime_Data!N60=\"\",\"\",CMS_Downtime_Data!N60)","v":""},{"$f":"IF(E81=\"\",\"\",SUMIFS(CMS_Downtime!$L$24:$L$500,CMS_Downtime!$B$24:$B$500,B81,CMS_Downtime!$C$24:$C$500,C81,CMS_Downtime!$E$24:$E$500,D81))","v":""},"",{"$f":"IF($E81=\"\",\"\",SUMIFS(CMS_Downtime!$L$24:$L$500,CMS_Downtime!$B$24:$B$500,B81,CMS_Downtime!$C$24:$C$500,C81,CMS_Downtime!$E$24:$E$500,D81,CMS_Downtime!$M$24:$M$500,\"Monitoring equipment malfunctions\"))","v":""},{"$f":"IF($E81=\"\",\"\",SUMIFS(CMS_Downtime!$L$24:$L$500,CMS_Downtime!$B$24:$B$500,$B81,CMS_Downtime!$C$24:$C$500,$C81,CMS_Downtime!$E$24:$E$500,$D81,CMS_Downtime!$M$24:$M$500,\"Non-monitoring equipment malfunctions\"))","v":""},{"$f":"IF($E81=\"\",\"\",SUMIFS(CMS_Downtime!$L$24:$L$500,CMS_Downtime!$B$24:$B$500,$B81,CMS_Downtime!$C$24:$C$500,$C81,CMS_Downtime!$E$24:$E$500,$D81,CMS_Downtime!$M$24:$M$500,\"Quality assurance/quality control calibrations\"))","v":""},{"$f":"IF($E81=\"\",\"\",SUMIFS(CMS_Downtime!$L$24:$L$500,CMS_Downtime!$B$24:$B$500,$B81,CMS_Downtime!$C$24:$C$500,$C81,CMS_Downtime!$E$24:$E$500,$D81,CMS_Downtime!$M$24:$M$500,\"Other known causes\"))","v":""},{"$f":"IF($E81=\"\",\"\",SUMIFS(CMS_Downtime!$L$24:$L$500,CMS_Downtime!$B$24:$B$500,$B81,CMS_Downtime!$C$24:$C$500,$C81,CMS_Downtime!$E$24:$E$500,$D81,CMS_Downtime!$M$24:$M$500,\"Other unknown causes\"))","v":""}]
[null,{"$f":"IF(CMS_Downtime_Data!J61=\"\",\"\",CMS_Downtime_Data!J61)","v":""},{"$f":"IF(CMS_Downtime_Data!K61=\"\",\"\",CMS_Downtime_Data!K61)","v":""},{"$f":"IF(CMS_Downtime_Data!M61=\"\",\"\",CMS_Downtime_Data!M61)","v":""},{"$f":"IF(CMS_Downtime_Data!N61=\"\",\"\",CMS_Downtime_Data!N61)","v":""},{"$f":"IF(E82=\"\",\"\",SUMIFS(CMS_Downtime!$L$24:$L$500,CMS_Downtime!$B$24:$B$500,B82,CMS_Downtime!$C$24:$C$500,C82,CMS_Downtime!$E$24:$E$500,D82))","v":""},"",{"$f":"IF($E82=\"\",\"\",SUMIFS(CMS_Downtime!$L$24:$L$500,CMS_Downtime!$B$24:$B$500,B82,CMS_Downtime!$C$24:$C$500,C82,CMS_Downtime!$E$24:$E$500,D82,CMS_Downtime!$M$24:$M$500,\"Monitoring equipment malfunctions\"))","v":""},{"$f":"IF($E82=\"\",\"\",SUMIFS(CMS_Downtime!$L$24:$L$500,CMS_Downtime!$B$24:$B$500,$B82,CMS_Downtime!$C$24:$C$500,$C82,CMS_Downtime!$E$24:$E$500,$D82,CMS_Downtime!$M$24:$M$500,\"Non-monitoring equipment malfunctions\"))","v":""},{"$f":"IF($E82=\"\",\"\",SUMIFS(CMS_Downtime!$L$24:$L$500,CMS_Downtime!$B$24:$B$500,$B82,CMS_Downtime!$C$24:$C$500,$C82,CMS_Downtime!$E$24:$E$500,$D82,CMS_Downtime!$M$24:$M$500,\"Quality assurance/quality control calibrations\"))","v":""},{"$f":"IF($E82=\"\",\"\",SUMIFS(CMS_Downtime!$L$24:$L$500,CMS_Downtime!$B$24:$B$500,$B82,CMS_Downtime!$C$24:$C$500,$C82,CMS_Downtime!$E$24:$E$500,$D82,CMS_Downtime!$M$24:$M$500,\"Other known causes\"))","v":""},{"$f":"IF($E82=\"\",\"\",SUMIFS(CMS_Downtime!$L$24:$L$500,CMS_Downtime!$B$24:$B$500,$B82,CMS_Downtime!$C$24:$C$500,$C82,CMS_Downtime!$E$24:$E$500,$D82,CMS_Downtime!$M$24:$M$500,\"Other unknown causes\"))","v":""}]
[null,{"$f":"IF(CMS_Downtime_Data!J62=\"\",\"\",CMS_Downtime_Data!J62)","v":""},{"$f":"IF(CMS_Downtime_Data!K62=\"\",\"\",CMS_Downtime_Data!K62)","v":""},{"$f":"IF(CMS_Downtime_Data!M62=\"\",\"\",CMS_Downtime_Data!M62)","v":""},{"$f":"IF(CMS_Downtime_Data!N62=\"\",\"\",CMS_Downtime_Data!N62)","v":""},{"$f":"IF(E83=\"\",\"\",SUMIFS(CMS_Downtime!$L$24:$L$500,CMS_Downtime!$B$24:$B$500,B83,CMS_Downtime!$C$24:$C$500,C83,CMS_Downtime!$E$24:$E$500,D83))","v":""},"",{"$f":"IF($E83=\"\",\"\",SUMIFS(CMS_Downtime!$L$24:$L$500,CMS_Downtime!$B$24:$B$500,B83,CMS_Downtime!$C$24:$C$500,C83,CMS_Downtime!$E$24:$E$500,D83,CMS_Downtime!$M$24:$M$500,\"Monitoring equipment malfunctions\"))","v":""},{"$f":"IF($E83=\"\",\"\",SUMIFS(CMS_Downtime!$L$24:$L$500,CMS_Downtime!$B$24:$B$500,$B83,CMS_Downtime!$C$24:$C$500,$C83,CMS_Downtime!$E$24:$E$500,$D83,CMS_Downtime!$M$24:$M$500,\"Non-monitoring equipment malfunctions\"))","v":""},{"$f":"IF($E83=\"\",\"\",SUMIFS(CMS_Downtime!$L$24:$L$500,CMS_Downtime!$B$24:$B$500,$B83,CMS_Downtime!$C$24:$C$500,$C83,CMS_Downtime!$E$24:$E$500,$D83,CMS_Downtime!$M$24:$M$500,\"Quality assurance/quality control calibrations\"))","v":""},{"$f":"IF($E83=\"\",\"\",SUMIFS(CMS_Downtime!$L$24:$L$500,CMS_Downtime!$B$24:$B$500,$B83,CMS_Downtime!$C$24:$C$500,$C83,CMS_Downtime!$E$24:$E$500,$D83,CMS_Downtime!$M$24:$M$500,\"Other known causes\"))","v":""},{"$f":"IF($E83=\"\",\"\",SUMIFS(CMS_Downtime!$L$24:$L$500,CMS_Downtime!$B$24:$B$500,$B83,CMS_Downtime!$C$24:$C$500,$C83,CMS_Downtime!$E$24:$E$500,$D83,CMS_Downtime!$M$24:$M$500,\"Other unknown causes\"))","v":""}]
[null,{"$f":"IF(CMS_Downtime_Data!J63=\"\",\"\",CMS_Downtime_Data!J63)","v":""},{"$f":"IF(CMS_Downtime_Data!K63=\"\",\"\",CMS_Downtime_Data!K63)","v":""},{"$f":"IF(CMS_Downtime_Data!M63=\"\",\"\",CMS_Downtime_Data!M63)","v":""},{"$f":"IF(CMS_Downtime_Data!N63=\"\",\"\",CMS_Downtime_Data!N63)","v":""},{"$f":"IF(E84=\"\",\"\",SUMIFS(CMS_Downtime!$L$24:$L$500,CMS_Downtime!$B$24:$B$500,B84,CMS_Downtime!$C$24:$C$500,C84,CMS_Downtime!$E$24:$E$500,D84))","v":""},"",{"$f":"IF($E84=\"\",\"\",SUMIFS(CMS_Downtime!$L$24:$L$500,CMS_Downtime!$B$24:$B$500,B84,CMS_Downtime!$C$24:$C$500,C84,CMS_Downtime!$E$24:$E$500,D84,CMS_Downtime!$M$24:$M$500,\"Monitoring equipment malfunctions\"))","v":""},{"$f":"IF($E84=\"\",\"\",SUMIFS(CMS_Downtime!$L$24:$L$500,CMS_Downtime!$B$24:$B$500,$B84,CMS_Downtime!$C$24:$C$500,$C84,CMS_Downtime!$E$24:$E$500,$D84,CMS_Downtime!$M$24:$M$500,\"Non-monitoring equipment malfunctions\"))","v":""},{"$f":"IF($E84=\"\",\"\",SUMIFS(CMS_Downtime!$L$24:$L$500,CMS_Downtime!$B$24:$B$500,$B84,CMS_Downtime!$C$24:$C$500,$C84,CMS_Downtime!$E$24:$E$500,$D84,CMS_Downtime!$M$24:$M$500,\"Quality assurance/quality control calibrations\"))","v":""},{"$f":"IF($E84=\"\",\"\",SUMIFS(CMS_Downtime!$L$24:$L$500,CMS_Downtime!$B$24:$B$500,$B84,CMS_Downtime!$C$24:$C$500,$C84,CMS_Downtime!$E$24:$E$500,$D84,CMS_Downtime!$M$24:$M$500,\"Other known causes\"))","v":""},{"$f":"IF($E84=\"\",\"\",SUMIFS(CMS_Downtime!$L$24:$L$500,CMS_Downtime!$B$24:$B$500,$B84,CMS_Downtime!$C$24:$C$500,$C84,CMS_Downtime!$E$24:$E$500,$D84,CMS_Downtime!$M$24:$M$500,\"Other unknown causes\"))","v":""}]
[null,{"$f":"IF(CMS_Downtime_Data!J64=\"\",\"\",CMS_Downtime_Data!J64)","v":""},{"$f":"IF(CMS_Downtime_Data!K64=\"\",\"\",CMS_Downtime_Data!K64)","v":""},{"$f":"IF(CMS_Downtime_Data!M64=\"\",\"\",CMS_Downtime_Data!M64)","v":""},{"$f":"IF(CMS_Downtime_Data!N64=\"\",\"\",CMS_Downtime_Data!N64)","v":""},{"$f":"IF(E85=\"\",\"\",SUMIFS(CMS_Downtime!$L$24:$L$500,CMS_Downtime!$B$24:$B$500,B85,CMS_Downtime!$C$24:$C$500,C85,CMS_Downtime!$E$24:$E$500,D85))","v":""},"",{"$f":"IF($E85=\"\",\"\",SUMIFS(CMS_Downtime!$L$24:$L$500,CMS_Downtime!$B$24:$B$500,B85,CMS_Downtime!$C$24:$C$500,C85,CMS_Downtime!$E$24:$E$500,D85,CMS_Downtime!$M$24:$M$500,\"Monitoring equipment malfunctions\"))","v":""},{"$f":"IF($E85=\"\",\"\",SUMIFS(CMS_Downtime!$L$24:$L$500,CMS_Downtime!$B$24:$B$500,$B85,CMS_Downtime!$C$24:$C$500,$C85,CMS_Downtime!$E$24:$E$500,$D85,CMS_Downtime!$M$24:$M$500,\"Non-monitoring equipment malfunctions\"))","v":""},{"$f":"IF($E85=\"\",\"\",SUMIFS(CMS_Downtime!$L$24:$L$500,CMS_Downtime!$B$24:$B$500,$B85,CMS_Downtime!$C$24:$C$500,$C85,CMS_Downtime!$E$24:$E$500,$D85,CMS_Downtime!$M$24:$M$500,\"Quality assurance/quality control calibrations\"))","v":""},{"$f":"IF($E85=\"\",\"\",SUMIFS(CMS_Downtime!$L$24:$L$500,CMS_Downtime!$B$24:$B$500,$B85,CMS_Downtime!$C$24:$C$500,$C85,CMS_Downtime!$E$24:$E$500,$D85,CMS_Downtime!$M$24:$M$500,\"Other known causes\"))","v":""},{"$f":"IF($E85=\"\",\"\",SUMIFS(CMS_Downtime!$L$24:$L$500,CMS_Downtime!$B$24:$B$500,$B85,CMS_Downtime!$C$24:$C$500,$C85,CMS_Downtime!$E$24:$E$500,$D85,CMS_Downtime!$M$24:$M$500,\"Other unknown causes\"))","v":""}]
[null,{"$f":"IF(CMS_Downtime_Data!J65=\"\",\"\",CMS_Downtime_Data!J65)","v":""},{"$f":"IF(CMS_Downtime_Data!K65=\"\",\"\",CMS_Downtime_Data!K65)","v":""},{"$f":"IF(CMS_Downtime_Data!M65=\"\",\"\",CMS_Downtime_Data!M65)","v":""},{"$f":"IF(CMS_Downtime_Data!N65=\"\",\"\",CMS_Downtime_Data!N65)","v":""},{"$f":"IF(E86=\"\",\"\",SUMIFS(CMS_Downtime!$L$24:$L$500,CMS_Downtime!$B$24:$B$500,B86,CMS_Downtime!$C$24:$C$500,C86,CMS_Downtime!$E$24:$E$500,D86))","v":""},"",{"$f":"IF($E86=\"\",\"\",SUMIFS(CMS_Downtime!$L$24:$L$500,CMS_Downtime!$B$24:$B$500,B86,CMS_Downtime!$C$24:$C$500,C86,CMS_Downtime!$E$24:$E$500,D86,CMS_Downtime!$M$24:$M$500,\"Monitoring equipment malfunctions\"))","v":""},{"$f":"IF($E86=\"\",\"\",SUMIFS(CMS_Downtime!$L$24:$L$500,CMS_Downtime!$B$24:$B$500,$B86,CMS_Downtime!$C$24:$C$500,$C86,CMS_Downtime!$E$24:$E$500,$D86,CMS_Downtime!$M$24:$M$500,\"Non-monitoring equipment malfunctions\"))","v":""},{"$f":"IF($E86=\"\",\"\",SUMIFS(CMS_Downtime!$L$24:$L$500,CMS_Downtime!$B$24:$B$500,$B86,CMS_Downtime!$C$24:$C$500,$C86,CMS_Downtime!$E$24:$E$500,$D86,CMS_Downtime!$M$24:$M$500,\"Quality assurance/quality control calibrations\"))","v":""},{"$f":"IF($E86=\"\",\"\",SUMIFS(CMS_Downtime!$L$24:$L$500,CMS_Downtime!$B$24:$B$500,$B86,CMS_Downtime!$C$24:$C$500,$C86,CMS_Downtime!$E$24:$E$500,$D86,CMS_Downtime!$M$24:$M$500,\"Other known causes\"))","v":""},{"$f":"IF($E86=\"\",\"\",SUMIFS(CMS_Downtime!$L$24:$L$500,CMS_Downtime!$B$24:$B$500,$B86,CMS_Downtime!$C$24:$C$500,$C86,CMS_Downtime!$E$24:$E$500,$D86,CMS_Downtime!$M$24:$M$500,\"Other unknown causes\"))","v":""}]
[null,{"$f":"IF(CMS_Downtime_Data!J66=\"\",\"\",CMS_Downtime_Data!J66)","v":""},{"$f":"IF(CMS_Downtime_Data!K66=\"\",\"\",CMS_Downtime_Data!K66)","v":""},{"$f":"IF(CMS_Downtime_Data!M66=\"\",\"\",CMS_Downtime_Data!M66)","v":""},{"$f":"IF(CMS_Downtime_Data!N66=\"\",\"\",CMS_Downtime_Data!N66)","v":""},{"$f":"IF(E87=\"\",\"\",SUMIFS(CMS_Downtime!$L$24:$L$500,CMS_Downtime!$B$24:$B$500,B87,CMS_Downtime!$C$24:$C$500,C87,CMS_Downtime!$E$24:$E$500,D87))","v":""},"",{"$f":"IF($E87=\"\",\"\",SUMIFS(CMS_Downtime!$L$24:$L$500,CMS_Downtime!$B$24:$B$500,B87,CMS_Downtime!$C$24:$C$500,C87,CMS_Downtime!$E$24:$E$500,D87,CMS_Downtime!$M$24:$M$500,\"Monitoring equipment malfunctions\"))","v":""},{"$f":"IF($E87=\"\",\"\",SUMIFS(CMS_Downtime!$L$24:$L$500,CMS_Downtime!$B$24:$B$500,$B87,CMS_Downtime!$C$24:$C$500,$C87,CMS_Downtime!$E$24:$E$500,$D87,CMS_Downtime!$M$24:$M$500,\"Non-monitoring equipment malfunctions\"))","v":""},{"$f":"IF($E87=\"\",\"\",SUMIFS(CMS_Downtime!$L$24:$L$500,CMS_Downtime!$B$24:$B$500,$B87,CMS_Downtime!$C$24:$C$500,$C87,CMS_Downtime!$E$24:$E$500,$D87,CMS_Downtime!$M$24:$M$500,\"Quality assurance/quality control calibrations\"))","v":""},{"$f":"IF($E87=\"\",\"\",SUMIFS(CMS_Downtime!$L$24:$L$500,CMS_Downtime!$B$24:$B$500,$B87,CMS_Downtime!$C$24:$C$500,$C87,CMS_Downtime!$E$24:$E$500,$D87,CMS_Downtime!$M$24:$M$500,\"Other known causes\"))","v":""},{"$f":"IF($E87=\"\",\"\",SUMIFS(CMS_Downtime!$L$24:$L$500,CMS_Downtime!$B$24:$B$500,$B87,CMS_Downtime!$C$24:$C$500,$C87,CMS_Downtime!$E$24:$E$500,$D87,CMS_Downtime!$M$24:$M$500,\"Other unknown causes\"))","v":""}]
[null,{"$f":"IF(CMS_Downtime_Data!J67=\"\",\"\",CMS_Downtime_Data!J67)","v":""},{"$f":"IF(CMS_Downtime_Data!K67=\"\",\"\",CMS_Downtime_Data!K67)","v":""},{"$f":"IF(CMS_Downtime_Data!M67=\"\",\"\",CMS_Downtime_Data!M67)","v":""},{"$f":"IF(CMS_Downtime_Data!N67=\"\",\"\",CMS_Downtime_Data!N67)","v":""},{"$f":"IF(E88=\"\",\"\",SUMIFS(CMS_Downtime!$L$24:$L$500,CMS_Downtime!$B$24:$B$500,B88,CMS_Downtime!$C$24:$C$500,C88,CMS_Downtime!$E$24:$E$500,D88))","v":""},"",{"$f":"IF($E88=\"\",\"\",SUMIFS(CMS_Downtime!$L$24:$L$500,CMS_Downtime!$B$24:$B$500,B88,CMS_Downtime!$C$24:$C$500,C88,CMS_Downtime!$E$24:$E$500,D88,CMS_Downtime!$M$24:$M$500,\"Monitoring equipment malfunctions\"))","v":""},{"$f":"IF($E88=\"\",\"\",SUMIFS(CMS_Downtime!$L$24:$L$500,CMS_Downtime!$B$24:$B$500,$B88,CMS_Downtime!$C$24:$C$500,$C88,CMS_Downtime!$E$24:$E$500,$D88,CMS_Downtime!$M$24:$M$500,\"Non-monitoring equipment malfunctions\"))","v":""},{"$f":"IF($E88=\"\",\"\",SUMIFS(CMS_Downtime!$L$24:$L$500,CMS_Downtime!$B$24:$B$500,$B88,CMS_Downtime!$C$24:$C$500,$C88,CMS_Downtime!$E$24:$E$500,$D88,CMS_Downtime!$M$24:$M$500,\"Quality assurance/quality control calibrations\"))","v":""},{"$f":"IF($E88=\"\",\"\",SUMIFS(CMS_Downtime!$L$24:$L$500,CMS_Downtime!$B$24:$B$500,$B88,CMS_Downtime!$C$24:$C$500,$C88,CMS_Downtime!$E$24:$E$500,$D88,CMS_Downtime!$M$24:$M$500,\"Other known causes\"))","v":""},{"$f":"IF($E88=\"\",\"\",SUMIFS(CMS_Downtime!$L$24:$L$500,CMS_Downtime!$B$24:$B$500,$B88,CMS_Downtime!$C$24:$C$500,$C88,CMS_Downtime!$E$24:$E$500,$D88,CMS_Downtime!$M$24:$M$500,\"Other unknown causes\"))","v":""}]
[null,{"$f":"IF(CMS_Downtime_Data!J68=\"\",\"\",CMS_Downtime_Data!J68)","v":""},{"$f":"IF(CMS_Downtime_Data!K68=\"\",\"\",CMS_Downtime_Data!K68)","v":""},{"$f":"IF(CMS_Downtime_Data!M68=\"\",\"\",CMS_Downtime_Data!M68)","v":""},{"$f":"IF(CMS_Downtime_Data!N68=\"\",\"\",CMS_Downtime_Data!N68)","v":""},{"$f":"IF(E89=\"\",\"\",SUMIFS(CMS_Downtime!$L$24:$L$500,CMS_Downtime!$B$24:$B$500,B89,CMS_Downtime!$C$24:$C$500,C89,CMS_Downtime!$E$24:$E$500,D89))","v":""},{"$f":"IF(F89=\"\",\"\",F89/E89)","v":""},{"$f":"IF($E89=\"\",\"\",SUMIFS(CMS_Downtime!$L$24:$L$500,CMS_Downtime!$B$24:$B$500,B89,CMS_Downtime!$C$24:$C$500,C89,CMS_Downtime!$E$24:$E$500,D89,CMS_Downtime!$M$24:$M$500,\"Monitoring equipment malfunctions\"))","v":""},{"$f":"IF($E89=\"\",\"\",SUMIFS(CMS_Downtime!$L$24:$L$500,CMS_Downtime!$B$24:$B$500,$B89,CMS_Downtime!$C$24:$C$500,$C89,CMS_Downtime!$E$24:$E$500,$D89,CMS_Downtime!$M$24:$M$500,\"Non-monitoring equipment malfunctions\"))","v":""},{"$f":"IF($E89=\"\",\"\",SUMIFS(CMS_Downtime!$L$24:$L$500,CMS_Downtime!$B$24:$B$500,$B89,CMS_Downtime!$C$24:$C$500,$C89,CMS_Downtime!$E$24:$E$500,$D89,CMS_Downtime!$M$24:$M$500,\"Quality assurance/quality control calibrations\"))","v":""},{"$f":"IF($E89=\"\",\"\",SUMIFS(CMS_Downtime!$L$24:$L$500,CMS_Downtime!$B$24:$B$500,$B89,CMS_Downtime!$C$24:$C$500,$C89,CMS_Downtime!$E$24:$E$500,$D89,CMS_Downtime!$M$24:$M$500,\"Other known causes\"))","v":""},{"$f":"IF($E89=\"\",\"\",SUMIFS(CMS_Downtime!$L$24:$L$500,CMS_Downtime!$B$24:$B$500,$B89,CMS_Downtime!$C$24:$C$500,$C89,CMS_Downtime!$E$24:$E$500,$D89,CMS_Downtime!$M$24:$M$500,\"Other unknown causes\"))","v":""}]
[null,{"$f":"IF(CMS_Downtime_Data!J69=\"\",\"\",CMS_Downtime_Data!J69)","v":""},{"$f":"IF(CMS_Downtime_Data!K69=\"\",\"\",CMS_Downtime_Data!K69)","v":""},{"$f":"IF(CMS_Downtime_Data!M69=\"\",\"\",CMS_Downtime_Data!M69)","v":""},{"$f":"IF(CMS_Downtime_Data!N69=\"\",\"\",CMS_Downtime_Data!N69)","v":""},{"$f":"IF(E90=\"\",\"\",SUMIFS(CMS_Downtime!$L$24:$L$500,CMS_Downtime!$B$24:$B$500,B90,CMS_Downtime!$C$24:$C$500,C90,CMS_Downtime!$E$24:$E$500,D90))","v":""},"",{"$f":"IF($E90=\"\",\"\",SUMIFS(CMS_Downtime!$L$24:$L$500,CMS_Downtime!$B$24:$B$500,B90,CMS_Downtime!$C$24:$C$500,C90,CMS_Downtime!$E$24:$E$500,D90,CMS_Downtime!$M$24:$M$500,\"Monitoring equipment malfunctions\"))","v":""},{"$f":"IF($E90=\"\",\"\",SUMIFS(CMS_Downtime!$L$24:$L$500,CMS_Downtime!$B$24:$B$500,$B90,CMS_Downtime!$C$24:$C$500,$C90,CMS_Downtime!$E$24:$E$500,$D90,CMS_Downtime!$M$24:$M$500,\"Non-monitoring equipment malfunctions\"))","v":""},{"$f":"IF($E90=\"\",\"\",SUMIFS(CMS_Downtime!$L$24:$L$500,CMS_Downtime!$B$24:$B$500,$B90,CMS_Downtime!$C$24:$C$500,$C90,CMS_Downtime!$E$24:$E$500,$D90,CMS_Downtime!$M$24:$M$500,\"Quality assurance/quality control calibrations\"))","v":""},{"$f":"IF($E90=\"\",\"\",SUMIFS(CMS_Downtime!$L$24:$L$500,CMS_Downtime!$B$24:$B$500,$B90,CMS_Downtime!$C$24:$C$500,$C90,CMS_Downtime!$E$24:$E$500,$D90,CMS_Downtime!$M$24:$M$500,\"Other known causes\"))","v":""},{"$f":"IF($E90=\"\",\"\",SUMIFS(CMS_Downtime!$L$24:$L$500,CMS_Downtime!$B$24:$B$500,$B90,CMS_Downtime!$C$24:$C$500,$C90,CMS_Downtime!$E$24:$E$500,$D90,CMS_Downtime!$M$24:$M$500,\"Other unknown causes\"))","v":""}]
[null,{"$f":"IF(CMS_Downtime_Data!J70=\"\",\"\",CMS_Downtime_Data!J70)","v":""},{"$f":"IF(CMS_Downtime_Data!K70=\"\",\"\",CMS_Downtime_Data!K70)","v":""},{"$f":"IF(CMS_Downtime_Data!M70=\"\",\"\",CMS_Downtime_Data!M70)","v":""},{"$f":"IF(CMS_Downtime_Data!N70=\"\",\"\",CMS_Downtime_Data!N70)","v":""},{"$f":"IF(E91=\"\",\"\",SUMIFS(CMS_Downtime!$L$24:$L$500,CMS_Downtime!$B$24:$B$500,B91,CMS_Downtime!$C$24:$C$500,C91,CMS_Downtime!$E$24:$E$500,D91))","v":""},"",{"$f":"IF($E91=\"\",\"\",SUMIFS(CMS_Downtime!$L$24:$L$500,CMS_Downtime!$B$24:$B$500,B91,CMS_Downtime!$C$24:$C$500,C91,CMS_Downtime!$E$24:$E$500,D91,CMS_Downtime!$M$24:$M$500,\"Monitoring equipment malfunctions\"))","v":""},{"$f":"IF($E91=\"\",\"\",SUMIFS(CMS_Downtime!$L$24:$L$500,CMS_Downtime!$B$24:$B$500,$B91,CMS_Downtime!$C$24:$C$500,$C91,CMS_Downtime!$E$24:$E$500,$D91,CMS_Downtime!$M$24:$M$500,\"Non-monitoring equipment malfunctions\"))","v":""},{"$f":"IF($E91=\"\",\"\",SUMIFS(CMS_Downtime!$L$24:$L$500,CMS_Downtime!$B$24:$B$500,$B91,CMS_Downtime!$C$24:$C$500,$C91,CMS_Downtime!$E$24:$E$500,$D91,CMS_Downtime!$M$24:$M$500,\"Quality assurance/quality control calibrations\"))","v":""},{"$f":"IF($E91=\"\",\"\",SUMIFS(CMS_Downtime!$L$24:$L$500,CMS_Downtime!$B$24:$B$500,$B91,CMS_Downtime!$C$24:$C$500,$C91,CMS_Downtime!$E$24:$E$500,$D91,CMS_Downtime!$M$24:$M$500,\"Other known causes\"))","v":""},{"$f":"IF($E91=\"\",\"\",SUMIFS(CMS_Downtime!$L$24:$L$500,CMS_Downtime!$B$24:$B$500,$B91,CMS_Downtime!$C$24:$C$500,$C91,CMS_Downtime!$E$24:$E$500,$D91,CMS_Downtime!$M$24:$M$500,\"Other unknown causes\"))","v":""}]
[null,{"$f":"IF(CMS_Downtime_Data!J71=\"\",\"\",CMS_Downtime_Data!J71)","v":""},{"$f":"IF(CMS_Downtime_Data!K71=\"\",\"\",CMS_Downtime_Data!K71)","v":""},{"$f":"IF(CMS_Downtime_Data!M71=\"\",\"\",CMS_Downtime_Data!M71)","v":""},{"$f":"IF(CMS_Downtime_Data!N71=\"\",\"\",CMS_Downtime_Data!N71)","v":""},{"$f":"IF(E92=\"\",\"\",SUMIFS(CMS_Downtime!$L$24:$L$500,CMS_Downtime!$B$24:$B$500,B92,CMS_Downtime!$C$24:$C$500,C92,CMS_Downtime!$E$24:$E$500,D92))","v":""},"",{"$f":"IF($E92=\"\",\"\",SUMIFS(CMS_Downtime!$L$24:$L$500,CMS_Downtime!$B$24:$B$500,B92,CMS_Downtime!$C$24:$C$500,C92,CMS_Downtime!$E$24:$E$500,D92,CMS_Downtime!$M$24:$M$500,\"Monitoring equipment malfunctions\"))","v":""},{"$f":"IF($E92=\"\",\"\",SUMIFS(CMS_Downtime!$L$24:$L$500,CMS_Downtime!$B$24:$B$500,$B92,CMS_Downtime!$C$24:$C$500,$C92,CMS_Downtime!$E$24:$E$500,$D92,CMS_Downtime!$M$24:$M$500,\"Non-monitoring equipment malfunctions\"))","v":""},{"$f":"IF($E92=\"\",\"\",SUMIFS(CMS_Downtime!$L$24:$L$500,CMS_Downtime!$B$24:$B$500,$B92,CMS_Downtime!$C$24:$C$500,$C92,CMS_Downtime!$E$24:$E$500,$D92,CMS_Downtime!$M$24:$M$500,\"Quality assurance/quality control calibrations\"))","v":""},{"$f":"IF($E92=\"\",\"\",SUMIFS(CMS_Downtime!$L$24:$L$500,CMS_Downtime!$B$24:$B$500,$B92,CMS_Downtime!$C$24:$C$500,$C92,CMS_Downtime!$E$24:$E$500,$D92,CMS_Downtime!$M$24:$M$500,\"Other known causes\"))","v":""},{"$f":"IF($E92=\"\",\"\",SUMIFS(CMS_Downtime!$L$24:$L$500,CMS_Downtime!$B$24:$B$500,$B92,CMS_Downtime!$C$24:$C$500,$C92,CMS_Downtime!$E$24:$E$500,$D92,CMS_Downtime!$M$24:$M$500,\"Other unknown causes\"))","v":""}]
[null,{"$f":"IF(CMS_Downtime_Data!J72=\"\",\"\",CMS_Downtime_Data!J72)","v":""},{"$f":"IF(CMS_Downtime_Data!K72=\"\",\"\",CMS_Downtime_Data!K72)","v":""},{"$f":"IF(CMS_Downtime_Data!M72=\"\",\"\",CMS_Downtime_Data!M72)","v":""},{"$f":"IF(CMS_Downtime_Data!N72=\"\",\"\",CMS_Downtime_Data!N72)","v":""},{"$f":"IF(E93=\"\",\"\",SUMIFS(CMS_Downtime!$L$24:$L$500,CMS_Downtime!$B$24:$B$500,B93,CMS_Downtime!$C$24:$C$500,C93,CMS_Downtime!$E$24:$E$500,D93))","v":""},"",{"$f":"IF($E93=\"\",\"\",SUMIFS(CMS_Downtime!$L$24:$L$500,CMS_Downtime!$B$24:$B$500,B93,CMS_Downtime!$C$24:$C$500,C93,CMS_Downtime!$E$24:$E$500,D93,CMS_Downtime!$M$24:$M$500,\"Monitoring equipment malfunctions\"))","v":""},{"$f":"IF($E93=\"\",\"\",SUMIFS(CMS_Downtime!$L$24:$L$500,CMS_Downtime!$B$24:$B$500,$B93,CMS_Downtime!$C$24:$C$500,$C93,CMS_Downtime!$E$24:$E$500,$D93,CMS_Downtime!$M$24:$M$500,\"Non-monitoring equipment malfunctions\"))","v":""},{"$f":"IF($E93=\"\",\"\",SUMIFS(CMS_Downtime!$L$24:$L$500,CMS_Downtime!$B$24:$B$500,$B93,CMS_Downtime!$C$24:$C$500,$C93,CMS_Downtime!$E$24:$E$500,$D93,CMS_Downtime!$M$24:$M$500,\"Quality assurance/quality control calibrations\"))","v":""},{"$f":"IF($E93=\"\",\"\",SUMIFS(CMS_Downtime!$L$24:$L$500,CMS_Downtime!$B$24:$B$500,$B93,CMS_Downtime!$C$24:$C$500,$C93,CMS_Downtime!$E$24:$E$500,$D93,CMS_Downtime!$M$24:$M$500,\"Other known causes\"))","v":""},{"$f":"IF($E93=\"\",\"\",SUMIFS(CMS_Downtime!$L$24:$L$500,CMS_Downtime!$B$24:$B$500,$B93,CMS_Downtime!$C$24:$C$500,$C93,CMS_Downtime!$E$24:$E$500,$D93,CMS_Downtime!$M$24:$M$500,\"Other unknown causes\"))","v":""}]
[null,{"$f":"IF(CMS_Downtime_Data!J73=\"\",\"\",CMS_Downtime_Data!J73)","v":""},{"$f":"IF(CMS_Downtime_Data!K73=\"\",\"\",CMS_Downtime_Data!K73)","v":""},{"$f":"IF(CMS_Downtime_Data!M73=\"\",\"\",CMS_Downtime_Data!M73)","v":""},{"$f":"IF(CMS_Downtime_Data!N73=\"\",\"\",CMS_Downtime_Data!N73)","v":""},{"$f":"IF(E94=\"\",\"\",SUMIFS(CMS_Downtime!$L$24:$L$500,CMS_Downtime!$B$24:$B$500,B94,CMS_Downtime!$C$24:$C$500,C94,CMS_Downtime!$E$24:$E$500,D94))","v":""},"",{"$f":"IF($E94=\"\",\"\",SUMIFS(CMS_Downtime!$L$24:$L$500,CMS_Downtime!$B$24:$B$500,B94,CMS_Downtime!$C$24:$C$500,C94,CMS_Downtime!$E$24:$E$500,D94,CMS_Downtime!$M$24:$M$500,\"Monitoring equipment malfunctions\"))","v":""},{"$f":"IF($E94=\"\",\"\",SUMIFS(CMS_Downtime!$L$24:$L$500,CMS_Downtime!$B$24:$B$500,$B94,CMS_Downtime!$C$24:$C$500,$C94,CMS_Downtime!$E$24:$E$500,$D94,CMS_Downtime!$M$24:$M$500,\"Non-monitoring equipment malfunctions\"))","v":""},{"$f":"IF($E94=\"\",\"\",SUMIFS(CMS_Downtime!$L$24:$L$500,CMS_Downtime!$B$24:$B$500,$B94,CMS_Downtime!$C$24:$C$500,$C94,CMS_Downtime!$E$24:$E$500,$D94,CMS_Downtime!$M$24:$M$500,\"Quality assurance/quality control calibrations\"))","v":""},{"$f":"IF($E94=\"\",\"\",SUMIFS(CMS_Downtime!$L$24:$L$500,CMS_Downtime!$B$24:$B$500,$B94,CMS_Downtime!$C$24:$C$500,$C94,CMS_Downtime!$E$24:$E$500,$D94,CMS_Downtime!$M$24:$M$500,\"Other known causes\"))","v":""},{"$f":"IF($E94=\"\",\"\",SUMIFS(CMS_Downtime!$L$24:$L$500,CMS_Downtime!$B$24:$B$500,$B94,CMS_Downtime!$C$24:$C$500,$C94,CMS_Downtime!$E$24:$E$500,$D94,CMS_Downtime!$M$24:$M$500,\"Other unknown causes\"))","v":""}]
[null,{"$f":"IF(CMS_Downtime_Data!J74=\"\",\"\",CMS_Downtime_Data!J74)","v":""},{"$f":"IF(CMS_Downtime_Data!K74=\"\",\"\",CMS_Downtime_Data!K74)","v":""},{"$f":"IF(CMS_Downtime_Data!M74=\"\",\"\",CMS_Downtime_Data!M74)","v":""},{"$f":"IF(CMS_Downtime_Data!N74=\"\",\"\",CMS_Downtime_Data!N74)","v":""},{"$f":"IF(E95=\"\",\"\",SUMIFS(CMS_Downtime!$L$24:$L$500,CMS_Downtime!$B$24:$B$500,B95,CMS_Downtime!$C$24:$C$500,C95,CMS_Downtime!$E$24:$E$500,D95))","v":""},"",{"$f":"IF($E95=\"\",\"\",SUMIFS(CMS_Downtime!$L$24:$L$500,CMS_Downtime!$B$24:$B$500,B95,CMS_Downtime!$C$24:$C$500,C95,CMS_Downtime!$E$24:$E$500,D95,CMS_Downtime!$M$24:$M$500,\"Monitoring equipment malfunctions\"))","v":""},{"$f":"IF($E95=\"\",\"\",SUMIFS(CMS_Downtime!$L$24:$L$500,CMS_Downtime!$B$24:$B$500,$B95,CMS_Downtime!$C$24:$C$500,$C95,CMS_Downtime!$E$24:$E$500,$D95,CMS_Downtime!$M$24:$M$500,\"Non-monitoring equipment malfunctions\"))","v":""},{"$f":"IF($E95=\"\",\"\",SUMIFS(CMS_Downtime!$L$24:$L$500,CMS_Downtime!$B$24:$B$500,$B95,CMS_Downtime!$C$24:$C$500,$C95,CMS_Downtime!$E$24:$E$500,$D95,CMS_Downtime!$M$24:$M$500,\"Quality assurance/quality control calibrations\"))","v":""},{"$f":"IF($E95=\"\",\"\",SUMIFS(CMS_Downtime!$L$24:$L$500,CMS_Downtime!$B$24:$B$500,$B95,CMS_Downtime!$C$24:$C$500,$C95,CMS_Downtime!$E$24:$E$500,$D95,CMS_Downtime!$M$24:$M$500,\"Other known causes\"))","v":""},{"$f":"IF($E95=\"\",\"\",SUMIFS(CMS_Downtime!$L$24:$L$500,CMS_Downtime!$B$24:$B$500,$B95,CMS_Downtime!$C$24:$C$500,$C95,CMS_Downtime!$E$24:$E$500,$D95,CMS_Downtime!$M$24:$M$500,\"Other unknown causes\"))","v":""}]
[null,{"$f":"IF(CMS_Downtime_Data!J75=\"\",\"\",CMS_Downtime_Data!J75)","v":""},{"$f":"IF(CMS_Downtime_Data!K75=\"\",\"\",CMS_Downtime_Data!K75)","v":""},{"$f":"IF(CMS_Downtime_Data!M75=\"\",\"\",CMS_Downtime_Data!M75)","v":""},{"$f":"IF(CMS_Downtime_Data!N75=\"\",\"\",CMS_Downtime_Data!N75)","v":""},{"$f":"IF(E96=\"\",\"\",SUMIFS(CMS_Downtime!$L$24:$L$500,CMS_Downtime!$B$24:$B$500,B96,CMS_Downtime!$C$24:$C$500,C96,CMS_Downtime!$E$24:$E$500,D96))","v":""},"",{"$f":"IF($E96=\"\",\"\",SUMIFS(CMS_Downtime!$L$24:$L$500,CMS_Downtime!$B$24:$B$500,B96,CMS_Downtime!$C$24:$C$500,C96,CMS_Downtime!$E$24:$E$500,D96,CMS_Downtime!$M$24:$M$500,\"Monitoring equipment malfunctions\"))","v":""},{"$f":"IF($E96=\"\",\"\",SUMIFS(CMS_Downtime!$L$24:$L$500,CMS_Downtime!$B$24:$B$500,$B96,CMS_Downtime!$C$24:$C$500,$C96,CMS_Downtime!$E$24:$E$500,$D96,CMS_Downtime!$M$24:$M$500,\"Non-monitoring equipment malfunctions\"))","v":""},{"$f":"IF($E96=\"\",\"\",SUMIFS(CMS_Downtime!$L$24:$L$500,CMS_Downtime!$B$24:$B$500,$B96,CMS_Downtime!$C$24:$C$500,$C96,CMS_Downtime!$E$24:$E$500,$D96,CMS_Downtime!$M$24:$M$500,\"Quality assurance/quality control calibrations\"))","v":""},{"$f":"IF($E96=\"\",\"\",SUMIFS(CMS_Downtime!$L$24:$L$500,CMS_Downtime!$B$24:$B$500,$B96,CMS_Downtime!$C$24:$C$500,$C96,CMS_Downtime!$E$24:$E$500,$D96,CMS_Downtime!$M$24:$M$500,\"Other known causes\"))","v":""},{"$f":"IF($E96=\"\",\"\",SUMIFS(CMS_Downtime!$L$24:$L$500,CMS_Downtime!$B$24:$B$500,$B96,CMS_Downtime!$C$24:$C$500,$C96,CMS_Downtime!$E$24:$E$500,$D96,CMS_Downtime!$M$24:$M$500,\"Other unknown causes\"))","v":""}]
[null,{"$f":"IF(CMS_Downtime_Data!J76=\"\",\"\",CMS_Downtime_Data!J76)","v":""},{"$f":"IF(CMS_Downtime_Data!K76=\"\",\"\",CMS_Downtime_Data!K76)","v":""},{"$f":"IF(CMS_Downtime_Data!M76=\"\",\"\",CMS_Downtime_Data!M76)","v":""},{"$f":"IF(CMS_Downtime_Data!N76=\"\",\"\",CMS_Downtime_Data!N76)","v":""},{"$f":"IF(E97=\"\",\"\",SUMIFS(CMS_Downtime!$L$24:$L$500,CMS_Downtime!$B$24:$B$500,B97,CMS_Downtime!$C$24:$C$500,C97,CMS_Downtime!$E$24:$E$500,D97))","v":""},"",{"$f":"IF($E97=\"\",\"\",SUMIFS(CMS_Downtime!$L$24:$L$500,CMS_Downtime!$B$24:$B$500,B97,CMS_Downtime!$C$24:$C$500,C97,CMS_Downtime!$E$24:$E$500,D97,CMS_Downtime!$M$24:$M$500,\"Monitoring equipment malfunctions\"))","v":""},{"$f":"IF($E97=\"\",\"\",SUMIFS(CMS_Downtime!$L$24:$L$500,CMS_Downtime!$B$24:$B$500,$B97,CMS_Downtime!$C$24:$C$500,$C97,CMS_Downtime!$E$24:$E$500,$D97,CMS_Downtime!$M$24:$M$500,\"Non-monitoring equipment malfunctions\"))","v":""},{"$f":"IF($E97=\"\",\"\",SUMIFS(CMS_Downtime!$L$24:$L$500,CMS_Downtime!$B$24:$B$500,$B97,CMS_Downtime!$C$24:$C$500,$C97,CMS_Downtime!$E$24:$E$500,$D97,CMS_Downtime!$M$24:$M$500,\"Quality assurance/quality control calibrations\"))","v":""},{"$f":"IF($E97=\"\",\"\",SUMIFS(CMS_Downtime!$L$24:$L$500,CMS_Downtime!$B$24:$B$500,$B97,CMS_Downtime!$C$24:$C$500,$C97,CMS_Downtime!$E$24:$E$500,$D97,CMS_Downtime!$M$24:$M$500,\"Other known causes\"))","v":""},{"$f":"IF($E97=\"\",\"\",SUMIFS(CMS_Downtime!$L$24:$L$500,CMS_Downtime!$B$24:$B$500,$B97,CMS_Downtime!$C$24:$C$500,$C97,CMS_Downtime!$E$24:$E$500,$D97,CMS_Downtime!$M$24:$M$500,\"Other unknown causes\"))","v":""}]
[null,{"$f":"IF(CMS_Downtime_Data!J77=\"\",\"\",CMS_Downtime_Data!J77)","v":""},{"$f":"IF(CMS_Downtime_Data!K77=\"\",\"\",CMS_Downtime_Data!K77)","v":""},{"$f":"IF(CMS_Downtime_Data!M77=\"\",\"\",CMS_Downtime_Data!M77)","v":""},{"$f":"IF(CMS_Downtime_Data!N77=\"\",\"\",CMS_Downtime_Data!N77)","v":""},{"$f":"IF(E98=\"\",\"\",SUMIFS(CMS_Downtime!$L$24:$L$500,CMS_Downtime!$B$24:$B$500,B98,CMS_Downtime!$C$24:$C$500,C98,CMS_Downtime!$E$24:$E$500,D98))","v":""},"",{"$f":"IF($E98=\"\",\"\",SUMIFS(CMS_Downtime!$L$24:$L$500,CMS_Downtime!$B$24:$B$500,B98,CMS_Downtime!$C$24:$C$500,C98,CMS_Downtime!$E$24:$E$500,D98,CMS_Downtime!$M$24:$M$500,\"Monitoring equipment malfunctions\"))","v":""},{"$f":"IF($E98=\"\",\"\",SUMIFS(CMS_Downtime!$L$24:$L$500,CMS_Downtime!$B$24:$B$500,$B98,CMS_Downtime!$C$24:$C$500,$C98,CMS_Downtime!$E$24:$E$500,$D98,CMS_Downtime!$M$24:$M$500,\"Non-monitoring equipment malfunctions\"))","v":""},{"$f":"IF($E98=\"\",\"\",SUMIFS(CMS_Downtime!$L$24:$L$500,CMS_Downtime!$B$24:$B$500,$B98,CMS_Downtime!$C$24:$C$500,$C98,CMS_Downtime!$E$24:$E$500,$D98,CMS_Downtime!$M$24:$M$500,\"Quality assurance/quality control calibrations\"))","v":""},{"$f":"IF($E98=\"\",\"\",SUMIFS(CMS_Downtime!$L$24:$L$500,CMS_Downtime!$B$24:$B$500,$B98,CMS_Downtime!$C$24:$C$500,$C98,CMS_Downtime!$E$24:$E$500,$D98,CMS_Downtime!$M$24:$M$500,\"Other known causes\"))","v":""},{"$f":"IF($E98=\"\",\"\",SUMIFS(CMS_Downtime!$L$24:$L$500,CMS_Downtime!$B$24:$B$500,$B98,CMS_Downtime!$C$24:$C$500,$C98,CMS_Downtime!$E$24:$E$500,$D98,CMS_Downtime!$M$24:$M$500,\"Other unknown causes\"))","v":""}]
[null,{"$f":"IF(CMS_Downtime_Data!J78=\"\",\"\",CMS_Downtime_Data!J78)","v":""},{"$f":"IF(CMS_Downtime_Data!K78=\"\",\"\",CMS_Downtime_Data!K78)","v":""},{"$f":"IF(CMS_Downtime_Data!M78=\"\",\"\",CMS_Downtime_Data!M78)","v":""},{"$f":"IF(CMS_Downtime_Data!N78=\"\",\"\",CMS_Downtime_Data!N78)","v":""},{"$f":"IF(E99=\"\",\"\",SUMIFS(CMS_Downtime!$L$24:$L$500,CMS_Downtime!$B$24:$B$500,B99,CMS_Downtime!$C$24:$C$500,C99,CMS_Downtime!$E$24:$E$500,D99))","v":""},"",{"$f":"IF($E99=\"\",\"\",SUMIFS(CMS_Downtime!$L$24:$L$500,CMS_Downtime!$B$24:$B$500,B99,CMS_Downtime!$C$24:$C$500,C99,CMS_Downtime!$E$24:$E$500,D99,CMS_Downtime!$M$24:$M$500,\"Monitoring equipment malfunctions\"))","v":""},{"$f":"IF($E99=\"\",\"\",SUMIFS(CMS_Downtime!$L$24:$L$500,CMS_Downtime!$B$24:$B$500,$B99,CMS_Downtime!$C$24:$C$500,$C99,CMS_Downtime!$E$24:$E$500,$D99,CMS_Downtime!$M$24:$M$500,\"Non-monitoring equipment malfunctions\"))","v":""},{"$f":"IF($E99=\"\",\"\",SUMIFS(CMS_Downtime!$L$24:$L$500,CMS_Downtime!$B$24:$B$500,$B99,CMS_Downtime!$C$24:$C$500,$C99,CMS_Downtime!$E$24:$E$500,$D99,CMS_Downtime!$M$24:$M$500,\"Quality assurance/quality control calibrations\"))","v":""},{"$f":"IF($E99=\"\",\"\",SUMIFS(CMS_Downtime!$L$24:$L$500,CMS_Downtime!$B$24:$B$500,$B99,CMS_Downtime!$C$24:$C$500,$C99,CMS_Downtime!$E$24:$E$500,$D99,CMS_Downtime!$M$24:$M$500,\"Other known causes\"))","v":""},{"$f":"IF($E99=\"\",\"\",SUMIFS(CMS_Downtime!$L$24:$L$500,CMS_Downtime!$B$24:$B$500,$B99,CMS_Downtime!$C$24:$C$500,$C99,CMS_Downtime!$E$24:$E$500,$D99,CMS_Downtime!$M$24:$M$500,\"Other unknown causes\"))","v":""}]
[null,{"$f":"IF(CMS_Downtime_Data!J79=\"\",\"\",CMS_Downtime_Data!J79)","v":""},{"$f":"IF(CMS_Downtime_Data!K79=\"\",\"\",CMS_Downtime_Data!K79)","v":""},{"$f":"IF(CMS_Downtime_Data!M79=\"\",\"\",CMS_Downtime_Data!M79)","v":""},{"$f":"IF(CMS_Downtime_Data!N79=\"\",\"\",CMS_Downtime_Data!N79)","v":""},{"$f":"IF(E100=\"\",\"\",SUMIFS(CMS_Downtime!$L$24:$L$500,CMS_Downtime!$B$24:$B$500,B100,CMS_Downtime!$C$24:$C$500,C100,CMS_Downtime!$E$24:$E$500,D100))","v":""},"",{"$f":"IF($E100=\"\",\"\",SUMIFS(CMS_Downtime!$L$24:$L$500,CMS_Downtime!$B$24:$B$500,B100,CMS_Downtime!$C$24:$C$500,C100,CMS_Downtime!$E$24:$E$500,D100,CMS_Downtime!$M$24:$M$500,\"Monitoring equipment malfunctions\"))","v":""},{"$f":"IF($E100=\"\",\"\",SUMIFS(CMS_Downtime!$L$24:$L$500,CMS_Downtime!$B$24:$B$500,$B100,CMS_Downtime!$C$24:$C$500,$C100,CMS_Downtime!$E$24:$E$500,$D100,CMS_Downtime!$M$24:$M$500,\"Non-monitoring equipment malfunctions\"))","v":""},{"$f":"IF($E100=\"\",\"\",SUMIFS(CMS_Downtime!$L$24:$L$500,CMS_Downtime!$B$24:$B$500,$B100,CMS_Downtime!$C$24:$C$500,$C100,CMS_Downtime!$E$24:$E$500,$D100,CMS_Downtime!$M$24:$M$500,\"Quality assurance/quality control calibrations\"))","v":""},{"$f":"IF($E100=\"\",\"\",SUMIFS(CMS_Downtime!$L$24:$L$500,CMS_Downtime!$B$24:$B$500,$B100,CMS_Downtime!$C$24:$C$500,$C100,CMS_Downtime!$E$24:$E$500,$D100,CMS_Downtime!$M$24:$M$500,\"Other known causes\"))","v":""},{"$f":"IF($E100=\"\",\"\",SUMIFS(CMS_Downtime!$L$24:$L$500,CMS_Downtime!$B$24:$B$500,$B100,CMS_Downtime!$C$24:$C$500,$C100,CMS_Downtime!$E$24:$E$500,$D100,CMS_Downtime!$M$24:$M$500,\"Other unknown causes\"))","v":""}]

{"sheet":"Deviations_Limit_No_CMS","index":11,"n_rows":500,"n_cols":10,"rows_kept":500,"cut":false,"hidden":false,"merged":[]}
[]
[]
[]
[]
[]
[]
[null,"40 CFR Part 63, Subpart JJJJ National Emission Standards for Hazardous Air Pollutants: Paper and Other Web Coating - §63.3400 Semiannual Compliance Report Spreadsheet Template"]
[]
[]
[]
[]
[null,"Company Record No.\n(Autocompleted)","Affected Source\n(§63.3400(c)(2)(v) and (vi))\n(Autocompleted)","Total Source\nOperating Time (hours)\n(§63.3400(c)(2)(v)(A))\n(Autocompleted)","Company Record Number and Affected Source\n(Select from Dropdown)","Emission Limit or Operating Limit Deviated From\n(§63.3400(c)(2)(v))","Total Duration of Deviation(s) (hours)\n(§63.3400(c)(2)(v)(B))","Number of Deviations\n(§63.3400(c)(2)(v)(B))\n","Cause of Deviation\n(§63.3400(c)(2)(v)(B))\n(Select from Dropdown)","Corrective Actions Taken to Return Affected Unit to Normal or Usual Operations\n(§63.3400(c)(2)(v)(B))"]
[null,"RecordId","WebcoatID_DLNC","OpScenarioOpTime_DLNC","RecordSource_DLNC","Limit_DLNC","Duration_DLNC","Number_DLNC","Cause_DLNC","CorrectiveAction_DLNC"]
[null,"e.g.: 1","e.g.: Group 1","e.g.: 4300 ","e.g.: Line 1","e.g.:  0.04 kg organic HAP per kg coating material","e.g.: 36.00","e.g.: 1","e.g.: Other Known Cause","e.g.: purchased new compliant coating"]
[null,"e.g.:","e.g.:","e.g.:","e.g.:","e.g.:","e.g.:","e.g.:","e.g.:","e.g.:"]
[null,"e.g.:","e.g.:","e.g.:","e.g.:","e.g.:","e.g.:","e.g.:","e.g.:","e.g.:"]
[null,"e.g.:","e.g.:","e.g.:","e.g.:","e.g.:","e.g.:","e.g.:","e.g.:","e.g.:"]
[null,"e.g.:","e.g.:","e.g.:","e.g.:","e.g.:","e.g.:","e.g.:","e.g.:","e.g.:"]
[null,"e.g.:","e.g.:","e.g.:","e.g.:","e.g.:","e.g.:","e.g.:","e.g.:","e.g.:"]
[null,"e.g.:","e.g.:","e.g.:","e.g.:","e.g.:","e.g.:","e.g.:","e.g.:","e.g.:"]
[null,"e.g.:","e.g.:","e.g.:","e.g.:","e.g.:","e.g.:","e.g.:","e.g.:","e.g.:"]
[null,"e.g.:","e.g.:","e.g.:","e.g.:","e.g.:","e.g.:","e.g.:","e.g.:","e.g.:"]
[null,"e.g.:","e.g.:","e.g.:","e.g.:","e.g.:","e.g.:","e.g.:","e.g.:","e.g.:"]
[null,{"$f":"IF(E24=\"\",\"\",VLOOKUP($E24,List_Process!$Q$3:$T$79,2,FALSE))","v":""},{"$f":"IF(E24=\"\",\"\",VLOOKUP($E24,List_Process!$Q$3:$T$79,3,FALSE))","v":""},{"$f":"IF(E24=\"\",\"\",VLOOKUP($E24,List_Process!$Q$3:$T$79,4,FALSE))","v":""}]
[null,{"$f":"IF(E25=\"\",\"\",VLOOKUP($E25,List_Process!$Q$3:$T$79,2,FALSE))","v":""},{"$f":"IF(E25=\"\",\"\",VLOOKUP($E25,List_Process!$Q$3:$T$79,3,FALSE))","v":""},{"$f":"IF(E25=\"\",\"\",VLOOKUP($E25,List_Process!$Q$3:$T$79,4,FALSE))","v":""}]
[null,{"$f":"IF(E26=\"\",\"\",VLOOKUP($E26,List_Process!$Q$3:$T$79,2,FALSE))","v":""},{"$f":"IF(E26=\"\",\"\",VLOOKUP($E26,List_Process!$Q$3:$T$79,3,FALSE))","v":""},{"$f":"IF(E26=\"\",\"\",VLOOKUP($E26,List_Process!$Q$3:$T$79,4,FALSE))","v":""}]
[null,{"$f":"IF(E27=\"\",\"\",VLOOKUP($E27,List_Process!$Q$3:$T$79,2,FALSE))","v":""},{"$f":"IF(E27=\"\",\"\",VLOOKUP($E27,List_Process!$Q$3:$T$79,3,FALSE))","v":""},{"$f":"IF(E27=\"\",\"\",VLOOKUP($E27,List_Process!$Q$3:$T$79,4,FALSE))","v":""}]
[null,{"$f":"IF(E28=\"\",\"\",VLOOKUP($E28,List_Process!$Q$3:$T$79,2,FALSE))","v":""},{"$f":"IF(E28=\"\",\"\",VLOOKUP($E28,List_Process!$Q$3:$T$79,3,FALSE))","v":""},{"$f":"IF(E28=\"\",\"\",VLOOKUP($E28,List_Process!$Q$3:$T$79,4,FALSE))","v":""}]
[null,{"$f":"IF(E29=\"\",\"\",VLOOKUP($E29,List_Process!$Q$3:$T$79,2,FALSE))","v":""},{"$f":"IF(E29=\"\",\"\",VLOOKUP($E29,List_Process!$Q$3:$T$79,3,FALSE))","v":""},{"$f":"IF(E29=\"\",\"\",VLOOKUP($E29,List_Process!$Q$3:$T$79,4,FALSE))","v":""}]
[null,{"$f":"IF(E30=\"\",\"\",VLOOKUP($E30,List_Process!$Q$3:$T$79,2,FALSE))","v":""},{"$f":"IF(E30=\"\",\"\",VLOOKUP($E30,List_Process!$Q$3:$T$79,3,FALSE))","v":""},{"$f":"IF(E30=\"\",\"\",VLOOKUP($E30,List_Process!$Q$3:$T$79,4,FALSE))","v":""}]
[null,{"$f":"IF(E31=\"\",\"\",VLOOKUP($E31,List_Process!$Q$3:$T$79,2,FALSE))","v":""},{"$f":"IF(E31=\"\",\"\",VLOOKUP($E31,List_Process!$Q$3:$T$79,3,FALSE))","v":""},{"$f":"IF(E31=\"\",\"\",VLOOKUP($E31,List_Process!$Q$3:$T$79,4,FALSE))","v":""}]
[null,{"$f":"IF(E32=\"\",\"\",VLOOKUP($E32,List_Process!$Q$3:$T$79,2,FALSE))","v":""},{"$f":"IF(E32=\"\",\"\",VLOOKUP($E32,List_Process!$Q$3:$T$79,3,FALSE))","v":""},{"$f":"IF(E32=\"\",\"\",VLOOKUP($E32,List_Process!$Q$3:$T$79,4,FALSE))","v":""}]
[null,{"$f":"IF(E33=\"\",\"\",VLOOKUP($E33,List_Process!$Q$3:$T$79,2,FALSE))","v":""},{"$f":"IF(E33=\"\",\"\",VLOOKUP($E33,List_Process!$Q$3:$T$79,3,FALSE))","v":""},{"$f":"IF(E33=\"\",\"\",VLOOKUP($E33,List_Process!$Q$3:$T$79,4,FALSE))","v":""}]
[null,{"$f":"IF(E34=\"\",\"\",VLOOKUP($E34,List_Process!$Q$3:$T$79,2,FALSE))","v":""},{"$f":"IF(E34=\"\",\"\",VLOOKUP($E34,List_Process!$Q$3:$T$79,3,FALSE))","v":""},{"$f":"IF(E34=\"\",\"\",VLOOKUP($E34,List_Process!$Q$3:$T$79,4,FALSE))","v":""}]
[null,{"$f":"IF(E35=\"\",\"\",VLOOKUP($E35,List_Process!$Q$3:$T$79,2,FALSE))","v":""},{"$f":"IF(E35=\"\",\"\",VLOOKUP($E35,List_Process!$Q$3:$T$79,3,FALSE))","v":""},{"$f":"IF(E35=\"\",\"\",VLOOKUP($E35,List_Process!$Q$3:$T$79,4,FALSE))","v":""}]
[null,{"$f":"IF(E36=\"\",\"\",VLOOKUP($E36,List_Process!$Q$3:$T$79,2,FALSE))","v":""},{"$f":"IF(E36=\"\",\"\",VLOOKUP($E36,List_Process!$Q$3:$T$79,3,FALSE))","v":""},{"$f":"IF(E36=\"\",\"\",VLOOKUP($E36,List_Process!$Q$3:$T$79,4,FALSE))","v":""}]
[null,{"$f":"IF(E37=\"\",\"\",VLOOKUP($E37,List_Process!$Q$3:$T$79,2,FALSE))","v":""},{"$f":"IF(E37=\"\",\"\",VLOOKUP($E37,List_Process!$Q$3:$T$79,3,FALSE))","v":""},{"$f":"IF(E37=\"\",\"\",VLOOKUP($E37,List_Process!$Q$3:$T$79,4,FALSE))","v":""}]
[null,{"$f":"IF(E38=\"\",\"\",VLOOKUP($E38,List_Process!$Q$3:$T$79,2,FALSE))","v":""},{"$f":"IF(E38=\"\",\"\",VLOOKUP($E38,List_Process!$Q$3:$T$79,3,FALSE))","v":""},{"$f":"IF(E38=\"\",\"\",VLOOKUP($E38,List_Process!$Q$3:$T$79,4,FALSE))","v":""}]
[null,{"$f":"IF(E39=\"\",\"\",VLOOKUP($E39,List_Process!$Q$3:$T$79,2,FALSE))","v":""},{"$f":"IF(E39=\"\",\"\",VLOOKUP($E39,List_Process!$Q$3:$T$79,3,FALSE))","v":""},{"$f":"IF(E39=\"\",\"\",VLOOKUP($E39,List_Process!$Q$3:$T$79,4,FALSE))","v":""}]
[null,{"$f":"IF(E40=\"\",\"\",VLOOKUP($E40,List_Process!$Q$3:$T$79,2,FALSE))","v":""},{"$f":"IF(E40=\"\",\"\",VLOOKUP($E40,List_Process!$Q$3:$T$79,3,FALSE))","v":""},{"$f":"IF(E40=\"\",\"\",VLOOKUP($E40,List_Process!$Q$3:$T$79,4,FALSE))","v":""}]
[null,{"$f":"IF(E41=\"\",\"\",VLOOKUP($E41,List_Process!$Q$3:$T$79,2,FALSE))","v":""},{"$f":"IF(E41=\"\",\"\",VLOOKUP($E41,List_Process!$Q$3:$T$79,3,FALSE))","v":""},{"$f":"IF(E41=\"\",\"\",VLOOKUP($E41,List_Process!$Q$3:$T$79,4,FALSE))","v":""}]
[null,{"$f":"IF(E42=\"\",\"\",VLOOKUP($E42,List_Process!$Q$3:$T$79,2,FALSE))","v":""},{"$f":"IF(E42=\"\",\"\",VLOOKUP($E42,List_Process!$Q$3:$T$79,3,FALSE))","v":""},{"$f":"IF(E42=\"\",\"\",VLOOKUP($E42,List_Process!$Q$3:$T$79,4,FALSE))","v":""}]
[null,{"$f":"IF(E43=\"\",\"\",VLOOKUP($E43,List_Process!$Q$3:$T$79,2,FALSE))","v":""},{"$f":"IF(E43=\"\",\"\",VLOOKUP($E43,List_Process!$Q$3:$T$79,3,FALSE))","v":""},{"$f":"IF(E43=\"\",\"\",VLOOKUP($E43,List_Process!$Q$3:$T$79,4,FALSE))","v":""}]
[null,{"$f":"IF(E44=\"\",\"\",VLOOKUP($E44,List_Process!$Q$3:$T$79,2,FALSE))","v":""},{"$f":"IF(E44=\"\",\"\",VLOOKUP($E44,List_Process!$Q$3:$T$79,3,FALSE))","v":""},{"$f":"IF(E44=\"\",\"\",VLOOKUP($E44,List_Process!$Q$3:$T$79,4,FALSE))","v":""}]
[null,{"$f":"IF(E45=\"\",\"\",VLOOKUP($E45,List_Process!$Q$3:$T$79,2,FALSE))","v":""},{"$f":"IF(E45=\"\",\"\",VLOOKUP($E45,List_Process!$Q$3:$T$79,3,FALSE))","v":""},{"$f":"IF(E45=\"\",\"\",VLOOKUP($E45,List_Process!$Q$3:$T$79,4,FALSE))","v":""}]
[null,{"$f":"IF(E46=\"\",\"\",VLOOKUP($E46,List_Process!$Q$3:$T$79,2,FALSE))","v":""},{"$f":"IF(E46=\"\",\"\",VLOOKUP($E46,List_Process!$Q$3:$T$79,3,FALSE))","v":""},{"$f":"IF(E46=\"\",\"\",VLOOKUP($E46,List_Process!$Q$3:$T$79,4,FALSE))","v":""}]
[null,{"$f":"IF(E47=\"\",\"\",VLOOKUP($E47,List_Process!$Q$3:$T$79,2,FALSE))","v":""},{"$f":"IF(E47=\"\",\"\",VLOOKUP($E47,List_Process!$Q$3:$T$79,3,FALSE))","v":""},{"$f":"IF(E47=\"\",\"\",VLOOKUP($E47,List_Process!$Q$3:$T$79,4,FALSE))","v":""}]
[null,{"$f":"IF(E48=\"\",\"\",VLOOKUP($E48,List_Process!$Q$3:$T$79,2,FALSE))","v":""},{"$f":"IF(E48=\"\",\"\",VLOOKUP($E48,List_Process!$Q$3:$T$79,3,FALSE))","v":""},{"$f":"IF(E48=\"\",\"\",VLOOKUP($E48,List_Process!$Q$3:$T$79,4,FALSE))","v":""}]
[null,{"$f":"IF(E49=\"\",\"\",VLOOKUP($E49,List_Process!$Q$3:$T$79,2,FALSE))","v":""},{"$f":"IF(E49=\"\",\"\",VLOOKUP($E49,List_Process!$Q$3:$T$79,3,FALSE))","v":""},{"$f":"IF(E49=\"\",\"\",VLOOKUP($E49,List_Process!$Q$3:$T$79,4,FALSE))","v":""}]
[null,{"$f":"IF(E50=\"\",\"\",VLOOKUP($E50,List_Process!$Q$3:$T$79,2,FALSE))","v":""},{"$f":"IF(E50=\"\",\"\",VLOOKUP($E50,List_Process!$Q$3:$T$79,3,FALSE))","v":""},{"$f":"IF(E50=\"\",\"\",VLOOKUP($E50,List_Process!$Q$3:$T$79,4,FALSE))","v":""}]
[null,{"$f":"IF(E51=\"\",\"\",VLOOKUP($E51,List_Process!$Q$3:$T$79,2,FALSE))","v":""},{"$f":"IF(E51=\"\",\"\",VLOOKUP($E51,List_Process!$Q$3:$T$79,3,FALSE))","v":""},{"$f":"IF(E51=\"\",\"\",VLOOKUP($E51,List_Process!$Q$3:$T$79,4,FALSE))","v":""}]
[null,{"$f":"IF(E52=\"\",\"\",VLOOKUP($E52,List_Process!$Q$3:$T$79,2,FALSE))","v":""},{"$f":"IF(E52=\"\",\"\",VLOOKUP($E52,List_Process!$Q$3:$T$79,3,FALSE))","v":""},{"$f":"IF(E52=\"\",\"\",VLOOKUP($E52,List_Process!$Q$3:$T$79,4,FALSE))","v":""}]
[null,{"$f":"IF(E53=\"\",\"\",VLOOKUP($E53,List_Process!$Q$3:$T$79,2,FALSE))","v":""},{"$f":"IF(E53=\"\",\"\",VLOOKUP($E53,List_Process!$Q$3:$T$79,3,FALSE))","v":""},{"$f":"IF(E53=\"\",\"\",VLOOKUP($E53,List_Process!$Q$3:$T$79,4,FALSE))","v":""}]
[null,{"$f":"IF(E54=\"\",\"\",VLOOKUP($E54,List_Process!$Q$3:$T$79,2,FALSE))","v":""},{"$f":"IF(E54=\"\",\"\",VLOOKUP($E54,List_Process!$Q$3:$T$79,3,FALSE))","v":""},{"$f":"IF(E54=\"\",\"\",VLOOKUP($E54,List_Process!$Q$3:$T$79,4,FALSE))","v":""}]
[null,{"$f":"IF(E55=\"\",\"\",VLOOKUP($E55,List_Process!$Q$3:$T$79,2,FALSE))","v":""},{"$f":"IF(E55=\"\",\"\",VLOOKUP($E55,List_Process!$Q$3:$T$79,3,FALSE))","v":""},{"$f":"IF(E55=\"\",\"\",VLOOKUP($E55,List_Process!$Q$3:$T$79,4,FALSE))","v":""}]
[null,{"$f":"IF(E56=\"\",\"\",VLOOKUP($E56,List_Process!$Q$3:$T$79,2,FALSE))","v":""},{"$f":"IF(E56=\"\",\"\",VLOOKUP($E56,List_Process!$Q$3:$T$79,3,FALSE))","v":""},{"$f":"IF(E56=\"\",\"\",VLOOKUP($E56,List_Process!$Q$3:$T$79,4,FALSE))","v":""}]
[null,{"$f":"IF(E57=\"\",\"\",VLOOKUP($E57,List_Process!$Q$3:$T$79,2,FALSE))","v":""},{"$f":"IF(E57=\"\",\"\",VLOOKUP($E57,List_Process!$Q$3:$T$79,3,FALSE))","v":""},{"$f":"IF(E57=\"\",\"\",VLOOKUP($E57,List_Process!$Q$3:$T$79,4,FALSE))","v":""}]
[null,{"$f":"IF(E58=\"\",\"\",VLOOKUP($E58,List_Process!$Q$3:$T$79,2,FALSE))","v":""},{"$f":"IF(E58=\"\",\"\",VLOOKUP($E58,List_Process!$Q$3:$T$79,3,FALSE))","v":""},{"$f":"IF(E58=\"\",\"\",VLOOKUP($E58,List_Process!$Q$3:$T$79,4,FALSE))","v":""}]
[null,{"$f":"IF(E59=\"\",\"\",VLOOKUP($E59,List_Process!$Q$3:$T$79,2,FALSE))","v":""},{"$f":"IF(E59=\"\",\"\",VLOOKUP($E59,List_Process!$Q$3:$T$79,3,FALSE))","v":""},{"$f":"IF(E59=\"\",\"\",VLOOKUP($E59,List_Process!$Q$3:$T$79,4,FALSE))","v":""}]
[null,{"$f":"IF(E60=\"\",\"\",VLOOKUP($E60,List_Process!$Q$3:$T$79,2,FALSE))","v":""},{"$f":"IF(E60=\"\",\"\",VLOOKUP($E60,List_Process!$Q$3:$T$79,3,FALSE))","v":""},{"$f":"IF(E60=\"\",\"\",VLOOKUP($E60,List_Process!$Q$3:$T$79,4,FALSE))","v":""}]
[null,{"$f":"IF(E61=\"\",\"\",VLOOKUP($E61,List_Process!$Q$3:$T$79,2,FALSE))","v":""},{"$f":"IF(E61=\"\",\"\",VLOOKUP($E61,List_Process!$Q$3:$T$79,3,FALSE))","v":""},{"$f":"IF(E61=\"\",\"\",VLOOKUP($E61,List_Process!$Q$3:$T$79,4,FALSE))","v":""}]
[null,{"$f":"IF(E62=\"\",\"\",VLOOKUP($E62,List_Process!$Q$3:$T$79,2,FALSE))","v":""},{"$f":"IF(E62=\"\",\"\",VLOOKUP($E62,List_Process!$Q$3:$T$79,3,FALSE))","v":""},{"$f":"IF(E62=\"\",\"\",VLOOKUP($E62,List_Process!$Q$3:$T$79,4,FALSE))","v":""}]
[null,{"$f":"IF(E63=\"\",\"\",VLOOKUP($E63,List_Process!$Q$3:$T$79,2,FALSE))","v":""},{"$f":"IF(E63=\"\",\"\",VLOOKUP($E63,List_Process!$Q$3:$T$79,3,FALSE))","v":""},{"$f":"IF(E63=\"\",\"\",VLOOKUP($E63,List_Process!$Q$3:$T$79,4,FALSE))","v":""}]
[null,{"$f":"IF(E64=\"\",\"\",VLOOKUP($E64,List_Process!$Q$3:$T$79,2,FALSE))","v":""},{"$f":"IF(E64=\"\",\"\",VLOOKUP($E64,List_Process!$Q$3:$T$79,3,FALSE))","v":""},{"$f":"IF(E64=\"\",\"\",VLOOKUP($E64,List_Process!$Q$3:$T$79,4,FALSE))","v":""}]
[null,{"$f":"IF(E65=\"\",\"\",VLOOKUP($E65,List_Process!$Q$3:$T$79,2,FALSE))","v":""},{"$f":"IF(E65=\"\",\"\",VLOOKUP($E65,List_Process!$Q$3:$T$79,3,FALSE))","v":""},{"$f":"IF(E65=\"\",\"\",VLOOKUP($E65,List_Process!$Q$3:$T$79,4,FALSE))","v":""}]
[null,{"$f":"IF(E66=\"\",\"\",VLOOKUP($E66,List_Process!$Q$3:$T$79,2,FALSE))","v":""},{"$f":"IF(E66=\"\",\"\",VLOOKUP($E66,List_Process!$Q$3:$T$79,3,FALSE))","v":""},{"$f":"IF(E66=\"\",\"\",VLOOKUP($E66,List_Process!$Q$3:$T$79,4,FALSE))","v":""}]
[null,{"$f":"IF(E67=\"\",\"\",VLOOKUP($E67,List_Process!$Q$3:$T$79,2,FALSE))","v":""},{"$f":"IF(E67=\"\",\"\",VLOOKUP($E67,List_Process!$Q$3:$T$79,3,FALSE))","v":""},{"$f":"IF(E67=\"\",\"\",VLOOKUP($E67,List_Process!$Q$3:$T$79,4,FALSE))","v":""}]
[null,{"$f":"IF(E68=\"\",\"\",VLOOKUP($E68,List_Process!$Q$3:$T$79,2,FALSE))","v":""},{"$f":"IF(E68=\"\",\"\",VLOOKUP($E68,List_Process!$Q$3:$T$79,3,FALSE))","v":""},{"$f":"IF(E68=\"\",\"\",VLOOKUP($E68,List_Process!$Q$3:$T$79,4,FALSE))","v":""}]
[null,{"$f":"IF(E69=\"\",\"\",VLOOKUP($E69,List_Process!$Q$3:$T$79,2,FALSE))","v":""},{"$f":"IF(E69=\"\",\"\",VLOOKUP($E69,List_Process!$Q$3:$T$79,3,FALSE))","v":""},{"$f":"IF(E69=\"\",\"\",VLOOKUP($E69,List_Process!$Q$3:$T$79,4,FALSE))","v":""}]
[null,{"$f":"IF(E70=\"\",\"\",VLOOKUP($E70,List_Process!$Q$3:$T$79,2,FALSE))","v":""},{"$f":"IF(E70=\"\",\"\",VLOOKUP($E70,List_Process!$Q$3:$T$79,3,FALSE))","v":""},{"$f":"IF(E70=\"\",\"\",VLOOKUP($E70,List_Process!$Q$3:$T$79,4,FALSE))","v":""}]
[null,{"$f":"IF(E71=\"\",\"\",VLOOKUP($E71,List_Process!$Q$3:$T$79,2,FALSE))","v":""},{"$f":"IF(E71=\"\",\"\",VLOOKUP($E71,List_Process!$Q$3:$T$79,3,FALSE))","v":""},{"$f":"IF(E71=\"\",\"\",VLOOKUP($E71,List_Process!$Q$3:$T$79,4,FALSE))","v":""}]
[null,{"$f":"IF(E72=\"\",\"\",VLOOKUP($E72,List_Process!$Q$3:$T$79,2,FALSE))","v":""},{"$f":"IF(E72=\"\",\"\",VLOOKUP($E72,List_Process!$Q$3:$T$79,3,FALSE))","v":""},{"$f":"IF(E72=\"\",\"\",VLOOKUP($E72,List_Process!$Q$3:$T$79,4,FALSE))","v":""}]
[null,{"$f":"IF(E73=\"\",\"\",VLOOKUP($E73,List_Process!$Q$3:$T$79,2,FALSE))","v":""},{"$f":"IF(E73=\"\",\"\",VLOOKUP($E73,List_Process!$Q$3:$T$79,3,FALSE))","v":""},{"$f":"IF(E73=\"\",\"\",VLOOKUP($E73,List_Process!$Q$3:$T$79,4,FALSE))","v":""}]
[null,{"$f":"IF(E74=\"\",\"\",VLOOKUP($E74,List_Process!$Q$3:$T$79,2,FALSE))","v":""},{"$f":"IF(E74=\"\",\"\",VLOOKUP($E74,List_Process!$Q$3:$T$79,3,FALSE))","v":""},{"$f":"IF(E74=\"\",\"\",VLOOKUP($E74,List_Process!$Q$3:$T$79,4,FALSE))","v":""}]
[null,{"$f":"IF(E75=\"\",\"\",VLOOKUP($E75,List_Process!$Q$3:$T$79,2,FALSE))","v":""},{"$f":"IF(E75=\"\",\"\",VLOOKUP($E75,List_Process!$Q$3:$T$79,3,FALSE))","v":""},{"$f":"IF(E75=\"\",\"\",VLOOKUP($E75,List_Process!$Q$3:$T$79,4,FALSE))","v":""}]
[null,{"$f":"IF(E76=\"\",\"\",VLOOKUP($E76,List_Process!$Q$3:$T$79,2,FALSE))","v":""},{"$f":"IF(E76=\"\",\"\",VLOOKUP($E76,List_Process!$Q$3:$T$79,3,FALSE))","v":""},{"$f":"IF(E76=\"\",\"\",VLOOKUP($E76,List_Process!$Q$3:$T$79,4,FALSE))","v":""}]
[null,{"$f":"IF(E77=\"\",\"\",VLOOKUP($E77,List_Process!$Q$3:$T$79,2,FALSE))","v":""},{"$f":"IF(E77=\"\",\"\",VLOOKUP($E77,List_Process!$Q$3:$T$79,3,FALSE))","v":""},{"$f":"IF(E77=\"\",\"\",VLOOKUP($E77,List_Process!$Q$3:$T$79,4,FALSE))","v":""}]
[null,{"$f":"IF(E78=\"\",\"\",VLOOKUP($E78,List_Process!$Q$3:$T$79,2,FALSE))","v":""},{"$f":"IF(E78=\"\",\"\",VLOOKUP($E78,List_Process!$Q$3:$T$79,3,FALSE))","v":""},{"$f":"IF(E78=\"\",\"\",VLOOKUP($E78,List_Process!$Q$3:$T$79,4,FALSE))","v":""}]
[null,{"$f":"IF(E79=\"\",\"\",VLOOKUP($E79,List_Process!$Q$3:$T$79,2,FALSE))","v":""},{"$f":"IF(E79=\"\",\"\",VLOOKUP($E79,List_Process!$Q$3:$T$79,3,FALSE))","v":""},{"$f":"IF(E79=\"\",\"\",VLOOKUP($E79,List_Process!$Q$3:$T$79,4,FALSE))","v":""}]
[null,{"$f":"IF(E80=\"\",\"\",VLOOKUP($E80,List_Process!$Q$3:$T$79,2,FALSE))","v":""},{"$f":"IF(E80=\"\",\"\",VLOOKUP($E80,List_Process!$Q$3:$T$79,3,FALSE))","v":""},{"$f":"IF(E80=\"\",\"\",VLOOKUP($E80,List_Process!$Q$3:$T$79,4,FALSE))","v":""}]
[null,{"$f":"IF(E81=\"\",\"\",VLOOKUP($E81,List_Process!$Q$3:$T$79,2,FALSE))","v":""},{"$f":"IF(E81=\"\",\"\",VLOOKUP($E81,List_Process!$Q$3:$T$79,3,FALSE))","v":""},{"$f":"IF(E81=\"\",\"\",VLOOKUP($E81,List_Process!$Q$3:$T$79,4,FALSE))","v":""}]
[null,{"$f":"IF(E82=\"\",\"\",VLOOKUP($E82,List_Process!$Q$3:$T$79,2,FALSE))","v":""},{"$f":"IF(E82=\"\",\"\",VLOOKUP($E82,List_Process!$Q$3:$T$79,3,FALSE))","v":""},{"$f":"IF(E82=\"\",\"\",VLOOKUP($E82,List_Process!$Q$3:$T$79,4,FALSE))","v":""}]
[null,{"$f":"IF(E83=\"\",\"\",VLOOKUP($E83,List_Process!$Q$3:$T$79,2,FALSE))","v":""},{"$f":"IF(E83=\"\",\"\",VLOOKUP($E83,List_Process!$Q$3:$T$79,3,FALSE))","v":""},{"$f":"IF(E83=\"\",\"\",VLOOKUP($E83,List_Process!$Q$3:$T$79,4,FALSE))","v":""}]
[null,{"$f":"IF(E84=\"\",\"\",VLOOKUP($E84,List_Process!$Q$3:$T$79,2,FALSE))","v":""},{"$f":"IF(E84=\"\",\"\",VLOOKUP($E84,List_Process!$Q$3:$T$79,3,FALSE))","v":""},{"$f":"IF(E84=\"\",\"\",VLOOKUP($E84,List_Process!$Q$3:$T$79,4,FALSE))","v":""}]
[null,{"$f":"IF(E85=\"\",\"\",VLOOKUP($E85,List_Process!$Q$3:$T$79,2,FALSE))","v":""},{"$f":"IF(E85=\"\",\"\",VLOOKUP($E85,List_Process!$Q$3:$T$79,3,FALSE))","v":""},{"$f":"IF(E85=\"\",\"\",VLOOKUP($E85,List_Process!$Q$3:$T$79,4,FALSE))","v":""}]
[null,{"$f":"IF(E86=\"\",\"\",VLOOKUP($E86,List_Process!$Q$3:$T$79,2,FALSE))","v":""},{"$f":"IF(E86=\"\",\"\",VLOOKUP($E86,List_Process!$Q$3:$T$79,3,FALSE))","v":""},{"$f":"IF(E86=\"\",\"\",VLOOKUP($E86,List_Process!$Q$3:$T$79,4,FALSE))","v":""}]
[null,{"$f":"IF(E87=\"\",\"\",VLOOKUP($E87,List_Process!$Q$3:$T$79,2,FALSE))","v":""},{"$f":"IF(E87=\"\",\"\",VLOOKUP($E87,List_Process!$Q$3:$T$79,3,FALSE))","v":""},{"$f":"IF(E87=\"\",\"\",VLOOKUP($E87,List_Process!$Q$3:$T$79,4,FALSE))","v":""}]
[null,{"$f":"IF(E88=\"\",\"\",VLOOKUP($E88,List_Process!$Q$3:$T$79,2,FALSE))","v":""},{"$f":"IF(E88=\"\",\"\",VLOOKUP($E88,List_Process!$Q$3:$T$79,3,FALSE))","v":""},{"$f":"IF(E88=\"\",\"\",VLOOKUP($E88,List_Process!$Q$3:$T$79,4,FALSE))","v":""}]
[null,{"$f":"IF(E89=\"\",\"\",VLOOKUP($E89,List_Process!$Q$3:$T$79,2,FALSE))","v":""},{"$f":"IF(E89=\"\",\"\",VLOOKUP($E89,List_Process!$Q$3:$T$79,3,FALSE))","v":""},{"$f":"IF(E89=\"\",\"\",VLOOKUP($E89,List_Process!$Q$3:$T$79,4,FALSE))","v":""}]
[null,{"$f":"IF(E90=\"\",\"\",VLOOKUP($E90,List_Process!$Q$3:$T$79,2,FALSE))","v":""},{"$f":"IF(E90=\"\",\"\",VLOOKUP($E90,List_Process!$Q$3:$T$79,3,FALSE))","v":""},{"$f":"IF(E90=\"\",\"\",VLOOKUP($E90,List_Process!$Q$3:$T$79,4,FALSE))","v":""}]
[null,{"$f":"IF(E91=\"\",\"\",VLOOKUP($E91,List_Process!$Q$3:$T$79,2,FALSE))","v":""},{"$f":"IF(E91=\"\",\"\",VLOOKUP($E91,List_Process!$Q$3:$T$79,3,FALSE))","v":""},{"$f":"IF(E91=\"\",\"\",VLOOKUP($E91,List_Process!$Q$3:$T$79,4,FALSE))","v":""}]
[null,{"$f":"IF(E92=\"\",\"\",VLOOKUP($E92,List_Process!$Q$3:$T$79,2,FALSE))","v":""},{"$f":"IF(E92=\"\",\"\",VLOOKUP($E92,List_Process!$Q$3:$T$79,3,FALSE))","v":""},{"$f":"IF(E92=\"\",\"\",VLOOKUP($E92,List_Process!$Q$3:$T$79,4,FALSE))","v":""}]
[null,{"$f":"IF(E93=\"\",\"\",VLOOKUP($E93,List_Process!$Q$3:$T$79,2,FALSE))","v":""},{"$f":"IF(E93=\"\",\"\",VLOOKUP($E93,List_Process!$Q$3:$T$79,3,FALSE))","v":""},{"$f":"IF(E93=\"\",\"\",VLOOKUP($E93,List_Process!$Q$3:$T$79,4,FALSE))","v":""}]
[null,{"$f":"IF(E94=\"\",\"\",VLOOKUP($E94,List_Process!$Q$3:$T$79,2,FALSE))","v":""},{"$f":"IF(E94=\"\",\"\",VLOOKUP($E94,List_Process!$Q$3:$T$79,3,FALSE))","v":""},{"$f":"IF(E94=\"\",\"\",VLOOKUP($E94,List_Process!$Q$3:$T$79,4,FALSE))","v":""}]
[null,{"$f":"IF(E95=\"\",\"\",VLOOKUP($E95,List_Process!$Q$3:$T$79,2,FALSE))","v":""},{"$f":"IF(E95=\"\",\"\",VLOOKUP($E95,List_Process!$Q$3:$T$79,3,FALSE))","v":""},{"$f":"IF(E95=\"\",\"\",VLOOKUP($E95,List_Process!$Q$3:$T$79,4,FALSE))","v":""}]
[null,{"$f":"IF(E96=\"\",\"\",VLOOKUP($E96,List_Process!$Q$3:$T$79,2,FALSE))","v":""},{"$f":"IF(E96=\"\",\"\",VLOOKUP($E96,List_Process!$Q$3:$T$79,3,FALSE))","v":""},{"$f":"IF(E96=\"\",\"\",VLOOKUP($E96,List_Process!$Q$3:$T$79,4,FALSE))","v":""}]
[null,{"$f":"IF(E97=\"\",\"\",VLOOKUP($E97,List_Process!$Q$3:$T$79,2,FALSE))","v":""},{"$f":"IF(E97=\"\",\"\",VLOOKUP($E97,List_Process!$Q$3:$T$79,3,FALSE))","v":""},{"$f":"IF(E97=\"\",\"\",VLOOKUP($E97,List_Process!$Q$3:$T$79,4,FALSE))","v":""}]
[null,{"$f":"IF(E98=\"\",\"\",VLOOKUP($E98,List_Process!$Q$3:$T$79,2,FALSE))","v":""},{"$f":"IF(E98=\"\",\"\",VLOOKUP($E98,List_Process!$Q$3:$T$79,3,FALSE))","v":""},{"$f":"IF(E98=\"\",\"\",VLOOKUP($E98,List_Process!$Q$3:$T$79,4,FALSE))","v":""}]
[null,{"$f":"IF(E99=\"\",\"\",VLOOKUP($E99,List_Process!$Q$3:$T$79,2,FALSE))","v":""},{"$f":"IF(E99=\"\",\"\",VLOOKUP($E99,List_Process!$Q$3:$T$79,3,FALSE))","v":""},{"$f":"IF(E99=\"\",\"\",VLOOKUP($E99,List_Process!$Q$3:$T$79,4,FALSE))","v":""}]
[null,{"$f":"IF(E100=\"\",\"\",VLOOKUP($E100,List_Process!$Q$3:$T$79,2,FALSE))","v":""},{"$f":"IF(E100=\"\",\"\",VLOOKUP($E100,List_Process!$Q$3:$T$79,3,FALSE))","v":""},{"$f":"IF(E100=\"\",\"\",VLOOKUP($E100,List_Process!$Q$3:$T$79,4,FALSE))","v":""}]
[null,{"$f":"IF(E101=\"\",\"\",VLOOKUP($E101,List_Process!$Q$3:$T$79,2,FALSE))","v":""},{"$f":"IF(E101=\"\",\"\",VLOOKUP($E101,List_Process!$Q$3:$T$79,3,FALSE))","v":""},{"$f":"IF(E101=\"\",\"\",VLOOKUP($E101,List_Process!$Q$3:$T$79,4,FALSE))","v":""}]
[null,{"$f":"IF(E102=\"\",\"\",VLOOKUP($E102,List_Process!$Q$3:$T$79,2,FALSE))","v":""},{"$f":"IF(E102=\"\",\"\",VLOOKUP($E102,List_Process!$Q$3:$T$79,3,FALSE))","v":""},{"$f":"IF(E102=\"\",\"\",VLOOKUP($E102,List_Process!$Q$3:$T$79,4,FALSE))","v":""}]
[null,{"$f":"IF(E103=\"\",\"\",VLOOKUP($E103,List_Process!$Q$3:$T$79,2,FALSE))","v":""},{"$f":"IF(E103=\"\",\"\",VLOOKUP($E103,List_Process!$Q$3:$T$79,3,FALSE))","v":""},{"$f":"IF(E103=\"\",\"\",VLOOKUP($E103,List_Process!$Q$3:$T$79,4,FALSE))","v":""}]
[null,{"$f":"IF(E104=\"\",\"\",VLOOKUP($E104,List_Process!$Q$3:$T$79,2,FALSE))","v":""},{"$f":"IF(E104=\"\",\"\",VLOOKUP($E104,List_Process!$Q$3:$T$79,3,FALSE))","v":""},{"$f":"IF(E104=\"\",\"\",VLOOKUP($E104,List_Process!$Q$3:$T$79,4,FALSE))","v":""}]
[null,{"$f":"IF(E105=\"\",\"\",VLOOKUP($E105,List_Process!$Q$3:$T$79,2,FALSE))","v":""},{"$f":"IF(E105=\"\",\"\",VLOOKUP($E105,List_Process!$Q$3:$T$79,3,FALSE))","v":""},{"$f":"IF(E105=\"\",\"\",VLOOKUP($E105,List_Process!$Q$3:$T$79,4,FALSE))","v":""}]
[null,{"$f":"IF(E106=\"\",\"\",VLOOKUP($E106,List_Process!$Q$3:$T$79,2,FALSE))","v":""},{"$f":"IF(E106=\"\",\"\",VLOOKUP($E106,List_Process!$Q$3:$T$79,3,FALSE))","v":""},{"$f":"IF(E106=\"\",\"\",VLOOKUP($E106,List_Process!$Q$3:$T$79,4,FALSE))","v":""}]
[null,{"$f":"IF(E107=\"\",\"\",VLOOKUP($E107,List_Process!$Q$3:$T$79,2,FALSE))","v":""},{"$f":"IF(E107=\"\",\"\",VLOOKUP($E107,List_Process!$Q$3:$T$79,3,FALSE))","v":""},{"$f":"IF(E107=\"\",\"\",VLOOKUP($E107,List_Process!$Q$3:$T$79,4,FALSE))","v":""}]
[null,{"$f":"IF(E108=\"\",\"\",VLOOKUP($E108,List_Process!$Q$3:$T$79,2,FALSE))","v":""},{"$f":"IF(E108=\"\",\"\",VLOOKUP($E108,List_Process!$Q$3:$T$79,3,FALSE))","v":""},{"$f":"IF(E108=\"\",\"\",VLOOKUP($E108,List_Process!$Q$3:$T$79,4,FALSE))","v":""}]
[null,{"$f":"IF(E109=\"\",\"\",VLOOKUP($E109,List_Process!$Q$3:$T$79,2,FALSE))","v":""},{"$f":"IF(E109=\"\",\"\",VLOOKUP($E109,List_Process!$Q$3:$T$79,3,FALSE))","v":""},{"$f":"IF(E109=\"\",\"\",VLOOKUP($E109,List_Process!$Q$3:$T$79,4,FALSE))","v":""}]
[null,{"$f":"IF(E110=\"\",\"\",VLOOKUP($E110,List_Process!$Q$3:$T$79,2,FALSE))","v":""},{"$f":"IF(E110=\"\",\"\",VLOOKUP($E110,List_Process!$Q$3:$T$79,3,FALSE))","v":""},{"$f":"IF(E110=\"\",\"\",VLOOKUP($E110,List_Process!$Q$3:$T$79,4,FALSE))","v":""}]
[null,{"$f":"IF(E111=\"\",\"\",VLOOKUP($E111,List_Process!$Q$3:$T$79,2,FALSE))","v":""},{"$f":"IF(E111=\"\",\"\",VLOOKUP($E111,List_Process!$Q$3:$T$79,3,FALSE))","v":""},{"$f":"IF(E111=\"\",\"\",VLOOKUP($E111,List_Process!$Q$3:$T$79,4,FALSE))","v":""}]
[null,{"$f":"IF(E112=\"\",\"\",VLOOKUP($E112,List_Process!$Q$3:$T$79,2,FALSE))","v":""},{"$f":"IF(E112=\"\",\"\",VLOOKUP($E112,List_Process!$Q$3:$T$79,3,FALSE))","v":""},{"$f":"IF(E112=\"\",\"\",VLOOKUP($E112,List_Process!$Q$3:$T$79,4,FALSE))","v":""}]
[null,{"$f":"IF(E113=\"\",\"\",VLOOKUP($E113,List_Process!$Q$3:$T$79,2,FALSE))","v":""},{"$f":"IF(E113=\"\",\"\",VLOOKUP($E113,List_Process!$Q$3:$T$79,3,FALSE))","v":""},{"$f":"IF(E113=\"\",\"\",VLOOKUP($E113,List_Process!$Q$3:$T$79,4,FALSE))","v":""}]
[null,{"$f":"IF(E114=\"\",\"\",VLOOKUP($E114,List_Process!$Q$3:$T$79,2,FALSE))","v":""},{"$f":"IF(E114=\"\",\"\",VLOOKUP($E114,List_Process!$Q$3:$T$79,3,FALSE))","v":""},{"$f":"IF(E114=\"\",\"\",VLOOKUP($E114,List_Process!$Q$3:$T$79,4,FALSE))","v":""}]
[null,{"$f":"IF(E115=\"\",\"\",VLOOKUP($E115,List_Process!$Q$3:$T$79,2,FALSE))","v":""},{"$f":"IF(E115=\"\",\"\",VLOOKUP($E115,List_Process!$Q$3:$T$79,3,FALSE))","v":""},{"$f":"IF(E115=\"\",\"\",VLOOKUP($E115,List_Process!$Q$3:$T$79,4,FALSE))","v":""}]
[null,{"$f":"IF(E116=\"\",\"\",VLOOKUP($E116,List_Process!$Q$3:$T$79,2,FALSE))","v":""},{"$f":"IF(E116=\"\",\"\",VLOOKUP($E116,List_Process!$Q$3:$T$79,3,FALSE))","v":""},{"$f":"IF(E116=\"\",\"\",VLOOKUP($E116,List_Process!$Q$3:$T$79,4,FALSE))","v":""}]
[null,{"$f":"IF(E117=\"\",\"\",VLOOKUP($E117,List_Process!$Q$3:$T$79,2,FALSE))","v":""},{"$f":"IF(E117=\"\",\"\",VLOOKUP($E117,List_Process!$Q$3:$T$79,3,FALSE))","v":""},{"$f":"IF(E117=\"\",\"\",VLOOKUP($E117,List_Process!$Q$3:$T$79,4,FALSE))","v":""}]
[null,{"$f":"IF(E118=\"\",\"\",VLOOKUP($E118,List_Process!$Q$3:$T$79,2,FALSE))","v":""},{"$f":"IF(E118=\"\",\"\",VLOOKUP($E118,List_Process!$Q$3:$T$79,3,FALSE))","v":""},{"$f":"IF(E118=\"\",\"\",VLOOKUP($E118,List_Process!$Q$3:$T$79,4,FALSE))","v":""}]
[null,{"$f":"IF(E119=\"\",\"\",VLOOKUP($E119,List_Process!$Q$3:$T$79,2,FALSE))","v":""},{"$f":"IF(E119=\"\",\"\",VLOOKUP($E119,List_Process!$Q$3:$T$79,3,FALSE))","v":""},{"$f":"IF(E119=\"\",\"\",VLOOKUP($E119,List_Process!$Q$3:$T$79,4,FALSE))","v":""}]
[null,{"$f":"IF(E120=\"\",\"\",VLOOKUP($E120,List_Process!$Q$3:$T$79,2,FALSE))","v":""},{"$f":"IF(E120=\"\",\"\",VLOOKUP($E120,List_Process!$Q$3:$T$79,3,FALSE))","v":""},{"$f":"IF(E120=\"\",\"\",VLOOKUP($E120,List_Process!$Q$3:$T$79,4,FALSE))","v":""}]
[null,{"$f":"IF(E121=\"\",\"\",VLOOKUP($E121,List_Process!$Q$3:$T$79,2,FALSE))","v":""},{"$f":"IF(E121=\"\",\"\",VLOOKUP($E121,List_Process!$Q$3:$T$79,3,FALSE))","v":""},{"$f":"IF(E121=\"\",\"\",VLOOKUP($E121,List_Process!$Q$3:$T$79,4,FALSE))","v":""}]
[null,{"$f":"IF(E122=\"\",\"\",VLOOKUP($E122,List_Process!$Q$3:$T$79,2,FALSE))","v":""},{"$f":"IF(E122=\"\",\"\",VLOOKUP($E122,List_Process!$Q$3:$T$79,3,FALSE))","v":""},{"$f":"IF(E122=\"\",\"\",VLOOKUP($E122,List_Process!$Q$3:$T$79,4,FALSE))","v":""}]
[null,{"$f":"IF(E123=\"\",\"\",VLOOKUP($E123,List_Process!$Q$3:$T$79,2,FALSE))","v":""},{"$f":"IF(E123=\"\",\"\",VLOOKUP($E123,List_Process!$Q$3:$T$79,3,FALSE))","v":""},{"$f":"IF(E123=\"\",\"\",VLOOKUP($E123,List_Process!$Q$3:$T$79,4,FALSE))","v":""}]
[null,{"$f":"IF(E124=\"\",\"\",VLOOKUP($E124,List_Process!$Q$3:$T$79,2,FALSE))","v":""},{"$f":"IF(E124=\"\",\"\",VLOOKUP($E124,List_Process!$Q$3:$T$79,3,FALSE))","v":""},{"$f":"IF(E124=\"\",\"\",VLOOKUP($E124,List_Process!$Q$3:$T$79,4,FALSE))","v":""}]
[null,{"$f":"IF(E125=\"\",\"\",VLOOKUP($E125,List_Process!$Q$3:$T$79,2,FALSE))","v":""},{"$f":"IF(E125=\"\",\"\",VLOOKUP($E125,List_Process!$Q$3:$T$79,3,FALSE))","v":""},{"$f":"IF(E125=\"\",\"\",VLOOKUP($E125,List_Process!$Q$3:$T$79,4,FALSE))","v":""}]
[null,{"$f":"IF(E126=\"\",\"\",VLOOKUP($E126,List_Process!$Q$3:$T$79,2,FALSE))","v":""},{"$f":"IF(E126=\"\",\"\",VLOOKUP($E126,List_Process!$Q$3:$T$79,3,FALSE))","v":""},{"$f":"IF(E126=\"\",\"\",VLOOKUP($E126,List_Process!$Q$3:$T$79,4,FALSE))","v":""}]
[null,{"$f":"IF(E127=\"\",\"\",VLOOKUP($E127,List_Process!$Q$3:$T$79,2,FALSE))","v":""},{"$f":"IF(E127=\"\",\"\",VLOOKUP($E127,List_Process!$Q$3:$T$79,3,FALSE))","v":""},{"$f":"IF(E127=\"\",\"\",VLOOKUP($E127,List_Process!$Q$3:$T$79,4,FALSE))","v":""}]
[null,{"$f":"IF(E128=\"\",\"\",VLOOKUP($E128,List_Process!$Q$3:$T$79,2,FALSE))","v":""},{"$f":"IF(E128=\"\",\"\",VLOOKUP($E128,List_Process!$Q$3:$T$79,3,FALSE))","v":""},{"$f":"IF(E128=\"\",\"\",VLOOKUP($E128,List_Process!$Q$3:$T$79,4,FALSE))","v":""}]
[null,{"$f":"IF(E129=\"\",\"\",VLOOKUP($E129,List_Process!$Q$3:$T$79,2,FALSE))","v":""},{"$f":"IF(E129=\"\",\"\",VLOOKUP($E129,List_Process!$Q$3:$T$79,3,FALSE))","v":""},{"$f":"IF(E129=\"\",\"\",VLOOKUP($E129,List_Process!$Q$3:$T$79,4,FALSE))","v":""}]
[null,{"$f":"IF(E130=\"\",\"\",VLOOKUP($E130,List_Process!$Q$3:$T$79,2,FALSE))","v":""},{"$f":"IF(E130=\"\",\"\",VLOOKUP($E130,List_Process!$Q$3:$T$79,3,FALSE))","v":""},{"$f":"IF(E130=\"\",\"\",VLOOKUP($E130,List_Process!$Q$3:$T$79,4,FALSE))","v":""}]
[null,{"$f":"IF(E131=\"\",\"\",VLOOKUP($E131,List_Process!$Q$3:$T$79,2,FALSE))","v":""},{"$f":"IF(E131=\"\",\"\",VLOOKUP($E131,List_Process!$Q$3:$T$79,3,FALSE))","v":""},{"$f":"IF(E131=\"\",\"\",VLOOKUP($E131,List_Process!$Q$3:$T$79,4,FALSE))","v":""}]
[null,{"$f":"IF(E132=\"\",\"\",VLOOKUP($E132,List_Process!$Q$3:$T$79,2,FALSE))","v":""},{"$f":"IF(E132=\"\",\"\",VLOOKUP($E132,List_Process!$Q$3:$T$79,3,FALSE))","v":""},{"$f":"IF(E132=\"\",\"\",VLOOKUP($E132,List_Process!$Q$3:$T$79,4,FALSE))","v":""}]
[null,{"$f":"IF(E133=\"\",\"\",VLOOKUP($E133,List_Process!$Q$3:$T$79,2,FALSE))","v":""},{"$f":"IF(E133=\"\",\"\",VLOOKUP($E133,List_Process!$Q$3:$T$79,3,FALSE))","v":""},{"$f":"IF(E133=\"\",\"\",VLOOKUP($E133,List_Process!$Q$3:$T$79,4,FALSE))","v":""}]
[null,{"$f":"IF(E134=\"\",\"\",VLOOKUP($E134,List_Process!$Q$3:$T$79,2,FALSE))","v":""},{"$f":"IF(E134=\"\",\"\",VLOOKUP($E134,List_Process!$Q$3:$T$79,3,FALSE))","v":""},{"$f":"IF(E134=\"\",\"\",VLOOKUP($E134,List_Process!$Q$3:$T$79,4,FALSE))","v":""}]
[null,{"$f":"IF(E135=\"\",\"\",VLOOKUP($E135,List_Process!$Q$3:$T$79,2,FALSE))","v":""},{"$f":"IF(E135=\"\",\"\",VLOOKUP($E135,List_Process!$Q$3:$T$79,3,FALSE))","v":""},{"$f":"IF(E135=\"\",\"\",VLOOKUP($E135,List_Process!$Q$3:$T$79,4,FALSE))","v":""}]
[null,{"$f":"IF(E136=\"\",\"\",VLOOKUP($E136,List_Process!$Q$3:$T$79,2,FALSE))","v":""},{"$f":"IF(E136=\"\",\"\",VLOOKUP($E136,List_Process!$Q$3:$T$79,3,FALSE))","v":""},{"$f":"IF(E136=\"\",\"\",VLOOKUP($E136,List_Process!$Q$3:$T$79,4,FALSE))","v":""}]
[null,{"$f":"IF(E137=\"\",\"\",VLOOKUP($E137,List_Process!$Q$3:$T$79,2,FALSE))","v":""},{"$f":"IF(E137=\"\",\"\",VLOOKUP($E137,List_Process!$Q$3:$T$79,3,FALSE))","v":""},{"$f":"IF(E137=\"\",\"\",VLOOKUP($E137,List_Process!$Q$3:$T$79,4,FALSE))","v":""}]
[null,{"$f":"IF(E138=\"\",\"\",VLOOKUP($E138,List_Process!$Q$3:$T$79,2,FALSE))","v":""},{"$f":"IF(E138=\"\",\"\",VLOOKUP($E138,List_Process!$Q$3:$T$79,3,FALSE))","v":""},{"$f":"IF(E138=\"\",\"\",VLOOKUP($E138,List_Process!$Q$3:$T$79,4,FALSE))","v":""}]
[null,{"$f":"IF(E139=\"\",\"\",VLOOKUP($E139,List_Process!$Q$3:$T$79,2,FALSE))","v":""},{"$f":"IF(E139=\"\",\"\",VLOOKUP($E139,List_Process!$Q$3:$T$79,3,FALSE))","v":""},{"$f":"IF(E139=\"\",\"\",VLOOKUP($E139,List_Process!$Q$3:$T$79,4,FALSE))","v":""}]
[null,{"$f":"IF(E140=\"\",\"\",VLOOKUP($E140,List_Process!$Q$3:$T$79,2,FALSE))","v":""},{"$f":"IF(E140=\"\",\"\",VLOOKUP($E140,List_Process!$Q$3:$T$79,3,FALSE))","v":""},{"$f":"IF(E140=\"\",\"\",VLOOKUP($E140,List_Process!$Q$3:$T$79,4,FALSE))","v":""}]
[null,{"$f":"IF(E141=\"\",\"\",VLOOKUP($E141,List_Process!$Q$3:$T$79,2,FALSE))","v":""},{"$f":"IF(E141=\"\",\"\",VLOOKUP($E141,List_Process!$Q$3:$T$79,3,FALSE))","v":""},{"$f":"IF(E141=\"\",\"\",VLOOKUP($E141,List_Process!$Q$3:$T$79,4,FALSE))","v":""}]
[null,{"$f":"IF(E142=\"\",\"\",VLOOKUP($E142,List_Process!$Q$3:$T$79,2,FALSE))","v":""},{"$f":"IF(E142=\"\",\"\",VLOOKUP($E142,List_Process!$Q$3:$T$79,3,FALSE))","v":""},{"$f":"IF(E142=\"\",\"\",VLOOKUP($E142,List_Process!$Q$3:$T$79,4,FALSE))","v":""}]
[null,{"$f":"IF(E143=\"\",\"\",VLOOKUP($E143,List_Process!$Q$3:$T$79,2,FALSE))","v":""},{"$f":"IF(E143=\"\",\"\",VLOOKUP($E143,List_Process!$Q$3:$T$79,3,FALSE))","v":""},{"$f":"IF(E143=\"\",\"\",VLOOKUP($E143,List_Process!$Q$3:$T$79,4,FALSE))","v":""}]
[null,{"$f":"IF(E144=\"\",\"\",VLOOKUP($E144,List_Process!$Q$3:$T$79,2,FALSE))","v":""},{"$f":"IF(E144=\"\",\"\",VLOOKUP($E144,List_Process!$Q$3:$T$79,3,FALSE))","v":""},{"$f":"IF(E144=\"\",\"\",VLOOKUP($E144,List_Process!$Q$3:$T$79,4,FALSE))","v":""}]
[null,{"$f":"IF(E145=\"\",\"\",VLOOKUP($E145,List_Process!$Q$3:$T$79,2,FALSE))","v":""},{"$f":"IF(E145=\"\",\"\",VLOOKUP($E145,List_Process!$Q$3:$T$79,3,FALSE))","v":""},{"$f":"IF(E145=\"\",\"\",VLOOKUP($E145,List_Process!$Q$3:$T$79,4,FALSE))","v":""}]
[null,{"$f":"IF(E146=\"\",\"\",VLOOKUP($E146,List_Process!$Q$3:$T$79,2,FALSE))","v":""},{"$f":"IF(E146=\"\",\"\",VLOOKUP($E146,List_Process!$Q$3:$T$79,3,FALSE))","v":""},{"$f":"IF(E146=\"\",\"\",VLOOKUP($E146,List_Process!$Q$3:$T$79,4,FALSE))","v":""}]
[null,{"$f":"IF(E147=\"\",\"\",VLOOKUP($E147,List_Process!$Q$3:$T$79,2,FALSE))","v":""},{"$f":"IF(E147=\"\",\"\",VLOOKUP($E147,List_Process!$Q$3:$T$79,3,FALSE))","v":""},{"$f":"IF(E147=\"\",\"\",VLOOKUP($E147,List_Process!$Q$3:$T$79,4,FALSE))","v":""}]
[null,{"$f":"IF(E148=\"\",\"\",VLOOKUP($E148,List_Process!$Q$3:$T$79,2,FALSE))","v":""},{"$f":"IF(E148=\"\",\"\",VLOOKUP($E148,List_Process!$Q$3:$T$79,3,FALSE))","v":""},{"$f":"IF(E148=\"\",\"\",VLOOKUP($E148,List_Process!$Q$3:$T$79,4,FALSE))","v":""}]
[null,{"$f":"IF(E149=\"\",\"\",VLOOKUP($E149,List_Process!$Q$3:$T$79,2,FALSE))","v":""},{"$f":"IF(E149=\"\",\"\",VLOOKUP($E149,List_Process!$Q$3:$T$79,3,FALSE))","v":""},{"$f":"IF(E149=\"\",\"\",VLOOKUP($E149,List_Process!$Q$3:$T$79,4,FALSE))","v":""}]
[null,{"$f":"IF(E150=\"\",\"\",VLOOKUP($E150,List_Process!$Q$3:$T$79,2,FALSE))","v":""},{"$f":"IF(E150=\"\",\"\",VLOOKUP($E150,List_Process!$Q$3:$T$79,3,FALSE))","v":""},{"$f":"IF(E150=\"\",\"\",VLOOKUP($E150,List_Process!$Q$3:$T$79,4,FALSE))","v":""}]
[null,{"$f":"IF(E151=\"\",\"\",VLOOKUP($E151,List_Process!$Q$3:$T$79,2,FALSE))","v":""},{"$f":"IF(E151=\"\",\"\",VLOOKUP($E151,List_Process!$Q$3:$T$79,3,FALSE))","v":""},{"$f":"IF(E151=\"\",\"\",VLOOKUP($E151,List_Process!$Q$3:$T$79,4,FALSE))","v":""}]
[null,{"$f":"IF(E152=\"\",\"\",VLOOKUP($E152,List_Process!$Q$3:$T$79,2,FALSE))","v":""},{"$f":"IF(E152=\"\",\"\",VLOOKUP($E152,List_Process!$Q$3:$T$79,3,FALSE))","v":""},{"$f":"IF(E152=\"\",\"\",VLOOKUP($E152,List_Process!$Q$3:$T$79,4,FALSE))","v":""}]
[null,{"$f":"IF(E153=\"\",\"\",VLOOKUP($E153,List_Process!$Q$3:$T$79,2,FALSE))","v":""},{"$f":"IF(E153=\"\",\"\",VLOOKUP($E153,List_Process!$Q$3:$T$79,3,FALSE))","v":""},{"$f":"IF(E153=\"\",\"\",VLOOKUP($E153,List_Process!$Q$3:$T$79,4,FALSE))","v":""}]
[null,{"$f":"IF(E154=\"\",\"\",VLOOKUP($E154,List_Process!$Q$3:$T$79,2,FALSE))","v":""},{"$f":"IF(E154=\"\",\"\",VLOOKUP($E154,List_Process!$Q$3:$T$79,3,FALSE))","v":""},{"$f":"IF(E154=\"\",\"\",VLOOKUP($E154,List_Process!$Q$3:$T$79,4,FALSE))","v":""}]
[null,{"$f":"IF(E155=\"\",\"\",VLOOKUP($E155,List_Process!$Q$3:$T$79,2,FALSE))","v":""},{"$f":"IF(E155=\"\",\"\",VLOOKUP($E155,List_Process!$Q$3:$T$79,3,FALSE))","v":""},{"$f":"IF(E155=\"\",\"\",VLOOKUP($E155,List_Process!$Q$3:$T$79,4,FALSE))","v":""}]
[null,{"$f":"IF(E156=\"\",\"\",VLOOKUP($E156,List_Process!$Q$3:$T$79,2,FALSE))","v":""},{"$f":"IF(E156=\"\",\"\",VLOOKUP($E156,List_Process!$Q$3:$T$79,3,FALSE))","v":""},{"$f":"IF(E156=\"\",\"\",VLOOKUP($E156,List_Process!$Q$3:$T$79,4,FALSE))","v":""}]
[null,{"$f":"IF(E157=\"\",\"\",VLOOKUP($E157,List_Process!$Q$3:$T$79,2,FALSE))","v":""},{"$f":"IF(E157=\"\",\"\",VLOOKUP($E157,List_Process!$Q$3:$T$79,3,FALSE))","v":""},{"$f":"IF(E157=\"\",\"\",VLOOKUP($E157,List_Process!$Q$3:$T$79,4,FALSE))","v":""}]
[null,{"$f":"IF(E158=\"\",\"\",VLOOKUP($E158,List_Process!$Q$3:$T$79,2,FALSE))","v":""},{"$f":"IF(E158=\"\",\"\",VLOOKUP($E158,List_Process!$Q$3:$T$79,3,FALSE))","v":""},{"$f":"IF(E158=\"\",\"\",VLOOKUP($E158,List_Process!$Q$3:$T$79,4,FALSE))","v":""}]
[null,{"$f":"IF(E159=\"\",\"\",VLOOKUP($E159,List_Process!$Q$3:$T$79,2,FALSE))","v":""},{"$f":"IF(E159=\"\",\"\",VLOOKUP($E159,List_Process!$Q$3:$T$79,3,FALSE))","v":""},{"$f":"IF(E159=\"\",\"\",VLOOKUP($E159,List_Process!$Q$3:$T$79,4,FALSE))","v":""}]
[null,{"$f":"IF(E160=\"\",\"\",VLOOKUP($E160,List_Process!$Q$3:$T$79,2,FALSE))","v":""},{"$f":"IF(E160=\"\",\"\",VLOOKUP($E160,List_Process!$Q$3:$T$79,3,FALSE))","v":""},{"$f":"IF(E160=\"\",\"\",VLOOKUP($E160,List_Process!$Q$3:$T$79,4,FALSE))","v":""}]
[null,{"$f":"IF(E161=\"\",\"\",VLOOKUP($E161,List_Process!$Q$3:$T$79,2,FALSE))","v":""},{"$f":"IF(E161=\"\",\"\",VLOOKUP($E161,List_Process!$Q$3:$T$79,3,FALSE))","v":""},{"$f":"IF(E161=\"\",\"\",VLOOKUP($E161,List_Process!$Q$3:$T$79,4,FALSE))","v":""}]
[null,{"$f":"IF(E162=\"\",\"\",VLOOKUP($E162,List_Process!$Q$3:$T$79,2,FALSE))","v":""},{"$f":"IF(E162=\"\",\"\",VLOOKUP($E162,List_Process!$Q$3:$T$79,3,FALSE))","v":""},{"$f":"IF(E162=\"\",\"\",VLOOKUP($E162,List_Process!$Q$3:$T$79,4,FALSE))","v":""}]
[null,{"$f":"IF(E163=\"\",\"\",VLOOKUP($E163,List_Process!$Q$3:$T$79,2,FALSE))","v":""},{"$f":"IF(E163=\"\",\"\",VLOOKUP($E163,List_Process!$Q$3:$T$79,3,FALSE))","v":""},{"$f":"IF(E163=\"\",\"\",VLOOKUP($E163,List_Process!$Q$3:$T$79,4,FALSE))","v":""}]
[null,{"$f":"IF(E164=\"\",\"\",VLOOKUP($E164,List_Process!$Q$3:$T$79,2,FALSE))","v":""},{"$f":"IF(E164=\"\",\"\",VLOOKUP($E164,List_Process!$Q$3:$T$79,3,FALSE))","v":""},{"$f":"IF(E164=\"\",\"\",VLOOKUP($E164,List_Process!$Q$3:$T$79,4,FALSE))","v":""}]
[null,{"$f":"IF(E165=\"\",\"\",VLOOKUP($E165,List_Process!$Q$3:$T$79,2,FALSE))","v":""},{"$f":"IF(E165=\"\",\"\",VLOOKUP($E165,List_Process!$Q$3:$T$79,3,FALSE))","v":""},{"$f":"IF(E165=\"\",\"\",VLOOKUP($E165,List_Process!$Q$3:$T$79,4,FALSE))","v":""}]
[null,{"$f":"IF(E166=\"\",\"\",VLOOKUP($E166,List_Process!$Q$3:$T$79,2,FALSE))","v":""},{"$f":"IF(E166=\"\",\"\",VLOOKUP($E166,List_Process!$Q$3:$T$79,3,FALSE))","v":""},{"$f":"IF(E166=\"\",\"\",VLOOKUP($E166,List_Process!$Q$3:$T$79,4,FALSE))","v":""}]
[null,{"$f":"IF(E167=\"\",\"\",VLOOKUP($E167,List_Process!$Q$3:$T$79,2,FALSE))","v":""},{"$f":"IF(E167=\"\",\"\",VLOOKUP($E167,List_Process!$Q$3:$T$79,3,FALSE))","v":""},{"$f":"IF(E167=\"\",\"\",VLOOKUP($E167,List_Process!$Q$3:$T$79,4,FALSE))","v":""}]
[null,{"$f":"IF(E168=\"\",\"\",VLOOKUP($E168,List_Process!$Q$3:$T$79,2,FALSE))","v":""},{"$f":"IF(E168=\"\",\"\",VLOOKUP($E168,List_Process!$Q$3:$T$79,3,FALSE))","v":""},{"$f":"IF(E168=\"\",\"\",VLOOKUP($E168,List_Process!$Q$3:$T$79,4,FALSE))","v":""}]
[null,{"$f":"IF(E169=\"\",\"\",VLOOKUP($E169,List_Process!$Q$3:$T$79,2,FALSE))","v":""},{"$f":"IF(E169=\"\",\"\",VLOOKUP($E169,List_Process!$Q$3:$T$79,3,FALSE))","v":""},{"$f":"IF(E169=\"\",\"\",VLOOKUP($E169,List_Process!$Q$3:$T$79,4,FALSE))","v":""}]
[null,{"$f":"IF(E170=\"\",\"\",VLOOKUP($E170,List_Process!$Q$3:$T$79,2,FALSE))","v":""},{"$f":"IF(E170=\"\",\"\",VLOOKUP($E170,List_Process!$Q$3:$T$79,3,FALSE))","v":""},{"$f":"IF(E170=\"\",\"\",VLOOKUP($E170,List_Process!$Q$3:$T$79,4,FALSE))","v":""}]
[null,{"$f":"IF(E171=\"\",\"\",VLOOKUP($E171,List_Process!$Q$3:$T$79,2,FALSE))","v":""},{"$f":"IF(E171=\"\",\"\",VLOOKUP($E171,List_Process!$Q$3:$T$79,3,FALSE))","v":""},{"$f":"IF(E171=\"\",\"\",VLOOKUP($E171,List_Process!$Q$3:$T$79,4,FALSE))","v":""}]
[null,{"$f":"IF(E172=\"\",\"\",VLOOKUP($E172,List_Process!$Q$3:$T$79,2,FALSE))","v":""},{"$f":"IF(E172=\"\",\"\",VLOOKUP($E172,List_Process!$Q$3:$T$79,3,FALSE))","v":""},{"$f":"IF(E172=\"\",\"\",VLOOKUP($E172,List_Process!$Q$3:$T$79,4,FALSE))","v":""}]
[null,{"$f":"IF(E173=\"\",\"\",VLOOKUP($E173,List_Process!$Q$3:$T$79,2,FALSE))","v":""},{"$f":"IF(E173=\"\",\"\",VLOOKUP($E173,List_Process!$Q$3:$T$79,3,FALSE))","v":""},{"$f":"IF(E173=\"\",\"\",VLOOKUP($E173,List_Process!$Q$3:$T$79,4,FALSE))","v":""}]
[null,{"$f":"IF(E174=\"\",\"\",VLOOKUP($E174,List_Process!$Q$3:$T$79,2,FALSE))","v":""},{"$f":"IF(E174=\"\",\"\",VLOOKUP($E174,List_Process!$Q$3:$T$79,3,FALSE))","v":""},{"$f":"IF(E174=\"\",\"\",VLOOKUP($E174,List_Process!$Q$3:$T$79,4,FALSE))","v":""}]
[null,{"$f":"IF(E175=\"\",\"\",VLOOKUP($E175,List_Process!$Q$3:$T$79,2,FALSE))","v":""},{"$f":"IF(E175=\"\",\"\",VLOOKUP($E175,List_Process!$Q$3:$T$79,3,FALSE))","v":""},{"$f":"IF(E175=\"\",\"\",VLOOKUP($E175,List_Process!$Q$3:$T$79,4,FALSE))","v":""}]
[null,{"$f":"IF(E176=\"\",\"\",VLOOKUP($E176,List_Process!$Q$3:$T$79,2,FALSE))","v":""},{"$f":"IF(E176=\"\",\"\",VLOOKUP($E176,List_Process!$Q$3:$T$79,3,FALSE))","v":""},{"$f":"IF(E176=\"\",\"\",VLOOKUP($E176,List_Process!$Q$3:$T$79,4,FALSE))","v":""}]
[null,{"$f":"IF(E177=\"\",\"\",VLOOKUP($E177,List_Process!$Q$3:$T$79,2,FALSE))","v":""},{"$f":"IF(E177=\"\",\"\",VLOOKUP($E177,List_Process!$Q$3:$T$79,3,FALSE))","v":""},{"$f":"IF(E177=\"\",\"\",VLOOKUP($E177,List_Process!$Q$3:$T$79,4,FALSE))","v":""}]
[null,{"$f":"IF(E178=\"\",\"\",VLOOKUP($E178,List_Process!$Q$3:$T$79,2,FALSE))","v":""},{"$f":"IF(E178=\"\",\"\",VLOOKUP($E178,List_Process!$Q$3:$T$79,3,FALSE))","v":""},{"$f":"IF(E178=\"\",\"\",VLOOKUP($E178,List_Process!$Q$3:$T$79,4,FALSE))","v":""}]
[null,{"$f":"IF(E179=\"\",\"\",VLOOKUP($E179,List_Process!$Q$3:$T$79,2,FALSE))","v":""},{"$f":"IF(E179=\"\",\"\",VLOOKUP($E179,List_Process!$Q$3:$T$79,3,FALSE))","v":""},{"$f":"IF(E179=\"\",\"\",VLOOKUP($E179,List_Process!$Q$3:$T$79,4,FALSE))","v":""}]
[null,{"$f":"IF(E180=\"\",\"\",VLOOKUP($E180,List_Process!$Q$3:$T$79,2,FALSE))","v":""},{"$f":"IF(E180=\"\",\"\",VLOOKUP($E180,List_Process!$Q$3:$T$79,3,FALSE))","v":""},{"$f":"IF(E180=\"\",\"\",VLOOKUP($E180,List_Process!$Q$3:$T$79,4,FALSE))","v":""}]
[null,{"$f":"IF(E181=\"\",\"\",VLOOKUP($E181,List_Process!$Q$3:$T$79,2,FALSE))","v":""},{"$f":"IF(E181=\"\",\"\",VLOOKUP($E181,List_Process!$Q$3:$T$79,3,FALSE))","v":""},{"$f":"IF(E181=\"\",\"\",VLOOKUP($E181,List_Process!$Q$3:$T$79,4,FALSE))","v":""}]
[null,{"$f":"IF(E182=\"\",\"\",VLOOKUP($E182,List_Process!$Q$3:$T$79,2,FALSE))","v":""},{"$f":"IF(E182=\"\",\"\",VLOOKUP($E182,List_Process!$Q$3:$T$79,3,FALSE))","v":""},{"$f":"IF(E182=\"\",\"\",VLOOKUP($E182,List_Process!$Q$3:$T$79,4,FALSE))","v":""}]
[null,{"$f":"IF(E183=\"\",\"\",VLOOKUP($E183,List_Process!$Q$3:$T$79,2,FALSE))","v":""},{"$f":"IF(E183=\"\",\"\",VLOOKUP($E183,List_Process!$Q$3:$T$79,3,FALSE))","v":""},{"$f":"IF(E183=\"\",\"\",VLOOKUP($E183,List_Process!$Q$3:$T$79,4,FALSE))","v":""}]
[null,{"$f":"IF(E184=\"\",\"\",VLOOKUP($E184,List_Process!$Q$3:$T$79,2,FALSE))","v":""},{"$f":"IF(E184=\"\",\"\",VLOOKUP($E184,List_Process!$Q$3:$T$79,3,FALSE))","v":""},{"$f":"IF(E184=\"\",\"\",VLOOKUP($E184,List_Process!$Q$3:$T$79,4,FALSE))","v":""}]
[null,{"$f":"IF(E185=\"\",\"\",VLOOKUP($E185,List_Process!$Q$3:$T$79,2,FALSE))","v":""},{"$f":"IF(E185=\"\",\"\",VLOOKUP($E185,List_Process!$Q$3:$T$79,3,FALSE))","v":""},{"$f":"IF(E185=\"\",\"\",VLOOKUP($E185,List_Process!$Q$3:$T$79,4,FALSE))","v":""}]
[null,{"$f":"IF(E186=\"\",\"\",VLOOKUP($E186,List_Process!$Q$3:$T$79,2,FALSE))","v":""},{"$f":"IF(E186=\"\",\"\",VLOOKUP($E186,List_Process!$Q$3:$T$79,3,FALSE))","v":""},{"$f":"IF(E186=\"\",\"\",VLOOKUP($E186,List_Process!$Q$3:$T$79,4,FALSE))","v":""}]
[null,{"$f":"IF(E187=\"\",\"\",VLOOKUP($E187,List_Process!$Q$3:$T$79,2,FALSE))","v":""},{"$f":"IF(E187=\"\",\"\",VLOOKUP($E187,List_Process!$Q$3:$T$79,3,FALSE))","v":""},{"$f":"IF(E187=\"\",\"\",VLOOKUP($E187,List_Process!$Q$3:$T$79,4,FALSE))","v":""}]
[null,{"$f":"IF(E188=\"\",\"\",VLOOKUP($E188,List_Process!$Q$3:$T$79,2,FALSE))","v":""},{"$f":"IF(E188=\"\",\"\",VLOOKUP($E188,List_Process!$Q$3:$T$79,3,FALSE))","v":""},{"$f":"IF(E188=\"\",\"\",VLOOKUP($E188,List_Process!$Q$3:$T$79,4,FALSE))","v":""}]
[null,{"$f":"IF(E189=\"\",\"\",VLOOKUP($E189,List_Process!$Q$3:$T$79,2,FALSE))","v":""},{"$f":"IF(E189=\"\",\"\",VLOOKUP($E189,List_Process!$Q$3:$T$79,3,FALSE))","v":""},{"$f":"IF(E189=\"\",\"\",VLOOKUP($E189,List_Process!$Q$3:$T$79,4,FALSE))","v":""}]
[null,{"$f":"IF(E190=\"\",\"\",VLOOKUP($E190,List_Process!$Q$3:$T$79,2,FALSE))","v":""},{"$f":"IF(E190=\"\",\"\",VLOOKUP($E190,List_Process!$Q$3:$T$79,3,FALSE))","v":""},{"$f":"IF(E190=\"\",\"\",VLOOKUP($E190,List_Process!$Q$3:$T$79,4,FALSE))","v":""}]
[null,{"$f":"IF(E191=\"\",\"\",VLOOKUP($E191,List_Process!$Q$3:$T$79,2,FALSE))","v":""},{"$f":"IF(E191=\"\",\"\",VLOOKUP($E191,List_Process!$Q$3:$T$79,3,FALSE))","v":""},{"$f":"IF(E191=\"\",\"\",VLOOKUP($E191,List_Process!$Q$3:$T$79,4,FALSE))","v":""}]
[null,{"$f":"IF(E192=\"\",\"\",VLOOKUP($E192,List_Process!$Q$3:$T$79,2,FALSE))","v":""},{"$f":"IF(E192=\"\",\"\",VLOOKUP($E192,List_Process!$Q$3:$T$79,3,FALSE))","v":""},{"$f":"IF(E192=\"\",\"\",VLOOKUP($E192,List_Process!$Q$3:$T$79,4,FALSE))","v":""}]
[null,{"$f":"IF(E193=\"\",\"\",VLOOKUP($E193,List_Process!$Q$3:$T$79,2,FALSE))","v":""},{"$f":"IF(E193=\"\",\"\",VLOOKUP($E193,List_Process!$Q$3:$T$79,3,FALSE))","v":""},{"$f":"IF(E193=\"\",\"\",VLOOKUP($E193,List_Process!$Q$3:$T$79,4,FALSE))","v":""}]
[null,{"$f":"IF(E194=\"\",\"\",VLOOKUP($E194,List_Process!$Q$3:$T$79,2,FALSE))","v":""},{"$f":"IF(E194=\"\",\"\",VLOOKUP($E194,List_Process!$Q$3:$T$79,3,FALSE))","v":""},{"$f":"IF(E194=\"\",\"\",VLOOKUP($E194,List_Process!$Q$3:$T$79,4,FALSE))","v":""}]
[null,{"$f":"IF(E195=\"\",\"\",VLOOKUP($E195,List_Process!$Q$3:$T$79,2,FALSE))","v":""},{"$f":"IF(E195=\"\",\"\",VLOOKUP($E195,List_Process!$Q$3:$T$79,3,FALSE))","v":""},{"$f":"IF(E195=\"\",\"\",VLOOKUP($E195,List_Process!$Q$3:$T$79,4,FALSE))","v":""}]
[null,{"$f":"IF(E196=\"\",\"\",VLOOKUP($E196,List_Process!$Q$3:$T$79,2,FALSE))","v":""},{"$f":"IF(E196=\"\",\"\",VLOOKUP($E196,List_Process!$Q$3:$T$79,3,FALSE))","v":""},{"$f":"IF(E196=\"\",\"\",VLOOKUP($E196,List_Process!$Q$3:$T$79,4,FALSE))","v":""}]
[null,{"$f":"IF(E197=\"\",\"\",VLOOKUP($E197,List_Process!$Q$3:$T$79,2,FALSE))","v":""},{"$f":"IF(E197=\"\",\"\",VLOOKUP($E197,List_Process!$Q$3:$T$79,3,FALSE))","v":""},{"$f":"IF(E197=\"\",\"\",VLOOKUP($E197,List_Process!$Q$3:$T$79,4,FALSE))","v":""}]
[null,{"$f":"IF(E198=\"\",\"\",VLOOKUP($E198,List_Process!$Q$3:$T$79,2,FALSE))","v":""},{"$f":"IF(E198=\"\",\"\",VLOOKUP($E198,List_Process!$Q$3:$T$79,3,FALSE))","v":""},{"$f":"IF(E198=\"\",\"\",VLOOKUP($E198,List_Process!$Q$3:$T$79,4,FALSE))","v":""}]
[null,{"$f":"IF(E199=\"\",\"\",VLOOKUP($E199,List_Process!$Q$3:$T$79,2,FALSE))","v":""},{"$f":"IF(E199=\"\",\"\",VLOOKUP($E199,List_Process!$Q$3:$T$79,3,FALSE))","v":""},{"$f":"IF(E199=\"\",\"\",VLOOKUP($E199,List_Process!$Q$3:$T$79,4,FALSE))","v":""}]
[null,{"$f":"IF(E200=\"\",\"\",VLOOKUP($E200,List_Process!$Q$3:$T$79,2,FALSE))","v":""},{"$f":"IF(E200=\"\",\"\",VLOOKUP($E200,List_Process!$Q$3:$T$79,3,FALSE))","v":""},{"$f":"IF(E200=\"\",\"\",VLOOKUP($E200,List_Process!$Q$3:$T$79,4,FALSE))","v":""}]
[null,{"$f":"IF(E201=\"\",\"\",VLOOKUP($E201,List_Process!$Q$3:$T$79,2,FALSE))","v":""},{"$f":"IF(E201=\"\",\"\",VLOOKUP($E201,List_Process!$Q$3:$T$79,3,FALSE))","v":""},{"$f":"IF(E201=\"\",\"\",VLOOKUP($E201,List_Process!$Q$3:$T$79,4,FALSE))","v":""}]
[null,{"$f":"IF(E202=\"\",\"\",VLOOKUP($E202,List_Process!$Q$3:$T$79,2,FALSE))","v":""},{"$f":"IF(E202=\"\",\"\",VLOOKUP($E202,List_Process!$Q$3:$T$79,3,FALSE))","v":""},{"$f":"IF(E202=\"\",\"\",VLOOKUP($E202,List_Process!$Q$3:$T$79,4,FALSE))","v":""}]
[null,{"$f":"IF(E203=\"\",\"\",VLOOKUP($E203,List_Process!$Q$3:$T$79,2,FALSE))","v":""},{"$f":"IF(E203=\"\",\"\",VLOOKUP($E203,List_Process!$Q$3:$T$79,3,FALSE))","v":""},{"$f":"IF(E203=\"\",\"\",VLOOKUP($E203,List_Process!$Q$3:$T$79,4,FALSE))","v":""}]
[null,{"$f":"IF(E204=\"\",\"\",VLOOKUP($E204,List_Process!$Q$3:$T$79,2,FALSE))","v":""},{"$f":"IF(E204=\"\",\"\",VLOOKUP($E204,List_Process!$Q$3:$T$79,3,FALSE))","v":""},{"$f":"IF(E204=\"\",\"\",VLOOKUP($E204,List_Process!$Q$3:$T$79,4,FALSE))","v":""}]
[null,{"$f":"IF(E205=\"\",\"\",VLOOKUP($E205,List_Process!$Q$3:$T$79,2,FALSE))","v":""},{"$f":"IF(E205=\"\",\"\",VLOOKUP($E205,List_Process!$Q$3:$T$79,3,FALSE))","v":""},{"$f":"IF(E205=\"\",\"\",VLOOKUP($E205,List_Process!$Q$3:$T$79,4,FALSE))","v":""}]
[null,{"$f":"IF(E206=\"\",\"\",VLOOKUP($E206,List_Process!$Q$3:$T$79,2,FALSE))","v":""},{"$f":"IF(E206=\"\",\"\",VLOOKUP($E206,List_Process!$Q$3:$T$79,3,FALSE))","v":""},{"$f":"IF(E206=\"\",\"\",VLOOKUP($E206,List_Process!$Q$3:$T$79,4,FALSE))","v":""}]
[null,{"$f":"IF(E207=\"\",\"\",VLOOKUP($E207,List_Process!$Q$3:$T$79,2,FALSE))","v":""},{"$f":"IF(E207=\"\",\"\",VLOOKUP($E207,List_Process!$Q$3:$T$79,3,FALSE))","v":""},{"$f":"IF(E207=\"\",\"\",VLOOKUP($E207,List_Process!$Q$3:$T$79,4,FALSE))","v":""}]
[null,{"$f":"IF(E208=\"\",\"\",VLOOKUP($E208,List_Process!$Q$3:$T$79,2,FALSE))","v":""},{"$f":"IF(E208=\"\",\"\",VLOOKUP($E208,List_Process!$Q$3:$T$79,3,FALSE))","v":""},{"$f":"IF(E208=\"\",\"\",VLOOKUP($E208,List_Process!$Q$3:$T$79,4,FALSE))","v":""}]
[null,{"$f":"IF(E209=\"\",\"\",VLOOKUP($E209,List_Process!$Q$3:$T$79,2,FALSE))","v":""},{"$f":"IF(E209=\"\",\"\",VLOOKUP($E209,List_Process!$Q$3:$T$79,3,FALSE))","v":""},{"$f":"IF(E209=\"\",\"\",VLOOKUP($E209,List_Process!$Q$3:$T$79,4,FALSE))","v":""}]
[null,{"$f":"IF(E210=\"\",\"\",VLOOKUP($E210,List_Process!$Q$3:$T$79,2,FALSE))","v":""},{"$f":"IF(E210=\"\",\"\",VLOOKUP($E210,List_Process!$Q$3:$T$79,3,FALSE))","v":""},{"$f":"IF(E210=\"\",\"\",VLOOKUP($E210,List_Process!$Q$3:$T$79,4,FALSE))","v":""}]
[null,{"$f":"IF(E211=\"\",\"\",VLOOKUP($E211,List_Process!$Q$3:$T$79,2,FALSE))","v":""},{"$f":"IF(E211=\"\",\"\",VLOOKUP($E211,List_Process!$Q$3:$T$79,3,FALSE))","v":""},{"$f":"IF(E211=\"\",\"\",VLOOKUP($E211,List_Process!$Q$3:$T$79,4,FALSE))","v":""}]
[null,{"$f":"IF(E212=\"\",\"\",VLOOKUP($E212,List_Process!$Q$3:$T$79,2,FALSE))","v":""},{"$f":"IF(E212=\"\",\"\",VLOOKUP($E212,List_Process!$Q$3:$T$79,3,FALSE))","v":""},{"$f":"IF(E212=\"\",\"\",VLOOKUP($E212,List_Process!$Q$3:$T$79,4,FALSE))","v":""}]
[null,{"$f":"IF(E213=\"\",\"\",VLOOKUP($E213,List_Process!$Q$3:$T$79,2,FALSE))","v":""},{"$f":"IF(E213=\"\",\"\",VLOOKUP($E213,List_Process!$Q$3:$T$79,3,FALSE))","v":""},{"$f":"IF(E213=\"\",\"\",VLOOKUP($E213,List_Process!$Q$3:$T$79,4,FALSE))","v":""}]
[null,{"$f":"IF(E214=\"\",\"\",VLOOKUP($E214,List_Process!$Q$3:$T$79,2,FALSE))","v":""},{"$f":"IF(E214=\"\",\"\",VLOOKUP($E214,List_Process!$Q$3:$T$79,3,FALSE))","v":""},{"$f":"IF(E214=\"\",\"\",VLOOKUP($E214,List_Process!$Q$3:$T$79,4,FALSE))","v":""}]
[null,{"$f":"IF(E215=\"\",\"\",VLOOKUP($E215,List_Process!$Q$3:$T$79,2,FALSE))","v":""},{"$f":"IF(E215=\"\",\"\",VLOOKUP($E215,List_Process!$Q$3:$T$79,3,FALSE))","v":""},{"$f":"IF(E215=\"\",\"\",VLOOKUP($E215,List_Process!$Q$3:$T$79,4,FALSE))","v":""}]
[null,{"$f":"IF(E216=\"\",\"\",VLOOKUP($E216,List_Process!$Q$3:$T$79,2,FALSE))","v":""},{"$f":"IF(E216=\"\",\"\",VLOOKUP($E216,List_Process!$Q$3:$T$79,3,FALSE))","v":""},{"$f":"IF(E216=\"\",\"\",VLOOKUP($E216,List_Process!$Q$3:$T$79,4,FALSE))","v":""}]
[null,{"$f":"IF(E217=\"\",\"\",VLOOKUP($E217,List_Process!$Q$3:$T$79,2,FALSE))","v":""},{"$f":"IF(E217=\"\",\"\",VLOOKUP($E217,List_Process!$Q$3:$T$79,3,FALSE))","v":""},{"$f":"IF(E217=\"\",\"\",VLOOKUP($E217,List_Process!$Q$3:$T$79,4,FALSE))","v":""}]
[null,{"$f":"IF(E218=\"\",\"\",VLOOKUP($E218,List_Process!$Q$3:$T$79,2,FALSE))","v":""},{"$f":"IF(E218=\"\",\"\",VLOOKUP($E218,List_Process!$Q$3:$T$79,3,FALSE))","v":""},{"$f":"IF(E218=\"\",\"\",VLOOKUP($E218,List_Process!$Q$3:$T$79,4,FALSE))","v":""}]
[null,{"$f":"IF(E219=\"\",\"\",VLOOKUP($E219,List_Process!$Q$3:$T$79,2,FALSE))","v":""},{"$f":"IF(E219=\"\",\"\",VLOOKUP($E219,List_Process!$Q$3:$T$79,3,FALSE))","v":""},{"$f":"IF(E219=\"\",\"\",VLOOKUP($E219,List_Process!$Q$3:$T$79,4,FALSE))","v":""}]
[null,{"$f":"IF(E220=\"\",\"\",VLOOKUP($E220,List_Process!$Q$3:$T$79,2,FALSE))","v":""},{"$f":"IF(E220=\"\",\"\",VLOOKUP($E220,List_Process!$Q$3:$T$79,3,FALSE))","v":""},{"$f":"IF(E220=\"\",\"\",VLOOKUP($E220,List_Process!$Q$3:$T$79,4,FALSE))","v":""}]
[null,{"$f":"IF(E221=\"\",\"\",VLOOKUP($E221,List_Process!$Q$3:$T$79,2,FALSE))","v":""},{"$f":"IF(E221=\"\",\"\",VLOOKUP($E221,List_Process!$Q$3:$T$79,3,FALSE))","v":""},{"$f":"IF(E221=\"\",\"\",VLOOKUP($E221,List_Process!$Q$3:$T$79,4,FALSE))","v":""}]
[null,{"$f":"IF(E222=\"\",\"\",VLOOKUP($E222,List_Process!$Q$3:$T$79,2,FALSE))","v":""},{"$f":"IF(E222=\"\",\"\",VLOOKUP($E222,List_Process!$Q$3:$T$79,3,FALSE))","v":""},{"$f":"IF(E222=\"\",\"\",VLOOKUP($E222,List_Process!$Q$3:$T$79,4,FALSE))","v":""}]
[null,{"$f":"IF(E223=\"\",\"\",VLOOKUP($E223,List_Process!$Q$3:$T$79,2,FALSE))","v":""},{"$f":"IF(E223=\"\",\"\",VLOOKUP($E223,List_Process!$Q$3:$T$79,3,FALSE))","v":""},{"$f":"IF(E223=\"\",\"\",VLOOKUP($E223,List_Process!$Q$3:$T$79,4,FALSE))","v":""}]
[null,{"$f":"IF(E224=\"\",\"\",VLOOKUP($E224,List_Process!$Q$3:$T$79,2,FALSE))","v":""},{"$f":"IF(E224=\"\",\"\",VLOOKUP($E224,List_Process!$Q$3:$T$79,3,FALSE))","v":""},{"$f":"IF(E224=\"\",\"\",VLOOKUP($E224,List_Process!$Q$3:$T$79,4,FALSE))","v":""}]
[null,{"$f":"IF(E225=\"\",\"\",VLOOKUP($E225,List_Process!$Q$3:$T$79,2,FALSE))","v":""},{"$f":"IF(E225=\"\",\"\",VLOOKUP($E225,List_Process!$Q$3:$T$79,3,FALSE))","v":""},{"$f":"IF(E225=\"\",\"\",VLOOKUP($E225,List_Process!$Q$3:$T$79,4,FALSE))","v":""}]
[null,{"$f":"IF(E226=\"\",\"\",VLOOKUP($E226,List_Process!$Q$3:$T$79,2,FALSE))","v":""},{"$f":"IF(E226=\"\",\"\",VLOOKUP($E226,List_Process!$Q$3:$T$79,3,FALSE))","v":""},{"$f":"IF(E226=\"\",\"\",VLOOKUP($E226,List_Process!$Q$3:$T$79,4,FALSE))","v":""}]
[null,{"$f":"IF(E227=\"\",\"\",VLOOKUP($E227,List_Process!$Q$3:$T$79,2,FALSE))","v":""},{"$f":"IF(E227=\"\",\"\",VLOOKUP($E227,List_Process!$Q$3:$T$79,3,FALSE))","v":""},{"$f":"IF(E227=\"\",\"\",VLOOKUP($E227,List_Process!$Q$3:$T$79,4,FALSE))","v":""}]
[null,{"$f":"IF(E228=\"\",\"\",VLOOKUP($E228,List_Process!$Q$3:$T$79,2,FALSE))","v":""},{"$f":"IF(E228=\"\",\"\",VLOOKUP($E228,List_Process!$Q$3:$T$79,3,FALSE))","v":""},{"$f":"IF(E228=\"\",\"\",VLOOKUP($E228,List_Process!$Q$3:$T$79,4,FALSE))","v":""}]
[null,{"$f":"IF(E229=\"\",\"\",VLOOKUP($E229,List_Process!$Q$3:$T$79,2,FALSE))","v":""},{"$f":"IF(E229=\"\",\"\",VLOOKUP($E229,List_Process!$Q$3:$T$79,3,FALSE))","v":""},{"$f":"IF(E229=\"\",\"\",VLOOKUP($E229,List_Process!$Q$3:$T$79,4,FALSE))","v":""}]
[null,{"$f":"IF(E230=\"\",\"\",VLOOKUP($E230,List_Process!$Q$3:$T$79,2,FALSE))","v":""},{"$f":"IF(E230=\"\",\"\",VLOOKUP($E230,List_Process!$Q$3:$T$79,3,FALSE))","v":""},{"$f":"IF(E230=\"\",\"\",VLOOKUP($E230,List_Process!$Q$3:$T$79,4,FALSE))","v":""}]
[null,{"$f":"IF(E231=\"\",\"\",VLOOKUP($E231,List_Process!$Q$3:$T$79,2,FALSE))","v":""},{"$f":"IF(E231=\"\",\"\",VLOOKUP($E231,List_Process!$Q$3:$T$79,3,FALSE))","v":""},{"$f":"IF(E231=\"\",\"\",VLOOKUP($E231,List_Process!$Q$3:$T$79,4,FALSE))","v":""}]
[null,{"$f":"IF(E232=\"\",\"\",VLOOKUP($E232,List_Process!$Q$3:$T$79,2,FALSE))","v":""},{"$f":"IF(E232=\"\",\"\",VLOOKUP($E232,List_Process!$Q$3:$T$79,3,FALSE))","v":""},{"$f":"IF(E232=\"\",\"\",VLOOKUP($E232,List_Process!$Q$3:$T$79,4,FALSE))","v":""}]
[null,{"$f":"IF(E233=\"\",\"\",VLOOKUP($E233,List_Process!$Q$3:$T$79,2,FALSE))","v":""},{"$f":"IF(E233=\"\",\"\",VLOOKUP($E233,List_Process!$Q$3:$T$79,3,FALSE))","v":""},{"$f":"IF(E233=\"\",\"\",VLOOKUP($E233,List_Process!$Q$3:$T$79,4,FALSE))","v":""}]
[null,{"$f":"IF(E234=\"\",\"\",VLOOKUP($E234,List_Process!$Q$3:$T$79,2,FALSE))","v":""},{"$f":"IF(E234=\"\",\"\",VLOOKUP($E234,List_Process!$Q$3:$T$79,3,FALSE))","v":""},{"$f":"IF(E234=\"\",\"\",VLOOKUP($E234,List_Process!$Q$3:$T$79,4,FALSE))","v":""}]
[null,{"$f":"IF(E235=\"\",\"\",VLOOKUP($E235,List_Process!$Q$3:$T$79,2,FALSE))","v":""},{"$f":"IF(E235=\"\",\"\",VLOOKUP($E235,List_Process!$Q$3:$T$79,3,FALSE))","v":""},{"$f":"IF(E235=\"\",\"\",VLOOKUP($E235,List_Process!$Q$3:$T$79,4,FALSE))","v":""}]
[null,{"$f":"IF(E236=\"\",\"\",VLOOKUP($E236,List_Process!$Q$3:$T$79,2,FALSE))","v":""},{"$f":"IF(E236=\"\",\"\",VLOOKUP($E236,List_Process!$Q$3:$T$79,3,FALSE))","v":""},{"$f":"IF(E236=\"\",\"\",VLOOKUP($E236,List_Process!$Q$3:$T$79,4,FALSE))","v":""}]
[null,{"$f":"IF(E237=\"\",\"\",VLOOKUP($E237,List_Process!$Q$3:$T$79,2,FALSE))","v":""},{"$f":"IF(E237=\"\",\"\",VLOOKUP($E237,List_Process!$Q$3:$T$79,3,FALSE))","v":""},{"$f":"IF(E237=\"\",\"\",VLOOKUP($E237,List_Process!$Q$3:$T$79,4,FALSE))","v":""}]
[null,{"$f":"IF(E238=\"\",\"\",VLOOKUP($E238,List_Process!$Q$3:$T$79,2,FALSE))","v":""},{"$f":"IF(E238=\"\",\"\",VLOOKUP($E238,List_Process!$Q$3:$T$79,3,FALSE))","v":""},{"$f":"IF(E238=\"\",\"\",VLOOKUP($E238,List_Process!$Q$3:$T$79,4,FALSE))","v":""}]
[null,{"$f":"IF(E239=\"\",\"\",VLOOKUP($E239,List_Process!$Q$3:$T$79,2,FALSE))","v":""},{"$f":"IF(E239=\"\",\"\",VLOOKUP($E239,List_Process!$Q$3:$T$79,3,FALSE))","v":""},{"$f":"IF(E239=\"\",\"\",VLOOKUP($E239,List_Process!$Q$3:$T$79,4,FALSE))","v":""}]
[null,{"$f":"IF(E240=\"\",\"\",VLOOKUP($E240,List_Process!$Q$3:$T$79,2,FALSE))","v":""},{"$f":"IF(E240=\"\",\"\",VLOOKUP($E240,List_Process!$Q$3:$T$79,3,FALSE))","v":""},{"$f":"IF(E240=\"\",\"\",VLOOKUP($E240,List_Process!$Q$3:$T$79,4,FALSE))","v":""}]
[null,{"$f":"IF(E241=\"\",\"\",VLOOKUP($E241,List_Process!$Q$3:$T$79,2,FALSE))","v":""},{"$f":"IF(E241=\"\",\"\",VLOOKUP($E241,List_Process!$Q$3:$T$79,3,FALSE))","v":""},{"$f":"IF(E241=\"\",\"\",VLOOKUP($E241,List_Process!$Q$3:$T$79,4,FALSE))","v":""}]
[null,{"$f":"IF(E242=\"\",\"\",VLOOKUP($E242,List_Process!$Q$3:$T$79,2,FALSE))","v":""},{"$f":"IF(E242=\"\",\"\",VLOOKUP($E242,List_Process!$Q$3:$T$79,3,FALSE))","v":""},{"$f":"IF(E242=\"\",\"\",VLOOKUP($E242,List_Process!$Q$3:$T$79,4,FALSE))","v":""}]
[null,{"$f":"IF(E243=\"\",\"\",VLOOKUP($E243,List_Process!$Q$3:$T$79,2,FALSE))","v":""},{"$f":"IF(E243=\"\",\"\",VLOOKUP($E243,List_Process!$Q$3:$T$79,3,FALSE))","v":""},{"$f":"IF(E243=\"\",\"\",VLOOKUP($E243,List_Process!$Q$3:$T$79,4,FALSE))","v":""}]
[null,{"$f":"IF(E244=\"\",\"\",VLOOKUP($E244,List_Process!$Q$3:$T$79,2,FALSE))","v":""},{"$f":"IF(E244=\"\",\"\",VLOOKUP($E244,List_Process!$Q$3:$T$79,3,FALSE))","v":""},{"$f":"IF(E244=\"\",\"\",VLOOKUP($E244,List_Process!$Q$3:$T$79,4,FALSE))","v":""}]
[null,{"$f":"IF(E245=\"\",\"\",VLOOKUP($E245,List_Process!$Q$3:$T$79,2,FALSE))","v":""},{"$f":"IF(E245=\"\",\"\",VLOOKUP($E245,List_Process!$Q$3:$T$79,3,FALSE))","v":""},{"$f":"IF(E245=\"\",\"\",VLOOKUP($E245,List_Process!$Q$3:$T$79,4,FALSE))","v":""}]
[null,{"$f":"IF(E246=\"\",\"\",VLOOKUP($E246,List_Process!$Q$3:$T$79,2,FALSE))","v":""},{"$f":"IF(E246=\"\",\"\",VLOOKUP($E246,List_Process!$Q$3:$T$79,3,FALSE))","v":""},{"$f":"IF(E246=\"\",\"\",VLOOKUP($E246,List_Process!$Q$3:$T$79,4,FALSE))","v":""}]
[null,{"$f":"IF(E247=\"\",\"\",VLOOKUP($E247,List_Process!$Q$3:$T$79,2,FALSE))","v":""},{"$f":"IF(E247=\"\",\"\",VLOOKUP($E247,List_Process!$Q$3:$T$79,3,FALSE))","v":""},{"$f":"IF(E247=\"\",\"\",VLOOKUP($E247,List_Process!$Q$3:$T$79,4,FALSE))","v":""}]
[null,{"$f":"IF(E248=\"\",\"\",VLOOKUP($E248,List_Process!$Q$3:$T$79,2,FALSE))","v":""},{"$f":"IF(E248=\"\",\"\",VLOOKUP($E248,List_Process!$Q$3:$T$79,3,FALSE))","v":""},{"$f":"IF(E248=\"\",\"\",VLOOKUP($E248,List_Process!$Q$3:$T$79,4,FALSE))","v":""}]
[null,{"$f":"IF(E249=\"\",\"\",VLOOKUP($E249,List_Process!$Q$3:$T$79,2,FALSE))","v":""},{"$f":"IF(E249=\"\",\"\",VLOOKUP($E249,List_Process!$Q$3:$T$79,3,FALSE))","v":""},{"$f":"IF(E249=\"\",\"\",VLOOKUP($E249,List_Process!$Q$3:$T$79,4,FALSE))","v":""}]
[null,{"$f":"IF(E250=\"\",\"\",VLOOKUP($E250,List_Process!$Q$3:$T$79,2,FALSE))","v":""},{"$f":"IF(E250=\"\",\"\",VLOOKUP($E250,List_Process!$Q$3:$T$79,3,FALSE))","v":""},{"$f":"IF(E250=\"\",\"\",VLOOKUP($E250,List_Process!$Q$3:$T$79,4,FALSE))","v":""}]
[null,{"$f":"IF(E251=\"\",\"\",VLOOKUP($E251,List_Process!$Q$3:$T$79,2,FALSE))","v":""},{"$f":"IF(E251=\"\",\"\",VLOOKUP($E251,List_Process!$Q$3:$T$79,3,FALSE))","v":""},{"$f":"IF(E251=\"\",\"\",VLOOKUP($E251,List_Process!$Q$3:$T$79,4,FALSE))","v":""}]
[null,{"$f":"IF(E252=\"\",\"\",VLOOKUP($E252,List_Process!$Q$3:$T$79,2,FALSE))","v":""},{"$f":"IF(E252=\"\",\"\",VLOOKUP($E252,List_Process!$Q$3:$T$79,3,FALSE))","v":""},{"$f":"IF(E252=\"\",\"\",VLOOKUP($E252,List_Process!$Q$3:$T$79,4,FALSE))","v":""}]
[null,{"$f":"IF(E253=\"\",\"\",VLOOKUP($E253,List_Process!$Q$3:$T$79,2,FALSE))","v":""},{"$f":"IF(E253=\"\",\"\",VLOOKUP($E253,List_Process!$Q$3:$T$79,3,FALSE))","v":""},{"$f":"IF(E253=\"\",\"\",VLOOKUP($E253,List_Process!$Q$3:$T$79,4,FALSE))","v":""}]
[null,{"$f":"IF(E254=\"\",\"\",VLOOKUP($E254,List_Process!$Q$3:$T$79,2,FALSE))","v":""},{"$f":"IF(E254=\"\",\"\",VLOOKUP($E254,List_Process!$Q$3:$T$79,3,FALSE))","v":""},{"$f":"IF(E254=\"\",\"\",VLOOKUP($E254,List_Process!$Q$3:$T$79,4,FALSE))","v":""}]
[null,{"$f":"IF(E255=\"\",\"\",VLOOKUP($E255,List_Process!$Q$3:$T$79,2,FALSE))","v":""},{"$f":"IF(E255=\"\",\"\",VLOOKUP($E255,List_Process!$Q$3:$T$79,3,FALSE))","v":""},{"$f":"IF(E255=\"\",\"\",VLOOKUP($E255,List_Process!$Q$3:$T$79,4,FALSE))","v":""}]
[null,{"$f":"IF(E256=\"\",\"\",VLOOKUP($E256,List_Process!$Q$3:$T$79,2,FALSE))","v":""},{"$f":"IF(E256=\"\",\"\",VLOOKUP($E256,List_Process!$Q$3:$T$79,3,FALSE))","v":""},{"$f":"IF(E256=\"\",\"\",VLOOKUP($E256,List_Process!$Q$3:$T$79,4,FALSE))","v":""}]
[null,{"$f":"IF(E257=\"\",\"\",VLOOKUP($E257,List_Process!$Q$3:$T$79,2,FALSE))","v":""},{"$f":"IF(E257=\"\",\"\",VLOOKUP($E257,List_Process!$Q$3:$T$79,3,FALSE))","v":""},{"$f":"IF(E257=\"\",\"\",VLOOKUP($E257,List_Process!$Q$3:$T$79,4,FALSE))","v":""}]
[null,{"$f":"IF(E258=\"\",\"\",VLOOKUP($E258,List_Process!$Q$3:$T$79,2,FALSE))","v":""},{"$f":"IF(E258=\"\",\"\",VLOOKUP($E258,List_Process!$Q$3:$T$79,3,FALSE))","v":""},{"$f":"IF(E258=\"\",\"\",VLOOKUP($E258,List_Process!$Q$3:$T$79,4,FALSE))","v":""}]
[null,{"$f":"IF(E259=\"\",\"\",VLOOKUP($E259,List_Process!$Q$3:$T$79,2,FALSE))","v":""},{"$f":"IF(E259=\"\",\"\",VLOOKUP($E259,List_Process!$Q$3:$T$79,3,FALSE))","v":""},{"$f":"IF(E259=\"\",\"\",VLOOKUP($E259,List_Process!$Q$3:$T$79,4,FALSE))","v":""}]
[null,{"$f":"IF(E260=\"\",\"\",VLOOKUP($E260,List_Process!$Q$3:$T$79,2,FALSE))","v":""},{"$f":"IF(E260=\"\",\"\",VLOOKUP($E260,List_Process!$Q$3:$T$79,3,FALSE))","v":""},{"$f":"IF(E260=\"\",\"\",VLOOKUP($E260,List_Process!$Q$3:$T$79,4,FALSE))","v":""}]
[null,{"$f":"IF(E261=\"\",\"\",VLOOKUP($E261,List_Process!$Q$3:$T$79,2,FALSE))","v":""},{"$f":"IF(E261=\"\",\"\",VLOOKUP($E261,List_Process!$Q$3:$T$79,3,FALSE))","v":""},{"$f":"IF(E261=\"\",\"\",VLOOKUP($E261,List_Process!$Q$3:$T$79,4,FALSE))","v":""}]
[null,{"$f":"IF(E262=\"\",\"\",VLOOKUP($E262,List_Process!$Q$3:$T$79,2,FALSE))","v":""},{"$f":"IF(E262=\"\",\"\",VLOOKUP($E262,List_Process!$Q$3:$T$79,3,FALSE))","v":""},{"$f":"IF(E262=\"\",\"\",VLOOKUP($E262,List_Process!$Q$3:$T$79,4,FALSE))","v":""}]
[null,{"$f":"IF(E263=\"\",\"\",VLOOKUP($E263,List_Process!$Q$3:$T$79,2,FALSE))","v":""},{"$f":"IF(E263=\"\",\"\",VLOOKUP($E263,List_Process!$Q$3:$T$79,3,FALSE))","v":""},{"$f":"IF(E263=\"\",\"\",VLOOKUP($E263,List_Process!$Q$3:$T$79,4,FALSE))","v":""}]
[null,{"$f":"IF(E264=\"\",\"\",VLOOKUP($E264,List_Process!$Q$3:$T$79,2,FALSE))","v":""},{"$f":"IF(E264=\"\",\"\",VLOOKUP($E264,List_Process!$Q$3:$T$79,3,FALSE))","v":""},{"$f":"IF(E264=\"\",\"\",VLOOKUP($E264,List_Process!$Q$3:$T$79,4,FALSE))","v":""}]
[null,{"$f":"IF(E265=\"\",\"\",VLOOKUP($E265,List_Process!$Q$3:$T$79,2,FALSE))","v":""},{"$f":"IF(E265=\"\",\"\",VLOOKUP($E265,List_Process!$Q$3:$T$79,3,FALSE))","v":""},{"$f":"IF(E265=\"\",\"\",VLOOKUP($E265,List_Process!$Q$3:$T$79,4,FALSE))","v":""}]
[null,{"$f":"IF(E266=\"\",\"\",VLOOKUP($E266,List_Process!$Q$3:$T$79,2,FALSE))","v":""},{"$f":"IF(E266=\"\",\"\",VLOOKUP($E266,List_Process!$Q$3:$T$79,3,FALSE))","v":""},{"$f":"IF(E266=\"\",\"\",VLOOKUP($E266,List_Process!$Q$3:$T$79,4,FALSE))","v":""}]
[null,{"$f":"IF(E267=\"\",\"\",VLOOKUP($E267,List_Process!$Q$3:$T$79,2,FALSE))","v":""},{"$f":"IF(E267=\"\",\"\",VLOOKUP($E267,List_Process!$Q$3:$T$79,3,FALSE))","v":""},{"$f":"IF(E267=\"\",\"\",VLOOKUP($E267,List_Process!$Q$3:$T$79,4,FALSE))","v":""}]
[null,{"$f":"IF(E268=\"\",\"\",VLOOKUP($E268,List_Process!$Q$3:$T$79,2,FALSE))","v":""},{"$f":"IF(E268=\"\",\"\",VLOOKUP($E268,List_Process!$Q$3:$T$79,3,FALSE))","v":""},{"$f":"IF(E268=\"\",\"\",VLOOKUP($E268,List_Process!$Q$3:$T$79,4,FALSE))","v":""}]
[null,{"$f":"IF(E269=\"\",\"\",VLOOKUP($E269,List_Process!$Q$3:$T$79,2,FALSE))","v":""},{"$f":"IF(E269=\"\",\"\",VLOOKUP($E269,List_Process!$Q$3:$T$79,3,FALSE))","v":""},{"$f":"IF(E269=\"\",\"\",VLOOKUP($E269,List_Process!$Q$3:$T$79,4,FALSE))","v":""}]
[null,{"$f":"IF(E270=\"\",\"\",VLOOKUP($E270,List_Process!$Q$3:$T$79,2,FALSE))","v":""},{"$f":"IF(E270=\"\",\"\",VLOOKUP($E270,List_Process!$Q$3:$T$79,3,FALSE))","v":""},{"$f":"IF(E270=\"\",\"\",VLOOKUP($E270,List_Process!$Q$3:$T$79,4,FALSE))","v":""}]
[null,{"$f":"IF(E271=\"\",\"\",VLOOKUP($E271,List_Process!$Q$3:$T$79,2,FALSE))","v":""},{"$f":"IF(E271=\"\",\"\",VLOOKUP($E271,List_Process!$Q$3:$T$79,3,FALSE))","v":""},{"$f":"IF(E271=\"\",\"\",VLOOKUP($E271,List_Process!$Q$3:$T$79,4,FALSE))","v":""}]
[null,{"$f":"IF(E272=\"\",\"\",VLOOKUP($E272,List_Process!$Q$3:$T$79,2,FALSE))","v":""},{"$f":"IF(E272=\"\",\"\",VLOOKUP($E272,List_Process!$Q$3:$T$79,3,FALSE))","v":""},{"$f":"IF(E272=\"\",\"\",VLOOKUP($E272,List_Process!$Q$3:$T$79,4,FALSE))","v":""}]
[null,{"$f":"IF(E273=\"\",\"\",VLOOKUP($E273,List_Process!$Q$3:$T$79,2,FALSE))","v":""},{"$f":"IF(E273=\"\",\"\",VLOOKUP($E273,List_Process!$Q$3:$T$79,3,FALSE))","v":""},{"$f":"IF(E273=\"\",\"\",VLOOKUP($E273,List_Process!$Q$3:$T$79,4,FALSE))","v":""}]
[null,{"$f":"IF(E274=\"\",\"\",VLOOKUP($E274,List_Process!$Q$3:$T$79,2,FALSE))","v":""},{"$f":"IF(E274=\"\",\"\",VLOOKUP($E274,List_Process!$Q$3:$T$79,3,FALSE))","v":""},{"$f":"IF(E274=\"\",\"\",VLOOKUP($E274,List_Process!$Q$3:$T$79,4,FALSE))","v":""}]
[null,{"$f":"IF(E275=\"\",\"\",VLOOKUP($E275,List_Process!$Q$3:$T$79,2,FALSE))","v":""},{"$f":"IF(E275=\"\",\"\",VLOOKUP($E275,List_Process!$Q$3:$T$79,3,FALSE))","v":""},{"$f":"IF(E275=\"\",\"\",VLOOKUP($E275,List_Process!$Q$3:$T$79,4,FALSE))","v":""}]
[null,{"$f":"IF(E276=\"\",\"\",VLOOKUP($E276,List_Process!$Q$3:$T$79,2,FALSE))","v":""},{"$f":"IF(E276=\"\",\"\",VLOOKUP($E276,List_Process!$Q$3:$T$79,3,FALSE))","v":""},{"$f":"IF(E276=\"\",\"\",VLOOKUP($E276,List_Process!$Q$3:$T$79,4,FALSE))","v":""}]
[null,{"$f":"IF(E277=\"\",\"\",VLOOKUP($E277,List_Process!$Q$3:$T$79,2,FALSE))","v":""},{"$f":"IF(E277=\"\",\"\",VLOOKUP($E277,List_Process!$Q$3:$T$79,3,FALSE))","v":""},{"$f":"IF(E277=\"\",\"\",VLOOKUP($E277,List_Process!$Q$3:$T$79,4,FALSE))","v":""}]
[null,{"$f":"IF(E278=\"\",\"\",VLOOKUP($E278,List_Process!$Q$3:$T$79,2,FALSE))","v":""},{"$f":"IF(E278=\"\",\"\",VLOOKUP($E278,List_Process!$Q$3:$T$79,3,FALSE))","v":""},{"$f":"IF(E278=\"\",\"\",VLOOKUP($E278,List_Process!$Q$3:$T$79,4,FALSE))","v":""}]
[null,{"$f":"IF(E279=\"\",\"\",VLOOKUP($E279,List_Process!$Q$3:$T$79,2,FALSE))","v":""},{"$f":"IF(E279=\"\",\"\",VLOOKUP($E279,List_Process!$Q$3:$T$79,3,FALSE))","v":""},{"$f":"IF(E279=\"\",\"\",VLOOKUP($E279,List_Process!$Q$3:$T$79,4,FALSE))","v":""}]
[null,{"$f":"IF(E280=\"\",\"\",VLOOKUP($E280,List_Process!$Q$3:$T$79,2,FALSE))","v":""},{"$f":"IF(E280=\"\",\"\",VLOOKUP($E280,List_Process!$Q$3:$T$79,3,FALSE))","v":""},{"$f":"IF(E280=\"\",\"\",VLOOKUP($E280,List_Process!$Q$3:$T$79,4,FALSE))","v":""}]
[null,{"$f":"IF(E281=\"\",\"\",VLOOKUP($E281,List_Process!$Q$3:$T$79,2,FALSE))","v":""},{"$f":"IF(E281=\"\",\"\",VLOOKUP($E281,List_Process!$Q$3:$T$79,3,FALSE))","v":""},{"$f":"IF(E281=\"\",\"\",VLOOKUP($E281,List_Process!$Q$3:$T$79,4,FALSE))","v":""}]
[null,{"$f":"IF(E282=\"\",\"\",VLOOKUP($E282,List_Process!$Q$3:$T$79,2,FALSE))","v":""},{"$f":"IF(E282=\"\",\"\",VLOOKUP($E282,List_Process!$Q$3:$T$79,3,FALSE))","v":""},{"$f":"IF(E282=\"\",\"\",VLOOKUP($E282,List_Process!$Q$3:$T$79,4,FALSE))","v":""}]
[null,{"$f":"IF(E283=\"\",\"\",VLOOKUP($E283,List_Process!$Q$3:$T$79,2,FALSE))","v":""},{"$f":"IF(E283=\"\",\"\",VLOOKUP($E283,List_Process!$Q$3:$T$79,3,FALSE))","v":""},{"$f":"IF(E283=\"\",\"\",VLOOKUP($E283,List_Process!$Q$3:$T$79,4,FALSE))","v":""}]
[null,{"$f":"IF(E284=\"\",\"\",VLOOKUP($E284,List_Process!$Q$3:$T$79,2,FALSE))","v":""},{"$f":"IF(E284=\"\",\"\",VLOOKUP($E284,List_Process!$Q$3:$T$79,3,FALSE))","v":""},{"$f":"IF(E284=\"\",\"\",VLOOKUP($E284,List_Process!$Q$3:$T$79,4,FALSE))","v":""}]
[null,{"$f":"IF(E285=\"\",\"\",VLOOKUP($E285,List_Process!$Q$3:$T$79,2,FALSE))","v":""},{"$f":"IF(E285=\"\",\"\",VLOOKUP($E285,List_Process!$Q$3:$T$79,3,FALSE))","v":""},{"$f":"IF(E285=\"\",\"\",VLOOKUP($E285,List_Process!$Q$3:$T$79,4,FALSE))","v":""}]
[null,{"$f":"IF(E286=\"\",\"\",VLOOKUP($E286,List_Process!$Q$3:$T$79,2,FALSE))","v":""},{"$f":"IF(E286=\"\",\"\",VLOOKUP($E286,List_Process!$Q$3:$T$79,3,FALSE))","v":""},{"$f":"IF(E286=\"\",\"\",VLOOKUP($E286,List_Process!$Q$3:$T$79,4,FALSE))","v":""}]
[null,{"$f":"IF(E287=\"\",\"\",VLOOKUP($E287,List_Process!$Q$3:$T$79,2,FALSE))","v":""},{"$f":"IF(E287=\"\",\"\",VLOOKUP($E287,List_Process!$Q$3:$T$79,3,FALSE))","v":""},{"$f":"IF(E287=\"\",\"\",VLOOKUP($E287,List_Process!$Q$3:$T$79,4,FALSE))","v":""}]
[null,{"$f":"IF(E288=\"\",\"\",VLOOKUP($E288,List_Process!$Q$3:$T$79,2,FALSE))","v":""},{"$f":"IF(E288=\"\",\"\",VLOOKUP($E288,List_Process!$Q$3:$T$79,3,FALSE))","v":""},{"$f":"IF(E288=\"\",\"\",VLOOKUP($E288,List_Process!$Q$3:$T$79,4,FALSE))","v":""}]
[null,{"$f":"IF(E289=\"\",\"\",VLOOKUP($E289,List_Process!$Q$3:$T$79,2,FALSE))","v":""},{"$f":"IF(E289=\"\",\"\",VLOOKUP($E289,List_Process!$Q$3:$T$79,3,FALSE))","v":""},{"$f":"IF(E289=\"\",\"\",VLOOKUP($E289,List_Process!$Q$3:$T$79,4,FALSE))","v":""}]
[null,{"$f":"IF(E290=\"\",\"\",VLOOKUP($E290,List_Process!$Q$3:$T$79,2,FALSE))","v":""},{"$f":"IF(E290=\"\",\"\",VLOOKUP($E290,List_Process!$Q$3:$T$79,3,FALSE))","v":""},{"$f":"IF(E290=\"\",\"\",VLOOKUP($E290,List_Process!$Q$3:$T$79,4,FALSE))","v":""}]
[null,{"$f":"IF(E291=\"\",\"\",VLOOKUP($E291,List_Process!$Q$3:$T$79,2,FALSE))","v":""},{"$f":"IF(E291=\"\",\"\",VLOOKUP($E291,List_Process!$Q$3:$T$79,3,FALSE))","v":""},{"$f":"IF(E291=\"\",\"\",VLOOKUP($E291,List_Process!$Q$3:$T$79,4,FALSE))","v":""}]
[null,{"$f":"IF(E292=\"\",\"\",VLOOKUP($E292,List_Process!$Q$3:$T$79,2,FALSE))","v":""},{"$f":"IF(E292=\"\",\"\",VLOOKUP($E292,List_Process!$Q$3:$T$79,3,FALSE))","v":""},{"$f":"IF(E292=\"\",\"\",VLOOKUP($E292,List_Process!$Q$3:$T$79,4,FALSE))","v":""}]
[null,{"$f":"IF(E293=\"\",\"\",VLOOKUP($E293,List_Process!$Q$3:$T$79,2,FALSE))","v":""},{"$f":"IF(E293=\"\",\"\",VLOOKUP($E293,List_Process!$Q$3:$T$79,3,FALSE))","v":""},{"$f":"IF(E293=\"\",\"\",VLOOKUP($E293,List_Process!$Q$3:$T$79,4,FALSE))","v":""}]
[null,{"$f":"IF(E294=\"\",\"\",VLOOKUP($E294,List_Process!$Q$3:$T$79,2,FALSE))","v":""},{"$f":"IF(E294=\"\",\"\",VLOOKUP($E294,List_Process!$Q$3:$T$79,3,FALSE))","v":""},{"$f":"IF(E294=\"\",\"\",VLOOKUP($E294,List_Process!$Q$3:$T$79,4,FALSE))","v":""}]
[null,{"$f":"IF(E295=\"\",\"\",VLOOKUP($E295,List_Process!$Q$3:$T$79,2,FALSE))","v":""},{"$f":"IF(E295=\"\",\"\",VLOOKUP($E295,List_Process!$Q$3:$T$79,3,FALSE))","v":""},{"$f":"IF(E295=\"\",\"\",VLOOKUP($E295,List_Process!$Q$3:$T$79,4,FALSE))","v":""}]
[null,{"$f":"IF(E296=\"\",\"\",VLOOKUP($E296,List_Process!$Q$3:$T$79,2,FALSE))","v":""},{"$f":"IF(E296=\"\",\"\",VLOOKUP($E296,List_Process!$Q$3:$T$79,3,FALSE))","v":""},{"$f":"IF(E296=\"\",\"\",VLOOKUP($E296,List_Process!$Q$3:$T$79,4,FALSE))","v":""}]
[null,{"$f":"IF(E297=\"\",\"\",VLOOKUP($E297,List_Process!$Q$3:$T$79,2,FALSE))","v":""},{"$f":"IF(E297=\"\",\"\",VLOOKUP($E297,List_Process!$Q$3:$T$79,3,FALSE))","v":""},{"$f":"IF(E297=\"\",\"\",VLOOKUP($E297,List_Process!$Q$3:$T$79,4,FALSE))","v":""}]
[null,{"$f":"IF(E298=\"\",\"\",VLOOKUP($E298,List_Process!$Q$3:$T$79,2,FALSE))","v":""},{"$f":"IF(E298=\"\",\"\",VLOOKUP($E298,List_Process!$Q$3:$T$79,3,FALSE))","v":""},{"$f":"IF(E298=\"\",\"\",VLOOKUP($E298,List_Process!$Q$3:$T$79,4,FALSE))","v":""}]
[null,{"$f":"IF(E299=\"\",\"\",VLOOKUP($E299,List_Process!$Q$3:$T$79,2,FALSE))","v":""},{"$f":"IF(E299=\"\",\"\",VLOOKUP($E299,List_Process!$Q$3:$T$79,3,FALSE))","v":""},{"$f":"IF(E299=\"\",\"\",VLOOKUP($E299,List_Process!$Q$3:$T$79,4,FALSE))","v":""}]
[null,{"$f":"IF(E300=\"\",\"\",VLOOKUP($E300,List_Process!$Q$3:$T$79,2,FALSE))","v":""},{"$f":"IF(E300=\"\",\"\",VLOOKUP($E300,List_Process!$Q$3:$T$79,3,FALSE))","v":""},{"$f":"IF(E300=\"\",\"\",VLOOKUP($E300,List_Process!$Q$3:$T$79,4,FALSE))","v":""}]
[null,{"$f":"IF(E301=\"\",\"\",VLOOKUP($E301,List_Process!$Q$3:$T$79,2,FALSE))","v":""},{"$f":"IF(E301=\"\",\"\",VLOOKUP($E301,List_Process!$Q$3:$T$79,3,FALSE))","v":""},{"$f":"IF(E301=\"\",\"\",VLOOKUP($E301,List_Process!$Q$3:$T$79,4,FALSE))","v":""}]
[null,{"$f":"IF(E302=\"\",\"\",VLOOKUP($E302,List_Process!$Q$3:$T$79,2,FALSE))","v":""},{"$f":"IF(E302=\"\",\"\",VLOOKUP($E302,List_Process!$Q$3:$T$79,3,FALSE))","v":""},{"$f":"IF(E302=\"\",\"\",VLOOKUP($E302,List_Process!$Q$3:$T$79,4,FALSE))","v":""}]
[null,{"$f":"IF(E303=\"\",\"\",VLOOKUP($E303,List_Process!$Q$3:$T$79,2,FALSE))","v":""},{"$f":"IF(E303=\"\",\"\",VLOOKUP($E303,List_Process!$Q$3:$T$79,3,FALSE))","v":""},{"$f":"IF(E303=\"\",\"\",VLOOKUP($E303,List_Process!$Q$3:$T$79,4,FALSE))","v":""}]
[null,{"$f":"IF(E304=\"\",\"\",VLOOKUP($E304,List_Process!$Q$3:$T$79,2,FALSE))","v":""},{"$f":"IF(E304=\"\",\"\",VLOOKUP($E304,List_Process!$Q$3:$T$79,3,FALSE))","v":""},{"$f":"IF(E304=\"\",\"\",VLOOKUP($E304,List_Process!$Q$3:$T$79,4,FALSE))","v":""}]
[null,{"$f":"IF(E305=\"\",\"\",VLOOKUP($E305,List_Process!$Q$3:$T$79,2,FALSE))","v":""},{"$f":"IF(E305=\"\",\"\",VLOOKUP($E305,List_Process!$Q$3:$T$79,3,FALSE))","v":""},{"$f":"IF(E305=\"\",\"\",VLOOKUP($E305,List_Process!$Q$3:$T$79,4,FALSE))","v":""}]
[null,{"$f":"IF(E306=\"\",\"\",VLOOKUP($E306,List_Process!$Q$3:$T$79,2,FALSE))","v":""},{"$f":"IF(E306=\"\",\"\",VLOOKUP($E306,List_Process!$Q$3:$T$79,3,FALSE))","v":""},{"$f":"IF(E306=\"\",\"\",VLOOKUP($E306,List_Process!$Q$3:$T$79,4,FALSE))","v":""}]
[null,{"$f":"IF(E307=\"\",\"\",VLOOKUP($E307,List_Process!$Q$3:$T$79,2,FALSE))","v":""},{"$f":"IF(E307=\"\",\"\",VLOOKUP($E307,List_Process!$Q$3:$T$79,3,FALSE))","v":""},{"$f":"IF(E307=\"\",\"\",VLOOKUP($E307,List_Process!$Q$3:$T$79,4,FALSE))","v":""}]
[null,{"$f":"IF(E308=\"\",\"\",VLOOKUP($E308,List_Process!$Q$3:$T$79,2,FALSE))","v":""},{"$f":"IF(E308=\"\",\"\",VLOOKUP($E308,List_Process!$Q$3:$T$79,3,FALSE))","v":""},{"$f":"IF(E308=\"\",\"\",VLOOKUP($E308,List_Process!$Q$3:$T$79,4,FALSE))","v":""}]
[null,{"$f":"IF(E309=\"\",\"\",VLOOKUP($E309,List_Process!$Q$3:$T$79,2,FALSE))","v":""},{"$f":"IF(E309=\"\",\"\",VLOOKUP($E309,List_Process!$Q$3:$T$79,3,FALSE))","v":""},{"$f":"IF(E309=\"\",\"\",VLOOKUP($E309,List_Process!$Q$3:$T$79,4,FALSE))","v":""}]
[null,{"$f":"IF(E310=\"\",\"\",VLOOKUP($E310,List_Process!$Q$3:$T$79,2,FALSE))","v":""},{"$f":"IF(E310=\"\",\"\",VLOOKUP($E310,List_Process!$Q$3:$T$79,3,FALSE))","v":""},{"$f":"IF(E310=\"\",\"\",VLOOKUP($E310,List_Process!$Q$3:$T$79,4,FALSE))","v":""}]
[null,{"$f":"IF(E311=\"\",\"\",VLOOKUP($E311,List_Process!$Q$3:$T$79,2,FALSE))","v":""},{"$f":"IF(E311=\"\",\"\",VLOOKUP($E311,List_Process!$Q$3:$T$79,3,FALSE))","v":""},{"$f":"IF(E311=\"\",\"\",VLOOKUP($E311,List_Process!$Q$3:$T$79,4,FALSE))","v":""}]
[null,{"$f":"IF(E312=\"\",\"\",VLOOKUP($E312,List_Process!$Q$3:$T$79,2,FALSE))","v":""},{"$f":"IF(E312=\"\",\"\",VLOOKUP($E312,List_Process!$Q$3:$T$79,3,FALSE))","v":""},{"$f":"IF(E312=\"\",\"\",VLOOKUP($E312,List_Process!$Q$3:$T$79,4,FALSE))","v":""}]
[null,{"$f":"IF(E313=\"\",\"\",VLOOKUP($E313,List_Process!$Q$3:$T$79,2,FALSE))","v":""},{"$f":"IF(E313=\"\",\"\",VLOOKUP($E313,List_Process!$Q$3:$T$79,3,FALSE))","v":""},{"$f":"IF(E313=\"\",\"\",VLOOKUP($E313,List_Process!$Q$3:$T$79,4,FALSE))","v":""}]
[null,{"$f":"IF(E314=\"\",\"\",VLOOKUP($E314,List_Process!$Q$3:$T$79,2,FALSE))","v":""},{"$f":"IF(E314=\"\",\"\",VLOOKUP($E314,List_Process!$Q$3:$T$79,3,FALSE))","v":""},{"$f":"IF(E314=\"\",\"\",VLOOKUP($E314,List_Process!$Q$3:$T$79,4,FALSE))","v":""}]
[null,{"$f":"IF(E315=\"\",\"\",VLOOKUP($E315,List_Process!$Q$3:$T$79,2,FALSE))","v":""},{"$f":"IF(E315=\"\",\"\",VLOOKUP($E315,List_Process!$Q$3:$T$79,3,FALSE))","v":""},{"$f":"IF(E315=\"\",\"\",VLOOKUP($E315,List_Process!$Q$3:$T$79,4,FALSE))","v":""}]
[null,{"$f":"IF(E316=\"\",\"\",VLOOKUP($E316,List_Process!$Q$3:$T$79,2,FALSE))","v":""},{"$f":"IF(E316=\"\",\"\",VLOOKUP($E316,List_Process!$Q$3:$T$79,3,FALSE))","v":""},{"$f":"IF(E316=\"\",\"\",VLOOKUP($E316,List_Process!$Q$3:$T$79,4,FALSE))","v":""}]
[null,{"$f":"IF(E317=\"\",\"\",VLOOKUP($E317,List_Process!$Q$3:$T$79,2,FALSE))","v":""},{"$f":"IF(E317=\"\",\"\",VLOOKUP($E317,List_Process!$Q$3:$T$79,3,FALSE))","v":""},{"$f":"IF(E317=\"\",\"\",VLOOKUP($E317,List_Process!$Q$3:$T$79,4,FALSE))","v":""}]
[null,{"$f":"IF(E318=\"\",\"\",VLOOKUP($E318,List_Process!$Q$3:$T$79,2,FALSE))","v":""},{"$f":"IF(E318=\"\",\"\",VLOOKUP($E318,List_Process!$Q$3:$T$79,3,FALSE))","v":""},{"$f":"IF(E318=\"\",\"\",VLOOKUP($E318,List_Process!$Q$3:$T$79,4,FALSE))","v":""}]
[null,{"$f":"IF(E319=\"\",\"\",VLOOKUP($E319,List_Process!$Q$3:$T$79,2,FALSE))","v":""},{"$f":"IF(E319=\"\",\"\",VLOOKUP($E319,List_Process!$Q$3:$T$79,3,FALSE))","v":""},{"$f":"IF(E319=\"\",\"\",VLOOKUP($E319,List_Process!$Q$3:$T$79,4,FALSE))","v":""}]
[null,{"$f":"IF(E320=\"\",\"\",VLOOKUP($E320,List_Process!$Q$3:$T$79,2,FALSE))","v":""},{"$f":"IF(E320=\"\",\"\",VLOOKUP($E320,List_Process!$Q$3:$T$79,3,FALSE))","v":""},{"$f":"IF(E320=\"\",\"\",VLOOKUP($E320,List_Process!$Q$3:$T$79,4,FALSE))","v":""}]
[null,{"$f":"IF(E321=\"\",\"\",VLOOKUP($E321,List_Process!$Q$3:$T$79,2,FALSE))","v":""},{"$f":"IF(E321=\"\",\"\",VLOOKUP($E321,List_Process!$Q$3:$T$79,3,FALSE))","v":""},{"$f":"IF(E321=\"\",\"\",VLOOKUP($E321,List_Process!$Q$3:$T$79,4,FALSE))","v":""}]
[null,{"$f":"IF(E322=\"\",\"\",VLOOKUP($E322,List_Process!$Q$3:$T$79,2,FALSE))","v":""},{"$f":"IF(E322=\"\",\"\",VLOOKUP($E322,List_Process!$Q$3:$T$79,3,FALSE))","v":""},{"$f":"IF(E322=\"\",\"\",VLOOKUP($E322,List_Process!$Q$3:$T$79,4,FALSE))","v":""}]
[null,{"$f":"IF(E323=\"\",\"\",VLOOKUP($E323,List_Process!$Q$3:$T$79,2,FALSE))","v":""},{"$f":"IF(E323=\"\",\"\",VLOOKUP($E323,List_Process!$Q$3:$T$79,3,FALSE))","v":""},{"$f":"IF(E323=\"\",\"\",VLOOKUP($E323,List_Process!$Q$3:$T$79,4,FALSE))","v":""}]
[null,{"$f":"IF(E324=\"\",\"\",VLOOKUP($E324,List_Process!$Q$3:$T$79,2,FALSE))","v":""},{"$f":"IF(E324=\"\",\"\",VLOOKUP($E324,List_Process!$Q$3:$T$79,3,FALSE))","v":""},{"$f":"IF(E324=\"\",\"\",VLOOKUP($E324,List_Process!$Q$3:$T$79,4,FALSE))","v":""}]
[null,{"$f":"IF(E325=\"\",\"\",VLOOKUP($E325,List_Process!$Q$3:$T$79,2,FALSE))","v":""},{"$f":"IF(E325=\"\",\"\",VLOOKUP($E325,List_Process!$Q$3:$T$79,3,FALSE))","v":""},{"$f":"IF(E325=\"\",\"\",VLOOKUP($E325,List_Process!$Q$3:$T$79,4,FALSE))","v":""}]
[null,{"$f":"IF(E326=\"\",\"\",VLOOKUP($E326,List_Process!$Q$3:$T$79,2,FALSE))","v":""},{"$f":"IF(E326=\"\",\"\",VLOOKUP($E326,List_Process!$Q$3:$T$79,3,FALSE))","v":""},{"$f":"IF(E326=\"\",\"\",VLOOKUP($E326,List_Process!$Q$3:$T$79,4,FALSE))","v":""}]
[null,{"$f":"IF(E327=\"\",\"\",VLOOKUP($E327,List_Process!$Q$3:$T$79,2,FALSE))","v":""},{"$f":"IF(E327=\"\",\"\",VLOOKUP($E327,List_Process!$Q$3:$T$79,3,FALSE))","v":""},{"$f":"IF(E327=\"\",\"\",VLOOKUP($E327,List_Process!$Q$3:$T$79,4,FALSE))","v":""}]
[null,{"$f":"IF(E328=\"\",\"\",VLOOKUP($E328,List_Process!$Q$3:$T$79,2,FALSE))","v":""},{"$f":"IF(E328=\"\",\"\",VLOOKUP($E328,List_Process!$Q$3:$T$79,3,FALSE))","v":""},{"$f":"IF(E328=\"\",\"\",VLOOKUP($E328,List_Process!$Q$3:$T$79,4,FALSE))","v":""}]
[null,{"$f":"IF(E329=\"\",\"\",VLOOKUP($E329,List_Process!$Q$3:$T$79,2,FALSE))","v":""},{"$f":"IF(E329=\"\",\"\",VLOOKUP($E329,List_Process!$Q$3:$T$79,3,FALSE))","v":""},{"$f":"IF(E329=\"\",\"\",VLOOKUP($E329,List_Process!$Q$3:$T$79,4,FALSE))","v":""}]
[null,{"$f":"IF(E330=\"\",\"\",VLOOKUP($E330,List_Process!$Q$3:$T$79,2,FALSE))","v":""},{"$f":"IF(E330=\"\",\"\",VLOOKUP($E330,List_Process!$Q$3:$T$79,3,FALSE))","v":""},{"$f":"IF(E330=\"\",\"\",VLOOKUP($E330,List_Process!$Q$3:$T$79,4,FALSE))","v":""}]
[null,{"$f":"IF(E331=\"\",\"\",VLOOKUP($E331,List_Process!$Q$3:$T$79,2,FALSE))","v":""},{"$f":"IF(E331=\"\",\"\",VLOOKUP($E331,List_Process!$Q$3:$T$79,3,FALSE))","v":""},{"$f":"IF(E331=\"\",\"\",VLOOKUP($E331,List_Process!$Q$3:$T$79,4,FALSE))","v":""}]
[null,{"$f":"IF(E332=\"\",\"\",VLOOKUP($E332,List_Process!$Q$3:$T$79,2,FALSE))","v":""},{"$f":"IF(E332=\"\",\"\",VLOOKUP($E332,List_Process!$Q$3:$T$79,3,FALSE))","v":""},{"$f":"IF(E332=\"\",\"\",VLOOKUP($E332,List_Process!$Q$3:$T$79,4,FALSE))","v":""}]
[null,{"$f":"IF(E333=\"\",\"\",VLOOKUP($E333,List_Process!$Q$3:$T$79,2,FALSE))","v":""},{"$f":"IF(E333=\"\",\"\",VLOOKUP($E333,List_Process!$Q$3:$T$79,3,FALSE))","v":""},{"$f":"IF(E333=\"\",\"\",VLOOKUP($E333,List_Process!$Q$3:$T$79,4,FALSE))","v":""}]
[null,{"$f":"IF(E334=\"\",\"\",VLOOKUP($E334,List_Process!$Q$3:$T$79,2,FALSE))","v":""},{"$f":"IF(E334=\"\",\"\",VLOOKUP($E334,List_Process!$Q$3:$T$79,3,FALSE))","v":""},{"$f":"IF(E334=\"\",\"\",VLOOKUP($E334,List_Process!$Q$3:$T$79,4,FALSE))","v":""}]
[null,{"$f":"IF(E335=\"\",\"\",VLOOKUP($E335,List_Process!$Q$3:$T$79,2,FALSE))","v":""},{"$f":"IF(E335=\"\",\"\",VLOOKUP($E335,List_Process!$Q$3:$T$79,3,FALSE))","v":""},{"$f":"IF(E335=\"\",\"\",VLOOKUP($E335,List_Process!$Q$3:$T$79,4,FALSE))","v":""}]
[null,{"$f":"IF(E336=\"\",\"\",VLOOKUP($E336,List_Process!$Q$3:$T$79,2,FALSE))","v":""},{"$f":"IF(E336=\"\",\"\",VLOOKUP($E336,List_Process!$Q$3:$T$79,3,FALSE))","v":""},{"$f":"IF(E336=\"\",\"\",VLOOKUP($E336,List_Process!$Q$3:$T$79,4,FALSE))","v":""}]
[null,{"$f":"IF(E337=\"\",\"\",VLOOKUP($E337,List_Process!$Q$3:$T$79,2,FALSE))","v":""},{"$f":"IF(E337=\"\",\"\",VLOOKUP($E337,List_Process!$Q$3:$T$79,3,FALSE))","v":""},{"$f":"IF(E337=\"\",\"\",VLOOKUP($E337,List_Process!$Q$3:$T$79,4,FALSE))","v":""}]
[null,{"$f":"IF(E338=\"\",\"\",VLOOKUP($E338,List_Process!$Q$3:$T$79,2,FALSE))","v":""},{"$f":"IF(E338=\"\",\"\",VLOOKUP($E338,List_Process!$Q$3:$T$79,3,FALSE))","v":""},{"$f":"IF(E338=\"\",\"\",VLOOKUP($E338,List_Process!$Q$3:$T$79,4,FALSE))","v":""}]
[null,{"$f":"IF(E339=\"\",\"\",VLOOKUP($E339,List_Process!$Q$3:$T$79,2,FALSE))","v":""},{"$f":"IF(E339=\"\",\"\",VLOOKUP($E339,List_Process!$Q$3:$T$79,3,FALSE))","v":""},{"$f":"IF(E339=\"\",\"\",VLOOKUP($E339,List_Process!$Q$3:$T$79,4,FALSE))","v":""}]
[null,{"$f":"IF(E340=\"\",\"\",VLOOKUP($E340,List_Process!$Q$3:$T$79,2,FALSE))","v":""},{"$f":"IF(E340=\"\",\"\",VLOOKUP($E340,List_Process!$Q$3:$T$79,3,FALSE))","v":""},{"$f":"IF(E340=\"\",\"\",VLOOKUP($E340,List_Process!$Q$3:$T$79,4,FALSE))","v":""}]
[null,{"$f":"IF(E341=\"\",\"\",VLOOKUP($E341,List_Process!$Q$3:$T$79,2,FALSE))","v":""},{"$f":"IF(E341=\"\",\"\",VLOOKUP($E341,List_Process!$Q$3:$T$79,3,FALSE))","v":""},{"$f":"IF(E341=\"\",\"\",VLOOKUP($E341,List_Process!$Q$3:$T$79,4,FALSE))","v":""}]
[null,{"$f":"IF(E342=\"\",\"\",VLOOKUP($E342,List_Process!$Q$3:$T$79,2,FALSE))","v":""},{"$f":"IF(E342=\"\",\"\",VLOOKUP($E342,List_Process!$Q$3:$T$79,3,FALSE))","v":""},{"$f":"IF(E342=\"\",\"\",VLOOKUP($E342,List_Process!$Q$3:$T$79,4,FALSE))","v":""}]
[null,{"$f":"IF(E343=\"\",\"\",VLOOKUP($E343,List_Process!$Q$3:$T$79,2,FALSE))","v":""},{"$f":"IF(E343=\"\",\"\",VLOOKUP($E343,List_Process!$Q$3:$T$79,3,FALSE))","v":""},{"$f":"IF(E343=\"\",\"\",VLOOKUP($E343,List_Process!$Q$3:$T$79,4,FALSE))","v":""}]
[null,{"$f":"IF(E344=\"\",\"\",VLOOKUP($E344,List_Process!$Q$3:$T$79,2,FALSE))","v":""},{"$f":"IF(E344=\"\",\"\",VLOOKUP($E344,List_Process!$Q$3:$T$79,3,FALSE))","v":""},{"$f":"IF(E344=\"\",\"\",VLOOKUP($E344,List_Process!$Q$3:$T$79,4,FALSE))","v":""}]
[null,{"$f":"IF(E345=\"\",\"\",VLOOKUP($E345,List_Process!$Q$3:$T$79,2,FALSE))","v":""},{"$f":"IF(E345=\"\",\"\",VLOOKUP($E345,List_Process!$Q$3:$T$79,3,FALSE))","v":""},{"$f":"IF(E345=\"\",\"\",VLOOKUP($E345,List_Process!$Q$3:$T$79,4,FALSE))","v":""}]
[null,{"$f":"IF(E346=\"\",\"\",VLOOKUP($E346,List_Process!$Q$3:$T$79,2,FALSE))","v":""},{"$f":"IF(E346=\"\",\"\",VLOOKUP($E346,List_Process!$Q$3:$T$79,3,FALSE))","v":""},{"$f":"IF(E346=\"\",\"\",VLOOKUP($E346,List_Process!$Q$3:$T$79,4,FALSE))","v":""}]
[null,{"$f":"IF(E347=\"\",\"\",VLOOKUP($E347,List_Process!$Q$3:$T$79,2,FALSE))","v":""},{"$f":"IF(E347=\"\",\"\",VLOOKUP($E347,List_Process!$Q$3:$T$79,3,FALSE))","v":""},{"$f":"IF(E347=\"\",\"\",VLOOKUP($E347,List_Process!$Q$3:$T$79,4,FALSE))","v":""}]
[null,{"$f":"IF(E348=\"\",\"\",VLOOKUP($E348,List_Process!$Q$3:$T$79,2,FALSE))","v":""},{"$f":"IF(E348=\"\",\"\",VLOOKUP($E348,List_Process!$Q$3:$T$79,3,FALSE))","v":""},{"$f":"IF(E348=\"\",\"\",VLOOKUP($E348,List_Process!$Q$3:$T$79,4,FALSE))","v":""}]
[null,{"$f":"IF(E349=\"\",\"\",VLOOKUP($E349,List_Process!$Q$3:$T$79,2,FALSE))","v":""},{"$f":"IF(E349=\"\",\"\",VLOOKUP($E349,List_Process!$Q$3:$T$79,3,FALSE))","v":""},{"$f":"IF(E349=\"\",\"\",VLOOKUP($E349,List_Process!$Q$3:$T$79,4,FALSE))","v":""}]
[null,{"$f":"IF(E350=\"\",\"\",VLOOKUP($E350,List_Process!$Q$3:$T$79,2,FALSE))","v":""},{"$f":"IF(E350=\"\",\"\",VLOOKUP($E350,List_Process!$Q$3:$T$79,3,FALSE))","v":""},{"$f":"IF(E350=\"\",\"\",VLOOKUP($E350,List_Process!$Q$3:$T$79,4,FALSE))","v":""}]
[null,{"$f":"IF(E351=\"\",\"\",VLOOKUP($E351,List_Process!$Q$3:$T$79,2,FALSE))","v":""},{"$f":"IF(E351=\"\",\"\",VLOOKUP($E351,List_Process!$Q$3:$T$79,3,FALSE))","v":""},{"$f":"IF(E351=\"\",\"\",VLOOKUP($E351,List_Process!$Q$3:$T$79,4,FALSE))","v":""}]
[null,{"$f":"IF(E352=\"\",\"\",VLOOKUP($E352,List_Process!$Q$3:$T$79,2,FALSE))","v":""},{"$f":"IF(E352=\"\",\"\",VLOOKUP($E352,List_Process!$Q$3:$T$79,3,FALSE))","v":""},{"$f":"IF(E352=\"\",\"\",VLOOKUP($E352,List_Process!$Q$3:$T$79,4,FALSE))","v":""}]
[null,{"$f":"IF(E353=\"\",\"\",VLOOKUP($E353,List_Process!$Q$3:$T$79,2,FALSE))","v":""},{"$f":"IF(E353=\"\",\"\",VLOOKUP($E353,List_Process!$Q$3:$T$79,3,FALSE))","v":""},{"$f":"IF(E353=\"\",\"\",VLOOKUP($E353,List_Process!$Q$3:$T$79,4,FALSE))","v":""}]
[null,{"$f":"IF(E354=\"\",\"\",VLOOKUP($E354,List_Process!$Q$3:$T$79,2,FALSE))","v":""},{"$f":"IF(E354=\"\",\"\",VLOOKUP($E354,List_Process!$Q$3:$T$79,3,FALSE))","v":""},{"$f":"IF(E354=\"\",\"\",VLOOKUP($E354,List_Process!$Q$3:$T$79,4,FALSE))","v":""}]
[null,{"$f":"IF(E355=\"\",\"\",VLOOKUP($E355,List_Process!$Q$3:$T$79,2,FALSE))","v":""},{"$f":"IF(E355=\"\",\"\",VLOOKUP($E355,List_Process!$Q$3:$T$79,3,FALSE))","v":""},{"$f":"IF(E355=\"\",\"\",VLOOKUP($E355,List_Process!$Q$3:$T$79,4,FALSE))","v":""}]
[null,{"$f":"IF(E356=\"\",\"\",VLOOKUP($E356,List_Process!$Q$3:$T$79,2,FALSE))","v":""},{"$f":"IF(E356=\"\",\"\",VLOOKUP($E356,List_Process!$Q$3:$T$79,3,FALSE))","v":""},{"$f":"IF(E356=\"\",\"\",VLOOKUP($E356,List_Process!$Q$3:$T$79,4,FALSE))","v":""}]
[null,{"$f":"IF(E357=\"\",\"\",VLOOKUP($E357,List_Process!$Q$3:$T$79,2,FALSE))","v":""},{"$f":"IF(E357=\"\",\"\",VLOOKUP($E357,List_Process!$Q$3:$T$79,3,FALSE))","v":""},{"$f":"IF(E357=\"\",\"\",VLOOKUP($E357,List_Process!$Q$3:$T$79,4,FALSE))","v":""}]
[null,{"$f":"IF(E358=\"\",\"\",VLOOKUP($E358,List_Process!$Q$3:$T$79,2,FALSE))","v":""},{"$f":"IF(E358=\"\",\"\",VLOOKUP($E358,List_Process!$Q$3:$T$79,3,FALSE))","v":""},{"$f":"IF(E358=\"\",\"\",VLOOKUP($E358,List_Process!$Q$3:$T$79,4,FALSE))","v":""}]
[null,{"$f":"IF(E359=\"\",\"\",VLOOKUP($E359,List_Process!$Q$3:$T$79,2,FALSE))","v":""},{"$f":"IF(E359=\"\",\"\",VLOOKUP($E359,List_Process!$Q$3:$T$79,3,FALSE))","v":""},{"$f":"IF(E359=\"\",\"\",VLOOKUP($E359,List_Process!$Q$3:$T$79,4,FALSE))","v":""}]
[null,{"$f":"IF(E360=\"\",\"\",VLOOKUP($E360,List_Process!$Q$3:$T$79,2,FALSE))","v":""},{"$f":"IF(E360=\"\",\"\",VLOOKUP($E360,List_Process!$Q$3:$T$79,3,FALSE))","v":""},{"$f":"IF(E360=\"\",\"\",VLOOKUP($E360,List_Process!$Q$3:$T$79,4,FALSE))","v":""}]
[null,{"$f":"IF(E361=\"\",\"\",VLOOKUP($E361,List_Process!$Q$3:$T$79,2,FALSE))","v":""},{"$f":"IF(E361=\"\",\"\",VLOOKUP($E361,List_Process!$Q$3:$T$79,3,FALSE))","v":""},{"$f":"IF(E361=\"\",\"\",VLOOKUP($E361,List_Process!$Q$3:$T$79,4,FALSE))","v":""}]
[null,{"$f":"IF(E362=\"\",\"\",VLOOKUP($E362,List_Process!$Q$3:$T$79,2,FALSE))","v":""},{"$f":"IF(E362=\"\",\"\",VLOOKUP($E362,List_Process!$Q$3:$T$79,3,FALSE))","v":""},{"$f":"IF(E362=\"\",\"\",VLOOKUP($E362,List_Process!$Q$3:$T$79,4,FALSE))","v":""}]
[null,{"$f":"IF(E363=\"\",\"\",VLOOKUP($E363,List_Process!$Q$3:$T$79,2,FALSE))","v":""},{"$f":"IF(E363=\"\",\"\",VLOOKUP($E363,List_Process!$Q$3:$T$79,3,FALSE))","v":""},{"$f":"IF(E363=\"\",\"\",VLOOKUP($E363,List_Process!$Q$3:$T$79,4,FALSE))","v":""}]
[null,{"$f":"IF(E364=\"\",\"\",VLOOKUP($E364,List_Process!$Q$3:$T$79,2,FALSE))","v":""},{"$f":"IF(E364=\"\",\"\",VLOOKUP($E364,List_Process!$Q$3:$T$79,3,FALSE))","v":""},{"$f":"IF(E364=\"\",\"\",VLOOKUP($E364,List_Process!$Q$3:$T$79,4,FALSE))","v":""}]
[null,{"$f":"IF(E365=\"\",\"\",VLOOKUP($E365,List_Process!$Q$3:$T$79,2,FALSE))","v":""},{"$f":"IF(E365=\"\",\"\",VLOOKUP($E365,List_Process!$Q$3:$T$79,3,FALSE))","v":""},{"$f":"IF(E365=\"\",\"\",VLOOKUP($E365,List_Process!$Q$3:$T$79,4,FALSE))","v":""}]
[null,{"$f":"IF(E366=\"\",\"\",VLOOKUP($E366,List_Process!$Q$3:$T$79,2,FALSE))","v":""},{"$f":"IF(E366=\"\",\"\",VLOOKUP($E366,List_Process!$Q$3:$T$79,3,FALSE))","v":""},{"$f":"IF(E366=\"\",\"\",VLOOKUP($E366,List_Process!$Q$3:$T$79,4,FALSE))","v":""}]
[null,{"$f":"IF(E367=\"\",\"\",VLOOKUP($E367,List_Process!$Q$3:$T$79,2,FALSE))","v":""},{"$f":"IF(E367=\"\",\"\",VLOOKUP($E367,List_Process!$Q$3:$T$79,3,FALSE))","v":""},{"$f":"IF(E367=\"\",\"\",VLOOKUP($E367,List_Process!$Q$3:$T$79,4,FALSE))","v":""}]
[null,{"$f":"IF(E368=\"\",\"\",VLOOKUP($E368,List_Process!$Q$3:$T$79,2,FALSE))","v":""},{"$f":"IF(E368=\"\",\"\",VLOOKUP($E368,List_Process!$Q$3:$T$79,3,FALSE))","v":""},{"$f":"IF(E368=\"\",\"\",VLOOKUP($E368,List_Process!$Q$3:$T$79,4,FALSE))","v":""}]
[null,{"$f":"IF(E369=\"\",\"\",VLOOKUP($E369,List_Process!$Q$3:$T$79,2,FALSE))","v":""},{"$f":"IF(E369=\"\",\"\",VLOOKUP($E369,List_Process!$Q$3:$T$79,3,FALSE))","v":""},{"$f":"IF(E369=\"\",\"\",VLOOKUP($E369,List_Process!$Q$3:$T$79,4,FALSE))","v":""}]
[null,{"$f":"IF(E370=\"\",\"\",VLOOKUP($E370,List_Process!$Q$3:$T$79,2,FALSE))","v":""},{"$f":"IF(E370=\"\",\"\",VLOOKUP($E370,List_Process!$Q$3:$T$79,3,FALSE))","v":""},{"$f":"IF(E370=\"\",\"\",VLOOKUP($E370,List_Process!$Q$3:$T$79,4,FALSE))","v":""}]
[null,{"$f":"IF(E371=\"\",\"\",VLOOKUP($E371,List_Process!$Q$3:$T$79,2,FALSE))","v":""},{"$f":"IF(E371=\"\",\"\",VLOOKUP($E371,List_Process!$Q$3:$T$79,3,FALSE))","v":""},{"$f":"IF(E371=\"\",\"\",VLOOKUP($E371,List_Process!$Q$3:$T$79,4,FALSE))","v":""}]
[null,{"$f":"IF(E372=\"\",\"\",VLOOKUP($E372,List_Process!$Q$3:$T$79,2,FALSE))","v":""},{"$f":"IF(E372=\"\",\"\",VLOOKUP($E372,List_Process!$Q$3:$T$79,3,FALSE))","v":""},{"$f":"IF(E372=\"\",\"\",VLOOKUP($E372,List_Process!$Q$3:$T$79,4,FALSE))","v":""}]
[null,{"$f":"IF(E373=\"\",\"\",VLOOKUP($E373,List_Process!$Q$3:$T$79,2,FALSE))","v":""},{"$f":"IF(E373=\"\",\"\",VLOOKUP($E373,List_Process!$Q$3:$T$79,3,FALSE))","v":""},{"$f":"IF(E373=\"\",\"\",VLOOKUP($E373,List_Process!$Q$3:$T$79,4,FALSE))","v":""}]
[null,{"$f":"IF(E374=\"\",\"\",VLOOKUP($E374,List_Process!$Q$3:$T$79,2,FALSE))","v":""},{"$f":"IF(E374=\"\",\"\",VLOOKUP($E374,List_Process!$Q$3:$T$79,3,FALSE))","v":""},{"$f":"IF(E374=\"\",\"\",VLOOKUP($E374,List_Process!$Q$3:$T$79,4,FALSE))","v":""}]
[null,{"$f":"IF(E375=\"\",\"\",VLOOKUP($E375,List_Process!$Q$3:$T$79,2,FALSE))","v":""},{"$f":"IF(E375=\"\",\"\",VLOOKUP($E375,List_Process!$Q$3:$T$79,3,FALSE))","v":""},{"$f":"IF(E375=\"\",\"\",VLOOKUP($E375,List_Process!$Q$3:$T$79,4,FALSE))","v":""}]
[null,{"$f":"IF(E376=\"\",\"\",VLOOKUP($E376,List_Process!$Q$3:$T$79,2,FALSE))","v":""},{"$f":"IF(E376=\"\",\"\",VLOOKUP($E376,List_Process!$Q$3:$T$79,3,FALSE))","v":""},{"$f":"IF(E376=\"\",\"\",VLOOKUP($E376,List_Process!$Q$3:$T$79,4,FALSE))","v":""}]
[null,{"$f":"IF(E377=\"\",\"\",VLOOKUP($E377,List_Process!$Q$3:$T$79,2,FALSE))","v":""},{"$f":"IF(E377=\"\",\"\",VLOOKUP($E377,List_Process!$Q$3:$T$79,3,FALSE))","v":""},{"$f":"IF(E377=\"\",\"\",VLOOKUP($E377,List_Process!$Q$3:$T$79,4,FALSE))","v":""}]
[null,{"$f":"IF(E378=\"\",\"\",VLOOKUP($E378,List_Process!$Q$3:$T$79,2,FALSE))","v":""},{"$f":"IF(E378=\"\",\"\",VLOOKUP($E378,List_Process!$Q$3:$T$79,3,FALSE))","v":""},{"$f":"IF(E378=\"\",\"\",VLOOKUP($E378,List_Process!$Q$3:$T$79,4,FALSE))","v":""}]
[null,{"$f":"IF(E379=\"\",\"\",VLOOKUP($E379,List_Process!$Q$3:$T$79,2,FALSE))","v":""},{"$f":"IF(E379=\"\",\"\",VLOOKUP($E379,List_Process!$Q$3:$T$79,3,FALSE))","v":""},{"$f":"IF(E379=\"\",\"\",VLOOKUP($E379,List_Process!$Q$3:$T$79,4,FALSE))","v":""}]
[null,{"$f":"IF(E380=\"\",\"\",VLOOKUP($E380,List_Process!$Q$3:$T$79,2,FALSE))","v":""},{"$f":"IF(E380=\"\",\"\",VLOOKUP($E380,List_Process!$Q$3:$T$79,3,FALSE))","v":""},{"$f":"IF(E380=\"\",\"\",VLOOKUP($E380,List_Process!$Q$3:$T$79,4,FALSE))","v":""}]
[null,{"$f":"IF(E381=\"\",\"\",VLOOKUP($E381,List_Process!$Q$3:$T$79,2,FALSE))","v":""},{"$f":"IF(E381=\"\",\"\",VLOOKUP($E381,List_Process!$Q$3:$T$79,3,FALSE))","v":""},{"$f":"IF(E381=\"\",\"\",VLOOKUP($E381,List_Process!$Q$3:$T$79,4,FALSE))","v":""}]
[null,{"$f":"IF(E382=\"\",\"\",VLOOKUP($E382,List_Process!$Q$3:$T$79,2,FALSE))","v":""},{"$f":"IF(E382=\"\",\"\",VLOOKUP($E382,List_Process!$Q$3:$T$79,3,FALSE))","v":""},{"$f":"IF(E382=\"\",\"\",VLOOKUP($E382,List_Process!$Q$3:$T$79,4,FALSE))","v":""}]
[null,{"$f":"IF(E383=\"\",\"\",VLOOKUP($E383,List_Process!$Q$3:$T$79,2,FALSE))","v":""},{"$f":"IF(E383=\"\",\"\",VLOOKUP($E383,List_Process!$Q$3:$T$79,3,FALSE))","v":""},{"$f":"IF(E383=\"\",\"\",VLOOKUP($E383,List_Process!$Q$3:$T$79,4,FALSE))","v":""}]
[null,{"$f":"IF(E384=\"\",\"\",VLOOKUP($E384,List_Process!$Q$3:$T$79,2,FALSE))","v":""},{"$f":"IF(E384=\"\",\"\",VLOOKUP($E384,List_Process!$Q$3:$T$79,3,FALSE))","v":""},{"$f":"IF(E384=\"\",\"\",VLOOKUP($E384,List_Process!$Q$3:$T$79,4,FALSE))","v":""}]
[null,{"$f":"IF(E385=\"\",\"\",VLOOKUP($E385,List_Process!$Q$3:$T$79,2,FALSE))","v":""},{"$f":"IF(E385=\"\",\"\",VLOOKUP($E385,List_Process!$Q$3:$T$79,3,FALSE))","v":""},{"$f":"IF(E385=\"\",\"\",VLOOKUP($E385,List_Process!$Q$3:$T$79,4,FALSE))","v":""}]
[null,{"$f":"IF(E386=\"\",\"\",VLOOKUP($E386,List_Process!$Q$3:$T$79,2,FALSE))","v":""},{"$f":"IF(E386=\"\",\"\",VLOOKUP($E386,List_Process!$Q$3:$T$79,3,FALSE))","v":""},{"$f":"IF(E386=\"\",\"\",VLOOKUP($E386,List_Process!$Q$3:$T$79,4,FALSE))","v":""}]
[null,{"$f":"IF(E387=\"\",\"\",VLOOKUP($E387,List_Process!$Q$3:$T$79,2,FALSE))","v":""},{"$f":"IF(E387=\"\",\"\",VLOOKUP($E387,List_Process!$Q$3:$T$79,3,FALSE))","v":""},{"$f":"IF(E387=\"\",\"\",VLOOKUP($E387,List_Process!$Q$3:$T$79,4,FALSE))","v":""}]
[null,{"$f":"IF(E388=\"\",\"\",VLOOKUP($E388,List_Process!$Q$3:$T$79,2,FALSE))","v":""},{"$f":"IF(E388=\"\",\"\",VLOOKUP($E388,List_Process!$Q$3:$T$79,3,FALSE))","v":""},{"$f":"IF(E388=\"\",\"\",VLOOKUP($E388,List_Process!$Q$3:$T$79,4,FALSE))","v":""}]
[null,{"$f":"IF(E389=\"\",\"\",VLOOKUP($E389,List_Process!$Q$3:$T$79,2,FALSE))","v":""},{"$f":"IF(E389=\"\",\"\",VLOOKUP($E389,List_Process!$Q$3:$T$79,3,FALSE))","v":""},{"$f":"IF(E389=\"\",\"\",VLOOKUP($E389,List_Process!$Q$3:$T$79,4,FALSE))","v":""}]
[null,{"$f":"IF(E390=\"\",\"\",VLOOKUP($E390,List_Process!$Q$3:$T$79,2,FALSE))","v":""},{"$f":"IF(E390=\"\",\"\",VLOOKUP($E390,List_Process!$Q$3:$T$79,3,FALSE))","v":""},{"$f":"IF(E390=\"\",\"\",VLOOKUP($E390,List_Process!$Q$3:$T$79,4,FALSE))","v":""}]
[null,{"$f":"IF(E391=\"\",\"\",VLOOKUP($E391,List_Process!$Q$3:$T$79,2,FALSE))","v":""},{"$f":"IF(E391=\"\",\"\",VLOOKUP($E391,List_Process!$Q$3:$T$79,3,FALSE))","v":""},{"$f":"IF(E391=\"\",\"\",VLOOKUP($E391,List_Process!$Q$3:$T$79,4,FALSE))","v":""}]
[null,{"$f":"IF(E392=\"\",\"\",VLOOKUP($E392,List_Process!$Q$3:$T$79,2,FALSE))","v":""},{"$f":"IF(E392=\"\",\"\",VLOOKUP($E392,List_Process!$Q$3:$T$79,3,FALSE))","v":""},{"$f":"IF(E392=\"\",\"\",VLOOKUP($E392,List_Process!$Q$3:$T$79,4,FALSE))","v":""}]
[null,{"$f":"IF(E393=\"\",\"\",VLOOKUP($E393,List_Process!$Q$3:$T$79,2,FALSE))","v":""},{"$f":"IF(E393=\"\",\"\",VLOOKUP($E393,List_Process!$Q$3:$T$79,3,FALSE))","v":""},{"$f":"IF(E393=\"\",\"\",VLOOKUP($E393,List_Process!$Q$3:$T$79,4,FALSE))","v":""}]
[null,{"$f":"IF(E394=\"\",\"\",VLOOKUP($E394,List_Process!$Q$3:$T$79,2,FALSE))","v":""},{"$f":"IF(E394=\"\",\"\",VLOOKUP($E394,List_Process!$Q$3:$T$79,3,FALSE))","v":""},{"$f":"IF(E394=\"\",\"\",VLOOKUP($E394,List_Process!$Q$3:$T$79,4,FALSE))","v":""}]
[null,{"$f":"IF(E395=\"\",\"\",VLOOKUP($E395,List_Process!$Q$3:$T$79,2,FALSE))","v":""},{"$f":"IF(E395=\"\",\"\",VLOOKUP($E395,List_Process!$Q$3:$T$79,3,FALSE))","v":""},{"$f":"IF(E395=\"\",\"\",VLOOKUP($E395,List_Process!$Q$3:$T$79,4,FALSE))","v":""}]
[null,{"$f":"IF(E396=\"\",\"\",VLOOKUP($E396,List_Process!$Q$3:$T$79,2,FALSE))","v":""},{"$f":"IF(E396=\"\",\"\",VLOOKUP($E396,List_Process!$Q$3:$T$79,3,FALSE))","v":""},{"$f":"IF(E396=\"\",\"\",VLOOKUP($E396,List_Process!$Q$3:$T$79,4,FALSE))","v":""}]
[null,{"$f":"IF(E397=\"\",\"\",VLOOKUP($E397,List_Process!$Q$3:$T$79,2,FALSE))","v":""},{"$f":"IF(E397=\"\",\"\",VLOOKUP($E397,List_Process!$Q$3:$T$79,3,FALSE))","v":""},{"$f":"IF(E397=\"\",\"\",VLOOKUP($E397,List_Process!$Q$3:$T$79,4,FALSE))","v":""}]
[null,{"$f":"IF(E398=\"\",\"\",VLOOKUP($E398,List_Process!$Q$3:$T$79,2,FALSE))","v":""},{"$f":"IF(E398=\"\",\"\",VLOOKUP($E398,List_Process!$Q$3:$T$79,3,FALSE))","v":""},{"$f":"IF(E398=\"\",\"\",VLOOKUP($E398,List_Process!$Q$3:$T$79,4,FALSE))","v":""}]
[null,{"$f":"IF(E399=\"\",\"\",VLOOKUP($E399,List_Process!$Q$3:$T$79,2,FALSE))","v":""},{"$f":"IF(E399=\"\",\"\",VLOOKUP($E399,List_Process!$Q$3:$T$79,3,FALSE))","v":""},{"$f":"IF(E399=\"\",\"\",VLOOKUP($E399,List_Process!$Q$3:$T$79,4,FALSE))","v":""}]
[null,{"$f":"IF(E400=\"\",\"\",VLOOKUP($E400,List_Process!$Q$3:$T$79,2,FALSE))","v":""},{"$f":"IF(E400=\"\",\"\",VLOOKUP($E400,List_Process!$Q$3:$T$79,3,FALSE))","v":""},{"$f":"IF(E400=\"\",\"\",VLOOKUP($E400,List_Process!$Q$3:$T$79,4,FALSE))","v":""}]
[null,{"$f":"IF(E401=\"\",\"\",VLOOKUP($E401,List_Process!$Q$3:$T$79,2,FALSE))","v":""},{"$f":"IF(E401=\"\",\"\",VLOOKUP($E401,List_Process!$Q$3:$T$79,3,FALSE))","v":""},{"$f":"IF(E401=\"\",\"\",VLOOKUP($E401,List_Process!$Q$3:$T$79,4,FALSE))","v":""}]
[null,{"$f":"IF(E402=\"\",\"\",VLOOKUP($E402,List_Process!$Q$3:$T$79,2,FALSE))","v":""},{"$f":"IF(E402=\"\",\"\",VLOOKUP($E402,List_Process!$Q$3:$T$79,3,FALSE))","v":""},{"$f":"IF(E402=\"\",\"\",VLOOKUP($E402,List_Process!$Q$3:$T$79,4,FALSE))","v":""}]
[null,{"$f":"IF(E403=\"\",\"\",VLOOKUP($E403,List_Process!$Q$3:$T$79,2,FALSE))","v":""},{"$f":"IF(E403=\"\",\"\",VLOOKUP($E403,List_Process!$Q$3:$T$79,3,FALSE))","v":""},{"$f":"IF(E403=\"\",\"\",VLOOKUP($E403,List_Process!$Q$3:$T$79,4,FALSE))","v":""}]
[null,{"$f":"IF(E404=\"\",\"\",VLOOKUP($E404,List_Process!$Q$3:$T$79,2,FALSE))","v":""},{"$f":"IF(E404=\"\",\"\",VLOOKUP($E404,List_Process!$Q$3:$T$79,3,FALSE))","v":""},{"$f":"IF(E404=\"\",\"\",VLOOKUP($E404,List_Process!$Q$3:$T$79,4,FALSE))","v":""}]
[null,{"$f":"IF(E405=\"\",\"\",VLOOKUP($E405,List_Process!$Q$3:$T$79,2,FALSE))","v":""},{"$f":"IF(E405=\"\",\"\",VLOOKUP($E405,List_Process!$Q$3:$T$79,3,FALSE))","v":""},{"$f":"IF(E405=\"\",\"\",VLOOKUP($E405,List_Process!$Q$3:$T$79,4,FALSE))","v":""}]
[null,{"$f":"IF(E406=\"\",\"\",VLOOKUP($E406,List_Process!$Q$3:$T$79,2,FALSE))","v":""},{"$f":"IF(E406=\"\",\"\",VLOOKUP($E406,List_Process!$Q$3:$T$79,3,FALSE))","v":""},{"$f":"IF(E406=\"\",\"\",VLOOKUP($E406,List_Process!$Q$3:$T$79,4,FALSE))","v":""}]
[null,{"$f":"IF(E407=\"\",\"\",VLOOKUP($E407,List_Process!$Q$3:$T$79,2,FALSE))","v":""},{"$f":"IF(E407=\"\",\"\",VLOOKUP($E407,List_Process!$Q$3:$T$79,3,FALSE))","v":""},{"$f":"IF(E407=\"\",\"\",VLOOKUP($E407,List_Process!$Q$3:$T$79,4,FALSE))","v":""}]
[null,{"$f":"IF(E408=\"\",\"\",VLOOKUP($E408,List_Process!$Q$3:$T$79,2,FALSE))","v":""},{"$f":"IF(E408=\"\",\"\",VLOOKUP($E408,List_Process!$Q$3:$T$79,3,FALSE))","v":""},{"$f":"IF(E408=\"\",\"\",VLOOKUP($E408,List_Process!$Q$3:$T$79,4,FALSE))","v":""}]
[null,{"$f":"IF(E409=\"\",\"\",VLOOKUP($E409,List_Process!$Q$3:$T$79,2,FALSE))","v":""},{"$f":"IF(E409=\"\",\"\",VLOOKUP($E409,List_Process!$Q$3:$T$79,3,FALSE))","v":""},{"$f":"IF(E409=\"\",\"\",VLOOKUP($E409,List_Process!$Q$3:$T$79,4,FALSE))","v":""}]
[null,{"$f":"IF(E410=\"\",\"\",VLOOKUP($E410,List_Process!$Q$3:$T$79,2,FALSE))","v":""},{"$f":"IF(E410=\"\",\"\",VLOOKUP($E410,List_Process!$Q$3:$T$79,3,FALSE))","v":""},{"$f":"IF(E410=\"\",\"\",VLOOKUP($E410,List_Process!$Q$3:$T$79,4,FALSE))","v":""}]
[null,{"$f":"IF(E411=\"\",\"\",VLOOKUP($E411,List_Process!$Q$3:$T$79,2,FALSE))","v":""},{"$f":"IF(E411=\"\",\"\",VLOOKUP($E411,List_Process!$Q$3:$T$79,3,FALSE))","v":""},{"$f":"IF(E411=\"\",\"\",VLOOKUP($E411,List_Process!$Q$3:$T$79,4,FALSE))","v":""}]
[null,{"$f":"IF(E412=\"\",\"\",VLOOKUP($E412,List_Process!$Q$3:$T$79,2,FALSE))","v":""},{"$f":"IF(E412=\"\",\"\",VLOOKUP($E412,List_Process!$Q$3:$T$79,3,FALSE))","v":""},{"$f":"IF(E412=\"\",\"\",VLOOKUP($E412,List_Process!$Q$3:$T$79,4,FALSE))","v":""}]
[null,{"$f":"IF(E413=\"\",\"\",VLOOKUP($E413,List_Process!$Q$3:$T$79,2,FALSE))","v":""},{"$f":"IF(E413=\"\",\"\",VLOOKUP($E413,List_Process!$Q$3:$T$79,3,FALSE))","v":""},{"$f":"IF(E413=\"\",\"\",VLOOKUP($E413,List_Process!$Q$3:$T$79,4,FALSE))","v":""}]
[null,{"$f":"IF(E414=\"\",\"\",VLOOKUP($E414,List_Process!$Q$3:$T$79,2,FALSE))","v":""},{"$f":"IF(E414=\"\",\"\",VLOOKUP($E414,List_Process!$Q$3:$T$79,3,FALSE))","v":""},{"$f":"IF(E414=\"\",\"\",VLOOKUP($E414,List_Process!$Q$3:$T$79,4,FALSE))","v":""}]
[null,{"$f":"IF(E415=\"\",\"\",VLOOKUP($E415,List_Process!$Q$3:$T$79,2,FALSE))","v":""},{"$f":"IF(E415=\"\",\"\",VLOOKUP($E415,List_Process!$Q$3:$T$79,3,FALSE))","v":""},{"$f":"IF(E415=\"\",\"\",VLOOKUP($E415,List_Process!$Q$3:$T$79,4,FALSE))","v":""}]
[null,{"$f":"IF(E416=\"\",\"\",VLOOKUP($E416,List_Process!$Q$3:$T$79,2,FALSE))","v":""},{"$f":"IF(E416=\"\",\"\",VLOOKUP($E416,List_Process!$Q$3:$T$79,3,FALSE))","v":""},{"$f":"IF(E416=\"\",\"\",VLOOKUP($E416,List_Process!$Q$3:$T$79,4,FALSE))","v":""}]
[null,{"$f":"IF(E417=\"\",\"\",VLOOKUP($E417,List_Process!$Q$3:$T$79,2,FALSE))","v":""},{"$f":"IF(E417=\"\",\"\",VLOOKUP($E417,List_Process!$Q$3:$T$79,3,FALSE))","v":""},{"$f":"IF(E417=\"\",\"\",VLOOKUP($E417,List_Process!$Q$3:$T$79,4,FALSE))","v":""}]
[null,{"$f":"IF(E418=\"\",\"\",VLOOKUP($E418,List_Process!$Q$3:$T$79,2,FALSE))","v":""},{"$f":"IF(E418=\"\",\"\",VLOOKUP($E418,List_Process!$Q$3:$T$79,3,FALSE))","v":""},{"$f":"IF(E418=\"\",\"\",VLOOKUP($E418,List_Process!$Q$3:$T$79,4,FALSE))","v":""}]
[null,{"$f":"IF(E419=\"\",\"\",VLOOKUP($E419,List_Process!$Q$3:$T$79,2,FALSE))","v":""},{"$f":"IF(E419=\"\",\"\",VLOOKUP($E419,List_Process!$Q$3:$T$79,3,FALSE))","v":""},{"$f":"IF(E419=\"\",\"\",VLOOKUP($E419,List_Process!$Q$3:$T$79,4,FALSE))","v":""}]
[null,{"$f":"IF(E420=\"\",\"\",VLOOKUP($E420,List_Process!$Q$3:$T$79,2,FALSE))","v":""},{"$f":"IF(E420=\"\",\"\",VLOOKUP($E420,List_Process!$Q$3:$T$79,3,FALSE))","v":""},{"$f":"IF(E420=\"\",\"\",VLOOKUP($E420,List_Process!$Q$3:$T$79,4,FALSE))","v":""}]
[null,{"$f":"IF(E421=\"\",\"\",VLOOKUP($E421,List_Process!$Q$3:$T$79,2,FALSE))","v":""},{"$f":"IF(E421=\"\",\"\",VLOOKUP($E421,List_Process!$Q$3:$T$79,3,FALSE))","v":""},{"$f":"IF(E421=\"\",\"\",VLOOKUP($E421,List_Process!$Q$3:$T$79,4,FALSE))","v":""}]
[null,{"$f":"IF(E422=\"\",\"\",VLOOKUP($E422,List_Process!$Q$3:$T$79,2,FALSE))","v":""},{"$f":"IF(E422=\"\",\"\",VLOOKUP($E422,List_Process!$Q$3:$T$79,3,FALSE))","v":""},{"$f":"IF(E422=\"\",\"\",VLOOKUP($E422,List_Process!$Q$3:$T$79,4,FALSE))","v":""}]
[null,{"$f":"IF(E423=\"\",\"\",VLOOKUP($E423,List_Process!$Q$3:$T$79,2,FALSE))","v":""},{"$f":"IF(E423=\"\",\"\",VLOOKUP($E423,List_Process!$Q$3:$T$79,3,FALSE))","v":""},{"$f":"IF(E423=\"\",\"\",VLOOKUP($E423,List_Process!$Q$3:$T$79,4,FALSE))","v":""}]
[null,{"$f":"IF(E424=\"\",\"\",VLOOKUP($E424,List_Process!$Q$3:$T$79,2,FALSE))","v":""},{"$f":"IF(E424=\"\",\"\",VLOOKUP($E424,List_Process!$Q$3:$T$79,3,FALSE))","v":""},{"$f":"IF(E424=\"\",\"\",VLOOKUP($E424,List_Process!$Q$3:$T$79,4,FALSE))","v":""}]
[null,{"$f":"IF(E425=\"\",\"\",VLOOKUP($E425,List_Process!$Q$3:$T$79,2,FALSE))","v":""},{"$f":"IF(E425=\"\",\"\",VLOOKUP($E425,List_Process!$Q$3:$T$79,3,FALSE))","v":""},{"$f":"IF(E425=\"\",\"\",VLOOKUP($E425,List_Process!$Q$3:$T$79,4,FALSE))","v":""}]
[null,{"$f":"IF(E426=\"\",\"\",VLOOKUP($E426,List_Process!$Q$3:$T$79,2,FALSE))","v":""},{"$f":"IF(E426=\"\",\"\",VLOOKUP($E426,List_Process!$Q$3:$T$79,3,FALSE))","v":""},{"$f":"IF(E426=\"\",\"\",VLOOKUP($E426,List_Process!$Q$3:$T$79,4,FALSE))","v":""}]
[null,{"$f":"IF(E427=\"\",\"\",VLOOKUP($E427,List_Process!$Q$3:$T$79,2,FALSE))","v":""},{"$f":"IF(E427=\"\",\"\",VLOOKUP($E427,List_Process!$Q$3:$T$79,3,FALSE))","v":""},{"$f":"IF(E427=\"\",\"\",VLOOKUP($E427,List_Process!$Q$3:$T$79,4,FALSE))","v":""}]
[null,{"$f":"IF(E428=\"\",\"\",VLOOKUP($E428,List_Process!$Q$3:$T$79,2,FALSE))","v":""},{"$f":"IF(E428=\"\",\"\",VLOOKUP($E428,List_Process!$Q$3:$T$79,3,FALSE))","v":""},{"$f":"IF(E428=\"\",\"\",VLOOKUP($E428,List_Process!$Q$3:$T$79,4,FALSE))","v":""}]
[null,{"$f":"IF(E429=\"\",\"\",VLOOKUP($E429,List_Process!$Q$3:$T$79,2,FALSE))","v":""},{"$f":"IF(E429=\"\",\"\",VLOOKUP($E429,List_Process!$Q$3:$T$79,3,FALSE))","v":""},{"$f":"IF(E429=\"\",\"\",VLOOKUP($E429,List_Process!$Q$3:$T$79,4,FALSE))","v":""}]
[null,{"$f":"IF(E430=\"\",\"\",VLOOKUP($E430,List_Process!$Q$3:$T$79,2,FALSE))","v":""},{"$f":"IF(E430=\"\",\"\",VLOOKUP($E430,List_Process!$Q$3:$T$79,3,FALSE))","v":""},{"$f":"IF(E430=\"\",\"\",VLOOKUP($E430,List_Process!$Q$3:$T$79,4,FALSE))","v":""}]
[null,{"$f":"IF(E431=\"\",\"\",VLOOKUP($E431,List_Process!$Q$3:$T$79,2,FALSE))","v":""},{"$f":"IF(E431=\"\",\"\",VLOOKUP($E431,List_Process!$Q$3:$T$79,3,FALSE))","v":""},{"$f":"IF(E431=\"\",\"\",VLOOKUP($E431,List_Process!$Q$3:$T$79,4,FALSE))","v":""}]
[null,{"$f":"IF(E432=\"\",\"\",VLOOKUP($E432,List_Process!$Q$3:$T$79,2,FALSE))","v":""},{"$f":"IF(E432=\"\",\"\",VLOOKUP($E432,List_Process!$Q$3:$T$79,3,FALSE))","v":""},{"$f":"IF(E432=\"\",\"\",VLOOKUP($E432,List_Process!$Q$3:$T$79,4,FALSE))","v":""}]
[null,{"$f":"IF(E433=\"\",\"\",VLOOKUP($E433,List_Process!$Q$3:$T$79,2,FALSE))","v":""},{"$f":"IF(E433=\"\",\"\",VLOOKUP($E433,List_Process!$Q$3:$T$79,3,FALSE))","v":""},{"$f":"IF(E433=\"\",\"\",VLOOKUP($E433,List_Process!$Q$3:$T$79,4,FALSE))","v":""}]
[null,{"$f":"IF(E434=\"\",\"\",VLOOKUP($E434,List_Process!$Q$3:$T$79,2,FALSE))","v":""},{"$f":"IF(E434=\"\",\"\",VLOOKUP($E434,List_Process!$Q$3:$T$79,3,FALSE))","v":""},{"$f":"IF(E434=\"\",\"\",VLOOKUP($E434,List_Process!$Q$3:$T$79,4,FALSE))","v":""}]
[null,{"$f":"IF(E435=\"\",\"\",VLOOKUP($E435,List_Process!$Q$3:$T$79,2,FALSE))","v":""},{"$f":"IF(E435=\"\",\"\",VLOOKUP($E435,List_Process!$Q$3:$T$79,3,FALSE))","v":""},{"$f":"IF(E435=\"\",\"\",VLOOKUP($E435,List_Process!$Q$3:$T$79,4,FALSE))","v":""}]
[null,{"$f":"IF(E436=\"\",\"\",VLOOKUP($E436,List_Process!$Q$3:$T$79,2,FALSE))","v":""},{"$f":"IF(E436=\"\",\"\",VLOOKUP($E436,List_Process!$Q$3:$T$79,3,FALSE))","v":""},{"$f":"IF(E436=\"\",\"\",VLOOKUP($E436,List_Process!$Q$3:$T$79,4,FALSE))","v":""}]
[null,{"$f":"IF(E437=\"\",\"\",VLOOKUP($E437,List_Process!$Q$3:$T$79,2,FALSE))","v":""},{"$f":"IF(E437=\"\",\"\",VLOOKUP($E437,List_Process!$Q$3:$T$79,3,FALSE))","v":""},{"$f":"IF(E437=\"\",\"\",VLOOKUP($E437,List_Process!$Q$3:$T$79,4,FALSE))","v":""}]
[null,{"$f":"IF(E438=\"\",\"\",VLOOKUP($E438,List_Process!$Q$3:$T$79,2,FALSE))","v":""},{"$f":"IF(E438=\"\",\"\",VLOOKUP($E438,List_Process!$Q$3:$T$79,3,FALSE))","v":""},{"$f":"IF(E438=\"\",\"\",VLOOKUP($E438,List_Process!$Q$3:$T$79,4,FALSE))","v":""}]
[null,{"$f":"IF(E439=\"\",\"\",VLOOKUP($E439,List_Process!$Q$3:$T$79,2,FALSE))","v":""},{"$f":"IF(E439=\"\",\"\",VLOOKUP($E439,List_Process!$Q$3:$T$79,3,FALSE))","v":""},{"$f":"IF(E439=\"\",\"\",VLOOKUP($E439,List_Process!$Q$3:$T$79,4,FALSE))","v":""}]
[null,{"$f":"IF(E440=\"\",\"\",VLOOKUP($E440,List_Process!$Q$3:$T$79,2,FALSE))","v":""},{"$f":"IF(E440=\"\",\"\",VLOOKUP($E440,List_Process!$Q$3:$T$79,3,FALSE))","v":""},{"$f":"IF(E440=\"\",\"\",VLOOKUP($E440,List_Process!$Q$3:$T$79,4,FALSE))","v":""}]
[null,{"$f":"IF(E441=\"\",\"\",VLOOKUP($E441,List_Process!$Q$3:$T$79,2,FALSE))","v":""},{"$f":"IF(E441=\"\",\"\",VLOOKUP($E441,List_Process!$Q$3:$T$79,3,FALSE))","v":""},{"$f":"IF(E441=\"\",\"\",VLOOKUP($E441,List_Process!$Q$3:$T$79,4,FALSE))","v":""}]
[null,{"$f":"IF(E442=\"\",\"\",VLOOKUP($E442,List_Process!$Q$3:$T$79,2,FALSE))","v":""},{"$f":"IF(E442=\"\",\"\",VLOOKUP($E442,List_Process!$Q$3:$T$79,3,FALSE))","v":""},{"$f":"IF(E442=\"\",\"\",VLOOKUP($E442,List_Process!$Q$3:$T$79,4,FALSE))","v":""}]
[null,{"$f":"IF(E443=\"\",\"\",VLOOKUP($E443,List_Process!$Q$3:$T$79,2,FALSE))","v":""},{"$f":"IF(E443=\"\",\"\",VLOOKUP($E443,List_Process!$Q$3:$T$79,3,FALSE))","v":""},{"$f":"IF(E443=\"\",\"\",VLOOKUP($E443,List_Process!$Q$3:$T$79,4,FALSE))","v":""}]
[null,{"$f":"IF(E444=\"\",\"\",VLOOKUP($E444,List_Process!$Q$3:$T$79,2,FALSE))","v":""},{"$f":"IF(E444=\"\",\"\",VLOOKUP($E444,List_Process!$Q$3:$T$79,3,FALSE))","v":""},{"$f":"IF(E444=\"\",\"\",VLOOKUP($E444,List_Process!$Q$3:$T$79,4,FALSE))","v":""}]
[null,{"$f":"IF(E445=\"\",\"\",VLOOKUP($E445,List_Process!$Q$3:$T$79,2,FALSE))","v":""},{"$f":"IF(E445=\"\",\"\",VLOOKUP($E445,List_Process!$Q$3:$T$79,3,FALSE))","v":""},{"$f":"IF(E445=\"\",\"\",VLOOKUP($E445,List_Process!$Q$3:$T$79,4,FALSE))","v":""}]
[null,{"$f":"IF(E446=\"\",\"\",VLOOKUP($E446,List_Process!$Q$3:$T$79,2,FALSE))","v":""},{"$f":"IF(E446=\"\",\"\",VLOOKUP($E446,List_Process!$Q$3:$T$79,3,FALSE))","v":""},{"$f":"IF(E446=\"\",\"\",VLOOKUP($E446,List_Process!$Q$3:$T$79,4,FALSE))","v":""}]
[null,{"$f":"IF(E447=\"\",\"\",VLOOKUP($E447,List_Process!$Q$3:$T$79,2,FALSE))","v":""},{"$f":"IF(E447=\"\",\"\",VLOOKUP($E447,List_Process!$Q$3:$T$79,3,FALSE))","v":""},{"$f":"IF(E447=\"\",\"\",VLOOKUP($E447,List_Process!$Q$3:$T$79,4,FALSE))","v":""}]
[null,{"$f":"IF(E448=\"\",\"\",VLOOKUP($E448,List_Process!$Q$3:$T$79,2,FALSE))","v":""},{"$f":"IF(E448=\"\",\"\",VLOOKUP($E448,List_Process!$Q$3:$T$79,3,FALSE))","v":""},{"$f":"IF(E448=\"\",\"\",VLOOKUP($E448,List_Process!$Q$3:$T$79,4,FALSE))","v":""}]
[null,{"$f":"IF(E449=\"\",\"\",VLOOKUP($E449,List_Process!$Q$3:$T$79,2,FALSE))","v":""},{"$f":"IF(E449=\"\",\"\",VLOOKUP($E449,List_Process!$Q$3:$T$79,3,FALSE))","v":""},{"$f":"IF(E449=\"\",\"\",VLOOKUP($E449,List_Process!$Q$3:$T$79,4,FALSE))","v":""}]
[null,{"$f":"IF(E450=\"\",\"\",VLOOKUP($E450,List_Process!$Q$3:$T$79,2,FALSE))","v":""},{"$f":"IF(E450=\"\",\"\",VLOOKUP($E450,List_Process!$Q$3:$T$79,3,FALSE))","v":""},{"$f":"IF(E450=\"\",\"\",VLOOKUP($E450,List_Process!$Q$3:$T$79,4,FALSE))","v":""}]
[null,{"$f":"IF(E451=\"\",\"\",VLOOKUP($E451,List_Process!$Q$3:$T$79,2,FALSE))","v":""},{"$f":"IF(E451=\"\",\"\",VLOOKUP($E451,List_Process!$Q$3:$T$79,3,FALSE))","v":""},{"$f":"IF(E451=\"\",\"\",VLOOKUP($E451,List_Process!$Q$3:$T$79,4,FALSE))","v":""}]
[null,{"$f":"IF(E452=\"\",\"\",VLOOKUP($E452,List_Process!$Q$3:$T$79,2,FALSE))","v":""},{"$f":"IF(E452=\"\",\"\",VLOOKUP($E452,List_Process!$Q$3:$T$79,3,FALSE))","v":""},{"$f":"IF(E452=\"\",\"\",VLOOKUP($E452,List_Process!$Q$3:$T$79,4,FALSE))","v":""}]
[null,{"$f":"IF(E453=\"\",\"\",VLOOKUP($E453,List_Process!$Q$3:$T$79,2,FALSE))","v":""},{"$f":"IF(E453=\"\",\"\",VLOOKUP($E453,List_Process!$Q$3:$T$79,3,FALSE))","v":""},{"$f":"IF(E453=\"\",\"\",VLOOKUP($E453,List_Process!$Q$3:$T$79,4,FALSE))","v":""}]
[null,{"$f":"IF(E454=\"\",\"\",VLOOKUP($E454,List_Process!$Q$3:$T$79,2,FALSE))","v":""},{"$f":"IF(E454=\"\",\"\",VLOOKUP($E454,List_Process!$Q$3:$T$79,3,FALSE))","v":""},{"$f":"IF(E454=\"\",\"\",VLOOKUP($E454,List_Process!$Q$3:$T$79,4,FALSE))","v":""}]
[null,{"$f":"IF(E455=\"\",\"\",VLOOKUP($E455,List_Process!$Q$3:$T$79,2,FALSE))","v":""},{"$f":"IF(E455=\"\",\"\",VLOOKUP($E455,List_Process!$Q$3:$T$79,3,FALSE))","v":""},{"$f":"IF(E455=\"\",\"\",VLOOKUP($E455,List_Process!$Q$3:$T$79,4,FALSE))","v":""}]
[null,{"$f":"IF(E456=\"\",\"\",VLOOKUP($E456,List_Process!$Q$3:$T$79,2,FALSE))","v":""},{"$f":"IF(E456=\"\",\"\",VLOOKUP($E456,List_Process!$Q$3:$T$79,3,FALSE))","v":""},{"$f":"IF(E456=\"\",\"\",VLOOKUP($E456,List_Process!$Q$3:$T$79,4,FALSE))","v":""}]
[null,{"$f":"IF(E457=\"\",\"\",VLOOKUP($E457,List_Process!$Q$3:$T$79,2,FALSE))","v":""},{"$f":"IF(E457=\"\",\"\",VLOOKUP($E457,List_Process!$Q$3:$T$79,3,FALSE))","v":""},{"$f":"IF(E457=\"\",\"\",VLOOKUP($E457,List_Process!$Q$3:$T$79,4,FALSE))","v":""}]
[null,{"$f":"IF(E458=\"\",\"\",VLOOKUP($E458,List_Process!$Q$3:$T$79,2,FALSE))","v":""},{"$f":"IF(E458=\"\",\"\",VLOOKUP($E458,List_Process!$Q$3:$T$79,3,FALSE))","v":""},{"$f":"IF(E458=\"\",\"\",VLOOKUP($E458,List_Process!$Q$3:$T$79,4,FALSE))","v":""}]
[null,{"$f":"IF(E459=\"\",\"\",VLOOKUP($E459,List_Process!$Q$3:$T$79,2,FALSE))","v":""},{"$f":"IF(E459=\"\",\"\",VLOOKUP($E459,List_Process!$Q$3:$T$79,3,FALSE))","v":""},{"$f":"IF(E459=\"\",\"\",VLOOKUP($E459,List_Process!$Q$3:$T$79,4,FALSE))","v":""}]
[null,{"$f":"IF(E460=\"\",\"\",VLOOKUP($E460,List_Process!$Q$3:$T$79,2,FALSE))","v":""},{"$f":"IF(E460=\"\",\"\",VLOOKUP($E460,List_Process!$Q$3:$T$79,3,FALSE))","v":""},{"$f":"IF(E460=\"\",\"\",VLOOKUP($E460,List_Process!$Q$3:$T$79,4,FALSE))","v":""}]
[null,{"$f":"IF(E461=\"\",\"\",VLOOKUP($E461,List_Process!$Q$3:$T$79,2,FALSE))","v":""},{"$f":"IF(E461=\"\",\"\",VLOOKUP($E461,List_Process!$Q$3:$T$79,3,FALSE))","v":""},{"$f":"IF(E461=\"\",\"\",VLOOKUP($E461,List_Process!$Q$3:$T$79,4,FALSE))","v":""}]
[null,{"$f":"IF(E462=\"\",\"\",VLOOKUP($E462,List_Process!$Q$3:$T$79,2,FALSE))","v":""},{"$f":"IF(E462=\"\",\"\",VLOOKUP($E462,List_Process!$Q$3:$T$79,3,FALSE))","v":""},{"$f":"IF(E462=\"\",\"\",VLOOKUP($E462,List_Process!$Q$3:$T$79,4,FALSE))","v":""}]
[null,{"$f":"IF(E463=\"\",\"\",VLOOKUP($E463,List_Process!$Q$3:$T$79,2,FALSE))","v":""},{"$f":"IF(E463=\"\",\"\",VLOOKUP($E463,List_Process!$Q$3:$T$79,3,FALSE))","v":""},{"$f":"IF(E463=\"\",\"\",VLOOKUP($E463,List_Process!$Q$3:$T$79,4,FALSE))","v":""}]
[null,{"$f":"IF(E464=\"\",\"\",VLOOKUP($E464,List_Process!$Q$3:$T$79,2,FALSE))","v":""},{"$f":"IF(E464=\"\",\"\",VLOOKUP($E464,List_Process!$Q$3:$T$79,3,FALSE))","v":""},{"$f":"IF(E464=\"\",\"\",VLOOKUP($E464,List_Process!$Q$3:$T$79,4,FALSE))","v":""}]
[null,{"$f":"IF(E465=\"\",\"\",VLOOKUP($E465,List_Process!$Q$3:$T$79,2,FALSE))","v":""},{"$f":"IF(E465=\"\",\"\",VLOOKUP($E465,List_Process!$Q$3:$T$79,3,FALSE))","v":""},{"$f":"IF(E465=\"\",\"\",VLOOKUP($E465,List_Process!$Q$3:$T$79,4,FALSE))","v":""}]
[null,{"$f":"IF(E466=\"\",\"\",VLOOKUP($E466,List_Process!$Q$3:$T$79,2,FALSE))","v":""},{"$f":"IF(E466=\"\",\"\",VLOOKUP($E466,List_Process!$Q$3:$T$79,3,FALSE))","v":""},{"$f":"IF(E466=\"\",\"\",VLOOKUP($E466,List_Process!$Q$3:$T$79,4,FALSE))","v":""}]
[null,{"$f":"IF(E467=\"\",\"\",VLOOKUP($E467,List_Process!$Q$3:$T$79,2,FALSE))","v":""},{"$f":"IF(E467=\"\",\"\",VLOOKUP($E467,List_Process!$Q$3:$T$79,3,FALSE))","v":""},{"$f":"IF(E467=\"\",\"\",VLOOKUP($E467,List_Process!$Q$3:$T$79,4,FALSE))","v":""}]
[null,{"$f":"IF(E468=\"\",\"\",VLOOKUP($E468,List_Process!$Q$3:$T$79,2,FALSE))","v":""},{"$f":"IF(E468=\"\",\"\",VLOOKUP($E468,List_Process!$Q$3:$T$79,3,FALSE))","v":""},{"$f":"IF(E468=\"\",\"\",VLOOKUP($E468,List_Process!$Q$3:$T$79,4,FALSE))","v":""}]
[null,{"$f":"IF(E469=\"\",\"\",VLOOKUP($E469,List_Process!$Q$3:$T$79,2,FALSE))","v":""},{"$f":"IF(E469=\"\",\"\",VLOOKUP($E469,List_Process!$Q$3:$T$79,3,FALSE))","v":""},{"$f":"IF(E469=\"\",\"\",VLOOKUP($E469,List_Process!$Q$3:$T$79,4,FALSE))","v":""}]
[null,{"$f":"IF(E470=\"\",\"\",VLOOKUP($E470,List_Process!$Q$3:$T$79,2,FALSE))","v":""},{"$f":"IF(E470=\"\",\"\",VLOOKUP($E470,List_Process!$Q$3:$T$79,3,FALSE))","v":""},{"$f":"IF(E470=\"\",\"\",VLOOKUP($E470,List_Process!$Q$3:$T$79,4,FALSE))","v":""}]
[null,{"$f":"IF(E471=\"\",\"\",VLOOKUP($E471,List_Process!$Q$3:$T$79,2,FALSE))","v":""},{"$f":"IF(E471=\"\",\"\",VLOOKUP($E471,List_Process!$Q$3:$T$79,3,FALSE))","v":""},{"$f":"IF(E471=\"\",\"\",VLOOKUP($E471,List_Process!$Q$3:$T$79,4,FALSE))","v":""}]
[null,{"$f":"IF(E472=\"\",\"\",VLOOKUP($E472,List_Process!$Q$3:$T$79,2,FALSE))","v":""},{"$f":"IF(E472=\"\",\"\",VLOOKUP($E472,List_Process!$Q$3:$T$79,3,FALSE))","v":""},{"$f":"IF(E472=\"\",\"\",VLOOKUP($E472,List_Process!$Q$3:$T$79,4,FALSE))","v":""}]
[null,{"$f":"IF(E473=\"\",\"\",VLOOKUP($E473,List_Process!$Q$3:$T$79,2,FALSE))","v":""},{"$f":"IF(E473=\"\",\"\",VLOOKUP($E473,List_Process!$Q$3:$T$79,3,FALSE))","v":""},{"$f":"IF(E473=\"\",\"\",VLOOKUP($E473,List_Process!$Q$3:$T$79,4,FALSE))","v":""}]
[null,{"$f":"IF(E474=\"\",\"\",VLOOKUP($E474,List_Process!$Q$3:$T$79,2,FALSE))","v":""},{"$f":"IF(E474=\"\",\"\",VLOOKUP($E474,List_Process!$Q$3:$T$79,3,FALSE))","v":""},{"$f":"IF(E474=\"\",\"\",VLOOKUP($E474,List_Process!$Q$3:$T$79,4,FALSE))","v":""}]
[null,{"$f":"IF(E475=\"\",\"\",VLOOKUP($E475,List_Process!$Q$3:$T$79,2,FALSE))","v":""},{"$f":"IF(E475=\"\",\"\",VLOOKUP($E475,List_Process!$Q$3:$T$79,3,FALSE))","v":""},{"$f":"IF(E475=\"\",\"\",VLOOKUP($E475,List_Process!$Q$3:$T$79,4,FALSE))","v":""}]
[null,{"$f":"IF(E476=\"\",\"\",VLOOKUP($E476,List_Process!$Q$3:$T$79,2,FALSE))","v":""},{"$f":"IF(E476=\"\",\"\",VLOOKUP($E476,List_Process!$Q$3:$T$79,3,FALSE))","v":""},{"$f":"IF(E476=\"\",\"\",VLOOKUP($E476,List_Process!$Q$3:$T$79,4,FALSE))","v":""}]
[null,{"$f":"IF(E477=\"\",\"\",VLOOKUP($E477,List_Process!$Q$3:$T$79,2,FALSE))","v":""},{"$f":"IF(E477=\"\",\"\",VLOOKUP($E477,List_Process!$Q$3:$T$79,3,FALSE))","v":""},{"$f":"IF(E477=\"\",\"\",VLOOKUP($E477,List_Process!$Q$3:$T$79,4,FALSE))","v":""}]
[null,{"$f":"IF(E478=\"\",\"\",VLOOKUP($E478,List_Process!$Q$3:$T$79,2,FALSE))","v":""},{"$f":"IF(E478=\"\",\"\",VLOOKUP($E478,List_Process!$Q$3:$T$79,3,FALSE))","v":""},{"$f":"IF(E478=\"\",\"\",VLOOKUP($E478,List_Process!$Q$3:$T$79,4,FALSE))","v":""}]
[null,{"$f":"IF(E479=\"\",\"\",VLOOKUP($E479,List_Process!$Q$3:$T$79,2,FALSE))","v":""},{"$f":"IF(E479=\"\",\"\",VLOOKUP($E479,List_Process!$Q$3:$T$79,3,FALSE))","v":""},{"$f":"IF(E479=\"\",\"\",VLOOKUP($E479,List_Process!$Q$3:$T$79,4,FALSE))","v":""}]
[null,{"$f":"IF(E480=\"\",\"\",VLOOKUP($E480,List_Process!$Q$3:$T$79,2,FALSE))","v":""},{"$f":"IF(E480=\"\",\"\",VLOOKUP($E480,List_Process!$Q$3:$T$79,3,FALSE))","v":""},{"$f":"IF(E480=\"\",\"\",VLOOKUP($E480,List_Process!$Q$3:$T$79,4,FALSE))","v":""}]
[null,{"$f":"IF(E481=\"\",\"\",VLOOKUP($E481,List_Process!$Q$3:$T$79,2,FALSE))","v":""},{"$f":"IF(E481=\"\",\"\",VLOOKUP($E481,List_Process!$Q$3:$T$79,3,FALSE))","v":""},{"$f":"IF(E481=\"\",\"\",VLOOKUP($E481,List_Process!$Q$3:$T$79,4,FALSE))","v":""}]
[null,{"$f":"IF(E482=\"\",\"\",VLOOKUP($E482,List_Process!$Q$3:$T$79,2,FALSE))","v":""},{"$f":"IF(E482=\"\",\"\",VLOOKUP($E482,List_Process!$Q$3:$T$79,3,FALSE))","v":""},{"$f":"IF(E482=\"\",\"\",VLOOKUP($E482,List_Process!$Q$3:$T$79,4,FALSE))","v":""}]
[null,{"$f":"IF(E483=\"\",\"\",VLOOKUP($E483,List_Process!$Q$3:$T$79,2,FALSE))","v":""},{"$f":"IF(E483=\"\",\"\",VLOOKUP($E483,List_Process!$Q$3:$T$79,3,FALSE))","v":""},{"$f":"IF(E483=\"\",\"\",VLOOKUP($E483,List_Process!$Q$3:$T$79,4,FALSE))","v":""}]
[null,{"$f":"IF(E484=\"\",\"\",VLOOKUP($E484,List_Process!$Q$3:$T$79,2,FALSE))","v":""},{"$f":"IF(E484=\"\",\"\",VLOOKUP($E484,List_Process!$Q$3:$T$79,3,FALSE))","v":""},{"$f":"IF(E484=\"\",\"\",VLOOKUP($E484,List_Process!$Q$3:$T$79,4,FALSE))","v":""}]
[null,{"$f":"IF(E485=\"\",\"\",VLOOKUP($E485,List_Process!$Q$3:$T$79,2,FALSE))","v":""},{"$f":"IF(E485=\"\",\"\",VLOOKUP($E485,List_Process!$Q$3:$T$79,3,FALSE))","v":""},{"$f":"IF(E485=\"\",\"\",VLOOKUP($E485,List_Process!$Q$3:$T$79,4,FALSE))","v":""}]
[null,{"$f":"IF(E486=\"\",\"\",VLOOKUP($E486,List_Process!$Q$3:$T$79,2,FALSE))","v":""},{"$f":"IF(E486=\"\",\"\",VLOOKUP($E486,List_Process!$Q$3:$T$79,3,FALSE))","v":""},{"$f":"IF(E486=\"\",\"\",VLOOKUP($E486,List_Process!$Q$3:$T$79,4,FALSE))","v":""}]
[null,{"$f":"IF(E487=\"\",\"\",VLOOKUP($E487,List_Process!$Q$3:$T$79,2,FALSE))","v":""},{"$f":"IF(E487=\"\",\"\",VLOOKUP($E487,List_Process!$Q$3:$T$79,3,FALSE))","v":""},{"$f":"IF(E487=\"\",\"\",VLOOKUP($E487,List_Process!$Q$3:$T$79,4,FALSE))","v":""}]
[null,{"$f":"IF(E488=\"\",\"\",VLOOKUP($E488,List_Process!$Q$3:$T$79,2,FALSE))","v":""},{"$f":"IF(E488=\"\",\"\",VLOOKUP($E488,List_Process!$Q$3:$T$79,3,FALSE))","v":""},{"$f":"IF(E488=\"\",\"\",VLOOKUP($E488,List_Process!$Q$3:$T$79,4,FALSE))","v":""}]
[null,{"$f":"IF(E489=\"\",\"\",VLOOKUP($E489,List_Process!$Q$3:$T$79,2,FALSE))","v":""},{"$f":"IF(E489=\"\",\"\",VLOOKUP($E489,List_Process!$Q$3:$T$79,3,FALSE))","v":""},{"$f":"IF(E489=\"\",\"\",VLOOKUP($E489,List_Process!$Q$3:$T$79,4,FALSE))","v":""}]
[null,{"$f":"IF(E490=\"\",\"\",VLOOKUP($E490,List_Process!$Q$3:$T$79,2,FALSE))","v":""},{"$f":"IF(E490=\"\",\"\",VLOOKUP($E490,List_Process!$Q$3:$T$79,3,FALSE))","v":""},{"$f":"IF(E490=\"\",\"\",VLOOKUP($E490,List_Process!$Q$3:$T$79,4,FALSE))","v":""}]
[null,{"$f":"IF(E491=\"\",\"\",VLOOKUP($E491,List_Process!$Q$3:$T$79,2,FALSE))","v":""},{"$f":"IF(E491=\"\",\"\",VLOOKUP($E491,List_Process!$Q$3:$T$79,3,FALSE))","v":""},{"$f":"IF(E491=\"\",\"\",VLOOKUP($E491,List_Process!$Q$3:$T$79,4,FALSE))","v":""}]
[null,{"$f":"IF(E492=\"\",\"\",VLOOKUP($E492,List_Process!$Q$3:$T$79,2,FALSE))","v":""},{"$f":"IF(E492=\"\",\"\",VLOOKUP($E492,List_Process!$Q$3:$T$79,3,FALSE))","v":""},{"$f":"IF(E492=\"\",\"\",VLOOKUP($E492,List_Process!$Q$3:$T$79,4,FALSE))","v":""}]
[null,{"$f":"IF(E493=\"\",\"\",VLOOKUP($E493,List_Process!$Q$3:$T$79,2,FALSE))","v":""},{"$f":"IF(E493=\"\",\"\",VLOOKUP($E493,List_Process!$Q$3:$T$79,3,FALSE))","v":""},{"$f":"IF(E493=\"\",\"\",VLOOKUP($E493,List_Process!$Q$3:$T$79,4,FALSE))","v":""}]
[null,{"$f":"IF(E494=\"\",\"\",VLOOKUP($E494,List_Process!$Q$3:$T$79,2,FALSE))","v":""},{"$f":"IF(E494=\"\",\"\",VLOOKUP($E494,List_Process!$Q$3:$T$79,3,FALSE))","v":""},{"$f":"IF(E494=\"\",\"\",VLOOKUP($E494,List_Process!$Q$3:$T$79,4,FALSE))","v":""}]
[null,{"$f":"IF(E495=\"\",\"\",VLOOKUP($E495,List_Process!$Q$3:$T$79,2,FALSE))","v":""},{"$f":"IF(E495=\"\",\"\",VLOOKUP($E495,List_Process!$Q$3:$T$79,3,FALSE))","v":""},{"$f":"IF(E495=\"\",\"\",VLOOKUP($E495,List_Process!$Q$3:$T$79,4,FALSE))","v":""}]
[null,{"$f":"IF(E496=\"\",\"\",VLOOKUP($E496,List_Process!$Q$3:$T$79,2,FALSE))","v":""},{"$f":"IF(E496=\"\",\"\",VLOOKUP($E496,List_Process!$Q$3:$T$79,3,FALSE))","v":""},{"$f":"IF(E496=\"\",\"\",VLOOKUP($E496,List_Process!$Q$3:$T$79,4,FALSE))","v":""}]
[null,{"$f":"IF(E497=\"\",\"\",VLOOKUP($E497,List_Process!$Q$3:$T$79,2,FALSE))","v":""},{"$f":"IF(E497=\"\",\"\",VLOOKUP($E497,List_Process!$Q$3:$T$79,3,FALSE))","v":""},{"$f":"IF(E497=\"\",\"\",VLOOKUP($E497,List_Process!$Q$3:$T$79,4,FALSE))","v":""}]
[null,{"$f":"IF(E498=\"\",\"\",VLOOKUP($E498,List_Process!$Q$3:$T$79,2,FALSE))","v":""},{"$f":"IF(E498=\"\",\"\",VLOOKUP($E498,List_Process!$Q$3:$T$79,3,FALSE))","v":""},{"$f":"IF(E498=\"\",\"\",VLOOKUP($E498,List_Process!$Q$3:$T$79,4,FALSE))","v":""}]
[null,{"$f":"IF(E499=\"\",\"\",VLOOKUP($E499,List_Process!$Q$3:$T$79,2,FALSE))","v":""},{"$f":"IF(E499=\"\",\"\",VLOOKUP($E499,List_Process!$Q$3:$T$79,3,FALSE))","v":""},{"$f":"IF(E499=\"\",\"\",VLOOKUP($E499,List_Process!$Q$3:$T$79,4,FALSE))","v":""}]
[null,{"$f":"IF(E500=\"\",\"\",VLOOKUP($E500,List_Process!$Q$3:$T$79,2,FALSE))","v":""},{"$f":"IF(E500=\"\",\"\",VLOOKUP($E500,List_Process!$Q$3:$T$79,3,FALSE))","v":""},{"$f":"IF(E500=\"\",\"\",VLOOKUP($E500,List_Process!$Q$3:$T$79,4,FALSE))","v":""}]

{"sheet":"Deviations_Op_Param_CMS","index":12,"n_rows":500,"n_cols":13,"rows_kept":500,"cut":false,"hidden":false,"merged":[]}
[]
[]
[]
[]
[]
[]
[null,"40 CFR Part 63, Subpart JJJJ National Emission Standards for Hazardous Air Pollutants: Paper and Other Web Coating - §63.3400 Semiannual Compliance Report Spreadsheet Template"]
[]
[]
[]
[]
[null,"Company Record No.\n(Autocompleted)","Affected Control Device ID\n(§63.3400(c)(2)(vi))\n(Autocompleted)","Total Source\nOperating Time (hours)\n(§63.3400(c)(2)(vi)(A))\n(Autocompleted)","Company Record Number and Control Device ID\n(Select from Dropdown)","Operating Limit Deviated From\n(§63.3400(c)(2)(vi))","Starting Date of Deviation\n(§63.3400(c)(2)(vi)(D))","Starting Time of \nDeviation \n(§63.3400(c)(2)(vi)(D))","Ending Date of \nDeviation\n(§63.3400(c)(2)(vi)(D)","Ending Time of \nDeviation\n(§63.3400(c)(2)(vi)(D))","Total Duration of Deviation(s) (hours)\n(§63.3400(c)(2)(vi)(E))\n(Calculated Value)","Type of Operating Period\n(§63.3400(c)(2)(vi)(D))\n(Select from Dropdown)","Cause of Deviation\n(§63.3400(c)(2)(vi)(F))\n(Select from Dropdown)"]
[null,"RecordId","ControlId_DOPC","OperatingTime_DOPC","RecordCDId_DOPC","OperatingLimit_DOPC","StartDate_DOPC","StartTime_DOPC","EndDate_DOPC","EndTime_DOPC","Duration_DOPC","PeriodType_DOPC","Cause_DOPC"]
[null,"e.g.: 1","e.g.: Group 1","e.g.: 4300 ","e.g.: Line 1","e.g.:  Minimum combustion chamber temperature","e.g.: 2/12/2017","e.g.: 13:05","e.g.: 2/13/2017","e.g.: 08:00","e.g.: 18.92","e.g.: Malfunction","e.g.: Control Equipment Problems"]
[null,"e.g.:","e.g.:","e.g.:","e.g.:","e.g.:","e.g.:","e.g.:","e.g.:","e.g.:","e.g.:","e.g.:","e.g.:"]
[null,"e.g.:","e.g.:","e.g.:","e.g.:","e.g.:","e.g.:","e.g.:","e.g.:","e.g.:","e.g.:","e.g.:","e.g.:"]
[null,"e.g.:","e.g.:","e.g.:","e.g.:","e.g.:","e.g.:","e.g.:","e.g.:","e.g.:","e.g.:","e.g.:","e.g.:"]
[null,"e.g.:","e.g.:","e.g.:","e.g.:","e.g.:","e.g.:","e.g.:","e.g.:","e.g.:","e.g.:","e.g.:","e.g.:"]
[null,"e.g.:","e.g.:","e.g.:","e.g.:","e.g.:","e.g.:","e.g.:","e.g.:","e.g.:","e.g.:","e.g.:","e.g.:"]
[null,"e.g.:","e.g.:","e.g.:","e.g.:","e.g.:","e.g.:","e.g.:","e.g.:","e.g.:","e.g.:","e.g.:","e.g.:"]
[null,"e.g.:","e.g.:","e.g.:","e.g.:","e.g.:","e.g.:","e.g.:","e.g.:","e.g.:","e.g.:","e.g.:","e.g.:"]
[null,"e.g.:","e.g.:","e.g.:","e.g.:","e.g.:","e.g.:","e.g.:","e.g.:","e.g.:","e.g.:","e.g.:","e.g.:"]
[null,"e.g.:","e.g.:","e.g.:","e.g.:","e.g.:","e.g.:","e.g.:","e.g.:","e.g.:","e.g.:","e.g.:","e.g.:"]
[null,{"$f":"IF(E24=\"\",\"\",VLOOKUP($E24,List_Controls!$I$3:$L$79,2,FALSE))","v":""},{"$f":"IF(E24=\"\",\"\",VLOOKUP($E24,List_Controls!$I$3:$L$79,3,FALSE))","v":""},{"$f":"IF(E24=\"\",\"\",VLOOKUP($E24,List_Controls!$I$3:$L$79,4,FALSE))","v":""},null,null,null,null,null,null,{"$f":"IF(J24=\"\",\"\",(VALUE(TEXT(I24,\"m/dd/yy \")&TEXT(J24,\"hh:mm:ss\"))-(VALUE(TEXT(G24,\"m/dd/yy \")&TEXT(H24,\"hh:mm:ss\"))))*24)","v":""}]
[null,{"$f":"IF(E25=\"\",\"\",VLOOKUP($E25,List_Controls!$I$3:$L$79,2,FALSE))","v":""},{"$f":"IF(E25=\"\",\"\",VLOOKUP($E25,List_Controls!$I$3:$L$79,3,FALSE))","v":""},{"$f":"IF(E25=\"\",\"\",VLOOKUP($E25,List_Controls!$I$3:$L$79,4,FALSE))","v":""},null,null,null,null,null,null,{"$f":"IF(J25=\"\",\"\",(VALUE(TEXT(I25,\"m/dd/yy \")&TEXT(J25,\"hh:mm:ss\"))-(VALUE(TEXT(G25,\"m/dd/yy \")&TEXT(H25,\"hh:mm:ss\"))))*24)","v":""}]
[null,{"$f":"IF(E26=\"\",\"\",VLOOKUP($E26,List_Controls!$I$3:$L$79,2,FALSE))","v":""},{"$f":"IF(E26=\"\",\"\",VLOOKUP($E26,List_Controls!$I$3:$L$79,3,FALSE))","v":""},{"$f":"IF(E26=\"\",\"\",VLOOKUP($E26,List_Controls!$I$3:$L$79,4,FALSE))","v":""},null,null,null,null,null,null,{"$f":"IF(J26=\"\",\"\",(VALUE(TEXT(I26,\"m/dd/yy \")&TEXT(J26,\"hh:mm:ss\"))-(VALUE(TEXT(G26,\"m/dd/yy \")&TEXT(H26,\"hh:mm:ss\"))))*24)","v":""}]
[null,{"$f":"IF(E27=\"\",\"\",VLOOKUP($E27,List_Controls!$I$3:$L$79,2,FALSE))","v":""},{"$f":"IF(E27=\"\",\"\",VLOOKUP($E27,List_Controls!$I$3:$L$79,3,FALSE))","v":""},{"$f":"IF(E27=\"\",\"\",VLOOKUP($E27,List_Controls!$I$3:$L$79,4,FALSE))","v":""},null,null,null,null,null,null,""]
[null,{"$f":"IF(E28=\"\",\"\",VLOOKUP($E28,List_Controls!$I$3:$L$79,2,FALSE))","v":""},{"$f":"IF(E28=\"\",\"\",VLOOKUP($E28,List_Controls!$I$3:$L$79,3,FALSE))","v":""},{"$f":"IF(E28=\"\",\"\",VLOOKUP($E28,List_Controls!$I$3:$L$79,4,FALSE))","v":""},null,null,null,null,null,null,""]
[null,{"$f":"IF(E29=\"\",\"\",VLOOKUP($E29,List_Controls!$I$3:$L$79,2,FALSE))","v":""},{"$f":"IF(E29=\"\",\"\",VLOOKUP($E29,List_Controls!$I$3:$L$79,3,FALSE))","v":""},{"$f":"IF(E29=\"\",\"\",VLOOKUP($E29,List_Controls!$I$3:$L$79,4,FALSE))","v":""},null,null,null,null,null,null,""]
[null,{"$f":"IF(E30=\"\",\"\",VLOOKUP($E30,List_Controls!$I$3:$L$79,2,FALSE))","v":""},{"$f":"IF(E30=\"\",\"\",VLOOKUP($E30,List_Controls!$I$3:$L$79,3,FALSE))","v":""},{"$f":"IF(E30=\"\",\"\",VLOOKUP($E30,List_Controls!$I$3:$L$79,4,FALSE))","v":""},null,null,null,null,null,null,""]
[null,{"$f":"IF(E31=\"\",\"\",VLOOKUP($E31,List_Controls!$I$3:$L$79,2,FALSE))","v":""},{"$f":"IF(E31=\"\",\"\",VLOOKUP($E31,List_Controls!$I$3:$L$79,3,FALSE))","v":""},{"$f":"IF(E31=\"\",\"\",VLOOKUP($E31,List_Controls!$I$3:$L$79,4,FALSE))","v":""},null,null,null,null,null,null,""]
[null,{"$f":"IF(E32=\"\",\"\",VLOOKUP($E32,List_Controls!$I$3:$L$79,2,FALSE))","v":""},{"$f":"IF(E32=\"\",\"\",VLOOKUP($E32,List_Controls!$I$3:$L$79,3,FALSE))","v":""},{"$f":"IF(E32=\"\",\"\",VLOOKUP($E32,List_Controls!$I$3:$L$79,4,FALSE))","v":""},null,null,null,null,null,null,""]
[null,{"$f":"IF(E33=\"\",\"\",VLOOKUP($E33,List_Controls!$I$3:$L$79,2,FALSE))","v":""},{"$f":"IF(E33=\"\",\"\",VLOOKUP($E33,List_Controls!$I$3:$L$79,3,FALSE))","v":""},{"$f":"IF(E33=\"\",\"\",VLOOKUP($E33,List_Controls!$I$3:$L$79,4,FALSE))","v":""},null,null,null,null,null,null,""]
[null,{"$f":"IF(E34=\"\",\"\",VLOOKUP($E34,List_Controls!$I$3:$L$79,2,FALSE))","v":""},{"$f":"IF(E34=\"\",\"\",VLOOKUP($E34,List_Controls!$I$3:$L$79,3,FALSE))","v":""},{"$f":"IF(E34=\"\",\"\",VLOOKUP($E34,List_Controls!$I$3:$L$79,4,FALSE))","v":""},null,null,null,null,null,null,""]
[null,{"$f":"IF(E35=\"\",\"\",VLOOKUP($E35,List_Controls!$I$3:$L$79,2,FALSE))","v":""},{"$f":"IF(E35=\"\",\"\",VLOOKUP($E35,List_Controls!$I$3:$L$79,3,FALSE))","v":""},{"$f":"IF(E35=\"\",\"\",VLOOKUP($E35,List_Controls!$I$3:$L$79,4,FALSE))","v":""},null,null,null,null,null,null,""]
[null,{"$f":"IF(E36=\"\",\"\",VLOOKUP($E36,List_Controls!$I$3:$L$79,2,FALSE))","v":""},{"$f":"IF(E36=\"\",\"\",VLOOKUP($E36,List_Controls!$I$3:$L$79,3,FALSE))","v":""},{"$f":"IF(E36=\"\",\"\",VLOOKUP($E36,List_Controls!$I$3:$L$79,4,FALSE))","v":""},null,null,null,null,null,null,""]
[null,{"$f":"IF(E37=\"\",\"\",VLOOKUP($E37,List_Controls!$I$3:$L$79,2,FALSE))","v":""},{"$f":"IF(E37=\"\",\"\",VLOOKUP($E37,List_Controls!$I$3:$L$79,3,FALSE))","v":""},{"$f":"IF(E37=\"\",\"\",VLOOKUP($E37,List_Controls!$I$3:$L$79,4,FALSE))","v":""},null,null,null,null,null,null,""]
[null,{"$f":"IF(E38=\"\",\"\",VLOOKUP($E38,List_Controls!$I$3:$L$79,2,FALSE))","v":""},{"$f":"IF(E38=\"\",\"\",VLOOKUP($E38,List_Controls!$I$3:$L$79,3,FALSE))","v":""},{"$f":"IF(E38=\"\",\"\",VLOOKUP($E38,List_Controls!$I$3:$L$79,4,FALSE))","v":""},null,null,null,null,null,null,""]
[null,{"$f":"IF(E39=\"\",\"\",VLOOKUP($E39,List_Controls!$I$3:$L$79,2,FALSE))","v":""},{"$f":"IF(E39=\"\",\"\",VLOOKUP($E39,List_Controls!$I$3:$L$79,3,FALSE))","v":""},{"$f":"IF(E39=\"\",\"\",VLOOKUP($E39,List_Controls!$I$3:$L$79,4,FALSE))","v":""},null,null,null,null,null,null,""]
[null,{"$f":"IF(E40=\"\",\"\",VLOOKUP($E40,List_Controls!$I$3:$L$79,2,FALSE))","v":""},{"$f":"IF(E40=\"\",\"\",VLOOKUP($E40,List_Controls!$I$3:$L$79,3,FALSE))","v":""},{"$f":"IF(E40=\"\",\"\",VLOOKUP($E40,List_Controls!$I$3:$L$79,4,FALSE))","v":""},null,null,null,null,null,null,""]
[null,{"$f":"IF(E41=\"\",\"\",VLOOKUP($E41,List_Controls!$I$3:$L$79,2,FALSE))","v":""},{"$f":"IF(E41=\"\",\"\",VLOOKUP($E41,List_Controls!$I$3:$L$79,3,FALSE))","v":""},{"$f":"IF(E41=\"\",\"\",VLOOKUP($E41,List_Controls!$I$3:$L$79,4,FALSE))","v":""},null,null,null,null,null,null,""]
[null,{"$f":"IF(E42=\"\",\"\",VLOOKUP($E42,List_Controls!$I$3:$L$79,2,FALSE))","v":""},{"$f":"IF(E42=\"\",\"\",VLOOKUP($E42,List_Controls!$I$3:$L$79,3,FALSE))","v":""},{"$f":"IF(E42=\"\",\"\",VLOOKUP($E42,List_Controls!$I$3:$L$79,4,FALSE))","v":""},null,null,null,null,null,null,""]
[null,{"$f":"IF(E43=\"\",\"\",VLOOKUP($E43,List_Controls!$I$3:$L$79,2,FALSE))","v":""},{"$f":"IF(E43=\"\",\"\",VLOOKUP($E43,List_Controls!$I$3:$L$79,3,FALSE))","v":""},{"$f":"IF(E43=\"\",\"\",VLOOKUP($E43,List_Controls!$I$3:$L$79,4,FALSE))","v":""},null,null,null,null,null,null,""]
[null,{"$f":"IF(E44=\"\",\"\",VLOOKUP($E44,List_Controls!$I$3:$L$79,2,FALSE))","v":""},{"$f":"IF(E44=\"\",\"\",VLOOKUP($E44,List_Controls!$I$3:$L$79,3,FALSE))","v":""},{"$f":"IF(E44=\"\",\"\",VLOOKUP($E44,List_Controls!$I$3:$L$79,4,FALSE))","v":""},null,null,null,null,null,null,""]
[null,{"$f":"IF(E45=\"\",\"\",VLOOKUP($E45,List_Controls!$I$3:$L$79,2,FALSE))","v":""},{"$f":"IF(E45=\"\",\"\",VLOOKUP($E45,List_Controls!$I$3:$L$79,3,FALSE))","v":""},{"$f":"IF(E45=\"\",\"\",VLOOKUP($E45,List_Controls!$I$3:$L$79,4,FALSE))","v":""},null,null,null,null,null,null,""]
[null,{"$f":"IF(E46=\"\",\"\",VLOOKUP($E46,List_Controls!$I$3:$L$79,2,FALSE))","v":""},{"$f":"IF(E46=\"\",\"\",VLOOKUP($E46,List_Controls!$I$3:$L$79,3,FALSE))","v":""},{"$f":"IF(E46=\"\",\"\",VLOOKUP($E46,List_Controls!$I$3:$L$79,4,FALSE))","v":""},null,null,null,null,null,null,""]
[null,{"$f":"IF(E47=\"\",\"\",VLOOKUP($E47,List_Controls!$I$3:$L$79,2,FALSE))","v":""},{"$f":"IF(E47=\"\",\"\",VLOOKUP($E47,List_Controls!$I$3:$L$79,3,FALSE))","v":""},{"$f":"IF(E47=\"\",\"\",VLOOKUP($E47,List_Controls!$I$3:$L$79,4,FALSE))","v":""},null,null,null,null,null,null,""]
[null,{"$f":"IF(E48=\"\",\"\",VLOOKUP($E48,List_Controls!$I$3:$L$79,2,FALSE))","v":""},{"$f":"IF(E48=\"\",\"\",VLOOKUP($E48,List_Controls!$I$3:$L$79,3,FALSE))","v":""},{"$f":"IF(E48=\"\",\"\",VLOOKUP($E48,List_Controls!$I$3:$L$79,4,FALSE))","v":""},null,null,null,null,null,null,""]
[null,{"$f":"IF(E49=\"\",\"\",VLOOKUP($E49,List_Controls!$I$3:$L$79,2,FALSE))","v":""},{"$f":"IF(E49=\"\",\"\",VLOOKUP($E49,List_Controls!$I$3:$L$79,3,FALSE))","v":""},{"$f":"IF(E49=\"\",\"\",VLOOKUP($E49,List_Controls!$I$3:$L$79,4,FALSE))","v":""},null,null,null,null,null,null,""]
[null,{"$f":"IF(E50=\"\",\"\",VLOOKUP($E50,List_Controls!$I$3:$L$79,2,FALSE))","v":""},{"$f":"IF(E50=\"\",\"\",VLOOKUP($E50,List_Controls!$I$3:$L$79,3,FALSE))","v":""},{"$f":"IF(E50=\"\",\"\",VLOOKUP($E50,List_Controls!$I$3:$L$79,4,FALSE))","v":""},null,null,null,null,null,null,""]
[null,{"$f":"IF(E51=\"\",\"\",VLOOKUP($E51,List_Controls!$I$3:$L$79,2,FALSE))","v":""},{"$f":"IF(E51=\"\",\"\",VLOOKUP($E51,List_Controls!$I$3:$L$79,3,FALSE))","v":""},{"$f":"IF(E51=\"\",\"\",VLOOKUP($E51,List_Controls!$I$3:$L$79,4,FALSE))","v":""},null,null,null,null,null,null,""]
[null,{"$f":"IF(E52=\"\",\"\",VLOOKUP($E52,List_Controls!$I$3:$L$79,2,FALSE))","v":""},{"$f":"IF(E52=\"\",\"\",VLOOKUP($E52,List_Controls!$I$3:$L$79,3,FALSE))","v":""},{"$f":"IF(E52=\"\",\"\",VLOOKUP($E52,List_Controls!$I$3:$L$79,4,FALSE))","v":""},null,null,null,null,null,null,""]
[null,{"$f":"IF(E53=\"\",\"\",VLOOKUP($E53,List_Controls!$I$3:$L$79,2,FALSE))","v":""},{"$f":"IF(E53=\"\",\"\",VLOOKUP($E53,List_Controls!$I$3:$L$79,3,FALSE))","v":""},{"$f":"IF(E53=\"\",\"\",VLOOKUP($E53,List_Controls!$I$3:$L$79,4,FALSE))","v":""},null,null,null,null,null,null,""]
[null,{"$f":"IF(E54=\"\",\"\",VLOOKUP($E54,List_Controls!$I$3:$L$79,2,FALSE))","v":""},{"$f":"IF(E54=\"\",\"\",VLOOKUP($E54,List_Controls!$I$3:$L$79,3,FALSE))","v":""},{"$f":"IF(E54=\"\",\"\",VLOOKUP($E54,List_Controls!$I$3:$L$79,4,FALSE))","v":""},null,null,null,null,null,null,""]
[null,{"$f":"IF(E55=\"\",\"\",VLOOKUP($E55,List_Controls!$I$3:$L$79,2,FALSE))","v":""},{"$f":"IF(E55=\"\",\"\",VLOOKUP($E55,List_Controls!$I$3:$L$79,3,FALSE))","v":""},{"$f":"IF(E55=\"\",\"\",VLOOKUP($E55,List_Controls!$I$3:$L$79,4,FALSE))","v":""},null,null,null,null,null,null,""]
[null,{"$f":"IF(E56=\"\",\"\",VLOOKUP($E56,List_Controls!$I$3:$L$79,2,FALSE))","v":""},{"$f":"IF(E56=\"\",\"\",VLOOKUP($E56,List_Controls!$I$3:$L$79,3,FALSE))","v":""},{"$f":"IF(E56=\"\",\"\",VLOOKUP($E56,List_Controls!$I$3:$L$79,4,FALSE))","v":""},null,null,null,null,null,null,""]
[null,{"$f":"IF(E57=\"\",\"\",VLOOKUP($E57,List_Controls!$I$3:$L$79,2,FALSE))","v":""},{"$f":"IF(E57=\"\",\"\",VLOOKUP($E57,List_Controls!$I$3:$L$79,3,FALSE))","v":""},{"$f":"IF(E57=\"\",\"\",VLOOKUP($E57,List_Controls!$I$3:$L$79,4,FALSE))","v":""},null,null,null,null,null,null,""]
[null,{"$f":"IF(E58=\"\",\"\",VLOOKUP($E58,List_Controls!$I$3:$L$79,2,FALSE))","v":""},{"$f":"IF(E58=\"\",\"\",VLOOKUP($E58,List_Controls!$I$3:$L$79,3,FALSE))","v":""},{"$f":"IF(E58=\"\",\"\",VLOOKUP($E58,List_Controls!$I$3:$L$79,4,FALSE))","v":""},null,null,null,null,null,null,""]
[null,{"$f":"IF(E59=\"\",\"\",VLOOKUP($E59,List_Controls!$I$3:$L$79,2,FALSE))","v":""},{"$f":"IF(E59=\"\",\"\",VLOOKUP($E59,List_Controls!$I$3:$L$79,3,FALSE))","v":""},{"$f":"IF(E59=\"\",\"\",VLOOKUP($E59,List_Controls!$I$3:$L$79,4,FALSE))","v":""},null,null,null,null,null,null,""]
[null,{"$f":"IF(E60=\"\",\"\",VLOOKUP($E60,List_Controls!$I$3:$L$79,2,FALSE))","v":""},{"$f":"IF(E60=\"\",\"\",VLOOKUP($E60,List_Controls!$I$3:$L$79,3,FALSE))","v":""},{"$f":"IF(E60=\"\",\"\",VLOOKUP($E60,List_Controls!$I$3:$L$79,4,FALSE))","v":""},null,null,null,null,null,null,""]
[null,{"$f":"IF(E61=\"\",\"\",VLOOKUP($E61,List_Controls!$I$3:$L$79,2,FALSE))","v":""},{"$f":"IF(E61=\"\",\"\",VLOOKUP($E61,List_Controls!$I$3:$L$79,3,FALSE))","v":""},{"$f":"IF(E61=\"\",\"\",VLOOKUP($E61,List_Controls!$I$3:$L$79,4,FALSE))","v":""},null,null,null,null,null,null,""]
[null,{"$f":"IF(E62=\"\",\"\",VLOOKUP($E62,List_Controls!$I$3:$L$79,2,FALSE))","v":""},{"$f":"IF(E62=\"\",\"\",VLOOKUP($E62,List_Controls!$I$3:$L$79,3,FALSE))","v":""},{"$f":"IF(E62=\"\",\"\",VLOOKUP($E62,List_Controls!$I$3:$L$79,4,FALSE))","v":""},null,null,null,null,null,null,""]
[null,{"$f":"IF(E63=\"\",\"\",VLOOKUP($E63,List_Controls!$I$3:$L$79,2,FALSE))","v":""},{"$f":"IF(E63=\"\",\"\",VLOOKUP($E63,List_Controls!$I$3:$L$79,3,FALSE))","v":""},{"$f":"IF(E63=\"\",\"\",VLOOKUP($E63,List_Controls!$I$3:$L$79,4,FALSE))","v":""},null,null,null,null,null,null,""]
[null,{"$f":"IF(E64=\"\",\"\",VLOOKUP($E64,List_Controls!$I$3:$L$79,2,FALSE))","v":""},{"$f":"IF(E64=\"\",\"\",VLOOKUP($E64,List_Controls!$I$3:$L$79,3,FALSE))","v":""},{"$f":"IF(E64=\"\",\"\",VLOOKUP($E64,List_Controls!$I$3:$L$79,4,FALSE))","v":""},null,null,null,null,null,null,""]
[null,{"$f":"IF(E65=\"\",\"\",VLOOKUP($E65,List_Controls!$I$3:$L$79,2,FALSE))","v":""},{"$f":"IF(E65=\"\",\"\",VLOOKUP($E65,List_Controls!$I$3:$L$79,3,FALSE))","v":""},{"$f":"IF(E65=\"\",\"\",VLOOKUP($E65,List_Controls!$I$3:$L$79,4,FALSE))","v":""},null,null,null,null,null,null,""]
[null,{"$f":"IF(E66=\"\",\"\",VLOOKUP($E66,List_Controls!$I$3:$L$79,2,FALSE))","v":""},{"$f":"IF(E66=\"\",\"\",VLOOKUP($E66,List_Controls!$I$3:$L$79,3,FALSE))","v":""},{"$f":"IF(E66=\"\",\"\",VLOOKUP($E66,List_Controls!$I$3:$L$79,4,FALSE))","v":""},null,null,null,null,null,null,""]
[null,{"$f":"IF(E67=\"\",\"\",VLOOKUP($E67,List_Controls!$I$3:$L$79,2,FALSE))","v":""},{"$f":"IF(E67=\"\",\"\",VLOOKUP($E67,List_Controls!$I$3:$L$79,3,FALSE))","v":""},{"$f":"IF(E67=\"\",\"\",VLOOKUP($E67,List_Controls!$I$3:$L$79,4,FALSE))","v":""},null,null,null,null,null,null,""]
[null,{"$f":"IF(E68=\"\",\"\",VLOOKUP($E68,List_Controls!$I$3:$L$79,2,FALSE))","v":""},{"$f":"IF(E68=\"\",\"\",VLOOKUP($E68,List_Controls!$I$3:$L$79,3,FALSE))","v":""},{"$f":"IF(E68=\"\",\"\",VLOOKUP($E68,List_Controls!$I$3:$L$79,4,FALSE))","v":""},null,null,null,null,null,null,""]
[null,{"$f":"IF(E69=\"\",\"\",VLOOKUP($E69,List_Controls!$I$3:$L$79,2,FALSE))","v":""},{"$f":"IF(E69=\"\",\"\",VLOOKUP($E69,List_Controls!$I$3:$L$79,3,FALSE))","v":""},{"$f":"IF(E69=\"\",\"\",VLOOKUP($E69,List_Controls!$I$3:$L$79,4,FALSE))","v":""},null,null,null,null,null,null,""]
[null,{"$f":"IF(E70=\"\",\"\",VLOOKUP($E70,List_Controls!$I$3:$L$79,2,FALSE))","v":""},{"$f":"IF(E70=\"\",\"\",VLOOKUP($E70,List_Controls!$I$3:$L$79,3,FALSE))","v":""},{"$f":"IF(E70=\"\",\"\",VLOOKUP($E70,List_Controls!$I$3:$L$79,4,FALSE))","v":""},null,null,null,null,null,null,""]
[null,{"$f":"IF(E71=\"\",\"\",VLOOKUP($E71,List_Controls!$I$3:$L$79,2,FALSE))","v":""},{"$f":"IF(E71=\"\",\"\",VLOOKUP($E71,List_Controls!$I$3:$L$79,3,FALSE))","v":""},{"$f":"IF(E71=\"\",\"\",VLOOKUP($E71,List_Controls!$I$3:$L$79,4,FALSE))","v":""},null,null,null,null,null,null,""]
[null,{"$f":"IF(E72=\"\",\"\",VLOOKUP($E72,List_Controls!$I$3:$L$79,2,FALSE))","v":""},{"$f":"IF(E72=\"\",\"\",VLOOKUP($E72,List_Controls!$I$3:$L$79,3,FALSE))","v":""},{"$f":"IF(E72=\"\",\"\",VLOOKUP($E72,List_Controls!$I$3:$L$79,4,FALSE))","v":""},null,null,null,null,null,null,""]
[null,{"$f":"IF(E73=\"\",\"\",VLOOKUP($E73,List_Controls!$I$3:$L$79,2,FALSE))","v":""},{"$f":"IF(E73=\"\",\"\",VLOOKUP($E73,List_Controls!$I$3:$L$79,3,FALSE))","v":""},{"$f":"IF(E73=\"\",\"\",VLOOKUP($E73,List_Controls!$I$3:$L$79,4,FALSE))","v":""},null,null,null,null,null,null,""]
[null,{"$f":"IF(E74=\"\",\"\",VLOOKUP($E74,List_Controls!$I$3:$L$79,2,FALSE))","v":""},{"$f":"IF(E74=\"\",\"\",VLOOKUP($E74,List_Controls!$I$3:$L$79,3,FALSE))","v":""},{"$f":"IF(E74=\"\",\"\",VLOOKUP($E74,List_Controls!$I$3:$L$79,4,FALSE))","v":""},null,null,null,null,null,null,""]
[null,{"$f":"IF(E75=\"\",\"\",VLOOKUP($E75,List_Controls!$I$3:$L$79,2,FALSE))","v":""},{"$f":"IF(E75=\"\",\"\",VLOOKUP($E75,List_Controls!$I$3:$L$79,3,FALSE))","v":""},{"$f":"IF(E75=\"\",\"\",VLOOKUP($E75,List_Controls!$I$3:$L$79,4,FALSE))","v":""},null,null,null,null,null,null,""]
[null,{"$f":"IF(E76=\"\",\"\",VLOOKUP($E76,List_Controls!$I$3:$L$79,2,FALSE))","v":""},{"$f":"IF(E76=\"\",\"\",VLOOKUP($E76,List_Controls!$I$3:$L$79,3,FALSE))","v":""},{"$f":"IF(E76=\"\",\"\",VLOOKUP($E76,List_Controls!$I$3:$L$79,4,FALSE))","v":""},null,null,null,null,null,null,""]
[null,{"$f":"IF(E77=\"\",\"\",VLOOKUP($E77,List_Controls!$I$3:$L$79,2,FALSE))","v":""},{"$f":"IF(E77=\"\",\"\",VLOOKUP($E77,List_Controls!$I$3:$L$79,3,FALSE))","v":""},{"$f":"IF(E77=\"\",\"\",VLOOKUP($E77,List_Controls!$I$3:$L$79,4,FALSE))","v":""},null,null,null,null,null,null,""]
[null,{"$f":"IF(E78=\"\",\"\",VLOOKUP($E78,List_Controls!$I$3:$L$79,2,FALSE))","v":""},{"$f":"IF(E78=\"\",\"\",VLOOKUP($E78,List_Controls!$I$3:$L$79,3,FALSE))","v":""},{"$f":"IF(E78=\"\",\"\",VLOOKUP($E78,List_Controls!$I$3:$L$79,4,FALSE))","v":""},null,null,null,null,null,null,""]
[null,{"$f":"IF(E79=\"\",\"\",VLOOKUP($E79,List_Controls!$I$3:$L$79,2,FALSE))","v":""},{"$f":"IF(E79=\"\",\"\",VLOOKUP($E79,List_Controls!$I$3:$L$79,3,FALSE))","v":""},{"$f":"IF(E79=\"\",\"\",VLOOKUP($E79,List_Controls!$I$3:$L$79,4,FALSE))","v":""},null,null,null,null,null,null,""]
[null,{"$f":"IF(E80=\"\",\"\",VLOOKUP($E80,List_Controls!$I$3:$L$79,2,FALSE))","v":""},{"$f":"IF(E80=\"\",\"\",VLOOKUP($E80,List_Controls!$I$3:$L$79,3,FALSE))","v":""},{"$f":"IF(E80=\"\",\"\",VLOOKUP($E80,List_Controls!$I$3:$L$79,4,FALSE))","v":""},null,null,null,null,null,null,""]
[null,{"$f":"IF(E81=\"\",\"\",VLOOKUP($E81,List_Controls!$I$3:$L$79,2,FALSE))","v":""},{"$f":"IF(E81=\"\",\"\",VLOOKUP($E81,List_Controls!$I$3:$L$79,3,FALSE))","v":""},{"$f":"IF(E81=\"\",\"\",VLOOKUP($E81,List_Controls!$I$3:$L$79,4,FALSE))","v":""},null,null,null,null,null,null,""]
[null,{"$f":"IF(E82=\"\",\"\",VLOOKUP($E82,List_Controls!$I$3:$L$79,2,FALSE))","v":""},{"$f":"IF(E82=\"\",\"\",VLOOKUP($E82,List_Controls!$I$3:$L$79,3,FALSE))","v":""},{"$f":"IF(E82=\"\",\"\",VLOOKUP($E82,List_Controls!$I$3:$L$79,4,FALSE))","v":""},null,null,null,null,null,null,""]
[null,{"$f":"IF(E83=\"\",\"\",VLOOKUP($E83,List_Controls!$I$3:$L$79,2,FALSE))","v":""},{"$f":"IF(E83=\"\",\"\",VLOOKUP($E83,List_Controls!$I$3:$L$79,3,FALSE))","v":""},{"$f":"IF(E83=\"\",\"\",VLOOKUP($E83,List_Controls!$I$3:$L$79,4,FALSE))","v":""},null,null,null,null,null,null,""]
[null,{"$f":"IF(E84=\"\",\"\",VLOOKUP($E84,List_Controls!$I$3:$L$79,2,FALSE))","v":""},{"$f":"IF(E84=\"\",\"\",VLOOKUP($E84,List_Controls!$I$3:$L$79,3,FALSE))","v":""},{"$f":"IF(E84=\"\",\"\",VLOOKUP($E84,List_Controls!$I$3:$L$79,4,FALSE))","v":""},null,null,null,null,null,null,""]
[null,{"$f":"IF(E85=\"\",\"\",VLOOKUP($E85,List_Controls!$I$3:$L$79,2,FALSE))","v":""},{"$f":"IF(E85=\"\",\"\",VLOOKUP($E85,List_Controls!$I$3:$L$79,3,FALSE))","v":""},{"$f":"IF(E85=\"\",\"\",VLOOKUP($E85,List_Controls!$I$3:$L$79,4,FALSE))","v":""},null,null,null,null,null,null,""]
[null,{"$f":"IF(E86=\"\",\"\",VLOOKUP($E86,List_Controls!$I$3:$L$79,2,FALSE))","v":""},{"$f":"IF(E86=\"\",\"\",VLOOKUP($E86,List_Controls!$I$3:$L$79,3,FALSE))","v":""},{"$f":"IF(E86=\"\",\"\",VLOOKUP($E86,List_Controls!$I$3:$L$79,4,FALSE))","v":""},null,null,null,null,null,null,""]
[null,{"$f":"IF(E87=\"\",\"\",VLOOKUP($E87,List_Controls!$I$3:$L$79,2,FALSE))","v":""},{"$f":"IF(E87=\"\",\"\",VLOOKUP($E87,List_Controls!$I$3:$L$79,3,FALSE))","v":""},{"$f":"IF(E87=\"\",\"\",VLOOKUP($E87,List_Controls!$I$3:$L$79,4,FALSE))","v":""},null,null,null,null,null,null,""]
[null,{"$f":"IF(E88=\"\",\"\",VLOOKUP($E88,List_Controls!$I$3:$L$79,2,FALSE))","v":""},{"$f":"IF(E88=\"\",\"\",VLOOKUP($E88,List_Controls!$I$3:$L$79,3,FALSE))","v":""},{"$f":"IF(E88=\"\",\"\",VLOOKUP($E88,List_Controls!$I$3:$L$79,4,FALSE))","v":""},null,null,null,null,null,null,""]
[null,{"$f":"IF(E89=\"\",\"\",VLOOKUP($E89,List_Controls!$I$3:$L$79,2,FALSE))","v":""},{"$f":"IF(E89=\"\",\"\",VLOOKUP($E89,List_Controls!$I$3:$L$79,3,FALSE))","v":""},{"$f":"IF(E89=\"\",\"\",VLOOKUP($E89,List_Controls!$I$3:$L$79,4,FALSE))","v":""},null,null,null,null,null,null,""]
[null,{"$f":"IF(E90=\"\",\"\",VLOOKUP($E90,List_Controls!$I$3:$L$79,2,FALSE))","v":""},{"$f":"IF(E90=\"\",\"\",VLOOKUP($E90,List_Controls!$I$3:$L$79,3,FALSE))","v":""},{"$f":"IF(E90=\"\",\"\",VLOOKUP($E90,List_Controls!$I$3:$L$79,4,FALSE))","v":""},null,null,null,null,null,null,{"$f":"IF(J90=\"\",\"\",(VALUE(TEXT(I90,\"m/dd/yy \")&TEXT(J90,\"hh:mm:ss\"))-(VALUE(TEXT(G90,\"m/dd/yy \")&TEXT(H90,\"hh:mm:ss\"))))*24)","v":""}]
[null,{"$f":"IF(E91=\"\",\"\",VLOOKUP($E91,List_Controls!$I$3:$L$79,2,FALSE))","v":""},{"$f":"IF(E91=\"\",\"\",VLOOKUP($E91,List_Controls!$I$3:$L$79,3,FALSE))","v":""},{"$f":"IF(E91=\"\",\"\",VLOOKUP($E91,List_Controls!$I$3:$L$79,4,FALSE))","v":""},null,null,null,null,null,null,""]
[null,{"$f":"IF(E92=\"\",\"\",VLOOKUP($E92,List_Controls!$I$3:$L$79,2,FALSE))","v":""},{"$f":"IF(E92=\"\",\"\",VLOOKUP($E92,List_Controls!$I$3:$L$79,3,FALSE))","v":""},{"$f":"IF(E92=\"\",\"\",VLOOKUP($E92,List_Controls!$I$3:$L$79,4,FALSE))","v":""},null,null,null,null,null,null,""]
[null,{"$f":"IF(E93=\"\",\"\",VLOOKUP($E93,List_Controls!$I$3:$L$79,2,FALSE))","v":""},{"$f":"IF(E93=\"\",\"\",VLOOKUP($E93,List_Controls!$I$3:$L$79,3,FALSE))","v":""},{"$f":"IF(E93=\"\",\"\",VLOOKUP($E93,List_Controls!$I$3:$L$79,4,FALSE))","v":""},null,null,null,null,null,null,""]
[null,{"$f":"IF(E94=\"\",\"\",VLOOKUP($E94,List_Controls!$I$3:$L$79,2,FALSE))","v":""},{"$f":"IF(E94=\"\",\"\",VLOOKUP($E94,List_Controls!$I$3:$L$79,3,FALSE))","v":""},{"$f":"IF(E94=\"\",\"\",VLOOKUP($E94,List_Controls!$I$3:$L$79,4,FALSE))","v":""},null,null,null,null,null,null,""]
[null,{"$f":"IF(E95=\"\",\"\",VLOOKUP($E95,List_Controls!$I$3:$L$79,2,FALSE))","v":""},{"$f":"IF(E95=\"\",\"\",VLOOKUP($E95,List_Controls!$I$3:$L$79,3,FALSE))","v":""},{"$f":"IF(E95=\"\",\"\",VLOOKUP($E95,List_Controls!$I$3:$L$79,4,FALSE))","v":""},null,null,null,null,null,null,""]
[null,{"$f":"IF(E96=\"\",\"\",VLOOKUP($E96,List_Controls!$I$3:$L$79,2,FALSE))","v":""},{"$f":"IF(E96=\"\",\"\",VLOOKUP($E96,List_Controls!$I$3:$L$79,3,FALSE))","v":""},{"$f":"IF(E96=\"\",\"\",VLOOKUP($E96,List_Controls!$I$3:$L$79,4,FALSE))","v":""},null,null,null,null,null,null,""]
[null,{"$f":"IF(E97=\"\",\"\",VLOOKUP($E97,List_Controls!$I$3:$L$79,2,FALSE))","v":""},{"$f":"IF(E97=\"\",\"\",VLOOKUP($E97,List_Controls!$I$3:$L$79,3,FALSE))","v":""},{"$f":"IF(E97=\"\",\"\",VLOOKUP($E97,List_Controls!$I$3:$L$79,4,FALSE))","v":""},null,null,null,null,null,null,""]
[null,{"$f":"IF(E98=\"\",\"\",VLOOKUP($E98,List_Controls!$I$3:$L$79,2,FALSE))","v":""},{"$f":"IF(E98=\"\",\"\",VLOOKUP($E98,List_Controls!$I$3:$L$79,3,FALSE))","v":""},{"$f":"IF(E98=\"\",\"\",VLOOKUP($E98,List_Controls!$I$3:$L$79,4,FALSE))","v":""},null,null,null,null,null,null,""]
[null,{"$f":"IF(E99=\"\",\"\",VLOOKUP($E99,List_Controls!$I$3:$L$79,2,FALSE))","v":""},{"$f":"IF(E99=\"\",\"\",VLOOKUP($E99,List_Controls!$I$3:$L$79,3,FALSE))","v":""},{"$f":"IF(E99=\"\",\"\",VLOOKUP($E99,List_Controls!$I$3:$L$79,4,FALSE))","v":""},null,null,null,null,null,null,""]
[null,{"$f":"IF(E100=\"\",\"\",VLOOKUP($E100,List_Controls!$I$3:$L$79,2,FALSE))","v":""},{"$f":"IF(E100=\"\",\"\",VLOOKUP($E100,List_Controls!$I$3:$L$79,3,FALSE))","v":""},{"$f":"IF(E100=\"\",\"\",VLOOKUP($E100,List_Controls!$I$3:$L$79,4,FALSE))","v":""},null,null,null,null,null,null,""]
[null,{"$f":"IF(E101=\"\",\"\",VLOOKUP($E101,List_Controls!$I$3:$L$79,2,FALSE))","v":""},{"$f":"IF(E101=\"\",\"\",VLOOKUP($E101,List_Controls!$I$3:$L$79,3,FALSE))","v":""},{"$f":"IF(E101=\"\",\"\",VLOOKUP($E101,List_Controls!$I$3:$L$79,4,FALSE))","v":""},null,null,null,null,null,null,""]
[null,{"$f":"IF(E102=\"\",\"\",VLOOKUP($E102,List_Controls!$I$3:$L$79,2,FALSE))","v":""},{"$f":"IF(E102=\"\",\"\",VLOOKUP($E102,List_Controls!$I$3:$L$79,3,FALSE))","v":""},{"$f":"IF(E102=\"\",\"\",VLOOKUP($E102,List_Controls!$I$3:$L$79,4,FALSE))","v":""},null,null,null,null,null,null,""]
[null,{"$f":"IF(E103=\"\",\"\",VLOOKUP($E103,List_Controls!$I$3:$L$79,2,FALSE))","v":""},{"$f":"IF(E103=\"\",\"\",VLOOKUP($E103,List_Controls!$I$3:$L$79,3,FALSE))","v":""},{"$f":"IF(E103=\"\",\"\",VLOOKUP($E103,List_Controls!$I$3:$L$79,4,FALSE))","v":""},null,null,null,null,null,null,""]
[null,{"$f":"IF(E104=\"\",\"\",VLOOKUP($E104,List_Controls!$I$3:$L$79,2,FALSE))","v":""},{"$f":"IF(E104=\"\",\"\",VLOOKUP($E104,List_Controls!$I$3:$L$79,3,FALSE))","v":""},{"$f":"IF(E104=\"\",\"\",VLOOKUP($E104,List_Controls!$I$3:$L$79,4,FALSE))","v":""},null,null,null,null,null,null,""]
[null,{"$f":"IF(E105=\"\",\"\",VLOOKUP($E105,List_Controls!$I$3:$L$79,2,FALSE))","v":""},{"$f":"IF(E105=\"\",\"\",VLOOKUP($E105,List_Controls!$I$3:$L$79,3,FALSE))","v":""},{"$f":"IF(E105=\"\",\"\",VLOOKUP($E105,List_Controls!$I$3:$L$79,4,FALSE))","v":""},null,null,null,null,null,null,""]
[null,{"$f":"IF(E106=\"\",\"\",VLOOKUP($E106,List_Controls!$I$3:$L$79,2,FALSE))","v":""},{"$f":"IF(E106=\"\",\"\",VLOOKUP($E106,List_Controls!$I$3:$L$79,3,FALSE))","v":""},{"$f":"IF(E106=\"\",\"\",VLOOKUP($E106,List_Controls!$I$3:$L$79,4,FALSE))","v":""},null,null,null,null,null,null,""]
[null,{"$f":"IF(E107=\"\",\"\",VLOOKUP($E107,List_Controls!$I$3:$L$79,2,FALSE))","v":""},{"$f":"IF(E107=\"\",\"\",VLOOKUP($E107,List_Controls!$I$3:$L$79,3,FALSE))","v":""},{"$f":"IF(E107=\"\",\"\",VLOOKUP($E107,List_Controls!$I$3:$L$79,4,FALSE))","v":""},null,null,null,null,null,null,""]
[null,{"$f":"IF(E108=\"\",\"\",VLOOKUP($E108,List_Controls!$I$3:$L$79,2,FALSE))","v":""},{"$f":"IF(E108=\"\",\"\",VLOOKUP($E108,List_Controls!$I$3:$L$79,3,FALSE))","v":""},{"$f":"IF(E108=\"\",\"\",VLOOKUP($E108,List_Controls!$I$3:$L$79,4,FALSE))","v":""},null,null,null,null,null,null,""]
[null,{"$f":"IF(E109=\"\",\"\",VLOOKUP($E109,List_Controls!$I$3:$L$79,2,FALSE))","v":""},{"$f":"IF(E109=\"\",\"\",VLOOKUP($E109,List_Controls!$I$3:$L$79,3,FALSE))","v":""},{"$f":"IF(E109=\"\",\"\",VLOOKUP($E109,List_Controls!$I$3:$L$79,4,FALSE))","v":""},null,null,null,null,null,null,""]
[null,{"$f":"IF(E110=\"\",\"\",VLOOKUP($E110,List_Controls!$I$3:$L$79,2,FALSE))","v":""},{"$f":"IF(E110=\"\",\"\",VLOOKUP($E110,List_Controls!$I$3:$L$79,3,FALSE))","v":""},{"$f":"IF(E110=\"\",\"\",VLOOKUP($E110,List_Controls!$I$3:$L$79,4,FALSE))","v":""},null,null,null,null,null,null,""]
[null,{"$f":"IF(E111=\"\",\"\",VLOOKUP($E111,List_Controls!$I$3:$L$79,2,FALSE))","v":""},{"$f":"IF(E111=\"\",\"\",VLOOKUP($E111,List_Controls!$I$3:$L$79,3,FALSE))","v":""},{"$f":"IF(E111=\"\",\"\",VLOOKUP($E111,List_Controls!$I$3:$L$79,4,FALSE))","v":""},null,null,null,null,null,null,""]
[null,{"$f":"IF(E112=\"\",\"\",VLOOKUP($E112,List_Controls!$I$3:$L$79,2,FALSE))","v":""},{"$f":"IF(E112=\"\",\"\",VLOOKUP($E112,List_Controls!$I$3:$L$79,3,FALSE))","v":""},{"$f":"IF(E112=\"\",\"\",VLOOKUP($E112,List_Controls!$I$3:$L$79,4,FALSE))","v":""},null,null,null,null,null,null,""]
[null,{"$f":"IF(E113=\"\",\"\",VLOOKUP($E113,List_Controls!$I$3:$L$79,2,FALSE))","v":""},{"$f":"IF(E113=\"\",\"\",VLOOKUP($E113,List_Controls!$I$3:$L$79,3,FALSE))","v":""},{"$f":"IF(E113=\"\",\"\",VLOOKUP($E113,List_Controls!$I$3:$L$79,4,FALSE))","v":""},null,null,null,null,null,null,""]
[null,{"$f":"IF(E114=\"\",\"\",VLOOKUP($E114,List_Controls!$I$3:$L$79,2,FALSE))","v":""},{"$f":"IF(E114=\"\",\"\",VLOOKUP($E114,List_Controls!$I$3:$L$79,3,FALSE))","v":""},{"$f":"IF(E114=\"\",\"\",VLOOKUP($E114,List_Controls!$I$3:$L$79,4,FALSE))","v":""},null,null,null,null,null,null,""]
[null,{"$f":"IF(E115=\"\",\"\",VLOOKUP($E115,List_Controls!$I$3:$L$79,2,FALSE))","v":""},{"$f":"IF(E115=\"\",\"\",VLOOKUP($E115,List_Controls!$I$3:$L$79,3,FALSE))","v":""},{"$f":"IF(E115=\"\",\"\",VLOOKUP($E115,List_Controls!$I$3:$L$79,4,FALSE))","v":""},null,null,null,null,null,null,""]
[null,{"$f":"IF(E116=\"\",\"\",VLOOKUP($E116,List_Controls!$I$3:$L$79,2,FALSE))","v":""},{"$f":"IF(E116=\"\",\"\",VLOOKUP($E116,List_Controls!$I$3:$L$79,3,FALSE))","v":""},{"$f":"IF(E116=\"\",\"\",VLOOKUP($E116,List_Controls!$I$3:$L$79,4,FALSE))","v":""},null,null,null,null,null,null,""]
[null,{"$f":"IF(E117=\"\",\"\",VLOOKUP($E117,List_Controls!$I$3:$L$79,2,FALSE))","v":""},{"$f":"IF(E117=\"\",\"\",VLOOKUP($E117,List_Controls!$I$3:$L$79,3,FALSE))","v":""},{"$f":"IF(E117=\"\",\"\",VLOOKUP($E117,List_Controls!$I$3:$L$79,4,FALSE))","v":""},null,null,null,null,null,null,""]
[null,{"$f":"IF(E118=\"\",\"\",VLOOKUP($E118,List_Controls!$I$3:$L$79,2,FALSE))","v":""},{"$f":"IF(E118=\"\",\"\",VLOOKUP($E118,List_Controls!$I$3:$L$79,3,FALSE))","v":""},{"$f":"IF(E118=\"\",\"\",VLOOKUP($E118,List_Controls!$I$3:$L$79,4,FALSE))","v":""},null,null,null,null,null,null,""]
[null,{"$f":"IF(E119=\"\",\"\",VLOOKUP($E119,List_Controls!$I$3:$L$79,2,FALSE))","v":""},{"$f":"IF(E119=\"\",\"\",VLOOKUP($E119,List_Controls!$I$3:$L$79,3,FALSE))","v":""},{"$f":"IF(E119=\"\",\"\",VLOOKUP($E119,List_Controls!$I$3:$L$79,4,FALSE))","v":""},null,null,null,null,null,null,""]
[null,{"$f":"IF(E120=\"\",\"\",VLOOKUP($E120,List_Controls!$I$3:$L$79,2,FALSE))","v":""},{"$f":"IF(E120=\"\",\"\",VLOOKUP($E120,List_Controls!$I$3:$L$79,3,FALSE))","v":""},{"$f":"IF(E120=\"\",\"\",VLOOKUP($E120,List_Controls!$I$3:$L$79,4,FALSE))","v":""},null,null,null,null,null,null,""]
[null,{"$f":"IF(E121=\"\",\"\",VLOOKUP($E121,List_Controls!$I$3:$L$79,2,FALSE))","v":""},{"$f":"IF(E121=\"\",\"\",VLOOKUP($E121,List_Controls!$I$3:$L$79,3,FALSE))","v":""},{"$f":"IF(E121=\"\",\"\",VLOOKUP($E121,List_Controls!$I$3:$L$79,4,FALSE))","v":""},null,null,null,null,null,null,""]
[null,{"$f":"IF(E122=\"\",\"\",VLOOKUP($E122,List_Controls!$I$3:$L$79,2,FALSE))","v":""},{"$f":"IF(E122=\"\",\"\",VLOOKUP($E122,List_Controls!$I$3:$L$79,3,FALSE))","v":""},{"$f":"IF(E122=\"\",\"\",VLOOKUP($E122,List_Controls!$I$3:$L$79,4,FALSE))","v":""},null,null,null,null,null,null,""]
[null,{"$f":"IF(E123=\"\",\"\",VLOOKUP($E123,List_Controls!$I$3:$L$79,2,FALSE))","v":""},{"$f":"IF(E123=\"\",\"\",VLOOKUP($E123,List_Controls!$I$3:$L$79,3,FALSE))","v":""},{"$f":"IF(E123=\"\",\"\",VLOOKUP($E123,List_Controls!$I$3:$L$79,4,FALSE))","v":""},null,null,null,null,null,null,""]
[null,{"$f":"IF(E124=\"\",\"\",VLOOKUP($E124,List_Controls!$I$3:$L$79,2,FALSE))","v":""},{"$f":"IF(E124=\"\",\"\",VLOOKUP($E124,List_Controls!$I$3:$L$79,3,FALSE))","v":""},{"$f":"IF(E124=\"\",\"\",VLOOKUP($E124,List_Controls!$I$3:$L$79,4,FALSE))","v":""},null,null,null,null,null,null,""]
[null,{"$f":"IF(E125=\"\",\"\",VLOOKUP($E125,List_Controls!$I$3:$L$79,2,FALSE))","v":""},{"$f":"IF(E125=\"\",\"\",VLOOKUP($E125,List_Controls!$I$3:$L$79,3,FALSE))","v":""},{"$f":"IF(E125=\"\",\"\",VLOOKUP($E125,List_Controls!$I$3:$L$79,4,FALSE))","v":""},null,null,null,null,null,null,""]
[null,{"$f":"IF(E126=\"\",\"\",VLOOKUP($E126,List_Controls!$I$3:$L$79,2,FALSE))","v":""},{"$f":"IF(E126=\"\",\"\",VLOOKUP($E126,List_Controls!$I$3:$L$79,3,FALSE))","v":""},{"$f":"IF(E126=\"\",\"\",VLOOKUP($E126,List_Controls!$I$3:$L$79,4,FALSE))","v":""},null,null,null,null,null,null,""]
[null,{"$f":"IF(E127=\"\",\"\",VLOOKUP($E127,List_Controls!$I$3:$L$79,2,FALSE))","v":""},{"$f":"IF(E127=\"\",\"\",VLOOKUP($E127,List_Controls!$I$3:$L$79,3,FALSE))","v":""},{"$f":"IF(E127=\"\",\"\",VLOOKUP($E127,List_Controls!$I$3:$L$79,4,FALSE))","v":""},null,null,null,null,null,null,""]
[null,{"$f":"IF(E128=\"\",\"\",VLOOKUP($E128,List_Controls!$I$3:$L$79,2,FALSE))","v":""},{"$f":"IF(E128=\"\",\"\",VLOOKUP($E128,List_Controls!$I$3:$L$79,3,FALSE))","v":""},{"$f":"IF(E128=\"\",\"\",VLOOKUP($E128,List_Controls!$I$3:$L$79,4,FALSE))","v":""},null,null,null,null,null,null,""]
[null,{"$f":"IF(E129=\"\",\"\",VLOOKUP($E129,List_Controls!$I$3:$L$79,2,FALSE))","v":""},{"$f":"IF(E129=\"\",\"\",VLOOKUP($E129,List_Controls!$I$3:$L$79,3,FALSE))","v":""},{"$f":"IF(E129=\"\",\"\",VLOOKUP($E129,List_Controls!$I$3:$L$79,4,FALSE))","v":""},null,null,null,null,null,null,""]
[null,{"$f":"IF(E130=\"\",\"\",VLOOKUP($E130,List_Controls!$I$3:$L$79,2,FALSE))","v":""},{"$f":"IF(E130=\"\",\"\",VLOOKUP($E130,List_Controls!$I$3:$L$79,3,FALSE))","v":""},{"$f":"IF(E130=\"\",\"\",VLOOKUP($E130,List_Controls!$I$3:$L$79,4,FALSE))","v":""},null,null,null,null,null,null,""]
[null,{"$f":"IF(E131=\"\",\"\",VLOOKUP($E131,List_Controls!$I$3:$L$79,2,FALSE))","v":""},{"$f":"IF(E131=\"\",\"\",VLOOKUP($E131,List_Controls!$I$3:$L$79,3,FALSE))","v":""},{"$f":"IF(E131=\"\",\"\",VLOOKUP($E131,List_Controls!$I$3:$L$79,4,FALSE))","v":""},null,null,null,null,null,null,""]
[null,{"$f":"IF(E132=\"\",\"\",VLOOKUP($E132,List_Controls!$I$3:$L$79,2,FALSE))","v":""},{"$f":"IF(E132=\"\",\"\",VLOOKUP($E132,List_Controls!$I$3:$L$79,3,FALSE))","v":""},{"$f":"IF(E132=\"\",\"\",VLOOKUP($E132,List_Controls!$I$3:$L$79,4,FALSE))","v":""},null,null,null,null,null,null,""]
[null,{"$f":"IF(E133=\"\",\"\",VLOOKUP($E133,List_Controls!$I$3:$L$79,2,FALSE))","v":""},{"$f":"IF(E133=\"\",\"\",VLOOKUP($E133,List_Controls!$I$3:$L$79,3,FALSE))","v":""},{"$f":"IF(E133=\"\",\"\",VLOOKUP($E133,List_Controls!$I$3:$L$79,4,FALSE))","v":""},null,null,null,null,null,null,""]
[null,{"$f":"IF(E134=\"\",\"\",VLOOKUP($E134,List_Controls!$I$3:$L$79,2,FALSE))","v":""},{"$f":"IF(E134=\"\",\"\",VLOOKUP($E134,List_Controls!$I$3:$L$79,3,FALSE))","v":""},{"$f":"IF(E134=\"\",\"\",VLOOKUP($E134,List_Controls!$I$3:$L$79,4,FALSE))","v":""},null,null,null,null,null,null,""]
[null,{"$f":"IF(E135=\"\",\"\",VLOOKUP($E135,List_Controls!$I$3:$L$79,2,FALSE))","v":""},{"$f":"IF(E135=\"\",\"\",VLOOKUP($E135,List_Controls!$I$3:$L$79,3,FALSE))","v":""},{"$f":"IF(E135=\"\",\"\",VLOOKUP($E135,List_Controls!$I$3:$L$79,4,FALSE))","v":""},null,null,null,null,null,null,""]
[null,{"$f":"IF(E136=\"\",\"\",VLOOKUP($E136,List_Controls!$I$3:$L$79,2,FALSE))","v":""},{"$f":"IF(E136=\"\",\"\",VLOOKUP($E136,List_Controls!$I$3:$L$79,3,FALSE))","v":""},{"$f":"IF(E136=\"\",\"\",VLOOKUP($E136,List_Controls!$I$3:$L$79,4,FALSE))","v":""},null,null,null,null,null,null,""]
[null,{"$f":"IF(E137=\"\",\"\",VLOOKUP($E137,List_Controls!$I$3:$L$79,2,FALSE))","v":""},{"$f":"IF(E137=\"\",\"\",VLOOKUP($E137,List_Controls!$I$3:$L$79,3,FALSE))","v":""},{"$f":"IF(E137=\"\",\"\",VLOOKUP($E137,List_Controls!$I$3:$L$79,4,FALSE))","v":""},null,null,null,null,null,null,""]
[null,{"$f":"IF(E138=\"\",\"\",VLOOKUP($E138,List_Controls!$I$3:$L$79,2,FALSE))","v":""},{"$f":"IF(E138=\"\",\"\",VLOOKUP($E138,List_Controls!$I$3:$L$79,3,FALSE))","v":""},{"$f":"IF(E138=\"\",\"\",VLOOKUP($E138,List_Controls!$I$3:$L$79,4,FALSE))","v":""},null,null,null,null,null,null,""]
[null,{"$f":"IF(E139=\"\",\"\",VLOOKUP($E139,List_Controls!$I$3:$L$79,2,FALSE))","v":""},{"$f":"IF(E139=\"\",\"\",VLOOKUP($E139,List_Controls!$I$3:$L$79,3,FALSE))","v":""},{"$f":"IF(E139=\"\",\"\",VLOOKUP($E139,List_Controls!$I$3:$L$79,4,FALSE))","v":""},null,null,null,null,null,null,""]
[null,{"$f":"IF(E140=\"\",\"\",VLOOKUP($E140,List_Controls!$I$3:$L$79,2,FALSE))","v":""},{"$f":"IF(E140=\"\",\"\",VLOOKUP($E140,List_Controls!$I$3:$L$79,3,FALSE))","v":""},{"$f":"IF(E140=\"\",\"\",VLOOKUP($E140,List_Controls!$I$3:$L$79,4,FALSE))","v":""},null,null,null,null,null,null,""]
[null,{"$f":"IF(E141=\"\",\"\",VLOOKUP($E141,List_Controls!$I$3:$L$79,2,FALSE))","v":""},{"$f":"IF(E141=\"\",\"\",VLOOKUP($E141,List_Controls!$I$3:$L$79,3,FALSE))","v":""},{"$f":"IF(E141=\"\",\"\",VLOOKUP($E141,List_Controls!$I$3:$L$79,4,FALSE))","v":""},null,null,null,null,null,null,""]
[null,{"$f":"IF(E142=\"\",\"\",VLOOKUP($E142,List_Controls!$I$3:$L$79,2,FALSE))","v":""},{"$f":"IF(E142=\"\",\"\",VLOOKUP($E142,List_Controls!$I$3:$L$79,3,FALSE))","v":""},{"$f":"IF(E142=\"\",\"\",VLOOKUP($E142,List_Controls!$I$3:$L$79,4,FALSE))","v":""},null,null,null,null,null,null,""]
[null,{"$f":"IF(E143=\"\",\"\",VLOOKUP($E143,List_Controls!$I$3:$L$79,2,FALSE))","v":""},{"$f":"IF(E143=\"\",\"\",VLOOKUP($E143,List_Controls!$I$3:$L$79,3,FALSE))","v":""},{"$f":"IF(E143=\"\",\"\",VLOOKUP($E143,List_Controls!$I$3:$L$79,4,FALSE))","v":""},null,null,null,null,null,null,""]
[null,{"$f":"IF(E144=\"\",\"\",VLOOKUP($E144,List_Controls!$I$3:$L$79,2,FALSE))","v":""},{"$f":"IF(E144=\"\",\"\",VLOOKUP($E144,List_Controls!$I$3:$L$79,3,FALSE))","v":""},{"$f":"IF(E144=\"\",\"\",VLOOKUP($E144,List_Controls!$I$3:$L$79,4,FALSE))","v":""},null,null,null,null,null,null,""]
[null,{"$f":"IF(E145=\"\",\"\",VLOOKUP($E145,List_Controls!$I$3:$L$79,2,FALSE))","v":""},{"$f":"IF(E145=\"\",\"\",VLOOKUP($E145,List_Controls!$I$3:$L$79,3,FALSE))","v":""},{"$f":"IF(E145=\"\",\"\",VLOOKUP($E145,List_Controls!$I$3:$L$79,4,FALSE))","v":""},null,null,null,null,null,null,""]
[null,{"$f":"IF(E146=\"\",\"\",VLOOKUP($E146,List_Controls!$I$3:$L$79,2,FALSE))","v":""},{"$f":"IF(E146=\"\",\"\",VLOOKUP($E146,List_Controls!$I$3:$L$79,3,FALSE))","v":""},{"$f":"IF(E146=\"\",\"\",VLOOKUP($E146,List_Controls!$I$3:$L$79,4,FALSE))","v":""},null,null,null,null,null,null,""]
[null,{"$f":"IF(E147=\"\",\"\",VLOOKUP($E147,List_Controls!$I$3:$L$79,2,FALSE))","v":""},{"$f":"IF(E147=\"\",\"\",VLOOKUP($E147,List_Controls!$I$3:$L$79,3,FALSE))","v":""},{"$f":"IF(E147=\"\",\"\",VLOOKUP($E147,List_Controls!$I$3:$L$79,4,FALSE))","v":""},null,null,null,null,null,null,""]
[null,{"$f":"IF(E148=\"\",\"\",VLOOKUP($E148,List_Controls!$I$3:$L$79,2,FALSE))","v":""},{"$f":"IF(E148=\"\",\"\",VLOOKUP($E148,List_Controls!$I$3:$L$79,3,FALSE))","v":""},{"$f":"IF(E148=\"\",\"\",VLOOKUP($E148,List_Controls!$I$3:$L$79,4,FALSE))","v":""},null,null,null,null,null,null,""]
[null,{"$f":"IF(E149=\"\",\"\",VLOOKUP($E149,List_Controls!$I$3:$L$79,2,FALSE))","v":""},{"$f":"IF(E149=\"\",\"\",VLOOKUP($E149,List_Controls!$I$3:$L$79,3,FALSE))","v":""},{"$f":"IF(E149=\"\",\"\",VLOOKUP($E149,List_Controls!$I$3:$L$79,4,FALSE))","v":""},null,null,null,null,null,null,""]
[null,{"$f":"IF(E150=\"\",\"\",VLOOKUP($E150,List_Controls!$I$3:$L$79,2,FALSE))","v":""},{"$f":"IF(E150=\"\",\"\",VLOOKUP($E150,List_Controls!$I$3:$L$79,3,FALSE))","v":""},{"$f":"IF(E150=\"\",\"\",VLOOKUP($E150,List_Controls!$I$3:$L$79,4,FALSE))","v":""},null,null,null,null,null,null,""]
[null,{"$f":"IF(E151=\"\",\"\",VLOOKUP($E151,List_Controls!$I$3:$L$79,2,FALSE))","v":""},{"$f":"IF(E151=\"\",\"\",VLOOKUP($E151,List_Controls!$I$3:$L$79,3,FALSE))","v":""},{"$f":"IF(E151=\"\",\"\",VLOOKUP($E151,List_Controls!$I$3:$L$79,4,FALSE))","v":""},null,null,null,null,null,null,""]
[null,{"$f":"IF(E152=\"\",\"\",VLOOKUP($E152,List_Controls!$I$3:$L$79,2,FALSE))","v":""},{"$f":"IF(E152=\"\",\"\",VLOOKUP($E152,List_Controls!$I$3:$L$79,3,FALSE))","v":""},{"$f":"IF(E152=\"\",\"\",VLOOKUP($E152,List_Controls!$I$3:$L$79,4,FALSE))","v":""},null,null,null,null,null,null,""]
[null,{"$f":"IF(E153=\"\",\"\",VLOOKUP($E153,List_Controls!$I$3:$L$79,2,FALSE))","v":""},{"$f":"IF(E153=\"\",\"\",VLOOKUP($E153,List_Controls!$I$3:$L$79,3,FALSE))","v":""},{"$f":"IF(E153=\"\",\"\",VLOOKUP($E153,List_Controls!$I$3:$L$79,4,FALSE))","v":""},null,null,null,null,null,null,""]
[null,{"$f":"IF(E154=\"\",\"\",VLOOKUP($E154,List_Controls!$I$3:$L$79,2,FALSE))","v":""},{"$f":"IF(E154=\"\",\"\",VLOOKUP($E154,List_Controls!$I$3:$L$79,3,FALSE))","v":""},{"$f":"IF(E154=\"\",\"\",VLOOKUP($E154,List_Controls!$I$3:$L$79,4,FALSE))","v":""},null,null,null,null,null,null,{"$f":"IF(J154=\"\",\"\",(VALUE(TEXT(I154,\"m/dd/yy \")&TEXT(J154,\"hh:mm:ss\"))-(VALUE(TEXT(G154,\"m/dd/yy \")&TEXT(H154,\"hh:mm:ss\"))))*24)","v":""}]
[null,{"$f":"IF(E155=\"\",\"\",VLOOKUP($E155,List_Controls!$I$3:$L$79,2,FALSE))","v":""},{"$f":"IF(E155=\"\",\"\",VLOOKUP($E155,List_Controls!$I$3:$L$79,3,FALSE))","v":""},{"$f":"IF(E155=\"\",\"\",VLOOKUP($E155,List_Controls!$I$3:$L$79,4,FALSE))","v":""},null,null,null,null,null,null,""]
[null,{"$f":"IF(E156=\"\",\"\",VLOOKUP($E156,List_Controls!$I$3:$L$79,2,FALSE))","v":""},{"$f":"IF(E156=\"\",\"\",VLOOKUP($E156,List_Controls!$I$3:$L$79,3,FALSE))","v":""},{"$f":"IF(E156=\"\",\"\",VLOOKUP($E156,List_Controls!$I$3:$L$79,4,FALSE))","v":""},null,null,null,null,null,null,""]
[null,{"$f":"IF(E157=\"\",\"\",VLOOKUP($E157,List_Controls!$I$3:$L$79,2,FALSE))","v":""},{"$f":"IF(E157=\"\",\"\",VLOOKUP($E157,List_Controls!$I$3:$L$79,3,FALSE))","v":""},{"$f":"IF(E157=\"\",\"\",VLOOKUP($E157,List_Controls!$I$3:$L$79,4,FALSE))","v":""},null,null,null,null,null,null,""]
[null,{"$f":"IF(E158=\"\",\"\",VLOOKUP($E158,List_Controls!$I$3:$L$79,2,FALSE))","v":""},{"$f":"IF(E158=\"\",\"\",VLOOKUP($E158,List_Controls!$I$3:$L$79,3,FALSE))","v":""},{"$f":"IF(E158=\"\",\"\",VLOOKUP($E158,List_Controls!$I$3:$L$79,4,FALSE))","v":""},null,null,null,null,null,null,""]
[null,{"$f":"IF(E159=\"\",\"\",VLOOKUP($E159,List_Controls!$I$3:$L$79,2,FALSE))","v":""},{"$f":"IF(E159=\"\",\"\",VLOOKUP($E159,List_Controls!$I$3:$L$79,3,FALSE))","v":""},{"$f":"IF(E159=\"\",\"\",VLOOKUP($E159,List_Controls!$I$3:$L$79,4,FALSE))","v":""},null,null,null,null,null,null,""]
[null,{"$f":"IF(E160=\"\",\"\",VLOOKUP($E160,List_Controls!$I$3:$L$79,2,FALSE))","v":""},{"$f":"IF(E160=\"\",\"\",VLOOKUP($E160,List_Controls!$I$3:$L$79,3,FALSE))","v":""},{"$f":"IF(E160=\"\",\"\",VLOOKUP($E160,List_Controls!$I$3:$L$79,4,FALSE))","v":""},null,null,null,null,null,null,""]
[null,{"$f":"IF(E161=\"\",\"\",VLOOKUP($E161,List_Controls!$I$3:$L$79,2,FALSE))","v":""},{"$f":"IF(E161=\"\",\"\",VLOOKUP($E161,List_Controls!$I$3:$L$79,3,FALSE))","v":""},{"$f":"IF(E161=\"\",\"\",VLOOKUP($E161,List_Controls!$I$3:$L$79,4,FALSE))","v":""},null,null,null,null,null,null,""]
[null,{"$f":"IF(E162=\"\",\"\",VLOOKUP($E162,List_Controls!$I$3:$L$79,2,FALSE))","v":""},{"$f":"IF(E162=\"\",\"\",VLOOKUP($E162,List_Controls!$I$3:$L$79,3,FALSE))","v":""},{"$f":"IF(E162=\"\",\"\",VLOOKUP($E162,List_Controls!$I$3:$L$79,4,FALSE))","v":""},null,null,null,null,null,null,""]
[null,{"$f":"IF(E163=\"\",\"\",VLOOKUP($E163,List_Controls!$I$3:$L$79,2,FALSE))","v":""},{"$f":"IF(E163=\"\",\"\",VLOOKUP($E163,List_Controls!$I$3:$L$79,3,FALSE))","v":""},{"$f":"IF(E163=\"\",\"\",VLOOKUP($E163,List_Controls!$I$3:$L$79,4,FALSE))","v":""},null,null,null,null,null,null,""]
[null,{"$f":"IF(E164=\"\",\"\",VLOOKUP($E164,List_Controls!$I$3:$L$79,2,FALSE))","v":""},{"$f":"IF(E164=\"\",\"\",VLOOKUP($E164,List_Controls!$I$3:$L$79,3,FALSE))","v":""},{"$f":"IF(E164=\"\",\"\",VLOOKUP($E164,List_Controls!$I$3:$L$79,4,FALSE))","v":""},null,null,null,null,null,null,""]
[null,{"$f":"IF(E165=\"\",\"\",VLOOKUP($E165,List_Controls!$I$3:$L$79,2,FALSE))","v":""},{"$f":"IF(E165=\"\",\"\",VLOOKUP($E165,List_Controls!$I$3:$L$79,3,FALSE))","v":""},{"$f":"IF(E165=\"\",\"\",VLOOKUP($E165,List_Controls!$I$3:$L$79,4,FALSE))","v":""},null,null,null,null,null,null,""]
[null,{"$f":"IF(E166=\"\",\"\",VLOOKUP($E166,List_Controls!$I$3:$L$79,2,FALSE))","v":""},{"$f":"IF(E166=\"\",\"\",VLOOKUP($E166,List_Controls!$I$3:$L$79,3,FALSE))","v":""},{"$f":"IF(E166=\"\",\"\",VLOOKUP($E166,List_Controls!$I$3:$L$79,4,FALSE))","v":""},null,null,null,null,null,null,""]
[null,{"$f":"IF(E167=\"\",\"\",VLOOKUP($E167,List_Controls!$I$3:$L$79,2,FALSE))","v":""},{"$f":"IF(E167=\"\",\"\",VLOOKUP($E167,List_Controls!$I$3:$L$79,3,FALSE))","v":""},{"$f":"IF(E167=\"\",\"\",VLOOKUP($E167,List_Controls!$I$3:$L$79,4,FALSE))","v":""},null,null,null,null,null,null,""]
[null,{"$f":"IF(E168=\"\",\"\",VLOOKUP($E168,List_Controls!$I$3:$L$79,2,FALSE))","v":""},{"$f":"IF(E168=\"\",\"\",VLOOKUP($E168,List_Controls!$I$3:$L$79,3,FALSE))","v":""},{"$f":"IF(E168=\"\",\"\",VLOOKUP($E168,List_Controls!$I$3:$L$79,4,FALSE))","v":""},null,null,null,null,null,null,""]
[null,{"$f":"IF(E169=\"\",\"\",VLOOKUP($E169,List_Controls!$I$3:$L$79,2,FALSE))","v":""},{"$f":"IF(E169=\"\",\"\",VLOOKUP($E169,List_Controls!$I$3:$L$79,3,FALSE))","v":""},{"$f":"IF(E169=\"\",\"\",VLOOKUP($E169,List_Controls!$I$3:$L$79,4,FALSE))","v":""},null,null,null,null,null,null,""]
[null,{"$f":"IF(E170=\"\",\"\",VLOOKUP($E170,List_Controls!$I$3:$L$79,2,FALSE))","v":""},{"$f":"IF(E170=\"\",\"\",VLOOKUP($E170,List_Controls!$I$3:$L$79,3,FALSE))","v":""},{"$f":"IF(E170=\"\",\"\",VLOOKUP($E170,List_Controls!$I$3:$L$79,4,FALSE))","v":""},null,null,null,null,null,null,""]
[null,{"$f":"IF(E171=\"\",\"\",VLOOKUP($E171,List_Controls!$I$3:$L$79,2,FALSE))","v":""},{"$f":"IF(E171=\"\",\"\",VLOOKUP($E171,List_Controls!$I$3:$L$79,3,FALSE))","v":""},{"$f":"IF(E171=\"\",\"\",VLOOKUP($E171,List_Controls!$I$3:$L$79,4,FALSE))","v":""},null,null,null,null,null,null,""]
[null,{"$f":"IF(E172=\"\",\"\",VLOOKUP($E172,List_Controls!$I$3:$L$79,2,FALSE))","v":""},{"$f":"IF(E172=\"\",\"\",VLOOKUP($E172,List_Controls!$I$3:$L$79,3,FALSE))","v":""},{"$f":"IF(E172=\"\",\"\",VLOOKUP($E172,List_Controls!$I$3:$L$79,4,FALSE))","v":""},null,null,null,null,null,null,""]
[null,{"$f":"IF(E173=\"\",\"\",VLOOKUP($E173,List_Controls!$I$3:$L$79,2,FALSE))","v":""},{"$f":"IF(E173=\"\",\"\",VLOOKUP($E173,List_Controls!$I$3:$L$79,3,FALSE))","v":""},{"$f":"IF(E173=\"\",\"\",VLOOKUP($E173,List_Controls!$I$3:$L$79,4,FALSE))","v":""},null,null,null,null,null,null,""]
[null,{"$f":"IF(E174=\"\",\"\",VLOOKUP($E174,List_Controls!$I$3:$L$79,2,FALSE))","v":""},{"$f":"IF(E174=\"\",\"\",VLOOKUP($E174,List_Controls!$I$3:$L$79,3,FALSE))","v":""},{"$f":"IF(E174=\"\",\"\",VLOOKUP($E174,List_Controls!$I$3:$L$79,4,FALSE))","v":""},null,null,null,null,null,null,""]
[null,{"$f":"IF(E175=\"\",\"\",VLOOKUP($E175,List_Controls!$I$3:$L$79,2,FALSE))","v":""},{"$f":"IF(E175=\"\",\"\",VLOOKUP($E175,List_Controls!$I$3:$L$79,3,FALSE))","v":""},{"$f":"IF(E175=\"\",\"\",VLOOKUP($E175,List_Controls!$I$3:$L$79,4,FALSE))","v":""},null,null,null,null,null,null,""]
[null,{"$f":"IF(E176=\"\",\"\",VLOOKUP($E176,List_Controls!$I$3:$L$79,2,FALSE))","v":""},{"$f":"IF(E176=\"\",\"\",VLOOKUP($E176,List_Controls!$I$3:$L$79,3,FALSE))","v":""},{"$f":"IF(E176=\"\",\"\",VLOOKUP($E176,List_Controls!$I$3:$L$79,4,FALSE))","v":""},null,null,null,null,null,null,""]
[null,{"$f":"IF(E177=\"\",\"\",VLOOKUP($E177,List_Controls!$I$3:$L$79,2,FALSE))","v":""},{"$f":"IF(E177=\"\",\"\",VLOOKUP($E177,List_Controls!$I$3:$L$79,3,FALSE))","v":""},{"$f":"IF(E177=\"\",\"\",VLOOKUP($E177,List_Controls!$I$3:$L$79,4,FALSE))","v":""},null,null,null,null,null,null,""]
[null,{"$f":"IF(E178=\"\",\"\",VLOOKUP($E178,List_Controls!$I$3:$L$79,2,FALSE))","v":""},{"$f":"IF(E178=\"\",\"\",VLOOKUP($E178,List_Controls!$I$3:$L$79,3,FALSE))","v":""},{"$f":"IF(E178=\"\",\"\",VLOOKUP($E178,List_Controls!$I$3:$L$79,4,FALSE))","v":""},null,null,null,null,null,null,""]
[null,{"$f":"IF(E179=\"\",\"\",VLOOKUP($E179,List_Controls!$I$3:$L$79,2,FALSE))","v":""},{"$f":"IF(E179=\"\",\"\",VLOOKUP($E179,List_Controls!$I$3:$L$79,3,FALSE))","v":""},{"$f":"IF(E179=\"\",\"\",VLOOKUP($E179,List_Controls!$I$3:$L$79,4,FALSE))","v":""},null,null,null,null,null,null,""]
[null,{"$f":"IF(E180=\"\",\"\",VLOOKUP($E180,List_Controls!$I$3:$L$79,2,FALSE))","v":""},{"$f":"IF(E180=\"\",\"\",VLOOKUP($E180,List_Controls!$I$3:$L$79,3,FALSE))","v":""},{"$f":"IF(E180=\"\",\"\",VLOOKUP($E180,List_Controls!$I$3:$L$79,4,FALSE))","v":""},null,null,null,null,null,null,""]
[null,{"$f":"IF(E181=\"\",\"\",VLOOKUP($E181,List_Controls!$I$3:$L$79,2,FALSE))","v":""},{"$f":"IF(E181=\"\",\"\",VLOOKUP($E181,List_Controls!$I$3:$L$79,3,FALSE))","v":""},{"$f":"IF(E181=\"\",\"\",VLOOKUP($E181,List_Controls!$I$3:$L$79,4,FALSE))","v":""},null,null,null,null,null,null,""]
[null,{"$f":"IF(E182=\"\",\"\",VLOOKUP($E182,List_Controls!$I$3:$L$79,2,FALSE))","v":""},{"$f":"IF(E182=\"\",\"\",VLOOKUP($E182,List_Controls!$I$3:$L$79,3,FALSE))","v":""},{"$f":"IF(E182=\"\",\"\",VLOOKUP($E182,List_Controls!$I$3:$L$79,4,FALSE))","v":""},null,null,null,null,null,null,""]
[null,{"$f":"IF(E183=\"\",\"\",VLOOKUP($E183,List_Controls!$I$3:$L$79,2,FALSE))","v":""},{"$f":"IF(E183=\"\",\"\",VLOOKUP($E183,List_Controls!$I$3:$L$79,3,FALSE))","v":""},{"$f":"IF(E183=\"\",\"\",VLOOKUP($E183,List_Controls!$I$3:$L$79,4,FALSE))","v":""},null,null,null,null,null,null,""]
[null,{"$f":"IF(E184=\"\",\"\",VLOOKUP($E184,List_Controls!$I$3:$L$79,2,FALSE))","v":""},{"$f":"IF(E184=\"\",\"\",VLOOKUP($E184,List_Controls!$I$3:$L$79,3,FALSE))","v":""},{"$f":"IF(E184=\"\",\"\",VLOOKUP($E184,List_Controls!$I$3:$L$79,4,FALSE))","v":""},null,null,null,null,null,null,""]
[null,{"$f":"IF(E185=\"\",\"\",VLOOKUP($E185,List_Controls!$I$3:$L$79,2,FALSE))","v":""},{"$f":"IF(E185=\"\",\"\",VLOOKUP($E185,List_Controls!$I$3:$L$79,3,FALSE))","v":""},{"$f":"IF(E185=\"\",\"\",VLOOKUP($E185,List_Controls!$I$3:$L$79,4,FALSE))","v":""},null,null,null,null,null,null,""]
[null,{"$f":"IF(E186=\"\",\"\",VLOOKUP($E186,List_Controls!$I$3:$L$79,2,FALSE))","v":""},{"$f":"IF(E186=\"\",\"\",VLOOKUP($E186,List_Controls!$I$3:$L$79,3,FALSE))","v":""},{"$f":"IF(E186=\"\",\"\",VLOOKUP($E186,List_Controls!$I$3:$L$79,4,FALSE))","v":""},null,null,null,null,null,null,""]
[null,{"$f":"IF(E187=\"\",\"\",VLOOKUP($E187,List_Controls!$I$3:$L$79,2,FALSE))","v":""},{"$f":"IF(E187=\"\",\"\",VLOOKUP($E187,List_Controls!$I$3:$L$79,3,FALSE))","v":""},{"$f":"IF(E187=\"\",\"\",VLOOKUP($E187,List_Controls!$I$3:$L$79,4,FALSE))","v":""},null,null,null,null,null,null,""]
[null,{"$f":"IF(E188=\"\",\"\",VLOOKUP($E188,List_Controls!$I$3:$L$79,2,FALSE))","v":""},{"$f":"IF(E188=\"\",\"\",VLOOKUP($E188,List_Controls!$I$3:$L$79,3,FALSE))","v":""},{"$f":"IF(E188=\"\",\"\",VLOOKUP($E188,List_Controls!$I$3:$L$79,4,FALSE))","v":""},null,null,null,null,null,null,""]
[null,{"$f":"IF(E189=\"\",\"\",VLOOKUP($E189,List_Controls!$I$3:$L$79,2,FALSE))","v":""},{"$f":"IF(E189=\"\",\"\",VLOOKUP($E189,List_Controls!$I$3:$L$79,3,FALSE))","v":""},{"$f":"IF(E189=\"\",\"\",VLOOKUP($E189,List_Controls!$I$3:$L$79,4,FALSE))","v":""},null,null,null,null,null,null,""]
[null,{"$f":"IF(E190=\"\",\"\",VLOOKUP($E190,List_Controls!$I$3:$L$79,2,FALSE))","v":""},{"$f":"IF(E190=\"\",\"\",VLOOKUP($E190,List_Controls!$I$3:$L$79,3,FALSE))","v":""},{"$f":"IF(E190=\"\",\"\",VLOOKUP($E190,List_Controls!$I$3:$L$79,4,FALSE))","v":""},null,null,null,null,null,null,""]
[null,{"$f":"IF(E191=\"\",\"\",VLOOKUP($E191,List_Controls!$I$3:$L$79,2,FALSE))","v":""},{"$f":"IF(E191=\"\",\"\",VLOOKUP($E191,List_Controls!$I$3:$L$79,3,FALSE))","v":""},{"$f":"IF(E191=\"\",\"\",VLOOKUP($E191,List_Controls!$I$3:$L$79,4,FALSE))","v":""},null,null,null,null,null,null,""]
[null,{"$f":"IF(E192=\"\",\"\",VLOOKUP($E192,List_Controls!$I$3:$L$79,2,FALSE))","v":""},{"$f":"IF(E192=\"\",\"\",VLOOKUP($E192,List_Controls!$I$3:$L$79,3,FALSE))","v":""},{"$f":"IF(E192=\"\",\"\",VLOOKUP($E192,List_Controls!$I$3:$L$79,4,FALSE))","v":""},null,null,null,null,null,null,""]
[null,{"$f":"IF(E193=\"\",\"\",VLOOKUP($E193,List_Controls!$I$3:$L$79,2,FALSE))","v":""},{"$f":"IF(E193=\"\",\"\",VLOOKUP($E193,List_Controls!$I$3:$L$79,3,FALSE))","v":""},{"$f":"IF(E193=\"\",\"\",VLOOKUP($E193,List_Controls!$I$3:$L$79,4,FALSE))","v":""},null,null,null,null,null,null,""]
[null,{"$f":"IF(E194=\"\",\"\",VLOOKUP($E194,List_Controls!$I$3:$L$79,2,FALSE))","v":""},{"$f":"IF(E194=\"\",\"\",VLOOKUP($E194,List_Controls!$I$3:$L$79,3,FALSE))","v":""},{"$f":"IF(E194=\"\",\"\",VLOOKUP($E194,List_Controls!$I$3:$L$79,4,FALSE))","v":""},null,null,null,null,null,null,""]
[null,{"$f":"IF(E195=\"\",\"\",VLOOKUP($E195,List_Controls!$I$3:$L$79,2,FALSE))","v":""},{"$f":"IF(E195=\"\",\"\",VLOOKUP($E195,List_Controls!$I$3:$L$79,3,FALSE))","v":""},{"$f":"IF(E195=\"\",\"\",VLOOKUP($E195,List_Controls!$I$3:$L$79,4,FALSE))","v":""},null,null,null,null,null,null,""]
[null,{"$f":"IF(E196=\"\",\"\",VLOOKUP($E196,List_Controls!$I$3:$L$79,2,FALSE))","v":""},{"$f":"IF(E196=\"\",\"\",VLOOKUP($E196,List_Controls!$I$3:$L$79,3,FALSE))","v":""},{"$f":"IF(E196=\"\",\"\",VLOOKUP($E196,List_Controls!$I$3:$L$79,4,FALSE))","v":""},null,null,null,null,null,null,""]
[null,{"$f":"IF(E197=\"\",\"\",VLOOKUP($E197,List_Controls!$I$3:$L$79,2,FALSE))","v":""},{"$f":"IF(E197=\"\",\"\",VLOOKUP($E197,List_Controls!$I$3:$L$79,3,FALSE))","v":""},{"$f":"IF(E197=\"\",\"\",VLOOKUP($E197,List_Controls!$I$3:$L$79,4,FALSE))","v":""},null,null,null,null,null,null,""]
[null,{"$f":"IF(E198=\"\",\"\",VLOOKUP($E198,List_Controls!$I$3:$L$79,2,FALSE))","v":""},{"$f":"IF(E198=\"\",\"\",VLOOKUP($E198,List_Controls!$I$3:$L$79,3,FALSE))","v":""},{"$f":"IF(E198=\"\",\"\",VLOOKUP($E198,List_Controls!$I$3:$L$79,4,FALSE))","v":""},null,null,null,null,null,null,""]
[null,{"$f":"IF(E199=\"\",\"\",VLOOKUP($E199,List_Controls!$I$3:$L$79,2,FALSE))","v":""},{"$f":"IF(E199=\"\",\"\",VLOOKUP($E199,List_Controls!$I$3:$L$79,3,FALSE))","v":""},{"$f":"IF(E199=\"\",\"\",VLOOKUP($E199,List_Controls!$I$3:$L$79,4,FALSE))","v":""},null,null,null,null,null,null,""]
[null,{"$f":"IF(E200=\"\",\"\",VLOOKUP($E200,List_Controls!$I$3:$L$79,2,FALSE))","v":""},{"$f":"IF(E200=\"\",\"\",VLOOKUP($E200,List_Controls!$I$3:$L$79,3,FALSE))","v":""},{"$f":"IF(E200=\"\",\"\",VLOOKUP($E200,List_Controls!$I$3:$L$79,4,FALSE))","v":""},null,null,null,null,null,null,""]
[null,{"$f":"IF(E201=\"\",\"\",VLOOKUP($E201,List_Controls!$I$3:$L$79,2,FALSE))","v":""},{"$f":"IF(E201=\"\",\"\",VLOOKUP($E201,List_Controls!$I$3:$L$79,3,FALSE))","v":""},{"$f":"IF(E201=\"\",\"\",VLOOKUP($E201,List_Controls!$I$3:$L$79,4,FALSE))","v":""},null,null,null,null,null,null,""]
[null,{"$f":"IF(E202=\"\",\"\",VLOOKUP($E202,List_Controls!$I$3:$L$79,2,FALSE))","v":""},{"$f":"IF(E202=\"\",\"\",VLOOKUP($E202,List_Controls!$I$3:$L$79,3,FALSE))","v":""},{"$f":"IF(E202=\"\",\"\",VLOOKUP($E202,List_Controls!$I$3:$L$79,4,FALSE))","v":""},null,null,null,null,null,null,""]
[null,{"$f":"IF(E203=\"\",\"\",VLOOKUP($E203,List_Controls!$I$3:$L$79,2,FALSE))","v":""},{"$f":"IF(E203=\"\",\"\",VLOOKUP($E203,List_Controls!$I$3:$L$79,3,FALSE))","v":""},{"$f":"IF(E203=\"\",\"\",VLOOKUP($E203,List_Controls!$I$3:$L$79,4,FALSE))","v":""},null,null,null,null,null,null,""]
[null,{"$f":"IF(E204=\"\",\"\",VLOOKUP($E204,List_Controls!$I$3:$L$79,2,FALSE))","v":""},{"$f":"IF(E204=\"\",\"\",VLOOKUP($E204,List_Controls!$I$3:$L$79,3,FALSE))","v":""},{"$f":"IF(E204=\"\",\"\",VLOOKUP($E204,List_Controls!$I$3:$L$79,4,FALSE))","v":""},null,null,null,null,null,null,""]
[null,{"$f":"IF(E205=\"\",\"\",VLOOKUP($E205,List_Controls!$I$3:$L$79,2,FALSE))","v":""},{"$f":"IF(E205=\"\",\"\",VLOOKUP($E205,List_Controls!$I$3:$L$79,3,FALSE))","v":""},{"$f":"IF(E205=\"\",\"\",VLOOKUP($E205,List_Controls!$I$3:$L$79,4,FALSE))","v":""},null,null,null,null,null,null,""]
[null,{"$f":"IF(E206=\"\",\"\",VLOOKUP($E206,List_Controls!$I$3:$L$79,2,FALSE))","v":""},{"$f":"IF(E206=\"\",\"\",VLOOKUP($E206,List_Controls!$I$3:$L$79,3,FALSE))","v":""},{"$f":"IF(E206=\"\",\"\",VLOOKUP($E206,List_Controls!$I$3:$L$79,4,FALSE))","v":""},null,null,null,null,null,null,""]
[null,{"$f":"IF(E207=\"\",\"\",VLOOKUP($E207,List_Controls!$I$3:$L$79,2,FALSE))","v":""},{"$f":"IF(E207=\"\",\"\",VLOOKUP($E207,List_Controls!$I$3:$L$79,3,FALSE))","v":""},{"$f":"IF(E207=\"\",\"\",VLOOKUP($E207,List_Controls!$I$3:$L$79,4,FALSE))","v":""},null,null,null,null,null,null,""]
[null,{"$f":"IF(E208=\"\",\"\",VLOOKUP($E208,List_Controls!$I$3:$L$79,2,FALSE))","v":""},{"$f":"IF(E208=\"\",\"\",VLOOKUP($E208,List_Controls!$I$3:$L$79,3,FALSE))","v":""},{"$f":"IF(E208=\"\",\"\",VLOOKUP($E208,List_Controls!$I$3:$L$79,4,FALSE))","v":""},null,null,null,null,null,null,""]
[null,{"$f":"IF(E209=\"\",\"\",VLOOKUP($E209,List_Controls!$I$3:$L$79,2,FALSE))","v":""},{"$f":"IF(E209=\"\",\"\",VLOOKUP($E209,List_Controls!$I$3:$L$79,3,FALSE))","v":""},{"$f":"IF(E209=\"\",\"\",VLOOKUP($E209,List_Controls!$I$3:$L$79,4,FALSE))","v":""},null,null,null,null,null,null,""]
[null,{"$f":"IF(E210=\"\",\"\",VLOOKUP($E210,List_Controls!$I$3:$L$79,2,FALSE))","v":""},{"$f":"IF(E210=\"\",\"\",VLOOKUP($E210,List_Controls!$I$3:$L$79,3,FALSE))","v":""},{"$f":"IF(E210=\"\",\"\",VLOOKUP($E210,List_Controls!$I$3:$L$79,4,FALSE))","v":""},null,null,null,null,null,null,""]
[null,{"$f":"IF(E211=\"\",\"\",VLOOKUP($E211,List_Controls!$I$3:$L$79,2,FALSE))","v":""},{"$f":"IF(E211=\"\",\"\",VLOOKUP($E211,List_Controls!$I$3:$L$79,3,FALSE))","v":""},{"$f":"IF(E211=\"\",\"\",VLOOKUP($E211,List_Controls!$I$3:$L$79,4,FALSE))","v":""},null,null,null,null,null,null,""]
[null,{"$f":"IF(E212=\"\",\"\",VLOOKUP($E212,List_Controls!$I$3:$L$79,2,FALSE))","v":""},{"$f":"IF(E212=\"\",\"\",VLOOKUP($E212,List_Controls!$I$3:$L$79,3,FALSE))","v":""},{"$f":"IF(E212=\"\",\"\",VLOOKUP($E212,List_Controls!$I$3:$L$79,4,FALSE))","v":""},null,null,null,null,null,null,""]
[null,{"$f":"IF(E213=\"\",\"\",VLOOKUP($E213,List_Controls!$I$3:$L$79,2,FALSE))","v":""},{"$f":"IF(E213=\"\",\"\",VLOOKUP($E213,List_Controls!$I$3:$L$79,3,FALSE))","v":""},{"$f":"IF(E213=\"\",\"\",VLOOKUP($E213,List_Controls!$I$3:$L$79,4,FALSE))","v":""},null,null,null,null,null,null,""]
[null,{"$f":"IF(E214=\"\",\"\",VLOOKUP($E214,List_Controls!$I$3:$L$79,2,FALSE))","v":""},{"$f":"IF(E214=\"\",\"\",VLOOKUP($E214,List_Controls!$I$3:$L$79,3,FALSE))","v":""},{"$f":"IF(E214=\"\",\"\",VLOOKUP($E214,List_Controls!$I$3:$L$79,4,FALSE))","v":""},null,null,null,null,null,null,""]
[null,{"$f":"IF(E215=\"\",\"\",VLOOKUP($E215,List_Controls!$I$3:$L$79,2,FALSE))","v":""},{"$f":"IF(E215=\"\",\"\",VLOOKUP($E215,List_Controls!$I$3:$L$79,3,FALSE))","v":""},{"$f":"IF(E215=\"\",\"\",VLOOKUP($E215,List_Controls!$I$3:$L$79,4,FALSE))","v":""},null,null,null,null,null,null,""]
[null,{"$f":"IF(E216=\"\",\"\",VLOOKUP($E216,List_Controls!$I$3:$L$79,2,FALSE))","v":""},{"$f":"IF(E216=\"\",\"\",VLOOKUP($E216,List_Controls!$I$3:$L$79,3,FALSE))","v":""},{"$f":"IF(E216=\"\",\"\",VLOOKUP($E216,List_Controls!$I$3:$L$79,4,FALSE))","v":""},null,null,null,null,null,null,""]
[null,{"$f":"IF(E217=\"\",\"\",VLOOKUP($E217,List_Controls!$I$3:$L$79,2,FALSE))","v":""},{"$f":"IF(E217=\"\",\"\",VLOOKUP($E217,List_Controls!$I$3:$L$79,3,FALSE))","v":""},{"$f":"IF(E217=\"\",\"\",VLOOKUP($E217,List_Controls!$I$3:$L$79,4,FALSE))","v":""},null,null,null,null,null,null,""]
[null,{"$f":"IF(E218=\"\",\"\",VLOOKUP($E218,List_Controls!$I$3:$L$79,2,FALSE))","v":""},{"$f":"IF(E218=\"\",\"\",VLOOKUP($E218,List_Controls!$I$3:$L$79,3,FALSE))","v":""},{"$f":"IF(E218=\"\",\"\",VLOOKUP($E218,List_Controls!$I$3:$L$79,4,FALSE))","v":""},null,null,null,null,null,null,{"$f":"IF(J218=\"\",\"\",(VALUE(TEXT(I218,\"m/dd/yy \")&TEXT(J218,\"hh:mm:ss\"))-(VALUE(TEXT(G218,\"m/dd/yy \")&TEXT(H218,\"hh:mm:ss\"))))*24)","v":""}]
[null,{"$f":"IF(E219=\"\",\"\",VLOOKUP($E219,List_Controls!$I$3:$L$79,2,FALSE))","v":""},{"$f":"IF(E219=\"\",\"\",VLOOKUP($E219,List_Controls!$I$3:$L$79,3,FALSE))","v":""},{"$f":"IF(E219=\"\",\"\",VLOOKUP($E219,List_Controls!$I$3:$L$79,4,FALSE))","v":""},null,null,null,null,null,null,""]
[null,{"$f":"IF(E220=\"\",\"\",VLOOKUP($E220,List_Controls!$I$3:$L$79,2,FALSE))","v":""},{"$f":"IF(E220=\"\",\"\",VLOOKUP($E220,List_Controls!$I$3:$L$79,3,FALSE))","v":""},{"$f":"IF(E220=\"\",\"\",VLOOKUP($E220,List_Controls!$I$3:$L$79,4,FALSE))","v":""},null,null,null,null,null,null,""]
[null,{"$f":"IF(E221=\"\",\"\",VLOOKUP($E221,List_Controls!$I$3:$L$79,2,FALSE))","v":""},{"$f":"IF(E221=\"\",\"\",VLOOKUP($E221,List_Controls!$I$3:$L$79,3,FALSE))","v":""},{"$f":"IF(E221=\"\",\"\",VLOOKUP($E221,List_Controls!$I$3:$L$79,4,FALSE))","v":""},null,null,null,null,null,null,""]
[null,{"$f":"IF(E222=\"\",\"\",VLOOKUP($E222,List_Controls!$I$3:$L$79,2,FALSE))","v":""},{"$f":"IF(E222=\"\",\"\",VLOOKUP($E222,List_Controls!$I$3:$L$79,3,FALSE))","v":""},{"$f":"IF(E222=\"\",\"\",VLOOKUP($E222,List_Controls!$I$3:$L$79,4,FALSE))","v":""},null,null,null,null,null,null,""]
[null,{"$f":"IF(E223=\"\",\"\",VLOOKUP($E223,List_Controls!$I$3:$L$79,2,FALSE))","v":""},{"$f":"IF(E223=\"\",\"\",VLOOKUP($E223,List_Controls!$I$3:$L$79,3,FALSE))","v":""},{"$f":"IF(E223=\"\",\"\",VLOOKUP($E223,List_Controls!$I$3:$L$79,4,FALSE))","v":""},null,null,null,null,null,null,""]
[null,{"$f":"IF(E224=\"\",\"\",VLOOKUP($E224,List_Controls!$I$3:$L$79,2,FALSE))","v":""},{"$f":"IF(E224=\"\",\"\",VLOOKUP($E224,List_Controls!$I$3:$L$79,3,FALSE))","v":""},{"$f":"IF(E224=\"\",\"\",VLOOKUP($E224,List_Controls!$I$3:$L$79,4,FALSE))","v":""},null,null,null,null,null,null,""]
[null,{"$f":"IF(E225=\"\",\"\",VLOOKUP($E225,List_Controls!$I$3:$L$79,2,FALSE))","v":""},{"$f":"IF(E225=\"\",\"\",VLOOKUP($E225,List_Controls!$I$3:$L$79,3,FALSE))","v":""},{"$f":"IF(E225=\"\",\"\",VLOOKUP($E225,List_Controls!$I$3:$L$79,4,FALSE))","v":""},null,null,null,null,null,null,""]
[null,{"$f":"IF(E226=\"\",\"\",VLOOKUP($E226,List_Controls!$I$3:$L$79,2,FALSE))","v":""},{"$f":"IF(E226=\"\",\"\",VLOOKUP($E226,List_Controls!$I$3:$L$79,3,FALSE))","v":""},{"$f":"IF(E226=\"\",\"\",VLOOKUP($E226,List_Controls!$I$3:$L$79,4,FALSE))","v":""},null,null,null,null,null,null,""]
[null,{"$f":"IF(E227=\"\",\"\",VLOOKUP($E227,List_Controls!$I$3:$L$79,2,FALSE))","v":""},{"$f":"IF(E227=\"\",\"\",VLOOKUP($E227,List_Controls!$I$3:$L$79,3,FALSE))","v":""},{"$f":"IF(E227=\"\",\"\",VLOOKUP($E227,List_Controls!$I$3:$L$79,4,FALSE))","v":""},null,null,null,null,null,null,""]
[null,{"$f":"IF(E228=\"\",\"\",VLOOKUP($E228,List_Controls!$I$3:$L$79,2,FALSE))","v":""},{"$f":"IF(E228=\"\",\"\",VLOOKUP($E228,List_Controls!$I$3:$L$79,3,FALSE))","v":""},{"$f":"IF(E228=\"\",\"\",VLOOKUP($E228,List_Controls!$I$3:$L$79,4,FALSE))","v":""},null,null,null,null,null,null,""]
[null,{"$f":"IF(E229=\"\",\"\",VLOOKUP($E229,List_Controls!$I$3:$L$79,2,FALSE))","v":""},{"$f":"IF(E229=\"\",\"\",VLOOKUP($E229,List_Controls!$I$3:$L$79,3,FALSE))","v":""},{"$f":"IF(E229=\"\",\"\",VLOOKUP($E229,List_Controls!$I$3:$L$79,4,FALSE))","v":""},null,null,null,null,null,null,""]
[null,{"$f":"IF(E230=\"\",\"\",VLOOKUP($E230,List_Controls!$I$3:$L$79,2,FALSE))","v":""},{"$f":"IF(E230=\"\",\"\",VLOOKUP($E230,List_Controls!$I$3:$L$79,3,FALSE))","v":""},{"$f":"IF(E230=\"\",\"\",VLOOKUP($E230,List_Controls!$I$3:$L$79,4,FALSE))","v":""},null,null,null,null,null,null,""]
[null,{"$f":"IF(E231=\"\",\"\",VLOOKUP($E231,List_Controls!$I$3:$L$79,2,FALSE))","v":""},{"$f":"IF(E231=\"\",\"\",VLOOKUP($E231,List_Controls!$I$3:$L$79,3,FALSE))","v":""},{"$f":"IF(E231=\"\",\"\",VLOOKUP($E231,List_Controls!$I$3:$L$79,4,FALSE))","v":""},null,null,null,null,null,null,""]
[null,{"$f":"IF(E232=\"\",\"\",VLOOKUP($E232,List_Controls!$I$3:$L$79,2,FALSE))","v":""},{"$f":"IF(E232=\"\",\"\",VLOOKUP($E232,List_Controls!$I$3:$L$79,3,FALSE))","v":""},{"$f":"IF(E232=\"\",\"\",VLOOKUP($E232,List_Controls!$I$3:$L$79,4,FALSE))","v":""},null,null,null,null,null,null,""]
[null,{"$f":"IF(E233=\"\",\"\",VLOOKUP($E233,List_Controls!$I$3:$L$79,2,FALSE))","v":""},{"$f":"IF(E233=\"\",\"\",VLOOKUP($E233,List_Controls!$I$3:$L$79,3,FALSE))","v":""},{"$f":"IF(E233=\"\",\"\",VLOOKUP($E233,List_Controls!$I$3:$L$79,4,FALSE))","v":""},null,null,null,null,null,null,""]
[null,{"$f":"IF(E234=\"\",\"\",VLOOKUP($E234,List_Controls!$I$3:$L$79,2,FALSE))","v":""},{"$f":"IF(E234=\"\",\"\",VLOOKUP($E234,List_Controls!$I$3:$L$79,3,FALSE))","v":""},{"$f":"IF(E234=\"\",\"\",VLOOKUP($E234,List_Controls!$I$3:$L$79,4,FALSE))","v":""},null,null,null,null,null,null,""]
[null,{"$f":"IF(E235=\"\",\"\",VLOOKUP($E235,List_Controls!$I$3:$L$79,2,FALSE))","v":""},{"$f":"IF(E235=\"\",\"\",VLOOKUP($E235,List_Controls!$I$3:$L$79,3,FALSE))","v":""},{"$f":"IF(E235=\"\",\"\",VLOOKUP($E235,List_Controls!$I$3:$L$79,4,FALSE))","v":""},null,null,null,null,null,null,""]
[null,{"$f":"IF(E236=\"\",\"\",VLOOKUP($E236,List_Controls!$I$3:$L$79,2,FALSE))","v":""},{"$f":"IF(E236=\"\",\"\",VLOOKUP($E236,List_Controls!$I$3:$L$79,3,FALSE))","v":""},{"$f":"IF(E236=\"\",\"\",VLOOKUP($E236,List_Controls!$I$3:$L$79,4,FALSE))","v":""},null,null,null,null,null,null,""]
[null,{"$f":"IF(E237=\"\",\"\",VLOOKUP($E237,List_Controls!$I$3:$L$79,2,FALSE))","v":""},{"$f":"IF(E237=\"\",\"\",VLOOKUP($E237,List_Controls!$I$3:$L$79,3,FALSE))","v":""},{"$f":"IF(E237=\"\",\"\",VLOOKUP($E237,List_Controls!$I$3:$L$79,4,FALSE))","v":""},null,null,null,null,null,null,""]
[null,{"$f":"IF(E238=\"\",\"\",VLOOKUP($E238,List_Controls!$I$3:$L$79,2,FALSE))","v":""},{"$f":"IF(E238=\"\",\"\",VLOOKUP($E238,List_Controls!$I$3:$L$79,3,FALSE))","v":""},{"$f":"IF(E238=\"\",\"\",VLOOKUP($E238,List_Controls!$I$3:$L$79,4,FALSE))","v":""},null,null,null,null,null,null,""]
[null,{"$f":"IF(E239=\"\",\"\",VLOOKUP($E239,List_Controls!$I$3:$L$79,2,FALSE))","v":""},{"$f":"IF(E239=\"\",\"\",VLOOKUP($E239,List_Controls!$I$3:$L$79,3,FALSE))","v":""},{"$f":"IF(E239=\"\",\"\",VLOOKUP($E239,List_Controls!$I$3:$L$79,4,FALSE))","v":""},null,null,null,null,null,null,""]
[null,{"$f":"IF(E240=\"\",\"\",VLOOKUP($E240,List_Controls!$I$3:$L$79,2,FALSE))","v":""},{"$f":"IF(E240=\"\",\"\",VLOOKUP($E240,List_Controls!$I$3:$L$79,3,FALSE))","v":""},{"$f":"IF(E240=\"\",\"\",VLOOKUP($E240,List_Controls!$I$3:$L$79,4,FALSE))","v":""},null,null,null,null,null,null,""]
[null,{"$f":"IF(E241=\"\",\"\",VLOOKUP($E241,List_Controls!$I$3:$L$79,2,FALSE))","v":""},{"$f":"IF(E241=\"\",\"\",VLOOKUP($E241,List_Controls!$I$3:$L$79,3,FALSE))","v":""},{"$f":"IF(E241=\"\",\"\",VLOOKUP($E241,List_Controls!$I$3:$L$79,4,FALSE))","v":""},null,null,null,null,null,null,""]
[null,{"$f":"IF(E242=\"\",\"\",VLOOKUP($E242,List_Controls!$I$3:$L$79,2,FALSE))","v":""},{"$f":"IF(E242=\"\",\"\",VLOOKUP($E242,List_Controls!$I$3:$L$79,3,FALSE))","v":""},{"$f":"IF(E242=\"\",\"\",VLOOKUP($E242,List_Controls!$I$3:$L$79,4,FALSE))","v":""},null,null,null,null,null,null,""]
[null,{"$f":"IF(E243=\"\",\"\",VLOOKUP($E243,List_Controls!$I$3:$L$79,2,FALSE))","v":""},{"$f":"IF(E243=\"\",\"\",VLOOKUP($E243,List_Controls!$I$3:$L$79,3,FALSE))","v":""},{"$f":"IF(E243=\"\",\"\",VLOOKUP($E243,List_Controls!$I$3:$L$79,4,FALSE))","v":""},null,null,null,null,null,null,""]
[null,{"$f":"IF(E244=\"\",\"\",VLOOKUP($E244,List_Controls!$I$3:$L$79,2,FALSE))","v":""},{"$f":"IF(E244=\"\",\"\",VLOOKUP($E244,List_Controls!$I$3:$L$79,3,FALSE))","v":""},{"$f":"IF(E244=\"\",\"\",VLOOKUP($E244,List_Controls!$I$3:$L$79,4,FALSE))","v":""},null,null,null,null,null,null,""]
[null,{"$f":"IF(E245=\"\",\"\",VLOOKUP($E245,List_Controls!$I$3:$L$79,2,FALSE))","v":""},{"$f":"IF(E245=\"\",\"\",VLOOKUP($E245,List_Controls!$I$3:$L$79,3,FALSE))","v":""},{"$f":"IF(E245=\"\",\"\",VLOOKUP($E245,List_Controls!$I$3:$L$79,4,FALSE))","v":""},null,null,null,null,null,null,""]
[null,{"$f":"IF(E246=\"\",\"\",VLOOKUP($E246,List_Controls!$I$3:$L$79,2,FALSE))","v":""},{"$f":"IF(E246=\"\",\"\",VLOOKUP($E246,List_Controls!$I$3:$L$79,3,FALSE))","v":""},{"$f":"IF(E246=\"\",\"\",VLOOKUP($E246,List_Controls!$I$3:$L$79,4,FALSE))","v":""},null,null,null,null,null,null,""]
[null,{"$f":"IF(E247=\"\",\"\",VLOOKUP($E247,List_Controls!$I$3:$L$79,2,FALSE))","v":""},{"$f":"IF(E247=\"\",\"\",VLOOKUP($E247,List_Controls!$I$3:$L$79,3,FALSE))","v":""},{"$f":"IF(E247=\"\",\"\",VLOOKUP($E247,List_Controls!$I$3:$L$79,4,FALSE))","v":""},null,null,null,null,null,null,""]
[null,{"$f":"IF(E248=\"\",\"\",VLOOKUP($E248,List_Controls!$I$3:$L$79,2,FALSE))","v":""},{"$f":"IF(E248=\"\",\"\",VLOOKUP($E248,List_Controls!$I$3:$L$79,3,FALSE))","v":""},{"$f":"IF(E248=\"\",\"\",VLOOKUP($E248,List_Controls!$I$3:$L$79,4,FALSE))","v":""},null,null,null,null,null,null,""]
[null,{"$f":"IF(E249=\"\",\"\",VLOOKUP($E249,List_Controls!$I$3:$L$79,2,FALSE))","v":""},{"$f":"IF(E249=\"\",\"\",VLOOKUP($E249,List_Controls!$I$3:$L$79,3,FALSE))","v":""},{"$f":"IF(E249=\"\",\"\",VLOOKUP($E249,List_Controls!$I$3:$L$79,4,FALSE))","v":""},null,null,null,null,null,null,""]
[null,{"$f":"IF(E250=\"\",\"\",VLOOKUP($E250,List_Controls!$I$3:$L$79,2,FALSE))","v":""},{"$f":"IF(E250=\"\",\"\",VLOOKUP($E250,List_Controls!$I$3:$L$79,3,FALSE))","v":""},{"$f":"IF(E250=\"\",\"\",VLOOKUP($E250,List_Controls!$I$3:$L$79,4,FALSE))","v":""},null,null,null,null,null,null,""]
[null,{"$f":"IF(E251=\"\",\"\",VLOOKUP($E251,List_Controls!$I$3:$L$79,2,FALSE))","v":""},{"$f":"IF(E251=\"\",\"\",VLOOKUP($E251,List_Controls!$I$3:$L$79,3,FALSE))","v":""},{"$f":"IF(E251=\"\",\"\",VLOOKUP($E251,List_Controls!$I$3:$L$79,4,FALSE))","v":""},null,null,null,null,null,null,""]
[null,{"$f":"IF(E252=\"\",\"\",VLOOKUP($E252,List_Controls!$I$3:$L$79,2,FALSE))","v":""},{"$f":"IF(E252=\"\",\"\",VLOOKUP($E252,List_Controls!$I$3:$L$79,3,FALSE))","v":""},{"$f":"IF(E252=\"\",\"\",VLOOKUP($E252,List_Controls!$I$3:$L$79,4,FALSE))","v":""},null,null,null,null,null,null,""]
[null,{"$f":"IF(E253=\"\",\"\",VLOOKUP($E253,List_Controls!$I$3:$L$79,2,FALSE))","v":""},{"$f":"IF(E253=\"\",\"\",VLOOKUP($E253,List_Controls!$I$3:$L$79,3,FALSE))","v":""},{"$f":"IF(E253=\"\",\"\",VLOOKUP($E253,List_Controls!$I$3:$L$79,4,FALSE))","v":""},null,null,null,null,null,null,""]
[null,{"$f":"IF(E254=\"\",\"\",VLOOKUP($E254,List_Controls!$I$3:$L$79,2,FALSE))","v":""},{"$f":"IF(E254=\"\",\"\",VLOOKUP($E254,List_Controls!$I$3:$L$79,3,FALSE))","v":""},{"$f":"IF(E254=\"\",\"\",VLOOKUP($E254,List_Controls!$I$3:$L$79,4,FALSE))","v":""},null,null,null,null,null,null,""]
[null,{"$f":"IF(E255=\"\",\"\",VLOOKUP($E255,List_Controls!$I$3:$L$79,2,FALSE))","v":""},{"$f":"IF(E255=\"\",\"\",VLOOKUP($E255,List_Controls!$I$3:$L$79,3,FALSE))","v":""},{"$f":"IF(E255=\"\",\"\",VLOOKUP($E255,List_Controls!$I$3:$L$79,4,FALSE))","v":""},null,null,null,null,null,null,""]
[null,{"$f":"IF(E256=\"\",\"\",VLOOKUP($E256,List_Controls!$I$3:$L$79,2,FALSE))","v":""},{"$f":"IF(E256=\"\",\"\",VLOOKUP($E256,List_Controls!$I$3:$L$79,3,FALSE))","v":""},{"$f":"IF(E256=\"\",\"\",VLOOKUP($E256,List_Controls!$I$3:$L$79,4,FALSE))","v":""},null,null,null,null,null,null,""]
[null,{"$f":"IF(E257=\"\",\"\",VLOOKUP($E257,List_Controls!$I$3:$L$79,2,FALSE))","v":""},{"$f":"IF(E257=\"\",\"\",VLOOKUP($E257,List_Controls!$I$3:$L$79,3,FALSE))","v":""},{"$f":"IF(E257=\"\",\"\",VLOOKUP($E257,List_Controls!$I$3:$L$79,4,FALSE))","v":""},null,null,null,null,null,null,""]
[null,{"$f":"IF(E258=\"\",\"\",VLOOKUP($E258,List_Controls!$I$3:$L$79,2,FALSE))","v":""},{"$f":"IF(E258=\"\",\"\",VLOOKUP($E258,List_Controls!$I$3:$L$79,3,FALSE))","v":""},{"$f":"IF(E258=\"\",\"\",VLOOKUP($E258,List_Controls!$I$3:$L$79,4,FALSE))","v":""},null,null,null,null,null,null,""]
[null,{"$f":"IF(E259=\"\",\"\",VLOOKUP($E259,List_Controls!$I$3:$L$79,2,FALSE))","v":""},{"$f":"IF(E259=\"\",\"\",VLOOKUP($E259,List_Controls!$I$3:$L$79,3,FALSE))","v":""},{"$f":"IF(E259=\"\",\"\",VLOOKUP($E259,List_Controls!$I$3:$L$79,4,FALSE))","v":""},null,null,null,null,null,null,""]
[null,{"$f":"IF(E260=\"\",\"\",VLOOKUP($E260,List_Controls!$I$3:$L$79,2,FALSE))","v":""},{"$f":"IF(E260=\"\",\"\",VLOOKUP($E260,List_Controls!$I$3:$L$79,3,FALSE))","v":""},{"$f":"IF(E260=\"\",\"\",VLOOKUP($E260,List_Controls!$I$3:$L$79,4,FALSE))","v":""},null,null,null,null,null,null,""]
[null,{"$f":"IF(E261=\"\",\"\",VLOOKUP($E261,List_Controls!$I$3:$L$79,2,FALSE))","v":""},{"$f":"IF(E261=\"\",\"\",VLOOKUP($E261,List_Controls!$I$3:$L$79,3,FALSE))","v":""},{"$f":"IF(E261=\"\",\"\",VLOOKUP($E261,List_Controls!$I$3:$L$79,4,FALSE))","v":""},null,null,null,null,null,null,""]
[null,{"$f":"IF(E262=\"\",\"\",VLOOKUP($E262,List_Controls!$I$3:$L$79,2,FALSE))","v":""},{"$f":"IF(E262=\"\",\"\",VLOOKUP($E262,List_Controls!$I$3:$L$79,3,FALSE))","v":""},{"$f":"IF(E262=\"\",\"\",VLOOKUP($E262,List_Controls!$I$3:$L$79,4,FALSE))","v":""},null,null,null,null,null,null,""]
[null,{"$f":"IF(E263=\"\",\"\",VLOOKUP($E263,List_Controls!$I$3:$L$79,2,FALSE))","v":""},{"$f":"IF(E263=\"\",\"\",VLOOKUP($E263,List_Controls!$I$3:$L$79,3,FALSE))","v":""},{"$f":"IF(E263=\"\",\"\",VLOOKUP($E263,List_Controls!$I$3:$L$79,4,FALSE))","v":""},null,null,null,null,null,null,""]
[null,{"$f":"IF(E264=\"\",\"\",VLOOKUP($E264,List_Controls!$I$3:$L$79,2,FALSE))","v":""},{"$f":"IF(E264=\"\",\"\",VLOOKUP($E264,List_Controls!$I$3:$L$79,3,FALSE))","v":""},{"$f":"IF(E264=\"\",\"\",VLOOKUP($E264,List_Controls!$I$3:$L$79,4,FALSE))","v":""},null,null,null,null,null,null,""]
[null,{"$f":"IF(E265=\"\",\"\",VLOOKUP($E265,List_Controls!$I$3:$L$79,2,FALSE))","v":""},{"$f":"IF(E265=\"\",\"\",VLOOKUP($E265,List_Controls!$I$3:$L$79,3,FALSE))","v":""},{"$f":"IF(E265=\"\",\"\",VLOOKUP($E265,List_Controls!$I$3:$L$79,4,FALSE))","v":""},null,null,null,null,null,null,""]
[null,{"$f":"IF(E266=\"\",\"\",VLOOKUP($E266,List_Controls!$I$3:$L$79,2,FALSE))","v":""},{"$f":"IF(E266=\"\",\"\",VLOOKUP($E266,List_Controls!$I$3:$L$79,3,FALSE))","v":""},{"$f":"IF(E266=\"\",\"\",VLOOKUP($E266,List_Controls!$I$3:$L$79,4,FALSE))","v":""},null,null,null,null,null,null,""]
[null,{"$f":"IF(E267=\"\",\"\",VLOOKUP($E267,List_Controls!$I$3:$L$79,2,FALSE))","v":""},{"$f":"IF(E267=\"\",\"\",VLOOKUP($E267,List_Controls!$I$3:$L$79,3,FALSE))","v":""},{"$f":"IF(E267=\"\",\"\",VLOOKUP($E267,List_Controls!$I$3:$L$79,4,FALSE))","v":""},null,null,null,null,null,null,""]
[null,{"$f":"IF(E268=\"\",\"\",VLOOKUP($E268,List_Controls!$I$3:$L$79,2,FALSE))","v":""},{"$f":"IF(E268=\"\",\"\",VLOOKUP($E268,List_Controls!$I$3:$L$79,3,FALSE))","v":""},{"$f":"IF(E268=\"\",\"\",VLOOKUP($E268,List_Controls!$I$3:$L$79,4,FALSE))","v":""},null,null,null,null,null,null,""]
[null,{"$f":"IF(E269=\"\",\"\",VLOOKUP($E269,List_Controls!$I$3:$L$79,2,FALSE))","v":""},{"$f":"IF(E269=\"\",\"\",VLOOKUP($E269,List_Controls!$I$3:$L$79,3,FALSE))","v":""},{"$f":"IF(E269=\"\",\"\",VLOOKUP($E269,List_Controls!$I$3:$L$79,4,FALSE))","v":""},null,null,null,null,null,null,""]
[null,{"$f":"IF(E270=\"\",\"\",VLOOKUP($E270,List_Controls!$I$3:$L$79,2,FALSE))","v":""},{"$f":"IF(E270=\"\",\"\",VLOOKUP($E270,List_Controls!$I$3:$L$79,3,FALSE))","v":""},{"$f":"IF(E270=\"\",\"\",VLOOKUP($E270,List_Controls!$I$3:$L$79,4,FALSE))","v":""},null,null,null,null,null,null,""]
[null,{"$f":"IF(E271=\"\",\"\",VLOOKUP($E271,List_Controls!$I$3:$L$79,2,FALSE))","v":""},{"$f":"IF(E271=\"\",\"\",VLOOKUP($E271,List_Controls!$I$3:$L$79,3,FALSE))","v":""},{"$f":"IF(E271=\"\",\"\",VLOOKUP($E271,List_Controls!$I$3:$L$79,4,FALSE))","v":""},null,null,null,null,null,null,""]
[null,{"$f":"IF(E272=\"\",\"\",VLOOKUP($E272,List_Controls!$I$3:$L$79,2,FALSE))","v":""},{"$f":"IF(E272=\"\",\"\",VLOOKUP($E272,List_Controls!$I$3:$L$79,3,FALSE))","v":""},{"$f":"IF(E272=\"\",\"\",VLOOKUP($E272,List_Controls!$I$3:$L$79,4,FALSE))","v":""},null,null,null,null,null,null,""]
[null,{"$f":"IF(E273=\"\",\"\",VLOOKUP($E273,List_Controls!$I$3:$L$79,2,FALSE))","v":""},{"$f":"IF(E273=\"\",\"\",VLOOKUP($E273,List_Controls!$I$3:$L$79,3,FALSE))","v":""},{"$f":"IF(E273=\"\",\"\",VLOOKUP($E273,List_Controls!$I$3:$L$79,4,FALSE))","v":""},null,null,null,null,null,null,""]
[null,{"$f":"IF(E274=\"\",\"\",VLOOKUP($E274,List_Controls!$I$3:$L$79,2,FALSE))","v":""},{"$f":"IF(E274=\"\",\"\",VLOOKUP($E274,List_Controls!$I$3:$L$79,3,FALSE))","v":""},{"$f":"IF(E274=\"\",\"\",VLOOKUP($E274,List_Controls!$I$3:$L$79,4,FALSE))","v":""},null,null,null,null,null,null,""]
[null,{"$f":"IF(E275=\"\",\"\",VLOOKUP($E275,List_Controls!$I$3:$L$79,2,FALSE))","v":""},{"$f":"IF(E275=\"\",\"\",VLOOKUP($E275,List_Controls!$I$3:$L$79,3,FALSE))","v":""},{"$f":"IF(E275=\"\",\"\",VLOOKUP($E275,List_Controls!$I$3:$L$79,4,FALSE))","v":""},null,null,null,null,null,null,""]
[null,{"$f":"IF(E276=\"\",\"\",VLOOKUP($E276,List_Controls!$I$3:$L$79,2,FALSE))","v":""},{"$f":"IF(E276=\"\",\"\",VLOOKUP($E276,List_Controls!$I$3:$L$79,3,FALSE))","v":""},{"$f":"IF(E276=\"\",\"\",VLOOKUP($E276,List_Controls!$I$3:$L$79,4,FALSE))","v":""},null,null,null,null,null,null,""]
[null,{"$f":"IF(E277=\"\",\"\",VLOOKUP($E277,List_Controls!$I$3:$L$79,2,FALSE))","v":""},{"$f":"IF(E277=\"\",\"\",VLOOKUP($E277,List_Controls!$I$3:$L$79,3,FALSE))","v":""},{"$f":"IF(E277=\"\",\"\",VLOOKUP($E277,List_Controls!$I$3:$L$79,4,FALSE))","v":""},null,null,null,null,null,null,""]
[null,{"$f":"IF(E278=\"\",\"\",VLOOKUP($E278,List_Controls!$I$3:$L$79,2,FALSE))","v":""},{"$f":"IF(E278=\"\",\"\",VLOOKUP($E278,List_Controls!$I$3:$L$79,3,FALSE))","v":""},{"$f":"IF(E278=\"\",\"\",VLOOKUP($E278,List_Controls!$I$3:$L$79,4,FALSE))","v":""},null,null,null,null,null,null,""]
[null,{"$f":"IF(E279=\"\",\"\",VLOOKUP($E279,List_Controls!$I$3:$L$79,2,FALSE))","v":""},{"$f":"IF(E279=\"\",\"\",VLOOKUP($E279,List_Controls!$I$3:$L$79,3,FALSE))","v":""},{"$f":"IF(E279=\"\",\"\",VLOOKUP($E279,List_Controls!$I$3:$L$79,4,FALSE))","v":""},null,null,null,null,null,null,""]
[null,{"$f":"IF(E280=\"\",\"\",VLOOKUP($E280,List_Controls!$I$3:$L$79,2,FALSE))","v":""},{"$f":"IF(E280=\"\",\"\",VLOOKUP($E280,List_Controls!$I$3:$L$79,3,FALSE))","v":""},{"$f":"IF(E280=\"\",\"\",VLOOKUP($E280,List_Controls!$I$3:$L$79,4,FALSE))","v":""},null,null,null,null,null,null,""]
[null,{"$f":"IF(E281=\"\",\"\",VLOOKUP($E281,List_Controls!$I$3:$L$79,2,FALSE))","v":""},{"$f":"IF(E281=\"\",\"\",VLOOKUP($E281,List_Controls!$I$3:$L$79,3,FALSE))","v":""},{"$f":"IF(E281=\"\",\"\",VLOOKUP($E281,List_Controls!$I$3:$L$79,4,FALSE))","v":""},null,null,null,null,null,null,""]
[null,{"$f":"IF(E282=\"\",\"\",VLOOKUP($E282,List_Controls!$I$3:$L$79,2,FALSE))","v":""},{"$f":"IF(E282=\"\",\"\",VLOOKUP($E282,List_Controls!$I$3:$L$79,3,FALSE))","v":""},{"$f":"IF(E282=\"\",\"\",VLOOKUP($E282,List_Controls!$I$3:$L$79,4,FALSE))","v":""},null,null,null,null,null,null,{"$f":"IF(J282=\"\",\"\",(VALUE(TEXT(I282,\"m/dd/yy \")&TEXT(J282,\"hh:mm:ss\"))-(VALUE(TEXT(G282,\"m/dd/yy \")&TEXT(H282,\"hh:mm:ss\"))))*24)","v":""}]
[null,{"$f":"IF(E283=\"\",\"\",VLOOKUP($E283,List_Controls!$I$3:$L$79,2,FALSE))","v":""},{"$f":"IF(E283=\"\",\"\",VLOOKUP($E283,List_Controls!$I$3:$L$79,3,FALSE))","v":""},{"$f":"IF(E283=\"\",\"\",VLOOKUP($E283,List_Controls!$I$3:$L$79,4,FALSE))","v":""},null,null,null,null,null,null,""]
[null,{"$f":"IF(E284=\"\",\"\",VLOOKUP($E284,List_Controls!$I$3:$L$79,2,FALSE))","v":""},{"$f":"IF(E284=\"\",\"\",VLOOKUP($E284,List_Controls!$I$3:$L$79,3,FALSE))","v":""},{"$f":"IF(E284=\"\",\"\",VLOOKUP($E284,List_Controls!$I$3:$L$79,4,FALSE))","v":""},null,null,null,null,null,null,""]
[null,{"$f":"IF(E285=\"\",\"\",VLOOKUP($E285,List_Controls!$I$3:$L$79,2,FALSE))","v":""},{"$f":"IF(E285=\"\",\"\",VLOOKUP($E285,List_Controls!$I$3:$L$79,3,FALSE))","v":""},{"$f":"IF(E285=\"\",\"\",VLOOKUP($E285,List_Controls!$I$3:$L$79,4,FALSE))","v":""},null,null,null,null,null,null,""]
[null,{"$f":"IF(E286=\"\",\"\",VLOOKUP($E286,List_Controls!$I$3:$L$79,2,FALSE))","v":""},{"$f":"IF(E286=\"\",\"\",VLOOKUP($E286,List_Controls!$I$3:$L$79,3,FALSE))","v":""},{"$f":"IF(E286=\"\",\"\",VLOOKUP($E286,List_Controls!$I$3:$L$79,4,FALSE))","v":""},null,null,null,null,null,null,""]
[null,{"$f":"IF(E287=\"\",\"\",VLOOKUP($E287,List_Controls!$I$3:$L$79,2,FALSE))","v":""},{"$f":"IF(E287=\"\",\"\",VLOOKUP($E287,List_Controls!$I$3:$L$79,3,FALSE))","v":""},{"$f":"IF(E287=\"\",\"\",VLOOKUP($E287,List_Controls!$I$3:$L$79,4,FALSE))","v":""},null,null,null,null,null,null,""]
[null,{"$f":"IF(E288=\"\",\"\",VLOOKUP($E288,List_Controls!$I$3:$L$79,2,FALSE))","v":""},{"$f":"IF(E288=\"\",\"\",VLOOKUP($E288,List_Controls!$I$3:$L$79,3,FALSE))","v":""},{"$f":"IF(E288=\"\",\"\",VLOOKUP($E288,List_Controls!$I$3:$L$79,4,FALSE))","v":""},null,null,null,null,null,null,""]
[null,{"$f":"IF(E289=\"\",\"\",VLOOKUP($E289,List_Controls!$I$3:$L$79,2,FALSE))","v":""},{"$f":"IF(E289=\"\",\"\",VLOOKUP($E289,List_Controls!$I$3:$L$79,3,FALSE))","v":""},{"$f":"IF(E289=\"\",\"\",VLOOKUP($E289,List_Controls!$I$3:$L$79,4,FALSE))","v":""},null,null,null,null,null,null,""]
[null,{"$f":"IF(E290=\"\",\"\",VLOOKUP($E290,List_Controls!$I$3:$L$79,2,FALSE))","v":""},{"$f":"IF(E290=\"\",\"\",VLOOKUP($E290,List_Controls!$I$3:$L$79,3,FALSE))","v":""},{"$f":"IF(E290=\"\",\"\",VLOOKUP($E290,List_Controls!$I$3:$L$79,4,FALSE))","v":""},null,null,null,null,null,null,""]
[null,{"$f":"IF(E291=\"\",\"\",VLOOKUP($E291,List_Controls!$I$3:$L$79,2,FALSE))","v":""},{"$f":"IF(E291=\"\",\"\",VLOOKUP($E291,List_Controls!$I$3:$L$79,3,FALSE))","v":""},{"$f":"IF(E291=\"\",\"\",VLOOKUP($E291,List_Controls!$I$3:$L$79,4,FALSE))","v":""},null,null,null,null,null,null,""]
[null,{"$f":"IF(E292=\"\",\"\",VLOOKUP($E292,List_Controls!$I$3:$L$79,2,FALSE))","v":""},{"$f":"IF(E292=\"\",\"\",VLOOKUP($E292,List_Controls!$I$3:$L$79,3,FALSE))","v":""},{"$f":"IF(E292=\"\",\"\",VLOOKUP($E292,List_Controls!$I$3:$L$79,4,FALSE))","v":""},null,null,null,null,null,null,""]
[null,{"$f":"IF(E293=\"\",\"\",VLOOKUP($E293,List_Controls!$I$3:$L$79,2,FALSE))","v":""},{"$f":"IF(E293=\"\",\"\",VLOOKUP($E293,List_Controls!$I$3:$L$79,3,FALSE))","v":""},{"$f":"IF(E293=\"\",\"\",VLOOKUP($E293,List_Controls!$I$3:$L$79,4,FALSE))","v":""},null,null,null,null,null,null,""]
[null,{"$f":"IF(E294=\"\",\"\",VLOOKUP($E294,List_Controls!$I$3:$L$79,2,FALSE))","v":""},{"$f":"IF(E294=\"\",\"\",VLOOKUP($E294,List_Controls!$I$3:$L$79,3,FALSE))","v":""},{"$f":"IF(E294=\"\",\"\",VLOOKUP($E294,List_Controls!$I$3:$L$79,4,FALSE))","v":""},null,null,null,null,null,null,""]
[null,{"$f":"IF(E295=\"\",\"\",VLOOKUP($E295,List_Controls!$I$3:$L$79,2,FALSE))","v":""},{"$f":"IF(E295=\"\",\"\",VLOOKUP($E295,List_Controls!$I$3:$L$79,3,FALSE))","v":""},{"$f":"IF(E295=\"\",\"\",VLOOKUP($E295,List_Controls!$I$3:$L$79,4,FALSE))","v":""},null,null,null,null,null,null,""]
[null,{"$f":"IF(E296=\"\",\"\",VLOOKUP($E296,List_Controls!$I$3:$L$79,2,FALSE))","v":""},{"$f":"IF(E296=\"\",\"\",VLOOKUP($E296,List_Controls!$I$3:$L$79,3,FALSE))","v":""},{"$f":"IF(E296=\"\",\"\",VLOOKUP($E296,List_Controls!$I$3:$L$79,4,FALSE))","v":""},null,null,null,null,null,null,""]
[null,{"$f":"IF(E297=\"\",\"\",VLOOKUP($E297,List_Controls!$I$3:$L$79,2,FALSE))","v":""},{"$f":"IF(E297=\"\",\"\",VLOOKUP($E297,List_Controls!$I$3:$L$79,3,FALSE))","v":""},{"$f":"IF(E297=\"\",\"\",VLOOKUP($E297,List_Controls!$I$3:$L$79,4,FALSE))","v":""},null,null,null,null,null,null,""]
[null,{"$f":"IF(E298=\"\",\"\",VLOOKUP($E298,List_Controls!$I$3:$L$79,2,FALSE))","v":""},{"$f":"IF(E298=\"\",\"\",VLOOKUP($E298,List_Controls!$I$3:$L$79,3,FALSE))","v":""},{"$f":"IF(E298=\"\",\"\",VLOOKUP($E298,List_Controls!$I$3:$L$79,4,FALSE))","v":""},null,null,null,null,null,null,""]
[null,{"$f":"IF(E299=\"\",\"\",VLOOKUP($E299,List_Controls!$I$3:$L$79,2,FALSE))","v":""},{"$f":"IF(E299=\"\",\"\",VLOOKUP($E299,List_Controls!$I$3:$L$79,3,FALSE))","v":""},{"$f":"IF(E299=\"\",\"\",VLOOKUP($E299,List_Controls!$I$3:$L$79,4,FALSE))","v":""},null,null,null,null,null,null,""]
[null,{"$f":"IF(E300=\"\",\"\",VLOOKUP($E300,List_Controls!$I$3:$L$79,2,FALSE))","v":""},{"$f":"IF(E300=\"\",\"\",VLOOKUP($E300,List_Controls!$I$3:$L$79,3,FALSE))","v":""},{"$f":"IF(E300=\"\",\"\",VLOOKUP($E300,List_Controls!$I$3:$L$79,4,FALSE))","v":""},null,null,null,null,null,null,""]
[null,{"$f":"IF(E301=\"\",\"\",VLOOKUP($E301,List_Controls!$I$3:$L$79,2,FALSE))","v":""},{"$f":"IF(E301=\"\",\"\",VLOOKUP($E301,List_Controls!$I$3:$L$79,3,FALSE))","v":""},{"$f":"IF(E301=\"\",\"\",VLOOKUP($E301,List_Controls!$I$3:$L$79,4,FALSE))","v":""},null,null,null,null,null,null,""]
[null,{"$f":"IF(E302=\"\",\"\",VLOOKUP($E302,List_Controls!$I$3:$L$79,2,FALSE))","v":""},{"$f":"IF(E302=\"\",\"\",VLOOKUP($E302,List_Controls!$I$3:$L$79,3,FALSE))","v":""},{"$f":"IF(E302=\"\",\"\",VLOOKUP($E302,List_Controls!$I$3:$L$79,4,FALSE))","v":""},null,null,null,null,null,null,""]
[null,{"$f":"IF(E303=\"\",\"\",VLOOKUP($E303,List_Controls!$I$3:$L$79,2,FALSE))","v":""},{"$f":"IF(E303=\"\",\"\",VLOOKUP($E303,List_Controls!$I$3:$L$79,3,FALSE))","v":""},{"$f":"IF(E303=\"\",\"\",VLOOKUP($E303,List_Controls!$I$3:$L$79,4,FALSE))","v":""},null,null,null,null,null,null,""]
[null,{"$f":"IF(E304=\"\",\"\",VLOOKUP($E304,List_Controls!$I$3:$L$79,2,FALSE))","v":""},{"$f":"IF(E304=\"\",\"\",VLOOKUP($E304,List_Controls!$I$3:$L$79,3,FALSE))","v":""},{"$f":"IF(E304=\"\",\"\",VLOOKUP($E304,List_Controls!$I$3:$L$79,4,FALSE))","v":""},null,null,null,null,null,null,""]
[null,{"$f":"IF(E305=\"\",\"\",VLOOKUP($E305,List_Controls!$I$3:$L$79,2,FALSE))","v":""},{"$f":"IF(E305=\"\",\"\",VLOOKUP($E305,List_Controls!$I$3:$L$79,3,FALSE))","v":""},{"$f":"IF(E305=\"\",\"\",VLOOKUP($E305,List_Controls!$I$3:$L$79,4,FALSE))","v":""},null,null,null,null,null,null,""]
[null,{"$f":"IF(E306=\"\",\"\",VLOOKUP($E306,List_Controls!$I$3:$L$79,2,FALSE))","v":""},{"$f":"IF(E306=\"\",\"\",VLOOKUP($E306,List_Controls!$I$3:$L$79,3,FALSE))","v":""},{"$f":"IF(E306=\"\",\"\",VLOOKUP($E306,List_Controls!$I$3:$L$79,4,FALSE))","v":""},null,null,null,null,null,null,""]
[null,{"$f":"IF(E307=\"\",\"\",VLOOKUP($E307,List_Controls!$I$3:$L$79,2,FALSE))","v":""},{"$f":"IF(E307=\"\",\"\",VLOOKUP($E307,List_Controls!$I$3:$L$79,3,FALSE))","v":""},{"$f":"IF(E307=\"\",\"\",VLOOKUP($E307,List_Controls!$I$3:$L$79,4,FALSE))","v":""},null,null,null,null,null,null,""]
[null,{"$f":"IF(E308=\"\",\"\",VLOOKUP($E308,List_Controls!$I$3:$L$79,2,FALSE))","v":""},{"$f":"IF(E308=\"\",\"\",VLOOKUP($E308,List_Controls!$I$3:$L$79,3,FALSE))","v":""},{"$f":"IF(E308=\"\",\"\",VLOOKUP($E308,List_Controls!$I$3:$L$79,4,FALSE))","v":""},null,null,null,null,null,null,""]
[null,{"$f":"IF(E309=\"\",\"\",VLOOKUP($E309,List_Controls!$I$3:$L$79,2,FALSE))","v":""},{"$f":"IF(E309=\"\",\"\",VLOOKUP($E309,List_Controls!$I$3:$L$79,3,FALSE))","v":""},{"$f":"IF(E309=\"\",\"\",VLOOKUP($E309,List_Controls!$I$3:$L$79,4,FALSE))","v":""},null,null,null,null,null,null,""]
[null,{"$f":"IF(E310=\"\",\"\",VLOOKUP($E310,List_Controls!$I$3:$L$79,2,FALSE))","v":""},{"$f":"IF(E310=\"\",\"\",VLOOKUP($E310,List_Controls!$I$3:$L$79,3,FALSE))","v":""},{"$f":"IF(E310=\"\",\"\",VLOOKUP($E310,List_Controls!$I$3:$L$79,4,FALSE))","v":""},null,null,null,null,null,null,""]
[null,{"$f":"IF(E311=\"\",\"\",VLOOKUP($E311,List_Controls!$I$3:$L$79,2,FALSE))","v":""},{"$f":"IF(E311=\"\",\"\",VLOOKUP($E311,List_Controls!$I$3:$L$79,3,FALSE))","v":""},{"$f":"IF(E311=\"\",\"\",VLOOKUP($E311,List_Controls!$I$3:$L$79,4,FALSE))","v":""},null,null,null,null,null,null,""]
[null,{"$f":"IF(E312=\"\",\"\",VLOOKUP($E312,List_Controls!$I$3:$L$79,2,FALSE))","v":""},{"$f":"IF(E312=\"\",\"\",VLOOKUP($E312,List_Controls!$I$3:$L$79,3,FALSE))","v":""},{"$f":"IF(E312=\"\",\"\",VLOOKUP($E312,List_Controls!$I$3:$L$79,4,FALSE))","v":""},null,null,null,null,null,null,""]
[null,{"$f":"IF(E313=\"\",\"\",VLOOKUP($E313,List_Controls!$I$3:$L$79,2,FALSE))","v":""},{"$f":"IF(E313=\"\",\"\",VLOOKUP($E313,List_Controls!$I$3:$L$79,3,FALSE))","v":""},{"$f":"IF(E313=\"\",\"\",VLOOKUP($E313,List_Controls!$I$3:$L$79,4,FALSE))","v":""},null,null,null,null,null,null,""]
[null,{"$f":"IF(E314=\"\",\"\",VLOOKUP($E314,List_Controls!$I$3:$L$79,2,FALSE))","v":""},{"$f":"IF(E314=\"\",\"\",VLOOKUP($E314,List_Controls!$I$3:$L$79,3,FALSE))","v":""},{"$f":"IF(E314=\"\",\"\",VLOOKUP($E314,List_Controls!$I$3:$L$79,4,FALSE))","v":""},null,null,null,null,null,null,""]
[null,{"$f":"IF(E315=\"\",\"\",VLOOKUP($E315,List_Controls!$I$3:$L$79,2,FALSE))","v":""},{"$f":"IF(E315=\"\",\"\",VLOOKUP($E315,List_Controls!$I$3:$L$79,3,FALSE))","v":""},{"$f":"IF(E315=\"\",\"\",VLOOKUP($E315,List_Controls!$I$3:$L$79,4,FALSE))","v":""},null,null,null,null,null,null,""]
[null,{"$f":"IF(E316=\"\",\"\",VLOOKUP($E316,List_Controls!$I$3:$L$79,2,FALSE))","v":""},{"$f":"IF(E316=\"\",\"\",VLOOKUP($E316,List_Controls!$I$3:$L$79,3,FALSE))","v":""},{"$f":"IF(E316=\"\",\"\",VLOOKUP($E316,List_Controls!$I$3:$L$79,4,FALSE))","v":""},null,null,null,null,null,null,""]
[null,{"$f":"IF(E317=\"\",\"\",VLOOKUP($E317,List_Controls!$I$3:$L$79,2,FALSE))","v":""},{"$f":"IF(E317=\"\",\"\",VLOOKUP($E317,List_Controls!$I$3:$L$79,3,FALSE))","v":""},{"$f":"IF(E317=\"\",\"\",VLOOKUP($E317,List_Controls!$I$3:$L$79,4,FALSE))","v":""},null,null,null,null,null,null,""]
[null,{"$f":"IF(E318=\"\",\"\",VLOOKUP($E318,List_Controls!$I$3:$L$79,2,FALSE))","v":""},{"$f":"IF(E318=\"\",\"\",VLOOKUP($E318,List_Controls!$I$3:$L$79,3,FALSE))","v":""},{"$f":"IF(E318=\"\",\"\",VLOOKUP($E318,List_Controls!$I$3:$L$79,4,FALSE))","v":""},null,null,null,null,null,null,""]
[null,{"$f":"IF(E319=\"\",\"\",VLOOKUP($E319,List_Controls!$I$3:$L$79,2,FALSE))","v":""},{"$f":"IF(E319=\"\",\"\",VLOOKUP($E319,List_Controls!$I$3:$L$79,3,FALSE))","v":""},{"$f":"IF(E319=\"\",\"\",VLOOKUP($E319,List_Controls!$I$3:$L$79,4,FALSE))","v":""},null,null,null,null,null,null,""]
[null,{"$f":"IF(E320=\"\",\"\",VLOOKUP($E320,List_Controls!$I$3:$L$79,2,FALSE))","v":""},{"$f":"IF(E320=\"\",\"\",VLOOKUP($E320,List_Controls!$I$3:$L$79,3,FALSE))","v":""},{"$f":"IF(E320=\"\",\"\",VLOOKUP($E320,List_Controls!$I$3:$L$79,4,FALSE))","v":""},null,null,null,null,null,null,""]
[null,{"$f":"IF(E321=\"\",\"\",VLOOKUP($E321,List_Controls!$I$3:$L$79,2,FALSE))","v":""},{"$f":"IF(E321=\"\",\"\",VLOOKUP($E321,List_Controls!$I$3:$L$79,3,FALSE))","v":""},{"$f":"IF(E321=\"\",\"\",VLOOKUP($E321,List_Controls!$I$3:$L$79,4,FALSE))","v":""},null,null,null,null,null,null,""]
[null,{"$f":"IF(E322=\"\",\"\",VLOOKUP($E322,List_Controls!$I$3:$L$79,2,FALSE))","v":""},{"$f":"IF(E322=\"\",\"\",VLOOKUP($E322,List_Controls!$I$3:$L$79,3,FALSE))","v":""},{"$f":"IF(E322=\"\",\"\",VLOOKUP($E322,List_Controls!$I$3:$L$79,4,FALSE))","v":""},null,null,null,null,null,null,""]
[null,{"$f":"IF(E323=\"\",\"\",VLOOKUP($E323,List_Controls!$I$3:$L$79,2,FALSE))","v":""},{"$f":"IF(E323=\"\",\"\",VLOOKUP($E323,List_Controls!$I$3:$L$79,3,FALSE))","v":""},{"$f":"IF(E323=\"\",\"\",VLOOKUP($E323,List_Controls!$I$3:$L$79,4,FALSE))","v":""},null,null,null,null,null,null,""]
[null,{"$f":"IF(E324=\"\",\"\",VLOOKUP($E324,List_Controls!$I$3:$L$79,2,FALSE))","v":""},{"$f":"IF(E324=\"\",\"\",VLOOKUP($E324,List_Controls!$I$3:$L$79,3,FALSE))","v":""},{"$f":"IF(E324=\"\",\"\",VLOOKUP($E324,List_Controls!$I$3:$L$79,4,FALSE))","v":""},null,null,null,null,null,null,""]
[null,{"$f":"IF(E325=\"\",\"\",VLOOKUP($E325,List_Controls!$I$3:$L$79,2,FALSE))","v":""},{"$f":"IF(E325=\"\",\"\",VLOOKUP($E325,List_Controls!$I$3:$L$79,3,FALSE))","v":""},{"$f":"IF(E325=\"\",\"\",VLOOKUP($E325,List_Controls!$I$3:$L$79,4,FALSE))","v":""},null,null,null,null,null,null,""]
[null,{"$f":"IF(E326=\"\",\"\",VLOOKUP($E326,List_Controls!$I$3:$L$79,2,FALSE))","v":""},{"$f":"IF(E326=\"\",\"\",VLOOKUP($E326,List_Controls!$I$3:$L$79,3,FALSE))","v":""},{"$f":"IF(E326=\"\",\"\",VLOOKUP($E326,List_Controls!$I$3:$L$79,4,FALSE))","v":""},null,null,null,null,null,null,""]
[null,{"$f":"IF(E327=\"\",\"\",VLOOKUP($E327,List_Controls!$I$3:$L$79,2,FALSE))","v":""},{"$f":"IF(E327=\"\",\"\",VLOOKUP($E327,List_Controls!$I$3:$L$79,3,FALSE))","v":""},{"$f":"IF(E327=\"\",\"\",VLOOKUP($E327,List_Controls!$I$3:$L$79,4,FALSE))","v":""},null,null,null,null,null,null,""]
[null,{"$f":"IF(E328=\"\",\"\",VLOOKUP($E328,List_Controls!$I$3:$L$79,2,FALSE))","v":""},{"$f":"IF(E328=\"\",\"\",VLOOKUP($E328,List_Controls!$I$3:$L$79,3,FALSE))","v":""},{"$f":"IF(E328=\"\",\"\",VLOOKUP($E328,List_Controls!$I$3:$L$79,4,FALSE))","v":""},null,null,null,null,null,null,""]
[null,{"$f":"IF(E329=\"\",\"\",VLOOKUP($E329,List_Controls!$I$3:$L$79,2,FALSE))","v":""},{"$f":"IF(E329=\"\",\"\",VLOOKUP($E329,List_Controls!$I$3:$L$79,3,FALSE))","v":""},{"$f":"IF(E329=\"\",\"\",VLOOKUP($E329,List_Controls!$I$3:$L$79,4,FALSE))","v":""},null,null,null,null,null,null,""]
[null,{"$f":"IF(E330=\"\",\"\",VLOOKUP($E330,List_Controls!$I$3:$L$79,2,FALSE))","v":""},{"$f":"IF(E330=\"\",\"\",VLOOKUP($E330,List_Controls!$I$3:$L$79,3,FALSE))","v":""},{"$f":"IF(E330=\"\",\"\",VLOOKUP($E330,List_Controls!$I$3:$L$79,4,FALSE))","v":""},null,null,null,null,null,null,""]
[null,{"$f":"IF(E331=\"\",\"\",VLOOKUP($E331,List_Controls!$I$3:$L$79,2,FALSE))","v":""},{"$f":"IF(E331=\"\",\"\",VLOOKUP($E331,List_Controls!$I$3:$L$79,3,FALSE))","v":""},{"$f":"IF(E331=\"\",\"\",VLOOKUP($E331,List_Controls!$I$3:$L$79,4,FALSE))","v":""},null,null,null,null,null,null,""]
[null,{"$f":"IF(E332=\"\",\"\",VLOOKUP($E332,List_Controls!$I$3:$L$79,2,FALSE))","v":""},{"$f":"IF(E332=\"\",\"\",VLOOKUP($E332,List_Controls!$I$3:$L$79,3,FALSE))","v":""},{"$f":"IF(E332=\"\",\"\",VLOOKUP($E332,List_Controls!$I$3:$L$79,4,FALSE))","v":""},null,null,null,null,null,null,""]
[null,{"$f":"IF(E333=\"\",\"\",VLOOKUP($E333,List_Controls!$I$3:$L$79,2,FALSE))","v":""},{"$f":"IF(E333=\"\",\"\",VLOOKUP($E333,List_Controls!$I$3:$L$79,3,FALSE))","v":""},{"$f":"IF(E333=\"\",\"\",VLOOKUP($E333,List_Controls!$I$3:$L$79,4,FALSE))","v":""},null,null,null,null,null,null,""]
[null,{"$f":"IF(E334=\"\",\"\",VLOOKUP($E334,List_Controls!$I$3:$L$79,2,FALSE))","v":""},{"$f":"IF(E334=\"\",\"\",VLOOKUP($E334,List_Controls!$I$3:$L$79,3,FALSE))","v":""},{"$f":"IF(E334=\"\",\"\",VLOOKUP($E334,List_Controls!$I$3:$L$79,4,FALSE))","v":""},null,null,null,null,null,null,""]
[null,{"$f":"IF(E335=\"\",\"\",VLOOKUP($E335,List_Controls!$I$3:$L$79,2,FALSE))","v":""},{"$f":"IF(E335=\"\",\"\",VLOOKUP($E335,List_Controls!$I$3:$L$79,3,FALSE))","v":""},{"$f":"IF(E335=\"\",\"\",VLOOKUP($E335,List_Controls!$I$3:$L$79,4,FALSE))","v":""},null,null,null,null,null,null,""]
[null,{"$f":"IF(E336=\"\",\"\",VLOOKUP($E336,List_Controls!$I$3:$L$79,2,FALSE))","v":""},{"$f":"IF(E336=\"\",\"\",VLOOKUP($E336,List_Controls!$I$3:$L$79,3,FALSE))","v":""},{"$f":"IF(E336=\"\",\"\",VLOOKUP($E336,List_Controls!$I$3:$L$79,4,FALSE))","v":""},null,null,null,null,null,null,""]
[null,{"$f":"IF(E337=\"\",\"\",VLOOKUP($E337,List_Controls!$I$3:$L$79,2,FALSE))","v":""},{"$f":"IF(E337=\"\",\"\",VLOOKUP($E337,List_Controls!$I$3:$L$79,3,FALSE))","v":""},{"$f":"IF(E337=\"\",\"\",VLOOKUP($E337,List_Controls!$I$3:$L$79,4,FALSE))","v":""},null,null,null,null,null,null,""]
[null,{"$f":"IF(E338=\"\",\"\",VLOOKUP($E338,List_Controls!$I$3:$L$79,2,FALSE))","v":""},{"$f":"IF(E338=\"\",\"\",VLOOKUP($E338,List_Controls!$I$3:$L$79,3,FALSE))","v":""},{"$f":"IF(E338=\"\",\"\",VLOOKUP($E338,List_Controls!$I$3:$L$79,4,FALSE))","v":""},null,null,null,null,null,null,""]
[null,{"$f":"IF(E339=\"\",\"\",VLOOKUP($E339,List_Controls!$I$3:$L$79,2,FALSE))","v":""},{"$f":"IF(E339=\"\",\"\",VLOOKUP($E339,List_Controls!$I$3:$L$79,3,FALSE))","v":""},{"$f":"IF(E339=\"\",\"\",VLOOKUP($E339,List_Controls!$I$3:$L$79,4,FALSE))","v":""},null,null,null,null,null,null,""]
[null,{"$f":"IF(E340=\"\",\"\",VLOOKUP($E340,List_Controls!$I$3:$L$79,2,FALSE))","v":""},{"$f":"IF(E340=\"\",\"\",VLOOKUP($E340,List_Controls!$I$3:$L$79,3,FALSE))","v":""},{"$f":"IF(E340=\"\",\"\",VLOOKUP($E340,List_Controls!$I$3:$L$79,4,FALSE))","v":""},null,null,null,null,null,null,""]
[null,{"$f":"IF(E341=\"\",\"\",VLOOKUP($E341,List_Controls!$I$3:$L$79,2,FALSE))","v":""},{"$f":"IF(E341=\"\",\"\",VLOOKUP($E341,List_Controls!$I$3:$L$79,3,FALSE))","v":""},{"$f":"IF(E341=\"\",\"\",VLOOKUP($E341,List_Controls!$I$3:$L$79,4,FALSE))","v":""},null,null,null,null,null,null,""]
[null,{"$f":"IF(E342=\"\",\"\",VLOOKUP($E342,List_Controls!$I$3:$L$79,2,FALSE))","v":""},{"$f":"IF(E342=\"\",\"\",VLOOKUP($E342,List_Controls!$I$3:$L$79,3,FALSE))","v":""},{"$f":"IF(E342=\"\",\"\",VLOOKUP($E342,List_Controls!$I$3:$L$79,4,FALSE))","v":""},null,null,null,null,null,null,""]
[null,{"$f":"IF(E343=\"\",\"\",VLOOKUP($E343,List_Controls!$I$3:$L$79,2,FALSE))","v":""},{"$f":"IF(E343=\"\",\"\",VLOOKUP($E343,List_Controls!$I$3:$L$79,3,FALSE))","v":""},{"$f":"IF(E343=\"\",\"\",VLOOKUP($E343,List_Controls!$I$3:$L$79,4,FALSE))","v":""},null,null,null,null,null,null,""]
[null,{"$f":"IF(E344=\"\",\"\",VLOOKUP($E344,List_Controls!$I$3:$L$79,2,FALSE))","v":""},{"$f":"IF(E344=\"\",\"\",VLOOKUP($E344,List_Controls!$I$3:$L$79,3,FALSE))","v":""},{"$f":"IF(E344=\"\",\"\",VLOOKUP($E344,List_Controls!$I$3:$L$79,4,FALSE))","v":""},null,null,null,null,null,null,""]
[null,{"$f":"IF(E345=\"\",\"\",VLOOKUP($E345,List_Controls!$I$3:$L$79,2,FALSE))","v":""},{"$f":"IF(E345=\"\",\"\",VLOOKUP($E345,List_Controls!$I$3:$L$79,3,FALSE))","v":""},{"$f":"IF(E345=\"\",\"\",VLOOKUP($E345,List_Controls!$I$3:$L$79,4,FALSE))","v":""},null,null,null,null,null,null,""]
[null,{"$f":"IF(E346=\"\",\"\",VLOOKUP($E346,List_Controls!$I$3:$L$79,2,FALSE))","v":""},{"$f":"IF(E346=\"\",\"\",VLOOKUP($E346,List_Controls!$I$3:$L$79,3,FALSE))","v":""},{"$f":"IF(E346=\"\",\"\",VLOOKUP($E346,List_Controls!$I$3:$L$79,4,FALSE))","v":""},null,null,null,null,null,null,{"$f":"IF(J346=\"\",\"\",(VALUE(TEXT(I346,\"m/dd/yy \")&TEXT(J346,\"hh:mm:ss\"))-(VALUE(TEXT(G346,\"m/dd/yy \")&TEXT(H346,\"hh:mm:ss\"))))*24)","v":""}]
[null,{"$f":"IF(E347=\"\",\"\",VLOOKUP($E347,List_Controls!$I$3:$L$79,2,FALSE))","v":""},{"$f":"IF(E347=\"\",\"\",VLOOKUP($E347,List_Controls!$I$3:$L$79,3,FALSE))","v":""},{"$f":"IF(E347=\"\",\"\",VLOOKUP($E347,List_Controls!$I$3:$L$79,4,FALSE))","v":""},null,null,null,null,null,null,""]
[null,{"$f":"IF(E348=\"\",\"\",VLOOKUP($E348,List_Controls!$I$3:$L$79,2,FALSE))","v":""},{"$f":"IF(E348=\"\",\"\",VLOOKUP($E348,List_Controls!$I$3:$L$79,3,FALSE))","v":""},{"$f":"IF(E348=\"\",\"\",VLOOKUP($E348,List_Controls!$I$3:$L$79,4,FALSE))","v":""},null,null,null,null,null,null,""]
[null,{"$f":"IF(E349=\"\",\"\",VLOOKUP($E349,List_Controls!$I$3:$L$79,2,FALSE))","v":""},{"$f":"IF(E349=\"\",\"\",VLOOKUP($E349,List_Controls!$I$3:$L$79,3,FALSE))","v":""},{"$f":"IF(E349=\"\",\"\",VLOOKUP($E349,List_Controls!$I$3:$L$79,4,FALSE))","v":""},null,null,null,null,null,null,""]
[null,{"$f":"IF(E350=\"\",\"\",VLOOKUP($E350,List_Controls!$I$3:$L$79,2,FALSE))","v":""},{"$f":"IF(E350=\"\",\"\",VLOOKUP($E350,List_Controls!$I$3:$L$79,3,FALSE))","v":""},{"$f":"IF(E350=\"\",\"\",VLOOKUP($E350,List_Controls!$I$3:$L$79,4,FALSE))","v":""},null,null,null,null,null,null,""]
[null,{"$f":"IF(E351=\"\",\"\",VLOOKUP($E351,List_Controls!$I$3:$L$79,2,FALSE))","v":""},{"$f":"IF(E351=\"\",\"\",VLOOKUP($E351,List_Controls!$I$3:$L$79,3,FALSE))","v":""},{"$f":"IF(E351=\"\",\"\",VLOOKUP($E351,List_Controls!$I$3:$L$79,4,FALSE))","v":""},null,null,null,null,null,null,""]
[null,{"$f":"IF(E352=\"\",\"\",VLOOKUP($E352,List_Controls!$I$3:$L$79,2,FALSE))","v":""},{"$f":"IF(E352=\"\",\"\",VLOOKUP($E352,List_Controls!$I$3:$L$79,3,FALSE))","v":""},{"$f":"IF(E352=\"\",\"\",VLOOKUP($E352,List_Controls!$I$3:$L$79,4,FALSE))","v":""},null,null,null,null,null,null,""]
[null,{"$f":"IF(E353=\"\",\"\",VLOOKUP($E353,List_Controls!$I$3:$L$79,2,FALSE))","v":""},{"$f":"IF(E353=\"\",\"\",VLOOKUP($E353,List_Controls!$I$3:$L$79,3,FALSE))","v":""},{"$f":"IF(E353=\"\",\"\",VLOOKUP($E353,List_Controls!$I$3:$L$79,4,FALSE))","v":""},null,null,null,null,null,null,""]
[null,{"$f":"IF(E354=\"\",\"\",VLOOKUP($E354,List_Controls!$I$3:$L$79,2,FALSE))","v":""},{"$f":"IF(E354=\"\",\"\",VLOOKUP($E354,List_Controls!$I$3:$L$79,3,FALSE))","v":""},{"$f":"IF(E354=\"\",\"\",VLOOKUP($E354,List_Controls!$I$3:$L$79,4,FALSE))","v":""},null,null,null,null,null,null,""]
[null,{"$f":"IF(E355=\"\",\"\",VLOOKUP($E355,List_Controls!$I$3:$L$79,2,FALSE))","v":""},{"$f":"IF(E355=\"\",\"\",VLOOKUP($E355,List_Controls!$I$3:$L$79,3,FALSE))","v":""},{"$f":"IF(E355=\"\",\"\",VLOOKUP($E355,List_Controls!$I$3:$L$79,4,FALSE))","v":""},null,null,null,null,null,null,""]
[null,{"$f":"IF(E356=\"\",\"\",VLOOKUP($E356,List_Controls!$I$3:$L$79,2,FALSE))","v":""},{"$f":"IF(E356=\"\",\"\",VLOOKUP($E356,List_Controls!$I$3:$L$79,3,FALSE))","v":""},{"$f":"IF(E356=\"\",\"\",VLOOKUP($E356,List_Controls!$I$3:$L$79,4,FALSE))","v":""},null,null,null,null,null,null,""]
[null,{"$f":"IF(E357=\"\",\"\",VLOOKUP($E357,List_Controls!$I$3:$L$79,2,FALSE))","v":""},{"$f":"IF(E357=\"\",\"\",VLOOKUP($E357,List_Controls!$I$3:$L$79,3,FALSE))","v":""},{"$f":"IF(E357=\"\",\"\",VLOOKUP($E357,List_Controls!$I$3:$L$79,4,FALSE))","v":""},null,null,null,null,null,null,""]
[null,{"$f":"IF(E358=\"\",\"\",VLOOKUP($E358,List_Controls!$I$3:$L$79,2,FALSE))","v":""},{"$f":"IF(E358=\"\",\"\",VLOOKUP($E358,List_Controls!$I$3:$L$79,3,FALSE))","v":""},{"$f":"IF(E358=\"\",\"\",VLOOKUP($E358,List_Controls!$I$3:$L$79,4,FALSE))","v":""},null,null,null,null,null,null,""]
[null,{"$f":"IF(E359=\"\",\"\",VLOOKUP($E359,List_Controls!$I$3:$L$79,2,FALSE))","v":""},{"$f":"IF(E359=\"\",\"\",VLOOKUP($E359,List_Controls!$I$3:$L$79,3,FALSE))","v":""},{"$f":"IF(E359=\"\",\"\",VLOOKUP($E359,List_Controls!$I$3:$L$79,4,FALSE))","v":""},null,null,null,null,null,null,""]
[null,{"$f":"IF(E360=\"\",\"\",VLOOKUP($E360,List_Controls!$I$3:$L$79,2,FALSE))","v":""},{"$f":"IF(E360=\"\",\"\",VLOOKUP($E360,List_Controls!$I$3:$L$79,3,FALSE))","v":""},{"$f":"IF(E360=\"\",\"\",VLOOKUP($E360,List_Controls!$I$3:$L$79,4,FALSE))","v":""},null,null,null,null,null,null,""]
[null,{"$f":"IF(E361=\"\",\"\",VLOOKUP($E361,List_Controls!$I$3:$L$79,2,FALSE))","v":""},{"$f":"IF(E361=\"\",\"\",VLOOKUP($E361,List_Controls!$I$3:$L$79,3,FALSE))","v":""},{"$f":"IF(E361=\"\",\"\",VLOOKUP($E361,List_Controls!$I$3:$L$79,4,FALSE))","v":""},null,null,null,null,null,null,""]
[null,{"$f":"IF(E362=\"\",\"\",VLOOKUP($E362,List_Controls!$I$3:$L$79,2,FALSE))","v":""},{"$f":"IF(E362=\"\",\"\",VLOOKUP($E362,List_Controls!$I$3:$L$79,3,FALSE))","v":""},{"$f":"IF(E362=\"\",\"\",VLOOKUP($E362,List_Controls!$I$3:$L$79,4,FALSE))","v":""},null,null,null,null,null,null,""]
[null,{"$f":"IF(E363=\"\",\"\",VLOOKUP($E363,List_Controls!$I$3:$L$79,2,FALSE))","v":""},{"$f":"IF(E363=\"\",\"\",VLOOKUP($E363,List_Controls!$I$3:$L$79,3,FALSE))","v":""},{"$f":"IF(E363=\"\",\"\",VLOOKUP($E363,List_Controls!$I$3:$L$79,4,FALSE))","v":""},null,null,null,null,null,null,""]
[null,{"$f":"IF(E364=\"\",\"\",VLOOKUP($E364,List_Controls!$I$3:$L$79,2,FALSE))","v":""},{"$f":"IF(E364=\"\",\"\",VLOOKUP($E364,List_Controls!$I$3:$L$79,3,FALSE))","v":""},{"$f":"IF(E364=\"\",\"\",VLOOKUP($E364,List_Controls!$I$3:$L$79,4,FALSE))","v":""},null,null,null,null,null,null,""]
[null,{"$f":"IF(E365=\"\",\"\",VLOOKUP($E365,List_Controls!$I$3:$L$79,2,FALSE))","v":""},{"$f":"IF(E365=\"\",\"\",VLOOKUP($E365,List_Controls!$I$3:$L$79,3,FALSE))","v":""},{"$f":"IF(E365=\"\",\"\",VLOOKUP($E365,List_Controls!$I$3:$L$79,4,FALSE))","v":""},null,null,null,null,null,null,""]
[null,{"$f":"IF(E366=\"\",\"\",VLOOKUP($E366,List_Controls!$I$3:$L$79,2,FALSE))","v":""},{"$f":"IF(E366=\"\",\"\",VLOOKUP($E366,List_Controls!$I$3:$L$79,3,FALSE))","v":""},{"$f":"IF(E366=\"\",\"\",VLOOKUP($E366,List_Controls!$I$3:$L$79,4,FALSE))","v":""},null,null,null,null,null,null,""]
[null,{"$f":"IF(E367=\"\",\"\",VLOOKUP($E367,List_Controls!$I$3:$L$79,2,FALSE))","v":""},{"$f":"IF(E367=\"\",\"\",VLOOKUP($E367,List_Controls!$I$3:$L$79,3,FALSE))","v":""},{"$f":"IF(E367=\"\",\"\",VLOOKUP($E367,List_Controls!$I$3:$L$79,4,FALSE))","v":""},null,null,null,null,null,null,""]
[null,{"$f":"IF(E368=\"\",\"\",VLOOKUP($E368,List_Controls!$I$3:$L$79,2,FALSE))","v":""},{"$f":"IF(E368=\"\",\"\",VLOOKUP($E368,List_Controls!$I$3:$L$79,3,FALSE))","v":""},{"$f":"IF(E368=\"\",\"\",VLOOKUP($E368,List_Controls!$I$3:$L$79,4,FALSE))","v":""},null,null,null,null,null,null,""]
[null,{"$f":"IF(E369=\"\",\"\",VLOOKUP($E369,List_Controls!$I$3:$L$79,2,FALSE))","v":""},{"$f":"IF(E369=\"\",\"\",VLOOKUP($E369,List_Controls!$I$3:$L$79,3,FALSE))","v":""},{"$f":"IF(E369=\"\",\"\",VLOOKUP($E369,List_Controls!$I$3:$L$79,4,FALSE))","v":""},null,null,null,null,null,null,""]
[null,{"$f":"IF(E370=\"\",\"\",VLOOKUP($E370,List_Controls!$I$3:$L$79,2,FALSE))","v":""},{"$f":"IF(E370=\"\",\"\",VLOOKUP($E370,List_Controls!$I$3:$L$79,3,FALSE))","v":""},{"$f":"IF(E370=\"\",\"\",VLOOKUP($E370,List_Controls!$I$3:$L$79,4,FALSE))","v":""},null,null,null,null,null,null,""]
[null,{"$f":"IF(E371=\"\",\"\",VLOOKUP($E371,List_Controls!$I$3:$L$79,2,FALSE))","v":""},{"$f":"IF(E371=\"\",\"\",VLOOKUP($E371,List_Controls!$I$3:$L$79,3,FALSE))","v":""},{"$f":"IF(E371=\"\",\"\",VLOOKUP($E371,List_Controls!$I$3:$L$79,4,FALSE))","v":""},null,null,null,null,null,null,""]
[null,{"$f":"IF(E372=\"\",\"\",VLOOKUP($E372,List_Controls!$I$3:$L$79,2,FALSE))","v":""},{"$f":"IF(E372=\"\",\"\",VLOOKUP($E372,List_Controls!$I$3:$L$79,3,FALSE))","v":""},{"$f":"IF(E372=\"\",\"\",VLOOKUP($E372,List_Controls!$I$3:$L$79,4,FALSE))","v":""},null,null,null,null,null,null,""]
[null,{"$f":"IF(E373=\"\",\"\",VLOOKUP($E373,List_Controls!$I$3:$L$79,2,FALSE))","v":""},{"$f":"IF(E373=\"\",\"\",VLOOKUP($E373,List_Controls!$I$3:$L$79,3,FALSE))","v":""},{"$f":"IF(E373=\"\",\"\",VLOOKUP($E373,List_Controls!$I$3:$L$79,4,FALSE))","v":""},null,null,null,null,null,null,""]
[null,{"$f":"IF(E374=\"\",\"\",VLOOKUP($E374,List_Controls!$I$3:$L$79,2,FALSE))","v":""},{"$f":"IF(E374=\"\",\"\",VLOOKUP($E374,List_Controls!$I$3:$L$79,3,FALSE))","v":""},{"$f":"IF(E374=\"\",\"\",VLOOKUP($E374,List_Controls!$I$3:$L$79,4,FALSE))","v":""},null,null,null,null,null,null,""]
[null,{"$f":"IF(E375=\"\",\"\",VLOOKUP($E375,List_Controls!$I$3:$L$79,2,FALSE))","v":""},{"$f":"IF(E375=\"\",\"\",VLOOKUP($E375,List_Controls!$I$3:$L$79,3,FALSE))","v":""},{"$f":"IF(E375=\"\",\"\",VLOOKUP($E375,List_Controls!$I$3:$L$79,4,FALSE))","v":""},null,null,null,null,null,null,""]
[null,{"$f":"IF(E376=\"\",\"\",VLOOKUP($E376,List_Controls!$I$3:$L$79,2,FALSE))","v":""},{"$f":"IF(E376=\"\",\"\",VLOOKUP($E376,List_Controls!$I$3:$L$79,3,FALSE))","v":""},{"$f":"IF(E376=\"\",\"\",VLOOKUP($E376,List_Controls!$I$3:$L$79,4,FALSE))","v":""},null,null,null,null,null,null,""]
[null,{"$f":"IF(E377=\"\",\"\",VLOOKUP($E377,List_Controls!$I$3:$L$79,2,FALSE))","v":""},{"$f":"IF(E377=\"\",\"\",VLOOKUP($E377,List_Controls!$I$3:$L$79,3,FALSE))","v":""},{"$f":"IF(E377=\"\",\"\",VLOOKUP($E377,List_Controls!$I$3:$L$79,4,FALSE))","v":""},null,null,null,null,null,null,""]
[null,{"$f":"IF(E378=\"\",\"\",VLOOKUP($E378,List_Controls!$I$3:$L$79,2,FALSE))","v":""},{"$f":"IF(E378=\"\",\"\",VLOOKUP($E378,List_Controls!$I$3:$L$79,3,FALSE))","v":""},{"$f":"IF(E378=\"\",\"\",VLOOKUP($E378,List_Controls!$I$3:$L$79,4,FALSE))","v":""},null,null,null,null,null,null,""]
[null,{"$f":"IF(E379=\"\",\"\",VLOOKUP($E379,List_Controls!$I$3:$L$79,2,FALSE))","v":""},{"$f":"IF(E379=\"\",\"\",VLOOKUP($E379,List_Controls!$I$3:$L$79,3,FALSE))","v":""},{"$f":"IF(E379=\"\",\"\",VLOOKUP($E379,List_Controls!$I$3:$L$79,4,FALSE))","v":""},null,null,null,null,null,null,""]
[null,{"$f":"IF(E380=\"\",\"\",VLOOKUP($E380,List_Controls!$I$3:$L$79,2,FALSE))","v":""},{"$f":"IF(E380=\"\",\"\",VLOOKUP($E380,List_Controls!$I$3:$L$79,3,FALSE))","v":""},{"$f":"IF(E380=\"\",\"\",VLOOKUP($E380,List_Controls!$I$3:$L$79,4,FALSE))","v":""},null,null,null,null,null,null,""]
[null,{"$f":"IF(E381=\"\",\"\",VLOOKUP($E381,List_Controls!$I$3:$L$79,2,FALSE))","v":""},{"$f":"IF(E381=\"\",\"\",VLOOKUP($E381,List_Controls!$I$3:$L$79,3,FALSE))","v":""},{"$f":"IF(E381=\"\",\"\",VLOOKUP($E381,List_Controls!$I$3:$L$79,4,FALSE))","v":""},null,null,null,null,null,null,""]
[null,{"$f":"IF(E382=\"\",\"\",VLOOKUP($E382,List_Controls!$I$3:$L$79,2,FALSE))","v":""},{"$f":"IF(E382=\"\",\"\",VLOOKUP($E382,List_Controls!$I$3:$L$79,3,FALSE))","v":""},{"$f":"IF(E382=\"\",\"\",VLOOKUP($E382,List_Controls!$I$3:$L$79,4,FALSE))","v":""},null,null,null,null,null,null,""]
[null,{"$f":"IF(E383=\"\",\"\",VLOOKUP($E383,List_Controls!$I$3:$L$79,2,FALSE))","v":""},{"$f":"IF(E383=\"\",\"\",VLOOKUP($E383,List_Controls!$I$3:$L$79,3,FALSE))","v":""},{"$f":"IF(E383=\"\",\"\",VLOOKUP($E383,List_Controls!$I$3:$L$79,4,FALSE))","v":""},null,null,null,null,null,null,""]
[null,{"$f":"IF(E384=\"\",\"\",VLOOKUP($E384,List_Controls!$I$3:$L$79,2,FALSE))","v":""},{"$f":"IF(E384=\"\",\"\",VLOOKUP($E384,List_Controls!$I$3:$L$79,3,FALSE))","v":""},{"$f":"IF(E384=\"\",\"\",VLOOKUP($E384,List_Controls!$I$3:$L$79,4,FALSE))","v":""},null,null,null,null,null,null,""]
[null,{"$f":"IF(E385=\"\",\"\",VLOOKUP($E385,List_Controls!$I$3:$L$79,2,FALSE))","v":""},{"$f":"IF(E385=\"\",\"\",VLOOKUP($E385,List_Controls!$I$3:$L$79,3,FALSE))","v":""},{"$f":"IF(E385=\"\",\"\",VLOOKUP($E385,List_Controls!$I$3:$L$79,4,FALSE))","v":""},null,null,null,null,null,null,""]
[null,{"$f":"IF(E386=\"\",\"\",VLOOKUP($E386,List_Controls!$I$3:$L$79,2,FALSE))","v":""},{"$f":"IF(E386=\"\",\"\",VLOOKUP($E386,List_Controls!$I$3:$L$79,3,FALSE))","v":""},{"$f":"IF(E386=\"\",\"\",VLOOKUP($E386,List_Controls!$I$3:$L$79,4,FALSE))","v":""},null,null,null,null,null,null,""]
[null,{"$f":"IF(E387=\"\",\"\",VLOOKUP($E387,List_Controls!$I$3:$L$79,2,FALSE))","v":""},{"$f":"IF(E387=\"\",\"\",VLOOKUP($E387,List_Controls!$I$3:$L$79,3,FALSE))","v":""},{"$f":"IF(E387=\"\",\"\",VLOOKUP($E387,List_Controls!$I$3:$L$79,4,FALSE))","v":""},null,null,null,null,null,null,""]
[null,{"$f":"IF(E388=\"\",\"\",VLOOKUP($E388,List_Controls!$I$3:$L$79,2,FALSE))","v":""},{"$f":"IF(E388=\"\",\"\",VLOOKUP($E388,List_Controls!$I$3:$L$79,3,FALSE))","v":""},{"$f":"IF(E388=\"\",\"\",VLOOKUP($E388,List_Controls!$I$3:$L$79,4,FALSE))","v":""},null,null,null,null,null,null,""]
[null,{"$f":"IF(E389=\"\",\"\",VLOOKUP($E389,List_Controls!$I$3:$L$79,2,FALSE))","v":""},{"$f":"IF(E389=\"\",\"\",VLOOKUP($E389,List_Controls!$I$3:$L$79,3,FALSE))","v":""},{"$f":"IF(E389=\"\",\"\",VLOOKUP($E389,List_Controls!$I$3:$L$79,4,FALSE))","v":""},null,null,null,null,null,null,""]
[null,{"$f":"IF(E390=\"\",\"\",VLOOKUP($E390,List_Controls!$I$3:$L$79,2,FALSE))","v":""},{"$f":"IF(E390=\"\",\"\",VLOOKUP($E390,List_Controls!$I$3:$L$79,3,FALSE))","v":""},{"$f":"IF(E390=\"\",\"\",VLOOKUP($E390,List_Controls!$I$3:$L$79,4,FALSE))","v":""},null,null,null,null,null,null,""]
[null,{"$f":"IF(E391=\"\",\"\",VLOOKUP($E391,List_Controls!$I$3:$L$79,2,FALSE))","v":""},{"$f":"IF(E391=\"\",\"\",VLOOKUP($E391,List_Controls!$I$3:$L$79,3,FALSE))","v":""},{"$f":"IF(E391=\"\",\"\",VLOOKUP($E391,List_Controls!$I$3:$L$79,4,FALSE))","v":""},null,null,null,null,null,null,""]
[null,{"$f":"IF(E392=\"\",\"\",VLOOKUP($E392,List_Controls!$I$3:$L$79,2,FALSE))","v":""},{"$f":"IF(E392=\"\",\"\",VLOOKUP($E392,List_Controls!$I$3:$L$79,3,FALSE))","v":""},{"$f":"IF(E392=\"\",\"\",VLOOKUP($E392,List_Controls!$I$3:$L$79,4,FALSE))","v":""},null,null,null,null,null,null,""]
[null,{"$f":"IF(E393=\"\",\"\",VLOOKUP($E393,List_Controls!$I$3:$L$79,2,FALSE))","v":""},{"$f":"IF(E393=\"\",\"\",VLOOKUP($E393,List_Controls!$I$3:$L$79,3,FALSE))","v":""},{"$f":"IF(E393=\"\",\"\",VLOOKUP($E393,List_Controls!$I$3:$L$79,4,FALSE))","v":""},null,null,null,null,null,null,""]
[null,{"$f":"IF(E394=\"\",\"\",VLOOKUP($E394,List_Controls!$I$3:$L$79,2,FALSE))","v":""},{"$f":"IF(E394=\"\",\"\",VLOOKUP($E394,List_Controls!$I$3:$L$79,3,FALSE))","v":""},{"$f":"IF(E394=\"\",\"\",VLOOKUP($E394,List_Controls!$I$3:$L$79,4,FALSE))","v":""},null,null,null,null,null,null,""]
[null,{"$f":"IF(E395=\"\",\"\",VLOOKUP($E395,List_Controls!$I$3:$L$79,2,FALSE))","v":""},{"$f":"IF(E395=\"\",\"\",VLOOKUP($E395,List_Controls!$I$3:$L$79,3,FALSE))","v":""},{"$f":"IF(E395=\"\",\"\",VLOOKUP($E395,List_Controls!$I$3:$L$79,4,FALSE))","v":""},null,null,null,null,null,null,""]
[null,{"$f":"IF(E396=\"\",\"\",VLOOKUP($E396,List_Controls!$I$3:$L$79,2,FALSE))","v":""},{"$f":"IF(E396=\"\",\"\",VLOOKUP($E396,List_Controls!$I$3:$L$79,3,FALSE))","v":""},{"$f":"IF(E396=\"\",\"\",VLOOKUP($E396,List_Controls!$I$3:$L$79,4,FALSE))","v":""},null,null,null,null,null,null,""]
[null,{"$f":"IF(E397=\"\",\"\",VLOOKUP($E397,List_Controls!$I$3:$L$79,2,FALSE))","v":""},{"$f":"IF(E397=\"\",\"\",VLOOKUP($E397,List_Controls!$I$3:$L$79,3,FALSE))","v":""},{"$f":"IF(E397=\"\",\"\",VLOOKUP($E397,List_Controls!$I$3:$L$79,4,FALSE))","v":""},null,null,null,null,null,null,""]
[null,{"$f":"IF(E398=\"\",\"\",VLOOKUP($E398,List_Controls!$I$3:$L$79,2,FALSE))","v":""},{"$f":"IF(E398=\"\",\"\",VLOOKUP($E398,List_Controls!$I$3:$L$79,3,FALSE))","v":""},{"$f":"IF(E398=\"\",\"\",VLOOKUP($E398,List_Controls!$I$3:$L$79,4,FALSE))","v":""},null,null,null,null,null,null,""]
[null,{"$f":"IF(E399=\"\",\"\",VLOOKUP($E399,List_Controls!$I$3:$L$79,2,FALSE))","v":""},{"$f":"IF(E399=\"\",\"\",VLOOKUP($E399,List_Controls!$I$3:$L$79,3,FALSE))","v":""},{"$f":"IF(E399=\"\",\"\",VLOOKUP($E399,List_Controls!$I$3:$L$79,4,FALSE))","v":""},null,null,null,null,null,null,""]
[null,{"$f":"IF(E400=\"\",\"\",VLOOKUP($E400,List_Controls!$I$3:$L$79,2,FALSE))","v":""},{"$f":"IF(E400=\"\",\"\",VLOOKUP($E400,List_Controls!$I$3:$L$79,3,FALSE))","v":""},{"$f":"IF(E400=\"\",\"\",VLOOKUP($E400,List_Controls!$I$3:$L$79,4,FALSE))","v":""},null,null,null,null,null,null,""]
[null,{"$f":"IF(E401=\"\",\"\",VLOOKUP($E401,List_Controls!$I$3:$L$79,2,FALSE))","v":""},{"$f":"IF(E401=\"\",\"\",VLOOKUP($E401,List_Controls!$I$3:$L$79,3,FALSE))","v":""},{"$f":"IF(E401=\"\",\"\",VLOOKUP($E401,List_Controls!$I$3:$L$79,4,FALSE))","v":""},null,null,null,null,null,null,""]
[null,{"$f":"IF(E402=\"\",\"\",VLOOKUP($E402,List_Controls!$I$3:$L$79,2,FALSE))","v":""},{"$f":"IF(E402=\"\",\"\",VLOOKUP($E402,List_Controls!$I$3:$L$79,3,FALSE))","v":""},{"$f":"IF(E402=\"\",\"\",VLOOKUP($E402,List_Controls!$I$3:$L$79,4,FALSE))","v":""},null,null,null,null,null,null,""]
[null,{"$f":"IF(E403=\"\",\"\",VLOOKUP($E403,List_Controls!$I$3:$L$79,2,FALSE))","v":""},{"$f":"IF(E403=\"\",\"\",VLOOKUP($E403,List_Controls!$I$3:$L$79,3,FALSE))","v":""},{"$f":"IF(E403=\"\",\"\",VLOOKUP($E403,List_Controls!$I$3:$L$79,4,FALSE))","v":""},null,null,null,null,null,null,""]
[null,{"$f":"IF(E404=\"\",\"\",VLOOKUP($E404,List_Controls!$I$3:$L$79,2,FALSE))","v":""},{"$f":"IF(E404=\"\",\"\",VLOOKUP($E404,List_Controls!$I$3:$L$79,3,FALSE))","v":""},{"$f":"IF(E404=\"\",\"\",VLOOKUP($E404,List_Controls!$I$3:$L$79,4,FALSE))","v":""},null,null,null,null,null,null,""]
[null,{"$f":"IF(E405=\"\",\"\",VLOOKUP($E405,List_Controls!$I$3:$L$79,2,FALSE))","v":""},{"$f":"IF(E405=\"\",\"\",VLOOKUP($E405,List_Controls!$I$3:$L$79,3,FALSE))","v":""},{"$f":"IF(E405=\"\",\"\",VLOOKUP($E405,List_Controls!$I$3:$L$79,4,FALSE))","v":""},null,null,null,null,null,null,""]
[null,{"$f":"IF(E406=\"\",\"\",VLOOKUP($E406,List_Controls!$I$3:$L$79,2,FALSE))","v":""},{"$f":"IF(E406=\"\",\"\",VLOOKUP($E406,List_Controls!$I$3:$L$79,3,FALSE))","v":""},{"$f":"IF(E406=\"\",\"\",VLOOKUP($E406,List_Controls!$I$3:$L$79,4,FALSE))","v":""},null,null,null,null,null,null,""]
[null,{"$f":"IF(E407=\"\",\"\",VLOOKUP($E407,List_Controls!$I$3:$L$79,2,FALSE))","v":""},{"$f":"IF(E407=\"\",\"\",VLOOKUP($E407,List_Controls!$I$3:$L$79,3,FALSE))","v":""},{"$f":"IF(E407=\"\",\"\",VLOOKUP($E407,List_Controls!$I$3:$L$79,4,FALSE))","v":""},null,null,null,null,null,null,""]
[null,{"$f":"IF(E408=\"\",\"\",VLOOKUP($E408,List_Controls!$I$3:$L$79,2,FALSE))","v":""},{"$f":"IF(E408=\"\",\"\",VLOOKUP($E408,List_Controls!$I$3:$L$79,3,FALSE))","v":""},{"$f":"IF(E408=\"\",\"\",VLOOKUP($E408,List_Controls!$I$3:$L$79,4,FALSE))","v":""},null,null,null,null,null,null,""]
[null,{"$f":"IF(E409=\"\",\"\",VLOOKUP($E409,List_Controls!$I$3:$L$79,2,FALSE))","v":""},{"$f":"IF(E409=\"\",\"\",VLOOKUP($E409,List_Controls!$I$3:$L$79,3,FALSE))","v":""},{"$f":"IF(E409=\"\",\"\",VLOOKUP($E409,List_Controls!$I$3:$L$79,4,FALSE))","v":""},null,null,null,null,null,null,""]
[null,{"$f":"IF(E410=\"\",\"\",VLOOKUP($E410,List_Controls!$I$3:$L$79,2,FALSE))","v":""},{"$f":"IF(E410=\"\",\"\",VLOOKUP($E410,List_Controls!$I$3:$L$79,3,FALSE))","v":""},{"$f":"IF(E410=\"\",\"\",VLOOKUP($E410,List_Controls!$I$3:$L$79,4,FALSE))","v":""},null,null,null,null,null,null,{"$f":"IF(J410=\"\",\"\",(VALUE(TEXT(I410,\"m/dd/yy \")&TEXT(J410,\"hh:mm:ss\"))-(VALUE(TEXT(G410,\"m/dd/yy \")&TEXT(H410,\"hh:mm:ss\"))))*24)","v":""}]
[null,{"$f":"IF(E411=\"\",\"\",VLOOKUP($E411,List_Controls!$I$3:$L$79,2,FALSE))","v":""},{"$f":"IF(E411=\"\",\"\",VLOOKUP($E411,List_Controls!$I$3:$L$79,3,FALSE))","v":""},{"$f":"IF(E411=\"\",\"\",VLOOKUP($E411,List_Controls!$I$3:$L$79,4,FALSE))","v":""},null,null,null,null,null,null,""]
[null,{"$f":"IF(E412=\"\",\"\",VLOOKUP($E412,List_Controls!$I$3:$L$79,2,FALSE))","v":""},{"$f":"IF(E412=\"\",\"\",VLOOKUP($E412,List_Controls!$I$3:$L$79,3,FALSE))","v":""},{"$f":"IF(E412=\"\",\"\",VLOOKUP($E412,List_Controls!$I$3:$L$79,4,FALSE))","v":""},null,null,null,null,null,null,""]
[null,{"$f":"IF(E413=\"\",\"\",VLOOKUP($E413,List_Controls!$I$3:$L$79,2,FALSE))","v":""},{"$f":"IF(E413=\"\",\"\",VLOOKUP($E413,List_Controls!$I$3:$L$79,3,FALSE))","v":""},{"$f":"IF(E413=\"\",\"\",VLOOKUP($E413,List_Controls!$I$3:$L$79,4,FALSE))","v":""},null,null,null,null,null,null,""]
[null,{"$f":"IF(E414=\"\",\"\",VLOOKUP($E414,List_Controls!$I$3:$L$79,2,FALSE))","v":""},{"$f":"IF(E414=\"\",\"\",VLOOKUP($E414,List_Controls!$I$3:$L$79,3,FALSE))","v":""},{"$f":"IF(E414=\"\",\"\",VLOOKUP($E414,List_Controls!$I$3:$L$79,4,FALSE))","v":""},null,null,null,null,null,null,""]
[null,{"$f":"IF(E415=\"\",\"\",VLOOKUP($E415,List_Controls!$I$3:$L$79,2,FALSE))","v":""},{"$f":"IF(E415=\"\",\"\",VLOOKUP($E415,List_Controls!$I$3:$L$79,3,FALSE))","v":""},{"$f":"IF(E415=\"\",\"\",VLOOKUP($E415,List_Controls!$I$3:$L$79,4,FALSE))","v":""},null,null,null,null,null,null,""]
[null,{"$f":"IF(E416=\"\",\"\",VLOOKUP($E416,List_Controls!$I$3:$L$79,2,FALSE))","v":""},{"$f":"IF(E416=\"\",\"\",VLOOKUP($E416,List_Controls!$I$3:$L$79,3,FALSE))","v":""},{"$f":"IF(E416=\"\",\"\",VLOOKUP($E416,List_Controls!$I$3:$L$79,4,FALSE))","v":""},null,null,null,null,null,null,""]
[null,{"$f":"IF(E417=\"\",\"\",VLOOKUP($E417,List_Controls!$I$3:$L$79,2,FALSE))","v":""},{"$f":"IF(E417=\"\",\"\",VLOOKUP($E417,List_Controls!$I$3:$L$79,3,FALSE))","v":""},{"$f":"IF(E417=\"\",\"\",VLOOKUP($E417,List_Controls!$I$3:$L$79,4,FALSE))","v":""},null,null,null,null,null,null,""]
[null,{"$f":"IF(E418=\"\",\"\",VLOOKUP($E418,List_Controls!$I$3:$L$79,2,FALSE))","v":""},{"$f":"IF(E418=\"\",\"\",VLOOKUP($E418,List_Controls!$I$3:$L$79,3,FALSE))","v":""},{"$f":"IF(E418=\"\",\"\",VLOOKUP($E418,List_Controls!$I$3:$L$79,4,FALSE))","v":""},null,null,null,null,null,null,""]
[null,{"$f":"IF(E419=\"\",\"\",VLOOKUP($E419,List_Controls!$I$3:$L$79,2,FALSE))","v":""},{"$f":"IF(E419=\"\",\"\",VLOOKUP($E419,List_Controls!$I$3:$L$79,3,FALSE))","v":""},{"$f":"IF(E419=\"\",\"\",VLOOKUP($E419,List_Controls!$I$3:$L$79,4,FALSE))","v":""},null,null,null,null,null,null,""]
[null,{"$f":"IF(E420=\"\",\"\",VLOOKUP($E420,List_Controls!$I$3:$L$79,2,FALSE))","v":""},{"$f":"IF(E420=\"\",\"\",VLOOKUP($E420,List_Controls!$I$3:$L$79,3,FALSE))","v":""},{"$f":"IF(E420=\"\",\"\",VLOOKUP($E420,List_Controls!$I$3:$L$79,4,FALSE))","v":""},null,null,null,null,null,null,""]
[null,{"$f":"IF(E421=\"\",\"\",VLOOKUP($E421,List_Controls!$I$3:$L$79,2,FALSE))","v":""},{"$f":"IF(E421=\"\",\"\",VLOOKUP($E421,List_Controls!$I$3:$L$79,3,FALSE))","v":""},{"$f":"IF(E421=\"\",\"\",VLOOKUP($E421,List_Controls!$I$3:$L$79,4,FALSE))","v":""},null,null,null,null,null,null,""]
[null,{"$f":"IF(E422=\"\",\"\",VLOOKUP($E422,List_Controls!$I$3:$L$79,2,FALSE))","v":""},{"$f":"IF(E422=\"\",\"\",VLOOKUP($E422,List_Controls!$I$3:$L$79,3,FALSE))","v":""},{"$f":"IF(E422=\"\",\"\",VLOOKUP($E422,List_Controls!$I$3:$L$79,4,FALSE))","v":""},null,null,null,null,null,null,""]
[null,{"$f":"IF(E423=\"\",\"\",VLOOKUP($E423,List_Controls!$I$3:$L$79,2,FALSE))","v":""},{"$f":"IF(E423=\"\",\"\",VLOOKUP($E423,List_Controls!$I$3:$L$79,3,FALSE))","v":""},{"$f":"IF(E423=\"\",\"\",VLOOKUP($E423,List_Controls!$I$3:$L$79,4,FALSE))","v":""},null,null,null,null,null,null,""]
[null,{"$f":"IF(E424=\"\",\"\",VLOOKUP($E424,List_Controls!$I$3:$L$79,2,FALSE))","v":""},{"$f":"IF(E424=\"\",\"\",VLOOKUP($E424,List_Controls!$I$3:$L$79,3,FALSE))","v":""},{"$f":"IF(E424=\"\",\"\",VLOOKUP($E424,List_Controls!$I$3:$L$79,4,FALSE))","v":""},null,null,null,null,null,null,""]
[null,{"$f":"IF(E425=\"\",\"\",VLOOKUP($E425,List_Controls!$I$3:$L$79,2,FALSE))","v":""},{"$f":"IF(E425=\"\",\"\",VLOOKUP($E425,List_Controls!$I$3:$L$79,3,FALSE))","v":""},{"$f":"IF(E425=\"\",\"\",VLOOKUP($E425,List_Controls!$I$3:$L$79,4,FALSE))","v":""},null,null,null,null,null,null,""]
[null,{"$f":"IF(E426=\"\",\"\",VLOOKUP($E426,List_Controls!$I$3:$L$79,2,FALSE))","v":""},{"$f":"IF(E426=\"\",\"\",VLOOKUP($E426,List_Controls!$I$3:$L$79,3,FALSE))","v":""},{"$f":"IF(E426=\"\",\"\",VLOOKUP($E426,List_Controls!$I$3:$L$79,4,FALSE))","v":""},null,null,null,null,null,null,""]
[null,{"$f":"IF(E427=\"\",\"\",VLOOKUP($E427,List_Controls!$I$3:$L$79,2,FALSE))","v":""},{"$f":"IF(E427=\"\",\"\",VLOOKUP($E427,List_Controls!$I$3:$L$79,3,FALSE))","v":""},{"$f":"IF(E427=\"\",\"\",VLOOKUP($E427,List_Controls!$I$3:$L$79,4,FALSE))","v":""},null,null,null,null,null,null,""]
[null,{"$f":"IF(E428=\"\",\"\",VLOOKUP($E428,List_Controls!$I$3:$L$79,2,FALSE))","v":""},{"$f":"IF(E428=\"\",\"\",VLOOKUP($E428,List_Controls!$I$3:$L$79,3,FALSE))","v":""},{"$f":"IF(E428=\"\",\"\",VLOOKUP($E428,List_Controls!$I$3:$L$79,4,FALSE))","v":""},null,null,null,null,null,null,""]
[null,{"$f":"IF(E429=\"\",\"\",VLOOKUP($E429,List_Controls!$I$3:$L$79,2,FALSE))","v":""},{"$f":"IF(E429=\"\",\"\",VLOOKUP($E429,List_Controls!$I$3:$L$79,3,FALSE))","v":""},{"$f":"IF(E429=\"\",\"\",VLOOKUP($E429,List_Controls!$I$3:$L$79,4,FALSE))","v":""},null,null,null,null,null,null,""]
[null,{"$f":"IF(E430=\"\",\"\",VLOOKUP($E430,List_Controls!$I$3:$L$79,2,FALSE))","v":""},{"$f":"IF(E430=\"\",\"\",VLOOKUP($E430,List_Controls!$I$3:$L$79,3,FALSE))","v":""},{"$f":"IF(E430=\"\",\"\",VLOOKUP($E430,List_Controls!$I$3:$L$79,4,FALSE))","v":""},null,null,null,null,null,null,""]
[null,{"$f":"IF(E431=\"\",\"\",VLOOKUP($E431,List_Controls!$I$3:$L$79,2,FALSE))","v":""},{"$f":"IF(E431=\"\",\"\",VLOOKUP($E431,List_Controls!$I$3:$L$79,3,FALSE))","v":""},{"$f":"IF(E431=\"\",\"\",VLOOKUP($E431,List_Controls!$I$3:$L$79,4,FALSE))","v":""},null,null,null,null,null,null,""]
[null,{"$f":"IF(E432=\"\",\"\",VLOOKUP($E432,List_Controls!$I$3:$L$79,2,FALSE))","v":""},{"$f":"IF(E432=\"\",\"\",VLOOKUP($E432,List_Controls!$I$3:$L$79,3,FALSE))","v":""},{"$f":"IF(E432=\"\",\"\",VLOOKUP($E432,List_Controls!$I$3:$L$79,4,FALSE))","v":""},null,null,null,null,null,null,""]
[null,{"$f":"IF(E433=\"\",\"\",VLOOKUP($E433,List_Controls!$I$3:$L$79,2,FALSE))","v":""},{"$f":"IF(E433=\"\",\"\",VLOOKUP($E433,List_Controls!$I$3:$L$79,3,FALSE))","v":""},{"$f":"IF(E433=\"\",\"\",VLOOKUP($E433,List_Controls!$I$3:$L$79,4,FALSE))","v":""},null,null,null,null,null,null,""]
[null,{"$f":"IF(E434=\"\",\"\",VLOOKUP($E434,List_Controls!$I$3:$L$79,2,FALSE))","v":""},{"$f":"IF(E434=\"\",\"\",VLOOKUP($E434,List_Controls!$I$3:$L$79,3,FALSE))","v":""},{"$f":"IF(E434=\"\",\"\",VLOOKUP($E434,List_Controls!$I$3:$L$79,4,FALSE))","v":""},null,null,null,null,null,null,""]
[null,{"$f":"IF(E435=\"\",\"\",VLOOKUP($E435,List_Controls!$I$3:$L$79,2,FALSE))","v":""},{"$f":"IF(E435=\"\",\"\",VLOOKUP($E435,List_Controls!$I$3:$L$79,3,FALSE))","v":""},{"$f":"IF(E435=\"\",\"\",VLOOKUP($E435,List_Controls!$I$3:$L$79,4,FALSE))","v":""},null,null,null,null,null,null,""]
[null,{"$f":"IF(E436=\"\",\"\",VLOOKUP($E436,List_Controls!$I$3:$L$79,2,FALSE))","v":""},{"$f":"IF(E436=\"\",\"\",VLOOKUP($E436,List_Controls!$I$3:$L$79,3,FALSE))","v":""},{"$f":"IF(E436=\"\",\"\",VLOOKUP($E436,List_Controls!$I$3:$L$79,4,FALSE))","v":""},null,null,null,null,null,null,""]
[null,{"$f":"IF(E437=\"\",\"\",VLOOKUP($E437,List_Controls!$I$3:$L$79,2,FALSE))","v":""},{"$f":"IF(E437=\"\",\"\",VLOOKUP($E437,List_Controls!$I$3:$L$79,3,FALSE))","v":""},{"$f":"IF(E437=\"\",\"\",VLOOKUP($E437,List_Controls!$I$3:$L$79,4,FALSE))","v":""},null,null,null,null,null,null,""]
[null,{"$f":"IF(E438=\"\",\"\",VLOOKUP($E438,List_Controls!$I$3:$L$79,2,FALSE))","v":""},{"$f":"IF(E438=\"\",\"\",VLOOKUP($E438,List_Controls!$I$3:$L$79,3,FALSE))","v":""},{"$f":"IF(E438=\"\",\"\",VLOOKUP($E438,List_Controls!$I$3:$L$79,4,FALSE))","v":""},null,null,null,null,null,null,""]
[null,{"$f":"IF(E439=\"\",\"\",VLOOKUP($E439,List_Controls!$I$3:$L$79,2,FALSE))","v":""},{"$f":"IF(E439=\"\",\"\",VLOOKUP($E439,List_Controls!$I$3:$L$79,3,FALSE))","v":""},{"$f":"IF(E439=\"\",\"\",VLOOKUP($E439,List_Controls!$I$3:$L$79,4,FALSE))","v":""},null,null,null,null,null,null,""]
[null,{"$f":"IF(E440=\"\",\"\",VLOOKUP($E440,List_Controls!$I$3:$L$79,2,FALSE))","v":""},{"$f":"IF(E440=\"\",\"\",VLOOKUP($E440,List_Controls!$I$3:$L$79,3,FALSE))","v":""},{"$f":"IF(E440=\"\",\"\",VLOOKUP($E440,List_Controls!$I$3:$L$79,4,FALSE))","v":""},null,null,null,null,null,null,""]
[null,{"$f":"IF(E441=\"\",\"\",VLOOKUP($E441,List_Controls!$I$3:$L$79,2,FALSE))","v":""},{"$f":"IF(E441=\"\",\"\",VLOOKUP($E441,List_Controls!$I$3:$L$79,3,FALSE))","v":""},{"$f":"IF(E441=\"\",\"\",VLOOKUP($E441,List_Controls!$I$3:$L$79,4,FALSE))","v":""},null,null,null,null,null,null,""]
[null,{"$f":"IF(E442=\"\",\"\",VLOOKUP($E442,List_Controls!$I$3:$L$79,2,FALSE))","v":""},{"$f":"IF(E442=\"\",\"\",VLOOKUP($E442,List_Controls!$I$3:$L$79,3,FALSE))","v":""},{"$f":"IF(E442=\"\",\"\",VLOOKUP($E442,List_Controls!$I$3:$L$79,4,FALSE))","v":""},null,null,null,null,null,null,""]
[null,{"$f":"IF(E443=\"\",\"\",VLOOKUP($E443,List_Controls!$I$3:$L$79,2,FALSE))","v":""},{"$f":"IF(E443=\"\",\"\",VLOOKUP($E443,List_Controls!$I$3:$L$79,3,FALSE))","v":""},{"$f":"IF(E443=\"\",\"\",VLOOKUP($E443,List_Controls!$I$3:$L$79,4,FALSE))","v":""},null,null,null,null,null,null,""]
[null,{"$f":"IF(E444=\"\",\"\",VLOOKUP($E444,List_Controls!$I$3:$L$79,2,FALSE))","v":""},{"$f":"IF(E444=\"\",\"\",VLOOKUP($E444,List_Controls!$I$3:$L$79,3,FALSE))","v":""},{"$f":"IF(E444=\"\",\"\",VLOOKUP($E444,List_Controls!$I$3:$L$79,4,FALSE))","v":""},null,null,null,null,null,null,""]
[null,{"$f":"IF(E445=\"\",\"\",VLOOKUP($E445,List_Controls!$I$3:$L$79,2,FALSE))","v":""},{"$f":"IF(E445=\"\",\"\",VLOOKUP($E445,List_Controls!$I$3:$L$79,3,FALSE))","v":""},{"$f":"IF(E445=\"\",\"\",VLOOKUP($E445,List_Controls!$I$3:$L$79,4,FALSE))","v":""},null,null,null,null,null,null,""]
[null,{"$f":"IF(E446=\"\",\"\",VLOOKUP($E446,List_Controls!$I$3:$L$79,2,FALSE))","v":""},{"$f":"IF(E446=\"\",\"\",VLOOKUP($E446,List_Controls!$I$3:$L$79,3,FALSE))","v":""},{"$f":"IF(E446=\"\",\"\",VLOOKUP($E446,List_Controls!$I$3:$L$79,4,FALSE))","v":""},null,null,null,null,null,null,""]
[null,{"$f":"IF(E447=\"\",\"\",VLOOKUP($E447,List_Controls!$I$3:$L$79,2,FALSE))","v":""},{"$f":"IF(E447=\"\",\"\",VLOOKUP($E447,List_Controls!$I$3:$L$79,3,FALSE))","v":""},{"$f":"IF(E447=\"\",\"\",VLOOKUP($E447,List_Controls!$I$3:$L$79,4,FALSE))","v":""},null,null,null,null,null,null,""]
[null,{"$f":"IF(E448=\"\",\"\",VLOOKUP($E448,List_Controls!$I$3:$L$79,2,FALSE))","v":""},{"$f":"IF(E448=\"\",\"\",VLOOKUP($E448,List_Controls!$I$3:$L$79,3,FALSE))","v":""},{"$f":"IF(E448=\"\",\"\",VLOOKUP($E448,List_Controls!$I$3:$L$79,4,FALSE))","v":""},null,null,null,null,null,null,""]
[null,{"$f":"IF(E449=\"\",\"\",VLOOKUP($E449,List_Controls!$I$3:$L$79,2,FALSE))","v":""},{"$f":"IF(E449=\"\",\"\",VLOOKUP($E449,List_Controls!$I$3:$L$79,3,FALSE))","v":""},{"$f":"IF(E449=\"\",\"\",VLOOKUP($E449,List_Controls!$I$3:$L$79,4,FALSE))","v":""},null,null,null,null,null,null,""]
[null,{"$f":"IF(E450=\"\",\"\",VLOOKUP($E450,List_Controls!$I$3:$L$79,2,FALSE))","v":""},{"$f":"IF(E450=\"\",\"\",VLOOKUP($E450,List_Controls!$I$3:$L$79,3,FALSE))","v":""},{"$f":"IF(E450=\"\",\"\",VLOOKUP($E450,List_Controls!$I$3:$L$79,4,FALSE))","v":""},null,null,null,null,null,null,""]
[null,{"$f":"IF(E451=\"\",\"\",VLOOKUP($E451,List_Controls!$I$3:$L$79,2,FALSE))","v":""},{"$f":"IF(E451=\"\",\"\",VLOOKUP($E451,List_Controls!$I$3:$L$79,3,FALSE))","v":""},{"$f":"IF(E451=\"\",\"\",VLOOKUP($E451,List_Controls!$I$3:$L$79,4,FALSE))","v":""},null,null,null,null,null,null,""]
[null,{"$f":"IF(E452=\"\",\"\",VLOOKUP($E452,List_Controls!$I$3:$L$79,2,FALSE))","v":""},{"$f":"IF(E452=\"\",\"\",VLOOKUP($E452,List_Controls!$I$3:$L$79,3,FALSE))","v":""},{"$f":"IF(E452=\"\",\"\",VLOOKUP($E452,List_Controls!$I$3:$L$79,4,FALSE))","v":""},null,null,null,null,null,null,""]
[null,{"$f":"IF(E453=\"\",\"\",VLOOKUP($E453,List_Controls!$I$3:$L$79,2,FALSE))","v":""},{"$f":"IF(E453=\"\",\"\",VLOOKUP($E453,List_Controls!$I$3:$L$79,3,FALSE))","v":""},{"$f":"IF(E453=\"\",\"\",VLOOKUP($E453,List_Controls!$I$3:$L$79,4,FALSE))","v":""},null,null,null,null,null,null,""]
[null,{"$f":"IF(E454=\"\",\"\",VLOOKUP($E454,List_Controls!$I$3:$L$79,2,FALSE))","v":""},{"$f":"IF(E454=\"\",\"\",VLOOKUP($E454,List_Controls!$I$3:$L$79,3,FALSE))","v":""},{"$f":"IF(E454=\"\",\"\",VLOOKUP($E454,List_Controls!$I$3:$L$79,4,FALSE))","v":""},null,null,null,null,null,null,""]
[null,{"$f":"IF(E455=\"\",\"\",VLOOKUP($E455,List_Controls!$I$3:$L$79,2,FALSE))","v":""},{"$f":"IF(E455=\"\",\"\",VLOOKUP($E455,List_Controls!$I$3:$L$79,3,FALSE))","v":""},{"$f":"IF(E455=\"\",\"\",VLOOKUP($E455,List_Controls!$I$3:$L$79,4,FALSE))","v":""},null,null,null,null,null,null,""]
[null,{"$f":"IF(E456=\"\",\"\",VLOOKUP($E456,List_Controls!$I$3:$L$79,2,FALSE))","v":""},{"$f":"IF(E456=\"\",\"\",VLOOKUP($E456,List_Controls!$I$3:$L$79,3,FALSE))","v":""},{"$f":"IF(E456=\"\",\"\",VLOOKUP($E456,List_Controls!$I$3:$L$79,4,FALSE))","v":""},null,null,null,null,null,null,""]
[null,{"$f":"IF(E457=\"\",\"\",VLOOKUP($E457,List_Controls!$I$3:$L$79,2,FALSE))","v":""},{"$f":"IF(E457=\"\",\"\",VLOOKUP($E457,List_Controls!$I$3:$L$79,3,FALSE))","v":""},{"$f":"IF(E457=\"\",\"\",VLOOKUP($E457,List_Controls!$I$3:$L$79,4,FALSE))","v":""},null,null,null,null,null,null,""]
[null,{"$f":"IF(E458=\"\",\"\",VLOOKUP($E458,List_Controls!$I$3:$L$79,2,FALSE))","v":""},{"$f":"IF(E458=\"\",\"\",VLOOKUP($E458,List_Controls!$I$3:$L$79,3,FALSE))","v":""},{"$f":"IF(E458=\"\",\"\",VLOOKUP($E458,List_Controls!$I$3:$L$79,4,FALSE))","v":""},null,null,null,null,null,null,""]
[null,{"$f":"IF(E459=\"\",\"\",VLOOKUP($E459,List_Controls!$I$3:$L$79,2,FALSE))","v":""},{"$f":"IF(E459=\"\",\"\",VLOOKUP($E459,List_Controls!$I$3:$L$79,3,FALSE))","v":""},{"$f":"IF(E459=\"\",\"\",VLOOKUP($E459,List_Controls!$I$3:$L$79,4,FALSE))","v":""},null,null,null,null,null,null,""]
[null,{"$f":"IF(E460=\"\",\"\",VLOOKUP($E460,List_Controls!$I$3:$L$79,2,FALSE))","v":""},{"$f":"IF(E460=\"\",\"\",VLOOKUP($E460,List_Controls!$I$3:$L$79,3,FALSE))","v":""},{"$f":"IF(E460=\"\",\"\",VLOOKUP($E460,List_Controls!$I$3:$L$79,4,FALSE))","v":""},null,null,null,null,null,null,""]
[null,{"$f":"IF(E461=\"\",\"\",VLOOKUP($E461,List_Controls!$I$3:$L$79,2,FALSE))","v":""},{"$f":"IF(E461=\"\",\"\",VLOOKUP($E461,List_Controls!$I$3:$L$79,3,FALSE))","v":""},{"$f":"IF(E461=\"\",\"\",VLOOKUP($E461,List_Controls!$I$3:$L$79,4,FALSE))","v":""},null,null,null,null,null,null,""]
[null,{"$f":"IF(E462=\"\",\"\",VLOOKUP($E462,List_Controls!$I$3:$L$79,2,FALSE))","v":""},{"$f":"IF(E462=\"\",\"\",VLOOKUP($E462,List_Controls!$I$3:$L$79,3,FALSE))","v":""},{"$f":"IF(E462=\"\",\"\",VLOOKUP($E462,List_Controls!$I$3:$L$79,4,FALSE))","v":""},null,null,null,null,null,null,""]
[null,{"$f":"IF(E463=\"\",\"\",VLOOKUP($E463,List_Controls!$I$3:$L$79,2,FALSE))","v":""},{"$f":"IF(E463=\"\",\"\",VLOOKUP($E463,List_Controls!$I$3:$L$79,3,FALSE))","v":""},{"$f":"IF(E463=\"\",\"\",VLOOKUP($E463,List_Controls!$I$3:$L$79,4,FALSE))","v":""},null,null,null,null,null,null,""]
[null,{"$f":"IF(E464=\"\",\"\",VLOOKUP($E464,List_Controls!$I$3:$L$79,2,FALSE))","v":""},{"$f":"IF(E464=\"\",\"\",VLOOKUP($E464,List_Controls!$I$3:$L$79,3,FALSE))","v":""},{"$f":"IF(E464=\"\",\"\",VLOOKUP($E464,List_Controls!$I$3:$L$79,4,FALSE))","v":""},null,null,null,null,null,null,""]
[null,{"$f":"IF(E465=\"\",\"\",VLOOKUP($E465,List_Controls!$I$3:$L$79,2,FALSE))","v":""},{"$f":"IF(E465=\"\",\"\",VLOOKUP($E465,List_Controls!$I$3:$L$79,3,FALSE))","v":""},{"$f":"IF(E465=\"\",\"\",VLOOKUP($E465,List_Controls!$I$3:$L$79,4,FALSE))","v":""},null,null,null,null,null,null,""]
[null,{"$f":"IF(E466=\"\",\"\",VLOOKUP($E466,List_Controls!$I$3:$L$79,2,FALSE))","v":""},{"$f":"IF(E466=\"\",\"\",VLOOKUP($E466,List_Controls!$I$3:$L$79,3,FALSE))","v":""},{"$f":"IF(E466=\"\",\"\",VLOOKUP($E466,List_Controls!$I$3:$L$79,4,FALSE))","v":""},null,null,null,null,null,null,""]
[null,{"$f":"IF(E467=\"\",\"\",VLOOKUP($E467,List_Controls!$I$3:$L$79,2,FALSE))","v":""},{"$f":"IF(E467=\"\",\"\",VLOOKUP($E467,List_Controls!$I$3:$L$79,3,FALSE))","v":""},{"$f":"IF(E467=\"\",\"\",VLOOKUP($E467,List_Controls!$I$3:$L$79,4,FALSE))","v":""},null,null,null,null,null,null,""]
[null,{"$f":"IF(E468=\"\",\"\",VLOOKUP($E468,List_Controls!$I$3:$L$79,2,FALSE))","v":""},{"$f":"IF(E468=\"\",\"\",VLOOKUP($E468,List_Controls!$I$3:$L$79,3,FALSE))","v":""},{"$f":"IF(E468=\"\",\"\",VLOOKUP($E468,List_Controls!$I$3:$L$79,4,FALSE))","v":""},null,null,null,null,null,null,""]
[null,{"$f":"IF(E469=\"\",\"\",VLOOKUP($E469,List_Controls!$I$3:$L$79,2,FALSE))","v":""},{"$f":"IF(E469=\"\",\"\",VLOOKUP($E469,List_Controls!$I$3:$L$79,3,FALSE))","v":""},{"$f":"IF(E469=\"\",\"\",VLOOKUP($E469,List_Controls!$I$3:$L$79,4,FALSE))","v":""},null,null,null,null,null,null,""]
[null,{"$f":"IF(E470=\"\",\"\",VLOOKUP($E470,List_Controls!$I$3:$L$79,2,FALSE))","v":""},{"$f":"IF(E470=\"\",\"\",VLOOKUP($E470,List_Controls!$I$3:$L$79,3,FALSE))","v":""},{"$f":"IF(E470=\"\",\"\",VLOOKUP($E470,List_Controls!$I$3:$L$79,4,FALSE))","v":""},null,null,null,null,null,null,""]
[null,{"$f":"IF(E471=\"\",\"\",VLOOKUP($E471,List_Controls!$I$3:$L$79,2,FALSE))","v":""},{"$f":"IF(E471=\"\",\"\",VLOOKUP($E471,List_Controls!$I$3:$L$79,3,FALSE))","v":""},{"$f":"IF(E471=\"\",\"\",VLOOKUP($E471,List_Controls!$I$3:$L$79,4,FALSE))","v":""},null,null,null,null,null,null,""]
[null,{"$f":"IF(E472=\"\",\"\",VLOOKUP($E472,List_Controls!$I$3:$L$79,2,FALSE))","v":""},{"$f":"IF(E472=\"\",\"\",VLOOKUP($E472,List_Controls!$I$3:$L$79,3,FALSE))","v":""},{"$f":"IF(E472=\"\",\"\",VLOOKUP($E472,List_Controls!$I$3:$L$79,4,FALSE))","v":""},null,null,null,null,null,null,""]
[null,{"$f":"IF(E473=\"\",\"\",VLOOKUP($E473,List_Controls!$I$3:$L$79,2,FALSE))","v":""},{"$f":"IF(E473=\"\",\"\",VLOOKUP($E473,List_Controls!$I$3:$L$79,3,FALSE))","v":""},{"$f":"IF(E473=\"\",\"\",VLOOKUP($E473,List_Controls!$I$3:$L$79,4,FALSE))","v":""},null,null,null,null,null,null,""]
[null,{"$f":"IF(E474=\"\",\"\",VLOOKUP($E474,List_Controls!$I$3:$L$79,2,FALSE))","v":""},{"$f":"IF(E474=\"\",\"\",VLOOKUP($E474,List_Controls!$I$3:$L$79,3,FALSE))","v":""},{"$f":"IF(E474=\"\",\"\",VLOOKUP($E474,List_Controls!$I$3:$L$79,4,FALSE))","v":""},null,null,null,null,null,null,{"$f":"IF(J474=\"\",\"\",(VALUE(TEXT(I474,\"m/dd/yy \")&TEXT(J474,\"hh:mm:ss\"))-(VALUE(TEXT(G474,\"m/dd/yy \")&TEXT(H474,\"hh:mm:ss\"))))*24)","v":""}]
[null,{"$f":"IF(E475=\"\",\"\",VLOOKUP($E475,List_Controls!$I$3:$L$79,2,FALSE))","v":""},{"$f":"IF(E475=\"\",\"\",VLOOKUP($E475,List_Controls!$I$3:$L$79,3,FALSE))","v":""},{"$f":"IF(E475=\"\",\"\",VLOOKUP($E475,List_Controls!$I$3:$L$79,4,FALSE))","v":""},null,null,null,null,null,null,""]
[null,{"$f":"IF(E476=\"\",\"\",VLOOKUP($E476,List_Controls!$I$3:$L$79,2,FALSE))","v":""},{"$f":"IF(E476=\"\",\"\",VLOOKUP($E476,List_Controls!$I$3:$L$79,3,FALSE))","v":""},{"$f":"IF(E476=\"\",\"\",VLOOKUP($E476,List_Controls!$I$3:$L$79,4,FALSE))","v":""},null,null,null,null,null,null,""]
[null,{"$f":"IF(E477=\"\",\"\",VLOOKUP($E477,List_Controls!$I$3:$L$79,2,FALSE))","v":""},{"$f":"IF(E477=\"\",\"\",VLOOKUP($E477,List_Controls!$I$3:$L$79,3,FALSE))","v":""},{"$f":"IF(E477=\"\",\"\",VLOOKUP($E477,List_Controls!$I$3:$L$79,4,FALSE))","v":""},null,null,null,null,null,null,""]
[null,{"$f":"IF(E478=\"\",\"\",VLOOKUP($E478,List_Controls!$I$3:$L$79,2,FALSE))","v":""},{"$f":"IF(E478=\"\",\"\",VLOOKUP($E478,List_Controls!$I$3:$L$79,3,FALSE))","v":""},{"$f":"IF(E478=\"\",\"\",VLOOKUP($E478,List_Controls!$I$3:$L$79,4,FALSE))","v":""},null,null,null,null,null,null,""]
[null,{"$f":"IF(E479=\"\",\"\",VLOOKUP($E479,List_Controls!$I$3:$L$79,2,FALSE))","v":""},{"$f":"IF(E479=\"\",\"\",VLOOKUP($E479,List_Controls!$I$3:$L$79,3,FALSE))","v":""},{"$f":"IF(E479=\"\",\"\",VLOOKUP($E479,List_Controls!$I$3:$L$79,4,FALSE))","v":""},null,null,null,null,null,null,""]
[null,{"$f":"IF(E480=\"\",\"\",VLOOKUP($E480,List_Controls!$I$3:$L$79,2,FALSE))","v":""},{"$f":"IF(E480=\"\",\"\",VLOOKUP($E480,List_Controls!$I$3:$L$79,3,FALSE))","v":""},{"$f":"IF(E480=\"\",\"\",VLOOKUP($E480,List_Controls!$I$3:$L$79,4,FALSE))","v":""},null,null,null,null,null,null,""]
[null,{"$f":"IF(E481=\"\",\"\",VLOOKUP($E481,List_Controls!$I$3:$L$79,2,FALSE))","v":""},{"$f":"IF(E481=\"\",\"\",VLOOKUP($E481,List_Controls!$I$3:$L$79,3,FALSE))","v":""},{"$f":"IF(E481=\"\",\"\",VLOOKUP($E481,List_Controls!$I$3:$L$79,4,FALSE))","v":""},null,null,null,null,null,null,""]
[null,{"$f":"IF(E482=\"\",\"\",VLOOKUP($E482,List_Controls!$I$3:$L$79,2,FALSE))","v":""},{"$f":"IF(E482=\"\",\"\",VLOOKUP($E482,List_Controls!$I$3:$L$79,3,FALSE))","v":""},{"$f":"IF(E482=\"\",\"\",VLOOKUP($E482,List_Controls!$I$3:$L$79,4,FALSE))","v":""},null,null,null,null,null,null,""]
[null,{"$f":"IF(E483=\"\",\"\",VLOOKUP($E483,List_Controls!$I$3:$L$79,2,FALSE))","v":""},{"$f":"IF(E483=\"\",\"\",VLOOKUP($E483,List_Controls!$I$3:$L$79,3,FALSE))","v":""},{"$f":"IF(E483=\"\",\"\",VLOOKUP($E483,List_Controls!$I$3:$L$79,4,FALSE))","v":""},null,null,null,null,null,null,""]
[null,{"$f":"IF(E484=\"\",\"\",VLOOKUP($E484,List_Controls!$I$3:$L$79,2,FALSE))","v":""},{"$f":"IF(E484=\"\",\"\",VLOOKUP($E484,List_Controls!$I$3:$L$79,3,FALSE))","v":""},{"$f":"IF(E484=\"\",\"\",VLOOKUP($E484,List_Controls!$I$3:$L$79,4,FALSE))","v":""},null,null,null,null,null,null,""]
[null,{"$f":"IF(E485=\"\",\"\",VLOOKUP($E485,List_Controls!$I$3:$L$79,2,FALSE))","v":""},{"$f":"IF(E485=\"\",\"\",VLOOKUP($E485,List_Controls!$I$3:$L$79,3,FALSE))","v":""},{"$f":"IF(E485=\"\",\"\",VLOOKUP($E485,List_Controls!$I$3:$L$79,4,FALSE))","v":""},null,null,null,null,null,null,""]
[null,{"$f":"IF(E486=\"\",\"\",VLOOKUP($E486,List_Controls!$I$3:$L$79,2,FALSE))","v":""},{"$f":"IF(E486=\"\",\"\",VLOOKUP($E486,List_Controls!$I$3:$L$79,3,FALSE))","v":""},{"$f":"IF(E486=\"\",\"\",VLOOKUP($E486,List_Controls!$I$3:$L$79,4,FALSE))","v":""},null,null,null,null,null,null,""]
[null,{"$f":"IF(E487=\"\",\"\",VLOOKUP($E487,List_Controls!$I$3:$L$79,2,FALSE))","v":""},{"$f":"IF(E487=\"\",\"\",VLOOKUP($E487,List_Controls!$I$3:$L$79,3,FALSE))","v":""},{"$f":"IF(E487=\"\",\"\",VLOOKUP($E487,List_Controls!$I$3:$L$79,4,FALSE))","v":""},null,null,null,null,null,null,""]
[null,{"$f":"IF(E488=\"\",\"\",VLOOKUP($E488,List_Controls!$I$3:$L$79,2,FALSE))","v":""},{"$f":"IF(E488=\"\",\"\",VLOOKUP($E488,List_Controls!$I$3:$L$79,3,FALSE))","v":""},{"$f":"IF(E488=\"\",\"\",VLOOKUP($E488,List_Controls!$I$3:$L$79,4,FALSE))","v":""},null,null,null,null,null,null,""]
[null,{"$f":"IF(E489=\"\",\"\",VLOOKUP($E489,List_Controls!$I$3:$L$79,2,FALSE))","v":""},{"$f":"IF(E489=\"\",\"\",VLOOKUP($E489,List_Controls!$I$3:$L$79,3,FALSE))","v":""},{"$f":"IF(E489=\"\",\"\",VLOOKUP($E489,List_Controls!$I$3:$L$79,4,FALSE))","v":""},null,null,null,null,null,null,""]
[null,{"$f":"IF(E490=\"\",\"\",VLOOKUP($E490,List_Controls!$I$3:$L$79,2,FALSE))","v":""},{"$f":"IF(E490=\"\",\"\",VLOOKUP($E490,List_Controls!$I$3:$L$79,3,FALSE))","v":""},{"$f":"IF(E490=\"\",\"\",VLOOKUP($E490,List_Controls!$I$3:$L$79,4,FALSE))","v":""},null,null,null,null,null,null,""]
[null,{"$f":"IF(E491=\"\",\"\",VLOOKUP($E491,List_Controls!$I$3:$L$79,2,FALSE))","v":""},{"$f":"IF(E491=\"\",\"\",VLOOKUP($E491,List_Controls!$I$3:$L$79,3,FALSE))","v":""},{"$f":"IF(E491=\"\",\"\",VLOOKUP($E491,List_Controls!$I$3:$L$79,4,FALSE))","v":""},null,null,null,null,null,null,""]
[null,{"$f":"IF(E492=\"\",\"\",VLOOKUP($E492,List_Controls!$I$3:$L$79,2,FALSE))","v":""},{"$f":"IF(E492=\"\",\"\",VLOOKUP($E492,List_Controls!$I$3:$L$79,3,FALSE))","v":""},{"$f":"IF(E492=\"\",\"\",VLOOKUP($E492,List_Controls!$I$3:$L$79,4,FALSE))","v":""},null,null,null,null,null,null,""]
[null,{"$f":"IF(E493=\"\",\"\",VLOOKUP($E493,List_Controls!$I$3:$L$79,2,FALSE))","v":""},{"$f":"IF(E493=\"\",\"\",VLOOKUP($E493,List_Controls!$I$3:$L$79,3,FALSE))","v":""},{"$f":"IF(E493=\"\",\"\",VLOOKUP($E493,List_Controls!$I$3:$L$79,4,FALSE))","v":""},null,null,null,null,null,null,""]
[null,{"$f":"IF(E494=\"\",\"\",VLOOKUP($E494,List_Controls!$I$3:$L$79,2,FALSE))","v":""},{"$f":"IF(E494=\"\",\"\",VLOOKUP($E494,List_Controls!$I$3:$L$79,3,FALSE))","v":""},{"$f":"IF(E494=\"\",\"\",VLOOKUP($E494,List_Controls!$I$3:$L$79,4,FALSE))","v":""},null,null,null,null,null,null,""]
[null,{"$f":"IF(E495=\"\",\"\",VLOOKUP($E495,List_Controls!$I$3:$L$79,2,FALSE))","v":""},{"$f":"IF(E495=\"\",\"\",VLOOKUP($E495,List_Controls!$I$3:$L$79,3,FALSE))","v":""},{"$f":"IF(E495=\"\",\"\",VLOOKUP($E495,List_Controls!$I$3:$L$79,4,FALSE))","v":""},null,null,null,null,null,null,""]
[null,{"$f":"IF(E496=\"\",\"\",VLOOKUP($E496,List_Controls!$I$3:$L$79,2,FALSE))","v":""},{"$f":"IF(E496=\"\",\"\",VLOOKUP($E496,List_Controls!$I$3:$L$79,3,FALSE))","v":""},{"$f":"IF(E496=\"\",\"\",VLOOKUP($E496,List_Controls!$I$3:$L$79,4,FALSE))","v":""},null,null,null,null,null,null,""]
[null,{"$f":"IF(E497=\"\",\"\",VLOOKUP($E497,List_Controls!$I$3:$L$79,2,FALSE))","v":""},{"$f":"IF(E497=\"\",\"\",VLOOKUP($E497,List_Controls!$I$3:$L$79,3,FALSE))","v":""},{"$f":"IF(E497=\"\",\"\",VLOOKUP($E497,List_Controls!$I$3:$L$79,4,FALSE))","v":""},null,null,null,null,null,null,""]
[null,{"$f":"IF(E498=\"\",\"\",VLOOKUP($E498,List_Controls!$I$3:$L$79,2,FALSE))","v":""},{"$f":"IF(E498=\"\",\"\",VLOOKUP($E498,List_Controls!$I$3:$L$79,3,FALSE))","v":""},{"$f":"IF(E498=\"\",\"\",VLOOKUP($E498,List_Controls!$I$3:$L$79,4,FALSE))","v":""},null,null,null,null,null,null,""]
[null,{"$f":"IF(E499=\"\",\"\",VLOOKUP($E499,List_Controls!$I$3:$L$79,2,FALSE))","v":""},{"$f":"IF(E499=\"\",\"\",VLOOKUP($E499,List_Controls!$I$3:$L$79,3,FALSE))","v":""},{"$f":"IF(E499=\"\",\"\",VLOOKUP($E499,List_Controls!$I$3:$L$79,4,FALSE))","v":""},null,null,null,null,null,null,""]
[null,{"$f":"IF(E500=\"\",\"\",VLOOKUP($E500,List_Controls!$I$3:$L$79,2,FALSE))","v":""},{"$f":"IF(E500=\"\",\"\",VLOOKUP($E500,List_Controls!$I$3:$L$79,3,FALSE))","v":""},{"$f":"IF(E500=\"\",\"\",VLOOKUP($E500,List_Controls!$I$3:$L$79,4,FALSE))","v":""},null,null,null,null,null,null,""]

{"sheet":"OpParam_Deviation_CMS_Data","index":13,"n_rows":500,"n_cols":12,"rows_kept":500,"cut":false,"hidden":true,"merged":[]}
["Reason Summary"]
["Record_Count","Company ID","Control_ID",null,"CMS_Details","Concat","Remove_Dups_Control_Reasons","Control_List","Facility ID","Control Device ID","parameter","Control Device Op Time"]
[{"$f":"+IF(G3=\"\",\"\",MAX(A$1:A2)+1)","v":""},{"$f":"IF(Deviations_Op_Param_CMS!B24=\"\",\"\",Deviations_Op_Param_CMS!B24)","v":""},{"$f":"IF(Deviations_Op_Param_CMS!C24=\"\",\"\",Deviations_Op_Param_CMS!C24)","v":""},{"$f":"IF(Deviations_Op_Param_CMS!F24=\"\",\"\",Deviations_Op_Param_CMS!F24)","v":""},{"$f":"IF(Deviations_Op_Param_CMS!D24=\"\",\"\",Deviations_Op_Param_CMS!D24)","v":""},{"$f":"IF(E3=\"\",\"\",B3&\"-\"&C3&\"-\"&D3)","v":""},{"$f":"IF(COUNTIF(F$2:F3,F3)=1,F3,\"\")","v":""},{"$f":"+IFERROR(INDEX($G$3:$G$499,MATCH(ROW()-ROW($H$2),$A$3:$A$499,0)),\"\")","v":""},{"$f":"+IFERROR(INDEX($B$3:$B$499,MATCH(ROW()-ROW($H$2),$A$3:$A$499,0)),\"\")","v":""},{"$f":"+IFERROR(INDEX($C$3:$C$499,MATCH(ROW()-ROW($H$2),$A$3:$A$499,0)),\"\")","v":""},{"$f":"+IFERROR(INDEX($D$3:$D$499,MATCH(ROW()-ROW($H$2),$A$3:$A$499,0)),\"\")","v":""},{"$f":"+IFERROR(INDEX($E$3:$E$499,MATCH(ROW()-ROW($H$2),$A$3:$A$499,0)),\"\")","v":""}]
[{"$f":"+IF(G4=\"\",\"\",MAX(A$1:A3)+1)","v":""},{"$f":"IF(Deviations_Op_Param_CMS!B25=\"\",\"\",Deviations_Op_Param_CMS!B25)","v":""},{"$f":"IF(Deviations_Op_Param_CMS!C25=\"\",\"\",Deviations_Op_Param_CMS!C25)","v":""},{"$f":"IF(Deviations_Op_Param_CMS!F25=\"\",\"\",Deviations_Op_Param_CMS!F25)","v":""},{"$f":"IF(Deviations_Op_Param_CMS!D25=\"\",\"\",Deviations_Op_Param_CMS!D25)","v":""},{"$f":"IF(E4=\"\",\"\",B4&\"-\"&C4&\"-\"&D4)","v":""},{"$f":"IF(COUNTIF(F$2:F4,F4)=1,F4,\"\")","v":""},"","","",{"$f":"+IFERROR(INDEX($C$3:$C$499,MATCH(ROW()-ROW($H$2),$A$3:$A$499,0)),\"\")","v":""},{"$f":"+IFERROR(INDEX($E$3:$E$499,MATCH(ROW()-ROW($H$2),$A$3:$A$499,0)),\"\")","v":""}]
[{"$f":"+IF(G5=\"\",\"\",MAX(A$1:A4)+1)","v":""},{"$f":"IF(Deviations_Op_Param_CMS!B26=\"\",\"\",Deviations_Op_Param_CMS!B26)","v":""},{"$f":"IF(Deviations_Op_Param_CMS!C26=\"\",\"\",Deviations_Op_Param_CMS!C26)","v":""},{"$f":"IF(Deviations_Op_Param_CMS!F26=\"\",\"\",Deviations_Op_Param_CMS!F26)","v":""},{"$f":"IF(Deviations_Op_Param_CMS!D26=\"\",\"\",Deviations_Op_Param_CMS!D26)","v":""},"",{"$f":"IF(COUNTIF(F$2:F5,F5)=1,F5,\"\")","v":""},"","","","",""]
[{"$f":"+IF(G6=\"\",\"\",MAX(A$1:A5)+1)","v":""},{"$f":"IF(Deviations_Op_Param_CMS!B27=\"\",\"\",Deviations_Op_Param_CMS!B27)","v":""},{"$f":"IF(Deviations_Op_Param_CMS!C27=\"\",\"\",Deviations_Op_Param_CMS!C27)","v":""},{"$f":"IF(Deviations_Op_Param_CMS!F27=\"\",\"\",Deviations_Op_Param_CMS!F27)","v":""},{"$f":"IF(Deviations_Op_Param_CMS!D27=\"\",\"\",Deviations_Op_Param_CMS!D27)","v":""},"",{"$f":"IF(COUNTIF(F$2:F6,F6)=1,F6,\"\")","v":""},"","","","",""]
[{"$f":"+IF(G7=\"\",\"\",MAX(A$1:A6)+1)","v":""},{"$f":"IF(Deviations_Op_Param_CMS!B28=\"\",\"\",Deviations_Op_Param_CMS!B28)","v":""},{"$f":"IF(Deviations_Op_Param_CMS!C28=\"\",\"\",Deviations_Op_Param_CMS!C28)","v":""},{"$f":"IF(Deviations_Op_Param_CMS!F28=\"\",\"\",Deviations_Op_Param_CMS!F28)","v":""},{"$f":"IF(Deviations_Op_Param_CMS!D28=\"\",\"\",Deviations_Op_Param_CMS!D28)","v":""},"",{"$f":"IF(COUNTIF(F$2:F7,F7)=1,F7,\"\")","v":""},"","","","",""]
[{"$f":"+IF(G8=\"\",\"\",MAX(A$1:A7)+1)","v":""},{"$f":"IF(Deviations_Op_Param_CMS!B29=\"\",\"\",Deviations_Op_Param_CMS!B29)","v":""},{"$f":"IF(Deviations_Op_Param_CMS!C29=\"\",\"\",Deviations_Op_Param_CMS!C29)","v":""},{"$f":"IF(Deviations_Op_Param_CMS!F29=\"\",\"\",Deviations_Op_Param_CMS!F29)","v":""},{"$f":"IF(Deviations_Op_Param_CMS!D29=\"\",\"\",Deviations_Op_Param_CMS!D29)","v":""},"",{"$f":"IF(COUNTIF(F$2:F8,F8)=1,F8,\"\")","v":""},"","","","",""]
[{"$f":"+IF(G9=\"\",\"\",MAX(A$1:A8)+1)","v":""},{"$f":"IF(Deviations_Op_Param_CMS!B30=\"\",\"\",Deviations_Op_Param_CMS!B30)","v":""},{"$f":"IF(Deviations_Op_Param_CMS!C30=\"\",\"\",Deviations_Op_Param_CMS!C30)","v":""},{"$f":"IF(Deviations_Op_Param_CMS!F30=\"\",\"\",Deviations_Op_Param_CMS!F30)","v":""},{"$f":"IF(Deviations_Op_Param_CMS!D30=\"\",\"\",Deviations_Op_Param_CMS!D30)","v":""},"",{"$f":"IF(COUNTIF(F$2:F9,F9)=1,F9,\"\")","v":""},"","","","",""]
[{"$f":"+IF(G10=\"\",\"\",MAX(A$1:A9)+1)","v":""},{"$f":"IF(Deviations_Op_Param_CMS!B31=\"\",\"\",Deviations_Op_Param_CMS!B31)","v":""},{"$f":"IF(Deviations_Op_Param_CMS!C31=\"\",\"\",Deviations_Op_Param_CMS!C31)","v":""},{"$f":"IF(Deviations_Op_Param_CMS!F31=\"\",\"\",Deviations_Op_Param_CMS!F31)","v":""},{"$f":"IF(Deviations_Op_Param_CMS!D31=\"\",\"\",Deviations_Op_Param_CMS!D31)","v":""},"",{"$f":"IF(COUNTIF(F$2:F10,F10)=1,F10,\"\")","v":""},"","","","",""]
[{"$f":"+IF(G11=\"\",\"\",MAX(A$1:A10)+1)","v":""},{"$f":"IF(Deviations_Op_Param_CMS!B32=\"\",\"\",Deviations_Op_Param_CMS!B32)","v":""},{"$f":"IF(Deviations_Op_Param_CMS!C32=\"\",\"\",Deviations_Op_Param_CMS!C32)","v":""},{"$f":"IF(Deviations_Op_Param_CMS!F32=\"\",\"\",Deviations_Op_Param_CMS!F32)","v":""},{"$f":"IF(Deviations_Op_Param_CMS!D32=\"\",\"\",Deviations_Op_Param_CMS!D32)","v":""},"",{"$f":"IF(COUNTIF(F$2:F11,F11)=1,F11,\"\")","v":""},"","","","",""]
[{"$f":"+IF(G12=\"\",\"\",MAX(A$1:A11)+1)","v":""},{"$f":"IF(Deviations_Op_Param_CMS!B33=\"\",\"\",Deviations_Op_Param_CMS!B33)","v":""},{"$f":"IF(Deviations_Op_Param_CMS!C33=\"\",\"\",Deviations_Op_Param_CMS!C33)","v":""},{"$f":"IF(Deviations_Op_Param_CMS!F33=\"\",\"\",Deviations_Op_Param_CMS!F33)","v":""},{"$f":"IF(Deviations_Op_Param_CMS!D33=\"\",\"\",Deviations_Op_Param_CMS!D33)","v":""},"",{"$f":"IF(COUNTIF(F$2:F12,F12)=1,F12,\"\")","v":""},"","","","",""]
[{"$f":"+IF(G13=\"\",\"\",MAX(A$1:A12)+1)","v":""},{"$f":"IF(Deviations_Op_Param_CMS!B34=\"\",\"\",Deviations_Op_Param_CMS!B34)","v":""},{"$f":"IF(Deviations_Op_Param_CMS!C34=\"\",\"\",Deviations_Op_Param_CMS!C34)","v":""},{"$f":"IF(Deviations_Op_Param_CMS!F34=\"\",\"\",Deviations_Op_Param_CMS!F34)","v":""},{"$f":"IF(Deviations_Op_Param_CMS!D34=\"\",\"\",Deviations_Op_Param_CMS!D34)","v":""},"",{"$f":"IF(COUNTIF(F$2:F13,F13)=1,F13,\"\")","v":""},"","","","",""]
[{"$f":"+IF(G14=\"\",\"\",MAX(A$1:A13)+1)","v":""},{"$f":"IF(Deviations_Op_Param_CMS!B35=\"\",\"\",Deviations_Op_Param_CMS!B35)","v":""},{"$f":"IF(Deviations_Op_Param_CMS!C35=\"\",\"\",Deviations_Op_Param_CMS!C35)","v":""},{"$f":"IF(Deviations_Op_Param_CMS!F35=\"\",\"\",Deviations_Op_Param_CMS!F35)","v":""},{"$f":"IF(Deviations_Op_Param_CMS!D35=\"\",\"\",Deviations_Op_Param_CMS!D35)","v":""},"",{"$f":"IF(COUNTIF(F$2:F14,F14)=1,F14,\"\")","v":""},"","","","",""]
[{"$f":"+IF(G15=\"\",\"\",MAX(A$1:A14)+1)","v":""},{"$f":"IF(Deviations_Op_Param_CMS!B36=\"\",\"\",Deviations_Op_Param_CMS!B36)","v":""},{"$f":"IF(Deviations_Op_Param_CMS!C36=\"\",\"\",Deviations_Op_Param_CMS!C36)","v":""},{"$f":"IF(Deviations_Op_Param_CMS!F36=\"\",\"\",Deviations_Op_Param_CMS!F36)","v":""},{"$f":"IF(Deviations_Op_Param_CMS!D36=\"\",\"\",Deviations_Op_Param_CMS!D36)","v":""},"",{"$f":"IF(COUNTIF(F$2:F15,F15)=1,F15,\"\")","v":""},"","","","",""]
[{"$f":"+IF(G16=\"\",\"\",MAX(A$1:A15)+1)","v":""},{"$f":"IF(Deviations_Op_Param_CMS!B37=\"\",\"\",Deviations_Op_Param_CMS!B37)","v":""},{"$f":"IF(Deviations_Op_Param_CMS!C37=\"\",\"\",Deviations_Op_Param_CMS!C37)","v":""},{"$f":"IF(Deviations_Op_Param_CMS!F37=\"\",\"\",Deviations_Op_Param_CMS!F37)","v":""},{"$f":"IF(Deviations_Op_Param_CMS!D37=\"\",\"\",Deviations_Op_Param_CMS!D37)","v":""},"",{"$f":"IF(COUNTIF(F$2:F16,F16)=1,F16,\"\")","v":""},"","","","",""]
[{"$f":"+IF(G17=\"\",\"\",MAX(A$1:A16)+1)","v":""},{"$f":"IF(Deviations_Op_Param_CMS!B38=\"\",\"\",Deviations_Op_Param_CMS!B38)","v":""},{"$f":"IF(Deviations_Op_Param_CMS!C38=\"\",\"\",Deviations_Op_Param_CMS!C38)","v":""},{"$f":"IF(Deviations_Op_Param_CMS!F38=\"\",\"\",Deviations_Op_Param_CMS!F38)","v":""},{"$f":"IF(Deviations_Op_Param_CMS!D38=\"\",\"\",Deviations_Op_Param_CMS!D38)","v":""},"",{"$f":"IF(COUNTIF(F$2:F17,F17)=1,F17,\"\")","v":""},"","","","",""]
[{"$f":"+IF(G18=\"\",\"\",MAX(A$1:A17)+1)","v":""},{"$f":"IF(Deviations_Op_Param_CMS!B39=\"\",\"\",Deviations_Op_Param_CMS!B39)","v":""},{"$f":"IF(Deviations_Op_Param_CMS!C39=\"\",\"\",Deviations_Op_Param_CMS!C39)","v":""},{"$f":"IF(Deviations_Op_Param_CMS!F39=\"\",\"\",Deviations_Op_Param_CMS!F39)","v":""},{"$f":"IF(Deviations_Op_Param_CMS!D39=\"\",\"\",Deviations_Op_Param_CMS!D39)","v":""},"",{"$f":"IF(COUNTIF(F$2:F18,F18)=1,F18,\"\")","v":""},"","","","",""]
[{"$f":"+IF(G19=\"\",\"\",MAX(A$1:A18)+1)","v":""},{"$f":"IF(Deviations_Op_Param_CMS!B40=\"\",\"\",Deviations_Op_Param_CMS!B40)","v":""},{"$f":"IF(Deviations_Op_Param_CMS!C40=\"\",\"\",Deviations_Op_Param_CMS!C40)","v":""},{"$f":"IF(Deviations_Op_Param_CMS!F40=\"\",\"\",Deviations_Op_Param_CMS!F40)","v":""},{"$f":"IF(Deviations_Op_Param_CMS!D40=\"\",\"\",Deviations_Op_Param_CMS!D40)","v":""},"",{"$f":"IF(COUNTIF(F$2:F19,F19)=1,F19,\"\")","v":""},"","","","",""]
[{"$f":"+IF(G20=\"\",\"\",MAX(A$1:A19)+1)","v":""},{"$f":"IF(Deviations_Op_Param_CMS!B41=\"\",\"\",Deviations_Op_Param_CMS!B41)","v":""},{"$f":"IF(Deviations_Op_Param_CMS!C41=\"\",\"\",Deviations_Op_Param_CMS!C41)","v":""},{"$f":"IF(Deviations_Op_Param_CMS!F41=\"\",\"\",Deviations_Op_Param_CMS!F41)","v":""},{"$f":"IF(Deviations_Op_Param_CMS!D41=\"\",\"\",Deviations_Op_Param_CMS!D41)","v":""},"",{"$f":"IF(COUNTIF(F$2:F20,F20)=1,F20,\"\")","v":""},"","","","",""]
[{"$f":"+IF(G21=\"\",\"\",MAX(A$1:A20)+1)","v":""},{"$f":"IF(Deviations_Op_Param_CMS!B42=\"\",\"\",Deviations_Op_Param_CMS!B42)","v":""},{"$f":"IF(Deviations_Op_Param_CMS!C42=\"\",\"\",Deviations_Op_Param_CMS!C42)","v":""},{"$f":"IF(Deviations_Op_Param_CMS!F42=\"\",\"\",Deviations_Op_Param_CMS!F42)","v":""},{"$f":"IF(Deviations_Op_Param_CMS!D42=\"\",\"\",Deviations_Op_Param_CMS!D42)","v":""},"",{"$f":"IF(COUNTIF(F$2:F21,F21)=1,F21,\"\")","v":""},"","","","",""]
[{"$f":"+IF(G22=\"\",\"\",MAX(A$1:A21)+1)","v":""},{"$f":"IF(Deviations_Op_Param_CMS!B43=\"\",\"\",Deviations_Op_Param_CMS!B43)","v":""},{"$f":"IF(Deviations_Op_Param_CMS!C43=\"\",\"\",Deviations_Op_Param_CMS!C43)","v":""},{"$f":"IF(Deviations_Op_Param_CMS!F43=\"\",\"\",Deviations_Op_Param_CMS!F43)","v":""},{"$f":"IF(Deviations_Op_Param_CMS!D43=\"\",\"\",Deviations_Op_Param_CMS!D43)","v":""},"",{"$f":"IF(COUNTIF(F$2:F22,F22)=1,F22,\"\")","v":""},"","","","",""]
[{"$f":"+IF(G23=\"\",\"\",MAX(A$1:A22)+1)","v":""},{"$f":"IF(Deviations_Op_Param_CMS!B44=\"\",\"\",Deviations_Op_Param_CMS!B44)","v":""},{"$f":"IF(Deviations_Op_Param_CMS!C44=\"\",\"\",Deviations_Op_Param_CMS!C44)","v":""},{"$f":"IF(Deviations_Op_Param_CMS!F44=\"\",\"\",Deviations_Op_Param_CMS!F44)","v":""},{"$f":"IF(Deviations_Op_Param_CMS!D44=\"\",\"\",Deviations_Op_Param_CMS!D44)","v":""},"",{"$f":"IF(COUNTIF(F$2:F23,F23)=1,F23,\"\")","v":""},"","","","",""]
[{"$f":"+IF(G24=\"\",\"\",MAX(A$1:A23)+1)","v":""},{"$f":"IF(Deviations_Op_Param_CMS!B45=\"\",\"\",Deviations_Op_Param_CMS!B45)","v":""},{"$f":"IF(Deviations_Op_Param_CMS!C45=\"\",\"\",Deviations_Op_Param_CMS!C45)","v":""},{"$f":"IF(Deviations_Op_Param_CMS!F45=\"\",\"\",Deviations_Op_Param_CMS!F45)","v":""},{"$f":"IF(Deviations_Op_Param_CMS!D45=\"\",\"\",Deviations_Op_Param_CMS!D45)","v":""},"",{"$f":"IF(COUNTIF(F$2:F24,F24)=1,F24,\"\")","v":""},"","","","",""]
[{"$f":"+IF(G25=\"\",\"\",MAX(A$1:A24)+1)","v":""},{"$f":"IF(Deviations_Op_Param_CMS!B46=\"\",\"\",Deviations_Op_Param_CMS!B46)","v":""},{"$f":"IF(Deviations_Op_Param_CMS!C46=\"\",\"\",Deviations_Op_Param_CMS!C46)","v":""},{"$f":"IF(Deviations_Op_Param_CMS!F46=\"\",\"\",Deviations_Op_Param_CMS!F46)","v":""},{"$f":"IF(Deviations_Op_Param_CMS!D46=\"\",\"\",Deviations_Op_Param_CMS!D46)","v":""},"",{"$f":"IF(COUNTIF(F$2:F25,F25)=1,F25,\"\")","v":""},"","","","",""]
[{"$f":"+IF(G26=\"\",\"\",MAX(A$1:A25)+1)","v":""},{"$f":"IF(Deviations_Op_Param_CMS!B47=\"\",\"\",Deviations_Op_Param_CMS!B47)","v":""},{"$f":"IF(Deviations_Op_Param_CMS!C47=\"\",\"\",Deviations_Op_Param_CMS!C47)","v":""},{"$f":"IF(Deviations_Op_Param_CMS!F47=\"\",\"\",Deviations_Op_Param_CMS!F47)","v":""},{"$f":"IF(Deviations_Op_Param_CMS!D47=\"\",\"\",Deviations_Op_Param_CMS!D47)","v":""},"",{"$f":"IF(COUNTIF(F$2:F26,F26)=1,F26,\"\")","v":""},"","","","",""]
[{"$f":"+IF(G27=\"\",\"\",MAX(A$1:A26)+1)","v":""},{"$f":"IF(Deviations_Op_Param_CMS!B48=\"\",\"\",Deviations_Op_Param_CMS!B48)","v":""},{"$f":"IF(Deviations_Op_Param_CMS!C48=\"\",\"\",Deviations_Op_Param_CMS!C48)","v":""},{"$f":"IF(Deviations_Op_Param_CMS!F48=\"\",\"\",Deviations_Op_Param_CMS!F48)","v":""},{"$f":"IF(Deviations_Op_Param_CMS!D48=\"\",\"\",Deviations_Op_Param_CMS!D48)","v":""},"",{"$f":"IF(COUNTIF(F$2:F27,F27)=1,F27,\"\")","v":""},"","","","",""]
[{"$f":"+IF(G28=\"\",\"\",MAX(A$1:A27)+1)","v":""},{"$f":"IF(Deviations_Op_Param_CMS!B49=\"\",\"\",Deviations_Op_Param_CMS!B49)","v":""},{"$f":"IF(Deviations_Op_Param_CMS!C49=\"\",\"\",Deviations_Op_Param_CMS!C49)","v":""},{"$f":"IF(Deviations_Op_Param_CMS!F49=\"\",\"\",Deviations_Op_Param_CMS!F49)","v":""},{"$f":"IF(Deviations_Op_Param_CMS!D49=\"\",\"\",Deviations_Op_Param_CMS!D49)","v":""},"",{"$f":"IF(COUNTIF(F$2:F28,F28)=1,F28,\"\")","v":""},"","","","",""]
[{"$f":"+IF(G29=\"\",\"\",MAX(A$1:A28)+1)","v":""},{"$f":"IF(Deviations_Op_Param_CMS!B50=\"\",\"\",Deviations_Op_Param_CMS!B50)","v":""},{"$f":"IF(Deviations_Op_Param_CMS!C50=\"\",\"\",Deviations_Op_Param_CMS!C50)","v":""},{"$f":"IF(Deviations_Op_Param_CMS!F50=\"\",\"\",Deviations_Op_Param_CMS!F50)","v":""},{"$f":"IF(Deviations_Op_Param_CMS!D50=\"\",\"\",Deviations_Op_Param_CMS!D50)","v":""},"",{"$f":"IF(COUNTIF(F$2:F29,F29)=1,F29,\"\")","v":""},"","","","",""]
[{"$f":"+IF(G30=\"\",\"\",MAX(A$1:A29)+1)","v":""},{"$f":"IF(Deviations_Op_Param_CMS!B51=\"\",\"\",Deviations_Op_Param_CMS!B51)","v":""},{"$f":"IF(Deviations_Op_Param_CMS!C51=\"\",\"\",Deviations_Op_Param_CMS!C51)","v":""},{"$f":"IF(Deviations_Op_Param_CMS!F51=\"\",\"\",Deviations_Op_Param_CMS!F51)","v":""},{"$f":"IF(Deviations_Op_Param_CMS!D51=\"\",\"\",Deviations_Op_Param_CMS!D51)","v":""},"",{"$f":"IF(COUNTIF(F$2:F30,F30)=1,F30,\"\")","v":""},"","","","",""]
[{"$f":"+IF(G31=\"\",\"\",MAX(A$1:A30)+1)","v":""},{"$f":"IF(Deviations_Op_Param_CMS!B52=\"\",\"\",Deviations_Op_Param_CMS!B52)","v":""},{"$f":"IF(Deviations_Op_Param_CMS!C52=\"\",\"\",Deviations_Op_Param_CMS!C52)","v":""},{"$f":"IF(Deviations_Op_Param_CMS!F52=\"\",\"\",Deviations_Op_Param_CMS!F52)","v":""},{"$f":"IF(Deviations_Op_Param_CMS!D52=\"\",\"\",Deviations_Op_Param_CMS!D52)","v":""},"",{"$f":"IF(COUNTIF(F$2:F31,F31)=1,F31,\"\")","v":""},"","","","",""]
[{"$f":"+IF(G32=\"\",\"\",MAX(A$1:A31)+1)","v":""},{"$f":"IF(Deviations_Op_Param_CMS!B53=\"\",\"\",Deviations_Op_Param_CMS!B53)","v":""},{"$f":"IF(Deviations_Op_Param_CMS!C53=\"\",\"\",Deviations_Op_Param_CMS!C53)","v":""},{"$f":"IF(Deviations_Op_Param_CMS!F53=\"\",\"\",Deviations_Op_Param_CMS!F53)","v":""},{"$f":"IF(Deviations_Op_Param_CMS!D53=\"\",\"\",Deviations_Op_Param_CMS!D53)","v":""},"",{"$f":"IF(COUNTIF(F$2:F32,F32)=1,F32,\"\")","v":""},"","","","",""]
[{"$f":"+IF(G33=\"\",\"\",MAX(A$1:A32)+1)","v":""},{"$f":"IF(Deviations_Op_Param_CMS!B54=\"\",\"\",Deviations_Op_Param_CMS!B54)","v":""},{"$f":"IF(Deviations_Op_Param_CMS!C54=\"\",\"\",Deviations_Op_Param_CMS!C54)","v":""},{"$f":"IF(Deviations_Op_Param_CMS!F54=\"\",\"\",Deviations_Op_Param_CMS!F54)","v":""},{"$f":"IF(Deviations_Op_Param_CMS!D54=\"\",\"\",Deviations_Op_Param_CMS!D54)","v":""},"",{"$f":"IF(COUNTIF(F$2:F33,F33)=1,F33,\"\")","v":""},"","","","",""]
[{"$f":"+IF(G34=\"\",\"\",MAX(A$1:A33)+1)","v":""},{"$f":"IF(Deviations_Op_Param_CMS!B55=\"\",\"\",Deviations_Op_Param_CMS!B55)","v":""},{"$f":"IF(Deviations_Op_Param_CMS!C55=\"\",\"\",Deviations_Op_Param_CMS!C55)","v":""},{"$f":"IF(Deviations_Op_Param_CMS!F55=\"\",\"\",Deviations_Op_Param_CMS!F55)","v":""},{"$f":"IF(Deviations_Op_Param_CMS!D55=\"\",\"\",Deviations_Op_Param_CMS!D55)","v":""},"",{"$f":"IF(COUNTIF(F$2:F34,F34)=1,F34,\"\")","v":""},"","","","",""]
[{"$f":"+IF(G35=\"\",\"\",MAX(A$1:A34)+1)","v":""},{"$f":"IF(Deviations_Op_Param_CMS!B56=\"\",\"\",Deviations_Op_Param_CMS!B56)","v":""},{"$f":"IF(Deviations_Op_Param_CMS!C56=\"\",\"\",Deviations_Op_Param_CMS!C56)","v":""},{"$f":"IF(Deviations_Op_Param_CMS!F56=\"\",\"\",Deviations_Op_Param_CMS!F56)","v":""},{"$f":"IF(Deviations_Op_Param_CMS!D56=\"\",\"\",Deviations_Op_Param_CMS!D56)","v":""},"",{"$f":"IF(COUNTIF(F$2:F35,F35)=1,F35,\"\")","v":""},"","","","",""]
[{"$f":"+IF(G36=\"\",\"\",MAX(A$1:A35)+1)","v":""},{"$f":"IF(Deviations_Op_Param_CMS!B57=\"\",\"\",Deviations_Op_Param_CMS!B57)","v":""},{"$f":"IF(Deviations_Op_Param_CMS!C57=\"\",\"\",Deviations_Op_Param_CMS!C57)","v":""},{"$f":"IF(Deviations_Op_Param_CMS!F57=\"\",\"\",Deviations_Op_Param_CMS!F57)","v":""},{"$f":"IF(Deviations_Op_Param_CMS!D57=\"\",\"\",Deviations_Op_Param_CMS!D57)","v":""},"",{"$f":"IF(COUNTIF(F$2:F36,F36)=1,F36,\"\")","v":""},"","","","",""]
[{"$f":"+IF(G37=\"\",\"\",MAX(A$1:A36)+1)","v":""},{"$f":"IF(Deviations_Op_Param_CMS!B58=\"\",\"\",Deviations_Op_Param_CMS!B58)","v":""},{"$f":"IF(Deviations_Op_Param_CMS!C58=\"\",\"\",Deviations_Op_Param_CMS!C58)","v":""},{"$f":"IF(Deviations_Op_Param_CMS!F58=\"\",\"\",Deviations_Op_Param_CMS!F58)","v":""},{"$f":"IF(Deviations_Op_Param_CMS!D58=\"\",\"\",Deviations_Op_Param_CMS!D58)","v":""},"",{"$f":"IF(COUNTIF(F$2:F37,F37)=1,F37,\"\")","v":""},"","","","",""]
[{"$f":"+IF(G38=\"\",\"\",MAX(A$1:A37)+1)","v":""},{"$f":"IF(Deviations_Op_Param_CMS!B59=\"\",\"\",Deviations_Op_Param_CMS!B59)","v":""},{"$f":"IF(Deviations_Op_Param_CMS!C59=\"\",\"\",Deviations_Op_Param_CMS!C59)","v":""},{"$f":"IF(Deviations_Op_Param_CMS!F59=\"\",\"\",Deviations_Op_Param_CMS!F59)","v":""},{"$f":"IF(Deviations_Op_Param_CMS!D59=\"\",\"\",Deviations_Op_Param_CMS!D59)","v":""},"",{"$f":"IF(COUNTIF(F$2:F38,F38)=1,F38,\"\")","v":""},"","","","",""]
[{"$f":"+IF(G39=\"\",\"\",MAX(A$1:A38)+1)","v":""},{"$f":"IF(Deviations_Op_Param_CMS!B60=\"\",\"\",Deviations_Op_Param_CMS!B60)","v":""},{"$f":"IF(Deviations_Op_Param_CMS!C60=\"\",\"\",Deviations_Op_Param_CMS!C60)","v":""},{"$f":"IF(Deviations_Op_Param_CMS!F60=\"\",\"\",Deviations_Op_Param_CMS!F60)","v":""},{"$f":"IF(Deviations_Op_Param_CMS!D60=\"\",\"\",Deviations_Op_Param_CMS!D60)","v":""},"",{"$f":"IF(COUNTIF(F$2:F39,F39)=1,F39,\"\")","v":""},"","","","",""]
[{"$f":"+IF(G40=\"\",\"\",MAX(A$1:A39)+1)","v":""},{"$f":"IF(Deviations_Op_Param_CMS!B61=\"\",\"\",Deviations_Op_Param_CMS!B61)","v":""},{"$f":"IF(Deviations_Op_Param_CMS!C61=\"\",\"\",Deviations_Op_Param_CMS!C61)","v":""},{"$f":"IF(Deviations_Op_Param_CMS!F61=\"\",\"\",Deviations_Op_Param_CMS!F61)","v":""},{"$f":"IF(Deviations_Op_Param_CMS!D61=\"\",\"\",Deviations_Op_Param_CMS!D61)","v":""},"",{"$f":"IF(COUNTIF(F$2:F40,F40)=1,F40,\"\")","v":""},"","","","",""]
[{"$f":"+IF(G41=\"\",\"\",MAX(A$1:A40)+1)","v":""},{"$f":"IF(Deviations_Op_Param_CMS!B62=\"\",\"\",Deviations_Op_Param_CMS!B62)","v":""},{"$f":"IF(Deviations_Op_Param_CMS!C62=\"\",\"\",Deviations_Op_Param_CMS!C62)","v":""},{"$f":"IF(Deviations_Op_Param_CMS!F62=\"\",\"\",Deviations_Op_Param_CMS!F62)","v":""},{"$f":"IF(Deviations_Op_Param_CMS!D62=\"\",\"\",Deviations_Op_Param_CMS!D62)","v":""},"",{"$f":"IF(COUNTIF(F$2:F41,F41)=1,F41,\"\")","v":""},"","","","",""]
[{"$f":"+IF(G42=\"\",\"\",MAX(A$1:A41)+1)","v":""},{"$f":"IF(Deviations_Op_Param_CMS!B63=\"\",\"\",Deviations_Op_Param_CMS!B63)","v":""},{"$f":"IF(Deviations_Op_Param_CMS!C63=\"\",\"\",Deviations_Op_Param_CMS!C63)","v":""},{"$f":"IF(Deviations_Op_Param_CMS!F63=\"\",\"\",Deviations_Op_Param_CMS!F63)","v":""},{"$f":"IF(Deviations_Op_Param_CMS!D63=\"\",\"\",Deviations_Op_Param_CMS!D63)","v":""},"",{"$f":"IF(COUNTIF(F$2:F42,F42)=1,F42,\"\")","v":""},"","","","",""]
[{"$f":"+IF(G43=\"\",\"\",MAX(A$1:A42)+1)","v":""},{"$f":"IF(Deviations_Op_Param_CMS!B64=\"\",\"\",Deviations_Op_Param_CMS!B64)","v":""},{"$f":"IF(Deviations_Op_Param_CMS!C64=\"\",\"\",Deviations_Op_Param_CMS!C64)","v":""},{"$f":"IF(Deviations_Op_Param_CMS!F64=\"\",\"\",Deviations_Op_Param_CMS!F64)","v":""},{"$f":"IF(Deviations_Op_Param_CMS!D64=\"\",\"\",Deviations_Op_Param_CMS!D64)","v":""},"",{"$f":"IF(COUNTIF(F$2:F43,F43)=1,F43,\"\")","v":""},"","","","",""]
[{"$f":"+IF(G44=\"\",\"\",MAX(A$1:A43)+1)","v":""},{"$f":"IF(Deviations_Op_Param_CMS!B65=\"\",\"\",Deviations_Op_Param_CMS!B65)","v":""},{"$f":"IF(Deviations_Op_Param_CMS!C65=\"\",\"\",Deviations_Op_Param_CMS!C65)","v":""},{"$f":"IF(Deviations_Op_Param_CMS!F65=\"\",\"\",Deviations_Op_Param_CMS!F65)","v":""},{"$f":"IF(Deviations_Op_Param_CMS!D65=\"\",\"\",Deviations_Op_Param_CMS!D65)","v":""},"",{"$f":"IF(COUNTIF(F$2:F44,F44)=1,F44,\"\")","v":""},"","","","",""]
[{"$f":"+IF(G45=\"\",\"\",MAX(A$1:A44)+1)","v":""},{"$f":"IF(Deviations_Op_Param_CMS!B66=\"\",\"\",Deviations_Op_Param_CMS!B66)","v":""},{"$f":"IF(Deviations_Op_Param_CMS!C66=\"\",\"\",Deviations_Op_Param_CMS!C66)","v":""},{"$f":"IF(Deviations_Op_Param_CMS!F66=\"\",\"\",Deviations_Op_Param_CMS!F66)","v":""},{"$f":"IF(Deviations_Op_Param_CMS!D66=\"\",\"\",Deviations_Op_Param_CMS!D66)","v":""},"",{"$f":"IF(COUNTIF(F$2:F45,F45)=1,F45,\"\")","v":""},"","","","",""]
[{"$f":"+IF(G46=\"\",\"\",MAX(A$1:A45)+1)","v":""},{"$f":"IF(Deviations_Op_Param_CMS!B67=\"\",\"\",Deviations_Op_Param_CMS!B67)","v":""},{"$f":"IF(Deviations_Op_Param_CMS!C67=\"\",\"\",Deviations_Op_Param_CMS!C67)","v":""},{"$f":"IF(Deviations_Op_Param_CMS!F67=\"\",\"\",Deviations_Op_Param_CMS!F67)","v":""},{"$f":"IF(Deviations_Op_Param_CMS!D67=\"\",\"\",Deviations_Op_Param_CMS!D67)","v":""},"",{"$f":"IF(COUNTIF(F$2:F46,F46)=1,F46,\"\")","v":""},"","","","",""]
[{"$f":"+IF(G47=\"\",\"\",MAX(A$1:A46)+1)","v":""},{"$f":"IF(Deviations_Op_Param_CMS!B68=\"\",\"\",Deviations_Op_Param_CMS!B68)","v":""},{"$f":"IF(Deviations_Op_Param_CMS!C68=\"\",\"\",Deviations_Op_Param_CMS!C68)","v":""},{"$f":"IF(Deviations_Op_Param_CMS!F68=\"\",\"\",Deviations_Op_Param_CMS!F68)","v":""},{"$f":"IF(Deviations_Op_Param_CMS!D68=\"\",\"\",Deviations_Op_Param_CMS!D68)","v":""},"",{"$f":"IF(COUNTIF(F$2:F47,F47)=1,F47,\"\")","v":""},"","","","",""]
[{"$f":"+IF(G48=\"\",\"\",MAX(A$1:A47)+1)","v":""},{"$f":"IF(Deviations_Op_Param_CMS!B69=\"\",\"\",Deviations_Op_Param_CMS!B69)","v":""},{"$f":"IF(Deviations_Op_Param_CMS!C69=\"\",\"\",Deviations_Op_Param_CMS!C69)","v":""},{"$f":"IF(Deviations_Op_Param_CMS!F69=\"\",\"\",Deviations_Op_Param_CMS!F69)","v":""},{"$f":"IF(Deviations_Op_Param_CMS!D69=\"\",\"\",Deviations_Op_Param_CMS!D69)","v":""},"",{"$f":"IF(COUNTIF(F$2:F48,F48)=1,F48,\"\")","v":""},"","","","",""]
[{"$f":"+IF(G49=\"\",\"\",MAX(A$1:A48)+1)","v":""},{"$f":"IF(Deviations_Op_Param_CMS!B70=\"\",\"\",Deviations_Op_Param_CMS!B70)","v":""},{"$f":"IF(Deviations_Op_Param_CMS!C70=\"\",\"\",Deviations_Op_Param_CMS!C70)","v":""},{"$f":"IF(Deviations_Op_Param_CMS!F70=\"\",\"\",Deviations_Op_Param_CMS!F70)","v":""},{"$f":"IF(Deviations_Op_Param_CMS!D70=\"\",\"\",Deviations_Op_Param_CMS!D70)","v":""},"",{"$f":"IF(COUNTIF(F$2:F49,F49)=1,F49,\"\")","v":""},"","","","",""]
[{"$f":"+IF(G50=\"\",\"\",MAX(A$1:A49)+1)","v":""},{"$f":"IF(Deviations_Op_Param_CMS!B71=\"\",\"\",Deviations_Op_Param_CMS!B71)","v":""},{"$f":"IF(Deviations_Op_Param_CMS!C71=\"\",\"\",Deviations_Op_Param_CMS!C71)","v":""},{"$f":"IF(Deviations_Op_Param_CMS!F71=\"\",\"\",Deviations_Op_Param_CMS!F71)","v":""},{"$f":"IF(Deviations_Op_Param_CMS!D71=\"\",\"\",Deviations_Op_Param_CMS!D71)","v":""},"",{"$f":"IF(COUNTIF(F$2:F50,F50)=1,F50,\"\")","v":""},"","","","",""]
[{"$f":"+IF(G51=\"\",\"\",MAX(A$1:A50)+1)","v":""},{"$f":"IF(Deviations_Op_Param_CMS!B72=\"\",\"\",Deviations_Op_Param_CMS!B72)","v":""},{"$f":"IF(Deviations_Op_Param_CMS!C72=\"\",\"\",Deviations_Op_Param_CMS!C72)","v":""},{"$f":"IF(Deviations_Op_Param_CMS!F72=\"\",\"\",Deviations_Op_Param_CMS!F72)","v":""},{"$f":"IF(Deviations_Op_Param_CMS!D72=\"\",\"\",Deviations_Op_Param_CMS!D72)","v":""},"",{"$f":"IF(COUNTIF(F$2:F51,F51)=1,F51,\"\")","v":""},"","","","",""]
[{"$f":"+IF(G52=\"\",\"\",MAX(A$1:A51)+1)","v":""},{"$f":"IF(Deviations_Op_Param_CMS!B73=\"\",\"\",Deviations_Op_Param_CMS!B73)","v":""},{"$f":"IF(Deviations_Op_Param_CMS!C73=\"\",\"\",Deviations_Op_Param_CMS!C73)","v":""},{"$f":"IF(Deviations_Op_Param_CMS!F73=\"\",\"\",Deviations_Op_Param_CMS!F73)","v":""},{"$f":"IF(Deviations_Op_Param_CMS!D73=\"\",\"\",Deviations_Op_Param_CMS!D73)","v":""},"",{"$f":"IF(COUNTIF(F$2:F52,F52)=1,F52,\"\")","v":""},"","","","",""]
[{"$f":"+IF(G53=\"\",\"\",MAX(A$1:A52)+1)","v":""},{"$f":"IF(Deviations_Op_Param_CMS!B74=\"\",\"\",Deviations_Op_Param_CMS!B74)","v":""},{"$f":"IF(Deviations_Op_Param_CMS!C74=\"\",\"\",Deviations_Op_Param_CMS!C74)","v":""},{"$f":"IF(Deviations_Op_Param_CMS!F74=\"\",\"\",Deviations_Op_Param_CMS!F74)","v":""},{"$f":"IF(Deviations_Op_Param_CMS!D74=\"\",\"\",Deviations_Op_Param_CMS!D74)","v":""},"",{"$f":"IF(COUNTIF(F$2:F53,F53)=1,F53,\"\")","v":""},"","","","",""]
[{"$f":"+IF(G54=\"\",\"\",MAX(A$1:A53)+1)","v":""},{"$f":"IF(Deviations_Op_Param_CMS!B75=\"\",\"\",Deviations_Op_Param_CMS!B75)","v":""},{"$f":"IF(Deviations_Op_Param_CMS!C75=\"\",\"\",Deviations_Op_Param_CMS!C75)","v":""},{"$f":"IF(Deviations_Op_Param_CMS!F75=\"\",\"\",Deviations_Op_Param_CMS!F75)","v":""},{"$f":"IF(Deviations_Op_Param_CMS!D75=\"\",\"\",Deviations_Op_Param_CMS!D75)","v":""},"",{"$f":"IF(COUNTIF(F$2:F54,F54)=1,F54,\"\")","v":""},"","","","",""]
[{"$f":"+IF(G55=\"\",\"\",MAX(A$1:A54)+1)","v":""},{"$f":"IF(Deviations_Op_Param_CMS!B76=\"\",\"\",Deviations_Op_Param_CMS!B76)","v":""},{"$f":"IF(Deviations_Op_Param_CMS!C76=\"\",\"\",Deviations_Op_Param_CMS!C76)","v":""},{"$f":"IF(Deviations_Op_Param_CMS!F76=\"\",\"\",Deviations_Op_Param_CMS!F76)","v":""},{"$f":"IF(Deviations_Op_Param_CMS!D76=\"\",\"\",Deviations_Op_Param_CMS!D76)","v":""},"",{"$f":"IF(COUNTIF(F$2:F55,F55)=1,F55,\"\")","v":""},"","","","",""]
[{"$f":"+IF(G56=\"\",\"\",MAX(A$1:A55)+1)","v":""},{"$f":"IF(Deviations_Op_Param_CMS!B77=\"\",\"\",Deviations_Op_Param_CMS!B77)","v":""},{"$f":"IF(Deviations_Op_Param_CMS!C77=\"\",\"\",Deviations_Op_Param_CMS!C77)","v":""},{"$f":"IF(Deviations_Op_Param_CMS!F77=\"\",\"\",Deviations_Op_Param_CMS!F77)","v":""},{"$f":"IF(Deviations_Op_Param_CMS!D77=\"\",\"\",Deviations_Op_Param_CMS!D77)","v":""},"",{"$f":"IF(COUNTIF(F$2:F56,F56)=1,F56,\"\")","v":""},"","","","",""]
[{"$f":"+IF(G57=\"\",\"\",MAX(A$1:A56)+1)","v":""},{"$f":"IF(Deviations_Op_Param_CMS!B78=\"\",\"\",Deviations_Op_Param_CMS!B78)","v":""},{"$f":"IF(Deviations_Op_Param_CMS!C78=\"\",\"\",Deviations_Op_Param_CMS!C78)","v":""},{"$f":"IF(Deviations_Op_Param_CMS!F78=\"\",\"\",Deviations_Op_Param_CMS!F78)","v":""},{"$f":"IF(Deviations_Op_Param_CMS!D78=\"\",\"\",Deviations_Op_Param_CMS!D78)","v":""},"",{"$f":"IF(COUNTIF(F$2:F57,F57)=1,F57,\"\")","v":""},"","","","",""]
[{"$f":"+IF(G58=\"\",\"\",MAX(A$1:A57)+1)","v":""},{"$f":"IF(Deviations_Op_Param_CMS!B79=\"\",\"\",Deviations_Op_Param_CMS!B79)","v":""},{"$f":"IF(Deviations_Op_Param_CMS!C79=\"\",\"\",Deviations_Op_Param_CMS!C79)","v":""},{"$f":"IF(Deviations_Op_Param_CMS!F79=\"\",\"\",Deviations_Op_Param_CMS!F79)","v":""},{"$f":"IF(Deviations_Op_Param_CMS!D79=\"\",\"\",Deviations_Op_Param_CMS!D79)","v":""},"",{"$f":"IF(COUNTIF(F$2:F58,F58)=1,F58,\"\")","v":""},"","","","",""]
[{"$f":"+IF(G59=\"\",\"\",MAX(A$1:A58)+1)","v":""},{"$f":"IF(Deviations_Op_Param_CMS!B80=\"\",\"\",Deviations_Op_Param_CMS!B80)","v":""},{"$f":"IF(Deviations_Op_Param_CMS!C80=\"\",\"\",Deviations_Op_Param_CMS!C80)","v":""},{"$f":"IF(Deviations_Op_Param_CMS!F80=\"\",\"\",Deviations_Op_Param_CMS!F80)","v":""},{"$f":"IF(Deviations_Op_Param_CMS!D80=\"\",\"\",Deviations_Op_Param_CMS!D80)","v":""},"",{"$f":"IF(COUNTIF(F$2:F59,F59)=1,F59,\"\")","v":""},"","","","",""]
[{"$f":"+IF(G60=\"\",\"\",MAX(A$1:A59)+1)","v":""},{"$f":"IF(Deviations_Op_Param_CMS!B81=\"\",\"\",Deviations_Op_Param_CMS!B81)","v":""},{"$f":"IF(Deviations_Op_Param_CMS!C81=\"\",\"\",Deviations_Op_Param_CMS!C81)","v":""},{"$f":"IF(Deviations_Op_Param_CMS!F81=\"\",\"\",Deviations_Op_Param_CMS!F81)","v":""},{"$f":"IF(Deviations_Op_Param_CMS!D81=\"\",\"\",Deviations_Op_Param_CMS!D81)","v":""},"",{"$f":"IF(COUNTIF(F$2:F60,F60)=1,F60,\"\")","v":""},"","","","",""]
[{"$f":"+IF(G61=\"\",\"\",MAX(A$1:A60)+1)","v":""},{"$f":"IF(Deviations_Op_Param_CMS!B82=\"\",\"\",Deviations_Op_Param_CMS!B82)","v":""},{"$f":"IF(Deviations_Op_Param_CMS!C82=\"\",\"\",Deviations_Op_Param_CMS!C82)","v":""},{"$f":"IF(Deviations_Op_Param_CMS!F82=\"\",\"\",Deviations_Op_Param_CMS!F82)","v":""},{"$f":"IF(Deviations_Op_Param_CMS!D82=\"\",\"\",Deviations_Op_Param_CMS!D82)","v":""},"",{"$f":"IF(COUNTIF(F$2:F61,F61)=1,F61,\"\")","v":""},"","","","",""]
[{"$f":"+IF(G62=\"\",\"\",MAX(A$1:A61)+1)","v":""},{"$f":"IF(Deviations_Op_Param_CMS!B83=\"\",\"\",Deviations_Op_Param_CMS!B83)","v":""},{"$f":"IF(Deviations_Op_Param_CMS!C83=\"\",\"\",Deviations_Op_Param_CMS!C83)","v":""},{"$f":"IF(Deviations_Op_Param_CMS!F83=\"\",\"\",Deviations_Op_Param_CMS!F83)","v":""},{"$f":"IF(Deviations_Op_Param_CMS!D83=\"\",\"\",Deviations_Op_Param_CMS!D83)","v":""},"",{"$f":"IF(COUNTIF(F$2:F62,F62)=1,F62,\"\")","v":""},"","","","",""]
[{"$f":"+IF(G63=\"\",\"\",MAX(A$1:A62)+1)","v":""},{"$f":"IF(Deviations_Op_Param_CMS!B84=\"\",\"\",Deviations_Op_Param_CMS!B84)","v":""},{"$f":"IF(Deviations_Op_Param_CMS!C84=\"\",\"\",Deviations_Op_Param_CMS!C84)","v":""},{"$f":"IF(Deviations_Op_Param_CMS!F84=\"\",\"\",Deviations_Op_Param_CMS!F84)","v":""},{"$f":"IF(Deviations_Op_Param_CMS!D84=\"\",\"\",Deviations_Op_Param_CMS!D84)","v":""},"",{"$f":"IF(COUNTIF(F$2:F63,F63)=1,F63,\"\")","v":""},"","","","",""]
[{"$f":"+IF(G64=\"\",\"\",MAX(A$1:A63)+1)","v":""},{"$f":"IF(Deviations_Op_Param_CMS!B85=\"\",\"\",Deviations_Op_Param_CMS!B85)","v":""},{"$f":"IF(Deviations_Op_Param_CMS!C85=\"\",\"\",Deviations_Op_Param_CMS!C85)","v":""},{"$f":"IF(Deviations_Op_Param_CMS!F85=\"\",\"\",Deviations_Op_Param_CMS!F85)","v":""},{"$f":"IF(Deviations_Op_Param_CMS!D85=\"\",\"\",Deviations_Op_Param_CMS!D85)","v":""},"",{"$f":"IF(COUNTIF(F$2:F64,F64)=1,F64,\"\")","v":""},"","","","",""]
[{"$f":"+IF(G65=\"\",\"\",MAX(A$1:A64)+1)","v":""},{"$f":"IF(Deviations_Op_Param_CMS!B86=\"\",\"\",Deviations_Op_Param_CMS!B86)","v":""},{"$f":"IF(Deviations_Op_Param_CMS!C86=\"\",\"\",Deviations_Op_Param_CMS!C86)","v":""},{"$f":"IF(Deviations_Op_Param_CMS!F86=\"\",\"\",Deviations_Op_Param_CMS!F86)","v":""},{"$f":"IF(Deviations_Op_Param_CMS!D86=\"\",\"\",Deviations_Op_Param_CMS!D86)","v":""},"",{"$f":"IF(COUNTIF(F$2:F65,F65)=1,F65,\"\")","v":""},"","","","",""]
[{"$f":"+IF(G66=\"\",\"\",MAX(A$1:A65)+1)","v":""},{"$f":"IF(Deviations_Op_Param_CMS!B87=\"\",\"\",Deviations_Op_Param_CMS!B87)","v":""},{"$f":"IF(Deviations_Op_Param_CMS!C87=\"\",\"\",Deviations_Op_Param_CMS!C87)","v":""},{"$f":"IF(Deviations_Op_Param_CMS!F87=\"\",\"\",Deviations_Op_Param_CMS!F87)","v":""},{"$f":"IF(Deviations_Op_Param_CMS!D87=\"\",\"\",Deviations_Op_Param_CMS!D87)","v":""},"",{"$f":"IF(COUNTIF(F$2:F66,F66)=1,F66,\"\")","v":""},"","","","",""]
[{"$f":"+IF(G67=\"\",\"\",MAX(A$1:A66)+1)","v":""},{"$f":"IF(Deviations_Op_Param_CMS!B88=\"\",\"\",Deviations_Op_Param_CMS!B88)","v":""},{"$f":"IF(Deviations_Op_Param_CMS!C88=\"\",\"\",Deviations_Op_Param_CMS!C88)","v":""},{"$f":"IF(Deviations_Op_Param_CMS!F88=\"\",\"\",Deviations_Op_Param_CMS!F88)","v":""},{"$f":"IF(Deviations_Op_Param_CMS!D88=\"\",\"\",Deviations_Op_Param_CMS!D88)","v":""},"",{"$f":"IF(COUNTIF(F$2:F67,F67)=1,F67,\"\")","v":""},{"$f":"+IFERROR(INDEX($G$3:$G$499,MATCH(ROW()-ROW($H$2),$A$3:$A$499,0)),\"\")","v":""},{"$f":"+IFERROR(INDEX($B$3:$B$499,MATCH(ROW()-ROW($H$2),$A$3:$A$499,0)),\"\")","v":""},{"$f":"+IFERROR(INDEX($C$3:$C$499,MATCH(ROW()-ROW($H$2),$A$3:$A$499,0)),\"\")","v":""},"",""]
[{"$f":"+IF(G68=\"\",\"\",MAX(A$1:A67)+1)","v":""},{"$f":"IF(Deviations_Op_Param_CMS!B89=\"\",\"\",Deviations_Op_Param_CMS!B89)","v":""},{"$f":"IF(Deviations_Op_Param_CMS!C89=\"\",\"\",Deviations_Op_Param_CMS!C89)","v":""},{"$f":"IF(Deviations_Op_Param_CMS!F89=\"\",\"\",Deviations_Op_Param_CMS!F89)","v":""},{"$f":"IF(Deviations_Op_Param_CMS!D89=\"\",\"\",Deviations_Op_Param_CMS!D89)","v":""},{"$f":"IF(E68=\"\",\"\",B68&\"-\"&C68&\"-\"&D68)","v":""},{"$f":"IF(COUNTIF(F$2:F68,F68)=1,F68,\"\")","v":""},"","","",{"$f":"+IFERROR(INDEX($C$3:$C$499,MATCH(ROW()-ROW($H$2),$A$3:$A$499,0)),\"\")","v":""},{"$f":"+IFERROR(INDEX($E$3:$E$499,MATCH(ROW()-ROW($H$2),$A$3:$A$499,0)),\"\")","v":""}]
[{"$f":"+IF(G69=\"\",\"\",MAX(A$1:A68)+1)","v":""},{"$f":"IF(Deviations_Op_Param_CMS!B90=\"\",\"\",Deviations_Op_Param_CMS!B90)","v":""},{"$f":"IF(Deviations_Op_Param_CMS!C90=\"\",\"\",Deviations_Op_Param_CMS!C90)","v":""},{"$f":"IF(Deviations_Op_Param_CMS!F90=\"\",\"\",Deviations_Op_Param_CMS!F90)","v":""},{"$f":"IF(Deviations_Op_Param_CMS!D90=\"\",\"\",Deviations_Op_Param_CMS!D90)","v":""},"",{"$f":"IF(COUNTIF(F$2:F69,F69)=1,F69,\"\")","v":""},"","","","",""]
[{"$f":"+IF(G70=\"\",\"\",MAX(A$1:A69)+1)","v":""},{"$f":"IF(Deviations_Op_Param_CMS!B91=\"\",\"\",Deviations_Op_Param_CMS!B91)","v":""},{"$f":"IF(Deviations_Op_Param_CMS!C91=\"\",\"\",Deviations_Op_Param_CMS!C91)","v":""},{"$f":"IF(Deviations_Op_Param_CMS!F91=\"\",\"\",Deviations_Op_Param_CMS!F91)","v":""},{"$f":"IF(Deviations_Op_Param_CMS!D91=\"\",\"\",Deviations_Op_Param_CMS!D91)","v":""},"",{"$f":"IF(COUNTIF(F$2:F70,F70)=1,F70,\"\")","v":""},"","","","",""]
[{"$f":"+IF(G71=\"\",\"\",MAX(A$1:A70)+1)","v":""},{"$f":"IF(Deviations_Op_Param_CMS!B92=\"\",\"\",Deviations_Op_Param_CMS!B92)","v":""},{"$f":"IF(Deviations_Op_Param_CMS!C92=\"\",\"\",Deviations_Op_Param_CMS!C92)","v":""},{"$f":"IF(Deviations_Op_Param_CMS!F92=\"\",\"\",Deviations_Op_Param_CMS!F92)","v":""},{"$f":"IF(Deviations_Op_Param_CMS!D92=\"\",\"\",Deviations_Op_Param_CMS!D92)","v":""},"",{"$f":"IF(COUNTIF(F$2:F71,F71)=1,F71,\"\")","v":""},"","","","",""]
[{"$f":"+IF(G72=\"\",\"\",MAX(A$1:A71)+1)","v":""},{"$f":"IF(Deviations_Op_Param_CMS!B93=\"\",\"\",Deviations_Op_Param_CMS!B93)","v":""},{"$f":"IF(Deviations_Op_Param_CMS!C93=\"\",\"\",Deviations_Op_Param_CMS!C93)","v":""},{"$f":"IF(Deviations_Op_Param_CMS!F93=\"\",\"\",Deviations_Op_Param_CMS!F93)","v":""},{"$f":"IF(Deviations_Op_Param_CMS!D93=\"\",\"\",Deviations_Op_Param_CMS!D93)","v":""},"",{"$f":"IF(COUNTIF(F$2:F72,F72)=1,F72,\"\")","v":""},"","","","",""]
[{"$f":"+IF(G73=\"\",\"\",MAX(A$1:A72)+1)","v":""},{"$f":"IF(Deviations_Op_Param_CMS!B94=\"\",\"\",Deviations_Op_Param_CMS!B94)","v":""},{"$f":"IF(Deviations_Op_Param_CMS!C94=\"\",\"\",Deviations_Op_Param_CMS!C94)","v":""},{"$f":"IF(Deviations_Op_Param_CMS!F94=\"\",\"\",Deviations_Op_Param_CMS!F94)","v":""},{"$f":"IF(Deviations_Op_Param_CMS!D94=\"\",\"\",Deviations_Op_Param_CMS!D94)","v":""},"",{"$f":"IF(COUNTIF(F$2:F73,F73)=1,F73,\"\")","v":""},"","","","",""]
[{"$f":"+IF(G74=\"\",\"\",MAX(A$1:A73)+1)","v":""},{"$f":"IF(Deviations_Op_Param_CMS!B95=\"\",\"\",Deviations_Op_Param_CMS!B95)","v":""},{"$f":"IF(Deviations_Op_Param_CMS!C95=\"\",\"\",Deviations_Op_Param_CMS!C95)","v":""},{"$f":"IF(Deviations_Op_Param_CMS!F95=\"\",\"\",Deviations_Op_Param_CMS!F95)","v":""},{"$f":"IF(Deviations_Op_Param_CMS!D95=\"\",\"\",Deviations_Op_Param_CMS!D95)","v":""},"",{"$f":"IF(COUNTIF(F$2:F74,F74)=1,F74,\"\")","v":""},"","","","",""]
[{"$f":"+IF(G75=\"\",\"\",MAX(A$1:A74)+1)","v":""},{"$f":"IF(Deviations_Op_Param_CMS!B96=\"\",\"\",Deviations_Op_Param_CMS!B96)","v":""},{"$f":"IF(Deviations_Op_Param_CMS!C96=\"\",\"\",Deviations_Op_Param_CMS!C96)","v":""},{"$f":"IF(Deviations_Op_Param_CMS!F96=\"\",\"\",Deviations_Op_Param_CMS!F96)","v":""},{"$f":"IF(Deviations_Op_Param_CMS!D96=\"\",\"\",Deviations_Op_Param_CMS!D96)","v":""},"",{"$f":"IF(COUNTIF(F$2:F75,F75)=1,F75,\"\")","v":""},"","","","",""]
[{"$f":"+IF(G76=\"\",\"\",MAX(A$1:A75)+1)","v":""},{"$f":"IF(Deviations_Op_Param_CMS!B97=\"\",\"\",Deviations_Op_Param_CMS!B97)","v":""},{"$f":"IF(Deviations_Op_Param_CMS!C97=\"\",\"\",Deviations_Op_Param_CMS!C97)","v":""},{"$f":"IF(Deviations_Op_Param_CMS!F97=\"\",\"\",Deviations_Op_Param_CMS!F97)","v":""},{"$f":"IF(Deviations_Op_Param_CMS!D97=\"\",\"\",Deviations_Op_Param_CMS!D97)","v":""},"",{"$f":"IF(COUNTIF(F$2:F76,F76)=1,F76,\"\")","v":""},"","","","",""]
[{"$f":"+IF(G77=\"\",\"\",MAX(A$1:A76)+1)","v":""},{"$f":"IF(Deviations_Op_Param_CMS!B98=\"\",\"\",Deviations_Op_Param_CMS!B98)","v":""},{"$f":"IF(Deviations_Op_Param_CMS!C98=\"\",\"\",Deviations_Op_Param_CMS!C98)","v":""},{"$f":"IF(Deviations_Op_Param_CMS!F98=\"\",\"\",Deviations_Op_Param_CMS!F98)","v":""},{"$f":"IF(Deviations_Op_Param_CMS!D98=\"\",\"\",Deviations_Op_Param_CMS!D98)","v":""},"",{"$f":"IF(COUNTIF(F$2:F77,F77)=1,F77,\"\")","v":""},"","","","",""]
[{"$f":"+IF(G78=\"\",\"\",MAX(A$1:A77)+1)","v":""},{"$f":"IF(Deviations_Op_Param_CMS!B99=\"\",\"\",Deviations_Op_Param_CMS!B99)","v":""},{"$f":"IF(Deviations_Op_Param_CMS!C99=\"\",\"\",Deviations_Op_Param_CMS!C99)","v":""},{"$f":"IF(Deviations_Op_Param_CMS!F99=\"\",\"\",Deviations_Op_Param_CMS!F99)","v":""},{"$f":"IF(Deviations_Op_Param_CMS!D99=\"\",\"\",Deviations_Op_Param_CMS!D99)","v":""},"",{"$f":"IF(COUNTIF(F$2:F78,F78)=1,F78,\"\")","v":""},"","","","",""]
[{"$f":"+IF(G79=\"\",\"\",MAX(A$1:A78)+1)","v":""},{"$f":"IF(Deviations_Op_Param_CMS!B100=\"\",\"\",Deviations_Op_Param_CMS!B100)","v":""},{"$f":"IF(Deviations_Op_Param_CMS!C100=\"\",\"\",Deviations_Op_Param_CMS!C100)","v":""},{"$f":"IF(Deviations_Op_Param_CMS!F100=\"\",\"\",Deviations_Op_Param_CMS!F100)","v":""},{"$f":"IF(Deviations_Op_Param_CMS!D100=\"\",\"\",Deviations_Op_Param_CMS!D100)","v":""},"",{"$f":"IF(COUNTIF(F$2:F79,F79)=1,F79,\"\")","v":""},"","","","",""]
[{"$f":"+IF(G80=\"\",\"\",MAX(A$1:A79)+1)","v":""},{"$f":"IF(Deviations_Op_Param_CMS!B101=\"\",\"\",Deviations_Op_Param_CMS!B101)","v":""},{"$f":"IF(Deviations_Op_Param_CMS!C101=\"\",\"\",Deviations_Op_Param_CMS!C101)","v":""},{"$f":"IF(Deviations_Op_Param_CMS!F101=\"\",\"\",Deviations_Op_Param_CMS!F101)","v":""},{"$f":"IF(Deviations_Op_Param_CMS!D101=\"\",\"\",Deviations_Op_Param_CMS!D101)","v":""},"",{"$f":"IF(COUNTIF(F$2:F80,F80)=1,F80,\"\")","v":""},"","","","",""]
[{"$f":"+IF(G81=\"\",\"\",MAX(A$1:A80)+1)","v":""},{"$f":"IF(Deviations_Op_Param_CMS!B102=\"\",\"\",Deviations_Op_Param_CMS!B102)","v":""},{"$f":"IF(Deviations_Op_Param_CMS!C102=\"\",\"\",Deviations_Op_Param_CMS!C102)","v":""},{"$f":"IF(Deviations_Op_Param_CMS!F102=\"\",\"\",Deviations_Op_Param_CMS!F102)","v":""},{"$f":"IF(Deviations_Op_Param_CMS!D102=\"\",\"\",Deviations_Op_Param_CMS!D102)","v":""},"",{"$f":"IF(COUNTIF(F$2:F81,F81)=1,F81,\"\")","v":""},"","","","",""]
[{"$f":"+IF(G82=\"\",\"\",MAX(A$1:A81)+1)","v":""},{"$f":"IF(Deviations_Op_Param_CMS!B103=\"\",\"\",Deviations_Op_Param_CMS!B103)","v":""},{"$f":"IF(Deviations_Op_Param_CMS!C103=\"\",\"\",Deviations_Op_Param_CMS!C103)","v":""},{"$f":"IF(Deviations_Op_Param_CMS!F103=\"\",\"\",Deviations_Op_Param_CMS!F103)","v":""},{"$f":"IF(Deviations_Op_Param_CMS!D103=\"\",\"\",Deviations_Op_Param_CMS!D103)","v":""},"",{"$f":"IF(COUNTIF(F$2:F82,F82)=1,F82,\"\")","v":""},"","","","",""]
[{"$f":"+IF(G83=\"\",\"\",MAX(A$1:A82)+1)","v":""},{"$f":"IF(Deviations_Op_Param_CMS!B104=\"\",\"\",Deviations_Op_Param_CMS!B104)","v":""},{"$f":"IF(Deviations_Op_Param_CMS!C104=\"\",\"\",Deviations_Op_Param_CMS!C104)","v":""},{"$f":"IF(Deviations_Op_Param_CMS!F104=\"\",\"\",Deviations_Op_Param_CMS!F104)","v":""},{"$f":"IF(Deviations_Op_Param_CMS!D104=\"\",\"\",Deviations_Op_Param_CMS!D104)","v":""},"",{"$f":"IF(COUNTIF(F$2:F83,F83)=1,F83,\"\")","v":""},"","","","",""]
[{"$f":"+IF(G84=\"\",\"\",MAX(A$1:A83)+1)","v":""},{"$f":"IF(Deviations_Op_Param_CMS!B105=\"\",\"\",Deviations_Op_Param_CMS!B105)","v":""},{"$f":"IF(Deviations_Op_Param_CMS!C105=\"\",\"\",Deviations_Op_Param_CMS!C105)","v":""},{"$f":"IF(Deviations_Op_Param_CMS!F105=\"\",\"\",Deviations_Op_Param_CMS!F105)","v":""},{"$f":"IF(Deviations_Op_Param_CMS!D105=\"\",\"\",Deviations_Op_Param_CMS!D105)","v":""},"",{"$f":"IF(COUNTIF(F$2:F84,F84)=1,F84,\"\")","v":""},"","","","",""]
[{"$f":"+IF(G85=\"\",\"\",MAX(A$1:A84)+1)","v":""},{"$f":"IF(Deviations_Op_Param_CMS!B106=\"\",\"\",Deviations_Op_Param_CMS!B106)","v":""},{"$f":"IF(Deviations_Op_Param_CMS!C106=\"\",\"\",Deviations_Op_Param_CMS!C106)","v":""},{"$f":"IF(Deviations_Op_Param_CMS!F106=\"\",\"\",Deviations_Op_Param_CMS!F106)","v":""},{"$f":"IF(Deviations_Op_Param_CMS!D106=\"\",\"\",Deviations_Op_Param_CMS!D106)","v":""},"",{"$f":"IF(COUNTIF(F$2:F85,F85)=1,F85,\"\")","v":""},"","","","",""]
[{"$f":"+IF(G86=\"\",\"\",MAX(A$1:A85)+1)","v":""},{"$f":"IF(Deviations_Op_Param_CMS!B107=\"\",\"\",Deviations_Op_Param_CMS!B107)","v":""},{"$f":"IF(Deviations_Op_Param_CMS!C107=\"\",\"\",Deviations_Op_Param_CMS!C107)","v":""},{"$f":"IF(Deviations_Op_Param_CMS!F107=\"\",\"\",Deviations_Op_Param_CMS!F107)","v":""},{"$f":"IF(Deviations_Op_Param_CMS!D107=\"\",\"\",Deviations_Op_Param_CMS!D107)","v":""},"",{"$f":"IF(COUNTIF(F$2:F86,F86)=1,F86,\"\")","v":""},"","","","",""]
[{"$f":"+IF(G87=\"\",\"\",MAX(A$1:A86)+1)","v":""},{"$f":"IF(Deviations_Op_Param_CMS!B108=\"\",\"\",Deviations_Op_Param_CMS!B108)","v":""},{"$f":"IF(Deviations_Op_Param_CMS!C108=\"\",\"\",Deviations_Op_Param_CMS!C108)","v":""},{"$f":"IF(Deviations_Op_Param_CMS!F108=\"\",\"\",Deviations_Op_Param_CMS!F108)","v":""},{"$f":"IF(Deviations_Op_Param_CMS!D108=\"\",\"\",Deviations_Op_Param_CMS!D108)","v":""},"",{"$f":"IF(COUNTIF(F$2:F87,F87)=1,F87,\"\")","v":""},"","","","",""]
[{"$f":"+IF(G88=\"\",\"\",MAX(A$1:A87)+1)","v":""},{"$f":"IF(Deviations_Op_Param_CMS!B109=\"\",\"\",Deviations_Op_Param_CMS!B109)","v":""},{"$f":"IF(Deviations_Op_Param_CMS!C109=\"\",\"\",Deviations_Op_Param_CMS!C109)","v":""},{"$f":"IF(Deviations_Op_Param_CMS!F109=\"\",\"\",Deviations_Op_Param_CMS!F109)","v":""},{"$f":"IF(Deviations_Op_Param_CMS!D109=\"\",\"\",Deviations_Op_Param_CMS!D109)","v":""},"",{"$f":"IF(COUNTIF(F$2:F88,F88)=1,F88,\"\")","v":""},"","","","",""]
[{"$f":"+IF(G89=\"\",\"\",MAX(A$1:A88)+1)","v":""},{"$f":"IF(Deviations_Op_Param_CMS!B110=\"\",\"\",Deviations_Op_Param_CMS!B110)","v":""},{"$f":"IF(Deviations_Op_Param_CMS!C110=\"\",\"\",Deviations_Op_Param_CMS!C110)","v":""},{"$f":"IF(Deviations_Op_Param_CMS!F110=\"\",\"\",Deviations_Op_Param_CMS!F110)","v":""},{"$f":"IF(Deviations_Op_Param_CMS!D110=\"\",\"\",Deviations_Op_Param_CMS!D110)","v":""},"",{"$f":"IF(COUNTIF(F$2:F89,F89)=1,F89,\"\")","v":""},"","","","",""]
[{"$f":"+IF(G90=\"\",\"\",MAX(A$1:A89)+1)","v":""},{"$f":"IF(Deviations_Op_Param_CMS!B111=\"\",\"\",Deviations_Op_Param_CMS!B111)","v":""},{"$f":"IF(Deviations_Op_Param_CMS!C111=\"\",\"\",Deviations_Op_Param_CMS!C111)","v":""},{"$f":"IF(Deviations_Op_Param_CMS!F111=\"\",\"\",Deviations_Op_Param_CMS!F111)","v":""},{"$f":"IF(Deviations_Op_Param_CMS!D111=\"\",\"\",Deviations_Op_Param_CMS!D111)","v":""},"",{"$f":"IF(COUNTIF(F$2:F90,F90)=1,F90,\"\")","v":""},"","","","",""]
[{"$f":"+IF(G91=\"\",\"\",MAX(A$1:A90)+1)","v":""},{"$f":"IF(Deviations_Op_Param_CMS!B112=\"\",\"\",Deviations_Op_Param_CMS!B112)","v":""},{"$f":"IF(Deviations_Op_Param_CMS!C112=\"\",\"\",Deviations_Op_Param_CMS!C112)","v":""},{"$f":"IF(Deviations_Op_Param_CMS!F112=\"\",\"\",Deviations_Op_Param_CMS!F112)","v":""},{"$f":"IF(Deviations_Op_Param_CMS!D112=\"\",\"\",Deviations_Op_Param_CMS!D112)","v":""},"",{"$f":"IF(COUNTIF(F$2:F91,F91)=1,F91,\"\")","v":""},"","","","",""]
[{"$f":"+IF(G92=\"\",\"\",MAX(A$1:A91)+1)","v":""},{"$f":"IF(Deviations_Op_Param_CMS!B113=\"\",\"\",Deviations_Op_Param_CMS!B113)","v":""},{"$f":"IF(Deviations_Op_Param_CMS!C113=\"\",\"\",Deviations_Op_Param_CMS!C113)","v":""},{"$f":"IF(Deviations_Op_Param_CMS!F113=\"\",\"\",Deviations_Op_Param_CMS!F113)","v":""},{"$f":"IF(Deviations_Op_Param_CMS!D113=\"\",\"\",Deviations_Op_Param_CMS!D113)","v":""},"",{"$f":"IF(COUNTIF(F$2:F92,F92)=1,F92,\"\")","v":""},"","","","",""]
[{"$f":"+IF(G93=\"\",\"\",MAX(A$1:A92)+1)","v":""},{"$f":"IF(Deviations_Op_Param_CMS!B114=\"\",\"\",Deviations_Op_Param_CMS!B114)","v":""},{"$f":"IF(Deviations_Op_Param_CMS!C114=\"\",\"\",Deviations_Op_Param_CMS!C114)","v":""},{"$f":"IF(Deviations_Op_Param_CMS!F114=\"\",\"\",Deviations_Op_Param_CMS!F114)","v":""},{"$f":"IF(Deviations_Op_Param_CMS!D114=\"\",\"\",Deviations_Op_Param_CMS!D114)","v":""},"",{"$f":"IF(COUNTIF(F$2:F93,F93)=1,F93,\"\")","v":""},"","","","",""]
[{"$f":"+IF(G94=\"\",\"\",MAX(A$1:A93)+1)","v":""},{"$f":"IF(Deviations_Op_Param_CMS!B115=\"\",\"\",Deviations_Op_Param_CMS!B115)","v":""},{"$f":"IF(Deviations_Op_Param_CMS!C115=\"\",\"\",Deviations_Op_Param_CMS!C115)","v":""},{"$f":"IF(Deviations_Op_Param_CMS!F115=\"\",\"\",Deviations_Op_Param_CMS!F115)","v":""},{"$f":"IF(Deviations_Op_Param_CMS!D115=\"\",\"\",Deviations_Op_Param_CMS!D115)","v":""},"",{"$f":"IF(COUNTIF(F$2:F94,F94)=1,F94,\"\")","v":""},"","","","",""]
[{"$f":"+IF(G95=\"\",\"\",MAX(A$1:A94)+1)","v":""},{"$f":"IF(Deviations_Op_Param_CMS!B116=\"\",\"\",Deviations_Op_Param_CMS!B116)","v":""},{"$f":"IF(Deviations_Op_Param_CMS!C116=\"\",\"\",Deviations_Op_Param_CMS!C116)","v":""},{"$f":"IF(Deviations_Op_Param_CMS!F116=\"\",\"\",Deviations_Op_Param_CMS!F116)","v":""},{"$f":"IF(Deviations_Op_Param_CMS!D116=\"\",\"\",Deviations_Op_Param_CMS!D116)","v":""},"",{"$f":"IF(COUNTIF(F$2:F95,F95)=1,F95,\"\")","v":""},"","","","",""]
[{"$f":"+IF(G96=\"\",\"\",MAX(A$1:A95)+1)","v":""},{"$f":"IF(Deviations_Op_Param_CMS!B117=\"\",\"\",Deviations_Op_Param_CMS!B117)","v":""},{"$f":"IF(Deviations_Op_Param_CMS!C117=\"\",\"\",Deviations_Op_Param_CMS!C117)","v":""},{"$f":"IF(Deviations_Op_Param_CMS!F117=\"\",\"\",Deviations_Op_Param_CMS!F117)","v":""},{"$f":"IF(Deviations_Op_Param_CMS!D117=\"\",\"\",Deviations_Op_Param_CMS!D117)","v":""},"",{"$f":"IF(COUNTIF(F$2:F96,F96)=1,F96,\"\")","v":""},"","","","",""]
[{"$f":"+IF(G97=\"\",\"\",MAX(A$1:A96)+1)","v":""},{"$f":"IF(Deviations_Op_Param_CMS!B118=\"\",\"\",Deviations_Op_Param_CMS!B118)","v":""},{"$f":"IF(Deviations_Op_Param_CMS!C118=\"\",\"\",Deviations_Op_Param_CMS!C118)","v":""},{"$f":"IF(Deviations_Op_Param_CMS!F118=\"\",\"\",Deviations_Op_Param_CMS!F118)","v":""},{"$f":"IF(Deviations_Op_Param_CMS!D118=\"\",\"\",Deviations_Op_Param_CMS!D118)","v":""},"",{"$f":"IF(COUNTIF(F$2:F97,F97)=1,F97,\"\")","v":""},"","","","",""]
[{"$f":"+IF(G98=\"\",\"\",MAX(A$1:A97)+1)","v":""},{"$f":"IF(Deviations_Op_Param_CMS!B119=\"\",\"\",Deviations_Op_Param_CMS!B119)","v":""},{"$f":"IF(Deviations_Op_Param_CMS!C119=\"\",\"\",Deviations_Op_Param_CMS!C119)","v":""},{"$f":"IF(Deviations_Op_Param_CMS!F119=\"\",\"\",Deviations_Op_Param_CMS!F119)","v":""},{"$f":"IF(Deviations_Op_Param_CMS!D119=\"\",\"\",Deviations_Op_Param_CMS!D119)","v":""},"",{"$f":"IF(COUNTIF(F$2:F98,F98)=1,F98,\"\")","v":""},"","","","",""]
[{"$f":"+IF(G99=\"\",\"\",MAX(A$1:A98)+1)","v":""},{"$f":"IF(Deviations_Op_Param_CMS!B120=\"\",\"\",Deviations_Op_Param_CMS!B120)","v":""},{"$f":"IF(Deviations_Op_Param_CMS!C120=\"\",\"\",Deviations_Op_Param_CMS!C120)","v":""},{"$f":"IF(Deviations_Op_Param_CMS!F120=\"\",\"\",Deviations_Op_Param_CMS!F120)","v":""},{"$f":"IF(Deviations_Op_Param_CMS!D120=\"\",\"\",Deviations_Op_Param_CMS!D120)","v":""},"",{"$f":"IF(COUNTIF(F$2:F99,F99)=1,F99,\"\")","v":""},"","","","",""]
[{"$f":"+IF(G100=\"\",\"\",MAX(A$1:A99)+1)","v":""},{"$f":"IF(Deviations_Op_Param_CMS!B121=\"\",\"\",Deviations_Op_Param_CMS!B121)","v":""},{"$f":"IF(Deviations_Op_Param_CMS!C121=\"\",\"\",Deviations_Op_Param_CMS!C121)","v":""},{"$f":"IF(Deviations_Op_Param_CMS!F121=\"\",\"\",Deviations_Op_Param_CMS!F121)","v":""},{"$f":"IF(Deviations_Op_Param_CMS!D121=\"\",\"\",Deviations_Op_Param_CMS!D121)","v":""},"",{"$f":"IF(COUNTIF(F$2:F100,F100)=1,F100,\"\")","v":""},"","","","",""]
[{"$f":"+IF(G101=\"\",\"\",MAX(A$1:A100)+1)","v":""},{"$f":"IF(Deviations_Op_Param_CMS!B122=\"\",\"\",Deviations_Op_Param_CMS!B122)","v":""},{"$f":"IF(Deviations_Op_Param_CMS!C122=\"\",\"\",Deviations_Op_Param_CMS!C122)","v":""},{"$f":"IF(Deviations_Op_Param_CMS!F122=\"\",\"\",Deviations_Op_Param_CMS!F122)","v":""},{"$f":"IF(Deviations_Op_Param_CMS!D122=\"\",\"\",Deviations_Op_Param_CMS!D122)","v":""},"",{"$f":"IF(COUNTIF(F$2:F101,F101)=1,F101,\"\")","v":""},"","","","",""]
[{"$f":"+IF(G102=\"\",\"\",MAX(A$1:A101)+1)","v":""},{"$f":"IF(Deviations_Op_Param_CMS!B123=\"\",\"\",Deviations_Op_Param_CMS!B123)","v":""},{"$f":"IF(Deviations_Op_Param_CMS!C123=\"\",\"\",Deviations_Op_Param_CMS!C123)","v":""},{"$f":"IF(Deviations_Op_Param_CMS!F123=\"\",\"\",Deviations_Op_Param_CMS!F123)","v":""},{"$f":"IF(Deviations_Op_Param_CMS!D123=\"\",\"\",Deviations_Op_Param_CMS!D123)","v":""},"",{"$f":"IF(COUNTIF(F$2:F102,F102)=1,F102,\"\")","v":""},"","","","",""]
[{"$f":"+IF(G103=\"\",\"\",MAX(A$1:A102)+1)","v":""},{"$f":"IF(Deviations_Op_Param_CMS!B124=\"\",\"\",Deviations_Op_Param_CMS!B124)","v":""},{"$f":"IF(Deviations_Op_Param_CMS!C124=\"\",\"\",Deviations_Op_Param_CMS!C124)","v":""},{"$f":"IF(Deviations_Op_Param_CMS!F124=\"\",\"\",Deviations_Op_Param_CMS!F124)","v":""},{"$f":"IF(Deviations_Op_Param_CMS!D124=\"\",\"\",Deviations_Op_Param_CMS!D124)","v":""},"",{"$f":"IF(COUNTIF(F$2:F103,F103)=1,F103,\"\")","v":""},"","","","",""]
[{"$f":"+IF(G104=\"\",\"\",MAX(A$1:A103)+1)","v":""},{"$f":"IF(Deviations_Op_Param_CMS!B125=\"\",\"\",Deviations_Op_Param_CMS!B125)","v":""},{"$f":"IF(Deviations_Op_Param_CMS!C125=\"\",\"\",Deviations_Op_Param_CMS!C125)","v":""},{"$f":"IF(Deviations_Op_Param_CMS!F125=\"\",\"\",Deviations_Op_Param_CMS!F125)","v":""},{"$f":"IF(Deviations_Op_Param_CMS!D125=\"\",\"\",Deviations_Op_Param_CMS!D125)","v":""},"",{"$f":"IF(COUNTIF(F$2:F104,F104)=1,F104,\"\")","v":""},"","","","",""]
[{"$f":"+IF(G105=\"\",\"\",MAX(A$1:A104)+1)","v":""},{"$f":"IF(Deviations_Op_Param_CMS!B126=\"\",\"\",Deviations_Op_Param_CMS!B126)","v":""},{"$f":"IF(Deviations_Op_Param_CMS!C126=\"\",\"\",Deviations_Op_Param_CMS!C126)","v":""},{"$f":"IF(Deviations_Op_Param_CMS!F126=\"\",\"\",Deviations_Op_Param_CMS!F126)","v":""},{"$f":"IF(Deviations_Op_Param_CMS!D126=\"\",\"\",Deviations_Op_Param_CMS!D126)","v":""},"",{"$f":"IF(COUNTIF(F$2:F105,F105)=1,F105,\"\")","v":""},"","","","",""]
[{"$f":"+IF(G106=\"\",\"\",MAX(A$1:A105)+1)","v":""},{"$f":"IF(Deviations_Op_Param_CMS!B127=\"\",\"\",Deviations_Op_Param_CMS!B127)","v":""},{"$f":"IF(Deviations_Op_Param_CMS!C127=\"\",\"\",Deviations_Op_Param_CMS!C127)","v":""},{"$f":"IF(Deviations_Op_Param_CMS!F127=\"\",\"\",Deviations_Op_Param_CMS!F127)","v":""},{"$f":"IF(Deviations_Op_Param_CMS!D127=\"\",\"\",Deviations_Op_Param_CMS!D127)","v":""},"",{"$f":"IF(COUNTIF(F$2:F106,F106)=1,F106,\"\")","v":""},"","","","",""]
[{"$f":"+IF(G107=\"\",\"\",MAX(A$1:A106)+1)","v":""},{"$f":"IF(Deviations_Op_Param_CMS!B128=\"\",\"\",Deviations_Op_Param_CMS!B128)","v":""},{"$f":"IF(Deviations_Op_Param_CMS!C128=\"\",\"\",Deviations_Op_Param_CMS!C128)","v":""},{"$f":"IF(Deviations_Op_Param_CMS!F128=\"\",\"\",Deviations_Op_Param_CMS!F128)","v":""},{"$f":"IF(Deviations_Op_Param_CMS!D128=\"\",\"\",Deviations_Op_Param_CMS!D128)","v":""},"",{"$f":"IF(COUNTIF(F$2:F107,F107)=1,F107,\"\")","v":""},"","","","",""]
[{"$f":"+IF(G108=\"\",\"\",MAX(A$1:A107)+1)","v":""},{"$f":"IF(Deviations_Op_Param_CMS!B129=\"\",\"\",Deviations_Op_Param_CMS!B129)","v":""},{"$f":"IF(Deviations_Op_Param_CMS!C129=\"\",\"\",Deviations_Op_Param_CMS!C129)","v":""},{"$f":"IF(Deviations_Op_Param_CMS!F129=\"\",\"\",Deviations_Op_Param_CMS!F129)","v":""},{"$f":"IF(Deviations_Op_Param_CMS!D129=\"\",\"\",Deviations_Op_Param_CMS!D129)","v":""},"",{"$f":"IF(COUNTIF(F$2:F108,F108)=1,F108,\"\")","v":""},"","","","",""]
[{"$f":"+IF(G109=\"\",\"\",MAX(A$1:A108)+1)","v":""},{"$f":"IF(Deviations_Op_Param_CMS!B130=\"\",\"\",Deviations_Op_Param_CMS!B130)","v":""},{"$f":"IF(Deviations_Op_Param_CMS!C130=\"\",\"\",Deviations_Op_Param_CMS!C130)","v":""},{"$f":"IF(Deviations_Op_Param_CMS!F130=\"\",\"\",Deviations_Op_Param_CMS!F130)","v":""},{"$f":"IF(Deviations_Op_Param_CMS!D130=\"\",\"\",Deviations_Op_Param_CMS!D130)","v":""},"",{"$f":"IF(COUNTIF(F$2:F109,F109)=1,F109,\"\")","v":""},"","","","",""]
[{"$f":"+IF(G110=\"\",\"\",MAX(A$1:A109)+1)","v":""},{"$f":"IF(Deviations_Op_Param_CMS!B131=\"\",\"\",Deviations_Op_Param_CMS!B131)","v":""},{"$f":"IF(Deviations_Op_Param_CMS!C131=\"\",\"\",Deviations_Op_Param_CMS!C131)","v":""},{"$f":"IF(Deviations_Op_Param_CMS!F131=\"\",\"\",Deviations_Op_Param_CMS!F131)","v":""},{"$f":"IF(Deviations_Op_Param_CMS!D131=\"\",\"\",Deviations_Op_Param_CMS!D131)","v":""},"",{"$f":"IF(COUNTIF(F$2:F110,F110)=1,F110,\"\")","v":""},"","","","",""]
[{"$f":"+IF(G111=\"\",\"\",MAX(A$1:A110)+1)","v":""},{"$f":"IF(Deviations_Op_Param_CMS!B132=\"\",\"\",Deviations_Op_Param_CMS!B132)","v":""},{"$f":"IF(Deviations_Op_Param_CMS!C132=\"\",\"\",Deviations_Op_Param_CMS!C132)","v":""},{"$f":"IF(Deviations_Op_Param_CMS!F132=\"\",\"\",Deviations_Op_Param_CMS!F132)","v":""},{"$f":"IF(Deviations_Op_Param_CMS!D132=\"\",\"\",Deviations_Op_Param_CMS!D132)","v":""},"",{"$f":"IF(COUNTIF(F$2:F111,F111)=1,F111,\"\")","v":""},"","","","",""]
[{"$f":"+IF(G112=\"\",\"\",MAX(A$1:A111)+1)","v":""},{"$f":"IF(Deviations_Op_Param_CMS!B133=\"\",\"\",Deviations_Op_Param_CMS!B133)","v":""},{"$f":"IF(Deviations_Op_Param_CMS!C133=\"\",\"\",Deviations_Op_Param_CMS!C133)","v":""},{"$f":"IF(Deviations_Op_Param_CMS!F133=\"\",\"\",Deviations_Op_Param_CMS!F133)","v":""},{"$f":"IF(Deviations_Op_Param_CMS!D133=\"\",\"\",Deviations_Op_Param_CMS!D133)","v":""},"",{"$f":"IF(COUNTIF(F$2:F112,F112)=1,F112,\"\")","v":""},"","","","",""]
[{"$f":"+IF(G113=\"\",\"\",MAX(A$1:A112)+1)","v":""},{"$f":"IF(Deviations_Op_Param_CMS!B134=\"\",\"\",Deviations_Op_Param_CMS!B134)","v":""},{"$f":"IF(Deviations_Op_Param_CMS!C134=\"\",\"\",Deviations_Op_Param_CMS!C134)","v":""},{"$f":"IF(Deviations_Op_Param_CMS!F134=\"\",\"\",Deviations_Op_Param_CMS!F134)","v":""},{"$f":"IF(Deviations_Op_Param_CMS!D134=\"\",\"\",Deviations_Op_Param_CMS!D134)","v":""},"",{"$f":"IF(COUNTIF(F$2:F113,F113)=1,F113,\"\")","v":""},"","","","",""]
[{"$f":"+IF(G114=\"\",\"\",MAX(A$1:A113)+1)","v":""},{"$f":"IF(Deviations_Op_Param_CMS!B135=\"\",\"\",Deviations_Op_Param_CMS!B135)","v":""},{"$f":"IF(Deviations_Op_Param_CMS!C135=\"\",\"\",Deviations_Op_Param_CMS!C135)","v":""},{"$f":"IF(Deviations_Op_Param_CMS!F135=\"\",\"\",Deviations_Op_Param_CMS!F135)","v":""},{"$f":"IF(Deviations_Op_Param_CMS!D135=\"\",\"\",Deviations_Op_Param_CMS!D135)","v":""},"",{"$f":"IF(COUNTIF(F$2:F114,F114)=1,F114,\"\")","v":""},"","","","",""]
[{"$f":"+IF(G115=\"\",\"\",MAX(A$1:A114)+1)","v":""},{"$f":"IF(Deviations_Op_Param_CMS!B136=\"\",\"\",Deviations_Op_Param_CMS!B136)","v":""},{"$f":"IF(Deviations_Op_Param_CMS!C136=\"\",\"\",Deviations_Op_Param_CMS!C136)","v":""},{"$f":"IF(Deviations_Op_Param_CMS!F136=\"\",\"\",Deviations_Op_Param_CMS!F136)","v":""},{"$f":"IF(Deviations_Op_Param_CMS!D136=\"\",\"\",Deviations_Op_Param_CMS!D136)","v":""},"",{"$f":"IF(COUNTIF(F$2:F115,F115)=1,F115,\"\")","v":""},"","","","",""]
[{"$f":"+IF(G116=\"\",\"\",MAX(A$1:A115)+1)","v":""},{"$f":"IF(Deviations_Op_Param_CMS!B137=\"\",\"\",Deviations_Op_Param_CMS!B137)","v":""},{"$f":"IF(Deviations_Op_Param_CMS!C137=\"\",\"\",Deviations_Op_Param_CMS!C137)","v":""},{"$f":"IF(Deviations_Op_Param_CMS!F137=\"\",\"\",Deviations_Op_Param_CMS!F137)","v":""},{"$f":"IF(Deviations_Op_Param_CMS!D137=\"\",\"\",Deviations_Op_Param_CMS!D137)","v":""},"",{"$f":"IF(COUNTIF(F$2:F116,F116)=1,F116,\"\")","v":""},"","","","",""]
[{"$f":"+IF(G117=\"\",\"\",MAX(A$1:A116)+1)","v":""},{"$f":"IF(Deviations_Op_Param_CMS!B138=\"\",\"\",Deviations_Op_Param_CMS!B138)","v":""},{"$f":"IF(Deviations_Op_Param_CMS!C138=\"\",\"\",Deviations_Op_Param_CMS!C138)","v":""},{"$f":"IF(Deviations_Op_Param_CMS!F138=\"\",\"\",Deviations_Op_Param_CMS!F138)","v":""},{"$f":"IF(Deviations_Op_Param_CMS!D138=\"\",\"\",Deviations_Op_Param_CMS!D138)","v":""},"",{"$f":"IF(COUNTIF(F$2:F117,F117)=1,F117,\"\")","v":""},"","","","",""]
[{"$f":"+IF(G118=\"\",\"\",MAX(A$1:A117)+1)","v":""},{"$f":"IF(Deviations_Op_Param_CMS!B139=\"\",\"\",Deviations_Op_Param_CMS!B139)","v":""},{"$f":"IF(Deviations_Op_Param_CMS!C139=\"\",\"\",Deviations_Op_Param_CMS!C139)","v":""},{"$f":"IF(Deviations_Op_Param_CMS!F139=\"\",\"\",Deviations_Op_Param_CMS!F139)","v":""},{"$f":"IF(Deviations_Op_Param_CMS!D139=\"\",\"\",Deviations_Op_Param_CMS!D139)","v":""},"",{"$f":"IF(COUNTIF(F$2:F118,F118)=1,F118,\"\")","v":""},"","","","",""]
[{"$f":"+IF(G119=\"\",\"\",MAX(A$1:A118)+1)","v":""},{"$f":"IF(Deviations_Op_Param_CMS!B140=\"\",\"\",Deviations_Op_Param_CMS!B140)","v":""},{"$f":"IF(Deviations_Op_Param_CMS!C140=\"\",\"\",Deviations_Op_Param_CMS!C140)","v":""},{"$f":"IF(Deviations_Op_Param_CMS!F140=\"\",\"\",Deviations_Op_Param_CMS!F140)","v":""},{"$f":"IF(Deviations_Op_Param_CMS!D140=\"\",\"\",Deviations_Op_Param_CMS!D140)","v":""},"",{"$f":"IF(COUNTIF(F$2:F119,F119)=1,F119,\"\")","v":""},"","","","",""]
[{"$f":"+IF(G120=\"\",\"\",MAX(A$1:A119)+1)","v":""},{"$f":"IF(Deviations_Op_Param_CMS!B141=\"\",\"\",Deviations_Op_Param_CMS!B141)","v":""},{"$f":"IF(Deviations_Op_Param_CMS!C141=\"\",\"\",Deviations_Op_Param_CMS!C141)","v":""},{"$f":"IF(Deviations_Op_Param_CMS!F141=\"\",\"\",Deviations_Op_Param_CMS!F141)","v":""},{"$f":"IF(Deviations_Op_Param_CMS!D141=\"\",\"\",Deviations_Op_Param_CMS!D141)","v":""},"",{"$f":"IF(COUNTIF(F$2:F120,F120)=1,F120,\"\")","v":""},"","","","",""]
[{"$f":"+IF(G121=\"\",\"\",MAX(A$1:A120)+1)","v":""},{"$f":"IF(Deviations_Op_Param_CMS!B142=\"\",\"\",Deviations_Op_Param_CMS!B142)","v":""},{"$f":"IF(Deviations_Op_Param_CMS!C142=\"\",\"\",Deviations_Op_Param_CMS!C142)","v":""},{"$f":"IF(Deviations_Op_Param_CMS!F142=\"\",\"\",Deviations_Op_Param_CMS!F142)","v":""},{"$f":"IF(Deviations_Op_Param_CMS!D142=\"\",\"\",Deviations_Op_Param_CMS!D142)","v":""},"",{"$f":"IF(COUNTIF(F$2:F121,F121)=1,F121,\"\")","v":""},"","","","",""]
[{"$f":"+IF(G122=\"\",\"\",MAX(A$1:A121)+1)","v":""},{"$f":"IF(Deviations_Op_Param_CMS!B143=\"\",\"\",Deviations_Op_Param_CMS!B143)","v":""},{"$f":"IF(Deviations_Op_Param_CMS!C143=\"\",\"\",Deviations_Op_Param_CMS!C143)","v":""},{"$f":"IF(Deviations_Op_Param_CMS!F143=\"\",\"\",Deviations_Op_Param_CMS!F143)","v":""},{"$f":"IF(Deviations_Op_Param_CMS!D143=\"\",\"\",Deviations_Op_Param_CMS!D143)","v":""},"",{"$f":"IF(COUNTIF(F$2:F122,F122)=1,F122,\"\")","v":""},"","","","",""]
[{"$f":"+IF(G123=\"\",\"\",MAX(A$1:A122)+1)","v":""},{"$f":"IF(Deviations_Op_Param_CMS!B144=\"\",\"\",Deviations_Op_Param_CMS!B144)","v":""},{"$f":"IF(Deviations_Op_Param_CMS!C144=\"\",\"\",Deviations_Op_Param_CMS!C144)","v":""},{"$f":"IF(Deviations_Op_Param_CMS!F144=\"\",\"\",Deviations_Op_Param_CMS!F144)","v":""},{"$f":"IF(Deviations_Op_Param_CMS!D144=\"\",\"\",Deviations_Op_Param_CMS!D144)","v":""},"",{"$f":"IF(COUNTIF(F$2:F123,F123)=1,F123,\"\")","v":""},"","","","",""]
[{"$f":"+IF(G124=\"\",\"\",MAX(A$1:A123)+1)","v":""},{"$f":"IF(Deviations_Op_Param_CMS!B145=\"\",\"\",Deviations_Op_Param_CMS!B145)","v":""},{"$f":"IF(Deviations_Op_Param_CMS!C145=\"\",\"\",Deviations_Op_Param_CMS!C145)","v":""},{"$f":"IF(Deviations_Op_Param_CMS!F145=\"\",\"\",Deviations_Op_Param_CMS!F145)","v":""},{"$f":"IF(Deviations_Op_Param_CMS!D145=\"\",\"\",Deviations_Op_Param_CMS!D145)","v":""},"",{"$f":"IF(COUNTIF(F$2:F124,F124)=1,F124,\"\")","v":""},"","","","",""]
[{"$f":"+IF(G125=\"\",\"\",MAX(A$1:A124)+1)","v":""},{"$f":"IF(Deviations_Op_Param_CMS!B146=\"\",\"\",Deviations_Op_Param_CMS!B146)","v":""},{"$f":"IF(Deviations_Op_Param_CMS!C146=\"\",\"\",Deviations_Op_Param_CMS!C146)","v":""},{"$f":"IF(Deviations_Op_Param_CMS!F146=\"\",\"\",Deviations_Op_Param_CMS!F146)","v":""},{"$f":"IF(Deviations_Op_Param_CMS!D146=\"\",\"\",Deviations_Op_Param_CMS!D146)","v":""},"",{"$f":"IF(COUNTIF(F$2:F125,F125)=1,F125,\"\")","v":""},"","","","",""]
[{"$f":"+IF(G126=\"\",\"\",MAX(A$1:A125)+1)","v":""},{"$f":"IF(Deviations_Op_Param_CMS!B147=\"\",\"\",Deviations_Op_Param_CMS!B147)","v":""},{"$f":"IF(Deviations_Op_Param_CMS!C147=\"\",\"\",Deviations_Op_Param_CMS!C147)","v":""},{"$f":"IF(Deviations_Op_Param_CMS!F147=\"\",\"\",Deviations_Op_Param_CMS!F147)","v":""},{"$f":"IF(Deviations_Op_Param_CMS!D147=\"\",\"\",Deviations_Op_Param_CMS!D147)","v":""},"",{"$f":"IF(COUNTIF(F$2:F126,F126)=1,F126,\"\")","v":""},"","","","",""]
[{"$f":"+IF(G127=\"\",\"\",MAX(A$1:A126)+1)","v":""},{"$f":"IF(Deviations_Op_Param_CMS!B148=\"\",\"\",Deviations_Op_Param_CMS!B148)","v":""},{"$f":"IF(Deviations_Op_Param_CMS!C148=\"\",\"\",Deviations_Op_Param_CMS!C148)","v":""},{"$f":"IF(Deviations_Op_Param_CMS!F148=\"\",\"\",Deviations_Op_Param_CMS!F148)","v":""},{"$f":"IF(Deviations_Op_Param_CMS!D148=\"\",\"\",Deviations_Op_Param_CMS!D148)","v":""},"",{"$f":"IF(COUNTIF(F$2:F127,F127)=1,F127,\"\")","v":""},"","","","",""]
[{"$f":"+IF(G128=\"\",\"\",MAX(A$1:A127)+1)","v":""},{"$f":"IF(Deviations_Op_Param_CMS!B149=\"\",\"\",Deviations_Op_Param_CMS!B149)","v":""},{"$f":"IF(Deviations_Op_Param_CMS!C149=\"\",\"\",Deviations_Op_Param_CMS!C149)","v":""},{"$f":"IF(Deviations_Op_Param_CMS!F149=\"\",\"\",Deviations_Op_Param_CMS!F149)","v":""},{"$f":"IF(Deviations_Op_Param_CMS!D149=\"\",\"\",Deviations_Op_Param_CMS!D149)","v":""},"",{"$f":"IF(COUNTIF(F$2:F128,F128)=1,F128,\"\")","v":""},"","","","",""]
[{"$f":"+IF(G129=\"\",\"\",MAX(A$1:A128)+1)","v":""},{"$f":"IF(Deviations_Op_Param_CMS!B150=\"\",\"\",Deviations_Op_Param_CMS!B150)","v":""},{"$f":"IF(Deviations_Op_Param_CMS!C150=\"\",\"\",Deviations_Op_Param_CMS!C150)","v":""},{"$f":"IF(Deviations_Op_Param_CMS!F150=\"\",\"\",Deviations_Op_Param_CMS!F150)","v":""},{"$f":"IF(Deviations_Op_Param_CMS!D150=\"\",\"\",Deviations_Op_Param_CMS!D150)","v":""},"",{"$f":"IF(COUNTIF(F$2:F129,F129)=1,F129,\"\")","v":""},"","","","",""]
[{"$f":"+IF(G130=\"\",\"\",MAX(A$1:A129)+1)","v":""},{"$f":"IF(Deviations_Op_Param_CMS!B151=\"\",\"\",Deviations_Op_Param_CMS!B151)","v":""},{"$f":"IF(Deviations_Op_Param_CMS!C151=\"\",\"\",Deviations_Op_Param_CMS!C151)","v":""},{"$f":"IF(Deviations_Op_Param_CMS!F151=\"\",\"\",Deviations_Op_Param_CMS!F151)","v":""},{"$f":"IF(Deviations_Op_Param_CMS!D151=\"\",\"\",Deviations_Op_Param_CMS!D151)","v":""},"",{"$f":"IF(COUNTIF(F$2:F130,F130)=1,F130,\"\")","v":""},"","","","",""]
[{"$f":"+IF(G131=\"\",\"\",MAX(A$1:A130)+1)","v":""},{"$f":"IF(Deviations_Op_Param_CMS!B152=\"\",\"\",Deviations_Op_Param_CMS!B152)","v":""},{"$f":"IF(Deviations_Op_Param_CMS!C152=\"\",\"\",Deviations_Op_Param_CMS!C152)","v":""},{"$f":"IF(Deviations_Op_Param_CMS!F152=\"\",\"\",Deviations_Op_Param_CMS!F152)","v":""},{"$f":"IF(Deviations_Op_Param_CMS!D152=\"\",\"\",Deviations_Op_Param_CMS!D152)","v":""},"",{"$f":"IF(COUNTIF(F$2:F131,F131)=1,F131,\"\")","v":""},{"$f":"+IFERROR(INDEX($G$3:$G$499,MATCH(ROW()-ROW($H$2),$A$3:$A$499,0)),\"\")","v":""},{"$f":"+IFERROR(INDEX($B$3:$B$499,MATCH(ROW()-ROW($H$2),$A$3:$A$499,0)),\"\")","v":""},{"$f":"+IFERROR(INDEX($C$3:$C$499,MATCH(ROW()-ROW($H$2),$A$3:$A$499,0)),\"\")","v":""},"",""]
[{"$f":"+IF(G132=\"\",\"\",MAX(A$1:A131)+1)","v":""},{"$f":"IF(Deviations_Op_Param_CMS!B153=\"\",\"\",Deviations_Op_Param_CMS!B153)","v":""},{"$f":"IF(Deviations_Op_Param_CMS!C153=\"\",\"\",Deviations_Op_Param_CMS!C153)","v":""},{"$f":"IF(Deviations_Op_Param_CMS!F153=\"\",\"\",Deviations_Op_Param_CMS!F153)","v":""},{"$f":"IF(Deviations_Op_Param_CMS!D153=\"\",\"\",Deviations_Op_Param_CMS!D153)","v":""},{"$f":"IF(E132=\"\",\"\",B132&\"-\"&C132&\"-\"&D132)","v":""},{"$f":"IF(COUNTIF(F$2:F132,F132)=1,F132,\"\")","v":""},"","","",{"$f":"+IFERROR(INDEX($C$3:$C$499,MATCH(ROW()-ROW($H$2),$A$3:$A$499,0)),\"\")","v":""},{"$f":"+IFERROR(INDEX($E$3:$E$499,MATCH(ROW()-ROW($H$2),$A$3:$A$499,0)),\"\")","v":""}]
[{"$f":"+IF(G133=\"\",\"\",MAX(A$1:A132)+1)","v":""},{"$f":"IF(Deviations_Op_Param_CMS!B154=\"\",\"\",Deviations_Op_Param_CMS!B154)","v":""},{"$f":"IF(Deviations_Op_Param_CMS!C154=\"\",\"\",Deviations_Op_Param_CMS!C154)","v":""},{"$f":"IF(Deviations_Op_Param_CMS!F154=\"\",\"\",Deviations_Op_Param_CMS!F154)","v":""},{"$f":"IF(Deviations_Op_Param_CMS!D154=\"\",\"\",Deviations_Op_Param_CMS!D154)","v":""},"",{"$f":"IF(COUNTIF(F$2:F133,F133)=1,F133,\"\")","v":""},"","","","",""]
[{"$f":"+IF(G134=\"\",\"\",MAX(A$1:A133)+1)","v":""},{"$f":"IF(Deviations_Op_Param_CMS!B155=\"\",\"\",Deviations_Op_Param_CMS!B155)","v":""},{"$f":"IF(Deviations_Op_Param_CMS!C155=\"\",\"\",Deviations_Op_Param_CMS!C155)","v":""},{"$f":"IF(Deviations_Op_Param_CMS!F155=\"\",\"\",Deviations_Op_Param_CMS!F155)","v":""},{"$f":"IF(Deviations_Op_Param_CMS!D155=\"\",\"\",Deviations_Op_Param_CMS!D155)","v":""},"",{"$f":"IF(COUNTIF(F$2:F134,F134)=1,F134,\"\")","v":""},"","","","",""]
[{"$f":"+IF(G135=\"\",\"\",MAX(A$1:A134)+1)","v":""},{"$f":"IF(Deviations_Op_Param_CMS!B156=\"\",\"\",Deviations_Op_Param_CMS!B156)","v":""},{"$f":"IF(Deviations_Op_Param_CMS!C156=\"\",\"\",Deviations_Op_Param_CMS!C156)","v":""},{"$f":"IF(Deviations_Op_Param_CMS!F156=\"\",\"\",Deviations_Op_Param_CMS!F156)","v":""},{"$f":"IF(Deviations_Op_Param_CMS!D156=\"\",\"\",Deviations_Op_Param_CMS!D156)","v":""},"",{"$f":"IF(COUNTIF(F$2:F135,F135)=1,F135,\"\")","v":""},"","","","",""]
[{"$f":"+IF(G136=\"\",\"\",MAX(A$1:A135)+1)","v":""},{"$f":"IF(Deviations_Op_Param_CMS!B157=\"\",\"\",Deviations_Op_Param_CMS!B157)","v":""},{"$f":"IF(Deviations_Op_Param_CMS!C157=\"\",\"\",Deviations_Op_Param_CMS!C157)","v":""},{"$f":"IF(Deviations_Op_Param_CMS!F157=\"\",\"\",Deviations_Op_Param_CMS!F157)","v":""},{"$f":"IF(Deviations_Op_Param_CMS!D157=\"\",\"\",Deviations_Op_Param_CMS!D157)","v":""},"",{"$f":"IF(COUNTIF(F$2:F136,F136)=1,F136,\"\")","v":""},"","","","",""]
[{"$f":"+IF(G137=\"\",\"\",MAX(A$1:A136)+1)","v":""},{"$f":"IF(Deviations_Op_Param_CMS!B158=\"\",\"\",Deviations_Op_Param_CMS!B158)","v":""},{"$f":"IF(Deviations_Op_Param_CMS!C158=\"\",\"\",Deviations_Op_Param_CMS!C158)","v":""},{"$f":"IF(Deviations_Op_Param_CMS!F158=\"\",\"\",Deviations_Op_Param_CMS!F158)","v":""},{"$f":"IF(Deviations_Op_Param_CMS!D158=\"\",\"\",Deviations_Op_Param_CMS!D158)","v":""},"",{"$f":"IF(COUNTIF(F$2:F137,F137)=1,F137,\"\")","v":""},"","","","",""]
[{"$f":"+IF(G138=\"\",\"\",MAX(A$1:A137)+1)","v":""},{"$f":"IF(Deviations_Op_Param_CMS!B159=\"\",\"\",Deviations_Op_Param_CMS!B159)","v":""},{"$f":"IF(Deviations_Op_Param_CMS!C159=\"\",\"\",Deviations_Op_Param_CMS!C159)","v":""},{"$f":"IF(Deviations_Op_Param_CMS!F159=\"\",\"\",Deviations_Op_Param_CMS!F159)","v":""},{"$f":"IF(Deviations_Op_Param_CMS!D159=\"\",\"\",Deviations_Op_Param_CMS!D159)","v":""},"",{"$f":"IF(COUNTIF(F$2:F138,F138)=1,F138,\"\")","v":""},"","","","",""]
[{"$f":"+IF(G139=\"\",\"\",MAX(A$1:A138)+1)","v":""},{"$f":"IF(Deviations_Op_Param_CMS!B160=\"\",\"\",Deviations_Op_Param_CMS!B160)","v":""},{"$f":"IF(Deviations_Op_Param_CMS!C160=\"\",\"\",Deviations_Op_Param_CMS!C160)","v":""},{"$f":"IF(Deviations_Op_Param_CMS!F160=\"\",\"\",Deviations_Op_Param_CMS!F160)","v":""},{"$f":"IF(Deviations_Op_Param_CMS!D160=\"\",\"\",Deviations_Op_Param_CMS!D160)","v":""},"",{"$f":"IF(COUNTIF(F$2:F139,F139)=1,F139,\"\")","v":""},"","","","",""]
[{"$f":"+IF(G140=\"\",\"\",MAX(A$1:A139)+1)","v":""},{"$f":"IF(Deviations_Op_Param_CMS!B161=\"\",\"\",Deviations_Op_Param_CMS!B161)","v":""},{"$f":"IF(Deviations_Op_Param_CMS!C161=\"\",\"\",Deviations_Op_Param_CMS!C161)","v":""},{"$f":"IF(Deviations_Op_Param_CMS!F161=\"\",\"\",Deviations_Op_Param_CMS!F161)","v":""},{"$f":"IF(Deviations_Op_Param_CMS!D161=\"\",\"\",Deviations_Op_Param_CMS!D161)","v":""},"",{"$f":"IF(COUNTIF(F$2:F140,F140)=1,F140,\"\")","v":""},"","","","",""]
[{"$f":"+IF(G141=\"\",\"\",MAX(A$1:A140)+1)","v":""},{"$f":"IF(Deviations_Op_Param_CMS!B162=\"\",\"\",Deviations_Op_Param_CMS!B162)","v":""},{"$f":"IF(Deviations_Op_Param_CMS!C162=\"\",\"\",Deviations_Op_Param_CMS!C162)","v":""},{"$f":"IF(Deviations_Op_Param_CMS!F162=\"\",\"\",Deviations_Op_Param_CMS!F162)","v":""},{"$f":"IF(Deviations_Op_Param_CMS!D162=\"\",\"\",Deviations_Op_Param_CMS!D162)","v":""},"",{"$f":"IF(COUNTIF(F$2:F141,F141)=1,F141,\"\")","v":""},"","","","",""]
[{"$f":"+IF(G142=\"\",\"\",MAX(A$1:A141)+1)","v":""},{"$f":"IF(Deviations_Op_Param_CMS!B163=\"\",\"\",Deviations_Op_Param_CMS!B163)","v":""},{"$f":"IF(Deviations_Op_Param_CMS!C163=\"\",\"\",Deviations_Op_Param_CMS!C163)","v":""},{"$f":"IF(Deviations_Op_Param_CMS!F163=\"\",\"\",Deviations_Op_Param_CMS!F163)","v":""},{"$f":"IF(Deviations_Op_Param_CMS!D163=\"\",\"\",Deviations_Op_Param_CMS!D163)","v":""},"",{"$f":"IF(COUNTIF(F$2:F142,F142)=1,F142,\"\")","v":""},"","","","",""]
[{"$f":"+IF(G143=\"\",\"\",MAX(A$1:A142)+1)","v":""},{"$f":"IF(Deviations_Op_Param_CMS!B164=\"\",\"\",Deviations_Op_Param_CMS!B164)","v":""},{"$f":"IF(Deviations_Op_Param_CMS!C164=\"\",\"\",Deviations_Op_Param_CMS!C164)","v":""},{"$f":"IF(Deviations_Op_Param_CMS!F164=\"\",\"\",Deviations_Op_Param_CMS!F164)","v":""},{"$f":"IF(Deviations_Op_Param_CMS!D164=\"\",\"\",Deviations_Op_Param_CMS!D164)","v":""},"",{"$f":"IF(COUNTIF(F$2:F143,F143)=1,F143,\"\")","v":""},"","","","",""]
[{"$f":"+IF(G144=\"\",\"\",MAX(A$1:A143)+1)","v":""},{"$f":"IF(Deviations_Op_Param_CMS!B165=\"\",\"\",Deviations_Op_Param_CMS!B165)","v":""},{"$f":"IF(Deviations_Op_Param_CMS!C165=\"\",\"\",Deviations_Op_Param_CMS!C165)","v":""},{"$f":"IF(Deviations_Op_Param_CMS!F165=\"\",\"\",Deviations_Op_Param_CMS!F165)","v":""},{"$f":"IF(Deviations_Op_Param_CMS!D165=\"\",\"\",Deviations_Op_Param_CMS!D165)","v":""},"",{"$f":"IF(COUNTIF(F$2:F144,F144)=1,F144,\"\")","v":""},"","","","",""]
[{"$f":"+IF(G145=\"\",\"\",MAX(A$1:A144)+1)","v":""},{"$f":"IF(Deviations_Op_Param_CMS!B166=\"\",\"\",Deviations_Op_Param_CMS!B166)","v":""},{"$f":"IF(Deviations_Op_Param_CMS!C166=\"\",\"\",Deviations_Op_Param_CMS!C166)","v":""},{"$f":"IF(Deviations_Op_Param_CMS!F166=\"\",\"\",Deviations_Op_Param_CMS!F166)","v":""},{"$f":"IF(Deviations_Op_Param_CMS!D166=\"\",\"\",Deviations_Op_Param_CMS!D166)","v":""},"",{"$f":"IF(COUNTIF(F$2:F145,F145)=1,F145,\"\")","v":""},"","","","",""]
[{"$f":"+IF(G146=\"\",\"\",MAX(A$1:A145)+1)","v":""},{"$f":"IF(Deviations_Op_Param_CMS!B167=\"\",\"\",Deviations_Op_Param_CMS!B167)","v":""},{"$f":"IF(Deviations_Op_Param_CMS!C167=\"\",\"\",Deviations_Op_Param_CMS!C167)","v":""},{"$f":"IF(Deviations_Op_Param_CMS!F167=\"\",\"\",Deviations_Op_Param_CMS!F167)","v":""},{"$f":"IF(Deviations_Op_Param_CMS!D167=\"\",\"\",Deviations_Op_Param_CMS!D167)","v":""},"",{"$f":"IF(COUNTIF(F$2:F146,F146)=1,F146,\"\")","v":""},"","","","",""]
[{"$f":"+IF(G147=\"\",\"\",MAX(A$1:A146)+1)","v":""},{"$f":"IF(Deviations_Op_Param_CMS!B168=\"\",\"\",Deviations_Op_Param_CMS!B168)","v":""},{"$f":"IF(Deviations_Op_Param_CMS!C168=\"\",\"\",Deviations_Op_Param_CMS!C168)","v":""},{"$f":"IF(Deviations_Op_Param_CMS!F168=\"\",\"\",Deviations_Op_Param_CMS!F168)","v":""},{"$f":"IF(Deviations_Op_Param_CMS!D168=\"\",\"\",Deviations_Op_Param_CMS!D168)","v":""},"",{"$f":"IF(COUNTIF(F$2:F147,F147)=1,F147,\"\")","v":""},"","","","",""]
[{"$f":"+IF(G148=\"\",\"\",MAX(A$1:A147)+1)","v":""},{"$f":"IF(Deviations_Op_Param_CMS!B169=\"\",\"\",Deviations_Op_Param_CMS!B169)","v":""},{"$f":"IF(Deviations_Op_Param_CMS!C169=\"\",\"\",Deviations_Op_Param_CMS!C169)","v":""},{"$f":"IF(Deviations_Op_Param_CMS!F169=\"\",\"\",Deviations_Op_Param_CMS!F169)","v":""},{"$f":"IF(Deviations_Op_Param_CMS!D169=\"\",\"\",Deviations_Op_Param_CMS!D169)","v":""},"",{"$f":"IF(COUNTIF(F$2:F148,F148)=1,F148,\"\")","v":""},"","","","",""]
[{"$f":"+IF(G149=\"\",\"\",MAX(A$1:A148)+1)","v":""},{"$f":"IF(Deviations_Op_Param_CMS!B170=\"\",\"\",Deviations_Op_Param_CMS!B170)","v":""},{"$f":"IF(Deviations_Op_Param_CMS!C170=\"\",\"\",Deviations_Op_Param_CMS!C170)","v":""},{"$f":"IF(Deviations_Op_Param_CMS!F170=\"\",\"\",Deviations_Op_Param_CMS!F170)","v":""},{"$f":"IF(Deviations_Op_Param_CMS!D170=\"\",\"\",Deviations_Op_Param_CMS!D170)","v":""},"",{"$f":"IF(COUNTIF(F$2:F149,F149)=1,F149,\"\")","v":""},"","","","",""]
[{"$f":"+IF(G150=\"\",\"\",MAX(A$1:A149)+1)","v":""},{"$f":"IF(Deviations_Op_Param_CMS!B171=\"\",\"\",Deviations_Op_Param_CMS!B171)","v":""},{"$f":"IF(Deviations_Op_Param_CMS!C171=\"\",\"\",Deviations_Op_Param_CMS!C171)","v":""},{"$f":"IF(Deviations_Op_Param_CMS!F171=\"\",\"\",Deviations_Op_Param_CMS!F171)","v":""},{"$f":"IF(Deviations_Op_Param_CMS!D171=\"\",\"\",Deviations_Op_Param_CMS!D171)","v":""},"",{"$f":"IF(COUNTIF(F$2:F150,F150)=1,F150,\"\")","v":""},"","","","",""]
[{"$f":"+IF(G151=\"\",\"\",MAX(A$1:A150)+1)","v":""},{"$f":"IF(Deviations_Op_Param_CMS!B172=\"\",\"\",Deviations_Op_Param_CMS!B172)","v":""},{"$f":"IF(Deviations_Op_Param_CMS!C172=\"\",\"\",Deviations_Op_Param_CMS!C172)","v":""},{"$f":"IF(Deviations_Op_Param_CMS!F172=\"\",\"\",Deviations_Op_Param_CMS!F172)","v":""},{"$f":"IF(Deviations_Op_Param_CMS!D172=\"\",\"\",Deviations_Op_Param_CMS!D172)","v":""},"",{"$f":"IF(COUNTIF(F$2:F151,F151)=1,F151,\"\")","v":""},"","","","",""]
[{"$f":"+IF(G152=\"\",\"\",MAX(A$1:A151)+1)","v":""},{"$f":"IF(Deviations_Op_Param_CMS!B173=\"\",\"\",Deviations_Op_Param_CMS!B173)","v":""},{"$f":"IF(Deviations_Op_Param_CMS!C173=\"\",\"\",Deviations_Op_Param_CMS!C173)","v":""},{"$f":"IF(Deviations_Op_Param_CMS!F173=\"\",\"\",Deviations_Op_Param_CMS!F173)","v":""},{"$f":"IF(Deviations_Op_Param_CMS!D173=\"\",\"\",Deviations_Op_Param_CMS!D173)","v":""},"",{"$f":"IF(COUNTIF(F$2:F152,F152)=1,F152,\"\")","v":""},"","","","",""]
[{"$f":"+IF(G153=\"\",\"\",MAX(A$1:A152)+1)","v":""},{"$f":"IF(Deviations_Op_Param_CMS!B174=\"\",\"\",Deviations_Op_Param_CMS!B174)","v":""},{"$f":"IF(Deviations_Op_Param_CMS!C174=\"\",\"\",Deviations_Op_Param_CMS!C174)","v":""},{"$f":"IF(Deviations_Op_Param_CMS!F174=\"\",\"\",Deviations_Op_Param_CMS!F174)","v":""},{"$f":"IF(Deviations_Op_Param_CMS!D174=\"\",\"\",Deviations_Op_Param_CMS!D174)","v":""},"",{"$f":"IF(COUNTIF(F$2:F153,F153)=1,F153,\"\")","v":""},"","","","",""]
[{"$f":"+IF(G154=\"\",\"\",MAX(A$1:A153)+1)","v":""},{"$f":"IF(Deviations_Op_Param_CMS!B175=\"\",\"\",Deviations_Op_Param_CMS!B175)","v":""},{"$f":"IF(Deviations_Op_Param_CMS!C175=\"\",\"\",Deviations_Op_Param_CMS!C175)","v":""},{"$f":"IF(Deviations_Op_Param_CMS!F175=\"\",\"\",Deviations_Op_Param_CMS!F175)","v":""},{"$f":"IF(Deviations_Op_Param_CMS!D175=\"\",\"\",Deviations_Op_Param_CMS!D175)","v":""},"",{"$f":"IF(COUNTIF(F$2:F154,F154)=1,F154,\"\")","v":""},"","","","",""]
[{"$f":"+IF(G155=\"\",\"\",MAX(A$1:A154)+1)","v":""},{"$f":"IF(Deviations_Op_Param_CMS!B176=\"\",\"\",Deviations_Op_Param_CMS!B176)","v":""},{"$f":"IF(Deviations_Op_Param_CMS!C176=\"\",\"\",Deviations_Op_Param_CMS!C176)","v":""},{"$f":"IF(Deviations_Op_Param_CMS!F176=\"\",\"\",Deviations_Op_Param_CMS!F176)","v":""},{"$f":"IF(Deviations_Op_Param_CMS!D176=\"\",\"\",Deviations_Op_Param_CMS!D176)","v":""},"",{"$f":"IF(COUNTIF(F$2:F155,F155)=1,F155,\"\")","v":""},"","","","",""]
[{"$f":"+IF(G156=\"\",\"\",MAX(A$1:A155)+1)","v":""},{"$f":"IF(Deviations_Op_Param_CMS!B177=\"\",\"\",Deviations_Op_Param_CMS!B177)","v":""},{"$f":"IF(Deviations_Op_Param_CMS!C177=\"\",\"\",Deviations_Op_Param_CMS!C177)","v":""},{"$f":"IF(Deviations_Op_Param_CMS!F177=\"\",\"\",Deviations_Op_Param_CMS!F177)","v":""},{"$f":"IF(Deviations_Op_Param_CMS!D177=\"\",\"\",Deviations_Op_Param_CMS!D177)","v":""},"",{"$f":"IF(COUNTIF(F$2:F156,F156)=1,F156,\"\")","v":""},"","","","",""]
[{"$f":"+IF(G157=\"\",\"\",MAX(A$1:A156)+1)","v":""},{"$f":"IF(Deviations_Op_Param_CMS!B178=\"\",\"\",Deviations_Op_Param_CMS!B178)","v":""},{"$f":"IF(Deviations_Op_Param_CMS!C178=\"\",\"\",Deviations_Op_Param_CMS!C178)","v":""},{"$f":"IF(Deviations_Op_Param_CMS!F178=\"\",\"\",Deviations_Op_Param_CMS!F178)","v":""},{"$f":"IF(Deviations_Op_Param_CMS!D178=\"\",\"\",Deviations_Op_Param_CMS!D178)","v":""},"",{"$f":"IF(COUNTIF(F$2:F157,F157)=1,F157,\"\")","v":""},"","","","",""]
[{"$f":"+IF(G158=\"\",\"\",MAX(A$1:A157)+1)","v":""},{"$f":"IF(Deviations_Op_Param_CMS!B179=\"\",\"\",Deviations_Op_Param_CMS!B179)","v":""},{"$f":"IF(Deviations_Op_Param_CMS!C179=\"\",\"\",Deviations_Op_Param_CMS!C179)","v":""},{"$f":"IF(Deviations_Op_Param_CMS!F179=\"\",\"\",Deviations_Op_Param_CMS!F179)","v":""},{"$f":"IF(Deviations_Op_Param_CMS!D179=\"\",\"\",Deviations_Op_Param_CMS!D179)","v":""},"",{"$f":"IF(COUNTIF(F$2:F158,F158)=1,F158,\"\")","v":""},"","","","",""]
[{"$f":"+IF(G159=\"\",\"\",MAX(A$1:A158)+1)","v":""},{"$f":"IF(Deviations_Op_Param_CMS!B180=\"\",\"\",Deviations_Op_Param_CMS!B180)","v":""},{"$f":"IF(Deviations_Op_Param_CMS!C180=\"\",\"\",Deviations_Op_Param_CMS!C180)","v":""},{"$f":"IF(Deviations_Op_Param_CMS!F180=\"\",\"\",Deviations_Op_Param_CMS!F180)","v":""},{"$f":"IF(Deviations_Op_Param_CMS!D180=\"\",\"\",Deviations_Op_Param_CMS!D180)","v":""},"",{"$f":"IF(COUNTIF(F$2:F159,F159)=1,F159,\"\")","v":""},"","","","",""]
[{"$f":"+IF(G160=\"\",\"\",MAX(A$1:A159)+1)","v":""},{"$f":"IF(Deviations_Op_Param_CMS!B181=\"\",\"\",Deviations_Op_Param_CMS!B181)","v":""},{"$f":"IF(Deviations_Op_Param_CMS!C181=\"\",\"\",Deviations_Op_Param_CMS!C181)","v":""},{"$f":"IF(Deviations_Op_Param_CMS!F181=\"\",\"\",Deviations_Op_Param_CMS!F181)","v":""},{"$f":"IF(Deviations_Op_Param_CMS!D181=\"\",\"\",Deviations_Op_Param_CMS!D181)","v":""},"",{"$f":"IF(COUNTIF(F$2:F160,F160)=1,F160,\"\")","v":""},"","","","",""]
[{"$f":"+IF(G161=\"\",\"\",MAX(A$1:A160)+1)","v":""},{"$f":"IF(Deviations_Op_Param_CMS!B182=\"\",\"\",Deviations_Op_Param_CMS!B182)","v":""},{"$f":"IF(Deviations_Op_Param_CMS!C182=\"\",\"\",Deviations_Op_Param_CMS!C182)","v":""},{"$f":"IF(Deviations_Op_Param_CMS!F182=\"\",\"\",Deviations_Op_Param_CMS!F182)","v":""},{"$f":"IF(Deviations_Op_Param_CMS!D182=\"\",\"\",Deviations_Op_Param_CMS!D182)","v":""},"",{"$f":"IF(COUNTIF(F$2:F161,F161)=1,F161,\"\")","v":""},"","","","",""]
[{"$f":"+IF(G162=\"\",\"\",MAX(A$1:A161)+1)","v":""},{"$f":"IF(Deviations_Op_Param_CMS!B183=\"\",\"\",Deviations_Op_Param_CMS!B183)","v":""},{"$f":"IF(Deviations_Op_Param_CMS!C183=\"\",\"\",Deviations_Op_Param_CMS!C183)","v":""},{"$f":"IF(Deviations_Op_Param_CMS!F183=\"\",\"\",Deviations_Op_Param_CMS!F183)","v":""},{"$f":"IF(Deviations_Op_Param_CMS!D183=\"\",\"\",Deviations_Op_Param_CMS!D183)","v":""},"",{"$f":"IF(COUNTIF(F$2:F162,F162)=1,F162,\"\")","v":""},"","","","",""]
[{"$f":"+IF(G163=\"\",\"\",MAX(A$1:A162)+1)","v":""},{"$f":"IF(Deviations_Op_Param_CMS!B184=\"\",\"\",Deviations_Op_Param_CMS!B184)","v":""},{"$f":"IF(Deviations_Op_Param_CMS!C184=\"\",\"\",Deviations_Op_Param_CMS!C184)","v":""},{"$f":"IF(Deviations_Op_Param_CMS!F184=\"\",\"\",Deviations_Op_Param_CMS!F184)","v":""},{"$f":"IF(Deviations_Op_Param_CMS!D184=\"\",\"\",Deviations_Op_Param_CMS!D184)","v":""},"",{"$f":"IF(COUNTIF(F$2:F163,F163)=1,F163,\"\")","v":""},"","","","",""]
[{"$f":"+IF(G164=\"\",\"\",MAX(A$1:A163)+1)","v":""},{"$f":"IF(Deviations_Op_Param_CMS!B185=\"\",\"\",Deviations_Op_Param_CMS!B185)","v":""},{"$f":"IF(Deviations_Op_Param_CMS!C185=\"\",\"\",Deviations_Op_Param_CMS!C185)","v":""},{"$f":"IF(Deviations_Op_Param_CMS!F185=\"\",\"\",Deviations_Op_Param_CMS!F185)","v":""},{"$f":"IF(Deviations_Op_Param_CMS!D185=\"\",\"\",Deviations_Op_Param_CMS!D185)","v":""},"",{"$f":"IF(COUNTIF(F$2:F164,F164)=1,F164,\"\")","v":""},"","","","",""]
[{"$f":"+IF(G165=\"\",\"\",MAX(A$1:A164)+1)","v":""},{"$f":"IF(Deviations_Op_Param_CMS!B186=\"\",\"\",Deviations_Op_Param_CMS!B186)","v":""},{"$f":"IF(Deviations_Op_Param_CMS!C186=\"\",\"\",Deviations_Op_Param_CMS!C186)","v":""},{"$f":"IF(Deviations_Op_Param_CMS!F186=\"\",\"\",Deviations_Op_Param_CMS!F186)","v":""},{"$f":"IF(Deviations_Op_Param_CMS!D186=\"\",\"\",Deviations_Op_Param_CMS!D186)","v":""},"",{"$f":"IF(COUNTIF(F$2:F165,F165)=1,F165,\"\")","v":""},"","","","",""]
[{"$f":"+IF(G166=\"\",\"\",MAX(A$1:A165)+1)","v":""},{"$f":"IF(Deviations_Op_Param_CMS!B187=\"\",\"\",Deviations_Op_Param_CMS!B187)","v":""},{"$f":"IF(Deviations_Op_Param_CMS!C187=\"\",\"\",Deviations_Op_Param_CMS!C187)","v":""},{"$f":"IF(Deviations_Op_Param_CMS!F187=\"\",\"\",Deviations_Op_Param_CMS!F187)","v":""},{"$f":"IF(Deviations_Op_Param_CMS!D187=\"\",\"\",Deviations_Op_Param_CMS!D187)","v":""},"",{"$f":"IF(COUNTIF(F$2:F166,F166)=1,F166,\"\")","v":""},"","","","",""]
[{"$f":"+IF(G167=\"\",\"\",MAX(A$1:A166)+1)","v":""},{"$f":"IF(Deviations_Op_Param_CMS!B188=\"\",\"\",Deviations_Op_Param_CMS!B188)","v":""},{"$f":"IF(Deviations_Op_Param_CMS!C188=\"\",\"\",Deviations_Op_Param_CMS!C188)","v":""},{"$f":"IF(Deviations_Op_Param_CMS!F188=\"\",\"\",Deviations_Op_Param_CMS!F188)","v":""},{"$f":"IF(Deviations_Op_Param_CMS!D188=\"\",\"\",Deviations_Op_Param_CMS!D188)","v":""},"",{"$f":"IF(COUNTIF(F$2:F167,F167)=1,F167,\"\")","v":""},"","","","",""]
[{"$f":"+IF(G168=\"\",\"\",MAX(A$1:A167)+1)","v":""},{"$f":"IF(Deviations_Op_Param_CMS!B189=\"\",\"\",Deviations_Op_Param_CMS!B189)","v":""},{"$f":"IF(Deviations_Op_Param_CMS!C189=\"\",\"\",Deviations_Op_Param_CMS!C189)","v":""},{"$f":"IF(Deviations_Op_Param_CMS!F189=\"\",\"\",Deviations_Op_Param_CMS!F189)","v":""},{"$f":"IF(Deviations_Op_Param_CMS!D189=\"\",\"\",Deviations_Op_Param_CMS!D189)","v":""},"",{"$f":"IF(COUNTIF(F$2:F168,F168)=1,F168,\"\")","v":""},"","","","",""]
[{"$f":"+IF(G169=\"\",\"\",MAX(A$1:A168)+1)","v":""},{"$f":"IF(Deviations_Op_Param_CMS!B190=\"\",\"\",Deviations_Op_Param_CMS!B190)","v":""},{"$f":"IF(Deviations_Op_Param_CMS!C190=\"\",\"\",Deviations_Op_Param_CMS!C190)","v":""},{"$f":"IF(Deviations_Op_Param_CMS!F190=\"\",\"\",Deviations_Op_Param_CMS!F190)","v":""},{"$f":"IF(Deviations_Op_Param_CMS!D190=\"\",\"\",Deviations_Op_Param_CMS!D190)","v":""},"",{"$f":"IF(COUNTIF(F$2:F169,F169)=1,F169,\"\")","v":""},"","","","",""]
[{"$f":"+IF(G170=\"\",\"\",MAX(A$1:A169)+1)","v":""},{"$f":"IF(Deviations_Op_Param_CMS!B191=\"\",\"\",Deviations_Op_Param_CMS!B191)","v":""},{"$f":"IF(Deviations_Op_Param_CMS!C191=\"\",\"\",Deviations_Op_Param_CMS!C191)","v":""},{"$f":"IF(Deviations_Op_Param_CMS!F191=\"\",\"\",Deviations_Op_Param_CMS!F191)","v":""},{"$f":"IF(Deviations_Op_Param_CMS!D191=\"\",\"\",Deviations_Op_Param_CMS!D191)","v":""},"",{"$f":"IF(COUNTIF(F$2:F170,F170)=1,F170,\"\")","v":""},"","","","",""]
[{"$f":"+IF(G171=\"\",\"\",MAX(A$1:A170)+1)","v":""},{"$f":"IF(Deviations_Op_Param_CMS!B192=\"\",\"\",Deviations_Op_Param_CMS!B192)","v":""},{"$f":"IF(Deviations_Op_Param_CMS!C192=\"\",\"\",Deviations_Op_Param_CMS!C192)","v":""},{"$f":"IF(Deviations_Op_Param_CMS!F192=\"\",\"\",Deviations_Op_Param_CMS!F192)","v":""},{"$f":"IF(Deviations_Op_Param_CMS!D192=\"\",\"\",Deviations_Op_Param_CMS!D192)","v":""},"",{"$f":"IF(COUNTIF(F$2:F171,F171)=1,F171,\"\")","v":""},"","","","",""]
[{"$f":"+IF(G172=\"\",\"\",MAX(A$1:A171)+1)","v":""},{"$f":"IF(Deviations_Op_Param_CMS!B193=\"\",\"\",Deviations_Op_Param_CMS!B193)","v":""},{"$f":"IF(Deviations_Op_Param_CMS!C193=\"\",\"\",Deviations_Op_Param_CMS!C193)","v":""},{"$f":"IF(Deviations_Op_Param_CMS!F193=\"\",\"\",Deviations_Op_Param_CMS!F193)","v":""},{"$f":"IF(Deviations_Op_Param_CMS!D193=\"\",\"\",Deviations_Op_Param_CMS!D193)","v":""},"",{"$f":"IF(COUNTIF(F$2:F172,F172)=1,F172,\"\")","v":""},"","","","",""]
[{"$f":"+IF(G173=\"\",\"\",MAX(A$1:A172)+1)","v":""},{"$f":"IF(Deviations_Op_Param_CMS!B194=\"\",\"\",Deviations_Op_Param_CMS!B194)","v":""},{"$f":"IF(Deviations_Op_Param_CMS!C194=\"\",\"\",Deviations_Op_Param_CMS!C194)","v":""},{"$f":"IF(Deviations_Op_Param_CMS!F194=\"\",\"\",Deviations_Op_Param_CMS!F194)","v":""},{"$f":"IF(Deviations_Op_Param_CMS!D194=\"\",\"\",Deviations_Op_Param_CMS!D194)","v":""},"",{"$f":"IF(COUNTIF(F$2:F173,F173)=1,F173,\"\")","v":""},"","","","",""]
[{"$f":"+IF(G174=\"\",\"\",MAX(A$1:A173)+1)","v":""},{"$f":"IF(Deviations_Op_Param_CMS!B195=\"\",\"\",Deviations_Op_Param_CMS!B195)","v":""},{"$f":"IF(Deviations_Op_Param_CMS!C195=\"\",\"\",Deviations_Op_Param_CMS!C195)","v":""},{"$f":"IF(Deviations_Op_Param_CMS!F195=\"\",\"\",Deviations_Op_Param_CMS!F195)","v":""},{"$f":"IF(Deviations_Op_Param_CMS!D195=\"\",\"\",Deviations_Op_Param_CMS!D195)","v":""},"",{"$f":"IF(COUNTIF(F$2:F174,F174)=1,F174,\"\")","v":""},"","","","",""]
[{"$f":"+IF(G175=\"\",\"\",MAX(A$1:A174)+1)","v":""},{"$f":"IF(Deviations_Op_Param_CMS!B196=\"\",\"\",Deviations_Op_Param_CMS!B196)","v":""},{"$f":"IF(Deviations_Op_Param_CMS!C196=\"\",\"\",Deviations_Op_Param_CMS!C196)","v":""},{"$f":"IF(Deviations_Op_Param_CMS!F196=\"\",\"\",Deviations_Op_Param_CMS!F196)","v":""},{"$f":"IF(Deviations_Op_Param_CMS!D196=\"\",\"\",Deviations_Op_Param_CMS!D196)","v":""},"",{"$f":"IF(COUNTIF(F$2:F175,F175)=1,F175,\"\")","v":""},"","","","",""]
[{"$f":"+IF(G176=\"\",\"\",MAX(A$1:A175)+1)","v":""},{"$f":"IF(Deviations_Op_Param_CMS!B197=\"\",\"\",Deviations_Op_Param_CMS!B197)","v":""},{"$f":"IF(Deviations_Op_Param_CMS!C197=\"\",\"\",Deviations_Op_Param_CMS!C197)","v":""},{"$f":"IF(Deviations_Op_Param_CMS!F197=\"\",\"\",Deviations_Op_Param_CMS!F197)","v":""},{"$f":"IF(Deviations_Op_Param_CMS!D197=\"\",\"\",Deviations_Op_Param_CMS!D197)","v":""},"",{"$f":"IF(COUNTIF(F$2:F176,F176)=1,F176,\"\")","v":""},"","","","",""]
[{"$f":"+IF(G177=\"\",\"\",MAX(A$1:A176)+1)","v":""},{"$f":"IF(Deviations_Op_Param_CMS!B198=\"\",\"\",Deviations_Op_Param_CMS!B198)","v":""},{"$f":"IF(Deviations_Op_Param_CMS!C198=\"\",\"\",Deviations_Op_Param_CMS!C198)","v":""},{"$f":"IF(Deviations_Op_Param_CMS!F198=\"\",\"\",Deviations_Op_Param_CMS!F198)","v":""},{"$f":"IF(Deviations_Op_Param_CMS!D198=\"\",\"\",Deviations_Op_Param_CMS!D198)","v":""},"",{"$f":"IF(COUNTIF(F$2:F177,F177)=1,F177,\"\")","v":""},"","","","",""]
[{"$f":"+IF(G178=\"\",\"\",MAX(A$1:A177)+1)","v":""},{"$f":"IF(Deviations_Op_Param_CMS!B199=\"\",\"\",Deviations_Op_Param_CMS!B199)","v":""},{"$f":"IF(Deviations_Op_Param_CMS!C199=\"\",\"\",Deviations_Op_Param_CMS!C199)","v":""},{"$f":"IF(Deviations_Op_Param_CMS!F199=\"\",\"\",Deviations_Op_Param_CMS!F199)","v":""},{"$f":"IF(Deviations_Op_Param_CMS!D199=\"\",\"\",Deviations_Op_Param_CMS!D199)","v":""},"",{"$f":"IF(COUNTIF(F$2:F178,F178)=1,F178,\"\")","v":""},"","","","",""]
[{"$f":"+IF(G179=\"\",\"\",MAX(A$1:A178)+1)","v":""},{"$f":"IF(Deviations_Op_Param_CMS!B200=\"\",\"\",Deviations_Op_Param_CMS!B200)","v":""},{"$f":"IF(Deviations_Op_Param_CMS!C200=\"\",\"\",Deviations_Op_Param_CMS!C200)","v":""},{"$f":"IF(Deviations_Op_Param_CMS!F200=\"\",\"\",Deviations_Op_Param_CMS!F200)","v":""},{"$f":"IF(Deviations_Op_Param_CMS!D200=\"\",\"\",Deviations_Op_Param_CMS!D200)","v":""},"",{"$f":"IF(COUNTIF(F$2:F179,F179)=1,F179,\"\")","v":""},"","","","",""]
[{"$f":"+IF(G180=\"\",\"\",MAX(A$1:A179)+1)","v":""},{"$f":"IF(Deviations_Op_Param_CMS!B201=\"\",\"\",Deviations_Op_Param_CMS!B201)","v":""},{"$f":"IF(Deviations_Op_Param_CMS!C201=\"\",\"\",Deviations_Op_Param_CMS!C201)","v":""},{"$f":"IF(Deviations_Op_Param_CMS!F201=\"\",\"\",Deviations_Op_Param_CMS!F201)","v":""},{"$f":"IF(Deviations_Op_Param_CMS!D201=\"\",\"\",Deviations_Op_Param_CMS!D201)","v":""},"",{"$f":"IF(COUNTIF(F$2:F180,F180)=1,F180,\"\")","v":""},"","","","",""]
[{"$f":"+IF(G181=\"\",\"\",MAX(A$1:A180)+1)","v":""},{"$f":"IF(Deviations_Op_Param_CMS!B202=\"\",\"\",Deviations_Op_Param_CMS!B202)","v":""},{"$f":"IF(Deviations_Op_Param_CMS!C202=\"\",\"\",Deviations_Op_Param_CMS!C202)","v":""},{"$f":"IF(Deviations_Op_Param_CMS!F202=\"\",\"\",Deviations_Op_Param_CMS!F202)","v":""},{"$f":"IF(Deviations_Op_Param_CMS!D202=\"\",\"\",Deviations_Op_Param_CMS!D202)","v":""},"",{"$f":"IF(COUNTIF(F$2:F181,F181)=1,F181,\"\")","v":""},"","","","",""]
[{"$f":"+IF(G182=\"\",\"\",MAX(A$1:A181)+1)","v":""},{"$f":"IF(Deviations_Op_Param_CMS!B203=\"\",\"\",Deviations_Op_Param_CMS!B203)","v":""},{"$f":"IF(Deviations_Op_Param_CMS!C203=\"\",\"\",Deviations_Op_Param_CMS!C203)","v":""},{"$f":"IF(Deviations_Op_Param_CMS!F203=\"\",\"\",Deviations_Op_Param_CMS!F203)","v":""},{"$f":"IF(Deviations_Op_Param_CMS!D203=\"\",\"\",Deviations_Op_Param_CMS!D203)","v":""},"",{"$f":"IF(COUNTIF(F$2:F182,F182)=1,F182,\"\")","v":""},"","","","",""]
[{"$f":"+IF(G183=\"\",\"\",MAX(A$1:A182)+1)","v":""},{"$f":"IF(Deviations_Op_Param_CMS!B204=\"\",\"\",Deviations_Op_Param_CMS!B204)","v":""},{"$f":"IF(Deviations_Op_Param_CMS!C204=\"\",\"\",Deviations_Op_Param_CMS!C204)","v":""},{"$f":"IF(Deviations_Op_Param_CMS!F204=\"\",\"\",Deviations_Op_Param_CMS!F204)","v":""},{"$f":"IF(Deviations_Op_Param_CMS!D204=\"\",\"\",Deviations_Op_Param_CMS!D204)","v":""},"",{"$f":"IF(COUNTIF(F$2:F183,F183)=1,F183,\"\")","v":""},"","","","",""]
[{"$f":"+IF(G184=\"\",\"\",MAX(A$1:A183)+1)","v":""},{"$f":"IF(Deviations_Op_Param_CMS!B205=\"\",\"\",Deviations_Op_Param_CMS!B205)","v":""},{"$f":"IF(Deviations_Op_Param_CMS!C205=\"\",\"\",Deviations_Op_Param_CMS!C205)","v":""},{"$f":"IF(Deviations_Op_Param_CMS!F205=\"\",\"\",Deviations_Op_Param_CMS!F205)","v":""},{"$f":"IF(Deviations_Op_Param_CMS!D205=\"\",\"\",Deviations_Op_Param_CMS!D205)","v":""},"",{"$f":"IF(COUNTIF(F$2:F184,F184)=1,F184,\"\")","v":""},"","","","",""]
[{"$f":"+IF(G185=\"\",\"\",MAX(A$1:A184)+1)","v":""},{"$f":"IF(Deviations_Op_Param_CMS!B206=\"\",\"\",Deviations_Op_Param_CMS!B206)","v":""},{"$f":"IF(Deviations_Op_Param_CMS!C206=\"\",\"\",Deviations_Op_Param_CMS!C206)","v":""},{"$f":"IF(Deviations_Op_Param_CMS!F206=\"\",\"\",Deviations_Op_Param_CMS!F206)","v":""},{"$f":"IF(Deviations_Op_Param_CMS!D206=\"\",\"\",Deviations_Op_Param_CMS!D206)","v":""},"",{"$f":"IF(COUNTIF(F$2:F185,F185)=1,F185,\"\")","v":""},"","","","",""]
[{"$f":"+IF(G186=\"\",\"\",MAX(A$1:A185)+1)","v":""},{"$f":"IF(Deviations_Op_Param_CMS!B207=\"\",\"\",Deviations_Op_Param_CMS!B207)","v":""},{"$f":"IF(Deviations_Op_Param_CMS!C207=\"\",\"\",Deviations_Op_Param_CMS!C207)","v":""},{"$f":"IF(Deviations_Op_Param_CMS!F207=\"\",\"\",Deviations_Op_Param_CMS!F207)","v":""},{"$f":"IF(Deviations_Op_Param_CMS!D207=\"\",\"\",Deviations_Op_Param_CMS!D207)","v":""},"",{"$f":"IF(COUNTIF(F$2:F186,F186)=1,F186,\"\")","v":""},"","","","",""]
[{"$f":"+IF(G187=\"\",\"\",MAX(A$1:A186)+1)","v":""},{"$f":"IF(Deviations_Op_Param_CMS!B208=\"\",\"\",Deviations_Op_Param_CMS!B208)","v":""},{"$f":"IF(Deviations_Op_Param_CMS!C208=\"\",\"\",Deviations_Op_Param_CMS!C208)","v":""},{"$f":"IF(Deviations_Op_Param_CMS!F208=\"\",\"\",Deviations_Op_Param_CMS!F208)","v":""},{"$f":"IF(Deviations_Op_Param_CMS!D208=\"\",\"\",Deviations_Op_Param_CMS!D208)","v":""},"",{"$f":"IF(COUNTIF(F$2:F187,F187)=1,F187,\"\")","v":""},"","","","",""]
[{"$f":"+IF(G188=\"\",\"\",MAX(A$1:A187)+1)","v":""},{"$f":"IF(Deviations_Op_Param_CMS!B209=\"\",\"\",Deviations_Op_Param_CMS!B209)","v":""},{"$f":"IF(Deviations_Op_Param_CMS!C209=\"\",\"\",Deviations_Op_Param_CMS!C209)","v":""},{"$f":"IF(Deviations_Op_Param_CMS!F209=\"\",\"\",Deviations_Op_Param_CMS!F209)","v":""},{"$f":"IF(Deviations_Op_Param_CMS!D209=\"\",\"\",Deviations_Op_Param_CMS!D209)","v":""},"",{"$f":"IF(COUNTIF(F$2:F188,F188)=1,F188,\"\")","v":""},"","","","",""]
[{"$f":"+IF(G189=\"\",\"\",MAX(A$1:A188)+1)","v":""},{"$f":"IF(Deviations_Op_Param_CMS!B210=\"\",\"\",Deviations_Op_Param_CMS!B210)","v":""},{"$f":"IF(Deviations_Op_Param_CMS!C210=\"\",\"\",Deviations_Op_Param_CMS!C210)","v":""},{"$f":"IF(Deviations_Op_Param_CMS!F210=\"\",\"\",Deviations_Op_Param_CMS!F210)","v":""},{"$f":"IF(Deviations_Op_Param_CMS!D210=\"\",\"\",Deviations_Op_Param_CMS!D210)","v":""},"",{"$f":"IF(COUNTIF(F$2:F189,F189)=1,F189,\"\")","v":""},"","","","",""]
[{"$f":"+IF(G190=\"\",\"\",MAX(A$1:A189)+1)","v":""},{"$f":"IF(Deviations_Op_Param_CMS!B211=\"\",\"\",Deviations_Op_Param_CMS!B211)","v":""},{"$f":"IF(Deviations_Op_Param_CMS!C211=\"\",\"\",Deviations_Op_Param_CMS!C211)","v":""},{"$f":"IF(Deviations_Op_Param_CMS!F211=\"\",\"\",Deviations_Op_Param_CMS!F211)","v":""},{"$f":"IF(Deviations_Op_Param_CMS!D211=\"\",\"\",Deviations_Op_Param_CMS!D211)","v":""},"",{"$f":"IF(COUNTIF(F$2:F190,F190)=1,F190,\"\")","v":""},"","","","",""]
[{"$f":"+IF(G191=\"\",\"\",MAX(A$1:A190)+1)","v":""},{"$f":"IF(Deviations_Op_Param_CMS!B212=\"\",\"\",Deviations_Op_Param_CMS!B212)","v":""},{"$f":"IF(Deviations_Op_Param_CMS!C212=\"\",\"\",Deviations_Op_Param_CMS!C212)","v":""},{"$f":"IF(Deviations_Op_Param_CMS!F212=\"\",\"\",Deviations_Op_Param_CMS!F212)","v":""},{"$f":"IF(Deviations_Op_Param_CMS!D212=\"\",\"\",Deviations_Op_Param_CMS!D212)","v":""},"",{"$f":"IF(COUNTIF(F$2:F191,F191)=1,F191,\"\")","v":""},"","","","",""]
[{"$f":"+IF(G192=\"\",\"\",MAX(A$1:A191)+1)","v":""},{"$f":"IF(Deviations_Op_Param_CMS!B213=\"\",\"\",Deviations_Op_Param_CMS!B213)","v":""},{"$f":"IF(Deviations_Op_Param_CMS!C213=\"\",\"\",Deviations_Op_Param_CMS!C213)","v":""},{"$f":"IF(Deviations_Op_Param_CMS!F213=\"\",\"\",Deviations_Op_Param_CMS!F213)","v":""},{"$f":"IF(Deviations_Op_Param_CMS!D213=\"\",\"\",Deviations_Op_Param_CMS!D213)","v":""},"",{"$f":"IF(COUNTIF(F$2:F192,F192)=1,F192,\"\")","v":""},"","","","",""]
[{"$f":"+IF(G193=\"\",\"\",MAX(A$1:A192)+1)","v":""},{"$f":"IF(Deviations_Op_Param_CMS!B214=\"\",\"\",Deviations_Op_Param_CMS!B214)","v":""},{"$f":"IF(Deviations_Op_Param_CMS!C214=\"\",\"\",Deviations_Op_Param_CMS!C214)","v":""},{"$f":"IF(Deviations_Op_Param_CMS!F214=\"\",\"\",Deviations_Op_Param_CMS!F214)","v":""},{"$f":"IF(Deviations_Op_Param_CMS!D214=\"\",\"\",Deviations_Op_Param_CMS!D214)","v":""},"",{"$f":"IF(COUNTIF(F$2:F193,F193)=1,F193,\"\")","v":""},"","","","",""]
[{"$f":"+IF(G194=\"\",\"\",MAX(A$1:A193)+1)","v":""},{"$f":"IF(Deviations_Op_Param_CMS!B215=\"\",\"\",Deviations_Op_Param_CMS!B215)","v":""},{"$f":"IF(Deviations_Op_Param_CMS!C215=\"\",\"\",Deviations_Op_Param_CMS!C215)","v":""},{"$f":"IF(Deviations_Op_Param_CMS!F215=\"\",\"\",Deviations_Op_Param_CMS!F215)","v":""},{"$f":"IF(Deviations_Op_Param_CMS!D215=\"\",\"\",Deviations_Op_Param_CMS!D215)","v":""},"",{"$f":"IF(COUNTIF(F$2:F194,F194)=1,F194,\"\")","v":""},"","","","",""]
[{"$f":"+IF(G195=\"\",\"\",MAX(A$1:A194)+1)","v":""},{"$f":"IF(Deviations_Op_Param_CMS!B216=\"\",\"\",Deviations_Op_Param_CMS!B216)","v":""},{"$f":"IF(Deviations_Op_Param_CMS!C216=\"\",\"\",Deviations_Op_Param_CMS!C216)","v":""},{"$f":"IF(Deviations_Op_Param_CMS!F216=\"\",\"\",Deviations_Op_Param_CMS!F216)","v":""},{"$f":"IF(Deviations_Op_Param_CMS!D216=\"\",\"\",Deviations_Op_Param_CMS!D216)","v":""},"",{"$f":"IF(COUNTIF(F$2:F195,F195)=1,F195,\"\")","v":""},{"$f":"+IFERROR(INDEX($G$3:$G$499,MATCH(ROW()-ROW($H$2),$A$3:$A$499,0)),\"\")","v":""},{"$f":"+IFERROR(INDEX($B$3:$B$499,MATCH(ROW()-ROW($H$2),$A$3:$A$499,0)),\"\")","v":""},{"$f":"+IFERROR(INDEX($C$3:$C$499,MATCH(ROW()-ROW($H$2),$A$3:$A$499,0)),\"\")","v":""},"",""]
[{"$f":"+IF(G196=\"\",\"\",MAX(A$1:A195)+1)","v":""},{"$f":"IF(Deviations_Op_Param_CMS!B217=\"\",\"\",Deviations_Op_Param_CMS!B217)","v":""},{"$f":"IF(Deviations_Op_Param_CMS!C217=\"\",\"\",Deviations_Op_Param_CMS!C217)","v":""},{"$f":"IF(Deviations_Op_Param_CMS!F217=\"\",\"\",Deviations_Op_Param_CMS!F217)","v":""},{"$f":"IF(Deviations_Op_Param_CMS!D217=\"\",\"\",Deviations_Op_Param_CMS!D217)","v":""},{"$f":"IF(E196=\"\",\"\",B196&\"-\"&C196&\"-\"&D196)","v":""},{"$f":"IF(COUNTIF(F$2:F196,F196)=1,F196,\"\")","v":""},"","","",{"$f":"+IFERROR(INDEX($C$3:$C$499,MATCH(ROW()-ROW($H$2),$A$3:$A$499,0)),\"\")","v":""},{"$f":"+IFERROR(INDEX($E$3:$E$499,MATCH(ROW()-ROW($H$2),$A$3:$A$499,0)),\"\")","v":""}]
[{"$f":"+IF(G197=\"\",\"\",MAX(A$1:A196)+1)","v":""},{"$f":"IF(Deviations_Op_Param_CMS!B218=\"\",\"\",Deviations_Op_Param_CMS!B218)","v":""},{"$f":"IF(Deviations_Op_Param_CMS!C218=\"\",\"\",Deviations_Op_Param_CMS!C218)","v":""},{"$f":"IF(Deviations_Op_Param_CMS!F218=\"\",\"\",Deviations_Op_Param_CMS!F218)","v":""},{"$f":"IF(Deviations_Op_Param_CMS!D218=\"\",\"\",Deviations_Op_Param_CMS!D218)","v":""},"",{"$f":"IF(COUNTIF(F$2:F197,F197)=1,F197,\"\")","v":""},"","","","",""]
[{"$f":"+IF(G198=\"\",\"\",MAX(A$1:A197)+1)","v":""},{"$f":"IF(Deviations_Op_Param_CMS!B219=\"\",\"\",Deviations_Op_Param_CMS!B219)","v":""},{"$f":"IF(Deviations_Op_Param_CMS!C219=\"\",\"\",Deviations_Op_Param_CMS!C219)","v":""},{"$f":"IF(Deviations_Op_Param_CMS!F219=\"\",\"\",Deviations_Op_Param_CMS!F219)","v":""},{"$f":"IF(Deviations_Op_Param_CMS!D219=\"\",\"\",Deviations_Op_Param_CMS!D219)","v":""},"",{"$f":"IF(COUNTIF(F$2:F198,F198)=1,F198,\"\")","v":""},"","","","",""]
[{"$f":"+IF(G199=\"\",\"\",MAX(A$1:A198)+1)","v":""},{"$f":"IF(Deviations_Op_Param_CMS!B220=\"\",\"\",Deviations_Op_Param_CMS!B220)","v":""},{"$f":"IF(Deviations_Op_Param_CMS!C220=\"\",\"\",Deviations_Op_Param_CMS!C220)","v":""},{"$f":"IF(Deviations_Op_Param_CMS!F220=\"\",\"\",Deviations_Op_Param_CMS!F220)","v":""},{"$f":"IF(Deviations_Op_Param_CMS!D220=\"\",\"\",Deviations_Op_Param_CMS!D220)","v":""},"",{"$f":"IF(COUNTIF(F$2:F199,F199)=1,F199,\"\")","v":""},"","","","",""]
[{"$f":"+IF(G200=\"\",\"\",MAX(A$1:A199)+1)","v":""},{"$f":"IF(Deviations_Op_Param_CMS!B221=\"\",\"\",Deviations_Op_Param_CMS!B221)","v":""},{"$f":"IF(Deviations_Op_Param_CMS!C221=\"\",\"\",Deviations_Op_Param_CMS!C221)","v":""},{"$f":"IF(Deviations_Op_Param_CMS!F221=\"\",\"\",Deviations_Op_Param_CMS!F221)","v":""},{"$f":"IF(Deviations_Op_Param_CMS!D221=\"\",\"\",Deviations_Op_Param_CMS!D221)","v":""},"",{"$f":"IF(COUNTIF(F$2:F200,F200)=1,F200,\"\")","v":""},"","","","",""]
[{"$f":"+IF(G201=\"\",\"\",MAX(A$1:A200)+1)","v":""},{"$f":"IF(Deviations_Op_Param_CMS!B222=\"\",\"\",Deviations_Op_Param_CMS!B222)","v":""},{"$f":"IF(Deviations_Op_Param_CMS!C222=\"\",\"\",Deviations_Op_Param_CMS!C222)","v":""},{"$f":"IF(Deviations_Op_Param_CMS!F222=\"\",\"\",Deviations_Op_Param_CMS!F222)","v":""},{"$f":"IF(Deviations_Op_Param_CMS!D222=\"\",\"\",Deviations_Op_Param_CMS!D222)","v":""},"",{"$f":"IF(COUNTIF(F$2:F201,F201)=1,F201,\"\")","v":""},"","","","",""]
[{"$f":"+IF(G202=\"\",\"\",MAX(A$1:A201)+1)","v":""},{"$f":"IF(Deviations_Op_Param_CMS!B223=\"\",\"\",Deviations_Op_Param_CMS!B223)","v":""},{"$f":"IF(Deviations_Op_Param_CMS!C223=\"\",\"\",Deviations_Op_Param_CMS!C223)","v":""},{"$f":"IF(Deviations_Op_Param_CMS!F223=\"\",\"\",Deviations_Op_Param_CMS!F223)","v":""},{"$f":"IF(Deviations_Op_Param_CMS!D223=\"\",\"\",Deviations_Op_Param_CMS!D223)","v":""},"",{"$f":"IF(COUNTIF(F$2:F202,F202)=1,F202,\"\")","v":""},"","","","",""]
[{"$f":"+IF(G203=\"\",\"\",MAX(A$1:A202)+1)","v":""},{"$f":"IF(Deviations_Op_Param_CMS!B224=\"\",\"\",Deviations_Op_Param_CMS!B224)","v":""},{"$f":"IF(Deviations_Op_Param_CMS!C224=\"\",\"\",Deviations_Op_Param_CMS!C224)","v":""},{"$f":"IF(Deviations_Op_Param_CMS!F224=\"\",\"\",Deviations_Op_Param_CMS!F224)","v":""},{"$f":"IF(Deviations_Op_Param_CMS!D224=\"\",\"\",Deviations_Op_Param_CMS!D224)","v":""},"",{"$f":"IF(COUNTIF(F$2:F203,F203)=1,F203,\"\")","v":""},"","","","",""]
[{"$f":"+IF(G204=\"\",\"\",MAX(A$1:A203)+1)","v":""},{"$f":"IF(Deviations_Op_Param_CMS!B225=\"\",\"\",Deviations_Op_Param_CMS!B225)","v":""},{"$f":"IF(Deviations_Op_Param_CMS!C225=\"\",\"\",Deviations_Op_Param_CMS!C225)","v":""},{"$f":"IF(Deviations_Op_Param_CMS!F225=\"\",\"\",Deviations_Op_Param_CMS!F225)","v":""},{"$f":"IF(Deviations_Op_Param_CMS!D225=\"\",\"\",Deviations_Op_Param_CMS!D225)","v":""},"",{"$f":"IF(COUNTIF(F$2:F204,F204)=1,F204,\"\")","v":""},"","","","",""]
[{"$f":"+IF(G205=\"\",\"\",MAX(A$1:A204)+1)","v":""},{"$f":"IF(Deviations_Op_Param_CMS!B226=\"\",\"\",Deviations_Op_Param_CMS!B226)","v":""},{"$f":"IF(Deviations_Op_Param_CMS!C226=\"\",\"\",Deviations_Op_Param_CMS!C226)","v":""},{"$f":"IF(Deviations_Op_Param_CMS!F226=\"\",\"\",Deviations_Op_Param_CMS!F226)","v":""},{"$f":"IF(Deviations_Op_Param_CMS!D226=\"\",\"\",Deviations_Op_Param_CMS!D226)","v":""},"",{"$f":"IF(COUNTIF(F$2:F205,F205)=1,F205,\"\")","v":""},"","","","",""]
[{"$f":"+IF(G206=\"\",\"\",MAX(A$1:A205)+1)","v":""},{"$f":"IF(Deviations_Op_Param_CMS!B227=\"\",\"\",Deviations_Op_Param_CMS!B227)","v":""},{"$f":"IF(Deviations_Op_Param_CMS!C227=\"\",\"\",Deviations_Op_Param_CMS!C227)","v":""},{"$f":"IF(Deviations_Op_Param_CMS!F227=\"\",\"\",Deviations_Op_Param_CMS!F227)","v":""},{"$f":"IF(Deviations_Op_Param_CMS!D227=\"\",\"\",Deviations_Op_Param_CMS!D227)","v":""},"",{"$f":"IF(COUNTIF(F$2:F206,F206)=1,F206,\"\")","v":""},"","","","",""]
[{"$f":"+IF(G207=\"\",\"\",MAX(A$1:A206)+1)","v":""},{"$f":"IF(Deviations_Op_Param_CMS!B228=\"\",\"\",Deviations_Op_Param_CMS!B228)","v":""},{"$f":"IF(Deviations_Op_Param_CMS!C228=\"\",\"\",Deviations_Op_Param_CMS!C228)","v":""},{"$f":"IF(Deviations_Op_Param_CMS!F228=\"\",\"\",Deviations_Op_Param_CMS!F228)","v":""},{"$f":"IF(Deviations_Op_Param_CMS!D228=\"\",\"\",Deviations_Op_Param_CMS!D228)","v":""},"",{"$f":"IF(COUNTIF(F$2:F207,F207)=1,F207,\"\")","v":""},"","","","",""]
[{"$f":"+IF(G208=\"\",\"\",MAX(A$1:A207)+1)","v":""},{"$f":"IF(Deviations_Op_Param_CMS!B229=\"\",\"\",Deviations_Op_Param_CMS!B229)","v":""},{"$f":"IF(Deviations_Op_Param_CMS!C229=\"\",\"\",Deviations_Op_Param_CMS!C229)","v":""},{"$f":"IF(Deviations_Op_Param_CMS!F229=\"\",\"\",Deviations_Op_Param_CMS!F229)","v":""},{"$f":"IF(Deviations_Op_Param_CMS!D229=\"\",\"\",Deviations_Op_Param_CMS!D229)","v":""},"",{"$f":"IF(COUNTIF(F$2:F208,F208)=1,F208,\"\")","v":""},"","","","",""]
[{"$f":"+IF(G209=\"\",\"\",MAX(A$1:A208)+1)","v":""},{"$f":"IF(Deviations_Op_Param_CMS!B230=\"\",\"\",Deviations_Op_Param_CMS!B230)","v":""},{"$f":"IF(Deviations_Op_Param_CMS!C230=\"\",\"\",Deviations_Op_Param_CMS!C230)","v":""},{"$f":"IF(Deviations_Op_Param_CMS!F230=\"\",\"\",Deviations_Op_Param_CMS!F230)","v":""},{"$f":"IF(Deviations_Op_Param_CMS!D230=\"\",\"\",Deviations_Op_Param_CMS!D230)","v":""},"",{"$f":"IF(COUNTIF(F$2:F209,F209)=1,F209,\"\")","v":""},"","","","",""]
[{"$f":"+IF(G210=\"\",\"\",MAX(A$1:A209)+1)","v":""},{"$f":"IF(Deviations_Op_Param_CMS!B231=\"\",\"\",Deviations_Op_Param_CMS!B231)","v":""},{"$f":"IF(Deviations_Op_Param_CMS!C231=\"\",\"\",Deviations_Op_Param_CMS!C231)","v":""},{"$f":"IF(Deviations_Op_Param_CMS!F231=\"\",\"\",Deviations_Op_Param_CMS!F231)","v":""},{"$f":"IF(Deviations_Op_Param_CMS!D231=\"\",\"\",Deviations_Op_Param_CMS!D231)","v":""},"",{"$f":"IF(COUNTIF(F$2:F210,F210)=1,F210,\"\")","v":""},"","","","",""]
[{"$f":"+IF(G211=\"\",\"\",MAX(A$1:A210)+1)","v":""},{"$f":"IF(Deviations_Op_Param_CMS!B232=\"\",\"\",Deviations_Op_Param_CMS!B232)","v":""},{"$f":"IF(Deviations_Op_Param_CMS!C232=\"\",\"\",Deviations_Op_Param_CMS!C232)","v":""},{"$f":"IF(Deviations_Op_Param_CMS!F232=\"\",\"\",Deviations_Op_Param_CMS!F232)","v":""},{"$f":"IF(Deviations_Op_Param_CMS!D232=\"\",\"\",Deviations_Op_Param_CMS!D232)","v":""},"",{"$f":"IF(COUNTIF(F$2:F211,F211)=1,F211,\"\")","v":""},"","","","",""]
[{"$f":"+IF(G212=\"\",\"\",MAX(A$1:A211)+1)","v":""},{"$f":"IF(Deviations_Op_Param_CMS!B233=\"\",\"\",Deviations_Op_Param_CMS!B233)","v":""},{"$f":"IF(Deviations_Op_Param_CMS!C233=\"\",\"\",Deviations_Op_Param_CMS!C233)","v":""},{"$f":"IF(Deviations_Op_Param_CMS!F233=\"\",\"\",Deviations_Op_Param_CMS!F233)","v":""},{"$f":"IF(Deviations_Op_Param_CMS!D233=\"\",\"\",Deviations_Op_Param_CMS!D233)","v":""},"",{"$f":"IF(COUNTIF(F$2:F212,F212)=1,F212,\"\")","v":""},"","","","",""]
[{"$f":"+IF(G213=\"\",\"\",MAX(A$1:A212)+1)","v":""},{"$f":"IF(Deviations_Op_Param_CMS!B234=\"\",\"\",Deviations_Op_Param_CMS!B234)","v":""},{"$f":"IF(Deviations_Op_Param_CMS!C234=\"\",\"\",Deviations_Op_Param_CMS!C234)","v":""},{"$f":"IF(Deviations_Op_Param_CMS!F234=\"\",\"\",Deviations_Op_Param_CMS!F234)","v":""},{"$f":"IF(Deviations_Op_Param_CMS!D234=\"\",\"\",Deviations_Op_Param_CMS!D234)","v":""},"",{"$f":"IF(COUNTIF(F$2:F213,F213)=1,F213,\"\")","v":""},"","","","",""]
[{"$f":"+IF(G214=\"\",\"\",MAX(A$1:A213)+1)","v":""},{"$f":"IF(Deviations_Op_Param_CMS!B235=\"\",\"\",Deviations_Op_Param_CMS!B235)","v":""},{"$f":"IF(Deviations_Op_Param_CMS!C235=\"\",\"\",Deviations_Op_Param_CMS!C235)","v":""},{"$f":"IF(Deviations_Op_Param_CMS!F235=\"\",\"\",Deviations_Op_Param_CMS!F235)","v":""},{"$f":"IF(Deviations_Op_Param_CMS!D235=\"\",\"\",Deviations_Op_Param_CMS!D235)","v":""},"",{"$f":"IF(COUNTIF(F$2:F214,F214)=1,F214,\"\")","v":""},"","","","",""]
[{"$f":"+IF(G215=\"\",\"\",MAX(A$1:A214)+1)","v":""},{"$f":"IF(Deviations_Op_Param_CMS!B236=\"\",\"\",Deviations_Op_Param_CMS!B236)","v":""},{"$f":"IF(Deviations_Op_Param_CMS!C236=\"\",\"\",Deviations_Op_Param_CMS!C236)","v":""},{"$f":"IF(Deviations_Op_Param_CMS!F236=\"\",\"\",Deviations_Op_Param_CMS!F236)","v":""},{"$f":"IF(Deviations_Op_Param_CMS!D236=\"\",\"\",Deviations_Op_Param_CMS!D236)","v":""},"",{"$f":"IF(COUNTIF(F$2:F215,F215)=1,F215,\"\")","v":""},"","","","",""]
[{"$f":"+IF(G216=\"\",\"\",MAX(A$1:A215)+1)","v":""},{"$f":"IF(Deviations_Op_Param_CMS!B237=\"\",\"\",Deviations_Op_Param_CMS!B237)","v":""},{"$f":"IF(Deviations_Op_Param_CMS!C237=\"\",\"\",Deviations_Op_Param_CMS!C237)","v":""},{"$f":"IF(Deviations_Op_Param_CMS!F237=\"\",\"\",Deviations_Op_Param_CMS!F237)","v":""},{"$f":"IF(Deviations_Op_Param_CMS!D237=\"\",\"\",Deviations_Op_Param_CMS!D237)","v":""},"",{"$f":"IF(COUNTIF(F$2:F216,F216)=1,F216,\"\")","v":""},"","","","",""]
[{"$f":"+IF(G217=\"\",\"\",MAX(A$1:A216)+1)","v":""},{"$f":"IF(Deviations_Op_Param_CMS!B238=\"\",\"\",Deviations_Op_Param_CMS!B238)","v":""},{"$f":"IF(Deviations_Op_Param_CMS!C238=\"\",\"\",Deviations_Op_Param_CMS!C238)","v":""},{"$f":"IF(Deviations_Op_Param_CMS!F238=\"\",\"\",Deviations_Op_Param_CMS!F238)","v":""},{"$f":"IF(Deviations_Op_Param_CMS!D238=\"\",\"\",Deviations_Op_Param_CMS!D238)","v":""},"",{"$f":"IF(COUNTIF(F$2:F217,F217)=1,F217,\"\")","v":""},"","","","",""]
[{"$f":"+IF(G218=\"\",\"\",MAX(A$1:A217)+1)","v":""},{"$f":"IF(Deviations_Op_Param_CMS!B239=\"\",\"\",Deviations_Op_Param_CMS!B239)","v":""},{"$f":"IF(Deviations_Op_Param_CMS!C239=\"\",\"\",Deviations_Op_Param_CMS!C239)","v":""},{"$f":"IF(Deviations_Op_Param_CMS!F239=\"\",\"\",Deviations_Op_Param_CMS!F239)","v":""},{"$f":"IF(Deviations_Op_Param_CMS!D239=\"\",\"\",Deviations_Op_Param_CMS!D239)","v":""},"",{"$f":"IF(COUNTIF(F$2:F218,F218)=1,F218,\"\")","v":""},"","","","",""]
[{"$f":"+IF(G219=\"\",\"\",MAX(A$1:A218)+1)","v":""},{"$f":"IF(Deviations_Op_Param_CMS!B240=\"\",\"\",Deviations_Op_Param_CMS!B240)","v":""},{"$f":"IF(Deviations_Op_Param_CMS!C240=\"\",\"\",Deviations_Op_Param_CMS!C240)","v":""},{"$f":"IF(Deviations_Op_Param_CMS!F240=\"\",\"\",Deviations_Op_Param_CMS!F240)","v":""},{"$f":"IF(Deviations_Op_Param_CMS!D240=\"\",\"\",Deviations_Op_Param_CMS!D240)","v":""},"",{"$f":"IF(COUNTIF(F$2:F219,F219)=1,F219,\"\")","v":""},"","","","",""]
[{"$f":"+IF(G220=\"\",\"\",MAX(A$1:A219)+1)","v":""},{"$f":"IF(Deviations_Op_Param_CMS!B241=\"\",\"\",Deviations_Op_Param_CMS!B241)","v":""},{"$f":"IF(Deviations_Op_Param_CMS!C241=\"\",\"\",Deviations_Op_Param_CMS!C241)","v":""},{"$f":"IF(Deviations_Op_Param_CMS!F241=\"\",\"\",Deviations_Op_Param_CMS!F241)","v":""},{"$f":"IF(Deviations_Op_Param_CMS!D241=\"\",\"\",Deviations_Op_Param_CMS!D241)","v":""},"",{"$f":"IF(COUNTIF(F$2:F220,F220)=1,F220,\"\")","v":""},"","","","",""]
[{"$f":"+IF(G221=\"\",\"\",MAX(A$1:A220)+1)","v":""},{"$f":"IF(Deviations_Op_Param_CMS!B242=\"\",\"\",Deviations_Op_Param_CMS!B242)","v":""},{"$f":"IF(Deviations_Op_Param_CMS!C242=\"\",\"\",Deviations_Op_Param_CMS!C242)","v":""},{"$f":"IF(Deviations_Op_Param_CMS!F242=\"\",\"\",Deviations_Op_Param_CMS!F242)","v":""},{"$f":"IF(Deviations_Op_Param_CMS!D242=\"\",\"\",Deviations_Op_Param_CMS!D242)","v":""},"",{"$f":"IF(COUNTIF(F$2:F221,F221)=1,F221,\"\")","v":""},"","","","",""]
[{"$f":"+IF(G222=\"\",\"\",MAX(A$1:A221)+1)","v":""},{"$f":"IF(Deviations_Op_Param_CMS!B243=\"\",\"\",Deviations_Op_Param_CMS!B243)","v":""},{"$f":"IF(Deviations_Op_Param_CMS!C243=\"\",\"\",Deviations_Op_Param_CMS!C243)","v":""},{"$f":"IF(Deviations_Op_Param_CMS!F243=\"\",\"\",Deviations_Op_Param_CMS!F243)","v":""},{"$f":"IF(Deviations_Op_Param_CMS!D243=\"\",\"\",Deviations_Op_Param_CMS!D243)","v":""},"",{"$f":"IF(COUNTIF(F$2:F222,F222)=1,F222,\"\")","v":""},"","","","",""]
[{"$f":"+IF(G223=\"\",\"\",MAX(A$1:A222)+1)","v":""},{"$f":"IF(Deviations_Op_Param_CMS!B244=\"\",\"\",Deviations_Op_Param_CMS!B244)","v":""},{"$f":"IF(Deviations_Op_Param_CMS!C244=\"\",\"\",Deviations_Op_Param_CMS!C244)","v":""},{"$f":"IF(Deviations_Op_Param_CMS!F244=\"\",\"\",Deviations_Op_Param_CMS!F244)","v":""},{"$f":"IF(Deviations_Op_Param_CMS!D244=\"\",\"\",Deviations_Op_Param_CMS!D244)","v":""},"",{"$f":"IF(COUNTIF(F$2:F223,F223)=1,F223,\"\")","v":""},"","","","",""]
[{"$f":"+IF(G224=\"\",\"\",MAX(A$1:A223)+1)","v":""},{"$f":"IF(Deviations_Op_Param_CMS!B245=\"\",\"\",Deviations_Op_Param_CMS!B245)","v":""},{"$f":"IF(Deviations_Op_Param_CMS!C245=\"\",\"\",Deviations_Op_Param_CMS!C245)","v":""},{"$f":"IF(Deviations_Op_Param_CMS!F245=\"\",\"\",Deviations_Op_Param_CMS!F245)","v":""},{"$f":"IF(Deviations_Op_Param_CMS!D245=\"\",\"\",Deviations_Op_Param_CMS!D245)","v":""},"",{"$f":"IF(COUNTIF(F$2:F224,F224)=1,F224,\"\")","v":""},"","","","",""]
[{"$f":"+IF(G225=\"\",\"\",MAX(A$1:A224)+1)","v":""},{"$f":"IF(Deviations_Op_Param_CMS!B246=\"\",\"\",Deviations_Op_Param_CMS!B246)","v":""},{"$f":"IF(Deviations_Op_Param_CMS!C246=\"\",\"\",Deviations_Op_Param_CMS!C246)","v":""},{"$f":"IF(Deviations_Op_Param_CMS!F246=\"\",\"\",Deviations_Op_Param_CMS!F246)","v":""},{"$f":"IF(Deviations_Op_Param_CMS!D246=\"\",\"\",Deviations_Op_Param_CMS!D246)","v":""},"",{"$f":"IF(COUNTIF(F$2:F225,F225)=1,F225,\"\")","v":""},"","","","",""]
[{"$f":"+IF(G226=\"\",\"\",MAX(A$1:A225)+1)","v":""},{"$f":"IF(Deviations_Op_Param_CMS!B247=\"\",\"\",Deviations_Op_Param_CMS!B247)","v":""},{"$f":"IF(Deviations_Op_Param_CMS!C247=\"\",\"\",Deviations_Op_Param_CMS!C247)","v":""},{"$f":"IF(Deviations_Op_Param_CMS!F247=\"\",\"\",Deviations_Op_Param_CMS!F247)","v":""},{"$f":"IF(Deviations_Op_Param_CMS!D247=\"\",\"\",Deviations_Op_Param_CMS!D247)","v":""},"",{"$f":"IF(COUNTIF(F$2:F226,F226)=1,F226,\"\")","v":""},"","","","",""]
[{"$f":"+IF(G227=\"\",\"\",MAX(A$1:A226)+1)","v":""},{"$f":"IF(Deviations_Op_Param_CMS!B248=\"\",\"\",Deviations_Op_Param_CMS!B248)","v":""},{"$f":"IF(Deviations_Op_Param_CMS!C248=\"\",\"\",Deviations_Op_Param_CMS!C248)","v":""},{"$f":"IF(Deviations_Op_Param_CMS!F248=\"\",\"\",Deviations_Op_Param_CMS!F248)","v":""},{"$f":"IF(Deviations_Op_Param_CMS!D248=\"\",\"\",Deviations_Op_Param_CMS!D248)","v":""},"",{"$f":"IF(COUNTIF(F$2:F227,F227)=1,F227,\"\")","v":""},"","","","",""]
[{"$f":"+IF(G228=\"\",\"\",MAX(A$1:A227)+1)","v":""},{"$f":"IF(Deviations_Op_Param_CMS!B249=\"\",\"\",Deviations_Op_Param_CMS!B249)","v":""},{"$f":"IF(Deviations_Op_Param_CMS!C249=\"\",\"\",Deviations_Op_Param_CMS!C249)","v":""},{"$f":"IF(Deviations_Op_Param_CMS!F249=\"\",\"\",Deviations_Op_Param_CMS!F249)","v":""},{"$f":"IF(Deviations_Op_Param_CMS!D249=\"\",\"\",Deviations_Op_Param_CMS!D249)","v":""},"",{"$f":"IF(COUNTIF(F$2:F228,F228)=1,F228,\"\")","v":""},"","","","",""]
[{"$f":"+IF(G229=\"\",\"\",MAX(A$1:A228)+1)","v":""},{"$f":"IF(Deviations_Op_Param_CMS!B250=\"\",\"\",Deviations_Op_Param_CMS!B250)","v":""},{"$f":"IF(Deviations_Op_Param_CMS!C250=\"\",\"\",Deviations_Op_Param_CMS!C250)","v":""},{"$f":"IF(Deviations_Op_Param_CMS!F250=\"\",\"\",Deviations_Op_Param_CMS!F250)","v":""},{"$f":"IF(Deviations_Op_Param_CMS!D250=\"\",\"\",Deviations_Op_Param_CMS!D250)","v":""},"",{"$f":"IF(COUNTIF(F$2:F229,F229)=1,F229,\"\")","v":""},"","","","",""]
[{"$f":"+IF(G230=\"\",\"\",MAX(A$1:A229)+1)","v":""},{"$f":"IF(Deviations_Op_Param_CMS!B251=\"\",\"\",Deviations_Op_Param_CMS!B251)","v":""},{"$f":"IF(Deviations_Op_Param_CMS!C251=\"\",\"\",Deviations_Op_Param_CMS!C251)","v":""},{"$f":"IF(Deviations_Op_Param_CMS!F251=\"\",\"\",Deviations_Op_Param_CMS!F251)","v":""},{"$f":"IF(Deviations_Op_Param_CMS!D251=\"\",\"\",Deviations_Op_Param_CMS!D251)","v":""},"",{"$f":"IF(COUNTIF(F$2:F230,F230)=1,F230,\"\")","v":""},"","","","",""]
[{"$f":"+IF(G231=\"\",\"\",MAX(A$1:A230)+1)","v":""},{"$f":"IF(Deviations_Op_Param_CMS!B252=\"\",\"\",Deviations_Op_Param_CMS!B252)","v":""},{"$f":"IF(Deviations_Op_Param_CMS!C252=\"\",\"\",Deviations_Op_Param_CMS!C252)","v":""},{"$f":"IF(Deviations_Op_Param_CMS!F252=\"\",\"\",Deviations_Op_Param_CMS!F252)","v":""},{"$f":"IF(Deviations_Op_Param_CMS!D252=\"\",\"\",Deviations_Op_Param_CMS!D252)","v":""},"",{"$f":"IF(COUNTIF(F$2:F231,F231)=1,F231,\"\")","v":""},"","","","",""]
[{"$f":"+IF(G232=\"\",\"\",MAX(A$1:A231)+1)","v":""},{"$f":"IF(Deviations_Op_Param_CMS!B253=\"\",\"\",Deviations_Op_Param_CMS!B253)","v":""},{"$f":"IF(Deviations_Op_Param_CMS!C253=\"\",\"\",Deviations_Op_Param_CMS!C253)","v":""},{"$f":"IF(Deviations_Op_Param_CMS!F253=\"\",\"\",Deviations_Op_Param_CMS!F253)","v":""},{"$f":"IF(Deviations_Op_Param_CMS!D253=\"\",\"\",Deviations_Op_Param_CMS!D253)","v":""},"",{"$f":"IF(COUNTIF(F$2:F232,F232)=1,F232,\"\")","v":""},"","","","",""]
[{"$f":"+IF(G233=\"\",\"\",MAX(A$1:A232)+1)","v":""},{"$f":"IF(Deviations_Op_Param_CMS!B254=\"\",\"\",Deviations_Op_Param_CMS!B254)","v":""},{"$f":"IF(Deviations_Op_Param_CMS!C254=\"\",\"\",Deviations_Op_Param_CMS!C254)","v":""},{"$f":"IF(Deviations_Op_Param_CMS!F254=\"\",\"\",Deviations_Op_Param_CMS!F254)","v":""},{"$f":"IF(Deviations_Op_Param_CMS!D254=\"\",\"\",Deviations_Op_Param_CMS!D254)","v":""},"",{"$f":"IF(COUNTIF(F$2:F233,F233)=1,F233,\"\")","v":""},"","","","",""]
[{"$f":"+IF(G234=\"\",\"\",MAX(A$1:A233)+1)","v":""},{"$f":"IF(Deviations_Op_Param_CMS!B255=\"\",\"\",Deviations_Op_Param_CMS!B255)","v":""},{"$f":"IF(Deviations_Op_Param_CMS!C255=\"\",\"\",Deviations_Op_Param_CMS!C255)","v":""},{"$f":"IF(Deviations_Op_Param_CMS!F255=\"\",\"\",Deviations_Op_Param_CMS!F255)","v":""},{"$f":"IF(Deviations_Op_Param_CMS!D255=\"\",\"\",Deviations_Op_Param_CMS!D255)","v":""},"",{"$f":"IF(COUNTIF(F$2:F234,F234)=1,F234,\"\")","v":""},"","","","",""]
[{"$f":"+IF(G235=\"\",\"\",MAX(A$1:A234)+1)","v":""},{"$f":"IF(Deviations_Op_Param_CMS!B256=\"\",\"\",Deviations_Op_Param_CMS!B256)","v":""},{"$f":"IF(Deviations_Op_Param_CMS!C256=\"\",\"\",Deviations_Op_Param_CMS!C256)","v":""},{"$f":"IF(Deviations_Op_Param_CMS!F256=\"\",\"\",Deviations_Op_Param_CMS!F256)","v":""},{"$f":"IF(Deviations_Op_Param_CMS!D256=\"\",\"\",Deviations_Op_Param_CMS!D256)","v":""},"",{"$f":"IF(COUNTIF(F$2:F235,F235)=1,F235,\"\")","v":""},"","","","",""]
[{"$f":"+IF(G236=\"\",\"\",MAX(A$1:A235)+1)","v":""},{"$f":"IF(Deviations_Op_Param_CMS!B257=\"\",\"\",Deviations_Op_Param_CMS!B257)","v":""},{"$f":"IF(Deviations_Op_Param_CMS!C257=\"\",\"\",Deviations_Op_Param_CMS!C257)","v":""},{"$f":"IF(Deviations_Op_Param_CMS!F257=\"\",\"\",Deviations_Op_Param_CMS!F257)","v":""},{"$f":"IF(Deviations_Op_Param_CMS!D257=\"\",\"\",Deviations_Op_Param_CMS!D257)","v":""},"",{"$f":"IF(COUNTIF(F$2:F236,F236)=1,F236,\"\")","v":""},"","","","",""]
[{"$f":"+IF(G237=\"\",\"\",MAX(A$1:A236)+1)","v":""},{"$f":"IF(Deviations_Op_Param_CMS!B258=\"\",\"\",Deviations_Op_Param_CMS!B258)","v":""},{"$f":"IF(Deviations_Op_Param_CMS!C258=\"\",\"\",Deviations_Op_Param_CMS!C258)","v":""},{"$f":"IF(Deviations_Op_Param_CMS!F258=\"\",\"\",Deviations_Op_Param_CMS!F258)","v":""},{"$f":"IF(Deviations_Op_Param_CMS!D258=\"\",\"\",Deviations_Op_Param_CMS!D258)","v":""},"",{"$f":"IF(COUNTIF(F$2:F237,F237)=1,F237,\"\")","v":""},"","","","",""]
[{"$f":"+IF(G238=\"\",\"\",MAX(A$1:A237)+1)","v":""},{"$f":"IF(Deviations_Op_Param_CMS!B259=\"\",\"\",Deviations_Op_Param_CMS!B259)","v":""},{"$f":"IF(Deviations_Op_Param_CMS!C259=\"\",\"\",Deviations_Op_Param_CMS!C259)","v":""},{"$f":"IF(Deviations_Op_Param_CMS!F259=\"\",\"\",Deviations_Op_Param_CMS!F259)","v":""},{"$f":"IF(Deviations_Op_Param_CMS!D259=\"\",\"\",Deviations_Op_Param_CMS!D259)","v":""},"",{"$f":"IF(COUNTIF(F$2:F238,F238)=1,F238,\"\")","v":""},"","","","",""]
[{"$f":"+IF(G239=\"\",\"\",MAX(A$1:A238)+1)","v":""},{"$f":"IF(Deviations_Op_Param_CMS!B260=\"\",\"\",Deviations_Op_Param_CMS!B260)","v":""},{"$f":"IF(Deviations_Op_Param_CMS!C260=\"\",\"\",Deviations_Op_Param_CMS!C260)","v":""},{"$f":"IF(Deviations_Op_Param_CMS!F260=\"\",\"\",Deviations_Op_Param_CMS!F260)","v":""},{"$f":"IF(Deviations_Op_Param_CMS!D260=\"\",\"\",Deviations_Op_Param_CMS!D260)","v":""},"",{"$f":"IF(COUNTIF(F$2:F239,F239)=1,F239,\"\")","v":""},"","","","",""]
[{"$f":"+IF(G240=\"\",\"\",MAX(A$1:A239)+1)","v":""},{"$f":"IF(Deviations_Op_Param_CMS!B261=\"\",\"\",Deviations_Op_Param_CMS!B261)","v":""},{"$f":"IF(Deviations_Op_Param_CMS!C261=\"\",\"\",Deviations_Op_Param_CMS!C261)","v":""},{"$f":"IF(Deviations_Op_Param_CMS!F261=\"\",\"\",Deviations_Op_Param_CMS!F261)","v":""},{"$f":"IF(Deviations_Op_Param_CMS!D261=\"\",\"\",Deviations_Op_Param_CMS!D261)","v":""},"",{"$f":"IF(COUNTIF(F$2:F240,F240)=1,F240,\"\")","v":""},"","","","",""]
[{"$f":"+IF(G241=\"\",\"\",MAX(A$1:A240)+1)","v":""},{"$f":"IF(Deviations_Op_Param_CMS!B262=\"\",\"\",Deviations_Op_Param_CMS!B262)","v":""},{"$f":"IF(Deviations_Op_Param_CMS!C262=\"\",\"\",Deviations_Op_Param_CMS!C262)","v":""},{"$f":"IF(Deviations_Op_Param_CMS!F262=\"\",\"\",Deviations_Op_Param_CMS!F262)","v":""},{"$f":"IF(Deviations_Op_Param_CMS!D262=\"\",\"\",Deviations_Op_Param_CMS!D262)","v":""},"",{"$f":"IF(COUNTIF(F$2:F241,F241)=1,F241,\"\")","v":""},"","","","",""]
[{"$f":"+IF(G242=\"\",\"\",MAX(A$1:A241)+1)","v":""},{"$f":"IF(Deviations_Op_Param_CMS!B263=\"\",\"\",Deviations_Op_Param_CMS!B263)","v":""},{"$f":"IF(Deviations_Op_Param_CMS!C263=\"\",\"\",Deviations_Op_Param_CMS!C263)","v":""},{"$f":"IF(Deviations_Op_Param_CMS!F263=\"\",\"\",Deviations_Op_Param_CMS!F263)","v":""},{"$f":"IF(Deviations_Op_Param_CMS!D263=\"\",\"\",Deviations_Op_Param_CMS!D263)","v":""},"",{"$f":"IF(COUNTIF(F$2:F242,F242)=1,F242,\"\")","v":""},"","","","",""]
[{"$f":"+IF(G243=\"\",\"\",MAX(A$1:A242)+1)","v":""},{"$f":"IF(Deviations_Op_Param_CMS!B264=\"\",\"\",Deviations_Op_Param_CMS!B264)","v":""},{"$f":"IF(Deviations_Op_Param_CMS!C264=\"\",\"\",Deviations_Op_Param_CMS!C264)","v":""},{"$f":"IF(Deviations_Op_Param_CMS!F264=\"\",\"\",Deviations_Op_Param_CMS!F264)","v":""},{"$f":"IF(Deviations_Op_Param_CMS!D264=\"\",\"\",Deviations_Op_Param_CMS!D264)","v":""},"",{"$f":"IF(COUNTIF(F$2:F243,F243)=1,F243,\"\")","v":""},"","","","",""]
[{"$f":"+IF(G244=\"\",\"\",MAX(A$1:A243)+1)","v":""},{"$f":"IF(Deviations_Op_Param_CMS!B265=\"\",\"\",Deviations_Op_Param_CMS!B265)","v":""},{"$f":"IF(Deviations_Op_Param_CMS!C265=\"\",\"\",Deviations_Op_Param_CMS!C265)","v":""},{"$f":"IF(Deviations_Op_Param_CMS!F265=\"\",\"\",Deviations_Op_Param_CMS!F265)","v":""},{"$f":"IF(Deviations_Op_Param_CMS!D265=\"\",\"\",Deviations_Op_Param_CMS!D265)","v":""},"",{"$f":"IF(COUNTIF(F$2:F244,F244)=1,F244,\"\")","v":""},"","","","",""]
[{"$f":"+IF(G245=\"\",\"\",MAX(A$1:A244)+1)","v":""},{"$f":"IF(Deviations_Op_Param_CMS!B266=\"\",\"\",Deviations_Op_Param_CMS!B266)","v":""},{"$f":"IF(Deviations_Op_Param_CMS!C266=\"\",\"\",Deviations_Op_Param_CMS!C266)","v":""},{"$f":"IF(Deviations_Op_Param_CMS!F266=\"\",\"\",Deviations_Op_Param_CMS!F266)","v":""},{"$f":"IF(Deviations_Op_Param_CMS!D266=\"\",\"\",Deviations_Op_Param_CMS!D266)","v":""},"",{"$f":"IF(COUNTIF(F$2:F245,F245)=1,F245,\"\")","v":""},"","","","",""]
[{"$f":"+IF(G246=\"\",\"\",MAX(A$1:A245)+1)","v":""},{"$f":"IF(Deviations_Op_Param_CMS!B267=\"\",\"\",Deviations_Op_Param_CMS!B267)","v":""},{"$f":"IF(Deviations_Op_Param_CMS!C267=\"\",\"\",Deviations_Op_Param_CMS!C267)","v":""},{"$f":"IF(Deviations_Op_Param_CMS!F267=\"\",\"\",Deviations_Op_Param_CMS!F267)","v":""},{"$f":"IF(Deviations_Op_Param_CMS!D267=\"\",\"\",Deviations_Op_Param_CMS!D267)","v":""},"",{"$f":"IF(COUNTIF(F$2:F246,F246)=1,F246,\"\")","v":""},"","","","",""]
[{"$f":"+IF(G247=\"\",\"\",MAX(A$1:A246)+1)","v":""},{"$f":"IF(Deviations_Op_Param_CMS!B268=\"\",\"\",Deviations_Op_Param_CMS!B268)","v":""},{"$f":"IF(Deviations_Op_Param_CMS!C268=\"\",\"\",Deviations_Op_Param_CMS!C268)","v":""},{"$f":"IF(Deviations_Op_Param_CMS!F268=\"\",\"\",Deviations_Op_Param_CMS!F268)","v":""},{"$f":"IF(Deviations_Op_Param_CMS!D268=\"\",\"\",Deviations_Op_Param_CMS!D268)","v":""},"",{"$f":"IF(COUNTIF(F$2:F247,F247)=1,F247,\"\")","v":""},"","","","",""]
[{"$f":"+IF(G248=\"\",\"\",MAX(A$1:A247)+1)","v":""},{"$f":"IF(Deviations_Op_Param_CMS!B269=\"\",\"\",Deviations_Op_Param_CMS!B269)","v":""},{"$f":"IF(Deviations_Op_Param_CMS!C269=\"\",\"\",Deviations_Op_Param_CMS!C269)","v":""},{"$f":"IF(Deviations_Op_Param_CMS!F269=\"\",\"\",Deviations_Op_Param_CMS!F269)","v":""},{"$f":"IF(Deviations_Op_Param_CMS!D269=\"\",\"\",Deviations_Op_Param_CMS!D269)","v":""},"",{"$f":"IF(COUNTIF(F$2:F248,F248)=1,F248,\"\")","v":""},"","","","",""]
[{"$f":"+IF(G249=\"\",\"\",MAX(A$1:A248)+1)","v":""},{"$f":"IF(Deviations_Op_Param_CMS!B270=\"\",\"\",Deviations_Op_Param_CMS!B270)","v":""},{"$f":"IF(Deviations_Op_Param_CMS!C270=\"\",\"\",Deviations_Op_Param_CMS!C270)","v":""},{"$f":"IF(Deviations_Op_Param_CMS!F270=\"\",\"\",Deviations_Op_Param_CMS!F270)","v":""},{"$f":"IF(Deviations_Op_Param_CMS!D270=\"\",\"\",Deviations_Op_Param_CMS!D270)","v":""},"",{"$f":"IF(COUNTIF(F$2:F249,F249)=1,F249,\"\")","v":""},"","","","",""]
[{"$f":"+IF(G250=\"\",\"\",MAX(A$1:A249)+1)","v":""},{"$f":"IF(Deviations_Op_Param_CMS!B271=\"\",\"\",Deviations_Op_Param_CMS!B271)","v":""},{"$f":"IF(Deviations_Op_Param_CMS!C271=\"\",\"\",Deviations_Op_Param_CMS!C271)","v":""},{"$f":"IF(Deviations_Op_Param_CMS!F271=\"\",\"\",Deviations_Op_Param_CMS!F271)","v":""},{"$f":"IF(Deviations_Op_Param_CMS!D271=\"\",\"\",Deviations_Op_Param_CMS!D271)","v":""},"",{"$f":"IF(COUNTIF(F$2:F250,F250)=1,F250,\"\")","v":""},"","","","",""]
[{"$f":"+IF(G251=\"\",\"\",MAX(A$1:A250)+1)","v":""},{"$f":"IF(Deviations_Op_Param_CMS!B272=\"\",\"\",Deviations_Op_Param_CMS!B272)","v":""},{"$f":"IF(Deviations_Op_Param_CMS!C272=\"\",\"\",Deviations_Op_Param_CMS!C272)","v":""},{"$f":"IF(Deviations_Op_Param_CMS!F272=\"\",\"\",Deviations_Op_Param_CMS!F272)","v":""},{"$f":"IF(Deviations_Op_Param_CMS!D272=\"\",\"\",Deviations_Op_Param_CMS!D272)","v":""},"",{"$f":"IF(COUNTIF(F$2:F251,F251)=1,F251,\"\")","v":""},"","","","",""]
[{"$f":"+IF(G252=\"\",\"\",MAX(A$1:A251)+1)","v":""},{"$f":"IF(Deviations_Op_Param_CMS!B273=\"\",\"\",Deviations_Op_Param_CMS!B273)","v":""},{"$f":"IF(Deviations_Op_Param_CMS!C273=\"\",\"\",Deviations_Op_Param_CMS!C273)","v":""},{"$f":"IF(Deviations_Op_Param_CMS!F273=\"\",\"\",Deviations_Op_Param_CMS!F273)","v":""},{"$f":"IF(Deviations_Op_Param_CMS!D273=\"\",\"\",Deviations_Op_Param_CMS!D273)","v":""},"",{"$f":"IF(COUNTIF(F$2:F252,F252)=1,F252,\"\")","v":""},"","","","",""]
[{"$f":"+IF(G253=\"\",\"\",MAX(A$1:A252)+1)","v":""},{"$f":"IF(Deviations_Op_Param_CMS!B274=\"\",\"\",Deviations_Op_Param_CMS!B274)","v":""},{"$f":"IF(Deviations_Op_Param_CMS!C274=\"\",\"\",Deviations_Op_Param_CMS!C274)","v":""},{"$f":"IF(Deviations_Op_Param_CMS!F274=\"\",\"\",Deviations_Op_Param_CMS!F274)","v":""},{"$f":"IF(Deviations_Op_Param_CMS!D274=\"\",\"\",Deviations_Op_Param_CMS!D274)","v":""},"",{"$f":"IF(COUNTIF(F$2:F253,F253)=1,F253,\"\")","v":""},"","","","",""]
[{"$f":"+IF(G254=\"\",\"\",MAX(A$1:A253)+1)","v":""},{"$f":"IF(Deviations_Op_Param_CMS!B275=\"\",\"\",Deviations_Op_Param_CMS!B275)","v":""},{"$f":"IF(Deviations_Op_Param_CMS!C275=\"\",\"\",Deviations_Op_Param_CMS!C275)","v":""},{"$f":"IF(Deviations_Op_Param_CMS!F275=\"\",\"\",Deviations_Op_Param_CMS!F275)","v":""},{"$f":"IF(Deviations_Op_Param_CMS!D275=\"\",\"\",Deviations_Op_Param_CMS!D275)","v":""},"",{"$f":"IF(COUNTIF(F$2:F254,F254)=1,F254,\"\")","v":""},"","","","",""]
[{"$f":"+IF(G255=\"\",\"\",MAX(A$1:A254)+1)","v":""},{"$f":"IF(Deviations_Op_Param_CMS!B276=\"\",\"\",Deviations_Op_Param_CMS!B276)","v":""},{"$f":"IF(Deviations_Op_Param_CMS!C276=\"\",\"\",Deviations_Op_Param_CMS!C276)","v":""},{"$f":"IF(Deviations_Op_Param_CMS!F276=\"\",\"\",Deviations_Op_Param_CMS!F276)","v":""},{"$f":"IF(Deviations_Op_Param_CMS!D276=\"\",\"\",Deviations_Op_Param_CMS!D276)","v":""},"",{"$f":"IF(COUNTIF(F$2:F255,F255)=1,F255,\"\")","v":""},"","","","",""]
[{"$f":"+IF(G256=\"\",\"\",MAX(A$1:A255)+1)","v":""},{"$f":"IF(Deviations_Op_Param_CMS!B277=\"\",\"\",Deviations_Op_Param_CMS!B277)","v":""},{"$f":"IF(Deviations_Op_Param_CMS!C277=\"\",\"\",Deviations_Op_Param_CMS!C277)","v":""},{"$f":"IF(Deviations_Op_Param_CMS!F277=\"\",\"\",Deviations_Op_Param_CMS!F277)","v":""},{"$f":"IF(Deviations_Op_Param_CMS!D277=\"\",\"\",Deviations_Op_Param_CMS!D277)","v":""},"",{"$f":"IF(COUNTIF(F$2:F256,F256)=1,F256,\"\")","v":""},"","","","",""]
[{"$f":"+IF(G257=\"\",\"\",MAX(A$1:A256)+1)","v":""},{"$f":"IF(Deviations_Op_Param_CMS!B278=\"\",\"\",Deviations_Op_Param_CMS!B278)","v":""},{"$f":"IF(Deviations_Op_Param_CMS!C278=\"\",\"\",Deviations_Op_Param_CMS!C278)","v":""},{"$f":"IF(Deviations_Op_Param_CMS!F278=\"\",\"\",Deviations_Op_Param_CMS!F278)","v":""},{"$f":"IF(Deviations_Op_Param_CMS!D278=\"\",\"\",Deviations_Op_Param_CMS!D278)","v":""},"",{"$f":"IF(COUNTIF(F$2:F257,F257)=1,F257,\"\")","v":""},"","","","",""]
[{"$f":"+IF(G258=\"\",\"\",MAX(A$1:A257)+1)","v":""},{"$f":"IF(Deviations_Op_Param_CMS!B279=\"\",\"\",Deviations_Op_Param_CMS!B279)","v":""},{"$f":"IF(Deviations_Op_Param_CMS!C279=\"\",\"\",Deviations_Op_Param_CMS!C279)","v":""},{"$f":"IF(Deviations_Op_Param_CMS!F279=\"\",\"\",Deviations_Op_Param_CMS!F279)","v":""},{"$f":"IF(Deviations_Op_Param_CMS!D279=\"\",\"\",Deviations_Op_Param_CMS!D279)","v":""},"",{"$f":"IF(COUNTIF(F$2:F258,F258)=1,F258,\"\")","v":""},"","","","",""]
[{"$f":"+IF(G259=\"\",\"\",MAX(A$1:A258)+1)","v":""},{"$f":"IF(Deviations_Op_Param_CMS!B280=\"\",\"\",Deviations_Op_Param_CMS!B280)","v":""},{"$f":"IF(Deviations_Op_Param_CMS!C280=\"\",\"\",Deviations_Op_Param_CMS!C280)","v":""},{"$f":"IF(Deviations_Op_Param_CMS!F280=\"\",\"\",Deviations_Op_Param_CMS!F280)","v":""},{"$f":"IF(Deviations_Op_Param_CMS!D280=\"\",\"\",Deviations_Op_Param_CMS!D280)","v":""},"",{"$f":"IF(COUNTIF(F$2:F259,F259)=1,F259,\"\")","v":""},{"$f":"+IFERROR(INDEX($G$3:$G$499,MATCH(ROW()-ROW($H$2),$A$3:$A$499,0)),\"\")","v":""},{"$f":"+IFERROR(INDEX($B$3:$B$499,MATCH(ROW()-ROW($H$2),$A$3:$A$499,0)),\"\")","v":""},{"$f":"+IFERROR(INDEX($C$3:$C$499,MATCH(ROW()-ROW($H$2),$A$3:$A$499,0)),\"\")","v":""},"",""]
[{"$f":"+IF(G260=\"\",\"\",MAX(A$1:A259)+1)","v":""},{"$f":"IF(Deviations_Op_Param_CMS!B281=\"\",\"\",Deviations_Op_Param_CMS!B281)","v":""},{"$f":"IF(Deviations_Op_Param_CMS!C281=\"\",\"\",Deviations_Op_Param_CMS!C281)","v":""},{"$f":"IF(Deviations_Op_Param_CMS!F281=\"\",\"\",Deviations_Op_Param_CMS!F281)","v":""},{"$f":"IF(Deviations_Op_Param_CMS!D281=\"\",\"\",Deviations_Op_Param_CMS!D281)","v":""},{"$f":"IF(E260=\"\",\"\",B260&\"-\"&C260&\"-\"&D260)","v":""},{"$f":"IF(COUNTIF(F$2:F260,F260)=1,F260,\"\")","v":""},"","","",{"$f":"+IFERROR(INDEX($C$3:$C$499,MATCH(ROW()-ROW($H$2),$A$3:$A$499,0)),\"\")","v":""},{"$f":"+IFERROR(INDEX($E$3:$E$499,MATCH(ROW()-ROW($H$2),$A$3:$A$499,0)),\"\")","v":""}]
[{"$f":"+IF(G261=\"\",\"\",MAX(A$1:A260)+1)","v":""},{"$f":"IF(Deviations_Op_Param_CMS!B282=\"\",\"\",Deviations_Op_Param_CMS!B282)","v":""},{"$f":"IF(Deviations_Op_Param_CMS!C282=\"\",\"\",Deviations_Op_Param_CMS!C282)","v":""},{"$f":"IF(Deviations_Op_Param_CMS!F282=\"\",\"\",Deviations_Op_Param_CMS!F282)","v":""},{"$f":"IF(Deviations_Op_Param_CMS!D282=\"\",\"\",Deviations_Op_Param_CMS!D282)","v":""},"",{"$f":"IF(COUNTIF(F$2:F261,F261)=1,F261,\"\")","v":""},"","","","",""]
[{"$f":"+IF(G262=\"\",\"\",MAX(A$1:A261)+1)","v":""},{"$f":"IF(Deviations_Op_Param_CMS!B283=\"\",\"\",Deviations_Op_Param_CMS!B283)","v":""},{"$f":"IF(Deviations_Op_Param_CMS!C283=\"\",\"\",Deviations_Op_Param_CMS!C283)","v":""},{"$f":"IF(Deviations_Op_Param_CMS!F283=\"\",\"\",Deviations_Op_Param_CMS!F283)","v":""},{"$f":"IF(Deviations_Op_Param_CMS!D283=\"\",\"\",Deviations_Op_Param_CMS!D283)","v":""},"",{"$f":"IF(COUNTIF(F$2:F262,F262)=1,F262,\"\")","v":""},"","","","",""]
[{"$f":"+IF(G263=\"\",\"\",MAX(A$1:A262)+1)","v":""},{"$f":"IF(Deviations_Op_Param_CMS!B284=\"\",\"\",Deviations_Op_Param_CMS!B284)","v":""},{"$f":"IF(Deviations_Op_Param_CMS!C284=\"\",\"\",Deviations_Op_Param_CMS!C284)","v":""},{"$f":"IF(Deviations_Op_Param_CMS!F284=\"\",\"\",Deviations_Op_Param_CMS!F284)","v":""},{"$f":"IF(Deviations_Op_Param_CMS!D284=\"\",\"\",Deviations_Op_Param_CMS!D284)","v":""},"",{"$f":"IF(COUNTIF(F$2:F263,F263)=1,F263,\"\")","v":""},"","","","",""]
[{"$f":"+IF(G264=\"\",\"\",MAX(A$1:A263)+1)","v":""},{"$f":"IF(Deviations_Op_Param_CMS!B285=\"\",\"\",Deviations_Op_Param_CMS!B285)","v":""},{"$f":"IF(Deviations_Op_Param_CMS!C285=\"\",\"\",Deviations_Op_Param_CMS!C285)","v":""},{"$f":"IF(Deviations_Op_Param_CMS!F285=\"\",\"\",Deviations_Op_Param_CMS!F285)","v":""},{"$f":"IF(Deviations_Op_Param_CMS!D285=\"\",\"\",Deviations_Op_Param_CMS!D285)","v":""},"",{"$f":"IF(COUNTIF(F$2:F264,F264)=1,F264,\"\")","v":""},"","","","",""]
[{"$f":"+IF(G265=\"\",\"\",MAX(A$1:A264)+1)","v":""},{"$f":"IF(Deviations_Op_Param_CMS!B286=\"\",\"\",Deviations_Op_Param_CMS!B286)","v":""},{"$f":"IF(Deviations_Op_Param_CMS!C286=\"\",\"\",Deviations_Op_Param_CMS!C286)","v":""},{"$f":"IF(Deviations_Op_Param_CMS!F286=\"\",\"\",Deviations_Op_Param_CMS!F286)","v":""},{"$f":"IF(Deviations_Op_Param_CMS!D286=\"\",\"\",Deviations_Op_Param_CMS!D286)","v":""},"",{"$f":"IF(COUNTIF(F$2:F265,F265)=1,F265,\"\")","v":""},"","","","",""]
[{"$f":"+IF(G266=\"\",\"\",MAX(A$1:A265)+1)","v":""},{"$f":"IF(Deviations_Op_Param_CMS!B287=\"\",\"\",Deviations_Op_Param_CMS!B287)","v":""},{"$f":"IF(Deviations_Op_Param_CMS!C287=\"\",\"\",Deviations_Op_Param_CMS!C287)","v":""},{"$f":"IF(Deviations_Op_Param_CMS!F287=\"\",\"\",Deviations_Op_Param_CMS!F287)","v":""},{"$f":"IF(Deviations_Op_Param_CMS!D287=\"\",\"\",Deviations_Op_Param_CMS!D287)","v":""},"",{"$f":"IF(COUNTIF(F$2:F266,F266)=1,F266,\"\")","v":""},"","","","",""]
[{"$f":"+IF(G267=\"\",\"\",MAX(A$1:A266)+1)","v":""},{"$f":"IF(Deviations_Op_Param_CMS!B288=\"\",\"\",Deviations_Op_Param_CMS!B288)","v":""},{"$f":"IF(Deviations_Op_Param_CMS!C288=\"\",\"\",Deviations_Op_Param_CMS!C288)","v":""},{"$f":"IF(Deviations_Op_Param_CMS!F288=\"\",\"\",Deviations_Op_Param_CMS!F288)","v":""},{"$f":"IF(Deviations_Op_Param_CMS!D288=\"\",\"\",Deviations_Op_Param_CMS!D288)","v":""},"",{"$f":"IF(COUNTIF(F$2:F267,F267)=1,F267,\"\")","v":""},"","","","",""]
[{"$f":"+IF(G268=\"\",\"\",MAX(A$1:A267)+1)","v":""},{"$f":"IF(Deviations_Op_Param_CMS!B289=\"\",\"\",Deviations_Op_Param_CMS!B289)","v":""},{"$f":"IF(Deviations_Op_Param_CMS!C289=\"\",\"\",Deviations_Op_Param_CMS!C289)","v":""},{"$f":"IF(Deviations_Op_Param_CMS!F289=\"\",\"\",Deviations_Op_Param_CMS!F289)","v":""},{"$f":"IF(Deviations_Op_Param_CMS!D289=\"\",\"\",Deviations_Op_Param_CMS!D289)","v":""},"",{"$f":"IF(COUNTIF(F$2:F268,F268)=1,F268,\"\")","v":""},"","","","",""]
[{"$f":"+IF(G269=\"\",\"\",MAX(A$1:A268)+1)","v":""},{"$f":"IF(Deviations_Op_Param_CMS!B290=\"\",\"\",Deviations_Op_Param_CMS!B290)","v":""},{"$f":"IF(Deviations_Op_Param_CMS!C290=\"\",\"\",Deviations_Op_Param_CMS!C290)","v":""},{"$f":"IF(Deviations_Op_Param_CMS!F290=\"\",\"\",Deviations_Op_Param_CMS!F290)","v":""},{"$f":"IF(Deviations_Op_Param_CMS!D290=\"\",\"\",Deviations_Op_Param_CMS!D290)","v":""},"",{"$f":"IF(COUNTIF(F$2:F269,F269)=1,F269,\"\")","v":""},"","","","",""]
[{"$f":"+IF(G270=\"\",\"\",MAX(A$1:A269)+1)","v":""},{"$f":"IF(Deviations_Op_Param_CMS!B291=\"\",\"\",Deviations_Op_Param_CMS!B291)","v":""},{"$f":"IF(Deviations_Op_Param_CMS!C291=\"\",\"\",Deviations_Op_Param_CMS!C291)","v":""},{"$f":"IF(Deviations_Op_Param_CMS!F291=\"\",\"\",Deviations_Op_Param_CMS!F291)","v":""},{"$f":"IF(Deviations_Op_Param_CMS!D291=\"\",\"\",Deviations_Op_Param_CMS!D291)","v":""},"",{"$f":"IF(COUNTIF(F$2:F270,F270)=1,F270,\"\")","v":""},"","","","",""]
[{"$f":"+IF(G271=\"\",\"\",MAX(A$1:A270)+1)","v":""},{"$f":"IF(Deviations_Op_Param_CMS!B292=\"\",\"\",Deviations_Op_Param_CMS!B292)","v":""},{"$f":"IF(Deviations_Op_Param_CMS!C292=\"\",\"\",Deviations_Op_Param_CMS!C292)","v":""},{"$f":"IF(Deviations_Op_Param_CMS!F292=\"\",\"\",Deviations_Op_Param_CMS!F292)","v":""},{"$f":"IF(Deviations_Op_Param_CMS!D292=\"\",\"\",Deviations_Op_Param_CMS!D292)","v":""},"",{"$f":"IF(COUNTIF(F$2:F271,F271)=1,F271,\"\")","v":""},"","","","",""]
[{"$f":"+IF(G272=\"\",\"\",MAX(A$1:A271)+1)","v":""},{"$f":"IF(Deviations_Op_Param_CMS!B293=\"\",\"\",Deviations_Op_Param_CMS!B293)","v":""},{"$f":"IF(Deviations_Op_Param_CMS!C293=\"\",\"\",Deviations_Op_Param_CMS!C293)","v":""},{"$f":"IF(Deviations_Op_Param_CMS!F293=\"\",\"\",Deviations_Op_Param_CMS!F293)","v":""},{"$f":"IF(Deviations_Op_Param_CMS!D293=\"\",\"\",Deviations_Op_Param_CMS!D293)","v":""},"",{"$f":"IF(COUNTIF(F$2:F272,F272)=1,F272,\"\")","v":""},"","","","",""]
[{"$f":"+IF(G273=\"\",\"\",MAX(A$1:A272)+1)","v":""},{"$f":"IF(Deviations_Op_Param_CMS!B294=\"\",\"\",Deviations_Op_Param_CMS!B294)","v":""},{"$f":"IF(Deviations_Op_Param_CMS!C294=\"\",\"\",Deviations_Op_Param_CMS!C294)","v":""},{"$f":"IF(Deviations_Op_Param_CMS!F294=\"\",\"\",Deviations_Op_Param_CMS!F294)","v":""},{"$f":"IF(Deviations_Op_Param_CMS!D294=\"\",\"\",Deviations_Op_Param_CMS!D294)","v":""},"",{"$f":"IF(COUNTIF(F$2:F273,F273)=1,F273,\"\")","v":""},"","","","",""]
[{"$f":"+IF(G274=\"\",\"\",MAX(A$1:A273)+1)","v":""},{"$f":"IF(Deviations_Op_Param_CMS!B295=\"\",\"\",Deviations_Op_Param_CMS!B295)","v":""},{"$f":"IF(Deviations_Op_Param_CMS!C295=\"\",\"\",Deviations_Op_Param_CMS!C295)","v":""},{"$f":"IF(Deviations_Op_Param_CMS!F295=\"\",\"\",Deviations_Op_Param_CMS!F295)","v":""},{"$f":"IF(Deviations_Op_Param_CMS!D295=\"\",\"\",Deviations_Op_Param_CMS!D295)","v":""},"",{"$f":"IF(COUNTIF(F$2:F274,F274)=1,F274,\"\")","v":""},"","","","",""]
[{"$f":"+IF(G275=\"\",\"\",MAX(A$1:A274)+1)","v":""},{"$f":"IF(Deviations_Op_Param_CMS!B296=\"\",\"\",Deviations_Op_Param_CMS!B296)","v":""},{"$f":"IF(Deviations_Op_Param_CMS!C296=\"\",\"\",Deviations_Op_Param_CMS!C296)","v":""},{"$f":"IF(Deviations_Op_Param_CMS!F296=\"\",\"\",Deviations_Op_Param_CMS!F296)","v":""},{"$f":"IF(Deviations_Op_Param_CMS!D296=\"\",\"\",Deviations_Op_Param_CMS!D296)","v":""},"",{"$f":"IF(COUNTIF(F$2:F275,F275)=1,F275,\"\")","v":""},"","","","",""]
[{"$f":"+IF(G276=\"\",\"\",MAX(A$1:A275)+1)","v":""},{"$f":"IF(Deviations_Op_Param_CMS!B297=\"\",\"\",Deviations_Op_Param_CMS!B297)","v":""},{"$f":"IF(Deviations_Op_Param_CMS!C297=\"\",\"\",Deviations_Op_Param_CMS!C297)","v":""},{"$f":"IF(Deviations_Op_Param_CMS!F297=\"\",\"\",Deviations_Op_Param_CMS!F297)","v":""},{"$f":"IF(Deviations_Op_Param_CMS!D297=\"\",\"\",Deviations_Op_Param_CMS!D297)","v":""},"",{"$f":"IF(COUNTIF(F$2:F276,F276)=1,F276,\"\")","v":""},"","","","",""]
[{"$f":"+IF(G277=\"\",\"\",MAX(A$1:A276)+1)","v":""},{"$f":"IF(Deviations_Op_Param_CMS!B298=\"\",\"\",Deviations_Op_Param_CMS!B298)","v":""},{"$f":"IF(Deviations_Op_Param_CMS!C298=\"\",\"\",Deviations_Op_Param_CMS!C298)","v":""},{"$f":"IF(Deviations_Op_Param_CMS!F298=\"\",\"\",Deviations_Op_Param_CMS!F298)","v":""},{"$f":"IF(Deviations_Op_Param_CMS!D298=\"\",\"\",Deviations_Op_Param_CMS!D298)","v":""},"",{"$f":"IF(COUNTIF(F$2:F277,F277)=1,F277,\"\")","v":""},"","","","",""]
[{"$f":"+IF(G278=\"\",\"\",MAX(A$1:A277)+1)","v":""},{"$f":"IF(Deviations_Op_Param_CMS!B299=\"\",\"\",Deviations_Op_Param_CMS!B299)","v":""},{"$f":"IF(Deviations_Op_Param_CMS!C299=\"\",\"\",Deviations_Op_Param_CMS!C299)","v":""},{"$f":"IF(Deviations_Op_Param_CMS!F299=\"\",\"\",Deviations_Op_Param_CMS!F299)","v":""},{"$f":"IF(Deviations_Op_Param_CMS!D299=\"\",\"\",Deviations_Op_Param_CMS!D299)","v":""},"",{"$f":"IF(COUNTIF(F$2:F278,F278)=1,F278,\"\")","v":""},"","","","",""]
[{"$f":"+IF(G279=\"\",\"\",MAX(A$1:A278)+1)","v":""},{"$f":"IF(Deviations_Op_Param_CMS!B300=\"\",\"\",Deviations_Op_Param_CMS!B300)","v":""},{"$f":"IF(Deviations_Op_Param_CMS!C300=\"\",\"\",Deviations_Op_Param_CMS!C300)","v":""},{"$f":"IF(Deviations_Op_Param_CMS!F300=\"\",\"\",Deviations_Op_Param_CMS!F300)","v":""},{"$f":"IF(Deviations_Op_Param_CMS!D300=\"\",\"\",Deviations_Op_Param_CMS!D300)","v":""},"",{"$f":"IF(COUNTIF(F$2:F279,F279)=1,F279,\"\")","v":""},"","","","",""]
[{"$f":"+IF(G280=\"\",\"\",MAX(A$1:A279)+1)","v":""},{"$f":"IF(Deviations_Op_Param_CMS!B301=\"\",\"\",Deviations_Op_Param_CMS!B301)","v":""},{"$f":"IF(Deviations_Op_Param_CMS!C301=\"\",\"\",Deviations_Op_Param_CMS!C301)","v":""},{"$f":"IF(Deviations_Op_Param_CMS!F301=\"\",\"\",Deviations_Op_Param_CMS!F301)","v":""},{"$f":"IF(Deviations_Op_Param_CMS!D301=\"\",\"\",Deviations_Op_Param_CMS!D301)","v":""},"",{"$f":"IF(COUNTIF(F$2:F280,F280)=1,F280,\"\")","v":""},"","","","",""]
[{"$f":"+IF(G281=\"\",\"\",MAX(A$1:A280)+1)","v":""},{"$f":"IF(Deviations_Op_Param_CMS!B302=\"\",\"\",Deviations_Op_Param_CMS!B302)","v":""},{"$f":"IF(Deviations_Op_Param_CMS!C302=\"\",\"\",Deviations_Op_Param_CMS!C302)","v":""},{"$f":"IF(Deviations_Op_Param_CMS!F302=\"\",\"\",Deviations_Op_Param_CMS!F302)","v":""},{"$f":"IF(Deviations_Op_Param_CMS!D302=\"\",\"\",Deviations_Op_Param_CMS!D302)","v":""},"",{"$f":"IF(COUNTIF(F$2:F281,F281)=1,F281,\"\")","v":""},"","","","",""]
[{"$f":"+IF(G282=\"\",\"\",MAX(A$1:A281)+1)","v":""},{"$f":"IF(Deviations_Op_Param_CMS!B303=\"\",\"\",Deviations_Op_Param_CMS!B303)","v":""},{"$f":"IF(Deviations_Op_Param_CMS!C303=\"\",\"\",Deviations_Op_Param_CMS!C303)","v":""},{"$f":"IF(Deviations_Op_Param_CMS!F303=\"\",\"\",Deviations_Op_Param_CMS!F303)","v":""},{"$f":"IF(Deviations_Op_Param_CMS!D303=\"\",\"\",Deviations_Op_Param_CMS!D303)","v":""},"",{"$f":"IF(COUNTIF(F$2:F282,F282)=1,F282,\"\")","v":""},"","","","",""]
[{"$f":"+IF(G283=\"\",\"\",MAX(A$1:A282)+1)","v":""},{"$f":"IF(Deviations_Op_Param_CMS!B304=\"\",\"\",Deviations_Op_Param_CMS!B304)","v":""},{"$f":"IF(Deviations_Op_Param_CMS!C304=\"\",\"\",Deviations_Op_Param_CMS!C304)","v":""},{"$f":"IF(Deviations_Op_Param_CMS!F304=\"\",\"\",Deviations_Op_Param_CMS!F304)","v":""},{"$f":"IF(Deviations_Op_Param_CMS!D304=\"\",\"\",Deviations_Op_Param_CMS!D304)","v":""},"",{"$f":"IF(COUNTIF(F$2:F283,F283)=1,F283,\"\")","v":""},"","","","",""]
[{"$f":"+IF(G284=\"\",\"\",MAX(A$1:A283)+1)","v":""},{"$f":"IF(Deviations_Op_Param_CMS!B305=\"\",\"\",Deviations_Op_Param_CMS!B305)","v":""},{"$f":"IF(Deviations_Op_Param_CMS!C305=\"\",\"\",Deviations_Op_Param_CMS!C305)","v":""},{"$f":"IF(Deviations_Op_Param_CMS!F305=\"\",\"\",Deviations_Op_Param_CMS!F305)","v":""},{"$f":"IF(Deviations_Op_Param_CMS!D305=\"\",\"\",Deviations_Op_Param_CMS!D305)","v":""},"",{"$f":"IF(COUNTIF(F$2:F284,F284)=1,F284,\"\")","v":""},"","","","",""]
[{"$f":"+IF(G285=\"\",\"\",MAX(A$1:A284)+1)","v":""},{"$f":"IF(Deviations_Op_Param_CMS!B306=\"\",\"\",Deviations_Op_Param_CMS!B306)","v":""},{"$f":"IF(Deviations_Op_Param_CMS!C306=\"\",\"\",Deviations_Op_Param_CMS!C306)","v":""},{"$f":"IF(Deviations_Op_Param_CMS!F306=\"\",\"\",Deviations_Op_Param_CMS!F306)","v":""},{"$f":"IF(Deviations_Op_Param_CMS!D306=\"\",\"\",Deviations_Op_Param_CMS!D306)","v":""},"",{"$f":"IF(COUNTIF(F$2:F285,F285)=1,F285,\"\")","v":""},"","","","",""]
[{"$f":"+IF(G286=\"\",\"\",MAX(A$1:A285)+1)","v":""},{"$f":"IF(Deviations_Op_Param_CMS!B307=\"\",\"\",Deviations_Op_Param_CMS!B307)","v":""},{"$f":"IF(Deviations_Op_Param_CMS!C307=\"\",\"\",Deviations_Op_Param_CMS!C307)","v":""},{"$f":"IF(Deviations_Op_Param_CMS!F307=\"\",\"\",Deviations_Op_Param_CMS!F307)","v":""},{"$f":"IF(Deviations_Op_Param_CMS!D307=\"\",\"\",Deviations_Op_Param_CMS!D307)","v":""},"",{"$f":"IF(COUNTIF(F$2:F286,F286)=1,F286,\"\")","v":""},"","","","",""]
[{"$f":"+IF(G287=\"\",\"\",MAX(A$1:A286)+1)","v":""},{"$f":"IF(Deviations_Op_Param_CMS!B308=\"\",\"\",Deviations_Op_Param_CMS!B308)","v":""},{"$f":"IF(Deviations_Op_Param_CMS!C308=\"\",\"\",Deviations_Op_Param_CMS!C308)","v":""},{"$f":"IF(Deviations_Op_Param_CMS!F308=\"\",\"\",Deviations_Op_Param_CMS!F308)","v":""},{"$f":"IF(Deviations_Op_Param_CMS!D308=\"\",\"\",Deviations_Op_Param_CMS!D308)","v":""},"",{"$f":"IF(COUNTIF(F$2:F287,F287)=1,F287,\"\")","v":""},"","","","",""]
[{"$f":"+IF(G288=\"\",\"\",MAX(A$1:A287)+1)","v":""},{"$f":"IF(Deviations_Op_Param_CMS!B309=\"\",\"\",Deviations_Op_Param_CMS!B309)","v":""},{"$f":"IF(Deviations_Op_Param_CMS!C309=\"\",\"\",Deviations_Op_Param_CMS!C309)","v":""},{"$f":"IF(Deviations_Op_Param_CMS!F309=\"\",\"\",Deviations_Op_Param_CMS!F309)","v":""},{"$f":"IF(Deviations_Op_Param_CMS!D309=\"\",\"\",Deviations_Op_Param_CMS!D309)","v":""},"",{"$f":"IF(COUNTIF(F$2:F288,F288)=1,F288,\"\")","v":""},"","","","",""]
[{"$f":"+IF(G289=\"\",\"\",MAX(A$1:A288)+1)","v":""},{"$f":"IF(Deviations_Op_Param_CMS!B310=\"\",\"\",Deviations_Op_Param_CMS!B310)","v":""},{"$f":"IF(Deviations_Op_Param_CMS!C310=\"\",\"\",Deviations_Op_Param_CMS!C310)","v":""},{"$f":"IF(Deviations_Op_Param_CMS!F310=\"\",\"\",Deviations_Op_Param_CMS!F310)","v":""},{"$f":"IF(Deviations_Op_Param_CMS!D310=\"\",\"\",Deviations_Op_Param_CMS!D310)","v":""},"",{"$f":"IF(COUNTIF(F$2:F289,F289)=1,F289,\"\")","v":""},"","","","",""]
[{"$f":"+IF(G290=\"\",\"\",MAX(A$1:A289)+1)","v":""},{"$f":"IF(Deviations_Op_Param_CMS!B311=\"\",\"\",Deviations_Op_Param_CMS!B311)","v":""},{"$f":"IF(Deviations_Op_Param_CMS!C311=\"\",\"\",Deviations_Op_Param_CMS!C311)","v":""},{"$f":"IF(Deviations_Op_Param_CMS!F311=\"\",\"\",Deviations_Op_Param_CMS!F311)","v":""},{"$f":"IF(Deviations_Op_Param_CMS!D311=\"\",\"\",Deviations_Op_Param_CMS!D311)","v":""},"",{"$f":"IF(COUNTIF(F$2:F290,F290)=1,F290,\"\")","v":""},"","","","",""]
[{"$f":"+IF(G291=\"\",\"\",MAX(A$1:A290)+1)","v":""},{"$f":"IF(Deviations_Op_Param_CMS!B312=\"\",\"\",Deviations_Op_Param_CMS!B312)","v":""},{"$f":"IF(Deviations_Op_Param_CMS!C312=\"\",\"\",Deviations_Op_Param_CMS!C312)","v":""},{"$f":"IF(Deviations_Op_Param_CMS!F312=\"\",\"\",Deviations_Op_Param_CMS!F312)","v":""},{"$f":"IF(Deviations_Op_Param_CMS!D312=\"\",\"\",Deviations_Op_Param_CMS!D312)","v":""},"",{"$f":"IF(COUNTIF(F$2:F291,F291)=1,F291,\"\")","v":""},"","","","",""]
[{"$f":"+IF(G292=\"\",\"\",MAX(A$1:A291)+1)","v":""},{"$f":"IF(Deviations_Op_Param_CMS!B313=\"\",\"\",Deviations_Op_Param_CMS!B313)","v":""},{"$f":"IF(Deviations_Op_Param_CMS!C313=\"\",\"\",Deviations_Op_Param_CMS!C313)","v":""},{"$f":"IF(Deviations_Op_Param_CMS!F313=\"\",\"\",Deviations_Op_Param_CMS!F313)","v":""},{"$f":"IF(Deviations_Op_Param_CMS!D313=\"\",\"\",Deviations_Op_Param_CMS!D313)","v":""},"",{"$f":"IF(COUNTIF(F$2:F292,F292)=1,F292,\"\")","v":""},"","","","",""]
[{"$f":"+IF(G293=\"\",\"\",MAX(A$1:A292)+1)","v":""},{"$f":"IF(Deviations_Op_Param_CMS!B314=\"\",\"\",Deviations_Op_Param_CMS!B314)","v":""},{"$f":"IF(Deviations_Op_Param_CMS!C314=\"\",\"\",Deviations_Op_Param_CMS!C314)","v":""},{"$f":"IF(Deviations_Op_Param_CMS!F314=\"\",\"\",Deviations_Op_Param_CMS!F314)","v":""},{"$f":"IF(Deviations_Op_Param_CMS!D314=\"\",\"\",Deviations_Op_Param_CMS!D314)","v":""},"",{"$f":"IF(COUNTIF(F$2:F293,F293)=1,F293,\"\")","v":""},"","","","",""]
[{"$f":"+IF(G294=\"\",\"\",MAX(A$1:A293)+1)","v":""},{"$f":"IF(Deviations_Op_Param_CMS!B315=\"\",\"\",Deviations_Op_Param_CMS!B315)","v":""},{"$f":"IF(Deviations_Op_Param_CMS!C315=\"\",\"\",Deviations_Op_Param_CMS!C315)","v":""},{"$f":"IF(Deviations_Op_Param_CMS!F315=\"\",\"\",Deviations_Op_Param_CMS!F315)","v":""},{"$f":"IF(Deviations_Op_Param_CMS!D315=\"\",\"\",Deviations_Op_Param_CMS!D315)","v":""},"",{"$f":"IF(COUNTIF(F$2:F294,F294)=1,F294,\"\")","v":""},"","","","",""]
[{"$f":"+IF(G295=\"\",\"\",MAX(A$1:A294)+1)","v":""},{"$f":"IF(Deviations_Op_Param_CMS!B316=\"\",\"\",Deviations_Op_Param_CMS!B316)","v":""},{"$f":"IF(Deviations_Op_Param_CMS!C316=\"\",\"\",Deviations_Op_Param_CMS!C316)","v":""},{"$f":"IF(Deviations_Op_Param_CMS!F316=\"\",\"\",Deviations_Op_Param_CMS!F316)","v":""},{"$f":"IF(Deviations_Op_Param_CMS!D316=\"\",\"\",Deviations_Op_Param_CMS!D316)","v":""},"",{"$f":"IF(COUNTIF(F$2:F295,F295)=1,F295,\"\")","v":""},"","","","",""]
[{"$f":"+IF(G296=\"\",\"\",MAX(A$1:A295)+1)","v":""},{"$f":"IF(Deviations_Op_Param_CMS!B317=\"\",\"\",Deviations_Op_Param_CMS!B317)","v":""},{"$f":"IF(Deviations_Op_Param_CMS!C317=\"\",\"\",Deviations_Op_Param_CMS!C317)","v":""},{"$f":"IF(Deviations_Op_Param_CMS!F317=\"\",\"\",Deviations_Op_Param_CMS!F317)","v":""},{"$f":"IF(Deviations_Op_Param_CMS!D317=\"\",\"\",Deviations_Op_Param_CMS!D317)","v":""},"",{"$f":"IF(COUNTIF(F$2:F296,F296)=1,F296,\"\")","v":""},"","","","",""]
[{"$f":"+IF(G297=\"\",\"\",MAX(A$1:A296)+1)","v":""},{"$f":"IF(Deviations_Op_Param_CMS!B318=\"\",\"\",Deviations_Op_Param_CMS!B318)","v":""},{"$f":"IF(Deviations_Op_Param_CMS!C318=\"\",\"\",Deviations_Op_Param_CMS!C318)","v":""},{"$f":"IF(Deviations_Op_Param_CMS!F318=\"\",\"\",Deviations_Op_Param_CMS!F318)","v":""},{"$f":"IF(Deviations_Op_Param_CMS!D318=\"\",\"\",Deviations_Op_Param_CMS!D318)","v":""},"",{"$f":"IF(COUNTIF(F$2:F297,F297)=1,F297,\"\")","v":""},"","","","",""]
[{"$f":"+IF(G298=\"\",\"\",MAX(A$1:A297)+1)","v":""},{"$f":"IF(Deviations_Op_Param_CMS!B319=\"\",\"\",Deviations_Op_Param_CMS!B319)","v":""},{"$f":"IF(Deviations_Op_Param_CMS!C319=\"\",\"\",Deviations_Op_Param_CMS!C319)","v":""},{"$f":"IF(Deviations_Op_Param_CMS!F319=\"\",\"\",Deviations_Op_Param_CMS!F319)","v":""},{"$f":"IF(Deviations_Op_Param_CMS!D319=\"\",\"\",Deviations_Op_Param_CMS!D319)","v":""},"",{"$f":"IF(COUNTIF(F$2:F298,F298)=1,F298,\"\")","v":""},"","","","",""]
[{"$f":"+IF(G299=\"\",\"\",MAX(A$1:A298)+1)","v":""},{"$f":"IF(Deviations_Op_Param_CMS!B320=\"\",\"\",Deviations_Op_Param_CMS!B320)","v":""},{"$f":"IF(Deviations_Op_Param_CMS!C320=\"\",\"\",Deviations_Op_Param_CMS!C320)","v":""},{"$f":"IF(Deviations_Op_Param_CMS!F320=\"\",\"\",Deviations_Op_Param_CMS!F320)","v":""},{"$f":"IF(Deviations_Op_Param_CMS!D320=\"\",\"\",Deviations_Op_Param_CMS!D320)","v":""},"",{"$f":"IF(COUNTIF(F$2:F299,F299)=1,F299,\"\")","v":""},"","","","",""]
[{"$f":"+IF(G300=\"\",\"\",MAX(A$1:A299)+1)","v":""},{"$f":"IF(Deviations_Op_Param_CMS!B321=\"\",\"\",Deviations_Op_Param_CMS!B321)","v":""},{"$f":"IF(Deviations_Op_Param_CMS!C321=\"\",\"\",Deviations_Op_Param_CMS!C321)","v":""},{"$f":"IF(Deviations_Op_Param_CMS!F321=\"\",\"\",Deviations_Op_Param_CMS!F321)","v":""},{"$f":"IF(Deviations_Op_Param_CMS!D321=\"\",\"\",Deviations_Op_Param_CMS!D321)","v":""},"",{"$f":"IF(COUNTIF(F$2:F300,F300)=1,F300,\"\")","v":""},"","","","",""]
[{"$f":"+IF(G301=\"\",\"\",MAX(A$1:A300)+1)","v":""},{"$f":"IF(Deviations_Op_Param_CMS!B322=\"\",\"\",Deviations_Op_Param_CMS!B322)","v":""},{"$f":"IF(Deviations_Op_Param_CMS!C322=\"\",\"\",Deviations_Op_Param_CMS!C322)","v":""},{"$f":"IF(Deviations_Op_Param_CMS!F322=\"\",\"\",Deviations_Op_Param_CMS!F322)","v":""},{"$f":"IF(Deviations_Op_Param_CMS!D322=\"\",\"\",Deviations_Op_Param_CMS!D322)","v":""},"",{"$f":"IF(COUNTIF(F$2:F301,F301)=1,F301,\"\")","v":""},"","","","",""]
[{"$f":"+IF(G302=\"\",\"\",MAX(A$1:A301)+1)","v":""},{"$f":"IF(Deviations_Op_Param_CMS!B323=\"\",\"\",Deviations_Op_Param_CMS!B323)","v":""},{"$f":"IF(Deviations_Op_Param_CMS!C323=\"\",\"\",Deviations_Op_Param_CMS!C323)","v":""},{"$f":"IF(Deviations_Op_Param_CMS!F323=\"\",\"\",Deviations_Op_Param_CMS!F323)","v":""},{"$f":"IF(Deviations_Op_Param_CMS!D323=\"\",\"\",Deviations_Op_Param_CMS!D323)","v":""},"",{"$f":"IF(COUNTIF(F$2:F302,F302)=1,F302,\"\")","v":""},"","","","",""]
[{"$f":"+IF(G303=\"\",\"\",MAX(A$1:A302)+1)","v":""},{"$f":"IF(Deviations_Op_Param_CMS!B324=\"\",\"\",Deviations_Op_Param_CMS!B324)","v":""},{"$f":"IF(Deviations_Op_Param_CMS!C324=\"\",\"\",Deviations_Op_Param_CMS!C324)","v":""},{"$f":"IF(Deviations_Op_Param_CMS!F324=\"\",\"\",Deviations_Op_Param_CMS!F324)","v":""},{"$f":"IF(Deviations_Op_Param_CMS!D324=\"\",\"\",Deviations_Op_Param_CMS!D324)","v":""},"",{"$f":"IF(COUNTIF(F$2:F303,F303)=1,F303,\"\")","v":""},"","","","",""]
[{"$f":"+IF(G304=\"\",\"\",MAX(A$1:A303)+1)","v":""},{"$f":"IF(Deviations_Op_Param_CMS!B325=\"\",\"\",Deviations_Op_Param_CMS!B325)","v":""},{"$f":"IF(Deviations_Op_Param_CMS!C325=\"\",\"\",Deviations_Op_Param_CMS!C325)","v":""},{"$f":"IF(Deviations_Op_Param_CMS!F325=\"\",\"\",Deviations_Op_Param_CMS!F325)","v":""},{"$f":"IF(Deviations_Op_Param_CMS!D325=\"\",\"\",Deviations_Op_Param_CMS!D325)","v":""},"",{"$f":"IF(COUNTIF(F$2:F304,F304)=1,F304,\"\")","v":""},"","","","",""]
[{"$f":"+IF(G305=\"\",\"\",MAX(A$1:A304)+1)","v":""},{"$f":"IF(Deviations_Op_Param_CMS!B326=\"\",\"\",Deviations_Op_Param_CMS!B326)","v":""},{"$f":"IF(Deviations_Op_Param_CMS!C326=\"\",\"\",Deviations_Op_Param_CMS!C326)","v":""},{"$f":"IF(Deviations_Op_Param_CMS!F326=\"\",\"\",Deviations_Op_Param_CMS!F326)","v":""},{"$f":"IF(Deviations_Op_Param_CMS!D326=\"\",\"\",Deviations_Op_Param_CMS!D326)","v":""},"",{"$f":"IF(COUNTIF(F$2:F305,F305)=1,F305,\"\")","v":""},"","","","",""]
[{"$f":"+IF(G306=\"\",\"\",MAX(A$1:A305)+1)","v":""},{"$f":"IF(Deviations_Op_Param_CMS!B327=\"\",\"\",Deviations_Op_Param_CMS!B327)","v":""},{"$f":"IF(Deviations_Op_Param_CMS!C327=\"\",\"\",Deviations_Op_Param_CMS!C327)","v":""},{"$f":"IF(Deviations_Op_Param_CMS!F327=\"\",\"\",Deviations_Op_Param_CMS!F327)","v":""},{"$f":"IF(Deviations_Op_Param_CMS!D327=\"\",\"\",Deviations_Op_Param_CMS!D327)","v":""},"",{"$f":"IF(COUNTIF(F$2:F306,F306)=1,F306,\"\")","v":""},"","","","",""]
[{"$f":"+IF(G307=\"\",\"\",MAX(A$1:A306)+1)","v":""},{"$f":"IF(Deviations_Op_Param_CMS!B328=\"\",\"\",Deviations_Op_Param_CMS!B328)","v":""},{"$f":"IF(Deviations_Op_Param_CMS!C328=\"\",\"\",Deviations_Op_Param_CMS!C328)","v":""},{"$f":"IF(Deviations_Op_Param_CMS!F328=\"\",\"\",Deviations_Op_Param_CMS!F328)","v":""},{"$f":"IF(Deviations_Op_Param_CMS!D328=\"\",\"\",Deviations_Op_Param_CMS!D328)","v":""},"",{"$f":"IF(COUNTIF(F$2:F307,F307)=1,F307,\"\")","v":""},"","","","",""]
[{"$f":"+IF(G308=\"\",\"\",MAX(A$1:A307)+1)","v":""},{"$f":"IF(Deviations_Op_Param_CMS!B329=\"\",\"\",Deviations_Op_Param_CMS!B329)","v":""},{"$f":"IF(Deviations_Op_Param_CMS!C329=\"\",\"\",Deviations_Op_Param_CMS!C329)","v":""},{"$f":"IF(Deviations_Op_Param_CMS!F329=\"\",\"\",Deviations_Op_Param_CMS!F329)","v":""},{"$f":"IF(Deviations_Op_Param_CMS!D329=\"\",\"\",Deviations_Op_Param_CMS!D329)","v":""},"",{"$f":"IF(COUNTIF(F$2:F308,F308)=1,F308,\"\")","v":""},"","","","",""]
[{"$f":"+IF(G309=\"\",\"\",MAX(A$1:A308)+1)","v":""},{"$f":"IF(Deviations_Op_Param_CMS!B330=\"\",\"\",Deviations_Op_Param_CMS!B330)","v":""},{"$f":"IF(Deviations_Op_Param_CMS!C330=\"\",\"\",Deviations_Op_Param_CMS!C330)","v":""},{"$f":"IF(Deviations_Op_Param_CMS!F330=\"\",\"\",Deviations_Op_Param_CMS!F330)","v":""},{"$f":"IF(Deviations_Op_Param_CMS!D330=\"\",\"\",Deviations_Op_Param_CMS!D330)","v":""},"",{"$f":"IF(COUNTIF(F$2:F309,F309)=1,F309,\"\")","v":""},"","","","",""]
[{"$f":"+IF(G310=\"\",\"\",MAX(A$1:A309)+1)","v":""},{"$f":"IF(Deviations_Op_Param_CMS!B331=\"\",\"\",Deviations_Op_Param_CMS!B331)","v":""},{"$f":"IF(Deviations_Op_Param_CMS!C331=\"\",\"\",Deviations_Op_Param_CMS!C331)","v":""},{"$f":"IF(Deviations_Op_Param_CMS!F331=\"\",\"\",Deviations_Op_Param_CMS!F331)","v":""},{"$f":"IF(Deviations_Op_Param_CMS!D331=\"\",\"\",Deviations_Op_Param_CMS!D331)","v":""},"",{"$f":"IF(COUNTIF(F$2:F310,F310)=1,F310,\"\")","v":""},"","","","",""]
[{"$f":"+IF(G311=\"\",\"\",MAX(A$1:A310)+1)","v":""},{"$f":"IF(Deviations_Op_Param_CMS!B332=\"\",\"\",Deviations_Op_Param_CMS!B332)","v":""},{"$f":"IF(Deviations_Op_Param_CMS!C332=\"\",\"\",Deviations_Op_Param_CMS!C332)","v":""},{"$f":"IF(Deviations_Op_Param_CMS!F332=\"\",\"\",Deviations_Op_Param_CMS!F332)","v":""},{"$f":"IF(Deviations_Op_Param_CMS!D332=\"\",\"\",Deviations_Op_Param_CMS!D332)","v":""},"",{"$f":"IF(COUNTIF(F$2:F311,F311)=1,F311,\"\")","v":""},"","","","",""]
[{"$f":"+IF(G312=\"\",\"\",MAX(A$1:A311)+1)","v":""},{"$f":"IF(Deviations_Op_Param_CMS!B333=\"\",\"\",Deviations_Op_Param_CMS!B333)","v":""},{"$f":"IF(Deviations_Op_Param_CMS!C333=\"\",\"\",Deviations_Op_Param_CMS!C333)","v":""},{"$f":"IF(Deviations_Op_Param_CMS!F333=\"\",\"\",Deviations_Op_Param_CMS!F333)","v":""},{"$f":"IF(Deviations_Op_Param_CMS!D333=\"\",\"\",Deviations_Op_Param_CMS!D333)","v":""},"",{"$f":"IF(COUNTIF(F$2:F312,F312)=1,F312,\"\")","v":""},"","","","",""]
[{"$f":"+IF(G313=\"\",\"\",MAX(A$1:A312)+1)","v":""},{"$f":"IF(Deviations_Op_Param_CMS!B334=\"\",\"\",Deviations_Op_Param_CMS!B334)","v":""},{"$f":"IF(Deviations_Op_Param_CMS!C334=\"\",\"\",Deviations_Op_Param_CMS!C334)","v":""},{"$f":"IF(Deviations_Op_Param_CMS!F334=\"\",\"\",Deviations_Op_Param_CMS!F334)","v":""},{"$f":"IF(Deviations_Op_Param_CMS!D334=\"\",\"\",Deviations_Op_Param_CMS!D334)","v":""},"",{"$f":"IF(COUNTIF(F$2:F313,F313)=1,F313,\"\")","v":""},"","","","",""]
[{"$f":"+IF(G314=\"\",\"\",MAX(A$1:A313)+1)","v":""},{"$f":"IF(Deviations_Op_Param_CMS!B335=\"\",\"\",Deviations_Op_Param_CMS!B335)","v":""},{"$f":"IF(Deviations_Op_Param_CMS!C335=\"\",\"\",Deviations_Op_Param_CMS!C335)","v":""},{"$f":"IF(Deviations_Op_Param_CMS!F335=\"\",\"\",Deviations_Op_Param_CMS!F335)","v":""},{"$f":"IF(Deviations_Op_Param_CMS!D335=\"\",\"\",Deviations_Op_Param_CMS!D335)","v":""},"",{"$f":"IF(COUNTIF(F$2:F314,F314)=1,F314,\"\")","v":""},"","","","",""]
[{"$f":"+IF(G315=\"\",\"\",MAX(A$1:A314)+1)","v":""},{"$f":"IF(Deviations_Op_Param_CMS!B336=\"\",\"\",Deviations_Op_Param_CMS!B336)","v":""},{"$f":"IF(Deviations_Op_Param_CMS!C336=\"\",\"\",Deviations_Op_Param_CMS!C336)","v":""},{"$f":"IF(Deviations_Op_Param_CMS!F336=\"\",\"\",Deviations_Op_Param_CMS!F336)","v":""},{"$f":"IF(Deviations_Op_Param_CMS!D336=\"\",\"\",Deviations_Op_Param_CMS!D336)","v":""},"",{"$f":"IF(COUNTIF(F$2:F315,F315)=1,F315,\"\")","v":""},"","","","",""]
[{"$f":"+IF(G316=\"\",\"\",MAX(A$1:A315)+1)","v":""},{"$f":"IF(Deviations_Op_Param_CMS!B337=\"\",\"\",Deviations_Op_Param_CMS!B337)","v":""},{"$f":"IF(Deviations_Op_Param_CMS!C337=\"\",\"\",Deviations_Op_Param_CMS!C337)","v":""},{"$f":"IF(Deviations_Op_Param_CMS!F337=\"\",\"\",Deviations_Op_Param_CMS!F337)","v":""},{"$f":"IF(Deviations_Op_Param_CMS!D337=\"\",\"\",Deviations_Op_Param_CMS!D337)","v":""},"",{"$f":"IF(COUNTIF(F$2:F316,F316)=1,F316,\"\")","v":""},"","","","",""]
[{"$f":"+IF(G317=\"\",\"\",MAX(A$1:A316)+1)","v":""},{"$f":"IF(Deviations_Op_Param_CMS!B338=\"\",\"\",Deviations_Op_Param_CMS!B338)","v":""},{"$f":"IF(Deviations_Op_Param_CMS!C338=\"\",\"\",Deviations_Op_Param_CMS!C338)","v":""},{"$f":"IF(Deviations_Op_Param_CMS!F338=\"\",\"\",Deviations_Op_Param_CMS!F338)","v":""},{"$f":"IF(Deviations_Op_Param_CMS!D338=\"\",\"\",Deviations_Op_Param_CMS!D338)","v":""},"",{"$f":"IF(COUNTIF(F$2:F317,F317)=1,F317,\"\")","v":""},"","","","",""]
[{"$f":"+IF(G318=\"\",\"\",MAX(A$1:A317)+1)","v":""},{"$f":"IF(Deviations_Op_Param_CMS!B339=\"\",\"\",Deviations_Op_Param_CMS!B339)","v":""},{"$f":"IF(Deviations_Op_Param_CMS!C339=\"\",\"\",Deviations_Op_Param_CMS!C339)","v":""},{"$f":"IF(Deviations_Op_Param_CMS!F339=\"\",\"\",Deviations_Op_Param_CMS!F339)","v":""},{"$f":"IF(Deviations_Op_Param_CMS!D339=\"\",\"\",Deviations_Op_Param_CMS!D339)","v":""},"",{"$f":"IF(COUNTIF(F$2:F318,F318)=1,F318,\"\")","v":""},"","","","",""]
[{"$f":"+IF(G319=\"\",\"\",MAX(A$1:A318)+1)","v":""},{"$f":"IF(Deviations_Op_Param_CMS!B340=\"\",\"\",Deviations_Op_Param_CMS!B340)","v":""},{"$f":"IF(Deviations_Op_Param_CMS!C340=\"\",\"\",Deviations_Op_Param_CMS!C340)","v":""},{"$f":"IF(Deviations_Op_Param_CMS!F340=\"\",\"\",Deviations_Op_Param_CMS!F340)","v":""},{"$f":"IF(Deviations_Op_Param_CMS!D340=\"\",\"\",Deviations_Op_Param_CMS!D340)","v":""},"",{"$f":"IF(COUNTIF(F$2:F319,F319)=1,F319,\"\")","v":""},"","","","",""]
[{"$f":"+IF(G320=\"\",\"\",MAX(A$1:A319)+1)","v":""},{"$f":"IF(Deviations_Op_Param_CMS!B341=\"\",\"\",Deviations_Op_Param_CMS!B341)","v":""},{"$f":"IF(Deviations_Op_Param_CMS!C341=\"\",\"\",Deviations_Op_Param_CMS!C341)","v":""},{"$f":"IF(Deviations_Op_Param_CMS!F341=\"\",\"\",Deviations_Op_Param_CMS!F341)","v":""},{"$f":"IF(Deviations_Op_Param_CMS!D341=\"\",\"\",Deviations_Op_Param_CMS!D341)","v":""},"",{"$f":"IF(COUNTIF(F$2:F320,F320)=1,F320,\"\")","v":""},"","","","",""]
[{"$f":"+IF(G321=\"\",\"\",MAX(A$1:A320)+1)","v":""},{"$f":"IF(Deviations_Op_Param_CMS!B342=\"\",\"\",Deviations_Op_Param_CMS!B342)","v":""},{"$f":"IF(Deviations_Op_Param_CMS!C342=\"\",\"\",Deviations_Op_Param_CMS!C342)","v":""},{"$f":"IF(Deviations_Op_Param_CMS!F342=\"\",\"\",Deviations_Op_Param_CMS!F342)","v":""},{"$f":"IF(Deviations_Op_Param_CMS!D342=\"\",\"\",Deviations_Op_Param_CMS!D342)","v":""},"",{"$f":"IF(COUNTIF(F$2:F321,F321)=1,F321,\"\")","v":""},"","","","",""]
[{"$f":"+IF(G322=\"\",\"\",MAX(A$1:A321)+1)","v":""},{"$f":"IF(Deviations_Op_Param_CMS!B343=\"\",\"\",Deviations_Op_Param_CMS!B343)","v":""},{"$f":"IF(Deviations_Op_Param_CMS!C343=\"\",\"\",Deviations_Op_Param_CMS!C343)","v":""},{"$f":"IF(Deviations_Op_Param_CMS!F343=\"\",\"\",Deviations_Op_Param_CMS!F343)","v":""},{"$f":"IF(Deviations_Op_Param_CMS!D343=\"\",\"\",Deviations_Op_Param_CMS!D343)","v":""},"",{"$f":"IF(COUNTIF(F$2:F322,F322)=1,F322,\"\")","v":""},"","","","",""]
[{"$f":"+IF(G323=\"\",\"\",MAX(A$1:A322)+1)","v":""},{"$f":"IF(Deviations_Op_Param_CMS!B344=\"\",\"\",Deviations_Op_Param_CMS!B344)","v":""},{"$f":"IF(Deviations_Op_Param_CMS!C344=\"\",\"\",Deviations_Op_Param_CMS!C344)","v":""},{"$f":"IF(Deviations_Op_Param_CMS!F344=\"\",\"\",Deviations_Op_Param_CMS!F344)","v":""},{"$f":"IF(Deviations_Op_Param_CMS!D344=\"\",\"\",Deviations_Op_Param_CMS!D344)","v":""},"",{"$f":"IF(COUNTIF(F$2:F323,F323)=1,F323,\"\")","v":""},{"$f":"+IFERROR(INDEX($G$3:$G$499,MATCH(ROW()-ROW($H$2),$A$3:$A$499,0)),\"\")","v":""},{"$f":"+IFERROR(INDEX($B$3:$B$499,MATCH(ROW()-ROW($H$2),$A$3:$A$499,0)),\"\")","v":""},{"$f":"+IFERROR(INDEX($C$3:$C$499,MATCH(ROW()-ROW($H$2),$A$3:$A$499,0)),\"\")","v":""},"",""]
[{"$f":"+IF(G324=\"\",\"\",MAX(A$1:A323)+1)","v":""},{"$f":"IF(Deviations_Op_Param_CMS!B345=\"\",\"\",Deviations_Op_Param_CMS!B345)","v":""},{"$f":"IF(Deviations_Op_Param_CMS!C345=\"\",\"\",Deviations_Op_Param_CMS!C345)","v":""},{"$f":"IF(Deviations_Op_Param_CMS!F345=\"\",\"\",Deviations_Op_Param_CMS!F345)","v":""},{"$f":"IF(Deviations_Op_Param_CMS!D345=\"\",\"\",Deviations_Op_Param_CMS!D345)","v":""},{"$f":"IF(E324=\"\",\"\",B324&\"-\"&C324&\"-\"&D324)","v":""},{"$f":"IF(COUNTIF(F$2:F324,F324)=1,F324,\"\")","v":""},"","","",{"$f":"+IFERROR(INDEX($C$3:$C$499,MATCH(ROW()-ROW($H$2),$A$3:$A$499,0)),\"\")","v":""},{"$f":"+IFERROR(INDEX($E$3:$E$499,MATCH(ROW()-ROW($H$2),$A$3:$A$499,0)),\"\")","v":""}]
[{"$f":"+IF(G325=\"\",\"\",MAX(A$1:A324)+1)","v":""},{"$f":"IF(Deviations_Op_Param_CMS!B346=\"\",\"\",Deviations_Op_Param_CMS!B346)","v":""},{"$f":"IF(Deviations_Op_Param_CMS!C346=\"\",\"\",Deviations_Op_Param_CMS!C346)","v":""},{"$f":"IF(Deviations_Op_Param_CMS!F346=\"\",\"\",Deviations_Op_Param_CMS!F346)","v":""},{"$f":"IF(Deviations_Op_Param_CMS!D346=\"\",\"\",Deviations_Op_Param_CMS!D346)","v":""},"",{"$f":"IF(COUNTIF(F$2:F325,F325)=1,F325,\"\")","v":""},"","","","",""]
[{"$f":"+IF(G326=\"\",\"\",MAX(A$1:A325)+1)","v":""},{"$f":"IF(Deviations_Op_Param_CMS!B347=\"\",\"\",Deviations_Op_Param_CMS!B347)","v":""},{"$f":"IF(Deviations_Op_Param_CMS!C347=\"\",\"\",Deviations_Op_Param_CMS!C347)","v":""},{"$f":"IF(Deviations_Op_Param_CMS!F347=\"\",\"\",Deviations_Op_Param_CMS!F347)","v":""},{"$f":"IF(Deviations_Op_Param_CMS!D347=\"\",\"\",Deviations_Op_Param_CMS!D347)","v":""},"",{"$f":"IF(COUNTIF(F$2:F326,F326)=1,F326,\"\")","v":""},"","","","",""]
[{"$f":"+IF(G327=\"\",\"\",MAX(A$1:A326)+1)","v":""},{"$f":"IF(Deviations_Op_Param_CMS!B348=\"\",\"\",Deviations_Op_Param_CMS!B348)","v":""},{"$f":"IF(Deviations_Op_Param_CMS!C348=\"\",\"\",Deviations_Op_Param_CMS!C348)","v":""},{"$f":"IF(Deviations_Op_Param_CMS!F348=\"\",\"\",Deviations_Op_Param_CMS!F348)","v":""},{"$f":"IF(Deviations_Op_Param_CMS!D348=\"\",\"\",Deviations_Op_Param_CMS!D348)","v":""},"",{"$f":"IF(COUNTIF(F$2:F327,F327)=1,F327,\"\")","v":""},"","","","",""]
[{"$f":"+IF(G328=\"\",\"\",MAX(A$1:A327)+1)","v":""},{"$f":"IF(Deviations_Op_Param_CMS!B349=\"\",\"\",Deviations_Op_Param_CMS!B349)","v":""},{"$f":"IF(Deviations_Op_Param_CMS!C349=\"\",\"\",Deviations_Op_Param_CMS!C349)","v":""},{"$f":"IF(Deviations_Op_Param_CMS!F349=\"\",\"\",Deviations_Op_Param_CMS!F349)","v":""},{"$f":"IF(Deviations_Op_Param_CMS!D349=\"\",\"\",Deviations_Op_Param_CMS!D349)","v":""},"",{"$f":"IF(COUNTIF(F$2:F328,F328)=1,F328,\"\")","v":""},"","","","",""]
[{"$f":"+IF(G329=\"\",\"\",MAX(A$1:A328)+1)","v":""},{"$f":"IF(Deviations_Op_Param_CMS!B350=\"\",\"\",Deviations_Op_Param_CMS!B350)","v":""},{"$f":"IF(Deviations_Op_Param_CMS!C350=\"\",\"\",Deviations_Op_Param_CMS!C350)","v":""},{"$f":"IF(Deviations_Op_Param_CMS!F350=\"\",\"\",Deviations_Op_Param_CMS!F350)","v":""},{"$f":"IF(Deviations_Op_Param_CMS!D350=\"\",\"\",Deviations_Op_Param_CMS!D350)","v":""},"",{"$f":"IF(COUNTIF(F$2:F329,F329)=1,F329,\"\")","v":""},"","","","",""]
[{"$f":"+IF(G330=\"\",\"\",MAX(A$1:A329)+1)","v":""},{"$f":"IF(Deviations_Op_Param_CMS!B351=\"\",\"\",Deviations_Op_Param_CMS!B351)","v":""},{"$f":"IF(Deviations_Op_Param_CMS!C351=\"\",\"\",Deviations_Op_Param_CMS!C351)","v":""},{"$f":"IF(Deviations_Op_Param_CMS!F351=\"\",\"\",Deviations_Op_Param_CMS!F351)","v":""},{"$f":"IF(Deviations_Op_Param_CMS!D351=\"\",\"\",Deviations_Op_Param_CMS!D351)","v":""},"",{"$f":"IF(COUNTIF(F$2:F330,F330)=1,F330,\"\")","v":""},"","","","",""]
[{"$f":"+IF(G331=\"\",\"\",MAX(A$1:A330)+1)","v":""},{"$f":"IF(Deviations_Op_Param_CMS!B352=\"\",\"\",Deviations_Op_Param_CMS!B352)","v":""},{"$f":"IF(Deviations_Op_Param_CMS!C352=\"\",\"\",Deviations_Op_Param_CMS!C352)","v":""},{"$f":"IF(Deviations_Op_Param_CMS!F352=\"\",\"\",Deviations_Op_Param_CMS!F352)","v":""},{"$f":"IF(Deviations_Op_Param_CMS!D352=\"\",\"\",Deviations_Op_Param_CMS!D352)","v":""},"",{"$f":"IF(COUNTIF(F$2:F331,F331)=1,F331,\"\")","v":""},"","","","",""]
[{"$f":"+IF(G332=\"\",\"\",MAX(A$1:A331)+1)","v":""},{"$f":"IF(Deviations_Op_Param_CMS!B353=\"\",\"\",Deviations_Op_Param_CMS!B353)","v":""},{"$f":"IF(Deviations_Op_Param_CMS!C353=\"\",\"\",Deviations_Op_Param_CMS!C353)","v":""},{"$f":"IF(Deviations_Op_Param_CMS!F353=\"\",\"\",Deviations_Op_Param_CMS!F353)","v":""},{"$f":"IF(Deviations_Op_Param_CMS!D353=\"\",\"\",Deviations_Op_Param_CMS!D353)","v":""},"",{"$f":"IF(COUNTIF(F$2:F332,F332)=1,F332,\"\")","v":""},"","","","",""]
[{"$f":"+IF(G333=\"\",\"\",MAX(A$1:A332)+1)","v":""},{"$f":"IF(Deviations_Op_Param_CMS!B354=\"\",\"\",Deviations_Op_Param_CMS!B354)","v":""},{"$f":"IF(Deviations_Op_Param_CMS!C354=\"\",\"\",Deviations_Op_Param_CMS!C354)","v":""},{"$f":"IF(Deviations_Op_Param_CMS!F354=\"\",\"\",Deviations_Op_Param_CMS!F354)","v":""},{"$f":"IF(Deviations_Op_Param_CMS!D354=\"\",\"\",Deviations_Op_Param_CMS!D354)","v":""},"",{"$f":"IF(COUNTIF(F$2:F333,F333)=1,F333,\"\")","v":""},"","","","",""]
[{"$f":"+IF(G334=\"\",\"\",MAX(A$1:A333)+1)","v":""},{"$f":"IF(Deviations_Op_Param_CMS!B355=\"\",\"\",Deviations_Op_Param_CMS!B355)","v":""},{"$f":"IF(Deviations_Op_Param_CMS!C355=\"\",\"\",Deviations_Op_Param_CMS!C355)","v":""},{"$f":"IF(Deviations_Op_Param_CMS!F355=\"\",\"\",Deviations_Op_Param_CMS!F355)","v":""},{"$f":"IF(Deviations_Op_Param_CMS!D355=\"\",\"\",Deviations_Op_Param_CMS!D355)","v":""},"",{"$f":"IF(COUNTIF(F$2:F334,F334)=1,F334,\"\")","v":""},"","","","",""]
[{"$f":"+IF(G335=\"\",\"\",MAX(A$1:A334)+1)","v":""},{"$f":"IF(Deviations_Op_Param_CMS!B356=\"\",\"\",Deviations_Op_Param_CMS!B356)","v":""},{"$f":"IF(Deviations_Op_Param_CMS!C356=\"\",\"\",Deviations_Op_Param_CMS!C356)","v":""},{"$f":"IF(Deviations_Op_Param_CMS!F356=\"\",\"\",Deviations_Op_Param_CMS!F356)","v":""},{"$f":"IF(Deviations_Op_Param_CMS!D356=\"\",\"\",Deviations_Op_Param_CMS!D356)","v":""},"",{"$f":"IF(COUNTIF(F$2:F335,F335)=1,F335,\"\")","v":""},"","","","",""]
[{"$f":"+IF(G336=\"\",\"\",MAX(A$1:A335)+1)","v":""},{"$f":"IF(Deviations_Op_Param_CMS!B357=\"\",\"\",Deviations_Op_Param_CMS!B357)","v":""},{"$f":"IF(Deviations_Op_Param_CMS!C357=\"\",\"\",Deviations_Op_Param_CMS!C357)","v":""},{"$f":"IF(Deviations_Op_Param_CMS!F357=\"\",\"\",Deviations_Op_Param_CMS!F357)","v":""},{"$f":"IF(Deviations_Op_Param_CMS!D357=\"\",\"\",Deviations_Op_Param_CMS!D357)","v":""},"",{"$f":"IF(COUNTIF(F$2:F336,F336)=1,F336,\"\")","v":""},"","","","",""]
[{"$f":"+IF(G337=\"\",\"\",MAX(A$1:A336)+1)","v":""},{"$f":"IF(Deviations_Op_Param_CMS!B358=\"\",\"\",Deviations_Op_Param_CMS!B358)","v":""},{"$f":"IF(Deviations_Op_Param_CMS!C358=\"\",\"\",Deviations_Op_Param_CMS!C358)","v":""},{"$f":"IF(Deviations_Op_Param_CMS!F358=\"\",\"\",Deviations_Op_Param_CMS!F358)","v":""},{"$f":"IF(Deviations_Op_Param_CMS!D358=\"\",\"\",Deviations_Op_Param_CMS!D358)","v":""},"",{"$f":"IF(COUNTIF(F$2:F337,F337)=1,F337,\"\")","v":""},"","","","",""]
[{"$f":"+IF(G338=\"\",\"\",MAX(A$1:A337)+1)","v":""},{"$f":"IF(Deviations_Op_Param_CMS!B359=\"\",\"\",Deviations_Op_Param_CMS!B359)","v":""},{"$f":"IF(Deviations_Op_Param_CMS!C359=\"\",\"\",Deviations_Op_Param_CMS!C359)","v":""},{"$f":"IF(Deviations_Op_Param_CMS!F359=\"\",\"\",Deviations_Op_Param_CMS!F359)","v":""},{"$f":"IF(Deviations_Op_Param_CMS!D359=\"\",\"\",Deviations_Op_Param_CMS!D359)","v":""},"",{"$f":"IF(COUNTIF(F$2:F338,F338)=1,F338,\"\")","v":""},"","","","",""]
[{"$f":"+IF(G339=\"\",\"\",MAX(A$1:A338)+1)","v":""},{"$f":"IF(Deviations_Op_Param_CMS!B360=\"\",\"\",Deviations_Op_Param_CMS!B360)","v":""},{"$f":"IF(Deviations_Op_Param_CMS!C360=\"\",\"\",Deviations_Op_Param_CMS!C360)","v":""},{"$f":"IF(Deviations_Op_Param_CMS!F360=\"\",\"\",Deviations_Op_Param_CMS!F360)","v":""},{"$f":"IF(Deviations_Op_Param_CMS!D360=\"\",\"\",Deviations_Op_Param_CMS!D360)","v":""},"",{"$f":"IF(COUNTIF(F$2:F339,F339)=1,F339,\"\")","v":""},"","","","",""]
[{"$f":"+IF(G340=\"\",\"\",MAX(A$1:A339)+1)","v":""},{"$f":"IF(Deviations_Op_Param_CMS!B361=\"\",\"\",Deviations_Op_Param_CMS!B361)","v":""},{"$f":"IF(Deviations_Op_Param_CMS!C361=\"\",\"\",Deviations_Op_Param_CMS!C361)","v":""},{"$f":"IF(Deviations_Op_Param_CMS!F361=\"\",\"\",Deviations_Op_Param_CMS!F361)","v":""},{"$f":"IF(Deviations_Op_Param_CMS!D361=\"\",\"\",Deviations_Op_Param_CMS!D361)","v":""},"",{"$f":"IF(COUNTIF(F$2:F340,F340)=1,F340,\"\")","v":""},"","","","",""]
[{"$f":"+IF(G341=\"\",\"\",MAX(A$1:A340)+1)","v":""},{"$f":"IF(Deviations_Op_Param_CMS!B362=\"\",\"\",Deviations_Op_Param_CMS!B362)","v":""},{"$f":"IF(Deviations_Op_Param_CMS!C362=\"\",\"\",Deviations_Op_Param_CMS!C362)","v":""},{"$f":"IF(Deviations_Op_Param_CMS!F362=\"\",\"\",Deviations_Op_Param_CMS!F362)","v":""},{"$f":"IF(Deviations_Op_Param_CMS!D362=\"\",\"\",Deviations_Op_Param_CMS!D362)","v":""},"",{"$f":"IF(COUNTIF(F$2:F341,F341)=1,F341,\"\")","v":""},"","","","",""]
[{"$f":"+IF(G342=\"\",\"\",MAX(A$1:A341)+1)","v":""},{"$f":"IF(Deviations_Op_Param_CMS!B363=\"\",\"\",Deviations_Op_Param_CMS!B363)","v":""},{"$f":"IF(Deviations_Op_Param_CMS!C363=\"\",\"\",Deviations_Op_Param_CMS!C363)","v":""},{"$f":"IF(Deviations_Op_Param_CMS!F363=\"\",\"\",Deviations_Op_Param_CMS!F363)","v":""},{"$f":"IF(Deviations_Op_Param_CMS!D363=\"\",\"\",Deviations_Op_Param_CMS!D363)","v":""},"",{"$f":"IF(COUNTIF(F$2:F342,F342)=1,F342,\"\")","v":""},"","","","",""]
[{"$f":"+IF(G343=\"\",\"\",MAX(A$1:A342)+1)","v":""},{"$f":"IF(Deviations_Op_Param_CMS!B364=\"\",\"\",Deviations_Op_Param_CMS!B364)","v":""},{"$f":"IF(Deviations_Op_Param_CMS!C364=\"\",\"\",Deviations_Op_Param_CMS!C364)","v":""},{"$f":"IF(Deviations_Op_Param_CMS!F364=\"\",\"\",Deviations_Op_Param_CMS!F364)","v":""},{"$f":"IF(Deviations_Op_Param_CMS!D364=\"\",\"\",Deviations_Op_Param_CMS!D364)","v":""},"",{"$f":"IF(COUNTIF(F$2:F343,F343)=1,F343,\"\")","v":""},"","","","",""]
[{"$f":"+IF(G344=\"\",\"\",MAX(A$1:A343)+1)","v":""},{"$f":"IF(Deviations_Op_Param_CMS!B365=\"\",\"\",Deviations_Op_Param_CMS!B365)","v":""},{"$f":"IF(Deviations_Op_Param_CMS!C365=\"\",\"\",Deviations_Op_Param_CMS!C365)","v":""},{"$f":"IF(Deviations_Op_Param_CMS!F365=\"\",\"\",Deviations_Op_Param_CMS!F365)","v":""},{"$f":"IF(Deviations_Op_Param_CMS!D365=\"\",\"\",Deviations_Op_Param_CMS!D365)","v":""},"",{"$f":"IF(COUNTIF(F$2:F344,F344)=1,F344,\"\")","v":""},"","","","",""]
[{"$f":"+IF(G345=\"\",\"\",MAX(A$1:A344)+1)","v":""},{"$f":"IF(Deviations_Op_Param_CMS!B366=\"\",\"\",Deviations_Op_Param_CMS!B366)","v":""},{"$f":"IF(Deviations_Op_Param_CMS!C366=\"\",\"\",Deviations_Op_Param_CMS!C366)","v":""},{"$f":"IF(Deviations_Op_Param_CMS!F366=\"\",\"\",Deviations_Op_Param_CMS!F366)","v":""},{"$f":"IF(Deviations_Op_Param_CMS!D366=\"\",\"\",Deviations_Op_Param_CMS!D366)","v":""},"",{"$f":"IF(COUNTIF(F$2:F345,F345)=1,F345,\"\")","v":""},"","","","",""]
[{"$f":"+IF(G346=\"\",\"\",MAX(A$1:A345)+1)","v":""},{"$f":"IF(Deviations_Op_Param_CMS!B367=\"\",\"\",Deviations_Op_Param_CMS!B367)","v":""},{"$f":"IF(Deviations_Op_Param_CMS!C367=\"\",\"\",Deviations_Op_Param_CMS!C367)","v":""},{"$f":"IF(Deviations_Op_Param_CMS!F367=\"\",\"\",Deviations_Op_Param_CMS!F367)","v":""},{"$f":"IF(Deviations_Op_Param_CMS!D367=\"\",\"\",Deviations_Op_Param_CMS!D367)","v":""},"",{"$f":"IF(COUNTIF(F$2:F346,F346)=1,F346,\"\")","v":""},"","","","",""]
[{"$f":"+IF(G347=\"\",\"\",MAX(A$1:A346)+1)","v":""},{"$f":"IF(Deviations_Op_Param_CMS!B368=\"\",\"\",Deviations_Op_Param_CMS!B368)","v":""},{"$f":"IF(Deviations_Op_Param_CMS!C368=\"\",\"\",Deviations_Op_Param_CMS!C368)","v":""},{"$f":"IF(Deviations_Op_Param_CMS!F368=\"\",\"\",Deviations_Op_Param_CMS!F368)","v":""},{"$f":"IF(Deviations_Op_Param_CMS!D368=\"\",\"\",Deviations_Op_Param_CMS!D368)","v":""},"",{"$f":"IF(COUNTIF(F$2:F347,F347)=1,F347,\"\")","v":""},"","","","",""]
[{"$f":"+IF(G348=\"\",\"\",MAX(A$1:A347)+1)","v":""},{"$f":"IF(Deviations_Op_Param_CMS!B369=\"\",\"\",Deviations_Op_Param_CMS!B369)","v":""},{"$f":"IF(Deviations_Op_Param_CMS!C369=\"\",\"\",Deviations_Op_Param_CMS!C369)","v":""},{"$f":"IF(Deviations_Op_Param_CMS!F369=\"\",\"\",Deviations_Op_Param_CMS!F369)","v":""},{"$f":"IF(Deviations_Op_Param_CMS!D369=\"\",\"\",Deviations_Op_Param_CMS!D369)","v":""},"",{"$f":"IF(COUNTIF(F$2:F348,F348)=1,F348,\"\")","v":""},"","","","",""]
[{"$f":"+IF(G349=\"\",\"\",MAX(A$1:A348)+1)","v":""},{"$f":"IF(Deviations_Op_Param_CMS!B370=\"\",\"\",Deviations_Op_Param_CMS!B370)","v":""},{"$f":"IF(Deviations_Op_Param_CMS!C370=\"\",\"\",Deviations_Op_Param_CMS!C370)","v":""},{"$f":"IF(Deviations_Op_Param_CMS!F370=\"\",\"\",Deviations_Op_Param_CMS!F370)","v":""},{"$f":"IF(Deviations_Op_Param_CMS!D370=\"\",\"\",Deviations_Op_Param_CMS!D370)","v":""},"",{"$f":"IF(COUNTIF(F$2:F349,F349)=1,F349,\"\")","v":""},"","","","",""]
[{"$f":"+IF(G350=\"\",\"\",MAX(A$1:A349)+1)","v":""},{"$f":"IF(Deviations_Op_Param_CMS!B371=\"\",\"\",Deviations_Op_Param_CMS!B371)","v":""},{"$f":"IF(Deviations_Op_Param_CMS!C371=\"\",\"\",Deviations_Op_Param_CMS!C371)","v":""},{"$f":"IF(Deviations_Op_Param_CMS!F371=\"\",\"\",Deviations_Op_Param_CMS!F371)","v":""},{"$f":"IF(Deviations_Op_Param_CMS!D371=\"\",\"\",Deviations_Op_Param_CMS!D371)","v":""},"",{"$f":"IF(COUNTIF(F$2:F350,F350)=1,F350,\"\")","v":""},"","","","",""]
[{"$f":"+IF(G351=\"\",\"\",MAX(A$1:A350)+1)","v":""},{"$f":"IF(Deviations_Op_Param_CMS!B372=\"\",\"\",Deviations_Op_Param_CMS!B372)","v":""},{"$f":"IF(Deviations_Op_Param_CMS!C372=\"\",\"\",Deviations_Op_Param_CMS!C372)","v":""},{"$f":"IF(Deviations_Op_Param_CMS!F372=\"\",\"\",Deviations_Op_Param_CMS!F372)","v":""},{"$f":"IF(Deviations_Op_Param_CMS!D372=\"\",\"\",Deviations_Op_Param_CMS!D372)","v":""},"",{"$f":"IF(COUNTIF(F$2:F351,F351)=1,F351,\"\")","v":""},"","","","",""]
[{"$f":"+IF(G352=\"\",\"\",MAX(A$1:A351)+1)","v":""},{"$f":"IF(Deviations_Op_Param_CMS!B373=\"\",\"\",Deviations_Op_Param_CMS!B373)","v":""},{"$f":"IF(Deviations_Op_Param_CMS!C373=\"\",\"\",Deviations_Op_Param_CMS!C373)","v":""},{"$f":"IF(Deviations_Op_Param_CMS!F373=\"\",\"\",Deviations_Op_Param_CMS!F373)","v":""},{"$f":"IF(Deviations_Op_Param_CMS!D373=\"\",\"\",Deviations_Op_Param_CMS!D373)","v":""},"",{"$f":"IF(COUNTIF(F$2:F352,F352)=1,F352,\"\")","v":""},"","","","",""]
[{"$f":"+IF(G353=\"\",\"\",MAX(A$1:A352)+1)","v":""},{"$f":"IF(Deviations_Op_Param_CMS!B374=\"\",\"\",Deviations_Op_Param_CMS!B374)","v":""},{"$f":"IF(Deviations_Op_Param_CMS!C374=\"\",\"\",Deviations_Op_Param_CMS!C374)","v":""},{"$f":"IF(Deviations_Op_Param_CMS!F374=\"\",\"\",Deviations_Op_Param_CMS!F374)","v":""},{"$f":"IF(Deviations_Op_Param_CMS!D374=\"\",\"\",Deviations_Op_Param_CMS!D374)","v":""},"",{"$f":"IF(COUNTIF(F$2:F353,F353)=1,F353,\"\")","v":""},"","","","",""]
[{"$f":"+IF(G354=\"\",\"\",MAX(A$1:A353)+1)","v":""},{"$f":"IF(Deviations_Op_Param_CMS!B375=\"\",\"\",Deviations_Op_Param_CMS!B375)","v":""},{"$f":"IF(Deviations_Op_Param_CMS!C375=\"\",\"\",Deviations_Op_Param_CMS!C375)","v":""},{"$f":"IF(Deviations_Op_Param_CMS!F375=\"\",\"\",Deviations_Op_Param_CMS!F375)","v":""},{"$f":"IF(Deviations_Op_Param_CMS!D375=\"\",\"\",Deviations_Op_Param_CMS!D375)","v":""},"",{"$f":"IF(COUNTIF(F$2:F354,F354)=1,F354,\"\")","v":""},"","","","",""]
[{"$f":"+IF(G355=\"\",\"\",MAX(A$1:A354)+1)","v":""},{"$f":"IF(Deviations_Op_Param_CMS!B376=\"\",\"\",Deviations_Op_Param_CMS!B376)","v":""},{"$f":"IF(Deviations_Op_Param_CMS!C376=\"\",\"\",Deviations_Op_Param_CMS!C376)","v":""},{"$f":"IF(Deviations_Op_Param_CMS!F376=\"\",\"\",Deviations_Op_Param_CMS!F376)","v":""},{"$f":"IF(Deviations_Op_Param_CMS!D376=\"\",\"\",Deviations_Op_Param_CMS!D376)","v":""},"",{"$f":"IF(COUNTIF(F$2:F355,F355)=1,F355,\"\")","v":""},"","","","",""]
[{"$f":"+IF(G356=\"\",\"\",MAX(A$1:A355)+1)","v":""},{"$f":"IF(Deviations_Op_Param_CMS!B377=\"\",\"\",Deviations_Op_Param_CMS!B377)","v":""},{"$f":"IF(Deviations_Op_Param_CMS!C377=\"\",\"\",Deviations_Op_Param_CMS!C377)","v":""},{"$f":"IF(Deviations_Op_Param_CMS!F377=\"\",\"\",Deviations_Op_Param_CMS!F377)","v":""},{"$f":"IF(Deviations_Op_Param_CMS!D377=\"\",\"\",Deviations_Op_Param_CMS!D377)","v":""},"",{"$f":"IF(COUNTIF(F$2:F356,F356)=1,F356,\"\")","v":""},"","","","",""]
[{"$f":"+IF(G357=\"\",\"\",MAX(A$1:A356)+1)","v":""},{"$f":"IF(Deviations_Op_Param_CMS!B378=\"\",\"\",Deviations_Op_Param_CMS!B378)","v":""},{"$f":"IF(Deviations_Op_Param_CMS!C378=\"\",\"\",Deviations_Op_Param_CMS!C378)","v":""},{"$f":"IF(Deviations_Op_Param_CMS!F378=\"\",\"\",Deviations_Op_Param_CMS!F378)","v":""},{"$f":"IF(Deviations_Op_Param_CMS!D378=\"\",\"\",Deviations_Op_Param_CMS!D378)","v":""},"",{"$f":"IF(COUNTIF(F$2:F357,F357)=1,F357,\"\")","v":""},"","","","",""]
[{"$f":"+IF(G358=\"\",\"\",MAX(A$1:A357)+1)","v":""},{"$f":"IF(Deviations_Op_Param_CMS!B379=\"\",\"\",Deviations_Op_Param_CMS!B379)","v":""},{"$f":"IF(Deviations_Op_Param_CMS!C379=\"\",\"\",Deviations_Op_Param_CMS!C379)","v":""},{"$f":"IF(Deviations_Op_Param_CMS!F379=\"\",\"\",Deviations_Op_Param_CMS!F379)","v":""},{"$f":"IF(Deviations_Op_Param_CMS!D379=\"\",\"\",Deviations_Op_Param_CMS!D379)","v":""},"",{"$f":"IF(COUNTIF(F$2:F358,F358)=1,F358,\"\")","v":""},"","","","",""]
[{"$f":"+IF(G359=\"\",\"\",MAX(A$1:A358)+1)","v":""},{"$f":"IF(Deviations_Op_Param_CMS!B380=\"\",\"\",Deviations_Op_Param_CMS!B380)","v":""},{"$f":"IF(Deviations_Op_Param_CMS!C380=\"\",\"\",Deviations_Op_Param_CMS!C380)","v":""},{"$f":"IF(Deviations_Op_Param_CMS!F380=\"\",\"\",Deviations_Op_Param_CMS!F380)","v":""},{"$f":"IF(Deviations_Op_Param_CMS!D380=\"\",\"\",Deviations_Op_Param_CMS!D380)","v":""},"",{"$f":"IF(COUNTIF(F$2:F359,F359)=1,F359,\"\")","v":""},"","","","",""]
[{"$f":"+IF(G360=\"\",\"\",MAX(A$1:A359)+1)","v":""},{"$f":"IF(Deviations_Op_Param_CMS!B381=\"\",\"\",Deviations_Op_Param_CMS!B381)","v":""},{"$f":"IF(Deviations_Op_Param_CMS!C381=\"\",\"\",Deviations_Op_Param_CMS!C381)","v":""},{"$f":"IF(Deviations_Op_Param_CMS!F381=\"\",\"\",Deviations_Op_Param_CMS!F381)","v":""},{"$f":"IF(Deviations_Op_Param_CMS!D381=\"\",\"\",Deviations_Op_Param_CMS!D381)","v":""},"",{"$f":"IF(COUNTIF(F$2:F360,F360)=1,F360,\"\")","v":""},"","","","",""]
[{"$f":"+IF(G361=\"\",\"\",MAX(A$1:A360)+1)","v":""},{"$f":"IF(Deviations_Op_Param_CMS!B382=\"\",\"\",Deviations_Op_Param_CMS!B382)","v":""},{"$f":"IF(Deviations_Op_Param_CMS!C382=\"\",\"\",Deviations_Op_Param_CMS!C382)","v":""},{"$f":"IF(Deviations_Op_Param_CMS!F382=\"\",\"\",Deviations_Op_Param_CMS!F382)","v":""},{"$f":"IF(Deviations_Op_Param_CMS!D382=\"\",\"\",Deviations_Op_Param_CMS!D382)","v":""},"",{"$f":"IF(COUNTIF(F$2:F361,F361)=1,F361,\"\")","v":""},"","","","",""]
[{"$f":"+IF(G362=\"\",\"\",MAX(A$1:A361)+1)","v":""},{"$f":"IF(Deviations_Op_Param_CMS!B383=\"\",\"\",Deviations_Op_Param_CMS!B383)","v":""},{"$f":"IF(Deviations_Op_Param_CMS!C383=\"\",\"\",Deviations_Op_Param_CMS!C383)","v":""},{"$f":"IF(Deviations_Op_Param_CMS!F383=\"\",\"\",Deviations_Op_Param_CMS!F383)","v":""},{"$f":"IF(Deviations_Op_Param_CMS!D383=\"\",\"\",Deviations_Op_Param_CMS!D383)","v":""},"",{"$f":"IF(COUNTIF(F$2:F362,F362)=1,F362,\"\")","v":""},"","","","",""]
[{"$f":"+IF(G363=\"\",\"\",MAX(A$1:A362)+1)","v":""},{"$f":"IF(Deviations_Op_Param_CMS!B384=\"\",\"\",Deviations_Op_Param_CMS!B384)","v":""},{"$f":"IF(Deviations_Op_Param_CMS!C384=\"\",\"\",Deviations_Op_Param_CMS!C384)","v":""},{"$f":"IF(Deviations_Op_Param_CMS!F384=\"\",\"\",Deviations_Op_Param_CMS!F384)","v":""},{"$f":"IF(Deviations_Op_Param_CMS!D384=\"\",\"\",Deviations_Op_Param_CMS!D384)","v":""},"",{"$f":"IF(COUNTIF(F$2:F363,F363)=1,F363,\"\")","v":""},"","","","",""]
[{"$f":"+IF(G364=\"\",\"\",MAX(A$1:A363)+1)","v":""},{"$f":"IF(Deviations_Op_Param_CMS!B385=\"\",\"\",Deviations_Op_Param_CMS!B385)","v":""},{"$f":"IF(Deviations_Op_Param_CMS!C385=\"\",\"\",Deviations_Op_Param_CMS!C385)","v":""},{"$f":"IF(Deviations_Op_Param_CMS!F385=\"\",\"\",Deviations_Op_Param_CMS!F385)","v":""},{"$f":"IF(Deviations_Op_Param_CMS!D385=\"\",\"\",Deviations_Op_Param_CMS!D385)","v":""},"",{"$f":"IF(COUNTIF(F$2:F364,F364)=1,F364,\"\")","v":""},"","","","",""]
[{"$f":"+IF(G365=\"\",\"\",MAX(A$1:A364)+1)","v":""},{"$f":"IF(Deviations_Op_Param_CMS!B386=\"\",\"\",Deviations_Op_Param_CMS!B386)","v":""},{"$f":"IF(Deviations_Op_Param_CMS!C386=\"\",\"\",Deviations_Op_Param_CMS!C386)","v":""},{"$f":"IF(Deviations_Op_Param_CMS!F386=\"\",\"\",Deviations_Op_Param_CMS!F386)","v":""},{"$f":"IF(Deviations_Op_Param_CMS!D386=\"\",\"\",Deviations_Op_Param_CMS!D386)","v":""},"",{"$f":"IF(COUNTIF(F$2:F365,F365)=1,F365,\"\")","v":""},"","","","",""]
[{"$f":"+IF(G366=\"\",\"\",MAX(A$1:A365)+1)","v":""},{"$f":"IF(Deviations_Op_Param_CMS!B387=\"\",\"\",Deviations_Op_Param_CMS!B387)","v":""},{"$f":"IF(Deviations_Op_Param_CMS!C387=\"\",\"\",Deviations_Op_Param_CMS!C387)","v":""},{"$f":"IF(Deviations_Op_Param_CMS!F387=\"\",\"\",Deviations_Op_Param_CMS!F387)","v":""},{"$f":"IF(Deviations_Op_Param_CMS!D387=\"\",\"\",Deviations_Op_Param_CMS!D387)","v":""},"",{"$f":"IF(COUNTIF(F$2:F366,F366)=1,F366,\"\")","v":""},"","","","",""]
[{"$f":"+IF(G367=\"\",\"\",MAX(A$1:A366)+1)","v":""},{"$f":"IF(Deviations_Op_Param_CMS!B388=\"\",\"\",Deviations_Op_Param_CMS!B388)","v":""},{"$f":"IF(Deviations_Op_Param_CMS!C388=\"\",\"\",Deviations_Op_Param_CMS!C388)","v":""},{"$f":"IF(Deviations_Op_Param_CMS!F388=\"\",\"\",Deviations_Op_Param_CMS!F388)","v":""},{"$f":"IF(Deviations_Op_Param_CMS!D388=\"\",\"\",Deviations_Op_Param_CMS!D388)","v":""},"",{"$f":"IF(COUNTIF(F$2:F367,F367)=1,F367,\"\")","v":""},"","","","",""]
[{"$f":"+IF(G368=\"\",\"\",MAX(A$1:A367)+1)","v":""},{"$f":"IF(Deviations_Op_Param_CMS!B389=\"\",\"\",Deviations_Op_Param_CMS!B389)","v":""},{"$f":"IF(Deviations_Op_Param_CMS!C389=\"\",\"\",Deviations_Op_Param_CMS!C389)","v":""},{"$f":"IF(Deviations_Op_Param_CMS!F389=\"\",\"\",Deviations_Op_Param_CMS!F389)","v":""},{"$f":"IF(Deviations_Op_Param_CMS!D389=\"\",\"\",Deviations_Op_Param_CMS!D389)","v":""},"",{"$f":"IF(COUNTIF(F$2:F368,F368)=1,F368,\"\")","v":""},"","","","",""]
[{"$f":"+IF(G369=\"\",\"\",MAX(A$1:A368)+1)","v":""},{"$f":"IF(Deviations_Op_Param_CMS!B390=\"\",\"\",Deviations_Op_Param_CMS!B390)","v":""},{"$f":"IF(Deviations_Op_Param_CMS!C390=\"\",\"\",Deviations_Op_Param_CMS!C390)","v":""},{"$f":"IF(Deviations_Op_Param_CMS!F390=\"\",\"\",Deviations_Op_Param_CMS!F390)","v":""},{"$f":"IF(Deviations_Op_Param_CMS!D390=\"\",\"\",Deviations_Op_Param_CMS!D390)","v":""},"",{"$f":"IF(COUNTIF(F$2:F369,F369)=1,F369,\"\")","v":""},"","","","",""]
[{"$f":"+IF(G370=\"\",\"\",MAX(A$1:A369)+1)","v":""},{"$f":"IF(Deviations_Op_Param_CMS!B391=\"\",\"\",Deviations_Op_Param_CMS!B391)","v":""},{"$f":"IF(Deviations_Op_Param_CMS!C391=\"\",\"\",Deviations_Op_Param_CMS!C391)","v":""},{"$f":"IF(Deviations_Op_Param_CMS!F391=\"\",\"\",Deviations_Op_Param_CMS!F391)","v":""},{"$f":"IF(Deviations_Op_Param_CMS!D391=\"\",\"\",Deviations_Op_Param_CMS!D391)","v":""},"",{"$f":"IF(COUNTIF(F$2:F370,F370)=1,F370,\"\")","v":""},"","","","",""]
[{"$f":"+IF(G371=\"\",\"\",MAX(A$1:A370)+1)","v":""},{"$f":"IF(Deviations_Op_Param_CMS!B392=\"\",\"\",Deviations_Op_Param_CMS!B392)","v":""},{"$f":"IF(Deviations_Op_Param_CMS!C392=\"\",\"\",Deviations_Op_Param_CMS!C392)","v":""},{"$f":"IF(Deviations_Op_Param_CMS!F392=\"\",\"\",Deviations_Op_Param_CMS!F392)","v":""},{"$f":"IF(Deviations_Op_Param_CMS!D392=\"\",\"\",Deviations_Op_Param_CMS!D392)","v":""},"",{"$f":"IF(COUNTIF(F$2:F371,F371)=1,F371,\"\")","v":""},"","","","",""]
[{"$f":"+IF(G372=\"\",\"\",MAX(A$1:A371)+1)","v":""},{"$f":"IF(Deviations_Op_Param_CMS!B393=\"\",\"\",Deviations_Op_Param_CMS!B393)","v":""},{"$f":"IF(Deviations_Op_Param_CMS!C393=\"\",\"\",Deviations_Op_Param_CMS!C393)","v":""},{"$f":"IF(Deviations_Op_Param_CMS!F393=\"\",\"\",Deviations_Op_Param_CMS!F393)","v":""},{"$f":"IF(Deviations_Op_Param_CMS!D393=\"\",\"\",Deviations_Op_Param_CMS!D393)","v":""},"",{"$f":"IF(COUNTIF(F$2:F372,F372)=1,F372,\"\")","v":""},"","","","",""]
[{"$f":"+IF(G373=\"\",\"\",MAX(A$1:A372)+1)","v":""},{"$f":"IF(Deviations_Op_Param_CMS!B394=\"\",\"\",Deviations_Op_Param_CMS!B394)","v":""},{"$f":"IF(Deviations_Op_Param_CMS!C394=\"\",\"\",Deviations_Op_Param_CMS!C394)","v":""},{"$f":"IF(Deviations_Op_Param_CMS!F394=\"\",\"\",Deviations_Op_Param_CMS!F394)","v":""},{"$f":"IF(Deviations_Op_Param_CMS!D394=\"\",\"\",Deviations_Op_Param_CMS!D394)","v":""},"",{"$f":"IF(COUNTIF(F$2:F373,F373)=1,F373,\"\")","v":""},"","","","",""]
[{"$f":"+IF(G374=\"\",\"\",MAX(A$1:A373)+1)","v":""},{"$f":"IF(Deviations_Op_Param_CMS!B395=\"\",\"\",Deviations_Op_Param_CMS!B395)","v":""},{"$f":"IF(Deviations_Op_Param_CMS!C395=\"\",\"\",Deviations_Op_Param_CMS!C395)","v":""},{"$f":"IF(Deviations_Op_Param_CMS!F395=\"\",\"\",Deviations_Op_Param_CMS!F395)","v":""},{"$f":"IF(Deviations_Op_Param_CMS!D395=\"\",\"\",Deviations_Op_Param_CMS!D395)","v":""},"",{"$f":"IF(COUNTIF(F$2:F374,F374)=1,F374,\"\")","v":""},"","","","",""]
[{"$f":"+IF(G375=\"\",\"\",MAX(A$1:A374)+1)","v":""},{"$f":"IF(Deviations_Op_Param_CMS!B396=\"\",\"\",Deviations_Op_Param_CMS!B396)","v":""},{"$f":"IF(Deviations_Op_Param_CMS!C396=\"\",\"\",Deviations_Op_Param_CMS!C396)","v":""},{"$f":"IF(Deviations_Op_Param_CMS!F396=\"\",\"\",Deviations_Op_Param_CMS!F396)","v":""},{"$f":"IF(Deviations_Op_Param_CMS!D396=\"\",\"\",Deviations_Op_Param_CMS!D396)","v":""},"",{"$f":"IF(COUNTIF(F$2:F375,F375)=1,F375,\"\")","v":""},"","","","",""]
[{"$f":"+IF(G376=\"\",\"\",MAX(A$1:A375)+1)","v":""},{"$f":"IF(Deviations_Op_Param_CMS!B397=\"\",\"\",Deviations_Op_Param_CMS!B397)","v":""},{"$f":"IF(Deviations_Op_Param_CMS!C397=\"\",\"\",Deviations_Op_Param_CMS!C397)","v":""},{"$f":"IF(Deviations_Op_Param_CMS!F397=\"\",\"\",Deviations_Op_Param_CMS!F397)","v":""},{"$f":"IF(Deviations_Op_Param_CMS!D397=\"\",\"\",Deviations_Op_Param_CMS!D397)","v":""},"",{"$f":"IF(COUNTIF(F$2:F376,F376)=1,F376,\"\")","v":""},"","","","",""]
[{"$f":"+IF(G377=\"\",\"\",MAX(A$1:A376)+1)","v":""},{"$f":"IF(Deviations_Op_Param_CMS!B398=\"\",\"\",Deviations_Op_Param_CMS!B398)","v":""},{"$f":"IF(Deviations_Op_Param_CMS!C398=\"\",\"\",Deviations_Op_Param_CMS!C398)","v":""},{"$f":"IF(Deviations_Op_Param_CMS!F398=\"\",\"\",Deviations_Op_Param_CMS!F398)","v":""},{"$f":"IF(Deviations_Op_Param_CMS!D398=\"\",\"\",Deviations_Op_Param_CMS!D398)","v":""},"",{"$f":"IF(COUNTIF(F$2:F377,F377)=1,F377,\"\")","v":""},"","","","",""]
[{"$f":"+IF(G378=\"\",\"\",MAX(A$1:A377)+1)","v":""},{"$f":"IF(Deviations_Op_Param_CMS!B399=\"\",\"\",Deviations_Op_Param_CMS!B399)","v":""},{"$f":"IF(Deviations_Op_Param_CMS!C399=\"\",\"\",Deviations_Op_Param_CMS!C399)","v":""},{"$f":"IF(Deviations_Op_Param_CMS!F399=\"\",\"\",Deviations_Op_Param_CMS!F399)","v":""},{"$f":"IF(Deviations_Op_Param_CMS!D399=\"\",\"\",Deviations_Op_Param_CMS!D399)","v":""},"",{"$f":"IF(COUNTIF(F$2:F378,F378)=1,F378,\"\")","v":""},"","","","",""]
[{"$f":"+IF(G379=\"\",\"\",MAX(A$1:A378)+1)","v":""},{"$f":"IF(Deviations_Op_Param_CMS!B400=\"\",\"\",Deviations_Op_Param_CMS!B400)","v":""},{"$f":"IF(Deviations_Op_Param_CMS!C400=\"\",\"\",Deviations_Op_Param_CMS!C400)","v":""},{"$f":"IF(Deviations_Op_Param_CMS!F400=\"\",\"\",Deviations_Op_Param_CMS!F400)","v":""},{"$f":"IF(Deviations_Op_Param_CMS!D400=\"\",\"\",Deviations_Op_Param_CMS!D400)","v":""},"",{"$f":"IF(COUNTIF(F$2:F379,F379)=1,F379,\"\")","v":""},"","","","",""]
[{"$f":"+IF(G380=\"\",\"\",MAX(A$1:A379)+1)","v":""},{"$f":"IF(Deviations_Op_Param_CMS!B401=\"\",\"\",Deviations_Op_Param_CMS!B401)","v":""},{"$f":"IF(Deviations_Op_Param_CMS!C401=\"\",\"\",Deviations_Op_Param_CMS!C401)","v":""},{"$f":"IF(Deviations_Op_Param_CMS!F401=\"\",\"\",Deviations_Op_Param_CMS!F401)","v":""},{"$f":"IF(Deviations_Op_Param_CMS!D401=\"\",\"\",Deviations_Op_Param_CMS!D401)","v":""},"",{"$f":"IF(COUNTIF(F$2:F380,F380)=1,F380,\"\")","v":""},"","","","",""]
[{"$f":"+IF(G381=\"\",\"\",MAX(A$1:A380)+1)","v":""},{"$f":"IF(Deviations_Op_Param_CMS!B402=\"\",\"\",Deviations_Op_Param_CMS!B402)","v":""},{"$f":"IF(Deviations_Op_Param_CMS!C402=\"\",\"\",Deviations_Op_Param_CMS!C402)","v":""},{"$f":"IF(Deviations_Op_Param_CMS!F402=\"\",\"\",Deviations_Op_Param_CMS!F402)","v":""},{"$f":"IF(Deviations_Op_Param_CMS!D402=\"\",\"\",Deviations_Op_Param_CMS!D402)","v":""},"",{"$f":"IF(COUNTIF(F$2:F381,F381)=1,F381,\"\")","v":""},"","","","",""]
[{"$f":"+IF(G382=\"\",\"\",MAX(A$1:A381)+1)","v":""},{"$f":"IF(Deviations_Op_Param_CMS!B403=\"\",\"\",Deviations_Op_Param_CMS!B403)","v":""},{"$f":"IF(Deviations_Op_Param_CMS!C403=\"\",\"\",Deviations_Op_Param_CMS!C403)","v":""},{"$f":"IF(Deviations_Op_Param_CMS!F403=\"\",\"\",Deviations_Op_Param_CMS!F403)","v":""},{"$f":"IF(Deviations_Op_Param_CMS!D403=\"\",\"\",Deviations_Op_Param_CMS!D403)","v":""},"",{"$f":"IF(COUNTIF(F$2:F382,F382)=1,F382,\"\")","v":""},"","","","",""]
[{"$f":"+IF(G383=\"\",\"\",MAX(A$1:A382)+1)","v":""},{"$f":"IF(Deviations_Op_Param_CMS!B404=\"\",\"\",Deviations_Op_Param_CMS!B404)","v":""},{"$f":"IF(Deviations_Op_Param_CMS!C404=\"\",\"\",Deviations_Op_Param_CMS!C404)","v":""},{"$f":"IF(Deviations_Op_Param_CMS!F404=\"\",\"\",Deviations_Op_Param_CMS!F404)","v":""},{"$f":"IF(Deviations_Op_Param_CMS!D404=\"\",\"\",Deviations_Op_Param_CMS!D404)","v":""},"",{"$f":"IF(COUNTIF(F$2:F383,F383)=1,F383,\"\")","v":""},"","","","",""]
[{"$f":"+IF(G384=\"\",\"\",MAX(A$1:A383)+1)","v":""},{"$f":"IF(Deviations_Op_Param_CMS!B405=\"\",\"\",Deviations_Op_Param_CMS!B405)","v":""},{"$f":"IF(Deviations_Op_Param_CMS!C405=\"\",\"\",Deviations_Op_Param_CMS!C405)","v":""},{"$f":"IF(Deviations_Op_Param_CMS!F405=\"\",\"\",Deviations_Op_Param_CMS!F405)","v":""},{"$f":"IF(Deviations_Op_Param_CMS!D405=\"\",\"\",Deviations_Op_Param_CMS!D405)","v":""},"",{"$f":"IF(COUNTIF(F$2:F384,F384)=1,F384,\"\")","v":""},"","","","",""]
[{"$f":"+IF(G385=\"\",\"\",MAX(A$1:A384)+1)","v":""},{"$f":"IF(Deviations_Op_Param_CMS!B406=\"\",\"\",Deviations_Op_Param_CMS!B406)","v":""},{"$f":"IF(Deviations_Op_Param_CMS!C406=\"\",\"\",Deviations_Op_Param_CMS!C406)","v":""},{"$f":"IF(Deviations_Op_Param_CMS!F406=\"\",\"\",Deviations_Op_Param_CMS!F406)","v":""},{"$f":"IF(Deviations_Op_Param_CMS!D406=\"\",\"\",Deviations_Op_Param_CMS!D406)","v":""},"",{"$f":"IF(COUNTIF(F$2:F385,F385)=1,F385,\"\")","v":""},"","","","",""]
[{"$f":"+IF(G386=\"\",\"\",MAX(A$1:A385)+1)","v":""},{"$f":"IF(Deviations_Op_Param_CMS!B407=\"\",\"\",Deviations_Op_Param_CMS!B407)","v":""},{"$f":"IF(Deviations_Op_Param_CMS!C407=\"\",\"\",Deviations_Op_Param_CMS!C407)","v":""},{"$f":"IF(Deviations_Op_Param_CMS!F407=\"\",\"\",Deviations_Op_Param_CMS!F407)","v":""},{"$f":"IF(Deviations_Op_Param_CMS!D407=\"\",\"\",Deviations_Op_Param_CMS!D407)","v":""},"",{"$f":"IF(COUNTIF(F$2:F386,F386)=1,F386,\"\")","v":""},"","","","",""]
[{"$f":"+IF(G387=\"\",\"\",MAX(A$1:A386)+1)","v":""},{"$f":"IF(Deviations_Op_Param_CMS!B408=\"\",\"\",Deviations_Op_Param_CMS!B408)","v":""},{"$f":"IF(Deviations_Op_Param_CMS!C408=\"\",\"\",Deviations_Op_Param_CMS!C408)","v":""},{"$f":"IF(Deviations_Op_Param_CMS!F408=\"\",\"\",Deviations_Op_Param_CMS!F408)","v":""},{"$f":"IF(Deviations_Op_Param_CMS!D408=\"\",\"\",Deviations_Op_Param_CMS!D408)","v":""},"",{"$f":"IF(COUNTIF(F$2:F387,F387)=1,F387,\"\")","v":""},{"$f":"+IFERROR(INDEX($G$3:$G$499,MATCH(ROW()-ROW($H$2),$A$3:$A$499,0)),\"\")","v":""},{"$f":"+IFERROR(INDEX($B$3:$B$499,MATCH(ROW()-ROW($H$2),$A$3:$A$499,0)),\"\")","v":""},{"$f":"+IFERROR(INDEX($C$3:$C$499,MATCH(ROW()-ROW($H$2),$A$3:$A$499,0)),\"\")","v":""},"",""]
[{"$f":"+IF(G388=\"\",\"\",MAX(A$1:A387)+1)","v":""},{"$f":"IF(Deviations_Op_Param_CMS!B409=\"\",\"\",Deviations_Op_Param_CMS!B409)","v":""},{"$f":"IF(Deviations_Op_Param_CMS!C409=\"\",\"\",Deviations_Op_Param_CMS!C409)","v":""},{"$f":"IF(Deviations_Op_Param_CMS!F409=\"\",\"\",Deviations_Op_Param_CMS!F409)","v":""},{"$f":"IF(Deviations_Op_Param_CMS!D409=\"\",\"\",Deviations_Op_Param_CMS!D409)","v":""},{"$f":"IF(E388=\"\",\"\",B388&\"-\"&C388&\"-\"&D388)","v":""},{"$f":"IF(COUNTIF(F$2:F388,F388)=1,F388,\"\")","v":""},"","","",{"$f":"+IFERROR(INDEX($C$3:$C$499,MATCH(ROW()-ROW($H$2),$A$3:$A$499,0)),\"\")","v":""},{"$f":"+IFERROR(INDEX($E$3:$E$499,MATCH(ROW()-ROW($H$2),$A$3:$A$499,0)),\"\")","v":""}]
[{"$f":"+IF(G389=\"\",\"\",MAX(A$1:A388)+1)","v":""},{"$f":"IF(Deviations_Op_Param_CMS!B410=\"\",\"\",Deviations_Op_Param_CMS!B410)","v":""},{"$f":"IF(Deviations_Op_Param_CMS!C410=\"\",\"\",Deviations_Op_Param_CMS!C410)","v":""},{"$f":"IF(Deviations_Op_Param_CMS!F410=\"\",\"\",Deviations_Op_Param_CMS!F410)","v":""},{"$f":"IF(Deviations_Op_Param_CMS!D410=\"\",\"\",Deviations_Op_Param_CMS!D410)","v":""},"",{"$f":"IF(COUNTIF(F$2:F389,F389)=1,F389,\"\")","v":""},"","","","",""]
[{"$f":"+IF(G390=\"\",\"\",MAX(A$1:A389)+1)","v":""},{"$f":"IF(Deviations_Op_Param_CMS!B411=\"\",\"\",Deviations_Op_Param_CMS!B411)","v":""},{"$f":"IF(Deviations_Op_Param_CMS!C411=\"\",\"\",Deviations_Op_Param_CMS!C411)","v":""},{"$f":"IF(Deviations_Op_Param_CMS!F411=\"\",\"\",Deviations_Op_Param_CMS!F411)","v":""},{"$f":"IF(Deviations_Op_Param_CMS!D411=\"\",\"\",Deviations_Op_Param_CMS!D411)","v":""},"",{"$f":"IF(COUNTIF(F$2:F390,F390)=1,F390,\"\")","v":""},"","","","",""]
[{"$f":"+IF(G391=\"\",\"\",MAX(A$1:A390)+1)","v":""},{"$f":"IF(Deviations_Op_Param_CMS!B412=\"\",\"\",Deviations_Op_Param_CMS!B412)","v":""},{"$f":"IF(Deviations_Op_Param_CMS!C412=\"\",\"\",Deviations_Op_Param_CMS!C412)","v":""},{"$f":"IF(Deviations_Op_Param_CMS!F412=\"\",\"\",Deviations_Op_Param_CMS!F412)","v":""},{"$f":"IF(Deviations_Op_Param_CMS!D412=\"\",\"\",Deviations_Op_Param_CMS!D412)","v":""},"",{"$f":"IF(COUNTIF(F$2:F391,F391)=1,F391,\"\")","v":""},"","","","",""]
[{"$f":"+IF(G392=\"\",\"\",MAX(A$1:A391)+1)","v":""},{"$f":"IF(Deviations_Op_Param_CMS!B413=\"\",\"\",Deviations_Op_Param_CMS!B413)","v":""},{"$f":"IF(Deviations_Op_Param_CMS!C413=\"\",\"\",Deviations_Op_Param_CMS!C413)","v":""},{"$f":"IF(Deviations_Op_Param_CMS!F413=\"\",\"\",Deviations_Op_Param_CMS!F413)","v":""},{"$f":"IF(Deviations_Op_Param_CMS!D413=\"\",\"\",Deviations_Op_Param_CMS!D413)","v":""},"",{"$f":"IF(COUNTIF(F$2:F392,F392)=1,F392,\"\")","v":""},"","","","",""]
[{"$f":"+IF(G393=\"\",\"\",MAX(A$1:A392)+1)","v":""},{"$f":"IF(Deviations_Op_Param_CMS!B414=\"\",\"\",Deviations_Op_Param_CMS!B414)","v":""},{"$f":"IF(Deviations_Op_Param_CMS!C414=\"\",\"\",Deviations_Op_Param_CMS!C414)","v":""},{"$f":"IF(Deviations_Op_Param_CMS!F414=\"\",\"\",Deviations_Op_Param_CMS!F414)","v":""},{"$f":"IF(Deviations_Op_Param_CMS!D414=\"\",\"\",Deviations_Op_Param_CMS!D414)","v":""},"",{"$f":"IF(COUNTIF(F$2:F393,F393)=1,F393,\"\")","v":""},"","","","",""]
[{"$f":"+IF(G394=\"\",\"\",MAX(A$1:A393)+1)","v":""},{"$f":"IF(Deviations_Op_Param_CMS!B415=\"\",\"\",Deviations_Op_Param_CMS!B415)","v":""},{"$f":"IF(Deviations_Op_Param_CMS!C415=\"\",\"\",Deviations_Op_Param_CMS!C415)","v":""},{"$f":"IF(Deviations_Op_Param_CMS!F415=\"\",\"\",Deviations_Op_Param_CMS!F415)","v":""},{"$f":"IF(Deviations_Op_Param_CMS!D415=\"\",\"\",Deviations_Op_Param_CMS!D415)","v":""},"",{"$f":"IF(COUNTIF(F$2:F394,F394)=1,F394,\"\")","v":""},"","","","",""]
[{"$f":"+IF(G395=\"\",\"\",MAX(A$1:A394)+1)","v":""},{"$f":"IF(Deviations_Op_Param_CMS!B416=\"\",\"\",Deviations_Op_Param_CMS!B416)","v":""},{"$f":"IF(Deviations_Op_Param_CMS!C416=\"\",\"\",Deviations_Op_Param_CMS!C416)","v":""},{"$f":"IF(Deviations_Op_Param_CMS!F416=\"\",\"\",Deviations_Op_Param_CMS!F416)","v":""},{"$f":"IF(Deviations_Op_Param_CMS!D416=\"\",\"\",Deviations_Op_Param_CMS!D416)","v":""},"",{"$f":"IF(COUNTIF(F$2:F395,F395)=1,F395,\"\")","v":""},"","","","",""]
[{"$f":"+IF(G396=\"\",\"\",MAX(A$1:A395)+1)","v":""},{"$f":"IF(Deviations_Op_Param_CMS!B417=\"\",\"\",Deviations_Op_Param_CMS!B417)","v":""},{"$f":"IF(Deviations_Op_Param_CMS!C417=\"\",\"\",Deviations_Op_Param_CMS!C417)","v":""},{"$f":"IF(Deviations_Op_Param_CMS!F417=\"\",\"\",Deviations_Op_Param_CMS!F417)","v":""},{"$f":"IF(Deviations_Op_Param_CMS!D417=\"\",\"\",Deviations_Op_Param_CMS!D417)","v":""},"",{"$f":"IF(COUNTIF(F$2:F396,F396)=1,F396,\"\")","v":""},"","","","",""]
[{"$f":"+IF(G397=\"\",\"\",MAX(A$1:A396)+1)","v":""},{"$f":"IF(Deviations_Op_Param_CMS!B418=\"\",\"\",Deviations_Op_Param_CMS!B418)","v":""},{"$f":"IF(Deviations_Op_Param_CMS!C418=\"\",\"\",Deviations_Op_Param_CMS!C418)","v":""},{"$f":"IF(Deviations_Op_Param_CMS!F418=\"\",\"\",Deviations_Op_Param_CMS!F418)","v":""},{"$f":"IF(Deviations_Op_Param_CMS!D418=\"\",\"\",Deviations_Op_Param_CMS!D418)","v":""},"",{"$f":"IF(COUNTIF(F$2:F397,F397)=1,F397,\"\")","v":""},"","","","",""]
[{"$f":"+IF(G398=\"\",\"\",MAX(A$1:A397)+1)","v":""},{"$f":"IF(Deviations_Op_Param_CMS!B419=\"\",\"\",Deviations_Op_Param_CMS!B419)","v":""},{"$f":"IF(Deviations_Op_Param_CMS!C419=\"\",\"\",Deviations_Op_Param_CMS!C419)","v":""},{"$f":"IF(Deviations_Op_Param_CMS!F419=\"\",\"\",Deviations_Op_Param_CMS!F419)","v":""},{"$f":"IF(Deviations_Op_Param_CMS!D419=\"\",\"\",Deviations_Op_Param_CMS!D419)","v":""},"",{"$f":"IF(COUNTIF(F$2:F398,F398)=1,F398,\"\")","v":""},"","","","",""]
[{"$f":"+IF(G399=\"\",\"\",MAX(A$1:A398)+1)","v":""},{"$f":"IF(Deviations_Op_Param_CMS!B420=\"\",\"\",Deviations_Op_Param_CMS!B420)","v":""},{"$f":"IF(Deviations_Op_Param_CMS!C420=\"\",\"\",Deviations_Op_Param_CMS!C420)","v":""},{"$f":"IF(Deviations_Op_Param_CMS!F420=\"\",\"\",Deviations_Op_Param_CMS!F420)","v":""},{"$f":"IF(Deviations_Op_Param_CMS!D420=\"\",\"\",Deviations_Op_Param_CMS!D420)","v":""},"",{"$f":"IF(COUNTIF(F$2:F399,F399)=1,F399,\"\")","v":""},"","","","",""]
[{"$f":"+IF(G400=\"\",\"\",MAX(A$1:A399)+1)","v":""},{"$f":"IF(Deviations_Op_Param_CMS!B421=\"\",\"\",Deviations_Op_Param_CMS!B421)","v":""},{"$f":"IF(Deviations_Op_Param_CMS!C421=\"\",\"\",Deviations_Op_Param_CMS!C421)","v":""},{"$f":"IF(Deviations_Op_Param_CMS!F421=\"\",\"\",Deviations_Op_Param_CMS!F421)","v":""},{"$f":"IF(Deviations_Op_Param_CMS!D421=\"\",\"\",Deviations_Op_Param_CMS!D421)","v":""},"",{"$f":"IF(COUNTIF(F$2:F400,F400)=1,F400,\"\")","v":""},"","","","",""]
[{"$f":"+IF(G401=\"\",\"\",MAX(A$1:A400)+1)","v":""},{"$f":"IF(Deviations_Op_Param_CMS!B422=\"\",\"\",Deviations_Op_Param_CMS!B422)","v":""},{"$f":"IF(Deviations_Op_Param_CMS!C422=\"\",\"\",Deviations_Op_Param_CMS!C422)","v":""},{"$f":"IF(Deviations_Op_Param_CMS!F422=\"\",\"\",Deviations_Op_Param_CMS!F422)","v":""},{"$f":"IF(Deviations_Op_Param_CMS!D422=\"\",\"\",Deviations_Op_Param_CMS!D422)","v":""},"",{"$f":"IF(COUNTIF(F$2:F401,F401)=1,F401,\"\")","v":""},"","","","",""]
[{"$f":"+IF(G402=\"\",\"\",MAX(A$1:A401)+1)","v":""},{"$f":"IF(Deviations_Op_Param_CMS!B423=\"\",\"\",Deviations_Op_Param_CMS!B423)","v":""},{"$f":"IF(Deviations_Op_Param_CMS!C423=\"\",\"\",Deviations_Op_Param_CMS!C423)","v":""},{"$f":"IF(Deviations_Op_Param_CMS!F423=\"\",\"\",Deviations_Op_Param_CMS!F423)","v":""},{"$f":"IF(Deviations_Op_Param_CMS!D423=\"\",\"\",Deviations_Op_Param_CMS!D423)","v":""},"",{"$f":"IF(COUNTIF(F$2:F402,F402)=1,F402,\"\")","v":""},"","","","",""]
[{"$f":"+IF(G403=\"\",\"\",MAX(A$1:A402)+1)","v":""},{"$f":"IF(Deviations_Op_Param_CMS!B424=\"\",\"\",Deviations_Op_Param_CMS!B424)","v":""},{"$f":"IF(Deviations_Op_Param_CMS!C424=\"\",\"\",Deviations_Op_Param_CMS!C424)","v":""},{"$f":"IF(Deviations_Op_Param_CMS!F424=\"\",\"\",Deviations_Op_Param_CMS!F424)","v":""},{"$f":"IF(Deviations_Op_Param_CMS!D424=\"\",\"\",Deviations_Op_Param_CMS!D424)","v":""},"",{"$f":"IF(COUNTIF(F$2:F403,F403)=1,F403,\"\")","v":""},"","","","",""]
[{"$f":"+IF(G404=\"\",\"\",MAX(A$1:A403)+1)","v":""},{"$f":"IF(Deviations_Op_Param_CMS!B425=\"\",\"\",Deviations_Op_Param_CMS!B425)","v":""},{"$f":"IF(Deviations_Op_Param_CMS!C425=\"\",\"\",Deviations_Op_Param_CMS!C425)","v":""},{"$f":"IF(Deviations_Op_Param_CMS!F425=\"\",\"\",Deviations_Op_Param_CMS!F425)","v":""},{"$f":"IF(Deviations_Op_Param_CMS!D425=\"\",\"\",Deviations_Op_Param_CMS!D425)","v":""},"",{"$f":"IF(COUNTIF(F$2:F404,F404)=1,F404,\"\")","v":""},"","","","",""]
[{"$f":"+IF(G405=\"\",\"\",MAX(A$1:A404)+1)","v":""},{"$f":"IF(Deviations_Op_Param_CMS!B426=\"\",\"\",Deviations_Op_Param_CMS!B426)","v":""},{"$f":"IF(Deviations_Op_Param_CMS!C426=\"\",\"\",Deviations_Op_Param_CMS!C426)","v":""},{"$f":"IF(Deviations_Op_Param_CMS!F426=\"\",\"\",Deviations_Op_Param_CMS!F426)","v":""},{"$f":"IF(Deviations_Op_Param_CMS!D426=\"\",\"\",Deviations_Op_Param_CMS!D426)","v":""},"",{"$f":"IF(COUNTIF(F$2:F405,F405)=1,F405,\"\")","v":""},"","","","",""]
[{"$f":"+IF(G406=\"\",\"\",MAX(A$1:A405)+1)","v":""},{"$f":"IF(Deviations_Op_Param_CMS!B427=\"\",\"\",Deviations_Op_Param_CMS!B427)","v":""},{"$f":"IF(Deviations_Op_Param_CMS!C427=\"\",\"\",Deviations_Op_Param_CMS!C427)","v":""},{"$f":"IF(Deviations_Op_Param_CMS!F427=\"\",\"\",Deviations_Op_Param_CMS!F427)","v":""},{"$f":"IF(Deviations_Op_Param_CMS!D427=\"\",\"\",Deviations_Op_Param_CMS!D427)","v":""},"",{"$f":"IF(COUNTIF(F$2:F406,F406)=1,F406,\"\")","v":""},"","","","",""]
[{"$f":"+IF(G407=\"\",\"\",MAX(A$1:A406)+1)","v":""},{"$f":"IF(Deviations_Op_Param_CMS!B428=\"\",\"\",Deviations_Op_Param_CMS!B428)","v":""},{"$f":"IF(Deviations_Op_Param_CMS!C428=\"\",\"\",Deviations_Op_Param_CMS!C428)","v":""},{"$f":"IF(Deviations_Op_Param_CMS!F428=\"\",\"\",Deviations_Op_Param_CMS!F428)","v":""},{"$f":"IF(Deviations_Op_Param_CMS!D428=\"\",\"\",Deviations_Op_Param_CMS!D428)","v":""},"",{"$f":"IF(COUNTIF(F$2:F407,F407)=1,F407,\"\")","v":""},"","","","",""]
[{"$f":"+IF(G408=\"\",\"\",MAX(A$1:A407)+1)","v":""},{"$f":"IF(Deviations_Op_Param_CMS!B429=\"\",\"\",Deviations_Op_Param_CMS!B429)","v":""},{"$f":"IF(Deviations_Op_Param_CMS!C429=\"\",\"\",Deviations_Op_Param_CMS!C429)","v":""},{"$f":"IF(Deviations_Op_Param_CMS!F429=\"\",\"\",Deviations_Op_Param_CMS!F429)","v":""},{"$f":"IF(Deviations_Op_Param_CMS!D429=\"\",\"\",Deviations_Op_Param_CMS!D429)","v":""},"",{"$f":"IF(COUNTIF(F$2:F408,F408)=1,F408,\"\")","v":""},"","","","",""]
[{"$f":"+IF(G409=\"\",\"\",MAX(A$1:A408)+1)","v":""},{"$f":"IF(Deviations_Op_Param_CMS!B430=\"\",\"\",Deviations_Op_Param_CMS!B430)","v":""},{"$f":"IF(Deviations_Op_Param_CMS!C430=\"\",\"\",Deviations_Op_Param_CMS!C430)","v":""},{"$f":"IF(Deviations_Op_Param_CMS!F430=\"\",\"\",Deviations_Op_Param_CMS!F430)","v":""},{"$f":"IF(Deviations_Op_Param_CMS!D430=\"\",\"\",Deviations_Op_Param_CMS!D430)","v":""},"",{"$f":"IF(COUNTIF(F$2:F409,F409)=1,F409,\"\")","v":""},"","","","",""]
[{"$f":"+IF(G410=\"\",\"\",MAX(A$1:A409)+1)","v":""},{"$f":"IF(Deviations_Op_Param_CMS!B431=\"\",\"\",Deviations_Op_Param_CMS!B431)","v":""},{"$f":"IF(Deviations_Op_Param_CMS!C431=\"\",\"\",Deviations_Op_Param_CMS!C431)","v":""},{"$f":"IF(Deviations_Op_Param_CMS!F431=\"\",\"\",Deviations_Op_Param_CMS!F431)","v":""},{"$f":"IF(Deviations_Op_Param_CMS!D431=\"\",\"\",Deviations_Op_Param_CMS!D431)","v":""},"",{"$f":"IF(COUNTIF(F$2:F410,F410)=1,F410,\"\")","v":""},"","","","",""]
[{"$f":"+IF(G411=\"\",\"\",MAX(A$1:A410)+1)","v":""},{"$f":"IF(Deviations_Op_Param_CMS!B432=\"\",\"\",Deviations_Op_Param_CMS!B432)","v":""},{"$f":"IF(Deviations_Op_Param_CMS!C432=\"\",\"\",Deviations_Op_Param_CMS!C432)","v":""},{"$f":"IF(Deviations_Op_Param_CMS!F432=\"\",\"\",Deviations_Op_Param_CMS!F432)","v":""},{"$f":"IF(Deviations_Op_Param_CMS!D432=\"\",\"\",Deviations_Op_Param_CMS!D432)","v":""},"",{"$f":"IF(COUNTIF(F$2:F411,F411)=1,F411,\"\")","v":""},"","","","",""]
[{"$f":"+IF(G412=\"\",\"\",MAX(A$1:A411)+1)","v":""},{"$f":"IF(Deviations_Op_Param_CMS!B433=\"\",\"\",Deviations_Op_Param_CMS!B433)","v":""},{"$f":"IF(Deviations_Op_Param_CMS!C433=\"\",\"\",Deviations_Op_Param_CMS!C433)","v":""},{"$f":"IF(Deviations_Op_Param_CMS!F433=\"\",\"\",Deviations_Op_Param_CMS!F433)","v":""},{"$f":"IF(Deviations_Op_Param_CMS!D433=\"\",\"\",Deviations_Op_Param_CMS!D433)","v":""},"",{"$f":"IF(COUNTIF(F$2:F412,F412)=1,F412,\"\")","v":""},"","","","",""]
[{"$f":"+IF(G413=\"\",\"\",MAX(A$1:A412)+1)","v":""},{"$f":"IF(Deviations_Op_Param_CMS!B434=\"\",\"\",Deviations_Op_Param_CMS!B434)","v":""},{"$f":"IF(Deviations_Op_Param_CMS!C434=\"\",\"\",Deviations_Op_Param_CMS!C434)","v":""},{"$f":"IF(Deviations_Op_Param_CMS!F434=\"\",\"\",Deviations_Op_Param_CMS!F434)","v":""},{"$f":"IF(Deviations_Op_Param_CMS!D434=\"\",\"\",Deviations_Op_Param_CMS!D434)","v":""},"",{"$f":"IF(COUNTIF(F$2:F413,F413)=1,F413,\"\")","v":""},"","","","",""]
[{"$f":"+IF(G414=\"\",\"\",MAX(A$1:A413)+1)","v":""},{"$f":"IF(Deviations_Op_Param_CMS!B435=\"\",\"\",Deviations_Op_Param_CMS!B435)","v":""},{"$f":"IF(Deviations_Op_Param_CMS!C435=\"\",\"\",Deviations_Op_Param_CMS!C435)","v":""},{"$f":"IF(Deviations_Op_Param_CMS!F435=\"\",\"\",Deviations_Op_Param_CMS!F435)","v":""},{"$f":"IF(Deviations_Op_Param_CMS!D435=\"\",\"\",Deviations_Op_Param_CMS!D435)","v":""},"",{"$f":"IF(COUNTIF(F$2:F414,F414)=1,F414,\"\")","v":""},"","","","",""]
[{"$f":"+IF(G415=\"\",\"\",MAX(A$1:A414)+1)","v":""},{"$f":"IF(Deviations_Op_Param_CMS!B436=\"\",\"\",Deviations_Op_Param_CMS!B436)","v":""},{"$f":"IF(Deviations_Op_Param_CMS!C436=\"\",\"\",Deviations_Op_Param_CMS!C436)","v":""},{"$f":"IF(Deviations_Op_Param_CMS!F436=\"\",\"\",Deviations_Op_Param_CMS!F436)","v":""},{"$f":"IF(Deviations_Op_Param_CMS!D436=\"\",\"\",Deviations_Op_Param_CMS!D436)","v":""},"",{"$f":"IF(COUNTIF(F$2:F415,F415)=1,F415,\"\")","v":""},"","","","",""]
[{"$f":"+IF(G416=\"\",\"\",MAX(A$1:A415)+1)","v":""},{"$f":"IF(Deviations_Op_Param_CMS!B437=\"\",\"\",Deviations_Op_Param_CMS!B437)","v":""},{"$f":"IF(Deviations_Op_Param_CMS!C437=\"\",\"\",Deviations_Op_Param_CMS!C437)","v":""},{"$f":"IF(Deviations_Op_Param_CMS!F437=\"\",\"\",Deviations_Op_Param_CMS!F437)","v":""},{"$f":"IF(Deviations_Op_Param_CMS!D437=\"\",\"\",Deviations_Op_Param_CMS!D437)","v":""},"",{"$f":"IF(COUNTIF(F$2:F416,F416)=1,F416,\"\")","v":""},"","","","",""]
[{"$f":"+IF(G417=\"\",\"\",MAX(A$1:A416)+1)","v":""},{"$f":"IF(Deviations_Op_Param_CMS!B438=\"\",\"\",Deviations_Op_Param_CMS!B438)","v":""},{"$f":"IF(Deviations_Op_Param_CMS!C438=\"\",\"\",Deviations_Op_Param_CMS!C438)","v":""},{"$f":"IF(Deviations_Op_Param_CMS!F438=\"\",\"\",Deviations_Op_Param_CMS!F438)","v":""},{"$f":"IF(Deviations_Op_Param_CMS!D438=\"\",\"\",Deviations_Op_Param_CMS!D438)","v":""},"",{"$f":"IF(COUNTIF(F$2:F417,F417)=1,F417,\"\")","v":""},"","","","",""]
[{"$f":"+IF(G418=\"\",\"\",MAX(A$1:A417)+1)","v":""},{"$f":"IF(Deviations_Op_Param_CMS!B439=\"\",\"\",Deviations_Op_Param_CMS!B439)","v":""},{"$f":"IF(Deviations_Op_Param_CMS!C439=\"\",\"\",Deviations_Op_Param_CMS!C439)","v":""},{"$f":"IF(Deviations_Op_Param_CMS!F439=\"\",\"\",Deviations_Op_Param_CMS!F439)","v":""},{"$f":"IF(Deviations_Op_Param_CMS!D439=\"\",\"\",Deviations_Op_Param_CMS!D439)","v":""},"",{"$f":"IF(COUNTIF(F$2:F418,F418)=1,F418,\"\")","v":""},"","","","",""]
[{"$f":"+IF(G419=\"\",\"\",MAX(A$1:A418)+1)","v":""},{"$f":"IF(Deviations_Op_Param_CMS!B440=\"\",\"\",Deviations_Op_Param_CMS!B440)","v":""},{"$f":"IF(Deviations_Op_Param_CMS!C440=\"\",\"\",Deviations_Op_Param_CMS!C440)","v":""},{"$f":"IF(Deviations_Op_Param_CMS!F440=\"\",\"\",Deviations_Op_Param_CMS!F440)","v":""},{"$f":"IF(Deviations_Op_Param_CMS!D440=\"\",\"\",Deviations_Op_Param_CMS!D440)","v":""},"",{"$f":"IF(COUNTIF(F$2:F419,F419)=1,F419,\"\")","v":""},"","","","",""]
[{"$f":"+IF(G420=\"\",\"\",MAX(A$1:A419)+1)","v":""},{"$f":"IF(Deviations_Op_Param_CMS!B441=\"\",\"\",Deviations_Op_Param_CMS!B441)","v":""},{"$f":"IF(Deviations_Op_Param_CMS!C441=\"\",\"\",Deviations_Op_Param_CMS!C441)","v":""},{"$f":"IF(Deviations_Op_Param_CMS!F441=\"\",\"\",Deviations_Op_Param_CMS!F441)","v":""},{"$f":"IF(Deviations_Op_Param_CMS!D441=\"\",\"\",Deviations_Op_Param_CMS!D441)","v":""},"",{"$f":"IF(COUNTIF(F$2:F420,F420)=1,F420,\"\")","v":""},"","","","",""]
[{"$f":"+IF(G421=\"\",\"\",MAX(A$1:A420)+1)","v":""},{"$f":"IF(Deviations_Op_Param_CMS!B442=\"\",\"\",Deviations_Op_Param_CMS!B442)","v":""},{"$f":"IF(Deviations_Op_Param_CMS!C442=\"\",\"\",Deviations_Op_Param_CMS!C442)","v":""},{"$f":"IF(Deviations_Op_Param_CMS!F442=\"\",\"\",Deviations_Op_Param_CMS!F442)","v":""},{"$f":"IF(Deviations_Op_Param_CMS!D442=\"\",\"\",Deviations_Op_Param_CMS!D442)","v":""},"",{"$f":"IF(COUNTIF(F$2:F421,F421)=1,F421,\"\")","v":""},"","","","",""]
[{"$f":"+IF(G422=\"\",\"\",MAX(A$1:A421)+1)","v":""},{"$f":"IF(Deviations_Op_Param_CMS!B443=\"\",\"\",Deviations_Op_Param_CMS!B443)","v":""},{"$f":"IF(Deviations_Op_Param_CMS!C443=\"\",\"\",Deviations_Op_Param_CMS!C443)","v":""},{"$f":"IF(Deviations_Op_Param_CMS!F443=\"\",\"\",Deviations_Op_Param_CMS!F443)","v":""},{"$f":"IF(Deviations_Op_Param_CMS!D443=\"\",\"\",Deviations_Op_Param_CMS!D443)","v":""},"",{"$f":"IF(COUNTIF(F$2:F422,F422)=1,F422,\"\")","v":""},"","","","",""]
[{"$f":"+IF(G423=\"\",\"\",MAX(A$1:A422)+1)","v":""},{"$f":"IF(Deviations_Op_Param_CMS!B444=\"\",\"\",Deviations_Op_Param_CMS!B444)","v":""},{"$f":"IF(Deviations_Op_Param_CMS!C444=\"\",\"\",Deviations_Op_Param_CMS!C444)","v":""},{"$f":"IF(Deviations_Op_Param_CMS!F444=\"\",\"\",Deviations_Op_Param_CMS!F444)","v":""},{"$f":"IF(Deviations_Op_Param_CMS!D444=\"\",\"\",Deviations_Op_Param_CMS!D444)","v":""},"",{"$f":"IF(COUNTIF(F$2:F423,F423)=1,F423,\"\")","v":""},"","","","",""]
[{"$f":"+IF(G424=\"\",\"\",MAX(A$1:A423)+1)","v":""},{"$f":"IF(Deviations_Op_Param_CMS!B445=\"\",\"\",Deviations_Op_Param_CMS!B445)","v":""},{"$f":"IF(Deviations_Op_Param_CMS!C445=\"\",\"\",Deviations_Op_Param_CMS!C445)","v":""},{"$f":"IF(Deviations_Op_Param_CMS!F445=\"\",\"\",Deviations_Op_Param_CMS!F445)","v":""},{"$f":"IF(Deviations_Op_Param_CMS!D445=\"\",\"\",Deviations_Op_Param_CMS!D445)","v":""},"",{"$f":"IF(COUNTIF(F$2:F424,F424)=1,F424,\"\")","v":""},"","","","",""]
[{"$f":"+IF(G425=\"\",\"\",MAX(A$1:A424)+1)","v":""},{"$f":"IF(Deviations_Op_Param_CMS!B446=\"\",\"\",Deviations_Op_Param_CMS!B446)","v":""},{"$f":"IF(Deviations_Op_Param_CMS!C446=\"\",\"\",Deviations_Op_Param_CMS!C446)","v":""},{"$f":"IF(Deviations_Op_Param_CMS!F446=\"\",\"\",Deviations_Op_Param_CMS!F446)","v":""},{"$f":"IF(Deviations_Op_Param_CMS!D446=\"\",\"\",Deviations_Op_Param_CMS!D446)","v":""},"",{"$f":"IF(COUNTIF(F$2:F425,F425)=1,F425,\"\")","v":""},"","","","",""]
[{"$f":"+IF(G426=\"\",\"\",MAX(A$1:A425)+1)","v":""},{"$f":"IF(Deviations_Op_Param_CMS!B447=\"\",\"\",Deviations_Op_Param_CMS!B447)","v":""},{"$f":"IF(Deviations_Op_Param_CMS!C447=\"\",\"\",Deviations_Op_Param_CMS!C447)","v":""},{"$f":"IF(Deviations_Op_Param_CMS!F447=\"\",\"\",Deviations_Op_Param_CMS!F447)","v":""},{"$f":"IF(Deviations_Op_Param_CMS!D447=\"\",\"\",Deviations_Op_Param_CMS!D447)","v":""},"",{"$f":"IF(COUNTIF(F$2:F426,F426)=1,F426,\"\")","v":""},"","","","",""]
[{"$f":"+IF(G427=\"\",\"\",MAX(A$1:A426)+1)","v":""},{"$f":"IF(Deviations_Op_Param_CMS!B448=\"\",\"\",Deviations_Op_Param_CMS!B448)","v":""},{"$f":"IF(Deviations_Op_Param_CMS!C448=\"\",\"\",Deviations_Op_Param_CMS!C448)","v":""},{"$f":"IF(Deviations_Op_Param_CMS!F448=\"\",\"\",Deviations_Op_Param_CMS!F448)","v":""},{"$f":"IF(Deviations_Op_Param_CMS!D448=\"\",\"\",Deviations_Op_Param_CMS!D448)","v":""},"",{"$f":"IF(COUNTIF(F$2:F427,F427)=1,F427,\"\")","v":""},"","","","",""]
[{"$f":"+IF(G428=\"\",\"\",MAX(A$1:A427)+1)","v":""},{"$f":"IF(Deviations_Op_Param_CMS!B449=\"\",\"\",Deviations_Op_Param_CMS!B449)","v":""},{"$f":"IF(Deviations_Op_Param_CMS!C449=\"\",\"\",Deviations_Op_Param_CMS!C449)","v":""},{"$f":"IF(Deviations_Op_Param_CMS!F449=\"\",\"\",Deviations_Op_Param_CMS!F449)","v":""},{"$f":"IF(Deviations_Op_Param_CMS!D449=\"\",\"\",Deviations_Op_Param_CMS!D449)","v":""},"",{"$f":"IF(COUNTIF(F$2:F428,F428)=1,F428,\"\")","v":""},"","","","",""]
[{"$f":"+IF(G429=\"\",\"\",MAX(A$1:A428)+1)","v":""},{"$f":"IF(Deviations_Op_Param_CMS!B450=\"\",\"\",Deviations_Op_Param_CMS!B450)","v":""},{"$f":"IF(Deviations_Op_Param_CMS!C450=\"\",\"\",Deviations_Op_Param_CMS!C450)","v":""},{"$f":"IF(Deviations_Op_Param_CMS!F450=\"\",\"\",Deviations_Op_Param_CMS!F450)","v":""},{"$f":"IF(Deviations_Op_Param_CMS!D450=\"\",\"\",Deviations_Op_Param_CMS!D450)","v":""},"",{"$f":"IF(COUNTIF(F$2:F429,F429)=1,F429,\"\")","v":""},"","","","",""]
[{"$f":"+IF(G430=\"\",\"\",MAX(A$1:A429)+1)","v":""},{"$f":"IF(Deviations_Op_Param_CMS!B451=\"\",\"\",Deviations_Op_Param_CMS!B451)","v":""},{"$f":"IF(Deviations_Op_Param_CMS!C451=\"\",\"\",Deviations_Op_Param_CMS!C451)","v":""},{"$f":"IF(Deviations_Op_Param_CMS!F451=\"\",\"\",Deviations_Op_Param_CMS!F451)","v":""},{"$f":"IF(Deviations_Op_Param_CMS!D451=\"\",\"\",Deviations_Op_Param_CMS!D451)","v":""},"",{"$f":"IF(COUNTIF(F$2:F430,F430)=1,F430,\"\")","v":""},"","","","",""]
[{"$f":"+IF(G431=\"\",\"\",MAX(A$1:A430)+1)","v":""},{"$f":"IF(Deviations_Op_Param_CMS!B452=\"\",\"\",Deviations_Op_Param_CMS!B452)","v":""},{"$f":"IF(Deviations_Op_Param_CMS!C452=\"\",\"\",Deviations_Op_Param_CMS!C452)","v":""},{"$f":"IF(Deviations_Op_Param_CMS!F452=\"\",\"\",Deviations_Op_Param_CMS!F452)","v":""},{"$f":"IF(Deviations_Op_Param_CMS!D452=\"\",\"\",Deviations_Op_Param_CMS!D452)","v":""},"",{"$f":"IF(COUNTIF(F$2:F431,F431)=1,F431,\"\")","v":""},"","","","",""]
[{"$f":"+IF(G432=\"\",\"\",MAX(A$1:A431)+1)","v":""},{"$f":"IF(Deviations_Op_Param_CMS!B453=\"\",\"\",Deviations_Op_Param_CMS!B453)","v":""},{"$f":"IF(Deviations_Op_Param_CMS!C453=\"\",\"\",Deviations_Op_Param_CMS!C453)","v":""},{"$f":"IF(Deviations_Op_Param_CMS!F453=\"\",\"\",Deviations_Op_Param_CMS!F453)","v":""},{"$f":"IF(Deviations_Op_Param_CMS!D453=\"\",\"\",Deviations_Op_Param_CMS!D453)","v":""},"",{"$f":"IF(COUNTIF(F$2:F432,F432)=1,F432,\"\")","v":""},"","","","",""]
[{"$f":"+IF(G433=\"\",\"\",MAX(A$1:A432)+1)","v":""},{"$f":"IF(Deviations_Op_Param_CMS!B454=\"\",\"\",Deviations_Op_Param_CMS!B454)","v":""},{"$f":"IF(Deviations_Op_Param_CMS!C454=\"\",\"\",Deviations_Op_Param_CMS!C454)","v":""},{"$f":"IF(Deviations_Op_Param_CMS!F454=\"\",\"\",Deviations_Op_Param_CMS!F454)","v":""},{"$f":"IF(Deviations_Op_Param_CMS!D454=\"\",\"\",Deviations_Op_Param_CMS!D454)","v":""},"",{"$f":"IF(COUNTIF(F$2:F433,F433)=1,F433,\"\")","v":""},"","","","",""]
[{"$f":"+IF(G434=\"\",\"\",MAX(A$1:A433)+1)","v":""},{"$f":"IF(Deviations_Op_Param_CMS!B455=\"\",\"\",Deviations_Op_Param_CMS!B455)","v":""},{"$f":"IF(Deviations_Op_Param_CMS!C455=\"\",\"\",Deviations_Op_Param_CMS!C455)","v":""},{"$f":"IF(Deviations_Op_Param_CMS!F455=\"\",\"\",Deviations_Op_Param_CMS!F455)","v":""},{"$f":"IF(Deviations_Op_Param_CMS!D455=\"\",\"\",Deviations_Op_Param_CMS!D455)","v":""},"",{"$f":"IF(COUNTIF(F$2:F434,F434)=1,F434,\"\")","v":""},"","","","",""]
[{"$f":"+IF(G435=\"\",\"\",MAX(A$1:A434)+1)","v":""},{"$f":"IF(Deviations_Op_Param_CMS!B456=\"\",\"\",Deviations_Op_Param_CMS!B456)","v":""},{"$f":"IF(Deviations_Op_Param_CMS!C456=\"\",\"\",Deviations_Op_Param_CMS!C456)","v":""},{"$f":"IF(Deviations_Op_Param_CMS!F456=\"\",\"\",Deviations_Op_Param_CMS!F456)","v":""},{"$f":"IF(Deviations_Op_Param_CMS!D456=\"\",\"\",Deviations_Op_Param_CMS!D456)","v":""},"",{"$f":"IF(COUNTIF(F$2:F435,F435)=1,F435,\"\")","v":""},"","","","",""]
[{"$f":"+IF(G436=\"\",\"\",MAX(A$1:A435)+1)","v":""},{"$f":"IF(Deviations_Op_Param_CMS!B457=\"\",\"\",Deviations_Op_Param_CMS!B457)","v":""},{"$f":"IF(Deviations_Op_Param_CMS!C457=\"\",\"\",Deviations_Op_Param_CMS!C457)","v":""},{"$f":"IF(Deviations_Op_Param_CMS!F457=\"\",\"\",Deviations_Op_Param_CMS!F457)","v":""},{"$f":"IF(Deviations_Op_Param_CMS!D457=\"\",\"\",Deviations_Op_Param_CMS!D457)","v":""},"",{"$f":"IF(COUNTIF(F$2:F436,F436)=1,F436,\"\")","v":""},"","","","",""]
[{"$f":"+IF(G437=\"\",\"\",MAX(A$1:A436)+1)","v":""},{"$f":"IF(Deviations_Op_Param_CMS!B458=\"\",\"\",Deviations_Op_Param_CMS!B458)","v":""},{"$f":"IF(Deviations_Op_Param_CMS!C458=\"\",\"\",Deviations_Op_Param_CMS!C458)","v":""},{"$f":"IF(Deviations_Op_Param_CMS!F458=\"\",\"\",Deviations_Op_Param_CMS!F458)","v":""},{"$f":"IF(Deviations_Op_Param_CMS!D458=\"\",\"\",Deviations_Op_Param_CMS!D458)","v":""},"",{"$f":"IF(COUNTIF(F$2:F437,F437)=1,F437,\"\")","v":""},"","","","",""]
[{"$f":"+IF(G438=\"\",\"\",MAX(A$1:A437)+1)","v":""},{"$f":"IF(Deviations_Op_Param_CMS!B459=\"\",\"\",Deviations_Op_Param_CMS!B459)","v":""},{"$f":"IF(Deviations_Op_Param_CMS!C459=\"\",\"\",Deviations_Op_Param_CMS!C459)","v":""},{"$f":"IF(Deviations_Op_Param_CMS!F459=\"\",\"\",Deviations_Op_Param_CMS!F459)","v":""},{"$f":"IF(Deviations_Op_Param_CMS!D459=\"\",\"\",Deviations_Op_Param_CMS!D459)","v":""},"",{"$f":"IF(COUNTIF(F$2:F438,F438)=1,F438,\"\")","v":""},"","","","",""]
[{"$f":"+IF(G439=\"\",\"\",MAX(A$1:A438)+1)","v":""},{"$f":"IF(Deviations_Op_Param_CMS!B460=\"\",\"\",Deviations_Op_Param_CMS!B460)","v":""},{"$f":"IF(Deviations_Op_Param_CMS!C460=\"\",\"\",Deviations_Op_Param_CMS!C460)","v":""},{"$f":"IF(Deviations_Op_Param_CMS!F460=\"\",\"\",Deviations_Op_Param_CMS!F460)","v":""},{"$f":"IF(Deviations_Op_Param_CMS!D460=\"\",\"\",Deviations_Op_Param_CMS!D460)","v":""},"",{"$f":"IF(COUNTIF(F$2:F439,F439)=1,F439,\"\")","v":""},"","","","",""]
[{"$f":"+IF(G440=\"\",\"\",MAX(A$1:A439)+1)","v":""},{"$f":"IF(Deviations_Op_Param_CMS!B461=\"\",\"\",Deviations_Op_Param_CMS!B461)","v":""},{"$f":"IF(Deviations_Op_Param_CMS!C461=\"\",\"\",Deviations_Op_Param_CMS!C461)","v":""},{"$f":"IF(Deviations_Op_Param_CMS!F461=\"\",\"\",Deviations_Op_Param_CMS!F461)","v":""},{"$f":"IF(Deviations_Op_Param_CMS!D461=\"\",\"\",Deviations_Op_Param_CMS!D461)","v":""},"",{"$f":"IF(COUNTIF(F$2:F440,F440)=1,F440,\"\")","v":""},"","","","",""]
[{"$f":"+IF(G441=\"\",\"\",MAX(A$1:A440)+1)","v":""},{"$f":"IF(Deviations_Op_Param_CMS!B462=\"\",\"\",Deviations_Op_Param_CMS!B462)","v":""},{"$f":"IF(Deviations_Op_Param_CMS!C462=\"\",\"\",Deviations_Op_Param_CMS!C462)","v":""},{"$f":"IF(Deviations_Op_Param_CMS!F462=\"\",\"\",Deviations_Op_Param_CMS!F462)","v":""},{"$f":"IF(Deviations_Op_Param_CMS!D462=\"\",\"\",Deviations_Op_Param_CMS!D462)","v":""},"",{"$f":"IF(COUNTIF(F$2:F441,F441)=1,F441,\"\")","v":""},"","","","",""]
[{"$f":"+IF(G442=\"\",\"\",MAX(A$1:A441)+1)","v":""},{"$f":"IF(Deviations_Op_Param_CMS!B463=\"\",\"\",Deviations_Op_Param_CMS!B463)","v":""},{"$f":"IF(Deviations_Op_Param_CMS!C463=\"\",\"\",Deviations_Op_Param_CMS!C463)","v":""},{"$f":"IF(Deviations_Op_Param_CMS!F463=\"\",\"\",Deviations_Op_Param_CMS!F463)","v":""},{"$f":"IF(Deviations_Op_Param_CMS!D463=\"\",\"\",Deviations_Op_Param_CMS!D463)","v":""},"",{"$f":"IF(COUNTIF(F$2:F442,F442)=1,F442,\"\")","v":""},"","","","",""]
[{"$f":"+IF(G443=\"\",\"\",MAX(A$1:A442)+1)","v":""},{"$f":"IF(Deviations_Op_Param_CMS!B464=\"\",\"\",Deviations_Op_Param_CMS!B464)","v":""},{"$f":"IF(Deviations_Op_Param_CMS!C464=\"\",\"\",Deviations_Op_Param_CMS!C464)","v":""},{"$f":"IF(Deviations_Op_Param_CMS!F464=\"\",\"\",Deviations_Op_Param_CMS!F464)","v":""},{"$f":"IF(Deviations_Op_Param_CMS!D464=\"\",\"\",Deviations_Op_Param_CMS!D464)","v":""},"",{"$f":"IF(COUNTIF(F$2:F443,F443)=1,F443,\"\")","v":""},"","","","",""]
[{"$f":"+IF(G444=\"\",\"\",MAX(A$1:A443)+1)","v":""},{"$f":"IF(Deviations_Op_Param_CMS!B465=\"\",\"\",Deviations_Op_Param_CMS!B465)","v":""},{"$f":"IF(Deviations_Op_Param_CMS!C465=\"\",\"\",Deviations_Op_Param_CMS!C465)","v":""},{"$f":"IF(Deviations_Op_Param_CMS!F465=\"\",\"\",Deviations_Op_Param_CMS!F465)","v":""},{"$f":"IF(Deviations_Op_Param_CMS!D465=\"\",\"\",Deviations_Op_Param_CMS!D465)","v":""},"",{"$f":"IF(COUNTIF(F$2:F444,F444)=1,F444,\"\")","v":""},"","","","",""]
[{"$f":"+IF(G445=\"\",\"\",MAX(A$1:A444)+1)","v":""},{"$f":"IF(Deviations_Op_Param_CMS!B466=\"\",\"\",Deviations_Op_Param_CMS!B466)","v":""},{"$f":"IF(Deviations_Op_Param_CMS!C466=\"\",\"\",Deviations_Op_Param_CMS!C466)","v":""},{"$f":"IF(Deviations_Op_Param_CMS!F466=\"\",\"\",Deviations_Op_Param_CMS!F466)","v":""},{"$f":"IF(Deviations_Op_Param_CMS!D466=\"\",\"\",Deviations_Op_Param_CMS!D466)","v":""},"",{"$f":"IF(COUNTIF(F$2:F445,F445)=1,F445,\"\")","v":""},"","","","",""]
[{"$f":"+IF(G446=\"\",\"\",MAX(A$1:A445)+1)","v":""},{"$f":"IF(Deviations_Op_Param_CMS!B467=\"\",\"\",Deviations_Op_Param_CMS!B467)","v":""},{"$f":"IF(Deviations_Op_Param_CMS!C467=\"\",\"\",Deviations_Op_Param_CMS!C467)","v":""},{"$f":"IF(Deviations_Op_Param_CMS!F467=\"\",\"\",Deviations_Op_Param_CMS!F467)","v":""},{"$f":"IF(Deviations_Op_Param_CMS!D467=\"\",\"\",Deviations_Op_Param_CMS!D467)","v":""},"",{"$f":"IF(COUNTIF(F$2:F446,F446)=1,F446,\"\")","v":""},"","","","",""]
[{"$f":"+IF(G447=\"\",\"\",MAX(A$1:A446)+1)","v":""},{"$f":"IF(Deviations_Op_Param_CMS!B468=\"\",\"\",Deviations_Op_Param_CMS!B468)","v":""},{"$f":"IF(Deviations_Op_Param_CMS!C468=\"\",\"\",Deviations_Op_Param_CMS!C468)","v":""},{"$f":"IF(Deviations_Op_Param_CMS!F468=\"\",\"\",Deviations_Op_Param_CMS!F468)","v":""},{"$f":"IF(Deviations_Op_Param_CMS!D468=\"\",\"\",Deviations_Op_Param_CMS!D468)","v":""},"",{"$f":"IF(COUNTIF(F$2:F447,F447)=1,F447,\"\")","v":""},"","","","",""]
[{"$f":"+IF(G448=\"\",\"\",MAX(A$1:A447)+1)","v":""},{"$f":"IF(Deviations_Op_Param_CMS!B469=\"\",\"\",Deviations_Op_Param_CMS!B469)","v":""},{"$f":"IF(Deviations_Op_Param_CMS!C469=\"\",\"\",Deviations_Op_Param_CMS!C469)","v":""},{"$f":"IF(Deviations_Op_Param_CMS!F469=\"\",\"\",Deviations_Op_Param_CMS!F469)","v":""},{"$f":"IF(Deviations_Op_Param_CMS!D469=\"\",\"\",Deviations_Op_Param_CMS!D469)","v":""},"",{"$f":"IF(COUNTIF(F$2:F448,F448)=1,F448,\"\")","v":""},"","","","",""]
[{"$f":"+IF(G449=\"\",\"\",MAX(A$1:A448)+1)","v":""},{"$f":"IF(Deviations_Op_Param_CMS!B470=\"\",\"\",Deviations_Op_Param_CMS!B470)","v":""},{"$f":"IF(Deviations_Op_Param_CMS!C470=\"\",\"\",Deviations_Op_Param_CMS!C470)","v":""},{"$f":"IF(Deviations_Op_Param_CMS!F470=\"\",\"\",Deviations_Op_Param_CMS!F470)","v":""},{"$f":"IF(Deviations_Op_Param_CMS!D470=\"\",\"\",Deviations_Op_Param_CMS!D470)","v":""},"",{"$f":"IF(COUNTIF(F$2:F449,F449)=1,F449,\"\")","v":""},"","","","",""]
[{"$f":"+IF(G450=\"\",\"\",MAX(A$1:A449)+1)","v":""},{"$f":"IF(Deviations_Op_Param_CMS!B471=\"\",\"\",Deviations_Op_Param_CMS!B471)","v":""},{"$f":"IF(Deviations_Op_Param_CMS!C471=\"\",\"\",Deviations_Op_Param_CMS!C471)","v":""},{"$f":"IF(Deviations_Op_Param_CMS!F471=\"\",\"\",Deviations_Op_Param_CMS!F471)","v":""},{"$f":"IF(Deviations_Op_Param_CMS!D471=\"\",\"\",Deviations_Op_Param_CMS!D471)","v":""},"",{"$f":"IF(COUNTIF(F$2:F450,F450)=1,F450,\"\")","v":""},"","","","",""]
[{"$f":"+IF(G451=\"\",\"\",MAX(A$1:A450)+1)","v":""},{"$f":"IF(Deviations_Op_Param_CMS!B472=\"\",\"\",Deviations_Op_Param_CMS!B472)","v":""},{"$f":"IF(Deviations_Op_Param_CMS!C472=\"\",\"\",Deviations_Op_Param_CMS!C472)","v":""},{"$f":"IF(Deviations_Op_Param_CMS!F472=\"\",\"\",Deviations_Op_Param_CMS!F472)","v":""},{"$f":"IF(Deviations_Op_Param_CMS!D472=\"\",\"\",Deviations_Op_Param_CMS!D472)","v":""},"",{"$f":"IF(COUNTIF(F$2:F451,F451)=1,F451,\"\")","v":""},{"$f":"+IFERROR(INDEX($G$3:$G$499,MATCH(ROW()-ROW($H$2),$A$3:$A$499,0)),\"\")","v":""},{"$f":"+IFERROR(INDEX($B$3:$B$499,MATCH(ROW()-ROW($H$2),$A$3:$A$499,0)),\"\")","v":""},{"$f":"+IFERROR(INDEX($C$3:$C$499,MATCH(ROW()-ROW($H$2),$A$3:$A$499,0)),\"\")","v":""},"",""]
[{"$f":"+IF(G452=\"\",\"\",MAX(A$1:A451)+1)","v":""},{"$f":"IF(Deviations_Op_Param_CMS!B473=\"\",\"\",Deviations_Op_Param_CMS!B473)","v":""},{"$f":"IF(Deviations_Op_Param_CMS!C473=\"\",\"\",Deviations_Op_Param_CMS!C473)","v":""},{"$f":"IF(Deviations_Op_Param_CMS!F473=\"\",\"\",Deviations_Op_Param_CMS!F473)","v":""},{"$f":"IF(Deviations_Op_Param_CMS!D473=\"\",\"\",Deviations_Op_Param_CMS!D473)","v":""},{"$f":"IF(E452=\"\",\"\",B452&\"-\"&C452&\"-\"&D452)","v":""},{"$f":"IF(COUNTIF(F$2:F452,F452)=1,F452,\"\")","v":""},"","","",{"$f":"+IFERROR(INDEX($C$3:$C$499,MATCH(ROW()-ROW($H$2),$A$3:$A$499,0)),\"\")","v":""},{"$f":"+IFERROR(INDEX($E$3:$E$499,MATCH(ROW()-ROW($H$2),$A$3:$A$499,0)),\"\")","v":""}]
[{"$f":"+IF(G453=\"\",\"\",MAX(A$1:A452)+1)","v":""},{"$f":"IF(Deviations_Op_Param_CMS!B474=\"\",\"\",Deviations_Op_Param_CMS!B474)","v":""},{"$f":"IF(Deviations_Op_Param_CMS!C474=\"\",\"\",Deviations_Op_Param_CMS!C474)","v":""},{"$f":"IF(Deviations_Op_Param_CMS!F474=\"\",\"\",Deviations_Op_Param_CMS!F474)","v":""},{"$f":"IF(Deviations_Op_Param_CMS!D474=\"\",\"\",Deviations_Op_Param_CMS!D474)","v":""},"",{"$f":"IF(COUNTIF(F$2:F453,F453)=1,F453,\"\")","v":""},"","","","",""]
[{"$f":"+IF(G454=\"\",\"\",MAX(A$1:A453)+1)","v":""},{"$f":"IF(Deviations_Op_Param_CMS!B475=\"\",\"\",Deviations_Op_Param_CMS!B475)","v":""},{"$f":"IF(Deviations_Op_Param_CMS!C475=\"\",\"\",Deviations_Op_Param_CMS!C475)","v":""},{"$f":"IF(Deviations_Op_Param_CMS!F475=\"\",\"\",Deviations_Op_Param_CMS!F475)","v":""},{"$f":"IF(Deviations_Op_Param_CMS!D475=\"\",\"\",Deviations_Op_Param_CMS!D475)","v":""},"",{"$f":"IF(COUNTIF(F$2:F454,F454)=1,F454,\"\")","v":""},"","","","",""]
[{"$f":"+IF(G455=\"\",\"\",MAX(A$1:A454)+1)","v":""},{"$f":"IF(Deviations_Op_Param_CMS!B476=\"\",\"\",Deviations_Op_Param_CMS!B476)","v":""},{"$f":"IF(Deviations_Op_Param_CMS!C476=\"\",\"\",Deviations_Op_Param_CMS!C476)","v":""},{"$f":"IF(Deviations_Op_Param_CMS!F476=\"\",\"\",Deviations_Op_Param_CMS!F476)","v":""},{"$f":"IF(Deviations_Op_Param_CMS!D476=\"\",\"\",Deviations_Op_Param_CMS!D476)","v":""},"",{"$f":"IF(COUNTIF(F$2:F455,F455)=1,F455,\"\")","v":""},"","","","",""]
[{"$f":"+IF(G456=\"\",\"\",MAX(A$1:A455)+1)","v":""},{"$f":"IF(Deviations_Op_Param_CMS!B477=\"\",\"\",Deviations_Op_Param_CMS!B477)","v":""},{"$f":"IF(Deviations_Op_Param_CMS!C477=\"\",\"\",Deviations_Op_Param_CMS!C477)","v":""},{"$f":"IF(Deviations_Op_Param_CMS!F477=\"\",\"\",Deviations_Op_Param_CMS!F477)","v":""},{"$f":"IF(Deviations_Op_Param_CMS!D477=\"\",\"\",Deviations_Op_Param_CMS!D477)","v":""},"",{"$f":"IF(COUNTIF(F$2:F456,F456)=1,F456,\"\")","v":""},"","","","",""]
[{"$f":"+IF(G457=\"\",\"\",MAX(A$1:A456)+1)","v":""},{"$f":"IF(Deviations_Op_Param_CMS!B478=\"\",\"\",Deviations_Op_Param_CMS!B478)","v":""},{"$f":"IF(Deviations_Op_Param_CMS!C478=\"\",\"\",Deviations_Op_Param_CMS!C478)","v":""},{"$f":"IF(Deviations_Op_Param_CMS!F478=\"\",\"\",Deviations_Op_Param_CMS!F478)","v":""},{"$f":"IF(Deviations_Op_Param_CMS!D478=\"\",\"\",Deviations_Op_Param_CMS!D478)","v":""},"",{"$f":"IF(COUNTIF(F$2:F457,F457)=1,F457,\"\")","v":""},"","","","",""]
[{"$f":"+IF(G458=\"\",\"\",MAX(A$1:A457)+1)","v":""},{"$f":"IF(Deviations_Op_Param_CMS!B479=\"\",\"\",Deviations_Op_Param_CMS!B479)","v":""},{"$f":"IF(Deviations_Op_Param_CMS!C479=\"\",\"\",Deviations_Op_Param_CMS!C479)","v":""},{"$f":"IF(Deviations_Op_Param_CMS!F479=\"\",\"\",Deviations_Op_Param_CMS!F479)","v":""},{"$f":"IF(Deviations_Op_Param_CMS!D479=\"\",\"\",Deviations_Op_Param_CMS!D479)","v":""},"",{"$f":"IF(COUNTIF(F$2:F458,F458)=1,F458,\"\")","v":""},"","","","",""]
[{"$f":"+IF(G459=\"\",\"\",MAX(A$1:A458)+1)","v":""},{"$f":"IF(Deviations_Op_Param_CMS!B480=\"\",\"\",Deviations_Op_Param_CMS!B480)","v":""},{"$f":"IF(Deviations_Op_Param_CMS!C480=\"\",\"\",Deviations_Op_Param_CMS!C480)","v":""},{"$f":"IF(Deviations_Op_Param_CMS!F480=\"\",\"\",Deviations_Op_Param_CMS!F480)","v":""},{"$f":"IF(Deviations_Op_Param_CMS!D480=\"\",\"\",Deviations_Op_Param_CMS!D480)","v":""},"",{"$f":"IF(COUNTIF(F$2:F459,F459)=1,F459,\"\")","v":""},"","","","",""]
[{"$f":"+IF(G460=\"\",\"\",MAX(A$1:A459)+1)","v":""},{"$f":"IF(Deviations_Op_Param_CMS!B481=\"\",\"\",Deviations_Op_Param_CMS!B481)","v":""},{"$f":"IF(Deviations_Op_Param_CMS!C481=\"\",\"\",Deviations_Op_Param_CMS!C481)","v":""},{"$f":"IF(Deviations_Op_Param_CMS!F481=\"\",\"\",Deviations_Op_Param_CMS!F481)","v":""},{"$f":"IF(Deviations_Op_Param_CMS!D481=\"\",\"\",Deviations_Op_Param_CMS!D481)","v":""},"",{"$f":"IF(COUNTIF(F$2:F460,F460)=1,F460,\"\")","v":""},"","","","",""]
[{"$f":"+IF(G461=\"\",\"\",MAX(A$1:A460)+1)","v":""},{"$f":"IF(Deviations_Op_Param_CMS!B482=\"\",\"\",Deviations_Op_Param_CMS!B482)","v":""},{"$f":"IF(Deviations_Op_Param_CMS!C482=\"\",\"\",Deviations_Op_Param_CMS!C482)","v":""},{"$f":"IF(Deviations_Op_Param_CMS!F482=\"\",\"\",Deviations_Op_Param_CMS!F482)","v":""},{"$f":"IF(Deviations_Op_Param_CMS!D482=\"\",\"\",Deviations_Op_Param_CMS!D482)","v":""},"",{"$f":"IF(COUNTIF(F$2:F461,F461)=1,F461,\"\")","v":""},"","","","",""]
[{"$f":"+IF(G462=\"\",\"\",MAX(A$1:A461)+1)","v":""},{"$f":"IF(Deviations_Op_Param_CMS!B483=\"\",\"\",Deviations_Op_Param_CMS!B483)","v":""},{"$f":"IF(Deviations_Op_Param_CMS!C483=\"\",\"\",Deviations_Op_Param_CMS!C483)","v":""},{"$f":"IF(Deviations_Op_Param_CMS!F483=\"\",\"\",Deviations_Op_Param_CMS!F483)","v":""},{"$f":"IF(Deviations_Op_Param_CMS!D483=\"\",\"\",Deviations_Op_Param_CMS!D483)","v":""},"",{"$f":"IF(COUNTIF(F$2:F462,F462)=1,F462,\"\")","v":""},"","","","",""]
[{"$f":"+IF(G463=\"\",\"\",MAX(A$1:A462)+1)","v":""},{"$f":"IF(Deviations_Op_Param_CMS!B484=\"\",\"\",Deviations_Op_Param_CMS!B484)","v":""},{"$f":"IF(Deviations_Op_Param_CMS!C484=\"\",\"\",Deviations_Op_Param_CMS!C484)","v":""},{"$f":"IF(Deviations_Op_Param_CMS!F484=\"\",\"\",Deviations_Op_Param_CMS!F484)","v":""},{"$f":"IF(Deviations_Op_Param_CMS!D484=\"\",\"\",Deviations_Op_Param_CMS!D484)","v":""},"",{"$f":"IF(COUNTIF(F$2:F463,F463)=1,F463,\"\")","v":""},"","","","",""]
[{"$f":"+IF(G464=\"\",\"\",MAX(A$1:A463)+1)","v":""},{"$f":"IF(Deviations_Op_Param_CMS!B485=\"\",\"\",Deviations_Op_Param_CMS!B485)","v":""},{"$f":"IF(Deviations_Op_Param_CMS!C485=\"\",\"\",Deviations_Op_Param_CMS!C485)","v":""},{"$f":"IF(Deviations_Op_Param_CMS!F485=\"\",\"\",Deviations_Op_Param_CMS!F485)","v":""},{"$f":"IF(Deviations_Op_Param_CMS!D485=\"\",\"\",Deviations_Op_Param_CMS!D485)","v":""},"",{"$f":"IF(COUNTIF(F$2:F464,F464)=1,F464,\"\")","v":""},"","","","",""]
[{"$f":"+IF(G465=\"\",\"\",MAX(A$1:A464)+1)","v":""},{"$f":"IF(Deviations_Op_Param_CMS!B486=\"\",\"\",Deviations_Op_Param_CMS!B486)","v":""},{"$f":"IF(Deviations_Op_Param_CMS!C486=\"\",\"\",Deviations_Op_Param_CMS!C486)","v":""},{"$f":"IF(Deviations_Op_Param_CMS!F486=\"\",\"\",Deviations_Op_Param_CMS!F486)","v":""},{"$f":"IF(Deviations_Op_Param_CMS!D486=\"\",\"\",Deviations_Op_Param_CMS!D486)","v":""},"",{"$f":"IF(COUNTIF(F$2:F465,F465)=1,F465,\"\")","v":""},"","","","",""]
[{"$f":"+IF(G466=\"\",\"\",MAX(A$1:A465)+1)","v":""},{"$f":"IF(Deviations_Op_Param_CMS!B487=\"\",\"\",Deviations_Op_Param_CMS!B487)","v":""},{"$f":"IF(Deviations_Op_Param_CMS!C487=\"\",\"\",Deviations_Op_Param_CMS!C487)","v":""},{"$f":"IF(Deviations_Op_Param_CMS!F487=\"\",\"\",Deviations_Op_Param_CMS!F487)","v":""},{"$f":"IF(Deviations_Op_Param_CMS!D487=\"\",\"\",Deviations_Op_Param_CMS!D487)","v":""},"",{"$f":"IF(COUNTIF(F$2:F466,F466)=1,F466,\"\")","v":""},"","","","",""]
[{"$f":"+IF(G467=\"\",\"\",MAX(A$1:A466)+1)","v":""},{"$f":"IF(Deviations_Op_Param_CMS!B488=\"\",\"\",Deviations_Op_Param_CMS!B488)","v":""},{"$f":"IF(Deviations_Op_Param_CMS!C488=\"\",\"\",Deviations_Op_Param_CMS!C488)","v":""},{"$f":"IF(Deviations_Op_Param_CMS!F488=\"\",\"\",Deviations_Op_Param_CMS!F488)","v":""},{"$f":"IF(Deviations_Op_Param_CMS!D488=\"\",\"\",Deviations_Op_Param_CMS!D488)","v":""},"",{"$f":"IF(COUNTIF(F$2:F467,F467)=1,F467,\"\")","v":""},"","","","",""]
[{"$f":"+IF(G468=\"\",\"\",MAX(A$1:A467)+1)","v":""},{"$f":"IF(Deviations_Op_Param_CMS!B489=\"\",\"\",Deviations_Op_Param_CMS!B489)","v":""},{"$f":"IF(Deviations_Op_Param_CMS!C489=\"\",\"\",Deviations_Op_Param_CMS!C489)","v":""},{"$f":"IF(Deviations_Op_Param_CMS!F489=\"\",\"\",Deviations_Op_Param_CMS!F489)","v":""},{"$f":"IF(Deviations_Op_Param_CMS!D489=\"\",\"\",Deviations_Op_Param_CMS!D489)","v":""},"",{"$f":"IF(COUNTIF(F$2:F468,F468)=1,F468,\"\")","v":""},"","","","",""]
[{"$f":"+IF(G469=\"\",\"\",MAX(A$1:A468)+1)","v":""},{"$f":"IF(Deviations_Op_Param_CMS!B490=\"\",\"\",Deviations_Op_Param_CMS!B490)","v":""},{"$f":"IF(Deviations_Op_Param_CMS!C490=\"\",\"\",Deviations_Op_Param_CMS!C490)","v":""},{"$f":"IF(Deviations_Op_Param_CMS!F490=\"\",\"\",Deviations_Op_Param_CMS!F490)","v":""},{"$f":"IF(Deviations_Op_Param_CMS!D490=\"\",\"\",Deviations_Op_Param_CMS!D490)","v":""},"",{"$f":"IF(COUNTIF(F$2:F469,F469)=1,F469,\"\")","v":""},"","","","",""]
[{"$f":"+IF(G470=\"\",\"\",MAX(A$1:A469)+1)","v":""},{"$f":"IF(Deviations_Op_Param_CMS!B491=\"\",\"\",Deviations_Op_Param_CMS!B491)","v":""},{"$f":"IF(Deviations_Op_Param_CMS!C491=\"\",\"\",Deviations_Op_Param_CMS!C491)","v":""},{"$f":"IF(Deviations_Op_Param_CMS!F491=\"\",\"\",Deviations_Op_Param_CMS!F491)","v":""},{"$f":"IF(Deviations_Op_Param_CMS!D491=\"\",\"\",Deviations_Op_Param_CMS!D491)","v":""},"",{"$f":"IF(COUNTIF(F$2:F470,F470)=1,F470,\"\")","v":""},"","","","",""]
[{"$f":"+IF(G471=\"\",\"\",MAX(A$1:A470)+1)","v":""},{"$f":"IF(Deviations_Op_Param_CMS!B492=\"\",\"\",Deviations_Op_Param_CMS!B492)","v":""},{"$f":"IF(Deviations_Op_Param_CMS!C492=\"\",\"\",Deviations_Op_Param_CMS!C492)","v":""},{"$f":"IF(Deviations_Op_Param_CMS!F492=\"\",\"\",Deviations_Op_Param_CMS!F492)","v":""},{"$f":"IF(Deviations_Op_Param_CMS!D492=\"\",\"\",Deviations_Op_Param_CMS!D492)","v":""},"",{"$f":"IF(COUNTIF(F$2:F471,F471)=1,F471,\"\")","v":""},"","","","",""]
[{"$f":"+IF(G472=\"\",\"\",MAX(A$1:A471)+1)","v":""},{"$f":"IF(Deviations_Op_Param_CMS!B493=\"\",\"\",Deviations_Op_Param_CMS!B493)","v":""},{"$f":"IF(Deviations_Op_Param_CMS!C493=\"\",\"\",Deviations_Op_Param_CMS!C493)","v":""},{"$f":"IF(Deviations_Op_Param_CMS!F493=\"\",\"\",Deviations_Op_Param_CMS!F493)","v":""},{"$f":"IF(Deviations_Op_Param_CMS!D493=\"\",\"\",Deviations_Op_Param_CMS!D493)","v":""},"",{"$f":"IF(COUNTIF(F$2:F472,F472)=1,F472,\"\")","v":""},"","","","",""]
[{"$f":"+IF(G473=\"\",\"\",MAX(A$1:A472)+1)","v":""},{"$f":"IF(Deviations_Op_Param_CMS!B494=\"\",\"\",Deviations_Op_Param_CMS!B494)","v":""},{"$f":"IF(Deviations_Op_Param_CMS!C494=\"\",\"\",Deviations_Op_Param_CMS!C494)","v":""},{"$f":"IF(Deviations_Op_Param_CMS!F494=\"\",\"\",Deviations_Op_Param_CMS!F494)","v":""},{"$f":"IF(Deviations_Op_Param_CMS!D494=\"\",\"\",Deviations_Op_Param_CMS!D494)","v":""},"",{"$f":"IF(COUNTIF(F$2:F473,F473)=1,F473,\"\")","v":""},"","","","",""]
[{"$f":"+IF(G474=\"\",\"\",MAX(A$1:A473)+1)","v":""},{"$f":"IF(Deviations_Op_Param_CMS!B495=\"\",\"\",Deviations_Op_Param_CMS!B495)","v":""},{"$f":"IF(Deviations_Op_Param_CMS!C495=\"\",\"\",Deviations_Op_Param_CMS!C495)","v":""},{"$f":"IF(Deviations_Op_Param_CMS!F495=\"\",\"\",Deviations_Op_Param_CMS!F495)","v":""},{"$f":"IF(Deviations_Op_Param_CMS!D495=\"\",\"\",Deviations_Op_Param_CMS!D495)","v":""},"",{"$f":"IF(COUNTIF(F$2:F474,F474)=1,F474,\"\")","v":""},"","","","",""]
[{"$f":"+IF(G475=\"\",\"\",MAX(A$1:A474)+1)","v":""},{"$f":"IF(Deviations_Op_Param_CMS!B496=\"\",\"\",Deviations_Op_Param_CMS!B496)","v":""},{"$f":"IF(Deviations_Op_Param_CMS!C496=\"\",\"\",Deviations_Op_Param_CMS!C496)","v":""},{"$f":"IF(Deviations_Op_Param_CMS!F496=\"\",\"\",Deviations_Op_Param_CMS!F496)","v":""},{"$f":"IF(Deviations_Op_Param_CMS!D496=\"\",\"\",Deviations_Op_Param_CMS!D496)","v":""},"",{"$f":"IF(COUNTIF(F$2:F475,F475)=1,F475,\"\")","v":""},"","","","",""]
[{"$f":"+IF(G476=\"\",\"\",MAX(A$1:A475)+1)","v":""},{"$f":"IF(Deviations_Op_Param_CMS!B497=\"\",\"\",Deviations_Op_Param_CMS!B497)","v":""},{"$f":"IF(Deviations_Op_Param_CMS!C497=\"\",\"\",Deviations_Op_Param_CMS!C497)","v":""},{"$f":"IF(Deviations_Op_Param_CMS!F497=\"\",\"\",Deviations_Op_Param_CMS!F497)","v":""},{"$f":"IF(Deviations_Op_Param_CMS!D497=\"\",\"\",Deviations_Op_Param_CMS!D497)","v":""},"",{"$f":"IF(COUNTIF(F$2:F476,F476)=1,F476,\"\")","v":""},"","","","",""]
[{"$f":"+IF(G477=\"\",\"\",MAX(A$1:A476)+1)","v":""},{"$f":"IF(Deviations_Op_Param_CMS!B498=\"\",\"\",Deviations_Op_Param_CMS!B498)","v":""},{"$f":"IF(Deviations_Op_Param_CMS!C498=\"\",\"\",Deviations_Op_Param_CMS!C498)","v":""},{"$f":"IF(Deviations_Op_Param_CMS!F498=\"\",\"\",Deviations_Op_Param_CMS!F498)","v":""},{"$f":"IF(Deviations_Op_Param_CMS!D498=\"\",\"\",Deviations_Op_Param_CMS!D498)","v":""},"",{"$f":"IF(COUNTIF(F$2:F477,F477)=1,F477,\"\")","v":""},"","","","",""]
[{"$f":"+IF(G478=\"\",\"\",MAX(A$1:A477)+1)","v":""},{"$f":"IF(Deviations_Op_Param_CMS!B499=\"\",\"\",Deviations_Op_Param_CMS!B499)","v":""},{"$f":"IF(Deviations_Op_Param_CMS!C499=\"\",\"\",Deviations_Op_Param_CMS!C499)","v":""},{"$f":"IF(Deviations_Op_Param_CMS!F499=\"\",\"\",Deviations_Op_Param_CMS!F499)","v":""},{"$f":"IF(Deviations_Op_Param_CMS!D499=\"\",\"\",Deviations_Op_Param_CMS!D499)","v":""},"",{"$f":"IF(COUNTIF(F$2:F478,F478)=1,F478,\"\")","v":""},"","","","",""]
[{"$f":"+IF(G479=\"\",\"\",MAX(A$1:A478)+1)","v":""},{"$f":"IF(Deviations_Op_Param_CMS!B500=\"\",\"\",Deviations_Op_Param_CMS!B500)","v":""},{"$f":"IF(Deviations_Op_Param_CMS!C500=\"\",\"\",Deviations_Op_Param_CMS!C500)","v":""},{"$f":"IF(Deviations_Op_Param_CMS!F500=\"\",\"\",Deviations_Op_Param_CMS!F500)","v":""},{"$f":"IF(Deviations_Op_Param_CMS!D500=\"\",\"\",Deviations_Op_Param_CMS!D500)","v":""},"",{"$f":"IF(COUNTIF(F$2:F479,F479)=1,F479,\"\")","v":""},"","","","",""]
[{"$f":"+IF(G480=\"\",\"\",MAX(A$1:A479)+1)","v":""},{"$f":"IF(Deviations_Op_Param_CMS!B501=\"\",\"\",Deviations_Op_Param_CMS!B501)","v":""},{"$f":"IF(Deviations_Op_Param_CMS!C501=\"\",\"\",Deviations_Op_Param_CMS!C501)","v":""},{"$f":"IF(Deviations_Op_Param_CMS!F501=\"\",\"\",Deviations_Op_Param_CMS!F501)","v":""},{"$f":"IF(Deviations_Op_Param_CMS!D501=\"\",\"\",Deviations_Op_Param_CMS!D501)","v":""},"",{"$f":"IF(COUNTIF(F$2:F480,F480)=1,F480,\"\")","v":""},"","","","",""]
[{"$f":"+IF(G481=\"\",\"\",MAX(A$1:A480)+1)","v":""},{"$f":"IF(Deviations_Op_Param_CMS!B502=\"\",\"\",Deviations_Op_Param_CMS!B502)","v":""},{"$f":"IF(Deviations_Op_Param_CMS!C502=\"\",\"\",Deviations_Op_Param_CMS!C502)","v":""},{"$f":"IF(Deviations_Op_Param_CMS!F502=\"\",\"\",Deviations_Op_Param_CMS!F502)","v":""},{"$f":"IF(Deviations_Op_Param_CMS!D502=\"\",\"\",Deviations_Op_Param_CMS!D502)","v":""},"",{"$f":"IF(COUNTIF(F$2:F481,F481)=1,F481,\"\")","v":""},"","","","",""]
[{"$f":"+IF(G482=\"\",\"\",MAX(A$1:A481)+1)","v":""},{"$f":"IF(Deviations_Op_Param_CMS!B503=\"\",\"\",Deviations_Op_Param_CMS!B503)","v":""},{"$f":"IF(Deviations_Op_Param_CMS!C503=\"\",\"\",Deviations_Op_Param_CMS!C503)","v":""},{"$f":"IF(Deviations_Op_Param_CMS!F503=\"\",\"\",Deviations_Op_Param_CMS!F503)","v":""},{"$f":"IF(Deviations_Op_Param_CMS!D503=\"\",\"\",Deviations_Op_Param_CMS!D503)","v":""},"",{"$f":"IF(COUNTIF(F$2:F482,F482)=1,F482,\"\")","v":""},"","","","",""]
[{"$f":"+IF(G483=\"\",\"\",MAX(A$1:A482)+1)","v":""},{"$f":"IF(Deviations_Op_Param_CMS!B504=\"\",\"\",Deviations_Op_Param_CMS!B504)","v":""},{"$f":"IF(Deviations_Op_Param_CMS!C504=\"\",\"\",Deviations_Op_Param_CMS!C504)","v":""},{"$f":"IF(Deviations_Op_Param_CMS!F504=\"\",\"\",Deviations_Op_Param_CMS!F504)","v":""},{"$f":"IF(Deviations_Op_Param_CMS!D504=\"\",\"\",Deviations_Op_Param_CMS!D504)","v":""},"",{"$f":"IF(COUNTIF(F$2:F483,F483)=1,F483,\"\")","v":""},"","","","",""]
[{"$f":"+IF(G484=\"\",\"\",MAX(A$1:A483)+1)","v":""},{"$f":"IF(Deviations_Op_Param_CMS!B505=\"\",\"\",Deviations_Op_Param_CMS!B505)","v":""},{"$f":"IF(Deviations_Op_Param_CMS!C505=\"\",\"\",Deviations_Op_Param_CMS!C505)","v":""},{"$f":"IF(Deviations_Op_Param_CMS!F505=\"\",\"\",Deviations_Op_Param_CMS!F505)","v":""},{"$f":"IF(Deviations_Op_Param_CMS!D505=\"\",\"\",Deviations_Op_Param_CMS!D505)","v":""},"",{"$f":"IF(COUNTIF(F$2:F484,F484)=1,F484,\"\")","v":""},"","","","",""]
[{"$f":"+IF(G485=\"\",\"\",MAX(A$1:A484)+1)","v":""},{"$f":"IF(Deviations_Op_Param_CMS!B506=\"\",\"\",Deviations_Op_Param_CMS!B506)","v":""},{"$f":"IF(Deviations_Op_Param_CMS!C506=\"\",\"\",Deviations_Op_Param_CMS!C506)","v":""},{"$f":"IF(Deviations_Op_Param_CMS!F506=\"\",\"\",Deviations_Op_Param_CMS!F506)","v":""},{"$f":"IF(Deviations_Op_Param_CMS!D506=\"\",\"\",Deviations_Op_Param_CMS!D506)","v":""},"",{"$f":"IF(COUNTIF(F$2:F485,F485)=1,F485,\"\")","v":""},"","","","",""]
[{"$f":"+IF(G486=\"\",\"\",MAX(A$1:A485)+1)","v":""},{"$f":"IF(Deviations_Op_Param_CMS!B507=\"\",\"\",Deviations_Op_Param_CMS!B507)","v":""},{"$f":"IF(Deviations_Op_Param_CMS!C507=\"\",\"\",Deviations_Op_Param_CMS!C507)","v":""},{"$f":"IF(Deviations_Op_Param_CMS!F507=\"\",\"\",Deviations_Op_Param_CMS!F507)","v":""},{"$f":"IF(Deviations_Op_Param_CMS!D507=\"\",\"\",Deviations_Op_Param_CMS!D507)","v":""},"",{"$f":"IF(COUNTIF(F$2:F486,F486)=1,F486,\"\")","v":""},"","","","",""]
[{"$f":"+IF(G487=\"\",\"\",MAX(A$1:A486)+1)","v":""},{"$f":"IF(Deviations_Op_Param_CMS!B508=\"\",\"\",Deviations_Op_Param_CMS!B508)","v":""},{"$f":"IF(Deviations_Op_Param_CMS!C508=\"\",\"\",Deviations_Op_Param_CMS!C508)","v":""},{"$f":"IF(Deviations_Op_Param_CMS!F508=\"\",\"\",Deviations_Op_Param_CMS!F508)","v":""},{"$f":"IF(Deviations_Op_Param_CMS!D508=\"\",\"\",Deviations_Op_Param_CMS!D508)","v":""},"",{"$f":"IF(COUNTIF(F$2:F487,F487)=1,F487,\"\")","v":""},"","","","",""]
[{"$f":"+IF(G488=\"\",\"\",MAX(A$1:A487)+1)","v":""},{"$f":"IF(Deviations_Op_Param_CMS!B509=\"\",\"\",Deviations_Op_Param_CMS!B509)","v":""},{"$f":"IF(Deviations_Op_Param_CMS!C509=\"\",\"\",Deviations_Op_Param_CMS!C509)","v":""},{"$f":"IF(Deviations_Op_Param_CMS!F509=\"\",\"\",Deviations_Op_Param_CMS!F509)","v":""},{"$f":"IF(Deviations_Op_Param_CMS!D509=\"\",\"\",Deviations_Op_Param_CMS!D509)","v":""},"",{"$f":"IF(COUNTIF(F$2:F488,F488)=1,F488,\"\")","v":""},"","","","",""]
[{"$f":"+IF(G489=\"\",\"\",MAX(A$1:A488)+1)","v":""},{"$f":"IF(Deviations_Op_Param_CMS!B510=\"\",\"\",Deviations_Op_Param_CMS!B510)","v":""},{"$f":"IF(Deviations_Op_Param_CMS!C510=\"\",\"\",Deviations_Op_Param_CMS!C510)","v":""},{"$f":"IF(Deviations_Op_Param_CMS!F510=\"\",\"\",Deviations_Op_Param_CMS!F510)","v":""},{"$f":"IF(Deviations_Op_Param_CMS!D510=\"\",\"\",Deviations_Op_Param_CMS!D510)","v":""},"",{"$f":"IF(COUNTIF(F$2:F489,F489)=1,F489,\"\")","v":""},"","","","",""]
[{"$f":"+IF(G490=\"\",\"\",MAX(A$1:A489)+1)","v":""},{"$f":"IF(Deviations_Op_Param_CMS!B511=\"\",\"\",Deviations_Op_Param_CMS!B511)","v":""},{"$f":"IF(Deviations_Op_Param_CMS!C511=\"\",\"\",Deviations_Op_Param_CMS!C511)","v":""},{"$f":"IF(Deviations_Op_Param_CMS!F511=\"\",\"\",Deviations_Op_Param_CMS!F511)","v":""},{"$f":"IF(Deviations_Op_Param_CMS!D511=\"\",\"\",Deviations_Op_Param_CMS!D511)","v":""},"",{"$f":"IF(COUNTIF(F$2:F490,F490)=1,F490,\"\")","v":""},"","","","",""]
[{"$f":"+IF(G491=\"\",\"\",MAX(A$1:A490)+1)","v":""},{"$f":"IF(Deviations_Op_Param_CMS!B512=\"\",\"\",Deviations_Op_Param_CMS!B512)","v":""},{"$f":"IF(Deviations_Op_Param_CMS!C512=\"\",\"\",Deviations_Op_Param_CMS!C512)","v":""},{"$f":"IF(Deviations_Op_Param_CMS!F512=\"\",\"\",Deviations_Op_Param_CMS!F512)","v":""},{"$f":"IF(Deviations_Op_Param_CMS!D512=\"\",\"\",Deviations_Op_Param_CMS!D512)","v":""},"",{"$f":"IF(COUNTIF(F$2:F491,F491)=1,F491,\"\")","v":""},"","","","",""]
[{"$f":"+IF(G492=\"\",\"\",MAX(A$1:A491)+1)","v":""},{"$f":"IF(Deviations_Op_Param_CMS!B513=\"\",\"\",Deviations_Op_Param_CMS!B513)","v":""},{"$f":"IF(Deviations_Op_Param_CMS!C513=\"\",\"\",Deviations_Op_Param_CMS!C513)","v":""},{"$f":"IF(Deviations_Op_Param_CMS!F513=\"\",\"\",Deviations_Op_Param_CMS!F513)","v":""},{"$f":"IF(Deviations_Op_Param_CMS!D513=\"\",\"\",Deviations_Op_Param_CMS!D513)","v":""},"",{"$f":"IF(COUNTIF(F$2:F492,F492)=1,F492,\"\")","v":""},"","","","",""]
[{"$f":"+IF(G493=\"\",\"\",MAX(A$1:A492)+1)","v":""},{"$f":"IF(Deviations_Op_Param_CMS!B514=\"\",\"\",Deviations_Op_Param_CMS!B514)","v":""},{"$f":"IF(Deviations_Op_Param_CMS!C514=\"\",\"\",Deviations_Op_Param_CMS!C514)","v":""},{"$f":"IF(Deviations_Op_Param_CMS!F514=\"\",\"\",Deviations_Op_Param_CMS!F514)","v":""},{"$f":"IF(Deviations_Op_Param_CMS!D514=\"\",\"\",Deviations_Op_Param_CMS!D514)","v":""},"",{"$f":"IF(COUNTIF(F$2:F493,F493)=1,F493,\"\")","v":""},"","","","",""]
[{"$f":"+IF(G494=\"\",\"\",MAX(A$1:A493)+1)","v":""},{"$f":"IF(Deviations_Op_Param_CMS!B515=\"\",\"\",Deviations_Op_Param_CMS!B515)","v":""},{"$f":"IF(Deviations_Op_Param_CMS!C515=\"\",\"\",Deviations_Op_Param_CMS!C515)","v":""},{"$f":"IF(Deviations_Op_Param_CMS!F515=\"\",\"\",Deviations_Op_Param_CMS!F515)","v":""},{"$f":"IF(Deviations_Op_Param_CMS!D515=\"\",\"\",Deviations_Op_Param_CMS!D515)","v":""},"",{"$f":"IF(COUNTIF(F$2:F494,F494)=1,F494,\"\")","v":""},"","","","",""]
[{"$f":"+IF(G495=\"\",\"\",MAX(A$1:A494)+1)","v":""},{"$f":"IF(Deviations_Op_Param_CMS!B516=\"\",\"\",Deviations_Op_Param_CMS!B516)","v":""},{"$f":"IF(Deviations_Op_Param_CMS!C516=\"\",\"\",Deviations_Op_Param_CMS!C516)","v":""},{"$f":"IF(Deviations_Op_Param_CMS!F516=\"\",\"\",Deviations_Op_Param_CMS!F516)","v":""},{"$f":"IF(Deviations_Op_Param_CMS!D516=\"\",\"\",Deviations_Op_Param_CMS!D516)","v":""},"",{"$f":"IF(COUNTIF(F$2:F495,F495)=1,F495,\"\")","v":""},"","","","",""]
[{"$f":"+IF(G496=\"\",\"\",MAX(A$1:A495)+1)","v":""},{"$f":"IF(Deviations_Op_Param_CMS!B517=\"\",\"\",Deviations_Op_Param_CMS!B517)","v":""},{"$f":"IF(Deviations_Op_Param_CMS!C517=\"\",\"\",Deviations_Op_Param_CMS!C517)","v":""},{"$f":"IF(Deviations_Op_Param_CMS!F517=\"\",\"\",Deviations_Op_Param_CMS!F517)","v":""},{"$f":"IF(Deviations_Op_Param_CMS!D517=\"\",\"\",Deviations_Op_Param_CMS!D517)","v":""},"",{"$f":"IF(COUNTIF(F$2:F496,F496)=1,F496,\"\")","v":""},"","","","",""]
[{"$f":"+IF(G497=\"\",\"\",MAX(A$1:A496)+1)","v":""},{"$f":"IF(Deviations_Op_Param_CMS!B518=\"\",\"\",Deviations_Op_Param_CMS!B518)","v":""},{"$f":"IF(Deviations_Op_Param_CMS!C518=\"\",\"\",Deviations_Op_Param_CMS!C518)","v":""},{"$f":"IF(Deviations_Op_Param_CMS!F518=\"\",\"\",Deviations_Op_Param_CMS!F518)","v":""},{"$f":"IF(Deviations_Op_Param_CMS!D518=\"\",\"\",Deviations_Op_Param_CMS!D518)","v":""},"",{"$f":"IF(COUNTIF(F$2:F497,F497)=1,F497,\"\")","v":""},"","","","",""]
[{"$f":"+IF(G498=\"\",\"\",MAX(A$1:A497)+1)","v":""},{"$f":"IF(Deviations_Op_Param_CMS!B519=\"\",\"\",Deviations_Op_Param_CMS!B519)","v":""},{"$f":"IF(Deviations_Op_Param_CMS!C519=\"\",\"\",Deviations_Op_Param_CMS!C519)","v":""},{"$f":"IF(Deviations_Op_Param_CMS!F519=\"\",\"\",Deviations_Op_Param_CMS!F519)","v":""},{"$f":"IF(Deviations_Op_Param_CMS!D519=\"\",\"\",Deviations_Op_Param_CMS!D519)","v":""},"",{"$f":"IF(COUNTIF(F$2:F498,F498)=1,F498,\"\")","v":""},"","","","",""]
[{"$f":"+IF(G499=\"\",\"\",MAX(A$1:A498)+1)","v":""},{"$f":"IF(Deviations_Op_Param_CMS!B520=\"\",\"\",Deviations_Op_Param_CMS!B520)","v":""},{"$f":"IF(Deviations_Op_Param_CMS!C520=\"\",\"\",Deviations_Op_Param_CMS!C520)","v":""},{"$f":"IF(Deviations_Op_Param_CMS!F520=\"\",\"\",Deviations_Op_Param_CMS!F520)","v":""},{"$f":"IF(Deviations_Op_Param_CMS!D520=\"\",\"\",Deviations_Op_Param_CMS!D520)","v":""},"",{"$f":"IF(COUNTIF(F$2:F499,F499)=1,F499,\"\")","v":""},"","","","",""]
[{"$f":"+IF(G500=\"\",\"\",MAX(A$1:A499)+1)","v":""},{"$f":"IF(Deviations_Op_Param_CMS!B521=\"\",\"\",Deviations_Op_Param_CMS!B521)","v":""},{"$f":"IF(Deviations_Op_Param_CMS!C521=\"\",\"\",Deviations_Op_Param_CMS!C521)","v":""},{"$f":"IF(Deviations_Op_Param_CMS!F521=\"\",\"\",Deviations_Op_Param_CMS!F521)","v":""},{"$f":"IF(Deviations_Op_Param_CMS!D521=\"\",\"\",Deviations_Op_Param_CMS!D521)","v":""},"",{"$f":"IF(COUNTIF(F$2:F500,F500)=1,F500,\"\")","v":""},"","","","",""]

{"sheet":"Deviations_Op_Param_CMS_Summary","index":14,"n_rows":100,"n_cols":14,"rows_kept":100,"cut":false,"hidden":false,"merged":[]}
[null,"DO NOT REMOVE OR EDIT INFORMATION IN ROWS 1 THROUGH 5\nFOR INTERNAL USE ONLY"]
[null,"Template Name"]
[null,"CitationID"]
[null,"Template Version"]
[null,"Last Updated Date"]
[]
[null,"40 CFR Part 63, Subpart JJJJ National Emission Standards for Hazardous Air Pollutants: Paper and Other Web Coating - §63.3400 Semiannual Compliance Report Spreadsheet Template"]
[]
[]
[]
[]
[null,"Company Record No.\n(Autocompleted)","Control ID\n(§63.3400(c)(2)(v) and (vi))\n(Autocompleted)","Operating Limit Deviated From\n(§63.3400(c)(2)(vi))\n(Autocompleted)","Total Source\nOperating Time (hours)\n(§63.3400(c)(2)(vi)(A))\n(Autocompleted)","Total Duration of  Deviations Due to Startup (hours)\n(§63.3400(c)(2)(vi)(F))\n(Calculated Value)","Total Duration of Due to Shutdown (hours)\n(§63.3400(c)(2)(vi)(F))\n(Calculated Value)","Total Duration of Deviations Due to Control Equipment Problems (hours)\n(§63.3400(c)(2)(vi)(F))\n(Calculated Value)","Total Duration of Deviations Due to  Process Problems (hours)\n(§63.3400(c)(2)(vi)(F))\n(Calculated Value)","Total Duration of Due to Other Known Causes (hours)\n(§63.3400(c)(2)(vi)(F))\n(Calculated Value)","Total Duration of Deviations Due to Other Unknown Causes (hours)\n(§63.3400(c)(2)(vi)(F))\n(Calculated Value)","Total Duration of Deviations (hours)\n(§63.3400(c)(2)(vi)(E))\n(Calculated Value)","Total Duration of Deviations as a Percent of Total Source Operating Time\n(§63.3400(c)(2)(vi)(E))\n(Calculated Value)","Number of Deviations \n(§63.3400(c)(2)(vi))\n(Calculated Value)"]
[null,"RecordId","ControlId_DOPCS","OperatingLimit_DOPCS","OperatingTime_DOPCS","DurationStartup_DOPCS","DurationShutdown_DOPCS","DurationControlEquip_DOPCS","DurationProcess_DOPCS","DurationOtherKnown_DOPCS","DurationOtherUnknown_DOPCS","TotalDuration_DOPCS","TotalDurationPercent_DOPCS","Number_DOPCS"]
[null,"e.g.: 1","e.g.: Group 1 ","e.g.:  Minimum combustion chamber temperature","e.g.: 4300","e.g.: 0.00","e.g.: 0.00","e.g.: 18.92","e.g.: 0.00","e.g.: 0.00","e.g.: 0.00","e.g.: 18.92","e.g.: 0.44%","e.g.: 1"]
[null,"e.g.:","e.g.:","e.g.:","e.g.:","e.g.:","e.g.:","e.g.:","e.g.:","e.g.:","e.g.:","e.g.:","e.g.:","e.g.:"]
[null,"e.g.:","e.g.:","e.g.:","e.g.:","e.g.:","e.g.:","e.g.:","e.g.:","e.g.:","e.g.:","e.g.:","e.g.:","e.g.:"]
[null,"e.g.:","e.g.:","e.g.:","e.g.:","e.g.:","e.g.:","e.g.:","e.g.:","e.g.:","e.g.:","e.g.:","e.g.:","e.g.:"]
[null,"e.g.:","e.g.:","e.g.:","e.g.:","e.g.:","e.g.:","e.g.:","e.g.:","e.g.:","e.g.:","e.g.:","e.g.:","e.g.:"]
[null,"e.g.:","e.g.:","e.g.:","e.g.:","e.g.:","e.g.:","e.g.:","e.g.:","e.g.:","e.g.:","e.g.:","e.g.:","e.g.:"]
[null,"e.g.:","e.g.:","e.g.:","e.g.:","e.g.:","e.g.:","e.g.:","e.g.:","e.g.:","e.g.:","e.g.:","e.g.:","e.g.:"]
[null,"e.g.:","e.g.:","e.g.:","e.g.:","e.g.:","e.g.:","e.g.:","e.g.:","e.g.:","e.g.:","e.g.:","e.g.:","e.g.:"]
[null,"e.g.:","e.g.:","e.g.:","e.g.:","e.g.:","e.g.:","e.g.:","e.g.:","e.g.:","e.g.:","e.g.:","e.g.:","e.g.:"]
[null,"e.g.:","e.g.:","e.g.:","e.g.:","e.g.:","e.g.:","e.g.:","e.g.:","e.g.:","e.g.:","e.g.:","e.g.:","e.g.:"]
[null,{"$f":"IF(OpParam_Deviation_CMS_Data!I3=\"\",\"\",OpParam_Deviation_CMS_Data!I3)","v":""},{"$f":"IF(OpParam_Deviation_CMS_Data!J3=\"\",\"\",OpParam_Deviation_CMS_Data!J3)","v":""},{"$f":"IF(OpParam_Deviation_CMS_Data!K3=\"\",\"\",OpParam_Deviation_CMS_Data!K3)","v":""},{"$f":"IF(OpParam_Deviation_CMS_Data!L3=\"\",\"\",OpParam_Deviation_CMS_Data!L3)","v":""},{"$f":"IF($C24=\"\",\"\",SUMIFS(Deviations_Op_Param_CMS!$K$24:'Deviations_Op_Param_CMS'!$K$500,Deviations_Op_Param_CMS!$B$24:'Deviations_Op_Param_CMS'!$B$500,$B24,Deviations_Op_Param_CMS!$C$24:'Deviations_Op_Param_CMS'!$C$500,$C24,Deviations_Op_Param_CMS!$F$24:'Deviations_Op_Param_CMS'!$F$500,$D24,Deviations_Op_Param_CMS!$M$24:'Deviations_Op_Param_CMS'!$M$500,\"Startup\"))","v":""},{"$f":"IF($C24=\"\",\"\",SUMIFS(Deviations_Op_Param_CMS!$K$24:'Deviations_Op_Param_CMS'!$K$500,Deviations_Op_Param_CMS!$B$24:'Deviations_Op_Param_CMS'!$B$500,$B24,Deviations_Op_Param_CMS!$C$24:'Deviations_Op_Param_CMS'!$C$500,$C24,Deviations_Op_Param_CMS!$F$24:'Deviations_Op_Param_CMS'!$F$500,$D24,Deviations_Op_Param_CMS!$M$24:'Deviations_Op_Param_CMS'!$M$500,\"Shutdown\"))","v":""},{"$f":"IF($C24=\"\",\"\",SUMIFS(Deviations_Op_Param_CMS!$K$24:'Deviations_Op_Param_CMS'!$K$500,Deviations_Op_Param_CMS!$B$24:'Deviations_Op_Param_CMS'!$B$500,$B24,Deviations_Op_Param_CMS!$C$24:'Deviations_Op_Param_CMS'!$C$500,$C24,Deviations_Op_Param_CMS!$F$24:'Deviations_Op_Param_CMS'!$F$500,$D24,Deviations_Op_Param_CMS!$M$24:'Deviations_Op_Param_CMS'!$M$500,\"Control Equipment Problems\"))","v":""},{"$f":"IF($C24=\"\",\"\",SUMIFS(Deviations_Op_Param_CMS!$K$24:'Deviations_Op_Param_CMS'!$K$500,Deviations_Op_Param_CMS!$B$24:'Deviations_Op_Param_CMS'!$B$500,$B24,Deviations_Op_Param_CMS!$C$24:'Deviations_Op_Param_CMS'!$C$500,$C24,Deviations_Op_Param_CMS!$F$24:'Deviations_Op_Param_CMS'!$F$500,$D24,Deviations_Op_Param_CMS!$M$24:'Deviations_Op_Param_CMS'!$M$500,\"Process Problems\"))","v":""},{"$f":"IF($C24=\"\",\"\",SUMIFS(Deviations_Op_Param_CMS!$K$24:'Deviations_Op_Param_CMS'!$K$500,Deviations_Op_Param_CMS!$B$24:'Deviations_Op_Param_CMS'!$B$500,$B24,Deviations_Op_Param_CMS!$C$24:'Deviations_Op_Param_CMS'!$C$500,$C24,Deviations_Op_Param_CMS!$F$24:'Deviations_Op_Param_CMS'!$F$500,$D24,Deviations_Op_Param_CMS!$M$24:'Deviations_Op_Param_CMS'!$M$500,\"Other Known Causes\"))","v":""},{"$f":"IF($C24=\"\",\"\",SUMIFS(Deviations_Op_Param_CMS!$K$24:'Deviations_Op_Param_CMS'!$K$500,Deviations_Op_Param_CMS!$B$24:'Deviations_Op_Param_CMS'!$B$500,$B24,Deviations_Op_Param_CMS!$C$24:'Deviations_Op_Param_CMS'!$C$500,$C24,Deviations_Op_Param_CMS!$F$24:'Deviations_Op_Param_CMS'!$F$500,$D24,Deviations_Op_Param_CMS!$M$24:'Deviations_Op_Param_CMS'!$M$500,\"Other Unknown Causes\"))","v":""},{"$f":"IF($C24=\"\",\"\",SUMIFS(Deviations_Op_Param_CMS!$K$24:'Deviations_Op_Param_CMS'!$K$500,Deviations_Op_Param_CMS!$B$24:'Deviations_Op_Param_CMS'!$B$500,$B24,Deviations_Op_Param_CMS!$C$24:'Deviations_Op_Param_CMS'!$C$500,$C24,Deviations_Op_Param_CMS!$F$24:'Deviations_Op_Param_CMS'!$F$500,$D24))","v":""},{"$f":"IF(E24=\"\",\"\",L24/E24)","v":""},{"$f":"IF($C24=\"\",\"\",COUNTIFS(Deviations_Op_Param_CMS!$B$24:'Deviations_Op_Param_CMS'!$B$500,$B24,Deviations_Op_Param_CMS!$C$24:'Deviations_Op_Param_CMS'!$C$500,$C24,Deviations_Op_Param_CMS!$F$24:'Deviations_Op_Param_CMS'!$F$500,$D24))","v":""}]
[null,{"$f":"IF(OpParam_Deviation_CMS_Data!I4=\"\",\"\",OpParam_Deviation_CMS_Data!I4)","v":""},{"$f":"IF(OpParam_Deviation_CMS_Data!J4=\"\",\"\",OpParam_Deviation_CMS_Data!J4)","v":""},{"$f":"IF(OpParam_Deviation_CMS_Data!K4=\"\",\"\",OpParam_Deviation_CMS_Data!K4)","v":""},{"$f":"IF(OpParam_Deviation_CMS_Data!L4=\"\",\"\",OpParam_Deviation_CMS_Data!L4)","v":""},{"$f":"IF($C25=\"\",\"\",SUMIFS(Deviations_Op_Param_CMS!$K$24:'Deviations_Op_Param_CMS'!$K$500,Deviations_Op_Param_CMS!$B$24:'Deviations_Op_Param_CMS'!$B$500,$B25,Deviations_Op_Param_CMS!$C$24:'Deviations_Op_Param_CMS'!$C$500,$C25,Deviations_Op_Param_CMS!$F$24:'Deviations_Op_Param_CMS'!$F$500,$D25,Deviations_Op_Param_CMS!$M$24:'Deviations_Op_Param_CMS'!$M$500,\"Startup\"))","v":""},{"$f":"IF($C25=\"\",\"\",SUMIFS(Deviations_Op_Param_CMS!$K$24:'Deviations_Op_Param_CMS'!$K$500,Deviations_Op_Param_CMS!$B$24:'Deviations_Op_Param_CMS'!$B$500,$B25,Deviations_Op_Param_CMS!$C$24:'Deviations_Op_Param_CMS'!$C$500,$C25,Deviations_Op_Param_CMS!$F$24:'Deviations_Op_Param_CMS'!$F$500,$D25,Deviations_Op_Param_CMS!$M$24:'Deviations_Op_Param_CMS'!$M$500,\"Shutdown\"))","v":""},{"$f":"IF($C25=\"\",\"\",SUMIFS(Deviations_Op_Param_CMS!$K$24:'Deviations_Op_Param_CMS'!$K$500,Deviations_Op_Param_CMS!$B$24:'Deviations_Op_Param_CMS'!$B$500,$B25,Deviations_Op_Param_CMS!$C$24:'Deviations_Op_Param_CMS'!$C$500,$C25,Deviations_Op_Param_CMS!$F$24:'Deviations_Op_Param_CMS'!$F$500,$D25,Deviations_Op_Param_CMS!$M$24:'Deviations_Op_Param_CMS'!$M$500,\"Control Equipment Problems\"))","v":""},{"$f":"IF($C25=\"\",\"\",SUMIFS(Deviations_Op_Param_CMS!$K$24:'Deviations_Op_Param_CMS'!$K$500,Deviations_Op_Param_CMS!$B$24:'Deviations_Op_Param_CMS'!$B$500,$B25,Deviations_Op_Param_CMS!$C$24:'Deviations_Op_Param_CMS'!$C$500,$C25,Deviations_Op_Param_CMS!$F$24:'Deviations_Op_Param_CMS'!$F$500,$D25,Deviations_Op_Param_CMS!$M$24:'Deviations_Op_Param_CMS'!$M$500,\"Process Problems\"))","v":""},{"$f":"IF($C25=\"\",\"\",SUMIFS(Deviations_Op_Param_CMS!$K$24:'Deviations_Op_Param_CMS'!$K$500,Deviations_Op_Param_CMS!$B$24:'Deviations_Op_Param_CMS'!$B$500,$B25,Deviations_Op_Param_CMS!$C$24:'Deviations_Op_Param_CMS'!$C$500,$C25,Deviations_Op_Param_CMS!$F$24:'Deviations_Op_Param_CMS'!$F$500,$D25,Deviations_Op_Param_CMS!$M$24:'Deviations_Op_Param_CMS'!$M$500,\"Other Known Causes\"))","v":""},{"$f":"IF($C25=\"\",\"\",SUMIFS(Deviations_Op_Param_CMS!$K$24:'Deviations_Op_Param_CMS'!$K$500,Deviations_Op_Param_CMS!$B$24:'Deviations_Op_Param_CMS'!$B$500,$B25,Deviations_Op_Param_CMS!$C$24:'Deviations_Op_Param_CMS'!$C$500,$C25,Deviations_Op_Param_CMS!$F$24:'Deviations_Op_Param_CMS'!$F$500,$D25,Deviations_Op_Param_CMS!$M$24:'Deviations_Op_Param_CMS'!$M$500,\"Other Unknown Causes\"))","v":""},{"$f":"IF($C25=\"\",\"\",SUMIFS(Deviations_Op_Param_CMS!$K$24:'Deviations_Op_Param_CMS'!$K$500,Deviations_Op_Param_CMS!$B$24:'Deviations_Op_Param_CMS'!$B$500,$B25,Deviations_Op_Param_CMS!$C$24:'Deviations_Op_Param_CMS'!$C$500,$C25,Deviations_Op_Param_CMS!$F$24:'Deviations_Op_Param_CMS'!$F$500,$D25))","v":""},{"$f":"IF(E25=\"\",\"\",L25/E25)","v":""},{"$f":"IF($C25=\"\",\"\",COUNTIFS(Deviations_Op_Param_CMS!$B$24:'Deviations_Op_Param_CMS'!$B$500,$B25,Deviations_Op_Param_CMS!$C$24:'Deviations_Op_Param_CMS'!$C$500,$C25,Deviations_Op_Param_CMS!$F$24:'Deviations_Op_Param_CMS'!$F$500,$D25))","v":""}]
[null,{"$f":"IF(OpParam_Deviation_CMS_Data!I5=\"\",\"\",OpParam_Deviation_CMS_Data!I5)","v":""},{"$f":"IF(OpParam_Deviation_CMS_Data!J5=\"\",\"\",OpParam_Deviation_CMS_Data!J5)","v":""},{"$f":"IF(OpParam_Deviation_CMS_Data!K5=\"\",\"\",OpParam_Deviation_CMS_Data!K5)","v":""},{"$f":"IF(OpParam_Deviation_CMS_Data!L5=\"\",\"\",OpParam_Deviation_CMS_Data!L5)","v":""},{"$f":"IF($C26=\"\",\"\",SUMIFS(Deviations_Op_Param_CMS!$K$24:'Deviations_Op_Param_CMS'!$K$500,Deviations_Op_Param_CMS!$B$24:'Deviations_Op_Param_CMS'!$B$500,$B26,Deviations_Op_Param_CMS!$C$24:'Deviations_Op_Param_CMS'!$C$500,$C26,Deviations_Op_Param_CMS!$F$24:'Deviations_Op_Param_CMS'!$F$500,$D26,Deviations_Op_Param_CMS!$M$24:'Deviations_Op_Param_CMS'!$M$500,\"Startup\"))","v":""},{"$f":"IF($C26=\"\",\"\",SUMIFS(Deviations_Op_Param_CMS!$K$24:'Deviations_Op_Param_CMS'!$K$500,Deviations_Op_Param_CMS!$B$24:'Deviations_Op_Param_CMS'!$B$500,$B26,Deviations_Op_Param_CMS!$C$24:'Deviations_Op_Param_CMS'!$C$500,$C26,Deviations_Op_Param_CMS!$F$24:'Deviations_Op_Param_CMS'!$F$500,$D26,Deviations_Op_Param_CMS!$M$24:'Deviations_Op_Param_CMS'!$M$500,\"Shutdown\"))","v":""},{"$f":"IF($C26=\"\",\"\",SUMIFS(Deviations_Op_Param_CMS!$K$24:'Deviations_Op_Param_CMS'!$K$500,Deviations_Op_Param_CMS!$B$24:'Deviations_Op_Param_CMS'!$B$500,$B26,Deviations_Op_Param_CMS!$C$24:'Deviations_Op_Param_CMS'!$C$500,$C26,Deviations_Op_Param_CMS!$F$24:'Deviations_Op_Param_CMS'!$F$500,$D26,Deviations_Op_Param_CMS!$M$24:'Deviations_Op_Param_CMS'!$M$500,\"Control Equipment Problems\"))","v":""},{"$f":"IF($C26=\"\",\"\",SUMIFS(Deviations_Op_Param_CMS!$K$24:'Deviations_Op_Param_CMS'!$K$500,Deviations_Op_Param_CMS!$B$24:'Deviations_Op_Param_CMS'!$B$500,$B26,Deviations_Op_Param_CMS!$C$24:'Deviations_Op_Param_CMS'!$C$500,$C26,Deviations_Op_Param_CMS!$F$24:'Deviations_Op_Param_CMS'!$F$500,$D26,Deviations_Op_Param_CMS!$M$24:'Deviations_Op_Param_CMS'!$M$500,\"Process Problems\"))","v":""},{"$f":"IF($C26=\"\",\"\",SUMIFS(Deviations_Op_Param_CMS!$K$24:'Deviations_Op_Param_CMS'!$K$500,Deviations_Op_Param_CMS!$B$24:'Deviations_Op_Param_CMS'!$B$500,$B26,Deviations_Op_Param_CMS!$C$24:'Deviations_Op_Param_CMS'!$C$500,$C26,Deviations_Op_Param_CMS!$F$24:'Deviations_Op_Param_CMS'!$F$500,$D26,Deviations_Op_Param_CMS!$M$24:'Deviations_Op_Param_CMS'!$M$500,\"Other Known Causes\"))","v":""},{"$f":"IF($C26=\"\",\"\",SUMIFS(Deviations_Op_Param_CMS!$K$24:'Deviations_Op_Param_CMS'!$K$500,Deviations_Op_Param_CMS!$B$24:'Deviations_Op_Param_CMS'!$B$500,$B26,Deviations_Op_Param_CMS!$C$24:'Deviations_Op_Param_CMS'!$C$500,$C26,Deviations_Op_Param_CMS!$F$24:'Deviations_Op_Param_CMS'!$F$500,$D26,Deviations_Op_Param_CMS!$M$24:'Deviations_Op_Param_CMS'!$M$500,\"Other Unknown Causes\"))","v":""},{"$f":"IF($C26=\"\",\"\",SUMIFS(Deviations_Op_Param_CMS!$K$24:'Deviations_Op_Param_CMS'!$K$500,Deviations_Op_Param_CMS!$B$24:'Deviations_Op_Param_CMS'!$B$500,$B26,Deviations_Op_Param_CMS!$C$24:'Deviations_Op_Param_CMS'!$C$500,$C26,Deviations_Op_Param_CMS!$F$24:'Deviations_Op_Param_CMS'!$F$500,$D26))","v":""},"",{"$f":"IF($C26=\"\",\"\",COUNTIFS(Deviations_Op_Param_CMS!$B$24:'Deviations_Op_Param_CMS'!$B$500,$B26,Deviations_Op_Param_CMS!$C$24:'Deviations_Op_Param_CMS'!$C$500,$C26,Deviations_Op_Param_CMS!$F$24:'Deviations_Op_Param_CMS'!$F$500,$D26))","v":""}]
[null,{"$f":"IF(OpParam_Deviation_CMS_Data!I6=\"\",\"\",OpParam_Deviation_CMS_Data!I6)","v":""},{"$f":"IF(OpParam_Deviation_CMS_Data!J6=\"\",\"\",OpParam_Deviation_CMS_Data!J6)","v":""},{"$f":"IF(OpParam_Deviation_CMS_Data!K6=\"\",\"\",OpParam_Deviation_CMS_Data!K6)","v":""},{"$f":"IF(OpParam_Deviation_CMS_Data!L6=\"\",\"\",OpParam_Deviation_CMS_Data!L6)","v":""},{"$f":"IF($C27=\"\",\"\",SUMIFS(Deviations_Op_Param_CMS!$K$24:'Deviations_Op_Param_CMS'!$K$500,Deviations_Op_Param_CMS!$B$24:'Deviations_Op_Param_CMS'!$B$500,$B27,Deviations_Op_Param_CMS!$C$24:'Deviations_Op_Param_CMS'!$C$500,$C27,Deviations_Op_Param_CMS!$F$24:'Deviations_Op_Param_CMS'!$F$500,$D27,Deviations_Op_Param_CMS!$M$24:'Deviations_Op_Param_CMS'!$M$500,\"Startup\"))","v":""},{"$f":"IF($C27=\"\",\"\",SUMIFS(Deviations_Op_Param_CMS!$K$24:'Deviations_Op_Param_CMS'!$K$500,Deviations_Op_Param_CMS!$B$24:'Deviations_Op_Param_CMS'!$B$500,$B27,Deviations_Op_Param_CMS!$C$24:'Deviations_Op_Param_CMS'!$C$500,$C27,Deviations_Op_Param_CMS!$F$24:'Deviations_Op_Param_CMS'!$F$500,$D27,Deviations_Op_Param_CMS!$M$24:'Deviations_Op_Param_CMS'!$M$500,\"Shutdown\"))","v":""},{"$f":"IF($C27=\"\",\"\",SUMIFS(Deviations_Op_Param_CMS!$K$24:'Deviations_Op_Param_CMS'!$K$500,Deviations_Op_Param_CMS!$B$24:'Deviations_Op_Param_CMS'!$B$500,$B27,Deviations_Op_Param_CMS!$C$24:'Deviations_Op_Param_CMS'!$C$500,$C27,Deviations_Op_Param_CMS!$F$24:'Deviations_Op_Param_CMS'!$F$500,$D27,Deviations_Op_Param_CMS!$M$24:'Deviations_Op_Param_CMS'!$M$500,\"Control Equipment Problems\"))","v":""},{"$f":"IF($C27=\"\",\"\",SUMIFS(Deviations_Op_Param_CMS!$K$24:'Deviations_Op_Param_CMS'!$K$500,Deviations_Op_Param_CMS!$B$24:'Deviations_Op_Param_CMS'!$B$500,$B27,Deviations_Op_Param_CMS!$C$24:'Deviations_Op_Param_CMS'!$C$500,$C27,Deviations_Op_Param_CMS!$F$24:'Deviations_Op_Param_CMS'!$F$500,$D27,Deviations_Op_Param_CMS!$M$24:'Deviations_Op_Param_CMS'!$M$500,\"Process Problems\"))","v":""},{"$f":"IF($C27=\"\",\"\",SUMIFS(Deviations_Op_Param_CMS!$K$24:'Deviations_Op_Param_CMS'!$K$500,Deviations_Op_Param_CMS!$B$24:'Deviations_Op_Param_CMS'!$B$500,$B27,Deviations_Op_Param_CMS!$C$24:'Deviations_Op_Param_CMS'!$C$500,$C27,Deviations_Op_Param_CMS!$F$24:'Deviations_Op_Param_CMS'!$F$500,$D27,Deviations_Op_Param_CMS!$M$24:'Deviations_Op_Param_CMS'!$M$500,\"Other Known Causes\"))","v":""},{"$f":"IF($C27=\"\",\"\",SUMIFS(Deviations_Op_Param_CMS!$K$24:'Deviations_Op_Param_CMS'!$K$500,Deviations_Op_Param_CMS!$B$24:'Deviations_Op_Param_CMS'!$B$500,$B27,Deviations_Op_Param_CMS!$C$24:'Deviations_Op_Param_CMS'!$C$500,$C27,Deviations_Op_Param_CMS!$F$24:'Deviations_Op_Param_CMS'!$F$500,$D27,Deviations_Op_Param_CMS!$M$24:'Deviations_Op_Param_CMS'!$M$500,\"Other Unknown Causes\"))","v":""},{"$f":"IF($C27=\"\",\"\",SUMIFS(Deviations_Op_Param_CMS!$K$24:'Deviations_Op_Param_CMS'!$K$500,Deviations_Op_Param_CMS!$B$24:'Deviations_Op_Param_CMS'!$B$500,$B27,Deviations_Op_Param_CMS!$C$24:'Deviations_Op_Param_CMS'!$C$500,$C27,Deviations_Op_Param_CMS!$F$24:'Deviations_Op_Param_CMS'!$F$500,$D27))","v":""},"",{"$f":"IF($C27=\"\",\"\",COUNTIFS(Deviations_Op_Param_CMS!$B$24:'Deviations_Op_Param_CMS'!$B$500,$B27,Deviations_Op_Param_CMS!$C$24:'Deviations_Op_Param_CMS'!$C$500,$C27,Deviations_Op_Param_CMS!$F$24:'Deviations_Op_Param_CMS'!$F$500,$D27))","v":""}]
[null,{"$f":"IF(OpParam_Deviation_CMS_Data!I7=\"\",\"\",OpParam_Deviation_CMS_Data!I7)","v":""},{"$f":"IF(OpParam_Deviation_CMS_Data!J7=\"\",\"\",OpParam_Deviation_CMS_Data!J7)","v":""},{"$f":"IF(OpParam_Deviation_CMS_Data!K7=\"\",\"\",OpParam_Deviation_CMS_Data!K7)","v":""},{"$f":"IF(OpParam_Deviation_CMS_Data!L7=\"\",\"\",OpParam_Deviation_CMS_Data!L7)","v":""},{"$f":"IF($C28=\"\",\"\",SUMIFS(Deviations_Op_Param_CMS!$K$24:'Deviations_Op_Param_CMS'!$K$500,Deviations_Op_Param_CMS!$B$24:'Deviations_Op_Param_CMS'!$B$500,$B28,Deviations_Op_Param_CMS!$C$24:'Deviations_Op_Param_CMS'!$C$500,$C28,Deviations_Op_Param_CMS!$F$24:'Deviations_Op_Param_CMS'!$F$500,$D28,Deviations_Op_Param_CMS!$M$24:'Deviations_Op_Param_CMS'!$M$500,\"Startup\"))","v":""},{"$f":"IF($C28=\"\",\"\",SUMIFS(Deviations_Op_Param_CMS!$K$24:'Deviations_Op_Param_CMS'!$K$500,Deviations_Op_Param_CMS!$B$24:'Deviations_Op_Param_CMS'!$B$500,$B28,Deviations_Op_Param_CMS!$C$24:'Deviations_Op_Param_CMS'!$C$500,$C28,Deviations_Op_Param_CMS!$F$24:'Deviations_Op_Param_CMS'!$F$500,$D28,Deviations_Op_Param_CMS!$M$24:'Deviations_Op_Param_CMS'!$M$500,\"Shutdown\"))","v":""},{"$f":"IF($C28=\"\",\"\",SUMIFS(Deviations_Op_Param_CMS!$K$24:'Deviations_Op_Param_CMS'!$K$500,Deviations_Op_Param_CMS!$B$24:'Deviations_Op_Param_CMS'!$B$500,$B28,Deviations_Op_Param_CMS!$C$24:'Deviations_Op_Param_CMS'!$C$500,$C28,Deviations_Op_Param_CMS!$F$24:'Deviations_Op_Param_CMS'!$F$500,$D28,Deviations_Op_Param_CMS!$M$24:'Deviations_Op_Param_CMS'!$M$500,\"Control Equipment Problems\"))","v":""},{"$f":"IF($C28=\"\",\"\",SUMIFS(Deviations_Op_Param_CMS!$K$24:'Deviations_Op_Param_CMS'!$K$500,Deviations_Op_Param_CMS!$B$24:'Deviations_Op_Param_CMS'!$B$500,$B28,Deviations_Op_Param_CMS!$C$24:'Deviations_Op_Param_CMS'!$C$500,$C28,Deviations_Op_Param_CMS!$F$24:'Deviations_Op_Param_CMS'!$F$500,$D28,Deviations_Op_Param_CMS!$M$24:'Deviations_Op_Param_CMS'!$M$500,\"Process Problems\"))","v":""},{"$f":"IF($C28=\"\",\"\",SUMIFS(Deviations_Op_Param_CMS!$K$24:'Deviations_Op_Param_CMS'!$K$500,Deviations_Op_Param_CMS!$B$24:'Deviations_Op_Param_CMS'!$B$500,$B28,Deviations_Op_Param_CMS!$C$24:'Deviations_Op_Param_CMS'!$C$500,$C28,Deviations_Op_Param_CMS!$F$24:'Deviations_Op_Param_CMS'!$F$500,$D28,Deviations_Op_Param_CMS!$M$24:'Deviations_Op_Param_CMS'!$M$500,\"Other Known Causes\"))","v":""},{"$f":"IF($C28=\"\",\"\",SUMIFS(Deviations_Op_Param_CMS!$K$24:'Deviations_Op_Param_CMS'!$K$500,Deviations_Op_Param_CMS!$B$24:'Deviations_Op_Param_CMS'!$B$500,$B28,Deviations_Op_Param_CMS!$C$24:'Deviations_Op_Param_CMS'!$C$500,$C28,Deviations_Op_Param_CMS!$F$24:'Deviations_Op_Param_CMS'!$F$500,$D28,Deviations_Op_Param_CMS!$M$24:'Deviations_Op_Param_CMS'!$M$500,\"Other Unknown Causes\"))","v":""},{"$f":"IF($C28=\"\",\"\",SUMIFS(Deviations_Op_Param_CMS!$K$24:'Deviations_Op_Param_CMS'!$K$500,Deviations_Op_Param_CMS!$B$24:'Deviations_Op_Param_CMS'!$B$500,$B28,Deviations_Op_Param_CMS!$C$24:'Deviations_Op_Param_CMS'!$C$500,$C28,Deviations_Op_Param_CMS!$F$24:'Deviations_Op_Param_CMS'!$F$500,$D28))","v":""},"",{"$f":"IF($C28=\"\",\"\",COUNTIFS(Deviations_Op_Param_CMS!$B$24:'Deviations_Op_Param_CMS'!$B$500,$B28,Deviations_Op_Param_CMS!$C$24:'Deviations_Op_Param_CMS'!$C$500,$C28,Deviations_Op_Param_CMS!$F$24:'Deviations_Op_Param_CMS'!$F$500,$D28))","v":""}]
[null,{"$f":"IF(OpParam_Deviation_CMS_Data!I8=\"\",\"\",OpParam_Deviation_CMS_Data!I8)","v":""},{"$f":"IF(OpParam_Deviation_CMS_Data!J8=\"\",\"\",OpParam_Deviation_CMS_Data!J8)","v":""},{"$f":"IF(OpParam_Deviation_CMS_Data!K8=\"\",\"\",OpParam_Deviation_CMS_Data!K8)","v":""},{"$f":"IF(OpParam_Deviation_CMS_Data!L8=\"\",\"\",OpParam_Deviation_CMS_Data!L8)","v":""},{"$f":"IF($C29=\"\",\"\",SUMIFS(Deviations_Op_Param_CMS!$K$24:'Deviations_Op_Param_CMS'!$K$500,Deviations_Op_Param_CMS!$B$24:'Deviations_Op_Param_CMS'!$B$500,$B29,Deviations_Op_Param_CMS!$C$24:'Deviations_Op_Param_CMS'!$C$500,$C29,Deviations_Op_Param_CMS!$F$24:'Deviations_Op_Param_CMS'!$F$500,$D29,Deviations_Op_Param_CMS!$M$24:'Deviations_Op_Param_CMS'!$M$500,\"Startup\"))","v":""},{"$f":"IF($C29=\"\",\"\",SUMIFS(Deviations_Op_Param_CMS!$K$24:'Deviations_Op_Param_CMS'!$K$500,Deviations_Op_Param_CMS!$B$24:'Deviations_Op_Param_CMS'!$B$500,$B29,Deviations_Op_Param_CMS!$C$24:'Deviations_Op_Param_CMS'!$C$500,$C29,Deviations_Op_Param_CMS!$F$24:'Deviations_Op_Param_CMS'!$F$500,$D29,Deviations_Op_Param_CMS!$M$24:'Deviations_Op_Param_CMS'!$M$500,\"Shutdown\"))","v":""},{"$f":"IF($C29=\"\",\"\",SUMIFS(Deviations_Op_Param_CMS!$K$24:'Deviations_Op_Param_CMS'!$K$500,Deviations_Op_Param_CMS!$B$24:'Deviations_Op_Param_CMS'!$B$500,$B29,Deviations_Op_Param_CMS!$C$24:'Deviations_Op_Param_CMS'!$C$500,$C29,Deviations_Op_Param_CMS!$F$24:'Deviations_Op_Param_CMS'!$F$500,$D29,Deviations_Op_Param_CMS!$M$24:'Deviations_Op_Param_CMS'!$M$500,\"Control Equipment Problems\"))","v":""},{"$f":"IF($C29=\"\",\"\",SUMIFS(Deviations_Op_Param_CMS!$K$24:'Deviations_Op_Param_CMS'!$K$500,Deviations_Op_Param_CMS!$B$24:'Deviations_Op_Param_CMS'!$B$500,$B29,Deviations_Op_Param_CMS!$C$24:'Deviations_Op_Param_CMS'!$C$500,$C29,Deviations_Op_Param_CMS!$F$24:'Deviations_Op_Param_CMS'!$F$500,$D29,Deviations_Op_Param_CMS!$M$24:'Deviations_Op_Param_CMS'!$M$500,\"Process Problems\"))","v":""},{"$f":"IF($C29=\"\",\"\",SUMIFS(Deviations_Op_Param_CMS!$K$24:'Deviations_Op_Param_CMS'!$K$500,Deviations_Op_Param_CMS!$B$24:'Deviations_Op_Param_CMS'!$B$500,$B29,Deviations_Op_Param_CMS!$C$24:'Deviations_Op_Param_CMS'!$C$500,$C29,Deviations_Op_Param_CMS!$F$24:'Deviations_Op_Param_CMS'!$F$500,$D29,Deviations_Op_Param_CMS!$M$24:'Deviations_Op_Param_CMS'!$M$500,\"Other Known Causes\"))","v":""},{"$f":"IF($C29=\"\",\"\",SUMIFS(Deviations_Op_Param_CMS!$K$24:'Deviations_Op_Param_CMS'!$K$500,Deviations_Op_Param_CMS!$B$24:'Deviations_Op_Param_CMS'!$B$500,$B29,Deviations_Op_Param_CMS!$C$24:'Deviations_Op_Param_CMS'!$C$500,$C29,Deviations_Op_Param_CMS!$F$24:'Deviations_Op_Param_CMS'!$F$500,$D29,Deviations_Op_Param_CMS!$M$24:'Deviations_Op_Param_CMS'!$M$500,\"Other Unknown Causes\"))","v":""},{"$f":"IF($C29=\"\",\"\",SUMIFS(Deviations_Op_Param_CMS!$K$24:'Deviations_Op_Param_CMS'!$K$500,Deviations_Op_Param_CMS!$B$24:'Deviations_Op_Param_CMS'!$B$500,$B29,Deviations_Op_Param_CMS!$C$24:'Deviations_Op_Param_CMS'!$C$500,$C29,Deviations_Op_Param_CMS!$F$24:'Deviations_Op_Param_CMS'!$F$500,$D29))","v":""},"",{"$f":"IF($C29=\"\",\"\",COUNTIFS(Deviations_Op_Param_CMS!$B$24:'Deviations_Op_Param_CMS'!$B$500,$B29,Deviations_Op_Param_CMS!$C$24:'Deviations_Op_Param_CMS'!$C$500,$C29,Deviations_Op_Param_CMS!$F$24:'Deviations_Op_Param_CMS'!$F$500,$D29))","v":""}]
[null,{"$f":"IF(OpParam_Deviation_CMS_Data!I9=\"\",\"\",OpParam_Deviation_CMS_Data!I9)","v":""},{"$f":"IF(OpParam_Deviation_CMS_Data!J9=\"\",\"\",OpParam_Deviation_CMS_Data!J9)","v":""},{"$f":"IF(OpParam_Deviation_CMS_Data!K9=\"\",\"\",OpParam_Deviation_CMS_Data!K9)","v":""},{"$f":"IF(OpParam_Deviation_CMS_Data!L9=\"\",\"\",OpParam_Deviation_CMS_Data!L9)","v":""},{"$f":"IF($C30=\"\",\"\",SUMIFS(Deviations_Op_Param_CMS!$K$24:'Deviations_Op_Param_CMS'!$K$500,Deviations_Op_Param_CMS!$B$24:'Deviations_Op_Param_CMS'!$B$500,$B30,Deviations_Op_Param_CMS!$C$24:'Deviations_Op_Param_CMS'!$C$500,$C30,Deviations_Op_Param_CMS!$F$24:'Deviations_Op_Param_CMS'!$F$500,$D30,Deviations_Op_Param_CMS!$M$24:'Deviations_Op_Param_CMS'!$M$500,\"Startup\"))","v":""},{"$f":"IF($C30=\"\",\"\",SUMIFS(Deviations_Op_Param_CMS!$K$24:'Deviations_Op_Param_CMS'!$K$500,Deviations_Op_Param_CMS!$B$24:'Deviations_Op_Param_CMS'!$B$500,$B30,Deviations_Op_Param_CMS!$C$24:'Deviations_Op_Param_CMS'!$C$500,$C30,Deviations_Op_Param_CMS!$F$24:'Deviations_Op_Param_CMS'!$F$500,$D30,Deviations_Op_Param_CMS!$M$24:'Deviations_Op_Param_CMS'!$M$500,\"Shutdown\"))","v":""},{"$f":"IF($C30=\"\",\"\",SUMIFS(Deviations_Op_Param_CMS!$K$24:'Deviations_Op_Param_CMS'!$K$500,Deviations_Op_Param_CMS!$B$24:'Deviations_Op_Param_CMS'!$B$500,$B30,Deviations_Op_Param_CMS!$C$24:'Deviations_Op_Param_CMS'!$C$500,$C30,Deviations_Op_Param_CMS!$F$24:'Deviations_Op_Param_CMS'!$F$500,$D30,Deviations_Op_Param_CMS!$M$24:'Deviations_Op_Param_CMS'!$M$500,\"Control Equipment Problems\"))","v":""},{"$f":"IF($C30=\"\",\"\",SUMIFS(Deviations_Op_Param_CMS!$K$24:'Deviations_Op_Param_CMS'!$K$500,Deviations_Op_Param_CMS!$B$24:'Deviations_Op_Param_CMS'!$B$500,$B30,Deviations_Op_Param_CMS!$C$24:'Deviations_Op_Param_CMS'!$C$500,$C30,Deviations_Op_Param_CMS!$F$24:'Deviations_Op_Param_CMS'!$F$500,$D30,Deviations_Op_Param_CMS!$M$24:'Deviations_Op_Param_CMS'!$M$500,\"Process Problems\"))","v":""},{"$f":"IF($C30=\"\",\"\",SUMIFS(Deviations_Op_Param_CMS!$K$24:'Deviations_Op_Param_CMS'!$K$500,Deviations_Op_Param_CMS!$B$24:'Deviations_Op_Param_CMS'!$B$500,$B30,Deviations_Op_Param_CMS!$C$24:'Deviations_Op_Param_CMS'!$C$500,$C30,Deviations_Op_Param_CMS!$F$24:'Deviations_Op_Param_CMS'!$F$500,$D30,Deviations_Op_Param_CMS!$M$24:'Deviations_Op_Param_CMS'!$M$500,\"Other Known Causes\"))","v":""},{"$f":"IF($C30=\"\",\"\",SUMIFS(Deviations_Op_Param_CMS!$K$24:'Deviations_Op_Param_CMS'!$K$500,Deviations_Op_Param_CMS!$B$24:'Deviations_Op_Param_CMS'!$B$500,$B30,Deviations_Op_Param_CMS!$C$24:'Deviations_Op_Param_CMS'!$C$500,$C30,Deviations_Op_Param_CMS!$F$24:'Deviations_Op_Param_CMS'!$F$500,$D30,Deviations_Op_Param_CMS!$M$24:'Deviations_Op_Param_CMS'!$M$500,\"Other Unknown Causes\"))","v":""},{"$f":"IF($C30=\"\",\"\",SUMIFS(Deviations_Op_Param_CMS!$K$24:'Deviations_Op_Param_CMS'!$K$500,Deviations_Op_Param_CMS!$B$24:'Deviations_Op_Param_CMS'!$B$500,$B30,Deviations_Op_Param_CMS!$C$24:'Deviations_Op_Param_CMS'!$C$500,$C30,Deviations_Op_Param_CMS!$F$24:'Deviations_Op_Param_CMS'!$F$500,$D30))","v":""},"",{"$f":"IF($C30=\"\",\"\",COUNTIFS(Deviations_Op_Param_CMS!$B$24:'Deviations_Op_Param_CMS'!$B$500,$B30,Deviations_Op_Param_CMS!$C$24:'Deviations_Op_Param_CMS'!$C$500,$C30,Deviations_Op_Param_CMS!$F$24:'Deviations_Op_Param_CMS'!$F$500,$D30))","v":""}]
[null,{"$f":"IF(OpParam_Deviation_CMS_Data!I10=\"\",\"\",OpParam_Deviation_CMS_Data!I10)","v":""},{"$f":"IF(OpParam_Deviation_CMS_Data!J10=\"\",\"\",OpParam_Deviation_CMS_Data!J10)","v":""},{"$f":"IF(OpParam_Deviation_CMS_Data!K10=\"\",\"\",OpParam_Deviation_CMS_Data!K10)","v":""},{"$f":"IF(OpParam_Deviation_CMS_Data!L10=\"\",\"\",OpParam_Deviation_CMS_Data!L10)","v":""},{"$f":"IF($C31=\"\",\"\",SUMIFS(Deviations_Op_Param_CMS!$K$24:'Deviations_Op_Param_CMS'!$K$500,Deviations_Op_Param_CMS!$B$24:'Deviations_Op_Param_CMS'!$B$500,$B31,Deviations_Op_Param_CMS!$C$24:'Deviations_Op_Param_CMS'!$C$500,$C31,Deviations_Op_Param_CMS!$F$24:'Deviations_Op_Param_CMS'!$F$500,$D31,Deviations_Op_Param_CMS!$M$24:'Deviations_Op_Param_CMS'!$M$500,\"Startup\"))","v":""},{"$f":"IF($C31=\"\",\"\",SUMIFS(Deviations_Op_Param_CMS!$K$24:'Deviations_Op_Param_CMS'!$K$500,Deviations_Op_Param_CMS!$B$24:'Deviations_Op_Param_CMS'!$B$500,$B31,Deviations_Op_Param_CMS!$C$24:'Deviations_Op_Param_CMS'!$C$500,$C31,Deviations_Op_Param_CMS!$F$24:'Deviations_Op_Param_CMS'!$F$500,$D31,Deviations_Op_Param_CMS!$M$24:'Deviations_Op_Param_CMS'!$M$500,\"Shutdown\"))","v":""},{"$f":"IF($C31=\"\",\"\",SUMIFS(Deviations_Op_Param_CMS!$K$24:'Deviations_Op_Param_CMS'!$K$500,Deviations_Op_Param_CMS!$B$24:'Deviations_Op_Param_CMS'!$B$500,$B31,Deviations_Op_Param_CMS!$C$24:'Deviations_Op_Param_CMS'!$C$500,$C31,Deviations_Op_Param_CMS!$F$24:'Deviations_Op_Param_CMS'!$F$500,$D31,Deviations_Op_Param_CMS!$M$24:'Deviations_Op_Param_CMS'!$M$500,\"Control Equipment Problems\"))","v":""},{"$f":"IF($C31=\"\",\"\",SUMIFS(Deviations_Op_Param_CMS!$K$24:'Deviations_Op_Param_CMS'!$K$500,Deviations_Op_Param_CMS!$B$24:'Deviations_Op_Param_CMS'!$B$500,$B31,Deviations_Op_Param_CMS!$C$24:'Deviations_Op_Param_CMS'!$C$500,$C31,Deviations_Op_Param_CMS!$F$24:'Deviations_Op_Param_CMS'!$F$500,$D31,Deviations_Op_Param_CMS!$M$24:'Deviations_Op_Param_CMS'!$M$500,\"Process Problems\"))","v":""},{"$f":"IF($C31=\"\",\"\",SUMIFS(Deviations_Op_Param_CMS!$K$24:'Deviations_Op_Param_CMS'!$K$500,Deviations_Op_Param_CMS!$B$24:'Deviations_Op_Param_CMS'!$B$500,$B31,Deviations_Op_Param_CMS!$C$24:'Deviations_Op_Param_CMS'!$C$500,$C31,Deviations_Op_Param_CMS!$F$24:'Deviations_Op_Param_CMS'!$F$500,$D31,Deviations_Op_Param_CMS!$M$24:'Deviations_Op_Param_CMS'!$M$500,\"Other Known Causes\"))","v":""},{"$f":"IF($C31=\"\",\"\",SUMIFS(Deviations_Op_Param_CMS!$K$24:'Deviations_Op_Param_CMS'!$K$500,Deviations_Op_Param_CMS!$B$24:'Deviations_Op_Param_CMS'!$B$500,$B31,Deviations_Op_Param_CMS!$C$24:'Deviations_Op_Param_CMS'!$C$500,$C31,Deviations_Op_Param_CMS!$F$24:'Deviations_Op_Param_CMS'!$F$500,$D31,Deviations_Op_Param_CMS!$M$24:'Deviations_Op_Param_CMS'!$M$500,\"Other Unknown Causes\"))","v":""},{"$f":"IF($C31=\"\",\"\",SUMIFS(Deviations_Op_Param_CMS!$K$24:'Deviations_Op_Param_CMS'!$K$500,Deviations_Op_Param_CMS!$B$24:'Deviations_Op_Param_CMS'!$B$500,$B31,Deviations_Op_Param_CMS!$C$24:'Deviations_Op_Param_CMS'!$C$500,$C31,Deviations_Op_Param_CMS!$F$24:'Deviations_Op_Param_CMS'!$F$500,$D31))","v":""},"",{"$f":"IF($C31=\"\",\"\",COUNTIFS(Deviations_Op_Param_CMS!$B$24:'Deviations_Op_Param_CMS'!$B$500,$B31,Deviations_Op_Param_CMS!$C$24:'Deviations_Op_Param_CMS'!$C$500,$C31,Deviations_Op_Param_CMS!$F$24:'Deviations_Op_Param_CMS'!$F$500,$D31))","v":""}]
[null,{"$f":"IF(OpParam_Deviation_CMS_Data!I11=\"\",\"\",OpParam_Deviation_CMS_Data!I11)","v":""},{"$f":"IF(OpParam_Deviation_CMS_Data!J11=\"\",\"\",OpParam_Deviation_CMS_Data!J11)","v":""},{"$f":"IF(OpParam_Deviation_CMS_Data!K11=\"\",\"\",OpParam_Deviation_CMS_Data!K11)","v":""},{"$f":"IF(OpParam_Deviation_CMS_Data!L11=\"\",\"\",OpParam_Deviation_CMS_Data!L11)","v":""},{"$f":"IF($C32=\"\",\"\",SUMIFS(Deviations_Op_Param_CMS!$K$24:'Deviations_Op_Param_CMS'!$K$500,Deviations_Op_Param_CMS!$B$24:'Deviations_Op_Param_CMS'!$B$500,$B32,Deviations_Op_Param_CMS!$C$24:'Deviations_Op_Param_CMS'!$C$500,$C32,Deviations_Op_Param_CMS!$F$24:'Deviations_Op_Param_CMS'!$F$500,$D32,Deviations_Op_Param_CMS!$M$24:'Deviations_Op_Param_CMS'!$M$500,\"Startup\"))","v":""},{"$f":"IF($C32=\"\",\"\",SUMIFS(Deviations_Op_Param_CMS!$K$24:'Deviations_Op_Param_CMS'!$K$500,Deviations_Op_Param_CMS!$B$24:'Deviations_Op_Param_CMS'!$B$500,$B32,Deviations_Op_Param_CMS!$C$24:'Deviations_Op_Param_CMS'!$C$500,$C32,Deviations_Op_Param_CMS!$F$24:'Deviations_Op_Param_CMS'!$F$500,$D32,Deviations_Op_Param_CMS!$M$24:'Deviations_Op_Param_CMS'!$M$500,\"Shutdown\"))","v":""},{"$f":"IF($C32=\"\",\"\",SUMIFS(Deviations_Op_Param_CMS!$K$24:'Deviations_Op_Param_CMS'!$K$500,Deviations_Op_Param_CMS!$B$24:'Deviations_Op_Param_CMS'!$B$500,$B32,Deviations_Op_Param_CMS!$C$24:'Deviations_Op_Param_CMS'!$C$500,$C32,Deviations_Op_Param_CMS!$F$24:'Deviations_Op_Param_CMS'!$F$500,$D32,Deviations_Op_Param_CMS!$M$24:'Deviations_Op_Param_CMS'!$M$500,\"Control Equipment Problems\"))","v":""},{"$f":"IF($C32=\"\",\"\",SUMIFS(Deviations_Op_Param_CMS!$K$24:'Deviations_Op_Param_CMS'!$K$500,Deviations_Op_Param_CMS!$B$24:'Deviations_Op_Param_CMS'!$B$500,$B32,Deviations_Op_Param_CMS!$C$24:'Deviations_Op_Param_CMS'!$C$500,$C32,Deviations_Op_Param_CMS!$F$24:'Deviations_Op_Param_CMS'!$F$500,$D32,Deviations_Op_Param_CMS!$M$24:'Deviations_Op_Param_CMS'!$M$500,\"Process Problems\"))","v":""},{"$f":"IF($C32=\"\",\"\",SUMIFS(Deviations_Op_Param_CMS!$K$24:'Deviations_Op_Param_CMS'!$K$500,Deviations_Op_Param_CMS!$B$24:'Deviations_Op_Param_CMS'!$B$500,$B32,Deviations_Op_Param_CMS!$C$24:'Deviations_Op_Param_CMS'!$C$500,$C32,Deviations_Op_Param_CMS!$F$24:'Deviations_Op_Param_CMS'!$F$500,$D32,Deviations_Op_Param_CMS!$M$24:'Deviations_Op_Param_CMS'!$M$500,\"Other Known Causes\"))","v":""},{"$f":"IF($C32=\"\",\"\",SUMIFS(Deviations_Op_Param_CMS!$K$24:'Deviations_Op_Param_CMS'!$K$500,Deviations_Op_Param_CMS!$B$24:'Deviations_Op_Param_CMS'!$B$500,$B32,Deviations_Op_Param_CMS!$C$24:'Deviations_Op_Param_CMS'!$C$500,$C32,Deviations_Op_Param_CMS!$F$24:'Deviations_Op_Param_CMS'!$F$500,$D32,Deviations_Op_Param_CMS!$M$24:'Deviations_Op_Param_CMS'!$M$500,\"Other Unknown Causes\"))","v":""},{"$f":"IF($C32=\"\",\"\",SUMIFS(Deviations_Op_Param_CMS!$K$24:'Deviations_Op_Param_CMS'!$K$500,Deviations_Op_Param_CMS!$B$24:'Deviations_Op_Param_CMS'!$B$500,$B32,Deviations_Op_Param_CMS!$C$24:'Deviations_Op_Param_CMS'!$C$500,$C32,Deviations_Op_Param_CMS!$F$24:'Deviations_Op_Param_CMS'!$F$500,$D32))","v":""},"",{"$f":"IF($C32=\"\",\"\",COUNTIFS(Deviations_Op_Param_CMS!$B$24:'Deviations_Op_Param_CMS'!$B$500,$B32,Deviations_Op_Param_CMS!$C$24:'Deviations_Op_Param_CMS'!$C$500,$C32,Deviations_Op_Param_CMS!$F$24:'Deviations_Op_Param_CMS'!$F$500,$D32))","v":""}]
[null,{"$f":"IF(OpParam_Deviation_CMS_Data!I12=\"\",\"\",OpParam_Deviation_CMS_Data!I12)","v":""},{"$f":"IF(OpParam_Deviation_CMS_Data!J12=\"\",\"\",OpParam_Deviation_CMS_Data!J12)","v":""},{"$f":"IF(OpParam_Deviation_CMS_Data!K12=\"\",\"\",OpParam_Deviation_CMS_Data!K12)","v":""},{"$f":"IF(OpParam_Deviation_CMS_Data!L12=\"\",\"\",OpParam_Deviation_CMS_Data!L12)","v":""},{"$f":"IF($C33=\"\",\"\",SUMIFS(Deviations_Op_Param_CMS!$K$24:'Deviations_Op_Param_CMS'!$K$500,Deviations_Op_Param_CMS!$B$24:'Deviations_Op_Param_CMS'!$B$500,$B33,Deviations_Op_Param_CMS!$C$24:'Deviations_Op_Param_CMS'!$C$500,$C33,Deviations_Op_Param_CMS!$F$24:'Deviations_Op_Param_CMS'!$F$500,$D33,Deviations_Op_Param_CMS!$M$24:'Deviations_Op_Param_CMS'!$M$500,\"Startup\"))","v":""},{"$f":"IF($C33=\"\",\"\",SUMIFS(Deviations_Op_Param_CMS!$K$24:'Deviations_Op_Param_CMS'!$K$500,Deviations_Op_Param_CMS!$B$24:'Deviations_Op_Param_CMS'!$B$500,$B33,Deviations_Op_Param_CMS!$C$24:'Deviations_Op_Param_CMS'!$C$500,$C33,Deviations_Op_Param_CMS!$F$24:'Deviations_Op_Param_CMS'!$F$500,$D33,Deviations_Op_Param_CMS!$M$24:'Deviations_Op_Param_CMS'!$M$500,\"Shutdown\"))","v":""},{"$f":"IF($C33=\"\",\"\",SUMIFS(Deviations_Op_Param_CMS!$K$24:'Deviations_Op_Param_CMS'!$K$500,Deviations_Op_Param_CMS!$B$24:'Deviations_Op_Param_CMS'!$B$500,$B33,Deviations_Op_Param_CMS!$C$24:'Deviations_Op_Param_CMS'!$C$500,$C33,Deviations_Op_Param_CMS!$F$24:'Deviations_Op_Param_CMS'!$F$500,$D33,Deviations_Op_Param_CMS!$M$24:'Deviations_Op_Param_CMS'!$M$500,\"Control Equipment Problems\"))","v":""},{"$f":"IF($C33=\"\",\"\",SUMIFS(Deviations_Op_Param_CMS!$K$24:'Deviations_Op_Param_CMS'!$K$500,Deviations_Op_Param_CMS!$B$24:'Deviations_Op_Param_CMS'!$B$500,$B33,Deviations_Op_Param_CMS!$C$24:'Deviations_Op_Param_CMS'!$C$500,$C33,Deviations_Op_Param_CMS!$F$24:'Deviations_Op_Param_CMS'!$F$500,$D33,Deviations_Op_Param_CMS!$M$24:'Deviations_Op_Param_CMS'!$M$500,\"Process Problems\"))","v":""},{"$f":"IF($C33=\"\",\"\",SUMIFS(Deviations_Op_Param_CMS!$K$24:'Deviations_Op_Param_CMS'!$K$500,Deviations_Op_Param_CMS!$B$24:'Deviations_Op_Param_CMS'!$B$500,$B33,Deviations_Op_Param_CMS!$C$24:'Deviations_Op_Param_CMS'!$C$500,$C33,Deviations_Op_Param_CMS!$F$24:'Deviations_Op_Param_CMS'!$F$500,$D33,Deviations_Op_Param_CMS!$M$24:'Deviations_Op_Param_CMS'!$M$500,\"Other Known Causes\"))","v":""},{"$f":"IF($C33=\"\",\"\",SUMIFS(Deviations_Op_Param_CMS!$K$24:'Deviations_Op_Param_CMS'!$K$500,Deviations_Op_Param_CMS!$B$24:'Deviations_Op_Param_CMS'!$B$500,$B33,Deviations_Op_Param_CMS!$C$24:'Deviations_Op_Param_CMS'!$C$500,$C33,Deviations_Op_Param_CMS!$F$24:'Deviations_Op_Param_CMS'!$F$500,$D33,Deviations_Op_Param_CMS!$M$24:'Deviations_Op_Param_CMS'!$M$500,\"Other Unknown Causes\"))","v":""},{"$f":"IF($C33=\"\",\"\",SUMIFS(Deviations_Op_Param_CMS!$K$24:'Deviations_Op_Param_CMS'!$K$500,Deviations_Op_Param_CMS!$B$24:'Deviations_Op_Param_CMS'!$B$500,$B33,Deviations_Op_Param_CMS!$C$24:'Deviations_Op_Param_CMS'!$C$500,$C33,Deviations_Op_Param_CMS!$F$24:'Deviations_Op_Param_CMS'!$F$500,$D33))","v":""},"",{"$f":"IF($C33=\"\",\"\",COUNTIFS(Deviations_Op_Param_CMS!$B$24:'Deviations_Op_Param_CMS'!$B$500,$B33,Deviations_Op_Param_CMS!$C$24:'Deviations_Op_Param_CMS'!$C$500,$C33,Deviations_Op_Param_CMS!$F$24:'Deviations_Op_Param_CMS'!$F$500,$D33))","v":""}]
[null,{"$f":"IF(OpParam_Deviation_CMS_Data!I13=\"\",\"\",OpParam_Deviation_CMS_Data!I13)","v":""},{"$f":"IF(OpParam_Deviation_CMS_Data!J13=\"\",\"\",OpParam_Deviation_CMS_Data!J13)","v":""},{"$f":"IF(OpParam_Deviation_CMS_Data!K13=\"\",\"\",OpParam_Deviation_CMS_Data!K13)","v":""},{"$f":"IF(OpParam_Deviation_CMS_Data!L13=\"\",\"\",OpParam_Deviation_CMS_Data!L13)","v":""},{"$f":"IF($C34=\"\",\"\",SUMIFS(Deviations_Op_Param_CMS!$K$24:'Deviations_Op_Param_CMS'!$K$500,Deviations_Op_Param_CMS!$B$24:'Deviations_Op_Param_CMS'!$B$500,$B34,Deviations_Op_Param_CMS!$C$24:'Deviations_Op_Param_CMS'!$C$500,$C34,Deviations_Op_Param_CMS!$F$24:'Deviations_Op_Param_CMS'!$F$500,$D34,Deviations_Op_Param_CMS!$M$24:'Deviations_Op_Param_CMS'!$M$500,\"Startup\"))","v":""},{"$f":"IF($C34=\"\",\"\",SUMIFS(Deviations_Op_Param_CMS!$K$24:'Deviations_Op_Param_CMS'!$K$500,Deviations_Op_Param_CMS!$B$24:'Deviations_Op_Param_CMS'!$B$500,$B34,Deviations_Op_Param_CMS!$C$24:'Deviations_Op_Param_CMS'!$C$500,$C34,Deviations_Op_Param_CMS!$F$24:'Deviations_Op_Param_CMS'!$F$500,$D34,Deviations_Op_Param_CMS!$M$24:'Deviations_Op_Param_CMS'!$M$500,\"Shutdown\"))","v":""},{"$f":"IF($C34=\"\",\"\",SUMIFS(Deviations_Op_Param_CMS!$K$24:'Deviations_Op_Param_CMS'!$K$500,Deviations_Op_Param_CMS!$B$24:'Deviations_Op_Param_CMS'!$B$500,$B34,Deviations_Op_Param_CMS!$C$24:'Deviations_Op_Param_CMS'!$C$500,$C34,Deviations_Op_Param_CMS!$F$24:'Deviations_Op_Param_CMS'!$F$500,$D34,Deviations_Op_Param_CMS!$M$24:'Deviations_Op_Param_CMS'!$M$500,\"Control Equipment Problems\"))","v":""},{"$f":"IF($C34=\"\",\"\",SUMIFS(Deviations_Op_Param_CMS!$K$24:'Deviations_Op_Param_CMS'!$K$500,Deviations_Op_Param_CMS!$B$24:'Deviations_Op_Param_CMS'!$B$500,$B34,Deviations_Op_Param_CMS!$C$24:'Deviations_Op_Param_CMS'!$C$500,$C34,Deviations_Op_Param_CMS!$F$24:'Deviations_Op_Param_CMS'!$F$500,$D34,Deviations_Op_Param_CMS!$M$24:'Deviations_Op_Param_CMS'!$M$500,\"Process Problems\"))","v":""},{"$f":"IF($C34=\"\",\"\",SUMIFS(Deviations_Op_Param_CMS!$K$24:'Deviations_Op_Param_CMS'!$K$500,Deviations_Op_Param_CMS!$B$24:'Deviations_Op_Param_CMS'!$B$500,$B34,Deviations_Op_Param_CMS!$C$24:'Deviations_Op_Param_CMS'!$C$500,$C34,Deviations_Op_Param_CMS!$F$24:'Deviations_Op_Param_CMS'!$F$500,$D34,Deviations_Op_Param_CMS!$M$24:'Deviations_Op_Param_CMS'!$M$500,\"Other Known Causes\"))","v":""},{"$f":"IF($C34=\"\",\"\",SUMIFS(Deviations_Op_Param_CMS!$K$24:'Deviations_Op_Param_CMS'!$K$500,Deviations_Op_Param_CMS!$B$24:'Deviations_Op_Param_CMS'!$B$500,$B34,Deviations_Op_Param_CMS!$C$24:'Deviations_Op_Param_CMS'!$C$500,$C34,Deviations_Op_Param_CMS!$F$24:'Deviations_Op_Param_CMS'!$F$500,$D34,Deviations_Op_Param_CMS!$M$24:'Deviations_Op_Param_CMS'!$M$500,\"Other Unknown Causes\"))","v":""},{"$f":"IF($C34=\"\",\"\",SUMIFS(Deviations_Op_Param_CMS!$K$24:'Deviations_Op_Param_CMS'!$K$500,Deviations_Op_Param_CMS!$B$24:'Deviations_Op_Param_CMS'!$B$500,$B34,Deviations_Op_Param_CMS!$C$24:'Deviations_Op_Param_CMS'!$C$500,$C34,Deviations_Op_Param_CMS!$F$24:'Deviations_Op_Param_CMS'!$F$500,$D34))","v":""},"",{"$f":"IF($C34=\"\",\"\",COUNTIFS(Deviations_Op_Param_CMS!$B$24:'Deviations_Op_Param_CMS'!$B$500,$B34,Deviations_Op_Param_CMS!$C$24:'Deviations_Op_Param_CMS'!$C$500,$C34,Deviations_Op_Param_CMS!$F$24:'Deviations_Op_Param_CMS'!$F$500,$D34))","v":""}]
[null,{"$f":"IF(OpParam_Deviation_CMS_Data!I14=\"\",\"\",OpParam_Deviation_CMS_Data!I14)","v":""},{"$f":"IF(OpParam_Deviation_CMS_Data!J14=\"\",\"\",OpParam_Deviation_CMS_Data!J14)","v":""},{"$f":"IF(OpParam_Deviation_CMS_Data!K14=\"\",\"\",OpParam_Deviation_CMS_Data!K14)","v":""},{"$f":"IF(OpParam_Deviation_CMS_Data!L14=\"\",\"\",OpParam_Deviation_CMS_Data!L14)","v":""},{"$f":"IF($C35=\"\",\"\",SUMIFS(Deviations_Op_Param_CMS!$K$24:'Deviations_Op_Param_CMS'!$K$500,Deviations_Op_Param_CMS!$B$24:'Deviations_Op_Param_CMS'!$B$500,$B35,Deviations_Op_Param_CMS!$C$24:'Deviations_Op_Param_CMS'!$C$500,$C35,Deviations_Op_Param_CMS!$F$24:'Deviations_Op_Param_CMS'!$F$500,$D35,Deviations_Op_Param_CMS!$M$24:'Deviations_Op_Param_CMS'!$M$500,\"Startup\"))","v":""},{"$f":"IF($C35=\"\",\"\",SUMIFS(Deviations_Op_Param_CMS!$K$24:'Deviations_Op_Param_CMS'!$K$500,Deviations_Op_Param_CMS!$B$24:'Deviations_Op_Param_CMS'!$B$500,$B35,Deviations_Op_Param_CMS!$C$24:'Deviations_Op_Param_CMS'!$C$500,$C35,Deviations_Op_Param_CMS!$F$24:'Deviations_Op_Param_CMS'!$F$500,$D35,Deviations_Op_Param_CMS!$M$24:'Deviations_Op_Param_CMS'!$M$500,\"Shutdown\"))","v":""},{"$f":"IF($C35=\"\",\"\",SUMIFS(Deviations_Op_Param_CMS!$K$24:'Deviations_Op_Param_CMS'!$K$500,Deviations_Op_Param_CMS!$B$24:'Deviations_Op_Param_CMS'!$B$500,$B35,Deviations_Op_Param_CMS!$C$24:'Deviations_Op_Param_CMS'!$C$500,$C35,Deviations_Op_Param_CMS!$F$24:'Deviations_Op_Param_CMS'!$F$500,$D35,Deviations_Op_Param_CMS!$M$24:'Deviations_Op_Param_CMS'!$M$500,\"Control Equipment Problems\"))","v":""},{"$f":"IF($C35=\"\",\"\",SUMIFS(Deviations_Op_Param_CMS!$K$24:'Deviations_Op_Param_CMS'!$K$500,Deviations_Op_Param_CMS!$B$24:'Deviations_Op_Param_CMS'!$B$500,$B35,Deviations_Op_Param_CMS!$C$24:'Deviations_Op_Param_CMS'!$C$500,$C35,Deviations_Op_Param_CMS!$F$24:'Deviations_Op_Param_CMS'!$F$500,$D35,Deviations_Op_Param_CMS!$M$24:'Deviations_Op_Param_CMS'!$M$500,\"Process Problems\"))","v":""},{"$f":"IF($C35=\"\",\"\",SUMIFS(Deviations_Op_Param_CMS!$K$24:'Deviations_Op_Param_CMS'!$K$500,Deviations_Op_Param_CMS!$B$24:'Deviations_Op_Param_CMS'!$B$500,$B35,Deviations_Op_Param_CMS!$C$24:'Deviations_Op_Param_CMS'!$C$500,$C35,Deviations_Op_Param_CMS!$F$24:'Deviations_Op_Param_CMS'!$F$500,$D35,Deviations_Op_Param_CMS!$M$24:'Deviations_Op_Param_CMS'!$M$500,\"Other Known Causes\"))","v":""},{"$f":"IF($C35=\"\",\"\",SUMIFS(Deviations_Op_Param_CMS!$K$24:'Deviations_Op_Param_CMS'!$K$500,Deviations_Op_Param_CMS!$B$24:'Deviations_Op_Param_CMS'!$B$500,$B35,Deviations_Op_Param_CMS!$C$24:'Deviations_Op_Param_CMS'!$C$500,$C35,Deviations_Op_Param_CMS!$F$24:'Deviations_Op_Param_CMS'!$F$500,$D35,Deviations_Op_Param_CMS!$M$24:'Deviations_Op_Param_CMS'!$M$500,\"Other Unknown Causes\"))","v":""},{"$f":"IF($C35=\"\",\"\",SUMIFS(Deviations_Op_Param_CMS!$K$24:'Deviations_Op_Param_CMS'!$K$500,Deviations_Op_Param_CMS!$B$24:'Deviations_Op_Param_CMS'!$B$500,$B35,Deviations_Op_Param_CMS!$C$24:'Deviations_Op_Param_CMS'!$C$500,$C35,Deviations_Op_Param_CMS!$F$24:'Deviations_Op_Param_CMS'!$F$500,$D35))","v":""},"",{"$f":"IF($C35=\"\",\"\",COUNTIFS(Deviations_Op_Param_CMS!$B$24:'Deviations_Op_Param_CMS'!$B$500,$B35,Deviations_Op_Param_CMS!$C$24:'Deviations_Op_Param_CMS'!$C$500,$C35,Deviations_Op_Param_CMS!$F$24:'Deviations_Op_Param_CMS'!$F$500,$D35))","v":""}]
[null,{"$f":"IF(OpParam_Deviation_CMS_Data!I15=\"\",\"\",OpParam_Deviation_CMS_Data!I15)","v":""},{"$f":"IF(OpParam_Deviation_CMS_Data!J15=\"\",\"\",OpParam_Deviation_CMS_Data!J15)","v":""},{"$f":"IF(OpParam_Deviation_CMS_Data!K15=\"\",\"\",OpParam_Deviation_CMS_Data!K15)","v":""},{"$f":"IF(OpParam_Deviation_CMS_Data!L15=\"\",\"\",OpParam_Deviation_CMS_Data!L15)","v":""},{"$f":"IF($C36=\"\",\"\",SUMIFS(Deviations_Op_Param_CMS!$K$24:'Deviations_Op_Param_CMS'!$K$500,Deviations_Op_Param_CMS!$B$24:'Deviations_Op_Param_CMS'!$B$500,$B36,Deviations_Op_Param_CMS!$C$24:'Deviations_Op_Param_CMS'!$C$500,$C36,Deviations_Op_Param_CMS!$F$24:'Deviations_Op_Param_CMS'!$F$500,$D36,Deviations_Op_Param_CMS!$M$24:'Deviations_Op_Param_CMS'!$M$500,\"Startup\"))","v":""},{"$f":"IF($C36=\"\",\"\",SUMIFS(Deviations_Op_Param_CMS!$K$24:'Deviations_Op_Param_CMS'!$K$500,Deviations_Op_Param_CMS!$B$24:'Deviations_Op_Param_CMS'!$B$500,$B36,Deviations_Op_Param_CMS!$C$24:'Deviations_Op_Param_CMS'!$C$500,$C36,Deviations_Op_Param_CMS!$F$24:'Deviations_Op_Param_CMS'!$F$500,$D36,Deviations_Op_Param_CMS!$M$24:'Deviations_Op_Param_CMS'!$M$500,\"Shutdown\"))","v":""},{"$f":"IF($C36=\"\",\"\",SUMIFS(Deviations_Op_Param_CMS!$K$24:'Deviations_Op_Param_CMS'!$K$500,Deviations_Op_Param_CMS!$B$24:'Deviations_Op_Param_CMS'!$B$500,$B36,Deviations_Op_Param_CMS!$C$24:'Deviations_Op_Param_CMS'!$C$500,$C36,Deviations_Op_Param_CMS!$F$24:'Deviations_Op_Param_CMS'!$F$500,$D36,Deviations_Op_Param_CMS!$M$24:'Deviations_Op_Param_CMS'!$M$500,\"Control Equipment Problems\"))","v":""},{"$f":"IF($C36=\"\",\"\",SUMIFS(Deviations_Op_Param_CMS!$K$24:'Deviations_Op_Param_CMS'!$K$500,Deviations_Op_Param_CMS!$B$24:'Deviations_Op_Param_CMS'!$B$500,$B36,Deviations_Op_Param_CMS!$C$24:'Deviations_Op_Param_CMS'!$C$500,$C36,Deviations_Op_Param_CMS!$F$24:'Deviations_Op_Param_CMS'!$F$500,$D36,Deviations_Op_Param_CMS!$M$24:'Deviations_Op_Param_CMS'!$M$500,\"Process Problems\"))","v":""},{"$f":"IF($C36=\"\",\"\",SUMIFS(Deviations_Op_Param_CMS!$K$24:'Deviations_Op_Param_CMS'!$K$500,Deviations_Op_Param_CMS!$B$24:'Deviations_Op_Param_CMS'!$B$500,$B36,Deviations_Op_Param_CMS!$C$24:'Deviations_Op_Param_CMS'!$C$500,$C36,Deviations_Op_Param_CMS!$F$24:'Deviations_Op_Param_CMS'!$F$500,$D36,Deviations_Op_Param_CMS!$M$24:'Deviations_Op_Param_CMS'!$M$500,\"Other Known Causes\"))","v":""},{"$f":"IF($C36=\"\",\"\",SUMIFS(Deviations_Op_Param_CMS!$K$24:'Deviations_Op_Param_CMS'!$K$500,Deviations_Op_Param_CMS!$B$24:'Deviations_Op_Param_CMS'!$B$500,$B36,Deviations_Op_Param_CMS!$C$24:'Deviations_Op_Param_CMS'!$C$500,$C36,Deviations_Op_Param_CMS!$F$24:'Deviations_Op_Param_CMS'!$F$500,$D36,Deviations_Op_Param_CMS!$M$24:'Deviations_Op_Param_CMS'!$M$500,\"Other Unknown Causes\"))","v":""},{"$f":"IF($C36=\"\",\"\",SUMIFS(Deviations_Op_Param_CMS!$K$24:'Deviations_Op_Param_CMS'!$K$500,Deviations_Op_Param_CMS!$B$24:'Deviations_Op_Param_CMS'!$B$500,$B36,Deviations_Op_Param_CMS!$C$24:'Deviations_Op_Param_CMS'!$C$500,$C36,Deviations_Op_Param_CMS!$F$24:'Deviations_Op_Param_CMS'!$F$500,$D36))","v":""},"",{"$f":"IF($C36=\"\",\"\",COUNTIFS(Deviations_Op_Param_CMS!$B$24:'Deviations_Op_Param_CMS'!$B$500,$B36,Deviations_Op_Param_CMS!$C$24:'Deviations_Op_Param_CMS'!$C$500,$C36,Deviations_Op_Param_CMS!$F$24:'Deviations_Op_Param_CMS'!$F$500,$D36))","v":""}]
[null,{"$f":"IF(OpParam_Deviation_CMS_Data!I16=\"\",\"\",OpParam_Deviation_CMS_Data!I16)","v":""},{"$f":"IF(OpParam_Deviation_CMS_Data!J16=\"\",\"\",OpParam_Deviation_CMS_Data!J16)","v":""},{"$f":"IF(OpParam_Deviation_CMS_Data!K16=\"\",\"\",OpParam_Deviation_CMS_Data!K16)","v":""},{"$f":"IF(OpParam_Deviation_CMS_Data!L16=\"\",\"\",OpParam_Deviation_CMS_Data!L16)","v":""},{"$f":"IF($C37=\"\",\"\",SUMIFS(Deviations_Op_Param_CMS!$K$24:'Deviations_Op_Param_CMS'!$K$500,Deviations_Op_Param_CMS!$B$24:'Deviations_Op_Param_CMS'!$B$500,$B37,Deviations_Op_Param_CMS!$C$24:'Deviations_Op_Param_CMS'!$C$500,$C37,Deviations_Op_Param_CMS!$F$24:'Deviations_Op_Param_CMS'!$F$500,$D37,Deviations_Op_Param_CMS!$M$24:'Deviations_Op_Param_CMS'!$M$500,\"Startup\"))","v":""},{"$f":"IF($C37=\"\",\"\",SUMIFS(Deviations_Op_Param_CMS!$K$24:'Deviations_Op_Param_CMS'!$K$500,Deviations_Op_Param_CMS!$B$24:'Deviations_Op_Param_CMS'!$B$500,$B37,Deviations_Op_Param_CMS!$C$24:'Deviations_Op_Param_CMS'!$C$500,$C37,Deviations_Op_Param_CMS!$F$24:'Deviations_Op_Param_CMS'!$F$500,$D37,Deviations_Op_Param_CMS!$M$24:'Deviations_Op_Param_CMS'!$M$500,\"Shutdown\"))","v":""},{"$f":"IF($C37=\"\",\"\",SUMIFS(Deviations_Op_Param_CMS!$K$24:'Deviations_Op_Param_CMS'!$K$500,Deviations_Op_Param_CMS!$B$24:'Deviations_Op_Param_CMS'!$B$500,$B37,Deviations_Op_Param_CMS!$C$24:'Deviations_Op_Param_CMS'!$C$500,$C37,Deviations_Op_Param_CMS!$F$24:'Deviations_Op_Param_CMS'!$F$500,$D37,Deviations_Op_Param_CMS!$M$24:'Deviations_Op_Param_CMS'!$M$500,\"Control Equipment Problems\"))","v":""},{"$f":"IF($C37=\"\",\"\",SUMIFS(Deviations_Op_Param_CMS!$K$24:'Deviations_Op_Param_CMS'!$K$500,Deviations_Op_Param_CMS!$B$24:'Deviations_Op_Param_CMS'!$B$500,$B37,Deviations_Op_Param_CMS!$C$24:'Deviations_Op_Param_CMS'!$C$500,$C37,Deviations_Op_Param_CMS!$F$24:'Deviations_Op_Param_CMS'!$F$500,$D37,Deviations_Op_Param_CMS!$M$24:'Deviations_Op_Param_CMS'!$M$500,\"Process Problems\"))","v":""},{"$f":"IF($C37=\"\",\"\",SUMIFS(Deviations_Op_Param_CMS!$K$24:'Deviations_Op_Param_CMS'!$K$500,Deviations_Op_Param_CMS!$B$24:'Deviations_Op_Param_CMS'!$B$500,$B37,Deviations_Op_Param_CMS!$C$24:'Deviations_Op_Param_CMS'!$C$500,$C37,Deviations_Op_Param_CMS!$F$24:'Deviations_Op_Param_CMS'!$F$500,$D37,Deviations_Op_Param_CMS!$M$24:'Deviations_Op_Param_CMS'!$M$500,\"Other Known Causes\"))","v":""},{"$f":"IF($C37=\"\",\"\",SUMIFS(Deviations_Op_Param_CMS!$K$24:'Deviations_Op_Param_CMS'!$K$500,Deviations_Op_Param_CMS!$B$24:'Deviations_Op_Param_CMS'!$B$500,$B37,Deviations_Op_Param_CMS!$C$24:'Deviations_Op_Param_CMS'!$C$500,$C37,Deviations_Op_Param_CMS!$F$24:'Deviations_Op_Param_CMS'!$F$500,$D37,Deviations_Op_Param_CMS!$M$24:'Deviations_Op_Param_CMS'!$M$500,\"Other Unknown Causes\"))","v":""},{"$f":"IF($C37=\"\",\"\",SUMIFS(Deviations_Op_Param_CMS!$K$24:'Deviations_Op_Param_CMS'!$K$500,Deviations_Op_Param_CMS!$B$24:'Deviations_Op_Param_CMS'!$B$500,$B37,Deviations_Op_Param_CMS!$C$24:'Deviations_Op_Param_CMS'!$C$500,$C37,Deviations_Op_Param_CMS!$F$24:'Deviations_Op_Param_CMS'!$F$500,$D37))","v":""},"",{"$f":"IF($C37=\"\",\"\",COUNTIFS(Deviations_Op_Param_CMS!$B$24:'Deviations_Op_Param_CMS'!$B$500,$B37,Deviations_Op_Param_CMS!$C$24:'Deviations_Op_Param_CMS'!$C$500,$C37,Deviations_Op_Param_CMS!$F$24:'Deviations_Op_Param_CMS'!$F$500,$D37))","v":""}]
[null,{"$f":"IF(OpParam_Deviation_CMS_Data!I17=\"\",\"\",OpParam_Deviation_CMS_Data!I17)","v":""},{"$f":"IF(OpParam_Deviation_CMS_Data!J17=\"\",\"\",OpParam_Deviation_CMS_Data!J17)","v":""},{"$f":"IF(OpParam_Deviation_CMS_Data!K17=\"\",\"\",OpParam_Deviation_CMS_Data!K17)","v":""},{"$f":"IF(OpParam_Deviation_CMS_Data!L17=\"\",\"\",OpParam_Deviation_CMS_Data!L17)","v":""},{"$f":"IF($C38=\"\",\"\",SUMIFS(Deviations_Op_Param_CMS!$K$24:'Deviations_Op_Param_CMS'!$K$500,Deviations_Op_Param_CMS!$B$24:'Deviations_Op_Param_CMS'!$B$500,$B38,Deviations_Op_Param_CMS!$C$24:'Deviations_Op_Param_CMS'!$C$500,$C38,Deviations_Op_Param_CMS!$F$24:'Deviations_Op_Param_CMS'!$F$500,$D38,Deviations_Op_Param_CMS!$M$24:'Deviations_Op_Param_CMS'!$M$500,\"Startup\"))","v":""},{"$f":"IF($C38=\"\",\"\",SUMIFS(Deviations_Op_Param_CMS!$K$24:'Deviations_Op_Param_CMS'!$K$500,Deviations_Op_Param_CMS!$B$24:'Deviations_Op_Param_CMS'!$B$500,$B38,Deviations_Op_Param_CMS!$C$24:'Deviations_Op_Param_CMS'!$C$500,$C38,Deviations_Op_Param_CMS!$F$24:'Deviations_Op_Param_CMS'!$F$500,$D38,Deviations_Op_Param_CMS!$M$24:'Deviations_Op_Param_CMS'!$M$500,\"Shutdown\"))","v":""},{"$f":"IF($C38=\"\",\"\",SUMIFS(Deviations_Op_Param_CMS!$K$24:'Deviations_Op_Param_CMS'!$K$500,Deviations_Op_Param_CMS!$B$24:'Deviations_Op_Param_CMS'!$B$500,$B38,Deviations_Op_Param_CMS!$C$24:'Deviations_Op_Param_CMS'!$C$500,$C38,Deviations_Op_Param_CMS!$F$24:'Deviations_Op_Param_CMS'!$F$500,$D38,Deviations_Op_Param_CMS!$M$24:'Deviations_Op_Param_CMS'!$M$500,\"Control Equipment Problems\"))","v":""},{"$f":"IF($C38=\"\",\"\",SUMIFS(Deviations_Op_Param_CMS!$K$24:'Deviations_Op_Param_CMS'!$K$500,Deviations_Op_Param_CMS!$B$24:'Deviations_Op_Param_CMS'!$B$500,$B38,Deviations_Op_Param_CMS!$C$24:'Deviations_Op_Param_CMS'!$C$500,$C38,Deviations_Op_Param_CMS!$F$24:'Deviations_Op_Param_CMS'!$F$500,$D38,Deviations_Op_Param_CMS!$M$24:'Deviations_Op_Param_CMS'!$M$500,\"Process Problems\"))","v":""},{"$f":"IF($C38=\"\",\"\",SUMIFS(Deviations_Op_Param_CMS!$K$24:'Deviations_Op_Param_CMS'!$K$500,Deviations_Op_Param_CMS!$B$24:'Deviations_Op_Param_CMS'!$B$500,$B38,Deviations_Op_Param_CMS!$C$24:'Deviations_Op_Param_CMS'!$C$500,$C38,Deviations_Op_Param_CMS!$F$24:'Deviations_Op_Param_CMS'!$F$500,$D38,Deviations_Op_Param_CMS!$M$24:'Deviations_Op_Param_CMS'!$M$500,\"Other Known Causes\"))","v":""},{"$f":"IF($C38=\"\",\"\",SUMIFS(Deviations_Op_Param_CMS!$K$24:'Deviations_Op_Param_CMS'!$K$500,Deviations_Op_Param_CMS!$B$24:'Deviations_Op_Param_CMS'!$B$500,$B38,Deviations_Op_Param_CMS!$C$24:'Deviations_Op_Param_CMS'!$C$500,$C38,Deviations_Op_Param_CMS!$F$24:'Deviations_Op_Param_CMS'!$F$500,$D38,Deviations_Op_Param_CMS!$M$24:'Deviations_Op_Param_CMS'!$M$500,\"Other Unknown Causes\"))","v":""},{"$f":"IF($C38=\"\",\"\",SUMIFS(Deviations_Op_Param_CMS!$K$24:'Deviations_Op_Param_CMS'!$K$500,Deviations_Op_Param_CMS!$B$24:'Deviations_Op_Param_CMS'!$B$500,$B38,Deviations_Op_Param_CMS!$C$24:'Deviations_Op_Param_CMS'!$C$500,$C38,Deviations_Op_Param_CMS!$F$24:'Deviations_Op_Param_CMS'!$F$500,$D38))","v":""},"",{"$f":"IF($C38=\"\",\"\",COUNTIFS(Deviations_Op_Param_CMS!$B$24:'Deviations_Op_Param_CMS'!$B$500,$B38,Deviations_Op_Param_CMS!$C$24:'Deviations_Op_Param_CMS'!$C$500,$C38,Deviations_Op_Param_CMS!$F$24:'Deviations_Op_Param_CMS'!$F$500,$D38))","v":""}]
[null,{"$f":"IF(OpParam_Deviation_CMS_Data!I18=\"\",\"\",OpParam_Deviation_CMS_Data!I18)","v":""},{"$f":"IF(OpParam_Deviation_CMS_Data!J18=\"\",\"\",OpParam_Deviation_CMS_Data!J18)","v":""},{"$f":"IF(OpParam_Deviation_CMS_Data!K18=\"\",\"\",OpParam_Deviation_CMS_Data!K18)","v":""},{"$f":"IF(OpParam_Deviation_CMS_Data!L18=\"\",\"\",OpParam_Deviation_CMS_Data!L18)","v":""},{"$f":"IF($C39=\"\",\"\",SUMIFS(Deviations_Op_Param_CMS!$K$24:'Deviations_Op_Param_CMS'!$K$500,Deviations_Op_Param_CMS!$B$24:'Deviations_Op_Param_CMS'!$B$500,$B39,Deviations_Op_Param_CMS!$C$24:'Deviations_Op_Param_CMS'!$C$500,$C39,Deviations_Op_Param_CMS!$F$24:'Deviations_Op_Param_CMS'!$F$500,$D39,Deviations_Op_Param_CMS!$M$24:'Deviations_Op_Param_CMS'!$M$500,\"Startup\"))","v":""},{"$f":"IF($C39=\"\",\"\",SUMIFS(Deviations_Op_Param_CMS!$K$24:'Deviations_Op_Param_CMS'!$K$500,Deviations_Op_Param_CMS!$B$24:'Deviations_Op_Param_CMS'!$B$500,$B39,Deviations_Op_Param_CMS!$C$24:'Deviations_Op_Param_CMS'!$C$500,$C39,Deviations_Op_Param_CMS!$F$24:'Deviations_Op_Param_CMS'!$F$500,$D39,Deviations_Op_Param_CMS!$M$24:'Deviations_Op_Param_CMS'!$M$500,\"Shutdown\"))","v":""},{"$f":"IF($C39=\"\",\"\",SUMIFS(Deviations_Op_Param_CMS!$K$24:'Deviations_Op_Param_CMS'!$K$500,Deviations_Op_Param_CMS!$B$24:'Deviations_Op_Param_CMS'!$B$500,$B39,Deviations_Op_Param_CMS!$C$24:'Deviations_Op_Param_CMS'!$C$500,$C39,Deviations_Op_Param_CMS!$F$24:'Deviations_Op_Param_CMS'!$F$500,$D39,Deviations_Op_Param_CMS!$M$24:'Deviations_Op_Param_CMS'!$M$500,\"Control Equipment Problems\"))","v":""},{"$f":"IF($C39=\"\",\"\",SUMIFS(Deviations_Op_Param_CMS!$K$24:'Deviations_Op_Param_CMS'!$K$500,Deviations_Op_Param_CMS!$B$24:'Deviations_Op_Param_CMS'!$B$500,$B39,Deviations_Op_Param_CMS!$C$24:'Deviations_Op_Param_CMS'!$C$500,$C39,Deviations_Op_Param_CMS!$F$24:'Deviations_Op_Param_CMS'!$F$500,$D39,Deviations_Op_Param_CMS!$M$24:'Deviations_Op_Param_CMS'!$M$500,\"Process Problems\"))","v":""},{"$f":"IF($C39=\"\",\"\",SUMIFS(Deviations_Op_Param_CMS!$K$24:'Deviations_Op_Param_CMS'!$K$500,Deviations_Op_Param_CMS!$B$24:'Deviations_Op_Param_CMS'!$B$500,$B39,Deviations_Op_Param_CMS!$C$24:'Deviations_Op_Param_CMS'!$C$500,$C39,Deviations_Op_Param_CMS!$F$24:'Deviations_Op_Param_CMS'!$F$500,$D39,Deviations_Op_Param_CMS!$M$24:'Deviations_Op_Param_CMS'!$M$500,\"Other Known Causes\"))","v":""},{"$f":"IF($C39=\"\",\"\",SUMIFS(Deviations_Op_Param_CMS!$K$24:'Deviations_Op_Param_CMS'!$K$500,Deviations_Op_Param_CMS!$B$24:'Deviations_Op_Param_CMS'!$B$500,$B39,Deviations_Op_Param_CMS!$C$24:'Deviations_Op_Param_CMS'!$C$500,$C39,Deviations_Op_Param_CMS!$F$24:'Deviations_Op_Param_CMS'!$F$500,$D39,Deviations_Op_Param_CMS!$M$24:'Deviations_Op_Param_CMS'!$M$500,\"Other Unknown Causes\"))","v":""},{"$f":"IF($C39=\"\",\"\",SUMIFS(Deviations_Op_Param_CMS!$K$24:'Deviations_Op_Param_CMS'!$K$500,Deviations_Op_Param_CMS!$B$24:'Deviations_Op_Param_CMS'!$B$500,$B39,Deviations_Op_Param_CMS!$C$24:'Deviations_Op_Param_CMS'!$C$500,$C39,Deviations_Op_Param_CMS!$F$24:'Deviations_Op_Param_CMS'!$F$500,$D39))","v":""},"",{"$f":"IF($C39=\"\",\"\",COUNTIFS(Deviations_Op_Param_CMS!$B$24:'Deviations_Op_Param_CMS'!$B$500,$B39,Deviations_Op_Param_CMS!$C$24:'Deviations_Op_Param_CMS'!$C$500,$C39,Deviations_Op_Param_CMS!$F$24:'Deviations_Op_Param_CMS'!$F$500,$D39))","v":""}]
[null,{"$f":"IF(OpParam_Deviation_CMS_Data!I19=\"\",\"\",OpParam_Deviation_CMS_Data!I19)","v":""},{"$f":"IF(OpParam_Deviation_CMS_Data!J19=\"\",\"\",OpParam_Deviation_CMS_Data!J19)","v":""},{"$f":"IF(OpParam_Deviation_CMS_Data!K19=\"\",\"\",OpParam_Deviation_CMS_Data!K19)","v":""},{"$f":"IF(OpParam_Deviation_CMS_Data!L19=\"\",\"\",OpParam_Deviation_CMS_Data!L19)","v":""},{"$f":"IF($C40=\"\",\"\",SUMIFS(Deviations_Op_Param_CMS!$K$24:'Deviations_Op_Param_CMS'!$K$500,Deviations_Op_Param_CMS!$B$24:'Deviations_Op_Param_CMS'!$B$500,$B40,Deviations_Op_Param_CMS!$C$24:'Deviations_Op_Param_CMS'!$C$500,$C40,Deviations_Op_Param_CMS!$F$24:'Deviations_Op_Param_CMS'!$F$500,$D40,Deviations_Op_Param_CMS!$M$24:'Deviations_Op_Param_CMS'!$M$500,\"Startup\"))","v":""},{"$f":"IF($C40=\"\",\"\",SUMIFS(Deviations_Op_Param_CMS!$K$24:'Deviations_Op_Param_CMS'!$K$500,Deviations_Op_Param_CMS!$B$24:'Deviations_Op_Param_CMS'!$B$500,$B40,Deviations_Op_Param_CMS!$C$24:'Deviations_Op_Param_CMS'!$C$500,$C40,Deviations_Op_Param_CMS!$F$24:'Deviations_Op_Param_CMS'!$F$500,$D40,Deviations_Op_Param_CMS!$M$24:'Deviations_Op_Param_CMS'!$M$500,\"Shutdown\"))","v":""},{"$f":"IF($C40=\"\",\"\",SUMIFS(Deviations_Op_Param_CMS!$K$24:'Deviations_Op_Param_CMS'!$K$500,Deviations_Op_Param_CMS!$B$24:'Deviations_Op_Param_CMS'!$B$500,$B40,Deviations_Op_Param_CMS!$C$24:'Deviations_Op_Param_CMS'!$C$500,$C40,Deviations_Op_Param_CMS!$F$24:'Deviations_Op_Param_CMS'!$F$500,$D40,Deviations_Op_Param_CMS!$M$24:'Deviations_Op_Param_CMS'!$M$500,\"Control Equipment Problems\"))","v":""},{"$f":"IF($C40=\"\",\"\",SUMIFS(Deviations_Op_Param_CMS!$K$24:'Deviations_Op_Param_CMS'!$K$500,Deviations_Op_Param_CMS!$B$24:'Deviations_Op_Param_CMS'!$B$500,$B40,Deviations_Op_Param_CMS!$C$24:'Deviations_Op_Param_CMS'!$C$500,$C40,Deviations_Op_Param_CMS!$F$24:'Deviations_Op_Param_CMS'!$F$500,$D40,Deviations_Op_Param_CMS!$M$24:'Deviations_Op_Param_CMS'!$M$500,\"Process Problems\"))","v":""},{"$f":"IF($C40=\"\",\"\",SUMIFS(Deviations_Op_Param_CMS!$K$24:'Deviations_Op_Param_CMS'!$K$500,Deviations_Op_Param_CMS!$B$24:'Deviations_Op_Param_CMS'!$B$500,$B40,Deviations_Op_Param_CMS!$C$24:'Deviations_Op_Param_CMS'!$C$500,$C40,Deviations_Op_Param_CMS!$F$24:'Deviations_Op_Param_CMS'!$F$500,$D40,Deviations_Op_Param_CMS!$M$24:'Deviations_Op_Param_CMS'!$M$500,\"Other Known Causes\"))","v":""},{"$f":"IF($C40=\"\",\"\",SUMIFS(Deviations_Op_Param_CMS!$K$24:'Deviations_Op_Param_CMS'!$K$500,Deviations_Op_Param_CMS!$B$24:'Deviations_Op_Param_CMS'!$B$500,$B40,Deviations_Op_Param_CMS!$C$24:'Deviations_Op_Param_CMS'!$C$500,$C40,Deviations_Op_Param_CMS!$F$24:'Deviations_Op_Param_CMS'!$F$500,$D40,Deviations_Op_Param_CMS!$M$24:'Deviations_Op_Param_CMS'!$M$500,\"Other Unknown Causes\"))","v":""},{"$f":"IF($C40=\"\",\"\",SUMIFS(Deviations_Op_Param_CMS!$K$24:'Deviations_Op_Param_CMS'!$K$500,Deviations_Op_Param_CMS!$B$24:'Deviations_Op_Param_CMS'!$B$500,$B40,Deviations_Op_Param_CMS!$C$24:'Deviations_Op_Param_CMS'!$C$500,$C40,Deviations_Op_Param_CMS!$F$24:'Deviations_Op_Param_CMS'!$F$500,$D40))","v":""},"",{"$f":"IF($C40=\"\",\"\",COUNTIFS(Deviations_Op_Param_CMS!$B$24:'Deviations_Op_Param_CMS'!$B$500,$B40,Deviations_Op_Param_CMS!$C$24:'Deviations_Op_Param_CMS'!$C$500,$C40,Deviations_Op_Param_CMS!$F$24:'Deviations_Op_Param_CMS'!$F$500,$D40))","v":""}]
[null,{"$f":"IF(OpParam_Deviation_CMS_Data!I20=\"\",\"\",OpParam_Deviation_CMS_Data!I20)","v":""},{"$f":"IF(OpParam_Deviation_CMS_Data!J20=\"\",\"\",OpParam_Deviation_CMS_Data!J20)","v":""},{"$f":"IF(OpParam_Deviation_CMS_Data!K20=\"\",\"\",OpParam_Deviation_CMS_Data!K20)","v":""},{"$f":"IF(OpParam_Deviation_CMS_Data!L20=\"\",\"\",OpParam_Deviation_CMS_Data!L20)","v":""},{"$f":"IF($C41=\"\",\"\",SUMIFS(Deviations_Op_Param_CMS!$K$24:'Deviations_Op_Param_CMS'!$K$500,Deviations_Op_Param_CMS!$B$24:'Deviations_Op_Param_CMS'!$B$500,$B41,Deviations_Op_Param_CMS!$C$24:'Deviations_Op_Param_CMS'!$C$500,$C41,Deviations_Op_Param_CMS!$F$24:'Deviations_Op_Param_CMS'!$F$500,$D41,Deviations_Op_Param_CMS!$M$24:'Deviations_Op_Param_CMS'!$M$500,\"Startup\"))","v":""},{"$f":"IF($C41=\"\",\"\",SUMIFS(Deviations_Op_Param_CMS!$K$24:'Deviations_Op_Param_CMS'!$K$500,Deviations_Op_Param_CMS!$B$24:'Deviations_Op_Param_CMS'!$B$500,$B41,Deviations_Op_Param_CMS!$C$24:'Deviations_Op_Param_CMS'!$C$500,$C41,Deviations_Op_Param_CMS!$F$24:'Deviations_Op_Param_CMS'!$F$500,$D41,Deviations_Op_Param_CMS!$M$24:'Deviations_Op_Param_CMS'!$M$500,\"Shutdown\"))","v":""},{"$f":"IF($C41=\"\",\"\",SUMIFS(Deviations_Op_Param_CMS!$K$24:'Deviations_Op_Param_CMS'!$K$500,Deviations_Op_Param_CMS!$B$24:'Deviations_Op_Param_CMS'!$B$500,$B41,Deviations_Op_Param_CMS!$C$24:'Deviations_Op_Param_CMS'!$C$500,$C41,Deviations_Op_Param_CMS!$F$24:'Deviations_Op_Param_CMS'!$F$500,$D41,Deviations_Op_Param_CMS!$M$24:'Deviations_Op_Param_CMS'!$M$500,\"Control Equipment Problems\"))","v":""},{"$f":"IF($C41=\"\",\"\",SUMIFS(Deviations_Op_Param_CMS!$K$24:'Deviations_Op_Param_CMS'!$K$500,Deviations_Op_Param_CMS!$B$24:'Deviations_Op_Param_CMS'!$B$500,$B41,Deviations_Op_Param_CMS!$C$24:'Deviations_Op_Param_CMS'!$C$500,$C41,Deviations_Op_Param_CMS!$F$24:'Deviations_Op_Param_CMS'!$F$500,$D41,Deviations_Op_Param_CMS!$M$24:'Deviations_Op_Param_CMS'!$M$500,\"Process Problems\"))","v":""},{"$f":"IF($C41=\"\",\"\",SUMIFS(Deviations_Op_Param_CMS!$K$24:'Deviations_Op_Param_CMS'!$K$500,Deviations_Op_Param_CMS!$B$24:'Deviations_Op_Param_CMS'!$B$500,$B41,Deviations_Op_Param_CMS!$C$24:'Deviations_Op_Param_CMS'!$C$500,$C41,Deviations_Op_Param_CMS!$F$24:'Deviations_Op_Param_CMS'!$F$500,$D41,Deviations_Op_Param_CMS!$M$24:'Deviations_Op_Param_CMS'!$M$500,\"Other Known Causes\"))","v":""},{"$f":"IF($C41=\"\",\"\",SUMIFS(Deviations_Op_Param_CMS!$K$24:'Deviations_Op_Param_CMS'!$K$500,Deviations_Op_Param_CMS!$B$24:'Deviations_Op_Param_CMS'!$B$500,$B41,Deviations_Op_Param_CMS!$C$24:'Deviations_Op_Param_CMS'!$C$500,$C41,Deviations_Op_Param_CMS!$F$24:'Deviations_Op_Param_CMS'!$F$500,$D41,Deviations_Op_Param_CMS!$M$24:'Deviations_Op_Param_CMS'!$M$500,\"Other Unknown Causes\"))","v":""},{"$f":"IF($C41=\"\",\"\",SUMIFS(Deviations_Op_Param_CMS!$K$24:'Deviations_Op_Param_CMS'!$K$500,Deviations_Op_Param_CMS!$B$24:'Deviations_Op_Param_CMS'!$B$500,$B41,Deviations_Op_Param_CMS!$C$24:'Deviations_Op_Param_CMS'!$C$500,$C41,Deviations_Op_Param_CMS!$F$24:'Deviations_Op_Param_CMS'!$F$500,$D41))","v":""},"",{"$f":"IF($C41=\"\",\"\",COUNTIFS(Deviations_Op_Param_CMS!$B$24:'Deviations_Op_Param_CMS'!$B$500,$B41,Deviations_Op_Param_CMS!$C$24:'Deviations_Op_Param_CMS'!$C$500,$C41,Deviations_Op_Param_CMS!$F$24:'Deviations_Op_Param_CMS'!$F$500,$D41))","v":""}]
[null,{"$f":"IF(OpParam_Deviation_CMS_Data!I21=\"\",\"\",OpParam_Deviation_CMS_Data!I21)","v":""},{"$f":"IF(OpParam_Deviation_CMS_Data!J21=\"\",\"\",OpParam_Deviation_CMS_Data!J21)","v":""},{"$f":"IF(OpParam_Deviation_CMS_Data!K21=\"\",\"\",OpParam_Deviation_CMS_Data!K21)","v":""},{"$f":"IF(OpParam_Deviation_CMS_Data!L21=\"\",\"\",OpParam_Deviation_CMS_Data!L21)","v":""},{"$f":"IF($C42=\"\",\"\",SUMIFS(Deviations_Op_Param_CMS!$K$24:'Deviations_Op_Param_CMS'!$K$500,Deviations_Op_Param_CMS!$B$24:'Deviations_Op_Param_CMS'!$B$500,$B42,Deviations_Op_Param_CMS!$C$24:'Deviations_Op_Param_CMS'!$C$500,$C42,Deviations_Op_Param_CMS!$F$24:'Deviations_Op_Param_CMS'!$F$500,$D42,Deviations_Op_Param_CMS!$M$24:'Deviations_Op_Param_CMS'!$M$500,\"Startup\"))","v":""},{"$f":"IF($C42=\"\",\"\",SUMIFS(Deviations_Op_Param_CMS!$K$24:'Deviations_Op_Param_CMS'!$K$500,Deviations_Op_Param_CMS!$B$24:'Deviations_Op_Param_CMS'!$B$500,$B42,Deviations_Op_Param_CMS!$C$24:'Deviations_Op_Param_CMS'!$C$500,$C42,Deviations_Op_Param_CMS!$F$24:'Deviations_Op_Param_CMS'!$F$500,$D42,Deviations_Op_Param_CMS!$M$24:'Deviations_Op_Param_CMS'!$M$500,\"Shutdown\"))","v":""},{"$f":"IF($C42=\"\",\"\",SUMIFS(Deviations_Op_Param_CMS!$K$24:'Deviations_Op_Param_CMS'!$K$500,Deviations_Op_Param_CMS!$B$24:'Deviations_Op_Param_CMS'!$B$500,$B42,Deviations_Op_Param_CMS!$C$24:'Deviations_Op_Param_CMS'!$C$500,$C42,Deviations_Op_Param_CMS!$F$24:'Deviations_Op_Param_CMS'!$F$500,$D42,Deviations_Op_Param_CMS!$M$24:'Deviations_Op_Param_CMS'!$M$500,\"Control Equipment Problems\"))","v":""},{"$f":"IF($C42=\"\",\"\",SUMIFS(Deviations_Op_Param_CMS!$K$24:'Deviations_Op_Param_CMS'!$K$500,Deviations_Op_Param_CMS!$B$24:'Deviations_Op_Param_CMS'!$B$500,$B42,Deviations_Op_Param_CMS!$C$24:'Deviations_Op_Param_CMS'!$C$500,$C42,Deviations_Op_Param_CMS!$F$24:'Deviations_Op_Param_CMS'!$F$500,$D42,Deviations_Op_Param_CMS!$M$24:'Deviations_Op_Param_CMS'!$M$500,\"Process Problems\"))","v":""},{"$f":"IF($C42=\"\",\"\",SUMIFS(Deviations_Op_Param_CMS!$K$24:'Deviations_Op_Param_CMS'!$K$500,Deviations_Op_Param_CMS!$B$24:'Deviations_Op_Param_CMS'!$B$500,$B42,Deviations_Op_Param_CMS!$C$24:'Deviations_Op_Param_CMS'!$C$500,$C42,Deviations_Op_Param_CMS!$F$24:'Deviations_Op_Param_CMS'!$F$500,$D42,Deviations_Op_Param_CMS!$M$24:'Deviations_Op_Param_CMS'!$M$500,\"Other Known Causes\"))","v":""},{"$f":"IF($C42=\"\",\"\",SUMIFS(Deviations_Op_Param_CMS!$K$24:'Deviations_Op_Param_CMS'!$K$500,Deviations_Op_Param_CMS!$B$24:'Deviations_Op_Param_CMS'!$B$500,$B42,Deviations_Op_Param_CMS!$C$24:'Deviations_Op_Param_CMS'!$C$500,$C42,Deviations_Op_Param_CMS!$F$24:'Deviations_Op_Param_CMS'!$F$500,$D42,Deviations_Op_Param_CMS!$M$24:'Deviations_Op_Param_CMS'!$M$500,\"Other Unknown Causes\"))","v":""},{"$f":"IF($C42=\"\",\"\",SUMIFS(Deviations_Op_Param_CMS!$K$24:'Deviations_Op_Param_CMS'!$K$500,Deviations_Op_Param_CMS!$B$24:'Deviations_Op_Param_CMS'!$B$500,$B42,Deviations_Op_Param_CMS!$C$24:'Deviations_Op_Param_CMS'!$C$500,$C42,Deviations_Op_Param_CMS!$F$24:'Deviations_Op_Param_CMS'!$F$500,$D42))","v":""},"",{"$f":"IF($C42=\"\",\"\",COUNTIFS(Deviations_Op_Param_CMS!$B$24:'Deviations_Op_Param_CMS'!$B$500,$B42,Deviations_Op_Param_CMS!$C$24:'Deviations_Op_Param_CMS'!$C$500,$C42,Deviations_Op_Param_CMS!$F$24:'Deviations_Op_Param_CMS'!$F$500,$D42))","v":""}]
[null,{"$f":"IF(OpParam_Deviation_CMS_Data!I22=\"\",\"\",OpParam_Deviation_CMS_Data!I22)","v":""},{"$f":"IF(OpParam_Deviation_CMS_Data!J22=\"\",\"\",OpParam_Deviation_CMS_Data!J22)","v":""},{"$f":"IF(OpParam_Deviation_CMS_Data!K22=\"\",\"\",OpParam_Deviation_CMS_Data!K22)","v":""},{"$f":"IF(OpParam_Deviation_CMS_Data!L22=\"\",\"\",OpParam_Deviation_CMS_Data!L22)","v":""},{"$f":"IF($C43=\"\",\"\",SUMIFS(Deviations_Op_Param_CMS!$K$24:'Deviations_Op_Param_CMS'!$K$500,Deviations_Op_Param_CMS!$B$24:'Deviations_Op_Param_CMS'!$B$500,$B43,Deviations_Op_Param_CMS!$C$24:'Deviations_Op_Param_CMS'!$C$500,$C43,Deviations_Op_Param_CMS!$F$24:'Deviations_Op_Param_CMS'!$F$500,$D43,Deviations_Op_Param_CMS!$M$24:'Deviations_Op_Param_CMS'!$M$500,\"Startup\"))","v":""},{"$f":"IF($C43=\"\",\"\",SUMIFS(Deviations_Op_Param_CMS!$K$24:'Deviations_Op_Param_CMS'!$K$500,Deviations_Op_Param_CMS!$B$24:'Deviations_Op_Param_CMS'!$B$500,$B43,Deviations_Op_Param_CMS!$C$24:'Deviations_Op_Param_CMS'!$C$500,$C43,Deviations_Op_Param_CMS!$F$24:'Deviations_Op_Param_CMS'!$F$500,$D43,Deviations_Op_Param_CMS!$M$24:'Deviations_Op_Param_CMS'!$M$500,\"Shutdown\"))","v":""},{"$f":"IF($C43=\"\",\"\",SUMIFS(Deviations_Op_Param_CMS!$K$24:'Deviations_Op_Param_CMS'!$K$500,Deviations_Op_Param_CMS!$B$24:'Deviations_Op_Param_CMS'!$B$500,$B43,Deviations_Op_Param_CMS!$C$24:'Deviations_Op_Param_CMS'!$C$500,$C43,Deviations_Op_Param_CMS!$F$24:'Deviations_Op_Param_CMS'!$F$500,$D43,Deviations_Op_Param_CMS!$M$24:'Deviations_Op_Param_CMS'!$M$500,\"Control Equipment Problems\"))","v":""},{"$f":"IF($C43=\"\",\"\",SUMIFS(Deviations_Op_Param_CMS!$K$24:'Deviations_Op_Param_CMS'!$K$500,Deviations_Op_Param_CMS!$B$24:'Deviations_Op_Param_CMS'!$B$500,$B43,Deviations_Op_Param_CMS!$C$24:'Deviations_Op_Param_CMS'!$C$500,$C43,Deviations_Op_Param_CMS!$F$24:'Deviations_Op_Param_CMS'!$F$500,$D43,Deviations_Op_Param_CMS!$M$24:'Deviations_Op_Param_CMS'!$M$500,\"Process Problems\"))","v":""},{"$f":"IF($C43=\"\",\"\",SUMIFS(Deviations_Op_Param_CMS!$K$24:'Deviations_Op_Param_CMS'!$K$500,Deviations_Op_Param_CMS!$B$24:'Deviations_Op_Param_CMS'!$B$500,$B43,Deviations_Op_Param_CMS!$C$24:'Deviations_Op_Param_CMS'!$C$500,$C43,Deviations_Op_Param_CMS!$F$24:'Deviations_Op_Param_CMS'!$F$500,$D43,Deviations_Op_Param_CMS!$M$24:'Deviations_Op_Param_CMS'!$M$500,\"Other Known Causes\"))","v":""},{"$f":"IF($C43=\"\",\"\",SUMIFS(Deviations_Op_Param_CMS!$K$24:'Deviations_Op_Param_CMS'!$K$500,Deviations_Op_Param_CMS!$B$24:'Deviations_Op_Param_CMS'!$B$500,$B43,Deviations_Op_Param_CMS!$C$24:'Deviations_Op_Param_CMS'!$C$500,$C43,Deviations_Op_Param_CMS!$F$24:'Deviations_Op_Param_CMS'!$F$500,$D43,Deviations_Op_Param_CMS!$M$24:'Deviations_Op_Param_CMS'!$M$500,\"Other Unknown Causes\"))","v":""},{"$f":"IF($C43=\"\",\"\",SUMIFS(Deviations_Op_Param_CMS!$K$24:'Deviations_Op_Param_CMS'!$K$500,Deviations_Op_Param_CMS!$B$24:'Deviations_Op_Param_CMS'!$B$500,$B43,Deviations_Op_Param_CMS!$C$24:'Deviations_Op_Param_CMS'!$C$500,$C43,Deviations_Op_Param_CMS!$F$24:'Deviations_Op_Param_CMS'!$F$500,$D43))","v":""},"",{"$f":"IF($C43=\"\",\"\",COUNTIFS(Deviations_Op_Param_CMS!$B$24:'Deviations_Op_Param_CMS'!$B$500,$B43,Deviations_Op_Param_CMS!$C$24:'Deviations_Op_Param_CMS'!$C$500,$C43,Deviations_Op_Param_CMS!$F$24:'Deviations_Op_Param_CMS'!$F$500,$D43))","v":""}]
[null,{"$f":"IF(OpParam_Deviation_CMS_Data!I23=\"\",\"\",OpParam_Deviation_CMS_Data!I23)","v":""},{"$f":"IF(OpParam_Deviation_CMS_Data!J23=\"\",\"\",OpParam_Deviation_CMS_Data!J23)","v":""},{"$f":"IF(OpParam_Deviation_CMS_Data!K23=\"\",\"\",OpParam_Deviation_CMS_Data!K23)","v":""},{"$f":"IF(OpParam_Deviation_CMS_Data!L23=\"\",\"\",OpParam_Deviation_CMS_Data!L23)","v":""},{"$f":"IF($C44=\"\",\"\",SUMIFS(Deviations_Op_Param_CMS!$K$24:'Deviations_Op_Param_CMS'!$K$500,Deviations_Op_Param_CMS!$B$24:'Deviations_Op_Param_CMS'!$B$500,$B44,Deviations_Op_Param_CMS!$C$24:'Deviations_Op_Param_CMS'!$C$500,$C44,Deviations_Op_Param_CMS!$F$24:'Deviations_Op_Param_CMS'!$F$500,$D44,Deviations_Op_Param_CMS!$M$24:'Deviations_Op_Param_CMS'!$M$500,\"Startup\"))","v":""},{"$f":"IF($C44=\"\",\"\",SUMIFS(Deviations_Op_Param_CMS!$K$24:'Deviations_Op_Param_CMS'!$K$500,Deviations_Op_Param_CMS!$B$24:'Deviations_Op_Param_CMS'!$B$500,$B44,Deviations_Op_Param_CMS!$C$24:'Deviations_Op_Param_CMS'!$C$500,$C44,Deviations_Op_Param_CMS!$F$24:'Deviations_Op_Param_CMS'!$F$500,$D44,Deviations_Op_Param_CMS!$M$24:'Deviations_Op_Param_CMS'!$M$500,\"Shutdown\"))","v":""},{"$f":"IF($C44=\"\",\"\",SUMIFS(Deviations_Op_Param_CMS!$K$24:'Deviations_Op_Param_CMS'!$K$500,Deviations_Op_Param_CMS!$B$24:'Deviations_Op_Param_CMS'!$B$500,$B44,Deviations_Op_Param_CMS!$C$24:'Deviations_Op_Param_CMS'!$C$500,$C44,Deviations_Op_Param_CMS!$F$24:'Deviations_Op_Param_CMS'!$F$500,$D44,Deviations_Op_Param_CMS!$M$24:'Deviations_Op_Param_CMS'!$M$500,\"Control Equipment Problems\"))","v":""},{"$f":"IF($C44=\"\",\"\",SUMIFS(Deviations_Op_Param_CMS!$K$24:'Deviations_Op_Param_CMS'!$K$500,Deviations_Op_Param_CMS!$B$24:'Deviations_Op_Param_CMS'!$B$500,$B44,Deviations_Op_Param_CMS!$C$24:'Deviations_Op_Param_CMS'!$C$500,$C44,Deviations_Op_Param_CMS!$F$24:'Deviations_Op_Param_CMS'!$F$500,$D44,Deviations_Op_Param_CMS!$M$24:'Deviations_Op_Param_CMS'!$M$500,\"Process Problems\"))","v":""},{"$f":"IF($C44=\"\",\"\",SUMIFS(Deviations_Op_Param_CMS!$K$24:'Deviations_Op_Param_CMS'!$K$500,Deviations_Op_Param_CMS!$B$24:'Deviations_Op_Param_CMS'!$B$500,$B44,Deviations_Op_Param_CMS!$C$24:'Deviations_Op_Param_CMS'!$C$500,$C44,Deviations_Op_Param_CMS!$F$24:'Deviations_Op_Param_CMS'!$F$500,$D44,Deviations_Op_Param_CMS!$M$24:'Deviations_Op_Param_CMS'!$M$500,\"Other Known Causes\"))","v":""},{"$f":"IF($C44=\"\",\"\",SUMIFS(Deviations_Op_Param_CMS!$K$24:'Deviations_Op_Param_CMS'!$K$500,Deviations_Op_Param_CMS!$B$24:'Deviations_Op_Param_CMS'!$B$500,$B44,Deviations_Op_Param_CMS!$C$24:'Deviations_Op_Param_CMS'!$C$500,$C44,Deviations_Op_Param_CMS!$F$24:'Deviations_Op_Param_CMS'!$F$500,$D44,Deviations_Op_Param_CMS!$M$24:'Deviations_Op_Param_CMS'!$M$500,\"Other Unknown Causes\"))","v":""},{"$f":"IF($C44=\"\",\"\",SUMIFS(Deviations_Op_Param_CMS!$K$24:'Deviations_Op_Param_CMS'!$K$500,Deviations_Op_Param_CMS!$B$24:'Deviations_Op_Param_CMS'!$B$500,$B44,Deviations_Op_Param_CMS!$C$24:'Deviations_Op_Param_CMS'!$C$500,$C44,Deviations_Op_Param_CMS!$F$24:'Deviations_Op_Param_CMS'!$F$500,$D44))","v":""},"",{"$f":"IF($C44=\"\",\"\",COUNTIFS(Deviations_Op_Param_CMS!$B$24:'Deviations_Op_Param_CMS'!$B$500,$B44,Deviations_Op_Param_CMS!$C$24:'Deviations_Op_Param_CMS'!$C$500,$C44,Deviations_Op_Param_CMS!$F$24:'Deviations_Op_Param_CMS'!$F$500,$D44))","v":""}]
[null,{"$f":"IF(OpParam_Deviation_CMS_Data!I24=\"\",\"\",OpParam_Deviation_CMS_Data!I24)","v":""},{"$f":"IF(OpParam_Deviation_CMS_Data!J24=\"\",\"\",OpParam_Deviation_CMS_Data!J24)","v":""},{"$f":"IF(OpParam_Deviation_CMS_Data!K24=\"\",\"\",OpParam_Deviation_CMS_Data!K24)","v":""},{"$f":"IF(OpParam_Deviation_CMS_Data!L24=\"\",\"\",OpParam_Deviation_CMS_Data!L24)","v":""},{"$f":"IF($C45=\"\",\"\",SUMIFS(Deviations_Op_Param_CMS!$K$24:'Deviations_Op_Param_CMS'!$K$500,Deviations_Op_Param_CMS!$B$24:'Deviations_Op_Param_CMS'!$B$500,$B45,Deviations_Op_Param_CMS!$C$24:'Deviations_Op_Param_CMS'!$C$500,$C45,Deviations_Op_Param_CMS!$F$24:'Deviations_Op_Param_CMS'!$F$500,$D45,Deviations_Op_Param_CMS!$M$24:'Deviations_Op_Param_CMS'!$M$500,\"Startup\"))","v":""},{"$f":"IF($C45=\"\",\"\",SUMIFS(Deviations_Op_Param_CMS!$K$24:'Deviations_Op_Param_CMS'!$K$500,Deviations_Op_Param_CMS!$B$24:'Deviations_Op_Param_CMS'!$B$500,$B45,Deviations_Op_Param_CMS!$C$24:'Deviations_Op_Param_CMS'!$C$500,$C45,Deviations_Op_Param_CMS!$F$24:'Deviations_Op_Param_CMS'!$F$500,$D45,Deviations_Op_Param_CMS!$M$24:'Deviations_Op_Param_CMS'!$M$500,\"Shutdown\"))","v":""},{"$f":"IF($C45=\"\",\"\",SUMIFS(Deviations_Op_Param_CMS!$K$24:'Deviations_Op_Param_CMS'!$K$500,Deviations_Op_Param_CMS!$B$24:'Deviations_Op_Param_CMS'!$B$500,$B45,Deviations_Op_Param_CMS!$C$24:'Deviations_Op_Param_CMS'!$C$500,$C45,Deviations_Op_Param_CMS!$F$24:'Deviations_Op_Param_CMS'!$F$500,$D45,Deviations_Op_Param_CMS!$M$24:'Deviations_Op_Param_CMS'!$M$500,\"Control Equipment Problems\"))","v":""},{"$f":"IF($C45=\"\",\"\",SUMIFS(Deviations_Op_Param_CMS!$K$24:'Deviations_Op_Param_CMS'!$K$500,Deviations_Op_Param_CMS!$B$24:'Deviations_Op_Param_CMS'!$B$500,$B45,Deviations_Op_Param_CMS!$C$24:'Deviations_Op_Param_CMS'!$C$500,$C45,Deviations_Op_Param_CMS!$F$24:'Deviations_Op_Param_CMS'!$F$500,$D45,Deviations_Op_Param_CMS!$M$24:'Deviations_Op_Param_CMS'!$M$500,\"Process Problems\"))","v":""},{"$f":"IF($C45=\"\",\"\",SUMIFS(Deviations_Op_Param_CMS!$K$24:'Deviations_Op_Param_CMS'!$K$500,Deviations_Op_Param_CMS!$B$24:'Deviations_Op_Param_CMS'!$B$500,$B45,Deviations_Op_Param_CMS!$C$24:'Deviations_Op_Param_CMS'!$C$500,$C45,Deviations_Op_Param_CMS!$F$24:'Deviations_Op_Param_CMS'!$F$500,$D45,Deviations_Op_Param_CMS!$M$24:'Deviations_Op_Param_CMS'!$M$500,\"Other Known Causes\"))","v":""},{"$f":"IF($C45=\"\",\"\",SUMIFS(Deviations_Op_Param_CMS!$K$24:'Deviations_Op_Param_CMS'!$K$500,Deviations_Op_Param_CMS!$B$24:'Deviations_Op_Param_CMS'!$B$500,$B45,Deviations_Op_Param_CMS!$C$24:'Deviations_Op_Param_CMS'!$C$500,$C45,Deviations_Op_Param_CMS!$F$24:'Deviations_Op_Param_CMS'!$F$500,$D45,Deviations_Op_Param_CMS!$M$24:'Deviations_Op_Param_CMS'!$M$500,\"Other Unknown Causes\"))","v":""},{"$f":"IF($C45=\"\",\"\",SUMIFS(Deviations_Op_Param_CMS!$K$24:'Deviations_Op_Param_CMS'!$K$500,Deviations_Op_Param_CMS!$B$24:'Deviations_Op_Param_CMS'!$B$500,$B45,Deviations_Op_Param_CMS!$C$24:'Deviations_Op_Param_CMS'!$C$500,$C45,Deviations_Op_Param_CMS!$F$24:'Deviations_Op_Param_CMS'!$F$500,$D45))","v":""},"",{"$f":"IF($C45=\"\",\"\",COUNTIFS(Deviations_Op_Param_CMS!$B$24:'Deviations_Op_Param_CMS'!$B$500,$B45,Deviations_Op_Param_CMS!$C$24:'Deviations_Op_Param_CMS'!$C$500,$C45,Deviations_Op_Param_CMS!$F$24:'Deviations_Op_Param_CMS'!$F$500,$D45))","v":""}]
[null,{"$f":"IF(OpParam_Deviation_CMS_Data!I25=\"\",\"\",OpParam_Deviation_CMS_Data!I25)","v":""},{"$f":"IF(OpParam_Deviation_CMS_Data!J25=\"\",\"\",OpParam_Deviation_CMS_Data!J25)","v":""},{"$f":"IF(OpParam_Deviation_CMS_Data!K25=\"\",\"\",OpParam_Deviation_CMS_Data!K25)","v":""},{"$f":"IF(OpParam_Deviation_CMS_Data!L25=\"\",\"\",OpParam_Deviation_CMS_Data!L25)","v":""},{"$f":"IF($C46=\"\",\"\",SUMIFS(Deviations_Op_Param_CMS!$K$24:'Deviations_Op_Param_CMS'!$K$500,Deviations_Op_Param_CMS!$B$24:'Deviations_Op_Param_CMS'!$B$500,$B46,Deviations_Op_Param_CMS!$C$24:'Deviations_Op_Param_CMS'!$C$500,$C46,Deviations_Op_Param_CMS!$F$24:'Deviations_Op_Param_CMS'!$F$500,$D46,Deviations_Op_Param_CMS!$M$24:'Deviations_Op_Param_CMS'!$M$500,\"Startup\"))","v":""},{"$f":"IF($C46=\"\",\"\",SUMIFS(Deviations_Op_Param_CMS!$K$24:'Deviations_Op_Param_CMS'!$K$500,Deviations_Op_Param_CMS!$B$24:'Deviations_Op_Param_CMS'!$B$500,$B46,Deviations_Op_Param_CMS!$C$24:'Deviations_Op_Param_CMS'!$C$500,$C46,Deviations_Op_Param_CMS!$F$24:'Deviations_Op_Param_CMS'!$F$500,$D46,Deviations_Op_Param_CMS!$M$24:'Deviations_Op_Param_CMS'!$M$500,\"Shutdown\"))","v":""},{"$f":"IF($C46=\"\",\"\",SUMIFS(Deviations_Op_Param_CMS!$K$24:'Deviations_Op_Param_CMS'!$K$500,Deviations_Op_Param_CMS!$B$24:'Deviations_Op_Param_CMS'!$B$500,$B46,Deviations_Op_Param_CMS!$C$24:'Deviations_Op_Param_CMS'!$C$500,$C46,Deviations_Op_Param_CMS!$F$24:'Deviations_Op_Param_CMS'!$F$500,$D46,Deviations_Op_Param_CMS!$M$24:'Deviations_Op_Param_CMS'!$M$500,\"Control Equipment Problems\"))","v":""},{"$f":"IF($C46=\"\",\"\",SUMIFS(Deviations_Op_Param_CMS!$K$24:'Deviations_Op_Param_CMS'!$K$500,Deviations_Op_Param_CMS!$B$24:'Deviations_Op_Param_CMS'!$B$500,$B46,Deviations_Op_Param_CMS!$C$24:'Deviations_Op_Param_CMS'!$C$500,$C46,Deviations_Op_Param_CMS!$F$24:'Deviations_Op_Param_CMS'!$F$500,$D46,Deviations_Op_Param_CMS!$M$24:'Deviations_Op_Param_CMS'!$M$500,\"Process Problems\"))","v":""},{"$f":"IF($C46=\"\",\"\",SUMIFS(Deviations_Op_Param_CMS!$K$24:'Deviations_Op_Param_CMS'!$K$500,Deviations_Op_Param_CMS!$B$24:'Deviations_Op_Param_CMS'!$B$500,$B46,Deviations_Op_Param_CMS!$C$24:'Deviations_Op_Param_CMS'!$C$500,$C46,Deviations_Op_Param_CMS!$F$24:'Deviations_Op_Param_CMS'!$F$500,$D46,Deviations_Op_Param_CMS!$M$24:'Deviations_Op_Param_CMS'!$M$500,\"Other Known Causes\"))","v":""},{"$f":"IF($C46=\"\",\"\",SUMIFS(Deviations_Op_Param_CMS!$K$24:'Deviations_Op_Param_CMS'!$K$500,Deviations_Op_Param_CMS!$B$24:'Deviations_Op_Param_CMS'!$B$500,$B46,Deviations_Op_Param_CMS!$C$24:'Deviations_Op_Param_CMS'!$C$500,$C46,Deviations_Op_Param_CMS!$F$24:'Deviations_Op_Param_CMS'!$F$500,$D46,Deviations_Op_Param_CMS!$M$24:'Deviations_Op_Param_CMS'!$M$500,\"Other Unknown Causes\"))","v":""},{"$f":"IF($C46=\"\",\"\",SUMIFS(Deviations_Op_Param_CMS!$K$24:'Deviations_Op_Param_CMS'!$K$500,Deviations_Op_Param_CMS!$B$24:'Deviations_Op_Param_CMS'!$B$500,$B46,Deviations_Op_Param_CMS!$C$24:'Deviations_Op_Param_CMS'!$C$500,$C46,Deviations_Op_Param_CMS!$F$24:'Deviations_Op_Param_CMS'!$F$500,$D46))","v":""},"",{"$f":"IF($C46=\"\",\"\",COUNTIFS(Deviations_Op_Param_CMS!$B$24:'Deviations_Op_Param_CMS'!$B$500,$B46,Deviations_Op_Param_CMS!$C$24:'Deviations_Op_Param_CMS'!$C$500,$C46,Deviations_Op_Param_CMS!$F$24:'Deviations_Op_Param_CMS'!$F$500,$D46))","v":""}]
[null,{"$f":"IF(OpParam_Deviation_CMS_Data!I26=\"\",\"\",OpParam_Deviation_CMS_Data!I26)","v":""},{"$f":"IF(OpParam_Deviation_CMS_Data!J26=\"\",\"\",OpParam_Deviation_CMS_Data!J26)","v":""},{"$f":"IF(OpParam_Deviation_CMS_Data!K26=\"\",\"\",OpParam_Deviation_CMS_Data!K26)","v":""},{"$f":"IF(OpParam_Deviation_CMS_Data!L26=\"\",\"\",OpParam_Deviation_CMS_Data!L26)","v":""},{"$f":"IF($C47=\"\",\"\",SUMIFS(Deviations_Op_Param_CMS!$K$24:'Deviations_Op_Param_CMS'!$K$500,Deviations_Op_Param_CMS!$B$24:'Deviations_Op_Param_CMS'!$B$500,$B47,Deviations_Op_Param_CMS!$C$24:'Deviations_Op_Param_CMS'!$C$500,$C47,Deviations_Op_Param_CMS!$F$24:'Deviations_Op_Param_CMS'!$F$500,$D47,Deviations_Op_Param_CMS!$M$24:'Deviations_Op_Param_CMS'!$M$500,\"Startup\"))","v":""},{"$f":"IF($C47=\"\",\"\",SUMIFS(Deviations_Op_Param_CMS!$K$24:'Deviations_Op_Param_CMS'!$K$500,Deviations_Op_Param_CMS!$B$24:'Deviations_Op_Param_CMS'!$B$500,$B47,Deviations_Op_Param_CMS!$C$24:'Deviations_Op_Param_CMS'!$C$500,$C47,Deviations_Op_Param_CMS!$F$24:'Deviations_Op_Param_CMS'!$F$500,$D47,Deviations_Op_Param_CMS!$M$24:'Deviations_Op_Param_CMS'!$M$500,\"Shutdown\"))","v":""},{"$f":"IF($C47=\"\",\"\",SUMIFS(Deviations_Op_Param_CMS!$K$24:'Deviations_Op_Param_CMS'!$K$500,Deviations_Op_Param_CMS!$B$24:'Deviations_Op_Param_CMS'!$B$500,$B47,Deviations_Op_Param_CMS!$C$24:'Deviations_Op_Param_CMS'!$C$500,$C47,Deviations_Op_Param_CMS!$F$24:'Deviations_Op_Param_CMS'!$F$500,$D47,Deviations_Op_Param_CMS!$M$24:'Deviations_Op_Param_CMS'!$M$500,\"Control Equipment Problems\"))","v":""},{"$f":"IF($C47=\"\",\"\",SUMIFS(Deviations_Op_Param_CMS!$K$24:'Deviations_Op_Param_CMS'!$K$500,Deviations_Op_Param_CMS!$B$24:'Deviations_Op_Param_CMS'!$B$500,$B47,Deviations_Op_Param_CMS!$C$24:'Deviations_Op_Param_CMS'!$C$500,$C47,Deviations_Op_Param_CMS!$F$24:'Deviations_Op_Param_CMS'!$F$500,$D47,Deviations_Op_Param_CMS!$M$24:'Deviations_Op_Param_CMS'!$M$500,\"Process Problems\"))","v":""},{"$f":"IF($C47=\"\",\"\",SUMIFS(Deviations_Op_Param_CMS!$K$24:'Deviations_Op_Param_CMS'!$K$500,Deviations_Op_Param_CMS!$B$24:'Deviations_Op_Param_CMS'!$B$500,$B47,Deviations_Op_Param_CMS!$C$24:'Deviations_Op_Param_CMS'!$C$500,$C47,Deviations_Op_Param_CMS!$F$24:'Deviations_Op_Param_CMS'!$F$500,$D47,Deviations_Op_Param_CMS!$M$24:'Deviations_Op_Param_CMS'!$M$500,\"Other Known Causes\"))","v":""},{"$f":"IF($C47=\"\",\"\",SUMIFS(Deviations_Op_Param_CMS!$K$24:'Deviations_Op_Param_CMS'!$K$500,Deviations_Op_Param_CMS!$B$24:'Deviations_Op_Param_CMS'!$B$500,$B47,Deviations_Op_Param_CMS!$C$24:'Deviations_Op_Param_CMS'!$C$500,$C47,Deviations_Op_Param_CMS!$F$24:'Deviations_Op_Param_CMS'!$F$500,$D47,Deviations_Op_Param_CMS!$M$24:'Deviations_Op_Param_CMS'!$M$500,\"Other Unknown Causes\"))","v":""},{"$f":"IF($C47=\"\",\"\",SUMIFS(Deviations_Op_Param_CMS!$K$24:'Deviations_Op_Param_CMS'!$K$500,Deviations_Op_Param_CMS!$B$24:'Deviations_Op_Param_CMS'!$B$500,$B47,Deviations_Op_Param_CMS!$C$24:'Deviations_Op_Param_CMS'!$C$500,$C47,Deviations_Op_Param_CMS!$F$24:'Deviations_Op_Param_CMS'!$F$500,$D47))","v":""},"",{"$f":"IF($C47=\"\",\"\",COUNTIFS(Deviations_Op_Param_CMS!$B$24:'Deviations_Op_Param_CMS'!$B$500,$B47,Deviations_Op_Param_CMS!$C$24:'Deviations_Op_Param_CMS'!$C$500,$C47,Deviations_Op_Param_CMS!$F$24:'Deviations_Op_Param_CMS'!$F$500,$D47))","v":""}]
[null,{"$f":"IF(OpParam_Deviation_CMS_Data!I27=\"\",\"\",OpParam_Deviation_CMS_Data!I27)","v":""},{"$f":"IF(OpParam_Deviation_CMS_Data!J27=\"\",\"\",OpParam_Deviation_CMS_Data!J27)","v":""},{"$f":"IF(OpParam_Deviation_CMS_Data!K27=\"\",\"\",OpParam_Deviation_CMS_Data!K27)","v":""},{"$f":"IF(OpParam_Deviation_CMS_Data!L27=\"\",\"\",OpParam_Deviation_CMS_Data!L27)","v":""},{"$f":"IF($C48=\"\",\"\",SUMIFS(Deviations_Op_Param_CMS!$K$24:'Deviations_Op_Param_CMS'!$K$500,Deviations_Op_Param_CMS!$B$24:'Deviations_Op_Param_CMS'!$B$500,$B48,Deviations_Op_Param_CMS!$C$24:'Deviations_Op_Param_CMS'!$C$500,$C48,Deviations_Op_Param_CMS!$F$24:'Deviations_Op_Param_CMS'!$F$500,$D48,Deviations_Op_Param_CMS!$M$24:'Deviations_Op_Param_CMS'!$M$500,\"Startup\"))","v":""},{"$f":"IF($C48=\"\",\"\",SUMIFS(Deviations_Op_Param_CMS!$K$24:'Deviations_Op_Param_CMS'!$K$500,Deviations_Op_Param_CMS!$B$24:'Deviations_Op_Param_CMS'!$B$500,$B48,Deviations_Op_Param_CMS!$C$24:'Deviations_Op_Param_CMS'!$C$500,$C48,Deviations_Op_Param_CMS!$F$24:'Deviations_Op_Param_CMS'!$F$500,$D48,Deviations_Op_Param_CMS!$M$24:'Deviations_Op_Param_CMS'!$M$500,\"Shutdown\"))","v":""},{"$f":"IF($C48=\"\",\"\",SUMIFS(Deviations_Op_Param_CMS!$K$24:'Deviations_Op_Param_CMS'!$K$500,Deviations_Op_Param_CMS!$B$24:'Deviations_Op_Param_CMS'!$B$500,$B48,Deviations_Op_Param_CMS!$C$24:'Deviations_Op_Param_CMS'!$C$500,$C48,Deviations_Op_Param_CMS!$F$24:'Deviations_Op_Param_CMS'!$F$500,$D48,Deviations_Op_Param_CMS!$M$24:'Deviations_Op_Param_CMS'!$M$500,\"Control Equipment Problems\"))","v":""},{"$f":"IF($C48=\"\",\"\",SUMIFS(Deviations_Op_Param_CMS!$K$24:'Deviations_Op_Param_CMS'!$K$500,Deviations_Op_Param_CMS!$B$24:'Deviations_Op_Param_CMS'!$B$500,$B48,Deviations_Op_Param_CMS!$C$24:'Deviations_Op_Param_CMS'!$C$500,$C48,Deviations_Op_Param_CMS!$F$24:'Deviations_Op_Param_CMS'!$F$500,$D48,Deviations_Op_Param_CMS!$M$24:'Deviations_Op_Param_CMS'!$M$500,\"Process Problems\"))","v":""},{"$f":"IF($C48=\"\",\"\",SUMIFS(Deviations_Op_Param_CMS!$K$24:'Deviations_Op_Param_CMS'!$K$500,Deviations_Op_Param_CMS!$B$24:'Deviations_Op_Param_CMS'!$B$500,$B48,Deviations_Op_Param_CMS!$C$24:'Deviations_Op_Param_CMS'!$C$500,$C48,Deviations_Op_Param_CMS!$F$24:'Deviations_Op_Param_CMS'!$F$500,$D48,Deviations_Op_Param_CMS!$M$24:'Deviations_Op_Param_CMS'!$M$500,\"Other Known Causes\"))","v":""},{"$f":"IF($C48=\"\",\"\",SUMIFS(Deviations_Op_Param_CMS!$K$24:'Deviations_Op_Param_CMS'!$K$500,Deviations_Op_Param_CMS!$B$24:'Deviations_Op_Param_CMS'!$B$500,$B48,Deviations_Op_Param_CMS!$C$24:'Deviations_Op_Param_CMS'!$C$500,$C48,Deviations_Op_Param_CMS!$F$24:'Deviations_Op_Param_CMS'!$F$500,$D48,Deviations_Op_Param_CMS!$M$24:'Deviations_Op_Param_CMS'!$M$500,\"Other Unknown Causes\"))","v":""},{"$f":"IF($C48=\"\",\"\",SUMIFS(Deviations_Op_Param_CMS!$K$24:'Deviations_Op_Param_CMS'!$K$500,Deviations_Op_Param_CMS!$B$24:'Deviations_Op_Param_CMS'!$B$500,$B48,Deviations_Op_Param_CMS!$C$24:'Deviations_Op_Param_CMS'!$C$500,$C48,Deviations_Op_Param_CMS!$F$24:'Deviations_Op_Param_CMS'!$F$500,$D48))","v":""},"",{"$f":"IF($C48=\"\",\"\",COUNTIFS(Deviations_Op_Param_CMS!$B$24:'Deviations_Op_Param_CMS'!$B$500,$B48,Deviations_Op_Param_CMS!$C$24:'Deviations_Op_Param_CMS'!$C$500,$C48,Deviations_Op_Param_CMS!$F$24:'Deviations_Op_Param_CMS'!$F$500,$D48))","v":""}]
[null,{"$f":"IF(OpParam_Deviation_CMS_Data!I28=\"\",\"\",OpParam_Deviation_CMS_Data!I28)","v":""},{"$f":"IF(OpParam_Deviation_CMS_Data!J28=\"\",\"\",OpParam_Deviation_CMS_Data!J28)","v":""},{"$f":"IF(OpParam_Deviation_CMS_Data!K28=\"\",\"\",OpParam_Deviation_CMS_Data!K28)","v":""},{"$f":"IF(OpParam_Deviation_CMS_Data!L28=\"\",\"\",OpParam_Deviation_CMS_Data!L28)","v":""},{"$f":"IF($C49=\"\",\"\",SUMIFS(Deviations_Op_Param_CMS!$K$24:'Deviations_Op_Param_CMS'!$K$500,Deviations_Op_Param_CMS!$B$24:'Deviations_Op_Param_CMS'!$B$500,$B49,Deviations_Op_Param_CMS!$C$24:'Deviations_Op_Param_CMS'!$C$500,$C49,Deviations_Op_Param_CMS!$F$24:'Deviations_Op_Param_CMS'!$F$500,$D49,Deviations_Op_Param_CMS!$M$24:'Deviations_Op_Param_CMS'!$M$500,\"Startup\"))","v":""},{"$f":"IF($C49=\"\",\"\",SUMIFS(Deviations_Op_Param_CMS!$K$24:'Deviations_Op_Param_CMS'!$K$500,Deviations_Op_Param_CMS!$B$24:'Deviations_Op_Param_CMS'!$B$500,$B49,Deviations_Op_Param_CMS!$C$24:'Deviations_Op_Param_CMS'!$C$500,$C49,Deviations_Op_Param_CMS!$F$24:'Deviations_Op_Param_CMS'!$F$500,$D49,Deviations_Op_Param_CMS!$M$24:'Deviations_Op_Param_CMS'!$M$500,\"Shutdown\"))","v":""},{"$f":"IF($C49=\"\",\"\",SUMIFS(Deviations_Op_Param_CMS!$K$24:'Deviations_Op_Param_CMS'!$K$500,Deviations_Op_Param_CMS!$B$24:'Deviations_Op_Param_CMS'!$B$500,$B49,Deviations_Op_Param_CMS!$C$24:'Deviations_Op_Param_CMS'!$C$500,$C49,Deviations_Op_Param_CMS!$F$24:'Deviations_Op_Param_CMS'!$F$500,$D49,Deviations_Op_Param_CMS!$M$24:'Deviations_Op_Param_CMS'!$M$500,\"Control Equipment Problems\"))","v":""},{"$f":"IF($C49=\"\",\"\",SUMIFS(Deviations_Op_Param_CMS!$K$24:'Deviations_Op_Param_CMS'!$K$500,Deviations_Op_Param_CMS!$B$24:'Deviations_Op_Param_CMS'!$B$500,$B49,Deviations_Op_Param_CMS!$C$24:'Deviations_Op_Param_CMS'!$C$500,$C49,Deviations_Op_Param_CMS!$F$24:'Deviations_Op_Param_CMS'!$F$500,$D49,Deviations_Op_Param_CMS!$M$24:'Deviations_Op_Param_CMS'!$M$500,\"Process Problems\"))","v":""},{"$f":"IF($C49=\"\",\"\",SUMIFS(Deviations_Op_Param_CMS!$K$24:'Deviations_Op_Param_CMS'!$K$500,Deviations_Op_Param_CMS!$B$24:'Deviations_Op_Param_CMS'!$B$500,$B49,Deviations_Op_Param_CMS!$C$24:'Deviations_Op_Param_CMS'!$C$500,$C49,Deviations_Op_Param_CMS!$F$24:'Deviations_Op_Param_CMS'!$F$500,$D49,Deviations_Op_Param_CMS!$M$24:'Deviations_Op_Param_CMS'!$M$500,\"Other Known Causes\"))","v":""},{"$f":"IF($C49=\"\",\"\",SUMIFS(Deviations_Op_Param_CMS!$K$24:'Deviations_Op_Param_CMS'!$K$500,Deviations_Op_Param_CMS!$B$24:'Deviations_Op_Param_CMS'!$B$500,$B49,Deviations_Op_Param_CMS!$C$24:'Deviations_Op_Param_CMS'!$C$500,$C49,Deviations_Op_Param_CMS!$F$24:'Deviations_Op_Param_CMS'!$F$500,$D49,Deviations_Op_Param_CMS!$M$24:'Deviations_Op_Param_CMS'!$M$500,\"Other Unknown Causes\"))","v":""},{"$f":"IF($C49=\"\",\"\",SUMIFS(Deviations_Op_Param_CMS!$K$24:'Deviations_Op_Param_CMS'!$K$500,Deviations_Op_Param_CMS!$B$24:'Deviations_Op_Param_CMS'!$B$500,$B49,Deviations_Op_Param_CMS!$C$24:'Deviations_Op_Param_CMS'!$C$500,$C49,Deviations_Op_Param_CMS!$F$24:'Deviations_Op_Param_CMS'!$F$500,$D49))","v":""},"",{"$f":"IF($C49=\"\",\"\",COUNTIFS(Deviations_Op_Param_CMS!$B$24:'Deviations_Op_Param_CMS'!$B$500,$B49,Deviations_Op_Param_CMS!$C$24:'Deviations_Op_Param_CMS'!$C$500,$C49,Deviations_Op_Param_CMS!$F$24:'Deviations_Op_Param_CMS'!$F$500,$D49))","v":""}]
[null,{"$f":"IF(OpParam_Deviation_CMS_Data!I29=\"\",\"\",OpParam_Deviation_CMS_Data!I29)","v":""},{"$f":"IF(OpParam_Deviation_CMS_Data!J29=\"\",\"\",OpParam_Deviation_CMS_Data!J29)","v":""},{"$f":"IF(OpParam_Deviation_CMS_Data!K29=\"\",\"\",OpParam_Deviation_CMS_Data!K29)","v":""},{"$f":"IF(OpParam_Deviation_CMS_Data!L29=\"\",\"\",OpParam_Deviation_CMS_Data!L29)","v":""},{"$f":"IF($C50=\"\",\"\",SUMIFS(Deviations_Op_Param_CMS!$K$24:'Deviations_Op_Param_CMS'!$K$500,Deviations_Op_Param_CMS!$B$24:'Deviations_Op_Param_CMS'!$B$500,$B50,Deviations_Op_Param_CMS!$C$24:'Deviations_Op_Param_CMS'!$C$500,$C50,Deviations_Op_Param_CMS!$F$24:'Deviations_Op_Param_CMS'!$F$500,$D50,Deviations_Op_Param_CMS!$M$24:'Deviations_Op_Param_CMS'!$M$500,\"Startup\"))","v":""},{"$f":"IF($C50=\"\",\"\",SUMIFS(Deviations_Op_Param_CMS!$K$24:'Deviations_Op_Param_CMS'!$K$500,Deviations_Op_Param_CMS!$B$24:'Deviations_Op_Param_CMS'!$B$500,$B50,Deviations_Op_Param_CMS!$C$24:'Deviations_Op_Param_CMS'!$C$500,$C50,Deviations_Op_Param_CMS!$F$24:'Deviations_Op_Param_CMS'!$F$500,$D50,Deviations_Op_Param_CMS!$M$24:'Deviations_Op_Param_CMS'!$M$500,\"Shutdown\"))","v":""},{"$f":"IF($C50=\"\",\"\",SUMIFS(Deviations_Op_Param_CMS!$K$24:'Deviations_Op_Param_CMS'!$K$500,Deviations_Op_Param_CMS!$B$24:'Deviations_Op_Param_CMS'!$B$500,$B50,Deviations_Op_Param_CMS!$C$24:'Deviations_Op_Param_CMS'!$C$500,$C50,Deviations_Op_Param_CMS!$F$24:'Deviations_Op_Param_CMS'!$F$500,$D50,Deviations_Op_Param_CMS!$M$24:'Deviations_Op_Param_CMS'!$M$500,\"Control Equipment Problems\"))","v":""},{"$f":"IF($C50=\"\",\"\",SUMIFS(Deviations_Op_Param_CMS!$K$24:'Deviations_Op_Param_CMS'!$K$500,Deviations_Op_Param_CMS!$B$24:'Deviations_Op_Param_CMS'!$B$500,$B50,Deviations_Op_Param_CMS!$C$24:'Deviations_Op_Param_CMS'!$C$500,$C50,Deviations_Op_Param_CMS!$F$24:'Deviations_Op_Param_CMS'!$F$500,$D50,Deviations_Op_Param_CMS!$M$24:'Deviations_Op_Param_CMS'!$M$500,\"Process Problems\"))","v":""},{"$f":"IF($C50=\"\",\"\",SUMIFS(Deviations_Op_Param_CMS!$K$24:'Deviations_Op_Param_CMS'!$K$500,Deviations_Op_Param_CMS!$B$24:'Deviations_Op_Param_CMS'!$B$500,$B50,Deviations_Op_Param_CMS!$C$24:'Deviations_Op_Param_CMS'!$C$500,$C50,Deviations_Op_Param_CMS!$F$24:'Deviations_Op_Param_CMS'!$F$500,$D50,Deviations_Op_Param_CMS!$M$24:'Deviations_Op_Param_CMS'!$M$500,\"Other Known Causes\"))","v":""},{"$f":"IF($C50=\"\",\"\",SUMIFS(Deviations_Op_Param_CMS!$K$24:'Deviations_Op_Param_CMS'!$K$500,Deviations_Op_Param_CMS!$B$24:'Deviations_Op_Param_CMS'!$B$500,$B50,Deviations_Op_Param_CMS!$C$24:'Deviations_Op_Param_CMS'!$C$500,$C50,Deviations_Op_Param_CMS!$F$24:'Deviations_Op_Param_CMS'!$F$500,$D50,Deviations_Op_Param_CMS!$M$24:'Deviations_Op_Param_CMS'!$M$500,\"Other Unknown Causes\"))","v":""},{"$f":"IF($C50=\"\",\"\",SUMIFS(Deviations_Op_Param_CMS!$K$24:'Deviations_Op_Param_CMS'!$K$500,Deviations_Op_Param_CMS!$B$24:'Deviations_Op_Param_CMS'!$B$500,$B50,Deviations_Op_Param_CMS!$C$24:'Deviations_Op_Param_CMS'!$C$500,$C50,Deviations_Op_Param_CMS!$F$24:'Deviations_Op_Param_CMS'!$F$500,$D50))","v":""},"",{"$f":"IF($C50=\"\",\"\",COUNTIFS(Deviations_Op_Param_CMS!$B$24:'Deviations_Op_Param_CMS'!$B$500,$B50,Deviations_Op_Param_CMS!$C$24:'Deviations_Op_Param_CMS'!$C$500,$C50,Deviations_Op_Param_CMS!$F$24:'Deviations_Op_Param_CMS'!$F$500,$D50))","v":""}]
[null,{"$f":"IF(OpParam_Deviation_CMS_Data!I30=\"\",\"\",OpParam_Deviation_CMS_Data!I30)","v":""},{"$f":"IF(OpParam_Deviation_CMS_Data!J30=\"\",\"\",OpParam_Deviation_CMS_Data!J30)","v":""},{"$f":"IF(OpParam_Deviation_CMS_Data!K30=\"\",\"\",OpParam_Deviation_CMS_Data!K30)","v":""},{"$f":"IF(OpParam_Deviation_CMS_Data!L30=\"\",\"\",OpParam_Deviation_CMS_Data!L30)","v":""},{"$f":"IF($C51=\"\",\"\",SUMIFS(Deviations_Op_Param_CMS!$K$24:'Deviations_Op_Param_CMS'!$K$500,Deviations_Op_Param_CMS!$B$24:'Deviations_Op_Param_CMS'!$B$500,$B51,Deviations_Op_Param_CMS!$C$24:'Deviations_Op_Param_CMS'!$C$500,$C51,Deviations_Op_Param_CMS!$F$24:'Deviations_Op_Param_CMS'!$F$500,$D51,Deviations_Op_Param_CMS!$M$24:'Deviations_Op_Param_CMS'!$M$500,\"Startup\"))","v":""},{"$f":"IF($C51=\"\",\"\",SUMIFS(Deviations_Op_Param_CMS!$K$24:'Deviations_Op_Param_CMS'!$K$500,Deviations_Op_Param_CMS!$B$24:'Deviations_Op_Param_CMS'!$B$500,$B51,Deviations_Op_Param_CMS!$C$24:'Deviations_Op_Param_CMS'!$C$500,$C51,Deviations_Op_Param_CMS!$F$24:'Deviations_Op_Param_CMS'!$F$500,$D51,Deviations_Op_Param_CMS!$M$24:'Deviations_Op_Param_CMS'!$M$500,\"Shutdown\"))","v":""},{"$f":"IF($C51=\"\",\"\",SUMIFS(Deviations_Op_Param_CMS!$K$24:'Deviations_Op_Param_CMS'!$K$500,Deviations_Op_Param_CMS!$B$24:'Deviations_Op_Param_CMS'!$B$500,$B51,Deviations_Op_Param_CMS!$C$24:'Deviations_Op_Param_CMS'!$C$500,$C51,Deviations_Op_Param_CMS!$F$24:'Deviations_Op_Param_CMS'!$F$500,$D51,Deviations_Op_Param_CMS!$M$24:'Deviations_Op_Param_CMS'!$M$500,\"Control Equipment Problems\"))","v":""},{"$f":"IF($C51=\"\",\"\",SUMIFS(Deviations_Op_Param_CMS!$K$24:'Deviations_Op_Param_CMS'!$K$500,Deviations_Op_Param_CMS!$B$24:'Deviations_Op_Param_CMS'!$B$500,$B51,Deviations_Op_Param_CMS!$C$24:'Deviations_Op_Param_CMS'!$C$500,$C51,Deviations_Op_Param_CMS!$F$24:'Deviations_Op_Param_CMS'!$F$500,$D51,Deviations_Op_Param_CMS!$M$24:'Deviations_Op_Param_CMS'!$M$500,\"Process Problems\"))","v":""},{"$f":"IF($C51=\"\",\"\",SUMIFS(Deviations_Op_Param_CMS!$K$24:'Deviations_Op_Param_CMS'!$K$500,Deviations_Op_Param_CMS!$B$24:'Deviations_Op_Param_CMS'!$B$500,$B51,Deviations_Op_Param_CMS!$C$24:'Deviations_Op_Param_CMS'!$C$500,$C51,Deviations_Op_Param_CMS!$F$24:'Deviations_Op_Param_CMS'!$F$500,$D51,Deviations_Op_Param_CMS!$M$24:'Deviations_Op_Param_CMS'!$M$500,\"Other Known Causes\"))","v":""},{"$f":"IF($C51=\"\",\"\",SUMIFS(Deviations_Op_Param_CMS!$K$24:'Deviations_Op_Param_CMS'!$K$500,Deviations_Op_Param_CMS!$B$24:'Deviations_Op_Param_CMS'!$B$500,$B51,Deviations_Op_Param_CMS!$C$24:'Deviations_Op_Param_CMS'!$C$500,$C51,Deviations_Op_Param_CMS!$F$24:'Deviations_Op_Param_CMS'!$F$500,$D51,Deviations_Op_Param_CMS!$M$24:'Deviations_Op_Param_CMS'!$M$500,\"Other Unknown Causes\"))","v":""},{"$f":"IF($C51=\"\",\"\",SUMIFS(Deviations_Op_Param_CMS!$K$24:'Deviations_Op_Param_CMS'!$K$500,Deviations_Op_Param_CMS!$B$24:'Deviations_Op_Param_CMS'!$B$500,$B51,Deviations_Op_Param_CMS!$C$24:'Deviations_Op_Param_CMS'!$C$500,$C51,Deviations_Op_Param_CMS!$F$24:'Deviations_Op_Param_CMS'!$F$500,$D51))","v":""},"",{"$f":"IF($C51=\"\",\"\",COUNTIFS(Deviations_Op_Param_CMS!$B$24:'Deviations_Op_Param_CMS'!$B$500,$B51,Deviations_Op_Param_CMS!$C$24:'Deviations_Op_Param_CMS'!$C$500,$C51,Deviations_Op_Param_CMS!$F$24:'Deviations_Op_Param_CMS'!$F$500,$D51))","v":""}]
[null,{"$f":"IF(OpParam_Deviation_CMS_Data!I31=\"\",\"\",OpParam_Deviation_CMS_Data!I31)","v":""},{"$f":"IF(OpParam_Deviation_CMS_Data!J31=\"\",\"\",OpParam_Deviation_CMS_Data!J31)","v":""},{"$f":"IF(OpParam_Deviation_CMS_Data!K31=\"\",\"\",OpParam_Deviation_CMS_Data!K31)","v":""},{"$f":"IF(OpParam_Deviation_CMS_Data!L31=\"\",\"\",OpParam_Deviation_CMS_Data!L31)","v":""},{"$f":"IF($C52=\"\",\"\",SUMIFS(Deviations_Op_Param_CMS!$K$24:'Deviations_Op_Param_CMS'!$K$500,Deviations_Op_Param_CMS!$B$24:'Deviations_Op_Param_CMS'!$B$500,$B52,Deviations_Op_Param_CMS!$C$24:'Deviations_Op_Param_CMS'!$C$500,$C52,Deviations_Op_Param_CMS!$F$24:'Deviations_Op_Param_CMS'!$F$500,$D52,Deviations_Op_Param_CMS!$M$24:'Deviations_Op_Param_CMS'!$M$500,\"Startup\"))","v":""},{"$f":"IF($C52=\"\",\"\",SUMIFS(Deviations_Op_Param_CMS!$K$24:'Deviations_Op_Param_CMS'!$K$500,Deviations_Op_Param_CMS!$B$24:'Deviations_Op_Param_CMS'!$B$500,$B52,Deviations_Op_Param_CMS!$C$24:'Deviations_Op_Param_CMS'!$C$500,$C52,Deviations_Op_Param_CMS!$F$24:'Deviations_Op_Param_CMS'!$F$500,$D52,Deviations_Op_Param_CMS!$M$24:'Deviations_Op_Param_CMS'!$M$500,\"Shutdown\"))","v":""},{"$f":"IF($C52=\"\",\"\",SUMIFS(Deviations_Op_Param_CMS!$K$24:'Deviations_Op_Param_CMS'!$K$500,Deviations_Op_Param_CMS!$B$24:'Deviations_Op_Param_CMS'!$B$500,$B52,Deviations_Op_Param_CMS!$C$24:'Deviations_Op_Param_CMS'!$C$500,$C52,Deviations_Op_Param_CMS!$F$24:'Deviations_Op_Param_CMS'!$F$500,$D52,Deviations_Op_Param_CMS!$M$24:'Deviations_Op_Param_CMS'!$M$500,\"Control Equipment Problems\"))","v":""},{"$f":"IF($C52=\"\",\"\",SUMIFS(Deviations_Op_Param_CMS!$K$24:'Deviations_Op_Param_CMS'!$K$500,Deviations_Op_Param_CMS!$B$24:'Deviations_Op_Param_CMS'!$B$500,$B52,Deviations_Op_Param_CMS!$C$24:'Deviations_Op_Param_CMS'!$C$500,$C52,Deviations_Op_Param_CMS!$F$24:'Deviations_Op_Param_CMS'!$F$500,$D52,Deviations_Op_Param_CMS!$M$24:'Deviations_Op_Param_CMS'!$M$500,\"Process Problems\"))","v":""},{"$f":"IF($C52=\"\",\"\",SUMIFS(Deviations_Op_Param_CMS!$K$24:'Deviations_Op_Param_CMS'!$K$500,Deviations_Op_Param_CMS!$B$24:'Deviations_Op_Param_CMS'!$B$500,$B52,Deviations_Op_Param_CMS!$C$24:'Deviations_Op_Param_CMS'!$C$500,$C52,Deviations_Op_Param_CMS!$F$24:'Deviations_Op_Param_CMS'!$F$500,$D52,Deviations_Op_Param_CMS!$M$24:'Deviations_Op_Param_CMS'!$M$500,\"Other Known Causes\"))","v":""},{"$f":"IF($C52=\"\",\"\",SUMIFS(Deviations_Op_Param_CMS!$K$24:'Deviations_Op_Param_CMS'!$K$500,Deviations_Op_Param_CMS!$B$24:'Deviations_Op_Param_CMS'!$B$500,$B52,Deviations_Op_Param_CMS!$C$24:'Deviations_Op_Param_CMS'!$C$500,$C52,Deviations_Op_Param_CMS!$F$24:'Deviations_Op_Param_CMS'!$F$500,$D52,Deviations_Op_Param_CMS!$M$24:'Deviations_Op_Param_CMS'!$M$500,\"Other Unknown Causes\"))","v":""},{"$f":"IF($C52=\"\",\"\",SUMIFS(Deviations_Op_Param_CMS!$K$24:'Deviations_Op_Param_CMS'!$K$500,Deviations_Op_Param_CMS!$B$24:'Deviations_Op_Param_CMS'!$B$500,$B52,Deviations_Op_Param_CMS!$C$24:'Deviations_Op_Param_CMS'!$C$500,$C52,Deviations_Op_Param_CMS!$F$24:'Deviations_Op_Param_CMS'!$F$500,$D52))","v":""},"",{"$f":"IF($C52=\"\",\"\",COUNTIFS(Deviations_Op_Param_CMS!$B$24:'Deviations_Op_Param_CMS'!$B$500,$B52,Deviations_Op_Param_CMS!$C$24:'Deviations_Op_Param_CMS'!$C$500,$C52,Deviations_Op_Param_CMS!$F$24:'Deviations_Op_Param_CMS'!$F$500,$D52))","v":""}]
[null,{"$f":"IF(OpParam_Deviation_CMS_Data!I32=\"\",\"\",OpParam_Deviation_CMS_Data!I32)","v":""},{"$f":"IF(OpParam_Deviation_CMS_Data!J32=\"\",\"\",OpParam_Deviation_CMS_Data!J32)","v":""},{"$f":"IF(OpParam_Deviation_CMS_Data!K32=\"\",\"\",OpParam_Deviation_CMS_Data!K32)","v":""},{"$f":"IF(OpParam_Deviation_CMS_Data!L32=\"\",\"\",OpParam_Deviation_CMS_Data!L32)","v":""},{"$f":"IF($C53=\"\",\"\",SUMIFS(Deviations_Op_Param_CMS!$K$24:'Deviations_Op_Param_CMS'!$K$500,Deviations_Op_Param_CMS!$B$24:'Deviations_Op_Param_CMS'!$B$500,$B53,Deviations_Op_Param_CMS!$C$24:'Deviations_Op_Param_CMS'!$C$500,$C53,Deviations_Op_Param_CMS!$F$24:'Deviations_Op_Param_CMS'!$F$500,$D53,Deviations_Op_Param_CMS!$M$24:'Deviations_Op_Param_CMS'!$M$500,\"Startup\"))","v":""},{"$f":"IF($C53=\"\",\"\",SUMIFS(Deviations_Op_Param_CMS!$K$24:'Deviations_Op_Param_CMS'!$K$500,Deviations_Op_Param_CMS!$B$24:'Deviations_Op_Param_CMS'!$B$500,$B53,Deviations_Op_Param_CMS!$C$24:'Deviations_Op_Param_CMS'!$C$500,$C53,Deviations_Op_Param_CMS!$F$24:'Deviations_Op_Param_CMS'!$F$500,$D53,Deviations_Op_Param_CMS!$M$24:'Deviations_Op_Param_CMS'!$M$500,\"Shutdown\"))","v":""},{"$f":"IF($C53=\"\",\"\",SUMIFS(Deviations_Op_Param_CMS!$K$24:'Deviations_Op_Param_CMS'!$K$500,Deviations_Op_Param_CMS!$B$24:'Deviations_Op_Param_CMS'!$B$500,$B53,Deviations_Op_Param_CMS!$C$24:'Deviations_Op_Param_CMS'!$C$500,$C53,Deviations_Op_Param_CMS!$F$24:'Deviations_Op_Param_CMS'!$F$500,$D53,Deviations_Op_Param_CMS!$M$24:'Deviations_Op_Param_CMS'!$M$500,\"Control Equipment Problems\"))","v":""},{"$f":"IF($C53=\"\",\"\",SUMIFS(Deviations_Op_Param_CMS!$K$24:'Deviations_Op_Param_CMS'!$K$500,Deviations_Op_Param_CMS!$B$24:'Deviations_Op_Param_CMS'!$B$500,$B53,Deviations_Op_Param_CMS!$C$24:'Deviations_Op_Param_CMS'!$C$500,$C53,Deviations_Op_Param_CMS!$F$24:'Deviations_Op_Param_CMS'!$F$500,$D53,Deviations_Op_Param_CMS!$M$24:'Deviations_Op_Param_CMS'!$M$500,\"Process Problems\"))","v":""},{"$f":"IF($C53=\"\",\"\",SUMIFS(Deviations_Op_Param_CMS!$K$24:'Deviations_Op_Param_CMS'!$K$500,Deviations_Op_Param_CMS!$B$24:'Deviations_Op_Param_CMS'!$B$500,$B53,Deviations_Op_Param_CMS!$C$24:'Deviations_Op_Param_CMS'!$C$500,$C53,Deviations_Op_Param_CMS!$F$24:'Deviations_Op_Param_CMS'!$F$500,$D53,Deviations_Op_Param_CMS!$M$24:'Deviations_Op_Param_CMS'!$M$500,\"Other Known Causes\"))","v":""},{"$f":"IF($C53=\"\",\"\",SUMIFS(Deviations_Op_Param_CMS!$K$24:'Deviations_Op_Param_CMS'!$K$500,Deviations_Op_Param_CMS!$B$24:'Deviations_Op_Param_CMS'!$B$500,$B53,Deviations_Op_Param_CMS!$C$24:'Deviations_Op_Param_CMS'!$C$500,$C53,Deviations_Op_Param_CMS!$F$24:'Deviations_Op_Param_CMS'!$F$500,$D53,Deviations_Op_Param_CMS!$M$24:'Deviations_Op_Param_CMS'!$M$500,\"Other Unknown Causes\"))","v":""},{"$f":"IF($C53=\"\",\"\",SUMIFS(Deviations_Op_Param_CMS!$K$24:'Deviations_Op_Param_CMS'!$K$500,Deviations_Op_Param_CMS!$B$24:'Deviations_Op_Param_CMS'!$B$500,$B53,Deviations_Op_Param_CMS!$C$24:'Deviations_Op_Param_CMS'!$C$500,$C53,Deviations_Op_Param_CMS!$F$24:'Deviations_Op_Param_CMS'!$F$500,$D53))","v":""},"",{"$f":"IF($C53=\"\",\"\",COUNTIFS(Deviations_Op_Param_CMS!$B$24:'Deviations_Op_Param_CMS'!$B$500,$B53,Deviations_Op_Param_CMS!$C$24:'Deviations_Op_Param_CMS'!$C$500,$C53,Deviations_Op_Param_CMS!$F$24:'Deviations_Op_Param_CMS'!$F$500,$D53))","v":""}]
[null,{"$f":"IF(OpParam_Deviation_CMS_Data!I33=\"\",\"\",OpParam_Deviation_CMS_Data!I33)","v":""},{"$f":"IF(OpParam_Deviation_CMS_Data!J33=\"\",\"\",OpParam_Deviation_CMS_Data!J33)","v":""},{"$f":"IF(OpParam_Deviation_CMS_Data!K33=\"\",\"\",OpParam_Deviation_CMS_Data!K33)","v":""},{"$f":"IF(OpParam_Deviation_CMS_Data!L33=\"\",\"\",OpParam_Deviation_CMS_Data!L33)","v":""},{"$f":"IF($C54=\"\",\"\",SUMIFS(Deviations_Op_Param_CMS!$K$24:'Deviations_Op_Param_CMS'!$K$500,Deviations_Op_Param_CMS!$B$24:'Deviations_Op_Param_CMS'!$B$500,$B54,Deviations_Op_Param_CMS!$C$24:'Deviations_Op_Param_CMS'!$C$500,$C54,Deviations_Op_Param_CMS!$F$24:'Deviations_Op_Param_CMS'!$F$500,$D54,Deviations_Op_Param_CMS!$M$24:'Deviations_Op_Param_CMS'!$M$500,\"Startup\"))","v":""},{"$f":"IF($C54=\"\",\"\",SUMIFS(Deviations_Op_Param_CMS!$K$24:'Deviations_Op_Param_CMS'!$K$500,Deviations_Op_Param_CMS!$B$24:'Deviations_Op_Param_CMS'!$B$500,$B54,Deviations_Op_Param_CMS!$C$24:'Deviations_Op_Param_CMS'!$C$500,$C54,Deviations_Op_Param_CMS!$F$24:'Deviations_Op_Param_CMS'!$F$500,$D54,Deviations_Op_Param_CMS!$M$24:'Deviations_Op_Param_CMS'!$M$500,\"Shutdown\"))","v":""},{"$f":"IF($C54=\"\",\"\",SUMIFS(Deviations_Op_Param_CMS!$K$24:'Deviations_Op_Param_CMS'!$K$500,Deviations_Op_Param_CMS!$B$24:'Deviations_Op_Param_CMS'!$B$500,$B54,Deviations_Op_Param_CMS!$C$24:'Deviations_Op_Param_CMS'!$C$500,$C54,Deviations_Op_Param_CMS!$F$24:'Deviations_Op_Param_CMS'!$F$500,$D54,Deviations_Op_Param_CMS!$M$24:'Deviations_Op_Param_CMS'!$M$500,\"Control Equipment Problems\"))","v":""},{"$f":"IF($C54=\"\",\"\",SUMIFS(Deviations_Op_Param_CMS!$K$24:'Deviations_Op_Param_CMS'!$K$500,Deviations_Op_Param_CMS!$B$24:'Deviations_Op_Param_CMS'!$B$500,$B54,Deviations_Op_Param_CMS!$C$24:'Deviations_Op_Param_CMS'!$C$500,$C54,Deviations_Op_Param_CMS!$F$24:'Deviations_Op_Param_CMS'!$F$500,$D54,Deviations_Op_Param_CMS!$M$24:'Deviations_Op_Param_CMS'!$M$500,\"Process Problems\"))","v":""},{"$f":"IF($C54=\"\",\"\",SUMIFS(Deviations_Op_Param_CMS!$K$24:'Deviations_Op_Param_CMS'!$K$500,Deviations_Op_Param_CMS!$B$24:'Deviations_Op_Param_CMS'!$B$500,$B54,Deviations_Op_Param_CMS!$C$24:'Deviations_Op_Param_CMS'!$C$500,$C54,Deviations_Op_Param_CMS!$F$24:'Deviations_Op_Param_CMS'!$F$500,$D54,Deviations_Op_Param_CMS!$M$24:'Deviations_Op_Param_CMS'!$M$500,\"Other Known Causes\"))","v":""},{"$f":"IF($C54=\"\",\"\",SUMIFS(Deviations_Op_Param_CMS!$K$24:'Deviations_Op_Param_CMS'!$K$500,Deviations_Op_Param_CMS!$B$24:'Deviations_Op_Param_CMS'!$B$500,$B54,Deviations_Op_Param_CMS!$C$24:'Deviations_Op_Param_CMS'!$C$500,$C54,Deviations_Op_Param_CMS!$F$24:'Deviations_Op_Param_CMS'!$F$500,$D54,Deviations_Op_Param_CMS!$M$24:'Deviations_Op_Param_CMS'!$M$500,\"Other Unknown Causes\"))","v":""},{"$f":"IF($C54=\"\",\"\",SUMIFS(Deviations_Op_Param_CMS!$K$24:'Deviations_Op_Param_CMS'!$K$500,Deviations_Op_Param_CMS!$B$24:'Deviations_Op_Param_CMS'!$B$500,$B54,Deviations_Op_Param_CMS!$C$24:'Deviations_Op_Param_CMS'!$C$500,$C54,Deviations_Op_Param_CMS!$F$24:'Deviations_Op_Param_CMS'!$F$500,$D54))","v":""},"",{"$f":"IF($C54=\"\",\"\",COUNTIFS(Deviations_Op_Param_CMS!$B$24:'Deviations_Op_Param_CMS'!$B$500,$B54,Deviations_Op_Param_CMS!$C$24:'Deviations_Op_Param_CMS'!$C$500,$C54,Deviations_Op_Param_CMS!$F$24:'Deviations_Op_Param_CMS'!$F$500,$D54))","v":""}]
[null,{"$f":"IF(OpParam_Deviation_CMS_Data!I34=\"\",\"\",OpParam_Deviation_CMS_Data!I34)","v":""},{"$f":"IF(OpParam_Deviation_CMS_Data!J34=\"\",\"\",OpParam_Deviation_CMS_Data!J34)","v":""},{"$f":"IF(OpParam_Deviation_CMS_Data!K34=\"\",\"\",OpParam_Deviation_CMS_Data!K34)","v":""},{"$f":"IF(OpParam_Deviation_CMS_Data!L34=\"\",\"\",OpParam_Deviation_CMS_Data!L34)","v":""},{"$f":"IF($C55=\"\",\"\",SUMIFS(Deviations_Op_Param_CMS!$K$24:'Deviations_Op_Param_CMS'!$K$500,Deviations_Op_Param_CMS!$B$24:'Deviations_Op_Param_CMS'!$B$500,$B55,Deviations_Op_Param_CMS!$C$24:'Deviations_Op_Param_CMS'!$C$500,$C55,Deviations_Op_Param_CMS!$F$24:'Deviations_Op_Param_CMS'!$F$500,$D55,Deviations_Op_Param_CMS!$M$24:'Deviations_Op_Param_CMS'!$M$500,\"Startup\"))","v":""},{"$f":"IF($C55=\"\",\"\",SUMIFS(Deviations_Op_Param_CMS!$K$24:'Deviations_Op_Param_CMS'!$K$500,Deviations_Op_Param_CMS!$B$24:'Deviations_Op_Param_CMS'!$B$500,$B55,Deviations_Op_Param_CMS!$C$24:'Deviations_Op_Param_CMS'!$C$500,$C55,Deviations_Op_Param_CMS!$F$24:'Deviations_Op_Param_CMS'!$F$500,$D55,Deviations_Op_Param_CMS!$M$24:'Deviations_Op_Param_CMS'!$M$500,\"Shutdown\"))","v":""},{"$f":"IF($C55=\"\",\"\",SUMIFS(Deviations_Op_Param_CMS!$K$24:'Deviations_Op_Param_CMS'!$K$500,Deviations_Op_Param_CMS!$B$24:'Deviations_Op_Param_CMS'!$B$500,$B55,Deviations_Op_Param_CMS!$C$24:'Deviations_Op_Param_CMS'!$C$500,$C55,Deviations_Op_Param_CMS!$F$24:'Deviations_Op_Param_CMS'!$F$500,$D55,Deviations_Op_Param_CMS!$M$24:'Deviations_Op_Param_CMS'!$M$500,\"Control Equipment Problems\"))","v":""},{"$f":"IF($C55=\"\",\"\",SUMIFS(Deviations_Op_Param_CMS!$K$24:'Deviations_Op_Param_CMS'!$K$500,Deviations_Op_Param_CMS!$B$24:'Deviations_Op_Param_CMS'!$B$500,$B55,Deviations_Op_Param_CMS!$C$24:'Deviations_Op_Param_CMS'!$C$500,$C55,Deviations_Op_Param_CMS!$F$24:'Deviations_Op_Param_CMS'!$F$500,$D55,Deviations_Op_Param_CMS!$M$24:'Deviations_Op_Param_CMS'!$M$500,\"Process Problems\"))","v":""},{"$f":"IF($C55=\"\",\"\",SUMIFS(Deviations_Op_Param_CMS!$K$24:'Deviations_Op_Param_CMS'!$K$500,Deviations_Op_Param_CMS!$B$24:'Deviations_Op_Param_CMS'!$B$500,$B55,Deviations_Op_Param_CMS!$C$24:'Deviations_Op_Param_CMS'!$C$500,$C55,Deviations_Op_Param_CMS!$F$24:'Deviations_Op_Param_CMS'!$F$500,$D55,Deviations_Op_Param_CMS!$M$24:'Deviations_Op_Param_CMS'!$M$500,\"Other Known Causes\"))","v":""},{"$f":"IF($C55=\"\",\"\",SUMIFS(Deviations_Op_Param_CMS!$K$24:'Deviations_Op_Param_CMS'!$K$500,Deviations_Op_Param_CMS!$B$24:'Deviations_Op_Param_CMS'!$B$500,$B55,Deviations_Op_Param_CMS!$C$24:'Deviations_Op_Param_CMS'!$C$500,$C55,Deviations_Op_Param_CMS!$F$24:'Deviations_Op_Param_CMS'!$F$500,$D55,Deviations_Op_Param_CMS!$M$24:'Deviations_Op_Param_CMS'!$M$500,\"Other Unknown Causes\"))","v":""},{"$f":"IF($C55=\"\",\"\",SUMIFS(Deviations_Op_Param_CMS!$K$24:'Deviations_Op_Param_CMS'!$K$500,Deviations_Op_Param_CMS!$B$24:'Deviations_Op_Param_CMS'!$B$500,$B55,Deviations_Op_Param_CMS!$C$24:'Deviations_Op_Param_CMS'!$C$500,$C55,Deviations_Op_Param_CMS!$F$24:'Deviations_Op_Param_CMS'!$F$500,$D55))","v":""},"",{"$f":"IF($C55=\"\",\"\",COUNTIFS(Deviations_Op_Param_CMS!$B$24:'Deviations_Op_Param_CMS'!$B$500,$B55,Deviations_Op_Param_CMS!$C$24:'Deviations_Op_Param_CMS'!$C$500,$C55,Deviations_Op_Param_CMS!$F$24:'Deviations_Op_Param_CMS'!$F$500,$D55))","v":""}]
[null,{"$f":"IF(OpParam_Deviation_CMS_Data!I35=\"\",\"\",OpParam_Deviation_CMS_Data!I35)","v":""},{"$f":"IF(OpParam_Deviation_CMS_Data!J35=\"\",\"\",OpParam_Deviation_CMS_Data!J35)","v":""},{"$f":"IF(OpParam_Deviation_CMS_Data!K35=\"\",\"\",OpParam_Deviation_CMS_Data!K35)","v":""},{"$f":"IF(OpParam_Deviation_CMS_Data!L35=\"\",\"\",OpParam_Deviation_CMS_Data!L35)","v":""},{"$f":"IF($C56=\"\",\"\",SUMIFS(Deviations_Op_Param_CMS!$K$24:'Deviations_Op_Param_CMS'!$K$500,Deviations_Op_Param_CMS!$B$24:'Deviations_Op_Param_CMS'!$B$500,$B56,Deviations_Op_Param_CMS!$C$24:'Deviations_Op_Param_CMS'!$C$500,$C56,Deviations_Op_Param_CMS!$F$24:'Deviations_Op_Param_CMS'!$F$500,$D56,Deviations_Op_Param_CMS!$M$24:'Deviations_Op_Param_CMS'!$M$500,\"Startup\"))","v":""},{"$f":"IF($C56=\"\",\"\",SUMIFS(Deviations_Op_Param_CMS!$K$24:'Deviations_Op_Param_CMS'!$K$500,Deviations_Op_Param_CMS!$B$24:'Deviations_Op_Param_CMS'!$B$500,$B56,Deviations_Op_Param_CMS!$C$24:'Deviations_Op_Param_CMS'!$C$500,$C56,Deviations_Op_Param_CMS!$F$24:'Deviations_Op_Param_CMS'!$F$500,$D56,Deviations_Op_Param_CMS!$M$24:'Deviations_Op_Param_CMS'!$M$500,\"Shutdown\"))","v":""},{"$f":"IF($C56=\"\",\"\",SUMIFS(Deviations_Op_Param_CMS!$K$24:'Deviations_Op_Param_CMS'!$K$500,Deviations_Op_Param_CMS!$B$24:'Deviations_Op_Param_CMS'!$B$500,$B56,Deviations_Op_Param_CMS!$C$24:'Deviations_Op_Param_CMS'!$C$500,$C56,Deviations_Op_Param_CMS!$F$24:'Deviations_Op_Param_CMS'!$F$500,$D56,Deviations_Op_Param_CMS!$M$24:'Deviations_Op_Param_CMS'!$M$500,\"Control Equipment Problems\"))","v":""},{"$f":"IF($C56=\"\",\"\",SUMIFS(Deviations_Op_Param_CMS!$K$24:'Deviations_Op_Param_CMS'!$K$500,Deviations_Op_Param_CMS!$B$24:'Deviations_Op_Param_CMS'!$B$500,$B56,Deviations_Op_Param_CMS!$C$24:'Deviations_Op_Param_CMS'!$C$500,$C56,Deviations_Op_Param_CMS!$F$24:'Deviations_Op_Param_CMS'!$F$500,$D56,Deviations_Op_Param_CMS!$M$24:'Deviations_Op_Param_CMS'!$M$500,\"Process Problems\"))","v":""},{"$f":"IF($C56=\"\",\"\",SUMIFS(Deviations_Op_Param_CMS!$K$24:'Deviations_Op_Param_CMS'!$K$500,Deviations_Op_Param_CMS!$B$24:'Deviations_Op_Param_CMS'!$B$500,$B56,Deviations_Op_Param_CMS!$C$24:'Deviations_Op_Param_CMS'!$C$500,$C56,Deviations_Op_Param_CMS!$F$24:'Deviations_Op_Param_CMS'!$F$500,$D56,Deviations_Op_Param_CMS!$M$24:'Deviations_Op_Param_CMS'!$M$500,\"Other Known Causes\"))","v":""},{"$f":"IF($C56=\"\",\"\",SUMIFS(Deviations_Op_Param_CMS!$K$24:'Deviations_Op_Param_CMS'!$K$500,Deviations_Op_Param_CMS!$B$24:'Deviations_Op_Param_CMS'!$B$500,$B56,Deviations_Op_Param_CMS!$C$24:'Deviations_Op_Param_CMS'!$C$500,$C56,Deviations_Op_Param_CMS!$F$24:'Deviations_Op_Param_CMS'!$F$500,$D56,Deviations_Op_Param_CMS!$M$24:'Deviations_Op_Param_CMS'!$M$500,\"Other Unknown Causes\"))","v":""},{"$f":"IF($C56=\"\",\"\",SUMIFS(Deviations_Op_Param_CMS!$K$24:'Deviations_Op_Param_CMS'!$K$500,Deviations_Op_Param_CMS!$B$24:'Deviations_Op_Param_CMS'!$B$500,$B56,Deviations_Op_Param_CMS!$C$24:'Deviations_Op_Param_CMS'!$C$500,$C56,Deviations_Op_Param_CMS!$F$24:'Deviations_Op_Param_CMS'!$F$500,$D56))","v":""},"",{"$f":"IF($C56=\"\",\"\",COUNTIFS(Deviations_Op_Param_CMS!$B$24:'Deviations_Op_Param_CMS'!$B$500,$B56,Deviations_Op_Param_CMS!$C$24:'Deviations_Op_Param_CMS'!$C$500,$C56,Deviations_Op_Param_CMS!$F$24:'Deviations_Op_Param_CMS'!$F$500,$D56))","v":""}]
[null,{"$f":"IF(OpParam_Deviation_CMS_Data!I36=\"\",\"\",OpParam_Deviation_CMS_Data!I36)","v":""},{"$f":"IF(OpParam_Deviation_CMS_Data!J36=\"\",\"\",OpParam_Deviation_CMS_Data!J36)","v":""},{"$f":"IF(OpParam_Deviation_CMS_Data!K36=\"\",\"\",OpParam_Deviation_CMS_Data!K36)","v":""},{"$f":"IF(OpParam_Deviation_CMS_Data!L36=\"\",\"\",OpParam_Deviation_CMS_Data!L36)","v":""},{"$f":"IF($C57=\"\",\"\",SUMIFS(Deviations_Op_Param_CMS!$K$24:'Deviations_Op_Param_CMS'!$K$500,Deviations_Op_Param_CMS!$B$24:'Deviations_Op_Param_CMS'!$B$500,$B57,Deviations_Op_Param_CMS!$C$24:'Deviations_Op_Param_CMS'!$C$500,$C57,Deviations_Op_Param_CMS!$F$24:'Deviations_Op_Param_CMS'!$F$500,$D57,Deviations_Op_Param_CMS!$M$24:'Deviations_Op_Param_CMS'!$M$500,\"Startup\"))","v":""},{"$f":"IF($C57=\"\",\"\",SUMIFS(Deviations_Op_Param_CMS!$K$24:'Deviations_Op_Param_CMS'!$K$500,Deviations_Op_Param_CMS!$B$24:'Deviations_Op_Param_CMS'!$B$500,$B57,Deviations_Op_Param_CMS!$C$24:'Deviations_Op_Param_CMS'!$C$500,$C57,Deviations_Op_Param_CMS!$F$24:'Deviations_Op_Param_CMS'!$F$500,$D57,Deviations_Op_Param_CMS!$M$24:'Deviations_Op_Param_CMS'!$M$500,\"Shutdown\"))","v":""},{"$f":"IF($C57=\"\",\"\",SUMIFS(Deviations_Op_Param_CMS!$K$24:'Deviations_Op_Param_CMS'!$K$500,Deviations_Op_Param_CMS!$B$24:'Deviations_Op_Param_CMS'!$B$500,$B57,Deviations_Op_Param_CMS!$C$24:'Deviations_Op_Param_CMS'!$C$500,$C57,Deviations_Op_Param_CMS!$F$24:'Deviations_Op_Param_CMS'!$F$500,$D57,Deviations_Op_Param_CMS!$M$24:'Deviations_Op_Param_CMS'!$M$500,\"Control Equipment Problems\"))","v":""},{"$f":"IF($C57=\"\",\"\",SUMIFS(Deviations_Op_Param_CMS!$K$24:'Deviations_Op_Param_CMS'!$K$500,Deviations_Op_Param_CMS!$B$24:'Deviations_Op_Param_CMS'!$B$500,$B57,Deviations_Op_Param_CMS!$C$24:'Deviations_Op_Param_CMS'!$C$500,$C57,Deviations_Op_Param_CMS!$F$24:'Deviations_Op_Param_CMS'!$F$500,$D57,Deviations_Op_Param_CMS!$M$24:'Deviations_Op_Param_CMS'!$M$500,\"Process Problems\"))","v":""},{"$f":"IF($C57=\"\",\"\",SUMIFS(Deviations_Op_Param_CMS!$K$24:'Deviations_Op_Param_CMS'!$K$500,Deviations_Op_Param_CMS!$B$24:'Deviations_Op_Param_CMS'!$B$500,$B57,Deviations_Op_Param_CMS!$C$24:'Deviations_Op_Param_CMS'!$C$500,$C57,Deviations_Op_Param_CMS!$F$24:'Deviations_Op_Param_CMS'!$F$500,$D57,Deviations_Op_Param_CMS!$M$24:'Deviations_Op_Param_CMS'!$M$500,\"Other Known Causes\"))","v":""},{"$f":"IF($C57=\"\",\"\",SUMIFS(Deviations_Op_Param_CMS!$K$24:'Deviations_Op_Param_CMS'!$K$500,Deviations_Op_Param_CMS!$B$24:'Deviations_Op_Param_CMS'!$B$500,$B57,Deviations_Op_Param_CMS!$C$24:'Deviations_Op_Param_CMS'!$C$500,$C57,Deviations_Op_Param_CMS!$F$24:'Deviations_Op_Param_CMS'!$F$500,$D57,Deviations_Op_Param_CMS!$M$24:'Deviations_Op_Param_CMS'!$M$500,\"Other Unknown Causes\"))","v":""},{"$f":"IF($C57=\"\",\"\",SUMIFS(Deviations_Op_Param_CMS!$K$24:'Deviations_Op_Param_CMS'!$K$500,Deviations_Op_Param_CMS!$B$24:'Deviations_Op_Param_CMS'!$B$500,$B57,Deviations_Op_Param_CMS!$C$24:'Deviations_Op_Param_CMS'!$C$500,$C57,Deviations_Op_Param_CMS!$F$24:'Deviations_Op_Param_CMS'!$F$500,$D57))","v":""},"",{"$f":"IF($C57=\"\",\"\",COUNTIFS(Deviations_Op_Param_CMS!$B$24:'Deviations_Op_Param_CMS'!$B$500,$B57,Deviations_Op_Param_CMS!$C$24:'Deviations_Op_Param_CMS'!$C$500,$C57,Deviations_Op_Param_CMS!$F$24:'Deviations_Op_Param_CMS'!$F$500,$D57))","v":""}]
[null,{"$f":"IF(OpParam_Deviation_CMS_Data!I37=\"\",\"\",OpParam_Deviation_CMS_Data!I37)","v":""},{"$f":"IF(OpParam_Deviation_CMS_Data!J37=\"\",\"\",OpParam_Deviation_CMS_Data!J37)","v":""},{"$f":"IF(OpParam_Deviation_CMS_Data!K37=\"\",\"\",OpParam_Deviation_CMS_Data!K37)","v":""},{"$f":"IF(OpParam_Deviation_CMS_Data!L37=\"\",\"\",OpParam_Deviation_CMS_Data!L37)","v":""},{"$f":"IF($C58=\"\",\"\",SUMIFS(Deviations_Op_Param_CMS!$K$24:'Deviations_Op_Param_CMS'!$K$500,Deviations_Op_Param_CMS!$B$24:'Deviations_Op_Param_CMS'!$B$500,$B58,Deviations_Op_Param_CMS!$C$24:'Deviations_Op_Param_CMS'!$C$500,$C58,Deviations_Op_Param_CMS!$F$24:'Deviations_Op_Param_CMS'!$F$500,$D58,Deviations_Op_Param_CMS!$M$24:'Deviations_Op_Param_CMS'!$M$500,\"Startup\"))","v":""},{"$f":"IF($C58=\"\",\"\",SUMIFS(Deviations_Op_Param_CMS!$K$24:'Deviations_Op_Param_CMS'!$K$500,Deviations_Op_Param_CMS!$B$24:'Deviations_Op_Param_CMS'!$B$500,$B58,Deviations_Op_Param_CMS!$C$24:'Deviations_Op_Param_CMS'!$C$500,$C58,Deviations_Op_Param_CMS!$F$24:'Deviations_Op_Param_CMS'!$F$500,$D58,Deviations_Op_Param_CMS!$M$24:'Deviations_Op_Param_CMS'!$M$500,\"Shutdown\"))","v":""},{"$f":"IF($C58=\"\",\"\",SUMIFS(Deviations_Op_Param_CMS!$K$24:'Deviations_Op_Param_CMS'!$K$500,Deviations_Op_Param_CMS!$B$24:'Deviations_Op_Param_CMS'!$B$500,$B58,Deviations_Op_Param_CMS!$C$24:'Deviations_Op_Param_CMS'!$C$500,$C58,Deviations_Op_Param_CMS!$F$24:'Deviations_Op_Param_CMS'!$F$500,$D58,Deviations_Op_Param_CMS!$M$24:'Deviations_Op_Param_CMS'!$M$500,\"Control Equipment Problems\"))","v":""},{"$f":"IF($C58=\"\",\"\",SUMIFS(Deviations_Op_Param_CMS!$K$24:'Deviations_Op_Param_CMS'!$K$500,Deviations_Op_Param_CMS!$B$24:'Deviations_Op_Param_CMS'!$B$500,$B58,Deviations_Op_Param_CMS!$C$24:'Deviations_Op_Param_CMS'!$C$500,$C58,Deviations_Op_Param_CMS!$F$24:'Deviations_Op_Param_CMS'!$F$500,$D58,Deviations_Op_Param_CMS!$M$24:'Deviations_Op_Param_CMS'!$M$500,\"Process Problems\"))","v":""},{"$f":"IF($C58=\"\",\"\",SUMIFS(Deviations_Op_Param_CMS!$K$24:'Deviations_Op_Param_CMS'!$K$500,Deviations_Op_Param_CMS!$B$24:'Deviations_Op_Param_CMS'!$B$500,$B58,Deviations_Op_Param_CMS!$C$24:'Deviations_Op_Param_CMS'!$C$500,$C58,Deviations_Op_Param_CMS!$F$24:'Deviations_Op_Param_CMS'!$F$500,$D58,Deviations_Op_Param_CMS!$M$24:'Deviations_Op_Param_CMS'!$M$500,\"Other Known Causes\"))","v":""},{"$f":"IF($C58=\"\",\"\",SUMIFS(Deviations_Op_Param_CMS!$K$24:'Deviations_Op_Param_CMS'!$K$500,Deviations_Op_Param_CMS!$B$24:'Deviations_Op_Param_CMS'!$B$500,$B58,Deviations_Op_Param_CMS!$C$24:'Deviations_Op_Param_CMS'!$C$500,$C58,Deviations_Op_Param_CMS!$F$24:'Deviations_Op_Param_CMS'!$F$500,$D58,Deviations_Op_Param_CMS!$M$24:'Deviations_Op_Param_CMS'!$M$500,\"Other Unknown Causes\"))","v":""},{"$f":"IF($C58=\"\",\"\",SUMIFS(Deviations_Op_Param_CMS!$K$24:'Deviations_Op_Param_CMS'!$K$500,Deviations_Op_Param_CMS!$B$24:'Deviations_Op_Param_CMS'!$B$500,$B58,Deviations_Op_Param_CMS!$C$24:'Deviations_Op_Param_CMS'!$C$500,$C58,Deviations_Op_Param_CMS!$F$24:'Deviations_Op_Param_CMS'!$F$500,$D58))","v":""},"",{"$f":"IF($C58=\"\",\"\",COUNTIFS(Deviations_Op_Param_CMS!$B$24:'Deviations_Op_Param_CMS'!$B$500,$B58,Deviations_Op_Param_CMS!$C$24:'Deviations_Op_Param_CMS'!$C$500,$C58,Deviations_Op_Param_CMS!$F$24:'Deviations_Op_Param_CMS'!$F$500,$D58))","v":""}]
[null,{"$f":"IF(OpParam_Deviation_CMS_Data!I38=\"\",\"\",OpParam_Deviation_CMS_Data!I38)","v":""},{"$f":"IF(OpParam_Deviation_CMS_Data!J38=\"\",\"\",OpParam_Deviation_CMS_Data!J38)","v":""},{"$f":"IF(OpParam_Deviation_CMS_Data!K38=\"\",\"\",OpParam_Deviation_CMS_Data!K38)","v":""},{"$f":"IF(OpParam_Deviation_CMS_Data!L38=\"\",\"\",OpParam_Deviation_CMS_Data!L38)","v":""},{"$f":"IF($C59=\"\",\"\",SUMIFS(Deviations_Op_Param_CMS!$K$24:'Deviations_Op_Param_CMS'!$K$500,Deviations_Op_Param_CMS!$B$24:'Deviations_Op_Param_CMS'!$B$500,$B59,Deviations_Op_Param_CMS!$C$24:'Deviations_Op_Param_CMS'!$C$500,$C59,Deviations_Op_Param_CMS!$F$24:'Deviations_Op_Param_CMS'!$F$500,$D59,Deviations_Op_Param_CMS!$M$24:'Deviations_Op_Param_CMS'!$M$500,\"Startup\"))","v":""},{"$f":"IF($C59=\"\",\"\",SUMIFS(Deviations_Op_Param_CMS!$K$24:'Deviations_Op_Param_CMS'!$K$500,Deviations_Op_Param_CMS!$B$24:'Deviations_Op_Param_CMS'!$B$500,$B59,Deviations_Op_Param_CMS!$C$24:'Deviations_Op_Param_CMS'!$C$500,$C59,Deviations_Op_Param_CMS!$F$24:'Deviations_Op_Param_CMS'!$F$500,$D59,Deviations_Op_Param_CMS!$M$24:'Deviations_Op_Param_CMS'!$M$500,\"Shutdown\"))","v":""},{"$f":"IF($C59=\"\",\"\",SUMIFS(Deviations_Op_Param_CMS!$K$24:'Deviations_Op_Param_CMS'!$K$500,Deviations_Op_Param_CMS!$B$24:'Deviations_Op_Param_CMS'!$B$500,$B59,Deviations_Op_Param_CMS!$C$24:'Deviations_Op_Param_CMS'!$C$500,$C59,Deviations_Op_Param_CMS!$F$24:'Deviations_Op_Param_CMS'!$F$500,$D59,Deviations_Op_Param_CMS!$M$24:'Deviations_Op_Param_CMS'!$M$500,\"Control Equipment Problems\"))","v":""},{"$f":"IF($C59=\"\",\"\",SUMIFS(Deviations_Op_Param_CMS!$K$24:'Deviations_Op_Param_CMS'!$K$500,Deviations_Op_Param_CMS!$B$24:'Deviations_Op_Param_CMS'!$B$500,$B59,Deviations_Op_Param_CMS!$C$24:'Deviations_Op_Param_CMS'!$C$500,$C59,Deviations_Op_Param_CMS!$F$24:'Deviations_Op_Param_CMS'!$F$500,$D59,Deviations_Op_Param_CMS!$M$24:'Deviations_Op_Param_CMS'!$M$500,\"Process Problems\"))","v":""},{"$f":"IF($C59=\"\",\"\",SUMIFS(Deviations_Op_Param_CMS!$K$24:'Deviations_Op_Param_CMS'!$K$500,Deviations_Op_Param_CMS!$B$24:'Deviations_Op_Param_CMS'!$B$500,$B59,Deviations_Op_Param_CMS!$C$24:'Deviations_Op_Param_CMS'!$C$500,$C59,Deviations_Op_Param_CMS!$F$24:'Deviations_Op_Param_CMS'!$F$500,$D59,Deviations_Op_Param_CMS!$M$24:'Deviations_Op_Param_CMS'!$M$500,\"Other Known Causes\"))","v":""},{"$f":"IF($C59=\"\",\"\",SUMIFS(Deviations_Op_Param_CMS!$K$24:'Deviations_Op_Param_CMS'!$K$500,Deviations_Op_Param_CMS!$B$24:'Deviations_Op_Param_CMS'!$B$500,$B59,Deviations_Op_Param_CMS!$C$24:'Deviations_Op_Param_CMS'!$C$500,$C59,Deviations_Op_Param_CMS!$F$24:'Deviations_Op_Param_CMS'!$F$500,$D59,Deviations_Op_Param_CMS!$M$24:'Deviations_Op_Param_CMS'!$M$500,\"Other Unknown Causes\"))","v":""},{"$f":"IF($C59=\"\",\"\",SUMIFS(Deviations_Op_Param_CMS!$K$24:'Deviations_Op_Param_CMS'!$K$500,Deviations_Op_Param_CMS!$B$24:'Deviations_Op_Param_CMS'!$B$500,$B59,Deviations_Op_Param_CMS!$C$24:'Deviations_Op_Param_CMS'!$C$500,$C59,Deviations_Op_Param_CMS!$F$24:'Deviations_Op_Param_CMS'!$F$500,$D59))","v":""},"",{"$f":"IF($C59=\"\",\"\",COUNTIFS(Deviations_Op_Param_CMS!$B$24:'Deviations_Op_Param_CMS'!$B$500,$B59,Deviations_Op_Param_CMS!$C$24:'Deviations_Op_Param_CMS'!$C$500,$C59,Deviations_Op_Param_CMS!$F$24:'Deviations_Op_Param_CMS'!$F$500,$D59))","v":""}]
[null,{"$f":"IF(OpParam_Deviation_CMS_Data!I39=\"\",\"\",OpParam_Deviation_CMS_Data!I39)","v":""},{"$f":"IF(OpParam_Deviation_CMS_Data!J39=\"\",\"\",OpParam_Deviation_CMS_Data!J39)","v":""},{"$f":"IF(OpParam_Deviation_CMS_Data!K39=\"\",\"\",OpParam_Deviation_CMS_Data!K39)","v":""},{"$f":"IF(OpParam_Deviation_CMS_Data!L39=\"\",\"\",OpParam_Deviation_CMS_Data!L39)","v":""},{"$f":"IF($C60=\"\",\"\",SUMIFS(Deviations_Op_Param_CMS!$K$24:'Deviations_Op_Param_CMS'!$K$500,Deviations_Op_Param_CMS!$B$24:'Deviations_Op_Param_CMS'!$B$500,$B60,Deviations_Op_Param_CMS!$C$24:'Deviations_Op_Param_CMS'!$C$500,$C60,Deviations_Op_Param_CMS!$F$24:'Deviations_Op_Param_CMS'!$F$500,$D60,Deviations_Op_Param_CMS!$M$24:'Deviations_Op_Param_CMS'!$M$500,\"Startup\"))","v":""},{"$f":"IF($C60=\"\",\"\",SUMIFS(Deviations_Op_Param_CMS!$K$24:'Deviations_Op_Param_CMS'!$K$500,Deviations_Op_Param_CMS!$B$24:'Deviations_Op_Param_CMS'!$B$500,$B60,Deviations_Op_Param_CMS!$C$24:'Deviations_Op_Param_CMS'!$C$500,$C60,Deviations_Op_Param_CMS!$F$24:'Deviations_Op_Param_CMS'!$F$500,$D60,Deviations_Op_Param_CMS!$M$24:'Deviations_Op_Param_CMS'!$M$500,\"Shutdown\"))","v":""},{"$f":"IF($C60=\"\",\"\",SUMIFS(Deviations_Op_Param_CMS!$K$24:'Deviations_Op_Param_CMS'!$K$500,Deviations_Op_Param_CMS!$B$24:'Deviations_Op_Param_CMS'!$B$500,$B60,Deviations_Op_Param_CMS!$C$24:'Deviations_Op_Param_CMS'!$C$500,$C60,Deviations_Op_Param_CMS!$F$24:'Deviations_Op_Param_CMS'!$F$500,$D60,Deviations_Op_Param_CMS!$M$24:'Deviations_Op_Param_CMS'!$M$500,\"Control Equipment Problems\"))","v":""},{"$f":"IF($C60=\"\",\"\",SUMIFS(Deviations_Op_Param_CMS!$K$24:'Deviations_Op_Param_CMS'!$K$500,Deviations_Op_Param_CMS!$B$24:'Deviations_Op_Param_CMS'!$B$500,$B60,Deviations_Op_Param_CMS!$C$24:'Deviations_Op_Param_CMS'!$C$500,$C60,Deviations_Op_Param_CMS!$F$24:'Deviations_Op_Param_CMS'!$F$500,$D60,Deviations_Op_Param_CMS!$M$24:'Deviations_Op_Param_CMS'!$M$500,\"Process Problems\"))","v":""},{"$f":"IF($C60=\"\",\"\",SUMIFS(Deviations_Op_Param_CMS!$K$24:'Deviations_Op_Param_CMS'!$K$500,Deviations_Op_Param_CMS!$B$24:'Deviations_Op_Param_CMS'!$B$500,$B60,Deviations_Op_Param_CMS!$C$24:'Deviations_Op_Param_CMS'!$C$500,$C60,Deviations_Op_Param_CMS!$F$24:'Deviations_Op_Param_CMS'!$F$500,$D60,Deviations_Op_Param_CMS!$M$24:'Deviations_Op_Param_CMS'!$M$500,\"Other Known Causes\"))","v":""},{"$f":"IF($C60=\"\",\"\",SUMIFS(Deviations_Op_Param_CMS!$K$24:'Deviations_Op_Param_CMS'!$K$500,Deviations_Op_Param_CMS!$B$24:'Deviations_Op_Param_CMS'!$B$500,$B60,Deviations_Op_Param_CMS!$C$24:'Deviations_Op_Param_CMS'!$C$500,$C60,Deviations_Op_Param_CMS!$F$24:'Deviations_Op_Param_CMS'!$F$500,$D60,Deviations_Op_Param_CMS!$M$24:'Deviations_Op_Param_CMS'!$M$500,\"Other Unknown Causes\"))","v":""},{"$f":"IF($C60=\"\",\"\",SUMIFS(Deviations_Op_Param_CMS!$K$24:'Deviations_Op_Param_CMS'!$K$500,Deviations_Op_Param_CMS!$B$24:'Deviations_Op_Param_CMS'!$B$500,$B60,Deviations_Op_Param_CMS!$C$24:'Deviations_Op_Param_CMS'!$C$500,$C60,Deviations_Op_Param_CMS!$F$24:'Deviations_Op_Param_CMS'!$F$500,$D60))","v":""},"",{"$f":"IF($C60=\"\",\"\",COUNTIFS(Deviations_Op_Param_CMS!$B$24:'Deviations_Op_Param_CMS'!$B$500,$B60,Deviations_Op_Param_CMS!$C$24:'Deviations_Op_Param_CMS'!$C$500,$C60,Deviations_Op_Param_CMS!$F$24:'Deviations_Op_Param_CMS'!$F$500,$D60))","v":""}]
[null,{"$f":"IF(OpParam_Deviation_CMS_Data!I40=\"\",\"\",OpParam_Deviation_CMS_Data!I40)","v":""},{"$f":"IF(OpParam_Deviation_CMS_Data!J40=\"\",\"\",OpParam_Deviation_CMS_Data!J40)","v":""},{"$f":"IF(OpParam_Deviation_CMS_Data!K40=\"\",\"\",OpParam_Deviation_CMS_Data!K40)","v":""},{"$f":"IF(OpParam_Deviation_CMS_Data!L40=\"\",\"\",OpParam_Deviation_CMS_Data!L40)","v":""},{"$f":"IF($C61=\"\",\"\",SUMIFS(Deviations_Op_Param_CMS!$K$24:'Deviations_Op_Param_CMS'!$K$500,Deviations_Op_Param_CMS!$B$24:'Deviations_Op_Param_CMS'!$B$500,$B61,Deviations_Op_Param_CMS!$C$24:'Deviations_Op_Param_CMS'!$C$500,$C61,Deviations_Op_Param_CMS!$F$24:'Deviations_Op_Param_CMS'!$F$500,$D61,Deviations_Op_Param_CMS!$M$24:'Deviations_Op_Param_CMS'!$M$500,\"Startup\"))","v":""},{"$f":"IF($C61=\"\",\"\",SUMIFS(Deviations_Op_Param_CMS!$K$24:'Deviations_Op_Param_CMS'!$K$500,Deviations_Op_Param_CMS!$B$24:'Deviations_Op_Param_CMS'!$B$500,$B61,Deviations_Op_Param_CMS!$C$24:'Deviations_Op_Param_CMS'!$C$500,$C61,Deviations_Op_Param_CMS!$F$24:'Deviations_Op_Param_CMS'!$F$500,$D61,Deviations_Op_Param_CMS!$M$24:'Deviations_Op_Param_CMS'!$M$500,\"Shutdown\"))","v":""},{"$f":"IF($C61=\"\",\"\",SUMIFS(Deviations_Op_Param_CMS!$K$24:'Deviations_Op_Param_CMS'!$K$500,Deviations_Op_Param_CMS!$B$24:'Deviations_Op_Param_CMS'!$B$500,$B61,Deviations_Op_Param_CMS!$C$24:'Deviations_Op_Param_CMS'!$C$500,$C61,Deviations_Op_Param_CMS!$F$24:'Deviations_Op_Param_CMS'!$F$500,$D61,Deviations_Op_Param_CMS!$M$24:'Deviations_Op_Param_CMS'!$M$500,\"Control Equipment Problems\"))","v":""},{"$f":"IF($C61=\"\",\"\",SUMIFS(Deviations_Op_Param_CMS!$K$24:'Deviations_Op_Param_CMS'!$K$500,Deviations_Op_Param_CMS!$B$24:'Deviations_Op_Param_CMS'!$B$500,$B61,Deviations_Op_Param_CMS!$C$24:'Deviations_Op_Param_CMS'!$C$500,$C61,Deviations_Op_Param_CMS!$F$24:'Deviations_Op_Param_CMS'!$F$500,$D61,Deviations_Op_Param_CMS!$M$24:'Deviations_Op_Param_CMS'!$M$500,\"Process Problems\"))","v":""},{"$f":"IF($C61=\"\",\"\",SUMIFS(Deviations_Op_Param_CMS!$K$24:'Deviations_Op_Param_CMS'!$K$500,Deviations_Op_Param_CMS!$B$24:'Deviations_Op_Param_CMS'!$B$500,$B61,Deviations_Op_Param_CMS!$C$24:'Deviations_Op_Param_CMS'!$C$500,$C61,Deviations_Op_Param_CMS!$F$24:'Deviations_Op_Param_CMS'!$F$500,$D61,Deviations_Op_Param_CMS!$M$24:'Deviations_Op_Param_CMS'!$M$500,\"Other Known Causes\"))","v":""},{"$f":"IF($C61=\"\",\"\",SUMIFS(Deviations_Op_Param_CMS!$K$24:'Deviations_Op_Param_CMS'!$K$500,Deviations_Op_Param_CMS!$B$24:'Deviations_Op_Param_CMS'!$B$500,$B61,Deviations_Op_Param_CMS!$C$24:'Deviations_Op_Param_CMS'!$C$500,$C61,Deviations_Op_Param_CMS!$F$24:'Deviations_Op_Param_CMS'!$F$500,$D61,Deviations_Op_Param_CMS!$M$24:'Deviations_Op_Param_CMS'!$M$500,\"Other Unknown Causes\"))","v":""},{"$f":"IF($C61=\"\",\"\",SUMIFS(Deviations_Op_Param_CMS!$K$24:'Deviations_Op_Param_CMS'!$K$500,Deviations_Op_Param_CMS!$B$24:'Deviations_Op_Param_CMS'!$B$500,$B61,Deviations_Op_Param_CMS!$C$24:'Deviations_Op_Param_CMS'!$C$500,$C61,Deviations_Op_Param_CMS!$F$24:'Deviations_Op_Param_CMS'!$F$500,$D61))","v":""},"",{"$f":"IF($C61=\"\",\"\",COUNTIFS(Deviations_Op_Param_CMS!$B$24:'Deviations_Op_Param_CMS'!$B$500,$B61,Deviations_Op_Param_CMS!$C$24:'Deviations_Op_Param_CMS'!$C$500,$C61,Deviations_Op_Param_CMS!$F$24:'Deviations_Op_Param_CMS'!$F$500,$D61))","v":""}]
[null,{"$f":"IF(OpParam_Deviation_CMS_Data!I41=\"\",\"\",OpParam_Deviation_CMS_Data!I41)","v":""},{"$f":"IF(OpParam_Deviation_CMS_Data!J41=\"\",\"\",OpParam_Deviation_CMS_Data!J41)","v":""},{"$f":"IF(OpParam_Deviation_CMS_Data!K41=\"\",\"\",OpParam_Deviation_CMS_Data!K41)","v":""},{"$f":"IF(OpParam_Deviation_CMS_Data!L41=\"\",\"\",OpParam_Deviation_CMS_Data!L41)","v":""},{"$f":"IF($C62=\"\",\"\",SUMIFS(Deviations_Op_Param_CMS!$K$24:'Deviations_Op_Param_CMS'!$K$500,Deviations_Op_Param_CMS!$B$24:'Deviations_Op_Param_CMS'!$B$500,$B62,Deviations_Op_Param_CMS!$C$24:'Deviations_Op_Param_CMS'!$C$500,$C62,Deviations_Op_Param_CMS!$F$24:'Deviations_Op_Param_CMS'!$F$500,$D62,Deviations_Op_Param_CMS!$M$24:'Deviations_Op_Param_CMS'!$M$500,\"Startup\"))","v":""},{"$f":"IF($C62=\"\",\"\",SUMIFS(Deviations_Op_Param_CMS!$K$24:'Deviations_Op_Param_CMS'!$K$500,Deviations_Op_Param_CMS!$B$24:'Deviations_Op_Param_CMS'!$B$500,$B62,Deviations_Op_Param_CMS!$C$24:'Deviations_Op_Param_CMS'!$C$500,$C62,Deviations_Op_Param_CMS!$F$24:'Deviations_Op_Param_CMS'!$F$500,$D62,Deviations_Op_Param_CMS!$M$24:'Deviations_Op_Param_CMS'!$M$500,\"Shutdown\"))","v":""},{"$f":"IF($C62=\"\",\"\",SUMIFS(Deviations_Op_Param_CMS!$K$24:'Deviations_Op_Param_CMS'!$K$500,Deviations_Op_Param_CMS!$B$24:'Deviations_Op_Param_CMS'!$B$500,$B62,Deviations_Op_Param_CMS!$C$24:'Deviations_Op_Param_CMS'!$C$500,$C62,Deviations_Op_Param_CMS!$F$24:'Deviations_Op_Param_CMS'!$F$500,$D62,Deviations_Op_Param_CMS!$M$24:'Deviations_Op_Param_CMS'!$M$500,\"Control Equipment Problems\"))","v":""},{"$f":"IF($C62=\"\",\"\",SUMIFS(Deviations_Op_Param_CMS!$K$24:'Deviations_Op_Param_CMS'!$K$500,Deviations_Op_Param_CMS!$B$24:'Deviations_Op_Param_CMS'!$B$500,$B62,Deviations_Op_Param_CMS!$C$24:'Deviations_Op_Param_CMS'!$C$500,$C62,Deviations_Op_Param_CMS!$F$24:'Deviations_Op_Param_CMS'!$F$500,$D62,Deviations_Op_Param_CMS!$M$24:'Deviations_Op_Param_CMS'!$M$500,\"Process Problems\"))","v":""},{"$f":"IF($C62=\"\",\"\",SUMIFS(Deviations_Op_Param_CMS!$K$24:'Deviations_Op_Param_CMS'!$K$500,Deviations_Op_Param_CMS!$B$24:'Deviations_Op_Param_CMS'!$B$500,$B62,Deviations_Op_Param_CMS!$C$24:'Deviations_Op_Param_CMS'!$C$500,$C62,Deviations_Op_Param_CMS!$F$24:'Deviations_Op_Param_CMS'!$F$500,$D62,Deviations_Op_Param_CMS!$M$24:'Deviations_Op_Param_CMS'!$M$500,\"Other Known Causes\"))","v":""},{"$f":"IF($C62=\"\",\"\",SUMIFS(Deviations_Op_Param_CMS!$K$24:'Deviations_Op_Param_CMS'!$K$500,Deviations_Op_Param_CMS!$B$24:'Deviations_Op_Param_CMS'!$B$500,$B62,Deviations_Op_Param_CMS!$C$24:'Deviations_Op_Param_CMS'!$C$500,$C62,Deviations_Op_Param_CMS!$F$24:'Deviations_Op_Param_CMS'!$F$500,$D62,Deviations_Op_Param_CMS!$M$24:'Deviations_Op_Param_CMS'!$M$500,\"Other Unknown Causes\"))","v":""},{"$f":"IF($C62=\"\",\"\",SUMIFS(Deviations_Op_Param_CMS!$K$24:'Deviations_Op_Param_CMS'!$K$500,Deviations_Op_Param_CMS!$B$24:'Deviations_Op_Param_CMS'!$B$500,$B62,Deviations_Op_Param_CMS!$C$24:'Deviations_Op_Param_CMS'!$C$500,$C62,Deviations_Op_Param_CMS!$F$24:'Deviations_Op_Param_CMS'!$F$500,$D62))","v":""},"",{"$f":"IF($C62=\"\",\"\",COUNTIFS(Deviations_Op_Param_CMS!$B$24:'Deviations_Op_Param_CMS'!$B$500,$B62,Deviations_Op_Param_CMS!$C$24:'Deviations_Op_Param_CMS'!$C$500,$C62,Deviations_Op_Param_CMS!$F$24:'Deviations_Op_Param_CMS'!$F$500,$D62))","v":""}]
[null,{"$f":"IF(OpParam_Deviation_CMS_Data!I42=\"\",\"\",OpParam_Deviation_CMS_Data!I42)","v":""},{"$f":"IF(OpParam_Deviation_CMS_Data!J42=\"\",\"\",OpParam_Deviation_CMS_Data!J42)","v":""},{"$f":"IF(OpParam_Deviation_CMS_Data!K42=\"\",\"\",OpParam_Deviation_CMS_Data!K42)","v":""},{"$f":"IF(OpParam_Deviation_CMS_Data!L42=\"\",\"\",OpParam_Deviation_CMS_Data!L42)","v":""},{"$f":"IF($C63=\"\",\"\",SUMIFS(Deviations_Op_Param_CMS!$K$24:'Deviations_Op_Param_CMS'!$K$500,Deviations_Op_Param_CMS!$B$24:'Deviations_Op_Param_CMS'!$B$500,$B63,Deviations_Op_Param_CMS!$C$24:'Deviations_Op_Param_CMS'!$C$500,$C63,Deviations_Op_Param_CMS!$F$24:'Deviations_Op_Param_CMS'!$F$500,$D63,Deviations_Op_Param_CMS!$M$24:'Deviations_Op_Param_CMS'!$M$500,\"Startup\"))","v":""},{"$f":"IF($C63=\"\",\"\",SUMIFS(Deviations_Op_Param_CMS!$K$24:'Deviations_Op_Param_CMS'!$K$500,Deviations_Op_Param_CMS!$B$24:'Deviations_Op_Param_CMS'!$B$500,$B63,Deviations_Op_Param_CMS!$C$24:'Deviations_Op_Param_CMS'!$C$500,$C63,Deviations_Op_Param_CMS!$F$24:'Deviations_Op_Param_CMS'!$F$500,$D63,Deviations_Op_Param_CMS!$M$24:'Deviations_Op_Param_CMS'!$M$500,\"Shutdown\"))","v":""},{"$f":"IF($C63=\"\",\"\",SUMIFS(Deviations_Op_Param_CMS!$K$24:'Deviations_Op_Param_CMS'!$K$500,Deviations_Op_Param_CMS!$B$24:'Deviations_Op_Param_CMS'!$B$500,$B63,Deviations_Op_Param_CMS!$C$24:'Deviations_Op_Param_CMS'!$C$500,$C63,Deviations_Op_Param_CMS!$F$24:'Deviations_Op_Param_CMS'!$F$500,$D63,Deviations_Op_Param_CMS!$M$24:'Deviations_Op_Param_CMS'!$M$500,\"Control Equipment Problems\"))","v":""},{"$f":"IF($C63=\"\",\"\",SUMIFS(Deviations_Op_Param_CMS!$K$24:'Deviations_Op_Param_CMS'!$K$500,Deviations_Op_Param_CMS!$B$24:'Deviations_Op_Param_CMS'!$B$500,$B63,Deviations_Op_Param_CMS!$C$24:'Deviations_Op_Param_CMS'!$C$500,$C63,Deviations_Op_Param_CMS!$F$24:'Deviations_Op_Param_CMS'!$F$500,$D63,Deviations_Op_Param_CMS!$M$24:'Deviations_Op_Param_CMS'!$M$500,\"Process Problems\"))","v":""},{"$f":"IF($C63=\"\",\"\",SUMIFS(Deviations_Op_Param_CMS!$K$24:'Deviations_Op_Param_CMS'!$K$500,Deviations_Op_Param_CMS!$B$24:'Deviations_Op_Param_CMS'!$B$500,$B63,Deviations_Op_Param_CMS!$C$24:'Deviations_Op_Param_CMS'!$C$500,$C63,Deviations_Op_Param_CMS!$F$24:'Deviations_Op_Param_CMS'!$F$500,$D63,Deviations_Op_Param_CMS!$M$24:'Deviations_Op_Param_CMS'!$M$500,\"Other Known Causes\"))","v":""},{"$f":"IF($C63=\"\",\"\",SUMIFS(Deviations_Op_Param_CMS!$K$24:'Deviations_Op_Param_CMS'!$K$500,Deviations_Op_Param_CMS!$B$24:'Deviations_Op_Param_CMS'!$B$500,$B63,Deviations_Op_Param_CMS!$C$24:'Deviations_Op_Param_CMS'!$C$500,$C63,Deviations_Op_Param_CMS!$F$24:'Deviations_Op_Param_CMS'!$F$500,$D63,Deviations_Op_Param_CMS!$M$24:'Deviations_Op_Param_CMS'!$M$500,\"Other Unknown Causes\"))","v":""},{"$f":"IF($C63=\"\",\"\",SUMIFS(Deviations_Op_Param_CMS!$K$24:'Deviations_Op_Param_CMS'!$K$500,Deviations_Op_Param_CMS!$B$24:'Deviations_Op_Param_CMS'!$B$500,$B63,Deviations_Op_Param_CMS!$C$24:'Deviations_Op_Param_CMS'!$C$500,$C63,Deviations_Op_Param_CMS!$F$24:'Deviations_Op_Param_CMS'!$F$500,$D63))","v":""},"",{"$f":"IF($C63=\"\",\"\",COUNTIFS(Deviations_Op_Param_CMS!$B$24:'Deviations_Op_Param_CMS'!$B$500,$B63,Deviations_Op_Param_CMS!$C$24:'Deviations_Op_Param_CMS'!$C$500,$C63,Deviations_Op_Param_CMS!$F$24:'Deviations_Op_Param_CMS'!$F$500,$D63))","v":""}]
[null,{"$f":"IF(OpParam_Deviation_CMS_Data!I43=\"\",\"\",OpParam_Deviation_CMS_Data!I43)","v":""},{"$f":"IF(OpParam_Deviation_CMS_Data!J43=\"\",\"\",OpParam_Deviation_CMS_Data!J43)","v":""},{"$f":"IF(OpParam_Deviation_CMS_Data!K43=\"\",\"\",OpParam_Deviation_CMS_Data!K43)","v":""},{"$f":"IF(OpParam_Deviation_CMS_Data!L43=\"\",\"\",OpParam_Deviation_CMS_Data!L43)","v":""},{"$f":"IF($C64=\"\",\"\",SUMIFS(Deviations_Op_Param_CMS!$K$24:'Deviations_Op_Param_CMS'!$K$500,Deviations_Op_Param_CMS!$B$24:'Deviations_Op_Param_CMS'!$B$500,$B64,Deviations_Op_Param_CMS!$C$24:'Deviations_Op_Param_CMS'!$C$500,$C64,Deviations_Op_Param_CMS!$F$24:'Deviations_Op_Param_CMS'!$F$500,$D64,Deviations_Op_Param_CMS!$M$24:'Deviations_Op_Param_CMS'!$M$500,\"Startup\"))","v":""},{"$f":"IF($C64=\"\",\"\",SUMIFS(Deviations_Op_Param_CMS!$K$24:'Deviations_Op_Param_CMS'!$K$500,Deviations_Op_Param_CMS!$B$24:'Deviations_Op_Param_CMS'!$B$500,$B64,Deviations_Op_Param_CMS!$C$24:'Deviations_Op_Param_CMS'!$C$500,$C64,Deviations_Op_Param_CMS!$F$24:'Deviations_Op_Param_CMS'!$F$500,$D64,Deviations_Op_Param_CMS!$M$24:'Deviations_Op_Param_CMS'!$M$500,\"Shutdown\"))","v":""},{"$f":"IF($C64=\"\",\"\",SUMIFS(Deviations_Op_Param_CMS!$K$24:'Deviations_Op_Param_CMS'!$K$500,Deviations_Op_Param_CMS!$B$24:'Deviations_Op_Param_CMS'!$B$500,$B64,Deviations_Op_Param_CMS!$C$24:'Deviations_Op_Param_CMS'!$C$500,$C64,Deviations_Op_Param_CMS!$F$24:'Deviations_Op_Param_CMS'!$F$500,$D64,Deviations_Op_Param_CMS!$M$24:'Deviations_Op_Param_CMS'!$M$500,\"Control Equipment Problems\"))","v":""},{"$f":"IF($C64=\"\",\"\",SUMIFS(Deviations_Op_Param_CMS!$K$24:'Deviations_Op_Param_CMS'!$K$500,Deviations_Op_Param_CMS!$B$24:'Deviations_Op_Param_CMS'!$B$500,$B64,Deviations_Op_Param_CMS!$C$24:'Deviations_Op_Param_CMS'!$C$500,$C64,Deviations_Op_Param_CMS!$F$24:'Deviations_Op_Param_CMS'!$F$500,$D64,Deviations_Op_Param_CMS!$M$24:'Deviations_Op_Param_CMS'!$M$500,\"Process Problems\"))","v":""},{"$f":"IF($C64=\"\",\"\",SUMIFS(Deviations_Op_Param_CMS!$K$24:'Deviations_Op_Param_CMS'!$K$500,Deviations_Op_Param_CMS!$B$24:'Deviations_Op_Param_CMS'!$B$500,$B64,Deviations_Op_Param_CMS!$C$24:'Deviations_Op_Param_CMS'!$C$500,$C64,Deviations_Op_Param_CMS!$F$24:'Deviations_Op_Param_CMS'!$F$500,$D64,Deviations_Op_Param_CMS!$M$24:'Deviations_Op_Param_CMS'!$M$500,\"Other Known Causes\"))","v":""},{"$f":"IF($C64=\"\",\"\",SUMIFS(Deviations_Op_Param_CMS!$K$24:'Deviations_Op_Param_CMS'!$K$500,Deviations_Op_Param_CMS!$B$24:'Deviations_Op_Param_CMS'!$B$500,$B64,Deviations_Op_Param_CMS!$C$24:'Deviations_Op_Param_CMS'!$C$500,$C64,Deviations_Op_Param_CMS!$F$24:'Deviations_Op_Param_CMS'!$F$500,$D64,Deviations_Op_Param_CMS!$M$24:'Deviations_Op_Param_CMS'!$M$500,\"Other Unknown Causes\"))","v":""},{"$f":"IF($C64=\"\",\"\",SUMIFS(Deviations_Op_Param_CMS!$K$24:'Deviations_Op_Param_CMS'!$K$500,Deviations_Op_Param_CMS!$B$24:'Deviations_Op_Param_CMS'!$B$500,$B64,Deviations_Op_Param_CMS!$C$24:'Deviations_Op_Param_CMS'!$C$500,$C64,Deviations_Op_Param_CMS!$F$24:'Deviations_Op_Param_CMS'!$F$500,$D64))","v":""},"",{"$f":"IF($C64=\"\",\"\",COUNTIFS(Deviations_Op_Param_CMS!$B$24:'Deviations_Op_Param_CMS'!$B$500,$B64,Deviations_Op_Param_CMS!$C$24:'Deviations_Op_Param_CMS'!$C$500,$C64,Deviations_Op_Param_CMS!$F$24:'Deviations_Op_Param_CMS'!$F$500,$D64))","v":""}]
[null,{"$f":"IF(OpParam_Deviation_CMS_Data!I44=\"\",\"\",OpParam_Deviation_CMS_Data!I44)","v":""},{"$f":"IF(OpParam_Deviation_CMS_Data!J44=\"\",\"\",OpParam_Deviation_CMS_Data!J44)","v":""},{"$f":"IF(OpParam_Deviation_CMS_Data!K44=\"\",\"\",OpParam_Deviation_CMS_Data!K44)","v":""},{"$f":"IF(OpParam_Deviation_CMS_Data!L44=\"\",\"\",OpParam_Deviation_CMS_Data!L44)","v":""},{"$f":"IF($C65=\"\",\"\",SUMIFS(Deviations_Op_Param_CMS!$K$24:'Deviations_Op_Param_CMS'!$K$500,Deviations_Op_Param_CMS!$B$24:'Deviations_Op_Param_CMS'!$B$500,$B65,Deviations_Op_Param_CMS!$C$24:'Deviations_Op_Param_CMS'!$C$500,$C65,Deviations_Op_Param_CMS!$F$24:'Deviations_Op_Param_CMS'!$F$500,$D65,Deviations_Op_Param_CMS!$M$24:'Deviations_Op_Param_CMS'!$M$500,\"Startup\"))","v":""},{"$f":"IF($C65=\"\",\"\",SUMIFS(Deviations_Op_Param_CMS!$K$24:'Deviations_Op_Param_CMS'!$K$500,Deviations_Op_Param_CMS!$B$24:'Deviations_Op_Param_CMS'!$B$500,$B65,Deviations_Op_Param_CMS!$C$24:'Deviations_Op_Param_CMS'!$C$500,$C65,Deviations_Op_Param_CMS!$F$24:'Deviations_Op_Param_CMS'!$F$500,$D65,Deviations_Op_Param_CMS!$M$24:'Deviations_Op_Param_CMS'!$M$500,\"Shutdown\"))","v":""},{"$f":"IF($C65=\"\",\"\",SUMIFS(Deviations_Op_Param_CMS!$K$24:'Deviations_Op_Param_CMS'!$K$500,Deviations_Op_Param_CMS!$B$24:'Deviations_Op_Param_CMS'!$B$500,$B65,Deviations_Op_Param_CMS!$C$24:'Deviations_Op_Param_CMS'!$C$500,$C65,Deviations_Op_Param_CMS!$F$24:'Deviations_Op_Param_CMS'!$F$500,$D65,Deviations_Op_Param_CMS!$M$24:'Deviations_Op_Param_CMS'!$M$500,\"Control Equipment Problems\"))","v":""},{"$f":"IF($C65=\"\",\"\",SUMIFS(Deviations_Op_Param_CMS!$K$24:'Deviations_Op_Param_CMS'!$K$500,Deviations_Op_Param_CMS!$B$24:'Deviations_Op_Param_CMS'!$B$500,$B65,Deviations_Op_Param_CMS!$C$24:'Deviations_Op_Param_CMS'!$C$500,$C65,Deviations_Op_Param_CMS!$F$24:'Deviations_Op_Param_CMS'!$F$500,$D65,Deviations_Op_Param_CMS!$M$24:'Deviations_Op_Param_CMS'!$M$500,\"Process Problems\"))","v":""},{"$f":"IF($C65=\"\",\"\",SUMIFS(Deviations_Op_Param_CMS!$K$24:'Deviations_Op_Param_CMS'!$K$500,Deviations_Op_Param_CMS!$B$24:'Deviations_Op_Param_CMS'!$B$500,$B65,Deviations_Op_Param_CMS!$C$24:'Deviations_Op_Param_CMS'!$C$500,$C65,Deviations_Op_Param_CMS!$F$24:'Deviations_Op_Param_CMS'!$F$500,$D65,Deviations_Op_Param_CMS!$M$24:'Deviations_Op_Param_CMS'!$M$500,\"Other Known Causes\"))","v":""},{"$f":"IF($C65=\"\",\"\",SUMIFS(Deviations_Op_Param_CMS!$K$24:'Deviations_Op_Param_CMS'!$K$500,Deviations_Op_Param_CMS!$B$24:'Deviations_Op_Param_CMS'!$B$500,$B65,Deviations_Op_Param_CMS!$C$24:'Deviations_Op_Param_CMS'!$C$500,$C65,Deviations_Op_Param_CMS!$F$24:'Deviations_Op_Param_CMS'!$F$500,$D65,Deviations_Op_Param_CMS!$M$24:'Deviations_Op_Param_CMS'!$M$500,\"Other Unknown Causes\"))","v":""},{"$f":"IF($C65=\"\",\"\",SUMIFS(Deviations_Op_Param_CMS!$K$24:'Deviations_Op_Param_CMS'!$K$500,Deviations_Op_Param_CMS!$B$24:'Deviations_Op_Param_CMS'!$B$500,$B65,Deviations_Op_Param_CMS!$C$24:'Deviations_Op_Param_CMS'!$C$500,$C65,Deviations_Op_Param_CMS!$F$24:'Deviations_Op_Param_CMS'!$F$500,$D65))","v":""},"",{"$f":"IF($C65=\"\",\"\",COUNTIFS(Deviations_Op_Param_CMS!$B$24:'Deviations_Op_Param_CMS'!$B$500,$B65,Deviations_Op_Param_CMS!$C$24:'Deviations_Op_Param_CMS'!$C$500,$C65,Deviations_Op_Param_CMS!$F$24:'Deviations_Op_Param_CMS'!$F$500,$D65))","v":""}]
[null,{"$f":"IF(OpParam_Deviation_CMS_Data!I45=\"\",\"\",OpParam_Deviation_CMS_Data!I45)","v":""},{"$f":"IF(OpParam_Deviation_CMS_Data!J45=\"\",\"\",OpParam_Deviation_CMS_Data!J45)","v":""},{"$f":"IF(OpParam_Deviation_CMS_Data!K45=\"\",\"\",OpParam_Deviation_CMS_Data!K45)","v":""},{"$f":"IF(OpParam_Deviation_CMS_Data!L45=\"\",\"\",OpParam_Deviation_CMS_Data!L45)","v":""},{"$f":"IF($C66=\"\",\"\",SUMIFS(Deviations_Op_Param_CMS!$K$24:'Deviations_Op_Param_CMS'!$K$500,Deviations_Op_Param_CMS!$B$24:'Deviations_Op_Param_CMS'!$B$500,$B66,Deviations_Op_Param_CMS!$C$24:'Deviations_Op_Param_CMS'!$C$500,$C66,Deviations_Op_Param_CMS!$F$24:'Deviations_Op_Param_CMS'!$F$500,$D66,Deviations_Op_Param_CMS!$M$24:'Deviations_Op_Param_CMS'!$M$500,\"Startup\"))","v":""},{"$f":"IF($C66=\"\",\"\",SUMIFS(Deviations_Op_Param_CMS!$K$24:'Deviations_Op_Param_CMS'!$K$500,Deviations_Op_Param_CMS!$B$24:'Deviations_Op_Param_CMS'!$B$500,$B66,Deviations_Op_Param_CMS!$C$24:'Deviations_Op_Param_CMS'!$C$500,$C66,Deviations_Op_Param_CMS!$F$24:'Deviations_Op_Param_CMS'!$F$500,$D66,Deviations_Op_Param_CMS!$M$24:'Deviations_Op_Param_CMS'!$M$500,\"Shutdown\"))","v":""},{"$f":"IF($C66=\"\",\"\",SUMIFS(Deviations_Op_Param_CMS!$K$24:'Deviations_Op_Param_CMS'!$K$500,Deviations_Op_Param_CMS!$B$24:'Deviations_Op_Param_CMS'!$B$500,$B66,Deviations_Op_Param_CMS!$C$24:'Deviations_Op_Param_CMS'!$C$500,$C66,Deviations_Op_Param_CMS!$F$24:'Deviations_Op_Param_CMS'!$F$500,$D66,Deviations_Op_Param_CMS!$M$24:'Deviations_Op_Param_CMS'!$M$500,\"Control Equipment Problems\"))","v":""},{"$f":"IF($C66=\"\",\"\",SUMIFS(Deviations_Op_Param_CMS!$K$24:'Deviations_Op_Param_CMS'!$K$500,Deviations_Op_Param_CMS!$B$24:'Deviations_Op_Param_CMS'!$B$500,$B66,Deviations_Op_Param_CMS!$C$24:'Deviations_Op_Param_CMS'!$C$500,$C66,Deviations_Op_Param_CMS!$F$24:'Deviations_Op_Param_CMS'!$F$500,$D66,Deviations_Op_Param_CMS!$M$24:'Deviations_Op_Param_CMS'!$M$500,\"Process Problems\"))","v":""},{"$f":"IF($C66=\"\",\"\",SUMIFS(Deviations_Op_Param_CMS!$K$24:'Deviations_Op_Param_CMS'!$K$500,Deviations_Op_Param_CMS!$B$24:'Deviations_Op_Param_CMS'!$B$500,$B66,Deviations_Op_Param_CMS!$C$24:'Deviations_Op_Param_CMS'!$C$500,$C66,Deviations_Op_Param_CMS!$F$24:'Deviations_Op_Param_CMS'!$F$500,$D66,Deviations_Op_Param_CMS!$M$24:'Deviations_Op_Param_CMS'!$M$500,\"Other Known Causes\"))","v":""},{"$f":"IF($C66=\"\",\"\",SUMIFS(Deviations_Op_Param_CMS!$K$24:'Deviations_Op_Param_CMS'!$K$500,Deviations_Op_Param_CMS!$B$24:'Deviations_Op_Param_CMS'!$B$500,$B66,Deviations_Op_Param_CMS!$C$24:'Deviations_Op_Param_CMS'!$C$500,$C66,Deviations_Op_Param_CMS!$F$24:'Deviations_Op_Param_CMS'!$F$500,$D66,Deviations_Op_Param_CMS!$M$24:'Deviations_Op_Param_CMS'!$M$500,\"Other Unknown Causes\"))","v":""},{"$f":"IF($C66=\"\",\"\",SUMIFS(Deviations_Op_Param_CMS!$K$24:'Deviations_Op_Param_CMS'!$K$500,Deviations_Op_Param_CMS!$B$24:'Deviations_Op_Param_CMS'!$B$500,$B66,Deviations_Op_Param_CMS!$C$24:'Deviations_Op_Param_CMS'!$C$500,$C66,Deviations_Op_Param_CMS!$F$24:'Deviations_Op_Param_CMS'!$F$500,$D66))","v":""},"",{"$f":"IF($C66=\"\",\"\",COUNTIFS(Deviations_Op_Param_CMS!$B$24:'Deviations_Op_Param_CMS'!$B$500,$B66,Deviations_Op_Param_CMS!$C$24:'Deviations_Op_Param_CMS'!$C$500,$C66,Deviations_Op_Param_CMS!$F$24:'Deviations_Op_Param_CMS'!$F$500,$D66))","v":""}]
[null,{"$f":"IF(OpParam_Deviation_CMS_Data!I46=\"\",\"\",OpParam_Deviation_CMS_Data!I46)","v":""},{"$f":"IF(OpParam_Deviation_CMS_Data!J46=\"\",\"\",OpParam_Deviation_CMS_Data!J46)","v":""},{"$f":"IF(OpParam_Deviation_CMS_Data!K46=\"\",\"\",OpParam_Deviation_CMS_Data!K46)","v":""},{"$f":"IF(OpParam_Deviation_CMS_Data!L46=\"\",\"\",OpParam_Deviation_CMS_Data!L46)","v":""},{"$f":"IF($C67=\"\",\"\",SUMIFS(Deviations_Op_Param_CMS!$K$24:'Deviations_Op_Param_CMS'!$K$500,Deviations_Op_Param_CMS!$B$24:'Deviations_Op_Param_CMS'!$B$500,$B67,Deviations_Op_Param_CMS!$C$24:'Deviations_Op_Param_CMS'!$C$500,$C67,Deviations_Op_Param_CMS!$F$24:'Deviations_Op_Param_CMS'!$F$500,$D67,Deviations_Op_Param_CMS!$M$24:'Deviations_Op_Param_CMS'!$M$500,\"Startup\"))","v":""},{"$f":"IF($C67=\"\",\"\",SUMIFS(Deviations_Op_Param_CMS!$K$24:'Deviations_Op_Param_CMS'!$K$500,Deviations_Op_Param_CMS!$B$24:'Deviations_Op_Param_CMS'!$B$500,$B67,Deviations_Op_Param_CMS!$C$24:'Deviations_Op_Param_CMS'!$C$500,$C67,Deviations_Op_Param_CMS!$F$24:'Deviations_Op_Param_CMS'!$F$500,$D67,Deviations_Op_Param_CMS!$M$24:'Deviations_Op_Param_CMS'!$M$500,\"Shutdown\"))","v":""},{"$f":"IF($C67=\"\",\"\",SUMIFS(Deviations_Op_Param_CMS!$K$24:'Deviations_Op_Param_CMS'!$K$500,Deviations_Op_Param_CMS!$B$24:'Deviations_Op_Param_CMS'!$B$500,$B67,Deviations_Op_Param_CMS!$C$24:'Deviations_Op_Param_CMS'!$C$500,$C67,Deviations_Op_Param_CMS!$F$24:'Deviations_Op_Param_CMS'!$F$500,$D67,Deviations_Op_Param_CMS!$M$24:'Deviations_Op_Param_CMS'!$M$500,\"Control Equipment Problems\"))","v":""},{"$f":"IF($C67=\"\",\"\",SUMIFS(Deviations_Op_Param_CMS!$K$24:'Deviations_Op_Param_CMS'!$K$500,Deviations_Op_Param_CMS!$B$24:'Deviations_Op_Param_CMS'!$B$500,$B67,Deviations_Op_Param_CMS!$C$24:'Deviations_Op_Param_CMS'!$C$500,$C67,Deviations_Op_Param_CMS!$F$24:'Deviations_Op_Param_CMS'!$F$500,$D67,Deviations_Op_Param_CMS!$M$24:'Deviations_Op_Param_CMS'!$M$500,\"Process Problems\"))","v":""},{"$f":"IF($C67=\"\",\"\",SUMIFS(Deviations_Op_Param_CMS!$K$24:'Deviations_Op_Param_CMS'!$K$500,Deviations_Op_Param_CMS!$B$24:'Deviations_Op_Param_CMS'!$B$500,$B67,Deviations_Op_Param_CMS!$C$24:'Deviations_Op_Param_CMS'!$C$500,$C67,Deviations_Op_Param_CMS!$F$24:'Deviations_Op_Param_CMS'!$F$500,$D67,Deviations_Op_Param_CMS!$M$24:'Deviations_Op_Param_CMS'!$M$500,\"Other Known Causes\"))","v":""},{"$f":"IF($C67=\"\",\"\",SUMIFS(Deviations_Op_Param_CMS!$K$24:'Deviations_Op_Param_CMS'!$K$500,Deviations_Op_Param_CMS!$B$24:'Deviations_Op_Param_CMS'!$B$500,$B67,Deviations_Op_Param_CMS!$C$24:'Deviations_Op_Param_CMS'!$C$500,$C67,Deviations_Op_Param_CMS!$F$24:'Deviations_Op_Param_CMS'!$F$500,$D67,Deviations_Op_Param_CMS!$M$24:'Deviations_Op_Param_CMS'!$M$500,\"Other Unknown Causes\"))","v":""},{"$f":"IF($C67=\"\",\"\",SUMIFS(Deviations_Op_Param_CMS!$K$24:'Deviations_Op_Param_CMS'!$K$500,Deviations_Op_Param_CMS!$B$24:'Deviations_Op_Param_CMS'!$B$500,$B67,Deviations_Op_Param_CMS!$C$24:'Deviations_Op_Param_CMS'!$C$500,$C67,Deviations_Op_Param_CMS!$F$24:'Deviations_Op_Param_CMS'!$F$500,$D67))","v":""},"",{"$f":"IF($C67=\"\",\"\",COUNTIFS(Deviations_Op_Param_CMS!$B$24:'Deviations_Op_Param_CMS'!$B$500,$B67,Deviations_Op_Param_CMS!$C$24:'Deviations_Op_Param_CMS'!$C$500,$C67,Deviations_Op_Param_CMS!$F$24:'Deviations_Op_Param_CMS'!$F$500,$D67))","v":""}]
[null,{"$f":"IF(OpParam_Deviation_CMS_Data!I47=\"\",\"\",OpParam_Deviation_CMS_Data!I47)","v":""},{"$f":"IF(OpParam_Deviation_CMS_Data!J47=\"\",\"\",OpParam_Deviation_CMS_Data!J47)","v":""},{"$f":"IF(OpParam_Deviation_CMS_Data!K47=\"\",\"\",OpParam_Deviation_CMS_Data!K47)","v":""},{"$f":"IF(OpParam_Deviation_CMS_Data!L47=\"\",\"\",OpParam_Deviation_CMS_Data!L47)","v":""},{"$f":"IF($C68=\"\",\"\",SUMIFS(Deviations_Op_Param_CMS!$K$24:'Deviations_Op_Param_CMS'!$K$500,Deviations_Op_Param_CMS!$B$24:'Deviations_Op_Param_CMS'!$B$500,$B68,Deviations_Op_Param_CMS!$C$24:'Deviations_Op_Param_CMS'!$C$500,$C68,Deviations_Op_Param_CMS!$F$24:'Deviations_Op_Param_CMS'!$F$500,$D68,Deviations_Op_Param_CMS!$M$24:'Deviations_Op_Param_CMS'!$M$500,\"Startup\"))","v":""},{"$f":"IF($C68=\"\",\"\",SUMIFS(Deviations_Op_Param_CMS!$K$24:'Deviations_Op_Param_CMS'!$K$500,Deviations_Op_Param_CMS!$B$24:'Deviations_Op_Param_CMS'!$B$500,$B68,Deviations_Op_Param_CMS!$C$24:'Deviations_Op_Param_CMS'!$C$500,$C68,Deviations_Op_Param_CMS!$F$24:'Deviations_Op_Param_CMS'!$F$500,$D68,Deviations_Op_Param_CMS!$M$24:'Deviations_Op_Param_CMS'!$M$500,\"Shutdown\"))","v":""},{"$f":"IF($C68=\"\",\"\",SUMIFS(Deviations_Op_Param_CMS!$K$24:'Deviations_Op_Param_CMS'!$K$500,Deviations_Op_Param_CMS!$B$24:'Deviations_Op_Param_CMS'!$B$500,$B68,Deviations_Op_Param_CMS!$C$24:'Deviations_Op_Param_CMS'!$C$500,$C68,Deviations_Op_Param_CMS!$F$24:'Deviations_Op_Param_CMS'!$F$500,$D68,Deviations_Op_Param_CMS!$M$24:'Deviations_Op_Param_CMS'!$M$500,\"Control Equipment Problems\"))","v":""},{"$f":"IF($C68=\"\",\"\",SUMIFS(Deviations_Op_Param_CMS!$K$24:'Deviations_Op_Param_CMS'!$K$500,Deviations_Op_Param_CMS!$B$24:'Deviations_Op_Param_CMS'!$B$500,$B68,Deviations_Op_Param_CMS!$C$24:'Deviations_Op_Param_CMS'!$C$500,$C68,Deviations_Op_Param_CMS!$F$24:'Deviations_Op_Param_CMS'!$F$500,$D68,Deviations_Op_Param_CMS!$M$24:'Deviations_Op_Param_CMS'!$M$500,\"Process Problems\"))","v":""},{"$f":"IF($C68=\"\",\"\",SUMIFS(Deviations_Op_Param_CMS!$K$24:'Deviations_Op_Param_CMS'!$K$500,Deviations_Op_Param_CMS!$B$24:'Deviations_Op_Param_CMS'!$B$500,$B68,Deviations_Op_Param_CMS!$C$24:'Deviations_Op_Param_CMS'!$C$500,$C68,Deviations_Op_Param_CMS!$F$24:'Deviations_Op_Param_CMS'!$F$500,$D68,Deviations_Op_Param_CMS!$M$24:'Deviations_Op_Param_CMS'!$M$500,\"Other Known Causes\"))","v":""},{"$f":"IF($C68=\"\",\"\",SUMIFS(Deviations_Op_Param_CMS!$K$24:'Deviations_Op_Param_CMS'!$K$500,Deviations_Op_Param_CMS!$B$24:'Deviations_Op_Param_CMS'!$B$500,$B68,Deviations_Op_Param_CMS!$C$24:'Deviations_Op_Param_CMS'!$C$500,$C68,Deviations_Op_Param_CMS!$F$24:'Deviations_Op_Param_CMS'!$F$500,$D68,Deviations_Op_Param_CMS!$M$24:'Deviations_Op_Param_CMS'!$M$500,\"Other Unknown Causes\"))","v":""},{"$f":"IF($C68=\"\",\"\",SUMIFS(Deviations_Op_Param_CMS!$K$24:'Deviations_Op_Param_CMS'!$K$500,Deviations_Op_Param_CMS!$B$24:'Deviations_Op_Param_CMS'!$B$500,$B68,Deviations_Op_Param_CMS!$C$24:'Deviations_Op_Param_CMS'!$C$500,$C68,Deviations_Op_Param_CMS!$F$24:'Deviations_Op_Param_CMS'!$F$500,$D68))","v":""},"",{"$f":"IF($C68=\"\",\"\",COUNTIFS(Deviations_Op_Param_CMS!$B$24:'Deviations_Op_Param_CMS'!$B$500,$B68,Deviations_Op_Param_CMS!$C$24:'Deviations_Op_Param_CMS'!$C$500,$C68,Deviations_Op_Param_CMS!$F$24:'Deviations_Op_Param_CMS'!$F$500,$D68))","v":""}]
[null,{"$f":"IF(OpParam_Deviation_CMS_Data!I48=\"\",\"\",OpParam_Deviation_CMS_Data!I48)","v":""},{"$f":"IF(OpParam_Deviation_CMS_Data!J48=\"\",\"\",OpParam_Deviation_CMS_Data!J48)","v":""},{"$f":"IF(OpParam_Deviation_CMS_Data!K48=\"\",\"\",OpParam_Deviation_CMS_Data!K48)","v":""},{"$f":"IF(OpParam_Deviation_CMS_Data!L48=\"\",\"\",OpParam_Deviation_CMS_Data!L48)","v":""},{"$f":"IF($C69=\"\",\"\",SUMIFS(Deviations_Op_Param_CMS!$K$24:'Deviations_Op_Param_CMS'!$K$500,Deviations_Op_Param_CMS!$B$24:'Deviations_Op_Param_CMS'!$B$500,$B69,Deviations_Op_Param_CMS!$C$24:'Deviations_Op_Param_CMS'!$C$500,$C69,Deviations_Op_Param_CMS!$F$24:'Deviations_Op_Param_CMS'!$F$500,$D69,Deviations_Op_Param_CMS!$M$24:'Deviations_Op_Param_CMS'!$M$500,\"Startup\"))","v":""},{"$f":"IF($C69=\"\",\"\",SUMIFS(Deviations_Op_Param_CMS!$K$24:'Deviations_Op_Param_CMS'!$K$500,Deviations_Op_Param_CMS!$B$24:'Deviations_Op_Param_CMS'!$B$500,$B69,Deviations_Op_Param_CMS!$C$24:'Deviations_Op_Param_CMS'!$C$500,$C69,Deviations_Op_Param_CMS!$F$24:'Deviations_Op_Param_CMS'!$F$500,$D69,Deviations_Op_Param_CMS!$M$24:'Deviations_Op_Param_CMS'!$M$500,\"Shutdown\"))","v":""},{"$f":"IF($C69=\"\",\"\",SUMIFS(Deviations_Op_Param_CMS!$K$24:'Deviations_Op_Param_CMS'!$K$500,Deviations_Op_Param_CMS!$B$24:'Deviations_Op_Param_CMS'!$B$500,$B69,Deviations_Op_Param_CMS!$C$24:'Deviations_Op_Param_CMS'!$C$500,$C69,Deviations_Op_Param_CMS!$F$24:'Deviations_Op_Param_CMS'!$F$500,$D69,Deviations_Op_Param_CMS!$M$24:'Deviations_Op_Param_CMS'!$M$500,\"Control Equipment Problems\"))","v":""},{"$f":"IF($C69=\"\",\"\",SUMIFS(Deviations_Op_Param_CMS!$K$24:'Deviations_Op_Param_CMS'!$K$500,Deviations_Op_Param_CMS!$B$24:'Deviations_Op_Param_CMS'!$B$500,$B69,Deviations_Op_Param_CMS!$C$24:'Deviations_Op_Param_CMS'!$C$500,$C69,Deviations_Op_Param_CMS!$F$24:'Deviations_Op_Param_CMS'!$F$500,$D69,Deviations_Op_Param_CMS!$M$24:'Deviations_Op_Param_CMS'!$M$500,\"Process Problems\"))","v":""},{"$f":"IF($C69=\"\",\"\",SUMIFS(Deviations_Op_Param_CMS!$K$24:'Deviations_Op_Param_CMS'!$K$500,Deviations_Op_Param_CMS!$B$24:'Deviations_Op_Param_CMS'!$B$500,$B69,Deviations_Op_Param_CMS!$C$24:'Deviations_Op_Param_CMS'!$C$500,$C69,Deviations_Op_Param_CMS!$F$24:'Deviations_Op_Param_CMS'!$F$500,$D69,Deviations_Op_Param_CMS!$M$24:'Deviations_Op_Param_CMS'!$M$500,\"Other Known Causes\"))","v":""},{"$f":"IF($C69=\"\",\"\",SUMIFS(Deviations_Op_Param_CMS!$K$24:'Deviations_Op_Param_CMS'!$K$500,Deviations_Op_Param_CMS!$B$24:'Deviations_Op_Param_CMS'!$B$500,$B69,Deviations_Op_Param_CMS!$C$24:'Deviations_Op_Param_CMS'!$C$500,$C69,Deviations_Op_Param_CMS!$F$24:'Deviations_Op_Param_CMS'!$F$500,$D69,Deviations_Op_Param_CMS!$M$24:'Deviations_Op_Param_CMS'!$M$500,\"Other Unknown Causes\"))","v":""},{"$f":"IF($C69=\"\",\"\",SUMIFS(Deviations_Op_Param_CMS!$K$24:'Deviations_Op_Param_CMS'!$K$500,Deviations_Op_Param_CMS!$B$24:'Deviations_Op_Param_CMS'!$B$500,$B69,Deviations_Op_Param_CMS!$C$24:'Deviations_Op_Param_CMS'!$C$500,$C69,Deviations_Op_Param_CMS!$F$24:'Deviations_Op_Param_CMS'!$F$500,$D69))","v":""},"",{"$f":"IF($C69=\"\",\"\",COUNTIFS(Deviations_Op_Param_CMS!$B$24:'Deviations_Op_Param_CMS'!$B$500,$B69,Deviations_Op_Param_CMS!$C$24:'Deviations_Op_Param_CMS'!$C$500,$C69,Deviations_Op_Param_CMS!$F$24:'Deviations_Op_Param_CMS'!$F$500,$D69))","v":""}]
[null,{"$f":"IF(OpParam_Deviation_CMS_Data!I49=\"\",\"\",OpParam_Deviation_CMS_Data!I49)","v":""},{"$f":"IF(OpParam_Deviation_CMS_Data!J49=\"\",\"\",OpParam_Deviation_CMS_Data!J49)","v":""},{"$f":"IF(OpParam_Deviation_CMS_Data!K49=\"\",\"\",OpParam_Deviation_CMS_Data!K49)","v":""},{"$f":"IF(OpParam_Deviation_CMS_Data!L49=\"\",\"\",OpParam_Deviation_CMS_Data!L49)","v":""},{"$f":"IF($C70=\"\",\"\",SUMIFS(Deviations_Op_Param_CMS!$K$24:'Deviations_Op_Param_CMS'!$K$500,Deviations_Op_Param_CMS!$B$24:'Deviations_Op_Param_CMS'!$B$500,$B70,Deviations_Op_Param_CMS!$C$24:'Deviations_Op_Param_CMS'!$C$500,$C70,Deviations_Op_Param_CMS!$F$24:'Deviations_Op_Param_CMS'!$F$500,$D70,Deviations_Op_Param_CMS!$M$24:'Deviations_Op_Param_CMS'!$M$500,\"Startup\"))","v":""},{"$f":"IF($C70=\"\",\"\",SUMIFS(Deviations_Op_Param_CMS!$K$24:'Deviations_Op_Param_CMS'!$K$500,Deviations_Op_Param_CMS!$B$24:'Deviations_Op_Param_CMS'!$B$500,$B70,Deviations_Op_Param_CMS!$C$24:'Deviations_Op_Param_CMS'!$C$500,$C70,Deviations_Op_Param_CMS!$F$24:'Deviations_Op_Param_CMS'!$F$500,$D70,Deviations_Op_Param_CMS!$M$24:'Deviations_Op_Param_CMS'!$M$500,\"Shutdown\"))","v":""},{"$f":"IF($C70=\"\",\"\",SUMIFS(Deviations_Op_Param_CMS!$K$24:'Deviations_Op_Param_CMS'!$K$500,Deviations_Op_Param_CMS!$B$24:'Deviations_Op_Param_CMS'!$B$500,$B70,Deviations_Op_Param_CMS!$C$24:'Deviations_Op_Param_CMS'!$C$500,$C70,Deviations_Op_Param_CMS!$F$24:'Deviations_Op_Param_CMS'!$F$500,$D70,Deviations_Op_Param_CMS!$M$24:'Deviations_Op_Param_CMS'!$M$500,\"Control Equipment Problems\"))","v":""},{"$f":"IF($C70=\"\",\"\",SUMIFS(Deviations_Op_Param_CMS!$K$24:'Deviations_Op_Param_CMS'!$K$500,Deviations_Op_Param_CMS!$B$24:'Deviations_Op_Param_CMS'!$B$500,$B70,Deviations_Op_Param_CMS!$C$24:'Deviations_Op_Param_CMS'!$C$500,$C70,Deviations_Op_Param_CMS!$F$24:'Deviations_Op_Param_CMS'!$F$500,$D70,Deviations_Op_Param_CMS!$M$24:'Deviations_Op_Param_CMS'!$M$500,\"Process Problems\"))","v":""},{"$f":"IF($C70=\"\",\"\",SUMIFS(Deviations_Op_Param_CMS!$K$24:'Deviations_Op_Param_CMS'!$K$500,Deviations_Op_Param_CMS!$B$24:'Deviations_Op_Param_CMS'!$B$500,$B70,Deviations_Op_Param_CMS!$C$24:'Deviations_Op_Param_CMS'!$C$500,$C70,Deviations_Op_Param_CMS!$F$24:'Deviations_Op_Param_CMS'!$F$500,$D70,Deviations_Op_Param_CMS!$M$24:'Deviations_Op_Param_CMS'!$M$500,\"Other Known Causes\"))","v":""},{"$f":"IF($C70=\"\",\"\",SUMIFS(Deviations_Op_Param_CMS!$K$24:'Deviations_Op_Param_CMS'!$K$500,Deviations_Op_Param_CMS!$B$24:'Deviations_Op_Param_CMS'!$B$500,$B70,Deviations_Op_Param_CMS!$C$24:'Deviations_Op_Param_CMS'!$C$500,$C70,Deviations_Op_Param_CMS!$F$24:'Deviations_Op_Param_CMS'!$F$500,$D70,Deviations_Op_Param_CMS!$M$24:'Deviations_Op_Param_CMS'!$M$500,\"Other Unknown Causes\"))","v":""},{"$f":"IF($C70=\"\",\"\",SUMIFS(Deviations_Op_Param_CMS!$K$24:'Deviations_Op_Param_CMS'!$K$500,Deviations_Op_Param_CMS!$B$24:'Deviations_Op_Param_CMS'!$B$500,$B70,Deviations_Op_Param_CMS!$C$24:'Deviations_Op_Param_CMS'!$C$500,$C70,Deviations_Op_Param_CMS!$F$24:'Deviations_Op_Param_CMS'!$F$500,$D70))","v":""},"",{"$f":"IF($C70=\"\",\"\",COUNTIFS(Deviations_Op_Param_CMS!$B$24:'Deviations_Op_Param_CMS'!$B$500,$B70,Deviations_Op_Param_CMS!$C$24:'Deviations_Op_Param_CMS'!$C$500,$C70,Deviations_Op_Param_CMS!$F$24:'Deviations_Op_Param_CMS'!$F$500,$D70))","v":""}]
[null,{"$f":"IF(OpParam_Deviation_CMS_Data!I50=\"\",\"\",OpParam_Deviation_CMS_Data!I50)","v":""},{"$f":"IF(OpParam_Deviation_CMS_Data!J50=\"\",\"\",OpParam_Deviation_CMS_Data!J50)","v":""},{"$f":"IF(OpParam_Deviation_CMS_Data!K50=\"\",\"\",OpParam_Deviation_CMS_Data!K50)","v":""},{"$f":"IF(OpParam_Deviation_CMS_Data!L50=\"\",\"\",OpParam_Deviation_CMS_Data!L50)","v":""},{"$f":"IF($C71=\"\",\"\",SUMIFS(Deviations_Op_Param_CMS!$K$24:'Deviations_Op_Param_CMS'!$K$500,Deviations_Op_Param_CMS!$B$24:'Deviations_Op_Param_CMS'!$B$500,$B71,Deviations_Op_Param_CMS!$C$24:'Deviations_Op_Param_CMS'!$C$500,$C71,Deviations_Op_Param_CMS!$F$24:'Deviations_Op_Param_CMS'!$F$500,$D71,Deviations_Op_Param_CMS!$M$24:'Deviations_Op_Param_CMS'!$M$500,\"Startup\"))","v":""},{"$f":"IF($C71=\"\",\"\",SUMIFS(Deviations_Op_Param_CMS!$K$24:'Deviations_Op_Param_CMS'!$K$500,Deviations_Op_Param_CMS!$B$24:'Deviations_Op_Param_CMS'!$B$500,$B71,Deviations_Op_Param_CMS!$C$24:'Deviations_Op_Param_CMS'!$C$500,$C71,Deviations_Op_Param_CMS!$F$24:'Deviations_Op_Param_CMS'!$F$500,$D71,Deviations_Op_Param_CMS!$M$24:'Deviations_Op_Param_CMS'!$M$500,\"Shutdown\"))","v":""},{"$f":"IF($C71=\"\",\"\",SUMIFS(Deviations_Op_Param_CMS!$K$24:'Deviations_Op_Param_CMS'!$K$500,Deviations_Op_Param_CMS!$B$24:'Deviations_Op_Param_CMS'!$B$500,$B71,Deviations_Op_Param_CMS!$C$24:'Deviations_Op_Param_CMS'!$C$500,$C71,Deviations_Op_Param_CMS!$F$24:'Deviations_Op_Param_CMS'!$F$500,$D71,Deviations_Op_Param_CMS!$M$24:'Deviations_Op_Param_CMS'!$M$500,\"Control Equipment Problems\"))","v":""},{"$f":"IF($C71=\"\",\"\",SUMIFS(Deviations_Op_Param_CMS!$K$24:'Deviations_Op_Param_CMS'!$K$500,Deviations_Op_Param_CMS!$B$24:'Deviations_Op_Param_CMS'!$B$500,$B71,Deviations_Op_Param_CMS!$C$24:'Deviations_Op_Param_CMS'!$C$500,$C71,Deviations_Op_Param_CMS!$F$24:'Deviations_Op_Param_CMS'!$F$500,$D71,Deviations_Op_Param_CMS!$M$24:'Deviations_Op_Param_CMS'!$M$500,\"Process Problems\"))","v":""},{"$f":"IF($C71=\"\",\"\",SUMIFS(Deviations_Op_Param_CMS!$K$24:'Deviations_Op_Param_CMS'!$K$500,Deviations_Op_Param_CMS!$B$24:'Deviations_Op_Param_CMS'!$B$500,$B71,Deviations_Op_Param_CMS!$C$24:'Deviations_Op_Param_CMS'!$C$500,$C71,Deviations_Op_Param_CMS!$F$24:'Deviations_Op_Param_CMS'!$F$500,$D71,Deviations_Op_Param_CMS!$M$24:'Deviations_Op_Param_CMS'!$M$500,\"Other Known Causes\"))","v":""},{"$f":"IF($C71=\"\",\"\",SUMIFS(Deviations_Op_Param_CMS!$K$24:'Deviations_Op_Param_CMS'!$K$500,Deviations_Op_Param_CMS!$B$24:'Deviations_Op_Param_CMS'!$B$500,$B71,Deviations_Op_Param_CMS!$C$24:'Deviations_Op_Param_CMS'!$C$500,$C71,Deviations_Op_Param_CMS!$F$24:'Deviations_Op_Param_CMS'!$F$500,$D71,Deviations_Op_Param_CMS!$M$24:'Deviations_Op_Param_CMS'!$M$500,\"Other Unknown Causes\"))","v":""},{"$f":"IF($C71=\"\",\"\",SUMIFS(Deviations_Op_Param_CMS!$K$24:'Deviations_Op_Param_CMS'!$K$500,Deviations_Op_Param_CMS!$B$24:'Deviations_Op_Param_CMS'!$B$500,$B71,Deviations_Op_Param_CMS!$C$24:'Deviations_Op_Param_CMS'!$C$500,$C71,Deviations_Op_Param_CMS!$F$24:'Deviations_Op_Param_CMS'!$F$500,$D71))","v":""},"",{"$f":"IF($C71=\"\",\"\",COUNTIFS(Deviations_Op_Param_CMS!$B$24:'Deviations_Op_Param_CMS'!$B$500,$B71,Deviations_Op_Param_CMS!$C$24:'Deviations_Op_Param_CMS'!$C$500,$C71,Deviations_Op_Param_CMS!$F$24:'Deviations_Op_Param_CMS'!$F$500,$D71))","v":""}]
[null,{"$f":"IF(OpParam_Deviation_CMS_Data!I51=\"\",\"\",OpParam_Deviation_CMS_Data!I51)","v":""},{"$f":"IF(OpParam_Deviation_CMS_Data!J51=\"\",\"\",OpParam_Deviation_CMS_Data!J51)","v":""},{"$f":"IF(OpParam_Deviation_CMS_Data!K51=\"\",\"\",OpParam_Deviation_CMS_Data!K51)","v":""},{"$f":"IF(OpParam_Deviation_CMS_Data!L51=\"\",\"\",OpParam_Deviation_CMS_Data!L51)","v":""},{"$f":"IF($C72=\"\",\"\",SUMIFS(Deviations_Op_Param_CMS!$K$24:'Deviations_Op_Param_CMS'!$K$500,Deviations_Op_Param_CMS!$B$24:'Deviations_Op_Param_CMS'!$B$500,$B72,Deviations_Op_Param_CMS!$C$24:'Deviations_Op_Param_CMS'!$C$500,$C72,Deviations_Op_Param_CMS!$F$24:'Deviations_Op_Param_CMS'!$F$500,$D72,Deviations_Op_Param_CMS!$M$24:'Deviations_Op_Param_CMS'!$M$500,\"Startup\"))","v":""},{"$f":"IF($C72=\"\",\"\",SUMIFS(Deviations_Op_Param_CMS!$K$24:'Deviations_Op_Param_CMS'!$K$500,Deviations_Op_Param_CMS!$B$24:'Deviations_Op_Param_CMS'!$B$500,$B72,Deviations_Op_Param_CMS!$C$24:'Deviations_Op_Param_CMS'!$C$500,$C72,Deviations_Op_Param_CMS!$F$24:'Deviations_Op_Param_CMS'!$F$500,$D72,Deviations_Op_Param_CMS!$M$24:'Deviations_Op_Param_CMS'!$M$500,\"Shutdown\"))","v":""},{"$f":"IF($C72=\"\",\"\",SUMIFS(Deviations_Op_Param_CMS!$K$24:'Deviations_Op_Param_CMS'!$K$500,Deviations_Op_Param_CMS!$B$24:'Deviations_Op_Param_CMS'!$B$500,$B72,Deviations_Op_Param_CMS!$C$24:'Deviations_Op_Param_CMS'!$C$500,$C72,Deviations_Op_Param_CMS!$F$24:'Deviations_Op_Param_CMS'!$F$500,$D72,Deviations_Op_Param_CMS!$M$24:'Deviations_Op_Param_CMS'!$M$500,\"Control Equipment Problems\"))","v":""},{"$f":"IF($C72=\"\",\"\",SUMIFS(Deviations_Op_Param_CMS!$K$24:'Deviations_Op_Param_CMS'!$K$500,Deviations_Op_Param_CMS!$B$24:'Deviations_Op_Param_CMS'!$B$500,$B72,Deviations_Op_Param_CMS!$C$24:'Deviations_Op_Param_CMS'!$C$500,$C72,Deviations_Op_Param_CMS!$F$24:'Deviations_Op_Param_CMS'!$F$500,$D72,Deviations_Op_Param_CMS!$M$24:'Deviations_Op_Param_CMS'!$M$500,\"Process Problems\"))","v":""},{"$f":"IF($C72=\"\",\"\",SUMIFS(Deviations_Op_Param_CMS!$K$24:'Deviations_Op_Param_CMS'!$K$500,Deviations_Op_Param_CMS!$B$24:'Deviations_Op_Param_CMS'!$B$500,$B72,Deviations_Op_Param_CMS!$C$24:'Deviations_Op_Param_CMS'!$C$500,$C72,Deviations_Op_Param_CMS!$F$24:'Deviations_Op_Param_CMS'!$F$500,$D72,Deviations_Op_Param_CMS!$M$24:'Deviations_Op_Param_CMS'!$M$500,\"Other Known Causes\"))","v":""},{"$f":"IF($C72=\"\",\"\",SUMIFS(Deviations_Op_Param_CMS!$K$24:'Deviations_Op_Param_CMS'!$K$500,Deviations_Op_Param_CMS!$B$24:'Deviations_Op_Param_CMS'!$B$500,$B72,Deviations_Op_Param_CMS!$C$24:'Deviations_Op_Param_CMS'!$C$500,$C72,Deviations_Op_Param_CMS!$F$24:'Deviations_Op_Param_CMS'!$F$500,$D72,Deviations_Op_Param_CMS!$M$24:'Deviations_Op_Param_CMS'!$M$500,\"Other Unknown Causes\"))","v":""},{"$f":"IF($C72=\"\",\"\",SUMIFS(Deviations_Op_Param_CMS!$K$24:'Deviations_Op_Param_CMS'!$K$500,Deviations_Op_Param_CMS!$B$24:'Deviations_Op_Param_CMS'!$B$500,$B72,Deviations_Op_Param_CMS!$C$24:'Deviations_Op_Param_CMS'!$C$500,$C72,Deviations_Op_Param_CMS!$F$24:'Deviations_Op_Param_CMS'!$F$500,$D72))","v":""},"",{"$f":"IF($C72=\"\",\"\",COUNTIFS(Deviations_Op_Param_CMS!$B$24:'Deviations_Op_Param_CMS'!$B$500,$B72,Deviations_Op_Param_CMS!$C$24:'Deviations_Op_Param_CMS'!$C$500,$C72,Deviations_Op_Param_CMS!$F$24:'Deviations_Op_Param_CMS'!$F$500,$D72))","v":""}]
[null,{"$f":"IF(OpParam_Deviation_CMS_Data!I52=\"\",\"\",OpParam_Deviation_CMS_Data!I52)","v":""},{"$f":"IF(OpParam_Deviation_CMS_Data!J52=\"\",\"\",OpParam_Deviation_CMS_Data!J52)","v":""},{"$f":"IF(OpParam_Deviation_CMS_Data!K52=\"\",\"\",OpParam_Deviation_CMS_Data!K52)","v":""},{"$f":"IF(OpParam_Deviation_CMS_Data!L52=\"\",\"\",OpParam_Deviation_CMS_Data!L52)","v":""},{"$f":"IF($C73=\"\",\"\",SUMIFS(Deviations_Op_Param_CMS!$K$24:'Deviations_Op_Param_CMS'!$K$500,Deviations_Op_Param_CMS!$B$24:'Deviations_Op_Param_CMS'!$B$500,$B73,Deviations_Op_Param_CMS!$C$24:'Deviations_Op_Param_CMS'!$C$500,$C73,Deviations_Op_Param_CMS!$F$24:'Deviations_Op_Param_CMS'!$F$500,$D73,Deviations_Op_Param_CMS!$M$24:'Deviations_Op_Param_CMS'!$M$500,\"Startup\"))","v":""},{"$f":"IF($C73=\"\",\"\",SUMIFS(Deviations_Op_Param_CMS!$K$24:'Deviations_Op_Param_CMS'!$K$500,Deviations_Op_Param_CMS!$B$24:'Deviations_Op_Param_CMS'!$B$500,$B73,Deviations_Op_Param_CMS!$C$24:'Deviations_Op_Param_CMS'!$C$500,$C73,Deviations_Op_Param_CMS!$F$24:'Deviations_Op_Param_CMS'!$F$500,$D73,Deviations_Op_Param_CMS!$M$24:'Deviations_Op_Param_CMS'!$M$500,\"Shutdown\"))","v":""},{"$f":"IF($C73=\"\",\"\",SUMIFS(Deviations_Op_Param_CMS!$K$24:'Deviations_Op_Param_CMS'!$K$500,Deviations_Op_Param_CMS!$B$24:'Deviations_Op_Param_CMS'!$B$500,$B73,Deviations_Op_Param_CMS!$C$24:'Deviations_Op_Param_CMS'!$C$500,$C73,Deviations_Op_Param_CMS!$F$24:'Deviations_Op_Param_CMS'!$F$500,$D73,Deviations_Op_Param_CMS!$M$24:'Deviations_Op_Param_CMS'!$M$500,\"Control Equipment Problems\"))","v":""},{"$f":"IF($C73=\"\",\"\",SUMIFS(Deviations_Op_Param_CMS!$K$24:'Deviations_Op_Param_CMS'!$K$500,Deviations_Op_Param_CMS!$B$24:'Deviations_Op_Param_CMS'!$B$500,$B73,Deviations_Op_Param_CMS!$C$24:'Deviations_Op_Param_CMS'!$C$500,$C73,Deviations_Op_Param_CMS!$F$24:'Deviations_Op_Param_CMS'!$F$500,$D73,Deviations_Op_Param_CMS!$M$24:'Deviations_Op_Param_CMS'!$M$500,\"Process Problems\"))","v":""},{"$f":"IF($C73=\"\",\"\",SUMIFS(Deviations_Op_Param_CMS!$K$24:'Deviations_Op_Param_CMS'!$K$500,Deviations_Op_Param_CMS!$B$24:'Deviations_Op_Param_CMS'!$B$500,$B73,Deviations_Op_Param_CMS!$C$24:'Deviations_Op_Param_CMS'!$C$500,$C73,Deviations_Op_Param_CMS!$F$24:'Deviations_Op_Param_CMS'!$F$500,$D73,Deviations_Op_Param_CMS!$M$24:'Deviations_Op_Param_CMS'!$M$500,\"Other Known Causes\"))","v":""},{"$f":"IF($C73=\"\",\"\",SUMIFS(Deviations_Op_Param_CMS!$K$24:'Deviations_Op_Param_CMS'!$K$500,Deviations_Op_Param_CMS!$B$24:'Deviations_Op_Param_CMS'!$B$500,$B73,Deviations_Op_Param_CMS!$C$24:'Deviations_Op_Param_CMS'!$C$500,$C73,Deviations_Op_Param_CMS!$F$24:'Deviations_Op_Param_CMS'!$F$500,$D73,Deviations_Op_Param_CMS!$M$24:'Deviations_Op_Param_CMS'!$M$500,\"Other Unknown Causes\"))","v":""},{"$f":"IF($C73=\"\",\"\",SUMIFS(Deviations_Op_Param_CMS!$K$24:'Deviations_Op_Param_CMS'!$K$500,Deviations_Op_Param_CMS!$B$24:'Deviations_Op_Param_CMS'!$B$500,$B73,Deviations_Op_Param_CMS!$C$24:'Deviations_Op_Param_CMS'!$C$500,$C73,Deviations_Op_Param_CMS!$F$24:'Deviations_Op_Param_CMS'!$F$500,$D73))","v":""},"",{"$f":"IF($C73=\"\",\"\",COUNTIFS(Deviations_Op_Param_CMS!$B$24:'Deviations_Op_Param_CMS'!$B$500,$B73,Deviations_Op_Param_CMS!$C$24:'Deviations_Op_Param_CMS'!$C$500,$C73,Deviations_Op_Param_CMS!$F$24:'Deviations_Op_Param_CMS'!$F$500,$D73))","v":""}]
[null,{"$f":"IF(OpParam_Deviation_CMS_Data!I53=\"\",\"\",OpParam_Deviation_CMS_Data!I53)","v":""},{"$f":"IF(OpParam_Deviation_CMS_Data!J53=\"\",\"\",OpParam_Deviation_CMS_Data!J53)","v":""},{"$f":"IF(OpParam_Deviation_CMS_Data!K53=\"\",\"\",OpParam_Deviation_CMS_Data!K53)","v":""},{"$f":"IF(OpParam_Deviation_CMS_Data!L53=\"\",\"\",OpParam_Deviation_CMS_Data!L53)","v":""},{"$f":"IF($C74=\"\",\"\",SUMIFS(Deviations_Op_Param_CMS!$K$24:'Deviations_Op_Param_CMS'!$K$500,Deviations_Op_Param_CMS!$B$24:'Deviations_Op_Param_CMS'!$B$500,$B74,Deviations_Op_Param_CMS!$C$24:'Deviations_Op_Param_CMS'!$C$500,$C74,Deviations_Op_Param_CMS!$F$24:'Deviations_Op_Param_CMS'!$F$500,$D74,Deviations_Op_Param_CMS!$M$24:'Deviations_Op_Param_CMS'!$M$500,\"Startup\"))","v":""},{"$f":"IF($C74=\"\",\"\",SUMIFS(Deviations_Op_Param_CMS!$K$24:'Deviations_Op_Param_CMS'!$K$500,Deviations_Op_Param_CMS!$B$24:'Deviations_Op_Param_CMS'!$B$500,$B74,Deviations_Op_Param_CMS!$C$24:'Deviations_Op_Param_CMS'!$C$500,$C74,Deviations_Op_Param_CMS!$F$24:'Deviations_Op_Param_CMS'!$F$500,$D74,Deviations_Op_Param_CMS!$M$24:'Deviations_Op_Param_CMS'!$M$500,\"Shutdown\"))","v":""},{"$f":"IF($C74=\"\",\"\",SUMIFS(Deviations_Op_Param_CMS!$K$24:'Deviations_Op_Param_CMS'!$K$500,Deviations_Op_Param_CMS!$B$24:'Deviations_Op_Param_CMS'!$B$500,$B74,Deviations_Op_Param_CMS!$C$24:'Deviations_Op_Param_CMS'!$C$500,$C74,Deviations_Op_Param_CMS!$F$24:'Deviations_Op_Param_CMS'!$F$500,$D74,Deviations_Op_Param_CMS!$M$24:'Deviations_Op_Param_CMS'!$M$500,\"Control Equipment Problems\"))","v":""},{"$f":"IF($C74=\"\",\"\",SUMIFS(Deviations_Op_Param_CMS!$K$24:'Deviations_Op_Param_CMS'!$K$500,Deviations_Op_Param_CMS!$B$24:'Deviations_Op_Param_CMS'!$B$500,$B74,Deviations_Op_Param_CMS!$C$24:'Deviations_Op_Param_CMS'!$C$500,$C74,Deviations_Op_Param_CMS!$F$24:'Deviations_Op_Param_CMS'!$F$500,$D74,Deviations_Op_Param_CMS!$M$24:'Deviations_Op_Param_CMS'!$M$500,\"Process Problems\"))","v":""},{"$f":"IF($C74=\"\",\"\",SUMIFS(Deviations_Op_Param_CMS!$K$24:'Deviations_Op_Param_CMS'!$K$500,Deviations_Op_Param_CMS!$B$24:'Deviations_Op_Param_CMS'!$B$500,$B74,Deviations_Op_Param_CMS!$C$24:'Deviations_Op_Param_CMS'!$C$500,$C74,Deviations_Op_Param_CMS!$F$24:'Deviations_Op_Param_CMS'!$F$500,$D74,Deviations_Op_Param_CMS!$M$24:'Deviations_Op_Param_CMS'!$M$500,\"Other Known Causes\"))","v":""},{"$f":"IF($C74=\"\",\"\",SUMIFS(Deviations_Op_Param_CMS!$K$24:'Deviations_Op_Param_CMS'!$K$500,Deviations_Op_Param_CMS!$B$24:'Deviations_Op_Param_CMS'!$B$500,$B74,Deviations_Op_Param_CMS!$C$24:'Deviations_Op_Param_CMS'!$C$500,$C74,Deviations_Op_Param_CMS!$F$24:'Deviations_Op_Param_CMS'!$F$500,$D74,Deviations_Op_Param_CMS!$M$24:'Deviations_Op_Param_CMS'!$M$500,\"Other Unknown Causes\"))","v":""},{"$f":"IF($C74=\"\",\"\",SUMIFS(Deviations_Op_Param_CMS!$K$24:'Deviations_Op_Param_CMS'!$K$500,Deviations_Op_Param_CMS!$B$24:'Deviations_Op_Param_CMS'!$B$500,$B74,Deviations_Op_Param_CMS!$C$24:'Deviations_Op_Param_CMS'!$C$500,$C74,Deviations_Op_Param_CMS!$F$24:'Deviations_Op_Param_CMS'!$F$500,$D74))","v":""},"",{"$f":"IF($C74=\"\",\"\",COUNTIFS(Deviations_Op_Param_CMS!$B$24:'Deviations_Op_Param_CMS'!$B$500,$B74,Deviations_Op_Param_CMS!$C$24:'Deviations_Op_Param_CMS'!$C$500,$C74,Deviations_Op_Param_CMS!$F$24:'Deviations_Op_Param_CMS'!$F$500,$D74))","v":""}]
[null,{"$f":"IF(OpParam_Deviation_CMS_Data!I54=\"\",\"\",OpParam_Deviation_CMS_Data!I54)","v":""},{"$f":"IF(OpParam_Deviation_CMS_Data!J54=\"\",\"\",OpParam_Deviation_CMS_Data!J54)","v":""},{"$f":"IF(OpParam_Deviation_CMS_Data!K54=\"\",\"\",OpParam_Deviation_CMS_Data!K54)","v":""},{"$f":"IF(OpParam_Deviation_CMS_Data!L54=\"\",\"\",OpParam_Deviation_CMS_Data!L54)","v":""},{"$f":"IF($C75=\"\",\"\",SUMIFS(Deviations_Op_Param_CMS!$K$24:'Deviations_Op_Param_CMS'!$K$500,Deviations_Op_Param_CMS!$B$24:'Deviations_Op_Param_CMS'!$B$500,$B75,Deviations_Op_Param_CMS!$C$24:'Deviations_Op_Param_CMS'!$C$500,$C75,Deviations_Op_Param_CMS!$F$24:'Deviations_Op_Param_CMS'!$F$500,$D75,Deviations_Op_Param_CMS!$M$24:'Deviations_Op_Param_CMS'!$M$500,\"Startup\"))","v":""},{"$f":"IF($C75=\"\",\"\",SUMIFS(Deviations_Op_Param_CMS!$K$24:'Deviations_Op_Param_CMS'!$K$500,Deviations_Op_Param_CMS!$B$24:'Deviations_Op_Param_CMS'!$B$500,$B75,Deviations_Op_Param_CMS!$C$24:'Deviations_Op_Param_CMS'!$C$500,$C75,Deviations_Op_Param_CMS!$F$24:'Deviations_Op_Param_CMS'!$F$500,$D75,Deviations_Op_Param_CMS!$M$24:'Deviations_Op_Param_CMS'!$M$500,\"Shutdown\"))","v":""},{"$f":"IF($C75=\"\",\"\",SUMIFS(Deviations_Op_Param_CMS!$K$24:'Deviations_Op_Param_CMS'!$K$500,Deviations_Op_Param_CMS!$B$24:'Deviations_Op_Param_CMS'!$B$500,$B75,Deviations_Op_Param_CMS!$C$24:'Deviations_Op_Param_CMS'!$C$500,$C75,Deviations_Op_Param_CMS!$F$24:'Deviations_Op_Param_CMS'!$F$500,$D75,Deviations_Op_Param_CMS!$M$24:'Deviations_Op_Param_CMS'!$M$500,\"Control Equipment Problems\"))","v":""},{"$f":"IF($C75=\"\",\"\",SUMIFS(Deviations_Op_Param_CMS!$K$24:'Deviations_Op_Param_CMS'!$K$500,Deviations_Op_Param_CMS!$B$24:'Deviations_Op_Param_CMS'!$B$500,$B75,Deviations_Op_Param_CMS!$C$24:'Deviations_Op_Param_CMS'!$C$500,$C75,Deviations_Op_Param_CMS!$F$24:'Deviations_Op_Param_CMS'!$F$500,$D75,Deviations_Op_Param_CMS!$M$24:'Deviations_Op_Param_CMS'!$M$500,\"Process Problems\"))","v":""},{"$f":"IF($C75=\"\",\"\",SUMIFS(Deviations_Op_Param_CMS!$K$24:'Deviations_Op_Param_CMS'!$K$500,Deviations_Op_Param_CMS!$B$24:'Deviations_Op_Param_CMS'!$B$500,$B75,Deviations_Op_Param_CMS!$C$24:'Deviations_Op_Param_CMS'!$C$500,$C75,Deviations_Op_Param_CMS!$F$24:'Deviations_Op_Param_CMS'!$F$500,$D75,Deviations_Op_Param_CMS!$M$24:'Deviations_Op_Param_CMS'!$M$500,\"Other Known Causes\"))","v":""},{"$f":"IF($C75=\"\",\"\",SUMIFS(Deviations_Op_Param_CMS!$K$24:'Deviations_Op_Param_CMS'!$K$500,Deviations_Op_Param_CMS!$B$24:'Deviations_Op_Param_CMS'!$B$500,$B75,Deviations_Op_Param_CMS!$C$24:'Deviations_Op_Param_CMS'!$C$500,$C75,Deviations_Op_Param_CMS!$F$24:'Deviations_Op_Param_CMS'!$F$500,$D75,Deviations_Op_Param_CMS!$M$24:'Deviations_Op_Param_CMS'!$M$500,\"Other Unknown Causes\"))","v":""},{"$f":"IF($C75=\"\",\"\",SUMIFS(Deviations_Op_Param_CMS!$K$24:'Deviations_Op_Param_CMS'!$K$500,Deviations_Op_Param_CMS!$B$24:'Deviations_Op_Param_CMS'!$B$500,$B75,Deviations_Op_Param_CMS!$C$24:'Deviations_Op_Param_CMS'!$C$500,$C75,Deviations_Op_Param_CMS!$F$24:'Deviations_Op_Param_CMS'!$F$500,$D75))","v":""},"",{"$f":"IF($C75=\"\",\"\",COUNTIFS(Deviations_Op_Param_CMS!$B$24:'Deviations_Op_Param_CMS'!$B$500,$B75,Deviations_Op_Param_CMS!$C$24:'Deviations_Op_Param_CMS'!$C$500,$C75,Deviations_Op_Param_CMS!$F$24:'Deviations_Op_Param_CMS'!$F$500,$D75))","v":""}]
[null,{"$f":"IF(OpParam_Deviation_CMS_Data!I55=\"\",\"\",OpParam_Deviation_CMS_Data!I55)","v":""},{"$f":"IF(OpParam_Deviation_CMS_Data!J55=\"\",\"\",OpParam_Deviation_CMS_Data!J55)","v":""},{"$f":"IF(OpParam_Deviation_CMS_Data!K55=\"\",\"\",OpParam_Deviation_CMS_Data!K55)","v":""},{"$f":"IF(OpParam_Deviation_CMS_Data!L55=\"\",\"\",OpParam_Deviation_CMS_Data!L55)","v":""},{"$f":"IF($C76=\"\",\"\",SUMIFS(Deviations_Op_Param_CMS!$K$24:'Deviations_Op_Param_CMS'!$K$500,Deviations_Op_Param_CMS!$B$24:'Deviations_Op_Param_CMS'!$B$500,$B76,Deviations_Op_Param_CMS!$C$24:'Deviations_Op_Param_CMS'!$C$500,$C76,Deviations_Op_Param_CMS!$F$24:'Deviations_Op_Param_CMS'!$F$500,$D76,Deviations_Op_Param_CMS!$M$24:'Deviations_Op_Param_CMS'!$M$500,\"Startup\"))","v":""},{"$f":"IF($C76=\"\",\"\",SUMIFS(Deviations_Op_Param_CMS!$K$24:'Deviations_Op_Param_CMS'!$K$500,Deviations_Op_Param_CMS!$B$24:'Deviations_Op_Param_CMS'!$B$500,$B76,Deviations_Op_Param_CMS!$C$24:'Deviations_Op_Param_CMS'!$C$500,$C76,Deviations_Op_Param_CMS!$F$24:'Deviations_Op_Param_CMS'!$F$500,$D76,Deviations_Op_Param_CMS!$M$24:'Deviations_Op_Param_CMS'!$M$500,\"Shutdown\"))","v":""},{"$f":"IF($C76=\"\",\"\",SUMIFS(Deviations_Op_Param_CMS!$K$24:'Deviations_Op_Param_CMS'!$K$500,Deviations_Op_Param_CMS!$B$24:'Deviations_Op_Param_CMS'!$B$500,$B76,Deviations_Op_Param_CMS!$C$24:'Deviations_Op_Param_CMS'!$C$500,$C76,Deviations_Op_Param_CMS!$F$24:'Deviations_Op_Param_CMS'!$F$500,$D76,Deviations_Op_Param_CMS!$M$24:'Deviations_Op_Param_CMS'!$M$500,\"Control Equipment Problems\"))","v":""},{"$f":"IF($C76=\"\",\"\",SUMIFS(Deviations_Op_Param_CMS!$K$24:'Deviations_Op_Param_CMS'!$K$500,Deviations_Op_Param_CMS!$B$24:'Deviations_Op_Param_CMS'!$B$500,$B76,Deviations_Op_Param_CMS!$C$24:'Deviations_Op_Param_CMS'!$C$500,$C76,Deviations_Op_Param_CMS!$F$24:'Deviations_Op_Param_CMS'!$F$500,$D76,Deviations_Op_Param_CMS!$M$24:'Deviations_Op_Param_CMS'!$M$500,\"Process Problems\"))","v":""},{"$f":"IF($C76=\"\",\"\",SUMIFS(Deviations_Op_Param_CMS!$K$24:'Deviations_Op_Param_CMS'!$K$500,Deviations_Op_Param_CMS!$B$24:'Deviations_Op_Param_CMS'!$B$500,$B76,Deviations_Op_Param_CMS!$C$24:'Deviations_Op_Param_CMS'!$C$500,$C76,Deviations_Op_Param_CMS!$F$24:'Deviations_Op_Param_CMS'!$F$500,$D76,Deviations_Op_Param_CMS!$M$24:'Deviations_Op_Param_CMS'!$M$500,\"Other Known Causes\"))","v":""},{"$f":"IF($C76=\"\",\"\",SUMIFS(Deviations_Op_Param_CMS!$K$24:'Deviations_Op_Param_CMS'!$K$500,Deviations_Op_Param_CMS!$B$24:'Deviations_Op_Param_CMS'!$B$500,$B76,Deviations_Op_Param_CMS!$C$24:'Deviations_Op_Param_CMS'!$C$500,$C76,Deviations_Op_Param_CMS!$F$24:'Deviations_Op_Param_CMS'!$F$500,$D76,Deviations_Op_Param_CMS!$M$24:'Deviations_Op_Param_CMS'!$M$500,\"Other Unknown Causes\"))","v":""},{"$f":"IF($C76=\"\",\"\",SUMIFS(Deviations_Op_Param_CMS!$K$24:'Deviations_Op_Param_CMS'!$K$500,Deviations_Op_Param_CMS!$B$24:'Deviations_Op_Param_CMS'!$B$500,$B76,Deviations_Op_Param_CMS!$C$24:'Deviations_Op_Param_CMS'!$C$500,$C76,Deviations_Op_Param_CMS!$F$24:'Deviations_Op_Param_CMS'!$F$500,$D76))","v":""},"",{"$f":"IF($C76=\"\",\"\",COUNTIFS(Deviations_Op_Param_CMS!$B$24:'Deviations_Op_Param_CMS'!$B$500,$B76,Deviations_Op_Param_CMS!$C$24:'Deviations_Op_Param_CMS'!$C$500,$C76,Deviations_Op_Param_CMS!$F$24:'Deviations_Op_Param_CMS'!$F$500,$D76))","v":""}]
[null,{"$f":"IF(OpParam_Deviation_CMS_Data!I56=\"\",\"\",OpParam_Deviation_CMS_Data!I56)","v":""},{"$f":"IF(OpParam_Deviation_CMS_Data!J56=\"\",\"\",OpParam_Deviation_CMS_Data!J56)","v":""},{"$f":"IF(OpParam_Deviation_CMS_Data!K56=\"\",\"\",OpParam_Deviation_CMS_Data!K56)","v":""},{"$f":"IF(OpParam_Deviation_CMS_Data!L56=\"\",\"\",OpParam_Deviation_CMS_Data!L56)","v":""},{"$f":"IF($C77=\"\",\"\",SUMIFS(Deviations_Op_Param_CMS!$K$24:'Deviations_Op_Param_CMS'!$K$500,Deviations_Op_Param_CMS!$B$24:'Deviations_Op_Param_CMS'!$B$500,$B77,Deviations_Op_Param_CMS!$C$24:'Deviations_Op_Param_CMS'!$C$500,$C77,Deviations_Op_Param_CMS!$F$24:'Deviations_Op_Param_CMS'!$F$500,$D77,Deviations_Op_Param_CMS!$M$24:'Deviations_Op_Param_CMS'!$M$500,\"Startup\"))","v":""},{"$f":"IF($C77=\"\",\"\",SUMIFS(Deviations_Op_Param_CMS!$K$24:'Deviations_Op_Param_CMS'!$K$500,Deviations_Op_Param_CMS!$B$24:'Deviations_Op_Param_CMS'!$B$500,$B77,Deviations_Op_Param_CMS!$C$24:'Deviations_Op_Param_CMS'!$C$500,$C77,Deviations_Op_Param_CMS!$F$24:'Deviations_Op_Param_CMS'!$F$500,$D77,Deviations_Op_Param_CMS!$M$24:'Deviations_Op_Param_CMS'!$M$500,\"Shutdown\"))","v":""},{"$f":"IF($C77=\"\",\"\",SUMIFS(Deviations_Op_Param_CMS!$K$24:'Deviations_Op_Param_CMS'!$K$500,Deviations_Op_Param_CMS!$B$24:'Deviations_Op_Param_CMS'!$B$500,$B77,Deviations_Op_Param_CMS!$C$24:'Deviations_Op_Param_CMS'!$C$500,$C77,Deviations_Op_Param_CMS!$F$24:'Deviations_Op_Param_CMS'!$F$500,$D77,Deviations_Op_Param_CMS!$M$24:'Deviations_Op_Param_CMS'!$M$500,\"Control Equipment Problems\"))","v":""},{"$f":"IF($C77=\"\",\"\",SUMIFS(Deviations_Op_Param_CMS!$K$24:'Deviations_Op_Param_CMS'!$K$500,Deviations_Op_Param_CMS!$B$24:'Deviations_Op_Param_CMS'!$B$500,$B77,Deviations_Op_Param_CMS!$C$24:'Deviations_Op_Param_CMS'!$C$500,$C77,Deviations_Op_Param_CMS!$F$24:'Deviations_Op_Param_CMS'!$F$500,$D77,Deviations_Op_Param_CMS!$M$24:'Deviations_Op_Param_CMS'!$M$500,\"Process Problems\"))","v":""},{"$f":"IF($C77=\"\",\"\",SUMIFS(Deviations_Op_Param_CMS!$K$24:'Deviations_Op_Param_CMS'!$K$500,Deviations_Op_Param_CMS!$B$24:'Deviations_Op_Param_CMS'!$B$500,$B77,Deviations_Op_Param_CMS!$C$24:'Deviations_Op_Param_CMS'!$C$500,$C77,Deviations_Op_Param_CMS!$F$24:'Deviations_Op_Param_CMS'!$F$500,$D77,Deviations_Op_Param_CMS!$M$24:'Deviations_Op_Param_CMS'!$M$500,\"Other Known Causes\"))","v":""},{"$f":"IF($C77=\"\",\"\",SUMIFS(Deviations_Op_Param_CMS!$K$24:'Deviations_Op_Param_CMS'!$K$500,Deviations_Op_Param_CMS!$B$24:'Deviations_Op_Param_CMS'!$B$500,$B77,Deviations_Op_Param_CMS!$C$24:'Deviations_Op_Param_CMS'!$C$500,$C77,Deviations_Op_Param_CMS!$F$24:'Deviations_Op_Param_CMS'!$F$500,$D77,Deviations_Op_Param_CMS!$M$24:'Deviations_Op_Param_CMS'!$M$500,\"Other Unknown Causes\"))","v":""},{"$f":"IF($C77=\"\",\"\",SUMIFS(Deviations_Op_Param_CMS!$K$24:'Deviations_Op_Param_CMS'!$K$500,Deviations_Op_Param_CMS!$B$24:'Deviations_Op_Param_CMS'!$B$500,$B77,Deviations_Op_Param_CMS!$C$24:'Deviations_Op_Param_CMS'!$C$500,$C77,Deviations_Op_Param_CMS!$F$24:'Deviations_Op_Param_CMS'!$F$500,$D77))","v":""},"",{"$f":"IF($C77=\"\",\"\",COUNTIFS(Deviations_Op_Param_CMS!$B$24:'Deviations_Op_Param_CMS'!$B$500,$B77,Deviations_Op_Param_CMS!$C$24:'Deviations_Op_Param_CMS'!$C$500,$C77,Deviations_Op_Param_CMS!$F$24:'Deviations_Op_Param_CMS'!$F$500,$D77))","v":""}]
[null,{"$f":"IF(OpParam_Deviation_CMS_Data!I57=\"\",\"\",OpParam_Deviation_CMS_Data!I57)","v":""},{"$f":"IF(OpParam_Deviation_CMS_Data!J57=\"\",\"\",OpParam_Deviation_CMS_Data!J57)","v":""},{"$f":"IF(OpParam_Deviation_CMS_Data!K57=\"\",\"\",OpParam_Deviation_CMS_Data!K57)","v":""},{"$f":"IF(OpParam_Deviation_CMS_Data!L57=\"\",\"\",OpParam_Deviation_CMS_Data!L57)","v":""},{"$f":"IF($C78=\"\",\"\",SUMIFS(Deviations_Op_Param_CMS!$K$24:'Deviations_Op_Param_CMS'!$K$500,Deviations_Op_Param_CMS!$B$24:'Deviations_Op_Param_CMS'!$B$500,$B78,Deviations_Op_Param_CMS!$C$24:'Deviations_Op_Param_CMS'!$C$500,$C78,Deviations_Op_Param_CMS!$F$24:'Deviations_Op_Param_CMS'!$F$500,$D78,Deviations_Op_Param_CMS!$M$24:'Deviations_Op_Param_CMS'!$M$500,\"Startup\"))","v":""},{"$f":"IF($C78=\"\",\"\",SUMIFS(Deviations_Op_Param_CMS!$K$24:'Deviations_Op_Param_CMS'!$K$500,Deviations_Op_Param_CMS!$B$24:'Deviations_Op_Param_CMS'!$B$500,$B78,Deviations_Op_Param_CMS!$C$24:'Deviations_Op_Param_CMS'!$C$500,$C78,Deviations_Op_Param_CMS!$F$24:'Deviations_Op_Param_CMS'!$F$500,$D78,Deviations_Op_Param_CMS!$M$24:'Deviations_Op_Param_CMS'!$M$500,\"Shutdown\"))","v":""},{"$f":"IF($C78=\"\",\"\",SUMIFS(Deviations_Op_Param_CMS!$K$24:'Deviations_Op_Param_CMS'!$K$500,Deviations_Op_Param_CMS!$B$24:'Deviations_Op_Param_CMS'!$B$500,$B78,Deviations_Op_Param_CMS!$C$24:'Deviations_Op_Param_CMS'!$C$500,$C78,Deviations_Op_Param_CMS!$F$24:'Deviations_Op_Param_CMS'!$F$500,$D78,Deviations_Op_Param_CMS!$M$24:'Deviations_Op_Param_CMS'!$M$500,\"Control Equipment Problems\"))","v":""},{"$f":"IF($C78=\"\",\"\",SUMIFS(Deviations_Op_Param_CMS!$K$24:'Deviations_Op_Param_CMS'!$K$500,Deviations_Op_Param_CMS!$B$24:'Deviations_Op_Param_CMS'!$B$500,$B78,Deviations_Op_Param_CMS!$C$24:'Deviations_Op_Param_CMS'!$C$500,$C78,Deviations_Op_Param_CMS!$F$24:'Deviations_Op_Param_CMS'!$F$500,$D78,Deviations_Op_Param_CMS!$M$24:'Deviations_Op_Param_CMS'!$M$500,\"Process Problems\"))","v":""},{"$f":"IF($C78=\"\",\"\",SUMIFS(Deviations_Op_Param_CMS!$K$24:'Deviations_Op_Param_CMS'!$K$500,Deviations_Op_Param_CMS!$B$24:'Deviations_Op_Param_CMS'!$B$500,$B78,Deviations_Op_Param_CMS!$C$24:'Deviations_Op_Param_CMS'!$C$500,$C78,Deviations_Op_Param_CMS!$F$24:'Deviations_Op_Param_CMS'!$F$500,$D78,Deviations_Op_Param_CMS!$M$24:'Deviations_Op_Param_CMS'!$M$500,\"Other Known Causes\"))","v":""},{"$f":"IF($C78=\"\",\"\",SUMIFS(Deviations_Op_Param_CMS!$K$24:'Deviations_Op_Param_CMS'!$K$500,Deviations_Op_Param_CMS!$B$24:'Deviations_Op_Param_CMS'!$B$500,$B78,Deviations_Op_Param_CMS!$C$24:'Deviations_Op_Param_CMS'!$C$500,$C78,Deviations_Op_Param_CMS!$F$24:'Deviations_Op_Param_CMS'!$F$500,$D78,Deviations_Op_Param_CMS!$M$24:'Deviations_Op_Param_CMS'!$M$500,\"Other Unknown Causes\"))","v":""},{"$f":"IF($C78=\"\",\"\",SUMIFS(Deviations_Op_Param_CMS!$K$24:'Deviations_Op_Param_CMS'!$K$500,Deviations_Op_Param_CMS!$B$24:'Deviations_Op_Param_CMS'!$B$500,$B78,Deviations_Op_Param_CMS!$C$24:'Deviations_Op_Param_CMS'!$C$500,$C78,Deviations_Op_Param_CMS!$F$24:'Deviations_Op_Param_CMS'!$F$500,$D78))","v":""},"",{"$f":"IF($C78=\"\",\"\",COUNTIFS(Deviations_Op_Param_CMS!$B$24:'Deviations_Op_Param_CMS'!$B$500,$B78,Deviations_Op_Param_CMS!$C$24:'Deviations_Op_Param_CMS'!$C$500,$C78,Deviations_Op_Param_CMS!$F$24:'Deviations_Op_Param_CMS'!$F$500,$D78))","v":""}]
[null,{"$f":"IF(OpParam_Deviation_CMS_Data!I58=\"\",\"\",OpParam_Deviation_CMS_Data!I58)","v":""},{"$f":"IF(OpParam_Deviation_CMS_Data!J58=\"\",\"\",OpParam_Deviation_CMS_Data!J58)","v":""},{"$f":"IF(OpParam_Deviation_CMS_Data!K58=\"\",\"\",OpParam_Deviation_CMS_Data!K58)","v":""},{"$f":"IF(OpParam_Deviation_CMS_Data!L58=\"\",\"\",OpParam_Deviation_CMS_Data!L58)","v":""},{"$f":"IF($C79=\"\",\"\",SUMIFS(Deviations_Op_Param_CMS!$K$24:'Deviations_Op_Param_CMS'!$K$500,Deviations_Op_Param_CMS!$B$24:'Deviations_Op_Param_CMS'!$B$500,$B79,Deviations_Op_Param_CMS!$C$24:'Deviations_Op_Param_CMS'!$C$500,$C79,Deviations_Op_Param_CMS!$F$24:'Deviations_Op_Param_CMS'!$F$500,$D79,Deviations_Op_Param_CMS!$M$24:'Deviations_Op_Param_CMS'!$M$500,\"Startup\"))","v":""},{"$f":"IF($C79=\"\",\"\",SUMIFS(Deviations_Op_Param_CMS!$K$24:'Deviations_Op_Param_CMS'!$K$500,Deviations_Op_Param_CMS!$B$24:'Deviations_Op_Param_CMS'!$B$500,$B79,Deviations_Op_Param_CMS!$C$24:'Deviations_Op_Param_CMS'!$C$500,$C79,Deviations_Op_Param_CMS!$F$24:'Deviations_Op_Param_CMS'!$F$500,$D79,Deviations_Op_Param_CMS!$M$24:'Deviations_Op_Param_CMS'!$M$500,\"Shutdown\"))","v":""},{"$f":"IF($C79=\"\",\"\",SUMIFS(Deviations_Op_Param_CMS!$K$24:'Deviations_Op_Param_CMS'!$K$500,Deviations_Op_Param_CMS!$B$24:'Deviations_Op_Param_CMS'!$B$500,$B79,Deviations_Op_Param_CMS!$C$24:'Deviations_Op_Param_CMS'!$C$500,$C79,Deviations_Op_Param_CMS!$F$24:'Deviations_Op_Param_CMS'!$F$500,$D79,Deviations_Op_Param_CMS!$M$24:'Deviations_Op_Param_CMS'!$M$500,\"Control Equipment Problems\"))","v":""},{"$f":"IF($C79=\"\",\"\",SUMIFS(Deviations_Op_Param_CMS!$K$24:'Deviations_Op_Param_CMS'!$K$500,Deviations_Op_Param_CMS!$B$24:'Deviations_Op_Param_CMS'!$B$500,$B79,Deviations_Op_Param_CMS!$C$24:'Deviations_Op_Param_CMS'!$C$500,$C79,Deviations_Op_Param_CMS!$F$24:'Deviations_Op_Param_CMS'!$F$500,$D79,Deviations_Op_Param_CMS!$M$24:'Deviations_Op_Param_CMS'!$M$500,\"Process Problems\"))","v":""},{"$f":"IF($C79=\"\",\"\",SUMIFS(Deviations_Op_Param_CMS!$K$24:'Deviations_Op_Param_CMS'!$K$500,Deviations_Op_Param_CMS!$B$24:'Deviations_Op_Param_CMS'!$B$500,$B79,Deviations_Op_Param_CMS!$C$24:'Deviations_Op_Param_CMS'!$C$500,$C79,Deviations_Op_Param_CMS!$F$24:'Deviations_Op_Param_CMS'!$F$500,$D79,Deviations_Op_Param_CMS!$M$24:'Deviations_Op_Param_CMS'!$M$500,\"Other Known Causes\"))","v":""},{"$f":"IF($C79=\"\",\"\",SUMIFS(Deviations_Op_Param_CMS!$K$24:'Deviations_Op_Param_CMS'!$K$500,Deviations_Op_Param_CMS!$B$24:'Deviations_Op_Param_CMS'!$B$500,$B79,Deviations_Op_Param_CMS!$C$24:'Deviations_Op_Param_CMS'!$C$500,$C79,Deviations_Op_Param_CMS!$F$24:'Deviations_Op_Param_CMS'!$F$500,$D79,Deviations_Op_Param_CMS!$M$24:'Deviations_Op_Param_CMS'!$M$500,\"Other Unknown Causes\"))","v":""},{"$f":"IF($C79=\"\",\"\",SUMIFS(Deviations_Op_Param_CMS!$K$24:'Deviations_Op_Param_CMS'!$K$500,Deviations_Op_Param_CMS!$B$24:'Deviations_Op_Param_CMS'!$B$500,$B79,Deviations_Op_Param_CMS!$C$24:'Deviations_Op_Param_CMS'!$C$500,$C79,Deviations_Op_Param_CMS!$F$24:'Deviations_Op_Param_CMS'!$F$500,$D79))","v":""},"",{"$f":"IF($C79=\"\",\"\",COUNTIFS(Deviations_Op_Param_CMS!$B$24:'Deviations_Op_Param_CMS'!$B$500,$B79,Deviations_Op_Param_CMS!$C$24:'Deviations_Op_Param_CMS'!$C$500,$C79,Deviations_Op_Param_CMS!$F$24:'Deviations_Op_Param_CMS'!$F$500,$D79))","v":""}]
[null,{"$f":"IF(OpParam_Deviation_CMS_Data!I59=\"\",\"\",OpParam_Deviation_CMS_Data!I59)","v":""},{"$f":"IF(OpParam_Deviation_CMS_Data!J59=\"\",\"\",OpParam_Deviation_CMS_Data!J59)","v":""},{"$f":"IF(OpParam_Deviation_CMS_Data!K59=\"\",\"\",OpParam_Deviation_CMS_Data!K59)","v":""},{"$f":"IF(OpParam_Deviation_CMS_Data!L59=\"\",\"\",OpParam_Deviation_CMS_Data!L59)","v":""},{"$f":"IF($C80=\"\",\"\",SUMIFS(Deviations_Op_Param_CMS!$K$24:'Deviations_Op_Param_CMS'!$K$500,Deviations_Op_Param_CMS!$B$24:'Deviations_Op_Param_CMS'!$B$500,$B80,Deviations_Op_Param_CMS!$C$24:'Deviations_Op_Param_CMS'!$C$500,$C80,Deviations_Op_Param_CMS!$F$24:'Deviations_Op_Param_CMS'!$F$500,$D80,Deviations_Op_Param_CMS!$M$24:'Deviations_Op_Param_CMS'!$M$500,\"Startup\"))","v":""},{"$f":"IF($C80=\"\",\"\",SUMIFS(Deviations_Op_Param_CMS!$K$24:'Deviations_Op_Param_CMS'!$K$500,Deviations_Op_Param_CMS!$B$24:'Deviations_Op_Param_CMS'!$B$500,$B80,Deviations_Op_Param_CMS!$C$24:'Deviations_Op_Param_CMS'!$C$500,$C80,Deviations_Op_Param_CMS!$F$24:'Deviations_Op_Param_CMS'!$F$500,$D80,Deviations_Op_Param_CMS!$M$24:'Deviations_Op_Param_CMS'!$M$500,\"Shutdown\"))","v":""},{"$f":"IF($C80=\"\",\"\",SUMIFS(Deviations_Op_Param_CMS!$K$24:'Deviations_Op_Param_CMS'!$K$500,Deviations_Op_Param_CMS!$B$24:'Deviations_Op_Param_CMS'!$B$500,$B80,Deviations_Op_Param_CMS!$C$24:'Deviations_Op_Param_CMS'!$C$500,$C80,Deviations_Op_Param_CMS!$F$24:'Deviations_Op_Param_CMS'!$F$500,$D80,Deviations_Op_Param_CMS!$M$24:'Deviations_Op_Param_CMS'!$M$500,\"Control Equipment Problems\"))","v":""},{"$f":"IF($C80=\"\",\"\",SUMIFS(Deviations_Op_Param_CMS!$K$24:'Deviations_Op_Param_CMS'!$K$500,Deviations_Op_Param_CMS!$B$24:'Deviations_Op_Param_CMS'!$B$500,$B80,Deviations_Op_Param_CMS!$C$24:'Deviations_Op_Param_CMS'!$C$500,$C80,Deviations_Op_Param_CMS!$F$24:'Deviations_Op_Param_CMS'!$F$500,$D80,Deviations_Op_Param_CMS!$M$24:'Deviations_Op_Param_CMS'!$M$500,\"Process Problems\"))","v":""},{"$f":"IF($C80=\"\",\"\",SUMIFS(Deviations_Op_Param_CMS!$K$24:'Deviations_Op_Param_CMS'!$K$500,Deviations_Op_Param_CMS!$B$24:'Deviations_Op_Param_CMS'!$B$500,$B80,Deviations_Op_Param_CMS!$C$24:'Deviations_Op_Param_CMS'!$C$500,$C80,Deviations_Op_Param_CMS!$F$24:'Deviations_Op_Param_CMS'!$F$500,$D80,Deviations_Op_Param_CMS!$M$24:'Deviations_Op_Param_CMS'!$M$500,\"Other Known Causes\"))","v":""},{"$f":"IF($C80=\"\",\"\",SUMIFS(Deviations_Op_Param_CMS!$K$24:'Deviations_Op_Param_CMS'!$K$500,Deviations_Op_Param_CMS!$B$24:'Deviations_Op_Param_CMS'!$B$500,$B80,Deviations_Op_Param_CMS!$C$24:'Deviations_Op_Param_CMS'!$C$500,$C80,Deviations_Op_Param_CMS!$F$24:'Deviations_Op_Param_CMS'!$F$500,$D80,Deviations_Op_Param_CMS!$M$24:'Deviations_Op_Param_CMS'!$M$500,\"Other Unknown Causes\"))","v":""},{"$f":"IF($C80=\"\",\"\",SUMIFS(Deviations_Op_Param_CMS!$K$24:'Deviations_Op_Param_CMS'!$K$500,Deviations_Op_Param_CMS!$B$24:'Deviations_Op_Param_CMS'!$B$500,$B80,Deviations_Op_Param_CMS!$C$24:'Deviations_Op_Param_CMS'!$C$500,$C80,Deviations_Op_Param_CMS!$F$24:'Deviations_Op_Param_CMS'!$F$500,$D80))","v":""},"",{"$f":"IF($C80=\"\",\"\",COUNTIFS(Deviations_Op_Param_CMS!$B$24:'Deviations_Op_Param_CMS'!$B$500,$B80,Deviations_Op_Param_CMS!$C$24:'Deviations_Op_Param_CMS'!$C$500,$C80,Deviations_Op_Param_CMS!$F$24:'Deviations_Op_Param_CMS'!$F$500,$D80))","v":""}]
[null,{"$f":"IF(OpParam_Deviation_CMS_Data!I60=\"\",\"\",OpParam_Deviation_CMS_Data!I60)","v":""},{"$f":"IF(OpParam_Deviation_CMS_Data!J60=\"\",\"\",OpParam_Deviation_CMS_Data!J60)","v":""},{"$f":"IF(OpParam_Deviation_CMS_Data!K60=\"\",\"\",OpParam_Deviation_CMS_Data!K60)","v":""},{"$f":"IF(OpParam_Deviation_CMS_Data!L60=\"\",\"\",OpParam_Deviation_CMS_Data!L60)","v":""},{"$f":"IF($C81=\"\",\"\",SUMIFS(Deviations_Op_Param_CMS!$K$24:'Deviations_Op_Param_CMS'!$K$500,Deviations_Op_Param_CMS!$B$24:'Deviations_Op_Param_CMS'!$B$500,$B81,Deviations_Op_Param_CMS!$C$24:'Deviations_Op_Param_CMS'!$C$500,$C81,Deviations_Op_Param_CMS!$F$24:'Deviations_Op_Param_CMS'!$F$500,$D81,Deviations_Op_Param_CMS!$M$24:'Deviations_Op_Param_CMS'!$M$500,\"Startup\"))","v":""},{"$f":"IF($C81=\"\",\"\",SUMIFS(Deviations_Op_Param_CMS!$K$24:'Deviations_Op_Param_CMS'!$K$500,Deviations_Op_Param_CMS!$B$24:'Deviations_Op_Param_CMS'!$B$500,$B81,Deviations_Op_Param_CMS!$C$24:'Deviations_Op_Param_CMS'!$C$500,$C81,Deviations_Op_Param_CMS!$F$24:'Deviations_Op_Param_CMS'!$F$500,$D81,Deviations_Op_Param_CMS!$M$24:'Deviations_Op_Param_CMS'!$M$500,\"Shutdown\"))","v":""},{"$f":"IF($C81=\"\",\"\",SUMIFS(Deviations_Op_Param_CMS!$K$24:'Deviations_Op_Param_CMS'!$K$500,Deviations_Op_Param_CMS!$B$24:'Deviations_Op_Param_CMS'!$B$500,$B81,Deviations_Op_Param_CMS!$C$24:'Deviations_Op_Param_CMS'!$C$500,$C81,Deviations_Op_Param_CMS!$F$24:'Deviations_Op_Param_CMS'!$F$500,$D81,Deviations_Op_Param_CMS!$M$24:'Deviations_Op_Param_CMS'!$M$500,\"Control Equipment Problems\"))","v":""},{"$f":"IF($C81=\"\",\"\",SUMIFS(Deviations_Op_Param_CMS!$K$24:'Deviations_Op_Param_CMS'!$K$500,Deviations_Op_Param_CMS!$B$24:'Deviations_Op_Param_CMS'!$B$500,$B81,Deviations_Op_Param_CMS!$C$24:'Deviations_Op_Param_CMS'!$C$500,$C81,Deviations_Op_Param_CMS!$F$24:'Deviations_Op_Param_CMS'!$F$500,$D81,Deviations_Op_Param_CMS!$M$24:'Deviations_Op_Param_CMS'!$M$500,\"Process Problems\"))","v":""},{"$f":"IF($C81=\"\",\"\",SUMIFS(Deviations_Op_Param_CMS!$K$24:'Deviations_Op_Param_CMS'!$K$500,Deviations_Op_Param_CMS!$B$24:'Deviations_Op_Param_CMS'!$B$500,$B81,Deviations_Op_Param_CMS!$C$24:'Deviations_Op_Param_CMS'!$C$500,$C81,Deviations_Op_Param_CMS!$F$24:'Deviations_Op_Param_CMS'!$F$500,$D81,Deviations_Op_Param_CMS!$M$24:'Deviations_Op_Param_CMS'!$M$500,\"Other Known Causes\"))","v":""},{"$f":"IF($C81=\"\",\"\",SUMIFS(Deviations_Op_Param_CMS!$K$24:'Deviations_Op_Param_CMS'!$K$500,Deviations_Op_Param_CMS!$B$24:'Deviations_Op_Param_CMS'!$B$500,$B81,Deviations_Op_Param_CMS!$C$24:'Deviations_Op_Param_CMS'!$C$500,$C81,Deviations_Op_Param_CMS!$F$24:'Deviations_Op_Param_CMS'!$F$500,$D81,Deviations_Op_Param_CMS!$M$24:'Deviations_Op_Param_CMS'!$M$500,\"Other Unknown Causes\"))","v":""},{"$f":"IF($C81=\"\",\"\",SUMIFS(Deviations_Op_Param_CMS!$K$24:'Deviations_Op_Param_CMS'!$K$500,Deviations_Op_Param_CMS!$B$24:'Deviations_Op_Param_CMS'!$B$500,$B81,Deviations_Op_Param_CMS!$C$24:'Deviations_Op_Param_CMS'!$C$500,$C81,Deviations_Op_Param_CMS!$F$24:'Deviations_Op_Param_CMS'!$F$500,$D81))","v":""},"",{"$f":"IF($C81=\"\",\"\",COUNTIFS(Deviations_Op_Param_CMS!$B$24:'Deviations_Op_Param_CMS'!$B$500,$B81,Deviations_Op_Param_CMS!$C$24:'Deviations_Op_Param_CMS'!$C$500,$C81,Deviations_Op_Param_CMS!$F$24:'Deviations_Op_Param_CMS'!$F$500,$D81))","v":""}]
[null,{"$f":"IF(OpParam_Deviation_CMS_Data!I61=\"\",\"\",OpParam_Deviation_CMS_Data!I61)","v":""},{"$f":"IF(OpParam_Deviation_CMS_Data!J61=\"\",\"\",OpParam_Deviation_CMS_Data!J61)","v":""},{"$f":"IF(OpParam_Deviation_CMS_Data!K61=\"\",\"\",OpParam_Deviation_CMS_Data!K61)","v":""},{"$f":"IF(OpParam_Deviation_CMS_Data!L61=\"\",\"\",OpParam_Deviation_CMS_Data!L61)","v":""},{"$f":"IF($C82=\"\",\"\",SUMIFS(Deviations_Op_Param_CMS!$K$24:'Deviations_Op_Param_CMS'!$K$500,Deviations_Op_Param_CMS!$B$24:'Deviations_Op_Param_CMS'!$B$500,$B82,Deviations_Op_Param_CMS!$C$24:'Deviations_Op_Param_CMS'!$C$500,$C82,Deviations_Op_Param_CMS!$F$24:'Deviations_Op_Param_CMS'!$F$500,$D82,Deviations_Op_Param_CMS!$M$24:'Deviations_Op_Param_CMS'!$M$500,\"Startup\"))","v":""},{"$f":"IF($C82=\"\",\"\",SUMIFS(Deviations_Op_Param_CMS!$K$24:'Deviations_Op_Param_CMS'!$K$500,Deviations_Op_Param_CMS!$B$24:'Deviations_Op_Param_CMS'!$B$500,$B82,Deviations_Op_Param_CMS!$C$24:'Deviations_Op_Param_CMS'!$C$500,$C82,Deviations_Op_Param_CMS!$F$24:'Deviations_Op_Param_CMS'!$F$500,$D82,Deviations_Op_Param_CMS!$M$24:'Deviations_Op_Param_CMS'!$M$500,\"Shutdown\"))","v":""},{"$f":"IF($C82=\"\",\"\",SUMIFS(Deviations_Op_Param_CMS!$K$24:'Deviations_Op_Param_CMS'!$K$500,Deviations_Op_Param_CMS!$B$24:'Deviations_Op_Param_CMS'!$B$500,$B82,Deviations_Op_Param_CMS!$C$24:'Deviations_Op_Param_CMS'!$C$500,$C82,Deviations_Op_Param_CMS!$F$24:'Deviations_Op_Param_CMS'!$F$500,$D82,Deviations_Op_Param_CMS!$M$24:'Deviations_Op_Param_CMS'!$M$500,\"Control Equipment Problems\"))","v":""},{"$f":"IF($C82=\"\",\"\",SUMIFS(Deviations_Op_Param_CMS!$K$24:'Deviations_Op_Param_CMS'!$K$500,Deviations_Op_Param_CMS!$B$24:'Deviations_Op_Param_CMS'!$B$500,$B82,Deviations_Op_Param_CMS!$C$24:'Deviations_Op_Param_CMS'!$C$500,$C82,Deviations_Op_Param_CMS!$F$24:'Deviations_Op_Param_CMS'!$F$500,$D82,Deviations_Op_Param_CMS!$M$24:'Deviations_Op_Param_CMS'!$M$500,\"Process Problems\"))","v":""},{"$f":"IF($C82=\"\",\"\",SUMIFS(Deviations_Op_Param_CMS!$K$24:'Deviations_Op_Param_CMS'!$K$500,Deviations_Op_Param_CMS!$B$24:'Deviations_Op_Param_CMS'!$B$500,$B82,Deviations_Op_Param_CMS!$C$24:'Deviations_Op_Param_CMS'!$C$500,$C82,Deviations_Op_Param_CMS!$F$24:'Deviations_Op_Param_CMS'!$F$500,$D82,Deviations_Op_Param_CMS!$M$24:'Deviations_Op_Param_CMS'!$M$500,\"Other Known Causes\"))","v":""},{"$f":"IF($C82=\"\",\"\",SUMIFS(Deviations_Op_Param_CMS!$K$24:'Deviations_Op_Param_CMS'!$K$500,Deviations_Op_Param_CMS!$B$24:'Deviations_Op_Param_CMS'!$B$500,$B82,Deviations_Op_Param_CMS!$C$24:'Deviations_Op_Param_CMS'!$C$500,$C82,Deviations_Op_Param_CMS!$F$24:'Deviations_Op_Param_CMS'!$F$500,$D82,Deviations_Op_Param_CMS!$M$24:'Deviations_Op_Param_CMS'!$M$500,\"Other Unknown Causes\"))","v":""},{"$f":"IF($C82=\"\",\"\",SUMIFS(Deviations_Op_Param_CMS!$K$24:'Deviations_Op_Param_CMS'!$K$500,Deviations_Op_Param_CMS!$B$24:'Deviations_Op_Param_CMS'!$B$500,$B82,Deviations_Op_Param_CMS!$C$24:'Deviations_Op_Param_CMS'!$C$500,$C82,Deviations_Op_Param_CMS!$F$24:'Deviations_Op_Param_CMS'!$F$500,$D82))","v":""},"",{"$f":"IF($C82=\"\",\"\",COUNTIFS(Deviations_Op_Param_CMS!$B$24:'Deviations_Op_Param_CMS'!$B$500,$B82,Deviations_Op_Param_CMS!$C$24:'Deviations_Op_Param_CMS'!$C$500,$C82,Deviations_Op_Param_CMS!$F$24:'Deviations_Op_Param_CMS'!$F$500,$D82))","v":""}]
[null,{"$f":"IF(OpParam_Deviation_CMS_Data!I62=\"\",\"\",OpParam_Deviation_CMS_Data!I62)","v":""},{"$f":"IF(OpParam_Deviation_CMS_Data!J62=\"\",\"\",OpParam_Deviation_CMS_Data!J62)","v":""},{"$f":"IF(OpParam_Deviation_CMS_Data!K62=\"\",\"\",OpParam_Deviation_CMS_Data!K62)","v":""},{"$f":"IF(OpParam_Deviation_CMS_Data!L62=\"\",\"\",OpParam_Deviation_CMS_Data!L62)","v":""},{"$f":"IF($C83=\"\",\"\",SUMIFS(Deviations_Op_Param_CMS!$K$24:'Deviations_Op_Param_CMS'!$K$500,Deviations_Op_Param_CMS!$B$24:'Deviations_Op_Param_CMS'!$B$500,$B83,Deviations_Op_Param_CMS!$C$24:'Deviations_Op_Param_CMS'!$C$500,$C83,Deviations_Op_Param_CMS!$F$24:'Deviations_Op_Param_CMS'!$F$500,$D83,Deviations_Op_Param_CMS!$M$24:'Deviations_Op_Param_CMS'!$M$500,\"Startup\"))","v":""},{"$f":"IF($C83=\"\",\"\",SUMIFS(Deviations_Op_Param_CMS!$K$24:'Deviations_Op_Param_CMS'!$K$500,Deviations_Op_Param_CMS!$B$24:'Deviations_Op_Param_CMS'!$B$500,$B83,Deviations_Op_Param_CMS!$C$24:'Deviations_Op_Param_CMS'!$C$500,$C83,Deviations_Op_Param_CMS!$F$24:'Deviations_Op_Param_CMS'!$F$500,$D83,Deviations_Op_Param_CMS!$M$24:'Deviations_Op_Param_CMS'!$M$500,\"Shutdown\"))","v":""},{"$f":"IF($C83=\"\",\"\",SUMIFS(Deviations_Op_Param_CMS!$K$24:'Deviations_Op_Param_CMS'!$K$500,Deviations_Op_Param_CMS!$B$24:'Deviations_Op_Param_CMS'!$B$500,$B83,Deviations_Op_Param_CMS!$C$24:'Deviations_Op_Param_CMS'!$C$500,$C83,Deviations_Op_Param_CMS!$F$24:'Deviations_Op_Param_CMS'!$F$500,$D83,Deviations_Op_Param_CMS!$M$24:'Deviations_Op_Param_CMS'!$M$500,\"Control Equipment Problems\"))","v":""},{"$f":"IF($C83=\"\",\"\",SUMIFS(Deviations_Op_Param_CMS!$K$24:'Deviations_Op_Param_CMS'!$K$500,Deviations_Op_Param_CMS!$B$24:'Deviations_Op_Param_CMS'!$B$500,$B83,Deviations_Op_Param_CMS!$C$24:'Deviations_Op_Param_CMS'!$C$500,$C83,Deviations_Op_Param_CMS!$F$24:'Deviations_Op_Param_CMS'!$F$500,$D83,Deviations_Op_Param_CMS!$M$24:'Deviations_Op_Param_CMS'!$M$500,\"Process Problems\"))","v":""},{"$f":"IF($C83=\"\",\"\",SUMIFS(Deviations_Op_Param_CMS!$K$24:'Deviations_Op_Param_CMS'!$K$500,Deviations_Op_Param_CMS!$B$24:'Deviations_Op_Param_CMS'!$B$500,$B83,Deviations_Op_Param_CMS!$C$24:'Deviations_Op_Param_CMS'!$C$500,$C83,Deviations_Op_Param_CMS!$F$24:'Deviations_Op_Param_CMS'!$F$500,$D83,Deviations_Op_Param_CMS!$M$24:'Deviations_Op_Param_CMS'!$M$500,\"Other Known Causes\"))","v":""},{"$f":"IF($C83=\"\",\"\",SUMIFS(Deviations_Op_Param_CMS!$K$24:'Deviations_Op_Param_CMS'!$K$500,Deviations_Op_Param_CMS!$B$24:'Deviations_Op_Param_CMS'!$B$500,$B83,Deviations_Op_Param_CMS!$C$24:'Deviations_Op_Param_CMS'!$C$500,$C83,Deviations_Op_Param_CMS!$F$24:'Deviations_Op_Param_CMS'!$F$500,$D83,Deviations_Op_Param_CMS!$M$24:'Deviations_Op_Param_CMS'!$M$500,\"Other Unknown Causes\"))","v":""},{"$f":"IF($C83=\"\",\"\",SUMIFS(Deviations_Op_Param_CMS!$K$24:'Deviations_Op_Param_CMS'!$K$500,Deviations_Op_Param_CMS!$B$24:'Deviations_Op_Param_CMS'!$B$500,$B83,Deviations_Op_Param_CMS!$C$24:'Deviations_Op_Param_CMS'!$C$500,$C83,Deviations_Op_Param_CMS!$F$24:'Deviations_Op_Param_CMS'!$F$500,$D83))","v":""},"",{"$f":"IF($C83=\"\",\"\",COUNTIFS(Deviations_Op_Param_CMS!$B$24:'Deviations_Op_Param_CMS'!$B$500,$B83,Deviations_Op_Param_CMS!$C$24:'Deviations_Op_Param_CMS'!$C$500,$C83,Deviations_Op_Param_CMS!$F$24:'Deviations_Op_Param_CMS'!$F$500,$D83))","v":""}]
[null,{"$f":"IF(OpParam_Deviation_CMS_Data!I63=\"\",\"\",OpParam_Deviation_CMS_Data!I63)","v":""},{"$f":"IF(OpParam_Deviation_CMS_Data!J63=\"\",\"\",OpParam_Deviation_CMS_Data!J63)","v":""},{"$f":"IF(OpParam_Deviation_CMS_Data!K63=\"\",\"\",OpParam_Deviation_CMS_Data!K63)","v":""},{"$f":"IF(OpParam_Deviation_CMS_Data!L63=\"\",\"\",OpParam_Deviation_CMS_Data!L63)","v":""},{"$f":"IF($C84=\"\",\"\",SUMIFS(Deviations_Op_Param_CMS!$K$24:'Deviations_Op_Param_CMS'!$K$500,Deviations_Op_Param_CMS!$B$24:'Deviations_Op_Param_CMS'!$B$500,$B84,Deviations_Op_Param_CMS!$C$24:'Deviations_Op_Param_CMS'!$C$500,$C84,Deviations_Op_Param_CMS!$F$24:'Deviations_Op_Param_CMS'!$F$500,$D84,Deviations_Op_Param_CMS!$M$24:'Deviations_Op_Param_CMS'!$M$500,\"Startup\"))","v":""},{"$f":"IF($C84=\"\",\"\",SUMIFS(Deviations_Op_Param_CMS!$K$24:'Deviations_Op_Param_CMS'!$K$500,Deviations_Op_Param_CMS!$B$24:'Deviations_Op_Param_CMS'!$B$500,$B84,Deviations_Op_Param_CMS!$C$24:'Deviations_Op_Param_CMS'!$C$500,$C84,Deviations_Op_Param_CMS!$F$24:'Deviations_Op_Param_CMS'!$F$500,$D84,Deviations_Op_Param_CMS!$M$24:'Deviations_Op_Param_CMS'!$M$500,\"Shutdown\"))","v":""},{"$f":"IF($C84=\"\",\"\",SUMIFS(Deviations_Op_Param_CMS!$K$24:'Deviations_Op_Param_CMS'!$K$500,Deviations_Op_Param_CMS!$B$24:'Deviations_Op_Param_CMS'!$B$500,$B84,Deviations_Op_Param_CMS!$C$24:'Deviations_Op_Param_CMS'!$C$500,$C84,Deviations_Op_Param_CMS!$F$24:'Deviations_Op_Param_CMS'!$F$500,$D84,Deviations_Op_Param_CMS!$M$24:'Deviations_Op_Param_CMS'!$M$500,\"Control Equipment Problems\"))","v":""},{"$f":"IF($C84=\"\",\"\",SUMIFS(Deviations_Op_Param_CMS!$K$24:'Deviations_Op_Param_CMS'!$K$500,Deviations_Op_Param_CMS!$B$24:'Deviations_Op_Param_CMS'!$B$500,$B84,Deviations_Op_Param_CMS!$C$24:'Deviations_Op_Param_CMS'!$C$500,$C84,Deviations_Op_Param_CMS!$F$24:'Deviations_Op_Param_CMS'!$F$500,$D84,Deviations_Op_Param_CMS!$M$24:'Deviations_Op_Param_CMS'!$M$500,\"Process Problems\"))","v":""},{"$f":"IF($C84=\"\",\"\",SUMIFS(Deviations_Op_Param_CMS!$K$24:'Deviations_Op_Param_CMS'!$K$500,Deviations_Op_Param_CMS!$B$24:'Deviations_Op_Param_CMS'!$B$500,$B84,Deviations_Op_Param_CMS!$C$24:'Deviations_Op_Param_CMS'!$C$500,$C84,Deviations_Op_Param_CMS!$F$24:'Deviations_Op_Param_CMS'!$F$500,$D84,Deviations_Op_Param_CMS!$M$24:'Deviations_Op_Param_CMS'!$M$500,\"Other Known Causes\"))","v":""},{"$f":"IF($C84=\"\",\"\",SUMIFS(Deviations_Op_Param_CMS!$K$24:'Deviations_Op_Param_CMS'!$K$500,Deviations_Op_Param_CMS!$B$24:'Deviations_Op_Param_CMS'!$B$500,$B84,Deviations_Op_Param_CMS!$C$24:'Deviations_Op_Param_CMS'!$C$500,$C84,Deviations_Op_Param_CMS!$F$24:'Deviations_Op_Param_CMS'!$F$500,$D84,Deviations_Op_Param_CMS!$M$24:'Deviations_Op_Param_CMS'!$M$500,\"Other Unknown Causes\"))","v":""},{"$f":"IF($C84=\"\",\"\",SUMIFS(Deviations_Op_Param_CMS!$K$24:'Deviations_Op_Param_CMS'!$K$500,Deviations_Op_Param_CMS!$B$24:'Deviations_Op_Param_CMS'!$B$500,$B84,Deviations_Op_Param_CMS!$C$24:'Deviations_Op_Param_CMS'!$C$500,$C84,Deviations_Op_Param_CMS!$F$24:'Deviations_Op_Param_CMS'!$F$500,$D84))","v":""},"",{"$f":"IF($C84=\"\",\"\",COUNTIFS(Deviations_Op_Param_CMS!$B$24:'Deviations_Op_Param_CMS'!$B$500,$B84,Deviations_Op_Param_CMS!$C$24:'Deviations_Op_Param_CMS'!$C$500,$C84,Deviations_Op_Param_CMS!$F$24:'Deviations_Op_Param_CMS'!$F$500,$D84))","v":""}]
[null,{"$f":"IF(OpParam_Deviation_CMS_Data!I64=\"\",\"\",OpParam_Deviation_CMS_Data!I64)","v":""},{"$f":"IF(OpParam_Deviation_CMS_Data!J64=\"\",\"\",OpParam_Deviation_CMS_Data!J64)","v":""},{"$f":"IF(OpParam_Deviation_CMS_Data!K64=\"\",\"\",OpParam_Deviation_CMS_Data!K64)","v":""},{"$f":"IF(OpParam_Deviation_CMS_Data!L64=\"\",\"\",OpParam_Deviation_CMS_Data!L64)","v":""},{"$f":"IF($C85=\"\",\"\",SUMIFS(Deviations_Op_Param_CMS!$K$24:'Deviations_Op_Param_CMS'!$K$500,Deviations_Op_Param_CMS!$B$24:'Deviations_Op_Param_CMS'!$B$500,$B85,Deviations_Op_Param_CMS!$C$24:'Deviations_Op_Param_CMS'!$C$500,$C85,Deviations_Op_Param_CMS!$F$24:'Deviations_Op_Param_CMS'!$F$500,$D85,Deviations_Op_Param_CMS!$M$24:'Deviations_Op_Param_CMS'!$M$500,\"Startup\"))","v":""},{"$f":"IF($C85=\"\",\"\",SUMIFS(Deviations_Op_Param_CMS!$K$24:'Deviations_Op_Param_CMS'!$K$500,Deviations_Op_Param_CMS!$B$24:'Deviations_Op_Param_CMS'!$B$500,$B85,Deviations_Op_Param_CMS!$C$24:'Deviations_Op_Param_CMS'!$C$500,$C85,Deviations_Op_Param_CMS!$F$24:'Deviations_Op_Param_CMS'!$F$500,$D85,Deviations_Op_Param_CMS!$M$24:'Deviations_Op_Param_CMS'!$M$500,\"Shutdown\"))","v":""},{"$f":"IF($C85=\"\",\"\",SUMIFS(Deviations_Op_Param_CMS!$K$24:'Deviations_Op_Param_CMS'!$K$500,Deviations_Op_Param_CMS!$B$24:'Deviations_Op_Param_CMS'!$B$500,$B85,Deviations_Op_Param_CMS!$C$24:'Deviations_Op_Param_CMS'!$C$500,$C85,Deviations_Op_Param_CMS!$F$24:'Deviations_Op_Param_CMS'!$F$500,$D85,Deviations_Op_Param_CMS!$M$24:'Deviations_Op_Param_CMS'!$M$500,\"Control Equipment Problems\"))","v":""},{"$f":"IF($C85=\"\",\"\",SUMIFS(Deviations_Op_Param_CMS!$K$24:'Deviations_Op_Param_CMS'!$K$500,Deviations_Op_Param_CMS!$B$24:'Deviations_Op_Param_CMS'!$B$500,$B85,Deviations_Op_Param_CMS!$C$24:'Deviations_Op_Param_CMS'!$C$500,$C85,Deviations_Op_Param_CMS!$F$24:'Deviations_Op_Param_CMS'!$F$500,$D85,Deviations_Op_Param_CMS!$M$24:'Deviations_Op_Param_CMS'!$M$500,\"Process Problems\"))","v":""},{"$f":"IF($C85=\"\",\"\",SUMIFS(Deviations_Op_Param_CMS!$K$24:'Deviations_Op_Param_CMS'!$K$500,Deviations_Op_Param_CMS!$B$24:'Deviations_Op_Param_CMS'!$B$500,$B85,Deviations_Op_Param_CMS!$C$24:'Deviations_Op_Param_CMS'!$C$500,$C85,Deviations_Op_Param_CMS!$F$24:'Deviations_Op_Param_CMS'!$F$500,$D85,Deviations_Op_Param_CMS!$M$24:'Deviations_Op_Param_CMS'!$M$500,\"Other Known Causes\"))","v":""},{"$f":"IF($C85=\"\",\"\",SUMIFS(Deviations_Op_Param_CMS!$K$24:'Deviations_Op_Param_CMS'!$K$500,Deviations_Op_Param_CMS!$B$24:'Deviations_Op_Param_CMS'!$B$500,$B85,Deviations_Op_Param_CMS!$C$24:'Deviations_Op_Param_CMS'!$C$500,$C85,Deviations_Op_Param_CMS!$F$24:'Deviations_Op_Param_CMS'!$F$500,$D85,Deviations_Op_Param_CMS!$M$24:'Deviations_Op_Param_CMS'!$M$500,\"Other Unknown Causes\"))","v":""},{"$f":"IF($C85=\"\",\"\",SUMIFS(Deviations_Op_Param_CMS!$K$24:'Deviations_Op_Param_CMS'!$K$500,Deviations_Op_Param_CMS!$B$24:'Deviations_Op_Param_CMS'!$B$500,$B85,Deviations_Op_Param_CMS!$C$24:'Deviations_Op_Param_CMS'!$C$500,$C85,Deviations_Op_Param_CMS!$F$24:'Deviations_Op_Param_CMS'!$F$500,$D85))","v":""},"",{"$f":"IF($C85=\"\",\"\",COUNTIFS(Deviations_Op_Param_CMS!$B$24:'Deviations_Op_Param_CMS'!$B$500,$B85,Deviations_Op_Param_CMS!$C$24:'Deviations_Op_Param_CMS'!$C$500,$C85,Deviations_Op_Param_CMS!$F$24:'Deviations_Op_Param_CMS'!$F$500,$D85))","v":""}]
[null,{"$f":"IF(OpParam_Deviation_CMS_Data!I65=\"\",\"\",OpParam_Deviation_CMS_Data!I65)","v":""},{"$f":"IF(OpParam_Deviation_CMS_Data!J65=\"\",\"\",OpParam_Deviation_CMS_Data!J65)","v":""},{"$f":"IF(OpParam_Deviation_CMS_Data!K65=\"\",\"\",OpParam_Deviation_CMS_Data!K65)","v":""},{"$f":"IF(OpParam_Deviation_CMS_Data!L65=\"\",\"\",OpParam_Deviation_CMS_Data!L65)","v":""},{"$f":"IF($C86=\"\",\"\",SUMIFS(Deviations_Op_Param_CMS!$K$24:'Deviations_Op_Param_CMS'!$K$500,Deviations_Op_Param_CMS!$B$24:'Deviations_Op_Param_CMS'!$B$500,$B86,Deviations_Op_Param_CMS!$C$24:'Deviations_Op_Param_CMS'!$C$500,$C86,Deviations_Op_Param_CMS!$F$24:'Deviations_Op_Param_CMS'!$F$500,$D86,Deviations_Op_Param_CMS!$M$24:'Deviations_Op_Param_CMS'!$M$500,\"Startup\"))","v":""},{"$f":"IF($C86=\"\",\"\",SUMIFS(Deviations_Op_Param_CMS!$K$24:'Deviations_Op_Param_CMS'!$K$500,Deviations_Op_Param_CMS!$B$24:'Deviations_Op_Param_CMS'!$B$500,$B86,Deviations_Op_Param_CMS!$C$24:'Deviations_Op_Param_CMS'!$C$500,$C86,Deviations_Op_Param_CMS!$F$24:'Deviations_Op_Param_CMS'!$F$500,$D86,Deviations_Op_Param_CMS!$M$24:'Deviations_Op_Param_CMS'!$M$500,\"Shutdown\"))","v":""},{"$f":"IF($C86=\"\",\"\",SUMIFS(Deviations_Op_Param_CMS!$K$24:'Deviations_Op_Param_CMS'!$K$500,Deviations_Op_Param_CMS!$B$24:'Deviations_Op_Param_CMS'!$B$500,$B86,Deviations_Op_Param_CMS!$C$24:'Deviations_Op_Param_CMS'!$C$500,$C86,Deviations_Op_Param_CMS!$F$24:'Deviations_Op_Param_CMS'!$F$500,$D86,Deviations_Op_Param_CMS!$M$24:'Deviations_Op_Param_CMS'!$M$500,\"Control Equipment Problems\"))","v":""},{"$f":"IF($C86=\"\",\"\",SUMIFS(Deviations_Op_Param_CMS!$K$24:'Deviations_Op_Param_CMS'!$K$500,Deviations_Op_Param_CMS!$B$24:'Deviations_Op_Param_CMS'!$B$500,$B86,Deviations_Op_Param_CMS!$C$24:'Deviations_Op_Param_CMS'!$C$500,$C86,Deviations_Op_Param_CMS!$F$24:'Deviations_Op_Param_CMS'!$F$500,$D86,Deviations_Op_Param_CMS!$M$24:'Deviations_Op_Param_CMS'!$M$500,\"Process Problems\"))","v":""},{"$f":"IF($C86=\"\",\"\",SUMIFS(Deviations_Op_Param_CMS!$K$24:'Deviations_Op_Param_CMS'!$K$500,Deviations_Op_Param_CMS!$B$24:'Deviations_Op_Param_CMS'!$B$500,$B86,Deviations_Op_Param_CMS!$C$24:'Deviations_Op_Param_CMS'!$C$500,$C86,Deviations_Op_Param_CMS!$F$24:'Deviations_Op_Param_CMS'!$F$500,$D86,Deviations_Op_Param_CMS!$M$24:'Deviations_Op_Param_CMS'!$M$500,\"Other Known Causes\"))","v":""},{"$f":"IF($C86=\"\",\"\",SUMIFS(Deviations_Op_Param_CMS!$K$24:'Deviations_Op_Param_CMS'!$K$500,Deviations_Op_Param_CMS!$B$24:'Deviations_Op_Param_CMS'!$B$500,$B86,Deviations_Op_Param_CMS!$C$24:'Deviations_Op_Param_CMS'!$C$500,$C86,Deviations_Op_Param_CMS!$F$24:'Deviations_Op_Param_CMS'!$F$500,$D86,Deviations_Op_Param_CMS!$M$24:'Deviations_Op_Param_CMS'!$M$500,\"Other Unknown Causes\"))","v":""},{"$f":"IF($C86=\"\",\"\",SUMIFS(Deviations_Op_Param_CMS!$K$24:'Deviations_Op_Param_CMS'!$K$500,Deviations_Op_Param_CMS!$B$24:'Deviations_Op_Param_CMS'!$B$500,$B86,Deviations_Op_Param_CMS!$C$24:'Deviations_Op_Param_CMS'!$C$500,$C86,Deviations_Op_Param_CMS!$F$24:'Deviations_Op_Param_CMS'!$F$500,$D86))","v":""},"",{"$f":"IF($C86=\"\",\"\",COUNTIFS(Deviations_Op_Param_CMS!$B$24:'Deviations_Op_Param_CMS'!$B$500,$B86,Deviations_Op_Param_CMS!$C$24:'Deviations_Op_Param_CMS'!$C$500,$C86,Deviations_Op_Param_CMS!$F$24:'Deviations_Op_Param_CMS'!$F$500,$D86))","v":""}]
[null,{"$f":"IF(OpParam_Deviation_CMS_Data!I66=\"\",\"\",OpParam_Deviation_CMS_Data!I66)","v":""},{"$f":"IF(OpParam_Deviation_CMS_Data!J66=\"\",\"\",OpParam_Deviation_CMS_Data!J66)","v":""},{"$f":"IF(OpParam_Deviation_CMS_Data!K66=\"\",\"\",OpParam_Deviation_CMS_Data!K66)","v":""},{"$f":"IF(OpParam_Deviation_CMS_Data!L66=\"\",\"\",OpParam_Deviation_CMS_Data!L66)","v":""},{"$f":"IF($C87=\"\",\"\",SUMIFS(Deviations_Op_Param_CMS!$K$24:'Deviations_Op_Param_CMS'!$K$500,Deviations_Op_Param_CMS!$B$24:'Deviations_Op_Param_CMS'!$B$500,$B87,Deviations_Op_Param_CMS!$C$24:'Deviations_Op_Param_CMS'!$C$500,$C87,Deviations_Op_Param_CMS!$F$24:'Deviations_Op_Param_CMS'!$F$500,$D87,Deviations_Op_Param_CMS!$M$24:'Deviations_Op_Param_CMS'!$M$500,\"Startup\"))","v":""},{"$f":"IF($C87=\"\",\"\",SUMIFS(Deviations_Op_Param_CMS!$K$24:'Deviations_Op_Param_CMS'!$K$500,Deviations_Op_Param_CMS!$B$24:'Deviations_Op_Param_CMS'!$B$500,$B87,Deviations_Op_Param_CMS!$C$24:'Deviations_Op_Param_CMS'!$C$500,$C87,Deviations_Op_Param_CMS!$F$24:'Deviations_Op_Param_CMS'!$F$500,$D87,Deviations_Op_Param_CMS!$M$24:'Deviations_Op_Param_CMS'!$M$500,\"Shutdown\"))","v":""},{"$f":"IF($C87=\"\",\"\",SUMIFS(Deviations_Op_Param_CMS!$K$24:'Deviations_Op_Param_CMS'!$K$500,Deviations_Op_Param_CMS!$B$24:'Deviations_Op_Param_CMS'!$B$500,$B87,Deviations_Op_Param_CMS!$C$24:'Deviations_Op_Param_CMS'!$C$500,$C87,Deviations_Op_Param_CMS!$F$24:'Deviations_Op_Param_CMS'!$F$500,$D87,Deviations_Op_Param_CMS!$M$24:'Deviations_Op_Param_CMS'!$M$500,\"Control Equipment Problems\"))","v":""},{"$f":"IF($C87=\"\",\"\",SUMIFS(Deviations_Op_Param_CMS!$K$24:'Deviations_Op_Param_CMS'!$K$500,Deviations_Op_Param_CMS!$B$24:'Deviations_Op_Param_CMS'!$B$500,$B87,Deviations_Op_Param_CMS!$C$24:'Deviations_Op_Param_CMS'!$C$500,$C87,Deviations_Op_Param_CMS!$F$24:'Deviations_Op_Param_CMS'!$F$500,$D87,Deviations_Op_Param_CMS!$M$24:'Deviations_Op_Param_CMS'!$M$500,\"Process Problems\"))","v":""},{"$f":"IF($C87=\"\",\"\",SUMIFS(Deviations_Op_Param_CMS!$K$24:'Deviations_Op_Param_CMS'!$K$500,Deviations_Op_Param_CMS!$B$24:'Deviations_Op_Param_CMS'!$B$500,$B87,Deviations_Op_Param_CMS!$C$24:'Deviations_Op_Param_CMS'!$C$500,$C87,Deviations_Op_Param_CMS!$F$24:'Deviations_Op_Param_CMS'!$F$500,$D87,Deviations_Op_Param_CMS!$M$24:'Deviations_Op_Param_CMS'!$M$500,\"Other Known Causes\"))","v":""},{"$f":"IF($C87=\"\",\"\",SUMIFS(Deviations_Op_Param_CMS!$K$24:'Deviations_Op_Param_CMS'!$K$500,Deviations_Op_Param_CMS!$B$24:'Deviations_Op_Param_CMS'!$B$500,$B87,Deviations_Op_Param_CMS!$C$24:'Deviations_Op_Param_CMS'!$C$500,$C87,Deviations_Op_Param_CMS!$F$24:'Deviations_Op_Param_CMS'!$F$500,$D87,Deviations_Op_Param_CMS!$M$24:'Deviations_Op_Param_CMS'!$M$500,\"Other Unknown Causes\"))","v":""},{"$f":"IF($C87=\"\",\"\",SUMIFS(Deviations_Op_Param_CMS!$K$24:'Deviations_Op_Param_CMS'!$K$500,Deviations_Op_Param_CMS!$B$24:'Deviations_Op_Param_CMS'!$B$500,$B87,Deviations_Op_Param_CMS!$C$24:'Deviations_Op_Param_CMS'!$C$500,$C87,Deviations_Op_Param_CMS!$F$24:'Deviations_Op_Param_CMS'!$F$500,$D87))","v":""},"",{"$f":"IF($C87=\"\",\"\",COUNTIFS(Deviations_Op_Param_CMS!$B$24:'Deviations_Op_Param_CMS'!$B$500,$B87,Deviations_Op_Param_CMS!$C$24:'Deviations_Op_Param_CMS'!$C$500,$C87,Deviations_Op_Param_CMS!$F$24:'Deviations_Op_Param_CMS'!$F$500,$D87))","v":""}]
[null,{"$f":"IF(OpParam_Deviation_CMS_Data!I67=\"\",\"\",OpParam_Deviation_CMS_Data!I67)","v":""},{"$f":"IF(OpParam_Deviation_CMS_Data!J67=\"\",\"\",OpParam_Deviation_CMS_Data!J67)","v":""},{"$f":"IF(OpParam_Deviation_CMS_Data!K67=\"\",\"\",OpParam_Deviation_CMS_Data!K67)","v":""},{"$f":"IF(OpParam_Deviation_CMS_Data!L67=\"\",\"\",OpParam_Deviation_CMS_Data!L67)","v":""},{"$f":"IF($C88=\"\",\"\",SUMIFS(Deviations_Op_Param_CMS!$K$24:'Deviations_Op_Param_CMS'!$K$500,Deviations_Op_Param_CMS!$B$24:'Deviations_Op_Param_CMS'!$B$500,$B88,Deviations_Op_Param_CMS!$C$24:'Deviations_Op_Param_CMS'!$C$500,$C88,Deviations_Op_Param_CMS!$F$24:'Deviations_Op_Param_CMS'!$F$500,$D88,Deviations_Op_Param_CMS!$M$24:'Deviations_Op_Param_CMS'!$M$500,\"Startup\"))","v":""},{"$f":"IF($C88=\"\",\"\",SUMIFS(Deviations_Op_Param_CMS!$K$24:'Deviations_Op_Param_CMS'!$K$500,Deviations_Op_Param_CMS!$B$24:'Deviations_Op_Param_CMS'!$B$500,$B88,Deviations_Op_Param_CMS!$C$24:'Deviations_Op_Param_CMS'!$C$500,$C88,Deviations_Op_Param_CMS!$F$24:'Deviations_Op_Param_CMS'!$F$500,$D88,Deviations_Op_Param_CMS!$M$24:'Deviations_Op_Param_CMS'!$M$500,\"Shutdown\"))","v":""},{"$f":"IF($C88=\"\",\"\",SUMIFS(Deviations_Op_Param_CMS!$K$24:'Deviations_Op_Param_CMS'!$K$500,Deviations_Op_Param_CMS!$B$24:'Deviations_Op_Param_CMS'!$B$500,$B88,Deviations_Op_Param_CMS!$C$24:'Deviations_Op_Param_CMS'!$C$500,$C88,Deviations_Op_Param_CMS!$F$24:'Deviations_Op_Param_CMS'!$F$500,$D88,Deviations_Op_Param_CMS!$M$24:'Deviations_Op_Param_CMS'!$M$500,\"Control Equipment Problems\"))","v":""},{"$f":"IF($C88=\"\",\"\",SUMIFS(Deviations_Op_Param_CMS!$K$24:'Deviations_Op_Param_CMS'!$K$500,Deviations_Op_Param_CMS!$B$24:'Deviations_Op_Param_CMS'!$B$500,$B88,Deviations_Op_Param_CMS!$C$24:'Deviations_Op_Param_CMS'!$C$500,$C88,Deviations_Op_Param_CMS!$F$24:'Deviations_Op_Param_CMS'!$F$500,$D88,Deviations_Op_Param_CMS!$M$24:'Deviations_Op_Param_CMS'!$M$500,\"Process Problems\"))","v":""},{"$f":"IF($C88=\"\",\"\",SUMIFS(Deviations_Op_Param_CMS!$K$24:'Deviations_Op_Param_CMS'!$K$500,Deviations_Op_Param_CMS!$B$24:'Deviations_Op_Param_CMS'!$B$500,$B88,Deviations_Op_Param_CMS!$C$24:'Deviations_Op_Param_CMS'!$C$500,$C88,Deviations_Op_Param_CMS!$F$24:'Deviations_Op_Param_CMS'!$F$500,$D88,Deviations_Op_Param_CMS!$M$24:'Deviations_Op_Param_CMS'!$M$500,\"Other Known Causes\"))","v":""},{"$f":"IF($C88=\"\",\"\",SUMIFS(Deviations_Op_Param_CMS!$K$24:'Deviations_Op_Param_CMS'!$K$500,Deviations_Op_Param_CMS!$B$24:'Deviations_Op_Param_CMS'!$B$500,$B88,Deviations_Op_Param_CMS!$C$24:'Deviations_Op_Param_CMS'!$C$500,$C88,Deviations_Op_Param_CMS!$F$24:'Deviations_Op_Param_CMS'!$F$500,$D88,Deviations_Op_Param_CMS!$M$24:'Deviations_Op_Param_CMS'!$M$500,\"Other Unknown Causes\"))","v":""},{"$f":"IF($C88=\"\",\"\",SUMIFS(Deviations_Op_Param_CMS!$K$24:'Deviations_Op_Param_CMS'!$K$500,Deviations_Op_Param_CMS!$B$24:'Deviations_Op_Param_CMS'!$B$500,$B88,Deviations_Op_Param_CMS!$C$24:'Deviations_Op_Param_CMS'!$C$500,$C88,Deviations_Op_Param_CMS!$F$24:'Deviations_Op_Param_CMS'!$F$500,$D88))","v":""},"",{"$f":"IF($C88=\"\",\"\",COUNTIFS(Deviations_Op_Param_CMS!$B$24:'Deviations_Op_Param_CMS'!$B$500,$B88,Deviations_Op_Param_CMS!$C$24:'Deviations_Op_Param_CMS'!$C$500,$C88,Deviations_Op_Param_CMS!$F$24:'Deviations_Op_Param_CMS'!$F$500,$D88))","v":""}]
[null,{"$f":"IF(OpParam_Deviation_CMS_Data!I68=\"\",\"\",OpParam_Deviation_CMS_Data!I68)","v":""},{"$f":"IF(OpParam_Deviation_CMS_Data!J68=\"\",\"\",OpParam_Deviation_CMS_Data!J68)","v":""},{"$f":"IF(OpParam_Deviation_CMS_Data!K68=\"\",\"\",OpParam_Deviation_CMS_Data!K68)","v":""},{"$f":"IF(OpParam_Deviation_CMS_Data!L68=\"\",\"\",OpParam_Deviation_CMS_Data!L68)","v":""},{"$f":"IF($C89=\"\",\"\",SUMIFS(Deviations_Op_Param_CMS!$K$24:'Deviations_Op_Param_CMS'!$K$500,Deviations_Op_Param_CMS!$B$24:'Deviations_Op_Param_CMS'!$B$500,$B89,Deviations_Op_Param_CMS!$C$24:'Deviations_Op_Param_CMS'!$C$500,$C89,Deviations_Op_Param_CMS!$F$24:'Deviations_Op_Param_CMS'!$F$500,$D89,Deviations_Op_Param_CMS!$M$24:'Deviations_Op_Param_CMS'!$M$500,\"Startup\"))","v":""},{"$f":"IF($C89=\"\",\"\",SUMIFS(Deviations_Op_Param_CMS!$K$24:'Deviations_Op_Param_CMS'!$K$500,Deviations_Op_Param_CMS!$B$24:'Deviations_Op_Param_CMS'!$B$500,$B89,Deviations_Op_Param_CMS!$C$24:'Deviations_Op_Param_CMS'!$C$500,$C89,Deviations_Op_Param_CMS!$F$24:'Deviations_Op_Param_CMS'!$F$500,$D89,Deviations_Op_Param_CMS!$M$24:'Deviations_Op_Param_CMS'!$M$500,\"Shutdown\"))","v":""},{"$f":"IF($C89=\"\",\"\",SUMIFS(Deviations_Op_Param_CMS!$K$24:'Deviations_Op_Param_CMS'!$K$500,Deviations_Op_Param_CMS!$B$24:'Deviations_Op_Param_CMS'!$B$500,$B89,Deviations_Op_Param_CMS!$C$24:'Deviations_Op_Param_CMS'!$C$500,$C89,Deviations_Op_Param_CMS!$F$24:'Deviations_Op_Param_CMS'!$F$500,$D89,Deviations_Op_Param_CMS!$M$24:'Deviations_Op_Param_CMS'!$M$500,\"Control Equipment Problems\"))","v":""},{"$f":"IF($C89=\"\",\"\",SUMIFS(Deviations_Op_Param_CMS!$K$24:'Deviations_Op_Param_CMS'!$K$500,Deviations_Op_Param_CMS!$B$24:'Deviations_Op_Param_CMS'!$B$500,$B89,Deviations_Op_Param_CMS!$C$24:'Deviations_Op_Param_CMS'!$C$500,$C89,Deviations_Op_Param_CMS!$F$24:'Deviations_Op_Param_CMS'!$F$500,$D89,Deviations_Op_Param_CMS!$M$24:'Deviations_Op_Param_CMS'!$M$500,\"Process Problems\"))","v":""},{"$f":"IF($C89=\"\",\"\",SUMIFS(Deviations_Op_Param_CMS!$K$24:'Deviations_Op_Param_CMS'!$K$500,Deviations_Op_Param_CMS!$B$24:'Deviations_Op_Param_CMS'!$B$500,$B89,Deviations_Op_Param_CMS!$C$24:'Deviations_Op_Param_CMS'!$C$500,$C89,Deviations_Op_Param_CMS!$F$24:'Deviations_Op_Param_CMS'!$F$500,$D89,Deviations_Op_Param_CMS!$M$24:'Deviations_Op_Param_CMS'!$M$500,\"Other Known Causes\"))","v":""},{"$f":"IF($C89=\"\",\"\",SUMIFS(Deviations_Op_Param_CMS!$K$24:'Deviations_Op_Param_CMS'!$K$500,Deviations_Op_Param_CMS!$B$24:'Deviations_Op_Param_CMS'!$B$500,$B89,Deviations_Op_Param_CMS!$C$24:'Deviations_Op_Param_CMS'!$C$500,$C89,Deviations_Op_Param_CMS!$F$24:'Deviations_Op_Param_CMS'!$F$500,$D89,Deviations_Op_Param_CMS!$M$24:'Deviations_Op_Param_CMS'!$M$500,\"Other Unknown Causes\"))","v":""},{"$f":"IF($C89=\"\",\"\",SUMIFS(Deviations_Op_Param_CMS!$K$24:'Deviations_Op_Param_CMS'!$K$500,Deviations_Op_Param_CMS!$B$24:'Deviations_Op_Param_CMS'!$B$500,$B89,Deviations_Op_Param_CMS!$C$24:'Deviations_Op_Param_CMS'!$C$500,$C89,Deviations_Op_Param_CMS!$F$24:'Deviations_Op_Param_CMS'!$F$500,$D89))","v":""},{"$f":"IF(E89=\"\",\"\",L89/E89)","v":""},{"$f":"IF($C89=\"\",\"\",COUNTIFS(Deviations_Op_Param_CMS!$B$24:'Deviations_Op_Param_CMS'!$B$500,$B89,Deviations_Op_Param_CMS!$C$24:'Deviations_Op_Param_CMS'!$C$500,$C89,Deviations_Op_Param_CMS!$F$24:'Deviations_Op_Param_CMS'!$F$500,$D89))","v":""}]
[null,{"$f":"IF(OpParam_Deviation_CMS_Data!I69=\"\",\"\",OpParam_Deviation_CMS_Data!I69)","v":""},{"$f":"IF(OpParam_Deviation_CMS_Data!J69=\"\",\"\",OpParam_Deviation_CMS_Data!J69)","v":""},{"$f":"IF(OpParam_Deviation_CMS_Data!K69=\"\",\"\",OpParam_Deviation_CMS_Data!K69)","v":""},{"$f":"IF(OpParam_Deviation_CMS_Data!L69=\"\",\"\",OpParam_Deviation_CMS_Data!L69)","v":""},{"$f":"IF($C90=\"\",\"\",SUMIFS(Deviations_Op_Param_CMS!$K$24:'Deviations_Op_Param_CMS'!$K$500,Deviations_Op_Param_CMS!$B$24:'Deviations_Op_Param_CMS'!$B$500,$B90,Deviations_Op_Param_CMS!$C$24:'Deviations_Op_Param_CMS'!$C$500,$C90,Deviations_Op_Param_CMS!$F$24:'Deviations_Op_Param_CMS'!$F$500,$D90,Deviations_Op_Param_CMS!$M$24:'Deviations_Op_Param_CMS'!$M$500,\"Startup\"))","v":""},{"$f":"IF($C90=\"\",\"\",SUMIFS(Deviations_Op_Param_CMS!$K$24:'Deviations_Op_Param_CMS'!$K$500,Deviations_Op_Param_CMS!$B$24:'Deviations_Op_Param_CMS'!$B$500,$B90,Deviations_Op_Param_CMS!$C$24:'Deviations_Op_Param_CMS'!$C$500,$C90,Deviations_Op_Param_CMS!$F$24:'Deviations_Op_Param_CMS'!$F$500,$D90,Deviations_Op_Param_CMS!$M$24:'Deviations_Op_Param_CMS'!$M$500,\"Shutdown\"))","v":""},{"$f":"IF($C90=\"\",\"\",SUMIFS(Deviations_Op_Param_CMS!$K$24:'Deviations_Op_Param_CMS'!$K$500,Deviations_Op_Param_CMS!$B$24:'Deviations_Op_Param_CMS'!$B$500,$B90,Deviations_Op_Param_CMS!$C$24:'Deviations_Op_Param_CMS'!$C$500,$C90,Deviations_Op_Param_CMS!$F$24:'Deviations_Op_Param_CMS'!$F$500,$D90,Deviations_Op_Param_CMS!$M$24:'Deviations_Op_Param_CMS'!$M$500,\"Control Equipment Problems\"))","v":""},{"$f":"IF($C90=\"\",\"\",SUMIFS(Deviations_Op_Param_CMS!$K$24:'Deviations_Op_Param_CMS'!$K$500,Deviations_Op_Param_CMS!$B$24:'Deviations_Op_Param_CMS'!$B$500,$B90,Deviations_Op_Param_CMS!$C$24:'Deviations_Op_Param_CMS'!$C$500,$C90,Deviations_Op_Param_CMS!$F$24:'Deviations_Op_Param_CMS'!$F$500,$D90,Deviations_Op_Param_CMS!$M$24:'Deviations_Op_Param_CMS'!$M$500,\"Process Problems\"))","v":""},{"$f":"IF($C90=\"\",\"\",SUMIFS(Deviations_Op_Param_CMS!$K$24:'Deviations_Op_Param_CMS'!$K$500,Deviations_Op_Param_CMS!$B$24:'Deviations_Op_Param_CMS'!$B$500,$B90,Deviations_Op_Param_CMS!$C$24:'Deviations_Op_Param_CMS'!$C$500,$C90,Deviations_Op_Param_CMS!$F$24:'Deviations_Op_Param_CMS'!$F$500,$D90,Deviations_Op_Param_CMS!$M$24:'Deviations_Op_Param_CMS'!$M$500,\"Other Known Causes\"))","v":""},{"$f":"IF($C90=\"\",\"\",SUMIFS(Deviations_Op_Param_CMS!$K$24:'Deviations_Op_Param_CMS'!$K$500,Deviations_Op_Param_CMS!$B$24:'Deviations_Op_Param_CMS'!$B$500,$B90,Deviations_Op_Param_CMS!$C$24:'Deviations_Op_Param_CMS'!$C$500,$C90,Deviations_Op_Param_CMS!$F$24:'Deviations_Op_Param_CMS'!$F$500,$D90,Deviations_Op_Param_CMS!$M$24:'Deviations_Op_Param_CMS'!$M$500,\"Other Unknown Causes\"))","v":""},{"$f":"IF($C90=\"\",\"\",SUMIFS(Deviations_Op_Param_CMS!$K$24:'Deviations_Op_Param_CMS'!$K$500,Deviations_Op_Param_CMS!$B$24:'Deviations_Op_Param_CMS'!$B$500,$B90,Deviations_Op_Param_CMS!$C$24:'Deviations_Op_Param_CMS'!$C$500,$C90,Deviations_Op_Param_CMS!$F$24:'Deviations_Op_Param_CMS'!$F$500,$D90))","v":""},"",{"$f":"IF($C90=\"\",\"\",COUNTIFS(Deviations_Op_Param_CMS!$B$24:'Deviations_Op_Param_CMS'!$B$500,$B90,Deviations_Op_Param_CMS!$C$24:'Deviations_Op_Param_CMS'!$C$500,$C90,Deviations_Op_Param_CMS!$F$24:'Deviations_Op_Param_CMS'!$F$500,$D90))","v":""}]
[null,{"$f":"IF(OpParam_Deviation_CMS_Data!I70=\"\",\"\",OpParam_Deviation_CMS_Data!I70)","v":""},{"$f":"IF(OpParam_Deviation_CMS_Data!J70=\"\",\"\",OpParam_Deviation_CMS_Data!J70)","v":""},{"$f":"IF(OpParam_Deviation_CMS_Data!K70=\"\",\"\",OpParam_Deviation_CMS_Data!K70)","v":""},{"$f":"IF(OpParam_Deviation_CMS_Data!L70=\"\",\"\",OpParam_Deviation_CMS_Data!L70)","v":""},{"$f":"IF($C91=\"\",\"\",SUMIFS(Deviations_Op_Param_CMS!$K$24:'Deviations_Op_Param_CMS'!$K$500,Deviations_Op_Param_CMS!$B$24:'Deviations_Op_Param_CMS'!$B$500,$B91,Deviations_Op_Param_CMS!$C$24:'Deviations_Op_Param_CMS'!$C$500,$C91,Deviations_Op_Param_CMS!$F$24:'Deviations_Op_Param_CMS'!$F$500,$D91,Deviations_Op_Param_CMS!$M$24:'Deviations_Op_Param_CMS'!$M$500,\"Startup\"))","v":""},{"$f":"IF($C91=\"\",\"\",SUMIFS(Deviations_Op_Param_CMS!$K$24:'Deviations_Op_Param_CMS'!$K$500,Deviations_Op_Param_CMS!$B$24:'Deviations_Op_Param_CMS'!$B$500,$B91,Deviations_Op_Param_CMS!$C$24:'Deviations_Op_Param_CMS'!$C$500,$C91,Deviations_Op_Param_CMS!$F$24:'Deviations_Op_Param_CMS'!$F$500,$D91,Deviations_Op_Param_CMS!$M$24:'Deviations_Op_Param_CMS'!$M$500,\"Shutdown\"))","v":""},{"$f":"IF($C91=\"\",\"\",SUMIFS(Deviations_Op_Param_CMS!$K$24:'Deviations_Op_Param_CMS'!$K$500,Deviations_Op_Param_CMS!$B$24:'Deviations_Op_Param_CMS'!$B$500,$B91,Deviations_Op_Param_CMS!$C$24:'Deviations_Op_Param_CMS'!$C$500,$C91,Deviations_Op_Param_CMS!$F$24:'Deviations_Op_Param_CMS'!$F$500,$D91,Deviations_Op_Param_CMS!$M$24:'Deviations_Op_Param_CMS'!$M$500,\"Control Equipment Problems\"))","v":""},{"$f":"IF($C91=\"\",\"\",SUMIFS(Deviations_Op_Param_CMS!$K$24:'Deviations_Op_Param_CMS'!$K$500,Deviations_Op_Param_CMS!$B$24:'Deviations_Op_Param_CMS'!$B$500,$B91,Deviations_Op_Param_CMS!$C$24:'Deviations_Op_Param_CMS'!$C$500,$C91,Deviations_Op_Param_CMS!$F$24:'Deviations_Op_Param_CMS'!$F$500,$D91,Deviations_Op_Param_CMS!$M$24:'Deviations_Op_Param_CMS'!$M$500,\"Process Problems\"))","v":""},{"$f":"IF($C91=\"\",\"\",SUMIFS(Deviations_Op_Param_CMS!$K$24:'Deviations_Op_Param_CMS'!$K$500,Deviations_Op_Param_CMS!$B$24:'Deviations_Op_Param_CMS'!$B$500,$B91,Deviations_Op_Param_CMS!$C$24:'Deviations_Op_Param_CMS'!$C$500,$C91,Deviations_Op_Param_CMS!$F$24:'Deviations_Op_Param_CMS'!$F$500,$D91,Deviations_Op_Param_CMS!$M$24:'Deviations_Op_Param_CMS'!$M$500,\"Other Known Causes\"))","v":""},{"$f":"IF($C91=\"\",\"\",SUMIFS(Deviations_Op_Param_CMS!$K$24:'Deviations_Op_Param_CMS'!$K$500,Deviations_Op_Param_CMS!$B$24:'Deviations_Op_Param_CMS'!$B$500,$B91,Deviations_Op_Param_CMS!$C$24:'Deviations_Op_Param_CMS'!$C$500,$C91,Deviations_Op_Param_CMS!$F$24:'Deviations_Op_Param_CMS'!$F$500,$D91,Deviations_Op_Param_CMS!$M$24:'Deviations_Op_Param_CMS'!$M$500,\"Other Unknown Causes\"))","v":""},{"$f":"IF($C91=\"\",\"\",SUMIFS(Deviations_Op_Param_CMS!$K$24:'Deviations_Op_Param_CMS'!$K$500,Deviations_Op_Param_CMS!$B$24:'Deviations_Op_Param_CMS'!$B$500,$B91,Deviations_Op_Param_CMS!$C$24:'Deviations_Op_Param_CMS'!$C$500,$C91,Deviations_Op_Param_CMS!$F$24:'Deviations_Op_Param_CMS'!$F$500,$D91))","v":""},"",{"$f":"IF($C91=\"\",\"\",COUNTIFS(Deviations_Op_Param_CMS!$B$24:'Deviations_Op_Param_CMS'!$B$500,$B91,Deviations_Op_Param_CMS!$C$24:'Deviations_Op_Param_CMS'!$C$500,$C91,Deviations_Op_Param_CMS!$F$24:'Deviations_Op_Param_CMS'!$F$500,$D91))","v":""}]
[null,{"$f":"IF(OpParam_Deviation_CMS_Data!I71=\"\",\"\",OpParam_Deviation_CMS_Data!I71)","v":""},{"$f":"IF(OpParam_Deviation_CMS_Data!J71=\"\",\"\",OpParam_Deviation_CMS_Data!J71)","v":""},{"$f":"IF(OpParam_Deviation_CMS_Data!K71=\"\",\"\",OpParam_Deviation_CMS_Data!K71)","v":""},{"$f":"IF(OpParam_Deviation_CMS_Data!L71=\"\",\"\",OpParam_Deviation_CMS_Data!L71)","v":""},{"$f":"IF($C92=\"\",\"\",SUMIFS(Deviations_Op_Param_CMS!$K$24:'Deviations_Op_Param_CMS'!$K$500,Deviations_Op_Param_CMS!$B$24:'Deviations_Op_Param_CMS'!$B$500,$B92,Deviations_Op_Param_CMS!$C$24:'Deviations_Op_Param_CMS'!$C$500,$C92,Deviations_Op_Param_CMS!$F$24:'Deviations_Op_Param_CMS'!$F$500,$D92,Deviations_Op_Param_CMS!$M$24:'Deviations_Op_Param_CMS'!$M$500,\"Startup\"))","v":""},{"$f":"IF($C92=\"\",\"\",SUMIFS(Deviations_Op_Param_CMS!$K$24:'Deviations_Op_Param_CMS'!$K$500,Deviations_Op_Param_CMS!$B$24:'Deviations_Op_Param_CMS'!$B$500,$B92,Deviations_Op_Param_CMS!$C$24:'Deviations_Op_Param_CMS'!$C$500,$C92,Deviations_Op_Param_CMS!$F$24:'Deviations_Op_Param_CMS'!$F$500,$D92,Deviations_Op_Param_CMS!$M$24:'Deviations_Op_Param_CMS'!$M$500,\"Shutdown\"))","v":""},{"$f":"IF($C92=\"\",\"\",SUMIFS(Deviations_Op_Param_CMS!$K$24:'Deviations_Op_Param_CMS'!$K$500,Deviations_Op_Param_CMS!$B$24:'Deviations_Op_Param_CMS'!$B$500,$B92,Deviations_Op_Param_CMS!$C$24:'Deviations_Op_Param_CMS'!$C$500,$C92,Deviations_Op_Param_CMS!$F$24:'Deviations_Op_Param_CMS'!$F$500,$D92,Deviations_Op_Param_CMS!$M$24:'Deviations_Op_Param_CMS'!$M$500,\"Control Equipment Problems\"))","v":""},{"$f":"IF($C92=\"\",\"\",SUMIFS(Deviations_Op_Param_CMS!$K$24:'Deviations_Op_Param_CMS'!$K$500,Deviations_Op_Param_CMS!$B$24:'Deviations_Op_Param_CMS'!$B$500,$B92,Deviations_Op_Param_CMS!$C$24:'Deviations_Op_Param_CMS'!$C$500,$C92,Deviations_Op_Param_CMS!$F$24:'Deviations_Op_Param_CMS'!$F$500,$D92,Deviations_Op_Param_CMS!$M$24:'Deviations_Op_Param_CMS'!$M$500,\"Process Problems\"))","v":""},{"$f":"IF($C92=\"\",\"\",SUMIFS(Deviations_Op_Param_CMS!$K$24:'Deviations_Op_Param_CMS'!$K$500,Deviations_Op_Param_CMS!$B$24:'Deviations_Op_Param_CMS'!$B$500,$B92,Deviations_Op_Param_CMS!$C$24:'Deviations_Op_Param_CMS'!$C$500,$C92,Deviations_Op_Param_CMS!$F$24:'Deviations_Op_Param_CMS'!$F$500,$D92,Deviations_Op_Param_CMS!$M$24:'Deviations_Op_Param_CMS'!$M$500,\"Other Known Causes\"))","v":""},{"$f":"IF($C92=\"\",\"\",SUMIFS(Deviations_Op_Param_CMS!$K$24:'Deviations_Op_Param_CMS'!$K$500,Deviations_Op_Param_CMS!$B$24:'Deviations_Op_Param_CMS'!$B$500,$B92,Deviations_Op_Param_CMS!$C$24:'Deviations_Op_Param_CMS'!$C$500,$C92,Deviations_Op_Param_CMS!$F$24:'Deviations_Op_Param_CMS'!$F$500,$D92,Deviations_Op_Param_CMS!$M$24:'Deviations_Op_Param_CMS'!$M$500,\"Other Unknown Causes\"))","v":""},{"$f":"IF($C92=\"\",\"\",SUMIFS(Deviations_Op_Param_CMS!$K$24:'Deviations_Op_Param_CMS'!$K$500,Deviations_Op_Param_CMS!$B$24:'Deviations_Op_Param_CMS'!$B$500,$B92,Deviations_Op_Param_CMS!$C$24:'Deviations_Op_Param_CMS'!$C$500,$C92,Deviations_Op_Param_CMS!$F$24:'Deviations_Op_Param_CMS'!$F$500,$D92))","v":""},"",{"$f":"IF($C92=\"\",\"\",COUNTIFS(Deviations_Op_Param_CMS!$B$24:'Deviations_Op_Param_CMS'!$B$500,$B92,Deviations_Op_Param_CMS!$C$24:'Deviations_Op_Param_CMS'!$C$500,$C92,Deviations_Op_Param_CMS!$F$24:'Deviations_Op_Param_CMS'!$F$500,$D92))","v":""}]
[null,{"$f":"IF(OpParam_Deviation_CMS_Data!I72=\"\",\"\",OpParam_Deviation_CMS_Data!I72)","v":""},{"$f":"IF(OpParam_Deviation_CMS_Data!J72=\"\",\"\",OpParam_Deviation_CMS_Data!J72)","v":""},{"$f":"IF(OpParam_Deviation_CMS_Data!K72=\"\",\"\",OpParam_Deviation_CMS_Data!K72)","v":""},{"$f":"IF(OpParam_Deviation_CMS_Data!L72=\"\",\"\",OpParam_Deviation_CMS_Data!L72)","v":""},{"$f":"IF($C93=\"\",\"\",SUMIFS(Deviations_Op_Param_CMS!$K$24:'Deviations_Op_Param_CMS'!$K$500,Deviations_Op_Param_CMS!$B$24:'Deviations_Op_Param_CMS'!$B$500,$B93,Deviations_Op_Param_CMS!$C$24:'Deviations_Op_Param_CMS'!$C$500,$C93,Deviations_Op_Param_CMS!$F$24:'Deviations_Op_Param_CMS'!$F$500,$D93,Deviations_Op_Param_CMS!$M$24:'Deviations_Op_Param_CMS'!$M$500,\"Startup\"))","v":""},{"$f":"IF($C93=\"\",\"\",SUMIFS(Deviations_Op_Param_CMS!$K$24:'Deviations_Op_Param_CMS'!$K$500,Deviations_Op_Param_CMS!$B$24:'Deviations_Op_Param_CMS'!$B$500,$B93,Deviations_Op_Param_CMS!$C$24:'Deviations_Op_Param_CMS'!$C$500,$C93,Deviations_Op_Param_CMS!$F$24:'Deviations_Op_Param_CMS'!$F$500,$D93,Deviations_Op_Param_CMS!$M$24:'Deviations_Op_Param_CMS'!$M$500,\"Shutdown\"))","v":""},{"$f":"IF($C93=\"\",\"\",SUMIFS(Deviations_Op_Param_CMS!$K$24:'Deviations_Op_Param_CMS'!$K$500,Deviations_Op_Param_CMS!$B$24:'Deviations_Op_Param_CMS'!$B$500,$B93,Deviations_Op_Param_CMS!$C$24:'Deviations_Op_Param_CMS'!$C$500,$C93,Deviations_Op_Param_CMS!$F$24:'Deviations_Op_Param_CMS'!$F$500,$D93,Deviations_Op_Param_CMS!$M$24:'Deviations_Op_Param_CMS'!$M$500,\"Control Equipment Problems\"))","v":""},{"$f":"IF($C93=\"\",\"\",SUMIFS(Deviations_Op_Param_CMS!$K$24:'Deviations_Op_Param_CMS'!$K$500,Deviations_Op_Param_CMS!$B$24:'Deviations_Op_Param_CMS'!$B$500,$B93,Deviations_Op_Param_CMS!$C$24:'Deviations_Op_Param_CMS'!$C$500,$C93,Deviations_Op_Param_CMS!$F$24:'Deviations_Op_Param_CMS'!$F$500,$D93,Deviations_Op_Param_CMS!$M$24:'Deviations_Op_Param_CMS'!$M$500,\"Process Problems\"))","v":""},{"$f":"IF($C93=\"\",\"\",SUMIFS(Deviations_Op_Param_CMS!$K$24:'Deviations_Op_Param_CMS'!$K$500,Deviations_Op_Param_CMS!$B$24:'Deviations_Op_Param_CMS'!$B$500,$B93,Deviations_Op_Param_CMS!$C$24:'Deviations_Op_Param_CMS'!$C$500,$C93,Deviations_Op_Param_CMS!$F$24:'Deviations_Op_Param_CMS'!$F$500,$D93,Deviations_Op_Param_CMS!$M$24:'Deviations_Op_Param_CMS'!$M$500,\"Other Known Causes\"))","v":""},{"$f":"IF($C93=\"\",\"\",SUMIFS(Deviations_Op_Param_CMS!$K$24:'Deviations_Op_Param_CMS'!$K$500,Deviations_Op_Param_CMS!$B$24:'Deviations_Op_Param_CMS'!$B$500,$B93,Deviations_Op_Param_CMS!$C$24:'Deviations_Op_Param_CMS'!$C$500,$C93,Deviations_Op_Param_CMS!$F$24:'Deviations_Op_Param_CMS'!$F$500,$D93,Deviations_Op_Param_CMS!$M$24:'Deviations_Op_Param_CMS'!$M$500,\"Other Unknown Causes\"))","v":""},{"$f":"IF($C93=\"\",\"\",SUMIFS(Deviations_Op_Param_CMS!$K$24:'Deviations_Op_Param_CMS'!$K$500,Deviations_Op_Param_CMS!$B$24:'Deviations_Op_Param_CMS'!$B$500,$B93,Deviations_Op_Param_CMS!$C$24:'Deviations_Op_Param_CMS'!$C$500,$C93,Deviations_Op_Param_CMS!$F$24:'Deviations_Op_Param_CMS'!$F$500,$D93))","v":""},"",{"$f":"IF($C93=\"\",\"\",COUNTIFS(Deviations_Op_Param_CMS!$B$24:'Deviations_Op_Param_CMS'!$B$500,$B93,Deviations_Op_Param_CMS!$C$24:'Deviations_Op_Param_CMS'!$C$500,$C93,Deviations_Op_Param_CMS!$F$24:'Deviations_Op_Param_CMS'!$F$500,$D93))","v":""}]
[null,{"$f":"IF(OpParam_Deviation_CMS_Data!I73=\"\",\"\",OpParam_Deviation_CMS_Data!I73)","v":""},{"$f":"IF(OpParam_Deviation_CMS_Data!J73=\"\",\"\",OpParam_Deviation_CMS_Data!J73)","v":""},{"$f":"IF(OpParam_Deviation_CMS_Data!K73=\"\",\"\",OpParam_Deviation_CMS_Data!K73)","v":""},{"$f":"IF(OpParam_Deviation_CMS_Data!L73=\"\",\"\",OpParam_Deviation_CMS_Data!L73)","v":""},{"$f":"IF($C94=\"\",\"\",SUMIFS(Deviations_Op_Param_CMS!$K$24:'Deviations_Op_Param_CMS'!$K$500,Deviations_Op_Param_CMS!$B$24:'Deviations_Op_Param_CMS'!$B$500,$B94,Deviations_Op_Param_CMS!$C$24:'Deviations_Op_Param_CMS'!$C$500,$C94,Deviations_Op_Param_CMS!$F$24:'Deviations_Op_Param_CMS'!$F$500,$D94,Deviations_Op_Param_CMS!$M$24:'Deviations_Op_Param_CMS'!$M$500,\"Startup\"))","v":""},{"$f":"IF($C94=\"\",\"\",SUMIFS(Deviations_Op_Param_CMS!$K$24:'Deviations_Op_Param_CMS'!$K$500,Deviations_Op_Param_CMS!$B$24:'Deviations_Op_Param_CMS'!$B$500,$B94,Deviations_Op_Param_CMS!$C$24:'Deviations_Op_Param_CMS'!$C$500,$C94,Deviations_Op_Param_CMS!$F$24:'Deviations_Op_Param_CMS'!$F$500,$D94,Deviations_Op_Param_CMS!$M$24:'Deviations_Op_Param_CMS'!$M$500,\"Shutdown\"))","v":""},{"$f":"IF($C94=\"\",\"\",SUMIFS(Deviations_Op_Param_CMS!$K$24:'Deviations_Op_Param_CMS'!$K$500,Deviations_Op_Param_CMS!$B$24:'Deviations_Op_Param_CMS'!$B$500,$B94,Deviations_Op_Param_CMS!$C$24:'Deviations_Op_Param_CMS'!$C$500,$C94,Deviations_Op_Param_CMS!$F$24:'Deviations_Op_Param_CMS'!$F$500,$D94,Deviations_Op_Param_CMS!$M$24:'Deviations_Op_Param_CMS'!$M$500,\"Control Equipment Problems\"))","v":""},{"$f":"IF($C94=\"\",\"\",SUMIFS(Deviations_Op_Param_CMS!$K$24:'Deviations_Op_Param_CMS'!$K$500,Deviations_Op_Param_CMS!$B$24:'Deviations_Op_Param_CMS'!$B$500,$B94,Deviations_Op_Param_CMS!$C$24:'Deviations_Op_Param_CMS'!$C$500,$C94,Deviations_Op_Param_CMS!$F$24:'Deviations_Op_Param_CMS'!$F$500,$D94,Deviations_Op_Param_CMS!$M$24:'Deviations_Op_Param_CMS'!$M$500,\"Process Problems\"))","v":""},{"$f":"IF($C94=\"\",\"\",SUMIFS(Deviations_Op_Param_CMS!$K$24:'Deviations_Op_Param_CMS'!$K$500,Deviations_Op_Param_CMS!$B$24:'Deviations_Op_Param_CMS'!$B$500,$B94,Deviations_Op_Param_CMS!$C$24:'Deviations_Op_Param_CMS'!$C$500,$C94,Deviations_Op_Param_CMS!$F$24:'Deviations_Op_Param_CMS'!$F$500,$D94,Deviations_Op_Param_CMS!$M$24:'Deviations_Op_Param_CMS'!$M$500,\"Other Known Causes\"))","v":""},{"$f":"IF($C94=\"\",\"\",SUMIFS(Deviations_Op_Param_CMS!$K$24:'Deviations_Op_Param_CMS'!$K$500,Deviations_Op_Param_CMS!$B$24:'Deviations_Op_Param_CMS'!$B$500,$B94,Deviations_Op_Param_CMS!$C$24:'Deviations_Op_Param_CMS'!$C$500,$C94,Deviations_Op_Param_CMS!$F$24:'Deviations_Op_Param_CMS'!$F$500,$D94,Deviations_Op_Param_CMS!$M$24:'Deviations_Op_Param_CMS'!$M$500,\"Other Unknown Causes\"))","v":""},{"$f":"IF($C94=\"\",\"\",SUMIFS(Deviations_Op_Param_CMS!$K$24:'Deviations_Op_Param_CMS'!$K$500,Deviations_Op_Param_CMS!$B$24:'Deviations_Op_Param_CMS'!$B$500,$B94,Deviations_Op_Param_CMS!$C$24:'Deviations_Op_Param_CMS'!$C$500,$C94,Deviations_Op_Param_CMS!$F$24:'Deviations_Op_Param_CMS'!$F$500,$D94))","v":""},"",{"$f":"IF($C94=\"\",\"\",COUNTIFS(Deviations_Op_Param_CMS!$B$24:'Deviations_Op_Param_CMS'!$B$500,$B94,Deviations_Op_Param_CMS!$C$24:'Deviations_Op_Param_CMS'!$C$500,$C94,Deviations_Op_Param_CMS!$F$24:'Deviations_Op_Param_CMS'!$F$500,$D94))","v":""}]
[null,{"$f":"IF(OpParam_Deviation_CMS_Data!I74=\"\",\"\",OpParam_Deviation_CMS_Data!I74)","v":""},{"$f":"IF(OpParam_Deviation_CMS_Data!J74=\"\",\"\",OpParam_Deviation_CMS_Data!J74)","v":""},{"$f":"IF(OpParam_Deviation_CMS_Data!K74=\"\",\"\",OpParam_Deviation_CMS_Data!K74)","v":""},{"$f":"IF(OpParam_Deviation_CMS_Data!L74=\"\",\"\",OpParam_Deviation_CMS_Data!L74)","v":""},{"$f":"IF($C95=\"\",\"\",SUMIFS(Deviations_Op_Param_CMS!$K$24:'Deviations_Op_Param_CMS'!$K$500,Deviations_Op_Param_CMS!$B$24:'Deviations_Op_Param_CMS'!$B$500,$B95,Deviations_Op_Param_CMS!$C$24:'Deviations_Op_Param_CMS'!$C$500,$C95,Deviations_Op_Param_CMS!$F$24:'Deviations_Op_Param_CMS'!$F$500,$D95,Deviations_Op_Param_CMS!$M$24:'Deviations_Op_Param_CMS'!$M$500,\"Startup\"))","v":""},{"$f":"IF($C95=\"\",\"\",SUMIFS(Deviations_Op_Param_CMS!$K$24:'Deviations_Op_Param_CMS'!$K$500,Deviations_Op_Param_CMS!$B$24:'Deviations_Op_Param_CMS'!$B$500,$B95,Deviations_Op_Param_CMS!$C$24:'Deviations_Op_Param_CMS'!$C$500,$C95,Deviations_Op_Param_CMS!$F$24:'Deviations_Op_Param_CMS'!$F$500,$D95,Deviations_Op_Param_CMS!$M$24:'Deviations_Op_Param_CMS'!$M$500,\"Shutdown\"))","v":""},{"$f":"IF($C95=\"\",\"\",SUMIFS(Deviations_Op_Param_CMS!$K$24:'Deviations_Op_Param_CMS'!$K$500,Deviations_Op_Param_CMS!$B$24:'Deviations_Op_Param_CMS'!$B$500,$B95,Deviations_Op_Param_CMS!$C$24:'Deviations_Op_Param_CMS'!$C$500,$C95,Deviations_Op_Param_CMS!$F$24:'Deviations_Op_Param_CMS'!$F$500,$D95,Deviations_Op_Param_CMS!$M$24:'Deviations_Op_Param_CMS'!$M$500,\"Control Equipment Problems\"))","v":""},{"$f":"IF($C95=\"\",\"\",SUMIFS(Deviations_Op_Param_CMS!$K$24:'Deviations_Op_Param_CMS'!$K$500,Deviations_Op_Param_CMS!$B$24:'Deviations_Op_Param_CMS'!$B$500,$B95,Deviations_Op_Param_CMS!$C$24:'Deviations_Op_Param_CMS'!$C$500,$C95,Deviations_Op_Param_CMS!$F$24:'Deviations_Op_Param_CMS'!$F$500,$D95,Deviations_Op_Param_CMS!$M$24:'Deviations_Op_Param_CMS'!$M$500,\"Process Problems\"))","v":""},{"$f":"IF($C95=\"\",\"\",SUMIFS(Deviations_Op_Param_CMS!$K$24:'Deviations_Op_Param_CMS'!$K$500,Deviations_Op_Param_CMS!$B$24:'Deviations_Op_Param_CMS'!$B$500,$B95,Deviations_Op_Param_CMS!$C$24:'Deviations_Op_Param_CMS'!$C$500,$C95,Deviations_Op_Param_CMS!$F$24:'Deviations_Op_Param_CMS'!$F$500,$D95,Deviations_Op_Param_CMS!$M$24:'Deviations_Op_Param_CMS'!$M$500,\"Other Known Causes\"))","v":""},{"$f":"IF($C95=\"\",\"\",SUMIFS(Deviations_Op_Param_CMS!$K$24:'Deviations_Op_Param_CMS'!$K$500,Deviations_Op_Param_CMS!$B$24:'Deviations_Op_Param_CMS'!$B$500,$B95,Deviations_Op_Param_CMS!$C$24:'Deviations_Op_Param_CMS'!$C$500,$C95,Deviations_Op_Param_CMS!$F$24:'Deviations_Op_Param_CMS'!$F$500,$D95,Deviations_Op_Param_CMS!$M$24:'Deviations_Op_Param_CMS'!$M$500,\"Other Unknown Causes\"))","v":""},{"$f":"IF($C95=\"\",\"\",SUMIFS(Deviations_Op_Param_CMS!$K$24:'Deviations_Op_Param_CMS'!$K$500,Deviations_Op_Param_CMS!$B$24:'Deviations_Op_Param_CMS'!$B$500,$B95,Deviations_Op_Param_CMS!$C$24:'Deviations_Op_Param_CMS'!$C$500,$C95,Deviations_Op_Param_CMS!$F$24:'Deviations_Op_Param_CMS'!$F$500,$D95))","v":""},"",{"$f":"IF($C95=\"\",\"\",COUNTIFS(Deviations_Op_Param_CMS!$B$24:'Deviations_Op_Param_CMS'!$B$500,$B95,Deviations_Op_Param_CMS!$C$24:'Deviations_Op_Param_CMS'!$C$500,$C95,Deviations_Op_Param_CMS!$F$24:'Deviations_Op_Param_CMS'!$F$500,$D95))","v":""}]
[null,{"$f":"IF(OpParam_Deviation_CMS_Data!I75=\"\",\"\",OpParam_Deviation_CMS_Data!I75)","v":""},{"$f":"IF(OpParam_Deviation_CMS_Data!J75=\"\",\"\",OpParam_Deviation_CMS_Data!J75)","v":""},{"$f":"IF(OpParam_Deviation_CMS_Data!K75=\"\",\"\",OpParam_Deviation_CMS_Data!K75)","v":""},{"$f":"IF(OpParam_Deviation_CMS_Data!L75=\"\",\"\",OpParam_Deviation_CMS_Data!L75)","v":""},{"$f":"IF($C96=\"\",\"\",SUMIFS(Deviations_Op_Param_CMS!$K$24:'Deviations_Op_Param_CMS'!$K$500,Deviations_Op_Param_CMS!$B$24:'Deviations_Op_Param_CMS'!$B$500,$B96,Deviations_Op_Param_CMS!$C$24:'Deviations_Op_Param_CMS'!$C$500,$C96,Deviations_Op_Param_CMS!$F$24:'Deviations_Op_Param_CMS'!$F$500,$D96,Deviations_Op_Param_CMS!$M$24:'Deviations_Op_Param_CMS'!$M$500,\"Startup\"))","v":""},{"$f":"IF($C96=\"\",\"\",SUMIFS(Deviations_Op_Param_CMS!$K$24:'Deviations_Op_Param_CMS'!$K$500,Deviations_Op_Param_CMS!$B$24:'Deviations_Op_Param_CMS'!$B$500,$B96,Deviations_Op_Param_CMS!$C$24:'Deviations_Op_Param_CMS'!$C$500,$C96,Deviations_Op_Param_CMS!$F$24:'Deviations_Op_Param_CMS'!$F$500,$D96,Deviations_Op_Param_CMS!$M$24:'Deviations_Op_Param_CMS'!$M$500,\"Shutdown\"))","v":""},{"$f":"IF($C96=\"\",\"\",SUMIFS(Deviations_Op_Param_CMS!$K$24:'Deviations_Op_Param_CMS'!$K$500,Deviations_Op_Param_CMS!$B$24:'Deviations_Op_Param_CMS'!$B$500,$B96,Deviations_Op_Param_CMS!$C$24:'Deviations_Op_Param_CMS'!$C$500,$C96,Deviations_Op_Param_CMS!$F$24:'Deviations_Op_Param_CMS'!$F$500,$D96,Deviations_Op_Param_CMS!$M$24:'Deviations_Op_Param_CMS'!$M$500,\"Control Equipment Problems\"))","v":""},{"$f":"IF($C96=\"\",\"\",SUMIFS(Deviations_Op_Param_CMS!$K$24:'Deviations_Op_Param_CMS'!$K$500,Deviations_Op_Param_CMS!$B$24:'Deviations_Op_Param_CMS'!$B$500,$B96,Deviations_Op_Param_CMS!$C$24:'Deviations_Op_Param_CMS'!$C$500,$C96,Deviations_Op_Param_CMS!$F$24:'Deviations_Op_Param_CMS'!$F$500,$D96,Deviations_Op_Param_CMS!$M$24:'Deviations_Op_Param_CMS'!$M$500,\"Process Problems\"))","v":""},{"$f":"IF($C96=\"\",\"\",SUMIFS(Deviations_Op_Param_CMS!$K$24:'Deviations_Op_Param_CMS'!$K$500,Deviations_Op_Param_CMS!$B$24:'Deviations_Op_Param_CMS'!$B$500,$B96,Deviations_Op_Param_CMS!$C$24:'Deviations_Op_Param_CMS'!$C$500,$C96,Deviations_Op_Param_CMS!$F$24:'Deviations_Op_Param_CMS'!$F$500,$D96,Deviations_Op_Param_CMS!$M$24:'Deviations_Op_Param_CMS'!$M$500,\"Other Known Causes\"))","v":""},{"$f":"IF($C96=\"\",\"\",SUMIFS(Deviations_Op_Param_CMS!$K$24:'Deviations_Op_Param_CMS'!$K$500,Deviations_Op_Param_CMS!$B$24:'Deviations_Op_Param_CMS'!$B$500,$B96,Deviations_Op_Param_CMS!$C$24:'Deviations_Op_Param_CMS'!$C$500,$C96,Deviations_Op_Param_CMS!$F$24:'Deviations_Op_Param_CMS'!$F$500,$D96,Deviations_Op_Param_CMS!$M$24:'Deviations_Op_Param_CMS'!$M$500,\"Other Unknown Causes\"))","v":""},{"$f":"IF($C96=\"\",\"\",SUMIFS(Deviations_Op_Param_CMS!$K$24:'Deviations_Op_Param_CMS'!$K$500,Deviations_Op_Param_CMS!$B$24:'Deviations_Op_Param_CMS'!$B$500,$B96,Deviations_Op_Param_CMS!$C$24:'Deviations_Op_Param_CMS'!$C$500,$C96,Deviations_Op_Param_CMS!$F$24:'Deviations_Op_Param_CMS'!$F$500,$D96))","v":""},"",{"$f":"IF($C96=\"\",\"\",COUNTIFS(Deviations_Op_Param_CMS!$B$24:'Deviations_Op_Param_CMS'!$B$500,$B96,Deviations_Op_Param_CMS!$C$24:'Deviations_Op_Param_CMS'!$C$500,$C96,Deviations_Op_Param_CMS!$F$24:'Deviations_Op_Param_CMS'!$F$500,$D96))","v":""}]
[null,{"$f":"IF(OpParam_Deviation_CMS_Data!I76=\"\",\"\",OpParam_Deviation_CMS_Data!I76)","v":""},{"$f":"IF(OpParam_Deviation_CMS_Data!J76=\"\",\"\",OpParam_Deviation_CMS_Data!J76)","v":""},{"$f":"IF(OpParam_Deviation_CMS_Data!K76=\"\",\"\",OpParam_Deviation_CMS_Data!K76)","v":""},{"$f":"IF(OpParam_Deviation_CMS_Data!L76=\"\",\"\",OpParam_Deviation_CMS_Data!L76)","v":""},{"$f":"IF($C97=\"\",\"\",SUMIFS(Deviations_Op_Param_CMS!$K$24:'Deviations_Op_Param_CMS'!$K$500,Deviations_Op_Param_CMS!$B$24:'Deviations_Op_Param_CMS'!$B$500,$B97,Deviations_Op_Param_CMS!$C$24:'Deviations_Op_Param_CMS'!$C$500,$C97,Deviations_Op_Param_CMS!$F$24:'Deviations_Op_Param_CMS'!$F$500,$D97,Deviations_Op_Param_CMS!$M$24:'Deviations_Op_Param_CMS'!$M$500,\"Startup\"))","v":""},{"$f":"IF($C97=\"\",\"\",SUMIFS(Deviations_Op_Param_CMS!$K$24:'Deviations_Op_Param_CMS'!$K$500,Deviations_Op_Param_CMS!$B$24:'Deviations_Op_Param_CMS'!$B$500,$B97,Deviations_Op_Param_CMS!$C$24:'Deviations_Op_Param_CMS'!$C$500,$C97,Deviations_Op_Param_CMS!$F$24:'Deviations_Op_Param_CMS'!$F$500,$D97,Deviations_Op_Param_CMS!$M$24:'Deviations_Op_Param_CMS'!$M$500,\"Shutdown\"))","v":""},{"$f":"IF($C97=\"\",\"\",SUMIFS(Deviations_Op_Param_CMS!$K$24:'Deviations_Op_Param_CMS'!$K$500,Deviations_Op_Param_CMS!$B$24:'Deviations_Op_Param_CMS'!$B$500,$B97,Deviations_Op_Param_CMS!$C$24:'Deviations_Op_Param_CMS'!$C$500,$C97,Deviations_Op_Param_CMS!$F$24:'Deviations_Op_Param_CMS'!$F$500,$D97,Deviations_Op_Param_CMS!$M$24:'Deviations_Op_Param_CMS'!$M$500,\"Control Equipment Problems\"))","v":""},{"$f":"IF($C97=\"\",\"\",SUMIFS(Deviations_Op_Param_CMS!$K$24:'Deviations_Op_Param_CMS'!$K$500,Deviations_Op_Param_CMS!$B$24:'Deviations_Op_Param_CMS'!$B$500,$B97,Deviations_Op_Param_CMS!$C$24:'Deviations_Op_Param_CMS'!$C$500,$C97,Deviations_Op_Param_CMS!$F$24:'Deviations_Op_Param_CMS'!$F$500,$D97,Deviations_Op_Param_CMS!$M$24:'Deviations_Op_Param_CMS'!$M$500,\"Process Problems\"))","v":""},{"$f":"IF($C97=\"\",\"\",SUMIFS(Deviations_Op_Param_CMS!$K$24:'Deviations_Op_Param_CMS'!$K$500,Deviations_Op_Param_CMS!$B$24:'Deviations_Op_Param_CMS'!$B$500,$B97,Deviations_Op_Param_CMS!$C$24:'Deviations_Op_Param_CMS'!$C$500,$C97,Deviations_Op_Param_CMS!$F$24:'Deviations_Op_Param_CMS'!$F$500,$D97,Deviations_Op_Param_CMS!$M$24:'Deviations_Op_Param_CMS'!$M$500,\"Other Known Causes\"))","v":""},{"$f":"IF($C97=\"\",\"\",SUMIFS(Deviations_Op_Param_CMS!$K$24:'Deviations_Op_Param_CMS'!$K$500,Deviations_Op_Param_CMS!$B$24:'Deviations_Op_Param_CMS'!$B$500,$B97,Deviations_Op_Param_CMS!$C$24:'Deviations_Op_Param_CMS'!$C$500,$C97,Deviations_Op_Param_CMS!$F$24:'Deviations_Op_Param_CMS'!$F$500,$D97,Deviations_Op_Param_CMS!$M$24:'Deviations_Op_Param_CMS'!$M$500,\"Other Unknown Causes\"))","v":""},{"$f":"IF($C97=\"\",\"\",SUMIFS(Deviations_Op_Param_CMS!$K$24:'Deviations_Op_Param_CMS'!$K$500,Deviations_Op_Param_CMS!$B$24:'Deviations_Op_Param_CMS'!$B$500,$B97,Deviations_Op_Param_CMS!$C$24:'Deviations_Op_Param_CMS'!$C$500,$C97,Deviations_Op_Param_CMS!$F$24:'Deviations_Op_Param_CMS'!$F$500,$D97))","v":""},"",{"$f":"IF($C97=\"\",\"\",COUNTIFS(Deviations_Op_Param_CMS!$B$24:'Deviations_Op_Param_CMS'!$B$500,$B97,Deviations_Op_Param_CMS!$C$24:'Deviations_Op_Param_CMS'!$C$500,$C97,Deviations_Op_Param_CMS!$F$24:'Deviations_Op_Param_CMS'!$F$500,$D97))","v":""}]
[null,{"$f":"IF(OpParam_Deviation_CMS_Data!I77=\"\",\"\",OpParam_Deviation_CMS_Data!I77)","v":""},{"$f":"IF(OpParam_Deviation_CMS_Data!J77=\"\",\"\",OpParam_Deviation_CMS_Data!J77)","v":""},{"$f":"IF(OpParam_Deviation_CMS_Data!K77=\"\",\"\",OpParam_Deviation_CMS_Data!K77)","v":""},{"$f":"IF(OpParam_Deviation_CMS_Data!L77=\"\",\"\",OpParam_Deviation_CMS_Data!L77)","v":""},{"$f":"IF($C98=\"\",\"\",SUMIFS(Deviations_Op_Param_CMS!$K$24:'Deviations_Op_Param_CMS'!$K$500,Deviations_Op_Param_CMS!$B$24:'Deviations_Op_Param_CMS'!$B$500,$B98,Deviations_Op_Param_CMS!$C$24:'Deviations_Op_Param_CMS'!$C$500,$C98,Deviations_Op_Param_CMS!$F$24:'Deviations_Op_Param_CMS'!$F$500,$D98,Deviations_Op_Param_CMS!$M$24:'Deviations_Op_Param_CMS'!$M$500,\"Startup\"))","v":""},{"$f":"IF($C98=\"\",\"\",SUMIFS(Deviations_Op_Param_CMS!$K$24:'Deviations_Op_Param_CMS'!$K$500,Deviations_Op_Param_CMS!$B$24:'Deviations_Op_Param_CMS'!$B$500,$B98,Deviations_Op_Param_CMS!$C$24:'Deviations_Op_Param_CMS'!$C$500,$C98,Deviations_Op_Param_CMS!$F$24:'Deviations_Op_Param_CMS'!$F$500,$D98,Deviations_Op_Param_CMS!$M$24:'Deviations_Op_Param_CMS'!$M$500,\"Shutdown\"))","v":""},{"$f":"IF($C98=\"\",\"\",SUMIFS(Deviations_Op_Param_CMS!$K$24:'Deviations_Op_Param_CMS'!$K$500,Deviations_Op_Param_CMS!$B$24:'Deviations_Op_Param_CMS'!$B$500,$B98,Deviations_Op_Param_CMS!$C$24:'Deviations_Op_Param_CMS'!$C$500,$C98,Deviations_Op_Param_CMS!$F$24:'Deviations_Op_Param_CMS'!$F$500,$D98,Deviations_Op_Param_CMS!$M$24:'Deviations_Op_Param_CMS'!$M$500,\"Control Equipment Problems\"))","v":""},{"$f":"IF($C98=\"\",\"\",SUMIFS(Deviations_Op_Param_CMS!$K$24:'Deviations_Op_Param_CMS'!$K$500,Deviations_Op_Param_CMS!$B$24:'Deviations_Op_Param_CMS'!$B$500,$B98,Deviations_Op_Param_CMS!$C$24:'Deviations_Op_Param_CMS'!$C$500,$C98,Deviations_Op_Param_CMS!$F$24:'Deviations_Op_Param_CMS'!$F$500,$D98,Deviations_Op_Param_CMS!$M$24:'Deviations_Op_Param_CMS'!$M$500,\"Process Problems\"))","v":""},{"$f":"IF($C98=\"\",\"\",SUMIFS(Deviations_Op_Param_CMS!$K$24:'Deviations_Op_Param_CMS'!$K$500,Deviations_Op_Param_CMS!$B$24:'Deviations_Op_Param_CMS'!$B$500,$B98,Deviations_Op_Param_CMS!$C$24:'Deviations_Op_Param_CMS'!$C$500,$C98,Deviations_Op_Param_CMS!$F$24:'Deviations_Op_Param_CMS'!$F$500,$D98,Deviations_Op_Param_CMS!$M$24:'Deviations_Op_Param_CMS'!$M$500,\"Other Known Causes\"))","v":""},{"$f":"IF($C98=\"\",\"\",SUMIFS(Deviations_Op_Param_CMS!$K$24:'Deviations_Op_Param_CMS'!$K$500,Deviations_Op_Param_CMS!$B$24:'Deviations_Op_Param_CMS'!$B$500,$B98,Deviations_Op_Param_CMS!$C$24:'Deviations_Op_Param_CMS'!$C$500,$C98,Deviations_Op_Param_CMS!$F$24:'Deviations_Op_Param_CMS'!$F$500,$D98,Deviations_Op_Param_CMS!$M$24:'Deviations_Op_Param_CMS'!$M$500,\"Other Unknown Causes\"))","v":""},{"$f":"IF($C98=\"\",\"\",SUMIFS(Deviations_Op_Param_CMS!$K$24:'Deviations_Op_Param_CMS'!$K$500,Deviations_Op_Param_CMS!$B$24:'Deviations_Op_Param_CMS'!$B$500,$B98,Deviations_Op_Param_CMS!$C$24:'Deviations_Op_Param_CMS'!$C$500,$C98,Deviations_Op_Param_CMS!$F$24:'Deviations_Op_Param_CMS'!$F$500,$D98))","v":""},"",{"$f":"IF($C98=\"\",\"\",COUNTIFS(Deviations_Op_Param_CMS!$B$24:'Deviations_Op_Param_CMS'!$B$500,$B98,Deviations_Op_Param_CMS!$C$24:'Deviations_Op_Param_CMS'!$C$500,$C98,Deviations_Op_Param_CMS!$F$24:'Deviations_Op_Param_CMS'!$F$500,$D98))","v":""}]
[null,{"$f":"IF(OpParam_Deviation_CMS_Data!I78=\"\",\"\",OpParam_Deviation_CMS_Data!I78)","v":""},{"$f":"IF(OpParam_Deviation_CMS_Data!J78=\"\",\"\",OpParam_Deviation_CMS_Data!J78)","v":""},{"$f":"IF(OpParam_Deviation_CMS_Data!K78=\"\",\"\",OpParam_Deviation_CMS_Data!K78)","v":""},{"$f":"IF(OpParam_Deviation_CMS_Data!L78=\"\",\"\",OpParam_Deviation_CMS_Data!L78)","v":""},{"$f":"IF($C99=\"\",\"\",SUMIFS(Deviations_Op_Param_CMS!$K$24:'Deviations_Op_Param_CMS'!$K$500,Deviations_Op_Param_CMS!$B$24:'Deviations_Op_Param_CMS'!$B$500,$B99,Deviations_Op_Param_CMS!$C$24:'Deviations_Op_Param_CMS'!$C$500,$C99,Deviations_Op_Param_CMS!$F$24:'Deviations_Op_Param_CMS'!$F$500,$D99,Deviations_Op_Param_CMS!$M$24:'Deviations_Op_Param_CMS'!$M$500,\"Startup\"))","v":""},{"$f":"IF($C99=\"\",\"\",SUMIFS(Deviations_Op_Param_CMS!$K$24:'Deviations_Op_Param_CMS'!$K$500,Deviations_Op_Param_CMS!$B$24:'Deviations_Op_Param_CMS'!$B$500,$B99,Deviations_Op_Param_CMS!$C$24:'Deviations_Op_Param_CMS'!$C$500,$C99,Deviations_Op_Param_CMS!$F$24:'Deviations_Op_Param_CMS'!$F$500,$D99,Deviations_Op_Param_CMS!$M$24:'Deviations_Op_Param_CMS'!$M$500,\"Shutdown\"))","v":""},{"$f":"IF($C99=\"\",\"\",SUMIFS(Deviations_Op_Param_CMS!$K$24:'Deviations_Op_Param_CMS'!$K$500,Deviations_Op_Param_CMS!$B$24:'Deviations_Op_Param_CMS'!$B$500,$B99,Deviations_Op_Param_CMS!$C$24:'Deviations_Op_Param_CMS'!$C$500,$C99,Deviations_Op_Param_CMS!$F$24:'Deviations_Op_Param_CMS'!$F$500,$D99,Deviations_Op_Param_CMS!$M$24:'Deviations_Op_Param_CMS'!$M$500,\"Control Equipment Problems\"))","v":""},{"$f":"IF($C99=\"\",\"\",SUMIFS(Deviations_Op_Param_CMS!$K$24:'Deviations_Op_Param_CMS'!$K$500,Deviations_Op_Param_CMS!$B$24:'Deviations_Op_Param_CMS'!$B$500,$B99,Deviations_Op_Param_CMS!$C$24:'Deviations_Op_Param_CMS'!$C$500,$C99,Deviations_Op_Param_CMS!$F$24:'Deviations_Op_Param_CMS'!$F$500,$D99,Deviations_Op_Param_CMS!$M$24:'Deviations_Op_Param_CMS'!$M$500,\"Process Problems\"))","v":""},{"$f":"IF($C99=\"\",\"\",SUMIFS(Deviations_Op_Param_CMS!$K$24:'Deviations_Op_Param_CMS'!$K$500,Deviations_Op_Param_CMS!$B$24:'Deviations_Op_Param_CMS'!$B$500,$B99,Deviations_Op_Param_CMS!$C$24:'Deviations_Op_Param_CMS'!$C$500,$C99,Deviations_Op_Param_CMS!$F$24:'Deviations_Op_Param_CMS'!$F$500,$D99,Deviations_Op_Param_CMS!$M$24:'Deviations_Op_Param_CMS'!$M$500,\"Other Known Causes\"))","v":""},{"$f":"IF($C99=\"\",\"\",SUMIFS(Deviations_Op_Param_CMS!$K$24:'Deviations_Op_Param_CMS'!$K$500,Deviations_Op_Param_CMS!$B$24:'Deviations_Op_Param_CMS'!$B$500,$B99,Deviations_Op_Param_CMS!$C$24:'Deviations_Op_Param_CMS'!$C$500,$C99,Deviations_Op_Param_CMS!$F$24:'Deviations_Op_Param_CMS'!$F$500,$D99,Deviations_Op_Param_CMS!$M$24:'Deviations_Op_Param_CMS'!$M$500,\"Other Unknown Causes\"))","v":""},{"$f":"IF($C99=\"\",\"\",SUMIFS(Deviations_Op_Param_CMS!$K$24:'Deviations_Op_Param_CMS'!$K$500,Deviations_Op_Param_CMS!$B$24:'Deviations_Op_Param_CMS'!$B$500,$B99,Deviations_Op_Param_CMS!$C$24:'Deviations_Op_Param_CMS'!$C$500,$C99,Deviations_Op_Param_CMS!$F$24:'Deviations_Op_Param_CMS'!$F$500,$D99))","v":""},"",{"$f":"IF($C99=\"\",\"\",COUNTIFS(Deviations_Op_Param_CMS!$B$24:'Deviations_Op_Param_CMS'!$B$500,$B99,Deviations_Op_Param_CMS!$C$24:'Deviations_Op_Param_CMS'!$C$500,$C99,Deviations_Op_Param_CMS!$F$24:'Deviations_Op_Param_CMS'!$F$500,$D99))","v":""}]
[null,{"$f":"IF(OpParam_Deviation_CMS_Data!I79=\"\",\"\",OpParam_Deviation_CMS_Data!I79)","v":""},{"$f":"IF(OpParam_Deviation_CMS_Data!J79=\"\",\"\",OpParam_Deviation_CMS_Data!J79)","v":""},{"$f":"IF(OpParam_Deviation_CMS_Data!K79=\"\",\"\",OpParam_Deviation_CMS_Data!K79)","v":""},{"$f":"IF(OpParam_Deviation_CMS_Data!L79=\"\",\"\",OpParam_Deviation_CMS_Data!L79)","v":""},{"$f":"IF($C100=\"\",\"\",SUMIFS(Deviations_Op_Param_CMS!$K$24:'Deviations_Op_Param_CMS'!$K$500,Deviations_Op_Param_CMS!$B$24:'Deviations_Op_Param_CMS'!$B$500,$B100,Deviations_Op_Param_CMS!$C$24:'Deviations_Op_Param_CMS'!$C$500,$C100,Deviations_Op_Param_CMS!$F$24:'Deviations_Op_Param_CMS'!$F$500,$D100,Deviations_Op_Param_CMS!$M$24:'Deviations_Op_Param_CMS'!$M$500,\"Startup\"))","v":""},{"$f":"IF($C100=\"\",\"\",SUMIFS(Deviations_Op_Param_CMS!$K$24:'Deviations_Op_Param_CMS'!$K$500,Deviations_Op_Param_CMS!$B$24:'Deviations_Op_Param_CMS'!$B$500,$B100,Deviations_Op_Param_CMS!$C$24:'Deviations_Op_Param_CMS'!$C$500,$C100,Deviations_Op_Param_CMS!$F$24:'Deviations_Op_Param_CMS'!$F$500,$D100,Deviations_Op_Param_CMS!$M$24:'Deviations_Op_Param_CMS'!$M$500,\"Shutdown\"))","v":""},{"$f":"IF($C100=\"\",\"\",SUMIFS(Deviations_Op_Param_CMS!$K$24:'Deviations_Op_Param_CMS'!$K$500,Deviations_Op_Param_CMS!$B$24:'Deviations_Op_Param_CMS'!$B$500,$B100,Deviations_Op_Param_CMS!$C$24:'Deviations_Op_Param_CMS'!$C$500,$C100,Deviations_Op_Param_CMS!$F$24:'Deviations_Op_Param_CMS'!$F$500,$D100,Deviations_Op_Param_CMS!$M$24:'Deviations_Op_Param_CMS'!$M$500,\"Control Equipment Problems\"))","v":""},{"$f":"IF($C100=\"\",\"\",SUMIFS(Deviations_Op_Param_CMS!$K$24:'Deviations_Op_Param_CMS'!$K$500,Deviations_Op_Param_CMS!$B$24:'Deviations_Op_Param_CMS'!$B$500,$B100,Deviations_Op_Param_CMS!$C$24:'Deviations_Op_Param_CMS'!$C$500,$C100,Deviations_Op_Param_CMS!$F$24:'Deviations_Op_Param_CMS'!$F$500,$D100,Deviations_Op_Param_CMS!$M$24:'Deviations_Op_Param_CMS'!$M$500,\"Process Problems\"))","v":""},{"$f":"IF($C100=\"\",\"\",SUMIFS(Deviations_Op_Param_CMS!$K$24:'Deviations_Op_Param_CMS'!$K$500,Deviations_Op_Param_CMS!$B$24:'Deviations_Op_Param_CMS'!$B$500,$B100,Deviations_Op_Param_CMS!$C$24:'Deviations_Op_Param_CMS'!$C$500,$C100,Deviations_Op_Param_CMS!$F$24:'Deviations_Op_Param_CMS'!$F$500,$D100,Deviations_Op_Param_CMS!$M$24:'Deviations_Op_Param_CMS'!$M$500,\"Other Known Causes\"))","v":""},{"$f":"IF($C100=\"\",\"\",SUMIFS(Deviations_Op_Param_CMS!$K$24:'Deviations_Op_Param_CMS'!$K$500,Deviations_Op_Param_CMS!$B$24:'Deviations_Op_Param_CMS'!$B$500,$B100,Deviations_Op_Param_CMS!$C$24:'Deviations_Op_Param_CMS'!$C$500,$C100,Deviations_Op_Param_CMS!$F$24:'Deviations_Op_Param_CMS'!$F$500,$D100,Deviations_Op_Param_CMS!$M$24:'Deviations_Op_Param_CMS'!$M$500,\"Other Unknown Causes\"))","v":""},{"$f":"IF($C100=\"\",\"\",SUMIFS(Deviations_Op_Param_CMS!$K$24:'Deviations_Op_Param_CMS'!$K$500,Deviations_Op_Param_CMS!$B$24:'Deviations_Op_Param_CMS'!$B$500,$B100,Deviations_Op_Param_CMS!$C$24:'Deviations_Op_Param_CMS'!$C$500,$C100,Deviations_Op_Param_CMS!$F$24:'Deviations_Op_Param_CMS'!$F$500,$D100))","v":""},"",{"$f":"IF($C100=\"\",\"\",COUNTIFS(Deviations_Op_Param_CMS!$B$24:'Deviations_Op_Param_CMS'!$B$500,$B100,Deviations_Op_Param_CMS!$C$24:'Deviations_Op_Param_CMS'!$C$500,$C100,Deviations_Op_Param_CMS!$F$24:'Deviations_Op_Param_CMS'!$F$500,$D100))","v":""}]

{"sheet":"Emission_Estimate","index":15,"n_rows":100,"n_cols":14,"rows_kept":100,"cut":false,"hidden":false,"merged":[]}
[null,null,"DO NOT REMOVE OR EDIT INFORMATION IN ROWS 1 THROUGH 5\nFOR INTERNAL USE ONLY"]
[null,null,"Template Name"]
[null,null,"CitationID"]
[null,null,"Template Version"]
[null,null,"Last Updated Date"]
[]
[null,"40 CFR Part 63, Subpart JJJJ National Emission Standards for Hazardous Air Pollutants: Paper and Other Web Coating - §63.3400 Semiannual Compliance Report Spreadsheet Template",null,null,null,null,null," "]
[]
[]
[]
[]
[null,"Company Record No.\n(Autocompleted)","Affected Source\n(§63.3400(c)(2)(v) and (vi))\n(Autocompleted)","Company Record No. and Affected Source\n(Select from Dropdown)","Month of Emissions Exceedance\n(§63.3400(c)(2)(v)(C) and (vi)(K))","Name of Each Pollutant Emitted Over Emission Limit\n(§63.3400(c)(2)(v)(C) and (vi)(K))","Total Organic HAP Emissions per Kilogram of Coating Material Applied (kg/kg)\n(§63.3400(c)(2)(v)(C) or (vi)(K))\n(§63.3320(b)(1) and (2))","Total Organic HAP Emissions per Kilogram of Coating Solid Applied (kg/kg)\n(§63.3400(c)(2)(v)(C) or (vi)(K))\n(§63.3320(b)(1) and (3))","Total Organic HAP emissions (ppmv)\n(Oxidizer-control systems only)\n(§63.3400(c)(2)(v)(C) and (vi)(K))\n(§63.3320(b)(4))","Total Control Device Destruction Efficiency\n(%)","Quantity of Pollutant Emitted Over Emission Limit\n(kg HAP)\n(§63.3400(c)(2)(v)(C) and (vi)(K))","Description of the Method Used to Estimate Emissions\n(§63.3400(c)(2)(v)(C) and (vi)(K))",null," "]
[null,"RecordId","WebcoatId_EE","RecordWebcoat_EE","Month_EE","Pollutant_EE","HAPkgCoatingMat_EE","HAPkgCoatingSolid_EE","TotalHAPppm_EE","DestructionEfficiency_EE","Quantity_EE","Method_EE"]
[null,"e.g.: 1","e.g.: Group 1","e.g.:  1 - Group 1","e.g.: March","e.g.: Organic HAP","e.g.: 0.06 (limit is 0.04)","e.g.:","e.g.:","e.g.:","e.g.: 0.02","e.g.: Mass balance equation"]
[null,"e.g.: 1","e.g.: Group 1","e.g.:  1 - Group 1","e.g.: April","e.g.: Organic HAP","e.g.:","e.g.: 0.9 (limit is 0.2)","e.g.:","e.g.:","e.g.: 0.7","e.g.: Mass balance equation"]
[null,"e.g.: 1","e.g.: Group 1","e.g.:  1 - Group 1","e.g.: May","e.g.: Organic HAP","e.g.:","e.g.:","e.g. 24 (limit is 20)","e.g.: 98.34%","e.g.: 4","e.g.: RTO outlet monitoring"]
[null,"e.g.:","e.g.:","e.g.:","e.g.:","e.g.:","e.g.:","e.g.:","e.g.:","e.g.:","e.g.:","e.g.:"]
[null,"e.g.:","e.g.:","e.g.:","e.g.:","e.g.:","e.g.:","e.g.:","e.g.:","e.g.:","e.g.:","e.g.:"]
[null,"e.g.:","e.g.:","e.g.:","e.g.:","e.g.:","e.g.:","e.g.:","e.g.:","e.g.:","e.g.:","e.g.:"]
[null,"e.g.:","e.g.:","e.g.:","e.g.:","e.g.:","e.g.:","e.g.:","e.g.:","e.g.:","e.g.:","e.g.:"]
[null,"e.g.:","e.g.:","e.g.:","e.g.:","e.g.:","e.g.:","e.g.:","e.g.:","e.g.:","e.g.:","e.g.:"]
[null,"e.g.:","e.g.:","e.g.:","e.g.:","e.g.:","e.g.:","e.g.:","e.g.:","e.g.:","e.g.:","e.g.:"]
[null,"e.g.:","e.g.:","e.g.:","e.g.:","e.g.:","e.g.:","e.g.:","e.g.:","e.g.:","e.g.:","e.g.:"]
[null,{"$f":"IF(D24=\"\",\"\",VLOOKUP(D24,List_Process!$Q$3:$T$79,2,FALSE))","v":""},{"$f":"IF(D24=\"\",\"\",VLOOKUP(D24,List_Process!$Q$3:$T$79,3,FALSE))","v":""}]
[null,{"$f":"IF(D25=\"\",\"\",VLOOKUP(D25,List_Process!$Q$3:$T$79,2,FALSE))","v":""},{"$f":"IF(D25=\"\",\"\",VLOOKUP(D25,List_Process!$Q$3:$T$79,3,FALSE))","v":""}]
[null,{"$f":"IF(D26=\"\",\"\",VLOOKUP(D26,List_Process!$Q$3:$T$79,2,FALSE))","v":""},{"$f":"IF(D26=\"\",\"\",VLOOKUP(D26,List_Process!$Q$3:$T$79,3,FALSE))","v":""}]
[null,{"$f":"IF(D27=\"\",\"\",VLOOKUP(D27,List_Process!$Q$3:$T$79,2,FALSE))","v":""},{"$f":"IF(D27=\"\",\"\",VLOOKUP(D27,List_Process!$Q$3:$T$79,3,FALSE))","v":""}]
[null,{"$f":"IF(D28=\"\",\"\",VLOOKUP(D28,List_Process!$Q$3:$T$79,2,FALSE))","v":""},{"$f":"IF(D28=\"\",\"\",VLOOKUP(D28,List_Process!$Q$3:$T$79,3,FALSE))","v":""}]
[null,{"$f":"IF(D29=\"\",\"\",VLOOKUP(D29,List_Process!$Q$3:$T$79,2,FALSE))","v":""},{"$f":"IF(D29=\"\",\"\",VLOOKUP(D29,List_Process!$Q$3:$T$79,3,FALSE))","v":""}]
[null,{"$f":"IF(D30=\"\",\"\",VLOOKUP(D30,List_Process!$Q$3:$T$79,2,FALSE))","v":""},{"$f":"IF(D30=\"\",\"\",VLOOKUP(D30,List_Process!$Q$3:$T$79,3,FALSE))","v":""}]
[null,{"$f":"IF(D31=\"\",\"\",VLOOKUP(D31,List_Process!$Q$3:$T$79,2,FALSE))","v":""},{"$f":"IF(D31=\"\",\"\",VLOOKUP(D31,List_Process!$Q$3:$T$79,3,FALSE))","v":""}]
[null,{"$f":"IF(D32=\"\",\"\",VLOOKUP(D32,List_Process!$Q$3:$T$79,2,FALSE))","v":""},{"$f":"IF(D32=\"\",\"\",VLOOKUP(D32,List_Process!$Q$3:$T$79,3,FALSE))","v":""}]
[null,{"$f":"IF(D33=\"\",\"\",VLOOKUP(D33,List_Process!$Q$3:$T$79,2,FALSE))","v":""},{"$f":"IF(D33=\"\",\"\",VLOOKUP(D33,List_Process!$Q$3:$T$79,3,FALSE))","v":""}]
[null,{"$f":"IF(D34=\"\",\"\",VLOOKUP(D34,List_Process!$Q$3:$T$79,2,FALSE))","v":""},{"$f":"IF(D34=\"\",\"\",VLOOKUP(D34,List_Process!$Q$3:$T$79,3,FALSE))","v":""}]
[null,{"$f":"IF(D35=\"\",\"\",VLOOKUP(D35,List_Process!$Q$3:$T$79,2,FALSE))","v":""},{"$f":"IF(D35=\"\",\"\",VLOOKUP(D35,List_Process!$Q$3:$T$79,3,FALSE))","v":""}]
[null,{"$f":"IF(D36=\"\",\"\",VLOOKUP(D36,List_Process!$Q$3:$T$79,2,FALSE))","v":""},{"$f":"IF(D36=\"\",\"\",VLOOKUP(D36,List_Process!$Q$3:$T$79,3,FALSE))","v":""}]
[null,{"$f":"IF(D37=\"\",\"\",VLOOKUP(D37,List_Process!$Q$3:$T$79,2,FALSE))","v":""},{"$f":"IF(D37=\"\",\"\",VLOOKUP(D37,List_Process!$Q$3:$T$79,3,FALSE))","v":""}]
[null,{"$f":"IF(D38=\"\",\"\",VLOOKUP(D38,List_Process!$Q$3:$T$79,2,FALSE))","v":""},{"$f":"IF(D38=\"\",\"\",VLOOKUP(D38,List_Process!$Q$3:$T$79,3,FALSE))","v":""}]
[null,{"$f":"IF(D39=\"\",\"\",VLOOKUP(D39,List_Process!$Q$3:$T$79,2,FALSE))","v":""},{"$f":"IF(D39=\"\",\"\",VLOOKUP(D39,List_Process!$Q$3:$T$79,3,FALSE))","v":""}]
[null,{"$f":"IF(D40=\"\",\"\",VLOOKUP(D40,List_Process!$Q$3:$T$79,2,FALSE))","v":""},{"$f":"IF(D40=\"\",\"\",VLOOKUP(D40,List_Process!$Q$3:$T$79,3,FALSE))","v":""}]
[null,{"$f":"IF(D41=\"\",\"\",VLOOKUP(D41,List_Process!$Q$3:$T$79,2,FALSE))","v":""},{"$f":"IF(D41=\"\",\"\",VLOOKUP(D41,List_Process!$Q$3:$T$79,3,FALSE))","v":""}]
[null,{"$f":"IF(D42=\"\",\"\",VLOOKUP(D42,List_Process!$Q$3:$T$79,2,FALSE))","v":""},{"$f":"IF(D42=\"\",\"\",VLOOKUP(D42,List_Process!$Q$3:$T$79,3,FALSE))","v":""}]
[null,{"$f":"IF(D43=\"\",\"\",VLOOKUP(D43,List_Process!$Q$3:$T$79,2,FALSE))","v":""},{"$f":"IF(D43=\"\",\"\",VLOOKUP(D43,List_Process!$Q$3:$T$79,3,FALSE))","v":""}]
[null,{"$f":"IF(D44=\"\",\"\",VLOOKUP(D44,List_Process!$Q$3:$T$79,2,FALSE))","v":""},{"$f":"IF(D44=\"\",\"\",VLOOKUP(D44,List_Process!$Q$3:$T$79,3,FALSE))","v":""}]
[null,{"$f":"IF(D45=\"\",\"\",VLOOKUP(D45,List_Process!$Q$3:$T$79,2,FALSE))","v":""},{"$f":"IF(D45=\"\",\"\",VLOOKUP(D45,List_Process!$Q$3:$T$79,3,FALSE))","v":""}]
[null,{"$f":"IF(D46=\"\",\"\",VLOOKUP(D46,List_Process!$Q$3:$T$79,2,FALSE))","v":""},{"$f":"IF(D46=\"\",\"\",VLOOKUP(D46,List_Process!$Q$3:$T$79,3,FALSE))","v":""}]
[null,{"$f":"IF(D47=\"\",\"\",VLOOKUP(D47,List_Process!$Q$3:$T$79,2,FALSE))","v":""},{"$f":"IF(D47=\"\",\"\",VLOOKUP(D47,List_Process!$Q$3:$T$79,3,FALSE))","v":""}]
[null,{"$f":"IF(D48=\"\",\"\",VLOOKUP(D48,List_Process!$Q$3:$T$79,2,FALSE))","v":""},{"$f":"IF(D48=\"\",\"\",VLOOKUP(D48,List_Process!$Q$3:$T$79,3,FALSE))","v":""}]
[null,{"$f":"IF(D49=\"\",\"\",VLOOKUP(D49,List_Process!$Q$3:$T$79,2,FALSE))","v":""},{"$f":"IF(D49=\"\",\"\",VLOOKUP(D49,List_Process!$Q$3:$T$79,3,FALSE))","v":""}]
[null,{"$f":"IF(D50=\"\",\"\",VLOOKUP(D50,List_Process!$Q$3:$T$79,2,FALSE))","v":""},{"$f":"IF(D50=\"\",\"\",VLOOKUP(D50,List_Process!$Q$3:$T$79,3,FALSE))","v":""}]
[null,{"$f":"IF(D51=\"\",\"\",VLOOKUP(D51,List_Process!$Q$3:$T$79,2,FALSE))","v":""},{"$f":"IF(D51=\"\",\"\",VLOOKUP(D51,List_Process!$Q$3:$T$79,3,FALSE))","v":""}]
[null,{"$f":"IF(D52=\"\",\"\",VLOOKUP(D52,List_Process!$Q$3:$T$79,2,FALSE))","v":""},{"$f":"IF(D52=\"\",\"\",VLOOKUP(D52,List_Process!$Q$3:$T$79,3,FALSE))","v":""}]
[null,{"$f":"IF(D53=\"\",\"\",VLOOKUP(D53,List_Process!$Q$3:$T$79,2,FALSE))","v":""},{"$f":"IF(D53=\"\",\"\",VLOOKUP(D53,List_Process!$Q$3:$T$79,3,FALSE))","v":""}]
[null,{"$f":"IF(D54=\"\",\"\",VLOOKUP(D54,List_Process!$Q$3:$T$79,2,FALSE))","v":""},{"$f":"IF(D54=\"\",\"\",VLOOKUP(D54,List_Process!$Q$3:$T$79,3,FALSE))","v":""}]
[null,{"$f":"IF(D55=\"\",\"\",VLOOKUP(D55,List_Process!$Q$3:$T$79,2,FALSE))","v":""},{"$f":"IF(D55=\"\",\"\",VLOOKUP(D55,List_Process!$Q$3:$T$79,3,FALSE))","v":""}]
[null,{"$f":"IF(D56=\"\",\"\",VLOOKUP(D56,List_Process!$Q$3:$T$79,2,FALSE))","v":""},{"$f":"IF(D56=\"\",\"\",VLOOKUP(D56,List_Process!$Q$3:$T$79,3,FALSE))","v":""}]
[null,{"$f":"IF(D57=\"\",\"\",VLOOKUP(D57,List_Process!$Q$3:$T$79,2,FALSE))","v":""},{"$f":"IF(D57=\"\",\"\",VLOOKUP(D57,List_Process!$Q$3:$T$79,3,FALSE))","v":""}]
[null,{"$f":"IF(D58=\"\",\"\",VLOOKUP(D58,List_Process!$Q$3:$T$79,2,FALSE))","v":""},{"$f":"IF(D58=\"\",\"\",VLOOKUP(D58,List_Process!$Q$3:$T$79,3,FALSE))","v":""}]
[null,{"$f":"IF(D59=\"\",\"\",VLOOKUP(D59,List_Process!$Q$3:$T$79,2,FALSE))","v":""},{"$f":"IF(D59=\"\",\"\",VLOOKUP(D59,List_Process!$Q$3:$T$79,3,FALSE))","v":""}]
[null,{"$f":"IF(D60=\"\",\"\",VLOOKUP(D60,List_Process!$Q$3:$T$79,2,FALSE))","v":""},{"$f":"IF(D60=\"\",\"\",VLOOKUP(D60,List_Process!$Q$3:$T$79,3,FALSE))","v":""}]
[null,{"$f":"IF(D61=\"\",\"\",VLOOKUP(D61,List_Process!$Q$3:$T$79,2,FALSE))","v":""},{"$f":"IF(D61=\"\",\"\",VLOOKUP(D61,List_Process!$Q$3:$T$79,3,FALSE))","v":""}]
[null,{"$f":"IF(D62=\"\",\"\",VLOOKUP(D62,List_Process!$Q$3:$T$79,2,FALSE))","v":""},{"$f":"IF(D62=\"\",\"\",VLOOKUP(D62,List_Process!$Q$3:$T$79,3,FALSE))","v":""}]
[null,{"$f":"IF(D63=\"\",\"\",VLOOKUP(D63,List_Process!$Q$3:$T$79,2,FALSE))","v":""},{"$f":"IF(D63=\"\",\"\",VLOOKUP(D63,List_Process!$Q$3:$T$79,3,FALSE))","v":""}]
[null,{"$f":"IF(D64=\"\",\"\",VLOOKUP(D64,List_Process!$Q$3:$T$79,2,FALSE))","v":""},{"$f":"IF(D64=\"\",\"\",VLOOKUP(D64,List_Process!$Q$3:$T$79,3,FALSE))","v":""}]
[null,{"$f":"IF(D65=\"\",\"\",VLOOKUP(D65,List_Process!$Q$3:$T$79,2,FALSE))","v":""},{"$f":"IF(D65=\"\",\"\",VLOOKUP(D65,List_Process!$Q$3:$T$79,3,FALSE))","v":""}]
[null,{"$f":"IF(D66=\"\",\"\",VLOOKUP(D66,List_Process!$Q$3:$T$79,2,FALSE))","v":""},{"$f":"IF(D66=\"\",\"\",VLOOKUP(D66,List_Process!$Q$3:$T$79,3,FALSE))","v":""}]
[null,{"$f":"IF(D67=\"\",\"\",VLOOKUP(D67,List_Process!$Q$3:$T$79,2,FALSE))","v":""},{"$f":"IF(D67=\"\",\"\",VLOOKUP(D67,List_Process!$Q$3:$T$79,3,FALSE))","v":""}]
[null,{"$f":"IF(D68=\"\",\"\",VLOOKUP(D68,List_Process!$Q$3:$T$79,2,FALSE))","v":""},{"$f":"IF(D68=\"\",\"\",VLOOKUP(D68,List_Process!$Q$3:$T$79,3,FALSE))","v":""}]
[null,{"$f":"IF(D69=\"\",\"\",VLOOKUP(D69,List_Process!$Q$3:$T$79,2,FALSE))","v":""},{"$f":"IF(D69=\"\",\"\",VLOOKUP(D69,List_Process!$Q$3:$T$79,3,FALSE))","v":""}]
[null,{"$f":"IF(D70=\"\",\"\",VLOOKUP(D70,List_Process!$Q$3:$T$79,2,FALSE))","v":""},{"$f":"IF(D70=\"\",\"\",VLOOKUP(D70,List_Process!$Q$3:$T$79,3,FALSE))","v":""}]
[null,{"$f":"IF(D71=\"\",\"\",VLOOKUP(D71,List_Process!$Q$3:$T$79,2,FALSE))","v":""},{"$f":"IF(D71=\"\",\"\",VLOOKUP(D71,List_Process!$Q$3:$T$79,3,FALSE))","v":""}]
[null,{"$f":"IF(D72=\"\",\"\",VLOOKUP(D72,List_Process!$Q$3:$T$79,2,FALSE))","v":""},{"$f":"IF(D72=\"\",\"\",VLOOKUP(D72,List_Process!$Q$3:$T$79,3,FALSE))","v":""}]
[null,{"$f":"IF(D73=\"\",\"\",VLOOKUP(D73,List_Process!$Q$3:$T$79,2,FALSE))","v":""},{"$f":"IF(D73=\"\",\"\",VLOOKUP(D73,List_Process!$Q$3:$T$79,3,FALSE))","v":""}]
[null,{"$f":"IF(D74=\"\",\"\",VLOOKUP(D74,List_Process!$Q$3:$T$79,2,FALSE))","v":""},{"$f":"IF(D74=\"\",\"\",VLOOKUP(D74,List_Process!$Q$3:$T$79,3,FALSE))","v":""}]
[null,{"$f":"IF(D75=\"\",\"\",VLOOKUP(D75,List_Process!$Q$3:$T$79,2,FALSE))","v":""},{"$f":"IF(D75=\"\",\"\",VLOOKUP(D75,List_Process!$Q$3:$T$79,3,FALSE))","v":""}]
[null,{"$f":"IF(D76=\"\",\"\",VLOOKUP(D76,List_Process!$Q$3:$T$79,2,FALSE))","v":""},{"$f":"IF(D76=\"\",\"\",VLOOKUP(D76,List_Process!$Q$3:$T$79,3,FALSE))","v":""}]
[null,{"$f":"IF(D77=\"\",\"\",VLOOKUP(D77,List_Process!$Q$3:$T$79,2,FALSE))","v":""},{"$f":"IF(D77=\"\",\"\",VLOOKUP(D77,List_Process!$Q$3:$T$79,3,FALSE))","v":""}]
[null,{"$f":"IF(D78=\"\",\"\",VLOOKUP(D78,List_Process!$Q$3:$T$79,2,FALSE))","v":""},{"$f":"IF(D78=\"\",\"\",VLOOKUP(D78,List_Process!$Q$3:$T$79,3,FALSE))","v":""}]
[null,{"$f":"IF(D79=\"\",\"\",VLOOKUP(D79,List_Process!$Q$3:$T$79,2,FALSE))","v":""},{"$f":"IF(D79=\"\",\"\",VLOOKUP(D79,List_Process!$Q$3:$T$79,3,FALSE))","v":""}]
[null,{"$f":"IF(D80=\"\",\"\",VLOOKUP(D80,List_Process!$Q$3:$T$79,2,FALSE))","v":""},{"$f":"IF(D80=\"\",\"\",VLOOKUP(D80,List_Process!$Q$3:$T$79,3,FALSE))","v":""}]
[null,{"$f":"IF(D81=\"\",\"\",VLOOKUP(D81,List_Process!$Q$3:$T$79,2,FALSE))","v":""},{"$f":"IF(D81=\"\",\"\",VLOOKUP(D81,List_Process!$Q$3:$T$79,3,FALSE))","v":""}]
[null,{"$f":"IF(D82=\"\",\"\",VLOOKUP(D82,List_Process!$Q$3:$T$79,2,FALSE))","v":""},{"$f":"IF(D82=\"\",\"\",VLOOKUP(D82,List_Process!$Q$3:$T$79,3,FALSE))","v":""}]
[null,{"$f":"IF(D83=\"\",\"\",VLOOKUP(D83,List_Process!$Q$3:$T$79,2,FALSE))","v":""},{"$f":"IF(D83=\"\",\"\",VLOOKUP(D83,List_Process!$Q$3:$T$79,3,FALSE))","v":""}]
[null,{"$f":"IF(D84=\"\",\"\",VLOOKUP(D84,List_Process!$Q$3:$T$79,2,FALSE))","v":""},{"$f":"IF(D84=\"\",\"\",VLOOKUP(D84,List_Process!$Q$3:$T$79,3,FALSE))","v":""}]
[null,{"$f":"IF(D85=\"\",\"\",VLOOKUP(D85,List_Process!$Q$3:$T$79,2,FALSE))","v":""},{"$f":"IF(D85=\"\",\"\",VLOOKUP(D85,List_Process!$Q$3:$T$79,3,FALSE))","v":""}]
[null,{"$f":"IF(D86=\"\",\"\",VLOOKUP(D86,List_Process!$Q$3:$T$79,2,FALSE))","v":""},{"$f":"IF(D86=\"\",\"\",VLOOKUP(D86,List_Process!$Q$3:$T$79,3,FALSE))","v":""}]
[null,{"$f":"IF(D87=\"\",\"\",VLOOKUP(D87,List_Process!$Q$3:$T$79,2,FALSE))","v":""},{"$f":"IF(D87=\"\",\"\",VLOOKUP(D87,List_Process!$Q$3:$T$79,3,FALSE))","v":""}]
[null,{"$f":"IF(D88=\"\",\"\",VLOOKUP(D88,List_Process!$Q$3:$T$79,2,FALSE))","v":""},{"$f":"IF(D88=\"\",\"\",VLOOKUP(D88,List_Process!$Q$3:$T$79,3,FALSE))","v":""}]
[null,{"$f":"IF(D89=\"\",\"\",VLOOKUP(D89,List_Process!$Q$3:$T$79,2,FALSE))","v":""},{"$f":"IF(D89=\"\",\"\",VLOOKUP(D89,List_Process!$Q$3:$T$79,3,FALSE))","v":""}]
[null,{"$f":"IF(D90=\"\",\"\",VLOOKUP(D90,List_Process!$Q$3:$T$79,2,FALSE))","v":""},{"$f":"IF(D90=\"\",\"\",VLOOKUP(D90,List_Process!$Q$3:$T$79,3,FALSE))","v":""}]
[null,{"$f":"IF(D91=\"\",\"\",VLOOKUP(D91,List_Process!$Q$3:$T$79,2,FALSE))","v":""},{"$f":"IF(D91=\"\",\"\",VLOOKUP(D91,List_Process!$Q$3:$T$79,3,FALSE))","v":""}]
[null,{"$f":"IF(D92=\"\",\"\",VLOOKUP(D92,List_Process!$Q$3:$T$79,2,FALSE))","v":""},{"$f":"IF(D92=\"\",\"\",VLOOKUP(D92,List_Process!$Q$3:$T$79,3,FALSE))","v":""}]
[null,{"$f":"IF(D93=\"\",\"\",VLOOKUP(D93,List_Process!$Q$3:$T$79,2,FALSE))","v":""},{"$f":"IF(D93=\"\",\"\",VLOOKUP(D93,List_Process!$Q$3:$T$79,3,FALSE))","v":""}]
[null,{"$f":"IF(D94=\"\",\"\",VLOOKUP(D94,List_Process!$Q$3:$T$79,2,FALSE))","v":""},{"$f":"IF(D94=\"\",\"\",VLOOKUP(D94,List_Process!$Q$3:$T$79,3,FALSE))","v":""}]
[null,{"$f":"IF(D95=\"\",\"\",VLOOKUP(D95,List_Process!$Q$3:$T$79,2,FALSE))","v":""},{"$f":"IF(D95=\"\",\"\",VLOOKUP(D95,List_Process!$Q$3:$T$79,3,FALSE))","v":""}]
[null,{"$f":"IF(D96=\"\",\"\",VLOOKUP(D96,List_Process!$Q$3:$T$79,2,FALSE))","v":""},{"$f":"IF(D96=\"\",\"\",VLOOKUP(D96,List_Process!$Q$3:$T$79,3,FALSE))","v":""}]
[null,{"$f":"IF(D97=\"\",\"\",VLOOKUP(D97,List_Process!$Q$3:$T$79,2,FALSE))","v":""},{"$f":"IF(D97=\"\",\"\",VLOOKUP(D97,List_Process!$Q$3:$T$79,3,FALSE))","v":""}]
[null,{"$f":"IF(D98=\"\",\"\",VLOOKUP(D98,List_Process!$Q$3:$T$79,2,FALSE))","v":""},{"$f":"IF(D98=\"\",\"\",VLOOKUP(D98,List_Process!$Q$3:$T$79,3,FALSE))","v":""}]
[null,{"$f":"IF(D99=\"\",\"\",VLOOKUP(D99,List_Process!$Q$3:$T$79,2,FALSE))","v":""},{"$f":"IF(D99=\"\",\"\",VLOOKUP(D99,List_Process!$Q$3:$T$79,3,FALSE))","v":""}]
[null,{"$f":"IF(D100=\"\",\"\",VLOOKUP(D100,List_Process!$Q$3:$T$79,2,FALSE))","v":""},{"$f":"IF(D100=\"\",\"\",VLOOKUP(D100,List_Process!$Q$3:$T$79,3,FALSE))","v":""}]

{"sheet":"Semiannual_Certification","index":16,"n_rows":33,"n_cols":4,"rows_kept":33,"cut":false,"hidden":false,"merged":[]}
[null,"DO NOT REMOVE OR EDIT INFORMATION IN ROWS 1 THROUGH 5\nFOR INTERNAL USE ONLY"]
[null,"Template Name",{"$f":"Welcome!B2","v":"63.3400(c) Semiannual Compliance Report (Spreadsheet Template)"}]
[null,"CitationID",{"$f":"Welcome!B3","v":"63.3400(c)"}]
[null,"Template Version",{"$f":"Welcome!B4","v":"v1.00"}]
[null,"Last Updated Date",{"$f":"Welcome!B5","v":45427}]
[]
[null,"40 CFR Part 63, Subpart JJJJ National Emission Standards for Hazardous Air Pollutants: Paper and Other Web Coating - §63.3400 Semiannual Compliance Report Spreadsheet Template"]
[]
[]
[]
[]
[null,"Company Record No.\n(Autocompleted)","Were there any deviations from any emission limitations (emission limits or operating limits) that apply to you during the reporting period\n(§63.3400(c)(2)(iv))\n(Select from Dropdown)","Were any CMS inoperative, inactive, malfunctioning, out-of-control, repaired, or adjusted during the reporting period\n(§63.3400(c)(2)(iv))\n(Select from Dropdown)"]
[null,"RecordId","EmissionLimitDeviation_SC","CMSDeviation_SC"]
[null,"e.g.: 1","e.g.: Yes","e.g.: Yes"]
[null,"e.g.:","e.g.:","e.g.:"]
[null,"e.g.:","e.g.:","e.g.:"]
[null,"e.g.:","e.g.:","e.g.:"]
[null,"e.g.:","e.g.:","e.g.:"]
[null,"e.g.:","e.g.:","e.g.:"]
[null,"e.g.:","e.g.:","e.g.:"]
[null,"e.g.:","e.g.:","e.g.:"]
[null,"e.g.:","e.g.:","e.g.:"]
[null,"e.g.:","e.g.:","e.g.:"]
[null,{"$f":"IF(Menus!K2=\"\",\"\",Menus!K2)","v":""}]
[null,{"$f":"IF(Menus!K3=\"\",\"\",Menus!K3)","v":""}]
[null,{"$f":"IF(Menus!K4=\"\",\"\",Menus!K4)","v":""}]
[null,{"$f":"IF(Menus!K5=\"\",\"\",Menus!K5)","v":""}]
[null,{"$f":"IF(Menus!K6=\"\",\"\",Menus!K6)","v":""}]
[null,{"$f":"IF(Menus!K7=\"\",\"\",Menus!K7)","v":""}]
[null,{"$f":"IF(Menus!K8=\"\",\"\",Menus!K8)","v":""}]
[null,{"$f":"IF(Menus!K9=\"\",\"\",Menus!K9)","v":""}]
[null,{"$f":"IF(Menus!K10=\"\",\"\",Menus!K10)","v":""}]
[null,{"$f":"IF(Menus!K11=\"\",\"\",Menus!K11)","v":""}]

{"sheet":"Revisions","index":17,"n_rows":4,"n_cols":3,"rows_kept":4,"cut":false,"hidden":false,"merged":[]}
["Revision Number","Date","Revisions"]
["DRAFT",43711,"Draft version submitted to docket"]
["ICR Draft",44469,"Edited to reflect final rule, add Revisions and  Worksheet Map tabs, inserted hidden blank column A on every data entry tab to implement JSON parsing, implemented XML tags. Added PRA information and form number."]
["v1.00",45427,"Corrected and added missing XML tags; CMS Identification: Corrected formulas in B24:C30; Lists_CMS: Corrected formulas B3:G10; CMS_Downtime: Corrected header of Column F to correctly indicate data;  Deviation_Limit_No_CMS: Corrected Column C to Affected Source; Deviations_Op_Param_CMS_Summary: remove refrency to Monthly in header;  Emissions_Estimate: Complete Examples, revise column C dropdown to eliminate blanks; Semiannual_Certifications: Deleted certification column E as redundant with CEDRI certification"]

{"sheet":"Worksheet Map","index":18,"n_rows":11,"n_cols":5,"rows_kept":11,"cut":false,"hidden":true,"merged":[]}
["Worksheet Name","Parent","JSON Key","Parent Primary Key","Child Foreign Key"]
["Company_Information",null,"records"]
["Process_Identification","records","ProcessIdentification","RecordId","RecordId"]
["CMS_Identification","records","CMSIdentification","RecordId","RecordId"]
["CMS_Downtime","records","CMSDowntime","RecordId","RecordId"]
["CMS_Downtime_Summary","records","CMSDowntimeSummary","RecordId","RecordId"]
["Deviations_Limit_No_CMS","records","DeviationsLimitNoCMS","RecordId","RecordId"]
["Deviations_Op_Param_CMS","records","DeviationsOpParamCMS","RecordId","RecordId"]
["Deviations_Op_Param_CMS_Summary","records","DeviationsOpParamCMSSummary","RecordId","RecordId"]
["Emission_Estimate","records","EmissionEstimate","RecordId","RecordId"]
["Semiannual_Certification","records","SemiannualCertification","RecordId","RecordId"]

{"sheet":"ESRI_MAPINFO_SHEET","index":19,"n_rows":0,"n_cols":0,"rows_kept":0,"cut":false,"hidden":true,"merged":[]}