{"text_format":"1","workbook":"xlsx","n_sheets":21,"sheets":["Welcome","Report Information","Company Information","Certifications","Process and CMS Information","Periodic Performance Testing","Sterilization Chambers","Rooms","EtO CEMS Averages","PTE","NDO Inspection","Emissions Summary","Excess Emissions","Excess Emissions Summary","CMS Downtime Detail","CMS Downtime Summary","CMS Downtime Summary Only","Description of Changes","Revisions","Lists","Worksheet Map"],"not_rendered":{"charts":0,"images":1,"macros":1,"external_links":0,"defined_names":25,"comments":0,"pivot_tables":0},"unopened":[],"bounds":{"document_bytes":16777216,"sheet_cells":100000,"rows_first":2000,"rows_last":500,"rows_between":2000,"halvings":0,"cell_chars":16384,"cell_head_chars":4096},"cells_cut":0,"cells_raw":0,"read":"whole","date_system":"1900"}

{"sheet":"Welcome","index":0,"n_rows":20,"n_cols":2,"rows_kept":20,"cut":false,"hidden":false,"merged":[]}
[null,"DO NOT REMOVE OR EDIT INFORMATION IN ROWS 1 THROUGH 5 FOR INTERNAL USE ONLY"]
["Template Name","63.366(b) Initial Compliance Report and (c) Quarterly Report (Spreadsheet Template)"]
["CitationID","63.366(b) and (c)"]
["Template Version","v2.00"]
["Last Updated Date",45519]
[null,"OMB Control Numbers: 2060-0283 (40 CFR Part 63, Subpart O)\nForm 5900-661\nFor further Paperwork Reduction Act information see: \nhttps://www.epa.gov/electronic-reporting-air-emissions/paperwork-reduction-act-pra-cedri-and-ert"]
[null,"40 CFR Part 63, Subpart O National Emission Standards for Hazardous Air Pollutants for Source Category: Ethylene Oxide Emissions Standards for Sterilization Facilities\n§63.366(b) Initial Compliance Report and §63.366(c) Quarterly Report Spreadsheet Template"]
[null,"Instructions for Spreadsheet Template"]
[null,"Purpose:\nThis spreadsheet template was designed by the U.S. EPA to facilitate compliance reporting for facilities subject under 40 CFR part 63 (NESHAP O), National Emission Standards for Hazardous Air Pollutants for Source Category: Ethylene Oxide Emissions Standards for Sterilization Facilities. Use of this template is required on and after the compliance date specified in §63.366. As such, this template reflects the requirements for reports as of that compliance date. This template may not accurately reflect reporting requirements prior to the compliance date specified in §63.360(g).\n"]
[null,"Electronic reporting:\nElectronic submission of Compliance Reports through the EPA's Compliance and Emissions Data Reporting Interface (CEDRI) is required under §63.366(c). CEDRI is accessed through the EPA's Central Data Exchange (https://cdx.epa.gov).\n"]
[null,"Do not submit confidential business information (CBI) to EPA via CEDRI. EPA will make all the information submitted through this form via CEDRI available to the public without further notice to you. All CBI claims must be asserted at the time of submission. Anything submitted using CEDRI cannot later be claimed to be CBI. Furthermore, under CAA section 114(c) emissions data is not entitled to confidential treatment, and EPA is required to make emissions data available to the public. Thus, emissions data will not be protected as CBI and will be made publicly available.\n"]
[null,"Although we do not expect persons to assert a claim of CBI, if persons wish to assert a CBI claim for some of the information in this report, you must submit a version of the report with the CBI omitted via CEDRI and submit a complete report, including any information claimed to be CBI, to EPA. The preferred method to receive CBI is for it to be transmitted electronically using email attachments, File Transfer Protocol, or other online file sharing services. Electronic submissions must be transmitted directly to the OAQPS CBI Office at the email address oaqpscbi@epa.gov to the attention of the Commercial Sterilization Facilities Sector Lead. If assistance is needed with submitting large electronic files that exceed the file size limit for email attachments, and if you do not have your own file sharing service, please email oaqpscbi@epa.gov to request a file transfer link. If you cannot transmit the file electronically, you may send CBI information through the postal service to the following address:"]
[null,"OAQPS Document Control Officer (C404-02)\nOAQPS, U.S. Environmental Protection Agency\nAttn: Sterilization Facilities Sector Lead\nResearch Triangle Park, North Carolina 27711 "]
[null,"\nThe mailed CBI material should be double wrapped and clearly marked. Any CBI markings should not show through the outer envelope. Clearly mark the part or all of the information that you claim to be CBI. Information not marked as CBI may be authorized for public release without prior notice. Information marked as CBI will not be disclosed except in accordance with procedures set forth in 40 CFR part 2.\n"]
[null,"The CEDRI spreadsheet template upload feature allows you to submit data in a single report for a single facility or multiple facilities using this EPA provided Excel workbook.  Data for each facility must be entered into the worksheet labeled Company Information in this Excel workbook.  Each row in the Company Information worksheet includes the data for a single facility. The Company Record No. is a key to link data on other tabs to a particular facility.\n"]
[null,"IMPORTANT: The final CEDRI upload file must be a single ZIP file, which must include this Excel workbook and any related attachments that were referenced in the workbook (i.e., additional information file found in the Company_Information tab).\n"]
[null,"For each facility record found in the Company Information worksheet, you may reference a single file attachment that includes additional information. If you are uploading file attachments for your report, the uploaded files may be in any format (e.g., zip, docx, PDF). If you would like to include an Excel file(s) as an attachment, you must first zip the excel file(s) into a separate ZIP file to the master ZIP file that will be uploaded into CEDRI.\n\nFor example, the file “Jan-June2023-Report.zip” uploaded into CEDRI may contain 2 files:\n                1. Completed_semiannual_reporting_spreadsheet_Jan-June2023.xlsx\n                2. Attachments.zip \nThe “Attachments.zip” file could contain as many attachments of any format (xlsx, xls, docx, pdf, zip, etc.) as needed.\nIf you only have one file to attach, you do not need to zip it unless it is an Excel file (.xlsx, .xls).\n"]
[null,"Template Navigation and Tabs to Complete:\nGray Tabs:  The gray tabs (Company Information, Report Information) contain general information. If you choose to complete the \"Report Information\" tab, worksheets that are not relevant to your report will be hidden from view. \n\nThe Certifications tab must be completed for each report.\n\nAll other tabs (Process and CMS Information, Periodic Performance Testing, Sterilization Chambers, Rooms, EtO CEMS Averages, PTE, NDO Onspection, Emissions Summary, Excess Emissions, Excess Emissions Summary, CMS Downtime Detal, CMS Downtime Summary, CMS Downtime Summary Only, and Descritpion of Changes) should be completed as necessary for your facility. \n\nThe Revisions tab contains information on version updates to this template. "]
[null,"In each worksheet, example rows are colored light red (rows 14 through 23), and the XML tags (row 13) are colored green.  These rows are locked; no data entry is made in these rows. \n"]
[null,"The certification of the accuracy of this report required under §63.10(e)(3)(vi)(L) is performed when certifying this report in CEDRI."]

{"sheet":"Report Information","index":1,"n_rows":18,"n_cols":3,"rows_kept":18,"cut":false,"hidden":false,"merged":[]}
[null,"DO NOT REMOVE OR EDIT INFORMATION IN THIS SECTION\nFOR INTERNAL USE ONLY"]
[null,"Template Name",{"$f":"Welcome!B2","v":"63.366(b) Initial Compliance Report and (c) Quarterly Report (Spreadsheet Template)"}]
[null,"CitationID",{"$f":"Welcome!B3","v":"63.366(b) and (c)"}]
[null,"Template Version",{"$f":"Welcome!B4","v":"v2.00"}]
[null,"Last Updated Date",{"$f":"Welcome!B5","v":45519}]
[]
[null,"40 CFR Part 63, Subpart O Initial, Quarterly, Monitoring System Performance, and Deviation Report"]
[null,"§63.366(b) Initial Compliance Report and §63.366(c) Quarterly Report Spreadsheet Template"]
[null,"Selections in this tab will Hide/Unhide tabs to be completed for the particular report elements"]
[null,"Applicable Provision","Will you be reporting for the following:"]
[null,"§63.366(b)(2) or (c)(2)","A sterilization facility that is demonstrating continuous compliance through periodic performance testing, and any of the following:\n- a control system that has not operated since the previous compliance report was submitted;\n- a control system has commenced operation since the previous compliance report was submitted; or\n- any of the information in paragraphs §63.366(b)(2)(i) through (iv) has changed for a control system that was included in the previous report. "]
[null,"§63.366(b)(3) or (c)(3)","-For an Initial Compliance report, - Any sterilization chamber that has not operated since the previous compliance report was submitted\n- Any sterilization chamber that has commenced operation since the previous compliance report was submitted\n- Any of the information in paragraphs §63.366(b)(3)(i) through (ix) has changed for a sterilization chamber that was included in the previous compliance report"]
[null,"§63.366(b)(4) or (c)(4)","Emissions from any room in your facility are subject to an emission limitation, and any of the following:\n- any room where there has not been the potential for EtO emissions since the previous compliance report was submitted;\n- any room that has had the potential for EtO emissions since the previous compliance report was submitted; or\n- any of the information in paragraphs  §63.366(b)(4)(i) through (vi) has changed for a room where there is the potential for EtO emissions that was included in the previous compliance report."]
[null,"§63.366(b)(5) or (c)(5)","An EtO Continuous Emissions Monitoring System used to demonstrate continuous compliance with an emission standard for more than 30 days"]
[null,"§63.366(b)(6) or (c)(6)","Any portion of the facility required to be operated with Permanent Total Enclosure"]
[null,"§63.366(b)(7) or (c)(7)","Certification that either the Cycle Calculation Approach or the Bioburden / Biological Indicator Approach to achieve sterility assurance with ISO 11135:2014 or ISO 14161:2009 are being followed"]
[null,"§63.366(b)(8) - (9) or (c)(8) - (9)","For an existing collection of Group 2 rooms at an area source facility where EtO use is less than 20 tpy; and the exemption criteria of §63.366(b)(9) do not apply:\n- any room where Group 2 room air emissions have ceased since the previous compliance report was submitted\n- any room that has had Group 2 room air emissions since the previous compliance report was submitted\n- a room where there are Group 2 air emissions and any of the information in paragraphs §63.366(b)(8)(i) through (iv) has changed from the previous compliance report."]
[null,"§63.10(e)(3)(vii) and (viii)","Was the total duration of excess emissions or process or control system parameter exceedances for the reporting period less than 1 percent of the total operating time for the reporting period, and CMS downtime for the reporting period less than 5 percent of the total operating time for the reporting period?\n\nIf \"Yes\", only the Summary Report is required by this provision, and the full Excess Emissions and Continuous Monitoring System Performance Report (orange tabs) need not be submitted unless required by the Administrator.\nIf \"No\", the Summary Report and Excess Emissions and Continuous Monitoring System Performance Report shall be submitted."]

{"sheet":"Company Information","index":2,"n_rows":33,"n_cols":18,"rows_kept":33,"cut":false,"hidden":false,"merged":[]}
[null,"DO NOT REMOVE OR EDIT INFORMATION IN THIS SECTION FOR INTERNAL USE ONLY"]
[null,"Template Name",{"$f":"+Welcome!B2","v":"63.366(b) Initial Compliance Report and (c) Quarterly Report (Spreadsheet Template)"}]
[null,"CitationID",{"$f":"+Welcome!B3","v":"63.366(b) and (c)"}]
[null,"Template Version",{"$f":"+Welcome!B4","v":"v2.00"}]
[null,"Last Updated Date",{"$f":"+Welcome!B5","v":45519}]
[]
[null,"40 CFR Part 63, Subpart O National Emission Standards for Hazardous Air Pollutants: Sterilization Facilities"]
[null,"§63.366(b) Initial Compliance Report and §63.366(c) Quarterly Report Spreadsheet Template"]
[]
[]
[null,null,"COMPANY INFORMATION",null,null,null,null,null,null,null,"GENERAL INFORMATION",null,null,null,null,null,"ADDITIONAL INFORMATION"]
[null,"Company Record No.\n(Field value will automatically generate if a value is not entered.)","Company Name\n(§63.10(e)(3)(vi)(A))","Address\n(§63.10(e)(3)(vi)(A))","Address 2 ","City\n(§63.10(e)(3)(vi)(A))","County","State Abbreviation\n(§63.10(e)(3)(vi)(A))\n(Select from dropdown)","Zip Code\n(§63.10(e)(3)(vi)(A))","Responsible Agency Facility ID \n(State Facility Identifier)","Date of Report\n(§63.10(e)(3)(vi)(M))","Beginning Date of Reporting Period\n(§63.10(e)(3)(vi)(C))","Ending Date of Reporting Period\n(§63.10(e)(3)(vi)(C))","Date That Facility Commenced Construction or Reconstruction\n(§63.366(b)(1)(i) and (c)(1))","Hours of Commercial Sterilization Operation Over the Previous 12 months\n(hours)\n(§63.366(b)(1)(ii) and (c)(1))","EtO Use Over the Previous 12 Months\n(§63.366((b)(1)(iii) and (c)(1))","Please enter any additional information.","Enter associated file name reference. "]
[null,"RecordId","CompanyName","AddressLine1","AddressLine2","CityName","CountyName","StateName","ZIPCode","StateFacID","ReportDate","PeriodStartDate","PeriodEndDate","DateCommenced","FacOperatingHours","EtOUse","AddInfo","AddFile"]
[null,"e.g.: 1","e.g.: ABC Sterilization Company","e.g.: 123 Main Street","e.g.: Suite 100","e.g.: Brooklyn","e.g.: Kings","e.g.: NY","e.g.: 11221","e.g. 123456","e.g.: 07/14/2023","e.g.: 01/01/2023","e.g.: 06/30/2023","e.g.: 01/01/2010","e.g. 5600","e.g. 20","e.g.:","e.g.: addlinfo.zip "]
[null,"e.g.:","e.g.:","e.g.:","e.g.:","e.g.:","e.g.:","e.g.:","e.g.:","e.g.:","e.g.:","e.g.:","e.g.:","e.g.:","e.g.:","e.g.:","e.g.:","e.g.:"]
[null,"e.g.:","e.g.:","e.g.:","e.g.:","e.g.:","e.g.:","e.g.:","e.g.:","e.g.:","e.g.:","e.g.:","e.g.:","e.g.:","e.g.:","e.g.:","e.g.:","e.g.:"]
[null,"e.g.:","e.g.:","e.g.:","e.g.:","e.g.:","e.g.:","e.g.:","e.g.:","e.g.:","e.g.:","e.g.:","e.g.:","e.g.:","e.g.:","e.g.:","e.g.:","e.g.:"]
[null,"e.g.:","e.g.:","e.g.:","e.g.:","e.g.:","e.g.:","e.g.:","e.g.:","e.g.:","e.g.:","e.g.:","e.g.:","e.g.:","e.g.:","e.g.:","e.g.:","e.g.:"]
[null,"e.g.:","e.g.:","e.g.:","e.g.:","e.g.:","e.g.:","e.g.:","e.g.:","e.g.:","e.g.:","e.g.:","e.g.:","e.g.:","e.g.:","e.g.:","e.g.:","e.g.:"]
[null,"e.g.:","e.g.:","e.g.:","e.g.:","e.g.:","e.g.:","e.g.:","e.g.:","e.g.:","e.g.:","e.g.:","e.g.:","e.g.:","e.g.:","e.g.:","e.g.:","e.g.:"]
[null,"e.g.:","e.g.:","e.g.:","e.g.:","e.g.:","e.g.:","e.g.:","e.g.:","e.g.:","e.g.:","e.g.:","e.g.:","e.g.:","e.g.:","e.g.:","e.g.:","e.g.:"]
[null,"e.g.:","e.g.:","e.g.:","e.g.:","e.g.:","e.g.:","e.g.:","e.g.:","e.g.:","e.g.:","e.g.:","e.g.:","e.g.:","e.g.:","e.g.:","e.g.:","e.g.:"]
[null,"e.g.:","e.g.:","e.g.:","e.g.:","e.g.:","e.g.:","e.g.:","e.g.:","e.g.:","e.g.:","e.g.:","e.g.:","e.g.:","e.g.:","e.g.:","e.g.:","e.g.:"]
[null,{"$f":"IF(C24=\"\",\"\",MAX($B$23:B23)+1)","v":""}]
[null,{"$f":"IF(C25=\"\",\"\",MAX($B$23:B24)+1)","v":""}]
[null,{"$f":"IF(C26=\"\",\"\",MAX($B$23:B25)+1)","v":""}]
[null,{"$f":"IF(C27=\"\",\"\",MAX($B$23:B26)+1)","v":""}]
[null,{"$f":"IF(C28=\"\",\"\",MAX($B$23:B27)+1)","v":""}]
[null,{"$f":"IF(C29=\"\",\"\",MAX($B$23:B28)+1)","v":""}]
[null,{"$f":"IF(C30=\"\",\"\",MAX($B$23:B29)+1)","v":""}]
[null,{"$f":"IF(C31=\"\",\"\",MAX($B$23:B30)+1)","v":""}]
[null,{"$f":"IF(C32=\"\",\"\",MAX($B$23:B31)+1)","v":""}]
[null,{"$f":"IF(C33=\"\",\"\",MAX($B$23:B32)+1)","v":""}]

{"sheet":"Certifications","index":3,"n_rows":23,"n_cols":13,"rows_kept":23,"cut":false,"hidden":false,"merged":[]}
[null,"DO NOT REMOVE OR EDIT INFORMATION IN THIS SECTION\nFOR INTERNAL USE ONLY"]
[null,"Template Name",{"$f":"Welcome!B2","v":"63.366(b) Initial Compliance Report and (c) Quarterly Report (Spreadsheet Template)"}]
[null,"CitationID",{"$f":"Welcome!B3","v":"63.366(b) and (c)"}]
[null,"Template Version",{"$f":"Welcome!B4","v":"v2.00"}]
[null,"Last Updated Date",{"$f":"Welcome!B5","v":45519}]
[]
[null,"40 CFR Part 63, Subpart O National Emission Standards for Hazardous Air Pollutants: Sterilization Facilities"]
[null,"§63.366(b) Initial Compliance Report and §63.366(c) Quarterly Report Spreadsheet Template"]
[]
[]
[null,null,null,null,null,null,null,null,null,null,null,null,"Monitor /Equipment Information"]
[null,"Company Record No.\n(Select from dropdown)","Were there no excess emissions or exceedances of a parameter that occurred this reporting period? (§63.10(e)(3)(v))\n(Select from dropdown)","Has a CMS not been inoperative, out of control, repaired, or adjusted during this reporting period? (§63.10(e)(3)(v))  \n(Select from dropdown)","If you are complying with best management practices to limit concentration of EtO to 1 ppmv, indicate certifiation that this approach is followed and that monitoring requirements are met.\n(§63.366(c)(7))\n(Select from dropdown)"]
[null,"RecordId","ExceedanceFlag","CMSInoperativeFlag","BestManagementPracticeFlag"]
[null,"e.g.: 1","e.g.: No","e.g.: No","e.g.:  The certifier of this report, to the best of their knowledge and belief, certifies that the sterilization equipment has been calibrated such that the minimum amount of ethylene oxide needed to achieve sterility in accordance with ISO 11135 (July 15, 2014) is not exceeded and that ethylene oxide use has been lowered to the maximum extent feasible."]
[null,"e.g.:","e.g.:","e.g.:","e.g.:"]
[null,"e.g.:","e.g.:","e.g.:","e.g.:"]
[null,"e.g.:","e.g.:","e.g.:","e.g.:"]
[null,"e.g.:","e.g.:","e.g.:","e.g.:"]
[null,"e.g.:","e.g.:","e.g.:","e.g.:"]
[null,"e.g.:","e.g.:","e.g.:","e.g.:"]
[null,"e.g.:","e.g.:","e.g.:","e.g.:"]
[null,"e.g.:","e.g.:","e.g.:","e.g.:"]
[null,"e.g.:","e.g.:","e.g.:","e.g.:"]

{"sheet":"Process and CMS Information","index":4,"n_rows":23,"n_cols":11,"rows_kept":23,"cut":false,"hidden":false,"merged":[]}
[null,"DO NOT REMOVE OR EDIT INFORMATION IN THIS SECTION\nFOR INTERNAL USE ONLY"]
[null,"Template Name",{"$f":"Welcome!B2","v":"63.366(b) Initial Compliance Report and (c) Quarterly Report (Spreadsheet Template)"}]
[null,"CitationID",{"$f":"Welcome!B3","v":"63.366(b) and (c)"}]
[null,"Template Version",{"$f":"Welcome!B4","v":"v2.00"}]
[null,"Last Updated Date",{"$f":"Welcome!B5","v":45519}]
[]
[null,"40 CFR Part 63, Subpart O National Emission Standards for Hazardous Air Pollutants: Sterilization Facilities"]
[null,"§63.366(b) Initial Compliance Report and §63.366(c) Quarterly Report Spreadsheet Template"]
[]
[]
[]
[null,"Company Record No.\n(Select from dropdown)","Process Unit Descriptions\n(§63.10(e)(3)(vi)(D))","CMS ID\n(§63.366(b)(5) and (c)(5))","Pollutant/Parameter\n(§63.10(e)(3)(vi)(B)) \n(Select from dropdown)","Total Source\nOperating Time\n(hours)\n(§63.10(e)(3)(vi)(H) and §63.10(c)(13)))","Does the Pollutant/Parameter Have Monitoring Equipment?\n(§63.10(e)(3)(vi)(F)) \n(Select from dropdown)"," Monitor Equipment Manufacturer(s)\n(§63.10(e)(3)(vi)(F))","Monitor Model No.\n(§63.10(e)(3)(vi)(F))","Monitor Serial No."," Date of Latest CMS\nCertification/Audit\n(§63.10(e)(3)(vi)(G))"]
[null,"RecordId","ProcessUnit","EtOCEMSId","Pollutant","OperatingTime","EquipmentFlag","EquipmentMfr","EquipmentModelNo","EquipmentSerialNo","CmsAuditDate"]
[null,"e.g.: 1","e.g.: SCV stack","e.g.: SCVCEMS01","e.g.: Ethylene Oxide","e.g.: 6240","e.g.: Yes","e.g.: ABC Analytical","e.g.: A-100","e.g.: ABC12345","e.g.: 1/1/2022"]
[null,"e.g.:","e.g.:","e.g.:","e.g.:","e.g.:","e.g.:","e.g.:","e.g.:","e.g.:","e.g.:"]
[null,"e.g.:","e.g.:","e.g.:","e.g.:","e.g.:","e.g.:","e.g.:","e.g.:","e.g.:","e.g.:"]
[null,"e.g.:","e.g.:","e.g.:","e.g.:","e.g.:","e.g.:","e.g.:","e.g.:","e.g.:","e.g.:"]
[null,"e.g.:","e.g.:","e.g.:","e.g.:","e.g.:","e.g.:","e.g.:","e.g.:","e.g.:","e.g.:"]
[null,"e.g.:","e.g.:","e.g.:","e.g.:","e.g.:","e.g.:","e.g.:","e.g.:","e.g.:","e.g.:"]
[null,"e.g.:","e.g.:","e.g.:","e.g.:","e.g.:","e.g.:","e.g.:","e.g.:","e.g.:","e.g.:"]
[null,"e.g.:","e.g.:","e.g.:","e.g.:","e.g.:","e.g.:","e.g.:","e.g.:","e.g.:","e.g.:"]
[null,"e.g.:","e.g.:","e.g.:","e.g.:","e.g.:","e.g.:","e.g.:","e.g.:","e.g.:","e.g.:"]
[null,"e.g.:","e.g.:","e.g.:","e.g.:","e.g.:","e.g.:","e.g.:","e.g.:","e.g.:","e.g.:"]

{"sheet":"Periodic Performance Testing","index":5,"n_rows":23,"n_cols":7,"rows_kept":23,"cut":false,"hidden":false,"merged":[]}
[null,"DO NOT REMOVE OR EDIT INFORMATION IN THIS SECTION\nFOR INTERNAL USE ONLY"]
[null,"Template Name",{"$f":"Welcome!B2","v":"63.366(b) Initial Compliance Report and (c) Quarterly Report (Spreadsheet Template)"}]
[null,"CitationID",{"$f":"Welcome!B3","v":"63.366(b) and (c)"}]
[null,"Template Version",{"$f":"Welcome!B4","v":"v2.00"}]
[null,"Last Updated Date",{"$f":"Welcome!B5","v":45519}]
[]
[null,"40 CFR Part 63, Subpart O National Emission Standards for Hazardous Air Pollutants: Sterilization Facilities"]
[null,"§63.366(b) Initial Compliance Report and §63.366(c) Quarterly Report Spreadsheet Template"]
[]
[]
[]
[null,"Company Record No.\n(Select from dropdown)","Control System ID\n(§63.366(b)(2)(i) and (c)(2)(i))","Reason for Reporting under $63.366(c)(2) - since the previous compliance report was submitted, the control system:","Control Device ID\n(§63.366(b)(2)(ii) and (b)(2)(ii))","Control Device Type\n(§63.366(b)(2)(iii))\n(Select from dropdown)","Complete only for acid-water scrubber electing to comply with maximum scrubber liquor height limit - Recirculation Tank ID\n(§63.366(b)(2)(iv))"]
[null,"RecordId","ControlSystemId","StatusSinceLastReport","ControlDeviceId","ControlDeviceType","RecirculationTankId"]
[null,"e.g.: 1","e.g.: System1","e.g.: Commenced operation","e.g.: EtOScrub101","e.g.: Acid-water scrubber","e.g.: Recirc01"]
[null,"e.g.: 2","e.g.: System2","e.g.: Change in information","e.g.: EtOCatOx201","e.g.: Catalytic oxidizer","e.g.:"]
[null,"e.g.:","e.g.:","e.g.:","e.g.:","e.g.:","e.g.:"]
[null,"e.g.:","e.g.:","e.g.:","e.g.:","e.g.:","e.g.:"]
[null,"e.g.:","e.g.:","e.g.:","e.g.:","e.g.:","e.g.:"]
[null,"e.g.:","e.g.:","e.g.:","e.g.:","e.g.:","e.g.:"]
[null,"e.g.:","e.g.:","e.g.:","e.g.:","e.g.:","e.g.:"]
[null,"e.g.:","e.g.:","e.g.:","e.g.:","e.g.:","e.g.:"]
[null,"e.g.:","e.g.:","e.g.:","e.g.:","e.g.:","e.g.:"]
[null,"e.g.:","e.g.:","e.g.:","e.g.:","e.g.:","e.g.:"]

{"sheet":"Sterilization Chambers","index":6,"n_rows":23,"n_cols":12,"rows_kept":23,"cut":false,"hidden":false,"merged":[]}
[null,"DO NOT REMOVE OR EDIT INFORMATION IN THIS SECTION\nFOR INTERNAL USE ONLY"]
[null,"Template Name",{"$f":"Welcome!B2","v":"63.366(b) Initial Compliance Report and (c) Quarterly Report (Spreadsheet Template)"}]
[null,"CitationID",{"$f":"Welcome!B3","v":"63.366(b) and (c)"}]
[null,"Template Version",{"$f":"Welcome!B4","v":"v2.00"}]
[null,"Last Updated Date",{"$f":"Welcome!B5","v":45519}]
[]
[null,"40 CFR Part 63, Subpart O National Emission Standards for Hazardous Air Pollutants: Sterilization Facilities"]
[null,"§63.366(b) Initial Compliance Report and §63.366(c) Quarterly Report Spreadsheet Template"]
[]
[]
[]
[null,"Company Record No.\n(Select from dropdown)","Sterilization Chamber ID\n(§63.366(b)(3)(i) and (c)(3))","Reason for Reporting under $63.366(c)(3) - since the previous compliance report was submitted, the sterilization chamber:","SCV Control System ID\n(§63.366(b)(3)(ii))","Portion of SCV Exhaust Routed to the Control System\n(as %)\n(§63.366(b)(3)(iii))","SCV EtO CEMS ID\n(§63.366(b)(3)(iv))\n(Select from dropdown - all CEMS should be listed first in \"Process and CMS Information\" tab)","Portion of SCV Exhaust Monitored with the EtO CEMS\n(as %)\n(§63.366(b)(3)(v))","CEV Control System ID\n(§63.366(b)(3)(vi))","Portion of CEV Exhaust Routed to the Control System\n(as %)\n(§63.366(b)(3)(vii))","CEV EtO CEMS ID\n(§63.366(b)(3)(viii))\n(Select from dropdown - all CEMS should be listed first in \"Process and CMS Information\" tab)","Portion of CEV Exhaust Monitored with the EtO CEMS\n(as %)\n(§63.366(b)(3)(ix))"]
[null,"RecordId","SterChamberId","StatusSinceLastReport","SCVControlSystemId","PortionSCVExhaustRouted","SCVEtOCEMSId","PortionSCVExhaustMonitored","CEVControlSystemId","PortionCEVExhaustRouted","CEVEtOCEMSId","PortionCEVExhaustMonitored"]
[null,"e.g.: 1","e.g.:Ster01","e.g.: Commenced operation","e.g.: DryBed01","e.g.: 100%","e.g.: DryBedCEMS01","e.g.: 100%","e.g.: DryBed02","e.g.: 100%","e.g.: DryBedCEMS02","e.g.: 100%"]
[null,"e.g.:","e.g.:","e.g.:","e.g.:","e.g.:","e.g.:","e.g.:","e.g.:","e.g.:","e.g.:","e.g.:"]
[null,"e.g.:","e.g.:","e.g.:","e.g.:","e.g.:","e.g.:","e.g.:","e.g.:","e.g.:","e.g.:","e.g.:"]
[null,"e.g.:","e.g.:","e.g.:","e.g.:","e.g.:","e.g.:","e.g.:","e.g.:","e.g.:","e.g.:","e.g.:"]
[null,"e.g.:","e.g.:","e.g.:","e.g.:","e.g.:","e.g.:","e.g.:","e.g.:","e.g.:","e.g.:","e.g.:"]
[null,"e.g.:","e.g.:","e.g.:","e.g.:","e.g.:","e.g.:","e.g.:","e.g.:","e.g.:","e.g.:","e.g.:"]
[null,"e.g.:","e.g.:","e.g.:","e.g.:","e.g.:","e.g.:","e.g.:","e.g.:","e.g.:","e.g.:","e.g.:"]
[null,"e.g.:","e.g.:","e.g.:","e.g.:","e.g.:","e.g.:","e.g.:","e.g.:","e.g.:","e.g.:","e.g.:"]
[null,"e.g.:","e.g.:","e.g.:","e.g.:","e.g.:","e.g.:","e.g.:","e.g.:","e.g.:","e.g.:","e.g.:"]
[null,"e.g.:","e.g.:","e.g.:","e.g.:","e.g.:","e.g.:","e.g.:","e.g.:","e.g.:","e.g.:","e.g.:"]

{"sheet":"Rooms","index":7,"n_rows":23,"n_cols":19,"rows_kept":23,"cut":false,"hidden":false,"merged":[]}
[null,"DO NOT REMOVE OR EDIT INFORMATION IN THIS SECTION\nFOR INTERNAL USE ONLY"]
[null,"Template Name",{"$f":"+#REF!","v":{"$error":"#REF!"}}]
[null,"CitationID",{"$f":"+#REF!","v":{"$error":"#REF!"}}]
[null,"Template Version",{"$f":"+#REF!","v":{"$error":"#REF!"}}]
[null,"Last Updated Date",{"$f":"+#REF!","v":{"$error":"#REF!"}}]
[null,{"$f":"+#REF!","v":{"$error":"#REF!"}}]
[null,"40 CFR Part 63, Subpart O National Emission Standards for Hazardous Air Pollutants: Sterilization Facilities"]
[null,"§63.366(b) Initial Compliance Report and §63.366(c) Quarterly Report Spreadsheet Template"]
[]
[]
[]
[null,"Company Record No.\n(Select from dropdown)","Room ID\n(§63.366(b)(4)(i) and (c)(4))","Is the room area subject to an emission limitation?\n(§63.366(b)(4) and §63.366(b)(8))\n(Select from dropdown)","Reason for Reporting under $63.366(c)(4) - since the previous compliance report was submitted, the room has had:","Documentation of Emissions\n(§63.366(b)(4)(ii))","If \"Other\" was selected for Documentation of Emissions, please specify","Room Air Control System ID\n(§63.366(b)(4)(iii))","Portion of Room Air Routed to the Control System\n(as %)\n(§63.366(b)(4)(iv))","Room Air EtO CEMS ID\n(§63.366(b)(4)(v))\n(Select from dropdown - all CEMS should be listed first in \"Process and CMS Information\" tab)","Portion of Room Air Exhaust Monitored with the EtO CEMS\n(as %)\n(§63.366(b)(4)(vi))","Does the area source facility meet the inclusion criteria of §63.366(b)(8) or (c)(8) but not the exclusion criteria of §63.366(b)(9) or (c)(9)?\n(Select from dropdown)","Reason for Reporting under $63.366(c)(8) - since the previous compliance report was submitted the Group 2 room has had:","Number of Room Air Changes Per Hour\n(§63.366(b)(8)(ii))","Room Temperature - Value\n(§63.366(b)(8)(iii))","Room Temperature - Unit\n(§63.366(b)(8)(iii))","EtO Concentration - Value\n(§63.366(b)(8)(iv))","EtO Concentration - Unit\n(§63.366(b)(8)(iv))","Column1"]
[null,"RecordId","RoomID",null,"StatusSinceLastReport","RoomAirDocumentation","RoomAirDocOther","RoomAirControlSystemID","PortionRoomAirRouted","RoomAirEtOCEMSId","PortionRoomAirExhaustMonitored","Group2ExemptionFlag","ReportReason","RoomAirChanges","RoomTempValue","RoomTempUnit","RoomEtOConcValue","RoomEtOConcUnit"]
[null,"e.g.: 1","e.g.: EtODispensing01","e.g.: Yes","e.g.: Commenced operation","e.g.: EtO dispensing","e.g.: N/A","e.g.: RTO01","e.g.: 100%","e.g.: RTOCEMS01","e.g.: 100%","e.g.: No","e.g.: No potential for EtO emissions","e.g.: N/A","e.g.: N/A","e.g.: N/A","e.g.: N/A","e.g.: N/A"]
[null,"e.g.: 1","e.g.: Warehouse02","e.g.: Yes","e.g.: Change in information","e.g.: Post-aeration handling of sterilized material","e.g.: N/A","e.g.: RTO02","e.g.: 100%","e.g.: RTOCEMS02","e.g.: 100%","e.g.: Yes","e.g.: Potential for EtO emissions","e.g.: 10.0","e.g.: 72.0","e.g.: °C","e.g.: 5.00","e.g.: ppmvd"]
[null,"e.g.:","e.g.:","e.g.:","e.g.:","e.g.:","e.g.:","e.g.:","e.g.:","e.g.:","e.g.:","e.g.:","e.g.:","e.g.:","e.g.:","e.g.:","e.g.:","e.g.:"]
[null,"e.g.:","e.g.:","e.g.:","e.g.:","e.g.:","e.g.:","e.g.:","e.g.:","e.g.:","e.g.:","e.g.:","e.g.:","e.g.:","e.g.:","e.g.:","e.g.:","e.g.:"]
[null,"e.g.:","e.g.:","e.g.:","e.g.:","e.g.:","e.g.:","e.g.:","e.g.:","e.g.:","e.g.:","e.g.:","e.g.:","e.g.:","e.g.:","e.g.:","e.g.:","e.g.:"]
[null,"e.g.:","e.g.:","e.g.:","e.g.:","e.g.:","e.g.:","e.g.:","e.g.:","e.g.:","e.g.:","e.g.:","e.g.:","e.g.:","e.g.:","e.g.:","e.g.:","e.g.:"]
[null,"e.g.:","e.g.:","e.g.:","e.g.:","e.g.:","e.g.:","e.g.:","e.g.:","e.g.:","e.g.:","e.g.:","e.g.:","e.g.:","e.g.:","e.g.:","e.g.:","e.g.:"]
[null,"e.g.:","e.g.:","e.g.:","e.g.:","e.g.:","e.g.:","e.g.:","e.g.:","e.g.:","e.g.:","e.g.:","e.g.:","e.g.:","e.g.:","e.g.:","e.g.:","e.g.:"]
[null,"e.g.:","e.g.:","e.g.:","e.g.:","e.g.:","e.g.:","e.g.:","e.g.:","e.g.:","e.g.:","e.g.:","e.g.:","e.g.:","e.g.:","e.g.:","e.g.:","e.g.:"]
[null,"e.g.:","e.g.:","e.g.:","e.g.:","e.g.:","e.g.:","e.g.:","e.g.:","e.g.:","e.g.:","e.g.:","e.g.:","e.g.:","e.g.:","e.g.:","e.g.:","e.g.:"]

{"sheet":"EtO CEMS Averages","index":8,"n_rows":23,"n_cols":7,"rows_kept":23,"cut":false,"hidden":false,"merged":[]}
[null,"DO NOT REMOVE OR EDIT INFORMATION IN THIS SECTION\nFOR INTERNAL USE ONLY"]
[null,"Template Name",{"$f":"Welcome!B2","v":"63.366(b) Initial Compliance Report and (c) Quarterly Report (Spreadsheet Template)"},null,null,null,"WENT AHEAD AND ADDED COMPANY RECORD NO., PROCESS UNIT, AND POLLUTANT COLUMNS TO THIS TEMPLATE?"]
[null,"CitationID",{"$f":"Welcome!B3","v":"63.366(b) and (c)"}]
[null,"Template Version",{"$f":"Welcome!B4","v":"v2.00"}]
[null,"Last Updated Date",{"$f":"Welcome!B5","v":45519}]
[]
[null,"40 CFR Part 63, Subpart O National Emission Standards for Hazardous Air Pollutants: Sterilization Facilities"]
[null,"§63.366(b) Initial Compliance Report and §63.366(c) Quarterly Report Spreadsheet Template"]
[]
[]
[]
[null,"Company Record No.\n(Select from dropdown)","EtO CEMS ID\n(§63.366(b)(5) and (c)(5))\n(Select from dropdown - all CEMS should be listed first in \"Process and CMS Information\" tab)","Pollutant/Parameter\n(§63.10(e)(3)(vi)(B))\n(Select from dropdown)","Date\n(MM/DD/YYYY)\n(§63.366(b)(5) and (c)(5))","EtO CEMS 30-Day Rolling Average \n(Include units)\n(§63.366(b)(5) and (c)(5))"]
[null,"RecordId","EtOCEMSId","Pollutant","ComplianceDate","ComplianceAvgValue"]
[null,"e.g.: 1","e.g.: SCVCEMS01","e.g.: Ethylene Oxide (EtO)","e.g. 01/01/2022","e.g. 0.0005 ppmvd"]
[null,"e.g.:","e.g.:","e.g.:","e.g.:","e.g.:"]
[null,"e.g.:","e.g.:","e.g.:","e.g.:","e.g.:"]
[null,"e.g.:","e.g.:","e.g.:","e.g.:","e.g.:"]
[null,"e.g.:","e.g.:","e.g.:","e.g.:","e.g.:"]
[null,"e.g.:","e.g.:","e.g.:","e.g.:","e.g.:"]
[null,"e.g.:","e.g.:","e.g.:","e.g.:","e.g.:"]
[null,"e.g.:","e.g.:","e.g.:","e.g.:","e.g.:"]
[null,"e.g.:","e.g.:","e.g.:","e.g.:","e.g.:"]
[null,"e.g.:","e.g.:","e.g.:","e.g.:","e.g.:"]

{"sheet":"PTE","index":9,"n_rows":23,"n_cols":8,"rows_kept":23,"cut":false,"hidden":false,"merged":[]}
[null,"DO NOT REMOVE OR EDIT INFORMATION IN THIS SECTION\nFOR INTERNAL USE ONLY"]
[null,"Template Name",{"$f":"Welcome!B2","v":"63.366(b) Initial Compliance Report and (c) Quarterly Report (Spreadsheet Template)"}]
[null,"CitationID",{"$f":"Welcome!B3","v":"63.366(b) and (c)"}]
[null,"Template Version",{"$f":"Welcome!B4","v":"v2.00"}]
[null,"Last Updated Date",{"$f":"Welcome!B5","v":45519}]
[]
[null,"40 CFR Part 63, Subpart O National Emission Standards for Hazardous Air Pollutants: Sterilization Facilities"]
[null,"§63.366(b) Initial Compliance Report and §63.366(c) Quarterly Report Spreadsheet Template"]
[]
[]
[]
[null,"Company Record No.\n(Select from dropdown)","Room Area ID\n(§63.366(c)(6))","Method of Compliance Demonstration\n(§63.366(b)(6))\n(Select from dropdown)","Daily Pressure Reading - Date\n(§63.366(b)(6)(ii))","Daily Pressure Reading - Time\n(§63.366(b)(6)(ii))","Daily Pressure Differential Reading - Value\n(§63.366(b)(6)(ii))","Daily Pressure Differential Reading - Unit\n(§63.366(b)(6)(ii))"]
[null,"RecordId","RoomAreaId","PTEComplianceDemonstration","PressureReadingDate","PressureReadingTime","PressureReadingValue","PressureReadingUnit"]
[null,"e.g.: 1","e.g.: Warehouse01","e.g.: Continuous Flow Rate Monitoring System","e.g.: N/A","e.g.: N/A","e.g.: N/A","e.g.: N/A"]
[null,"e.g.: 1","e.g.: Warehouse02","e.g.: Differential Pressure Monitoring","e.g.: 01/01/2022","e.g.: 12:00","e.g.: 0.008","e.g.: in H2O"]
[null,"e.g.:","e.g.:","e.g.:","e.g.:","e.g.:","e.g.:","e.g.:"]
[null,"e.g.:","e.g.:","e.g.:","e.g.:","e.g.:","e.g.:","e.g.:"]
[null,"e.g.:","e.g.:","e.g.:","e.g.:","e.g.:","e.g.:","e.g.:"]
[null,"e.g.:","e.g.:","e.g.:","e.g.:","e.g.:","e.g.:","e.g.:"]
[null,"e.g.:","e.g.:","e.g.:","e.g.:","e.g.:","e.g.:","e.g.:"]
[null,"e.g.:","e.g.:","e.g.:","e.g.:","e.g.:","e.g.:","e.g.:"]
[null,"e.g.:","e.g.:","e.g.:","e.g.:","e.g.:","e.g.:","e.g.:"]
[null,"e.g.:","e.g.:","e.g.:","e.g.:","e.g.:","e.g.:","e.g.:"]

{"sheet":"NDO Inspection","index":10,"n_rows":23,"n_cols":12,"rows_kept":23,"cut":false,"hidden":false,"merged":[]}
[null,"DO NOT REMOVE OR EDIT INFORMATION IN THIS SECTION\nFOR INTERNAL USE ONLY"]
[null,"Template Name",{"$f":"Welcome!B2","v":"63.366(b) Initial Compliance Report and (c) Quarterly Report (Spreadsheet Template)"},null,null,null,null,null,null,null,null,"WENT AHEAD AND ADDED COMPANY RECORD NO., PROCESS UNIT, AND POLLUTANT COLUMNS TO THIS TEMPLATE?"]
[null,"CitationID",{"$f":"Welcome!B3","v":"63.366(b) and (c)"}]
[null,"Template Version",{"$f":"Welcome!B4","v":"v2.00"}]
[null,"Last Updated Date",{"$f":"Welcome!B5","v":45519}]
[]
[null,"40 CFR Part 63, Subpart O National Emission Standards for Hazardous Air Pollutants: Sterilization Facilities"]
[null,"§63.366(b) Initial Compliance Report and §63.366(c) Quarterly Report Spreadsheet Template"]
[]
[]
[]
[null,"Company Record No.\n(Select from dropdown)","Room Area ID\n(§63.366(b)(6) and (c)(6))","NDO ID\n(§63.366(b)(6)(i))","Inspection ID\n(§63.366(b)(6)(i))","Inspection Start Date\n(§63.366(b)(6)(i))","Inspection Start Time\n(§63.366(b)(6)(i))","Inspection End Date\n(§63.366(b)(6)(i))","Inspection End Time\n(§63.366(b)(6)(i))","Method of Inspection\n(§63.366(b)(6)(i))\n(Select from dropdown)","Direction of Air Flow Through the NDO\n(§63.366(b)(6)(i))\n(Select from dropdown)"]
[null,"RecordId","RoomAreaId","NDOId","InspectionId","InspectStartDate","InspectStartTime","InspectEndDate","InspectEndTime","NDOInspectMethod","DirectionOfAirflow"]
[null,"e.g.: 1","e.g.: Warehouse01","e.g.: NDO0101","e.g.: 010122","e.g.: 01/01/2022","e.g.: 12:00","e.g.: 01/01/2022","e.g.: 12:05","e.g.: Smoke test","e.g.: Into the facility"]
[null,"e.g.: 1","e.g.: Warehouse02","e.g.: NDO0201","e.g.: 010122","e.g.: 01/01/2022","e.g.: 12:00","e.g.: 01/01/2022","e.g.: 12:05","e.g.: Streamers","e.g.: Out of the facility"]
[null,"e.g.:","e.g.:","e.g.:","e.g.:","e.g.:","e.g.:","e.g.:","e.g.:","e.g.:","e.g.:"]
[null,"e.g.:","e.g.:","e.g.:","e.g.:","e.g.:","e.g.:","e.g.:","e.g.:","e.g.:","e.g.:"]
[null,"e.g.:","e.g.:","e.g.:","e.g.:","e.g.:","e.g.:","e.g.:","e.g.:","e.g.:","e.g.:"]
[null,"e.g.:","e.g.:","e.g.:","e.g.:","e.g.:","e.g.:","e.g.:","e.g.:","e.g.:","e.g.:"]
[null,"e.g.:","e.g.:","e.g.:","e.g.:","e.g.:","e.g.:","e.g.:","e.g.:","e.g.:","e.g.:"]
[null,"e.g.:","e.g.:","e.g.:","e.g.:","e.g.:","e.g.:","e.g.:","e.g.:","e.g.:","e.g.:"]
[null,"e.g.:","e.g.:","e.g.:","e.g.:","e.g.:","e.g.:","e.g.:","e.g.:","e.g.:","e.g.:"]
[null,"e.g.:","e.g.:","e.g.:","e.g.:","e.g.:","e.g.:","e.g.:","e.g.:","e.g.:","e.g.:"]

{"sheet":"Emissions Summary","index":11,"n_rows":23,"n_cols":9,"rows_kept":23,"cut":false,"hidden":false,"merged":[]}
[null,"DO NOT REMOVE OR EDIT INFORMATION IN THIS SECTION\nFOR INTERNAL USE ONLY"]
[null,"Template Name",{"$f":"Welcome!B2","v":"63.366(b) Initial Compliance Report and (c) Quarterly Report (Spreadsheet Template)"}]
[null,"CitationID",{"$f":"Welcome!B3","v":"63.366(b) and (c)"}]
[null,"Template Version",{"$f":"Welcome!B4","v":"v2.00"}]
[null,"Last Updated Date",{"$f":"Welcome!B5","v":45519}]
[]
[null,"40 CFR Part 63, Subpart O National Emission Standards for Hazardous Air Pollutants: Sterilization Facilities"]
[null,"§63.366(b) Initial Compliance Report and §63.366(c) Quarterly Report Spreadsheet Template"]
[]
[]
[]
[null,"Company Record No.\n(Select from dropdown)","Process Unit Descriptions\n(Select from dropdown)","Pollutant/Parameter\n(§63.10(e)(3)(vi)(B)) \n(Select from dropdown)"," Emission / Parameter Limit  - Value \n(§63.10(e)(3)(vi)(E))"," Pollutant/Parameter Units - Unit\n(§63.10(e)(3)(vi)(E))\n(Select from dropdown)","Diluent Correction","\nDiluent Units\n(Select from dropdown)"," Compliance Period\n(§63.366(b)(5) and (c)(5))\n(Select from dropdown)"]
[null,"RecordId","ProcessUnit","Pollutant","ParameterLimit","ParameterUnit","DiluentCorrection","DiluentUnit","CompliancePeriod"]
[null,"e.g.: 1","e.g.: SCV1","e.g.: Ethylene Oxide (EtO)","e.g.: 6.3E-3","e.g.: lb/hr","e.g.: 7","e.g.: %O2","e.g.: 30 Sterilizer Operating Day Rolling Average"]
[null,"e.g.: 1","e.g.: ARV1","e.g.: Ethylene Oxide (EtO)","e.g.: 7.0E-3","e.g.: lb/hr","e.g.: 7","e.g.: %O2","e.g.: 30 Sterilizer Operating Day Rolling Average"]
[null,"e.g.:","e.g.:","e.g.:","e.g.:","e.g.:","e.g.:","e.g.:","e.g.:"]
[null,"e.g.:","e.g.:","e.g.:","e.g.:","e.g.:","e.g.:","e.g.:","e.g.:"]
[null,"e.g.:","e.g.:","e.g.:","e.g.:","e.g.:","e.g.:","e.g.:","e.g.:"]
[null,"e.g.:","e.g.:","e.g.:","e.g.:","e.g.:","e.g.:","e.g.:","e.g.:"]
[null,"e.g.:","e.g.:","e.g.:","e.g.:","e.g.:","e.g.:","e.g.:","e.g.:"]
[null,"e.g.:","e.g.:","e.g.:","e.g.:","e.g.:","e.g.:","e.g.:","e.g.:"]
[null,"e.g.:","e.g.:","e.g.:","e.g.:","e.g.:","e.g.:","e.g.:","e.g.:"]
[null,"e.g.:","e.g.:","e.g.:","e.g.:","e.g.:","e.g.:","e.g.:","e.g.:"]

{"sheet":"Excess Emissions","index":12,"n_rows":500,"n_cols":13,"rows_kept":500,"cut":false,"hidden":false,"merged":[]}
[null,"DO NOT REMOVE OR EDIT INFORMATION IN THIS SECTION\nFOR INTERNAL USE ONLY"]
[null,"Template Name",{"$f":"Welcome!B2","v":"63.366(b) Initial Compliance Report and (c) Quarterly Report (Spreadsheet Template)"}]
[null,"CitationID",{"$f":"Welcome!B3","v":"63.366(b) and (c)"}]
[null,"Template Version",{"$f":"Welcome!B4","v":"v2.00"}]
[null,"Last Updated Date",{"$f":"Welcome!B5","v":45519}]
[]
[null,"40 CFR Part 63, Subpart O National Emission Standards for Hazardous Air Pollutants: Sterilization Facilities"]
[null,"§63.366(b) Initial Compliance Report and §63.366(c) Quarterly Report Spreadsheet Template"]
[]
[]
[]
[null,"Company Record No.\n(Select from dropdown)","Process Unit Descriptions\n(§63.366(b)(10 and (c)(10), §63.10(e)(3)(vi)(D))\n(Select from dropdown)","Pollutant/Parameter\n(§63.10(e)(3)(vi)(B))\n(Select from dropdown)","Excess Emission Reason\nor Reason for Violation of emission standard or established operating parameter\n(§63.366(b)(10) and (c)(10), §63.10(e)(3)(vi)(I))\n(Select from dropdown)","Other Excess Emission Reason\n(Required if Excess Emission Reason is \"Other Known Cause\")","Date Event Begins\n(MM/DD/YYYY\n(§63.366(b)(10) and (c)(10), §63.10(e)(3)(vi)(I)","Time Event Begins\n(HH:MM)\n(§63.366(b)(10) and (c)(10), §63.10(e)(3)(vi)(I))","Date Event \nEnds\n(MM/DD/YYYY)\n(§63.366(b)(10) and (c)(10), §63.10(e)(3)(vi)(I)","Time Event Ends\n(HH:MM)\n(§63.366(b)(10) and (c)(10), §63.10(e)(3)(vi)(I)","Excess Emission Duration\n(Hours)\n(§63.366(b)(10) and (c)(10), §63.10(e)(3)(vi)(I)\n(Calculated value)","Basis of Estimated Excess Emissions\n(§63.366(b)(10) and (c)(10), §63.10(e)(3)(vi)(I)\n(Select from dropdown)","Basis of Estimate Additional Details\n(Required if Basis of Estimated Excess Emissions is \"Other\")"]
[null,"RecordId","ProcessUnit","Pollutant","ExcessReason","OtherExcessReason","EventBeginDate","EventBeginTime","EventEndDate","EventEndTime","ExcessDuration","ExcessBasis","BasisDetails"]
[null,"e.g.: 1","e.g.: SCV","e.g.: Ethylene Oxide (EtO)","e.g.: Other Known Cause","e.g. Process Upset","e.g. 01/30/2022","e.g. 23:44","e.g. 01/31/2022","e.g. 00:44","e.g. 0","e.g.: Other","e.g. Measurements Taken"]
[null,"e.g.:","e.g.:","e.g.:","e.g.:","e.g.:","e.g.:","e.g.:","e.g.:","e.g.:","e.g.:","e.g.:","e.g.:"]
[null,"e.g.:","e.g.:","e.g.:","e.g.:","e.g.:","e.g.:","e.g.:","e.g.:","e.g.:","e.g.:","e.g.:","e.g.:"]
[null,"e.g.:","e.g.:","e.g.:","e.g.:","e.g.:","e.g.:","e.g.:","e.g.:","e.g.:","e.g.:","e.g.:","e.g.:"]
[null,"e.g.:","e.g.:","e.g.:","e.g.:","e.g.:","e.g.:","e.g.:","e.g.:","e.g.:","e.g.:","e.g.:","e.g.:"]
[null,"e.g.:","e.g.:","e.g.:","e.g.:","e.g.:","e.g.:","e.g.:","e.g.:","e.g.:","e.g.:","e.g.:","e.g.:"]
[null,"e.g.:","e.g.:","e.g.:","e.g.:","e.g.:","e.g.:","e.g.:","e.g.:","e.g.:","e.g.:","e.g.:","e.g.:"]
[null,"e.g.:","e.g.:","e.g.:","e.g.:","e.g.:","e.g.:","e.g.:","e.g.:","e.g.:","e.g.:","e.g.:","e.g.:"]
[null,"e.g.:","e.g.:","e.g.:","e.g.:","e.g.:","e.g.:","e.g.:","e.g.:","e.g.:","e.g.:","e.g.:","e.g.:"]
[null,"e.g.:","e.g.:","e.g.:","e.g.:","e.g.:","e.g.:","e.g.:","e.g.:","e.g.:","e.g.:","e.g.:","e.g.:"]
[null,null,null,null,null,null,null,null,null,null,{"$f":"IF(J24=\"\",\"\",(VALUE(TEXT(I24,\"m/dd/yy \")&TEXT(J24,\"hh:mm:ss\"))-(VALUE(TEXT(G24,\"m/dd/yy \")&TEXT(H24,\"hh:mm:ss\"))))*24)","v":""}]
[null,null,null,null,null,null,null,null,null,null,""]
[null,null,null,null,null,null,null,null,null,null,""]
[null,null,null,null,null,null,null,null,null,null,""]
[null,null,null,null,null,null,null,null,null,null,""]
[null,null,null,null,null,null,null,null,null,null,""]
[null,null,null,null,null,null,null,null,null,null,""]
[null,null,null,null,null,null,null,null,null,null,""]
[null,null,null,null,null,null,null,null,null,null,""]
[null,null,null,null,null,null,null,null,null,null,""]
[null,null,null,null,null,null,null,null,null,null,""]
[null,null,null,null,null,null,null,null,null,null,{"$f":"IF(J35=\"\",\"\",(VALUE(TEXT(I35,\"m/dd/yy \")&TEXT(J35,\"hh:mm:ss\"))-(VALUE(TEXT(G35,\"m/dd/yy \")&TEXT(H35,\"hh:mm:ss\"))))*24)","v":""}]
[null,null,null,null,null,null,null,null,null,null,""]
[null,null,null,null,null,null,null,null,null,null,""]
[null,null,null,null,null,null,null,null,null,null,""]
[null,null,null,null,null,null,null,null,null,null,""]
[null,null,null,null,null,null,null,null,null,null,""]
[null,null,null,null,null,null,null,null,null,null,""]
[null,null,null,null,null,null,null,null,null,null,""]
[null,null,null,null,null,null,null,null,null,null,""]
[null,null,null,null,null,null,null,null,null,null,""]
[null,null,null,null,null,null,null,null,null,null,""]
[null,null,null,null,null,null,null,null,null,null,""]
[null,null,null,null,null,null,null,null,null,null,""]
[null,null,null,null,null,null,null,null,null,null,""]
[null,null,null,null,null,null,null,null,null,null,""]
[null,null,null,null,null,null,null,null,null,null,""]
[null,null,null,null,null,null,null,null,null,null,""]
[null,null,null,null,null,null,null,null,null,null,""]
[null,null,null,null,null,null,null,null,null,null,""]
[null,null,null,null,null,null,null,null,null,null,""]
[null,null,null,null,null,null,null,null,null,null,""]
[null,null,null,null,null,null,null,null,null,null,""]
[null,null,null,null,null,null,null,null,null,null,""]
[null,null,null,null,null,null,null,null,null,null,""]
[null,null,null,null,null,null,null,null,null,null,""]
[null,null,null,null,null,null,null,null,null,null,""]
[null,null,null,null,null,null,null,null,null,null,""]
[null,null,null,null,null,null,null,null,null,null,""]
[null,null,null,null,null,null,null,null,null,null,""]
[null,null,null,null,null,null,null,null,null,null,""]
[null,null,null,null,null,null,null,null,null,null,""]
[null,null,null,null,null,null,null,null,null,null,""]
[null,null,null,null,null,null,null,null,null,null,""]
[null,null,null,null,null,null,null,null,null,null,""]
[null,null,null,null,null,null,null,null,null,null,""]
[null,null,null,null,null,null,null,null,null,null,""]
[null,null,null,null,null,null,null,null,null,null,""]
[null,null,null,null,null,null,null,null,null,null,""]
[null,null,null,null,null,null,null,null,null,null,""]
[null,null,null,null,null,null,null,null,null,null,""]
[null,null,null,null,null,null,null,null,null,null,""]
[null,null,null,null,null,null,null,null,null,null,""]
[null,null,null,null,null,null,null,null,null,null,""]
[null,null,null,null,null,null,null,null,null,null,""]
[null,null,null,null,null,null,null,null,null,null,""]
[null,null,null,null,null,null,null,null,null,null,""]
[null,null,null,null,null,null,null,null,null,null,""]
[null,null,null,null,null,null,null,null,null,null,""]
[null,null,null,null,null,null,null,null,null,null,""]
[null,null,null,null,null,null,null,null,null,null,""]
[null,null,null,null,null,null,null,null,null,null,""]
[null,null,null,null,null,null,null,null,null,null,""]
[null,null,null,null,null,null,null,null,null,null,""]
[null,null,null,null,null,null,null,null,null,null,""]
[null,null,null,null,null,null,null,null,null,null,{"$f":"IF(J89=\"\",\"\",(VALUE(TEXT(I89,\"m/dd/yy \")&TEXT(J89,\"hh:mm:ss\"))-(VALUE(TEXT(G89,\"m/dd/yy \")&TEXT(H89,\"hh:mm:ss\"))))*24)","v":""}]
[null,null,null,null,null,null,null,null,null,null,""]
[null,null,null,null,null,null,null,null,null,null,""]
[null,null,null,null,null,null,null,null,null,null,""]
[null,null,null,null,null,null,null,null,null,null,""]
[null,null,null,null,null,null,null,null,null,null,""]
[null,null,null,null,null,null,null,null,null,null,""]
[null,null,null,null,null,null,null,null,null,null,""]
[null,null,null,null,null,null,null,null,null,null,""]
[null,null,null,null,null,null,null,null,null,null,""]
[null,null,null,null,null,null,null,null,null,null,""]
[null,null,null,null,null,null,null,null,null,null,""]
[null,null,null,null,null,null,null,null,null,null,""]
[null,null,null,null,null,null,null,null,null,null,""]
[null,null,null,null,null,null,null,null,null,null,""]
[null,null,null,null,null,null,null,null,null,null,""]
[null,null,null,null,null,null,null,null,null,null,""]
[null,null,null,null,null,null,null,null,null,null,""]
[null,null,null,null,null,null,null,null,null,null,""]
[null,null,null,null,null,null,null,null,null,null,""]
[null,null,null,null,null,null,null,null,null,null,""]
[null,null,null,null,null,null,null,null,null,null,""]
[null,null,null,null,null,null,null,null,null,null,""]
[null,null,null,null,null,null,null,null,null,null,""]
[null,null,null,null,null,null,null,null,null,null,""]
[null,null,null,null,null,null,null,null,null,null,""]
[null,null,null,null,null,null,null,null,null,null,""]
[null,null,null,null,null,null,null,null,null,null,""]
[null,null,null,null,null,null,null,null,null,null,""]
[null,null,null,null,null,null,null,null,null,null,""]
[null,null,null,null,null,null,null,null,null,null,""]
[null,null,null,null,null,null,null,null,null,null,""]
[null,null,null,null,null,null,null,null,null,null,""]
[null,null,null,null,null,null,null,null,null,null,""]
[null,null,null,null,null,null,null,null,null,null,""]
[null,null,null,null,null,null,null,null,null,null,""]
[null,null,null,null,null,null,null,null,null,null,""]
[null,null,null,null,null,null,null,null,null,null,""]
[null,null,null,null,null,null,null,null,null,null,""]
[null,null,null,null,null,null,null,null,null,null,""]
[null,null,null,null,null,null,null,null,null,null,""]
[null,null,null,null,null,null,null,null,null,null,""]
[null,null,null,null,null,null,null,null,null,null,""]
[null,null,null,null,null,null,null,null,null,null,""]
[null,null,null,null,null,null,null,null,null,null,""]
[null,null,null,null,null,null,null,null,null,null,""]
[null,null,null,null,null,null,null,null,null,null,""]
[null,null,null,null,null,null,null,null,null,null,""]
[null,null,null,null,null,null,null,null,null,null,""]
[null,null,null,null,null,null,null,null,null,null,""]
[null,null,null,null,null,null,null,null,null,null,""]
[null,null,null,null,null,null,null,null,null,null,""]
[null,null,null,null,null,null,null,null,null,null,""]
[null,null,null,null,null,null,null,null,null,null,""]
[null,null,null,null,null,null,null,null,null,null,""]
[null,null,null,null,null,null,null,null,null,null,""]
[null,null,null,null,null,null,null,null,null,null,""]
[null,null,null,null,null,null,null,null,null,null,""]
[null,null,null,null,null,null,null,null,null,null,""]
[null,null,null,null,null,null,null,null,null,null,""]
[null,null,null,null,null,null,null,null,null,null,""]
[null,null,null,null,null,null,null,null,null,null,""]
[null,null,null,null,null,null,null,null,null,null,""]
[null,null,null,null,null,null,null,null,null,null,""]
[null,null,null,null,null,null,null,null,null,null,{"$f":"IF(J153=\"\",\"\",(VALUE(TEXT(I153,\"m/dd/yy \")&TEXT(J153,\"hh:mm:ss\"))-(VALUE(TEXT(G153,\"m/dd/yy \")&TEXT(H153,\"hh:mm:ss\"))))*24)","v":""}]
[null,null,null,null,null,null,null,null,null,null,""]
[null,null,null,null,null,null,null,null,null,null,""]
[null,null,null,null,null,null,null,null,null,null,""]
[null,null,null,null,null,null,null,null,null,null,""]
[null,null,null,null,null,null,null,null,null,null,""]
[null,null,null,null,null,null,null,null,null,null,""]
[null,null,null,null,null,null,null,null,null,null,""]
[null,null,null,null,null,null,null,null,null,null,""]
[null,null,null,null,null,null,null,null,null,null,""]
[null,null,null,null,null,null,null,null,null,null,""]
[null,null,null,null,null,null,null,null,null,null,""]
[null,null,null,null,null,null,null,null,null,null,""]
[null,null,null,null,null,null,null,null,null,null,""]
[null,null,null,null,null,null,null,null,null,null,""]
[null,null,null,null,null,null,null,null,null,null,""]
[null,null,null,null,null,null,null,null,null,null,""]
[null,null,null,null,null,null,null,null,null,null,""]
[null,null,null,null,null,null,null,null,null,null,""]
[null,null,null,null,null,null,null,null,null,null,""]
[null,null,null,null,null,null,null,null,null,null,""]
[null,null,null,null,null,null,null,null,null,null,""]
[null,null,null,null,null,null,null,null,null,null,""]
[null,null,null,null,null,null,null,null,null,null,""]
[null,null,null,null,null,null,null,null,null,null,""]
[null,null,null,null,null,null,null,null,null,null,""]
[null,null,null,null,null,null,null,null,null,null,""]
[null,null,null,null,null,null,null,null,null,null,""]
[null,null,null,null,null,null,null,null,null,null,""]
[null,null,null,null,null,null,null,null,null,null,""]
[null,null,null,null,null,null,null,null,null,null,""]
[null,null,null,null,null,null,null,null,null,null,""]
[null,null,null,null,null,null,null,null,null,null,""]
[null,null,null,null,null,null,null,null,null,null,""]
[null,null,null,null,null,null,null,null,null,null,""]
[null,null,null,null,null,null,null,null,null,null,""]
[null,null,null,null,null,null,null,null,null,null,""]
[null,null,null,null,null,null,null,null,null,null,""]
[null,null,null,null,null,null,null,null,null,null,""]
[null,null,null,null,null,null,null,null,null,null,""]
[null,null,null,null,null,null,null,null,null,null,""]
[null,null,null,null,null,null,null,null,null,null,""]
[null,null,null,null,null,null,null,null,null,null,""]
[null,null,null,null,null,null,null,null,null,null,""]
[null,null,null,null,null,null,null,null,null,null,""]
[null,null,null,null,null,null,null,null,null,null,""]
[null,null,null,null,null,null,null,null,null,null,""]
[null,null,null,null,null,null,null,null,null,null,""]
[null,null,null,null,null,null,null,null,null,null,""]
[null,null,null,null,null,null,null,null,null,null,""]
[null,null,null,null,null,null,null,null,null,null,""]
[null,null,null,null,null,null,null,null,null,null,""]
[null,null,null,null,null,null,null,null,null,null,""]
[null,null,null,null,null,null,null,null,null,null,""]
[null,null,null,null,null,null,null,null,null,null,""]
[null,null,null,null,null,null,null,null,null,null,""]
[null,null,null,null,null,null,null,null,null,null,""]
[null,null,null,null,null,null,null,null,null,null,""]
[null,null,null,null,null,null,null,null,null,null,""]
[null,null,null,null,null,null,null,null,null,null,""]
[null,null,null,null,null,null,null,null,null,null,""]
[null,null,null,null,null,null,null,null,null,null,""]
[null,null,null,null,null,null,null,null,null,null,""]
[null,null,null,null,null,null,null,null,null,null,""]
[null,null,null,null,null,null,null,null,null,null,{"$f":"IF(J217=\"\",\"\",(VALUE(TEXT(I217,\"m/dd/yy \")&TEXT(J217,\"hh:mm:ss\"))-(VALUE(TEXT(G217,\"m/dd/yy \")&TEXT(H217,\"hh:mm:ss\"))))*24)","v":""}]
[null,null,null,null,null,null,null,null,null,null,""]
[null,null,null,null,null,null,null,null,null,null,""]
[null,null,null,null,null,null,null,null,null,null,""]
[null,null,null,null,null,null,null,null,null,null,""]
[null,null,null,null,null,null,null,null,null,null,""]
[null,null,null,null,null,null,null,null,null,null,""]
[null,null,null,null,null,null,null,null,null,null,""]
[null,null,null,null,null,null,null,null,null,null,""]
[null,null,null,null,null,null,null,null,null,null,""]
[null,null,null,null,null,null,null,null,null,null,""]
[null,null,null,null,null,null,null,null,null,null,""]
[null,null,null,null,null,null,null,null,null,null,""]
[null,null,null,null,null,null,null,null,null,null,""]
[null,null,null,null,null,null,null,null,null,null,""]
[null,null,null,null,null,null,null,null,null,null,""]
[null,null,null,null,null,null,null,null,null,null,""]
[null,null,null,null,null,null,null,null,null,null,""]
[null,null,null,null,null,null,null,null,null,null,""]
[null,null,null,null,null,null,null,null,null,null,""]
[null,null,null,null,null,null,null,null,null,null,""]
[null,null,null,null,null,null,null,null,null,null,""]
[null,null,null,null,null,null,null,null,null,null,""]
[null,null,null,null,null,null,null,null,null,null,""]
[null,null,null,null,null,null,null,null,null,null,""]
[null,null,null,null,null,null,null,null,null,null,""]
[null,null,null,null,null,null,null,null,null,null,""]
[null,null,null,null,null,null,null,null,null,null,""]
[null,null,null,null,null,null,null,null,null,null,""]
[null,null,null,null,null,null,null,null,null,null,""]
[null,null,null,null,null,null,null,null,null,null,""]
[null,null,null,null,null,null,null,null,null,null,""]
[null,null,null,null,null,null,null,null,null,null,""]
[null,null,null,null,null,null,null,null,null,null,""]
[null,null,null,null,null,null,null,null,null,null,""]
[null,null,null,null,null,null,null,null,null,null,""]
[null,null,null,null,null,null,null,null,null,null,""]
[null,null,null,null,null,null,null,null,null,null,""]
[null,null,null,null,null,null,null,null,null,null,""]
[null,null,null,null,null,null,null,null,null,null,""]
[null,null,null,null,null,null,null,null,null,null,""]
[null,null,null,null,null,null,null,null,null,null,""]
[null,null,null,null,null,null,null,null,null,null,""]
[null,null,null,null,null,null,null,null,null,null,""]
[null,null,null,null,null,null,null,null,null,null,""]
[null,null,null,null,null,null,null,null,null,null,""]
[null,null,null,null,null,null,null,null,null,null,""]
[null,null,null,null,null,null,null,null,null,null,""]
[null,null,null,null,null,null,null,null,null,null,""]
[null,null,null,null,null,null,null,null,null,null,""]
[null,null,null,null,null,null,null,null,null,null,""]
[null,null,null,null,null,null,null,null,null,null,""]
[null,null,null,null,null,null,null,null,null,null,""]
[null,null,null,null,null,null,null,null,null,null,""]
[null,null,null,null,null,null,null,null,null,null,""]
[null,null,null,null,null,null,null,null,null,null,""]
[null,null,null,null,null,null,null,null,null,null,""]
[null,null,null,null,null,null,null,null,null,null,""]
[null,null,null,null,null,null,null,null,null,null,""]
[null,null,null,null,null,null,null,null,null,null,""]
[null,null,null,null,null,null,null,null,null,null,""]
[null,null,null,null,null,null,null,null,null,null,""]
[null,null,null,null,null,null,null,null,null,null,""]
[null,null,null,null,null,null,null,null,null,null,""]
[null,null,null,null,null,null,null,null,null,null,{"$f":"IF(J281=\"\",\"\",(VALUE(TEXT(I281,\"m/dd/yy \")&TEXT(J281,\"hh:mm:ss\"))-(VALUE(TEXT(G281,\"m/dd/yy \")&TEXT(H281,\"hh:mm:ss\"))))*24)","v":""}]
[null,null,null,null,null,null,null,null,null,null,""]
[null,null,null,null,null,null,null,null,null,null,""]
[null,null,null,null,null,null,null,null,null,null,""]
[null,null,null,null,null,null,null,null,null,null,""]
[null,null,null,null,null,null,null,null,null,null,""]
[null,null,null,null,null,null,null,null,null,null,""]
[null,null,null,null,null,null,null,null,null,null,""]
[null,null,null,null,null,null,null,null,null,null,""]
[null,null,null,null,null,null,null,null,null,null,""]
[null,null,null,null,null,null,null,null,null,null,""]
[null,null,null,null,null,null,null,null,null,null,""]
[null,null,null,null,null,null,null,null,null,null,""]
[null,null,null,null,null,null,null,null,null,null,""]
[null,null,null,null,null,null,null,null,null,null,""]
[null,null,null,null,null,null,null,null,null,null,""]
[null,null,null,null,null,null,null,null,null,null,""]
[null,null,null,null,null,null,null,null,null,null,""]
[null,null,null,null,null,null,null,null,null,null,""]
[null,null,null,null,null,null,null,null,null,null,""]
[null,null,null,null,null,null,null,null,null,null,""]
[null,null,null,null,null,null,null,null,null,null,""]
[null,null,null,null,null,null,null,null,null,null,""]
[null,null,null,null,null,null,null,null,null,null,""]
[null,null,null,null,null,null,null,null,null,null,""]
[null,null,null,null,null,null,null,null,null,null,""]
[null,null,null,null,null,null,null,null,null,null,""]
[null,null,null,null,null,null,null,null,null,null,""]
[null,null,null,null,null,null,null,null,null,null,""]
[null,null,null,null,null,null,null,null,null,null,""]
[null,null,null,null,null,null,null,null,null,null,""]
[null,null,null,null,null,null,null,null,null,null,""]
[null,null,null,null,null,null,null,null,null,null,""]
[null,null,null,null,null,null,null,null,null,null,""]
[null,null,null,null,null,null,null,null,null,null,""]
[null,null,null,null,null,null,null,null,null,null,""]
[null,null,null,null,null,null,null,null,null,null,""]
[null,null,null,null,null,null,null,null,null,null,""]
[null,null,null,null,null,null,null,null,null,null,""]
[null,null,null,null,null,null,null,null,null,null,""]
[null,null,null,null,null,null,null,null,null,null,""]
[null,null,null,null,null,null,null,null,null,null,""]
[null,null,null,null,null,null,null,null,null,null,""]
[null,null,null,null,null,null,null,null,null,null,""]
[null,null,null,null,null,null,null,null,null,null,""]
[null,null,null,null,null,null,null,null,null,null,""]
[null,null,null,null,null,null,null,null,null,null,""]
[null,null,null,null,null,null,null,null,null,null,""]
[null,null,null,null,null,null,null,null,null,null,""]
[null,null,null,null,null,null,null,null,null,null,""]
[null,null,null,null,null,null,null,null,null,null,""]
[null,null,null,null,null,null,null,null,null,null,""]
[null,null,null,null,null,null,null,null,null,null,""]
[null,null,null,null,null,null,null,null,null,null,""]
[null,null,null,null,null,null,null,null,null,null,""]
[null,null,null,null,null,null,null,null,null,null,""]
[null,null,null,null,null,null,null,null,null,null,""]
[null,null,null,null,null,null,null,null,null,null,""]
[null,null,null,null,null,null,null,null,null,null,""]
[null,null,null,null,null,null,null,null,null,null,""]
[null,null,null,null,null,null,null,null,null,null,""]
[null,null,null,null,null,null,null,null,null,null,""]
[null,null,null,null,null,null,null,null,null,null,""]
[null,null,null,null,null,null,null,null,null,null,""]
[null,null,null,null,null,null,null,null,null,null,{"$f":"IF(J345=\"\",\"\",(VALUE(TEXT(I345,\"m/dd/yy \")&TEXT(J345,\"hh:mm:ss\"))-(VALUE(TEXT(G345,\"m/dd/yy \")&TEXT(H345,\"hh:mm:ss\"))))*24)","v":""}]
[null,null,null,null,null,null,null,null,null,null,""]
[null,null,null,null,null,null,null,null,null,null,""]
[null,null,null,null,null,null,null,null,null,null,""]
[null,null,null,null,null,null,null,null,null,null,""]
[null,null,null,null,null,null,null,null,null,null,""]
[null,null,null,null,null,null,null,null,null,null,""]
[null,null,null,null,null,null,null,null,null,null,""]
[null,null,null,null,null,null,null,null,null,null,""]
[null,null,null,null,null,null,null,null,null,null,""]
[null,null,null,null,null,null,null,null,null,null,""]
[null,null,null,null,null,null,null,null,null,null,""]
[null,null,null,null,null,null,null,null,null,null,""]
[null,null,null,null,null,null,null,null,null,null,""]
[null,null,null,null,null,null,null,null,null,null,""]
[null,null,null,null,null,null,null,null,null,null,""]
[null,null,null,null,null,null,null,null,null,null,""]
[null,null,null,null,null,null,null,null,null,null,""]
[null,null,null,null,null,null,null,null,null,null,""]
[null,null,null,null,null,null,null,null,null,null,""]
[null,null,null,null,null,null,null,null,null,null,""]
[null,null,null,null,null,null,null,null,null,null,""]
[null,null,null,null,null,null,null,null,null,null,""]
[null,null,null,null,null,null,null,null,null,null,""]
[null,null,null,null,null,null,null,null,null,null,""]
[null,null,null,null,null,null,null,null,null,null,""]
[null,null,null,null,null,null,null,null,null,null,""]
[null,null,null,null,null,null,null,null,null,null,""]
[null,null,null,null,null,null,null,null,null,null,""]
[null,null,null,null,null,null,null,null,null,null,""]
[null,null,null,null,null,null,null,null,null,null,""]
[null,null,null,null,null,null,null,null,null,null,""]
[null,null,null,null,null,null,null,null,null,null,""]
[null,null,null,null,null,null,null,null,null,null,""]
[null,null,null,null,null,null,null,null,null,null,""]
[null,null,null,null,null,null,null,null,null,null,""]
[null,null,null,null,null,null,null,null,null,null,""]
[null,null,null,null,null,null,null,null,null,null,""]
[null,null,null,null,null,null,null,null,null,null,""]
[null,null,null,null,null,null,null,null,null,null,""]
[null,null,null,null,null,null,null,null,null,null,""]
[null,null,null,null,null,null,null,null,null,null,""]
[null,null,null,null,null,null,null,null,null,null,""]
[null,null,null,null,null,null,null,null,null,null,""]
[null,null,null,null,null,null,null,null,null,null,""]
[null,null,null,null,null,null,null,null,null,null,""]
[null,null,null,null,null,null,null,null,null,null,""]
[null,null,null,null,null,null,null,null,null,null,""]
[null,null,null,null,null,null,null,null,null,null,""]
[null,null,null,null,null,null,null,null,null,null,""]
[null,null,null,null,null,null,null,null,null,null,""]
[null,null,null,null,null,null,null,null,null,null,""]
[null,null,null,null,null,null,null,null,null,null,""]
[null,null,null,null,null,null,null,null,null,null,""]
[null,null,null,null,null,null,null,null,null,null,""]
[null,null,null,null,null,null,null,null,null,null,""]
[null,null,null,null,null,null,null,null,null,null,""]
[null,null,null,null,null,null,null,null,null,null,""]
[null,null,null,null,null,null,null,null,null,null,""]
[null,null,null,null,null,null,null,null,null,null,""]
[null,null,null,null,null,null,null,null,null,null,""]
[null,null,null,null,null,null,null,null,null,null,""]
[null,null,null,null,null,null,null,null,null,null,""]
[null,null,null,null,null,null,null,null,null,null,""]
[null,null,null,null,null,null,null,null,null,null,{"$f":"IF(J409=\"\",\"\",(VALUE(TEXT(I409,\"m/dd/yy \")&TEXT(J409,\"hh:mm:ss\"))-(VALUE(TEXT(G409,\"m/dd/yy \")&TEXT(H409,\"hh:mm:ss\"))))*24)","v":""}]
[null,null,null,null,null,null,null,null,null,null,""]
[null,null,null,null,null,null,null,null,null,null,""]
[null,null,null,null,null,null,null,null,null,null,""]
[null,null,null,null,null,null,null,null,null,null,""]
[null,null,null,null,null,null,null,null,null,null,""]
[null,null,null,null,null,null,null,null,null,null,""]
[null,null,null,null,null,null,null,null,null,null,""]
[null,null,null,null,null,null,null,null,null,null,""]
[null,null,null,null,null,null,null,null,null,null,""]
[null,null,null,null,null,null,null,null,null,null,""]
[null,null,null,null,null,null,null,null,null,null,""]
[null,null,null,null,null,null,null,null,null,null,""]
[null,null,null,null,null,null,null,null,null,null,""]
[null,null,null,null,null,null,null,null,null,null,""]
[null,null,null,null,null,null,null,null,null,null,""]
[null,null,null,null,null,null,null,null,null,null,""]
[null,null,null,null,null,null,null,null,null,null,""]
[null,null,null,null,null,null,null,null,null,null,""]
[null,null,null,null,null,null,null,null,null,null,""]
[null,null,null,null,null,null,null,null,null,null,""]
[null,null,null,null,null,null,null,null,null,null,""]
[null,null,null,null,null,null,null,null,null,null,""]
[null,null,null,null,null,null,null,null,null,null,""]
[null,null,null,null,null,null,null,null,null,null,""]
[null,null,null,null,null,null,null,null,null,null,""]
[null,null,null,null,null,null,null,null,null,null,""]
[null,null,null,null,null,null,null,null,null,null,""]
[null,null,null,null,null,null,null,null,null,null,""]
[null,null,null,null,null,null,null,null,null,null,""]
[null,null,null,null,null,null,null,null,null,null,""]
[null,null,null,null,null,null,null,null,null,null,""]
[null,null,null,null,null,null,null,null,null,null,""]
[null,null,null,null,null,null,null,null,null,null,""]
[null,null,null,null,null,null,null,null,null,null,""]
[null,null,null,null,null,null,null,null,null,null,""]
[null,null,null,null,null,null,null,null,null,null,""]
[null,null,null,null,null,null,null,null,null,null,""]
[null,null,null,null,null,null,null,null,null,null,""]
[null,null,null,null,null,null,null,null,null,null,""]
[null,null,null,null,null,null,null,null,null,null,""]
[null,null,null,null,null,null,null,null,null,null,""]
[null,null,null,null,null,null,null,null,null,null,""]
[null,null,null,null,null,null,null,null,null,null,""]
[null,null,null,null,null,null,null,null,null,null,""]
[null,null,null,null,null,null,null,null,null,null,""]
[null,null,null,null,null,null,null,null,null,null,""]
[null,null,null,null,null,null,null,null,null,null,""]
[null,null,null,null,null,null,null,null,null,null,""]
[null,null,null,null,null,null,null,null,null,null,""]
[null,null,null,null,null,null,null,null,null,null,""]
[null,null,null,null,null,null,null,null,null,null,""]
[null,null,null,null,null,null,null,null,null,null,""]
[null,null,null,null,null,null,null,null,null,null,""]
[null,null,null,null,null,null,null,null,null,null,""]
[null,null,null,null,null,null,null,null,null,null,""]
[null,null,null,null,null,null,null,null,null,null,""]
[null,null,null,null,null,null,null,null,null,null,""]
[null,null,null,null,null,null,null,null,null,null,""]
[null,null,null,null,null,null,null,null,null,null,""]
[null,null,null,null,null,null,null,null,null,null,""]
[null,null,null,null,null,null,null,null,null,null,""]
[null,null,null,null,null,null,null,null,null,null,""]
[null,null,null,null,null,null,null,null,null,null,""]
[null,null,null,null,null,null,null,null,null,null,{"$f":"IF(J473=\"\",\"\",(VALUE(TEXT(I473,\"m/dd/yy \")&TEXT(J473,\"hh:mm:ss\"))-(VALUE(TEXT(G473,\"m/dd/yy \")&TEXT(H473,\"hh:mm:ss\"))))*24)","v":""}]
[null,null,null,null,null,null,null,null,null,null,""]
[null,null,null,null,null,null,null,null,null,null,""]
[null,null,null,null,null,null,null,null,null,null,""]
[null,null,null,null,null,null,null,null,null,null,""]
[null,null,null,null,null,null,null,null,null,null,""]
[null,null,null,null,null,null,null,null,null,null,""]
[null,null,null,null,null,null,null,null,null,null,""]
[null,null,null,null,null,null,null,null,null,null,""]
[null,null,null,null,null,null,null,null,null,null,""]
[null,null,null,null,null,null,null,null,null,null,""]
[null,null,null,null,null,null,null,null,null,null,""]
[null,null,null,null,null,null,null,null,null,null,""]
[null,null,null,null,null,null,null,null,null,null,""]
[null,null,null,null,null,null,null,null,null,null,""]
[null,null,null,null,null,null,null,null,null,null,""]
[null,null,null,null,null,null,null,null,null,null,""]
[null,null,null,null,null,null,null,null,null,null,""]
[null,null,null,null,null,null,null,null,null,null,""]
[null,null,null,null,null,null,null,null,null,null,""]
[null,null,null,null,null,null,null,null,null,null,""]
[null,null,null,null,null,null,null,null,null,null,""]
[null,null,null,null,null,null,null,null,null,null,""]
[null,null,null,null,null,null,null,null,null,null,""]
[null,null,null,null,null,null,null,null,null,null,""]
[null,null,null,null,null,null,null,null,null,null,""]
[null,null,null,null,null,null,null,null,null,null,""]
[null,null,null,null,null,null,null,null,null,null,""]

{"sheet":"Excess Emissions Summary","index":13,"n_rows":100,"n_cols":12,"rows_kept":100,"cut":false,"hidden":false,"merged":[]}
[null,"DO NOT REMOVE OR EDIT INFORMATION IN THIS SECTION\nFOR INTERNAL USE ONLY"]
[null,"Template Name",{"$f":"Welcome!B2","v":"63.366(b) Initial Compliance Report and (c) Quarterly Report (Spreadsheet Template)"}]
[null,"CitationID",{"$f":"Welcome!B3","v":"63.366(b) and (c)"}]
[null,"Template Version",{"$f":"Welcome!B4","v":"v2.00"}]
[null,"Last Updated Date",{"$f":"Welcome!B5","v":45519}]
[]
[null,"40 CFR Part 63, Subpart O National Emission Standards for Hazardous Air Pollutants: Sterilization Facilities"]
[null,"§63.366(b) Initial Compliance Report and §63.366(c) Quarterly Report Spreadsheet Template"]
[]
[]
[]
[null,"Company Record No.\n(Autocompleted from Excess Emissions Page)","Process Unit Descriptions\n(§63.10(e)(3)(vi)(D))\n(Autocompleted from Excess Emissions Page)","Pollutant/Parameter\n(§63.10(e)(3)(vi)(B))\n(Autocompleted from Excess Emissions Page)","Total Source\nOperating Time\n(hours)\n(§63.10(e)(3)(vi)(H) and §63.10(c)(13)))  \n(Autocompleted from Process and CMS Information Page)","Total Duration of \nDeviations from \nEmission Limit\n(hours) \n(§63.10(e)(3)(vi)(I))\n(Direct import from Excess Emissions Report)","Total Duration of \nDeviations from\nEmission Limit as a \nper cent of \nTotal Source Operating Time\n(§63.10(e)(3)(vi)(I))\n(Calculated result)","Total Duration of \nDeviations from\nEmission Limit Due to \nStartup or Shutdown\n(hours)  \n(§63.10(e)(3)(vi)(I))\n(Direct import from Excess Emissions Report)","Total Duration of \nDeviations from \nEmission Limit Due to \nControl Equipment Problems\n(hours)  \n(§63.10(e)(3)(vi)(I))\n(Direct import from Excess Emissions Report)","Total Duration of \nDeviations from\nEmission Limit Due to \nProcess Problems\n(hours)  \n(§63.10(e)(3)(vi)(I))\n(Direct import from Excess Emissions Report)","Total Duration of\nDeviations from \nEmission Limit Due to \nOther Known Causes\n(hours)  \n(§63.10(e)(3)(vi)(I))\n(Direct import from Excess Emissions Report)","Total Duration of Deviations from Emission Limit Due to Other Unknown Causes\n(hours)  \n(§63.10(e)(3)(vi)(I))\n(Direct import from Excess Emissions Report)"]
[null,"RecordId","ProcessUnit","Pollutant","OperatingTime","TotalDeviationHrs","TotalDeviationPercent","StartupShutdownHrs","EquipProblemHrs","ProcessProblemHrs","OtherCauseHrs","UnknownCauseHrs"]
[null,"e.g.: 1","e.g.: SCV","e.g.: Ethylene Oxide (EtO)","e.g.: 6240","e.g.: 1.00","e.g.: 0.58%","e.g.: 0","e.g.: 36.2","e.g.: 0","e.g.: 0","e.g.: 0"]
[null,"e.g.:","e.g.:","e.g.:","e.g.:","e.g.:","e.g.:","e.g.:","e.g.:","e.g.:","e.g.:","e.g.:"]
[null,"e.g.:","e.g.:","e.g.:","e.g.:","e.g.:","e.g.:","e.g.:","e.g.:","e.g.:","e.g.:","e.g.:"]
[null,"e.g.:","e.g.:","e.g.:","e.g.:","e.g.:","e.g.:","e.g.:","e.g.:","e.g.:","e.g.:","e.g.:"]
[null,"e.g.:","e.g.:","e.g.:","e.g.:","e.g.:","e.g.:","e.g.:","e.g.:","e.g.:","e.g.:","e.g.:"]
[null,"e.g.:","e.g.:","e.g.:","e.g.:","e.g.:","e.g.:","e.g.:","e.g.:","e.g.:","e.g.:","e.g.:"]
[null,"e.g.:","e.g.:","e.g.:","e.g.:","e.g.:","e.g.:","e.g.:","e.g.:","e.g.:","e.g.:","e.g.:"]
[null,"e.g.:","e.g.:","e.g.:","e.g.:","e.g.:","e.g.:","e.g.:","e.g.:","e.g.:","e.g.:","e.g.:"]
[null,"e.g.:","e.g.:","e.g.:","e.g.:","e.g.:","e.g.:","e.g.:","e.g.:","e.g.:","e.g.:","e.g.:"]
[null,"e.g.:","e.g.:","e.g.:","e.g.:","e.g.:","e.g.:","e.g.:","e.g.:","e.g.:","e.g.:","e.g.:"]
[null,{"$f":"IF(Lists!AG2=\"\",\"\",Lists!AG2)","v":""},{"$f":"IF(Lists!AH2=\"\",\"\",Lists!AH2)","v":""},{"$f":"IF(Lists!AI2=\"\",\"\",Lists!AI2)","v":""},{"$f":"IF(C24=\"\",\"\",VLOOKUP(B24&C24,Lists!$BA$2:$BD$78,4,FALSE))","v":""},{"$f":"IF(E24=\"\",\"\",SUM(H24:L24))","v":""},{"$f":"IF(E24=\"\",\"\",F24/E24)","v":""},{"$f":"IF($E24=\"\",\"\",SUMIFS('Excess Emissions'!$K$24:$K$500,'Excess Emissions'!$B$24:$B$500,$B24,'Excess Emissions'!$C$24:$C$500,$C24,'Excess Emissions'!$D$24:$D$500,$D24,'Excess Emissions'!$E$24:$E$500,\"Startup or Shutdown\"))","v":""},{"$f":"IF($E24=\"\",\"\",SUMIFS('Excess Emissions'!$K$24:$K$500,'Excess Emissions'!$B$24:$B$500,$B24,'Excess Emissions'!$C$24:$C$500,$C24,'Excess Emissions'!$D$24:$D$500,$D24,'Excess Emissions'!$E$24:$E$500,\"Control Equipment Problems\"))","v":""},{"$f":"IF($E24=\"\",\"\",SUMIFS('Excess Emissions'!$K$24:$K$500,'Excess Emissions'!$B$24:$B$500,$B24,'Excess Emissions'!$C$24:$C$500,$C24,'Excess Emissions'!$D$24:$D$500,$D24,'Excess Emissions'!$E$24:$E$500,\"Process Problems\"))","v":""},{"$f":"IF($E24=\"\",\"\",SUMIFS('Excess Emissions'!$K$24:$K$500,'Excess Emissions'!$B$24:$B$500,$B24,'Excess Emissions'!$C$24:$C$500,$C24,'Excess Emissions'!$D$24:$D$500,$D24,'Excess Emissions'!$E$24:$E$500,\"Other Known Causes\"))","v":""},{"$f":"IF($E24=\"\",\"\",SUMIFS('Excess Emissions'!$K$24:$K$500,'Excess Emissions'!$B$24:$B$500,$B24,'Excess Emissions'!$C$24:$C$500,$C24,'Excess Emissions'!$D$24:$D$500,$D24,'Excess Emissions'!$E$24:$E$500,\"Other Unknown Causes\"))","v":""}]
[null,{"$f":"IF(Lists!AG3=\"\",\"\",Lists!AG3)","v":""},{"$f":"IF(Lists!AH3=\"\",\"\",Lists!AH3)","v":""},{"$f":"IF(Lists!AI3=\"\",\"\",Lists!AI3)","v":""},{"$f":"IF(C25=\"\",\"\",VLOOKUP(B25&C25,Lists!$BA$2:$BD$78,4,FALSE))","v":""},{"$f":"IF(E25=\"\",\"\",SUM(H25:L25))","v":""},{"$f":"IF(E25=\"\",\"\",F25/E25)","v":""},{"$f":"IF($E25=\"\",\"\",SUMIFS('Excess Emissions'!$K$24:$K$500,'Excess Emissions'!$B$24:$B$500,$B25,'Excess Emissions'!$C$24:$C$500,$C25,'Excess Emissions'!$D$24:$D$500,$D25,'Excess Emissions'!$E$24:$E$500,\"Startup or Shutdown\"))","v":""},{"$f":"IF($E25=\"\",\"\",SUMIFS('Excess Emissions'!$K$24:$K$500,'Excess Emissions'!$B$24:$B$500,$B25,'Excess Emissions'!$C$24:$C$500,$C25,'Excess Emissions'!$D$24:$D$500,$D25,'Excess Emissions'!$E$24:$E$500,\"Control Equipment Problems\"))","v":""},{"$f":"IF($E25=\"\",\"\",SUMIFS('Excess Emissions'!$K$24:$K$500,'Excess Emissions'!$B$24:$B$500,$B25,'Excess Emissions'!$C$24:$C$500,$C25,'Excess Emissions'!$D$24:$D$500,$D25,'Excess Emissions'!$E$24:$E$500,\"Process Problems\"))","v":""},{"$f":"IF($E25=\"\",\"\",SUMIFS('Excess Emissions'!$K$24:$K$500,'Excess Emissions'!$B$24:$B$500,$B25,'Excess Emissions'!$C$24:$C$500,$C25,'Excess Emissions'!$D$24:$D$500,$D25,'Excess Emissions'!$E$24:$E$500,\"Other Known Causes\"))","v":""},{"$f":"IF($E25=\"\",\"\",SUMIFS('Excess Emissions'!$K$24:$K$500,'Excess Emissions'!$B$24:$B$500,$B25,'Excess Emissions'!$C$24:$C$500,$C25,'Excess Emissions'!$D$24:$D$500,$D25,'Excess Emissions'!$E$24:$E$500,\"Other Unknown Causes\"))","v":""}]
[null,{"$f":"IF(Lists!AG4=\"\",\"\",Lists!AG4)","v":""},{"$f":"IF(Lists!AH4=\"\",\"\",Lists!AH4)","v":""},{"$f":"IF(Lists!AI4=\"\",\"\",Lists!AI4)","v":""},{"$f":"IF(C26=\"\",\"\",VLOOKUP(B26&C26,Lists!$BA$2:$BD$78,4,FALSE))","v":""},"","",{"$f":"IF($E26=\"\",\"\",SUMIFS('Excess Emissions'!$K$24:$K$500,'Excess Emissions'!$B$24:$B$500,$B26,'Excess Emissions'!$C$24:$C$500,$C26,'Excess Emissions'!$D$24:$D$500,$D26,'Excess Emissions'!$E$24:$E$500,\"Startup or Shutdown\"))","v":""},{"$f":"IF($E26=\"\",\"\",SUMIFS('Excess Emissions'!$K$24:$K$500,'Excess Emissions'!$B$24:$B$500,$B26,'Excess Emissions'!$C$24:$C$500,$C26,'Excess Emissions'!$D$24:$D$500,$D26,'Excess Emissions'!$E$24:$E$500,\"Control Equipment Problems\"))","v":""},{"$f":"IF($E26=\"\",\"\",SUMIFS('Excess Emissions'!$K$24:$K$500,'Excess Emissions'!$B$24:$B$500,$B26,'Excess Emissions'!$C$24:$C$500,$C26,'Excess Emissions'!$D$24:$D$500,$D26,'Excess Emissions'!$E$24:$E$500,\"Process Problems\"))","v":""},{"$f":"IF($E26=\"\",\"\",SUMIFS('Excess Emissions'!$K$24:$K$500,'Excess Emissions'!$B$24:$B$500,$B26,'Excess Emissions'!$C$24:$C$500,$C26,'Excess Emissions'!$D$24:$D$500,$D26,'Excess Emissions'!$E$24:$E$500,\"Other Known Causes\"))","v":""},{"$f":"IF($E26=\"\",\"\",SUMIFS('Excess Emissions'!$K$24:$K$500,'Excess Emissions'!$B$24:$B$500,$B26,'Excess Emissions'!$C$24:$C$500,$C26,'Excess Emissions'!$D$24:$D$500,$D26,'Excess Emissions'!$E$24:$E$500,\"Other Unknown Causes\"))","v":""}]
[null,{"$f":"IF(Lists!AG5=\"\",\"\",Lists!AG5)","v":""},{"$f":"IF(Lists!AH5=\"\",\"\",Lists!AH5)","v":""},{"$f":"IF(Lists!AI5=\"\",\"\",Lists!AI5)","v":""},{"$f":"IF(C27=\"\",\"\",VLOOKUP(B27&C27,Lists!$BA$2:$BD$78,4,FALSE))","v":""},"","",{"$f":"IF($E27=\"\",\"\",SUMIFS('Excess Emissions'!$K$24:$K$500,'Excess Emissions'!$B$24:$B$500,$B27,'Excess Emissions'!$C$24:$C$500,$C27,'Excess Emissions'!$D$24:$D$500,$D27,'Excess Emissions'!$E$24:$E$500,\"Startup or Shutdown\"))","v":""},{"$f":"IF($E27=\"\",\"\",SUMIFS('Excess Emissions'!$K$24:$K$500,'Excess Emissions'!$B$24:$B$500,$B27,'Excess Emissions'!$C$24:$C$500,$C27,'Excess Emissions'!$D$24:$D$500,$D27,'Excess Emissions'!$E$24:$E$500,\"Control Equipment Problems\"))","v":""},{"$f":"IF($E27=\"\",\"\",SUMIFS('Excess Emissions'!$K$24:$K$500,'Excess Emissions'!$B$24:$B$500,$B27,'Excess Emissions'!$C$24:$C$500,$C27,'Excess Emissions'!$D$24:$D$500,$D27,'Excess Emissions'!$E$24:$E$500,\"Process Problems\"))","v":""},{"$f":"IF($E27=\"\",\"\",SUMIFS('Excess Emissions'!$K$24:$K$500,'Excess Emissions'!$B$24:$B$500,$B27,'Excess Emissions'!$C$24:$C$500,$C27,'Excess Emissions'!$D$24:$D$500,$D27,'Excess Emissions'!$E$24:$E$500,\"Other Known Causes\"))","v":""},{"$f":"IF($E27=\"\",\"\",SUMIFS('Excess Emissions'!$K$24:$K$500,'Excess Emissions'!$B$24:$B$500,$B27,'Excess Emissions'!$C$24:$C$500,$C27,'Excess Emissions'!$D$24:$D$500,$D27,'Excess Emissions'!$E$24:$E$500,\"Other Unknown Causes\"))","v":""}]
[null,{"$f":"IF(Lists!AG6=\"\",\"\",Lists!AG6)","v":""},{"$f":"IF(Lists!AH6=\"\",\"\",Lists!AH6)","v":""},{"$f":"IF(Lists!AI6=\"\",\"\",Lists!AI6)","v":""},{"$f":"IF(C28=\"\",\"\",VLOOKUP(B28&C28,Lists!$BA$2:$BD$78,4,FALSE))","v":""},"","",{"$f":"IF($E28=\"\",\"\",SUMIFS('Excess Emissions'!$K$24:$K$500,'Excess Emissions'!$B$24:$B$500,$B28,'Excess Emissions'!$C$24:$C$500,$C28,'Excess Emissions'!$D$24:$D$500,$D28,'Excess Emissions'!$E$24:$E$500,\"Startup or Shutdown\"))","v":""},{"$f":"IF($E28=\"\",\"\",SUMIFS('Excess Emissions'!$K$24:$K$500,'Excess Emissions'!$B$24:$B$500,$B28,'Excess Emissions'!$C$24:$C$500,$C28,'Excess Emissions'!$D$24:$D$500,$D28,'Excess Emissions'!$E$24:$E$500,\"Control Equipment Problems\"))","v":""},{"$f":"IF($E28=\"\",\"\",SUMIFS('Excess Emissions'!$K$24:$K$500,'Excess Emissions'!$B$24:$B$500,$B28,'Excess Emissions'!$C$24:$C$500,$C28,'Excess Emissions'!$D$24:$D$500,$D28,'Excess Emissions'!$E$24:$E$500,\"Process Problems\"))","v":""},{"$f":"IF($E28=\"\",\"\",SUMIFS('Excess Emissions'!$K$24:$K$500,'Excess Emissions'!$B$24:$B$500,$B28,'Excess Emissions'!$C$24:$C$500,$C28,'Excess Emissions'!$D$24:$D$500,$D28,'Excess Emissions'!$E$24:$E$500,\"Other Known Causes\"))","v":""},{"$f":"IF($E28=\"\",\"\",SUMIFS('Excess Emissions'!$K$24:$K$500,'Excess Emissions'!$B$24:$B$500,$B28,'Excess Emissions'!$C$24:$C$500,$C28,'Excess Emissions'!$D$24:$D$500,$D28,'Excess Emissions'!$E$24:$E$500,\"Other Unknown Causes\"))","v":""}]
[null,{"$f":"IF(Lists!AG7=\"\",\"\",Lists!AG7)","v":""},{"$f":"IF(Lists!AH7=\"\",\"\",Lists!AH7)","v":""},{"$f":"IF(Lists!AI7=\"\",\"\",Lists!AI7)","v":""},{"$f":"IF(C29=\"\",\"\",VLOOKUP(B29&C29,Lists!$BA$2:$BD$78,4,FALSE))","v":""},"","",{"$f":"IF($E29=\"\",\"\",SUMIFS('Excess Emissions'!$K$24:$K$500,'Excess Emissions'!$B$24:$B$500,$B29,'Excess Emissions'!$C$24:$C$500,$C29,'Excess Emissions'!$D$24:$D$500,$D29,'Excess Emissions'!$E$24:$E$500,\"Startup or Shutdown\"))","v":""},{"$f":"IF($E29=\"\",\"\",SUMIFS('Excess Emissions'!$K$24:$K$500,'Excess Emissions'!$B$24:$B$500,$B29,'Excess Emissions'!$C$24:$C$500,$C29,'Excess Emissions'!$D$24:$D$500,$D29,'Excess Emissions'!$E$24:$E$500,\"Control Equipment Problems\"))","v":""},{"$f":"IF($E29=\"\",\"\",SUMIFS('Excess Emissions'!$K$24:$K$500,'Excess Emissions'!$B$24:$B$500,$B29,'Excess Emissions'!$C$24:$C$500,$C29,'Excess Emissions'!$D$24:$D$500,$D29,'Excess Emissions'!$E$24:$E$500,\"Process Problems\"))","v":""},{"$f":"IF($E29=\"\",\"\",SUMIFS('Excess Emissions'!$K$24:$K$500,'Excess Emissions'!$B$24:$B$500,$B29,'Excess Emissions'!$C$24:$C$500,$C29,'Excess Emissions'!$D$24:$D$500,$D29,'Excess Emissions'!$E$24:$E$500,\"Other Known Causes\"))","v":""},{"$f":"IF($E29=\"\",\"\",SUMIFS('Excess Emissions'!$K$24:$K$500,'Excess Emissions'!$B$24:$B$500,$B29,'Excess Emissions'!$C$24:$C$500,$C29,'Excess Emissions'!$D$24:$D$500,$D29,'Excess Emissions'!$E$24:$E$500,\"Other Unknown Causes\"))","v":""}]
[null,{"$f":"IF(Lists!AG8=\"\",\"\",Lists!AG8)","v":""},{"$f":"IF(Lists!AH8=\"\",\"\",Lists!AH8)","v":""},{"$f":"IF(Lists!AI8=\"\",\"\",Lists!AI8)","v":""},{"$f":"IF(C30=\"\",\"\",VLOOKUP(B30&C30,Lists!$BA$2:$BD$78,4,FALSE))","v":""},"","",{"$f":"IF($E30=\"\",\"\",SUMIFS('Excess Emissions'!$K$24:$K$500,'Excess Emissions'!$B$24:$B$500,$B30,'Excess Emissions'!$C$24:$C$500,$C30,'Excess Emissions'!$D$24:$D$500,$D30,'Excess Emissions'!$E$24:$E$500,\"Startup or Shutdown\"))","v":""},{"$f":"IF($E30=\"\",\"\",SUMIFS('Excess Emissions'!$K$24:$K$500,'Excess Emissions'!$B$24:$B$500,$B30,'Excess Emissions'!$C$24:$C$500,$C30,'Excess Emissions'!$D$24:$D$500,$D30,'Excess Emissions'!$E$24:$E$500,\"Control Equipment Problems\"))","v":""},{"$f":"IF($E30=\"\",\"\",SUMIFS('Excess Emissions'!$K$24:$K$500,'Excess Emissions'!$B$24:$B$500,$B30,'Excess Emissions'!$C$24:$C$500,$C30,'Excess Emissions'!$D$24:$D$500,$D30,'Excess Emissions'!$E$24:$E$500,\"Process Problems\"))","v":""},{"$f":"IF($E30=\"\",\"\",SUMIFS('Excess Emissions'!$K$24:$K$500,'Excess Emissions'!$B$24:$B$500,$B30,'Excess Emissions'!$C$24:$C$500,$C30,'Excess Emissions'!$D$24:$D$500,$D30,'Excess Emissions'!$E$24:$E$500,\"Other Known Causes\"))","v":""},{"$f":"IF($E30=\"\",\"\",SUMIFS('Excess Emissions'!$K$24:$K$500,'Excess Emissions'!$B$24:$B$500,$B30,'Excess Emissions'!$C$24:$C$500,$C30,'Excess Emissions'!$D$24:$D$500,$D30,'Excess Emissions'!$E$24:$E$500,\"Other Unknown Causes\"))","v":""}]
[null,{"$f":"IF(Lists!AG9=\"\",\"\",Lists!AG9)","v":""},{"$f":"IF(Lists!AH9=\"\",\"\",Lists!AH9)","v":""},{"$f":"IF(Lists!AI9=\"\",\"\",Lists!AI9)","v":""},{"$f":"IF(C31=\"\",\"\",VLOOKUP(B31&C31,Lists!$BA$2:$BD$78,4,FALSE))","v":""},"","",{"$f":"IF($E31=\"\",\"\",SUMIFS('Excess Emissions'!$K$24:$K$500,'Excess Emissions'!$B$24:$B$500,$B31,'Excess Emissions'!$C$24:$C$500,$C31,'Excess Emissions'!$D$24:$D$500,$D31,'Excess Emissions'!$E$24:$E$500,\"Startup or Shutdown\"))","v":""},{"$f":"IF($E31=\"\",\"\",SUMIFS('Excess Emissions'!$K$24:$K$500,'Excess Emissions'!$B$24:$B$500,$B31,'Excess Emissions'!$C$24:$C$500,$C31,'Excess Emissions'!$D$24:$D$500,$D31,'Excess Emissions'!$E$24:$E$500,\"Control Equipment Problems\"))","v":""},{"$f":"IF($E31=\"\",\"\",SUMIFS('Excess Emissions'!$K$24:$K$500,'Excess Emissions'!$B$24:$B$500,$B31,'Excess Emissions'!$C$24:$C$500,$C31,'Excess Emissions'!$D$24:$D$500,$D31,'Excess Emissions'!$E$24:$E$500,\"Process Problems\"))","v":""},{"$f":"IF($E31=\"\",\"\",SUMIFS('Excess Emissions'!$K$24:$K$500,'Excess Emissions'!$B$24:$B$500,$B31,'Excess Emissions'!$C$24:$C$500,$C31,'Excess Emissions'!$D$24:$D$500,$D31,'Excess Emissions'!$E$24:$E$500,\"Other Known Causes\"))","v":""},{"$f":"IF($E31=\"\",\"\",SUMIFS('Excess Emissions'!$K$24:$K$500,'Excess Emissions'!$B$24:$B$500,$B31,'Excess Emissions'!$C$24:$C$500,$C31,'Excess Emissions'!$D$24:$D$500,$D31,'Excess Emissions'!$E$24:$E$500,\"Other Unknown Causes\"))","v":""}]
[null,{"$f":"IF(Lists!AG10=\"\",\"\",Lists!AG10)","v":""},{"$f":"IF(Lists!AH10=\"\",\"\",Lists!AH10)","v":""},{"$f":"IF(Lists!AI10=\"\",\"\",Lists!AI10)","v":""},{"$f":"IF(C32=\"\",\"\",VLOOKUP(B32&C32,Lists!$BA$2:$BD$78,4,FALSE))","v":""},"","",{"$f":"IF($E32=\"\",\"\",SUMIFS('Excess Emissions'!$K$24:$K$500,'Excess Emissions'!$B$24:$B$500,$B32,'Excess Emissions'!$C$24:$C$500,$C32,'Excess Emissions'!$D$24:$D$500,$D32,'Excess Emissions'!$E$24:$E$500,\"Startup or Shutdown\"))","v":""},{"$f":"IF($E32=\"\",\"\",SUMIFS('Excess Emissions'!$K$24:$K$500,'Excess Emissions'!$B$24:$B$500,$B32,'Excess Emissions'!$C$24:$C$500,$C32,'Excess Emissions'!$D$24:$D$500,$D32,'Excess Emissions'!$E$24:$E$500,\"Control Equipment Problems\"))","v":""},{"$f":"IF($E32=\"\",\"\",SUMIFS('Excess Emissions'!$K$24:$K$500,'Excess Emissions'!$B$24:$B$500,$B32,'Excess Emissions'!$C$24:$C$500,$C32,'Excess Emissions'!$D$24:$D$500,$D32,'Excess Emissions'!$E$24:$E$500,\"Process Problems\"))","v":""},{"$f":"IF($E32=\"\",\"\",SUMIFS('Excess Emissions'!$K$24:$K$500,'Excess Emissions'!$B$24:$B$500,$B32,'Excess Emissions'!$C$24:$C$500,$C32,'Excess Emissions'!$D$24:$D$500,$D32,'Excess Emissions'!$E$24:$E$500,\"Other Known Causes\"))","v":""},{"$f":"IF($E32=\"\",\"\",SUMIFS('Excess Emissions'!$K$24:$K$500,'Excess Emissions'!$B$24:$B$500,$B32,'Excess Emissions'!$C$24:$C$500,$C32,'Excess Emissions'!$D$24:$D$500,$D32,'Excess Emissions'!$E$24:$E$500,\"Other Unknown Causes\"))","v":""}]
[null,{"$f":"IF(Lists!AG11=\"\",\"\",Lists!AG11)","v":""},{"$f":"IF(Lists!AH11=\"\",\"\",Lists!AH11)","v":""},{"$f":"IF(Lists!AI11=\"\",\"\",Lists!AI11)","v":""},{"$f":"IF(C33=\"\",\"\",VLOOKUP(B33&C33,Lists!$BA$2:$BD$78,4,FALSE))","v":""},"","",{"$f":"IF($E33=\"\",\"\",SUMIFS('Excess Emissions'!$K$24:$K$500,'Excess Emissions'!$B$24:$B$500,$B33,'Excess Emissions'!$C$24:$C$500,$C33,'Excess Emissions'!$D$24:$D$500,$D33,'Excess Emissions'!$E$24:$E$500,\"Startup or Shutdown\"))","v":""},{"$f":"IF($E33=\"\",\"\",SUMIFS('Excess Emissions'!$K$24:$K$500,'Excess Emissions'!$B$24:$B$500,$B33,'Excess Emissions'!$C$24:$C$500,$C33,'Excess Emissions'!$D$24:$D$500,$D33,'Excess Emissions'!$E$24:$E$500,\"Control Equipment Problems\"))","v":""},{"$f":"IF($E33=\"\",\"\",SUMIFS('Excess Emissions'!$K$24:$K$500,'Excess Emissions'!$B$24:$B$500,$B33,'Excess Emissions'!$C$24:$C$500,$C33,'Excess Emissions'!$D$24:$D$500,$D33,'Excess Emissions'!$E$24:$E$500,\"Process Problems\"))","v":""},{"$f":"IF($E33=\"\",\"\",SUMIFS('Excess Emissions'!$K$24:$K$500,'Excess Emissions'!$B$24:$B$500,$B33,'Excess Emissions'!$C$24:$C$500,$C33,'Excess Emissions'!$D$24:$D$500,$D33,'Excess Emissions'!$E$24:$E$500,\"Other Known Causes\"))","v":""},{"$f":"IF($E33=\"\",\"\",SUMIFS('Excess Emissions'!$K$24:$K$500,'Excess Emissions'!$B$24:$B$500,$B33,'Excess Emissions'!$C$24:$C$500,$C33,'Excess Emissions'!$D$24:$D$500,$D33,'Excess Emissions'!$E$24:$E$500,\"Other Unknown Causes\"))","v":""}]
[null,{"$f":"IF(Lists!AG12=\"\",\"\",Lists!AG12)","v":""},{"$f":"IF(Lists!AH12=\"\",\"\",Lists!AH12)","v":""},{"$f":"IF(Lists!AI12=\"\",\"\",Lists!AI12)","v":""},{"$f":"IF(C34=\"\",\"\",VLOOKUP(B34&C34,Lists!$BA$2:$BD$78,4,FALSE))","v":""},"","",{"$f":"IF($E34=\"\",\"\",SUMIFS('Excess Emissions'!$K$24:$K$500,'Excess Emissions'!$B$24:$B$500,$B34,'Excess Emissions'!$C$24:$C$500,$C34,'Excess Emissions'!$D$24:$D$500,$D34,'Excess Emissions'!$E$24:$E$500,\"Startup or Shutdown\"))","v":""},{"$f":"IF($E34=\"\",\"\",SUMIFS('Excess Emissions'!$K$24:$K$500,'Excess Emissions'!$B$24:$B$500,$B34,'Excess Emissions'!$C$24:$C$500,$C34,'Excess Emissions'!$D$24:$D$500,$D34,'Excess Emissions'!$E$24:$E$500,\"Control Equipment Problems\"))","v":""},{"$f":"IF($E34=\"\",\"\",SUMIFS('Excess Emissions'!$K$24:$K$500,'Excess Emissions'!$B$24:$B$500,$B34,'Excess Emissions'!$C$24:$C$500,$C34,'Excess Emissions'!$D$24:$D$500,$D34,'Excess Emissions'!$E$24:$E$500,\"Process Problems\"))","v":""},{"$f":"IF($E34=\"\",\"\",SUMIFS('Excess Emissions'!$K$24:$K$500,'Excess Emissions'!$B$24:$B$500,$B34,'Excess Emissions'!$C$24:$C$500,$C34,'Excess Emissions'!$D$24:$D$500,$D34,'Excess Emissions'!$E$24:$E$500,\"Other Known Causes\"))","v":""},{"$f":"IF($E34=\"\",\"\",SUMIFS('Excess Emissions'!$K$24:$K$500,'Excess Emissions'!$B$24:$B$500,$B34,'Excess Emissions'!$C$24:$C$500,$C34,'Excess Emissions'!$D$24:$D$500,$D34,'Excess Emissions'!$E$24:$E$500,\"Other Unknown Causes\"))","v":""}]
[null,{"$f":"IF(Lists!AG13=\"\",\"\",Lists!AG13)","v":""},{"$f":"IF(Lists!AH13=\"\",\"\",Lists!AH13)","v":""},{"$f":"IF(Lists!AI13=\"\",\"\",Lists!AI13)","v":""},{"$f":"IF(C35=\"\",\"\",VLOOKUP(B35&C35,Lists!$BA$2:$BD$78,4,FALSE))","v":""},"","",{"$f":"IF($E35=\"\",\"\",SUMIFS('Excess Emissions'!$K$24:$K$500,'Excess Emissions'!$B$24:$B$500,$B35,'Excess Emissions'!$C$24:$C$500,$C35,'Excess Emissions'!$D$24:$D$500,$D35,'Excess Emissions'!$E$24:$E$500,\"Startup or Shutdown\"))","v":""},{"$f":"IF($E35=\"\",\"\",SUMIFS('Excess Emissions'!$K$24:$K$500,'Excess Emissions'!$B$24:$B$500,$B35,'Excess Emissions'!$C$24:$C$500,$C35,'Excess Emissions'!$D$24:$D$500,$D35,'Excess Emissions'!$E$24:$E$500,\"Control Equipment Problems\"))","v":""},{"$f":"IF($E35=\"\",\"\",SUMIFS('Excess Emissions'!$K$24:$K$500,'Excess Emissions'!$B$24:$B$500,$B35,'Excess Emissions'!$C$24:$C$500,$C35,'Excess Emissions'!$D$24:$D$500,$D35,'Excess Emissions'!$E$24:$E$500,\"Process Problems\"))","v":""},{"$f":"IF($E35=\"\",\"\",SUMIFS('Excess Emissions'!$K$24:$K$500,'Excess Emissions'!$B$24:$B$500,$B35,'Excess Emissions'!$C$24:$C$500,$C35,'Excess Emissions'!$D$24:$D$500,$D35,'Excess Emissions'!$E$24:$E$500,\"Other Known Causes\"))","v":""},{"$f":"IF($E35=\"\",\"\",SUMIFS('Excess Emissions'!$K$24:$K$500,'Excess Emissions'!$B$24:$B$500,$B35,'Excess Emissions'!$C$24:$C$500,$C35,'Excess Emissions'!$D$24:$D$500,$D35,'Excess Emissions'!$E$24:$E$500,\"Other Unknown Causes\"))","v":""}]
[null,{"$f":"IF(Lists!AG14=\"\",\"\",Lists!AG14)","v":""},{"$f":"IF(Lists!AH14=\"\",\"\",Lists!AH14)","v":""},{"$f":"IF(Lists!AI14=\"\",\"\",Lists!AI14)","v":""},{"$f":"IF(C36=\"\",\"\",VLOOKUP(B36&C36,Lists!$BA$2:$BD$78,4,FALSE))","v":""},"","",{"$f":"IF($E36=\"\",\"\",SUMIFS('Excess Emissions'!$K$24:$K$500,'Excess Emissions'!$B$24:$B$500,$B36,'Excess Emissions'!$C$24:$C$500,$C36,'Excess Emissions'!$D$24:$D$500,$D36,'Excess Emissions'!$E$24:$E$500,\"Startup or Shutdown\"))","v":""},{"$f":"IF($E36=\"\",\"\",SUMIFS('Excess Emissions'!$K$24:$K$500,'Excess Emissions'!$B$24:$B$500,$B36,'Excess Emissions'!$C$24:$C$500,$C36,'Excess Emissions'!$D$24:$D$500,$D36,'Excess Emissions'!$E$24:$E$500,\"Control Equipment Problems\"))","v":""},{"$f":"IF($E36=\"\",\"\",SUMIFS('Excess Emissions'!$K$24:$K$500,'Excess Emissions'!$B$24:$B$500,$B36,'Excess Emissions'!$C$24:$C$500,$C36,'Excess Emissions'!$D$24:$D$500,$D36,'Excess Emissions'!$E$24:$E$500,\"Process Problems\"))","v":""},{"$f":"IF($E36=\"\",\"\",SUMIFS('Excess Emissions'!$K$24:$K$500,'Excess Emissions'!$B$24:$B$500,$B36,'Excess Emissions'!$C$24:$C$500,$C36,'Excess Emissions'!$D$24:$D$500,$D36,'Excess Emissions'!$E$24:$E$500,\"Other Known Causes\"))","v":""},{"$f":"IF($E36=\"\",\"\",SUMIFS('Excess Emissions'!$K$24:$K$500,'Excess Emissions'!$B$24:$B$500,$B36,'Excess Emissions'!$C$24:$C$500,$C36,'Excess Emissions'!$D$24:$D$500,$D36,'Excess Emissions'!$E$24:$E$500,\"Other Unknown Causes\"))","v":""}]
[null,{"$f":"IF(Lists!AG15=\"\",\"\",Lists!AG15)","v":""},{"$f":"IF(Lists!AH15=\"\",\"\",Lists!AH15)","v":""},{"$f":"IF(Lists!AI15=\"\",\"\",Lists!AI15)","v":""},{"$f":"IF(C37=\"\",\"\",VLOOKUP(B37&C37,Lists!$BA$2:$BD$78,4,FALSE))","v":""},"","",{"$f":"IF($E37=\"\",\"\",SUMIFS('Excess Emissions'!$K$24:$K$500,'Excess Emissions'!$B$24:$B$500,$B37,'Excess Emissions'!$C$24:$C$500,$C37,'Excess Emissions'!$D$24:$D$500,$D37,'Excess Emissions'!$E$24:$E$500,\"Startup or Shutdown\"))","v":""},{"$f":"IF($E37=\"\",\"\",SUMIFS('Excess Emissions'!$K$24:$K$500,'Excess Emissions'!$B$24:$B$500,$B37,'Excess Emissions'!$C$24:$C$500,$C37,'Excess Emissions'!$D$24:$D$500,$D37,'Excess Emissions'!$E$24:$E$500,\"Control Equipment Problems\"))","v":""},{"$f":"IF($E37=\"\",\"\",SUMIFS('Excess Emissions'!$K$24:$K$500,'Excess Emissions'!$B$24:$B$500,$B37,'Excess Emissions'!$C$24:$C$500,$C37,'Excess Emissions'!$D$24:$D$500,$D37,'Excess Emissions'!$E$24:$E$500,\"Process Problems\"))","v":""},{"$f":"IF($E37=\"\",\"\",SUMIFS('Excess Emissions'!$K$24:$K$500,'Excess Emissions'!$B$24:$B$500,$B37,'Excess Emissions'!$C$24:$C$500,$C37,'Excess Emissions'!$D$24:$D$500,$D37,'Excess Emissions'!$E$24:$E$500,\"Other Known Causes\"))","v":""},{"$f":"IF($E37=\"\",\"\",SUMIFS('Excess Emissions'!$K$24:$K$500,'Excess Emissions'!$B$24:$B$500,$B37,'Excess Emissions'!$C$24:$C$500,$C37,'Excess Emissions'!$D$24:$D$500,$D37,'Excess Emissions'!$E$24:$E$500,\"Other Unknown Causes\"))","v":""}]
[null,{"$f":"IF(Lists!AG16=\"\",\"\",Lists!AG16)","v":""},{"$f":"IF(Lists!AH16=\"\",\"\",Lists!AH16)","v":""},{"$f":"IF(Lists!AI16=\"\",\"\",Lists!AI16)","v":""},{"$f":"IF(C38=\"\",\"\",VLOOKUP(B38&C38,Lists!$BA$2:$BD$78,4,FALSE))","v":""},"","",{"$f":"IF($E38=\"\",\"\",SUMIFS('Excess Emissions'!$K$24:$K$500,'Excess Emissions'!$B$24:$B$500,$B38,'Excess Emissions'!$C$24:$C$500,$C38,'Excess Emissions'!$D$24:$D$500,$D38,'Excess Emissions'!$E$24:$E$500,\"Startup or Shutdown\"))","v":""},{"$f":"IF($E38=\"\",\"\",SUMIFS('Excess Emissions'!$K$24:$K$500,'Excess Emissions'!$B$24:$B$500,$B38,'Excess Emissions'!$C$24:$C$500,$C38,'Excess Emissions'!$D$24:$D$500,$D38,'Excess Emissions'!$E$24:$E$500,\"Control Equipment Problems\"))","v":""},{"$f":"IF($E38=\"\",\"\",SUMIFS('Excess Emissions'!$K$24:$K$500,'Excess Emissions'!$B$24:$B$500,$B38,'Excess Emissions'!$C$24:$C$500,$C38,'Excess Emissions'!$D$24:$D$500,$D38,'Excess Emissions'!$E$24:$E$500,\"Process Problems\"))","v":""},{"$f":"IF($E38=\"\",\"\",SUMIFS('Excess Emissions'!$K$24:$K$500,'Excess Emissions'!$B$24:$B$500,$B38,'Excess Emissions'!$C$24:$C$500,$C38,'Excess Emissions'!$D$24:$D$500,$D38,'Excess Emissions'!$E$24:$E$500,\"Other Known Causes\"))","v":""},{"$f":"IF($E38=\"\",\"\",SUMIFS('Excess Emissions'!$K$24:$K$500,'Excess Emissions'!$B$24:$B$500,$B38,'Excess Emissions'!$C$24:$C$500,$C38,'Excess Emissions'!$D$24:$D$500,$D38,'Excess Emissions'!$E$24:$E$500,\"Other Unknown Causes\"))","v":""}]
[null,{"$f":"IF(Lists!AG17=\"\",\"\",Lists!AG17)","v":""},{"$f":"IF(Lists!AH17=\"\",\"\",Lists!AH17)","v":""},{"$f":"IF(Lists!AI17=\"\",\"\",Lists!AI17)","v":""},{"$f":"IF(C39=\"\",\"\",VLOOKUP(B39&C39,Lists!$BA$2:$BD$78,4,FALSE))","v":""},"","",{"$f":"IF($E39=\"\",\"\",SUMIFS('Excess Emissions'!$K$24:$K$500,'Excess Emissions'!$B$24:$B$500,$B39,'Excess Emissions'!$C$24:$C$500,$C39,'Excess Emissions'!$D$24:$D$500,$D39,'Excess Emissions'!$E$24:$E$500,\"Startup or Shutdown\"))","v":""},{"$f":"IF($E39=\"\",\"\",SUMIFS('Excess Emissions'!$K$24:$K$500,'Excess Emissions'!$B$24:$B$500,$B39,'Excess Emissions'!$C$24:$C$500,$C39,'Excess Emissions'!$D$24:$D$500,$D39,'Excess Emissions'!$E$24:$E$500,\"Control Equipment Problems\"))","v":""},{"$f":"IF($E39=\"\",\"\",SUMIFS('Excess Emissions'!$K$24:$K$500,'Excess Emissions'!$B$24:$B$500,$B39,'Excess Emissions'!$C$24:$C$500,$C39,'Excess Emissions'!$D$24:$D$500,$D39,'Excess Emissions'!$E$24:$E$500,\"Process Problems\"))","v":""},{"$f":"IF($E39=\"\",\"\",SUMIFS('Excess Emissions'!$K$24:$K$500,'Excess Emissions'!$B$24:$B$500,$B39,'Excess Emissions'!$C$24:$C$500,$C39,'Excess Emissions'!$D$24:$D$500,$D39,'Excess Emissions'!$E$24:$E$500,\"Other Known Causes\"))","v":""},{"$f":"IF($E39=\"\",\"\",SUMIFS('Excess Emissions'!$K$24:$K$500,'Excess Emissions'!$B$24:$B$500,$B39,'Excess Emissions'!$C$24:$C$500,$C39,'Excess Emissions'!$D$24:$D$500,$D39,'Excess Emissions'!$E$24:$E$500,\"Other Unknown Causes\"))","v":""}]
[null,{"$f":"IF(Lists!AG18=\"\",\"\",Lists!AG18)","v":""},{"$f":"IF(Lists!AH18=\"\",\"\",Lists!AH18)","v":""},{"$f":"IF(Lists!AI18=\"\",\"\",Lists!AI18)","v":""},{"$f":"IF(C40=\"\",\"\",VLOOKUP(B40&C40,Lists!$BA$2:$BD$78,4,FALSE))","v":""},"","",{"$f":"IF($E40=\"\",\"\",SUMIFS('Excess Emissions'!$K$24:$K$500,'Excess Emissions'!$B$24:$B$500,$B40,'Excess Emissions'!$C$24:$C$500,$C40,'Excess Emissions'!$D$24:$D$500,$D40,'Excess Emissions'!$E$24:$E$500,\"Startup or Shutdown\"))","v":""},{"$f":"IF($E40=\"\",\"\",SUMIFS('Excess Emissions'!$K$24:$K$500,'Excess Emissions'!$B$24:$B$500,$B40,'Excess Emissions'!$C$24:$C$500,$C40,'Excess Emissions'!$D$24:$D$500,$D40,'Excess Emissions'!$E$24:$E$500,\"Control Equipment Problems\"))","v":""},{"$f":"IF($E40=\"\",\"\",SUMIFS('Excess Emissions'!$K$24:$K$500,'Excess Emissions'!$B$24:$B$500,$B40,'Excess Emissions'!$C$24:$C$500,$C40,'Excess Emissions'!$D$24:$D$500,$D40,'Excess Emissions'!$E$24:$E$500,\"Process Problems\"))","v":""},{"$f":"IF($E40=\"\",\"\",SUMIFS('Excess Emissions'!$K$24:$K$500,'Excess Emissions'!$B$24:$B$500,$B40,'Excess Emissions'!$C$24:$C$500,$C40,'Excess Emissions'!$D$24:$D$500,$D40,'Excess Emissions'!$E$24:$E$500,\"Other Known Causes\"))","v":""},{"$f":"IF($E40=\"\",\"\",SUMIFS('Excess Emissions'!$K$24:$K$500,'Excess Emissions'!$B$24:$B$500,$B40,'Excess Emissions'!$C$24:$C$500,$C40,'Excess Emissions'!$D$24:$D$500,$D40,'Excess Emissions'!$E$24:$E$500,\"Other Unknown Causes\"))","v":""}]
[null,{"$f":"IF(Lists!AG19=\"\",\"\",Lists!AG19)","v":""},{"$f":"IF(Lists!AH19=\"\",\"\",Lists!AH19)","v":""},{"$f":"IF(Lists!AI19=\"\",\"\",Lists!AI19)","v":""},{"$f":"IF(C41=\"\",\"\",VLOOKUP(B41&C41,Lists!$BA$2:$BD$78,4,FALSE))","v":""},"","",{"$f":"IF($E41=\"\",\"\",SUMIFS('Excess Emissions'!$K$24:$K$500,'Excess Emissions'!$B$24:$B$500,$B41,'Excess Emissions'!$C$24:$C$500,$C41,'Excess Emissions'!$D$24:$D$500,$D41,'Excess Emissions'!$E$24:$E$500,\"Startup or Shutdown\"))","v":""},{"$f":"IF($E41=\"\",\"\",SUMIFS('Excess Emissions'!$K$24:$K$500,'Excess Emissions'!$B$24:$B$500,$B41,'Excess Emissions'!$C$24:$C$500,$C41,'Excess Emissions'!$D$24:$D$500,$D41,'Excess Emissions'!$E$24:$E$500,\"Control Equipment Problems\"))","v":""},{"$f":"IF($E41=\"\",\"\",SUMIFS('Excess Emissions'!$K$24:$K$500,'Excess Emissions'!$B$24:$B$500,$B41,'Excess Emissions'!$C$24:$C$500,$C41,'Excess Emissions'!$D$24:$D$500,$D41,'Excess Emissions'!$E$24:$E$500,\"Process Problems\"))","v":""},{"$f":"IF($E41=\"\",\"\",SUMIFS('Excess Emissions'!$K$24:$K$500,'Excess Emissions'!$B$24:$B$500,$B41,'Excess Emissions'!$C$24:$C$500,$C41,'Excess Emissions'!$D$24:$D$500,$D41,'Excess Emissions'!$E$24:$E$500,\"Other Known Causes\"))","v":""},{"$f":"IF($E41=\"\",\"\",SUMIFS('Excess Emissions'!$K$24:$K$500,'Excess Emissions'!$B$24:$B$500,$B41,'Excess Emissions'!$C$24:$C$500,$C41,'Excess Emissions'!$D$24:$D$500,$D41,'Excess Emissions'!$E$24:$E$500,\"Other Unknown Causes\"))","v":""}]
[null,{"$f":"IF(Lists!AG20=\"\",\"\",Lists!AG20)","v":""},{"$f":"IF(Lists!AH20=\"\",\"\",Lists!AH20)","v":""},{"$f":"IF(Lists!AI20=\"\",\"\",Lists!AI20)","v":""},{"$f":"IF(C42=\"\",\"\",VLOOKUP(B42&C42,Lists!$BA$2:$BD$78,4,FALSE))","v":""},"","",{"$f":"IF($E42=\"\",\"\",SUMIFS('Excess Emissions'!$K$24:$K$500,'Excess Emissions'!$B$24:$B$500,$B42,'Excess Emissions'!$C$24:$C$500,$C42,'Excess Emissions'!$D$24:$D$500,$D42,'Excess Emissions'!$E$24:$E$500,\"Startup or Shutdown\"))","v":""},{"$f":"IF($E42=\"\",\"\",SUMIFS('Excess Emissions'!$K$24:$K$500,'Excess Emissions'!$B$24:$B$500,$B42,'Excess Emissions'!$C$24:$C$500,$C42,'Excess Emissions'!$D$24:$D$500,$D42,'Excess Emissions'!$E$24:$E$500,\"Control Equipment Problems\"))","v":""},{"$f":"IF($E42=\"\",\"\",SUMIFS('Excess Emissions'!$K$24:$K$500,'Excess Emissions'!$B$24:$B$500,$B42,'Excess Emissions'!$C$24:$C$500,$C42,'Excess Emissions'!$D$24:$D$500,$D42,'Excess Emissions'!$E$24:$E$500,\"Process Problems\"))","v":""},{"$f":"IF($E42=\"\",\"\",SUMIFS('Excess Emissions'!$K$24:$K$500,'Excess Emissions'!$B$24:$B$500,$B42,'Excess Emissions'!$C$24:$C$500,$C42,'Excess Emissions'!$D$24:$D$500,$D42,'Excess Emissions'!$E$24:$E$500,\"Other Known Causes\"))","v":""},{"$f":"IF($E42=\"\",\"\",SUMIFS('Excess Emissions'!$K$24:$K$500,'Excess Emissions'!$B$24:$B$500,$B42,'Excess Emissions'!$C$24:$C$500,$C42,'Excess Emissions'!$D$24:$D$500,$D42,'Excess Emissions'!$E$24:$E$500,\"Other Unknown Causes\"))","v":""}]
[null,{"$f":"IF(Lists!AG21=\"\",\"\",Lists!AG21)","v":""},{"$f":"IF(Lists!AH21=\"\",\"\",Lists!AH21)","v":""},{"$f":"IF(Lists!AI21=\"\",\"\",Lists!AI21)","v":""},{"$f":"IF(C43=\"\",\"\",VLOOKUP(B43&C43,Lists!$BA$2:$BD$78,4,FALSE))","v":""},"","",{"$f":"IF($E43=\"\",\"\",SUMIFS('Excess Emissions'!$K$24:$K$500,'Excess Emissions'!$B$24:$B$500,$B43,'Excess Emissions'!$C$24:$C$500,$C43,'Excess Emissions'!$D$24:$D$500,$D43,'Excess Emissions'!$E$24:$E$500,\"Startup or Shutdown\"))","v":""},{"$f":"IF($E43=\"\",\"\",SUMIFS('Excess Emissions'!$K$24:$K$500,'Excess Emissions'!$B$24:$B$500,$B43,'Excess Emissions'!$C$24:$C$500,$C43,'Excess Emissions'!$D$24:$D$500,$D43,'Excess Emissions'!$E$24:$E$500,\"Control Equipment Problems\"))","v":""},{"$f":"IF($E43=\"\",\"\",SUMIFS('Excess Emissions'!$K$24:$K$500,'Excess Emissions'!$B$24:$B$500,$B43,'Excess Emissions'!$C$24:$C$500,$C43,'Excess Emissions'!$D$24:$D$500,$D43,'Excess Emissions'!$E$24:$E$500,\"Process Problems\"))","v":""},{"$f":"IF($E43=\"\",\"\",SUMIFS('Excess Emissions'!$K$24:$K$500,'Excess Emissions'!$B$24:$B$500,$B43,'Excess Emissions'!$C$24:$C$500,$C43,'Excess Emissions'!$D$24:$D$500,$D43,'Excess Emissions'!$E$24:$E$500,\"Other Known Causes\"))","v":""},{"$f":"IF($E43=\"\",\"\",SUMIFS('Excess Emissions'!$K$24:$K$500,'Excess Emissions'!$B$24:$B$500,$B43,'Excess Emissions'!$C$24:$C$500,$C43,'Excess Emissions'!$D$24:$D$500,$D43,'Excess Emissions'!$E$24:$E$500,\"Other Unknown Causes\"))","v":""}]
[null,{"$f":"IF(Lists!AG22=\"\",\"\",Lists!AG22)","v":""},{"$f":"IF(Lists!AH22=\"\",\"\",Lists!AH22)","v":""},{"$f":"IF(Lists!AI22=\"\",\"\",Lists!AI22)","v":""},{"$f":"IF(C44=\"\",\"\",VLOOKUP(B44&C44,Lists!$BA$2:$BD$78,4,FALSE))","v":""},"","",{"$f":"IF($E44=\"\",\"\",SUMIFS('Excess Emissions'!$K$24:$K$500,'Excess Emissions'!$B$24:$B$500,$B44,'Excess Emissions'!$C$24:$C$500,$C44,'Excess Emissions'!$D$24:$D$500,$D44,'Excess Emissions'!$E$24:$E$500,\"Startup or Shutdown\"))","v":""},{"$f":"IF($E44=\"\",\"\",SUMIFS('Excess Emissions'!$K$24:$K$500,'Excess Emissions'!$B$24:$B$500,$B44,'Excess Emissions'!$C$24:$C$500,$C44,'Excess Emissions'!$D$24:$D$500,$D44,'Excess Emissions'!$E$24:$E$500,\"Control Equipment Problems\"))","v":""},{"$f":"IF($E44=\"\",\"\",SUMIFS('Excess Emissions'!$K$24:$K$500,'Excess Emissions'!$B$24:$B$500,$B44,'Excess Emissions'!$C$24:$C$500,$C44,'Excess Emissions'!$D$24:$D$500,$D44,'Excess Emissions'!$E$24:$E$500,\"Process Problems\"))","v":""},{"$f":"IF($E44=\"\",\"\",SUMIFS('Excess Emissions'!$K$24:$K$500,'Excess Emissions'!$B$24:$B$500,$B44,'Excess Emissions'!$C$24:$C$500,$C44,'Excess Emissions'!$D$24:$D$500,$D44,'Excess Emissions'!$E$24:$E$500,\"Other Known Causes\"))","v":""},{"$f":"IF($E44=\"\",\"\",SUMIFS('Excess Emissions'!$K$24:$K$500,'Excess Emissions'!$B$24:$B$500,$B44,'Excess Emissions'!$C$24:$C$500,$C44,'Excess Emissions'!$D$24:$D$500,$D44,'Excess Emissions'!$E$24:$E$500,\"Other Unknown Causes\"))","v":""}]
[null,{"$f":"IF(Lists!AG23=\"\",\"\",Lists!AG23)","v":""},{"$f":"IF(Lists!AH23=\"\",\"\",Lists!AH23)","v":""},{"$f":"IF(Lists!AI23=\"\",\"\",Lists!AI23)","v":""},{"$f":"IF(C45=\"\",\"\",VLOOKUP(B45&C45,Lists!$BA$2:$BD$78,4,FALSE))","v":""},"","",{"$f":"IF($E45=\"\",\"\",SUMIFS('Excess Emissions'!$K$24:$K$500,'Excess Emissions'!$B$24:$B$500,$B45,'Excess Emissions'!$C$24:$C$500,$C45,'Excess Emissions'!$D$24:$D$500,$D45,'Excess Emissions'!$E$24:$E$500,\"Startup or Shutdown\"))","v":""},{"$f":"IF($E45=\"\",\"\",SUMIFS('Excess Emissions'!$K$24:$K$500,'Excess Emissions'!$B$24:$B$500,$B45,'Excess Emissions'!$C$24:$C$500,$C45,'Excess Emissions'!$D$24:$D$500,$D45,'Excess Emissions'!$E$24:$E$500,\"Control Equipment Problems\"))","v":""},{"$f":"IF($E45=\"\",\"\",SUMIFS('Excess Emissions'!$K$24:$K$500,'Excess Emissions'!$B$24:$B$500,$B45,'Excess Emissions'!$C$24:$C$500,$C45,'Excess Emissions'!$D$24:$D$500,$D45,'Excess Emissions'!$E$24:$E$500,\"Process Problems\"))","v":""},{"$f":"IF($E45=\"\",\"\",SUMIFS('Excess Emissions'!$K$24:$K$500,'Excess Emissions'!$B$24:$B$500,$B45,'Excess Emissions'!$C$24:$C$500,$C45,'Excess Emissions'!$D$24:$D$500,$D45,'Excess Emissions'!$E$24:$E$500,\"Other Known Causes\"))","v":""},{"$f":"IF($E45=\"\",\"\",SUMIFS('Excess Emissions'!$K$24:$K$500,'Excess Emissions'!$B$24:$B$500,$B45,'Excess Emissions'!$C$24:$C$500,$C45,'Excess Emissions'!$D$24:$D$500,$D45,'Excess Emissions'!$E$24:$E$500,\"Other Unknown Causes\"))","v":""}]
[null,{"$f":"IF(Lists!AG24=\"\",\"\",Lists!AG24)","v":""},{"$f":"IF(Lists!AH24=\"\",\"\",Lists!AH24)","v":""},{"$f":"IF(Lists!AI24=\"\",\"\",Lists!AI24)","v":""},{"$f":"IF(C46=\"\",\"\",VLOOKUP(B46&C46,Lists!$BA$2:$BD$78,4,FALSE))","v":""},"","",{"$f":"IF($E46=\"\",\"\",SUMIFS('Excess Emissions'!$K$24:$K$500,'Excess Emissions'!$B$24:$B$500,$B46,'Excess Emissions'!$C$24:$C$500,$C46,'Excess Emissions'!$D$24:$D$500,$D46,'Excess Emissions'!$E$24:$E$500,\"Startup or Shutdown\"))","v":""},{"$f":"IF($E46=\"\",\"\",SUMIFS('Excess Emissions'!$K$24:$K$500,'Excess Emissions'!$B$24:$B$500,$B46,'Excess Emissions'!$C$24:$C$500,$C46,'Excess Emissions'!$D$24:$D$500,$D46,'Excess Emissions'!$E$24:$E$500,\"Control Equipment Problems\"))","v":""},{"$f":"IF($E46=\"\",\"\",SUMIFS('Excess Emissions'!$K$24:$K$500,'Excess Emissions'!$B$24:$B$500,$B46,'Excess Emissions'!$C$24:$C$500,$C46,'Excess Emissions'!$D$24:$D$500,$D46,'Excess Emissions'!$E$24:$E$500,\"Process Problems\"))","v":""},{"$f":"IF($E46=\"\",\"\",SUMIFS('Excess Emissions'!$K$24:$K$500,'Excess Emissions'!$B$24:$B$500,$B46,'Excess Emissions'!$C$24:$C$500,$C46,'Excess Emissions'!$D$24:$D$500,$D46,'Excess Emissions'!$E$24:$E$500,\"Other Known Causes\"))","v":""},{"$f":"IF($E46=\"\",\"\",SUMIFS('Excess Emissions'!$K$24:$K$500,'Excess Emissions'!$B$24:$B$500,$B46,'Excess Emissions'!$C$24:$C$500,$C46,'Excess Emissions'!$D$24:$D$500,$D46,'Excess Emissions'!$E$24:$E$500,\"Other Unknown Causes\"))","v":""}]
[null,{"$f":"IF(Lists!AG25=\"\",\"\",Lists!AG25)","v":""},{"$f":"IF(Lists!AH25=\"\",\"\",Lists!AH25)","v":""},{"$f":"IF(Lists!AI25=\"\",\"\",Lists!AI25)","v":""},{"$f":"IF(C47=\"\",\"\",VLOOKUP(B47&C47,Lists!$BA$2:$BD$78,4,FALSE))","v":""},"","",{"$f":"IF($E47=\"\",\"\",SUMIFS('Excess Emissions'!$K$24:$K$500,'Excess Emissions'!$B$24:$B$500,$B47,'Excess Emissions'!$C$24:$C$500,$C47,'Excess Emissions'!$D$24:$D$500,$D47,'Excess Emissions'!$E$24:$E$500,\"Startup or Shutdown\"))","v":""},{"$f":"IF($E47=\"\",\"\",SUMIFS('Excess Emissions'!$K$24:$K$500,'Excess Emissions'!$B$24:$B$500,$B47,'Excess Emissions'!$C$24:$C$500,$C47,'Excess Emissions'!$D$24:$D$500,$D47,'Excess Emissions'!$E$24:$E$500,\"Control Equipment Problems\"))","v":""},{"$f":"IF($E47=\"\",\"\",SUMIFS('Excess Emissions'!$K$24:$K$500,'Excess Emissions'!$B$24:$B$500,$B47,'Excess Emissions'!$C$24:$C$500,$C47,'Excess Emissions'!$D$24:$D$500,$D47,'Excess Emissions'!$E$24:$E$500,\"Process Problems\"))","v":""},{"$f":"IF($E47=\"\",\"\",SUMIFS('Excess Emissions'!$K$24:$K$500,'Excess Emissions'!$B$24:$B$500,$B47,'Excess Emissions'!$C$24:$C$500,$C47,'Excess Emissions'!$D$24:$D$500,$D47,'Excess Emissions'!$E$24:$E$500,\"Other Known Causes\"))","v":""},{"$f":"IF($E47=\"\",\"\",SUMIFS('Excess Emissions'!$K$24:$K$500,'Excess Emissions'!$B$24:$B$500,$B47,'Excess Emissions'!$C$24:$C$500,$C47,'Excess Emissions'!$D$24:$D$500,$D47,'Excess Emissions'!$E$24:$E$500,\"Other Unknown Causes\"))","v":""}]
[null,{"$f":"IF(Lists!AG26=\"\",\"\",Lists!AG26)","v":""},{"$f":"IF(Lists!AH26=\"\",\"\",Lists!AH26)","v":""},{"$f":"IF(Lists!AI26=\"\",\"\",Lists!AI26)","v":""},{"$f":"IF(C48=\"\",\"\",VLOOKUP(B48&C48,Lists!$BA$2:$BD$78,4,FALSE))","v":""},"","",{"$f":"IF($E48=\"\",\"\",SUMIFS('Excess Emissions'!$K$24:$K$500,'Excess Emissions'!$B$24:$B$500,$B48,'Excess Emissions'!$C$24:$C$500,$C48,'Excess Emissions'!$D$24:$D$500,$D48,'Excess Emissions'!$E$24:$E$500,\"Startup or Shutdown\"))","v":""},{"$f":"IF($E48=\"\",\"\",SUMIFS('Excess Emissions'!$K$24:$K$500,'Excess Emissions'!$B$24:$B$500,$B48,'Excess Emissions'!$C$24:$C$500,$C48,'Excess Emissions'!$D$24:$D$500,$D48,'Excess Emissions'!$E$24:$E$500,\"Control Equipment Problems\"))","v":""},{"$f":"IF($E48=\"\",\"\",SUMIFS('Excess Emissions'!$K$24:$K$500,'Excess Emissions'!$B$24:$B$500,$B48,'Excess Emissions'!$C$24:$C$500,$C48,'Excess Emissions'!$D$24:$D$500,$D48,'Excess Emissions'!$E$24:$E$500,\"Process Problems\"))","v":""},{"$f":"IF($E48=\"\",\"\",SUMIFS('Excess Emissions'!$K$24:$K$500,'Excess Emissions'!$B$24:$B$500,$B48,'Excess Emissions'!$C$24:$C$500,$C48,'Excess Emissions'!$D$24:$D$500,$D48,'Excess Emissions'!$E$24:$E$500,\"Other Known Causes\"))","v":""},{"$f":"IF($E48=\"\",\"\",SUMIFS('Excess Emissions'!$K$24:$K$500,'Excess Emissions'!$B$24:$B$500,$B48,'Excess Emissions'!$C$24:$C$500,$C48,'Excess Emissions'!$D$24:$D$500,$D48,'Excess Emissions'!$E$24:$E$500,\"Other Unknown Causes\"))","v":""}]
[null,{"$f":"IF(Lists!AG27=\"\",\"\",Lists!AG27)","v":""},{"$f":"IF(Lists!AH27=\"\",\"\",Lists!AH27)","v":""},{"$f":"IF(Lists!AI27=\"\",\"\",Lists!AI27)","v":""},{"$f":"IF(C49=\"\",\"\",VLOOKUP(B49&C49,Lists!$BA$2:$BD$78,4,FALSE))","v":""},"","",{"$f":"IF($E49=\"\",\"\",SUMIFS('Excess Emissions'!$K$24:$K$500,'Excess Emissions'!$B$24:$B$500,$B49,'Excess Emissions'!$C$24:$C$500,$C49,'Excess Emissions'!$D$24:$D$500,$D49,'Excess Emissions'!$E$24:$E$500,\"Startup or Shutdown\"))","v":""},{"$f":"IF($E49=\"\",\"\",SUMIFS('Excess Emissions'!$K$24:$K$500,'Excess Emissions'!$B$24:$B$500,$B49,'Excess Emissions'!$C$24:$C$500,$C49,'Excess Emissions'!$D$24:$D$500,$D49,'Excess Emissions'!$E$24:$E$500,\"Control Equipment Problems\"))","v":""},{"$f":"IF($E49=\"\",\"\",SUMIFS('Excess Emissions'!$K$24:$K$500,'Excess Emissions'!$B$24:$B$500,$B49,'Excess Emissions'!$C$24:$C$500,$C49,'Excess Emissions'!$D$24:$D$500,$D49,'Excess Emissions'!$E$24:$E$500,\"Process Problems\"))","v":""},{"$f":"IF($E49=\"\",\"\",SUMIFS('Excess Emissions'!$K$24:$K$500,'Excess Emissions'!$B$24:$B$500,$B49,'Excess Emissions'!$C$24:$C$500,$C49,'Excess Emissions'!$D$24:$D$500,$D49,'Excess Emissions'!$E$24:$E$500,\"Other Known Causes\"))","v":""},{"$f":"IF($E49=\"\",\"\",SUMIFS('Excess Emissions'!$K$24:$K$500,'Excess Emissions'!$B$24:$B$500,$B49,'Excess Emissions'!$C$24:$C$500,$C49,'Excess Emissions'!$D$24:$D$500,$D49,'Excess Emissions'!$E$24:$E$500,\"Other Unknown Causes\"))","v":""}]
[null,{"$f":"IF(Lists!AG28=\"\",\"\",Lists!AG28)","v":""},{"$f":"IF(Lists!AH28=\"\",\"\",Lists!AH28)","v":""},{"$f":"IF(Lists!AI28=\"\",\"\",Lists!AI28)","v":""},{"$f":"IF(C50=\"\",\"\",VLOOKUP(B50&C50,Lists!$BA$2:$BD$78,4,FALSE))","v":""},"","",{"$f":"IF($E50=\"\",\"\",SUMIFS('Excess Emissions'!$K$24:$K$500,'Excess Emissions'!$B$24:$B$500,$B50,'Excess Emissions'!$C$24:$C$500,$C50,'Excess Emissions'!$D$24:$D$500,$D50,'Excess Emissions'!$E$24:$E$500,\"Startup or Shutdown\"))","v":""},{"$f":"IF($E50=\"\",\"\",SUMIFS('Excess Emissions'!$K$24:$K$500,'Excess Emissions'!$B$24:$B$500,$B50,'Excess Emissions'!$C$24:$C$500,$C50,'Excess Emissions'!$D$24:$D$500,$D50,'Excess Emissions'!$E$24:$E$500,\"Control Equipment Problems\"))","v":""},{"$f":"IF($E50=\"\",\"\",SUMIFS('Excess Emissions'!$K$24:$K$500,'Excess Emissions'!$B$24:$B$500,$B50,'Excess Emissions'!$C$24:$C$500,$C50,'Excess Emissions'!$D$24:$D$500,$D50,'Excess Emissions'!$E$24:$E$500,\"Process Problems\"))","v":""},{"$f":"IF($E50=\"\",\"\",SUMIFS('Excess Emissions'!$K$24:$K$500,'Excess Emissions'!$B$24:$B$500,$B50,'Excess Emissions'!$C$24:$C$500,$C50,'Excess Emissions'!$D$24:$D$500,$D50,'Excess Emissions'!$E$24:$E$500,\"Other Known Causes\"))","v":""},{"$f":"IF($E50=\"\",\"\",SUMIFS('Excess Emissions'!$K$24:$K$500,'Excess Emissions'!$B$24:$B$500,$B50,'Excess Emissions'!$C$24:$C$500,$C50,'Excess Emissions'!$D$24:$D$500,$D50,'Excess Emissions'!$E$24:$E$500,\"Other Unknown Causes\"))","v":""}]
[null,{"$f":"IF(Lists!AG29=\"\",\"\",Lists!AG29)","v":""},{"$f":"IF(Lists!AH29=\"\",\"\",Lists!AH29)","v":""},{"$f":"IF(Lists!AI29=\"\",\"\",Lists!AI29)","v":""},{"$f":"IF(C51=\"\",\"\",VLOOKUP(B51&C51,Lists!$BA$2:$BD$78,4,FALSE))","v":""},"","",{"$f":"IF($E51=\"\",\"\",SUMIFS('Excess Emissions'!$K$24:$K$500,'Excess Emissions'!$B$24:$B$500,$B51,'Excess Emissions'!$C$24:$C$500,$C51,'Excess Emissions'!$D$24:$D$500,$D51,'Excess Emissions'!$E$24:$E$500,\"Startup or Shutdown\"))","v":""},{"$f":"IF($E51=\"\",\"\",SUMIFS('Excess Emissions'!$K$24:$K$500,'Excess Emissions'!$B$24:$B$500,$B51,'Excess Emissions'!$C$24:$C$500,$C51,'Excess Emissions'!$D$24:$D$500,$D51,'Excess Emissions'!$E$24:$E$500,\"Control Equipment Problems\"))","v":""},{"$f":"IF($E51=\"\",\"\",SUMIFS('Excess Emissions'!$K$24:$K$500,'Excess Emissions'!$B$24:$B$500,$B51,'Excess Emissions'!$C$24:$C$500,$C51,'Excess Emissions'!$D$24:$D$500,$D51,'Excess Emissions'!$E$24:$E$500,\"Process Problems\"))","v":""},{"$f":"IF($E51=\"\",\"\",SUMIFS('Excess Emissions'!$K$24:$K$500,'Excess Emissions'!$B$24:$B$500,$B51,'Excess Emissions'!$C$24:$C$500,$C51,'Excess Emissions'!$D$24:$D$500,$D51,'Excess Emissions'!$E$24:$E$500,\"Other Known Causes\"))","v":""},{"$f":"IF($E51=\"\",\"\",SUMIFS('Excess Emissions'!$K$24:$K$500,'Excess Emissions'!$B$24:$B$500,$B51,'Excess Emissions'!$C$24:$C$500,$C51,'Excess Emissions'!$D$24:$D$500,$D51,'Excess Emissions'!$E$24:$E$500,\"Other Unknown Causes\"))","v":""}]
[null,{"$f":"IF(Lists!AG30=\"\",\"\",Lists!AG30)","v":""},{"$f":"IF(Lists!AH30=\"\",\"\",Lists!AH30)","v":""},{"$f":"IF(Lists!AI30=\"\",\"\",Lists!AI30)","v":""},{"$f":"IF(C52=\"\",\"\",VLOOKUP(B52&C52,Lists!$BA$2:$BD$78,4,FALSE))","v":""},"","",{"$f":"IF($E52=\"\",\"\",SUMIFS('Excess Emissions'!$K$24:$K$500,'Excess Emissions'!$B$24:$B$500,$B52,'Excess Emissions'!$C$24:$C$500,$C52,'Excess Emissions'!$D$24:$D$500,$D52,'Excess Emissions'!$E$24:$E$500,\"Startup or Shutdown\"))","v":""},{"$f":"IF($E52=\"\",\"\",SUMIFS('Excess Emissions'!$K$24:$K$500,'Excess Emissions'!$B$24:$B$500,$B52,'Excess Emissions'!$C$24:$C$500,$C52,'Excess Emissions'!$D$24:$D$500,$D52,'Excess Emissions'!$E$24:$E$500,\"Control Equipment Problems\"))","v":""},{"$f":"IF($E52=\"\",\"\",SUMIFS('Excess Emissions'!$K$24:$K$500,'Excess Emissions'!$B$24:$B$500,$B52,'Excess Emissions'!$C$24:$C$500,$C52,'Excess Emissions'!$D$24:$D$500,$D52,'Excess Emissions'!$E$24:$E$500,\"Process Problems\"))","v":""},{"$f":"IF($E52=\"\",\"\",SUMIFS('Excess Emissions'!$K$24:$K$500,'Excess Emissions'!$B$24:$B$500,$B52,'Excess Emissions'!$C$24:$C$500,$C52,'Excess Emissions'!$D$24:$D$500,$D52,'Excess Emissions'!$E$24:$E$500,\"Other Known Causes\"))","v":""},{"$f":"IF($E52=\"\",\"\",SUMIFS('Excess Emissions'!$K$24:$K$500,'Excess Emissions'!$B$24:$B$500,$B52,'Excess Emissions'!$C$24:$C$500,$C52,'Excess Emissions'!$D$24:$D$500,$D52,'Excess Emissions'!$E$24:$E$500,\"Other Unknown Causes\"))","v":""}]
[null,{"$f":"IF(Lists!AG31=\"\",\"\",Lists!AG31)","v":""},{"$f":"IF(Lists!AH31=\"\",\"\",Lists!AH31)","v":""},{"$f":"IF(Lists!AI31=\"\",\"\",Lists!AI31)","v":""},{"$f":"IF(C53=\"\",\"\",VLOOKUP(B53&C53,Lists!$BA$2:$BD$78,4,FALSE))","v":""},"","",{"$f":"IF($E53=\"\",\"\",SUMIFS('Excess Emissions'!$K$24:$K$500,'Excess Emissions'!$B$24:$B$500,$B53,'Excess Emissions'!$C$24:$C$500,$C53,'Excess Emissions'!$D$24:$D$500,$D53,'Excess Emissions'!$E$24:$E$500,\"Startup or Shutdown\"))","v":""},{"$f":"IF($E53=\"\",\"\",SUMIFS('Excess Emissions'!$K$24:$K$500,'Excess Emissions'!$B$24:$B$500,$B53,'Excess Emissions'!$C$24:$C$500,$C53,'Excess Emissions'!$D$24:$D$500,$D53,'Excess Emissions'!$E$24:$E$500,\"Control Equipment Problems\"))","v":""},{"$f":"IF($E53=\"\",\"\",SUMIFS('Excess Emissions'!$K$24:$K$500,'Excess Emissions'!$B$24:$B$500,$B53,'Excess Emissions'!$C$24:$C$500,$C53,'Excess Emissions'!$D$24:$D$500,$D53,'Excess Emissions'!$E$24:$E$500,\"Process Problems\"))","v":""},{"$f":"IF($E53=\"\",\"\",SUMIFS('Excess Emissions'!$K$24:$K$500,'Excess Emissions'!$B$24:$B$500,$B53,'Excess Emissions'!$C$24:$C$500,$C53,'Excess Emissions'!$D$24:$D$500,$D53,'Excess Emissions'!$E$24:$E$500,\"Other Known Causes\"))","v":""},{"$f":"IF($E53=\"\",\"\",SUMIFS('Excess Emissions'!$K$24:$K$500,'Excess Emissions'!$B$24:$B$500,$B53,'Excess Emissions'!$C$24:$C$500,$C53,'Excess Emissions'!$D$24:$D$500,$D53,'Excess Emissions'!$E$24:$E$500,\"Other Unknown Causes\"))","v":""}]
[null,{"$f":"IF(Lists!AG32=\"\",\"\",Lists!AG32)","v":""},{"$f":"IF(Lists!AH32=\"\",\"\",Lists!AH32)","v":""},{"$f":"IF(Lists!AI32=\"\",\"\",Lists!AI32)","v":""},{"$f":"IF(C54=\"\",\"\",VLOOKUP(B54&C54,Lists!$BA$2:$BD$78,4,FALSE))","v":""},"","",{"$f":"IF($E54=\"\",\"\",SUMIFS('Excess Emissions'!$K$24:$K$500,'Excess Emissions'!$B$24:$B$500,$B54,'Excess Emissions'!$C$24:$C$500,$C54,'Excess Emissions'!$D$24:$D$500,$D54,'Excess Emissions'!$E$24:$E$500,\"Startup or Shutdown\"))","v":""},{"$f":"IF($E54=\"\",\"\",SUMIFS('Excess Emissions'!$K$24:$K$500,'Excess Emissions'!$B$24:$B$500,$B54,'Excess Emissions'!$C$24:$C$500,$C54,'Excess Emissions'!$D$24:$D$500,$D54,'Excess Emissions'!$E$24:$E$500,\"Control Equipment Problems\"))","v":""},{"$f":"IF($E54=\"\",\"\",SUMIFS('Excess Emissions'!$K$24:$K$500,'Excess Emissions'!$B$24:$B$500,$B54,'Excess Emissions'!$C$24:$C$500,$C54,'Excess Emissions'!$D$24:$D$500,$D54,'Excess Emissions'!$E$24:$E$500,\"Process Problems\"))","v":""},{"$f":"IF($E54=\"\",\"\",SUMIFS('Excess Emissions'!$K$24:$K$500,'Excess Emissions'!$B$24:$B$500,$B54,'Excess Emissions'!$C$24:$C$500,$C54,'Excess Emissions'!$D$24:$D$500,$D54,'Excess Emissions'!$E$24:$E$500,\"Other Known Causes\"))","v":""},{"$f":"IF($E54=\"\",\"\",SUMIFS('Excess Emissions'!$K$24:$K$500,'Excess Emissions'!$B$24:$B$500,$B54,'Excess Emissions'!$C$24:$C$500,$C54,'Excess Emissions'!$D$24:$D$500,$D54,'Excess Emissions'!$E$24:$E$500,\"Other Unknown Causes\"))","v":""}]
[null,{"$f":"IF(Lists!AG33=\"\",\"\",Lists!AG33)","v":""},{"$f":"IF(Lists!AH33=\"\",\"\",Lists!AH33)","v":""},{"$f":"IF(Lists!AI33=\"\",\"\",Lists!AI33)","v":""},{"$f":"IF(C55=\"\",\"\",VLOOKUP(B55&C55,Lists!$BA$2:$BD$78,4,FALSE))","v":""},"","",{"$f":"IF($E55=\"\",\"\",SUMIFS('Excess Emissions'!$K$24:$K$500,'Excess Emissions'!$B$24:$B$500,$B55,'Excess Emissions'!$C$24:$C$500,$C55,'Excess Emissions'!$D$24:$D$500,$D55,'Excess Emissions'!$E$24:$E$500,\"Startup or Shutdown\"))","v":""},{"$f":"IF($E55=\"\",\"\",SUMIFS('Excess Emissions'!$K$24:$K$500,'Excess Emissions'!$B$24:$B$500,$B55,'Excess Emissions'!$C$24:$C$500,$C55,'Excess Emissions'!$D$24:$D$500,$D55,'Excess Emissions'!$E$24:$E$500,\"Control Equipment Problems\"))","v":""},{"$f":"IF($E55=\"\",\"\",SUMIFS('Excess Emissions'!$K$24:$K$500,'Excess Emissions'!$B$24:$B$500,$B55,'Excess Emissions'!$C$24:$C$500,$C55,'Excess Emissions'!$D$24:$D$500,$D55,'Excess Emissions'!$E$24:$E$500,\"Process Problems\"))","v":""},{"$f":"IF($E55=\"\",\"\",SUMIFS('Excess Emissions'!$K$24:$K$500,'Excess Emissions'!$B$24:$B$500,$B55,'Excess Emissions'!$C$24:$C$500,$C55,'Excess Emissions'!$D$24:$D$500,$D55,'Excess Emissions'!$E$24:$E$500,\"Other Known Causes\"))","v":""},{"$f":"IF($E55=\"\",\"\",SUMIFS('Excess Emissions'!$K$24:$K$500,'Excess Emissions'!$B$24:$B$500,$B55,'Excess Emissions'!$C$24:$C$500,$C55,'Excess Emissions'!$D$24:$D$500,$D55,'Excess Emissions'!$E$24:$E$500,\"Other Unknown Causes\"))","v":""}]
[null,{"$f":"IF(Lists!AG34=\"\",\"\",Lists!AG34)","v":""},{"$f":"IF(Lists!AH34=\"\",\"\",Lists!AH34)","v":""},{"$f":"IF(Lists!AI34=\"\",\"\",Lists!AI34)","v":""},{"$f":"IF(C56=\"\",\"\",VLOOKUP(B56&C56,Lists!$BA$2:$BD$78,4,FALSE))","v":""},"","",{"$f":"IF($E56=\"\",\"\",SUMIFS('Excess Emissions'!$K$24:$K$500,'Excess Emissions'!$B$24:$B$500,$B56,'Excess Emissions'!$C$24:$C$500,$C56,'Excess Emissions'!$D$24:$D$500,$D56,'Excess Emissions'!$E$24:$E$500,\"Startup or Shutdown\"))","v":""},{"$f":"IF($E56=\"\",\"\",SUMIFS('Excess Emissions'!$K$24:$K$500,'Excess Emissions'!$B$24:$B$500,$B56,'Excess Emissions'!$C$24:$C$500,$C56,'Excess Emissions'!$D$24:$D$500,$D56,'Excess Emissions'!$E$24:$E$500,\"Control Equipment Problems\"))","v":""},{"$f":"IF($E56=\"\",\"\",SUMIFS('Excess Emissions'!$K$24:$K$500,'Excess Emissions'!$B$24:$B$500,$B56,'Excess Emissions'!$C$24:$C$500,$C56,'Excess Emissions'!$D$24:$D$500,$D56,'Excess Emissions'!$E$24:$E$500,\"Process Problems\"))","v":""},{"$f":"IF($E56=\"\",\"\",SUMIFS('Excess Emissions'!$K$24:$K$500,'Excess Emissions'!$B$24:$B$500,$B56,'Excess Emissions'!$C$24:$C$500,$C56,'Excess Emissions'!$D$24:$D$500,$D56,'Excess Emissions'!$E$24:$E$500,\"Other Known Causes\"))","v":""},{"$f":"IF($E56=\"\",\"\",SUMIFS('Excess Emissions'!$K$24:$K$500,'Excess Emissions'!$B$24:$B$500,$B56,'Excess Emissions'!$C$24:$C$500,$C56,'Excess Emissions'!$D$24:$D$500,$D56,'Excess Emissions'!$E$24:$E$500,\"Other Unknown Causes\"))","v":""}]
[null,{"$f":"IF(Lists!AG35=\"\",\"\",Lists!AG35)","v":""},{"$f":"IF(Lists!AH35=\"\",\"\",Lists!AH35)","v":""},{"$f":"IF(Lists!AI35=\"\",\"\",Lists!AI35)","v":""},{"$f":"IF(C57=\"\",\"\",VLOOKUP(B57&C57,Lists!$BA$2:$BD$78,4,FALSE))","v":""},"","",{"$f":"IF($E57=\"\",\"\",SUMIFS('Excess Emissions'!$K$24:$K$500,'Excess Emissions'!$B$24:$B$500,$B57,'Excess Emissions'!$C$24:$C$500,$C57,'Excess Emissions'!$D$24:$D$500,$D57,'Excess Emissions'!$E$24:$E$500,\"Startup or Shutdown\"))","v":""},{"$f":"IF($E57=\"\",\"\",SUMIFS('Excess Emissions'!$K$24:$K$500,'Excess Emissions'!$B$24:$B$500,$B57,'Excess Emissions'!$C$24:$C$500,$C57,'Excess Emissions'!$D$24:$D$500,$D57,'Excess Emissions'!$E$24:$E$500,\"Control Equipment Problems\"))","v":""},{"$f":"IF($E57=\"\",\"\",SUMIFS('Excess Emissions'!$K$24:$K$500,'Excess Emissions'!$B$24:$B$500,$B57,'Excess Emissions'!$C$24:$C$500,$C57,'Excess Emissions'!$D$24:$D$500,$D57,'Excess Emissions'!$E$24:$E$500,\"Process Problems\"))","v":""},{"$f":"IF($E57=\"\",\"\",SUMIFS('Excess Emissions'!$K$24:$K$500,'Excess Emissions'!$B$24:$B$500,$B57,'Excess Emissions'!$C$24:$C$500,$C57,'Excess Emissions'!$D$24:$D$500,$D57,'Excess Emissions'!$E$24:$E$500,\"Other Known Causes\"))","v":""},{"$f":"IF($E57=\"\",\"\",SUMIFS('Excess Emissions'!$K$24:$K$500,'Excess Emissions'!$B$24:$B$500,$B57,'Excess Emissions'!$C$24:$C$500,$C57,'Excess Emissions'!$D$24:$D$500,$D57,'Excess Emissions'!$E$24:$E$500,\"Other Unknown Causes\"))","v":""}]
[null,{"$f":"IF(Lists!AG36=\"\",\"\",Lists!AG36)","v":""},{"$f":"IF(Lists!AH36=\"\",\"\",Lists!AH36)","v":""},{"$f":"IF(Lists!AI36=\"\",\"\",Lists!AI36)","v":""},{"$f":"IF(C58=\"\",\"\",VLOOKUP(B58&C58,Lists!$BA$2:$BD$78,4,FALSE))","v":""},"","",{"$f":"IF($E58=\"\",\"\",SUMIFS('Excess Emissions'!$K$24:$K$500,'Excess Emissions'!$B$24:$B$500,$B58,'Excess Emissions'!$C$24:$C$500,$C58,'Excess Emissions'!$D$24:$D$500,$D58,'Excess Emissions'!$E$24:$E$500,\"Startup or Shutdown\"))","v":""},{"$f":"IF($E58=\"\",\"\",SUMIFS('Excess Emissions'!$K$24:$K$500,'Excess Emissions'!$B$24:$B$500,$B58,'Excess Emissions'!$C$24:$C$500,$C58,'Excess Emissions'!$D$24:$D$500,$D58,'Excess Emissions'!$E$24:$E$500,\"Control Equipment Problems\"))","v":""},{"$f":"IF($E58=\"\",\"\",SUMIFS('Excess Emissions'!$K$24:$K$500,'Excess Emissions'!$B$24:$B$500,$B58,'Excess Emissions'!$C$24:$C$500,$C58,'Excess Emissions'!$D$24:$D$500,$D58,'Excess Emissions'!$E$24:$E$500,\"Process Problems\"))","v":""},{"$f":"IF($E58=\"\",\"\",SUMIFS('Excess Emissions'!$K$24:$K$500,'Excess Emissions'!$B$24:$B$500,$B58,'Excess Emissions'!$C$24:$C$500,$C58,'Excess Emissions'!$D$24:$D$500,$D58,'Excess Emissions'!$E$24:$E$500,\"Other Known Causes\"))","v":""},{"$f":"IF($E58=\"\",\"\",SUMIFS('Excess Emissions'!$K$24:$K$500,'Excess Emissions'!$B$24:$B$500,$B58,'Excess Emissions'!$C$24:$C$500,$C58,'Excess Emissions'!$D$24:$D$500,$D58,'Excess Emissions'!$E$24:$E$500,\"Other Unknown Causes\"))","v":""}]
[null,{"$f":"IF(Lists!AG37=\"\",\"\",Lists!AG37)","v":""},{"$f":"IF(Lists!AH37=\"\",\"\",Lists!AH37)","v":""},{"$f":"IF(Lists!AI37=\"\",\"\",Lists!AI37)","v":""},{"$f":"IF(C59=\"\",\"\",VLOOKUP(B59&C59,Lists!$BA$2:$BD$78,4,FALSE))","v":""},"","",{"$f":"IF($E59=\"\",\"\",SUMIFS('Excess Emissions'!$K$24:$K$500,'Excess Emissions'!$B$24:$B$500,$B59,'Excess Emissions'!$C$24:$C$500,$C59,'Excess Emissions'!$D$24:$D$500,$D59,'Excess Emissions'!$E$24:$E$500,\"Startup or Shutdown\"))","v":""},{"$f":"IF($E59=\"\",\"\",SUMIFS('Excess Emissions'!$K$24:$K$500,'Excess Emissions'!$B$24:$B$500,$B59,'Excess Emissions'!$C$24:$C$500,$C59,'Excess Emissions'!$D$24:$D$500,$D59,'Excess Emissions'!$E$24:$E$500,\"Control Equipment Problems\"))","v":""},{"$f":"IF($E59=\"\",\"\",SUMIFS('Excess Emissions'!$K$24:$K$500,'Excess Emissions'!$B$24:$B$500,$B59,'Excess Emissions'!$C$24:$C$500,$C59,'Excess Emissions'!$D$24:$D$500,$D59,'Excess Emissions'!$E$24:$E$500,\"Process Problems\"))","v":""},{"$f":"IF($E59=\"\",\"\",SUMIFS('Excess Emissions'!$K$24:$K$500,'Excess Emissions'!$B$24:$B$500,$B59,'Excess Emissions'!$C$24:$C$500,$C59,'Excess Emissions'!$D$24:$D$500,$D59,'Excess Emissions'!$E$24:$E$500,\"Other Known Causes\"))","v":""},{"$f":"IF($E59=\"\",\"\",SUMIFS('Excess Emissions'!$K$24:$K$500,'Excess Emissions'!$B$24:$B$500,$B59,'Excess Emissions'!$C$24:$C$500,$C59,'Excess Emissions'!$D$24:$D$500,$D59,'Excess Emissions'!$E$24:$E$500,\"Other Unknown Causes\"))","v":""}]
[null,{"$f":"IF(Lists!AG38=\"\",\"\",Lists!AG38)","v":""},{"$f":"IF(Lists!AH38=\"\",\"\",Lists!AH38)","v":""},{"$f":"IF(Lists!AI38=\"\",\"\",Lists!AI38)","v":""},{"$f":"IF(C60=\"\",\"\",VLOOKUP(B60&C60,Lists!$BA$2:$BD$78,4,FALSE))","v":""},"","",{"$f":"IF($E60=\"\",\"\",SUMIFS('Excess Emissions'!$K$24:$K$500,'Excess Emissions'!$B$24:$B$500,$B60,'Excess Emissions'!$C$24:$C$500,$C60,'Excess Emissions'!$D$24:$D$500,$D60,'Excess Emissions'!$E$24:$E$500,\"Startup or Shutdown\"))","v":""},{"$f":"IF($E60=\"\",\"\",SUMIFS('Excess Emissions'!$K$24:$K$500,'Excess Emissions'!$B$24:$B$500,$B60,'Excess Emissions'!$C$24:$C$500,$C60,'Excess Emissions'!$D$24:$D$500,$D60,'Excess Emissions'!$E$24:$E$500,\"Control Equipment Problems\"))","v":""},{"$f":"IF($E60=\"\",\"\",SUMIFS('Excess Emissions'!$K$24:$K$500,'Excess Emissions'!$B$24:$B$500,$B60,'Excess Emissions'!$C$24:$C$500,$C60,'Excess Emissions'!$D$24:$D$500,$D60,'Excess Emissions'!$E$24:$E$500,\"Process Problems\"))","v":""},{"$f":"IF($E60=\"\",\"\",SUMIFS('Excess Emissions'!$K$24:$K$500,'Excess Emissions'!$B$24:$B$500,$B60,'Excess Emissions'!$C$24:$C$500,$C60,'Excess Emissions'!$D$24:$D$500,$D60,'Excess Emissions'!$E$24:$E$500,\"Other Known Causes\"))","v":""},{"$f":"IF($E60=\"\",\"\",SUMIFS('Excess Emissions'!$K$24:$K$500,'Excess Emissions'!$B$24:$B$500,$B60,'Excess Emissions'!$C$24:$C$500,$C60,'Excess Emissions'!$D$24:$D$500,$D60,'Excess Emissions'!$E$24:$E$500,\"Other Unknown Causes\"))","v":""}]
[null,{"$f":"IF(Lists!AG39=\"\",\"\",Lists!AG39)","v":""},{"$f":"IF(Lists!AH39=\"\",\"\",Lists!AH39)","v":""},{"$f":"IF(Lists!AI39=\"\",\"\",Lists!AI39)","v":""},{"$f":"IF(C61=\"\",\"\",VLOOKUP(B61&C61,Lists!$BA$2:$BD$78,4,FALSE))","v":""},"","",{"$f":"IF($E61=\"\",\"\",SUMIFS('Excess Emissions'!$K$24:$K$500,'Excess Emissions'!$B$24:$B$500,$B61,'Excess Emissions'!$C$24:$C$500,$C61,'Excess Emissions'!$D$24:$D$500,$D61,'Excess Emissions'!$E$24:$E$500,\"Startup or Shutdown\"))","v":""},{"$f":"IF($E61=\"\",\"\",SUMIFS('Excess Emissions'!$K$24:$K$500,'Excess Emissions'!$B$24:$B$500,$B61,'Excess Emissions'!$C$24:$C$500,$C61,'Excess Emissions'!$D$24:$D$500,$D61,'Excess Emissions'!$E$24:$E$500,\"Control Equipment Problems\"))","v":""},{"$f":"IF($E61=\"\",\"\",SUMIFS('Excess Emissions'!$K$24:$K$500,'Excess Emissions'!$B$24:$B$500,$B61,'Excess Emissions'!$C$24:$C$500,$C61,'Excess Emissions'!$D$24:$D$500,$D61,'Excess Emissions'!$E$24:$E$500,\"Process Problems\"))","v":""},{"$f":"IF($E61=\"\",\"\",SUMIFS('Excess Emissions'!$K$24:$K$500,'Excess Emissions'!$B$24:$B$500,$B61,'Excess Emissions'!$C$24:$C$500,$C61,'Excess Emissions'!$D$24:$D$500,$D61,'Excess Emissions'!$E$24:$E$500,\"Other Known Causes\"))","v":""},{"$f":"IF($E61=\"\",\"\",SUMIFS('Excess Emissions'!$K$24:$K$500,'Excess Emissions'!$B$24:$B$500,$B61,'Excess Emissions'!$C$24:$C$500,$C61,'Excess Emissions'!$D$24:$D$500,$D61,'Excess Emissions'!$E$24:$E$500,\"Other Unknown Causes\"))","v":""}]
[null,{"$f":"IF(Lists!AG40=\"\",\"\",Lists!AG40)","v":""},{"$f":"IF(Lists!AH40=\"\",\"\",Lists!AH40)","v":""},{"$f":"IF(Lists!AI40=\"\",\"\",Lists!AI40)","v":""},{"$f":"IF(C62=\"\",\"\",VLOOKUP(B62&C62,Lists!$BA$2:$BD$78,4,FALSE))","v":""},"","",{"$f":"IF($E62=\"\",\"\",SUMIFS('Excess Emissions'!$K$24:$K$500,'Excess Emissions'!$B$24:$B$500,$B62,'Excess Emissions'!$C$24:$C$500,$C62,'Excess Emissions'!$D$24:$D$500,$D62,'Excess Emissions'!$E$24:$E$500,\"Startup or Shutdown\"))","v":""},{"$f":"IF($E62=\"\",\"\",SUMIFS('Excess Emissions'!$K$24:$K$500,'Excess Emissions'!$B$24:$B$500,$B62,'Excess Emissions'!$C$24:$C$500,$C62,'Excess Emissions'!$D$24:$D$500,$D62,'Excess Emissions'!$E$24:$E$500,\"Control Equipment Problems\"))","v":""},{"$f":"IF($E62=\"\",\"\",SUMIFS('Excess Emissions'!$K$24:$K$500,'Excess Emissions'!$B$24:$B$500,$B62,'Excess Emissions'!$C$24:$C$500,$C62,'Excess Emissions'!$D$24:$D$500,$D62,'Excess Emissions'!$E$24:$E$500,\"Process Problems\"))","v":""},{"$f":"IF($E62=\"\",\"\",SUMIFS('Excess Emissions'!$K$24:$K$500,'Excess Emissions'!$B$24:$B$500,$B62,'Excess Emissions'!$C$24:$C$500,$C62,'Excess Emissions'!$D$24:$D$500,$D62,'Excess Emissions'!$E$24:$E$500,\"Other Known Causes\"))","v":""},{"$f":"IF($E62=\"\",\"\",SUMIFS('Excess Emissions'!$K$24:$K$500,'Excess Emissions'!$B$24:$B$500,$B62,'Excess Emissions'!$C$24:$C$500,$C62,'Excess Emissions'!$D$24:$D$500,$D62,'Excess Emissions'!$E$24:$E$500,\"Other Unknown Causes\"))","v":""}]
[null,{"$f":"IF(Lists!AG41=\"\",\"\",Lists!AG41)","v":""},{"$f":"IF(Lists!AH41=\"\",\"\",Lists!AH41)","v":""},{"$f":"IF(Lists!AI41=\"\",\"\",Lists!AI41)","v":""},{"$f":"IF(C63=\"\",\"\",VLOOKUP(B63&C63,Lists!$BA$2:$BD$78,4,FALSE))","v":""},"","",{"$f":"IF($E63=\"\",\"\",SUMIFS('Excess Emissions'!$K$24:$K$500,'Excess Emissions'!$B$24:$B$500,$B63,'Excess Emissions'!$C$24:$C$500,$C63,'Excess Emissions'!$D$24:$D$500,$D63,'Excess Emissions'!$E$24:$E$500,\"Startup or Shutdown\"))","v":""},{"$f":"IF($E63=\"\",\"\",SUMIFS('Excess Emissions'!$K$24:$K$500,'Excess Emissions'!$B$24:$B$500,$B63,'Excess Emissions'!$C$24:$C$500,$C63,'Excess Emissions'!$D$24:$D$500,$D63,'Excess Emissions'!$E$24:$E$500,\"Control Equipment Problems\"))","v":""},{"$f":"IF($E63=\"\",\"\",SUMIFS('Excess Emissions'!$K$24:$K$500,'Excess Emissions'!$B$24:$B$500,$B63,'Excess Emissions'!$C$24:$C$500,$C63,'Excess Emissions'!$D$24:$D$500,$D63,'Excess Emissions'!$E$24:$E$500,\"Process Problems\"))","v":""},{"$f":"IF($E63=\"\",\"\",SUMIFS('Excess Emissions'!$K$24:$K$500,'Excess Emissions'!$B$24:$B$500,$B63,'Excess Emissions'!$C$24:$C$500,$C63,'Excess Emissions'!$D$24:$D$500,$D63,'Excess Emissions'!$E$24:$E$500,\"Other Known Causes\"))","v":""},{"$f":"IF($E63=\"\",\"\",SUMIFS('Excess Emissions'!$K$24:$K$500,'Excess Emissions'!$B$24:$B$500,$B63,'Excess Emissions'!$C$24:$C$500,$C63,'Excess Emissions'!$D$24:$D$500,$D63,'Excess Emissions'!$E$24:$E$500,\"Other Unknown Causes\"))","v":""}]
[null,{"$f":"IF(Lists!AG42=\"\",\"\",Lists!AG42)","v":""},{"$f":"IF(Lists!AH42=\"\",\"\",Lists!AH42)","v":""},{"$f":"IF(Lists!AI42=\"\",\"\",Lists!AI42)","v":""},{"$f":"IF(C64=\"\",\"\",VLOOKUP(B64&C64,Lists!$BA$2:$BD$78,4,FALSE))","v":""},"","",{"$f":"IF($E64=\"\",\"\",SUMIFS('Excess Emissions'!$K$24:$K$500,'Excess Emissions'!$B$24:$B$500,$B64,'Excess Emissions'!$C$24:$C$500,$C64,'Excess Emissions'!$D$24:$D$500,$D64,'Excess Emissions'!$E$24:$E$500,\"Startup or Shutdown\"))","v":""},{"$f":"IF($E64=\"\",\"\",SUMIFS('Excess Emissions'!$K$24:$K$500,'Excess Emissions'!$B$24:$B$500,$B64,'Excess Emissions'!$C$24:$C$500,$C64,'Excess Emissions'!$D$24:$D$500,$D64,'Excess Emissions'!$E$24:$E$500,\"Control Equipment Problems\"))","v":""},{"$f":"IF($E64=\"\",\"\",SUMIFS('Excess Emissions'!$K$24:$K$500,'Excess Emissions'!$B$24:$B$500,$B64,'Excess Emissions'!$C$24:$C$500,$C64,'Excess Emissions'!$D$24:$D$500,$D64,'Excess Emissions'!$E$24:$E$500,\"Process Problems\"))","v":""},{"$f":"IF($E64=\"\",\"\",SUMIFS('Excess Emissions'!$K$24:$K$500,'Excess Emissions'!$B$24:$B$500,$B64,'Excess Emissions'!$C$24:$C$500,$C64,'Excess Emissions'!$D$24:$D$500,$D64,'Excess Emissions'!$E$24:$E$500,\"Other Known Causes\"))","v":""},{"$f":"IF($E64=\"\",\"\",SUMIFS('Excess Emissions'!$K$24:$K$500,'Excess Emissions'!$B$24:$B$500,$B64,'Excess Emissions'!$C$24:$C$500,$C64,'Excess Emissions'!$D$24:$D$500,$D64,'Excess Emissions'!$E$24:$E$500,\"Other Unknown Causes\"))","v":""}]
[null,{"$f":"IF(Lists!AG43=\"\",\"\",Lists!AG43)","v":""},{"$f":"IF(Lists!AH43=\"\",\"\",Lists!AH43)","v":""},{"$f":"IF(Lists!AI43=\"\",\"\",Lists!AI43)","v":""},{"$f":"IF(C65=\"\",\"\",VLOOKUP(B65&C65,Lists!$BA$2:$BD$78,4,FALSE))","v":""},"","",{"$f":"IF($E65=\"\",\"\",SUMIFS('Excess Emissions'!$K$24:$K$500,'Excess Emissions'!$B$24:$B$500,$B65,'Excess Emissions'!$C$24:$C$500,$C65,'Excess Emissions'!$D$24:$D$500,$D65,'Excess Emissions'!$E$24:$E$500,\"Startup or Shutdown\"))","v":""},{"$f":"IF($E65=\"\",\"\",SUMIFS('Excess Emissions'!$K$24:$K$500,'Excess Emissions'!$B$24:$B$500,$B65,'Excess Emissions'!$C$24:$C$500,$C65,'Excess Emissions'!$D$24:$D$500,$D65,'Excess Emissions'!$E$24:$E$500,\"Control Equipment Problems\"))","v":""},{"$f":"IF($E65=\"\",\"\",SUMIFS('Excess Emissions'!$K$24:$K$500,'Excess Emissions'!$B$24:$B$500,$B65,'Excess Emissions'!$C$24:$C$500,$C65,'Excess Emissions'!$D$24:$D$500,$D65,'Excess Emissions'!$E$24:$E$500,\"Process Problems\"))","v":""},{"$f":"IF($E65=\"\",\"\",SUMIFS('Excess Emissions'!$K$24:$K$500,'Excess Emissions'!$B$24:$B$500,$B65,'Excess Emissions'!$C$24:$C$500,$C65,'Excess Emissions'!$D$24:$D$500,$D65,'Excess Emissions'!$E$24:$E$500,\"Other Known Causes\"))","v":""},{"$f":"IF($E65=\"\",\"\",SUMIFS('Excess Emissions'!$K$24:$K$500,'Excess Emissions'!$B$24:$B$500,$B65,'Excess Emissions'!$C$24:$C$500,$C65,'Excess Emissions'!$D$24:$D$500,$D65,'Excess Emissions'!$E$24:$E$500,\"Other Unknown Causes\"))","v":""}]
[null,{"$f":"IF(Lists!AG44=\"\",\"\",Lists!AG44)","v":""},{"$f":"IF(Lists!AH44=\"\",\"\",Lists!AH44)","v":""},{"$f":"IF(Lists!AI44=\"\",\"\",Lists!AI44)","v":""},{"$f":"IF(C66=\"\",\"\",VLOOKUP(B66&C66,Lists!$BA$2:$BD$78,4,FALSE))","v":""},"","",{"$f":"IF($E66=\"\",\"\",SUMIFS('Excess Emissions'!$K$24:$K$500,'Excess Emissions'!$B$24:$B$500,$B66,'Excess Emissions'!$C$24:$C$500,$C66,'Excess Emissions'!$D$24:$D$500,$D66,'Excess Emissions'!$E$24:$E$500,\"Startup or Shutdown\"))","v":""},{"$f":"IF($E66=\"\",\"\",SUMIFS('Excess Emissions'!$K$24:$K$500,'Excess Emissions'!$B$24:$B$500,$B66,'Excess Emissions'!$C$24:$C$500,$C66,'Excess Emissions'!$D$24:$D$500,$D66,'Excess Emissions'!$E$24:$E$500,\"Control Equipment Problems\"))","v":""},{"$f":"IF($E66=\"\",\"\",SUMIFS('Excess Emissions'!$K$24:$K$500,'Excess Emissions'!$B$24:$B$500,$B66,'Excess Emissions'!$C$24:$C$500,$C66,'Excess Emissions'!$D$24:$D$500,$D66,'Excess Emissions'!$E$24:$E$500,\"Process Problems\"))","v":""},{"$f":"IF($E66=\"\",\"\",SUMIFS('Excess Emissions'!$K$24:$K$500,'Excess Emissions'!$B$24:$B$500,$B66,'Excess Emissions'!$C$24:$C$500,$C66,'Excess Emissions'!$D$24:$D$500,$D66,'Excess Emissions'!$E$24:$E$500,\"Other Known Causes\"))","v":""},{"$f":"IF($E66=\"\",\"\",SUMIFS('Excess Emissions'!$K$24:$K$500,'Excess Emissions'!$B$24:$B$500,$B66,'Excess Emissions'!$C$24:$C$500,$C66,'Excess Emissions'!$D$24:$D$500,$D66,'Excess Emissions'!$E$24:$E$500,\"Other Unknown Causes\"))","v":""}]
[null,{"$f":"IF(Lists!AG45=\"\",\"\",Lists!AG45)","v":""},{"$f":"IF(Lists!AH45=\"\",\"\",Lists!AH45)","v":""},{"$f":"IF(Lists!AI45=\"\",\"\",Lists!AI45)","v":""},{"$f":"IF(C67=\"\",\"\",VLOOKUP(B67&C67,Lists!$BA$2:$BD$78,4,FALSE))","v":""},"","",{"$f":"IF($E67=\"\",\"\",SUMIFS('Excess Emissions'!$K$24:$K$500,'Excess Emissions'!$B$24:$B$500,$B67,'Excess Emissions'!$C$24:$C$500,$C67,'Excess Emissions'!$D$24:$D$500,$D67,'Excess Emissions'!$E$24:$E$500,\"Startup or Shutdown\"))","v":""},{"$f":"IF($E67=\"\",\"\",SUMIFS('Excess Emissions'!$K$24:$K$500,'Excess Emissions'!$B$24:$B$500,$B67,'Excess Emissions'!$C$24:$C$500,$C67,'Excess Emissions'!$D$24:$D$500,$D67,'Excess Emissions'!$E$24:$E$500,\"Control Equipment Problems\"))","v":""},{"$f":"IF($E67=\"\",\"\",SUMIFS('Excess Emissions'!$K$24:$K$500,'Excess Emissions'!$B$24:$B$500,$B67,'Excess Emissions'!$C$24:$C$500,$C67,'Excess Emissions'!$D$24:$D$500,$D67,'Excess Emissions'!$E$24:$E$500,\"Process Problems\"))","v":""},{"$f":"IF($E67=\"\",\"\",SUMIFS('Excess Emissions'!$K$24:$K$500,'Excess Emissions'!$B$24:$B$500,$B67,'Excess Emissions'!$C$24:$C$500,$C67,'Excess Emissions'!$D$24:$D$500,$D67,'Excess Emissions'!$E$24:$E$500,\"Other Known Causes\"))","v":""},{"$f":"IF($E67=\"\",\"\",SUMIFS('Excess Emissions'!$K$24:$K$500,'Excess Emissions'!$B$24:$B$500,$B67,'Excess Emissions'!$C$24:$C$500,$C67,'Excess Emissions'!$D$24:$D$500,$D67,'Excess Emissions'!$E$24:$E$500,\"Other Unknown Causes\"))","v":""}]
[null,{"$f":"IF(Lists!AG46=\"\",\"\",Lists!AG46)","v":""},{"$f":"IF(Lists!AH46=\"\",\"\",Lists!AH46)","v":""},{"$f":"IF(Lists!AI46=\"\",\"\",Lists!AI46)","v":""},{"$f":"IF(C68=\"\",\"\",VLOOKUP(B68&C68,Lists!$BA$2:$BD$78,4,FALSE))","v":""},"","",{"$f":"IF($E68=\"\",\"\",SUMIFS('Excess Emissions'!$K$24:$K$500,'Excess Emissions'!$B$24:$B$500,$B68,'Excess Emissions'!$C$24:$C$500,$C68,'Excess Emissions'!$D$24:$D$500,$D68,'Excess Emissions'!$E$24:$E$500,\"Startup or Shutdown\"))","v":""},{"$f":"IF($E68=\"\",\"\",SUMIFS('Excess Emissions'!$K$24:$K$500,'Excess Emissions'!$B$24:$B$500,$B68,'Excess Emissions'!$C$24:$C$500,$C68,'Excess Emissions'!$D$24:$D$500,$D68,'Excess Emissions'!$E$24:$E$500,\"Control Equipment Problems\"))","v":""},{"$f":"IF($E68=\"\",\"\",SUMIFS('Excess Emissions'!$K$24:$K$500,'Excess Emissions'!$B$24:$B$500,$B68,'Excess Emissions'!$C$24:$C$500,$C68,'Excess Emissions'!$D$24:$D$500,$D68,'Excess Emissions'!$E$24:$E$500,\"Process Problems\"))","v":""},{"$f":"IF($E68=\"\",\"\",SUMIFS('Excess Emissions'!$K$24:$K$500,'Excess Emissions'!$B$24:$B$500,$B68,'Excess Emissions'!$C$24:$C$500,$C68,'Excess Emissions'!$D$24:$D$500,$D68,'Excess Emissions'!$E$24:$E$500,\"Other Known Causes\"))","v":""},{"$f":"IF($E68=\"\",\"\",SUMIFS('Excess Emissions'!$K$24:$K$500,'Excess Emissions'!$B$24:$B$500,$B68,'Excess Emissions'!$C$24:$C$500,$C68,'Excess Emissions'!$D$24:$D$500,$D68,'Excess Emissions'!$E$24:$E$500,\"Other Unknown Causes\"))","v":""}]
[null,{"$f":"IF(Lists!AG47=\"\",\"\",Lists!AG47)","v":""},{"$f":"IF(Lists!AH47=\"\",\"\",Lists!AH47)","v":""},{"$f":"IF(Lists!AI47=\"\",\"\",Lists!AI47)","v":""},{"$f":"IF(C69=\"\",\"\",VLOOKUP(B69&C69,Lists!$BA$2:$BD$78,4,FALSE))","v":""},"","",{"$f":"IF($E69=\"\",\"\",SUMIFS('Excess Emissions'!$K$24:$K$500,'Excess Emissions'!$B$24:$B$500,$B69,'Excess Emissions'!$C$24:$C$500,$C69,'Excess Emissions'!$D$24:$D$500,$D69,'Excess Emissions'!$E$24:$E$500,\"Startup or Shutdown\"))","v":""},{"$f":"IF($E69=\"\",\"\",SUMIFS('Excess Emissions'!$K$24:$K$500,'Excess Emissions'!$B$24:$B$500,$B69,'Excess Emissions'!$C$24:$C$500,$C69,'Excess Emissions'!$D$24:$D$500,$D69,'Excess Emissions'!$E$24:$E$500,\"Control Equipment Problems\"))","v":""},{"$f":"IF($E69=\"\",\"\",SUMIFS('Excess Emissions'!$K$24:$K$500,'Excess Emissions'!$B$24:$B$500,$B69,'Excess Emissions'!$C$24:$C$500,$C69,'Excess Emissions'!$D$24:$D$500,$D69,'Excess Emissions'!$E$24:$E$500,\"Process Problems\"))","v":""},{"$f":"IF($E69=\"\",\"\",SUMIFS('Excess Emissions'!$K$24:$K$500,'Excess Emissions'!$B$24:$B$500,$B69,'Excess Emissions'!$C$24:$C$500,$C69,'Excess Emissions'!$D$24:$D$500,$D69,'Excess Emissions'!$E$24:$E$500,\"Other Known Causes\"))","v":""},{"$f":"IF($E69=\"\",\"\",SUMIFS('Excess Emissions'!$K$24:$K$500,'Excess Emissions'!$B$24:$B$500,$B69,'Excess Emissions'!$C$24:$C$500,$C69,'Excess Emissions'!$D$24:$D$500,$D69,'Excess Emissions'!$E$24:$E$500,\"Other Unknown Causes\"))","v":""}]
[null,{"$f":"IF(Lists!AG48=\"\",\"\",Lists!AG48)","v":""},{"$f":"IF(Lists!AH48=\"\",\"\",Lists!AH48)","v":""},{"$f":"IF(Lists!AI48=\"\",\"\",Lists!AI48)","v":""},{"$f":"IF(C70=\"\",\"\",VLOOKUP(B70&C70,Lists!$BA$2:$BD$78,4,FALSE))","v":""},"","",{"$f":"IF($E70=\"\",\"\",SUMIFS('Excess Emissions'!$K$24:$K$500,'Excess Emissions'!$B$24:$B$500,$B70,'Excess Emissions'!$C$24:$C$500,$C70,'Excess Emissions'!$D$24:$D$500,$D70,'Excess Emissions'!$E$24:$E$500,\"Startup or Shutdown\"))","v":""},{"$f":"IF($E70=\"\",\"\",SUMIFS('Excess Emissions'!$K$24:$K$500,'Excess Emissions'!$B$24:$B$500,$B70,'Excess Emissions'!$C$24:$C$500,$C70,'Excess Emissions'!$D$24:$D$500,$D70,'Excess Emissions'!$E$24:$E$500,\"Control Equipment Problems\"))","v":""},{"$f":"IF($E70=\"\",\"\",SUMIFS('Excess Emissions'!$K$24:$K$500,'Excess Emissions'!$B$24:$B$500,$B70,'Excess Emissions'!$C$24:$C$500,$C70,'Excess Emissions'!$D$24:$D$500,$D70,'Excess Emissions'!$E$24:$E$500,\"Process Problems\"))","v":""},{"$f":"IF($E70=\"\",\"\",SUMIFS('Excess Emissions'!$K$24:$K$500,'Excess Emissions'!$B$24:$B$500,$B70,'Excess Emissions'!$C$24:$C$500,$C70,'Excess Emissions'!$D$24:$D$500,$D70,'Excess Emissions'!$E$24:$E$500,\"Other Known Causes\"))","v":""},{"$f":"IF($E70=\"\",\"\",SUMIFS('Excess Emissions'!$K$24:$K$500,'Excess Emissions'!$B$24:$B$500,$B70,'Excess Emissions'!$C$24:$C$500,$C70,'Excess Emissions'!$D$24:$D$500,$D70,'Excess Emissions'!$E$24:$E$500,\"Other Unknown Causes\"))","v":""}]
[null,{"$f":"IF(Lists!AG49=\"\",\"\",Lists!AG49)","v":""},{"$f":"IF(Lists!AH49=\"\",\"\",Lists!AH49)","v":""},{"$f":"IF(Lists!AI49=\"\",\"\",Lists!AI49)","v":""},{"$f":"IF(C71=\"\",\"\",VLOOKUP(B71&C71,Lists!$BA$2:$BD$78,4,FALSE))","v":""},"","",{"$f":"IF($E71=\"\",\"\",SUMIFS('Excess Emissions'!$K$24:$K$500,'Excess Emissions'!$B$24:$B$500,$B71,'Excess Emissions'!$C$24:$C$500,$C71,'Excess Emissions'!$D$24:$D$500,$D71,'Excess Emissions'!$E$24:$E$500,\"Startup or Shutdown\"))","v":""},{"$f":"IF($E71=\"\",\"\",SUMIFS('Excess Emissions'!$K$24:$K$500,'Excess Emissions'!$B$24:$B$500,$B71,'Excess Emissions'!$C$24:$C$500,$C71,'Excess Emissions'!$D$24:$D$500,$D71,'Excess Emissions'!$E$24:$E$500,\"Control Equipment Problems\"))","v":""},{"$f":"IF($E71=\"\",\"\",SUMIFS('Excess Emissions'!$K$24:$K$500,'Excess Emissions'!$B$24:$B$500,$B71,'Excess Emissions'!$C$24:$C$500,$C71,'Excess Emissions'!$D$24:$D$500,$D71,'Excess Emissions'!$E$24:$E$500,\"Process Problems\"))","v":""},{"$f":"IF($E71=\"\",\"\",SUMIFS('Excess Emissions'!$K$24:$K$500,'Excess Emissions'!$B$24:$B$500,$B71,'Excess Emissions'!$C$24:$C$500,$C71,'Excess Emissions'!$D$24:$D$500,$D71,'Excess Emissions'!$E$24:$E$500,\"Other Known Causes\"))","v":""},{"$f":"IF($E71=\"\",\"\",SUMIFS('Excess Emissions'!$K$24:$K$500,'Excess Emissions'!$B$24:$B$500,$B71,'Excess Emissions'!$C$24:$C$500,$C71,'Excess Emissions'!$D$24:$D$500,$D71,'Excess Emissions'!$E$24:$E$500,\"Other Unknown Causes\"))","v":""}]
[null,{"$f":"IF(Lists!AG50=\"\",\"\",Lists!AG50)","v":""},{"$f":"IF(Lists!AH50=\"\",\"\",Lists!AH50)","v":""},{"$f":"IF(Lists!AI50=\"\",\"\",Lists!AI50)","v":""},{"$f":"IF(C72=\"\",\"\",VLOOKUP(B72&C72,Lists!$BA$2:$BD$78,4,FALSE))","v":""},"","",{"$f":"IF($E72=\"\",\"\",SUMIFS('Excess Emissions'!$K$24:$K$500,'Excess Emissions'!$B$24:$B$500,$B72,'Excess Emissions'!$C$24:$C$500,$C72,'Excess Emissions'!$D$24:$D$500,$D72,'Excess Emissions'!$E$24:$E$500,\"Startup or Shutdown\"))","v":""},{"$f":"IF($E72=\"\",\"\",SUMIFS('Excess Emissions'!$K$24:$K$500,'Excess Emissions'!$B$24:$B$500,$B72,'Excess Emissions'!$C$24:$C$500,$C72,'Excess Emissions'!$D$24:$D$500,$D72,'Excess Emissions'!$E$24:$E$500,\"Control Equipment Problems\"))","v":""},{"$f":"IF($E72=\"\",\"\",SUMIFS('Excess Emissions'!$K$24:$K$500,'Excess Emissions'!$B$24:$B$500,$B72,'Excess Emissions'!$C$24:$C$500,$C72,'Excess Emissions'!$D$24:$D$500,$D72,'Excess Emissions'!$E$24:$E$500,\"Process Problems\"))","v":""},{"$f":"IF($E72=\"\",\"\",SUMIFS('Excess Emissions'!$K$24:$K$500,'Excess Emissions'!$B$24:$B$500,$B72,'Excess Emissions'!$C$24:$C$500,$C72,'Excess Emissions'!$D$24:$D$500,$D72,'Excess Emissions'!$E$24:$E$500,\"Other Known Causes\"))","v":""},{"$f":"IF($E72=\"\",\"\",SUMIFS('Excess Emissions'!$K$24:$K$500,'Excess Emissions'!$B$24:$B$500,$B72,'Excess Emissions'!$C$24:$C$500,$C72,'Excess Emissions'!$D$24:$D$500,$D72,'Excess Emissions'!$E$24:$E$500,\"Other Unknown Causes\"))","v":""}]
[null,{"$f":"IF(Lists!AG51=\"\",\"\",Lists!AG51)","v":""},{"$f":"IF(Lists!AH51=\"\",\"\",Lists!AH51)","v":""},{"$f":"IF(Lists!AI51=\"\",\"\",Lists!AI51)","v":""},{"$f":"IF(C73=\"\",\"\",VLOOKUP(B73&C73,Lists!$BA$2:$BD$78,4,FALSE))","v":""},"","",{"$f":"IF($E73=\"\",\"\",SUMIFS('Excess Emissions'!$K$24:$K$500,'Excess Emissions'!$B$24:$B$500,$B73,'Excess Emissions'!$C$24:$C$500,$C73,'Excess Emissions'!$D$24:$D$500,$D73,'Excess Emissions'!$E$24:$E$500,\"Startup or Shutdown\"))","v":""},{"$f":"IF($E73=\"\",\"\",SUMIFS('Excess Emissions'!$K$24:$K$500,'Excess Emissions'!$B$24:$B$500,$B73,'Excess Emissions'!$C$24:$C$500,$C73,'Excess Emissions'!$D$24:$D$500,$D73,'Excess Emissions'!$E$24:$E$500,\"Control Equipment Problems\"))","v":""},{"$f":"IF($E73=\"\",\"\",SUMIFS('Excess Emissions'!$K$24:$K$500,'Excess Emissions'!$B$24:$B$500,$B73,'Excess Emissions'!$C$24:$C$500,$C73,'Excess Emissions'!$D$24:$D$500,$D73,'Excess Emissions'!$E$24:$E$500,\"Process Problems\"))","v":""},{"$f":"IF($E73=\"\",\"\",SUMIFS('Excess Emissions'!$K$24:$K$500,'Excess Emissions'!$B$24:$B$500,$B73,'Excess Emissions'!$C$24:$C$500,$C73,'Excess Emissions'!$D$24:$D$500,$D73,'Excess Emissions'!$E$24:$E$500,\"Other Known Causes\"))","v":""},{"$f":"IF($E73=\"\",\"\",SUMIFS('Excess Emissions'!$K$24:$K$500,'Excess Emissions'!$B$24:$B$500,$B73,'Excess Emissions'!$C$24:$C$500,$C73,'Excess Emissions'!$D$24:$D$500,$D73,'Excess Emissions'!$E$24:$E$500,\"Other Unknown Causes\"))","v":""}]
[null,{"$f":"IF(Lists!AG52=\"\",\"\",Lists!AG52)","v":""},{"$f":"IF(Lists!AH52=\"\",\"\",Lists!AH52)","v":""},{"$f":"IF(Lists!AI52=\"\",\"\",Lists!AI52)","v":""},{"$f":"IF(C74=\"\",\"\",VLOOKUP(B74&C74,Lists!$BA$2:$BD$78,4,FALSE))","v":""},"","",{"$f":"IF($E74=\"\",\"\",SUMIFS('Excess Emissions'!$K$24:$K$500,'Excess Emissions'!$B$24:$B$500,$B74,'Excess Emissions'!$C$24:$C$500,$C74,'Excess Emissions'!$D$24:$D$500,$D74,'Excess Emissions'!$E$24:$E$500,\"Startup or Shutdown\"))","v":""},{"$f":"IF($E74=\"\",\"\",SUMIFS('Excess Emissions'!$K$24:$K$500,'Excess Emissions'!$B$24:$B$500,$B74,'Excess Emissions'!$C$24:$C$500,$C74,'Excess Emissions'!$D$24:$D$500,$D74,'Excess Emissions'!$E$24:$E$500,\"Control Equipment Problems\"))","v":""},{"$f":"IF($E74=\"\",\"\",SUMIFS('Excess Emissions'!$K$24:$K$500,'Excess Emissions'!$B$24:$B$500,$B74,'Excess Emissions'!$C$24:$C$500,$C74,'Excess Emissions'!$D$24:$D$500,$D74,'Excess Emissions'!$E$24:$E$500,\"Process Problems\"))","v":""},{"$f":"IF($E74=\"\",\"\",SUMIFS('Excess Emissions'!$K$24:$K$500,'Excess Emissions'!$B$24:$B$500,$B74,'Excess Emissions'!$C$24:$C$500,$C74,'Excess Emissions'!$D$24:$D$500,$D74,'Excess Emissions'!$E$24:$E$500,\"Other Known Causes\"))","v":""},{"$f":"IF($E74=\"\",\"\",SUMIFS('Excess Emissions'!$K$24:$K$500,'Excess Emissions'!$B$24:$B$500,$B74,'Excess Emissions'!$C$24:$C$500,$C74,'Excess Emissions'!$D$24:$D$500,$D74,'Excess Emissions'!$E$24:$E$500,\"Other Unknown Causes\"))","v":""}]
[null,{"$f":"IF(Lists!AG53=\"\",\"\",Lists!AG53)","v":""},{"$f":"IF(Lists!AH53=\"\",\"\",Lists!AH53)","v":""},{"$f":"IF(Lists!AI53=\"\",\"\",Lists!AI53)","v":""},{"$f":"IF(C75=\"\",\"\",VLOOKUP(B75&C75,Lists!$BA$2:$BD$78,4,FALSE))","v":""},"","",{"$f":"IF($E75=\"\",\"\",SUMIFS('Excess Emissions'!$K$24:$K$500,'Excess Emissions'!$B$24:$B$500,$B75,'Excess Emissions'!$C$24:$C$500,$C75,'Excess Emissions'!$D$24:$D$500,$D75,'Excess Emissions'!$E$24:$E$500,\"Startup or Shutdown\"))","v":""},{"$f":"IF($E75=\"\",\"\",SUMIFS('Excess Emissions'!$K$24:$K$500,'Excess Emissions'!$B$24:$B$500,$B75,'Excess Emissions'!$C$24:$C$500,$C75,'Excess Emissions'!$D$24:$D$500,$D75,'Excess Emissions'!$E$24:$E$500,\"Control Equipment Problems\"))","v":""},{"$f":"IF($E75=\"\",\"\",SUMIFS('Excess Emissions'!$K$24:$K$500,'Excess Emissions'!$B$24:$B$500,$B75,'Excess Emissions'!$C$24:$C$500,$C75,'Excess Emissions'!$D$24:$D$500,$D75,'Excess Emissions'!$E$24:$E$500,\"Process Problems\"))","v":""},{"$f":"IF($E75=\"\",\"\",SUMIFS('Excess Emissions'!$K$24:$K$500,'Excess Emissions'!$B$24:$B$500,$B75,'Excess Emissions'!$C$24:$C$500,$C75,'Excess Emissions'!$D$24:$D$500,$D75,'Excess Emissions'!$E$24:$E$500,\"Other Known Causes\"))","v":""},{"$f":"IF($E75=\"\",\"\",SUMIFS('Excess Emissions'!$K$24:$K$500,'Excess Emissions'!$B$24:$B$500,$B75,'Excess Emissions'!$C$24:$C$500,$C75,'Excess Emissions'!$D$24:$D$500,$D75,'Excess Emissions'!$E$24:$E$500,\"Other Unknown Causes\"))","v":""}]
[null,{"$f":"IF(Lists!AG54=\"\",\"\",Lists!AG54)","v":""},{"$f":"IF(Lists!AH54=\"\",\"\",Lists!AH54)","v":""},{"$f":"IF(Lists!AI54=\"\",\"\",Lists!AI54)","v":""},{"$f":"IF(C76=\"\",\"\",VLOOKUP(B76&C76,Lists!$BA$2:$BD$78,4,FALSE))","v":""},"","",{"$f":"IF($E76=\"\",\"\",SUMIFS('Excess Emissions'!$K$24:$K$500,'Excess Emissions'!$B$24:$B$500,$B76,'Excess Emissions'!$C$24:$C$500,$C76,'Excess Emissions'!$D$24:$D$500,$D76,'Excess Emissions'!$E$24:$E$500,\"Startup or Shutdown\"))","v":""},{"$f":"IF($E76=\"\",\"\",SUMIFS('Excess Emissions'!$K$24:$K$500,'Excess Emissions'!$B$24:$B$500,$B76,'Excess Emissions'!$C$24:$C$500,$C76,'Excess Emissions'!$D$24:$D$500,$D76,'Excess Emissions'!$E$24:$E$500,\"Control Equipment Problems\"))","v":""},{"$f":"IF($E76=\"\",\"\",SUMIFS('Excess Emissions'!$K$24:$K$500,'Excess Emissions'!$B$24:$B$500,$B76,'Excess Emissions'!$C$24:$C$500,$C76,'Excess Emissions'!$D$24:$D$500,$D76,'Excess Emissions'!$E$24:$E$500,\"Process Problems\"))","v":""},{"$f":"IF($E76=\"\",\"\",SUMIFS('Excess Emissions'!$K$24:$K$500,'Excess Emissions'!$B$24:$B$500,$B76,'Excess Emissions'!$C$24:$C$500,$C76,'Excess Emissions'!$D$24:$D$500,$D76,'Excess Emissions'!$E$24:$E$500,\"Other Known Causes\"))","v":""},{"$f":"IF($E76=\"\",\"\",SUMIFS('Excess Emissions'!$K$24:$K$500,'Excess Emissions'!$B$24:$B$500,$B76,'Excess Emissions'!$C$24:$C$500,$C76,'Excess Emissions'!$D$24:$D$500,$D76,'Excess Emissions'!$E$24:$E$500,\"Other Unknown Causes\"))","v":""}]
[null,{"$f":"IF(Lists!AG55=\"\",\"\",Lists!AG55)","v":""},{"$f":"IF(Lists!AH55=\"\",\"\",Lists!AH55)","v":""},{"$f":"IF(Lists!AI55=\"\",\"\",Lists!AI55)","v":""},{"$f":"IF(C77=\"\",\"\",VLOOKUP(B77&C77,Lists!$BA$2:$BD$78,4,FALSE))","v":""},"","",{"$f":"IF($E77=\"\",\"\",SUMIFS('Excess Emissions'!$K$24:$K$500,'Excess Emissions'!$B$24:$B$500,$B77,'Excess Emissions'!$C$24:$C$500,$C77,'Excess Emissions'!$D$24:$D$500,$D77,'Excess Emissions'!$E$24:$E$500,\"Startup or Shutdown\"))","v":""},{"$f":"IF($E77=\"\",\"\",SUMIFS('Excess Emissions'!$K$24:$K$500,'Excess Emissions'!$B$24:$B$500,$B77,'Excess Emissions'!$C$24:$C$500,$C77,'Excess Emissions'!$D$24:$D$500,$D77,'Excess Emissions'!$E$24:$E$500,\"Control Equipment Problems\"))","v":""},{"$f":"IF($E77=\"\",\"\",SUMIFS('Excess Emissions'!$K$24:$K$500,'Excess Emissions'!$B$24:$B$500,$B77,'Excess Emissions'!$C$24:$C$500,$C77,'Excess Emissions'!$D$24:$D$500,$D77,'Excess Emissions'!$E$24:$E$500,\"Process Problems\"))","v":""},{"$f":"IF($E77=\"\",\"\",SUMIFS('Excess Emissions'!$K$24:$K$500,'Excess Emissions'!$B$24:$B$500,$B77,'Excess Emissions'!$C$24:$C$500,$C77,'Excess Emissions'!$D$24:$D$500,$D77,'Excess Emissions'!$E$24:$E$500,\"Other Known Causes\"))","v":""},{"$f":"IF($E77=\"\",\"\",SUMIFS('Excess Emissions'!$K$24:$K$500,'Excess Emissions'!$B$24:$B$500,$B77,'Excess Emissions'!$C$24:$C$500,$C77,'Excess Emissions'!$D$24:$D$500,$D77,'Excess Emissions'!$E$24:$E$500,\"Other Unknown Causes\"))","v":""}]
[null,{"$f":"IF(Lists!AG56=\"\",\"\",Lists!AG56)","v":""},{"$f":"IF(Lists!AH56=\"\",\"\",Lists!AH56)","v":""},{"$f":"IF(Lists!AI56=\"\",\"\",Lists!AI56)","v":""},{"$f":"IF(C78=\"\",\"\",VLOOKUP(B78&C78,Lists!$BA$2:$BD$78,4,FALSE))","v":""},"","",{"$f":"IF($E78=\"\",\"\",SUMIFS('Excess Emissions'!$K$24:$K$500,'Excess Emissions'!$B$24:$B$500,$B78,'Excess Emissions'!$C$24:$C$500,$C78,'Excess Emissions'!$D$24:$D$500,$D78,'Excess Emissions'!$E$24:$E$500,\"Startup or Shutdown\"))","v":""},{"$f":"IF($E78=\"\",\"\",SUMIFS('Excess Emissions'!$K$24:$K$500,'Excess Emissions'!$B$24:$B$500,$B78,'Excess Emissions'!$C$24:$C$500,$C78,'Excess Emissions'!$D$24:$D$500,$D78,'Excess Emissions'!$E$24:$E$500,\"Control Equipment Problems\"))","v":""},{"$f":"IF($E78=\"\",\"\",SUMIFS('Excess Emissions'!$K$24:$K$500,'Excess Emissions'!$B$24:$B$500,$B78,'Excess Emissions'!$C$24:$C$500,$C78,'Excess Emissions'!$D$24:$D$500,$D78,'Excess Emissions'!$E$24:$E$500,\"Process Problems\"))","v":""},{"$f":"IF($E78=\"\",\"\",SUMIFS('Excess Emissions'!$K$24:$K$500,'Excess Emissions'!$B$24:$B$500,$B78,'Excess Emissions'!$C$24:$C$500,$C78,'Excess Emissions'!$D$24:$D$500,$D78,'Excess Emissions'!$E$24:$E$500,\"Other Known Causes\"))","v":""},{"$f":"IF($E78=\"\",\"\",SUMIFS('Excess Emissions'!$K$24:$K$500,'Excess Emissions'!$B$24:$B$500,$B78,'Excess Emissions'!$C$24:$C$500,$C78,'Excess Emissions'!$D$24:$D$500,$D78,'Excess Emissions'!$E$24:$E$500,\"Other Unknown Causes\"))","v":""}]
[null,{"$f":"IF(Lists!AG57=\"\",\"\",Lists!AG57)","v":""},{"$f":"IF(Lists!AH57=\"\",\"\",Lists!AH57)","v":""},{"$f":"IF(Lists!AI57=\"\",\"\",Lists!AI57)","v":""},{"$f":"IF(C79=\"\",\"\",VLOOKUP(B79&C79,Lists!$BA$2:$BD$78,4,FALSE))","v":""},"","",{"$f":"IF($E79=\"\",\"\",SUMIFS('Excess Emissions'!$K$24:$K$500,'Excess Emissions'!$B$24:$B$500,$B79,'Excess Emissions'!$C$24:$C$500,$C79,'Excess Emissions'!$D$24:$D$500,$D79,'Excess Emissions'!$E$24:$E$500,\"Startup or Shutdown\"))","v":""},{"$f":"IF($E79=\"\",\"\",SUMIFS('Excess Emissions'!$K$24:$K$500,'Excess Emissions'!$B$24:$B$500,$B79,'Excess Emissions'!$C$24:$C$500,$C79,'Excess Emissions'!$D$24:$D$500,$D79,'Excess Emissions'!$E$24:$E$500,\"Control Equipment Problems\"))","v":""},{"$f":"IF($E79=\"\",\"\",SUMIFS('Excess Emissions'!$K$24:$K$500,'Excess Emissions'!$B$24:$B$500,$B79,'Excess Emissions'!$C$24:$C$500,$C79,'Excess Emissions'!$D$24:$D$500,$D79,'Excess Emissions'!$E$24:$E$500,\"Process Problems\"))","v":""},{"$f":"IF($E79=\"\",\"\",SUMIFS('Excess Emissions'!$K$24:$K$500,'Excess Emissions'!$B$24:$B$500,$B79,'Excess Emissions'!$C$24:$C$500,$C79,'Excess Emissions'!$D$24:$D$500,$D79,'Excess Emissions'!$E$24:$E$500,\"Other Known Causes\"))","v":""},{"$f":"IF($E79=\"\",\"\",SUMIFS('Excess Emissions'!$K$24:$K$500,'Excess Emissions'!$B$24:$B$500,$B79,'Excess Emissions'!$C$24:$C$500,$C79,'Excess Emissions'!$D$24:$D$500,$D79,'Excess Emissions'!$E$24:$E$500,\"Other Unknown Causes\"))","v":""}]
[null,{"$f":"IF(Lists!AG58=\"\",\"\",Lists!AG58)","v":""},{"$f":"IF(Lists!AH58=\"\",\"\",Lists!AH58)","v":""},{"$f":"IF(Lists!AI58=\"\",\"\",Lists!AI58)","v":""},{"$f":"IF(C80=\"\",\"\",VLOOKUP(B80&C80,Lists!$BA$2:$BD$78,4,FALSE))","v":""},"","",{"$f":"IF($E80=\"\",\"\",SUMIFS('Excess Emissions'!$K$24:$K$500,'Excess Emissions'!$B$24:$B$500,$B80,'Excess Emissions'!$C$24:$C$500,$C80,'Excess Emissions'!$D$24:$D$500,$D80,'Excess Emissions'!$E$24:$E$500,\"Startup or Shutdown\"))","v":""},{"$f":"IF($E80=\"\",\"\",SUMIFS('Excess Emissions'!$K$24:$K$500,'Excess Emissions'!$B$24:$B$500,$B80,'Excess Emissions'!$C$24:$C$500,$C80,'Excess Emissions'!$D$24:$D$500,$D80,'Excess Emissions'!$E$24:$E$500,\"Control Equipment Problems\"))","v":""},{"$f":"IF($E80=\"\",\"\",SUMIFS('Excess Emissions'!$K$24:$K$500,'Excess Emissions'!$B$24:$B$500,$B80,'Excess Emissions'!$C$24:$C$500,$C80,'Excess Emissions'!$D$24:$D$500,$D80,'Excess Emissions'!$E$24:$E$500,\"Process Problems\"))","v":""},{"$f":"IF($E80=\"\",\"\",SUMIFS('Excess Emissions'!$K$24:$K$500,'Excess Emissions'!$B$24:$B$500,$B80,'Excess Emissions'!$C$24:$C$500,$C80,'Excess Emissions'!$D$24:$D$500,$D80,'Excess Emissions'!$E$24:$E$500,\"Other Known Causes\"))","v":""},{"$f":"IF($E80=\"\",\"\",SUMIFS('Excess Emissions'!$K$24:$K$500,'Excess Emissions'!$B$24:$B$500,$B80,'Excess Emissions'!$C$24:$C$500,$C80,'Excess Emissions'!$D$24:$D$500,$D80,'Excess Emissions'!$E$24:$E$500,\"Other Unknown Causes\"))","v":""}]
[null,{"$f":"IF(Lists!AG59=\"\",\"\",Lists!AG59)","v":""},{"$f":"IF(Lists!AH59=\"\",\"\",Lists!AH59)","v":""},{"$f":"IF(Lists!AI59=\"\",\"\",Lists!AI59)","v":""},{"$f":"IF(C81=\"\",\"\",VLOOKUP(B81&C81,Lists!$BA$2:$BD$78,4,FALSE))","v":""},"","",{"$f":"IF($E81=\"\",\"\",SUMIFS('Excess Emissions'!$K$24:$K$500,'Excess Emissions'!$B$24:$B$500,$B81,'Excess Emissions'!$C$24:$C$500,$C81,'Excess Emissions'!$D$24:$D$500,$D81,'Excess Emissions'!$E$24:$E$500,\"Startup or Shutdown\"))","v":""},{"$f":"IF($E81=\"\",\"\",SUMIFS('Excess Emissions'!$K$24:$K$500,'Excess Emissions'!$B$24:$B$500,$B81,'Excess Emissions'!$C$24:$C$500,$C81,'Excess Emissions'!$D$24:$D$500,$D81,'Excess Emissions'!$E$24:$E$500,\"Control Equipment Problems\"))","v":""},{"$f":"IF($E81=\"\",\"\",SUMIFS('Excess Emissions'!$K$24:$K$500,'Excess Emissions'!$B$24:$B$500,$B81,'Excess Emissions'!$C$24:$C$500,$C81,'Excess Emissions'!$D$24:$D$500,$D81,'Excess Emissions'!$E$24:$E$500,\"Process Problems\"))","v":""},{"$f":"IF($E81=\"\",\"\",SUMIFS('Excess Emissions'!$K$24:$K$500,'Excess Emissions'!$B$24:$B$500,$B81,'Excess Emissions'!$C$24:$C$500,$C81,'Excess Emissions'!$D$24:$D$500,$D81,'Excess Emissions'!$E$24:$E$500,\"Other Known Causes\"))","v":""},{"$f":"IF($E81=\"\",\"\",SUMIFS('Excess Emissions'!$K$24:$K$500,'Excess Emissions'!$B$24:$B$500,$B81,'Excess Emissions'!$C$24:$C$500,$C81,'Excess Emissions'!$D$24:$D$500,$D81,'Excess Emissions'!$E$24:$E$500,\"Other Unknown Causes\"))","v":""}]
[null,{"$f":"IF(Lists!AG60=\"\",\"\",Lists!AG60)","v":""},{"$f":"IF(Lists!AH60=\"\",\"\",Lists!AH60)","v":""},{"$f":"IF(Lists!AI60=\"\",\"\",Lists!AI60)","v":""},{"$f":"IF(C82=\"\",\"\",VLOOKUP(B82&C82,Lists!$BA$2:$BD$78,4,FALSE))","v":""},"","",{"$f":"IF($E82=\"\",\"\",SUMIFS('Excess Emissions'!$K$24:$K$500,'Excess Emissions'!$B$24:$B$500,$B82,'Excess Emissions'!$C$24:$C$500,$C82,'Excess Emissions'!$D$24:$D$500,$D82,'Excess Emissions'!$E$24:$E$500,\"Startup or Shutdown\"))","v":""},{"$f":"IF($E82=\"\",\"\",SUMIFS('Excess Emissions'!$K$24:$K$500,'Excess Emissions'!$B$24:$B$500,$B82,'Excess Emissions'!$C$24:$C$500,$C82,'Excess Emissions'!$D$24:$D$500,$D82,'Excess Emissions'!$E$24:$E$500,\"Control Equipment Problems\"))","v":""},{"$f":"IF($E82=\"\",\"\",SUMIFS('Excess Emissions'!$K$24:$K$500,'Excess Emissions'!$B$24:$B$500,$B82,'Excess Emissions'!$C$24:$C$500,$C82,'Excess Emissions'!$D$24:$D$500,$D82,'Excess Emissions'!$E$24:$E$500,\"Process Problems\"))","v":""},{"$f":"IF($E82=\"\",\"\",SUMIFS('Excess Emissions'!$K$24:$K$500,'Excess Emissions'!$B$24:$B$500,$B82,'Excess Emissions'!$C$24:$C$500,$C82,'Excess Emissions'!$D$24:$D$500,$D82,'Excess Emissions'!$E$24:$E$500,\"Other Known Causes\"))","v":""},{"$f":"IF($E82=\"\",\"\",SUMIFS('Excess Emissions'!$K$24:$K$500,'Excess Emissions'!$B$24:$B$500,$B82,'Excess Emissions'!$C$24:$C$500,$C82,'Excess Emissions'!$D$24:$D$500,$D82,'Excess Emissions'!$E$24:$E$500,\"Other Unknown Causes\"))","v":""}]
[null,{"$f":"IF(Lists!AG61=\"\",\"\",Lists!AG61)","v":""},{"$f":"IF(Lists!AH61=\"\",\"\",Lists!AH61)","v":""},{"$f":"IF(Lists!AI61=\"\",\"\",Lists!AI61)","v":""},{"$f":"IF(C83=\"\",\"\",VLOOKUP(B83&C83,Lists!$BA$2:$BD$78,4,FALSE))","v":""},"","",{"$f":"IF($E83=\"\",\"\",SUMIFS('Excess Emissions'!$K$24:$K$500,'Excess Emissions'!$B$24:$B$500,$B83,'Excess Emissions'!$C$24:$C$500,$C83,'Excess Emissions'!$D$24:$D$500,$D83,'Excess Emissions'!$E$24:$E$500,\"Startup or Shutdown\"))","v":""},{"$f":"IF($E83=\"\",\"\",SUMIFS('Excess Emissions'!$K$24:$K$500,'Excess Emissions'!$B$24:$B$500,$B83,'Excess Emissions'!$C$24:$C$500,$C83,'Excess Emissions'!$D$24:$D$500,$D83,'Excess Emissions'!$E$24:$E$500,\"Control Equipment Problems\"))","v":""},{"$f":"IF($E83=\"\",\"\",SUMIFS('Excess Emissions'!$K$24:$K$500,'Excess Emissions'!$B$24:$B$500,$B83,'Excess Emissions'!$C$24:$C$500,$C83,'Excess Emissions'!$D$24:$D$500,$D83,'Excess Emissions'!$E$24:$E$500,\"Process Problems\"))","v":""},{"$f":"IF($E83=\"\",\"\",SUMIFS('Excess Emissions'!$K$24:$K$500,'Excess Emissions'!$B$24:$B$500,$B83,'Excess Emissions'!$C$24:$C$500,$C83,'Excess Emissions'!$D$24:$D$500,$D83,'Excess Emissions'!$E$24:$E$500,\"Other Known Causes\"))","v":""},{"$f":"IF($E83=\"\",\"\",SUMIFS('Excess Emissions'!$K$24:$K$500,'Excess Emissions'!$B$24:$B$500,$B83,'Excess Emissions'!$C$24:$C$500,$C83,'Excess Emissions'!$D$24:$D$500,$D83,'Excess Emissions'!$E$24:$E$500,\"Other Unknown Causes\"))","v":""}]
[null,{"$f":"IF(Lists!AG62=\"\",\"\",Lists!AG62)","v":""},{"$f":"IF(Lists!AH62=\"\",\"\",Lists!AH62)","v":""},{"$f":"IF(Lists!AI62=\"\",\"\",Lists!AI62)","v":""},{"$f":"IF(C84=\"\",\"\",VLOOKUP(B84&C84,Lists!$BA$2:$BD$78,4,FALSE))","v":""},"","",{"$f":"IF($E84=\"\",\"\",SUMIFS('Excess Emissions'!$K$24:$K$500,'Excess Emissions'!$B$24:$B$500,$B84,'Excess Emissions'!$C$24:$C$500,$C84,'Excess Emissions'!$D$24:$D$500,$D84,'Excess Emissions'!$E$24:$E$500,\"Startup or Shutdown\"))","v":""},{"$f":"IF($E84=\"\",\"\",SUMIFS('Excess Emissions'!$K$24:$K$500,'Excess Emissions'!$B$24:$B$500,$B84,'Excess Emissions'!$C$24:$C$500,$C84,'Excess Emissions'!$D$24:$D$500,$D84,'Excess Emissions'!$E$24:$E$500,\"Control Equipment Problems\"))","v":""},{"$f":"IF($E84=\"\",\"\",SUMIFS('Excess Emissions'!$K$24:$K$500,'Excess Emissions'!$B$24:$B$500,$B84,'Excess Emissions'!$C$24:$C$500,$C84,'Excess Emissions'!$D$24:$D$500,$D84,'Excess Emissions'!$E$24:$E$500,\"Process Problems\"))","v":""},{"$f":"IF($E84=\"\",\"\",SUMIFS('Excess Emissions'!$K$24:$K$500,'Excess Emissions'!$B$24:$B$500,$B84,'Excess Emissions'!$C$24:$C$500,$C84,'Excess Emissions'!$D$24:$D$500,$D84,'Excess Emissions'!$E$24:$E$500,\"Other Known Causes\"))","v":""},{"$f":"IF($E84=\"\",\"\",SUMIFS('Excess Emissions'!$K$24:$K$500,'Excess Emissions'!$B$24:$B$500,$B84,'Excess Emissions'!$C$24:$C$500,$C84,'Excess Emissions'!$D$24:$D$500,$D84,'Excess Emissions'!$E$24:$E$500,\"Other Unknown Causes\"))","v":""}]
[null,{"$f":"IF(Lists!AG63=\"\",\"\",Lists!AG63)","v":""},{"$f":"IF(Lists!AH63=\"\",\"\",Lists!AH63)","v":""},{"$f":"IF(Lists!AI63=\"\",\"\",Lists!AI63)","v":""},{"$f":"IF(C85=\"\",\"\",VLOOKUP(B85&C85,Lists!$BA$2:$BD$78,4,FALSE))","v":""},"","",{"$f":"IF($E85=\"\",\"\",SUMIFS('Excess Emissions'!$K$24:$K$500,'Excess Emissions'!$B$24:$B$500,$B85,'Excess Emissions'!$C$24:$C$500,$C85,'Excess Emissions'!$D$24:$D$500,$D85,'Excess Emissions'!$E$24:$E$500,\"Startup or Shutdown\"))","v":""},{"$f":"IF($E85=\"\",\"\",SUMIFS('Excess Emissions'!$K$24:$K$500,'Excess Emissions'!$B$24:$B$500,$B85,'Excess Emissions'!$C$24:$C$500,$C85,'Excess Emissions'!$D$24:$D$500,$D85,'Excess Emissions'!$E$24:$E$500,\"Control Equipment Problems\"))","v":""},{"$f":"IF($E85=\"\",\"\",SUMIFS('Excess Emissions'!$K$24:$K$500,'Excess Emissions'!$B$24:$B$500,$B85,'Excess Emissions'!$C$24:$C$500,$C85,'Excess Emissions'!$D$24:$D$500,$D85,'Excess Emissions'!$E$24:$E$500,\"Process Problems\"))","v":""},{"$f":"IF($E85=\"\",\"\",SUMIFS('Excess Emissions'!$K$24:$K$500,'Excess Emissions'!$B$24:$B$500,$B85,'Excess Emissions'!$C$24:$C$500,$C85,'Excess Emissions'!$D$24:$D$500,$D85,'Excess Emissions'!$E$24:$E$500,\"Other Known Causes\"))","v":""},{"$f":"IF($E85=\"\",\"\",SUMIFS('Excess Emissions'!$K$24:$K$500,'Excess Emissions'!$B$24:$B$500,$B85,'Excess Emissions'!$C$24:$C$500,$C85,'Excess Emissions'!$D$24:$D$500,$D85,'Excess Emissions'!$E$24:$E$500,\"Other Unknown Causes\"))","v":""}]
[null,{"$f":"IF(Lists!AG64=\"\",\"\",Lists!AG64)","v":""},{"$f":"IF(Lists!AH64=\"\",\"\",Lists!AH64)","v":""},{"$f":"IF(Lists!AI64=\"\",\"\",Lists!AI64)","v":""},{"$f":"IF(C86=\"\",\"\",VLOOKUP(B86&C86,Lists!$BA$2:$BD$78,4,FALSE))","v":""},"","",{"$f":"IF($E86=\"\",\"\",SUMIFS('Excess Emissions'!$K$24:$K$500,'Excess Emissions'!$B$24:$B$500,$B86,'Excess Emissions'!$C$24:$C$500,$C86,'Excess Emissions'!$D$24:$D$500,$D86,'Excess Emissions'!$E$24:$E$500,\"Startup or Shutdown\"))","v":""},{"$f":"IF($E86=\"\",\"\",SUMIFS('Excess Emissions'!$K$24:$K$500,'Excess Emissions'!$B$24:$B$500,$B86,'Excess Emissions'!$C$24:$C$500,$C86,'Excess Emissions'!$D$24:$D$500,$D86,'Excess Emissions'!$E$24:$E$500,\"Control Equipment Problems\"))","v":""},{"$f":"IF($E86=\"\",\"\",SUMIFS('Excess Emissions'!$K$24:$K$500,'Excess Emissions'!$B$24:$B$500,$B86,'Excess Emissions'!$C$24:$C$500,$C86,'Excess Emissions'!$D$24:$D$500,$D86,'Excess Emissions'!$E$24:$E$500,\"Process Problems\"))","v":""},{"$f":"IF($E86=\"\",\"\",SUMIFS('Excess Emissions'!$K$24:$K$500,'Excess Emissions'!$B$24:$B$500,$B86,'Excess Emissions'!$C$24:$C$500,$C86,'Excess Emissions'!$D$24:$D$500,$D86,'Excess Emissions'!$E$24:$E$500,\"Other Known Causes\"))","v":""},{"$f":"IF($E86=\"\",\"\",SUMIFS('Excess Emissions'!$K$24:$K$500,'Excess Emissions'!$B$24:$B$500,$B86,'Excess Emissions'!$C$24:$C$500,$C86,'Excess Emissions'!$D$24:$D$500,$D86,'Excess Emissions'!$E$24:$E$500,\"Other Unknown Causes\"))","v":""}]
[null,{"$f":"IF(Lists!AG65=\"\",\"\",Lists!AG65)","v":""},{"$f":"IF(Lists!AH65=\"\",\"\",Lists!AH65)","v":""},{"$f":"IF(Lists!AI65=\"\",\"\",Lists!AI65)","v":""},{"$f":"IF(C87=\"\",\"\",VLOOKUP(B87&C87,Lists!$BA$2:$BD$78,4,FALSE))","v":""},"","",{"$f":"IF($E87=\"\",\"\",SUMIFS('Excess Emissions'!$K$24:$K$500,'Excess Emissions'!$B$24:$B$500,$B87,'Excess Emissions'!$C$24:$C$500,$C87,'Excess Emissions'!$D$24:$D$500,$D87,'Excess Emissions'!$E$24:$E$500,\"Startup or Shutdown\"))","v":""},{"$f":"IF($E87=\"\",\"\",SUMIFS('Excess Emissions'!$K$24:$K$500,'Excess Emissions'!$B$24:$B$500,$B87,'Excess Emissions'!$C$24:$C$500,$C87,'Excess Emissions'!$D$24:$D$500,$D87,'Excess Emissions'!$E$24:$E$500,\"Control Equipment Problems\"))","v":""},{"$f":"IF($E87=\"\",\"\",SUMIFS('Excess Emissions'!$K$24:$K$500,'Excess Emissions'!$B$24:$B$500,$B87,'Excess Emissions'!$C$24:$C$500,$C87,'Excess Emissions'!$D$24:$D$500,$D87,'Excess Emissions'!$E$24:$E$500,\"Process Problems\"))","v":""},{"$f":"IF($E87=\"\",\"\",SUMIFS('Excess Emissions'!$K$24:$K$500,'Excess Emissions'!$B$24:$B$500,$B87,'Excess Emissions'!$C$24:$C$500,$C87,'Excess Emissions'!$D$24:$D$500,$D87,'Excess Emissions'!$E$24:$E$500,\"Other Known Causes\"))","v":""},{"$f":"IF($E87=\"\",\"\",SUMIFS('Excess Emissions'!$K$24:$K$500,'Excess Emissions'!$B$24:$B$500,$B87,'Excess Emissions'!$C$24:$C$500,$C87,'Excess Emissions'!$D$24:$D$500,$D87,'Excess Emissions'!$E$24:$E$500,\"Other Unknown Causes\"))","v":""}]
[null,{"$f":"IF(Lists!AG66=\"\",\"\",Lists!AG66)","v":""},{"$f":"IF(Lists!AH66=\"\",\"\",Lists!AH66)","v":""},{"$f":"IF(Lists!AI66=\"\",\"\",Lists!AI66)","v":""},{"$f":"IF(C88=\"\",\"\",VLOOKUP(B88&C88,Lists!$BA$2:$BD$78,4,FALSE))","v":""},"","",{"$f":"IF($E88=\"\",\"\",SUMIFS('Excess Emissions'!$K$24:$K$500,'Excess Emissions'!$B$24:$B$500,$B88,'Excess Emissions'!$C$24:$C$500,$C88,'Excess Emissions'!$D$24:$D$500,$D88,'Excess Emissions'!$E$24:$E$500,\"Startup or Shutdown\"))","v":""},{"$f":"IF($E88=\"\",\"\",SUMIFS('Excess Emissions'!$K$24:$K$500,'Excess Emissions'!$B$24:$B$500,$B88,'Excess Emissions'!$C$24:$C$500,$C88,'Excess Emissions'!$D$24:$D$500,$D88,'Excess Emissions'!$E$24:$E$500,\"Control Equipment Problems\"))","v":""},{"$f":"IF($E88=\"\",\"\",SUMIFS('Excess Emissions'!$K$24:$K$500,'Excess Emissions'!$B$24:$B$500,$B88,'Excess Emissions'!$C$24:$C$500,$C88,'Excess Emissions'!$D$24:$D$500,$D88,'Excess Emissions'!$E$24:$E$500,\"Process Problems\"))","v":""},{"$f":"IF($E88=\"\",\"\",SUMIFS('Excess Emissions'!$K$24:$K$500,'Excess Emissions'!$B$24:$B$500,$B88,'Excess Emissions'!$C$24:$C$500,$C88,'Excess Emissions'!$D$24:$D$500,$D88,'Excess Emissions'!$E$24:$E$500,\"Other Known Causes\"))","v":""},{"$f":"IF($E88=\"\",\"\",SUMIFS('Excess Emissions'!$K$24:$K$500,'Excess Emissions'!$B$24:$B$500,$B88,'Excess Emissions'!$C$24:$C$500,$C88,'Excess Emissions'!$D$24:$D$500,$D88,'Excess Emissions'!$E$24:$E$500,\"Other Unknown Causes\"))","v":""}]
[null,{"$f":"IF(Lists!AG67=\"\",\"\",Lists!AG67)","v":""},{"$f":"IF(Lists!AH67=\"\",\"\",Lists!AH67)","v":""},{"$f":"IF(Lists!AI67=\"\",\"\",Lists!AI67)","v":""},{"$f":"IF(C89=\"\",\"\",VLOOKUP(B89&C89,Lists!$BA$2:$BD$78,4,FALSE))","v":""},{"$f":"IF(E89=\"\",\"\",SUM(H89:L89))","v":""},{"$f":"IF(E89=\"\",\"\",F89/E89)","v":""},{"$f":"IF($E89=\"\",\"\",SUMIFS('Excess Emissions'!$K$24:$K$500,'Excess Emissions'!$B$24:$B$500,$B89,'Excess Emissions'!$C$24:$C$500,$C89,'Excess Emissions'!$D$24:$D$500,$D89,'Excess Emissions'!$E$24:$E$500,\"Startup or Shutdown\"))","v":""},{"$f":"IF($E89=\"\",\"\",SUMIFS('Excess Emissions'!$K$24:$K$500,'Excess Emissions'!$B$24:$B$500,$B89,'Excess Emissions'!$C$24:$C$500,$C89,'Excess Emissions'!$D$24:$D$500,$D89,'Excess Emissions'!$E$24:$E$500,\"Control Equipment Problems\"))","v":""},{"$f":"IF($E89=\"\",\"\",SUMIFS('Excess Emissions'!$K$24:$K$500,'Excess Emissions'!$B$24:$B$500,$B89,'Excess Emissions'!$C$24:$C$500,$C89,'Excess Emissions'!$D$24:$D$500,$D89,'Excess Emissions'!$E$24:$E$500,\"Process Problems\"))","v":""},{"$f":"IF($E89=\"\",\"\",SUMIFS('Excess Emissions'!$K$24:$K$500,'Excess Emissions'!$B$24:$B$500,$B89,'Excess Emissions'!$C$24:$C$500,$C89,'Excess Emissions'!$D$24:$D$500,$D89,'Excess Emissions'!$E$24:$E$500,\"Other Known Causes\"))","v":""},{"$f":"IF($E89=\"\",\"\",SUMIFS('Excess Emissions'!$K$24:$K$500,'Excess Emissions'!$B$24:$B$500,$B89,'Excess Emissions'!$C$24:$C$500,$C89,'Excess Emissions'!$D$24:$D$500,$D89,'Excess Emissions'!$E$24:$E$500,\"Other Unknown Causes\"))","v":""}]
[null,{"$f":"IF(Lists!AG68=\"\",\"\",Lists!AG68)","v":""},{"$f":"IF(Lists!AH68=\"\",\"\",Lists!AH68)","v":""},{"$f":"IF(Lists!AI68=\"\",\"\",Lists!AI68)","v":""},{"$f":"IF(C90=\"\",\"\",VLOOKUP(B90&C90,Lists!$BA$2:$BD$78,4,FALSE))","v":""},"","",{"$f":"IF($E90=\"\",\"\",SUMIFS('Excess Emissions'!$K$24:$K$500,'Excess Emissions'!$B$24:$B$500,$B90,'Excess Emissions'!$C$24:$C$500,$C90,'Excess Emissions'!$D$24:$D$500,$D90,'Excess Emissions'!$E$24:$E$500,\"Startup or Shutdown\"))","v":""},{"$f":"IF($E90=\"\",\"\",SUMIFS('Excess Emissions'!$K$24:$K$500,'Excess Emissions'!$B$24:$B$500,$B90,'Excess Emissions'!$C$24:$C$500,$C90,'Excess Emissions'!$D$24:$D$500,$D90,'Excess Emissions'!$E$24:$E$500,\"Control Equipment Problems\"))","v":""},{"$f":"IF($E90=\"\",\"\",SUMIFS('Excess Emissions'!$K$24:$K$500,'Excess Emissions'!$B$24:$B$500,$B90,'Excess Emissions'!$C$24:$C$500,$C90,'Excess Emissions'!$D$24:$D$500,$D90,'Excess Emissions'!$E$24:$E$500,\"Process Problems\"))","v":""},{"$f":"IF($E90=\"\",\"\",SUMIFS('Excess Emissions'!$K$24:$K$500,'Excess Emissions'!$B$24:$B$500,$B90,'Excess Emissions'!$C$24:$C$500,$C90,'Excess Emissions'!$D$24:$D$500,$D90,'Excess Emissions'!$E$24:$E$500,\"Other Known Causes\"))","v":""},{"$f":"IF($E90=\"\",\"\",SUMIFS('Excess Emissions'!$K$24:$K$500,'Excess Emissions'!$B$24:$B$500,$B90,'Excess Emissions'!$C$24:$C$500,$C90,'Excess Emissions'!$D$24:$D$500,$D90,'Excess Emissions'!$E$24:$E$500,\"Other Unknown Causes\"))","v":""}]
[null,{"$f":"IF(Lists!AG69=\"\",\"\",Lists!AG69)","v":""},{"$f":"IF(Lists!AH69=\"\",\"\",Lists!AH69)","v":""},{"$f":"IF(Lists!AI69=\"\",\"\",Lists!AI69)","v":""},{"$f":"IF(C91=\"\",\"\",VLOOKUP(B91&C91,Lists!$BA$2:$BD$78,4,FALSE))","v":""},"","",{"$f":"IF($E91=\"\",\"\",SUMIFS('Excess Emissions'!$K$24:$K$500,'Excess Emissions'!$B$24:$B$500,$B91,'Excess Emissions'!$C$24:$C$500,$C91,'Excess Emissions'!$D$24:$D$500,$D91,'Excess Emissions'!$E$24:$E$500,\"Startup or Shutdown\"))","v":""},{"$f":"IF($E91=\"\",\"\",SUMIFS('Excess Emissions'!$K$24:$K$500,'Excess Emissions'!$B$24:$B$500,$B91,'Excess Emissions'!$C$24:$C$500,$C91,'Excess Emissions'!$D$24:$D$500,$D91,'Excess Emissions'!$E$24:$E$500,\"Control Equipment Problems\"))","v":""},{"$f":"IF($E91=\"\",\"\",SUMIFS('Excess Emissions'!$K$24:$K$500,'Excess Emissions'!$B$24:$B$500,$B91,'Excess Emissions'!$C$24:$C$500,$C91,'Excess Emissions'!$D$24:$D$500,$D91,'Excess Emissions'!$E$24:$E$500,\"Process Problems\"))","v":""},{"$f":"IF($E91=\"\",\"\",SUMIFS('Excess Emissions'!$K$24:$K$500,'Excess Emissions'!$B$24:$B$500,$B91,'Excess Emissions'!$C$24:$C$500,$C91,'Excess Emissions'!$D$24:$D$500,$D91,'Excess Emissions'!$E$24:$E$500,\"Other Known Causes\"))","v":""},{"$f":"IF($E91=\"\",\"\",SUMIFS('Excess Emissions'!$K$24:$K$500,'Excess Emissions'!$B$24:$B$500,$B91,'Excess Emissions'!$C$24:$C$500,$C91,'Excess Emissions'!$D$24:$D$500,$D91,'Excess Emissions'!$E$24:$E$500,\"Other Unknown Causes\"))","v":""}]
[null,{"$f":"IF(Lists!AG70=\"\",\"\",Lists!AG70)","v":""},{"$f":"IF(Lists!AH70=\"\",\"\",Lists!AH70)","v":""},{"$f":"IF(Lists!AI70=\"\",\"\",Lists!AI70)","v":""},{"$f":"IF(C92=\"\",\"\",VLOOKUP(B92&C92,Lists!$BA$2:$BD$78,4,FALSE))","v":""},"","",{"$f":"IF($E92=\"\",\"\",SUMIFS('Excess Emissions'!$K$24:$K$500,'Excess Emissions'!$B$24:$B$500,$B92,'Excess Emissions'!$C$24:$C$500,$C92,'Excess Emissions'!$D$24:$D$500,$D92,'Excess Emissions'!$E$24:$E$500,\"Startup or Shutdown\"))","v":""},{"$f":"IF($E92=\"\",\"\",SUMIFS('Excess Emissions'!$K$24:$K$500,'Excess Emissions'!$B$24:$B$500,$B92,'Excess Emissions'!$C$24:$C$500,$C92,'Excess Emissions'!$D$24:$D$500,$D92,'Excess Emissions'!$E$24:$E$500,\"Control Equipment Problems\"))","v":""},{"$f":"IF($E92=\"\",\"\",SUMIFS('Excess Emissions'!$K$24:$K$500,'Excess Emissions'!$B$24:$B$500,$B92,'Excess Emissions'!$C$24:$C$500,$C92,'Excess Emissions'!$D$24:$D$500,$D92,'Excess Emissions'!$E$24:$E$500,\"Process Problems\"))","v":""},{"$f":"IF($E92=\"\",\"\",SUMIFS('Excess Emissions'!$K$24:$K$500,'Excess Emissions'!$B$24:$B$500,$B92,'Excess Emissions'!$C$24:$C$500,$C92,'Excess Emissions'!$D$24:$D$500,$D92,'Excess Emissions'!$E$24:$E$500,\"Other Known Causes\"))","v":""},{"$f":"IF($E92=\"\",\"\",SUMIFS('Excess Emissions'!$K$24:$K$500,'Excess Emissions'!$B$24:$B$500,$B92,'Excess Emissions'!$C$24:$C$500,$C92,'Excess Emissions'!$D$24:$D$500,$D92,'Excess Emissions'!$E$24:$E$500,\"Other Unknown Causes\"))","v":""}]
[null,{"$f":"IF(Lists!AG71=\"\",\"\",Lists!AG71)","v":""},{"$f":"IF(Lists!AH71=\"\",\"\",Lists!AH71)","v":""},{"$f":"IF(Lists!AI71=\"\",\"\",Lists!AI71)","v":""},{"$f":"IF(C93=\"\",\"\",VLOOKUP(B93&C93,Lists!$BA$2:$BD$78,4,FALSE))","v":""},"","",{"$f":"IF($E93=\"\",\"\",SUMIFS('Excess Emissions'!$K$24:$K$500,'Excess Emissions'!$B$24:$B$500,$B93,'Excess Emissions'!$C$24:$C$500,$C93,'Excess Emissions'!$D$24:$D$500,$D93,'Excess Emissions'!$E$24:$E$500,\"Startup or Shutdown\"))","v":""},{"$f":"IF($E93=\"\",\"\",SUMIFS('Excess Emissions'!$K$24:$K$500,'Excess Emissions'!$B$24:$B$500,$B93,'Excess Emissions'!$C$24:$C$500,$C93,'Excess Emissions'!$D$24:$D$500,$D93,'Excess Emissions'!$E$24:$E$500,\"Control Equipment Problems\"))","v":""},{"$f":"IF($E93=\"\",\"\",SUMIFS('Excess Emissions'!$K$24:$K$500,'Excess Emissions'!$B$24:$B$500,$B93,'Excess Emissions'!$C$24:$C$500,$C93,'Excess Emissions'!$D$24:$D$500,$D93,'Excess Emissions'!$E$24:$E$500,\"Process Problems\"))","v":""},{"$f":"IF($E93=\"\",\"\",SUMIFS('Excess Emissions'!$K$24:$K$500,'Excess Emissions'!$B$24:$B$500,$B93,'Excess Emissions'!$C$24:$C$500,$C93,'Excess Emissions'!$D$24:$D$500,$D93,'Excess Emissions'!$E$24:$E$500,\"Other Known Causes\"))","v":""},{"$f":"IF($E93=\"\",\"\",SUMIFS('Excess Emissions'!$K$24:$K$500,'Excess Emissions'!$B$24:$B$500,$B93,'Excess Emissions'!$C$24:$C$500,$C93,'Excess Emissions'!$D$24:$D$500,$D93,'Excess Emissions'!$E$24:$E$500,\"Other Unknown Causes\"))","v":""}]
[null,{"$f":"IF(Lists!AG72=\"\",\"\",Lists!AG72)","v":""},{"$f":"IF(Lists!AH72=\"\",\"\",Lists!AH72)","v":""},{"$f":"IF(Lists!AI72=\"\",\"\",Lists!AI72)","v":""},{"$f":"IF(C94=\"\",\"\",VLOOKUP(B94&C94,Lists!$BA$2:$BD$78,4,FALSE))","v":""},"","",{"$f":"IF($E94=\"\",\"\",SUMIFS('Excess Emissions'!$K$24:$K$500,'Excess Emissions'!$B$24:$B$500,$B94,'Excess Emissions'!$C$24:$C$500,$C94,'Excess Emissions'!$D$24:$D$500,$D94,'Excess Emissions'!$E$24:$E$500,\"Startup or Shutdown\"))","v":""},{"$f":"IF($E94=\"\",\"\",SUMIFS('Excess Emissions'!$K$24:$K$500,'Excess Emissions'!$B$24:$B$500,$B94,'Excess Emissions'!$C$24:$C$500,$C94,'Excess Emissions'!$D$24:$D$500,$D94,'Excess Emissions'!$E$24:$E$500,\"Control Equipment Problems\"))","v":""},{"$f":"IF($E94=\"\",\"\",SUMIFS('Excess Emissions'!$K$24:$K$500,'Excess Emissions'!$B$24:$B$500,$B94,'Excess Emissions'!$C$24:$C$500,$C94,'Excess Emissions'!$D$24:$D$500,$D94,'Excess Emissions'!$E$24:$E$500,\"Process Problems\"))","v":""},{"$f":"IF($E94=\"\",\"\",SUMIFS('Excess Emissions'!$K$24:$K$500,'Excess Emissions'!$B$24:$B$500,$B94,'Excess Emissions'!$C$24:$C$500,$C94,'Excess Emissions'!$D$24:$D$500,$D94,'Excess Emissions'!$E$24:$E$500,\"Other Known Causes\"))","v":""},{"$f":"IF($E94=\"\",\"\",SUMIFS('Excess Emissions'!$K$24:$K$500,'Excess Emissions'!$B$24:$B$500,$B94,'Excess Emissions'!$C$24:$C$500,$C94,'Excess Emissions'!$D$24:$D$500,$D94,'Excess Emissions'!$E$24:$E$500,\"Other Unknown Causes\"))","v":""}]
[null,{"$f":"IF(Lists!AG73=\"\",\"\",Lists!AG73)","v":""},{"$f":"IF(Lists!AH73=\"\",\"\",Lists!AH73)","v":""},{"$f":"IF(Lists!AI73=\"\",\"\",Lists!AI73)","v":""},{"$f":"IF(C95=\"\",\"\",VLOOKUP(B95&C95,Lists!$BA$2:$BD$78,4,FALSE))","v":""},"","",{"$f":"IF($E95=\"\",\"\",SUMIFS('Excess Emissions'!$K$24:$K$500,'Excess Emissions'!$B$24:$B$500,$B95,'Excess Emissions'!$C$24:$C$500,$C95,'Excess Emissions'!$D$24:$D$500,$D95,'Excess Emissions'!$E$24:$E$500,\"Startup or Shutdown\"))","v":""},{"$f":"IF($E95=\"\",\"\",SUMIFS('Excess Emissions'!$K$24:$K$500,'Excess Emissions'!$B$24:$B$500,$B95,'Excess Emissions'!$C$24:$C$500,$C95,'Excess Emissions'!$D$24:$D$500,$D95,'Excess Emissions'!$E$24:$E$500,\"Control Equipment Problems\"))","v":""},{"$f":"IF($E95=\"\",\"\",SUMIFS('Excess Emissions'!$K$24:$K$500,'Excess Emissions'!$B$24:$B$500,$B95,'Excess Emissions'!$C$24:$C$500,$C95,'Excess Emissions'!$D$24:$D$500,$D95,'Excess Emissions'!$E$24:$E$500,\"Process Problems\"))","v":""},{"$f":"IF($E95=\"\",\"\",SUMIFS('Excess Emissions'!$K$24:$K$500,'Excess Emissions'!$B$24:$B$500,$B95,'Excess Emissions'!$C$24:$C$500,$C95,'Excess Emissions'!$D$24:$D$500,$D95,'Excess Emissions'!$E$24:$E$500,\"Other Known Causes\"))","v":""},{"$f":"IF($E95=\"\",\"\",SUMIFS('Excess Emissions'!$K$24:$K$500,'Excess Emissions'!$B$24:$B$500,$B95,'Excess Emissions'!$C$24:$C$500,$C95,'Excess Emissions'!$D$24:$D$500,$D95,'Excess Emissions'!$E$24:$E$500,\"Other Unknown Causes\"))","v":""}]
[null,{"$f":"IF(Lists!AG74=\"\",\"\",Lists!AG74)","v":""},{"$f":"IF(Lists!AH74=\"\",\"\",Lists!AH74)","v":""},{"$f":"IF(Lists!AI74=\"\",\"\",Lists!AI74)","v":""},{"$f":"IF(C96=\"\",\"\",VLOOKUP(B96&C96,Lists!$BA$2:$BD$78,4,FALSE))","v":""},"","",{"$f":"IF($E96=\"\",\"\",SUMIFS('Excess Emissions'!$K$24:$K$500,'Excess Emissions'!$B$24:$B$500,$B96,'Excess Emissions'!$C$24:$C$500,$C96,'Excess Emissions'!$D$24:$D$500,$D96,'Excess Emissions'!$E$24:$E$500,\"Startup or Shutdown\"))","v":""},{"$f":"IF($E96=\"\",\"\",SUMIFS('Excess Emissions'!$K$24:$K$500,'Excess Emissions'!$B$24:$B$500,$B96,'Excess Emissions'!$C$24:$C$500,$C96,'Excess Emissions'!$D$24:$D$500,$D96,'Excess Emissions'!$E$24:$E$500,\"Control Equipment Problems\"))","v":""},{"$f":"IF($E96=\"\",\"\",SUMIFS('Excess Emissions'!$K$24:$K$500,'Excess Emissions'!$B$24:$B$500,$B96,'Excess Emissions'!$C$24:$C$500,$C96,'Excess Emissions'!$D$24:$D$500,$D96,'Excess Emissions'!$E$24:$E$500,\"Process Problems\"))","v":""},{"$f":"IF($E96=\"\",\"\",SUMIFS('Excess Emissions'!$K$24:$K$500,'Excess Emissions'!$B$24:$B$500,$B96,'Excess Emissions'!$C$24:$C$500,$C96,'Excess Emissions'!$D$24:$D$500,$D96,'Excess Emissions'!$E$24:$E$500,\"Other Known Causes\"))","v":""},{"$f":"IF($E96=\"\",\"\",SUMIFS('Excess Emissions'!$K$24:$K$500,'Excess Emissions'!$B$24:$B$500,$B96,'Excess Emissions'!$C$24:$C$500,$C96,'Excess Emissions'!$D$24:$D$500,$D96,'Excess Emissions'!$E$24:$E$500,\"Other Unknown Causes\"))","v":""}]
[null,{"$f":"IF(Lists!AG75=\"\",\"\",Lists!AG75)","v":""},{"$f":"IF(Lists!AH75=\"\",\"\",Lists!AH75)","v":""},{"$f":"IF(Lists!AI75=\"\",\"\",Lists!AI75)","v":""},{"$f":"IF(C97=\"\",\"\",VLOOKUP(B97&C97,Lists!$BA$2:$BD$78,4,FALSE))","v":""},"","",{"$f":"IF($E97=\"\",\"\",SUMIFS('Excess Emissions'!$K$24:$K$500,'Excess Emissions'!$B$24:$B$500,$B97,'Excess Emissions'!$C$24:$C$500,$C97,'Excess Emissions'!$D$24:$D$500,$D97,'Excess Emissions'!$E$24:$E$500,\"Startup or Shutdown\"))","v":""},{"$f":"IF($E97=\"\",\"\",SUMIFS('Excess Emissions'!$K$24:$K$500,'Excess Emissions'!$B$24:$B$500,$B97,'Excess Emissions'!$C$24:$C$500,$C97,'Excess Emissions'!$D$24:$D$500,$D97,'Excess Emissions'!$E$24:$E$500,\"Control Equipment Problems\"))","v":""},{"$f":"IF($E97=\"\",\"\",SUMIFS('Excess Emissions'!$K$24:$K$500,'Excess Emissions'!$B$24:$B$500,$B97,'Excess Emissions'!$C$24:$C$500,$C97,'Excess Emissions'!$D$24:$D$500,$D97,'Excess Emissions'!$E$24:$E$500,\"Process Problems\"))","v":""},{"$f":"IF($E97=\"\",\"\",SUMIFS('Excess Emissions'!$K$24:$K$500,'Excess Emissions'!$B$24:$B$500,$B97,'Excess Emissions'!$C$24:$C$500,$C97,'Excess Emissions'!$D$24:$D$500,$D97,'Excess Emissions'!$E$24:$E$500,\"Other Known Causes\"))","v":""},{"$f":"IF($E97=\"\",\"\",SUMIFS('Excess Emissions'!$K$24:$K$500,'Excess Emissions'!$B$24:$B$500,$B97,'Excess Emissions'!$C$24:$C$500,$C97,'Excess Emissions'!$D$24:$D$500,$D97,'Excess Emissions'!$E$24:$E$500,\"Other Unknown Causes\"))","v":""}]
[null,{"$f":"IF(Lists!AG76=\"\",\"\",Lists!AG76)","v":""},{"$f":"IF(Lists!AH76=\"\",\"\",Lists!AH76)","v":""},{"$f":"IF(Lists!AI76=\"\",\"\",Lists!AI76)","v":""},{"$f":"IF(C98=\"\",\"\",VLOOKUP(B98&C98,Lists!$BA$2:$BD$78,4,FALSE))","v":""},"","",{"$f":"IF($E98=\"\",\"\",SUMIFS('Excess Emissions'!$K$24:$K$500,'Excess Emissions'!$B$24:$B$500,$B98,'Excess Emissions'!$C$24:$C$500,$C98,'Excess Emissions'!$D$24:$D$500,$D98,'Excess Emissions'!$E$24:$E$500,\"Startup or Shutdown\"))","v":""},{"$f":"IF($E98=\"\",\"\",SUMIFS('Excess Emissions'!$K$24:$K$500,'Excess Emissions'!$B$24:$B$500,$B98,'Excess Emissions'!$C$24:$C$500,$C98,'Excess Emissions'!$D$24:$D$500,$D98,'Excess Emissions'!$E$24:$E$500,\"Control Equipment Problems\"))","v":""},{"$f":"IF($E98=\"\",\"\",SUMIFS('Excess Emissions'!$K$24:$K$500,'Excess Emissions'!$B$24:$B$500,$B98,'Excess Emissions'!$C$24:$C$500,$C98,'Excess Emissions'!$D$24:$D$500,$D98,'Excess Emissions'!$E$24:$E$500,\"Process Problems\"))","v":""},{"$f":"IF($E98=\"\",\"\",SUMIFS('Excess Emissions'!$K$24:$K$500,'Excess Emissions'!$B$24:$B$500,$B98,'Excess Emissions'!$C$24:$C$500,$C98,'Excess Emissions'!$D$24:$D$500,$D98,'Excess Emissions'!$E$24:$E$500,\"Other Known Causes\"))","v":""},{"$f":"IF($E98=\"\",\"\",SUMIFS('Excess Emissions'!$K$24:$K$500,'Excess Emissions'!$B$24:$B$500,$B98,'Excess Emissions'!$C$24:$C$500,$C98,'Excess Emissions'!$D$24:$D$500,$D98,'Excess Emissions'!$E$24:$E$500,\"Other Unknown Causes\"))","v":""}]
[null,{"$f":"IF(Lists!AG77=\"\",\"\",Lists!AG77)","v":""},{"$f":"IF(Lists!AH77=\"\",\"\",Lists!AH77)","v":""},{"$f":"IF(Lists!AI77=\"\",\"\",Lists!AI77)","v":""},{"$f":"IF(C99=\"\",\"\",VLOOKUP(B99&C99,Lists!$BA$2:$BD$78,4,FALSE))","v":""},"","",{"$f":"IF($E99=\"\",\"\",SUMIFS('Excess Emissions'!$K$24:$K$500,'Excess Emissions'!$B$24:$B$500,$B99,'Excess Emissions'!$C$24:$C$500,$C99,'Excess Emissions'!$D$24:$D$500,$D99,'Excess Emissions'!$E$24:$E$500,\"Startup or Shutdown\"))","v":""},{"$f":"IF($E99=\"\",\"\",SUMIFS('Excess Emissions'!$K$24:$K$500,'Excess Emissions'!$B$24:$B$500,$B99,'Excess Emissions'!$C$24:$C$500,$C99,'Excess Emissions'!$D$24:$D$500,$D99,'Excess Emissions'!$E$24:$E$500,\"Control Equipment Problems\"))","v":""},{"$f":"IF($E99=\"\",\"\",SUMIFS('Excess Emissions'!$K$24:$K$500,'Excess Emissions'!$B$24:$B$500,$B99,'Excess Emissions'!$C$24:$C$500,$C99,'Excess Emissions'!$D$24:$D$500,$D99,'Excess Emissions'!$E$24:$E$500,\"Process Problems\"))","v":""},{"$f":"IF($E99=\"\",\"\",SUMIFS('Excess Emissions'!$K$24:$K$500,'Excess Emissions'!$B$24:$B$500,$B99,'Excess Emissions'!$C$24:$C$500,$C99,'Excess Emissions'!$D$24:$D$500,$D99,'Excess Emissions'!$E$24:$E$500,\"Other Known Causes\"))","v":""},{"$f":"IF($E99=\"\",\"\",SUMIFS('Excess Emissions'!$K$24:$K$500,'Excess Emissions'!$B$24:$B$500,$B99,'Excess Emissions'!$C$24:$C$500,$C99,'Excess Emissions'!$D$24:$D$500,$D99,'Excess Emissions'!$E$24:$E$500,\"Other Unknown Causes\"))","v":""}]
[null,{"$f":"IF(Lists!AG78=\"\",\"\",Lists!AG78)","v":""},{"$f":"IF(Lists!AH78=\"\",\"\",Lists!AH78)","v":""},{"$f":"IF(Lists!AI78=\"\",\"\",Lists!AI78)","v":""},{"$f":"IF(C100=\"\",\"\",VLOOKUP(B100&C100,Lists!$BA$2:$BD$78,4,FALSE))","v":""},"","",{"$f":"IF($E100=\"\",\"\",SUMIFS('Excess Emissions'!$K$24:$K$500,'Excess Emissions'!$B$24:$B$500,$B100,'Excess Emissions'!$C$24:$C$500,$C100,'Excess Emissions'!$D$24:$D$500,$D100,'Excess Emissions'!$E$24:$E$500,\"Startup or Shutdown\"))","v":""},{"$f":"IF($E100=\"\",\"\",SUMIFS('Excess Emissions'!$K$24:$K$500,'Excess Emissions'!$B$24:$B$500,$B100,'Excess Emissions'!$C$24:$C$500,$C100,'Excess Emissions'!$D$24:$D$500,$D100,'Excess Emissions'!$E$24:$E$500,\"Control Equipment Problems\"))","v":""},{"$f":"IF($E100=\"\",\"\",SUMIFS('Excess Emissions'!$K$24:$K$500,'Excess Emissions'!$B$24:$B$500,$B100,'Excess Emissions'!$C$24:$C$500,$C100,'Excess Emissions'!$D$24:$D$500,$D100,'Excess Emissions'!$E$24:$E$500,\"Process Problems\"))","v":""},{"$f":"IF($E100=\"\",\"\",SUMIFS('Excess Emissions'!$K$24:$K$500,'Excess Emissions'!$B$24:$B$500,$B100,'Excess Emissions'!$C$24:$C$500,$C100,'Excess Emissions'!$D$24:$D$500,$D100,'Excess Emissions'!$E$24:$E$500,\"Other Known Causes\"))","v":""},{"$f":"IF($E100=\"\",\"\",SUMIFS('Excess Emissions'!$K$24:$K$500,'Excess Emissions'!$B$24:$B$500,$B100,'Excess Emissions'!$C$24:$C$500,$C100,'Excess Emissions'!$D$24:$D$500,$D100,'Excess Emissions'!$E$24:$E$500,\"Other Unknown Causes\"))","v":""}]

{"sheet":"CMS Downtime Detail","index":14,"n_rows":500,"n_cols":12,"rows_kept":500,"cut":false,"hidden":false,"merged":[]}
[null,"DO NOT REMOVE OR EDIT INFORMATION IN THIS SECTION\nFOR INTERNAL USE ONLY"]
[null,"Template Name",{"$f":"Welcome!B2","v":"63.366(b) Initial Compliance Report and (c) Quarterly Report (Spreadsheet Template)"}]
[null,"CitationID",{"$f":"Welcome!B3","v":"63.366(b) and (c)"}]
[null,"Template Version",{"$f":"Welcome!B4","v":"v2.00"}]
[null,"Last Updated Date",{"$f":"Welcome!B5","v":45519}]
[]
[null,"40 CFR Part 63, Subpart O National Emission Standards for Hazardous Air Pollutants: Sterilization Facilities"]
[null,"§63.366(b) Initial Compliance Report and §63.366(c) Quarterly Report Spreadsheet Template"]
[]
[]
[]
[null,"Company Record No.\n(Select from dropdown)","Process Unit Description\n(§63.10(e)(3)(vi)(D))\n(Select from dropdown)","Pollutant/Parameter\n(§63.10(e)(3)(vi)(B))\n(Select from dropdown)","CMS Downtime Reason\n(§63.10(e)(3)(vi)(J))\n(Select from dropdown)","Other CMS Downtime Reason\n(Required if CMS Downtime Reason is \"Other Known Cause\")\n(§63.10(e)(3)(vi)(J))","Date Event Begins\n(§63.10(e)(3)(vi)(J)),   (§63.10(e)(3)(v), (c)(5) and (6))","Time Event Begins\n(§63.10(e)(3)(vi)(J)),   (§63.10(e)(3)(v), (c)(5) and (6))","Date Event Ends\n(§63.10(e)(3)(vi)(J)),   (§63.10(e)(3)(v), (c)(5) and (6))","Time Event Ends\n(§63.10(e)(3)(vi)(J))   (§63.10(e)(3)(v), (c)(5) and (6))","Duration\n(Hours)\n(§63.10(e)(3)(vi)(J))\n(Calculated value)","Description of system repair or adjustment\n(§63.10(e)(3)(v), (c)(12))"]
[null,"RecordId","ProcessUnit","Pollutant","DowntimeReason","OtherDowntimeReason","EventBeginDate","EventBeginTime","EventEndDate","EventEndTime"," DowntimeDuration","ActionTaken"]
[null,"e.g.: 1","e.g.: SCV1","e.g.: Ethylene Oxide (EtO)","e.g.: Quality Assurance/Quality Control Calibrations ","e.g. Planned Outage","e.g. 01/01/2023","e.g. 23:44","e.g. 01/02/2023","e.g. 00:44","e.g. 0","e.g. System Recalibration"]
[null,"e.g.:","e.g.:","e.g.:","e.g.:","e.g.:","e.g.:","e.g.:","e.g.:","e.g.:","e.g.:","e.g.:"]
[null,"e.g.:","e.g.:","e.g.:","e.g.:","e.g.:","e.g.:","e.g.:","e.g.:","e.g.:","e.g.:","e.g.:"]
[null,"e.g.:","e.g.:","e.g.:","e.g.:","e.g.:","e.g.:","e.g.:","e.g.:","e.g.:","e.g.:","e.g.:"]
[null,"e.g.:","e.g.:","e.g.:","e.g.:","e.g.:","e.g.:","e.g.:","e.g.:","e.g.:","e.g.:","e.g.:"]
[null,"e.g.:","e.g.:","e.g.:","e.g.:","e.g.:","e.g.:","e.g.:","e.g.:","e.g.:","e.g.:","e.g.:"]
[null,"e.g.:","e.g.:","e.g.:","e.g.:","e.g.:","e.g.:","e.g.:","e.g.:","e.g.:","e.g.:","e.g.:"]
[null,"e.g.:","e.g.:","e.g.:","e.g.:","e.g.:","e.g.:","e.g.:","e.g.:","e.g.:","e.g.:","e.g.:"]
[null,"e.g.:","e.g.:","e.g.:","e.g.:","e.g.:","e.g.:","e.g.:","e.g.:","e.g.:","e.g.:","e.g.:"]
[null,"e.g.:","e.g.:","e.g.:","e.g.:","e.g.:","e.g.:","e.g.:","e.g.:","e.g.:","e.g.:","e.g.:"]
[null,null,null,null,null,null,null,null,null,null,{"$f":"IF(J24=\"\",\"\",(VALUE(TEXT(I24,\"m/dd/yy \")&TEXT(J24,\"hh:mm:ss\"))-(VALUE(TEXT(G24,\"m/dd/yy \")&TEXT(H24,\"hh:mm:ss\"))))*24)","v":""}]
[null,null,null,null,null,null,null,null,null,null,""]
[null,null,null,null,null,null,null,null,null,null,""]
[null,null,null,null,null,null,null,null,null,null,""]
[null,null,null,null,null,null,null,null,null,null,""]
[null,null,null,null,null,null,null,null,null,null,""]
[null,null,null,null,null,null,null,null,null,null,""]
[null,null,null,null,null,null,null,null,null,null,""]
[null,null,null,null,null,null,null,null,null,null,""]
[null,null,null,null,null,null,null,null,null,null,""]
[null,null,null,null,null,null,null,null,null,null,""]
[null,null,null,null,null,null,null,null,null,null,""]
[null,null,null,null,null,null,null,null,null,null,""]
[null,null,null,null,null,null,null,null,null,null,""]
[null,null,null,null,null,null,null,null,null,null,""]
[null,null,null,null,null,null,null,null,null,null,""]
[null,null,null,null,null,null,null,null,null,null,""]
[null,null,null,null,null,null,null,null,null,null,""]
[null,null,null,null,null,null,null,null,null,null,""]
[null,null,null,null,null,null,null,null,null,null,""]
[null,null,null,null,null,null,null,null,null,null,""]
[null,null,null,null,null,null,null,null,null,null,""]
[null,null,null,null,null,null,null,null,null,null,""]
[null,null,null,null,null,null,null,null,null,null,""]
[null,null,null,null,null,null,null,null,null,null,""]
[null,null,null,null,null,null,null,null,null,null,""]
[null,null,null,null,null,null,null,null,null,null,""]
[null,null,null,null,null,null,null,null,null,null,""]
[null,null,null,null,null,null,null,null,null,null,""]
[null,null,null,null,null,null,null,null,null,null,""]
[null,null,null,null,null,null,null,null,null,null,""]
[null,null,null,null,null,null,null,null,null,null,""]
[null,null,null,null,null,null,null,null,null,null,""]
[null,null,null,null,null,null,null,null,null,null,""]
[null,null,null,null,null,null,null,null,null,null,""]
[null,null,null,null,null,null,null,null,null,null,""]
[null,null,null,null,null,null,null,null,null,null,""]
[null,null,null,null,null,null,null,null,null,null,""]
[null,null,null,null,null,null,null,null,null,null,""]
[null,null,null,null,null,null,null,null,null,null,""]
[null,null,null,null,null,null,null,null,null,null,""]
[null,null,null,null,null,null,null,null,null,null,""]
[null,null,null,null,null,null,null,null,null,null,""]
[null,null,null,null,null,null,null,null,null,null,""]
[null,null,null,null,null,null,null,null,null,null,""]
[null,null,null,null,null,null,null,null,null,null,""]
[null,null,null,null,null,null,null,null,null,null,""]
[null,null,null,null,null,null,null,null,null,null,""]
[null,null,null,null,null,null,null,null,null,null,""]
[null,null,null,null,null,null,null,null,null,null,""]
[null,null,null,null,null,null,null,null,null,null,""]
[null,null,null,null,null,null,null,null,null,null,""]
[null,null,null,null,null,null,null,null,null,null,""]
[null,null,null,null,null,null,null,null,null,null,""]
[null,null,null,null,null,null,null,null,null,null,""]
[null,null,null,null,null,null,null,null,null,null,""]
[null,null,null,null,null,null,null,null,null,null,""]
[null,null,null,null,null,null,null,null,null,null,""]
[null,null,null,null,null,null,null,null,null,null,""]
[null,null,null,null,null,null,null,null,null,null,""]
[null,null,null,null,null,null,null,null,null,null,""]
[null,null,null,null,null,null,null,null,null,null,""]
[null,null,null,null,null,null,null,null,null,null,""]
[null,null,null,null,null,null,null,null,null,null,""]
[null,null,null,null,null,null,null,null,null,null,""]
[null,null,null,null,null,null,null,null,null,null,{"$f":"IF(J89=\"\",\"\",(VALUE(TEXT(I89,\"m/dd/yy \")&TEXT(J89,\"hh:mm:ss\"))-(VALUE(TEXT(G89,\"m/dd/yy \")&TEXT(H89,\"hh:mm:ss\"))))*24)","v":""}]
[null,null,null,null,null,null,null,null,null,null,""]
[null,null,null,null,null,null,null,null,null,null,""]
[null,null,null,null,null,null,null,null,null,null,""]
[null,null,null,null,null,null,null,null,null,null,""]
[null,null,null,null,null,null,null,null,null,null,""]
[null,null,null,null,null,null,null,null,null,null,""]
[null,null,null,null,null,null,null,null,null,null,""]
[null,null,null,null,null,null,null,null,null,null,""]
[null,null,null,null,null,null,null,null,null,null,""]
[null,null,null,null,null,null,null,null,null,null,""]
[null,null,null,null,null,null,null,null,null,null,""]
[null,null,null,null,null,null,null,null,null,null,""]
[null,null,null,null,null,null,null,null,null,null,""]
[null,null,null,null,null,null,null,null,null,null,""]
[null,null,null,null,null,null,null,null,null,null,""]
[null,null,null,null,null,null,null,null,null,null,""]
[null,null,null,null,null,null,null,null,null,null,""]
[null,null,null,null,null,null,null,null,null,null,""]
[null,null,null,null,null,null,null,null,null,null,""]
[null,null,null,null,null,null,null,null,null,null,""]
[null,null,null,null,null,null,null,null,null,null,""]
[null,null,null,null,null,null,null,null,null,null,""]
[null,null,null,null,null,null,null,null,null,null,""]
[null,null,null,null,null,null,null,null,null,null,""]
[null,null,null,null,null,null,null,null,null,null,""]
[null,null,null,null,null,null,null,null,null,null,""]
[null,null,null,null,null,null,null,null,null,null,""]
[null,null,null,null,null,null,null,null,null,null,""]
[null,null,null,null,null,null,null,null,null,null,""]
[null,null,null,null,null,null,null,null,null,null,""]
[null,null,null,null,null,null,null,null,null,null,""]
[null,null,null,null,null,null,null,null,null,null,""]
[null,null,null,null,null,null,null,null,null,null,""]
[null,null,null,null,null,null,null,null,null,null,""]
[null,null,null,null,null,null,null,null,null,null,""]
[null,null,null,null,null,null,null,null,null,null,""]
[null,null,null,null,null,null,null,null,null,null,""]
[null,null,null,null,null,null,null,null,null,null,""]
[null,null,null,null,null,null,null,null,null,null,""]
[null,null,null,null,null,null,null,null,null,null,""]
[null,null,null,null,null,null,null,null,null,null,""]
[null,null,null,null,null,null,null,null,null,null,""]
[null,null,null,null,null,null,null,null,null,null,""]
[null,null,null,null,null,null,null,null,null,null,""]
[null,null,null,null,null,null,null,null,null,null,""]
[null,null,null,null,null,null,null,null,null,null,""]
[null,null,null,null,null,null,null,null,null,null,""]
[null,null,null,null,null,null,null,null,null,null,""]
[null,null,null,null,null,null,null,null,null,null,""]
[null,null,null,null,null,null,null,null,null,null,""]
[null,null,null,null,null,null,null,null,null,null,""]
[null,null,null,null,null,null,null,null,null,null,""]
[null,null,null,null,null,null,null,null,null,null,""]
[null,null,null,null,null,null,null,null,null,null,""]
[null,null,null,null,null,null,null,null,null,null,""]
[null,null,null,null,null,null,null,null,null,null,""]
[null,null,null,null,null,null,null,null,null,null,""]
[null,null,null,null,null,null,null,null,null,null,""]
[null,null,null,null,null,null,null,null,null,null,""]
[null,null,null,null,null,null,null,null,null,null,""]
[null,null,null,null,null,null,null,null,null,null,""]
[null,null,null,null,null,null,null,null,null,null,""]
[null,null,null,null,null,null,null,null,null,null,""]
[null,null,null,null,null,null,null,null,null,null,{"$f":"IF(J153=\"\",\"\",(VALUE(TEXT(I153,\"m/dd/yy \")&TEXT(J153,\"hh:mm:ss\"))-(VALUE(TEXT(G153,\"m/dd/yy \")&TEXT(H153,\"hh:mm:ss\"))))*24)","v":""}]
[null,null,null,null,null,null,null,null,null,null,""]
[null,null,null,null,null,null,null,null,null,null,""]
[null,null,null,null,null,null,null,null,null,null,""]
[null,null,null,null,null,null,null,null,null,null,""]
[null,null,null,null,null,null,null,null,null,null,""]
[null,null,null,null,null,null,null,null,null,null,""]
[null,null,null,null,null,null,null,null,null,null,""]
[null,null,null,null,null,null,null,null,null,null,""]
[null,null,null,null,null,null,null,null,null,null,""]
[null,null,null,null,null,null,null,null,null,null,""]
[null,null,null,null,null,null,null,null,null,null,""]
[null,null,null,null,null,null,null,null,null,null,""]
[null,null,null,null,null,null,null,null,null,null,""]
[null,null,null,null,null,null,null,null,null,null,""]
[null,null,null,null,null,null,null,null,null,null,""]
[null,null,null,null,null,null,null,null,null,null,""]
[null,null,null,null,null,null,null,null,null,null,""]
[null,null,null,null,null,null,null,null,null,null,""]
[null,null,null,null,null,null,null,null,null,null,""]
[null,null,null,null,null,null,null,null,null,null,""]
[null,null,null,null,null,null,null,null,null,null,""]
[null,null,null,null,null,null,null,null,null,null,""]
[null,null,null,null,null,null,null,null,null,null,""]
[null,null,null,null,null,null,null,null,null,null,""]
[null,null,null,null,null,null,null,null,null,null,""]
[null,null,null,null,null,null,null,null,null,null,""]
[null,null,null,null,null,null,null,null,null,null,""]
[null,null,null,null,null,null,null,null,null,null,""]
[null,null,null,null,null,null,null,null,null,null,""]
[null,null,null,null,null,null,null,null,null,null,""]
[null,null,null,null,null,null,null,null,null,null,""]
[null,null,null,null,null,null,null,null,null,null,""]
[null,null,null,null,null,null,null,null,null,null,""]
[null,null,null,null,null,null,null,null,null,null,""]
[null,null,null,null,null,null,null,null,null,null,""]
[null,null,null,null,null,null,null,null,null,null,""]
[null,null,null,null,null,null,null,null,null,null,""]
[null,null,null,null,null,null,null,null,null,null,""]
[null,null,null,null,null,null,null,null,null,null,""]
[null,null,null,null,null,null,null,null,null,null,""]
[null,null,null,null,null,null,null,null,null,null,""]
[null,null,null,null,null,null,null,null,null,null,""]
[null,null,null,null,null,null,null,null,null,null,""]
[null,null,null,null,null,null,null,null,null,null,""]
[null,null,null,null,null,null,null,null,null,null,""]
[null,null,null,null,null,null,null,null,null,null,""]
[null,null,null,null,null,null,null,null,null,null,""]
[null,null,null,null,null,null,null,null,null,null,""]
[null,null,null,null,null,null,null,null,null,null,""]
[null,null,null,null,null,null,null,null,null,null,""]
[null,null,null,null,null,null,null,null,null,null,""]
[null,null,null,null,null,null,null,null,null,null,""]
[null,null,null,null,null,null,null,null,null,null,""]
[null,null,null,null,null,null,null,null,null,null,""]
[null,null,null,null,null,null,null,null,null,null,""]
[null,null,null,null,null,null,null,null,null,null,""]
[null,null,null,null,null,null,null,null,null,null,""]
[null,null,null,null,null,null,null,null,null,null,""]
[null,null,null,null,null,null,null,null,null,null,""]
[null,null,null,null,null,null,null,null,null,null,""]
[null,null,null,null,null,null,null,null,null,null,""]
[null,null,null,null,null,null,null,null,null,null,""]
[null,null,null,null,null,null,null,null,null,null,""]
[null,null,null,null,null,null,null,null,null,null,{"$f":"IF(J217=\"\",\"\",(VALUE(TEXT(I217,\"m/dd/yy \")&TEXT(J217,\"hh:mm:ss\"))-(VALUE(TEXT(G217,\"m/dd/yy \")&TEXT(H217,\"hh:mm:ss\"))))*24)","v":""}]
[null,null,null,null,null,null,null,null,null,null,""]
[null,null,null,null,null,null,null,null,null,null,""]
[null,null,null,null,null,null,null,null,null,null,""]
[null,null,null,null,null,null,null,null,null,null,""]
[null,null,null,null,null,null,null,null,null,null,""]
[null,null,null,null,null,null,null,null,null,null,""]
[null,null,null,null,null,null,null,null,null,null,""]
[null,null,null,null,null,null,null,null,null,null,""]
[null,null,null,null,null,null,null,null,null,null,""]
[null,null,null,null,null,null,null,null,null,null,""]
[null,null,null,null,null,null,null,null,null,null,""]
[null,null,null,null,null,null,null,null,null,null,""]
[null,null,null,null,null,null,null,null,null,null,""]
[null,null,null,null,null,null,null,null,null,null,""]
[null,null,null,null,null,null,null,null,null,null,""]
[null,null,null,null,null,null,null,null,null,null,""]
[null,null,null,null,null,null,null,null,null,null,""]
[null,null,null,null,null,null,null,null,null,null,""]
[null,null,null,null,null,null,null,null,null,null,""]
[null,null,null,null,null,null,null,null,null,null,""]
[null,null,null,null,null,null,null,null,null,null,""]
[null,null,null,null,null,null,null,null,null,null,""]
[null,null,null,null,null,null,null,null,null,null,""]
[null,null,null,null,null,null,null,null,null,null,""]
[null,null,null,null,null,null,null,null,null,null,""]
[null,null,null,null,null,null,null,null,null,null,""]
[null,null,null,null,null,null,null,null,null,null,""]
[null,null,null,null,null,null,null,null,null,null,""]
[null,null,null,null,null,null,null,null,null,null,""]
[null,null,null,null,null,null,null,null,null,null,""]
[null,null,null,null,null,null,null,null,null,null,""]
[null,null,null,null,null,null,null,null,null,null,""]
[null,null,null,null,null,null,null,null,null,null,""]
[null,null,null,null,null,null,null,null,null,null,""]
[null,null,null,null,null,null,null,null,null,null,""]
[null,null,null,null,null,null,null,null,null,null,""]
[null,null,null,null,null,null,null,null,null,null,""]
[null,null,null,null,null,null,null,null,null,null,""]
[null,null,null,null,null,null,null,null,null,null,""]
[null,null,null,null,null,null,null,null,null,null,""]
[null,null,null,null,null,null,null,null,null,null,""]
[null,null,null,null,null,null,null,null,null,null,""]
[null,null,null,null,null,null,null,null,null,null,""]
[null,null,null,null,null,null,null,null,null,null,""]
[null,null,null,null,null,null,null,null,null,null,""]
[null,null,null,null,null,null,null,null,null,null,""]
[null,null,null,null,null,null,null,null,null,null,""]
[null,null,null,null,null,null,null,null,null,null,""]
[null,null,null,null,null,null,null,null,null,null,""]
[null,null,null,null,null,null,null,null,null,null,""]
[null,null,null,null,null,null,null,null,null,null,""]
[null,null,null,null,null,null,null,null,null,null,""]
[null,null,null,null,null,null,null,null,null,null,""]
[null,null,null,null,null,null,null,null,null,null,""]
[null,null,null,null,null,null,null,null,null,null,""]
[null,null,null,null,null,null,null,null,null,null,""]
[null,null,null,null,null,null,null,null,null,null,""]
[null,null,null,null,null,null,null,null,null,null,""]
[null,null,null,null,null,null,null,null,null,null,""]
[null,null,null,null,null,null,null,null,null,null,""]
[null,null,null,null,null,null,null,null,null,null,""]
[null,null,null,null,null,null,null,null,null,null,""]
[null,null,null,null,null,null,null,null,null,null,""]
[null,null,null,null,null,null,null,null,null,null,{"$f":"IF(J281=\"\",\"\",(VALUE(TEXT(I281,\"m/dd/yy \")&TEXT(J281,\"hh:mm:ss\"))-(VALUE(TEXT(G281,\"m/dd/yy \")&TEXT(H281,\"hh:mm:ss\"))))*24)","v":""}]
[null,null,null,null,null,null,null,null,null,null,""]
[null,null,null,null,null,null,null,null,null,null,""]
[null,null,null,null,null,null,null,null,null,null,""]
[null,null,null,null,null,null,null,null,null,null,""]
[null,null,null,null,null,null,null,null,null,null,""]
[null,null,null,null,null,null,null,null,null,null,""]
[null,null,null,null,null,null,null,null,null,null,""]
[null,null,null,null,null,null,null,null,null,null,""]
[null,null,null,null,null,null,null,null,null,null,""]
[null,null,null,null,null,null,null,null,null,null,""]
[null,null,null,null,null,null,null,null,null,null,""]
[null,null,null,null,null,null,null,null,null,null,""]
[null,null,null,null,null,null,null,null,null,null,""]
[null,null,null,null,null,null,null,null,null,null,""]
[null,null,null,null,null,null,null,null,null,null,""]
[null,null,null,null,null,null,null,null,null,null,""]
[null,null,null,null,null,null,null,null,null,null,""]
[null,null,null,null,null,null,null,null,null,null,""]
[null,null,null,null,null,null,null,null,null,null,""]
[null,null,null,null,null,null,null,null,null,null,""]
[null,null,null,null,null,null,null,null,null,null,""]
[null,null,null,null,null,null,null,null,null,null,""]
[null,null,null,null,null,null,null,null,null,null,""]
[null,null,null,null,null,null,null,null,null,null,""]
[null,null,null,null,null,null,null,null,null,null,""]
[null,null,null,null,null,null,null,null,null,null,""]
[null,null,null,null,null,null,null,null,null,null,""]
[null,null,null,null,null,null,null,null,null,null,""]
[null,null,null,null,null,null,null,null,null,null,""]
[null,null,null,null,null,null,null,null,null,null,""]
[null,null,null,null,null,null,null,null,null,null,""]
[null,null,null,null,null,null,null,null,null,null,""]
[null,null,null,null,null,null,null,null,null,null,""]
[null,null,null,null,null,null,null,null,null,null,""]
[null,null,null,null,null,null,null,null,null,null,""]
[null,null,null,null,null,null,null,null,null,null,""]
[null,null,null,null,null,null,null,null,null,null,""]
[null,null,null,null,null,null,null,null,null,null,""]
[null,null,null,null,null,null,null,null,null,null,""]
[null,null,null,null,null,null,null,null,null,null,""]
[null,null,null,null,null,null,null,null,null,null,""]
[null,null,null,null,null,null,null,null,null,null,""]
[null,null,null,null,null,null,null,null,null,null,""]
[null,null,null,null,null,null,null,null,null,null,""]
[null,null,null,null,null,null,null,null,null,null,""]
[null,null,null,null,null,null,null,null,null,null,""]
[null,null,null,null,null,null,null,null,null,null,""]
[null,null,null,null,null,null,null,null,null,null,""]
[null,null,null,null,null,null,null,null,null,null,""]
[null,null,null,null,null,null,null,null,null,null,""]
[null,null,null,null,null,null,null,null,null,null,""]
[null,null,null,null,null,null,null,null,null,null,""]
[null,null,null,null,null,null,null,null,null,null,""]
[null,null,null,null,null,null,null,null,null,null,""]
[null,null,null,null,null,null,null,null,null,null,""]
[null,null,null,null,null,null,null,null,null,null,""]
[null,null,null,null,null,null,null,null,null,null,""]
[null,null,null,null,null,null,null,null,null,null,""]
[null,null,null,null,null,null,null,null,null,null,""]
[null,null,null,null,null,null,null,null,null,null,""]
[null,null,null,null,null,null,null,null,null,null,""]
[null,null,null,null,null,null,null,null,null,null,""]
[null,null,null,null,null,null,null,null,null,null,""]
[null,null,null,null,null,null,null,null,null,null,{"$f":"IF(J345=\"\",\"\",(VALUE(TEXT(I345,\"m/dd/yy \")&TEXT(J345,\"hh:mm:ss\"))-(VALUE(TEXT(G345,\"m/dd/yy \")&TEXT(H345,\"hh:mm:ss\"))))*24)","v":""}]
[null,null,null,null,null,null,null,null,null,null,""]
[null,null,null,null,null,null,null,null,null,null,""]
[null,null,null,null,null,null,null,null,null,null,""]
[null,null,null,null,null,null,null,null,null,null,""]
[null,null,null,null,null,null,null,null,null,null,""]
[null,null,null,null,null,null,null,null,null,null,""]
[null,null,null,null,null,null,null,null,null,null,""]
[null,null,null,null,null,null,null,null,null,null,""]
[null,null,null,null,null,null,null,null,null,null,""]
[null,null,null,null,null,null,null,null,null,null,""]
[null,null,null,null,null,null,null,null,null,null,""]
[null,null,null,null,null,null,null,null,null,null,""]
[null,null,null,null,null,null,null,null,null,null,""]
[null,null,null,null,null,null,null,null,null,null,""]
[null,null,null,null,null,null,null,null,null,null,""]
[null,null,null,null,null,null,null,null,null,null,""]
[null,null,null,null,null,null,null,null,null,null,""]
[null,null,null,null,null,null,null,null,null,null,""]
[null,null,null,null,null,null,null,null,null,null,""]
[null,null,null,null,null,null,null,null,null,null,""]
[null,null,null,null,null,null,null,null,null,null,""]
[null,null,null,null,null,null,null,null,null,null,""]
[null,null,null,null,null,null,null,null,null,null,""]
[null,null,null,null,null,null,null,null,null,null,""]
[null,null,null,null,null,null,null,null,null,null,""]
[null,null,null,null,null,null,null,null,null,null,""]
[null,null,null,null,null,null,null,null,null,null,""]
[null,null,null,null,null,null,null,null,null,null,""]
[null,null,null,null,null,null,null,null,null,null,""]
[null,null,null,null,null,null,null,null,null,null,""]
[null,null,null,null,null,null,null,null,null,null,""]
[null,null,null,null,null,null,null,null,null,null,""]
[null,null,null,null,null,null,null,null,null,null,""]
[null,null,null,null,null,null,null,null,null,null,""]
[null,null,null,null,null,null,null,null,null,null,""]
[null,null,null,null,null,null,null,null,null,null,""]
[null,null,null,null,null,null,null,null,null,null,""]
[null,null,null,null,null,null,null,null,null,null,""]
[null,null,null,null,null,null,null,null,null,null,""]
[null,null,null,null,null,null,null,null,null,null,""]
[null,null,null,null,null,null,null,null,null,null,""]
[null,null,null,null,null,null,null,null,null,null,""]
[null,null,null,null,null,null,null,null,null,null,""]
[null,null,null,null,null,null,null,null,null,null,""]
[null,null,null,null,null,null,null,null,null,null,""]
[null,null,null,null,null,null,null,null,null,null,""]
[null,null,null,null,null,null,null,null,null,null,""]
[null,null,null,null,null,null,null,null,null,null,""]
[null,null,null,null,null,null,null,null,null,null,""]
[null,null,null,null,null,null,null,null,null,null,""]
[null,null,null,null,null,null,null,null,null,null,""]
[null,null,null,null,null,null,null,null,null,null,""]
[null,null,null,null,null,null,null,null,null,null,""]
[null,null,null,null,null,null,null,null,null,null,""]
[null,null,null,null,null,null,null,null,null,null,""]
[null,null,null,null,null,null,null,null,null,null,""]
[null,null,null,null,null,null,null,null,null,null,""]
[null,null,null,null,null,null,null,null,null,null,""]
[null,null,null,null,null,null,null,null,null,null,""]
[null,null,null,null,null,null,null,null,null,null,""]
[null,null,null,null,null,null,null,null,null,null,""]
[null,null,null,null,null,null,null,null,null,null,""]
[null,null,null,null,null,null,null,null,null,null,""]
[null,null,null,null,null,null,null,null,null,null,{"$f":"IF(J409=\"\",\"\",(VALUE(TEXT(I409,\"m/dd/yy \")&TEXT(J409,\"hh:mm:ss\"))-(VALUE(TEXT(G409,\"m/dd/yy \")&TEXT(H409,\"hh:mm:ss\"))))*24)","v":""}]
[null,null,null,null,null,null,null,null,null,null,""]
[null,null,null,null,null,null,null,null,null,null,""]
[null,null,null,null,null,null,null,null,null,null,""]
[null,null,null,null,null,null,null,null,null,null,""]
[null,null,null,null,null,null,null,null,null,null,""]
[null,null,null,null,null,null,null,null,null,null,""]
[null,null,null,null,null,null,null,null,null,null,""]
[null,null,null,null,null,null,null,null,null,null,""]
[null,null,null,null,null,null,null,null,null,null,""]
[null,null,null,null,null,null,null,null,null,null,""]
[null,null,null,null,null,null,null,null,null,null,""]
[null,null,null,null,null,null,null,null,null,null,""]
[null,null,null,null,null,null,null,null,null,null,""]
[null,null,null,null,null,null,null,null,null,null,""]
[null,null,null,null,null,null,null,null,null,null,""]
[null,null,null,null,null,null,null,null,null,null,""]
[null,null,null,null,null,null,null,null,null,null,""]
[null,null,null,null,null,null,null,null,null,null,""]
[null,null,null,null,null,null,null,null,null,null,""]
[null,null,null,null,null,null,null,null,null,null,""]
[null,null,null,null,null,null,null,null,null,null,""]
[null,null,null,null,null,null,null,null,null,null,""]
[null,null,null,null,null,null,null,null,null,null,""]
[null,null,null,null,null,null,null,null,null,null,""]
[null,null,null,null,null,null,null,null,null,null,""]
[null,null,null,null,null,null,null,null,null,null,""]
[null,null,null,null,null,null,null,null,null,null,""]
[null,null,null,null,null,null,null,null,null,null,""]
[null,null,null,null,null,null,null,null,null,null,""]
[null,null,null,null,null,null,null,null,null,null,""]
[null,null,null,null,null,null,null,null,null,null,""]
[null,null,null,null,null,null,null,null,null,null,""]
[null,null,null,null,null,null,null,null,null,null,""]
[null,null,null,null,null,null,null,null,null,null,""]
[null,null,null,null,null,null,null,null,null,null,""]
[null,null,null,null,null,null,null,null,null,null,""]
[null,null,null,null,null,null,null,null,null,null,""]
[null,null,null,null,null,null,null,null,null,null,""]
[null,null,null,null,null,null,null,null,null,null,""]
[null,null,null,null,null,null,null,null,null,null,""]
[null,null,null,null,null,null,null,null,null,null,""]
[null,null,null,null,null,null,null,null,null,null,""]
[null,null,null,null,null,null,null,null,null,null,""]
[null,null,null,null,null,null,null,null,null,null,""]
[null,null,null,null,null,null,null,null,null,null,""]
[null,null,null,null,null,null,null,null,null,null,""]
[null,null,null,null,null,null,null,null,null,null,""]
[null,null,null,null,null,null,null,null,null,null,""]
[null,null,null,null,null,null,null,null,null,null,""]
[null,null,null,null,null,null,null,null,null,null,""]
[null,null,null,null,null,null,null,null,null,null,""]
[null,null,null,null,null,null,null,null,null,null,""]
[null,null,null,null,null,null,null,null,null,null,""]
[null,null,null,null,null,null,null,null,null,null,""]
[null,null,null,null,null,null,null,null,null,null,""]
[null,null,null,null,null,null,null,null,null,null,""]
[null,null,null,null,null,null,null,null,null,null,""]
[null,null,null,null,null,null,null,null,null,null,""]
[null,null,null,null,null,null,null,null,null,null,""]
[null,null,null,null,null,null,null,null,null,null,""]
[null,null,null,null,null,null,null,null,null,null,""]
[null,null,null,null,null,null,null,null,null,null,""]
[null,null,null,null,null,null,null,null,null,null,""]
[null,null,null,null,null,null,null,null,null,null,{"$f":"IF(J473=\"\",\"\",(VALUE(TEXT(I473,\"m/dd/yy \")&TEXT(J473,\"hh:mm:ss\"))-(VALUE(TEXT(G473,\"m/dd/yy \")&TEXT(H473,\"hh:mm:ss\"))))*24)","v":""}]
[null,null,null,null,null,null,null,null,null,null,""]
[null,null,null,null,null,null,null,null,null,null,""]
[null,null,null,null,null,null,null,null,null,null,""]
[null,null,null,null,null,null,null,null,null,null,""]
[null,null,null,null,null,null,null,null,null,null,""]
[null,null,null,null,null,null,null,null,null,null,""]
[null,null,null,null,null,null,null,null,null,null,""]
[null,null,null,null,null,null,null,null,null,null,""]
[null,null,null,null,null,null,null,null,null,null,""]
[null,null,null,null,null,null,null,null,null,null,""]
[null,null,null,null,null,null,null,null,null,null,""]
[null,null,null,null,null,null,null,null,null,null,""]
[null,null,null,null,null,null,null,null,null,null,""]
[null,null,null,null,null,null,null,null,null,null,""]
[null,null,null,null,null,null,null,null,null,null,""]
[null,null,null,null,null,null,null,null,null,null,""]
[null,null,null,null,null,null,null,null,null,null,""]
[null,null,null,null,null,null,null,null,null,null,""]
[null,null,null,null,null,null,null,null,null,null,""]
[null,null,null,null,null,null,null,null,null,null,""]
[null,null,null,null,null,null,null,null,null,null,""]
[null,null,null,null,null,null,null,null,null,null,""]
[null,null,null,null,null,null,null,null,null,null,""]
[null,null,null,null,null,null,null,null,null,null,""]
[null,null,null,null,null,null,null,null,null,null,""]
[null,null,null,null,null,null,null,null,null,null,""]
[null,null,null,null,null,null,null,null,null,null,""]

{"sheet":"CMS Downtime Summary","index":15,"n_rows":500,"n_cols":12,"rows_kept":500,"cut":false,"hidden":false,"merged":[]}
[null,"DO NOT REMOVE OR EDIT INFORMATION IN THIS SECTION\nFOR INTERNAL USE ONLY"]
[null,"Template Name",{"$f":"Welcome!B2","v":"63.366(b) Initial Compliance Report and (c) Quarterly Report (Spreadsheet Template)"}]
[null,"CitationID",{"$f":"Welcome!B3","v":"63.366(b) and (c)"}]
[null,"Template Version",{"$f":"Welcome!B4","v":"v2.00"}]
[null,"Last Updated Date",{"$f":"Welcome!B5","v":45519}]
[]
[null,"40 CFR Part 63, Subpart O National Emission Standards for Hazardous Air Pollutants: Sterilization Facilities"]
[null,"§63.366(b) Initial Compliance Report and §63.366(c) Quarterly Report Spreadsheet Template"]
[]
[]
[]
[null,"Company Record No.\n(Autocompleted from CMS Downtime Detail)","Process Unit Description\n(§63.10(e)(3)(vi)(D))\n(Autocompleted from CMS Downtime Detail)","Pollutant/Parameter\n(§63.10(e)(3)(vi)(B))\n(Autocompleted from CMS Downtime Detail)","Total Source\nOperating Time\n(hours)\n(§63.10(e)(3)(vi)(H) and §63.10(c)(13)))\n(Autocompleted)","Total Duration of\n CPMS, CEMS, or COMS\n Downtime\n(hours) \n(§63.10(e)(3)(vi)(J))\n(Direct import from CMS Downtime Detail)","Total Duration of\n CPMS Downtime as\n a per cent of Total\n Source Operating Time\n(§63.10(e)(3)(vi)(J))\n(Calculated result)","Total Duration of\n CPMS Downtime Due\n to Monitoring Equipment\n Malfunctions\n(hours)   \n(§63.10(e)(3)(vi)(J))\n(Direct import from CMS Downtime Detail)","Total Duration of\n CPMS Downtime\n Due to Nonmonitoring Equipment Malfunctions\n(hours)  \n(§63.10(e)(3)(vi)(J))\n(Direct import from CMS Downtime Detail)","Total Duration of\n CPMS Downtime\n Due to Quality Assurance/Quality Control Calibrations\n(hours)  \n(§63.10(e)(3)(vi)(J))\n(Direct import from CMS Downtime Detail)","Total Duration of \nCPMS Downtime \nDue to Other Known \nCauses\n(hours)   \n(§63.10(e)(3)(vi)(J))\n(Direct import from CMS Downtime Detail)","Total Duration of\n CPMS Downtime \nDue to Other Unknown\n Causes\n(hours)   \n(§63.10(e)(3)(vi)(J))\n(Direct import from CMS Downtime Detail)"]
[null,"RecordId","ProcessUnit","Pollutant","OperatingTime","TotalDowntimeHrs","TotalDowntimePercent","MonitoringEqHrs","NonmonitoringEqHrs","QualityControlHrs","OtherCauseHrs","UnknownCauseHrs"]
[null,"e.g.: 1","e.g.: SCV1","e.g.: PM CPMS","e.g.: 6240","e.g.: 0","e.g.: N/A","e.g.: 0","e.g.: 0","e.g.: 0","e.g.: 0","e.g.: 0"]
[null,"e.g.:","e.g.:","e.g.:","e.g.:","e.g.:","e.g.:","e.g.:","e.g.:","e.g.:","e.g.:","e.g.:"]
[null,"e.g.:","e.g.:","e.g.:","e.g.:","e.g.:","e.g.:","e.g.:","e.g.:","e.g.:","e.g.:","e.g.:"]
[null,"e.g.:","e.g.:","e.g.:","e.g.:","e.g.:","e.g.:","e.g.:","e.g.:","e.g.:","e.g.:","e.g.:"]
[null,"e.g.:","e.g.:","e.g.:","e.g.:","e.g.:","e.g.:","e.g.:","e.g.:","e.g.:","e.g.:","e.g.:"]
[null,"e.g.:","e.g.:","e.g.:","e.g.:","e.g.:","e.g.:","e.g.:","e.g.:","e.g.:","e.g.:","e.g.:"]
[null,"e.g.:","e.g.:","e.g.:","e.g.:","e.g.:","e.g.:","e.g.:","e.g.:","e.g.:","e.g.:","e.g.:"]
[null,"e.g.:","e.g.:","e.g.:","e.g.:","e.g.:","e.g.:","e.g.:","e.g.:","e.g.:","e.g.:","e.g.:"]
[null,"e.g.:","e.g.:","e.g.:","e.g.:","e.g.:","e.g.:","e.g.:","e.g.:","e.g.:","e.g.:","e.g.:"]
[null,"e.g.:","e.g.:","e.g.:","e.g.:","e.g.:","e.g.:","e.g.:","e.g.:","e.g.:","e.g.:","e.g.:"]
[null,{"$f":"IF(Lists!AQ2=\"\",\"\",Lists!AQ2)","v":""},{"$f":"IF(Lists!AR2=\"\",\"\",Lists!AR2)","v":""},{"$f":"IF(Lists!AS2=\"\",\"\",Lists!AS2)","v":""},{"$f":"IF(D24=\"\",\"\",VLOOKUP(B24&C24,Lists!$BA$2:$BD$78,4,FALSE))","v":""},{"$f":"IF(E24=\"\",\"\",SUM(H24:L24))","v":""},{"$f":"IF(F24=\"\",\"\",F24/E24)","v":""},{"$f":"IF($E24=\"\",\"\",SUMIFS('CMS Downtime Detail'!$K$24:$K$500,'CMS Downtime Detail'!$B$24:$B$500,$B24,'CMS Downtime Detail'!$C$24:$C$500,$C24,'CMS Downtime Detail'!$D$24:$D$500,$D24,'CMS Downtime Detail'!$E$24:$E$500,\"Monitoring Equipment Malfunctions\"))","v":""},{"$f":"IF($E24=\"\",\"\",SUMIFS('CMS Downtime Detail'!$K$24:$K$500,'CMS Downtime Detail'!$B$24:$B$500,$B24,'CMS Downtime Detail'!$C$24:$C$500,$C24,'CMS Downtime Detail'!$D$24:$D$500,$D24,'CMS Downtime Detail'!$E$24:$E$500,\"Nonmonitoring Equipment Malfunctions\"))","v":""},{"$f":"IF($E24=\"\",\"\",SUMIFS('CMS Downtime Detail'!$K$24:$K$500,'CMS Downtime Detail'!$B$24:$B$500,$B24,'CMS Downtime Detail'!$C$24:$C$500,$C24,'CMS Downtime Detail'!$D$24:$D$500,$D24,'CMS Downtime Detail'!$E$24:$E$500,\"Quality Assurance/Quality Control Calibrations\"))","v":""},{"$f":"IF($E24=\"\",\"\",SUMIFS('CMS Downtime Detail'!$K$24:$K$500,'CMS Downtime Detail'!$B$24:$B$500,$B24,'CMS Downtime Detail'!$C$24:$C$500,$C24,'CMS Downtime Detail'!$D$24:$D$500,$D24,'CMS Downtime Detail'!$E$24:$E$500,\"Other Known Causes\"))","v":""},{"$f":"IF($E24=\"\",\"\",SUMIFS('CMS Downtime Detail'!$K$24:$K$500,'CMS Downtime Detail'!$B$24:$B$500,$B24,'CMS Downtime Detail'!$C$24:$C$500,$C24,'CMS Downtime Detail'!$D$24:$D$500,$D24,'CMS Downtime Detail'!$E$24:$E$500,\"Other Unknown Causes\"))","v":""}]
[null,{"$f":"IF(Lists!AQ3=\"\",\"\",Lists!AQ3)","v":""},{"$f":"IF(Lists!AR3=\"\",\"\",Lists!AR3)","v":""},{"$f":"IF(Lists!AS3=\"\",\"\",Lists!AS3)","v":""},{"$f":"IF(D25=\"\",\"\",VLOOKUP(B25&C25,Lists!$BA$2:$BD$78,4,FALSE))","v":""},{"$f":"IF(E25=\"\",\"\",SUM(H25:L25))","v":""},{"$f":"IF(F25=\"\",\"\",F25/E25)","v":""},{"$f":"IF($E25=\"\",\"\",SUMIFS('CMS Downtime Detail'!$K$24:$K$500,'CMS Downtime Detail'!$B$24:$B$500,$B25,'CMS Downtime Detail'!$C$24:$C$500,$C25,'CMS Downtime Detail'!$D$24:$D$500,$D25,'CMS Downtime Detail'!$E$24:$E$500,\"Monitoring Equipment Malfunctions\"))","v":""},{"$f":"IF($E25=\"\",\"\",SUMIFS('CMS Downtime Detail'!$K$24:$K$500,'CMS Downtime Detail'!$B$24:$B$500,$B25,'CMS Downtime Detail'!$C$24:$C$500,$C25,'CMS Downtime Detail'!$D$24:$D$500,$D25,'CMS Downtime Detail'!$E$24:$E$500,\"Nonmonitoring Equipment Malfunctions\"))","v":""},{"$f":"IF($E25=\"\",\"\",SUMIFS('CMS Downtime Detail'!$K$24:$K$500,'CMS Downtime Detail'!$B$24:$B$500,$B25,'CMS Downtime Detail'!$C$24:$C$500,$C25,'CMS Downtime Detail'!$D$24:$D$500,$D25,'CMS Downtime Detail'!$E$24:$E$500,\"Quality Assurance/Quality Control Calibrations\"))","v":""},{"$f":"IF($E25=\"\",\"\",SUMIFS('CMS Downtime Detail'!$K$24:$K$500,'CMS Downtime Detail'!$B$24:$B$500,$B25,'CMS Downtime Detail'!$C$24:$C$500,$C25,'CMS Downtime Detail'!$D$24:$D$500,$D25,'CMS Downtime Detail'!$E$24:$E$500,\"Other Known Causes\"))","v":""},{"$f":"IF($E25=\"\",\"\",SUMIFS('CMS Downtime Detail'!$K$24:$K$500,'CMS Downtime Detail'!$B$24:$B$500,$B25,'CMS Downtime Detail'!$C$24:$C$500,$C25,'CMS Downtime Detail'!$D$24:$D$500,$D25,'CMS Downtime Detail'!$E$24:$E$500,\"Other Unknown Causes\"))","v":""}]
[null,{"$f":"IF(Lists!AQ4=\"\",\"\",Lists!AQ4)","v":""},{"$f":"IF(Lists!AR4=\"\",\"\",Lists!AR4)","v":""},{"$f":"IF(Lists!AS4=\"\",\"\",Lists!AS4)","v":""},{"$f":"IF(D26=\"\",\"\",VLOOKUP(B26&C26,Lists!$BA$2:$BD$78,4,FALSE))","v":""},"","",{"$f":"IF($E26=\"\",\"\",SUMIFS('CMS Downtime Detail'!$K$24:$K$500,'CMS Downtime Detail'!$B$24:$B$500,$B26,'CMS Downtime Detail'!$C$24:$C$500,$C26,'CMS Downtime Detail'!$D$24:$D$500,$D26,'CMS Downtime Detail'!$E$24:$E$500,\"Monitoring Equipment Malfunctions\"))","v":""},{"$f":"IF($E26=\"\",\"\",SUMIFS('CMS Downtime Detail'!$K$24:$K$500,'CMS Downtime Detail'!$B$24:$B$500,$B26,'CMS Downtime Detail'!$C$24:$C$500,$C26,'CMS Downtime Detail'!$D$24:$D$500,$D26,'CMS Downtime Detail'!$E$24:$E$500,\"Nonmonitoring Equipment Malfunctions\"))","v":""},{"$f":"IF($E26=\"\",\"\",SUMIFS('CMS Downtime Detail'!$K$24:$K$500,'CMS Downtime Detail'!$B$24:$B$500,$B26,'CMS Downtime Detail'!$C$24:$C$500,$C26,'CMS Downtime Detail'!$D$24:$D$500,$D26,'CMS Downtime Detail'!$E$24:$E$500,\"Quality Assurance/Quality Control Calibrations\"))","v":""},{"$f":"IF($E26=\"\",\"\",SUMIFS('CMS Downtime Detail'!$K$24:$K$500,'CMS Downtime Detail'!$B$24:$B$500,$B26,'CMS Downtime Detail'!$C$24:$C$500,$C26,'CMS Downtime Detail'!$D$24:$D$500,$D26,'CMS Downtime Detail'!$E$24:$E$500,\"Other Known Causes\"))","v":""},{"$f":"IF($E26=\"\",\"\",SUMIFS('CMS Downtime Detail'!$K$24:$K$500,'CMS Downtime Detail'!$B$24:$B$500,$B26,'CMS Downtime Detail'!$C$24:$C$500,$C26,'CMS Downtime Detail'!$D$24:$D$500,$D26,'CMS Downtime Detail'!$E$24:$E$500,\"Other Unknown Causes\"))","v":""}]
[null,{"$f":"IF(Lists!AQ5=\"\",\"\",Lists!AQ5)","v":""},{"$f":"IF(Lists!AR5=\"\",\"\",Lists!AR5)","v":""},{"$f":"IF(Lists!AS5=\"\",\"\",Lists!AS5)","v":""},{"$f":"IF(D27=\"\",\"\",VLOOKUP(B27&C27,Lists!$BA$2:$BD$78,4,FALSE))","v":""},"","",{"$f":"IF($E27=\"\",\"\",SUMIFS('CMS Downtime Detail'!$K$24:$K$500,'CMS Downtime Detail'!$B$24:$B$500,$B27,'CMS Downtime Detail'!$C$24:$C$500,$C27,'CMS Downtime Detail'!$D$24:$D$500,$D27,'CMS Downtime Detail'!$E$24:$E$500,\"Monitoring Equipment Malfunctions\"))","v":""},{"$f":"IF($E27=\"\",\"\",SUMIFS('CMS Downtime Detail'!$K$24:$K$500,'CMS Downtime Detail'!$B$24:$B$500,$B27,'CMS Downtime Detail'!$C$24:$C$500,$C27,'CMS Downtime Detail'!$D$24:$D$500,$D27,'CMS Downtime Detail'!$E$24:$E$500,\"Nonmonitoring Equipment Malfunctions\"))","v":""},{"$f":"IF($E27=\"\",\"\",SUMIFS('CMS Downtime Detail'!$K$24:$K$500,'CMS Downtime Detail'!$B$24:$B$500,$B27,'CMS Downtime Detail'!$C$24:$C$500,$C27,'CMS Downtime Detail'!$D$24:$D$500,$D27,'CMS Downtime Detail'!$E$24:$E$500,\"Quality Assurance/Quality Control Calibrations\"))","v":""},{"$f":"IF($E27=\"\",\"\",SUMIFS('CMS Downtime Detail'!$K$24:$K$500,'CMS Downtime Detail'!$B$24:$B$500,$B27,'CMS Downtime Detail'!$C$24:$C$500,$C27,'CMS Downtime Detail'!$D$24:$D$500,$D27,'CMS Downtime Detail'!$E$24:$E$500,\"Other Known Causes\"))","v":""},{"$f":"IF($E27=\"\",\"\",SUMIFS('CMS Downtime Detail'!$K$24:$K$500,'CMS Downtime Detail'!$B$24:$B$500,$B27,'CMS Downtime Detail'!$C$24:$C$500,$C27,'CMS Downtime Detail'!$D$24:$D$500,$D27,'CMS Downtime Detail'!$E$24:$E$500,\"Other Unknown Causes\"))","v":""}]
[null,{"$f":"IF(Lists!AQ6=\"\",\"\",Lists!AQ6)","v":""},{"$f":"IF(Lists!AR6=\"\",\"\",Lists!AR6)","v":""},{"$f":"IF(Lists!AS6=\"\",\"\",Lists!AS6)","v":""},{"$f":"IF(D28=\"\",\"\",VLOOKUP(B28&C28,Lists!$BA$2:$BD$78,4,FALSE))","v":""},"","",{"$f":"IF($E28=\"\",\"\",SUMIFS('CMS Downtime Detail'!$K$24:$K$500,'CMS Downtime Detail'!$B$24:$B$500,$B28,'CMS Downtime Detail'!$C$24:$C$500,$C28,'CMS Downtime Detail'!$D$24:$D$500,$D28,'CMS Downtime Detail'!$E$24:$E$500,\"Monitoring Equipment Malfunctions\"))","v":""},{"$f":"IF($E28=\"\",\"\",SUMIFS('CMS Downtime Detail'!$K$24:$K$500,'CMS Downtime Detail'!$B$24:$B$500,$B28,'CMS Downtime Detail'!$C$24:$C$500,$C28,'CMS Downtime Detail'!$D$24:$D$500,$D28,'CMS Downtime Detail'!$E$24:$E$500,\"Nonmonitoring Equipment Malfunctions\"))","v":""},{"$f":"IF($E28=\"\",\"\",SUMIFS('CMS Downtime Detail'!$K$24:$K$500,'CMS Downtime Detail'!$B$24:$B$500,$B28,'CMS Downtime Detail'!$C$24:$C$500,$C28,'CMS Downtime Detail'!$D$24:$D$500,$D28,'CMS Downtime Detail'!$E$24:$E$500,\"Quality Assurance/Quality Control Calibrations\"))","v":""},{"$f":"IF($E28=\"\",\"\",SUMIFS('CMS Downtime Detail'!$K$24:$K$500,'CMS Downtime Detail'!$B$24:$B$500,$B28,'CMS Downtime Detail'!$C$24:$C$500,$C28,'CMS Downtime Detail'!$D$24:$D$500,$D28,'CMS Downtime Detail'!$E$24:$E$500,\"Other Known Causes\"))","v":""},{"$f":"IF($E28=\"\",\"\",SUMIFS('CMS Downtime Detail'!$K$24:$K$500,'CMS Downtime Detail'!$B$24:$B$500,$B28,'CMS Downtime Detail'!$C$24:$C$500,$C28,'CMS Downtime Detail'!$D$24:$D$500,$D28,'CMS Downtime Detail'!$E$24:$E$500,\"Other Unknown Causes\"))","v":""}]
[null,{"$f":"IF(Lists!AQ7=\"\",\"\",Lists!AQ7)","v":""},{"$f":"IF(Lists!AR7=\"\",\"\",Lists!AR7)","v":""},{"$f":"IF(Lists!AS7=\"\",\"\",Lists!AS7)","v":""},{"$f":"IF(D29=\"\",\"\",VLOOKUP(B29&C29,Lists!$BA$2:$BD$78,4,FALSE))","v":""},"","",{"$f":"IF($E29=\"\",\"\",SUMIFS('CMS Downtime Detail'!$K$24:$K$500,'CMS Downtime Detail'!$B$24:$B$500,$B29,'CMS Downtime Detail'!$C$24:$C$500,$C29,'CMS Downtime Detail'!$D$24:$D$500,$D29,'CMS Downtime Detail'!$E$24:$E$500,\"Monitoring Equipment Malfunctions\"))","v":""},{"$f":"IF($E29=\"\",\"\",SUMIFS('CMS Downtime Detail'!$K$24:$K$500,'CMS Downtime Detail'!$B$24:$B$500,$B29,'CMS Downtime Detail'!$C$24:$C$500,$C29,'CMS Downtime Detail'!$D$24:$D$500,$D29,'CMS Downtime Detail'!$E$24:$E$500,\"Nonmonitoring Equipment Malfunctions\"))","v":""},{"$f":"IF($E29=\"\",\"\",SUMIFS('CMS Downtime Detail'!$K$24:$K$500,'CMS Downtime Detail'!$B$24:$B$500,$B29,'CMS Downtime Detail'!$C$24:$C$500,$C29,'CMS Downtime Detail'!$D$24:$D$500,$D29,'CMS Downtime Detail'!$E$24:$E$500,\"Quality Assurance/Quality Control Calibrations\"))","v":""},{"$f":"IF($E29=\"\",\"\",SUMIFS('CMS Downtime Detail'!$K$24:$K$500,'CMS Downtime Detail'!$B$24:$B$500,$B29,'CMS Downtime Detail'!$C$24:$C$500,$C29,'CMS Downtime Detail'!$D$24:$D$500,$D29,'CMS Downtime Detail'!$E$24:$E$500,\"Other Known Causes\"))","v":""},{"$f":"IF($E29=\"\",\"\",SUMIFS('CMS Downtime Detail'!$K$24:$K$500,'CMS Downtime Detail'!$B$24:$B$500,$B29,'CMS Downtime Detail'!$C$24:$C$500,$C29,'CMS Downtime Detail'!$D$24:$D$500,$D29,'CMS Downtime Detail'!$E$24:$E$500,\"Other Unknown Causes\"))","v":""}]
[null,{"$f":"IF(Lists!AQ8=\"\",\"\",Lists!AQ8)","v":""},{"$f":"IF(Lists!AR8=\"\",\"\",Lists!AR8)","v":""},{"$f":"IF(Lists!AS8=\"\",\"\",Lists!AS8)","v":""},{"$f":"IF(D30=\"\",\"\",VLOOKUP(B30&C30,Lists!$BA$2:$BD$78,4,FALSE))","v":""},"","",{"$f":"IF($E30=\"\",\"\",SUMIFS('CMS Downtime Detail'!$K$24:$K$500,'CMS Downtime Detail'!$B$24:$B$500,$B30,'CMS Downtime Detail'!$C$24:$C$500,$C30,'CMS Downtime Detail'!$D$24:$D$500,$D30,'CMS Downtime Detail'!$E$24:$E$500,\"Monitoring Equipment Malfunctions\"))","v":""},{"$f":"IF($E30=\"\",\"\",SUMIFS('CMS Downtime Detail'!$K$24:$K$500,'CMS Downtime Detail'!$B$24:$B$500,$B30,'CMS Downtime Detail'!$C$24:$C$500,$C30,'CMS Downtime Detail'!$D$24:$D$500,$D30,'CMS Downtime Detail'!$E$24:$E$500,\"Nonmonitoring Equipment Malfunctions\"))","v":""},{"$f":"IF($E30=\"\",\"\",SUMIFS('CMS Downtime Detail'!$K$24:$K$500,'CMS Downtime Detail'!$B$24:$B$500,$B30,'CMS Downtime Detail'!$C$24:$C$500,$C30,'CMS Downtime Detail'!$D$24:$D$500,$D30,'CMS Downtime Detail'!$E$24:$E$500,\"Quality Assurance/Quality Control Calibrations\"))","v":""},{"$f":"IF($E30=\"\",\"\",SUMIFS('CMS Downtime Detail'!$K$24:$K$500,'CMS Downtime Detail'!$B$24:$B$500,$B30,'CMS Downtime Detail'!$C$24:$C$500,$C30,'CMS Downtime Detail'!$D$24:$D$500,$D30,'CMS Downtime Detail'!$E$24:$E$500,\"Other Known Causes\"))","v":""},{"$f":"IF($E30=\"\",\"\",SUMIFS('CMS Downtime Detail'!$K$24:$K$500,'CMS Downtime Detail'!$B$24:$B$500,$B30,'CMS Downtime Detail'!$C$24:$C$500,$C30,'CMS Downtime Detail'!$D$24:$D$500,$D30,'CMS Downtime Detail'!$E$24:$E$500,\"Other Unknown Causes\"))","v":""}]
[null,{"$f":"IF(Lists!AQ9=\"\",\"\",Lists!AQ9)","v":""},{"$f":"IF(Lists!AR9=\"\",\"\",Lists!AR9)","v":""},{"$f":"IF(Lists!AS9=\"\",\"\",Lists!AS9)","v":""},{"$f":"IF(D31=\"\",\"\",VLOOKUP(B31&C31,Lists!$BA$2:$BD$78,4,FALSE))","v":""},"","",{"$f":"IF($E31=\"\",\"\",SUMIFS('CMS Downtime Detail'!$K$24:$K$500,'CMS Downtime Detail'!$B$24:$B$500,$B31,'CMS Downtime Detail'!$C$24:$C$500,$C31,'CMS Downtime Detail'!$D$24:$D$500,$D31,'CMS Downtime Detail'!$E$24:$E$500,\"Monitoring Equipment Malfunctions\"))","v":""},{"$f":"IF($E31=\"\",\"\",SUMIFS('CMS Downtime Detail'!$K$24:$K$500,'CMS Downtime Detail'!$B$24:$B$500,$B31,'CMS Downtime Detail'!$C$24:$C$500,$C31,'CMS Downtime Detail'!$D$24:$D$500,$D31,'CMS Downtime Detail'!$E$24:$E$500,\"Nonmonitoring Equipment Malfunctions\"))","v":""},{"$f":"IF($E31=\"\",\"\",SUMIFS('CMS Downtime Detail'!$K$24:$K$500,'CMS Downtime Detail'!$B$24:$B$500,$B31,'CMS Downtime Detail'!$C$24:$C$500,$C31,'CMS Downtime Detail'!$D$24:$D$500,$D31,'CMS Downtime Detail'!$E$24:$E$500,\"Quality Assurance/Quality Control Calibrations\"))","v":""},{"$f":"IF($E31=\"\",\"\",SUMIFS('CMS Downtime Detail'!$K$24:$K$500,'CMS Downtime Detail'!$B$24:$B$500,$B31,'CMS Downtime Detail'!$C$24:$C$500,$C31,'CMS Downtime Detail'!$D$24:$D$500,$D31,'CMS Downtime Detail'!$E$24:$E$500,\"Other Known Causes\"))","v":""},{"$f":"IF($E31=\"\",\"\",SUMIFS('CMS Downtime Detail'!$K$24:$K$500,'CMS Downtime Detail'!$B$24:$B$500,$B31,'CMS Downtime Detail'!$C$24:$C$500,$C31,'CMS Downtime Detail'!$D$24:$D$500,$D31,'CMS Downtime Detail'!$E$24:$E$500,\"Other Unknown Causes\"))","v":""}]
[null,{"$f":"IF(Lists!AQ10=\"\",\"\",Lists!AQ10)","v":""},{"$f":"IF(Lists!AR10=\"\",\"\",Lists!AR10)","v":""},{"$f":"IF(Lists!AS10=\"\",\"\",Lists!AS10)","v":""},{"$f":"IF(D32=\"\",\"\",VLOOKUP(B32&C32,Lists!$BA$2:$BD$78,4,FALSE))","v":""},"","",{"$f":"IF($E32=\"\",\"\",SUMIFS('CMS Downtime Detail'!$K$24:$K$500,'CMS Downtime Detail'!$B$24:$B$500,$B32,'CMS Downtime Detail'!$C$24:$C$500,$C32,'CMS Downtime Detail'!$D$24:$D$500,$D32,'CMS Downtime Detail'!$E$24:$E$500,\"Monitoring Equipment Malfunctions\"))","v":""},{"$f":"IF($E32=\"\",\"\",SUMIFS('CMS Downtime Detail'!$K$24:$K$500,'CMS Downtime Detail'!$B$24:$B$500,$B32,'CMS Downtime Detail'!$C$24:$C$500,$C32,'CMS Downtime Detail'!$D$24:$D$500,$D32,'CMS Downtime Detail'!$E$24:$E$500,\"Nonmonitoring Equipment Malfunctions\"))","v":""},{"$f":"IF($E32=\"\",\"\",SUMIFS('CMS Downtime Detail'!$K$24:$K$500,'CMS Downtime Detail'!$B$24:$B$500,$B32,'CMS Downtime Detail'!$C$24:$C$500,$C32,'CMS Downtime Detail'!$D$24:$D$500,$D32,'CMS Downtime Detail'!$E$24:$E$500,\"Quality Assurance/Quality Control Calibrations\"))","v":""},{"$f":"IF($E32=\"\",\"\",SUMIFS('CMS Downtime Detail'!$K$24:$K$500,'CMS Downtime Detail'!$B$24:$B$500,$B32,'CMS Downtime Detail'!$C$24:$C$500,$C32,'CMS Downtime Detail'!$D$24:$D$500,$D32,'CMS Downtime Detail'!$E$24:$E$500,\"Other Known Causes\"))","v":""},{"$f":"IF($E32=\"\",\"\",SUMIFS('CMS Downtime Detail'!$K$24:$K$500,'CMS Downtime Detail'!$B$24:$B$500,$B32,'CMS Downtime Detail'!$C$24:$C$500,$C32,'CMS Downtime Detail'!$D$24:$D$500,$D32,'CMS Downtime Detail'!$E$24:$E$500,\"Other Unknown Causes\"))","v":""}]
[null,{"$f":"IF(Lists!AQ11=\"\",\"\",Lists!AQ11)","v":""},{"$f":"IF(Lists!AR11=\"\",\"\",Lists!AR11)","v":""},{"$f":"IF(Lists!AS11=\"\",\"\",Lists!AS11)","v":""},{"$f":"IF(D33=\"\",\"\",VLOOKUP(B33&C33,Lists!$BA$2:$BD$78,4,FALSE))","v":""},"","",{"$f":"IF($E33=\"\",\"\",SUMIFS('CMS Downtime Detail'!$K$24:$K$500,'CMS Downtime Detail'!$B$24:$B$500,$B33,'CMS Downtime Detail'!$C$24:$C$500,$C33,'CMS Downtime Detail'!$D$24:$D$500,$D33,'CMS Downtime Detail'!$E$24:$E$500,\"Monitoring Equipment Malfunctions\"))","v":""},{"$f":"IF($E33=\"\",\"\",SUMIFS('CMS Downtime Detail'!$K$24:$K$500,'CMS Downtime Detail'!$B$24:$B$500,$B33,'CMS Downtime Detail'!$C$24:$C$500,$C33,'CMS Downtime Detail'!$D$24:$D$500,$D33,'CMS Downtime Detail'!$E$24:$E$500,\"Nonmonitoring Equipment Malfunctions\"))","v":""},{"$f":"IF($E33=\"\",\"\",SUMIFS('CMS Downtime Detail'!$K$24:$K$500,'CMS Downtime Detail'!$B$24:$B$500,$B33,'CMS Downtime Detail'!$C$24:$C$500,$C33,'CMS Downtime Detail'!$D$24:$D$500,$D33,'CMS Downtime Detail'!$E$24:$E$500,\"Quality Assurance/Quality Control Calibrations\"))","v":""},{"$f":"IF($E33=\"\",\"\",SUMIFS('CMS Downtime Detail'!$K$24:$K$500,'CMS Downtime Detail'!$B$24:$B$500,$B33,'CMS Downtime Detail'!$C$24:$C$500,$C33,'CMS Downtime Detail'!$D$24:$D$500,$D33,'CMS Downtime Detail'!$E$24:$E$500,\"Other Known Causes\"))","v":""},{"$f":"IF($E33=\"\",\"\",SUMIFS('CMS Downtime Detail'!$K$24:$K$500,'CMS Downtime Detail'!$B$24:$B$500,$B33,'CMS Downtime Detail'!$C$24:$C$500,$C33,'CMS Downtime Detail'!$D$24:$D$500,$D33,'CMS Downtime Detail'!$E$24:$E$500,\"Other Unknown Causes\"))","v":""}]
[null,{"$f":"IF(Lists!AQ12=\"\",\"\",Lists!AQ12)","v":""},{"$f":"IF(Lists!AR12=\"\",\"\",Lists!AR12)","v":""},{"$f":"IF(Lists!AS12=\"\",\"\",Lists!AS12)","v":""},{"$f":"IF(D34=\"\",\"\",VLOOKUP(B34&C34,Lists!$BA$2:$BD$78,4,FALSE))","v":""},"","",{"$f":"IF($E34=\"\",\"\",SUMIFS('CMS Downtime Detail'!$K$24:$K$500,'CMS Downtime Detail'!$B$24:$B$500,$B34,'CMS Downtime Detail'!$C$24:$C$500,$C34,'CMS Downtime Detail'!$D$24:$D$500,$D34,'CMS Downtime Detail'!$E$24:$E$500,\"Monitoring Equipment Malfunctions\"))","v":""},{"$f":"IF($E34=\"\",\"\",SUMIFS('CMS Downtime Detail'!$K$24:$K$500,'CMS Downtime Detail'!$B$24:$B$500,$B34,'CMS Downtime Detail'!$C$24:$C$500,$C34,'CMS Downtime Detail'!$D$24:$D$500,$D34,'CMS Downtime Detail'!$E$24:$E$500,\"Nonmonitoring Equipment Malfunctions\"))","v":""},{"$f":"IF($E34=\"\",\"\",SUMIFS('CMS Downtime Detail'!$K$24:$K$500,'CMS Downtime Detail'!$B$24:$B$500,$B34,'CMS Downtime Detail'!$C$24:$C$500,$C34,'CMS Downtime Detail'!$D$24:$D$500,$D34,'CMS Downtime Detail'!$E$24:$E$500,\"Quality Assurance/Quality Control Calibrations\"))","v":""},{"$f":"IF($E34=\"\",\"\",SUMIFS('CMS Downtime Detail'!$K$24:$K$500,'CMS Downtime Detail'!$B$24:$B$500,$B34,'CMS Downtime Detail'!$C$24:$C$500,$C34,'CMS Downtime Detail'!$D$24:$D$500,$D34,'CMS Downtime Detail'!$E$24:$E$500,\"Other Known Causes\"))","v":""},{"$f":"IF($E34=\"\",\"\",SUMIFS('CMS Downtime Detail'!$K$24:$K$500,'CMS Downtime Detail'!$B$24:$B$500,$B34,'CMS Downtime Detail'!$C$24:$C$500,$C34,'CMS Downtime Detail'!$D$24:$D$500,$D34,'CMS Downtime Detail'!$E$24:$E$500,\"Other Unknown Causes\"))","v":""}]
[null,{"$f":"IF(Lists!AQ13=\"\",\"\",Lists!AQ13)","v":""},{"$f":"IF(Lists!AR13=\"\",\"\",Lists!AR13)","v":""},{"$f":"IF(Lists!AS13=\"\",\"\",Lists!AS13)","v":""},{"$f":"IF(D35=\"\",\"\",VLOOKUP(B35&C35,Lists!$BA$2:$BD$78,4,FALSE))","v":""},"","",{"$f":"IF($E35=\"\",\"\",SUMIFS('CMS Downtime Detail'!$K$24:$K$500,'CMS Downtime Detail'!$B$24:$B$500,$B35,'CMS Downtime Detail'!$C$24:$C$500,$C35,'CMS Downtime Detail'!$D$24:$D$500,$D35,'CMS Downtime Detail'!$E$24:$E$500,\"Monitoring Equipment Malfunctions\"))","v":""},{"$f":"IF($E35=\"\",\"\",SUMIFS('CMS Downtime Detail'!$K$24:$K$500,'CMS Downtime Detail'!$B$24:$B$500,$B35,'CMS Downtime Detail'!$C$24:$C$500,$C35,'CMS Downtime Detail'!$D$24:$D$500,$D35,'CMS Downtime Detail'!$E$24:$E$500,\"Nonmonitoring Equipment Malfunctions\"))","v":""},{"$f":"IF($E35=\"\",\"\",SUMIFS('CMS Downtime Detail'!$K$24:$K$500,'CMS Downtime Detail'!$B$24:$B$500,$B35,'CMS Downtime Detail'!$C$24:$C$500,$C35,'CMS Downtime Detail'!$D$24:$D$500,$D35,'CMS Downtime Detail'!$E$24:$E$500,\"Quality Assurance/Quality Control Calibrations\"))","v":""},{"$f":"IF($E35=\"\",\"\",SUMIFS('CMS Downtime Detail'!$K$24:$K$500,'CMS Downtime Detail'!$B$24:$B$500,$B35,'CMS Downtime Detail'!$C$24:$C$500,$C35,'CMS Downtime Detail'!$D$24:$D$500,$D35,'CMS Downtime Detail'!$E$24:$E$500,\"Other Known Causes\"))","v":""},{"$f":"IF($E35=\"\",\"\",SUMIFS('CMS Downtime Detail'!$K$24:$K$500,'CMS Downtime Detail'!$B$24:$B$500,$B35,'CMS Downtime Detail'!$C$24:$C$500,$C35,'CMS Downtime Detail'!$D$24:$D$500,$D35,'CMS Downtime Detail'!$E$24:$E$500,\"Other Unknown Causes\"))","v":""}]
[null,{"$f":"IF(Lists!AQ14=\"\",\"\",Lists!AQ14)","v":""},{"$f":"IF(Lists!AR14=\"\",\"\",Lists!AR14)","v":""},{"$f":"IF(Lists!AS14=\"\",\"\",Lists!AS14)","v":""},{"$f":"IF(D36=\"\",\"\",VLOOKUP(B36&C36,Lists!$BA$2:$BD$78,4,FALSE))","v":""},"","",{"$f":"IF($E36=\"\",\"\",SUMIFS('CMS Downtime Detail'!$K$24:$K$500,'CMS Downtime Detail'!$B$24:$B$500,$B36,'CMS Downtime Detail'!$C$24:$C$500,$C36,'CMS Downtime Detail'!$D$24:$D$500,$D36,'CMS Downtime Detail'!$E$24:$E$500,\"Monitoring Equipment Malfunctions\"))","v":""},{"$f":"IF($E36=\"\",\"\",SUMIFS('CMS Downtime Detail'!$K$24:$K$500,'CMS Downtime Detail'!$B$24:$B$500,$B36,'CMS Downtime Detail'!$C$24:$C$500,$C36,'CMS Downtime Detail'!$D$24:$D$500,$D36,'CMS Downtime Detail'!$E$24:$E$500,\"Nonmonitoring Equipment Malfunctions\"))","v":""},{"$f":"IF($E36=\"\",\"\",SUMIFS('CMS Downtime Detail'!$K$24:$K$500,'CMS Downtime Detail'!$B$24:$B$500,$B36,'CMS Downtime Detail'!$C$24:$C$500,$C36,'CMS Downtime Detail'!$D$24:$D$500,$D36,'CMS Downtime Detail'!$E$24:$E$500,\"Quality Assurance/Quality Control Calibrations\"))","v":""},{"$f":"IF($E36=\"\",\"\",SUMIFS('CMS Downtime Detail'!$K$24:$K$500,'CMS Downtime Detail'!$B$24:$B$500,$B36,'CMS Downtime Detail'!$C$24:$C$500,$C36,'CMS Downtime Detail'!$D$24:$D$500,$D36,'CMS Downtime Detail'!$E$24:$E$500,\"Other Known Causes\"))","v":""},{"$f":"IF($E36=\"\",\"\",SUMIFS('CMS Downtime Detail'!$K$24:$K$500,'CMS Downtime Detail'!$B$24:$B$500,$B36,'CMS Downtime Detail'!$C$24:$C$500,$C36,'CMS Downtime Detail'!$D$24:$D$500,$D36,'CMS Downtime Detail'!$E$24:$E$500,\"Other Unknown Causes\"))","v":""}]
[null,{"$f":"IF(Lists!AQ15=\"\",\"\",Lists!AQ15)","v":""},{"$f":"IF(Lists!AR15=\"\",\"\",Lists!AR15)","v":""},{"$f":"IF(Lists!AS15=\"\",\"\",Lists!AS15)","v":""},{"$f":"IF(D37=\"\",\"\",VLOOKUP(B37&C37,Lists!$BA$2:$BD$78,4,FALSE))","v":""},"","",{"$f":"IF($E37=\"\",\"\",SUMIFS('CMS Downtime Detail'!$K$24:$K$500,'CMS Downtime Detail'!$B$24:$B$500,$B37,'CMS Downtime Detail'!$C$24:$C$500,$C37,'CMS Downtime Detail'!$D$24:$D$500,$D37,'CMS Downtime Detail'!$E$24:$E$500,\"Monitoring Equipment Malfunctions\"))","v":""},{"$f":"IF($E37=\"\",\"\",SUMIFS('CMS Downtime Detail'!$K$24:$K$500,'CMS Downtime Detail'!$B$24:$B$500,$B37,'CMS Downtime Detail'!$C$24:$C$500,$C37,'CMS Downtime Detail'!$D$24:$D$500,$D37,'CMS Downtime Detail'!$E$24:$E$500,\"Nonmonitoring Equipment Malfunctions\"))","v":""},{"$f":"IF($E37=\"\",\"\",SUMIFS('CMS Downtime Detail'!$K$24:$K$500,'CMS Downtime Detail'!$B$24:$B$500,$B37,'CMS Downtime Detail'!$C$24:$C$500,$C37,'CMS Downtime Detail'!$D$24:$D$500,$D37,'CMS Downtime Detail'!$E$24:$E$500,\"Quality Assurance/Quality Control Calibrations\"))","v":""},{"$f":"IF($E37=\"\",\"\",SUMIFS('CMS Downtime Detail'!$K$24:$K$500,'CMS Downtime Detail'!$B$24:$B$500,$B37,'CMS Downtime Detail'!$C$24:$C$500,$C37,'CMS Downtime Detail'!$D$24:$D$500,$D37,'CMS Downtime Detail'!$E$24:$E$500,\"Other Known Causes\"))","v":""},{"$f":"IF($E37=\"\",\"\",SUMIFS('CMS Downtime Detail'!$K$24:$K$500,'CMS Downtime Detail'!$B$24:$B$500,$B37,'CMS Downtime Detail'!$C$24:$C$500,$C37,'CMS Downtime Detail'!$D$24:$D$500,$D37,'CMS Downtime Detail'!$E$24:$E$500,\"Other Unknown Causes\"))","v":""}]
[null,{"$f":"IF(Lists!AQ16=\"\",\"\",Lists!AQ16)","v":""},{"$f":"IF(Lists!AR16=\"\",\"\",Lists!AR16)","v":""},{"$f":"IF(Lists!AS16=\"\",\"\",Lists!AS16)","v":""},{"$f":"IF(D38=\"\",\"\",VLOOKUP(B38&C38,Lists!$BA$2:$BD$78,4,FALSE))","v":""},"","",{"$f":"IF($E38=\"\",\"\",SUMIFS('CMS Downtime Detail'!$K$24:$K$500,'CMS Downtime Detail'!$B$24:$B$500,$B38,'CMS Downtime Detail'!$C$24:$C$500,$C38,'CMS Downtime Detail'!$D$24:$D$500,$D38,'CMS Downtime Detail'!$E$24:$E$500,\"Monitoring Equipment Malfunctions\"))","v":""},{"$f":"IF($E38=\"\",\"\",SUMIFS('CMS Downtime Detail'!$K$24:$K$500,'CMS Downtime Detail'!$B$24:$B$500,$B38,'CMS Downtime Detail'!$C$24:$C$500,$C38,'CMS Downtime Detail'!$D$24:$D$500,$D38,'CMS Downtime Detail'!$E$24:$E$500,\"Nonmonitoring Equipment Malfunctions\"))","v":""},{"$f":"IF($E38=\"\",\"\",SUMIFS('CMS Downtime Detail'!$K$24:$K$500,'CMS Downtime Detail'!$B$24:$B$500,$B38,'CMS Downtime Detail'!$C$24:$C$500,$C38,'CMS Downtime Detail'!$D$24:$D$500,$D38,'CMS Downtime Detail'!$E$24:$E$500,\"Quality Assurance/Quality Control Calibrations\"))","v":""},{"$f":"IF($E38=\"\",\"\",SUMIFS('CMS Downtime Detail'!$K$24:$K$500,'CMS Downtime Detail'!$B$24:$B$500,$B38,'CMS Downtime Detail'!$C$24:$C$500,$C38,'CMS Downtime Detail'!$D$24:$D$500,$D38,'CMS Downtime Detail'!$E$24:$E$500,\"Other Known Causes\"))","v":""},{"$f":"IF($E38=\"\",\"\",SUMIFS('CMS Downtime Detail'!$K$24:$K$500,'CMS Downtime Detail'!$B$24:$B$500,$B38,'CMS Downtime Detail'!$C$24:$C$500,$C38,'CMS Downtime Detail'!$D$24:$D$500,$D38,'CMS Downtime Detail'!$E$24:$E$500,\"Other Unknown Causes\"))","v":""}]
[null,{"$f":"IF(Lists!AQ17=\"\",\"\",Lists!AQ17)","v":""},{"$f":"IF(Lists!AR17=\"\",\"\",Lists!AR17)","v":""},{"$f":"IF(Lists!AS17=\"\",\"\",Lists!AS17)","v":""},{"$f":"IF(D39=\"\",\"\",VLOOKUP(B39&C39,Lists!$BA$2:$BD$78,4,FALSE))","v":""},"","",{"$f":"IF($E39=\"\",\"\",SUMIFS('CMS Downtime Detail'!$K$24:$K$500,'CMS Downtime Detail'!$B$24:$B$500,$B39,'CMS Downtime Detail'!$C$24:$C$500,$C39,'CMS Downtime Detail'!$D$24:$D$500,$D39,'CMS Downtime Detail'!$E$24:$E$500,\"Monitoring Equipment Malfunctions\"))","v":""},{"$f":"IF($E39=\"\",\"\",SUMIFS('CMS Downtime Detail'!$K$24:$K$500,'CMS Downtime Detail'!$B$24:$B$500,$B39,'CMS Downtime Detail'!$C$24:$C$500,$C39,'CMS Downtime Detail'!$D$24:$D$500,$D39,'CMS Downtime Detail'!$E$24:$E$500,\"Nonmonitoring Equipment Malfunctions\"))","v":""},{"$f":"IF($E39=\"\",\"\",SUMIFS('CMS Downtime Detail'!$K$24:$K$500,'CMS Downtime Detail'!$B$24:$B$500,$B39,'CMS Downtime Detail'!$C$24:$C$500,$C39,'CMS Downtime Detail'!$D$24:$D$500,$D39,'CMS Downtime Detail'!$E$24:$E$500,\"Quality Assurance/Quality Control Calibrations\"))","v":""},{"$f":"IF($E39=\"\",\"\",SUMIFS('CMS Downtime Detail'!$K$24:$K$500,'CMS Downtime Detail'!$B$24:$B$500,$B39,'CMS Downtime Detail'!$C$24:$C$500,$C39,'CMS Downtime Detail'!$D$24:$D$500,$D39,'CMS Downtime Detail'!$E$24:$E$500,\"Other Known Causes\"))","v":""},{"$f":"IF($E39=\"\",\"\",SUMIFS('CMS Downtime Detail'!$K$24:$K$500,'CMS Downtime Detail'!$B$24:$B$500,$B39,'CMS Downtime Detail'!$C$24:$C$500,$C39,'CMS Downtime Detail'!$D$24:$D$500,$D39,'CMS Downtime Detail'!$E$24:$E$500,\"Other Unknown Causes\"))","v":""}]
[null,{"$f":"IF(Lists!AQ18=\"\",\"\",Lists!AQ18)","v":""},{"$f":"IF(Lists!AR18=\"\",\"\",Lists!AR18)","v":""},{"$f":"IF(Lists!AS18=\"\",\"\",Lists!AS18)","v":""},{"$f":"IF(D40=\"\",\"\",VLOOKUP(B40&C40,Lists!$BA$2:$BD$78,4,FALSE))","v":""},"","",{"$f":"IF($E40=\"\",\"\",SUMIFS('CMS Downtime Detail'!$K$24:$K$500,'CMS Downtime Detail'!$B$24:$B$500,$B40,'CMS Downtime Detail'!$C$24:$C$500,$C40,'CMS Downtime Detail'!$D$24:$D$500,$D40,'CMS Downtime Detail'!$E$24:$E$500,\"Monitoring Equipment Malfunctions\"))","v":""},{"$f":"IF($E40=\"\",\"\",SUMIFS('CMS Downtime Detail'!$K$24:$K$500,'CMS Downtime Detail'!$B$24:$B$500,$B40,'CMS Downtime Detail'!$C$24:$C$500,$C40,'CMS Downtime Detail'!$D$24:$D$500,$D40,'CMS Downtime Detail'!$E$24:$E$500,\"Nonmonitoring Equipment Malfunctions\"))","v":""},{"$f":"IF($E40=\"\",\"\",SUMIFS('CMS Downtime Detail'!$K$24:$K$500,'CMS Downtime Detail'!$B$24:$B$500,$B40,'CMS Downtime Detail'!$C$24:$C$500,$C40,'CMS Downtime Detail'!$D$24:$D$500,$D40,'CMS Downtime Detail'!$E$24:$E$500,\"Quality Assurance/Quality Control Calibrations\"))","v":""},{"$f":"IF($E40=\"\",\"\",SUMIFS('CMS Downtime Detail'!$K$24:$K$500,'CMS Downtime Detail'!$B$24:$B$500,$B40,'CMS Downtime Detail'!$C$24:$C$500,$C40,'CMS Downtime Detail'!$D$24:$D$500,$D40,'CMS Downtime Detail'!$E$24:$E$500,\"Other Known Causes\"))","v":""},{"$f":"IF($E40=\"\",\"\",SUMIFS('CMS Downtime Detail'!$K$24:$K$500,'CMS Downtime Detail'!$B$24:$B$500,$B40,'CMS Downtime Detail'!$C$24:$C$500,$C40,'CMS Downtime Detail'!$D$24:$D$500,$D40,'CMS Downtime Detail'!$E$24:$E$500,\"Other Unknown Causes\"))","v":""}]
[null,{"$f":"IF(Lists!AQ19=\"\",\"\",Lists!AQ19)","v":""},{"$f":"IF(Lists!AR19=\"\",\"\",Lists!AR19)","v":""},{"$f":"IF(Lists!AS19=\"\",\"\",Lists!AS19)","v":""},{"$f":"IF(D41=\"\",\"\",VLOOKUP(B41&C41,Lists!$BA$2:$BD$78,4,FALSE))","v":""},"","",{"$f":"IF($E41=\"\",\"\",SUMIFS('CMS Downtime Detail'!$K$24:$K$500,'CMS Downtime Detail'!$B$24:$B$500,$B41,'CMS Downtime Detail'!$C$24:$C$500,$C41,'CMS Downtime Detail'!$D$24:$D$500,$D41,'CMS Downtime Detail'!$E$24:$E$500,\"Monitoring Equipment Malfunctions\"))","v":""},{"$f":"IF($E41=\"\",\"\",SUMIFS('CMS Downtime Detail'!$K$24:$K$500,'CMS Downtime Detail'!$B$24:$B$500,$B41,'CMS Downtime Detail'!$C$24:$C$500,$C41,'CMS Downtime Detail'!$D$24:$D$500,$D41,'CMS Downtime Detail'!$E$24:$E$500,\"Nonmonitoring Equipment Malfunctions\"))","v":""},{"$f":"IF($E41=\"\",\"\",SUMIFS('CMS Downtime Detail'!$K$24:$K$500,'CMS Downtime Detail'!$B$24:$B$500,$B41,'CMS Downtime Detail'!$C$24:$C$500,$C41,'CMS Downtime Detail'!$D$24:$D$500,$D41,'CMS Downtime Detail'!$E$24:$E$500,\"Quality Assurance/Quality Control Calibrations\"))","v":""},{"$f":"IF($E41=\"\",\"\",SUMIFS('CMS Downtime Detail'!$K$24:$K$500,'CMS Downtime Detail'!$B$24:$B$500,$B41,'CMS Downtime Detail'!$C$24:$C$500,$C41,'CMS Downtime Detail'!$D$24:$D$500,$D41,'CMS Downtime Detail'!$E$24:$E$500,\"Other Known Causes\"))","v":""},{"$f":"IF($E41=\"\",\"\",SUMIFS('CMS Downtime Detail'!$K$24:$K$500,'CMS Downtime Detail'!$B$24:$B$500,$B41,'CMS Downtime Detail'!$C$24:$C$500,$C41,'CMS Downtime Detail'!$D$24:$D$500,$D41,'CMS Downtime Detail'!$E$24:$E$500,\"Other Unknown Causes\"))","v":""}]
[null,{"$f":"IF(Lists!AQ20=\"\",\"\",Lists!AQ20)","v":""},{"$f":"IF(Lists!AR20=\"\",\"\",Lists!AR20)","v":""},{"$f":"IF(Lists!AS20=\"\",\"\",Lists!AS20)","v":""},{"$f":"IF(D42=\"\",\"\",VLOOKUP(B42&C42,Lists!$BA$2:$BD$78,4,FALSE))","v":""},"","",{"$f":"IF($E42=\"\",\"\",SUMIFS('CMS Downtime Detail'!$K$24:$K$500,'CMS Downtime Detail'!$B$24:$B$500,$B42,'CMS Downtime Detail'!$C$24:$C$500,$C42,'CMS Downtime Detail'!$D$24:$D$500,$D42,'CMS Downtime Detail'!$E$24:$E$500,\"Monitoring Equipment Malfunctions\"))","v":""},{"$f":"IF($E42=\"\",\"\",SUMIFS('CMS Downtime Detail'!$K$24:$K$500,'CMS Downtime Detail'!$B$24:$B$500,$B42,'CMS Downtime Detail'!$C$24:$C$500,$C42,'CMS Downtime Detail'!$D$24:$D$500,$D42,'CMS Downtime Detail'!$E$24:$E$500,\"Nonmonitoring Equipment Malfunctions\"))","v":""},{"$f":"IF($E42=\"\",\"\",SUMIFS('CMS Downtime Detail'!$K$24:$K$500,'CMS Downtime Detail'!$B$24:$B$500,$B42,'CMS Downtime Detail'!$C$24:$C$500,$C42,'CMS Downtime Detail'!$D$24:$D$500,$D42,'CMS Downtime Detail'!$E$24:$E$500,\"Quality Assurance/Quality Control Calibrations\"))","v":""},{"$f":"IF($E42=\"\",\"\",SUMIFS('CMS Downtime Detail'!$K$24:$K$500,'CMS Downtime Detail'!$B$24:$B$500,$B42,'CMS Downtime Detail'!$C$24:$C$500,$C42,'CMS Downtime Detail'!$D$24:$D$500,$D42,'CMS Downtime Detail'!$E$24:$E$500,\"Other Known Causes\"))","v":""},{"$f":"IF($E42=\"\",\"\",SUMIFS('CMS Downtime Detail'!$K$24:$K$500,'CMS Downtime Detail'!$B$24:$B$500,$B42,'CMS Downtime Detail'!$C$24:$C$500,$C42,'CMS Downtime Detail'!$D$24:$D$500,$D42,'CMS Downtime Detail'!$E$24:$E$500,\"Other Unknown Causes\"))","v":""}]
[null,{"$f":"IF(Lists!AQ21=\"\",\"\",Lists!AQ21)","v":""},{"$f":"IF(Lists!AR21=\"\",\"\",Lists!AR21)","v":""},{"$f":"IF(Lists!AS21=\"\",\"\",Lists!AS21)","v":""},{"$f":"IF(D43=\"\",\"\",VLOOKUP(B43&C43,Lists!$BA$2:$BD$78,4,FALSE))","v":""},"","",{"$f":"IF($E43=\"\",\"\",SUMIFS('CMS Downtime Detail'!$K$24:$K$500,'CMS Downtime Detail'!$B$24:$B$500,$B43,'CMS Downtime Detail'!$C$24:$C$500,$C43,'CMS Downtime Detail'!$D$24:$D$500,$D43,'CMS Downtime Detail'!$E$24:$E$500,\"Monitoring Equipment Malfunctions\"))","v":""},{"$f":"IF($E43=\"\",\"\",SUMIFS('CMS Downtime Detail'!$K$24:$K$500,'CMS Downtime Detail'!$B$24:$B$500,$B43,'CMS Downtime Detail'!$C$24:$C$500,$C43,'CMS Downtime Detail'!$D$24:$D$500,$D43,'CMS Downtime Detail'!$E$24:$E$500,\"Nonmonitoring Equipment Malfunctions\"))","v":""},{"$f":"IF($E43=\"\",\"\",SUMIFS('CMS Downtime Detail'!$K$24:$K$500,'CMS Downtime Detail'!$B$24:$B$500,$B43,'CMS Downtime Detail'!$C$24:$C$500,$C43,'CMS Downtime Detail'!$D$24:$D$500,$D43,'CMS Downtime Detail'!$E$24:$E$500,\"Quality Assurance/Quality Control Calibrations\"))","v":""},{"$f":"IF($E43=\"\",\"\",SUMIFS('CMS Downtime Detail'!$K$24:$K$500,'CMS Downtime Detail'!$B$24:$B$500,$B43,'CMS Downtime Detail'!$C$24:$C$500,$C43,'CMS Downtime Detail'!$D$24:$D$500,$D43,'CMS Downtime Detail'!$E$24:$E$500,\"Other Known Causes\"))","v":""},{"$f":"IF($E43=\"\",\"\",SUMIFS('CMS Downtime Detail'!$K$24:$K$500,'CMS Downtime Detail'!$B$24:$B$500,$B43,'CMS Downtime Detail'!$C$24:$C$500,$C43,'CMS Downtime Detail'!$D$24:$D$500,$D43,'CMS Downtime Detail'!$E$24:$E$500,\"Other Unknown Causes\"))","v":""}]
[null,{"$f":"IF(Lists!AQ22=\"\",\"\",Lists!AQ22)","v":""},{"$f":"IF(Lists!AR22=\"\",\"\",Lists!AR22)","v":""},{"$f":"IF(Lists!AS22=\"\",\"\",Lists!AS22)","v":""},{"$f":"IF(D44=\"\",\"\",VLOOKUP(B44&C44,Lists!$BA$2:$BD$78,4,FALSE))","v":""},"","",{"$f":"IF($E44=\"\",\"\",SUMIFS('CMS Downtime Detail'!$K$24:$K$500,'CMS Downtime Detail'!$B$24:$B$500,$B44,'CMS Downtime Detail'!$C$24:$C$500,$C44,'CMS Downtime Detail'!$D$24:$D$500,$D44,'CMS Downtime Detail'!$E$24:$E$500,\"Monitoring Equipment Malfunctions\"))","v":""},{"$f":"IF($E44=\"\",\"\",SUMIFS('CMS Downtime Detail'!$K$24:$K$500,'CMS Downtime Detail'!$B$24:$B$500,$B44,'CMS Downtime Detail'!$C$24:$C$500,$C44,'CMS Downtime Detail'!$D$24:$D$500,$D44,'CMS Downtime Detail'!$E$24:$E$500,\"Nonmonitoring Equipment Malfunctions\"))","v":""},{"$f":"IF($E44=\"\",\"\",SUMIFS('CMS Downtime Detail'!$K$24:$K$500,'CMS Downtime Detail'!$B$24:$B$500,$B44,'CMS Downtime Detail'!$C$24:$C$500,$C44,'CMS Downtime Detail'!$D$24:$D$500,$D44,'CMS Downtime Detail'!$E$24:$E$500,\"Quality Assurance/Quality Control Calibrations\"))","v":""},{"$f":"IF($E44=\"\",\"\",SUMIFS('CMS Downtime Detail'!$K$24:$K$500,'CMS Downtime Detail'!$B$24:$B$500,$B44,'CMS Downtime Detail'!$C$24:$C$500,$C44,'CMS Downtime Detail'!$D$24:$D$500,$D44,'CMS Downtime Detail'!$E$24:$E$500,\"Other Known Causes\"))","v":""},{"$f":"IF($E44=\"\",\"\",SUMIFS('CMS Downtime Detail'!$K$24:$K$500,'CMS Downtime Detail'!$B$24:$B$500,$B44,'CMS Downtime Detail'!$C$24:$C$500,$C44,'CMS Downtime Detail'!$D$24:$D$500,$D44,'CMS Downtime Detail'!$E$24:$E$500,\"Other Unknown Causes\"))","v":""}]
[null,{"$f":"IF(Lists!AQ23=\"\",\"\",Lists!AQ23)","v":""},{"$f":"IF(Lists!AR23=\"\",\"\",Lists!AR23)","v":""},{"$f":"IF(Lists!AS23=\"\",\"\",Lists!AS23)","v":""},{"$f":"IF(D45=\"\",\"\",VLOOKUP(B45&C45,Lists!$BA$2:$BD$78,4,FALSE))","v":""},"","",{"$f":"IF($E45=\"\",\"\",SUMIFS('CMS Downtime Detail'!$K$24:$K$500,'CMS Downtime Detail'!$B$24:$B$500,$B45,'CMS Downtime Detail'!$C$24:$C$500,$C45,'CMS Downtime Detail'!$D$24:$D$500,$D45,'CMS Downtime Detail'!$E$24:$E$500,\"Monitoring Equipment Malfunctions\"))","v":""},{"$f":"IF($E45=\"\",\"\",SUMIFS('CMS Downtime Detail'!$K$24:$K$500,'CMS Downtime Detail'!$B$24:$B$500,$B45,'CMS Downtime Detail'!$C$24:$C$500,$C45,'CMS Downtime Detail'!$D$24:$D$500,$D45,'CMS Downtime Detail'!$E$24:$E$500,\"Nonmonitoring Equipment Malfunctions\"))","v":""},{"$f":"IF($E45=\"\",\"\",SUMIFS('CMS Downtime Detail'!$K$24:$K$500,'CMS Downtime Detail'!$B$24:$B$500,$B45,'CMS Downtime Detail'!$C$24:$C$500,$C45,'CMS Downtime Detail'!$D$24:$D$500,$D45,'CMS Downtime Detail'!$E$24:$E$500,\"Quality Assurance/Quality Control Calibrations\"))","v":""},{"$f":"IF($E45=\"\",\"\",SUMIFS('CMS Downtime Detail'!$K$24:$K$500,'CMS Downtime Detail'!$B$24:$B$500,$B45,'CMS Downtime Detail'!$C$24:$C$500,$C45,'CMS Downtime Detail'!$D$24:$D$500,$D45,'CMS Downtime Detail'!$E$24:$E$500,\"Other Known Causes\"))","v":""},{"$f":"IF($E45=\"\",\"\",SUMIFS('CMS Downtime Detail'!$K$24:$K$500,'CMS Downtime Detail'!$B$24:$B$500,$B45,'CMS Downtime Detail'!$C$24:$C$500,$C45,'CMS Downtime Detail'!$D$24:$D$500,$D45,'CMS Downtime Detail'!$E$24:$E$500,\"Other Unknown Causes\"))","v":""}]
[null,{"$f":"IF(Lists!AQ24=\"\",\"\",Lists!AQ24)","v":""},{"$f":"IF(Lists!AR24=\"\",\"\",Lists!AR24)","v":""},{"$f":"IF(Lists!AS24=\"\",\"\",Lists!AS24)","v":""},{"$f":"IF(D46=\"\",\"\",VLOOKUP(B46&C46,Lists!$BA$2:$BD$78,4,FALSE))","v":""},"","",{"$f":"IF($E46=\"\",\"\",SUMIFS('CMS Downtime Detail'!$K$24:$K$500,'CMS Downtime Detail'!$B$24:$B$500,$B46,'CMS Downtime Detail'!$C$24:$C$500,$C46,'CMS Downtime Detail'!$D$24:$D$500,$D46,'CMS Downtime Detail'!$E$24:$E$500,\"Monitoring Equipment Malfunctions\"))","v":""},{"$f":"IF($E46=\"\",\"\",SUMIFS('CMS Downtime Detail'!$K$24:$K$500,'CMS Downtime Detail'!$B$24:$B$500,$B46,'CMS Downtime Detail'!$C$24:$C$500,$C46,'CMS Downtime Detail'!$D$24:$D$500,$D46,'CMS Downtime Detail'!$E$24:$E$500,\"Nonmonitoring Equipment Malfunctions\"))","v":""},{"$f":"IF($E46=\"\",\"\",SUMIFS('CMS Downtime Detail'!$K$24:$K$500,'CMS Downtime Detail'!$B$24:$B$500,$B46,'CMS Downtime Detail'!$C$24:$C$500,$C46,'CMS Downtime Detail'!$D$24:$D$500,$D46,'CMS Downtime Detail'!$E$24:$E$500,\"Quality Assurance/Quality Control Calibrations\"))","v":""},{"$f":"IF($E46=\"\",\"\",SUMIFS('CMS Downtime Detail'!$K$24:$K$500,'CMS Downtime Detail'!$B$24:$B$500,$B46,'CMS Downtime Detail'!$C$24:$C$500,$C46,'CMS Downtime Detail'!$D$24:$D$500,$D46,'CMS Downtime Detail'!$E$24:$E$500,\"Other Known Causes\"))","v":""},{"$f":"IF($E46=\"\",\"\",SUMIFS('CMS Downtime Detail'!$K$24:$K$500,'CMS Downtime Detail'!$B$24:$B$500,$B46,'CMS Downtime Detail'!$C$24:$C$500,$C46,'CMS Downtime Detail'!$D$24:$D$500,$D46,'CMS Downtime Detail'!$E$24:$E$500,\"Other Unknown Causes\"))","v":""}]
[null,{"$f":"IF(Lists!AQ25=\"\",\"\",Lists!AQ25)","v":""},{"$f":"IF(Lists!AR25=\"\",\"\",Lists!AR25)","v":""},{"$f":"IF(Lists!AS25=\"\",\"\",Lists!AS25)","v":""},{"$f":"IF(D47=\"\",\"\",VLOOKUP(B47&C47,Lists!$BA$2:$BD$78,4,FALSE))","v":""},"","",{"$f":"IF($E47=\"\",\"\",SUMIFS('CMS Downtime Detail'!$K$24:$K$500,'CMS Downtime Detail'!$B$24:$B$500,$B47,'CMS Downtime Detail'!$C$24:$C$500,$C47,'CMS Downtime Detail'!$D$24:$D$500,$D47,'CMS Downtime Detail'!$E$24:$E$500,\"Monitoring Equipment Malfunctions\"))","v":""},{"$f":"IF($E47=\"\",\"\",SUMIFS('CMS Downtime Detail'!$K$24:$K$500,'CMS Downtime Detail'!$B$24:$B$500,$B47,'CMS Downtime Detail'!$C$24:$C$500,$C47,'CMS Downtime Detail'!$D$24:$D$500,$D47,'CMS Downtime Detail'!$E$24:$E$500,\"Nonmonitoring Equipment Malfunctions\"))","v":""},{"$f":"IF($E47=\"\",\"\",SUMIFS('CMS Downtime Detail'!$K$24:$K$500,'CMS Downtime Detail'!$B$24:$B$500,$B47,'CMS Downtime Detail'!$C$24:$C$500,$C47,'CMS Downtime Detail'!$D$24:$D$500,$D47,'CMS Downtime Detail'!$E$24:$E$500,\"Quality Assurance/Quality Control Calibrations\"))","v":""},{"$f":"IF($E47=\"\",\"\",SUMIFS('CMS Downtime Detail'!$K$24:$K$500,'CMS Downtime Detail'!$B$24:$B$500,$B47,'CMS Downtime Detail'!$C$24:$C$500,$C47,'CMS Downtime Detail'!$D$24:$D$500,$D47,'CMS Downtime Detail'!$E$24:$E$500,\"Other Known Causes\"))","v":""},{"$f":"IF($E47=\"\",\"\",SUMIFS('CMS Downtime Detail'!$K$24:$K$500,'CMS Downtime Detail'!$B$24:$B$500,$B47,'CMS Downtime Detail'!$C$24:$C$500,$C47,'CMS Downtime Detail'!$D$24:$D$500,$D47,'CMS Downtime Detail'!$E$24:$E$500,\"Other Unknown Causes\"))","v":""}]
[null,{"$f":"IF(Lists!AQ26=\"\",\"\",Lists!AQ26)","v":""},{"$f":"IF(Lists!AR26=\"\",\"\",Lists!AR26)","v":""},{"$f":"IF(Lists!AS26=\"\",\"\",Lists!AS26)","v":""},{"$f":"IF(D48=\"\",\"\",VLOOKUP(B48&C48,Lists!$BA$2:$BD$78,4,FALSE))","v":""},"","",{"$f":"IF($E48=\"\",\"\",SUMIFS('CMS Downtime Detail'!$K$24:$K$500,'CMS Downtime Detail'!$B$24:$B$500,$B48,'CMS Downtime Detail'!$C$24:$C$500,$C48,'CMS Downtime Detail'!$D$24:$D$500,$D48,'CMS Downtime Detail'!$E$24:$E$500,\"Monitoring Equipment Malfunctions\"))","v":""},{"$f":"IF($E48=\"\",\"\",SUMIFS('CMS Downtime Detail'!$K$24:$K$500,'CMS Downtime Detail'!$B$24:$B$500,$B48,'CMS Downtime Detail'!$C$24:$C$500,$C48,'CMS Downtime Detail'!$D$24:$D$500,$D48,'CMS Downtime Detail'!$E$24:$E$500,\"Nonmonitoring Equipment Malfunctions\"))","v":""},{"$f":"IF($E48=\"\",\"\",SUMIFS('CMS Downtime Detail'!$K$24:$K$500,'CMS Downtime Detail'!$B$24:$B$500,$B48,'CMS Downtime Detail'!$C$24:$C$500,$C48,'CMS Downtime Detail'!$D$24:$D$500,$D48,'CMS Downtime Detail'!$E$24:$E$500,\"Quality Assurance/Quality Control Calibrations\"))","v":""},{"$f":"IF($E48=\"\",\"\",SUMIFS('CMS Downtime Detail'!$K$24:$K$500,'CMS Downtime Detail'!$B$24:$B$500,$B48,'CMS Downtime Detail'!$C$24:$C$500,$C48,'CMS Downtime Detail'!$D$24:$D$500,$D48,'CMS Downtime Detail'!$E$24:$E$500,\"Other Known Causes\"))","v":""},{"$f":"IF($E48=\"\",\"\",SUMIFS('CMS Downtime Detail'!$K$24:$K$500,'CMS Downtime Detail'!$B$24:$B$500,$B48,'CMS Downtime Detail'!$C$24:$C$500,$C48,'CMS Downtime Detail'!$D$24:$D$500,$D48,'CMS Downtime Detail'!$E$24:$E$500,\"Other Unknown Causes\"))","v":""}]
[null,{"$f":"IF(Lists!AQ27=\"\",\"\",Lists!AQ27)","v":""},{"$f":"IF(Lists!AR27=\"\",\"\",Lists!AR27)","v":""},{"$f":"IF(Lists!AS27=\"\",\"\",Lists!AS27)","v":""},{"$f":"IF(D49=\"\",\"\",VLOOKUP(B49&C49,Lists!$BA$2:$BD$78,4,FALSE))","v":""},"","",{"$f":"IF($E49=\"\",\"\",SUMIFS('CMS Downtime Detail'!$K$24:$K$500,'CMS Downtime Detail'!$B$24:$B$500,$B49,'CMS Downtime Detail'!$C$24:$C$500,$C49,'CMS Downtime Detail'!$D$24:$D$500,$D49,'CMS Downtime Detail'!$E$24:$E$500,\"Monitoring Equipment Malfunctions\"))","v":""},{"$f":"IF($E49=\"\",\"\",SUMIFS('CMS Downtime Detail'!$K$24:$K$500,'CMS Downtime Detail'!$B$24:$B$500,$B49,'CMS Downtime Detail'!$C$24:$C$500,$C49,'CMS Downtime Detail'!$D$24:$D$500,$D49,'CMS Downtime Detail'!$E$24:$E$500,\"Nonmonitoring Equipment Malfunctions\"))","v":""},{"$f":"IF($E49=\"\",\"\",SUMIFS('CMS Downtime Detail'!$K$24:$K$500,'CMS Downtime Detail'!$B$24:$B$500,$B49,'CMS Downtime Detail'!$C$24:$C$500,$C49,'CMS Downtime Detail'!$D$24:$D$500,$D49,'CMS Downtime Detail'!$E$24:$E$500,\"Quality Assurance/Quality Control Calibrations\"))","v":""},{"$f":"IF($E49=\"\",\"\",SUMIFS('CMS Downtime Detail'!$K$24:$K$500,'CMS Downtime Detail'!$B$24:$B$500,$B49,'CMS Downtime Detail'!$C$24:$C$500,$C49,'CMS Downtime Detail'!$D$24:$D$500,$D49,'CMS Downtime Detail'!$E$24:$E$500,\"Other Known Causes\"))","v":""},{"$f":"IF($E49=\"\",\"\",SUMIFS('CMS Downtime Detail'!$K$24:$K$500,'CMS Downtime Detail'!$B$24:$B$500,$B49,'CMS Downtime Detail'!$C$24:$C$500,$C49,'CMS Downtime Detail'!$D$24:$D$500,$D49,'CMS Downtime Detail'!$E$24:$E$500,\"Other Unknown Causes\"))","v":""}]
[null,{"$f":"IF(Lists!AQ28=\"\",\"\",Lists!AQ28)","v":""},{"$f":"IF(Lists!AR28=\"\",\"\",Lists!AR28)","v":""},{"$f":"IF(Lists!AS28=\"\",\"\",Lists!AS28)","v":""},{"$f":"IF(D50=\"\",\"\",VLOOKUP(B50&C50,Lists!$BA$2:$BD$78,4,FALSE))","v":""},"","",{"$f":"IF($E50=\"\",\"\",SUMIFS('CMS Downtime Detail'!$K$24:$K$500,'CMS Downtime Detail'!$B$24:$B$500,$B50,'CMS Downtime Detail'!$C$24:$C$500,$C50,'CMS Downtime Detail'!$D$24:$D$500,$D50,'CMS Downtime Detail'!$E$24:$E$500,\"Monitoring Equipment Malfunctions\"))","v":""},{"$f":"IF($E50=\"\",\"\",SUMIFS('CMS Downtime Detail'!$K$24:$K$500,'CMS Downtime Detail'!$B$24:$B$500,$B50,'CMS Downtime Detail'!$C$24:$C$500,$C50,'CMS Downtime Detail'!$D$24:$D$500,$D50,'CMS Downtime Detail'!$E$24:$E$500,\"Nonmonitoring Equipment Malfunctions\"))","v":""},{"$f":"IF($E50=\"\",\"\",SUMIFS('CMS Downtime Detail'!$K$24:$K$500,'CMS Downtime Detail'!$B$24:$B$500,$B50,'CMS Downtime Detail'!$C$24:$C$500,$C50,'CMS Downtime Detail'!$D$24:$D$500,$D50,'CMS Downtime Detail'!$E$24:$E$500,\"Quality Assurance/Quality Control Calibrations\"))","v":""},{"$f":"IF($E50=\"\",\"\",SUMIFS('CMS Downtime Detail'!$K$24:$K$500,'CMS Downtime Detail'!$B$24:$B$500,$B50,'CMS Downtime Detail'!$C$24:$C$500,$C50,'CMS Downtime Detail'!$D$24:$D$500,$D50,'CMS Downtime Detail'!$E$24:$E$500,\"Other Known Causes\"))","v":""},{"$f":"IF($E50=\"\",\"\",SUMIFS('CMS Downtime Detail'!$K$24:$K$500,'CMS Downtime Detail'!$B$24:$B$500,$B50,'CMS Downtime Detail'!$C$24:$C$500,$C50,'CMS Downtime Detail'!$D$24:$D$500,$D50,'CMS Downtime Detail'!$E$24:$E$500,\"Other Unknown Causes\"))","v":""}]
[null,{"$f":"IF(Lists!AQ29=\"\",\"\",Lists!AQ29)","v":""},{"$f":"IF(Lists!AR29=\"\",\"\",Lists!AR29)","v":""},{"$f":"IF(Lists!AS29=\"\",\"\",Lists!AS29)","v":""},{"$f":"IF(D51=\"\",\"\",VLOOKUP(B51&C51,Lists!$BA$2:$BD$78,4,FALSE))","v":""},"","",{"$f":"IF($E51=\"\",\"\",SUMIFS('CMS Downtime Detail'!$K$24:$K$500,'CMS Downtime Detail'!$B$24:$B$500,$B51,'CMS Downtime Detail'!$C$24:$C$500,$C51,'CMS Downtime Detail'!$D$24:$D$500,$D51,'CMS Downtime Detail'!$E$24:$E$500,\"Monitoring Equipment Malfunctions\"))","v":""},{"$f":"IF($E51=\"\",\"\",SUMIFS('CMS Downtime Detail'!$K$24:$K$500,'CMS Downtime Detail'!$B$24:$B$500,$B51,'CMS Downtime Detail'!$C$24:$C$500,$C51,'CMS Downtime Detail'!$D$24:$D$500,$D51,'CMS Downtime Detail'!$E$24:$E$500,\"Nonmonitoring Equipment Malfunctions\"))","v":""},{"$f":"IF($E51=\"\",\"\",SUMIFS('CMS Downtime Detail'!$K$24:$K$500,'CMS Downtime Detail'!$B$24:$B$500,$B51,'CMS Downtime Detail'!$C$24:$C$500,$C51,'CMS Downtime Detail'!$D$24:$D$500,$D51,'CMS Downtime Detail'!$E$24:$E$500,\"Quality Assurance/Quality Control Calibrations\"))","v":""},{"$f":"IF($E51=\"\",\"\",SUMIFS('CMS Downtime Detail'!$K$24:$K$500,'CMS Downtime Detail'!$B$24:$B$500,$B51,'CMS Downtime Detail'!$C$24:$C$500,$C51,'CMS Downtime Detail'!$D$24:$D$500,$D51,'CMS Downtime Detail'!$E$24:$E$500,\"Other Known Causes\"))","v":""},{"$f":"IF($E51=\"\",\"\",SUMIFS('CMS Downtime Detail'!$K$24:$K$500,'CMS Downtime Detail'!$B$24:$B$500,$B51,'CMS Downtime Detail'!$C$24:$C$500,$C51,'CMS Downtime Detail'!$D$24:$D$500,$D51,'CMS Downtime Detail'!$E$24:$E$500,\"Other Unknown Causes\"))","v":""}]
[null,{"$f":"IF(Lists!AQ30=\"\",\"\",Lists!AQ30)","v":""},{"$f":"IF(Lists!AR30=\"\",\"\",Lists!AR30)","v":""},{"$f":"IF(Lists!AS30=\"\",\"\",Lists!AS30)","v":""},{"$f":"IF(D52=\"\",\"\",VLOOKUP(B52&C52,Lists!$BA$2:$BD$78,4,FALSE))","v":""},"","",{"$f":"IF($E52=\"\",\"\",SUMIFS('CMS Downtime Detail'!$K$24:$K$500,'CMS Downtime Detail'!$B$24:$B$500,$B52,'CMS Downtime Detail'!$C$24:$C$500,$C52,'CMS Downtime Detail'!$D$24:$D$500,$D52,'CMS Downtime Detail'!$E$24:$E$500,\"Monitoring Equipment Malfunctions\"))","v":""},{"$f":"IF($E52=\"\",\"\",SUMIFS('CMS Downtime Detail'!$K$24:$K$500,'CMS Downtime Detail'!$B$24:$B$500,$B52,'CMS Downtime Detail'!$C$24:$C$500,$C52,'CMS Downtime Detail'!$D$24:$D$500,$D52,'CMS Downtime Detail'!$E$24:$E$500,\"Nonmonitoring Equipment Malfunctions\"))","v":""},{"$f":"IF($E52=\"\",\"\",SUMIFS('CMS Downtime Detail'!$K$24:$K$500,'CMS Downtime Detail'!$B$24:$B$500,$B52,'CMS Downtime Detail'!$C$24:$C$500,$C52,'CMS Downtime Detail'!$D$24:$D$500,$D52,'CMS Downtime Detail'!$E$24:$E$500,\"Quality Assurance/Quality Control Calibrations\"))","v":""},{"$f":"IF($E52=\"\",\"\",SUMIFS('CMS Downtime Detail'!$K$24:$K$500,'CMS Downtime Detail'!$B$24:$B$500,$B52,'CMS Downtime Detail'!$C$24:$C$500,$C52,'CMS Downtime Detail'!$D$24:$D$500,$D52,'CMS Downtime Detail'!$E$24:$E$500,\"Other Known Causes\"))","v":""},{"$f":"IF($E52=\"\",\"\",SUMIFS('CMS Downtime Detail'!$K$24:$K$500,'CMS Downtime Detail'!$B$24:$B$500,$B52,'CMS Downtime Detail'!$C$24:$C$500,$C52,'CMS Downtime Detail'!$D$24:$D$500,$D52,'CMS Downtime Detail'!$E$24:$E$500,\"Other Unknown Causes\"))","v":""}]
[null,{"$f":"IF(Lists!AQ31=\"\",\"\",Lists!AQ31)","v":""},{"$f":"IF(Lists!AR31=\"\",\"\",Lists!AR31)","v":""},{"$f":"IF(Lists!AS31=\"\",\"\",Lists!AS31)","v":""},{"$f":"IF(D53=\"\",\"\",VLOOKUP(B53&C53,Lists!$BA$2:$BD$78,4,FALSE))","v":""},"","",{"$f":"IF($E53=\"\",\"\",SUMIFS('CMS Downtime Detail'!$K$24:$K$500,'CMS Downtime Detail'!$B$24:$B$500,$B53,'CMS Downtime Detail'!$C$24:$C$500,$C53,'CMS Downtime Detail'!$D$24:$D$500,$D53,'CMS Downtime Detail'!$E$24:$E$500,\"Monitoring Equipment Malfunctions\"))","v":""},{"$f":"IF($E53=\"\",\"\",SUMIFS('CMS Downtime Detail'!$K$24:$K$500,'CMS Downtime Detail'!$B$24:$B$500,$B53,'CMS Downtime Detail'!$C$24:$C$500,$C53,'CMS Downtime Detail'!$D$24:$D$500,$D53,'CMS Downtime Detail'!$E$24:$E$500,\"Nonmonitoring Equipment Malfunctions\"))","v":""},{"$f":"IF($E53=\"\",\"\",SUMIFS('CMS Downtime Detail'!$K$24:$K$500,'CMS Downtime Detail'!$B$24:$B$500,$B53,'CMS Downtime Detail'!$C$24:$C$500,$C53,'CMS Downtime Detail'!$D$24:$D$500,$D53,'CMS Downtime Detail'!$E$24:$E$500,\"Quality Assurance/Quality Control Calibrations\"))","v":""},{"$f":"IF($E53=\"\",\"\",SUMIFS('CMS Downtime Detail'!$K$24:$K$500,'CMS Downtime Detail'!$B$24:$B$500,$B53,'CMS Downtime Detail'!$C$24:$C$500,$C53,'CMS Downtime Detail'!$D$24:$D$500,$D53,'CMS Downtime Detail'!$E$24:$E$500,\"Other Known Causes\"))","v":""},{"$f":"IF($E53=\"\",\"\",SUMIFS('CMS Downtime Detail'!$K$24:$K$500,'CMS Downtime Detail'!$B$24:$B$500,$B53,'CMS Downtime Detail'!$C$24:$C$500,$C53,'CMS Downtime Detail'!$D$24:$D$500,$D53,'CMS Downtime Detail'!$E$24:$E$500,\"Other Unknown Causes\"))","v":""}]
[null,{"$f":"IF(Lists!AQ32=\"\",\"\",Lists!AQ32)","v":""},{"$f":"IF(Lists!AR32=\"\",\"\",Lists!AR32)","v":""},{"$f":"IF(Lists!AS32=\"\",\"\",Lists!AS32)","v":""},{"$f":"IF(D54=\"\",\"\",VLOOKUP(B54&C54,Lists!$BA$2:$BD$78,4,FALSE))","v":""},"","",{"$f":"IF($E54=\"\",\"\",SUMIFS('CMS Downtime Detail'!$K$24:$K$500,'CMS Downtime Detail'!$B$24:$B$500,$B54,'CMS Downtime Detail'!$C$24:$C$500,$C54,'CMS Downtime Detail'!$D$24:$D$500,$D54,'CMS Downtime Detail'!$E$24:$E$500,\"Monitoring Equipment Malfunctions\"))","v":""},{"$f":"IF($E54=\"\",\"\",SUMIFS('CMS Downtime Detail'!$K$24:$K$500,'CMS Downtime Detail'!$B$24:$B$500,$B54,'CMS Downtime Detail'!$C$24:$C$500,$C54,'CMS Downtime Detail'!$D$24:$D$500,$D54,'CMS Downtime Detail'!$E$24:$E$500,\"Nonmonitoring Equipment Malfunctions\"))","v":""},{"$f":"IF($E54=\"\",\"\",SUMIFS('CMS Downtime Detail'!$K$24:$K$500,'CMS Downtime Detail'!$B$24:$B$500,$B54,'CMS Downtime Detail'!$C$24:$C$500,$C54,'CMS Downtime Detail'!$D$24:$D$500,$D54,'CMS Downtime Detail'!$E$24:$E$500,\"Quality Assurance/Quality Control Calibrations\"))","v":""},{"$f":"IF($E54=\"\",\"\",SUMIFS('CMS Downtime Detail'!$K$24:$K$500,'CMS Downtime Detail'!$B$24:$B$500,$B54,'CMS Downtime Detail'!$C$24:$C$500,$C54,'CMS Downtime Detail'!$D$24:$D$500,$D54,'CMS Downtime Detail'!$E$24:$E$500,\"Other Known Causes\"))","v":""},{"$f":"IF($E54=\"\",\"\",SUMIFS('CMS Downtime Detail'!$K$24:$K$500,'CMS Downtime Detail'!$B$24:$B$500,$B54,'CMS Downtime Detail'!$C$24:$C$500,$C54,'CMS Downtime Detail'!$D$24:$D$500,$D54,'CMS Downtime Detail'!$E$24:$E$500,\"Other Unknown Causes\"))","v":""}]
[null,{"$f":"IF(Lists!AQ33=\"\",\"\",Lists!AQ33)","v":""},{"$f":"IF(Lists!AR33=\"\",\"\",Lists!AR33)","v":""},{"$f":"IF(Lists!AS33=\"\",\"\",Lists!AS33)","v":""},{"$f":"IF(D55=\"\",\"\",VLOOKUP(B55&C55,Lists!$BA$2:$BD$78,4,FALSE))","v":""},"","",{"$f":"IF($E55=\"\",\"\",SUMIFS('CMS Downtime Detail'!$K$24:$K$500,'CMS Downtime Detail'!$B$24:$B$500,$B55,'CMS Downtime Detail'!$C$24:$C$500,$C55,'CMS Downtime Detail'!$D$24:$D$500,$D55,'CMS Downtime Detail'!$E$24:$E$500,\"Monitoring Equipment Malfunctions\"))","v":""},{"$f":"IF($E55=\"\",\"\",SUMIFS('CMS Downtime Detail'!$K$24:$K$500,'CMS Downtime Detail'!$B$24:$B$500,$B55,'CMS Downtime Detail'!$C$24:$C$500,$C55,'CMS Downtime Detail'!$D$24:$D$500,$D55,'CMS Downtime Detail'!$E$24:$E$500,\"Nonmonitoring Equipment Malfunctions\"))","v":""},{"$f":"IF($E55=\"\",\"\",SUMIFS('CMS Downtime Detail'!$K$24:$K$500,'CMS Downtime Detail'!$B$24:$B$500,$B55,'CMS Downtime Detail'!$C$24:$C$500,$C55,'CMS Downtime Detail'!$D$24:$D$500,$D55,'CMS Downtime Detail'!$E$24:$E$500,\"Quality Assurance/Quality Control Calibrations\"))","v":""},{"$f":"IF($E55=\"\",\"\",SUMIFS('CMS Downtime Detail'!$K$24:$K$500,'CMS Downtime Detail'!$B$24:$B$500,$B55,'CMS Downtime Detail'!$C$24:$C$500,$C55,'CMS Downtime Detail'!$D$24:$D$500,$D55,'CMS Downtime Detail'!$E$24:$E$500,\"Other Known Causes\"))","v":""},{"$f":"IF($E55=\"\",\"\",SUMIFS('CMS Downtime Detail'!$K$24:$K$500,'CMS Downtime Detail'!$B$24:$B$500,$B55,'CMS Downtime Detail'!$C$24:$C$500,$C55,'CMS Downtime Detail'!$D$24:$D$500,$D55,'CMS Downtime Detail'!$E$24:$E$500,\"Other Unknown Causes\"))","v":""}]
[null,{"$f":"IF(Lists!AQ34=\"\",\"\",Lists!AQ34)","v":""},{"$f":"IF(Lists!AR34=\"\",\"\",Lists!AR34)","v":""},{"$f":"IF(Lists!AS34=\"\",\"\",Lists!AS34)","v":""},{"$f":"IF(D56=\"\",\"\",VLOOKUP(B56&C56,Lists!$BA$2:$BD$78,4,FALSE))","v":""},"","",{"$f":"IF($E56=\"\",\"\",SUMIFS('CMS Downtime Detail'!$K$24:$K$500,'CMS Downtime Detail'!$B$24:$B$500,$B56,'CMS Downtime Detail'!$C$24:$C$500,$C56,'CMS Downtime Detail'!$D$24:$D$500,$D56,'CMS Downtime Detail'!$E$24:$E$500,\"Monitoring Equipment Malfunctions\"))","v":""},{"$f":"IF($E56=\"\",\"\",SUMIFS('CMS Downtime Detail'!$K$24:$K$500,'CMS Downtime Detail'!$B$24:$B$500,$B56,'CMS Downtime Detail'!$C$24:$C$500,$C56,'CMS Downtime Detail'!$D$24:$D$500,$D56,'CMS Downtime Detail'!$E$24:$E$500,\"Nonmonitoring Equipment Malfunctions\"))","v":""},{"$f":"IF($E56=\"\",\"\",SUMIFS('CMS Downtime Detail'!$K$24:$K$500,'CMS Downtime Detail'!$B$24:$B$500,$B56,'CMS Downtime Detail'!$C$24:$C$500,$C56,'CMS Downtime Detail'!$D$24:$D$500,$D56,'CMS Downtime Detail'!$E$24:$E$500,\"Quality Assurance/Quality Control Calibrations\"))","v":""},{"$f":"IF($E56=\"\",\"\",SUMIFS('CMS Downtime Detail'!$K$24:$K$500,'CMS Downtime Detail'!$B$24:$B$500,$B56,'CMS Downtime Detail'!$C$24:$C$500,$C56,'CMS Downtime Detail'!$D$24:$D$500,$D56,'CMS Downtime Detail'!$E$24:$E$500,\"Other Known Causes\"))","v":""},{"$f":"IF($E56=\"\",\"\",SUMIFS('CMS Downtime Detail'!$K$24:$K$500,'CMS Downtime Detail'!$B$24:$B$500,$B56,'CMS Downtime Detail'!$C$24:$C$500,$C56,'CMS Downtime Detail'!$D$24:$D$500,$D56,'CMS Downtime Detail'!$E$24:$E$500,\"Other Unknown Causes\"))","v":""}]
[null,{"$f":"IF(Lists!AQ35=\"\",\"\",Lists!AQ35)","v":""},{"$f":"IF(Lists!AR35=\"\",\"\",Lists!AR35)","v":""},{"$f":"IF(Lists!AS35=\"\",\"\",Lists!AS35)","v":""},{"$f":"IF(D57=\"\",\"\",VLOOKUP(B57&C57,Lists!$BA$2:$BD$78,4,FALSE))","v":""},"","",{"$f":"IF($E57=\"\",\"\",SUMIFS('CMS Downtime Detail'!$K$24:$K$500,'CMS Downtime Detail'!$B$24:$B$500,$B57,'CMS Downtime Detail'!$C$24:$C$500,$C57,'CMS Downtime Detail'!$D$24:$D$500,$D57,'CMS Downtime Detail'!$E$24:$E$500,\"Monitoring Equipment Malfunctions\"))","v":""},{"$f":"IF($E57=\"\",\"\",SUMIFS('CMS Downtime Detail'!$K$24:$K$500,'CMS Downtime Detail'!$B$24:$B$500,$B57,'CMS Downtime Detail'!$C$24:$C$500,$C57,'CMS Downtime Detail'!$D$24:$D$500,$D57,'CMS Downtime Detail'!$E$24:$E$500,\"Nonmonitoring Equipment Malfunctions\"))","v":""},{"$f":"IF($E57=\"\",\"\",SUMIFS('CMS Downtime Detail'!$K$24:$K$500,'CMS Downtime Detail'!$B$24:$B$500,$B57,'CMS Downtime Detail'!$C$24:$C$500,$C57,'CMS Downtime Detail'!$D$24:$D$500,$D57,'CMS Downtime Detail'!$E$24:$E$500,\"Quality Assurance/Quality Control Calibrations\"))","v":""},{"$f":"IF($E57=\"\",\"\",SUMIFS('CMS Downtime Detail'!$K$24:$K$500,'CMS Downtime Detail'!$B$24:$B$500,$B57,'CMS Downtime Detail'!$C$24:$C$500,$C57,'CMS Downtime Detail'!$D$24:$D$500,$D57,'CMS Downtime Detail'!$E$24:$E$500,\"Other Known Causes\"))","v":""},{"$f":"IF($E57=\"\",\"\",SUMIFS('CMS Downtime Detail'!$K$24:$K$500,'CMS Downtime Detail'!$B$24:$B$500,$B57,'CMS Downtime Detail'!$C$24:$C$500,$C57,'CMS Downtime Detail'!$D$24:$D$500,$D57,'CMS Downtime Detail'!$E$24:$E$500,\"Other Unknown Causes\"))","v":""}]
[null,{"$f":"IF(Lists!AQ36=\"\",\"\",Lists!AQ36)","v":""},{"$f":"IF(Lists!AR36=\"\",\"\",Lists!AR36)","v":""},{"$f":"IF(Lists!AS36=\"\",\"\",Lists!AS36)","v":""},{"$f":"IF(D58=\"\",\"\",VLOOKUP(B58&C58,Lists!$BA$2:$BD$78,4,FALSE))","v":""},"","",{"$f":"IF($E58=\"\",\"\",SUMIFS('CMS Downtime Detail'!$K$24:$K$500,'CMS Downtime Detail'!$B$24:$B$500,$B58,'CMS Downtime Detail'!$C$24:$C$500,$C58,'CMS Downtime Detail'!$D$24:$D$500,$D58,'CMS Downtime Detail'!$E$24:$E$500,\"Monitoring Equipment Malfunctions\"))","v":""},{"$f":"IF($E58=\"\",\"\",SUMIFS('CMS Downtime Detail'!$K$24:$K$500,'CMS Downtime Detail'!$B$24:$B$500,$B58,'CMS Downtime Detail'!$C$24:$C$500,$C58,'CMS Downtime Detail'!$D$24:$D$500,$D58,'CMS Downtime Detail'!$E$24:$E$500,\"Nonmonitoring Equipment Malfunctions\"))","v":""},{"$f":"IF($E58=\"\",\"\",SUMIFS('CMS Downtime Detail'!$K$24:$K$500,'CMS Downtime Detail'!$B$24:$B$500,$B58,'CMS Downtime Detail'!$C$24:$C$500,$C58,'CMS Downtime Detail'!$D$24:$D$500,$D58,'CMS Downtime Detail'!$E$24:$E$500,\"Quality Assurance/Quality Control Calibrations\"))","v":""},{"$f":"IF($E58=\"\",\"\",SUMIFS('CMS Downtime Detail'!$K$24:$K$500,'CMS Downtime Detail'!$B$24:$B$500,$B58,'CMS Downtime Detail'!$C$24:$C$500,$C58,'CMS Downtime Detail'!$D$24:$D$500,$D58,'CMS Downtime Detail'!$E$24:$E$500,\"Other Known Causes\"))","v":""},{"$f":"IF($E58=\"\",\"\",SUMIFS('CMS Downtime Detail'!$K$24:$K$500,'CMS Downtime Detail'!$B$24:$B$500,$B58,'CMS Downtime Detail'!$C$24:$C$500,$C58,'CMS Downtime Detail'!$D$24:$D$500,$D58,'CMS Downtime Detail'!$E$24:$E$500,\"Other Unknown Causes\"))","v":""}]
[null,{"$f":"IF(Lists!AQ37=\"\",\"\",Lists!AQ37)","v":""},{"$f":"IF(Lists!AR37=\"\",\"\",Lists!AR37)","v":""},{"$f":"IF(Lists!AS37=\"\",\"\",Lists!AS37)","v":""},{"$f":"IF(D59=\"\",\"\",VLOOKUP(B59&C59,Lists!$BA$2:$BD$78,4,FALSE))","v":""},"","",{"$f":"IF($E59=\"\",\"\",SUMIFS('CMS Downtime Detail'!$K$24:$K$500,'CMS Downtime Detail'!$B$24:$B$500,$B59,'CMS Downtime Detail'!$C$24:$C$500,$C59,'CMS Downtime Detail'!$D$24:$D$500,$D59,'CMS Downtime Detail'!$E$24:$E$500,\"Monitoring Equipment Malfunctions\"))","v":""},{"$f":"IF($E59=\"\",\"\",SUMIFS('CMS Downtime Detail'!$K$24:$K$500,'CMS Downtime Detail'!$B$24:$B$500,$B59,'CMS Downtime Detail'!$C$24:$C$500,$C59,'CMS Downtime Detail'!$D$24:$D$500,$D59,'CMS Downtime Detail'!$E$24:$E$500,\"Nonmonitoring Equipment Malfunctions\"))","v":""},{"$f":"IF($E59=\"\",\"\",SUMIFS('CMS Downtime Detail'!$K$24:$K$500,'CMS Downtime Detail'!$B$24:$B$500,$B59,'CMS Downtime Detail'!$C$24:$C$500,$C59,'CMS Downtime Detail'!$D$24:$D$500,$D59,'CMS Downtime Detail'!$E$24:$E$500,\"Quality Assurance/Quality Control Calibrations\"))","v":""},{"$f":"IF($E59=\"\",\"\",SUMIFS('CMS Downtime Detail'!$K$24:$K$500,'CMS Downtime Detail'!$B$24:$B$500,$B59,'CMS Downtime Detail'!$C$24:$C$500,$C59,'CMS Downtime Detail'!$D$24:$D$500,$D59,'CMS Downtime Detail'!$E$24:$E$500,\"Other Known Causes\"))","v":""},{"$f":"IF($E59=\"\",\"\",SUMIFS('CMS Downtime Detail'!$K$24:$K$500,'CMS Downtime Detail'!$B$24:$B$500,$B59,'CMS Downtime Detail'!$C$24:$C$500,$C59,'CMS Downtime Detail'!$D$24:$D$500,$D59,'CMS Downtime Detail'!$E$24:$E$500,\"Other Unknown Causes\"))","v":""}]
[null,{"$f":"IF(Lists!AQ38=\"\",\"\",Lists!AQ38)","v":""},{"$f":"IF(Lists!AR38=\"\",\"\",Lists!AR38)","v":""},{"$f":"IF(Lists!AS38=\"\",\"\",Lists!AS38)","v":""},{"$f":"IF(D60=\"\",\"\",VLOOKUP(B60&C60,Lists!$BA$2:$BD$78,4,FALSE))","v":""},"","",{"$f":"IF($E60=\"\",\"\",SUMIFS('CMS Downtime Detail'!$K$24:$K$500,'CMS Downtime Detail'!$B$24:$B$500,$B60,'CMS Downtime Detail'!$C$24:$C$500,$C60,'CMS Downtime Detail'!$D$24:$D$500,$D60,'CMS Downtime Detail'!$E$24:$E$500,\"Monitoring Equipment Malfunctions\"))","v":""},{"$f":"IF($E60=\"\",\"\",SUMIFS('CMS Downtime Detail'!$K$24:$K$500,'CMS Downtime Detail'!$B$24:$B$500,$B60,'CMS Downtime Detail'!$C$24:$C$500,$C60,'CMS Downtime Detail'!$D$24:$D$500,$D60,'CMS Downtime Detail'!$E$24:$E$500,\"Nonmonitoring Equipment Malfunctions\"))","v":""},{"$f":"IF($E60=\"\",\"\",SUMIFS('CMS Downtime Detail'!$K$24:$K$500,'CMS Downtime Detail'!$B$24:$B$500,$B60,'CMS Downtime Detail'!$C$24:$C$500,$C60,'CMS Downtime Detail'!$D$24:$D$500,$D60,'CMS Downtime Detail'!$E$24:$E$500,\"Quality Assurance/Quality Control Calibrations\"))","v":""},{"$f":"IF($E60=\"\",\"\",SUMIFS('CMS Downtime Detail'!$K$24:$K$500,'CMS Downtime Detail'!$B$24:$B$500,$B60,'CMS Downtime Detail'!$C$24:$C$500,$C60,'CMS Downtime Detail'!$D$24:$D$500,$D60,'CMS Downtime Detail'!$E$24:$E$500,\"Other Known Causes\"))","v":""},{"$f":"IF($E60=\"\",\"\",SUMIFS('CMS Downtime Detail'!$K$24:$K$500,'CMS Downtime Detail'!$B$24:$B$500,$B60,'CMS Downtime Detail'!$C$24:$C$500,$C60,'CMS Downtime Detail'!$D$24:$D$500,$D60,'CMS Downtime Detail'!$E$24:$E$500,\"Other Unknown Causes\"))","v":""}]
[null,{"$f":"IF(Lists!AQ39=\"\",\"\",Lists!AQ39)","v":""},{"$f":"IF(Lists!AR39=\"\",\"\",Lists!AR39)","v":""},{"$f":"IF(Lists!AS39=\"\",\"\",Lists!AS39)","v":""},{"$f":"IF(D61=\"\",\"\",VLOOKUP(B61&C61,Lists!$BA$2:$BD$78,4,FALSE))","v":""},"","",{"$f":"IF($E61=\"\",\"\",SUMIFS('CMS Downtime Detail'!$K$24:$K$500,'CMS Downtime Detail'!$B$24:$B$500,$B61,'CMS Downtime Detail'!$C$24:$C$500,$C61,'CMS Downtime Detail'!$D$24:$D$500,$D61,'CMS Downtime Detail'!$E$24:$E$500,\"Monitoring Equipment Malfunctions\"))","v":""},{"$f":"IF($E61=\"\",\"\",SUMIFS('CMS Downtime Detail'!$K$24:$K$500,'CMS Downtime Detail'!$B$24:$B$500,$B61,'CMS Downtime Detail'!$C$24:$C$500,$C61,'CMS Downtime Detail'!$D$24:$D$500,$D61,'CMS Downtime Detail'!$E$24:$E$500,\"Nonmonitoring Equipment Malfunctions\"))","v":""},{"$f":"IF($E61=\"\",\"\",SUMIFS('CMS Downtime Detail'!$K$24:$K$500,'CMS Downtime Detail'!$B$24:$B$500,$B61,'CMS Downtime Detail'!$C$24:$C$500,$C61,'CMS Downtime Detail'!$D$24:$D$500,$D61,'CMS Downtime Detail'!$E$24:$E$500,\"Quality Assurance/Quality Control Calibrations\"))","v":""},{"$f":"IF($E61=\"\",\"\",SUMIFS('CMS Downtime Detail'!$K$24:$K$500,'CMS Downtime Detail'!$B$24:$B$500,$B61,'CMS Downtime Detail'!$C$24:$C$500,$C61,'CMS Downtime Detail'!$D$24:$D$500,$D61,'CMS Downtime Detail'!$E$24:$E$500,\"Other Known Causes\"))","v":""},{"$f":"IF($E61=\"\",\"\",SUMIFS('CMS Downtime Detail'!$K$24:$K$500,'CMS Downtime Detail'!$B$24:$B$500,$B61,'CMS Downtime Detail'!$C$24:$C$500,$C61,'CMS Downtime Detail'!$D$24:$D$500,$D61,'CMS Downtime Detail'!$E$24:$E$500,\"Other Unknown Causes\"))","v":""}]
[null,{"$f":"IF(Lists!AQ40=\"\",\"\",Lists!AQ40)","v":""},{"$f":"IF(Lists!AR40=\"\",\"\",Lists!AR40)","v":""},{"$f":"IF(Lists!AS40=\"\",\"\",Lists!AS40)","v":""},{"$f":"IF(D62=\"\",\"\",VLOOKUP(B62&C62,Lists!$BA$2:$BD$78,4,FALSE))","v":""},"","",{"$f":"IF($E62=\"\",\"\",SUMIFS('CMS Downtime Detail'!$K$24:$K$500,'CMS Downtime Detail'!$B$24:$B$500,$B62,'CMS Downtime Detail'!$C$24:$C$500,$C62,'CMS Downtime Detail'!$D$24:$D$500,$D62,'CMS Downtime Detail'!$E$24:$E$500,\"Monitoring Equipment Malfunctions\"))","v":""},{"$f":"IF($E62=\"\",\"\",SUMIFS('CMS Downtime Detail'!$K$24:$K$500,'CMS Downtime Detail'!$B$24:$B$500,$B62,'CMS Downtime Detail'!$C$24:$C$500,$C62,'CMS Downtime Detail'!$D$24:$D$500,$D62,'CMS Downtime Detail'!$E$24:$E$500,\"Nonmonitoring Equipment Malfunctions\"))","v":""},{"$f":"IF($E62=\"\",\"\",SUMIFS('CMS Downtime Detail'!$K$24:$K$500,'CMS Downtime Detail'!$B$24:$B$500,$B62,'CMS Downtime Detail'!$C$24:$C$500,$C62,'CMS Downtime Detail'!$D$24:$D$500,$D62,'CMS Downtime Detail'!$E$24:$E$500,\"Quality Assurance/Quality Control Calibrations\"))","v":""},{"$f":"IF($E62=\"\",\"\",SUMIFS('CMS Downtime Detail'!$K$24:$K$500,'CMS Downtime Detail'!$B$24:$B$500,$B62,'CMS Downtime Detail'!$C$24:$C$500,$C62,'CMS Downtime Detail'!$D$24:$D$500,$D62,'CMS Downtime Detail'!$E$24:$E$500,\"Other Known Causes\"))","v":""},{"$f":"IF($E62=\"\",\"\",SUMIFS('CMS Downtime Detail'!$K$24:$K$500,'CMS Downtime Detail'!$B$24:$B$500,$B62,'CMS Downtime Detail'!$C$24:$C$500,$C62,'CMS Downtime Detail'!$D$24:$D$500,$D62,'CMS Downtime Detail'!$E$24:$E$500,\"Other Unknown Causes\"))","v":""}]
[null,{"$f":"IF(Lists!AQ41=\"\",\"\",Lists!AQ41)","v":""},{"$f":"IF(Lists!AR41=\"\",\"\",Lists!AR41)","v":""},{"$f":"IF(Lists!AS41=\"\",\"\",Lists!AS41)","v":""},{"$f":"IF(D63=\"\",\"\",VLOOKUP(B63&C63,Lists!$BA$2:$BD$78,4,FALSE))","v":""},"","",{"$f":"IF($E63=\"\",\"\",SUMIFS('CMS Downtime Detail'!$K$24:$K$500,'CMS Downtime Detail'!$B$24:$B$500,$B63,'CMS Downtime Detail'!$C$24:$C$500,$C63,'CMS Downtime Detail'!$D$24:$D$500,$D63,'CMS Downtime Detail'!$E$24:$E$500,\"Monitoring Equipment Malfunctions\"))","v":""},{"$f":"IF($E63=\"\",\"\",SUMIFS('CMS Downtime Detail'!$K$24:$K$500,'CMS Downtime Detail'!$B$24:$B$500,$B63,'CMS Downtime Detail'!$C$24:$C$500,$C63,'CMS Downtime Detail'!$D$24:$D$500,$D63,'CMS Downtime Detail'!$E$24:$E$500,\"Nonmonitoring Equipment Malfunctions\"))","v":""},{"$f":"IF($E63=\"\",\"\",SUMIFS('CMS Downtime Detail'!$K$24:$K$500,'CMS Downtime Detail'!$B$24:$B$500,$B63,'CMS Downtime Detail'!$C$24:$C$500,$C63,'CMS Downtime Detail'!$D$24:$D$500,$D63,'CMS Downtime Detail'!$E$24:$E$500,\"Quality Assurance/Quality Control Calibrations\"))","v":""},{"$f":"IF($E63=\"\",\"\",SUMIFS('CMS Downtime Detail'!$K$24:$K$500,'CMS Downtime Detail'!$B$24:$B$500,$B63,'CMS Downtime Detail'!$C$24:$C$500,$C63,'CMS Downtime Detail'!$D$24:$D$500,$D63,'CMS Downtime Detail'!$E$24:$E$500,\"Other Known Causes\"))","v":""},{"$f":"IF($E63=\"\",\"\",SUMIFS('CMS Downtime Detail'!$K$24:$K$500,'CMS Downtime Detail'!$B$24:$B$500,$B63,'CMS Downtime Detail'!$C$24:$C$500,$C63,'CMS Downtime Detail'!$D$24:$D$500,$D63,'CMS Downtime Detail'!$E$24:$E$500,\"Other Unknown Causes\"))","v":""}]
[null,{"$f":"IF(Lists!AQ42=\"\",\"\",Lists!AQ42)","v":""},{"$f":"IF(Lists!AR42=\"\",\"\",Lists!AR42)","v":""},{"$f":"IF(Lists!AS42=\"\",\"\",Lists!AS42)","v":""},{"$f":"IF(D64=\"\",\"\",VLOOKUP(B64&C64,Lists!$BA$2:$BD$78,4,FALSE))","v":""},"","",{"$f":"IF($E64=\"\",\"\",SUMIFS('CMS Downtime Detail'!$K$24:$K$500,'CMS Downtime Detail'!$B$24:$B$500,$B64,'CMS Downtime Detail'!$C$24:$C$500,$C64,'CMS Downtime Detail'!$D$24:$D$500,$D64,'CMS Downtime Detail'!$E$24:$E$500,\"Monitoring Equipment Malfunctions\"))","v":""},{"$f":"IF($E64=\"\",\"\",SUMIFS('CMS Downtime Detail'!$K$24:$K$500,'CMS Downtime Detail'!$B$24:$B$500,$B64,'CMS Downtime Detail'!$C$24:$C$500,$C64,'CMS Downtime Detail'!$D$24:$D$500,$D64,'CMS Downtime Detail'!$E$24:$E$500,\"Nonmonitoring Equipment Malfunctions\"))","v":""},{"$f":"IF($E64=\"\",\"\",SUMIFS('CMS Downtime Detail'!$K$24:$K$500,'CMS Downtime Detail'!$B$24:$B$500,$B64,'CMS Downtime Detail'!$C$24:$C$500,$C64,'CMS Downtime Detail'!$D$24:$D$500,$D64,'CMS Downtime Detail'!$E$24:$E$500,\"Quality Assurance/Quality Control Calibrations\"))","v":""},{"$f":"IF($E64=\"\",\"\",SUMIFS('CMS Downtime Detail'!$K$24:$K$500,'CMS Downtime Detail'!$B$24:$B$500,$B64,'CMS Downtime Detail'!$C$24:$C$500,$C64,'CMS Downtime Detail'!$D$24:$D$500,$D64,'CMS Downtime Detail'!$E$24:$E$500,\"Other Known Causes\"))","v":""},{"$f":"IF($E64=\"\",\"\",SUMIFS('CMS Downtime Detail'!$K$24:$K$500,'CMS Downtime Detail'!$B$24:$B$500,$B64,'CMS Downtime Detail'!$C$24:$C$500,$C64,'CMS Downtime Detail'!$D$24:$D$500,$D64,'CMS Downtime Detail'!$E$24:$E$500,\"Other Unknown Causes\"))","v":""}]
[null,{"$f":"IF(Lists!AQ43=\"\",\"\",Lists!AQ43)","v":""},{"$f":"IF(Lists!AR43=\"\",\"\",Lists!AR43)","v":""},{"$f":"IF(Lists!AS43=\"\",\"\",Lists!AS43)","v":""},{"$f":"IF(D65=\"\",\"\",VLOOKUP(B65&C65,Lists!$BA$2:$BD$78,4,FALSE))","v":""},"","",{"$f":"IF($E65=\"\",\"\",SUMIFS('CMS Downtime Detail'!$K$24:$K$500,'CMS Downtime Detail'!$B$24:$B$500,$B65,'CMS Downtime Detail'!$C$24:$C$500,$C65,'CMS Downtime Detail'!$D$24:$D$500,$D65,'CMS Downtime Detail'!$E$24:$E$500,\"Monitoring Equipment Malfunctions\"))","v":""},{"$f":"IF($E65=\"\",\"\",SUMIFS('CMS Downtime Detail'!$K$24:$K$500,'CMS Downtime Detail'!$B$24:$B$500,$B65,'CMS Downtime Detail'!$C$24:$C$500,$C65,'CMS Downtime Detail'!$D$24:$D$500,$D65,'CMS Downtime Detail'!$E$24:$E$500,\"Nonmonitoring Equipment Malfunctions\"))","v":""},{"$f":"IF($E65=\"\",\"\",SUMIFS('CMS Downtime Detail'!$K$24:$K$500,'CMS Downtime Detail'!$B$24:$B$500,$B65,'CMS Downtime Detail'!$C$24:$C$500,$C65,'CMS Downtime Detail'!$D$24:$D$500,$D65,'CMS Downtime Detail'!$E$24:$E$500,\"Quality Assurance/Quality Control Calibrations\"))","v":""},{"$f":"IF($E65=\"\",\"\",SUMIFS('CMS Downtime Detail'!$K$24:$K$500,'CMS Downtime Detail'!$B$24:$B$500,$B65,'CMS Downtime Detail'!$C$24:$C$500,$C65,'CMS Downtime Detail'!$D$24:$D$500,$D65,'CMS Downtime Detail'!$E$24:$E$500,\"Other Known Causes\"))","v":""},{"$f":"IF($E65=\"\",\"\",SUMIFS('CMS Downtime Detail'!$K$24:$K$500,'CMS Downtime Detail'!$B$24:$B$500,$B65,'CMS Downtime Detail'!$C$24:$C$500,$C65,'CMS Downtime Detail'!$D$24:$D$500,$D65,'CMS Downtime Detail'!$E$24:$E$500,\"Other Unknown Causes\"))","v":""}]
[null,{"$f":"IF(Lists!AQ44=\"\",\"\",Lists!AQ44)","v":""},{"$f":"IF(Lists!AR44=\"\",\"\",Lists!AR44)","v":""},{"$f":"IF(Lists!AS44=\"\",\"\",Lists!AS44)","v":""},{"$f":"IF(D66=\"\",\"\",VLOOKUP(B66&C66,Lists!$BA$2:$BD$78,4,FALSE))","v":""},"","",{"$f":"IF($E66=\"\",\"\",SUMIFS('CMS Downtime Detail'!$K$24:$K$500,'CMS Downtime Detail'!$B$24:$B$500,$B66,'CMS Downtime Detail'!$C$24:$C$500,$C66,'CMS Downtime Detail'!$D$24:$D$500,$D66,'CMS Downtime Detail'!$E$24:$E$500,\"Monitoring Equipment Malfunctions\"))","v":""},{"$f":"IF($E66=\"\",\"\",SUMIFS('CMS Downtime Detail'!$K$24:$K$500,'CMS Downtime Detail'!$B$24:$B$500,$B66,'CMS Downtime Detail'!$C$24:$C$500,$C66,'CMS Downtime Detail'!$D$24:$D$500,$D66,'CMS Downtime Detail'!$E$24:$E$500,\"Nonmonitoring Equipment Malfunctions\"))","v":""},{"$f":"IF($E66=\"\",\"\",SUMIFS('CMS Downtime Detail'!$K$24:$K$500,'CMS Downtime Detail'!$B$24:$B$500,$B66,'CMS Downtime Detail'!$C$24:$C$500,$C66,'CMS Downtime Detail'!$D$24:$D$500,$D66,'CMS Downtime Detail'!$E$24:$E$500,\"Quality Assurance/Quality Control Calibrations\"))","v":""},{"$f":"IF($E66=\"\",\"\",SUMIFS('CMS Downtime Detail'!$K$24:$K$500,'CMS Downtime Detail'!$B$24:$B$500,$B66,'CMS Downtime Detail'!$C$24:$C$500,$C66,'CMS Downtime Detail'!$D$24:$D$500,$D66,'CMS Downtime Detail'!$E$24:$E$500,\"Other Known Causes\"))","v":""},{"$f":"IF($E66=\"\",\"\",SUMIFS('CMS Downtime Detail'!$K$24:$K$500,'CMS Downtime Detail'!$B$24:$B$500,$B66,'CMS Downtime Detail'!$C$24:$C$500,$C66,'CMS Downtime Detail'!$D$24:$D$500,$D66,'CMS Downtime Detail'!$E$24:$E$500,\"Other Unknown Causes\"))","v":""}]
[null,{"$f":"IF(Lists!AQ45=\"\",\"\",Lists!AQ45)","v":""},{"$f":"IF(Lists!AR45=\"\",\"\",Lists!AR45)","v":""},{"$f":"IF(Lists!AS45=\"\",\"\",Lists!AS45)","v":""},{"$f":"IF(D67=\"\",\"\",VLOOKUP(B67&C67,Lists!$BA$2:$BD$78,4,FALSE))","v":""},"","",{"$f":"IF($E67=\"\",\"\",SUMIFS('CMS Downtime Detail'!$K$24:$K$500,'CMS Downtime Detail'!$B$24:$B$500,$B67,'CMS Downtime Detail'!$C$24:$C$500,$C67,'CMS Downtime Detail'!$D$24:$D$500,$D67,'CMS Downtime Detail'!$E$24:$E$500,\"Monitoring Equipment Malfunctions\"))","v":""},{"$f":"IF($E67=\"\",\"\",SUMIFS('CMS Downtime Detail'!$K$24:$K$500,'CMS Downtime Detail'!$B$24:$B$500,$B67,'CMS Downtime Detail'!$C$24:$C$500,$C67,'CMS Downtime Detail'!$D$24:$D$500,$D67,'CMS Downtime Detail'!$E$24:$E$500,\"Nonmonitoring Equipment Malfunctions\"))","v":""},{"$f":"IF($E67=\"\",\"\",SUMIFS('CMS Downtime Detail'!$K$24:$K$500,'CMS Downtime Detail'!$B$24:$B$500,$B67,'CMS Downtime Detail'!$C$24:$C$500,$C67,'CMS Downtime Detail'!$D$24:$D$500,$D67,'CMS Downtime Detail'!$E$24:$E$500,\"Quality Assurance/Quality Control Calibrations\"))","v":""},{"$f":"IF($E67=\"\",\"\",SUMIFS('CMS Downtime Detail'!$K$24:$K$500,'CMS Downtime Detail'!$B$24:$B$500,$B67,'CMS Downtime Detail'!$C$24:$C$500,$C67,'CMS Downtime Detail'!$D$24:$D$500,$D67,'CMS Downtime Detail'!$E$24:$E$500,\"Other Known Causes\"))","v":""},{"$f":"IF($E67=\"\",\"\",SUMIFS('CMS Downtime Detail'!$K$24:$K$500,'CMS Downtime Detail'!$B$24:$B$500,$B67,'CMS Downtime Detail'!$C$24:$C$500,$C67,'CMS Downtime Detail'!$D$24:$D$500,$D67,'CMS Downtime Detail'!$E$24:$E$500,\"Other Unknown Causes\"))","v":""}]
[null,{"$f":"IF(Lists!AQ46=\"\",\"\",Lists!AQ46)","v":""},{"$f":"IF(Lists!AR46=\"\",\"\",Lists!AR46)","v":""},{"$f":"IF(Lists!AS46=\"\",\"\",Lists!AS46)","v":""},{"$f":"IF(D68=\"\",\"\",VLOOKUP(B68&C68,Lists!$BA$2:$BD$78,4,FALSE))","v":""},"","",{"$f":"IF($E68=\"\",\"\",SUMIFS('CMS Downtime Detail'!$K$24:$K$500,'CMS Downtime Detail'!$B$24:$B$500,$B68,'CMS Downtime Detail'!$C$24:$C$500,$C68,'CMS Downtime Detail'!$D$24:$D$500,$D68,'CMS Downtime Detail'!$E$24:$E$500,\"Monitoring Equipment Malfunctions\"))","v":""},{"$f":"IF($E68=\"\",\"\",SUMIFS('CMS Downtime Detail'!$K$24:$K$500,'CMS Downtime Detail'!$B$24:$B$500,$B68,'CMS Downtime Detail'!$C$24:$C$500,$C68,'CMS Downtime Detail'!$D$24:$D$500,$D68,'CMS Downtime Detail'!$E$24:$E$500,\"Nonmonitoring Equipment Malfunctions\"))","v":""},{"$f":"IF($E68=\"\",\"\",SUMIFS('CMS Downtime Detail'!$K$24:$K$500,'CMS Downtime Detail'!$B$24:$B$500,$B68,'CMS Downtime Detail'!$C$24:$C$500,$C68,'CMS Downtime Detail'!$D$24:$D$500,$D68,'CMS Downtime Detail'!$E$24:$E$500,\"Quality Assurance/Quality Control Calibrations\"))","v":""},{"$f":"IF($E68=\"\",\"\",SUMIFS('CMS Downtime Detail'!$K$24:$K$500,'CMS Downtime Detail'!$B$24:$B$500,$B68,'CMS Downtime Detail'!$C$24:$C$500,$C68,'CMS Downtime Detail'!$D$24:$D$500,$D68,'CMS Downtime Detail'!$E$24:$E$500,\"Other Known Causes\"))","v":""},{"$f":"IF($E68=\"\",\"\",SUMIFS('CMS Downtime Detail'!$K$24:$K$500,'CMS Downtime Detail'!$B$24:$B$500,$B68,'CMS Downtime Detail'!$C$24:$C$500,$C68,'CMS Downtime Detail'!$D$24:$D$500,$D68,'CMS Downtime Detail'!$E$24:$E$500,\"Other Unknown Causes\"))","v":""}]
[null,{"$f":"IF(Lists!AQ47=\"\",\"\",Lists!AQ47)","v":""},{"$f":"IF(Lists!AR47=\"\",\"\",Lists!AR47)","v":""},{"$f":"IF(Lists!AS47=\"\",\"\",Lists!AS47)","v":""},{"$f":"IF(D69=\"\",\"\",VLOOKUP(B69&C69,Lists!$BA$2:$BD$78,4,FALSE))","v":""},"","",{"$f":"IF($E69=\"\",\"\",SUMIFS('CMS Downtime Detail'!$K$24:$K$500,'CMS Downtime Detail'!$B$24:$B$500,$B69,'CMS Downtime Detail'!$C$24:$C$500,$C69,'CMS Downtime Detail'!$D$24:$D$500,$D69,'CMS Downtime Detail'!$E$24:$E$500,\"Monitoring Equipment Malfunctions\"))","v":""},{"$f":"IF($E69=\"\",\"\",SUMIFS('CMS Downtime Detail'!$K$24:$K$500,'CMS Downtime Detail'!$B$24:$B$500,$B69,'CMS Downtime Detail'!$C$24:$C$500,$C69,'CMS Downtime Detail'!$D$24:$D$500,$D69,'CMS Downtime Detail'!$E$24:$E$500,\"Nonmonitoring Equipment Malfunctions\"))","v":""},{"$f":"IF($E69=\"\",\"\",SUMIFS('CMS Downtime Detail'!$K$24:$K$500,'CMS Downtime Detail'!$B$24:$B$500,$B69,'CMS Downtime Detail'!$C$24:$C$500,$C69,'CMS Downtime Detail'!$D$24:$D$500,$D69,'CMS Downtime Detail'!$E$24:$E$500,\"Quality Assurance/Quality Control Calibrations\"))","v":""},{"$f":"IF($E69=\"\",\"\",SUMIFS('CMS Downtime Detail'!$K$24:$K$500,'CMS Downtime Detail'!$B$24:$B$500,$B69,'CMS Downtime Detail'!$C$24:$C$500,$C69,'CMS Downtime Detail'!$D$24:$D$500,$D69,'CMS Downtime Detail'!$E$24:$E$500,\"Other Known Causes\"))","v":""},{"$f":"IF($E69=\"\",\"\",SUMIFS('CMS Downtime Detail'!$K$24:$K$500,'CMS Downtime Detail'!$B$24:$B$500,$B69,'CMS Downtime Detail'!$C$24:$C$500,$C69,'CMS Downtime Detail'!$D$24:$D$500,$D69,'CMS Downtime Detail'!$E$24:$E$500,\"Other Unknown Causes\"))","v":""}]
[null,{"$f":"IF(Lists!AQ48=\"\",\"\",Lists!AQ48)","v":""},{"$f":"IF(Lists!AR48=\"\",\"\",Lists!AR48)","v":""},{"$f":"IF(Lists!AS48=\"\",\"\",Lists!AS48)","v":""},{"$f":"IF(D70=\"\",\"\",VLOOKUP(B70&C70,Lists!$BA$2:$BD$78,4,FALSE))","v":""},"","",{"$f":"IF($E70=\"\",\"\",SUMIFS('CMS Downtime Detail'!$K$24:$K$500,'CMS Downtime Detail'!$B$24:$B$500,$B70,'CMS Downtime Detail'!$C$24:$C$500,$C70,'CMS Downtime Detail'!$D$24:$D$500,$D70,'CMS Downtime Detail'!$E$24:$E$500,\"Monitoring Equipment Malfunctions\"))","v":""},{"$f":"IF($E70=\"\",\"\",SUMIFS('CMS Downtime Detail'!$K$24:$K$500,'CMS Downtime Detail'!$B$24:$B$500,$B70,'CMS Downtime Detail'!$C$24:$C$500,$C70,'CMS Downtime Detail'!$D$24:$D$500,$D70,'CMS Downtime Detail'!$E$24:$E$500,\"Nonmonitoring Equipment Malfunctions\"))","v":""},{"$f":"IF($E70=\"\",\"\",SUMIFS('CMS Downtime Detail'!$K$24:$K$500,'CMS Downtime Detail'!$B$24:$B$500,$B70,'CMS Downtime Detail'!$C$24:$C$500,$C70,'CMS Downtime Detail'!$D$24:$D$500,$D70,'CMS Downtime Detail'!$E$24:$E$500,\"Quality Assurance/Quality Control Calibrations\"))","v":""},{"$f":"IF($E70=\"\",\"\",SUMIFS('CMS Downtime Detail'!$K$24:$K$500,'CMS Downtime Detail'!$B$24:$B$500,$B70,'CMS Downtime Detail'!$C$24:$C$500,$C70,'CMS Downtime Detail'!$D$24:$D$500,$D70,'CMS Downtime Detail'!$E$24:$E$500,\"Other Known Causes\"))","v":""},{"$f":"IF($E70=\"\",\"\",SUMIFS('CMS Downtime Detail'!$K$24:$K$500,'CMS Downtime Detail'!$B$24:$B$500,$B70,'CMS Downtime Detail'!$C$24:$C$500,$C70,'CMS Downtime Detail'!$D$24:$D$500,$D70,'CMS Downtime Detail'!$E$24:$E$500,\"Other Unknown Causes\"))","v":""}]
[null,{"$f":"IF(Lists!AQ49=\"\",\"\",Lists!AQ49)","v":""},{"$f":"IF(Lists!AR49=\"\",\"\",Lists!AR49)","v":""},{"$f":"IF(Lists!AS49=\"\",\"\",Lists!AS49)","v":""},{"$f":"IF(D71=\"\",\"\",VLOOKUP(B71&C71,Lists!$BA$2:$BD$78,4,FALSE))","v":""},"","",{"$f":"IF($E71=\"\",\"\",SUMIFS('CMS Downtime Detail'!$K$24:$K$500,'CMS Downtime Detail'!$B$24:$B$500,$B71,'CMS Downtime Detail'!$C$24:$C$500,$C71,'CMS Downtime Detail'!$D$24:$D$500,$D71,'CMS Downtime Detail'!$E$24:$E$500,\"Monitoring Equipment Malfunctions\"))","v":""},{"$f":"IF($E71=\"\",\"\",SUMIFS('CMS Downtime Detail'!$K$24:$K$500,'CMS Downtime Detail'!$B$24:$B$500,$B71,'CMS Downtime Detail'!$C$24:$C$500,$C71,'CMS Downtime Detail'!$D$24:$D$500,$D71,'CMS Downtime Detail'!$E$24:$E$500,\"Nonmonitoring Equipment Malfunctions\"))","v":""},{"$f":"IF($E71=\"\",\"\",SUMIFS('CMS Downtime Detail'!$K$24:$K$500,'CMS Downtime Detail'!$B$24:$B$500,$B71,'CMS Downtime Detail'!$C$24:$C$500,$C71,'CMS Downtime Detail'!$D$24:$D$500,$D71,'CMS Downtime Detail'!$E$24:$E$500,\"Quality Assurance/Quality Control Calibrations\"))","v":""},{"$f":"IF($E71=\"\",\"\",SUMIFS('CMS Downtime Detail'!$K$24:$K$500,'CMS Downtime Detail'!$B$24:$B$500,$B71,'CMS Downtime Detail'!$C$24:$C$500,$C71,'CMS Downtime Detail'!$D$24:$D$500,$D71,'CMS Downtime Detail'!$E$24:$E$500,\"Other Known Causes\"))","v":""},{"$f":"IF($E71=\"\",\"\",SUMIFS('CMS Downtime Detail'!$K$24:$K$500,'CMS Downtime Detail'!$B$24:$B$500,$B71,'CMS Downtime Detail'!$C$24:$C$500,$C71,'CMS Downtime Detail'!$D$24:$D$500,$D71,'CMS Downtime Detail'!$E$24:$E$500,\"Other Unknown Causes\"))","v":""}]
[null,{"$f":"IF(Lists!AQ50=\"\",\"\",Lists!AQ50)","v":""},{"$f":"IF(Lists!AR50=\"\",\"\",Lists!AR50)","v":""},{"$f":"IF(Lists!AS50=\"\",\"\",Lists!AS50)","v":""},{"$f":"IF(D72=\"\",\"\",VLOOKUP(B72&C72,Lists!$BA$2:$BD$78,4,FALSE))","v":""},"","",{"$f":"IF($E72=\"\",\"\",SUMIFS('CMS Downtime Detail'!$K$24:$K$500,'CMS Downtime Detail'!$B$24:$B$500,$B72,'CMS Downtime Detail'!$C$24:$C$500,$C72,'CMS Downtime Detail'!$D$24:$D$500,$D72,'CMS Downtime Detail'!$E$24:$E$500,\"Monitoring Equipment Malfunctions\"))","v":""},{"$f":"IF($E72=\"\",\"\",SUMIFS('CMS Downtime Detail'!$K$24:$K$500,'CMS Downtime Detail'!$B$24:$B$500,$B72,'CMS Downtime Detail'!$C$24:$C$500,$C72,'CMS Downtime Detail'!$D$24:$D$500,$D72,'CMS Downtime Detail'!$E$24:$E$500,\"Nonmonitoring Equipment Malfunctions\"))","v":""},{"$f":"IF($E72=\"\",\"\",SUMIFS('CMS Downtime Detail'!$K$24:$K$500,'CMS Downtime Detail'!$B$24:$B$500,$B72,'CMS Downtime Detail'!$C$24:$C$500,$C72,'CMS Downtime Detail'!$D$24:$D$500,$D72,'CMS Downtime Detail'!$E$24:$E$500,\"Quality Assurance/Quality Control Calibrations\"))","v":""},{"$f":"IF($E72=\"\",\"\",SUMIFS('CMS Downtime Detail'!$K$24:$K$500,'CMS Downtime Detail'!$B$24:$B$500,$B72,'CMS Downtime Detail'!$C$24:$C$500,$C72,'CMS Downtime Detail'!$D$24:$D$500,$D72,'CMS Downtime Detail'!$E$24:$E$500,\"Other Known Causes\"))","v":""},{"$f":"IF($E72=\"\",\"\",SUMIFS('CMS Downtime Detail'!$K$24:$K$500,'CMS Downtime Detail'!$B$24:$B$500,$B72,'CMS Downtime Detail'!$C$24:$C$500,$C72,'CMS Downtime Detail'!$D$24:$D$500,$D72,'CMS Downtime Detail'!$E$24:$E$500,\"Other Unknown Causes\"))","v":""}]
[null,{"$f":"IF(Lists!AQ51=\"\",\"\",Lists!AQ51)","v":""},{"$f":"IF(Lists!AR51=\"\",\"\",Lists!AR51)","v":""},{"$f":"IF(Lists!AS51=\"\",\"\",Lists!AS51)","v":""},{"$f":"IF(D73=\"\",\"\",VLOOKUP(B73&C73,Lists!$BA$2:$BD$78,4,FALSE))","v":""},"","",{"$f":"IF($E73=\"\",\"\",SUMIFS('CMS Downtime Detail'!$K$24:$K$500,'CMS Downtime Detail'!$B$24:$B$500,$B73,'CMS Downtime Detail'!$C$24:$C$500,$C73,'CMS Downtime Detail'!$D$24:$D$500,$D73,'CMS Downtime Detail'!$E$24:$E$500,\"Monitoring Equipment Malfunctions\"))","v":""},{"$f":"IF($E73=\"\",\"\",SUMIFS('CMS Downtime Detail'!$K$24:$K$500,'CMS Downtime Detail'!$B$24:$B$500,$B73,'CMS Downtime Detail'!$C$24:$C$500,$C73,'CMS Downtime Detail'!$D$24:$D$500,$D73,'CMS Downtime Detail'!$E$24:$E$500,\"Nonmonitoring Equipment Malfunctions\"))","v":""},{"$f":"IF($E73=\"\",\"\",SUMIFS('CMS Downtime Detail'!$K$24:$K$500,'CMS Downtime Detail'!$B$24:$B$500,$B73,'CMS Downtime Detail'!$C$24:$C$500,$C73,'CMS Downtime Detail'!$D$24:$D$500,$D73,'CMS Downtime Detail'!$E$24:$E$500,\"Quality Assurance/Quality Control Calibrations\"))","v":""},{"$f":"IF($E73=\"\",\"\",SUMIFS('CMS Downtime Detail'!$K$24:$K$500,'CMS Downtime Detail'!$B$24:$B$500,$B73,'CMS Downtime Detail'!$C$24:$C$500,$C73,'CMS Downtime Detail'!$D$24:$D$500,$D73,'CMS Downtime Detail'!$E$24:$E$500,\"Other Known Causes\"))","v":""},{"$f":"IF($E73=\"\",\"\",SUMIFS('CMS Downtime Detail'!$K$24:$K$500,'CMS Downtime Detail'!$B$24:$B$500,$B73,'CMS Downtime Detail'!$C$24:$C$500,$C73,'CMS Downtime Detail'!$D$24:$D$500,$D73,'CMS Downtime Detail'!$E$24:$E$500,\"Other Unknown Causes\"))","v":""}]
[null,{"$f":"IF(Lists!AQ52=\"\",\"\",Lists!AQ52)","v":""},{"$f":"IF(Lists!AR52=\"\",\"\",Lists!AR52)","v":""},{"$f":"IF(Lists!AS52=\"\",\"\",Lists!AS52)","v":""},{"$f":"IF(D74=\"\",\"\",VLOOKUP(B74&C74,Lists!$BA$2:$BD$78,4,FALSE))","v":""},"","",{"$f":"IF($E74=\"\",\"\",SUMIFS('CMS Downtime Detail'!$K$24:$K$500,'CMS Downtime Detail'!$B$24:$B$500,$B74,'CMS Downtime Detail'!$C$24:$C$500,$C74,'CMS Downtime Detail'!$D$24:$D$500,$D74,'CMS Downtime Detail'!$E$24:$E$500,\"Monitoring Equipment Malfunctions\"))","v":""},{"$f":"IF($E74=\"\",\"\",SUMIFS('CMS Downtime Detail'!$K$24:$K$500,'CMS Downtime Detail'!$B$24:$B$500,$B74,'CMS Downtime Detail'!$C$24:$C$500,$C74,'CMS Downtime Detail'!$D$24:$D$500,$D74,'CMS Downtime Detail'!$E$24:$E$500,\"Nonmonitoring Equipment Malfunctions\"))","v":""},{"$f":"IF($E74=\"\",\"\",SUMIFS('CMS Downtime Detail'!$K$24:$K$500,'CMS Downtime Detail'!$B$24:$B$500,$B74,'CMS Downtime Detail'!$C$24:$C$500,$C74,'CMS Downtime Detail'!$D$24:$D$500,$D74,'CMS Downtime Detail'!$E$24:$E$500,\"Quality Assurance/Quality Control Calibrations\"))","v":""},{"$f":"IF($E74=\"\",\"\",SUMIFS('CMS Downtime Detail'!$K$24:$K$500,'CMS Downtime Detail'!$B$24:$B$500,$B74,'CMS Downtime Detail'!$C$24:$C$500,$C74,'CMS Downtime Detail'!$D$24:$D$500,$D74,'CMS Downtime Detail'!$E$24:$E$500,\"Other Known Causes\"))","v":""},{"$f":"IF($E74=\"\",\"\",SUMIFS('CMS Downtime Detail'!$K$24:$K$500,'CMS Downtime Detail'!$B$24:$B$500,$B74,'CMS Downtime Detail'!$C$24:$C$500,$C74,'CMS Downtime Detail'!$D$24:$D$500,$D74,'CMS Downtime Detail'!$E$24:$E$500,\"Other Unknown Causes\"))","v":""}]
[null,{"$f":"IF(Lists!AQ53=\"\",\"\",Lists!AQ53)","v":""},{"$f":"IF(Lists!AR53=\"\",\"\",Lists!AR53)","v":""},{"$f":"IF(Lists!AS53=\"\",\"\",Lists!AS53)","v":""},{"$f":"IF(D75=\"\",\"\",VLOOKUP(B75&C75,Lists!$BA$2:$BD$78,4,FALSE))","v":""},"","",{"$f":"IF($E75=\"\",\"\",SUMIFS('CMS Downtime Detail'!$K$24:$K$500,'CMS Downtime Detail'!$B$24:$B$500,$B75,'CMS Downtime Detail'!$C$24:$C$500,$C75,'CMS Downtime Detail'!$D$24:$D$500,$D75,'CMS Downtime Detail'!$E$24:$E$500,\"Monitoring Equipment Malfunctions\"))","v":""},{"$f":"IF($E75=\"\",\"\",SUMIFS('CMS Downtime Detail'!$K$24:$K$500,'CMS Downtime Detail'!$B$24:$B$500,$B75,'CMS Downtime Detail'!$C$24:$C$500,$C75,'CMS Downtime Detail'!$D$24:$D$500,$D75,'CMS Downtime Detail'!$E$24:$E$500,\"Nonmonitoring Equipment Malfunctions\"))","v":""},{"$f":"IF($E75=\"\",\"\",SUMIFS('CMS Downtime Detail'!$K$24:$K$500,'CMS Downtime Detail'!$B$24:$B$500,$B75,'CMS Downtime Detail'!$C$24:$C$500,$C75,'CMS Downtime Detail'!$D$24:$D$500,$D75,'CMS Downtime Detail'!$E$24:$E$500,\"Quality Assurance/Quality Control Calibrations\"))","v":""},{"$f":"IF($E75=\"\",\"\",SUMIFS('CMS Downtime Detail'!$K$24:$K$500,'CMS Downtime Detail'!$B$24:$B$500,$B75,'CMS Downtime Detail'!$C$24:$C$500,$C75,'CMS Downtime Detail'!$D$24:$D$500,$D75,'CMS Downtime Detail'!$E$24:$E$500,\"Other Known Causes\"))","v":""},{"$f":"IF($E75=\"\",\"\",SUMIFS('CMS Downtime Detail'!$K$24:$K$500,'CMS Downtime Detail'!$B$24:$B$500,$B75,'CMS Downtime Detail'!$C$24:$C$500,$C75,'CMS Downtime Detail'!$D$24:$D$500,$D75,'CMS Downtime Detail'!$E$24:$E$500,\"Other Unknown Causes\"))","v":""}]
[null,{"$f":"IF(Lists!AQ54=\"\",\"\",Lists!AQ54)","v":""},{"$f":"IF(Lists!AR54=\"\",\"\",Lists!AR54)","v":""},{"$f":"IF(Lists!AS54=\"\",\"\",Lists!AS54)","v":""},{"$f":"IF(D76=\"\",\"\",VLOOKUP(B76&C76,Lists!$BA$2:$BD$78,4,FALSE))","v":""},"","",{"$f":"IF($E76=\"\",\"\",SUMIFS('CMS Downtime Detail'!$K$24:$K$500,'CMS Downtime Detail'!$B$24:$B$500,$B76,'CMS Downtime Detail'!$C$24:$C$500,$C76,'CMS Downtime Detail'!$D$24:$D$500,$D76,'CMS Downtime Detail'!$E$24:$E$500,\"Monitoring Equipment Malfunctions\"))","v":""},{"$f":"IF($E76=\"\",\"\",SUMIFS('CMS Downtime Detail'!$K$24:$K$500,'CMS Downtime Detail'!$B$24:$B$500,$B76,'CMS Downtime Detail'!$C$24:$C$500,$C76,'CMS Downtime Detail'!$D$24:$D$500,$D76,'CMS Downtime Detail'!$E$24:$E$500,\"Nonmonitoring Equipment Malfunctions\"))","v":""},{"$f":"IF($E76=\"\",\"\",SUMIFS('CMS Downtime Detail'!$K$24:$K$500,'CMS Downtime Detail'!$B$24:$B$500,$B76,'CMS Downtime Detail'!$C$24:$C$500,$C76,'CMS Downtime Detail'!$D$24:$D$500,$D76,'CMS Downtime Detail'!$E$24:$E$500,\"Quality Assurance/Quality Control Calibrations\"))","v":""},{"$f":"IF($E76=\"\",\"\",SUMIFS('CMS Downtime Detail'!$K$24:$K$500,'CMS Downtime Detail'!$B$24:$B$500,$B76,'CMS Downtime Detail'!$C$24:$C$500,$C76,'CMS Downtime Detail'!$D$24:$D$500,$D76,'CMS Downtime Detail'!$E$24:$E$500,\"Other Known Causes\"))","v":""},{"$f":"IF($E76=\"\",\"\",SUMIFS('CMS Downtime Detail'!$K$24:$K$500,'CMS Downtime Detail'!$B$24:$B$500,$B76,'CMS Downtime Detail'!$C$24:$C$500,$C76,'CMS Downtime Detail'!$D$24:$D$500,$D76,'CMS Downtime Detail'!$E$24:$E$500,\"Other Unknown Causes\"))","v":""}]
[null,{"$f":"IF(Lists!AQ55=\"\",\"\",Lists!AQ55)","v":""},{"$f":"IF(Lists!AR55=\"\",\"\",Lists!AR55)","v":""},{"$f":"IF(Lists!AS55=\"\",\"\",Lists!AS55)","v":""},{"$f":"IF(D77=\"\",\"\",VLOOKUP(B77&C77,Lists!$BA$2:$BD$78,4,FALSE))","v":""},"","",{"$f":"IF($E77=\"\",\"\",SUMIFS('CMS Downtime Detail'!$K$24:$K$500,'CMS Downtime Detail'!$B$24:$B$500,$B77,'CMS Downtime Detail'!$C$24:$C$500,$C77,'CMS Downtime Detail'!$D$24:$D$500,$D77,'CMS Downtime Detail'!$E$24:$E$500,\"Monitoring Equipment Malfunctions\"))","v":""},{"$f":"IF($E77=\"\",\"\",SUMIFS('CMS Downtime Detail'!$K$24:$K$500,'CMS Downtime Detail'!$B$24:$B$500,$B77,'CMS Downtime Detail'!$C$24:$C$500,$C77,'CMS Downtime Detail'!$D$24:$D$500,$D77,'CMS Downtime Detail'!$E$24:$E$500,\"Nonmonitoring Equipment Malfunctions\"))","v":""},{"$f":"IF($E77=\"\",\"\",SUMIFS('CMS Downtime Detail'!$K$24:$K$500,'CMS Downtime Detail'!$B$24:$B$500,$B77,'CMS Downtime Detail'!$C$24:$C$500,$C77,'CMS Downtime Detail'!$D$24:$D$500,$D77,'CMS Downtime Detail'!$E$24:$E$500,\"Quality Assurance/Quality Control Calibrations\"))","v":""},{"$f":"IF($E77=\"\",\"\",SUMIFS('CMS Downtime Detail'!$K$24:$K$500,'CMS Downtime Detail'!$B$24:$B$500,$B77,'CMS Downtime Detail'!$C$24:$C$500,$C77,'CMS Downtime Detail'!$D$24:$D$500,$D77,'CMS Downtime Detail'!$E$24:$E$500,\"Other Known Causes\"))","v":""},{"$f":"IF($E77=\"\",\"\",SUMIFS('CMS Downtime Detail'!$K$24:$K$500,'CMS Downtime Detail'!$B$24:$B$500,$B77,'CMS Downtime Detail'!$C$24:$C$500,$C77,'CMS Downtime Detail'!$D$24:$D$500,$D77,'CMS Downtime Detail'!$E$24:$E$500,\"Other Unknown Causes\"))","v":""}]
[null,{"$f":"IF(Lists!AQ56=\"\",\"\",Lists!AQ56)","v":""},{"$f":"IF(Lists!AR56=\"\",\"\",Lists!AR56)","v":""},{"$f":"IF(Lists!AS56=\"\",\"\",Lists!AS56)","v":""},{"$f":"IF(D78=\"\",\"\",VLOOKUP(B78&C78,Lists!$BA$2:$BD$78,4,FALSE))","v":""},"","",{"$f":"IF($E78=\"\",\"\",SUMIFS('CMS Downtime Detail'!$K$24:$K$500,'CMS Downtime Detail'!$B$24:$B$500,$B78,'CMS Downtime Detail'!$C$24:$C$500,$C78,'CMS Downtime Detail'!$D$24:$D$500,$D78,'CMS Downtime Detail'!$E$24:$E$500,\"Monitoring Equipment Malfunctions\"))","v":""},{"$f":"IF($E78=\"\",\"\",SUMIFS('CMS Downtime Detail'!$K$24:$K$500,'CMS Downtime Detail'!$B$24:$B$500,$B78,'CMS Downtime Detail'!$C$24:$C$500,$C78,'CMS Downtime Detail'!$D$24:$D$500,$D78,'CMS Downtime Detail'!$E$24:$E$500,\"Nonmonitoring Equipment Malfunctions\"))","v":""},{"$f":"IF($E78=\"\",\"\",SUMIFS('CMS Downtime Detail'!$K$24:$K$500,'CMS Downtime Detail'!$B$24:$B$500,$B78,'CMS Downtime Detail'!$C$24:$C$500,$C78,'CMS Downtime Detail'!$D$24:$D$500,$D78,'CMS Downtime Detail'!$E$24:$E$500,\"Quality Assurance/Quality Control Calibrations\"))","v":""},{"$f":"IF($E78=\"\",\"\",SUMIFS('CMS Downtime Detail'!$K$24:$K$500,'CMS Downtime Detail'!$B$24:$B$500,$B78,'CMS Downtime Detail'!$C$24:$C$500,$C78,'CMS Downtime Detail'!$D$24:$D$500,$D78,'CMS Downtime Detail'!$E$24:$E$500,\"Other Known Causes\"))","v":""},{"$f":"IF($E78=\"\",\"\",SUMIFS('CMS Downtime Detail'!$K$24:$K$500,'CMS Downtime Detail'!$B$24:$B$500,$B78,'CMS Downtime Detail'!$C$24:$C$500,$C78,'CMS Downtime Detail'!$D$24:$D$500,$D78,'CMS Downtime Detail'!$E$24:$E$500,\"Other Unknown Causes\"))","v":""}]
[null,{"$f":"IF(Lists!AQ57=\"\",\"\",Lists!AQ57)","v":""},{"$f":"IF(Lists!AR57=\"\",\"\",Lists!AR57)","v":""},{"$f":"IF(Lists!AS57=\"\",\"\",Lists!AS57)","v":""},{"$f":"IF(D79=\"\",\"\",VLOOKUP(B79&C79,Lists!$BA$2:$BD$78,4,FALSE))","v":""},"","",{"$f":"IF($E79=\"\",\"\",SUMIFS('CMS Downtime Detail'!$K$24:$K$500,'CMS Downtime Detail'!$B$24:$B$500,$B79,'CMS Downtime Detail'!$C$24:$C$500,$C79,'CMS Downtime Detail'!$D$24:$D$500,$D79,'CMS Downtime Detail'!$E$24:$E$500,\"Monitoring Equipment Malfunctions\"))","v":""},{"$f":"IF($E79=\"\",\"\",SUMIFS('CMS Downtime Detail'!$K$24:$K$500,'CMS Downtime Detail'!$B$24:$B$500,$B79,'CMS Downtime Detail'!$C$24:$C$500,$C79,'CMS Downtime Detail'!$D$24:$D$500,$D79,'CMS Downtime Detail'!$E$24:$E$500,\"Nonmonitoring Equipment Malfunctions\"))","v":""},{"$f":"IF($E79=\"\",\"\",SUMIFS('CMS Downtime Detail'!$K$24:$K$500,'CMS Downtime Detail'!$B$24:$B$500,$B79,'CMS Downtime Detail'!$C$24:$C$500,$C79,'CMS Downtime Detail'!$D$24:$D$500,$D79,'CMS Downtime Detail'!$E$24:$E$500,\"Quality Assurance/Quality Control Calibrations\"))","v":""},{"$f":"IF($E79=\"\",\"\",SUMIFS('CMS Downtime Detail'!$K$24:$K$500,'CMS Downtime Detail'!$B$24:$B$500,$B79,'CMS Downtime Detail'!$C$24:$C$500,$C79,'CMS Downtime Detail'!$D$24:$D$500,$D79,'CMS Downtime Detail'!$E$24:$E$500,\"Other Known Causes\"))","v":""},{"$f":"IF($E79=\"\",\"\",SUMIFS('CMS Downtime Detail'!$K$24:$K$500,'CMS Downtime Detail'!$B$24:$B$500,$B79,'CMS Downtime Detail'!$C$24:$C$500,$C79,'CMS Downtime Detail'!$D$24:$D$500,$D79,'CMS Downtime Detail'!$E$24:$E$500,\"Other Unknown Causes\"))","v":""}]
[null,{"$f":"IF(Lists!AQ58=\"\",\"\",Lists!AQ58)","v":""},{"$f":"IF(Lists!AR58=\"\",\"\",Lists!AR58)","v":""},{"$f":"IF(Lists!AS58=\"\",\"\",Lists!AS58)","v":""},{"$f":"IF(D80=\"\",\"\",VLOOKUP(B80&C80,Lists!$BA$2:$BD$78,4,FALSE))","v":""},"","",{"$f":"IF($E80=\"\",\"\",SUMIFS('CMS Downtime Detail'!$K$24:$K$500,'CMS Downtime Detail'!$B$24:$B$500,$B80,'CMS Downtime Detail'!$C$24:$C$500,$C80,'CMS Downtime Detail'!$D$24:$D$500,$D80,'CMS Downtime Detail'!$E$24:$E$500,\"Monitoring Equipment Malfunctions\"))","v":""},{"$f":"IF($E80=\"\",\"\",SUMIFS('CMS Downtime Detail'!$K$24:$K$500,'CMS Downtime Detail'!$B$24:$B$500,$B80,'CMS Downtime Detail'!$C$24:$C$500,$C80,'CMS Downtime Detail'!$D$24:$D$500,$D80,'CMS Downtime Detail'!$E$24:$E$500,\"Nonmonitoring Equipment Malfunctions\"))","v":""},{"$f":"IF($E80=\"\",\"\",SUMIFS('CMS Downtime Detail'!$K$24:$K$500,'CMS Downtime Detail'!$B$24:$B$500,$B80,'CMS Downtime Detail'!$C$24:$C$500,$C80,'CMS Downtime Detail'!$D$24:$D$500,$D80,'CMS Downtime Detail'!$E$24:$E$500,\"Quality Assurance/Quality Control Calibrations\"))","v":""},{"$f":"IF($E80=\"\",\"\",SUMIFS('CMS Downtime Detail'!$K$24:$K$500,'CMS Downtime Detail'!$B$24:$B$500,$B80,'CMS Downtime Detail'!$C$24:$C$500,$C80,'CMS Downtime Detail'!$D$24:$D$500,$D80,'CMS Downtime Detail'!$E$24:$E$500,\"Other Known Causes\"))","v":""},{"$f":"IF($E80=\"\",\"\",SUMIFS('CMS Downtime Detail'!$K$24:$K$500,'CMS Downtime Detail'!$B$24:$B$500,$B80,'CMS Downtime Detail'!$C$24:$C$500,$C80,'CMS Downtime Detail'!$D$24:$D$500,$D80,'CMS Downtime Detail'!$E$24:$E$500,\"Other Unknown Causes\"))","v":""}]
[null,{"$f":"IF(Lists!AQ59=\"\",\"\",Lists!AQ59)","v":""},{"$f":"IF(Lists!AR59=\"\",\"\",Lists!AR59)","v":""},{"$f":"IF(Lists!AS59=\"\",\"\",Lists!AS59)","v":""},{"$f":"IF(D81=\"\",\"\",VLOOKUP(B81&C81,Lists!$BA$2:$BD$78,4,FALSE))","v":""},"","",{"$f":"IF($E81=\"\",\"\",SUMIFS('CMS Downtime Detail'!$K$24:$K$500,'CMS Downtime Detail'!$B$24:$B$500,$B81,'CMS Downtime Detail'!$C$24:$C$500,$C81,'CMS Downtime Detail'!$D$24:$D$500,$D81,'CMS Downtime Detail'!$E$24:$E$500,\"Monitoring Equipment Malfunctions\"))","v":""},{"$f":"IF($E81=\"\",\"\",SUMIFS('CMS Downtime Detail'!$K$24:$K$500,'CMS Downtime Detail'!$B$24:$B$500,$B81,'CMS Downtime Detail'!$C$24:$C$500,$C81,'CMS Downtime Detail'!$D$24:$D$500,$D81,'CMS Downtime Detail'!$E$24:$E$500,\"Nonmonitoring Equipment Malfunctions\"))","v":""},{"$f":"IF($E81=\"\",\"\",SUMIFS('CMS Downtime Detail'!$K$24:$K$500,'CMS Downtime Detail'!$B$24:$B$500,$B81,'CMS Downtime Detail'!$C$24:$C$500,$C81,'CMS Downtime Detail'!$D$24:$D$500,$D81,'CMS Downtime Detail'!$E$24:$E$500,\"Quality Assurance/Quality Control Calibrations\"))","v":""},{"$f":"IF($E81=\"\",\"\",SUMIFS('CMS Downtime Detail'!$K$24:$K$500,'CMS Downtime Detail'!$B$24:$B$500,$B81,'CMS Downtime Detail'!$C$24:$C$500,$C81,'CMS Downtime Detail'!$D$24:$D$500,$D81,'CMS Downtime Detail'!$E$24:$E$500,\"Other Known Causes\"))","v":""},{"$f":"IF($E81=\"\",\"\",SUMIFS('CMS Downtime Detail'!$K$24:$K$500,'CMS Downtime Detail'!$B$24:$B$500,$B81,'CMS Downtime Detail'!$C$24:$C$500,$C81,'CMS Downtime Detail'!$D$24:$D$500,$D81,'CMS Downtime Detail'!$E$24:$E$500,\"Other Unknown Causes\"))","v":""}]
[null,{"$f":"IF(Lists!AQ60=\"\",\"\",Lists!AQ60)","v":""},{"$f":"IF(Lists!AR60=\"\",\"\",Lists!AR60)","v":""},{"$f":"IF(Lists!AS60=\"\",\"\",Lists!AS60)","v":""},{"$f":"IF(D82=\"\",\"\",VLOOKUP(B82&C82,Lists!$BA$2:$BD$78,4,FALSE))","v":""},"","",{"$f":"IF($E82=\"\",\"\",SUMIFS('CMS Downtime Detail'!$K$24:$K$500,'CMS Downtime Detail'!$B$24:$B$500,$B82,'CMS Downtime Detail'!$C$24:$C$500,$C82,'CMS Downtime Detail'!$D$24:$D$500,$D82,'CMS Downtime Detail'!$E$24:$E$500,\"Monitoring Equipment Malfunctions\"))","v":""},{"$f":"IF($E82=\"\",\"\",SUMIFS('CMS Downtime Detail'!$K$24:$K$500,'CMS Downtime Detail'!$B$24:$B$500,$B82,'CMS Downtime Detail'!$C$24:$C$500,$C82,'CMS Downtime Detail'!$D$24:$D$500,$D82,'CMS Downtime Detail'!$E$24:$E$500,\"Nonmonitoring Equipment Malfunctions\"))","v":""},{"$f":"IF($E82=\"\",\"\",SUMIFS('CMS Downtime Detail'!$K$24:$K$500,'CMS Downtime Detail'!$B$24:$B$500,$B82,'CMS Downtime Detail'!$C$24:$C$500,$C82,'CMS Downtime Detail'!$D$24:$D$500,$D82,'CMS Downtime Detail'!$E$24:$E$500,\"Quality Assurance/Quality Control Calibrations\"))","v":""},{"$f":"IF($E82=\"\",\"\",SUMIFS('CMS Downtime Detail'!$K$24:$K$500,'CMS Downtime Detail'!$B$24:$B$500,$B82,'CMS Downtime Detail'!$C$24:$C$500,$C82,'CMS Downtime Detail'!$D$24:$D$500,$D82,'CMS Downtime Detail'!$E$24:$E$500,\"Other Known Causes\"))","v":""},{"$f":"IF($E82=\"\",\"\",SUMIFS('CMS Downtime Detail'!$K$24:$K$500,'CMS Downtime Detail'!$B$24:$B$500,$B82,'CMS Downtime Detail'!$C$24:$C$500,$C82,'CMS Downtime Detail'!$D$24:$D$500,$D82,'CMS Downtime Detail'!$E$24:$E$500,\"Other Unknown Causes\"))","v":""}]
[null,{"$f":"IF(Lists!AQ61=\"\",\"\",Lists!AQ61)","v":""},{"$f":"IF(Lists!AR61=\"\",\"\",Lists!AR61)","v":""},{"$f":"IF(Lists!AS61=\"\",\"\",Lists!AS61)","v":""},{"$f":"IF(D83=\"\",\"\",VLOOKUP(B83&C83,Lists!$BA$2:$BD$78,4,FALSE))","v":""},"","",{"$f":"IF($E83=\"\",\"\",SUMIFS('CMS Downtime Detail'!$K$24:$K$500,'CMS Downtime Detail'!$B$24:$B$500,$B83,'CMS Downtime Detail'!$C$24:$C$500,$C83,'CMS Downtime Detail'!$D$24:$D$500,$D83,'CMS Downtime Detail'!$E$24:$E$500,\"Monitoring Equipment Malfunctions\"))","v":""},{"$f":"IF($E83=\"\",\"\",SUMIFS('CMS Downtime Detail'!$K$24:$K$500,'CMS Downtime Detail'!$B$24:$B$500,$B83,'CMS Downtime Detail'!$C$24:$C$500,$C83,'CMS Downtime Detail'!$D$24:$D$500,$D83,'CMS Downtime Detail'!$E$24:$E$500,\"Nonmonitoring Equipment Malfunctions\"))","v":""},{"$f":"IF($E83=\"\",\"\",SUMIFS('CMS Downtime Detail'!$K$24:$K$500,'CMS Downtime Detail'!$B$24:$B$500,$B83,'CMS Downtime Detail'!$C$24:$C$500,$C83,'CMS Downtime Detail'!$D$24:$D$500,$D83,'CMS Downtime Detail'!$E$24:$E$500,\"Quality Assurance/Quality Control Calibrations\"))","v":""},{"$f":"IF($E83=\"\",\"\",SUMIFS('CMS Downtime Detail'!$K$24:$K$500,'CMS Downtime Detail'!$B$24:$B$500,$B83,'CMS Downtime Detail'!$C$24:$C$500,$C83,'CMS Downtime Detail'!$D$24:$D$500,$D83,'CMS Downtime Detail'!$E$24:$E$500,\"Other Known Causes\"))","v":""},{"$f":"IF($E83=\"\",\"\",SUMIFS('CMS Downtime Detail'!$K$24:$K$500,'CMS Downtime Detail'!$B$24:$B$500,$B83,'CMS Downtime Detail'!$C$24:$C$500,$C83,'CMS Downtime Detail'!$D$24:$D$500,$D83,'CMS Downtime Detail'!$E$24:$E$500,\"Other Unknown Causes\"))","v":""}]
[null,{"$f":"IF(Lists!AQ62=\"\",\"\",Lists!AQ62)","v":""},{"$f":"IF(Lists!AR62=\"\",\"\",Lists!AR62)","v":""},{"$f":"IF(Lists!AS62=\"\",\"\",Lists!AS62)","v":""},{"$f":"IF(D84=\"\",\"\",VLOOKUP(B84&C84,Lists!$BA$2:$BD$78,4,FALSE))","v":""},"","",{"$f":"IF($E84=\"\",\"\",SUMIFS('CMS Downtime Detail'!$K$24:$K$500,'CMS Downtime Detail'!$B$24:$B$500,$B84,'CMS Downtime Detail'!$C$24:$C$500,$C84,'CMS Downtime Detail'!$D$24:$D$500,$D84,'CMS Downtime Detail'!$E$24:$E$500,\"Monitoring Equipment Malfunctions\"))","v":""},{"$f":"IF($E84=\"\",\"\",SUMIFS('CMS Downtime Detail'!$K$24:$K$500,'CMS Downtime Detail'!$B$24:$B$500,$B84,'CMS Downtime Detail'!$C$24:$C$500,$C84,'CMS Downtime Detail'!$D$24:$D$500,$D84,'CMS Downtime Detail'!$E$24:$E$500,\"Nonmonitoring Equipment Malfunctions\"))","v":""},{"$f":"IF($E84=\"\",\"\",SUMIFS('CMS Downtime Detail'!$K$24:$K$500,'CMS Downtime Detail'!$B$24:$B$500,$B84,'CMS Downtime Detail'!$C$24:$C$500,$C84,'CMS Downtime Detail'!$D$24:$D$500,$D84,'CMS Downtime Detail'!$E$24:$E$500,\"Quality Assurance/Quality Control Calibrations\"))","v":""},{"$f":"IF($E84=\"\",\"\",SUMIFS('CMS Downtime Detail'!$K$24:$K$500,'CMS Downtime Detail'!$B$24:$B$500,$B84,'CMS Downtime Detail'!$C$24:$C$500,$C84,'CMS Downtime Detail'!$D$24:$D$500,$D84,'CMS Downtime Detail'!$E$24:$E$500,\"Other Known Causes\"))","v":""},{"$f":"IF($E84=\"\",\"\",SUMIFS('CMS Downtime Detail'!$K$24:$K$500,'CMS Downtime Detail'!$B$24:$B$500,$B84,'CMS Downtime Detail'!$C$24:$C$500,$C84,'CMS Downtime Detail'!$D$24:$D$500,$D84,'CMS Downtime Detail'!$E$24:$E$500,\"Other Unknown Causes\"))","v":""}]
[null,{"$f":"IF(Lists!AQ63=\"\",\"\",Lists!AQ63)","v":""},{"$f":"IF(Lists!AR63=\"\",\"\",Lists!AR63)","v":""},{"$f":"IF(Lists!AS63=\"\",\"\",Lists!AS63)","v":""},{"$f":"IF(D85=\"\",\"\",VLOOKUP(B85&C85,Lists!$BA$2:$BD$78,4,FALSE))","v":""},"","",{"$f":"IF($E85=\"\",\"\",SUMIFS('CMS Downtime Detail'!$K$24:$K$500,'CMS Downtime Detail'!$B$24:$B$500,$B85,'CMS Downtime Detail'!$C$24:$C$500,$C85,'CMS Downtime Detail'!$D$24:$D$500,$D85,'CMS Downtime Detail'!$E$24:$E$500,\"Monitoring Equipment Malfunctions\"))","v":""},{"$f":"IF($E85=\"\",\"\",SUMIFS('CMS Downtime Detail'!$K$24:$K$500,'CMS Downtime Detail'!$B$24:$B$500,$B85,'CMS Downtime Detail'!$C$24:$C$500,$C85,'CMS Downtime Detail'!$D$24:$D$500,$D85,'CMS Downtime Detail'!$E$24:$E$500,\"Nonmonitoring Equipment Malfunctions\"))","v":""},{"$f":"IF($E85=\"\",\"\",SUMIFS('CMS Downtime Detail'!$K$24:$K$500,'CMS Downtime Detail'!$B$24:$B$500,$B85,'CMS Downtime Detail'!$C$24:$C$500,$C85,'CMS Downtime Detail'!$D$24:$D$500,$D85,'CMS Downtime Detail'!$E$24:$E$500,\"Quality Assurance/Quality Control Calibrations\"))","v":""},{"$f":"IF($E85=\"\",\"\",SUMIFS('CMS Downtime Detail'!$K$24:$K$500,'CMS Downtime Detail'!$B$24:$B$500,$B85,'CMS Downtime Detail'!$C$24:$C$500,$C85,'CMS Downtime Detail'!$D$24:$D$500,$D85,'CMS Downtime Detail'!$E$24:$E$500,\"Other Known Causes\"))","v":""},{"$f":"IF($E85=\"\",\"\",SUMIFS('CMS Downtime Detail'!$K$24:$K$500,'CMS Downtime Detail'!$B$24:$B$500,$B85,'CMS Downtime Detail'!$C$24:$C$500,$C85,'CMS Downtime Detail'!$D$24:$D$500,$D85,'CMS Downtime Detail'!$E$24:$E$500,\"Other Unknown Causes\"))","v":""}]
[null,{"$f":"IF(Lists!AQ64=\"\",\"\",Lists!AQ64)","v":""},{"$f":"IF(Lists!AR64=\"\",\"\",Lists!AR64)","v":""},{"$f":"IF(Lists!AS64=\"\",\"\",Lists!AS64)","v":""},{"$f":"IF(D86=\"\",\"\",VLOOKUP(B86&C86,Lists!$BA$2:$BD$78,4,FALSE))","v":""},"","",{"$f":"IF($E86=\"\",\"\",SUMIFS('CMS Downtime Detail'!$K$24:$K$500,'CMS Downtime Detail'!$B$24:$B$500,$B86,'CMS Downtime Detail'!$C$24:$C$500,$C86,'CMS Downtime Detail'!$D$24:$D$500,$D86,'CMS Downtime Detail'!$E$24:$E$500,\"Monitoring Equipment Malfunctions\"))","v":""},{"$f":"IF($E86=\"\",\"\",SUMIFS('CMS Downtime Detail'!$K$24:$K$500,'CMS Downtime Detail'!$B$24:$B$500,$B86,'CMS Downtime Detail'!$C$24:$C$500,$C86,'CMS Downtime Detail'!$D$24:$D$500,$D86,'CMS Downtime Detail'!$E$24:$E$500,\"Nonmonitoring Equipment Malfunctions\"))","v":""},{"$f":"IF($E86=\"\",\"\",SUMIFS('CMS Downtime Detail'!$K$24:$K$500,'CMS Downtime Detail'!$B$24:$B$500,$B86,'CMS Downtime Detail'!$C$24:$C$500,$C86,'CMS Downtime Detail'!$D$24:$D$500,$D86,'CMS Downtime Detail'!$E$24:$E$500,\"Quality Assurance/Quality Control Calibrations\"))","v":""},{"$f":"IF($E86=\"\",\"\",SUMIFS('CMS Downtime Detail'!$K$24:$K$500,'CMS Downtime Detail'!$B$24:$B$500,$B86,'CMS Downtime Detail'!$C$24:$C$500,$C86,'CMS Downtime Detail'!$D$24:$D$500,$D86,'CMS Downtime Detail'!$E$24:$E$500,\"Other Known Causes\"))","v":""},{"$f":"IF($E86=\"\",\"\",SUMIFS('CMS Downtime Detail'!$K$24:$K$500,'CMS Downtime Detail'!$B$24:$B$500,$B86,'CMS Downtime Detail'!$C$24:$C$500,$C86,'CMS Downtime Detail'!$D$24:$D$500,$D86,'CMS Downtime Detail'!$E$24:$E$500,\"Other Unknown Causes\"))","v":""}]
[null,{"$f":"IF(Lists!AQ65=\"\",\"\",Lists!AQ65)","v":""},{"$f":"IF(Lists!AR65=\"\",\"\",Lists!AR65)","v":""},{"$f":"IF(Lists!AS65=\"\",\"\",Lists!AS65)","v":""},{"$f":"IF(D87=\"\",\"\",VLOOKUP(B87&C87,Lists!$BA$2:$BD$78,4,FALSE))","v":""},"","",{"$f":"IF($E87=\"\",\"\",SUMIFS('CMS Downtime Detail'!$K$24:$K$500,'CMS Downtime Detail'!$B$24:$B$500,$B87,'CMS Downtime Detail'!$C$24:$C$500,$C87,'CMS Downtime Detail'!$D$24:$D$500,$D87,'CMS Downtime Detail'!$E$24:$E$500,\"Monitoring Equipment Malfunctions\"))","v":""},{"$f":"IF($E87=\"\",\"\",SUMIFS('CMS Downtime Detail'!$K$24:$K$500,'CMS Downtime Detail'!$B$24:$B$500,$B87,'CMS Downtime Detail'!$C$24:$C$500,$C87,'CMS Downtime Detail'!$D$24:$D$500,$D87,'CMS Downtime Detail'!$E$24:$E$500,\"Nonmonitoring Equipment Malfunctions\"))","v":""},{"$f":"IF($E87=\"\",\"\",SUMIFS('CMS Downtime Detail'!$K$24:$K$500,'CMS Downtime Detail'!$B$24:$B$500,$B87,'CMS Downtime Detail'!$C$24:$C$500,$C87,'CMS Downtime Detail'!$D$24:$D$500,$D87,'CMS Downtime Detail'!$E$24:$E$500,\"Quality Assurance/Quality Control Calibrations\"))","v":""},{"$f":"IF($E87=\"\",\"\",SUMIFS('CMS Downtime Detail'!$K$24:$K$500,'CMS Downtime Detail'!$B$24:$B$500,$B87,'CMS Downtime Detail'!$C$24:$C$500,$C87,'CMS Downtime Detail'!$D$24:$D$500,$D87,'CMS Downtime Detail'!$E$24:$E$500,\"Other Known Causes\"))","v":""},{"$f":"IF($E87=\"\",\"\",SUMIFS('CMS Downtime Detail'!$K$24:$K$500,'CMS Downtime Detail'!$B$24:$B$500,$B87,'CMS Downtime Detail'!$C$24:$C$500,$C87,'CMS Downtime Detail'!$D$24:$D$500,$D87,'CMS Downtime Detail'!$E$24:$E$500,\"Other Unknown Causes\"))","v":""}]
[null,{"$f":"IF(Lists!AQ66=\"\",\"\",Lists!AQ66)","v":""},{"$f":"IF(Lists!AR66=\"\",\"\",Lists!AR66)","v":""},{"$f":"IF(Lists!AS66=\"\",\"\",Lists!AS66)","v":""},{"$f":"IF(D88=\"\",\"\",VLOOKUP(B88&C88,Lists!$BA$2:$BD$78,4,FALSE))","v":""},"","",{"$f":"IF($E88=\"\",\"\",SUMIFS('CMS Downtime Detail'!$K$24:$K$500,'CMS Downtime Detail'!$B$24:$B$500,$B88,'CMS Downtime Detail'!$C$24:$C$500,$C88,'CMS Downtime Detail'!$D$24:$D$500,$D88,'CMS Downtime Detail'!$E$24:$E$500,\"Monitoring Equipment Malfunctions\"))","v":""},{"$f":"IF($E88=\"\",\"\",SUMIFS('CMS Downtime Detail'!$K$24:$K$500,'CMS Downtime Detail'!$B$24:$B$500,$B88,'CMS Downtime Detail'!$C$24:$C$500,$C88,'CMS Downtime Detail'!$D$24:$D$500,$D88,'CMS Downtime Detail'!$E$24:$E$500,\"Nonmonitoring Equipment Malfunctions\"))","v":""},{"$f":"IF($E88=\"\",\"\",SUMIFS('CMS Downtime Detail'!$K$24:$K$500,'CMS Downtime Detail'!$B$24:$B$500,$B88,'CMS Downtime Detail'!$C$24:$C$500,$C88,'CMS Downtime Detail'!$D$24:$D$500,$D88,'CMS Downtime Detail'!$E$24:$E$500,\"Quality Assurance/Quality Control Calibrations\"))","v":""},{"$f":"IF($E88=\"\",\"\",SUMIFS('CMS Downtime Detail'!$K$24:$K$500,'CMS Downtime Detail'!$B$24:$B$500,$B88,'CMS Downtime Detail'!$C$24:$C$500,$C88,'CMS Downtime Detail'!$D$24:$D$500,$D88,'CMS Downtime Detail'!$E$24:$E$500,\"Other Known Causes\"))","v":""},{"$f":"IF($E88=\"\",\"\",SUMIFS('CMS Downtime Detail'!$K$24:$K$500,'CMS Downtime Detail'!$B$24:$B$500,$B88,'CMS Downtime Detail'!$C$24:$C$500,$C88,'CMS Downtime Detail'!$D$24:$D$500,$D88,'CMS Downtime Detail'!$E$24:$E$500,\"Other Unknown Causes\"))","v":""}]
[null,{"$f":"IF(Lists!AQ67=\"\",\"\",Lists!AQ67)","v":""},{"$f":"IF(Lists!AR67=\"\",\"\",Lists!AR67)","v":""},{"$f":"IF(Lists!AS67=\"\",\"\",Lists!AS67)","v":""},{"$f":"IF(D89=\"\",\"\",VLOOKUP(B89&C89,Lists!$BA$2:$BD$78,4,FALSE))","v":""},{"$f":"IF(E89=\"\",\"\",SUM(H89:L89))","v":""},{"$f":"IF(F89=\"\",\"\",F89/E89)","v":""},{"$f":"IF($E89=\"\",\"\",SUMIFS('CMS Downtime Detail'!$K$24:$K$500,'CMS Downtime Detail'!$B$24:$B$500,$B89,'CMS Downtime Detail'!$C$24:$C$500,$C89,'CMS Downtime Detail'!$D$24:$D$500,$D89,'CMS Downtime Detail'!$E$24:$E$500,\"Monitoring Equipment Malfunctions\"))","v":""},{"$f":"IF($E89=\"\",\"\",SUMIFS('CMS Downtime Detail'!$K$24:$K$500,'CMS Downtime Detail'!$B$24:$B$500,$B89,'CMS Downtime Detail'!$C$24:$C$500,$C89,'CMS Downtime Detail'!$D$24:$D$500,$D89,'CMS Downtime Detail'!$E$24:$E$500,\"Nonmonitoring Equipment Malfunctions\"))","v":""},{"$f":"IF($E89=\"\",\"\",SUMIFS('CMS Downtime Detail'!$K$24:$K$500,'CMS Downtime Detail'!$B$24:$B$500,$B89,'CMS Downtime Detail'!$C$24:$C$500,$C89,'CMS Downtime Detail'!$D$24:$D$500,$D89,'CMS Downtime Detail'!$E$24:$E$500,\"Quality Assurance/Quality Control Calibrations\"))","v":""},{"$f":"IF($E89=\"\",\"\",SUMIFS('CMS Downtime Detail'!$K$24:$K$500,'CMS Downtime Detail'!$B$24:$B$500,$B89,'CMS Downtime Detail'!$C$24:$C$500,$C89,'CMS Downtime Detail'!$D$24:$D$500,$D89,'CMS Downtime Detail'!$E$24:$E$500,\"Other Known Causes\"))","v":""},{"$f":"IF($E89=\"\",\"\",SUMIFS('CMS Downtime Detail'!$K$24:$K$500,'CMS Downtime Detail'!$B$24:$B$500,$B89,'CMS Downtime Detail'!$C$24:$C$500,$C89,'CMS Downtime Detail'!$D$24:$D$500,$D89,'CMS Downtime Detail'!$E$24:$E$500,\"Other Unknown Causes\"))","v":""}]
[null,{"$f":"IF(Lists!AQ68=\"\",\"\",Lists!AQ68)","v":""},{"$f":"IF(Lists!AR68=\"\",\"\",Lists!AR68)","v":""},{"$f":"IF(Lists!AS68=\"\",\"\",Lists!AS68)","v":""},{"$f":"IF(D90=\"\",\"\",VLOOKUP(B90&C90,Lists!$BA$2:$BD$78,4,FALSE))","v":""},"","",{"$f":"IF($E90=\"\",\"\",SUMIFS('CMS Downtime Detail'!$K$24:$K$500,'CMS Downtime Detail'!$B$24:$B$500,$B90,'CMS Downtime Detail'!$C$24:$C$500,$C90,'CMS Downtime Detail'!$D$24:$D$500,$D90,'CMS Downtime Detail'!$E$24:$E$500,\"Monitoring Equipment Malfunctions\"))","v":""},{"$f":"IF($E90=\"\",\"\",SUMIFS('CMS Downtime Detail'!$K$24:$K$500,'CMS Downtime Detail'!$B$24:$B$500,$B90,'CMS Downtime Detail'!$C$24:$C$500,$C90,'CMS Downtime Detail'!$D$24:$D$500,$D90,'CMS Downtime Detail'!$E$24:$E$500,\"Nonmonitoring Equipment Malfunctions\"))","v":""},{"$f":"IF($E90=\"\",\"\",SUMIFS('CMS Downtime Detail'!$K$24:$K$500,'CMS Downtime Detail'!$B$24:$B$500,$B90,'CMS Downtime Detail'!$C$24:$C$500,$C90,'CMS Downtime Detail'!$D$24:$D$500,$D90,'CMS Downtime Detail'!$E$24:$E$500,\"Quality Assurance/Quality Control Calibrations\"))","v":""},{"$f":"IF($E90=\"\",\"\",SUMIFS('CMS Downtime Detail'!$K$24:$K$500,'CMS Downtime Detail'!$B$24:$B$500,$B90,'CMS Downtime Detail'!$C$24:$C$500,$C90,'CMS Downtime Detail'!$D$24:$D$500,$D90,'CMS Downtime Detail'!$E$24:$E$500,\"Other Known Causes\"))","v":""},{"$f":"IF($E90=\"\",\"\",SUMIFS('CMS Downtime Detail'!$K$24:$K$500,'CMS Downtime Detail'!$B$24:$B$500,$B90,'CMS Downtime Detail'!$C$24:$C$500,$C90,'CMS Downtime Detail'!$D$24:$D$500,$D90,'CMS Downtime Detail'!$E$24:$E$500,\"Other Unknown Causes\"))","v":""}]
[null,{"$f":"IF(Lists!AQ69=\"\",\"\",Lists!AQ69)","v":""},{"$f":"IF(Lists!AR69=\"\",\"\",Lists!AR69)","v":""},{"$f":"IF(Lists!AS69=\"\",\"\",Lists!AS69)","v":""},{"$f":"IF(D91=\"\",\"\",VLOOKUP(B91&C91,Lists!$BA$2:$BD$78,4,FALSE))","v":""},"","",{"$f":"IF($E91=\"\",\"\",SUMIFS('CMS Downtime Detail'!$K$24:$K$500,'CMS Downtime Detail'!$B$24:$B$500,$B91,'CMS Downtime Detail'!$C$24:$C$500,$C91,'CMS Downtime Detail'!$D$24:$D$500,$D91,'CMS Downtime Detail'!$E$24:$E$500,\"Monitoring Equipment Malfunctions\"))","v":""},{"$f":"IF($E91=\"\",\"\",SUMIFS('CMS Downtime Detail'!$K$24:$K$500,'CMS Downtime Detail'!$B$24:$B$500,$B91,'CMS Downtime Detail'!$C$24:$C$500,$C91,'CMS Downtime Detail'!$D$24:$D$500,$D91,'CMS Downtime Detail'!$E$24:$E$500,\"Nonmonitoring Equipment Malfunctions\"))","v":""},{"$f":"IF($E91=\"\",\"\",SUMIFS('CMS Downtime Detail'!$K$24:$K$500,'CMS Downtime Detail'!$B$24:$B$500,$B91,'CMS Downtime Detail'!$C$24:$C$500,$C91,'CMS Downtime Detail'!$D$24:$D$500,$D91,'CMS Downtime Detail'!$E$24:$E$500,\"Quality Assurance/Quality Control Calibrations\"))","v":""},{"$f":"IF($E91=\"\",\"\",SUMIFS('CMS Downtime Detail'!$K$24:$K$500,'CMS Downtime Detail'!$B$24:$B$500,$B91,'CMS Downtime Detail'!$C$24:$C$500,$C91,'CMS Downtime Detail'!$D$24:$D$500,$D91,'CMS Downtime Detail'!$E$24:$E$500,\"Other Known Causes\"))","v":""},{"$f":"IF($E91=\"\",\"\",SUMIFS('CMS Downtime Detail'!$K$24:$K$500,'CMS Downtime Detail'!$B$24:$B$500,$B91,'CMS Downtime Detail'!$C$24:$C$500,$C91,'CMS Downtime Detail'!$D$24:$D$500,$D91,'CMS Downtime Detail'!$E$24:$E$500,\"Other Unknown Causes\"))","v":""}]
[null,{"$f":"IF(Lists!AQ70=\"\",\"\",Lists!AQ70)","v":""},{"$f":"IF(Lists!AR70=\"\",\"\",Lists!AR70)","v":""},{"$f":"IF(Lists!AS70=\"\",\"\",Lists!AS70)","v":""},{"$f":"IF(D92=\"\",\"\",VLOOKUP(B92&C92,Lists!$BA$2:$BD$78,4,FALSE))","v":""},"","",{"$f":"IF($E92=\"\",\"\",SUMIFS('CMS Downtime Detail'!$K$24:$K$500,'CMS Downtime Detail'!$B$24:$B$500,$B92,'CMS Downtime Detail'!$C$24:$C$500,$C92,'CMS Downtime Detail'!$D$24:$D$500,$D92,'CMS Downtime Detail'!$E$24:$E$500,\"Monitoring Equipment Malfunctions\"))","v":""},{"$f":"IF($E92=\"\",\"\",SUMIFS('CMS Downtime Detail'!$K$24:$K$500,'CMS Downtime Detail'!$B$24:$B$500,$B92,'CMS Downtime Detail'!$C$24:$C$500,$C92,'CMS Downtime Detail'!$D$24:$D$500,$D92,'CMS Downtime Detail'!$E$24:$E$500,\"Nonmonitoring Equipment Malfunctions\"))","v":""},{"$f":"IF($E92=\"\",\"\",SUMIFS('CMS Downtime Detail'!$K$24:$K$500,'CMS Downtime Detail'!$B$24:$B$500,$B92,'CMS Downtime Detail'!$C$24:$C$500,$C92,'CMS Downtime Detail'!$D$24:$D$500,$D92,'CMS Downtime Detail'!$E$24:$E$500,\"Quality Assurance/Quality Control Calibrations\"))","v":""},{"$f":"IF($E92=\"\",\"\",SUMIFS('CMS Downtime Detail'!$K$24:$K$500,'CMS Downtime Detail'!$B$24:$B$500,$B92,'CMS Downtime Detail'!$C$24:$C$500,$C92,'CMS Downtime Detail'!$D$24:$D$500,$D92,'CMS Downtime Detail'!$E$24:$E$500,\"Other Known Causes\"))","v":""},{"$f":"IF($E92=\"\",\"\",SUMIFS('CMS Downtime Detail'!$K$24:$K$500,'CMS Downtime Detail'!$B$24:$B$500,$B92,'CMS Downtime Detail'!$C$24:$C$500,$C92,'CMS Downtime Detail'!$D$24:$D$500,$D92,'CMS Downtime Detail'!$E$24:$E$500,\"Other Unknown Causes\"))","v":""}]
[null,{"$f":"IF(Lists!AQ71=\"\",\"\",Lists!AQ71)","v":""},{"$f":"IF(Lists!AR71=\"\",\"\",Lists!AR71)","v":""},{"$f":"IF(Lists!AS71=\"\",\"\",Lists!AS71)","v":""},{"$f":"IF(D93=\"\",\"\",VLOOKUP(B93&C93,Lists!$BA$2:$BD$78,4,FALSE))","v":""},"","",{"$f":"IF($E93=\"\",\"\",SUMIFS('CMS Downtime Detail'!$K$24:$K$500,'CMS Downtime Detail'!$B$24:$B$500,$B93,'CMS Downtime Detail'!$C$24:$C$500,$C93,'CMS Downtime Detail'!$D$24:$D$500,$D93,'CMS Downtime Detail'!$E$24:$E$500,\"Monitoring Equipment Malfunctions\"))","v":""},{"$f":"IF($E93=\"\",\"\",SUMIFS('CMS Downtime Detail'!$K$24:$K$500,'CMS Downtime Detail'!$B$24:$B$500,$B93,'CMS Downtime Detail'!$C$24:$C$500,$C93,'CMS Downtime Detail'!$D$24:$D$500,$D93,'CMS Downtime Detail'!$E$24:$E$500,\"Nonmonitoring Equipment Malfunctions\"))","v":""},{"$f":"IF($E93=\"\",\"\",SUMIFS('CMS Downtime Detail'!$K$24:$K$500,'CMS Downtime Detail'!$B$24:$B$500,$B93,'CMS Downtime Detail'!$C$24:$C$500,$C93,'CMS Downtime Detail'!$D$24:$D$500,$D93,'CMS Downtime Detail'!$E$24:$E$500,\"Quality Assurance/Quality Control Calibrations\"))","v":""},{"$f":"IF($E93=\"\",\"\",SUMIFS('CMS Downtime Detail'!$K$24:$K$500,'CMS Downtime Detail'!$B$24:$B$500,$B93,'CMS Downtime Detail'!$C$24:$C$500,$C93,'CMS Downtime Detail'!$D$24:$D$500,$D93,'CMS Downtime Detail'!$E$24:$E$500,\"Other Known Causes\"))","v":""},{"$f":"IF($E93=\"\",\"\",SUMIFS('CMS Downtime Detail'!$K$24:$K$500,'CMS Downtime Detail'!$B$24:$B$500,$B93,'CMS Downtime Detail'!$C$24:$C$500,$C93,'CMS Downtime Detail'!$D$24:$D$500,$D93,'CMS Downtime Detail'!$E$24:$E$500,\"Other Unknown Causes\"))","v":""}]
[null,{"$f":"IF(Lists!AQ72=\"\",\"\",Lists!AQ72)","v":""},{"$f":"IF(Lists!AR72=\"\",\"\",Lists!AR72)","v":""},{"$f":"IF(Lists!AS72=\"\",\"\",Lists!AS72)","v":""},{"$f":"IF(D94=\"\",\"\",VLOOKUP(B94&C94,Lists!$BA$2:$BD$78,4,FALSE))","v":""},"","",{"$f":"IF($E94=\"\",\"\",SUMIFS('CMS Downtime Detail'!$K$24:$K$500,'CMS Downtime Detail'!$B$24:$B$500,$B94,'CMS Downtime Detail'!$C$24:$C$500,$C94,'CMS Downtime Detail'!$D$24:$D$500,$D94,'CMS Downtime Detail'!$E$24:$E$500,\"Monitoring Equipment Malfunctions\"))","v":""},{"$f":"IF($E94=\"\",\"\",SUMIFS('CMS Downtime Detail'!$K$24:$K$500,'CMS Downtime Detail'!$B$24:$B$500,$B94,'CMS Downtime Detail'!$C$24:$C$500,$C94,'CMS Downtime Detail'!$D$24:$D$500,$D94,'CMS Downtime Detail'!$E$24:$E$500,\"Nonmonitoring Equipment Malfunctions\"))","v":""},{"$f":"IF($E94=\"\",\"\",SUMIFS('CMS Downtime Detail'!$K$24:$K$500,'CMS Downtime Detail'!$B$24:$B$500,$B94,'CMS Downtime Detail'!$C$24:$C$500,$C94,'CMS Downtime Detail'!$D$24:$D$500,$D94,'CMS Downtime Detail'!$E$24:$E$500,\"Quality Assurance/Quality Control Calibrations\"))","v":""},{"$f":"IF($E94=\"\",\"\",SUMIFS('CMS Downtime Detail'!$K$24:$K$500,'CMS Downtime Detail'!$B$24:$B$500,$B94,'CMS Downtime Detail'!$C$24:$C$500,$C94,'CMS Downtime Detail'!$D$24:$D$500,$D94,'CMS Downtime Detail'!$E$24:$E$500,\"Other Known Causes\"))","v":""},{"$f":"IF($E94=\"\",\"\",SUMIFS('CMS Downtime Detail'!$K$24:$K$500,'CMS Downtime Detail'!$B$24:$B$500,$B94,'CMS Downtime Detail'!$C$24:$C$500,$C94,'CMS Downtime Detail'!$D$24:$D$500,$D94,'CMS Downtime Detail'!$E$24:$E$500,\"Other Unknown Causes\"))","v":""}]
[null,{"$f":"IF(Lists!AQ73=\"\",\"\",Lists!AQ73)","v":""},{"$f":"IF(Lists!AR73=\"\",\"\",Lists!AR73)","v":""},{"$f":"IF(Lists!AS73=\"\",\"\",Lists!AS73)","v":""},{"$f":"IF(D95=\"\",\"\",VLOOKUP(B95&C95,Lists!$BA$2:$BD$78,4,FALSE))","v":""},"","",{"$f":"IF($E95=\"\",\"\",SUMIFS('CMS Downtime Detail'!$K$24:$K$500,'CMS Downtime Detail'!$B$24:$B$500,$B95,'CMS Downtime Detail'!$C$24:$C$500,$C95,'CMS Downtime Detail'!$D$24:$D$500,$D95,'CMS Downtime Detail'!$E$24:$E$500,\"Monitoring Equipment Malfunctions\"))","v":""},{"$f":"IF($E95=\"\",\"\",SUMIFS('CMS Downtime Detail'!$K$24:$K$500,'CMS Downtime Detail'!$B$24:$B$500,$B95,'CMS Downtime Detail'!$C$24:$C$500,$C95,'CMS Downtime Detail'!$D$24:$D$500,$D95,'CMS Downtime Detail'!$E$24:$E$500,\"Nonmonitoring Equipment Malfunctions\"))","v":""},{"$f":"IF($E95=\"\",\"\",SUMIFS('CMS Downtime Detail'!$K$24:$K$500,'CMS Downtime Detail'!$B$24:$B$500,$B95,'CMS Downtime Detail'!$C$24:$C$500,$C95,'CMS Downtime Detail'!$D$24:$D$500,$D95,'CMS Downtime Detail'!$E$24:$E$500,\"Quality Assurance/Quality Control Calibrations\"))","v":""},{"$f":"IF($E95=\"\",\"\",SUMIFS('CMS Downtime Detail'!$K$24:$K$500,'CMS Downtime Detail'!$B$24:$B$500,$B95,'CMS Downtime Detail'!$C$24:$C$500,$C95,'CMS Downtime Detail'!$D$24:$D$500,$D95,'CMS Downtime Detail'!$E$24:$E$500,\"Other Known Causes\"))","v":""},{"$f":"IF($E95=\"\",\"\",SUMIFS('CMS Downtime Detail'!$K$24:$K$500,'CMS Downtime Detail'!$B$24:$B$500,$B95,'CMS Downtime Detail'!$C$24:$C$500,$C95,'CMS Downtime Detail'!$D$24:$D$500,$D95,'CMS Downtime Detail'!$E$24:$E$500,\"Other Unknown Causes\"))","v":""}]
[null,{"$f":"IF(Lists!AQ74=\"\",\"\",Lists!AQ74)","v":""},{"$f":"IF(Lists!AR74=\"\",\"\",Lists!AR74)","v":""},{"$f":"IF(Lists!AS74=\"\",\"\",Lists!AS74)","v":""},{"$f":"IF(D96=\"\",\"\",VLOOKUP(B96&C96,Lists!$BA$2:$BD$78,4,FALSE))","v":""},"","",{"$f":"IF($E96=\"\",\"\",SUMIFS('CMS Downtime Detail'!$K$24:$K$500,'CMS Downtime Detail'!$B$24:$B$500,$B96,'CMS Downtime Detail'!$C$24:$C$500,$C96,'CMS Downtime Detail'!$D$24:$D$500,$D96,'CMS Downtime Detail'!$E$24:$E$500,\"Monitoring Equipment Malfunctions\"))","v":""},{"$f":"IF($E96=\"\",\"\",SUMIFS('CMS Downtime Detail'!$K$24:$K$500,'CMS Downtime Detail'!$B$24:$B$500,$B96,'CMS Downtime Detail'!$C$24:$C$500,$C96,'CMS Downtime Detail'!$D$24:$D$500,$D96,'CMS Downtime Detail'!$E$24:$E$500,\"Nonmonitoring Equipment Malfunctions\"))","v":""},{"$f":"IF($E96=\"\",\"\",SUMIFS('CMS Downtime Detail'!$K$24:$K$500,'CMS Downtime Detail'!$B$24:$B$500,$B96,'CMS Downtime Detail'!$C$24:$C$500,$C96,'CMS Downtime Detail'!$D$24:$D$500,$D96,'CMS Downtime Detail'!$E$24:$E$500,\"Quality Assurance/Quality Control Calibrations\"))","v":""},{"$f":"IF($E96=\"\",\"\",SUMIFS('CMS Downtime Detail'!$K$24:$K$500,'CMS Downtime Detail'!$B$24:$B$500,$B96,'CMS Downtime Detail'!$C$24:$C$500,$C96,'CMS Downtime Detail'!$D$24:$D$500,$D96,'CMS Downtime Detail'!$E$24:$E$500,\"Other Known Causes\"))","v":""},{"$f":"IF($E96=\"\",\"\",SUMIFS('CMS Downtime Detail'!$K$24:$K$500,'CMS Downtime Detail'!$B$24:$B$500,$B96,'CMS Downtime Detail'!$C$24:$C$500,$C96,'CMS Downtime Detail'!$D$24:$D$500,$D96,'CMS Downtime Detail'!$E$24:$E$500,\"Other Unknown Causes\"))","v":""}]
[null,{"$f":"IF(Lists!AQ75=\"\",\"\",Lists!AQ75)","v":""},{"$f":"IF(Lists!AR75=\"\",\"\",Lists!AR75)","v":""},{"$f":"IF(Lists!AS75=\"\",\"\",Lists!AS75)","v":""},{"$f":"IF(D97=\"\",\"\",VLOOKUP(B97&C97,Lists!$BA$2:$BD$78,4,FALSE))","v":""},"","",{"$f":"IF($E97=\"\",\"\",SUMIFS('CMS Downtime Detail'!$K$24:$K$500,'CMS Downtime Detail'!$B$24:$B$500,$B97,'CMS Downtime Detail'!$C$24:$C$500,$C97,'CMS Downtime Detail'!$D$24:$D$500,$D97,'CMS Downtime Detail'!$E$24:$E$500,\"Monitoring Equipment Malfunctions\"))","v":""},{"$f":"IF($E97=\"\",\"\",SUMIFS('CMS Downtime Detail'!$K$24:$K$500,'CMS Downtime Detail'!$B$24:$B$500,$B97,'CMS Downtime Detail'!$C$24:$C$500,$C97,'CMS Downtime Detail'!$D$24:$D$500,$D97,'CMS Downtime Detail'!$E$24:$E$500,\"Nonmonitoring Equipment Malfunctions\"))","v":""},{"$f":"IF($E97=\"\",\"\",SUMIFS('CMS Downtime Detail'!$K$24:$K$500,'CMS Downtime Detail'!$B$24:$B$500,$B97,'CMS Downtime Detail'!$C$24:$C$500,$C97,'CMS Downtime Detail'!$D$24:$D$500,$D97,'CMS Downtime Detail'!$E$24:$E$500,\"Quality Assurance/Quality Control Calibrations\"))","v":""},{"$f":"IF($E97=\"\",\"\",SUMIFS('CMS Downtime Detail'!$K$24:$K$500,'CMS Downtime Detail'!$B$24:$B$500,$B97,'CMS Downtime Detail'!$C$24:$C$500,$C97,'CMS Downtime Detail'!$D$24:$D$500,$D97,'CMS Downtime Detail'!$E$24:$E$500,\"Other Known Causes\"))","v":""},{"$f":"IF($E97=\"\",\"\",SUMIFS('CMS Downtime Detail'!$K$24:$K$500,'CMS Downtime Detail'!$B$24:$B$500,$B97,'CMS Downtime Detail'!$C$24:$C$500,$C97,'CMS Downtime Detail'!$D$24:$D$500,$D97,'CMS Downtime Detail'!$E$24:$E$500,\"Other Unknown Causes\"))","v":""}]
[null,{"$f":"IF(Lists!AQ76=\"\",\"\",Lists!AQ76)","v":""},{"$f":"IF(Lists!AR76=\"\",\"\",Lists!AR76)","v":""},{"$f":"IF(Lists!AS76=\"\",\"\",Lists!AS76)","v":""},{"$f":"IF(D98=\"\",\"\",VLOOKUP(B98&C98,Lists!$BA$2:$BD$78,4,FALSE))","v":""},"","",{"$f":"IF($E98=\"\",\"\",SUMIFS('CMS Downtime Detail'!$K$24:$K$500,'CMS Downtime Detail'!$B$24:$B$500,$B98,'CMS Downtime Detail'!$C$24:$C$500,$C98,'CMS Downtime Detail'!$D$24:$D$500,$D98,'CMS Downtime Detail'!$E$24:$E$500,\"Monitoring Equipment Malfunctions\"))","v":""},{"$f":"IF($E98=\"\",\"\",SUMIFS('CMS Downtime Detail'!$K$24:$K$500,'CMS Downtime Detail'!$B$24:$B$500,$B98,'CMS Downtime Detail'!$C$24:$C$500,$C98,'CMS Downtime Detail'!$D$24:$D$500,$D98,'CMS Downtime Detail'!$E$24:$E$500,\"Nonmonitoring Equipment Malfunctions\"))","v":""},{"$f":"IF($E98=\"\",\"\",SUMIFS('CMS Downtime Detail'!$K$24:$K$500,'CMS Downtime Detail'!$B$24:$B$500,$B98,'CMS Downtime Detail'!$C$24:$C$500,$C98,'CMS Downtime Detail'!$D$24:$D$500,$D98,'CMS Downtime Detail'!$E$24:$E$500,\"Quality Assurance/Quality Control Calibrations\"))","v":""},{"$f":"IF($E98=\"\",\"\",SUMIFS('CMS Downtime Detail'!$K$24:$K$500,'CMS Downtime Detail'!$B$24:$B$500,$B98,'CMS Downtime Detail'!$C$24:$C$500,$C98,'CMS Downtime Detail'!$D$24:$D$500,$D98,'CMS Downtime Detail'!$E$24:$E$500,\"Other Known Causes\"))","v":""},{"$f":"IF($E98=\"\",\"\",SUMIFS('CMS Downtime Detail'!$K$24:$K$500,'CMS Downtime Detail'!$B$24:$B$500,$B98,'CMS Downtime Detail'!$C$24:$C$500,$C98,'CMS Downtime Detail'!$D$24:$D$500,$D98,'CMS Downtime Detail'!$E$24:$E$500,\"Other Unknown Causes\"))","v":""}]
[null,{"$f":"IF(Lists!AQ77=\"\",\"\",Lists!AQ77)","v":""},{"$f":"IF(Lists!AR77=\"\",\"\",Lists!AR77)","v":""},{"$f":"IF(Lists!AS77=\"\",\"\",Lists!AS77)","v":""},{"$f":"IF(D99=\"\",\"\",VLOOKUP(B99&C99,Lists!$BA$2:$BD$78,4,FALSE))","v":""},"","",{"$f":"IF($E99=\"\",\"\",SUMIFS('CMS Downtime Detail'!$K$24:$K$500,'CMS Downtime Detail'!$B$24:$B$500,$B99,'CMS Downtime Detail'!$C$24:$C$500,$C99,'CMS Downtime Detail'!$D$24:$D$500,$D99,'CMS Downtime Detail'!$E$24:$E$500,\"Monitoring Equipment Malfunctions\"))","v":""},{"$f":"IF($E99=\"\",\"\",SUMIFS('CMS Downtime Detail'!$K$24:$K$500,'CMS Downtime Detail'!$B$24:$B$500,$B99,'CMS Downtime Detail'!$C$24:$C$500,$C99,'CMS Downtime Detail'!$D$24:$D$500,$D99,'CMS Downtime Detail'!$E$24:$E$500,\"Nonmonitoring Equipment Malfunctions\"))","v":""},{"$f":"IF($E99=\"\",\"\",SUMIFS('CMS Downtime Detail'!$K$24:$K$500,'CMS Downtime Detail'!$B$24:$B$500,$B99,'CMS Downtime Detail'!$C$24:$C$500,$C99,'CMS Downtime Detail'!$D$24:$D$500,$D99,'CMS Downtime Detail'!$E$24:$E$500,\"Quality Assurance/Quality Control Calibrations\"))","v":""},{"$f":"IF($E99=\"\",\"\",SUMIFS('CMS Downtime Detail'!$K$24:$K$500,'CMS Downtime Detail'!$B$24:$B$500,$B99,'CMS Downtime Detail'!$C$24:$C$500,$C99,'CMS Downtime Detail'!$D$24:$D$500,$D99,'CMS Downtime Detail'!$E$24:$E$500,\"Other Known Causes\"))","v":""},{"$f":"IF($E99=\"\",\"\",SUMIFS('CMS Downtime Detail'!$K$24:$K$500,'CMS Downtime Detail'!$B$24:$B$500,$B99,'CMS Downtime Detail'!$C$24:$C$500,$C99,'CMS Downtime Detail'!$D$24:$D$500,$D99,'CMS Downtime Detail'!$E$24:$E$500,\"Other Unknown Causes\"))","v":""}]
[null,{"$f":"IF(Lists!AQ78=\"\",\"\",Lists!AQ78)","v":""},{"$f":"IF(Lists!AR78=\"\",\"\",Lists!AR78)","v":""},{"$f":"IF(Lists!AS78=\"\",\"\",Lists!AS78)","v":""},{"$f":"IF(D100=\"\",\"\",VLOOKUP(B100&C100,Lists!$BA$2:$BD$78,4,FALSE))","v":""},"","",{"$f":"IF($E100=\"\",\"\",SUMIFS('CMS Downtime Detail'!$K$24:$K$500,'CMS Downtime Detail'!$B$24:$B$500,$B100,'CMS Downtime Detail'!$C$24:$C$500,$C100,'CMS Downtime Detail'!$D$24:$D$500,$D100,'CMS Downtime Detail'!$E$24:$E$500,\"Monitoring Equipment Malfunctions\"))","v":""},{"$f":"IF($E100=\"\",\"\",SUMIFS('CMS Downtime Detail'!$K$24:$K$500,'CMS Downtime Detail'!$B$24:$B$500,$B100,'CMS Downtime Detail'!$C$24:$C$500,$C100,'CMS Downtime Detail'!$D$24:$D$500,$D100,'CMS Downtime Detail'!$E$24:$E$500,\"Nonmonitoring Equipment Malfunctions\"))","v":""},{"$f":"IF($E100=\"\",\"\",SUMIFS('CMS Downtime Detail'!$K$24:$K$500,'CMS Downtime Detail'!$B$24:$B$500,$B100,'CMS Downtime Detail'!$C$24:$C$500,$C100,'CMS Downtime Detail'!$D$24:$D$500,$D100,'CMS Downtime Detail'!$E$24:$E$500,\"Quality Assurance/Quality Control Calibrations\"))","v":""},{"$f":"IF($E100=\"\",\"\",SUMIFS('CMS Downtime Detail'!$K$24:$K$500,'CMS Downtime Detail'!$B$24:$B$500,$B100,'CMS Downtime Detail'!$C$24:$C$500,$C100,'CMS Downtime Detail'!$D$24:$D$500,$D100,'CMS Downtime Detail'!$E$24:$E$500,\"Other Known Causes\"))","v":""},{"$f":"IF($E100=\"\",\"\",SUMIFS('CMS Downtime Detail'!$K$24:$K$500,'CMS Downtime Detail'!$B$24:$B$500,$B100,'CMS Downtime Detail'!$C$24:$C$500,$C100,'CMS Downtime Detail'!$D$24:$D$500,$D100,'CMS Downtime Detail'!$E$24:$E$500,\"Other Unknown Causes\"))","v":""}]
[null,{"$f":"IF(Lists!AQ79=\"\",\"\",Lists!AQ79)","v":""},{"$f":"IF(Lists!AR79=\"\",\"\",Lists!AR79)","v":""},{"$f":"IF(Lists!AS79=\"\",\"\",Lists!AS79)","v":""},{"$f":"IF(D101=\"\",\"\",VLOOKUP(B101&C101,Lists!$BA$2:$BD$78,4,FALSE))","v":""},"","",{"$f":"IF($E101=\"\",\"\",SUMIFS('CMS Downtime Detail'!$K$24:$K$500,'CMS Downtime Detail'!$B$24:$B$500,$B101,'CMS Downtime Detail'!$C$24:$C$500,$C101,'CMS Downtime Detail'!$D$24:$D$500,$D101,'CMS Downtime Detail'!$E$24:$E$500,\"Monitoring Equipment Malfunctions\"))","v":""},{"$f":"IF($E101=\"\",\"\",SUMIFS('CMS Downtime Detail'!$K$24:$K$500,'CMS Downtime Detail'!$B$24:$B$500,$B101,'CMS Downtime Detail'!$C$24:$C$500,$C101,'CMS Downtime Detail'!$D$24:$D$500,$D101,'CMS Downtime Detail'!$E$24:$E$500,\"Nonmonitoring Equipment Malfunctions\"))","v":""},{"$f":"IF($E101=\"\",\"\",SUMIFS('CMS Downtime Detail'!$K$24:$K$500,'CMS Downtime Detail'!$B$24:$B$500,$B101,'CMS Downtime Detail'!$C$24:$C$500,$C101,'CMS Downtime Detail'!$D$24:$D$500,$D101,'CMS Downtime Detail'!$E$24:$E$500,\"Quality Assurance/Quality Control Calibrations\"))","v":""},{"$f":"IF($E101=\"\",\"\",SUMIFS('CMS Downtime Detail'!$K$24:$K$500,'CMS Downtime Detail'!$B$24:$B$500,$B101,'CMS Downtime Detail'!$C$24:$C$500,$C101,'CMS Downtime Detail'!$D$24:$D$500,$D101,'CMS Downtime Detail'!$E$24:$E$500,\"Other Known Causes\"))","v":""},{"$f":"IF($E101=\"\",\"\",SUMIFS('CMS Downtime Detail'!$K$24:$K$500,'CMS Downtime Detail'!$B$24:$B$500,$B101,'CMS Downtime Detail'!$C$24:$C$500,$C101,'CMS Downtime Detail'!$D$24:$D$500,$D101,'CMS Downtime Detail'!$E$24:$E$500,\"Other Unknown Causes\"))","v":""}]
[null,{"$f":"IF(Lists!AQ80=\"\",\"\",Lists!AQ80)","v":""},{"$f":"IF(Lists!AR80=\"\",\"\",Lists!AR80)","v":""},{"$f":"IF(Lists!AS80=\"\",\"\",Lists!AS80)","v":""},{"$f":"IF(D102=\"\",\"\",VLOOKUP(B102&C102,Lists!$BA$2:$BD$78,4,FALSE))","v":""},"","",{"$f":"IF($E102=\"\",\"\",SUMIFS('CMS Downtime Detail'!$K$24:$K$500,'CMS Downtime Detail'!$B$24:$B$500,$B102,'CMS Downtime Detail'!$C$24:$C$500,$C102,'CMS Downtime Detail'!$D$24:$D$500,$D102,'CMS Downtime Detail'!$E$24:$E$500,\"Monitoring Equipment Malfunctions\"))","v":""},{"$f":"IF($E102=\"\",\"\",SUMIFS('CMS Downtime Detail'!$K$24:$K$500,'CMS Downtime Detail'!$B$24:$B$500,$B102,'CMS Downtime Detail'!$C$24:$C$500,$C102,'CMS Downtime Detail'!$D$24:$D$500,$D102,'CMS Downtime Detail'!$E$24:$E$500,\"Nonmonitoring Equipment Malfunctions\"))","v":""},{"$f":"IF($E102=\"\",\"\",SUMIFS('CMS Downtime Detail'!$K$24:$K$500,'CMS Downtime Detail'!$B$24:$B$500,$B102,'CMS Downtime Detail'!$C$24:$C$500,$C102,'CMS Downtime Detail'!$D$24:$D$500,$D102,'CMS Downtime Detail'!$E$24:$E$500,\"Quality Assurance/Quality Control Calibrations\"))","v":""},{"$f":"IF($E102=\"\",\"\",SUMIFS('CMS Downtime Detail'!$K$24:$K$500,'CMS Downtime Detail'!$B$24:$B$500,$B102,'CMS Downtime Detail'!$C$24:$C$500,$C102,'CMS Downtime Detail'!$D$24:$D$500,$D102,'CMS Downtime Detail'!$E$24:$E$500,\"Other Known Causes\"))","v":""},{"$f":"IF($E102=\"\",\"\",SUMIFS('CMS Downtime Detail'!$K$24:$K$500,'CMS Downtime Detail'!$B$24:$B$500,$B102,'CMS Downtime Detail'!$C$24:$C$500,$C102,'CMS Downtime Detail'!$D$24:$D$500,$D102,'CMS Downtime Detail'!$E$24:$E$500,\"Other Unknown Causes\"))","v":""}]
[null,{"$f":"IF(Lists!AQ81=\"\",\"\",Lists!AQ81)","v":""},{"$f":"IF(Lists!AR81=\"\",\"\",Lists!AR81)","v":""},{"$f":"IF(Lists!AS81=\"\",\"\",Lists!AS81)","v":""},{"$f":"IF(D103=\"\",\"\",VLOOKUP(B103&C103,Lists!$BA$2:$BD$78,4,FALSE))","v":""},"","",{"$f":"IF($E103=\"\",\"\",SUMIFS('CMS Downtime Detail'!$K$24:$K$500,'CMS Downtime Detail'!$B$24:$B$500,$B103,'CMS Downtime Detail'!$C$24:$C$500,$C103,'CMS Downtime Detail'!$D$24:$D$500,$D103,'CMS Downtime Detail'!$E$24:$E$500,\"Monitoring Equipment Malfunctions\"))","v":""},{"$f":"IF($E103=\"\",\"\",SUMIFS('CMS Downtime Detail'!$K$24:$K$500,'CMS Downtime Detail'!$B$24:$B$500,$B103,'CMS Downtime Detail'!$C$24:$C$500,$C103,'CMS Downtime Detail'!$D$24:$D$500,$D103,'CMS Downtime Detail'!$E$24:$E$500,\"Nonmonitoring Equipment Malfunctions\"))","v":""},{"$f":"IF($E103=\"\",\"\",SUMIFS('CMS Downtime Detail'!$K$24:$K$500,'CMS Downtime Detail'!$B$24:$B$500,$B103,'CMS Downtime Detail'!$C$24:$C$500,$C103,'CMS Downtime Detail'!$D$24:$D$500,$D103,'CMS Downtime Detail'!$E$24:$E$500,\"Quality Assurance/Quality Control Calibrations\"))","v":""},{"$f":"IF($E103=\"\",\"\",SUMIFS('CMS Downtime Detail'!$K$24:$K$500,'CMS Downtime Detail'!$B$24:$B$500,$B103,'CMS Downtime Detail'!$C$24:$C$500,$C103,'CMS Downtime Detail'!$D$24:$D$500,$D103,'CMS Downtime Detail'!$E$24:$E$500,\"Other Known Causes\"))","v":""},{"$f":"IF($E103=\"\",\"\",SUMIFS('CMS Downtime Detail'!$K$24:$K$500,'CMS Downtime Detail'!$B$24:$B$500,$B103,'CMS Downtime Detail'!$C$24:$C$500,$C103,'CMS Downtime Detail'!$D$24:$D$500,$D103,'CMS Downtime Detail'!$E$24:$E$500,\"Other Unknown Causes\"))","v":""}]
[null,{"$f":"IF(Lists!AQ82=\"\",\"\",Lists!AQ82)","v":""},{"$f":"IF(Lists!AR82=\"\",\"\",Lists!AR82)","v":""},{"$f":"IF(Lists!AS82=\"\",\"\",Lists!AS82)","v":""},{"$f":"IF(D104=\"\",\"\",VLOOKUP(B104&C104,Lists!$BA$2:$BD$78,4,FALSE))","v":""},"","",{"$f":"IF($E104=\"\",\"\",SUMIFS('CMS Downtime Detail'!$K$24:$K$500,'CMS Downtime Detail'!$B$24:$B$500,$B104,'CMS Downtime Detail'!$C$24:$C$500,$C104,'CMS Downtime Detail'!$D$24:$D$500,$D104,'CMS Downtime Detail'!$E$24:$E$500,\"Monitoring Equipment Malfunctions\"))","v":""},{"$f":"IF($E104=\"\",\"\",SUMIFS('CMS Downtime Detail'!$K$24:$K$500,'CMS Downtime Detail'!$B$24:$B$500,$B104,'CMS Downtime Detail'!$C$24:$C$500,$C104,'CMS Downtime Detail'!$D$24:$D$500,$D104,'CMS Downtime Detail'!$E$24:$E$500,\"Nonmonitoring Equipment Malfunctions\"))","v":""},{"$f":"IF($E104=\"\",\"\",SUMIFS('CMS Downtime Detail'!$K$24:$K$500,'CMS Downtime Detail'!$B$24:$B$500,$B104,'CMS Downtime Detail'!$C$24:$C$500,$C104,'CMS Downtime Detail'!$D$24:$D$500,$D104,'CMS Downtime Detail'!$E$24:$E$500,\"Quality Assurance/Quality Control Calibrations\"))","v":""},{"$f":"IF($E104=\"\",\"\",SUMIFS('CMS Downtime Detail'!$K$24:$K$500,'CMS Downtime Detail'!$B$24:$B$500,$B104,'CMS Downtime Detail'!$C$24:$C$500,$C104,'CMS Downtime Detail'!$D$24:$D$500,$D104,'CMS Downtime Detail'!$E$24:$E$500,\"Other Known Causes\"))","v":""},{"$f":"IF($E104=\"\",\"\",SUMIFS('CMS Downtime Detail'!$K$24:$K$500,'CMS Downtime Detail'!$B$24:$B$500,$B104,'CMS Downtime Detail'!$C$24:$C$500,$C104,'CMS Downtime Detail'!$D$24:$D$500,$D104,'CMS Downtime Detail'!$E$24:$E$500,\"Other Unknown Causes\"))","v":""}]
[null,{"$f":"IF(Lists!AQ83=\"\",\"\",Lists!AQ83)","v":""},{"$f":"IF(Lists!AR83=\"\",\"\",Lists!AR83)","v":""},{"$f":"IF(Lists!AS83=\"\",\"\",Lists!AS83)","v":""},{"$f":"IF(D105=\"\",\"\",VLOOKUP(B105&C105,Lists!$BA$2:$BD$78,4,FALSE))","v":""},"","",{"$f":"IF($E105=\"\",\"\",SUMIFS('CMS Downtime Detail'!$K$24:$K$500,'CMS Downtime Detail'!$B$24:$B$500,$B105,'CMS Downtime Detail'!$C$24:$C$500,$C105,'CMS Downtime Detail'!$D$24:$D$500,$D105,'CMS Downtime Detail'!$E$24:$E$500,\"Monitoring Equipment Malfunctions\"))","v":""},{"$f":"IF($E105=\"\",\"\",SUMIFS('CMS Downtime Detail'!$K$24:$K$500,'CMS Downtime Detail'!$B$24:$B$500,$B105,'CMS Downtime Detail'!$C$24:$C$500,$C105,'CMS Downtime Detail'!$D$24:$D$500,$D105,'CMS Downtime Detail'!$E$24:$E$500,\"Nonmonitoring Equipment Malfunctions\"))","v":""},{"$f":"IF($E105=\"\",\"\",SUMIFS('CMS Downtime Detail'!$K$24:$K$500,'CMS Downtime Detail'!$B$24:$B$500,$B105,'CMS Downtime Detail'!$C$24:$C$500,$C105,'CMS Downtime Detail'!$D$24:$D$500,$D105,'CMS Downtime Detail'!$E$24:$E$500,\"Quality Assurance/Quality Control Calibrations\"))","v":""},{"$f":"IF($E105=\"\",\"\",SUMIFS('CMS Downtime Detail'!$K$24:$K$500,'CMS Downtime Detail'!$B$24:$B$500,$B105,'CMS Downtime Detail'!$C$24:$C$500,$C105,'CMS Downtime Detail'!$D$24:$D$500,$D105,'CMS Downtime Detail'!$E$24:$E$500,\"Other Known Causes\"))","v":""},{"$f":"IF($E105=\"\",\"\",SUMIFS('CMS Downtime Detail'!$K$24:$K$500,'CMS Downtime Detail'!$B$24:$B$500,$B105,'CMS Downtime Detail'!$C$24:$C$500,$C105,'CMS Downtime Detail'!$D$24:$D$500,$D105,'CMS Downtime Detail'!$E$24:$E$500,\"Other Unknown Causes\"))","v":""}]
[null,{"$f":"IF(Lists!AQ84=\"\",\"\",Lists!AQ84)","v":""},{"$f":"IF(Lists!AR84=\"\",\"\",Lists!AR84)","v":""},{"$f":"IF(Lists!AS84=\"\",\"\",Lists!AS84)","v":""},{"$f":"IF(D106=\"\",\"\",VLOOKUP(B106&C106,Lists!$BA$2:$BD$78,4,FALSE))","v":""},"","",{"$f":"IF($E106=\"\",\"\",SUMIFS('CMS Downtime Detail'!$K$24:$K$500,'CMS Downtime Detail'!$B$24:$B$500,$B106,'CMS Downtime Detail'!$C$24:$C$500,$C106,'CMS Downtime Detail'!$D$24:$D$500,$D106,'CMS Downtime Detail'!$E$24:$E$500,\"Monitoring Equipment Malfunctions\"))","v":""},{"$f":"IF($E106=\"\",\"\",SUMIFS('CMS Downtime Detail'!$K$24:$K$500,'CMS Downtime Detail'!$B$24:$B$500,$B106,'CMS Downtime Detail'!$C$24:$C$500,$C106,'CMS Downtime Detail'!$D$24:$D$500,$D106,'CMS Downtime Detail'!$E$24:$E$500,\"Nonmonitoring Equipment Malfunctions\"))","v":""},{"$f":"IF($E106=\"\",\"\",SUMIFS('CMS Downtime Detail'!$K$24:$K$500,'CMS Downtime Detail'!$B$24:$B$500,$B106,'CMS Downtime Detail'!$C$24:$C$500,$C106,'CMS Downtime Detail'!$D$24:$D$500,$D106,'CMS Downtime Detail'!$E$24:$E$500,\"Quality Assurance/Quality Control Calibrations\"))","v":""},{"$f":"IF($E106=\"\",\"\",SUMIFS('CMS Downtime Detail'!$K$24:$K$500,'CMS Downtime Detail'!$B$24:$B$500,$B106,'CMS Downtime Detail'!$C$24:$C$500,$C106,'CMS Downtime Detail'!$D$24:$D$500,$D106,'CMS Downtime Detail'!$E$24:$E$500,\"Other Known Causes\"))","v":""},{"$f":"IF($E106=\"\",\"\",SUMIFS('CMS Downtime Detail'!$K$24:$K$500,'CMS Downtime Detail'!$B$24:$B$500,$B106,'CMS Downtime Detail'!$C$24:$C$500,$C106,'CMS Downtime Detail'!$D$24:$D$500,$D106,'CMS Downtime Detail'!$E$24:$E$500,\"Other Unknown Causes\"))","v":""}]
[null,{"$f":"IF(Lists!AQ85=\"\",\"\",Lists!AQ85)","v":""},{"$f":"IF(Lists!AR85=\"\",\"\",Lists!AR85)","v":""},{"$f":"IF(Lists!AS85=\"\",\"\",Lists!AS85)","v":""},{"$f":"IF(D107=\"\",\"\",VLOOKUP(B107&C107,Lists!$BA$2:$BD$78,4,FALSE))","v":""},"","",{"$f":"IF($E107=\"\",\"\",SUMIFS('CMS Downtime Detail'!$K$24:$K$500,'CMS Downtime Detail'!$B$24:$B$500,$B107,'CMS Downtime Detail'!$C$24:$C$500,$C107,'CMS Downtime Detail'!$D$24:$D$500,$D107,'CMS Downtime Detail'!$E$24:$E$500,\"Monitoring Equipment Malfunctions\"))","v":""},{"$f":"IF($E107=\"\",\"\",SUMIFS('CMS Downtime Detail'!$K$24:$K$500,'CMS Downtime Detail'!$B$24:$B$500,$B107,'CMS Downtime Detail'!$C$24:$C$500,$C107,'CMS Downtime Detail'!$D$24:$D$500,$D107,'CMS Downtime Detail'!$E$24:$E$500,\"Nonmonitoring Equipment Malfunctions\"))","v":""},{"$f":"IF($E107=\"\",\"\",SUMIFS('CMS Downtime Detail'!$K$24:$K$500,'CMS Downtime Detail'!$B$24:$B$500,$B107,'CMS Downtime Detail'!$C$24:$C$500,$C107,'CMS Downtime Detail'!$D$24:$D$500,$D107,'CMS Downtime Detail'!$E$24:$E$500,\"Quality Assurance/Quality Control Calibrations\"))","v":""},{"$f":"IF($E107=\"\",\"\",SUMIFS('CMS Downtime Detail'!$K$24:$K$500,'CMS Downtime Detail'!$B$24:$B$500,$B107,'CMS Downtime Detail'!$C$24:$C$500,$C107,'CMS Downtime Detail'!$D$24:$D$500,$D107,'CMS Downtime Detail'!$E$24:$E$500,\"Other Known Causes\"))","v":""},{"$f":"IF($E107=\"\",\"\",SUMIFS('CMS Downtime Detail'!$K$24:$K$500,'CMS Downtime Detail'!$B$24:$B$500,$B107,'CMS Downtime Detail'!$C$24:$C$500,$C107,'CMS Downtime Detail'!$D$24:$D$500,$D107,'CMS Downtime Detail'!$E$24:$E$500,\"Other Unknown Causes\"))","v":""}]
[null,{"$f":"IF(Lists!AQ86=\"\",\"\",Lists!AQ86)","v":""},{"$f":"IF(Lists!AR86=\"\",\"\",Lists!AR86)","v":""},{"$f":"IF(Lists!AS86=\"\",\"\",Lists!AS86)","v":""},{"$f":"IF(D108=\"\",\"\",VLOOKUP(B108&C108,Lists!$BA$2:$BD$78,4,FALSE))","v":""},"","",{"$f":"IF($E108=\"\",\"\",SUMIFS('CMS Downtime Detail'!$K$24:$K$500,'CMS Downtime Detail'!$B$24:$B$500,$B108,'CMS Downtime Detail'!$C$24:$C$500,$C108,'CMS Downtime Detail'!$D$24:$D$500,$D108,'CMS Downtime Detail'!$E$24:$E$500,\"Monitoring Equipment Malfunctions\"))","v":""},{"$f":"IF($E108=\"\",\"\",SUMIFS('CMS Downtime Detail'!$K$24:$K$500,'CMS Downtime Detail'!$B$24:$B$500,$B108,'CMS Downtime Detail'!$C$24:$C$500,$C108,'CMS Downtime Detail'!$D$24:$D$500,$D108,'CMS Downtime Detail'!$E$24:$E$500,\"Nonmonitoring Equipment Malfunctions\"))","v":""},{"$f":"IF($E108=\"\",\"\",SUMIFS('CMS Downtime Detail'!$K$24:$K$500,'CMS Downtime Detail'!$B$24:$B$500,$B108,'CMS Downtime Detail'!$C$24:$C$500,$C108,'CMS Downtime Detail'!$D$24:$D$500,$D108,'CMS Downtime Detail'!$E$24:$E$500,\"Quality Assurance/Quality Control Calibrations\"))","v":""},{"$f":"IF($E108=\"\",\"\",SUMIFS('CMS Downtime Detail'!$K$24:$K$500,'CMS Downtime Detail'!$B$24:$B$500,$B108,'CMS Downtime Detail'!$C$24:$C$500,$C108,'CMS Downtime Detail'!$D$24:$D$500,$D108,'CMS Downtime Detail'!$E$24:$E$500,\"Other Known Causes\"))","v":""},{"$f":"IF($E108=\"\",\"\",SUMIFS('CMS Downtime Detail'!$K$24:$K$500,'CMS Downtime Detail'!$B$24:$B$500,$B108,'CMS Downtime Detail'!$C$24:$C$500,$C108,'CMS Downtime Detail'!$D$24:$D$500,$D108,'CMS Downtime Detail'!$E$24:$E$500,\"Other Unknown Causes\"))","v":""}]
[null,{"$f":"IF(Lists!AQ87=\"\",\"\",Lists!AQ87)","v":""},{"$f":"IF(Lists!AR87=\"\",\"\",Lists!AR87)","v":""},{"$f":"IF(Lists!AS87=\"\",\"\",Lists!AS87)","v":""},{"$f":"IF(D109=\"\",\"\",VLOOKUP(B109&C109,Lists!$BA$2:$BD$78,4,FALSE))","v":""},"","",{"$f":"IF($E109=\"\",\"\",SUMIFS('CMS Downtime Detail'!$K$24:$K$500,'CMS Downtime Detail'!$B$24:$B$500,$B109,'CMS Downtime Detail'!$C$24:$C$500,$C109,'CMS Downtime Detail'!$D$24:$D$500,$D109,'CMS Downtime Detail'!$E$24:$E$500,\"Monitoring Equipment Malfunctions\"))","v":""},{"$f":"IF($E109=\"\",\"\",SUMIFS('CMS Downtime Detail'!$K$24:$K$500,'CMS Downtime Detail'!$B$24:$B$500,$B109,'CMS Downtime Detail'!$C$24:$C$500,$C109,'CMS Downtime Detail'!$D$24:$D$500,$D109,'CMS Downtime Detail'!$E$24:$E$500,\"Nonmonitoring Equipment Malfunctions\"))","v":""},{"$f":"IF($E109=\"\",\"\",SUMIFS('CMS Downtime Detail'!$K$24:$K$500,'CMS Downtime Detail'!$B$24:$B$500,$B109,'CMS Downtime Detail'!$C$24:$C$500,$C109,'CMS Downtime Detail'!$D$24:$D$500,$D109,'CMS Downtime Detail'!$E$24:$E$500,\"Quality Assurance/Quality Control Calibrations\"))","v":""},{"$f":"IF($E109=\"\",\"\",SUMIFS('CMS Downtime Detail'!$K$24:$K$500,'CMS Downtime Detail'!$B$24:$B$500,$B109,'CMS Downtime Detail'!$C$24:$C$500,$C109,'CMS Downtime Detail'!$D$24:$D$500,$D109,'CMS Downtime Detail'!$E$24:$E$500,\"Other Known Causes\"))","v":""},{"$f":"IF($E109=\"\",\"\",SUMIFS('CMS Downtime Detail'!$K$24:$K$500,'CMS Downtime Detail'!$B$24:$B$500,$B109,'CMS Downtime Detail'!$C$24:$C$500,$C109,'CMS Downtime Detail'!$D$24:$D$500,$D109,'CMS Downtime Detail'!$E$24:$E$500,\"Other Unknown Causes\"))","v":""}]
[null,{"$f":"IF(Lists!AQ88=\"\",\"\",Lists!AQ88)","v":""},{"$f":"IF(Lists!AR88=\"\",\"\",Lists!AR88)","v":""},{"$f":"IF(Lists!AS88=\"\",\"\",Lists!AS88)","v":""},{"$f":"IF(D110=\"\",\"\",VLOOKUP(B110&C110,Lists!$BA$2:$BD$78,4,FALSE))","v":""},"","",{"$f":"IF($E110=\"\",\"\",SUMIFS('CMS Downtime Detail'!$K$24:$K$500,'CMS Downtime Detail'!$B$24:$B$500,$B110,'CMS Downtime Detail'!$C$24:$C$500,$C110,'CMS Downtime Detail'!$D$24:$D$500,$D110,'CMS Downtime Detail'!$E$24:$E$500,\"Monitoring Equipment Malfunctions\"))","v":""},{"$f":"IF($E110=\"\",\"\",SUMIFS('CMS Downtime Detail'!$K$24:$K$500,'CMS Downtime Detail'!$B$24:$B$500,$B110,'CMS Downtime Detail'!$C$24:$C$500,$C110,'CMS Downtime Detail'!$D$24:$D$500,$D110,'CMS Downtime Detail'!$E$24:$E$500,\"Nonmonitoring Equipment Malfunctions\"))","v":""},{"$f":"IF($E110=\"\",\"\",SUMIFS('CMS Downtime Detail'!$K$24:$K$500,'CMS Downtime Detail'!$B$24:$B$500,$B110,'CMS Downtime Detail'!$C$24:$C$500,$C110,'CMS Downtime Detail'!$D$24:$D$500,$D110,'CMS Downtime Detail'!$E$24:$E$500,\"Quality Assurance/Quality Control Calibrations\"))","v":""},{"$f":"IF($E110=\"\",\"\",SUMIFS('CMS Downtime Detail'!$K$24:$K$500,'CMS Downtime Detail'!$B$24:$B$500,$B110,'CMS Downtime Detail'!$C$24:$C$500,$C110,'CMS Downtime Detail'!$D$24:$D$500,$D110,'CMS Downtime Detail'!$E$24:$E$500,\"Other Known Causes\"))","v":""},{"$f":"IF($E110=\"\",\"\",SUMIFS('CMS Downtime Detail'!$K$24:$K$500,'CMS Downtime Detail'!$B$24:$B$500,$B110,'CMS Downtime Detail'!$C$24:$C$500,$C110,'CMS Downtime Detail'!$D$24:$D$500,$D110,'CMS Downtime Detail'!$E$24:$E$500,\"Other Unknown Causes\"))","v":""}]
[null,{"$f":"IF(Lists!AQ89=\"\",\"\",Lists!AQ89)","v":""},{"$f":"IF(Lists!AR89=\"\",\"\",Lists!AR89)","v":""},{"$f":"IF(Lists!AS89=\"\",\"\",Lists!AS89)","v":""},{"$f":"IF(D111=\"\",\"\",VLOOKUP(B111&C111,Lists!$BA$2:$BD$78,4,FALSE))","v":""},"","",{"$f":"IF($E111=\"\",\"\",SUMIFS('CMS Downtime Detail'!$K$24:$K$500,'CMS Downtime Detail'!$B$24:$B$500,$B111,'CMS Downtime Detail'!$C$24:$C$500,$C111,'CMS Downtime Detail'!$D$24:$D$500,$D111,'CMS Downtime Detail'!$E$24:$E$500,\"Monitoring Equipment Malfunctions\"))","v":""},{"$f":"IF($E111=\"\",\"\",SUMIFS('CMS Downtime Detail'!$K$24:$K$500,'CMS Downtime Detail'!$B$24:$B$500,$B111,'CMS Downtime Detail'!$C$24:$C$500,$C111,'CMS Downtime Detail'!$D$24:$D$500,$D111,'CMS Downtime Detail'!$E$24:$E$500,\"Nonmonitoring Equipment Malfunctions\"))","v":""},{"$f":"IF($E111=\"\",\"\",SUMIFS('CMS Downtime Detail'!$K$24:$K$500,'CMS Downtime Detail'!$B$24:$B$500,$B111,'CMS Downtime Detail'!$C$24:$C$500,$C111,'CMS Downtime Detail'!$D$24:$D$500,$D111,'CMS Downtime Detail'!$E$24:$E$500,\"Quality Assurance/Quality Control Calibrations\"))","v":""},{"$f":"IF($E111=\"\",\"\",SUMIFS('CMS Downtime Detail'!$K$24:$K$500,'CMS Downtime Detail'!$B$24:$B$500,$B111,'CMS Downtime Detail'!$C$24:$C$500,$C111,'CMS Downtime Detail'!$D$24:$D$500,$D111,'CMS Downtime Detail'!$E$24:$E$500,\"Other Known Causes\"))","v":""},{"$f":"IF($E111=\"\",\"\",SUMIFS('CMS Downtime Detail'!$K$24:$K$500,'CMS Downtime Detail'!$B$24:$B$500,$B111,'CMS Downtime Detail'!$C$24:$C$500,$C111,'CMS Downtime Detail'!$D$24:$D$500,$D111,'CMS Downtime Detail'!$E$24:$E$500,\"Other Unknown Causes\"))","v":""}]
[null,{"$f":"IF(Lists!AQ90=\"\",\"\",Lists!AQ90)","v":""},{"$f":"IF(Lists!AR90=\"\",\"\",Lists!AR90)","v":""},{"$f":"IF(Lists!AS90=\"\",\"\",Lists!AS90)","v":""},{"$f":"IF(D112=\"\",\"\",VLOOKUP(B112&C112,Lists!$BA$2:$BD$78,4,FALSE))","v":""},"","",{"$f":"IF($E112=\"\",\"\",SUMIFS('CMS Downtime Detail'!$K$24:$K$500,'CMS Downtime Detail'!$B$24:$B$500,$B112,'CMS Downtime Detail'!$C$24:$C$500,$C112,'CMS Downtime Detail'!$D$24:$D$500,$D112,'CMS Downtime Detail'!$E$24:$E$500,\"Monitoring Equipment Malfunctions\"))","v":""},{"$f":"IF($E112=\"\",\"\",SUMIFS('CMS Downtime Detail'!$K$24:$K$500,'CMS Downtime Detail'!$B$24:$B$500,$B112,'CMS Downtime Detail'!$C$24:$C$500,$C112,'CMS Downtime Detail'!$D$24:$D$500,$D112,'CMS Downtime Detail'!$E$24:$E$500,\"Nonmonitoring Equipment Malfunctions\"))","v":""},{"$f":"IF($E112=\"\",\"\",SUMIFS('CMS Downtime Detail'!$K$24:$K$500,'CMS Downtime Detail'!$B$24:$B$500,$B112,'CMS Downtime Detail'!$C$24:$C$500,$C112,'CMS Downtime Detail'!$D$24:$D$500,$D112,'CMS Downtime Detail'!$E$24:$E$500,\"Quality Assurance/Quality Control Calibrations\"))","v":""},{"$f":"IF($E112=\"\",\"\",SUMIFS('CMS Downtime Detail'!$K$24:$K$500,'CMS Downtime Detail'!$B$24:$B$500,$B112,'CMS Downtime Detail'!$C$24:$C$500,$C112,'CMS Downtime Detail'!$D$24:$D$500,$D112,'CMS Downtime Detail'!$E$24:$E$500,\"Other Known Causes\"))","v":""},{"$f":"IF($E112=\"\",\"\",SUMIFS('CMS Downtime Detail'!$K$24:$K$500,'CMS Downtime Detail'!$B$24:$B$500,$B112,'CMS Downtime Detail'!$C$24:$C$500,$C112,'CMS Downtime Detail'!$D$24:$D$500,$D112,'CMS Downtime Detail'!$E$24:$E$500,\"Other Unknown Causes\"))","v":""}]
[null,{"$f":"IF(Lists!AQ91=\"\",\"\",Lists!AQ91)","v":""},{"$f":"IF(Lists!AR91=\"\",\"\",Lists!AR91)","v":""},{"$f":"IF(Lists!AS91=\"\",\"\",Lists!AS91)","v":""},{"$f":"IF(D113=\"\",\"\",VLOOKUP(B113&C113,Lists!$BA$2:$BD$78,4,FALSE))","v":""},"","",{"$f":"IF($E113=\"\",\"\",SUMIFS('CMS Downtime Detail'!$K$24:$K$500,'CMS Downtime Detail'!$B$24:$B$500,$B113,'CMS Downtime Detail'!$C$24:$C$500,$C113,'CMS Downtime Detail'!$D$24:$D$500,$D113,'CMS Downtime Detail'!$E$24:$E$500,\"Monitoring Equipment Malfunctions\"))","v":""},{"$f":"IF($E113=\"\",\"\",SUMIFS('CMS Downtime Detail'!$K$24:$K$500,'CMS Downtime Detail'!$B$24:$B$500,$B113,'CMS Downtime Detail'!$C$24:$C$500,$C113,'CMS Downtime Detail'!$D$24:$D$500,$D113,'CMS Downtime Detail'!$E$24:$E$500,\"Nonmonitoring Equipment Malfunctions\"))","v":""},{"$f":"IF($E113=\"\",\"\",SUMIFS('CMS Downtime Detail'!$K$24:$K$500,'CMS Downtime Detail'!$B$24:$B$500,$B113,'CMS Downtime Detail'!$C$24:$C$500,$C113,'CMS Downtime Detail'!$D$24:$D$500,$D113,'CMS Downtime Detail'!$E$24:$E$500,\"Quality Assurance/Quality Control Calibrations\"))","v":""},{"$f":"IF($E113=\"\",\"\",SUMIFS('CMS Downtime Detail'!$K$24:$K$500,'CMS Downtime Detail'!$B$24:$B$500,$B113,'CMS Downtime Detail'!$C$24:$C$500,$C113,'CMS Downtime Detail'!$D$24:$D$500,$D113,'CMS Downtime Detail'!$E$24:$E$500,\"Other Known Causes\"))","v":""},{"$f":"IF($E113=\"\",\"\",SUMIFS('CMS Downtime Detail'!$K$24:$K$500,'CMS Downtime Detail'!$B$24:$B$500,$B113,'CMS Downtime Detail'!$C$24:$C$500,$C113,'CMS Downtime Detail'!$D$24:$D$500,$D113,'CMS Downtime Detail'!$E$24:$E$500,\"Other Unknown Causes\"))","v":""}]
[null,{"$f":"IF(Lists!AQ92=\"\",\"\",Lists!AQ92)","v":""},{"$f":"IF(Lists!AR92=\"\",\"\",Lists!AR92)","v":""},{"$f":"IF(Lists!AS92=\"\",\"\",Lists!AS92)","v":""},{"$f":"IF(D114=\"\",\"\",VLOOKUP(B114&C114,Lists!$BA$2:$BD$78,4,FALSE))","v":""},"","",{"$f":"IF($E114=\"\",\"\",SUMIFS('CMS Downtime Detail'!$K$24:$K$500,'CMS Downtime Detail'!$B$24:$B$500,$B114,'CMS Downtime Detail'!$C$24:$C$500,$C114,'CMS Downtime Detail'!$D$24:$D$500,$D114,'CMS Downtime Detail'!$E$24:$E$500,\"Monitoring Equipment Malfunctions\"))","v":""},{"$f":"IF($E114=\"\",\"\",SUMIFS('CMS Downtime Detail'!$K$24:$K$500,'CMS Downtime Detail'!$B$24:$B$500,$B114,'CMS Downtime Detail'!$C$24:$C$500,$C114,'CMS Downtime Detail'!$D$24:$D$500,$D114,'CMS Downtime Detail'!$E$24:$E$500,\"Nonmonitoring Equipment Malfunctions\"))","v":""},{"$f":"IF($E114=\"\",\"\",SUMIFS('CMS Downtime Detail'!$K$24:$K$500,'CMS Downtime Detail'!$B$24:$B$500,$B114,'CMS Downtime Detail'!$C$24:$C$500,$C114,'CMS Downtime Detail'!$D$24:$D$500,$D114,'CMS Downtime Detail'!$E$24:$E$500,\"Quality Assurance/Quality Control Calibrations\"))","v":""},{"$f":"IF($E114=\"\",\"\",SUMIFS('CMS Downtime Detail'!$K$24:$K$500,'CMS Downtime Detail'!$B$24:$B$500,$B114,'CMS Downtime Detail'!$C$24:$C$500,$C114,'CMS Downtime Detail'!$D$24:$D$500,$D114,'CMS Downtime Detail'!$E$24:$E$500,\"Other Known Causes\"))","v":""},{"$f":"IF($E114=\"\",\"\",SUMIFS('CMS Downtime Detail'!$K$24:$K$500,'CMS Downtime Detail'!$B$24:$B$500,$B114,'CMS Downtime Detail'!$C$24:$C$500,$C114,'CMS Downtime Detail'!$D$24:$D$500,$D114,'CMS Downtime Detail'!$E$24:$E$500,\"Other Unknown Causes\"))","v":""}]
[null,{"$f":"IF(Lists!AQ93=\"\",\"\",Lists!AQ93)","v":""},{"$f":"IF(Lists!AR93=\"\",\"\",Lists!AR93)","v":""},{"$f":"IF(Lists!AS93=\"\",\"\",Lists!AS93)","v":""},{"$f":"IF(D115=\"\",\"\",VLOOKUP(B115&C115,Lists!$BA$2:$BD$78,4,FALSE))","v":""},"","",{"$f":"IF($E115=\"\",\"\",SUMIFS('CMS Downtime Detail'!$K$24:$K$500,'CMS Downtime Detail'!$B$24:$B$500,$B115,'CMS Downtime Detail'!$C$24:$C$500,$C115,'CMS Downtime Detail'!$D$24:$D$500,$D115,'CMS Downtime Detail'!$E$24:$E$500,\"Monitoring Equipment Malfunctions\"))","v":""},{"$f":"IF($E115=\"\",\"\",SUMIFS('CMS Downtime Detail'!$K$24:$K$500,'CMS Downtime Detail'!$B$24:$B$500,$B115,'CMS Downtime Detail'!$C$24:$C$500,$C115,'CMS Downtime Detail'!$D$24:$D$500,$D115,'CMS Downtime Detail'!$E$24:$E$500,\"Nonmonitoring Equipment Malfunctions\"))","v":""},{"$f":"IF($E115=\"\",\"\",SUMIFS('CMS Downtime Detail'!$K$24:$K$500,'CMS Downtime Detail'!$B$24:$B$500,$B115,'CMS Downtime Detail'!$C$24:$C$500,$C115,'CMS Downtime Detail'!$D$24:$D$500,$D115,'CMS Downtime Detail'!$E$24:$E$500,\"Quality Assurance/Quality Control Calibrations\"))","v":""},{"$f":"IF($E115=\"\",\"\",SUMIFS('CMS Downtime Detail'!$K$24:$K$500,'CMS Downtime Detail'!$B$24:$B$500,$B115,'CMS Downtime Detail'!$C$24:$C$500,$C115,'CMS Downtime Detail'!$D$24:$D$500,$D115,'CMS Downtime Detail'!$E$24:$E$500,\"Other Known Causes\"))","v":""},{"$f":"IF($E115=\"\",\"\",SUMIFS('CMS Downtime Detail'!$K$24:$K$500,'CMS Downtime Detail'!$B$24:$B$500,$B115,'CMS Downtime Detail'!$C$24:$C$500,$C115,'CMS Downtime Detail'!$D$24:$D$500,$D115,'CMS Downtime Detail'!$E$24:$E$500,\"Other Unknown Causes\"))","v":""}]
[null,{"$f":"IF(Lists!AQ94=\"\",\"\",Lists!AQ94)","v":""},{"$f":"IF(Lists!AR94=\"\",\"\",Lists!AR94)","v":""},{"$f":"IF(Lists!AS94=\"\",\"\",Lists!AS94)","v":""},{"$f":"IF(D116=\"\",\"\",VLOOKUP(B116&C116,Lists!$BA$2:$BD$78,4,FALSE))","v":""},"","",{"$f":"IF($E116=\"\",\"\",SUMIFS('CMS Downtime Detail'!$K$24:$K$500,'CMS Downtime Detail'!$B$24:$B$500,$B116,'CMS Downtime Detail'!$C$24:$C$500,$C116,'CMS Downtime Detail'!$D$24:$D$500,$D116,'CMS Downtime Detail'!$E$24:$E$500,\"Monitoring Equipment Malfunctions\"))","v":""},{"$f":"IF($E116=\"\",\"\",SUMIFS('CMS Downtime Detail'!$K$24:$K$500,'CMS Downtime Detail'!$B$24:$B$500,$B116,'CMS Downtime Detail'!$C$24:$C$500,$C116,'CMS Downtime Detail'!$D$24:$D$500,$D116,'CMS Downtime Detail'!$E$24:$E$500,\"Nonmonitoring Equipment Malfunctions\"))","v":""},{"$f":"IF($E116=\"\",\"\",SUMIFS('CMS Downtime Detail'!$K$24:$K$500,'CMS Downtime Detail'!$B$24:$B$500,$B116,'CMS Downtime Detail'!$C$24:$C$500,$C116,'CMS Downtime Detail'!$D$24:$D$500,$D116,'CMS Downtime Detail'!$E$24:$E$500,\"Quality Assurance/Quality Control Calibrations\"))","v":""},{"$f":"IF($E116=\"\",\"\",SUMIFS('CMS Downtime Detail'!$K$24:$K$500,'CMS Downtime Detail'!$B$24:$B$500,$B116,'CMS Downtime Detail'!$C$24:$C$500,$C116,'CMS Downtime Detail'!$D$24:$D$500,$D116,'CMS Downtime Detail'!$E$24:$E$500,\"Other Known Causes\"))","v":""},{"$f":"IF($E116=\"\",\"\",SUMIFS('CMS Downtime Detail'!$K$24:$K$500,'CMS Downtime Detail'!$B$24:$B$500,$B116,'CMS Downtime Detail'!$C$24:$C$500,$C116,'CMS Downtime Detail'!$D$24:$D$500,$D116,'CMS Downtime Detail'!$E$24:$E$500,\"Other Unknown Causes\"))","v":""}]
[null,{"$f":"IF(Lists!AQ95=\"\",\"\",Lists!AQ95)","v":""},{"$f":"IF(Lists!AR95=\"\",\"\",Lists!AR95)","v":""},{"$f":"IF(Lists!AS95=\"\",\"\",Lists!AS95)","v":""},{"$f":"IF(D117=\"\",\"\",VLOOKUP(B117&C117,Lists!$BA$2:$BD$78,4,FALSE))","v":""},"","",{"$f":"IF($E117=\"\",\"\",SUMIFS('CMS Downtime Detail'!$K$24:$K$500,'CMS Downtime Detail'!$B$24:$B$500,$B117,'CMS Downtime Detail'!$C$24:$C$500,$C117,'CMS Downtime Detail'!$D$24:$D$500,$D117,'CMS Downtime Detail'!$E$24:$E$500,\"Monitoring Equipment Malfunctions\"))","v":""},{"$f":"IF($E117=\"\",\"\",SUMIFS('CMS Downtime Detail'!$K$24:$K$500,'CMS Downtime Detail'!$B$24:$B$500,$B117,'CMS Downtime Detail'!$C$24:$C$500,$C117,'CMS Downtime Detail'!$D$24:$D$500,$D117,'CMS Downtime Detail'!$E$24:$E$500,\"Nonmonitoring Equipment Malfunctions\"))","v":""},{"$f":"IF($E117=\"\",\"\",SUMIFS('CMS Downtime Detail'!$K$24:$K$500,'CMS Downtime Detail'!$B$24:$B$500,$B117,'CMS Downtime Detail'!$C$24:$C$500,$C117,'CMS Downtime Detail'!$D$24:$D$500,$D117,'CMS Downtime Detail'!$E$24:$E$500,\"Quality Assurance/Quality Control Calibrations\"))","v":""},{"$f":"IF($E117=\"\",\"\",SUMIFS('CMS Downtime Detail'!$K$24:$K$500,'CMS Downtime Detail'!$B$24:$B$500,$B117,'CMS Downtime Detail'!$C$24:$C$500,$C117,'CMS Downtime Detail'!$D$24:$D$500,$D117,'CMS Downtime Detail'!$E$24:$E$500,\"Other Known Causes\"))","v":""},{"$f":"IF($E117=\"\",\"\",SUMIFS('CMS Downtime Detail'!$K$24:$K$500,'CMS Downtime Detail'!$B$24:$B$500,$B117,'CMS Downtime Detail'!$C$24:$C$500,$C117,'CMS Downtime Detail'!$D$24:$D$500,$D117,'CMS Downtime Detail'!$E$24:$E$500,\"Other Unknown Causes\"))","v":""}]
[null,{"$f":"IF(Lists!AQ96=\"\",\"\",Lists!AQ96)","v":""},{"$f":"IF(Lists!AR96=\"\",\"\",Lists!AR96)","v":""},{"$f":"IF(Lists!AS96=\"\",\"\",Lists!AS96)","v":""},{"$f":"IF(D118=\"\",\"\",VLOOKUP(B118&C118,Lists!$BA$2:$BD$78,4,FALSE))","v":""},"","",{"$f":"IF($E118=\"\",\"\",SUMIFS('CMS Downtime Detail'!$K$24:$K$500,'CMS Downtime Detail'!$B$24:$B$500,$B118,'CMS Downtime Detail'!$C$24:$C$500,$C118,'CMS Downtime Detail'!$D$24:$D$500,$D118,'CMS Downtime Detail'!$E$24:$E$500,\"Monitoring Equipment Malfunctions\"))","v":""},{"$f":"IF($E118=\"\",\"\",SUMIFS('CMS Downtime Detail'!$K$24:$K$500,'CMS Downtime Detail'!$B$24:$B$500,$B118,'CMS Downtime Detail'!$C$24:$C$500,$C118,'CMS Downtime Detail'!$D$24:$D$500,$D118,'CMS Downtime Detail'!$E$24:$E$500,\"Nonmonitoring Equipment Malfunctions\"))","v":""},{"$f":"IF($E118=\"\",\"\",SUMIFS('CMS Downtime Detail'!$K$24:$K$500,'CMS Downtime Detail'!$B$24:$B$500,$B118,'CMS Downtime Detail'!$C$24:$C$500,$C118,'CMS Downtime Detail'!$D$24:$D$500,$D118,'CMS Downtime Detail'!$E$24:$E$500,\"Quality Assurance/Quality Control Calibrations\"))","v":""},{"$f":"IF($E118=\"\",\"\",SUMIFS('CMS Downtime Detail'!$K$24:$K$500,'CMS Downtime Detail'!$B$24:$B$500,$B118,'CMS Downtime Detail'!$C$24:$C$500,$C118,'CMS Downtime Detail'!$D$24:$D$500,$D118,'CMS Downtime Detail'!$E$24:$E$500,\"Other Known Causes\"))","v":""},{"$f":"IF($E118=\"\",\"\",SUMIFS('CMS Downtime Detail'!$K$24:$K$500,'CMS Downtime Detail'!$B$24:$B$500,$B118,'CMS Downtime Detail'!$C$24:$C$500,$C118,'CMS Downtime Detail'!$D$24:$D$500,$D118,'CMS Downtime Detail'!$E$24:$E$500,\"Other Unknown Causes\"))","v":""}]
[null,{"$f":"IF(Lists!AQ97=\"\",\"\",Lists!AQ97)","v":""},{"$f":"IF(Lists!AR97=\"\",\"\",Lists!AR97)","v":""},{"$f":"IF(Lists!AS97=\"\",\"\",Lists!AS97)","v":""},{"$f":"IF(D119=\"\",\"\",VLOOKUP(B119&C119,Lists!$BA$2:$BD$78,4,FALSE))","v":""},"","",{"$f":"IF($E119=\"\",\"\",SUMIFS('CMS Downtime Detail'!$K$24:$K$500,'CMS Downtime Detail'!$B$24:$B$500,$B119,'CMS Downtime Detail'!$C$24:$C$500,$C119,'CMS Downtime Detail'!$D$24:$D$500,$D119,'CMS Downtime Detail'!$E$24:$E$500,\"Monitoring Equipment Malfunctions\"))","v":""},{"$f":"IF($E119=\"\",\"\",SUMIFS('CMS Downtime Detail'!$K$24:$K$500,'CMS Downtime Detail'!$B$24:$B$500,$B119,'CMS Downtime Detail'!$C$24:$C$500,$C119,'CMS Downtime Detail'!$D$24:$D$500,$D119,'CMS Downtime Detail'!$E$24:$E$500,\"Nonmonitoring Equipment Malfunctions\"))","v":""},{"$f":"IF($E119=\"\",\"\",SUMIFS('CMS Downtime Detail'!$K$24:$K$500,'CMS Downtime Detail'!$B$24:$B$500,$B119,'CMS Downtime Detail'!$C$24:$C$500,$C119,'CMS Downtime Detail'!$D$24:$D$500,$D119,'CMS Downtime Detail'!$E$24:$E$500,\"Quality Assurance/Quality Control Calibrations\"))","v":""},{"$f":"IF($E119=\"\",\"\",SUMIFS('CMS Downtime Detail'!$K$24:$K$500,'CMS Downtime Detail'!$B$24:$B$500,$B119,'CMS Downtime Detail'!$C$24:$C$500,$C119,'CMS Downtime Detail'!$D$24:$D$500,$D119,'CMS Downtime Detail'!$E$24:$E$500,\"Other Known Causes\"))","v":""},{"$f":"IF($E119=\"\",\"\",SUMIFS('CMS Downtime Detail'!$K$24:$K$500,'CMS Downtime Detail'!$B$24:$B$500,$B119,'CMS Downtime Detail'!$C$24:$C$500,$C119,'CMS Downtime Detail'!$D$24:$D$500,$D119,'CMS Downtime Detail'!$E$24:$E$500,\"Other Unknown Causes\"))","v":""}]
[null,{"$f":"IF(Lists!AQ98=\"\",\"\",Lists!AQ98)","v":""},{"$f":"IF(Lists!AR98=\"\",\"\",Lists!AR98)","v":""},{"$f":"IF(Lists!AS98=\"\",\"\",Lists!AS98)","v":""},{"$f":"IF(D120=\"\",\"\",VLOOKUP(B120&C120,Lists!$BA$2:$BD$78,4,FALSE))","v":""},"","",{"$f":"IF($E120=\"\",\"\",SUMIFS('CMS Downtime Detail'!$K$24:$K$500,'CMS Downtime Detail'!$B$24:$B$500,$B120,'CMS Downtime Detail'!$C$24:$C$500,$C120,'CMS Downtime Detail'!$D$24:$D$500,$D120,'CMS Downtime Detail'!$E$24:$E$500,\"Monitoring Equipment Malfunctions\"))","v":""},{"$f":"IF($E120=\"\",\"\",SUMIFS('CMS Downtime Detail'!$K$24:$K$500,'CMS Downtime Detail'!$B$24:$B$500,$B120,'CMS Downtime Detail'!$C$24:$C$500,$C120,'CMS Downtime Detail'!$D$24:$D$500,$D120,'CMS Downtime Detail'!$E$24:$E$500,\"Nonmonitoring Equipment Malfunctions\"))","v":""},{"$f":"IF($E120=\"\",\"\",SUMIFS('CMS Downtime Detail'!$K$24:$K$500,'CMS Downtime Detail'!$B$24:$B$500,$B120,'CMS Downtime Detail'!$C$24:$C$500,$C120,'CMS Downtime Detail'!$D$24:$D$500,$D120,'CMS Downtime Detail'!$E$24:$E$500,\"Quality Assurance/Quality Control Calibrations\"))","v":""},{"$f":"IF($E120=\"\",\"\",SUMIFS('CMS Downtime Detail'!$K$24:$K$500,'CMS Downtime Detail'!$B$24:$B$500,$B120,'CMS Downtime Detail'!$C$24:$C$500,$C120,'CMS Downtime Detail'!$D$24:$D$500,$D120,'CMS Downtime Detail'!$E$24:$E$500,\"Other Known Causes\"))","v":""},{"$f":"IF($E120=\"\",\"\",SUMIFS('CMS Downtime Detail'!$K$24:$K$500,'CMS Downtime Detail'!$B$24:$B$500,$B120,'CMS Downtime Detail'!$C$24:$C$500,$C120,'CMS Downtime Detail'!$D$24:$D$500,$D120,'CMS Downtime Detail'!$E$24:$E$500,\"Other Unknown Causes\"))","v":""}]
[null,{"$f":"IF(Lists!AQ99=\"\",\"\",Lists!AQ99)","v":""},{"$f":"IF(Lists!AR99=\"\",\"\",Lists!AR99)","v":""},{"$f":"IF(Lists!AS99=\"\",\"\",Lists!AS99)","v":""},{"$f":"IF(D121=\"\",\"\",VLOOKUP(B121&C121,Lists!$BA$2:$BD$78,4,FALSE))","v":""},"","",{"$f":"IF($E121=\"\",\"\",SUMIFS('CMS Downtime Detail'!$K$24:$K$500,'CMS Downtime Detail'!$B$24:$B$500,$B121,'CMS Downtime Detail'!$C$24:$C$500,$C121,'CMS Downtime Detail'!$D$24:$D$500,$D121,'CMS Downtime Detail'!$E$24:$E$500,\"Monitoring Equipment Malfunctions\"))","v":""},{"$f":"IF($E121=\"\",\"\",SUMIFS('CMS Downtime Detail'!$K$24:$K$500,'CMS Downtime Detail'!$B$24:$B$500,$B121,'CMS Downtime Detail'!$C$24:$C$500,$C121,'CMS Downtime Detail'!$D$24:$D$500,$D121,'CMS Downtime Detail'!$E$24:$E$500,\"Nonmonitoring Equipment Malfunctions\"))","v":""},{"$f":"IF($E121=\"\",\"\",SUMIFS('CMS Downtime Detail'!$K$24:$K$500,'CMS Downtime Detail'!$B$24:$B$500,$B121,'CMS Downtime Detail'!$C$24:$C$500,$C121,'CMS Downtime Detail'!$D$24:$D$500,$D121,'CMS Downtime Detail'!$E$24:$E$500,\"Quality Assurance/Quality Control Calibrations\"))","v":""},{"$f":"IF($E121=\"\",\"\",SUMIFS('CMS Downtime Detail'!$K$24:$K$500,'CMS Downtime Detail'!$B$24:$B$500,$B121,'CMS Downtime Detail'!$C$24:$C$500,$C121,'CMS Downtime Detail'!$D$24:$D$500,$D121,'CMS Downtime Detail'!$E$24:$E$500,\"Other Known Causes\"))","v":""},{"$f":"IF($E121=\"\",\"\",SUMIFS('CMS Downtime Detail'!$K$24:$K$500,'CMS Downtime Detail'!$B$24:$B$500,$B121,'CMS Downtime Detail'!$C$24:$C$500,$C121,'CMS Downtime Detail'!$D$24:$D$500,$D121,'CMS Downtime Detail'!$E$24:$E$500,\"Other Unknown Causes\"))","v":""}]
[null,{"$f":"IF(Lists!AQ100=\"\",\"\",Lists!AQ100)","v":""},{"$f":"IF(Lists!AR100=\"\",\"\",Lists!AR100)","v":""},{"$f":"IF(Lists!AS100=\"\",\"\",Lists!AS100)","v":""},{"$f":"IF(D122=\"\",\"\",VLOOKUP(B122&C122,Lists!$BA$2:$BD$78,4,FALSE))","v":""},"","",{"$f":"IF($E122=\"\",\"\",SUMIFS('CMS Downtime Detail'!$K$24:$K$500,'CMS Downtime Detail'!$B$24:$B$500,$B122,'CMS Downtime Detail'!$C$24:$C$500,$C122,'CMS Downtime Detail'!$D$24:$D$500,$D122,'CMS Downtime Detail'!$E$24:$E$500,\"Monitoring Equipment Malfunctions\"))","v":""},{"$f":"IF($E122=\"\",\"\",SUMIFS('CMS Downtime Detail'!$K$24:$K$500,'CMS Downtime Detail'!$B$24:$B$500,$B122,'CMS Downtime Detail'!$C$24:$C$500,$C122,'CMS Downtime Detail'!$D$24:$D$500,$D122,'CMS Downtime Detail'!$E$24:$E$500,\"Nonmonitoring Equipment Malfunctions\"))","v":""},{"$f":"IF($E122=\"\",\"\",SUMIFS('CMS Downtime Detail'!$K$24:$K$500,'CMS Downtime Detail'!$B$24:$B$500,$B122,'CMS Downtime Detail'!$C$24:$C$500,$C122,'CMS Downtime Detail'!$D$24:$D$500,$D122,'CMS Downtime Detail'!$E$24:$E$500,\"Quality Assurance/Quality Control Calibrations\"))","v":""},{"$f":"IF($E122=\"\",\"\",SUMIFS('CMS Downtime Detail'!$K$24:$K$500,'CMS Downtime Detail'!$B$24:$B$500,$B122,'CMS Downtime Detail'!$C$24:$C$500,$C122,'CMS Downtime Detail'!$D$24:$D$500,$D122,'CMS Downtime Detail'!$E$24:$E$500,\"Other Known Causes\"))","v":""},{"$f":"IF($E122=\"\",\"\",SUMIFS('CMS Downtime Detail'!$K$24:$K$500,'CMS Downtime Detail'!$B$24:$B$500,$B122,'CMS Downtime Detail'!$C$24:$C$500,$C122,'CMS Downtime Detail'!$D$24:$D$500,$D122,'CMS Downtime Detail'!$E$24:$E$500,\"Other Unknown Causes\"))","v":""}]
[null,{"$f":"IF(Lists!AQ101=\"\",\"\",Lists!AQ101)","v":""},{"$f":"IF(Lists!AR101=\"\",\"\",Lists!AR101)","v":""},{"$f":"IF(Lists!AS101=\"\",\"\",Lists!AS101)","v":""},{"$f":"IF(D123=\"\",\"\",VLOOKUP(B123&C123,Lists!$BA$2:$BD$78,4,FALSE))","v":""},"","",{"$f":"IF($E123=\"\",\"\",SUMIFS('CMS Downtime Detail'!$K$24:$K$500,'CMS Downtime Detail'!$B$24:$B$500,$B123,'CMS Downtime Detail'!$C$24:$C$500,$C123,'CMS Downtime Detail'!$D$24:$D$500,$D123,'CMS Downtime Detail'!$E$24:$E$500,\"Monitoring Equipment Malfunctions\"))","v":""},{"$f":"IF($E123=\"\",\"\",SUMIFS('CMS Downtime Detail'!$K$24:$K$500,'CMS Downtime Detail'!$B$24:$B$500,$B123,'CMS Downtime Detail'!$C$24:$C$500,$C123,'CMS Downtime Detail'!$D$24:$D$500,$D123,'CMS Downtime Detail'!$E$24:$E$500,\"Nonmonitoring Equipment Malfunctions\"))","v":""},{"$f":"IF($E123=\"\",\"\",SUMIFS('CMS Downtime Detail'!$K$24:$K$500,'CMS Downtime Detail'!$B$24:$B$500,$B123,'CMS Downtime Detail'!$C$24:$C$500,$C123,'CMS Downtime Detail'!$D$24:$D$500,$D123,'CMS Downtime Detail'!$E$24:$E$500,\"Quality Assurance/Quality Control Calibrations\"))","v":""},{"$f":"IF($E123=\"\",\"\",SUMIFS('CMS Downtime Detail'!$K$24:$K$500,'CMS Downtime Detail'!$B$24:$B$500,$B123,'CMS Downtime Detail'!$C$24:$C$500,$C123,'CMS Downtime Detail'!$D$24:$D$500,$D123,'CMS Downtime Detail'!$E$24:$E$500,\"Other Known Causes\"))","v":""},{"$f":"IF($E123=\"\",\"\",SUMIFS('CMS Downtime Detail'!$K$24:$K$500,'CMS Downtime Detail'!$B$24:$B$500,$B123,'CMS Downtime Detail'!$C$24:$C$500,$C123,'CMS Downtime Detail'!$D$24:$D$500,$D123,'CMS Downtime Detail'!$E$24:$E$500,\"Other Unknown Causes\"))","v":""}]
[null,{"$f":"IF(Lists!AQ102=\"\",\"\",Lists!AQ102)","v":""},{"$f":"IF(Lists!AR102=\"\",\"\",Lists!AR102)","v":""},{"$f":"IF(Lists!AS102=\"\",\"\",Lists!AS102)","v":""},{"$f":"IF(D124=\"\",\"\",VLOOKUP(B124&C124,Lists!$BA$2:$BD$78,4,FALSE))","v":""},"","",{"$f":"IF($E124=\"\",\"\",SUMIFS('CMS Downtime Detail'!$K$24:$K$500,'CMS Downtime Detail'!$B$24:$B$500,$B124,'CMS Downtime Detail'!$C$24:$C$500,$C124,'CMS Downtime Detail'!$D$24:$D$500,$D124,'CMS Downtime Detail'!$E$24:$E$500,\"Monitoring Equipment Malfunctions\"))","v":""},{"$f":"IF($E124=\"\",\"\",SUMIFS('CMS Downtime Detail'!$K$24:$K$500,'CMS Downtime Detail'!$B$24:$B$500,$B124,'CMS Downtime Detail'!$C$24:$C$500,$C124,'CMS Downtime Detail'!$D$24:$D$500,$D124,'CMS Downtime Detail'!$E$24:$E$500,\"Nonmonitoring Equipment Malfunctions\"))","v":""},{"$f":"IF($E124=\"\",\"\",SUMIFS('CMS Downtime Detail'!$K$24:$K$500,'CMS Downtime Detail'!$B$24:$B$500,$B124,'CMS Downtime Detail'!$C$24:$C$500,$C124,'CMS Downtime Detail'!$D$24:$D$500,$D124,'CMS Downtime Detail'!$E$24:$E$500,\"Quality Assurance/Quality Control Calibrations\"))","v":""},{"$f":"IF($E124=\"\",\"\",SUMIFS('CMS Downtime Detail'!$K$24:$K$500,'CMS Downtime Detail'!$B$24:$B$500,$B124,'CMS Downtime Detail'!$C$24:$C$500,$C124,'CMS Downtime Detail'!$D$24:$D$500,$D124,'CMS Downtime Detail'!$E$24:$E$500,\"Other Known Causes\"))","v":""},{"$f":"IF($E124=\"\",\"\",SUMIFS('CMS Downtime Detail'!$K$24:$K$500,'CMS Downtime Detail'!$B$24:$B$500,$B124,'CMS Downtime Detail'!$C$24:$C$500,$C124,'CMS Downtime Detail'!$D$24:$D$500,$D124,'CMS Downtime Detail'!$E$24:$E$500,\"Other Unknown Causes\"))","v":""}]
[null,{"$f":"IF(Lists!AQ103=\"\",\"\",Lists!AQ103)","v":""},{"$f":"IF(Lists!AR103=\"\",\"\",Lists!AR103)","v":""},{"$f":"IF(Lists!AS103=\"\",\"\",Lists!AS103)","v":""},{"$f":"IF(D125=\"\",\"\",VLOOKUP(B125&C125,Lists!$BA$2:$BD$78,4,FALSE))","v":""},"","",{"$f":"IF($E125=\"\",\"\",SUMIFS('CMS Downtime Detail'!$K$24:$K$500,'CMS Downtime Detail'!$B$24:$B$500,$B125,'CMS Downtime Detail'!$C$24:$C$500,$C125,'CMS Downtime Detail'!$D$24:$D$500,$D125,'CMS Downtime Detail'!$E$24:$E$500,\"Monitoring Equipment Malfunctions\"))","v":""},{"$f":"IF($E125=\"\",\"\",SUMIFS('CMS Downtime Detail'!$K$24:$K$500,'CMS Downtime Detail'!$B$24:$B$500,$B125,'CMS Downtime Detail'!$C$24:$C$500,$C125,'CMS Downtime Detail'!$D$24:$D$500,$D125,'CMS Downtime Detail'!$E$24:$E$500,\"Nonmonitoring Equipment Malfunctions\"))","v":""},{"$f":"IF($E125=\"\",\"\",SUMIFS('CMS Downtime Detail'!$K$24:$K$500,'CMS Downtime Detail'!$B$24:$B$500,$B125,'CMS Downtime Detail'!$C$24:$C$500,$C125,'CMS Downtime Detail'!$D$24:$D$500,$D125,'CMS Downtime Detail'!$E$24:$E$500,\"Quality Assurance/Quality Control Calibrations\"))","v":""},{"$f":"IF($E125=\"\",\"\",SUMIFS('CMS Downtime Detail'!$K$24:$K$500,'CMS Downtime Detail'!$B$24:$B$500,$B125,'CMS Downtime Detail'!$C$24:$C$500,$C125,'CMS Downtime Detail'!$D$24:$D$500,$D125,'CMS Downtime Detail'!$E$24:$E$500,\"Other Known Causes\"))","v":""},{"$f":"IF($E125=\"\",\"\",SUMIFS('CMS Downtime Detail'!$K$24:$K$500,'CMS Downtime Detail'!$B$24:$B$500,$B125,'CMS Downtime Detail'!$C$24:$C$500,$C125,'CMS Downtime Detail'!$D$24:$D$500,$D125,'CMS Downtime Detail'!$E$24:$E$500,\"Other Unknown Causes\"))","v":""}]
[null,{"$f":"IF(Lists!AQ104=\"\",\"\",Lists!AQ104)","v":""},{"$f":"IF(Lists!AR104=\"\",\"\",Lists!AR104)","v":""},{"$f":"IF(Lists!AS104=\"\",\"\",Lists!AS104)","v":""},{"$f":"IF(D126=\"\",\"\",VLOOKUP(B126&C126,Lists!$BA$2:$BD$78,4,FALSE))","v":""},"","",{"$f":"IF($E126=\"\",\"\",SUMIFS('CMS Downtime Detail'!$K$24:$K$500,'CMS Downtime Detail'!$B$24:$B$500,$B126,'CMS Downtime Detail'!$C$24:$C$500,$C126,'CMS Downtime Detail'!$D$24:$D$500,$D126,'CMS Downtime Detail'!$E$24:$E$500,\"Monitoring Equipment Malfunctions\"))","v":""},{"$f":"IF($E126=\"\",\"\",SUMIFS('CMS Downtime Detail'!$K$24:$K$500,'CMS Downtime Detail'!$B$24:$B$500,$B126,'CMS Downtime Detail'!$C$24:$C$500,$C126,'CMS Downtime Detail'!$D$24:$D$500,$D126,'CMS Downtime Detail'!$E$24:$E$500,\"Nonmonitoring Equipment Malfunctions\"))","v":""},{"$f":"IF($E126=\"\",\"\",SUMIFS('CMS Downtime Detail'!$K$24:$K$500,'CMS Downtime Detail'!$B$24:$B$500,$B126,'CMS Downtime Detail'!$C$24:$C$500,$C126,'CMS Downtime Detail'!$D$24:$D$500,$D126,'CMS Downtime Detail'!$E$24:$E$500,\"Quality Assurance/Quality Control Calibrations\"))","v":""},{"$f":"IF($E126=\"\",\"\",SUMIFS('CMS Downtime Detail'!$K$24:$K$500,'CMS Downtime Detail'!$B$24:$B$500,$B126,'CMS Downtime Detail'!$C$24:$C$500,$C126,'CMS Downtime Detail'!$D$24:$D$500,$D126,'CMS Downtime Detail'!$E$24:$E$500,\"Other Known Causes\"))","v":""},{"$f":"IF($E126=\"\",\"\",SUMIFS('CMS Downtime Detail'!$K$24:$K$500,'CMS Downtime Detail'!$B$24:$B$500,$B126,'CMS Downtime Detail'!$C$24:$C$500,$C126,'CMS Downtime Detail'!$D$24:$D$500,$D126,'CMS Downtime Detail'!$E$24:$E$500,\"Other Unknown Causes\"))","v":""}]
[null,{"$f":"IF(Lists!AQ105=\"\",\"\",Lists!AQ105)","v":""},{"$f":"IF(Lists!AR105=\"\",\"\",Lists!AR105)","v":""},{"$f":"IF(Lists!AS105=\"\",\"\",Lists!AS105)","v":""},{"$f":"IF(D127=\"\",\"\",VLOOKUP(B127&C127,Lists!$BA$2:$BD$78,4,FALSE))","v":""},"","",{"$f":"IF($E127=\"\",\"\",SUMIFS('CMS Downtime Detail'!$K$24:$K$500,'CMS Downtime Detail'!$B$24:$B$500,$B127,'CMS Downtime Detail'!$C$24:$C$500,$C127,'CMS Downtime Detail'!$D$24:$D$500,$D127,'CMS Downtime Detail'!$E$24:$E$500,\"Monitoring Equipment Malfunctions\"))","v":""},{"$f":"IF($E127=\"\",\"\",SUMIFS('CMS Downtime Detail'!$K$24:$K$500,'CMS Downtime Detail'!$B$24:$B$500,$B127,'CMS Downtime Detail'!$C$24:$C$500,$C127,'CMS Downtime Detail'!$D$24:$D$500,$D127,'CMS Downtime Detail'!$E$24:$E$500,\"Nonmonitoring Equipment Malfunctions\"))","v":""},{"$f":"IF($E127=\"\",\"\",SUMIFS('CMS Downtime Detail'!$K$24:$K$500,'CMS Downtime Detail'!$B$24:$B$500,$B127,'CMS Downtime Detail'!$C$24:$C$500,$C127,'CMS Downtime Detail'!$D$24:$D$500,$D127,'CMS Downtime Detail'!$E$24:$E$500,\"Quality Assurance/Quality Control Calibrations\"))","v":""},{"$f":"IF($E127=\"\",\"\",SUMIFS('CMS Downtime Detail'!$K$24:$K$500,'CMS Downtime Detail'!$B$24:$B$500,$B127,'CMS Downtime Detail'!$C$24:$C$500,$C127,'CMS Downtime Detail'!$D$24:$D$500,$D127,'CMS Downtime Detail'!$E$24:$E$500,\"Other Known Causes\"))","v":""},{"$f":"IF($E127=\"\",\"\",SUMIFS('CMS Downtime Detail'!$K$24:$K$500,'CMS Downtime Detail'!$B$24:$B$500,$B127,'CMS Downtime Detail'!$C$24:$C$500,$C127,'CMS Downtime Detail'!$D$24:$D$500,$D127,'CMS Downtime Detail'!$E$24:$E$500,\"Other Unknown Causes\"))","v":""}]
[null,{"$f":"IF(Lists!AQ106=\"\",\"\",Lists!AQ106)","v":""},{"$f":"IF(Lists!AR106=\"\",\"\",Lists!AR106)","v":""},{"$f":"IF(Lists!AS106=\"\",\"\",Lists!AS106)","v":""},{"$f":"IF(D128=\"\",\"\",VLOOKUP(B128&C128,Lists!$BA$2:$BD$78,4,FALSE))","v":""},"","",{"$f":"IF($E128=\"\",\"\",SUMIFS('CMS Downtime Detail'!$K$24:$K$500,'CMS Downtime Detail'!$B$24:$B$500,$B128,'CMS Downtime Detail'!$C$24:$C$500,$C128,'CMS Downtime Detail'!$D$24:$D$500,$D128,'CMS Downtime Detail'!$E$24:$E$500,\"Monitoring Equipment Malfunctions\"))","v":""},{"$f":"IF($E128=\"\",\"\",SUMIFS('CMS Downtime Detail'!$K$24:$K$500,'CMS Downtime Detail'!$B$24:$B$500,$B128,'CMS Downtime Detail'!$C$24:$C$500,$C128,'CMS Downtime Detail'!$D$24:$D$500,$D128,'CMS Downtime Detail'!$E$24:$E$500,\"Nonmonitoring Equipment Malfunctions\"))","v":""},{"$f":"IF($E128=\"\",\"\",SUMIFS('CMS Downtime Detail'!$K$24:$K$500,'CMS Downtime Detail'!$B$24:$B$500,$B128,'CMS Downtime Detail'!$C$24:$C$500,$C128,'CMS Downtime Detail'!$D$24:$D$500,$D128,'CMS Downtime Detail'!$E$24:$E$500,\"Quality Assurance/Quality Control Calibrations\"))","v":""},{"$f":"IF($E128=\"\",\"\",SUMIFS('CMS Downtime Detail'!$K$24:$K$500,'CMS Downtime Detail'!$B$24:$B$500,$B128,'CMS Downtime Detail'!$C$24:$C$500,$C128,'CMS Downtime Detail'!$D$24:$D$500,$D128,'CMS Downtime Detail'!$E$24:$E$500,\"Other Known Causes\"))","v":""},{"$f":"IF($E128=\"\",\"\",SUMIFS('CMS Downtime Detail'!$K$24:$K$500,'CMS Downtime Detail'!$B$24:$B$500,$B128,'CMS Downtime Detail'!$C$24:$C$500,$C128,'CMS Downtime Detail'!$D$24:$D$500,$D128,'CMS Downtime Detail'!$E$24:$E$500,\"Other Unknown Causes\"))","v":""}]
[null,{"$f":"IF(Lists!AQ107=\"\",\"\",Lists!AQ107)","v":""},{"$f":"IF(Lists!AR107=\"\",\"\",Lists!AR107)","v":""},{"$f":"IF(Lists!AS107=\"\",\"\",Lists!AS107)","v":""},{"$f":"IF(D129=\"\",\"\",VLOOKUP(B129&C129,Lists!$BA$2:$BD$78,4,FALSE))","v":""},"","",{"$f":"IF($E129=\"\",\"\",SUMIFS('CMS Downtime Detail'!$K$24:$K$500,'CMS Downtime Detail'!$B$24:$B$500,$B129,'CMS Downtime Detail'!$C$24:$C$500,$C129,'CMS Downtime Detail'!$D$24:$D$500,$D129,'CMS Downtime Detail'!$E$24:$E$500,\"Monitoring Equipment Malfunctions\"))","v":""},{"$f":"IF($E129=\"\",\"\",SUMIFS('CMS Downtime Detail'!$K$24:$K$500,'CMS Downtime Detail'!$B$24:$B$500,$B129,'CMS Downtime Detail'!$C$24:$C$500,$C129,'CMS Downtime Detail'!$D$24:$D$500,$D129,'CMS Downtime Detail'!$E$24:$E$500,\"Nonmonitoring Equipment Malfunctions\"))","v":""},{"$f":"IF($E129=\"\",\"\",SUMIFS('CMS Downtime Detail'!$K$24:$K$500,'CMS Downtime Detail'!$B$24:$B$500,$B129,'CMS Downtime Detail'!$C$24:$C$500,$C129,'CMS Downtime Detail'!$D$24:$D$500,$D129,'CMS Downtime Detail'!$E$24:$E$500,\"Quality Assurance/Quality Control Calibrations\"))","v":""},{"$f":"IF($E129=\"\",\"\",SUMIFS('CMS Downtime Detail'!$K$24:$K$500,'CMS Downtime Detail'!$B$24:$B$500,$B129,'CMS Downtime Detail'!$C$24:$C$500,$C129,'CMS Downtime Detail'!$D$24:$D$500,$D129,'CMS Downtime Detail'!$E$24:$E$500,\"Other Known Causes\"))","v":""},{"$f":"IF($E129=\"\",\"\",SUMIFS('CMS Downtime Detail'!$K$24:$K$500,'CMS Downtime Detail'!$B$24:$B$500,$B129,'CMS Downtime Detail'!$C$24:$C$500,$C129,'CMS Downtime Detail'!$D$24:$D$500,$D129,'CMS Downtime Detail'!$E$24:$E$500,\"Other Unknown Causes\"))","v":""}]
[null,{"$f":"IF(Lists!AQ108=\"\",\"\",Lists!AQ108)","v":""},{"$f":"IF(Lists!AR108=\"\",\"\",Lists!AR108)","v":""},{"$f":"IF(Lists!AS108=\"\",\"\",Lists!AS108)","v":""},{"$f":"IF(D130=\"\",\"\",VLOOKUP(B130&C130,Lists!$BA$2:$BD$78,4,FALSE))","v":""},"","",{"$f":"IF($E130=\"\",\"\",SUMIFS('CMS Downtime Detail'!$K$24:$K$500,'CMS Downtime Detail'!$B$24:$B$500,$B130,'CMS Downtime Detail'!$C$24:$C$500,$C130,'CMS Downtime Detail'!$D$24:$D$500,$D130,'CMS Downtime Detail'!$E$24:$E$500,\"Monitoring Equipment Malfunctions\"))","v":""},{"$f":"IF($E130=\"\",\"\",SUMIFS('CMS Downtime Detail'!$K$24:$K$500,'CMS Downtime Detail'!$B$24:$B$500,$B130,'CMS Downtime Detail'!$C$24:$C$500,$C130,'CMS Downtime Detail'!$D$24:$D$500,$D130,'CMS Downtime Detail'!$E$24:$E$500,\"Nonmonitoring Equipment Malfunctions\"))","v":""},{"$f":"IF($E130=\"\",\"\",SUMIFS('CMS Downtime Detail'!$K$24:$K$500,'CMS Downtime Detail'!$B$24:$B$500,$B130,'CMS Downtime Detail'!$C$24:$C$500,$C130,'CMS Downtime Detail'!$D$24:$D$500,$D130,'CMS Downtime Detail'!$E$24:$E$500,\"Quality Assurance/Quality Control Calibrations\"))","v":""},{"$f":"IF($E130=\"\",\"\",SUMIFS('CMS Downtime Detail'!$K$24:$K$500,'CMS Downtime Detail'!$B$24:$B$500,$B130,'CMS Downtime Detail'!$C$24:$C$500,$C130,'CMS Downtime Detail'!$D$24:$D$500,$D130,'CMS Downtime Detail'!$E$24:$E$500,\"Other Known Causes\"))","v":""},{"$f":"IF($E130=\"\",\"\",SUMIFS('CMS Downtime Detail'!$K$24:$K$500,'CMS Downtime Detail'!$B$24:$B$500,$B130,'CMS Downtime Detail'!$C$24:$C$500,$C130,'CMS Downtime Detail'!$D$24:$D$500,$D130,'CMS Downtime Detail'!$E$24:$E$500,\"Other Unknown Causes\"))","v":""}]
[null,{"$f":"IF(Lists!AQ109=\"\",\"\",Lists!AQ109)","v":""},{"$f":"IF(Lists!AR109=\"\",\"\",Lists!AR109)","v":""},{"$f":"IF(Lists!AS109=\"\",\"\",Lists!AS109)","v":""},{"$f":"IF(D131=\"\",\"\",VLOOKUP(B131&C131,Lists!$BA$2:$BD$78,4,FALSE))","v":""},"","",{"$f":"IF($E131=\"\",\"\",SUMIFS('CMS Downtime Detail'!$K$24:$K$500,'CMS Downtime Detail'!$B$24:$B$500,$B131,'CMS Downtime Detail'!$C$24:$C$500,$C131,'CMS Downtime Detail'!$D$24:$D$500,$D131,'CMS Downtime Detail'!$E$24:$E$500,\"Monitoring Equipment Malfunctions\"))","v":""},{"$f":"IF($E131=\"\",\"\",SUMIFS('CMS Downtime Detail'!$K$24:$K$500,'CMS Downtime Detail'!$B$24:$B$500,$B131,'CMS Downtime Detail'!$C$24:$C$500,$C131,'CMS Downtime Detail'!$D$24:$D$500,$D131,'CMS Downtime Detail'!$E$24:$E$500,\"Nonmonitoring Equipment Malfunctions\"))","v":""},{"$f":"IF($E131=\"\",\"\",SUMIFS('CMS Downtime Detail'!$K$24:$K$500,'CMS Downtime Detail'!$B$24:$B$500,$B131,'CMS Downtime Detail'!$C$24:$C$500,$C131,'CMS Downtime Detail'!$D$24:$D$500,$D131,'CMS Downtime Detail'!$E$24:$E$500,\"Quality Assurance/Quality Control Calibrations\"))","v":""},{"$f":"IF($E131=\"\",\"\",SUMIFS('CMS Downtime Detail'!$K$24:$K$500,'CMS Downtime Detail'!$B$24:$B$500,$B131,'CMS Downtime Detail'!$C$24:$C$500,$C131,'CMS Downtime Detail'!$D$24:$D$500,$D131,'CMS Downtime Detail'!$E$24:$E$500,\"Other Known Causes\"))","v":""},{"$f":"IF($E131=\"\",\"\",SUMIFS('CMS Downtime Detail'!$K$24:$K$500,'CMS Downtime Detail'!$B$24:$B$500,$B131,'CMS Downtime Detail'!$C$24:$C$500,$C131,'CMS Downtime Detail'!$D$24:$D$500,$D131,'CMS Downtime Detail'!$E$24:$E$500,\"Other Unknown Causes\"))","v":""}]
[null,{"$f":"IF(Lists!AQ110=\"\",\"\",Lists!AQ110)","v":""},{"$f":"IF(Lists!AR110=\"\",\"\",Lists!AR110)","v":""},{"$f":"IF(Lists!AS110=\"\",\"\",Lists!AS110)","v":""},{"$f":"IF(D132=\"\",\"\",VLOOKUP(B132&C132,Lists!$BA$2:$BD$78,4,FALSE))","v":""},"","",{"$f":"IF($E132=\"\",\"\",SUMIFS('CMS Downtime Detail'!$K$24:$K$500,'CMS Downtime Detail'!$B$24:$B$500,$B132,'CMS Downtime Detail'!$C$24:$C$500,$C132,'CMS Downtime Detail'!$D$24:$D$500,$D132,'CMS Downtime Detail'!$E$24:$E$500,\"Monitoring Equipment Malfunctions\"))","v":""},{"$f":"IF($E132=\"\",\"\",SUMIFS('CMS Downtime Detail'!$K$24:$K$500,'CMS Downtime Detail'!$B$24:$B$500,$B132,'CMS Downtime Detail'!$C$24:$C$500,$C132,'CMS Downtime Detail'!$D$24:$D$500,$D132,'CMS Downtime Detail'!$E$24:$E$500,\"Nonmonitoring Equipment Malfunctions\"))","v":""},{"$f":"IF($E132=\"\",\"\",SUMIFS('CMS Downtime Detail'!$K$24:$K$500,'CMS Downtime Detail'!$B$24:$B$500,$B132,'CMS Downtime Detail'!$C$24:$C$500,$C132,'CMS Downtime Detail'!$D$24:$D$500,$D132,'CMS Downtime Detail'!$E$24:$E$500,\"Quality Assurance/Quality Control Calibrations\"))","v":""},{"$f":"IF($E132=\"\",\"\",SUMIFS('CMS Downtime Detail'!$K$24:$K$500,'CMS Downtime Detail'!$B$24:$B$500,$B132,'CMS Downtime Detail'!$C$24:$C$500,$C132,'CMS Downtime Detail'!$D$24:$D$500,$D132,'CMS Downtime Detail'!$E$24:$E$500,\"Other Known Causes\"))","v":""},{"$f":"IF($E132=\"\",\"\",SUMIFS('CMS Downtime Detail'!$K$24:$K$500,'CMS Downtime Detail'!$B$24:$B$500,$B132,'CMS Downtime Detail'!$C$24:$C$500,$C132,'CMS Downtime Detail'!$D$24:$D$500,$D132,'CMS Downtime Detail'!$E$24:$E$500,\"Other Unknown Causes\"))","v":""}]
[null,{"$f":"IF(Lists!AQ111=\"\",\"\",Lists!AQ111)","v":""},{"$f":"IF(Lists!AR111=\"\",\"\",Lists!AR111)","v":""},{"$f":"IF(Lists!AS111=\"\",\"\",Lists!AS111)","v":""},{"$f":"IF(D133=\"\",\"\",VLOOKUP(B133&C133,Lists!$BA$2:$BD$78,4,FALSE))","v":""},"","",{"$f":"IF($E133=\"\",\"\",SUMIFS('CMS Downtime Detail'!$K$24:$K$500,'CMS Downtime Detail'!$B$24:$B$500,$B133,'CMS Downtime Detail'!$C$24:$C$500,$C133,'CMS Downtime Detail'!$D$24:$D$500,$D133,'CMS Downtime Detail'!$E$24:$E$500,\"Monitoring Equipment Malfunctions\"))","v":""},{"$f":"IF($E133=\"\",\"\",SUMIFS('CMS Downtime Detail'!$K$24:$K$500,'CMS Downtime Detail'!$B$24:$B$500,$B133,'CMS Downtime Detail'!$C$24:$C$500,$C133,'CMS Downtime Detail'!$D$24:$D$500,$D133,'CMS Downtime Detail'!$E$24:$E$500,\"Nonmonitoring Equipment Malfunctions\"))","v":""},{"$f":"IF($E133=\"\",\"\",SUMIFS('CMS Downtime Detail'!$K$24:$K$500,'CMS Downtime Detail'!$B$24:$B$500,$B133,'CMS Downtime Detail'!$C$24:$C$500,$C133,'CMS Downtime Detail'!$D$24:$D$500,$D133,'CMS Downtime Detail'!$E$24:$E$500,\"Quality Assurance/Quality Control Calibrations\"))","v":""},{"$f":"IF($E133=\"\",\"\",SUMIFS('CMS Downtime Detail'!$K$24:$K$500,'CMS Downtime Detail'!$B$24:$B$500,$B133,'CMS Downtime Detail'!$C$24:$C$500,$C133,'CMS Downtime Detail'!$D$24:$D$500,$D133,'CMS Downtime Detail'!$E$24:$E$500,\"Other Known Causes\"))","v":""},{"$f":"IF($E133=\"\",\"\",SUMIFS('CMS Downtime Detail'!$K$24:$K$500,'CMS Downtime Detail'!$B$24:$B$500,$B133,'CMS Downtime Detail'!$C$24:$C$500,$C133,'CMS Downtime Detail'!$D$24:$D$500,$D133,'CMS Downtime Detail'!$E$24:$E$500,\"Other Unknown Causes\"))","v":""}]
[null,{"$f":"IF(Lists!AQ112=\"\",\"\",Lists!AQ112)","v":""},{"$f":"IF(Lists!AR112=\"\",\"\",Lists!AR112)","v":""},{"$f":"IF(Lists!AS112=\"\",\"\",Lists!AS112)","v":""},{"$f":"IF(D134=\"\",\"\",VLOOKUP(B134&C134,Lists!$BA$2:$BD$78,4,FALSE))","v":""},"","",{"$f":"IF($E134=\"\",\"\",SUMIFS('CMS Downtime Detail'!$K$24:$K$500,'CMS Downtime Detail'!$B$24:$B$500,$B134,'CMS Downtime Detail'!$C$24:$C$500,$C134,'CMS Downtime Detail'!$D$24:$D$500,$D134,'CMS Downtime Detail'!$E$24:$E$500,\"Monitoring Equipment Malfunctions\"))","v":""},{"$f":"IF($E134=\"\",\"\",SUMIFS('CMS Downtime Detail'!$K$24:$K$500,'CMS Downtime Detail'!$B$24:$B$500,$B134,'CMS Downtime Detail'!$C$24:$C$500,$C134,'CMS Downtime Detail'!$D$24:$D$500,$D134,'CMS Downtime Detail'!$E$24:$E$500,\"Nonmonitoring Equipment Malfunctions\"))","v":""},{"$f":"IF($E134=\"\",\"\",SUMIFS('CMS Downtime Detail'!$K$24:$K$500,'CMS Downtime Detail'!$B$24:$B$500,$B134,'CMS Downtime Detail'!$C$24:$C$500,$C134,'CMS Downtime Detail'!$D$24:$D$500,$D134,'CMS Downtime Detail'!$E$24:$E$500,\"Quality Assurance/Quality Control Calibrations\"))","v":""},{"$f":"IF($E134=\"\",\"\",SUMIFS('CMS Downtime Detail'!$K$24:$K$500,'CMS Downtime Detail'!$B$24:$B$500,$B134,'CMS Downtime Detail'!$C$24:$C$500,$C134,'CMS Downtime Detail'!$D$24:$D$500,$D134,'CMS Downtime Detail'!$E$24:$E$500,\"Other Known Causes\"))","v":""},{"$f":"IF($E134=\"\",\"\",SUMIFS('CMS Downtime Detail'!$K$24:$K$500,'CMS Downtime Detail'!$B$24:$B$500,$B134,'CMS Downtime Detail'!$C$24:$C$500,$C134,'CMS Downtime Detail'!$D$24:$D$500,$D134,'CMS Downtime Detail'!$E$24:$E$500,\"Other Unknown Causes\"))","v":""}]
[null,{"$f":"IF(Lists!AQ113=\"\",\"\",Lists!AQ113)","v":""},{"$f":"IF(Lists!AR113=\"\",\"\",Lists!AR113)","v":""},{"$f":"IF(Lists!AS113=\"\",\"\",Lists!AS113)","v":""},{"$f":"IF(D135=\"\",\"\",VLOOKUP(B135&C135,Lists!$BA$2:$BD$78,4,FALSE))","v":""},"","",{"$f":"IF($E135=\"\",\"\",SUMIFS('CMS Downtime Detail'!$K$24:$K$500,'CMS Downtime Detail'!$B$24:$B$500,$B135,'CMS Downtime Detail'!$C$24:$C$500,$C135,'CMS Downtime Detail'!$D$24:$D$500,$D135,'CMS Downtime Detail'!$E$24:$E$500,\"Monitoring Equipment Malfunctions\"))","v":""},{"$f":"IF($E135=\"\",\"\",SUMIFS('CMS Downtime Detail'!$K$24:$K$500,'CMS Downtime Detail'!$B$24:$B$500,$B135,'CMS Downtime Detail'!$C$24:$C$500,$C135,'CMS Downtime Detail'!$D$24:$D$500,$D135,'CMS Downtime Detail'!$E$24:$E$500,\"Nonmonitoring Equipment Malfunctions\"))","v":""},{"$f":"IF($E135=\"\",\"\",SUMIFS('CMS Downtime Detail'!$K$24:$K$500,'CMS Downtime Detail'!$B$24:$B$500,$B135,'CMS Downtime Detail'!$C$24:$C$500,$C135,'CMS Downtime Detail'!$D$24:$D$500,$D135,'CMS Downtime Detail'!$E$24:$E$500,\"Quality Assurance/Quality Control Calibrations\"))","v":""},{"$f":"IF($E135=\"\",\"\",SUMIFS('CMS Downtime Detail'!$K$24:$K$500,'CMS Downtime Detail'!$B$24:$B$500,$B135,'CMS Downtime Detail'!$C$24:$C$500,$C135,'CMS Downtime Detail'!$D$24:$D$500,$D135,'CMS Downtime Detail'!$E$24:$E$500,\"Other Known Causes\"))","v":""},{"$f":"IF($E135=\"\",\"\",SUMIFS('CMS Downtime Detail'!$K$24:$K$500,'CMS Downtime Detail'!$B$24:$B$500,$B135,'CMS Downtime Detail'!$C$24:$C$500,$C135,'CMS Downtime Detail'!$D$24:$D$500,$D135,'CMS Downtime Detail'!$E$24:$E$500,\"Other Unknown Causes\"))","v":""}]
[null,{"$f":"IF(Lists!AQ114=\"\",\"\",Lists!AQ114)","v":""},{"$f":"IF(Lists!AR114=\"\",\"\",Lists!AR114)","v":""},{"$f":"IF(Lists!AS114=\"\",\"\",Lists!AS114)","v":""},{"$f":"IF(D136=\"\",\"\",VLOOKUP(B136&C136,Lists!$BA$2:$BD$78,4,FALSE))","v":""},"","",{"$f":"IF($E136=\"\",\"\",SUMIFS('CMS Downtime Detail'!$K$24:$K$500,'CMS Downtime Detail'!$B$24:$B$500,$B136,'CMS Downtime Detail'!$C$24:$C$500,$C136,'CMS Downtime Detail'!$D$24:$D$500,$D136,'CMS Downtime Detail'!$E$24:$E$500,\"Monitoring Equipment Malfunctions\"))","v":""},{"$f":"IF($E136=\"\",\"\",SUMIFS('CMS Downtime Detail'!$K$24:$K$500,'CMS Downtime Detail'!$B$24:$B$500,$B136,'CMS Downtime Detail'!$C$24:$C$500,$C136,'CMS Downtime Detail'!$D$24:$D$500,$D136,'CMS Downtime Detail'!$E$24:$E$500,\"Nonmonitoring Equipment Malfunctions\"))","v":""},{"$f":"IF($E136=\"\",\"\",SUMIFS('CMS Downtime Detail'!$K$24:$K$500,'CMS Downtime Detail'!$B$24:$B$500,$B136,'CMS Downtime Detail'!$C$24:$C$500,$C136,'CMS Downtime Detail'!$D$24:$D$500,$D136,'CMS Downtime Detail'!$E$24:$E$500,\"Quality Assurance/Quality Control Calibrations\"))","v":""},{"$f":"IF($E136=\"\",\"\",SUMIFS('CMS Downtime Detail'!$K$24:$K$500,'CMS Downtime Detail'!$B$24:$B$500,$B136,'CMS Downtime Detail'!$C$24:$C$500,$C136,'CMS Downtime Detail'!$D$24:$D$500,$D136,'CMS Downtime Detail'!$E$24:$E$500,\"Other Known Causes\"))","v":""},{"$f":"IF($E136=\"\",\"\",SUMIFS('CMS Downtime Detail'!$K$24:$K$500,'CMS Downtime Detail'!$B$24:$B$500,$B136,'CMS Downtime Detail'!$C$24:$C$500,$C136,'CMS Downtime Detail'!$D$24:$D$500,$D136,'CMS Downtime Detail'!$E$24:$E$500,\"Other Unknown Causes\"))","v":""}]
[null,{"$f":"IF(Lists!AQ115=\"\",\"\",Lists!AQ115)","v":""},{"$f":"IF(Lists!AR115=\"\",\"\",Lists!AR115)","v":""},{"$f":"IF(Lists!AS115=\"\",\"\",Lists!AS115)","v":""},{"$f":"IF(D137=\"\",\"\",VLOOKUP(B137&C137,Lists!$BA$2:$BD$78,4,FALSE))","v":""},"","",{"$f":"IF($E137=\"\",\"\",SUMIFS('CMS Downtime Detail'!$K$24:$K$500,'CMS Downtime Detail'!$B$24:$B$500,$B137,'CMS Downtime Detail'!$C$24:$C$500,$C137,'CMS Downtime Detail'!$D$24:$D$500,$D137,'CMS Downtime Detail'!$E$24:$E$500,\"Monitoring Equipment Malfunctions\"))","v":""},{"$f":"IF($E137=\"\",\"\",SUMIFS('CMS Downtime Detail'!$K$24:$K$500,'CMS Downtime Detail'!$B$24:$B$500,$B137,'CMS Downtime Detail'!$C$24:$C$500,$C137,'CMS Downtime Detail'!$D$24:$D$500,$D137,'CMS Downtime Detail'!$E$24:$E$500,\"Nonmonitoring Equipment Malfunctions\"))","v":""},{"$f":"IF($E137=\"\",\"\",SUMIFS('CMS Downtime Detail'!$K$24:$K$500,'CMS Downtime Detail'!$B$24:$B$500,$B137,'CMS Downtime Detail'!$C$24:$C$500,$C137,'CMS Downtime Detail'!$D$24:$D$500,$D137,'CMS Downtime Detail'!$E$24:$E$500,\"Quality Assurance/Quality Control Calibrations\"))","v":""},{"$f":"IF($E137=\"\",\"\",SUMIFS('CMS Downtime Detail'!$K$24:$K$500,'CMS Downtime Detail'!$B$24:$B$500,$B137,'CMS Downtime Detail'!$C$24:$C$500,$C137,'CMS Downtime Detail'!$D$24:$D$500,$D137,'CMS Downtime Detail'!$E$24:$E$500,\"Other Known Causes\"))","v":""},{"$f":"IF($E137=\"\",\"\",SUMIFS('CMS Downtime Detail'!$K$24:$K$500,'CMS Downtime Detail'!$B$24:$B$500,$B137,'CMS Downtime Detail'!$C$24:$C$500,$C137,'CMS Downtime Detail'!$D$24:$D$500,$D137,'CMS Downtime Detail'!$E$24:$E$500,\"Other Unknown Causes\"))","v":""}]
[null,{"$f":"IF(Lists!AQ116=\"\",\"\",Lists!AQ116)","v":""},{"$f":"IF(Lists!AR116=\"\",\"\",Lists!AR116)","v":""},{"$f":"IF(Lists!AS116=\"\",\"\",Lists!AS116)","v":""},{"$f":"IF(D138=\"\",\"\",VLOOKUP(B138&C138,Lists!$BA$2:$BD$78,4,FALSE))","v":""},"","",{"$f":"IF($E138=\"\",\"\",SUMIFS('CMS Downtime Detail'!$K$24:$K$500,'CMS Downtime Detail'!$B$24:$B$500,$B138,'CMS Downtime Detail'!$C$24:$C$500,$C138,'CMS Downtime Detail'!$D$24:$D$500,$D138,'CMS Downtime Detail'!$E$24:$E$500,\"Monitoring Equipment Malfunctions\"))","v":""},{"$f":"IF($E138=\"\",\"\",SUMIFS('CMS Downtime Detail'!$K$24:$K$500,'CMS Downtime Detail'!$B$24:$B$500,$B138,'CMS Downtime Detail'!$C$24:$C$500,$C138,'CMS Downtime Detail'!$D$24:$D$500,$D138,'CMS Downtime Detail'!$E$24:$E$500,\"Nonmonitoring Equipment Malfunctions\"))","v":""},{"$f":"IF($E138=\"\",\"\",SUMIFS('CMS Downtime Detail'!$K$24:$K$500,'CMS Downtime Detail'!$B$24:$B$500,$B138,'CMS Downtime Detail'!$C$24:$C$500,$C138,'CMS Downtime Detail'!$D$24:$D$500,$D138,'CMS Downtime Detail'!$E$24:$E$500,\"Quality Assurance/Quality Control Calibrations\"))","v":""},{"$f":"IF($E138=\"\",\"\",SUMIFS('CMS Downtime Detail'!$K$24:$K$500,'CMS Downtime Detail'!$B$24:$B$500,$B138,'CMS Downtime Detail'!$C$24:$C$500,$C138,'CMS Downtime Detail'!$D$24:$D$500,$D138,'CMS Downtime Detail'!$E$24:$E$500,\"Other Known Causes\"))","v":""},{"$f":"IF($E138=\"\",\"\",SUMIFS('CMS Downtime Detail'!$K$24:$K$500,'CMS Downtime Detail'!$B$24:$B$500,$B138,'CMS Downtime Detail'!$C$24:$C$500,$C138,'CMS Downtime Detail'!$D$24:$D$500,$D138,'CMS Downtime Detail'!$E$24:$E$500,\"Other Unknown Causes\"))","v":""}]
[null,{"$f":"IF(Lists!AQ117=\"\",\"\",Lists!AQ117)","v":""},{"$f":"IF(Lists!AR117=\"\",\"\",Lists!AR117)","v":""},{"$f":"IF(Lists!AS117=\"\",\"\",Lists!AS117)","v":""},{"$f":"IF(D139=\"\",\"\",VLOOKUP(B139&C139,Lists!$BA$2:$BD$78,4,FALSE))","v":""},"","",{"$f":"IF($E139=\"\",\"\",SUMIFS('CMS Downtime Detail'!$K$24:$K$500,'CMS Downtime Detail'!$B$24:$B$500,$B139,'CMS Downtime Detail'!$C$24:$C$500,$C139,'CMS Downtime Detail'!$D$24:$D$500,$D139,'CMS Downtime Detail'!$E$24:$E$500,\"Monitoring Equipment Malfunctions\"))","v":""},{"$f":"IF($E139=\"\",\"\",SUMIFS('CMS Downtime Detail'!$K$24:$K$500,'CMS Downtime Detail'!$B$24:$B$500,$B139,'CMS Downtime Detail'!$C$24:$C$500,$C139,'CMS Downtime Detail'!$D$24:$D$500,$D139,'CMS Downtime Detail'!$E$24:$E$500,\"Nonmonitoring Equipment Malfunctions\"))","v":""},{"$f":"IF($E139=\"\",\"\",SUMIFS('CMS Downtime Detail'!$K$24:$K$500,'CMS Downtime Detail'!$B$24:$B$500,$B139,'CMS Downtime Detail'!$C$24:$C$500,$C139,'CMS Downtime Detail'!$D$24:$D$500,$D139,'CMS Downtime Detail'!$E$24:$E$500,\"Quality Assurance/Quality Control Calibrations\"))","v":""},{"$f":"IF($E139=\"\",\"\",SUMIFS('CMS Downtime Detail'!$K$24:$K$500,'CMS Downtime Detail'!$B$24:$B$500,$B139,'CMS Downtime Detail'!$C$24:$C$500,$C139,'CMS Downtime Detail'!$D$24:$D$500,$D139,'CMS Downtime Detail'!$E$24:$E$500,\"Other Known Causes\"))","v":""},{"$f":"IF($E139=\"\",\"\",SUMIFS('CMS Downtime Detail'!$K$24:$K$500,'CMS Downtime Detail'!$B$24:$B$500,$B139,'CMS Downtime Detail'!$C$24:$C$500,$C139,'CMS Downtime Detail'!$D$24:$D$500,$D139,'CMS Downtime Detail'!$E$24:$E$500,\"Other Unknown Causes\"))","v":""}]
[null,{"$f":"IF(Lists!AQ118=\"\",\"\",Lists!AQ118)","v":""},{"$f":"IF(Lists!AR118=\"\",\"\",Lists!AR118)","v":""},{"$f":"IF(Lists!AS118=\"\",\"\",Lists!AS118)","v":""},{"$f":"IF(D140=\"\",\"\",VLOOKUP(B140&C140,Lists!$BA$2:$BD$78,4,FALSE))","v":""},"","",{"$f":"IF($E140=\"\",\"\",SUMIFS('CMS Downtime Detail'!$K$24:$K$500,'CMS Downtime Detail'!$B$24:$B$500,$B140,'CMS Downtime Detail'!$C$24:$C$500,$C140,'CMS Downtime Detail'!$D$24:$D$500,$D140,'CMS Downtime Detail'!$E$24:$E$500,\"Monitoring Equipment Malfunctions\"))","v":""},{"$f":"IF($E140=\"\",\"\",SUMIFS('CMS Downtime Detail'!$K$24:$K$500,'CMS Downtime Detail'!$B$24:$B$500,$B140,'CMS Downtime Detail'!$C$24:$C$500,$C140,'CMS Downtime Detail'!$D$24:$D$500,$D140,'CMS Downtime Detail'!$E$24:$E$500,\"Nonmonitoring Equipment Malfunctions\"))","v":""},{"$f":"IF($E140=\"\",\"\",SUMIFS('CMS Downtime Detail'!$K$24:$K$500,'CMS Downtime Detail'!$B$24:$B$500,$B140,'CMS Downtime Detail'!$C$24:$C$500,$C140,'CMS Downtime Detail'!$D$24:$D$500,$D140,'CMS Downtime Detail'!$E$24:$E$500,\"Quality Assurance/Quality Control Calibrations\"))","v":""},{"$f":"IF($E140=\"\",\"\",SUMIFS('CMS Downtime Detail'!$K$24:$K$500,'CMS Downtime Detail'!$B$24:$B$500,$B140,'CMS Downtime Detail'!$C$24:$C$500,$C140,'CMS Downtime Detail'!$D$24:$D$500,$D140,'CMS Downtime Detail'!$E$24:$E$500,\"Other Known Causes\"))","v":""},{"$f":"IF($E140=\"\",\"\",SUMIFS('CMS Downtime Detail'!$K$24:$K$500,'CMS Downtime Detail'!$B$24:$B$500,$B140,'CMS Downtime Detail'!$C$24:$C$500,$C140,'CMS Downtime Detail'!$D$24:$D$500,$D140,'CMS Downtime Detail'!$E$24:$E$500,\"Other Unknown Causes\"))","v":""}]
[null,{"$f":"IF(Lists!AQ119=\"\",\"\",Lists!AQ119)","v":""},{"$f":"IF(Lists!AR119=\"\",\"\",Lists!AR119)","v":""},{"$f":"IF(Lists!AS119=\"\",\"\",Lists!AS119)","v":""},{"$f":"IF(D141=\"\",\"\",VLOOKUP(B141&C141,Lists!$BA$2:$BD$78,4,FALSE))","v":""},"","",{"$f":"IF($E141=\"\",\"\",SUMIFS('CMS Downtime Detail'!$K$24:$K$500,'CMS Downtime Detail'!$B$24:$B$500,$B141,'CMS Downtime Detail'!$C$24:$C$500,$C141,'CMS Downtime Detail'!$D$24:$D$500,$D141,'CMS Downtime Detail'!$E$24:$E$500,\"Monitoring Equipment Malfunctions\"))","v":""},{"$f":"IF($E141=\"\",\"\",SUMIFS('CMS Downtime Detail'!$K$24:$K$500,'CMS Downtime Detail'!$B$24:$B$500,$B141,'CMS Downtime Detail'!$C$24:$C$500,$C141,'CMS Downtime Detail'!$D$24:$D$500,$D141,'CMS Downtime Detail'!$E$24:$E$500,\"Nonmonitoring Equipment Malfunctions\"))","v":""},{"$f":"IF($E141=\"\",\"\",SUMIFS('CMS Downtime Detail'!$K$24:$K$500,'CMS Downtime Detail'!$B$24:$B$500,$B141,'CMS Downtime Detail'!$C$24:$C$500,$C141,'CMS Downtime Detail'!$D$24:$D$500,$D141,'CMS Downtime Detail'!$E$24:$E$500,\"Quality Assurance/Quality Control Calibrations\"))","v":""},{"$f":"IF($E141=\"\",\"\",SUMIFS('CMS Downtime Detail'!$K$24:$K$500,'CMS Downtime Detail'!$B$24:$B$500,$B141,'CMS Downtime Detail'!$C$24:$C$500,$C141,'CMS Downtime Detail'!$D$24:$D$500,$D141,'CMS Downtime Detail'!$E$24:$E$500,\"Other Known Causes\"))","v":""},{"$f":"IF($E141=\"\",\"\",SUMIFS('CMS Downtime Detail'!$K$24:$K$500,'CMS Downtime Detail'!$B$24:$B$500,$B141,'CMS Downtime Detail'!$C$24:$C$500,$C141,'CMS Downtime Detail'!$D$24:$D$500,$D141,'CMS Downtime Detail'!$E$24:$E$500,\"Other Unknown Causes\"))","v":""}]
[null,{"$f":"IF(Lists!AQ120=\"\",\"\",Lists!AQ120)","v":""},{"$f":"IF(Lists!AR120=\"\",\"\",Lists!AR120)","v":""},{"$f":"IF(Lists!AS120=\"\",\"\",Lists!AS120)","v":""},{"$f":"IF(D142=\"\",\"\",VLOOKUP(B142&C142,Lists!$BA$2:$BD$78,4,FALSE))","v":""},"","",{"$f":"IF($E142=\"\",\"\",SUMIFS('CMS Downtime Detail'!$K$24:$K$500,'CMS Downtime Detail'!$B$24:$B$500,$B142,'CMS Downtime Detail'!$C$24:$C$500,$C142,'CMS Downtime Detail'!$D$24:$D$500,$D142,'CMS Downtime Detail'!$E$24:$E$500,\"Monitoring Equipment Malfunctions\"))","v":""},{"$f":"IF($E142=\"\",\"\",SUMIFS('CMS Downtime Detail'!$K$24:$K$500,'CMS Downtime Detail'!$B$24:$B$500,$B142,'CMS Downtime Detail'!$C$24:$C$500,$C142,'CMS Downtime Detail'!$D$24:$D$500,$D142,'CMS Downtime Detail'!$E$24:$E$500,\"Nonmonitoring Equipment Malfunctions\"))","v":""},{"$f":"IF($E142=\"\",\"\",SUMIFS('CMS Downtime Detail'!$K$24:$K$500,'CMS Downtime Detail'!$B$24:$B$500,$B142,'CMS Downtime Detail'!$C$24:$C$500,$C142,'CMS Downtime Detail'!$D$24:$D$500,$D142,'CMS Downtime Detail'!$E$24:$E$500,\"Quality Assurance/Quality Control Calibrations\"))","v":""},{"$f":"IF($E142=\"\",\"\",SUMIFS('CMS Downtime Detail'!$K$24:$K$500,'CMS Downtime Detail'!$B$24:$B$500,$B142,'CMS Downtime Detail'!$C$24:$C$500,$C142,'CMS Downtime Detail'!$D$24:$D$500,$D142,'CMS Downtime Detail'!$E$24:$E$500,\"Other Known Causes\"))","v":""},{"$f":"IF($E142=\"\",\"\",SUMIFS('CMS Downtime Detail'!$K$24:$K$500,'CMS Downtime Detail'!$B$24:$B$500,$B142,'CMS Downtime Detail'!$C$24:$C$500,$C142,'CMS Downtime Detail'!$D$24:$D$500,$D142,'CMS Downtime Detail'!$E$24:$E$500,\"Other Unknown Causes\"))","v":""}]
[null,{"$f":"IF(Lists!AQ121=\"\",\"\",Lists!AQ121)","v":""},{"$f":"IF(Lists!AR121=\"\",\"\",Lists!AR121)","v":""},{"$f":"IF(Lists!AS121=\"\",\"\",Lists!AS121)","v":""},{"$f":"IF(D143=\"\",\"\",VLOOKUP(B143&C143,Lists!$BA$2:$BD$78,4,FALSE))","v":""},"","",{"$f":"IF($E143=\"\",\"\",SUMIFS('CMS Downtime Detail'!$K$24:$K$500,'CMS Downtime Detail'!$B$24:$B$500,$B143,'CMS Downtime Detail'!$C$24:$C$500,$C143,'CMS Downtime Detail'!$D$24:$D$500,$D143,'CMS Downtime Detail'!$E$24:$E$500,\"Monitoring Equipment Malfunctions\"))","v":""},{"$f":"IF($E143=\"\",\"\",SUMIFS('CMS Downtime Detail'!$K$24:$K$500,'CMS Downtime Detail'!$B$24:$B$500,$B143,'CMS Downtime Detail'!$C$24:$C$500,$C143,'CMS Downtime Detail'!$D$24:$D$500,$D143,'CMS Downtime Detail'!$E$24:$E$500,\"Nonmonitoring Equipment Malfunctions\"))","v":""},{"$f":"IF($E143=\"\",\"\",SUMIFS('CMS Downtime Detail'!$K$24:$K$500,'CMS Downtime Detail'!$B$24:$B$500,$B143,'CMS Downtime Detail'!$C$24:$C$500,$C143,'CMS Downtime Detail'!$D$24:$D$500,$D143,'CMS Downtime Detail'!$E$24:$E$500,\"Quality Assurance/Quality Control Calibrations\"))","v":""},{"$f":"IF($E143=\"\",\"\",SUMIFS('CMS Downtime Detail'!$K$24:$K$500,'CMS Downtime Detail'!$B$24:$B$500,$B143,'CMS Downtime Detail'!$C$24:$C$500,$C143,'CMS Downtime Detail'!$D$24:$D$500,$D143,'CMS Downtime Detail'!$E$24:$E$500,\"Other Known Causes\"))","v":""},{"$f":"IF($E143=\"\",\"\",SUMIFS('CMS Downtime Detail'!$K$24:$K$500,'CMS Downtime Detail'!$B$24:$B$500,$B143,'CMS Downtime Detail'!$C$24:$C$500,$C143,'CMS Downtime Detail'!$D$24:$D$500,$D143,'CMS Downtime Detail'!$E$24:$E$500,\"Other Unknown Causes\"))","v":""}]
[null,{"$f":"IF(Lists!AQ122=\"\",\"\",Lists!AQ122)","v":""},{"$f":"IF(Lists!AR122=\"\",\"\",Lists!AR122)","v":""},{"$f":"IF(Lists!AS122=\"\",\"\",Lists!AS122)","v":""},{"$f":"IF(D144=\"\",\"\",VLOOKUP(B144&C144,Lists!$BA$2:$BD$78,4,FALSE))","v":""},"","",{"$f":"IF($E144=\"\",\"\",SUMIFS('CMS Downtime Detail'!$K$24:$K$500,'CMS Downtime Detail'!$B$24:$B$500,$B144,'CMS Downtime Detail'!$C$24:$C$500,$C144,'CMS Downtime Detail'!$D$24:$D$500,$D144,'CMS Downtime Detail'!$E$24:$E$500,\"Monitoring Equipment Malfunctions\"))","v":""},{"$f":"IF($E144=\"\",\"\",SUMIFS('CMS Downtime Detail'!$K$24:$K$500,'CMS Downtime Detail'!$B$24:$B$500,$B144,'CMS Downtime Detail'!$C$24:$C$500,$C144,'CMS Downtime Detail'!$D$24:$D$500,$D144,'CMS Downtime Detail'!$E$24:$E$500,\"Nonmonitoring Equipment Malfunctions\"))","v":""},{"$f":"IF($E144=\"\",\"\",SUMIFS('CMS Downtime Detail'!$K$24:$K$500,'CMS Downtime Detail'!$B$24:$B$500,$B144,'CMS Downtime Detail'!$C$24:$C$500,$C144,'CMS Downtime Detail'!$D$24:$D$500,$D144,'CMS Downtime Detail'!$E$24:$E$500,\"Quality Assurance/Quality Control Calibrations\"))","v":""},{"$f":"IF($E144=\"\",\"\",SUMIFS('CMS Downtime Detail'!$K$24:$K$500,'CMS Downtime Detail'!$B$24:$B$500,$B144,'CMS Downtime Detail'!$C$24:$C$500,$C144,'CMS Downtime Detail'!$D$24:$D$500,$D144,'CMS Downtime Detail'!$E$24:$E$500,\"Other Known Causes\"))","v":""},{"$f":"IF($E144=\"\",\"\",SUMIFS('CMS Downtime Detail'!$K$24:$K$500,'CMS Downtime Detail'!$B$24:$B$500,$B144,'CMS Downtime Detail'!$C$24:$C$500,$C144,'CMS Downtime Detail'!$D$24:$D$500,$D144,'CMS Downtime Detail'!$E$24:$E$500,\"Other Unknown Causes\"))","v":""}]
[null,{"$f":"IF(Lists!AQ123=\"\",\"\",Lists!AQ123)","v":""},{"$f":"IF(Lists!AR123=\"\",\"\",Lists!AR123)","v":""},{"$f":"IF(Lists!AS123=\"\",\"\",Lists!AS123)","v":""},{"$f":"IF(D145=\"\",\"\",VLOOKUP(B145&C145,Lists!$BA$2:$BD$78,4,FALSE))","v":""},"","",{"$f":"IF($E145=\"\",\"\",SUMIFS('CMS Downtime Detail'!$K$24:$K$500,'CMS Downtime Detail'!$B$24:$B$500,$B145,'CMS Downtime Detail'!$C$24:$C$500,$C145,'CMS Downtime Detail'!$D$24:$D$500,$D145,'CMS Downtime Detail'!$E$24:$E$500,\"Monitoring Equipment Malfunctions\"))","v":""},{"$f":"IF($E145=\"\",\"\",SUMIFS('CMS Downtime Detail'!$K$24:$K$500,'CMS Downtime Detail'!$B$24:$B$500,$B145,'CMS Downtime Detail'!$C$24:$C$500,$C145,'CMS Downtime Detail'!$D$24:$D$500,$D145,'CMS Downtime Detail'!$E$24:$E$500,\"Nonmonitoring Equipment Malfunctions\"))","v":""},{"$f":"IF($E145=\"\",\"\",SUMIFS('CMS Downtime Detail'!$K$24:$K$500,'CMS Downtime Detail'!$B$24:$B$500,$B145,'CMS Downtime Detail'!$C$24:$C$500,$C145,'CMS Downtime Detail'!$D$24:$D$500,$D145,'CMS Downtime Detail'!$E$24:$E$500,\"Quality Assurance/Quality Control Calibrations\"))","v":""},{"$f":"IF($E145=\"\",\"\",SUMIFS('CMS Downtime Detail'!$K$24:$K$500,'CMS Downtime Detail'!$B$24:$B$500,$B145,'CMS Downtime Detail'!$C$24:$C$500,$C145,'CMS Downtime Detail'!$D$24:$D$500,$D145,'CMS Downtime Detail'!$E$24:$E$500,\"Other Known Causes\"))","v":""},{"$f":"IF($E145=\"\",\"\",SUMIFS('CMS Downtime Detail'!$K$24:$K$500,'CMS Downtime Detail'!$B$24:$B$500,$B145,'CMS Downtime Detail'!$C$24:$C$500,$C145,'CMS Downtime Detail'!$D$24:$D$500,$D145,'CMS Downtime Detail'!$E$24:$E$500,\"Other Unknown Causes\"))","v":""}]
[null,{"$f":"IF(Lists!AQ124=\"\",\"\",Lists!AQ124)","v":""},{"$f":"IF(Lists!AR124=\"\",\"\",Lists!AR124)","v":""},{"$f":"IF(Lists!AS124=\"\",\"\",Lists!AS124)","v":""},{"$f":"IF(D146=\"\",\"\",VLOOKUP(B146&C146,Lists!$BA$2:$BD$78,4,FALSE))","v":""},"","",{"$f":"IF($E146=\"\",\"\",SUMIFS('CMS Downtime Detail'!$K$24:$K$500,'CMS Downtime Detail'!$B$24:$B$500,$B146,'CMS Downtime Detail'!$C$24:$C$500,$C146,'CMS Downtime Detail'!$D$24:$D$500,$D146,'CMS Downtime Detail'!$E$24:$E$500,\"Monitoring Equipment Malfunctions\"))","v":""},{"$f":"IF($E146=\"\",\"\",SUMIFS('CMS Downtime Detail'!$K$24:$K$500,'CMS Downtime Detail'!$B$24:$B$500,$B146,'CMS Downtime Detail'!$C$24:$C$500,$C146,'CMS Downtime Detail'!$D$24:$D$500,$D146,'CMS Downtime Detail'!$E$24:$E$500,\"Nonmonitoring Equipment Malfunctions\"))","v":""},{"$f":"IF($E146=\"\",\"\",SUMIFS('CMS Downtime Detail'!$K$24:$K$500,'CMS Downtime Detail'!$B$24:$B$500,$B146,'CMS Downtime Detail'!$C$24:$C$500,$C146,'CMS Downtime Detail'!$D$24:$D$500,$D146,'CMS Downtime Detail'!$E$24:$E$500,\"Quality Assurance/Quality Control Calibrations\"))","v":""},{"$f":"IF($E146=\"\",\"\",SUMIFS('CMS Downtime Detail'!$K$24:$K$500,'CMS Downtime Detail'!$B$24:$B$500,$B146,'CMS Downtime Detail'!$C$24:$C$500,$C146,'CMS Downtime Detail'!$D$24:$D$500,$D146,'CMS Downtime Detail'!$E$24:$E$500,\"Other Known Causes\"))","v":""},{"$f":"IF($E146=\"\",\"\",SUMIFS('CMS Downtime Detail'!$K$24:$K$500,'CMS Downtime Detail'!$B$24:$B$500,$B146,'CMS Downtime Detail'!$C$24:$C$500,$C146,'CMS Downtime Detail'!$D$24:$D$500,$D146,'CMS Downtime Detail'!$E$24:$E$500,\"Other Unknown Causes\"))","v":""}]
[null,{"$f":"IF(Lists!AQ125=\"\",\"\",Lists!AQ125)","v":""},{"$f":"IF(Lists!AR125=\"\",\"\",Lists!AR125)","v":""},{"$f":"IF(Lists!AS125=\"\",\"\",Lists!AS125)","v":""},{"$f":"IF(D147=\"\",\"\",VLOOKUP(B147&C147,Lists!$BA$2:$BD$78,4,FALSE))","v":""},"","",{"$f":"IF($E147=\"\",\"\",SUMIFS('CMS Downtime Detail'!$K$24:$K$500,'CMS Downtime Detail'!$B$24:$B$500,$B147,'CMS Downtime Detail'!$C$24:$C$500,$C147,'CMS Downtime Detail'!$D$24:$D$500,$D147,'CMS Downtime Detail'!$E$24:$E$500,\"Monitoring Equipment Malfunctions\"))","v":""},{"$f":"IF($E147=\"\",\"\",SUMIFS('CMS Downtime Detail'!$K$24:$K$500,'CMS Downtime Detail'!$B$24:$B$500,$B147,'CMS Downtime Detail'!$C$24:$C$500,$C147,'CMS Downtime Detail'!$D$24:$D$500,$D147,'CMS Downtime Detail'!$E$24:$E$500,\"Nonmonitoring Equipment Malfunctions\"))","v":""},{"$f":"IF($E147=\"\",\"\",SUMIFS('CMS Downtime Detail'!$K$24:$K$500,'CMS Downtime Detail'!$B$24:$B$500,$B147,'CMS Downtime Detail'!$C$24:$C$500,$C147,'CMS Downtime Detail'!$D$24:$D$500,$D147,'CMS Downtime Detail'!$E$24:$E$500,\"Quality Assurance/Quality Control Calibrations\"))","v":""},{"$f":"IF($E147=\"\",\"\",SUMIFS('CMS Downtime Detail'!$K$24:$K$500,'CMS Downtime Detail'!$B$24:$B$500,$B147,'CMS Downtime Detail'!$C$24:$C$500,$C147,'CMS Downtime Detail'!$D$24:$D$500,$D147,'CMS Downtime Detail'!$E$24:$E$500,\"Other Known Causes\"))","v":""},{"$f":"IF($E147=\"\",\"\",SUMIFS('CMS Downtime Detail'!$K$24:$K$500,'CMS Downtime Detail'!$B$24:$B$500,$B147,'CMS Downtime Detail'!$C$24:$C$500,$C147,'CMS Downtime Detail'!$D$24:$D$500,$D147,'CMS Downtime Detail'!$E$24:$E$500,\"Other Unknown Causes\"))","v":""}]
[null,{"$f":"IF(Lists!AQ126=\"\",\"\",Lists!AQ126)","v":""},{"$f":"IF(Lists!AR126=\"\",\"\",Lists!AR126)","v":""},{"$f":"IF(Lists!AS126=\"\",\"\",Lists!AS126)","v":""},{"$f":"IF(D148=\"\",\"\",VLOOKUP(B148&C148,Lists!$BA$2:$BD$78,4,FALSE))","v":""},"","",{"$f":"IF($E148=\"\",\"\",SUMIFS('CMS Downtime Detail'!$K$24:$K$500,'CMS Downtime Detail'!$B$24:$B$500,$B148,'CMS Downtime Detail'!$C$24:$C$500,$C148,'CMS Downtime Detail'!$D$24:$D$500,$D148,'CMS Downtime Detail'!$E$24:$E$500,\"Monitoring Equipment Malfunctions\"))","v":""},{"$f":"IF($E148=\"\",\"\",SUMIFS('CMS Downtime Detail'!$K$24:$K$500,'CMS Downtime Detail'!$B$24:$B$500,$B148,'CMS Downtime Detail'!$C$24:$C$500,$C148,'CMS Downtime Detail'!$D$24:$D$500,$D148,'CMS Downtime Detail'!$E$24:$E$500,\"Nonmonitoring Equipment Malfunctions\"))","v":""},{"$f":"IF($E148=\"\",\"\",SUMIFS('CMS Downtime Detail'!$K$24:$K$500,'CMS Downtime Detail'!$B$24:$B$500,$B148,'CMS Downtime Detail'!$C$24:$C$500,$C148,'CMS Downtime Detail'!$D$24:$D$500,$D148,'CMS Downtime Detail'!$E$24:$E$500,\"Quality Assurance/Quality Control Calibrations\"))","v":""},{"$f":"IF($E148=\"\",\"\",SUMIFS('CMS Downtime Detail'!$K$24:$K$500,'CMS Downtime Detail'!$B$24:$B$500,$B148,'CMS Downtime Detail'!$C$24:$C$500,$C148,'CMS Downtime Detail'!$D$24:$D$500,$D148,'CMS Downtime Detail'!$E$24:$E$500,\"Other Known Causes\"))","v":""},{"$f":"IF($E148=\"\",\"\",SUMIFS('CMS Downtime Detail'!$K$24:$K$500,'CMS Downtime Detail'!$B$24:$B$500,$B148,'CMS Downtime Detail'!$C$24:$C$500,$C148,'CMS Downtime Detail'!$D$24:$D$500,$D148,'CMS Downtime Detail'!$E$24:$E$500,\"Other Unknown Causes\"))","v":""}]
[null,{"$f":"IF(Lists!AQ127=\"\",\"\",Lists!AQ127)","v":""},{"$f":"IF(Lists!AR127=\"\",\"\",Lists!AR127)","v":""},{"$f":"IF(Lists!AS127=\"\",\"\",Lists!AS127)","v":""},{"$f":"IF(D149=\"\",\"\",VLOOKUP(B149&C149,Lists!$BA$2:$BD$78,4,FALSE))","v":""},"","",{"$f":"IF($E149=\"\",\"\",SUMIFS('CMS Downtime Detail'!$K$24:$K$500,'CMS Downtime Detail'!$B$24:$B$500,$B149,'CMS Downtime Detail'!$C$24:$C$500,$C149,'CMS Downtime Detail'!$D$24:$D$500,$D149,'CMS Downtime Detail'!$E$24:$E$500,\"Monitoring Equipment Malfunctions\"))","v":""},{"$f":"IF($E149=\"\",\"\",SUMIFS('CMS Downtime Detail'!$K$24:$K$500,'CMS Downtime Detail'!$B$24:$B$500,$B149,'CMS Downtime Detail'!$C$24:$C$500,$C149,'CMS Downtime Detail'!$D$24:$D$500,$D149,'CMS Downtime Detail'!$E$24:$E$500,\"Nonmonitoring Equipment Malfunctions\"))","v":""},{"$f":"IF($E149=\"\",\"\",SUMIFS('CMS Downtime Detail'!$K$24:$K$500,'CMS Downtime Detail'!$B$24:$B$500,$B149,'CMS Downtime Detail'!$C$24:$C$500,$C149,'CMS Downtime Detail'!$D$24:$D$500,$D149,'CMS Downtime Detail'!$E$24:$E$500,\"Quality Assurance/Quality Control Calibrations\"))","v":""},{"$f":"IF($E149=\"\",\"\",SUMIFS('CMS Downtime Detail'!$K$24:$K$500,'CMS Downtime Detail'!$B$24:$B$500,$B149,'CMS Downtime Detail'!$C$24:$C$500,$C149,'CMS Downtime Detail'!$D$24:$D$500,$D149,'CMS Downtime Detail'!$E$24:$E$500,\"Other Known Causes\"))","v":""},{"$f":"IF($E149=\"\",\"\",SUMIFS('CMS Downtime Detail'!$K$24:$K$500,'CMS Downtime Detail'!$B$24:$B$500,$B149,'CMS Downtime Detail'!$C$24:$C$500,$C149,'CMS Downtime Detail'!$D$24:$D$500,$D149,'CMS Downtime Detail'!$E$24:$E$500,\"Other Unknown Causes\"))","v":""}]
[null,{"$f":"IF(Lists!AQ128=\"\",\"\",Lists!AQ128)","v":""},{"$f":"IF(Lists!AR128=\"\",\"\",Lists!AR128)","v":""},{"$f":"IF(Lists!AS128=\"\",\"\",Lists!AS128)","v":""},{"$f":"IF(D150=\"\",\"\",VLOOKUP(B150&C150,Lists!$BA$2:$BD$78,4,FALSE))","v":""},"","",{"$f":"IF($E150=\"\",\"\",SUMIFS('CMS Downtime Detail'!$K$24:$K$500,'CMS Downtime Detail'!$B$24:$B$500,$B150,'CMS Downtime Detail'!$C$24:$C$500,$C150,'CMS Downtime Detail'!$D$24:$D$500,$D150,'CMS Downtime Detail'!$E$24:$E$500,\"Monitoring Equipment Malfunctions\"))","v":""},{"$f":"IF($E150=\"\",\"\",SUMIFS('CMS Downtime Detail'!$K$24:$K$500,'CMS Downtime Detail'!$B$24:$B$500,$B150,'CMS Downtime Detail'!$C$24:$C$500,$C150,'CMS Downtime Detail'!$D$24:$D$500,$D150,'CMS Downtime Detail'!$E$24:$E$500,\"Nonmonitoring Equipment Malfunctions\"))","v":""},{"$f":"IF($E150=\"\",\"\",SUMIFS('CMS Downtime Detail'!$K$24:$K$500,'CMS Downtime Detail'!$B$24:$B$500,$B150,'CMS Downtime Detail'!$C$24:$C$500,$C150,'CMS Downtime Detail'!$D$24:$D$500,$D150,'CMS Downtime Detail'!$E$24:$E$500,\"Quality Assurance/Quality Control Calibrations\"))","v":""},{"$f":"IF($E150=\"\",\"\",SUMIFS('CMS Downtime Detail'!$K$24:$K$500,'CMS Downtime Detail'!$B$24:$B$500,$B150,'CMS Downtime Detail'!$C$24:$C$500,$C150,'CMS Downtime Detail'!$D$24:$D$500,$D150,'CMS Downtime Detail'!$E$24:$E$500,\"Other Known Causes\"))","v":""},{"$f":"IF($E150=\"\",\"\",SUMIFS('CMS Downtime Detail'!$K$24:$K$500,'CMS Downtime Detail'!$B$24:$B$500,$B150,'CMS Downtime Detail'!$C$24:$C$500,$C150,'CMS Downtime Detail'!$D$24:$D$500,$D150,'CMS Downtime Detail'!$E$24:$E$500,\"Other Unknown Causes\"))","v":""}]
[null,{"$f":"IF(Lists!AQ129=\"\",\"\",Lists!AQ129)","v":""},{"$f":"IF(Lists!AR129=\"\",\"\",Lists!AR129)","v":""},{"$f":"IF(Lists!AS129=\"\",\"\",Lists!AS129)","v":""},{"$f":"IF(D151=\"\",\"\",VLOOKUP(B151&C151,Lists!$BA$2:$BD$78,4,FALSE))","v":""},"","",{"$f":"IF($E151=\"\",\"\",SUMIFS('CMS Downtime Detail'!$K$24:$K$500,'CMS Downtime Detail'!$B$24:$B$500,$B151,'CMS Downtime Detail'!$C$24:$C$500,$C151,'CMS Downtime Detail'!$D$24:$D$500,$D151,'CMS Downtime Detail'!$E$24:$E$500,\"Monitoring Equipment Malfunctions\"))","v":""},{"$f":"IF($E151=\"\",\"\",SUMIFS('CMS Downtime Detail'!$K$24:$K$500,'CMS Downtime Detail'!$B$24:$B$500,$B151,'CMS Downtime Detail'!$C$24:$C$500,$C151,'CMS Downtime Detail'!$D$24:$D$500,$D151,'CMS Downtime Detail'!$E$24:$E$500,\"Nonmonitoring Equipment Malfunctions\"))","v":""},{"$f":"IF($E151=\"\",\"\",SUMIFS('CMS Downtime Detail'!$K$24:$K$500,'CMS Downtime Detail'!$B$24:$B$500,$B151,'CMS Downtime Detail'!$C$24:$C$500,$C151,'CMS Downtime Detail'!$D$24:$D$500,$D151,'CMS Downtime Detail'!$E$24:$E$500,\"Quality Assurance/Quality Control Calibrations\"))","v":""},{"$f":"IF($E151=\"\",\"\",SUMIFS('CMS Downtime Detail'!$K$24:$K$500,'CMS Downtime Detail'!$B$24:$B$500,$B151,'CMS Downtime Detail'!$C$24:$C$500,$C151,'CMS Downtime Detail'!$D$24:$D$500,$D151,'CMS Downtime Detail'!$E$24:$E$500,\"Other Known Causes\"))","v":""},{"$f":"IF($E151=\"\",\"\",SUMIFS('CMS Downtime Detail'!$K$24:$K$500,'CMS Downtime Detail'!$B$24:$B$500,$B151,'CMS Downtime Detail'!$C$24:$C$500,$C151,'CMS Downtime Detail'!$D$24:$D$500,$D151,'CMS Downtime Detail'!$E$24:$E$500,\"Other Unknown Causes\"))","v":""}]
[null,{"$f":"IF(Lists!AQ130=\"\",\"\",Lists!AQ130)","v":""},{"$f":"IF(Lists!AR130=\"\",\"\",Lists!AR130)","v":""},{"$f":"IF(Lists!AS130=\"\",\"\",Lists!AS130)","v":""},{"$f":"IF(D152=\"\",\"\",VLOOKUP(B152&C152,Lists!$BA$2:$BD$78,4,FALSE))","v":""},"","",{"$f":"IF($E152=\"\",\"\",SUMIFS('CMS Downtime Detail'!$K$24:$K$500,'CMS Downtime Detail'!$B$24:$B$500,$B152,'CMS Downtime Detail'!$C$24:$C$500,$C152,'CMS Downtime Detail'!$D$24:$D$500,$D152,'CMS Downtime Detail'!$E$24:$E$500,\"Monitoring Equipment Malfunctions\"))","v":""},{"$f":"IF($E152=\"\",\"\",SUMIFS('CMS Downtime Detail'!$K$24:$K$500,'CMS Downtime Detail'!$B$24:$B$500,$B152,'CMS Downtime Detail'!$C$24:$C$500,$C152,'CMS Downtime Detail'!$D$24:$D$500,$D152,'CMS Downtime Detail'!$E$24:$E$500,\"Nonmonitoring Equipment Malfunctions\"))","v":""},{"$f":"IF($E152=\"\",\"\",SUMIFS('CMS Downtime Detail'!$K$24:$K$500,'CMS Downtime Detail'!$B$24:$B$500,$B152,'CMS Downtime Detail'!$C$24:$C$500,$C152,'CMS Downtime Detail'!$D$24:$D$500,$D152,'CMS Downtime Detail'!$E$24:$E$500,\"Quality Assurance/Quality Control Calibrations\"))","v":""},{"$f":"IF($E152=\"\",\"\",SUMIFS('CMS Downtime Detail'!$K$24:$K$500,'CMS Downtime Detail'!$B$24:$B$500,$B152,'CMS Downtime Detail'!$C$24:$C$500,$C152,'CMS Downtime Detail'!$D$24:$D$500,$D152,'CMS Downtime Detail'!$E$24:$E$500,\"Other Known Causes\"))","v":""},{"$f":"IF($E152=\"\",\"\",SUMIFS('CMS Downtime Detail'!$K$24:$K$500,'CMS Downtime Detail'!$B$24:$B$500,$B152,'CMS Downtime Detail'!$C$24:$C$500,$C152,'CMS Downtime Detail'!$D$24:$D$500,$D152,'CMS Downtime Detail'!$E$24:$E$500,\"Other Unknown Causes\"))","v":""}]
[null,{"$f":"IF(Lists!AQ131=\"\",\"\",Lists!AQ131)","v":""},{"$f":"IF(Lists!AR131=\"\",\"\",Lists!AR131)","v":""},{"$f":"IF(Lists!AS131=\"\",\"\",Lists!AS131)","v":""},{"$f":"IF(D153=\"\",\"\",VLOOKUP(B153&C153,Lists!$BA$2:$BD$78,4,FALSE))","v":""},{"$f":"IF(E153=\"\",\"\",SUM(H153:L153))","v":""},{"$f":"IF(F153=\"\",\"\",F153/E153)","v":""},{"$f":"IF($E153=\"\",\"\",SUMIFS('CMS Downtime Detail'!$K$24:$K$500,'CMS Downtime Detail'!$B$24:$B$500,$B153,'CMS Downtime Detail'!$C$24:$C$500,$C153,'CMS Downtime Detail'!$D$24:$D$500,$D153,'CMS Downtime Detail'!$E$24:$E$500,\"Monitoring Equipment Malfunctions\"))","v":""},{"$f":"IF($E153=\"\",\"\",SUMIFS('CMS Downtime Detail'!$K$24:$K$500,'CMS Downtime Detail'!$B$24:$B$500,$B153,'CMS Downtime Detail'!$C$24:$C$500,$C153,'CMS Downtime Detail'!$D$24:$D$500,$D153,'CMS Downtime Detail'!$E$24:$E$500,\"Nonmonitoring Equipment Malfunctions\"))","v":""},{"$f":"IF($E153=\"\",\"\",SUMIFS('CMS Downtime Detail'!$K$24:$K$500,'CMS Downtime Detail'!$B$24:$B$500,$B153,'CMS Downtime Detail'!$C$24:$C$500,$C153,'CMS Downtime Detail'!$D$24:$D$500,$D153,'CMS Downtime Detail'!$E$24:$E$500,\"Quality Assurance/Quality Control Calibrations\"))","v":""},{"$f":"IF($E153=\"\",\"\",SUMIFS('CMS Downtime Detail'!$K$24:$K$500,'CMS Downtime Detail'!$B$24:$B$500,$B153,'CMS Downtime Detail'!$C$24:$C$500,$C153,'CMS Downtime Detail'!$D$24:$D$500,$D153,'CMS Downtime Detail'!$E$24:$E$500,\"Other Known Causes\"))","v":""},{"$f":"IF($E153=\"\",\"\",SUMIFS('CMS Downtime Detail'!$K$24:$K$500,'CMS Downtime Detail'!$B$24:$B$500,$B153,'CMS Downtime Detail'!$C$24:$C$500,$C153,'CMS Downtime Detail'!$D$24:$D$500,$D153,'CMS Downtime Detail'!$E$24:$E$500,\"Other Unknown Causes\"))","v":""}]
[null,{"$f":"IF(Lists!AQ132=\"\",\"\",Lists!AQ132)","v":""},{"$f":"IF(Lists!AR132=\"\",\"\",Lists!AR132)","v":""},{"$f":"IF(Lists!AS132=\"\",\"\",Lists!AS132)","v":""},{"$f":"IF(D154=\"\",\"\",VLOOKUP(B154&C154,Lists!$BA$2:$BD$78,4,FALSE))","v":""},"","",{"$f":"IF($E154=\"\",\"\",SUMIFS('CMS Downtime Detail'!$K$24:$K$500,'CMS Downtime Detail'!$B$24:$B$500,$B154,'CMS Downtime Detail'!$C$24:$C$500,$C154,'CMS Downtime Detail'!$D$24:$D$500,$D154,'CMS Downtime Detail'!$E$24:$E$500,\"Monitoring Equipment Malfunctions\"))","v":""},{"$f":"IF($E154=\"\",\"\",SUMIFS('CMS Downtime Detail'!$K$24:$K$500,'CMS Downtime Detail'!$B$24:$B$500,$B154,'CMS Downtime Detail'!$C$24:$C$500,$C154,'CMS Downtime Detail'!$D$24:$D$500,$D154,'CMS Downtime Detail'!$E$24:$E$500,\"Nonmonitoring Equipment Malfunctions\"))","v":""},{"$f":"IF($E154=\"\",\"\",SUMIFS('CMS Downtime Detail'!$K$24:$K$500,'CMS Downtime Detail'!$B$24:$B$500,$B154,'CMS Downtime Detail'!$C$24:$C$500,$C154,'CMS Downtime Detail'!$D$24:$D$500,$D154,'CMS Downtime Detail'!$E$24:$E$500,\"Quality Assurance/Quality Control Calibrations\"))","v":""},{"$f":"IF($E154=\"\",\"\",SUMIFS('CMS Downtime Detail'!$K$24:$K$500,'CMS Downtime Detail'!$B$24:$B$500,$B154,'CMS Downtime Detail'!$C$24:$C$500,$C154,'CMS Downtime Detail'!$D$24:$D$500,$D154,'CMS Downtime Detail'!$E$24:$E$500,\"Other Known Causes\"))","v":""},{"$f":"IF($E154=\"\",\"\",SUMIFS('CMS Downtime Detail'!$K$24:$K$500,'CMS Downtime Detail'!$B$24:$B$500,$B154,'CMS Downtime Detail'!$C$24:$C$500,$C154,'CMS Downtime Detail'!$D$24:$D$500,$D154,'CMS Downtime Detail'!$E$24:$E$500,\"Other Unknown Causes\"))","v":""}]
[null,{"$f":"IF(Lists!AQ133=\"\",\"\",Lists!AQ133)","v":""},{"$f":"IF(Lists!AR133=\"\",\"\",Lists!AR133)","v":""},{"$f":"IF(Lists!AS133=\"\",\"\",Lists!AS133)","v":""},{"$f":"IF(D155=\"\",\"\",VLOOKUP(B155&C155,Lists!$BA$2:$BD$78,4,FALSE))","v":""},"","",{"$f":"IF($E155=\"\",\"\",SUMIFS('CMS Downtime Detail'!$K$24:$K$500,'CMS Downtime Detail'!$B$24:$B$500,$B155,'CMS Downtime Detail'!$C$24:$C$500,$C155,'CMS Downtime Detail'!$D$24:$D$500,$D155,'CMS Downtime Detail'!$E$24:$E$500,\"Monitoring Equipment Malfunctions\"))","v":""},{"$f":"IF($E155=\"\",\"\",SUMIFS('CMS Downtime Detail'!$K$24:$K$500,'CMS Downtime Detail'!$B$24:$B$500,$B155,'CMS Downtime Detail'!$C$24:$C$500,$C155,'CMS Downtime Detail'!$D$24:$D$500,$D155,'CMS Downtime Detail'!$E$24:$E$500,\"Nonmonitoring Equipment Malfunctions\"))","v":""},{"$f":"IF($E155=\"\",\"\",SUMIFS('CMS Downtime Detail'!$K$24:$K$500,'CMS Downtime Detail'!$B$24:$B$500,$B155,'CMS Downtime Detail'!$C$24:$C$500,$C155,'CMS Downtime Detail'!$D$24:$D$500,$D155,'CMS Downtime Detail'!$E$24:$E$500,\"Quality Assurance/Quality Control Calibrations\"))","v":""},{"$f":"IF($E155=\"\",\"\",SUMIFS('CMS Downtime Detail'!$K$24:$K$500,'CMS Downtime Detail'!$B$24:$B$500,$B155,'CMS Downtime Detail'!$C$24:$C$500,$C155,'CMS Downtime Detail'!$D$24:$D$500,$D155,'CMS Downtime Detail'!$E$24:$E$500,\"Other Known Causes\"))","v":""},{"$f":"IF($E155=\"\",\"\",SUMIFS('CMS Downtime Detail'!$K$24:$K$500,'CMS Downtime Detail'!$B$24:$B$500,$B155,'CMS Downtime Detail'!$C$24:$C$500,$C155,'CMS Downtime Detail'!$D$24:$D$500,$D155,'CMS Downtime Detail'!$E$24:$E$500,\"Other Unknown Causes\"))","v":""}]
[null,{"$f":"IF(Lists!AQ134=\"\",\"\",Lists!AQ134)","v":""},{"$f":"IF(Lists!AR134=\"\",\"\",Lists!AR134)","v":""},{"$f":"IF(Lists!AS134=\"\",\"\",Lists!AS134)","v":""},{"$f":"IF(D156=\"\",\"\",VLOOKUP(B156&C156,Lists!$BA$2:$BD$78,4,FALSE))","v":""},"","",{"$f":"IF($E156=\"\",\"\",SUMIFS('CMS Downtime Detail'!$K$24:$K$500,'CMS Downtime Detail'!$B$24:$B$500,$B156,'CMS Downtime Detail'!$C$24:$C$500,$C156,'CMS Downtime Detail'!$D$24:$D$500,$D156,'CMS Downtime Detail'!$E$24:$E$500,\"Monitoring Equipment Malfunctions\"))","v":""},{"$f":"IF($E156=\"\",\"\",SUMIFS('CMS Downtime Detail'!$K$24:$K$500,'CMS Downtime Detail'!$B$24:$B$500,$B156,'CMS Downtime Detail'!$C$24:$C$500,$C156,'CMS Downtime Detail'!$D$24:$D$500,$D156,'CMS Downtime Detail'!$E$24:$E$500,\"Nonmonitoring Equipment Malfunctions\"))","v":""},{"$f":"IF($E156=\"\",\"\",SUMIFS('CMS Downtime Detail'!$K$24:$K$500,'CMS Downtime Detail'!$B$24:$B$500,$B156,'CMS Downtime Detail'!$C$24:$C$500,$C156,'CMS Downtime Detail'!$D$24:$D$500,$D156,'CMS Downtime Detail'!$E$24:$E$500,\"Quality Assurance/Quality Control Calibrations\"))","v":""},{"$f":"IF($E156=\"\",\"\",SUMIFS('CMS Downtime Detail'!$K$24:$K$500,'CMS Downtime Detail'!$B$24:$B$500,$B156,'CMS Downtime Detail'!$C$24:$C$500,$C156,'CMS Downtime Detail'!$D$24:$D$500,$D156,'CMS Downtime Detail'!$E$24:$E$500,\"Other Known Causes\"))","v":""},{"$f":"IF($E156=\"\",\"\",SUMIFS('CMS Downtime Detail'!$K$24:$K$500,'CMS Downtime Detail'!$B$24:$B$500,$B156,'CMS Downtime Detail'!$C$24:$C$500,$C156,'CMS Downtime Detail'!$D$24:$D$500,$D156,'CMS Downtime Detail'!$E$24:$E$500,\"Other Unknown Causes\"))","v":""}]
[null,{"$f":"IF(Lists!AQ135=\"\",\"\",Lists!AQ135)","v":""},{"$f":"IF(Lists!AR135=\"\",\"\",Lists!AR135)","v":""},{"$f":"IF(Lists!AS135=\"\",\"\",Lists!AS135)","v":""},{"$f":"IF(D157=\"\",\"\",VLOOKUP(B157&C157,Lists!$BA$2:$BD$78,4,FALSE))","v":""},"","",{"$f":"IF($E157=\"\",\"\",SUMIFS('CMS Downtime Detail'!$K$24:$K$500,'CMS Downtime Detail'!$B$24:$B$500,$B157,'CMS Downtime Detail'!$C$24:$C$500,$C157,'CMS Downtime Detail'!$D$24:$D$500,$D157,'CMS Downtime Detail'!$E$24:$E$500,\"Monitoring Equipment Malfunctions\"))","v":""},{"$f":"IF($E157=\"\",\"\",SUMIFS('CMS Downtime Detail'!$K$24:$K$500,'CMS Downtime Detail'!$B$24:$B$500,$B157,'CMS Downtime Detail'!$C$24:$C$500,$C157,'CMS Downtime Detail'!$D$24:$D$500,$D157,'CMS Downtime Detail'!$E$24:$E$500,\"Nonmonitoring Equipment Malfunctions\"))","v":""},{"$f":"IF($E157=\"\",\"\",SUMIFS('CMS Downtime Detail'!$K$24:$K$500,'CMS Downtime Detail'!$B$24:$B$500,$B157,'CMS Downtime Detail'!$C$24:$C$500,$C157,'CMS Downtime Detail'!$D$24:$D$500,$D157,'CMS Downtime Detail'!$E$24:$E$500,\"Quality Assurance/Quality Control Calibrations\"))","v":""},{"$f":"IF($E157=\"\",\"\",SUMIFS('CMS Downtime Detail'!$K$24:$K$500,'CMS Downtime Detail'!$B$24:$B$500,$B157,'CMS Downtime Detail'!$C$24:$C$500,$C157,'CMS Downtime Detail'!$D$24:$D$500,$D157,'CMS Downtime Detail'!$E$24:$E$500,\"Other Known Causes\"))","v":""},{"$f":"IF($E157=\"\",\"\",SUMIFS('CMS Downtime Detail'!$K$24:$K$500,'CMS Downtime Detail'!$B$24:$B$500,$B157,'CMS Downtime Detail'!$C$24:$C$500,$C157,'CMS Downtime Detail'!$D$24:$D$500,$D157,'CMS Downtime Detail'!$E$24:$E$500,\"Other Unknown Causes\"))","v":""}]
[null,{"$f":"IF(Lists!AQ136=\"\",\"\",Lists!AQ136)","v":""},{"$f":"IF(Lists!AR136=\"\",\"\",Lists!AR136)","v":""},{"$f":"IF(Lists!AS136=\"\",\"\",Lists!AS136)","v":""},{"$f":"IF(D158=\"\",\"\",VLOOKUP(B158&C158,Lists!$BA$2:$BD$78,4,FALSE))","v":""},"","",{"$f":"IF($E158=\"\",\"\",SUMIFS('CMS Downtime Detail'!$K$24:$K$500,'CMS Downtime Detail'!$B$24:$B$500,$B158,'CMS Downtime Detail'!$C$24:$C$500,$C158,'CMS Downtime Detail'!$D$24:$D$500,$D158,'CMS Downtime Detail'!$E$24:$E$500,\"Monitoring Equipment Malfunctions\"))","v":""},{"$f":"IF($E158=\"\",\"\",SUMIFS('CMS Downtime Detail'!$K$24:$K$500,'CMS Downtime Detail'!$B$24:$B$500,$B158,'CMS Downtime Detail'!$C$24:$C$500,$C158,'CMS Downtime Detail'!$D$24:$D$500,$D158,'CMS Downtime Detail'!$E$24:$E$500,\"Nonmonitoring Equipment Malfunctions\"))","v":""},{"$f":"IF($E158=\"\",\"\",SUMIFS('CMS Downtime Detail'!$K$24:$K$500,'CMS Downtime Detail'!$B$24:$B$500,$B158,'CMS Downtime Detail'!$C$24:$C$500,$C158,'CMS Downtime Detail'!$D$24:$D$500,$D158,'CMS Downtime Detail'!$E$24:$E$500,\"Quality Assurance/Quality Control Calibrations\"))","v":""},{"$f":"IF($E158=\"\",\"\",SUMIFS('CMS Downtime Detail'!$K$24:$K$500,'CMS Downtime Detail'!$B$24:$B$500,$B158,'CMS Downtime Detail'!$C$24:$C$500,$C158,'CMS Downtime Detail'!$D$24:$D$500,$D158,'CMS Downtime Detail'!$E$24:$E$500,\"Other Known Causes\"))","v":""},{"$f":"IF($E158=\"\",\"\",SUMIFS('CMS Downtime Detail'!$K$24:$K$500,'CMS Downtime Detail'!$B$24:$B$500,$B158,'CMS Downtime Detail'!$C$24:$C$500,$C158,'CMS Downtime Detail'!$D$24:$D$500,$D158,'CMS Downtime Detail'!$E$24:$E$500,\"Other Unknown Causes\"))","v":""}]
[null,{"$f":"IF(Lists!AQ137=\"\",\"\",Lists!AQ137)","v":""},{"$f":"IF(Lists!AR137=\"\",\"\",Lists!AR137)","v":""},{"$f":"IF(Lists!AS137=\"\",\"\",Lists!AS137)","v":""},{"$f":"IF(D159=\"\",\"\",VLOOKUP(B159&C159,Lists!$BA$2:$BD$78,4,FALSE))","v":""},"","",{"$f":"IF($E159=\"\",\"\",SUMIFS('CMS Downtime Detail'!$K$24:$K$500,'CMS Downtime Detail'!$B$24:$B$500,$B159,'CMS Downtime Detail'!$C$24:$C$500,$C159,'CMS Downtime Detail'!$D$24:$D$500,$D159,'CMS Downtime Detail'!$E$24:$E$500,\"Monitoring Equipment Malfunctions\"))","v":""},{"$f":"IF($E159=\"\",\"\",SUMIFS('CMS Downtime Detail'!$K$24:$K$500,'CMS Downtime Detail'!$B$24:$B$500,$B159,'CMS Downtime Detail'!$C$24:$C$500,$C159,'CMS Downtime Detail'!$D$24:$D$500,$D159,'CMS Downtime Detail'!$E$24:$E$500,\"Nonmonitoring Equipment Malfunctions\"))","v":""},{"$f":"IF($E159=\"\",\"\",SUMIFS('CMS Downtime Detail'!$K$24:$K$500,'CMS Downtime Detail'!$B$24:$B$500,$B159,'CMS Downtime Detail'!$C$24:$C$500,$C159,'CMS Downtime Detail'!$D$24:$D$500,$D159,'CMS Downtime Detail'!$E$24:$E$500,\"Quality Assurance/Quality Control Calibrations\"))","v":""},{"$f":"IF($E159=\"\",\"\",SUMIFS('CMS Downtime Detail'!$K$24:$K$500,'CMS Downtime Detail'!$B$24:$B$500,$B159,'CMS Downtime Detail'!$C$24:$C$500,$C159,'CMS Downtime Detail'!$D$24:$D$500,$D159,'CMS Downtime Detail'!$E$24:$E$500,\"Other Known Causes\"))","v":""},{"$f":"IF($E159=\"\",\"\",SUMIFS('CMS Downtime Detail'!$K$24:$K$500,'CMS Downtime Detail'!$B$24:$B$500,$B159,'CMS Downtime Detail'!$C$24:$C$500,$C159,'CMS Downtime Detail'!$D$24:$D$500,$D159,'CMS Downtime Detail'!$E$24:$E$500,\"Other Unknown Causes\"))","v":""}]
[null,{"$f":"IF(Lists!AQ138=\"\",\"\",Lists!AQ138)","v":""},{"$f":"IF(Lists!AR138=\"\",\"\",Lists!AR138)","v":""},{"$f":"IF(Lists!AS138=\"\",\"\",Lists!AS138)","v":""},{"$f":"IF(D160=\"\",\"\",VLOOKUP(B160&C160,Lists!$BA$2:$BD$78,4,FALSE))","v":""},"","",{"$f":"IF($E160=\"\",\"\",SUMIFS('CMS Downtime Detail'!$K$24:$K$500,'CMS Downtime Detail'!$B$24:$B$500,$B160,'CMS Downtime Detail'!$C$24:$C$500,$C160,'CMS Downtime Detail'!$D$24:$D$500,$D160,'CMS Downtime Detail'!$E$24:$E$500,\"Monitoring Equipment Malfunctions\"))","v":""},{"$f":"IF($E160=\"\",\"\",SUMIFS('CMS Downtime Detail'!$K$24:$K$500,'CMS Downtime Detail'!$B$24:$B$500,$B160,'CMS Downtime Detail'!$C$24:$C$500,$C160,'CMS Downtime Detail'!$D$24:$D$500,$D160,'CMS Downtime Detail'!$E$24:$E$500,\"Nonmonitoring Equipment Malfunctions\"))","v":""},{"$f":"IF($E160=\"\",\"\",SUMIFS('CMS Downtime Detail'!$K$24:$K$500,'CMS Downtime Detail'!$B$24:$B$500,$B160,'CMS Downtime Detail'!$C$24:$C$500,$C160,'CMS Downtime Detail'!$D$24:$D$500,$D160,'CMS Downtime Detail'!$E$24:$E$500,\"Quality Assurance/Quality Control Calibrations\"))","v":""},{"$f":"IF($E160=\"\",\"\",SUMIFS('CMS Downtime Detail'!$K$24:$K$500,'CMS Downtime Detail'!$B$24:$B$500,$B160,'CMS Downtime Detail'!$C$24:$C$500,$C160,'CMS Downtime Detail'!$D$24:$D$500,$D160,'CMS Downtime Detail'!$E$24:$E$500,\"Other Known Causes\"))","v":""},{"$f":"IF($E160=\"\",\"\",SUMIFS('CMS Downtime Detail'!$K$24:$K$500,'CMS Downtime Detail'!$B$24:$B$500,$B160,'CMS Downtime Detail'!$C$24:$C$500,$C160,'CMS Downtime Detail'!$D$24:$D$500,$D160,'CMS Downtime Detail'!$E$24:$E$500,\"Other Unknown Causes\"))","v":""}]
[null,{"$f":"IF(Lists!AQ139=\"\",\"\",Lists!AQ139)","v":""},{"$f":"IF(Lists!AR139=\"\",\"\",Lists!AR139)","v":""},{"$f":"IF(Lists!AS139=\"\",\"\",Lists!AS139)","v":""},{"$f":"IF(D161=\"\",\"\",VLOOKUP(B161&C161,Lists!$BA$2:$BD$78,4,FALSE))","v":""},"","",{"$f":"IF($E161=\"\",\"\",SUMIFS('CMS Downtime Detail'!$K$24:$K$500,'CMS Downtime Detail'!$B$24:$B$500,$B161,'CMS Downtime Detail'!$C$24:$C$500,$C161,'CMS Downtime Detail'!$D$24:$D$500,$D161,'CMS Downtime Detail'!$E$24:$E$500,\"Monitoring Equipment Malfunctions\"))","v":""},{"$f":"IF($E161=\"\",\"\",SUMIFS('CMS Downtime Detail'!$K$24:$K$500,'CMS Downtime Detail'!$B$24:$B$500,$B161,'CMS Downtime Detail'!$C$24:$C$500,$C161,'CMS Downtime Detail'!$D$24:$D$500,$D161,'CMS Downtime Detail'!$E$24:$E$500,\"Nonmonitoring Equipment Malfunctions\"))","v":""},{"$f":"IF($E161=\"\",\"\",SUMIFS('CMS Downtime Detail'!$K$24:$K$500,'CMS Downtime Detail'!$B$24:$B$500,$B161,'CMS Downtime Detail'!$C$24:$C$500,$C161,'CMS Downtime Detail'!$D$24:$D$500,$D161,'CMS Downtime Detail'!$E$24:$E$500,\"Quality Assurance/Quality Control Calibrations\"))","v":""},{"$f":"IF($E161=\"\",\"\",SUMIFS('CMS Downtime Detail'!$K$24:$K$500,'CMS Downtime Detail'!$B$24:$B$500,$B161,'CMS Downtime Detail'!$C$24:$C$500,$C161,'CMS Downtime Detail'!$D$24:$D$500,$D161,'CMS Downtime Detail'!$E$24:$E$500,\"Other Known Causes\"))","v":""},{"$f":"IF($E161=\"\",\"\",SUMIFS('CMS Downtime Detail'!$K$24:$K$500,'CMS Downtime Detail'!$B$24:$B$500,$B161,'CMS Downtime Detail'!$C$24:$C$500,$C161,'CMS Downtime Detail'!$D$24:$D$500,$D161,'CMS Downtime Detail'!$E$24:$E$500,\"Other Unknown Causes\"))","v":""}]
[null,{"$f":"IF(Lists!AQ140=\"\",\"\",Lists!AQ140)","v":""},{"$f":"IF(Lists!AR140=\"\",\"\",Lists!AR140)","v":""},{"$f":"IF(Lists!AS140=\"\",\"\",Lists!AS140)","v":""},{"$f":"IF(D162=\"\",\"\",VLOOKUP(B162&C162,Lists!$BA$2:$BD$78,4,FALSE))","v":""},"","",{"$f":"IF($E162=\"\",\"\",SUMIFS('CMS Downtime Detail'!$K$24:$K$500,'CMS Downtime Detail'!$B$24:$B$500,$B162,'CMS Downtime Detail'!$C$24:$C$500,$C162,'CMS Downtime Detail'!$D$24:$D$500,$D162,'CMS Downtime Detail'!$E$24:$E$500,\"Monitoring Equipment Malfunctions\"))","v":""},{"$f":"IF($E162=\"\",\"\",SUMIFS('CMS Downtime Detail'!$K$24:$K$500,'CMS Downtime Detail'!$B$24:$B$500,$B162,'CMS Downtime Detail'!$C$24:$C$500,$C162,'CMS Downtime Detail'!$D$24:$D$500,$D162,'CMS Downtime Detail'!$E$24:$E$500,\"Nonmonitoring Equipment Malfunctions\"))","v":""},{"$f":"IF($E162=\"\",\"\",SUMIFS('CMS Downtime Detail'!$K$24:$K$500,'CMS Downtime Detail'!$B$24:$B$500,$B162,'CMS Downtime Detail'!$C$24:$C$500,$C162,'CMS Downtime Detail'!$D$24:$D$500,$D162,'CMS Downtime Detail'!$E$24:$E$500,\"Quality Assurance/Quality Control Calibrations\"))","v":""},{"$f":"IF($E162=\"\",\"\",SUMIFS('CMS Downtime Detail'!$K$24:$K$500,'CMS Downtime Detail'!$B$24:$B$500,$B162,'CMS Downtime Detail'!$C$24:$C$500,$C162,'CMS Downtime Detail'!$D$24:$D$500,$D162,'CMS Downtime Detail'!$E$24:$E$500,\"Other Known Causes\"))","v":""},{"$f":"IF($E162=\"\",\"\",SUMIFS('CMS Downtime Detail'!$K$24:$K$500,'CMS Downtime Detail'!$B$24:$B$500,$B162,'CMS Downtime Detail'!$C$24:$C$500,$C162,'CMS Downtime Detail'!$D$24:$D$500,$D162,'CMS Downtime Detail'!$E$24:$E$500,\"Other Unknown Causes\"))","v":""}]
[null,{"$f":"IF(Lists!AQ141=\"\",\"\",Lists!AQ141)","v":""},{"$f":"IF(Lists!AR141=\"\",\"\",Lists!AR141)","v":""},{"$f":"IF(Lists!AS141=\"\",\"\",Lists!AS141)","v":""},{"$f":"IF(D163=\"\",\"\",VLOOKUP(B163&C163,Lists!$BA$2:$BD$78,4,FALSE))","v":""},"","",{"$f":"IF($E163=\"\",\"\",SUMIFS('CMS Downtime Detail'!$K$24:$K$500,'CMS Downtime Detail'!$B$24:$B$500,$B163,'CMS Downtime Detail'!$C$24:$C$500,$C163,'CMS Downtime Detail'!$D$24:$D$500,$D163,'CMS Downtime Detail'!$E$24:$E$500,\"Monitoring Equipment Malfunctions\"))","v":""},{"$f":"IF($E163=\"\",\"\",SUMIFS('CMS Downtime Detail'!$K$24:$K$500,'CMS Downtime Detail'!$B$24:$B$500,$B163,'CMS Downtime Detail'!$C$24:$C$500,$C163,'CMS Downtime Detail'!$D$24:$D$500,$D163,'CMS Downtime Detail'!$E$24:$E$500,\"Nonmonitoring Equipment Malfunctions\"))","v":""},{"$f":"IF($E163=\"\",\"\",SUMIFS('CMS Downtime Detail'!$K$24:$K$500,'CMS Downtime Detail'!$B$24:$B$500,$B163,'CMS Downtime Detail'!$C$24:$C$500,$C163,'CMS Downtime Detail'!$D$24:$D$500,$D163,'CMS Downtime Detail'!$E$24:$E$500,\"Quality Assurance/Quality Control Calibrations\"))","v":""},{"$f":"IF($E163=\"\",\"\",SUMIFS('CMS Downtime Detail'!$K$24:$K$500,'CMS Downtime Detail'!$B$24:$B$500,$B163,'CMS Downtime Detail'!$C$24:$C$500,$C163,'CMS Downtime Detail'!$D$24:$D$500,$D163,'CMS Downtime Detail'!$E$24:$E$500,\"Other Known Causes\"))","v":""},{"$f":"IF($E163=\"\",\"\",SUMIFS('CMS Downtime Detail'!$K$24:$K$500,'CMS Downtime Detail'!$B$24:$B$500,$B163,'CMS Downtime Detail'!$C$24:$C$500,$C163,'CMS Downtime Detail'!$D$24:$D$500,$D163,'CMS Downtime Detail'!$E$24:$E$500,\"Other Unknown Causes\"))","v":""}]
[null,{"$f":"IF(Lists!AQ142=\"\",\"\",Lists!AQ142)","v":""},{"$f":"IF(Lists!AR142=\"\",\"\",Lists!AR142)","v":""},{"$f":"IF(Lists!AS142=\"\",\"\",Lists!AS142)","v":""},{"$f":"IF(D164=\"\",\"\",VLOOKUP(B164&C164,Lists!$BA$2:$BD$78,4,FALSE))","v":""},"","",{"$f":"IF($E164=\"\",\"\",SUMIFS('CMS Downtime Detail'!$K$24:$K$500,'CMS Downtime Detail'!$B$24:$B$500,$B164,'CMS Downtime Detail'!$C$24:$C$500,$C164,'CMS Downtime Detail'!$D$24:$D$500,$D164,'CMS Downtime Detail'!$E$24:$E$500,\"Monitoring Equipment Malfunctions\"))","v":""},{"$f":"IF($E164=\"\",\"\",SUMIFS('CMS Downtime Detail'!$K$24:$K$500,'CMS Downtime Detail'!$B$24:$B$500,$B164,'CMS Downtime Detail'!$C$24:$C$500,$C164,'CMS Downtime Detail'!$D$24:$D$500,$D164,'CMS Downtime Detail'!$E$24:$E$500,\"Nonmonitoring Equipment Malfunctions\"))","v":""},{"$f":"IF($E164=\"\",\"\",SUMIFS('CMS Downtime Detail'!$K$24:$K$500,'CMS Downtime Detail'!$B$24:$B$500,$B164,'CMS Downtime Detail'!$C$24:$C$500,$C164,'CMS Downtime Detail'!$D$24:$D$500,$D164,'CMS Downtime Detail'!$E$24:$E$500,\"Quality Assurance/Quality Control Calibrations\"))","v":""},{"$f":"IF($E164=\"\",\"\",SUMIFS('CMS Downtime Detail'!$K$24:$K$500,'CMS Downtime Detail'!$B$24:$B$500,$B164,'CMS Downtime Detail'!$C$24:$C$500,$C164,'CMS Downtime Detail'!$D$24:$D$500,$D164,'CMS Downtime Detail'!$E$24:$E$500,\"Other Known Causes\"))","v":""},{"$f":"IF($E164=\"\",\"\",SUMIFS('CMS Downtime Detail'!$K$24:$K$500,'CMS Downtime Detail'!$B$24:$B$500,$B164,'CMS Downtime Detail'!$C$24:$C$500,$C164,'CMS Downtime Detail'!$D$24:$D$500,$D164,'CMS Downtime Detail'!$E$24:$E$500,\"Other Unknown Causes\"))","v":""}]
[null,{"$f":"IF(Lists!AQ143=\"\",\"\",Lists!AQ143)","v":""},{"$f":"IF(Lists!AR143=\"\",\"\",Lists!AR143)","v":""},{"$f":"IF(Lists!AS143=\"\",\"\",Lists!AS143)","v":""},{"$f":"IF(D165=\"\",\"\",VLOOKUP(B165&C165,Lists!$BA$2:$BD$78,4,FALSE))","v":""},"","",{"$f":"IF($E165=\"\",\"\",SUMIFS('CMS Downtime Detail'!$K$24:$K$500,'CMS Downtime Detail'!$B$24:$B$500,$B165,'CMS Downtime Detail'!$C$24:$C$500,$C165,'CMS Downtime Detail'!$D$24:$D$500,$D165,'CMS Downtime Detail'!$E$24:$E$500,\"Monitoring Equipment Malfunctions\"))","v":""},{"$f":"IF($E165=\"\",\"\",SUMIFS('CMS Downtime Detail'!$K$24:$K$500,'CMS Downtime Detail'!$B$24:$B$500,$B165,'CMS Downtime Detail'!$C$24:$C$500,$C165,'CMS Downtime Detail'!$D$24:$D$500,$D165,'CMS Downtime Detail'!$E$24:$E$500,\"Nonmonitoring Equipment Malfunctions\"))","v":""},{"$f":"IF($E165=\"\",\"\",SUMIFS('CMS Downtime Detail'!$K$24:$K$500,'CMS Downtime Detail'!$B$24:$B$500,$B165,'CMS Downtime Detail'!$C$24:$C$500,$C165,'CMS Downtime Detail'!$D$24:$D$500,$D165,'CMS Downtime Detail'!$E$24:$E$500,\"Quality Assurance/Quality Control Calibrations\"))","v":""},{"$f":"IF($E165=\"\",\"\",SUMIFS('CMS Downtime Detail'!$K$24:$K$500,'CMS Downtime Detail'!$B$24:$B$500,$B165,'CMS Downtime Detail'!$C$24:$C$500,$C165,'CMS Downtime Detail'!$D$24:$D$500,$D165,'CMS Downtime Detail'!$E$24:$E$500,\"Other Known Causes\"))","v":""},{"$f":"IF($E165=\"\",\"\",SUMIFS('CMS Downtime Detail'!$K$24:$K$500,'CMS Downtime Detail'!$B$24:$B$500,$B165,'CMS Downtime Detail'!$C$24:$C$500,$C165,'CMS Downtime Detail'!$D$24:$D$500,$D165,'CMS Downtime Detail'!$E$24:$E$500,\"Other Unknown Causes\"))","v":""}]
[null,{"$f":"IF(Lists!AQ144=\"\",\"\",Lists!AQ144)","v":""},{"$f":"IF(Lists!AR144=\"\",\"\",Lists!AR144)","v":""},{"$f":"IF(Lists!AS144=\"\",\"\",Lists!AS144)","v":""},{"$f":"IF(D166=\"\",\"\",VLOOKUP(B166&C166,Lists!$BA$2:$BD$78,4,FALSE))","v":""},"","",{"$f":"IF($E166=\"\",\"\",SUMIFS('CMS Downtime Detail'!$K$24:$K$500,'CMS Downtime Detail'!$B$24:$B$500,$B166,'CMS Downtime Detail'!$C$24:$C$500,$C166,'CMS Downtime Detail'!$D$24:$D$500,$D166,'CMS Downtime Detail'!$E$24:$E$500,\"Monitoring Equipment Malfunctions\"))","v":""},{"$f":"IF($E166=\"\",\"\",SUMIFS('CMS Downtime Detail'!$K$24:$K$500,'CMS Downtime Detail'!$B$24:$B$500,$B166,'CMS Downtime Detail'!$C$24:$C$500,$C166,'CMS Downtime Detail'!$D$24:$D$500,$D166,'CMS Downtime Detail'!$E$24:$E$500,\"Nonmonitoring Equipment Malfunctions\"))","v":""},{"$f":"IF($E166=\"\",\"\",SUMIFS('CMS Downtime Detail'!$K$24:$K$500,'CMS Downtime Detail'!$B$24:$B$500,$B166,'CMS Downtime Detail'!$C$24:$C$500,$C166,'CMS Downtime Detail'!$D$24:$D$500,$D166,'CMS Downtime Detail'!$E$24:$E$500,\"Quality Assurance/Quality Control Calibrations\"))","v":""},{"$f":"IF($E166=\"\",\"\",SUMIFS('CMS Downtime Detail'!$K$24:$K$500,'CMS Downtime Detail'!$B$24:$B$500,$B166,'CMS Downtime Detail'!$C$24:$C$500,$C166,'CMS Downtime Detail'!$D$24:$D$500,$D166,'CMS Downtime Detail'!$E$24:$E$500,\"Other Known Causes\"))","v":""},{"$f":"IF($E166=\"\",\"\",SUMIFS('CMS Downtime Detail'!$K$24:$K$500,'CMS Downtime Detail'!$B$24:$B$500,$B166,'CMS Downtime Detail'!$C$24:$C$500,$C166,'CMS Downtime Detail'!$D$24:$D$500,$D166,'CMS Downtime Detail'!$E$24:$E$500,\"Other Unknown Causes\"))","v":""}]
[null,{"$f":"IF(Lists!AQ145=\"\",\"\",Lists!AQ145)","v":""},{"$f":"IF(Lists!AR145=\"\",\"\",Lists!AR145)","v":""},{"$f":"IF(Lists!AS145=\"\",\"\",Lists!AS145)","v":""},{"$f":"IF(D167=\"\",\"\",VLOOKUP(B167&C167,Lists!$BA$2:$BD$78,4,FALSE))","v":""},"","",{"$f":"IF($E167=\"\",\"\",SUMIFS('CMS Downtime Detail'!$K$24:$K$500,'CMS Downtime Detail'!$B$24:$B$500,$B167,'CMS Downtime Detail'!$C$24:$C$500,$C167,'CMS Downtime Detail'!$D$24:$D$500,$D167,'CMS Downtime Detail'!$E$24:$E$500,\"Monitoring Equipment Malfunctions\"))","v":""},{"$f":"IF($E167=\"\",\"\",SUMIFS('CMS Downtime Detail'!$K$24:$K$500,'CMS Downtime Detail'!$B$24:$B$500,$B167,'CMS Downtime Detail'!$C$24:$C$500,$C167,'CMS Downtime Detail'!$D$24:$D$500,$D167,'CMS Downtime Detail'!$E$24:$E$500,\"Nonmonitoring Equipment Malfunctions\"))","v":""},{"$f":"IF($E167=\"\",\"\",SUMIFS('CMS Downtime Detail'!$K$24:$K$500,'CMS Downtime Detail'!$B$24:$B$500,$B167,'CMS Downtime Detail'!$C$24:$C$500,$C167,'CMS Downtime Detail'!$D$24:$D$500,$D167,'CMS Downtime Detail'!$E$24:$E$500,\"Quality Assurance/Quality Control Calibrations\"))","v":""},{"$f":"IF($E167=\"\",\"\",SUMIFS('CMS Downtime Detail'!$K$24:$K$500,'CMS Downtime Detail'!$B$24:$B$500,$B167,'CMS Downtime Detail'!$C$24:$C$500,$C167,'CMS Downtime Detail'!$D$24:$D$500,$D167,'CMS Downtime Detail'!$E$24:$E$500,\"Other Known Causes\"))","v":""},{"$f":"IF($E167=\"\",\"\",SUMIFS('CMS Downtime Detail'!$K$24:$K$500,'CMS Downtime Detail'!$B$24:$B$500,$B167,'CMS Downtime Detail'!$C$24:$C$500,$C167,'CMS Downtime Detail'!$D$24:$D$500,$D167,'CMS Downtime Detail'!$E$24:$E$500,\"Other Unknown Causes\"))","v":""}]
[null,{"$f":"IF(Lists!AQ146=\"\",\"\",Lists!AQ146)","v":""},{"$f":"IF(Lists!AR146=\"\",\"\",Lists!AR146)","v":""},{"$f":"IF(Lists!AS146=\"\",\"\",Lists!AS146)","v":""},{"$f":"IF(D168=\"\",\"\",VLOOKUP(B168&C168,Lists!$BA$2:$BD$78,4,FALSE))","v":""},"","",{"$f":"IF($E168=\"\",\"\",SUMIFS('CMS Downtime Detail'!$K$24:$K$500,'CMS Downtime Detail'!$B$24:$B$500,$B168,'CMS Downtime Detail'!$C$24:$C$500,$C168,'CMS Downtime Detail'!$D$24:$D$500,$D168,'CMS Downtime Detail'!$E$24:$E$500,\"Monitoring Equipment Malfunctions\"))","v":""},{"$f":"IF($E168=\"\",\"\",SUMIFS('CMS Downtime Detail'!$K$24:$K$500,'CMS Downtime Detail'!$B$24:$B$500,$B168,'CMS Downtime Detail'!$C$24:$C$500,$C168,'CMS Downtime Detail'!$D$24:$D$500,$D168,'CMS Downtime Detail'!$E$24:$E$500,\"Nonmonitoring Equipment Malfunctions\"))","v":""},{"$f":"IF($E168=\"\",\"\",SUMIFS('CMS Downtime Detail'!$K$24:$K$500,'CMS Downtime Detail'!$B$24:$B$500,$B168,'CMS Downtime Detail'!$C$24:$C$500,$C168,'CMS Downtime Detail'!$D$24:$D$500,$D168,'CMS Downtime Detail'!$E$24:$E$500,\"Quality Assurance/Quality Control Calibrations\"))","v":""},{"$f":"IF($E168=\"\",\"\",SUMIFS('CMS Downtime Detail'!$K$24:$K$500,'CMS Downtime Detail'!$B$24:$B$500,$B168,'CMS Downtime Detail'!$C$24:$C$500,$C168,'CMS Downtime Detail'!$D$24:$D$500,$D168,'CMS Downtime Detail'!$E$24:$E$500,\"Other Known Causes\"))","v":""},{"$f":"IF($E168=\"\",\"\",SUMIFS('CMS Downtime Detail'!$K$24:$K$500,'CMS Downtime Detail'!$B$24:$B$500,$B168,'CMS Downtime Detail'!$C$24:$C$500,$C168,'CMS Downtime Detail'!$D$24:$D$500,$D168,'CMS Downtime Detail'!$E$24:$E$500,\"Other Unknown Causes\"))","v":""}]
[null,{"$f":"IF(Lists!AQ147=\"\",\"\",Lists!AQ147)","v":""},{"$f":"IF(Lists!AR147=\"\",\"\",Lists!AR147)","v":""},{"$f":"IF(Lists!AS147=\"\",\"\",Lists!AS147)","v":""},{"$f":"IF(D169=\"\",\"\",VLOOKUP(B169&C169,Lists!$BA$2:$BD$78,4,FALSE))","v":""},"","",{"$f":"IF($E169=\"\",\"\",SUMIFS('CMS Downtime Detail'!$K$24:$K$500,'CMS Downtime Detail'!$B$24:$B$500,$B169,'CMS Downtime Detail'!$C$24:$C$500,$C169,'CMS Downtime Detail'!$D$24:$D$500,$D169,'CMS Downtime Detail'!$E$24:$E$500,\"Monitoring Equipment Malfunctions\"))","v":""},{"$f":"IF($E169=\"\",\"\",SUMIFS('CMS Downtime Detail'!$K$24:$K$500,'CMS Downtime Detail'!$B$24:$B$500,$B169,'CMS Downtime Detail'!$C$24:$C$500,$C169,'CMS Downtime Detail'!$D$24:$D$500,$D169,'CMS Downtime Detail'!$E$24:$E$500,\"Nonmonitoring Equipment Malfunctions\"))","v":""},{"$f":"IF($E169=\"\",\"\",SUMIFS('CMS Downtime Detail'!$K$24:$K$500,'CMS Downtime Detail'!$B$24:$B$500,$B169,'CMS Downtime Detail'!$C$24:$C$500,$C169,'CMS Downtime Detail'!$D$24:$D$500,$D169,'CMS Downtime Detail'!$E$24:$E$500,\"Quality Assurance/Quality Control Calibrations\"))","v":""},{"$f":"IF($E169=\"\",\"\",SUMIFS('CMS Downtime Detail'!$K$24:$K$500,'CMS Downtime Detail'!$B$24:$B$500,$B169,'CMS Downtime Detail'!$C$24:$C$500,$C169,'CMS Downtime Detail'!$D$24:$D$500,$D169,'CMS Downtime Detail'!$E$24:$E$500,\"Other Known Causes\"))","v":""},{"$f":"IF($E169=\"\",\"\",SUMIFS('CMS Downtime Detail'!$K$24:$K$500,'CMS Downtime Detail'!$B$24:$B$500,$B169,'CMS Downtime Detail'!$C$24:$C$500,$C169,'CMS Downtime Detail'!$D$24:$D$500,$D169,'CMS Downtime Detail'!$E$24:$E$500,\"Other Unknown Causes\"))","v":""}]
[null,{"$f":"IF(Lists!AQ148=\"\",\"\",Lists!AQ148)","v":""},{"$f":"IF(Lists!AR148=\"\",\"\",Lists!AR148)","v":""},{"$f":"IF(Lists!AS148=\"\",\"\",Lists!AS148)","v":""},{"$f":"IF(D170=\"\",\"\",VLOOKUP(B170&C170,Lists!$BA$2:$BD$78,4,FALSE))","v":""},"","",{"$f":"IF($E170=\"\",\"\",SUMIFS('CMS Downtime Detail'!$K$24:$K$500,'CMS Downtime Detail'!$B$24:$B$500,$B170,'CMS Downtime Detail'!$C$24:$C$500,$C170,'CMS Downtime Detail'!$D$24:$D$500,$D170,'CMS Downtime Detail'!$E$24:$E$500,\"Monitoring Equipment Malfunctions\"))","v":""},{"$f":"IF($E170=\"\",\"\",SUMIFS('CMS Downtime Detail'!$K$24:$K$500,'CMS Downtime Detail'!$B$24:$B$500,$B170,'CMS Downtime Detail'!$C$24:$C$500,$C170,'CMS Downtime Detail'!$D$24:$D$500,$D170,'CMS Downtime Detail'!$E$24:$E$500,\"Nonmonitoring Equipment Malfunctions\"))","v":""},{"$f":"IF($E170=\"\",\"\",SUMIFS('CMS Downtime Detail'!$K$24:$K$500,'CMS Downtime Detail'!$B$24:$B$500,$B170,'CMS Downtime Detail'!$C$24:$C$500,$C170,'CMS Downtime Detail'!$D$24:$D$500,$D170,'CMS Downtime Detail'!$E$24:$E$500,\"Quality Assurance/Quality Control Calibrations\"))","v":""},{"$f":"IF($E170=\"\",\"\",SUMIFS('CMS Downtime Detail'!$K$24:$K$500,'CMS Downtime Detail'!$B$24:$B$500,$B170,'CMS Downtime Detail'!$C$24:$C$500,$C170,'CMS Downtime Detail'!$D$24:$D$500,$D170,'CMS Downtime Detail'!$E$24:$E$500,\"Other Known Causes\"))","v":""},{"$f":"IF($E170=\"\",\"\",SUMIFS('CMS Downtime Detail'!$K$24:$K$500,'CMS Downtime Detail'!$B$24:$B$500,$B170,'CMS Downtime Detail'!$C$24:$C$500,$C170,'CMS Downtime Detail'!$D$24:$D$500,$D170,'CMS Downtime Detail'!$E$24:$E$500,\"Other Unknown Causes\"))","v":""}]
[null,{"$f":"IF(Lists!AQ149=\"\",\"\",Lists!AQ149)","v":""},{"$f":"IF(Lists!AR149=\"\",\"\",Lists!AR149)","v":""},{"$f":"IF(Lists!AS149=\"\",\"\",Lists!AS149)","v":""},{"$f":"IF(D171=\"\",\"\",VLOOKUP(B171&C171,Lists!$BA$2:$BD$78,4,FALSE))","v":""},"","",{"$f":"IF($E171=\"\",\"\",SUMIFS('CMS Downtime Detail'!$K$24:$K$500,'CMS Downtime Detail'!$B$24:$B$500,$B171,'CMS Downtime Detail'!$C$24:$C$500,$C171,'CMS Downtime Detail'!$D$24:$D$500,$D171,'CMS Downtime Detail'!$E$24:$E$500,\"Monitoring Equipment Malfunctions\"))","v":""},{"$f":"IF($E171=\"\",\"\",SUMIFS('CMS Downtime Detail'!$K$24:$K$500,'CMS Downtime Detail'!$B$24:$B$500,$B171,'CMS Downtime Detail'!$C$24:$C$500,$C171,'CMS Downtime Detail'!$D$24:$D$500,$D171,'CMS Downtime Detail'!$E$24:$E$500,\"Nonmonitoring Equipment Malfunctions\"))","v":""},{"$f":"IF($E171=\"\",\"\",SUMIFS('CMS Downtime Detail'!$K$24:$K$500,'CMS Downtime Detail'!$B$24:$B$500,$B171,'CMS Downtime Detail'!$C$24:$C$500,$C171,'CMS Downtime Detail'!$D$24:$D$500,$D171,'CMS Downtime Detail'!$E$24:$E$500,\"Quality Assurance/Quality Control Calibrations\"))","v":""},{"$f":"IF($E171=\"\",\"\",SUMIFS('CMS Downtime Detail'!$K$24:$K$500,'CMS Downtime Detail'!$B$24:$B$500,$B171,'CMS Downtime Detail'!$C$24:$C$500,$C171,'CMS Downtime Detail'!$D$24:$D$500,$D171,'CMS Downtime Detail'!$E$24:$E$500,\"Other Known Causes\"))","v":""},{"$f":"IF($E171=\"\",\"\",SUMIFS('CMS Downtime Detail'!$K$24:$K$500,'CMS Downtime Detail'!$B$24:$B$500,$B171,'CMS Downtime Detail'!$C$24:$C$500,$C171,'CMS Downtime Detail'!$D$24:$D$500,$D171,'CMS Downtime Detail'!$E$24:$E$500,\"Other Unknown Causes\"))","v":""}]
[null,{"$f":"IF(Lists!AQ150=\"\",\"\",Lists!AQ150)","v":""},{"$f":"IF(Lists!AR150=\"\",\"\",Lists!AR150)","v":""},{"$f":"IF(Lists!AS150=\"\",\"\",Lists!AS150)","v":""},{"$f":"IF(D172=\"\",\"\",VLOOKUP(B172&C172,Lists!$BA$2:$BD$78,4,FALSE))","v":""},"","",{"$f":"IF($E172=\"\",\"\",SUMIFS('CMS Downtime Detail'!$K$24:$K$500,'CMS Downtime Detail'!$B$24:$B$500,$B172,'CMS Downtime Detail'!$C$24:$C$500,$C172,'CMS Downtime Detail'!$D$24:$D$500,$D172,'CMS Downtime Detail'!$E$24:$E$500,\"Monitoring Equipment Malfunctions\"))","v":""},{"$f":"IF($E172=\"\",\"\",SUMIFS('CMS Downtime Detail'!$K$24:$K$500,'CMS Downtime Detail'!$B$24:$B$500,$B172,'CMS Downtime Detail'!$C$24:$C$500,$C172,'CMS Downtime Detail'!$D$24:$D$500,$D172,'CMS Downtime Detail'!$E$24:$E$500,\"Nonmonitoring Equipment Malfunctions\"))","v":""},{"$f":"IF($E172=\"\",\"\",SUMIFS('CMS Downtime Detail'!$K$24:$K$500,'CMS Downtime Detail'!$B$24:$B$500,$B172,'CMS Downtime Detail'!$C$24:$C$500,$C172,'CMS Downtime Detail'!$D$24:$D$500,$D172,'CMS Downtime Detail'!$E$24:$E$500,\"Quality Assurance/Quality Control Calibrations\"))","v":""},{"$f":"IF($E172=\"\",\"\",SUMIFS('CMS Downtime Detail'!$K$24:$K$500,'CMS Downtime Detail'!$B$24:$B$500,$B172,'CMS Downtime Detail'!$C$24:$C$500,$C172,'CMS Downtime Detail'!$D$24:$D$500,$D172,'CMS Downtime Detail'!$E$24:$E$500,\"Other Known Causes\"))","v":""},{"$f":"IF($E172=\"\",\"\",SUMIFS('CMS Downtime Detail'!$K$24:$K$500,'CMS Downtime Detail'!$B$24:$B$500,$B172,'CMS Downtime Detail'!$C$24:$C$500,$C172,'CMS Downtime Detail'!$D$24:$D$500,$D172,'CMS Downtime Detail'!$E$24:$E$500,\"Other Unknown Causes\"))","v":""}]
[null,{"$f":"IF(Lists!AQ151=\"\",\"\",Lists!AQ151)","v":""},{"$f":"IF(Lists!AR151=\"\",\"\",Lists!AR151)","v":""},{"$f":"IF(Lists!AS151=\"\",\"\",Lists!AS151)","v":""},{"$f":"IF(D173=\"\",\"\",VLOOKUP(B173&C173,Lists!$BA$2:$BD$78,4,FALSE))","v":""},"","",{"$f":"IF($E173=\"\",\"\",SUMIFS('CMS Downtime Detail'!$K$24:$K$500,'CMS Downtime Detail'!$B$24:$B$500,$B173,'CMS Downtime Detail'!$C$24:$C$500,$C173,'CMS Downtime Detail'!$D$24:$D$500,$D173,'CMS Downtime Detail'!$E$24:$E$500,\"Monitoring Equipment Malfunctions\"))","v":""},{"$f":"IF($E173=\"\",\"\",SUMIFS('CMS Downtime Detail'!$K$24:$K$500,'CMS Downtime Detail'!$B$24:$B$500,$B173,'CMS Downtime Detail'!$C$24:$C$500,$C173,'CMS Downtime Detail'!$D$24:$D$500,$D173,'CMS Downtime Detail'!$E$24:$E$500,\"Nonmonitoring Equipment Malfunctions\"))","v":""},{"$f":"IF($E173=\"\",\"\",SUMIFS('CMS Downtime Detail'!$K$24:$K$500,'CMS Downtime Detail'!$B$24:$B$500,$B173,'CMS Downtime Detail'!$C$24:$C$500,$C173,'CMS Downtime Detail'!$D$24:$D$500,$D173,'CMS Downtime Detail'!$E$24:$E$500,\"Quality Assurance/Quality Control Calibrations\"))","v":""},{"$f":"IF($E173=\"\",\"\",SUMIFS('CMS Downtime Detail'!$K$24:$K$500,'CMS Downtime Detail'!$B$24:$B$500,$B173,'CMS Downtime Detail'!$C$24:$C$500,$C173,'CMS Downtime Detail'!$D$24:$D$500,$D173,'CMS Downtime Detail'!$E$24:$E$500,\"Other Known Causes\"))","v":""},{"$f":"IF($E173=\"\",\"\",SUMIFS('CMS Downtime Detail'!$K$24:$K$500,'CMS Downtime Detail'!$B$24:$B$500,$B173,'CMS Downtime Detail'!$C$24:$C$500,$C173,'CMS Downtime Detail'!$D$24:$D$500,$D173,'CMS Downtime Detail'!$E$24:$E$500,\"Other Unknown Causes\"))","v":""}]
[null,{"$f":"IF(Lists!AQ152=\"\",\"\",Lists!AQ152)","v":""},{"$f":"IF(Lists!AR152=\"\",\"\",Lists!AR152)","v":""},{"$f":"IF(Lists!AS152=\"\",\"\",Lists!AS152)","v":""},{"$f":"IF(D174=\"\",\"\",VLOOKUP(B174&C174,Lists!$BA$2:$BD$78,4,FALSE))","v":""},"","",{"$f":"IF($E174=\"\",\"\",SUMIFS('CMS Downtime Detail'!$K$24:$K$500,'CMS Downtime Detail'!$B$24:$B$500,$B174,'CMS Downtime Detail'!$C$24:$C$500,$C174,'CMS Downtime Detail'!$D$24:$D$500,$D174,'CMS Downtime Detail'!$E$24:$E$500,\"Monitoring Equipment Malfunctions\"))","v":""},{"$f":"IF($E174=\"\",\"\",SUMIFS('CMS Downtime Detail'!$K$24:$K$500,'CMS Downtime Detail'!$B$24:$B$500,$B174,'CMS Downtime Detail'!$C$24:$C$500,$C174,'CMS Downtime Detail'!$D$24:$D$500,$D174,'CMS Downtime Detail'!$E$24:$E$500,\"Nonmonitoring Equipment Malfunctions\"))","v":""},{"$f":"IF($E174=\"\",\"\",SUMIFS('CMS Downtime Detail'!$K$24:$K$500,'CMS Downtime Detail'!$B$24:$B$500,$B174,'CMS Downtime Detail'!$C$24:$C$500,$C174,'CMS Downtime Detail'!$D$24:$D$500,$D174,'CMS Downtime Detail'!$E$24:$E$500,\"Quality Assurance/Quality Control Calibrations\"))","v":""},{"$f":"IF($E174=\"\",\"\",SUMIFS('CMS Downtime Detail'!$K$24:$K$500,'CMS Downtime Detail'!$B$24:$B$500,$B174,'CMS Downtime Detail'!$C$24:$C$500,$C174,'CMS Downtime Detail'!$D$24:$D$500,$D174,'CMS Downtime Detail'!$E$24:$E$500,\"Other Known Causes\"))","v":""},{"$f":"IF($E174=\"\",\"\",SUMIFS('CMS Downtime Detail'!$K$24:$K$500,'CMS Downtime Detail'!$B$24:$B$500,$B174,'CMS Downtime Detail'!$C$24:$C$500,$C174,'CMS Downtime Detail'!$D$24:$D$500,$D174,'CMS Downtime Detail'!$E$24:$E$500,\"Other Unknown Causes\"))","v":""}]
[null,{"$f":"IF(Lists!AQ153=\"\",\"\",Lists!AQ153)","v":""},{"$f":"IF(Lists!AR153=\"\",\"\",Lists!AR153)","v":""},{"$f":"IF(Lists!AS153=\"\",\"\",Lists!AS153)","v":""},{"$f":"IF(D175=\"\",\"\",VLOOKUP(B175&C175,Lists!$BA$2:$BD$78,4,FALSE))","v":""},"","",{"$f":"IF($E175=\"\",\"\",SUMIFS('CMS Downtime Detail'!$K$24:$K$500,'CMS Downtime Detail'!$B$24:$B$500,$B175,'CMS Downtime Detail'!$C$24:$C$500,$C175,'CMS Downtime Detail'!$D$24:$D$500,$D175,'CMS Downtime Detail'!$E$24:$E$500,\"Monitoring Equipment Malfunctions\"))","v":""},{"$f":"IF($E175=\"\",\"\",SUMIFS('CMS Downtime Detail'!$K$24:$K$500,'CMS Downtime Detail'!$B$24:$B$500,$B175,'CMS Downtime Detail'!$C$24:$C$500,$C175,'CMS Downtime Detail'!$D$24:$D$500,$D175,'CMS Downtime Detail'!$E$24:$E$500,\"Nonmonitoring Equipment Malfunctions\"))","v":""},{"$f":"IF($E175=\"\",\"\",SUMIFS('CMS Downtime Detail'!$K$24:$K$500,'CMS Downtime Detail'!$B$24:$B$500,$B175,'CMS Downtime Detail'!$C$24:$C$500,$C175,'CMS Downtime Detail'!$D$24:$D$500,$D175,'CMS Downtime Detail'!$E$24:$E$500,\"Quality Assurance/Quality Control Calibrations\"))","v":""},{"$f":"IF($E175=\"\",\"\",SUMIFS('CMS Downtime Detail'!$K$24:$K$500,'CMS Downtime Detail'!$B$24:$B$500,$B175,'CMS Downtime Detail'!$C$24:$C$500,$C175,'CMS Downtime Detail'!$D$24:$D$500,$D175,'CMS Downtime Detail'!$E$24:$E$500,\"Other Known Causes\"))","v":""},{"$f":"IF($E175=\"\",\"\",SUMIFS('CMS Downtime Detail'!$K$24:$K$500,'CMS Downtime Detail'!$B$24:$B$500,$B175,'CMS Downtime Detail'!$C$24:$C$500,$C175,'CMS Downtime Detail'!$D$24:$D$500,$D175,'CMS Downtime Detail'!$E$24:$E$500,\"Other Unknown Causes\"))","v":""}]
[null,{"$f":"IF(Lists!AQ154=\"\",\"\",Lists!AQ154)","v":""},{"$f":"IF(Lists!AR154=\"\",\"\",Lists!AR154)","v":""},{"$f":"IF(Lists!AS154=\"\",\"\",Lists!AS154)","v":""},{"$f":"IF(D176=\"\",\"\",VLOOKUP(B176&C176,Lists!$BA$2:$BD$78,4,FALSE))","v":""},"","",{"$f":"IF($E176=\"\",\"\",SUMIFS('CMS Downtime Detail'!$K$24:$K$500,'CMS Downtime Detail'!$B$24:$B$500,$B176,'CMS Downtime Detail'!$C$24:$C$500,$C176,'CMS Downtime Detail'!$D$24:$D$500,$D176,'CMS Downtime Detail'!$E$24:$E$500,\"Monitoring Equipment Malfunctions\"))","v":""},{"$f":"IF($E176=\"\",\"\",SUMIFS('CMS Downtime Detail'!$K$24:$K$500,'CMS Downtime Detail'!$B$24:$B$500,$B176,'CMS Downtime Detail'!$C$24:$C$500,$C176,'CMS Downtime Detail'!$D$24:$D$500,$D176,'CMS Downtime Detail'!$E$24:$E$500,\"Nonmonitoring Equipment Malfunctions\"))","v":""},{"$f":"IF($E176=\"\",\"\",SUMIFS('CMS Downtime Detail'!$K$24:$K$500,'CMS Downtime Detail'!$B$24:$B$500,$B176,'CMS Downtime Detail'!$C$24:$C$500,$C176,'CMS Downtime Detail'!$D$24:$D$500,$D176,'CMS Downtime Detail'!$E$24:$E$500,\"Quality Assurance/Quality Control Calibrations\"))","v":""},{"$f":"IF($E176=\"\",\"\",SUMIFS('CMS Downtime Detail'!$K$24:$K$500,'CMS Downtime Detail'!$B$24:$B$500,$B176,'CMS Downtime Detail'!$C$24:$C$500,$C176,'CMS Downtime Detail'!$D$24:$D$500,$D176,'CMS Downtime Detail'!$E$24:$E$500,\"Other Known Causes\"))","v":""},{"$f":"IF($E176=\"\",\"\",SUMIFS('CMS Downtime Detail'!$K$24:$K$500,'CMS Downtime Detail'!$B$24:$B$500,$B176,'CMS Downtime Detail'!$C$24:$C$500,$C176,'CMS Downtime Detail'!$D$24:$D$500,$D176,'CMS Downtime Detail'!$E$24:$E$500,\"Other Unknown Causes\"))","v":""}]
[null,{"$f":"IF(Lists!AQ155=\"\",\"\",Lists!AQ155)","v":""},{"$f":"IF(Lists!AR155=\"\",\"\",Lists!AR155)","v":""},{"$f":"IF(Lists!AS155=\"\",\"\",Lists!AS155)","v":""},{"$f":"IF(D177=\"\",\"\",VLOOKUP(B177&C177,Lists!$BA$2:$BD$78,4,FALSE))","v":""},"","",{"$f":"IF($E177=\"\",\"\",SUMIFS('CMS Downtime Detail'!$K$24:$K$500,'CMS Downtime Detail'!$B$24:$B$500,$B177,'CMS Downtime Detail'!$C$24:$C$500,$C177,'CMS Downtime Detail'!$D$24:$D$500,$D177,'CMS Downtime Detail'!$E$24:$E$500,\"Monitoring Equipment Malfunctions\"))","v":""},{"$f":"IF($E177=\"\",\"\",SUMIFS('CMS Downtime Detail'!$K$24:$K$500,'CMS Downtime Detail'!$B$24:$B$500,$B177,'CMS Downtime Detail'!$C$24:$C$500,$C177,'CMS Downtime Detail'!$D$24:$D$500,$D177,'CMS Downtime Detail'!$E$24:$E$500,\"Nonmonitoring Equipment Malfunctions\"))","v":""},{"$f":"IF($E177=\"\",\"\",SUMIFS('CMS Downtime Detail'!$K$24:$K$500,'CMS Downtime Detail'!$B$24:$B$500,$B177,'CMS Downtime Detail'!$C$24:$C$500,$C177,'CMS Downtime Detail'!$D$24:$D$500,$D177,'CMS Downtime Detail'!$E$24:$E$500,\"Quality Assurance/Quality Control Calibrations\"))","v":""},{"$f":"IF($E177=\"\",\"\",SUMIFS('CMS Downtime Detail'!$K$24:$K$500,'CMS Downtime Detail'!$B$24:$B$500,$B177,'CMS Downtime Detail'!$C$24:$C$500,$C177,'CMS Downtime Detail'!$D$24:$D$500,$D177,'CMS Downtime Detail'!$E$24:$E$500,\"Other Known Causes\"))","v":""},{"$f":"IF($E177=\"\",\"\",SUMIFS('CMS Downtime Detail'!$K$24:$K$500,'CMS Downtime Detail'!$B$24:$B$500,$B177,'CMS Downtime Detail'!$C$24:$C$500,$C177,'CMS Downtime Detail'!$D$24:$D$500,$D177,'CMS Downtime Detail'!$E$24:$E$500,\"Other Unknown Causes\"))","v":""}]
[null,{"$f":"IF(Lists!AQ156=\"\",\"\",Lists!AQ156)","v":""},{"$f":"IF(Lists!AR156=\"\",\"\",Lists!AR156)","v":""},{"$f":"IF(Lists!AS156=\"\",\"\",Lists!AS156)","v":""},{"$f":"IF(D178=\"\",\"\",VLOOKUP(B178&C178,Lists!$BA$2:$BD$78,4,FALSE))","v":""},"","",{"$f":"IF($E178=\"\",\"\",SUMIFS('CMS Downtime Detail'!$K$24:$K$500,'CMS Downtime Detail'!$B$24:$B$500,$B178,'CMS Downtime Detail'!$C$24:$C$500,$C178,'CMS Downtime Detail'!$D$24:$D$500,$D178,'CMS Downtime Detail'!$E$24:$E$500,\"Monitoring Equipment Malfunctions\"))","v":""},{"$f":"IF($E178=\"\",\"\",SUMIFS('CMS Downtime Detail'!$K$24:$K$500,'CMS Downtime Detail'!$B$24:$B$500,$B178,'CMS Downtime Detail'!$C$24:$C$500,$C178,'CMS Downtime Detail'!$D$24:$D$500,$D178,'CMS Downtime Detail'!$E$24:$E$500,\"Nonmonitoring Equipment Malfunctions\"))","v":""},{"$f":"IF($E178=\"\",\"\",SUMIFS('CMS Downtime Detail'!$K$24:$K$500,'CMS Downtime Detail'!$B$24:$B$500,$B178,'CMS Downtime Detail'!$C$24:$C$500,$C178,'CMS Downtime Detail'!$D$24:$D$500,$D178,'CMS Downtime Detail'!$E$24:$E$500,\"Quality Assurance/Quality Control Calibrations\"))","v":""},{"$f":"IF($E178=\"\",\"\",SUMIFS('CMS Downtime Detail'!$K$24:$K$500,'CMS Downtime Detail'!$B$24:$B$500,$B178,'CMS Downtime Detail'!$C$24:$C$500,$C178,'CMS Downtime Detail'!$D$24:$D$500,$D178,'CMS Downtime Detail'!$E$24:$E$500,\"Other Known Causes\"))","v":""},{"$f":"IF($E178=\"\",\"\",SUMIFS('CMS Downtime Detail'!$K$24:$K$500,'CMS Downtime Detail'!$B$24:$B$500,$B178,'CMS Downtime Detail'!$C$24:$C$500,$C178,'CMS Downtime Detail'!$D$24:$D$500,$D178,'CMS Downtime Detail'!$E$24:$E$500,\"Other Unknown Causes\"))","v":""}]
[null,{"$f":"IF(Lists!AQ157=\"\",\"\",Lists!AQ157)","v":""},{"$f":"IF(Lists!AR157=\"\",\"\",Lists!AR157)","v":""},{"$f":"IF(Lists!AS157=\"\",\"\",Lists!AS157)","v":""},{"$f":"IF(D179=\"\",\"\",VLOOKUP(B179&C179,Lists!$BA$2:$BD$78,4,FALSE))","v":""},"","",{"$f":"IF($E179=\"\",\"\",SUMIFS('CMS Downtime Detail'!$K$24:$K$500,'CMS Downtime Detail'!$B$24:$B$500,$B179,'CMS Downtime Detail'!$C$24:$C$500,$C179,'CMS Downtime Detail'!$D$24:$D$500,$D179,'CMS Downtime Detail'!$E$24:$E$500,\"Monitoring Equipment Malfunctions\"))","v":""},{"$f":"IF($E179=\"\",\"\",SUMIFS('CMS Downtime Detail'!$K$24:$K$500,'CMS Downtime Detail'!$B$24:$B$500,$B179,'CMS Downtime Detail'!$C$24:$C$500,$C179,'CMS Downtime Detail'!$D$24:$D$500,$D179,'CMS Downtime Detail'!$E$24:$E$500,\"Nonmonitoring Equipment Malfunctions\"))","v":""},{"$f":"IF($E179=\"\",\"\",SUMIFS('CMS Downtime Detail'!$K$24:$K$500,'CMS Downtime Detail'!$B$24:$B$500,$B179,'CMS Downtime Detail'!$C$24:$C$500,$C179,'CMS Downtime Detail'!$D$24:$D$500,$D179,'CMS Downtime Detail'!$E$24:$E$500,\"Quality Assurance/Quality Control Calibrations\"))","v":""},{"$f":"IF($E179=\"\",\"\",SUMIFS('CMS Downtime Detail'!$K$24:$K$500,'CMS Downtime Detail'!$B$24:$B$500,$B179,'CMS Downtime Detail'!$C$24:$C$500,$C179,'CMS Downtime Detail'!$D$24:$D$500,$D179,'CMS Downtime Detail'!$E$24:$E$500,\"Other Known Causes\"))","v":""},{"$f":"IF($E179=\"\",\"\",SUMIFS('CMS Downtime Detail'!$K$24:$K$500,'CMS Downtime Detail'!$B$24:$B$500,$B179,'CMS Downtime Detail'!$C$24:$C$500,$C179,'CMS Downtime Detail'!$D$24:$D$500,$D179,'CMS Downtime Detail'!$E$24:$E$500,\"Other Unknown Causes\"))","v":""}]
[null,{"$f":"IF(Lists!AQ158=\"\",\"\",Lists!AQ158)","v":""},{"$f":"IF(Lists!AR158=\"\",\"\",Lists!AR158)","v":""},{"$f":"IF(Lists!AS158=\"\",\"\",Lists!AS158)","v":""},{"$f":"IF(D180=\"\",\"\",VLOOKUP(B180&C180,Lists!$BA$2:$BD$78,4,FALSE))","v":""},"","",{"$f":"IF($E180=\"\",\"\",SUMIFS('CMS Downtime Detail'!$K$24:$K$500,'CMS Downtime Detail'!$B$24:$B$500,$B180,'CMS Downtime Detail'!$C$24:$C$500,$C180,'CMS Downtime Detail'!$D$24:$D$500,$D180,'CMS Downtime Detail'!$E$24:$E$500,\"Monitoring Equipment Malfunctions\"))","v":""},{"$f":"IF($E180=\"\",\"\",SUMIFS('CMS Downtime Detail'!$K$24:$K$500,'CMS Downtime Detail'!$B$24:$B$500,$B180,'CMS Downtime Detail'!$C$24:$C$500,$C180,'CMS Downtime Detail'!$D$24:$D$500,$D180,'CMS Downtime Detail'!$E$24:$E$500,\"Nonmonitoring Equipment Malfunctions\"))","v":""},{"$f":"IF($E180=\"\",\"\",SUMIFS('CMS Downtime Detail'!$K$24:$K$500,'CMS Downtime Detail'!$B$24:$B$500,$B180,'CMS Downtime Detail'!$C$24:$C$500,$C180,'CMS Downtime Detail'!$D$24:$D$500,$D180,'CMS Downtime Detail'!$E$24:$E$500,\"Quality Assurance/Quality Control Calibrations\"))","v":""},{"$f":"IF($E180=\"\",\"\",SUMIFS('CMS Downtime Detail'!$K$24:$K$500,'CMS Downtime Detail'!$B$24:$B$500,$B180,'CMS Downtime Detail'!$C$24:$C$500,$C180,'CMS Downtime Detail'!$D$24:$D$500,$D180,'CMS Downtime Detail'!$E$24:$E$500,\"Other Known Causes\"))","v":""},{"$f":"IF($E180=\"\",\"\",SUMIFS('CMS Downtime Detail'!$K$24:$K$500,'CMS Downtime Detail'!$B$24:$B$500,$B180,'CMS Downtime Detail'!$C$24:$C$500,$C180,'CMS Downtime Detail'!$D$24:$D$500,$D180,'CMS Downtime Detail'!$E$24:$E$500,\"Other Unknown Causes\"))","v":""}]
[null,{"$f":"IF(Lists!AQ159=\"\",\"\",Lists!AQ159)","v":""},{"$f":"IF(Lists!AR159=\"\",\"\",Lists!AR159)","v":""},{"$f":"IF(Lists!AS159=\"\",\"\",Lists!AS159)","v":""},{"$f":"IF(D181=\"\",\"\",VLOOKUP(B181&C181,Lists!$BA$2:$BD$78,4,FALSE))","v":""},"","",{"$f":"IF($E181=\"\",\"\",SUMIFS('CMS Downtime Detail'!$K$24:$K$500,'CMS Downtime Detail'!$B$24:$B$500,$B181,'CMS Downtime Detail'!$C$24:$C$500,$C181,'CMS Downtime Detail'!$D$24:$D$500,$D181,'CMS Downtime Detail'!$E$24:$E$500,\"Monitoring Equipment Malfunctions\"))","v":""},{"$f":"IF($E181=\"\",\"\",SUMIFS('CMS Downtime Detail'!$K$24:$K$500,'CMS Downtime Detail'!$B$24:$B$500,$B181,'CMS Downtime Detail'!$C$24:$C$500,$C181,'CMS Downtime Detail'!$D$24:$D$500,$D181,'CMS Downtime Detail'!$E$24:$E$500,\"Nonmonitoring Equipment Malfunctions\"))","v":""},{"$f":"IF($E181=\"\",\"\",SUMIFS('CMS Downtime Detail'!$K$24:$K$500,'CMS Downtime Detail'!$B$24:$B$500,$B181,'CMS Downtime Detail'!$C$24:$C$500,$C181,'CMS Downtime Detail'!$D$24:$D$500,$D181,'CMS Downtime Detail'!$E$24:$E$500,\"Quality Assurance/Quality Control Calibrations\"))","v":""},{"$f":"IF($E181=\"\",\"\",SUMIFS('CMS Downtime Detail'!$K$24:$K$500,'CMS Downtime Detail'!$B$24:$B$500,$B181,'CMS Downtime Detail'!$C$24:$C$500,$C181,'CMS Downtime Detail'!$D$24:$D$500,$D181,'CMS Downtime Detail'!$E$24:$E$500,\"Other Known Causes\"))","v":""},{"$f":"IF($E181=\"\",\"\",SUMIFS('CMS Downtime Detail'!$K$24:$K$500,'CMS Downtime Detail'!$B$24:$B$500,$B181,'CMS Downtime Detail'!$C$24:$C$500,$C181,'CMS Downtime Detail'!$D$24:$D$500,$D181,'CMS Downtime Detail'!$E$24:$E$500,\"Other Unknown Causes\"))","v":""}]
[null,{"$f":"IF(Lists!AQ160=\"\",\"\",Lists!AQ160)","v":""},{"$f":"IF(Lists!AR160=\"\",\"\",Lists!AR160)","v":""},{"$f":"IF(Lists!AS160=\"\",\"\",Lists!AS160)","v":""},{"$f":"IF(D182=\"\",\"\",VLOOKUP(B182&C182,Lists!$BA$2:$BD$78,4,FALSE))","v":""},"","",{"$f":"IF($E182=\"\",\"\",SUMIFS('CMS Downtime Detail'!$K$24:$K$500,'CMS Downtime Detail'!$B$24:$B$500,$B182,'CMS Downtime Detail'!$C$24:$C$500,$C182,'CMS Downtime Detail'!$D$24:$D$500,$D182,'CMS Downtime Detail'!$E$24:$E$500,\"Monitoring Equipment Malfunctions\"))","v":""},{"$f":"IF($E182=\"\",\"\",SUMIFS('CMS Downtime Detail'!$K$24:$K$500,'CMS Downtime Detail'!$B$24:$B$500,$B182,'CMS Downtime Detail'!$C$24:$C$500,$C182,'CMS Downtime Detail'!$D$24:$D$500,$D182,'CMS Downtime Detail'!$E$24:$E$500,\"Nonmonitoring Equipment Malfunctions\"))","v":""},{"$f":"IF($E182=\"\",\"\",SUMIFS('CMS Downtime Detail'!$K$24:$K$500,'CMS Downtime Detail'!$B$24:$B$500,$B182,'CMS Downtime Detail'!$C$24:$C$500,$C182,'CMS Downtime Detail'!$D$24:$D$500,$D182,'CMS Downtime Detail'!$E$24:$E$500,\"Quality Assurance/Quality Control Calibrations\"))","v":""},{"$f":"IF($E182=\"\",\"\",SUMIFS('CMS Downtime Detail'!$K$24:$K$500,'CMS Downtime Detail'!$B$24:$B$500,$B182,'CMS Downtime Detail'!$C$24:$C$500,$C182,'CMS Downtime Detail'!$D$24:$D$500,$D182,'CMS Downtime Detail'!$E$24:$E$500,\"Other Known Causes\"))","v":""},{"$f":"IF($E182=\"\",\"\",SUMIFS('CMS Downtime Detail'!$K$24:$K$500,'CMS Downtime Detail'!$B$24:$B$500,$B182,'CMS Downtime Detail'!$C$24:$C$500,$C182,'CMS Downtime Detail'!$D$24:$D$500,$D182,'CMS Downtime Detail'!$E$24:$E$500,\"Other Unknown Causes\"))","v":""}]
[null,{"$f":"IF(Lists!AQ161=\"\",\"\",Lists!AQ161)","v":""},{"$f":"IF(Lists!AR161=\"\",\"\",Lists!AR161)","v":""},{"$f":"IF(Lists!AS161=\"\",\"\",Lists!AS161)","v":""},{"$f":"IF(D183=\"\",\"\",VLOOKUP(B183&C183,Lists!$BA$2:$BD$78,4,FALSE))","v":""},"","",{"$f":"IF($E183=\"\",\"\",SUMIFS('CMS Downtime Detail'!$K$24:$K$500,'CMS Downtime Detail'!$B$24:$B$500,$B183,'CMS Downtime Detail'!$C$24:$C$500,$C183,'CMS Downtime Detail'!$D$24:$D$500,$D183,'CMS Downtime Detail'!$E$24:$E$500,\"Monitoring Equipment Malfunctions\"))","v":""},{"$f":"IF($E183=\"\",\"\",SUMIFS('CMS Downtime Detail'!$K$24:$K$500,'CMS Downtime Detail'!$B$24:$B$500,$B183,'CMS Downtime Detail'!$C$24:$C$500,$C183,'CMS Downtime Detail'!$D$24:$D$500,$D183,'CMS Downtime Detail'!$E$24:$E$500,\"Nonmonitoring Equipment Malfunctions\"))","v":""},{"$f":"IF($E183=\"\",\"\",SUMIFS('CMS Downtime Detail'!$K$24:$K$500,'CMS Downtime Detail'!$B$24:$B$500,$B183,'CMS Downtime Detail'!$C$24:$C$500,$C183,'CMS Downtime Detail'!$D$24:$D$500,$D183,'CMS Downtime Detail'!$E$24:$E$500,\"Quality Assurance/Quality Control Calibrations\"))","v":""},{"$f":"IF($E183=\"\",\"\",SUMIFS('CMS Downtime Detail'!$K$24:$K$500,'CMS Downtime Detail'!$B$24:$B$500,$B183,'CMS Downtime Detail'!$C$24:$C$500,$C183,'CMS Downtime Detail'!$D$24:$D$500,$D183,'CMS Downtime Detail'!$E$24:$E$500,\"Other Known Causes\"))","v":""},{"$f":"IF($E183=\"\",\"\",SUMIFS('CMS Downtime Detail'!$K$24:$K$500,'CMS Downtime Detail'!$B$24:$B$500,$B183,'CMS Downtime Detail'!$C$24:$C$500,$C183,'CMS Downtime Detail'!$D$24:$D$500,$D183,'CMS Downtime Detail'!$E$24:$E$500,\"Other Unknown Causes\"))","v":""}]
[null,{"$f":"IF(Lists!AQ162=\"\",\"\",Lists!AQ162)","v":""},{"$f":"IF(Lists!AR162=\"\",\"\",Lists!AR162)","v":""},{"$f":"IF(Lists!AS162=\"\",\"\",Lists!AS162)","v":""},{"$f":"IF(D184=\"\",\"\",VLOOKUP(B184&C184,Lists!$BA$2:$BD$78,4,FALSE))","v":""},"","",{"$f":"IF($E184=\"\",\"\",SUMIFS('CMS Downtime Detail'!$K$24:$K$500,'CMS Downtime Detail'!$B$24:$B$500,$B184,'CMS Downtime Detail'!$C$24:$C$500,$C184,'CMS Downtime Detail'!$D$24:$D$500,$D184,'CMS Downtime Detail'!$E$24:$E$500,\"Monitoring Equipment Malfunctions\"))","v":""},{"$f":"IF($E184=\"\",\"\",SUMIFS('CMS Downtime Detail'!$K$24:$K$500,'CMS Downtime Detail'!$B$24:$B$500,$B184,'CMS Downtime Detail'!$C$24:$C$500,$C184,'CMS Downtime Detail'!$D$24:$D$500,$D184,'CMS Downtime Detail'!$E$24:$E$500,\"Nonmonitoring Equipment Malfunctions\"))","v":""},{"$f":"IF($E184=\"\",\"\",SUMIFS('CMS Downtime Detail'!$K$24:$K$500,'CMS Downtime Detail'!$B$24:$B$500,$B184,'CMS Downtime Detail'!$C$24:$C$500,$C184,'CMS Downtime Detail'!$D$24:$D$500,$D184,'CMS Downtime Detail'!$E$24:$E$500,\"Quality Assurance/Quality Control Calibrations\"))","v":""},{"$f":"IF($E184=\"\",\"\",SUMIFS('CMS Downtime Detail'!$K$24:$K$500,'CMS Downtime Detail'!$B$24:$B$500,$B184,'CMS Downtime Detail'!$C$24:$C$500,$C184,'CMS Downtime Detail'!$D$24:$D$500,$D184,'CMS Downtime Detail'!$E$24:$E$500,\"Other Known Causes\"))","v":""},{"$f":"IF($E184=\"\",\"\",SUMIFS('CMS Downtime Detail'!$K$24:$K$500,'CMS Downtime Detail'!$B$24:$B$500,$B184,'CMS Downtime Detail'!$C$24:$C$500,$C184,'CMS Downtime Detail'!$D$24:$D$500,$D184,'CMS Downtime Detail'!$E$24:$E$500,\"Other Unknown Causes\"))","v":""}]
[null,{"$f":"IF(Lists!AQ163=\"\",\"\",Lists!AQ163)","v":""},{"$f":"IF(Lists!AR163=\"\",\"\",Lists!AR163)","v":""},{"$f":"IF(Lists!AS163=\"\",\"\",Lists!AS163)","v":""},{"$f":"IF(D185=\"\",\"\",VLOOKUP(B185&C185,Lists!$BA$2:$BD$78,4,FALSE))","v":""},"","",{"$f":"IF($E185=\"\",\"\",SUMIFS('CMS Downtime Detail'!$K$24:$K$500,'CMS Downtime Detail'!$B$24:$B$500,$B185,'CMS Downtime Detail'!$C$24:$C$500,$C185,'CMS Downtime Detail'!$D$24:$D$500,$D185,'CMS Downtime Detail'!$E$24:$E$500,\"Monitoring Equipment Malfunctions\"))","v":""},{"$f":"IF($E185=\"\",\"\",SUMIFS('CMS Downtime Detail'!$K$24:$K$500,'CMS Downtime Detail'!$B$24:$B$500,$B185,'CMS Downtime Detail'!$C$24:$C$500,$C185,'CMS Downtime Detail'!$D$24:$D$500,$D185,'CMS Downtime Detail'!$E$24:$E$500,\"Nonmonitoring Equipment Malfunctions\"))","v":""},{"$f":"IF($E185=\"\",\"\",SUMIFS('CMS Downtime Detail'!$K$24:$K$500,'CMS Downtime Detail'!$B$24:$B$500,$B185,'CMS Downtime Detail'!$C$24:$C$500,$C185,'CMS Downtime Detail'!$D$24:$D$500,$D185,'CMS Downtime Detail'!$E$24:$E$500,\"Quality Assurance/Quality Control Calibrations\"))","v":""},{"$f":"IF($E185=\"\",\"\",SUMIFS('CMS Downtime Detail'!$K$24:$K$500,'CMS Downtime Detail'!$B$24:$B$500,$B185,'CMS Downtime Detail'!$C$24:$C$500,$C185,'CMS Downtime Detail'!$D$24:$D$500,$D185,'CMS Downtime Detail'!$E$24:$E$500,\"Other Known Causes\"))","v":""},{"$f":"IF($E185=\"\",\"\",SUMIFS('CMS Downtime Detail'!$K$24:$K$500,'CMS Downtime Detail'!$B$24:$B$500,$B185,'CMS Downtime Detail'!$C$24:$C$500,$C185,'CMS Downtime Detail'!$D$24:$D$500,$D185,'CMS Downtime Detail'!$E$24:$E$500,\"Other Unknown Causes\"))","v":""}]
[null,{"$f":"IF(Lists!AQ164=\"\",\"\",Lists!AQ164)","v":""},{"$f":"IF(Lists!AR164=\"\",\"\",Lists!AR164)","v":""},{"$f":"IF(Lists!AS164=\"\",\"\",Lists!AS164)","v":""},{"$f":"IF(D186=\"\",\"\",VLOOKUP(B186&C186,Lists!$BA$2:$BD$78,4,FALSE))","v":""},"","",{"$f":"IF($E186=\"\",\"\",SUMIFS('CMS Downtime Detail'!$K$24:$K$500,'CMS Downtime Detail'!$B$24:$B$500,$B186,'CMS Downtime Detail'!$C$24:$C$500,$C186,'CMS Downtime Detail'!$D$24:$D$500,$D186,'CMS Downtime Detail'!$E$24:$E$500,\"Monitoring Equipment Malfunctions\"))","v":""},{"$f":"IF($E186=\"\",\"\",SUMIFS('CMS Downtime Detail'!$K$24:$K$500,'CMS Downtime Detail'!$B$24:$B$500,$B186,'CMS Downtime Detail'!$C$24:$C$500,$C186,'CMS Downtime Detail'!$D$24:$D$500,$D186,'CMS Downtime Detail'!$E$24:$E$500,\"Nonmonitoring Equipment Malfunctions\"))","v":""},{"$f":"IF($E186=\"\",\"\",SUMIFS('CMS Downtime Detail'!$K$24:$K$500,'CMS Downtime Detail'!$B$24:$B$500,$B186,'CMS Downtime Detail'!$C$24:$C$500,$C186,'CMS Downtime Detail'!$D$24:$D$500,$D186,'CMS Downtime Detail'!$E$24:$E$500,\"Quality Assurance/Quality Control Calibrations\"))","v":""},{"$f":"IF($E186=\"\",\"\",SUMIFS('CMS Downtime Detail'!$K$24:$K$500,'CMS Downtime Detail'!$B$24:$B$500,$B186,'CMS Downtime Detail'!$C$24:$C$500,$C186,'CMS Downtime Detail'!$D$24:$D$500,$D186,'CMS Downtime Detail'!$E$24:$E$500,\"Other Known Causes\"))","v":""},{"$f":"IF($E186=\"\",\"\",SUMIFS('CMS Downtime Detail'!$K$24:$K$500,'CMS Downtime Detail'!$B$24:$B$500,$B186,'CMS Downtime Detail'!$C$24:$C$500,$C186,'CMS Downtime Detail'!$D$24:$D$500,$D186,'CMS Downtime Detail'!$E$24:$E$500,\"Other Unknown Causes\"))","v":""}]
[null,{"$f":"IF(Lists!AQ165=\"\",\"\",Lists!AQ165)","v":""},{"$f":"IF(Lists!AR165=\"\",\"\",Lists!AR165)","v":""},{"$f":"IF(Lists!AS165=\"\",\"\",Lists!AS165)","v":""},{"$f":"IF(D187=\"\",\"\",VLOOKUP(B187&C187,Lists!$BA$2:$BD$78,4,FALSE))","v":""},"","",{"$f":"IF($E187=\"\",\"\",SUMIFS('CMS Downtime Detail'!$K$24:$K$500,'CMS Downtime Detail'!$B$24:$B$500,$B187,'CMS Downtime Detail'!$C$24:$C$500,$C187,'CMS Downtime Detail'!$D$24:$D$500,$D187,'CMS Downtime Detail'!$E$24:$E$500,\"Monitoring Equipment Malfunctions\"))","v":""},{"$f":"IF($E187=\"\",\"\",SUMIFS('CMS Downtime Detail'!$K$24:$K$500,'CMS Downtime Detail'!$B$24:$B$500,$B187,'CMS Downtime Detail'!$C$24:$C$500,$C187,'CMS Downtime Detail'!$D$24:$D$500,$D187,'CMS Downtime Detail'!$E$24:$E$500,\"Nonmonitoring Equipment Malfunctions\"))","v":""},{"$f":"IF($E187=\"\",\"\",SUMIFS('CMS Downtime Detail'!$K$24:$K$500,'CMS Downtime Detail'!$B$24:$B$500,$B187,'CMS Downtime Detail'!$C$24:$C$500,$C187,'CMS Downtime Detail'!$D$24:$D$500,$D187,'CMS Downtime Detail'!$E$24:$E$500,\"Quality Assurance/Quality Control Calibrations\"))","v":""},{"$f":"IF($E187=\"\",\"\",SUMIFS('CMS Downtime Detail'!$K$24:$K$500,'CMS Downtime Detail'!$B$24:$B$500,$B187,'CMS Downtime Detail'!$C$24:$C$500,$C187,'CMS Downtime Detail'!$D$24:$D$500,$D187,'CMS Downtime Detail'!$E$24:$E$500,\"Other Known Causes\"))","v":""},{"$f":"IF($E187=\"\",\"\",SUMIFS('CMS Downtime Detail'!$K$24:$K$500,'CMS Downtime Detail'!$B$24:$B$500,$B187,'CMS Downtime Detail'!$C$24:$C$500,$C187,'CMS Downtime Detail'!$D$24:$D$500,$D187,'CMS Downtime Detail'!$E$24:$E$500,\"Other Unknown Causes\"))","v":""}]
[null,{"$f":"IF(Lists!AQ166=\"\",\"\",Lists!AQ166)","v":""},{"$f":"IF(Lists!AR166=\"\",\"\",Lists!AR166)","v":""},{"$f":"IF(Lists!AS166=\"\",\"\",Lists!AS166)","v":""},{"$f":"IF(D188=\"\",\"\",VLOOKUP(B188&C188,Lists!$BA$2:$BD$78,4,FALSE))","v":""},"","",{"$f":"IF($E188=\"\",\"\",SUMIFS('CMS Downtime Detail'!$K$24:$K$500,'CMS Downtime Detail'!$B$24:$B$500,$B188,'CMS Downtime Detail'!$C$24:$C$500,$C188,'CMS Downtime Detail'!$D$24:$D$500,$D188,'CMS Downtime Detail'!$E$24:$E$500,\"Monitoring Equipment Malfunctions\"))","v":""},{"$f":"IF($E188=\"\",\"\",SUMIFS('CMS Downtime Detail'!$K$24:$K$500,'CMS Downtime Detail'!$B$24:$B$500,$B188,'CMS Downtime Detail'!$C$24:$C$500,$C188,'CMS Downtime Detail'!$D$24:$D$500,$D188,'CMS Downtime Detail'!$E$24:$E$500,\"Nonmonitoring Equipment Malfunctions\"))","v":""},{"$f":"IF($E188=\"\",\"\",SUMIFS('CMS Downtime Detail'!$K$24:$K$500,'CMS Downtime Detail'!$B$24:$B$500,$B188,'CMS Downtime Detail'!$C$24:$C$500,$C188,'CMS Downtime Detail'!$D$24:$D$500,$D188,'CMS Downtime Detail'!$E$24:$E$500,\"Quality Assurance/Quality Control Calibrations\"))","v":""},{"$f":"IF($E188=\"\",\"\",SUMIFS('CMS Downtime Detail'!$K$24:$K$500,'CMS Downtime Detail'!$B$24:$B$500,$B188,'CMS Downtime Detail'!$C$24:$C$500,$C188,'CMS Downtime Detail'!$D$24:$D$500,$D188,'CMS Downtime Detail'!$E$24:$E$500,\"Other Known Causes\"))","v":""},{"$f":"IF($E188=\"\",\"\",SUMIFS('CMS Downtime Detail'!$K$24:$K$500,'CMS Downtime Detail'!$B$24:$B$500,$B188,'CMS Downtime Detail'!$C$24:$C$500,$C188,'CMS Downtime Detail'!$D$24:$D$500,$D188,'CMS Downtime Detail'!$E$24:$E$500,\"Other Unknown Causes\"))","v":""}]
[null,{"$f":"IF(Lists!AQ167=\"\",\"\",Lists!AQ167)","v":""},{"$f":"IF(Lists!AR167=\"\",\"\",Lists!AR167)","v":""},{"$f":"IF(Lists!AS167=\"\",\"\",Lists!AS167)","v":""},{"$f":"IF(D189=\"\",\"\",VLOOKUP(B189&C189,Lists!$BA$2:$BD$78,4,FALSE))","v":""},"","",{"$f":"IF($E189=\"\",\"\",SUMIFS('CMS Downtime Detail'!$K$24:$K$500,'CMS Downtime Detail'!$B$24:$B$500,$B189,'CMS Downtime Detail'!$C$24:$C$500,$C189,'CMS Downtime Detail'!$D$24:$D$500,$D189,'CMS Downtime Detail'!$E$24:$E$500,\"Monitoring Equipment Malfunctions\"))","v":""},{"$f":"IF($E189=\"\",\"\",SUMIFS('CMS Downtime Detail'!$K$24:$K$500,'CMS Downtime Detail'!$B$24:$B$500,$B189,'CMS Downtime Detail'!$C$24:$C$500,$C189,'CMS Downtime Detail'!$D$24:$D$500,$D189,'CMS Downtime Detail'!$E$24:$E$500,\"Nonmonitoring Equipment Malfunctions\"))","v":""},{"$f":"IF($E189=\"\",\"\",SUMIFS('CMS Downtime Detail'!$K$24:$K$500,'CMS Downtime Detail'!$B$24:$B$500,$B189,'CMS Downtime Detail'!$C$24:$C$500,$C189,'CMS Downtime Detail'!$D$24:$D$500,$D189,'CMS Downtime Detail'!$E$24:$E$500,\"Quality Assurance/Quality Control Calibrations\"))","v":""},{"$f":"IF($E189=\"\",\"\",SUMIFS('CMS Downtime Detail'!$K$24:$K$500,'CMS Downtime Detail'!$B$24:$B$500,$B189,'CMS Downtime Detail'!$C$24:$C$500,$C189,'CMS Downtime Detail'!$D$24:$D$500,$D189,'CMS Downtime Detail'!$E$24:$E$500,\"Other Known Causes\"))","v":""},{"$f":"IF($E189=\"\",\"\",SUMIFS('CMS Downtime Detail'!$K$24:$K$500,'CMS Downtime Detail'!$B$24:$B$500,$B189,'CMS Downtime Detail'!$C$24:$C$500,$C189,'CMS Downtime Detail'!$D$24:$D$500,$D189,'CMS Downtime Detail'!$E$24:$E$500,\"Other Unknown Causes\"))","v":""}]
[null,{"$f":"IF(Lists!AQ168=\"\",\"\",Lists!AQ168)","v":""},{"$f":"IF(Lists!AR168=\"\",\"\",Lists!AR168)","v":""},{"$f":"IF(Lists!AS168=\"\",\"\",Lists!AS168)","v":""},{"$f":"IF(D190=\"\",\"\",VLOOKUP(B190&C190,Lists!$BA$2:$BD$78,4,FALSE))","v":""},"","",{"$f":"IF($E190=\"\",\"\",SUMIFS('CMS Downtime Detail'!$K$24:$K$500,'CMS Downtime Detail'!$B$24:$B$500,$B190,'CMS Downtime Detail'!$C$24:$C$500,$C190,'CMS Downtime Detail'!$D$24:$D$500,$D190,'CMS Downtime Detail'!$E$24:$E$500,\"Monitoring Equipment Malfunctions\"))","v":""},{"$f":"IF($E190=\"\",\"\",SUMIFS('CMS Downtime Detail'!$K$24:$K$500,'CMS Downtime Detail'!$B$24:$B$500,$B190,'CMS Downtime Detail'!$C$24:$C$500,$C190,'CMS Downtime Detail'!$D$24:$D$500,$D190,'CMS Downtime Detail'!$E$24:$E$500,\"Nonmonitoring Equipment Malfunctions\"))","v":""},{"$f":"IF($E190=\"\",\"\",SUMIFS('CMS Downtime Detail'!$K$24:$K$500,'CMS Downtime Detail'!$B$24:$B$500,$B190,'CMS Downtime Detail'!$C$24:$C$500,$C190,'CMS Downtime Detail'!$D$24:$D$500,$D190,'CMS Downtime Detail'!$E$24:$E$500,\"Quality Assurance/Quality Control Calibrations\"))","v":""},{"$f":"IF($E190=\"\",\"\",SUMIFS('CMS Downtime Detail'!$K$24:$K$500,'CMS Downtime Detail'!$B$24:$B$500,$B190,'CMS Downtime Detail'!$C$24:$C$500,$C190,'CMS Downtime Detail'!$D$24:$D$500,$D190,'CMS Downtime Detail'!$E$24:$E$500,\"Other Known Causes\"))","v":""},{"$f":"IF($E190=\"\",\"\",SUMIFS('CMS Downtime Detail'!$K$24:$K$500,'CMS Downtime Detail'!$B$24:$B$500,$B190,'CMS Downtime Detail'!$C$24:$C$500,$C190,'CMS Downtime Detail'!$D$24:$D$500,$D190,'CMS Downtime Detail'!$E$24:$E$500,\"Other Unknown Causes\"))","v":""}]
[null,{"$f":"IF(Lists!AQ169=\"\",\"\",Lists!AQ169)","v":""},{"$f":"IF(Lists!AR169=\"\",\"\",Lists!AR169)","v":""},{"$f":"IF(Lists!AS169=\"\",\"\",Lists!AS169)","v":""},{"$f":"IF(D191=\"\",\"\",VLOOKUP(B191&C191,Lists!$BA$2:$BD$78,4,FALSE))","v":""},"","",{"$f":"IF($E191=\"\",\"\",SUMIFS('CMS Downtime Detail'!$K$24:$K$500,'CMS Downtime Detail'!$B$24:$B$500,$B191,'CMS Downtime Detail'!$C$24:$C$500,$C191,'CMS Downtime Detail'!$D$24:$D$500,$D191,'CMS Downtime Detail'!$E$24:$E$500,\"Monitoring Equipment Malfunctions\"))","v":""},{"$f":"IF($E191=\"\",\"\",SUMIFS('CMS Downtime Detail'!$K$24:$K$500,'CMS Downtime Detail'!$B$24:$B$500,$B191,'CMS Downtime Detail'!$C$24:$C$500,$C191,'CMS Downtime Detail'!$D$24:$D$500,$D191,'CMS Downtime Detail'!$E$24:$E$500,\"Nonmonitoring Equipment Malfunctions\"))","v":""},{"$f":"IF($E191=\"\",\"\",SUMIFS('CMS Downtime Detail'!$K$24:$K$500,'CMS Downtime Detail'!$B$24:$B$500,$B191,'CMS Downtime Detail'!$C$24:$C$500,$C191,'CMS Downtime Detail'!$D$24:$D$500,$D191,'CMS Downtime Detail'!$E$24:$E$500,\"Quality Assurance/Quality Control Calibrations\"))","v":""},{"$f":"IF($E191=\"\",\"\",SUMIFS('CMS Downtime Detail'!$K$24:$K$500,'CMS Downtime Detail'!$B$24:$B$500,$B191,'CMS Downtime Detail'!$C$24:$C$500,$C191,'CMS Downtime Detail'!$D$24:$D$500,$D191,'CMS Downtime Detail'!$E$24:$E$500,\"Other Known Causes\"))","v":""},{"$f":"IF($E191=\"\",\"\",SUMIFS('CMS Downtime Detail'!$K$24:$K$500,'CMS Downtime Detail'!$B$24:$B$500,$B191,'CMS Downtime Detail'!$C$24:$C$500,$C191,'CMS Downtime Detail'!$D$24:$D$500,$D191,'CMS Downtime Detail'!$E$24:$E$500,\"Other Unknown Causes\"))","v":""}]
[null,{"$f":"IF(Lists!AQ170=\"\",\"\",Lists!AQ170)","v":""},{"$f":"IF(Lists!AR170=\"\",\"\",Lists!AR170)","v":""},{"$f":"IF(Lists!AS170=\"\",\"\",Lists!AS170)","v":""},{"$f":"IF(D192=\"\",\"\",VLOOKUP(B192&C192,Lists!$BA$2:$BD$78,4,FALSE))","v":""},"","",{"$f":"IF($E192=\"\",\"\",SUMIFS('CMS Downtime Detail'!$K$24:$K$500,'CMS Downtime Detail'!$B$24:$B$500,$B192,'CMS Downtime Detail'!$C$24:$C$500,$C192,'CMS Downtime Detail'!$D$24:$D$500,$D192,'CMS Downtime Detail'!$E$24:$E$500,\"Monitoring Equipment Malfunctions\"))","v":""},{"$f":"IF($E192=\"\",\"\",SUMIFS('CMS Downtime Detail'!$K$24:$K$500,'CMS Downtime Detail'!$B$24:$B$500,$B192,'CMS Downtime Detail'!$C$24:$C$500,$C192,'CMS Downtime Detail'!$D$24:$D$500,$D192,'CMS Downtime Detail'!$E$24:$E$500,\"Nonmonitoring Equipment Malfunctions\"))","v":""},{"$f":"IF($E192=\"\",\"\",SUMIFS('CMS Downtime Detail'!$K$24:$K$500,'CMS Downtime Detail'!$B$24:$B$500,$B192,'CMS Downtime Detail'!$C$24:$C$500,$C192,'CMS Downtime Detail'!$D$24:$D$500,$D192,'CMS Downtime Detail'!$E$24:$E$500,\"Quality Assurance/Quality Control Calibrations\"))","v":""},{"$f":"IF($E192=\"\",\"\",SUMIFS('CMS Downtime Detail'!$K$24:$K$500,'CMS Downtime Detail'!$B$24:$B$500,$B192,'CMS Downtime Detail'!$C$24:$C$500,$C192,'CMS Downtime Detail'!$D$24:$D$500,$D192,'CMS Downtime Detail'!$E$24:$E$500,\"Other Known Causes\"))","v":""},{"$f":"IF($E192=\"\",\"\",SUMIFS('CMS Downtime Detail'!$K$24:$K$500,'CMS Downtime Detail'!$B$24:$B$500,$B192,'CMS Downtime Detail'!$C$24:$C$500,$C192,'CMS Downtime Detail'!$D$24:$D$500,$D192,'CMS Downtime Detail'!$E$24:$E$500,\"Other Unknown Causes\"))","v":""}]
[null,{"$f":"IF(Lists!AQ171=\"\",\"\",Lists!AQ171)","v":""},{"$f":"IF(Lists!AR171=\"\",\"\",Lists!AR171)","v":""},{"$f":"IF(Lists!AS171=\"\",\"\",Lists!AS171)","v":""},{"$f":"IF(D193=\"\",\"\",VLOOKUP(B193&C193,Lists!$BA$2:$BD$78,4,FALSE))","v":""},"","",{"$f":"IF($E193=\"\",\"\",SUMIFS('CMS Downtime Detail'!$K$24:$K$500,'CMS Downtime Detail'!$B$24:$B$500,$B193,'CMS Downtime Detail'!$C$24:$C$500,$C193,'CMS Downtime Detail'!$D$24:$D$500,$D193,'CMS Downtime Detail'!$E$24:$E$500,\"Monitoring Equipment Malfunctions\"))","v":""},{"$f":"IF($E193=\"\",\"\",SUMIFS('CMS Downtime Detail'!$K$24:$K$500,'CMS Downtime Detail'!$B$24:$B$500,$B193,'CMS Downtime Detail'!$C$24:$C$500,$C193,'CMS Downtime Detail'!$D$24:$D$500,$D193,'CMS Downtime Detail'!$E$24:$E$500,\"Nonmonitoring Equipment Malfunctions\"))","v":""},{"$f":"IF($E193=\"\",\"\",SUMIFS('CMS Downtime Detail'!$K$24:$K$500,'CMS Downtime Detail'!$B$24:$B$500,$B193,'CMS Downtime Detail'!$C$24:$C$500,$C193,'CMS Downtime Detail'!$D$24:$D$500,$D193,'CMS Downtime Detail'!$E$24:$E$500,\"Quality Assurance/Quality Control Calibrations\"))","v":""},{"$f":"IF($E193=\"\",\"\",SUMIFS('CMS Downtime Detail'!$K$24:$K$500,'CMS Downtime Detail'!$B$24:$B$500,$B193,'CMS Downtime Detail'!$C$24:$C$500,$C193,'CMS Downtime Detail'!$D$24:$D$500,$D193,'CMS Downtime Detail'!$E$24:$E$500,\"Other Known Causes\"))","v":""},{"$f":"IF($E193=\"\",\"\",SUMIFS('CMS Downtime Detail'!$K$24:$K$500,'CMS Downtime Detail'!$B$24:$B$500,$B193,'CMS Downtime Detail'!$C$24:$C$500,$C193,'CMS Downtime Detail'!$D$24:$D$500,$D193,'CMS Downtime Detail'!$E$24:$E$500,\"Other Unknown Causes\"))","v":""}]
[null,{"$f":"IF(Lists!AQ172=\"\",\"\",Lists!AQ172)","v":""},{"$f":"IF(Lists!AR172=\"\",\"\",Lists!AR172)","v":""},{"$f":"IF(Lists!AS172=\"\",\"\",Lists!AS172)","v":""},{"$f":"IF(D194=\"\",\"\",VLOOKUP(B194&C194,Lists!$BA$2:$BD$78,4,FALSE))","v":""},"","",{"$f":"IF($E194=\"\",\"\",SUMIFS('CMS Downtime Detail'!$K$24:$K$500,'CMS Downtime Detail'!$B$24:$B$500,$B194,'CMS Downtime Detail'!$C$24:$C$500,$C194,'CMS Downtime Detail'!$D$24:$D$500,$D194,'CMS Downtime Detail'!$E$24:$E$500,\"Monitoring Equipment Malfunctions\"))","v":""},{"$f":"IF($E194=\"\",\"\",SUMIFS('CMS Downtime Detail'!$K$24:$K$500,'CMS Downtime Detail'!$B$24:$B$500,$B194,'CMS Downtime Detail'!$C$24:$C$500,$C194,'CMS Downtime Detail'!$D$24:$D$500,$D194,'CMS Downtime Detail'!$E$24:$E$500,\"Nonmonitoring Equipment Malfunctions\"))","v":""},{"$f":"IF($E194=\"\",\"\",SUMIFS('CMS Downtime Detail'!$K$24:$K$500,'CMS Downtime Detail'!$B$24:$B$500,$B194,'CMS Downtime Detail'!$C$24:$C$500,$C194,'CMS Downtime Detail'!$D$24:$D$500,$D194,'CMS Downtime Detail'!$E$24:$E$500,\"Quality Assurance/Quality Control Calibrations\"))","v":""},{"$f":"IF($E194=\"\",\"\",SUMIFS('CMS Downtime Detail'!$K$24:$K$500,'CMS Downtime Detail'!$B$24:$B$500,$B194,'CMS Downtime Detail'!$C$24:$C$500,$C194,'CMS Downtime Detail'!$D$24:$D$500,$D194,'CMS Downtime Detail'!$E$24:$E$500,\"Other Known Causes\"))","v":""},{"$f":"IF($E194=\"\",\"\",SUMIFS('CMS Downtime Detail'!$K$24:$K$500,'CMS Downtime Detail'!$B$24:$B$500,$B194,'CMS Downtime Detail'!$C$24:$C$500,$C194,'CMS Downtime Detail'!$D$24:$D$500,$D194,'CMS Downtime Detail'!$E$24:$E$500,\"Other Unknown Causes\"))","v":""}]
[null,{"$f":"IF(Lists!AQ173=\"\",\"\",Lists!AQ173)","v":""},{"$f":"IF(Lists!AR173=\"\",\"\",Lists!AR173)","v":""},{"$f":"IF(Lists!AS173=\"\",\"\",Lists!AS173)","v":""},{"$f":"IF(D195=\"\",\"\",VLOOKUP(B195&C195,Lists!$BA$2:$BD$78,4,FALSE))","v":""},"","",{"$f":"IF($E195=\"\",\"\",SUMIFS('CMS Downtime Detail'!$K$24:$K$500,'CMS Downtime Detail'!$B$24:$B$500,$B195,'CMS Downtime Detail'!$C$24:$C$500,$C195,'CMS Downtime Detail'!$D$24:$D$500,$D195,'CMS Downtime Detail'!$E$24:$E$500,\"Monitoring Equipment Malfunctions\"))","v":""},{"$f":"IF($E195=\"\",\"\",SUMIFS('CMS Downtime Detail'!$K$24:$K$500,'CMS Downtime Detail'!$B$24:$B$500,$B195,'CMS Downtime Detail'!$C$24:$C$500,$C195,'CMS Downtime Detail'!$D$24:$D$500,$D195,'CMS Downtime Detail'!$E$24:$E$500,\"Nonmonitoring Equipment Malfunctions\"))","v":""},{"$f":"IF($E195=\"\",\"\",SUMIFS('CMS Downtime Detail'!$K$24:$K$500,'CMS Downtime Detail'!$B$24:$B$500,$B195,'CMS Downtime Detail'!$C$24:$C$500,$C195,'CMS Downtime Detail'!$D$24:$D$500,$D195,'CMS Downtime Detail'!$E$24:$E$500,\"Quality Assurance/Quality Control Calibrations\"))","v":""},{"$f":"IF($E195=\"\",\"\",SUMIFS('CMS Downtime Detail'!$K$24:$K$500,'CMS Downtime Detail'!$B$24:$B$500,$B195,'CMS Downtime Detail'!$C$24:$C$500,$C195,'CMS Downtime Detail'!$D$24:$D$500,$D195,'CMS Downtime Detail'!$E$24:$E$500,\"Other Known Causes\"))","v":""},{"$f":"IF($E195=\"\",\"\",SUMIFS('CMS Downtime Detail'!$K$24:$K$500,'CMS Downtime Detail'!$B$24:$B$500,$B195,'CMS Downtime Detail'!$C$24:$C$500,$C195,'CMS Downtime Detail'!$D$24:$D$500,$D195,'CMS Downtime Detail'!$E$24:$E$500,\"Other Unknown Causes\"))","v":""}]
[null,{"$f":"IF(Lists!AQ174=\"\",\"\",Lists!AQ174)","v":""},{"$f":"IF(Lists!AR174=\"\",\"\",Lists!AR174)","v":""},{"$f":"IF(Lists!AS174=\"\",\"\",Lists!AS174)","v":""},{"$f":"IF(D196=\"\",\"\",VLOOKUP(B196&C196,Lists!$BA$2:$BD$78,4,FALSE))","v":""},"","",{"$f":"IF($E196=\"\",\"\",SUMIFS('CMS Downtime Detail'!$K$24:$K$500,'CMS Downtime Detail'!$B$24:$B$500,$B196,'CMS Downtime Detail'!$C$24:$C$500,$C196,'CMS Downtime Detail'!$D$24:$D$500,$D196,'CMS Downtime Detail'!$E$24:$E$500,\"Monitoring Equipment Malfunctions\"))","v":""},{"$f":"IF($E196=\"\",\"\",SUMIFS('CMS Downtime Detail'!$K$24:$K$500,'CMS Downtime Detail'!$B$24:$B$500,$B196,'CMS Downtime Detail'!$C$24:$C$500,$C196,'CMS Downtime Detail'!$D$24:$D$500,$D196,'CMS Downtime Detail'!$E$24:$E$500,\"Nonmonitoring Equipment Malfunctions\"))","v":""},{"$f":"IF($E196=\"\",\"\",SUMIFS('CMS Downtime Detail'!$K$24:$K$500,'CMS Downtime Detail'!$B$24:$B$500,$B196,'CMS Downtime Detail'!$C$24:$C$500,$C196,'CMS Downtime Detail'!$D$24:$D$500,$D196,'CMS Downtime Detail'!$E$24:$E$500,\"Quality Assurance/Quality Control Calibrations\"))","v":""},{"$f":"IF($E196=\"\",\"\",SUMIFS('CMS Downtime Detail'!$K$24:$K$500,'CMS Downtime Detail'!$B$24:$B$500,$B196,'CMS Downtime Detail'!$C$24:$C$500,$C196,'CMS Downtime Detail'!$D$24:$D$500,$D196,'CMS Downtime Detail'!$E$24:$E$500,\"Other Known Causes\"))","v":""},{"$f":"IF($E196=\"\",\"\",SUMIFS('CMS Downtime Detail'!$K$24:$K$500,'CMS Downtime Detail'!$B$24:$B$500,$B196,'CMS Downtime Detail'!$C$24:$C$500,$C196,'CMS Downtime Detail'!$D$24:$D$500,$D196,'CMS Downtime Detail'!$E$24:$E$500,\"Other Unknown Causes\"))","v":""}]
[null,{"$f":"IF(Lists!AQ175=\"\",\"\",Lists!AQ175)","v":""},{"$f":"IF(Lists!AR175=\"\",\"\",Lists!AR175)","v":""},{"$f":"IF(Lists!AS175=\"\",\"\",Lists!AS175)","v":""},{"$f":"IF(D197=\"\",\"\",VLOOKUP(B197&C197,Lists!$BA$2:$BD$78,4,FALSE))","v":""},"","",{"$f":"IF($E197=\"\",\"\",SUMIFS('CMS Downtime Detail'!$K$24:$K$500,'CMS Downtime Detail'!$B$24:$B$500,$B197,'CMS Downtime Detail'!$C$24:$C$500,$C197,'CMS Downtime Detail'!$D$24:$D$500,$D197,'CMS Downtime Detail'!$E$24:$E$500,\"Monitoring Equipment Malfunctions\"))","v":""},{"$f":"IF($E197=\"\",\"\",SUMIFS('CMS Downtime Detail'!$K$24:$K$500,'CMS Downtime Detail'!$B$24:$B$500,$B197,'CMS Downtime Detail'!$C$24:$C$500,$C197,'CMS Downtime Detail'!$D$24:$D$500,$D197,'CMS Downtime Detail'!$E$24:$E$500,\"Nonmonitoring Equipment Malfunctions\"))","v":""},{"$f":"IF($E197=\"\",\"\",SUMIFS('CMS Downtime Detail'!$K$24:$K$500,'CMS Downtime Detail'!$B$24:$B$500,$B197,'CMS Downtime Detail'!$C$24:$C$500,$C197,'CMS Downtime Detail'!$D$24:$D$500,$D197,'CMS Downtime Detail'!$E$24:$E$500,\"Quality Assurance/Quality Control Calibrations\"))","v":""},{"$f":"IF($E197=\"\",\"\",SUMIFS('CMS Downtime Detail'!$K$24:$K$500,'CMS Downtime Detail'!$B$24:$B$500,$B197,'CMS Downtime Detail'!$C$24:$C$500,$C197,'CMS Downtime Detail'!$D$24:$D$500,$D197,'CMS Downtime Detail'!$E$24:$E$500,\"Other Known Causes\"))","v":""},{"$f":"IF($E197=\"\",\"\",SUMIFS('CMS Downtime Detail'!$K$24:$K$500,'CMS Downtime Detail'!$B$24:$B$500,$B197,'CMS Downtime Detail'!$C$24:$C$500,$C197,'CMS Downtime Detail'!$D$24:$D$500,$D197,'CMS Downtime Detail'!$E$24:$E$500,\"Other Unknown Causes\"))","v":""}]
[null,{"$f":"IF(Lists!AQ176=\"\",\"\",Lists!AQ176)","v":""},{"$f":"IF(Lists!AR176=\"\",\"\",Lists!AR176)","v":""},{"$f":"IF(Lists!AS176=\"\",\"\",Lists!AS176)","v":""},{"$f":"IF(D198=\"\",\"\",VLOOKUP(B198&C198,Lists!$BA$2:$BD$78,4,FALSE))","v":""},"","",{"$f":"IF($E198=\"\",\"\",SUMIFS('CMS Downtime Detail'!$K$24:$K$500,'CMS Downtime Detail'!$B$24:$B$500,$B198,'CMS Downtime Detail'!$C$24:$C$500,$C198,'CMS Downtime Detail'!$D$24:$D$500,$D198,'CMS Downtime Detail'!$E$24:$E$500,\"Monitoring Equipment Malfunctions\"))","v":""},{"$f":"IF($E198=\"\",\"\",SUMIFS('CMS Downtime Detail'!$K$24:$K$500,'CMS Downtime Detail'!$B$24:$B$500,$B198,'CMS Downtime Detail'!$C$24:$C$500,$C198,'CMS Downtime Detail'!$D$24:$D$500,$D198,'CMS Downtime Detail'!$E$24:$E$500,\"Nonmonitoring Equipment Malfunctions\"))","v":""},{"$f":"IF($E198=\"\",\"\",SUMIFS('CMS Downtime Detail'!$K$24:$K$500,'CMS Downtime Detail'!$B$24:$B$500,$B198,'CMS Downtime Detail'!$C$24:$C$500,$C198,'CMS Downtime Detail'!$D$24:$D$500,$D198,'CMS Downtime Detail'!$E$24:$E$500,\"Quality Assurance/Quality Control Calibrations\"))","v":""},{"$f":"IF($E198=\"\",\"\",SUMIFS('CMS Downtime Detail'!$K$24:$K$500,'CMS Downtime Detail'!$B$24:$B$500,$B198,'CMS Downtime Detail'!$C$24:$C$500,$C198,'CMS Downtime Detail'!$D$24:$D$500,$D198,'CMS Downtime Detail'!$E$24:$E$500,\"Other Known Causes\"))","v":""},{"$f":"IF($E198=\"\",\"\",SUMIFS('CMS Downtime Detail'!$K$24:$K$500,'CMS Downtime Detail'!$B$24:$B$500,$B198,'CMS Downtime Detail'!$C$24:$C$500,$C198,'CMS Downtime Detail'!$D$24:$D$500,$D198,'CMS Downtime Detail'!$E$24:$E$500,\"Other Unknown Causes\"))","v":""}]
[null,{"$f":"IF(Lists!AQ177=\"\",\"\",Lists!AQ177)","v":""},{"$f":"IF(Lists!AR177=\"\",\"\",Lists!AR177)","v":""},{"$f":"IF(Lists!AS177=\"\",\"\",Lists!AS177)","v":""},{"$f":"IF(D199=\"\",\"\",VLOOKUP(B199&C199,Lists!$BA$2:$BD$78,4,FALSE))","v":""},"","",{"$f":"IF($E199=\"\",\"\",SUMIFS('CMS Downtime Detail'!$K$24:$K$500,'CMS Downtime Detail'!$B$24:$B$500,$B199,'CMS Downtime Detail'!$C$24:$C$500,$C199,'CMS Downtime Detail'!$D$24:$D$500,$D199,'CMS Downtime Detail'!$E$24:$E$500,\"Monitoring Equipment Malfunctions\"))","v":""},{"$f":"IF($E199=\"\",\"\",SUMIFS('CMS Downtime Detail'!$K$24:$K$500,'CMS Downtime Detail'!$B$24:$B$500,$B199,'CMS Downtime Detail'!$C$24:$C$500,$C199,'CMS Downtime Detail'!$D$24:$D$500,$D199,'CMS Downtime Detail'!$E$24:$E$500,\"Nonmonitoring Equipment Malfunctions\"))","v":""},{"$f":"IF($E199=\"\",\"\",SUMIFS('CMS Downtime Detail'!$K$24:$K$500,'CMS Downtime Detail'!$B$24:$B$500,$B199,'CMS Downtime Detail'!$C$24:$C$500,$C199,'CMS Downtime Detail'!$D$24:$D$500,$D199,'CMS Downtime Detail'!$E$24:$E$500,\"Quality Assurance/Quality Control Calibrations\"))","v":""},{"$f":"IF($E199=\"\",\"\",SUMIFS('CMS Downtime Detail'!$K$24:$K$500,'CMS Downtime Detail'!$B$24:$B$500,$B199,'CMS Downtime Detail'!$C$24:$C$500,$C199,'CMS Downtime Detail'!$D$24:$D$500,$D199,'CMS Downtime Detail'!$E$24:$E$500,\"Other Known Causes\"))","v":""},{"$f":"IF($E199=\"\",\"\",SUMIFS('CMS Downtime Detail'!$K$24:$K$500,'CMS Downtime Detail'!$B$24:$B$500,$B199,'CMS Downtime Detail'!$C$24:$C$500,$C199,'CMS Downtime Detail'!$D$24:$D$500,$D199,'CMS Downtime Detail'!$E$24:$E$500,\"Other Unknown Causes\"))","v":""}]
[null,{"$f":"IF(Lists!AQ178=\"\",\"\",Lists!AQ178)","v":""},{"$f":"IF(Lists!AR178=\"\",\"\",Lists!AR178)","v":""},{"$f":"IF(Lists!AS178=\"\",\"\",Lists!AS178)","v":""},{"$f":"IF(D200=\"\",\"\",VLOOKUP(B200&C200,Lists!$BA$2:$BD$78,4,FALSE))","v":""},"","",{"$f":"IF($E200=\"\",\"\",SUMIFS('CMS Downtime Detail'!$K$24:$K$500,'CMS Downtime Detail'!$B$24:$B$500,$B200,'CMS Downtime Detail'!$C$24:$C$500,$C200,'CMS Downtime Detail'!$D$24:$D$500,$D200,'CMS Downtime Detail'!$E$24:$E$500,\"Monitoring Equipment Malfunctions\"))","v":""},{"$f":"IF($E200=\"\",\"\",SUMIFS('CMS Downtime Detail'!$K$24:$K$500,'CMS Downtime Detail'!$B$24:$B$500,$B200,'CMS Downtime Detail'!$C$24:$C$500,$C200,'CMS Downtime Detail'!$D$24:$D$500,$D200,'CMS Downtime Detail'!$E$24:$E$500,\"Nonmonitoring Equipment Malfunctions\"))","v":""},{"$f":"IF($E200=\"\",\"\",SUMIFS('CMS Downtime Detail'!$K$24:$K$500,'CMS Downtime Detail'!$B$24:$B$500,$B200,'CMS Downtime Detail'!$C$24:$C$500,$C200,'CMS Downtime Detail'!$D$24:$D$500,$D200,'CMS Downtime Detail'!$E$24:$E$500,\"Quality Assurance/Quality Control Calibrations\"))","v":""},{"$f":"IF($E200=\"\",\"\",SUMIFS('CMS Downtime Detail'!$K$24:$K$500,'CMS Downtime Detail'!$B$24:$B$500,$B200,'CMS Downtime Detail'!$C$24:$C$500,$C200,'CMS Downtime Detail'!$D$24:$D$500,$D200,'CMS Downtime Detail'!$E$24:$E$500,\"Other Known Causes\"))","v":""},{"$f":"IF($E200=\"\",\"\",SUMIFS('CMS Downtime Detail'!$K$24:$K$500,'CMS Downtime Detail'!$B$24:$B$500,$B200,'CMS Downtime Detail'!$C$24:$C$500,$C200,'CMS Downtime Detail'!$D$24:$D$500,$D200,'CMS Downtime Detail'!$E$24:$E$500,\"Other Unknown Causes\"))","v":""}]
[null,{"$f":"IF(Lists!AQ179=\"\",\"\",Lists!AQ179)","v":""},{"$f":"IF(Lists!AR179=\"\",\"\",Lists!AR179)","v":""},{"$f":"IF(Lists!AS179=\"\",\"\",Lists!AS179)","v":""},{"$f":"IF(D201=\"\",\"\",VLOOKUP(B201&C201,Lists!$BA$2:$BD$78,4,FALSE))","v":""},"","",{"$f":"IF($E201=\"\",\"\",SUMIFS('CMS Downtime Detail'!$K$24:$K$500,'CMS Downtime Detail'!$B$24:$B$500,$B201,'CMS Downtime Detail'!$C$24:$C$500,$C201,'CMS Downtime Detail'!$D$24:$D$500,$D201,'CMS Downtime Detail'!$E$24:$E$500,\"Monitoring Equipment Malfunctions\"))","v":""},{"$f":"IF($E201=\"\",\"\",SUMIFS('CMS Downtime Detail'!$K$24:$K$500,'CMS Downtime Detail'!$B$24:$B$500,$B201,'CMS Downtime Detail'!$C$24:$C$500,$C201,'CMS Downtime Detail'!$D$24:$D$500,$D201,'CMS Downtime Detail'!$E$24:$E$500,\"Nonmonitoring Equipment Malfunctions\"))","v":""},{"$f":"IF($E201=\"\",\"\",SUMIFS('CMS Downtime Detail'!$K$24:$K$500,'CMS Downtime Detail'!$B$24:$B$500,$B201,'CMS Downtime Detail'!$C$24:$C$500,$C201,'CMS Downtime Detail'!$D$24:$D$500,$D201,'CMS Downtime Detail'!$E$24:$E$500,\"Quality Assurance/Quality Control Calibrations\"))","v":""},{"$f":"IF($E201=\"\",\"\",SUMIFS('CMS Downtime Detail'!$K$24:$K$500,'CMS Downtime Detail'!$B$24:$B$500,$B201,'CMS Downtime Detail'!$C$24:$C$500,$C201,'CMS Downtime Detail'!$D$24:$D$500,$D201,'CMS Downtime Detail'!$E$24:$E$500,\"Other Known Causes\"))","v":""},{"$f":"IF($E201=\"\",\"\",SUMIFS('CMS Downtime Detail'!$K$24:$K$500,'CMS Downtime Detail'!$B$24:$B$500,$B201,'CMS Downtime Detail'!$C$24:$C$500,$C201,'CMS Downtime Detail'!$D$24:$D$500,$D201,'CMS Downtime Detail'!$E$24:$E$500,\"Other Unknown Causes\"))","v":""}]
[null,{"$f":"IF(Lists!AQ180=\"\",\"\",Lists!AQ180)","v":""},{"$f":"IF(Lists!AR180=\"\",\"\",Lists!AR180)","v":""},{"$f":"IF(Lists!AS180=\"\",\"\",Lists!AS180)","v":""},{"$f":"IF(D202=\"\",\"\",VLOOKUP(B202&C202,Lists!$BA$2:$BD$78,4,FALSE))","v":""},"","",{"$f":"IF($E202=\"\",\"\",SUMIFS('CMS Downtime Detail'!$K$24:$K$500,'CMS Downtime Detail'!$B$24:$B$500,$B202,'CMS Downtime Detail'!$C$24:$C$500,$C202,'CMS Downtime Detail'!$D$24:$D$500,$D202,'CMS Downtime Detail'!$E$24:$E$500,\"Monitoring Equipment Malfunctions\"))","v":""},{"$f":"IF($E202=\"\",\"\",SUMIFS('CMS Downtime Detail'!$K$24:$K$500,'CMS Downtime Detail'!$B$24:$B$500,$B202,'CMS Downtime Detail'!$C$24:$C$500,$C202,'CMS Downtime Detail'!$D$24:$D$500,$D202,'CMS Downtime Detail'!$E$24:$E$500,\"Nonmonitoring Equipment Malfunctions\"))","v":""},{"$f":"IF($E202=\"\",\"\",SUMIFS('CMS Downtime Detail'!$K$24:$K$500,'CMS Downtime Detail'!$B$24:$B$500,$B202,'CMS Downtime Detail'!$C$24:$C$500,$C202,'CMS Downtime Detail'!$D$24:$D$500,$D202,'CMS Downtime Detail'!$E$24:$E$500,\"Quality Assurance/Quality Control Calibrations\"))","v":""},{"$f":"IF($E202=\"\",\"\",SUMIFS('CMS Downtime Detail'!$K$24:$K$500,'CMS Downtime Detail'!$B$24:$B$500,$B202,'CMS Downtime Detail'!$C$24:$C$500,$C202,'CMS Downtime Detail'!$D$24:$D$500,$D202,'CMS Downtime Detail'!$E$24:$E$500,\"Other Known Causes\"))","v":""},{"$f":"IF($E202=\"\",\"\",SUMIFS('CMS Downtime Detail'!$K$24:$K$500,'CMS Downtime Detail'!$B$24:$B$500,$B202,'CMS Downtime Detail'!$C$24:$C$500,$C202,'CMS Downtime Detail'!$D$24:$D$500,$D202,'CMS Downtime Detail'!$E$24:$E$500,\"Other Unknown Causes\"))","v":""}]
[null,{"$f":"IF(Lists!AQ181=\"\",\"\",Lists!AQ181)","v":""},{"$f":"IF(Lists!AR181=\"\",\"\",Lists!AR181)","v":""},{"$f":"IF(Lists!AS181=\"\",\"\",Lists!AS181)","v":""},{"$f":"IF(D203=\"\",\"\",VLOOKUP(B203&C203,Lists!$BA$2:$BD$78,4,FALSE))","v":""},"","",{"$f":"IF($E203=\"\",\"\",SUMIFS('CMS Downtime Detail'!$K$24:$K$500,'CMS Downtime Detail'!$B$24:$B$500,$B203,'CMS Downtime Detail'!$C$24:$C$500,$C203,'CMS Downtime Detail'!$D$24:$D$500,$D203,'CMS Downtime Detail'!$E$24:$E$500,\"Monitoring Equipment Malfunctions\"))","v":""},{"$f":"IF($E203=\"\",\"\",SUMIFS('CMS Downtime Detail'!$K$24:$K$500,'CMS Downtime Detail'!$B$24:$B$500,$B203,'CMS Downtime Detail'!$C$24:$C$500,$C203,'CMS Downtime Detail'!$D$24:$D$500,$D203,'CMS Downtime Detail'!$E$24:$E$500,\"Nonmonitoring Equipment Malfunctions\"))","v":""},{"$f":"IF($E203=\"\",\"\",SUMIFS('CMS Downtime Detail'!$K$24:$K$500,'CMS Downtime Detail'!$B$24:$B$500,$B203,'CMS Downtime Detail'!$C$24:$C$500,$C203,'CMS Downtime Detail'!$D$24:$D$500,$D203,'CMS Downtime Detail'!$E$24:$E$500,\"Quality Assurance/Quality Control Calibrations\"))","v":""},{"$f":"IF($E203=\"\",\"\",SUMIFS('CMS Downtime Detail'!$K$24:$K$500,'CMS Downtime Detail'!$B$24:$B$500,$B203,'CMS Downtime Detail'!$C$24:$C$500,$C203,'CMS Downtime Detail'!$D$24:$D$500,$D203,'CMS Downtime Detail'!$E$24:$E$500,\"Other Known Causes\"))","v":""},{"$f":"IF($E203=\"\",\"\",SUMIFS('CMS Downtime Detail'!$K$24:$K$500,'CMS Downtime Detail'!$B$24:$B$500,$B203,'CMS Downtime Detail'!$C$24:$C$500,$C203,'CMS Downtime Detail'!$D$24:$D$500,$D203,'CMS Downtime Detail'!$E$24:$E$500,\"Other Unknown Causes\"))","v":""}]
[null,{"$f":"IF(Lists!AQ182=\"\",\"\",Lists!AQ182)","v":""},{"$f":"IF(Lists!AR182=\"\",\"\",Lists!AR182)","v":""},{"$f":"IF(Lists!AS182=\"\",\"\",Lists!AS182)","v":""},{"$f":"IF(D204=\"\",\"\",VLOOKUP(B204&C204,Lists!$BA$2:$BD$78,4,FALSE))","v":""},"","",{"$f":"IF($E204=\"\",\"\",SUMIFS('CMS Downtime Detail'!$K$24:$K$500,'CMS Downtime Detail'!$B$24:$B$500,$B204,'CMS Downtime Detail'!$C$24:$C$500,$C204,'CMS Downtime Detail'!$D$24:$D$500,$D204,'CMS Downtime Detail'!$E$24:$E$500,\"Monitoring Equipment Malfunctions\"))","v":""},{"$f":"IF($E204=\"\",\"\",SUMIFS('CMS Downtime Detail'!$K$24:$K$500,'CMS Downtime Detail'!$B$24:$B$500,$B204,'CMS Downtime Detail'!$C$24:$C$500,$C204,'CMS Downtime Detail'!$D$24:$D$500,$D204,'CMS Downtime Detail'!$E$24:$E$500,\"Nonmonitoring Equipment Malfunctions\"))","v":""},{"$f":"IF($E204=\"\",\"\",SUMIFS('CMS Downtime Detail'!$K$24:$K$500,'CMS Downtime Detail'!$B$24:$B$500,$B204,'CMS Downtime Detail'!$C$24:$C$500,$C204,'CMS Downtime Detail'!$D$24:$D$500,$D204,'CMS Downtime Detail'!$E$24:$E$500,\"Quality Assurance/Quality Control Calibrations\"))","v":""},{"$f":"IF($E204=\"\",\"\",SUMIFS('CMS Downtime Detail'!$K$24:$K$500,'CMS Downtime Detail'!$B$24:$B$500,$B204,'CMS Downtime Detail'!$C$24:$C$500,$C204,'CMS Downtime Detail'!$D$24:$D$500,$D204,'CMS Downtime Detail'!$E$24:$E$500,\"Other Known Causes\"))","v":""},{"$f":"IF($E204=\"\",\"\",SUMIFS('CMS Downtime Detail'!$K$24:$K$500,'CMS Downtime Detail'!$B$24:$B$500,$B204,'CMS Downtime Detail'!$C$24:$C$500,$C204,'CMS Downtime Detail'!$D$24:$D$500,$D204,'CMS Downtime Detail'!$E$24:$E$500,\"Other Unknown Causes\"))","v":""}]
[null,{"$f":"IF(Lists!AQ183=\"\",\"\",Lists!AQ183)","v":""},{"$f":"IF(Lists!AR183=\"\",\"\",Lists!AR183)","v":""},{"$f":"IF(Lists!AS183=\"\",\"\",Lists!AS183)","v":""},{"$f":"IF(D205=\"\",\"\",VLOOKUP(B205&C205,Lists!$BA$2:$BD$78,4,FALSE))","v":""},"","",{"$f":"IF($E205=\"\",\"\",SUMIFS('CMS Downtime Detail'!$K$24:$K$500,'CMS Downtime Detail'!$B$24:$B$500,$B205,'CMS Downtime Detail'!$C$24:$C$500,$C205,'CMS Downtime Detail'!$D$24:$D$500,$D205,'CMS Downtime Detail'!$E$24:$E$500,\"Monitoring Equipment Malfunctions\"))","v":""},{"$f":"IF($E205=\"\",\"\",SUMIFS('CMS Downtime Detail'!$K$24:$K$500,'CMS Downtime Detail'!$B$24:$B$500,$B205,'CMS Downtime Detail'!$C$24:$C$500,$C205,'CMS Downtime Detail'!$D$24:$D$500,$D205,'CMS Downtime Detail'!$E$24:$E$500,\"Nonmonitoring Equipment Malfunctions\"))","v":""},{"$f":"IF($E205=\"\",\"\",SUMIFS('CMS Downtime Detail'!$K$24:$K$500,'CMS Downtime Detail'!$B$24:$B$500,$B205,'CMS Downtime Detail'!$C$24:$C$500,$C205,'CMS Downtime Detail'!$D$24:$D$500,$D205,'CMS Downtime Detail'!$E$24:$E$500,\"Quality Assurance/Quality Control Calibrations\"))","v":""},{"$f":"IF($E205=\"\",\"\",SUMIFS('CMS Downtime Detail'!$K$24:$K$500,'CMS Downtime Detail'!$B$24:$B$500,$B205,'CMS Downtime Detail'!$C$24:$C$500,$C205,'CMS Downtime Detail'!$D$24:$D$500,$D205,'CMS Downtime Detail'!$E$24:$E$500,\"Other Known Causes\"))","v":""},{"$f":"IF($E205=\"\",\"\",SUMIFS('CMS Downtime Detail'!$K$24:$K$500,'CMS Downtime Detail'!$B$24:$B$500,$B205,'CMS Downtime Detail'!$C$24:$C$500,$C205,'CMS Downtime Detail'!$D$24:$D$500,$D205,'CMS Downtime Detail'!$E$24:$E$500,\"Other Unknown Causes\"))","v":""}]
[null,{"$f":"IF(Lists!AQ184=\"\",\"\",Lists!AQ184)","v":""},{"$f":"IF(Lists!AR184=\"\",\"\",Lists!AR184)","v":""},{"$f":"IF(Lists!AS184=\"\",\"\",Lists!AS184)","v":""},{"$f":"IF(D206=\"\",\"\",VLOOKUP(B206&C206,Lists!$BA$2:$BD$78,4,FALSE))","v":""},"","",{"$f":"IF($E206=\"\",\"\",SUMIFS('CMS Downtime Detail'!$K$24:$K$500,'CMS Downtime Detail'!$B$24:$B$500,$B206,'CMS Downtime Detail'!$C$24:$C$500,$C206,'CMS Downtime Detail'!$D$24:$D$500,$D206,'CMS Downtime Detail'!$E$24:$E$500,\"Monitoring Equipment Malfunctions\"))","v":""},{"$f":"IF($E206=\"\",\"\",SUMIFS('CMS Downtime Detail'!$K$24:$K$500,'CMS Downtime Detail'!$B$24:$B$500,$B206,'CMS Downtime Detail'!$C$24:$C$500,$C206,'CMS Downtime Detail'!$D$24:$D$500,$D206,'CMS Downtime Detail'!$E$24:$E$500,\"Nonmonitoring Equipment Malfunctions\"))","v":""},{"$f":"IF($E206=\"\",\"\",SUMIFS('CMS Downtime Detail'!$K$24:$K$500,'CMS Downtime Detail'!$B$24:$B$500,$B206,'CMS Downtime Detail'!$C$24:$C$500,$C206,'CMS Downtime Detail'!$D$24:$D$500,$D206,'CMS Downtime Detail'!$E$24:$E$500,\"Quality Assurance/Quality Control Calibrations\"))","v":""},{"$f":"IF($E206=\"\",\"\",SUMIFS('CMS Downtime Detail'!$K$24:$K$500,'CMS Downtime Detail'!$B$24:$B$500,$B206,'CMS Downtime Detail'!$C$24:$C$500,$C206,'CMS Downtime Detail'!$D$24:$D$500,$D206,'CMS Downtime Detail'!$E$24:$E$500,\"Other Known Causes\"))","v":""},{"$f":"IF($E206=\"\",\"\",SUMIFS('CMS Downtime Detail'!$K$24:$K$500,'CMS Downtime Detail'!$B$24:$B$500,$B206,'CMS Downtime Detail'!$C$24:$C$500,$C206,'CMS Downtime Detail'!$D$24:$D$500,$D206,'CMS Downtime Detail'!$E$24:$E$500,\"Other Unknown Causes\"))","v":""}]
[null,{"$f":"IF(Lists!AQ185=\"\",\"\",Lists!AQ185)","v":""},{"$f":"IF(Lists!AR185=\"\",\"\",Lists!AR185)","v":""},{"$f":"IF(Lists!AS185=\"\",\"\",Lists!AS185)","v":""},{"$f":"IF(D207=\"\",\"\",VLOOKUP(B207&C207,Lists!$BA$2:$BD$78,4,FALSE))","v":""},"","",{"$f":"IF($E207=\"\",\"\",SUMIFS('CMS Downtime Detail'!$K$24:$K$500,'CMS Downtime Detail'!$B$24:$B$500,$B207,'CMS Downtime Detail'!$C$24:$C$500,$C207,'CMS Downtime Detail'!$D$24:$D$500,$D207,'CMS Downtime Detail'!$E$24:$E$500,\"Monitoring Equipment Malfunctions\"))","v":""},{"$f":"IF($E207=\"\",\"\",SUMIFS('CMS Downtime Detail'!$K$24:$K$500,'CMS Downtime Detail'!$B$24:$B$500,$B207,'CMS Downtime Detail'!$C$24:$C$500,$C207,'CMS Downtime Detail'!$D$24:$D$500,$D207,'CMS Downtime Detail'!$E$24:$E$500,\"Nonmonitoring Equipment Malfunctions\"))","v":""},{"$f":"IF($E207=\"\",\"\",SUMIFS('CMS Downtime Detail'!$K$24:$K$500,'CMS Downtime Detail'!$B$24:$B$500,$B207,'CMS Downtime Detail'!$C$24:$C$500,$C207,'CMS Downtime Detail'!$D$24:$D$500,$D207,'CMS Downtime Detail'!$E$24:$E$500,\"Quality Assurance/Quality Control Calibrations\"))","v":""},{"$f":"IF($E207=\"\",\"\",SUMIFS('CMS Downtime Detail'!$K$24:$K$500,'CMS Downtime Detail'!$B$24:$B$500,$B207,'CMS Downtime Detail'!$C$24:$C$500,$C207,'CMS Downtime Detail'!$D$24:$D$500,$D207,'CMS Downtime Detail'!$E$24:$E$500,\"Other Known Causes\"))","v":""},{"$f":"IF($E207=\"\",\"\",SUMIFS('CMS Downtime Detail'!$K$24:$K$500,'CMS Downtime Detail'!$B$24:$B$500,$B207,'CMS Downtime Detail'!$C$24:$C$500,$C207,'CMS Downtime Detail'!$D$24:$D$500,$D207,'CMS Downtime Detail'!$E$24:$E$500,\"Other Unknown Causes\"))","v":""}]
[null,{"$f":"IF(Lists!AQ186=\"\",\"\",Lists!AQ186)","v":""},{"$f":"IF(Lists!AR186=\"\",\"\",Lists!AR186)","v":""},{"$f":"IF(Lists!AS186=\"\",\"\",Lists!AS186)","v":""},{"$f":"IF(D208=\"\",\"\",VLOOKUP(B208&C208,Lists!$BA$2:$BD$78,4,FALSE))","v":""},"","",{"$f":"IF($E208=\"\",\"\",SUMIFS('CMS Downtime Detail'!$K$24:$K$500,'CMS Downtime Detail'!$B$24:$B$500,$B208,'CMS Downtime Detail'!$C$24:$C$500,$C208,'CMS Downtime Detail'!$D$24:$D$500,$D208,'CMS Downtime Detail'!$E$24:$E$500,\"Monitoring Equipment Malfunctions\"))","v":""},{"$f":"IF($E208=\"\",\"\",SUMIFS('CMS Downtime Detail'!$K$24:$K$500,'CMS Downtime Detail'!$B$24:$B$500,$B208,'CMS Downtime Detail'!$C$24:$C$500,$C208,'CMS Downtime Detail'!$D$24:$D$500,$D208,'CMS Downtime Detail'!$E$24:$E$500,\"Nonmonitoring Equipment Malfunctions\"))","v":""},{"$f":"IF($E208=\"\",\"\",SUMIFS('CMS Downtime Detail'!$K$24:$K$500,'CMS Downtime Detail'!$B$24:$B$500,$B208,'CMS Downtime Detail'!$C$24:$C$500,$C208,'CMS Downtime Detail'!$D$24:$D$500,$D208,'CMS Downtime Detail'!$E$24:$E$500,\"Quality Assurance/Quality Control Calibrations\"))","v":""},{"$f":"IF($E208=\"\",\"\",SUMIFS('CMS Downtime Detail'!$K$24:$K$500,'CMS Downtime Detail'!$B$24:$B$500,$B208,'CMS Downtime Detail'!$C$24:$C$500,$C208,'CMS Downtime Detail'!$D$24:$D$500,$D208,'CMS Downtime Detail'!$E$24:$E$500,\"Other Known Causes\"))","v":""},{"$f":"IF($E208=\"\",\"\",SUMIFS('CMS Downtime Detail'!$K$24:$K$500,'CMS Downtime Detail'!$B$24:$B$500,$B208,'CMS Downtime Detail'!$C$24:$C$500,$C208,'CMS Downtime Detail'!$D$24:$D$500,$D208,'CMS Downtime Detail'!$E$24:$E$500,\"Other Unknown Causes\"))","v":""}]
[null,{"$f":"IF(Lists!AQ187=\"\",\"\",Lists!AQ187)","v":""},{"$f":"IF(Lists!AR187=\"\",\"\",Lists!AR187)","v":""},{"$f":"IF(Lists!AS187=\"\",\"\",Lists!AS187)","v":""},{"$f":"IF(D209=\"\",\"\",VLOOKUP(B209&C209,Lists!$BA$2:$BD$78,4,FALSE))","v":""},"","",{"$f":"IF($E209=\"\",\"\",SUMIFS('CMS Downtime Detail'!$K$24:$K$500,'CMS Downtime Detail'!$B$24:$B$500,$B209,'CMS Downtime Detail'!$C$24:$C$500,$C209,'CMS Downtime Detail'!$D$24:$D$500,$D209,'CMS Downtime Detail'!$E$24:$E$500,\"Monitoring Equipment Malfunctions\"))","v":""},{"$f":"IF($E209=\"\",\"\",SUMIFS('CMS Downtime Detail'!$K$24:$K$500,'CMS Downtime Detail'!$B$24:$B$500,$B209,'CMS Downtime Detail'!$C$24:$C$500,$C209,'CMS Downtime Detail'!$D$24:$D$500,$D209,'CMS Downtime Detail'!$E$24:$E$500,\"Nonmonitoring Equipment Malfunctions\"))","v":""},{"$f":"IF($E209=\"\",\"\",SUMIFS('CMS Downtime Detail'!$K$24:$K$500,'CMS Downtime Detail'!$B$24:$B$500,$B209,'CMS Downtime Detail'!$C$24:$C$500,$C209,'CMS Downtime Detail'!$D$24:$D$500,$D209,'CMS Downtime Detail'!$E$24:$E$500,\"Quality Assurance/Quality Control Calibrations\"))","v":""},{"$f":"IF($E209=\"\",\"\",SUMIFS('CMS Downtime Detail'!$K$24:$K$500,'CMS Downtime Detail'!$B$24:$B$500,$B209,'CMS Downtime Detail'!$C$24:$C$500,$C209,'CMS Downtime Detail'!$D$24:$D$500,$D209,'CMS Downtime Detail'!$E$24:$E$500,\"Other Known Causes\"))","v":""},{"$f":"IF($E209=\"\",\"\",SUMIFS('CMS Downtime Detail'!$K$24:$K$500,'CMS Downtime Detail'!$B$24:$B$500,$B209,'CMS Downtime Detail'!$C$24:$C$500,$C209,'CMS Downtime Detail'!$D$24:$D$500,$D209,'CMS Downtime Detail'!$E$24:$E$500,\"Other Unknown Causes\"))","v":""}]
[null,{"$f":"IF(Lists!AQ188=\"\",\"\",Lists!AQ188)","v":""},{"$f":"IF(Lists!AR188=\"\",\"\",Lists!AR188)","v":""},{"$f":"IF(Lists!AS188=\"\",\"\",Lists!AS188)","v":""},{"$f":"IF(D210=\"\",\"\",VLOOKUP(B210&C210,Lists!$BA$2:$BD$78,4,FALSE))","v":""},"","",{"$f":"IF($E210=\"\",\"\",SUMIFS('CMS Downtime Detail'!$K$24:$K$500,'CMS Downtime Detail'!$B$24:$B$500,$B210,'CMS Downtime Detail'!$C$24:$C$500,$C210,'CMS Downtime Detail'!$D$24:$D$500,$D210,'CMS Downtime Detail'!$E$24:$E$500,\"Monitoring Equipment Malfunctions\"))","v":""},{"$f":"IF($E210=\"\",\"\",SUMIFS('CMS Downtime Detail'!$K$24:$K$500,'CMS Downtime Detail'!$B$24:$B$500,$B210,'CMS Downtime Detail'!$C$24:$C$500,$C210,'CMS Downtime Detail'!$D$24:$D$500,$D210,'CMS Downtime Detail'!$E$24:$E$500,\"Nonmonitoring Equipment Malfunctions\"))","v":""},{"$f":"IF($E210=\"\",\"\",SUMIFS('CMS Downtime Detail'!$K$24:$K$500,'CMS Downtime Detail'!$B$24:$B$500,$B210,'CMS Downtime Detail'!$C$24:$C$500,$C210,'CMS Downtime Detail'!$D$24:$D$500,$D210,'CMS Downtime Detail'!$E$24:$E$500,\"Quality Assurance/Quality Control Calibrations\"))","v":""},{"$f":"IF($E210=\"\",\"\",SUMIFS('CMS Downtime Detail'!$K$24:$K$500,'CMS Downtime Detail'!$B$24:$B$500,$B210,'CMS Downtime Detail'!$C$24:$C$500,$C210,'CMS Downtime Detail'!$D$24:$D$500,$D210,'CMS Downtime Detail'!$E$24:$E$500,\"Other Known Causes\"))","v":""},{"$f":"IF($E210=\"\",\"\",SUMIFS('CMS Downtime Detail'!$K$24:$K$500,'CMS Downtime Detail'!$B$24:$B$500,$B210,'CMS Downtime Detail'!$C$24:$C$500,$C210,'CMS Downtime Detail'!$D$24:$D$500,$D210,'CMS Downtime Detail'!$E$24:$E$500,\"Other Unknown Causes\"))","v":""}]
[null,{"$f":"IF(Lists!AQ189=\"\",\"\",Lists!AQ189)","v":""},{"$f":"IF(Lists!AR189=\"\",\"\",Lists!AR189)","v":""},{"$f":"IF(Lists!AS189=\"\",\"\",Lists!AS189)","v":""},{"$f":"IF(D211=\"\",\"\",VLOOKUP(B211&C211,Lists!$BA$2:$BD$78,4,FALSE))","v":""},"","",{"$f":"IF($E211=\"\",\"\",SUMIFS('CMS Downtime Detail'!$K$24:$K$500,'CMS Downtime Detail'!$B$24:$B$500,$B211,'CMS Downtime Detail'!$C$24:$C$500,$C211,'CMS Downtime Detail'!$D$24:$D$500,$D211,'CMS Downtime Detail'!$E$24:$E$500,\"Monitoring Equipment Malfunctions\"))","v":""},{"$f":"IF($E211=\"\",\"\",SUMIFS('CMS Downtime Detail'!$K$24:$K$500,'CMS Downtime Detail'!$B$24:$B$500,$B211,'CMS Downtime Detail'!$C$24:$C$500,$C211,'CMS Downtime Detail'!$D$24:$D$500,$D211,'CMS Downtime Detail'!$E$24:$E$500,\"Nonmonitoring Equipment Malfunctions\"))","v":""},{"$f":"IF($E211=\"\",\"\",SUMIFS('CMS Downtime Detail'!$K$24:$K$500,'CMS Downtime Detail'!$B$24:$B$500,$B211,'CMS Downtime Detail'!$C$24:$C$500,$C211,'CMS Downtime Detail'!$D$24:$D$500,$D211,'CMS Downtime Detail'!$E$24:$E$500,\"Quality Assurance/Quality Control Calibrations\"))","v":""},{"$f":"IF($E211=\"\",\"\",SUMIFS('CMS Downtime Detail'!$K$24:$K$500,'CMS Downtime Detail'!$B$24:$B$500,$B211,'CMS Downtime Detail'!$C$24:$C$500,$C211,'CMS Downtime Detail'!$D$24:$D$500,$D211,'CMS Downtime Detail'!$E$24:$E$500,\"Other Known Causes\"))","v":""},{"$f":"IF($E211=\"\",\"\",SUMIFS('CMS Downtime Detail'!$K$24:$K$500,'CMS Downtime Detail'!$B$24:$B$500,$B211,'CMS Downtime Detail'!$C$24:$C$500,$C211,'CMS Downtime Detail'!$D$24:$D$500,$D211,'CMS Downtime Detail'!$E$24:$E$500,\"Other Unknown Causes\"))","v":""}]
[null,{"$f":"IF(Lists!AQ190=\"\",\"\",Lists!AQ190)","v":""},{"$f":"IF(Lists!AR190=\"\",\"\",Lists!AR190)","v":""},{"$f":"IF(Lists!AS190=\"\",\"\",Lists!AS190)","v":""},{"$f":"IF(D212=\"\",\"\",VLOOKUP(B212&C212,Lists!$BA$2:$BD$78,4,FALSE))","v":""},"","",{"$f":"IF($E212=\"\",\"\",SUMIFS('CMS Downtime Detail'!$K$24:$K$500,'CMS Downtime Detail'!$B$24:$B$500,$B212,'CMS Downtime Detail'!$C$24:$C$500,$C212,'CMS Downtime Detail'!$D$24:$D$500,$D212,'CMS Downtime Detail'!$E$24:$E$500,\"Monitoring Equipment Malfunctions\"))","v":""},{"$f":"IF($E212=\"\",\"\",SUMIFS('CMS Downtime Detail'!$K$24:$K$500,'CMS Downtime Detail'!$B$24:$B$500,$B212,'CMS Downtime Detail'!$C$24:$C$500,$C212,'CMS Downtime Detail'!$D$24:$D$500,$D212,'CMS Downtime Detail'!$E$24:$E$500,\"Nonmonitoring Equipment Malfunctions\"))","v":""},{"$f":"IF($E212=\"\",\"\",SUMIFS('CMS Downtime Detail'!$K$24:$K$500,'CMS Downtime Detail'!$B$24:$B$500,$B212,'CMS Downtime Detail'!$C$24:$C$500,$C212,'CMS Downtime Detail'!$D$24:$D$500,$D212,'CMS Downtime Detail'!$E$24:$E$500,\"Quality Assurance/Quality Control Calibrations\"))","v":""},{"$f":"IF($E212=\"\",\"\",SUMIFS('CMS Downtime Detail'!$K$24:$K$500,'CMS Downtime Detail'!$B$24:$B$500,$B212,'CMS Downtime Detail'!$C$24:$C$500,$C212,'CMS Downtime Detail'!$D$24:$D$500,$D212,'CMS Downtime Detail'!$E$24:$E$500,\"Other Known Causes\"))","v":""},{"$f":"IF($E212=\"\",\"\",SUMIFS('CMS Downtime Detail'!$K$24:$K$500,'CMS Downtime Detail'!$B$24:$B$500,$B212,'CMS Downtime Detail'!$C$24:$C$500,$C212,'CMS Downtime Detail'!$D$24:$D$500,$D212,'CMS Downtime Detail'!$E$24:$E$500,\"Other Unknown Causes\"))","v":""}]
[null,{"$f":"IF(Lists!AQ191=\"\",\"\",Lists!AQ191)","v":""},{"$f":"IF(Lists!AR191=\"\",\"\",Lists!AR191)","v":""},{"$f":"IF(Lists!AS191=\"\",\"\",Lists!AS191)","v":""},{"$f":"IF(D213=\"\",\"\",VLOOKUP(B213&C213,Lists!$BA$2:$BD$78,4,FALSE))","v":""},"","",{"$f":"IF($E213=\"\",\"\",SUMIFS('CMS Downtime Detail'!$K$24:$K$500,'CMS Downtime Detail'!$B$24:$B$500,$B213,'CMS Downtime Detail'!$C$24:$C$500,$C213,'CMS Downtime Detail'!$D$24:$D$500,$D213,'CMS Downtime Detail'!$E$24:$E$500,\"Monitoring Equipment Malfunctions\"))","v":""},{"$f":"IF($E213=\"\",\"\",SUMIFS('CMS Downtime Detail'!$K$24:$K$500,'CMS Downtime Detail'!$B$24:$B$500,$B213,'CMS Downtime Detail'!$C$24:$C$500,$C213,'CMS Downtime Detail'!$D$24:$D$500,$D213,'CMS Downtime Detail'!$E$24:$E$500,\"Nonmonitoring Equipment Malfunctions\"))","v":""},{"$f":"IF($E213=\"\",\"\",SUMIFS('CMS Downtime Detail'!$K$24:$K$500,'CMS Downtime Detail'!$B$24:$B$500,$B213,'CMS Downtime Detail'!$C$24:$C$500,$C213,'CMS Downtime Detail'!$D$24:$D$500,$D213,'CMS Downtime Detail'!$E$24:$E$500,\"Quality Assurance/Quality Control Calibrations\"))","v":""},{"$f":"IF($E213=\"\",\"\",SUMIFS('CMS Downtime Detail'!$K$24:$K$500,'CMS Downtime Detail'!$B$24:$B$500,$B213,'CMS Downtime Detail'!$C$24:$C$500,$C213,'CMS Downtime Detail'!$D$24:$D$500,$D213,'CMS Downtime Detail'!$E$24:$E$500,\"Other Known Causes\"))","v":""},{"$f":"IF($E213=\"\",\"\",SUMIFS('CMS Downtime Detail'!$K$24:$K$500,'CMS Downtime Detail'!$B$24:$B$500,$B213,'CMS Downtime Detail'!$C$24:$C$500,$C213,'CMS Downtime Detail'!$D$24:$D$500,$D213,'CMS Downtime Detail'!$E$24:$E$500,\"Other Unknown Causes\"))","v":""}]
[null,{"$f":"IF(Lists!AQ192=\"\",\"\",Lists!AQ192)","v":""},{"$f":"IF(Lists!AR192=\"\",\"\",Lists!AR192)","v":""},{"$f":"IF(Lists!AS192=\"\",\"\",Lists!AS192)","v":""},{"$f":"IF(D214=\"\",\"\",VLOOKUP(B214&C214,Lists!$BA$2:$BD$78,4,FALSE))","v":""},"","",{"$f":"IF($E214=\"\",\"\",SUMIFS('CMS Downtime Detail'!$K$24:$K$500,'CMS Downtime Detail'!$B$24:$B$500,$B214,'CMS Downtime Detail'!$C$24:$C$500,$C214,'CMS Downtime Detail'!$D$24:$D$500,$D214,'CMS Downtime Detail'!$E$24:$E$500,\"Monitoring Equipment Malfunctions\"))","v":""},{"$f":"IF($E214=\"\",\"\",SUMIFS('CMS Downtime Detail'!$K$24:$K$500,'CMS Downtime Detail'!$B$24:$B$500,$B214,'CMS Downtime Detail'!$C$24:$C$500,$C214,'CMS Downtime Detail'!$D$24:$D$500,$D214,'CMS Downtime Detail'!$E$24:$E$500,\"Nonmonitoring Equipment Malfunctions\"))","v":""},{"$f":"IF($E214=\"\",\"\",SUMIFS('CMS Downtime Detail'!$K$24:$K$500,'CMS Downtime Detail'!$B$24:$B$500,$B214,'CMS Downtime Detail'!$C$24:$C$500,$C214,'CMS Downtime Detail'!$D$24:$D$500,$D214,'CMS Downtime Detail'!$E$24:$E$500,\"Quality Assurance/Quality Control Calibrations\"))","v":""},{"$f":"IF($E214=\"\",\"\",SUMIFS('CMS Downtime Detail'!$K$24:$K$500,'CMS Downtime Detail'!$B$24:$B$500,$B214,'CMS Downtime Detail'!$C$24:$C$500,$C214,'CMS Downtime Detail'!$D$24:$D$500,$D214,'CMS Downtime Detail'!$E$24:$E$500,\"Other Known Causes\"))","v":""},{"$f":"IF($E214=\"\",\"\",SUMIFS('CMS Downtime Detail'!$K$24:$K$500,'CMS Downtime Detail'!$B$24:$B$500,$B214,'CMS Downtime Detail'!$C$24:$C$500,$C214,'CMS Downtime Detail'!$D$24:$D$500,$D214,'CMS Downtime Detail'!$E$24:$E$500,\"Other Unknown Causes\"))","v":""}]
[null,{"$f":"IF(Lists!AQ193=\"\",\"\",Lists!AQ193)","v":""},{"$f":"IF(Lists!AR193=\"\",\"\",Lists!AR193)","v":""},{"$f":"IF(Lists!AS193=\"\",\"\",Lists!AS193)","v":""},{"$f":"IF(D215=\"\",\"\",VLOOKUP(B215&C215,Lists!$BA$2:$BD$78,4,FALSE))","v":""},"","",{"$f":"IF($E215=\"\",\"\",SUMIFS('CMS Downtime Detail'!$K$24:$K$500,'CMS Downtime Detail'!$B$24:$B$500,$B215,'CMS Downtime Detail'!$C$24:$C$500,$C215,'CMS Downtime Detail'!$D$24:$D$500,$D215,'CMS Downtime Detail'!$E$24:$E$500,\"Monitoring Equipment Malfunctions\"))","v":""},{"$f":"IF($E215=\"\",\"\",SUMIFS('CMS Downtime Detail'!$K$24:$K$500,'CMS Downtime Detail'!$B$24:$B$500,$B215,'CMS Downtime Detail'!$C$24:$C$500,$C215,'CMS Downtime Detail'!$D$24:$D$500,$D215,'CMS Downtime Detail'!$E$24:$E$500,\"Nonmonitoring Equipment Malfunctions\"))","v":""},{"$f":"IF($E215=\"\",\"\",SUMIFS('CMS Downtime Detail'!$K$24:$K$500,'CMS Downtime Detail'!$B$24:$B$500,$B215,'CMS Downtime Detail'!$C$24:$C$500,$C215,'CMS Downtime Detail'!$D$24:$D$500,$D215,'CMS Downtime Detail'!$E$24:$E$500,\"Quality Assurance/Quality Control Calibrations\"))","v":""},{"$f":"IF($E215=\"\",\"\",SUMIFS('CMS Downtime Detail'!$K$24:$K$500,'CMS Downtime Detail'!$B$24:$B$500,$B215,'CMS Downtime Detail'!$C$24:$C$500,$C215,'CMS Downtime Detail'!$D$24:$D$500,$D215,'CMS Downtime Detail'!$E$24:$E$500,\"Other Known Causes\"))","v":""},{"$f":"IF($E215=\"\",\"\",SUMIFS('CMS Downtime Detail'!$K$24:$K$500,'CMS Downtime Detail'!$B$24:$B$500,$B215,'CMS Downtime Detail'!$C$24:$C$500,$C215,'CMS Downtime Detail'!$D$24:$D$500,$D215,'CMS Downtime Detail'!$E$24:$E$500,\"Other Unknown Causes\"))","v":""}]
[null,{"$f":"IF(Lists!AQ194=\"\",\"\",Lists!AQ194)","v":""},{"$f":"IF(Lists!AR194=\"\",\"\",Lists!AR194)","v":""},{"$f":"IF(Lists!AS194=\"\",\"\",Lists!AS194)","v":""},{"$f":"IF(D216=\"\",\"\",VLOOKUP(B216&C216,Lists!$BA$2:$BD$78,4,FALSE))","v":""},"","",{"$f":"IF($E216=\"\",\"\",SUMIFS('CMS Downtime Detail'!$K$24:$K$500,'CMS Downtime Detail'!$B$24:$B$500,$B216,'CMS Downtime Detail'!$C$24:$C$500,$C216,'CMS Downtime Detail'!$D$24:$D$500,$D216,'CMS Downtime Detail'!$E$24:$E$500,\"Monitoring Equipment Malfunctions\"))","v":""},{"$f":"IF($E216=\"\",\"\",SUMIFS('CMS Downtime Detail'!$K$24:$K$500,'CMS Downtime Detail'!$B$24:$B$500,$B216,'CMS Downtime Detail'!$C$24:$C$500,$C216,'CMS Downtime Detail'!$D$24:$D$500,$D216,'CMS Downtime Detail'!$E$24:$E$500,\"Nonmonitoring Equipment Malfunctions\"))","v":""},{"$f":"IF($E216=\"\",\"\",SUMIFS('CMS Downtime Detail'!$K$24:$K$500,'CMS Downtime Detail'!$B$24:$B$500,$B216,'CMS Downtime Detail'!$C$24:$C$500,$C216,'CMS Downtime Detail'!$D$24:$D$500,$D216,'CMS Downtime Detail'!$E$24:$E$500,\"Quality Assurance/Quality Control Calibrations\"))","v":""},{"$f":"IF($E216=\"\",\"\",SUMIFS('CMS Downtime Detail'!$K$24:$K$500,'CMS Downtime Detail'!$B$24:$B$500,$B216,'CMS Downtime Detail'!$C$24:$C$500,$C216,'CMS Downtime Detail'!$D$24:$D$500,$D216,'CMS Downtime Detail'!$E$24:$E$500,\"Other Known Causes\"))","v":""},{"$f":"IF($E216=\"\",\"\",SUMIFS('CMS Downtime Detail'!$K$24:$K$500,'CMS Downtime Detail'!$B$24:$B$500,$B216,'CMS Downtime Detail'!$C$24:$C$500,$C216,'CMS Downtime Detail'!$D$24:$D$500,$D216,'CMS Downtime Detail'!$E$24:$E$500,\"Other Unknown Causes\"))","v":""}]
[null,{"$f":"IF(Lists!AQ195=\"\",\"\",Lists!AQ195)","v":""},{"$f":"IF(Lists!AR195=\"\",\"\",Lists!AR195)","v":""},{"$f":"IF(Lists!AS195=\"\",\"\",Lists!AS195)","v":""},{"$f":"IF(D217=\"\",\"\",VLOOKUP(B217&C217,Lists!$BA$2:$BD$78,4,FALSE))","v":""},{"$f":"IF(E217=\"\",\"\",SUM(H217:L217))","v":""},{"$f":"IF(F217=\"\",\"\",F217/E217)","v":""},{"$f":"IF($E217=\"\",\"\",SUMIFS('CMS Downtime Detail'!$K$24:$K$500,'CMS Downtime Detail'!$B$24:$B$500,$B217,'CMS Downtime Detail'!$C$24:$C$500,$C217,'CMS Downtime Detail'!$D$24:$D$500,$D217,'CMS Downtime Detail'!$E$24:$E$500,\"Monitoring Equipment Malfunctions\"))","v":""},{"$f":"IF($E217=\"\",\"\",SUMIFS('CMS Downtime Detail'!$K$24:$K$500,'CMS Downtime Detail'!$B$24:$B$500,$B217,'CMS Downtime Detail'!$C$24:$C$500,$C217,'CMS Downtime Detail'!$D$24:$D$500,$D217,'CMS Downtime Detail'!$E$24:$E$500,\"Nonmonitoring Equipment Malfunctions\"))","v":""},{"$f":"IF($E217=\"\",\"\",SUMIFS('CMS Downtime Detail'!$K$24:$K$500,'CMS Downtime Detail'!$B$24:$B$500,$B217,'CMS Downtime Detail'!$C$24:$C$500,$C217,'CMS Downtime Detail'!$D$24:$D$500,$D217,'CMS Downtime Detail'!$E$24:$E$500,\"Quality Assurance/Quality Control Calibrations\"))","v":""},{"$f":"IF($E217=\"\",\"\",SUMIFS('CMS Downtime Detail'!$K$24:$K$500,'CMS Downtime Detail'!$B$24:$B$500,$B217,'CMS Downtime Detail'!$C$24:$C$500,$C217,'CMS Downtime Detail'!$D$24:$D$500,$D217,'CMS Downtime Detail'!$E$24:$E$500,\"Other Known Causes\"))","v":""},{"$f":"IF($E217=\"\",\"\",SUMIFS('CMS Downtime Detail'!$K$24:$K$500,'CMS Downtime Detail'!$B$24:$B$500,$B217,'CMS Downtime Detail'!$C$24:$C$500,$C217,'CMS Downtime Detail'!$D$24:$D$500,$D217,'CMS Downtime Detail'!$E$24:$E$500,\"Other Unknown Causes\"))","v":""}]
[null,{"$f":"IF(Lists!AQ196=\"\",\"\",Lists!AQ196)","v":""},{"$f":"IF(Lists!AR196=\"\",\"\",Lists!AR196)","v":""},{"$f":"IF(Lists!AS196=\"\",\"\",Lists!AS196)","v":""},{"$f":"IF(D218=\"\",\"\",VLOOKUP(B218&C218,Lists!$BA$2:$BD$78,4,FALSE))","v":""},"","",{"$f":"IF($E218=\"\",\"\",SUMIFS('CMS Downtime Detail'!$K$24:$K$500,'CMS Downtime Detail'!$B$24:$B$500,$B218,'CMS Downtime Detail'!$C$24:$C$500,$C218,'CMS Downtime Detail'!$D$24:$D$500,$D218,'CMS Downtime Detail'!$E$24:$E$500,\"Monitoring Equipment Malfunctions\"))","v":""},{"$f":"IF($E218=\"\",\"\",SUMIFS('CMS Downtime Detail'!$K$24:$K$500,'CMS Downtime Detail'!$B$24:$B$500,$B218,'CMS Downtime Detail'!$C$24:$C$500,$C218,'CMS Downtime Detail'!$D$24:$D$500,$D218,'CMS Downtime Detail'!$E$24:$E$500,\"Nonmonitoring Equipment Malfunctions\"))","v":""},{"$f":"IF($E218=\"\",\"\",SUMIFS('CMS Downtime Detail'!$K$24:$K$500,'CMS Downtime Detail'!$B$24:$B$500,$B218,'CMS Downtime Detail'!$C$24:$C$500,$C218,'CMS Downtime Detail'!$D$24:$D$500,$D218,'CMS Downtime Detail'!$E$24:$E$500,\"Quality Assurance/Quality Control Calibrations\"))","v":""},{"$f":"IF($E218=\"\",\"\",SUMIFS('CMS Downtime Detail'!$K$24:$K$500,'CMS Downtime Detail'!$B$24:$B$500,$B218,'CMS Downtime Detail'!$C$24:$C$500,$C218,'CMS Downtime Detail'!$D$24:$D$500,$D218,'CMS Downtime Detail'!$E$24:$E$500,\"Other Known Causes\"))","v":""},{"$f":"IF($E218=\"\",\"\",SUMIFS('CMS Downtime Detail'!$K$24:$K$500,'CMS Downtime Detail'!$B$24:$B$500,$B218,'CMS Downtime Detail'!$C$24:$C$500,$C218,'CMS Downtime Detail'!$D$24:$D$500,$D218,'CMS Downtime Detail'!$E$24:$E$500,\"Other Unknown Causes\"))","v":""}]
[null,{"$f":"IF(Lists!AQ197=\"\",\"\",Lists!AQ197)","v":""},{"$f":"IF(Lists!AR197=\"\",\"\",Lists!AR197)","v":""},{"$f":"IF(Lists!AS197=\"\",\"\",Lists!AS197)","v":""},{"$f":"IF(D219=\"\",\"\",VLOOKUP(B219&C219,Lists!$BA$2:$BD$78,4,FALSE))","v":""},"","",{"$f":"IF($E219=\"\",\"\",SUMIFS('CMS Downtime Detail'!$K$24:$K$500,'CMS Downtime Detail'!$B$24:$B$500,$B219,'CMS Downtime Detail'!$C$24:$C$500,$C219,'CMS Downtime Detail'!$D$24:$D$500,$D219,'CMS Downtime Detail'!$E$24:$E$500,\"Monitoring Equipment Malfunctions\"))","v":""},{"$f":"IF($E219=\"\",\"\",SUMIFS('CMS Downtime Detail'!$K$24:$K$500,'CMS Downtime Detail'!$B$24:$B$500,$B219,'CMS Downtime Detail'!$C$24:$C$500,$C219,'CMS Downtime Detail'!$D$24:$D$500,$D219,'CMS Downtime Detail'!$E$24:$E$500,\"Nonmonitoring Equipment Malfunctions\"))","v":""},{"$f":"IF($E219=\"\",\"\",SUMIFS('CMS Downtime Detail'!$K$24:$K$500,'CMS Downtime Detail'!$B$24:$B$500,$B219,'CMS Downtime Detail'!$C$24:$C$500,$C219,'CMS Downtime Detail'!$D$24:$D$500,$D219,'CMS Downtime Detail'!$E$24:$E$500,\"Quality Assurance/Quality Control Calibrations\"))","v":""},{"$f":"IF($E219=\"\",\"\",SUMIFS('CMS Downtime Detail'!$K$24:$K$500,'CMS Downtime Detail'!$B$24:$B$500,$B219,'CMS Downtime Detail'!$C$24:$C$500,$C219,'CMS Downtime Detail'!$D$24:$D$500,$D219,'CMS Downtime Detail'!$E$24:$E$500,\"Other Known Causes\"))","v":""},{"$f":"IF($E219=\"\",\"\",SUMIFS('CMS Downtime Detail'!$K$24:$K$500,'CMS Downtime Detail'!$B$24:$B$500,$B219,'CMS Downtime Detail'!$C$24:$C$500,$C219,'CMS Downtime Detail'!$D$24:$D$500,$D219,'CMS Downtime Detail'!$E$24:$E$500,\"Other Unknown Causes\"))","v":""}]
[null,{"$f":"IF(Lists!AQ198=\"\",\"\",Lists!AQ198)","v":""},{"$f":"IF(Lists!AR198=\"\",\"\",Lists!AR198)","v":""},{"$f":"IF(Lists!AS198=\"\",\"\",Lists!AS198)","v":""},{"$f":"IF(D220=\"\",\"\",VLOOKUP(B220&C220,Lists!$BA$2:$BD$78,4,FALSE))","v":""},"","",{"$f":"IF($E220=\"\",\"\",SUMIFS('CMS Downtime Detail'!$K$24:$K$500,'CMS Downtime Detail'!$B$24:$B$500,$B220,'CMS Downtime Detail'!$C$24:$C$500,$C220,'CMS Downtime Detail'!$D$24:$D$500,$D220,'CMS Downtime Detail'!$E$24:$E$500,\"Monitoring Equipment Malfunctions\"))","v":""},{"$f":"IF($E220=\"\",\"\",SUMIFS('CMS Downtime Detail'!$K$24:$K$500,'CMS Downtime Detail'!$B$24:$B$500,$B220,'CMS Downtime Detail'!$C$24:$C$500,$C220,'CMS Downtime Detail'!$D$24:$D$500,$D220,'CMS Downtime Detail'!$E$24:$E$500,\"Nonmonitoring Equipment Malfunctions\"))","v":""},{"$f":"IF($E220=\"\",\"\",SUMIFS('CMS Downtime Detail'!$K$24:$K$500,'CMS Downtime Detail'!$B$24:$B$500,$B220,'CMS Downtime Detail'!$C$24:$C$500,$C220,'CMS Downtime Detail'!$D$24:$D$500,$D220,'CMS Downtime Detail'!$E$24:$E$500,\"Quality Assurance/Quality Control Calibrations\"))","v":""},{"$f":"IF($E220=\"\",\"\",SUMIFS('CMS Downtime Detail'!$K$24:$K$500,'CMS Downtime Detail'!$B$24:$B$500,$B220,'CMS Downtime Detail'!$C$24:$C$500,$C220,'CMS Downtime Detail'!$D$24:$D$500,$D220,'CMS Downtime Detail'!$E$24:$E$500,\"Other Known Causes\"))","v":""},{"$f":"IF($E220=\"\",\"\",SUMIFS('CMS Downtime Detail'!$K$24:$K$500,'CMS Downtime Detail'!$B$24:$B$500,$B220,'CMS Downtime Detail'!$C$24:$C$500,$C220,'CMS Downtime Detail'!$D$24:$D$500,$D220,'CMS Downtime Detail'!$E$24:$E$500,\"Other Unknown Causes\"))","v":""}]
[null,{"$f":"IF(Lists!AQ199=\"\",\"\",Lists!AQ199)","v":""},{"$f":"IF(Lists!AR199=\"\",\"\",Lists!AR199)","v":""},{"$f":"IF(Lists!AS199=\"\",\"\",Lists!AS199)","v":""},{"$f":"IF(D221=\"\",\"\",VLOOKUP(B221&C221,Lists!$BA$2:$BD$78,4,FALSE))","v":""},"","",{"$f":"IF($E221=\"\",\"\",SUMIFS('CMS Downtime Detail'!$K$24:$K$500,'CMS Downtime Detail'!$B$24:$B$500,$B221,'CMS Downtime Detail'!$C$24:$C$500,$C221,'CMS Downtime Detail'!$D$24:$D$500,$D221,'CMS Downtime Detail'!$E$24:$E$500,\"Monitoring Equipment Malfunctions\"))","v":""},{"$f":"IF($E221=\"\",\"\",SUMIFS('CMS Downtime Detail'!$K$24:$K$500,'CMS Downtime Detail'!$B$24:$B$500,$B221,'CMS Downtime Detail'!$C$24:$C$500,$C221,'CMS Downtime Detail'!$D$24:$D$500,$D221,'CMS Downtime Detail'!$E$24:$E$500,\"Nonmonitoring Equipment Malfunctions\"))","v":""},{"$f":"IF($E221=\"\",\"\",SUMIFS('CMS Downtime Detail'!$K$24:$K$500,'CMS Downtime Detail'!$B$24:$B$500,$B221,'CMS Downtime Detail'!$C$24:$C$500,$C221,'CMS Downtime Detail'!$D$24:$D$500,$D221,'CMS Downtime Detail'!$E$24:$E$500,\"Quality Assurance/Quality Control Calibrations\"))","v":""},{"$f":"IF($E221=\"\",\"\",SUMIFS('CMS Downtime Detail'!$K$24:$K$500,'CMS Downtime Detail'!$B$24:$B$500,$B221,'CMS Downtime Detail'!$C$24:$C$500,$C221,'CMS Downtime Detail'!$D$24:$D$500,$D221,'CMS Downtime Detail'!$E$24:$E$500,\"Other Known Causes\"))","v":""},{"$f":"IF($E221=\"\",\"\",SUMIFS('CMS Downtime Detail'!$K$24:$K$500,'CMS Downtime Detail'!$B$24:$B$500,$B221,'CMS Downtime Detail'!$C$24:$C$500,$C221,'CMS Downtime Detail'!$D$24:$D$500,$D221,'CMS Downtime Detail'!$E$24:$E$500,\"Other Unknown Causes\"))","v":""}]
[null,{"$f":"IF(Lists!AQ200=\"\",\"\",Lists!AQ200)","v":""},{"$f":"IF(Lists!AR200=\"\",\"\",Lists!AR200)","v":""},{"$f":"IF(Lists!AS200=\"\",\"\",Lists!AS200)","v":""},{"$f":"IF(D222=\"\",\"\",VLOOKUP(B222&C222,Lists!$BA$2:$BD$78,4,FALSE))","v":""},"","",{"$f":"IF($E222=\"\",\"\",SUMIFS('CMS Downtime Detail'!$K$24:$K$500,'CMS Downtime Detail'!$B$24:$B$500,$B222,'CMS Downtime Detail'!$C$24:$C$500,$C222,'CMS Downtime Detail'!$D$24:$D$500,$D222,'CMS Downtime Detail'!$E$24:$E$500,\"Monitoring Equipment Malfunctions\"))","v":""},{"$f":"IF($E222=\"\",\"\",SUMIFS('CMS Downtime Detail'!$K$24:$K$500,'CMS Downtime Detail'!$B$24:$B$500,$B222,'CMS Downtime Detail'!$C$24:$C$500,$C222,'CMS Downtime Detail'!$D$24:$D$500,$D222,'CMS Downtime Detail'!$E$24:$E$500,\"Nonmonitoring Equipment Malfunctions\"))","v":""},{"$f":"IF($E222=\"\",\"\",SUMIFS('CMS Downtime Detail'!$K$24:$K$500,'CMS Downtime Detail'!$B$24:$B$500,$B222,'CMS Downtime Detail'!$C$24:$C$500,$C222,'CMS Downtime Detail'!$D$24:$D$500,$D222,'CMS Downtime Detail'!$E$24:$E$500,\"Quality Assurance/Quality Control Calibrations\"))","v":""},{"$f":"IF($E222=\"\",\"\",SUMIFS('CMS Downtime Detail'!$K$24:$K$500,'CMS Downtime Detail'!$B$24:$B$500,$B222,'CMS Downtime Detail'!$C$24:$C$500,$C222,'CMS Downtime Detail'!$D$24:$D$500,$D222,'CMS Downtime Detail'!$E$24:$E$500,\"Other Known Causes\"))","v":""},{"$f":"IF($E222=\"\",\"\",SUMIFS('CMS Downtime Detail'!$K$24:$K$500,'CMS Downtime Detail'!$B$24:$B$500,$B222,'CMS Downtime Detail'!$C$24:$C$500,$C222,'CMS Downtime Detail'!$D$24:$D$500,$D222,'CMS Downtime Detail'!$E$24:$E$500,\"Other Unknown Causes\"))","v":""}]
[null,{"$f":"IF(Lists!AQ201=\"\",\"\",Lists!AQ201)","v":""},{"$f":"IF(Lists!AR201=\"\",\"\",Lists!AR201)","v":""},{"$f":"IF(Lists!AS201=\"\",\"\",Lists!AS201)","v":""},{"$f":"IF(D223=\"\",\"\",VLOOKUP(B223&C223,Lists!$BA$2:$BD$78,4,FALSE))","v":""},"","",{"$f":"IF($E223=\"\",\"\",SUMIFS('CMS Downtime Detail'!$K$24:$K$500,'CMS Downtime Detail'!$B$24:$B$500,$B223,'CMS Downtime Detail'!$C$24:$C$500,$C223,'CMS Downtime Detail'!$D$24:$D$500,$D223,'CMS Downtime Detail'!$E$24:$E$500,\"Monitoring Equipment Malfunctions\"))","v":""},{"$f":"IF($E223=\"\",\"\",SUMIFS('CMS Downtime Detail'!$K$24:$K$500,'CMS Downtime Detail'!$B$24:$B$500,$B223,'CMS Downtime Detail'!$C$24:$C$500,$C223,'CMS Downtime Detail'!$D$24:$D$500,$D223,'CMS Downtime Detail'!$E$24:$E$500,\"Nonmonitoring Equipment Malfunctions\"))","v":""},{"$f":"IF($E223=\"\",\"\",SUMIFS('CMS Downtime Detail'!$K$24:$K$500,'CMS Downtime Detail'!$B$24:$B$500,$B223,'CMS Downtime Detail'!$C$24:$C$500,$C223,'CMS Downtime Detail'!$D$24:$D$500,$D223,'CMS Downtime Detail'!$E$24:$E$500,\"Quality Assurance/Quality Control Calibrations\"))","v":""},{"$f":"IF($E223=\"\",\"\",SUMIFS('CMS Downtime Detail'!$K$24:$K$500,'CMS Downtime Detail'!$B$24:$B$500,$B223,'CMS Downtime Detail'!$C$24:$C$500,$C223,'CMS Downtime Detail'!$D$24:$D$500,$D223,'CMS Downtime Detail'!$E$24:$E$500,\"Other Known Causes\"))","v":""},{"$f":"IF($E223=\"\",\"\",SUMIFS('CMS Downtime Detail'!$K$24:$K$500,'CMS Downtime Detail'!$B$24:$B$500,$B223,'CMS Downtime Detail'!$C$24:$C$500,$C223,'CMS Downtime Detail'!$D$24:$D$500,$D223,'CMS Downtime Detail'!$E$24:$E$500,\"Other Unknown Causes\"))","v":""}]
[null,{"$f":"IF(Lists!AQ202=\"\",\"\",Lists!AQ202)","v":""},{"$f":"IF(Lists!AR202=\"\",\"\",Lists!AR202)","v":""},{"$f":"IF(Lists!AS202=\"\",\"\",Lists!AS202)","v":""},{"$f":"IF(D224=\"\",\"\",VLOOKUP(B224&C224,Lists!$BA$2:$BD$78,4,FALSE))","v":""},"","",{"$f":"IF($E224=\"\",\"\",SUMIFS('CMS Downtime Detail'!$K$24:$K$500,'CMS Downtime Detail'!$B$24:$B$500,$B224,'CMS Downtime Detail'!$C$24:$C$500,$C224,'CMS Downtime Detail'!$D$24:$D$500,$D224,'CMS Downtime Detail'!$E$24:$E$500,\"Monitoring Equipment Malfunctions\"))","v":""},{"$f":"IF($E224=\"\",\"\",SUMIFS('CMS Downtime Detail'!$K$24:$K$500,'CMS Downtime Detail'!$B$24:$B$500,$B224,'CMS Downtime Detail'!$C$24:$C$500,$C224,'CMS Downtime Detail'!$D$24:$D$500,$D224,'CMS Downtime Detail'!$E$24:$E$500,\"Nonmonitoring Equipment Malfunctions\"))","v":""},{"$f":"IF($E224=\"\",\"\",SUMIFS('CMS Downtime Detail'!$K$24:$K$500,'CMS Downtime Detail'!$B$24:$B$500,$B224,'CMS Downtime Detail'!$C$24:$C$500,$C224,'CMS Downtime Detail'!$D$24:$D$500,$D224,'CMS Downtime Detail'!$E$24:$E$500,\"Quality Assurance/Quality Control Calibrations\"))","v":""},{"$f":"IF($E224=\"\",\"\",SUMIFS('CMS Downtime Detail'!$K$24:$K$500,'CMS Downtime Detail'!$B$24:$B$500,$B224,'CMS Downtime Detail'!$C$24:$C$500,$C224,'CMS Downtime Detail'!$D$24:$D$500,$D224,'CMS Downtime Detail'!$E$24:$E$500,\"Other Known Causes\"))","v":""},{"$f":"IF($E224=\"\",\"\",SUMIFS('CMS Downtime Detail'!$K$24:$K$500,'CMS Downtime Detail'!$B$24:$B$500,$B224,'CMS Downtime Detail'!$C$24:$C$500,$C224,'CMS Downtime Detail'!$D$24:$D$500,$D224,'CMS Downtime Detail'!$E$24:$E$500,\"Other Unknown Causes\"))","v":""}]
[null,{"$f":"IF(Lists!AQ203=\"\",\"\",Lists!AQ203)","v":""},{"$f":"IF(Lists!AR203=\"\",\"\",Lists!AR203)","v":""},{"$f":"IF(Lists!AS203=\"\",\"\",Lists!AS203)","v":""},{"$f":"IF(D225=\"\",\"\",VLOOKUP(B225&C225,Lists!$BA$2:$BD$78,4,FALSE))","v":""},"","",{"$f":"IF($E225=\"\",\"\",SUMIFS('CMS Downtime Detail'!$K$24:$K$500,'CMS Downtime Detail'!$B$24:$B$500,$B225,'CMS Downtime Detail'!$C$24:$C$500,$C225,'CMS Downtime Detail'!$D$24:$D$500,$D225,'CMS Downtime Detail'!$E$24:$E$500,\"Monitoring Equipment Malfunctions\"))","v":""},{"$f":"IF($E225=\"\",\"\",SUMIFS('CMS Downtime Detail'!$K$24:$K$500,'CMS Downtime Detail'!$B$24:$B$500,$B225,'CMS Downtime Detail'!$C$24:$C$500,$C225,'CMS Downtime Detail'!$D$24:$D$500,$D225,'CMS Downtime Detail'!$E$24:$E$500,\"Nonmonitoring Equipment Malfunctions\"))","v":""},{"$f":"IF($E225=\"\",\"\",SUMIFS('CMS Downtime Detail'!$K$24:$K$500,'CMS Downtime Detail'!$B$24:$B$500,$B225,'CMS Downtime Detail'!$C$24:$C$500,$C225,'CMS Downtime Detail'!$D$24:$D$500,$D225,'CMS Downtime Detail'!$E$24:$E$500,\"Quality Assurance/Quality Control Calibrations\"))","v":""},{"$f":"IF($E225=\"\",\"\",SUMIFS('CMS Downtime Detail'!$K$24:$K$500,'CMS Downtime Detail'!$B$24:$B$500,$B225,'CMS Downtime Detail'!$C$24:$C$500,$C225,'CMS Downtime Detail'!$D$24:$D$500,$D225,'CMS Downtime Detail'!$E$24:$E$500,\"Other Known Causes\"))","v":""},{"$f":"IF($E225=\"\",\"\",SUMIFS('CMS Downtime Detail'!$K$24:$K$500,'CMS Downtime Detail'!$B$24:$B$500,$B225,'CMS Downtime Detail'!$C$24:$C$500,$C225,'CMS Downtime Detail'!$D$24:$D$500,$D225,'CMS Downtime Detail'!$E$24:$E$500,\"Other Unknown Causes\"))","v":""}]
[null,{"$f":"IF(Lists!AQ204=\"\",\"\",Lists!AQ204)","v":""},{"$f":"IF(Lists!AR204=\"\",\"\",Lists!AR204)","v":""},{"$f":"IF(Lists!AS204=\"\",\"\",Lists!AS204)","v":""},{"$f":"IF(D226=\"\",\"\",VLOOKUP(B226&C226,Lists!$BA$2:$BD$78,4,FALSE))","v":""},"","",{"$f":"IF($E226=\"\",\"\",SUMIFS('CMS Downtime Detail'!$K$24:$K$500,'CMS Downtime Detail'!$B$24:$B$500,$B226,'CMS Downtime Detail'!$C$24:$C$500,$C226,'CMS Downtime Detail'!$D$24:$D$500,$D226,'CMS Downtime Detail'!$E$24:$E$500,\"Monitoring Equipment Malfunctions\"))","v":""},{"$f":"IF($E226=\"\",\"\",SUMIFS('CMS Downtime Detail'!$K$24:$K$500,'CMS Downtime Detail'!$B$24:$B$500,$B226,'CMS Downtime Detail'!$C$24:$C$500,$C226,'CMS Downtime Detail'!$D$24:$D$500,$D226,'CMS Downtime Detail'!$E$24:$E$500,\"Nonmonitoring Equipment Malfunctions\"))","v":""},{"$f":"IF($E226=\"\",\"\",SUMIFS('CMS Downtime Detail'!$K$24:$K$500,'CMS Downtime Detail'!$B$24:$B$500,$B226,'CMS Downtime Detail'!$C$24:$C$500,$C226,'CMS Downtime Detail'!$D$24:$D$500,$D226,'CMS Downtime Detail'!$E$24:$E$500,\"Quality Assurance/Quality Control Calibrations\"))","v":""},{"$f":"IF($E226=\"\",\"\",SUMIFS('CMS Downtime Detail'!$K$24:$K$500,'CMS Downtime Detail'!$B$24:$B$500,$B226,'CMS Downtime Detail'!$C$24:$C$500,$C226,'CMS Downtime Detail'!$D$24:$D$500,$D226,'CMS Downtime Detail'!$E$24:$E$500,\"Other Known Causes\"))","v":""},{"$f":"IF($E226=\"\",\"\",SUMIFS('CMS Downtime Detail'!$K$24:$K$500,'CMS Downtime Detail'!$B$24:$B$500,$B226,'CMS Downtime Detail'!$C$24:$C$500,$C226,'CMS Downtime Detail'!$D$24:$D$500,$D226,'CMS Downtime Detail'!$E$24:$E$500,\"Other Unknown Causes\"))","v":""}]
[null,{"$f":"IF(Lists!AQ205=\"\",\"\",Lists!AQ205)","v":""},{"$f":"IF(Lists!AR205=\"\",\"\",Lists!AR205)","v":""},{"$f":"IF(Lists!AS205=\"\",\"\",Lists!AS205)","v":""},{"$f":"IF(D227=\"\",\"\",VLOOKUP(B227&C227,Lists!$BA$2:$BD$78,4,FALSE))","v":""},"","",{"$f":"IF($E227=\"\",\"\",SUMIFS('CMS Downtime Detail'!$K$24:$K$500,'CMS Downtime Detail'!$B$24:$B$500,$B227,'CMS Downtime Detail'!$C$24:$C$500,$C227,'CMS Downtime Detail'!$D$24:$D$500,$D227,'CMS Downtime Detail'!$E$24:$E$500,\"Monitoring Equipment Malfunctions\"))","v":""},{"$f":"IF($E227=\"\",\"\",SUMIFS('CMS Downtime Detail'!$K$24:$K$500,'CMS Downtime Detail'!$B$24:$B$500,$B227,'CMS Downtime Detail'!$C$24:$C$500,$C227,'CMS Downtime Detail'!$D$24:$D$500,$D227,'CMS Downtime Detail'!$E$24:$E$500,\"Nonmonitoring Equipment Malfunctions\"))","v":""},{"$f":"IF($E227=\"\",\"\",SUMIFS('CMS Downtime Detail'!$K$24:$K$500,'CMS Downtime Detail'!$B$24:$B$500,$B227,'CMS Downtime Detail'!$C$24:$C$500,$C227,'CMS Downtime Detail'!$D$24:$D$500,$D227,'CMS Downtime Detail'!$E$24:$E$500,\"Quality Assurance/Quality Control Calibrations\"))","v":""},{"$f":"IF($E227=\"\",\"\",SUMIFS('CMS Downtime Detail'!$K$24:$K$500,'CMS Downtime Detail'!$B$24:$B$500,$B227,'CMS Downtime Detail'!$C$24:$C$500,$C227,'CMS Downtime Detail'!$D$24:$D$500,$D227,'CMS Downtime Detail'!$E$24:$E$500,\"Other Known Causes\"))","v":""},{"$f":"IF($E227=\"\",\"\",SUMIFS('CMS Downtime Detail'!$K$24:$K$500,'CMS Downtime Detail'!$B$24:$B$500,$B227,'CMS Downtime Detail'!$C$24:$C$500,$C227,'CMS Downtime Detail'!$D$24:$D$500,$D227,'CMS Downtime Detail'!$E$24:$E$500,\"Other Unknown Causes\"))","v":""}]
[null,{"$f":"IF(Lists!AQ206=\"\",\"\",Lists!AQ206)","v":""},{"$f":"IF(Lists!AR206=\"\",\"\",Lists!AR206)","v":""},{"$f":"IF(Lists!AS206=\"\",\"\",Lists!AS206)","v":""},{"$f":"IF(D228=\"\",\"\",VLOOKUP(B228&C228,Lists!$BA$2:$BD$78,4,FALSE))","v":""},"","",{"$f":"IF($E228=\"\",\"\",SUMIFS('CMS Downtime Detail'!$K$24:$K$500,'CMS Downtime Detail'!$B$24:$B$500,$B228,'CMS Downtime Detail'!$C$24:$C$500,$C228,'CMS Downtime Detail'!$D$24:$D$500,$D228,'CMS Downtime Detail'!$E$24:$E$500,\"Monitoring Equipment Malfunctions\"))","v":""},{"$f":"IF($E228=\"\",\"\",SUMIFS('CMS Downtime Detail'!$K$24:$K$500,'CMS Downtime Detail'!$B$24:$B$500,$B228,'CMS Downtime Detail'!$C$24:$C$500,$C228,'CMS Downtime Detail'!$D$24:$D$500,$D228,'CMS Downtime Detail'!$E$24:$E$500,\"Nonmonitoring Equipment Malfunctions\"))","v":""},{"$f":"IF($E228=\"\",\"\",SUMIFS('CMS Downtime Detail'!$K$24:$K$500,'CMS Downtime Detail'!$B$24:$B$500,$B228,'CMS Downtime Detail'!$C$24:$C$500,$C228,'CMS Downtime Detail'!$D$24:$D$500,$D228,'CMS Downtime Detail'!$E$24:$E$500,\"Quality Assurance/Quality Control Calibrations\"))","v":""},{"$f":"IF($E228=\"\",\"\",SUMIFS('CMS Downtime Detail'!$K$24:$K$500,'CMS Downtime Detail'!$B$24:$B$500,$B228,'CMS Downtime Detail'!$C$24:$C$500,$C228,'CMS Downtime Detail'!$D$24:$D$500,$D228,'CMS Downtime Detail'!$E$24:$E$500,\"Other Known Causes\"))","v":""},{"$f":"IF($E228=\"\",\"\",SUMIFS('CMS Downtime Detail'!$K$24:$K$500,'CMS Downtime Detail'!$B$24:$B$500,$B228,'CMS Downtime Detail'!$C$24:$C$500,$C228,'CMS Downtime Detail'!$D$24:$D$500,$D228,'CMS Downtime Detail'!$E$24:$E$500,\"Other Unknown Causes\"))","v":""}]
[null,{"$f":"IF(Lists!AQ207=\"\",\"\",Lists!AQ207)","v":""},{"$f":"IF(Lists!AR207=\"\",\"\",Lists!AR207)","v":""},{"$f":"IF(Lists!AS207=\"\",\"\",Lists!AS207)","v":""},{"$f":"IF(D229=\"\",\"\",VLOOKUP(B229&C229,Lists!$BA$2:$BD$78,4,FALSE))","v":""},"","",{"$f":"IF($E229=\"\",\"\",SUMIFS('CMS Downtime Detail'!$K$24:$K$500,'CMS Downtime Detail'!$B$24:$B$500,$B229,'CMS Downtime Detail'!$C$24:$C$500,$C229,'CMS Downtime Detail'!$D$24:$D$500,$D229,'CMS Downtime Detail'!$E$24:$E$500,\"Monitoring Equipment Malfunctions\"))","v":""},{"$f":"IF($E229=\"\",\"\",SUMIFS('CMS Downtime Detail'!$K$24:$K$500,'CMS Downtime Detail'!$B$24:$B$500,$B229,'CMS Downtime Detail'!$C$24:$C$500,$C229,'CMS Downtime Detail'!$D$24:$D$500,$D229,'CMS Downtime Detail'!$E$24:$E$500,\"Nonmonitoring Equipment Malfunctions\"))","v":""},{"$f":"IF($E229=\"\",\"\",SUMIFS('CMS Downtime Detail'!$K$24:$K$500,'CMS Downtime Detail'!$B$24:$B$500,$B229,'CMS Downtime Detail'!$C$24:$C$500,$C229,'CMS Downtime Detail'!$D$24:$D$500,$D229,'CMS Downtime Detail'!$E$24:$E$500,\"Quality Assurance/Quality Control Calibrations\"))","v":""},{"$f":"IF($E229=\"\",\"\",SUMIFS('CMS Downtime Detail'!$K$24:$K$500,'CMS Downtime Detail'!$B$24:$B$500,$B229,'CMS Downtime Detail'!$C$24:$C$500,$C229,'CMS Downtime Detail'!$D$24:$D$500,$D229,'CMS Downtime Detail'!$E$24:$E$500,\"Other Known Causes\"))","v":""},{"$f":"IF($E229=\"\",\"\",SUMIFS('CMS Downtime Detail'!$K$24:$K$500,'CMS Downtime Detail'!$B$24:$B$500,$B229,'CMS Downtime Detail'!$C$24:$C$500,$C229,'CMS Downtime Detail'!$D$24:$D$500,$D229,'CMS Downtime Detail'!$E$24:$E$500,\"Other Unknown Causes\"))","v":""}]
[null,{"$f":"IF(Lists!AQ208=\"\",\"\",Lists!AQ208)","v":""},{"$f":"IF(Lists!AR208=\"\",\"\",Lists!AR208)","v":""},{"$f":"IF(Lists!AS208=\"\",\"\",Lists!AS208)","v":""},{"$f":"IF(D230=\"\",\"\",VLOOKUP(B230&C230,Lists!$BA$2:$BD$78,4,FALSE))","v":""},"","",{"$f":"IF($E230=\"\",\"\",SUMIFS('CMS Downtime Detail'!$K$24:$K$500,'CMS Downtime Detail'!$B$24:$B$500,$B230,'CMS Downtime Detail'!$C$24:$C$500,$C230,'CMS Downtime Detail'!$D$24:$D$500,$D230,'CMS Downtime Detail'!$E$24:$E$500,\"Monitoring Equipment Malfunctions\"))","v":""},{"$f":"IF($E230=\"\",\"\",SUMIFS('CMS Downtime Detail'!$K$24:$K$500,'CMS Downtime Detail'!$B$24:$B$500,$B230,'CMS Downtime Detail'!$C$24:$C$500,$C230,'CMS Downtime Detail'!$D$24:$D$500,$D230,'CMS Downtime Detail'!$E$24:$E$500,\"Nonmonitoring Equipment Malfunctions\"))","v":""},{"$f":"IF($E230=\"\",\"\",SUMIFS('CMS Downtime Detail'!$K$24:$K$500,'CMS Downtime Detail'!$B$24:$B$500,$B230,'CMS Downtime Detail'!$C$24:$C$500,$C230,'CMS Downtime Detail'!$D$24:$D$500,$D230,'CMS Downtime Detail'!$E$24:$E$500,\"Quality Assurance/Quality Control Calibrations\"))","v":""},{"$f":"IF($E230=\"\",\"\",SUMIFS('CMS Downtime Detail'!$K$24:$K$500,'CMS Downtime Detail'!$B$24:$B$500,$B230,'CMS Downtime Detail'!$C$24:$C$500,$C230,'CMS Downtime Detail'!$D$24:$D$500,$D230,'CMS Downtime Detail'!$E$24:$E$500,\"Other Known Causes\"))","v":""},{"$f":"IF($E230=\"\",\"\",SUMIFS('CMS Downtime Detail'!$K$24:$K$500,'CMS Downtime Detail'!$B$24:$B$500,$B230,'CMS Downtime Detail'!$C$24:$C$500,$C230,'CMS Downtime Detail'!$D$24:$D$500,$D230,'CMS Downtime Detail'!$E$24:$E$500,\"Other Unknown Causes\"))","v":""}]
[null,{"$f":"IF(Lists!AQ209=\"\",\"\",Lists!AQ209)","v":""},{"$f":"IF(Lists!AR209=\"\",\"\",Lists!AR209)","v":""},{"$f":"IF(Lists!AS209=\"\",\"\",Lists!AS209)","v":""},{"$f":"IF(D231=\"\",\"\",VLOOKUP(B231&C231,Lists!$BA$2:$BD$78,4,FALSE))","v":""},"","",{"$f":"IF($E231=\"\",\"\",SUMIFS('CMS Downtime Detail'!$K$24:$K$500,'CMS Downtime Detail'!$B$24:$B$500,$B231,'CMS Downtime Detail'!$C$24:$C$500,$C231,'CMS Downtime Detail'!$D$24:$D$500,$D231,'CMS Downtime Detail'!$E$24:$E$500,\"Monitoring Equipment Malfunctions\"))","v":""},{"$f":"IF($E231=\"\",\"\",SUMIFS('CMS Downtime Detail'!$K$24:$K$500,'CMS Downtime Detail'!$B$24:$B$500,$B231,'CMS Downtime Detail'!$C$24:$C$500,$C231,'CMS Downtime Detail'!$D$24:$D$500,$D231,'CMS Downtime Detail'!$E$24:$E$500,\"Nonmonitoring Equipment Malfunctions\"))","v":""},{"$f":"IF($E231=\"\",\"\",SUMIFS('CMS Downtime Detail'!$K$24:$K$500,'CMS Downtime Detail'!$B$24:$B$500,$B231,'CMS Downtime Detail'!$C$24:$C$500,$C231,'CMS Downtime Detail'!$D$24:$D$500,$D231,'CMS Downtime Detail'!$E$24:$E$500,\"Quality Assurance/Quality Control Calibrations\"))","v":""},{"$f":"IF($E231=\"\",\"\",SUMIFS('CMS Downtime Detail'!$K$24:$K$500,'CMS Downtime Detail'!$B$24:$B$500,$B231,'CMS Downtime Detail'!$C$24:$C$500,$C231,'CMS Downtime Detail'!$D$24:$D$500,$D231,'CMS Downtime Detail'!$E$24:$E$500,\"Other Known Causes\"))","v":""},{"$f":"IF($E231=\"\",\"\",SUMIFS('CMS Downtime Detail'!$K$24:$K$500,'CMS Downtime Detail'!$B$24:$B$500,$B231,'CMS Downtime Detail'!$C$24:$C$500,$C231,'CMS Downtime Detail'!$D$24:$D$500,$D231,'CMS Downtime Detail'!$E$24:$E$500,\"Other Unknown Causes\"))","v":""}]
[null,{"$f":"IF(Lists!AQ210=\"\",\"\",Lists!AQ210)","v":""},{"$f":"IF(Lists!AR210=\"\",\"\",Lists!AR210)","v":""},{"$f":"IF(Lists!AS210=\"\",\"\",Lists!AS210)","v":""},{"$f":"IF(D232=\"\",\"\",VLOOKUP(B232&C232,Lists!$BA$2:$BD$78,4,FALSE))","v":""},"","",{"$f":"IF($E232=\"\",\"\",SUMIFS('CMS Downtime Detail'!$K$24:$K$500,'CMS Downtime Detail'!$B$24:$B$500,$B232,'CMS Downtime Detail'!$C$24:$C$500,$C232,'CMS Downtime Detail'!$D$24:$D$500,$D232,'CMS Downtime Detail'!$E$24:$E$500,\"Monitoring Equipment Malfunctions\"))","v":""},{"$f":"IF($E232=\"\",\"\",SUMIFS('CMS Downtime Detail'!$K$24:$K$500,'CMS Downtime Detail'!$B$24:$B$500,$B232,'CMS Downtime Detail'!$C$24:$C$500,$C232,'CMS Downtime Detail'!$D$24:$D$500,$D232,'CMS Downtime Detail'!$E$24:$E$500,\"Nonmonitoring Equipment Malfunctions\"))","v":""},{"$f":"IF($E232=\"\",\"\",SUMIFS('CMS Downtime Detail'!$K$24:$K$500,'CMS Downtime Detail'!$B$24:$B$500,$B232,'CMS Downtime Detail'!$C$24:$C$500,$C232,'CMS Downtime Detail'!$D$24:$D$500,$D232,'CMS Downtime Detail'!$E$24:$E$500,\"Quality Assurance/Quality Control Calibrations\"))","v":""},{"$f":"IF($E232=\"\",\"\",SUMIFS('CMS Downtime Detail'!$K$24:$K$500,'CMS Downtime Detail'!$B$24:$B$500,$B232,'CMS Downtime Detail'!$C$24:$C$500,$C232,'CMS Downtime Detail'!$D$24:$D$500,$D232,'CMS Downtime Detail'!$E$24:$E$500,\"Other Known Causes\"))","v":""},{"$f":"IF($E232=\"\",\"\",SUMIFS('CMS Downtime Detail'!$K$24:$K$500,'CMS Downtime Detail'!$B$24:$B$500,$B232,'CMS Downtime Detail'!$C$24:$C$500,$C232,'CMS Downtime Detail'!$D$24:$D$500,$D232,'CMS Downtime Detail'!$E$24:$E$500,\"Other Unknown Causes\"))","v":""}]
[null,{"$f":"IF(Lists!AQ211=\"\",\"\",Lists!AQ211)","v":""},{"$f":"IF(Lists!AR211=\"\",\"\",Lists!AR211)","v":""},{"$f":"IF(Lists!AS211=\"\",\"\",Lists!AS211)","v":""},{"$f":"IF(D233=\"\",\"\",VLOOKUP(B233&C233,Lists!$BA$2:$BD$78,4,FALSE))","v":""},"","",{"$f":"IF($E233=\"\",\"\",SUMIFS('CMS Downtime Detail'!$K$24:$K$500,'CMS Downtime Detail'!$B$24:$B$500,$B233,'CMS Downtime Detail'!$C$24:$C$500,$C233,'CMS Downtime Detail'!$D$24:$D$500,$D233,'CMS Downtime Detail'!$E$24:$E$500,\"Monitoring Equipment Malfunctions\"))","v":""},{"$f":"IF($E233=\"\",\"\",SUMIFS('CMS Downtime Detail'!$K$24:$K$500,'CMS Downtime Detail'!$B$24:$B$500,$B233,'CMS Downtime Detail'!$C$24:$C$500,$C233,'CMS Downtime Detail'!$D$24:$D$500,$D233,'CMS Downtime Detail'!$E$24:$E$500,\"Nonmonitoring Equipment Malfunctions\"))","v":""},{"$f":"IF($E233=\"\",\"\",SUMIFS('CMS Downtime Detail'!$K$24:$K$500,'CMS Downtime Detail'!$B$24:$B$500,$B233,'CMS Downtime Detail'!$C$24:$C$500,$C233,'CMS Downtime Detail'!$D$24:$D$500,$D233,'CMS Downtime Detail'!$E$24:$E$500,\"Quality Assurance/Quality Control Calibrations\"))","v":""},{"$f":"IF($E233=\"\",\"\",SUMIFS('CMS Downtime Detail'!$K$24:$K$500,'CMS Downtime Detail'!$B$24:$B$500,$B233,'CMS Downtime Detail'!$C$24:$C$500,$C233,'CMS Downtime Detail'!$D$24:$D$500,$D233,'CMS Downtime Detail'!$E$24:$E$500,\"Other Known Causes\"))","v":""},{"$f":"IF($E233=\"\",\"\",SUMIFS('CMS Downtime Detail'!$K$24:$K$500,'CMS Downtime Detail'!$B$24:$B$500,$B233,'CMS Downtime Detail'!$C$24:$C$500,$C233,'CMS Downtime Detail'!$D$24:$D$500,$D233,'CMS Downtime Detail'!$E$24:$E$500,\"Other Unknown Causes\"))","v":""}]
[null,{"$f":"IF(Lists!AQ212=\"\",\"\",Lists!AQ212)","v":""},{"$f":"IF(Lists!AR212=\"\",\"\",Lists!AR212)","v":""},{"$f":"IF(Lists!AS212=\"\",\"\",Lists!AS212)","v":""},{"$f":"IF(D234=\"\",\"\",VLOOKUP(B234&C234,Lists!$BA$2:$BD$78,4,FALSE))","v":""},"","",{"$f":"IF($E234=\"\",\"\",SUMIFS('CMS Downtime Detail'!$K$24:$K$500,'CMS Downtime Detail'!$B$24:$B$500,$B234,'CMS Downtime Detail'!$C$24:$C$500,$C234,'CMS Downtime Detail'!$D$24:$D$500,$D234,'CMS Downtime Detail'!$E$24:$E$500,\"Monitoring Equipment Malfunctions\"))","v":""},{"$f":"IF($E234=\"\",\"\",SUMIFS('CMS Downtime Detail'!$K$24:$K$500,'CMS Downtime Detail'!$B$24:$B$500,$B234,'CMS Downtime Detail'!$C$24:$C$500,$C234,'CMS Downtime Detail'!$D$24:$D$500,$D234,'CMS Downtime Detail'!$E$24:$E$500,\"Nonmonitoring Equipment Malfunctions\"))","v":""},{"$f":"IF($E234=\"\",\"\",SUMIFS('CMS Downtime Detail'!$K$24:$K$500,'CMS Downtime Detail'!$B$24:$B$500,$B234,'CMS Downtime Detail'!$C$24:$C$500,$C234,'CMS Downtime Detail'!$D$24:$D$500,$D234,'CMS Downtime Detail'!$E$24:$E$500,\"Quality Assurance/Quality Control Calibrations\"))","v":""},{"$f":"IF($E234=\"\",\"\",SUMIFS('CMS Downtime Detail'!$K$24:$K$500,'CMS Downtime Detail'!$B$24:$B$500,$B234,'CMS Downtime Detail'!$C$24:$C$500,$C234,'CMS Downtime Detail'!$D$24:$D$500,$D234,'CMS Downtime Detail'!$E$24:$E$500,\"Other Known Causes\"))","v":""},{"$f":"IF($E234=\"\",\"\",SUMIFS('CMS Downtime Detail'!$K$24:$K$500,'CMS Downtime Detail'!$B$24:$B$500,$B234,'CMS Downtime Detail'!$C$24:$C$500,$C234,'CMS Downtime Detail'!$D$24:$D$500,$D234,'CMS Downtime Detail'!$E$24:$E$500,\"Other Unknown Causes\"))","v":""}]
[null,{"$f":"IF(Lists!AQ213=\"\",\"\",Lists!AQ213)","v":""},{"$f":"IF(Lists!AR213=\"\",\"\",Lists!AR213)","v":""},{"$f":"IF(Lists!AS213=\"\",\"\",Lists!AS213)","v":""},{"$f":"IF(D235=\"\",\"\",VLOOKUP(B235&C235,Lists!$BA$2:$BD$78,4,FALSE))","v":""},"","",{"$f":"IF($E235=\"\",\"\",SUMIFS('CMS Downtime Detail'!$K$24:$K$500,'CMS Downtime Detail'!$B$24:$B$500,$B235,'CMS Downtime Detail'!$C$24:$C$500,$C235,'CMS Downtime Detail'!$D$24:$D$500,$D235,'CMS Downtime Detail'!$E$24:$E$500,\"Monitoring Equipment Malfunctions\"))","v":""},{"$f":"IF($E235=\"\",\"\",SUMIFS('CMS Downtime Detail'!$K$24:$K$500,'CMS Downtime Detail'!$B$24:$B$500,$B235,'CMS Downtime Detail'!$C$24:$C$500,$C235,'CMS Downtime Detail'!$D$24:$D$500,$D235,'CMS Downtime Detail'!$E$24:$E$500,\"Nonmonitoring Equipment Malfunctions\"))","v":""},{"$f":"IF($E235=\"\",\"\",SUMIFS('CMS Downtime Detail'!$K$24:$K$500,'CMS Downtime Detail'!$B$24:$B$500,$B235,'CMS Downtime Detail'!$C$24:$C$500,$C235,'CMS Downtime Detail'!$D$24:$D$500,$D235,'CMS Downtime Detail'!$E$24:$E$500,\"Quality Assurance/Quality Control Calibrations\"))","v":""},{"$f":"IF($E235=\"\",\"\",SUMIFS('CMS Downtime Detail'!$K$24:$K$500,'CMS Downtime Detail'!$B$24:$B$500,$B235,'CMS Downtime Detail'!$C$24:$C$500,$C235,'CMS Downtime Detail'!$D$24:$D$500,$D235,'CMS Downtime Detail'!$E$24:$E$500,\"Other Known Causes\"))","v":""},{"$f":"IF($E235=\"\",\"\",SUMIFS('CMS Downtime Detail'!$K$24:$K$500,'CMS Downtime Detail'!$B$24:$B$500,$B235,'CMS Downtime Detail'!$C$24:$C$500,$C235,'CMS Downtime Detail'!$D$24:$D$500,$D235,'CMS Downtime Detail'!$E$24:$E$500,\"Other Unknown Causes\"))","v":""}]
[null,{"$f":"IF(Lists!AQ214=\"\",\"\",Lists!AQ214)","v":""},{"$f":"IF(Lists!AR214=\"\",\"\",Lists!AR214)","v":""},{"$f":"IF(Lists!AS214=\"\",\"\",Lists!AS214)","v":""},{"$f":"IF(D236=\"\",\"\",VLOOKUP(B236&C236,Lists!$BA$2:$BD$78,4,FALSE))","v":""},"","",{"$f":"IF($E236=\"\",\"\",SUMIFS('CMS Downtime Detail'!$K$24:$K$500,'CMS Downtime Detail'!$B$24:$B$500,$B236,'CMS Downtime Detail'!$C$24:$C$500,$C236,'CMS Downtime Detail'!$D$24:$D$500,$D236,'CMS Downtime Detail'!$E$24:$E$500,\"Monitoring Equipment Malfunctions\"))","v":""},{"$f":"IF($E236=\"\",\"\",SUMIFS('CMS Downtime Detail'!$K$24:$K$500,'CMS Downtime Detail'!$B$24:$B$500,$B236,'CMS Downtime Detail'!$C$24:$C$500,$C236,'CMS Downtime Detail'!$D$24:$D$500,$D236,'CMS Downtime Detail'!$E$24:$E$500,\"Nonmonitoring Equipment Malfunctions\"))","v":""},{"$f":"IF($E236=\"\",\"\",SUMIFS('CMS Downtime Detail'!$K$24:$K$500,'CMS Downtime Detail'!$B$24:$B$500,$B236,'CMS Downtime Detail'!$C$24:$C$500,$C236,'CMS Downtime Detail'!$D$24:$D$500,$D236,'CMS Downtime Detail'!$E$24:$E$500,\"Quality Assurance/Quality Control Calibrations\"))","v":""},{"$f":"IF($E236=\"\",\"\",SUMIFS('CMS Downtime Detail'!$K$24:$K$500,'CMS Downtime Detail'!$B$24:$B$500,$B236,'CMS Downtime Detail'!$C$24:$C$500,$C236,'CMS Downtime Detail'!$D$24:$D$500,$D236,'CMS Downtime Detail'!$E$24:$E$500,\"Other Known Causes\"))","v":""},{"$f":"IF($E236=\"\",\"\",SUMIFS('CMS Downtime Detail'!$K$24:$K$500,'CMS Downtime Detail'!$B$24:$B$500,$B236,'CMS Downtime Detail'!$C$24:$C$500,$C236,'CMS Downtime Detail'!$D$24:$D$500,$D236,'CMS Downtime Detail'!$E$24:$E$500,\"Other Unknown Causes\"))","v":""}]
[null,{"$f":"IF(Lists!AQ215=\"\",\"\",Lists!AQ215)","v":""},{"$f":"IF(Lists!AR215=\"\",\"\",Lists!AR215)","v":""},{"$f":"IF(Lists!AS215=\"\",\"\",Lists!AS215)","v":""},{"$f":"IF(D237=\"\",\"\",VLOOKUP(B237&C237,Lists!$BA$2:$BD$78,4,FALSE))","v":""},"","",{"$f":"IF($E237=\"\",\"\",SUMIFS('CMS Downtime Detail'!$K$24:$K$500,'CMS Downtime Detail'!$B$24:$B$500,$B237,'CMS Downtime Detail'!$C$24:$C$500,$C237,'CMS Downtime Detail'!$D$24:$D$500,$D237,'CMS Downtime Detail'!$E$24:$E$500,\"Monitoring Equipment Malfunctions\"))","v":""},{"$f":"IF($E237=\"\",\"\",SUMIFS('CMS Downtime Detail'!$K$24:$K$500,'CMS Downtime Detail'!$B$24:$B$500,$B237,'CMS Downtime Detail'!$C$24:$C$500,$C237,'CMS Downtime Detail'!$D$24:$D$500,$D237,'CMS Downtime Detail'!$E$24:$E$500,\"Nonmonitoring Equipment Malfunctions\"))","v":""},{"$f":"IF($E237=\"\",\"\",SUMIFS('CMS Downtime Detail'!$K$24:$K$500,'CMS Downtime Detail'!$B$24:$B$500,$B237,'CMS Downtime Detail'!$C$24:$C$500,$C237,'CMS Downtime Detail'!$D$24:$D$500,$D237,'CMS Downtime Detail'!$E$24:$E$500,\"Quality Assurance/Quality Control Calibrations\"))","v":""},{"$f":"IF($E237=\"\",\"\",SUMIFS('CMS Downtime Detail'!$K$24:$K$500,'CMS Downtime Detail'!$B$24:$B$500,$B237,'CMS Downtime Detail'!$C$24:$C$500,$C237,'CMS Downtime Detail'!$D$24:$D$500,$D237,'CMS Downtime Detail'!$E$24:$E$500,\"Other Known Causes\"))","v":""},{"$f":"IF($E237=\"\",\"\",SUMIFS('CMS Downtime Detail'!$K$24:$K$500,'CMS Downtime Detail'!$B$24:$B$500,$B237,'CMS Downtime Detail'!$C$24:$C$500,$C237,'CMS Downtime Detail'!$D$24:$D$500,$D237,'CMS Downtime Detail'!$E$24:$E$500,\"Other Unknown Causes\"))","v":""}]
[null,{"$f":"IF(Lists!AQ216=\"\",\"\",Lists!AQ216)","v":""},{"$f":"IF(Lists!AR216=\"\",\"\",Lists!AR216)","v":""},{"$f":"IF(Lists!AS216=\"\",\"\",Lists!AS216)","v":""},{"$f":"IF(D238=\"\",\"\",VLOOKUP(B238&C238,Lists!$BA$2:$BD$78,4,FALSE))","v":""},"","",{"$f":"IF($E238=\"\",\"\",SUMIFS('CMS Downtime Detail'!$K$24:$K$500,'CMS Downtime Detail'!$B$24:$B$500,$B238,'CMS Downtime Detail'!$C$24:$C$500,$C238,'CMS Downtime Detail'!$D$24:$D$500,$D238,'CMS Downtime Detail'!$E$24:$E$500,\"Monitoring Equipment Malfunctions\"))","v":""},{"$f":"IF($E238=\"\",\"\",SUMIFS('CMS Downtime Detail'!$K$24:$K$500,'CMS Downtime Detail'!$B$24:$B$500,$B238,'CMS Downtime Detail'!$C$24:$C$500,$C238,'CMS Downtime Detail'!$D$24:$D$500,$D238,'CMS Downtime Detail'!$E$24:$E$500,\"Nonmonitoring Equipment Malfunctions\"))","v":""},{"$f":"IF($E238=\"\",\"\",SUMIFS('CMS Downtime Detail'!$K$24:$K$500,'CMS Downtime Detail'!$B$24:$B$500,$B238,'CMS Downtime Detail'!$C$24:$C$500,$C238,'CMS Downtime Detail'!$D$24:$D$500,$D238,'CMS Downtime Detail'!$E$24:$E$500,\"Quality Assurance/Quality Control Calibrations\"))","v":""},{"$f":"IF($E238=\"\",\"\",SUMIFS('CMS Downtime Detail'!$K$24:$K$500,'CMS Downtime Detail'!$B$24:$B$500,$B238,'CMS Downtime Detail'!$C$24:$C$500,$C238,'CMS Downtime Detail'!$D$24:$D$500,$D238,'CMS Downtime Detail'!$E$24:$E$500,\"Other Known Causes\"))","v":""},{"$f":"IF($E238=\"\",\"\",SUMIFS('CMS Downtime Detail'!$K$24:$K$500,'CMS Downtime Detail'!$B$24:$B$500,$B238,'CMS Downtime Detail'!$C$24:$C$500,$C238,'CMS Downtime Detail'!$D$24:$D$500,$D238,'CMS Downtime Detail'!$E$24:$E$500,\"Other Unknown Causes\"))","v":""}]
[null,{"$f":"IF(Lists!AQ217=\"\",\"\",Lists!AQ217)","v":""},{"$f":"IF(Lists!AR217=\"\",\"\",Lists!AR217)","v":""},{"$f":"IF(Lists!AS217=\"\",\"\",Lists!AS217)","v":""},{"$f":"IF(D239=\"\",\"\",VLOOKUP(B239&C239,Lists!$BA$2:$BD$78,4,FALSE))","v":""},"","",{"$f":"IF($E239=\"\",\"\",SUMIFS('CMS Downtime Detail'!$K$24:$K$500,'CMS Downtime Detail'!$B$24:$B$500,$B239,'CMS Downtime Detail'!$C$24:$C$500,$C239,'CMS Downtime Detail'!$D$24:$D$500,$D239,'CMS Downtime Detail'!$E$24:$E$500,\"Monitoring Equipment Malfunctions\"))","v":""},{"$f":"IF($E239=\"\",\"\",SUMIFS('CMS Downtime Detail'!$K$24:$K$500,'CMS Downtime Detail'!$B$24:$B$500,$B239,'CMS Downtime Detail'!$C$24:$C$500,$C239,'CMS Downtime Detail'!$D$24:$D$500,$D239,'CMS Downtime Detail'!$E$24:$E$500,\"Nonmonitoring Equipment Malfunctions\"))","v":""},{"$f":"IF($E239=\"\",\"\",SUMIFS('CMS Downtime Detail'!$K$24:$K$500,'CMS Downtime Detail'!$B$24:$B$500,$B239,'CMS Downtime Detail'!$C$24:$C$500,$C239,'CMS Downtime Detail'!$D$24:$D$500,$D239,'CMS Downtime Detail'!$E$24:$E$500,\"Quality Assurance/Quality Control Calibrations\"))","v":""},{"$f":"IF($E239=\"\",\"\",SUMIFS('CMS Downtime Detail'!$K$24:$K$500,'CMS Downtime Detail'!$B$24:$B$500,$B239,'CMS Downtime Detail'!$C$24:$C$500,$C239,'CMS Downtime Detail'!$D$24:$D$500,$D239,'CMS Downtime Detail'!$E$24:$E$500,\"Other Known Causes\"))","v":""},{"$f":"IF($E239=\"\",\"\",SUMIFS('CMS Downtime Detail'!$K$24:$K$500,'CMS Downtime Detail'!$B$24:$B$500,$B239,'CMS Downtime Detail'!$C$24:$C$500,$C239,'CMS Downtime Detail'!$D$24:$D$500,$D239,'CMS Downtime Detail'!$E$24:$E$500,\"Other Unknown Causes\"))","v":""}]
[null,{"$f":"IF(Lists!AQ218=\"\",\"\",Lists!AQ218)","v":""},{"$f":"IF(Lists!AR218=\"\",\"\",Lists!AR218)","v":""},{"$f":"IF(Lists!AS218=\"\",\"\",Lists!AS218)","v":""},{"$f":"IF(D240=\"\",\"\",VLOOKUP(B240&C240,Lists!$BA$2:$BD$78,4,FALSE))","v":""},"","",{"$f":"IF($E240=\"\",\"\",SUMIFS('CMS Downtime Detail'!$K$24:$K$500,'CMS Downtime Detail'!$B$24:$B$500,$B240,'CMS Downtime Detail'!$C$24:$C$500,$C240,'CMS Downtime Detail'!$D$24:$D$500,$D240,'CMS Downtime Detail'!$E$24:$E$500,\"Monitoring Equipment Malfunctions\"))","v":""},{"$f":"IF($E240=\"\",\"\",SUMIFS('CMS Downtime Detail'!$K$24:$K$500,'CMS Downtime Detail'!$B$24:$B$500,$B240,'CMS Downtime Detail'!$C$24:$C$500,$C240,'CMS Downtime Detail'!$D$24:$D$500,$D240,'CMS Downtime Detail'!$E$24:$E$500,\"Nonmonitoring Equipment Malfunctions\"))","v":""},{"$f":"IF($E240=\"\",\"\",SUMIFS('CMS Downtime Detail'!$K$24:$K$500,'CMS Downtime Detail'!$B$24:$B$500,$B240,'CMS Downtime Detail'!$C$24:$C$500,$C240,'CMS Downtime Detail'!$D$24:$D$500,$D240,'CMS Downtime Detail'!$E$24:$E$500,\"Quality Assurance/Quality Control Calibrations\"))","v":""},{"$f":"IF($E240=\"\",\"\",SUMIFS('CMS Downtime Detail'!$K$24:$K$500,'CMS Downtime Detail'!$B$24:$B$500,$B240,'CMS Downtime Detail'!$C$24:$C$500,$C240,'CMS Downtime Detail'!$D$24:$D$500,$D240,'CMS Downtime Detail'!$E$24:$E$500,\"Other Known Causes\"))","v":""},{"$f":"IF($E240=\"\",\"\",SUMIFS('CMS Downtime Detail'!$K$24:$K$500,'CMS Downtime Detail'!$B$24:$B$500,$B240,'CMS Downtime Detail'!$C$24:$C$500,$C240,'CMS Downtime Detail'!$D$24:$D$500,$D240,'CMS Downtime Detail'!$E$24:$E$500,\"Other Unknown Causes\"))","v":""}]
[null,{"$f":"IF(Lists!AQ219=\"\",\"\",Lists!AQ219)","v":""},{"$f":"IF(Lists!AR219=\"\",\"\",Lists!AR219)","v":""},{"$f":"IF(Lists!AS219=\"\",\"\",Lists!AS219)","v":""},{"$f":"IF(D241=\"\",\"\",VLOOKUP(B241&C241,Lists!$BA$2:$BD$78,4,FALSE))","v":""},"","",{"$f":"IF($E241=\"\",\"\",SUMIFS('CMS Downtime Detail'!$K$24:$K$500,'CMS Downtime Detail'!$B$24:$B$500,$B241,'CMS Downtime Detail'!$C$24:$C$500,$C241,'CMS Downtime Detail'!$D$24:$D$500,$D241,'CMS Downtime Detail'!$E$24:$E$500,\"Monitoring Equipment Malfunctions\"))","v":""},{"$f":"IF($E241=\"\",\"\",SUMIFS('CMS Downtime Detail'!$K$24:$K$500,'CMS Downtime Detail'!$B$24:$B$500,$B241,'CMS Downtime Detail'!$C$24:$C$500,$C241,'CMS Downtime Detail'!$D$24:$D$500,$D241,'CMS Downtime Detail'!$E$24:$E$500,\"Nonmonitoring Equipment Malfunctions\"))","v":""},{"$f":"IF($E241=\"\",\"\",SUMIFS('CMS Downtime Detail'!$K$24:$K$500,'CMS Downtime Detail'!$B$24:$B$500,$B241,'CMS Downtime Detail'!$C$24:$C$500,$C241,'CMS Downtime Detail'!$D$24:$D$500,$D241,'CMS Downtime Detail'!$E$24:$E$500,\"Quality Assurance/Quality Control Calibrations\"))","v":""},{"$f":"IF($E241=\"\",\"\",SUMIFS('CMS Downtime Detail'!$K$24:$K$500,'CMS Downtime Detail'!$B$24:$B$500,$B241,'CMS Downtime Detail'!$C$24:$C$500,$C241,'CMS Downtime Detail'!$D$24:$D$500,$D241,'CMS Downtime Detail'!$E$24:$E$500,\"Other Known Causes\"))","v":""},{"$f":"IF($E241=\"\",\"\",SUMIFS('CMS Downtime Detail'!$K$24:$K$500,'CMS Downtime Detail'!$B$24:$B$500,$B241,'CMS Downtime Detail'!$C$24:$C$500,$C241,'CMS Downtime Detail'!$D$24:$D$500,$D241,'CMS Downtime Detail'!$E$24:$E$500,\"Other Unknown Causes\"))","v":""}]
[null,{"$f":"IF(Lists!AQ220=\"\",\"\",Lists!AQ220)","v":""},{"$f":"IF(Lists!AR220=\"\",\"\",Lists!AR220)","v":""},{"$f":"IF(Lists!AS220=\"\",\"\",Lists!AS220)","v":""},{"$f":"IF(D242=\"\",\"\",VLOOKUP(B242&C242,Lists!$BA$2:$BD$78,4,FALSE))","v":""},"","",{"$f":"IF($E242=\"\",\"\",SUMIFS('CMS Downtime Detail'!$K$24:$K$500,'CMS Downtime Detail'!$B$24:$B$500,$B242,'CMS Downtime Detail'!$C$24:$C$500,$C242,'CMS Downtime Detail'!$D$24:$D$500,$D242,'CMS Downtime Detail'!$E$24:$E$500,\"Monitoring Equipment Malfunctions\"))","v":""},{"$f":"IF($E242=\"\",\"\",SUMIFS('CMS Downtime Detail'!$K$24:$K$500,'CMS Downtime Detail'!$B$24:$B$500,$B242,'CMS Downtime Detail'!$C$24:$C$500,$C242,'CMS Downtime Detail'!$D$24:$D$500,$D242,'CMS Downtime Detail'!$E$24:$E$500,\"Nonmonitoring Equipment Malfunctions\"))","v":""},{"$f":"IF($E242=\"\",\"\",SUMIFS('CMS Downtime Detail'!$K$24:$K$500,'CMS Downtime Detail'!$B$24:$B$500,$B242,'CMS Downtime Detail'!$C$24:$C$500,$C242,'CMS Downtime Detail'!$D$24:$D$500,$D242,'CMS Downtime Detail'!$E$24:$E$500,\"Quality Assurance/Quality Control Calibrations\"))","v":""},{"$f":"IF($E242=\"\",\"\",SUMIFS('CMS Downtime Detail'!$K$24:$K$500,'CMS Downtime Detail'!$B$24:$B$500,$B242,'CMS Downtime Detail'!$C$24:$C$500,$C242,'CMS Downtime Detail'!$D$24:$D$500,$D242,'CMS Downtime Detail'!$E$24:$E$500,\"Other Known Causes\"))","v":""},{"$f":"IF($E242=\"\",\"\",SUMIFS('CMS Downtime Detail'!$K$24:$K$500,'CMS Downtime Detail'!$B$24:$B$500,$B242,'CMS Downtime Detail'!$C$24:$C$500,$C242,'CMS Downtime Detail'!$D$24:$D$500,$D242,'CMS Downtime Detail'!$E$24:$E$500,\"Other Unknown Causes\"))","v":""}]
[null,{"$f":"IF(Lists!AQ221=\"\",\"\",Lists!AQ221)","v":""},{"$f":"IF(Lists!AR221=\"\",\"\",Lists!AR221)","v":""},{"$f":"IF(Lists!AS221=\"\",\"\",Lists!AS221)","v":""},{"$f":"IF(D243=\"\",\"\",VLOOKUP(B243&C243,Lists!$BA$2:$BD$78,4,FALSE))","v":""},"","",{"$f":"IF($E243=\"\",\"\",SUMIFS('CMS Downtime Detail'!$K$24:$K$500,'CMS Downtime Detail'!$B$24:$B$500,$B243,'CMS Downtime Detail'!$C$24:$C$500,$C243,'CMS Downtime Detail'!$D$24:$D$500,$D243,'CMS Downtime Detail'!$E$24:$E$500,\"Monitoring Equipment Malfunctions\"))","v":""},{"$f":"IF($E243=\"\",\"\",SUMIFS('CMS Downtime Detail'!$K$24:$K$500,'CMS Downtime Detail'!$B$24:$B$500,$B243,'CMS Downtime Detail'!$C$24:$C$500,$C243,'CMS Downtime Detail'!$D$24:$D$500,$D243,'CMS Downtime Detail'!$E$24:$E$500,\"Nonmonitoring Equipment Malfunctions\"))","v":""},{"$f":"IF($E243=\"\",\"\",SUMIFS('CMS Downtime Detail'!$K$24:$K$500,'CMS Downtime Detail'!$B$24:$B$500,$B243,'CMS Downtime Detail'!$C$24:$C$500,$C243,'CMS Downtime Detail'!$D$24:$D$500,$D243,'CMS Downtime Detail'!$E$24:$E$500,\"Quality Assurance/Quality Control Calibrations\"))","v":""},{"$f":"IF($E243=\"\",\"\",SUMIFS('CMS Downtime Detail'!$K$24:$K$500,'CMS Downtime Detail'!$B$24:$B$500,$B243,'CMS Downtime Detail'!$C$24:$C$500,$C243,'CMS Downtime Detail'!$D$24:$D$500,$D243,'CMS Downtime Detail'!$E$24:$E$500,\"Other Known Causes\"))","v":""},{"$f":"IF($E243=\"\",\"\",SUMIFS('CMS Downtime Detail'!$K$24:$K$500,'CMS Downtime Detail'!$B$24:$B$500,$B243,'CMS Downtime Detail'!$C$24:$C$500,$C243,'CMS Downtime Detail'!$D$24:$D$500,$D243,'CMS Downtime Detail'!$E$24:$E$500,\"Other Unknown Causes\"))","v":""}]
[null,{"$f":"IF(Lists!AQ222=\"\",\"\",Lists!AQ222)","v":""},{"$f":"IF(Lists!AR222=\"\",\"\",Lists!AR222)","v":""},{"$f":"IF(Lists!AS222=\"\",\"\",Lists!AS222)","v":""},{"$f":"IF(D244=\"\",\"\",VLOOKUP(B244&C244,Lists!$BA$2:$BD$78,4,FALSE))","v":""},"","",{"$f":"IF($E244=\"\",\"\",SUMIFS('CMS Downtime Detail'!$K$24:$K$500,'CMS Downtime Detail'!$B$24:$B$500,$B244,'CMS Downtime Detail'!$C$24:$C$500,$C244,'CMS Downtime Detail'!$D$24:$D$500,$D244,'CMS Downtime Detail'!$E$24:$E$500,\"Monitoring Equipment Malfunctions\"))","v":""},{"$f":"IF($E244=\"\",\"\",SUMIFS('CMS Downtime Detail'!$K$24:$K$500,'CMS Downtime Detail'!$B$24:$B$500,$B244,'CMS Downtime Detail'!$C$24:$C$500,$C244,'CMS Downtime Detail'!$D$24:$D$500,$D244,'CMS Downtime Detail'!$E$24:$E$500,\"Nonmonitoring Equipment Malfunctions\"))","v":""},{"$f":"IF($E244=\"\",\"\",SUMIFS('CMS Downtime Detail'!$K$24:$K$500,'CMS Downtime Detail'!$B$24:$B$500,$B244,'CMS Downtime Detail'!$C$24:$C$500,$C244,'CMS Downtime Detail'!$D$24:$D$500,$D244,'CMS Downtime Detail'!$E$24:$E$500,\"Quality Assurance/Quality Control Calibrations\"))","v":""},{"$f":"IF($E244=\"\",\"\",SUMIFS('CMS Downtime Detail'!$K$24:$K$500,'CMS Downtime Detail'!$B$24:$B$500,$B244,'CMS Downtime Detail'!$C$24:$C$500,$C244,'CMS Downtime Detail'!$D$24:$D$500,$D244,'CMS Downtime Detail'!$E$24:$E$500,\"Other Known Causes\"))","v":""},{"$f":"IF($E244=\"\",\"\",SUMIFS('CMS Downtime Detail'!$K$24:$K$500,'CMS Downtime Detail'!$B$24:$B$500,$B244,'CMS Downtime Detail'!$C$24:$C$500,$C244,'CMS Downtime Detail'!$D$24:$D$500,$D244,'CMS Downtime Detail'!$E$24:$E$500,\"Other Unknown Causes\"))","v":""}]
[null,{"$f":"IF(Lists!AQ223=\"\",\"\",Lists!AQ223)","v":""},{"$f":"IF(Lists!AR223=\"\",\"\",Lists!AR223)","v":""},{"$f":"IF(Lists!AS223=\"\",\"\",Lists!AS223)","v":""},{"$f":"IF(D245=\"\",\"\",VLOOKUP(B245&C245,Lists!$BA$2:$BD$78,4,FALSE))","v":""},"","",{"$f":"IF($E245=\"\",\"\",SUMIFS('CMS Downtime Detail'!$K$24:$K$500,'CMS Downtime Detail'!$B$24:$B$500,$B245,'CMS Downtime Detail'!$C$24:$C$500,$C245,'CMS Downtime Detail'!$D$24:$D$500,$D245,'CMS Downtime Detail'!$E$24:$E$500,\"Monitoring Equipment Malfunctions\"))","v":""},{"$f":"IF($E245=\"\",\"\",SUMIFS('CMS Downtime Detail'!$K$24:$K$500,'CMS Downtime Detail'!$B$24:$B$500,$B245,'CMS Downtime Detail'!$C$24:$C$500,$C245,'CMS Downtime Detail'!$D$24:$D$500,$D245,'CMS Downtime Detail'!$E$24:$E$500,\"Nonmonitoring Equipment Malfunctions\"))","v":""},{"$f":"IF($E245=\"\",\"\",SUMIFS('CMS Downtime Detail'!$K$24:$K$500,'CMS Downtime Detail'!$B$24:$B$500,$B245,'CMS Downtime Detail'!$C$24:$C$500,$C245,'CMS Downtime Detail'!$D$24:$D$500,$D245,'CMS Downtime Detail'!$E$24:$E$500,\"Quality Assurance/Quality Control Calibrations\"))","v":""},{"$f":"IF($E245=\"\",\"\",SUMIFS('CMS Downtime Detail'!$K$24:$K$500,'CMS Downtime Detail'!$B$24:$B$500,$B245,'CMS Downtime Detail'!$C$24:$C$500,$C245,'CMS Downtime Detail'!$D$24:$D$500,$D245,'CMS Downtime Detail'!$E$24:$E$500,\"Other Known Causes\"))","v":""},{"$f":"IF($E245=\"\",\"\",SUMIFS('CMS Downtime Detail'!$K$24:$K$500,'CMS Downtime Detail'!$B$24:$B$500,$B245,'CMS Downtime Detail'!$C$24:$C$500,$C245,'CMS Downtime Detail'!$D$24:$D$500,$D245,'CMS Downtime Detail'!$E$24:$E$500,\"Other Unknown Causes\"))","v":""}]
[null,{"$f":"IF(Lists!AQ224=\"\",\"\",Lists!AQ224)","v":""},{"$f":"IF(Lists!AR224=\"\",\"\",Lists!AR224)","v":""},{"$f":"IF(Lists!AS224=\"\",\"\",Lists!AS224)","v":""},{"$f":"IF(D246=\"\",\"\",VLOOKUP(B246&C246,Lists!$BA$2:$BD$78,4,FALSE))","v":""},"","",{"$f":"IF($E246=\"\",\"\",SUMIFS('CMS Downtime Detail'!$K$24:$K$500,'CMS Downtime Detail'!$B$24:$B$500,$B246,'CMS Downtime Detail'!$C$24:$C$500,$C246,'CMS Downtime Detail'!$D$24:$D$500,$D246,'CMS Downtime Detail'!$E$24:$E$500,\"Monitoring Equipment Malfunctions\"))","v":""},{"$f":"IF($E246=\"\",\"\",SUMIFS('CMS Downtime Detail'!$K$24:$K$500,'CMS Downtime Detail'!$B$24:$B$500,$B246,'CMS Downtime Detail'!$C$24:$C$500,$C246,'CMS Downtime Detail'!$D$24:$D$500,$D246,'CMS Downtime Detail'!$E$24:$E$500,\"Nonmonitoring Equipment Malfunctions\"))","v":""},{"$f":"IF($E246=\"\",\"\",SUMIFS('CMS Downtime Detail'!$K$24:$K$500,'CMS Downtime Detail'!$B$24:$B$500,$B246,'CMS Downtime Detail'!$C$24:$C$500,$C246,'CMS Downtime Detail'!$D$24:$D$500,$D246,'CMS Downtime Detail'!$E$24:$E$500,\"Quality Assurance/Quality Control Calibrations\"))","v":""},{"$f":"IF($E246=\"\",\"\",SUMIFS('CMS Downtime Detail'!$K$24:$K$500,'CMS Downtime Detail'!$B$24:$B$500,$B246,'CMS Downtime Detail'!$C$24:$C$500,$C246,'CMS Downtime Detail'!$D$24:$D$500,$D246,'CMS Downtime Detail'!$E$24:$E$500,\"Other Known Causes\"))","v":""},{"$f":"IF($E246=\"\",\"\",SUMIFS('CMS Downtime Detail'!$K$24:$K$500,'CMS Downtime Detail'!$B$24:$B$500,$B246,'CMS Downtime Detail'!$C$24:$C$500,$C246,'CMS Downtime Detail'!$D$24:$D$500,$D246,'CMS Downtime Detail'!$E$24:$E$500,\"Other Unknown Causes\"))","v":""}]
[null,{"$f":"IF(Lists!AQ225=\"\",\"\",Lists!AQ225)","v":""},{"$f":"IF(Lists!AR225=\"\",\"\",Lists!AR225)","v":""},{"$f":"IF(Lists!AS225=\"\",\"\",Lists!AS225)","v":""},{"$f":"IF(D247=\"\",\"\",VLOOKUP(B247&C247,Lists!$BA$2:$BD$78,4,FALSE))","v":""},"","",{"$f":"IF($E247=\"\",\"\",SUMIFS('CMS Downtime Detail'!$K$24:$K$500,'CMS Downtime Detail'!$B$24:$B$500,$B247,'CMS Downtime Detail'!$C$24:$C$500,$C247,'CMS Downtime Detail'!$D$24:$D$500,$D247,'CMS Downtime Detail'!$E$24:$E$500,\"Monitoring Equipment Malfunctions\"))","v":""},{"$f":"IF($E247=\"\",\"\",SUMIFS('CMS Downtime Detail'!$K$24:$K$500,'CMS Downtime Detail'!$B$24:$B$500,$B247,'CMS Downtime Detail'!$C$24:$C$500,$C247,'CMS Downtime Detail'!$D$24:$D$500,$D247,'CMS Downtime Detail'!$E$24:$E$500,\"Nonmonitoring Equipment Malfunctions\"))","v":""},{"$f":"IF($E247=\"\",\"\",SUMIFS('CMS Downtime Detail'!$K$24:$K$500,'CMS Downtime Detail'!$B$24:$B$500,$B247,'CMS Downtime Detail'!$C$24:$C$500,$C247,'CMS Downtime Detail'!$D$24:$D$500,$D247,'CMS Downtime Detail'!$E$24:$E$500,\"Quality Assurance/Quality Control Calibrations\"))","v":""},{"$f":"IF($E247=\"\",\"\",SUMIFS('CMS Downtime Detail'!$K$24:$K$500,'CMS Downtime Detail'!$B$24:$B$500,$B247,'CMS Downtime Detail'!$C$24:$C$500,$C247,'CMS Downtime Detail'!$D$24:$D$500,$D247,'CMS Downtime Detail'!$E$24:$E$500,\"Other Known Causes\"))","v":""},{"$f":"IF($E247=\"\",\"\",SUMIFS('CMS Downtime Detail'!$K$24:$K$500,'CMS Downtime Detail'!$B$24:$B$500,$B247,'CMS Downtime Detail'!$C$24:$C$500,$C247,'CMS Downtime Detail'!$D$24:$D$500,$D247,'CMS Downtime Detail'!$E$24:$E$500,\"Other Unknown Causes\"))","v":""}]
[null,{"$f":"IF(Lists!AQ226=\"\",\"\",Lists!AQ226)","v":""},{"$f":"IF(Lists!AR226=\"\",\"\",Lists!AR226)","v":""},{"$f":"IF(Lists!AS226=\"\",\"\",Lists!AS226)","v":""},{"$f":"IF(D248=\"\",\"\",VLOOKUP(B248&C248,Lists!$BA$2:$BD$78,4,FALSE))","v":""},"","",{"$f":"IF($E248=\"\",\"\",SUMIFS('CMS Downtime Detail'!$K$24:$K$500,'CMS Downtime Detail'!$B$24:$B$500,$B248,'CMS Downtime Detail'!$C$24:$C$500,$C248,'CMS Downtime Detail'!$D$24:$D$500,$D248,'CMS Downtime Detail'!$E$24:$E$500,\"Monitoring Equipment Malfunctions\"))","v":""},{"$f":"IF($E248=\"\",\"\",SUMIFS('CMS Downtime Detail'!$K$24:$K$500,'CMS Downtime Detail'!$B$24:$B$500,$B248,'CMS Downtime Detail'!$C$24:$C$500,$C248,'CMS Downtime Detail'!$D$24:$D$500,$D248,'CMS Downtime Detail'!$E$24:$E$500,\"Nonmonitoring Equipment Malfunctions\"))","v":""},{"$f":"IF($E248=\"\",\"\",SUMIFS('CMS Downtime Detail'!$K$24:$K$500,'CMS Downtime Detail'!$B$24:$B$500,$B248,'CMS Downtime Detail'!$C$24:$C$500,$C248,'CMS Downtime Detail'!$D$24:$D$500,$D248,'CMS Downtime Detail'!$E$24:$E$500,\"Quality Assurance/Quality Control Calibrations\"))","v":""},{"$f":"IF($E248=\"\",\"\",SUMIFS('CMS Downtime Detail'!$K$24:$K$500,'CMS Downtime Detail'!$B$24:$B$500,$B248,'CMS Downtime Detail'!$C$24:$C$500,$C248,'CMS Downtime Detail'!$D$24:$D$500,$D248,'CMS Downtime Detail'!$E$24:$E$500,\"Other Known Causes\"))","v":""},{"$f":"IF($E248=\"\",\"\",SUMIFS('CMS Downtime Detail'!$K$24:$K$500,'CMS Downtime Detail'!$B$24:$B$500,$B248,'CMS Downtime Detail'!$C$24:$C$500,$C248,'CMS Downtime Detail'!$D$24:$D$500,$D248,'CMS Downtime Detail'!$E$24:$E$500,\"Other Unknown Causes\"))","v":""}]
[null,{"$f":"IF(Lists!AQ227=\"\",\"\",Lists!AQ227)","v":""},{"$f":"IF(Lists!AR227=\"\",\"\",Lists!AR227)","v":""},{"$f":"IF(Lists!AS227=\"\",\"\",Lists!AS227)","v":""},{"$f":"IF(D249=\"\",\"\",VLOOKUP(B249&C249,Lists!$BA$2:$BD$78,4,FALSE))","v":""},"","",{"$f":"IF($E249=\"\",\"\",SUMIFS('CMS Downtime Detail'!$K$24:$K$500,'CMS Downtime Detail'!$B$24:$B$500,$B249,'CMS Downtime Detail'!$C$24:$C$500,$C249,'CMS Downtime Detail'!$D$24:$D$500,$D249,'CMS Downtime Detail'!$E$24:$E$500,\"Monitoring Equipment Malfunctions\"))","v":""},{"$f":"IF($E249=\"\",\"\",SUMIFS('CMS Downtime Detail'!$K$24:$K$500,'CMS Downtime Detail'!$B$24:$B$500,$B249,'CMS Downtime Detail'!$C$24:$C$500,$C249,'CMS Downtime Detail'!$D$24:$D$500,$D249,'CMS Downtime Detail'!$E$24:$E$500,\"Nonmonitoring Equipment Malfunctions\"))","v":""},{"$f":"IF($E249=\"\",\"\",SUMIFS('CMS Downtime Detail'!$K$24:$K$500,'CMS Downtime Detail'!$B$24:$B$500,$B249,'CMS Downtime Detail'!$C$24:$C$500,$C249,'CMS Downtime Detail'!$D$24:$D$500,$D249,'CMS Downtime Detail'!$E$24:$E$500,\"Quality Assurance/Quality Control Calibrations\"))","v":""},{"$f":"IF($E249=\"\",\"\",SUMIFS('CMS Downtime Detail'!$K$24:$K$500,'CMS Downtime Detail'!$B$24:$B$500,$B249,'CMS Downtime Detail'!$C$24:$C$500,$C249,'CMS Downtime Detail'!$D$24:$D$500,$D249,'CMS Downtime Detail'!$E$24:$E$500,\"Other Known Causes\"))","v":""},{"$f":"IF($E249=\"\",\"\",SUMIFS('CMS Downtime Detail'!$K$24:$K$500,'CMS Downtime Detail'!$B$24:$B$500,$B249,'CMS Downtime Detail'!$C$24:$C$500,$C249,'CMS Downtime Detail'!$D$24:$D$500,$D249,'CMS Downtime Detail'!$E$24:$E$500,\"Other Unknown Causes\"))","v":""}]
[null,{"$f":"IF(Lists!AQ228=\"\",\"\",Lists!AQ228)","v":""},{"$f":"IF(Lists!AR228=\"\",\"\",Lists!AR228)","v":""},{"$f":"IF(Lists!AS228=\"\",\"\",Lists!AS228)","v":""},{"$f":"IF(D250=\"\",\"\",VLOOKUP(B250&C250,Lists!$BA$2:$BD$78,4,FALSE))","v":""},"","",{"$f":"IF($E250=\"\",\"\",SUMIFS('CMS Downtime Detail'!$K$24:$K$500,'CMS Downtime Detail'!$B$24:$B$500,$B250,'CMS Downtime Detail'!$C$24:$C$500,$C250,'CMS Downtime Detail'!$D$24:$D$500,$D250,'CMS Downtime Detail'!$E$24:$E$500,\"Monitoring Equipment Malfunctions\"))","v":""},{"$f":"IF($E250=\"\",\"\",SUMIFS('CMS Downtime Detail'!$K$24:$K$500,'CMS Downtime Detail'!$B$24:$B$500,$B250,'CMS Downtime Detail'!$C$24:$C$500,$C250,'CMS Downtime Detail'!$D$24:$D$500,$D250,'CMS Downtime Detail'!$E$24:$E$500,\"Nonmonitoring Equipment Malfunctions\"))","v":""},{"$f":"IF($E250=\"\",\"\",SUMIFS('CMS Downtime Detail'!$K$24:$K$500,'CMS Downtime Detail'!$B$24:$B$500,$B250,'CMS Downtime Detail'!$C$24:$C$500,$C250,'CMS Downtime Detail'!$D$24:$D$500,$D250,'CMS Downtime Detail'!$E$24:$E$500,\"Quality Assurance/Quality Control Calibrations\"))","v":""},{"$f":"IF($E250=\"\",\"\",SUMIFS('CMS Downtime Detail'!$K$24:$K$500,'CMS Downtime Detail'!$B$24:$B$500,$B250,'CMS Downtime Detail'!$C$24:$C$500,$C250,'CMS Downtime Detail'!$D$24:$D$500,$D250,'CMS Downtime Detail'!$E$24:$E$500,\"Other Known Causes\"))","v":""},{"$f":"IF($E250=\"\",\"\",SUMIFS('CMS Downtime Detail'!$K$24:$K$500,'CMS Downtime Detail'!$B$24:$B$500,$B250,'CMS Downtime Detail'!$C$24:$C$500,$C250,'CMS Downtime Detail'!$D$24:$D$500,$D250,'CMS Downtime Detail'!$E$24:$E$500,\"Other Unknown Causes\"))","v":""}]
[null,{"$f":"IF(Lists!AQ229=\"\",\"\",Lists!AQ229)","v":""},{"$f":"IF(Lists!AR229=\"\",\"\",Lists!AR229)","v":""},{"$f":"IF(Lists!AS229=\"\",\"\",Lists!AS229)","v":""},{"$f":"IF(D251=\"\",\"\",VLOOKUP(B251&C251,Lists!$BA$2:$BD$78,4,FALSE))","v":""},"","",{"$f":"IF($E251=\"\",\"\",SUMIFS('CMS Downtime Detail'!$K$24:$K$500,'CMS Downtime Detail'!$B$24:$B$500,$B251,'CMS Downtime Detail'!$C$24:$C$500,$C251,'CMS Downtime Detail'!$D$24:$D$500,$D251,'CMS Downtime Detail'!$E$24:$E$500,\"Monitoring Equipment Malfunctions\"))","v":""},{"$f":"IF($E251=\"\",\"\",SUMIFS('CMS Downtime Detail'!$K$24:$K$500,'CMS Downtime Detail'!$B$24:$B$500,$B251,'CMS Downtime Detail'!$C$24:$C$500,$C251,'CMS Downtime Detail'!$D$24:$D$500,$D251,'CMS Downtime Detail'!$E$24:$E$500,\"Nonmonitoring Equipment Malfunctions\"))","v":""},{"$f":"IF($E251=\"\",\"\",SUMIFS('CMS Downtime Detail'!$K$24:$K$500,'CMS Downtime Detail'!$B$24:$B$500,$B251,'CMS Downtime Detail'!$C$24:$C$500,$C251,'CMS Downtime Detail'!$D$24:$D$500,$D251,'CMS Downtime Detail'!$E$24:$E$500,\"Quality Assurance/Quality Control Calibrations\"))","v":""},{"$f":"IF($E251=\"\",\"\",SUMIFS('CMS Downtime Detail'!$K$24:$K$500,'CMS Downtime Detail'!$B$24:$B$500,$B251,'CMS Downtime Detail'!$C$24:$C$500,$C251,'CMS Downtime Detail'!$D$24:$D$500,$D251,'CMS Downtime Detail'!$E$24:$E$500,\"Other Known Causes\"))","v":""},{"$f":"IF($E251=\"\",\"\",SUMIFS('CMS Downtime Detail'!$K$24:$K$500,'CMS Downtime Detail'!$B$24:$B$500,$B251,'CMS Downtime Detail'!$C$24:$C$500,$C251,'CMS Downtime Detail'!$D$24:$D$500,$D251,'CMS Downtime Detail'!$E$24:$E$500,\"Other Unknown Causes\"))","v":""}]
[null,{"$f":"IF(Lists!AQ230=\"\",\"\",Lists!AQ230)","v":""},{"$f":"IF(Lists!AR230=\"\",\"\",Lists!AR230)","v":""},{"$f":"IF(Lists!AS230=\"\",\"\",Lists!AS230)","v":""},{"$f":"IF(D252=\"\",\"\",VLOOKUP(B252&C252,Lists!$BA$2:$BD$78,4,FALSE))","v":""},"","",{"$f":"IF($E252=\"\",\"\",SUMIFS('CMS Downtime Detail'!$K$24:$K$500,'CMS Downtime Detail'!$B$24:$B$500,$B252,'CMS Downtime Detail'!$C$24:$C$500,$C252,'CMS Downtime Detail'!$D$24:$D$500,$D252,'CMS Downtime Detail'!$E$24:$E$500,\"Monitoring Equipment Malfunctions\"))","v":""},{"$f":"IF($E252=\"\",\"\",SUMIFS('CMS Downtime Detail'!$K$24:$K$500,'CMS Downtime Detail'!$B$24:$B$500,$B252,'CMS Downtime Detail'!$C$24:$C$500,$C252,'CMS Downtime Detail'!$D$24:$D$500,$D252,'CMS Downtime Detail'!$E$24:$E$500,\"Nonmonitoring Equipment Malfunctions\"))","v":""},{"$f":"IF($E252=\"\",\"\",SUMIFS('CMS Downtime Detail'!$K$24:$K$500,'CMS Downtime Detail'!$B$24:$B$500,$B252,'CMS Downtime Detail'!$C$24:$C$500,$C252,'CMS Downtime Detail'!$D$24:$D$500,$D252,'CMS Downtime Detail'!$E$24:$E$500,\"Quality Assurance/Quality Control Calibrations\"))","v":""},{"$f":"IF($E252=\"\",\"\",SUMIFS('CMS Downtime Detail'!$K$24:$K$500,'CMS Downtime Detail'!$B$24:$B$500,$B252,'CMS Downtime Detail'!$C$24:$C$500,$C252,'CMS Downtime Detail'!$D$24:$D$500,$D252,'CMS Downtime Detail'!$E$24:$E$500,\"Other Known Causes\"))","v":""},{"$f":"IF($E252=\"\",\"\",SUMIFS('CMS Downtime Detail'!$K$24:$K$500,'CMS Downtime Detail'!$B$24:$B$500,$B252,'CMS Downtime Detail'!$C$24:$C$500,$C252,'CMS Downtime Detail'!$D$24:$D$500,$D252,'CMS Downtime Detail'!$E$24:$E$500,\"Other Unknown Causes\"))","v":""}]
[null,{"$f":"IF(Lists!AQ231=\"\",\"\",Lists!AQ231)","v":""},{"$f":"IF(Lists!AR231=\"\",\"\",Lists!AR231)","v":""},{"$f":"IF(Lists!AS231=\"\",\"\",Lists!AS231)","v":""},{"$f":"IF(D253=\"\",\"\",VLOOKUP(B253&C253,Lists!$BA$2:$BD$78,4,FALSE))","v":""},"","",{"$f":"IF($E253=\"\",\"\",SUMIFS('CMS Downtime Detail'!$K$24:$K$500,'CMS Downtime Detail'!$B$24:$B$500,$B253,'CMS Downtime Detail'!$C$24:$C$500,$C253,'CMS Downtime Detail'!$D$24:$D$500,$D253,'CMS Downtime Detail'!$E$24:$E$500,\"Monitoring Equipment Malfunctions\"))","v":""},{"$f":"IF($E253=\"\",\"\",SUMIFS('CMS Downtime Detail'!$K$24:$K$500,'CMS Downtime Detail'!$B$24:$B$500,$B253,'CMS Downtime Detail'!$C$24:$C$500,$C253,'CMS Downtime Detail'!$D$24:$D$500,$D253,'CMS Downtime Detail'!$E$24:$E$500,\"Nonmonitoring Equipment Malfunctions\"))","v":""},{"$f":"IF($E253=\"\",\"\",SUMIFS('CMS Downtime Detail'!$K$24:$K$500,'CMS Downtime Detail'!$B$24:$B$500,$B253,'CMS Downtime Detail'!$C$24:$C$500,$C253,'CMS Downtime Detail'!$D$24:$D$500,$D253,'CMS Downtime Detail'!$E$24:$E$500,\"Quality Assurance/Quality Control Calibrations\"))","v":""},{"$f":"IF($E253=\"\",\"\",SUMIFS('CMS Downtime Detail'!$K$24:$K$500,'CMS Downtime Detail'!$B$24:$B$500,$B253,'CMS Downtime Detail'!$C$24:$C$500,$C253,'CMS Downtime Detail'!$D$24:$D$500,$D253,'CMS Downtime Detail'!$E$24:$E$500,\"Other Known Causes\"))","v":""},{"$f":"IF($E253=\"\",\"\",SUMIFS('CMS Downtime Detail'!$K$24:$K$500,'CMS Downtime Detail'!$B$24:$B$500,$B253,'CMS Downtime Detail'!$C$24:$C$500,$C253,'CMS Downtime Detail'!$D$24:$D$500,$D253,'CMS Downtime Detail'!$E$24:$E$500,\"Other Unknown Causes\"))","v":""}]
[null,{"$f":"IF(Lists!AQ232=\"\",\"\",Lists!AQ232)","v":""},{"$f":"IF(Lists!AR232=\"\",\"\",Lists!AR232)","v":""},{"$f":"IF(Lists!AS232=\"\",\"\",Lists!AS232)","v":""},{"$f":"IF(D254=\"\",\"\",VLOOKUP(B254&C254,Lists!$BA$2:$BD$78,4,FALSE))","v":""},"","",{"$f":"IF($E254=\"\",\"\",SUMIFS('CMS Downtime Detail'!$K$24:$K$500,'CMS Downtime Detail'!$B$24:$B$500,$B254,'CMS Downtime Detail'!$C$24:$C$500,$C254,'CMS Downtime Detail'!$D$24:$D$500,$D254,'CMS Downtime Detail'!$E$24:$E$500,\"Monitoring Equipment Malfunctions\"))","v":""},{"$f":"IF($E254=\"\",\"\",SUMIFS('CMS Downtime Detail'!$K$24:$K$500,'CMS Downtime Detail'!$B$24:$B$500,$B254,'CMS Downtime Detail'!$C$24:$C$500,$C254,'CMS Downtime Detail'!$D$24:$D$500,$D254,'CMS Downtime Detail'!$E$24:$E$500,\"Nonmonitoring Equipment Malfunctions\"))","v":""},{"$f":"IF($E254=\"\",\"\",SUMIFS('CMS Downtime Detail'!$K$24:$K$500,'CMS Downtime Detail'!$B$24:$B$500,$B254,'CMS Downtime Detail'!$C$24:$C$500,$C254,'CMS Downtime Detail'!$D$24:$D$500,$D254,'CMS Downtime Detail'!$E$24:$E$500,\"Quality Assurance/Quality Control Calibrations\"))","v":""},{"$f":"IF($E254=\"\",\"\",SUMIFS('CMS Downtime Detail'!$K$24:$K$500,'CMS Downtime Detail'!$B$24:$B$500,$B254,'CMS Downtime Detail'!$C$24:$C$500,$C254,'CMS Downtime Detail'!$D$24:$D$500,$D254,'CMS Downtime Detail'!$E$24:$E$500,\"Other Known Causes\"))","v":""},{"$f":"IF($E254=\"\",\"\",SUMIFS('CMS Downtime Detail'!$K$24:$K$500,'CMS Downtime Detail'!$B$24:$B$500,$B254,'CMS Downtime Detail'!$C$24:$C$500,$C254,'CMS Downtime Detail'!$D$24:$D$500,$D254,'CMS Downtime Detail'!$E$24:$E$500,\"Other Unknown Causes\"))","v":""}]
[null,{"$f":"IF(Lists!AQ233=\"\",\"\",Lists!AQ233)","v":""},{"$f":"IF(Lists!AR233=\"\",\"\",Lists!AR233)","v":""},{"$f":"IF(Lists!AS233=\"\",\"\",Lists!AS233)","v":""},{"$f":"IF(D255=\"\",\"\",VLOOKUP(B255&C255,Lists!$BA$2:$BD$78,4,FALSE))","v":""},"","",{"$f":"IF($E255=\"\",\"\",SUMIFS('CMS Downtime Detail'!$K$24:$K$500,'CMS Downtime Detail'!$B$24:$B$500,$B255,'CMS Downtime Detail'!$C$24:$C$500,$C255,'CMS Downtime Detail'!$D$24:$D$500,$D255,'CMS Downtime Detail'!$E$24:$E$500,\"Monitoring Equipment Malfunctions\"))","v":""},{"$f":"IF($E255=\"\",\"\",SUMIFS('CMS Downtime Detail'!$K$24:$K$500,'CMS Downtime Detail'!$B$24:$B$500,$B255,'CMS Downtime Detail'!$C$24:$C$500,$C255,'CMS Downtime Detail'!$D$24:$D$500,$D255,'CMS Downtime Detail'!$E$24:$E$500,\"Nonmonitoring Equipment Malfunctions\"))","v":""},{"$f":"IF($E255=\"\",\"\",SUMIFS('CMS Downtime Detail'!$K$24:$K$500,'CMS Downtime Detail'!$B$24:$B$500,$B255,'CMS Downtime Detail'!$C$24:$C$500,$C255,'CMS Downtime Detail'!$D$24:$D$500,$D255,'CMS Downtime Detail'!$E$24:$E$500,\"Quality Assurance/Quality Control Calibrations\"))","v":""},{"$f":"IF($E255=\"\",\"\",SUMIFS('CMS Downtime Detail'!$K$24:$K$500,'CMS Downtime Detail'!$B$24:$B$500,$B255,'CMS Downtime Detail'!$C$24:$C$500,$C255,'CMS Downtime Detail'!$D$24:$D$500,$D255,'CMS Downtime Detail'!$E$24:$E$500,\"Other Known Causes\"))","v":""},{"$f":"IF($E255=\"\",\"\",SUMIFS('CMS Downtime Detail'!$K$24:$K$500,'CMS Downtime Detail'!$B$24:$B$500,$B255,'CMS Downtime Detail'!$C$24:$C$500,$C255,'CMS Downtime Detail'!$D$24:$D$500,$D255,'CMS Downtime Detail'!$E$24:$E$500,\"Other Unknown Causes\"))","v":""}]
[null,{"$f":"IF(Lists!AQ234=\"\",\"\",Lists!AQ234)","v":""},{"$f":"IF(Lists!AR234=\"\",\"\",Lists!AR234)","v":""},{"$f":"IF(Lists!AS234=\"\",\"\",Lists!AS234)","v":""},{"$f":"IF(D256=\"\",\"\",VLOOKUP(B256&C256,Lists!$BA$2:$BD$78,4,FALSE))","v":""},"","",{"$f":"IF($E256=\"\",\"\",SUMIFS('CMS Downtime Detail'!$K$24:$K$500,'CMS Downtime Detail'!$B$24:$B$500,$B256,'CMS Downtime Detail'!$C$24:$C$500,$C256,'CMS Downtime Detail'!$D$24:$D$500,$D256,'CMS Downtime Detail'!$E$24:$E$500,\"Monitoring Equipment Malfunctions\"))","v":""},{"$f":"IF($E256=\"\",\"\",SUMIFS('CMS Downtime Detail'!$K$24:$K$500,'CMS Downtime Detail'!$B$24:$B$500,$B256,'CMS Downtime Detail'!$C$24:$C$500,$C256,'CMS Downtime Detail'!$D$24:$D$500,$D256,'CMS Downtime Detail'!$E$24:$E$500,\"Nonmonitoring Equipment Malfunctions\"))","v":""},{"$f":"IF($E256=\"\",\"\",SUMIFS('CMS Downtime Detail'!$K$24:$K$500,'CMS Downtime Detail'!$B$24:$B$500,$B256,'CMS Downtime Detail'!$C$24:$C$500,$C256,'CMS Downtime Detail'!$D$24:$D$500,$D256,'CMS Downtime Detail'!$E$24:$E$500,\"Quality Assurance/Quality Control Calibrations\"))","v":""},{"$f":"IF($E256=\"\",\"\",SUMIFS('CMS Downtime Detail'!$K$24:$K$500,'CMS Downtime Detail'!$B$24:$B$500,$B256,'CMS Downtime Detail'!$C$24:$C$500,$C256,'CMS Downtime Detail'!$D$24:$D$500,$D256,'CMS Downtime Detail'!$E$24:$E$500,\"Other Known Causes\"))","v":""},{"$f":"IF($E256=\"\",\"\",SUMIFS('CMS Downtime Detail'!$K$24:$K$500,'CMS Downtime Detail'!$B$24:$B$500,$B256,'CMS Downtime Detail'!$C$24:$C$500,$C256,'CMS Downtime Detail'!$D$24:$D$500,$D256,'CMS Downtime Detail'!$E$24:$E$500,\"Other Unknown Causes\"))","v":""}]
[null,{"$f":"IF(Lists!AQ235=\"\",\"\",Lists!AQ235)","v":""},{"$f":"IF(Lists!AR235=\"\",\"\",Lists!AR235)","v":""},{"$f":"IF(Lists!AS235=\"\",\"\",Lists!AS235)","v":""},{"$f":"IF(D257=\"\",\"\",VLOOKUP(B257&C257,Lists!$BA$2:$BD$78,4,FALSE))","v":""},"","",{"$f":"IF($E257=\"\",\"\",SUMIFS('CMS Downtime Detail'!$K$24:$K$500,'CMS Downtime Detail'!$B$24:$B$500,$B257,'CMS Downtime Detail'!$C$24:$C$500,$C257,'CMS Downtime Detail'!$D$24:$D$500,$D257,'CMS Downtime Detail'!$E$24:$E$500,\"Monitoring Equipment Malfunctions\"))","v":""},{"$f":"IF($E257=\"\",\"\",SUMIFS('CMS Downtime Detail'!$K$24:$K$500,'CMS Downtime Detail'!$B$24:$B$500,$B257,'CMS Downtime Detail'!$C$24:$C$500,$C257,'CMS Downtime Detail'!$D$24:$D$500,$D257,'CMS Downtime Detail'!$E$24:$E$500,\"Nonmonitoring Equipment Malfunctions\"))","v":""},{"$f":"IF($E257=\"\",\"\",SUMIFS('CMS Downtime Detail'!$K$24:$K$500,'CMS Downtime Detail'!$B$24:$B$500,$B257,'CMS Downtime Detail'!$C$24:$C$500,$C257,'CMS Downtime Detail'!$D$24:$D$500,$D257,'CMS Downtime Detail'!$E$24:$E$500,\"Quality Assurance/Quality Control Calibrations\"))","v":""},{"$f":"IF($E257=\"\",\"\",SUMIFS('CMS Downtime Detail'!$K$24:$K$500,'CMS Downtime Detail'!$B$24:$B$500,$B257,'CMS Downtime Detail'!$C$24:$C$500,$C257,'CMS Downtime Detail'!$D$24:$D$500,$D257,'CMS Downtime Detail'!$E$24:$E$500,\"Other Known Causes\"))","v":""},{"$f":"IF($E257=\"\",\"\",SUMIFS('CMS Downtime Detail'!$K$24:$K$500,'CMS Downtime Detail'!$B$24:$B$500,$B257,'CMS Downtime Detail'!$C$24:$C$500,$C257,'CMS Downtime Detail'!$D$24:$D$500,$D257,'CMS Downtime Detail'!$E$24:$E$500,\"Other Unknown Causes\"))","v":""}]
[null,{"$f":"IF(Lists!AQ236=\"\",\"\",Lists!AQ236)","v":""},{"$f":"IF(Lists!AR236=\"\",\"\",Lists!AR236)","v":""},{"$f":"IF(Lists!AS236=\"\",\"\",Lists!AS236)","v":""},{"$f":"IF(D258=\"\",\"\",VLOOKUP(B258&C258,Lists!$BA$2:$BD$78,4,FALSE))","v":""},"","",{"$f":"IF($E258=\"\",\"\",SUMIFS('CMS Downtime Detail'!$K$24:$K$500,'CMS Downtime Detail'!$B$24:$B$500,$B258,'CMS Downtime Detail'!$C$24:$C$500,$C258,'CMS Downtime Detail'!$D$24:$D$500,$D258,'CMS Downtime Detail'!$E$24:$E$500,\"Monitoring Equipment Malfunctions\"))","v":""},{"$f":"IF($E258=\"\",\"\",SUMIFS('CMS Downtime Detail'!$K$24:$K$500,'CMS Downtime Detail'!$B$24:$B$500,$B258,'CMS Downtime Detail'!$C$24:$C$500,$C258,'CMS Downtime Detail'!$D$24:$D$500,$D258,'CMS Downtime Detail'!$E$24:$E$500,\"Nonmonitoring Equipment Malfunctions\"))","v":""},{"$f":"IF($E258=\"\",\"\",SUMIFS('CMS Downtime Detail'!$K$24:$K$500,'CMS Downtime Detail'!$B$24:$B$500,$B258,'CMS Downtime Detail'!$C$24:$C$500,$C258,'CMS Downtime Detail'!$D$24:$D$500,$D258,'CMS Downtime Detail'!$E$24:$E$500,\"Quality Assurance/Quality Control Calibrations\"))","v":""},{"$f":"IF($E258=\"\",\"\",SUMIFS('CMS Downtime Detail'!$K$24:$K$500,'CMS Downtime Detail'!$B$24:$B$500,$B258,'CMS Downtime Detail'!$C$24:$C$500,$C258,'CMS Downtime Detail'!$D$24:$D$500,$D258,'CMS Downtime Detail'!$E$24:$E$500,\"Other Known Causes\"))","v":""},{"$f":"IF($E258=\"\",\"\",SUMIFS('CMS Downtime Detail'!$K$24:$K$500,'CMS Downtime Detail'!$B$24:$B$500,$B258,'CMS Downtime Detail'!$C$24:$C$500,$C258,'CMS Downtime Detail'!$D$24:$D$500,$D258,'CMS Downtime Detail'!$E$24:$E$500,\"Other Unknown Causes\"))","v":""}]
[null,{"$f":"IF(Lists!AQ237=\"\",\"\",Lists!AQ237)","v":""},{"$f":"IF(Lists!AR237=\"\",\"\",Lists!AR237)","v":""},{"$f":"IF(Lists!AS237=\"\",\"\",Lists!AS237)","v":""},{"$f":"IF(D259=\"\",\"\",VLOOKUP(B259&C259,Lists!$BA$2:$BD$78,4,FALSE))","v":""},"","",{"$f":"IF($E259=\"\",\"\",SUMIFS('CMS Downtime Detail'!$K$24:$K$500,'CMS Downtime Detail'!$B$24:$B$500,$B259,'CMS Downtime Detail'!$C$24:$C$500,$C259,'CMS Downtime Detail'!$D$24:$D$500,$D259,'CMS Downtime Detail'!$E$24:$E$500,\"Monitoring Equipment Malfunctions\"))","v":""},{"$f":"IF($E259=\"\",\"\",SUMIFS('CMS Downtime Detail'!$K$24:$K$500,'CMS Downtime Detail'!$B$24:$B$500,$B259,'CMS Downtime Detail'!$C$24:$C$500,$C259,'CMS Downtime Detail'!$D$24:$D$500,$D259,'CMS Downtime Detail'!$E$24:$E$500,\"Nonmonitoring Equipment Malfunctions\"))","v":""},{"$f":"IF($E259=\"\",\"\",SUMIFS('CMS Downtime Detail'!$K$24:$K$500,'CMS Downtime Detail'!$B$24:$B$500,$B259,'CMS Downtime Detail'!$C$24:$C$500,$C259,'CMS Downtime Detail'!$D$24:$D$500,$D259,'CMS Downtime Detail'!$E$24:$E$500,\"Quality Assurance/Quality Control Calibrations\"))","v":""},{"$f":"IF($E259=\"\",\"\",SUMIFS('CMS Downtime Detail'!$K$24:$K$500,'CMS Downtime Detail'!$B$24:$B$500,$B259,'CMS Downtime Detail'!$C$24:$C$500,$C259,'CMS Downtime Detail'!$D$24:$D$500,$D259,'CMS Downtime Detail'!$E$24:$E$500,\"Other Known Causes\"))","v":""},{"$f":"IF($E259=\"\",\"\",SUMIFS('CMS Downtime Detail'!$K$24:$K$500,'CMS Downtime Detail'!$B$24:$B$500,$B259,'CMS Downtime Detail'!$C$24:$C$500,$C259,'CMS Downtime Detail'!$D$24:$D$500,$D259,'CMS Downtime Detail'!$E$24:$E$500,\"Other Unknown Causes\"))","v":""}]
[null,{"$f":"IF(Lists!AQ238=\"\",\"\",Lists!AQ238)","v":""},{"$f":"IF(Lists!AR238=\"\",\"\",Lists!AR238)","v":""},{"$f":"IF(Lists!AS238=\"\",\"\",Lists!AS238)","v":""},{"$f":"IF(D260=\"\",\"\",VLOOKUP(B260&C260,Lists!$BA$2:$BD$78,4,FALSE))","v":""},"","",{"$f":"IF($E260=\"\",\"\",SUMIFS('CMS Downtime Detail'!$K$24:$K$500,'CMS Downtime Detail'!$B$24:$B$500,$B260,'CMS Downtime Detail'!$C$24:$C$500,$C260,'CMS Downtime Detail'!$D$24:$D$500,$D260,'CMS Downtime Detail'!$E$24:$E$500,\"Monitoring Equipment Malfunctions\"))","v":""},{"$f":"IF($E260=\"\",\"\",SUMIFS('CMS Downtime Detail'!$K$24:$K$500,'CMS Downtime Detail'!$B$24:$B$500,$B260,'CMS Downtime Detail'!$C$24:$C$500,$C260,'CMS Downtime Detail'!$D$24:$D$500,$D260,'CMS Downtime Detail'!$E$24:$E$500,\"Nonmonitoring Equipment Malfunctions\"))","v":""},{"$f":"IF($E260=\"\",\"\",SUMIFS('CMS Downtime Detail'!$K$24:$K$500,'CMS Downtime Detail'!$B$24:$B$500,$B260,'CMS Downtime Detail'!$C$24:$C$500,$C260,'CMS Downtime Detail'!$D$24:$D$500,$D260,'CMS Downtime Detail'!$E$24:$E$500,\"Quality Assurance/Quality Control Calibrations\"))","v":""},{"$f":"IF($E260=\"\",\"\",SUMIFS('CMS Downtime Detail'!$K$24:$K$500,'CMS Downtime Detail'!$B$24:$B$500,$B260,'CMS Downtime Detail'!$C$24:$C$500,$C260,'CMS Downtime Detail'!$D$24:$D$500,$D260,'CMS Downtime Detail'!$E$24:$E$500,\"Other Known Causes\"))","v":""},{"$f":"IF($E260=\"\",\"\",SUMIFS('CMS Downtime Detail'!$K$24:$K$500,'CMS Downtime Detail'!$B$24:$B$500,$B260,'CMS Downtime Detail'!$C$24:$C$500,$C260,'CMS Downtime Detail'!$D$24:$D$500,$D260,'CMS Downtime Detail'!$E$24:$E$500,\"Other Unknown Causes\"))","v":""}]
[null,{"$f":"IF(Lists!AQ239=\"\",\"\",Lists!AQ239)","v":""},{"$f":"IF(Lists!AR239=\"\",\"\",Lists!AR239)","v":""},{"$f":"IF(Lists!AS239=\"\",\"\",Lists!AS239)","v":""},{"$f":"IF(D261=\"\",\"\",VLOOKUP(B261&C261,Lists!$BA$2:$BD$78,4,FALSE))","v":""},"","",{"$f":"IF($E261=\"\",\"\",SUMIFS('CMS Downtime Detail'!$K$24:$K$500,'CMS Downtime Detail'!$B$24:$B$500,$B261,'CMS Downtime Detail'!$C$24:$C$500,$C261,'CMS Downtime Detail'!$D$24:$D$500,$D261,'CMS Downtime Detail'!$E$24:$E$500,\"Monitoring Equipment Malfunctions\"))","v":""},{"$f":"IF($E261=\"\",\"\",SUMIFS('CMS Downtime Detail'!$K$24:$K$500,'CMS Downtime Detail'!$B$24:$B$500,$B261,'CMS Downtime Detail'!$C$24:$C$500,$C261,'CMS Downtime Detail'!$D$24:$D$500,$D261,'CMS Downtime Detail'!$E$24:$E$500,\"Nonmonitoring Equipment Malfunctions\"))","v":""},{"$f":"IF($E261=\"\",\"\",SUMIFS('CMS Downtime Detail'!$K$24:$K$500,'CMS Downtime Detail'!$B$24:$B$500,$B261,'CMS Downtime Detail'!$C$24:$C$500,$C261,'CMS Downtime Detail'!$D$24:$D$500,$D261,'CMS Downtime Detail'!$E$24:$E$500,\"Quality Assurance/Quality Control Calibrations\"))","v":""},{"$f":"IF($E261=\"\",\"\",SUMIFS('CMS Downtime Detail'!$K$24:$K$500,'CMS Downtime Detail'!$B$24:$B$500,$B261,'CMS Downtime Detail'!$C$24:$C$500,$C261,'CMS Downtime Detail'!$D$24:$D$500,$D261,'CMS Downtime Detail'!$E$24:$E$500,\"Other Known Causes\"))","v":""},{"$f":"IF($E261=\"\",\"\",SUMIFS('CMS Downtime Detail'!$K$24:$K$500,'CMS Downtime Detail'!$B$24:$B$500,$B261,'CMS Downtime Detail'!$C$24:$C$500,$C261,'CMS Downtime Detail'!$D$24:$D$500,$D261,'CMS Downtime Detail'!$E$24:$E$500,\"Other Unknown Causes\"))","v":""}]
[null,{"$f":"IF(Lists!AQ240=\"\",\"\",Lists!AQ240)","v":""},{"$f":"IF(Lists!AR240=\"\",\"\",Lists!AR240)","v":""},{"$f":"IF(Lists!AS240=\"\",\"\",Lists!AS240)","v":""},{"$f":"IF(D262=\"\",\"\",VLOOKUP(B262&C262,Lists!$BA$2:$BD$78,4,FALSE))","v":""},"","",{"$f":"IF($E262=\"\",\"\",SUMIFS('CMS Downtime Detail'!$K$24:$K$500,'CMS Downtime Detail'!$B$24:$B$500,$B262,'CMS Downtime Detail'!$C$24:$C$500,$C262,'CMS Downtime Detail'!$D$24:$D$500,$D262,'CMS Downtime Detail'!$E$24:$E$500,\"Monitoring Equipment Malfunctions\"))","v":""},{"$f":"IF($E262=\"\",\"\",SUMIFS('CMS Downtime Detail'!$K$24:$K$500,'CMS Downtime Detail'!$B$24:$B$500,$B262,'CMS Downtime Detail'!$C$24:$C$500,$C262,'CMS Downtime Detail'!$D$24:$D$500,$D262,'CMS Downtime Detail'!$E$24:$E$500,\"Nonmonitoring Equipment Malfunctions\"))","v":""},{"$f":"IF($E262=\"\",\"\",SUMIFS('CMS Downtime Detail'!$K$24:$K$500,'CMS Downtime Detail'!$B$24:$B$500,$B262,'CMS Downtime Detail'!$C$24:$C$500,$C262,'CMS Downtime Detail'!$D$24:$D$500,$D262,'CMS Downtime Detail'!$E$24:$E$500,\"Quality Assurance/Quality Control Calibrations\"))","v":""},{"$f":"IF($E262=\"\",\"\",SUMIFS('CMS Downtime Detail'!$K$24:$K$500,'CMS Downtime Detail'!$B$24:$B$500,$B262,'CMS Downtime Detail'!$C$24:$C$500,$C262,'CMS Downtime Detail'!$D$24:$D$500,$D262,'CMS Downtime Detail'!$E$24:$E$500,\"Other Known Causes\"))","v":""},{"$f":"IF($E262=\"\",\"\",SUMIFS('CMS Downtime Detail'!$K$24:$K$500,'CMS Downtime Detail'!$B$24:$B$500,$B262,'CMS Downtime Detail'!$C$24:$C$500,$C262,'CMS Downtime Detail'!$D$24:$D$500,$D262,'CMS Downtime Detail'!$E$24:$E$500,\"Other Unknown Causes\"))","v":""}]
[null,{"$f":"IF(Lists!AQ241=\"\",\"\",Lists!AQ241)","v":""},{"$f":"IF(Lists!AR241=\"\",\"\",Lists!AR241)","v":""},{"$f":"IF(Lists!AS241=\"\",\"\",Lists!AS241)","v":""},{"$f":"IF(D263=\"\",\"\",VLOOKUP(B263&C263,Lists!$BA$2:$BD$78,4,FALSE))","v":""},"","",{"$f":"IF($E263=\"\",\"\",SUMIFS('CMS Downtime Detail'!$K$24:$K$500,'CMS Downtime Detail'!$B$24:$B$500,$B263,'CMS Downtime Detail'!$C$24:$C$500,$C263,'CMS Downtime Detail'!$D$24:$D$500,$D263,'CMS Downtime Detail'!$E$24:$E$500,\"Monitoring Equipment Malfunctions\"))","v":""},{"$f":"IF($E263=\"\",\"\",SUMIFS('CMS Downtime Detail'!$K$24:$K$500,'CMS Downtime Detail'!$B$24:$B$500,$B263,'CMS Downtime Detail'!$C$24:$C$500,$C263,'CMS Downtime Detail'!$D$24:$D$500,$D263,'CMS Downtime Detail'!$E$24:$E$500,\"Nonmonitoring Equipment Malfunctions\"))","v":""},{"$f":"IF($E263=\"\",\"\",SUMIFS('CMS Downtime Detail'!$K$24:$K$500,'CMS Downtime Detail'!$B$24:$B$500,$B263,'CMS Downtime Detail'!$C$24:$C$500,$C263,'CMS Downtime Detail'!$D$24:$D$500,$D263,'CMS Downtime Detail'!$E$24:$E$500,\"Quality Assurance/Quality Control Calibrations\"))","v":""},{"$f":"IF($E263=\"\",\"\",SUMIFS('CMS Downtime Detail'!$K$24:$K$500,'CMS Downtime Detail'!$B$24:$B$500,$B263,'CMS Downtime Detail'!$C$24:$C$500,$C263,'CMS Downtime Detail'!$D$24:$D$500,$D263,'CMS Downtime Detail'!$E$24:$E$500,\"Other Known Causes\"))","v":""},{"$f":"IF($E263=\"\",\"\",SUMIFS('CMS Downtime Detail'!$K$24:$K$500,'CMS Downtime Detail'!$B$24:$B$500,$B263,'CMS Downtime Detail'!$C$24:$C$500,$C263,'CMS Downtime Detail'!$D$24:$D$500,$D263,'CMS Downtime Detail'!$E$24:$E$500,\"Other Unknown Causes\"))","v":""}]
[null,{"$f":"IF(Lists!AQ242=\"\",\"\",Lists!AQ242)","v":""},{"$f":"IF(Lists!AR242=\"\",\"\",Lists!AR242)","v":""},{"$f":"IF(Lists!AS242=\"\",\"\",Lists!AS242)","v":""},{"$f":"IF(D264=\"\",\"\",VLOOKUP(B264&C264,Lists!$BA$2:$BD$78,4,FALSE))","v":""},"","",{"$f":"IF($E264=\"\",\"\",SUMIFS('CMS Downtime Detail'!$K$24:$K$500,'CMS Downtime Detail'!$B$24:$B$500,$B264,'CMS Downtime Detail'!$C$24:$C$500,$C264,'CMS Downtime Detail'!$D$24:$D$500,$D264,'CMS Downtime Detail'!$E$24:$E$500,\"Monitoring Equipment Malfunctions\"))","v":""},{"$f":"IF($E264=\"\",\"\",SUMIFS('CMS Downtime Detail'!$K$24:$K$500,'CMS Downtime Detail'!$B$24:$B$500,$B264,'CMS Downtime Detail'!$C$24:$C$500,$C264,'CMS Downtime Detail'!$D$24:$D$500,$D264,'CMS Downtime Detail'!$E$24:$E$500,\"Nonmonitoring Equipment Malfunctions\"))","v":""},{"$f":"IF($E264=\"\",\"\",SUMIFS('CMS Downtime Detail'!$K$24:$K$500,'CMS Downtime Detail'!$B$24:$B$500,$B264,'CMS Downtime Detail'!$C$24:$C$500,$C264,'CMS Downtime Detail'!$D$24:$D$500,$D264,'CMS Downtime Detail'!$E$24:$E$500,\"Quality Assurance/Quality Control Calibrations\"))","v":""},{"$f":"IF($E264=\"\",\"\",SUMIFS('CMS Downtime Detail'!$K$24:$K$500,'CMS Downtime Detail'!$B$24:$B$500,$B264,'CMS Downtime Detail'!$C$24:$C$500,$C264,'CMS Downtime Detail'!$D$24:$D$500,$D264,'CMS Downtime Detail'!$E$24:$E$500,\"Other Known Causes\"))","v":""},{"$f":"IF($E264=\"\",\"\",SUMIFS('CMS Downtime Detail'!$K$24:$K$500,'CMS Downtime Detail'!$B$24:$B$500,$B264,'CMS Downtime Detail'!$C$24:$C$500,$C264,'CMS Downtime Detail'!$D$24:$D$500,$D264,'CMS Downtime Detail'!$E$24:$E$500,\"Other Unknown Causes\"))","v":""}]
[null,{"$f":"IF(Lists!AQ243=\"\",\"\",Lists!AQ243)","v":""},{"$f":"IF(Lists!AR243=\"\",\"\",Lists!AR243)","v":""},{"$f":"IF(Lists!AS243=\"\",\"\",Lists!AS243)","v":""},{"$f":"IF(D265=\"\",\"\",VLOOKUP(B265&C265,Lists!$BA$2:$BD$78,4,FALSE))","v":""},"","",{"$f":"IF($E265=\"\",\"\",SUMIFS('CMS Downtime Detail'!$K$24:$K$500,'CMS Downtime Detail'!$B$24:$B$500,$B265,'CMS Downtime Detail'!$C$24:$C$500,$C265,'CMS Downtime Detail'!$D$24:$D$500,$D265,'CMS Downtime Detail'!$E$24:$E$500,\"Monitoring Equipment Malfunctions\"))","v":""},{"$f":"IF($E265=\"\",\"\",SUMIFS('CMS Downtime Detail'!$K$24:$K$500,'CMS Downtime Detail'!$B$24:$B$500,$B265,'CMS Downtime Detail'!$C$24:$C$500,$C265,'CMS Downtime Detail'!$D$24:$D$500,$D265,'CMS Downtime Detail'!$E$24:$E$500,\"Nonmonitoring Equipment Malfunctions\"))","v":""},{"$f":"IF($E265=\"\",\"\",SUMIFS('CMS Downtime Detail'!$K$24:$K$500,'CMS Downtime Detail'!$B$24:$B$500,$B265,'CMS Downtime Detail'!$C$24:$C$500,$C265,'CMS Downtime Detail'!$D$24:$D$500,$D265,'CMS Downtime Detail'!$E$24:$E$500,\"Quality Assurance/Quality Control Calibrations\"))","v":""},{"$f":"IF($E265=\"\",\"\",SUMIFS('CMS Downtime Detail'!$K$24:$K$500,'CMS Downtime Detail'!$B$24:$B$500,$B265,'CMS Downtime Detail'!$C$24:$C$500,$C265,'CMS Downtime Detail'!$D$24:$D$500,$D265,'CMS Downtime Detail'!$E$24:$E$500,\"Other Known Causes\"))","v":""},{"$f":"IF($E265=\"\",\"\",SUMIFS('CMS Downtime Detail'!$K$24:$K$500,'CMS Downtime Detail'!$B$24:$B$500,$B265,'CMS Downtime Detail'!$C$24:$C$500,$C265,'CMS Downtime Detail'!$D$24:$D$500,$D265,'CMS Downtime Detail'!$E$24:$E$500,\"Other Unknown Causes\"))","v":""}]
[null,{"$f":"IF(Lists!AQ244=\"\",\"\",Lists!AQ244)","v":""},{"$f":"IF(Lists!AR244=\"\",\"\",Lists!AR244)","v":""},{"$f":"IF(Lists!AS244=\"\",\"\",Lists!AS244)","v":""},{"$f":"IF(D266=\"\",\"\",VLOOKUP(B266&C266,Lists!$BA$2:$BD$78,4,FALSE))","v":""},"","",{"$f":"IF($E266=\"\",\"\",SUMIFS('CMS Downtime Detail'!$K$24:$K$500,'CMS Downtime Detail'!$B$24:$B$500,$B266,'CMS Downtime Detail'!$C$24:$C$500,$C266,'CMS Downtime Detail'!$D$24:$D$500,$D266,'CMS Downtime Detail'!$E$24:$E$500,\"Monitoring Equipment Malfunctions\"))","v":""},{"$f":"IF($E266=\"\",\"\",SUMIFS('CMS Downtime Detail'!$K$24:$K$500,'CMS Downtime Detail'!$B$24:$B$500,$B266,'CMS Downtime Detail'!$C$24:$C$500,$C266,'CMS Downtime Detail'!$D$24:$D$500,$D266,'CMS Downtime Detail'!$E$24:$E$500,\"Nonmonitoring Equipment Malfunctions\"))","v":""},{"$f":"IF($E266=\"\",\"\",SUMIFS('CMS Downtime Detail'!$K$24:$K$500,'CMS Downtime Detail'!$B$24:$B$500,$B266,'CMS Downtime Detail'!$C$24:$C$500,$C266,'CMS Downtime Detail'!$D$24:$D$500,$D266,'CMS Downtime Detail'!$E$24:$E$500,\"Quality Assurance/Quality Control Calibrations\"))","v":""},{"$f":"IF($E266=\"\",\"\",SUMIFS('CMS Downtime Detail'!$K$24:$K$500,'CMS Downtime Detail'!$B$24:$B$500,$B266,'CMS Downtime Detail'!$C$24:$C$500,$C266,'CMS Downtime Detail'!$D$24:$D$500,$D266,'CMS Downtime Detail'!$E$24:$E$500,\"Other Known Causes\"))","v":""},{"$f":"IF($E266=\"\",\"\",SUMIFS('CMS Downtime Detail'!$K$24:$K$500,'CMS Downtime Detail'!$B$24:$B$500,$B266,'CMS Downtime Detail'!$C$24:$C$500,$C266,'CMS Downtime Detail'!$D$24:$D$500,$D266,'CMS Downtime Detail'!$E$24:$E$500,\"Other Unknown Causes\"))","v":""}]
[null,{"$f":"IF(Lists!AQ245=\"\",\"\",Lists!AQ245)","v":""},{"$f":"IF(Lists!AR245=\"\",\"\",Lists!AR245)","v":""},{"$f":"IF(Lists!AS245=\"\",\"\",Lists!AS245)","v":""},{"$f":"IF(D267=\"\",\"\",VLOOKUP(B267&C267,Lists!$BA$2:$BD$78,4,FALSE))","v":""},"","",{"$f":"IF($E267=\"\",\"\",SUMIFS('CMS Downtime Detail'!$K$24:$K$500,'CMS Downtime Detail'!$B$24:$B$500,$B267,'CMS Downtime Detail'!$C$24:$C$500,$C267,'CMS Downtime Detail'!$D$24:$D$500,$D267,'CMS Downtime Detail'!$E$24:$E$500,\"Monitoring Equipment Malfunctions\"))","v":""},{"$f":"IF($E267=\"\",\"\",SUMIFS('CMS Downtime Detail'!$K$24:$K$500,'CMS Downtime Detail'!$B$24:$B$500,$B267,'CMS Downtime Detail'!$C$24:$C$500,$C267,'CMS Downtime Detail'!$D$24:$D$500,$D267,'CMS Downtime Detail'!$E$24:$E$500,\"Nonmonitoring Equipment Malfunctions\"))","v":""},{"$f":"IF($E267=\"\",\"\",SUMIFS('CMS Downtime Detail'!$K$24:$K$500,'CMS Downtime Detail'!$B$24:$B$500,$B267,'CMS Downtime Detail'!$C$24:$C$500,$C267,'CMS Downtime Detail'!$D$24:$D$500,$D267,'CMS Downtime Detail'!$E$24:$E$500,\"Quality Assurance/Quality Control Calibrations\"))","v":""},{"$f":"IF($E267=\"\",\"\",SUMIFS('CMS Downtime Detail'!$K$24:$K$500,'CMS Downtime Detail'!$B$24:$B$500,$B267,'CMS Downtime Detail'!$C$24:$C$500,$C267,'CMS Downtime Detail'!$D$24:$D$500,$D267,'CMS Downtime Detail'!$E$24:$E$500,\"Other Known Causes\"))","v":""},{"$f":"IF($E267=\"\",\"\",SUMIFS('CMS Downtime Detail'!$K$24:$K$500,'CMS Downtime Detail'!$B$24:$B$500,$B267,'CMS Downtime Detail'!$C$24:$C$500,$C267,'CMS Downtime Detail'!$D$24:$D$500,$D267,'CMS Downtime Detail'!$E$24:$E$500,\"Other Unknown Causes\"))","v":""}]
[null,{"$f":"IF(Lists!AQ246=\"\",\"\",Lists!AQ246)","v":""},{"$f":"IF(Lists!AR246=\"\",\"\",Lists!AR246)","v":""},{"$f":"IF(Lists!AS246=\"\",\"\",Lists!AS246)","v":""},{"$f":"IF(D268=\"\",\"\",VLOOKUP(B268&C268,Lists!$BA$2:$BD$78,4,FALSE))","v":""},"","",{"$f":"IF($E268=\"\",\"\",SUMIFS('CMS Downtime Detail'!$K$24:$K$500,'CMS Downtime Detail'!$B$24:$B$500,$B268,'CMS Downtime Detail'!$C$24:$C$500,$C268,'CMS Downtime Detail'!$D$24:$D$500,$D268,'CMS Downtime Detail'!$E$24:$E$500,\"Monitoring Equipment Malfunctions\"))","v":""},{"$f":"IF($E268=\"\",\"\",SUMIFS('CMS Downtime Detail'!$K$24:$K$500,'CMS Downtime Detail'!$B$24:$B$500,$B268,'CMS Downtime Detail'!$C$24:$C$500,$C268,'CMS Downtime Detail'!$D$24:$D$500,$D268,'CMS Downtime Detail'!$E$24:$E$500,\"Nonmonitoring Equipment Malfunctions\"))","v":""},{"$f":"IF($E268=\"\",\"\",SUMIFS('CMS Downtime Detail'!$K$24:$K$500,'CMS Downtime Detail'!$B$24:$B$500,$B268,'CMS Downtime Detail'!$C$24:$C$500,$C268,'CMS Downtime Detail'!$D$24:$D$500,$D268,'CMS Downtime Detail'!$E$24:$E$500,\"Quality Assurance/Quality Control Calibrations\"))","v":""},{"$f":"IF($E268=\"\",\"\",SUMIFS('CMS Downtime Detail'!$K$24:$K$500,'CMS Downtime Detail'!$B$24:$B$500,$B268,'CMS Downtime Detail'!$C$24:$C$500,$C268,'CMS Downtime Detail'!$D$24:$D$500,$D268,'CMS Downtime Detail'!$E$24:$E$500,\"Other Known Causes\"))","v":""},{"$f":"IF($E268=\"\",\"\",SUMIFS('CMS Downtime Detail'!$K$24:$K$500,'CMS Downtime Detail'!$B$24:$B$500,$B268,'CMS Downtime Detail'!$C$24:$C$500,$C268,'CMS Downtime Detail'!$D$24:$D$500,$D268,'CMS Downtime Detail'!$E$24:$E$500,\"Other Unknown Causes\"))","v":""}]
[null,{"$f":"IF(Lists!AQ247=\"\",\"\",Lists!AQ247)","v":""},{"$f":"IF(Lists!AR247=\"\",\"\",Lists!AR247)","v":""},{"$f":"IF(Lists!AS247=\"\",\"\",Lists!AS247)","v":""},{"$f":"IF(D269=\"\",\"\",VLOOKUP(B269&C269,Lists!$BA$2:$BD$78,4,FALSE))","v":""},"","",{"$f":"IF($E269=\"\",\"\",SUMIFS('CMS Downtime Detail'!$K$24:$K$500,'CMS Downtime Detail'!$B$24:$B$500,$B269,'CMS Downtime Detail'!$C$24:$C$500,$C269,'CMS Downtime Detail'!$D$24:$D$500,$D269,'CMS Downtime Detail'!$E$24:$E$500,\"Monitoring Equipment Malfunctions\"))","v":""},{"$f":"IF($E269=\"\",\"\",SUMIFS('CMS Downtime Detail'!$K$24:$K$500,'CMS Downtime Detail'!$B$24:$B$500,$B269,'CMS Downtime Detail'!$C$24:$C$500,$C269,'CMS Downtime Detail'!$D$24:$D$500,$D269,'CMS Downtime Detail'!$E$24:$E$500,\"Nonmonitoring Equipment Malfunctions\"))","v":""},{"$f":"IF($E269=\"\",\"\",SUMIFS('CMS Downtime Detail'!$K$24:$K$500,'CMS Downtime Detail'!$B$24:$B$500,$B269,'CMS Downtime Detail'!$C$24:$C$500,$C269,'CMS Downtime Detail'!$D$24:$D$500,$D269,'CMS Downtime Detail'!$E$24:$E$500,\"Quality Assurance/Quality Control Calibrations\"))","v":""},{"$f":"IF($E269=\"\",\"\",SUMIFS('CMS Downtime Detail'!$K$24:$K$500,'CMS Downtime Detail'!$B$24:$B$500,$B269,'CMS Downtime Detail'!$C$24:$C$500,$C269,'CMS Downtime Detail'!$D$24:$D$500,$D269,'CMS Downtime Detail'!$E$24:$E$500,\"Other Known Causes\"))","v":""},{"$f":"IF($E269=\"\",\"\",SUMIFS('CMS Downtime Detail'!$K$24:$K$500,'CMS Downtime Detail'!$B$24:$B$500,$B269,'CMS Downtime Detail'!$C$24:$C$500,$C269,'CMS Downtime Detail'!$D$24:$D$500,$D269,'CMS Downtime Detail'!$E$24:$E$500,\"Other Unknown Causes\"))","v":""}]
[null,{"$f":"IF(Lists!AQ248=\"\",\"\",Lists!AQ248)","v":""},{"$f":"IF(Lists!AR248=\"\",\"\",Lists!AR248)","v":""},{"$f":"IF(Lists!AS248=\"\",\"\",Lists!AS248)","v":""},{"$f":"IF(D270=\"\",\"\",VLOOKUP(B270&C270,Lists!$BA$2:$BD$78,4,FALSE))","v":""},"","",{"$f":"IF($E270=\"\",\"\",SUMIFS('CMS Downtime Detail'!$K$24:$K$500,'CMS Downtime Detail'!$B$24:$B$500,$B270,'CMS Downtime Detail'!$C$24:$C$500,$C270,'CMS Downtime Detail'!$D$24:$D$500,$D270,'CMS Downtime Detail'!$E$24:$E$500,\"Monitoring Equipment Malfunctions\"))","v":""},{"$f":"IF($E270=\"\",\"\",SUMIFS('CMS Downtime Detail'!$K$24:$K$500,'CMS Downtime Detail'!$B$24:$B$500,$B270,'CMS Downtime Detail'!$C$24:$C$500,$C270,'CMS Downtime Detail'!$D$24:$D$500,$D270,'CMS Downtime Detail'!$E$24:$E$500,\"Nonmonitoring Equipment Malfunctions\"))","v":""},{"$f":"IF($E270=\"\",\"\",SUMIFS('CMS Downtime Detail'!$K$24:$K$500,'CMS Downtime Detail'!$B$24:$B$500,$B270,'CMS Downtime Detail'!$C$24:$C$500,$C270,'CMS Downtime Detail'!$D$24:$D$500,$D270,'CMS Downtime Detail'!$E$24:$E$500,\"Quality Assurance/Quality Control Calibrations\"))","v":""},{"$f":"IF($E270=\"\",\"\",SUMIFS('CMS Downtime Detail'!$K$24:$K$500,'CMS Downtime Detail'!$B$24:$B$500,$B270,'CMS Downtime Detail'!$C$24:$C$500,$C270,'CMS Downtime Detail'!$D$24:$D$500,$D270,'CMS Downtime Detail'!$E$24:$E$500,\"Other Known Causes\"))","v":""},{"$f":"IF($E270=\"\",\"\",SUMIFS('CMS Downtime Detail'!$K$24:$K$500,'CMS Downtime Detail'!$B$24:$B$500,$B270,'CMS Downtime Detail'!$C$24:$C$500,$C270,'CMS Downtime Detail'!$D$24:$D$500,$D270,'CMS Downtime Detail'!$E$24:$E$500,\"Other Unknown Causes\"))","v":""}]
[null,{"$f":"IF(Lists!AQ249=\"\",\"\",Lists!AQ249)","v":""},{"$f":"IF(Lists!AR249=\"\",\"\",Lists!AR249)","v":""},{"$f":"IF(Lists!AS249=\"\",\"\",Lists!AS249)","v":""},{"$f":"IF(D271=\"\",\"\",VLOOKUP(B271&C271,Lists!$BA$2:$BD$78,4,FALSE))","v":""},"","",{"$f":"IF($E271=\"\",\"\",SUMIFS('CMS Downtime Detail'!$K$24:$K$500,'CMS Downtime Detail'!$B$24:$B$500,$B271,'CMS Downtime Detail'!$C$24:$C$500,$C271,'CMS Downtime Detail'!$D$24:$D$500,$D271,'CMS Downtime Detail'!$E$24:$E$500,\"Monitoring Equipment Malfunctions\"))","v":""},{"$f":"IF($E271=\"\",\"\",SUMIFS('CMS Downtime Detail'!$K$24:$K$500,'CMS Downtime Detail'!$B$24:$B$500,$B271,'CMS Downtime Detail'!$C$24:$C$500,$C271,'CMS Downtime Detail'!$D$24:$D$500,$D271,'CMS Downtime Detail'!$E$24:$E$500,\"Nonmonitoring Equipment Malfunctions\"))","v":""},{"$f":"IF($E271=\"\",\"\",SUMIFS('CMS Downtime Detail'!$K$24:$K$500,'CMS Downtime Detail'!$B$24:$B$500,$B271,'CMS Downtime Detail'!$C$24:$C$500,$C271,'CMS Downtime Detail'!$D$24:$D$500,$D271,'CMS Downtime Detail'!$E$24:$E$500,\"Quality Assurance/Quality Control Calibrations\"))","v":""},{"$f":"IF($E271=\"\",\"\",SUMIFS('CMS Downtime Detail'!$K$24:$K$500,'CMS Downtime Detail'!$B$24:$B$500,$B271,'CMS Downtime Detail'!$C$24:$C$500,$C271,'CMS Downtime Detail'!$D$24:$D$500,$D271,'CMS Downtime Detail'!$E$24:$E$500,\"Other Known Causes\"))","v":""},{"$f":"IF($E271=\"\",\"\",SUMIFS('CMS Downtime Detail'!$K$24:$K$500,'CMS Downtime Detail'!$B$24:$B$500,$B271,'CMS Downtime Detail'!$C$24:$C$500,$C271,'CMS Downtime Detail'!$D$24:$D$500,$D271,'CMS Downtime Detail'!$E$24:$E$500,\"Other Unknown Causes\"))","v":""}]
[null,{"$f":"IF(Lists!AQ250=\"\",\"\",Lists!AQ250)","v":""},{"$f":"IF(Lists!AR250=\"\",\"\",Lists!AR250)","v":""},{"$f":"IF(Lists!AS250=\"\",\"\",Lists!AS250)","v":""},{"$f":"IF(D272=\"\",\"\",VLOOKUP(B272&C272,Lists!$BA$2:$BD$78,4,FALSE))","v":""},"","",{"$f":"IF($E272=\"\",\"\",SUMIFS('CMS Downtime Detail'!$K$24:$K$500,'CMS Downtime Detail'!$B$24:$B$500,$B272,'CMS Downtime Detail'!$C$24:$C$500,$C272,'CMS Downtime Detail'!$D$24:$D$500,$D272,'CMS Downtime Detail'!$E$24:$E$500,\"Monitoring Equipment Malfunctions\"))","v":""},{"$f":"IF($E272=\"\",\"\",SUMIFS('CMS Downtime Detail'!$K$24:$K$500,'CMS Downtime Detail'!$B$24:$B$500,$B272,'CMS Downtime Detail'!$C$24:$C$500,$C272,'CMS Downtime Detail'!$D$24:$D$500,$D272,'CMS Downtime Detail'!$E$24:$E$500,\"Nonmonitoring Equipment Malfunctions\"))","v":""},{"$f":"IF($E272=\"\",\"\",SUMIFS('CMS Downtime Detail'!$K$24:$K$500,'CMS Downtime Detail'!$B$24:$B$500,$B272,'CMS Downtime Detail'!$C$24:$C$500,$C272,'CMS Downtime Detail'!$D$24:$D$500,$D272,'CMS Downtime Detail'!$E$24:$E$500,\"Quality Assurance/Quality Control Calibrations\"))","v":""},{"$f":"IF($E272=\"\",\"\",SUMIFS('CMS Downtime Detail'!$K$24:$K$500,'CMS Downtime Detail'!$B$24:$B$500,$B272,'CMS Downtime Detail'!$C$24:$C$500,$C272,'CMS Downtime Detail'!$D$24:$D$500,$D272,'CMS Downtime Detail'!$E$24:$E$500,\"Other Known Causes\"))","v":""},{"$f":"IF($E272=\"\",\"\",SUMIFS('CMS Downtime Detail'!$K$24:$K$500,'CMS Downtime Detail'!$B$24:$B$500,$B272,'CMS Downtime Detail'!$C$24:$C$500,$C272,'CMS Downtime Detail'!$D$24:$D$500,$D272,'CMS Downtime Detail'!$E$24:$E$500,\"Other Unknown Causes\"))","v":""}]
[null,{"$f":"IF(Lists!AQ251=\"\",\"\",Lists!AQ251)","v":""},{"$f":"IF(Lists!AR251=\"\",\"\",Lists!AR251)","v":""},{"$f":"IF(Lists!AS251=\"\",\"\",Lists!AS251)","v":""},{"$f":"IF(D273=\"\",\"\",VLOOKUP(B273&C273,Lists!$BA$2:$BD$78,4,FALSE))","v":""},"","",{"$f":"IF($E273=\"\",\"\",SUMIFS('CMS Downtime Detail'!$K$24:$K$500,'CMS Downtime Detail'!$B$24:$B$500,$B273,'CMS Downtime Detail'!$C$24:$C$500,$C273,'CMS Downtime Detail'!$D$24:$D$500,$D273,'CMS Downtime Detail'!$E$24:$E$500,\"Monitoring Equipment Malfunctions\"))","v":""},{"$f":"IF($E273=\"\",\"\",SUMIFS('CMS Downtime Detail'!$K$24:$K$500,'CMS Downtime Detail'!$B$24:$B$500,$B273,'CMS Downtime Detail'!$C$24:$C$500,$C273,'CMS Downtime Detail'!$D$24:$D$500,$D273,'CMS Downtime Detail'!$E$24:$E$500,\"Nonmonitoring Equipment Malfunctions\"))","v":""},{"$f":"IF($E273=\"\",\"\",SUMIFS('CMS Downtime Detail'!$K$24:$K$500,'CMS Downtime Detail'!$B$24:$B$500,$B273,'CMS Downtime Detail'!$C$24:$C$500,$C273,'CMS Downtime Detail'!$D$24:$D$500,$D273,'CMS Downtime Detail'!$E$24:$E$500,\"Quality Assurance/Quality Control Calibrations\"))","v":""},{"$f":"IF($E273=\"\",\"\",SUMIFS('CMS Downtime Detail'!$K$24:$K$500,'CMS Downtime Detail'!$B$24:$B$500,$B273,'CMS Downtime Detail'!$C$24:$C$500,$C273,'CMS Downtime Detail'!$D$24:$D$500,$D273,'CMS Downtime Detail'!$E$24:$E$500,\"Other Known Causes\"))","v":""},{"$f":"IF($E273=\"\",\"\",SUMIFS('CMS Downtime Detail'!$K$24:$K$500,'CMS Downtime Detail'!$B$24:$B$500,$B273,'CMS Downtime Detail'!$C$24:$C$500,$C273,'CMS Downtime Detail'!$D$24:$D$500,$D273,'CMS Downtime Detail'!$E$24:$E$500,\"Other Unknown Causes\"))","v":""}]
[null,{"$f":"IF(Lists!AQ252=\"\",\"\",Lists!AQ252)","v":""},{"$f":"IF(Lists!AR252=\"\",\"\",Lists!AR252)","v":""},{"$f":"IF(Lists!AS252=\"\",\"\",Lists!AS252)","v":""},{"$f":"IF(D274=\"\",\"\",VLOOKUP(B274&C274,Lists!$BA$2:$BD$78,4,FALSE))","v":""},"","",{"$f":"IF($E274=\"\",\"\",SUMIFS('CMS Downtime Detail'!$K$24:$K$500,'CMS Downtime Detail'!$B$24:$B$500,$B274,'CMS Downtime Detail'!$C$24:$C$500,$C274,'CMS Downtime Detail'!$D$24:$D$500,$D274,'CMS Downtime Detail'!$E$24:$E$500,\"Monitoring Equipment Malfunctions\"))","v":""},{"$f":"IF($E274=\"\",\"\",SUMIFS('CMS Downtime Detail'!$K$24:$K$500,'CMS Downtime Detail'!$B$24:$B$500,$B274,'CMS Downtime Detail'!$C$24:$C$500,$C274,'CMS Downtime Detail'!$D$24:$D$500,$D274,'CMS Downtime Detail'!$E$24:$E$500,\"Nonmonitoring Equipment Malfunctions\"))","v":""},{"$f":"IF($E274=\"\",\"\",SUMIFS('CMS Downtime Detail'!$K$24:$K$500,'CMS Downtime Detail'!$B$24:$B$500,$B274,'CMS Downtime Detail'!$C$24:$C$500,$C274,'CMS Downtime Detail'!$D$24:$D$500,$D274,'CMS Downtime Detail'!$E$24:$E$500,\"Quality Assurance/Quality Control Calibrations\"))","v":""},{"$f":"IF($E274=\"\",\"\",SUMIFS('CMS Downtime Detail'!$K$24:$K$500,'CMS Downtime Detail'!$B$24:$B$500,$B274,'CMS Downtime Detail'!$C$24:$C$500,$C274,'CMS Downtime Detail'!$D$24:$D$500,$D274,'CMS Downtime Detail'!$E$24:$E$500,\"Other Known Causes\"))","v":""},{"$f":"IF($E274=\"\",\"\",SUMIFS('CMS Downtime Detail'!$K$24:$K$500,'CMS Downtime Detail'!$B$24:$B$500,$B274,'CMS Downtime Detail'!$C$24:$C$500,$C274,'CMS Downtime Detail'!$D$24:$D$500,$D274,'CMS Downtime Detail'!$E$24:$E$500,\"Other Unknown Causes\"))","v":""}]
[null,{"$f":"IF(Lists!AQ253=\"\",\"\",Lists!AQ253)","v":""},{"$f":"IF(Lists!AR253=\"\",\"\",Lists!AR253)","v":""},{"$f":"IF(Lists!AS253=\"\",\"\",Lists!AS253)","v":""},{"$f":"IF(D275=\"\",\"\",VLOOKUP(B275&C275,Lists!$BA$2:$BD$78,4,FALSE))","v":""},"","",{"$f":"IF($E275=\"\",\"\",SUMIFS('CMS Downtime Detail'!$K$24:$K$500,'CMS Downtime Detail'!$B$24:$B$500,$B275,'CMS Downtime Detail'!$C$24:$C$500,$C275,'CMS Downtime Detail'!$D$24:$D$500,$D275,'CMS Downtime Detail'!$E$24:$E$500,\"Monitoring Equipment Malfunctions\"))","v":""},{"$f":"IF($E275=\"\",\"\",SUMIFS('CMS Downtime Detail'!$K$24:$K$500,'CMS Downtime Detail'!$B$24:$B$500,$B275,'CMS Downtime Detail'!$C$24:$C$500,$C275,'CMS Downtime Detail'!$D$24:$D$500,$D275,'CMS Downtime Detail'!$E$24:$E$500,\"Nonmonitoring Equipment Malfunctions\"))","v":""},{"$f":"IF($E275=\"\",\"\",SUMIFS('CMS Downtime Detail'!$K$24:$K$500,'CMS Downtime Detail'!$B$24:$B$500,$B275,'CMS Downtime Detail'!$C$24:$C$500,$C275,'CMS Downtime Detail'!$D$24:$D$500,$D275,'CMS Downtime Detail'!$E$24:$E$500,\"Quality Assurance/Quality Control Calibrations\"))","v":""},{"$f":"IF($E275=\"\",\"\",SUMIFS('CMS Downtime Detail'!$K$24:$K$500,'CMS Downtime Detail'!$B$24:$B$500,$B275,'CMS Downtime Detail'!$C$24:$C$500,$C275,'CMS Downtime Detail'!$D$24:$D$500,$D275,'CMS Downtime Detail'!$E$24:$E$500,\"Other Known Causes\"))","v":""},{"$f":"IF($E275=\"\",\"\",SUMIFS('CMS Downtime Detail'!$K$24:$K$500,'CMS Downtime Detail'!$B$24:$B$500,$B275,'CMS Downtime Detail'!$C$24:$C$500,$C275,'CMS Downtime Detail'!$D$24:$D$500,$D275,'CMS Downtime Detail'!$E$24:$E$500,\"Other Unknown Causes\"))","v":""}]
[null,{"$f":"IF(Lists!AQ254=\"\",\"\",Lists!AQ254)","v":""},{"$f":"IF(Lists!AR254=\"\",\"\",Lists!AR254)","v":""},{"$f":"IF(Lists!AS254=\"\",\"\",Lists!AS254)","v":""},{"$f":"IF(D276=\"\",\"\",VLOOKUP(B276&C276,Lists!$BA$2:$BD$78,4,FALSE))","v":""},"","",{"$f":"IF($E276=\"\",\"\",SUMIFS('CMS Downtime Detail'!$K$24:$K$500,'CMS Downtime Detail'!$B$24:$B$500,$B276,'CMS Downtime Detail'!$C$24:$C$500,$C276,'CMS Downtime Detail'!$D$24:$D$500,$D276,'CMS Downtime Detail'!$E$24:$E$500,\"Monitoring Equipment Malfunctions\"))","v":""},{"$f":"IF($E276=\"\",\"\",SUMIFS('CMS Downtime Detail'!$K$24:$K$500,'CMS Downtime Detail'!$B$24:$B$500,$B276,'CMS Downtime Detail'!$C$24:$C$500,$C276,'CMS Downtime Detail'!$D$24:$D$500,$D276,'CMS Downtime Detail'!$E$24:$E$500,\"Nonmonitoring Equipment Malfunctions\"))","v":""},{"$f":"IF($E276=\"\",\"\",SUMIFS('CMS Downtime Detail'!$K$24:$K$500,'CMS Downtime Detail'!$B$24:$B$500,$B276,'CMS Downtime Detail'!$C$24:$C$500,$C276,'CMS Downtime Detail'!$D$24:$D$500,$D276,'CMS Downtime Detail'!$E$24:$E$500,\"Quality Assurance/Quality Control Calibrations\"))","v":""},{"$f":"IF($E276=\"\",\"\",SUMIFS('CMS Downtime Detail'!$K$24:$K$500,'CMS Downtime Detail'!$B$24:$B$500,$B276,'CMS Downtime Detail'!$C$24:$C$500,$C276,'CMS Downtime Detail'!$D$24:$D$500,$D276,'CMS Downtime Detail'!$E$24:$E$500,\"Other Known Causes\"))","v":""},{"$f":"IF($E276=\"\",\"\",SUMIFS('CMS Downtime Detail'!$K$24:$K$500,'CMS Downtime Detail'!$B$24:$B$500,$B276,'CMS Downtime Detail'!$C$24:$C$500,$C276,'CMS Downtime Detail'!$D$24:$D$500,$D276,'CMS Downtime Detail'!$E$24:$E$500,\"Other Unknown Causes\"))","v":""}]
[null,{"$f":"IF(Lists!AQ255=\"\",\"\",Lists!AQ255)","v":""},{"$f":"IF(Lists!AR255=\"\",\"\",Lists!AR255)","v":""},{"$f":"IF(Lists!AS255=\"\",\"\",Lists!AS255)","v":""},{"$f":"IF(D277=\"\",\"\",VLOOKUP(B277&C277,Lists!$BA$2:$BD$78,4,FALSE))","v":""},"","",{"$f":"IF($E277=\"\",\"\",SUMIFS('CMS Downtime Detail'!$K$24:$K$500,'CMS Downtime Detail'!$B$24:$B$500,$B277,'CMS Downtime Detail'!$C$24:$C$500,$C277,'CMS Downtime Detail'!$D$24:$D$500,$D277,'CMS Downtime Detail'!$E$24:$E$500,\"Monitoring Equipment Malfunctions\"))","v":""},{"$f":"IF($E277=\"\",\"\",SUMIFS('CMS Downtime Detail'!$K$24:$K$500,'CMS Downtime Detail'!$B$24:$B$500,$B277,'CMS Downtime Detail'!$C$24:$C$500,$C277,'CMS Downtime Detail'!$D$24:$D$500,$D277,'CMS Downtime Detail'!$E$24:$E$500,\"Nonmonitoring Equipment Malfunctions\"))","v":""},{"$f":"IF($E277=\"\",\"\",SUMIFS('CMS Downtime Detail'!$K$24:$K$500,'CMS Downtime Detail'!$B$24:$B$500,$B277,'CMS Downtime Detail'!$C$24:$C$500,$C277,'CMS Downtime Detail'!$D$24:$D$500,$D277,'CMS Downtime Detail'!$E$24:$E$500,\"Quality Assurance/Quality Control Calibrations\"))","v":""},{"$f":"IF($E277=\"\",\"\",SUMIFS('CMS Downtime Detail'!$K$24:$K$500,'CMS Downtime Detail'!$B$24:$B$500,$B277,'CMS Downtime Detail'!$C$24:$C$500,$C277,'CMS Downtime Detail'!$D$24:$D$500,$D277,'CMS Downtime Detail'!$E$24:$E$500,\"Other Known Causes\"))","v":""},{"$f":"IF($E277=\"\",\"\",SUMIFS('CMS Downtime Detail'!$K$24:$K$500,'CMS Downtime Detail'!$B$24:$B$500,$B277,'CMS Downtime Detail'!$C$24:$C$500,$C277,'CMS Downtime Detail'!$D$24:$D$500,$D277,'CMS Downtime Detail'!$E$24:$E$500,\"Other Unknown Causes\"))","v":""}]
[null,{"$f":"IF(Lists!AQ256=\"\",\"\",Lists!AQ256)","v":""},{"$f":"IF(Lists!AR256=\"\",\"\",Lists!AR256)","v":""},{"$f":"IF(Lists!AS256=\"\",\"\",Lists!AS256)","v":""},{"$f":"IF(D278=\"\",\"\",VLOOKUP(B278&C278,Lists!$BA$2:$BD$78,4,FALSE))","v":""},"","",{"$f":"IF($E278=\"\",\"\",SUMIFS('CMS Downtime Detail'!$K$24:$K$500,'CMS Downtime Detail'!$B$24:$B$500,$B278,'CMS Downtime Detail'!$C$24:$C$500,$C278,'CMS Downtime Detail'!$D$24:$D$500,$D278,'CMS Downtime Detail'!$E$24:$E$500,\"Monitoring Equipment Malfunctions\"))","v":""},{"$f":"IF($E278=\"\",\"\",SUMIFS('CMS Downtime Detail'!$K$24:$K$500,'CMS Downtime Detail'!$B$24:$B$500,$B278,'CMS Downtime Detail'!$C$24:$C$500,$C278,'CMS Downtime Detail'!$D$24:$D$500,$D278,'CMS Downtime Detail'!$E$24:$E$500,\"Nonmonitoring Equipment Malfunctions\"))","v":""},{"$f":"IF($E278=\"\",\"\",SUMIFS('CMS Downtime Detail'!$K$24:$K$500,'CMS Downtime Detail'!$B$24:$B$500,$B278,'CMS Downtime Detail'!$C$24:$C$500,$C278,'CMS Downtime Detail'!$D$24:$D$500,$D278,'CMS Downtime Detail'!$E$24:$E$500,\"Quality Assurance/Quality Control Calibrations\"))","v":""},{"$f":"IF($E278=\"\",\"\",SUMIFS('CMS Downtime Detail'!$K$24:$K$500,'CMS Downtime Detail'!$B$24:$B$500,$B278,'CMS Downtime Detail'!$C$24:$C$500,$C278,'CMS Downtime Detail'!$D$24:$D$500,$D278,'CMS Downtime Detail'!$E$24:$E$500,\"Other Known Causes\"))","v":""},{"$f":"IF($E278=\"\",\"\",SUMIFS('CMS Downtime Detail'!$K$24:$K$500,'CMS Downtime Detail'!$B$24:$B$500,$B278,'CMS Downtime Detail'!$C$24:$C$500,$C278,'CMS Downtime Detail'!$D$24:$D$500,$D278,'CMS Downtime Detail'!$E$24:$E$500,\"Other Unknown Causes\"))","v":""}]
[null,{"$f":"IF(Lists!AQ257=\"\",\"\",Lists!AQ257)","v":""},{"$f":"IF(Lists!AR257=\"\",\"\",Lists!AR257)","v":""},{"$f":"IF(Lists!AS257=\"\",\"\",Lists!AS257)","v":""},{"$f":"IF(D279=\"\",\"\",VLOOKUP(B279&C279,Lists!$BA$2:$BD$78,4,FALSE))","v":""},"","",{"$f":"IF($E279=\"\",\"\",SUMIFS('CMS Downtime Detail'!$K$24:$K$500,'CMS Downtime Detail'!$B$24:$B$500,$B279,'CMS Downtime Detail'!$C$24:$C$500,$C279,'CMS Downtime Detail'!$D$24:$D$500,$D279,'CMS Downtime Detail'!$E$24:$E$500,\"Monitoring Equipment Malfunctions\"))","v":""},{"$f":"IF($E279=\"\",\"\",SUMIFS('CMS Downtime Detail'!$K$24:$K$500,'CMS Downtime Detail'!$B$24:$B$500,$B279,'CMS Downtime Detail'!$C$24:$C$500,$C279,'CMS Downtime Detail'!$D$24:$D$500,$D279,'CMS Downtime Detail'!$E$24:$E$500,\"Nonmonitoring Equipment Malfunctions\"))","v":""},{"$f":"IF($E279=\"\",\"\",SUMIFS('CMS Downtime Detail'!$K$24:$K$500,'CMS Downtime Detail'!$B$24:$B$500,$B279,'CMS Downtime Detail'!$C$24:$C$500,$C279,'CMS Downtime Detail'!$D$24:$D$500,$D279,'CMS Downtime Detail'!$E$24:$E$500,\"Quality Assurance/Quality Control Calibrations\"))","v":""},{"$f":"IF($E279=\"\",\"\",SUMIFS('CMS Downtime Detail'!$K$24:$K$500,'CMS Downtime Detail'!$B$24:$B$500,$B279,'CMS Downtime Detail'!$C$24:$C$500,$C279,'CMS Downtime Detail'!$D$24:$D$500,$D279,'CMS Downtime Detail'!$E$24:$E$500,\"Other Known Causes\"))","v":""},{"$f":"IF($E279=\"\",\"\",SUMIFS('CMS Downtime Detail'!$K$24:$K$500,'CMS Downtime Detail'!$B$24:$B$500,$B279,'CMS Downtime Detail'!$C$24:$C$500,$C279,'CMS Downtime Detail'!$D$24:$D$500,$D279,'CMS Downtime Detail'!$E$24:$E$500,\"Other Unknown Causes\"))","v":""}]
[null,{"$f":"IF(Lists!AQ258=\"\",\"\",Lists!AQ258)","v":""},{"$f":"IF(Lists!AR258=\"\",\"\",Lists!AR258)","v":""},{"$f":"IF(Lists!AS258=\"\",\"\",Lists!AS258)","v":""},{"$f":"IF(D280=\"\",\"\",VLOOKUP(B280&C280,Lists!$BA$2:$BD$78,4,FALSE))","v":""},"","",{"$f":"IF($E280=\"\",\"\",SUMIFS('CMS Downtime Detail'!$K$24:$K$500,'CMS Downtime Detail'!$B$24:$B$500,$B280,'CMS Downtime Detail'!$C$24:$C$500,$C280,'CMS Downtime Detail'!$D$24:$D$500,$D280,'CMS Downtime Detail'!$E$24:$E$500,\"Monitoring Equipment Malfunctions\"))","v":""},{"$f":"IF($E280=\"\",\"\",SUMIFS('CMS Downtime Detail'!$K$24:$K$500,'CMS Downtime Detail'!$B$24:$B$500,$B280,'CMS Downtime Detail'!$C$24:$C$500,$C280,'CMS Downtime Detail'!$D$24:$D$500,$D280,'CMS Downtime Detail'!$E$24:$E$500,\"Nonmonitoring Equipment Malfunctions\"))","v":""},{"$f":"IF($E280=\"\",\"\",SUMIFS('CMS Downtime Detail'!$K$24:$K$500,'CMS Downtime Detail'!$B$24:$B$500,$B280,'CMS Downtime Detail'!$C$24:$C$500,$C280,'CMS Downtime Detail'!$D$24:$D$500,$D280,'CMS Downtime Detail'!$E$24:$E$500,\"Quality Assurance/Quality Control Calibrations\"))","v":""},{"$f":"IF($E280=\"\",\"\",SUMIFS('CMS Downtime Detail'!$K$24:$K$500,'CMS Downtime Detail'!$B$24:$B$500,$B280,'CMS Downtime Detail'!$C$24:$C$500,$C280,'CMS Downtime Detail'!$D$24:$D$500,$D280,'CMS Downtime Detail'!$E$24:$E$500,\"Other Known Causes\"))","v":""},{"$f":"IF($E280=\"\",\"\",SUMIFS('CMS Downtime Detail'!$K$24:$K$500,'CMS Downtime Detail'!$B$24:$B$500,$B280,'CMS Downtime Detail'!$C$24:$C$500,$C280,'CMS Downtime Detail'!$D$24:$D$500,$D280,'CMS Downtime Detail'!$E$24:$E$500,\"Other Unknown Causes\"))","v":""}]
[null,{"$f":"IF(Lists!AQ259=\"\",\"\",Lists!AQ259)","v":""},{"$f":"IF(Lists!AR259=\"\",\"\",Lists!AR259)","v":""},{"$f":"IF(Lists!AS259=\"\",\"\",Lists!AS259)","v":""},{"$f":"IF(D281=\"\",\"\",VLOOKUP(B281&C281,Lists!$BA$2:$BD$78,4,FALSE))","v":""},{"$f":"IF(E281=\"\",\"\",SUM(H281:L281))","v":""},{"$f":"IF(F281=\"\",\"\",F281/E281)","v":""},{"$f":"IF($E281=\"\",\"\",SUMIFS('CMS Downtime Detail'!$K$24:$K$500,'CMS Downtime Detail'!$B$24:$B$500,$B281,'CMS Downtime Detail'!$C$24:$C$500,$C281,'CMS Downtime Detail'!$D$24:$D$500,$D281,'CMS Downtime Detail'!$E$24:$E$500,\"Monitoring Equipment Malfunctions\"))","v":""},{"$f":"IF($E281=\"\",\"\",SUMIFS('CMS Downtime Detail'!$K$24:$K$500,'CMS Downtime Detail'!$B$24:$B$500,$B281,'CMS Downtime Detail'!$C$24:$C$500,$C281,'CMS Downtime Detail'!$D$24:$D$500,$D281,'CMS Downtime Detail'!$E$24:$E$500,\"Nonmonitoring Equipment Malfunctions\"))","v":""},{"$f":"IF($E281=\"\",\"\",SUMIFS('CMS Downtime Detail'!$K$24:$K$500,'CMS Downtime Detail'!$B$24:$B$500,$B281,'CMS Downtime Detail'!$C$24:$C$500,$C281,'CMS Downtime Detail'!$D$24:$D$500,$D281,'CMS Downtime Detail'!$E$24:$E$500,\"Quality Assurance/Quality Control Calibrations\"))","v":""},{"$f":"IF($E281=\"\",\"\",SUMIFS('CMS Downtime Detail'!$K$24:$K$500,'CMS Downtime Detail'!$B$24:$B$500,$B281,'CMS Downtime Detail'!$C$24:$C$500,$C281,'CMS Downtime Detail'!$D$24:$D$500,$D281,'CMS Downtime Detail'!$E$24:$E$500,\"Other Known Causes\"))","v":""},{"$f":"IF($E281=\"\",\"\",SUMIFS('CMS Downtime Detail'!$K$24:$K$500,'CMS Downtime Detail'!$B$24:$B$500,$B281,'CMS Downtime Detail'!$C$24:$C$500,$C281,'CMS Downtime Detail'!$D$24:$D$500,$D281,'CMS Downtime Detail'!$E$24:$E$500,\"Other Unknown Causes\"))","v":""}]
[null,{"$f":"IF(Lists!AQ260=\"\",\"\",Lists!AQ260)","v":""},{"$f":"IF(Lists!AR260=\"\",\"\",Lists!AR260)","v":""},{"$f":"IF(Lists!AS260=\"\",\"\",Lists!AS260)","v":""},{"$f":"IF(D282=\"\",\"\",VLOOKUP(B282&C282,Lists!$BA$2:$BD$78,4,FALSE))","v":""},"","",{"$f":"IF($E282=\"\",\"\",SUMIFS('CMS Downtime Detail'!$K$24:$K$500,'CMS Downtime Detail'!$B$24:$B$500,$B282,'CMS Downtime Detail'!$C$24:$C$500,$C282,'CMS Downtime Detail'!$D$24:$D$500,$D282,'CMS Downtime Detail'!$E$24:$E$500,\"Monitoring Equipment Malfunctions\"))","v":""},{"$f":"IF($E282=\"\",\"\",SUMIFS('CMS Downtime Detail'!$K$24:$K$500,'CMS Downtime Detail'!$B$24:$B$500,$B282,'CMS Downtime Detail'!$C$24:$C$500,$C282,'CMS Downtime Detail'!$D$24:$D$500,$D282,'CMS Downtime Detail'!$E$24:$E$500,\"Nonmonitoring Equipment Malfunctions\"))","v":""},{"$f":"IF($E282=\"\",\"\",SUMIFS('CMS Downtime Detail'!$K$24:$K$500,'CMS Downtime Detail'!$B$24:$B$500,$B282,'CMS Downtime Detail'!$C$24:$C$500,$C282,'CMS Downtime Detail'!$D$24:$D$500,$D282,'CMS Downtime Detail'!$E$24:$E$500,\"Quality Assurance/Quality Control Calibrations\"))","v":""},{"$f":"IF($E282=\"\",\"\",SUMIFS('CMS Downtime Detail'!$K$24:$K$500,'CMS Downtime Detail'!$B$24:$B$500,$B282,'CMS Downtime Detail'!$C$24:$C$500,$C282,'CMS Downtime Detail'!$D$24:$D$500,$D282,'CMS Downtime Detail'!$E$24:$E$500,\"Other Known Causes\"))","v":""},{"$f":"IF($E282=\"\",\"\",SUMIFS('CMS Downtime Detail'!$K$24:$K$500,'CMS Downtime Detail'!$B$24:$B$500,$B282,'CMS Downtime Detail'!$C$24:$C$500,$C282,'CMS Downtime Detail'!$D$24:$D$500,$D282,'CMS Downtime Detail'!$E$24:$E$500,\"Other Unknown Causes\"))","v":""}]
[null,{"$f":"IF(Lists!AQ261=\"\",\"\",Lists!AQ261)","v":""},{"$f":"IF(Lists!AR261=\"\",\"\",Lists!AR261)","v":""},{"$f":"IF(Lists!AS261=\"\",\"\",Lists!AS261)","v":""},{"$f":"IF(D283=\"\",\"\",VLOOKUP(B283&C283,Lists!$BA$2:$BD$78,4,FALSE))","v":""},"","",{"$f":"IF($E283=\"\",\"\",SUMIFS('CMS Downtime Detail'!$K$24:$K$500,'CMS Downtime Detail'!$B$24:$B$500,$B283,'CMS Downtime Detail'!$C$24:$C$500,$C283,'CMS Downtime Detail'!$D$24:$D$500,$D283,'CMS Downtime Detail'!$E$24:$E$500,\"Monitoring Equipment Malfunctions\"))","v":""},{"$f":"IF($E283=\"\",\"\",SUMIFS('CMS Downtime Detail'!$K$24:$K$500,'CMS Downtime Detail'!$B$24:$B$500,$B283,'CMS Downtime Detail'!$C$24:$C$500,$C283,'CMS Downtime Detail'!$D$24:$D$500,$D283,'CMS Downtime Detail'!$E$24:$E$500,\"Nonmonitoring Equipment Malfunctions\"))","v":""},{"$f":"IF($E283=\"\",\"\",SUMIFS('CMS Downtime Detail'!$K$24:$K$500,'CMS Downtime Detail'!$B$24:$B$500,$B283,'CMS Downtime Detail'!$C$24:$C$500,$C283,'CMS Downtime Detail'!$D$24:$D$500,$D283,'CMS Downtime Detail'!$E$24:$E$500,\"Quality Assurance/Quality Control Calibrations\"))","v":""},{"$f":"IF($E283=\"\",\"\",SUMIFS('CMS Downtime Detail'!$K$24:$K$500,'CMS Downtime Detail'!$B$24:$B$500,$B283,'CMS Downtime Detail'!$C$24:$C$500,$C283,'CMS Downtime Detail'!$D$24:$D$500,$D283,'CMS Downtime Detail'!$E$24:$E$500,\"Other Known Causes\"))","v":""},{"$f":"IF($E283=\"\",\"\",SUMIFS('CMS Downtime Detail'!$K$24:$K$500,'CMS Downtime Detail'!$B$24:$B$500,$B283,'CMS Downtime Detail'!$C$24:$C$500,$C283,'CMS Downtime Detail'!$D$24:$D$500,$D283,'CMS Downtime Detail'!$E$24:$E$500,\"Other Unknown Causes\"))","v":""}]
[null,{"$f":"IF(Lists!AQ262=\"\",\"\",Lists!AQ262)","v":""},{"$f":"IF(Lists!AR262=\"\",\"\",Lists!AR262)","v":""},{"$f":"IF(Lists!AS262=\"\",\"\",Lists!AS262)","v":""},{"$f":"IF(D284=\"\",\"\",VLOOKUP(B284&C284,Lists!$BA$2:$BD$78,4,FALSE))","v":""},"","",{"$f":"IF($E284=\"\",\"\",SUMIFS('CMS Downtime Detail'!$K$24:$K$500,'CMS Downtime Detail'!$B$24:$B$500,$B284,'CMS Downtime Detail'!$C$24:$C$500,$C284,'CMS Downtime Detail'!$D$24:$D$500,$D284,'CMS Downtime Detail'!$E$24:$E$500,\"Monitoring Equipment Malfunctions\"))","v":""},{"$f":"IF($E284=\"\",\"\",SUMIFS('CMS Downtime Detail'!$K$24:$K$500,'CMS Downtime Detail'!$B$24:$B$500,$B284,'CMS Downtime Detail'!$C$24:$C$500,$C284,'CMS Downtime Detail'!$D$24:$D$500,$D284,'CMS Downtime Detail'!$E$24:$E$500,\"Nonmonitoring Equipment Malfunctions\"))","v":""},{"$f":"IF($E284=\"\",\"\",SUMIFS('CMS Downtime Detail'!$K$24:$K$500,'CMS Downtime Detail'!$B$24:$B$500,$B284,'CMS Downtime Detail'!$C$24:$C$500,$C284,'CMS Downtime Detail'!$D$24:$D$500,$D284,'CMS Downtime Detail'!$E$24:$E$500,\"Quality Assurance/Quality Control Calibrations\"))","v":""},{"$f":"IF($E284=\"\",\"\",SUMIFS('CMS Downtime Detail'!$K$24:$K$500,'CMS Downtime Detail'!$B$24:$B$500,$B284,'CMS Downtime Detail'!$C$24:$C$500,$C284,'CMS Downtime Detail'!$D$24:$D$500,$D284,'CMS Downtime Detail'!$E$24:$E$500,\"Other Known Causes\"))","v":""},{"$f":"IF($E284=\"\",\"\",SUMIFS('CMS Downtime Detail'!$K$24:$K$500,'CMS Downtime Detail'!$B$24:$B$500,$B284,'CMS Downtime Detail'!$C$24:$C$500,$C284,'CMS Downtime Detail'!$D$24:$D$500,$D284,'CMS Downtime Detail'!$E$24:$E$500,\"Other Unknown Causes\"))","v":""}]
[null,{"$f":"IF(Lists!AQ263=\"\",\"\",Lists!AQ263)","v":""},{"$f":"IF(Lists!AR263=\"\",\"\",Lists!AR263)","v":""},{"$f":"IF(Lists!AS263=\"\",\"\",Lists!AS263)","v":""},{"$f":"IF(D285=\"\",\"\",VLOOKUP(B285&C285,Lists!$BA$2:$BD$78,4,FALSE))","v":""},"","",{"$f":"IF($E285=\"\",\"\",SUMIFS('CMS Downtime Detail'!$K$24:$K$500,'CMS Downtime Detail'!$B$24:$B$500,$B285,'CMS Downtime Detail'!$C$24:$C$500,$C285,'CMS Downtime Detail'!$D$24:$D$500,$D285,'CMS Downtime Detail'!$E$24:$E$500,\"Monitoring Equipment Malfunctions\"))","v":""},{"$f":"IF($E285=\"\",\"\",SUMIFS('CMS Downtime Detail'!$K$24:$K$500,'CMS Downtime Detail'!$B$24:$B$500,$B285,'CMS Downtime Detail'!$C$24:$C$500,$C285,'CMS Downtime Detail'!$D$24:$D$500,$D285,'CMS Downtime Detail'!$E$24:$E$500,\"Nonmonitoring Equipment Malfunctions\"))","v":""},{"$f":"IF($E285=\"\",\"\",SUMIFS('CMS Downtime Detail'!$K$24:$K$500,'CMS Downtime Detail'!$B$24:$B$500,$B285,'CMS Downtime Detail'!$C$24:$C$500,$C285,'CMS Downtime Detail'!$D$24:$D$500,$D285,'CMS Downtime Detail'!$E$24:$E$500,\"Quality Assurance/Quality Control Calibrations\"))","v":""},{"$f":"IF($E285=\"\",\"\",SUMIFS('CMS Downtime Detail'!$K$24:$K$500,'CMS Downtime Detail'!$B$24:$B$500,$B285,'CMS Downtime Detail'!$C$24:$C$500,$C285,'CMS Downtime Detail'!$D$24:$D$500,$D285,'CMS Downtime Detail'!$E$24:$E$500,\"Other Known Causes\"))","v":""},{"$f":"IF($E285=\"\",\"\",SUMIFS('CMS Downtime Detail'!$K$24:$K$500,'CMS Downtime Detail'!$B$24:$B$500,$B285,'CMS Downtime Detail'!$C$24:$C$500,$C285,'CMS Downtime Detail'!$D$24:$D$500,$D285,'CMS Downtime Detail'!$E$24:$E$500,\"Other Unknown Causes\"))","v":""}]
[null,{"$f":"IF(Lists!AQ264=\"\",\"\",Lists!AQ264)","v":""},{"$f":"IF(Lists!AR264=\"\",\"\",Lists!AR264)","v":""},{"$f":"IF(Lists!AS264=\"\",\"\",Lists!AS264)","v":""},{"$f":"IF(D286=\"\",\"\",VLOOKUP(B286&C286,Lists!$BA$2:$BD$78,4,FALSE))","v":""},"","",{"$f":"IF($E286=\"\",\"\",SUMIFS('CMS Downtime Detail'!$K$24:$K$500,'CMS Downtime Detail'!$B$24:$B$500,$B286,'CMS Downtime Detail'!$C$24:$C$500,$C286,'CMS Downtime Detail'!$D$24:$D$500,$D286,'CMS Downtime Detail'!$E$24:$E$500,\"Monitoring Equipment Malfunctions\"))","v":""},{"$f":"IF($E286=\"\",\"\",SUMIFS('CMS Downtime Detail'!$K$24:$K$500,'CMS Downtime Detail'!$B$24:$B$500,$B286,'CMS Downtime Detail'!$C$24:$C$500,$C286,'CMS Downtime Detail'!$D$24:$D$500,$D286,'CMS Downtime Detail'!$E$24:$E$500,\"Nonmonitoring Equipment Malfunctions\"))","v":""},{"$f":"IF($E286=\"\",\"\",SUMIFS('CMS Downtime Detail'!$K$24:$K$500,'CMS Downtime Detail'!$B$24:$B$500,$B286,'CMS Downtime Detail'!$C$24:$C$500,$C286,'CMS Downtime Detail'!$D$24:$D$500,$D286,'CMS Downtime Detail'!$E$24:$E$500,\"Quality Assurance/Quality Control Calibrations\"))","v":""},{"$f":"IF($E286=\"\",\"\",SUMIFS('CMS Downtime Detail'!$K$24:$K$500,'CMS Downtime Detail'!$B$24:$B$500,$B286,'CMS Downtime Detail'!$C$24:$C$500,$C286,'CMS Downtime Detail'!$D$24:$D$500,$D286,'CMS Downtime Detail'!$E$24:$E$500,\"Other Known Causes\"))","v":""},{"$f":"IF($E286=\"\",\"\",SUMIFS('CMS Downtime Detail'!$K$24:$K$500,'CMS Downtime Detail'!$B$24:$B$500,$B286,'CMS Downtime Detail'!$C$24:$C$500,$C286,'CMS Downtime Detail'!$D$24:$D$500,$D286,'CMS Downtime Detail'!$E$24:$E$500,\"Other Unknown Causes\"))","v":""}]
[null,{"$f":"IF(Lists!AQ265=\"\",\"\",Lists!AQ265)","v":""},{"$f":"IF(Lists!AR265=\"\",\"\",Lists!AR265)","v":""},{"$f":"IF(Lists!AS265=\"\",\"\",Lists!AS265)","v":""},{"$f":"IF(D287=\"\",\"\",VLOOKUP(B287&C287,Lists!$BA$2:$BD$78,4,FALSE))","v":""},"","",{"$f":"IF($E287=\"\",\"\",SUMIFS('CMS Downtime Detail'!$K$24:$K$500,'CMS Downtime Detail'!$B$24:$B$500,$B287,'CMS Downtime Detail'!$C$24:$C$500,$C287,'CMS Downtime Detail'!$D$24:$D$500,$D287,'CMS Downtime Detail'!$E$24:$E$500,\"Monitoring Equipment Malfunctions\"))","v":""},{"$f":"IF($E287=\"\",\"\",SUMIFS('CMS Downtime Detail'!$K$24:$K$500,'CMS Downtime Detail'!$B$24:$B$500,$B287,'CMS Downtime Detail'!$C$24:$C$500,$C287,'CMS Downtime Detail'!$D$24:$D$500,$D287,'CMS Downtime Detail'!$E$24:$E$500,\"Nonmonitoring Equipment Malfunctions\"))","v":""},{"$f":"IF($E287=\"\",\"\",SUMIFS('CMS Downtime Detail'!$K$24:$K$500,'CMS Downtime Detail'!$B$24:$B$500,$B287,'CMS Downtime Detail'!$C$24:$C$500,$C287,'CMS Downtime Detail'!$D$24:$D$500,$D287,'CMS Downtime Detail'!$E$24:$E$500,\"Quality Assurance/Quality Control Calibrations\"))","v":""},{"$f":"IF($E287=\"\",\"\",SUMIFS('CMS Downtime Detail'!$K$24:$K$500,'CMS Downtime Detail'!$B$24:$B$500,$B287,'CMS Downtime Detail'!$C$24:$C$500,$C287,'CMS Downtime Detail'!$D$24:$D$500,$D287,'CMS Downtime Detail'!$E$24:$E$500,\"Other Known Causes\"))","v":""},{"$f":"IF($E287=\"\",\"\",SUMIFS('CMS Downtime Detail'!$K$24:$K$500,'CMS Downtime Detail'!$B$24:$B$500,$B287,'CMS Downtime Detail'!$C$24:$C$500,$C287,'CMS Downtime Detail'!$D$24:$D$500,$D287,'CMS Downtime Detail'!$E$24:$E$500,\"Other Unknown Causes\"))","v":""}]
[null,{"$f":"IF(Lists!AQ266=\"\",\"\",Lists!AQ266)","v":""},{"$f":"IF(Lists!AR266=\"\",\"\",Lists!AR266)","v":""},{"$f":"IF(Lists!AS266=\"\",\"\",Lists!AS266)","v":""},{"$f":"IF(D288=\"\",\"\",VLOOKUP(B288&C288,Lists!$BA$2:$BD$78,4,FALSE))","v":""},"","",{"$f":"IF($E288=\"\",\"\",SUMIFS('CMS Downtime Detail'!$K$24:$K$500,'CMS Downtime Detail'!$B$24:$B$500,$B288,'CMS Downtime Detail'!$C$24:$C$500,$C288,'CMS Downtime Detail'!$D$24:$D$500,$D288,'CMS Downtime Detail'!$E$24:$E$500,\"Monitoring Equipment Malfunctions\"))","v":""},{"$f":"IF($E288=\"\",\"\",SUMIFS('CMS Downtime Detail'!$K$24:$K$500,'CMS Downtime Detail'!$B$24:$B$500,$B288,'CMS Downtime Detail'!$C$24:$C$500,$C288,'CMS Downtime Detail'!$D$24:$D$500,$D288,'CMS Downtime Detail'!$E$24:$E$500,\"Nonmonitoring Equipment Malfunctions\"))","v":""},{"$f":"IF($E288=\"\",\"\",SUMIFS('CMS Downtime Detail'!$K$24:$K$500,'CMS Downtime Detail'!$B$24:$B$500,$B288,'CMS Downtime Detail'!$C$24:$C$500,$C288,'CMS Downtime Detail'!$D$24:$D$500,$D288,'CMS Downtime Detail'!$E$24:$E$500,\"Quality Assurance/Quality Control Calibrations\"))","v":""},{"$f":"IF($E288=\"\",\"\",SUMIFS('CMS Downtime Detail'!$K$24:$K$500,'CMS Downtime Detail'!$B$24:$B$500,$B288,'CMS Downtime Detail'!$C$24:$C$500,$C288,'CMS Downtime Detail'!$D$24:$D$500,$D288,'CMS Downtime Detail'!$E$24:$E$500,\"Other Known Causes\"))","v":""},{"$f":"IF($E288=\"\",\"\",SUMIFS('CMS Downtime Detail'!$K$24:$K$500,'CMS Downtime Detail'!$B$24:$B$500,$B288,'CMS Downtime Detail'!$C$24:$C$500,$C288,'CMS Downtime Detail'!$D$24:$D$500,$D288,'CMS Downtime Detail'!$E$24:$E$500,\"Other Unknown Causes\"))","v":""}]
[null,{"$f":"IF(Lists!AQ267=\"\",\"\",Lists!AQ267)","v":""},{"$f":"IF(Lists!AR267=\"\",\"\",Lists!AR267)","v":""},{"$f":"IF(Lists!AS267=\"\",\"\",Lists!AS267)","v":""},{"$f":"IF(D289=\"\",\"\",VLOOKUP(B289&C289,Lists!$BA$2:$BD$78,4,FALSE))","v":""},"","",{"$f":"IF($E289=\"\",\"\",SUMIFS('CMS Downtime Detail'!$K$24:$K$500,'CMS Downtime Detail'!$B$24:$B$500,$B289,'CMS Downtime Detail'!$C$24:$C$500,$C289,'CMS Downtime Detail'!$D$24:$D$500,$D289,'CMS Downtime Detail'!$E$24:$E$500,\"Monitoring Equipment Malfunctions\"))","v":""},{"$f":"IF($E289=\"\",\"\",SUMIFS('CMS Downtime Detail'!$K$24:$K$500,'CMS Downtime Detail'!$B$24:$B$500,$B289,'CMS Downtime Detail'!$C$24:$C$500,$C289,'CMS Downtime Detail'!$D$24:$D$500,$D289,'CMS Downtime Detail'!$E$24:$E$500,\"Nonmonitoring Equipment Malfunctions\"))","v":""},{"$f":"IF($E289=\"\",\"\",SUMIFS('CMS Downtime Detail'!$K$24:$K$500,'CMS Downtime Detail'!$B$24:$B$500,$B289,'CMS Downtime Detail'!$C$24:$C$500,$C289,'CMS Downtime Detail'!$D$24:$D$500,$D289,'CMS Downtime Detail'!$E$24:$E$500,\"Quality Assurance/Quality Control Calibrations\"))","v":""},{"$f":"IF($E289=\"\",\"\",SUMIFS('CMS Downtime Detail'!$K$24:$K$500,'CMS Downtime Detail'!$B$24:$B$500,$B289,'CMS Downtime Detail'!$C$24:$C$500,$C289,'CMS Downtime Detail'!$D$24:$D$500,$D289,'CMS Downtime Detail'!$E$24:$E$500,\"Other Known Causes\"))","v":""},{"$f":"IF($E289=\"\",\"\",SUMIFS('CMS Downtime Detail'!$K$24:$K$500,'CMS Downtime Detail'!$B$24:$B$500,$B289,'CMS Downtime Detail'!$C$24:$C$500,$C289,'CMS Downtime Detail'!$D$24:$D$500,$D289,'CMS Downtime Detail'!$E$24:$E$500,\"Other Unknown Causes\"))","v":""}]
[null,{"$f":"IF(Lists!AQ268=\"\",\"\",Lists!AQ268)","v":""},{"$f":"IF(Lists!AR268=\"\",\"\",Lists!AR268)","v":""},{"$f":"IF(Lists!AS268=\"\",\"\",Lists!AS268)","v":""},{"$f":"IF(D290=\"\",\"\",VLOOKUP(B290&C290,Lists!$BA$2:$BD$78,4,FALSE))","v":""},"","",{"$f":"IF($E290=\"\",\"\",SUMIFS('CMS Downtime Detail'!$K$24:$K$500,'CMS Downtime Detail'!$B$24:$B$500,$B290,'CMS Downtime Detail'!$C$24:$C$500,$C290,'CMS Downtime Detail'!$D$24:$D$500,$D290,'CMS Downtime Detail'!$E$24:$E$500,\"Monitoring Equipment Malfunctions\"))","v":""},{"$f":"IF($E290=\"\",\"\",SUMIFS('CMS Downtime Detail'!$K$24:$K$500,'CMS Downtime Detail'!$B$24:$B$500,$B290,'CMS Downtime Detail'!$C$24:$C$500,$C290,'CMS Downtime Detail'!$D$24:$D$500,$D290,'CMS Downtime Detail'!$E$24:$E$500,\"Nonmonitoring Equipment Malfunctions\"))","v":""},{"$f":"IF($E290=\"\",\"\",SUMIFS('CMS Downtime Detail'!$K$24:$K$500,'CMS Downtime Detail'!$B$24:$B$500,$B290,'CMS Downtime Detail'!$C$24:$C$500,$C290,'CMS Downtime Detail'!$D$24:$D$500,$D290,'CMS Downtime Detail'!$E$24:$E$500,\"Quality Assurance/Quality Control Calibrations\"))","v":""},{"$f":"IF($E290=\"\",\"\",SUMIFS('CMS Downtime Detail'!$K$24:$K$500,'CMS Downtime Detail'!$B$24:$B$500,$B290,'CMS Downtime Detail'!$C$24:$C$500,$C290,'CMS Downtime Detail'!$D$24:$D$500,$D290,'CMS Downtime Detail'!$E$24:$E$500,\"Other Known Causes\"))","v":""},{"$f":"IF($E290=\"\",\"\",SUMIFS('CMS Downtime Detail'!$K$24:$K$500,'CMS Downtime Detail'!$B$24:$B$500,$B290,'CMS Downtime Detail'!$C$24:$C$500,$C290,'CMS Downtime Detail'!$D$24:$D$500,$D290,'CMS Downtime Detail'!$E$24:$E$500,\"Other Unknown Causes\"))","v":""}]
[null,{"$f":"IF(Lists!AQ269=\"\",\"\",Lists!AQ269)","v":""},{"$f":"IF(Lists!AR269=\"\",\"\",Lists!AR269)","v":""},{"$f":"IF(Lists!AS269=\"\",\"\",Lists!AS269)","v":""},{"$f":"IF(D291=\"\",\"\",VLOOKUP(B291&C291,Lists!$BA$2:$BD$78,4,FALSE))","v":""},"","",{"$f":"IF($E291=\"\",\"\",SUMIFS('CMS Downtime Detail'!$K$24:$K$500,'CMS Downtime Detail'!$B$24:$B$500,$B291,'CMS Downtime Detail'!$C$24:$C$500,$C291,'CMS Downtime Detail'!$D$24:$D$500,$D291,'CMS Downtime Detail'!$E$24:$E$500,\"Monitoring Equipment Malfunctions\"))","v":""},{"$f":"IF($E291=\"\",\"\",SUMIFS('CMS Downtime Detail'!$K$24:$K$500,'CMS Downtime Detail'!$B$24:$B$500,$B291,'CMS Downtime Detail'!$C$24:$C$500,$C291,'CMS Downtime Detail'!$D$24:$D$500,$D291,'CMS Downtime Detail'!$E$24:$E$500,\"Nonmonitoring Equipment Malfunctions\"))","v":""},{"$f":"IF($E291=\"\",\"\",SUMIFS('CMS Downtime Detail'!$K$24:$K$500,'CMS Downtime Detail'!$B$24:$B$500,$B291,'CMS Downtime Detail'!$C$24:$C$500,$C291,'CMS Downtime Detail'!$D$24:$D$500,$D291,'CMS Downtime Detail'!$E$24:$E$500,\"Quality Assurance/Quality Control Calibrations\"))","v":""},{"$f":"IF($E291=\"\",\"\",SUMIFS('CMS Downtime Detail'!$K$24:$K$500,'CMS Downtime Detail'!$B$24:$B$500,$B291,'CMS Downtime Detail'!$C$24:$C$500,$C291,'CMS Downtime Detail'!$D$24:$D$500,$D291,'CMS Downtime Detail'!$E$24:$E$500,\"Other Known Causes\"))","v":""},{"$f":"IF($E291=\"\",\"\",SUMIFS('CMS Downtime Detail'!$K$24:$K$500,'CMS Downtime Detail'!$B$24:$B$500,$B291,'CMS Downtime Detail'!$C$24:$C$500,$C291,'CMS Downtime Detail'!$D$24:$D$500,$D291,'CMS Downtime Detail'!$E$24:$E$500,\"Other Unknown Causes\"))","v":""}]
[null,{"$f":"IF(Lists!AQ270=\"\",\"\",Lists!AQ270)","v":""},{"$f":"IF(Lists!AR270=\"\",\"\",Lists!AR270)","v":""},{"$f":"IF(Lists!AS270=\"\",\"\",Lists!AS270)","v":""},{"$f":"IF(D292=\"\",\"\",VLOOKUP(B292&C292,Lists!$BA$2:$BD$78,4,FALSE))","v":""},"","",{"$f":"IF($E292=\"\",\"\",SUMIFS('CMS Downtime Detail'!$K$24:$K$500,'CMS Downtime Detail'!$B$24:$B$500,$B292,'CMS Downtime Detail'!$C$24:$C$500,$C292,'CMS Downtime Detail'!$D$24:$D$500,$D292,'CMS Downtime Detail'!$E$24:$E$500,\"Monitoring Equipment Malfunctions\"))","v":""},{"$f":"IF($E292=\"\",\"\",SUMIFS('CMS Downtime Detail'!$K$24:$K$500,'CMS Downtime Detail'!$B$24:$B$500,$B292,'CMS Downtime Detail'!$C$24:$C$500,$C292,'CMS Downtime Detail'!$D$24:$D$500,$D292,'CMS Downtime Detail'!$E$24:$E$500,\"Nonmonitoring Equipment Malfunctions\"))","v":""},{"$f":"IF($E292=\"\",\"\",SUMIFS('CMS Downtime Detail'!$K$24:$K$500,'CMS Downtime Detail'!$B$24:$B$500,$B292,'CMS Downtime Detail'!$C$24:$C$500,$C292,'CMS Downtime Detail'!$D$24:$D$500,$D292,'CMS Downtime Detail'!$E$24:$E$500,\"Quality Assurance/Quality Control Calibrations\"))","v":""},{"$f":"IF($E292=\"\",\"\",SUMIFS('CMS Downtime Detail'!$K$24:$K$500,'CMS Downtime Detail'!$B$24:$B$500,$B292,'CMS Downtime Detail'!$C$24:$C$500,$C292,'CMS Downtime Detail'!$D$24:$D$500,$D292,'CMS Downtime Detail'!$E$24:$E$500,\"Other Known Causes\"))","v":""},{"$f":"IF($E292=\"\",\"\",SUMIFS('CMS Downtime Detail'!$K$24:$K$500,'CMS Downtime Detail'!$B$24:$B$500,$B292,'CMS Downtime Detail'!$C$24:$C$500,$C292,'CMS Downtime Detail'!$D$24:$D$500,$D292,'CMS Downtime Detail'!$E$24:$E$500,\"Other Unknown Causes\"))","v":""}]
[null,{"$f":"IF(Lists!AQ271=\"\",\"\",Lists!AQ271)","v":""},{"$f":"IF(Lists!AR271=\"\",\"\",Lists!AR271)","v":""},{"$f":"IF(Lists!AS271=\"\",\"\",Lists!AS271)","v":""},{"$f":"IF(D293=\"\",\"\",VLOOKUP(B293&C293,Lists!$BA$2:$BD$78,4,FALSE))","v":""},"","",{"$f":"IF($E293=\"\",\"\",SUMIFS('CMS Downtime Detail'!$K$24:$K$500,'CMS Downtime Detail'!$B$24:$B$500,$B293,'CMS Downtime Detail'!$C$24:$C$500,$C293,'CMS Downtime Detail'!$D$24:$D$500,$D293,'CMS Downtime Detail'!$E$24:$E$500,\"Monitoring Equipment Malfunctions\"))","v":""},{"$f":"IF($E293=\"\",\"\",SUMIFS('CMS Downtime Detail'!$K$24:$K$500,'CMS Downtime Detail'!$B$24:$B$500,$B293,'CMS Downtime Detail'!$C$24:$C$500,$C293,'CMS Downtime Detail'!$D$24:$D$500,$D293,'CMS Downtime Detail'!$E$24:$E$500,\"Nonmonitoring Equipment Malfunctions\"))","v":""},{"$f":"IF($E293=\"\",\"\",SUMIFS('CMS Downtime Detail'!$K$24:$K$500,'CMS Downtime Detail'!$B$24:$B$500,$B293,'CMS Downtime Detail'!$C$24:$C$500,$C293,'CMS Downtime Detail'!$D$24:$D$500,$D293,'CMS Downtime Detail'!$E$24:$E$500,\"Quality Assurance/Quality Control Calibrations\"))","v":""},{"$f":"IF($E293=\"\",\"\",SUMIFS('CMS Downtime Detail'!$K$24:$K$500,'CMS Downtime Detail'!$B$24:$B$500,$B293,'CMS Downtime Detail'!$C$24:$C$500,$C293,'CMS Downtime Detail'!$D$24:$D$500,$D293,'CMS Downtime Detail'!$E$24:$E$500,\"Other Known Causes\"))","v":""},{"$f":"IF($E293=\"\",\"\",SUMIFS('CMS Downtime Detail'!$K$24:$K$500,'CMS Downtime Detail'!$B$24:$B$500,$B293,'CMS Downtime Detail'!$C$24:$C$500,$C293,'CMS Downtime Detail'!$D$24:$D$500,$D293,'CMS Downtime Detail'!$E$24:$E$500,\"Other Unknown Causes\"))","v":""}]
[null,{"$f":"IF(Lists!AQ272=\"\",\"\",Lists!AQ272)","v":""},{"$f":"IF(Lists!AR272=\"\",\"\",Lists!AR272)","v":""},{"$f":"IF(Lists!AS272=\"\",\"\",Lists!AS272)","v":""},{"$f":"IF(D294=\"\",\"\",VLOOKUP(B294&C294,Lists!$BA$2:$BD$78,4,FALSE))","v":""},"","",{"$f":"IF($E294=\"\",\"\",SUMIFS('CMS Downtime Detail'!$K$24:$K$500,'CMS Downtime Detail'!$B$24:$B$500,$B294,'CMS Downtime Detail'!$C$24:$C$500,$C294,'CMS Downtime Detail'!$D$24:$D$500,$D294,'CMS Downtime Detail'!$E$24:$E$500,\"Monitoring Equipment Malfunctions\"))","v":""},{"$f":"IF($E294=\"\",\"\",SUMIFS('CMS Downtime Detail'!$K$24:$K$500,'CMS Downtime Detail'!$B$24:$B$500,$B294,'CMS Downtime Detail'!$C$24:$C$500,$C294,'CMS Downtime Detail'!$D$24:$D$500,$D294,'CMS Downtime Detail'!$E$24:$E$500,\"Nonmonitoring Equipment Malfunctions\"))","v":""},{"$f":"IF($E294=\"\",\"\",SUMIFS('CMS Downtime Detail'!$K$24:$K$500,'CMS Downtime Detail'!$B$24:$B$500,$B294,'CMS Downtime Detail'!$C$24:$C$500,$C294,'CMS Downtime Detail'!$D$24:$D$500,$D294,'CMS Downtime Detail'!$E$24:$E$500,\"Quality Assurance/Quality Control Calibrations\"))","v":""},{"$f":"IF($E294=\"\",\"\",SUMIFS('CMS Downtime Detail'!$K$24:$K$500,'CMS Downtime Detail'!$B$24:$B$500,$B294,'CMS Downtime Detail'!$C$24:$C$500,$C294,'CMS Downtime Detail'!$D$24:$D$500,$D294,'CMS Downtime Detail'!$E$24:$E$500,\"Other Known Causes\"))","v":""},{"$f":"IF($E294=\"\",\"\",SUMIFS('CMS Downtime Detail'!$K$24:$K$500,'CMS Downtime Detail'!$B$24:$B$500,$B294,'CMS Downtime Detail'!$C$24:$C$500,$C294,'CMS Downtime Detail'!$D$24:$D$500,$D294,'CMS Downtime Detail'!$E$24:$E$500,\"Other Unknown Causes\"))","v":""}]
[null,{"$f":"IF(Lists!AQ273=\"\",\"\",Lists!AQ273)","v":""},{"$f":"IF(Lists!AR273=\"\",\"\",Lists!AR273)","v":""},{"$f":"IF(Lists!AS273=\"\",\"\",Lists!AS273)","v":""},{"$f":"IF(D295=\"\",\"\",VLOOKUP(B295&C295,Lists!$BA$2:$BD$78,4,FALSE))","v":""},"","",{"$f":"IF($E295=\"\",\"\",SUMIFS('CMS Downtime Detail'!$K$24:$K$500,'CMS Downtime Detail'!$B$24:$B$500,$B295,'CMS Downtime Detail'!$C$24:$C$500,$C295,'CMS Downtime Detail'!$D$24:$D$500,$D295,'CMS Downtime Detail'!$E$24:$E$500,\"Monitoring Equipment Malfunctions\"))","v":""},{"$f":"IF($E295=\"\",\"\",SUMIFS('CMS Downtime Detail'!$K$24:$K$500,'CMS Downtime Detail'!$B$24:$B$500,$B295,'CMS Downtime Detail'!$C$24:$C$500,$C295,'CMS Downtime Detail'!$D$24:$D$500,$D295,'CMS Downtime Detail'!$E$24:$E$500,\"Nonmonitoring Equipment Malfunctions\"))","v":""},{"$f":"IF($E295=\"\",\"\",SUMIFS('CMS Downtime Detail'!$K$24:$K$500,'CMS Downtime Detail'!$B$24:$B$500,$B295,'CMS Downtime Detail'!$C$24:$C$500,$C295,'CMS Downtime Detail'!$D$24:$D$500,$D295,'CMS Downtime Detail'!$E$24:$E$500,\"Quality Assurance/Quality Control Calibrations\"))","v":""},{"$f":"IF($E295=\"\",\"\",SUMIFS('CMS Downtime Detail'!$K$24:$K$500,'CMS Downtime Detail'!$B$24:$B$500,$B295,'CMS Downtime Detail'!$C$24:$C$500,$C295,'CMS Downtime Detail'!$D$24:$D$500,$D295,'CMS Downtime Detail'!$E$24:$E$500,\"Other Known Causes\"))","v":""},{"$f":"IF($E295=\"\",\"\",SUMIFS('CMS Downtime Detail'!$K$24:$K$500,'CMS Downtime Detail'!$B$24:$B$500,$B295,'CMS Downtime Detail'!$C$24:$C$500,$C295,'CMS Downtime Detail'!$D$24:$D$500,$D295,'CMS Downtime Detail'!$E$24:$E$500,\"Other Unknown Causes\"))","v":""}]
[null,{"$f":"IF(Lists!AQ274=\"\",\"\",Lists!AQ274)","v":""},{"$f":"IF(Lists!AR274=\"\",\"\",Lists!AR274)","v":""},{"$f":"IF(Lists!AS274=\"\",\"\",Lists!AS274)","v":""},{"$f":"IF(D296=\"\",\"\",VLOOKUP(B296&C296,Lists!$BA$2:$BD$78,4,FALSE))","v":""},"","",{"$f":"IF($E296=\"\",\"\",SUMIFS('CMS Downtime Detail'!$K$24:$K$500,'CMS Downtime Detail'!$B$24:$B$500,$B296,'CMS Downtime Detail'!$C$24:$C$500,$C296,'CMS Downtime Detail'!$D$24:$D$500,$D296,'CMS Downtime Detail'!$E$24:$E$500,\"Monitoring Equipment Malfunctions\"))","v":""},{"$f":"IF($E296=\"\",\"\",SUMIFS('CMS Downtime Detail'!$K$24:$K$500,'CMS Downtime Detail'!$B$24:$B$500,$B296,'CMS Downtime Detail'!$C$24:$C$500,$C296,'CMS Downtime Detail'!$D$24:$D$500,$D296,'CMS Downtime Detail'!$E$24:$E$500,\"Nonmonitoring Equipment Malfunctions\"))","v":""},{"$f":"IF($E296=\"\",\"\",SUMIFS('CMS Downtime Detail'!$K$24:$K$500,'CMS Downtime Detail'!$B$24:$B$500,$B296,'CMS Downtime Detail'!$C$24:$C$500,$C296,'CMS Downtime Detail'!$D$24:$D$500,$D296,'CMS Downtime Detail'!$E$24:$E$500,\"Quality Assurance/Quality Control Calibrations\"))","v":""},{"$f":"IF($E296=\"\",\"\",SUMIFS('CMS Downtime Detail'!$K$24:$K$500,'CMS Downtime Detail'!$B$24:$B$500,$B296,'CMS Downtime Detail'!$C$24:$C$500,$C296,'CMS Downtime Detail'!$D$24:$D$500,$D296,'CMS Downtime Detail'!$E$24:$E$500,\"Other Known Causes\"))","v":""},{"$f":"IF($E296=\"\",\"\",SUMIFS('CMS Downtime Detail'!$K$24:$K$500,'CMS Downtime Detail'!$B$24:$B$500,$B296,'CMS Downtime Detail'!$C$24:$C$500,$C296,'CMS Downtime Detail'!$D$24:$D$500,$D296,'CMS Downtime Detail'!$E$24:$E$500,\"Other Unknown Causes\"))","v":""}]
[null,{"$f":"IF(Lists!AQ275=\"\",\"\",Lists!AQ275)","v":""},{"$f":"IF(Lists!AR275=\"\",\"\",Lists!AR275)","v":""},{"$f":"IF(Lists!AS275=\"\",\"\",Lists!AS275)","v":""},{"$f":"IF(D297=\"\",\"\",VLOOKUP(B297&C297,Lists!$BA$2:$BD$78,4,FALSE))","v":""},"","",{"$f":"IF($E297=\"\",\"\",SUMIFS('CMS Downtime Detail'!$K$24:$K$500,'CMS Downtime Detail'!$B$24:$B$500,$B297,'CMS Downtime Detail'!$C$24:$C$500,$C297,'CMS Downtime Detail'!$D$24:$D$500,$D297,'CMS Downtime Detail'!$E$24:$E$500,\"Monitoring Equipment Malfunctions\"))","v":""},{"$f":"IF($E297=\"\",\"\",SUMIFS('CMS Downtime Detail'!$K$24:$K$500,'CMS Downtime Detail'!$B$24:$B$500,$B297,'CMS Downtime Detail'!$C$24:$C$500,$C297,'CMS Downtime Detail'!$D$24:$D$500,$D297,'CMS Downtime Detail'!$E$24:$E$500,\"Nonmonitoring Equipment Malfunctions\"))","v":""},{"$f":"IF($E297=\"\",\"\",SUMIFS('CMS Downtime Detail'!$K$24:$K$500,'CMS Downtime Detail'!$B$24:$B$500,$B297,'CMS Downtime Detail'!$C$24:$C$500,$C297,'CMS Downtime Detail'!$D$24:$D$500,$D297,'CMS Downtime Detail'!$E$24:$E$500,\"Quality Assurance/Quality Control Calibrations\"))","v":""},{"$f":"IF($E297=\"\",\"\",SUMIFS('CMS Downtime Detail'!$K$24:$K$500,'CMS Downtime Detail'!$B$24:$B$500,$B297,'CMS Downtime Detail'!$C$24:$C$500,$C297,'CMS Downtime Detail'!$D$24:$D$500,$D297,'CMS Downtime Detail'!$E$24:$E$500,\"Other Known Causes\"))","v":""},{"$f":"IF($E297=\"\",\"\",SUMIFS('CMS Downtime Detail'!$K$24:$K$500,'CMS Downtime Detail'!$B$24:$B$500,$B297,'CMS Downtime Detail'!$C$24:$C$500,$C297,'CMS Downtime Detail'!$D$24:$D$500,$D297,'CMS Downtime Detail'!$E$24:$E$500,\"Other Unknown Causes\"))","v":""}]
[null,{"$f":"IF(Lists!AQ276=\"\",\"\",Lists!AQ276)","v":""},{"$f":"IF(Lists!AR276=\"\",\"\",Lists!AR276)","v":""},{"$f":"IF(Lists!AS276=\"\",\"\",Lists!AS276)","v":""},{"$f":"IF(D298=\"\",\"\",VLOOKUP(B298&C298,Lists!$BA$2:$BD$78,4,FALSE))","v":""},"","",{"$f":"IF($E298=\"\",\"\",SUMIFS('CMS Downtime Detail'!$K$24:$K$500,'CMS Downtime Detail'!$B$24:$B$500,$B298,'CMS Downtime Detail'!$C$24:$C$500,$C298,'CMS Downtime Detail'!$D$24:$D$500,$D298,'CMS Downtime Detail'!$E$24:$E$500,\"Monitoring Equipment Malfunctions\"))","v":""},{"$f":"IF($E298=\"\",\"\",SUMIFS('CMS Downtime Detail'!$K$24:$K$500,'CMS Downtime Detail'!$B$24:$B$500,$B298,'CMS Downtime Detail'!$C$24:$C$500,$C298,'CMS Downtime Detail'!$D$24:$D$500,$D298,'CMS Downtime Detail'!$E$24:$E$500,\"Nonmonitoring Equipment Malfunctions\"))","v":""},{"$f":"IF($E298=\"\",\"\",SUMIFS('CMS Downtime Detail'!$K$24:$K$500,'CMS Downtime Detail'!$B$24:$B$500,$B298,'CMS Downtime Detail'!$C$24:$C$500,$C298,'CMS Downtime Detail'!$D$24:$D$500,$D298,'CMS Downtime Detail'!$E$24:$E$500,\"Quality Assurance/Quality Control Calibrations\"))","v":""},{"$f":"IF($E298=\"\",\"\",SUMIFS('CMS Downtime Detail'!$K$24:$K$500,'CMS Downtime Detail'!$B$24:$B$500,$B298,'CMS Downtime Detail'!$C$24:$C$500,$C298,'CMS Downtime Detail'!$D$24:$D$500,$D298,'CMS Downtime Detail'!$E$24:$E$500,\"Other Known Causes\"))","v":""},{"$f":"IF($E298=\"\",\"\",SUMIFS('CMS Downtime Detail'!$K$24:$K$500,'CMS Downtime Detail'!$B$24:$B$500,$B298,'CMS Downtime Detail'!$C$24:$C$500,$C298,'CMS Downtime Detail'!$D$24:$D$500,$D298,'CMS Downtime Detail'!$E$24:$E$500,\"Other Unknown Causes\"))","v":""}]
[null,{"$f":"IF(Lists!AQ277=\"\",\"\",Lists!AQ277)","v":""},{"$f":"IF(Lists!AR277=\"\",\"\",Lists!AR277)","v":""},{"$f":"IF(Lists!AS277=\"\",\"\",Lists!AS277)","v":""},{"$f":"IF(D299=\"\",\"\",VLOOKUP(B299&C299,Lists!$BA$2:$BD$78,4,FALSE))","v":""},"","",{"$f":"IF($E299=\"\",\"\",SUMIFS('CMS Downtime Detail'!$K$24:$K$500,'CMS Downtime Detail'!$B$24:$B$500,$B299,'CMS Downtime Detail'!$C$24:$C$500,$C299,'CMS Downtime Detail'!$D$24:$D$500,$D299,'CMS Downtime Detail'!$E$24:$E$500,\"Monitoring Equipment Malfunctions\"))","v":""},{"$f":"IF($E299=\"\",\"\",SUMIFS('CMS Downtime Detail'!$K$24:$K$500,'CMS Downtime Detail'!$B$24:$B$500,$B299,'CMS Downtime Detail'!$C$24:$C$500,$C299,'CMS Downtime Detail'!$D$24:$D$500,$D299,'CMS Downtime Detail'!$E$24:$E$500,\"Nonmonitoring Equipment Malfunctions\"))","v":""},{"$f":"IF($E299=\"\",\"\",SUMIFS('CMS Downtime Detail'!$K$24:$K$500,'CMS Downtime Detail'!$B$24:$B$500,$B299,'CMS Downtime Detail'!$C$24:$C$500,$C299,'CMS Downtime Detail'!$D$24:$D$500,$D299,'CMS Downtime Detail'!$E$24:$E$500,\"Quality Assurance/Quality Control Calibrations\"))","v":""},{"$f":"IF($E299=\"\",\"\",SUMIFS('CMS Downtime Detail'!$K$24:$K$500,'CMS Downtime Detail'!$B$24:$B$500,$B299,'CMS Downtime Detail'!$C$24:$C$500,$C299,'CMS Downtime Detail'!$D$24:$D$500,$D299,'CMS Downtime Detail'!$E$24:$E$500,\"Other Known Causes\"))","v":""},{"$f":"IF($E299=\"\",\"\",SUMIFS('CMS Downtime Detail'!$K$24:$K$500,'CMS Downtime Detail'!$B$24:$B$500,$B299,'CMS Downtime Detail'!$C$24:$C$500,$C299,'CMS Downtime Detail'!$D$24:$D$500,$D299,'CMS Downtime Detail'!$E$24:$E$500,\"Other Unknown Causes\"))","v":""}]
[null,{"$f":"IF(Lists!AQ278=\"\",\"\",Lists!AQ278)","v":""},{"$f":"IF(Lists!AR278=\"\",\"\",Lists!AR278)","v":""},{"$f":"IF(Lists!AS278=\"\",\"\",Lists!AS278)","v":""},{"$f":"IF(D300=\"\",\"\",VLOOKUP(B300&C300,Lists!$BA$2:$BD$78,4,FALSE))","v":""},"","",{"$f":"IF($E300=\"\",\"\",SUMIFS('CMS Downtime Detail'!$K$24:$K$500,'CMS Downtime Detail'!$B$24:$B$500,$B300,'CMS Downtime Detail'!$C$24:$C$500,$C300,'CMS Downtime Detail'!$D$24:$D$500,$D300,'CMS Downtime Detail'!$E$24:$E$500,\"Monitoring Equipment Malfunctions\"))","v":""},{"$f":"IF($E300=\"\",\"\",SUMIFS('CMS Downtime Detail'!$K$24:$K$500,'CMS Downtime Detail'!$B$24:$B$500,$B300,'CMS Downtime Detail'!$C$24:$C$500,$C300,'CMS Downtime Detail'!$D$24:$D$500,$D300,'CMS Downtime Detail'!$E$24:$E$500,\"Nonmonitoring Equipment Malfunctions\"))","v":""},{"$f":"IF($E300=\"\",\"\",SUMIFS('CMS Downtime Detail'!$K$24:$K$500,'CMS Downtime Detail'!$B$24:$B$500,$B300,'CMS Downtime Detail'!$C$24:$C$500,$C300,'CMS Downtime Detail'!$D$24:$D$500,$D300,'CMS Downtime Detail'!$E$24:$E$500,\"Quality Assurance/Quality Control Calibrations\"))","v":""},{"$f":"IF($E300=\"\",\"\",SUMIFS('CMS Downtime Detail'!$K$24:$K$500,'CMS Downtime Detail'!$B$24:$B$500,$B300,'CMS Downtime Detail'!$C$24:$C$500,$C300,'CMS Downtime Detail'!$D$24:$D$500,$D300,'CMS Downtime Detail'!$E$24:$E$500,\"Other Known Causes\"))","v":""},{"$f":"IF($E300=\"\",\"\",SUMIFS('CMS Downtime Detail'!$K$24:$K$500,'CMS Downtime Detail'!$B$24:$B$500,$B300,'CMS Downtime Detail'!$C$24:$C$500,$C300,'CMS Downtime Detail'!$D$24:$D$500,$D300,'CMS Downtime Detail'!$E$24:$E$500,\"Other Unknown Causes\"))","v":""}]
[null,{"$f":"IF(Lists!AQ279=\"\",\"\",Lists!AQ279)","v":""},{"$f":"IF(Lists!AR279=\"\",\"\",Lists!AR279)","v":""},{"$f":"IF(Lists!AS279=\"\",\"\",Lists!AS279)","v":""},{"$f":"IF(D301=\"\",\"\",VLOOKUP(B301&C301,Lists!$BA$2:$BD$78,4,FALSE))","v":""},"","",{"$f":"IF($E301=\"\",\"\",SUMIFS('CMS Downtime Detail'!$K$24:$K$500,'CMS Downtime Detail'!$B$24:$B$500,$B301,'CMS Downtime Detail'!$C$24:$C$500,$C301,'CMS Downtime Detail'!$D$24:$D$500,$D301,'CMS Downtime Detail'!$E$24:$E$500,\"Monitoring Equipment Malfunctions\"))","v":""},{"$f":"IF($E301=\"\",\"\",SUMIFS('CMS Downtime Detail'!$K$24:$K$500,'CMS Downtime Detail'!$B$24:$B$500,$B301,'CMS Downtime Detail'!$C$24:$C$500,$C301,'CMS Downtime Detail'!$D$24:$D$500,$D301,'CMS Downtime Detail'!$E$24:$E$500,\"Nonmonitoring Equipment Malfunctions\"))","v":""},{"$f":"IF($E301=\"\",\"\",SUMIFS('CMS Downtime Detail'!$K$24:$K$500,'CMS Downtime Detail'!$B$24:$B$500,$B301,'CMS Downtime Detail'!$C$24:$C$500,$C301,'CMS Downtime Detail'!$D$24:$D$500,$D301,'CMS Downtime Detail'!$E$24:$E$500,\"Quality Assurance/Quality Control Calibrations\"))","v":""},{"$f":"IF($E301=\"\",\"\",SUMIFS('CMS Downtime Detail'!$K$24:$K$500,'CMS Downtime Detail'!$B$24:$B$500,$B301,'CMS Downtime Detail'!$C$24:$C$500,$C301,'CMS Downtime Detail'!$D$24:$D$500,$D301,'CMS Downtime Detail'!$E$24:$E$500,\"Other Known Causes\"))","v":""},{"$f":"IF($E301=\"\",\"\",SUMIFS('CMS Downtime Detail'!$K$24:$K$500,'CMS Downtime Detail'!$B$24:$B$500,$B301,'CMS Downtime Detail'!$C$24:$C$500,$C301,'CMS Downtime Detail'!$D$24:$D$500,$D301,'CMS Downtime Detail'!$E$24:$E$500,\"Other Unknown Causes\"))","v":""}]
[null,{"$f":"IF(Lists!AQ280=\"\",\"\",Lists!AQ280)","v":""},{"$f":"IF(Lists!AR280=\"\",\"\",Lists!AR280)","v":""},{"$f":"IF(Lists!AS280=\"\",\"\",Lists!AS280)","v":""},{"$f":"IF(D302=\"\",\"\",VLOOKUP(B302&C302,Lists!$BA$2:$BD$78,4,FALSE))","v":""},"","",{"$f":"IF($E302=\"\",\"\",SUMIFS('CMS Downtime Detail'!$K$24:$K$500,'CMS Downtime Detail'!$B$24:$B$500,$B302,'CMS Downtime Detail'!$C$24:$C$500,$C302,'CMS Downtime Detail'!$D$24:$D$500,$D302,'CMS Downtime Detail'!$E$24:$E$500,\"Monitoring Equipment Malfunctions\"))","v":""},{"$f":"IF($E302=\"\",\"\",SUMIFS('CMS Downtime Detail'!$K$24:$K$500,'CMS Downtime Detail'!$B$24:$B$500,$B302,'CMS Downtime Detail'!$C$24:$C$500,$C302,'CMS Downtime Detail'!$D$24:$D$500,$D302,'CMS Downtime Detail'!$E$24:$E$500,\"Nonmonitoring Equipment Malfunctions\"))","v":""},{"$f":"IF($E302=\"\",\"\",SUMIFS('CMS Downtime Detail'!$K$24:$K$500,'CMS Downtime Detail'!$B$24:$B$500,$B302,'CMS Downtime Detail'!$C$24:$C$500,$C302,'CMS Downtime Detail'!$D$24:$D$500,$D302,'CMS Downtime Detail'!$E$24:$E$500,\"Quality Assurance/Quality Control Calibrations\"))","v":""},{"$f":"IF($E302=\"\",\"\",SUMIFS('CMS Downtime Detail'!$K$24:$K$500,'CMS Downtime Detail'!$B$24:$B$500,$B302,'CMS Downtime Detail'!$C$24:$C$500,$C302,'CMS Downtime Detail'!$D$24:$D$500,$D302,'CMS Downtime Detail'!$E$24:$E$500,\"Other Known Causes\"))","v":""},{"$f":"IF($E302=\"\",\"\",SUMIFS('CMS Downtime Detail'!$K$24:$K$500,'CMS Downtime Detail'!$B$24:$B$500,$B302,'CMS Downtime Detail'!$C$24:$C$500,$C302,'CMS Downtime Detail'!$D$24:$D$500,$D302,'CMS Downtime Detail'!$E$24:$E$500,\"Other Unknown Causes\"))","v":""}]
[null,{"$f":"IF(Lists!AQ281=\"\",\"\",Lists!AQ281)","v":""},{"$f":"IF(Lists!AR281=\"\",\"\",Lists!AR281)","v":""},{"$f":"IF(Lists!AS281=\"\",\"\",Lists!AS281)","v":""},{"$f":"IF(D303=\"\",\"\",VLOOKUP(B303&C303,Lists!$BA$2:$BD$78,4,FALSE))","v":""},"","",{"$f":"IF($E303=\"\",\"\",SUMIFS('CMS Downtime Detail'!$K$24:$K$500,'CMS Downtime Detail'!$B$24:$B$500,$B303,'CMS Downtime Detail'!$C$24:$C$500,$C303,'CMS Downtime Detail'!$D$24:$D$500,$D303,'CMS Downtime Detail'!$E$24:$E$500,\"Monitoring Equipment Malfunctions\"))","v":""},{"$f":"IF($E303=\"\",\"\",SUMIFS('CMS Downtime Detail'!$K$24:$K$500,'CMS Downtime Detail'!$B$24:$B$500,$B303,'CMS Downtime Detail'!$C$24:$C$500,$C303,'CMS Downtime Detail'!$D$24:$D$500,$D303,'CMS Downtime Detail'!$E$24:$E$500,\"Nonmonitoring Equipment Malfunctions\"))","v":""},{"$f":"IF($E303=\"\",\"\",SUMIFS('CMS Downtime Detail'!$K$24:$K$500,'CMS Downtime Detail'!$B$24:$B$500,$B303,'CMS Downtime Detail'!$C$24:$C$500,$C303,'CMS Downtime Detail'!$D$24:$D$500,$D303,'CMS Downtime Detail'!$E$24:$E$500,\"Quality Assurance/Quality Control Calibrations\"))","v":""},{"$f":"IF($E303=\"\",\"\",SUMIFS('CMS Downtime Detail'!$K$24:$K$500,'CMS Downtime Detail'!$B$24:$B$500,$B303,'CMS Downtime Detail'!$C$24:$C$500,$C303,'CMS Downtime Detail'!$D$24:$D$500,$D303,'CMS Downtime Detail'!$E$24:$E$500,\"Other Known Causes\"))","v":""},{"$f":"IF($E303=\"\",\"\",SUMIFS('CMS Downtime Detail'!$K$24:$K$500,'CMS Downtime Detail'!$B$24:$B$500,$B303,'CMS Downtime Detail'!$C$24:$C$500,$C303,'CMS Downtime Detail'!$D$24:$D$500,$D303,'CMS Downtime Detail'!$E$24:$E$500,\"Other Unknown Causes\"))","v":""}]
[null,{"$f":"IF(Lists!AQ282=\"\",\"\",Lists!AQ282)","v":""},{"$f":"IF(Lists!AR282=\"\",\"\",Lists!AR282)","v":""},{"$f":"IF(Lists!AS282=\"\",\"\",Lists!AS282)","v":""},{"$f":"IF(D304=\"\",\"\",VLOOKUP(B304&C304,Lists!$BA$2:$BD$78,4,FALSE))","v":""},"","",{"$f":"IF($E304=\"\",\"\",SUMIFS('CMS Downtime Detail'!$K$24:$K$500,'CMS Downtime Detail'!$B$24:$B$500,$B304,'CMS Downtime Detail'!$C$24:$C$500,$C304,'CMS Downtime Detail'!$D$24:$D$500,$D304,'CMS Downtime Detail'!$E$24:$E$500,\"Monitoring Equipment Malfunctions\"))","v":""},{"$f":"IF($E304=\"\",\"\",SUMIFS('CMS Downtime Detail'!$K$24:$K$500,'CMS Downtime Detail'!$B$24:$B$500,$B304,'CMS Downtime Detail'!$C$24:$C$500,$C304,'CMS Downtime Detail'!$D$24:$D$500,$D304,'CMS Downtime Detail'!$E$24:$E$500,\"Nonmonitoring Equipment Malfunctions\"))","v":""},{"$f":"IF($E304=\"\",\"\",SUMIFS('CMS Downtime Detail'!$K$24:$K$500,'CMS Downtime Detail'!$B$24:$B$500,$B304,'CMS Downtime Detail'!$C$24:$C$500,$C304,'CMS Downtime Detail'!$D$24:$D$500,$D304,'CMS Downtime Detail'!$E$24:$E$500,\"Quality Assurance/Quality Control Calibrations\"))","v":""},{"$f":"IF($E304=\"\",\"\",SUMIFS('CMS Downtime Detail'!$K$24:$K$500,'CMS Downtime Detail'!$B$24:$B$500,$B304,'CMS Downtime Detail'!$C$24:$C$500,$C304,'CMS Downtime Detail'!$D$24:$D$500,$D304,'CMS Downtime Detail'!$E$24:$E$500,\"Other Known Causes\"))","v":""},{"$f":"IF($E304=\"\",\"\",SUMIFS('CMS Downtime Detail'!$K$24:$K$500,'CMS Downtime Detail'!$B$24:$B$500,$B304,'CMS Downtime Detail'!$C$24:$C$500,$C304,'CMS Downtime Detail'!$D$24:$D$500,$D304,'CMS Downtime Detail'!$E$24:$E$500,\"Other Unknown Causes\"))","v":""}]
[null,{"$f":"IF(Lists!AQ283=\"\",\"\",Lists!AQ283)","v":""},{"$f":"IF(Lists!AR283=\"\",\"\",Lists!AR283)","v":""},{"$f":"IF(Lists!AS283=\"\",\"\",Lists!AS283)","v":""},{"$f":"IF(D305=\"\",\"\",VLOOKUP(B305&C305,Lists!$BA$2:$BD$78,4,FALSE))","v":""},"","",{"$f":"IF($E305=\"\",\"\",SUMIFS('CMS Downtime Detail'!$K$24:$K$500,'CMS Downtime Detail'!$B$24:$B$500,$B305,'CMS Downtime Detail'!$C$24:$C$500,$C305,'CMS Downtime Detail'!$D$24:$D$500,$D305,'CMS Downtime Detail'!$E$24:$E$500,\"Monitoring Equipment Malfunctions\"))","v":""},{"$f":"IF($E305=\"\",\"\",SUMIFS('CMS Downtime Detail'!$K$24:$K$500,'CMS Downtime Detail'!$B$24:$B$500,$B305,'CMS Downtime Detail'!$C$24:$C$500,$C305,'CMS Downtime Detail'!$D$24:$D$500,$D305,'CMS Downtime Detail'!$E$24:$E$500,\"Nonmonitoring Equipment Malfunctions\"))","v":""},{"$f":"IF($E305=\"\",\"\",SUMIFS('CMS Downtime Detail'!$K$24:$K$500,'CMS Downtime Detail'!$B$24:$B$500,$B305,'CMS Downtime Detail'!$C$24:$C$500,$C305,'CMS Downtime Detail'!$D$24:$D$500,$D305,'CMS Downtime Detail'!$E$24:$E$500,\"Quality Assurance/Quality Control Calibrations\"))","v":""},{"$f":"IF($E305=\"\",\"\",SUMIFS('CMS Downtime Detail'!$K$24:$K$500,'CMS Downtime Detail'!$B$24:$B$500,$B305,'CMS Downtime Detail'!$C$24:$C$500,$C305,'CMS Downtime Detail'!$D$24:$D$500,$D305,'CMS Downtime Detail'!$E$24:$E$500,\"Other Known Causes\"))","v":""},{"$f":"IF($E305=\"\",\"\",SUMIFS('CMS Downtime Detail'!$K$24:$K$500,'CMS Downtime Detail'!$B$24:$B$500,$B305,'CMS Downtime Detail'!$C$24:$C$500,$C305,'CMS Downtime Detail'!$D$24:$D$500,$D305,'CMS Downtime Detail'!$E$24:$E$500,\"Other Unknown Causes\"))","v":""}]
[null,{"$f":"IF(Lists!AQ284=\"\",\"\",Lists!AQ284)","v":""},{"$f":"IF(Lists!AR284=\"\",\"\",Lists!AR284)","v":""},{"$f":"IF(Lists!AS284=\"\",\"\",Lists!AS284)","v":""},{"$f":"IF(D306=\"\",\"\",VLOOKUP(B306&C306,Lists!$BA$2:$BD$78,4,FALSE))","v":""},"","",{"$f":"IF($E306=\"\",\"\",SUMIFS('CMS Downtime Detail'!$K$24:$K$500,'CMS Downtime Detail'!$B$24:$B$500,$B306,'CMS Downtime Detail'!$C$24:$C$500,$C306,'CMS Downtime Detail'!$D$24:$D$500,$D306,'CMS Downtime Detail'!$E$24:$E$500,\"Monitoring Equipment Malfunctions\"))","v":""},{"$f":"IF($E306=\"\",\"\",SUMIFS('CMS Downtime Detail'!$K$24:$K$500,'CMS Downtime Detail'!$B$24:$B$500,$B306,'CMS Downtime Detail'!$C$24:$C$500,$C306,'CMS Downtime Detail'!$D$24:$D$500,$D306,'CMS Downtime Detail'!$E$24:$E$500,\"Nonmonitoring Equipment Malfunctions\"))","v":""},{"$f":"IF($E306=\"\",\"\",SUMIFS('CMS Downtime Detail'!$K$24:$K$500,'CMS Downtime Detail'!$B$24:$B$500,$B306,'CMS Downtime Detail'!$C$24:$C$500,$C306,'CMS Downtime Detail'!$D$24:$D$500,$D306,'CMS Downtime Detail'!$E$24:$E$500,\"Quality Assurance/Quality Control Calibrations\"))","v":""},{"$f":"IF($E306=\"\",\"\",SUMIFS('CMS Downtime Detail'!$K$24:$K$500,'CMS Downtime Detail'!$B$24:$B$500,$B306,'CMS Downtime Detail'!$C$24:$C$500,$C306,'CMS Downtime Detail'!$D$24:$D$500,$D306,'CMS Downtime Detail'!$E$24:$E$500,\"Other Known Causes\"))","v":""},{"$f":"IF($E306=\"\",\"\",SUMIFS('CMS Downtime Detail'!$K$24:$K$500,'CMS Downtime Detail'!$B$24:$B$500,$B306,'CMS Downtime Detail'!$C$24:$C$500,$C306,'CMS Downtime Detail'!$D$24:$D$500,$D306,'CMS Downtime Detail'!$E$24:$E$500,\"Other Unknown Causes\"))","v":""}]
[null,{"$f":"IF(Lists!AQ285=\"\",\"\",Lists!AQ285)","v":""},{"$f":"IF(Lists!AR285=\"\",\"\",Lists!AR285)","v":""},{"$f":"IF(Lists!AS285=\"\",\"\",Lists!AS285)","v":""},{"$f":"IF(D307=\"\",\"\",VLOOKUP(B307&C307,Lists!$BA$2:$BD$78,4,FALSE))","v":""},"","",{"$f":"IF($E307=\"\",\"\",SUMIFS('CMS Downtime Detail'!$K$24:$K$500,'CMS Downtime Detail'!$B$24:$B$500,$B307,'CMS Downtime Detail'!$C$24:$C$500,$C307,'CMS Downtime Detail'!$D$24:$D$500,$D307,'CMS Downtime Detail'!$E$24:$E$500,\"Monitoring Equipment Malfunctions\"))","v":""},{"$f":"IF($E307=\"\",\"\",SUMIFS('CMS Downtime Detail'!$K$24:$K$500,'CMS Downtime Detail'!$B$24:$B$500,$B307,'CMS Downtime Detail'!$C$24:$C$500,$C307,'CMS Downtime Detail'!$D$24:$D$500,$D307,'CMS Downtime Detail'!$E$24:$E$500,\"Nonmonitoring Equipment Malfunctions\"))","v":""},{"$f":"IF($E307=\"\",\"\",SUMIFS('CMS Downtime Detail'!$K$24:$K$500,'CMS Downtime Detail'!$B$24:$B$500,$B307,'CMS Downtime Detail'!$C$24:$C$500,$C307,'CMS Downtime Detail'!$D$24:$D$500,$D307,'CMS Downtime Detail'!$E$24:$E$500,\"Quality Assurance/Quality Control Calibrations\"))","v":""},{"$f":"IF($E307=\"\",\"\",SUMIFS('CMS Downtime Detail'!$K$24:$K$500,'CMS Downtime Detail'!$B$24:$B$500,$B307,'CMS Downtime Detail'!$C$24:$C$500,$C307,'CMS Downtime Detail'!$D$24:$D$500,$D307,'CMS Downtime Detail'!$E$24:$E$500,\"Other Known Causes\"))","v":""},{"$f":"IF($E307=\"\",\"\",SUMIFS('CMS Downtime Detail'!$K$24:$K$500,'CMS Downtime Detail'!$B$24:$B$500,$B307,'CMS Downtime Detail'!$C$24:$C$500,$C307,'CMS Downtime Detail'!$D$24:$D$500,$D307,'CMS Downtime Detail'!$E$24:$E$500,\"Other Unknown Causes\"))","v":""}]
[null,{"$f":"IF(Lists!AQ286=\"\",\"\",Lists!AQ286)","v":""},{"$f":"IF(Lists!AR286=\"\",\"\",Lists!AR286)","v":""},{"$f":"IF(Lists!AS286=\"\",\"\",Lists!AS286)","v":""},{"$f":"IF(D308=\"\",\"\",VLOOKUP(B308&C308,Lists!$BA$2:$BD$78,4,FALSE))","v":""},"","",{"$f":"IF($E308=\"\",\"\",SUMIFS('CMS Downtime Detail'!$K$24:$K$500,'CMS Downtime Detail'!$B$24:$B$500,$B308,'CMS Downtime Detail'!$C$24:$C$500,$C308,'CMS Downtime Detail'!$D$24:$D$500,$D308,'CMS Downtime Detail'!$E$24:$E$500,\"Monitoring Equipment Malfunctions\"))","v":""},{"$f":"IF($E308=\"\",\"\",SUMIFS('CMS Downtime Detail'!$K$24:$K$500,'CMS Downtime Detail'!$B$24:$B$500,$B308,'CMS Downtime Detail'!$C$24:$C$500,$C308,'CMS Downtime Detail'!$D$24:$D$500,$D308,'CMS Downtime Detail'!$E$24:$E$500,\"Nonmonitoring Equipment Malfunctions\"))","v":""},{"$f":"IF($E308=\"\",\"\",SUMIFS('CMS Downtime Detail'!$K$24:$K$500,'CMS Downtime Detail'!$B$24:$B$500,$B308,'CMS Downtime Detail'!$C$24:$C$500,$C308,'CMS Downtime Detail'!$D$24:$D$500,$D308,'CMS Downtime Detail'!$E$24:$E$500,\"Quality Assurance/Quality Control Calibrations\"))","v":""},{"$f":"IF($E308=\"\",\"\",SUMIFS('CMS Downtime Detail'!$K$24:$K$500,'CMS Downtime Detail'!$B$24:$B$500,$B308,'CMS Downtime Detail'!$C$24:$C$500,$C308,'CMS Downtime Detail'!$D$24:$D$500,$D308,'CMS Downtime Detail'!$E$24:$E$500,\"Other Known Causes\"))","v":""},{"$f":"IF($E308=\"\",\"\",SUMIFS('CMS Downtime Detail'!$K$24:$K$500,'CMS Downtime Detail'!$B$24:$B$500,$B308,'CMS Downtime Detail'!$C$24:$C$500,$C308,'CMS Downtime Detail'!$D$24:$D$500,$D308,'CMS Downtime Detail'!$E$24:$E$500,\"Other Unknown Causes\"))","v":""}]
[null,{"$f":"IF(Lists!AQ287=\"\",\"\",Lists!AQ287)","v":""},{"$f":"IF(Lists!AR287=\"\",\"\",Lists!AR287)","v":""},{"$f":"IF(Lists!AS287=\"\",\"\",Lists!AS287)","v":""},{"$f":"IF(D309=\"\",\"\",VLOOKUP(B309&C309,Lists!$BA$2:$BD$78,4,FALSE))","v":""},"","",{"$f":"IF($E309=\"\",\"\",SUMIFS('CMS Downtime Detail'!$K$24:$K$500,'CMS Downtime Detail'!$B$24:$B$500,$B309,'CMS Downtime Detail'!$C$24:$C$500,$C309,'CMS Downtime Detail'!$D$24:$D$500,$D309,'CMS Downtime Detail'!$E$24:$E$500,\"Monitoring Equipment Malfunctions\"))","v":""},{"$f":"IF($E309=\"\",\"\",SUMIFS('CMS Downtime Detail'!$K$24:$K$500,'CMS Downtime Detail'!$B$24:$B$500,$B309,'CMS Downtime Detail'!$C$24:$C$500,$C309,'CMS Downtime Detail'!$D$24:$D$500,$D309,'CMS Downtime Detail'!$E$24:$E$500,\"Nonmonitoring Equipment Malfunctions\"))","v":""},{"$f":"IF($E309=\"\",\"\",SUMIFS('CMS Downtime Detail'!$K$24:$K$500,'CMS Downtime Detail'!$B$24:$B$500,$B309,'CMS Downtime Detail'!$C$24:$C$500,$C309,'CMS Downtime Detail'!$D$24:$D$500,$D309,'CMS Downtime Detail'!$E$24:$E$500,\"Quality Assurance/Quality Control Calibrations\"))","v":""},{"$f":"IF($E309=\"\",\"\",SUMIFS('CMS Downtime Detail'!$K$24:$K$500,'CMS Downtime Detail'!$B$24:$B$500,$B309,'CMS Downtime Detail'!$C$24:$C$500,$C309,'CMS Downtime Detail'!$D$24:$D$500,$D309,'CMS Downtime Detail'!$E$24:$E$500,\"Other Known Causes\"))","v":""},{"$f":"IF($E309=\"\",\"\",SUMIFS('CMS Downtime Detail'!$K$24:$K$500,'CMS Downtime Detail'!$B$24:$B$500,$B309,'CMS Downtime Detail'!$C$24:$C$500,$C309,'CMS Downtime Detail'!$D$24:$D$500,$D309,'CMS Downtime Detail'!$E$24:$E$500,\"Other Unknown Causes\"))","v":""}]
[null,{"$f":"IF(Lists!AQ288=\"\",\"\",Lists!AQ288)","v":""},{"$f":"IF(Lists!AR288=\"\",\"\",Lists!AR288)","v":""},{"$f":"IF(Lists!AS288=\"\",\"\",Lists!AS288)","v":""},{"$f":"IF(D310=\"\",\"\",VLOOKUP(B310&C310,Lists!$BA$2:$BD$78,4,FALSE))","v":""},"","",{"$f":"IF($E310=\"\",\"\",SUMIFS('CMS Downtime Detail'!$K$24:$K$500,'CMS Downtime Detail'!$B$24:$B$500,$B310,'CMS Downtime Detail'!$C$24:$C$500,$C310,'CMS Downtime Detail'!$D$24:$D$500,$D310,'CMS Downtime Detail'!$E$24:$E$500,\"Monitoring Equipment Malfunctions\"))","v":""},{"$f":"IF($E310=\"\",\"\",SUMIFS('CMS Downtime Detail'!$K$24:$K$500,'CMS Downtime Detail'!$B$24:$B$500,$B310,'CMS Downtime Detail'!$C$24:$C$500,$C310,'CMS Downtime Detail'!$D$24:$D$500,$D310,'CMS Downtime Detail'!$E$24:$E$500,\"Nonmonitoring Equipment Malfunctions\"))","v":""},{"$f":"IF($E310=\"\",\"\",SUMIFS('CMS Downtime Detail'!$K$24:$K$500,'CMS Downtime Detail'!$B$24:$B$500,$B310,'CMS Downtime Detail'!$C$24:$C$500,$C310,'CMS Downtime Detail'!$D$24:$D$500,$D310,'CMS Downtime Detail'!$E$24:$E$500,\"Quality Assurance/Quality Control Calibrations\"))","v":""},{"$f":"IF($E310=\"\",\"\",SUMIFS('CMS Downtime Detail'!$K$24:$K$500,'CMS Downtime Detail'!$B$24:$B$500,$B310,'CMS Downtime Detail'!$C$24:$C$500,$C310,'CMS Downtime Detail'!$D$24:$D$500,$D310,'CMS Downtime Detail'!$E$24:$E$500,\"Other Known Causes\"))","v":""},{"$f":"IF($E310=\"\",\"\",SUMIFS('CMS Downtime Detail'!$K$24:$K$500,'CMS Downtime Detail'!$B$24:$B$500,$B310,'CMS Downtime Detail'!$C$24:$C$500,$C310,'CMS Downtime Detail'!$D$24:$D$500,$D310,'CMS Downtime Detail'!$E$24:$E$500,\"Other Unknown Causes\"))","v":""}]
[null,{"$f":"IF(Lists!AQ289=\"\",\"\",Lists!AQ289)","v":""},{"$f":"IF(Lists!AR289=\"\",\"\",Lists!AR289)","v":""},{"$f":"IF(Lists!AS289=\"\",\"\",Lists!AS289)","v":""},{"$f":"IF(D311=\"\",\"\",VLOOKUP(B311&C311,Lists!$BA$2:$BD$78,4,FALSE))","v":""},"","",{"$f":"IF($E311=\"\",\"\",SUMIFS('CMS Downtime Detail'!$K$24:$K$500,'CMS Downtime Detail'!$B$24:$B$500,$B311,'CMS Downtime Detail'!$C$24:$C$500,$C311,'CMS Downtime Detail'!$D$24:$D$500,$D311,'CMS Downtime Detail'!$E$24:$E$500,\"Monitoring Equipment Malfunctions\"))","v":""},{"$f":"IF($E311=\"\",\"\",SUMIFS('CMS Downtime Detail'!$K$24:$K$500,'CMS Downtime Detail'!$B$24:$B$500,$B311,'CMS Downtime Detail'!$C$24:$C$500,$C311,'CMS Downtime Detail'!$D$24:$D$500,$D311,'CMS Downtime Detail'!$E$24:$E$500,\"Nonmonitoring Equipment Malfunctions\"))","v":""},{"$f":"IF($E311=\"\",\"\",SUMIFS('CMS Downtime Detail'!$K$24:$K$500,'CMS Downtime Detail'!$B$24:$B$500,$B311,'CMS Downtime Detail'!$C$24:$C$500,$C311,'CMS Downtime Detail'!$D$24:$D$500,$D311,'CMS Downtime Detail'!$E$24:$E$500,\"Quality Assurance/Quality Control Calibrations\"))","v":""},{"$f":"IF($E311=\"\",\"\",SUMIFS('CMS Downtime Detail'!$K$24:$K$500,'CMS Downtime Detail'!$B$24:$B$500,$B311,'CMS Downtime Detail'!$C$24:$C$500,$C311,'CMS Downtime Detail'!$D$24:$D$500,$D311,'CMS Downtime Detail'!$E$24:$E$500,\"Other Known Causes\"))","v":""},{"$f":"IF($E311=\"\",\"\",SUMIFS('CMS Downtime Detail'!$K$24:$K$500,'CMS Downtime Detail'!$B$24:$B$500,$B311,'CMS Downtime Detail'!$C$24:$C$500,$C311,'CMS Downtime Detail'!$D$24:$D$500,$D311,'CMS Downtime Detail'!$E$24:$E$500,\"Other Unknown Causes\"))","v":""}]
[null,{"$f":"IF(Lists!AQ290=\"\",\"\",Lists!AQ290)","v":""},{"$f":"IF(Lists!AR290=\"\",\"\",Lists!AR290)","v":""},{"$f":"IF(Lists!AS290=\"\",\"\",Lists!AS290)","v":""},{"$f":"IF(D312=\"\",\"\",VLOOKUP(B312&C312,Lists!$BA$2:$BD$78,4,FALSE))","v":""},"","",{"$f":"IF($E312=\"\",\"\",SUMIFS('CMS Downtime Detail'!$K$24:$K$500,'CMS Downtime Detail'!$B$24:$B$500,$B312,'CMS Downtime Detail'!$C$24:$C$500,$C312,'CMS Downtime Detail'!$D$24:$D$500,$D312,'CMS Downtime Detail'!$E$24:$E$500,\"Monitoring Equipment Malfunctions\"))","v":""},{"$f":"IF($E312=\"\",\"\",SUMIFS('CMS Downtime Detail'!$K$24:$K$500,'CMS Downtime Detail'!$B$24:$B$500,$B312,'CMS Downtime Detail'!$C$24:$C$500,$C312,'CMS Downtime Detail'!$D$24:$D$500,$D312,'CMS Downtime Detail'!$E$24:$E$500,\"Nonmonitoring Equipment Malfunctions\"))","v":""},{"$f":"IF($E312=\"\",\"\",SUMIFS('CMS Downtime Detail'!$K$24:$K$500,'CMS Downtime Detail'!$B$24:$B$500,$B312,'CMS Downtime Detail'!$C$24:$C$500,$C312,'CMS Downtime Detail'!$D$24:$D$500,$D312,'CMS Downtime Detail'!$E$24:$E$500,\"Quality Assurance/Quality Control Calibrations\"))","v":""},{"$f":"IF($E312=\"\",\"\",SUMIFS('CMS Downtime Detail'!$K$24:$K$500,'CMS Downtime Detail'!$B$24:$B$500,$B312,'CMS Downtime Detail'!$C$24:$C$500,$C312,'CMS Downtime Detail'!$D$24:$D$500,$D312,'CMS Downtime Detail'!$E$24:$E$500,\"Other Known Causes\"))","v":""},{"$f":"IF($E312=\"\",\"\",SUMIFS('CMS Downtime Detail'!$K$24:$K$500,'CMS Downtime Detail'!$B$24:$B$500,$B312,'CMS Downtime Detail'!$C$24:$C$500,$C312,'CMS Downtime Detail'!$D$24:$D$500,$D312,'CMS Downtime Detail'!$E$24:$E$500,\"Other Unknown Causes\"))","v":""}]
[null,{"$f":"IF(Lists!AQ291=\"\",\"\",Lists!AQ291)","v":""},{"$f":"IF(Lists!AR291=\"\",\"\",Lists!AR291)","v":""},{"$f":"IF(Lists!AS291=\"\",\"\",Lists!AS291)","v":""},{"$f":"IF(D313=\"\",\"\",VLOOKUP(B313&C313,Lists!$BA$2:$BD$78,4,FALSE))","v":""},"","",{"$f":"IF($E313=\"\",\"\",SUMIFS('CMS Downtime Detail'!$K$24:$K$500,'CMS Downtime Detail'!$B$24:$B$500,$B313,'CMS Downtime Detail'!$C$24:$C$500,$C313,'CMS Downtime Detail'!$D$24:$D$500,$D313,'CMS Downtime Detail'!$E$24:$E$500,\"Monitoring Equipment Malfunctions\"))","v":""},{"$f":"IF($E313=\"\",\"\",SUMIFS('CMS Downtime Detail'!$K$24:$K$500,'CMS Downtime Detail'!$B$24:$B$500,$B313,'CMS Downtime Detail'!$C$24:$C$500,$C313,'CMS Downtime Detail'!$D$24:$D$500,$D313,'CMS Downtime Detail'!$E$24:$E$500,\"Nonmonitoring Equipment Malfunctions\"))","v":""},{"$f":"IF($E313=\"\",\"\",SUMIFS('CMS Downtime Detail'!$K$24:$K$500,'CMS Downtime Detail'!$B$24:$B$500,$B313,'CMS Downtime Detail'!$C$24:$C$500,$C313,'CMS Downtime Detail'!$D$24:$D$500,$D313,'CMS Downtime Detail'!$E$24:$E$500,\"Quality Assurance/Quality Control Calibrations\"))","v":""},{"$f":"IF($E313=\"\",\"\",SUMIFS('CMS Downtime Detail'!$K$24:$K$500,'CMS Downtime Detail'!$B$24:$B$500,$B313,'CMS Downtime Detail'!$C$24:$C$500,$C313,'CMS Downtime Detail'!$D$24:$D$500,$D313,'CMS Downtime Detail'!$E$24:$E$500,\"Other Known Causes\"))","v":""},{"$f":"IF($E313=\"\",\"\",SUMIFS('CMS Downtime Detail'!$K$24:$K$500,'CMS Downtime Detail'!$B$24:$B$500,$B313,'CMS Downtime Detail'!$C$24:$C$500,$C313,'CMS Downtime Detail'!$D$24:$D$500,$D313,'CMS Downtime Detail'!$E$24:$E$500,\"Other Unknown Causes\"))","v":""}]
[null,{"$f":"IF(Lists!AQ292=\"\",\"\",Lists!AQ292)","v":""},{"$f":"IF(Lists!AR292=\"\",\"\",Lists!AR292)","v":""},{"$f":"IF(Lists!AS292=\"\",\"\",Lists!AS292)","v":""},{"$f":"IF(D314=\"\",\"\",VLOOKUP(B314&C314,Lists!$BA$2:$BD$78,4,FALSE))","v":""},"","",{"$f":"IF($E314=\"\",\"\",SUMIFS('CMS Downtime Detail'!$K$24:$K$500,'CMS Downtime Detail'!$B$24:$B$500,$B314,'CMS Downtime Detail'!$C$24:$C$500,$C314,'CMS Downtime Detail'!$D$24:$D$500,$D314,'CMS Downtime Detail'!$E$24:$E$500,\"Monitoring Equipment Malfunctions\"))","v":""},{"$f":"IF($E314=\"\",\"\",SUMIFS('CMS Downtime Detail'!$K$24:$K$500,'CMS Downtime Detail'!$B$24:$B$500,$B314,'CMS Downtime Detail'!$C$24:$C$500,$C314,'CMS Downtime Detail'!$D$24:$D$500,$D314,'CMS Downtime Detail'!$E$24:$E$500,\"Nonmonitoring Equipment Malfunctions\"))","v":""},{"$f":"IF($E314=\"\",\"\",SUMIFS('CMS Downtime Detail'!$K$24:$K$500,'CMS Downtime Detail'!$B$24:$B$500,$B314,'CMS Downtime Detail'!$C$24:$C$500,$C314,'CMS Downtime Detail'!$D$24:$D$500,$D314,'CMS Downtime Detail'!$E$24:$E$500,\"Quality Assurance/Quality Control Calibrations\"))","v":""},{"$f":"IF($E314=\"\",\"\",SUMIFS('CMS Downtime Detail'!$K$24:$K$500,'CMS Downtime Detail'!$B$24:$B$500,$B314,'CMS Downtime Detail'!$C$24:$C$500,$C314,'CMS Downtime Detail'!$D$24:$D$500,$D314,'CMS Downtime Detail'!$E$24:$E$500,\"Other Known Causes\"))","v":""},{"$f":"IF($E314=\"\",\"\",SUMIFS('CMS Downtime Detail'!$K$24:$K$500,'CMS Downtime Detail'!$B$24:$B$500,$B314,'CMS Downtime Detail'!$C$24:$C$500,$C314,'CMS Downtime Detail'!$D$24:$D$500,$D314,'CMS Downtime Detail'!$E$24:$E$500,\"Other Unknown Causes\"))","v":""}]
[null,{"$f":"IF(Lists!AQ293=\"\",\"\",Lists!AQ293)","v":""},{"$f":"IF(Lists!AR293=\"\",\"\",Lists!AR293)","v":""},{"$f":"IF(Lists!AS293=\"\",\"\",Lists!AS293)","v":""},{"$f":"IF(D315=\"\",\"\",VLOOKUP(B315&C315,Lists!$BA$2:$BD$78,4,FALSE))","v":""},"","",{"$f":"IF($E315=\"\",\"\",SUMIFS('CMS Downtime Detail'!$K$24:$K$500,'CMS Downtime Detail'!$B$24:$B$500,$B315,'CMS Downtime Detail'!$C$24:$C$500,$C315,'CMS Downtime Detail'!$D$24:$D$500,$D315,'CMS Downtime Detail'!$E$24:$E$500,\"Monitoring Equipment Malfunctions\"))","v":""},{"$f":"IF($E315=\"\",\"\",SUMIFS('CMS Downtime Detail'!$K$24:$K$500,'CMS Downtime Detail'!$B$24:$B$500,$B315,'CMS Downtime Detail'!$C$24:$C$500,$C315,'CMS Downtime Detail'!$D$24:$D$500,$D315,'CMS Downtime Detail'!$E$24:$E$500,\"Nonmonitoring Equipment Malfunctions\"))","v":""},{"$f":"IF($E315=\"\",\"\",SUMIFS('CMS Downtime Detail'!$K$24:$K$500,'CMS Downtime Detail'!$B$24:$B$500,$B315,'CMS Downtime Detail'!$C$24:$C$500,$C315,'CMS Downtime Detail'!$D$24:$D$500,$D315,'CMS Downtime Detail'!$E$24:$E$500,\"Quality Assurance/Quality Control Calibrations\"))","v":""},{"$f":"IF($E315=\"\",\"\",SUMIFS('CMS Downtime Detail'!$K$24:$K$500,'CMS Downtime Detail'!$B$24:$B$500,$B315,'CMS Downtime Detail'!$C$24:$C$500,$C315,'CMS Downtime Detail'!$D$24:$D$500,$D315,'CMS Downtime Detail'!$E$24:$E$500,\"Other Known Causes\"))","v":""},{"$f":"IF($E315=\"\",\"\",SUMIFS('CMS Downtime Detail'!$K$24:$K$500,'CMS Downtime Detail'!$B$24:$B$500,$B315,'CMS Downtime Detail'!$C$24:$C$500,$C315,'CMS Downtime Detail'!$D$24:$D$500,$D315,'CMS Downtime Detail'!$E$24:$E$500,\"Other Unknown Causes\"))","v":""}]
[null,{"$f":"IF(Lists!AQ294=\"\",\"\",Lists!AQ294)","v":""},{"$f":"IF(Lists!AR294=\"\",\"\",Lists!AR294)","v":""},{"$f":"IF(Lists!AS294=\"\",\"\",Lists!AS294)","v":""},{"$f":"IF(D316=\"\",\"\",VLOOKUP(B316&C316,Lists!$BA$2:$BD$78,4,FALSE))","v":""},"","",{"$f":"IF($E316=\"\",\"\",SUMIFS('CMS Downtime Detail'!$K$24:$K$500,'CMS Downtime Detail'!$B$24:$B$500,$B316,'CMS Downtime Detail'!$C$24:$C$500,$C316,'CMS Downtime Detail'!$D$24:$D$500,$D316,'CMS Downtime Detail'!$E$24:$E$500,\"Monitoring Equipment Malfunctions\"))","v":""},{"$f":"IF($E316=\"\",\"\",SUMIFS('CMS Downtime Detail'!$K$24:$K$500,'CMS Downtime Detail'!$B$24:$B$500,$B316,'CMS Downtime Detail'!$C$24:$C$500,$C316,'CMS Downtime Detail'!$D$24:$D$500,$D316,'CMS Downtime Detail'!$E$24:$E$500,\"Nonmonitoring Equipment Malfunctions\"))","v":""},{"$f":"IF($E316=\"\",\"\",SUMIFS('CMS Downtime Detail'!$K$24:$K$500,'CMS Downtime Detail'!$B$24:$B$500,$B316,'CMS Downtime Detail'!$C$24:$C$500,$C316,'CMS Downtime Detail'!$D$24:$D$500,$D316,'CMS Downtime Detail'!$E$24:$E$500,\"Quality Assurance/Quality Control Calibrations\"))","v":""},{"$f":"IF($E316=\"\",\"\",SUMIFS('CMS Downtime Detail'!$K$24:$K$500,'CMS Downtime Detail'!$B$24:$B$500,$B316,'CMS Downtime Detail'!$C$24:$C$500,$C316,'CMS Downtime Detail'!$D$24:$D$500,$D316,'CMS Downtime Detail'!$E$24:$E$500,\"Other Known Causes\"))","v":""},{"$f":"IF($E316=\"\",\"\",SUMIFS('CMS Downtime Detail'!$K$24:$K$500,'CMS Downtime Detail'!$B$24:$B$500,$B316,'CMS Downtime Detail'!$C$24:$C$500,$C316,'CMS Downtime Detail'!$D$24:$D$500,$D316,'CMS Downtime Detail'!$E$24:$E$500,\"Other Unknown Causes\"))","v":""}]
[null,{"$f":"IF(Lists!AQ295=\"\",\"\",Lists!AQ295)","v":""},{"$f":"IF(Lists!AR295=\"\",\"\",Lists!AR295)","v":""},{"$f":"IF(Lists!AS295=\"\",\"\",Lists!AS295)","v":""},{"$f":"IF(D317=\"\",\"\",VLOOKUP(B317&C317,Lists!$BA$2:$BD$78,4,FALSE))","v":""},"","",{"$f":"IF($E317=\"\",\"\",SUMIFS('CMS Downtime Detail'!$K$24:$K$500,'CMS Downtime Detail'!$B$24:$B$500,$B317,'CMS Downtime Detail'!$C$24:$C$500,$C317,'CMS Downtime Detail'!$D$24:$D$500,$D317,'CMS Downtime Detail'!$E$24:$E$500,\"Monitoring Equipment Malfunctions\"))","v":""},{"$f":"IF($E317=\"\",\"\",SUMIFS('CMS Downtime Detail'!$K$24:$K$500,'CMS Downtime Detail'!$B$24:$B$500,$B317,'CMS Downtime Detail'!$C$24:$C$500,$C317,'CMS Downtime Detail'!$D$24:$D$500,$D317,'CMS Downtime Detail'!$E$24:$E$500,\"Nonmonitoring Equipment Malfunctions\"))","v":""},{"$f":"IF($E317=\"\",\"\",SUMIFS('CMS Downtime Detail'!$K$24:$K$500,'CMS Downtime Detail'!$B$24:$B$500,$B317,'CMS Downtime Detail'!$C$24:$C$500,$C317,'CMS Downtime Detail'!$D$24:$D$500,$D317,'CMS Downtime Detail'!$E$24:$E$500,\"Quality Assurance/Quality Control Calibrations\"))","v":""},{"$f":"IF($E317=\"\",\"\",SUMIFS('CMS Downtime Detail'!$K$24:$K$500,'CMS Downtime Detail'!$B$24:$B$500,$B317,'CMS Downtime Detail'!$C$24:$C$500,$C317,'CMS Downtime Detail'!$D$24:$D$500,$D317,'CMS Downtime Detail'!$E$24:$E$500,\"Other Known Causes\"))","v":""},{"$f":"IF($E317=\"\",\"\",SUMIFS('CMS Downtime Detail'!$K$24:$K$500,'CMS Downtime Detail'!$B$24:$B$500,$B317,'CMS Downtime Detail'!$C$24:$C$500,$C317,'CMS Downtime Detail'!$D$24:$D$500,$D317,'CMS Downtime Detail'!$E$24:$E$500,\"Other Unknown Causes\"))","v":""}]
[null,{"$f":"IF(Lists!AQ296=\"\",\"\",Lists!AQ296)","v":""},{"$f":"IF(Lists!AR296=\"\",\"\",Lists!AR296)","v":""},{"$f":"IF(Lists!AS296=\"\",\"\",Lists!AS296)","v":""},{"$f":"IF(D318=\"\",\"\",VLOOKUP(B318&C318,Lists!$BA$2:$BD$78,4,FALSE))","v":""},"","",{"$f":"IF($E318=\"\",\"\",SUMIFS('CMS Downtime Detail'!$K$24:$K$500,'CMS Downtime Detail'!$B$24:$B$500,$B318,'CMS Downtime Detail'!$C$24:$C$500,$C318,'CMS Downtime Detail'!$D$24:$D$500,$D318,'CMS Downtime Detail'!$E$24:$E$500,\"Monitoring Equipment Malfunctions\"))","v":""},{"$f":"IF($E318=\"\",\"\",SUMIFS('CMS Downtime Detail'!$K$24:$K$500,'CMS Downtime Detail'!$B$24:$B$500,$B318,'CMS Downtime Detail'!$C$24:$C$500,$C318,'CMS Downtime Detail'!$D$24:$D$500,$D318,'CMS Downtime Detail'!$E$24:$E$500,\"Nonmonitoring Equipment Malfunctions\"))","v":""},{"$f":"IF($E318=\"\",\"\",SUMIFS('CMS Downtime Detail'!$K$24:$K$500,'CMS Downtime Detail'!$B$24:$B$500,$B318,'CMS Downtime Detail'!$C$24:$C$500,$C318,'CMS Downtime Detail'!$D$24:$D$500,$D318,'CMS Downtime Detail'!$E$24:$E$500,\"Quality Assurance/Quality Control Calibrations\"))","v":""},{"$f":"IF($E318=\"\",\"\",SUMIFS('CMS Downtime Detail'!$K$24:$K$500,'CMS Downtime Detail'!$B$24:$B$500,$B318,'CMS Downtime Detail'!$C$24:$C$500,$C318,'CMS Downtime Detail'!$D$24:$D$500,$D318,'CMS Downtime Detail'!$E$24:$E$500,\"Other Known Causes\"))","v":""},{"$f":"IF($E318=\"\",\"\",SUMIFS('CMS Downtime Detail'!$K$24:$K$500,'CMS Downtime Detail'!$B$24:$B$500,$B318,'CMS Downtime Detail'!$C$24:$C$500,$C318,'CMS Downtime Detail'!$D$24:$D$500,$D318,'CMS Downtime Detail'!$E$24:$E$500,\"Other Unknown Causes\"))","v":""}]
[null,{"$f":"IF(Lists!AQ297=\"\",\"\",Lists!AQ297)","v":""},{"$f":"IF(Lists!AR297=\"\",\"\",Lists!AR297)","v":""},{"$f":"IF(Lists!AS297=\"\",\"\",Lists!AS297)","v":""},{"$f":"IF(D319=\"\",\"\",VLOOKUP(B319&C319,Lists!$BA$2:$BD$78,4,FALSE))","v":""},"","",{"$f":"IF($E319=\"\",\"\",SUMIFS('CMS Downtime Detail'!$K$24:$K$500,'CMS Downtime Detail'!$B$24:$B$500,$B319,'CMS Downtime Detail'!$C$24:$C$500,$C319,'CMS Downtime Detail'!$D$24:$D$500,$D319,'CMS Downtime Detail'!$E$24:$E$500,\"Monitoring Equipment Malfunctions\"))","v":""},{"$f":"IF($E319=\"\",\"\",SUMIFS('CMS Downtime Detail'!$K$24:$K$500,'CMS Downtime Detail'!$B$24:$B$500,$B319,'CMS Downtime Detail'!$C$24:$C$500,$C319,'CMS Downtime Detail'!$D$24:$D$500,$D319,'CMS Downtime Detail'!$E$24:$E$500,\"Nonmonitoring Equipment Malfunctions\"))","v":""},{"$f":"IF($E319=\"\",\"\",SUMIFS('CMS Downtime Detail'!$K$24:$K$500,'CMS Downtime Detail'!$B$24:$B$500,$B319,'CMS Downtime Detail'!$C$24:$C$500,$C319,'CMS Downtime Detail'!$D$24:$D$500,$D319,'CMS Downtime Detail'!$E$24:$E$500,\"Quality Assurance/Quality Control Calibrations\"))","v":""},{"$f":"IF($E319=\"\",\"\",SUMIFS('CMS Downtime Detail'!$K$24:$K$500,'CMS Downtime Detail'!$B$24:$B$500,$B319,'CMS Downtime Detail'!$C$24:$C$500,$C319,'CMS Downtime Detail'!$D$24:$D$500,$D319,'CMS Downtime Detail'!$E$24:$E$500,\"Other Known Causes\"))","v":""},{"$f":"IF($E319=\"\",\"\",SUMIFS('CMS Downtime Detail'!$K$24:$K$500,'CMS Downtime Detail'!$B$24:$B$500,$B319,'CMS Downtime Detail'!$C$24:$C$500,$C319,'CMS Downtime Detail'!$D$24:$D$500,$D319,'CMS Downtime Detail'!$E$24:$E$500,\"Other Unknown Causes\"))","v":""}]
[null,{"$f":"IF(Lists!AQ298=\"\",\"\",Lists!AQ298)","v":""},{"$f":"IF(Lists!AR298=\"\",\"\",Lists!AR298)","v":""},{"$f":"IF(Lists!AS298=\"\",\"\",Lists!AS298)","v":""},{"$f":"IF(D320=\"\",\"\",VLOOKUP(B320&C320,Lists!$BA$2:$BD$78,4,FALSE))","v":""},"","",{"$f":"IF($E320=\"\",\"\",SUMIFS('CMS Downtime Detail'!$K$24:$K$500,'CMS Downtime Detail'!$B$24:$B$500,$B320,'CMS Downtime Detail'!$C$24:$C$500,$C320,'CMS Downtime Detail'!$D$24:$D$500,$D320,'CMS Downtime Detail'!$E$24:$E$500,\"Monitoring Equipment Malfunctions\"))","v":""},{"$f":"IF($E320=\"\",\"\",SUMIFS('CMS Downtime Detail'!$K$24:$K$500,'CMS Downtime Detail'!$B$24:$B$500,$B320,'CMS Downtime Detail'!$C$24:$C$500,$C320,'CMS Downtime Detail'!$D$24:$D$500,$D320,'CMS Downtime Detail'!$E$24:$E$500,\"Nonmonitoring Equipment Malfunctions\"))","v":""},{"$f":"IF($E320=\"\",\"\",SUMIFS('CMS Downtime Detail'!$K$24:$K$500,'CMS Downtime Detail'!$B$24:$B$500,$B320,'CMS Downtime Detail'!$C$24:$C$500,$C320,'CMS Downtime Detail'!$D$24:$D$500,$D320,'CMS Downtime Detail'!$E$24:$E$500,\"Quality Assurance/Quality Control Calibrations\"))","v":""},{"$f":"IF($E320=\"\",\"\",SUMIFS('CMS Downtime Detail'!$K$24:$K$500,'CMS Downtime Detail'!$B$24:$B$500,$B320,'CMS Downtime Detail'!$C$24:$C$500,$C320,'CMS Downtime Detail'!$D$24:$D$500,$D320,'CMS Downtime Detail'!$E$24:$E$500,\"Other Known Causes\"))","v":""},{"$f":"IF($E320=\"\",\"\",SUMIFS('CMS Downtime Detail'!$K$24:$K$500,'CMS Downtime Detail'!$B$24:$B$500,$B320,'CMS Downtime Detail'!$C$24:$C$500,$C320,'CMS Downtime Detail'!$D$24:$D$500,$D320,'CMS Downtime Detail'!$E$24:$E$500,\"Other Unknown Causes\"))","v":""}]
[null,{"$f":"IF(Lists!AQ299=\"\",\"\",Lists!AQ299)","v":""},{"$f":"IF(Lists!AR299=\"\",\"\",Lists!AR299)","v":""},{"$f":"IF(Lists!AS299=\"\",\"\",Lists!AS299)","v":""},{"$f":"IF(D321=\"\",\"\",VLOOKUP(B321&C321,Lists!$BA$2:$BD$78,4,FALSE))","v":""},"","",{"$f":"IF($E321=\"\",\"\",SUMIFS('CMS Downtime Detail'!$K$24:$K$500,'CMS Downtime Detail'!$B$24:$B$500,$B321,'CMS Downtime Detail'!$C$24:$C$500,$C321,'CMS Downtime Detail'!$D$24:$D$500,$D321,'CMS Downtime Detail'!$E$24:$E$500,\"Monitoring Equipment Malfunctions\"))","v":""},{"$f":"IF($E321=\"\",\"\",SUMIFS('CMS Downtime Detail'!$K$24:$K$500,'CMS Downtime Detail'!$B$24:$B$500,$B321,'CMS Downtime Detail'!$C$24:$C$500,$C321,'CMS Downtime Detail'!$D$24:$D$500,$D321,'CMS Downtime Detail'!$E$24:$E$500,\"Nonmonitoring Equipment Malfunctions\"))","v":""},{"$f":"IF($E321=\"\",\"\",SUMIFS('CMS Downtime Detail'!$K$24:$K$500,'CMS Downtime Detail'!$B$24:$B$500,$B321,'CMS Downtime Detail'!$C$24:$C$500,$C321,'CMS Downtime Detail'!$D$24:$D$500,$D321,'CMS Downtime Detail'!$E$24:$E$500,\"Quality Assurance/Quality Control Calibrations\"))","v":""},{"$f":"IF($E321=\"\",\"\",SUMIFS('CMS Downtime Detail'!$K$24:$K$500,'CMS Downtime Detail'!$B$24:$B$500,$B321,'CMS Downtime Detail'!$C$24:$C$500,$C321,'CMS Downtime Detail'!$D$24:$D$500,$D321,'CMS Downtime Detail'!$E$24:$E$500,\"Other Known Causes\"))","v":""},{"$f":"IF($E321=\"\",\"\",SUMIFS('CMS Downtime Detail'!$K$24:$K$500,'CMS Downtime Detail'!$B$24:$B$500,$B321,'CMS Downtime Detail'!$C$24:$C$500,$C321,'CMS Downtime Detail'!$D$24:$D$500,$D321,'CMS Downtime Detail'!$E$24:$E$500,\"Other Unknown Causes\"))","v":""}]
[null,{"$f":"IF(Lists!AQ300=\"\",\"\",Lists!AQ300)","v":""},{"$f":"IF(Lists!AR300=\"\",\"\",Lists!AR300)","v":""},{"$f":"IF(Lists!AS300=\"\",\"\",Lists!AS300)","v":""},{"$f":"IF(D322=\"\",\"\",VLOOKUP(B322&C322,Lists!$BA$2:$BD$78,4,FALSE))","v":""},"","",{"$f":"IF($E322=\"\",\"\",SUMIFS('CMS Downtime Detail'!$K$24:$K$500,'CMS Downtime Detail'!$B$24:$B$500,$B322,'CMS Downtime Detail'!$C$24:$C$500,$C322,'CMS Downtime Detail'!$D$24:$D$500,$D322,'CMS Downtime Detail'!$E$24:$E$500,\"Monitoring Equipment Malfunctions\"))","v":""},{"$f":"IF($E322=\"\",\"\",SUMIFS('CMS Downtime Detail'!$K$24:$K$500,'CMS Downtime Detail'!$B$24:$B$500,$B322,'CMS Downtime Detail'!$C$24:$C$500,$C322,'CMS Downtime Detail'!$D$24:$D$500,$D322,'CMS Downtime Detail'!$E$24:$E$500,\"Nonmonitoring Equipment Malfunctions\"))","v":""},{"$f":"IF($E322=\"\",\"\",SUMIFS('CMS Downtime Detail'!$K$24:$K$500,'CMS Downtime Detail'!$B$24:$B$500,$B322,'CMS Downtime Detail'!$C$24:$C$500,$C322,'CMS Downtime Detail'!$D$24:$D$500,$D322,'CMS Downtime Detail'!$E$24:$E$500,\"Quality Assurance/Quality Control Calibrations\"))","v":""},{"$f":"IF($E322=\"\",\"\",SUMIFS('CMS Downtime Detail'!$K$24:$K$500,'CMS Downtime Detail'!$B$24:$B$500,$B322,'CMS Downtime Detail'!$C$24:$C$500,$C322,'CMS Downtime Detail'!$D$24:$D$500,$D322,'CMS Downtime Detail'!$E$24:$E$500,\"Other Known Causes\"))","v":""},{"$f":"IF($E322=\"\",\"\",SUMIFS('CMS Downtime Detail'!$K$24:$K$500,'CMS Downtime Detail'!$B$24:$B$500,$B322,'CMS Downtime Detail'!$C$24:$C$500,$C322,'CMS Downtime Detail'!$D$24:$D$500,$D322,'CMS Downtime Detail'!$E$24:$E$500,\"Other Unknown Causes\"))","v":""}]
[null,{"$f":"IF(Lists!AQ301=\"\",\"\",Lists!AQ301)","v":""},{"$f":"IF(Lists!AR301=\"\",\"\",Lists!AR301)","v":""},{"$f":"IF(Lists!AS301=\"\",\"\",Lists!AS301)","v":""},{"$f":"IF(D323=\"\",\"\",VLOOKUP(B323&C323,Lists!$BA$2:$BD$78,4,FALSE))","v":""},"","",{"$f":"IF($E323=\"\",\"\",SUMIFS('CMS Downtime Detail'!$K$24:$K$500,'CMS Downtime Detail'!$B$24:$B$500,$B323,'CMS Downtime Detail'!$C$24:$C$500,$C323,'CMS Downtime Detail'!$D$24:$D$500,$D323,'CMS Downtime Detail'!$E$24:$E$500,\"Monitoring Equipment Malfunctions\"))","v":""},{"$f":"IF($E323=\"\",\"\",SUMIFS('CMS Downtime Detail'!$K$24:$K$500,'CMS Downtime Detail'!$B$24:$B$500,$B323,'CMS Downtime Detail'!$C$24:$C$500,$C323,'CMS Downtime Detail'!$D$24:$D$500,$D323,'CMS Downtime Detail'!$E$24:$E$500,\"Nonmonitoring Equipment Malfunctions\"))","v":""},{"$f":"IF($E323=\"\",\"\",SUMIFS('CMS Downtime Detail'!$K$24:$K$500,'CMS Downtime Detail'!$B$24:$B$500,$B323,'CMS Downtime Detail'!$C$24:$C$500,$C323,'CMS Downtime Detail'!$D$24:$D$500,$D323,'CMS Downtime Detail'!$E$24:$E$500,\"Quality Assurance/Quality Control Calibrations\"))","v":""},{"$f":"IF($E323=\"\",\"\",SUMIFS('CMS Downtime Detail'!$K$24:$K$500,'CMS Downtime Detail'!$B$24:$B$500,$B323,'CMS Downtime Detail'!$C$24:$C$500,$C323,'CMS Downtime Detail'!$D$24:$D$500,$D323,'CMS Downtime Detail'!$E$24:$E$500,\"Other Known Causes\"))","v":""},{"$f":"IF($E323=\"\",\"\",SUMIFS('CMS Downtime Detail'!$K$24:$K$500,'CMS Downtime Detail'!$B$24:$B$500,$B323,'CMS Downtime Detail'!$C$24:$C$500,$C323,'CMS Downtime Detail'!$D$24:$D$500,$D323,'CMS Downtime Detail'!$E$24:$E$500,\"Other Unknown Causes\"))","v":""}]
[null,{"$f":"IF(Lists!AQ302=\"\",\"\",Lists!AQ302)","v":""},{"$f":"IF(Lists!AR302=\"\",\"\",Lists!AR302)","v":""},{"$f":"IF(Lists!AS302=\"\",\"\",Lists!AS302)","v":""},{"$f":"IF(D324=\"\",\"\",VLOOKUP(B324&C324,Lists!$BA$2:$BD$78,4,FALSE))","v":""},"","",{"$f":"IF($E324=\"\",\"\",SUMIFS('CMS Downtime Detail'!$K$24:$K$500,'CMS Downtime Detail'!$B$24:$B$500,$B324,'CMS Downtime Detail'!$C$24:$C$500,$C324,'CMS Downtime Detail'!$D$24:$D$500,$D324,'CMS Downtime Detail'!$E$24:$E$500,\"Monitoring Equipment Malfunctions\"))","v":""},{"$f":"IF($E324=\"\",\"\",SUMIFS('CMS Downtime Detail'!$K$24:$K$500,'CMS Downtime Detail'!$B$24:$B$500,$B324,'CMS Downtime Detail'!$C$24:$C$500,$C324,'CMS Downtime Detail'!$D$24:$D$500,$D324,'CMS Downtime Detail'!$E$24:$E$500,\"Nonmonitoring Equipment Malfunctions\"))","v":""},{"$f":"IF($E324=\"\",\"\",SUMIFS('CMS Downtime Detail'!$K$24:$K$500,'CMS Downtime Detail'!$B$24:$B$500,$B324,'CMS Downtime Detail'!$C$24:$C$500,$C324,'CMS Downtime Detail'!$D$24:$D$500,$D324,'CMS Downtime Detail'!$E$24:$E$500,\"Quality Assurance/Quality Control Calibrations\"))","v":""},{"$f":"IF($E324=\"\",\"\",SUMIFS('CMS Downtime Detail'!$K$24:$K$500,'CMS Downtime Detail'!$B$24:$B$500,$B324,'CMS Downtime Detail'!$C$24:$C$500,$C324,'CMS Downtime Detail'!$D$24:$D$500,$D324,'CMS Downtime Detail'!$E$24:$E$500,\"Other Known Causes\"))","v":""},{"$f":"IF($E324=\"\",\"\",SUMIFS('CMS Downtime Detail'!$K$24:$K$500,'CMS Downtime Detail'!$B$24:$B$500,$B324,'CMS Downtime Detail'!$C$24:$C$500,$C324,'CMS Downtime Detail'!$D$24:$D$500,$D324,'CMS Downtime Detail'!$E$24:$E$500,\"Other Unknown Causes\"))","v":""}]
[null,{"$f":"IF(Lists!AQ303=\"\",\"\",Lists!AQ303)","v":""},{"$f":"IF(Lists!AR303=\"\",\"\",Lists!AR303)","v":""},{"$f":"IF(Lists!AS303=\"\",\"\",Lists!AS303)","v":""},{"$f":"IF(D325=\"\",\"\",VLOOKUP(B325&C325,Lists!$BA$2:$BD$78,4,FALSE))","v":""},"","",{"$f":"IF($E325=\"\",\"\",SUMIFS('CMS Downtime Detail'!$K$24:$K$500,'CMS Downtime Detail'!$B$24:$B$500,$B325,'CMS Downtime Detail'!$C$24:$C$500,$C325,'CMS Downtime Detail'!$D$24:$D$500,$D325,'CMS Downtime Detail'!$E$24:$E$500,\"Monitoring Equipment Malfunctions\"))","v":""},{"$f":"IF($E325=\"\",\"\",SUMIFS('CMS Downtime Detail'!$K$24:$K$500,'CMS Downtime Detail'!$B$24:$B$500,$B325,'CMS Downtime Detail'!$C$24:$C$500,$C325,'CMS Downtime Detail'!$D$24:$D$500,$D325,'CMS Downtime Detail'!$E$24:$E$500,\"Nonmonitoring Equipment Malfunctions\"))","v":""},{"$f":"IF($E325=\"\",\"\",SUMIFS('CMS Downtime Detail'!$K$24:$K$500,'CMS Downtime Detail'!$B$24:$B$500,$B325,'CMS Downtime Detail'!$C$24:$C$500,$C325,'CMS Downtime Detail'!$D$24:$D$500,$D325,'CMS Downtime Detail'!$E$24:$E$500,\"Quality Assurance/Quality Control Calibrations\"))","v":""},{"$f":"IF($E325=\"\",\"\",SUMIFS('CMS Downtime Detail'!$K$24:$K$500,'CMS Downtime Detail'!$B$24:$B$500,$B325,'CMS Downtime Detail'!$C$24:$C$500,$C325,'CMS Downtime Detail'!$D$24:$D$500,$D325,'CMS Downtime Detail'!$E$24:$E$500,\"Other Known Causes\"))","v":""},{"$f":"IF($E325=\"\",\"\",SUMIFS('CMS Downtime Detail'!$K$24:$K$500,'CMS Downtime Detail'!$B$24:$B$500,$B325,'CMS Downtime Detail'!$C$24:$C$500,$C325,'CMS Downtime Detail'!$D$24:$D$500,$D325,'CMS Downtime Detail'!$E$24:$E$500,\"Other Unknown Causes\"))","v":""}]
[null,{"$f":"IF(Lists!AQ304=\"\",\"\",Lists!AQ304)","v":""},{"$f":"IF(Lists!AR304=\"\",\"\",Lists!AR304)","v":""},{"$f":"IF(Lists!AS304=\"\",\"\",Lists!AS304)","v":""},{"$f":"IF(D326=\"\",\"\",VLOOKUP(B326&C326,Lists!$BA$2:$BD$78,4,FALSE))","v":""},"","",{"$f":"IF($E326=\"\",\"\",SUMIFS('CMS Downtime Detail'!$K$24:$K$500,'CMS Downtime Detail'!$B$24:$B$500,$B326,'CMS Downtime Detail'!$C$24:$C$500,$C326,'CMS Downtime Detail'!$D$24:$D$500,$D326,'CMS Downtime Detail'!$E$24:$E$500,\"Monitoring Equipment Malfunctions\"))","v":""},{"$f":"IF($E326=\"\",\"\",SUMIFS('CMS Downtime Detail'!$K$24:$K$500,'CMS Downtime Detail'!$B$24:$B$500,$B326,'CMS Downtime Detail'!$C$24:$C$500,$C326,'CMS Downtime Detail'!$D$24:$D$500,$D326,'CMS Downtime Detail'!$E$24:$E$500,\"Nonmonitoring Equipment Malfunctions\"))","v":""},{"$f":"IF($E326=\"\",\"\",SUMIFS('CMS Downtime Detail'!$K$24:$K$500,'CMS Downtime Detail'!$B$24:$B$500,$B326,'CMS Downtime Detail'!$C$24:$C$500,$C326,'CMS Downtime Detail'!$D$24:$D$500,$D326,'CMS Downtime Detail'!$E$24:$E$500,\"Quality Assurance/Quality Control Calibrations\"))","v":""},{"$f":"IF($E326=\"\",\"\",SUMIFS('CMS Downtime Detail'!$K$24:$K$500,'CMS Downtime Detail'!$B$24:$B$500,$B326,'CMS Downtime Detail'!$C$24:$C$500,$C326,'CMS Downtime Detail'!$D$24:$D$500,$D326,'CMS Downtime Detail'!$E$24:$E$500,\"Other Known Causes\"))","v":""},{"$f":"IF($E326=\"\",\"\",SUMIFS('CMS Downtime Detail'!$K$24:$K$500,'CMS Downtime Detail'!$B$24:$B$500,$B326,'CMS Downtime Detail'!$C$24:$C$500,$C326,'CMS Downtime Detail'!$D$24:$D$500,$D326,'CMS Downtime Detail'!$E$24:$E$500,\"Other Unknown Causes\"))","v":""}]
[null,{"$f":"IF(Lists!AQ305=\"\",\"\",Lists!AQ305)","v":""},{"$f":"IF(Lists!AR305=\"\",\"\",Lists!AR305)","v":""},{"$f":"IF(Lists!AS305=\"\",\"\",Lists!AS305)","v":""},{"$f":"IF(D327=\"\",\"\",VLOOKUP(B327&C327,Lists!$BA$2:$BD$78,4,FALSE))","v":""},"","",{"$f":"IF($E327=\"\",\"\",SUMIFS('CMS Downtime Detail'!$K$24:$K$500,'CMS Downtime Detail'!$B$24:$B$500,$B327,'CMS Downtime Detail'!$C$24:$C$500,$C327,'CMS Downtime Detail'!$D$24:$D$500,$D327,'CMS Downtime Detail'!$E$24:$E$500,\"Monitoring Equipment Malfunctions\"))","v":""},{"$f":"IF($E327=\"\",\"\",SUMIFS('CMS Downtime Detail'!$K$24:$K$500,'CMS Downtime Detail'!$B$24:$B$500,$B327,'CMS Downtime Detail'!$C$24:$C$500,$C327,'CMS Downtime Detail'!$D$24:$D$500,$D327,'CMS Downtime Detail'!$E$24:$E$500,\"Nonmonitoring Equipment Malfunctions\"))","v":""},{"$f":"IF($E327=\"\",\"\",SUMIFS('CMS Downtime Detail'!$K$24:$K$500,'CMS Downtime Detail'!$B$24:$B$500,$B327,'CMS Downtime Detail'!$C$24:$C$500,$C327,'CMS Downtime Detail'!$D$24:$D$500,$D327,'CMS Downtime Detail'!$E$24:$E$500,\"Quality Assurance/Quality Control Calibrations\"))","v":""},{"$f":"IF($E327=\"\",\"\",SUMIFS('CMS Downtime Detail'!$K$24:$K$500,'CMS Downtime Detail'!$B$24:$B$500,$B327,'CMS Downtime Detail'!$C$24:$C$500,$C327,'CMS Downtime Detail'!$D$24:$D$500,$D327,'CMS Downtime Detail'!$E$24:$E$500,\"Other Known Causes\"))","v":""},{"$f":"IF($E327=\"\",\"\",SUMIFS('CMS Downtime Detail'!$K$24:$K$500,'CMS Downtime Detail'!$B$24:$B$500,$B327,'CMS Downtime Detail'!$C$24:$C$500,$C327,'CMS Downtime Detail'!$D$24:$D$500,$D327,'CMS Downtime Detail'!$E$24:$E$500,\"Other Unknown Causes\"))","v":""}]
[null,{"$f":"IF(Lists!AQ306=\"\",\"\",Lists!AQ306)","v":""},{"$f":"IF(Lists!AR306=\"\",\"\",Lists!AR306)","v":""},{"$f":"IF(Lists!AS306=\"\",\"\",Lists!AS306)","v":""},{"$f":"IF(D328=\"\",\"\",VLOOKUP(B328&C328,Lists!$BA$2:$BD$78,4,FALSE))","v":""},"","",{"$f":"IF($E328=\"\",\"\",SUMIFS('CMS Downtime Detail'!$K$24:$K$500,'CMS Downtime Detail'!$B$24:$B$500,$B328,'CMS Downtime Detail'!$C$24:$C$500,$C328,'CMS Downtime Detail'!$D$24:$D$500,$D328,'CMS Downtime Detail'!$E$24:$E$500,\"Monitoring Equipment Malfunctions\"))","v":""},{"$f":"IF($E328=\"\",\"\",SUMIFS('CMS Downtime Detail'!$K$24:$K$500,'CMS Downtime Detail'!$B$24:$B$500,$B328,'CMS Downtime Detail'!$C$24:$C$500,$C328,'CMS Downtime Detail'!$D$24:$D$500,$D328,'CMS Downtime Detail'!$E$24:$E$500,\"Nonmonitoring Equipment Malfunctions\"))","v":""},{"$f":"IF($E328=\"\",\"\",SUMIFS('CMS Downtime Detail'!$K$24:$K$500,'CMS Downtime Detail'!$B$24:$B$500,$B328,'CMS Downtime Detail'!$C$24:$C$500,$C328,'CMS Downtime Detail'!$D$24:$D$500,$D328,'CMS Downtime Detail'!$E$24:$E$500,\"Quality Assurance/Quality Control Calibrations\"))","v":""},{"$f":"IF($E328=\"\",\"\",SUMIFS('CMS Downtime Detail'!$K$24:$K$500,'CMS Downtime Detail'!$B$24:$B$500,$B328,'CMS Downtime Detail'!$C$24:$C$500,$C328,'CMS Downtime Detail'!$D$24:$D$500,$D328,'CMS Downtime Detail'!$E$24:$E$500,\"Other Known Causes\"))","v":""},{"$f":"IF($E328=\"\",\"\",SUMIFS('CMS Downtime Detail'!$K$24:$K$500,'CMS Downtime Detail'!$B$24:$B$500,$B328,'CMS Downtime Detail'!$C$24:$C$500,$C328,'CMS Downtime Detail'!$D$24:$D$500,$D328,'CMS Downtime Detail'!$E$24:$E$500,\"Other Unknown Causes\"))","v":""}]
[null,{"$f":"IF(Lists!AQ307=\"\",\"\",Lists!AQ307)","v":""},{"$f":"IF(Lists!AR307=\"\",\"\",Lists!AR307)","v":""},{"$f":"IF(Lists!AS307=\"\",\"\",Lists!AS307)","v":""},{"$f":"IF(D329=\"\",\"\",VLOOKUP(B329&C329,Lists!$BA$2:$BD$78,4,FALSE))","v":""},"","",{"$f":"IF($E329=\"\",\"\",SUMIFS('CMS Downtime Detail'!$K$24:$K$500,'CMS Downtime Detail'!$B$24:$B$500,$B329,'CMS Downtime Detail'!$C$24:$C$500,$C329,'CMS Downtime Detail'!$D$24:$D$500,$D329,'CMS Downtime Detail'!$E$24:$E$500,\"Monitoring Equipment Malfunctions\"))","v":""},{"$f":"IF($E329=\"\",\"\",SUMIFS('CMS Downtime Detail'!$K$24:$K$500,'CMS Downtime Detail'!$B$24:$B$500,$B329,'CMS Downtime Detail'!$C$24:$C$500,$C329,'CMS Downtime Detail'!$D$24:$D$500,$D329,'CMS Downtime Detail'!$E$24:$E$500,\"Nonmonitoring Equipment Malfunctions\"))","v":""},{"$f":"IF($E329=\"\",\"\",SUMIFS('CMS Downtime Detail'!$K$24:$K$500,'CMS Downtime Detail'!$B$24:$B$500,$B329,'CMS Downtime Detail'!$C$24:$C$500,$C329,'CMS Downtime Detail'!$D$24:$D$500,$D329,'CMS Downtime Detail'!$E$24:$E$500,\"Quality Assurance/Quality Control Calibrations\"))","v":""},{"$f":"IF($E329=\"\",\"\",SUMIFS('CMS Downtime Detail'!$K$24:$K$500,'CMS Downtime Detail'!$B$24:$B$500,$B329,'CMS Downtime Detail'!$C$24:$C$500,$C329,'CMS Downtime Detail'!$D$24:$D$500,$D329,'CMS Downtime Detail'!$E$24:$E$500,\"Other Known Causes\"))","v":""},{"$f":"IF($E329=\"\",\"\",SUMIFS('CMS Downtime Detail'!$K$24:$K$500,'CMS Downtime Detail'!$B$24:$B$500,$B329,'CMS Downtime Detail'!$C$24:$C$500,$C329,'CMS Downtime Detail'!$D$24:$D$500,$D329,'CMS Downtime Detail'!$E$24:$E$500,\"Other Unknown Causes\"))","v":""}]
[null,{"$f":"IF(Lists!AQ308=\"\",\"\",Lists!AQ308)","v":""},{"$f":"IF(Lists!AR308=\"\",\"\",Lists!AR308)","v":""},{"$f":"IF(Lists!AS308=\"\",\"\",Lists!AS308)","v":""},{"$f":"IF(D330=\"\",\"\",VLOOKUP(B330&C330,Lists!$BA$2:$BD$78,4,FALSE))","v":""},"","",{"$f":"IF($E330=\"\",\"\",SUMIFS('CMS Downtime Detail'!$K$24:$K$500,'CMS Downtime Detail'!$B$24:$B$500,$B330,'CMS Downtime Detail'!$C$24:$C$500,$C330,'CMS Downtime Detail'!$D$24:$D$500,$D330,'CMS Downtime Detail'!$E$24:$E$500,\"Monitoring Equipment Malfunctions\"))","v":""},{"$f":"IF($E330=\"\",\"\",SUMIFS('CMS Downtime Detail'!$K$24:$K$500,'CMS Downtime Detail'!$B$24:$B$500,$B330,'CMS Downtime Detail'!$C$24:$C$500,$C330,'CMS Downtime Detail'!$D$24:$D$500,$D330,'CMS Downtime Detail'!$E$24:$E$500,\"Nonmonitoring Equipment Malfunctions\"))","v":""},{"$f":"IF($E330=\"\",\"\",SUMIFS('CMS Downtime Detail'!$K$24:$K$500,'CMS Downtime Detail'!$B$24:$B$500,$B330,'CMS Downtime Detail'!$C$24:$C$500,$C330,'CMS Downtime Detail'!$D$24:$D$500,$D330,'CMS Downtime Detail'!$E$24:$E$500,\"Quality Assurance/Quality Control Calibrations\"))","v":""},{"$f":"IF($E330=\"\",\"\",SUMIFS('CMS Downtime Detail'!$K$24:$K$500,'CMS Downtime Detail'!$B$24:$B$500,$B330,'CMS Downtime Detail'!$C$24:$C$500,$C330,'CMS Downtime Detail'!$D$24:$D$500,$D330,'CMS Downtime Detail'!$E$24:$E$500,\"Other Known Causes\"))","v":""},{"$f":"IF($E330=\"\",\"\",SUMIFS('CMS Downtime Detail'!$K$24:$K$500,'CMS Downtime Detail'!$B$24:$B$500,$B330,'CMS Downtime Detail'!$C$24:$C$500,$C330,'CMS Downtime Detail'!$D$24:$D$500,$D330,'CMS Downtime Detail'!$E$24:$E$500,\"Other Unknown Causes\"))","v":""}]
[null,{"$f":"IF(Lists!AQ309=\"\",\"\",Lists!AQ309)","v":""},{"$f":"IF(Lists!AR309=\"\",\"\",Lists!AR309)","v":""},{"$f":"IF(Lists!AS309=\"\",\"\",Lists!AS309)","v":""},{"$f":"IF(D331=\"\",\"\",VLOOKUP(B331&C331,Lists!$BA$2:$BD$78,4,FALSE))","v":""},"","",{"$f":"IF($E331=\"\",\"\",SUMIFS('CMS Downtime Detail'!$K$24:$K$500,'CMS Downtime Detail'!$B$24:$B$500,$B331,'CMS Downtime Detail'!$C$24:$C$500,$C331,'CMS Downtime Detail'!$D$24:$D$500,$D331,'CMS Downtime Detail'!$E$24:$E$500,\"Monitoring Equipment Malfunctions\"))","v":""},{"$f":"IF($E331=\"\",\"\",SUMIFS('CMS Downtime Detail'!$K$24:$K$500,'CMS Downtime Detail'!$B$24:$B$500,$B331,'CMS Downtime Detail'!$C$24:$C$500,$C331,'CMS Downtime Detail'!$D$24:$D$500,$D331,'CMS Downtime Detail'!$E$24:$E$500,\"Nonmonitoring Equipment Malfunctions\"))","v":""},{"$f":"IF($E331=\"\",\"\",SUMIFS('CMS Downtime Detail'!$K$24:$K$500,'CMS Downtime Detail'!$B$24:$B$500,$B331,'CMS Downtime Detail'!$C$24:$C$500,$C331,'CMS Downtime Detail'!$D$24:$D$500,$D331,'CMS Downtime Detail'!$E$24:$E$500,\"Quality Assurance/Quality Control Calibrations\"))","v":""},{"$f":"IF($E331=\"\",\"\",SUMIFS('CMS Downtime Detail'!$K$24:$K$500,'CMS Downtime Detail'!$B$24:$B$500,$B331,'CMS Downtime Detail'!$C$24:$C$500,$C331,'CMS Downtime Detail'!$D$24:$D$500,$D331,'CMS Downtime Detail'!$E$24:$E$500,\"Other Known Causes\"))","v":""},{"$f":"IF($E331=\"\",\"\",SUMIFS('CMS Downtime Detail'!$K$24:$K$500,'CMS Downtime Detail'!$B$24:$B$500,$B331,'CMS Downtime Detail'!$C$24:$C$500,$C331,'CMS Downtime Detail'!$D$24:$D$500,$D331,'CMS Downtime Detail'!$E$24:$E$500,\"Other Unknown Causes\"))","v":""}]
[null,{"$f":"IF(Lists!AQ310=\"\",\"\",Lists!AQ310)","v":""},{"$f":"IF(Lists!AR310=\"\",\"\",Lists!AR310)","v":""},{"$f":"IF(Lists!AS310=\"\",\"\",Lists!AS310)","v":""},{"$f":"IF(D332=\"\",\"\",VLOOKUP(B332&C332,Lists!$BA$2:$BD$78,4,FALSE))","v":""},"","",{"$f":"IF($E332=\"\",\"\",SUMIFS('CMS Downtime Detail'!$K$24:$K$500,'CMS Downtime Detail'!$B$24:$B$500,$B332,'CMS Downtime Detail'!$C$24:$C$500,$C332,'CMS Downtime Detail'!$D$24:$D$500,$D332,'CMS Downtime Detail'!$E$24:$E$500,\"Monitoring Equipment Malfunctions\"))","v":""},{"$f":"IF($E332=\"\",\"\",SUMIFS('CMS Downtime Detail'!$K$24:$K$500,'CMS Downtime Detail'!$B$24:$B$500,$B332,'CMS Downtime Detail'!$C$24:$C$500,$C332,'CMS Downtime Detail'!$D$24:$D$500,$D332,'CMS Downtime Detail'!$E$24:$E$500,\"Nonmonitoring Equipment Malfunctions\"))","v":""},{"$f":"IF($E332=\"\",\"\",SUMIFS('CMS Downtime Detail'!$K$24:$K$500,'CMS Downtime Detail'!$B$24:$B$500,$B332,'CMS Downtime Detail'!$C$24:$C$500,$C332,'CMS Downtime Detail'!$D$24:$D$500,$D332,'CMS Downtime Detail'!$E$24:$E$500,\"Quality Assurance/Quality Control Calibrations\"))","v":""},{"$f":"IF($E332=\"\",\"\",SUMIFS('CMS Downtime Detail'!$K$24:$K$500,'CMS Downtime Detail'!$B$24:$B$500,$B332,'CMS Downtime Detail'!$C$24:$C$500,$C332,'CMS Downtime Detail'!$D$24:$D$500,$D332,'CMS Downtime Detail'!$E$24:$E$500,\"Other Known Causes\"))","v":""},{"$f":"IF($E332=\"\",\"\",SUMIFS('CMS Downtime Detail'!$K$24:$K$500,'CMS Downtime Detail'!$B$24:$B$500,$B332,'CMS Downtime Detail'!$C$24:$C$500,$C332,'CMS Downtime Detail'!$D$24:$D$500,$D332,'CMS Downtime Detail'!$E$24:$E$500,\"Other Unknown Causes\"))","v":""}]
[null,{"$f":"IF(Lists!AQ311=\"\",\"\",Lists!AQ311)","v":""},{"$f":"IF(Lists!AR311=\"\",\"\",Lists!AR311)","v":""},{"$f":"IF(Lists!AS311=\"\",\"\",Lists!AS311)","v":""},{"$f":"IF(D333=\"\",\"\",VLOOKUP(B333&C333,Lists!$BA$2:$BD$78,4,FALSE))","v":""},"","",{"$f":"IF($E333=\"\",\"\",SUMIFS('CMS Downtime Detail'!$K$24:$K$500,'CMS Downtime Detail'!$B$24:$B$500,$B333,'CMS Downtime Detail'!$C$24:$C$500,$C333,'CMS Downtime Detail'!$D$24:$D$500,$D333,'CMS Downtime Detail'!$E$24:$E$500,\"Monitoring Equipment Malfunctions\"))","v":""},{"$f":"IF($E333=\"\",\"\",SUMIFS('CMS Downtime Detail'!$K$24:$K$500,'CMS Downtime Detail'!$B$24:$B$500,$B333,'CMS Downtime Detail'!$C$24:$C$500,$C333,'CMS Downtime Detail'!$D$24:$D$500,$D333,'CMS Downtime Detail'!$E$24:$E$500,\"Nonmonitoring Equipment Malfunctions\"))","v":""},{"$f":"IF($E333=\"\",\"\",SUMIFS('CMS Downtime Detail'!$K$24:$K$500,'CMS Downtime Detail'!$B$24:$B$500,$B333,'CMS Downtime Detail'!$C$24:$C$500,$C333,'CMS Downtime Detail'!$D$24:$D$500,$D333,'CMS Downtime Detail'!$E$24:$E$500,\"Quality Assurance/Quality Control Calibrations\"))","v":""},{"$f":"IF($E333=\"\",\"\",SUMIFS('CMS Downtime Detail'!$K$24:$K$500,'CMS Downtime Detail'!$B$24:$B$500,$B333,'CMS Downtime Detail'!$C$24:$C$500,$C333,'CMS Downtime Detail'!$D$24:$D$500,$D333,'CMS Downtime Detail'!$E$24:$E$500,\"Other Known Causes\"))","v":""},{"$f":"IF($E333=\"\",\"\",SUMIFS('CMS Downtime Detail'!$K$24:$K$500,'CMS Downtime Detail'!$B$24:$B$500,$B333,'CMS Downtime Detail'!$C$24:$C$500,$C333,'CMS Downtime Detail'!$D$24:$D$500,$D333,'CMS Downtime Detail'!$E$24:$E$500,\"Other Unknown Causes\"))","v":""}]
[null,{"$f":"IF(Lists!AQ312=\"\",\"\",Lists!AQ312)","v":""},{"$f":"IF(Lists!AR312=\"\",\"\",Lists!AR312)","v":""},{"$f":"IF(Lists!AS312=\"\",\"\",Lists!AS312)","v":""},{"$f":"IF(D334=\"\",\"\",VLOOKUP(B334&C334,Lists!$BA$2:$BD$78,4,FALSE))","v":""},"","",{"$f":"IF($E334=\"\",\"\",SUMIFS('CMS Downtime Detail'!$K$24:$K$500,'CMS Downtime Detail'!$B$24:$B$500,$B334,'CMS Downtime Detail'!$C$24:$C$500,$C334,'CMS Downtime Detail'!$D$24:$D$500,$D334,'CMS Downtime Detail'!$E$24:$E$500,\"Monitoring Equipment Malfunctions\"))","v":""},{"$f":"IF($E334=\"\",\"\",SUMIFS('CMS Downtime Detail'!$K$24:$K$500,'CMS Downtime Detail'!$B$24:$B$500,$B334,'CMS Downtime Detail'!$C$24:$C$500,$C334,'CMS Downtime Detail'!$D$24:$D$500,$D334,'CMS Downtime Detail'!$E$24:$E$500,\"Nonmonitoring Equipment Malfunctions\"))","v":""},{"$f":"IF($E334=\"\",\"\",SUMIFS('CMS Downtime Detail'!$K$24:$K$500,'CMS Downtime Detail'!$B$24:$B$500,$B334,'CMS Downtime Detail'!$C$24:$C$500,$C334,'CMS Downtime Detail'!$D$24:$D$500,$D334,'CMS Downtime Detail'!$E$24:$E$500,\"Quality Assurance/Quality Control Calibrations\"))","v":""},{"$f":"IF($E334=\"\",\"\",SUMIFS('CMS Downtime Detail'!$K$24:$K$500,'CMS Downtime Detail'!$B$24:$B$500,$B334,'CMS Downtime Detail'!$C$24:$C$500,$C334,'CMS Downtime Detail'!$D$24:$D$500,$D334,'CMS Downtime Detail'!$E$24:$E$500,\"Other Known Causes\"))","v":""},{"$f":"IF($E334=\"\",\"\",SUMIFS('CMS Downtime Detail'!$K$24:$K$500,'CMS Downtime Detail'!$B$24:$B$500,$B334,'CMS Downtime Detail'!$C$24:$C$500,$C334,'CMS Downtime Detail'!$D$24:$D$500,$D334,'CMS Downtime Detail'!$E$24:$E$500,\"Other Unknown Causes\"))","v":""}]
[null,{"$f":"IF(Lists!AQ313=\"\",\"\",Lists!AQ313)","v":""},{"$f":"IF(Lists!AR313=\"\",\"\",Lists!AR313)","v":""},{"$f":"IF(Lists!AS313=\"\",\"\",Lists!AS313)","v":""},{"$f":"IF(D335=\"\",\"\",VLOOKUP(B335&C335,Lists!$BA$2:$BD$78,4,FALSE))","v":""},"","",{"$f":"IF($E335=\"\",\"\",SUMIFS('CMS Downtime Detail'!$K$24:$K$500,'CMS Downtime Detail'!$B$24:$B$500,$B335,'CMS Downtime Detail'!$C$24:$C$500,$C335,'CMS Downtime Detail'!$D$24:$D$500,$D335,'CMS Downtime Detail'!$E$24:$E$500,\"Monitoring Equipment Malfunctions\"))","v":""},{"$f":"IF($E335=\"\",\"\",SUMIFS('CMS Downtime Detail'!$K$24:$K$500,'CMS Downtime Detail'!$B$24:$B$500,$B335,'CMS Downtime Detail'!$C$24:$C$500,$C335,'CMS Downtime Detail'!$D$24:$D$500,$D335,'CMS Downtime Detail'!$E$24:$E$500,\"Nonmonitoring Equipment Malfunctions\"))","v":""},{"$f":"IF($E335=\"\",\"\",SUMIFS('CMS Downtime Detail'!$K$24:$K$500,'CMS Downtime Detail'!$B$24:$B$500,$B335,'CMS Downtime Detail'!$C$24:$C$500,$C335,'CMS Downtime Detail'!$D$24:$D$500,$D335,'CMS Downtime Detail'!$E$24:$E$500,\"Quality Assurance/Quality Control Calibrations\"))","v":""},{"$f":"IF($E335=\"\",\"\",SUMIFS('CMS Downtime Detail'!$K$24:$K$500,'CMS Downtime Detail'!$B$24:$B$500,$B335,'CMS Downtime Detail'!$C$24:$C$500,$C335,'CMS Downtime Detail'!$D$24:$D$500,$D335,'CMS Downtime Detail'!$E$24:$E$500,\"Other Known Causes\"))","v":""},{"$f":"IF($E335=\"\",\"\",SUMIFS('CMS Downtime Detail'!$K$24:$K$500,'CMS Downtime Detail'!$B$24:$B$500,$B335,'CMS Downtime Detail'!$C$24:$C$500,$C335,'CMS Downtime Detail'!$D$24:$D$500,$D335,'CMS Downtime Detail'!$E$24:$E$500,\"Other Unknown Causes\"))","v":""}]
[null,{"$f":"IF(Lists!AQ314=\"\",\"\",Lists!AQ314)","v":""},{"$f":"IF(Lists!AR314=\"\",\"\",Lists!AR314)","v":""},{"$f":"IF(Lists!AS314=\"\",\"\",Lists!AS314)","v":""},{"$f":"IF(D336=\"\",\"\",VLOOKUP(B336&C336,Lists!$BA$2:$BD$78,4,FALSE))","v":""},"","",{"$f":"IF($E336=\"\",\"\",SUMIFS('CMS Downtime Detail'!$K$24:$K$500,'CMS Downtime Detail'!$B$24:$B$500,$B336,'CMS Downtime Detail'!$C$24:$C$500,$C336,'CMS Downtime Detail'!$D$24:$D$500,$D336,'CMS Downtime Detail'!$E$24:$E$500,\"Monitoring Equipment Malfunctions\"))","v":""},{"$f":"IF($E336=\"\",\"\",SUMIFS('CMS Downtime Detail'!$K$24:$K$500,'CMS Downtime Detail'!$B$24:$B$500,$B336,'CMS Downtime Detail'!$C$24:$C$500,$C336,'CMS Downtime Detail'!$D$24:$D$500,$D336,'CMS Downtime Detail'!$E$24:$E$500,\"Nonmonitoring Equipment Malfunctions\"))","v":""},{"$f":"IF($E336=\"\",\"\",SUMIFS('CMS Downtime Detail'!$K$24:$K$500,'CMS Downtime Detail'!$B$24:$B$500,$B336,'CMS Downtime Detail'!$C$24:$C$500,$C336,'CMS Downtime Detail'!$D$24:$D$500,$D336,'CMS Downtime Detail'!$E$24:$E$500,\"Quality Assurance/Quality Control Calibrations\"))","v":""},{"$f":"IF($E336=\"\",\"\",SUMIFS('CMS Downtime Detail'!$K$24:$K$500,'CMS Downtime Detail'!$B$24:$B$500,$B336,'CMS Downtime Detail'!$C$24:$C$500,$C336,'CMS Downtime Detail'!$D$24:$D$500,$D336,'CMS Downtime Detail'!$E$24:$E$500,\"Other Known Causes\"))","v":""},{"$f":"IF($E336=\"\",\"\",SUMIFS('CMS Downtime Detail'!$K$24:$K$500,'CMS Downtime Detail'!$B$24:$B$500,$B336,'CMS Downtime Detail'!$C$24:$C$500,$C336,'CMS Downtime Detail'!$D$24:$D$500,$D336,'CMS Downtime Detail'!$E$24:$E$500,\"Other Unknown Causes\"))","v":""}]
[null,{"$f":"IF(Lists!AQ315=\"\",\"\",Lists!AQ315)","v":""},{"$f":"IF(Lists!AR315=\"\",\"\",Lists!AR315)","v":""},{"$f":"IF(Lists!AS315=\"\",\"\",Lists!AS315)","v":""},{"$f":"IF(D337=\"\",\"\",VLOOKUP(B337&C337,Lists!$BA$2:$BD$78,4,FALSE))","v":""},"","",{"$f":"IF($E337=\"\",\"\",SUMIFS('CMS Downtime Detail'!$K$24:$K$500,'CMS Downtime Detail'!$B$24:$B$500,$B337,'CMS Downtime Detail'!$C$24:$C$500,$C337,'CMS Downtime Detail'!$D$24:$D$500,$D337,'CMS Downtime Detail'!$E$24:$E$500,\"Monitoring Equipment Malfunctions\"))","v":""},{"$f":"IF($E337=\"\",\"\",SUMIFS('CMS Downtime Detail'!$K$24:$K$500,'CMS Downtime Detail'!$B$24:$B$500,$B337,'CMS Downtime Detail'!$C$24:$C$500,$C337,'CMS Downtime Detail'!$D$24:$D$500,$D337,'CMS Downtime Detail'!$E$24:$E$500,\"Nonmonitoring Equipment Malfunctions\"))","v":""},{"$f":"IF($E337=\"\",\"\",SUMIFS('CMS Downtime Detail'!$K$24:$K$500,'CMS Downtime Detail'!$B$24:$B$500,$B337,'CMS Downtime Detail'!$C$24:$C$500,$C337,'CMS Downtime Detail'!$D$24:$D$500,$D337,'CMS Downtime Detail'!$E$24:$E$500,\"Quality Assurance/Quality Control Calibrations\"))","v":""},{"$f":"IF($E337=\"\",\"\",SUMIFS('CMS Downtime Detail'!$K$24:$K$500,'CMS Downtime Detail'!$B$24:$B$500,$B337,'CMS Downtime Detail'!$C$24:$C$500,$C337,'CMS Downtime Detail'!$D$24:$D$500,$D337,'CMS Downtime Detail'!$E$24:$E$500,\"Other Known Causes\"))","v":""},{"$f":"IF($E337=\"\",\"\",SUMIFS('CMS Downtime Detail'!$K$24:$K$500,'CMS Downtime Detail'!$B$24:$B$500,$B337,'CMS Downtime Detail'!$C$24:$C$500,$C337,'CMS Downtime Detail'!$D$24:$D$500,$D337,'CMS Downtime Detail'!$E$24:$E$500,\"Other Unknown Causes\"))","v":""}]
[null,{"$f":"IF(Lists!AQ316=\"\",\"\",Lists!AQ316)","v":""},{"$f":"IF(Lists!AR316=\"\",\"\",Lists!AR316)","v":""},{"$f":"IF(Lists!AS316=\"\",\"\",Lists!AS316)","v":""},{"$f":"IF(D338=\"\",\"\",VLOOKUP(B338&C338,Lists!$BA$2:$BD$78,4,FALSE))","v":""},"","",{"$f":"IF($E338=\"\",\"\",SUMIFS('CMS Downtime Detail'!$K$24:$K$500,'CMS Downtime Detail'!$B$24:$B$500,$B338,'CMS Downtime Detail'!$C$24:$C$500,$C338,'CMS Downtime Detail'!$D$24:$D$500,$D338,'CMS Downtime Detail'!$E$24:$E$500,\"Monitoring Equipment Malfunctions\"))","v":""},{"$f":"IF($E338=\"\",\"\",SUMIFS('CMS Downtime Detail'!$K$24:$K$500,'CMS Downtime Detail'!$B$24:$B$500,$B338,'CMS Downtime Detail'!$C$24:$C$500,$C338,'CMS Downtime Detail'!$D$24:$D$500,$D338,'CMS Downtime Detail'!$E$24:$E$500,\"Nonmonitoring Equipment Malfunctions\"))","v":""},{"$f":"IF($E338=\"\",\"\",SUMIFS('CMS Downtime Detail'!$K$24:$K$500,'CMS Downtime Detail'!$B$24:$B$500,$B338,'CMS Downtime Detail'!$C$24:$C$500,$C338,'CMS Downtime Detail'!$D$24:$D$500,$D338,'CMS Downtime Detail'!$E$24:$E$500,\"Quality Assurance/Quality Control Calibrations\"))","v":""},{"$f":"IF($E338=\"\",\"\",SUMIFS('CMS Downtime Detail'!$K$24:$K$500,'CMS Downtime Detail'!$B$24:$B$500,$B338,'CMS Downtime Detail'!$C$24:$C$500,$C338,'CMS Downtime Detail'!$D$24:$D$500,$D338,'CMS Downtime Detail'!$E$24:$E$500,\"Other Known Causes\"))","v":""},{"$f":"IF($E338=\"\",\"\",SUMIFS('CMS Downtime Detail'!$K$24:$K$500,'CMS Downtime Detail'!$B$24:$B$500,$B338,'CMS Downtime Detail'!$C$24:$C$500,$C338,'CMS Downtime Detail'!$D$24:$D$500,$D338,'CMS Downtime Detail'!$E$24:$E$500,\"Other Unknown Causes\"))","v":""}]
[null,{"$f":"IF(Lists!AQ317=\"\",\"\",Lists!AQ317)","v":""},{"$f":"IF(Lists!AR317=\"\",\"\",Lists!AR317)","v":""},{"$f":"IF(Lists!AS317=\"\",\"\",Lists!AS317)","v":""},{"$f":"IF(D339=\"\",\"\",VLOOKUP(B339&C339,Lists!$BA$2:$BD$78,4,FALSE))","v":""},"","",{"$f":"IF($E339=\"\",\"\",SUMIFS('CMS Downtime Detail'!$K$24:$K$500,'CMS Downtime Detail'!$B$24:$B$500,$B339,'CMS Downtime Detail'!$C$24:$C$500,$C339,'CMS Downtime Detail'!$D$24:$D$500,$D339,'CMS Downtime Detail'!$E$24:$E$500,\"Monitoring Equipment Malfunctions\"))","v":""},{"$f":"IF($E339=\"\",\"\",SUMIFS('CMS Downtime Detail'!$K$24:$K$500,'CMS Downtime Detail'!$B$24:$B$500,$B339,'CMS Downtime Detail'!$C$24:$C$500,$C339,'CMS Downtime Detail'!$D$24:$D$500,$D339,'CMS Downtime Detail'!$E$24:$E$500,\"Nonmonitoring Equipment Malfunctions\"))","v":""},{"$f":"IF($E339=\"\",\"\",SUMIFS('CMS Downtime Detail'!$K$24:$K$500,'CMS Downtime Detail'!$B$24:$B$500,$B339,'CMS Downtime Detail'!$C$24:$C$500,$C339,'CMS Downtime Detail'!$D$24:$D$500,$D339,'CMS Downtime Detail'!$E$24:$E$500,\"Quality Assurance/Quality Control Calibrations\"))","v":""},{"$f":"IF($E339=\"\",\"\",SUMIFS('CMS Downtime Detail'!$K$24:$K$500,'CMS Downtime Detail'!$B$24:$B$500,$B339,'CMS Downtime Detail'!$C$24:$C$500,$C339,'CMS Downtime Detail'!$D$24:$D$500,$D339,'CMS Downtime Detail'!$E$24:$E$500,\"Other Known Causes\"))","v":""},{"$f":"IF($E339=\"\",\"\",SUMIFS('CMS Downtime Detail'!$K$24:$K$500,'CMS Downtime Detail'!$B$24:$B$500,$B339,'CMS Downtime Detail'!$C$24:$C$500,$C339,'CMS Downtime Detail'!$D$24:$D$500,$D339,'CMS Downtime Detail'!$E$24:$E$500,\"Other Unknown Causes\"))","v":""}]
[null,{"$f":"IF(Lists!AQ318=\"\",\"\",Lists!AQ318)","v":""},{"$f":"IF(Lists!AR318=\"\",\"\",Lists!AR318)","v":""},{"$f":"IF(Lists!AS318=\"\",\"\",Lists!AS318)","v":""},{"$f":"IF(D340=\"\",\"\",VLOOKUP(B340&C340,Lists!$BA$2:$BD$78,4,FALSE))","v":""},"","",{"$f":"IF($E340=\"\",\"\",SUMIFS('CMS Downtime Detail'!$K$24:$K$500,'CMS Downtime Detail'!$B$24:$B$500,$B340,'CMS Downtime Detail'!$C$24:$C$500,$C340,'CMS Downtime Detail'!$D$24:$D$500,$D340,'CMS Downtime Detail'!$E$24:$E$500,\"Monitoring Equipment Malfunctions\"))","v":""},{"$f":"IF($E340=\"\",\"\",SUMIFS('CMS Downtime Detail'!$K$24:$K$500,'CMS Downtime Detail'!$B$24:$B$500,$B340,'CMS Downtime Detail'!$C$24:$C$500,$C340,'CMS Downtime Detail'!$D$24:$D$500,$D340,'CMS Downtime Detail'!$E$24:$E$500,\"Nonmonitoring Equipment Malfunctions\"))","v":""},{"$f":"IF($E340=\"\",\"\",SUMIFS('CMS Downtime Detail'!$K$24:$K$500,'CMS Downtime Detail'!$B$24:$B$500,$B340,'CMS Downtime Detail'!$C$24:$C$500,$C340,'CMS Downtime Detail'!$D$24:$D$500,$D340,'CMS Downtime Detail'!$E$24:$E$500,\"Quality Assurance/Quality Control Calibrations\"))","v":""},{"$f":"IF($E340=\"\",\"\",SUMIFS('CMS Downtime Detail'!$K$24:$K$500,'CMS Downtime Detail'!$B$24:$B$500,$B340,'CMS Downtime Detail'!$C$24:$C$500,$C340,'CMS Downtime Detail'!$D$24:$D$500,$D340,'CMS Downtime Detail'!$E$24:$E$500,\"Other Known Causes\"))","v":""},{"$f":"IF($E340=\"\",\"\",SUMIFS('CMS Downtime Detail'!$K$24:$K$500,'CMS Downtime Detail'!$B$24:$B$500,$B340,'CMS Downtime Detail'!$C$24:$C$500,$C340,'CMS Downtime Detail'!$D$24:$D$500,$D340,'CMS Downtime Detail'!$E$24:$E$500,\"Other Unknown Causes\"))","v":""}]
[null,{"$f":"IF(Lists!AQ319=\"\",\"\",Lists!AQ319)","v":""},{"$f":"IF(Lists!AR319=\"\",\"\",Lists!AR319)","v":""},{"$f":"IF(Lists!AS319=\"\",\"\",Lists!AS319)","v":""},{"$f":"IF(D341=\"\",\"\",VLOOKUP(B341&C341,Lists!$BA$2:$BD$78,4,FALSE))","v":""},"","",{"$f":"IF($E341=\"\",\"\",SUMIFS('CMS Downtime Detail'!$K$24:$K$500,'CMS Downtime Detail'!$B$24:$B$500,$B341,'CMS Downtime Detail'!$C$24:$C$500,$C341,'CMS Downtime Detail'!$D$24:$D$500,$D341,'CMS Downtime Detail'!$E$24:$E$500,\"Monitoring Equipment Malfunctions\"))","v":""},{"$f":"IF($E341=\"\",\"\",SUMIFS('CMS Downtime Detail'!$K$24:$K$500,'CMS Downtime Detail'!$B$24:$B$500,$B341,'CMS Downtime Detail'!$C$24:$C$500,$C341,'CMS Downtime Detail'!$D$24:$D$500,$D341,'CMS Downtime Detail'!$E$24:$E$500,\"Nonmonitoring Equipment Malfunctions\"))","v":""},{"$f":"IF($E341=\"\",\"\",SUMIFS('CMS Downtime Detail'!$K$24:$K$500,'CMS Downtime Detail'!$B$24:$B$500,$B341,'CMS Downtime Detail'!$C$24:$C$500,$C341,'CMS Downtime Detail'!$D$24:$D$500,$D341,'CMS Downtime Detail'!$E$24:$E$500,\"Quality Assurance/Quality Control Calibrations\"))","v":""},{"$f":"IF($E341=\"\",\"\",SUMIFS('CMS Downtime Detail'!$K$24:$K$500,'CMS Downtime Detail'!$B$24:$B$500,$B341,'CMS Downtime Detail'!$C$24:$C$500,$C341,'CMS Downtime Detail'!$D$24:$D$500,$D341,'CMS Downtime Detail'!$E$24:$E$500,\"Other Known Causes\"))","v":""},{"$f":"IF($E341=\"\",\"\",SUMIFS('CMS Downtime Detail'!$K$24:$K$500,'CMS Downtime Detail'!$B$24:$B$500,$B341,'CMS Downtime Detail'!$C$24:$C$500,$C341,'CMS Downtime Detail'!$D$24:$D$500,$D341,'CMS Downtime Detail'!$E$24:$E$500,\"Other Unknown Causes\"))","v":""}]
[null,{"$f":"IF(Lists!AQ320=\"\",\"\",Lists!AQ320)","v":""},{"$f":"IF(Lists!AR320=\"\",\"\",Lists!AR320)","v":""},{"$f":"IF(Lists!AS320=\"\",\"\",Lists!AS320)","v":""},{"$f":"IF(D342=\"\",\"\",VLOOKUP(B342&C342,Lists!$BA$2:$BD$78,4,FALSE))","v":""},"","",{"$f":"IF($E342=\"\",\"\",SUMIFS('CMS Downtime Detail'!$K$24:$K$500,'CMS Downtime Detail'!$B$24:$B$500,$B342,'CMS Downtime Detail'!$C$24:$C$500,$C342,'CMS Downtime Detail'!$D$24:$D$500,$D342,'CMS Downtime Detail'!$E$24:$E$500,\"Monitoring Equipment Malfunctions\"))","v":""},{"$f":"IF($E342=\"\",\"\",SUMIFS('CMS Downtime Detail'!$K$24:$K$500,'CMS Downtime Detail'!$B$24:$B$500,$B342,'CMS Downtime Detail'!$C$24:$C$500,$C342,'CMS Downtime Detail'!$D$24:$D$500,$D342,'CMS Downtime Detail'!$E$24:$E$500,\"Nonmonitoring Equipment Malfunctions\"))","v":""},{"$f":"IF($E342=\"\",\"\",SUMIFS('CMS Downtime Detail'!$K$24:$K$500,'CMS Downtime Detail'!$B$24:$B$500,$B342,'CMS Downtime Detail'!$C$24:$C$500,$C342,'CMS Downtime Detail'!$D$24:$D$500,$D342,'CMS Downtime Detail'!$E$24:$E$500,\"Quality Assurance/Quality Control Calibrations\"))","v":""},{"$f":"IF($E342=\"\",\"\",SUMIFS('CMS Downtime Detail'!$K$24:$K$500,'CMS Downtime Detail'!$B$24:$B$500,$B342,'CMS Downtime Detail'!$C$24:$C$500,$C342,'CMS Downtime Detail'!$D$24:$D$500,$D342,'CMS Downtime Detail'!$E$24:$E$500,\"Other Known Causes\"))","v":""},{"$f":"IF($E342=\"\",\"\",SUMIFS('CMS Downtime Detail'!$K$24:$K$500,'CMS Downtime Detail'!$B$24:$B$500,$B342,'CMS Downtime Detail'!$C$24:$C$500,$C342,'CMS Downtime Detail'!$D$24:$D$500,$D342,'CMS Downtime Detail'!$E$24:$E$500,\"Other Unknown Causes\"))","v":""}]
[null,{"$f":"IF(Lists!AQ321=\"\",\"\",Lists!AQ321)","v":""},{"$f":"IF(Lists!AR321=\"\",\"\",Lists!AR321)","v":""},{"$f":"IF(Lists!AS321=\"\",\"\",Lists!AS321)","v":""},{"$f":"IF(D343=\"\",\"\",VLOOKUP(B343&C343,Lists!$BA$2:$BD$78,4,FALSE))","v":""},"","",{"$f":"IF($E343=\"\",\"\",SUMIFS('CMS Downtime Detail'!$K$24:$K$500,'CMS Downtime Detail'!$B$24:$B$500,$B343,'CMS Downtime Detail'!$C$24:$C$500,$C343,'CMS Downtime Detail'!$D$24:$D$500,$D343,'CMS Downtime Detail'!$E$24:$E$500,\"Monitoring Equipment Malfunctions\"))","v":""},{"$f":"IF($E343=\"\",\"\",SUMIFS('CMS Downtime Detail'!$K$24:$K$500,'CMS Downtime Detail'!$B$24:$B$500,$B343,'CMS Downtime Detail'!$C$24:$C$500,$C343,'CMS Downtime Detail'!$D$24:$D$500,$D343,'CMS Downtime Detail'!$E$24:$E$500,\"Nonmonitoring Equipment Malfunctions\"))","v":""},{"$f":"IF($E343=\"\",\"\",SUMIFS('CMS Downtime Detail'!$K$24:$K$500,'CMS Downtime Detail'!$B$24:$B$500,$B343,'CMS Downtime Detail'!$C$24:$C$500,$C343,'CMS Downtime Detail'!$D$24:$D$500,$D343,'CMS Downtime Detail'!$E$24:$E$500,\"Quality Assurance/Quality Control Calibrations\"))","v":""},{"$f":"IF($E343=\"\",\"\",SUMIFS('CMS Downtime Detail'!$K$24:$K$500,'CMS Downtime Detail'!$B$24:$B$500,$B343,'CMS Downtime Detail'!$C$24:$C$500,$C343,'CMS Downtime Detail'!$D$24:$D$500,$D343,'CMS Downtime Detail'!$E$24:$E$500,\"Other Known Causes\"))","v":""},{"$f":"IF($E343=\"\",\"\",SUMIFS('CMS Downtime Detail'!$K$24:$K$500,'CMS Downtime Detail'!$B$24:$B$500,$B343,'CMS Downtime Detail'!$C$24:$C$500,$C343,'CMS Downtime Detail'!$D$24:$D$500,$D343,'CMS Downtime Detail'!$E$24:$E$500,\"Other Unknown Causes\"))","v":""}]
[null,{"$f":"IF(Lists!AQ322=\"\",\"\",Lists!AQ322)","v":""},{"$f":"IF(Lists!AR322=\"\",\"\",Lists!AR322)","v":""},{"$f":"IF(Lists!AS322=\"\",\"\",Lists!AS322)","v":""},{"$f":"IF(D344=\"\",\"\",VLOOKUP(B344&C344,Lists!$BA$2:$BD$78,4,FALSE))","v":""},"","",{"$f":"IF($E344=\"\",\"\",SUMIFS('CMS Downtime Detail'!$K$24:$K$500,'CMS Downtime Detail'!$B$24:$B$500,$B344,'CMS Downtime Detail'!$C$24:$C$500,$C344,'CMS Downtime Detail'!$D$24:$D$500,$D344,'CMS Downtime Detail'!$E$24:$E$500,\"Monitoring Equipment Malfunctions\"))","v":""},{"$f":"IF($E344=\"\",\"\",SUMIFS('CMS Downtime Detail'!$K$24:$K$500,'CMS Downtime Detail'!$B$24:$B$500,$B344,'CMS Downtime Detail'!$C$24:$C$500,$C344,'CMS Downtime Detail'!$D$24:$D$500,$D344,'CMS Downtime Detail'!$E$24:$E$500,\"Nonmonitoring Equipment Malfunctions\"))","v":""},{"$f":"IF($E344=\"\",\"\",SUMIFS('CMS Downtime Detail'!$K$24:$K$500,'CMS Downtime Detail'!$B$24:$B$500,$B344,'CMS Downtime Detail'!$C$24:$C$500,$C344,'CMS Downtime Detail'!$D$24:$D$500,$D344,'CMS Downtime Detail'!$E$24:$E$500,\"Quality Assurance/Quality Control Calibrations\"))","v":""},{"$f":"IF($E344=\"\",\"\",SUMIFS('CMS Downtime Detail'!$K$24:$K$500,'CMS Downtime Detail'!$B$24:$B$500,$B344,'CMS Downtime Detail'!$C$24:$C$500,$C344,'CMS Downtime Detail'!$D$24:$D$500,$D344,'CMS Downtime Detail'!$E$24:$E$500,\"Other Known Causes\"))","v":""},{"$f":"IF($E344=\"\",\"\",SUMIFS('CMS Downtime Detail'!$K$24:$K$500,'CMS Downtime Detail'!$B$24:$B$500,$B344,'CMS Downtime Detail'!$C$24:$C$500,$C344,'CMS Downtime Detail'!$D$24:$D$500,$D344,'CMS Downtime Detail'!$E$24:$E$500,\"Other Unknown Causes\"))","v":""}]
[null,{"$f":"IF(Lists!AQ323=\"\",\"\",Lists!AQ323)","v":""},{"$f":"IF(Lists!AR323=\"\",\"\",Lists!AR323)","v":""},{"$f":"IF(Lists!AS323=\"\",\"\",Lists!AS323)","v":""},{"$f":"IF(D345=\"\",\"\",VLOOKUP(B345&C345,Lists!$BA$2:$BD$78,4,FALSE))","v":""},{"$f":"IF(E345=\"\",\"\",SUM(H345:L345))","v":""},{"$f":"IF(F345=\"\",\"\",F345/E345)","v":""},{"$f":"IF($E345=\"\",\"\",SUMIFS('CMS Downtime Detail'!$K$24:$K$500,'CMS Downtime Detail'!$B$24:$B$500,$B345,'CMS Downtime Detail'!$C$24:$C$500,$C345,'CMS Downtime Detail'!$D$24:$D$500,$D345,'CMS Downtime Detail'!$E$24:$E$500,\"Monitoring Equipment Malfunctions\"))","v":""},{"$f":"IF($E345=\"\",\"\",SUMIFS('CMS Downtime Detail'!$K$24:$K$500,'CMS Downtime Detail'!$B$24:$B$500,$B345,'CMS Downtime Detail'!$C$24:$C$500,$C345,'CMS Downtime Detail'!$D$24:$D$500,$D345,'CMS Downtime Detail'!$E$24:$E$500,\"Nonmonitoring Equipment Malfunctions\"))","v":""},{"$f":"IF($E345=\"\",\"\",SUMIFS('CMS Downtime Detail'!$K$24:$K$500,'CMS Downtime Detail'!$B$24:$B$500,$B345,'CMS Downtime Detail'!$C$24:$C$500,$C345,'CMS Downtime Detail'!$D$24:$D$500,$D345,'CMS Downtime Detail'!$E$24:$E$500,\"Quality Assurance/Quality Control Calibrations\"))","v":""},{"$f":"IF($E345=\"\",\"\",SUMIFS('CMS Downtime Detail'!$K$24:$K$500,'CMS Downtime Detail'!$B$24:$B$500,$B345,'CMS Downtime Detail'!$C$24:$C$500,$C345,'CMS Downtime Detail'!$D$24:$D$500,$D345,'CMS Downtime Detail'!$E$24:$E$500,\"Other Known Causes\"))","v":""},{"$f":"IF($E345=\"\",\"\",SUMIFS('CMS Downtime Detail'!$K$24:$K$500,'CMS Downtime Detail'!$B$24:$B$500,$B345,'CMS Downtime Detail'!$C$24:$C$500,$C345,'CMS Downtime Detail'!$D$24:$D$500,$D345,'CMS Downtime Detail'!$E$24:$E$500,\"Other Unknown Causes\"))","v":""}]
[null,{"$f":"IF(Lists!AQ324=\"\",\"\",Lists!AQ324)","v":""},{"$f":"IF(Lists!AR324=\"\",\"\",Lists!AR324)","v":""},{"$f":"IF(Lists!AS324=\"\",\"\",Lists!AS324)","v":""},{"$f":"IF(D346=\"\",\"\",VLOOKUP(B346&C346,Lists!$BA$2:$BD$78,4,FALSE))","v":""},"","",{"$f":"IF($E346=\"\",\"\",SUMIFS('CMS Downtime Detail'!$K$24:$K$500,'CMS Downtime Detail'!$B$24:$B$500,$B346,'CMS Downtime Detail'!$C$24:$C$500,$C346,'CMS Downtime Detail'!$D$24:$D$500,$D346,'CMS Downtime Detail'!$E$24:$E$500,\"Monitoring Equipment Malfunctions\"))","v":""},{"$f":"IF($E346=\"\",\"\",SUMIFS('CMS Downtime Detail'!$K$24:$K$500,'CMS Downtime Detail'!$B$24:$B$500,$B346,'CMS Downtime Detail'!$C$24:$C$500,$C346,'CMS Downtime Detail'!$D$24:$D$500,$D346,'CMS Downtime Detail'!$E$24:$E$500,\"Nonmonitoring Equipment Malfunctions\"))","v":""},{"$f":"IF($E346=\"\",\"\",SUMIFS('CMS Downtime Detail'!$K$24:$K$500,'CMS Downtime Detail'!$B$24:$B$500,$B346,'CMS Downtime Detail'!$C$24:$C$500,$C346,'CMS Downtime Detail'!$D$24:$D$500,$D346,'CMS Downtime Detail'!$E$24:$E$500,\"Quality Assurance/Quality Control Calibrations\"))","v":""},{"$f":"IF($E346=\"\",\"\",SUMIFS('CMS Downtime Detail'!$K$24:$K$500,'CMS Downtime Detail'!$B$24:$B$500,$B346,'CMS Downtime Detail'!$C$24:$C$500,$C346,'CMS Downtime Detail'!$D$24:$D$500,$D346,'CMS Downtime Detail'!$E$24:$E$500,\"Other Known Causes\"))","v":""},{"$f":"IF($E346=\"\",\"\",SUMIFS('CMS Downtime Detail'!$K$24:$K$500,'CMS Downtime Detail'!$B$24:$B$500,$B346,'CMS Downtime Detail'!$C$24:$C$500,$C346,'CMS Downtime Detail'!$D$24:$D$500,$D346,'CMS Downtime Detail'!$E$24:$E$500,\"Other Unknown Causes\"))","v":""}]
[null,{"$f":"IF(Lists!AQ325=\"\",\"\",Lists!AQ325)","v":""},{"$f":"IF(Lists!AR325=\"\",\"\",Lists!AR325)","v":""},{"$f":"IF(Lists!AS325=\"\",\"\",Lists!AS325)","v":""},{"$f":"IF(D347=\"\",\"\",VLOOKUP(B347&C347,Lists!$BA$2:$BD$78,4,FALSE))","v":""},"","",{"$f":"IF($E347=\"\",\"\",SUMIFS('CMS Downtime Detail'!$K$24:$K$500,'CMS Downtime Detail'!$B$24:$B$500,$B347,'CMS Downtime Detail'!$C$24:$C$500,$C347,'CMS Downtime Detail'!$D$24:$D$500,$D347,'CMS Downtime Detail'!$E$24:$E$500,\"Monitoring Equipment Malfunctions\"))","v":""},{"$f":"IF($E347=\"\",\"\",SUMIFS('CMS Downtime Detail'!$K$24:$K$500,'CMS Downtime Detail'!$B$24:$B$500,$B347,'CMS Downtime Detail'!$C$24:$C$500,$C347,'CMS Downtime Detail'!$D$24:$D$500,$D347,'CMS Downtime Detail'!$E$24:$E$500,\"Nonmonitoring Equipment Malfunctions\"))","v":""},{"$f":"IF($E347=\"\",\"\",SUMIFS('CMS Downtime Detail'!$K$24:$K$500,'CMS Downtime Detail'!$B$24:$B$500,$B347,'CMS Downtime Detail'!$C$24:$C$500,$C347,'CMS Downtime Detail'!$D$24:$D$500,$D347,'CMS Downtime Detail'!$E$24:$E$500,\"Quality Assurance/Quality Control Calibrations\"))","v":""},{"$f":"IF($E347=\"\",\"\",SUMIFS('CMS Downtime Detail'!$K$24:$K$500,'CMS Downtime Detail'!$B$24:$B$500,$B347,'CMS Downtime Detail'!$C$24:$C$500,$C347,'CMS Downtime Detail'!$D$24:$D$500,$D347,'CMS Downtime Detail'!$E$24:$E$500,\"Other Known Causes\"))","v":""},{"$f":"IF($E347=\"\",\"\",SUMIFS('CMS Downtime Detail'!$K$24:$K$500,'CMS Downtime Detail'!$B$24:$B$500,$B347,'CMS Downtime Detail'!$C$24:$C$500,$C347,'CMS Downtime Detail'!$D$24:$D$500,$D347,'CMS Downtime Detail'!$E$24:$E$500,\"Other Unknown Causes\"))","v":""}]
[null,{"$f":"IF(Lists!AQ326=\"\",\"\",Lists!AQ326)","v":""},{"$f":"IF(Lists!AR326=\"\",\"\",Lists!AR326)","v":""},{"$f":"IF(Lists!AS326=\"\",\"\",Lists!AS326)","v":""},{"$f":"IF(D348=\"\",\"\",VLOOKUP(B348&C348,Lists!$BA$2:$BD$78,4,FALSE))","v":""},"","",{"$f":"IF($E348=\"\",\"\",SUMIFS('CMS Downtime Detail'!$K$24:$K$500,'CMS Downtime Detail'!$B$24:$B$500,$B348,'CMS Downtime Detail'!$C$24:$C$500,$C348,'CMS Downtime Detail'!$D$24:$D$500,$D348,'CMS Downtime Detail'!$E$24:$E$500,\"Monitoring Equipment Malfunctions\"))","v":""},{"$f":"IF($E348=\"\",\"\",SUMIFS('CMS Downtime Detail'!$K$24:$K$500,'CMS Downtime Detail'!$B$24:$B$500,$B348,'CMS Downtime Detail'!$C$24:$C$500,$C348,'CMS Downtime Detail'!$D$24:$D$500,$D348,'CMS Downtime Detail'!$E$24:$E$500,\"Nonmonitoring Equipment Malfunctions\"))","v":""},{"$f":"IF($E348=\"\",\"\",SUMIFS('CMS Downtime Detail'!$K$24:$K$500,'CMS Downtime Detail'!$B$24:$B$500,$B348,'CMS Downtime Detail'!$C$24:$C$500,$C348,'CMS Downtime Detail'!$D$24:$D$500,$D348,'CMS Downtime Detail'!$E$24:$E$500,\"Quality Assurance/Quality Control Calibrations\"))","v":""},{"$f":"IF($E348=\"\",\"\",SUMIFS('CMS Downtime Detail'!$K$24:$K$500,'CMS Downtime Detail'!$B$24:$B$500,$B348,'CMS Downtime Detail'!$C$24:$C$500,$C348,'CMS Downtime Detail'!$D$24:$D$500,$D348,'CMS Downtime Detail'!$E$24:$E$500,\"Other Known Causes\"))","v":""},{"$f":"IF($E348=\"\",\"\",SUMIFS('CMS Downtime Detail'!$K$24:$K$500,'CMS Downtime Detail'!$B$24:$B$500,$B348,'CMS Downtime Detail'!$C$24:$C$500,$C348,'CMS Downtime Detail'!$D$24:$D$500,$D348,'CMS Downtime Detail'!$E$24:$E$500,\"Other Unknown Causes\"))","v":""}]
[null,{"$f":"IF(Lists!AQ327=\"\",\"\",Lists!AQ327)","v":""},{"$f":"IF(Lists!AR327=\"\",\"\",Lists!AR327)","v":""},{"$f":"IF(Lists!AS327=\"\",\"\",Lists!AS327)","v":""},{"$f":"IF(D349=\"\",\"\",VLOOKUP(B349&C349,Lists!$BA$2:$BD$78,4,FALSE))","v":""},"","",{"$f":"IF($E349=\"\",\"\",SUMIFS('CMS Downtime Detail'!$K$24:$K$500,'CMS Downtime Detail'!$B$24:$B$500,$B349,'CMS Downtime Detail'!$C$24:$C$500,$C349,'CMS Downtime Detail'!$D$24:$D$500,$D349,'CMS Downtime Detail'!$E$24:$E$500,\"Monitoring Equipment Malfunctions\"))","v":""},{"$f":"IF($E349=\"\",\"\",SUMIFS('CMS Downtime Detail'!$K$24:$K$500,'CMS Downtime Detail'!$B$24:$B$500,$B349,'CMS Downtime Detail'!$C$24:$C$500,$C349,'CMS Downtime Detail'!$D$24:$D$500,$D349,'CMS Downtime Detail'!$E$24:$E$500,\"Nonmonitoring Equipment Malfunctions\"))","v":""},{"$f":"IF($E349=\"\",\"\",SUMIFS('CMS Downtime Detail'!$K$24:$K$500,'CMS Downtime Detail'!$B$24:$B$500,$B349,'CMS Downtime Detail'!$C$24:$C$500,$C349,'CMS Downtime Detail'!$D$24:$D$500,$D349,'CMS Downtime Detail'!$E$24:$E$500,\"Quality Assurance/Quality Control Calibrations\"))","v":""},{"$f":"IF($E349=\"\",\"\",SUMIFS('CMS Downtime Detail'!$K$24:$K$500,'CMS Downtime Detail'!$B$24:$B$500,$B349,'CMS Downtime Detail'!$C$24:$C$500,$C349,'CMS Downtime Detail'!$D$24:$D$500,$D349,'CMS Downtime Detail'!$E$24:$E$500,\"Other Known Causes\"))","v":""},{"$f":"IF($E349=\"\",\"\",SUMIFS('CMS Downtime Detail'!$K$24:$K$500,'CMS Downtime Detail'!$B$24:$B$500,$B349,'CMS Downtime Detail'!$C$24:$C$500,$C349,'CMS Downtime Detail'!$D$24:$D$500,$D349,'CMS Downtime Detail'!$E$24:$E$500,\"Other Unknown Causes\"))","v":""}]
[null,{"$f":"IF(Lists!AQ328=\"\",\"\",Lists!AQ328)","v":""},{"$f":"IF(Lists!AR328=\"\",\"\",Lists!AR328)","v":""},{"$f":"IF(Lists!AS328=\"\",\"\",Lists!AS328)","v":""},{"$f":"IF(D350=\"\",\"\",VLOOKUP(B350&C350,Lists!$BA$2:$BD$78,4,FALSE))","v":""},"","",{"$f":"IF($E350=\"\",\"\",SUMIFS('CMS Downtime Detail'!$K$24:$K$500,'CMS Downtime Detail'!$B$24:$B$500,$B350,'CMS Downtime Detail'!$C$24:$C$500,$C350,'CMS Downtime Detail'!$D$24:$D$500,$D350,'CMS Downtime Detail'!$E$24:$E$500,\"Monitoring Equipment Malfunctions\"))","v":""},{"$f":"IF($E350=\"\",\"\",SUMIFS('CMS Downtime Detail'!$K$24:$K$500,'CMS Downtime Detail'!$B$24:$B$500,$B350,'CMS Downtime Detail'!$C$24:$C$500,$C350,'CMS Downtime Detail'!$D$24:$D$500,$D350,'CMS Downtime Detail'!$E$24:$E$500,\"Nonmonitoring Equipment Malfunctions\"))","v":""},{"$f":"IF($E350=\"\",\"\",SUMIFS('CMS Downtime Detail'!$K$24:$K$500,'CMS Downtime Detail'!$B$24:$B$500,$B350,'CMS Downtime Detail'!$C$24:$C$500,$C350,'CMS Downtime Detail'!$D$24:$D$500,$D350,'CMS Downtime Detail'!$E$24:$E$500,\"Quality Assurance/Quality Control Calibrations\"))","v":""},{"$f":"IF($E350=\"\",\"\",SUMIFS('CMS Downtime Detail'!$K$24:$K$500,'CMS Downtime Detail'!$B$24:$B$500,$B350,'CMS Downtime Detail'!$C$24:$C$500,$C350,'CMS Downtime Detail'!$D$24:$D$500,$D350,'CMS Downtime Detail'!$E$24:$E$500,\"Other Known Causes\"))","v":""},{"$f":"IF($E350=\"\",\"\",SUMIFS('CMS Downtime Detail'!$K$24:$K$500,'CMS Downtime Detail'!$B$24:$B$500,$B350,'CMS Downtime Detail'!$C$24:$C$500,$C350,'CMS Downtime Detail'!$D$24:$D$500,$D350,'CMS Downtime Detail'!$E$24:$E$500,\"Other Unknown Causes\"))","v":""}]
[null,{"$f":"IF(Lists!AQ329=\"\",\"\",Lists!AQ329)","v":""},{"$f":"IF(Lists!AR329=\"\",\"\",Lists!AR329)","v":""},{"$f":"IF(Lists!AS329=\"\",\"\",Lists!AS329)","v":""},{"$f":"IF(D351=\"\",\"\",VLOOKUP(B351&C351,Lists!$BA$2:$BD$78,4,FALSE))","v":""},"","",{"$f":"IF($E351=\"\",\"\",SUMIFS('CMS Downtime Detail'!$K$24:$K$500,'CMS Downtime Detail'!$B$24:$B$500,$B351,'CMS Downtime Detail'!$C$24:$C$500,$C351,'CMS Downtime Detail'!$D$24:$D$500,$D351,'CMS Downtime Detail'!$E$24:$E$500,\"Monitoring Equipment Malfunctions\"))","v":""},{"$f":"IF($E351=\"\",\"\",SUMIFS('CMS Downtime Detail'!$K$24:$K$500,'CMS Downtime Detail'!$B$24:$B$500,$B351,'CMS Downtime Detail'!$C$24:$C$500,$C351,'CMS Downtime Detail'!$D$24:$D$500,$D351,'CMS Downtime Detail'!$E$24:$E$500,\"Nonmonitoring Equipment Malfunctions\"))","v":""},{"$f":"IF($E351=\"\",\"\",SUMIFS('CMS Downtime Detail'!$K$24:$K$500,'CMS Downtime Detail'!$B$24:$B$500,$B351,'CMS Downtime Detail'!$C$24:$C$500,$C351,'CMS Downtime Detail'!$D$24:$D$500,$D351,'CMS Downtime Detail'!$E$24:$E$500,\"Quality Assurance/Quality Control Calibrations\"))","v":""},{"$f":"IF($E351=\"\",\"\",SUMIFS('CMS Downtime Detail'!$K$24:$K$500,'CMS Downtime Detail'!$B$24:$B$500,$B351,'CMS Downtime Detail'!$C$24:$C$500,$C351,'CMS Downtime Detail'!$D$24:$D$500,$D351,'CMS Downtime Detail'!$E$24:$E$500,\"Other Known Causes\"))","v":""},{"$f":"IF($E351=\"\",\"\",SUMIFS('CMS Downtime Detail'!$K$24:$K$500,'CMS Downtime Detail'!$B$24:$B$500,$B351,'CMS Downtime Detail'!$C$24:$C$500,$C351,'CMS Downtime Detail'!$D$24:$D$500,$D351,'CMS Downtime Detail'!$E$24:$E$500,\"Other Unknown Causes\"))","v":""}]
[null,{"$f":"IF(Lists!AQ330=\"\",\"\",Lists!AQ330)","v":""},{"$f":"IF(Lists!AR330=\"\",\"\",Lists!AR330)","v":""},{"$f":"IF(Lists!AS330=\"\",\"\",Lists!AS330)","v":""},{"$f":"IF(D352=\"\",\"\",VLOOKUP(B352&C352,Lists!$BA$2:$BD$78,4,FALSE))","v":""},"","",{"$f":"IF($E352=\"\",\"\",SUMIFS('CMS Downtime Detail'!$K$24:$K$500,'CMS Downtime Detail'!$B$24:$B$500,$B352,'CMS Downtime Detail'!$C$24:$C$500,$C352,'CMS Downtime Detail'!$D$24:$D$500,$D352,'CMS Downtime Detail'!$E$24:$E$500,\"Monitoring Equipment Malfunctions\"))","v":""},{"$f":"IF($E352=\"\",\"\",SUMIFS('CMS Downtime Detail'!$K$24:$K$500,'CMS Downtime Detail'!$B$24:$B$500,$B352,'CMS Downtime Detail'!$C$24:$C$500,$C352,'CMS Downtime Detail'!$D$24:$D$500,$D352,'CMS Downtime Detail'!$E$24:$E$500,\"Nonmonitoring Equipment Malfunctions\"))","v":""},{"$f":"IF($E352=\"\",\"\",SUMIFS('CMS Downtime Detail'!$K$24:$K$500,'CMS Downtime Detail'!$B$24:$B$500,$B352,'CMS Downtime Detail'!$C$24:$C$500,$C352,'CMS Downtime Detail'!$D$24:$D$500,$D352,'CMS Downtime Detail'!$E$24:$E$500,\"Quality Assurance/Quality Control Calibrations\"))","v":""},{"$f":"IF($E352=\"\",\"\",SUMIFS('CMS Downtime Detail'!$K$24:$K$500,'CMS Downtime Detail'!$B$24:$B$500,$B352,'CMS Downtime Detail'!$C$24:$C$500,$C352,'CMS Downtime Detail'!$D$24:$D$500,$D352,'CMS Downtime Detail'!$E$24:$E$500,\"Other Known Causes\"))","v":""},{"$f":"IF($E352=\"\",\"\",SUMIFS('CMS Downtime Detail'!$K$24:$K$500,'CMS Downtime Detail'!$B$24:$B$500,$B352,'CMS Downtime Detail'!$C$24:$C$500,$C352,'CMS Downtime Detail'!$D$24:$D$500,$D352,'CMS Downtime Detail'!$E$24:$E$500,\"Other Unknown Causes\"))","v":""}]
[null,{"$f":"IF(Lists!AQ331=\"\",\"\",Lists!AQ331)","v":""},{"$f":"IF(Lists!AR331=\"\",\"\",Lists!AR331)","v":""},{"$f":"IF(Lists!AS331=\"\",\"\",Lists!AS331)","v":""},{"$f":"IF(D353=\"\",\"\",VLOOKUP(B353&C353,Lists!$BA$2:$BD$78,4,FALSE))","v":""},"","",{"$f":"IF($E353=\"\",\"\",SUMIFS('CMS Downtime Detail'!$K$24:$K$500,'CMS Downtime Detail'!$B$24:$B$500,$B353,'CMS Downtime Detail'!$C$24:$C$500,$C353,'CMS Downtime Detail'!$D$24:$D$500,$D353,'CMS Downtime Detail'!$E$24:$E$500,\"Monitoring Equipment Malfunctions\"))","v":""},{"$f":"IF($E353=\"\",\"\",SUMIFS('CMS Downtime Detail'!$K$24:$K$500,'CMS Downtime Detail'!$B$24:$B$500,$B353,'CMS Downtime Detail'!$C$24:$C$500,$C353,'CMS Downtime Detail'!$D$24:$D$500,$D353,'CMS Downtime Detail'!$E$24:$E$500,\"Nonmonitoring Equipment Malfunctions\"))","v":""},{"$f":"IF($E353=\"\",\"\",SUMIFS('CMS Downtime Detail'!$K$24:$K$500,'CMS Downtime Detail'!$B$24:$B$500,$B353,'CMS Downtime Detail'!$C$24:$C$500,$C353,'CMS Downtime Detail'!$D$24:$D$500,$D353,'CMS Downtime Detail'!$E$24:$E$500,\"Quality Assurance/Quality Control Calibrations\"))","v":""},{"$f":"IF($E353=\"\",\"\",SUMIFS('CMS Downtime Detail'!$K$24:$K$500,'CMS Downtime Detail'!$B$24:$B$500,$B353,'CMS Downtime Detail'!$C$24:$C$500,$C353,'CMS Downtime Detail'!$D$24:$D$500,$D353,'CMS Downtime Detail'!$E$24:$E$500,\"Other Known Causes\"))","v":""},{"$f":"IF($E353=\"\",\"\",SUMIFS('CMS Downtime Detail'!$K$24:$K$500,'CMS Downtime Detail'!$B$24:$B$500,$B353,'CMS Downtime Detail'!$C$24:$C$500,$C353,'CMS Downtime Detail'!$D$24:$D$500,$D353,'CMS Downtime Detail'!$E$24:$E$500,\"Other Unknown Causes\"))","v":""}]
[null,{"$f":"IF(Lists!AQ332=\"\",\"\",Lists!AQ332)","v":""},{"$f":"IF(Lists!AR332=\"\",\"\",Lists!AR332)","v":""},{"$f":"IF(Lists!AS332=\"\",\"\",Lists!AS332)","v":""},{"$f":"IF(D354=\"\",\"\",VLOOKUP(B354&C354,Lists!$BA$2:$BD$78,4,FALSE))","v":""},"","",{"$f":"IF($E354=\"\",\"\",SUMIFS('CMS Downtime Detail'!$K$24:$K$500,'CMS Downtime Detail'!$B$24:$B$500,$B354,'CMS Downtime Detail'!$C$24:$C$500,$C354,'CMS Downtime Detail'!$D$24:$D$500,$D354,'CMS Downtime Detail'!$E$24:$E$500,\"Monitoring Equipment Malfunctions\"))","v":""},{"$f":"IF($E354=\"\",\"\",SUMIFS('CMS Downtime Detail'!$K$24:$K$500,'CMS Downtime Detail'!$B$24:$B$500,$B354,'CMS Downtime Detail'!$C$24:$C$500,$C354,'CMS Downtime Detail'!$D$24:$D$500,$D354,'CMS Downtime Detail'!$E$24:$E$500,\"Nonmonitoring Equipment Malfunctions\"))","v":""},{"$f":"IF($E354=\"\",\"\",SUMIFS('CMS Downtime Detail'!$K$24:$K$500,'CMS Downtime Detail'!$B$24:$B$500,$B354,'CMS Downtime Detail'!$C$24:$C$500,$C354,'CMS Downtime Detail'!$D$24:$D$500,$D354,'CMS Downtime Detail'!$E$24:$E$500,\"Quality Assurance/Quality Control Calibrations\"))","v":""},{"$f":"IF($E354=\"\",\"\",SUMIFS('CMS Downtime Detail'!$K$24:$K$500,'CMS Downtime Detail'!$B$24:$B$500,$B354,'CMS Downtime Detail'!$C$24:$C$500,$C354,'CMS Downtime Detail'!$D$24:$D$500,$D354,'CMS Downtime Detail'!$E$24:$E$500,\"Other Known Causes\"))","v":""},{"$f":"IF($E354=\"\",\"\",SUMIFS('CMS Downtime Detail'!$K$24:$K$500,'CMS Downtime Detail'!$B$24:$B$500,$B354,'CMS Downtime Detail'!$C$24:$C$500,$C354,'CMS Downtime Detail'!$D$24:$D$500,$D354,'CMS Downtime Detail'!$E$24:$E$500,\"Other Unknown Causes\"))","v":""}]
[null,{"$f":"IF(Lists!AQ333=\"\",\"\",Lists!AQ333)","v":""},{"$f":"IF(Lists!AR333=\"\",\"\",Lists!AR333)","v":""},{"$f":"IF(Lists!AS333=\"\",\"\",Lists!AS333)","v":""},{"$f":"IF(D355=\"\",\"\",VLOOKUP(B355&C355,Lists!$BA$2:$BD$78,4,FALSE))","v":""},"","",{"$f":"IF($E355=\"\",\"\",SUMIFS('CMS Downtime Detail'!$K$24:$K$500,'CMS Downtime Detail'!$B$24:$B$500,$B355,'CMS Downtime Detail'!$C$24:$C$500,$C355,'CMS Downtime Detail'!$D$24:$D$500,$D355,'CMS Downtime Detail'!$E$24:$E$500,\"Monitoring Equipment Malfunctions\"))","v":""},{"$f":"IF($E355=\"\",\"\",SUMIFS('CMS Downtime Detail'!$K$24:$K$500,'CMS Downtime Detail'!$B$24:$B$500,$B355,'CMS Downtime Detail'!$C$24:$C$500,$C355,'CMS Downtime Detail'!$D$24:$D$500,$D355,'CMS Downtime Detail'!$E$24:$E$500,\"Nonmonitoring Equipment Malfunctions\"))","v":""},{"$f":"IF($E355=\"\",\"\",SUMIFS('CMS Downtime Detail'!$K$24:$K$500,'CMS Downtime Detail'!$B$24:$B$500,$B355,'CMS Downtime Detail'!$C$24:$C$500,$C355,'CMS Downtime Detail'!$D$24:$D$500,$D355,'CMS Downtime Detail'!$E$24:$E$500,\"Quality Assurance/Quality Control Calibrations\"))","v":""},{"$f":"IF($E355=\"\",\"\",SUMIFS('CMS Downtime Detail'!$K$24:$K$500,'CMS Downtime Detail'!$B$24:$B$500,$B355,'CMS Downtime Detail'!$C$24:$C$500,$C355,'CMS Downtime Detail'!$D$24:$D$500,$D355,'CMS Downtime Detail'!$E$24:$E$500,\"Other Known Causes\"))","v":""},{"$f":"IF($E355=\"\",\"\",SUMIFS('CMS Downtime Detail'!$K$24:$K$500,'CMS Downtime Detail'!$B$24:$B$500,$B355,'CMS Downtime Detail'!$C$24:$C$500,$C355,'CMS Downtime Detail'!$D$24:$D$500,$D355,'CMS Downtime Detail'!$E$24:$E$500,\"Other Unknown Causes\"))","v":""}]
[null,{"$f":"IF(Lists!AQ334=\"\",\"\",Lists!AQ334)","v":""},{"$f":"IF(Lists!AR334=\"\",\"\",Lists!AR334)","v":""},{"$f":"IF(Lists!AS334=\"\",\"\",Lists!AS334)","v":""},{"$f":"IF(D356=\"\",\"\",VLOOKUP(B356&C356,Lists!$BA$2:$BD$78,4,FALSE))","v":""},"","",{"$f":"IF($E356=\"\",\"\",SUMIFS('CMS Downtime Detail'!$K$24:$K$500,'CMS Downtime Detail'!$B$24:$B$500,$B356,'CMS Downtime Detail'!$C$24:$C$500,$C356,'CMS Downtime Detail'!$D$24:$D$500,$D356,'CMS Downtime Detail'!$E$24:$E$500,\"Monitoring Equipment Malfunctions\"))","v":""},{"$f":"IF($E356=\"\",\"\",SUMIFS('CMS Downtime Detail'!$K$24:$K$500,'CMS Downtime Detail'!$B$24:$B$500,$B356,'CMS Downtime Detail'!$C$24:$C$500,$C356,'CMS Downtime Detail'!$D$24:$D$500,$D356,'CMS Downtime Detail'!$E$24:$E$500,\"Nonmonitoring Equipment Malfunctions\"))","v":""},{"$f":"IF($E356=\"\",\"\",SUMIFS('CMS Downtime Detail'!$K$24:$K$500,'CMS Downtime Detail'!$B$24:$B$500,$B356,'CMS Downtime Detail'!$C$24:$C$500,$C356,'CMS Downtime Detail'!$D$24:$D$500,$D356,'CMS Downtime Detail'!$E$24:$E$500,\"Quality Assurance/Quality Control Calibrations\"))","v":""},{"$f":"IF($E356=\"\",\"\",SUMIFS('CMS Downtime Detail'!$K$24:$K$500,'CMS Downtime Detail'!$B$24:$B$500,$B356,'CMS Downtime Detail'!$C$24:$C$500,$C356,'CMS Downtime Detail'!$D$24:$D$500,$D356,'CMS Downtime Detail'!$E$24:$E$500,\"Other Known Causes\"))","v":""},{"$f":"IF($E356=\"\",\"\",SUMIFS('CMS Downtime Detail'!$K$24:$K$500,'CMS Downtime Detail'!$B$24:$B$500,$B356,'CMS Downtime Detail'!$C$24:$C$500,$C356,'CMS Downtime Detail'!$D$24:$D$500,$D356,'CMS Downtime Detail'!$E$24:$E$500,\"Other Unknown Causes\"))","v":""}]
[null,{"$f":"IF(Lists!AQ335=\"\",\"\",Lists!AQ335)","v":""},{"$f":"IF(Lists!AR335=\"\",\"\",Lists!AR335)","v":""},{"$f":"IF(Lists!AS335=\"\",\"\",Lists!AS335)","v":""},{"$f":"IF(D357=\"\",\"\",VLOOKUP(B357&C357,Lists!$BA$2:$BD$78,4,FALSE))","v":""},"","",{"$f":"IF($E357=\"\",\"\",SUMIFS('CMS Downtime Detail'!$K$24:$K$500,'CMS Downtime Detail'!$B$24:$B$500,$B357,'CMS Downtime Detail'!$C$24:$C$500,$C357,'CMS Downtime Detail'!$D$24:$D$500,$D357,'CMS Downtime Detail'!$E$24:$E$500,\"Monitoring Equipment Malfunctions\"))","v":""},{"$f":"IF($E357=\"\",\"\",SUMIFS('CMS Downtime Detail'!$K$24:$K$500,'CMS Downtime Detail'!$B$24:$B$500,$B357,'CMS Downtime Detail'!$C$24:$C$500,$C357,'CMS Downtime Detail'!$D$24:$D$500,$D357,'CMS Downtime Detail'!$E$24:$E$500,\"Nonmonitoring Equipment Malfunctions\"))","v":""},{"$f":"IF($E357=\"\",\"\",SUMIFS('CMS Downtime Detail'!$K$24:$K$500,'CMS Downtime Detail'!$B$24:$B$500,$B357,'CMS Downtime Detail'!$C$24:$C$500,$C357,'CMS Downtime Detail'!$D$24:$D$500,$D357,'CMS Downtime Detail'!$E$24:$E$500,\"Quality Assurance/Quality Control Calibrations\"))","v":""},{"$f":"IF($E357=\"\",\"\",SUMIFS('CMS Downtime Detail'!$K$24:$K$500,'CMS Downtime Detail'!$B$24:$B$500,$B357,'CMS Downtime Detail'!$C$24:$C$500,$C357,'CMS Downtime Detail'!$D$24:$D$500,$D357,'CMS Downtime Detail'!$E$24:$E$500,\"Other Known Causes\"))","v":""},{"$f":"IF($E357=\"\",\"\",SUMIFS('CMS Downtime Detail'!$K$24:$K$500,'CMS Downtime Detail'!$B$24:$B$500,$B357,'CMS Downtime Detail'!$C$24:$C$500,$C357,'CMS Downtime Detail'!$D$24:$D$500,$D357,'CMS Downtime Detail'!$E$24:$E$500,\"Other Unknown Causes\"))","v":""}]
[null,{"$f":"IF(Lists!AQ336=\"\",\"\",Lists!AQ336)","v":""},{"$f":"IF(Lists!AR336=\"\",\"\",Lists!AR336)","v":""},{"$f":"IF(Lists!AS336=\"\",\"\",Lists!AS336)","v":""},{"$f":"IF(D358=\"\",\"\",VLOOKUP(B358&C358,Lists!$BA$2:$BD$78,4,FALSE))","v":""},"","",{"$f":"IF($E358=\"\",\"\",SUMIFS('CMS Downtime Detail'!$K$24:$K$500,'CMS Downtime Detail'!$B$24:$B$500,$B358,'CMS Downtime Detail'!$C$24:$C$500,$C358,'CMS Downtime Detail'!$D$24:$D$500,$D358,'CMS Downtime Detail'!$E$24:$E$500,\"Monitoring Equipment Malfunctions\"))","v":""},{"$f":"IF($E358=\"\",\"\",SUMIFS('CMS Downtime Detail'!$K$24:$K$500,'CMS Downtime Detail'!$B$24:$B$500,$B358,'CMS Downtime Detail'!$C$24:$C$500,$C358,'CMS Downtime Detail'!$D$24:$D$500,$D358,'CMS Downtime Detail'!$E$24:$E$500,\"Nonmonitoring Equipment Malfunctions\"))","v":""},{"$f":"IF($E358=\"\",\"\",SUMIFS('CMS Downtime Detail'!$K$24:$K$500,'CMS Downtime Detail'!$B$24:$B$500,$B358,'CMS Downtime Detail'!$C$24:$C$500,$C358,'CMS Downtime Detail'!$D$24:$D$500,$D358,'CMS Downtime Detail'!$E$24:$E$500,\"Quality Assurance/Quality Control Calibrations\"))","v":""},{"$f":"IF($E358=\"\",\"\",SUMIFS('CMS Downtime Detail'!$K$24:$K$500,'CMS Downtime Detail'!$B$24:$B$500,$B358,'CMS Downtime Detail'!$C$24:$C$500,$C358,'CMS Downtime Detail'!$D$24:$D$500,$D358,'CMS Downtime Detail'!$E$24:$E$500,\"Other Known Causes\"))","v":""},{"$f":"IF($E358=\"\",\"\",SUMIFS('CMS Downtime Detail'!$K$24:$K$500,'CMS Downtime Detail'!$B$24:$B$500,$B358,'CMS Downtime Detail'!$C$24:$C$500,$C358,'CMS Downtime Detail'!$D$24:$D$500,$D358,'CMS Downtime Detail'!$E$24:$E$500,\"Other Unknown Causes\"))","v":""}]
[null,{"$f":"IF(Lists!AQ337=\"\",\"\",Lists!AQ337)","v":""},{"$f":"IF(Lists!AR337=\"\",\"\",Lists!AR337)","v":""},{"$f":"IF(Lists!AS337=\"\",\"\",Lists!AS337)","v":""},{"$f":"IF(D359=\"\",\"\",VLOOKUP(B359&C359,Lists!$BA$2:$BD$78,4,FALSE))","v":""},"","",{"$f":"IF($E359=\"\",\"\",SUMIFS('CMS Downtime Detail'!$K$24:$K$500,'CMS Downtime Detail'!$B$24:$B$500,$B359,'CMS Downtime Detail'!$C$24:$C$500,$C359,'CMS Downtime Detail'!$D$24:$D$500,$D359,'CMS Downtime Detail'!$E$24:$E$500,\"Monitoring Equipment Malfunctions\"))","v":""},{"$f":"IF($E359=\"\",\"\",SUMIFS('CMS Downtime Detail'!$K$24:$K$500,'CMS Downtime Detail'!$B$24:$B$500,$B359,'CMS Downtime Detail'!$C$24:$C$500,$C359,'CMS Downtime Detail'!$D$24:$D$500,$D359,'CMS Downtime Detail'!$E$24:$E$500,\"Nonmonitoring Equipment Malfunctions\"))","v":""},{"$f":"IF($E359=\"\",\"\",SUMIFS('CMS Downtime Detail'!$K$24:$K$500,'CMS Downtime Detail'!$B$24:$B$500,$B359,'CMS Downtime Detail'!$C$24:$C$500,$C359,'CMS Downtime Detail'!$D$24:$D$500,$D359,'CMS Downtime Detail'!$E$24:$E$500,\"Quality Assurance/Quality Control Calibrations\"))","v":""},{"$f":"IF($E359=\"\",\"\",SUMIFS('CMS Downtime Detail'!$K$24:$K$500,'CMS Downtime Detail'!$B$24:$B$500,$B359,'CMS Downtime Detail'!$C$24:$C$500,$C359,'CMS Downtime Detail'!$D$24:$D$500,$D359,'CMS Downtime Detail'!$E$24:$E$500,\"Other Known Causes\"))","v":""},{"$f":"IF($E359=\"\",\"\",SUMIFS('CMS Downtime Detail'!$K$24:$K$500,'CMS Downtime Detail'!$B$24:$B$500,$B359,'CMS Downtime Detail'!$C$24:$C$500,$C359,'CMS Downtime Detail'!$D$24:$D$500,$D359,'CMS Downtime Detail'!$E$24:$E$500,\"Other Unknown Causes\"))","v":""}]
[null,{"$f":"IF(Lists!AQ338=\"\",\"\",Lists!AQ338)","v":""},{"$f":"IF(Lists!AR338=\"\",\"\",Lists!AR338)","v":""},{"$f":"IF(Lists!AS338=\"\",\"\",Lists!AS338)","v":""},{"$f":"IF(D360=\"\",\"\",VLOOKUP(B360&C360,Lists!$BA$2:$BD$78,4,FALSE))","v":""},"","",{"$f":"IF($E360=\"\",\"\",SUMIFS('CMS Downtime Detail'!$K$24:$K$500,'CMS Downtime Detail'!$B$24:$B$500,$B360,'CMS Downtime Detail'!$C$24:$C$500,$C360,'CMS Downtime Detail'!$D$24:$D$500,$D360,'CMS Downtime Detail'!$E$24:$E$500,\"Monitoring Equipment Malfunctions\"))","v":""},{"$f":"IF($E360=\"\",\"\",SUMIFS('CMS Downtime Detail'!$K$24:$K$500,'CMS Downtime Detail'!$B$24:$B$500,$B360,'CMS Downtime Detail'!$C$24:$C$500,$C360,'CMS Downtime Detail'!$D$24:$D$500,$D360,'CMS Downtime Detail'!$E$24:$E$500,\"Nonmonitoring Equipment Malfunctions\"))","v":""},{"$f":"IF($E360=\"\",\"\",SUMIFS('CMS Downtime Detail'!$K$24:$K$500,'CMS Downtime Detail'!$B$24:$B$500,$B360,'CMS Downtime Detail'!$C$24:$C$500,$C360,'CMS Downtime Detail'!$D$24:$D$500,$D360,'CMS Downtime Detail'!$E$24:$E$500,\"Quality Assurance/Quality Control Calibrations\"))","v":""},{"$f":"IF($E360=\"\",\"\",SUMIFS('CMS Downtime Detail'!$K$24:$K$500,'CMS Downtime Detail'!$B$24:$B$500,$B360,'CMS Downtime Detail'!$C$24:$C$500,$C360,'CMS Downtime Detail'!$D$24:$D$500,$D360,'CMS Downtime Detail'!$E$24:$E$500,\"Other Known Causes\"))","v":""},{"$f":"IF($E360=\"\",\"\",SUMIFS('CMS Downtime Detail'!$K$24:$K$500,'CMS Downtime Detail'!$B$24:$B$500,$B360,'CMS Downtime Detail'!$C$24:$C$500,$C360,'CMS Downtime Detail'!$D$24:$D$500,$D360,'CMS Downtime Detail'!$E$24:$E$500,\"Other Unknown Causes\"))","v":""}]
[null,{"$f":"IF(Lists!AQ339=\"\",\"\",Lists!AQ339)","v":""},{"$f":"IF(Lists!AR339=\"\",\"\",Lists!AR339)","v":""},{"$f":"IF(Lists!AS339=\"\",\"\",Lists!AS339)","v":""},{"$f":"IF(D361=\"\",\"\",VLOOKUP(B361&C361,Lists!$BA$2:$BD$78,4,FALSE))","v":""},"","",{"$f":"IF($E361=\"\",\"\",SUMIFS('CMS Downtime Detail'!$K$24:$K$500,'CMS Downtime Detail'!$B$24:$B$500,$B361,'CMS Downtime Detail'!$C$24:$C$500,$C361,'CMS Downtime Detail'!$D$24:$D$500,$D361,'CMS Downtime Detail'!$E$24:$E$500,\"Monitoring Equipment Malfunctions\"))","v":""},{"$f":"IF($E361=\"\",\"\",SUMIFS('CMS Downtime Detail'!$K$24:$K$500,'CMS Downtime Detail'!$B$24:$B$500,$B361,'CMS Downtime Detail'!$C$24:$C$500,$C361,'CMS Downtime Detail'!$D$24:$D$500,$D361,'CMS Downtime Detail'!$E$24:$E$500,\"Nonmonitoring Equipment Malfunctions\"))","v":""},{"$f":"IF($E361=\"\",\"\",SUMIFS('CMS Downtime Detail'!$K$24:$K$500,'CMS Downtime Detail'!$B$24:$B$500,$B361,'CMS Downtime Detail'!$C$24:$C$500,$C361,'CMS Downtime Detail'!$D$24:$D$500,$D361,'CMS Downtime Detail'!$E$24:$E$500,\"Quality Assurance/Quality Control Calibrations\"))","v":""},{"$f":"IF($E361=\"\",\"\",SUMIFS('CMS Downtime Detail'!$K$24:$K$500,'CMS Downtime Detail'!$B$24:$B$500,$B361,'CMS Downtime Detail'!$C$24:$C$500,$C361,'CMS Downtime Detail'!$D$24:$D$500,$D361,'CMS Downtime Detail'!$E$24:$E$500,\"Other Known Causes\"))","v":""},{"$f":"IF($E361=\"\",\"\",SUMIFS('CMS Downtime Detail'!$K$24:$K$500,'CMS Downtime Detail'!$B$24:$B$500,$B361,'CMS Downtime Detail'!$C$24:$C$500,$C361,'CMS Downtime Detail'!$D$24:$D$500,$D361,'CMS Downtime Detail'!$E$24:$E$500,\"Other Unknown Causes\"))","v":""}]
[null,{"$f":"IF(Lists!AQ340=\"\",\"\",Lists!AQ340)","v":""},{"$f":"IF(Lists!AR340=\"\",\"\",Lists!AR340)","v":""},{"$f":"IF(Lists!AS340=\"\",\"\",Lists!AS340)","v":""},{"$f":"IF(D362=\"\",\"\",VLOOKUP(B362&C362,Lists!$BA$2:$BD$78,4,FALSE))","v":""},"","",{"$f":"IF($E362=\"\",\"\",SUMIFS('CMS Downtime Detail'!$K$24:$K$500,'CMS Downtime Detail'!$B$24:$B$500,$B362,'CMS Downtime Detail'!$C$24:$C$500,$C362,'CMS Downtime Detail'!$D$24:$D$500,$D362,'CMS Downtime Detail'!$E$24:$E$500,\"Monitoring Equipment Malfunctions\"))","v":""},{"$f":"IF($E362=\"\",\"\",SUMIFS('CMS Downtime Detail'!$K$24:$K$500,'CMS Downtime Detail'!$B$24:$B$500,$B362,'CMS Downtime Detail'!$C$24:$C$500,$C362,'CMS Downtime Detail'!$D$24:$D$500,$D362,'CMS Downtime Detail'!$E$24:$E$500,\"Nonmonitoring Equipment Malfunctions\"))","v":""},{"$f":"IF($E362=\"\",\"\",SUMIFS('CMS Downtime Detail'!$K$24:$K$500,'CMS Downtime Detail'!$B$24:$B$500,$B362,'CMS Downtime Detail'!$C$24:$C$500,$C362,'CMS Downtime Detail'!$D$24:$D$500,$D362,'CMS Downtime Detail'!$E$24:$E$500,\"Quality Assurance/Quality Control Calibrations\"))","v":""},{"$f":"IF($E362=\"\",\"\",SUMIFS('CMS Downtime Detail'!$K$24:$K$500,'CMS Downtime Detail'!$B$24:$B$500,$B362,'CMS Downtime Detail'!$C$24:$C$500,$C362,'CMS Downtime Detail'!$D$24:$D$500,$D362,'CMS Downtime Detail'!$E$24:$E$500,\"Other Known Causes\"))","v":""},{"$f":"IF($E362=\"\",\"\",SUMIFS('CMS Downtime Detail'!$K$24:$K$500,'CMS Downtime Detail'!$B$24:$B$500,$B362,'CMS Downtime Detail'!$C$24:$C$500,$C362,'CMS Downtime Detail'!$D$24:$D$500,$D362,'CMS Downtime Detail'!$E$24:$E$500,\"Other Unknown Causes\"))","v":""}]
[null,{"$f":"IF(Lists!AQ341=\"\",\"\",Lists!AQ341)","v":""},{"$f":"IF(Lists!AR341=\"\",\"\",Lists!AR341)","v":""},{"$f":"IF(Lists!AS341=\"\",\"\",Lists!AS341)","v":""},{"$f":"IF(D363=\"\",\"\",VLOOKUP(B363&C363,Lists!$BA$2:$BD$78,4,FALSE))","v":""},"","",{"$f":"IF($E363=\"\",\"\",SUMIFS('CMS Downtime Detail'!$K$24:$K$500,'CMS Downtime Detail'!$B$24:$B$500,$B363,'CMS Downtime Detail'!$C$24:$C$500,$C363,'CMS Downtime Detail'!$D$24:$D$500,$D363,'CMS Downtime Detail'!$E$24:$E$500,\"Monitoring Equipment Malfunctions\"))","v":""},{"$f":"IF($E363=\"\",\"\",SUMIFS('CMS Downtime Detail'!$K$24:$K$500,'CMS Downtime Detail'!$B$24:$B$500,$B363,'CMS Downtime Detail'!$C$24:$C$500,$C363,'CMS Downtime Detail'!$D$24:$D$500,$D363,'CMS Downtime Detail'!$E$24:$E$500,\"Nonmonitoring Equipment Malfunctions\"))","v":""},{"$f":"IF($E363=\"\",\"\",SUMIFS('CMS Downtime Detail'!$K$24:$K$500,'CMS Downtime Detail'!$B$24:$B$500,$B363,'CMS Downtime Detail'!$C$24:$C$500,$C363,'CMS Downtime Detail'!$D$24:$D$500,$D363,'CMS Downtime Detail'!$E$24:$E$500,\"Quality Assurance/Quality Control Calibrations\"))","v":""},{"$f":"IF($E363=\"\",\"\",SUMIFS('CMS Downtime Detail'!$K$24:$K$500,'CMS Downtime Detail'!$B$24:$B$500,$B363,'CMS Downtime Detail'!$C$24:$C$500,$C363,'CMS Downtime Detail'!$D$24:$D$500,$D363,'CMS Downtime Detail'!$E$24:$E$500,\"Other Known Causes\"))","v":""},{"$f":"IF($E363=\"\",\"\",SUMIFS('CMS Downtime Detail'!$K$24:$K$500,'CMS Downtime Detail'!$B$24:$B$500,$B363,'CMS Downtime Detail'!$C$24:$C$500,$C363,'CMS Downtime Detail'!$D$24:$D$500,$D363,'CMS Downtime Detail'!$E$24:$E$500,\"Other Unknown Causes\"))","v":""}]
[null,{"$f":"IF(Lists!AQ342=\"\",\"\",Lists!AQ342)","v":""},{"$f":"IF(Lists!AR342=\"\",\"\",Lists!AR342)","v":""},{"$f":"IF(Lists!AS342=\"\",\"\",Lists!AS342)","v":""},{"$f":"IF(D364=\"\",\"\",VLOOKUP(B364&C364,Lists!$BA$2:$BD$78,4,FALSE))","v":""},"","",{"$f":"IF($E364=\"\",\"\",SUMIFS('CMS Downtime Detail'!$K$24:$K$500,'CMS Downtime Detail'!$B$24:$B$500,$B364,'CMS Downtime Detail'!$C$24:$C$500,$C364,'CMS Downtime Detail'!$D$24:$D$500,$D364,'CMS Downtime Detail'!$E$24:$E$500,\"Monitoring Equipment Malfunctions\"))","v":""},{"$f":"IF($E364=\"\",\"\",SUMIFS('CMS Downtime Detail'!$K$24:$K$500,'CMS Downtime Detail'!$B$24:$B$500,$B364,'CMS Downtime Detail'!$C$24:$C$500,$C364,'CMS Downtime Detail'!$D$24:$D$500,$D364,'CMS Downtime Detail'!$E$24:$E$500,\"Nonmonitoring Equipment Malfunctions\"))","v":""},{"$f":"IF($E364=\"\",\"\",SUMIFS('CMS Downtime Detail'!$K$24:$K$500,'CMS Downtime Detail'!$B$24:$B$500,$B364,'CMS Downtime Detail'!$C$24:$C$500,$C364,'CMS Downtime Detail'!$D$24:$D$500,$D364,'CMS Downtime Detail'!$E$24:$E$500,\"Quality Assurance/Quality Control Calibrations\"))","v":""},{"$f":"IF($E364=\"\",\"\",SUMIFS('CMS Downtime Detail'!$K$24:$K$500,'CMS Downtime Detail'!$B$24:$B$500,$B364,'CMS Downtime Detail'!$C$24:$C$500,$C364,'CMS Downtime Detail'!$D$24:$D$500,$D364,'CMS Downtime Detail'!$E$24:$E$500,\"Other Known Causes\"))","v":""},{"$f":"IF($E364=\"\",\"\",SUMIFS('CMS Downtime Detail'!$K$24:$K$500,'CMS Downtime Detail'!$B$24:$B$500,$B364,'CMS Downtime Detail'!$C$24:$C$500,$C364,'CMS Downtime Detail'!$D$24:$D$500,$D364,'CMS Downtime Detail'!$E$24:$E$500,\"Other Unknown Causes\"))","v":""}]
[null,{"$f":"IF(Lists!AQ343=\"\",\"\",Lists!AQ343)","v":""},{"$f":"IF(Lists!AR343=\"\",\"\",Lists!AR343)","v":""},{"$f":"IF(Lists!AS343=\"\",\"\",Lists!AS343)","v":""},{"$f":"IF(D365=\"\",\"\",VLOOKUP(B365&C365,Lists!$BA$2:$BD$78,4,FALSE))","v":""},"","",{"$f":"IF($E365=\"\",\"\",SUMIFS('CMS Downtime Detail'!$K$24:$K$500,'CMS Downtime Detail'!$B$24:$B$500,$B365,'CMS Downtime Detail'!$C$24:$C$500,$C365,'CMS Downtime Detail'!$D$24:$D$500,$D365,'CMS Downtime Detail'!$E$24:$E$500,\"Monitoring Equipment Malfunctions\"))","v":""},{"$f":"IF($E365=\"\",\"\",SUMIFS('CMS Downtime Detail'!$K$24:$K$500,'CMS Downtime Detail'!$B$24:$B$500,$B365,'CMS Downtime Detail'!$C$24:$C$500,$C365,'CMS Downtime Detail'!$D$24:$D$500,$D365,'CMS Downtime Detail'!$E$24:$E$500,\"Nonmonitoring Equipment Malfunctions\"))","v":""},{"$f":"IF($E365=\"\",\"\",SUMIFS('CMS Downtime Detail'!$K$24:$K$500,'CMS Downtime Detail'!$B$24:$B$500,$B365,'CMS Downtime Detail'!$C$24:$C$500,$C365,'CMS Downtime Detail'!$D$24:$D$500,$D365,'CMS Downtime Detail'!$E$24:$E$500,\"Quality Assurance/Quality Control Calibrations\"))","v":""},{"$f":"IF($E365=\"\",\"\",SUMIFS('CMS Downtime Detail'!$K$24:$K$500,'CMS Downtime Detail'!$B$24:$B$500,$B365,'CMS Downtime Detail'!$C$24:$C$500,$C365,'CMS Downtime Detail'!$D$24:$D$500,$D365,'CMS Downtime Detail'!$E$24:$E$500,\"Other Known Causes\"))","v":""},{"$f":"IF($E365=\"\",\"\",SUMIFS('CMS Downtime Detail'!$K$24:$K$500,'CMS Downtime Detail'!$B$24:$B$500,$B365,'CMS Downtime Detail'!$C$24:$C$500,$C365,'CMS Downtime Detail'!$D$24:$D$500,$D365,'CMS Downtime Detail'!$E$24:$E$500,\"Other Unknown Causes\"))","v":""}]
[null,{"$f":"IF(Lists!AQ344=\"\",\"\",Lists!AQ344)","v":""},{"$f":"IF(Lists!AR344=\"\",\"\",Lists!AR344)","v":""},{"$f":"IF(Lists!AS344=\"\",\"\",Lists!AS344)","v":""},{"$f":"IF(D366=\"\",\"\",VLOOKUP(B366&C366,Lists!$BA$2:$BD$78,4,FALSE))","v":""},"","",{"$f":"IF($E366=\"\",\"\",SUMIFS('CMS Downtime Detail'!$K$24:$K$500,'CMS Downtime Detail'!$B$24:$B$500,$B366,'CMS Downtime Detail'!$C$24:$C$500,$C366,'CMS Downtime Detail'!$D$24:$D$500,$D366,'CMS Downtime Detail'!$E$24:$E$500,\"Monitoring Equipment Malfunctions\"))","v":""},{"$f":"IF($E366=\"\",\"\",SUMIFS('CMS Downtime Detail'!$K$24:$K$500,'CMS Downtime Detail'!$B$24:$B$500,$B366,'CMS Downtime Detail'!$C$24:$C$500,$C366,'CMS Downtime Detail'!$D$24:$D$500,$D366,'CMS Downtime Detail'!$E$24:$E$500,\"Nonmonitoring Equipment Malfunctions\"))","v":""},{"$f":"IF($E366=\"\",\"\",SUMIFS('CMS Downtime Detail'!$K$24:$K$500,'CMS Downtime Detail'!$B$24:$B$500,$B366,'CMS Downtime Detail'!$C$24:$C$500,$C366,'CMS Downtime Detail'!$D$24:$D$500,$D366,'CMS Downtime Detail'!$E$24:$E$500,\"Quality Assurance/Quality Control Calibrations\"))","v":""},{"$f":"IF($E366=\"\",\"\",SUMIFS('CMS Downtime Detail'!$K$24:$K$500,'CMS Downtime Detail'!$B$24:$B$500,$B366,'CMS Downtime Detail'!$C$24:$C$500,$C366,'CMS Downtime Detail'!$D$24:$D$500,$D366,'CMS Downtime Detail'!$E$24:$E$500,\"Other Known Causes\"))","v":""},{"$f":"IF($E366=\"\",\"\",SUMIFS('CMS Downtime Detail'!$K$24:$K$500,'CMS Downtime Detail'!$B$24:$B$500,$B366,'CMS Downtime Detail'!$C$24:$C$500,$C366,'CMS Downtime Detail'!$D$24:$D$500,$D366,'CMS Downtime Detail'!$E$24:$E$500,\"Other Unknown Causes\"))","v":""}]
[null,{"$f":"IF(Lists!AQ345=\"\",\"\",Lists!AQ345)","v":""},{"$f":"IF(Lists!AR345=\"\",\"\",Lists!AR345)","v":""},{"$f":"IF(Lists!AS345=\"\",\"\",Lists!AS345)","v":""},{"$f":"IF(D367=\"\",\"\",VLOOKUP(B367&C367,Lists!$BA$2:$BD$78,4,FALSE))","v":""},"","",{"$f":"IF($E367=\"\",\"\",SUMIFS('CMS Downtime Detail'!$K$24:$K$500,'CMS Downtime Detail'!$B$24:$B$500,$B367,'CMS Downtime Detail'!$C$24:$C$500,$C367,'CMS Downtime Detail'!$D$24:$D$500,$D367,'CMS Downtime Detail'!$E$24:$E$500,\"Monitoring Equipment Malfunctions\"))","v":""},{"$f":"IF($E367=\"\",\"\",SUMIFS('CMS Downtime Detail'!$K$24:$K$500,'CMS Downtime Detail'!$B$24:$B$500,$B367,'CMS Downtime Detail'!$C$24:$C$500,$C367,'CMS Downtime Detail'!$D$24:$D$500,$D367,'CMS Downtime Detail'!$E$24:$E$500,\"Nonmonitoring Equipment Malfunctions\"))","v":""},{"$f":"IF($E367=\"\",\"\",SUMIFS('CMS Downtime Detail'!$K$24:$K$500,'CMS Downtime Detail'!$B$24:$B$500,$B367,'CMS Downtime Detail'!$C$24:$C$500,$C367,'CMS Downtime Detail'!$D$24:$D$500,$D367,'CMS Downtime Detail'!$E$24:$E$500,\"Quality Assurance/Quality Control Calibrations\"))","v":""},{"$f":"IF($E367=\"\",\"\",SUMIFS('CMS Downtime Detail'!$K$24:$K$500,'CMS Downtime Detail'!$B$24:$B$500,$B367,'CMS Downtime Detail'!$C$24:$C$500,$C367,'CMS Downtime Detail'!$D$24:$D$500,$D367,'CMS Downtime Detail'!$E$24:$E$500,\"Other Known Causes\"))","v":""},{"$f":"IF($E367=\"\",\"\",SUMIFS('CMS Downtime Detail'!$K$24:$K$500,'CMS Downtime Detail'!$B$24:$B$500,$B367,'CMS Downtime Detail'!$C$24:$C$500,$C367,'CMS Downtime Detail'!$D$24:$D$500,$D367,'CMS Downtime Detail'!$E$24:$E$500,\"Other Unknown Causes\"))","v":""}]
[null,{"$f":"IF(Lists!AQ346=\"\",\"\",Lists!AQ346)","v":""},{"$f":"IF(Lists!AR346=\"\",\"\",Lists!AR346)","v":""},{"$f":"IF(Lists!AS346=\"\",\"\",Lists!AS346)","v":""},{"$f":"IF(D368=\"\",\"\",VLOOKUP(B368&C368,Lists!$BA$2:$BD$78,4,FALSE))","v":""},"","",{"$f":"IF($E368=\"\",\"\",SUMIFS('CMS Downtime Detail'!$K$24:$K$500,'CMS Downtime Detail'!$B$24:$B$500,$B368,'CMS Downtime Detail'!$C$24:$C$500,$C368,'CMS Downtime Detail'!$D$24:$D$500,$D368,'CMS Downtime Detail'!$E$24:$E$500,\"Monitoring Equipment Malfunctions\"))","v":""},{"$f":"IF($E368=\"\",\"\",SUMIFS('CMS Downtime Detail'!$K$24:$K$500,'CMS Downtime Detail'!$B$24:$B$500,$B368,'CMS Downtime Detail'!$C$24:$C$500,$C368,'CMS Downtime Detail'!$D$24:$D$500,$D368,'CMS Downtime Detail'!$E$24:$E$500,\"Nonmonitoring Equipment Malfunctions\"))","v":""},{"$f":"IF($E368=\"\",\"\",SUMIFS('CMS Downtime Detail'!$K$24:$K$500,'CMS Downtime Detail'!$B$24:$B$500,$B368,'CMS Downtime Detail'!$C$24:$C$500,$C368,'CMS Downtime Detail'!$D$24:$D$500,$D368,'CMS Downtime Detail'!$E$24:$E$500,\"Quality Assurance/Quality Control Calibrations\"))","v":""},{"$f":"IF($E368=\"\",\"\",SUMIFS('CMS Downtime Detail'!$K$24:$K$500,'CMS Downtime Detail'!$B$24:$B$500,$B368,'CMS Downtime Detail'!$C$24:$C$500,$C368,'CMS Downtime Detail'!$D$24:$D$500,$D368,'CMS Downtime Detail'!$E$24:$E$500,\"Other Known Causes\"))","v":""},{"$f":"IF($E368=\"\",\"\",SUMIFS('CMS Downtime Detail'!$K$24:$K$500,'CMS Downtime Detail'!$B$24:$B$500,$B368,'CMS Downtime Detail'!$C$24:$C$500,$C368,'CMS Downtime Detail'!$D$24:$D$500,$D368,'CMS Downtime Detail'!$E$24:$E$500,\"Other Unknown Causes\"))","v":""}]
[null,{"$f":"IF(Lists!AQ347=\"\",\"\",Lists!AQ347)","v":""},{"$f":"IF(Lists!AR347=\"\",\"\",Lists!AR347)","v":""},{"$f":"IF(Lists!AS347=\"\",\"\",Lists!AS347)","v":""},{"$f":"IF(D369=\"\",\"\",VLOOKUP(B369&C369,Lists!$BA$2:$BD$78,4,FALSE))","v":""},"","",{"$f":"IF($E369=\"\",\"\",SUMIFS('CMS Downtime Detail'!$K$24:$K$500,'CMS Downtime Detail'!$B$24:$B$500,$B369,'CMS Downtime Detail'!$C$24:$C$500,$C369,'CMS Downtime Detail'!$D$24:$D$500,$D369,'CMS Downtime Detail'!$E$24:$E$500,\"Monitoring Equipment Malfunctions\"))","v":""},{"$f":"IF($E369=\"\",\"\",SUMIFS('CMS Downtime Detail'!$K$24:$K$500,'CMS Downtime Detail'!$B$24:$B$500,$B369,'CMS Downtime Detail'!$C$24:$C$500,$C369,'CMS Downtime Detail'!$D$24:$D$500,$D369,'CMS Downtime Detail'!$E$24:$E$500,\"Nonmonitoring Equipment Malfunctions\"))","v":""},{"$f":"IF($E369=\"\",\"\",SUMIFS('CMS Downtime Detail'!$K$24:$K$500,'CMS Downtime Detail'!$B$24:$B$500,$B369,'CMS Downtime Detail'!$C$24:$C$500,$C369,'CMS Downtime Detail'!$D$24:$D$500,$D369,'CMS Downtime Detail'!$E$24:$E$500,\"Quality Assurance/Quality Control Calibrations\"))","v":""},{"$f":"IF($E369=\"\",\"\",SUMIFS('CMS Downtime Detail'!$K$24:$K$500,'CMS Downtime Detail'!$B$24:$B$500,$B369,'CMS Downtime Detail'!$C$24:$C$500,$C369,'CMS Downtime Detail'!$D$24:$D$500,$D369,'CMS Downtime Detail'!$E$24:$E$500,\"Other Known Causes\"))","v":""},{"$f":"IF($E369=\"\",\"\",SUMIFS('CMS Downtime Detail'!$K$24:$K$500,'CMS Downtime Detail'!$B$24:$B$500,$B369,'CMS Downtime Detail'!$C$24:$C$500,$C369,'CMS Downtime Detail'!$D$24:$D$500,$D369,'CMS Downtime Detail'!$E$24:$E$500,\"Other Unknown Causes\"))","v":""}]
[null,{"$f":"IF(Lists!AQ348=\"\",\"\",Lists!AQ348)","v":""},{"$f":"IF(Lists!AR348=\"\",\"\",Lists!AR348)","v":""},{"$f":"IF(Lists!AS348=\"\",\"\",Lists!AS348)","v":""},{"$f":"IF(D370=\"\",\"\",VLOOKUP(B370&C370,Lists!$BA$2:$BD$78,4,FALSE))","v":""},"","",{"$f":"IF($E370=\"\",\"\",SUMIFS('CMS Downtime Detail'!$K$24:$K$500,'CMS Downtime Detail'!$B$24:$B$500,$B370,'CMS Downtime Detail'!$C$24:$C$500,$C370,'CMS Downtime Detail'!$D$24:$D$500,$D370,'CMS Downtime Detail'!$E$24:$E$500,\"Monitoring Equipment Malfunctions\"))","v":""},{"$f":"IF($E370=\"\",\"\",SUMIFS('CMS Downtime Detail'!$K$24:$K$500,'CMS Downtime Detail'!$B$24:$B$500,$B370,'CMS Downtime Detail'!$C$24:$C$500,$C370,'CMS Downtime Detail'!$D$24:$D$500,$D370,'CMS Downtime Detail'!$E$24:$E$500,\"Nonmonitoring Equipment Malfunctions\"))","v":""},{"$f":"IF($E370=\"\",\"\",SUMIFS('CMS Downtime Detail'!$K$24:$K$500,'CMS Downtime Detail'!$B$24:$B$500,$B370,'CMS Downtime Detail'!$C$24:$C$500,$C370,'CMS Downtime Detail'!$D$24:$D$500,$D370,'CMS Downtime Detail'!$E$24:$E$500,\"Quality Assurance/Quality Control Calibrations\"))","v":""},{"$f":"IF($E370=\"\",\"\",SUMIFS('CMS Downtime Detail'!$K$24:$K$500,'CMS Downtime Detail'!$B$24:$B$500,$B370,'CMS Downtime Detail'!$C$24:$C$500,$C370,'CMS Downtime Detail'!$D$24:$D$500,$D370,'CMS Downtime Detail'!$E$24:$E$500,\"Other Known Causes\"))","v":""},{"$f":"IF($E370=\"\",\"\",SUMIFS('CMS Downtime Detail'!$K$24:$K$500,'CMS Downtime Detail'!$B$24:$B$500,$B370,'CMS Downtime Detail'!$C$24:$C$500,$C370,'CMS Downtime Detail'!$D$24:$D$500,$D370,'CMS Downtime Detail'!$E$24:$E$500,\"Other Unknown Causes\"))","v":""}]
[null,{"$f":"IF(Lists!AQ349=\"\",\"\",Lists!AQ349)","v":""},{"$f":"IF(Lists!AR349=\"\",\"\",Lists!AR349)","v":""},{"$f":"IF(Lists!AS349=\"\",\"\",Lists!AS349)","v":""},{"$f":"IF(D371=\"\",\"\",VLOOKUP(B371&C371,Lists!$BA$2:$BD$78,4,FALSE))","v":""},"","",{"$f":"IF($E371=\"\",\"\",SUMIFS('CMS Downtime Detail'!$K$24:$K$500,'CMS Downtime Detail'!$B$24:$B$500,$B371,'CMS Downtime Detail'!$C$24:$C$500,$C371,'CMS Downtime Detail'!$D$24:$D$500,$D371,'CMS Downtime Detail'!$E$24:$E$500,\"Monitoring Equipment Malfunctions\"))","v":""},{"$f":"IF($E371=\"\",\"\",SUMIFS('CMS Downtime Detail'!$K$24:$K$500,'CMS Downtime Detail'!$B$24:$B$500,$B371,'CMS Downtime Detail'!$C$24:$C$500,$C371,'CMS Downtime Detail'!$D$24:$D$500,$D371,'CMS Downtime Detail'!$E$24:$E$500,\"Nonmonitoring Equipment Malfunctions\"))","v":""},{"$f":"IF($E371=\"\",\"\",SUMIFS('CMS Downtime Detail'!$K$24:$K$500,'CMS Downtime Detail'!$B$24:$B$500,$B371,'CMS Downtime Detail'!$C$24:$C$500,$C371,'CMS Downtime Detail'!$D$24:$D$500,$D371,'CMS Downtime Detail'!$E$24:$E$500,\"Quality Assurance/Quality Control Calibrations\"))","v":""},{"$f":"IF($E371=\"\",\"\",SUMIFS('CMS Downtime Detail'!$K$24:$K$500,'CMS Downtime Detail'!$B$24:$B$500,$B371,'CMS Downtime Detail'!$C$24:$C$500,$C371,'CMS Downtime Detail'!$D$24:$D$500,$D371,'CMS Downtime Detail'!$E$24:$E$500,\"Other Known Causes\"))","v":""},{"$f":"IF($E371=\"\",\"\",SUMIFS('CMS Downtime Detail'!$K$24:$K$500,'CMS Downtime Detail'!$B$24:$B$500,$B371,'CMS Downtime Detail'!$C$24:$C$500,$C371,'CMS Downtime Detail'!$D$24:$D$500,$D371,'CMS Downtime Detail'!$E$24:$E$500,\"Other Unknown Causes\"))","v":""}]
[null,{"$f":"IF(Lists!AQ350=\"\",\"\",Lists!AQ350)","v":""},{"$f":"IF(Lists!AR350=\"\",\"\",Lists!AR350)","v":""},{"$f":"IF(Lists!AS350=\"\",\"\",Lists!AS350)","v":""},{"$f":"IF(D372=\"\",\"\",VLOOKUP(B372&C372,Lists!$BA$2:$BD$78,4,FALSE))","v":""},"","",{"$f":"IF($E372=\"\",\"\",SUMIFS('CMS Downtime Detail'!$K$24:$K$500,'CMS Downtime Detail'!$B$24:$B$500,$B372,'CMS Downtime Detail'!$C$24:$C$500,$C372,'CMS Downtime Detail'!$D$24:$D$500,$D372,'CMS Downtime Detail'!$E$24:$E$500,\"Monitoring Equipment Malfunctions\"))","v":""},{"$f":"IF($E372=\"\",\"\",SUMIFS('CMS Downtime Detail'!$K$24:$K$500,'CMS Downtime Detail'!$B$24:$B$500,$B372,'CMS Downtime Detail'!$C$24:$C$500,$C372,'CMS Downtime Detail'!$D$24:$D$500,$D372,'CMS Downtime Detail'!$E$24:$E$500,\"Nonmonitoring Equipment Malfunctions\"))","v":""},{"$f":"IF($E372=\"\",\"\",SUMIFS('CMS Downtime Detail'!$K$24:$K$500,'CMS Downtime Detail'!$B$24:$B$500,$B372,'CMS Downtime Detail'!$C$24:$C$500,$C372,'CMS Downtime Detail'!$D$24:$D$500,$D372,'CMS Downtime Detail'!$E$24:$E$500,\"Quality Assurance/Quality Control Calibrations\"))","v":""},{"$f":"IF($E372=\"\",\"\",SUMIFS('CMS Downtime Detail'!$K$24:$K$500,'CMS Downtime Detail'!$B$24:$B$500,$B372,'CMS Downtime Detail'!$C$24:$C$500,$C372,'CMS Downtime Detail'!$D$24:$D$500,$D372,'CMS Downtime Detail'!$E$24:$E$500,\"Other Known Causes\"))","v":""},{"$f":"IF($E372=\"\",\"\",SUMIFS('CMS Downtime Detail'!$K$24:$K$500,'CMS Downtime Detail'!$B$24:$B$500,$B372,'CMS Downtime Detail'!$C$24:$C$500,$C372,'CMS Downtime Detail'!$D$24:$D$500,$D372,'CMS Downtime Detail'!$E$24:$E$500,\"Other Unknown Causes\"))","v":""}]
[null,{"$f":"IF(Lists!AQ351=\"\",\"\",Lists!AQ351)","v":""},{"$f":"IF(Lists!AR351=\"\",\"\",Lists!AR351)","v":""},{"$f":"IF(Lists!AS351=\"\",\"\",Lists!AS351)","v":""},{"$f":"IF(D373=\"\",\"\",VLOOKUP(B373&C373,Lists!$BA$2:$BD$78,4,FALSE))","v":""},"","",{"$f":"IF($E373=\"\",\"\",SUMIFS('CMS Downtime Detail'!$K$24:$K$500,'CMS Downtime Detail'!$B$24:$B$500,$B373,'CMS Downtime Detail'!$C$24:$C$500,$C373,'CMS Downtime Detail'!$D$24:$D$500,$D373,'CMS Downtime Detail'!$E$24:$E$500,\"Monitoring Equipment Malfunctions\"))","v":""},{"$f":"IF($E373=\"\",\"\",SUMIFS('CMS Downtime Detail'!$K$24:$K$500,'CMS Downtime Detail'!$B$24:$B$500,$B373,'CMS Downtime Detail'!$C$24:$C$500,$C373,'CMS Downtime Detail'!$D$24:$D$500,$D373,'CMS Downtime Detail'!$E$24:$E$500,\"Nonmonitoring Equipment Malfunctions\"))","v":""},{"$f":"IF($E373=\"\",\"\",SUMIFS('CMS Downtime Detail'!$K$24:$K$500,'CMS Downtime Detail'!$B$24:$B$500,$B373,'CMS Downtime Detail'!$C$24:$C$500,$C373,'CMS Downtime Detail'!$D$24:$D$500,$D373,'CMS Downtime Detail'!$E$24:$E$500,\"Quality Assurance/Quality Control Calibrations\"))","v":""},{"$f":"IF($E373=\"\",\"\",SUMIFS('CMS Downtime Detail'!$K$24:$K$500,'CMS Downtime Detail'!$B$24:$B$500,$B373,'CMS Downtime Detail'!$C$24:$C$500,$C373,'CMS Downtime Detail'!$D$24:$D$500,$D373,'CMS Downtime Detail'!$E$24:$E$500,\"Other Known Causes\"))","v":""},{"$f":"IF($E373=\"\",\"\",SUMIFS('CMS Downtime Detail'!$K$24:$K$500,'CMS Downtime Detail'!$B$24:$B$500,$B373,'CMS Downtime Detail'!$C$24:$C$500,$C373,'CMS Downtime Detail'!$D$24:$D$500,$D373,'CMS Downtime Detail'!$E$24:$E$500,\"Other Unknown Causes\"))","v":""}]
[null,{"$f":"IF(Lists!AQ352=\"\",\"\",Lists!AQ352)","v":""},{"$f":"IF(Lists!AR352=\"\",\"\",Lists!AR352)","v":""},{"$f":"IF(Lists!AS352=\"\",\"\",Lists!AS352)","v":""},{"$f":"IF(D374=\"\",\"\",VLOOKUP(B374&C374,Lists!$BA$2:$BD$78,4,FALSE))","v":""},"","",{"$f":"IF($E374=\"\",\"\",SUMIFS('CMS Downtime Detail'!$K$24:$K$500,'CMS Downtime Detail'!$B$24:$B$500,$B374,'CMS Downtime Detail'!$C$24:$C$500,$C374,'CMS Downtime Detail'!$D$24:$D$500,$D374,'CMS Downtime Detail'!$E$24:$E$500,\"Monitoring Equipment Malfunctions\"))","v":""},{"$f":"IF($E374=\"\",\"\",SUMIFS('CMS Downtime Detail'!$K$24:$K$500,'CMS Downtime Detail'!$B$24:$B$500,$B374,'CMS Downtime Detail'!$C$24:$C$500,$C374,'CMS Downtime Detail'!$D$24:$D$500,$D374,'CMS Downtime Detail'!$E$24:$E$500,\"Nonmonitoring Equipment Malfunctions\"))","v":""},{"$f":"IF($E374=\"\",\"\",SUMIFS('CMS Downtime Detail'!$K$24:$K$500,'CMS Downtime Detail'!$B$24:$B$500,$B374,'CMS Downtime Detail'!$C$24:$C$500,$C374,'CMS Downtime Detail'!$D$24:$D$500,$D374,'CMS Downtime Detail'!$E$24:$E$500,\"Quality Assurance/Quality Control Calibrations\"))","v":""},{"$f":"IF($E374=\"\",\"\",SUMIFS('CMS Downtime Detail'!$K$24:$K$500,'CMS Downtime Detail'!$B$24:$B$500,$B374,'CMS Downtime Detail'!$C$24:$C$500,$C374,'CMS Downtime Detail'!$D$24:$D$500,$D374,'CMS Downtime Detail'!$E$24:$E$500,\"Other Known Causes\"))","v":""},{"$f":"IF($E374=\"\",\"\",SUMIFS('CMS Downtime Detail'!$K$24:$K$500,'CMS Downtime Detail'!$B$24:$B$500,$B374,'CMS Downtime Detail'!$C$24:$C$500,$C374,'CMS Downtime Detail'!$D$24:$D$500,$D374,'CMS Downtime Detail'!$E$24:$E$500,\"Other Unknown Causes\"))","v":""}]
[null,{"$f":"IF(Lists!AQ353=\"\",\"\",Lists!AQ353)","v":""},{"$f":"IF(Lists!AR353=\"\",\"\",Lists!AR353)","v":""},{"$f":"IF(Lists!AS353=\"\",\"\",Lists!AS353)","v":""},{"$f":"IF(D375=\"\",\"\",VLOOKUP(B375&C375,Lists!$BA$2:$BD$78,4,FALSE))","v":""},"","",{"$f":"IF($E375=\"\",\"\",SUMIFS('CMS Downtime Detail'!$K$24:$K$500,'CMS Downtime Detail'!$B$24:$B$500,$B375,'CMS Downtime Detail'!$C$24:$C$500,$C375,'CMS Downtime Detail'!$D$24:$D$500,$D375,'CMS Downtime Detail'!$E$24:$E$500,\"Monitoring Equipment Malfunctions\"))","v":""},{"$f":"IF($E375=\"\",\"\",SUMIFS('CMS Downtime Detail'!$K$24:$K$500,'CMS Downtime Detail'!$B$24:$B$500,$B375,'CMS Downtime Detail'!$C$24:$C$500,$C375,'CMS Downtime Detail'!$D$24:$D$500,$D375,'CMS Downtime Detail'!$E$24:$E$500,\"Nonmonitoring Equipment Malfunctions\"))","v":""},{"$f":"IF($E375=\"\",\"\",SUMIFS('CMS Downtime Detail'!$K$24:$K$500,'CMS Downtime Detail'!$B$24:$B$500,$B375,'CMS Downtime Detail'!$C$24:$C$500,$C375,'CMS Downtime Detail'!$D$24:$D$500,$D375,'CMS Downtime Detail'!$E$24:$E$500,\"Quality Assurance/Quality Control Calibrations\"))","v":""},{"$f":"IF($E375=\"\",\"\",SUMIFS('CMS Downtime Detail'!$K$24:$K$500,'CMS Downtime Detail'!$B$24:$B$500,$B375,'CMS Downtime Detail'!$C$24:$C$500,$C375,'CMS Downtime Detail'!$D$24:$D$500,$D375,'CMS Downtime Detail'!$E$24:$E$500,\"Other Known Causes\"))","v":""},{"$f":"IF($E375=\"\",\"\",SUMIFS('CMS Downtime Detail'!$K$24:$K$500,'CMS Downtime Detail'!$B$24:$B$500,$B375,'CMS Downtime Detail'!$C$24:$C$500,$C375,'CMS Downtime Detail'!$D$24:$D$500,$D375,'CMS Downtime Detail'!$E$24:$E$500,\"Other Unknown Causes\"))","v":""}]
[null,{"$f":"IF(Lists!AQ354=\"\",\"\",Lists!AQ354)","v":""},{"$f":"IF(Lists!AR354=\"\",\"\",Lists!AR354)","v":""},{"$f":"IF(Lists!AS354=\"\",\"\",Lists!AS354)","v":""},{"$f":"IF(D376=\"\",\"\",VLOOKUP(B376&C376,Lists!$BA$2:$BD$78,4,FALSE))","v":""},"","",{"$f":"IF($E376=\"\",\"\",SUMIFS('CMS Downtime Detail'!$K$24:$K$500,'CMS Downtime Detail'!$B$24:$B$500,$B376,'CMS Downtime Detail'!$C$24:$C$500,$C376,'CMS Downtime Detail'!$D$24:$D$500,$D376,'CMS Downtime Detail'!$E$24:$E$500,\"Monitoring Equipment Malfunctions\"))","v":""},{"$f":"IF($E376=\"\",\"\",SUMIFS('CMS Downtime Detail'!$K$24:$K$500,'CMS Downtime Detail'!$B$24:$B$500,$B376,'CMS Downtime Detail'!$C$24:$C$500,$C376,'CMS Downtime Detail'!$D$24:$D$500,$D376,'CMS Downtime Detail'!$E$24:$E$500,\"Nonmonitoring Equipment Malfunctions\"))","v":""},{"$f":"IF($E376=\"\",\"\",SUMIFS('CMS Downtime Detail'!$K$24:$K$500,'CMS Downtime Detail'!$B$24:$B$500,$B376,'CMS Downtime Detail'!$C$24:$C$500,$C376,'CMS Downtime Detail'!$D$24:$D$500,$D376,'CMS Downtime Detail'!$E$24:$E$500,\"Quality Assurance/Quality Control Calibrations\"))","v":""},{"$f":"IF($E376=\"\",\"\",SUMIFS('CMS Downtime Detail'!$K$24:$K$500,'CMS Downtime Detail'!$B$24:$B$500,$B376,'CMS Downtime Detail'!$C$24:$C$500,$C376,'CMS Downtime Detail'!$D$24:$D$500,$D376,'CMS Downtime Detail'!$E$24:$E$500,\"Other Known Causes\"))","v":""},{"$f":"IF($E376=\"\",\"\",SUMIFS('CMS Downtime Detail'!$K$24:$K$500,'CMS Downtime Detail'!$B$24:$B$500,$B376,'CMS Downtime Detail'!$C$24:$C$500,$C376,'CMS Downtime Detail'!$D$24:$D$500,$D376,'CMS Downtime Detail'!$E$24:$E$500,\"Other Unknown Causes\"))","v":""}]
[null,{"$f":"IF(Lists!AQ355=\"\",\"\",Lists!AQ355)","v":""},{"$f":"IF(Lists!AR355=\"\",\"\",Lists!AR355)","v":""},{"$f":"IF(Lists!AS355=\"\",\"\",Lists!AS355)","v":""},{"$f":"IF(D377=\"\",\"\",VLOOKUP(B377&C377,Lists!$BA$2:$BD$78,4,FALSE))","v":""},"","",{"$f":"IF($E377=\"\",\"\",SUMIFS('CMS Downtime Detail'!$K$24:$K$500,'CMS Downtime Detail'!$B$24:$B$500,$B377,'CMS Downtime Detail'!$C$24:$C$500,$C377,'CMS Downtime Detail'!$D$24:$D$500,$D377,'CMS Downtime Detail'!$E$24:$E$500,\"Monitoring Equipment Malfunctions\"))","v":""},{"$f":"IF($E377=\"\",\"\",SUMIFS('CMS Downtime Detail'!$K$24:$K$500,'CMS Downtime Detail'!$B$24:$B$500,$B377,'CMS Downtime Detail'!$C$24:$C$500,$C377,'CMS Downtime Detail'!$D$24:$D$500,$D377,'CMS Downtime Detail'!$E$24:$E$500,\"Nonmonitoring Equipment Malfunctions\"))","v":""},{"$f":"IF($E377=\"\",\"\",SUMIFS('CMS Downtime Detail'!$K$24:$K$500,'CMS Downtime Detail'!$B$24:$B$500,$B377,'CMS Downtime Detail'!$C$24:$C$500,$C377,'CMS Downtime Detail'!$D$24:$D$500,$D377,'CMS Downtime Detail'!$E$24:$E$500,\"Quality Assurance/Quality Control Calibrations\"))","v":""},{"$f":"IF($E377=\"\",\"\",SUMIFS('CMS Downtime Detail'!$K$24:$K$500,'CMS Downtime Detail'!$B$24:$B$500,$B377,'CMS Downtime Detail'!$C$24:$C$500,$C377,'CMS Downtime Detail'!$D$24:$D$500,$D377,'CMS Downtime Detail'!$E$24:$E$500,\"Other Known Causes\"))","v":""},{"$f":"IF($E377=\"\",\"\",SUMIFS('CMS Downtime Detail'!$K$24:$K$500,'CMS Downtime Detail'!$B$24:$B$500,$B377,'CMS Downtime Detail'!$C$24:$C$500,$C377,'CMS Downtime Detail'!$D$24:$D$500,$D377,'CMS Downtime Detail'!$E$24:$E$500,\"Other Unknown Causes\"))","v":""}]
[null,{"$f":"IF(Lists!AQ356=\"\",\"\",Lists!AQ356)","v":""},{"$f":"IF(Lists!AR356=\"\",\"\",Lists!AR356)","v":""},{"$f":"IF(Lists!AS356=\"\",\"\",Lists!AS356)","v":""},{"$f":"IF(D378=\"\",\"\",VLOOKUP(B378&C378,Lists!$BA$2:$BD$78,4,FALSE))","v":""},"","",{"$f":"IF($E378=\"\",\"\",SUMIFS('CMS Downtime Detail'!$K$24:$K$500,'CMS Downtime Detail'!$B$24:$B$500,$B378,'CMS Downtime Detail'!$C$24:$C$500,$C378,'CMS Downtime Detail'!$D$24:$D$500,$D378,'CMS Downtime Detail'!$E$24:$E$500,\"Monitoring Equipment Malfunctions\"))","v":""},{"$f":"IF($E378=\"\",\"\",SUMIFS('CMS Downtime Detail'!$K$24:$K$500,'CMS Downtime Detail'!$B$24:$B$500,$B378,'CMS Downtime Detail'!$C$24:$C$500,$C378,'CMS Downtime Detail'!$D$24:$D$500,$D378,'CMS Downtime Detail'!$E$24:$E$500,\"Nonmonitoring Equipment Malfunctions\"))","v":""},{"$f":"IF($E378=\"\",\"\",SUMIFS('CMS Downtime Detail'!$K$24:$K$500,'CMS Downtime Detail'!$B$24:$B$500,$B378,'CMS Downtime Detail'!$C$24:$C$500,$C378,'CMS Downtime Detail'!$D$24:$D$500,$D378,'CMS Downtime Detail'!$E$24:$E$500,\"Quality Assurance/Quality Control Calibrations\"))","v":""},{"$f":"IF($E378=\"\",\"\",SUMIFS('CMS Downtime Detail'!$K$24:$K$500,'CMS Downtime Detail'!$B$24:$B$500,$B378,'CMS Downtime Detail'!$C$24:$C$500,$C378,'CMS Downtime Detail'!$D$24:$D$500,$D378,'CMS Downtime Detail'!$E$24:$E$500,\"Other Known Causes\"))","v":""},{"$f":"IF($E378=\"\",\"\",SUMIFS('CMS Downtime Detail'!$K$24:$K$500,'CMS Downtime Detail'!$B$24:$B$500,$B378,'CMS Downtime Detail'!$C$24:$C$500,$C378,'CMS Downtime Detail'!$D$24:$D$500,$D378,'CMS Downtime Detail'!$E$24:$E$500,\"Other Unknown Causes\"))","v":""}]
[null,{"$f":"IF(Lists!AQ357=\"\",\"\",Lists!AQ357)","v":""},{"$f":"IF(Lists!AR357=\"\",\"\",Lists!AR357)","v":""},{"$f":"IF(Lists!AS357=\"\",\"\",Lists!AS357)","v":""},{"$f":"IF(D379=\"\",\"\",VLOOKUP(B379&C379,Lists!$BA$2:$BD$78,4,FALSE))","v":""},"","",{"$f":"IF($E379=\"\",\"\",SUMIFS('CMS Downtime Detail'!$K$24:$K$500,'CMS Downtime Detail'!$B$24:$B$500,$B379,'CMS Downtime Detail'!$C$24:$C$500,$C379,'CMS Downtime Detail'!$D$24:$D$500,$D379,'CMS Downtime Detail'!$E$24:$E$500,\"Monitoring Equipment Malfunctions\"))","v":""},{"$f":"IF($E379=\"\",\"\",SUMIFS('CMS Downtime Detail'!$K$24:$K$500,'CMS Downtime Detail'!$B$24:$B$500,$B379,'CMS Downtime Detail'!$C$24:$C$500,$C379,'CMS Downtime Detail'!$D$24:$D$500,$D379,'CMS Downtime Detail'!$E$24:$E$500,\"Nonmonitoring Equipment Malfunctions\"))","v":""},{"$f":"IF($E379=\"\",\"\",SUMIFS('CMS Downtime Detail'!$K$24:$K$500,'CMS Downtime Detail'!$B$24:$B$500,$B379,'CMS Downtime Detail'!$C$24:$C$500,$C379,'CMS Downtime Detail'!$D$24:$D$500,$D379,'CMS Downtime Detail'!$E$24:$E$500,\"Quality Assurance/Quality Control Calibrations\"))","v":""},{"$f":"IF($E379=\"\",\"\",SUMIFS('CMS Downtime Detail'!$K$24:$K$500,'CMS Downtime Detail'!$B$24:$B$500,$B379,'CMS Downtime Detail'!$C$24:$C$500,$C379,'CMS Downtime Detail'!$D$24:$D$500,$D379,'CMS Downtime Detail'!$E$24:$E$500,\"Other Known Causes\"))","v":""},{"$f":"IF($E379=\"\",\"\",SUMIFS('CMS Downtime Detail'!$K$24:$K$500,'CMS Downtime Detail'!$B$24:$B$500,$B379,'CMS Downtime Detail'!$C$24:$C$500,$C379,'CMS Downtime Detail'!$D$24:$D$500,$D379,'CMS Downtime Detail'!$E$24:$E$500,\"Other Unknown Causes\"))","v":""}]
[null,{"$f":"IF(Lists!AQ358=\"\",\"\",Lists!AQ358)","v":""},{"$f":"IF(Lists!AR358=\"\",\"\",Lists!AR358)","v":""},{"$f":"IF(Lists!AS358=\"\",\"\",Lists!AS358)","v":""},{"$f":"IF(D380=\"\",\"\",VLOOKUP(B380&C380,Lists!$BA$2:$BD$78,4,FALSE))","v":""},"","",{"$f":"IF($E380=\"\",\"\",SUMIFS('CMS Downtime Detail'!$K$24:$K$500,'CMS Downtime Detail'!$B$24:$B$500,$B380,'CMS Downtime Detail'!$C$24:$C$500,$C380,'CMS Downtime Detail'!$D$24:$D$500,$D380,'CMS Downtime Detail'!$E$24:$E$500,\"Monitoring Equipment Malfunctions\"))","v":""},{"$f":"IF($E380=\"\",\"\",SUMIFS('CMS Downtime Detail'!$K$24:$K$500,'CMS Downtime Detail'!$B$24:$B$500,$B380,'CMS Downtime Detail'!$C$24:$C$500,$C380,'CMS Downtime Detail'!$D$24:$D$500,$D380,'CMS Downtime Detail'!$E$24:$E$500,\"Nonmonitoring Equipment Malfunctions\"))","v":""},{"$f":"IF($E380=\"\",\"\",SUMIFS('CMS Downtime Detail'!$K$24:$K$500,'CMS Downtime Detail'!$B$24:$B$500,$B380,'CMS Downtime Detail'!$C$24:$C$500,$C380,'CMS Downtime Detail'!$D$24:$D$500,$D380,'CMS Downtime Detail'!$E$24:$E$500,\"Quality Assurance/Quality Control Calibrations\"))","v":""},{"$f":"IF($E380=\"\",\"\",SUMIFS('CMS Downtime Detail'!$K$24:$K$500,'CMS Downtime Detail'!$B$24:$B$500,$B380,'CMS Downtime Detail'!$C$24:$C$500,$C380,'CMS Downtime Detail'!$D$24:$D$500,$D380,'CMS Downtime Detail'!$E$24:$E$500,\"Other Known Causes\"))","v":""},{"$f":"IF($E380=\"\",\"\",SUMIFS('CMS Downtime Detail'!$K$24:$K$500,'CMS Downtime Detail'!$B$24:$B$500,$B380,'CMS Downtime Detail'!$C$24:$C$500,$C380,'CMS Downtime Detail'!$D$24:$D$500,$D380,'CMS Downtime Detail'!$E$24:$E$500,\"Other Unknown Causes\"))","v":""}]
[null,{"$f":"IF(Lists!AQ359=\"\",\"\",Lists!AQ359)","v":""},{"$f":"IF(Lists!AR359=\"\",\"\",Lists!AR359)","v":""},{"$f":"IF(Lists!AS359=\"\",\"\",Lists!AS359)","v":""},{"$f":"IF(D381=\"\",\"\",VLOOKUP(B381&C381,Lists!$BA$2:$BD$78,4,FALSE))","v":""},"","",{"$f":"IF($E381=\"\",\"\",SUMIFS('CMS Downtime Detail'!$K$24:$K$500,'CMS Downtime Detail'!$B$24:$B$500,$B381,'CMS Downtime Detail'!$C$24:$C$500,$C381,'CMS Downtime Detail'!$D$24:$D$500,$D381,'CMS Downtime Detail'!$E$24:$E$500,\"Monitoring Equipment Malfunctions\"))","v":""},{"$f":"IF($E381=\"\",\"\",SUMIFS('CMS Downtime Detail'!$K$24:$K$500,'CMS Downtime Detail'!$B$24:$B$500,$B381,'CMS Downtime Detail'!$C$24:$C$500,$C381,'CMS Downtime Detail'!$D$24:$D$500,$D381,'CMS Downtime Detail'!$E$24:$E$500,\"Nonmonitoring Equipment Malfunctions\"))","v":""},{"$f":"IF($E381=\"\",\"\",SUMIFS('CMS Downtime Detail'!$K$24:$K$500,'CMS Downtime Detail'!$B$24:$B$500,$B381,'CMS Downtime Detail'!$C$24:$C$500,$C381,'CMS Downtime Detail'!$D$24:$D$500,$D381,'CMS Downtime Detail'!$E$24:$E$500,\"Quality Assurance/Quality Control Calibrations\"))","v":""},{"$f":"IF($E381=\"\",\"\",SUMIFS('CMS Downtime Detail'!$K$24:$K$500,'CMS Downtime Detail'!$B$24:$B$500,$B381,'CMS Downtime Detail'!$C$24:$C$500,$C381,'CMS Downtime Detail'!$D$24:$D$500,$D381,'CMS Downtime Detail'!$E$24:$E$500,\"Other Known Causes\"))","v":""},{"$f":"IF($E381=\"\",\"\",SUMIFS('CMS Downtime Detail'!$K$24:$K$500,'CMS Downtime Detail'!$B$24:$B$500,$B381,'CMS Downtime Detail'!$C$24:$C$500,$C381,'CMS Downtime Detail'!$D$24:$D$500,$D381,'CMS Downtime Detail'!$E$24:$E$500,\"Other Unknown Causes\"))","v":""}]
[null,{"$f":"IF(Lists!AQ360=\"\",\"\",Lists!AQ360)","v":""},{"$f":"IF(Lists!AR360=\"\",\"\",Lists!AR360)","v":""},{"$f":"IF(Lists!AS360=\"\",\"\",Lists!AS360)","v":""},{"$f":"IF(D382=\"\",\"\",VLOOKUP(B382&C382,Lists!$BA$2:$BD$78,4,FALSE))","v":""},"","",{"$f":"IF($E382=\"\",\"\",SUMIFS('CMS Downtime Detail'!$K$24:$K$500,'CMS Downtime Detail'!$B$24:$B$500,$B382,'CMS Downtime Detail'!$C$24:$C$500,$C382,'CMS Downtime Detail'!$D$24:$D$500,$D382,'CMS Downtime Detail'!$E$24:$E$500,\"Monitoring Equipment Malfunctions\"))","v":""},{"$f":"IF($E382=\"\",\"\",SUMIFS('CMS Downtime Detail'!$K$24:$K$500,'CMS Downtime Detail'!$B$24:$B$500,$B382,'CMS Downtime Detail'!$C$24:$C$500,$C382,'CMS Downtime Detail'!$D$24:$D$500,$D382,'CMS Downtime Detail'!$E$24:$E$500,\"Nonmonitoring Equipment Malfunctions\"))","v":""},{"$f":"IF($E382=\"\",\"\",SUMIFS('CMS Downtime Detail'!$K$24:$K$500,'CMS Downtime Detail'!$B$24:$B$500,$B382,'CMS Downtime Detail'!$C$24:$C$500,$C382,'CMS Downtime Detail'!$D$24:$D$500,$D382,'CMS Downtime Detail'!$E$24:$E$500,\"Quality Assurance/Quality Control Calibrations\"))","v":""},{"$f":"IF($E382=\"\",\"\",SUMIFS('CMS Downtime Detail'!$K$24:$K$500,'CMS Downtime Detail'!$B$24:$B$500,$B382,'CMS Downtime Detail'!$C$24:$C$500,$C382,'CMS Downtime Detail'!$D$24:$D$500,$D382,'CMS Downtime Detail'!$E$24:$E$500,\"Other Known Causes\"))","v":""},{"$f":"IF($E382=\"\",\"\",SUMIFS('CMS Downtime Detail'!$K$24:$K$500,'CMS Downtime Detail'!$B$24:$B$500,$B382,'CMS Downtime Detail'!$C$24:$C$500,$C382,'CMS Downtime Detail'!$D$24:$D$500,$D382,'CMS Downtime Detail'!$E$24:$E$500,\"Other Unknown Causes\"))","v":""}]
[null,{"$f":"IF(Lists!AQ361=\"\",\"\",Lists!AQ361)","v":""},{"$f":"IF(Lists!AR361=\"\",\"\",Lists!AR361)","v":""},{"$f":"IF(Lists!AS361=\"\",\"\",Lists!AS361)","v":""},{"$f":"IF(D383=\"\",\"\",VLOOKUP(B383&C383,Lists!$BA$2:$BD$78,4,FALSE))","v":""},"","",{"$f":"IF($E383=\"\",\"\",SUMIFS('CMS Downtime Detail'!$K$24:$K$500,'CMS Downtime Detail'!$B$24:$B$500,$B383,'CMS Downtime Detail'!$C$24:$C$500,$C383,'CMS Downtime Detail'!$D$24:$D$500,$D383,'CMS Downtime Detail'!$E$24:$E$500,\"Monitoring Equipment Malfunctions\"))","v":""},{"$f":"IF($E383=\"\",\"\",SUMIFS('CMS Downtime Detail'!$K$24:$K$500,'CMS Downtime Detail'!$B$24:$B$500,$B383,'CMS Downtime Detail'!$C$24:$C$500,$C383,'CMS Downtime Detail'!$D$24:$D$500,$D383,'CMS Downtime Detail'!$E$24:$E$500,\"Nonmonitoring Equipment Malfunctions\"))","v":""},{"$f":"IF($E383=\"\",\"\",SUMIFS('CMS Downtime Detail'!$K$24:$K$500,'CMS Downtime Detail'!$B$24:$B$500,$B383,'CMS Downtime Detail'!$C$24:$C$500,$C383,'CMS Downtime Detail'!$D$24:$D$500,$D383,'CMS Downtime Detail'!$E$24:$E$500,\"Quality Assurance/Quality Control Calibrations\"))","v":""},{"$f":"IF($E383=\"\",\"\",SUMIFS('CMS Downtime Detail'!$K$24:$K$500,'CMS Downtime Detail'!$B$24:$B$500,$B383,'CMS Downtime Detail'!$C$24:$C$500,$C383,'CMS Downtime Detail'!$D$24:$D$500,$D383,'CMS Downtime Detail'!$E$24:$E$500,\"Other Known Causes\"))","v":""},{"$f":"IF($E383=\"\",\"\",SUMIFS('CMS Downtime Detail'!$K$24:$K$500,'CMS Downtime Detail'!$B$24:$B$500,$B383,'CMS Downtime Detail'!$C$24:$C$500,$C383,'CMS Downtime Detail'!$D$24:$D$500,$D383,'CMS Downtime Detail'!$E$24:$E$500,\"Other Unknown Causes\"))","v":""}]
[null,{"$f":"IF(Lists!AQ362=\"\",\"\",Lists!AQ362)","v":""},{"$f":"IF(Lists!AR362=\"\",\"\",Lists!AR362)","v":""},{"$f":"IF(Lists!AS362=\"\",\"\",Lists!AS362)","v":""},{"$f":"IF(D384=\"\",\"\",VLOOKUP(B384&C384,Lists!$BA$2:$BD$78,4,FALSE))","v":""},"","",{"$f":"IF($E384=\"\",\"\",SUMIFS('CMS Downtime Detail'!$K$24:$K$500,'CMS Downtime Detail'!$B$24:$B$500,$B384,'CMS Downtime Detail'!$C$24:$C$500,$C384,'CMS Downtime Detail'!$D$24:$D$500,$D384,'CMS Downtime Detail'!$E$24:$E$500,\"Monitoring Equipment Malfunctions\"))","v":""},{"$f":"IF($E384=\"\",\"\",SUMIFS('CMS Downtime Detail'!$K$24:$K$500,'CMS Downtime Detail'!$B$24:$B$500,$B384,'CMS Downtime Detail'!$C$24:$C$500,$C384,'CMS Downtime Detail'!$D$24:$D$500,$D384,'CMS Downtime Detail'!$E$24:$E$500,\"Nonmonitoring Equipment Malfunctions\"))","v":""},{"$f":"IF($E384=\"\",\"\",SUMIFS('CMS Downtime Detail'!$K$24:$K$500,'CMS Downtime Detail'!$B$24:$B$500,$B384,'CMS Downtime Detail'!$C$24:$C$500,$C384,'CMS Downtime Detail'!$D$24:$D$500,$D384,'CMS Downtime Detail'!$E$24:$E$500,\"Quality Assurance/Quality Control Calibrations\"))","v":""},{"$f":"IF($E384=\"\",\"\",SUMIFS('CMS Downtime Detail'!$K$24:$K$500,'CMS Downtime Detail'!$B$24:$B$500,$B384,'CMS Downtime Detail'!$C$24:$C$500,$C384,'CMS Downtime Detail'!$D$24:$D$500,$D384,'CMS Downtime Detail'!$E$24:$E$500,\"Other Known Causes\"))","v":""},{"$f":"IF($E384=\"\",\"\",SUMIFS('CMS Downtime Detail'!$K$24:$K$500,'CMS Downtime Detail'!$B$24:$B$500,$B384,'CMS Downtime Detail'!$C$24:$C$500,$C384,'CMS Downtime Detail'!$D$24:$D$500,$D384,'CMS Downtime Detail'!$E$24:$E$500,\"Other Unknown Causes\"))","v":""}]
[null,{"$f":"IF(Lists!AQ363=\"\",\"\",Lists!AQ363)","v":""},{"$f":"IF(Lists!AR363=\"\",\"\",Lists!AR363)","v":""},{"$f":"IF(Lists!AS363=\"\",\"\",Lists!AS363)","v":""},{"$f":"IF(D385=\"\",\"\",VLOOKUP(B385&C385,Lists!$BA$2:$BD$78,4,FALSE))","v":""},"","",{"$f":"IF($E385=\"\",\"\",SUMIFS('CMS Downtime Detail'!$K$24:$K$500,'CMS Downtime Detail'!$B$24:$B$500,$B385,'CMS Downtime Detail'!$C$24:$C$500,$C385,'CMS Downtime Detail'!$D$24:$D$500,$D385,'CMS Downtime Detail'!$E$24:$E$500,\"Monitoring Equipment Malfunctions\"))","v":""},{"$f":"IF($E385=\"\",\"\",SUMIFS('CMS Downtime Detail'!$K$24:$K$500,'CMS Downtime Detail'!$B$24:$B$500,$B385,'CMS Downtime Detail'!$C$24:$C$500,$C385,'CMS Downtime Detail'!$D$24:$D$500,$D385,'CMS Downtime Detail'!$E$24:$E$500,\"Nonmonitoring Equipment Malfunctions\"))","v":""},{"$f":"IF($E385=\"\",\"\",SUMIFS('CMS Downtime Detail'!$K$24:$K$500,'CMS Downtime Detail'!$B$24:$B$500,$B385,'CMS Downtime Detail'!$C$24:$C$500,$C385,'CMS Downtime Detail'!$D$24:$D$500,$D385,'CMS Downtime Detail'!$E$24:$E$500,\"Quality Assurance/Quality Control Calibrations\"))","v":""},{"$f":"IF($E385=\"\",\"\",SUMIFS('CMS Downtime Detail'!$K$24:$K$500,'CMS Downtime Detail'!$B$24:$B$500,$B385,'CMS Downtime Detail'!$C$24:$C$500,$C385,'CMS Downtime Detail'!$D$24:$D$500,$D385,'CMS Downtime Detail'!$E$24:$E$500,\"Other Known Causes\"))","v":""},{"$f":"IF($E385=\"\",\"\",SUMIFS('CMS Downtime Detail'!$K$24:$K$500,'CMS Downtime Detail'!$B$24:$B$500,$B385,'CMS Downtime Detail'!$C$24:$C$500,$C385,'CMS Downtime Detail'!$D$24:$D$500,$D385,'CMS Downtime Detail'!$E$24:$E$500,\"Other Unknown Causes\"))","v":""}]
[null,{"$f":"IF(Lists!AQ364=\"\",\"\",Lists!AQ364)","v":""},{"$f":"IF(Lists!AR364=\"\",\"\",Lists!AR364)","v":""},{"$f":"IF(Lists!AS364=\"\",\"\",Lists!AS364)","v":""},{"$f":"IF(D386=\"\",\"\",VLOOKUP(B386&C386,Lists!$BA$2:$BD$78,4,FALSE))","v":""},"","",{"$f":"IF($E386=\"\",\"\",SUMIFS('CMS Downtime Detail'!$K$24:$K$500,'CMS Downtime Detail'!$B$24:$B$500,$B386,'CMS Downtime Detail'!$C$24:$C$500,$C386,'CMS Downtime Detail'!$D$24:$D$500,$D386,'CMS Downtime Detail'!$E$24:$E$500,\"Monitoring Equipment Malfunctions\"))","v":""},{"$f":"IF($E386=\"\",\"\",SUMIFS('CMS Downtime Detail'!$K$24:$K$500,'CMS Downtime Detail'!$B$24:$B$500,$B386,'CMS Downtime Detail'!$C$24:$C$500,$C386,'CMS Downtime Detail'!$D$24:$D$500,$D386,'CMS Downtime Detail'!$E$24:$E$500,\"Nonmonitoring Equipment Malfunctions\"))","v":""},{"$f":"IF($E386=\"\",\"\",SUMIFS('CMS Downtime Detail'!$K$24:$K$500,'CMS Downtime Detail'!$B$24:$B$500,$B386,'CMS Downtime Detail'!$C$24:$C$500,$C386,'CMS Downtime Detail'!$D$24:$D$500,$D386,'CMS Downtime Detail'!$E$24:$E$500,\"Quality Assurance/Quality Control Calibrations\"))","v":""},{"$f":"IF($E386=\"\",\"\",SUMIFS('CMS Downtime Detail'!$K$24:$K$500,'CMS Downtime Detail'!$B$24:$B$500,$B386,'CMS Downtime Detail'!$C$24:$C$500,$C386,'CMS Downtime Detail'!$D$24:$D$500,$D386,'CMS Downtime Detail'!$E$24:$E$500,\"Other Known Causes\"))","v":""},{"$f":"IF($E386=\"\",\"\",SUMIFS('CMS Downtime Detail'!$K$24:$K$500,'CMS Downtime Detail'!$B$24:$B$500,$B386,'CMS Downtime Detail'!$C$24:$C$500,$C386,'CMS Downtime Detail'!$D$24:$D$500,$D386,'CMS Downtime Detail'!$E$24:$E$500,\"Other Unknown Causes\"))","v":""}]
[null,{"$f":"IF(Lists!AQ365=\"\",\"\",Lists!AQ365)","v":""},{"$f":"IF(Lists!AR365=\"\",\"\",Lists!AR365)","v":""},{"$f":"IF(Lists!AS365=\"\",\"\",Lists!AS365)","v":""},{"$f":"IF(D387=\"\",\"\",VLOOKUP(B387&C387,Lists!$BA$2:$BD$78,4,FALSE))","v":""},"","",{"$f":"IF($E387=\"\",\"\",SUMIFS('CMS Downtime Detail'!$K$24:$K$500,'CMS Downtime Detail'!$B$24:$B$500,$B387,'CMS Downtime Detail'!$C$24:$C$500,$C387,'CMS Downtime Detail'!$D$24:$D$500,$D387,'CMS Downtime Detail'!$E$24:$E$500,\"Monitoring Equipment Malfunctions\"))","v":""},{"$f":"IF($E387=\"\",\"\",SUMIFS('CMS Downtime Detail'!$K$24:$K$500,'CMS Downtime Detail'!$B$24:$B$500,$B387,'CMS Downtime Detail'!$C$24:$C$500,$C387,'CMS Downtime Detail'!$D$24:$D$500,$D387,'CMS Downtime Detail'!$E$24:$E$500,\"Nonmonitoring Equipment Malfunctions\"))","v":""},{"$f":"IF($E387=\"\",\"\",SUMIFS('CMS Downtime Detail'!$K$24:$K$500,'CMS Downtime Detail'!$B$24:$B$500,$B387,'CMS Downtime Detail'!$C$24:$C$500,$C387,'CMS Downtime Detail'!$D$24:$D$500,$D387,'CMS Downtime Detail'!$E$24:$E$500,\"Quality Assurance/Quality Control Calibrations\"))","v":""},{"$f":"IF($E387=\"\",\"\",SUMIFS('CMS Downtime Detail'!$K$24:$K$500,'CMS Downtime Detail'!$B$24:$B$500,$B387,'CMS Downtime Detail'!$C$24:$C$500,$C387,'CMS Downtime Detail'!$D$24:$D$500,$D387,'CMS Downtime Detail'!$E$24:$E$500,\"Other Known Causes\"))","v":""},{"$f":"IF($E387=\"\",\"\",SUMIFS('CMS Downtime Detail'!$K$24:$K$500,'CMS Downtime Detail'!$B$24:$B$500,$B387,'CMS Downtime Detail'!$C$24:$C$500,$C387,'CMS Downtime Detail'!$D$24:$D$500,$D387,'CMS Downtime Detail'!$E$24:$E$500,\"Other Unknown Causes\"))","v":""}]
[null,{"$f":"IF(Lists!AQ366=\"\",\"\",Lists!AQ366)","v":""},{"$f":"IF(Lists!AR366=\"\",\"\",Lists!AR366)","v":""},{"$f":"IF(Lists!AS366=\"\",\"\",Lists!AS366)","v":""},{"$f":"IF(D388=\"\",\"\",VLOOKUP(B388&C388,Lists!$BA$2:$BD$78,4,FALSE))","v":""},"","",{"$f":"IF($E388=\"\",\"\",SUMIFS('CMS Downtime Detail'!$K$24:$K$500,'CMS Downtime Detail'!$B$24:$B$500,$B388,'CMS Downtime Detail'!$C$24:$C$500,$C388,'CMS Downtime Detail'!$D$24:$D$500,$D388,'CMS Downtime Detail'!$E$24:$E$500,\"Monitoring Equipment Malfunctions\"))","v":""},{"$f":"IF($E388=\"\",\"\",SUMIFS('CMS Downtime Detail'!$K$24:$K$500,'CMS Downtime Detail'!$B$24:$B$500,$B388,'CMS Downtime Detail'!$C$24:$C$500,$C388,'CMS Downtime Detail'!$D$24:$D$500,$D388,'CMS Downtime Detail'!$E$24:$E$500,\"Nonmonitoring Equipment Malfunctions\"))","v":""},{"$f":"IF($E388=\"\",\"\",SUMIFS('CMS Downtime Detail'!$K$24:$K$500,'CMS Downtime Detail'!$B$24:$B$500,$B388,'CMS Downtime Detail'!$C$24:$C$500,$C388,'CMS Downtime Detail'!$D$24:$D$500,$D388,'CMS Downtime Detail'!$E$24:$E$500,\"Quality Assurance/Quality Control Calibrations\"))","v":""},{"$f":"IF($E388=\"\",\"\",SUMIFS('CMS Downtime Detail'!$K$24:$K$500,'CMS Downtime Detail'!$B$24:$B$500,$B388,'CMS Downtime Detail'!$C$24:$C$500,$C388,'CMS Downtime Detail'!$D$24:$D$500,$D388,'CMS Downtime Detail'!$E$24:$E$500,\"Other Known Causes\"))","v":""},{"$f":"IF($E388=\"\",\"\",SUMIFS('CMS Downtime Detail'!$K$24:$K$500,'CMS Downtime Detail'!$B$24:$B$500,$B388,'CMS Downtime Detail'!$C$24:$C$500,$C388,'CMS Downtime Detail'!$D$24:$D$500,$D388,'CMS Downtime Detail'!$E$24:$E$500,\"Other Unknown Causes\"))","v":""}]
[null,{"$f":"IF(Lists!AQ367=\"\",\"\",Lists!AQ367)","v":""},{"$f":"IF(Lists!AR367=\"\",\"\",Lists!AR367)","v":""},{"$f":"IF(Lists!AS367=\"\",\"\",Lists!AS367)","v":""},{"$f":"IF(D389=\"\",\"\",VLOOKUP(B389&C389,Lists!$BA$2:$BD$78,4,FALSE))","v":""},"","",{"$f":"IF($E389=\"\",\"\",SUMIFS('CMS Downtime Detail'!$K$24:$K$500,'CMS Downtime Detail'!$B$24:$B$500,$B389,'CMS Downtime Detail'!$C$24:$C$500,$C389,'CMS Downtime Detail'!$D$24:$D$500,$D389,'CMS Downtime Detail'!$E$24:$E$500,\"Monitoring Equipment Malfunctions\"))","v":""},{"$f":"IF($E389=\"\",\"\",SUMIFS('CMS Downtime Detail'!$K$24:$K$500,'CMS Downtime Detail'!$B$24:$B$500,$B389,'CMS Downtime Detail'!$C$24:$C$500,$C389,'CMS Downtime Detail'!$D$24:$D$500,$D389,'CMS Downtime Detail'!$E$24:$E$500,\"Nonmonitoring Equipment Malfunctions\"))","v":""},{"$f":"IF($E389=\"\",\"\",SUMIFS('CMS Downtime Detail'!$K$24:$K$500,'CMS Downtime Detail'!$B$24:$B$500,$B389,'CMS Downtime Detail'!$C$24:$C$500,$C389,'CMS Downtime Detail'!$D$24:$D$500,$D389,'CMS Downtime Detail'!$E$24:$E$500,\"Quality Assurance/Quality Control Calibrations\"))","v":""},{"$f":"IF($E389=\"\",\"\",SUMIFS('CMS Downtime Detail'!$K$24:$K$500,'CMS Downtime Detail'!$B$24:$B$500,$B389,'CMS Downtime Detail'!$C$24:$C$500,$C389,'CMS Downtime Detail'!$D$24:$D$500,$D389,'CMS Downtime Detail'!$E$24:$E$500,\"Other Known Causes\"))","v":""},{"$f":"IF($E389=\"\",\"\",SUMIFS('CMS Downtime Detail'!$K$24:$K$500,'CMS Downtime Detail'!$B$24:$B$500,$B389,'CMS Downtime Detail'!$C$24:$C$500,$C389,'CMS Downtime Detail'!$D$24:$D$500,$D389,'CMS Downtime Detail'!$E$24:$E$500,\"Other Unknown Causes\"))","v":""}]
[null,{"$f":"IF(Lists!AQ368=\"\",\"\",Lists!AQ368)","v":""},{"$f":"IF(Lists!AR368=\"\",\"\",Lists!AR368)","v":""},{"$f":"IF(Lists!AS368=\"\",\"\",Lists!AS368)","v":""},{"$f":"IF(D390=\"\",\"\",VLOOKUP(B390&C390,Lists!$BA$2:$BD$78,4,FALSE))","v":""},"","",{"$f":"IF($E390=\"\",\"\",SUMIFS('CMS Downtime Detail'!$K$24:$K$500,'CMS Downtime Detail'!$B$24:$B$500,$B390,'CMS Downtime Detail'!$C$24:$C$500,$C390,'CMS Downtime Detail'!$D$24:$D$500,$D390,'CMS Downtime Detail'!$E$24:$E$500,\"Monitoring Equipment Malfunctions\"))","v":""},{"$f":"IF($E390=\"\",\"\",SUMIFS('CMS Downtime Detail'!$K$24:$K$500,'CMS Downtime Detail'!$B$24:$B$500,$B390,'CMS Downtime Detail'!$C$24:$C$500,$C390,'CMS Downtime Detail'!$D$24:$D$500,$D390,'CMS Downtime Detail'!$E$24:$E$500,\"Nonmonitoring Equipment Malfunctions\"))","v":""},{"$f":"IF($E390=\"\",\"\",SUMIFS('CMS Downtime Detail'!$K$24:$K$500,'CMS Downtime Detail'!$B$24:$B$500,$B390,'CMS Downtime Detail'!$C$24:$C$500,$C390,'CMS Downtime Detail'!$D$24:$D$500,$D390,'CMS Downtime Detail'!$E$24:$E$500,\"Quality Assurance/Quality Control Calibrations\"))","v":""},{"$f":"IF($E390=\"\",\"\",SUMIFS('CMS Downtime Detail'!$K$24:$K$500,'CMS Downtime Detail'!$B$24:$B$500,$B390,'CMS Downtime Detail'!$C$24:$C$500,$C390,'CMS Downtime Detail'!$D$24:$D$500,$D390,'CMS Downtime Detail'!$E$24:$E$500,\"Other Known Causes\"))","v":""},{"$f":"IF($E390=\"\",\"\",SUMIFS('CMS Downtime Detail'!$K$24:$K$500,'CMS Downtime Detail'!$B$24:$B$500,$B390,'CMS Downtime Detail'!$C$24:$C$500,$C390,'CMS Downtime Detail'!$D$24:$D$500,$D390,'CMS Downtime Detail'!$E$24:$E$500,\"Other Unknown Causes\"))","v":""}]
[null,{"$f":"IF(Lists!AQ369=\"\",\"\",Lists!AQ369)","v":""},{"$f":"IF(Lists!AR369=\"\",\"\",Lists!AR369)","v":""},{"$f":"IF(Lists!AS369=\"\",\"\",Lists!AS369)","v":""},{"$f":"IF(D391=\"\",\"\",VLOOKUP(B391&C391,Lists!$BA$2:$BD$78,4,FALSE))","v":""},"","",{"$f":"IF($E391=\"\",\"\",SUMIFS('CMS Downtime Detail'!$K$24:$K$500,'CMS Downtime Detail'!$B$24:$B$500,$B391,'CMS Downtime Detail'!$C$24:$C$500,$C391,'CMS Downtime Detail'!$D$24:$D$500,$D391,'CMS Downtime Detail'!$E$24:$E$500,\"Monitoring Equipment Malfunctions\"))","v":""},{"$f":"IF($E391=\"\",\"\",SUMIFS('CMS Downtime Detail'!$K$24:$K$500,'CMS Downtime Detail'!$B$24:$B$500,$B391,'CMS Downtime Detail'!$C$24:$C$500,$C391,'CMS Downtime Detail'!$D$24:$D$500,$D391,'CMS Downtime Detail'!$E$24:$E$500,\"Nonmonitoring Equipment Malfunctions\"))","v":""},{"$f":"IF($E391=\"\",\"\",SUMIFS('CMS Downtime Detail'!$K$24:$K$500,'CMS Downtime Detail'!$B$24:$B$500,$B391,'CMS Downtime Detail'!$C$24:$C$500,$C391,'CMS Downtime Detail'!$D$24:$D$500,$D391,'CMS Downtime Detail'!$E$24:$E$500,\"Quality Assurance/Quality Control Calibrations\"))","v":""},{"$f":"IF($E391=\"\",\"\",SUMIFS('CMS Downtime Detail'!$K$24:$K$500,'CMS Downtime Detail'!$B$24:$B$500,$B391,'CMS Downtime Detail'!$C$24:$C$500,$C391,'CMS Downtime Detail'!$D$24:$D$500,$D391,'CMS Downtime Detail'!$E$24:$E$500,\"Other Known Causes\"))","v":""},{"$f":"IF($E391=\"\",\"\",SUMIFS('CMS Downtime Detail'!$K$24:$K$500,'CMS Downtime Detail'!$B$24:$B$500,$B391,'CMS Downtime Detail'!$C$24:$C$500,$C391,'CMS Downtime Detail'!$D$24:$D$500,$D391,'CMS Downtime Detail'!$E$24:$E$500,\"Other Unknown Causes\"))","v":""}]
[null,{"$f":"IF(Lists!AQ370=\"\",\"\",Lists!AQ370)","v":""},{"$f":"IF(Lists!AR370=\"\",\"\",Lists!AR370)","v":""},{"$f":"IF(Lists!AS370=\"\",\"\",Lists!AS370)","v":""},{"$f":"IF(D392=\"\",\"\",VLOOKUP(B392&C392,Lists!$BA$2:$BD$78,4,FALSE))","v":""},"","",{"$f":"IF($E392=\"\",\"\",SUMIFS('CMS Downtime Detail'!$K$24:$K$500,'CMS Downtime Detail'!$B$24:$B$500,$B392,'CMS Downtime Detail'!$C$24:$C$500,$C392,'CMS Downtime Detail'!$D$24:$D$500,$D392,'CMS Downtime Detail'!$E$24:$E$500,\"Monitoring Equipment Malfunctions\"))","v":""},{"$f":"IF($E392=\"\",\"\",SUMIFS('CMS Downtime Detail'!$K$24:$K$500,'CMS Downtime Detail'!$B$24:$B$500,$B392,'CMS Downtime Detail'!$C$24:$C$500,$C392,'CMS Downtime Detail'!$D$24:$D$500,$D392,'CMS Downtime Detail'!$E$24:$E$500,\"Nonmonitoring Equipment Malfunctions\"))","v":""},{"$f":"IF($E392=\"\",\"\",SUMIFS('CMS Downtime Detail'!$K$24:$K$500,'CMS Downtime Detail'!$B$24:$B$500,$B392,'CMS Downtime Detail'!$C$24:$C$500,$C392,'CMS Downtime Detail'!$D$24:$D$500,$D392,'CMS Downtime Detail'!$E$24:$E$500,\"Quality Assurance/Quality Control Calibrations\"))","v":""},{"$f":"IF($E392=\"\",\"\",SUMIFS('CMS Downtime Detail'!$K$24:$K$500,'CMS Downtime Detail'!$B$24:$B$500,$B392,'CMS Downtime Detail'!$C$24:$C$500,$C392,'CMS Downtime Detail'!$D$24:$D$500,$D392,'CMS Downtime Detail'!$E$24:$E$500,\"Other Known Causes\"))","v":""},{"$f":"IF($E392=\"\",\"\",SUMIFS('CMS Downtime Detail'!$K$24:$K$500,'CMS Downtime Detail'!$B$24:$B$500,$B392,'CMS Downtime Detail'!$C$24:$C$500,$C392,'CMS Downtime Detail'!$D$24:$D$500,$D392,'CMS Downtime Detail'!$E$24:$E$500,\"Other Unknown Causes\"))","v":""}]
[null,{"$f":"IF(Lists!AQ371=\"\",\"\",Lists!AQ371)","v":""},{"$f":"IF(Lists!AR371=\"\",\"\",Lists!AR371)","v":""},{"$f":"IF(Lists!AS371=\"\",\"\",Lists!AS371)","v":""},{"$f":"IF(D393=\"\",\"\",VLOOKUP(B393&C393,Lists!$BA$2:$BD$78,4,FALSE))","v":""},"","",{"$f":"IF($E393=\"\",\"\",SUMIFS('CMS Downtime Detail'!$K$24:$K$500,'CMS Downtime Detail'!$B$24:$B$500,$B393,'CMS Downtime Detail'!$C$24:$C$500,$C393,'CMS Downtime Detail'!$D$24:$D$500,$D393,'CMS Downtime Detail'!$E$24:$E$500,\"Monitoring Equipment Malfunctions\"))","v":""},{"$f":"IF($E393=\"\",\"\",SUMIFS('CMS Downtime Detail'!$K$24:$K$500,'CMS Downtime Detail'!$B$24:$B$500,$B393,'CMS Downtime Detail'!$C$24:$C$500,$C393,'CMS Downtime Detail'!$D$24:$D$500,$D393,'CMS Downtime Detail'!$E$24:$E$500,\"Nonmonitoring Equipment Malfunctions\"))","v":""},{"$f":"IF($E393=\"\",\"\",SUMIFS('CMS Downtime Detail'!$K$24:$K$500,'CMS Downtime Detail'!$B$24:$B$500,$B393,'CMS Downtime Detail'!$C$24:$C$500,$C393,'CMS Downtime Detail'!$D$24:$D$500,$D393,'CMS Downtime Detail'!$E$24:$E$500,\"Quality Assurance/Quality Control Calibrations\"))","v":""},{"$f":"IF($E393=\"\",\"\",SUMIFS('CMS Downtime Detail'!$K$24:$K$500,'CMS Downtime Detail'!$B$24:$B$500,$B393,'CMS Downtime Detail'!$C$24:$C$500,$C393,'CMS Downtime Detail'!$D$24:$D$500,$D393,'CMS Downtime Detail'!$E$24:$E$500,\"Other Known Causes\"))","v":""},{"$f":"IF($E393=\"\",\"\",SUMIFS('CMS Downtime Detail'!$K$24:$K$500,'CMS Downtime Detail'!$B$24:$B$500,$B393,'CMS Downtime Detail'!$C$24:$C$500,$C393,'CMS Downtime Detail'!$D$24:$D$500,$D393,'CMS Downtime Detail'!$E$24:$E$500,\"Other Unknown Causes\"))","v":""}]
[null,{"$f":"IF(Lists!AQ372=\"\",\"\",Lists!AQ372)","v":""},{"$f":"IF(Lists!AR372=\"\",\"\",Lists!AR372)","v":""},{"$f":"IF(Lists!AS372=\"\",\"\",Lists!AS372)","v":""},{"$f":"IF(D394=\"\",\"\",VLOOKUP(B394&C394,Lists!$BA$2:$BD$78,4,FALSE))","v":""},"","",{"$f":"IF($E394=\"\",\"\",SUMIFS('CMS Downtime Detail'!$K$24:$K$500,'CMS Downtime Detail'!$B$24:$B$500,$B394,'CMS Downtime Detail'!$C$24:$C$500,$C394,'CMS Downtime Detail'!$D$24:$D$500,$D394,'CMS Downtime Detail'!$E$24:$E$500,\"Monitoring Equipment Malfunctions\"))","v":""},{"$f":"IF($E394=\"\",\"\",SUMIFS('CMS Downtime Detail'!$K$24:$K$500,'CMS Downtime Detail'!$B$24:$B$500,$B394,'CMS Downtime Detail'!$C$24:$C$500,$C394,'CMS Downtime Detail'!$D$24:$D$500,$D394,'CMS Downtime Detail'!$E$24:$E$500,\"Nonmonitoring Equipment Malfunctions\"))","v":""},{"$f":"IF($E394=\"\",\"\",SUMIFS('CMS Downtime Detail'!$K$24:$K$500,'CMS Downtime Detail'!$B$24:$B$500,$B394,'CMS Downtime Detail'!$C$24:$C$500,$C394,'CMS Downtime Detail'!$D$24:$D$500,$D394,'CMS Downtime Detail'!$E$24:$E$500,\"Quality Assurance/Quality Control Calibrations\"))","v":""},{"$f":"IF($E394=\"\",\"\",SUMIFS('CMS Downtime Detail'!$K$24:$K$500,'CMS Downtime Detail'!$B$24:$B$500,$B394,'CMS Downtime Detail'!$C$24:$C$500,$C394,'CMS Downtime Detail'!$D$24:$D$500,$D394,'CMS Downtime Detail'!$E$24:$E$500,\"Other Known Causes\"))","v":""},{"$f":"IF($E394=\"\",\"\",SUMIFS('CMS Downtime Detail'!$K$24:$K$500,'CMS Downtime Detail'!$B$24:$B$500,$B394,'CMS Downtime Detail'!$C$24:$C$500,$C394,'CMS Downtime Detail'!$D$24:$D$500,$D394,'CMS Downtime Detail'!$E$24:$E$500,\"Other Unknown Causes\"))","v":""}]
[null,{"$f":"IF(Lists!AQ373=\"\",\"\",Lists!AQ373)","v":""},{"$f":"IF(Lists!AR373=\"\",\"\",Lists!AR373)","v":""},{"$f":"IF(Lists!AS373=\"\",\"\",Lists!AS373)","v":""},{"$f":"IF(D395=\"\",\"\",VLOOKUP(B395&C395,Lists!$BA$2:$BD$78,4,FALSE))","v":""},"","",{"$f":"IF($E395=\"\",\"\",SUMIFS('CMS Downtime Detail'!$K$24:$K$500,'CMS Downtime Detail'!$B$24:$B$500,$B395,'CMS Downtime Detail'!$C$24:$C$500,$C395,'CMS Downtime Detail'!$D$24:$D$500,$D395,'CMS Downtime Detail'!$E$24:$E$500,\"Monitoring Equipment Malfunctions\"))","v":""},{"$f":"IF($E395=\"\",\"\",SUMIFS('CMS Downtime Detail'!$K$24:$K$500,'CMS Downtime Detail'!$B$24:$B$500,$B395,'CMS Downtime Detail'!$C$24:$C$500,$C395,'CMS Downtime Detail'!$D$24:$D$500,$D395,'CMS Downtime Detail'!$E$24:$E$500,\"Nonmonitoring Equipment Malfunctions\"))","v":""},{"$f":"IF($E395=\"\",\"\",SUMIFS('CMS Downtime Detail'!$K$24:$K$500,'CMS Downtime Detail'!$B$24:$B$500,$B395,'CMS Downtime Detail'!$C$24:$C$500,$C395,'CMS Downtime Detail'!$D$24:$D$500,$D395,'CMS Downtime Detail'!$E$24:$E$500,\"Quality Assurance/Quality Control Calibrations\"))","v":""},{"$f":"IF($E395=\"\",\"\",SUMIFS('CMS Downtime Detail'!$K$24:$K$500,'CMS Downtime Detail'!$B$24:$B$500,$B395,'CMS Downtime Detail'!$C$24:$C$500,$C395,'CMS Downtime Detail'!$D$24:$D$500,$D395,'CMS Downtime Detail'!$E$24:$E$500,\"Other Known Causes\"))","v":""},{"$f":"IF($E395=\"\",\"\",SUMIFS('CMS Downtime Detail'!$K$24:$K$500,'CMS Downtime Detail'!$B$24:$B$500,$B395,'CMS Downtime Detail'!$C$24:$C$500,$C395,'CMS Downtime Detail'!$D$24:$D$500,$D395,'CMS Downtime Detail'!$E$24:$E$500,\"Other Unknown Causes\"))","v":""}]
[null,{"$f":"IF(Lists!AQ374=\"\",\"\",Lists!AQ374)","v":""},{"$f":"IF(Lists!AR374=\"\",\"\",Lists!AR374)","v":""},{"$f":"IF(Lists!AS374=\"\",\"\",Lists!AS374)","v":""},{"$f":"IF(D396=\"\",\"\",VLOOKUP(B396&C396,Lists!$BA$2:$BD$78,4,FALSE))","v":""},"","",{"$f":"IF($E396=\"\",\"\",SUMIFS('CMS Downtime Detail'!$K$24:$K$500,'CMS Downtime Detail'!$B$24:$B$500,$B396,'CMS Downtime Detail'!$C$24:$C$500,$C396,'CMS Downtime Detail'!$D$24:$D$500,$D396,'CMS Downtime Detail'!$E$24:$E$500,\"Monitoring Equipment Malfunctions\"))","v":""},{"$f":"IF($E396=\"\",\"\",SUMIFS('CMS Downtime Detail'!$K$24:$K$500,'CMS Downtime Detail'!$B$24:$B$500,$B396,'CMS Downtime Detail'!$C$24:$C$500,$C396,'CMS Downtime Detail'!$D$24:$D$500,$D396,'CMS Downtime Detail'!$E$24:$E$500,\"Nonmonitoring Equipment Malfunctions\"))","v":""},{"$f":"IF($E396=\"\",\"\",SUMIFS('CMS Downtime Detail'!$K$24:$K$500,'CMS Downtime Detail'!$B$24:$B$500,$B396,'CMS Downtime Detail'!$C$24:$C$500,$C396,'CMS Downtime Detail'!$D$24:$D$500,$D396,'CMS Downtime Detail'!$E$24:$E$500,\"Quality Assurance/Quality Control Calibrations\"))","v":""},{"$f":"IF($E396=\"\",\"\",SUMIFS('CMS Downtime Detail'!$K$24:$K$500,'CMS Downtime Detail'!$B$24:$B$500,$B396,'CMS Downtime Detail'!$C$24:$C$500,$C396,'CMS Downtime Detail'!$D$24:$D$500,$D396,'CMS Downtime Detail'!$E$24:$E$500,\"Other Known Causes\"))","v":""},{"$f":"IF($E396=\"\",\"\",SUMIFS('CMS Downtime Detail'!$K$24:$K$500,'CMS Downtime Detail'!$B$24:$B$500,$B396,'CMS Downtime Detail'!$C$24:$C$500,$C396,'CMS Downtime Detail'!$D$24:$D$500,$D396,'CMS Downtime Detail'!$E$24:$E$500,\"Other Unknown Causes\"))","v":""}]
[null,{"$f":"IF(Lists!AQ375=\"\",\"\",Lists!AQ375)","v":""},{"$f":"IF(Lists!AR375=\"\",\"\",Lists!AR375)","v":""},{"$f":"IF(Lists!AS375=\"\",\"\",Lists!AS375)","v":""},{"$f":"IF(D397=\"\",\"\",VLOOKUP(B397&C397,Lists!$BA$2:$BD$78,4,FALSE))","v":""},"","",{"$f":"IF($E397=\"\",\"\",SUMIFS('CMS Downtime Detail'!$K$24:$K$500,'CMS Downtime Detail'!$B$24:$B$500,$B397,'CMS Downtime Detail'!$C$24:$C$500,$C397,'CMS Downtime Detail'!$D$24:$D$500,$D397,'CMS Downtime Detail'!$E$24:$E$500,\"Monitoring Equipment Malfunctions\"))","v":""},{"$f":"IF($E397=\"\",\"\",SUMIFS('CMS Downtime Detail'!$K$24:$K$500,'CMS Downtime Detail'!$B$24:$B$500,$B397,'CMS Downtime Detail'!$C$24:$C$500,$C397,'CMS Downtime Detail'!$D$24:$D$500,$D397,'CMS Downtime Detail'!$E$24:$E$500,\"Nonmonitoring Equipment Malfunctions\"))","v":""},{"$f":"IF($E397=\"\",\"\",SUMIFS('CMS Downtime Detail'!$K$24:$K$500,'CMS Downtime Detail'!$B$24:$B$500,$B397,'CMS Downtime Detail'!$C$24:$C$500,$C397,'CMS Downtime Detail'!$D$24:$D$500,$D397,'CMS Downtime Detail'!$E$24:$E$500,\"Quality Assurance/Quality Control Calibrations\"))","v":""},{"$f":"IF($E397=\"\",\"\",SUMIFS('CMS Downtime Detail'!$K$24:$K$500,'CMS Downtime Detail'!$B$24:$B$500,$B397,'CMS Downtime Detail'!$C$24:$C$500,$C397,'CMS Downtime Detail'!$D$24:$D$500,$D397,'CMS Downtime Detail'!$E$24:$E$500,\"Other Known Causes\"))","v":""},{"$f":"IF($E397=\"\",\"\",SUMIFS('CMS Downtime Detail'!$K$24:$K$500,'CMS Downtime Detail'!$B$24:$B$500,$B397,'CMS Downtime Detail'!$C$24:$C$500,$C397,'CMS Downtime Detail'!$D$24:$D$500,$D397,'CMS Downtime Detail'!$E$24:$E$500,\"Other Unknown Causes\"))","v":""}]
[null,{"$f":"IF(Lists!AQ376=\"\",\"\",Lists!AQ376)","v":""},{"$f":"IF(Lists!AR376=\"\",\"\",Lists!AR376)","v":""},{"$f":"IF(Lists!AS376=\"\",\"\",Lists!AS376)","v":""},{"$f":"IF(D398=\"\",\"\",VLOOKUP(B398&C398,Lists!$BA$2:$BD$78,4,FALSE))","v":""},"","",{"$f":"IF($E398=\"\",\"\",SUMIFS('CMS Downtime Detail'!$K$24:$K$500,'CMS Downtime Detail'!$B$24:$B$500,$B398,'CMS Downtime Detail'!$C$24:$C$500,$C398,'CMS Downtime Detail'!$D$24:$D$500,$D398,'CMS Downtime Detail'!$E$24:$E$500,\"Monitoring Equipment Malfunctions\"))","v":""},{"$f":"IF($E398=\"\",\"\",SUMIFS('CMS Downtime Detail'!$K$24:$K$500,'CMS Downtime Detail'!$B$24:$B$500,$B398,'CMS Downtime Detail'!$C$24:$C$500,$C398,'CMS Downtime Detail'!$D$24:$D$500,$D398,'CMS Downtime Detail'!$E$24:$E$500,\"Nonmonitoring Equipment Malfunctions\"))","v":""},{"$f":"IF($E398=\"\",\"\",SUMIFS('CMS Downtime Detail'!$K$24:$K$500,'CMS Downtime Detail'!$B$24:$B$500,$B398,'CMS Downtime Detail'!$C$24:$C$500,$C398,'CMS Downtime Detail'!$D$24:$D$500,$D398,'CMS Downtime Detail'!$E$24:$E$500,\"Quality Assurance/Quality Control Calibrations\"))","v":""},{"$f":"IF($E398=\"\",\"\",SUMIFS('CMS Downtime Detail'!$K$24:$K$500,'CMS Downtime Detail'!$B$24:$B$500,$B398,'CMS Downtime Detail'!$C$24:$C$500,$C398,'CMS Downtime Detail'!$D$24:$D$500,$D398,'CMS Downtime Detail'!$E$24:$E$500,\"Other Known Causes\"))","v":""},{"$f":"IF($E398=\"\",\"\",SUMIFS('CMS Downtime Detail'!$K$24:$K$500,'CMS Downtime Detail'!$B$24:$B$500,$B398,'CMS Downtime Detail'!$C$24:$C$500,$C398,'CMS Downtime Detail'!$D$24:$D$500,$D398,'CMS Downtime Detail'!$E$24:$E$500,\"Other Unknown Causes\"))","v":""}]
[null,{"$f":"IF(Lists!AQ377=\"\",\"\",Lists!AQ377)","v":""},{"$f":"IF(Lists!AR377=\"\",\"\",Lists!AR377)","v":""},{"$f":"IF(Lists!AS377=\"\",\"\",Lists!AS377)","v":""},{"$f":"IF(D399=\"\",\"\",VLOOKUP(B399&C399,Lists!$BA$2:$BD$78,4,FALSE))","v":""},"","",{"$f":"IF($E399=\"\",\"\",SUMIFS('CMS Downtime Detail'!$K$24:$K$500,'CMS Downtime Detail'!$B$24:$B$500,$B399,'CMS Downtime Detail'!$C$24:$C$500,$C399,'CMS Downtime Detail'!$D$24:$D$500,$D399,'CMS Downtime Detail'!$E$24:$E$500,\"Monitoring Equipment Malfunctions\"))","v":""},{"$f":"IF($E399=\"\",\"\",SUMIFS('CMS Downtime Detail'!$K$24:$K$500,'CMS Downtime Detail'!$B$24:$B$500,$B399,'CMS Downtime Detail'!$C$24:$C$500,$C399,'CMS Downtime Detail'!$D$24:$D$500,$D399,'CMS Downtime Detail'!$E$24:$E$500,\"Nonmonitoring Equipment Malfunctions\"))","v":""},{"$f":"IF($E399=\"\",\"\",SUMIFS('CMS Downtime Detail'!$K$24:$K$500,'CMS Downtime Detail'!$B$24:$B$500,$B399,'CMS Downtime Detail'!$C$24:$C$500,$C399,'CMS Downtime Detail'!$D$24:$D$500,$D399,'CMS Downtime Detail'!$E$24:$E$500,\"Quality Assurance/Quality Control Calibrations\"))","v":""},{"$f":"IF($E399=\"\",\"\",SUMIFS('CMS Downtime Detail'!$K$24:$K$500,'CMS Downtime Detail'!$B$24:$B$500,$B399,'CMS Downtime Detail'!$C$24:$C$500,$C399,'CMS Downtime Detail'!$D$24:$D$500,$D399,'CMS Downtime Detail'!$E$24:$E$500,\"Other Known Causes\"))","v":""},{"$f":"IF($E399=\"\",\"\",SUMIFS('CMS Downtime Detail'!$K$24:$K$500,'CMS Downtime Detail'!$B$24:$B$500,$B399,'CMS Downtime Detail'!$C$24:$C$500,$C399,'CMS Downtime Detail'!$D$24:$D$500,$D399,'CMS Downtime Detail'!$E$24:$E$500,\"Other Unknown Causes\"))","v":""}]
[null,{"$f":"IF(Lists!AQ378=\"\",\"\",Lists!AQ378)","v":""},{"$f":"IF(Lists!AR378=\"\",\"\",Lists!AR378)","v":""},{"$f":"IF(Lists!AS378=\"\",\"\",Lists!AS378)","v":""},{"$f":"IF(D400=\"\",\"\",VLOOKUP(B400&C400,Lists!$BA$2:$BD$78,4,FALSE))","v":""},"","",{"$f":"IF($E400=\"\",\"\",SUMIFS('CMS Downtime Detail'!$K$24:$K$500,'CMS Downtime Detail'!$B$24:$B$500,$B400,'CMS Downtime Detail'!$C$24:$C$500,$C400,'CMS Downtime Detail'!$D$24:$D$500,$D400,'CMS Downtime Detail'!$E$24:$E$500,\"Monitoring Equipment Malfunctions\"))","v":""},{"$f":"IF($E400=\"\",\"\",SUMIFS('CMS Downtime Detail'!$K$24:$K$500,'CMS Downtime Detail'!$B$24:$B$500,$B400,'CMS Downtime Detail'!$C$24:$C$500,$C400,'CMS Downtime Detail'!$D$24:$D$500,$D400,'CMS Downtime Detail'!$E$24:$E$500,\"Nonmonitoring Equipment Malfunctions\"))","v":""},{"$f":"IF($E400=\"\",\"\",SUMIFS('CMS Downtime Detail'!$K$24:$K$500,'CMS Downtime Detail'!$B$24:$B$500,$B400,'CMS Downtime Detail'!$C$24:$C$500,$C400,'CMS Downtime Detail'!$D$24:$D$500,$D400,'CMS Downtime Detail'!$E$24:$E$500,\"Quality Assurance/Quality Control Calibrations\"))","v":""},{"$f":"IF($E400=\"\",\"\",SUMIFS('CMS Downtime Detail'!$K$24:$K$500,'CMS Downtime Detail'!$B$24:$B$500,$B400,'CMS Downtime Detail'!$C$24:$C$500,$C400,'CMS Downtime Detail'!$D$24:$D$500,$D400,'CMS Downtime Detail'!$E$24:$E$500,\"Other Known Causes\"))","v":""},{"$f":"IF($E400=\"\",\"\",SUMIFS('CMS Downtime Detail'!$K$24:$K$500,'CMS Downtime Detail'!$B$24:$B$500,$B400,'CMS Downtime Detail'!$C$24:$C$500,$C400,'CMS Downtime Detail'!$D$24:$D$500,$D400,'CMS Downtime Detail'!$E$24:$E$500,\"Other Unknown Causes\"))","v":""}]
[null,{"$f":"IF(Lists!AQ379=\"\",\"\",Lists!AQ379)","v":""},{"$f":"IF(Lists!AR379=\"\",\"\",Lists!AR379)","v":""},{"$f":"IF(Lists!AS379=\"\",\"\",Lists!AS379)","v":""},{"$f":"IF(D401=\"\",\"\",VLOOKUP(B401&C401,Lists!$BA$2:$BD$78,4,FALSE))","v":""},"","",{"$f":"IF($E401=\"\",\"\",SUMIFS('CMS Downtime Detail'!$K$24:$K$500,'CMS Downtime Detail'!$B$24:$B$500,$B401,'CMS Downtime Detail'!$C$24:$C$500,$C401,'CMS Downtime Detail'!$D$24:$D$500,$D401,'CMS Downtime Detail'!$E$24:$E$500,\"Monitoring Equipment Malfunctions\"))","v":""},{"$f":"IF($E401=\"\",\"\",SUMIFS('CMS Downtime Detail'!$K$24:$K$500,'CMS Downtime Detail'!$B$24:$B$500,$B401,'CMS Downtime Detail'!$C$24:$C$500,$C401,'CMS Downtime Detail'!$D$24:$D$500,$D401,'CMS Downtime Detail'!$E$24:$E$500,\"Nonmonitoring Equipment Malfunctions\"))","v":""},{"$f":"IF($E401=\"\",\"\",SUMIFS('CMS Downtime Detail'!$K$24:$K$500,'CMS Downtime Detail'!$B$24:$B$500,$B401,'CMS Downtime Detail'!$C$24:$C$500,$C401,'CMS Downtime Detail'!$D$24:$D$500,$D401,'CMS Downtime Detail'!$E$24:$E$500,\"Quality Assurance/Quality Control Calibrations\"))","v":""},{"$f":"IF($E401=\"\",\"\",SUMIFS('CMS Downtime Detail'!$K$24:$K$500,'CMS Downtime Detail'!$B$24:$B$500,$B401,'CMS Downtime Detail'!$C$24:$C$500,$C401,'CMS Downtime Detail'!$D$24:$D$500,$D401,'CMS Downtime Detail'!$E$24:$E$500,\"Other Known Causes\"))","v":""},{"$f":"IF($E401=\"\",\"\",SUMIFS('CMS Downtime Detail'!$K$24:$K$500,'CMS Downtime Detail'!$B$24:$B$500,$B401,'CMS Downtime Detail'!$C$24:$C$500,$C401,'CMS Downtime Detail'!$D$24:$D$500,$D401,'CMS Downtime Detail'!$E$24:$E$500,\"Other Unknown Causes\"))","v":""}]
[null,{"$f":"IF(Lists!AQ380=\"\",\"\",Lists!AQ380)","v":""},{"$f":"IF(Lists!AR380=\"\",\"\",Lists!AR380)","v":""},{"$f":"IF(Lists!AS380=\"\",\"\",Lists!AS380)","v":""},{"$f":"IF(D402=\"\",\"\",VLOOKUP(B402&C402,Lists!$BA$2:$BD$78,4,FALSE))","v":""},"","",{"$f":"IF($E402=\"\",\"\",SUMIFS('CMS Downtime Detail'!$K$24:$K$500,'CMS Downtime Detail'!$B$24:$B$500,$B402,'CMS Downtime Detail'!$C$24:$C$500,$C402,'CMS Downtime Detail'!$D$24:$D$500,$D402,'CMS Downtime Detail'!$E$24:$E$500,\"Monitoring Equipment Malfunctions\"))","v":""},{"$f":"IF($E402=\"\",\"\",SUMIFS('CMS Downtime Detail'!$K$24:$K$500,'CMS Downtime Detail'!$B$24:$B$500,$B402,'CMS Downtime Detail'!$C$24:$C$500,$C402,'CMS Downtime Detail'!$D$24:$D$500,$D402,'CMS Downtime Detail'!$E$24:$E$500,\"Nonmonitoring Equipment Malfunctions\"))","v":""},{"$f":"IF($E402=\"\",\"\",SUMIFS('CMS Downtime Detail'!$K$24:$K$500,'CMS Downtime Detail'!$B$24:$B$500,$B402,'CMS Downtime Detail'!$C$24:$C$500,$C402,'CMS Downtime Detail'!$D$24:$D$500,$D402,'CMS Downtime Detail'!$E$24:$E$500,\"Quality Assurance/Quality Control Calibrations\"))","v":""},{"$f":"IF($E402=\"\",\"\",SUMIFS('CMS Downtime Detail'!$K$24:$K$500,'CMS Downtime Detail'!$B$24:$B$500,$B402,'CMS Downtime Detail'!$C$24:$C$500,$C402,'CMS Downtime Detail'!$D$24:$D$500,$D402,'CMS Downtime Detail'!$E$24:$E$500,\"Other Known Causes\"))","v":""},{"$f":"IF($E402=\"\",\"\",SUMIFS('CMS Downtime Detail'!$K$24:$K$500,'CMS Downtime Detail'!$B$24:$B$500,$B402,'CMS Downtime Detail'!$C$24:$C$500,$C402,'CMS Downtime Detail'!$D$24:$D$500,$D402,'CMS Downtime Detail'!$E$24:$E$500,\"Other Unknown Causes\"))","v":""}]
[null,{"$f":"IF(Lists!AQ381=\"\",\"\",Lists!AQ381)","v":""},{"$f":"IF(Lists!AR381=\"\",\"\",Lists!AR381)","v":""},{"$f":"IF(Lists!AS381=\"\",\"\",Lists!AS381)","v":""},{"$f":"IF(D403=\"\",\"\",VLOOKUP(B403&C403,Lists!$BA$2:$BD$78,4,FALSE))","v":""},"","",{"$f":"IF($E403=\"\",\"\",SUMIFS('CMS Downtime Detail'!$K$24:$K$500,'CMS Downtime Detail'!$B$24:$B$500,$B403,'CMS Downtime Detail'!$C$24:$C$500,$C403,'CMS Downtime Detail'!$D$24:$D$500,$D403,'CMS Downtime Detail'!$E$24:$E$500,\"Monitoring Equipment Malfunctions\"))","v":""},{"$f":"IF($E403=\"\",\"\",SUMIFS('CMS Downtime Detail'!$K$24:$K$500,'CMS Downtime Detail'!$B$24:$B$500,$B403,'CMS Downtime Detail'!$C$24:$C$500,$C403,'CMS Downtime Detail'!$D$24:$D$500,$D403,'CMS Downtime Detail'!$E$24:$E$500,\"Nonmonitoring Equipment Malfunctions\"))","v":""},{"$f":"IF($E403=\"\",\"\",SUMIFS('CMS Downtime Detail'!$K$24:$K$500,'CMS Downtime Detail'!$B$24:$B$500,$B403,'CMS Downtime Detail'!$C$24:$C$500,$C403,'CMS Downtime Detail'!$D$24:$D$500,$D403,'CMS Downtime Detail'!$E$24:$E$500,\"Quality Assurance/Quality Control Calibrations\"))","v":""},{"$f":"IF($E403=\"\",\"\",SUMIFS('CMS Downtime Detail'!$K$24:$K$500,'CMS Downtime Detail'!$B$24:$B$500,$B403,'CMS Downtime Detail'!$C$24:$C$500,$C403,'CMS Downtime Detail'!$D$24:$D$500,$D403,'CMS Downtime Detail'!$E$24:$E$500,\"Other Known Causes\"))","v":""},{"$f":"IF($E403=\"\",\"\",SUMIFS('CMS Downtime Detail'!$K$24:$K$500,'CMS Downtime Detail'!$B$24:$B$500,$B403,'CMS Downtime Detail'!$C$24:$C$500,$C403,'CMS Downtime Detail'!$D$24:$D$500,$D403,'CMS Downtime Detail'!$E$24:$E$500,\"Other Unknown Causes\"))","v":""}]
[null,{"$f":"IF(Lists!AQ382=\"\",\"\",Lists!AQ382)","v":""},{"$f":"IF(Lists!AR382=\"\",\"\",Lists!AR382)","v":""},{"$f":"IF(Lists!AS382=\"\",\"\",Lists!AS382)","v":""},{"$f":"IF(D404=\"\",\"\",VLOOKUP(B404&C404,Lists!$BA$2:$BD$78,4,FALSE))","v":""},"","",{"$f":"IF($E404=\"\",\"\",SUMIFS('CMS Downtime Detail'!$K$24:$K$500,'CMS Downtime Detail'!$B$24:$B$500,$B404,'CMS Downtime Detail'!$C$24:$C$500,$C404,'CMS Downtime Detail'!$D$24:$D$500,$D404,'CMS Downtime Detail'!$E$24:$E$500,\"Monitoring Equipment Malfunctions\"))","v":""},{"$f":"IF($E404=\"\",\"\",SUMIFS('CMS Downtime Detail'!$K$24:$K$500,'CMS Downtime Detail'!$B$24:$B$500,$B404,'CMS Downtime Detail'!$C$24:$C$500,$C404,'CMS Downtime Detail'!$D$24:$D$500,$D404,'CMS Downtime Detail'!$E$24:$E$500,\"Nonmonitoring Equipment Malfunctions\"))","v":""},{"$f":"IF($E404=\"\",\"\",SUMIFS('CMS Downtime Detail'!$K$24:$K$500,'CMS Downtime Detail'!$B$24:$B$500,$B404,'CMS Downtime Detail'!$C$24:$C$500,$C404,'CMS Downtime Detail'!$D$24:$D$500,$D404,'CMS Downtime Detail'!$E$24:$E$500,\"Quality Assurance/Quality Control Calibrations\"))","v":""},{"$f":"IF($E404=\"\",\"\",SUMIFS('CMS Downtime Detail'!$K$24:$K$500,'CMS Downtime Detail'!$B$24:$B$500,$B404,'CMS Downtime Detail'!$C$24:$C$500,$C404,'CMS Downtime Detail'!$D$24:$D$500,$D404,'CMS Downtime Detail'!$E$24:$E$500,\"Other Known Causes\"))","v":""},{"$f":"IF($E404=\"\",\"\",SUMIFS('CMS Downtime Detail'!$K$24:$K$500,'CMS Downtime Detail'!$B$24:$B$500,$B404,'CMS Downtime Detail'!$C$24:$C$500,$C404,'CMS Downtime Detail'!$D$24:$D$500,$D404,'CMS Downtime Detail'!$E$24:$E$500,\"Other Unknown Causes\"))","v":""}]
[null,{"$f":"IF(Lists!AQ383=\"\",\"\",Lists!AQ383)","v":""},{"$f":"IF(Lists!AR383=\"\",\"\",Lists!AR383)","v":""},{"$f":"IF(Lists!AS383=\"\",\"\",Lists!AS383)","v":""},{"$f":"IF(D405=\"\",\"\",VLOOKUP(B405&C405,Lists!$BA$2:$BD$78,4,FALSE))","v":""},"","",{"$f":"IF($E405=\"\",\"\",SUMIFS('CMS Downtime Detail'!$K$24:$K$500,'CMS Downtime Detail'!$B$24:$B$500,$B405,'CMS Downtime Detail'!$C$24:$C$500,$C405,'CMS Downtime Detail'!$D$24:$D$500,$D405,'CMS Downtime Detail'!$E$24:$E$500,\"Monitoring Equipment Malfunctions\"))","v":""},{"$f":"IF($E405=\"\",\"\",SUMIFS('CMS Downtime Detail'!$K$24:$K$500,'CMS Downtime Detail'!$B$24:$B$500,$B405,'CMS Downtime Detail'!$C$24:$C$500,$C405,'CMS Downtime Detail'!$D$24:$D$500,$D405,'CMS Downtime Detail'!$E$24:$E$500,\"Nonmonitoring Equipment Malfunctions\"))","v":""},{"$f":"IF($E405=\"\",\"\",SUMIFS('CMS Downtime Detail'!$K$24:$K$500,'CMS Downtime Detail'!$B$24:$B$500,$B405,'CMS Downtime Detail'!$C$24:$C$500,$C405,'CMS Downtime Detail'!$D$24:$D$500,$D405,'CMS Downtime Detail'!$E$24:$E$500,\"Quality Assurance/Quality Control Calibrations\"))","v":""},{"$f":"IF($E405=\"\",\"\",SUMIFS('CMS Downtime Detail'!$K$24:$K$500,'CMS Downtime Detail'!$B$24:$B$500,$B405,'CMS Downtime Detail'!$C$24:$C$500,$C405,'CMS Downtime Detail'!$D$24:$D$500,$D405,'CMS Downtime Detail'!$E$24:$E$500,\"Other Known Causes\"))","v":""},{"$f":"IF($E405=\"\",\"\",SUMIFS('CMS Downtime Detail'!$K$24:$K$500,'CMS Downtime Detail'!$B$24:$B$500,$B405,'CMS Downtime Detail'!$C$24:$C$500,$C405,'CMS Downtime Detail'!$D$24:$D$500,$D405,'CMS Downtime Detail'!$E$24:$E$500,\"Other Unknown Causes\"))","v":""}]
[null,{"$f":"IF(Lists!AQ384=\"\",\"\",Lists!AQ384)","v":""},{"$f":"IF(Lists!AR384=\"\",\"\",Lists!AR384)","v":""},{"$f":"IF(Lists!AS384=\"\",\"\",Lists!AS384)","v":""},{"$f":"IF(D406=\"\",\"\",VLOOKUP(B406&C406,Lists!$BA$2:$BD$78,4,FALSE))","v":""},"","",{"$f":"IF($E406=\"\",\"\",SUMIFS('CMS Downtime Detail'!$K$24:$K$500,'CMS Downtime Detail'!$B$24:$B$500,$B406,'CMS Downtime Detail'!$C$24:$C$500,$C406,'CMS Downtime Detail'!$D$24:$D$500,$D406,'CMS Downtime Detail'!$E$24:$E$500,\"Monitoring Equipment Malfunctions\"))","v":""},{"$f":"IF($E406=\"\",\"\",SUMIFS('CMS Downtime Detail'!$K$24:$K$500,'CMS Downtime Detail'!$B$24:$B$500,$B406,'CMS Downtime Detail'!$C$24:$C$500,$C406,'CMS Downtime Detail'!$D$24:$D$500,$D406,'CMS Downtime Detail'!$E$24:$E$500,\"Nonmonitoring Equipment Malfunctions\"))","v":""},{"$f":"IF($E406=\"\",\"\",SUMIFS('CMS Downtime Detail'!$K$24:$K$500,'CMS Downtime Detail'!$B$24:$B$500,$B406,'CMS Downtime Detail'!$C$24:$C$500,$C406,'CMS Downtime Detail'!$D$24:$D$500,$D406,'CMS Downtime Detail'!$E$24:$E$500,\"Quality Assurance/Quality Control Calibrations\"))","v":""},{"$f":"IF($E406=\"\",\"\",SUMIFS('CMS Downtime Detail'!$K$24:$K$500,'CMS Downtime Detail'!$B$24:$B$500,$B406,'CMS Downtime Detail'!$C$24:$C$500,$C406,'CMS Downtime Detail'!$D$24:$D$500,$D406,'CMS Downtime Detail'!$E$24:$E$500,\"Other Known Causes\"))","v":""},{"$f":"IF($E406=\"\",\"\",SUMIFS('CMS Downtime Detail'!$K$24:$K$500,'CMS Downtime Detail'!$B$24:$B$500,$B406,'CMS Downtime Detail'!$C$24:$C$500,$C406,'CMS Downtime Detail'!$D$24:$D$500,$D406,'CMS Downtime Detail'!$E$24:$E$500,\"Other Unknown Causes\"))","v":""}]
[null,{"$f":"IF(Lists!AQ385=\"\",\"\",Lists!AQ385)","v":""},{"$f":"IF(Lists!AR385=\"\",\"\",Lists!AR385)","v":""},{"$f":"IF(Lists!AS385=\"\",\"\",Lists!AS385)","v":""},{"$f":"IF(D407=\"\",\"\",VLOOKUP(B407&C407,Lists!$BA$2:$BD$78,4,FALSE))","v":""},"","",{"$f":"IF($E407=\"\",\"\",SUMIFS('CMS Downtime Detail'!$K$24:$K$500,'CMS Downtime Detail'!$B$24:$B$500,$B407,'CMS Downtime Detail'!$C$24:$C$500,$C407,'CMS Downtime Detail'!$D$24:$D$500,$D407,'CMS Downtime Detail'!$E$24:$E$500,\"Monitoring Equipment Malfunctions\"))","v":""},{"$f":"IF($E407=\"\",\"\",SUMIFS('CMS Downtime Detail'!$K$24:$K$500,'CMS Downtime Detail'!$B$24:$B$500,$B407,'CMS Downtime Detail'!$C$24:$C$500,$C407,'CMS Downtime Detail'!$D$24:$D$500,$D407,'CMS Downtime Detail'!$E$24:$E$500,\"Nonmonitoring Equipment Malfunctions\"))","v":""},{"$f":"IF($E407=\"\",\"\",SUMIFS('CMS Downtime Detail'!$K$24:$K$500,'CMS Downtime Detail'!$B$24:$B$500,$B407,'CMS Downtime Detail'!$C$24:$C$500,$C407,'CMS Downtime Detail'!$D$24:$D$500,$D407,'CMS Downtime Detail'!$E$24:$E$500,\"Quality Assurance/Quality Control Calibrations\"))","v":""},{"$f":"IF($E407=\"\",\"\",SUMIFS('CMS Downtime Detail'!$K$24:$K$500,'CMS Downtime Detail'!$B$24:$B$500,$B407,'CMS Downtime Detail'!$C$24:$C$500,$C407,'CMS Downtime Detail'!$D$24:$D$500,$D407,'CMS Downtime Detail'!$E$24:$E$500,\"Other Known Causes\"))","v":""},{"$f":"IF($E407=\"\",\"\",SUMIFS('CMS Downtime Detail'!$K$24:$K$500,'CMS Downtime Detail'!$B$24:$B$500,$B407,'CMS Downtime Detail'!$C$24:$C$500,$C407,'CMS Downtime Detail'!$D$24:$D$500,$D407,'CMS Downtime Detail'!$E$24:$E$500,\"Other Unknown Causes\"))","v":""}]
[null,{"$f":"IF(Lists!AQ386=\"\",\"\",Lists!AQ386)","v":""},{"$f":"IF(Lists!AR386=\"\",\"\",Lists!AR386)","v":""},{"$f":"IF(Lists!AS386=\"\",\"\",Lists!AS386)","v":""},{"$f":"IF(D408=\"\",\"\",VLOOKUP(B408&C408,Lists!$BA$2:$BD$78,4,FALSE))","v":""},"","",{"$f":"IF($E408=\"\",\"\",SUMIFS('CMS Downtime Detail'!$K$24:$K$500,'CMS Downtime Detail'!$B$24:$B$500,$B408,'CMS Downtime Detail'!$C$24:$C$500,$C408,'CMS Downtime Detail'!$D$24:$D$500,$D408,'CMS Downtime Detail'!$E$24:$E$500,\"Monitoring Equipment Malfunctions\"))","v":""},{"$f":"IF($E408=\"\",\"\",SUMIFS('CMS Downtime Detail'!$K$24:$K$500,'CMS Downtime Detail'!$B$24:$B$500,$B408,'CMS Downtime Detail'!$C$24:$C$500,$C408,'CMS Downtime Detail'!$D$24:$D$500,$D408,'CMS Downtime Detail'!$E$24:$E$500,\"Nonmonitoring Equipment Malfunctions\"))","v":""},{"$f":"IF($E408=\"\",\"\",SUMIFS('CMS Downtime Detail'!$K$24:$K$500,'CMS Downtime Detail'!$B$24:$B$500,$B408,'CMS Downtime Detail'!$C$24:$C$500,$C408,'CMS Downtime Detail'!$D$24:$D$500,$D408,'CMS Downtime Detail'!$E$24:$E$500,\"Quality Assurance/Quality Control Calibrations\"))","v":""},{"$f":"IF($E408=\"\",\"\",SUMIFS('CMS Downtime Detail'!$K$24:$K$500,'CMS Downtime Detail'!$B$24:$B$500,$B408,'CMS Downtime Detail'!$C$24:$C$500,$C408,'CMS Downtime Detail'!$D$24:$D$500,$D408,'CMS Downtime Detail'!$E$24:$E$500,\"Other Known Causes\"))","v":""},{"$f":"IF($E408=\"\",\"\",SUMIFS('CMS Downtime Detail'!$K$24:$K$500,'CMS Downtime Detail'!$B$24:$B$500,$B408,'CMS Downtime Detail'!$C$24:$C$500,$C408,'CMS Downtime Detail'!$D$24:$D$500,$D408,'CMS Downtime Detail'!$E$24:$E$500,\"Other Unknown Causes\"))","v":""}]
[null,{"$f":"IF(Lists!AQ387=\"\",\"\",Lists!AQ387)","v":""},{"$f":"IF(Lists!AR387=\"\",\"\",Lists!AR387)","v":""},{"$f":"IF(Lists!AS387=\"\",\"\",Lists!AS387)","v":""},{"$f":"IF(D409=\"\",\"\",VLOOKUP(B409&C409,Lists!$BA$2:$BD$78,4,FALSE))","v":""},{"$f":"IF(E409=\"\",\"\",SUM(H409:L409))","v":""},{"$f":"IF(F409=\"\",\"\",F409/E409)","v":""},{"$f":"IF($E409=\"\",\"\",SUMIFS('CMS Downtime Detail'!$K$24:$K$500,'CMS Downtime Detail'!$B$24:$B$500,$B409,'CMS Downtime Detail'!$C$24:$C$500,$C409,'CMS Downtime Detail'!$D$24:$D$500,$D409,'CMS Downtime Detail'!$E$24:$E$500,\"Monitoring Equipment Malfunctions\"))","v":""},{"$f":"IF($E409=\"\",\"\",SUMIFS('CMS Downtime Detail'!$K$24:$K$500,'CMS Downtime Detail'!$B$24:$B$500,$B409,'CMS Downtime Detail'!$C$24:$C$500,$C409,'CMS Downtime Detail'!$D$24:$D$500,$D409,'CMS Downtime Detail'!$E$24:$E$500,\"Nonmonitoring Equipment Malfunctions\"))","v":""},{"$f":"IF($E409=\"\",\"\",SUMIFS('CMS Downtime Detail'!$K$24:$K$500,'CMS Downtime Detail'!$B$24:$B$500,$B409,'CMS Downtime Detail'!$C$24:$C$500,$C409,'CMS Downtime Detail'!$D$24:$D$500,$D409,'CMS Downtime Detail'!$E$24:$E$500,\"Quality Assurance/Quality Control Calibrations\"))","v":""},{"$f":"IF($E409=\"\",\"\",SUMIFS('CMS Downtime Detail'!$K$24:$K$500,'CMS Downtime Detail'!$B$24:$B$500,$B409,'CMS Downtime Detail'!$C$24:$C$500,$C409,'CMS Downtime Detail'!$D$24:$D$500,$D409,'CMS Downtime Detail'!$E$24:$E$500,\"Other Known Causes\"))","v":""},{"$f":"IF($E409=\"\",\"\",SUMIFS('CMS Downtime Detail'!$K$24:$K$500,'CMS Downtime Detail'!$B$24:$B$500,$B409,'CMS Downtime Detail'!$C$24:$C$500,$C409,'CMS Downtime Detail'!$D$24:$D$500,$D409,'CMS Downtime Detail'!$E$24:$E$500,\"Other Unknown Causes\"))","v":""}]
[null,{"$f":"IF(Lists!AQ388=\"\",\"\",Lists!AQ388)","v":""},{"$f":"IF(Lists!AR388=\"\",\"\",Lists!AR388)","v":""},{"$f":"IF(Lists!AS388=\"\",\"\",Lists!AS388)","v":""},{"$f":"IF(D410=\"\",\"\",VLOOKUP(B410&C410,Lists!$BA$2:$BD$78,4,FALSE))","v":""},"","",{"$f":"IF($E410=\"\",\"\",SUMIFS('CMS Downtime Detail'!$K$24:$K$500,'CMS Downtime Detail'!$B$24:$B$500,$B410,'CMS Downtime Detail'!$C$24:$C$500,$C410,'CMS Downtime Detail'!$D$24:$D$500,$D410,'CMS Downtime Detail'!$E$24:$E$500,\"Monitoring Equipment Malfunctions\"))","v":""},{"$f":"IF($E410=\"\",\"\",SUMIFS('CMS Downtime Detail'!$K$24:$K$500,'CMS Downtime Detail'!$B$24:$B$500,$B410,'CMS Downtime Detail'!$C$24:$C$500,$C410,'CMS Downtime Detail'!$D$24:$D$500,$D410,'CMS Downtime Detail'!$E$24:$E$500,\"Nonmonitoring Equipment Malfunctions\"))","v":""},{"$f":"IF($E410=\"\",\"\",SUMIFS('CMS Downtime Detail'!$K$24:$K$500,'CMS Downtime Detail'!$B$24:$B$500,$B410,'CMS Downtime Detail'!$C$24:$C$500,$C410,'CMS Downtime Detail'!$D$24:$D$500,$D410,'CMS Downtime Detail'!$E$24:$E$500,\"Quality Assurance/Quality Control Calibrations\"))","v":""},{"$f":"IF($E410=\"\",\"\",SUMIFS('CMS Downtime Detail'!$K$24:$K$500,'CMS Downtime Detail'!$B$24:$B$500,$B410,'CMS Downtime Detail'!$C$24:$C$500,$C410,'CMS Downtime Detail'!$D$24:$D$500,$D410,'CMS Downtime Detail'!$E$24:$E$500,\"Other Known Causes\"))","v":""},{"$f":"IF($E410=\"\",\"\",SUMIFS('CMS Downtime Detail'!$K$24:$K$500,'CMS Downtime Detail'!$B$24:$B$500,$B410,'CMS Downtime Detail'!$C$24:$C$500,$C410,'CMS Downtime Detail'!$D$24:$D$500,$D410,'CMS Downtime Detail'!$E$24:$E$500,\"Other Unknown Causes\"))","v":""}]
[null,{"$f":"IF(Lists!AQ389=\"\",\"\",Lists!AQ389)","v":""},{"$f":"IF(Lists!AR389=\"\",\"\",Lists!AR389)","v":""},{"$f":"IF(Lists!AS389=\"\",\"\",Lists!AS389)","v":""},{"$f":"IF(D411=\"\",\"\",VLOOKUP(B411&C411,Lists!$BA$2:$BD$78,4,FALSE))","v":""},"","",{"$f":"IF($E411=\"\",\"\",SUMIFS('CMS Downtime Detail'!$K$24:$K$500,'CMS Downtime Detail'!$B$24:$B$500,$B411,'CMS Downtime Detail'!$C$24:$C$500,$C411,'CMS Downtime Detail'!$D$24:$D$500,$D411,'CMS Downtime Detail'!$E$24:$E$500,\"Monitoring Equipment Malfunctions\"))","v":""},{"$f":"IF($E411=\"\",\"\",SUMIFS('CMS Downtime Detail'!$K$24:$K$500,'CMS Downtime Detail'!$B$24:$B$500,$B411,'CMS Downtime Detail'!$C$24:$C$500,$C411,'CMS Downtime Detail'!$D$24:$D$500,$D411,'CMS Downtime Detail'!$E$24:$E$500,\"Nonmonitoring Equipment Malfunctions\"))","v":""},{"$f":"IF($E411=\"\",\"\",SUMIFS('CMS Downtime Detail'!$K$24:$K$500,'CMS Downtime Detail'!$B$24:$B$500,$B411,'CMS Downtime Detail'!$C$24:$C$500,$C411,'CMS Downtime Detail'!$D$24:$D$500,$D411,'CMS Downtime Detail'!$E$24:$E$500,\"Quality Assurance/Quality Control Calibrations\"))","v":""},{"$f":"IF($E411=\"\",\"\",SUMIFS('CMS Downtime Detail'!$K$24:$K$500,'CMS Downtime Detail'!$B$24:$B$500,$B411,'CMS Downtime Detail'!$C$24:$C$500,$C411,'CMS Downtime Detail'!$D$24:$D$500,$D411,'CMS Downtime Detail'!$E$24:$E$500,\"Other Known Causes\"))","v":""},{"$f":"IF($E411=\"\",\"\",SUMIFS('CMS Downtime Detail'!$K$24:$K$500,'CMS Downtime Detail'!$B$24:$B$500,$B411,'CMS Downtime Detail'!$C$24:$C$500,$C411,'CMS Downtime Detail'!$D$24:$D$500,$D411,'CMS Downtime Detail'!$E$24:$E$500,\"Other Unknown Causes\"))","v":""}]
[null,{"$f":"IF(Lists!AQ390=\"\",\"\",Lists!AQ390)","v":""},{"$f":"IF(Lists!AR390=\"\",\"\",Lists!AR390)","v":""},{"$f":"IF(Lists!AS390=\"\",\"\",Lists!AS390)","v":""},{"$f":"IF(D412=\"\",\"\",VLOOKUP(B412&C412,Lists!$BA$2:$BD$78,4,FALSE))","v":""},"","",{"$f":"IF($E412=\"\",\"\",SUMIFS('CMS Downtime Detail'!$K$24:$K$500,'CMS Downtime Detail'!$B$24:$B$500,$B412,'CMS Downtime Detail'!$C$24:$C$500,$C412,'CMS Downtime Detail'!$D$24:$D$500,$D412,'CMS Downtime Detail'!$E$24:$E$500,\"Monitoring Equipment Malfunctions\"))","v":""},{"$f":"IF($E412=\"\",\"\",SUMIFS('CMS Downtime Detail'!$K$24:$K$500,'CMS Downtime Detail'!$B$24:$B$500,$B412,'CMS Downtime Detail'!$C$24:$C$500,$C412,'CMS Downtime Detail'!$D$24:$D$500,$D412,'CMS Downtime Detail'!$E$24:$E$500,\"Nonmonitoring Equipment Malfunctions\"))","v":""},{"$f":"IF($E412=\"\",\"\",SUMIFS('CMS Downtime Detail'!$K$24:$K$500,'CMS Downtime Detail'!$B$24:$B$500,$B412,'CMS Downtime Detail'!$C$24:$C$500,$C412,'CMS Downtime Detail'!$D$24:$D$500,$D412,'CMS Downtime Detail'!$E$24:$E$500,\"Quality Assurance/Quality Control Calibrations\"))","v":""},{"$f":"IF($E412=\"\",\"\",SUMIFS('CMS Downtime Detail'!$K$24:$K$500,'CMS Downtime Detail'!$B$24:$B$500,$B412,'CMS Downtime Detail'!$C$24:$C$500,$C412,'CMS Downtime Detail'!$D$24:$D$500,$D412,'CMS Downtime Detail'!$E$24:$E$500,\"Other Known Causes\"))","v":""},{"$f":"IF($E412=\"\",\"\",SUMIFS('CMS Downtime Detail'!$K$24:$K$500,'CMS Downtime Detail'!$B$24:$B$500,$B412,'CMS Downtime Detail'!$C$24:$C$500,$C412,'CMS Downtime Detail'!$D$24:$D$500,$D412,'CMS Downtime Detail'!$E$24:$E$500,\"Other Unknown Causes\"))","v":""}]
[null,{"$f":"IF(Lists!AQ391=\"\",\"\",Lists!AQ391)","v":""},{"$f":"IF(Lists!AR391=\"\",\"\",Lists!AR391)","v":""},{"$f":"IF(Lists!AS391=\"\",\"\",Lists!AS391)","v":""},{"$f":"IF(D413=\"\",\"\",VLOOKUP(B413&C413,Lists!$BA$2:$BD$78,4,FALSE))","v":""},"","",{"$f":"IF($E413=\"\",\"\",SUMIFS('CMS Downtime Detail'!$K$24:$K$500,'CMS Downtime Detail'!$B$24:$B$500,$B413,'CMS Downtime Detail'!$C$24:$C$500,$C413,'CMS Downtime Detail'!$D$24:$D$500,$D413,'CMS Downtime Detail'!$E$24:$E$500,\"Monitoring Equipment Malfunctions\"))","v":""},{"$f":"IF($E413=\"\",\"\",SUMIFS('CMS Downtime Detail'!$K$24:$K$500,'CMS Downtime Detail'!$B$24:$B$500,$B413,'CMS Downtime Detail'!$C$24:$C$500,$C413,'CMS Downtime Detail'!$D$24:$D$500,$D413,'CMS Downtime Detail'!$E$24:$E$500,\"Nonmonitoring Equipment Malfunctions\"))","v":""},{"$f":"IF($E413=\"\",\"\",SUMIFS('CMS Downtime Detail'!$K$24:$K$500,'CMS Downtime Detail'!$B$24:$B$500,$B413,'CMS Downtime Detail'!$C$24:$C$500,$C413,'CMS Downtime Detail'!$D$24:$D$500,$D413,'CMS Downtime Detail'!$E$24:$E$500,\"Quality Assurance/Quality Control Calibrations\"))","v":""},{"$f":"IF($E413=\"\",\"\",SUMIFS('CMS Downtime Detail'!$K$24:$K$500,'CMS Downtime Detail'!$B$24:$B$500,$B413,'CMS Downtime Detail'!$C$24:$C$500,$C413,'CMS Downtime Detail'!$D$24:$D$500,$D413,'CMS Downtime Detail'!$E$24:$E$500,\"Other Known Causes\"))","v":""},{"$f":"IF($E413=\"\",\"\",SUMIFS('CMS Downtime Detail'!$K$24:$K$500,'CMS Downtime Detail'!$B$24:$B$500,$B413,'CMS Downtime Detail'!$C$24:$C$500,$C413,'CMS Downtime Detail'!$D$24:$D$500,$D413,'CMS Downtime Detail'!$E$24:$E$500,\"Other Unknown Causes\"))","v":""}]
[null,{"$f":"IF(Lists!AQ392=\"\",\"\",Lists!AQ392)","v":""},{"$f":"IF(Lists!AR392=\"\",\"\",Lists!AR392)","v":""},{"$f":"IF(Lists!AS392=\"\",\"\",Lists!AS392)","v":""},{"$f":"IF(D414=\"\",\"\",VLOOKUP(B414&C414,Lists!$BA$2:$BD$78,4,FALSE))","v":""},"","",{"$f":"IF($E414=\"\",\"\",SUMIFS('CMS Downtime Detail'!$K$24:$K$500,'CMS Downtime Detail'!$B$24:$B$500,$B414,'CMS Downtime Detail'!$C$24:$C$500,$C414,'CMS Downtime Detail'!$D$24:$D$500,$D414,'CMS Downtime Detail'!$E$24:$E$500,\"Monitoring Equipment Malfunctions\"))","v":""},{"$f":"IF($E414=\"\",\"\",SUMIFS('CMS Downtime Detail'!$K$24:$K$500,'CMS Downtime Detail'!$B$24:$B$500,$B414,'CMS Downtime Detail'!$C$24:$C$500,$C414,'CMS Downtime Detail'!$D$24:$D$500,$D414,'CMS Downtime Detail'!$E$24:$E$500,\"Nonmonitoring Equipment Malfunctions\"))","v":""},{"$f":"IF($E414=\"\",\"\",SUMIFS('CMS Downtime Detail'!$K$24:$K$500,'CMS Downtime Detail'!$B$24:$B$500,$B414,'CMS Downtime Detail'!$C$24:$C$500,$C414,'CMS Downtime Detail'!$D$24:$D$500,$D414,'CMS Downtime Detail'!$E$24:$E$500,\"Quality Assurance/Quality Control Calibrations\"))","v":""},{"$f":"IF($E414=\"\",\"\",SUMIFS('CMS Downtime Detail'!$K$24:$K$500,'CMS Downtime Detail'!$B$24:$B$500,$B414,'CMS Downtime Detail'!$C$24:$C$500,$C414,'CMS Downtime Detail'!$D$24:$D$500,$D414,'CMS Downtime Detail'!$E$24:$E$500,\"Other Known Causes\"))","v":""},{"$f":"IF($E414=\"\",\"\",SUMIFS('CMS Downtime Detail'!$K$24:$K$500,'CMS Downtime Detail'!$B$24:$B$500,$B414,'CMS Downtime Detail'!$C$24:$C$500,$C414,'CMS Downtime Detail'!$D$24:$D$500,$D414,'CMS Downtime Detail'!$E$24:$E$500,\"Other Unknown Causes\"))","v":""}]
[null,{"$f":"IF(Lists!AQ393=\"\",\"\",Lists!AQ393)","v":""},{"$f":"IF(Lists!AR393=\"\",\"\",Lists!AR393)","v":""},{"$f":"IF(Lists!AS393=\"\",\"\",Lists!AS393)","v":""},{"$f":"IF(D415=\"\",\"\",VLOOKUP(B415&C415,Lists!$BA$2:$BD$78,4,FALSE))","v":""},"","",{"$f":"IF($E415=\"\",\"\",SUMIFS('CMS Downtime Detail'!$K$24:$K$500,'CMS Downtime Detail'!$B$24:$B$500,$B415,'CMS Downtime Detail'!$C$24:$C$500,$C415,'CMS Downtime Detail'!$D$24:$D$500,$D415,'CMS Downtime Detail'!$E$24:$E$500,\"Monitoring Equipment Malfunctions\"))","v":""},{"$f":"IF($E415=\"\",\"\",SUMIFS('CMS Downtime Detail'!$K$24:$K$500,'CMS Downtime Detail'!$B$24:$B$500,$B415,'CMS Downtime Detail'!$C$24:$C$500,$C415,'CMS Downtime Detail'!$D$24:$D$500,$D415,'CMS Downtime Detail'!$E$24:$E$500,\"Nonmonitoring Equipment Malfunctions\"))","v":""},{"$f":"IF($E415=\"\",\"\",SUMIFS('CMS Downtime Detail'!$K$24:$K$500,'CMS Downtime Detail'!$B$24:$B$500,$B415,'CMS Downtime Detail'!$C$24:$C$500,$C415,'CMS Downtime Detail'!$D$24:$D$500,$D415,'CMS Downtime Detail'!$E$24:$E$500,\"Quality Assurance/Quality Control Calibrations\"))","v":""},{"$f":"IF($E415=\"\",\"\",SUMIFS('CMS Downtime Detail'!$K$24:$K$500,'CMS Downtime Detail'!$B$24:$B$500,$B415,'CMS Downtime Detail'!$C$24:$C$500,$C415,'CMS Downtime Detail'!$D$24:$D$500,$D415,'CMS Downtime Detail'!$E$24:$E$500,\"Other Known Causes\"))","v":""},{"$f":"IF($E415=\"\",\"\",SUMIFS('CMS Downtime Detail'!$K$24:$K$500,'CMS Downtime Detail'!$B$24:$B$500,$B415,'CMS Downtime Detail'!$C$24:$C$500,$C415,'CMS Downtime Detail'!$D$24:$D$500,$D415,'CMS Downtime Detail'!$E$24:$E$500,\"Other Unknown Causes\"))","v":""}]
[null,{"$f":"IF(Lists!AQ394=\"\",\"\",Lists!AQ394)","v":""},{"$f":"IF(Lists!AR394=\"\",\"\",Lists!AR394)","v":""},{"$f":"IF(Lists!AS394=\"\",\"\",Lists!AS394)","v":""},{"$f":"IF(D416=\"\",\"\",VLOOKUP(B416&C416,Lists!$BA$2:$BD$78,4,FALSE))","v":""},"","",{"$f":"IF($E416=\"\",\"\",SUMIFS('CMS Downtime Detail'!$K$24:$K$500,'CMS Downtime Detail'!$B$24:$B$500,$B416,'CMS Downtime Detail'!$C$24:$C$500,$C416,'CMS Downtime Detail'!$D$24:$D$500,$D416,'CMS Downtime Detail'!$E$24:$E$500,\"Monitoring Equipment Malfunctions\"))","v":""},{"$f":"IF($E416=\"\",\"\",SUMIFS('CMS Downtime Detail'!$K$24:$K$500,'CMS Downtime Detail'!$B$24:$B$500,$B416,'CMS Downtime Detail'!$C$24:$C$500,$C416,'CMS Downtime Detail'!$D$24:$D$500,$D416,'CMS Downtime Detail'!$E$24:$E$500,\"Nonmonitoring Equipment Malfunctions\"))","v":""},{"$f":"IF($E416=\"\",\"\",SUMIFS('CMS Downtime Detail'!$K$24:$K$500,'CMS Downtime Detail'!$B$24:$B$500,$B416,'CMS Downtime Detail'!$C$24:$C$500,$C416,'CMS Downtime Detail'!$D$24:$D$500,$D416,'CMS Downtime Detail'!$E$24:$E$500,\"Quality Assurance/Quality Control Calibrations\"))","v":""},{"$f":"IF($E416=\"\",\"\",SUMIFS('CMS Downtime Detail'!$K$24:$K$500,'CMS Downtime Detail'!$B$24:$B$500,$B416,'CMS Downtime Detail'!$C$24:$C$500,$C416,'CMS Downtime Detail'!$D$24:$D$500,$D416,'CMS Downtime Detail'!$E$24:$E$500,\"Other Known Causes\"))","v":""},{"$f":"IF($E416=\"\",\"\",SUMIFS('CMS Downtime Detail'!$K$24:$K$500,'CMS Downtime Detail'!$B$24:$B$500,$B416,'CMS Downtime Detail'!$C$24:$C$500,$C416,'CMS Downtime Detail'!$D$24:$D$500,$D416,'CMS Downtime Detail'!$E$24:$E$500,\"Other Unknown Causes\"))","v":""}]
[null,{"$f":"IF(Lists!AQ395=\"\",\"\",Lists!AQ395)","v":""},{"$f":"IF(Lists!AR395=\"\",\"\",Lists!AR395)","v":""},{"$f":"IF(Lists!AS395=\"\",\"\",Lists!AS395)","v":""},{"$f":"IF(D417=\"\",\"\",VLOOKUP(B417&C417,Lists!$BA$2:$BD$78,4,FALSE))","v":""},"","",{"$f":"IF($E417=\"\",\"\",SUMIFS('CMS Downtime Detail'!$K$24:$K$500,'CMS Downtime Detail'!$B$24:$B$500,$B417,'CMS Downtime Detail'!$C$24:$C$500,$C417,'CMS Downtime Detail'!$D$24:$D$500,$D417,'CMS Downtime Detail'!$E$24:$E$500,\"Monitoring Equipment Malfunctions\"))","v":""},{"$f":"IF($E417=\"\",\"\",SUMIFS('CMS Downtime Detail'!$K$24:$K$500,'CMS Downtime Detail'!$B$24:$B$500,$B417,'CMS Downtime Detail'!$C$24:$C$500,$C417,'CMS Downtime Detail'!$D$24:$D$500,$D417,'CMS Downtime Detail'!$E$24:$E$500,\"Nonmonitoring Equipment Malfunctions\"))","v":""},{"$f":"IF($E417=\"\",\"\",SUMIFS('CMS Downtime Detail'!$K$24:$K$500,'CMS Downtime Detail'!$B$24:$B$500,$B417,'CMS Downtime Detail'!$C$24:$C$500,$C417,'CMS Downtime Detail'!$D$24:$D$500,$D417,'CMS Downtime Detail'!$E$24:$E$500,\"Quality Assurance/Quality Control Calibrations\"))","v":""},{"$f":"IF($E417=\"\",\"\",SUMIFS('CMS Downtime Detail'!$K$24:$K$500,'CMS Downtime Detail'!$B$24:$B$500,$B417,'CMS Downtime Detail'!$C$24:$C$500,$C417,'CMS Downtime Detail'!$D$24:$D$500,$D417,'CMS Downtime Detail'!$E$24:$E$500,\"Other Known Causes\"))","v":""},{"$f":"IF($E417=\"\",\"\",SUMIFS('CMS Downtime Detail'!$K$24:$K$500,'CMS Downtime Detail'!$B$24:$B$500,$B417,'CMS Downtime Detail'!$C$24:$C$500,$C417,'CMS Downtime Detail'!$D$24:$D$500,$D417,'CMS Downtime Detail'!$E$24:$E$500,\"Other Unknown Causes\"))","v":""}]
[null,{"$f":"IF(Lists!AQ396=\"\",\"\",Lists!AQ396)","v":""},{"$f":"IF(Lists!AR396=\"\",\"\",Lists!AR396)","v":""},{"$f":"IF(Lists!AS396=\"\",\"\",Lists!AS396)","v":""},{"$f":"IF(D418=\"\",\"\",VLOOKUP(B418&C418,Lists!$BA$2:$BD$78,4,FALSE))","v":""},"","",{"$f":"IF($E418=\"\",\"\",SUMIFS('CMS Downtime Detail'!$K$24:$K$500,'CMS Downtime Detail'!$B$24:$B$500,$B418,'CMS Downtime Detail'!$C$24:$C$500,$C418,'CMS Downtime Detail'!$D$24:$D$500,$D418,'CMS Downtime Detail'!$E$24:$E$500,\"Monitoring Equipment Malfunctions\"))","v":""},{"$f":"IF($E418=\"\",\"\",SUMIFS('CMS Downtime Detail'!$K$24:$K$500,'CMS Downtime Detail'!$B$24:$B$500,$B418,'CMS Downtime Detail'!$C$24:$C$500,$C418,'CMS Downtime Detail'!$D$24:$D$500,$D418,'CMS Downtime Detail'!$E$24:$E$500,\"Nonmonitoring Equipment Malfunctions\"))","v":""},{"$f":"IF($E418=\"\",\"\",SUMIFS('CMS Downtime Detail'!$K$24:$K$500,'CMS Downtime Detail'!$B$24:$B$500,$B418,'CMS Downtime Detail'!$C$24:$C$500,$C418,'CMS Downtime Detail'!$D$24:$D$500,$D418,'CMS Downtime Detail'!$E$24:$E$500,\"Quality Assurance/Quality Control Calibrations\"))","v":""},{"$f":"IF($E418=\"\",\"\",SUMIFS('CMS Downtime Detail'!$K$24:$K$500,'CMS Downtime Detail'!$B$24:$B$500,$B418,'CMS Downtime Detail'!$C$24:$C$500,$C418,'CMS Downtime Detail'!$D$24:$D$500,$D418,'CMS Downtime Detail'!$E$24:$E$500,\"Other Known Causes\"))","v":""},{"$f":"IF($E418=\"\",\"\",SUMIFS('CMS Downtime Detail'!$K$24:$K$500,'CMS Downtime Detail'!$B$24:$B$500,$B418,'CMS Downtime Detail'!$C$24:$C$500,$C418,'CMS Downtime Detail'!$D$24:$D$500,$D418,'CMS Downtime Detail'!$E$24:$E$500,\"Other Unknown Causes\"))","v":""}]
[null,{"$f":"IF(Lists!AQ397=\"\",\"\",Lists!AQ397)","v":""},{"$f":"IF(Lists!AR397=\"\",\"\",Lists!AR397)","v":""},{"$f":"IF(Lists!AS397=\"\",\"\",Lists!AS397)","v":""},{"$f":"IF(D419=\"\",\"\",VLOOKUP(B419&C419,Lists!$BA$2:$BD$78,4,FALSE))","v":""},"","",{"$f":"IF($E419=\"\",\"\",SUMIFS('CMS Downtime Detail'!$K$24:$K$500,'CMS Downtime Detail'!$B$24:$B$500,$B419,'CMS Downtime Detail'!$C$24:$C$500,$C419,'CMS Downtime Detail'!$D$24:$D$500,$D419,'CMS Downtime Detail'!$E$24:$E$500,\"Monitoring Equipment Malfunctions\"))","v":""},{"$f":"IF($E419=\"\",\"\",SUMIFS('CMS Downtime Detail'!$K$24:$K$500,'CMS Downtime Detail'!$B$24:$B$500,$B419,'CMS Downtime Detail'!$C$24:$C$500,$C419,'CMS Downtime Detail'!$D$24:$D$500,$D419,'CMS Downtime Detail'!$E$24:$E$500,\"Nonmonitoring Equipment Malfunctions\"))","v":""},{"$f":"IF($E419=\"\",\"\",SUMIFS('CMS Downtime Detail'!$K$24:$K$500,'CMS Downtime Detail'!$B$24:$B$500,$B419,'CMS Downtime Detail'!$C$24:$C$500,$C419,'CMS Downtime Detail'!$D$24:$D$500,$D419,'CMS Downtime Detail'!$E$24:$E$500,\"Quality Assurance/Quality Control Calibrations\"))","v":""},{"$f":"IF($E419=\"\",\"\",SUMIFS('CMS Downtime Detail'!$K$24:$K$500,'CMS Downtime Detail'!$B$24:$B$500,$B419,'CMS Downtime Detail'!$C$24:$C$500,$C419,'CMS Downtime Detail'!$D$24:$D$500,$D419,'CMS Downtime Detail'!$E$24:$E$500,\"Other Known Causes\"))","v":""},{"$f":"IF($E419=\"\",\"\",SUMIFS('CMS Downtime Detail'!$K$24:$K$500,'CMS Downtime Detail'!$B$24:$B$500,$B419,'CMS Downtime Detail'!$C$24:$C$500,$C419,'CMS Downtime Detail'!$D$24:$D$500,$D419,'CMS Downtime Detail'!$E$24:$E$500,\"Other Unknown Causes\"))","v":""}]
[null,{"$f":"IF(Lists!AQ398=\"\",\"\",Lists!AQ398)","v":""},{"$f":"IF(Lists!AR398=\"\",\"\",Lists!AR398)","v":""},{"$f":"IF(Lists!AS398=\"\",\"\",Lists!AS398)","v":""},{"$f":"IF(D420=\"\",\"\",VLOOKUP(B420&C420,Lists!$BA$2:$BD$78,4,FALSE))","v":""},"","",{"$f":"IF($E420=\"\",\"\",SUMIFS('CMS Downtime Detail'!$K$24:$K$500,'CMS Downtime Detail'!$B$24:$B$500,$B420,'CMS Downtime Detail'!$C$24:$C$500,$C420,'CMS Downtime Detail'!$D$24:$D$500,$D420,'CMS Downtime Detail'!$E$24:$E$500,\"Monitoring Equipment Malfunctions\"))","v":""},{"$f":"IF($E420=\"\",\"\",SUMIFS('CMS Downtime Detail'!$K$24:$K$500,'CMS Downtime Detail'!$B$24:$B$500,$B420,'CMS Downtime Detail'!$C$24:$C$500,$C420,'CMS Downtime Detail'!$D$24:$D$500,$D420,'CMS Downtime Detail'!$E$24:$E$500,\"Nonmonitoring Equipment Malfunctions\"))","v":""},{"$f":"IF($E420=\"\",\"\",SUMIFS('CMS Downtime Detail'!$K$24:$K$500,'CMS Downtime Detail'!$B$24:$B$500,$B420,'CMS Downtime Detail'!$C$24:$C$500,$C420,'CMS Downtime Detail'!$D$24:$D$500,$D420,'CMS Downtime Detail'!$E$24:$E$500,\"Quality Assurance/Quality Control Calibrations\"))","v":""},{"$f":"IF($E420=\"\",\"\",SUMIFS('CMS Downtime Detail'!$K$24:$K$500,'CMS Downtime Detail'!$B$24:$B$500,$B420,'CMS Downtime Detail'!$C$24:$C$500,$C420,'CMS Downtime Detail'!$D$24:$D$500,$D420,'CMS Downtime Detail'!$E$24:$E$500,\"Other Known Causes\"))","v":""},{"$f":"IF($E420=\"\",\"\",SUMIFS('CMS Downtime Detail'!$K$24:$K$500,'CMS Downtime Detail'!$B$24:$B$500,$B420,'CMS Downtime Detail'!$C$24:$C$500,$C420,'CMS Downtime Detail'!$D$24:$D$500,$D420,'CMS Downtime Detail'!$E$24:$E$500,\"Other Unknown Causes\"))","v":""}]
[null,{"$f":"IF(Lists!AQ399=\"\",\"\",Lists!AQ399)","v":""},{"$f":"IF(Lists!AR399=\"\",\"\",Lists!AR399)","v":""},{"$f":"IF(Lists!AS399=\"\",\"\",Lists!AS399)","v":""},{"$f":"IF(D421=\"\",\"\",VLOOKUP(B421&C421,Lists!$BA$2:$BD$78,4,FALSE))","v":""},"","",{"$f":"IF($E421=\"\",\"\",SUMIFS('CMS Downtime Detail'!$K$24:$K$500,'CMS Downtime Detail'!$B$24:$B$500,$B421,'CMS Downtime Detail'!$C$24:$C$500,$C421,'CMS Downtime Detail'!$D$24:$D$500,$D421,'CMS Downtime Detail'!$E$24:$E$500,\"Monitoring Equipment Malfunctions\"))","v":""},{"$f":"IF($E421=\"\",\"\",SUMIFS('CMS Downtime Detail'!$K$24:$K$500,'CMS Downtime Detail'!$B$24:$B$500,$B421,'CMS Downtime Detail'!$C$24:$C$500,$C421,'CMS Downtime Detail'!$D$24:$D$500,$D421,'CMS Downtime Detail'!$E$24:$E$500,\"Nonmonitoring Equipment Malfunctions\"))","v":""},{"$f":"IF($E421=\"\",\"\",SUMIFS('CMS Downtime Detail'!$K$24:$K$500,'CMS Downtime Detail'!$B$24:$B$500,$B421,'CMS Downtime Detail'!$C$24:$C$500,$C421,'CMS Downtime Detail'!$D$24:$D$500,$D421,'CMS Downtime Detail'!$E$24:$E$500,\"Quality Assurance/Quality Control Calibrations\"))","v":""},{"$f":"IF($E421=\"\",\"\",SUMIFS('CMS Downtime Detail'!$K$24:$K$500,'CMS Downtime Detail'!$B$24:$B$500,$B421,'CMS Downtime Detail'!$C$24:$C$500,$C421,'CMS Downtime Detail'!$D$24:$D$500,$D421,'CMS Downtime Detail'!$E$24:$E$500,\"Other Known Causes\"))","v":""},{"$f":"IF($E421=\"\",\"\",SUMIFS('CMS Downtime Detail'!$K$24:$K$500,'CMS Downtime Detail'!$B$24:$B$500,$B421,'CMS Downtime Detail'!$C$24:$C$500,$C421,'CMS Downtime Detail'!$D$24:$D$500,$D421,'CMS Downtime Detail'!$E$24:$E$500,\"Other Unknown Causes\"))","v":""}]
[null,{"$f":"IF(Lists!AQ400=\"\",\"\",Lists!AQ400)","v":""},{"$f":"IF(Lists!AR400=\"\",\"\",Lists!AR400)","v":""},{"$f":"IF(Lists!AS400=\"\",\"\",Lists!AS400)","v":""},{"$f":"IF(D422=\"\",\"\",VLOOKUP(B422&C422,Lists!$BA$2:$BD$78,4,FALSE))","v":""},"","",{"$f":"IF($E422=\"\",\"\",SUMIFS('CMS Downtime Detail'!$K$24:$K$500,'CMS Downtime Detail'!$B$24:$B$500,$B422,'CMS Downtime Detail'!$C$24:$C$500,$C422,'CMS Downtime Detail'!$D$24:$D$500,$D422,'CMS Downtime Detail'!$E$24:$E$500,\"Monitoring Equipment Malfunctions\"))","v":""},{"$f":"IF($E422=\"\",\"\",SUMIFS('CMS Downtime Detail'!$K$24:$K$500,'CMS Downtime Detail'!$B$24:$B$500,$B422,'CMS Downtime Detail'!$C$24:$C$500,$C422,'CMS Downtime Detail'!$D$24:$D$500,$D422,'CMS Downtime Detail'!$E$24:$E$500,\"Nonmonitoring Equipment Malfunctions\"))","v":""},{"$f":"IF($E422=\"\",\"\",SUMIFS('CMS Downtime Detail'!$K$24:$K$500,'CMS Downtime Detail'!$B$24:$B$500,$B422,'CMS Downtime Detail'!$C$24:$C$500,$C422,'CMS Downtime Detail'!$D$24:$D$500,$D422,'CMS Downtime Detail'!$E$24:$E$500,\"Quality Assurance/Quality Control Calibrations\"))","v":""},{"$f":"IF($E422=\"\",\"\",SUMIFS('CMS Downtime Detail'!$K$24:$K$500,'CMS Downtime Detail'!$B$24:$B$500,$B422,'CMS Downtime Detail'!$C$24:$C$500,$C422,'CMS Downtime Detail'!$D$24:$D$500,$D422,'CMS Downtime Detail'!$E$24:$E$500,\"Other Known Causes\"))","v":""},{"$f":"IF($E422=\"\",\"\",SUMIFS('CMS Downtime Detail'!$K$24:$K$500,'CMS Downtime Detail'!$B$24:$B$500,$B422,'CMS Downtime Detail'!$C$24:$C$500,$C422,'CMS Downtime Detail'!$D$24:$D$500,$D422,'CMS Downtime Detail'!$E$24:$E$500,\"Other Unknown Causes\"))","v":""}]
[null,{"$f":"IF(Lists!AQ401=\"\",\"\",Lists!AQ401)","v":""},{"$f":"IF(Lists!AR401=\"\",\"\",Lists!AR401)","v":""},{"$f":"IF(Lists!AS401=\"\",\"\",Lists!AS401)","v":""},{"$f":"IF(D423=\"\",\"\",VLOOKUP(B423&C423,Lists!$BA$2:$BD$78,4,FALSE))","v":""},"","",{"$f":"IF($E423=\"\",\"\",SUMIFS('CMS Downtime Detail'!$K$24:$K$500,'CMS Downtime Detail'!$B$24:$B$500,$B423,'CMS Downtime Detail'!$C$24:$C$500,$C423,'CMS Downtime Detail'!$D$24:$D$500,$D423,'CMS Downtime Detail'!$E$24:$E$500,\"Monitoring Equipment Malfunctions\"))","v":""},{"$f":"IF($E423=\"\",\"\",SUMIFS('CMS Downtime Detail'!$K$24:$K$500,'CMS Downtime Detail'!$B$24:$B$500,$B423,'CMS Downtime Detail'!$C$24:$C$500,$C423,'CMS Downtime Detail'!$D$24:$D$500,$D423,'CMS Downtime Detail'!$E$24:$E$500,\"Nonmonitoring Equipment Malfunctions\"))","v":""},{"$f":"IF($E423=\"\",\"\",SUMIFS('CMS Downtime Detail'!$K$24:$K$500,'CMS Downtime Detail'!$B$24:$B$500,$B423,'CMS Downtime Detail'!$C$24:$C$500,$C423,'CMS Downtime Detail'!$D$24:$D$500,$D423,'CMS Downtime Detail'!$E$24:$E$500,\"Quality Assurance/Quality Control Calibrations\"))","v":""},{"$f":"IF($E423=\"\",\"\",SUMIFS('CMS Downtime Detail'!$K$24:$K$500,'CMS Downtime Detail'!$B$24:$B$500,$B423,'CMS Downtime Detail'!$C$24:$C$500,$C423,'CMS Downtime Detail'!$D$24:$D$500,$D423,'CMS Downtime Detail'!$E$24:$E$500,\"Other Known Causes\"))","v":""},{"$f":"IF($E423=\"\",\"\",SUMIFS('CMS Downtime Detail'!$K$24:$K$500,'CMS Downtime Detail'!$B$24:$B$500,$B423,'CMS Downtime Detail'!$C$24:$C$500,$C423,'CMS Downtime Detail'!$D$24:$D$500,$D423,'CMS Downtime Detail'!$E$24:$E$500,\"Other Unknown Causes\"))","v":""}]
[null,{"$f":"IF(Lists!AQ402=\"\",\"\",Lists!AQ402)","v":""},{"$f":"IF(Lists!AR402=\"\",\"\",Lists!AR402)","v":""},{"$f":"IF(Lists!AS402=\"\",\"\",Lists!AS402)","v":""},{"$f":"IF(D424=\"\",\"\",VLOOKUP(B424&C424,Lists!$BA$2:$BD$78,4,FALSE))","v":""},"","",{"$f":"IF($E424=\"\",\"\",SUMIFS('CMS Downtime Detail'!$K$24:$K$500,'CMS Downtime Detail'!$B$24:$B$500,$B424,'CMS Downtime Detail'!$C$24:$C$500,$C424,'CMS Downtime Detail'!$D$24:$D$500,$D424,'CMS Downtime Detail'!$E$24:$E$500,\"Monitoring Equipment Malfunctions\"))","v":""},{"$f":"IF($E424=\"\",\"\",SUMIFS('CMS Downtime Detail'!$K$24:$K$500,'CMS Downtime Detail'!$B$24:$B$500,$B424,'CMS Downtime Detail'!$C$24:$C$500,$C424,'CMS Downtime Detail'!$D$24:$D$500,$D424,'CMS Downtime Detail'!$E$24:$E$500,\"Nonmonitoring Equipment Malfunctions\"))","v":""},{"$f":"IF($E424=\"\",\"\",SUMIFS('CMS Downtime Detail'!$K$24:$K$500,'CMS Downtime Detail'!$B$24:$B$500,$B424,'CMS Downtime Detail'!$C$24:$C$500,$C424,'CMS Downtime Detail'!$D$24:$D$500,$D424,'CMS Downtime Detail'!$E$24:$E$500,\"Quality Assurance/Quality Control Calibrations\"))","v":""},{"$f":"IF($E424=\"\",\"\",SUMIFS('CMS Downtime Detail'!$K$24:$K$500,'CMS Downtime Detail'!$B$24:$B$500,$B424,'CMS Downtime Detail'!$C$24:$C$500,$C424,'CMS Downtime Detail'!$D$24:$D$500,$D424,'CMS Downtime Detail'!$E$24:$E$500,\"Other Known Causes\"))","v":""},{"$f":"IF($E424=\"\",\"\",SUMIFS('CMS Downtime Detail'!$K$24:$K$500,'CMS Downtime Detail'!$B$24:$B$500,$B424,'CMS Downtime Detail'!$C$24:$C$500,$C424,'CMS Downtime Detail'!$D$24:$D$500,$D424,'CMS Downtime Detail'!$E$24:$E$500,\"Other Unknown Causes\"))","v":""}]
[null,{"$f":"IF(Lists!AQ403=\"\",\"\",Lists!AQ403)","v":""},{"$f":"IF(Lists!AR403=\"\",\"\",Lists!AR403)","v":""},{"$f":"IF(Lists!AS403=\"\",\"\",Lists!AS403)","v":""},{"$f":"IF(D425=\"\",\"\",VLOOKUP(B425&C425,Lists!$BA$2:$BD$78,4,FALSE))","v":""},"","",{"$f":"IF($E425=\"\",\"\",SUMIFS('CMS Downtime Detail'!$K$24:$K$500,'CMS Downtime Detail'!$B$24:$B$500,$B425,'CMS Downtime Detail'!$C$24:$C$500,$C425,'CMS Downtime Detail'!$D$24:$D$500,$D425,'CMS Downtime Detail'!$E$24:$E$500,\"Monitoring Equipment Malfunctions\"))","v":""},{"$f":"IF($E425=\"\",\"\",SUMIFS('CMS Downtime Detail'!$K$24:$K$500,'CMS Downtime Detail'!$B$24:$B$500,$B425,'CMS Downtime Detail'!$C$24:$C$500,$C425,'CMS Downtime Detail'!$D$24:$D$500,$D425,'CMS Downtime Detail'!$E$24:$E$500,\"Nonmonitoring Equipment Malfunctions\"))","v":""},{"$f":"IF($E425=\"\",\"\",SUMIFS('CMS Downtime Detail'!$K$24:$K$500,'CMS Downtime Detail'!$B$24:$B$500,$B425,'CMS Downtime Detail'!$C$24:$C$500,$C425,'CMS Downtime Detail'!$D$24:$D$500,$D425,'CMS Downtime Detail'!$E$24:$E$500,\"Quality Assurance/Quality Control Calibrations\"))","v":""},{"$f":"IF($E425=\"\",\"\",SUMIFS('CMS Downtime Detail'!$K$24:$K$500,'CMS Downtime Detail'!$B$24:$B$500,$B425,'CMS Downtime Detail'!$C$24:$C$500,$C425,'CMS Downtime Detail'!$D$24:$D$500,$D425,'CMS Downtime Detail'!$E$24:$E$500,\"Other Known Causes\"))","v":""},{"$f":"IF($E425=\"\",\"\",SUMIFS('CMS Downtime Detail'!$K$24:$K$500,'CMS Downtime Detail'!$B$24:$B$500,$B425,'CMS Downtime Detail'!$C$24:$C$500,$C425,'CMS Downtime Detail'!$D$24:$D$500,$D425,'CMS Downtime Detail'!$E$24:$E$500,\"Other Unknown Causes\"))","v":""}]
[null,{"$f":"IF(Lists!AQ404=\"\",\"\",Lists!AQ404)","v":""},{"$f":"IF(Lists!AR404=\"\",\"\",Lists!AR404)","v":""},{"$f":"IF(Lists!AS404=\"\",\"\",Lists!AS404)","v":""},{"$f":"IF(D426=\"\",\"\",VLOOKUP(B426&C426,Lists!$BA$2:$BD$78,4,FALSE))","v":""},"","",{"$f":"IF($E426=\"\",\"\",SUMIFS('CMS Downtime Detail'!$K$24:$K$500,'CMS Downtime Detail'!$B$24:$B$500,$B426,'CMS Downtime Detail'!$C$24:$C$500,$C426,'CMS Downtime Detail'!$D$24:$D$500,$D426,'CMS Downtime Detail'!$E$24:$E$500,\"Monitoring Equipment Malfunctions\"))","v":""},{"$f":"IF($E426=\"\",\"\",SUMIFS('CMS Downtime Detail'!$K$24:$K$500,'CMS Downtime Detail'!$B$24:$B$500,$B426,'CMS Downtime Detail'!$C$24:$C$500,$C426,'CMS Downtime Detail'!$D$24:$D$500,$D426,'CMS Downtime Detail'!$E$24:$E$500,\"Nonmonitoring Equipment Malfunctions\"))","v":""},{"$f":"IF($E426=\"\",\"\",SUMIFS('CMS Downtime Detail'!$K$24:$K$500,'CMS Downtime Detail'!$B$24:$B$500,$B426,'CMS Downtime Detail'!$C$24:$C$500,$C426,'CMS Downtime Detail'!$D$24:$D$500,$D426,'CMS Downtime Detail'!$E$24:$E$500,\"Quality Assurance/Quality Control Calibrations\"))","v":""},{"$f":"IF($E426=\"\",\"\",SUMIFS('CMS Downtime Detail'!$K$24:$K$500,'CMS Downtime Detail'!$B$24:$B$500,$B426,'CMS Downtime Detail'!$C$24:$C$500,$C426,'CMS Downtime Detail'!$D$24:$D$500,$D426,'CMS Downtime Detail'!$E$24:$E$500,\"Other Known Causes\"))","v":""},{"$f":"IF($E426=\"\",\"\",SUMIFS('CMS Downtime Detail'!$K$24:$K$500,'CMS Downtime Detail'!$B$24:$B$500,$B426,'CMS Downtime Detail'!$C$24:$C$500,$C426,'CMS Downtime Detail'!$D$24:$D$500,$D426,'CMS Downtime Detail'!$E$24:$E$500,\"Other Unknown Causes\"))","v":""}]
[null,{"$f":"IF(Lists!AQ405=\"\",\"\",Lists!AQ405)","v":""},{"$f":"IF(Lists!AR405=\"\",\"\",Lists!AR405)","v":""},{"$f":"IF(Lists!AS405=\"\",\"\",Lists!AS405)","v":""},{"$f":"IF(D427=\"\",\"\",VLOOKUP(B427&C427,Lists!$BA$2:$BD$78,4,FALSE))","v":""},"","",{"$f":"IF($E427=\"\",\"\",SUMIFS('CMS Downtime Detail'!$K$24:$K$500,'CMS Downtime Detail'!$B$24:$B$500,$B427,'CMS Downtime Detail'!$C$24:$C$500,$C427,'CMS Downtime Detail'!$D$24:$D$500,$D427,'CMS Downtime Detail'!$E$24:$E$500,\"Monitoring Equipment Malfunctions\"))","v":""},{"$f":"IF($E427=\"\",\"\",SUMIFS('CMS Downtime Detail'!$K$24:$K$500,'CMS Downtime Detail'!$B$24:$B$500,$B427,'CMS Downtime Detail'!$C$24:$C$500,$C427,'CMS Downtime Detail'!$D$24:$D$500,$D427,'CMS Downtime Detail'!$E$24:$E$500,\"Nonmonitoring Equipment Malfunctions\"))","v":""},{"$f":"IF($E427=\"\",\"\",SUMIFS('CMS Downtime Detail'!$K$24:$K$500,'CMS Downtime Detail'!$B$24:$B$500,$B427,'CMS Downtime Detail'!$C$24:$C$500,$C427,'CMS Downtime Detail'!$D$24:$D$500,$D427,'CMS Downtime Detail'!$E$24:$E$500,\"Quality Assurance/Quality Control Calibrations\"))","v":""},{"$f":"IF($E427=\"\",\"\",SUMIFS('CMS Downtime Detail'!$K$24:$K$500,'CMS Downtime Detail'!$B$24:$B$500,$B427,'CMS Downtime Detail'!$C$24:$C$500,$C427,'CMS Downtime Detail'!$D$24:$D$500,$D427,'CMS Downtime Detail'!$E$24:$E$500,\"Other Known Causes\"))","v":""},{"$f":"IF($E427=\"\",\"\",SUMIFS('CMS Downtime Detail'!$K$24:$K$500,'CMS Downtime Detail'!$B$24:$B$500,$B427,'CMS Downtime Detail'!$C$24:$C$500,$C427,'CMS Downtime Detail'!$D$24:$D$500,$D427,'CMS Downtime Detail'!$E$24:$E$500,\"Other Unknown Causes\"))","v":""}]
[null,{"$f":"IF(Lists!AQ406=\"\",\"\",Lists!AQ406)","v":""},{"$f":"IF(Lists!AR406=\"\",\"\",Lists!AR406)","v":""},{"$f":"IF(Lists!AS406=\"\",\"\",Lists!AS406)","v":""},{"$f":"IF(D428=\"\",\"\",VLOOKUP(B428&C428,Lists!$BA$2:$BD$78,4,FALSE))","v":""},"","",{"$f":"IF($E428=\"\",\"\",SUMIFS('CMS Downtime Detail'!$K$24:$K$500,'CMS Downtime Detail'!$B$24:$B$500,$B428,'CMS Downtime Detail'!$C$24:$C$500,$C428,'CMS Downtime Detail'!$D$24:$D$500,$D428,'CMS Downtime Detail'!$E$24:$E$500,\"Monitoring Equipment Malfunctions\"))","v":""},{"$f":"IF($E428=\"\",\"\",SUMIFS('CMS Downtime Detail'!$K$24:$K$500,'CMS Downtime Detail'!$B$24:$B$500,$B428,'CMS Downtime Detail'!$C$24:$C$500,$C428,'CMS Downtime Detail'!$D$24:$D$500,$D428,'CMS Downtime Detail'!$E$24:$E$500,\"Nonmonitoring Equipment Malfunctions\"))","v":""},{"$f":"IF($E428=\"\",\"\",SUMIFS('CMS Downtime Detail'!$K$24:$K$500,'CMS Downtime Detail'!$B$24:$B$500,$B428,'CMS Downtime Detail'!$C$24:$C$500,$C428,'CMS Downtime Detail'!$D$24:$D$500,$D428,'CMS Downtime Detail'!$E$24:$E$500,\"Quality Assurance/Quality Control Calibrations\"))","v":""},{"$f":"IF($E428=\"\",\"\",SUMIFS('CMS Downtime Detail'!$K$24:$K$500,'CMS Downtime Detail'!$B$24:$B$500,$B428,'CMS Downtime Detail'!$C$24:$C$500,$C428,'CMS Downtime Detail'!$D$24:$D$500,$D428,'CMS Downtime Detail'!$E$24:$E$500,\"Other Known Causes\"))","v":""},{"$f":"IF($E428=\"\",\"\",SUMIFS('CMS Downtime Detail'!$K$24:$K$500,'CMS Downtime Detail'!$B$24:$B$500,$B428,'CMS Downtime Detail'!$C$24:$C$500,$C428,'CMS Downtime Detail'!$D$24:$D$500,$D428,'CMS Downtime Detail'!$E$24:$E$500,\"Other Unknown Causes\"))","v":""}]
[null,{"$f":"IF(Lists!AQ407=\"\",\"\",Lists!AQ407)","v":""},{"$f":"IF(Lists!AR407=\"\",\"\",Lists!AR407)","v":""},{"$f":"IF(Lists!AS407=\"\",\"\",Lists!AS407)","v":""},{"$f":"IF(D429=\"\",\"\",VLOOKUP(B429&C429,Lists!$BA$2:$BD$78,4,FALSE))","v":""},"","",{"$f":"IF($E429=\"\",\"\",SUMIFS('CMS Downtime Detail'!$K$24:$K$500,'CMS Downtime Detail'!$B$24:$B$500,$B429,'CMS Downtime Detail'!$C$24:$C$500,$C429,'CMS Downtime Detail'!$D$24:$D$500,$D429,'CMS Downtime Detail'!$E$24:$E$500,\"Monitoring Equipment Malfunctions\"))","v":""},{"$f":"IF($E429=\"\",\"\",SUMIFS('CMS Downtime Detail'!$K$24:$K$500,'CMS Downtime Detail'!$B$24:$B$500,$B429,'CMS Downtime Detail'!$C$24:$C$500,$C429,'CMS Downtime Detail'!$D$24:$D$500,$D429,'CMS Downtime Detail'!$E$24:$E$500,\"Nonmonitoring Equipment Malfunctions\"))","v":""},{"$f":"IF($E429=\"\",\"\",SUMIFS('CMS Downtime Detail'!$K$24:$K$500,'CMS Downtime Detail'!$B$24:$B$500,$B429,'CMS Downtime Detail'!$C$24:$C$500,$C429,'CMS Downtime Detail'!$D$24:$D$500,$D429,'CMS Downtime Detail'!$E$24:$E$500,\"Quality Assurance/Quality Control Calibrations\"))","v":""},{"$f":"IF($E429=\"\",\"\",SUMIFS('CMS Downtime Detail'!$K$24:$K$500,'CMS Downtime Detail'!$B$24:$B$500,$B429,'CMS Downtime Detail'!$C$24:$C$500,$C429,'CMS Downtime Detail'!$D$24:$D$500,$D429,'CMS Downtime Detail'!$E$24:$E$500,\"Other Known Causes\"))","v":""},{"$f":"IF($E429=\"\",\"\",SUMIFS('CMS Downtime Detail'!$K$24:$K$500,'CMS Downtime Detail'!$B$24:$B$500,$B429,'CMS Downtime Detail'!$C$24:$C$500,$C429,'CMS Downtime Detail'!$D$24:$D$500,$D429,'CMS Downtime Detail'!$E$24:$E$500,\"Other Unknown Causes\"))","v":""}]
[null,{"$f":"IF(Lists!AQ408=\"\",\"\",Lists!AQ408)","v":""},{"$f":"IF(Lists!AR408=\"\",\"\",Lists!AR408)","v":""},{"$f":"IF(Lists!AS408=\"\",\"\",Lists!AS408)","v":""},{"$f":"IF(D430=\"\",\"\",VLOOKUP(B430&C430,Lists!$BA$2:$BD$78,4,FALSE))","v":""},"","",{"$f":"IF($E430=\"\",\"\",SUMIFS('CMS Downtime Detail'!$K$24:$K$500,'CMS Downtime Detail'!$B$24:$B$500,$B430,'CMS Downtime Detail'!$C$24:$C$500,$C430,'CMS Downtime Detail'!$D$24:$D$500,$D430,'CMS Downtime Detail'!$E$24:$E$500,\"Monitoring Equipment Malfunctions\"))","v":""},{"$f":"IF($E430=\"\",\"\",SUMIFS('CMS Downtime Detail'!$K$24:$K$500,'CMS Downtime Detail'!$B$24:$B$500,$B430,'CMS Downtime Detail'!$C$24:$C$500,$C430,'CMS Downtime Detail'!$D$24:$D$500,$D430,'CMS Downtime Detail'!$E$24:$E$500,\"Nonmonitoring Equipment Malfunctions\"))","v":""},{"$f":"IF($E430=\"\",\"\",SUMIFS('CMS Downtime Detail'!$K$24:$K$500,'CMS Downtime Detail'!$B$24:$B$500,$B430,'CMS Downtime Detail'!$C$24:$C$500,$C430,'CMS Downtime Detail'!$D$24:$D$500,$D430,'CMS Downtime Detail'!$E$24:$E$500,\"Quality Assurance/Quality Control Calibrations\"))","v":""},{"$f":"IF($E430=\"\",\"\",SUMIFS('CMS Downtime Detail'!$K$24:$K$500,'CMS Downtime Detail'!$B$24:$B$500,$B430,'CMS Downtime Detail'!$C$24:$C$500,$C430,'CMS Downtime Detail'!$D$24:$D$500,$D430,'CMS Downtime Detail'!$E$24:$E$500,\"Other Known Causes\"))","v":""},{"$f":"IF($E430=\"\",\"\",SUMIFS('CMS Downtime Detail'!$K$24:$K$500,'CMS Downtime Detail'!$B$24:$B$500,$B430,'CMS Downtime Detail'!$C$24:$C$500,$C430,'CMS Downtime Detail'!$D$24:$D$500,$D430,'CMS Downtime Detail'!$E$24:$E$500,\"Other Unknown Causes\"))","v":""}]
[null,{"$f":"IF(Lists!AQ409=\"\",\"\",Lists!AQ409)","v":""},{"$f":"IF(Lists!AR409=\"\",\"\",Lists!AR409)","v":""},{"$f":"IF(Lists!AS409=\"\",\"\",Lists!AS409)","v":""},{"$f":"IF(D431=\"\",\"\",VLOOKUP(B431&C431,Lists!$BA$2:$BD$78,4,FALSE))","v":""},"","",{"$f":"IF($E431=\"\",\"\",SUMIFS('CMS Downtime Detail'!$K$24:$K$500,'CMS Downtime Detail'!$B$24:$B$500,$B431,'CMS Downtime Detail'!$C$24:$C$500,$C431,'CMS Downtime Detail'!$D$24:$D$500,$D431,'CMS Downtime Detail'!$E$24:$E$500,\"Monitoring Equipment Malfunctions\"))","v":""},{"$f":"IF($E431=\"\",\"\",SUMIFS('CMS Downtime Detail'!$K$24:$K$500,'CMS Downtime Detail'!$B$24:$B$500,$B431,'CMS Downtime Detail'!$C$24:$C$500,$C431,'CMS Downtime Detail'!$D$24:$D$500,$D431,'CMS Downtime Detail'!$E$24:$E$500,\"Nonmonitoring Equipment Malfunctions\"))","v":""},{"$f":"IF($E431=\"\",\"\",SUMIFS('CMS Downtime Detail'!$K$24:$K$500,'CMS Downtime Detail'!$B$24:$B$500,$B431,'CMS Downtime Detail'!$C$24:$C$500,$C431,'CMS Downtime Detail'!$D$24:$D$500,$D431,'CMS Downtime Detail'!$E$24:$E$500,\"Quality Assurance/Quality Control Calibrations\"))","v":""},{"$f":"IF($E431=\"\",\"\",SUMIFS('CMS Downtime Detail'!$K$24:$K$500,'CMS Downtime Detail'!$B$24:$B$500,$B431,'CMS Downtime Detail'!$C$24:$C$500,$C431,'CMS Downtime Detail'!$D$24:$D$500,$D431,'CMS Downtime Detail'!$E$24:$E$500,\"Other Known Causes\"))","v":""},{"$f":"IF($E431=\"\",\"\",SUMIFS('CMS Downtime Detail'!$K$24:$K$500,'CMS Downtime Detail'!$B$24:$B$500,$B431,'CMS Downtime Detail'!$C$24:$C$500,$C431,'CMS Downtime Detail'!$D$24:$D$500,$D431,'CMS Downtime Detail'!$E$24:$E$500,\"Other Unknown Causes\"))","v":""}]
[null,{"$f":"IF(Lists!AQ410=\"\",\"\",Lists!AQ410)","v":""},{"$f":"IF(Lists!AR410=\"\",\"\",Lists!AR410)","v":""},{"$f":"IF(Lists!AS410=\"\",\"\",Lists!AS410)","v":""},{"$f":"IF(D432=\"\",\"\",VLOOKUP(B432&C432,Lists!$BA$2:$BD$78,4,FALSE))","v":""},"","",{"$f":"IF($E432=\"\",\"\",SUMIFS('CMS Downtime Detail'!$K$24:$K$500,'CMS Downtime Detail'!$B$24:$B$500,$B432,'CMS Downtime Detail'!$C$24:$C$500,$C432,'CMS Downtime Detail'!$D$24:$D$500,$D432,'CMS Downtime Detail'!$E$24:$E$500,\"Monitoring Equipment Malfunctions\"))","v":""},{"$f":"IF($E432=\"\",\"\",SUMIFS('CMS Downtime Detail'!$K$24:$K$500,'CMS Downtime Detail'!$B$24:$B$500,$B432,'CMS Downtime Detail'!$C$24:$C$500,$C432,'CMS Downtime Detail'!$D$24:$D$500,$D432,'CMS Downtime Detail'!$E$24:$E$500,\"Nonmonitoring Equipment Malfunctions\"))","v":""},{"$f":"IF($E432=\"\",\"\",SUMIFS('CMS Downtime Detail'!$K$24:$K$500,'CMS Downtime Detail'!$B$24:$B$500,$B432,'CMS Downtime Detail'!$C$24:$C$500,$C432,'CMS Downtime Detail'!$D$24:$D$500,$D432,'CMS Downtime Detail'!$E$24:$E$500,\"Quality Assurance/Quality Control Calibrations\"))","v":""},{"$f":"IF($E432=\"\",\"\",SUMIFS('CMS Downtime Detail'!$K$24:$K$500,'CMS Downtime Detail'!$B$24:$B$500,$B432,'CMS Downtime Detail'!$C$24:$C$500,$C432,'CMS Downtime Detail'!$D$24:$D$500,$D432,'CMS Downtime Detail'!$E$24:$E$500,\"Other Known Causes\"))","v":""},{"$f":"IF($E432=\"\",\"\",SUMIFS('CMS Downtime Detail'!$K$24:$K$500,'CMS Downtime Detail'!$B$24:$B$500,$B432,'CMS Downtime Detail'!$C$24:$C$500,$C432,'CMS Downtime Detail'!$D$24:$D$500,$D432,'CMS Downtime Detail'!$E$24:$E$500,\"Other Unknown Causes\"))","v":""}]
[null,{"$f":"IF(Lists!AQ411=\"\",\"\",Lists!AQ411)","v":""},{"$f":"IF(Lists!AR411=\"\",\"\",Lists!AR411)","v":""},{"$f":"IF(Lists!AS411=\"\",\"\",Lists!AS411)","v":""},{"$f":"IF(D433=\"\",\"\",VLOOKUP(B433&C433,Lists!$BA$2:$BD$78,4,FALSE))","v":""},"","",{"$f":"IF($E433=\"\",\"\",SUMIFS('CMS Downtime Detail'!$K$24:$K$500,'CMS Downtime Detail'!$B$24:$B$500,$B433,'CMS Downtime Detail'!$C$24:$C$500,$C433,'CMS Downtime Detail'!$D$24:$D$500,$D433,'CMS Downtime Detail'!$E$24:$E$500,\"Monitoring Equipment Malfunctions\"))","v":""},{"$f":"IF($E433=\"\",\"\",SUMIFS('CMS Downtime Detail'!$K$24:$K$500,'CMS Downtime Detail'!$B$24:$B$500,$B433,'CMS Downtime Detail'!$C$24:$C$500,$C433,'CMS Downtime Detail'!$D$24:$D$500,$D433,'CMS Downtime Detail'!$E$24:$E$500,\"Nonmonitoring Equipment Malfunctions\"))","v":""},{"$f":"IF($E433=\"\",\"\",SUMIFS('CMS Downtime Detail'!$K$24:$K$500,'CMS Downtime Detail'!$B$24:$B$500,$B433,'CMS Downtime Detail'!$C$24:$C$500,$C433,'CMS Downtime Detail'!$D$24:$D$500,$D433,'CMS Downtime Detail'!$E$24:$E$500,\"Quality Assurance/Quality Control Calibrations\"))","v":""},{"$f":"IF($E433=\"\",\"\",SUMIFS('CMS Downtime Detail'!$K$24:$K$500,'CMS Downtime Detail'!$B$24:$B$500,$B433,'CMS Downtime Detail'!$C$24:$C$500,$C433,'CMS Downtime Detail'!$D$24:$D$500,$D433,'CMS Downtime Detail'!$E$24:$E$500,\"Other Known Causes\"))","v":""},{"$f":"IF($E433=\"\",\"\",SUMIFS('CMS Downtime Detail'!$K$24:$K$500,'CMS Downtime Detail'!$B$24:$B$500,$B433,'CMS Downtime Detail'!$C$24:$C$500,$C433,'CMS Downtime Detail'!$D$24:$D$500,$D433,'CMS Downtime Detail'!$E$24:$E$500,\"Other Unknown Causes\"))","v":""}]
[null,{"$f":"IF(Lists!AQ412=\"\",\"\",Lists!AQ412)","v":""},{"$f":"IF(Lists!AR412=\"\",\"\",Lists!AR412)","v":""},{"$f":"IF(Lists!AS412=\"\",\"\",Lists!AS412)","v":""},{"$f":"IF(D434=\"\",\"\",VLOOKUP(B434&C434,Lists!$BA$2:$BD$78,4,FALSE))","v":""},"","",{"$f":"IF($E434=\"\",\"\",SUMIFS('CMS Downtime Detail'!$K$24:$K$500,'CMS Downtime Detail'!$B$24:$B$500,$B434,'CMS Downtime Detail'!$C$24:$C$500,$C434,'CMS Downtime Detail'!$D$24:$D$500,$D434,'CMS Downtime Detail'!$E$24:$E$500,\"Monitoring Equipment Malfunctions\"))","v":""},{"$f":"IF($E434=\"\",\"\",SUMIFS('CMS Downtime Detail'!$K$24:$K$500,'CMS Downtime Detail'!$B$24:$B$500,$B434,'CMS Downtime Detail'!$C$24:$C$500,$C434,'CMS Downtime Detail'!$D$24:$D$500,$D434,'CMS Downtime Detail'!$E$24:$E$500,\"Nonmonitoring Equipment Malfunctions\"))","v":""},{"$f":"IF($E434=\"\",\"\",SUMIFS('CMS Downtime Detail'!$K$24:$K$500,'CMS Downtime Detail'!$B$24:$B$500,$B434,'CMS Downtime Detail'!$C$24:$C$500,$C434,'CMS Downtime Detail'!$D$24:$D$500,$D434,'CMS Downtime Detail'!$E$24:$E$500,\"Quality Assurance/Quality Control Calibrations\"))","v":""},{"$f":"IF($E434=\"\",\"\",SUMIFS('CMS Downtime Detail'!$K$24:$K$500,'CMS Downtime Detail'!$B$24:$B$500,$B434,'CMS Downtime Detail'!$C$24:$C$500,$C434,'CMS Downtime Detail'!$D$24:$D$500,$D434,'CMS Downtime Detail'!$E$24:$E$500,\"Other Known Causes\"))","v":""},{"$f":"IF($E434=\"\",\"\",SUMIFS('CMS Downtime Detail'!$K$24:$K$500,'CMS Downtime Detail'!$B$24:$B$500,$B434,'CMS Downtime Detail'!$C$24:$C$500,$C434,'CMS Downtime Detail'!$D$24:$D$500,$D434,'CMS Downtime Detail'!$E$24:$E$500,\"Other Unknown Causes\"))","v":""}]
[null,{"$f":"IF(Lists!AQ413=\"\",\"\",Lists!AQ413)","v":""},{"$f":"IF(Lists!AR413=\"\",\"\",Lists!AR413)","v":""},{"$f":"IF(Lists!AS413=\"\",\"\",Lists!AS413)","v":""},{"$f":"IF(D435=\"\",\"\",VLOOKUP(B435&C435,Lists!$BA$2:$BD$78,4,FALSE))","v":""},"","",{"$f":"IF($E435=\"\",\"\",SUMIFS('CMS Downtime Detail'!$K$24:$K$500,'CMS Downtime Detail'!$B$24:$B$500,$B435,'CMS Downtime Detail'!$C$24:$C$500,$C435,'CMS Downtime Detail'!$D$24:$D$500,$D435,'CMS Downtime Detail'!$E$24:$E$500,\"Monitoring Equipment Malfunctions\"))","v":""},{"$f":"IF($E435=\"\",\"\",SUMIFS('CMS Downtime Detail'!$K$24:$K$500,'CMS Downtime Detail'!$B$24:$B$500,$B435,'CMS Downtime Detail'!$C$24:$C$500,$C435,'CMS Downtime Detail'!$D$24:$D$500,$D435,'CMS Downtime Detail'!$E$24:$E$500,\"Nonmonitoring Equipment Malfunctions\"))","v":""},{"$f":"IF($E435=\"\",\"\",SUMIFS('CMS Downtime Detail'!$K$24:$K$500,'CMS Downtime Detail'!$B$24:$B$500,$B435,'CMS Downtime Detail'!$C$24:$C$500,$C435,'CMS Downtime Detail'!$D$24:$D$500,$D435,'CMS Downtime Detail'!$E$24:$E$500,\"Quality Assurance/Quality Control Calibrations\"))","v":""},{"$f":"IF($E435=\"\",\"\",SUMIFS('CMS Downtime Detail'!$K$24:$K$500,'CMS Downtime Detail'!$B$24:$B$500,$B435,'CMS Downtime Detail'!$C$24:$C$500,$C435,'CMS Downtime Detail'!$D$24:$D$500,$D435,'CMS Downtime Detail'!$E$24:$E$500,\"Other Known Causes\"))","v":""},{"$f":"IF($E435=\"\",\"\",SUMIFS('CMS Downtime Detail'!$K$24:$K$500,'CMS Downtime Detail'!$B$24:$B$500,$B435,'CMS Downtime Detail'!$C$24:$C$500,$C435,'CMS Downtime Detail'!$D$24:$D$500,$D435,'CMS Downtime Detail'!$E$24:$E$500,\"Other Unknown Causes\"))","v":""}]
[null,{"$f":"IF(Lists!AQ414=\"\",\"\",Lists!AQ414)","v":""},{"$f":"IF(Lists!AR414=\"\",\"\",Lists!AR414)","v":""},{"$f":"IF(Lists!AS414=\"\",\"\",Lists!AS414)","v":""},{"$f":"IF(D436=\"\",\"\",VLOOKUP(B436&C436,Lists!$BA$2:$BD$78,4,FALSE))","v":""},"","",{"$f":"IF($E436=\"\",\"\",SUMIFS('CMS Downtime Detail'!$K$24:$K$500,'CMS Downtime Detail'!$B$24:$B$500,$B436,'CMS Downtime Detail'!$C$24:$C$500,$C436,'CMS Downtime Detail'!$D$24:$D$500,$D436,'CMS Downtime Detail'!$E$24:$E$500,\"Monitoring Equipment Malfunctions\"))","v":""},{"$f":"IF($E436=\"\",\"\",SUMIFS('CMS Downtime Detail'!$K$24:$K$500,'CMS Downtime Detail'!$B$24:$B$500,$B436,'CMS Downtime Detail'!$C$24:$C$500,$C436,'CMS Downtime Detail'!$D$24:$D$500,$D436,'CMS Downtime Detail'!$E$24:$E$500,\"Nonmonitoring Equipment Malfunctions\"))","v":""},{"$f":"IF($E436=\"\",\"\",SUMIFS('CMS Downtime Detail'!$K$24:$K$500,'CMS Downtime Detail'!$B$24:$B$500,$B436,'CMS Downtime Detail'!$C$24:$C$500,$C436,'CMS Downtime Detail'!$D$24:$D$500,$D436,'CMS Downtime Detail'!$E$24:$E$500,\"Quality Assurance/Quality Control Calibrations\"))","v":""},{"$f":"IF($E436=\"\",\"\",SUMIFS('CMS Downtime Detail'!$K$24:$K$500,'CMS Downtime Detail'!$B$24:$B$500,$B436,'CMS Downtime Detail'!$C$24:$C$500,$C436,'CMS Downtime Detail'!$D$24:$D$500,$D436,'CMS Downtime Detail'!$E$24:$E$500,\"Other Known Causes\"))","v":""},{"$f":"IF($E436=\"\",\"\",SUMIFS('CMS Downtime Detail'!$K$24:$K$500,'CMS Downtime Detail'!$B$24:$B$500,$B436,'CMS Downtime Detail'!$C$24:$C$500,$C436,'CMS Downtime Detail'!$D$24:$D$500,$D436,'CMS Downtime Detail'!$E$24:$E$500,\"Other Unknown Causes\"))","v":""}]
[null,{"$f":"IF(Lists!AQ415=\"\",\"\",Lists!AQ415)","v":""},{"$f":"IF(Lists!AR415=\"\",\"\",Lists!AR415)","v":""},{"$f":"IF(Lists!AS415=\"\",\"\",Lists!AS415)","v":""},{"$f":"IF(D437=\"\",\"\",VLOOKUP(B437&C437,Lists!$BA$2:$BD$78,4,FALSE))","v":""},"","",{"$f":"IF($E437=\"\",\"\",SUMIFS('CMS Downtime Detail'!$K$24:$K$500,'CMS Downtime Detail'!$B$24:$B$500,$B437,'CMS Downtime Detail'!$C$24:$C$500,$C437,'CMS Downtime Detail'!$D$24:$D$500,$D437,'CMS Downtime Detail'!$E$24:$E$500,\"Monitoring Equipment Malfunctions\"))","v":""},{"$f":"IF($E437=\"\",\"\",SUMIFS('CMS Downtime Detail'!$K$24:$K$500,'CMS Downtime Detail'!$B$24:$B$500,$B437,'CMS Downtime Detail'!$C$24:$C$500,$C437,'CMS Downtime Detail'!$D$24:$D$500,$D437,'CMS Downtime Detail'!$E$24:$E$500,\"Nonmonitoring Equipment Malfunctions\"))","v":""},{"$f":"IF($E437=\"\",\"\",SUMIFS('CMS Downtime Detail'!$K$24:$K$500,'CMS Downtime Detail'!$B$24:$B$500,$B437,'CMS Downtime Detail'!$C$24:$C$500,$C437,'CMS Downtime Detail'!$D$24:$D$500,$D437,'CMS Downtime Detail'!$E$24:$E$500,\"Quality Assurance/Quality Control Calibrations\"))","v":""},{"$f":"IF($E437=\"\",\"\",SUMIFS('CMS Downtime Detail'!$K$24:$K$500,'CMS Downtime Detail'!$B$24:$B$500,$B437,'CMS Downtime Detail'!$C$24:$C$500,$C437,'CMS Downtime Detail'!$D$24:$D$500,$D437,'CMS Downtime Detail'!$E$24:$E$500,\"Other Known Causes\"))","v":""},{"$f":"IF($E437=\"\",\"\",SUMIFS('CMS Downtime Detail'!$K$24:$K$500,'CMS Downtime Detail'!$B$24:$B$500,$B437,'CMS Downtime Detail'!$C$24:$C$500,$C437,'CMS Downtime Detail'!$D$24:$D$500,$D437,'CMS Downtime Detail'!$E$24:$E$500,\"Other Unknown Causes\"))","v":""}]
[null,{"$f":"IF(Lists!AQ416=\"\",\"\",Lists!AQ416)","v":""},{"$f":"IF(Lists!AR416=\"\",\"\",Lists!AR416)","v":""},{"$f":"IF(Lists!AS416=\"\",\"\",Lists!AS416)","v":""},{"$f":"IF(D438=\"\",\"\",VLOOKUP(B438&C438,Lists!$BA$2:$BD$78,4,FALSE))","v":""},"","",{"$f":"IF($E438=\"\",\"\",SUMIFS('CMS Downtime Detail'!$K$24:$K$500,'CMS Downtime Detail'!$B$24:$B$500,$B438,'CMS Downtime Detail'!$C$24:$C$500,$C438,'CMS Downtime Detail'!$D$24:$D$500,$D438,'CMS Downtime Detail'!$E$24:$E$500,\"Monitoring Equipment Malfunctions\"))","v":""},{"$f":"IF($E438=\"\",\"\",SUMIFS('CMS Downtime Detail'!$K$24:$K$500,'CMS Downtime Detail'!$B$24:$B$500,$B438,'CMS Downtime Detail'!$C$24:$C$500,$C438,'CMS Downtime Detail'!$D$24:$D$500,$D438,'CMS Downtime Detail'!$E$24:$E$500,\"Nonmonitoring Equipment Malfunctions\"))","v":""},{"$f":"IF($E438=\"\",\"\",SUMIFS('CMS Downtime Detail'!$K$24:$K$500,'CMS Downtime Detail'!$B$24:$B$500,$B438,'CMS Downtime Detail'!$C$24:$C$500,$C438,'CMS Downtime Detail'!$D$24:$D$500,$D438,'CMS Downtime Detail'!$E$24:$E$500,\"Quality Assurance/Quality Control Calibrations\"))","v":""},{"$f":"IF($E438=\"\",\"\",SUMIFS('CMS Downtime Detail'!$K$24:$K$500,'CMS Downtime Detail'!$B$24:$B$500,$B438,'CMS Downtime Detail'!$C$24:$C$500,$C438,'CMS Downtime Detail'!$D$24:$D$500,$D438,'CMS Downtime Detail'!$E$24:$E$500,\"Other Known Causes\"))","v":""},{"$f":"IF($E438=\"\",\"\",SUMIFS('CMS Downtime Detail'!$K$24:$K$500,'CMS Downtime Detail'!$B$24:$B$500,$B438,'CMS Downtime Detail'!$C$24:$C$500,$C438,'CMS Downtime Detail'!$D$24:$D$500,$D438,'CMS Downtime Detail'!$E$24:$E$500,\"Other Unknown Causes\"))","v":""}]
[null,{"$f":"IF(Lists!AQ417=\"\",\"\",Lists!AQ417)","v":""},{"$f":"IF(Lists!AR417=\"\",\"\",Lists!AR417)","v":""},{"$f":"IF(Lists!AS417=\"\",\"\",Lists!AS417)","v":""},{"$f":"IF(D439=\"\",\"\",VLOOKUP(B439&C439,Lists!$BA$2:$BD$78,4,FALSE))","v":""},"","",{"$f":"IF($E439=\"\",\"\",SUMIFS('CMS Downtime Detail'!$K$24:$K$500,'CMS Downtime Detail'!$B$24:$B$500,$B439,'CMS Downtime Detail'!$C$24:$C$500,$C439,'CMS Downtime Detail'!$D$24:$D$500,$D439,'CMS Downtime Detail'!$E$24:$E$500,\"Monitoring Equipment Malfunctions\"))","v":""},{"$f":"IF($E439=\"\",\"\",SUMIFS('CMS Downtime Detail'!$K$24:$K$500,'CMS Downtime Detail'!$B$24:$B$500,$B439,'CMS Downtime Detail'!$C$24:$C$500,$C439,'CMS Downtime Detail'!$D$24:$D$500,$D439,'CMS Downtime Detail'!$E$24:$E$500,\"Nonmonitoring Equipment Malfunctions\"))","v":""},{"$f":"IF($E439=\"\",\"\",SUMIFS('CMS Downtime Detail'!$K$24:$K$500,'CMS Downtime Detail'!$B$24:$B$500,$B439,'CMS Downtime Detail'!$C$24:$C$500,$C439,'CMS Downtime Detail'!$D$24:$D$500,$D439,'CMS Downtime Detail'!$E$24:$E$500,\"Quality Assurance/Quality Control Calibrations\"))","v":""},{"$f":"IF($E439=\"\",\"\",SUMIFS('CMS Downtime Detail'!$K$24:$K$500,'CMS Downtime Detail'!$B$24:$B$500,$B439,'CMS Downtime Detail'!$C$24:$C$500,$C439,'CMS Downtime Detail'!$D$24:$D$500,$D439,'CMS Downtime Detail'!$E$24:$E$500,\"Other Known Causes\"))","v":""},{"$f":"IF($E439=\"\",\"\",SUMIFS('CMS Downtime Detail'!$K$24:$K$500,'CMS Downtime Detail'!$B$24:$B$500,$B439,'CMS Downtime Detail'!$C$24:$C$500,$C439,'CMS Downtime Detail'!$D$24:$D$500,$D439,'CMS Downtime Detail'!$E$24:$E$500,\"Other Unknown Causes\"))","v":""}]
[null,{"$f":"IF(Lists!AQ418=\"\",\"\",Lists!AQ418)","v":""},{"$f":"IF(Lists!AR418=\"\",\"\",Lists!AR418)","v":""},{"$f":"IF(Lists!AS418=\"\",\"\",Lists!AS418)","v":""},{"$f":"IF(D440=\"\",\"\",VLOOKUP(B440&C440,Lists!$BA$2:$BD$78,4,FALSE))","v":""},"","",{"$f":"IF($E440=\"\",\"\",SUMIFS('CMS Downtime Detail'!$K$24:$K$500,'CMS Downtime Detail'!$B$24:$B$500,$B440,'CMS Downtime Detail'!$C$24:$C$500,$C440,'CMS Downtime Detail'!$D$24:$D$500,$D440,'CMS Downtime Detail'!$E$24:$E$500,\"Monitoring Equipment Malfunctions\"))","v":""},{"$f":"IF($E440=\"\",\"\",SUMIFS('CMS Downtime Detail'!$K$24:$K$500,'CMS Downtime Detail'!$B$24:$B$500,$B440,'CMS Downtime Detail'!$C$24:$C$500,$C440,'CMS Downtime Detail'!$D$24:$D$500,$D440,'CMS Downtime Detail'!$E$24:$E$500,\"Nonmonitoring Equipment Malfunctions\"))","v":""},{"$f":"IF($E440=\"\",\"\",SUMIFS('CMS Downtime Detail'!$K$24:$K$500,'CMS Downtime Detail'!$B$24:$B$500,$B440,'CMS Downtime Detail'!$C$24:$C$500,$C440,'CMS Downtime Detail'!$D$24:$D$500,$D440,'CMS Downtime Detail'!$E$24:$E$500,\"Quality Assurance/Quality Control Calibrations\"))","v":""},{"$f":"IF($E440=\"\",\"\",SUMIFS('CMS Downtime Detail'!$K$24:$K$500,'CMS Downtime Detail'!$B$24:$B$500,$B440,'CMS Downtime Detail'!$C$24:$C$500,$C440,'CMS Downtime Detail'!$D$24:$D$500,$D440,'CMS Downtime Detail'!$E$24:$E$500,\"Other Known Causes\"))","v":""},{"$f":"IF($E440=\"\",\"\",SUMIFS('CMS Downtime Detail'!$K$24:$K$500,'CMS Downtime Detail'!$B$24:$B$500,$B440,'CMS Downtime Detail'!$C$24:$C$500,$C440,'CMS Downtime Detail'!$D$24:$D$500,$D440,'CMS Downtime Detail'!$E$24:$E$500,\"Other Unknown Causes\"))","v":""}]
[null,{"$f":"IF(Lists!AQ419=\"\",\"\",Lists!AQ419)","v":""},{"$f":"IF(Lists!AR419=\"\",\"\",Lists!AR419)","v":""},{"$f":"IF(Lists!AS419=\"\",\"\",Lists!AS419)","v":""},{"$f":"IF(D441=\"\",\"\",VLOOKUP(B441&C441,Lists!$BA$2:$BD$78,4,FALSE))","v":""},"","",{"$f":"IF($E441=\"\",\"\",SUMIFS('CMS Downtime Detail'!$K$24:$K$500,'CMS Downtime Detail'!$B$24:$B$500,$B441,'CMS Downtime Detail'!$C$24:$C$500,$C441,'CMS Downtime Detail'!$D$24:$D$500,$D441,'CMS Downtime Detail'!$E$24:$E$500,\"Monitoring Equipment Malfunctions\"))","v":""},{"$f":"IF($E441=\"\",\"\",SUMIFS('CMS Downtime Detail'!$K$24:$K$500,'CMS Downtime Detail'!$B$24:$B$500,$B441,'CMS Downtime Detail'!$C$24:$C$500,$C441,'CMS Downtime Detail'!$D$24:$D$500,$D441,'CMS Downtime Detail'!$E$24:$E$500,\"Nonmonitoring Equipment Malfunctions\"))","v":""},{"$f":"IF($E441=\"\",\"\",SUMIFS('CMS Downtime Detail'!$K$24:$K$500,'CMS Downtime Detail'!$B$24:$B$500,$B441,'CMS Downtime Detail'!$C$24:$C$500,$C441,'CMS Downtime Detail'!$D$24:$D$500,$D441,'CMS Downtime Detail'!$E$24:$E$500,\"Quality Assurance/Quality Control Calibrations\"))","v":""},{"$f":"IF($E441=\"\",\"\",SUMIFS('CMS Downtime Detail'!$K$24:$K$500,'CMS Downtime Detail'!$B$24:$B$500,$B441,'CMS Downtime Detail'!$C$24:$C$500,$C441,'CMS Downtime Detail'!$D$24:$D$500,$D441,'CMS Downtime Detail'!$E$24:$E$500,\"Other Known Causes\"))","v":""},{"$f":"IF($E441=\"\",\"\",SUMIFS('CMS Downtime Detail'!$K$24:$K$500,'CMS Downtime Detail'!$B$24:$B$500,$B441,'CMS Downtime Detail'!$C$24:$C$500,$C441,'CMS Downtime Detail'!$D$24:$D$500,$D441,'CMS Downtime Detail'!$E$24:$E$500,\"Other Unknown Causes\"))","v":""}]
[null,{"$f":"IF(Lists!AQ420=\"\",\"\",Lists!AQ420)","v":""},{"$f":"IF(Lists!AR420=\"\",\"\",Lists!AR420)","v":""},{"$f":"IF(Lists!AS420=\"\",\"\",Lists!AS420)","v":""},{"$f":"IF(D442=\"\",\"\",VLOOKUP(B442&C442,Lists!$BA$2:$BD$78,4,FALSE))","v":""},"","",{"$f":"IF($E442=\"\",\"\",SUMIFS('CMS Downtime Detail'!$K$24:$K$500,'CMS Downtime Detail'!$B$24:$B$500,$B442,'CMS Downtime Detail'!$C$24:$C$500,$C442,'CMS Downtime Detail'!$D$24:$D$500,$D442,'CMS Downtime Detail'!$E$24:$E$500,\"Monitoring Equipment Malfunctions\"))","v":""},{"$f":"IF($E442=\"\",\"\",SUMIFS('CMS Downtime Detail'!$K$24:$K$500,'CMS Downtime Detail'!$B$24:$B$500,$B442,'CMS Downtime Detail'!$C$24:$C$500,$C442,'CMS Downtime Detail'!$D$24:$D$500,$D442,'CMS Downtime Detail'!$E$24:$E$500,\"Nonmonitoring Equipment Malfunctions\"))","v":""},{"$f":"IF($E442=\"\",\"\",SUMIFS('CMS Downtime Detail'!$K$24:$K$500,'CMS Downtime Detail'!$B$24:$B$500,$B442,'CMS Downtime Detail'!$C$24:$C$500,$C442,'CMS Downtime Detail'!$D$24:$D$500,$D442,'CMS Downtime Detail'!$E$24:$E$500,\"Quality Assurance/Quality Control Calibrations\"))","v":""},{"$f":"IF($E442=\"\",\"\",SUMIFS('CMS Downtime Detail'!$K$24:$K$500,'CMS Downtime Detail'!$B$24:$B$500,$B442,'CMS Downtime Detail'!$C$24:$C$500,$C442,'CMS Downtime Detail'!$D$24:$D$500,$D442,'CMS Downtime Detail'!$E$24:$E$500,\"Other Known Causes\"))","v":""},{"$f":"IF($E442=\"\",\"\",SUMIFS('CMS Downtime Detail'!$K$24:$K$500,'CMS Downtime Detail'!$B$24:$B$500,$B442,'CMS Downtime Detail'!$C$24:$C$500,$C442,'CMS Downtime Detail'!$D$24:$D$500,$D442,'CMS Downtime Detail'!$E$24:$E$500,\"Other Unknown Causes\"))","v":""}]
[null,{"$f":"IF(Lists!AQ421=\"\",\"\",Lists!AQ421)","v":""},{"$f":"IF(Lists!AR421=\"\",\"\",Lists!AR421)","v":""},{"$f":"IF(Lists!AS421=\"\",\"\",Lists!AS421)","v":""},{"$f":"IF(D443=\"\",\"\",VLOOKUP(B443&C443,Lists!$BA$2:$BD$78,4,FALSE))","v":""},"","",{"$f":"IF($E443=\"\",\"\",SUMIFS('CMS Downtime Detail'!$K$24:$K$500,'CMS Downtime Detail'!$B$24:$B$500,$B443,'CMS Downtime Detail'!$C$24:$C$500,$C443,'CMS Downtime Detail'!$D$24:$D$500,$D443,'CMS Downtime Detail'!$E$24:$E$500,\"Monitoring Equipment Malfunctions\"))","v":""},{"$f":"IF($E443=\"\",\"\",SUMIFS('CMS Downtime Detail'!$K$24:$K$500,'CMS Downtime Detail'!$B$24:$B$500,$B443,'CMS Downtime Detail'!$C$24:$C$500,$C443,'CMS Downtime Detail'!$D$24:$D$500,$D443,'CMS Downtime Detail'!$E$24:$E$500,\"Nonmonitoring Equipment Malfunctions\"))","v":""},{"$f":"IF($E443=\"\",\"\",SUMIFS('CMS Downtime Detail'!$K$24:$K$500,'CMS Downtime Detail'!$B$24:$B$500,$B443,'CMS Downtime Detail'!$C$24:$C$500,$C443,'CMS Downtime Detail'!$D$24:$D$500,$D443,'CMS Downtime Detail'!$E$24:$E$500,\"Quality Assurance/Quality Control Calibrations\"))","v":""},{"$f":"IF($E443=\"\",\"\",SUMIFS('CMS Downtime Detail'!$K$24:$K$500,'CMS Downtime Detail'!$B$24:$B$500,$B443,'CMS Downtime Detail'!$C$24:$C$500,$C443,'CMS Downtime Detail'!$D$24:$D$500,$D443,'CMS Downtime Detail'!$E$24:$E$500,\"Other Known Causes\"))","v":""},{"$f":"IF($E443=\"\",\"\",SUMIFS('CMS Downtime Detail'!$K$24:$K$500,'CMS Downtime Detail'!$B$24:$B$500,$B443,'CMS Downtime Detail'!$C$24:$C$500,$C443,'CMS Downtime Detail'!$D$24:$D$500,$D443,'CMS Downtime Detail'!$E$24:$E$500,\"Other Unknown Causes\"))","v":""}]
[null,{"$f":"IF(Lists!AQ422=\"\",\"\",Lists!AQ422)","v":""},{"$f":"IF(Lists!AR422=\"\",\"\",Lists!AR422)","v":""},{"$f":"IF(Lists!AS422=\"\",\"\",Lists!AS422)","v":""},{"$f":"IF(D444=\"\",\"\",VLOOKUP(B444&C444,Lists!$BA$2:$BD$78,4,FALSE))","v":""},"","",{"$f":"IF($E444=\"\",\"\",SUMIFS('CMS Downtime Detail'!$K$24:$K$500,'CMS Downtime Detail'!$B$24:$B$500,$B444,'CMS Downtime Detail'!$C$24:$C$500,$C444,'CMS Downtime Detail'!$D$24:$D$500,$D444,'CMS Downtime Detail'!$E$24:$E$500,\"Monitoring Equipment Malfunctions\"))","v":""},{"$f":"IF($E444=\"\",\"\",SUMIFS('CMS Downtime Detail'!$K$24:$K$500,'CMS Downtime Detail'!$B$24:$B$500,$B444,'CMS Downtime Detail'!$C$24:$C$500,$C444,'CMS Downtime Detail'!$D$24:$D$500,$D444,'CMS Downtime Detail'!$E$24:$E$500,\"Nonmonitoring Equipment Malfunctions\"))","v":""},{"$f":"IF($E444=\"\",\"\",SUMIFS('CMS Downtime Detail'!$K$24:$K$500,'CMS Downtime Detail'!$B$24:$B$500,$B444,'CMS Downtime Detail'!$C$24:$C$500,$C444,'CMS Downtime Detail'!$D$24:$D$500,$D444,'CMS Downtime Detail'!$E$24:$E$500,\"Quality Assurance/Quality Control Calibrations\"))","v":""},{"$f":"IF($E444=\"\",\"\",SUMIFS('CMS Downtime Detail'!$K$24:$K$500,'CMS Downtime Detail'!$B$24:$B$500,$B444,'CMS Downtime Detail'!$C$24:$C$500,$C444,'CMS Downtime Detail'!$D$24:$D$500,$D444,'CMS Downtime Detail'!$E$24:$E$500,\"Other Known Causes\"))","v":""},{"$f":"IF($E444=\"\",\"\",SUMIFS('CMS Downtime Detail'!$K$24:$K$500,'CMS Downtime Detail'!$B$24:$B$500,$B444,'CMS Downtime Detail'!$C$24:$C$500,$C444,'CMS Downtime Detail'!$D$24:$D$500,$D444,'CMS Downtime Detail'!$E$24:$E$500,\"Other Unknown Causes\"))","v":""}]
[null,{"$f":"IF(Lists!AQ423=\"\",\"\",Lists!AQ423)","v":""},{"$f":"IF(Lists!AR423=\"\",\"\",Lists!AR423)","v":""},{"$f":"IF(Lists!AS423=\"\",\"\",Lists!AS423)","v":""},{"$f":"IF(D445=\"\",\"\",VLOOKUP(B445&C445,Lists!$BA$2:$BD$78,4,FALSE))","v":""},"","",{"$f":"IF($E445=\"\",\"\",SUMIFS('CMS Downtime Detail'!$K$24:$K$500,'CMS Downtime Detail'!$B$24:$B$500,$B445,'CMS Downtime Detail'!$C$24:$C$500,$C445,'CMS Downtime Detail'!$D$24:$D$500,$D445,'CMS Downtime Detail'!$E$24:$E$500,\"Monitoring Equipment Malfunctions\"))","v":""},{"$f":"IF($E445=\"\",\"\",SUMIFS('CMS Downtime Detail'!$K$24:$K$500,'CMS Downtime Detail'!$B$24:$B$500,$B445,'CMS Downtime Detail'!$C$24:$C$500,$C445,'CMS Downtime Detail'!$D$24:$D$500,$D445,'CMS Downtime Detail'!$E$24:$E$500,\"Nonmonitoring Equipment Malfunctions\"))","v":""},{"$f":"IF($E445=\"\",\"\",SUMIFS('CMS Downtime Detail'!$K$24:$K$500,'CMS Downtime Detail'!$B$24:$B$500,$B445,'CMS Downtime Detail'!$C$24:$C$500,$C445,'CMS Downtime Detail'!$D$24:$D$500,$D445,'CMS Downtime Detail'!$E$24:$E$500,\"Quality Assurance/Quality Control Calibrations\"))","v":""},{"$f":"IF($E445=\"\",\"\",SUMIFS('CMS Downtime Detail'!$K$24:$K$500,'CMS Downtime Detail'!$B$24:$B$500,$B445,'CMS Downtime Detail'!$C$24:$C$500,$C445,'CMS Downtime Detail'!$D$24:$D$500,$D445,'CMS Downtime Detail'!$E$24:$E$500,\"Other Known Causes\"))","v":""},{"$f":"IF($E445=\"\",\"\",SUMIFS('CMS Downtime Detail'!$K$24:$K$500,'CMS Downtime Detail'!$B$24:$B$500,$B445,'CMS Downtime Detail'!$C$24:$C$500,$C445,'CMS Downtime Detail'!$D$24:$D$500,$D445,'CMS Downtime Detail'!$E$24:$E$500,\"Other Unknown Causes\"))","v":""}]
[null,{"$f":"IF(Lists!AQ424=\"\",\"\",Lists!AQ424)","v":""},{"$f":"IF(Lists!AR424=\"\",\"\",Lists!AR424)","v":""},{"$f":"IF(Lists!AS424=\"\",\"\",Lists!AS424)","v":""},{"$f":"IF(D446=\"\",\"\",VLOOKUP(B446&C446,Lists!$BA$2:$BD$78,4,FALSE))","v":""},"","",{"$f":"IF($E446=\"\",\"\",SUMIFS('CMS Downtime Detail'!$K$24:$K$500,'CMS Downtime Detail'!$B$24:$B$500,$B446,'CMS Downtime Detail'!$C$24:$C$500,$C446,'CMS Downtime Detail'!$D$24:$D$500,$D446,'CMS Downtime Detail'!$E$24:$E$500,\"Monitoring Equipment Malfunctions\"))","v":""},{"$f":"IF($E446=\"\",\"\",SUMIFS('CMS Downtime Detail'!$K$24:$K$500,'CMS Downtime Detail'!$B$24:$B$500,$B446,'CMS Downtime Detail'!$C$24:$C$500,$C446,'CMS Downtime Detail'!$D$24:$D$500,$D446,'CMS Downtime Detail'!$E$24:$E$500,\"Nonmonitoring Equipment Malfunctions\"))","v":""},{"$f":"IF($E446=\"\",\"\",SUMIFS('CMS Downtime Detail'!$K$24:$K$500,'CMS Downtime Detail'!$B$24:$B$500,$B446,'CMS Downtime Detail'!$C$24:$C$500,$C446,'CMS Downtime Detail'!$D$24:$D$500,$D446,'CMS Downtime Detail'!$E$24:$E$500,\"Quality Assurance/Quality Control Calibrations\"))","v":""},{"$f":"IF($E446=\"\",\"\",SUMIFS('CMS Downtime Detail'!$K$24:$K$500,'CMS Downtime Detail'!$B$24:$B$500,$B446,'CMS Downtime Detail'!$C$24:$C$500,$C446,'CMS Downtime Detail'!$D$24:$D$500,$D446,'CMS Downtime Detail'!$E$24:$E$500,\"Other Known Causes\"))","v":""},{"$f":"IF($E446=\"\",\"\",SUMIFS('CMS Downtime Detail'!$K$24:$K$500,'CMS Downtime Detail'!$B$24:$B$500,$B446,'CMS Downtime Detail'!$C$24:$C$500,$C446,'CMS Downtime Detail'!$D$24:$D$500,$D446,'CMS Downtime Detail'!$E$24:$E$500,\"Other Unknown Causes\"))","v":""}]
[null,{"$f":"IF(Lists!AQ425=\"\",\"\",Lists!AQ425)","v":""},{"$f":"IF(Lists!AR425=\"\",\"\",Lists!AR425)","v":""},{"$f":"IF(Lists!AS425=\"\",\"\",Lists!AS425)","v":""},{"$f":"IF(D447=\"\",\"\",VLOOKUP(B447&C447,Lists!$BA$2:$BD$78,4,FALSE))","v":""},"","",{"$f":"IF($E447=\"\",\"\",SUMIFS('CMS Downtime Detail'!$K$24:$K$500,'CMS Downtime Detail'!$B$24:$B$500,$B447,'CMS Downtime Detail'!$C$24:$C$500,$C447,'CMS Downtime Detail'!$D$24:$D$500,$D447,'CMS Downtime Detail'!$E$24:$E$500,\"Monitoring Equipment Malfunctions\"))","v":""},{"$f":"IF($E447=\"\",\"\",SUMIFS('CMS Downtime Detail'!$K$24:$K$500,'CMS Downtime Detail'!$B$24:$B$500,$B447,'CMS Downtime Detail'!$C$24:$C$500,$C447,'CMS Downtime Detail'!$D$24:$D$500,$D447,'CMS Downtime Detail'!$E$24:$E$500,\"Nonmonitoring Equipment Malfunctions\"))","v":""},{"$f":"IF($E447=\"\",\"\",SUMIFS('CMS Downtime Detail'!$K$24:$K$500,'CMS Downtime Detail'!$B$24:$B$500,$B447,'CMS Downtime Detail'!$C$24:$C$500,$C447,'CMS Downtime Detail'!$D$24:$D$500,$D447,'CMS Downtime Detail'!$E$24:$E$500,\"Quality Assurance/Quality Control Calibrations\"))","v":""},{"$f":"IF($E447=\"\",\"\",SUMIFS('CMS Downtime Detail'!$K$24:$K$500,'CMS Downtime Detail'!$B$24:$B$500,$B447,'CMS Downtime Detail'!$C$24:$C$500,$C447,'CMS Downtime Detail'!$D$24:$D$500,$D447,'CMS Downtime Detail'!$E$24:$E$500,\"Other Known Causes\"))","v":""},{"$f":"IF($E447=\"\",\"\",SUMIFS('CMS Downtime Detail'!$K$24:$K$500,'CMS Downtime Detail'!$B$24:$B$500,$B447,'CMS Downtime Detail'!$C$24:$C$500,$C447,'CMS Downtime Detail'!$D$24:$D$500,$D447,'CMS Downtime Detail'!$E$24:$E$500,\"Other Unknown Causes\"))","v":""}]
[null,{"$f":"IF(Lists!AQ426=\"\",\"\",Lists!AQ426)","v":""},{"$f":"IF(Lists!AR426=\"\",\"\",Lists!AR426)","v":""},{"$f":"IF(Lists!AS426=\"\",\"\",Lists!AS426)","v":""},{"$f":"IF(D448=\"\",\"\",VLOOKUP(B448&C448,Lists!$BA$2:$BD$78,4,FALSE))","v":""},"","",{"$f":"IF($E448=\"\",\"\",SUMIFS('CMS Downtime Detail'!$K$24:$K$500,'CMS Downtime Detail'!$B$24:$B$500,$B448,'CMS Downtime Detail'!$C$24:$C$500,$C448,'CMS Downtime Detail'!$D$24:$D$500,$D448,'CMS Downtime Detail'!$E$24:$E$500,\"Monitoring Equipment Malfunctions\"))","v":""},{"$f":"IF($E448=\"\",\"\",SUMIFS('CMS Downtime Detail'!$K$24:$K$500,'CMS Downtime Detail'!$B$24:$B$500,$B448,'CMS Downtime Detail'!$C$24:$C$500,$C448,'CMS Downtime Detail'!$D$24:$D$500,$D448,'CMS Downtime Detail'!$E$24:$E$500,\"Nonmonitoring Equipment Malfunctions\"))","v":""},{"$f":"IF($E448=\"\",\"\",SUMIFS('CMS Downtime Detail'!$K$24:$K$500,'CMS Downtime Detail'!$B$24:$B$500,$B448,'CMS Downtime Detail'!$C$24:$C$500,$C448,'CMS Downtime Detail'!$D$24:$D$500,$D448,'CMS Downtime Detail'!$E$24:$E$500,\"Quality Assurance/Quality Control Calibrations\"))","v":""},{"$f":"IF($E448=\"\",\"\",SUMIFS('CMS Downtime Detail'!$K$24:$K$500,'CMS Downtime Detail'!$B$24:$B$500,$B448,'CMS Downtime Detail'!$C$24:$C$500,$C448,'CMS Downtime Detail'!$D$24:$D$500,$D448,'CMS Downtime Detail'!$E$24:$E$500,\"Other Known Causes\"))","v":""},{"$f":"IF($E448=\"\",\"\",SUMIFS('CMS Downtime Detail'!$K$24:$K$500,'CMS Downtime Detail'!$B$24:$B$500,$B448,'CMS Downtime Detail'!$C$24:$C$500,$C448,'CMS Downtime Detail'!$D$24:$D$500,$D448,'CMS Downtime Detail'!$E$24:$E$500,\"Other Unknown Causes\"))","v":""}]
[null,{"$f":"IF(Lists!AQ427=\"\",\"\",Lists!AQ427)","v":""},{"$f":"IF(Lists!AR427=\"\",\"\",Lists!AR427)","v":""},{"$f":"IF(Lists!AS427=\"\",\"\",Lists!AS427)","v":""},{"$f":"IF(D449=\"\",\"\",VLOOKUP(B449&C449,Lists!$BA$2:$BD$78,4,FALSE))","v":""},"","",{"$f":"IF($E449=\"\",\"\",SUMIFS('CMS Downtime Detail'!$K$24:$K$500,'CMS Downtime Detail'!$B$24:$B$500,$B449,'CMS Downtime Detail'!$C$24:$C$500,$C449,'CMS Downtime Detail'!$D$24:$D$500,$D449,'CMS Downtime Detail'!$E$24:$E$500,\"Monitoring Equipment Malfunctions\"))","v":""},{"$f":"IF($E449=\"\",\"\",SUMIFS('CMS Downtime Detail'!$K$24:$K$500,'CMS Downtime Detail'!$B$24:$B$500,$B449,'CMS Downtime Detail'!$C$24:$C$500,$C449,'CMS Downtime Detail'!$D$24:$D$500,$D449,'CMS Downtime Detail'!$E$24:$E$500,\"Nonmonitoring Equipment Malfunctions\"))","v":""},{"$f":"IF($E449=\"\",\"\",SUMIFS('CMS Downtime Detail'!$K$24:$K$500,'CMS Downtime Detail'!$B$24:$B$500,$B449,'CMS Downtime Detail'!$C$24:$C$500,$C449,'CMS Downtime Detail'!$D$24:$D$500,$D449,'CMS Downtime Detail'!$E$24:$E$500,\"Quality Assurance/Quality Control Calibrations\"))","v":""},{"$f":"IF($E449=\"\",\"\",SUMIFS('CMS Downtime Detail'!$K$24:$K$500,'CMS Downtime Detail'!$B$24:$B$500,$B449,'CMS Downtime Detail'!$C$24:$C$500,$C449,'CMS Downtime Detail'!$D$24:$D$500,$D449,'CMS Downtime Detail'!$E$24:$E$500,\"Other Known Causes\"))","v":""},{"$f":"IF($E449=\"\",\"\",SUMIFS('CMS Downtime Detail'!$K$24:$K$500,'CMS Downtime Detail'!$B$24:$B$500,$B449,'CMS Downtime Detail'!$C$24:$C$500,$C449,'CMS Downtime Detail'!$D$24:$D$500,$D449,'CMS Downtime Detail'!$E$24:$E$500,\"Other Unknown Causes\"))","v":""}]
[null,{"$f":"IF(Lists!AQ428=\"\",\"\",Lists!AQ428)","v":""},{"$f":"IF(Lists!AR428=\"\",\"\",Lists!AR428)","v":""},{"$f":"IF(Lists!AS428=\"\",\"\",Lists!AS428)","v":""},{"$f":"IF(D450=\"\",\"\",VLOOKUP(B450&C450,Lists!$BA$2:$BD$78,4,FALSE))","v":""},"","",{"$f":"IF($E450=\"\",\"\",SUMIFS('CMS Downtime Detail'!$K$24:$K$500,'CMS Downtime Detail'!$B$24:$B$500,$B450,'CMS Downtime Detail'!$C$24:$C$500,$C450,'CMS Downtime Detail'!$D$24:$D$500,$D450,'CMS Downtime Detail'!$E$24:$E$500,\"Monitoring Equipment Malfunctions\"))","v":""},{"$f":"IF($E450=\"\",\"\",SUMIFS('CMS Downtime Detail'!$K$24:$K$500,'CMS Downtime Detail'!$B$24:$B$500,$B450,'CMS Downtime Detail'!$C$24:$C$500,$C450,'CMS Downtime Detail'!$D$24:$D$500,$D450,'CMS Downtime Detail'!$E$24:$E$500,\"Nonmonitoring Equipment Malfunctions\"))","v":""},{"$f":"IF($E450=\"\",\"\",SUMIFS('CMS Downtime Detail'!$K$24:$K$500,'CMS Downtime Detail'!$B$24:$B$500,$B450,'CMS Downtime Detail'!$C$24:$C$500,$C450,'CMS Downtime Detail'!$D$24:$D$500,$D450,'CMS Downtime Detail'!$E$24:$E$500,\"Quality Assurance/Quality Control Calibrations\"))","v":""},{"$f":"IF($E450=\"\",\"\",SUMIFS('CMS Downtime Detail'!$K$24:$K$500,'CMS Downtime Detail'!$B$24:$B$500,$B450,'CMS Downtime Detail'!$C$24:$C$500,$C450,'CMS Downtime Detail'!$D$24:$D$500,$D450,'CMS Downtime Detail'!$E$24:$E$500,\"Other Known Causes\"))","v":""},{"$f":"IF($E450=\"\",\"\",SUMIFS('CMS Downtime Detail'!$K$24:$K$500,'CMS Downtime Detail'!$B$24:$B$500,$B450,'CMS Downtime Detail'!$C$24:$C$500,$C450,'CMS Downtime Detail'!$D$24:$D$500,$D450,'CMS Downtime Detail'!$E$24:$E$500,\"Other Unknown Causes\"))","v":""}]
[null,{"$f":"IF(Lists!AQ429=\"\",\"\",Lists!AQ429)","v":""},{"$f":"IF(Lists!AR429=\"\",\"\",Lists!AR429)","v":""},{"$f":"IF(Lists!AS429=\"\",\"\",Lists!AS429)","v":""},{"$f":"IF(D451=\"\",\"\",VLOOKUP(B451&C451,Lists!$BA$2:$BD$78,4,FALSE))","v":""},"","",{"$f":"IF($E451=\"\",\"\",SUMIFS('CMS Downtime Detail'!$K$24:$K$500,'CMS Downtime Detail'!$B$24:$B$500,$B451,'CMS Downtime Detail'!$C$24:$C$500,$C451,'CMS Downtime Detail'!$D$24:$D$500,$D451,'CMS Downtime Detail'!$E$24:$E$500,\"Monitoring Equipment Malfunctions\"))","v":""},{"$f":"IF($E451=\"\",\"\",SUMIFS('CMS Downtime Detail'!$K$24:$K$500,'CMS Downtime Detail'!$B$24:$B$500,$B451,'CMS Downtime Detail'!$C$24:$C$500,$C451,'CMS Downtime Detail'!$D$24:$D$500,$D451,'CMS Downtime Detail'!$E$24:$E$500,\"Nonmonitoring Equipment Malfunctions\"))","v":""},{"$f":"IF($E451=\"\",\"\",SUMIFS('CMS Downtime Detail'!$K$24:$K$500,'CMS Downtime Detail'!$B$24:$B$500,$B451,'CMS Downtime Detail'!$C$24:$C$500,$C451,'CMS Downtime Detail'!$D$24:$D$500,$D451,'CMS Downtime Detail'!$E$24:$E$500,\"Quality Assurance/Quality Control Calibrations\"))","v":""},{"$f":"IF($E451=\"\",\"\",SUMIFS('CMS Downtime Detail'!$K$24:$K$500,'CMS Downtime Detail'!$B$24:$B$500,$B451,'CMS Downtime Detail'!$C$24:$C$500,$C451,'CMS Downtime Detail'!$D$24:$D$500,$D451,'CMS Downtime Detail'!$E$24:$E$500,\"Other Known Causes\"))","v":""},{"$f":"IF($E451=\"\",\"\",SUMIFS('CMS Downtime Detail'!$K$24:$K$500,'CMS Downtime Detail'!$B$24:$B$500,$B451,'CMS Downtime Detail'!$C$24:$C$500,$C451,'CMS Downtime Detail'!$D$24:$D$500,$D451,'CMS Downtime Detail'!$E$24:$E$500,\"Other Unknown Causes\"))","v":""}]
[null,{"$f":"IF(Lists!AQ430=\"\",\"\",Lists!AQ430)","v":""},{"$f":"IF(Lists!AR430=\"\",\"\",Lists!AR430)","v":""},{"$f":"IF(Lists!AS430=\"\",\"\",Lists!AS430)","v":""},{"$f":"IF(D452=\"\",\"\",VLOOKUP(B452&C452,Lists!$BA$2:$BD$78,4,FALSE))","v":""},"","",{"$f":"IF($E452=\"\",\"\",SUMIFS('CMS Downtime Detail'!$K$24:$K$500,'CMS Downtime Detail'!$B$24:$B$500,$B452,'CMS Downtime Detail'!$C$24:$C$500,$C452,'CMS Downtime Detail'!$D$24:$D$500,$D452,'CMS Downtime Detail'!$E$24:$E$500,\"Monitoring Equipment Malfunctions\"))","v":""},{"$f":"IF($E452=\"\",\"\",SUMIFS('CMS Downtime Detail'!$K$24:$K$500,'CMS Downtime Detail'!$B$24:$B$500,$B452,'CMS Downtime Detail'!$C$24:$C$500,$C452,'CMS Downtime Detail'!$D$24:$D$500,$D452,'CMS Downtime Detail'!$E$24:$E$500,\"Nonmonitoring Equipment Malfunctions\"))","v":""},{"$f":"IF($E452=\"\",\"\",SUMIFS('CMS Downtime Detail'!$K$24:$K$500,'CMS Downtime Detail'!$B$24:$B$500,$B452,'CMS Downtime Detail'!$C$24:$C$500,$C452,'CMS Downtime Detail'!$D$24:$D$500,$D452,'CMS Downtime Detail'!$E$24:$E$500,\"Quality Assurance/Quality Control Calibrations\"))","v":""},{"$f":"IF($E452=\"\",\"\",SUMIFS('CMS Downtime Detail'!$K$24:$K$500,'CMS Downtime Detail'!$B$24:$B$500,$B452,'CMS Downtime Detail'!$C$24:$C$500,$C452,'CMS Downtime Detail'!$D$24:$D$500,$D452,'CMS Downtime Detail'!$E$24:$E$500,\"Other Known Causes\"))","v":""},{"$f":"IF($E452=\"\",\"\",SUMIFS('CMS Downtime Detail'!$K$24:$K$500,'CMS Downtime Detail'!$B$24:$B$500,$B452,'CMS Downtime Detail'!$C$24:$C$500,$C452,'CMS Downtime Detail'!$D$24:$D$500,$D452,'CMS Downtime Detail'!$E$24:$E$500,\"Other Unknown Causes\"))","v":""}]
[null,{"$f":"IF(Lists!AQ431=\"\",\"\",Lists!AQ431)","v":""},{"$f":"IF(Lists!AR431=\"\",\"\",Lists!AR431)","v":""},{"$f":"IF(Lists!AS431=\"\",\"\",Lists!AS431)","v":""},{"$f":"IF(D453=\"\",\"\",VLOOKUP(B453&C453,Lists!$BA$2:$BD$78,4,FALSE))","v":""},"","",{"$f":"IF($E453=\"\",\"\",SUMIFS('CMS Downtime Detail'!$K$24:$K$500,'CMS Downtime Detail'!$B$24:$B$500,$B453,'CMS Downtime Detail'!$C$24:$C$500,$C453,'CMS Downtime Detail'!$D$24:$D$500,$D453,'CMS Downtime Detail'!$E$24:$E$500,\"Monitoring Equipment Malfunctions\"))","v":""},{"$f":"IF($E453=\"\",\"\",SUMIFS('CMS Downtime Detail'!$K$24:$K$500,'CMS Downtime Detail'!$B$24:$B$500,$B453,'CMS Downtime Detail'!$C$24:$C$500,$C453,'CMS Downtime Detail'!$D$24:$D$500,$D453,'CMS Downtime Detail'!$E$24:$E$500,\"Nonmonitoring Equipment Malfunctions\"))","v":""},{"$f":"IF($E453=\"\",\"\",SUMIFS('CMS Downtime Detail'!$K$24:$K$500,'CMS Downtime Detail'!$B$24:$B$500,$B453,'CMS Downtime Detail'!$C$24:$C$500,$C453,'CMS Downtime Detail'!$D$24:$D$500,$D453,'CMS Downtime Detail'!$E$24:$E$500,\"Quality Assurance/Quality Control Calibrations\"))","v":""},{"$f":"IF($E453=\"\",\"\",SUMIFS('CMS Downtime Detail'!$K$24:$K$500,'CMS Downtime Detail'!$B$24:$B$500,$B453,'CMS Downtime Detail'!$C$24:$C$500,$C453,'CMS Downtime Detail'!$D$24:$D$500,$D453,'CMS Downtime Detail'!$E$24:$E$500,\"Other Known Causes\"))","v":""},{"$f":"IF($E453=\"\",\"\",SUMIFS('CMS Downtime Detail'!$K$24:$K$500,'CMS Downtime Detail'!$B$24:$B$500,$B453,'CMS Downtime Detail'!$C$24:$C$500,$C453,'CMS Downtime Detail'!$D$24:$D$500,$D453,'CMS Downtime Detail'!$E$24:$E$500,\"Other Unknown Causes\"))","v":""}]
[null,{"$f":"IF(Lists!AQ432=\"\",\"\",Lists!AQ432)","v":""},{"$f":"IF(Lists!AR432=\"\",\"\",Lists!AR432)","v":""},{"$f":"IF(Lists!AS432=\"\",\"\",Lists!AS432)","v":""},{"$f":"IF(D454=\"\",\"\",VLOOKUP(B454&C454,Lists!$BA$2:$BD$78,4,FALSE))","v":""},"","",{"$f":"IF($E454=\"\",\"\",SUMIFS('CMS Downtime Detail'!$K$24:$K$500,'CMS Downtime Detail'!$B$24:$B$500,$B454,'CMS Downtime Detail'!$C$24:$C$500,$C454,'CMS Downtime Detail'!$D$24:$D$500,$D454,'CMS Downtime Detail'!$E$24:$E$500,\"Monitoring Equipment Malfunctions\"))","v":""},{"$f":"IF($E454=\"\",\"\",SUMIFS('CMS Downtime Detail'!$K$24:$K$500,'CMS Downtime Detail'!$B$24:$B$500,$B454,'CMS Downtime Detail'!$C$24:$C$500,$C454,'CMS Downtime Detail'!$D$24:$D$500,$D454,'CMS Downtime Detail'!$E$24:$E$500,\"Nonmonitoring Equipment Malfunctions\"))","v":""},{"$f":"IF($E454=\"\",\"\",SUMIFS('CMS Downtime Detail'!$K$24:$K$500,'CMS Downtime Detail'!$B$24:$B$500,$B454,'CMS Downtime Detail'!$C$24:$C$500,$C454,'CMS Downtime Detail'!$D$24:$D$500,$D454,'CMS Downtime Detail'!$E$24:$E$500,\"Quality Assurance/Quality Control Calibrations\"))","v":""},{"$f":"IF($E454=\"\",\"\",SUMIFS('CMS Downtime Detail'!$K$24:$K$500,'CMS Downtime Detail'!$B$24:$B$500,$B454,'CMS Downtime Detail'!$C$24:$C$500,$C454,'CMS Downtime Detail'!$D$24:$D$500,$D454,'CMS Downtime Detail'!$E$24:$E$500,\"Other Known Causes\"))","v":""},{"$f":"IF($E454=\"\",\"\",SUMIFS('CMS Downtime Detail'!$K$24:$K$500,'CMS Downtime Detail'!$B$24:$B$500,$B454,'CMS Downtime Detail'!$C$24:$C$500,$C454,'CMS Downtime Detail'!$D$24:$D$500,$D454,'CMS Downtime Detail'!$E$24:$E$500,\"Other Unknown Causes\"))","v":""}]
[null,{"$f":"IF(Lists!AQ433=\"\",\"\",Lists!AQ433)","v":""},{"$f":"IF(Lists!AR433=\"\",\"\",Lists!AR433)","v":""},{"$f":"IF(Lists!AS433=\"\",\"\",Lists!AS433)","v":""},{"$f":"IF(D455=\"\",\"\",VLOOKUP(B455&C455,Lists!$BA$2:$BD$78,4,FALSE))","v":""},"","",{"$f":"IF($E455=\"\",\"\",SUMIFS('CMS Downtime Detail'!$K$24:$K$500,'CMS Downtime Detail'!$B$24:$B$500,$B455,'CMS Downtime Detail'!$C$24:$C$500,$C455,'CMS Downtime Detail'!$D$24:$D$500,$D455,'CMS Downtime Detail'!$E$24:$E$500,\"Monitoring Equipment Malfunctions\"))","v":""},{"$f":"IF($E455=\"\",\"\",SUMIFS('CMS Downtime Detail'!$K$24:$K$500,'CMS Downtime Detail'!$B$24:$B$500,$B455,'CMS Downtime Detail'!$C$24:$C$500,$C455,'CMS Downtime Detail'!$D$24:$D$500,$D455,'CMS Downtime Detail'!$E$24:$E$500,\"Nonmonitoring Equipment Malfunctions\"))","v":""},{"$f":"IF($E455=\"\",\"\",SUMIFS('CMS Downtime Detail'!$K$24:$K$500,'CMS Downtime Detail'!$B$24:$B$500,$B455,'CMS Downtime Detail'!$C$24:$C$500,$C455,'CMS Downtime Detail'!$D$24:$D$500,$D455,'CMS Downtime Detail'!$E$24:$E$500,\"Quality Assurance/Quality Control Calibrations\"))","v":""},{"$f":"IF($E455=\"\",\"\",SUMIFS('CMS Downtime Detail'!$K$24:$K$500,'CMS Downtime Detail'!$B$24:$B$500,$B455,'CMS Downtime Detail'!$C$24:$C$500,$C455,'CMS Downtime Detail'!$D$24:$D$500,$D455,'CMS Downtime Detail'!$E$24:$E$500,\"Other Known Causes\"))","v":""},{"$f":"IF($E455=\"\",\"\",SUMIFS('CMS Downtime Detail'!$K$24:$K$500,'CMS Downtime Detail'!$B$24:$B$500,$B455,'CMS Downtime Detail'!$C$24:$C$500,$C455,'CMS Downtime Detail'!$D$24:$D$500,$D455,'CMS Downtime Detail'!$E$24:$E$500,\"Other Unknown Causes\"))","v":""}]
[null,{"$f":"IF(Lists!AQ434=\"\",\"\",Lists!AQ434)","v":""},{"$f":"IF(Lists!AR434=\"\",\"\",Lists!AR434)","v":""},{"$f":"IF(Lists!AS434=\"\",\"\",Lists!AS434)","v":""},{"$f":"IF(D456=\"\",\"\",VLOOKUP(B456&C456,Lists!$BA$2:$BD$78,4,FALSE))","v":""},"","",{"$f":"IF($E456=\"\",\"\",SUMIFS('CMS Downtime Detail'!$K$24:$K$500,'CMS Downtime Detail'!$B$24:$B$500,$B456,'CMS Downtime Detail'!$C$24:$C$500,$C456,'CMS Downtime Detail'!$D$24:$D$500,$D456,'CMS Downtime Detail'!$E$24:$E$500,\"Monitoring Equipment Malfunctions\"))","v":""},{"$f":"IF($E456=\"\",\"\",SUMIFS('CMS Downtime Detail'!$K$24:$K$500,'CMS Downtime Detail'!$B$24:$B$500,$B456,'CMS Downtime Detail'!$C$24:$C$500,$C456,'CMS Downtime Detail'!$D$24:$D$500,$D456,'CMS Downtime Detail'!$E$24:$E$500,\"Nonmonitoring Equipment Malfunctions\"))","v":""},{"$f":"IF($E456=\"\",\"\",SUMIFS('CMS Downtime Detail'!$K$24:$K$500,'CMS Downtime Detail'!$B$24:$B$500,$B456,'CMS Downtime Detail'!$C$24:$C$500,$C456,'CMS Downtime Detail'!$D$24:$D$500,$D456,'CMS Downtime Detail'!$E$24:$E$500,\"Quality Assurance/Quality Control Calibrations\"))","v":""},{"$f":"IF($E456=\"\",\"\",SUMIFS('CMS Downtime Detail'!$K$24:$K$500,'CMS Downtime Detail'!$B$24:$B$500,$B456,'CMS Downtime Detail'!$C$24:$C$500,$C456,'CMS Downtime Detail'!$D$24:$D$500,$D456,'CMS Downtime Detail'!$E$24:$E$500,\"Other Known Causes\"))","v":""},{"$f":"IF($E456=\"\",\"\",SUMIFS('CMS Downtime Detail'!$K$24:$K$500,'CMS Downtime Detail'!$B$24:$B$500,$B456,'CMS Downtime Detail'!$C$24:$C$500,$C456,'CMS Downtime Detail'!$D$24:$D$500,$D456,'CMS Downtime Detail'!$E$24:$E$500,\"Other Unknown Causes\"))","v":""}]
[null,{"$f":"IF(Lists!AQ435=\"\",\"\",Lists!AQ435)","v":""},{"$f":"IF(Lists!AR435=\"\",\"\",Lists!AR435)","v":""},{"$f":"IF(Lists!AS435=\"\",\"\",Lists!AS435)","v":""},{"$f":"IF(D457=\"\",\"\",VLOOKUP(B457&C457,Lists!$BA$2:$BD$78,4,FALSE))","v":""},"","",{"$f":"IF($E457=\"\",\"\",SUMIFS('CMS Downtime Detail'!$K$24:$K$500,'CMS Downtime Detail'!$B$24:$B$500,$B457,'CMS Downtime Detail'!$C$24:$C$500,$C457,'CMS Downtime Detail'!$D$24:$D$500,$D457,'CMS Downtime Detail'!$E$24:$E$500,\"Monitoring Equipment Malfunctions\"))","v":""},{"$f":"IF($E457=\"\",\"\",SUMIFS('CMS Downtime Detail'!$K$24:$K$500,'CMS Downtime Detail'!$B$24:$B$500,$B457,'CMS Downtime Detail'!$C$24:$C$500,$C457,'CMS Downtime Detail'!$D$24:$D$500,$D457,'CMS Downtime Detail'!$E$24:$E$500,\"Nonmonitoring Equipment Malfunctions\"))","v":""},{"$f":"IF($E457=\"\",\"\",SUMIFS('CMS Downtime Detail'!$K$24:$K$500,'CMS Downtime Detail'!$B$24:$B$500,$B457,'CMS Downtime Detail'!$C$24:$C$500,$C457,'CMS Downtime Detail'!$D$24:$D$500,$D457,'CMS Downtime Detail'!$E$24:$E$500,\"Quality Assurance/Quality Control Calibrations\"))","v":""},{"$f":"IF($E457=\"\",\"\",SUMIFS('CMS Downtime Detail'!$K$24:$K$500,'CMS Downtime Detail'!$B$24:$B$500,$B457,'CMS Downtime Detail'!$C$24:$C$500,$C457,'CMS Downtime Detail'!$D$24:$D$500,$D457,'CMS Downtime Detail'!$E$24:$E$500,\"Other Known Causes\"))","v":""},{"$f":"IF($E457=\"\",\"\",SUMIFS('CMS Downtime Detail'!$K$24:$K$500,'CMS Downtime Detail'!$B$24:$B$500,$B457,'CMS Downtime Detail'!$C$24:$C$500,$C457,'CMS Downtime Detail'!$D$24:$D$500,$D457,'CMS Downtime Detail'!$E$24:$E$500,\"Other Unknown Causes\"))","v":""}]
[null,{"$f":"IF(Lists!AQ436=\"\",\"\",Lists!AQ436)","v":""},{"$f":"IF(Lists!AR436=\"\",\"\",Lists!AR436)","v":""},{"$f":"IF(Lists!AS436=\"\",\"\",Lists!AS436)","v":""},{"$f":"IF(D458=\"\",\"\",VLOOKUP(B458&C458,Lists!$BA$2:$BD$78,4,FALSE))","v":""},"","",{"$f":"IF($E458=\"\",\"\",SUMIFS('CMS Downtime Detail'!$K$24:$K$500,'CMS Downtime Detail'!$B$24:$B$500,$B458,'CMS Downtime Detail'!$C$24:$C$500,$C458,'CMS Downtime Detail'!$D$24:$D$500,$D458,'CMS Downtime Detail'!$E$24:$E$500,\"Monitoring Equipment Malfunctions\"))","v":""},{"$f":"IF($E458=\"\",\"\",SUMIFS('CMS Downtime Detail'!$K$24:$K$500,'CMS Downtime Detail'!$B$24:$B$500,$B458,'CMS Downtime Detail'!$C$24:$C$500,$C458,'CMS Downtime Detail'!$D$24:$D$500,$D458,'CMS Downtime Detail'!$E$24:$E$500,\"Nonmonitoring Equipment Malfunctions\"))","v":""},{"$f":"IF($E458=\"\",\"\",SUMIFS('CMS Downtime Detail'!$K$24:$K$500,'CMS Downtime Detail'!$B$24:$B$500,$B458,'CMS Downtime Detail'!$C$24:$C$500,$C458,'CMS Downtime Detail'!$D$24:$D$500,$D458,'CMS Downtime Detail'!$E$24:$E$500,\"Quality Assurance/Quality Control Calibrations\"))","v":""},{"$f":"IF($E458=\"\",\"\",SUMIFS('CMS Downtime Detail'!$K$24:$K$500,'CMS Downtime Detail'!$B$24:$B$500,$B458,'CMS Downtime Detail'!$C$24:$C$500,$C458,'CMS Downtime Detail'!$D$24:$D$500,$D458,'CMS Downtime Detail'!$E$24:$E$500,\"Other Known Causes\"))","v":""},{"$f":"IF($E458=\"\",\"\",SUMIFS('CMS Downtime Detail'!$K$24:$K$500,'CMS Downtime Detail'!$B$24:$B$500,$B458,'CMS Downtime Detail'!$C$24:$C$500,$C458,'CMS Downtime Detail'!$D$24:$D$500,$D458,'CMS Downtime Detail'!$E$24:$E$500,\"Other Unknown Causes\"))","v":""}]
[null,{"$f":"IF(Lists!AQ437=\"\",\"\",Lists!AQ437)","v":""},{"$f":"IF(Lists!AR437=\"\",\"\",Lists!AR437)","v":""},{"$f":"IF(Lists!AS437=\"\",\"\",Lists!AS437)","v":""},{"$f":"IF(D459=\"\",\"\",VLOOKUP(B459&C459,Lists!$BA$2:$BD$78,4,FALSE))","v":""},"","",{"$f":"IF($E459=\"\",\"\",SUMIFS('CMS Downtime Detail'!$K$24:$K$500,'CMS Downtime Detail'!$B$24:$B$500,$B459,'CMS Downtime Detail'!$C$24:$C$500,$C459,'CMS Downtime Detail'!$D$24:$D$500,$D459,'CMS Downtime Detail'!$E$24:$E$500,\"Monitoring Equipment Malfunctions\"))","v":""},{"$f":"IF($E459=\"\",\"\",SUMIFS('CMS Downtime Detail'!$K$24:$K$500,'CMS Downtime Detail'!$B$24:$B$500,$B459,'CMS Downtime Detail'!$C$24:$C$500,$C459,'CMS Downtime Detail'!$D$24:$D$500,$D459,'CMS Downtime Detail'!$E$24:$E$500,\"Nonmonitoring Equipment Malfunctions\"))","v":""},{"$f":"IF($E459=\"\",\"\",SUMIFS('CMS Downtime Detail'!$K$24:$K$500,'CMS Downtime Detail'!$B$24:$B$500,$B459,'CMS Downtime Detail'!$C$24:$C$500,$C459,'CMS Downtime Detail'!$D$24:$D$500,$D459,'CMS Downtime Detail'!$E$24:$E$500,\"Quality Assurance/Quality Control Calibrations\"))","v":""},{"$f":"IF($E459=\"\",\"\",SUMIFS('CMS Downtime Detail'!$K$24:$K$500,'CMS Downtime Detail'!$B$24:$B$500,$B459,'CMS Downtime Detail'!$C$24:$C$500,$C459,'CMS Downtime Detail'!$D$24:$D$500,$D459,'CMS Downtime Detail'!$E$24:$E$500,\"Other Known Causes\"))","v":""},{"$f":"IF($E459=\"\",\"\",SUMIFS('CMS Downtime Detail'!$K$24:$K$500,'CMS Downtime Detail'!$B$24:$B$500,$B459,'CMS Downtime Detail'!$C$24:$C$500,$C459,'CMS Downtime Detail'!$D$24:$D$500,$D459,'CMS Downtime Detail'!$E$24:$E$500,\"Other Unknown Causes\"))","v":""}]
[null,{"$f":"IF(Lists!AQ438=\"\",\"\",Lists!AQ438)","v":""},{"$f":"IF(Lists!AR438=\"\",\"\",Lists!AR438)","v":""},{"$f":"IF(Lists!AS438=\"\",\"\",Lists!AS438)","v":""},{"$f":"IF(D460=\"\",\"\",VLOOKUP(B460&C460,Lists!$BA$2:$BD$78,4,FALSE))","v":""},"","",{"$f":"IF($E460=\"\",\"\",SUMIFS('CMS Downtime Detail'!$K$24:$K$500,'CMS Downtime Detail'!$B$24:$B$500,$B460,'CMS Downtime Detail'!$C$24:$C$500,$C460,'CMS Downtime Detail'!$D$24:$D$500,$D460,'CMS Downtime Detail'!$E$24:$E$500,\"Monitoring Equipment Malfunctions\"))","v":""},{"$f":"IF($E460=\"\",\"\",SUMIFS('CMS Downtime Detail'!$K$24:$K$500,'CMS Downtime Detail'!$B$24:$B$500,$B460,'CMS Downtime Detail'!$C$24:$C$500,$C460,'CMS Downtime Detail'!$D$24:$D$500,$D460,'CMS Downtime Detail'!$E$24:$E$500,\"Nonmonitoring Equipment Malfunctions\"))","v":""},{"$f":"IF($E460=\"\",\"\",SUMIFS('CMS Downtime Detail'!$K$24:$K$500,'CMS Downtime Detail'!$B$24:$B$500,$B460,'CMS Downtime Detail'!$C$24:$C$500,$C460,'CMS Downtime Detail'!$D$24:$D$500,$D460,'CMS Downtime Detail'!$E$24:$E$500,\"Quality Assurance/Quality Control Calibrations\"))","v":""},{"$f":"IF($E460=\"\",\"\",SUMIFS('CMS Downtime Detail'!$K$24:$K$500,'CMS Downtime Detail'!$B$24:$B$500,$B460,'CMS Downtime Detail'!$C$24:$C$500,$C460,'CMS Downtime Detail'!$D$24:$D$500,$D460,'CMS Downtime Detail'!$E$24:$E$500,\"Other Known Causes\"))","v":""},{"$f":"IF($E460=\"\",\"\",SUMIFS('CMS Downtime Detail'!$K$24:$K$500,'CMS Downtime Detail'!$B$24:$B$500,$B460,'CMS Downtime Detail'!$C$24:$C$500,$C460,'CMS Downtime Detail'!$D$24:$D$500,$D460,'CMS Downtime Detail'!$E$24:$E$500,\"Other Unknown Causes\"))","v":""}]
[null,{"$f":"IF(Lists!AQ439=\"\",\"\",Lists!AQ439)","v":""},{"$f":"IF(Lists!AR439=\"\",\"\",Lists!AR439)","v":""},{"$f":"IF(Lists!AS439=\"\",\"\",Lists!AS439)","v":""},{"$f":"IF(D461=\"\",\"\",VLOOKUP(B461&C461,Lists!$BA$2:$BD$78,4,FALSE))","v":""},"","",{"$f":"IF($E461=\"\",\"\",SUMIFS('CMS Downtime Detail'!$K$24:$K$500,'CMS Downtime Detail'!$B$24:$B$500,$B461,'CMS Downtime Detail'!$C$24:$C$500,$C461,'CMS Downtime Detail'!$D$24:$D$500,$D461,'CMS Downtime Detail'!$E$24:$E$500,\"Monitoring Equipment Malfunctions\"))","v":""},{"$f":"IF($E461=\"\",\"\",SUMIFS('CMS Downtime Detail'!$K$24:$K$500,'CMS Downtime Detail'!$B$24:$B$500,$B461,'CMS Downtime Detail'!$C$24:$C$500,$C461,'CMS Downtime Detail'!$D$24:$D$500,$D461,'CMS Downtime Detail'!$E$24:$E$500,\"Nonmonitoring Equipment Malfunctions\"))","v":""},{"$f":"IF($E461=\"\",\"\",SUMIFS('CMS Downtime Detail'!$K$24:$K$500,'CMS Downtime Detail'!$B$24:$B$500,$B461,'CMS Downtime Detail'!$C$24:$C$500,$C461,'CMS Downtime Detail'!$D$24:$D$500,$D461,'CMS Downtime Detail'!$E$24:$E$500,\"Quality Assurance/Quality Control Calibrations\"))","v":""},{"$f":"IF($E461=\"\",\"\",SUMIFS('CMS Downtime Detail'!$K$24:$K$500,'CMS Downtime Detail'!$B$24:$B$500,$B461,'CMS Downtime Detail'!$C$24:$C$500,$C461,'CMS Downtime Detail'!$D$24:$D$500,$D461,'CMS Downtime Detail'!$E$24:$E$500,\"Other Known Causes\"))","v":""},{"$f":"IF($E461=\"\",\"\",SUMIFS('CMS Downtime Detail'!$K$24:$K$500,'CMS Downtime Detail'!$B$24:$B$500,$B461,'CMS Downtime Detail'!$C$24:$C$500,$C461,'CMS Downtime Detail'!$D$24:$D$500,$D461,'CMS Downtime Detail'!$E$24:$E$500,\"Other Unknown Causes\"))","v":""}]
[null,{"$f":"IF(Lists!AQ440=\"\",\"\",Lists!AQ440)","v":""},{"$f":"IF(Lists!AR440=\"\",\"\",Lists!AR440)","v":""},{"$f":"IF(Lists!AS440=\"\",\"\",Lists!AS440)","v":""},{"$f":"IF(D462=\"\",\"\",VLOOKUP(B462&C462,Lists!$BA$2:$BD$78,4,FALSE))","v":""},"","",{"$f":"IF($E462=\"\",\"\",SUMIFS('CMS Downtime Detail'!$K$24:$K$500,'CMS Downtime Detail'!$B$24:$B$500,$B462,'CMS Downtime Detail'!$C$24:$C$500,$C462,'CMS Downtime Detail'!$D$24:$D$500,$D462,'CMS Downtime Detail'!$E$24:$E$500,\"Monitoring Equipment Malfunctions\"))","v":""},{"$f":"IF($E462=\"\",\"\",SUMIFS('CMS Downtime Detail'!$K$24:$K$500,'CMS Downtime Detail'!$B$24:$B$500,$B462,'CMS Downtime Detail'!$C$24:$C$500,$C462,'CMS Downtime Detail'!$D$24:$D$500,$D462,'CMS Downtime Detail'!$E$24:$E$500,\"Nonmonitoring Equipment Malfunctions\"))","v":""},{"$f":"IF($E462=\"\",\"\",SUMIFS('CMS Downtime Detail'!$K$24:$K$500,'CMS Downtime Detail'!$B$24:$B$500,$B462,'CMS Downtime Detail'!$C$24:$C$500,$C462,'CMS Downtime Detail'!$D$24:$D$500,$D462,'CMS Downtime Detail'!$E$24:$E$500,\"Quality Assurance/Quality Control Calibrations\"))","v":""},{"$f":"IF($E462=\"\",\"\",SUMIFS('CMS Downtime Detail'!$K$24:$K$500,'CMS Downtime Detail'!$B$24:$B$500,$B462,'CMS Downtime Detail'!$C$24:$C$500,$C462,'CMS Downtime Detail'!$D$24:$D$500,$D462,'CMS Downtime Detail'!$E$24:$E$500,\"Other Known Causes\"))","v":""},{"$f":"IF($E462=\"\",\"\",SUMIFS('CMS Downtime Detail'!$K$24:$K$500,'CMS Downtime Detail'!$B$24:$B$500,$B462,'CMS Downtime Detail'!$C$24:$C$500,$C462,'CMS Downtime Detail'!$D$24:$D$500,$D462,'CMS Downtime Detail'!$E$24:$E$500,\"Other Unknown Causes\"))","v":""}]
[null,{"$f":"IF(Lists!AQ441=\"\",\"\",Lists!AQ441)","v":""},{"$f":"IF(Lists!AR441=\"\",\"\",Lists!AR441)","v":""},{"$f":"IF(Lists!AS441=\"\",\"\",Lists!AS441)","v":""},{"$f":"IF(D463=\"\",\"\",VLOOKUP(B463&C463,Lists!$BA$2:$BD$78,4,FALSE))","v":""},"","",{"$f":"IF($E463=\"\",\"\",SUMIFS('CMS Downtime Detail'!$K$24:$K$500,'CMS Downtime Detail'!$B$24:$B$500,$B463,'CMS Downtime Detail'!$C$24:$C$500,$C463,'CMS Downtime Detail'!$D$24:$D$500,$D463,'CMS Downtime Detail'!$E$24:$E$500,\"Monitoring Equipment Malfunctions\"))","v":""},{"$f":"IF($E463=\"\",\"\",SUMIFS('CMS Downtime Detail'!$K$24:$K$500,'CMS Downtime Detail'!$B$24:$B$500,$B463,'CMS Downtime Detail'!$C$24:$C$500,$C463,'CMS Downtime Detail'!$D$24:$D$500,$D463,'CMS Downtime Detail'!$E$24:$E$500,\"Nonmonitoring Equipment Malfunctions\"))","v":""},{"$f":"IF($E463=\"\",\"\",SUMIFS('CMS Downtime Detail'!$K$24:$K$500,'CMS Downtime Detail'!$B$24:$B$500,$B463,'CMS Downtime Detail'!$C$24:$C$500,$C463,'CMS Downtime Detail'!$D$24:$D$500,$D463,'CMS Downtime Detail'!$E$24:$E$500,\"Quality Assurance/Quality Control Calibrations\"))","v":""},{"$f":"IF($E463=\"\",\"\",SUMIFS('CMS Downtime Detail'!$K$24:$K$500,'CMS Downtime Detail'!$B$24:$B$500,$B463,'CMS Downtime Detail'!$C$24:$C$500,$C463,'CMS Downtime Detail'!$D$24:$D$500,$D463,'CMS Downtime Detail'!$E$24:$E$500,\"Other Known Causes\"))","v":""},{"$f":"IF($E463=\"\",\"\",SUMIFS('CMS Downtime Detail'!$K$24:$K$500,'CMS Downtime Detail'!$B$24:$B$500,$B463,'CMS Downtime Detail'!$C$24:$C$500,$C463,'CMS Downtime Detail'!$D$24:$D$500,$D463,'CMS Downtime Detail'!$E$24:$E$500,\"Other Unknown Causes\"))","v":""}]
[null,{"$f":"IF(Lists!AQ442=\"\",\"\",Lists!AQ442)","v":""},{"$f":"IF(Lists!AR442=\"\",\"\",Lists!AR442)","v":""},{"$f":"IF(Lists!AS442=\"\",\"\",Lists!AS442)","v":""},{"$f":"IF(D464=\"\",\"\",VLOOKUP(B464&C464,Lists!$BA$2:$BD$78,4,FALSE))","v":""},"","",{"$f":"IF($E464=\"\",\"\",SUMIFS('CMS Downtime Detail'!$K$24:$K$500,'CMS Downtime Detail'!$B$24:$B$500,$B464,'CMS Downtime Detail'!$C$24:$C$500,$C464,'CMS Downtime Detail'!$D$24:$D$500,$D464,'CMS Downtime Detail'!$E$24:$E$500,\"Monitoring Equipment Malfunctions\"))","v":""},{"$f":"IF($E464=\"\",\"\",SUMIFS('CMS Downtime Detail'!$K$24:$K$500,'CMS Downtime Detail'!$B$24:$B$500,$B464,'CMS Downtime Detail'!$C$24:$C$500,$C464,'CMS Downtime Detail'!$D$24:$D$500,$D464,'CMS Downtime Detail'!$E$24:$E$500,\"Nonmonitoring Equipment Malfunctions\"))","v":""},{"$f":"IF($E464=\"\",\"\",SUMIFS('CMS Downtime Detail'!$K$24:$K$500,'CMS Downtime Detail'!$B$24:$B$500,$B464,'CMS Downtime Detail'!$C$24:$C$500,$C464,'CMS Downtime Detail'!$D$24:$D$500,$D464,'CMS Downtime Detail'!$E$24:$E$500,\"Quality Assurance/Quality Control Calibrations\"))","v":""},{"$f":"IF($E464=\"\",\"\",SUMIFS('CMS Downtime Detail'!$K$24:$K$500,'CMS Downtime Detail'!$B$24:$B$500,$B464,'CMS Downtime Detail'!$C$24:$C$500,$C464,'CMS Downtime Detail'!$D$24:$D$500,$D464,'CMS Downtime Detail'!$E$24:$E$500,\"Other Known Causes\"))","v":""},{"$f":"IF($E464=\"\",\"\",SUMIFS('CMS Downtime Detail'!$K$24:$K$500,'CMS Downtime Detail'!$B$24:$B$500,$B464,'CMS Downtime Detail'!$C$24:$C$500,$C464,'CMS Downtime Detail'!$D$24:$D$500,$D464,'CMS Downtime Detail'!$E$24:$E$500,\"Other Unknown Causes\"))","v":""}]
[null,{"$f":"IF(Lists!AQ443=\"\",\"\",Lists!AQ443)","v":""},{"$f":"IF(Lists!AR443=\"\",\"\",Lists!AR443)","v":""},{"$f":"IF(Lists!AS443=\"\",\"\",Lists!AS443)","v":""},{"$f":"IF(D465=\"\",\"\",VLOOKUP(B465&C465,Lists!$BA$2:$BD$78,4,FALSE))","v":""},"","",{"$f":"IF($E465=\"\",\"\",SUMIFS('CMS Downtime Detail'!$K$24:$K$500,'CMS Downtime Detail'!$B$24:$B$500,$B465,'CMS Downtime Detail'!$C$24:$C$500,$C465,'CMS Downtime Detail'!$D$24:$D$500,$D465,'CMS Downtime Detail'!$E$24:$E$500,\"Monitoring Equipment Malfunctions\"))","v":""},{"$f":"IF($E465=\"\",\"\",SUMIFS('CMS Downtime Detail'!$K$24:$K$500,'CMS Downtime Detail'!$B$24:$B$500,$B465,'CMS Downtime Detail'!$C$24:$C$500,$C465,'CMS Downtime Detail'!$D$24:$D$500,$D465,'CMS Downtime Detail'!$E$24:$E$500,\"Nonmonitoring Equipment Malfunctions\"))","v":""},{"$f":"IF($E465=\"\",\"\",SUMIFS('CMS Downtime Detail'!$K$24:$K$500,'CMS Downtime Detail'!$B$24:$B$500,$B465,'CMS Downtime Detail'!$C$24:$C$500,$C465,'CMS Downtime Detail'!$D$24:$D$500,$D465,'CMS Downtime Detail'!$E$24:$E$500,\"Quality Assurance/Quality Control Calibrations\"))","v":""},{"$f":"IF($E465=\"\",\"\",SUMIFS('CMS Downtime Detail'!$K$24:$K$500,'CMS Downtime Detail'!$B$24:$B$500,$B465,'CMS Downtime Detail'!$C$24:$C$500,$C465,'CMS Downtime Detail'!$D$24:$D$500,$D465,'CMS Downtime Detail'!$E$24:$E$500,\"Other Known Causes\"))","v":""},{"$f":"IF($E465=\"\",\"\",SUMIFS('CMS Downtime Detail'!$K$24:$K$500,'CMS Downtime Detail'!$B$24:$B$500,$B465,'CMS Downtime Detail'!$C$24:$C$500,$C465,'CMS Downtime Detail'!$D$24:$D$500,$D465,'CMS Downtime Detail'!$E$24:$E$500,\"Other Unknown Causes\"))","v":""}]
[null,{"$f":"IF(Lists!AQ444=\"\",\"\",Lists!AQ444)","v":""},{"$f":"IF(Lists!AR444=\"\",\"\",Lists!AR444)","v":""},{"$f":"IF(Lists!AS444=\"\",\"\",Lists!AS444)","v":""},{"$f":"IF(D466=\"\",\"\",VLOOKUP(B466&C466,Lists!$BA$2:$BD$78,4,FALSE))","v":""},"","",{"$f":"IF($E466=\"\",\"\",SUMIFS('CMS Downtime Detail'!$K$24:$K$500,'CMS Downtime Detail'!$B$24:$B$500,$B466,'CMS Downtime Detail'!$C$24:$C$500,$C466,'CMS Downtime Detail'!$D$24:$D$500,$D466,'CMS Downtime Detail'!$E$24:$E$500,\"Monitoring Equipment Malfunctions\"))","v":""},{"$f":"IF($E466=\"\",\"\",SUMIFS('CMS Downtime Detail'!$K$24:$K$500,'CMS Downtime Detail'!$B$24:$B$500,$B466,'CMS Downtime Detail'!$C$24:$C$500,$C466,'CMS Downtime Detail'!$D$24:$D$500,$D466,'CMS Downtime Detail'!$E$24:$E$500,\"Nonmonitoring Equipment Malfunctions\"))","v":""},{"$f":"IF($E466=\"\",\"\",SUMIFS('CMS Downtime Detail'!$K$24:$K$500,'CMS Downtime Detail'!$B$24:$B$500,$B466,'CMS Downtime Detail'!$C$24:$C$500,$C466,'CMS Downtime Detail'!$D$24:$D$500,$D466,'CMS Downtime Detail'!$E$24:$E$500,\"Quality Assurance/Quality Control Calibrations\"))","v":""},{"$f":"IF($E466=\"\",\"\",SUMIFS('CMS Downtime Detail'!$K$24:$K$500,'CMS Downtime Detail'!$B$24:$B$500,$B466,'CMS Downtime Detail'!$C$24:$C$500,$C466,'CMS Downtime Detail'!$D$24:$D$500,$D466,'CMS Downtime Detail'!$E$24:$E$500,\"Other Known Causes\"))","v":""},{"$f":"IF($E466=\"\",\"\",SUMIFS('CMS Downtime Detail'!$K$24:$K$500,'CMS Downtime Detail'!$B$24:$B$500,$B466,'CMS Downtime Detail'!$C$24:$C$500,$C466,'CMS Downtime Detail'!$D$24:$D$500,$D466,'CMS Downtime Detail'!$E$24:$E$500,\"Other Unknown Causes\"))","v":""}]
[null,{"$f":"IF(Lists!AQ445=\"\",\"\",Lists!AQ445)","v":""},{"$f":"IF(Lists!AR445=\"\",\"\",Lists!AR445)","v":""},{"$f":"IF(Lists!AS445=\"\",\"\",Lists!AS445)","v":""},{"$f":"IF(D467=\"\",\"\",VLOOKUP(B467&C467,Lists!$BA$2:$BD$78,4,FALSE))","v":""},"","",{"$f":"IF($E467=\"\",\"\",SUMIFS('CMS Downtime Detail'!$K$24:$K$500,'CMS Downtime Detail'!$B$24:$B$500,$B467,'CMS Downtime Detail'!$C$24:$C$500,$C467,'CMS Downtime Detail'!$D$24:$D$500,$D467,'CMS Downtime Detail'!$E$24:$E$500,\"Monitoring Equipment Malfunctions\"))","v":""},{"$f":"IF($E467=\"\",\"\",SUMIFS('CMS Downtime Detail'!$K$24:$K$500,'CMS Downtime Detail'!$B$24:$B$500,$B467,'CMS Downtime Detail'!$C$24:$C$500,$C467,'CMS Downtime Detail'!$D$24:$D$500,$D467,'CMS Downtime Detail'!$E$24:$E$500,\"Nonmonitoring Equipment Malfunctions\"))","v":""},{"$f":"IF($E467=\"\",\"\",SUMIFS('CMS Downtime Detail'!$K$24:$K$500,'CMS Downtime Detail'!$B$24:$B$500,$B467,'CMS Downtime Detail'!$C$24:$C$500,$C467,'CMS Downtime Detail'!$D$24:$D$500,$D467,'CMS Downtime Detail'!$E$24:$E$500,\"Quality Assurance/Quality Control Calibrations\"))","v":""},{"$f":"IF($E467=\"\",\"\",SUMIFS('CMS Downtime Detail'!$K$24:$K$500,'CMS Downtime Detail'!$B$24:$B$500,$B467,'CMS Downtime Detail'!$C$24:$C$500,$C467,'CMS Downtime Detail'!$D$24:$D$500,$D467,'CMS Downtime Detail'!$E$24:$E$500,\"Other Known Causes\"))","v":""},{"$f":"IF($E467=\"\",\"\",SUMIFS('CMS Downtime Detail'!$K$24:$K$500,'CMS Downtime Detail'!$B$24:$B$500,$B467,'CMS Downtime Detail'!$C$24:$C$500,$C467,'CMS Downtime Detail'!$D$24:$D$500,$D467,'CMS Downtime Detail'!$E$24:$E$500,\"Other Unknown Causes\"))","v":""}]
[null,{"$f":"IF(Lists!AQ446=\"\",\"\",Lists!AQ446)","v":""},{"$f":"IF(Lists!AR446=\"\",\"\",Lists!AR446)","v":""},{"$f":"IF(Lists!AS446=\"\",\"\",Lists!AS446)","v":""},{"$f":"IF(D468=\"\",\"\",VLOOKUP(B468&C468,Lists!$BA$2:$BD$78,4,FALSE))","v":""},"","",{"$f":"IF($E468=\"\",\"\",SUMIFS('CMS Downtime Detail'!$K$24:$K$500,'CMS Downtime Detail'!$B$24:$B$500,$B468,'CMS Downtime Detail'!$C$24:$C$500,$C468,'CMS Downtime Detail'!$D$24:$D$500,$D468,'CMS Downtime Detail'!$E$24:$E$500,\"Monitoring Equipment Malfunctions\"))","v":""},{"$f":"IF($E468=\"\",\"\",SUMIFS('CMS Downtime Detail'!$K$24:$K$500,'CMS Downtime Detail'!$B$24:$B$500,$B468,'CMS Downtime Detail'!$C$24:$C$500,$C468,'CMS Downtime Detail'!$D$24:$D$500,$D468,'CMS Downtime Detail'!$E$24:$E$500,\"Nonmonitoring Equipment Malfunctions\"))","v":""},{"$f":"IF($E468=\"\",\"\",SUMIFS('CMS Downtime Detail'!$K$24:$K$500,'CMS Downtime Detail'!$B$24:$B$500,$B468,'CMS Downtime Detail'!$C$24:$C$500,$C468,'CMS Downtime Detail'!$D$24:$D$500,$D468,'CMS Downtime Detail'!$E$24:$E$500,\"Quality Assurance/Quality Control Calibrations\"))","v":""},{"$f":"IF($E468=\"\",\"\",SUMIFS('CMS Downtime Detail'!$K$24:$K$500,'CMS Downtime Detail'!$B$24:$B$500,$B468,'CMS Downtime Detail'!$C$24:$C$500,$C468,'CMS Downtime Detail'!$D$24:$D$500,$D468,'CMS Downtime Detail'!$E$24:$E$500,\"Other Known Causes\"))","v":""},{"$f":"IF($E468=\"\",\"\",SUMIFS('CMS Downtime Detail'!$K$24:$K$500,'CMS Downtime Detail'!$B$24:$B$500,$B468,'CMS Downtime Detail'!$C$24:$C$500,$C468,'CMS Downtime Detail'!$D$24:$D$500,$D468,'CMS Downtime Detail'!$E$24:$E$500,\"Other Unknown Causes\"))","v":""}]
[null,{"$f":"IF(Lists!AQ447=\"\",\"\",Lists!AQ447)","v":""},{"$f":"IF(Lists!AR447=\"\",\"\",Lists!AR447)","v":""},{"$f":"IF(Lists!AS447=\"\",\"\",Lists!AS447)","v":""},{"$f":"IF(D469=\"\",\"\",VLOOKUP(B469&C469,Lists!$BA$2:$BD$78,4,FALSE))","v":""},"","",{"$f":"IF($E469=\"\",\"\",SUMIFS('CMS Downtime Detail'!$K$24:$K$500,'CMS Downtime Detail'!$B$24:$B$500,$B469,'CMS Downtime Detail'!$C$24:$C$500,$C469,'CMS Downtime Detail'!$D$24:$D$500,$D469,'CMS Downtime Detail'!$E$24:$E$500,\"Monitoring Equipment Malfunctions\"))","v":""},{"$f":"IF($E469=\"\",\"\",SUMIFS('CMS Downtime Detail'!$K$24:$K$500,'CMS Downtime Detail'!$B$24:$B$500,$B469,'CMS Downtime Detail'!$C$24:$C$500,$C469,'CMS Downtime Detail'!$D$24:$D$500,$D469,'CMS Downtime Detail'!$E$24:$E$500,\"Nonmonitoring Equipment Malfunctions\"))","v":""},{"$f":"IF($E469=\"\",\"\",SUMIFS('CMS Downtime Detail'!$K$24:$K$500,'CMS Downtime Detail'!$B$24:$B$500,$B469,'CMS Downtime Detail'!$C$24:$C$500,$C469,'CMS Downtime Detail'!$D$24:$D$500,$D469,'CMS Downtime Detail'!$E$24:$E$500,\"Quality Assurance/Quality Control Calibrations\"))","v":""},{"$f":"IF($E469=\"\",\"\",SUMIFS('CMS Downtime Detail'!$K$24:$K$500,'CMS Downtime Detail'!$B$24:$B$500,$B469,'CMS Downtime Detail'!$C$24:$C$500,$C469,'CMS Downtime Detail'!$D$24:$D$500,$D469,'CMS Downtime Detail'!$E$24:$E$500,\"Other Known Causes\"))","v":""},{"$f":"IF($E469=\"\",\"\",SUMIFS('CMS Downtime Detail'!$K$24:$K$500,'CMS Downtime Detail'!$B$24:$B$500,$B469,'CMS Downtime Detail'!$C$24:$C$500,$C469,'CMS Downtime Detail'!$D$24:$D$500,$D469,'CMS Downtime Detail'!$E$24:$E$500,\"Other Unknown Causes\"))","v":""}]
[null,{"$f":"IF(Lists!AQ448=\"\",\"\",Lists!AQ448)","v":""},{"$f":"IF(Lists!AR448=\"\",\"\",Lists!AR448)","v":""},{"$f":"IF(Lists!AS448=\"\",\"\",Lists!AS448)","v":""},{"$f":"IF(D470=\"\",\"\",VLOOKUP(B470&C470,Lists!$BA$2:$BD$78,4,FALSE))","v":""},"","",{"$f":"IF($E470=\"\",\"\",SUMIFS('CMS Downtime Detail'!$K$24:$K$500,'CMS Downtime Detail'!$B$24:$B$500,$B470,'CMS Downtime Detail'!$C$24:$C$500,$C470,'CMS Downtime Detail'!$D$24:$D$500,$D470,'CMS Downtime Detail'!$E$24:$E$500,\"Monitoring Equipment Malfunctions\"))","v":""},{"$f":"IF($E470=\"\",\"\",SUMIFS('CMS Downtime Detail'!$K$24:$K$500,'CMS Downtime Detail'!$B$24:$B$500,$B470,'CMS Downtime Detail'!$C$24:$C$500,$C470,'CMS Downtime Detail'!$D$24:$D$500,$D470,'CMS Downtime Detail'!$E$24:$E$500,\"Nonmonitoring Equipment Malfunctions\"))","v":""},{"$f":"IF($E470=\"\",\"\",SUMIFS('CMS Downtime Detail'!$K$24:$K$500,'CMS Downtime Detail'!$B$24:$B$500,$B470,'CMS Downtime Detail'!$C$24:$C$500,$C470,'CMS Downtime Detail'!$D$24:$D$500,$D470,'CMS Downtime Detail'!$E$24:$E$500,\"Quality Assurance/Quality Control Calibrations\"))","v":""},{"$f":"IF($E470=\"\",\"\",SUMIFS('CMS Downtime Detail'!$K$24:$K$500,'CMS Downtime Detail'!$B$24:$B$500,$B470,'CMS Downtime Detail'!$C$24:$C$500,$C470,'CMS Downtime Detail'!$D$24:$D$500,$D470,'CMS Downtime Detail'!$E$24:$E$500,\"Other Known Causes\"))","v":""},{"$f":"IF($E470=\"\",\"\",SUMIFS('CMS Downtime Detail'!$K$24:$K$500,'CMS Downtime Detail'!$B$24:$B$500,$B470,'CMS Downtime Detail'!$C$24:$C$500,$C470,'CMS Downtime Detail'!$D$24:$D$500,$D470,'CMS Downtime Detail'!$E$24:$E$500,\"Other Unknown Causes\"))","v":""}]
[null,{"$f":"IF(Lists!AQ449=\"\",\"\",Lists!AQ449)","v":""},{"$f":"IF(Lists!AR449=\"\",\"\",Lists!AR449)","v":""},{"$f":"IF(Lists!AS449=\"\",\"\",Lists!AS449)","v":""},{"$f":"IF(D471=\"\",\"\",VLOOKUP(B471&C471,Lists!$BA$2:$BD$78,4,FALSE))","v":""},"","",{"$f":"IF($E471=\"\",\"\",SUMIFS('CMS Downtime Detail'!$K$24:$K$500,'CMS Downtime Detail'!$B$24:$B$500,$B471,'CMS Downtime Detail'!$C$24:$C$500,$C471,'CMS Downtime Detail'!$D$24:$D$500,$D471,'CMS Downtime Detail'!$E$24:$E$500,\"Monitoring Equipment Malfunctions\"))","v":""},{"$f":"IF($E471=\"\",\"\",SUMIFS('CMS Downtime Detail'!$K$24:$K$500,'CMS Downtime Detail'!$B$24:$B$500,$B471,'CMS Downtime Detail'!$C$24:$C$500,$C471,'CMS Downtime Detail'!$D$24:$D$500,$D471,'CMS Downtime Detail'!$E$24:$E$500,\"Nonmonitoring Equipment Malfunctions\"))","v":""},{"$f":"IF($E471=\"\",\"\",SUMIFS('CMS Downtime Detail'!$K$24:$K$500,'CMS Downtime Detail'!$B$24:$B$500,$B471,'CMS Downtime Detail'!$C$24:$C$500,$C471,'CMS Downtime Detail'!$D$24:$D$500,$D471,'CMS Downtime Detail'!$E$24:$E$500,\"Quality Assurance/Quality Control Calibrations\"))","v":""},{"$f":"IF($E471=\"\",\"\",SUMIFS('CMS Downtime Detail'!$K$24:$K$500,'CMS Downtime Detail'!$B$24:$B$500,$B471,'CMS Downtime Detail'!$C$24:$C$500,$C471,'CMS Downtime Detail'!$D$24:$D$500,$D471,'CMS Downtime Detail'!$E$24:$E$500,\"Other Known Causes\"))","v":""},{"$f":"IF($E471=\"\",\"\",SUMIFS('CMS Downtime Detail'!$K$24:$K$500,'CMS Downtime Detail'!$B$24:$B$500,$B471,'CMS Downtime Detail'!$C$24:$C$500,$C471,'CMS Downtime Detail'!$D$24:$D$500,$D471,'CMS Downtime Detail'!$E$24:$E$500,\"Other Unknown Causes\"))","v":""}]
[null,{"$f":"IF(Lists!AQ450=\"\",\"\",Lists!AQ450)","v":""},{"$f":"IF(Lists!AR450=\"\",\"\",Lists!AR450)","v":""},{"$f":"IF(Lists!AS450=\"\",\"\",Lists!AS450)","v":""},{"$f":"IF(D472=\"\",\"\",VLOOKUP(B472&C472,Lists!$BA$2:$BD$78,4,FALSE))","v":""},"","",{"$f":"IF($E472=\"\",\"\",SUMIFS('CMS Downtime Detail'!$K$24:$K$500,'CMS Downtime Detail'!$B$24:$B$500,$B472,'CMS Downtime Detail'!$C$24:$C$500,$C472,'CMS Downtime Detail'!$D$24:$D$500,$D472,'CMS Downtime Detail'!$E$24:$E$500,\"Monitoring Equipment Malfunctions\"))","v":""},{"$f":"IF($E472=\"\",\"\",SUMIFS('CMS Downtime Detail'!$K$24:$K$500,'CMS Downtime Detail'!$B$24:$B$500,$B472,'CMS Downtime Detail'!$C$24:$C$500,$C472,'CMS Downtime Detail'!$D$24:$D$500,$D472,'CMS Downtime Detail'!$E$24:$E$500,\"Nonmonitoring Equipment Malfunctions\"))","v":""},{"$f":"IF($E472=\"\",\"\",SUMIFS('CMS Downtime Detail'!$K$24:$K$500,'CMS Downtime Detail'!$B$24:$B$500,$B472,'CMS Downtime Detail'!$C$24:$C$500,$C472,'CMS Downtime Detail'!$D$24:$D$500,$D472,'CMS Downtime Detail'!$E$24:$E$500,\"Quality Assurance/Quality Control Calibrations\"))","v":""},{"$f":"IF($E472=\"\",\"\",SUMIFS('CMS Downtime Detail'!$K$24:$K$500,'CMS Downtime Detail'!$B$24:$B$500,$B472,'CMS Downtime Detail'!$C$24:$C$500,$C472,'CMS Downtime Detail'!$D$24:$D$500,$D472,'CMS Downtime Detail'!$E$24:$E$500,\"Other Known Causes\"))","v":""},{"$f":"IF($E472=\"\",\"\",SUMIFS('CMS Downtime Detail'!$K$24:$K$500,'CMS Downtime Detail'!$B$24:$B$500,$B472,'CMS Downtime Detail'!$C$24:$C$500,$C472,'CMS Downtime Detail'!$D$24:$D$500,$D472,'CMS Downtime Detail'!$E$24:$E$500,\"Other Unknown Causes\"))","v":""}]
[null,{"$f":"IF(Lists!AQ451=\"\",\"\",Lists!AQ451)","v":""},{"$f":"IF(Lists!AR451=\"\",\"\",Lists!AR451)","v":""},{"$f":"IF(Lists!AS451=\"\",\"\",Lists!AS451)","v":""},{"$f":"IF(D473=\"\",\"\",VLOOKUP(B473&C473,Lists!$BA$2:$BD$78,4,FALSE))","v":""},{"$f":"IF(E473=\"\",\"\",SUM(H473:L473))","v":""},{"$f":"IF(F473=\"\",\"\",F473/E473)","v":""},{"$f":"IF($E473=\"\",\"\",SUMIFS('CMS Downtime Detail'!$K$24:$K$500,'CMS Downtime Detail'!$B$24:$B$500,$B473,'CMS Downtime Detail'!$C$24:$C$500,$C473,'CMS Downtime Detail'!$D$24:$D$500,$D473,'CMS Downtime Detail'!$E$24:$E$500,\"Monitoring Equipment Malfunctions\"))","v":""},{"$f":"IF($E473=\"\",\"\",SUMIFS('CMS Downtime Detail'!$K$24:$K$500,'CMS Downtime Detail'!$B$24:$B$500,$B473,'CMS Downtime Detail'!$C$24:$C$500,$C473,'CMS Downtime Detail'!$D$24:$D$500,$D473,'CMS Downtime Detail'!$E$24:$E$500,\"Nonmonitoring Equipment Malfunctions\"))","v":""},{"$f":"IF($E473=\"\",\"\",SUMIFS('CMS Downtime Detail'!$K$24:$K$500,'CMS Downtime Detail'!$B$24:$B$500,$B473,'CMS Downtime Detail'!$C$24:$C$500,$C473,'CMS Downtime Detail'!$D$24:$D$500,$D473,'CMS Downtime Detail'!$E$24:$E$500,\"Quality Assurance/Quality Control Calibrations\"))","v":""},{"$f":"IF($E473=\"\",\"\",SUMIFS('CMS Downtime Detail'!$K$24:$K$500,'CMS Downtime Detail'!$B$24:$B$500,$B473,'CMS Downtime Detail'!$C$24:$C$500,$C473,'CMS Downtime Detail'!$D$24:$D$500,$D473,'CMS Downtime Detail'!$E$24:$E$500,\"Other Known Causes\"))","v":""},{"$f":"IF($E473=\"\",\"\",SUMIFS('CMS Downtime Detail'!$K$24:$K$500,'CMS Downtime Detail'!$B$24:$B$500,$B473,'CMS Downtime Detail'!$C$24:$C$500,$C473,'CMS Downtime Detail'!$D$24:$D$500,$D473,'CMS Downtime Detail'!$E$24:$E$500,\"Other Unknown Causes\"))","v":""}]
[null,{"$f":"IF(Lists!AQ452=\"\",\"\",Lists!AQ452)","v":""},{"$f":"IF(Lists!AR452=\"\",\"\",Lists!AR452)","v":""},{"$f":"IF(Lists!AS452=\"\",\"\",Lists!AS452)","v":""},{"$f":"IF(D474=\"\",\"\",VLOOKUP(B474&C474,Lists!$BA$2:$BD$78,4,FALSE))","v":""},"","",{"$f":"IF($E474=\"\",\"\",SUMIFS('CMS Downtime Detail'!$K$24:$K$500,'CMS Downtime Detail'!$B$24:$B$500,$B474,'CMS Downtime Detail'!$C$24:$C$500,$C474,'CMS Downtime Detail'!$D$24:$D$500,$D474,'CMS Downtime Detail'!$E$24:$E$500,\"Monitoring Equipment Malfunctions\"))","v":""},{"$f":"IF($E474=\"\",\"\",SUMIFS('CMS Downtime Detail'!$K$24:$K$500,'CMS Downtime Detail'!$B$24:$B$500,$B474,'CMS Downtime Detail'!$C$24:$C$500,$C474,'CMS Downtime Detail'!$D$24:$D$500,$D474,'CMS Downtime Detail'!$E$24:$E$500,\"Nonmonitoring Equipment Malfunctions\"))","v":""},{"$f":"IF($E474=\"\",\"\",SUMIFS('CMS Downtime Detail'!$K$24:$K$500,'CMS Downtime Detail'!$B$24:$B$500,$B474,'CMS Downtime Detail'!$C$24:$C$500,$C474,'CMS Downtime Detail'!$D$24:$D$500,$D474,'CMS Downtime Detail'!$E$24:$E$500,\"Quality Assurance/Quality Control Calibrations\"))","v":""},{"$f":"IF($E474=\"\",\"\",SUMIFS('CMS Downtime Detail'!$K$24:$K$500,'CMS Downtime Detail'!$B$24:$B$500,$B474,'CMS Downtime Detail'!$C$24:$C$500,$C474,'CMS Downtime Detail'!$D$24:$D$500,$D474,'CMS Downtime Detail'!$E$24:$E$500,\"Other Known Causes\"))","v":""},{"$f":"IF($E474=\"\",\"\",SUMIFS('CMS Downtime Detail'!$K$24:$K$500,'CMS Downtime Detail'!$B$24:$B$500,$B474,'CMS Downtime Detail'!$C$24:$C$500,$C474,'CMS Downtime Detail'!$D$24:$D$500,$D474,'CMS Downtime Detail'!$E$24:$E$500,\"Other Unknown Causes\"))","v":""}]
[null,{"$f":"IF(Lists!AQ453=\"\",\"\",Lists!AQ453)","v":""},{"$f":"IF(Lists!AR453=\"\",\"\",Lists!AR453)","v":""},{"$f":"IF(Lists!AS453=\"\",\"\",Lists!AS453)","v":""},{"$f":"IF(D475=\"\",\"\",VLOOKUP(B475&C475,Lists!$BA$2:$BD$78,4,FALSE))","v":""},"","",{"$f":"IF($E475=\"\",\"\",SUMIFS('CMS Downtime Detail'!$K$24:$K$500,'CMS Downtime Detail'!$B$24:$B$500,$B475,'CMS Downtime Detail'!$C$24:$C$500,$C475,'CMS Downtime Detail'!$D$24:$D$500,$D475,'CMS Downtime Detail'!$E$24:$E$500,\"Monitoring Equipment Malfunctions\"))","v":""},{"$f":"IF($E475=\"\",\"\",SUMIFS('CMS Downtime Detail'!$K$24:$K$500,'CMS Downtime Detail'!$B$24:$B$500,$B475,'CMS Downtime Detail'!$C$24:$C$500,$C475,'CMS Downtime Detail'!$D$24:$D$500,$D475,'CMS Downtime Detail'!$E$24:$E$500,\"Nonmonitoring Equipment Malfunctions\"))","v":""},{"$f":"IF($E475=\"\",\"\",SUMIFS('CMS Downtime Detail'!$K$24:$K$500,'CMS Downtime Detail'!$B$24:$B$500,$B475,'CMS Downtime Detail'!$C$24:$C$500,$C475,'CMS Downtime Detail'!$D$24:$D$500,$D475,'CMS Downtime Detail'!$E$24:$E$500,\"Quality Assurance/Quality Control Calibrations\"))","v":""},{"$f":"IF($E475=\"\",\"\",SUMIFS('CMS Downtime Detail'!$K$24:$K$500,'CMS Downtime Detail'!$B$24:$B$500,$B475,'CMS Downtime Detail'!$C$24:$C$500,$C475,'CMS Downtime Detail'!$D$24:$D$500,$D475,'CMS Downtime Detail'!$E$24:$E$500,\"Other Known Causes\"))","v":""},{"$f":"IF($E475=\"\",\"\",SUMIFS('CMS Downtime Detail'!$K$24:$K$500,'CMS Downtime Detail'!$B$24:$B$500,$B475,'CMS Downtime Detail'!$C$24:$C$500,$C475,'CMS Downtime Detail'!$D$24:$D$500,$D475,'CMS Downtime Detail'!$E$24:$E$500,\"Other Unknown Causes\"))","v":""}]
[null,{"$f":"IF(Lists!AQ454=\"\",\"\",Lists!AQ454)","v":""},{"$f":"IF(Lists!AR454=\"\",\"\",Lists!AR454)","v":""},{"$f":"IF(Lists!AS454=\"\",\"\",Lists!AS454)","v":""},{"$f":"IF(D476=\"\",\"\",VLOOKUP(B476&C476,Lists!$BA$2:$BD$78,4,FALSE))","v":""},"","",{"$f":"IF($E476=\"\",\"\",SUMIFS('CMS Downtime Detail'!$K$24:$K$500,'CMS Downtime Detail'!$B$24:$B$500,$B476,'CMS Downtime Detail'!$C$24:$C$500,$C476,'CMS Downtime Detail'!$D$24:$D$500,$D476,'CMS Downtime Detail'!$E$24:$E$500,\"Monitoring Equipment Malfunctions\"))","v":""},{"$f":"IF($E476=\"\",\"\",SUMIFS('CMS Downtime Detail'!$K$24:$K$500,'CMS Downtime Detail'!$B$24:$B$500,$B476,'CMS Downtime Detail'!$C$24:$C$500,$C476,'CMS Downtime Detail'!$D$24:$D$500,$D476,'CMS Downtime Detail'!$E$24:$E$500,\"Nonmonitoring Equipment Malfunctions\"))","v":""},{"$f":"IF($E476=\"\",\"\",SUMIFS('CMS Downtime Detail'!$K$24:$K$500,'CMS Downtime Detail'!$B$24:$B$500,$B476,'CMS Downtime Detail'!$C$24:$C$500,$C476,'CMS Downtime Detail'!$D$24:$D$500,$D476,'CMS Downtime Detail'!$E$24:$E$500,\"Quality Assurance/Quality Control Calibrations\"))","v":""},{"$f":"IF($E476=\"\",\"\",SUMIFS('CMS Downtime Detail'!$K$24:$K$500,'CMS Downtime Detail'!$B$24:$B$500,$B476,'CMS Downtime Detail'!$C$24:$C$500,$C476,'CMS Downtime Detail'!$D$24:$D$500,$D476,'CMS Downtime Detail'!$E$24:$E$500,\"Other Known Causes\"))","v":""},{"$f":"IF($E476=\"\",\"\",SUMIFS('CMS Downtime Detail'!$K$24:$K$500,'CMS Downtime Detail'!$B$24:$B$500,$B476,'CMS Downtime Detail'!$C$24:$C$500,$C476,'CMS Downtime Detail'!$D$24:$D$500,$D476,'CMS Downtime Detail'!$E$24:$E$500,\"Other Unknown Causes\"))","v":""}]
[null,{"$f":"IF(Lists!AQ455=\"\",\"\",Lists!AQ455)","v":""},{"$f":"IF(Lists!AR455=\"\",\"\",Lists!AR455)","v":""},{"$f":"IF(Lists!AS455=\"\",\"\",Lists!AS455)","v":""},{"$f":"IF(D477=\"\",\"\",VLOOKUP(B477&C477,Lists!$BA$2:$BD$78,4,FALSE))","v":""},"","",{"$f":"IF($E477=\"\",\"\",SUMIFS('CMS Downtime Detail'!$K$24:$K$500,'CMS Downtime Detail'!$B$24:$B$500,$B477,'CMS Downtime Detail'!$C$24:$C$500,$C477,'CMS Downtime Detail'!$D$24:$D$500,$D477,'CMS Downtime Detail'!$E$24:$E$500,\"Monitoring Equipment Malfunctions\"))","v":""},{"$f":"IF($E477=\"\",\"\",SUMIFS('CMS Downtime Detail'!$K$24:$K$500,'CMS Downtime Detail'!$B$24:$B$500,$B477,'CMS Downtime Detail'!$C$24:$C$500,$C477,'CMS Downtime Detail'!$D$24:$D$500,$D477,'CMS Downtime Detail'!$E$24:$E$500,\"Nonmonitoring Equipment Malfunctions\"))","v":""},{"$f":"IF($E477=\"\",\"\",SUMIFS('CMS Downtime Detail'!$K$24:$K$500,'CMS Downtime Detail'!$B$24:$B$500,$B477,'CMS Downtime Detail'!$C$24:$C$500,$C477,'CMS Downtime Detail'!$D$24:$D$500,$D477,'CMS Downtime Detail'!$E$24:$E$500,\"Quality Assurance/Quality Control Calibrations\"))","v":""},{"$f":"IF($E477=\"\",\"\",SUMIFS('CMS Downtime Detail'!$K$24:$K$500,'CMS Downtime Detail'!$B$24:$B$500,$B477,'CMS Downtime Detail'!$C$24:$C$500,$C477,'CMS Downtime Detail'!$D$24:$D$500,$D477,'CMS Downtime Detail'!$E$24:$E$500,\"Other Known Causes\"))","v":""},{"$f":"IF($E477=\"\",\"\",SUMIFS('CMS Downtime Detail'!$K$24:$K$500,'CMS Downtime Detail'!$B$24:$B$500,$B477,'CMS Downtime Detail'!$C$24:$C$500,$C477,'CMS Downtime Detail'!$D$24:$D$500,$D477,'CMS Downtime Detail'!$E$24:$E$500,\"Other Unknown Causes\"))","v":""}]
[null,{"$f":"IF(Lists!AQ456=\"\",\"\",Lists!AQ456)","v":""},{"$f":"IF(Lists!AR456=\"\",\"\",Lists!AR456)","v":""},{"$f":"IF(Lists!AS456=\"\",\"\",Lists!AS456)","v":""},{"$f":"IF(D478=\"\",\"\",VLOOKUP(B478&C478,Lists!$BA$2:$BD$78,4,FALSE))","v":""},"","",{"$f":"IF($E478=\"\",\"\",SUMIFS('CMS Downtime Detail'!$K$24:$K$500,'CMS Downtime Detail'!$B$24:$B$500,$B478,'CMS Downtime Detail'!$C$24:$C$500,$C478,'CMS Downtime Detail'!$D$24:$D$500,$D478,'CMS Downtime Detail'!$E$24:$E$500,\"Monitoring Equipment Malfunctions\"))","v":""},{"$f":"IF($E478=\"\",\"\",SUMIFS('CMS Downtime Detail'!$K$24:$K$500,'CMS Downtime Detail'!$B$24:$B$500,$B478,'CMS Downtime Detail'!$C$24:$C$500,$C478,'CMS Downtime Detail'!$D$24:$D$500,$D478,'CMS Downtime Detail'!$E$24:$E$500,\"Nonmonitoring Equipment Malfunctions\"))","v":""},{"$f":"IF($E478=\"\",\"\",SUMIFS('CMS Downtime Detail'!$K$24:$K$500,'CMS Downtime Detail'!$B$24:$B$500,$B478,'CMS Downtime Detail'!$C$24:$C$500,$C478,'CMS Downtime Detail'!$D$24:$D$500,$D478,'CMS Downtime Detail'!$E$24:$E$500,\"Quality Assurance/Quality Control Calibrations\"))","v":""},{"$f":"IF($E478=\"\",\"\",SUMIFS('CMS Downtime Detail'!$K$24:$K$500,'CMS Downtime Detail'!$B$24:$B$500,$B478,'CMS Downtime Detail'!$C$24:$C$500,$C478,'CMS Downtime Detail'!$D$24:$D$500,$D478,'CMS Downtime Detail'!$E$24:$E$500,\"Other Known Causes\"))","v":""},{"$f":"IF($E478=\"\",\"\",SUMIFS('CMS Downtime Detail'!$K$24:$K$500,'CMS Downtime Detail'!$B$24:$B$500,$B478,'CMS Downtime Detail'!$C$24:$C$500,$C478,'CMS Downtime Detail'!$D$24:$D$500,$D478,'CMS Downtime Detail'!$E$24:$E$500,\"Other Unknown Causes\"))","v":""}]
[null,{"$f":"IF(Lists!AQ457=\"\",\"\",Lists!AQ457)","v":""},{"$f":"IF(Lists!AR457=\"\",\"\",Lists!AR457)","v":""},{"$f":"IF(Lists!AS457=\"\",\"\",Lists!AS457)","v":""},{"$f":"IF(D479=\"\",\"\",VLOOKUP(B479&C479,Lists!$BA$2:$BD$78,4,FALSE))","v":""},"","",{"$f":"IF($E479=\"\",\"\",SUMIFS('CMS Downtime Detail'!$K$24:$K$500,'CMS Downtime Detail'!$B$24:$B$500,$B479,'CMS Downtime Detail'!$C$24:$C$500,$C479,'CMS Downtime Detail'!$D$24:$D$500,$D479,'CMS Downtime Detail'!$E$24:$E$500,\"Monitoring Equipment Malfunctions\"))","v":""},{"$f":"IF($E479=\"\",\"\",SUMIFS('CMS Downtime Detail'!$K$24:$K$500,'CMS Downtime Detail'!$B$24:$B$500,$B479,'CMS Downtime Detail'!$C$24:$C$500,$C479,'CMS Downtime Detail'!$D$24:$D$500,$D479,'CMS Downtime Detail'!$E$24:$E$500,\"Nonmonitoring Equipment Malfunctions\"))","v":""},{"$f":"IF($E479=\"\",\"\",SUMIFS('CMS Downtime Detail'!$K$24:$K$500,'CMS Downtime Detail'!$B$24:$B$500,$B479,'CMS Downtime Detail'!$C$24:$C$500,$C479,'CMS Downtime Detail'!$D$24:$D$500,$D479,'CMS Downtime Detail'!$E$24:$E$500,\"Quality Assurance/Quality Control Calibrations\"))","v":""},{"$f":"IF($E479=\"\",\"\",SUMIFS('CMS Downtime Detail'!$K$24:$K$500,'CMS Downtime Detail'!$B$24:$B$500,$B479,'CMS Downtime Detail'!$C$24:$C$500,$C479,'CMS Downtime Detail'!$D$24:$D$500,$D479,'CMS Downtime Detail'!$E$24:$E$500,\"Other Known Causes\"))","v":""},{"$f":"IF($E479=\"\",\"\",SUMIFS('CMS Downtime Detail'!$K$24:$K$500,'CMS Downtime Detail'!$B$24:$B$500,$B479,'CMS Downtime Detail'!$C$24:$C$500,$C479,'CMS Downtime Detail'!$D$24:$D$500,$D479,'CMS Downtime Detail'!$E$24:$E$500,\"Other Unknown Causes\"))","v":""}]
[null,{"$f":"IF(Lists!AQ458=\"\",\"\",Lists!AQ458)","v":""},{"$f":"IF(Lists!AR458=\"\",\"\",Lists!AR458)","v":""},{"$f":"IF(Lists!AS458=\"\",\"\",Lists!AS458)","v":""},{"$f":"IF(D480=\"\",\"\",VLOOKUP(B480&C480,Lists!$BA$2:$BD$78,4,FALSE))","v":""},"","",{"$f":"IF($E480=\"\",\"\",SUMIFS('CMS Downtime Detail'!$K$24:$K$500,'CMS Downtime Detail'!$B$24:$B$500,$B480,'CMS Downtime Detail'!$C$24:$C$500,$C480,'CMS Downtime Detail'!$D$24:$D$500,$D480,'CMS Downtime Detail'!$E$24:$E$500,\"Monitoring Equipment Malfunctions\"))","v":""},{"$f":"IF($E480=\"\",\"\",SUMIFS('CMS Downtime Detail'!$K$24:$K$500,'CMS Downtime Detail'!$B$24:$B$500,$B480,'CMS Downtime Detail'!$C$24:$C$500,$C480,'CMS Downtime Detail'!$D$24:$D$500,$D480,'CMS Downtime Detail'!$E$24:$E$500,\"Nonmonitoring Equipment Malfunctions\"))","v":""},{"$f":"IF($E480=\"\",\"\",SUMIFS('CMS Downtime Detail'!$K$24:$K$500,'CMS Downtime Detail'!$B$24:$B$500,$B480,'CMS Downtime Detail'!$C$24:$C$500,$C480,'CMS Downtime Detail'!$D$24:$D$500,$D480,'CMS Downtime Detail'!$E$24:$E$500,\"Quality Assurance/Quality Control Calibrations\"))","v":""},{"$f":"IF($E480=\"\",\"\",SUMIFS('CMS Downtime Detail'!$K$24:$K$500,'CMS Downtime Detail'!$B$24:$B$500,$B480,'CMS Downtime Detail'!$C$24:$C$500,$C480,'CMS Downtime Detail'!$D$24:$D$500,$D480,'CMS Downtime Detail'!$E$24:$E$500,\"Other Known Causes\"))","v":""},{"$f":"IF($E480=\"\",\"\",SUMIFS('CMS Downtime Detail'!$K$24:$K$500,'CMS Downtime Detail'!$B$24:$B$500,$B480,'CMS Downtime Detail'!$C$24:$C$500,$C480,'CMS Downtime Detail'!$D$24:$D$500,$D480,'CMS Downtime Detail'!$E$24:$E$500,\"Other Unknown Causes\"))","v":""}]
[null,{"$f":"IF(Lists!AQ459=\"\",\"\",Lists!AQ459)","v":""},{"$f":"IF(Lists!AR459=\"\",\"\",Lists!AR459)","v":""},{"$f":"IF(Lists!AS459=\"\",\"\",Lists!AS459)","v":""},{"$f":"IF(D481=\"\",\"\",VLOOKUP(B481&C481,Lists!$BA$2:$BD$78,4,FALSE))","v":""},"","",{"$f":"IF($E481=\"\",\"\",SUMIFS('CMS Downtime Detail'!$K$24:$K$500,'CMS Downtime Detail'!$B$24:$B$500,$B481,'CMS Downtime Detail'!$C$24:$C$500,$C481,'CMS Downtime Detail'!$D$24:$D$500,$D481,'CMS Downtime Detail'!$E$24:$E$500,\"Monitoring Equipment Malfunctions\"))","v":""},{"$f":"IF($E481=\"\",\"\",SUMIFS('CMS Downtime Detail'!$K$24:$K$500,'CMS Downtime Detail'!$B$24:$B$500,$B481,'CMS Downtime Detail'!$C$24:$C$500,$C481,'CMS Downtime Detail'!$D$24:$D$500,$D481,'CMS Downtime Detail'!$E$24:$E$500,\"Nonmonitoring Equipment Malfunctions\"))","v":""},{"$f":"IF($E481=\"\",\"\",SUMIFS('CMS Downtime Detail'!$K$24:$K$500,'CMS Downtime Detail'!$B$24:$B$500,$B481,'CMS Downtime Detail'!$C$24:$C$500,$C481,'CMS Downtime Detail'!$D$24:$D$500,$D481,'CMS Downtime Detail'!$E$24:$E$500,\"Quality Assurance/Quality Control Calibrations\"))","v":""},{"$f":"IF($E481=\"\",\"\",SUMIFS('CMS Downtime Detail'!$K$24:$K$500,'CMS Downtime Detail'!$B$24:$B$500,$B481,'CMS Downtime Detail'!$C$24:$C$500,$C481,'CMS Downtime Detail'!$D$24:$D$500,$D481,'CMS Downtime Detail'!$E$24:$E$500,\"Other Known Causes\"))","v":""},{"$f":"IF($E481=\"\",\"\",SUMIFS('CMS Downtime Detail'!$K$24:$K$500,'CMS Downtime Detail'!$B$24:$B$500,$B481,'CMS Downtime Detail'!$C$24:$C$500,$C481,'CMS Downtime Detail'!$D$24:$D$500,$D481,'CMS Downtime Detail'!$E$24:$E$500,\"Other Unknown Causes\"))","v":""}]
[null,{"$f":"IF(Lists!AQ460=\"\",\"\",Lists!AQ460)","v":""},{"$f":"IF(Lists!AR460=\"\",\"\",Lists!AR460)","v":""},{"$f":"IF(Lists!AS460=\"\",\"\",Lists!AS460)","v":""},{"$f":"IF(D482=\"\",\"\",VLOOKUP(B482&C482,Lists!$BA$2:$BD$78,4,FALSE))","v":""},"","",{"$f":"IF($E482=\"\",\"\",SUMIFS('CMS Downtime Detail'!$K$24:$K$500,'CMS Downtime Detail'!$B$24:$B$500,$B482,'CMS Downtime Detail'!$C$24:$C$500,$C482,'CMS Downtime Detail'!$D$24:$D$500,$D482,'CMS Downtime Detail'!$E$24:$E$500,\"Monitoring Equipment Malfunctions\"))","v":""},{"$f":"IF($E482=\"\",\"\",SUMIFS('CMS Downtime Detail'!$K$24:$K$500,'CMS Downtime Detail'!$B$24:$B$500,$B482,'CMS Downtime Detail'!$C$24:$C$500,$C482,'CMS Downtime Detail'!$D$24:$D$500,$D482,'CMS Downtime Detail'!$E$24:$E$500,\"Nonmonitoring Equipment Malfunctions\"))","v":""},{"$f":"IF($E482=\"\",\"\",SUMIFS('CMS Downtime Detail'!$K$24:$K$500,'CMS Downtime Detail'!$B$24:$B$500,$B482,'CMS Downtime Detail'!$C$24:$C$500,$C482,'CMS Downtime Detail'!$D$24:$D$500,$D482,'CMS Downtime Detail'!$E$24:$E$500,\"Quality Assurance/Quality Control Calibrations\"))","v":""},{"$f":"IF($E482=\"\",\"\",SUMIFS('CMS Downtime Detail'!$K$24:$K$500,'CMS Downtime Detail'!$B$24:$B$500,$B482,'CMS Downtime Detail'!$C$24:$C$500,$C482,'CMS Downtime Detail'!$D$24:$D$500,$D482,'CMS Downtime Detail'!$E$24:$E$500,\"Other Known Causes\"))","v":""},{"$f":"IF($E482=\"\",\"\",SUMIFS('CMS Downtime Detail'!$K$24:$K$500,'CMS Downtime Detail'!$B$24:$B$500,$B482,'CMS Downtime Detail'!$C$24:$C$500,$C482,'CMS Downtime Detail'!$D$24:$D$500,$D482,'CMS Downtime Detail'!$E$24:$E$500,\"Other Unknown Causes\"))","v":""}]
[null,{"$f":"IF(Lists!AQ461=\"\",\"\",Lists!AQ461)","v":""},{"$f":"IF(Lists!AR461=\"\",\"\",Lists!AR461)","v":""},{"$f":"IF(Lists!AS461=\"\",\"\",Lists!AS461)","v":""},{"$f":"IF(D483=\"\",\"\",VLOOKUP(B483&C483,Lists!$BA$2:$BD$78,4,FALSE))","v":""},"","",{"$f":"IF($E483=\"\",\"\",SUMIFS('CMS Downtime Detail'!$K$24:$K$500,'CMS Downtime Detail'!$B$24:$B$500,$B483,'CMS Downtime Detail'!$C$24:$C$500,$C483,'CMS Downtime Detail'!$D$24:$D$500,$D483,'CMS Downtime Detail'!$E$24:$E$500,\"Monitoring Equipment Malfunctions\"))","v":""},{"$f":"IF($E483=\"\",\"\",SUMIFS('CMS Downtime Detail'!$K$24:$K$500,'CMS Downtime Detail'!$B$24:$B$500,$B483,'CMS Downtime Detail'!$C$24:$C$500,$C483,'CMS Downtime Detail'!$D$24:$D$500,$D483,'CMS Downtime Detail'!$E$24:$E$500,\"Nonmonitoring Equipment Malfunctions\"))","v":""},{"$f":"IF($E483=\"\",\"\",SUMIFS('CMS Downtime Detail'!$K$24:$K$500,'CMS Downtime Detail'!$B$24:$B$500,$B483,'CMS Downtime Detail'!$C$24:$C$500,$C483,'CMS Downtime Detail'!$D$24:$D$500,$D483,'CMS Downtime Detail'!$E$24:$E$500,\"Quality Assurance/Quality Control Calibrations\"))","v":""},{"$f":"IF($E483=\"\",\"\",SUMIFS('CMS Downtime Detail'!$K$24:$K$500,'CMS Downtime Detail'!$B$24:$B$500,$B483,'CMS Downtime Detail'!$C$24:$C$500,$C483,'CMS Downtime Detail'!$D$24:$D$500,$D483,'CMS Downtime Detail'!$E$24:$E$500,\"Other Known Causes\"))","v":""},{"$f":"IF($E483=\"\",\"\",SUMIFS('CMS Downtime Detail'!$K$24:$K$500,'CMS Downtime Detail'!$B$24:$B$500,$B483,'CMS Downtime Detail'!$C$24:$C$500,$C483,'CMS Downtime Detail'!$D$24:$D$500,$D483,'CMS Downtime Detail'!$E$24:$E$500,\"Other Unknown Causes\"))","v":""}]
[null,{"$f":"IF(Lists!AQ462=\"\",\"\",Lists!AQ462)","v":""},{"$f":"IF(Lists!AR462=\"\",\"\",Lists!AR462)","v":""},{"$f":"IF(Lists!AS462=\"\",\"\",Lists!AS462)","v":""},{"$f":"IF(D484=\"\",\"\",VLOOKUP(B484&C484,Lists!$BA$2:$BD$78,4,FALSE))","v":""},"","",{"$f":"IF($E484=\"\",\"\",SUMIFS('CMS Downtime Detail'!$K$24:$K$500,'CMS Downtime Detail'!$B$24:$B$500,$B484,'CMS Downtime Detail'!$C$24:$C$500,$C484,'CMS Downtime Detail'!$D$24:$D$500,$D484,'CMS Downtime Detail'!$E$24:$E$500,\"Monitoring Equipment Malfunctions\"))","v":""},{"$f":"IF($E484=\"\",\"\",SUMIFS('CMS Downtime Detail'!$K$24:$K$500,'CMS Downtime Detail'!$B$24:$B$500,$B484,'CMS Downtime Detail'!$C$24:$C$500,$C484,'CMS Downtime Detail'!$D$24:$D$500,$D484,'CMS Downtime Detail'!$E$24:$E$500,\"Nonmonitoring Equipment Malfunctions\"))","v":""},{"$f":"IF($E484=\"\",\"\",SUMIFS('CMS Downtime Detail'!$K$24:$K$500,'CMS Downtime Detail'!$B$24:$B$500,$B484,'CMS Downtime Detail'!$C$24:$C$500,$C484,'CMS Downtime Detail'!$D$24:$D$500,$D484,'CMS Downtime Detail'!$E$24:$E$500,\"Quality Assurance/Quality Control Calibrations\"))","v":""},{"$f":"IF($E484=\"\",\"\",SUMIFS('CMS Downtime Detail'!$K$24:$K$500,'CMS Downtime Detail'!$B$24:$B$500,$B484,'CMS Downtime Detail'!$C$24:$C$500,$C484,'CMS Downtime Detail'!$D$24:$D$500,$D484,'CMS Downtime Detail'!$E$24:$E$500,\"Other Known Causes\"))","v":""},{"$f":"IF($E484=\"\",\"\",SUMIFS('CMS Downtime Detail'!$K$24:$K$500,'CMS Downtime Detail'!$B$24:$B$500,$B484,'CMS Downtime Detail'!$C$24:$C$500,$C484,'CMS Downtime Detail'!$D$24:$D$500,$D484,'CMS Downtime Detail'!$E$24:$E$500,\"Other Unknown Causes\"))","v":""}]
[null,{"$f":"IF(Lists!AQ463=\"\",\"\",Lists!AQ463)","v":""},{"$f":"IF(Lists!AR463=\"\",\"\",Lists!AR463)","v":""},{"$f":"IF(Lists!AS463=\"\",\"\",Lists!AS463)","v":""},{"$f":"IF(D485=\"\",\"\",VLOOKUP(B485&C485,Lists!$BA$2:$BD$78,4,FALSE))","v":""},"","",{"$f":"IF($E485=\"\",\"\",SUMIFS('CMS Downtime Detail'!$K$24:$K$500,'CMS Downtime Detail'!$B$24:$B$500,$B485,'CMS Downtime Detail'!$C$24:$C$500,$C485,'CMS Downtime Detail'!$D$24:$D$500,$D485,'CMS Downtime Detail'!$E$24:$E$500,\"Monitoring Equipment Malfunctions\"))","v":""},{"$f":"IF($E485=\"\",\"\",SUMIFS('CMS Downtime Detail'!$K$24:$K$500,'CMS Downtime Detail'!$B$24:$B$500,$B485,'CMS Downtime Detail'!$C$24:$C$500,$C485,'CMS Downtime Detail'!$D$24:$D$500,$D485,'CMS Downtime Detail'!$E$24:$E$500,\"Nonmonitoring Equipment Malfunctions\"))","v":""},{"$f":"IF($E485=\"\",\"\",SUMIFS('CMS Downtime Detail'!$K$24:$K$500,'CMS Downtime Detail'!$B$24:$B$500,$B485,'CMS Downtime Detail'!$C$24:$C$500,$C485,'CMS Downtime Detail'!$D$24:$D$500,$D485,'CMS Downtime Detail'!$E$24:$E$500,\"Quality Assurance/Quality Control Calibrations\"))","v":""},{"$f":"IF($E485=\"\",\"\",SUMIFS('CMS Downtime Detail'!$K$24:$K$500,'CMS Downtime Detail'!$B$24:$B$500,$B485,'CMS Downtime Detail'!$C$24:$C$500,$C485,'CMS Downtime Detail'!$D$24:$D$500,$D485,'CMS Downtime Detail'!$E$24:$E$500,\"Other Known Causes\"))","v":""},{"$f":"IF($E485=\"\",\"\",SUMIFS('CMS Downtime Detail'!$K$24:$K$500,'CMS Downtime Detail'!$B$24:$B$500,$B485,'CMS Downtime Detail'!$C$24:$C$500,$C485,'CMS Downtime Detail'!$D$24:$D$500,$D485,'CMS Downtime Detail'!$E$24:$E$500,\"Other Unknown Causes\"))","v":""}]
[null,{"$f":"IF(Lists!AQ464=\"\",\"\",Lists!AQ464)","v":""},{"$f":"IF(Lists!AR464=\"\",\"\",Lists!AR464)","v":""},{"$f":"IF(Lists!AS464=\"\",\"\",Lists!AS464)","v":""},{"$f":"IF(D486=\"\",\"\",VLOOKUP(B486&C486,Lists!$BA$2:$BD$78,4,FALSE))","v":""},"","",{"$f":"IF($E486=\"\",\"\",SUMIFS('CMS Downtime Detail'!$K$24:$K$500,'CMS Downtime Detail'!$B$24:$B$500,$B486,'CMS Downtime Detail'!$C$24:$C$500,$C486,'CMS Downtime Detail'!$D$24:$D$500,$D486,'CMS Downtime Detail'!$E$24:$E$500,\"Monitoring Equipment Malfunctions\"))","v":""},{"$f":"IF($E486=\"\",\"\",SUMIFS('CMS Downtime Detail'!$K$24:$K$500,'CMS Downtime Detail'!$B$24:$B$500,$B486,'CMS Downtime Detail'!$C$24:$C$500,$C486,'CMS Downtime Detail'!$D$24:$D$500,$D486,'CMS Downtime Detail'!$E$24:$E$500,\"Nonmonitoring Equipment Malfunctions\"))","v":""},{"$f":"IF($E486=\"\",\"\",SUMIFS('CMS Downtime Detail'!$K$24:$K$500,'CMS Downtime Detail'!$B$24:$B$500,$B486,'CMS Downtime Detail'!$C$24:$C$500,$C486,'CMS Downtime Detail'!$D$24:$D$500,$D486,'CMS Downtime Detail'!$E$24:$E$500,\"Quality Assurance/Quality Control Calibrations\"))","v":""},{"$f":"IF($E486=\"\",\"\",SUMIFS('CMS Downtime Detail'!$K$24:$K$500,'CMS Downtime Detail'!$B$24:$B$500,$B486,'CMS Downtime Detail'!$C$24:$C$500,$C486,'CMS Downtime Detail'!$D$24:$D$500,$D486,'CMS Downtime Detail'!$E$24:$E$500,\"Other Known Causes\"))","v":""},{"$f":"IF($E486=\"\",\"\",SUMIFS('CMS Downtime Detail'!$K$24:$K$500,'CMS Downtime Detail'!$B$24:$B$500,$B486,'CMS Downtime Detail'!$C$24:$C$500,$C486,'CMS Downtime Detail'!$D$24:$D$500,$D486,'CMS Downtime Detail'!$E$24:$E$500,\"Other Unknown Causes\"))","v":""}]
[null,{"$f":"IF(Lists!AQ465=\"\",\"\",Lists!AQ465)","v":""},{"$f":"IF(Lists!AR465=\"\",\"\",Lists!AR465)","v":""},{"$f":"IF(Lists!AS465=\"\",\"\",Lists!AS465)","v":""},{"$f":"IF(D487=\"\",\"\",VLOOKUP(B487&C487,Lists!$BA$2:$BD$78,4,FALSE))","v":""},"","",{"$f":"IF($E487=\"\",\"\",SUMIFS('CMS Downtime Detail'!$K$24:$K$500,'CMS Downtime Detail'!$B$24:$B$500,$B487,'CMS Downtime Detail'!$C$24:$C$500,$C487,'CMS Downtime Detail'!$D$24:$D$500,$D487,'CMS Downtime Detail'!$E$24:$E$500,\"Monitoring Equipment Malfunctions\"))","v":""},{"$f":"IF($E487=\"\",\"\",SUMIFS('CMS Downtime Detail'!$K$24:$K$500,'CMS Downtime Detail'!$B$24:$B$500,$B487,'CMS Downtime Detail'!$C$24:$C$500,$C487,'CMS Downtime Detail'!$D$24:$D$500,$D487,'CMS Downtime Detail'!$E$24:$E$500,\"Nonmonitoring Equipment Malfunctions\"))","v":""},{"$f":"IF($E487=\"\",\"\",SUMIFS('CMS Downtime Detail'!$K$24:$K$500,'CMS Downtime Detail'!$B$24:$B$500,$B487,'CMS Downtime Detail'!$C$24:$C$500,$C487,'CMS Downtime Detail'!$D$24:$D$500,$D487,'CMS Downtime Detail'!$E$24:$E$500,\"Quality Assurance/Quality Control Calibrations\"))","v":""},{"$f":"IF($E487=\"\",\"\",SUMIFS('CMS Downtime Detail'!$K$24:$K$500,'CMS Downtime Detail'!$B$24:$B$500,$B487,'CMS Downtime Detail'!$C$24:$C$500,$C487,'CMS Downtime Detail'!$D$24:$D$500,$D487,'CMS Downtime Detail'!$E$24:$E$500,\"Other Known Causes\"))","v":""},{"$f":"IF($E487=\"\",\"\",SUMIFS('CMS Downtime Detail'!$K$24:$K$500,'CMS Downtime Detail'!$B$24:$B$500,$B487,'CMS Downtime Detail'!$C$24:$C$500,$C487,'CMS Downtime Detail'!$D$24:$D$500,$D487,'CMS Downtime Detail'!$E$24:$E$500,\"Other Unknown Causes\"))","v":""}]
[null,{"$f":"IF(Lists!AQ466=\"\",\"\",Lists!AQ466)","v":""},{"$f":"IF(Lists!AR466=\"\",\"\",Lists!AR466)","v":""},{"$f":"IF(Lists!AS466=\"\",\"\",Lists!AS466)","v":""},{"$f":"IF(D488=\"\",\"\",VLOOKUP(B488&C488,Lists!$BA$2:$BD$78,4,FALSE))","v":""},"","",{"$f":"IF($E488=\"\",\"\",SUMIFS('CMS Downtime Detail'!$K$24:$K$500,'CMS Downtime Detail'!$B$24:$B$500,$B488,'CMS Downtime Detail'!$C$24:$C$500,$C488,'CMS Downtime Detail'!$D$24:$D$500,$D488,'CMS Downtime Detail'!$E$24:$E$500,\"Monitoring Equipment Malfunctions\"))","v":""},{"$f":"IF($E488=\"\",\"\",SUMIFS('CMS Downtime Detail'!$K$24:$K$500,'CMS Downtime Detail'!$B$24:$B$500,$B488,'CMS Downtime Detail'!$C$24:$C$500,$C488,'CMS Downtime Detail'!$D$24:$D$500,$D488,'CMS Downtime Detail'!$E$24:$E$500,\"Nonmonitoring Equipment Malfunctions\"))","v":""},{"$f":"IF($E488=\"\",\"\",SUMIFS('CMS Downtime Detail'!$K$24:$K$500,'CMS Downtime Detail'!$B$24:$B$500,$B488,'CMS Downtime Detail'!$C$24:$C$500,$C488,'CMS Downtime Detail'!$D$24:$D$500,$D488,'CMS Downtime Detail'!$E$24:$E$500,\"Quality Assurance/Quality Control Calibrations\"))","v":""},{"$f":"IF($E488=\"\",\"\",SUMIFS('CMS Downtime Detail'!$K$24:$K$500,'CMS Downtime Detail'!$B$24:$B$500,$B488,'CMS Downtime Detail'!$C$24:$C$500,$C488,'CMS Downtime Detail'!$D$24:$D$500,$D488,'CMS Downtime Detail'!$E$24:$E$500,\"Other Known Causes\"))","v":""},{"$f":"IF($E488=\"\",\"\",SUMIFS('CMS Downtime Detail'!$K$24:$K$500,'CMS Downtime Detail'!$B$24:$B$500,$B488,'CMS Downtime Detail'!$C$24:$C$500,$C488,'CMS Downtime Detail'!$D$24:$D$500,$D488,'CMS Downtime Detail'!$E$24:$E$500,\"Other Unknown Causes\"))","v":""}]
[null,{"$f":"IF(Lists!AQ467=\"\",\"\",Lists!AQ467)","v":""},{"$f":"IF(Lists!AR467=\"\",\"\",Lists!AR467)","v":""},{"$f":"IF(Lists!AS467=\"\",\"\",Lists!AS467)","v":""},{"$f":"IF(D489=\"\",\"\",VLOOKUP(B489&C489,Lists!$BA$2:$BD$78,4,FALSE))","v":""},"","",{"$f":"IF($E489=\"\",\"\",SUMIFS('CMS Downtime Detail'!$K$24:$K$500,'CMS Downtime Detail'!$B$24:$B$500,$B489,'CMS Downtime Detail'!$C$24:$C$500,$C489,'CMS Downtime Detail'!$D$24:$D$500,$D489,'CMS Downtime Detail'!$E$24:$E$500,\"Monitoring Equipment Malfunctions\"))","v":""},{"$f":"IF($E489=\"\",\"\",SUMIFS('CMS Downtime Detail'!$K$24:$K$500,'CMS Downtime Detail'!$B$24:$B$500,$B489,'CMS Downtime Detail'!$C$24:$C$500,$C489,'CMS Downtime Detail'!$D$24:$D$500,$D489,'CMS Downtime Detail'!$E$24:$E$500,\"Nonmonitoring Equipment Malfunctions\"))","v":""},{"$f":"IF($E489=\"\",\"\",SUMIFS('CMS Downtime Detail'!$K$24:$K$500,'CMS Downtime Detail'!$B$24:$B$500,$B489,'CMS Downtime Detail'!$C$24:$C$500,$C489,'CMS Downtime Detail'!$D$24:$D$500,$D489,'CMS Downtime Detail'!$E$24:$E$500,\"Quality Assurance/Quality Control Calibrations\"))","v":""},{"$f":"IF($E489=\"\",\"\",SUMIFS('CMS Downtime Detail'!$K$24:$K$500,'CMS Downtime Detail'!$B$24:$B$500,$B489,'CMS Downtime Detail'!$C$24:$C$500,$C489,'CMS Downtime Detail'!$D$24:$D$500,$D489,'CMS Downtime Detail'!$E$24:$E$500,\"Other Known Causes\"))","v":""},{"$f":"IF($E489=\"\",\"\",SUMIFS('CMS Downtime Detail'!$K$24:$K$500,'CMS Downtime Detail'!$B$24:$B$500,$B489,'CMS Downtime Detail'!$C$24:$C$500,$C489,'CMS Downtime Detail'!$D$24:$D$500,$D489,'CMS Downtime Detail'!$E$24:$E$500,\"Other Unknown Causes\"))","v":""}]
[null,{"$f":"IF(Lists!AQ468=\"\",\"\",Lists!AQ468)","v":""},{"$f":"IF(Lists!AR468=\"\",\"\",Lists!AR468)","v":""},{"$f":"IF(Lists!AS468=\"\",\"\",Lists!AS468)","v":""},{"$f":"IF(D490=\"\",\"\",VLOOKUP(B490&C490,Lists!$BA$2:$BD$78,4,FALSE))","v":""},"","",{"$f":"IF($E490=\"\",\"\",SUMIFS('CMS Downtime Detail'!$K$24:$K$500,'CMS Downtime Detail'!$B$24:$B$500,$B490,'CMS Downtime Detail'!$C$24:$C$500,$C490,'CMS Downtime Detail'!$D$24:$D$500,$D490,'CMS Downtime Detail'!$E$24:$E$500,\"Monitoring Equipment Malfunctions\"))","v":""},{"$f":"IF($E490=\"\",\"\",SUMIFS('CMS Downtime Detail'!$K$24:$K$500,'CMS Downtime Detail'!$B$24:$B$500,$B490,'CMS Downtime Detail'!$C$24:$C$500,$C490,'CMS Downtime Detail'!$D$24:$D$500,$D490,'CMS Downtime Detail'!$E$24:$E$500,\"Nonmonitoring Equipment Malfunctions\"))","v":""},{"$f":"IF($E490=\"\",\"\",SUMIFS('CMS Downtime Detail'!$K$24:$K$500,'CMS Downtime Detail'!$B$24:$B$500,$B490,'CMS Downtime Detail'!$C$24:$C$500,$C490,'CMS Downtime Detail'!$D$24:$D$500,$D490,'CMS Downtime Detail'!$E$24:$E$500,\"Quality Assurance/Quality Control Calibrations\"))","v":""},{"$f":"IF($E490=\"\",\"\",SUMIFS('CMS Downtime Detail'!$K$24:$K$500,'CMS Downtime Detail'!$B$24:$B$500,$B490,'CMS Downtime Detail'!$C$24:$C$500,$C490,'CMS Downtime Detail'!$D$24:$D$500,$D490,'CMS Downtime Detail'!$E$24:$E$500,\"Other Known Causes\"))","v":""},{"$f":"IF($E490=\"\",\"\",SUMIFS('CMS Downtime Detail'!$K$24:$K$500,'CMS Downtime Detail'!$B$24:$B$500,$B490,'CMS Downtime Detail'!$C$24:$C$500,$C490,'CMS Downtime Detail'!$D$24:$D$500,$D490,'CMS Downtime Detail'!$E$24:$E$500,\"Other Unknown Causes\"))","v":""}]
[null,{"$f":"IF(Lists!AQ469=\"\",\"\",Lists!AQ469)","v":""},{"$f":"IF(Lists!AR469=\"\",\"\",Lists!AR469)","v":""},{"$f":"IF(Lists!AS469=\"\",\"\",Lists!AS469)","v":""},{"$f":"IF(D491=\"\",\"\",VLOOKUP(B491&C491,Lists!$BA$2:$BD$78,4,FALSE))","v":""},"","",{"$f":"IF($E491=\"\",\"\",SUMIFS('CMS Downtime Detail'!$K$24:$K$500,'CMS Downtime Detail'!$B$24:$B$500,$B491,'CMS Downtime Detail'!$C$24:$C$500,$C491,'CMS Downtime Detail'!$D$24:$D$500,$D491,'CMS Downtime Detail'!$E$24:$E$500,\"Monitoring Equipment Malfunctions\"))","v":""},{"$f":"IF($E491=\"\",\"\",SUMIFS('CMS Downtime Detail'!$K$24:$K$500,'CMS Downtime Detail'!$B$24:$B$500,$B491,'CMS Downtime Detail'!$C$24:$C$500,$C491,'CMS Downtime Detail'!$D$24:$D$500,$D491,'CMS Downtime Detail'!$E$24:$E$500,\"Nonmonitoring Equipment Malfunctions\"))","v":""},{"$f":"IF($E491=\"\",\"\",SUMIFS('CMS Downtime Detail'!$K$24:$K$500,'CMS Downtime Detail'!$B$24:$B$500,$B491,'CMS Downtime Detail'!$C$24:$C$500,$C491,'CMS Downtime Detail'!$D$24:$D$500,$D491,'CMS Downtime Detail'!$E$24:$E$500,\"Quality Assurance/Quality Control Calibrations\"))","v":""},{"$f":"IF($E491=\"\",\"\",SUMIFS('CMS Downtime Detail'!$K$24:$K$500,'CMS Downtime Detail'!$B$24:$B$500,$B491,'CMS Downtime Detail'!$C$24:$C$500,$C491,'CMS Downtime Detail'!$D$24:$D$500,$D491,'CMS Downtime Detail'!$E$24:$E$500,\"Other Known Causes\"))","v":""},{"$f":"IF($E491=\"\",\"\",SUMIFS('CMS Downtime Detail'!$K$24:$K$500,'CMS Downtime Detail'!$B$24:$B$500,$B491,'CMS Downtime Detail'!$C$24:$C$500,$C491,'CMS Downtime Detail'!$D$24:$D$500,$D491,'CMS Downtime Detail'!$E$24:$E$500,\"Other Unknown Causes\"))","v":""}]
[null,{"$f":"IF(Lists!AQ470=\"\",\"\",Lists!AQ470)","v":""},{"$f":"IF(Lists!AR470=\"\",\"\",Lists!AR470)","v":""},{"$f":"IF(Lists!AS470=\"\",\"\",Lists!AS470)","v":""},{"$f":"IF(D492=\"\",\"\",VLOOKUP(B492&C492,Lists!$BA$2:$BD$78,4,FALSE))","v":""},"","",{"$f":"IF($E492=\"\",\"\",SUMIFS('CMS Downtime Detail'!$K$24:$K$500,'CMS Downtime Detail'!$B$24:$B$500,$B492,'CMS Downtime Detail'!$C$24:$C$500,$C492,'CMS Downtime Detail'!$D$24:$D$500,$D492,'CMS Downtime Detail'!$E$24:$E$500,\"Monitoring Equipment Malfunctions\"))","v":""},{"$f":"IF($E492=\"\",\"\",SUMIFS('CMS Downtime Detail'!$K$24:$K$500,'CMS Downtime Detail'!$B$24:$B$500,$B492,'CMS Downtime Detail'!$C$24:$C$500,$C492,'CMS Downtime Detail'!$D$24:$D$500,$D492,'CMS Downtime Detail'!$E$24:$E$500,\"Nonmonitoring Equipment Malfunctions\"))","v":""},{"$f":"IF($E492=\"\",\"\",SUMIFS('CMS Downtime Detail'!$K$24:$K$500,'CMS Downtime Detail'!$B$24:$B$500,$B492,'CMS Downtime Detail'!$C$24:$C$500,$C492,'CMS Downtime Detail'!$D$24:$D$500,$D492,'CMS Downtime Detail'!$E$24:$E$500,\"Quality Assurance/Quality Control Calibrations\"))","v":""},{"$f":"IF($E492=\"\",\"\",SUMIFS('CMS Downtime Detail'!$K$24:$K$500,'CMS Downtime Detail'!$B$24:$B$500,$B492,'CMS Downtime Detail'!$C$24:$C$500,$C492,'CMS Downtime Detail'!$D$24:$D$500,$D492,'CMS Downtime Detail'!$E$24:$E$500,\"Other Known Causes\"))","v":""},{"$f":"IF($E492=\"\",\"\",SUMIFS('CMS Downtime Detail'!$K$24:$K$500,'CMS Downtime Detail'!$B$24:$B$500,$B492,'CMS Downtime Detail'!$C$24:$C$500,$C492,'CMS Downtime Detail'!$D$24:$D$500,$D492,'CMS Downtime Detail'!$E$24:$E$500,\"Other Unknown Causes\"))","v":""}]
[null,{"$f":"IF(Lists!AQ471=\"\",\"\",Lists!AQ471)","v":""},{"$f":"IF(Lists!AR471=\"\",\"\",Lists!AR471)","v":""},{"$f":"IF(Lists!AS471=\"\",\"\",Lists!AS471)","v":""},{"$f":"IF(D493=\"\",\"\",VLOOKUP(B493&C493,Lists!$BA$2:$BD$78,4,FALSE))","v":""},"","",{"$f":"IF($E493=\"\",\"\",SUMIFS('CMS Downtime Detail'!$K$24:$K$500,'CMS Downtime Detail'!$B$24:$B$500,$B493,'CMS Downtime Detail'!$C$24:$C$500,$C493,'CMS Downtime Detail'!$D$24:$D$500,$D493,'CMS Downtime Detail'!$E$24:$E$500,\"Monitoring Equipment Malfunctions\"))","v":""},{"$f":"IF($E493=\"\",\"\",SUMIFS('CMS Downtime Detail'!$K$24:$K$500,'CMS Downtime Detail'!$B$24:$B$500,$B493,'CMS Downtime Detail'!$C$24:$C$500,$C493,'CMS Downtime Detail'!$D$24:$D$500,$D493,'CMS Downtime Detail'!$E$24:$E$500,\"Nonmonitoring Equipment Malfunctions\"))","v":""},{"$f":"IF($E493=\"\",\"\",SUMIFS('CMS Downtime Detail'!$K$24:$K$500,'CMS Downtime Detail'!$B$24:$B$500,$B493,'CMS Downtime Detail'!$C$24:$C$500,$C493,'CMS Downtime Detail'!$D$24:$D$500,$D493,'CMS Downtime Detail'!$E$24:$E$500,\"Quality Assurance/Quality Control Calibrations\"))","v":""},{"$f":"IF($E493=\"\",\"\",SUMIFS('CMS Downtime Detail'!$K$24:$K$500,'CMS Downtime Detail'!$B$24:$B$500,$B493,'CMS Downtime Detail'!$C$24:$C$500,$C493,'CMS Downtime Detail'!$D$24:$D$500,$D493,'CMS Downtime Detail'!$E$24:$E$500,\"Other Known Causes\"))","v":""},{"$f":"IF($E493=\"\",\"\",SUMIFS('CMS Downtime Detail'!$K$24:$K$500,'CMS Downtime Detail'!$B$24:$B$500,$B493,'CMS Downtime Detail'!$C$24:$C$500,$C493,'CMS Downtime Detail'!$D$24:$D$500,$D493,'CMS Downtime Detail'!$E$24:$E$500,\"Other Unknown Causes\"))","v":""}]
[null,{"$f":"IF(Lists!AQ472=\"\",\"\",Lists!AQ472)","v":""},{"$f":"IF(Lists!AR472=\"\",\"\",Lists!AR472)","v":""},{"$f":"IF(Lists!AS472=\"\",\"\",Lists!AS472)","v":""},{"$f":"IF(D494=\"\",\"\",VLOOKUP(B494&C494,Lists!$BA$2:$BD$78,4,FALSE))","v":""},"","",{"$f":"IF($E494=\"\",\"\",SUMIFS('CMS Downtime Detail'!$K$24:$K$500,'CMS Downtime Detail'!$B$24:$B$500,$B494,'CMS Downtime Detail'!$C$24:$C$500,$C494,'CMS Downtime Detail'!$D$24:$D$500,$D494,'CMS Downtime Detail'!$E$24:$E$500,\"Monitoring Equipment Malfunctions\"))","v":""},{"$f":"IF($E494=\"\",\"\",SUMIFS('CMS Downtime Detail'!$K$24:$K$500,'CMS Downtime Detail'!$B$24:$B$500,$B494,'CMS Downtime Detail'!$C$24:$C$500,$C494,'CMS Downtime Detail'!$D$24:$D$500,$D494,'CMS Downtime Detail'!$E$24:$E$500,\"Nonmonitoring Equipment Malfunctions\"))","v":""},{"$f":"IF($E494=\"\",\"\",SUMIFS('CMS Downtime Detail'!$K$24:$K$500,'CMS Downtime Detail'!$B$24:$B$500,$B494,'CMS Downtime Detail'!$C$24:$C$500,$C494,'CMS Downtime Detail'!$D$24:$D$500,$D494,'CMS Downtime Detail'!$E$24:$E$500,\"Quality Assurance/Quality Control Calibrations\"))","v":""},{"$f":"IF($E494=\"\",\"\",SUMIFS('CMS Downtime Detail'!$K$24:$K$500,'CMS Downtime Detail'!$B$24:$B$500,$B494,'CMS Downtime Detail'!$C$24:$C$500,$C494,'CMS Downtime Detail'!$D$24:$D$500,$D494,'CMS Downtime Detail'!$E$24:$E$500,\"Other Known Causes\"))","v":""},{"$f":"IF($E494=\"\",\"\",SUMIFS('CMS Downtime Detail'!$K$24:$K$500,'CMS Downtime Detail'!$B$24:$B$500,$B494,'CMS Downtime Detail'!$C$24:$C$500,$C494,'CMS Downtime Detail'!$D$24:$D$500,$D494,'CMS Downtime Detail'!$E$24:$E$500,\"Other Unknown Causes\"))","v":""}]
[null,{"$f":"IF(Lists!AQ473=\"\",\"\",Lists!AQ473)","v":""},{"$f":"IF(Lists!AR473=\"\",\"\",Lists!AR473)","v":""},{"$f":"IF(Lists!AS473=\"\",\"\",Lists!AS473)","v":""},{"$f":"IF(D495=\"\",\"\",VLOOKUP(B495&C495,Lists!$BA$2:$BD$78,4,FALSE))","v":""},"","",{"$f":"IF($E495=\"\",\"\",SUMIFS('CMS Downtime Detail'!$K$24:$K$500,'CMS Downtime Detail'!$B$24:$B$500,$B495,'CMS Downtime Detail'!$C$24:$C$500,$C495,'CMS Downtime Detail'!$D$24:$D$500,$D495,'CMS Downtime Detail'!$E$24:$E$500,\"Monitoring Equipment Malfunctions\"))","v":""},{"$f":"IF($E495=\"\",\"\",SUMIFS('CMS Downtime Detail'!$K$24:$K$500,'CMS Downtime Detail'!$B$24:$B$500,$B495,'CMS Downtime Detail'!$C$24:$C$500,$C495,'CMS Downtime Detail'!$D$24:$D$500,$D495,'CMS Downtime Detail'!$E$24:$E$500,\"Nonmonitoring Equipment Malfunctions\"))","v":""},{"$f":"IF($E495=\"\",\"\",SUMIFS('CMS Downtime Detail'!$K$24:$K$500,'CMS Downtime Detail'!$B$24:$B$500,$B495,'CMS Downtime Detail'!$C$24:$C$500,$C495,'CMS Downtime Detail'!$D$24:$D$500,$D495,'CMS Downtime Detail'!$E$24:$E$500,\"Quality Assurance/Quality Control Calibrations\"))","v":""},{"$f":"IF($E495=\"\",\"\",SUMIFS('CMS Downtime Detail'!$K$24:$K$500,'CMS Downtime Detail'!$B$24:$B$500,$B495,'CMS Downtime Detail'!$C$24:$C$500,$C495,'CMS Downtime Detail'!$D$24:$D$500,$D495,'CMS Downtime Detail'!$E$24:$E$500,\"Other Known Causes\"))","v":""},{"$f":"IF($E495=\"\",\"\",SUMIFS('CMS Downtime Detail'!$K$24:$K$500,'CMS Downtime Detail'!$B$24:$B$500,$B495,'CMS Downtime Detail'!$C$24:$C$500,$C495,'CMS Downtime Detail'!$D$24:$D$500,$D495,'CMS Downtime Detail'!$E$24:$E$500,\"Other Unknown Causes\"))","v":""}]
[null,{"$f":"IF(Lists!AQ474=\"\",\"\",Lists!AQ474)","v":""},{"$f":"IF(Lists!AR474=\"\",\"\",Lists!AR474)","v":""},{"$f":"IF(Lists!AS474=\"\",\"\",Lists!AS474)","v":""},{"$f":"IF(D496=\"\",\"\",VLOOKUP(B496&C496,Lists!$BA$2:$BD$78,4,FALSE))","v":""},"","",{"$f":"IF($E496=\"\",\"\",SUMIFS('CMS Downtime Detail'!$K$24:$K$500,'CMS Downtime Detail'!$B$24:$B$500,$B496,'CMS Downtime Detail'!$C$24:$C$500,$C496,'CMS Downtime Detail'!$D$24:$D$500,$D496,'CMS Downtime Detail'!$E$24:$E$500,\"Monitoring Equipment Malfunctions\"))","v":""},{"$f":"IF($E496=\"\",\"\",SUMIFS('CMS Downtime Detail'!$K$24:$K$500,'CMS Downtime Detail'!$B$24:$B$500,$B496,'CMS Downtime Detail'!$C$24:$C$500,$C496,'CMS Downtime Detail'!$D$24:$D$500,$D496,'CMS Downtime Detail'!$E$24:$E$500,\"Nonmonitoring Equipment Malfunctions\"))","v":""},{"$f":"IF($E496=\"\",\"\",SUMIFS('CMS Downtime Detail'!$K$24:$K$500,'CMS Downtime Detail'!$B$24:$B$500,$B496,'CMS Downtime Detail'!$C$24:$C$500,$C496,'CMS Downtime Detail'!$D$24:$D$500,$D496,'CMS Downtime Detail'!$E$24:$E$500,\"Quality Assurance/Quality Control Calibrations\"))","v":""},{"$f":"IF($E496=\"\",\"\",SUMIFS('CMS Downtime Detail'!$K$24:$K$500,'CMS Downtime Detail'!$B$24:$B$500,$B496,'CMS Downtime Detail'!$C$24:$C$500,$C496,'CMS Downtime Detail'!$D$24:$D$500,$D496,'CMS Downtime Detail'!$E$24:$E$500,\"Other Known Causes\"))","v":""},{"$f":"IF($E496=\"\",\"\",SUMIFS('CMS Downtime Detail'!$K$24:$K$500,'CMS Downtime Detail'!$B$24:$B$500,$B496,'CMS Downtime Detail'!$C$24:$C$500,$C496,'CMS Downtime Detail'!$D$24:$D$500,$D496,'CMS Downtime Detail'!$E$24:$E$500,\"Other Unknown Causes\"))","v":""}]
[null,{"$f":"IF(Lists!AQ475=\"\",\"\",Lists!AQ475)","v":""},{"$f":"IF(Lists!AR475=\"\",\"\",Lists!AR475)","v":""},{"$f":"IF(Lists!AS475=\"\",\"\",Lists!AS475)","v":""},{"$f":"IF(D497=\"\",\"\",VLOOKUP(B497&C497,Lists!$BA$2:$BD$78,4,FALSE))","v":""},"","",{"$f":"IF($E497=\"\",\"\",SUMIFS('CMS Downtime Detail'!$K$24:$K$500,'CMS Downtime Detail'!$B$24:$B$500,$B497,'CMS Downtime Detail'!$C$24:$C$500,$C497,'CMS Downtime Detail'!$D$24:$D$500,$D497,'CMS Downtime Detail'!$E$24:$E$500,\"Monitoring Equipment Malfunctions\"))","v":""},{"$f":"IF($E497=\"\",\"\",SUMIFS('CMS Downtime Detail'!$K$24:$K$500,'CMS Downtime Detail'!$B$24:$B$500,$B497,'CMS Downtime Detail'!$C$24:$C$500,$C497,'CMS Downtime Detail'!$D$24:$D$500,$D497,'CMS Downtime Detail'!$E$24:$E$500,\"Nonmonitoring Equipment Malfunctions\"))","v":""},{"$f":"IF($E497=\"\",\"\",SUMIFS('CMS Downtime Detail'!$K$24:$K$500,'CMS Downtime Detail'!$B$24:$B$500,$B497,'CMS Downtime Detail'!$C$24:$C$500,$C497,'CMS Downtime Detail'!$D$24:$D$500,$D497,'CMS Downtime Detail'!$E$24:$E$500,\"Quality Assurance/Quality Control Calibrations\"))","v":""},{"$f":"IF($E497=\"\",\"\",SUMIFS('CMS Downtime Detail'!$K$24:$K$500,'CMS Downtime Detail'!$B$24:$B$500,$B497,'CMS Downtime Detail'!$C$24:$C$500,$C497,'CMS Downtime Detail'!$D$24:$D$500,$D497,'CMS Downtime Detail'!$E$24:$E$500,\"Other Known Causes\"))","v":""},{"$f":"IF($E497=\"\",\"\",SUMIFS('CMS Downtime Detail'!$K$24:$K$500,'CMS Downtime Detail'!$B$24:$B$500,$B497,'CMS Downtime Detail'!$C$24:$C$500,$C497,'CMS Downtime Detail'!$D$24:$D$500,$D497,'CMS Downtime Detail'!$E$24:$E$500,\"Other Unknown Causes\"))","v":""}]
[null,{"$f":"IF(Lists!AQ476=\"\",\"\",Lists!AQ476)","v":""},{"$f":"IF(Lists!AR476=\"\",\"\",Lists!AR476)","v":""},{"$f":"IF(Lists!AS476=\"\",\"\",Lists!AS476)","v":""},{"$f":"IF(D498=\"\",\"\",VLOOKUP(B498&C498,Lists!$BA$2:$BD$78,4,FALSE))","v":""},"","",{"$f":"IF($E498=\"\",\"\",SUMIFS('CMS Downtime Detail'!$K$24:$K$500,'CMS Downtime Detail'!$B$24:$B$500,$B498,'CMS Downtime Detail'!$C$24:$C$500,$C498,'CMS Downtime Detail'!$D$24:$D$500,$D498,'CMS Downtime Detail'!$E$24:$E$500,\"Monitoring Equipment Malfunctions\"))","v":""},{"$f":"IF($E498=\"\",\"\",SUMIFS('CMS Downtime Detail'!$K$24:$K$500,'CMS Downtime Detail'!$B$24:$B$500,$B498,'CMS Downtime Detail'!$C$24:$C$500,$C498,'CMS Downtime Detail'!$D$24:$D$500,$D498,'CMS Downtime Detail'!$E$24:$E$500,\"Nonmonitoring Equipment Malfunctions\"))","v":""},{"$f":"IF($E498=\"\",\"\",SUMIFS('CMS Downtime Detail'!$K$24:$K$500,'CMS Downtime Detail'!$B$24:$B$500,$B498,'CMS Downtime Detail'!$C$24:$C$500,$C498,'CMS Downtime Detail'!$D$24:$D$500,$D498,'CMS Downtime Detail'!$E$24:$E$500,\"Quality Assurance/Quality Control Calibrations\"))","v":""},{"$f":"IF($E498=\"\",\"\",SUMIFS('CMS Downtime Detail'!$K$24:$K$500,'CMS Downtime Detail'!$B$24:$B$500,$B498,'CMS Downtime Detail'!$C$24:$C$500,$C498,'CMS Downtime Detail'!$D$24:$D$500,$D498,'CMS Downtime Detail'!$E$24:$E$500,\"Other Known Causes\"))","v":""},{"$f":"IF($E498=\"\",\"\",SUMIFS('CMS Downtime Detail'!$K$24:$K$500,'CMS Downtime Detail'!$B$24:$B$500,$B498,'CMS Downtime Detail'!$C$24:$C$500,$C498,'CMS Downtime Detail'!$D$24:$D$500,$D498,'CMS Downtime Detail'!$E$24:$E$500,\"Other Unknown Causes\"))","v":""}]
[null,{"$f":"IF(Lists!AQ477=\"\",\"\",Lists!AQ477)","v":""},{"$f":"IF(Lists!AR477=\"\",\"\",Lists!AR477)","v":""},{"$f":"IF(Lists!AS477=\"\",\"\",Lists!AS477)","v":""},{"$f":"IF(D499=\"\",\"\",VLOOKUP(B499&C499,Lists!$BA$2:$BD$78,4,FALSE))","v":""},"","",{"$f":"IF($E499=\"\",\"\",SUMIFS('CMS Downtime Detail'!$K$24:$K$500,'CMS Downtime Detail'!$B$24:$B$500,$B499,'CMS Downtime Detail'!$C$24:$C$500,$C499,'CMS Downtime Detail'!$D$24:$D$500,$D499,'CMS Downtime Detail'!$E$24:$E$500,\"Monitoring Equipment Malfunctions\"))","v":""},{"$f":"IF($E499=\"\",\"\",SUMIFS('CMS Downtime Detail'!$K$24:$K$500,'CMS Downtime Detail'!$B$24:$B$500,$B499,'CMS Downtime Detail'!$C$24:$C$500,$C499,'CMS Downtime Detail'!$D$24:$D$500,$D499,'CMS Downtime Detail'!$E$24:$E$500,\"Nonmonitoring Equipment Malfunctions\"))","v":""},{"$f":"IF($E499=\"\",\"\",SUMIFS('CMS Downtime Detail'!$K$24:$K$500,'CMS Downtime Detail'!$B$24:$B$500,$B499,'CMS Downtime Detail'!$C$24:$C$500,$C499,'CMS Downtime Detail'!$D$24:$D$500,$D499,'CMS Downtime Detail'!$E$24:$E$500,\"Quality Assurance/Quality Control Calibrations\"))","v":""},{"$f":"IF($E499=\"\",\"\",SUMIFS('CMS Downtime Detail'!$K$24:$K$500,'CMS Downtime Detail'!$B$24:$B$500,$B499,'CMS Downtime Detail'!$C$24:$C$500,$C499,'CMS Downtime Detail'!$D$24:$D$500,$D499,'CMS Downtime Detail'!$E$24:$E$500,\"Other Known Causes\"))","v":""},{"$f":"IF($E499=\"\",\"\",SUMIFS('CMS Downtime Detail'!$K$24:$K$500,'CMS Downtime Detail'!$B$24:$B$500,$B499,'CMS Downtime Detail'!$C$24:$C$500,$C499,'CMS Downtime Detail'!$D$24:$D$500,$D499,'CMS Downtime Detail'!$E$24:$E$500,\"Other Unknown Causes\"))","v":""}]
[null,{"$f":"IF(Lists!AQ478=\"\",\"\",Lists!AQ478)","v":""},{"$f":"IF(Lists!AR478=\"\",\"\",Lists!AR478)","v":""},{"$f":"IF(Lists!AS478=\"\",\"\",Lists!AS478)","v":""},{"$f":"IF(D500=\"\",\"\",VLOOKUP(B500&C500,Lists!$BA$2:$BD$78,4,FALSE))","v":""},"","",{"$f":"IF($E500=\"\",\"\",SUMIFS('CMS Downtime Detail'!$K$24:$K$500,'CMS Downtime Detail'!$B$24:$B$500,$B500,'CMS Downtime Detail'!$C$24:$C$500,$C500,'CMS Downtime Detail'!$D$24:$D$500,$D500,'CMS Downtime Detail'!$E$24:$E$500,\"Monitoring Equipment Malfunctions\"))","v":""},{"$f":"IF($E500=\"\",\"\",SUMIFS('CMS Downtime Detail'!$K$24:$K$500,'CMS Downtime Detail'!$B$24:$B$500,$B500,'CMS Downtime Detail'!$C$24:$C$500,$C500,'CMS Downtime Detail'!$D$24:$D$500,$D500,'CMS Downtime Detail'!$E$24:$E$500,\"Nonmonitoring Equipment Malfunctions\"))","v":""},{"$f":"IF($E500=\"\",\"\",SUMIFS('CMS Downtime Detail'!$K$24:$K$500,'CMS Downtime Detail'!$B$24:$B$500,$B500,'CMS Downtime Detail'!$C$24:$C$500,$C500,'CMS Downtime Detail'!$D$24:$D$500,$D500,'CMS Downtime Detail'!$E$24:$E$500,\"Quality Assurance/Quality Control Calibrations\"))","v":""},{"$f":"IF($E500=\"\",\"\",SUMIFS('CMS Downtime Detail'!$K$24:$K$500,'CMS Downtime Detail'!$B$24:$B$500,$B500,'CMS Downtime Detail'!$C$24:$C$500,$C500,'CMS Downtime Detail'!$D$24:$D$500,$D500,'CMS Downtime Detail'!$E$24:$E$500,\"Other Known Causes\"))","v":""},{"$f":"IF($E500=\"\",\"\",SUMIFS('CMS Downtime Detail'!$K$24:$K$500,'CMS Downtime Detail'!$B$24:$B$500,$B500,'CMS Downtime Detail'!$C$24:$C$500,$C500,'CMS Downtime Detail'!$D$24:$D$500,$D500,'CMS Downtime Detail'!$E$24:$E$500,\"Other Unknown Causes\"))","v":""}]

{"sheet":"CMS Downtime Summary Only","index":16,"n_rows":500,"n_cols":12,"rows_kept":500,"cut":false,"hidden":false,"merged":[]}
[null,"DO NOT REMOVE OR EDIT INFORMATION IN THIS SECTION\nFOR INTERNAL USE ONLY"]
[null,"Template Name",{"$f":"Welcome!B2","v":"63.366(b) Initial Compliance Report and (c) Quarterly Report (Spreadsheet Template)"}]
[null,"CitationID",{"$f":"Welcome!B3","v":"63.366(b) and (c)"}]
[null,"Template Version",{"$f":"Welcome!B4","v":"v2.00"}]
[null,"Last Updated Date",{"$f":"Welcome!B5","v":45519}]
[]
[null,"40 CFR Part 63, Subpart O National Emission Standards for Hazardous Air Pollutants: Sterilization Facilities"]
[null,"§63.366(b) Initial Compliance Report and §63.366(c) Quarterly Report Spreadsheet Template"]
[]
[]
[]
[null,"Company Record No.\n(Select from dropdown)","Process Unit Description\n(§63.10(e)(3)(vi)(D))\n(Select from dropdown)","Pollutant/Parameter\n(§63.10(e)(3)(vi)(B))\n(Select from dropdown)","Total Source\nOperating Time\n(hours)\n(§63.10(e)(3)(vi)(H) and §63.10(c)(13))) (Autofilled from Process and CMS Information)","Total Duration of\n CPMS, CEMS, or COMS\n Downtime\n(hours) \n(§63.10(e)(3)(vi)(J)),   (§63.10(e)(3)(v), (c)(5) and (6))\n(Calculated result)","Total Duration of\n CPMS Downtime as\n a per cent of Total\n Source Operating Time\n(§63.10(e)(3)(vi)(J))\n(Calculated result)","Total Duration of\n CPMS Downtime Due\n to Monitoring Equipment\n Malfunctions\n(hours)   \n(§63.10(e)(3)(vi)(J)), (§63.10(e)(3)(v), (c)(5) and (6))","Total Duration of\n CPMS Downtime\n Due to Nonmonitoring Equipment Malfunctions (hours)  \n(§63.10(e)(3)(vi)(J))","Total Duration of\n CPMS Downtime\n Due to Quality Assurance/Quality Control Calibrations\n(hours)  \n(§63.10(e)(3)(vi)(J))","Total Duration of \nCPMS Downtime \nDue to Other Known \nCauses\n(hours)   \n(§63.10(e)(3)(vi)(J)),   (§63.10(e)(3)(v), (c)(5) and (6))","Total Duration of\n CPMS Downtime \nDue to Other Unknown\n Causes\n(hours)   \n(§63.10(e)(3)(vi)(J)),   (§63.10(e)(3)(v), (c)(5) and (6))"]
[null,"RecordId","ProcessUnit","Pollutant","OperatingTime","TotalDowntimeHrs","TotalDowntimePercent","MonitoringEqHrs","NonmonitoringEqHrs","QualityControlHrs","OtherCauseHrs","UnknownCauseHrs"]
[null,"e.g.: 1","e.g.: SCV1","e.g.: PM CPMS","e.g.: 6240","e.g.: 0","e.g.: N/A","e.g.: 0","e.g.: 0","e.g.: 0","e.g.: 0","e.g.: 0"]
[null,"e.g.:","e.g.:","e.g.:","e.g.:","e.g.:","e.g.:","e.g.:","e.g.:","e.g.:","e.g.:","e.g.:"]
[null,"e.g.:","e.g.:","e.g.:","e.g.:","e.g.:","e.g.:","e.g.:","e.g.:","e.g.:","e.g.:","e.g.:"]
[null,"e.g.:","e.g.:","e.g.:","e.g.:","e.g.:","e.g.:","e.g.:","e.g.:","e.g.:","e.g.:","e.g.:"]
[null,"e.g.:","e.g.:","e.g.:","e.g.:","e.g.:","e.g.:","e.g.:","e.g.:","e.g.:","e.g.:","e.g.:"]
[null,"e.g.:","e.g.:","e.g.:","e.g.:","e.g.:","e.g.:","e.g.:","e.g.:","e.g.:","e.g.:","e.g.:"]
[null,"e.g.:","e.g.:","e.g.:","e.g.:","e.g.:","e.g.:","e.g.:","e.g.:","e.g.:","e.g.:","e.g.:"]
[null,"e.g.:","e.g.:","e.g.:","e.g.:","e.g.:","e.g.:","e.g.:","e.g.:","e.g.:","e.g.:","e.g.:"]
[null,"e.g.:","e.g.:","e.g.:","e.g.:","e.g.:","e.g.:","e.g.:","e.g.:","e.g.:","e.g.:","e.g.:"]
[null,"e.g.:","e.g.:","e.g.:","e.g.:","e.g.:","e.g.:","e.g.:","e.g.:","e.g.:","e.g.:","e.g.:"]
[null,null,null,null,{"$f":"IF(D24=\"\",\"\",VLOOKUP(B24&C24,Lists!$BA$2:$BD$78,4,FALSE))","v":""},{"$f":"IF(D24=\"\",\"\",SUM(H24,I24,J24,K24,L24))","v":""},{"$f":"IF(F24=\"\",\"\",F24/E24)","v":""}]
[null,null,null,null,{"$f":"IF(D25=\"\",\"\",VLOOKUP(B25&C25,Lists!$BA$2:$BD$78,4,FALSE))","v":""},{"$f":"IF(D25=\"\",\"\",SUM(H25,I25,J25,K25,L25))","v":""},{"$f":"IF(F25=\"\",\"\",F25/E25)","v":""}]
[null,null,null,null,{"$f":"IF(D26=\"\",\"\",VLOOKUP(B26&C26,Lists!$BA$2:$BD$78,4,FALSE))","v":""},"",""]
[null,null,null,null,{"$f":"IF(D27=\"\",\"\",VLOOKUP(B27&C27,Lists!$BA$2:$BD$78,4,FALSE))","v":""},"",""]
[null,null,null,null,{"$f":"IF(D28=\"\",\"\",VLOOKUP(B28&C28,Lists!$BA$2:$BD$78,4,FALSE))","v":""},"",""]
[null,null,null,null,{"$f":"IF(D29=\"\",\"\",VLOOKUP(B29&C29,Lists!$BA$2:$BD$78,4,FALSE))","v":""},"",""]
[null,null,null,null,{"$f":"IF(D30=\"\",\"\",VLOOKUP(B30&C30,Lists!$BA$2:$BD$78,4,FALSE))","v":""},"",""]
[null,null,null,null,{"$f":"IF(D31=\"\",\"\",VLOOKUP(B31&C31,Lists!$BA$2:$BD$78,4,FALSE))","v":""},"",""]
[null,null,null,null,{"$f":"IF(D32=\"\",\"\",VLOOKUP(B32&C32,Lists!$BA$2:$BD$78,4,FALSE))","v":""},"",""]
[null,null,null,null,{"$f":"IF(D33=\"\",\"\",VLOOKUP(B33&C33,Lists!$BA$2:$BD$78,4,FALSE))","v":""},"",""]
[null,null,null,null,{"$f":"IF(D34=\"\",\"\",VLOOKUP(B34&C34,Lists!$BA$2:$BD$78,4,FALSE))","v":""},"",""]
[null,null,null,null,{"$f":"IF(D35=\"\",\"\",VLOOKUP(B35&C35,Lists!$BA$2:$BD$78,4,FALSE))","v":""},"",""]
[null,null,null,null,{"$f":"IF(D36=\"\",\"\",VLOOKUP(B36&C36,Lists!$BA$2:$BD$78,4,FALSE))","v":""},"",""]
[null,null,null,null,{"$f":"IF(D37=\"\",\"\",VLOOKUP(B37&C37,Lists!$BA$2:$BD$78,4,FALSE))","v":""},"",""]
[null,null,null,null,{"$f":"IF(D38=\"\",\"\",VLOOKUP(B38&C38,Lists!$BA$2:$BD$78,4,FALSE))","v":""},"",""]
[null,null,null,null,{"$f":"IF(D39=\"\",\"\",VLOOKUP(B39&C39,Lists!$BA$2:$BD$78,4,FALSE))","v":""},"",""]
[null,null,null,null,{"$f":"IF(D40=\"\",\"\",VLOOKUP(B40&C40,Lists!$BA$2:$BD$78,4,FALSE))","v":""},"",""]
[null,null,null,null,{"$f":"IF(D41=\"\",\"\",VLOOKUP(B41&C41,Lists!$BA$2:$BD$78,4,FALSE))","v":""},"",""]
[null,null,null,null,{"$f":"IF(D42=\"\",\"\",VLOOKUP(B42&C42,Lists!$BA$2:$BD$78,4,FALSE))","v":""},"",""]
[null,null,null,null,{"$f":"IF(D43=\"\",\"\",VLOOKUP(B43&C43,Lists!$BA$2:$BD$78,4,FALSE))","v":""},"",""]
[null,null,null,null,{"$f":"IF(D44=\"\",\"\",VLOOKUP(B44&C44,Lists!$BA$2:$BD$78,4,FALSE))","v":""},"",""]
[null,null,null,null,{"$f":"IF(D45=\"\",\"\",VLOOKUP(B45&C45,Lists!$BA$2:$BD$78,4,FALSE))","v":""},"",""]
[null,null,null,null,{"$f":"IF(D46=\"\",\"\",VLOOKUP(B46&C46,Lists!$BA$2:$BD$78,4,FALSE))","v":""},"",""]
[null,null,null,null,{"$f":"IF(D47=\"\",\"\",VLOOKUP(B47&C47,Lists!$BA$2:$BD$78,4,FALSE))","v":""},"",""]
[null,null,null,null,{"$f":"IF(D48=\"\",\"\",VLOOKUP(B48&C48,Lists!$BA$2:$BD$78,4,FALSE))","v":""},"",""]
[null,null,null,null,{"$f":"IF(D49=\"\",\"\",VLOOKUP(B49&C49,Lists!$BA$2:$BD$78,4,FALSE))","v":""},"",""]
[null,null,null,null,{"$f":"IF(D50=\"\",\"\",VLOOKUP(B50&C50,Lists!$BA$2:$BD$78,4,FALSE))","v":""},"",""]
[null,null,null,null,{"$f":"IF(D51=\"\",\"\",VLOOKUP(B51&C51,Lists!$BA$2:$BD$78,4,FALSE))","v":""},"",""]
[null,null,null,null,{"$f":"IF(D52=\"\",\"\",VLOOKUP(B52&C52,Lists!$BA$2:$BD$78,4,FALSE))","v":""},"",""]
[null,null,null,null,{"$f":"IF(D53=\"\",\"\",VLOOKUP(B53&C53,Lists!$BA$2:$BD$78,4,FALSE))","v":""},"",""]
[null,null,null,null,{"$f":"IF(D54=\"\",\"\",VLOOKUP(B54&C54,Lists!$BA$2:$BD$78,4,FALSE))","v":""},"",""]
[null,null,null,null,{"$f":"IF(D55=\"\",\"\",VLOOKUP(B55&C55,Lists!$BA$2:$BD$78,4,FALSE))","v":""},"",""]
[null,null,null,null,{"$f":"IF(D56=\"\",\"\",VLOOKUP(B56&C56,Lists!$BA$2:$BD$78,4,FALSE))","v":""},"",""]
[null,null,null,null,{"$f":"IF(D57=\"\",\"\",VLOOKUP(B57&C57,Lists!$BA$2:$BD$78,4,FALSE))","v":""},"",""]
[null,null,null,null,{"$f":"IF(D58=\"\",\"\",VLOOKUP(B58&C58,Lists!$BA$2:$BD$78,4,FALSE))","v":""},"",""]
[null,null,null,null,{"$f":"IF(D59=\"\",\"\",VLOOKUP(B59&C59,Lists!$BA$2:$BD$78,4,FALSE))","v":""},"",""]
[null,null,null,null,{"$f":"IF(D60=\"\",\"\",VLOOKUP(B60&C60,Lists!$BA$2:$BD$78,4,FALSE))","v":""},"",""]
[null,null,null,null,{"$f":"IF(D61=\"\",\"\",VLOOKUP(B61&C61,Lists!$BA$2:$BD$78,4,FALSE))","v":""},"",""]
[null,null,null,null,{"$f":"IF(D62=\"\",\"\",VLOOKUP(B62&C62,Lists!$BA$2:$BD$78,4,FALSE))","v":""},"",""]
[null,null,null,null,{"$f":"IF(D63=\"\",\"\",VLOOKUP(B63&C63,Lists!$BA$2:$BD$78,4,FALSE))","v":""},"",""]
[null,null,null,null,{"$f":"IF(D64=\"\",\"\",VLOOKUP(B64&C64,Lists!$BA$2:$BD$78,4,FALSE))","v":""},"",""]
[null,null,null,null,{"$f":"IF(D65=\"\",\"\",VLOOKUP(B65&C65,Lists!$BA$2:$BD$78,4,FALSE))","v":""},"",""]
[null,null,null,null,{"$f":"IF(D66=\"\",\"\",VLOOKUP(B66&C66,Lists!$BA$2:$BD$78,4,FALSE))","v":""},"",""]
[null,null,null,null,{"$f":"IF(D67=\"\",\"\",VLOOKUP(B67&C67,Lists!$BA$2:$BD$78,4,FALSE))","v":""},"",""]
[null,null,null,null,{"$f":"IF(D68=\"\",\"\",VLOOKUP(B68&C68,Lists!$BA$2:$BD$78,4,FALSE))","v":""},"",""]
[null,null,null,null,{"$f":"IF(D69=\"\",\"\",VLOOKUP(B69&C69,Lists!$BA$2:$BD$78,4,FALSE))","v":""},"",""]
[null,null,null,null,{"$f":"IF(D70=\"\",\"\",VLOOKUP(B70&C70,Lists!$BA$2:$BD$78,4,FALSE))","v":""},"",""]
[null,null,null,null,{"$f":"IF(D71=\"\",\"\",VLOOKUP(B71&C71,Lists!$BA$2:$BD$78,4,FALSE))","v":""},"",""]
[null,null,null,null,{"$f":"IF(D72=\"\",\"\",VLOOKUP(B72&C72,Lists!$BA$2:$BD$78,4,FALSE))","v":""},"",""]
[null,null,null,null,{"$f":"IF(D73=\"\",\"\",VLOOKUP(B73&C73,Lists!$BA$2:$BD$78,4,FALSE))","v":""},"",""]
[null,null,null,null,{"$f":"IF(D74=\"\",\"\",VLOOKUP(B74&C74,Lists!$BA$2:$BD$78,4,FALSE))","v":""},"",""]
[null,null,null,null,{"$f":"IF(D75=\"\",\"\",VLOOKUP(B75&C75,Lists!$BA$2:$BD$78,4,FALSE))","v":""},"",""]
[null,null,null,null,{"$f":"IF(D76=\"\",\"\",VLOOKUP(B76&C76,Lists!$BA$2:$BD$78,4,FALSE))","v":""},"",""]
[null,null,null,null,{"$f":"IF(D77=\"\",\"\",VLOOKUP(B77&C77,Lists!$BA$2:$BD$78,4,FALSE))","v":""},"",""]
[null,null,null,null,{"$f":"IF(D78=\"\",\"\",VLOOKUP(B78&C78,Lists!$BA$2:$BD$78,4,FALSE))","v":""},"",""]
[null,null,null,null,{"$f":"IF(D79=\"\",\"\",VLOOKUP(B79&C79,Lists!$BA$2:$BD$78,4,FALSE))","v":""},"",""]
[null,null,null,null,{"$f":"IF(D80=\"\",\"\",VLOOKUP(B80&C80,Lists!$BA$2:$BD$78,4,FALSE))","v":""},"",""]
[null,null,null,null,{"$f":"IF(D81=\"\",\"\",VLOOKUP(B81&C81,Lists!$BA$2:$BD$78,4,FALSE))","v":""},"",""]
[null,null,null,null,{"$f":"IF(D82=\"\",\"\",VLOOKUP(B82&C82,Lists!$BA$2:$BD$78,4,FALSE))","v":""},"",""]
[null,null,null,null,{"$f":"IF(D83=\"\",\"\",VLOOKUP(B83&C83,Lists!$BA$2:$BD$78,4,FALSE))","v":""},"",""]
[null,null,null,null,{"$f":"IF(D84=\"\",\"\",VLOOKUP(B84&C84,Lists!$BA$2:$BD$78,4,FALSE))","v":""},"",""]
[null,null,null,null,{"$f":"IF(D85=\"\",\"\",VLOOKUP(B85&C85,Lists!$BA$2:$BD$78,4,FALSE))","v":""},"",""]
[null,null,null,null,{"$f":"IF(D86=\"\",\"\",VLOOKUP(B86&C86,Lists!$BA$2:$BD$78,4,FALSE))","v":""},"",""]
[null,null,null,null,{"$f":"IF(D87=\"\",\"\",VLOOKUP(B87&C87,Lists!$BA$2:$BD$78,4,FALSE))","v":""},"",""]
[null,null,null,null,{"$f":"IF(D88=\"\",\"\",VLOOKUP(B88&C88,Lists!$BA$2:$BD$78,4,FALSE))","v":""},"",""]
[null,null,null,null,{"$f":"IF(D89=\"\",\"\",VLOOKUP(B89&C89,Lists!$BA$2:$BD$78,4,FALSE))","v":""},{"$f":"IF(D89=\"\",\"\",SUM(H89,I89,J89,K89,L89))","v":""},{"$f":"IF(F89=\"\",\"\",F89/E89)","v":""}]
[null,null,null,null,{"$f":"IF(D90=\"\",\"\",VLOOKUP(B90&C90,Lists!$BA$2:$BD$78,4,FALSE))","v":""},"",""]
[null,null,null,null,{"$f":"IF(D91=\"\",\"\",VLOOKUP(B91&C91,Lists!$BA$2:$BD$78,4,FALSE))","v":""},"",""]
[null,null,null,null,{"$f":"IF(D92=\"\",\"\",VLOOKUP(B92&C92,Lists!$BA$2:$BD$78,4,FALSE))","v":""},"",""]
[null,null,null,null,{"$f":"IF(D93=\"\",\"\",VLOOKUP(B93&C93,Lists!$BA$2:$BD$78,4,FALSE))","v":""},"",""]
[null,null,null,null,{"$f":"IF(D94=\"\",\"\",VLOOKUP(B94&C94,Lists!$BA$2:$BD$78,4,FALSE))","v":""},"",""]
[null,null,null,null,{"$f":"IF(D95=\"\",\"\",VLOOKUP(B95&C95,Lists!$BA$2:$BD$78,4,FALSE))","v":""},"",""]
[null,null,null,null,{"$f":"IF(D96=\"\",\"\",VLOOKUP(B96&C96,Lists!$BA$2:$BD$78,4,FALSE))","v":""},"",""]
[null,null,null,null,{"$f":"IF(D97=\"\",\"\",VLOOKUP(B97&C97,Lists!$BA$2:$BD$78,4,FALSE))","v":""},"",""]
[null,null,null,null,{"$f":"IF(D98=\"\",\"\",VLOOKUP(B98&C98,Lists!$BA$2:$BD$78,4,FALSE))","v":""},"",""]
[null,null,null,null,{"$f":"IF(D99=\"\",\"\",VLOOKUP(B99&C99,Lists!$BA$2:$BD$78,4,FALSE))","v":""},"",""]
[null,null,null,null,{"$f":"IF(D100=\"\",\"\",VLOOKUP(B100&C100,Lists!$BA$2:$BD$78,4,FALSE))","v":""},"",""]
[null,null,null,null,{"$f":"IF(D101=\"\",\"\",VLOOKUP(B101&C101,Lists!$BA$2:$BD$78,4,FALSE))","v":""},"",""]
[null,null,null,null,{"$f":"IF(D102=\"\",\"\",VLOOKUP(B102&C102,Lists!$BA$2:$BD$78,4,FALSE))","v":""},"",""]
[null,null,null,null,{"$f":"IF(D103=\"\",\"\",VLOOKUP(B103&C103,Lists!$BA$2:$BD$78,4,FALSE))","v":""},"",""]
[null,null,null,null,{"$f":"IF(D104=\"\",\"\",VLOOKUP(B104&C104,Lists!$BA$2:$BD$78,4,FALSE))","v":""},"",""]
[null,null,null,null,{"$f":"IF(D105=\"\",\"\",VLOOKUP(B105&C105,Lists!$BA$2:$BD$78,4,FALSE))","v":""},"",""]
[null,null,null,null,{"$f":"IF(D106=\"\",\"\",VLOOKUP(B106&C106,Lists!$BA$2:$BD$78,4,FALSE))","v":""},"",""]
[null,null,null,null,{"$f":"IF(D107=\"\",\"\",VLOOKUP(B107&C107,Lists!$BA$2:$BD$78,4,FALSE))","v":""},"",""]
[null,null,null,null,{"$f":"IF(D108=\"\",\"\",VLOOKUP(B108&C108,Lists!$BA$2:$BD$78,4,FALSE))","v":""},"",""]
[null,null,null,null,{"$f":"IF(D109=\"\",\"\",VLOOKUP(B109&C109,Lists!$BA$2:$BD$78,4,FALSE))","v":""},"",""]
[null,null,null,null,{"$f":"IF(D110=\"\",\"\",VLOOKUP(B110&C110,Lists!$BA$2:$BD$78,4,FALSE))","v":""},"",""]
[null,null,null,null,{"$f":"IF(D111=\"\",\"\",VLOOKUP(B111&C111,Lists!$BA$2:$BD$78,4,FALSE))","v":""},"",""]
[null,null,null,null,{"$f":"IF(D112=\"\",\"\",VLOOKUP(B112&C112,Lists!$BA$2:$BD$78,4,FALSE))","v":""},"",""]
[null,null,null,null,{"$f":"IF(D113=\"\",\"\",VLOOKUP(B113&C113,Lists!$BA$2:$BD$78,4,FALSE))","v":""},"",""]
[null,null,null,null,{"$f":"IF(D114=\"\",\"\",VLOOKUP(B114&C114,Lists!$BA$2:$BD$78,4,FALSE))","v":""},"",""]
[null,null,null,null,{"$f":"IF(D115=\"\",\"\",VLOOKUP(B115&C115,Lists!$BA$2:$BD$78,4,FALSE))","v":""},"",""]
[null,null,null,null,{"$f":"IF(D116=\"\",\"\",VLOOKUP(B116&C116,Lists!$BA$2:$BD$78,4,FALSE))","v":""},"",""]
[null,null,null,null,{"$f":"IF(D117=\"\",\"\",VLOOKUP(B117&C117,Lists!$BA$2:$BD$78,4,FALSE))","v":""},"",""]
[null,null,null,null,{"$f":"IF(D118=\"\",\"\",VLOOKUP(B118&C118,Lists!$BA$2:$BD$78,4,FALSE))","v":""},"",""]
[null,null,null,null,{"$f":"IF(D119=\"\",\"\",VLOOKUP(B119&C119,Lists!$BA$2:$BD$78,4,FALSE))","v":""},"",""]
[null,null,null,null,{"$f":"IF(D120=\"\",\"\",VLOOKUP(B120&C120,Lists!$BA$2:$BD$78,4,FALSE))","v":""},"",""]
[null,null,null,null,{"$f":"IF(D121=\"\",\"\",VLOOKUP(B121&C121,Lists!$BA$2:$BD$78,4,FALSE))","v":""},"",""]
[null,null,null,null,{"$f":"IF(D122=\"\",\"\",VLOOKUP(B122&C122,Lists!$BA$2:$BD$78,4,FALSE))","v":""},"",""]
[null,null,null,null,{"$f":"IF(D123=\"\",\"\",VLOOKUP(B123&C123,Lists!$BA$2:$BD$78,4,FALSE))","v":""},"",""]
[null,null,null,null,{"$f":"IF(D124=\"\",\"\",VLOOKUP(B124&C124,Lists!$BA$2:$BD$78,4,FALSE))","v":""},"",""]
[null,null,null,null,{"$f":"IF(D125=\"\",\"\",VLOOKUP(B125&C125,Lists!$BA$2:$BD$78,4,FALSE))","v":""},"",""]
[null,null,null,null,{"$f":"IF(D126=\"\",\"\",VLOOKUP(B126&C126,Lists!$BA$2:$BD$78,4,FALSE))","v":""},"",""]
[null,null,null,null,{"$f":"IF(D127=\"\",\"\",VLOOKUP(B127&C127,Lists!$BA$2:$BD$78,4,FALSE))","v":""},"",""]
[null,null,null,null,{"$f":"IF(D128=\"\",\"\",VLOOKUP(B128&C128,Lists!$BA$2:$BD$78,4,FALSE))","v":""},"",""]
[null,null,null,null,{"$f":"IF(D129=\"\",\"\",VLOOKUP(B129&C129,Lists!$BA$2:$BD$78,4,FALSE))","v":""},"",""]
[null,null,null,null,{"$f":"IF(D130=\"\",\"\",VLOOKUP(B130&C130,Lists!$BA$2:$BD$78,4,FALSE))","v":""},"",""]
[null,null,null,null,{"$f":"IF(D131=\"\",\"\",VLOOKUP(B131&C131,Lists!$BA$2:$BD$78,4,FALSE))","v":""},"",""]
[null,null,null,null,{"$f":"IF(D132=\"\",\"\",VLOOKUP(B132&C132,Lists!$BA$2:$BD$78,4,FALSE))","v":""},"",""]
[null,null,null,null,{"$f":"IF(D133=\"\",\"\",VLOOKUP(B133&C133,Lists!$BA$2:$BD$78,4,FALSE))","v":""},"",""]
[null,null,null,null,{"$f":"IF(D134=\"\",\"\",VLOOKUP(B134&C134,Lists!$BA$2:$BD$78,4,FALSE))","v":""},"",""]
[null,null,null,null,{"$f":"IF(D135=\"\",\"\",VLOOKUP(B135&C135,Lists!$BA$2:$BD$78,4,FALSE))","v":""},"",""]
[null,null,null,null,{"$f":"IF(D136=\"\",\"\",VLOOKUP(B136&C136,Lists!$BA$2:$BD$78,4,FALSE))","v":""},"",""]
[null,null,null,null,{"$f":"IF(D137=\"\",\"\",VLOOKUP(B137&C137,Lists!$BA$2:$BD$78,4,FALSE))","v":""},"",""]
[null,null,null,null,{"$f":"IF(D138=\"\",\"\",VLOOKUP(B138&C138,Lists!$BA$2:$BD$78,4,FALSE))","v":""},"",""]
[null,null,null,null,{"$f":"IF(D139=\"\",\"\",VLOOKUP(B139&C139,Lists!$BA$2:$BD$78,4,FALSE))","v":""},"",""]
[null,null,null,null,{"$f":"IF(D140=\"\",\"\",VLOOKUP(B140&C140,Lists!$BA$2:$BD$78,4,FALSE))","v":""},"",""]
[null,null,null,null,{"$f":"IF(D141=\"\",\"\",VLOOKUP(B141&C141,Lists!$BA$2:$BD$78,4,FALSE))","v":""},"",""]
[null,null,null,null,{"$f":"IF(D142=\"\",\"\",VLOOKUP(B142&C142,Lists!$BA$2:$BD$78,4,FALSE))","v":""},"",""]
[null,null,null,null,{"$f":"IF(D143=\"\",\"\",VLOOKUP(B143&C143,Lists!$BA$2:$BD$78,4,FALSE))","v":""},"",""]
[null,null,null,null,{"$f":"IF(D144=\"\",\"\",VLOOKUP(B144&C144,Lists!$BA$2:$BD$78,4,FALSE))","v":""},"",""]
[null,null,null,null,{"$f":"IF(D145=\"\",\"\",VLOOKUP(B145&C145,Lists!$BA$2:$BD$78,4,FALSE))","v":""},"",""]
[null,null,null,null,{"$f":"IF(D146=\"\",\"\",VLOOKUP(B146&C146,Lists!$BA$2:$BD$78,4,FALSE))","v":""},"",""]
[null,null,null,null,{"$f":"IF(D147=\"\",\"\",VLOOKUP(B147&C147,Lists!$BA$2:$BD$78,4,FALSE))","v":""},"",""]
[null,null,null,null,{"$f":"IF(D148=\"\",\"\",VLOOKUP(B148&C148,Lists!$BA$2:$BD$78,4,FALSE))","v":""},"",""]
[null,null,null,null,{"$f":"IF(D149=\"\",\"\",VLOOKUP(B149&C149,Lists!$BA$2:$BD$78,4,FALSE))","v":""},"",""]
[null,null,null,null,{"$f":"IF(D150=\"\",\"\",VLOOKUP(B150&C150,Lists!$BA$2:$BD$78,4,FALSE))","v":""},"",""]
[null,null,null,null,{"$f":"IF(D151=\"\",\"\",VLOOKUP(B151&C151,Lists!$BA$2:$BD$78,4,FALSE))","v":""},"",""]
[null,null,null,null,{"$f":"IF(D152=\"\",\"\",VLOOKUP(B152&C152,Lists!$BA$2:$BD$78,4,FALSE))","v":""},"",""]
[null,null,null,null,{"$f":"IF(D153=\"\",\"\",VLOOKUP(B153&C153,Lists!$BA$2:$BD$78,4,FALSE))","v":""},{"$f":"IF(D153=\"\",\"\",SUM(H153,I153,J153,K153,L153))","v":""},{"$f":"IF(F153=\"\",\"\",F153/E153)","v":""}]
[null,null,null,null,{"$f":"IF(D154=\"\",\"\",VLOOKUP(B154&C154,Lists!$BA$2:$BD$78,4,FALSE))","v":""},"",""]
[null,null,null,null,{"$f":"IF(D155=\"\",\"\",VLOOKUP(B155&C155,Lists!$BA$2:$BD$78,4,FALSE))","v":""},"",""]
[null,null,null,null,{"$f":"IF(D156=\"\",\"\",VLOOKUP(B156&C156,Lists!$BA$2:$BD$78,4,FALSE))","v":""},"",""]
[null,null,null,null,{"$f":"IF(D157=\"\",\"\",VLOOKUP(B157&C157,Lists!$BA$2:$BD$78,4,FALSE))","v":""},"",""]
[null,null,null,null,{"$f":"IF(D158=\"\",\"\",VLOOKUP(B158&C158,Lists!$BA$2:$BD$78,4,FALSE))","v":""},"",""]
[null,null,null,null,{"$f":"IF(D159=\"\",\"\",VLOOKUP(B159&C159,Lists!$BA$2:$BD$78,4,FALSE))","v":""},"",""]
[null,null,null,null,{"$f":"IF(D160=\"\",\"\",VLOOKUP(B160&C160,Lists!$BA$2:$BD$78,4,FALSE))","v":""},"",""]
[null,null,null,null,{"$f":"IF(D161=\"\",\"\",VLOOKUP(B161&C161,Lists!$BA$2:$BD$78,4,FALSE))","v":""},"",""]
[null,null,null,null,{"$f":"IF(D162=\"\",\"\",VLOOKUP(B162&C162,Lists!$BA$2:$BD$78,4,FALSE))","v":""},"",""]
[null,null,null,null,{"$f":"IF(D163=\"\",\"\",VLOOKUP(B163&C163,Lists!$BA$2:$BD$78,4,FALSE))","v":""},"",""]
[null,null,null,null,{"$f":"IF(D164=\"\",\"\",VLOOKUP(B164&C164,Lists!$BA$2:$BD$78,4,FALSE))","v":""},"",""]
[null,null,null,null,{"$f":"IF(D165=\"\",\"\",VLOOKUP(B165&C165,Lists!$BA$2:$BD$78,4,FALSE))","v":""},"",""]
[null,null,null,null,{"$f":"IF(D166=\"\",\"\",VLOOKUP(B166&C166,Lists!$BA$2:$BD$78,4,FALSE))","v":""},"",""]
[null,null,null,null,{"$f":"IF(D167=\"\",\"\",VLOOKUP(B167&C167,Lists!$BA$2:$BD$78,4,FALSE))","v":""},"",""]
[null,null,null,null,{"$f":"IF(D168=\"\",\"\",VLOOKUP(B168&C168,Lists!$BA$2:$BD$78,4,FALSE))","v":""},"",""]
[null,null,null,null,{"$f":"IF(D169=\"\",\"\",VLOOKUP(B169&C169,Lists!$BA$2:$BD$78,4,FALSE))","v":""},"",""]
[null,null,null,null,{"$f":"IF(D170=\"\",\"\",VLOOKUP(B170&C170,Lists!$BA$2:$BD$78,4,FALSE))","v":""},"",""]
[null,null,null,null,{"$f":"IF(D171=\"\",\"\",VLOOKUP(B171&C171,Lists!$BA$2:$BD$78,4,FALSE))","v":""},"",""]
[null,null,null,null,{"$f":"IF(D172=\"\",\"\",VLOOKUP(B172&C172,Lists!$BA$2:$BD$78,4,FALSE))","v":""},"",""]
[null,null,null,null,{"$f":"IF(D173=\"\",\"\",VLOOKUP(B173&C173,Lists!$BA$2:$BD$78,4,FALSE))","v":""},"",""]
[null,null,null,null,{"$f":"IF(D174=\"\",\"\",VLOOKUP(B174&C174,Lists!$BA$2:$BD$78,4,FALSE))","v":""},"",""]
[null,null,null,null,{"$f":"IF(D175=\"\",\"\",VLOOKUP(B175&C175,Lists!$BA$2:$BD$78,4,FALSE))","v":""},"",""]
[null,null,null,null,{"$f":"IF(D176=\"\",\"\",VLOOKUP(B176&C176,Lists!$BA$2:$BD$78,4,FALSE))","v":""},"",""]
[null,null,null,null,{"$f":"IF(D177=\"\",\"\",VLOOKUP(B177&C177,Lists!$BA$2:$BD$78,4,FALSE))","v":""},"",""]
[null,null,null,null,{"$f":"IF(D178=\"\",\"\",VLOOKUP(B178&C178,Lists!$BA$2:$BD$78,4,FALSE))","v":""},"",""]
[null,null,null,null,{"$f":"IF(D179=\"\",\"\",VLOOKUP(B179&C179,Lists!$BA$2:$BD$78,4,FALSE))","v":""},"",""]
[null,null,null,null,{"$f":"IF(D180=\"\",\"\",VLOOKUP(B180&C180,Lists!$BA$2:$BD$78,4,FALSE))","v":""},"",""]
[null,null,null,null,{"$f":"IF(D181=\"\",\"\",VLOOKUP(B181&C181,Lists!$BA$2:$BD$78,4,FALSE))","v":""},"",""]
[null,null,null,null,{"$f":"IF(D182=\"\",\"\",VLOOKUP(B182&C182,Lists!$BA$2:$BD$78,4,FALSE))","v":""},"",""]
[null,null,null,null,{"$f":"IF(D183=\"\",\"\",VLOOKUP(B183&C183,Lists!$BA$2:$BD$78,4,FALSE))","v":""},"",""]
[null,null,null,null,{"$f":"IF(D184=\"\",\"\",VLOOKUP(B184&C184,Lists!$BA$2:$BD$78,4,FALSE))","v":""},"",""]
[null,null,null,null,{"$f":"IF(D185=\"\",\"\",VLOOKUP(B185&C185,Lists!$BA$2:$BD$78,4,FALSE))","v":""},"",""]
[null,null,null,null,{"$f":"IF(D186=\"\",\"\",VLOOKUP(B186&C186,Lists!$BA$2:$BD$78,4,FALSE))","v":""},"",""]
[null,null,null,null,{"$f":"IF(D187=\"\",\"\",VLOOKUP(B187&C187,Lists!$BA$2:$BD$78,4,FALSE))","v":""},"",""]
[null,null,null,null,{"$f":"IF(D188=\"\",\"\",VLOOKUP(B188&C188,Lists!$BA$2:$BD$78,4,FALSE))","v":""},"",""]
[null,null,null,null,{"$f":"IF(D189=\"\",\"\",VLOOKUP(B189&C189,Lists!$BA$2:$BD$78,4,FALSE))","v":""},"",""]
[null,null,null,null,{"$f":"IF(D190=\"\",\"\",VLOOKUP(B190&C190,Lists!$BA$2:$BD$78,4,FALSE))","v":""},"",""]
[null,null,null,null,{"$f":"IF(D191=\"\",\"\",VLOOKUP(B191&C191,Lists!$BA$2:$BD$78,4,FALSE))","v":""},"",""]
[null,null,null,null,{"$f":"IF(D192=\"\",\"\",VLOOKUP(B192&C192,Lists!$BA$2:$BD$78,4,FALSE))","v":""},"",""]
[null,null,null,null,{"$f":"IF(D193=\"\",\"\",VLOOKUP(B193&C193,Lists!$BA$2:$BD$78,4,FALSE))","v":""},"",""]
[null,null,null,null,{"$f":"IF(D194=\"\",\"\",VLOOKUP(B194&C194,Lists!$BA$2:$BD$78,4,FALSE))","v":""},"",""]
[null,null,null,null,{"$f":"IF(D195=\"\",\"\",VLOOKUP(B195&C195,Lists!$BA$2:$BD$78,4,FALSE))","v":""},"",""]
[null,null,null,null,{"$f":"IF(D196=\"\",\"\",VLOOKUP(B196&C196,Lists!$BA$2:$BD$78,4,FALSE))","v":""},"",""]
[null,null,null,null,{"$f":"IF(D197=\"\",\"\",VLOOKUP(B197&C197,Lists!$BA$2:$BD$78,4,FALSE))","v":""},"",""]
[null,null,null,null,{"$f":"IF(D198=\"\",\"\",VLOOKUP(B198&C198,Lists!$BA$2:$BD$78,4,FALSE))","v":""},"",""]
[null,null,null,null,{"$f":"IF(D199=\"\",\"\",VLOOKUP(B199&C199,Lists!$BA$2:$BD$78,4,FALSE))","v":""},"",""]
[null,null,null,null,{"$f":"IF(D200=\"\",\"\",VLOOKUP(B200&C200,Lists!$BA$2:$BD$78,4,FALSE))","v":""},"",""]
[null,null,null,null,{"$f":"IF(D201=\"\",\"\",VLOOKUP(B201&C201,Lists!$BA$2:$BD$78,4,FALSE))","v":""},"",""]
[null,null,null,null,{"$f":"IF(D202=\"\",\"\",VLOOKUP(B202&C202,Lists!$BA$2:$BD$78,4,FALSE))","v":""},"",""]
[null,null,null,null,{"$f":"IF(D203=\"\",\"\",VLOOKUP(B203&C203,Lists!$BA$2:$BD$78,4,FALSE))","v":""},"",""]
[null,null,null,null,{"$f":"IF(D204=\"\",\"\",VLOOKUP(B204&C204,Lists!$BA$2:$BD$78,4,FALSE))","v":""},"",""]
[null,null,null,null,{"$f":"IF(D205=\"\",\"\",VLOOKUP(B205&C205,Lists!$BA$2:$BD$78,4,FALSE))","v":""},"",""]
[null,null,null,null,{"$f":"IF(D206=\"\",\"\",VLOOKUP(B206&C206,Lists!$BA$2:$BD$78,4,FALSE))","v":""},"",""]
[null,null,null,null,{"$f":"IF(D207=\"\",\"\",VLOOKUP(B207&C207,Lists!$BA$2:$BD$78,4,FALSE))","v":""},"",""]
[null,null,null,null,{"$f":"IF(D208=\"\",\"\",VLOOKUP(B208&C208,Lists!$BA$2:$BD$78,4,FALSE))","v":""},"",""]
[null,null,null,null,{"$f":"IF(D209=\"\",\"\",VLOOKUP(B209&C209,Lists!$BA$2:$BD$78,4,FALSE))","v":""},"",""]
[null,null,null,null,{"$f":"IF(D210=\"\",\"\",VLOOKUP(B210&C210,Lists!$BA$2:$BD$78,4,FALSE))","v":""},"",""]
[null,null,null,null,{"$f":"IF(D211=\"\",\"\",VLOOKUP(B211&C211,Lists!$BA$2:$BD$78,4,FALSE))","v":""},"",""]
[null,null,null,null,{"$f":"IF(D212=\"\",\"\",VLOOKUP(B212&C212,Lists!$BA$2:$BD$78,4,FALSE))","v":""},"",""]
[null,null,null,null,{"$f":"IF(D213=\"\",\"\",VLOOKUP(B213&C213,Lists!$BA$2:$BD$78,4,FALSE))","v":""},"",""]
[null,null,null,null,{"$f":"IF(D214=\"\",\"\",VLOOKUP(B214&C214,Lists!$BA$2:$BD$78,4,FALSE))","v":""},"",""]
[null,null,null,null,{"$f":"IF(D215=\"\",\"\",VLOOKUP(B215&C215,Lists!$BA$2:$BD$78,4,FALSE))","v":""},"",""]
[null,null,null,null,{"$f":"IF(D216=\"\",\"\",VLOOKUP(B216&C216,Lists!$BA$2:$BD$78,4,FALSE))","v":""},"",""]
[null,null,null,null,{"$f":"IF(D217=\"\",\"\",VLOOKUP(B217&C217,Lists!$BA$2:$BD$78,4,FALSE))","v":""},{"$f":"IF(D217=\"\",\"\",SUM(H217,I217,J217,K217,L217))","v":""},{"$f":"IF(F217=\"\",\"\",F217/E217)","v":""}]
[null,null,null,null,{"$f":"IF(D218=\"\",\"\",VLOOKUP(B218&C218,Lists!$BA$2:$BD$78,4,FALSE))","v":""},"",""]
[null,null,null,null,{"$f":"IF(D219=\"\",\"\",VLOOKUP(B219&C219,Lists!$BA$2:$BD$78,4,FALSE))","v":""},"",""]
[null,null,null,null,{"$f":"IF(D220=\"\",\"\",VLOOKUP(B220&C220,Lists!$BA$2:$BD$78,4,FALSE))","v":""},"",""]
[null,null,null,null,{"$f":"IF(D221=\"\",\"\",VLOOKUP(B221&C221,Lists!$BA$2:$BD$78,4,FALSE))","v":""},"",""]
[null,null,null,null,{"$f":"IF(D222=\"\",\"\",VLOOKUP(B222&C222,Lists!$BA$2:$BD$78,4,FALSE))","v":""},"",""]
[null,null,null,null,{"$f":"IF(D223=\"\",\"\",VLOOKUP(B223&C223,Lists!$BA$2:$BD$78,4,FALSE))","v":""},"",""]
[null,null,null,null,{"$f":"IF(D224=\"\",\"\",VLOOKUP(B224&C224,Lists!$BA$2:$BD$78,4,FALSE))","v":""},"",""]
[null,null,null,null,{"$f":"IF(D225=\"\",\"\",VLOOKUP(B225&C225,Lists!$BA$2:$BD$78,4,FALSE))","v":""},"",""]
[null,null,null,null,{"$f":"IF(D226=\"\",\"\",VLOOKUP(B226&C226,Lists!$BA$2:$BD$78,4,FALSE))","v":""},"",""]
[null,null,null,null,{"$f":"IF(D227=\"\",\"\",VLOOKUP(B227&C227,Lists!$BA$2:$BD$78,4,FALSE))","v":""},"",""]
[null,null,null,null,{"$f":"IF(D228=\"\",\"\",VLOOKUP(B228&C228,Lists!$BA$2:$BD$78,4,FALSE))","v":""},"",""]
[null,null,null,null,{"$f":"IF(D229=\"\",\"\",VLOOKUP(B229&C229,Lists!$BA$2:$BD$78,4,FALSE))","v":""},"",""]
[null,null,null,null,{"$f":"IF(D230=\"\",\"\",VLOOKUP(B230&C230,Lists!$BA$2:$BD$78,4,FALSE))","v":""},"",""]
[null,null,null,null,{"$f":"IF(D231=\"\",\"\",VLOOKUP(B231&C231,Lists!$BA$2:$BD$78,4,FALSE))","v":""},"",""]
[null,null,null,null,{"$f":"IF(D232=\"\",\"\",VLOOKUP(B232&C232,Lists!$BA$2:$BD$78,4,FALSE))","v":""},"",""]
[null,null,null,null,{"$f":"IF(D233=\"\",\"\",VLOOKUP(B233&C233,Lists!$BA$2:$BD$78,4,FALSE))","v":""},"",""]
[null,null,null,null,{"$f":"IF(D234=\"\",\"\",VLOOKUP(B234&C234,Lists!$BA$2:$BD$78,4,FALSE))","v":""},"",""]
[null,null,null,null,{"$f":"IF(D235=\"\",\"\",VLOOKUP(B235&C235,Lists!$BA$2:$BD$78,4,FALSE))","v":""},"",""]
[null,null,null,null,{"$f":"IF(D236=\"\",\"\",VLOOKUP(B236&C236,Lists!$BA$2:$BD$78,4,FALSE))","v":""},"",""]
[null,null,null,null,{"$f":"IF(D237=\"\",\"\",VLOOKUP(B237&C237,Lists!$BA$2:$BD$78,4,FALSE))","v":""},"",""]
[null,null,null,null,{"$f":"IF(D238=\"\",\"\",VLOOKUP(B238&C238,Lists!$BA$2:$BD$78,4,FALSE))","v":""},"",""]
[null,null,null,null,{"$f":"IF(D239=\"\",\"\",VLOOKUP(B239&C239,Lists!$BA$2:$BD$78,4,FALSE))","v":""},"",""]
[null,null,null,null,{"$f":"IF(D240=\"\",\"\",VLOOKUP(B240&C240,Lists!$BA$2:$BD$78,4,FALSE))","v":""},"",""]
[null,null,null,null,{"$f":"IF(D241=\"\",\"\",VLOOKUP(B241&C241,Lists!$BA$2:$BD$78,4,FALSE))","v":""},"",""]
[null,null,null,null,{"$f":"IF(D242=\"\",\"\",VLOOKUP(B242&C242,Lists!$BA$2:$BD$78,4,FALSE))","v":""},"",""]
[null,null,null,null,{"$f":"IF(D243=\"\",\"\",VLOOKUP(B243&C243,Lists!$BA$2:$BD$78,4,FALSE))","v":""},"",""]
[null,null,null,null,{"$f":"IF(D244=\"\",\"\",VLOOKUP(B244&C244,Lists!$BA$2:$BD$78,4,FALSE))","v":""},"",""]
[null,null,null,null,{"$f":"IF(D245=\"\",\"\",VLOOKUP(B245&C245,Lists!$BA$2:$BD$78,4,FALSE))","v":""},"",""]
[null,null,null,null,{"$f":"IF(D246=\"\",\"\",VLOOKUP(B246&C246,Lists!$BA$2:$BD$78,4,FALSE))","v":""},"",""]
[null,null,null,null,{"$f":"IF(D247=\"\",\"\",VLOOKUP(B247&C247,Lists!$BA$2:$BD$78,4,FALSE))","v":""},"",""]
[null,null,null,null,{"$f":"IF(D248=\"\",\"\",VLOOKUP(B248&C248,Lists!$BA$2:$BD$78,4,FALSE))","v":""},"",""]
[null,null,null,null,{"$f":"IF(D249=\"\",\"\",VLOOKUP(B249&C249,Lists!$BA$2:$BD$78,4,FALSE))","v":""},"",""]
[null,null,null,null,{"$f":"IF(D250=\"\",\"\",VLOOKUP(B250&C250,Lists!$BA$2:$BD$78,4,FALSE))","v":""},"",""]
[null,null,null,null,{"$f":"IF(D251=\"\",\"\",VLOOKUP(B251&C251,Lists!$BA$2:$BD$78,4,FALSE))","v":""},"",""]
[null,null,null,null,{"$f":"IF(D252=\"\",\"\",VLOOKUP(B252&C252,Lists!$BA$2:$BD$78,4,FALSE))","v":""},"",""]
[null,null,null,null,{"$f":"IF(D253=\"\",\"\",VLOOKUP(B253&C253,Lists!$BA$2:$BD$78,4,FALSE))","v":""},"",""]
[null,null,null,null,{"$f":"IF(D254=\"\",\"\",VLOOKUP(B254&C254,Lists!$BA$2:$BD$78,4,FALSE))","v":""},"",""]
[null,null,null,null,{"$f":"IF(D255=\"\",\"\",VLOOKUP(B255&C255,Lists!$BA$2:$BD$78,4,FALSE))","v":""},"",""]
[null,null,null,null,{"$f":"IF(D256=\"\",\"\",VLOOKUP(B256&C256,Lists!$BA$2:$BD$78,4,FALSE))","v":""},"",""]
[null,null,null,null,{"$f":"IF(D257=\"\",\"\",VLOOKUP(B257&C257,Lists!$BA$2:$BD$78,4,FALSE))","v":""},"",""]
[null,null,null,null,{"$f":"IF(D258=\"\",\"\",VLOOKUP(B258&C258,Lists!$BA$2:$BD$78,4,FALSE))","v":""},"",""]
[null,null,null,null,{"$f":"IF(D259=\"\",\"\",VLOOKUP(B259&C259,Lists!$BA$2:$BD$78,4,FALSE))","v":""},"",""]
[null,null,null,null,{"$f":"IF(D260=\"\",\"\",VLOOKUP(B260&C260,Lists!$BA$2:$BD$78,4,FALSE))","v":""},"",""]
[null,null,null,null,{"$f":"IF(D261=\"\",\"\",VLOOKUP(B261&C261,Lists!$BA$2:$BD$78,4,FALSE))","v":""},"",""]
[null,null,null,null,{"$f":"IF(D262=\"\",\"\",VLOOKUP(B262&C262,Lists!$BA$2:$BD$78,4,FALSE))","v":""},"",""]
[null,null,null,null,{"$f":"IF(D263=\"\",\"\",VLOOKUP(B263&C263,Lists!$BA$2:$BD$78,4,FALSE))","v":""},"",""]
[null,null,null,null,{"$f":"IF(D264=\"\",\"\",VLOOKUP(B264&C264,Lists!$BA$2:$BD$78,4,FALSE))","v":""},"",""]
[null,null,null,null,{"$f":"IF(D265=\"\",\"\",VLOOKUP(B265&C265,Lists!$BA$2:$BD$78,4,FALSE))","v":""},"",""]
[null,null,null,null,{"$f":"IF(D266=\"\",\"\",VLOOKUP(B266&C266,Lists!$BA$2:$BD$78,4,FALSE))","v":""},"",""]
[null,null,null,null,{"$f":"IF(D267=\"\",\"\",VLOOKUP(B267&C267,Lists!$BA$2:$BD$78,4,FALSE))","v":""},"",""]
[null,null,null,null,{"$f":"IF(D268=\"\",\"\",VLOOKUP(B268&C268,Lists!$BA$2:$BD$78,4,FALSE))","v":""},"",""]
[null,null,null,null,{"$f":"IF(D269=\"\",\"\",VLOOKUP(B269&C269,Lists!$BA$2:$BD$78,4,FALSE))","v":""},"",""]
[null,null,null,null,{"$f":"IF(D270=\"\",\"\",VLOOKUP(B270&C270,Lists!$BA$2:$BD$78,4,FALSE))","v":""},"",""]
[null,null,null,null,{"$f":"IF(D271=\"\",\"\",VLOOKUP(B271&C271,Lists!$BA$2:$BD$78,4,FALSE))","v":""},"",""]
[null,null,null,null,{"$f":"IF(D272=\"\",\"\",VLOOKUP(B272&C272,Lists!$BA$2:$BD$78,4,FALSE))","v":""},"",""]
[null,null,null,null,{"$f":"IF(D273=\"\",\"\",VLOOKUP(B273&C273,Lists!$BA$2:$BD$78,4,FALSE))","v":""},"",""]
[null,null,null,null,{"$f":"IF(D274=\"\",\"\",VLOOKUP(B274&C274,Lists!$BA$2:$BD$78,4,FALSE))","v":""},"",""]
[null,null,null,null,{"$f":"IF(D275=\"\",\"\",VLOOKUP(B275&C275,Lists!$BA$2:$BD$78,4,FALSE))","v":""},"",""]
[null,null,null,null,{"$f":"IF(D276=\"\",\"\",VLOOKUP(B276&C276,Lists!$BA$2:$BD$78,4,FALSE))","v":""},"",""]
[null,null,null,null,{"$f":"IF(D277=\"\",\"\",VLOOKUP(B277&C277,Lists!$BA$2:$BD$78,4,FALSE))","v":""},"",""]
[null,null,null,null,{"$f":"IF(D278=\"\",\"\",VLOOKUP(B278&C278,Lists!$BA$2:$BD$78,4,FALSE))","v":""},"",""]
[null,null,null,null,{"$f":"IF(D279=\"\",\"\",VLOOKUP(B279&C279,Lists!$BA$2:$BD$78,4,FALSE))","v":""},"",""]
[null,null,null,null,{"$f":"IF(D280=\"\",\"\",VLOOKUP(B280&C280,Lists!$BA$2:$BD$78,4,FALSE))","v":""},"",""]
[null,null,null,null,{"$f":"IF(D281=\"\",\"\",VLOOKUP(B281&C281,Lists!$BA$2:$BD$78,4,FALSE))","v":""},{"$f":"IF(D281=\"\",\"\",SUM(H281,I281,J281,K281,L281))","v":""},{"$f":"IF(F281=\"\",\"\",F281/E281)","v":""}]
[null,null,null,null,{"$f":"IF(D282=\"\",\"\",VLOOKUP(B282&C282,Lists!$BA$2:$BD$78,4,FALSE))","v":""},"",""]
[null,null,null,null,{"$f":"IF(D283=\"\",\"\",VLOOKUP(B283&C283,Lists!$BA$2:$BD$78,4,FALSE))","v":""},"",""]
[null,null,null,null,{"$f":"IF(D284=\"\",\"\",VLOOKUP(B284&C284,Lists!$BA$2:$BD$78,4,FALSE))","v":""},"",""]
[null,null,null,null,{"$f":"IF(D285=\"\",\"\",VLOOKUP(B285&C285,Lists!$BA$2:$BD$78,4,FALSE))","v":""},"",""]
[null,null,null,null,{"$f":"IF(D286=\"\",\"\",VLOOKUP(B286&C286,Lists!$BA$2:$BD$78,4,FALSE))","v":""},"",""]
[null,null,null,null,{"$f":"IF(D287=\"\",\"\",VLOOKUP(B287&C287,Lists!$BA$2:$BD$78,4,FALSE))","v":""},"",""]
[null,null,null,null,{"$f":"IF(D288=\"\",\"\",VLOOKUP(B288&C288,Lists!$BA$2:$BD$78,4,FALSE))","v":""},"",""]
[null,null,null,null,{"$f":"IF(D289=\"\",\"\",VLOOKUP(B289&C289,Lists!$BA$2:$BD$78,4,FALSE))","v":""},"",""]
[null,null,null,null,{"$f":"IF(D290=\"\",\"\",VLOOKUP(B290&C290,Lists!$BA$2:$BD$78,4,FALSE))","v":""},"",""]
[null,null,null,null,{"$f":"IF(D291=\"\",\"\",VLOOKUP(B291&C291,Lists!$BA$2:$BD$78,4,FALSE))","v":""},"",""]
[null,null,null,null,{"$f":"IF(D292=\"\",\"\",VLOOKUP(B292&C292,Lists!$BA$2:$BD$78,4,FALSE))","v":""},"",""]
[null,null,null,null,{"$f":"IF(D293=\"\",\"\",VLOOKUP(B293&C293,Lists!$BA$2:$BD$78,4,FALSE))","v":""},"",""]
[null,null,null,null,{"$f":"IF(D294=\"\",\"\",VLOOKUP(B294&C294,Lists!$BA$2:$BD$78,4,FALSE))","v":""},"",""]
[null,null,null,null,{"$f":"IF(D295=\"\",\"\",VLOOKUP(B295&C295,Lists!$BA$2:$BD$78,4,FALSE))","v":""},"",""]
[null,null,null,null,{"$f":"IF(D296=\"\",\"\",VLOOKUP(B296&C296,Lists!$BA$2:$BD$78,4,FALSE))","v":""},"",""]
[null,null,null,null,{"$f":"IF(D297=\"\",\"\",VLOOKUP(B297&C297,Lists!$BA$2:$BD$78,4,FALSE))","v":""},"",""]
[null,null,null,null,{"$f":"IF(D298=\"\",\"\",VLOOKUP(B298&C298,Lists!$BA$2:$BD$78,4,FALSE))","v":""},"",""]
[null,null,null,null,{"$f":"IF(D299=\"\",\"\",VLOOKUP(B299&C299,Lists!$BA$2:$BD$78,4,FALSE))","v":""},"",""]
[null,null,null,null,{"$f":"IF(D300=\"\",\"\",VLOOKUP(B300&C300,Lists!$BA$2:$BD$78,4,FALSE))","v":""},"",""]
[null,null,null,null,{"$f":"IF(D301=\"\",\"\",VLOOKUP(B301&C301,Lists!$BA$2:$BD$78,4,FALSE))","v":""},"",""]
[null,null,null,null,{"$f":"IF(D302=\"\",\"\",VLOOKUP(B302&C302,Lists!$BA$2:$BD$78,4,FALSE))","v":""},"",""]
[null,null,null,null,{"$f":"IF(D303=\"\",\"\",VLOOKUP(B303&C303,Lists!$BA$2:$BD$78,4,FALSE))","v":""},"",""]
[null,null,null,null,{"$f":"IF(D304=\"\",\"\",VLOOKUP(B304&C304,Lists!$BA$2:$BD$78,4,FALSE))","v":""},"",""]
[null,null,null,null,{"$f":"IF(D305=\"\",\"\",VLOOKUP(B305&C305,Lists!$BA$2:$BD$78,4,FALSE))","v":""},"",""]
[null,null,null,null,{"$f":"IF(D306=\"\",\"\",VLOOKUP(B306&C306,Lists!$BA$2:$BD$78,4,FALSE))","v":""},"",""]
[null,null,null,null,{"$f":"IF(D307=\"\",\"\",VLOOKUP(B307&C307,Lists!$BA$2:$BD$78,4,FALSE))","v":""},"",""]
[null,null,null,null,{"$f":"IF(D308=\"\",\"\",VLOOKUP(B308&C308,Lists!$BA$2:$BD$78,4,FALSE))","v":""},"",""]
[null,null,null,null,{"$f":"IF(D309=\"\",\"\",VLOOKUP(B309&C309,Lists!$BA$2:$BD$78,4,FALSE))","v":""},"",""]
[null,null,null,null,{"$f":"IF(D310=\"\",\"\",VLOOKUP(B310&C310,Lists!$BA$2:$BD$78,4,FALSE))","v":""},"",""]
[null,null,null,null,{"$f":"IF(D311=\"\",\"\",VLOOKUP(B311&C311,Lists!$BA$2:$BD$78,4,FALSE))","v":""},"",""]
[null,null,null,null,{"$f":"IF(D312=\"\",\"\",VLOOKUP(B312&C312,Lists!$BA$2:$BD$78,4,FALSE))","v":""},"",""]
[null,null,null,null,{"$f":"IF(D313=\"\",\"\",VLOOKUP(B313&C313,Lists!$BA$2:$BD$78,4,FALSE))","v":""},"",""]
[null,null,null,null,{"$f":"IF(D314=\"\",\"\",VLOOKUP(B314&C314,Lists!$BA$2:$BD$78,4,FALSE))","v":""},"",""]
[null,null,null,null,{"$f":"IF(D315=\"\",\"\",VLOOKUP(B315&C315,Lists!$BA$2:$BD$78,4,FALSE))","v":""},"",""]
[null,null,null,null,{"$f":"IF(D316=\"\",\"\",VLOOKUP(B316&C316,Lists!$BA$2:$BD$78,4,FALSE))","v":""},"",""]
[null,null,null,null,{"$f":"IF(D317=\"\",\"\",VLOOKUP(B317&C317,Lists!$BA$2:$BD$78,4,FALSE))","v":""},"",""]
[null,null,null,null,{"$f":"IF(D318=\"\",\"\",VLOOKUP(B318&C318,Lists!$BA$2:$BD$78,4,FALSE))","v":""},"",""]
[null,null,null,null,{"$f":"IF(D319=\"\",\"\",VLOOKUP(B319&C319,Lists!$BA$2:$BD$78,4,FALSE))","v":""},"",""]
[null,null,null,null,{"$f":"IF(D320=\"\",\"\",VLOOKUP(B320&C320,Lists!$BA$2:$BD$78,4,FALSE))","v":""},"",""]
[null,null,null,null,{"$f":"IF(D321=\"\",\"\",VLOOKUP(B321&C321,Lists!$BA$2:$BD$78,4,FALSE))","v":""},"",""]
[null,null,null,null,{"$f":"IF(D322=\"\",\"\",VLOOKUP(B322&C322,Lists!$BA$2:$BD$78,4,FALSE))","v":""},"",""]
[null,null,null,null,{"$f":"IF(D323=\"\",\"\",VLOOKUP(B323&C323,Lists!$BA$2:$BD$78,4,FALSE))","v":""},"",""]
[null,null,null,null,{"$f":"IF(D324=\"\",\"\",VLOOKUP(B324&C324,Lists!$BA$2:$BD$78,4,FALSE))","v":""},"",""]
[null,null,null,null,{"$f":"IF(D325=\"\",\"\",VLOOKUP(B325&C325,Lists!$BA$2:$BD$78,4,FALSE))","v":""},"",""]
[null,null,null,null,{"$f":"IF(D326=\"\",\"\",VLOOKUP(B326&C326,Lists!$BA$2:$BD$78,4,FALSE))","v":""},"",""]
[null,null,null,null,{"$f":"IF(D327=\"\",\"\",VLOOKUP(B327&C327,Lists!$BA$2:$BD$78,4,FALSE))","v":""},"",""]
[null,null,null,null,{"$f":"IF(D328=\"\",\"\",VLOOKUP(B328&C328,Lists!$BA$2:$BD$78,4,FALSE))","v":""},"",""]
[null,null,null,null,{"$f":"IF(D329=\"\",\"\",VLOOKUP(B329&C329,Lists!$BA$2:$BD$78,4,FALSE))","v":""},"",""]
[null,null,null,null,{"$f":"IF(D330=\"\",\"\",VLOOKUP(B330&C330,Lists!$BA$2:$BD$78,4,FALSE))","v":""},"",""]
[null,null,null,null,{"$f":"IF(D331=\"\",\"\",VLOOKUP(B331&C331,Lists!$BA$2:$BD$78,4,FALSE))","v":""},"",""]
[null,null,null,null,{"$f":"IF(D332=\"\",\"\",VLOOKUP(B332&C332,Lists!$BA$2:$BD$78,4,FALSE))","v":""},"",""]
[null,null,null,null,{"$f":"IF(D333=\"\",\"\",VLOOKUP(B333&C333,Lists!$BA$2:$BD$78,4,FALSE))","v":""},"",""]
[null,null,null,null,{"$f":"IF(D334=\"\",\"\",VLOOKUP(B334&C334,Lists!$BA$2:$BD$78,4,FALSE))","v":""},"",""]
[null,null,null,null,{"$f":"IF(D335=\"\",\"\",VLOOKUP(B335&C335,Lists!$BA$2:$BD$78,4,FALSE))","v":""},"",""]
[null,null,null,null,{"$f":"IF(D336=\"\",\"\",VLOOKUP(B336&C336,Lists!$BA$2:$BD$78,4,FALSE))","v":""},"",""]
[null,null,null,null,{"$f":"IF(D337=\"\",\"\",VLOOKUP(B337&C337,Lists!$BA$2:$BD$78,4,FALSE))","v":""},"",""]
[null,null,null,null,{"$f":"IF(D338=\"\",\"\",VLOOKUP(B338&C338,Lists!$BA$2:$BD$78,4,FALSE))","v":""},"",""]
[null,null,null,null,{"$f":"IF(D339=\"\",\"\",VLOOKUP(B339&C339,Lists!$BA$2:$BD$78,4,FALSE))","v":""},"",""]
[null,null,null,null,{"$f":"IF(D340=\"\",\"\",VLOOKUP(B340&C340,Lists!$BA$2:$BD$78,4,FALSE))","v":""},"",""]
[null,null,null,null,{"$f":"IF(D341=\"\",\"\",VLOOKUP(B341&C341,Lists!$BA$2:$BD$78,4,FALSE))","v":""},"",""]
[null,null,null,null,{"$f":"IF(D342=\"\",\"\",VLOOKUP(B342&C342,Lists!$BA$2:$BD$78,4,FALSE))","v":""},"",""]
[null,null,null,null,{"$f":"IF(D343=\"\",\"\",VLOOKUP(B343&C343,Lists!$BA$2:$BD$78,4,FALSE))","v":""},"",""]
[null,null,null,null,{"$f":"IF(D344=\"\",\"\",VLOOKUP(B344&C344,Lists!$BA$2:$BD$78,4,FALSE))","v":""},"",""]
[null,null,null,null,{"$f":"IF(D345=\"\",\"\",VLOOKUP(B345&C345,Lists!$BA$2:$BD$78,4,FALSE))","v":""},{"$f":"IF(D345=\"\",\"\",SUM(H345,I345,J345,K345,L345))","v":""},{"$f":"IF(F345=\"\",\"\",F345/E345)","v":""}]
[null,null,null,null,{"$f":"IF(D346=\"\",\"\",VLOOKUP(B346&C346,Lists!$BA$2:$BD$78,4,FALSE))","v":""},"",""]
[null,null,null,null,{"$f":"IF(D347=\"\",\"\",VLOOKUP(B347&C347,Lists!$BA$2:$BD$78,4,FALSE))","v":""},"",""]
[null,null,null,null,{"$f":"IF(D348=\"\",\"\",VLOOKUP(B348&C348,Lists!$BA$2:$BD$78,4,FALSE))","v":""},"",""]
[null,null,null,null,{"$f":"IF(D349=\"\",\"\",VLOOKUP(B349&C349,Lists!$BA$2:$BD$78,4,FALSE))","v":""},"",""]
[null,null,null,null,{"$f":"IF(D350=\"\",\"\",VLOOKUP(B350&C350,Lists!$BA$2:$BD$78,4,FALSE))","v":""},"",""]
[null,null,null,null,{"$f":"IF(D351=\"\",\"\",VLOOKUP(B351&C351,Lists!$BA$2:$BD$78,4,FALSE))","v":""},"",""]
[null,null,null,null,{"$f":"IF(D352=\"\",\"\",VLOOKUP(B352&C352,Lists!$BA$2:$BD$78,4,FALSE))","v":""},"",""]
[null,null,null,null,{"$f":"IF(D353=\"\",\"\",VLOOKUP(B353&C353,Lists!$BA$2:$BD$78,4,FALSE))","v":""},"",""]
[null,null,null,null,{"$f":"IF(D354=\"\",\"\",VLOOKUP(B354&C354,Lists!$BA$2:$BD$78,4,FALSE))","v":""},"",""]
[null,null,null,null,{"$f":"IF(D355=\"\",\"\",VLOOKUP(B355&C355,Lists!$BA$2:$BD$78,4,FALSE))","v":""},"",""]
[null,null,null,null,{"$f":"IF(D356=\"\",\"\",VLOOKUP(B356&C356,Lists!$BA$2:$BD$78,4,FALSE))","v":""},"",""]
[null,null,null,null,{"$f":"IF(D357=\"\",\"\",VLOOKUP(B357&C357,Lists!$BA$2:$BD$78,4,FALSE))","v":""},"",""]
[null,null,null,null,{"$f":"IF(D358=\"\",\"\",VLOOKUP(B358&C358,Lists!$BA$2:$BD$78,4,FALSE))","v":""},"",""]
[null,null,null,null,{"$f":"IF(D359=\"\",\"\",VLOOKUP(B359&C359,Lists!$BA$2:$BD$78,4,FALSE))","v":""},"",""]
[null,null,null,null,{"$f":"IF(D360=\"\",\"\",VLOOKUP(B360&C360,Lists!$BA$2:$BD$78,4,FALSE))","v":""},"",""]
[null,null,null,null,{"$f":"IF(D361=\"\",\"\",VLOOKUP(B361&C361,Lists!$BA$2:$BD$78,4,FALSE))","v":""},"",""]
[null,null,null,null,{"$f":"IF(D362=\"\",\"\",VLOOKUP(B362&C362,Lists!$BA$2:$BD$78,4,FALSE))","v":""},"",""]
[null,null,null,null,{"$f":"IF(D363=\"\",\"\",VLOOKUP(B363&C363,Lists!$BA$2:$BD$78,4,FALSE))","v":""},"",""]
[null,null,null,null,{"$f":"IF(D364=\"\",\"\",VLOOKUP(B364&C364,Lists!$BA$2:$BD$78,4,FALSE))","v":""},"",""]
[null,null,null,null,{"$f":"IF(D365=\"\",\"\",VLOOKUP(B365&C365,Lists!$BA$2:$BD$78,4,FALSE))","v":""},"",""]
[null,null,null,null,{"$f":"IF(D366=\"\",\"\",VLOOKUP(B366&C366,Lists!$BA$2:$BD$78,4,FALSE))","v":""},"",""]
[null,null,null,null,{"$f":"IF(D367=\"\",\"\",VLOOKUP(B367&C367,Lists!$BA$2:$BD$78,4,FALSE))","v":""},"",""]
[null,null,null,null,{"$f":"IF(D368=\"\",\"\",VLOOKUP(B368&C368,Lists!$BA$2:$BD$78,4,FALSE))","v":""},"",""]
[null,null,null,null,{"$f":"IF(D369=\"\",\"\",VLOOKUP(B369&C369,Lists!$BA$2:$BD$78,4,FALSE))","v":""},"",""]
[null,null,null,null,{"$f":"IF(D370=\"\",\"\",VLOOKUP(B370&C370,Lists!$BA$2:$BD$78,4,FALSE))","v":""},"",""]
[null,null,null,null,{"$f":"IF(D371=\"\",\"\",VLOOKUP(B371&C371,Lists!$BA$2:$BD$78,4,FALSE))","v":""},"",""]
[null,null,null,null,{"$f":"IF(D372=\"\",\"\",VLOOKUP(B372&C372,Lists!$BA$2:$BD$78,4,FALSE))","v":""},"",""]
[null,null,null,null,{"$f":"IF(D373=\"\",\"\",VLOOKUP(B373&C373,Lists!$BA$2:$BD$78,4,FALSE))","v":""},"",""]
[null,null,null,null,{"$f":"IF(D374=\"\",\"\",VLOOKUP(B374&C374,Lists!$BA$2:$BD$78,4,FALSE))","v":""},"",""]
[null,null,null,null,{"$f":"IF(D375=\"\",\"\",VLOOKUP(B375&C375,Lists!$BA$2:$BD$78,4,FALSE))","v":""},"",""]
[null,null,null,null,{"$f":"IF(D376=\"\",\"\",VLOOKUP(B376&C376,Lists!$BA$2:$BD$78,4,FALSE))","v":""},"",""]
[null,null,null,null,{"$f":"IF(D377=\"\",\"\",VLOOKUP(B377&C377,Lists!$BA$2:$BD$78,4,FALSE))","v":""},"",""]
[null,null,null,null,{"$f":"IF(D378=\"\",\"\",VLOOKUP(B378&C378,Lists!$BA$2:$BD$78,4,FALSE))","v":""},"",""]
[null,null,null,null,{"$f":"IF(D379=\"\",\"\",VLOOKUP(B379&C379,Lists!$BA$2:$BD$78,4,FALSE))","v":""},"",""]
[null,null,null,null,{"$f":"IF(D380=\"\",\"\",VLOOKUP(B380&C380,Lists!$BA$2:$BD$78,4,FALSE))","v":""},"",""]
[null,null,null,null,{"$f":"IF(D381=\"\",\"\",VLOOKUP(B381&C381,Lists!$BA$2:$BD$78,4,FALSE))","v":""},"",""]
[null,null,null,null,{"$f":"IF(D382=\"\",\"\",VLOOKUP(B382&C382,Lists!$BA$2:$BD$78,4,FALSE))","v":""},"",""]
[null,null,null,null,{"$f":"IF(D383=\"\",\"\",VLOOKUP(B383&C383,Lists!$BA$2:$BD$78,4,FALSE))","v":""},"",""]
[null,null,null,null,{"$f":"IF(D384=\"\",\"\",VLOOKUP(B384&C384,Lists!$BA$2:$BD$78,4,FALSE))","v":""},"",""]
[null,null,null,null,{"$f":"IF(D385=\"\",\"\",VLOOKUP(B385&C385,Lists!$BA$2:$BD$78,4,FALSE))","v":""},"",""]
[null,null,null,null,{"$f":"IF(D386=\"\",\"\",VLOOKUP(B386&C386,Lists!$BA$2:$BD$78,4,FALSE))","v":""},"",""]
[null,null,null,null,{"$f":"IF(D387=\"\",\"\",VLOOKUP(B387&C387,Lists!$BA$2:$BD$78,4,FALSE))","v":""},"",""]
[null,null,null,null,{"$f":"IF(D388=\"\",\"\",VLOOKUP(B388&C388,Lists!$BA$2:$BD$78,4,FALSE))","v":""},"",""]
[null,null,null,null,{"$f":"IF(D389=\"\",\"\",VLOOKUP(B389&C389,Lists!$BA$2:$BD$78,4,FALSE))","v":""},"",""]
[null,null,null,null,{"$f":"IF(D390=\"\",\"\",VLOOKUP(B390&C390,Lists!$BA$2:$BD$78,4,FALSE))","v":""},"",""]
[null,null,null,null,{"$f":"IF(D391=\"\",\"\",VLOOKUP(B391&C391,Lists!$BA$2:$BD$78,4,FALSE))","v":""},"",""]
[null,null,null,null,{"$f":"IF(D392=\"\",\"\",VLOOKUP(B392&C392,Lists!$BA$2:$BD$78,4,FALSE))","v":""},"",""]
[null,null,null,null,{"$f":"IF(D393=\"\",\"\",VLOOKUP(B393&C393,Lists!$BA$2:$BD$78,4,FALSE))","v":""},"",""]
[null,null,null,null,{"$f":"IF(D394=\"\",\"\",VLOOKUP(B394&C394,Lists!$BA$2:$BD$78,4,FALSE))","v":""},"",""]
[null,null,null,null,{"$f":"IF(D395=\"\",\"\",VLOOKUP(B395&C395,Lists!$BA$2:$BD$78,4,FALSE))","v":""},"",""]
[null,null,null,null,{"$f":"IF(D396=\"\",\"\",VLOOKUP(B396&C396,Lists!$BA$2:$BD$78,4,FALSE))","v":""},"",""]
[null,null,null,null,{"$f":"IF(D397=\"\",\"\",VLOOKUP(B397&C397,Lists!$BA$2:$BD$78,4,FALSE))","v":""},"",""]
[null,null,null,null,{"$f":"IF(D398=\"\",\"\",VLOOKUP(B398&C398,Lists!$BA$2:$BD$78,4,FALSE))","v":""},"",""]
[null,null,null,null,{"$f":"IF(D399=\"\",\"\",VLOOKUP(B399&C399,Lists!$BA$2:$BD$78,4,FALSE))","v":""},"",""]
[null,null,null,null,{"$f":"IF(D400=\"\",\"\",VLOOKUP(B400&C400,Lists!$BA$2:$BD$78,4,FALSE))","v":""},"",""]
[null,null,null,null,{"$f":"IF(D401=\"\",\"\",VLOOKUP(B401&C401,Lists!$BA$2:$BD$78,4,FALSE))","v":""},"",""]
[null,null,null,null,{"$f":"IF(D402=\"\",\"\",VLOOKUP(B402&C402,Lists!$BA$2:$BD$78,4,FALSE))","v":""},"",""]
[null,null,null,null,{"$f":"IF(D403=\"\",\"\",VLOOKUP(B403&C403,Lists!$BA$2:$BD$78,4,FALSE))","v":""},"",""]
[null,null,null,null,{"$f":"IF(D404=\"\",\"\",VLOOKUP(B404&C404,Lists!$BA$2:$BD$78,4,FALSE))","v":""},"",""]
[null,null,null,null,{"$f":"IF(D405=\"\",\"\",VLOOKUP(B405&C405,Lists!$BA$2:$BD$78,4,FALSE))","v":""},"",""]
[null,null,null,null,{"$f":"IF(D406=\"\",\"\",VLOOKUP(B406&C406,Lists!$BA$2:$BD$78,4,FALSE))","v":""},"",""]
[null,null,null,null,{"$f":"IF(D407=\"\",\"\",VLOOKUP(B407&C407,Lists!$BA$2:$BD$78,4,FALSE))","v":""},"",""]
[null,null,null,null,{"$f":"IF(D408=\"\",\"\",VLOOKUP(B408&C408,Lists!$BA$2:$BD$78,4,FALSE))","v":""},"",""]
[null,null,null,null,{"$f":"IF(D409=\"\",\"\",VLOOKUP(B409&C409,Lists!$BA$2:$BD$78,4,FALSE))","v":""},{"$f":"IF(D409=\"\",\"\",SUM(H409,I409,J409,K409,L409))","v":""},{"$f":"IF(F409=\"\",\"\",F409/E409)","v":""}]
[null,null,null,null,{"$f":"IF(D410=\"\",\"\",VLOOKUP(B410&C410,Lists!$BA$2:$BD$78,4,FALSE))","v":""},"",""]
[null,null,null,null,{"$f":"IF(D411=\"\",\"\",VLOOKUP(B411&C411,Lists!$BA$2:$BD$78,4,FALSE))","v":""},"",""]
[null,null,null,null,{"$f":"IF(D412=\"\",\"\",VLOOKUP(B412&C412,Lists!$BA$2:$BD$78,4,FALSE))","v":""},"",""]
[null,null,null,null,{"$f":"IF(D413=\"\",\"\",VLOOKUP(B413&C413,Lists!$BA$2:$BD$78,4,FALSE))","v":""},"",""]
[null,null,null,null,{"$f":"IF(D414=\"\",\"\",VLOOKUP(B414&C414,Lists!$BA$2:$BD$78,4,FALSE))","v":""},"",""]
[null,null,null,null,{"$f":"IF(D415=\"\",\"\",VLOOKUP(B415&C415,Lists!$BA$2:$BD$78,4,FALSE))","v":""},"",""]
[null,null,null,null,{"$f":"IF(D416=\"\",\"\",VLOOKUP(B416&C416,Lists!$BA$2:$BD$78,4,FALSE))","v":""},"",""]
[null,null,null,null,{"$f":"IF(D417=\"\",\"\",VLOOKUP(B417&C417,Lists!$BA$2:$BD$78,4,FALSE))","v":""},"",""]
[null,null,null,null,{"$f":"IF(D418=\"\",\"\",VLOOKUP(B418&C418,Lists!$BA$2:$BD$78,4,FALSE))","v":""},"",""]
[null,null,null,null,{"$f":"IF(D419=\"\",\"\",VLOOKUP(B419&C419,Lists!$BA$2:$BD$78,4,FALSE))","v":""},"",""]
[null,null,null,null,{"$f":"IF(D420=\"\",\"\",VLOOKUP(B420&C420,Lists!$BA$2:$BD$78,4,FALSE))","v":""},"",""]
[null,null,null,null,{"$f":"IF(D421=\"\",\"\",VLOOKUP(B421&C421,Lists!$BA$2:$BD$78,4,FALSE))","v":""},"",""]
[null,null,null,null,{"$f":"IF(D422=\"\",\"\",VLOOKUP(B422&C422,Lists!$BA$2:$BD$78,4,FALSE))","v":""},"",""]
[null,null,null,null,{"$f":"IF(D423=\"\",\"\",VLOOKUP(B423&C423,Lists!$BA$2:$BD$78,4,FALSE))","v":""},"",""]
[null,null,null,null,{"$f":"IF(D424=\"\",\"\",VLOOKUP(B424&C424,Lists!$BA$2:$BD$78,4,FALSE))","v":""},"",""]
[null,null,null,null,{"$f":"IF(D425=\"\",\"\",VLOOKUP(B425&C425,Lists!$BA$2:$BD$78,4,FALSE))","v":""},"",""]
[null,null,null,null,{"$f":"IF(D426=\"\",\"\",VLOOKUP(B426&C426,Lists!$BA$2:$BD$78,4,FALSE))","v":""},"",""]
[null,null,null,null,{"$f":"IF(D427=\"\",\"\",VLOOKUP(B427&C427,Lists!$BA$2:$BD$78,4,FALSE))","v":""},"",""]
[null,null,null,null,{"$f":"IF(D428=\"\",\"\",VLOOKUP(B428&C428,Lists!$BA$2:$BD$78,4,FALSE))","v":""},"",""]
[null,null,null,null,{"$f":"IF(D429=\"\",\"\",VLOOKUP(B429&C429,Lists!$BA$2:$BD$78,4,FALSE))","v":""},"",""]
[null,null,null,null,{"$f":"IF(D430=\"\",\"\",VLOOKUP(B430&C430,Lists!$BA$2:$BD$78,4,FALSE))","v":""},"",""]
[null,null,null,null,{"$f":"IF(D431=\"\",\"\",VLOOKUP(B431&C431,Lists!$BA$2:$BD$78,4,FALSE))","v":""},"",""]
[null,null,null,null,{"$f":"IF(D432=\"\",\"\",VLOOKUP(B432&C432,Lists!$BA$2:$BD$78,4,FALSE))","v":""},"",""]
[null,null,null,null,{"$f":"IF(D433=\"\",\"\",VLOOKUP(B433&C433,Lists!$BA$2:$BD$78,4,FALSE))","v":""},"",""]
[null,null,null,null,{"$f":"IF(D434=\"\",\"\",VLOOKUP(B434&C434,Lists!$BA$2:$BD$78,4,FALSE))","v":""},"",""]
[null,null,null,null,{"$f":"IF(D435=\"\",\"\",VLOOKUP(B435&C435,Lists!$BA$2:$BD$78,4,FALSE))","v":""},"",""]
[null,null,null,null,{"$f":"IF(D436=\"\",\"\",VLOOKUP(B436&C436,Lists!$BA$2:$BD$78,4,FALSE))","v":""},"",""]
[null,null,null,null,{"$f":"IF(D437=\"\",\"\",VLOOKUP(B437&C437,Lists!$BA$2:$BD$78,4,FALSE))","v":""},"",""]
[null,null,null,null,{"$f":"IF(D438=\"\",\"\",VLOOKUP(B438&C438,Lists!$BA$2:$BD$78,4,FALSE))","v":""},"",""]
[null,null,null,null,{"$f":"IF(D439=\"\",\"\",VLOOKUP(B439&C439,Lists!$BA$2:$BD$78,4,FALSE))","v":""},"",""]
[null,null,null,null,{"$f":"IF(D440=\"\",\"\",VLOOKUP(B440&C440,Lists!$BA$2:$BD$78,4,FALSE))","v":""},"",""]
[null,null,null,null,{"$f":"IF(D441=\"\",\"\",VLOOKUP(B441&C441,Lists!$BA$2:$BD$78,4,FALSE))","v":""},"",""]
[null,null,null,null,{"$f":"IF(D442=\"\",\"\",VLOOKUP(B442&C442,Lists!$BA$2:$BD$78,4,FALSE))","v":""},"",""]
[null,null,null,null,{"$f":"IF(D443=\"\",\"\",VLOOKUP(B443&C443,Lists!$BA$2:$BD$78,4,FALSE))","v":""},"",""]
[null,null,null,null,{"$f":"IF(D444=\"\",\"\",VLOOKUP(B444&C444,Lists!$BA$2:$BD$78,4,FALSE))","v":""},"",""]
[null,null,null,null,{"$f":"IF(D445=\"\",\"\",VLOOKUP(B445&C445,Lists!$BA$2:$BD$78,4,FALSE))","v":""},"",""]
[null,null,null,null,{"$f":"IF(D446=\"\",\"\",VLOOKUP(B446&C446,Lists!$BA$2:$BD$78,4,FALSE))","v":""},"",""]
[null,null,null,null,{"$f":"IF(D447=\"\",\"\",VLOOKUP(B447&C447,Lists!$BA$2:$BD$78,4,FALSE))","v":""},"",""]
[null,null,null,null,{"$f":"IF(D448=\"\",\"\",VLOOKUP(B448&C448,Lists!$BA$2:$BD$78,4,FALSE))","v":""},"",""]
[null,null,null,null,{"$f":"IF(D449=\"\",\"\",VLOOKUP(B449&C449,Lists!$BA$2:$BD$78,4,FALSE))","v":""},"",""]
[null,null,null,null,{"$f":"IF(D450=\"\",\"\",VLOOKUP(B450&C450,Lists!$BA$2:$BD$78,4,FALSE))","v":""},"",""]
[null,null,null,null,{"$f":"IF(D451=\"\",\"\",VLOOKUP(B451&C451,Lists!$BA$2:$BD$78,4,FALSE))","v":""},"",""]
[null,null,null,null,{"$f":"IF(D452=\"\",\"\",VLOOKUP(B452&C452,Lists!$BA$2:$BD$78,4,FALSE))","v":""},"",""]
[null,null,null,null,{"$f":"IF(D453=\"\",\"\",VLOOKUP(B453&C453,Lists!$BA$2:$BD$78,4,FALSE))","v":""},"",""]
[null,null,null,null,{"$f":"IF(D454=\"\",\"\",VLOOKUP(B454&C454,Lists!$BA$2:$BD$78,4,FALSE))","v":""},"",""]
[null,null,null,null,{"$f":"IF(D455=\"\",\"\",VLOOKUP(B455&C455,Lists!$BA$2:$BD$78,4,FALSE))","v":""},"",""]
[null,null,null,null,{"$f":"IF(D456=\"\",\"\",VLOOKUP(B456&C456,Lists!$BA$2:$BD$78,4,FALSE))","v":""},"",""]
[null,null,null,null,{"$f":"IF(D457=\"\",\"\",VLOOKUP(B457&C457,Lists!$BA$2:$BD$78,4,FALSE))","v":""},"",""]
[null,null,null,null,{"$f":"IF(D458=\"\",\"\",VLOOKUP(B458&C458,Lists!$BA$2:$BD$78,4,FALSE))","v":""},"",""]
[null,null,null,null,{"$f":"IF(D459=\"\",\"\",VLOOKUP(B459&C459,Lists!$BA$2:$BD$78,4,FALSE))","v":""},"",""]
[null,null,null,null,{"$f":"IF(D460=\"\",\"\",VLOOKUP(B460&C460,Lists!$BA$2:$BD$78,4,FALSE))","v":""},"",""]
[null,null,null,null,{"$f":"IF(D461=\"\",\"\",VLOOKUP(B461&C461,Lists!$BA$2:$BD$78,4,FALSE))","v":""},"",""]
[null,null,null,null,{"$f":"IF(D462=\"\",\"\",VLOOKUP(B462&C462,Lists!$BA$2:$BD$78,4,FALSE))","v":""},"",""]
[null,null,null,null,{"$f":"IF(D463=\"\",\"\",VLOOKUP(B463&C463,Lists!$BA$2:$BD$78,4,FALSE))","v":""},"",""]
[null,null,null,null,{"$f":"IF(D464=\"\",\"\",VLOOKUP(B464&C464,Lists!$BA$2:$BD$78,4,FALSE))","v":""},"",""]
[null,null,null,null,{"$f":"IF(D465=\"\",\"\",VLOOKUP(B465&C465,Lists!$BA$2:$BD$78,4,FALSE))","v":""},"",""]
[null,null,null,null,{"$f":"IF(D466=\"\",\"\",VLOOKUP(B466&C466,Lists!$BA$2:$BD$78,4,FALSE))","v":""},"",""]
[null,null,null,null,{"$f":"IF(D467=\"\",\"\",VLOOKUP(B467&C467,Lists!$BA$2:$BD$78,4,FALSE))","v":""},"",""]
[null,null,null,null,{"$f":"IF(D468=\"\",\"\",VLOOKUP(B468&C468,Lists!$BA$2:$BD$78,4,FALSE))","v":""},"",""]
[null,null,null,null,{"$f":"IF(D469=\"\",\"\",VLOOKUP(B469&C469,Lists!$BA$2:$BD$78,4,FALSE))","v":""},"",""]
[null,null,null,null,{"$f":"IF(D470=\"\",\"\",VLOOKUP(B470&C470,Lists!$BA$2:$BD$78,4,FALSE))","v":""},"",""]
[null,null,null,null,{"$f":"IF(D471=\"\",\"\",VLOOKUP(B471&C471,Lists!$BA$2:$BD$78,4,FALSE))","v":""},"",""]
[null,null,null,null,{"$f":"IF(D472=\"\",\"\",VLOOKUP(B472&C472,Lists!$BA$2:$BD$78,4,FALSE))","v":""},"",""]
[null,null,null,null,{"$f":"IF(D473=\"\",\"\",VLOOKUP(B473&C473,Lists!$BA$2:$BD$78,4,FALSE))","v":""},{"$f":"IF(D473=\"\",\"\",SUM(H473,I473,J473,K473,L473))","v":""},{"$f":"IF(F473=\"\",\"\",F473/E473)","v":""}]
[null,null,null,null,{"$f":"IF(D474=\"\",\"\",VLOOKUP(B474&C474,Lists!$BA$2:$BD$78,4,FALSE))","v":""},"",""]
[null,null,null,null,{"$f":"IF(D475=\"\",\"\",VLOOKUP(B475&C475,Lists!$BA$2:$BD$78,4,FALSE))","v":""},"",""]
[null,null,null,null,{"$f":"IF(D476=\"\",\"\",VLOOKUP(B476&C476,Lists!$BA$2:$BD$78,4,FALSE))","v":""},"",""]
[null,null,null,null,{"$f":"IF(D477=\"\",\"\",VLOOKUP(B477&C477,Lists!$BA$2:$BD$78,4,FALSE))","v":""},"",""]
[null,null,null,null,{"$f":"IF(D478=\"\",\"\",VLOOKUP(B478&C478,Lists!$BA$2:$BD$78,4,FALSE))","v":""},"",""]
[null,null,null,null,{"$f":"IF(D479=\"\",\"\",VLOOKUP(B479&C479,Lists!$BA$2:$BD$78,4,FALSE))","v":""},"",""]
[null,null,null,null,{"$f":"IF(D480=\"\",\"\",VLOOKUP(B480&C480,Lists!$BA$2:$BD$78,4,FALSE))","v":""},"",""]
[null,null,null,null,{"$f":"IF(D481=\"\",\"\",VLOOKUP(B481&C481,Lists!$BA$2:$BD$78,4,FALSE))","v":""},"",""]
[null,null,null,null,{"$f":"IF(D482=\"\",\"\",VLOOKUP(B482&C482,Lists!$BA$2:$BD$78,4,FALSE))","v":""},"",""]
[null,null,null,null,{"$f":"IF(D483=\"\",\"\",VLOOKUP(B483&C483,Lists!$BA$2:$BD$78,4,FALSE))","v":""},"",""]
[null,null,null,null,{"$f":"IF(D484=\"\",\"\",VLOOKUP(B484&C484,Lists!$BA$2:$BD$78,4,FALSE))","v":""},"",""]
[null,null,null,null,{"$f":"IF(D485=\"\",\"\",VLOOKUP(B485&C485,Lists!$BA$2:$BD$78,4,FALSE))","v":""},"",""]
[null,null,null,null,{"$f":"IF(D486=\"\",\"\",VLOOKUP(B486&C486,Lists!$BA$2:$BD$78,4,FALSE))","v":""},"",""]
[null,null,null,null,{"$f":"IF(D487=\"\",\"\",VLOOKUP(B487&C487,Lists!$BA$2:$BD$78,4,FALSE))","v":""},"",""]
[null,null,null,null,{"$f":"IF(D488=\"\",\"\",VLOOKUP(B488&C488,Lists!$BA$2:$BD$78,4,FALSE))","v":""},"",""]
[null,null,null,null,{"$f":"IF(D489=\"\",\"\",VLOOKUP(B489&C489,Lists!$BA$2:$BD$78,4,FALSE))","v":""},"",""]
[null,null,null,null,{"$f":"IF(D490=\"\",\"\",VLOOKUP(B490&C490,Lists!$BA$2:$BD$78,4,FALSE))","v":""},"",""]
[null,null,null,null,{"$f":"IF(D491=\"\",\"\",VLOOKUP(B491&C491,Lists!$BA$2:$BD$78,4,FALSE))","v":""},"",""]
[null,null,null,null,{"$f":"IF(D492=\"\",\"\",VLOOKUP(B492&C492,Lists!$BA$2:$BD$78,4,FALSE))","v":""},"",""]
[null,null,null,null,{"$f":"IF(D493=\"\",\"\",VLOOKUP(B493&C493,Lists!$BA$2:$BD$78,4,FALSE))","v":""},"",""]
[null,null,null,null,{"$f":"IF(D494=\"\",\"\",VLOOKUP(B494&C494,Lists!$BA$2:$BD$78,4,FALSE))","v":""},"",""]
[null,null,null,null,{"$f":"IF(D495=\"\",\"\",VLOOKUP(B495&C495,Lists!$BA$2:$BD$78,4,FALSE))","v":""},"",""]
[null,null,null,null,{"$f":"IF(D496=\"\",\"\",VLOOKUP(B496&C496,Lists!$BA$2:$BD$78,4,FALSE))","v":""},"",""]
[null,null,null,null,{"$f":"IF(D497=\"\",\"\",VLOOKUP(B497&C497,Lists!$BA$2:$BD$78,4,FALSE))","v":""},"",""]
[null,null,null,null,{"$f":"IF(D498=\"\",\"\",VLOOKUP(B498&C498,Lists!$BA$2:$BD$78,4,FALSE))","v":""},"",""]
[null,null,null,null,{"$f":"IF(D499=\"\",\"\",VLOOKUP(B499&C499,Lists!$BA$2:$BD$78,4,FALSE))","v":""},"",""]
[null,null,null,null,{"$f":"IF(D500=\"\",\"\",VLOOKUP(B500&C500,Lists!$BA$2:$BD$78,4,FALSE))","v":""},"",""]

{"sheet":"Description of Changes","index":17,"n_rows":23,"n_cols":3,"rows_kept":23,"cut":false,"hidden":false,"merged":[]}
[null,"DO NOT REMOVE OR EDIT INFORMATION IN THIS SECTION FOR INTERNAL USE ONLY"]
[null,"Template Name",{"$f":"Welcome!B2","v":"63.366(b) Initial Compliance Report and (c) Quarterly Report (Spreadsheet Template)"}]
[null,"CitationID",{"$f":"Welcome!B3","v":"63.366(b) and (c)"}]
[null,"Template Version",{"$f":"Welcome!B4","v":"v2.00"}]
[null,"Last Updated Date",{"$f":"Welcome!B5","v":45519}]
[]
[null,"40 CFR Part 63, Subpart O National Emission Standards for Hazardous Air Pollutants: Sterilization Facilities"]
[null,"§63.366(b) Initial Compliance Report and §63.366(c) Quarterly Report Spreadsheet Template"]
[null,"CMS, Processes, or Control Device Changes"]
[null,"A description of any changes in the CMS, processes, or control device since the last reporting period."]
[]
[null,"Company Record No.\n(Select from dropdown)","Describe any changes in CMS, process or controls since last reporting period. (§63.10(e)(3)(vi)(K))"]
[null,"RecordId","CmsChangesDesc"]
[null,"e.g.: 1","e.g.: No change."]
[null,"e.g.:","e.g.:"]
[null,"e.g.:","e.g.:"]
[null,"e.g.:","e.g.:"]
[null,"e.g.:","e.g.:"]
[null,"e.g.:","e.g.:"]
[null,"e.g.:","e.g.:"]
[null,"e.g.:","e.g.:"]
[null,"e.g.:","e.g.:"]
[null,"e.g.:","e.g.:"]

{"sheet":"Revisions","index":18,"n_rows":5,"n_cols":3,"rows_kept":5,"cut":false,"hidden":false,"merged":[]}
["40 CFR Part 63, Subpart O Summary, Monitoring System Performance, and Deviation Report"]
["§63.366(c) Initial Compliance Report Spreadsheet Template"]
["Date","Version","Description"]
[45350,1,"Final ICR Draft"]
[45519,2,"Initial Release Version; Merged teh Initial Compliance Report and Quarterly Compliance Report templates,  Reformated tabs for consistency, added \"e.g.:\" to all blank example rows to ease filtering, added 63.366(b) references where applicable to merge Initial Compliance Report and Quarterly Compliance Report templates, Added additional dropdown option to reflect when the field is not required during the Initial Complaince Report.  Welcome: Updated header and instructions, added statement on 63.10(e)(3)(vi)(L) certification. Report Information: Updated header instructions, expanded rows to show all text; Company Information: updated state dropdown, corrected Zip Code validation and formatting;  Process and CMS Information: Moved certification statements to new Certifications tab. Removed additional monitor columns, aeach CMS should be entered on it's own row. Rooms: correct examples and XML tag for column M, EtO CEMS Averages: Added inclusion of units to column F; Validation Certification: Deleted and moved to new Certifications tab; Certifications: Created to house all certification statements, except 63.10(e)(3)(vi)(L)"]

{"sheet":"Lists","index":19,"n_rows":500,"n_cols":79,"rows_kept":500,"cut":false,"hidden":true,"merged":[]}
["Pollutants/Parameters","Num","Company Name","Companylist","pnum","processname","processlist",null,"cnum","CMSname","CMSlist"," ","periodictestcontrolsystem","SCVcontrolsystem","CEVcontrolsystem","roomcontrolsystem"," Pollutant/Parameter Unit","Compliance Period","Excess Emission Reasons","ValidEstimateBasis","CMS Downtime Reasons","Notifications","cmsreport","APCD Parameters","CPMS",null,"Rank","CompanyID","Process Name","Malfunction","ID&Name&Malfunction&Cause","UniqueID&Name","No Blank ID","No Blank Name","No Blank Malfunction",null,"Rank","CompanyID","Process Name","Malfunction","ID&Name&Malfunction&Cause","UniqueID&Name","No Blank ID","No Blank Name","No Blank Malfunction",null,"Rank","CompanyID","Process Name","Operating Time","ID&Name&Malfunction&Cause","UniqueID&Name",null,"No Blank ID","No Blank Name","No Blank Malfunction",null,"Aerial Map","Documentation of Residence","Room - Documentation of Emissions",null,"Room Air",null,"PTE Compliance Demonstration","NDO Method of Inspection","Direction of Airflow",null,"Control Device Type",null,"CMS - Excess Emissions (Y/N)","CMS - Inoperative/OOC/Repaired/Adjusted (Y/N)","CMS - Downtime ≥ 10% (Y/N)",null,"63.633(c)(2)-(3) Reporting Reason","63.633(c)(4),(8) Reporting Reason",null,"states"]
["Ethylene Oxide (EtO)",{"$f":"IF(C2=\"\",\"\",MAX(B1:B$1)+1)","v":""},{"$f":"+IF('Company Information'!B24=\"\",\"\",IF(COUNTIF('Company Information'!B24:$C$32,'Company Information'!B24)=1,'Company Information'!B24,\"\"))","v":""},{"$f":"+IFERROR(INDEX($C$2:$C$2501,MATCH(ROW()-ROW($D$1),$B$2:$B$2501,0)),\"\")","v":""},{"$f":"IF(H2=\"\",\"\",MAX(E1:E$1)+1)","v":""},{"$f":"IF('Process and CMS Information'!C24=\"\",\"\",'Process and CMS Information'!C24)","v":""},{"$f":"+IFERROR(INDEX($F$2:$F$2501,MATCH(ROW()-ROW($G$1),$E$2:$E$2501,0)),\"\")","v":""},{"$f":"IF(COUNTIF(F$2:F2,F2)=1,F2,\"\")","v":""},0,"N/A","N/A","N/A",{"$f":"IF('Periodic Performance Testing'!C24=\"\",\"\",'Periodic Performance Testing'!C24)","v":""},{"$f":"IF('Sterilization Chambers'!E24=\"\",\"\",'Sterilization Chambers'!E24)","v":""},{"$f":"IF('Sterilization Chambers'!I24=\"\",\"\",'Sterilization Chambers'!I24)","v":""},{"$f":"IF(Rooms!H24=\"\",\"\",Rooms!H24)","v":""},"deg C","30 Sterilizer Operating Day Rolling Average","Startup or Shutdown","Compliance Test","Monitoring Equipment Malfunctions","Yes",null,"Temperature","Temperature",null,{"$f":"+IF(AF2=\"\",\"\",MAX(AA1:AA$1)+1)","v":""},{"$f":"IF('Excess Emissions'!B24=\"\",\"\",'Excess Emissions'!B24)","v":""},{"$f":"IF('Excess Emissions'!C24=\"\",\"\",'Excess Emissions'!C24)","v":""},{"$f":"IF('Excess Emissions'!D24=\"\",\"\",'Excess Emissions'!D24)","v":""},{"$f":"AB2&AC2&AD2","v":""},{"$f":"IF(COUNTIF(AE$2:AE2,AE2)=1,AC2,\"\")","v":""},{"$f":"+IFERROR(INDEX(AB$2:AB$500,MATCH(ROW()-ROW($AF$1),$AA$2:$AA$500,0)),\"\")","v":""},{"$f":"+IFERROR(INDEX(AC$2:AC$500,MATCH(ROW()-ROW($AF$1),$AA$2:$AA$500,0)),\"\")","v":""},{"$f":"+IFERROR(INDEX(AD$2:AD$500,MATCH(ROW()-ROW($AF$1),$AA$2:$AA$500,0)),\"\")","v":""},null,{"$f":"+IF(AP2=\"\",\"\",MAX(AK1:AK$1)+1)","v":""},{"$f":"IF('CMS Downtime Detail'!B24=\"\",\"\",'CMS Downtime Detail'!B24)","v":""},{"$f":"IF('CMS Downtime Detail'!C24=\"\",\"\",'CMS Downtime Detail'!C24)","v":""},{"$f":"IF('CMS Downtime Detail'!D24=\"\",\"\",'CMS Downtime Detail'!D24)","v":""},{"$f":"AL2&AM2&AN2","v":""},{"$f":"IF(COUNTIF(AO$2:AO2,AO2)=1,AM2,\"\")","v":""},{"$f":"+IFERROR(INDEX(AL$2:AL$500,MATCH(ROW()-ROW($AP$1),$AK$2:$AK$500,0)),\"\")","v":""},{"$f":"+IFERROR(INDEX(AM$2:AM$500,MATCH(ROW()-ROW($AP$1),$AK$2:$AK$500,0)),\"\")","v":""},{"$f":"+IFERROR(INDEX(AN$2:AN$500,MATCH(ROW()-ROW($AP$1),$AK$2:$AK$500,0)),\"\")","v":""},null,{"$f":"+IF(AZ2=\"\",\"\",MAX(AU1:AU$1)+1)","v":""},{"$f":"IF('Process and CMS Information'!B24=\"\",\"\",'Process and CMS Information'!B24)","v":""},{"$f":"IF('Process and CMS Information'!C24=\"\",\"\",'Process and CMS Information'!C24)","v":""},{"$f":"IF('Process and CMS Information'!F24=\"\",\"\",'Process and CMS Information'!F24)","v":""},{"$f":"AV2&AW2","v":""},{"$f":"IF(COUNTIF(AY$2:AY2,AY2)=1,AY2,\"\")","v":""},{"$f":"+IFERROR(INDEX(AY$2:AY$500,MATCH(ROW()-ROW($AZ$1),$AU$2:$AU$500,0)),\"\")","v":""},{"$f":"+IFERROR(INDEX(AV$2:AV$500,MATCH(ROW()-ROW($AZ$1),$AU$2:$AU$500,0)),\"\")","v":""},{"$f":"+IFERROR(INDEX(AW$2:AW$500,MATCH(ROW()-ROW($AZ$1),$AU$2:$AU$500,0)),\"\")","v":""},{"$f":"+IFERROR(INDEX(AX$2:AX$500,MATCH(ROW()-ROW($AZ$1),$AU$2:$AU$500,0)),\"\")","v":""},null,"Yes, an aerial map showing the distance to the nearest residence is attached.","Yes, documentation verifying the nearest residence is attached. If there is/are any other building(s) that are closer and may appear to be residence(s), documentation is attached demonstrating the building(s) is/are not residence(s).","Yes, documentation of emissions is attached.",null,"Aeration",null,"Continuous Flow Rate Monitoring System","Smoke test","Into the facility",null,"Acid-water scrubber",null,"No, there were excess emissions or exceedances","No, CMS has been inoperative, out of control, repaired, or adjusted during this period","Yes, CEMS and/or CMS downtime is equal to or greater than 10%",null,"Has not operated","No potential for EtO emissions",null,"AK",null,"The certifier of this report, to the best of their knowledge and belief, certifies that the sterilization equipment has been calibrated such that the minimum amount of ethylene oxide needed to achieve sterility in accordance with ISO 11135 (July 15, 2014) is not exceeded and that ethylene oxide use has been lowered to the maximum extent feasible."]
["Acid-water Scrubber pH",{"$f":"IF(C3=\"\",\"\",MAX(B$1:B2)+1)","v":""},{"$f":"+IF('Company Information'!B25=\"\",\"\",IF(COUNTIF('Company Information'!B25:$C$32,'Company Information'!B25)=1,'Company Information'!B25,\"\"))","v":""},{"$f":"+IFERROR(INDEX($C$2:$C$2501,MATCH(ROW()-ROW($D$1),$B$2:$B$2501,0)),\"\")","v":""},{"$f":"IF(H3=\"\",\"\",MAX(E$1:E2)+1)","v":""},{"$f":"IF('Process and CMS Information'!C25=\"\",\"\",'Process and CMS Information'!C25)","v":""},{"$f":"+IFERROR(INDEX($F$2:$F$2501,MATCH(ROW()-ROW($G$1),$E$2:$E$2501,0)),\"\")","v":""},{"$f":"IF(COUNTIF(F$2:F3,F3)=1,F3,\"\")","v":""},{"$f":"IF(L3=\"\",\"\",MAX(I1:I$1)+1)","v":""},{"$f":"IF('Process and CMS Information'!D24=\"\",\"\",'Process and CMS Information'!D24)","v":""},{"$f":"+IFERROR(INDEX($J$2:$J$2501,MATCH(ROW()-(1+ROW($J$1)),$I$2:$I$2501,0)),\"\")","v":""},{"$f":"IF(COUNTIF(J$3:J3,J3)=1,J3,\"\")","v":""},{"$f":"IF('Periodic Performance Testing'!C25=\"\",\"\",'Periodic Performance Testing'!C25)","v":""},{"$f":"IF('Sterilization Chambers'!E25=\"\",\"\",'Sterilization Chambers'!E25)","v":""},{"$f":"IF('Sterilization Chambers'!I25=\"\",\"\",'Sterilization Chambers'!I25)","v":""},{"$f":"IF(Rooms!H25=\"\",\"\",Rooms!H25)","v":""},"deg F","3-hour rolling average","Control Equipment Problems","CEMS","Nonmonitoring Equipment Malfunctions","No",null,"Pressure Drop","Pressure Drop",null,{"$f":"+IF(AF3=\"\",\"\",MAX(AA$1:AA2)+1)","v":""},{"$f":"IF('Excess Emissions'!B25=\"\",\"\",'Excess Emissions'!B25)","v":""},{"$f":"IF('Excess Emissions'!C25=\"\",\"\",'Excess Emissions'!C25)","v":""},{"$f":"IF('Excess Emissions'!D25=\"\",\"\",'Excess Emissions'!D25)","v":""},{"$f":"AB3&AC3&AD3","v":""},{"$f":"IF(COUNTIF(AE$2:AE3,AE3)=1,AC3,\"\")","v":""},{"$f":"+IFERROR(INDEX(AB$2:AB$500,MATCH(ROW()-ROW($AF$1),$AA$2:$AA$500,0)),\"\")","v":""},{"$f":"+IFERROR(INDEX(AC$2:AC$500,MATCH(ROW()-ROW($AF$1),$AA$2:$AA$500,0)),\"\")","v":""},{"$f":"+IFERROR(INDEX(AD$2:AD$500,MATCH(ROW()-ROW($AF$1),$AA$2:$AA$500,0)),\"\")","v":""},null,{"$f":"+IF(AP3=\"\",\"\",MAX(AK$1:AK2)+1)","v":""},{"$f":"IF('CMS Downtime Detail'!B25=\"\",\"\",'CMS Downtime Detail'!B25)","v":""},{"$f":"IF('CMS Downtime Detail'!C25=\"\",\"\",'CMS Downtime Detail'!C25)","v":""},{"$f":"IF('CMS Downtime Detail'!D25=\"\",\"\",'CMS Downtime Detail'!D25)","v":""},{"$f":"AL3&AM3&AN3","v":""},{"$f":"IF(COUNTIF(AO$2:AO3,AO3)=1,AM3,\"\")","v":""},{"$f":"+IFERROR(INDEX(AL$2:AL$500,MATCH(ROW()-ROW($AP$1),$AK$2:$AK$500,0)),\"\")","v":""},{"$f":"+IFERROR(INDEX(AM$2:AM$500,MATCH(ROW()-ROW($AP$1),$AK$2:$AK$500,0)),\"\")","v":""},{"$f":"+IFERROR(INDEX(AN$2:AN$500,MATCH(ROW()-ROW($AP$1),$AK$2:$AK$500,0)),\"\")","v":""},null,{"$f":"+IF(AZ3=\"\",\"\",MAX(AU$1:AU2)+1)","v":""},{"$f":"IF('Process and CMS Information'!B25=\"\",\"\",'Process and CMS Information'!B25)","v":""},{"$f":"IF('Process and CMS Information'!C25=\"\",\"\",'Process and CMS Information'!C25)","v":""},{"$f":"IF('Process and CMS Information'!F25=\"\",\"\",'Process and CMS Information'!F25)","v":""},{"$f":"AV3&AW3","v":""},{"$f":"IF(COUNTIF(AY$2:AY3,AY3)=1,AY3,\"\")","v":""},{"$f":"+IFERROR(INDEX(AY$2:AY$500,MATCH(ROW()-ROW($AZ$1),$AU$2:$AU$500,0)),\"\")","v":""},{"$f":"+IFERROR(INDEX(AV$2:AV$500,MATCH(ROW()-ROW($AZ$1),$AU$2:$AU$500,0)),\"\")","v":""},{"$f":"+IFERROR(INDEX(AW$2:AW$500,MATCH(ROW()-ROW($AZ$1),$AU$2:$AU$500,0)),\"\")","v":""},{"$f":"+IFERROR(INDEX(AX$2:AX$500,MATCH(ROW()-ROW($AZ$1),$AU$2:$AU$500,0)),\"\")","v":""},null,"No, an aerial map showing the distance to the nearest residence has not been attached (Report is incomplete).","No, documentation verifying that the nearest building is a residence is not provided (Report is incomplete).","No, documentation is not provided (Report is incomplete).",null,"EtO storage",null,"Differential Pressure Monitoring","Streamers","Out of the facility",null,"Thermal Oxidizer",null,"Yes, there were no excess emissions or exceedances","Yes, the CMS has worked without adjustment in this period","No, CEMS and/or CMS downtime is less than 10%",null,"Commenced operation","Potential for EtO emissions",null,"AL",null,"Not Applicable"]
["Thermal oxidizer temperature",{"$f":"IF(C4=\"\",\"\",MAX(B$1:B3)+1)","v":""},{"$f":"+IF('Company Information'!B26=\"\",\"\",IF(COUNTIF('Company Information'!B26:$C$32,'Company Information'!B26)=1,'Company Information'!B26,\"\"))","v":""},"",{"$f":"IF(H4=\"\",\"\",MAX(E$1:E3)+1)","v":""},{"$f":"IF('Process and CMS Information'!C26=\"\",\"\",'Process and CMS Information'!C26)","v":""},"",{"$f":"IF(COUNTIF(F$2:F4,F4)=1,F4,\"\")","v":""},{"$f":"IF(L4=\"\",\"\",MAX(I$1:I3)+1)","v":""},{"$f":"IF('Process and CMS Information'!D25=\"\",\"\",'Process and CMS Information'!D25)","v":""},{"$f":"+IFERROR(INDEX($J$2:$J$2501,MATCH(ROW()-(1+ROW($J$1)),$I$2:$I$2501,0)),\"\")","v":""},{"$f":"IF(COUNTIF(J$3:J4,J4)=1,J4,\"\")","v":""},{"$f":"IF('Periodic Performance Testing'!C26=\"\",\"\",'Periodic Performance Testing'!C26)","v":""},{"$f":"IF('Sterilization Chambers'!E26=\"\",\"\",'Sterilization Chambers'!E26)","v":""},{"$f":"IF('Sterilization Chambers'!I26=\"\",\"\",'Sterilization Chambers'!I26)","v":""},{"$f":"IF(Rooms!H26=\"\",\"\",Rooms!H26)","v":""},"dscfm",null,"Process Problems","Engineering Calculation","Quality Assurance/Quality Control Calibrations","Not Applicable (N/A)",null,"EtO CEMS","EtO CEMS",null,{"$f":"+IF(AF4=\"\",\"\",MAX(AA$1:AA3)+1)","v":""},{"$f":"IF('Excess Emissions'!B26=\"\",\"\",'Excess Emissions'!B26)","v":""},{"$f":"IF('Excess Emissions'!C26=\"\",\"\",'Excess Emissions'!C26)","v":""},{"$f":"IF('Excess Emissions'!D26=\"\",\"\",'Excess Emissions'!D26)","v":""},"",{"$f":"IF(COUNTIF(AE$2:AE4,AE4)=1,AC4,\"\")","v":""},"","","",null,{"$f":"+IF(AP4=\"\",\"\",MAX(AK$1:AK3)+1)","v":""},{"$f":"IF('CMS Downtime Detail'!B26=\"\",\"\",'CMS Downtime Detail'!B26)","v":""},{"$f":"IF('CMS Downtime Detail'!C26=\"\",\"\",'CMS Downtime Detail'!C26)","v":""},{"$f":"IF('CMS Downtime Detail'!D26=\"\",\"\",'CMS Downtime Detail'!D26)","v":""},"",{"$f":"IF(COUNTIF(AO$2:AO4,AO4)=1,AM4,\"\")","v":""},"","","",null,{"$f":"+IF(AZ4=\"\",\"\",MAX(AU$1:AU3)+1)","v":""},{"$f":"IF('Process and CMS Information'!B26=\"\",\"\",'Process and CMS Information'!B26)","v":""},{"$f":"IF('Process and CMS Information'!C26=\"\",\"\",'Process and CMS Information'!C26)","v":""},{"$f":"IF('Process and CMS Information'!F26=\"\",\"\",'Process and CMS Information'!F26)","v":""},"",{"$f":"IF(COUNTIF(AY$2:AY4,AY4)=1,AY4,\"\")","v":""},"","","","",null,null,null,null,null,"EtO dispensing",null,null,null,null,null,"Catalytic oxidizer",null,null,"Not Applicable, This facility has no CMS.",null,null,"Change in information","Change in information",null,"AR"]
["Catalytic oxidizer - inlet temperature",{"$f":"IF(C5=\"\",\"\",MAX(B$1:B4)+1)","v":""},{"$f":"+IF('Company Information'!B27=\"\",\"\",IF(COUNTIF('Company Information'!B27:$C$32,'Company Information'!B27)=1,'Company Information'!B27,\"\"))","v":""},"",{"$f":"IF(H5=\"\",\"\",MAX(E$1:E4)+1)","v":""},{"$f":"IF('Process and CMS Information'!C27=\"\",\"\",'Process and CMS Information'!C27)","v":""},"",{"$f":"IF(COUNTIF(F$2:F5,F5)=1,F5,\"\")","v":""},{"$f":"IF(L5=\"\",\"\",MAX(I$1:I4)+1)","v":""},{"$f":"IF('Process and CMS Information'!D26=\"\",\"\",'Process and CMS Information'!D26)","v":""},{"$f":"+IFERROR(INDEX($J$2:$J$2501,MATCH(ROW()-(1+ROW($J$1)),$I$2:$I$2501,0)),\"\")","v":""},{"$f":"IF(COUNTIF(J$3:J5,J5)=1,J5,\"\")","v":""},{"$f":"IF('Periodic Performance Testing'!C27=\"\",\"\",'Periodic Performance Testing'!C27)","v":""},{"$f":"IF('Sterilization Chambers'!E27=\"\",\"\",'Sterilization Chambers'!E27)","v":""},{"$f":"IF('Sterilization Chambers'!I27=\"\",\"\",'Sterilization Chambers'!I27)","v":""},{"$f":"IF(Rooms!H27=\"\",\"\",Rooms!H27)","v":""},"feet",null,"Other Known Causes","Operating Logs","Other Known Causes",null,null,null,null,null,{"$f":"+IF(AF5=\"\",\"\",MAX(AA$1:AA4)+1)","v":""},{"$f":"IF('Excess Emissions'!B27=\"\",\"\",'Excess Emissions'!B27)","v":""},{"$f":"IF('Excess Emissions'!C27=\"\",\"\",'Excess Emissions'!C27)","v":""},{"$f":"IF('Excess Emissions'!D27=\"\",\"\",'Excess Emissions'!D27)","v":""},"",{"$f":"IF(COUNTIF(AE$2:AE5,AE5)=1,AC5,\"\")","v":""},"","","",null,{"$f":"+IF(AP5=\"\",\"\",MAX(AK$1:AK4)+1)","v":""},{"$f":"IF('CMS Downtime Detail'!B27=\"\",\"\",'CMS Downtime Detail'!B27)","v":""},{"$f":"IF('CMS Downtime Detail'!C27=\"\",\"\",'CMS Downtime Detail'!C27)","v":""},{"$f":"IF('CMS Downtime Detail'!D27=\"\",\"\",'CMS Downtime Detail'!D27)","v":""},"",{"$f":"IF(COUNTIF(AO$2:AO5,AO5)=1,AM5,\"\")","v":""},"","","",null,{"$f":"+IF(AZ5=\"\",\"\",MAX(AU$1:AU4)+1)","v":""},{"$f":"IF('Process and CMS Information'!B27=\"\",\"\",'Process and CMS Information'!B27)","v":""},{"$f":"IF('Process and CMS Information'!C27=\"\",\"\",'Process and CMS Information'!C27)","v":""},{"$f":"IF('Process and CMS Information'!F27=\"\",\"\",'Process and CMS Information'!F27)","v":""},"",{"$f":"IF(COUNTIF(AY$2:AY5,AY5)=1,AY5,\"\")","v":""},"","","","",null,null,null,null,null,"Pre-aeration handling of sterilized material",null,null,null,null,null,"Gas/solid reactor",null,null,null,null,null,"Not Applicable - Initial Compliance Report","Not Applicable - Initial Compliance Report",null,"AS"]
["Catalytic oxidizer - temperature drop",{"$f":"IF(C6=\"\",\"\",MAX(B$1:B5)+1)","v":""},{"$f":"+IF('Company Information'!B28=\"\",\"\",IF(COUNTIF('Company Information'!B28:$C$32,'Company Information'!B28)=1,'Company Information'!B28,\"\"))","v":""},"",{"$f":"IF(H6=\"\",\"\",MAX(E$1:E5)+1)","v":""},{"$f":"IF('Process and CMS Information'!C28=\"\",\"\",'Process and CMS Information'!C28)","v":""},"",{"$f":"IF(COUNTIF(F$2:F6,F6)=1,F6,\"\")","v":""},{"$f":"IF(L6=\"\",\"\",MAX(I$1:I5)+1)","v":""},{"$f":"IF('Process and CMS Information'!D27=\"\",\"\",'Process and CMS Information'!D27)","v":""},"",{"$f":"IF(COUNTIF(J$3:J6,J6)=1,J6,\"\")","v":""},{"$f":"IF('Periodic Performance Testing'!C28=\"\",\"\",'Periodic Performance Testing'!C28)","v":""},{"$f":"IF('Sterilization Chambers'!E28=\"\",\"\",'Sterilization Chambers'!E28)","v":""},{"$f":"IF('Sterilization Chambers'!I28=\"\",\"\",'Sterilization Chambers'!I28)","v":""},{"$f":"IF(Rooms!H28=\"\",\"\",Rooms!H28)","v":""},"in of water",null,"Other Unknown Causes","Other","Other Unknown Causes",null,null,null,null,null,{"$f":"+IF(AF6=\"\",\"\",MAX(AA$1:AA5)+1)","v":""},{"$f":"IF('Excess Emissions'!B28=\"\",\"\",'Excess Emissions'!B28)","v":""},{"$f":"IF('Excess Emissions'!C28=\"\",\"\",'Excess Emissions'!C28)","v":""},{"$f":"IF('Excess Emissions'!D28=\"\",\"\",'Excess Emissions'!D28)","v":""},"",{"$f":"IF(COUNTIF(AE$2:AE6,AE6)=1,AC6,\"\")","v":""},"","","",null,{"$f":"+IF(AP6=\"\",\"\",MAX(AK$1:AK5)+1)","v":""},{"$f":"IF('CMS Downtime Detail'!B28=\"\",\"\",'CMS Downtime Detail'!B28)","v":""},{"$f":"IF('CMS Downtime Detail'!C28=\"\",\"\",'CMS Downtime Detail'!C28)","v":""},{"$f":"IF('CMS Downtime Detail'!D28=\"\",\"\",'CMS Downtime Detail'!D28)","v":""},"",{"$f":"IF(COUNTIF(AO$2:AO6,AO6)=1,AM6,\"\")","v":""},"","","",null,{"$f":"+IF(AZ6=\"\",\"\",MAX(AU$1:AU5)+1)","v":""},{"$f":"IF('Process and CMS Information'!B28=\"\",\"\",'Process and CMS Information'!B28)","v":""},{"$f":"IF('Process and CMS Information'!C28=\"\",\"\",'Process and CMS Information'!C28)","v":""},{"$f":"IF('Process and CMS Information'!F28=\"\",\"\",'Process and CMS Information'!F28)","v":""},"",{"$f":"IF(COUNTIF(AY$2:AY6,AY6)=1,AY6,\"\")","v":""},"","","","",null,null,null,null,null,"Post-aeration handling of sterilized material",null,null,null,null,null,"Other control technology",null,null,null,null,null,null,null,null,"AZ"]
["Volumetric flow rate",{"$f":"IF(C7=\"\",\"\",MAX(B$1:B6)+1)","v":""},{"$f":"+IF('Company Information'!B29=\"\",\"\",IF(COUNTIF('Company Information'!B29:$C$32,'Company Information'!B29)=1,'Company Information'!B29,\"\"))","v":""},"",{"$f":"IF(H7=\"\",\"\",MAX(E$1:E6)+1)","v":""},{"$f":"IF('Process and CMS Information'!C29=\"\",\"\",'Process and CMS Information'!C29)","v":""},"",{"$f":"IF(COUNTIF(F$2:F7,F7)=1,F7,\"\")","v":""},{"$f":"IF(L7=\"\",\"\",MAX(I$1:I6)+1)","v":""},{"$f":"IF('Process and CMS Information'!D28=\"\",\"\",'Process and CMS Information'!D28)","v":""},"",{"$f":"IF(COUNTIF(J$3:J7,J7)=1,J7,\"\")","v":""},{"$f":"IF('Periodic Performance Testing'!C29=\"\",\"\",'Periodic Performance Testing'!C29)","v":""},{"$f":"IF('Sterilization Chambers'!E29=\"\",\"\",'Sterilization Chambers'!E29)","v":""},{"$f":"IF('Sterilization Chambers'!I29=\"\",\"\",'Sterilization Chambers'!I29)","v":""},{"$f":"IF(Rooms!H29=\"\",\"\",Rooms!H29)","v":""},"lb/hr",null,null,null,null,null,null,null,null,null,{"$f":"+IF(AF7=\"\",\"\",MAX(AA$1:AA6)+1)","v":""},{"$f":"IF('Excess Emissions'!B29=\"\",\"\",'Excess Emissions'!B29)","v":""},{"$f":"IF('Excess Emissions'!C29=\"\",\"\",'Excess Emissions'!C29)","v":""},{"$f":"IF('Excess Emissions'!D29=\"\",\"\",'Excess Emissions'!D29)","v":""},"",{"$f":"IF(COUNTIF(AE$2:AE7,AE7)=1,AC7,\"\")","v":""},"","","",null,{"$f":"+IF(AP7=\"\",\"\",MAX(AK$1:AK6)+1)","v":""},{"$f":"IF('CMS Downtime Detail'!B29=\"\",\"\",'CMS Downtime Detail'!B29)","v":""},{"$f":"IF('CMS Downtime Detail'!C29=\"\",\"\",'CMS Downtime Detail'!C29)","v":""},{"$f":"IF('CMS Downtime Detail'!D29=\"\",\"\",'CMS Downtime Detail'!D29)","v":""},"",{"$f":"IF(COUNTIF(AO$2:AO7,AO7)=1,AM7,\"\")","v":""},"","","",null,{"$f":"+IF(AZ7=\"\",\"\",MAX(AU$1:AU6)+1)","v":""},{"$f":"IF('Process and CMS Information'!B29=\"\",\"\",'Process and CMS Information'!B29)","v":""},{"$f":"IF('Process and CMS Information'!C29=\"\",\"\",'Process and CMS Information'!C29)","v":""},{"$f":"IF('Process and CMS Information'!F29=\"\",\"\",'Process and CMS Information'!F29)","v":""},"",{"$f":"IF(COUNTIF(AY$2:AY7,AY7)=1,AY7,\"\")","v":""},"","","","",null,null,null,null,null,"Other",null,null,null,null,null,null,null,null,null,null,null,null,null,null,"CA"]
["Pressure differential",{"$f":"IF(C8=\"\",\"\",MAX(B$1:B7)+1)","v":""},{"$f":"+IF('Company Information'!B30=\"\",\"\",IF(COUNTIF('Company Information'!B30:$C$32,'Company Information'!B30)=1,'Company Information'!B30,\"\"))","v":""},"",{"$f":"IF(H8=\"\",\"\",MAX(E$1:E7)+1)","v":""},{"$f":"IF('Process and CMS Information'!C30=\"\",\"\",'Process and CMS Information'!C30)","v":""},"",{"$f":"IF(COUNTIF(F$2:F8,F8)=1,F8,\"\")","v":""},{"$f":"IF(L8=\"\",\"\",MAX(I$1:I7)+1)","v":""},{"$f":"IF('Process and CMS Information'!D29=\"\",\"\",'Process and CMS Information'!D29)","v":""},"",{"$f":"IF(COUNTIF(J$3:J8,J8)=1,J8,\"\")","v":""},{"$f":"IF('Periodic Performance Testing'!C30=\"\",\"\",'Periodic Performance Testing'!C30)","v":""},{"$f":"IF('Sterilization Chambers'!E30=\"\",\"\",'Sterilization Chambers'!E30)","v":""},{"$f":"IF('Sterilization Chambers'!I30=\"\",\"\",'Sterilization Chambers'!I30)","v":""},{"$f":"IF(Rooms!H30=\"\",\"\",Rooms!H30)","v":""},"lb/day",null,null,null,null,null,null,null,null,null,{"$f":"+IF(AF8=\"\",\"\",MAX(AA$1:AA7)+1)","v":""},{"$f":"IF('Excess Emissions'!B30=\"\",\"\",'Excess Emissions'!B30)","v":""},{"$f":"IF('Excess Emissions'!C30=\"\",\"\",'Excess Emissions'!C30)","v":""},{"$f":"IF('Excess Emissions'!D30=\"\",\"\",'Excess Emissions'!D30)","v":""},"",{"$f":"IF(COUNTIF(AE$2:AE8,AE8)=1,AC8,\"\")","v":""},"","","",null,{"$f":"+IF(AP8=\"\",\"\",MAX(AK$1:AK7)+1)","v":""},{"$f":"IF('CMS Downtime Detail'!B30=\"\",\"\",'CMS Downtime Detail'!B30)","v":""},{"$f":"IF('CMS Downtime Detail'!C30=\"\",\"\",'CMS Downtime Detail'!C30)","v":""},{"$f":"IF('CMS Downtime Detail'!D30=\"\",\"\",'CMS Downtime Detail'!D30)","v":""},"",{"$f":"IF(COUNTIF(AO$2:AO8,AO8)=1,AM8,\"\")","v":""},"","","",null,{"$f":"+IF(AZ8=\"\",\"\",MAX(AU$1:AU7)+1)","v":""},{"$f":"IF('Process and CMS Information'!B30=\"\",\"\",'Process and CMS Information'!B30)","v":""},{"$f":"IF('Process and CMS Information'!C30=\"\",\"\",'Process and CMS Information'!C30)","v":""},{"$f":"IF('Process and CMS Information'!F30=\"\",\"\",'Process and CMS Information'!F30)","v":""},"",{"$f":"IF(COUNTIF(AY$2:AY8,AY8)=1,AY8,\"\")","v":""},"","","","",null,null,null,null,null,null,null,null,null,null,null,null,null,null,null,null,null,null,null,null,"CO"]
[null,{"$f":"IF(C9=\"\",\"\",MAX(B$1:B8)+1)","v":""},{"$f":"+IF('Company Information'!B31=\"\",\"\",IF(COUNTIF('Company Information'!B31:$C$32,'Company Information'!B31)=1,'Company Information'!B31,\"\"))","v":""},"",{"$f":"IF(H9=\"\",\"\",MAX(E$1:E8)+1)","v":""},{"$f":"IF('Process and CMS Information'!C31=\"\",\"\",'Process and CMS Information'!C31)","v":""},"",{"$f":"IF(COUNTIF(F$2:F9,F9)=1,F9,\"\")","v":""},{"$f":"IF(L9=\"\",\"\",MAX(I$1:I8)+1)","v":""},{"$f":"IF('Process and CMS Information'!D30=\"\",\"\",'Process and CMS Information'!D30)","v":""},"",{"$f":"IF(COUNTIF(J$3:J9,J9)=1,J9,\"\")","v":""},{"$f":"IF('Periodic Performance Testing'!C31=\"\",\"\",'Periodic Performance Testing'!C31)","v":""},{"$f":"IF('Sterilization Chambers'!E31=\"\",\"\",'Sterilization Chambers'!E31)","v":""},{"$f":"IF('Sterilization Chambers'!I31=\"\",\"\",'Sterilization Chambers'!I31)","v":""},{"$f":"IF(Rooms!H31=\"\",\"\",Rooms!H31)","v":""},"pH",null,null,null,null,null,null,null,null,null,{"$f":"+IF(AF9=\"\",\"\",MAX(AA$1:AA8)+1)","v":""},{"$f":"IF('Excess Emissions'!B31=\"\",\"\",'Excess Emissions'!B31)","v":""},{"$f":"IF('Excess Emissions'!C31=\"\",\"\",'Excess Emissions'!C31)","v":""},{"$f":"IF('Excess Emissions'!D31=\"\",\"\",'Excess Emissions'!D31)","v":""},"",{"$f":"IF(COUNTIF(AE$2:AE9,AE9)=1,AC9,\"\")","v":""},"","","",null,{"$f":"+IF(AP9=\"\",\"\",MAX(AK$1:AK8)+1)","v":""},{"$f":"IF('CMS Downtime Detail'!B31=\"\",\"\",'CMS Downtime Detail'!B31)","v":""},{"$f":"IF('CMS Downtime Detail'!C31=\"\",\"\",'CMS Downtime Detail'!C31)","v":""},{"$f":"IF('CMS Downtime Detail'!D31=\"\",\"\",'CMS Downtime Detail'!D31)","v":""},"",{"$f":"IF(COUNTIF(AO$2:AO9,AO9)=1,AM9,\"\")","v":""},"","","",null,{"$f":"+IF(AZ9=\"\",\"\",MAX(AU$1:AU8)+1)","v":""},{"$f":"IF('Process and CMS Information'!B31=\"\",\"\",'Process and CMS Information'!B31)","v":""},{"$f":"IF('Process and CMS Information'!C31=\"\",\"\",'Process and CMS Information'!C31)","v":""},{"$f":"IF('Process and CMS Information'!F31=\"\",\"\",'Process and CMS Information'!F31)","v":""},"",{"$f":"IF(COUNTIF(AY$2:AY9,AY9)=1,AY9,\"\")","v":""},"","","","",null,null,null,null,null,null,null,null,null,null,null,null,null,null,null,null,null,null,null,null,"CT"]
[null,{"$f":"IF(C10=\"\",\"\",MAX(B$1:B9)+1)","v":""},{"$f":"+IF('Company Information'!B32=\"\",\"\",IF(COUNTIF('Company Information'!B32:$C$32,'Company Information'!B32)=1,'Company Information'!B32,\"\"))","v":""},"",{"$f":"IF(H10=\"\",\"\",MAX(E$1:E9)+1)","v":""},{"$f":"IF('Process and CMS Information'!C32=\"\",\"\",'Process and CMS Information'!C32)","v":""},"",{"$f":"IF(COUNTIF(F$2:F10,F10)=1,F10,\"\")","v":""},{"$f":"IF(L10=\"\",\"\",MAX(I$1:I9)+1)","v":""},{"$f":"IF('Process and CMS Information'!D31=\"\",\"\",'Process and CMS Information'!D31)","v":""},"",{"$f":"IF(COUNTIF(J$3:J10,J10)=1,J10,\"\")","v":""},{"$f":"IF('Periodic Performance Testing'!C32=\"\",\"\",'Periodic Performance Testing'!C32)","v":""},{"$f":"IF('Sterilization Chambers'!E32=\"\",\"\",'Sterilization Chambers'!E32)","v":""},{"$f":"IF('Sterilization Chambers'!I32=\"\",\"\",'Sterilization Chambers'!I32)","v":""},{"$f":"IF(Rooms!H32=\"\",\"\",Rooms!H32)","v":""},"ppm",null,null,null,null,null,null,null,null,null,{"$f":"+IF(AF10=\"\",\"\",MAX(AA$1:AA9)+1)","v":""},{"$f":"IF('Excess Emissions'!B32=\"\",\"\",'Excess Emissions'!B32)","v":""},{"$f":"IF('Excess Emissions'!C32=\"\",\"\",'Excess Emissions'!C32)","v":""},{"$f":"IF('Excess Emissions'!D32=\"\",\"\",'Excess Emissions'!D32)","v":""},"",{"$f":"IF(COUNTIF(AE$2:AE10,AE10)=1,AC10,\"\")","v":""},"","","",null,{"$f":"+IF(AP10=\"\",\"\",MAX(AK$1:AK9)+1)","v":""},{"$f":"IF('CMS Downtime Detail'!B32=\"\",\"\",'CMS Downtime Detail'!B32)","v":""},{"$f":"IF('CMS Downtime Detail'!C32=\"\",\"\",'CMS Downtime Detail'!C32)","v":""},{"$f":"IF('CMS Downtime Detail'!D32=\"\",\"\",'CMS Downtime Detail'!D32)","v":""},"",{"$f":"IF(COUNTIF(AO$2:AO10,AO10)=1,AM10,\"\")","v":""},"","","",null,{"$f":"+IF(AZ10=\"\",\"\",MAX(AU$1:AU9)+1)","v":""},{"$f":"IF('Process and CMS Information'!B32=\"\",\"\",'Process and CMS Information'!B32)","v":""},{"$f":"IF('Process and CMS Information'!C32=\"\",\"\",'Process and CMS Information'!C32)","v":""},{"$f":"IF('Process and CMS Information'!F32=\"\",\"\",'Process and CMS Information'!F32)","v":""},"",{"$f":"IF(COUNTIF(AY$2:AY10,AY10)=1,AY10,\"\")","v":""},"","","","",null,null,null,null,null,null,null,null,null,null,null,null,null,null,null,null,null,null,null,null,"DC"]
[null,{"$f":"IF(C11=\"\",\"\",MAX(B$1:B10)+1)","v":""},{"$f":"+IF('Company Information'!B33=\"\",\"\",IF(COUNTIF('Company Information'!B$32:$C33,'Company Information'!B33)=1,'Company Information'!B33,\"\"))","v":""},"",{"$f":"IF(H11=\"\",\"\",MAX(E$1:E10)+1)","v":""},{"$f":"IF('Process and CMS Information'!C33=\"\",\"\",'Process and CMS Information'!C33)","v":""},"",{"$f":"IF(COUNTIF(F$2:F11,F11)=1,F11,\"\")","v":""},{"$f":"IF(L11=\"\",\"\",MAX(I$1:I10)+1)","v":""},{"$f":"IF('Process and CMS Information'!D32=\"\",\"\",'Process and CMS Information'!D32)","v":""},"",{"$f":"IF(COUNTIF(J$3:J11,J11)=1,J11,\"\")","v":""},{"$f":"IF('Periodic Performance Testing'!C33=\"\",\"\",'Periodic Performance Testing'!C33)","v":""},{"$f":"IF('Sterilization Chambers'!E33=\"\",\"\",'Sterilization Chambers'!E33)","v":""},{"$f":"IF('Sterilization Chambers'!I33=\"\",\"\",'Sterilization Chambers'!I33)","v":""},{"$f":"IF(Rooms!H33=\"\",\"\",Rooms!H33)","v":""},null,null,null,null,null,null,null,null,null,null,{"$f":"+IF(AF11=\"\",\"\",MAX(AA$1:AA10)+1)","v":""},{"$f":"IF('Excess Emissions'!B33=\"\",\"\",'Excess Emissions'!B33)","v":""},{"$f":"IF('Excess Emissions'!C33=\"\",\"\",'Excess Emissions'!C33)","v":""},{"$f":"IF('Excess Emissions'!D33=\"\",\"\",'Excess Emissions'!D33)","v":""},"",{"$f":"IF(COUNTIF(AE$2:AE11,AE11)=1,AC11,\"\")","v":""},"","","",null,{"$f":"+IF(AP11=\"\",\"\",MAX(AK$1:AK10)+1)","v":""},{"$f":"IF('CMS Downtime Detail'!B33=\"\",\"\",'CMS Downtime Detail'!B33)","v":""},{"$f":"IF('CMS Downtime Detail'!C33=\"\",\"\",'CMS Downtime Detail'!C33)","v":""},{"$f":"IF('CMS Downtime Detail'!D33=\"\",\"\",'CMS Downtime Detail'!D33)","v":""},"",{"$f":"IF(COUNTIF(AO$2:AO11,AO11)=1,AM11,\"\")","v":""},"","","",null,{"$f":"+IF(AZ11=\"\",\"\",MAX(AU$1:AU10)+1)","v":""},{"$f":"IF('Process and CMS Information'!B33=\"\",\"\",'Process and CMS Information'!B33)","v":""},{"$f":"IF('Process and CMS Information'!C33=\"\",\"\",'Process and CMS Information'!C33)","v":""},{"$f":"IF('Process and CMS Information'!F33=\"\",\"\",'Process and CMS Information'!F33)","v":""},"",{"$f":"IF(COUNTIF(AY$2:AY11,AY11)=1,AY11,\"\")","v":""},"","","","",null,null,null,null,null,null,null,null,null,null,null,null,null,null,null,null,null,null,null,null,"DE"]
[null,null,null,null,{"$f":"IF(H12=\"\",\"\",MAX(E$1:E11)+1)","v":""},{"$f":"IF('Process and CMS Information'!C34=\"\",\"\",'Process and CMS Information'!C34)","v":""},"",{"$f":"IF(COUNTIF(F$2:F12,F12)=1,F12,\"\")","v":""},{"$f":"IF(L12=\"\",\"\",MAX(I$1:I11)+1)","v":""},{"$f":"IF('Process and CMS Information'!D33=\"\",\"\",'Process and CMS Information'!D33)","v":""},"",{"$f":"IF(COUNTIF(J$3:J12,J12)=1,J12,\"\")","v":""},{"$f":"IF('Periodic Performance Testing'!C34=\"\",\"\",'Periodic Performance Testing'!C34)","v":""},{"$f":"IF('Sterilization Chambers'!E34=\"\",\"\",'Sterilization Chambers'!E34)","v":""},{"$f":"IF('Sterilization Chambers'!I34=\"\",\"\",'Sterilization Chambers'!I34)","v":""},{"$f":"IF(Rooms!H34=\"\",\"\",Rooms!H34)","v":""},null,null,null,null,null,null,null,null,null,null,{"$f":"+IF(AF12=\"\",\"\",MAX(AA$1:AA11)+1)","v":""},{"$f":"IF('Excess Emissions'!B34=\"\",\"\",'Excess Emissions'!B34)","v":""},{"$f":"IF('Excess Emissions'!C34=\"\",\"\",'Excess Emissions'!C34)","v":""},{"$f":"IF('Excess Emissions'!D34=\"\",\"\",'Excess Emissions'!D34)","v":""},"",{"$f":"IF(COUNTIF(AE$2:AE12,AE12)=1,AC12,\"\")","v":""},"","","",null,{"$f":"+IF(AP12=\"\",\"\",MAX(AK$1:AK11)+1)","v":""},{"$f":"IF('CMS Downtime Detail'!B34=\"\",\"\",'CMS Downtime Detail'!B34)","v":""},{"$f":"IF('CMS Downtime Detail'!C34=\"\",\"\",'CMS Downtime Detail'!C34)","v":""},{"$f":"IF('CMS Downtime Detail'!D34=\"\",\"\",'CMS Downtime Detail'!D34)","v":""},"",{"$f":"IF(COUNTIF(AO$2:AO12,AO12)=1,AM12,\"\")","v":""},"","","",null,{"$f":"+IF(AZ12=\"\",\"\",MAX(AU$1:AU11)+1)","v":""},{"$f":"IF('Process and CMS Information'!B34=\"\",\"\",'Process and CMS Information'!B34)","v":""},{"$f":"IF('Process and CMS Information'!C34=\"\",\"\",'Process and CMS Information'!C34)","v":""},{"$f":"IF('Process and CMS Information'!F34=\"\",\"\",'Process and CMS Information'!F34)","v":""},"",{"$f":"IF(COUNTIF(AY$2:AY12,AY12)=1,AY12,\"\")","v":""},"","","","",null,null,null,null,null,null,null,null,null,null,null,null,null,null,null,null,null,null,null,null,"FL"]
[null,null,null,null,{"$f":"IF(H13=\"\",\"\",MAX(E$1:E12)+1)","v":""},{"$f":"IF('Process and CMS Information'!C35=\"\",\"\",'Process and CMS Information'!C35)","v":""},"",{"$f":"IF(COUNTIF(F$2:F13,F13)=1,F13,\"\")","v":""},{"$f":"IF(L13=\"\",\"\",MAX(I$1:I12)+1)","v":""},{"$f":"IF('Process and CMS Information'!D34=\"\",\"\",'Process and CMS Information'!D34)","v":""},"",{"$f":"IF(COUNTIF(J$3:J13,J13)=1,J13,\"\")","v":""},{"$f":"IF('Periodic Performance Testing'!C35=\"\",\"\",'Periodic Performance Testing'!C35)","v":""},{"$f":"IF('Sterilization Chambers'!E35=\"\",\"\",'Sterilization Chambers'!E35)","v":""},{"$f":"IF('Sterilization Chambers'!I35=\"\",\"\",'Sterilization Chambers'!I35)","v":""},{"$f":"IF(Rooms!H35=\"\",\"\",Rooms!H35)","v":""},null,null,null,null,null,null,null,null,null,null,{"$f":"+IF(AF13=\"\",\"\",MAX(AA$1:AA12)+1)","v":""},{"$f":"IF('Excess Emissions'!B35=\"\",\"\",'Excess Emissions'!B35)","v":""},{"$f":"IF('Excess Emissions'!C35=\"\",\"\",'Excess Emissions'!C35)","v":""},{"$f":"IF('Excess Emissions'!D35=\"\",\"\",'Excess Emissions'!D35)","v":""},"",{"$f":"IF(COUNTIF(AE$2:AE13,AE13)=1,AC13,\"\")","v":""},"","","",null,{"$f":"+IF(AP13=\"\",\"\",MAX(AK$1:AK12)+1)","v":""},{"$f":"IF('CMS Downtime Detail'!B35=\"\",\"\",'CMS Downtime Detail'!B35)","v":""},{"$f":"IF('CMS Downtime Detail'!C35=\"\",\"\",'CMS Downtime Detail'!C35)","v":""},{"$f":"IF('CMS Downtime Detail'!D35=\"\",\"\",'CMS Downtime Detail'!D35)","v":""},"",{"$f":"IF(COUNTIF(AO$2:AO13,AO13)=1,AM13,\"\")","v":""},"","","",null,{"$f":"+IF(AZ13=\"\",\"\",MAX(AU$1:AU12)+1)","v":""},{"$f":"IF('Process and CMS Information'!B35=\"\",\"\",'Process and CMS Information'!B35)","v":""},{"$f":"IF('Process and CMS Information'!C35=\"\",\"\",'Process and CMS Information'!C35)","v":""},{"$f":"IF('Process and CMS Information'!F35=\"\",\"\",'Process and CMS Information'!F35)","v":""},"",{"$f":"IF(COUNTIF(AY$2:AY13,AY13)=1,AY13,\"\")","v":""},"","","","",null,null,null,null,null,null,null,null,null,null,null,null,null,null,null,null,null,null,null,null,"GA"]
[null,null,null,null,{"$f":"IF(H14=\"\",\"\",MAX(E$1:E13)+1)","v":""},{"$f":"IF('Process and CMS Information'!C36=\"\",\"\",'Process and CMS Information'!C36)","v":""},"",{"$f":"IF(COUNTIF(F$2:F14,F14)=1,F14,\"\")","v":""},{"$f":"IF(L14=\"\",\"\",MAX(I$1:I13)+1)","v":""},{"$f":"IF('Process and CMS Information'!D35=\"\",\"\",'Process and CMS Information'!D35)","v":""},"",{"$f":"IF(COUNTIF(J$3:J14,J14)=1,J14,\"\")","v":""},{"$f":"IF('Periodic Performance Testing'!C36=\"\",\"\",'Periodic Performance Testing'!C36)","v":""},{"$f":"IF('Sterilization Chambers'!E36=\"\",\"\",'Sterilization Chambers'!E36)","v":""},{"$f":"IF('Sterilization Chambers'!I36=\"\",\"\",'Sterilization Chambers'!I36)","v":""},{"$f":"IF(Rooms!H36=\"\",\"\",Rooms!H36)","v":""},null,null,null,null,null,null,null,null,null,null,{"$f":"+IF(AF14=\"\",\"\",MAX(AA$1:AA13)+1)","v":""},{"$f":"IF('Excess Emissions'!B36=\"\",\"\",'Excess Emissions'!B36)","v":""},{"$f":"IF('Excess Emissions'!C36=\"\",\"\",'Excess Emissions'!C36)","v":""},{"$f":"IF('Excess Emissions'!D36=\"\",\"\",'Excess Emissions'!D36)","v":""},"",{"$f":"IF(COUNTIF(AE$2:AE14,AE14)=1,AC14,\"\")","v":""},"","","",null,{"$f":"+IF(AP14=\"\",\"\",MAX(AK$1:AK13)+1)","v":""},{"$f":"IF('CMS Downtime Detail'!B36=\"\",\"\",'CMS Downtime Detail'!B36)","v":""},{"$f":"IF('CMS Downtime Detail'!C36=\"\",\"\",'CMS Downtime Detail'!C36)","v":""},{"$f":"IF('CMS Downtime Detail'!D36=\"\",\"\",'CMS Downtime Detail'!D36)","v":""},"",{"$f":"IF(COUNTIF(AO$2:AO14,AO14)=1,AM14,\"\")","v":""},"","","",null,{"$f":"+IF(AZ14=\"\",\"\",MAX(AU$1:AU13)+1)","v":""},{"$f":"IF('Process and CMS Information'!B36=\"\",\"\",'Process and CMS Information'!B36)","v":""},{"$f":"IF('Process and CMS Information'!C36=\"\",\"\",'Process and CMS Information'!C36)","v":""},{"$f":"IF('Process and CMS Information'!F36=\"\",\"\",'Process and CMS Information'!F36)","v":""},"",{"$f":"IF(COUNTIF(AY$2:AY14,AY14)=1,AY14,\"\")","v":""},"","","","",null,null,null,null,null,null,null,null,null,null,null,null,null,null,null,null,null,null,null,null,"GU"]
[null,null,null,null,{"$f":"IF(H15=\"\",\"\",MAX(E$1:E14)+1)","v":""},{"$f":"IF('Process and CMS Information'!C37=\"\",\"\",'Process and CMS Information'!C37)","v":""},"",{"$f":"IF(COUNTIF(F$2:F15,F15)=1,F15,\"\")","v":""},{"$f":"IF(L15=\"\",\"\",MAX(I$1:I14)+1)","v":""},{"$f":"IF('Process and CMS Information'!D36=\"\",\"\",'Process and CMS Information'!D36)","v":""},"",{"$f":"IF(COUNTIF(J$3:J15,J15)=1,J15,\"\")","v":""},{"$f":"IF('Periodic Performance Testing'!C37=\"\",\"\",'Periodic Performance Testing'!C37)","v":""},{"$f":"IF('Sterilization Chambers'!E37=\"\",\"\",'Sterilization Chambers'!E37)","v":""},{"$f":"IF('Sterilization Chambers'!I37=\"\",\"\",'Sterilization Chambers'!I37)","v":""},{"$f":"IF(Rooms!H37=\"\",\"\",Rooms!H37)","v":""},null,null,null,null,null,null,null,null,null,null,{"$f":"+IF(AF15=\"\",\"\",MAX(AA$1:AA14)+1)","v":""},{"$f":"IF('Excess Emissions'!B37=\"\",\"\",'Excess Emissions'!B37)","v":""},{"$f":"IF('Excess Emissions'!C37=\"\",\"\",'Excess Emissions'!C37)","v":""},{"$f":"IF('Excess Emissions'!D37=\"\",\"\",'Excess Emissions'!D37)","v":""},"",{"$f":"IF(COUNTIF(AE$2:AE15,AE15)=1,AC15,\"\")","v":""},"","","",null,{"$f":"+IF(AP15=\"\",\"\",MAX(AK$1:AK14)+1)","v":""},{"$f":"IF('CMS Downtime Detail'!B37=\"\",\"\",'CMS Downtime Detail'!B37)","v":""},{"$f":"IF('CMS Downtime Detail'!C37=\"\",\"\",'CMS Downtime Detail'!C37)","v":""},{"$f":"IF('CMS Downtime Detail'!D37=\"\",\"\",'CMS Downtime Detail'!D37)","v":""},"",{"$f":"IF(COUNTIF(AO$2:AO15,AO15)=1,AM15,\"\")","v":""},"","","",null,{"$f":"+IF(AZ15=\"\",\"\",MAX(AU$1:AU14)+1)","v":""},{"$f":"IF('Process and CMS Information'!B37=\"\",\"\",'Process and CMS Information'!B37)","v":""},{"$f":"IF('Process and CMS Information'!C37=\"\",\"\",'Process and CMS Information'!C37)","v":""},{"$f":"IF('Process and CMS Information'!F37=\"\",\"\",'Process and CMS Information'!F37)","v":""},"",{"$f":"IF(COUNTIF(AY$2:AY15,AY15)=1,AY15,\"\")","v":""},"","","","",null,null,null,null,null,null,null,null,null,null,null,null,null,null,null,null,null,null,null,null,"HI"]
[null,null,null,null,{"$f":"IF(H16=\"\",\"\",MAX(E$1:E15)+1)","v":""},{"$f":"IF('Process and CMS Information'!C38=\"\",\"\",'Process and CMS Information'!C38)","v":""},"",{"$f":"IF(COUNTIF(F$2:F16,F16)=1,F16,\"\")","v":""},{"$f":"IF(L16=\"\",\"\",MAX(I$1:I15)+1)","v":""},{"$f":"IF('Process and CMS Information'!D37=\"\",\"\",'Process and CMS Information'!D37)","v":""},"",{"$f":"IF(COUNTIF(J$3:J16,J16)=1,J16,\"\")","v":""},{"$f":"IF('Periodic Performance Testing'!C38=\"\",\"\",'Periodic Performance Testing'!C38)","v":""},{"$f":"IF('Sterilization Chambers'!E38=\"\",\"\",'Sterilization Chambers'!E38)","v":""},{"$f":"IF('Sterilization Chambers'!I38=\"\",\"\",'Sterilization Chambers'!I38)","v":""},{"$f":"IF(Rooms!H38=\"\",\"\",Rooms!H38)","v":""},null,null,null,null,null,null,null,null,null,null,{"$f":"+IF(AF16=\"\",\"\",MAX(AA$1:AA15)+1)","v":""},{"$f":"IF('Excess Emissions'!B38=\"\",\"\",'Excess Emissions'!B38)","v":""},{"$f":"IF('Excess Emissions'!C38=\"\",\"\",'Excess Emissions'!C38)","v":""},{"$f":"IF('Excess Emissions'!D38=\"\",\"\",'Excess Emissions'!D38)","v":""},"",{"$f":"IF(COUNTIF(AE$2:AE16,AE16)=1,AC16,\"\")","v":""},"","","",null,{"$f":"+IF(AP16=\"\",\"\",MAX(AK$1:AK15)+1)","v":""},{"$f":"IF('CMS Downtime Detail'!B38=\"\",\"\",'CMS Downtime Detail'!B38)","v":""},{"$f":"IF('CMS Downtime Detail'!C38=\"\",\"\",'CMS Downtime Detail'!C38)","v":""},{"$f":"IF('CMS Downtime Detail'!D38=\"\",\"\",'CMS Downtime Detail'!D38)","v":""},"",{"$f":"IF(COUNTIF(AO$2:AO16,AO16)=1,AM16,\"\")","v":""},"","","",null,{"$f":"+IF(AZ16=\"\",\"\",MAX(AU$1:AU15)+1)","v":""},{"$f":"IF('Process and CMS Information'!B38=\"\",\"\",'Process and CMS Information'!B38)","v":""},{"$f":"IF('Process and CMS Information'!C38=\"\",\"\",'Process and CMS Information'!C38)","v":""},{"$f":"IF('Process and CMS Information'!F38=\"\",\"\",'Process and CMS Information'!F38)","v":""},"",{"$f":"IF(COUNTIF(AY$2:AY16,AY16)=1,AY16,\"\")","v":""},"","","","",null,null,null,null,null,null,null,null,null,null,null,null,null,null,null,null,null,null,null,null,"IA"]
[null,null,null,null,{"$f":"IF(H17=\"\",\"\",MAX(E$1:E16)+1)","v":""},{"$f":"IF('Process and CMS Information'!C39=\"\",\"\",'Process and CMS Information'!C39)","v":""},"",{"$f":"IF(COUNTIF(F$2:F17,F17)=1,F17,\"\")","v":""},{"$f":"IF(L17=\"\",\"\",MAX(I$1:I16)+1)","v":""},{"$f":"IF('Process and CMS Information'!D38=\"\",\"\",'Process and CMS Information'!D38)","v":""},"",{"$f":"IF(COUNTIF(J$3:J17,J17)=1,J17,\"\")","v":""},{"$f":"IF('Periodic Performance Testing'!C39=\"\",\"\",'Periodic Performance Testing'!C39)","v":""},{"$f":"IF('Sterilization Chambers'!E39=\"\",\"\",'Sterilization Chambers'!E39)","v":""},{"$f":"IF('Sterilization Chambers'!I39=\"\",\"\",'Sterilization Chambers'!I39)","v":""},{"$f":"IF(Rooms!H39=\"\",\"\",Rooms!H39)","v":""},null,null,null,null,null,null,null,null,null,null,{"$f":"+IF(AF17=\"\",\"\",MAX(AA$1:AA16)+1)","v":""},{"$f":"IF('Excess Emissions'!B39=\"\",\"\",'Excess Emissions'!B39)","v":""},{"$f":"IF('Excess Emissions'!C39=\"\",\"\",'Excess Emissions'!C39)","v":""},{"$f":"IF('Excess Emissions'!D39=\"\",\"\",'Excess Emissions'!D39)","v":""},"",{"$f":"IF(COUNTIF(AE$2:AE17,AE17)=1,AC17,\"\")","v":""},"","","",null,{"$f":"+IF(AP17=\"\",\"\",MAX(AK$1:AK16)+1)","v":""},{"$f":"IF('CMS Downtime Detail'!B39=\"\",\"\",'CMS Downtime Detail'!B39)","v":""},{"$f":"IF('CMS Downtime Detail'!C39=\"\",\"\",'CMS Downtime Detail'!C39)","v":""},{"$f":"IF('CMS Downtime Detail'!D39=\"\",\"\",'CMS Downtime Detail'!D39)","v":""},"",{"$f":"IF(COUNTIF(AO$2:AO17,AO17)=1,AM17,\"\")","v":""},"","","",null,{"$f":"+IF(AZ17=\"\",\"\",MAX(AU$1:AU16)+1)","v":""},{"$f":"IF('Process and CMS Information'!B39=\"\",\"\",'Process and CMS Information'!B39)","v":""},{"$f":"IF('Process and CMS Information'!C39=\"\",\"\",'Process and CMS Information'!C39)","v":""},{"$f":"IF('Process and CMS Information'!F39=\"\",\"\",'Process and CMS Information'!F39)","v":""},"",{"$f":"IF(COUNTIF(AY$2:AY17,AY17)=1,AY17,\"\")","v":""},"","","","",null,null,null,null,null,null,null,null,null,null,null,null,null,null,null,null,null,null,null,null,"ID"]
[null,null,null,null,{"$f":"IF(H18=\"\",\"\",MAX(E$1:E17)+1)","v":""},{"$f":"IF('Process and CMS Information'!C40=\"\",\"\",'Process and CMS Information'!C40)","v":""},"",{"$f":"IF(COUNTIF(F$2:F18,F18)=1,F18,\"\")","v":""},{"$f":"IF(L18=\"\",\"\",MAX(I$1:I17)+1)","v":""},{"$f":"IF('Process and CMS Information'!D39=\"\",\"\",'Process and CMS Information'!D39)","v":""},"",{"$f":"IF(COUNTIF(J$3:J18,J18)=1,J18,\"\")","v":""},{"$f":"IF('Periodic Performance Testing'!C40=\"\",\"\",'Periodic Performance Testing'!C40)","v":""},{"$f":"IF('Sterilization Chambers'!E40=\"\",\"\",'Sterilization Chambers'!E40)","v":""},{"$f":"IF('Sterilization Chambers'!I40=\"\",\"\",'Sterilization Chambers'!I40)","v":""},{"$f":"IF(Rooms!H40=\"\",\"\",Rooms!H40)","v":""},null,null,null,null,null,null,null,null,null,null,{"$f":"+IF(AF18=\"\",\"\",MAX(AA$1:AA17)+1)","v":""},{"$f":"IF('Excess Emissions'!B40=\"\",\"\",'Excess Emissions'!B40)","v":""},{"$f":"IF('Excess Emissions'!C40=\"\",\"\",'Excess Emissions'!C40)","v":""},{"$f":"IF('Excess Emissions'!D40=\"\",\"\",'Excess Emissions'!D40)","v":""},"",{"$f":"IF(COUNTIF(AE$2:AE18,AE18)=1,AC18,\"\")","v":""},"","","",null,{"$f":"+IF(AP18=\"\",\"\",MAX(AK$1:AK17)+1)","v":""},{"$f":"IF('CMS Downtime Detail'!B40=\"\",\"\",'CMS Downtime Detail'!B40)","v":""},{"$f":"IF('CMS Downtime Detail'!C40=\"\",\"\",'CMS Downtime Detail'!C40)","v":""},{"$f":"IF('CMS Downtime Detail'!D40=\"\",\"\",'CMS Downtime Detail'!D40)","v":""},"",{"$f":"IF(COUNTIF(AO$2:AO18,AO18)=1,AM18,\"\")","v":""},"","","",null,{"$f":"+IF(AZ18=\"\",\"\",MAX(AU$1:AU17)+1)","v":""},{"$f":"IF('Process and CMS Information'!B40=\"\",\"\",'Process and CMS Information'!B40)","v":""},{"$f":"IF('Process and CMS Information'!C40=\"\",\"\",'Process and CMS Information'!C40)","v":""},{"$f":"IF('Process and CMS Information'!F40=\"\",\"\",'Process and CMS Information'!F40)","v":""},"",{"$f":"IF(COUNTIF(AY$2:AY18,AY18)=1,AY18,\"\")","v":""},"","","","",null,null,null,null,null,null,null,null,null,null,null,null,null,null,null,null,null,null,null,null,"IL"]
[null,null,null,null,{"$f":"IF(H19=\"\",\"\",MAX(E$1:E18)+1)","v":""},{"$f":"IF('Process and CMS Information'!C41=\"\",\"\",'Process and CMS Information'!C41)","v":""},"",{"$f":"IF(COUNTIF(F$2:F19,F19)=1,F19,\"\")","v":""},{"$f":"IF(L19=\"\",\"\",MAX(I$1:I18)+1)","v":""},{"$f":"IF('Process and CMS Information'!D40=\"\",\"\",'Process and CMS Information'!D40)","v":""},"",{"$f":"IF(COUNTIF(J$3:J19,J19)=1,J19,\"\")","v":""},{"$f":"IF('Periodic Performance Testing'!C41=\"\",\"\",'Periodic Performance Testing'!C41)","v":""},{"$f":"IF('Sterilization Chambers'!E41=\"\",\"\",'Sterilization Chambers'!E41)","v":""},{"$f":"IF('Sterilization Chambers'!I41=\"\",\"\",'Sterilization Chambers'!I41)","v":""},{"$f":"IF(Rooms!H41=\"\",\"\",Rooms!H41)","v":""},null,null,null,null,null,null,null,null,null,null,{"$f":"+IF(AF19=\"\",\"\",MAX(AA$1:AA18)+1)","v":""},{"$f":"IF('Excess Emissions'!B41=\"\",\"\",'Excess Emissions'!B41)","v":""},{"$f":"IF('Excess Emissions'!C41=\"\",\"\",'Excess Emissions'!C41)","v":""},{"$f":"IF('Excess Emissions'!D41=\"\",\"\",'Excess Emissions'!D41)","v":""},"",{"$f":"IF(COUNTIF(AE$2:AE19,AE19)=1,AC19,\"\")","v":""},"","","",null,{"$f":"+IF(AP19=\"\",\"\",MAX(AK$1:AK18)+1)","v":""},{"$f":"IF('CMS Downtime Detail'!B41=\"\",\"\",'CMS Downtime Detail'!B41)","v":""},{"$f":"IF('CMS Downtime Detail'!C41=\"\",\"\",'CMS Downtime Detail'!C41)","v":""},{"$f":"IF('CMS Downtime Detail'!D41=\"\",\"\",'CMS Downtime Detail'!D41)","v":""},"",{"$f":"IF(COUNTIF(AO$2:AO19,AO19)=1,AM19,\"\")","v":""},"","","",null,{"$f":"+IF(AZ19=\"\",\"\",MAX(AU$1:AU18)+1)","v":""},{"$f":"IF('Process and CMS Information'!B41=\"\",\"\",'Process and CMS Information'!B41)","v":""},{"$f":"IF('Process and CMS Information'!C41=\"\",\"\",'Process and CMS Information'!C41)","v":""},{"$f":"IF('Process and CMS Information'!F41=\"\",\"\",'Process and CMS Information'!F41)","v":""},"",{"$f":"IF(COUNTIF(AY$2:AY19,AY19)=1,AY19,\"\")","v":""},"","","","",null,null,null,null,null,null,null,null,null,null,null,null,null,null,null,null,null,null,null,null,"IN"]
[null,null,null,null,{"$f":"IF(H20=\"\",\"\",MAX(E$1:E19)+1)","v":""},{"$f":"IF('Process and CMS Information'!C42=\"\",\"\",'Process and CMS Information'!C42)","v":""},"",{"$f":"IF(COUNTIF(F$2:F20,F20)=1,F20,\"\")","v":""},{"$f":"IF(L20=\"\",\"\",MAX(I$1:I19)+1)","v":""},{"$f":"IF('Process and CMS Information'!D41=\"\",\"\",'Process and CMS Information'!D41)","v":""},"",{"$f":"IF(COUNTIF(J$3:J20,J20)=1,J20,\"\")","v":""},{"$f":"IF('Periodic Performance Testing'!C42=\"\",\"\",'Periodic Performance Testing'!C42)","v":""},{"$f":"IF('Sterilization Chambers'!E42=\"\",\"\",'Sterilization Chambers'!E42)","v":""},{"$f":"IF('Sterilization Chambers'!I42=\"\",\"\",'Sterilization Chambers'!I42)","v":""},{"$f":"IF(Rooms!H42=\"\",\"\",Rooms!H42)","v":""},null,null,null,null,null,null,null,null,null,null,{"$f":"+IF(AF20=\"\",\"\",MAX(AA$1:AA19)+1)","v":""},{"$f":"IF('Excess Emissions'!B42=\"\",\"\",'Excess Emissions'!B42)","v":""},{"$f":"IF('Excess Emissions'!C42=\"\",\"\",'Excess Emissions'!C42)","v":""},{"$f":"IF('Excess Emissions'!D42=\"\",\"\",'Excess Emissions'!D42)","v":""},"",{"$f":"IF(COUNTIF(AE$2:AE20,AE20)=1,AC20,\"\")","v":""},"","","",null,{"$f":"+IF(AP20=\"\",\"\",MAX(AK$1:AK19)+1)","v":""},{"$f":"IF('CMS Downtime Detail'!B42=\"\",\"\",'CMS Downtime Detail'!B42)","v":""},{"$f":"IF('CMS Downtime Detail'!C42=\"\",\"\",'CMS Downtime Detail'!C42)","v":""},{"$f":"IF('CMS Downtime Detail'!D42=\"\",\"\",'CMS Downtime Detail'!D42)","v":""},"",{"$f":"IF(COUNTIF(AO$2:AO20,AO20)=1,AM20,\"\")","v":""},"","","",null,{"$f":"+IF(AZ20=\"\",\"\",MAX(AU$1:AU19)+1)","v":""},{"$f":"IF('Process and CMS Information'!B42=\"\",\"\",'Process and CMS Information'!B42)","v":""},{"$f":"IF('Process and CMS Information'!C42=\"\",\"\",'Process and CMS Information'!C42)","v":""},{"$f":"IF('Process and CMS Information'!F42=\"\",\"\",'Process and CMS Information'!F42)","v":""},"",{"$f":"IF(COUNTIF(AY$2:AY20,AY20)=1,AY20,\"\")","v":""},"","","","",null,null,null,null,null,null,null,null,null,null,null,null,null,null,null,null,null,null,null,null,"KS"]
[null,null,null,null,{"$f":"IF(H21=\"\",\"\",MAX(E$1:E20)+1)","v":""},{"$f":"IF('Process and CMS Information'!C43=\"\",\"\",'Process and CMS Information'!C43)","v":""},"",{"$f":"IF(COUNTIF(F$2:F21,F21)=1,F21,\"\")","v":""},{"$f":"IF(L21=\"\",\"\",MAX(I$1:I20)+1)","v":""},{"$f":"IF('Process and CMS Information'!D42=\"\",\"\",'Process and CMS Information'!D42)","v":""},"",{"$f":"IF(COUNTIF(J$3:J21,J21)=1,J21,\"\")","v":""},{"$f":"IF('Periodic Performance Testing'!C43=\"\",\"\",'Periodic Performance Testing'!C43)","v":""},{"$f":"IF('Sterilization Chambers'!E43=\"\",\"\",'Sterilization Chambers'!E43)","v":""},{"$f":"IF('Sterilization Chambers'!I43=\"\",\"\",'Sterilization Chambers'!I43)","v":""},{"$f":"IF(Rooms!H43=\"\",\"\",Rooms!H43)","v":""},null,null,null,null,null,null,null,null,null,null,{"$f":"+IF(AF21=\"\",\"\",MAX(AA$1:AA20)+1)","v":""},{"$f":"IF('Excess Emissions'!B43=\"\",\"\",'Excess Emissions'!B43)","v":""},{"$f":"IF('Excess Emissions'!C43=\"\",\"\",'Excess Emissions'!C43)","v":""},{"$f":"IF('Excess Emissions'!D43=\"\",\"\",'Excess Emissions'!D43)","v":""},"",{"$f":"IF(COUNTIF(AE$2:AE21,AE21)=1,AC21,\"\")","v":""},"","","",null,{"$f":"+IF(AP21=\"\",\"\",MAX(AK$1:AK20)+1)","v":""},{"$f":"IF('CMS Downtime Detail'!B43=\"\",\"\",'CMS Downtime Detail'!B43)","v":""},{"$f":"IF('CMS Downtime Detail'!C43=\"\",\"\",'CMS Downtime Detail'!C43)","v":""},{"$f":"IF('CMS Downtime Detail'!D43=\"\",\"\",'CMS Downtime Detail'!D43)","v":""},"",{"$f":"IF(COUNTIF(AO$2:AO21,AO21)=1,AM21,\"\")","v":""},"","","",null,{"$f":"+IF(AZ21=\"\",\"\",MAX(AU$1:AU20)+1)","v":""},{"$f":"IF('Process and CMS Information'!B43=\"\",\"\",'Process and CMS Information'!B43)","v":""},{"$f":"IF('Process and CMS Information'!C43=\"\",\"\",'Process and CMS Information'!C43)","v":""},{"$f":"IF('Process and CMS Information'!F43=\"\",\"\",'Process and CMS Information'!F43)","v":""},"",{"$f":"IF(COUNTIF(AY$2:AY21,AY21)=1,AY21,\"\")","v":""},"","","","",null,null,null,null,null,null,null,null,null,null,null,null,null,null,null,null,null,null,null,null,"KY"]
[null,null,null,null,{"$f":"IF(H22=\"\",\"\",MAX(E$1:E21)+1)","v":""},{"$f":"IF('Process and CMS Information'!C44=\"\",\"\",'Process and CMS Information'!C44)","v":""},"",{"$f":"IF(COUNTIF(F$2:F22,F22)=1,F22,\"\")","v":""},{"$f":"IF(L22=\"\",\"\",MAX(I$1:I21)+1)","v":""},{"$f":"IF('Process and CMS Information'!D43=\"\",\"\",'Process and CMS Information'!D43)","v":""},"",{"$f":"IF(COUNTIF(J$3:J22,J22)=1,J22,\"\")","v":""},{"$f":"IF('Periodic Performance Testing'!C44=\"\",\"\",'Periodic Performance Testing'!C44)","v":""},{"$f":"IF('Sterilization Chambers'!E44=\"\",\"\",'Sterilization Chambers'!E44)","v":""},{"$f":"IF('Sterilization Chambers'!I44=\"\",\"\",'Sterilization Chambers'!I44)","v":""},{"$f":"IF(Rooms!H44=\"\",\"\",Rooms!H44)","v":""},null,null,null,null,null,null,null,null,null,null,{"$f":"+IF(AF22=\"\",\"\",MAX(AA$1:AA21)+1)","v":""},{"$f":"IF('Excess Emissions'!B44=\"\",\"\",'Excess Emissions'!B44)","v":""},{"$f":"IF('Excess Emissions'!C44=\"\",\"\",'Excess Emissions'!C44)","v":""},{"$f":"IF('Excess Emissions'!D44=\"\",\"\",'Excess Emissions'!D44)","v":""},"",{"$f":"IF(COUNTIF(AE$2:AE22,AE22)=1,AC22,\"\")","v":""},"","","",null,{"$f":"+IF(AP22=\"\",\"\",MAX(AK$1:AK21)+1)","v":""},{"$f":"IF('CMS Downtime Detail'!B44=\"\",\"\",'CMS Downtime Detail'!B44)","v":""},{"$f":"IF('CMS Downtime Detail'!C44=\"\",\"\",'CMS Downtime Detail'!C44)","v":""},{"$f":"IF('CMS Downtime Detail'!D44=\"\",\"\",'CMS Downtime Detail'!D44)","v":""},"",{"$f":"IF(COUNTIF(AO$2:AO22,AO22)=1,AM22,\"\")","v":""},"","","",null,{"$f":"+IF(AZ22=\"\",\"\",MAX(AU$1:AU21)+1)","v":""},{"$f":"IF('Process and CMS Information'!B44=\"\",\"\",'Process and CMS Information'!B44)","v":""},{"$f":"IF('Process and CMS Information'!C44=\"\",\"\",'Process and CMS Information'!C44)","v":""},{"$f":"IF('Process and CMS Information'!F44=\"\",\"\",'Process and CMS Information'!F44)","v":""},"",{"$f":"IF(COUNTIF(AY$2:AY22,AY22)=1,AY22,\"\")","v":""},"","","","",null,null,null,null,null,null,null,null,null,null,null,null,null,null,null,null,null,null,null,null,"LA"]
[null,null,null,null,{"$f":"IF(H23=\"\",\"\",MAX(E$1:E22)+1)","v":""},{"$f":"IF('Process and CMS Information'!C45=\"\",\"\",'Process and CMS Information'!C45)","v":""},"",{"$f":"IF(COUNTIF(F$2:F23,F23)=1,F23,\"\")","v":""},{"$f":"IF(L23=\"\",\"\",MAX(I$1:I22)+1)","v":""},{"$f":"IF('Process and CMS Information'!D44=\"\",\"\",'Process and CMS Information'!D44)","v":""},"",{"$f":"IF(COUNTIF(J$3:J23,J23)=1,J23,\"\")","v":""},{"$f":"IF('Periodic Performance Testing'!C45=\"\",\"\",'Periodic Performance Testing'!C45)","v":""},{"$f":"IF('Sterilization Chambers'!E45=\"\",\"\",'Sterilization Chambers'!E45)","v":""},{"$f":"IF('Sterilization Chambers'!I45=\"\",\"\",'Sterilization Chambers'!I45)","v":""},{"$f":"IF(Rooms!H45=\"\",\"\",Rooms!H45)","v":""},null,null,null,null,null,null,null,null,null,null,{"$f":"+IF(AF23=\"\",\"\",MAX(AA$1:AA22)+1)","v":""},{"$f":"IF('Excess Emissions'!B45=\"\",\"\",'Excess Emissions'!B45)","v":""},{"$f":"IF('Excess Emissions'!C45=\"\",\"\",'Excess Emissions'!C45)","v":""},{"$f":"IF('Excess Emissions'!D45=\"\",\"\",'Excess Emissions'!D45)","v":""},"",{"$f":"IF(COUNTIF(AE$2:AE23,AE23)=1,AC23,\"\")","v":""},"","","",null,{"$f":"+IF(AP23=\"\",\"\",MAX(AK$1:AK22)+1)","v":""},{"$f":"IF('CMS Downtime Detail'!B45=\"\",\"\",'CMS Downtime Detail'!B45)","v":""},{"$f":"IF('CMS Downtime Detail'!C45=\"\",\"\",'CMS Downtime Detail'!C45)","v":""},{"$f":"IF('CMS Downtime Detail'!D45=\"\",\"\",'CMS Downtime Detail'!D45)","v":""},"",{"$f":"IF(COUNTIF(AO$2:AO23,AO23)=1,AM23,\"\")","v":""},"","","",null,{"$f":"+IF(AZ23=\"\",\"\",MAX(AU$1:AU22)+1)","v":""},{"$f":"IF('Process and CMS Information'!B45=\"\",\"\",'Process and CMS Information'!B45)","v":""},{"$f":"IF('Process and CMS Information'!C45=\"\",\"\",'Process and CMS Information'!C45)","v":""},{"$f":"IF('Process and CMS Information'!F45=\"\",\"\",'Process and CMS Information'!F45)","v":""},"",{"$f":"IF(COUNTIF(AY$2:AY23,AY23)=1,AY23,\"\")","v":""},"","","","",null,null,null,null,null,null,null,null,null,null,null,null,null,null,null,null,null,null,null,null,"MA"]
[null,null,null,null,{"$f":"IF(H24=\"\",\"\",MAX(E$1:E23)+1)","v":""},{"$f":"IF('Process and CMS Information'!C46=\"\",\"\",'Process and CMS Information'!C46)","v":""},"",{"$f":"IF(COUNTIF(F$2:F24,F24)=1,F24,\"\")","v":""},{"$f":"IF(L24=\"\",\"\",MAX(I$1:I23)+1)","v":""},{"$f":"IF('Process and CMS Information'!D45=\"\",\"\",'Process and CMS Information'!D45)","v":""},"",{"$f":"IF(COUNTIF(J$3:J24,J24)=1,J24,\"\")","v":""},{"$f":"IF('Periodic Performance Testing'!C46=\"\",\"\",'Periodic Performance Testing'!C46)","v":""},{"$f":"IF('Sterilization Chambers'!E46=\"\",\"\",'Sterilization Chambers'!E46)","v":""},{"$f":"IF('Sterilization Chambers'!I46=\"\",\"\",'Sterilization Chambers'!I46)","v":""},{"$f":"IF(Rooms!H46=\"\",\"\",Rooms!H46)","v":""},null,null,null,null,null,null,null,null,null,null,{"$f":"+IF(AF24=\"\",\"\",MAX(AA$1:AA23)+1)","v":""},{"$f":"IF('Excess Emissions'!B46=\"\",\"\",'Excess Emissions'!B46)","v":""},{"$f":"IF('Excess Emissions'!C46=\"\",\"\",'Excess Emissions'!C46)","v":""},{"$f":"IF('Excess Emissions'!D46=\"\",\"\",'Excess Emissions'!D46)","v":""},"",{"$f":"IF(COUNTIF(AE$2:AE24,AE24)=1,AC24,\"\")","v":""},"","","",null,{"$f":"+IF(AP24=\"\",\"\",MAX(AK$1:AK23)+1)","v":""},{"$f":"IF('CMS Downtime Detail'!B46=\"\",\"\",'CMS Downtime Detail'!B46)","v":""},{"$f":"IF('CMS Downtime Detail'!C46=\"\",\"\",'CMS Downtime Detail'!C46)","v":""},{"$f":"IF('CMS Downtime Detail'!D46=\"\",\"\",'CMS Downtime Detail'!D46)","v":""},"",{"$f":"IF(COUNTIF(AO$2:AO24,AO24)=1,AM24,\"\")","v":""},"","","",null,{"$f":"+IF(AZ24=\"\",\"\",MAX(AU$1:AU23)+1)","v":""},{"$f":"IF('Process and CMS Information'!B46=\"\",\"\",'Process and CMS Information'!B46)","v":""},{"$f":"IF('Process and CMS Information'!C46=\"\",\"\",'Process and CMS Information'!C46)","v":""},{"$f":"IF('Process and CMS Information'!F46=\"\",\"\",'Process and CMS Information'!F46)","v":""},"",{"$f":"IF(COUNTIF(AY$2:AY24,AY24)=1,AY24,\"\")","v":""},"","","","",null,null,null,null,null,null,null,null,null,null,null,null,null,null,null,null,null,null,null,null,"MD"]
[null,null,null,null,{"$f":"IF(H25=\"\",\"\",MAX(E$1:E24)+1)","v":""},{"$f":"IF('Process and CMS Information'!C47=\"\",\"\",'Process and CMS Information'!C47)","v":""},"",{"$f":"IF(COUNTIF(F$2:F25,F25)=1,F25,\"\")","v":""},{"$f":"IF(L25=\"\",\"\",MAX(I$1:I24)+1)","v":""},{"$f":"IF('Process and CMS Information'!D46=\"\",\"\",'Process and CMS Information'!D46)","v":""},"",{"$f":"IF(COUNTIF(J$3:J25,J25)=1,J25,\"\")","v":""},{"$f":"IF('Periodic Performance Testing'!C47=\"\",\"\",'Periodic Performance Testing'!C47)","v":""},{"$f":"IF('Sterilization Chambers'!E47=\"\",\"\",'Sterilization Chambers'!E47)","v":""},{"$f":"IF('Sterilization Chambers'!I47=\"\",\"\",'Sterilization Chambers'!I47)","v":""},{"$f":"IF(Rooms!H47=\"\",\"\",Rooms!H47)","v":""},null,null,null,null,null,null,null,null,null,null,{"$f":"+IF(AF25=\"\",\"\",MAX(AA$1:AA24)+1)","v":""},{"$f":"IF('Excess Emissions'!B47=\"\",\"\",'Excess Emissions'!B47)","v":""},{"$f":"IF('Excess Emissions'!C47=\"\",\"\",'Excess Emissions'!C47)","v":""},{"$f":"IF('Excess Emissions'!D47=\"\",\"\",'Excess Emissions'!D47)","v":""},"",{"$f":"IF(COUNTIF(AE$2:AE25,AE25)=1,AC25,\"\")","v":""},"","","",null,{"$f":"+IF(AP25=\"\",\"\",MAX(AK$1:AK24)+1)","v":""},{"$f":"IF('CMS Downtime Detail'!B47=\"\",\"\",'CMS Downtime Detail'!B47)","v":""},{"$f":"IF('CMS Downtime Detail'!C47=\"\",\"\",'CMS Downtime Detail'!C47)","v":""},{"$f":"IF('CMS Downtime Detail'!D47=\"\",\"\",'CMS Downtime Detail'!D47)","v":""},"",{"$f":"IF(COUNTIF(AO$2:AO25,AO25)=1,AM25,\"\")","v":""},"","","",null,{"$f":"+IF(AZ25=\"\",\"\",MAX(AU$1:AU24)+1)","v":""},{"$f":"IF('Process and CMS Information'!B47=\"\",\"\",'Process and CMS Information'!B47)","v":""},{"$f":"IF('Process and CMS Information'!C47=\"\",\"\",'Process and CMS Information'!C47)","v":""},{"$f":"IF('Process and CMS Information'!F47=\"\",\"\",'Process and CMS Information'!F47)","v":""},"",{"$f":"IF(COUNTIF(AY$2:AY25,AY25)=1,AY25,\"\")","v":""},"","","","",null,null,null,null,null,null,null,null,null,null,null,null,null,null,null,null,null,null,null,null,"ME"]
[null,null,null,null,{"$f":"IF(H26=\"\",\"\",MAX(E$1:E25)+1)","v":""},{"$f":"IF('Process and CMS Information'!C48=\"\",\"\",'Process and CMS Information'!C48)","v":""},"",{"$f":"IF(COUNTIF(F$2:F26,F26)=1,F26,\"\")","v":""},{"$f":"IF(L26=\"\",\"\",MAX(I$1:I25)+1)","v":""},{"$f":"IF('Process and CMS Information'!D47=\"\",\"\",'Process and CMS Information'!D47)","v":""},"",{"$f":"IF(COUNTIF(J$3:J26,J26)=1,J26,\"\")","v":""},{"$f":"IF('Periodic Performance Testing'!C48=\"\",\"\",'Periodic Performance Testing'!C48)","v":""},{"$f":"IF('Sterilization Chambers'!E48=\"\",\"\",'Sterilization Chambers'!E48)","v":""},{"$f":"IF('Sterilization Chambers'!I48=\"\",\"\",'Sterilization Chambers'!I48)","v":""},{"$f":"IF(Rooms!H48=\"\",\"\",Rooms!H48)","v":""},null,null,null,null,null,null,null,null,null,null,{"$f":"+IF(AF26=\"\",\"\",MAX(AA$1:AA25)+1)","v":""},{"$f":"IF('Excess Emissions'!B48=\"\",\"\",'Excess Emissions'!B48)","v":""},{"$f":"IF('Excess Emissions'!C48=\"\",\"\",'Excess Emissions'!C48)","v":""},{"$f":"IF('Excess Emissions'!D48=\"\",\"\",'Excess Emissions'!D48)","v":""},"",{"$f":"IF(COUNTIF(AE$2:AE26,AE26)=1,AC26,\"\")","v":""},"","","",null,{"$f":"+IF(AP26=\"\",\"\",MAX(AK$1:AK25)+1)","v":""},{"$f":"IF('CMS Downtime Detail'!B48=\"\",\"\",'CMS Downtime Detail'!B48)","v":""},{"$f":"IF('CMS Downtime Detail'!C48=\"\",\"\",'CMS Downtime Detail'!C48)","v":""},{"$f":"IF('CMS Downtime Detail'!D48=\"\",\"\",'CMS Downtime Detail'!D48)","v":""},"",{"$f":"IF(COUNTIF(AO$2:AO26,AO26)=1,AM26,\"\")","v":""},"","","",null,{"$f":"+IF(AZ26=\"\",\"\",MAX(AU$1:AU25)+1)","v":""},{"$f":"IF('Process and CMS Information'!B48=\"\",\"\",'Process and CMS Information'!B48)","v":""},{"$f":"IF('Process and CMS Information'!C48=\"\",\"\",'Process and CMS Information'!C48)","v":""},{"$f":"IF('Process and CMS Information'!F48=\"\",\"\",'Process and CMS Information'!F48)","v":""},"",{"$f":"IF(COUNTIF(AY$2:AY26,AY26)=1,AY26,\"\")","v":""},"","","","",null,null,null,null,null,null,null,null,null,null,null,null,null,null,null,null,null,null,null,null,"MI"]
[null,null,null,null,{"$f":"IF(H27=\"\",\"\",MAX(E$1:E26)+1)","v":""},{"$f":"IF('Process and CMS Information'!C49=\"\",\"\",'Process and CMS Information'!C49)","v":""},"",{"$f":"IF(COUNTIF(F$2:F27,F27)=1,F27,\"\")","v":""},{"$f":"IF(L27=\"\",\"\",MAX(I$1:I26)+1)","v":""},{"$f":"IF('Process and CMS Information'!D48=\"\",\"\",'Process and CMS Information'!D48)","v":""},"",{"$f":"IF(COUNTIF(J$3:J27,J27)=1,J27,\"\")","v":""},{"$f":"IF('Periodic Performance Testing'!C49=\"\",\"\",'Periodic Performance Testing'!C49)","v":""},{"$f":"IF('Sterilization Chambers'!E49=\"\",\"\",'Sterilization Chambers'!E49)","v":""},{"$f":"IF('Sterilization Chambers'!I49=\"\",\"\",'Sterilization Chambers'!I49)","v":""},{"$f":"IF(Rooms!H49=\"\",\"\",Rooms!H49)","v":""},null,null,null,null,null,null,null,null,null,null,{"$f":"+IF(AF27=\"\",\"\",MAX(AA$1:AA26)+1)","v":""},{"$f":"IF('Excess Emissions'!B49=\"\",\"\",'Excess Emissions'!B49)","v":""},{"$f":"IF('Excess Emissions'!C49=\"\",\"\",'Excess Emissions'!C49)","v":""},{"$f":"IF('Excess Emissions'!D49=\"\",\"\",'Excess Emissions'!D49)","v":""},"",{"$f":"IF(COUNTIF(AE$2:AE27,AE27)=1,AC27,\"\")","v":""},"","","",null,{"$f":"+IF(AP27=\"\",\"\",MAX(AK$1:AK26)+1)","v":""},{"$f":"IF('CMS Downtime Detail'!B49=\"\",\"\",'CMS Downtime Detail'!B49)","v":""},{"$f":"IF('CMS Downtime Detail'!C49=\"\",\"\",'CMS Downtime Detail'!C49)","v":""},{"$f":"IF('CMS Downtime Detail'!D49=\"\",\"\",'CMS Downtime Detail'!D49)","v":""},"",{"$f":"IF(COUNTIF(AO$2:AO27,AO27)=1,AM27,\"\")","v":""},"","","",null,{"$f":"+IF(AZ27=\"\",\"\",MAX(AU$1:AU26)+1)","v":""},{"$f":"IF('Process and CMS Information'!B49=\"\",\"\",'Process and CMS Information'!B49)","v":""},{"$f":"IF('Process and CMS Information'!C49=\"\",\"\",'Process and CMS Information'!C49)","v":""},{"$f":"IF('Process and CMS Information'!F49=\"\",\"\",'Process and CMS Information'!F49)","v":""},"",{"$f":"IF(COUNTIF(AY$2:AY27,AY27)=1,AY27,\"\")","v":""},"","","","",null,null,null,null,null,null,null,null,null,null,null,null,null,null,null,null,null,null,null,null,"MN"]
[null,null,null,null,{"$f":"IF(H28=\"\",\"\",MAX(E$1:E27)+1)","v":""},{"$f":"IF('Process and CMS Information'!C50=\"\",\"\",'Process and CMS Information'!C50)","v":""},"",{"$f":"IF(COUNTIF(F$2:F28,F28)=1,F28,\"\")","v":""},{"$f":"IF(L28=\"\",\"\",MAX(I$1:I27)+1)","v":""},{"$f":"IF('Process and CMS Information'!D49=\"\",\"\",'Process and CMS Information'!D49)","v":""},"",{"$f":"IF(COUNTIF(J$3:J28,J28)=1,J28,\"\")","v":""},{"$f":"IF('Periodic Performance Testing'!C50=\"\",\"\",'Periodic Performance Testing'!C50)","v":""},{"$f":"IF('Sterilization Chambers'!E50=\"\",\"\",'Sterilization Chambers'!E50)","v":""},{"$f":"IF('Sterilization Chambers'!I50=\"\",\"\",'Sterilization Chambers'!I50)","v":""},{"$f":"IF(Rooms!H50=\"\",\"\",Rooms!H50)","v":""},null,null,null,null,null,null,null,null,null,null,{"$f":"+IF(AF28=\"\",\"\",MAX(AA$1:AA27)+1)","v":""},{"$f":"IF('Excess Emissions'!B50=\"\",\"\",'Excess Emissions'!B50)","v":""},{"$f":"IF('Excess Emissions'!C50=\"\",\"\",'Excess Emissions'!C50)","v":""},{"$f":"IF('Excess Emissions'!D50=\"\",\"\",'Excess Emissions'!D50)","v":""},"",{"$f":"IF(COUNTIF(AE$2:AE28,AE28)=1,AC28,\"\")","v":""},"","","",null,{"$f":"+IF(AP28=\"\",\"\",MAX(AK$1:AK27)+1)","v":""},{"$f":"IF('CMS Downtime Detail'!B50=\"\",\"\",'CMS Downtime Detail'!B50)","v":""},{"$f":"IF('CMS Downtime Detail'!C50=\"\",\"\",'CMS Downtime Detail'!C50)","v":""},{"$f":"IF('CMS Downtime Detail'!D50=\"\",\"\",'CMS Downtime Detail'!D50)","v":""},"",{"$f":"IF(COUNTIF(AO$2:AO28,AO28)=1,AM28,\"\")","v":""},"","","",null,{"$f":"+IF(AZ28=\"\",\"\",MAX(AU$1:AU27)+1)","v":""},{"$f":"IF('Process and CMS Information'!B50=\"\",\"\",'Process and CMS Information'!B50)","v":""},{"$f":"IF('Process and CMS Information'!C50=\"\",\"\",'Process and CMS Information'!C50)","v":""},{"$f":"IF('Process and CMS Information'!F50=\"\",\"\",'Process and CMS Information'!F50)","v":""},"",{"$f":"IF(COUNTIF(AY$2:AY28,AY28)=1,AY28,\"\")","v":""},"","","","",null,null,null,null,null,null,null,null,null,null,null,null,null,null,null,null,null,null,null,null,"MO"]
[null,null,null,null,{"$f":"IF(H29=\"\",\"\",MAX(E$1:E28)+1)","v":""},{"$f":"IF('Process and CMS Information'!C51=\"\",\"\",'Process and CMS Information'!C51)","v":""},"",{"$f":"IF(COUNTIF(F$2:F29,F29)=1,F29,\"\")","v":""},{"$f":"IF(L29=\"\",\"\",MAX(I$1:I28)+1)","v":""},{"$f":"IF('Process and CMS Information'!D50=\"\",\"\",'Process and CMS Information'!D50)","v":""},"",{"$f":"IF(COUNTIF(J$3:J29,J29)=1,J29,\"\")","v":""},{"$f":"IF('Periodic Performance Testing'!C51=\"\",\"\",'Periodic Performance Testing'!C51)","v":""},{"$f":"IF('Sterilization Chambers'!E51=\"\",\"\",'Sterilization Chambers'!E51)","v":""},{"$f":"IF('Sterilization Chambers'!I51=\"\",\"\",'Sterilization Chambers'!I51)","v":""},{"$f":"IF(Rooms!H51=\"\",\"\",Rooms!H51)","v":""},null,null,null,null,null,null,null,null,null,null,{"$f":"+IF(AF29=\"\",\"\",MAX(AA$1:AA28)+1)","v":""},{"$f":"IF('Excess Emissions'!B51=\"\",\"\",'Excess Emissions'!B51)","v":""},{"$f":"IF('Excess Emissions'!C51=\"\",\"\",'Excess Emissions'!C51)","v":""},{"$f":"IF('Excess Emissions'!D51=\"\",\"\",'Excess Emissions'!D51)","v":""},"",{"$f":"IF(COUNTIF(AE$2:AE29,AE29)=1,AC29,\"\")","v":""},"","","",null,{"$f":"+IF(AP29=\"\",\"\",MAX(AK$1:AK28)+1)","v":""},{"$f":"IF('CMS Downtime Detail'!B51=\"\",\"\",'CMS Downtime Detail'!B51)","v":""},{"$f":"IF('CMS Downtime Detail'!C51=\"\",\"\",'CMS Downtime Detail'!C51)","v":""},{"$f":"IF('CMS Downtime Detail'!D51=\"\",\"\",'CMS Downtime Detail'!D51)","v":""},"",{"$f":"IF(COUNTIF(AO$2:AO29,AO29)=1,AM29,\"\")","v":""},"","","",null,{"$f":"+IF(AZ29=\"\",\"\",MAX(AU$1:AU28)+1)","v":""},{"$f":"IF('Process and CMS Information'!B51=\"\",\"\",'Process and CMS Information'!B51)","v":""},{"$f":"IF('Process and CMS Information'!C51=\"\",\"\",'Process and CMS Information'!C51)","v":""},{"$f":"IF('Process and CMS Information'!F51=\"\",\"\",'Process and CMS Information'!F51)","v":""},"",{"$f":"IF(COUNTIF(AY$2:AY29,AY29)=1,AY29,\"\")","v":""},"","","","",null,null,null,null,null,null,null,null,null,null,null,null,null,null,null,null,null,null,null,null,"MP"]
[null,null,null,null,{"$f":"IF(H30=\"\",\"\",MAX(E$1:E29)+1)","v":""},{"$f":"IF('Process and CMS Information'!C52=\"\",\"\",'Process and CMS Information'!C52)","v":""},"",{"$f":"IF(COUNTIF(F$2:F30,F30)=1,F30,\"\")","v":""},{"$f":"IF(L30=\"\",\"\",MAX(I$1:I29)+1)","v":""},{"$f":"IF('Process and CMS Information'!D51=\"\",\"\",'Process and CMS Information'!D51)","v":""},"",{"$f":"IF(COUNTIF(J$3:J30,J30)=1,J30,\"\")","v":""},{"$f":"IF('Periodic Performance Testing'!C52=\"\",\"\",'Periodic Performance Testing'!C52)","v":""},{"$f":"IF('Sterilization Chambers'!E52=\"\",\"\",'Sterilization Chambers'!E52)","v":""},{"$f":"IF('Sterilization Chambers'!I52=\"\",\"\",'Sterilization Chambers'!I52)","v":""},{"$f":"IF(Rooms!H52=\"\",\"\",Rooms!H52)","v":""},null,null,null,null,null,null,null,null,null,null,{"$f":"+IF(AF30=\"\",\"\",MAX(AA$1:AA29)+1)","v":""},{"$f":"IF('Excess Emissions'!B52=\"\",\"\",'Excess Emissions'!B52)","v":""},{"$f":"IF('Excess Emissions'!C52=\"\",\"\",'Excess Emissions'!C52)","v":""},{"$f":"IF('Excess Emissions'!D52=\"\",\"\",'Excess Emissions'!D52)","v":""},"",{"$f":"IF(COUNTIF(AE$2:AE30,AE30)=1,AC30,\"\")","v":""},"","","",null,{"$f":"+IF(AP30=\"\",\"\",MAX(AK$1:AK29)+1)","v":""},{"$f":"IF('CMS Downtime Detail'!B52=\"\",\"\",'CMS Downtime Detail'!B52)","v":""},{"$f":"IF('CMS Downtime Detail'!C52=\"\",\"\",'CMS Downtime Detail'!C52)","v":""},{"$f":"IF('CMS Downtime Detail'!D52=\"\",\"\",'CMS Downtime Detail'!D52)","v":""},"",{"$f":"IF(COUNTIF(AO$2:AO30,AO30)=1,AM30,\"\")","v":""},"","","",null,{"$f":"+IF(AZ30=\"\",\"\",MAX(AU$1:AU29)+1)","v":""},{"$f":"IF('Process and CMS Information'!B52=\"\",\"\",'Process and CMS Information'!B52)","v":""},{"$f":"IF('Process and CMS Information'!C52=\"\",\"\",'Process and CMS Information'!C52)","v":""},{"$f":"IF('Process and CMS Information'!F52=\"\",\"\",'Process and CMS Information'!F52)","v":""},"",{"$f":"IF(COUNTIF(AY$2:AY30,AY30)=1,AY30,\"\")","v":""},"","","","",null,null,null,null,null,null,null,null,null,null,null,null,null,null,null,null,null,null,null,null,"MS"]
[null,null,null,null,{"$f":"IF(H31=\"\",\"\",MAX(E$1:E30)+1)","v":""},{"$f":"IF('Process and CMS Information'!C53=\"\",\"\",'Process and CMS Information'!C53)","v":""},"",{"$f":"IF(COUNTIF(F$2:F31,F31)=1,F31,\"\")","v":""},{"$f":"IF(L31=\"\",\"\",MAX(I$1:I30)+1)","v":""},{"$f":"IF('Process and CMS Information'!D52=\"\",\"\",'Process and CMS Information'!D52)","v":""},"",{"$f":"IF(COUNTIF(J$3:J31,J31)=1,J31,\"\")","v":""},{"$f":"IF('Periodic Performance Testing'!C53=\"\",\"\",'Periodic Performance Testing'!C53)","v":""},{"$f":"IF('Sterilization Chambers'!E53=\"\",\"\",'Sterilization Chambers'!E53)","v":""},{"$f":"IF('Sterilization Chambers'!I53=\"\",\"\",'Sterilization Chambers'!I53)","v":""},{"$f":"IF(Rooms!H53=\"\",\"\",Rooms!H53)","v":""},null,null,null,null,null,null,null,null,null,null,{"$f":"+IF(AF31=\"\",\"\",MAX(AA$1:AA30)+1)","v":""},{"$f":"IF('Excess Emissions'!B53=\"\",\"\",'Excess Emissions'!B53)","v":""},{"$f":"IF('Excess Emissions'!C53=\"\",\"\",'Excess Emissions'!C53)","v":""},{"$f":"IF('Excess Emissions'!D53=\"\",\"\",'Excess Emissions'!D53)","v":""},"",{"$f":"IF(COUNTIF(AE$2:AE31,AE31)=1,AC31,\"\")","v":""},"","","",null,{"$f":"+IF(AP31=\"\",\"\",MAX(AK$1:AK30)+1)","v":""},{"$f":"IF('CMS Downtime Detail'!B53=\"\",\"\",'CMS Downtime Detail'!B53)","v":""},{"$f":"IF('CMS Downtime Detail'!C53=\"\",\"\",'CMS Downtime Detail'!C53)","v":""},{"$f":"IF('CMS Downtime Detail'!D53=\"\",\"\",'CMS Downtime Detail'!D53)","v":""},"",{"$f":"IF(COUNTIF(AO$2:AO31,AO31)=1,AM31,\"\")","v":""},"","","",null,{"$f":"+IF(AZ31=\"\",\"\",MAX(AU$1:AU30)+1)","v":""},{"$f":"IF('Process and CMS Information'!B53=\"\",\"\",'Process and CMS Information'!B53)","v":""},{"$f":"IF('Process and CMS Information'!C53=\"\",\"\",'Process and CMS Information'!C53)","v":""},{"$f":"IF('Process and CMS Information'!F53=\"\",\"\",'Process and CMS Information'!F53)","v":""},"",{"$f":"IF(COUNTIF(AY$2:AY31,AY31)=1,AY31,\"\")","v":""},"","","","",null,null,null,null,null,null,null,null,null,null,null,null,null,null,null,null,null,null,null,null,"MT"]
[null,null,null,null,{"$f":"IF(H32=\"\",\"\",MAX(E$1:E31)+1)","v":""},{"$f":"IF('Process and CMS Information'!C54=\"\",\"\",'Process and CMS Information'!C54)","v":""},"",{"$f":"IF(COUNTIF(F$2:F32,F32)=1,F32,\"\")","v":""},{"$f":"IF(L32=\"\",\"\",MAX(I$1:I31)+1)","v":""},{"$f":"IF('Process and CMS Information'!D53=\"\",\"\",'Process and CMS Information'!D53)","v":""},"",{"$f":"IF(COUNTIF(J$3:J32,J32)=1,J32,\"\")","v":""},{"$f":"IF('Periodic Performance Testing'!C54=\"\",\"\",'Periodic Performance Testing'!C54)","v":""},{"$f":"IF('Sterilization Chambers'!E54=\"\",\"\",'Sterilization Chambers'!E54)","v":""},{"$f":"IF('Sterilization Chambers'!I54=\"\",\"\",'Sterilization Chambers'!I54)","v":""},{"$f":"IF(Rooms!H54=\"\",\"\",Rooms!H54)","v":""},null,null,null,null,null,null,null,null,null,null,{"$f":"+IF(AF32=\"\",\"\",MAX(AA$1:AA31)+1)","v":""},{"$f":"IF('Excess Emissions'!B54=\"\",\"\",'Excess Emissions'!B54)","v":""},{"$f":"IF('Excess Emissions'!C54=\"\",\"\",'Excess Emissions'!C54)","v":""},{"$f":"IF('Excess Emissions'!D54=\"\",\"\",'Excess Emissions'!D54)","v":""},"",{"$f":"IF(COUNTIF(AE$2:AE32,AE32)=1,AC32,\"\")","v":""},"","","",null,{"$f":"+IF(AP32=\"\",\"\",MAX(AK$1:AK31)+1)","v":""},{"$f":"IF('CMS Downtime Detail'!B54=\"\",\"\",'CMS Downtime Detail'!B54)","v":""},{"$f":"IF('CMS Downtime Detail'!C54=\"\",\"\",'CMS Downtime Detail'!C54)","v":""},{"$f":"IF('CMS Downtime Detail'!D54=\"\",\"\",'CMS Downtime Detail'!D54)","v":""},"",{"$f":"IF(COUNTIF(AO$2:AO32,AO32)=1,AM32,\"\")","v":""},"","","",null,{"$f":"+IF(AZ32=\"\",\"\",MAX(AU$1:AU31)+1)","v":""},{"$f":"IF('Process and CMS Information'!B54=\"\",\"\",'Process and CMS Information'!B54)","v":""},{"$f":"IF('Process and CMS Information'!C54=\"\",\"\",'Process and CMS Information'!C54)","v":""},{"$f":"IF('Process and CMS Information'!F54=\"\",\"\",'Process and CMS Information'!F54)","v":""},"",{"$f":"IF(COUNTIF(AY$2:AY32,AY32)=1,AY32,\"\")","v":""},"","","","",null,null,null,null,null,null,null,null,null,null,null,null,null,null,null,null,null,null,null,null,"NC"]
[null,null,null,null,{"$f":"IF(H33=\"\",\"\",MAX(E$1:E32)+1)","v":""},{"$f":"IF('Process and CMS Information'!C55=\"\",\"\",'Process and CMS Information'!C55)","v":""},"",{"$f":"IF(COUNTIF(F$2:F33,F33)=1,F33,\"\")","v":""},{"$f":"IF(L33=\"\",\"\",MAX(I$1:I32)+1)","v":""},{"$f":"IF('Process and CMS Information'!D54=\"\",\"\",'Process and CMS Information'!D54)","v":""},"",{"$f":"IF(COUNTIF(J$3:J33,J33)=1,J33,\"\")","v":""},{"$f":"IF('Periodic Performance Testing'!C55=\"\",\"\",'Periodic Performance Testing'!C55)","v":""},{"$f":"IF('Sterilization Chambers'!E55=\"\",\"\",'Sterilization Chambers'!E55)","v":""},{"$f":"IF('Sterilization Chambers'!I55=\"\",\"\",'Sterilization Chambers'!I55)","v":""},{"$f":"IF(Rooms!H55=\"\",\"\",Rooms!H55)","v":""},null,null,null,null,null,null,null,null,null,null,{"$f":"+IF(AF33=\"\",\"\",MAX(AA$1:AA32)+1)","v":""},{"$f":"IF('Excess Emissions'!B55=\"\",\"\",'Excess Emissions'!B55)","v":""},{"$f":"IF('Excess Emissions'!C55=\"\",\"\",'Excess Emissions'!C55)","v":""},{"$f":"IF('Excess Emissions'!D55=\"\",\"\",'Excess Emissions'!D55)","v":""},"",{"$f":"IF(COUNTIF(AE$2:AE33,AE33)=1,AC33,\"\")","v":""},"","","",null,{"$f":"+IF(AP33=\"\",\"\",MAX(AK$1:AK32)+1)","v":""},{"$f":"IF('CMS Downtime Detail'!B55=\"\",\"\",'CMS Downtime Detail'!B55)","v":""},{"$f":"IF('CMS Downtime Detail'!C55=\"\",\"\",'CMS Downtime Detail'!C55)","v":""},{"$f":"IF('CMS Downtime Detail'!D55=\"\",\"\",'CMS Downtime Detail'!D55)","v":""},"",{"$f":"IF(COUNTIF(AO$2:AO33,AO33)=1,AM33,\"\")","v":""},"","","",null,{"$f":"+IF(AZ33=\"\",\"\",MAX(AU$1:AU32)+1)","v":""},{"$f":"IF('Process and CMS Information'!B55=\"\",\"\",'Process and CMS Information'!B55)","v":""},{"$f":"IF('Process and CMS Information'!C55=\"\",\"\",'Process and CMS Information'!C55)","v":""},{"$f":"IF('Process and CMS Information'!F55=\"\",\"\",'Process and CMS Information'!F55)","v":""},"",{"$f":"IF(COUNTIF(AY$2:AY33,AY33)=1,AY33,\"\")","v":""},"","","","",null,null,null,null,null,null,null,null,null,null,null,null,null,null,null,null,null,null,null,null,"ND"]
[null,null,null,null,{"$f":"IF(H34=\"\",\"\",MAX(E$1:E33)+1)","v":""},{"$f":"IF('Process and CMS Information'!C56=\"\",\"\",'Process and CMS Information'!C56)","v":""},"",{"$f":"IF(COUNTIF(F$2:F34,F34)=1,F34,\"\")","v":""},{"$f":"IF(L34=\"\",\"\",MAX(I$1:I33)+1)","v":""},{"$f":"IF('Process and CMS Information'!D55=\"\",\"\",'Process and CMS Information'!D55)","v":""},"",{"$f":"IF(COUNTIF(J$3:J34,J34)=1,J34,\"\")","v":""},{"$f":"IF('Periodic Performance Testing'!C56=\"\",\"\",'Periodic Performance Testing'!C56)","v":""},{"$f":"IF('Sterilization Chambers'!E56=\"\",\"\",'Sterilization Chambers'!E56)","v":""},{"$f":"IF('Sterilization Chambers'!I56=\"\",\"\",'Sterilization Chambers'!I56)","v":""},{"$f":"IF(Rooms!H56=\"\",\"\",Rooms!H56)","v":""},null,null,null,null,null,null,null,null,null,null,{"$f":"+IF(AF34=\"\",\"\",MAX(AA$1:AA33)+1)","v":""},{"$f":"IF('Excess Emissions'!B56=\"\",\"\",'Excess Emissions'!B56)","v":""},{"$f":"IF('Excess Emissions'!C56=\"\",\"\",'Excess Emissions'!C56)","v":""},{"$f":"IF('Excess Emissions'!D56=\"\",\"\",'Excess Emissions'!D56)","v":""},"",{"$f":"IF(COUNTIF(AE$2:AE34,AE34)=1,AC34,\"\")","v":""},"","","",null,{"$f":"+IF(AP34=\"\",\"\",MAX(AK$1:AK33)+1)","v":""},{"$f":"IF('CMS Downtime Detail'!B56=\"\",\"\",'CMS Downtime Detail'!B56)","v":""},{"$f":"IF('CMS Downtime Detail'!C56=\"\",\"\",'CMS Downtime Detail'!C56)","v":""},{"$f":"IF('CMS Downtime Detail'!D56=\"\",\"\",'CMS Downtime Detail'!D56)","v":""},"",{"$f":"IF(COUNTIF(AO$2:AO34,AO34)=1,AM34,\"\")","v":""},"","","",null,{"$f":"+IF(AZ34=\"\",\"\",MAX(AU$1:AU33)+1)","v":""},{"$f":"IF('Process and CMS Information'!B56=\"\",\"\",'Process and CMS Information'!B56)","v":""},{"$f":"IF('Process and CMS Information'!C56=\"\",\"\",'Process and CMS Information'!C56)","v":""},{"$f":"IF('Process and CMS Information'!F56=\"\",\"\",'Process and CMS Information'!F56)","v":""},"",{"$f":"IF(COUNTIF(AY$2:AY34,AY34)=1,AY34,\"\")","v":""},"","","","",null,null,null,null,null,null,null,null,null,null,null,null,null,null,null,null,null,null,null,null,"NE"]
[null,null,null,null,{"$f":"IF(H35=\"\",\"\",MAX(E$1:E34)+1)","v":""},{"$f":"IF('Process and CMS Information'!C57=\"\",\"\",'Process and CMS Information'!C57)","v":""},"",{"$f":"IF(COUNTIF(F$2:F35,F35)=1,F35,\"\")","v":""},{"$f":"IF(L35=\"\",\"\",MAX(I$1:I34)+1)","v":""},{"$f":"IF('Process and CMS Information'!D56=\"\",\"\",'Process and CMS Information'!D56)","v":""},"",{"$f":"IF(COUNTIF(J$3:J35,J35)=1,J35,\"\")","v":""},{"$f":"IF('Periodic Performance Testing'!C57=\"\",\"\",'Periodic Performance Testing'!C57)","v":""},{"$f":"IF('Sterilization Chambers'!E57=\"\",\"\",'Sterilization Chambers'!E57)","v":""},{"$f":"IF('Sterilization Chambers'!I57=\"\",\"\",'Sterilization Chambers'!I57)","v":""},{"$f":"IF(Rooms!H57=\"\",\"\",Rooms!H57)","v":""},null,null,null,null,null,null,null,null,null,null,{"$f":"+IF(AF35=\"\",\"\",MAX(AA$1:AA34)+1)","v":""},{"$f":"IF('Excess Emissions'!B57=\"\",\"\",'Excess Emissions'!B57)","v":""},{"$f":"IF('Excess Emissions'!C57=\"\",\"\",'Excess Emissions'!C57)","v":""},{"$f":"IF('Excess Emissions'!D57=\"\",\"\",'Excess Emissions'!D57)","v":""},"",{"$f":"IF(COUNTIF(AE$2:AE35,AE35)=1,AC35,\"\")","v":""},"","","",null,{"$f":"+IF(AP35=\"\",\"\",MAX(AK$1:AK34)+1)","v":""},{"$f":"IF('CMS Downtime Detail'!B57=\"\",\"\",'CMS Downtime Detail'!B57)","v":""},{"$f":"IF('CMS Downtime Detail'!C57=\"\",\"\",'CMS Downtime Detail'!C57)","v":""},{"$f":"IF('CMS Downtime Detail'!D57=\"\",\"\",'CMS Downtime Detail'!D57)","v":""},"",{"$f":"IF(COUNTIF(AO$2:AO35,AO35)=1,AM35,\"\")","v":""},"","","",null,{"$f":"+IF(AZ35=\"\",\"\",MAX(AU$1:AU34)+1)","v":""},{"$f":"IF('Process and CMS Information'!B57=\"\",\"\",'Process and CMS Information'!B57)","v":""},{"$f":"IF('Process and CMS Information'!C57=\"\",\"\",'Process and CMS Information'!C57)","v":""},{"$f":"IF('Process and CMS Information'!F57=\"\",\"\",'Process and CMS Information'!F57)","v":""},"",{"$f":"IF(COUNTIF(AY$2:AY35,AY35)=1,AY35,\"\")","v":""},"","","","",null,null,null,null,null,null,null,null,null,null,null,null,null,null,null,null,null,null,null,null,"NH"]
[null,null,null,null,{"$f":"IF(H36=\"\",\"\",MAX(E$1:E35)+1)","v":""},{"$f":"IF('Process and CMS Information'!C58=\"\",\"\",'Process and CMS Information'!C58)","v":""},"",{"$f":"IF(COUNTIF(F$2:F36,F36)=1,F36,\"\")","v":""},{"$f":"IF(L36=\"\",\"\",MAX(I$1:I35)+1)","v":""},{"$f":"IF('Process and CMS Information'!D57=\"\",\"\",'Process and CMS Information'!D57)","v":""},"",{"$f":"IF(COUNTIF(J$3:J36,J36)=1,J36,\"\")","v":""},{"$f":"IF('Periodic Performance Testing'!C58=\"\",\"\",'Periodic Performance Testing'!C58)","v":""},{"$f":"IF('Sterilization Chambers'!E58=\"\",\"\",'Sterilization Chambers'!E58)","v":""},{"$f":"IF('Sterilization Chambers'!I58=\"\",\"\",'Sterilization Chambers'!I58)","v":""},{"$f":"IF(Rooms!H58=\"\",\"\",Rooms!H58)","v":""},null,null,null,null,null,null,null,null,null,null,{"$f":"+IF(AF36=\"\",\"\",MAX(AA$1:AA35)+1)","v":""},{"$f":"IF('Excess Emissions'!B58=\"\",\"\",'Excess Emissions'!B58)","v":""},{"$f":"IF('Excess Emissions'!C58=\"\",\"\",'Excess Emissions'!C58)","v":""},{"$f":"IF('Excess Emissions'!D58=\"\",\"\",'Excess Emissions'!D58)","v":""},"",{"$f":"IF(COUNTIF(AE$2:AE36,AE36)=1,AC36,\"\")","v":""},"","","",null,{"$f":"+IF(AP36=\"\",\"\",MAX(AK$1:AK35)+1)","v":""},{"$f":"IF('CMS Downtime Detail'!B58=\"\",\"\",'CMS Downtime Detail'!B58)","v":""},{"$f":"IF('CMS Downtime Detail'!C58=\"\",\"\",'CMS Downtime Detail'!C58)","v":""},{"$f":"IF('CMS Downtime Detail'!D58=\"\",\"\",'CMS Downtime Detail'!D58)","v":""},"",{"$f":"IF(COUNTIF(AO$2:AO36,AO36)=1,AM36,\"\")","v":""},"","","",null,{"$f":"+IF(AZ36=\"\",\"\",MAX(AU$1:AU35)+1)","v":""},{"$f":"IF('Process and CMS Information'!B58=\"\",\"\",'Process and CMS Information'!B58)","v":""},{"$f":"IF('Process and CMS Information'!C58=\"\",\"\",'Process and CMS Information'!C58)","v":""},{"$f":"IF('Process and CMS Information'!F58=\"\",\"\",'Process and CMS Information'!F58)","v":""},"",{"$f":"IF(COUNTIF(AY$2:AY36,AY36)=1,AY36,\"\")","v":""},"","","","",null,null,null,null,null,null,null,null,null,null,null,null,null,null,null,null,null,null,null,null,"NJ"]
[null,null,null,null,{"$f":"IF(H37=\"\",\"\",MAX(E$1:E36)+1)","v":""},{"$f":"IF('Process and CMS Information'!C59=\"\",\"\",'Process and CMS Information'!C59)","v":""},"",{"$f":"IF(COUNTIF(F$2:F37,F37)=1,F37,\"\")","v":""},{"$f":"IF(L37=\"\",\"\",MAX(I$1:I36)+1)","v":""},{"$f":"IF('Process and CMS Information'!D58=\"\",\"\",'Process and CMS Information'!D58)","v":""},"",{"$f":"IF(COUNTIF(J$3:J37,J37)=1,J37,\"\")","v":""},{"$f":"IF('Periodic Performance Testing'!C59=\"\",\"\",'Periodic Performance Testing'!C59)","v":""},{"$f":"IF('Sterilization Chambers'!E59=\"\",\"\",'Sterilization Chambers'!E59)","v":""},{"$f":"IF('Sterilization Chambers'!I59=\"\",\"\",'Sterilization Chambers'!I59)","v":""},{"$f":"IF(Rooms!H59=\"\",\"\",Rooms!H59)","v":""},null,null,null,null,null,null,null,null,null,null,{"$f":"+IF(AF37=\"\",\"\",MAX(AA$1:AA36)+1)","v":""},{"$f":"IF('Excess Emissions'!B59=\"\",\"\",'Excess Emissions'!B59)","v":""},{"$f":"IF('Excess Emissions'!C59=\"\",\"\",'Excess Emissions'!C59)","v":""},{"$f":"IF('Excess Emissions'!D59=\"\",\"\",'Excess Emissions'!D59)","v":""},"",{"$f":"IF(COUNTIF(AE$2:AE37,AE37)=1,AC37,\"\")","v":""},"","","",null,{"$f":"+IF(AP37=\"\",\"\",MAX(AK$1:AK36)+1)","v":""},{"$f":"IF('CMS Downtime Detail'!B59=\"\",\"\",'CMS Downtime Detail'!B59)","v":""},{"$f":"IF('CMS Downtime Detail'!C59=\"\",\"\",'CMS Downtime Detail'!C59)","v":""},{"$f":"IF('CMS Downtime Detail'!D59=\"\",\"\",'CMS Downtime Detail'!D59)","v":""},"",{"$f":"IF(COUNTIF(AO$2:AO37,AO37)=1,AM37,\"\")","v":""},"","","",null,{"$f":"+IF(AZ37=\"\",\"\",MAX(AU$1:AU36)+1)","v":""},{"$f":"IF('Process and CMS Information'!B59=\"\",\"\",'Process and CMS Information'!B59)","v":""},{"$f":"IF('Process and CMS Information'!C59=\"\",\"\",'Process and CMS Information'!C59)","v":""},{"$f":"IF('Process and CMS Information'!F59=\"\",\"\",'Process and CMS Information'!F59)","v":""},"",{"$f":"IF(COUNTIF(AY$2:AY37,AY37)=1,AY37,\"\")","v":""},"","","","",null,null,null,null,null,null,null,null,null,null,null,null,null,null,null,null,null,null,null,null,"NM"]
[null,null,null,null,{"$f":"IF(H38=\"\",\"\",MAX(E$1:E37)+1)","v":""},{"$f":"IF('Process and CMS Information'!C60=\"\",\"\",'Process and CMS Information'!C60)","v":""},"",{"$f":"IF(COUNTIF(F$2:F38,F38)=1,F38,\"\")","v":""},{"$f":"IF(L38=\"\",\"\",MAX(I$1:I37)+1)","v":""},{"$f":"IF('Process and CMS Information'!D59=\"\",\"\",'Process and CMS Information'!D59)","v":""},"",{"$f":"IF(COUNTIF(J$3:J38,J38)=1,J38,\"\")","v":""},{"$f":"IF('Periodic Performance Testing'!C60=\"\",\"\",'Periodic Performance Testing'!C60)","v":""},{"$f":"IF('Sterilization Chambers'!E60=\"\",\"\",'Sterilization Chambers'!E60)","v":""},{"$f":"IF('Sterilization Chambers'!I60=\"\",\"\",'Sterilization Chambers'!I60)","v":""},{"$f":"IF(Rooms!H60=\"\",\"\",Rooms!H60)","v":""},null,null,null,null,null,null,null,null,null,null,{"$f":"+IF(AF38=\"\",\"\",MAX(AA$1:AA37)+1)","v":""},{"$f":"IF('Excess Emissions'!B60=\"\",\"\",'Excess Emissions'!B60)","v":""},{"$f":"IF('Excess Emissions'!C60=\"\",\"\",'Excess Emissions'!C60)","v":""},{"$f":"IF('Excess Emissions'!D60=\"\",\"\",'Excess Emissions'!D60)","v":""},"",{"$f":"IF(COUNTIF(AE$2:AE38,AE38)=1,AC38,\"\")","v":""},"","","",null,{"$f":"+IF(AP38=\"\",\"\",MAX(AK$1:AK37)+1)","v":""},{"$f":"IF('CMS Downtime Detail'!B60=\"\",\"\",'CMS Downtime Detail'!B60)","v":""},{"$f":"IF('CMS Downtime Detail'!C60=\"\",\"\",'CMS Downtime Detail'!C60)","v":""},{"$f":"IF('CMS Downtime Detail'!D60=\"\",\"\",'CMS Downtime Detail'!D60)","v":""},"",{"$f":"IF(COUNTIF(AO$2:AO38,AO38)=1,AM38,\"\")","v":""},"","","",null,{"$f":"+IF(AZ38=\"\",\"\",MAX(AU$1:AU37)+1)","v":""},{"$f":"IF('Process and CMS Information'!B60=\"\",\"\",'Process and CMS Information'!B60)","v":""},{"$f":"IF('Process and CMS Information'!C60=\"\",\"\",'Process and CMS Information'!C60)","v":""},{"$f":"IF('Process and CMS Information'!F60=\"\",\"\",'Process and CMS Information'!F60)","v":""},"",{"$f":"IF(COUNTIF(AY$2:AY38,AY38)=1,AY38,\"\")","v":""},"","","","",null,null,null,null,null,null,null,null,null,null,null,null,null,null,null,null,null,null,null,null,"NV"]
[null,null,null,null,{"$f":"IF(H39=\"\",\"\",MAX(E$1:E38)+1)","v":""},{"$f":"IF('Process and CMS Information'!C61=\"\",\"\",'Process and CMS Information'!C61)","v":""},"",{"$f":"IF(COUNTIF(F$2:F39,F39)=1,F39,\"\")","v":""},{"$f":"IF(L39=\"\",\"\",MAX(I$1:I38)+1)","v":""},{"$f":"IF('Process and CMS Information'!D60=\"\",\"\",'Process and CMS Information'!D60)","v":""},"",{"$f":"IF(COUNTIF(J$3:J39,J39)=1,J39,\"\")","v":""},{"$f":"IF('Periodic Performance Testing'!C61=\"\",\"\",'Periodic Performance Testing'!C61)","v":""},{"$f":"IF('Sterilization Chambers'!E61=\"\",\"\",'Sterilization Chambers'!E61)","v":""},{"$f":"IF('Sterilization Chambers'!I61=\"\",\"\",'Sterilization Chambers'!I61)","v":""},{"$f":"IF(Rooms!H61=\"\",\"\",Rooms!H61)","v":""},null,null,null,null,null,null,null,null,null,null,{"$f":"+IF(AF39=\"\",\"\",MAX(AA$1:AA38)+1)","v":""},{"$f":"IF('Excess Emissions'!B61=\"\",\"\",'Excess Emissions'!B61)","v":""},{"$f":"IF('Excess Emissions'!C61=\"\",\"\",'Excess Emissions'!C61)","v":""},{"$f":"IF('Excess Emissions'!D61=\"\",\"\",'Excess Emissions'!D61)","v":""},"",{"$f":"IF(COUNTIF(AE$2:AE39,AE39)=1,AC39,\"\")","v":""},"","","",null,{"$f":"+IF(AP39=\"\",\"\",MAX(AK$1:AK38)+1)","v":""},{"$f":"IF('CMS Downtime Detail'!B61=\"\",\"\",'CMS Downtime Detail'!B61)","v":""},{"$f":"IF('CMS Downtime Detail'!C61=\"\",\"\",'CMS Downtime Detail'!C61)","v":""},{"$f":"IF('CMS Downtime Detail'!D61=\"\",\"\",'CMS Downtime Detail'!D61)","v":""},"",{"$f":"IF(COUNTIF(AO$2:AO39,AO39)=1,AM39,\"\")","v":""},"","","",null,{"$f":"+IF(AZ39=\"\",\"\",MAX(AU$1:AU38)+1)","v":""},{"$f":"IF('Process and CMS Information'!B61=\"\",\"\",'Process and CMS Information'!B61)","v":""},{"$f":"IF('Process and CMS Information'!C61=\"\",\"\",'Process and CMS Information'!C61)","v":""},{"$f":"IF('Process and CMS Information'!F61=\"\",\"\",'Process and CMS Information'!F61)","v":""},"",{"$f":"IF(COUNTIF(AY$2:AY39,AY39)=1,AY39,\"\")","v":""},"","","","",null,null,null,null,null,null,null,null,null,null,null,null,null,null,null,null,null,null,null,null,"NY"]
[null,null,null,null,{"$f":"IF(H40=\"\",\"\",MAX(E$1:E39)+1)","v":""},{"$f":"IF('Process and CMS Information'!C62=\"\",\"\",'Process and CMS Information'!C62)","v":""},"",{"$f":"IF(COUNTIF(F$2:F40,F40)=1,F40,\"\")","v":""},{"$f":"IF(L40=\"\",\"\",MAX(I$1:I39)+1)","v":""},{"$f":"IF('Process and CMS Information'!D61=\"\",\"\",'Process and CMS Information'!D61)","v":""},"",{"$f":"IF(COUNTIF(J$3:J40,J40)=1,J40,\"\")","v":""},{"$f":"IF('Periodic Performance Testing'!C62=\"\",\"\",'Periodic Performance Testing'!C62)","v":""},{"$f":"IF('Sterilization Chambers'!E62=\"\",\"\",'Sterilization Chambers'!E62)","v":""},{"$f":"IF('Sterilization Chambers'!I62=\"\",\"\",'Sterilization Chambers'!I62)","v":""},{"$f":"IF(Rooms!H62=\"\",\"\",Rooms!H62)","v":""},null,null,null,null,null,null,null,null,null,null,{"$f":"+IF(AF40=\"\",\"\",MAX(AA$1:AA39)+1)","v":""},{"$f":"IF('Excess Emissions'!B62=\"\",\"\",'Excess Emissions'!B62)","v":""},{"$f":"IF('Excess Emissions'!C62=\"\",\"\",'Excess Emissions'!C62)","v":""},{"$f":"IF('Excess Emissions'!D62=\"\",\"\",'Excess Emissions'!D62)","v":""},"",{"$f":"IF(COUNTIF(AE$2:AE40,AE40)=1,AC40,\"\")","v":""},"","","",null,{"$f":"+IF(AP40=\"\",\"\",MAX(AK$1:AK39)+1)","v":""},{"$f":"IF('CMS Downtime Detail'!B62=\"\",\"\",'CMS Downtime Detail'!B62)","v":""},{"$f":"IF('CMS Downtime Detail'!C62=\"\",\"\",'CMS Downtime Detail'!C62)","v":""},{"$f":"IF('CMS Downtime Detail'!D62=\"\",\"\",'CMS Downtime Detail'!D62)","v":""},"",{"$f":"IF(COUNTIF(AO$2:AO40,AO40)=1,AM40,\"\")","v":""},"","","",null,{"$f":"+IF(AZ40=\"\",\"\",MAX(AU$1:AU39)+1)","v":""},{"$f":"IF('Process and CMS Information'!B62=\"\",\"\",'Process and CMS Information'!B62)","v":""},{"$f":"IF('Process and CMS Information'!C62=\"\",\"\",'Process and CMS Information'!C62)","v":""},{"$f":"IF('Process and CMS Information'!F62=\"\",\"\",'Process and CMS Information'!F62)","v":""},"",{"$f":"IF(COUNTIF(AY$2:AY40,AY40)=1,AY40,\"\")","v":""},"","","","",null,null,null,null,null,null,null,null,null,null,null,null,null,null,null,null,null,null,null,null,"OH"]
[null,null,null,null,{"$f":"IF(H41=\"\",\"\",MAX(E$1:E40)+1)","v":""},{"$f":"IF('Process and CMS Information'!C63=\"\",\"\",'Process and CMS Information'!C63)","v":""},"",{"$f":"IF(COUNTIF(F$2:F41,F41)=1,F41,\"\")","v":""},{"$f":"IF(L41=\"\",\"\",MAX(I$1:I40)+1)","v":""},{"$f":"IF('Process and CMS Information'!D62=\"\",\"\",'Process and CMS Information'!D62)","v":""},"",{"$f":"IF(COUNTIF(J$3:J41,J41)=1,J41,\"\")","v":""},{"$f":"IF('Periodic Performance Testing'!C63=\"\",\"\",'Periodic Performance Testing'!C63)","v":""},{"$f":"IF('Sterilization Chambers'!E63=\"\",\"\",'Sterilization Chambers'!E63)","v":""},{"$f":"IF('Sterilization Chambers'!I63=\"\",\"\",'Sterilization Chambers'!I63)","v":""},{"$f":"IF(Rooms!H63=\"\",\"\",Rooms!H63)","v":""},null,null,null,null,null,null,null,null,null,null,{"$f":"+IF(AF41=\"\",\"\",MAX(AA$1:AA40)+1)","v":""},{"$f":"IF('Excess Emissions'!B63=\"\",\"\",'Excess Emissions'!B63)","v":""},{"$f":"IF('Excess Emissions'!C63=\"\",\"\",'Excess Emissions'!C63)","v":""},{"$f":"IF('Excess Emissions'!D63=\"\",\"\",'Excess Emissions'!D63)","v":""},"",{"$f":"IF(COUNTIF(AE$2:AE41,AE41)=1,AC41,\"\")","v":""},"","","",null,{"$f":"+IF(AP41=\"\",\"\",MAX(AK$1:AK40)+1)","v":""},{"$f":"IF('CMS Downtime Detail'!B63=\"\",\"\",'CMS Downtime Detail'!B63)","v":""},{"$f":"IF('CMS Downtime Detail'!C63=\"\",\"\",'CMS Downtime Detail'!C63)","v":""},{"$f":"IF('CMS Downtime Detail'!D63=\"\",\"\",'CMS Downtime Detail'!D63)","v":""},"",{"$f":"IF(COUNTIF(AO$2:AO41,AO41)=1,AM41,\"\")","v":""},"","","",null,{"$f":"+IF(AZ41=\"\",\"\",MAX(AU$1:AU40)+1)","v":""},{"$f":"IF('Process and CMS Information'!B63=\"\",\"\",'Process and CMS Information'!B63)","v":""},{"$f":"IF('Process and CMS Information'!C63=\"\",\"\",'Process and CMS Information'!C63)","v":""},{"$f":"IF('Process and CMS Information'!F63=\"\",\"\",'Process and CMS Information'!F63)","v":""},"",{"$f":"IF(COUNTIF(AY$2:AY41,AY41)=1,AY41,\"\")","v":""},"","","","",null,null,null,null,null,null,null,null,null,null,null,null,null,null,null,null,null,null,null,null,"OK"]
[null,null,null,null,{"$f":"IF(H42=\"\",\"\",MAX(E$1:E41)+1)","v":""},{"$f":"IF('Process and CMS Information'!C64=\"\",\"\",'Process and CMS Information'!C64)","v":""},"",{"$f":"IF(COUNTIF(F$2:F42,F42)=1,F42,\"\")","v":""},{"$f":"IF(L42=\"\",\"\",MAX(I$1:I41)+1)","v":""},{"$f":"IF('Process and CMS Information'!D63=\"\",\"\",'Process and CMS Information'!D63)","v":""},"",{"$f":"IF(COUNTIF(J$3:J42,J42)=1,J42,\"\")","v":""},{"$f":"IF('Periodic Performance Testing'!C64=\"\",\"\",'Periodic Performance Testing'!C64)","v":""},{"$f":"IF('Sterilization Chambers'!E64=\"\",\"\",'Sterilization Chambers'!E64)","v":""},{"$f":"IF('Sterilization Chambers'!I64=\"\",\"\",'Sterilization Chambers'!I64)","v":""},{"$f":"IF(Rooms!H64=\"\",\"\",Rooms!H64)","v":""},null,null,null,null,null,null,null,null,null,null,{"$f":"+IF(AF42=\"\",\"\",MAX(AA$1:AA41)+1)","v":""},{"$f":"IF('Excess Emissions'!B64=\"\",\"\",'Excess Emissions'!B64)","v":""},{"$f":"IF('Excess Emissions'!C64=\"\",\"\",'Excess Emissions'!C64)","v":""},{"$f":"IF('Excess Emissions'!D64=\"\",\"\",'Excess Emissions'!D64)","v":""},"",{"$f":"IF(COUNTIF(AE$2:AE42,AE42)=1,AC42,\"\")","v":""},"","","",null,{"$f":"+IF(AP42=\"\",\"\",MAX(AK$1:AK41)+1)","v":""},{"$f":"IF('CMS Downtime Detail'!B64=\"\",\"\",'CMS Downtime Detail'!B64)","v":""},{"$f":"IF('CMS Downtime Detail'!C64=\"\",\"\",'CMS Downtime Detail'!C64)","v":""},{"$f":"IF('CMS Downtime Detail'!D64=\"\",\"\",'CMS Downtime Detail'!D64)","v":""},"",{"$f":"IF(COUNTIF(AO$2:AO42,AO42)=1,AM42,\"\")","v":""},"","","",null,{"$f":"+IF(AZ42=\"\",\"\",MAX(AU$1:AU41)+1)","v":""},{"$f":"IF('Process and CMS Information'!B64=\"\",\"\",'Process and CMS Information'!B64)","v":""},{"$f":"IF('Process and CMS Information'!C64=\"\",\"\",'Process and CMS Information'!C64)","v":""},{"$f":"IF('Process and CMS Information'!F64=\"\",\"\",'Process and CMS Information'!F64)","v":""},"",{"$f":"IF(COUNTIF(AY$2:AY42,AY42)=1,AY42,\"\")","v":""},"","","","",null,null,null,null,null,null,null,null,null,null,null,null,null,null,null,null,null,null,null,null,"OR"]
[null,null,null,null,{"$f":"IF(H43=\"\",\"\",MAX(E$1:E42)+1)","v":""},{"$f":"IF('Process and CMS Information'!C65=\"\",\"\",'Process and CMS Information'!C65)","v":""},"",{"$f":"IF(COUNTIF(F$2:F43,F43)=1,F43,\"\")","v":""},{"$f":"IF(L43=\"\",\"\",MAX(I$1:I42)+1)","v":""},{"$f":"IF('Process and CMS Information'!D64=\"\",\"\",'Process and CMS Information'!D64)","v":""},"",{"$f":"IF(COUNTIF(J$3:J43,J43)=1,J43,\"\")","v":""},{"$f":"IF('Periodic Performance Testing'!C65=\"\",\"\",'Periodic Performance Testing'!C65)","v":""},{"$f":"IF('Sterilization Chambers'!E65=\"\",\"\",'Sterilization Chambers'!E65)","v":""},{"$f":"IF('Sterilization Chambers'!I65=\"\",\"\",'Sterilization Chambers'!I65)","v":""},{"$f":"IF(Rooms!H65=\"\",\"\",Rooms!H65)","v":""},null,null,null,null,null,null,null,null,null,null,{"$f":"+IF(AF43=\"\",\"\",MAX(AA$1:AA42)+1)","v":""},{"$f":"IF('Excess Emissions'!B65=\"\",\"\",'Excess Emissions'!B65)","v":""},{"$f":"IF('Excess Emissions'!C65=\"\",\"\",'Excess Emissions'!C65)","v":""},{"$f":"IF('Excess Emissions'!D65=\"\",\"\",'Excess Emissions'!D65)","v":""},"",{"$f":"IF(COUNTIF(AE$2:AE43,AE43)=1,AC43,\"\")","v":""},"","","",null,{"$f":"+IF(AP43=\"\",\"\",MAX(AK$1:AK42)+1)","v":""},{"$f":"IF('CMS Downtime Detail'!B65=\"\",\"\",'CMS Downtime Detail'!B65)","v":""},{"$f":"IF('CMS Downtime Detail'!C65=\"\",\"\",'CMS Downtime Detail'!C65)","v":""},{"$f":"IF('CMS Downtime Detail'!D65=\"\",\"\",'CMS Downtime Detail'!D65)","v":""},"",{"$f":"IF(COUNTIF(AO$2:AO43,AO43)=1,AM43,\"\")","v":""},"","","",null,{"$f":"+IF(AZ43=\"\",\"\",MAX(AU$1:AU42)+1)","v":""},{"$f":"IF('Process and CMS Information'!B65=\"\",\"\",'Process and CMS Information'!B65)","v":""},{"$f":"IF('Process and CMS Information'!C65=\"\",\"\",'Process and CMS Information'!C65)","v":""},{"$f":"IF('Process and CMS Information'!F65=\"\",\"\",'Process and CMS Information'!F65)","v":""},"",{"$f":"IF(COUNTIF(AY$2:AY43,AY43)=1,AY43,\"\")","v":""},"","","","",null,null,null,null,null,null,null,null,null,null,null,null,null,null,null,null,null,null,null,null,"PA"]
[null,null,null,null,{"$f":"IF(H44=\"\",\"\",MAX(E$1:E43)+1)","v":""},{"$f":"IF('Process and CMS Information'!C66=\"\",\"\",'Process and CMS Information'!C66)","v":""},"",{"$f":"IF(COUNTIF(F$2:F44,F44)=1,F44,\"\")","v":""},{"$f":"IF(L44=\"\",\"\",MAX(I$1:I43)+1)","v":""},{"$f":"IF('Process and CMS Information'!D65=\"\",\"\",'Process and CMS Information'!D65)","v":""},"",{"$f":"IF(COUNTIF(J$3:J44,J44)=1,J44,\"\")","v":""},{"$f":"IF('Periodic Performance Testing'!C66=\"\",\"\",'Periodic Performance Testing'!C66)","v":""},{"$f":"IF('Sterilization Chambers'!E66=\"\",\"\",'Sterilization Chambers'!E66)","v":""},{"$f":"IF('Sterilization Chambers'!I66=\"\",\"\",'Sterilization Chambers'!I66)","v":""},{"$f":"IF(Rooms!H66=\"\",\"\",Rooms!H66)","v":""},null,null,null,null,null,null,null,null,null,null,{"$f":"+IF(AF44=\"\",\"\",MAX(AA$1:AA43)+1)","v":""},{"$f":"IF('Excess Emissions'!B66=\"\",\"\",'Excess Emissions'!B66)","v":""},{"$f":"IF('Excess Emissions'!C66=\"\",\"\",'Excess Emissions'!C66)","v":""},{"$f":"IF('Excess Emissions'!D66=\"\",\"\",'Excess Emissions'!D66)","v":""},"",{"$f":"IF(COUNTIF(AE$2:AE44,AE44)=1,AC44,\"\")","v":""},"","","",null,{"$f":"+IF(AP44=\"\",\"\",MAX(AK$1:AK43)+1)","v":""},{"$f":"IF('CMS Downtime Detail'!B66=\"\",\"\",'CMS Downtime Detail'!B66)","v":""},{"$f":"IF('CMS Downtime Detail'!C66=\"\",\"\",'CMS Downtime Detail'!C66)","v":""},{"$f":"IF('CMS Downtime Detail'!D66=\"\",\"\",'CMS Downtime Detail'!D66)","v":""},"",{"$f":"IF(COUNTIF(AO$2:AO44,AO44)=1,AM44,\"\")","v":""},"","","",null,{"$f":"+IF(AZ44=\"\",\"\",MAX(AU$1:AU43)+1)","v":""},{"$f":"IF('Process and CMS Information'!B66=\"\",\"\",'Process and CMS Information'!B66)","v":""},{"$f":"IF('Process and CMS Information'!C66=\"\",\"\",'Process and CMS Information'!C66)","v":""},{"$f":"IF('Process and CMS Information'!F66=\"\",\"\",'Process and CMS Information'!F66)","v":""},"",{"$f":"IF(COUNTIF(AY$2:AY44,AY44)=1,AY44,\"\")","v":""},"","","","",null,null,null,null,null,null,null,null,null,null,null,null,null,null,null,null,null,null,null,null,"PR"]
[null,null,null,null,{"$f":"IF(H45=\"\",\"\",MAX(E$1:E44)+1)","v":""},{"$f":"IF('Process and CMS Information'!C67=\"\",\"\",'Process and CMS Information'!C67)","v":""},"",{"$f":"IF(COUNTIF(F$2:F45,F45)=1,F45,\"\")","v":""},{"$f":"IF(L45=\"\",\"\",MAX(I$1:I44)+1)","v":""},{"$f":"IF('Process and CMS Information'!D66=\"\",\"\",'Process and CMS Information'!D66)","v":""},"",{"$f":"IF(COUNTIF(J$3:J45,J45)=1,J45,\"\")","v":""},{"$f":"IF('Periodic Performance Testing'!C67=\"\",\"\",'Periodic Performance Testing'!C67)","v":""},{"$f":"IF('Sterilization Chambers'!E67=\"\",\"\",'Sterilization Chambers'!E67)","v":""},{"$f":"IF('Sterilization Chambers'!I67=\"\",\"\",'Sterilization Chambers'!I67)","v":""},{"$f":"IF(Rooms!H67=\"\",\"\",Rooms!H67)","v":""},null,null,null,null,null,null,null,null,null,null,{"$f":"+IF(AF45=\"\",\"\",MAX(AA$1:AA44)+1)","v":""},{"$f":"IF('Excess Emissions'!B67=\"\",\"\",'Excess Emissions'!B67)","v":""},{"$f":"IF('Excess Emissions'!C67=\"\",\"\",'Excess Emissions'!C67)","v":""},{"$f":"IF('Excess Emissions'!D67=\"\",\"\",'Excess Emissions'!D67)","v":""},"",{"$f":"IF(COUNTIF(AE$2:AE45,AE45)=1,AC45,\"\")","v":""},"","","",null,{"$f":"+IF(AP45=\"\",\"\",MAX(AK$1:AK44)+1)","v":""},{"$f":"IF('CMS Downtime Detail'!B67=\"\",\"\",'CMS Downtime Detail'!B67)","v":""},{"$f":"IF('CMS Downtime Detail'!C67=\"\",\"\",'CMS Downtime Detail'!C67)","v":""},{"$f":"IF('CMS Downtime Detail'!D67=\"\",\"\",'CMS Downtime Detail'!D67)","v":""},"",{"$f":"IF(COUNTIF(AO$2:AO45,AO45)=1,AM45,\"\")","v":""},"","","",null,{"$f":"+IF(AZ45=\"\",\"\",MAX(AU$1:AU44)+1)","v":""},{"$f":"IF('Process and CMS Information'!B67=\"\",\"\",'Process and CMS Information'!B67)","v":""},{"$f":"IF('Process and CMS Information'!C67=\"\",\"\",'Process and CMS Information'!C67)","v":""},{"$f":"IF('Process and CMS Information'!F67=\"\",\"\",'Process and CMS Information'!F67)","v":""},"",{"$f":"IF(COUNTIF(AY$2:AY45,AY45)=1,AY45,\"\")","v":""},"","","","",null,null,null,null,null,null,null,null,null,null,null,null,null,null,null,null,null,null,null,null,"RI"]
[null,null,null,null,{"$f":"IF(H46=\"\",\"\",MAX(E$1:E45)+1)","v":""},{"$f":"IF('Process and CMS Information'!C68=\"\",\"\",'Process and CMS Information'!C68)","v":""},"",{"$f":"IF(COUNTIF(F$2:F46,F46)=1,F46,\"\")","v":""},{"$f":"IF(L46=\"\",\"\",MAX(I$1:I45)+1)","v":""},{"$f":"IF('Process and CMS Information'!D67=\"\",\"\",'Process and CMS Information'!D67)","v":""},"",{"$f":"IF(COUNTIF(J$3:J46,J46)=1,J46,\"\")","v":""},{"$f":"IF('Periodic Performance Testing'!C68=\"\",\"\",'Periodic Performance Testing'!C68)","v":""},{"$f":"IF('Sterilization Chambers'!E68=\"\",\"\",'Sterilization Chambers'!E68)","v":""},{"$f":"IF('Sterilization Chambers'!I68=\"\",\"\",'Sterilization Chambers'!I68)","v":""},{"$f":"IF(Rooms!H68=\"\",\"\",Rooms!H68)","v":""},null,null,null,null,null,null,null,null,null,null,{"$f":"+IF(AF46=\"\",\"\",MAX(AA$1:AA45)+1)","v":""},{"$f":"IF('Excess Emissions'!B68=\"\",\"\",'Excess Emissions'!B68)","v":""},{"$f":"IF('Excess Emissions'!C68=\"\",\"\",'Excess Emissions'!C68)","v":""},{"$f":"IF('Excess Emissions'!D68=\"\",\"\",'Excess Emissions'!D68)","v":""},"",{"$f":"IF(COUNTIF(AE$2:AE46,AE46)=1,AC46,\"\")","v":""},"","","",null,{"$f":"+IF(AP46=\"\",\"\",MAX(AK$1:AK45)+1)","v":""},{"$f":"IF('CMS Downtime Detail'!B68=\"\",\"\",'CMS Downtime Detail'!B68)","v":""},{"$f":"IF('CMS Downtime Detail'!C68=\"\",\"\",'CMS Downtime Detail'!C68)","v":""},{"$f":"IF('CMS Downtime Detail'!D68=\"\",\"\",'CMS Downtime Detail'!D68)","v":""},"",{"$f":"IF(COUNTIF(AO$2:AO46,AO46)=1,AM46,\"\")","v":""},"","","",null,{"$f":"+IF(AZ46=\"\",\"\",MAX(AU$1:AU45)+1)","v":""},{"$f":"IF('Process and CMS Information'!B68=\"\",\"\",'Process and CMS Information'!B68)","v":""},{"$f":"IF('Process and CMS Information'!C68=\"\",\"\",'Process and CMS Information'!C68)","v":""},{"$f":"IF('Process and CMS Information'!F68=\"\",\"\",'Process and CMS Information'!F68)","v":""},"",{"$f":"IF(COUNTIF(AY$2:AY46,AY46)=1,AY46,\"\")","v":""},"","","","",null,null,null,null,null,null,null,null,null,null,null,null,null,null,null,null,null,null,null,null,"SC"]
[null,null,null,null,{"$f":"IF(H47=\"\",\"\",MAX(E$1:E46)+1)","v":""},{"$f":"IF('Process and CMS Information'!C69=\"\",\"\",'Process and CMS Information'!C69)","v":""},"",{"$f":"IF(COUNTIF(F$2:F47,F47)=1,F47,\"\")","v":""},{"$f":"IF(L47=\"\",\"\",MAX(I$1:I46)+1)","v":""},{"$f":"IF('Process and CMS Information'!D68=\"\",\"\",'Process and CMS Information'!D68)","v":""},"",{"$f":"IF(COUNTIF(J$3:J47,J47)=1,J47,\"\")","v":""},{"$f":"IF('Periodic Performance Testing'!C69=\"\",\"\",'Periodic Performance Testing'!C69)","v":""},{"$f":"IF('Sterilization Chambers'!E69=\"\",\"\",'Sterilization Chambers'!E69)","v":""},{"$f":"IF('Sterilization Chambers'!I69=\"\",\"\",'Sterilization Chambers'!I69)","v":""},{"$f":"IF(Rooms!H69=\"\",\"\",Rooms!H69)","v":""},null,null,null,null,null,null,null,null,null,null,{"$f":"+IF(AF47=\"\",\"\",MAX(AA$1:AA46)+1)","v":""},{"$f":"IF('Excess Emissions'!B69=\"\",\"\",'Excess Emissions'!B69)","v":""},{"$f":"IF('Excess Emissions'!C69=\"\",\"\",'Excess Emissions'!C69)","v":""},{"$f":"IF('Excess Emissions'!D69=\"\",\"\",'Excess Emissions'!D69)","v":""},"",{"$f":"IF(COUNTIF(AE$2:AE47,AE47)=1,AC47,\"\")","v":""},"","","",null,{"$f":"+IF(AP47=\"\",\"\",MAX(AK$1:AK46)+1)","v":""},{"$f":"IF('CMS Downtime Detail'!B69=\"\",\"\",'CMS Downtime Detail'!B69)","v":""},{"$f":"IF('CMS Downtime Detail'!C69=\"\",\"\",'CMS Downtime Detail'!C69)","v":""},{"$f":"IF('CMS Downtime Detail'!D69=\"\",\"\",'CMS Downtime Detail'!D69)","v":""},"",{"$f":"IF(COUNTIF(AO$2:AO47,AO47)=1,AM47,\"\")","v":""},"","","",null,{"$f":"+IF(AZ47=\"\",\"\",MAX(AU$1:AU46)+1)","v":""},{"$f":"IF('Process and CMS Information'!B69=\"\",\"\",'Process and CMS Information'!B69)","v":""},{"$f":"IF('Process and CMS Information'!C69=\"\",\"\",'Process and CMS Information'!C69)","v":""},{"$f":"IF('Process and CMS Information'!F69=\"\",\"\",'Process and CMS Information'!F69)","v":""},"",{"$f":"IF(COUNTIF(AY$2:AY47,AY47)=1,AY47,\"\")","v":""},"","","","",null,null,null,null,null,null,null,null,null,null,null,null,null,null,null,null,null,null,null,null,"SD"]
[null,null,null,null,{"$f":"IF(H48=\"\",\"\",MAX(E$1:E47)+1)","v":""},{"$f":"IF('Process and CMS Information'!C70=\"\",\"\",'Process and CMS Information'!C70)","v":""},"",{"$f":"IF(COUNTIF(F$2:F48,F48)=1,F48,\"\")","v":""},{"$f":"IF(L48=\"\",\"\",MAX(I$1:I47)+1)","v":""},{"$f":"IF('Process and CMS Information'!D69=\"\",\"\",'Process and CMS Information'!D69)","v":""},"",{"$f":"IF(COUNTIF(J$3:J48,J48)=1,J48,\"\")","v":""},{"$f":"IF('Periodic Performance Testing'!C70=\"\",\"\",'Periodic Performance Testing'!C70)","v":""},{"$f":"IF('Sterilization Chambers'!E70=\"\",\"\",'Sterilization Chambers'!E70)","v":""},{"$f":"IF('Sterilization Chambers'!I70=\"\",\"\",'Sterilization Chambers'!I70)","v":""},{"$f":"IF(Rooms!H70=\"\",\"\",Rooms!H70)","v":""},null,null,null,null,null,null,null,null,null,null,{"$f":"+IF(AF48=\"\",\"\",MAX(AA$1:AA47)+1)","v":""},{"$f":"IF('Excess Emissions'!B70=\"\",\"\",'Excess Emissions'!B70)","v":""},{"$f":"IF('Excess Emissions'!C70=\"\",\"\",'Excess Emissions'!C70)","v":""},{"$f":"IF('Excess Emissions'!D70=\"\",\"\",'Excess Emissions'!D70)","v":""},"",{"$f":"IF(COUNTIF(AE$2:AE48,AE48)=1,AC48,\"\")","v":""},"","","",null,{"$f":"+IF(AP48=\"\",\"\",MAX(AK$1:AK47)+1)","v":""},{"$f":"IF('CMS Downtime Detail'!B70=\"\",\"\",'CMS Downtime Detail'!B70)","v":""},{"$f":"IF('CMS Downtime Detail'!C70=\"\",\"\",'CMS Downtime Detail'!C70)","v":""},{"$f":"IF('CMS Downtime Detail'!D70=\"\",\"\",'CMS Downtime Detail'!D70)","v":""},"",{"$f":"IF(COUNTIF(AO$2:AO48,AO48)=1,AM48,\"\")","v":""},"","","",null,{"$f":"+IF(AZ48=\"\",\"\",MAX(AU$1:AU47)+1)","v":""},{"$f":"IF('Process and CMS Information'!B70=\"\",\"\",'Process and CMS Information'!B70)","v":""},{"$f":"IF('Process and CMS Information'!C70=\"\",\"\",'Process and CMS Information'!C70)","v":""},{"$f":"IF('Process and CMS Information'!F70=\"\",\"\",'Process and CMS Information'!F70)","v":""},"",{"$f":"IF(COUNTIF(AY$2:AY48,AY48)=1,AY48,\"\")","v":""},"","","","",null,null,null,null,null,null,null,null,null,null,null,null,null,null,null,null,null,null,null,null,"TN"]
[null,null,null,null,{"$f":"IF(H49=\"\",\"\",MAX(E$1:E48)+1)","v":""},{"$f":"IF('Process and CMS Information'!C71=\"\",\"\",'Process and CMS Information'!C71)","v":""},"",{"$f":"IF(COUNTIF(F$2:F49,F49)=1,F49,\"\")","v":""},{"$f":"IF(L49=\"\",\"\",MAX(I$1:I48)+1)","v":""},{"$f":"IF('Process and CMS Information'!D70=\"\",\"\",'Process and CMS Information'!D70)","v":""},"",{"$f":"IF(COUNTIF(J$3:J49,J49)=1,J49,\"\")","v":""},{"$f":"IF('Periodic Performance Testing'!C71=\"\",\"\",'Periodic Performance Testing'!C71)","v":""},{"$f":"IF('Sterilization Chambers'!E71=\"\",\"\",'Sterilization Chambers'!E71)","v":""},{"$f":"IF('Sterilization Chambers'!I71=\"\",\"\",'Sterilization Chambers'!I71)","v":""},{"$f":"IF(Rooms!H71=\"\",\"\",Rooms!H71)","v":""},null,null,null,null,null,null,null,null,null,null,{"$f":"+IF(AF49=\"\",\"\",MAX(AA$1:AA48)+1)","v":""},{"$f":"IF('Excess Emissions'!B71=\"\",\"\",'Excess Emissions'!B71)","v":""},{"$f":"IF('Excess Emissions'!C71=\"\",\"\",'Excess Emissions'!C71)","v":""},{"$f":"IF('Excess Emissions'!D71=\"\",\"\",'Excess Emissions'!D71)","v":""},"",{"$f":"IF(COUNTIF(AE$2:AE49,AE49)=1,AC49,\"\")","v":""},"","","",null,{"$f":"+IF(AP49=\"\",\"\",MAX(AK$1:AK48)+1)","v":""},{"$f":"IF('CMS Downtime Detail'!B71=\"\",\"\",'CMS Downtime Detail'!B71)","v":""},{"$f":"IF('CMS Downtime Detail'!C71=\"\",\"\",'CMS Downtime Detail'!C71)","v":""},{"$f":"IF('CMS Downtime Detail'!D71=\"\",\"\",'CMS Downtime Detail'!D71)","v":""},"",{"$f":"IF(COUNTIF(AO$2:AO49,AO49)=1,AM49,\"\")","v":""},"","","",null,{"$f":"+IF(AZ49=\"\",\"\",MAX(AU$1:AU48)+1)","v":""},{"$f":"IF('Process and CMS Information'!B71=\"\",\"\",'Process and CMS Information'!B71)","v":""},{"$f":"IF('Process and CMS Information'!C71=\"\",\"\",'Process and CMS Information'!C71)","v":""},{"$f":"IF('Process and CMS Information'!F71=\"\",\"\",'Process and CMS Information'!F71)","v":""},"",{"$f":"IF(COUNTIF(AY$2:AY49,AY49)=1,AY49,\"\")","v":""},"","","","",null,null,null,null,null,null,null,null,null,null,null,null,null,null,null,null,null,null,null,null,"TX"]
[null,null,null,null,{"$f":"IF(H50=\"\",\"\",MAX(E$1:E49)+1)","v":""},{"$f":"IF('Process and CMS Information'!C72=\"\",\"\",'Process and CMS Information'!C72)","v":""},"",{"$f":"IF(COUNTIF(F$2:F50,F50)=1,F50,\"\")","v":""},{"$f":"IF(L50=\"\",\"\",MAX(I$1:I49)+1)","v":""},{"$f":"IF('Process and CMS Information'!D71=\"\",\"\",'Process and CMS Information'!D71)","v":""},"",{"$f":"IF(COUNTIF(J$3:J50,J50)=1,J50,\"\")","v":""},{"$f":"IF('Periodic Performance Testing'!C72=\"\",\"\",'Periodic Performance Testing'!C72)","v":""},{"$f":"IF('Sterilization Chambers'!E72=\"\",\"\",'Sterilization Chambers'!E72)","v":""},{"$f":"IF('Sterilization Chambers'!I72=\"\",\"\",'Sterilization Chambers'!I72)","v":""},{"$f":"IF(Rooms!H72=\"\",\"\",Rooms!H72)","v":""},null,null,null,null,null,null,null,null,null,null,{"$f":"+IF(AF50=\"\",\"\",MAX(AA$1:AA49)+1)","v":""},{"$f":"IF('Excess Emissions'!B72=\"\",\"\",'Excess Emissions'!B72)","v":""},{"$f":"IF('Excess Emissions'!C72=\"\",\"\",'Excess Emissions'!C72)","v":""},{"$f":"IF('Excess Emissions'!D72=\"\",\"\",'Excess Emissions'!D72)","v":""},"",{"$f":"IF(COUNTIF(AE$2:AE50,AE50)=1,AC50,\"\")","v":""},"","","",null,{"$f":"+IF(AP50=\"\",\"\",MAX(AK$1:AK49)+1)","v":""},{"$f":"IF('CMS Downtime Detail'!B72=\"\",\"\",'CMS Downtime Detail'!B72)","v":""},{"$f":"IF('CMS Downtime Detail'!C72=\"\",\"\",'CMS Downtime Detail'!C72)","v":""},{"$f":"IF('CMS Downtime Detail'!D72=\"\",\"\",'CMS Downtime Detail'!D72)","v":""},"",{"$f":"IF(COUNTIF(AO$2:AO50,AO50)=1,AM50,\"\")","v":""},"","","",null,{"$f":"+IF(AZ50=\"\",\"\",MAX(AU$1:AU49)+1)","v":""},{"$f":"IF('Process and CMS Information'!B72=\"\",\"\",'Process and CMS Information'!B72)","v":""},{"$f":"IF('Process and CMS Information'!C72=\"\",\"\",'Process and CMS Information'!C72)","v":""},{"$f":"IF('Process and CMS Information'!F72=\"\",\"\",'Process and CMS Information'!F72)","v":""},"",{"$f":"IF(COUNTIF(AY$2:AY50,AY50)=1,AY50,\"\")","v":""},"","","","",null,null,null,null,null,null,null,null,null,null,null,null,null,null,null,null,null,null,null,null,"UT"]
[null,null,null,null,{"$f":"IF(H51=\"\",\"\",MAX(E$1:E50)+1)","v":""},{"$f":"IF('Process and CMS Information'!C73=\"\",\"\",'Process and CMS Information'!C73)","v":""},"",{"$f":"IF(COUNTIF(F$2:F51,F51)=1,F51,\"\")","v":""},{"$f":"IF(L51=\"\",\"\",MAX(I$1:I50)+1)","v":""},{"$f":"IF('Process and CMS Information'!D72=\"\",\"\",'Process and CMS Information'!D72)","v":""},"",{"$f":"IF(COUNTIF(J$3:J51,J51)=1,J51,\"\")","v":""},{"$f":"IF('Periodic Performance Testing'!C73=\"\",\"\",'Periodic Performance Testing'!C73)","v":""},{"$f":"IF('Sterilization Chambers'!E73=\"\",\"\",'Sterilization Chambers'!E73)","v":""},{"$f":"IF('Sterilization Chambers'!I73=\"\",\"\",'Sterilization Chambers'!I73)","v":""},{"$f":"IF(Rooms!H73=\"\",\"\",Rooms!H73)","v":""},null,null,null,null,null,null,null,null,null,null,{"$f":"+IF(AF51=\"\",\"\",MAX(AA$1:AA50)+1)","v":""},{"$f":"IF('Excess Emissions'!B73=\"\",\"\",'Excess Emissions'!B73)","v":""},{"$f":"IF('Excess Emissions'!C73=\"\",\"\",'Excess Emissions'!C73)","v":""},{"$f":"IF('Excess Emissions'!D73=\"\",\"\",'Excess Emissions'!D73)","v":""},"",{"$f":"IF(COUNTIF(AE$2:AE51,AE51)=1,AC51,\"\")","v":""},"","","",null,{"$f":"+IF(AP51=\"\",\"\",MAX(AK$1:AK50)+1)","v":""},{"$f":"IF('CMS Downtime Detail'!B73=\"\",\"\",'CMS Downtime Detail'!B73)","v":""},{"$f":"IF('CMS Downtime Detail'!C73=\"\",\"\",'CMS Downtime Detail'!C73)","v":""},{"$f":"IF('CMS Downtime Detail'!D73=\"\",\"\",'CMS Downtime Detail'!D73)","v":""},"",{"$f":"IF(COUNTIF(AO$2:AO51,AO51)=1,AM51,\"\")","v":""},"","","",null,{"$f":"+IF(AZ51=\"\",\"\",MAX(AU$1:AU50)+1)","v":""},{"$f":"IF('Process and CMS Information'!B73=\"\",\"\",'Process and CMS Information'!B73)","v":""},{"$f":"IF('Process and CMS Information'!C73=\"\",\"\",'Process and CMS Information'!C73)","v":""},{"$f":"IF('Process and CMS Information'!F73=\"\",\"\",'Process and CMS Information'!F73)","v":""},"",{"$f":"IF(COUNTIF(AY$2:AY51,AY51)=1,AY51,\"\")","v":""},"","","","",null,null,null,null,null,null,null,null,null,null,null,null,null,null,null,null,null,null,null,null,"VA"]
[null,null,null,null,{"$f":"IF(H52=\"\",\"\",MAX(E$1:E51)+1)","v":""},{"$f":"IF('Process and CMS Information'!C74=\"\",\"\",'Process and CMS Information'!C74)","v":""},"",{"$f":"IF(COUNTIF(F$2:F52,F52)=1,F52,\"\")","v":""},{"$f":"IF(L52=\"\",\"\",MAX(I$1:I51)+1)","v":""},{"$f":"IF('Process and CMS Information'!D73=\"\",\"\",'Process and CMS Information'!D73)","v":""},"",{"$f":"IF(COUNTIF(J$3:J52,J52)=1,J52,\"\")","v":""},{"$f":"IF('Periodic Performance Testing'!C74=\"\",\"\",'Periodic Performance Testing'!C74)","v":""},{"$f":"IF('Sterilization Chambers'!E74=\"\",\"\",'Sterilization Chambers'!E74)","v":""},{"$f":"IF('Sterilization Chambers'!I74=\"\",\"\",'Sterilization Chambers'!I74)","v":""},{"$f":"IF(Rooms!H74=\"\",\"\",Rooms!H74)","v":""},null,null,null,null,null,null,null,null,null,null,{"$f":"+IF(AF52=\"\",\"\",MAX(AA$1:AA51)+1)","v":""},{"$f":"IF('Excess Emissions'!B74=\"\",\"\",'Excess Emissions'!B74)","v":""},{"$f":"IF('Excess Emissions'!C74=\"\",\"\",'Excess Emissions'!C74)","v":""},{"$f":"IF('Excess Emissions'!D74=\"\",\"\",'Excess Emissions'!D74)","v":""},"",{"$f":"IF(COUNTIF(AE$2:AE52,AE52)=1,AC52,\"\")","v":""},"","","",null,{"$f":"+IF(AP52=\"\",\"\",MAX(AK$1:AK51)+1)","v":""},{"$f":"IF('CMS Downtime Detail'!B74=\"\",\"\",'CMS Downtime Detail'!B74)","v":""},{"$f":"IF('CMS Downtime Detail'!C74=\"\",\"\",'CMS Downtime Detail'!C74)","v":""},{"$f":"IF('CMS Downtime Detail'!D74=\"\",\"\",'CMS Downtime Detail'!D74)","v":""},"",{"$f":"IF(COUNTIF(AO$2:AO52,AO52)=1,AM52,\"\")","v":""},"","","",null,{"$f":"+IF(AZ52=\"\",\"\",MAX(AU$1:AU51)+1)","v":""},{"$f":"IF('Process and CMS Information'!B74=\"\",\"\",'Process and CMS Information'!B74)","v":""},{"$f":"IF('Process and CMS Information'!C74=\"\",\"\",'Process and CMS Information'!C74)","v":""},{"$f":"IF('Process and CMS Information'!F74=\"\",\"\",'Process and CMS Information'!F74)","v":""},"",{"$f":"IF(COUNTIF(AY$2:AY52,AY52)=1,AY52,\"\")","v":""},"","","","",null,null,null,null,null,null,null,null,null,null,null,null,null,null,null,null,null,null,null,null,"VI"]
[null,null,null,null,{"$f":"IF(H53=\"\",\"\",MAX(E$1:E52)+1)","v":""},{"$f":"IF('Process and CMS Information'!C75=\"\",\"\",'Process and CMS Information'!C75)","v":""},"",{"$f":"IF(COUNTIF(F$2:F53,F53)=1,F53,\"\")","v":""},{"$f":"IF(L53=\"\",\"\",MAX(I$1:I52)+1)","v":""},{"$f":"IF('Process and CMS Information'!D74=\"\",\"\",'Process and CMS Information'!D74)","v":""},"",{"$f":"IF(COUNTIF(J$3:J53,J53)=1,J53,\"\")","v":""},{"$f":"IF('Periodic Performance Testing'!C75=\"\",\"\",'Periodic Performance Testing'!C75)","v":""},{"$f":"IF('Sterilization Chambers'!E75=\"\",\"\",'Sterilization Chambers'!E75)","v":""},{"$f":"IF('Sterilization Chambers'!I75=\"\",\"\",'Sterilization Chambers'!I75)","v":""},{"$f":"IF(Rooms!H75=\"\",\"\",Rooms!H75)","v":""},null,null,null,null,null,null,null,null,null,null,{"$f":"+IF(AF53=\"\",\"\",MAX(AA$1:AA52)+1)","v":""},{"$f":"IF('Excess Emissions'!B75=\"\",\"\",'Excess Emissions'!B75)","v":""},{"$f":"IF('Excess Emissions'!C75=\"\",\"\",'Excess Emissions'!C75)","v":""},{"$f":"IF('Excess Emissions'!D75=\"\",\"\",'Excess Emissions'!D75)","v":""},"",{"$f":"IF(COUNTIF(AE$2:AE53,AE53)=1,AC53,\"\")","v":""},"","","",null,{"$f":"+IF(AP53=\"\",\"\",MAX(AK$1:AK52)+1)","v":""},{"$f":"IF('CMS Downtime Detail'!B75=\"\",\"\",'CMS Downtime Detail'!B75)","v":""},{"$f":"IF('CMS Downtime Detail'!C75=\"\",\"\",'CMS Downtime Detail'!C75)","v":""},{"$f":"IF('CMS Downtime Detail'!D75=\"\",\"\",'CMS Downtime Detail'!D75)","v":""},"",{"$f":"IF(COUNTIF(AO$2:AO53,AO53)=1,AM53,\"\")","v":""},"","","",null,{"$f":"+IF(AZ53=\"\",\"\",MAX(AU$1:AU52)+1)","v":""},{"$f":"IF('Process and CMS Information'!B75=\"\",\"\",'Process and CMS Information'!B75)","v":""},{"$f":"IF('Process and CMS Information'!C75=\"\",\"\",'Process and CMS Information'!C75)","v":""},{"$f":"IF('Process and CMS Information'!F75=\"\",\"\",'Process and CMS Information'!F75)","v":""},"",{"$f":"IF(COUNTIF(AY$2:AY53,AY53)=1,AY53,\"\")","v":""},"","","","",null,null,null,null,null,null,null,null,null,null,null,null,null,null,null,null,null,null,null,null,"VT"]
[null,null,null,null,{"$f":"IF(H54=\"\",\"\",MAX(E$1:E53)+1)","v":""},{"$f":"IF('Process and CMS Information'!C76=\"\",\"\",'Process and CMS Information'!C76)","v":""},"",{"$f":"IF(COUNTIF(F$2:F54,F54)=1,F54,\"\")","v":""},{"$f":"IF(L54=\"\",\"\",MAX(I$1:I53)+1)","v":""},{"$f":"IF('Process and CMS Information'!D75=\"\",\"\",'Process and CMS Information'!D75)","v":""},"",{"$f":"IF(COUNTIF(J$3:J54,J54)=1,J54,\"\")","v":""},{"$f":"IF('Periodic Performance Testing'!C76=\"\",\"\",'Periodic Performance Testing'!C76)","v":""},{"$f":"IF('Sterilization Chambers'!E76=\"\",\"\",'Sterilization Chambers'!E76)","v":""},{"$f":"IF('Sterilization Chambers'!I76=\"\",\"\",'Sterilization Chambers'!I76)","v":""},{"$f":"IF(Rooms!H76=\"\",\"\",Rooms!H76)","v":""},null,null,null,null,null,null,null,null,null,null,{"$f":"+IF(AF54=\"\",\"\",MAX(AA$1:AA53)+1)","v":""},{"$f":"IF('Excess Emissions'!B76=\"\",\"\",'Excess Emissions'!B76)","v":""},{"$f":"IF('Excess Emissions'!C76=\"\",\"\",'Excess Emissions'!C76)","v":""},{"$f":"IF('Excess Emissions'!D76=\"\",\"\",'Excess Emissions'!D76)","v":""},"",{"$f":"IF(COUNTIF(AE$2:AE54,AE54)=1,AC54,\"\")","v":""},"","","",null,{"$f":"+IF(AP54=\"\",\"\",MAX(AK$1:AK53)+1)","v":""},{"$f":"IF('CMS Downtime Detail'!B76=\"\",\"\",'CMS Downtime Detail'!B76)","v":""},{"$f":"IF('CMS Downtime Detail'!C76=\"\",\"\",'CMS Downtime Detail'!C76)","v":""},{"$f":"IF('CMS Downtime Detail'!D76=\"\",\"\",'CMS Downtime Detail'!D76)","v":""},"",{"$f":"IF(COUNTIF(AO$2:AO54,AO54)=1,AM54,\"\")","v":""},"","","",null,{"$f":"+IF(AZ54=\"\",\"\",MAX(AU$1:AU53)+1)","v":""},{"$f":"IF('Process and CMS Information'!B76=\"\",\"\",'Process and CMS Information'!B76)","v":""},{"$f":"IF('Process and CMS Information'!C76=\"\",\"\",'Process and CMS Information'!C76)","v":""},{"$f":"IF('Process and CMS Information'!F76=\"\",\"\",'Process and CMS Information'!F76)","v":""},"",{"$f":"IF(COUNTIF(AY$2:AY54,AY54)=1,AY54,\"\")","v":""},"","","","",null,null,null,null,null,null,null,null,null,null,null,null,null,null,null,null,null,null,null,null,"WA"]
[null,null,null,null,{"$f":"IF(H55=\"\",\"\",MAX(E$1:E54)+1)","v":""},{"$f":"IF('Process and CMS Information'!C77=\"\",\"\",'Process and CMS Information'!C77)","v":""},"",{"$f":"IF(COUNTIF(F$2:F55,F55)=1,F55,\"\")","v":""},{"$f":"IF(L55=\"\",\"\",MAX(I$1:I54)+1)","v":""},{"$f":"IF('Process and CMS Information'!D76=\"\",\"\",'Process and CMS Information'!D76)","v":""},"",{"$f":"IF(COUNTIF(J$3:J55,J55)=1,J55,\"\")","v":""},{"$f":"IF('Periodic Performance Testing'!C77=\"\",\"\",'Periodic Performance Testing'!C77)","v":""},{"$f":"IF('Sterilization Chambers'!E77=\"\",\"\",'Sterilization Chambers'!E77)","v":""},{"$f":"IF('Sterilization Chambers'!I77=\"\",\"\",'Sterilization Chambers'!I77)","v":""},{"$f":"IF(Rooms!H77=\"\",\"\",Rooms!H77)","v":""},null,null,null,null,null,null,null,null,null,null,{"$f":"+IF(AF55=\"\",\"\",MAX(AA$1:AA54)+1)","v":""},{"$f":"IF('Excess Emissions'!B77=\"\",\"\",'Excess Emissions'!B77)","v":""},{"$f":"IF('Excess Emissions'!C77=\"\",\"\",'Excess Emissions'!C77)","v":""},{"$f":"IF('Excess Emissions'!D77=\"\",\"\",'Excess Emissions'!D77)","v":""},"",{"$f":"IF(COUNTIF(AE$2:AE55,AE55)=1,AC55,\"\")","v":""},"","","",null,{"$f":"+IF(AP55=\"\",\"\",MAX(AK$1:AK54)+1)","v":""},{"$f":"IF('CMS Downtime Detail'!B77=\"\",\"\",'CMS Downtime Detail'!B77)","v":""},{"$f":"IF('CMS Downtime Detail'!C77=\"\",\"\",'CMS Downtime Detail'!C77)","v":""},{"$f":"IF('CMS Downtime Detail'!D77=\"\",\"\",'CMS Downtime Detail'!D77)","v":""},"",{"$f":"IF(COUNTIF(AO$2:AO55,AO55)=1,AM55,\"\")","v":""},"","","",null,{"$f":"+IF(AZ55=\"\",\"\",MAX(AU$1:AU54)+1)","v":""},{"$f":"IF('Process and CMS Information'!B77=\"\",\"\",'Process and CMS Information'!B77)","v":""},{"$f":"IF('Process and CMS Information'!C77=\"\",\"\",'Process and CMS Information'!C77)","v":""},{"$f":"IF('Process and CMS Information'!F77=\"\",\"\",'Process and CMS Information'!F77)","v":""},"",{"$f":"IF(COUNTIF(AY$2:AY55,AY55)=1,AY55,\"\")","v":""},"","","","",null,null,null,null,null,null,null,null,null,null,null,null,null,null,null,null,null,null,null,null,"WI"]
[null,null,null,null,{"$f":"IF(H56=\"\",\"\",MAX(E$1:E55)+1)","v":""},{"$f":"IF('Process and CMS Information'!C78=\"\",\"\",'Process and CMS Information'!C78)","v":""},"",{"$f":"IF(COUNTIF(F$2:F56,F56)=1,F56,\"\")","v":""},{"$f":"IF(L56=\"\",\"\",MAX(I$1:I55)+1)","v":""},{"$f":"IF('Process and CMS Information'!D77=\"\",\"\",'Process and CMS Information'!D77)","v":""},"",{"$f":"IF(COUNTIF(J$3:J56,J56)=1,J56,\"\")","v":""},{"$f":"IF('Periodic Performance Testing'!C78=\"\",\"\",'Periodic Performance Testing'!C78)","v":""},{"$f":"IF('Sterilization Chambers'!E78=\"\",\"\",'Sterilization Chambers'!E78)","v":""},{"$f":"IF('Sterilization Chambers'!I78=\"\",\"\",'Sterilization Chambers'!I78)","v":""},{"$f":"IF(Rooms!H78=\"\",\"\",Rooms!H78)","v":""},null,null,null,null,null,null,null,null,null,null,{"$f":"+IF(AF56=\"\",\"\",MAX(AA$1:AA55)+1)","v":""},{"$f":"IF('Excess Emissions'!B78=\"\",\"\",'Excess Emissions'!B78)","v":""},{"$f":"IF('Excess Emissions'!C78=\"\",\"\",'Excess Emissions'!C78)","v":""},{"$f":"IF('Excess Emissions'!D78=\"\",\"\",'Excess Emissions'!D78)","v":""},"",{"$f":"IF(COUNTIF(AE$2:AE56,AE56)=1,AC56,\"\")","v":""},"","","",null,{"$f":"+IF(AP56=\"\",\"\",MAX(AK$1:AK55)+1)","v":""},{"$f":"IF('CMS Downtime Detail'!B78=\"\",\"\",'CMS Downtime Detail'!B78)","v":""},{"$f":"IF('CMS Downtime Detail'!C78=\"\",\"\",'CMS Downtime Detail'!C78)","v":""},{"$f":"IF('CMS Downtime Detail'!D78=\"\",\"\",'CMS Downtime Detail'!D78)","v":""},"",{"$f":"IF(COUNTIF(AO$2:AO56,AO56)=1,AM56,\"\")","v":""},"","","",null,{"$f":"+IF(AZ56=\"\",\"\",MAX(AU$1:AU55)+1)","v":""},{"$f":"IF('Process and CMS Information'!B78=\"\",\"\",'Process and CMS Information'!B78)","v":""},{"$f":"IF('Process and CMS Information'!C78=\"\",\"\",'Process and CMS Information'!C78)","v":""},{"$f":"IF('Process and CMS Information'!F78=\"\",\"\",'Process and CMS Information'!F78)","v":""},"",{"$f":"IF(COUNTIF(AY$2:AY56,AY56)=1,AY56,\"\")","v":""},"","","","",null,null,null,null,null,null,null,null,null,null,null,null,null,null,null,null,null,null,null,null,"WV"]
[null,null,null,null,{"$f":"IF(H57=\"\",\"\",MAX(E$1:E56)+1)","v":""},{"$f":"IF('Process and CMS Information'!C79=\"\",\"\",'Process and CMS Information'!C79)","v":""},"",{"$f":"IF(COUNTIF(F$2:F57,F57)=1,F57,\"\")","v":""},{"$f":"IF(L57=\"\",\"\",MAX(I$1:I56)+1)","v":""},{"$f":"IF('Process and CMS Information'!D78=\"\",\"\",'Process and CMS Information'!D78)","v":""},"",{"$f":"IF(COUNTIF(J$3:J57,J57)=1,J57,\"\")","v":""},{"$f":"IF('Periodic Performance Testing'!C79=\"\",\"\",'Periodic Performance Testing'!C79)","v":""},{"$f":"IF('Sterilization Chambers'!E79=\"\",\"\",'Sterilization Chambers'!E79)","v":""},{"$f":"IF('Sterilization Chambers'!I79=\"\",\"\",'Sterilization Chambers'!I79)","v":""},{"$f":"IF(Rooms!H79=\"\",\"\",Rooms!H79)","v":""},null,null,null,null,null,null,null,null,null,null,{"$f":"+IF(AF57=\"\",\"\",MAX(AA$1:AA56)+1)","v":""},{"$f":"IF('Excess Emissions'!B79=\"\",\"\",'Excess Emissions'!B79)","v":""},{"$f":"IF('Excess Emissions'!C79=\"\",\"\",'Excess Emissions'!C79)","v":""},{"$f":"IF('Excess Emissions'!D79=\"\",\"\",'Excess Emissions'!D79)","v":""},"",{"$f":"IF(COUNTIF(AE$2:AE57,AE57)=1,AC57,\"\")","v":""},"","","",null,{"$f":"+IF(AP57=\"\",\"\",MAX(AK$1:AK56)+1)","v":""},{"$f":"IF('CMS Downtime Detail'!B79=\"\",\"\",'CMS Downtime Detail'!B79)","v":""},{"$f":"IF('CMS Downtime Detail'!C79=\"\",\"\",'CMS Downtime Detail'!C79)","v":""},{"$f":"IF('CMS Downtime Detail'!D79=\"\",\"\",'CMS Downtime Detail'!D79)","v":""},"",{"$f":"IF(COUNTIF(AO$2:AO57,AO57)=1,AM57,\"\")","v":""},"","","",null,{"$f":"+IF(AZ57=\"\",\"\",MAX(AU$1:AU56)+1)","v":""},{"$f":"IF('Process and CMS Information'!B79=\"\",\"\",'Process and CMS Information'!B79)","v":""},{"$f":"IF('Process and CMS Information'!C79=\"\",\"\",'Process and CMS Information'!C79)","v":""},{"$f":"IF('Process and CMS Information'!F79=\"\",\"\",'Process and CMS Information'!F79)","v":""},"",{"$f":"IF(COUNTIF(AY$2:AY57,AY57)=1,AY57,\"\")","v":""},"","","","",null,null,null,null,null,null,null,null,null,null,null,null,null,null,null,null,null,null,null,null,"WY"]
[null,null,null,null,{"$f":"IF(H58=\"\",\"\",MAX(E$1:E57)+1)","v":""},{"$f":"IF('Process and CMS Information'!C80=\"\",\"\",'Process and CMS Information'!C80)","v":""},"",{"$f":"IF(COUNTIF(F$2:F58,F58)=1,F58,\"\")","v":""},{"$f":"IF(L58=\"\",\"\",MAX(I$1:I57)+1)","v":""},{"$f":"IF('Process and CMS Information'!D79=\"\",\"\",'Process and CMS Information'!D79)","v":""},"",{"$f":"IF(COUNTIF(J$3:J58,J58)=1,J58,\"\")","v":""},{"$f":"IF('Periodic Performance Testing'!C80=\"\",\"\",'Periodic Performance Testing'!C80)","v":""},{"$f":"IF('Sterilization Chambers'!E80=\"\",\"\",'Sterilization Chambers'!E80)","v":""},{"$f":"IF('Sterilization Chambers'!I80=\"\",\"\",'Sterilization Chambers'!I80)","v":""},{"$f":"IF(Rooms!H80=\"\",\"\",Rooms!H80)","v":""},null,null,null,null,null,null,null,null,null,null,{"$f":"+IF(AF58=\"\",\"\",MAX(AA$1:AA57)+1)","v":""},{"$f":"IF('Excess Emissions'!B80=\"\",\"\",'Excess Emissions'!B80)","v":""},{"$f":"IF('Excess Emissions'!C80=\"\",\"\",'Excess Emissions'!C80)","v":""},{"$f":"IF('Excess Emissions'!D80=\"\",\"\",'Excess Emissions'!D80)","v":""},"",{"$f":"IF(COUNTIF(AE$2:AE58,AE58)=1,AC58,\"\")","v":""},"","","",null,{"$f":"+IF(AP58=\"\",\"\",MAX(AK$1:AK57)+1)","v":""},{"$f":"IF('CMS Downtime Detail'!B80=\"\",\"\",'CMS Downtime Detail'!B80)","v":""},{"$f":"IF('CMS Downtime Detail'!C80=\"\",\"\",'CMS Downtime Detail'!C80)","v":""},{"$f":"IF('CMS Downtime Detail'!D80=\"\",\"\",'CMS Downtime Detail'!D80)","v":""},"",{"$f":"IF(COUNTIF(AO$2:AO58,AO58)=1,AM58,\"\")","v":""},"","","",null,{"$f":"+IF(AZ58=\"\",\"\",MAX(AU$1:AU57)+1)","v":""},{"$f":"IF('Process and CMS Information'!B80=\"\",\"\",'Process and CMS Information'!B80)","v":""},{"$f":"IF('Process and CMS Information'!C80=\"\",\"\",'Process and CMS Information'!C80)","v":""},{"$f":"IF('Process and CMS Information'!F80=\"\",\"\",'Process and CMS Information'!F80)","v":""},"",{"$f":"IF(COUNTIF(AY$2:AY58,AY58)=1,AY58,\"\")","v":""},"","","",""]
[null,null,null,null,{"$f":"IF(H59=\"\",\"\",MAX(E$1:E58)+1)","v":""},{"$f":"IF('Process and CMS Information'!C81=\"\",\"\",'Process and CMS Information'!C81)","v":""},"",{"$f":"IF(COUNTIF(F$2:F59,F59)=1,F59,\"\")","v":""},{"$f":"IF(L59=\"\",\"\",MAX(I$1:I58)+1)","v":""},{"$f":"IF('Process and CMS Information'!D80=\"\",\"\",'Process and CMS Information'!D80)","v":""},"",{"$f":"IF(COUNTIF(J$3:J59,J59)=1,J59,\"\")","v":""},{"$f":"IF('Periodic Performance Testing'!C81=\"\",\"\",'Periodic Performance Testing'!C81)","v":""},{"$f":"IF('Sterilization Chambers'!E81=\"\",\"\",'Sterilization Chambers'!E81)","v":""},{"$f":"IF('Sterilization Chambers'!I81=\"\",\"\",'Sterilization Chambers'!I81)","v":""},{"$f":"IF(Rooms!H81=\"\",\"\",Rooms!H81)","v":""},null,null,null,null,null,null,null,null,null,null,{"$f":"+IF(AF59=\"\",\"\",MAX(AA$1:AA58)+1)","v":""},{"$f":"IF('Excess Emissions'!B81=\"\",\"\",'Excess Emissions'!B81)","v":""},{"$f":"IF('Excess Emissions'!C81=\"\",\"\",'Excess Emissions'!C81)","v":""},{"$f":"IF('Excess Emissions'!D81=\"\",\"\",'Excess Emissions'!D81)","v":""},"",{"$f":"IF(COUNTIF(AE$2:AE59,AE59)=1,AC59,\"\")","v":""},"","","",null,{"$f":"+IF(AP59=\"\",\"\",MAX(AK$1:AK58)+1)","v":""},{"$f":"IF('CMS Downtime Detail'!B81=\"\",\"\",'CMS Downtime Detail'!B81)","v":""},{"$f":"IF('CMS Downtime Detail'!C81=\"\",\"\",'CMS Downtime Detail'!C81)","v":""},{"$f":"IF('CMS Downtime Detail'!D81=\"\",\"\",'CMS Downtime Detail'!D81)","v":""},"",{"$f":"IF(COUNTIF(AO$2:AO59,AO59)=1,AM59,\"\")","v":""},"","","",null,{"$f":"+IF(AZ59=\"\",\"\",MAX(AU$1:AU58)+1)","v":""},{"$f":"IF('Process and CMS Information'!B81=\"\",\"\",'Process and CMS Information'!B81)","v":""},{"$f":"IF('Process and CMS Information'!C81=\"\",\"\",'Process and CMS Information'!C81)","v":""},{"$f":"IF('Process and CMS Information'!F81=\"\",\"\",'Process and CMS Information'!F81)","v":""},"",{"$f":"IF(COUNTIF(AY$2:AY59,AY59)=1,AY59,\"\")","v":""},"","","",""]
[null,null,null,null,{"$f":"IF(H60=\"\",\"\",MAX(E$1:E59)+1)","v":""},{"$f":"IF('Process and CMS Information'!C82=\"\",\"\",'Process and CMS Information'!C82)","v":""},"",{"$f":"IF(COUNTIF(F$2:F60,F60)=1,F60,\"\")","v":""},{"$f":"IF(L60=\"\",\"\",MAX(I$1:I59)+1)","v":""},{"$f":"IF('Process and CMS Information'!D81=\"\",\"\",'Process and CMS Information'!D81)","v":""},"",{"$f":"IF(COUNTIF(J$3:J60,J60)=1,J60,\"\")","v":""},{"$f":"IF('Periodic Performance Testing'!C82=\"\",\"\",'Periodic Performance Testing'!C82)","v":""},{"$f":"IF('Sterilization Chambers'!E82=\"\",\"\",'Sterilization Chambers'!E82)","v":""},{"$f":"IF('Sterilization Chambers'!I82=\"\",\"\",'Sterilization Chambers'!I82)","v":""},{"$f":"IF(Rooms!H82=\"\",\"\",Rooms!H82)","v":""},null,null,null,null,null,null,null,null,null,null,{"$f":"+IF(AF60=\"\",\"\",MAX(AA$1:AA59)+1)","v":""},{"$f":"IF('Excess Emissions'!B82=\"\",\"\",'Excess Emissions'!B82)","v":""},{"$f":"IF('Excess Emissions'!C82=\"\",\"\",'Excess Emissions'!C82)","v":""},{"$f":"IF('Excess Emissions'!D82=\"\",\"\",'Excess Emissions'!D82)","v":""},"",{"$f":"IF(COUNTIF(AE$2:AE60,AE60)=1,AC60,\"\")","v":""},"","","",null,{"$f":"+IF(AP60=\"\",\"\",MAX(AK$1:AK59)+1)","v":""},{"$f":"IF('CMS Downtime Detail'!B82=\"\",\"\",'CMS Downtime Detail'!B82)","v":""},{"$f":"IF('CMS Downtime Detail'!C82=\"\",\"\",'CMS Downtime Detail'!C82)","v":""},{"$f":"IF('CMS Downtime Detail'!D82=\"\",\"\",'CMS Downtime Detail'!D82)","v":""},"",{"$f":"IF(COUNTIF(AO$2:AO60,AO60)=1,AM60,\"\")","v":""},"","","",null,{"$f":"+IF(AZ60=\"\",\"\",MAX(AU$1:AU59)+1)","v":""},{"$f":"IF('Process and CMS Information'!B82=\"\",\"\",'Process and CMS Information'!B82)","v":""},{"$f":"IF('Process and CMS Information'!C82=\"\",\"\",'Process and CMS Information'!C82)","v":""},{"$f":"IF('Process and CMS Information'!F82=\"\",\"\",'Process and CMS Information'!F82)","v":""},"",{"$f":"IF(COUNTIF(AY$2:AY60,AY60)=1,AY60,\"\")","v":""},"","","",""]
[null,null,null,null,{"$f":"IF(H61=\"\",\"\",MAX(E$1:E60)+1)","v":""},{"$f":"IF('Process and CMS Information'!C83=\"\",\"\",'Process and CMS Information'!C83)","v":""},"",{"$f":"IF(COUNTIF(F$2:F61,F61)=1,F61,\"\")","v":""},{"$f":"IF(L61=\"\",\"\",MAX(I$1:I60)+1)","v":""},{"$f":"IF('Process and CMS Information'!D82=\"\",\"\",'Process and CMS Information'!D82)","v":""},"",{"$f":"IF(COUNTIF(J$3:J61,J61)=1,J61,\"\")","v":""},{"$f":"IF('Periodic Performance Testing'!C83=\"\",\"\",'Periodic Performance Testing'!C83)","v":""},{"$f":"IF('Sterilization Chambers'!E83=\"\",\"\",'Sterilization Chambers'!E83)","v":""},{"$f":"IF('Sterilization Chambers'!I83=\"\",\"\",'Sterilization Chambers'!I83)","v":""},{"$f":"IF(Rooms!H83=\"\",\"\",Rooms!H83)","v":""},null,null,null,null,null,null,null,null,null,null,{"$f":"+IF(AF61=\"\",\"\",MAX(AA$1:AA60)+1)","v":""},{"$f":"IF('Excess Emissions'!B83=\"\",\"\",'Excess Emissions'!B83)","v":""},{"$f":"IF('Excess Emissions'!C83=\"\",\"\",'Excess Emissions'!C83)","v":""},{"$f":"IF('Excess Emissions'!D83=\"\",\"\",'Excess Emissions'!D83)","v":""},"",{"$f":"IF(COUNTIF(AE$2:AE61,AE61)=1,AC61,\"\")","v":""},"","","",null,{"$f":"+IF(AP61=\"\",\"\",MAX(AK$1:AK60)+1)","v":""},{"$f":"IF('CMS Downtime Detail'!B83=\"\",\"\",'CMS Downtime Detail'!B83)","v":""},{"$f":"IF('CMS Downtime Detail'!C83=\"\",\"\",'CMS Downtime Detail'!C83)","v":""},{"$f":"IF('CMS Downtime Detail'!D83=\"\",\"\",'CMS Downtime Detail'!D83)","v":""},"",{"$f":"IF(COUNTIF(AO$2:AO61,AO61)=1,AM61,\"\")","v":""},"","","",null,{"$f":"+IF(AZ61=\"\",\"\",MAX(AU$1:AU60)+1)","v":""},{"$f":"IF('Process and CMS Information'!B83=\"\",\"\",'Process and CMS Information'!B83)","v":""},{"$f":"IF('Process and CMS Information'!C83=\"\",\"\",'Process and CMS Information'!C83)","v":""},{"$f":"IF('Process and CMS Information'!F83=\"\",\"\",'Process and CMS Information'!F83)","v":""},"",{"$f":"IF(COUNTIF(AY$2:AY61,AY61)=1,AY61,\"\")","v":""},"","","",""]
[null,null,null,null,{"$f":"IF(H62=\"\",\"\",MAX(E$1:E61)+1)","v":""},{"$f":"IF('Process and CMS Information'!C84=\"\",\"\",'Process and CMS Information'!C84)","v":""},"",{"$f":"IF(COUNTIF(F$2:F62,F62)=1,F62,\"\")","v":""},{"$f":"IF(L62=\"\",\"\",MAX(I$1:I61)+1)","v":""},{"$f":"IF('Process and CMS Information'!D83=\"\",\"\",'Process and CMS Information'!D83)","v":""},"",{"$f":"IF(COUNTIF(J$3:J62,J62)=1,J62,\"\")","v":""},{"$f":"IF('Periodic Performance Testing'!C84=\"\",\"\",'Periodic Performance Testing'!C84)","v":""},{"$f":"IF('Sterilization Chambers'!E84=\"\",\"\",'Sterilization Chambers'!E84)","v":""},{"$f":"IF('Sterilization Chambers'!I84=\"\",\"\",'Sterilization Chambers'!I84)","v":""},{"$f":"IF(Rooms!H84=\"\",\"\",Rooms!H84)","v":""},null,null,null,null,null,null,null,null,null,null,{"$f":"+IF(AF62=\"\",\"\",MAX(AA$1:AA61)+1)","v":""},{"$f":"IF('Excess Emissions'!B84=\"\",\"\",'Excess Emissions'!B84)","v":""},{"$f":"IF('Excess Emissions'!C84=\"\",\"\",'Excess Emissions'!C84)","v":""},{"$f":"IF('Excess Emissions'!D84=\"\",\"\",'Excess Emissions'!D84)","v":""},"",{"$f":"IF(COUNTIF(AE$2:AE62,AE62)=1,AC62,\"\")","v":""},"","","",null,{"$f":"+IF(AP62=\"\",\"\",MAX(AK$1:AK61)+1)","v":""},{"$f":"IF('CMS Downtime Detail'!B84=\"\",\"\",'CMS Downtime Detail'!B84)","v":""},{"$f":"IF('CMS Downtime Detail'!C84=\"\",\"\",'CMS Downtime Detail'!C84)","v":""},{"$f":"IF('CMS Downtime Detail'!D84=\"\",\"\",'CMS Downtime Detail'!D84)","v":""},"",{"$f":"IF(COUNTIF(AO$2:AO62,AO62)=1,AM62,\"\")","v":""},"","","",null,{"$f":"+IF(AZ62=\"\",\"\",MAX(AU$1:AU61)+1)","v":""},{"$f":"IF('Process and CMS Information'!B84=\"\",\"\",'Process and CMS Information'!B84)","v":""},{"$f":"IF('Process and CMS Information'!C84=\"\",\"\",'Process and CMS Information'!C84)","v":""},{"$f":"IF('Process and CMS Information'!F84=\"\",\"\",'Process and CMS Information'!F84)","v":""},"",{"$f":"IF(COUNTIF(AY$2:AY62,AY62)=1,AY62,\"\")","v":""},"","","",""]
[null,null,null,null,{"$f":"IF(H63=\"\",\"\",MAX(E$1:E62)+1)","v":""},{"$f":"IF('Process and CMS Information'!C85=\"\",\"\",'Process and CMS Information'!C85)","v":""},"",{"$f":"IF(COUNTIF(F$2:F63,F63)=1,F63,\"\")","v":""},{"$f":"IF(L63=\"\",\"\",MAX(I$1:I62)+1)","v":""},{"$f":"IF('Process and CMS Information'!D84=\"\",\"\",'Process and CMS Information'!D84)","v":""},"",{"$f":"IF(COUNTIF(J$3:J63,J63)=1,J63,\"\")","v":""},{"$f":"IF('Periodic Performance Testing'!C85=\"\",\"\",'Periodic Performance Testing'!C85)","v":""},{"$f":"IF('Sterilization Chambers'!E85=\"\",\"\",'Sterilization Chambers'!E85)","v":""},{"$f":"IF('Sterilization Chambers'!I85=\"\",\"\",'Sterilization Chambers'!I85)","v":""},{"$f":"IF(Rooms!H85=\"\",\"\",Rooms!H85)","v":""},null,null,null,null,null,null,null,null,null,null,{"$f":"+IF(AF63=\"\",\"\",MAX(AA$1:AA62)+1)","v":""},{"$f":"IF('Excess Emissions'!B85=\"\",\"\",'Excess Emissions'!B85)","v":""},{"$f":"IF('Excess Emissions'!C85=\"\",\"\",'Excess Emissions'!C85)","v":""},{"$f":"IF('Excess Emissions'!D85=\"\",\"\",'Excess Emissions'!D85)","v":""},"",{"$f":"IF(COUNTIF(AE$2:AE63,AE63)=1,AC63,\"\")","v":""},"","","",null,{"$f":"+IF(AP63=\"\",\"\",MAX(AK$1:AK62)+1)","v":""},{"$f":"IF('CMS Downtime Detail'!B85=\"\",\"\",'CMS Downtime Detail'!B85)","v":""},{"$f":"IF('CMS Downtime Detail'!C85=\"\",\"\",'CMS Downtime Detail'!C85)","v":""},{"$f":"IF('CMS Downtime Detail'!D85=\"\",\"\",'CMS Downtime Detail'!D85)","v":""},"",{"$f":"IF(COUNTIF(AO$2:AO63,AO63)=1,AM63,\"\")","v":""},"","","",null,{"$f":"+IF(AZ63=\"\",\"\",MAX(AU$1:AU62)+1)","v":""},{"$f":"IF('Process and CMS Information'!B85=\"\",\"\",'Process and CMS Information'!B85)","v":""},{"$f":"IF('Process and CMS Information'!C85=\"\",\"\",'Process and CMS Information'!C85)","v":""},{"$f":"IF('Process and CMS Information'!F85=\"\",\"\",'Process and CMS Information'!F85)","v":""},"",{"$f":"IF(COUNTIF(AY$2:AY63,AY63)=1,AY63,\"\")","v":""},"","","",""]
[null,null,null,null,{"$f":"IF(H64=\"\",\"\",MAX(E$1:E63)+1)","v":""},{"$f":"IF('Process and CMS Information'!C86=\"\",\"\",'Process and CMS Information'!C86)","v":""},"",{"$f":"IF(COUNTIF(F$2:F64,F64)=1,F64,\"\")","v":""},{"$f":"IF(L64=\"\",\"\",MAX(I$1:I63)+1)","v":""},{"$f":"IF('Process and CMS Information'!D85=\"\",\"\",'Process and CMS Information'!D85)","v":""},"",{"$f":"IF(COUNTIF(J$3:J64,J64)=1,J64,\"\")","v":""},{"$f":"IF('Periodic Performance Testing'!C86=\"\",\"\",'Periodic Performance Testing'!C86)","v":""},{"$f":"IF('Sterilization Chambers'!E86=\"\",\"\",'Sterilization Chambers'!E86)","v":""},{"$f":"IF('Sterilization Chambers'!I86=\"\",\"\",'Sterilization Chambers'!I86)","v":""},{"$f":"IF(Rooms!H86=\"\",\"\",Rooms!H86)","v":""},null,null,null,null,null,null,null,null,null,null,{"$f":"+IF(AF64=\"\",\"\",MAX(AA$1:AA63)+1)","v":""},{"$f":"IF('Excess Emissions'!B86=\"\",\"\",'Excess Emissions'!B86)","v":""},{"$f":"IF('Excess Emissions'!C86=\"\",\"\",'Excess Emissions'!C86)","v":""},{"$f":"IF('Excess Emissions'!D86=\"\",\"\",'Excess Emissions'!D86)","v":""},"",{"$f":"IF(COUNTIF(AE$2:AE64,AE64)=1,AC64,\"\")","v":""},"","","",null,{"$f":"+IF(AP64=\"\",\"\",MAX(AK$1:AK63)+1)","v":""},{"$f":"IF('CMS Downtime Detail'!B86=\"\",\"\",'CMS Downtime Detail'!B86)","v":""},{"$f":"IF('CMS Downtime Detail'!C86=\"\",\"\",'CMS Downtime Detail'!C86)","v":""},{"$f":"IF('CMS Downtime Detail'!D86=\"\",\"\",'CMS Downtime Detail'!D86)","v":""},"",{"$f":"IF(COUNTIF(AO$2:AO64,AO64)=1,AM64,\"\")","v":""},"","","",null,{"$f":"+IF(AZ64=\"\",\"\",MAX(AU$1:AU63)+1)","v":""},{"$f":"IF('Process and CMS Information'!B86=\"\",\"\",'Process and CMS Information'!B86)","v":""},{"$f":"IF('Process and CMS Information'!C86=\"\",\"\",'Process and CMS Information'!C86)","v":""},{"$f":"IF('Process and CMS Information'!F86=\"\",\"\",'Process and CMS Information'!F86)","v":""},"",{"$f":"IF(COUNTIF(AY$2:AY64,AY64)=1,AY64,\"\")","v":""},"","","",""]
[null,null,null,null,{"$f":"IF(H65=\"\",\"\",MAX(E$1:E64)+1)","v":""},{"$f":"IF('Process and CMS Information'!C87=\"\",\"\",'Process and CMS Information'!C87)","v":""},"",{"$f":"IF(COUNTIF(F$2:F65,F65)=1,F65,\"\")","v":""},{"$f":"IF(L65=\"\",\"\",MAX(I$1:I64)+1)","v":""},{"$f":"IF('Process and CMS Information'!D86=\"\",\"\",'Process and CMS Information'!D86)","v":""},"",{"$f":"IF(COUNTIF(J$3:J65,J65)=1,J65,\"\")","v":""},{"$f":"IF('Periodic Performance Testing'!C87=\"\",\"\",'Periodic Performance Testing'!C87)","v":""},{"$f":"IF('Sterilization Chambers'!E87=\"\",\"\",'Sterilization Chambers'!E87)","v":""},{"$f":"IF('Sterilization Chambers'!I87=\"\",\"\",'Sterilization Chambers'!I87)","v":""},{"$f":"IF(Rooms!H87=\"\",\"\",Rooms!H87)","v":""},null,null,null,null,null,null,null,null,null,null,{"$f":"+IF(AF65=\"\",\"\",MAX(AA$1:AA64)+1)","v":""},{"$f":"IF('Excess Emissions'!B87=\"\",\"\",'Excess Emissions'!B87)","v":""},{"$f":"IF('Excess Emissions'!C87=\"\",\"\",'Excess Emissions'!C87)","v":""},{"$f":"IF('Excess Emissions'!D87=\"\",\"\",'Excess Emissions'!D87)","v":""},"",{"$f":"IF(COUNTIF(AE$2:AE65,AE65)=1,AC65,\"\")","v":""},"","","",null,{"$f":"+IF(AP65=\"\",\"\",MAX(AK$1:AK64)+1)","v":""},{"$f":"IF('CMS Downtime Detail'!B87=\"\",\"\",'CMS Downtime Detail'!B87)","v":""},{"$f":"IF('CMS Downtime Detail'!C87=\"\",\"\",'CMS Downtime Detail'!C87)","v":""},{"$f":"IF('CMS Downtime Detail'!D87=\"\",\"\",'CMS Downtime Detail'!D87)","v":""},"",{"$f":"IF(COUNTIF(AO$2:AO65,AO65)=1,AM65,\"\")","v":""},"","","",null,{"$f":"+IF(AZ65=\"\",\"\",MAX(AU$1:AU64)+1)","v":""},{"$f":"IF('Process and CMS Information'!B87=\"\",\"\",'Process and CMS Information'!B87)","v":""},{"$f":"IF('Process and CMS Information'!C87=\"\",\"\",'Process and CMS Information'!C87)","v":""},{"$f":"IF('Process and CMS Information'!F87=\"\",\"\",'Process and CMS Information'!F87)","v":""},"",{"$f":"IF(COUNTIF(AY$2:AY65,AY65)=1,AY65,\"\")","v":""},"","","",""]
[null,null,null,null,{"$f":"IF(H66=\"\",\"\",MAX(E$1:E65)+1)","v":""},{"$f":"IF('Process and CMS Information'!C88=\"\",\"\",'Process and CMS Information'!C88)","v":""},"",{"$f":"IF(COUNTIF(F$2:F66,F66)=1,F66,\"\")","v":""},{"$f":"IF(L66=\"\",\"\",MAX(I$1:I65)+1)","v":""},{"$f":"IF('Process and CMS Information'!D87=\"\",\"\",'Process and CMS Information'!D87)","v":""},"",{"$f":"IF(COUNTIF(J$3:J66,J66)=1,J66,\"\")","v":""},{"$f":"IF('Periodic Performance Testing'!C88=\"\",\"\",'Periodic Performance Testing'!C88)","v":""},{"$f":"IF('Sterilization Chambers'!E88=\"\",\"\",'Sterilization Chambers'!E88)","v":""},{"$f":"IF('Sterilization Chambers'!I88=\"\",\"\",'Sterilization Chambers'!I88)","v":""},{"$f":"IF(Rooms!H88=\"\",\"\",Rooms!H88)","v":""},null,null,null,null,null,null,null,null,null,null,{"$f":"+IF(AF66=\"\",\"\",MAX(AA$1:AA65)+1)","v":""},{"$f":"IF('Excess Emissions'!B88=\"\",\"\",'Excess Emissions'!B88)","v":""},{"$f":"IF('Excess Emissions'!C88=\"\",\"\",'Excess Emissions'!C88)","v":""},{"$f":"IF('Excess Emissions'!D88=\"\",\"\",'Excess Emissions'!D88)","v":""},"",{"$f":"IF(COUNTIF(AE$2:AE66,AE66)=1,AC66,\"\")","v":""},"","","",null,{"$f":"+IF(AP66=\"\",\"\",MAX(AK$1:AK65)+1)","v":""},{"$f":"IF('CMS Downtime Detail'!B88=\"\",\"\",'CMS Downtime Detail'!B88)","v":""},{"$f":"IF('CMS Downtime Detail'!C88=\"\",\"\",'CMS Downtime Detail'!C88)","v":""},{"$f":"IF('CMS Downtime Detail'!D88=\"\",\"\",'CMS Downtime Detail'!D88)","v":""},"",{"$f":"IF(COUNTIF(AO$2:AO66,AO66)=1,AM66,\"\")","v":""},"","","",null,{"$f":"+IF(AZ66=\"\",\"\",MAX(AU$1:AU65)+1)","v":""},{"$f":"IF('Process and CMS Information'!B88=\"\",\"\",'Process and CMS Information'!B88)","v":""},{"$f":"IF('Process and CMS Information'!C88=\"\",\"\",'Process and CMS Information'!C88)","v":""},{"$f":"IF('Process and CMS Information'!F88=\"\",\"\",'Process and CMS Information'!F88)","v":""},"",{"$f":"IF(COUNTIF(AY$2:AY66,AY66)=1,AY66,\"\")","v":""},"","","",""]
[null,null,null,null,{"$f":"IF(H67=\"\",\"\",MAX(E$1:E66)+1)","v":""},{"$f":"IF('Process and CMS Information'!C89=\"\",\"\",'Process and CMS Information'!C89)","v":""},{"$f":"+IFERROR(INDEX($F$2:$F$2501,MATCH(ROW()-ROW($G$1),$E$2:$E$2501,0)),\"\")","v":""},{"$f":"IF(COUNTIF(F$2:F67,F67)=1,F67,\"\")","v":""},{"$f":"IF(L67=\"\",\"\",MAX(I$1:I66)+1)","v":""},{"$f":"IF('Process and CMS Information'!D88=\"\",\"\",'Process and CMS Information'!D88)","v":""},"",{"$f":"IF(COUNTIF(J$3:J67,J67)=1,J67,\"\")","v":""},{"$f":"IF('Periodic Performance Testing'!C89=\"\",\"\",'Periodic Performance Testing'!C89)","v":""},{"$f":"IF('Sterilization Chambers'!E89=\"\",\"\",'Sterilization Chambers'!E89)","v":""},{"$f":"IF('Sterilization Chambers'!I89=\"\",\"\",'Sterilization Chambers'!I89)","v":""},{"$f":"IF(Rooms!H89=\"\",\"\",Rooms!H89)","v":""},null,null,null,null,null,null,null,null,null,null,{"$f":"+IF(AF67=\"\",\"\",MAX(AA$1:AA66)+1)","v":""},{"$f":"IF('Excess Emissions'!B89=\"\",\"\",'Excess Emissions'!B89)","v":""},{"$f":"IF('Excess Emissions'!C89=\"\",\"\",'Excess Emissions'!C89)","v":""},{"$f":"IF('Excess Emissions'!D89=\"\",\"\",'Excess Emissions'!D89)","v":""},{"$f":"AB67&AC67&AD67","v":""},{"$f":"IF(COUNTIF(AE$2:AE67,AE67)=1,AC67,\"\")","v":""},{"$f":"+IFERROR(INDEX(AB$2:AB$500,MATCH(ROW()-ROW($AF$1),$AA$2:$AA$500,0)),\"\")","v":""},{"$f":"+IFERROR(INDEX(AC$2:AC$500,MATCH(ROW()-ROW($AF$1),$AA$2:$AA$500,0)),\"\")","v":""},{"$f":"+IFERROR(INDEX(AD$2:AD$500,MATCH(ROW()-ROW($AF$1),$AA$2:$AA$500,0)),\"\")","v":""},null,{"$f":"+IF(AP67=\"\",\"\",MAX(AK$1:AK66)+1)","v":""},{"$f":"IF('CMS Downtime Detail'!B89=\"\",\"\",'CMS Downtime Detail'!B89)","v":""},{"$f":"IF('CMS Downtime Detail'!C89=\"\",\"\",'CMS Downtime Detail'!C89)","v":""},{"$f":"IF('CMS Downtime Detail'!D89=\"\",\"\",'CMS Downtime Detail'!D89)","v":""},{"$f":"AL67&AM67&AN67","v":""},{"$f":"IF(COUNTIF(AO$2:AO67,AO67)=1,AM67,\"\")","v":""},{"$f":"+IFERROR(INDEX(AL$2:AL$500,MATCH(ROW()-ROW($AP$1),$AK$2:$AK$500,0)),\"\")","v":""},{"$f":"+IFERROR(INDEX(AM$2:AM$500,MATCH(ROW()-ROW($AP$1),$AK$2:$AK$500,0)),\"\")","v":""},{"$f":"+IFERROR(INDEX(AN$2:AN$500,MATCH(ROW()-ROW($AP$1),$AK$2:$AK$500,0)),\"\")","v":""},null,{"$f":"+IF(AZ67=\"\",\"\",MAX(AU$1:AU66)+1)","v":""},{"$f":"IF('Process and CMS Information'!B89=\"\",\"\",'Process and CMS Information'!B89)","v":""},{"$f":"IF('Process and CMS Information'!C89=\"\",\"\",'Process and CMS Information'!C89)","v":""},{"$f":"IF('Process and CMS Information'!F89=\"\",\"\",'Process and CMS Information'!F89)","v":""},{"$f":"AV67&AW67","v":""},{"$f":"IF(COUNTIF(AY$2:AY67,AY67)=1,AY67,\"\")","v":""},{"$f":"+IFERROR(INDEX(AY$2:AY$500,MATCH(ROW()-ROW($AZ$1),$AU$2:$AU$500,0)),\"\")","v":""},{"$f":"+IFERROR(INDEX(AV$2:AV$500,MATCH(ROW()-ROW($AZ$1),$AU$2:$AU$500,0)),\"\")","v":""},{"$f":"+IFERROR(INDEX(AW$2:AW$500,MATCH(ROW()-ROW($AZ$1),$AU$2:$AU$500,0)),\"\")","v":""},{"$f":"+IFERROR(INDEX(AX$2:AX$500,MATCH(ROW()-ROW($AZ$1),$AU$2:$AU$500,0)),\"\")","v":""}]
[null,null,null,null,{"$f":"IF(H68=\"\",\"\",MAX(E$1:E67)+1)","v":""},{"$f":"IF('Process and CMS Information'!C90=\"\",\"\",'Process and CMS Information'!C90)","v":""},"",{"$f":"IF(COUNTIF(F$2:F68,F68)=1,F68,\"\")","v":""},{"$f":"IF(L68=\"\",\"\",MAX(I$1:I67)+1)","v":""},{"$f":"IF('Process and CMS Information'!D89=\"\",\"\",'Process and CMS Information'!D89)","v":""},"",{"$f":"IF(COUNTIF(J$3:J68,J68)=1,J68,\"\")","v":""},{"$f":"IF('Periodic Performance Testing'!C90=\"\",\"\",'Periodic Performance Testing'!C90)","v":""},{"$f":"IF('Sterilization Chambers'!E90=\"\",\"\",'Sterilization Chambers'!E90)","v":""},{"$f":"IF('Sterilization Chambers'!I90=\"\",\"\",'Sterilization Chambers'!I90)","v":""},{"$f":"IF(Rooms!H90=\"\",\"\",Rooms!H90)","v":""},null,null,null,null,null,null,null,null,null,null,{"$f":"+IF(AF68=\"\",\"\",MAX(AA$1:AA67)+1)","v":""},{"$f":"IF('Excess Emissions'!B90=\"\",\"\",'Excess Emissions'!B90)","v":""},{"$f":"IF('Excess Emissions'!C90=\"\",\"\",'Excess Emissions'!C90)","v":""},{"$f":"IF('Excess Emissions'!D90=\"\",\"\",'Excess Emissions'!D90)","v":""},"",{"$f":"IF(COUNTIF(AE$2:AE68,AE68)=1,AC68,\"\")","v":""},"","","",null,{"$f":"+IF(AP68=\"\",\"\",MAX(AK$1:AK67)+1)","v":""},{"$f":"IF('CMS Downtime Detail'!B90=\"\",\"\",'CMS Downtime Detail'!B90)","v":""},{"$f":"IF('CMS Downtime Detail'!C90=\"\",\"\",'CMS Downtime Detail'!C90)","v":""},{"$f":"IF('CMS Downtime Detail'!D90=\"\",\"\",'CMS Downtime Detail'!D90)","v":""},"",{"$f":"IF(COUNTIF(AO$2:AO68,AO68)=1,AM68,\"\")","v":""},"","","",null,{"$f":"+IF(AZ68=\"\",\"\",MAX(AU$1:AU67)+1)","v":""},{"$f":"IF('Process and CMS Information'!B90=\"\",\"\",'Process and CMS Information'!B90)","v":""},{"$f":"IF('Process and CMS Information'!C90=\"\",\"\",'Process and CMS Information'!C90)","v":""},{"$f":"IF('Process and CMS Information'!F90=\"\",\"\",'Process and CMS Information'!F90)","v":""},"",{"$f":"IF(COUNTIF(AY$2:AY68,AY68)=1,AY68,\"\")","v":""},"","","",""]
[null,null,null,null,{"$f":"IF(H69=\"\",\"\",MAX(E$1:E68)+1)","v":""},{"$f":"IF('Process and CMS Information'!C91=\"\",\"\",'Process and CMS Information'!C91)","v":""},"",{"$f":"IF(COUNTIF(F$2:F69,F69)=1,F69,\"\")","v":""},{"$f":"IF(L69=\"\",\"\",MAX(I$1:I68)+1)","v":""},{"$f":"IF('Process and CMS Information'!D90=\"\",\"\",'Process and CMS Information'!D90)","v":""},{"$f":"+IFERROR(INDEX($J$2:$J$2501,MATCH(ROW()-(1+ROW($J$1)),$I$2:$I$2501,0)),\"\")","v":""},{"$f":"IF(COUNTIF(J$3:J69,J69)=1,J69,\"\")","v":""},{"$f":"IF('Periodic Performance Testing'!C91=\"\",\"\",'Periodic Performance Testing'!C91)","v":""},{"$f":"IF('Sterilization Chambers'!E91=\"\",\"\",'Sterilization Chambers'!E91)","v":""},{"$f":"IF('Sterilization Chambers'!I91=\"\",\"\",'Sterilization Chambers'!I91)","v":""},{"$f":"IF(Rooms!H91=\"\",\"\",Rooms!H91)","v":""},null,null,null,null,null,null,null,null,null,null,{"$f":"+IF(AF69=\"\",\"\",MAX(AA$1:AA68)+1)","v":""},{"$f":"IF('Excess Emissions'!B91=\"\",\"\",'Excess Emissions'!B91)","v":""},{"$f":"IF('Excess Emissions'!C91=\"\",\"\",'Excess Emissions'!C91)","v":""},{"$f":"IF('Excess Emissions'!D91=\"\",\"\",'Excess Emissions'!D91)","v":""},"",{"$f":"IF(COUNTIF(AE$2:AE69,AE69)=1,AC69,\"\")","v":""},"","","",null,{"$f":"+IF(AP69=\"\",\"\",MAX(AK$1:AK68)+1)","v":""},{"$f":"IF('CMS Downtime Detail'!B91=\"\",\"\",'CMS Downtime Detail'!B91)","v":""},{"$f":"IF('CMS Downtime Detail'!C91=\"\",\"\",'CMS Downtime Detail'!C91)","v":""},{"$f":"IF('CMS Downtime Detail'!D91=\"\",\"\",'CMS Downtime Detail'!D91)","v":""},"",{"$f":"IF(COUNTIF(AO$2:AO69,AO69)=1,AM69,\"\")","v":""},"","","",null,{"$f":"+IF(AZ69=\"\",\"\",MAX(AU$1:AU68)+1)","v":""},{"$f":"IF('Process and CMS Information'!B91=\"\",\"\",'Process and CMS Information'!B91)","v":""},{"$f":"IF('Process and CMS Information'!C91=\"\",\"\",'Process and CMS Information'!C91)","v":""},{"$f":"IF('Process and CMS Information'!F91=\"\",\"\",'Process and CMS Information'!F91)","v":""},"",{"$f":"IF(COUNTIF(AY$2:AY69,AY69)=1,AY69,\"\")","v":""},"","","",""]
[null,null,null,null,{"$f":"IF(H70=\"\",\"\",MAX(E$1:E69)+1)","v":""},{"$f":"IF('Process and CMS Information'!C92=\"\",\"\",'Process and CMS Information'!C92)","v":""},"",{"$f":"IF(COUNTIF(F$2:F70,F70)=1,F70,\"\")","v":""},{"$f":"IF(L70=\"\",\"\",MAX(I$1:I69)+1)","v":""},{"$f":"IF('Process and CMS Information'!D91=\"\",\"\",'Process and CMS Information'!D91)","v":""},"",{"$f":"IF(COUNTIF(J$3:J70,J70)=1,J70,\"\")","v":""},{"$f":"IF('Periodic Performance Testing'!C92=\"\",\"\",'Periodic Performance Testing'!C92)","v":""},{"$f":"IF('Sterilization Chambers'!E92=\"\",\"\",'Sterilization Chambers'!E92)","v":""},{"$f":"IF('Sterilization Chambers'!I92=\"\",\"\",'Sterilization Chambers'!I92)","v":""},{"$f":"IF(Rooms!H92=\"\",\"\",Rooms!H92)","v":""},null,null,null,null,null,null,null,null,null,null,{"$f":"+IF(AF70=\"\",\"\",MAX(AA$1:AA69)+1)","v":""},{"$f":"IF('Excess Emissions'!B92=\"\",\"\",'Excess Emissions'!B92)","v":""},{"$f":"IF('Excess Emissions'!C92=\"\",\"\",'Excess Emissions'!C92)","v":""},{"$f":"IF('Excess Emissions'!D92=\"\",\"\",'Excess Emissions'!D92)","v":""},"",{"$f":"IF(COUNTIF(AE$2:AE70,AE70)=1,AC70,\"\")","v":""},"","","",null,{"$f":"+IF(AP70=\"\",\"\",MAX(AK$1:AK69)+1)","v":""},{"$f":"IF('CMS Downtime Detail'!B92=\"\",\"\",'CMS Downtime Detail'!B92)","v":""},{"$f":"IF('CMS Downtime Detail'!C92=\"\",\"\",'CMS Downtime Detail'!C92)","v":""},{"$f":"IF('CMS Downtime Detail'!D92=\"\",\"\",'CMS Downtime Detail'!D92)","v":""},"",{"$f":"IF(COUNTIF(AO$2:AO70,AO70)=1,AM70,\"\")","v":""},"","","",null,{"$f":"+IF(AZ70=\"\",\"\",MAX(AU$1:AU69)+1)","v":""},{"$f":"IF('Process and CMS Information'!B92=\"\",\"\",'Process and CMS Information'!B92)","v":""},{"$f":"IF('Process and CMS Information'!C92=\"\",\"\",'Process and CMS Information'!C92)","v":""},{"$f":"IF('Process and CMS Information'!F92=\"\",\"\",'Process and CMS Information'!F92)","v":""},"",{"$f":"IF(COUNTIF(AY$2:AY70,AY70)=1,AY70,\"\")","v":""},"","","",""]
[null,null,null,null,{"$f":"IF(H71=\"\",\"\",MAX(E$1:E70)+1)","v":""},{"$f":"IF('Process and CMS Information'!C93=\"\",\"\",'Process and CMS Information'!C93)","v":""},"",{"$f":"IF(COUNTIF(F$2:F71,F71)=1,F71,\"\")","v":""},{"$f":"IF(L71=\"\",\"\",MAX(I$1:I70)+1)","v":""},{"$f":"IF('Process and CMS Information'!D92=\"\",\"\",'Process and CMS Information'!D92)","v":""},"",{"$f":"IF(COUNTIF(J$3:J71,J71)=1,J71,\"\")","v":""},{"$f":"IF('Periodic Performance Testing'!C93=\"\",\"\",'Periodic Performance Testing'!C93)","v":""},{"$f":"IF('Sterilization Chambers'!E93=\"\",\"\",'Sterilization Chambers'!E93)","v":""},{"$f":"IF('Sterilization Chambers'!I93=\"\",\"\",'Sterilization Chambers'!I93)","v":""},{"$f":"IF(Rooms!H93=\"\",\"\",Rooms!H93)","v":""},null,null,null,null,null,null,null,null,null,null,{"$f":"+IF(AF71=\"\",\"\",MAX(AA$1:AA70)+1)","v":""},{"$f":"IF('Excess Emissions'!B93=\"\",\"\",'Excess Emissions'!B93)","v":""},{"$f":"IF('Excess Emissions'!C93=\"\",\"\",'Excess Emissions'!C93)","v":""},{"$f":"IF('Excess Emissions'!D93=\"\",\"\",'Excess Emissions'!D93)","v":""},"",{"$f":"IF(COUNTIF(AE$2:AE71,AE71)=1,AC71,\"\")","v":""},"","","",null,{"$f":"+IF(AP71=\"\",\"\",MAX(AK$1:AK70)+1)","v":""},{"$f":"IF('CMS Downtime Detail'!B93=\"\",\"\",'CMS Downtime Detail'!B93)","v":""},{"$f":"IF('CMS Downtime Detail'!C93=\"\",\"\",'CMS Downtime Detail'!C93)","v":""},{"$f":"IF('CMS Downtime Detail'!D93=\"\",\"\",'CMS Downtime Detail'!D93)","v":""},"",{"$f":"IF(COUNTIF(AO$2:AO71,AO71)=1,AM71,\"\")","v":""},"","","",null,{"$f":"+IF(AZ71=\"\",\"\",MAX(AU$1:AU70)+1)","v":""},{"$f":"IF('Process and CMS Information'!B93=\"\",\"\",'Process and CMS Information'!B93)","v":""},{"$f":"IF('Process and CMS Information'!C93=\"\",\"\",'Process and CMS Information'!C93)","v":""},{"$f":"IF('Process and CMS Information'!F93=\"\",\"\",'Process and CMS Information'!F93)","v":""},"",{"$f":"IF(COUNTIF(AY$2:AY71,AY71)=1,AY71,\"\")","v":""},"","","",""]
[null,null,null,null,{"$f":"IF(H72=\"\",\"\",MAX(E$1:E71)+1)","v":""},{"$f":"IF('Process and CMS Information'!C94=\"\",\"\",'Process and CMS Information'!C94)","v":""},"",{"$f":"IF(COUNTIF(F$2:F72,F72)=1,F72,\"\")","v":""},{"$f":"IF(L72=\"\",\"\",MAX(I$1:I71)+1)","v":""},{"$f":"IF('Process and CMS Information'!D93=\"\",\"\",'Process and CMS Information'!D93)","v":""},"",{"$f":"IF(COUNTIF(J$3:J72,J72)=1,J72,\"\")","v":""},{"$f":"IF('Periodic Performance Testing'!C94=\"\",\"\",'Periodic Performance Testing'!C94)","v":""},{"$f":"IF('Sterilization Chambers'!E94=\"\",\"\",'Sterilization Chambers'!E94)","v":""},{"$f":"IF('Sterilization Chambers'!I94=\"\",\"\",'Sterilization Chambers'!I94)","v":""},{"$f":"IF(Rooms!H94=\"\",\"\",Rooms!H94)","v":""},null,null,null,null,null,null,null,null,null,null,{"$f":"+IF(AF72=\"\",\"\",MAX(AA$1:AA71)+1)","v":""},{"$f":"IF('Excess Emissions'!B94=\"\",\"\",'Excess Emissions'!B94)","v":""},{"$f":"IF('Excess Emissions'!C94=\"\",\"\",'Excess Emissions'!C94)","v":""},{"$f":"IF('Excess Emissions'!D94=\"\",\"\",'Excess Emissions'!D94)","v":""},"",{"$f":"IF(COUNTIF(AE$2:AE72,AE72)=1,AC72,\"\")","v":""},"","","",null,{"$f":"+IF(AP72=\"\",\"\",MAX(AK$1:AK71)+1)","v":""},{"$f":"IF('CMS Downtime Detail'!B94=\"\",\"\",'CMS Downtime Detail'!B94)","v":""},{"$f":"IF('CMS Downtime Detail'!C94=\"\",\"\",'CMS Downtime Detail'!C94)","v":""},{"$f":"IF('CMS Downtime Detail'!D94=\"\",\"\",'CMS Downtime Detail'!D94)","v":""},"",{"$f":"IF(COUNTIF(AO$2:AO72,AO72)=1,AM72,\"\")","v":""},"","","",null,{"$f":"+IF(AZ72=\"\",\"\",MAX(AU$1:AU71)+1)","v":""},{"$f":"IF('Process and CMS Information'!B94=\"\",\"\",'Process and CMS Information'!B94)","v":""},{"$f":"IF('Process and CMS Information'!C94=\"\",\"\",'Process and CMS Information'!C94)","v":""},{"$f":"IF('Process and CMS Information'!F94=\"\",\"\",'Process and CMS Information'!F94)","v":""},"",{"$f":"IF(COUNTIF(AY$2:AY72,AY72)=1,AY72,\"\")","v":""},"","","",""]
[null,null,null,null,{"$f":"IF(H73=\"\",\"\",MAX(E$1:E72)+1)","v":""},{"$f":"IF('Process and CMS Information'!C95=\"\",\"\",'Process and CMS Information'!C95)","v":""},"",{"$f":"IF(COUNTIF(F$2:F73,F73)=1,F73,\"\")","v":""},{"$f":"IF(L73=\"\",\"\",MAX(I$1:I72)+1)","v":""},{"$f":"IF('Process and CMS Information'!D94=\"\",\"\",'Process and CMS Information'!D94)","v":""},"",{"$f":"IF(COUNTIF(J$3:J73,J73)=1,J73,\"\")","v":""},{"$f":"IF('Periodic Performance Testing'!C95=\"\",\"\",'Periodic Performance Testing'!C95)","v":""},{"$f":"IF('Sterilization Chambers'!E95=\"\",\"\",'Sterilization Chambers'!E95)","v":""},{"$f":"IF('Sterilization Chambers'!I95=\"\",\"\",'Sterilization Chambers'!I95)","v":""},{"$f":"IF(Rooms!H95=\"\",\"\",Rooms!H95)","v":""},null,null,null,null,null,null,null,null,null,null,{"$f":"+IF(AF73=\"\",\"\",MAX(AA$1:AA72)+1)","v":""},{"$f":"IF('Excess Emissions'!B95=\"\",\"\",'Excess Emissions'!B95)","v":""},{"$f":"IF('Excess Emissions'!C95=\"\",\"\",'Excess Emissions'!C95)","v":""},{"$f":"IF('Excess Emissions'!D95=\"\",\"\",'Excess Emissions'!D95)","v":""},"",{"$f":"IF(COUNTIF(AE$2:AE73,AE73)=1,AC73,\"\")","v":""},"","","",null,{"$f":"+IF(AP73=\"\",\"\",MAX(AK$1:AK72)+1)","v":""},{"$f":"IF('CMS Downtime Detail'!B95=\"\",\"\",'CMS Downtime Detail'!B95)","v":""},{"$f":"IF('CMS Downtime Detail'!C95=\"\",\"\",'CMS Downtime Detail'!C95)","v":""},{"$f":"IF('CMS Downtime Detail'!D95=\"\",\"\",'CMS Downtime Detail'!D95)","v":""},"",{"$f":"IF(COUNTIF(AO$2:AO73,AO73)=1,AM73,\"\")","v":""},"","","",null,{"$f":"+IF(AZ73=\"\",\"\",MAX(AU$1:AU72)+1)","v":""},{"$f":"IF('Process and CMS Information'!B95=\"\",\"\",'Process and CMS Information'!B95)","v":""},{"$f":"IF('Process and CMS Information'!C95=\"\",\"\",'Process and CMS Information'!C95)","v":""},{"$f":"IF('Process and CMS Information'!F95=\"\",\"\",'Process and CMS Information'!F95)","v":""},"",{"$f":"IF(COUNTIF(AY$2:AY73,AY73)=1,AY73,\"\")","v":""},"","","",""]
[null,null,null,null,{"$f":"IF(H74=\"\",\"\",MAX(E$1:E73)+1)","v":""},{"$f":"IF('Process and CMS Information'!C96=\"\",\"\",'Process and CMS Information'!C96)","v":""},"",{"$f":"IF(COUNTIF(F$2:F74,F74)=1,F74,\"\")","v":""},{"$f":"IF(L74=\"\",\"\",MAX(I$1:I73)+1)","v":""},{"$f":"IF('Process and CMS Information'!D95=\"\",\"\",'Process and CMS Information'!D95)","v":""},"",{"$f":"IF(COUNTIF(J$3:J74,J74)=1,J74,\"\")","v":""},{"$f":"IF('Periodic Performance Testing'!C96=\"\",\"\",'Periodic Performance Testing'!C96)","v":""},{"$f":"IF('Sterilization Chambers'!E96=\"\",\"\",'Sterilization Chambers'!E96)","v":""},{"$f":"IF('Sterilization Chambers'!I96=\"\",\"\",'Sterilization Chambers'!I96)","v":""},{"$f":"IF(Rooms!H96=\"\",\"\",Rooms!H96)","v":""},null,null,null,null,null,null,null,null,null,null,{"$f":"+IF(AF74=\"\",\"\",MAX(AA$1:AA73)+1)","v":""},{"$f":"IF('Excess Emissions'!B96=\"\",\"\",'Excess Emissions'!B96)","v":""},{"$f":"IF('Excess Emissions'!C96=\"\",\"\",'Excess Emissions'!C96)","v":""},{"$f":"IF('Excess Emissions'!D96=\"\",\"\",'Excess Emissions'!D96)","v":""},"",{"$f":"IF(COUNTIF(AE$2:AE74,AE74)=1,AC74,\"\")","v":""},"","","",null,{"$f":"+IF(AP74=\"\",\"\",MAX(AK$1:AK73)+1)","v":""},{"$f":"IF('CMS Downtime Detail'!B96=\"\",\"\",'CMS Downtime Detail'!B96)","v":""},{"$f":"IF('CMS Downtime Detail'!C96=\"\",\"\",'CMS Downtime Detail'!C96)","v":""},{"$f":"IF('CMS Downtime Detail'!D96=\"\",\"\",'CMS Downtime Detail'!D96)","v":""},"",{"$f":"IF(COUNTIF(AO$2:AO74,AO74)=1,AM74,\"\")","v":""},"","","",null,{"$f":"+IF(AZ74=\"\",\"\",MAX(AU$1:AU73)+1)","v":""},{"$f":"IF('Process and CMS Information'!B96=\"\",\"\",'Process and CMS Information'!B96)","v":""},{"$f":"IF('Process and CMS Information'!C96=\"\",\"\",'Process and CMS Information'!C96)","v":""},{"$f":"IF('Process and CMS Information'!F96=\"\",\"\",'Process and CMS Information'!F96)","v":""},"",{"$f":"IF(COUNTIF(AY$2:AY74,AY74)=1,AY74,\"\")","v":""},"","","",""]
[null,null,null,null,{"$f":"IF(H75=\"\",\"\",MAX(E$1:E74)+1)","v":""},{"$f":"IF('Process and CMS Information'!C97=\"\",\"\",'Process and CMS Information'!C97)","v":""},"",{"$f":"IF(COUNTIF(F$2:F75,F75)=1,F75,\"\")","v":""},{"$f":"IF(L75=\"\",\"\",MAX(I$1:I74)+1)","v":""},{"$f":"IF('Process and CMS Information'!D96=\"\",\"\",'Process and CMS Information'!D96)","v":""},"",{"$f":"IF(COUNTIF(J$3:J75,J75)=1,J75,\"\")","v":""},{"$f":"IF('Periodic Performance Testing'!C97=\"\",\"\",'Periodic Performance Testing'!C97)","v":""},{"$f":"IF('Sterilization Chambers'!E97=\"\",\"\",'Sterilization Chambers'!E97)","v":""},{"$f":"IF('Sterilization Chambers'!I97=\"\",\"\",'Sterilization Chambers'!I97)","v":""},{"$f":"IF(Rooms!H97=\"\",\"\",Rooms!H97)","v":""},null,null,null,null,null,null,null,null,null,null,{"$f":"+IF(AF75=\"\",\"\",MAX(AA$1:AA74)+1)","v":""},{"$f":"IF('Excess Emissions'!B97=\"\",\"\",'Excess Emissions'!B97)","v":""},{"$f":"IF('Excess Emissions'!C97=\"\",\"\",'Excess Emissions'!C97)","v":""},{"$f":"IF('Excess Emissions'!D97=\"\",\"\",'Excess Emissions'!D97)","v":""},"",{"$f":"IF(COUNTIF(AE$2:AE75,AE75)=1,AC75,\"\")","v":""},"","","",null,{"$f":"+IF(AP75=\"\",\"\",MAX(AK$1:AK74)+1)","v":""},{"$f":"IF('CMS Downtime Detail'!B97=\"\",\"\",'CMS Downtime Detail'!B97)","v":""},{"$f":"IF('CMS Downtime Detail'!C97=\"\",\"\",'CMS Downtime Detail'!C97)","v":""},{"$f":"IF('CMS Downtime Detail'!D97=\"\",\"\",'CMS Downtime Detail'!D97)","v":""},"",{"$f":"IF(COUNTIF(AO$2:AO75,AO75)=1,AM75,\"\")","v":""},"","","",null,{"$f":"+IF(AZ75=\"\",\"\",MAX(AU$1:AU74)+1)","v":""},{"$f":"IF('Process and CMS Information'!B97=\"\",\"\",'Process and CMS Information'!B97)","v":""},{"$f":"IF('Process and CMS Information'!C97=\"\",\"\",'Process and CMS Information'!C97)","v":""},{"$f":"IF('Process and CMS Information'!F97=\"\",\"\",'Process and CMS Information'!F97)","v":""},"",{"$f":"IF(COUNTIF(AY$2:AY75,AY75)=1,AY75,\"\")","v":""},"","","",""]
[null,null,null,null,{"$f":"IF(H76=\"\",\"\",MAX(E$1:E75)+1)","v":""},{"$f":"IF('Process and CMS Information'!C98=\"\",\"\",'Process and CMS Information'!C98)","v":""},"",{"$f":"IF(COUNTIF(F$2:F76,F76)=1,F76,\"\")","v":""},{"$f":"IF(L76=\"\",\"\",MAX(I$1:I75)+1)","v":""},{"$f":"IF('Process and CMS Information'!D97=\"\",\"\",'Process and CMS Information'!D97)","v":""},"",{"$f":"IF(COUNTIF(J$3:J76,J76)=1,J76,\"\")","v":""},{"$f":"IF('Periodic Performance Testing'!C98=\"\",\"\",'Periodic Performance Testing'!C98)","v":""},{"$f":"IF('Sterilization Chambers'!E98=\"\",\"\",'Sterilization Chambers'!E98)","v":""},{"$f":"IF('Sterilization Chambers'!I98=\"\",\"\",'Sterilization Chambers'!I98)","v":""},{"$f":"IF(Rooms!H98=\"\",\"\",Rooms!H98)","v":""},null,null,null,null,null,null,null,null,null,null,{"$f":"+IF(AF76=\"\",\"\",MAX(AA$1:AA75)+1)","v":""},{"$f":"IF('Excess Emissions'!B98=\"\",\"\",'Excess Emissions'!B98)","v":""},{"$f":"IF('Excess Emissions'!C98=\"\",\"\",'Excess Emissions'!C98)","v":""},{"$f":"IF('Excess Emissions'!D98=\"\",\"\",'Excess Emissions'!D98)","v":""},"",{"$f":"IF(COUNTIF(AE$2:AE76,AE76)=1,AC76,\"\")","v":""},"","","",null,{"$f":"+IF(AP76=\"\",\"\",MAX(AK$1:AK75)+1)","v":""},{"$f":"IF('CMS Downtime Detail'!B98=\"\",\"\",'CMS Downtime Detail'!B98)","v":""},{"$f":"IF('CMS Downtime Detail'!C98=\"\",\"\",'CMS Downtime Detail'!C98)","v":""},{"$f":"IF('CMS Downtime Detail'!D98=\"\",\"\",'CMS Downtime Detail'!D98)","v":""},"",{"$f":"IF(COUNTIF(AO$2:AO76,AO76)=1,AM76,\"\")","v":""},"","","",null,{"$f":"+IF(AZ76=\"\",\"\",MAX(AU$1:AU75)+1)","v":""},{"$f":"IF('Process and CMS Information'!B98=\"\",\"\",'Process and CMS Information'!B98)","v":""},{"$f":"IF('Process and CMS Information'!C98=\"\",\"\",'Process and CMS Information'!C98)","v":""},{"$f":"IF('Process and CMS Information'!F98=\"\",\"\",'Process and CMS Information'!F98)","v":""},"",{"$f":"IF(COUNTIF(AY$2:AY76,AY76)=1,AY76,\"\")","v":""},"","","",""]
[null,null,null,null,{"$f":"IF(H77=\"\",\"\",MAX(E$1:E76)+1)","v":""},{"$f":"IF('Process and CMS Information'!C99=\"\",\"\",'Process and CMS Information'!C99)","v":""},"",{"$f":"IF(COUNTIF(F$2:F77,F77)=1,F77,\"\")","v":""},{"$f":"IF(L77=\"\",\"\",MAX(I$1:I76)+1)","v":""},{"$f":"IF('Process and CMS Information'!D98=\"\",\"\",'Process and CMS Information'!D98)","v":""},"",{"$f":"IF(COUNTIF(J$3:J77,J77)=1,J77,\"\")","v":""},{"$f":"IF('Periodic Performance Testing'!C99=\"\",\"\",'Periodic Performance Testing'!C99)","v":""},{"$f":"IF('Sterilization Chambers'!E99=\"\",\"\",'Sterilization Chambers'!E99)","v":""},{"$f":"IF('Sterilization Chambers'!I99=\"\",\"\",'Sterilization Chambers'!I99)","v":""},{"$f":"IF(Rooms!H99=\"\",\"\",Rooms!H99)","v":""},null,null,null,null,null,null,null,null,null,null,{"$f":"+IF(AF77=\"\",\"\",MAX(AA$1:AA76)+1)","v":""},{"$f":"IF('Excess Emissions'!B99=\"\",\"\",'Excess Emissions'!B99)","v":""},{"$f":"IF('Excess Emissions'!C99=\"\",\"\",'Excess Emissions'!C99)","v":""},{"$f":"IF('Excess Emissions'!D99=\"\",\"\",'Excess Emissions'!D99)","v":""},"",{"$f":"IF(COUNTIF(AE$2:AE77,AE77)=1,AC77,\"\")","v":""},"","","",null,{"$f":"+IF(AP77=\"\",\"\",MAX(AK$1:AK76)+1)","v":""},{"$f":"IF('CMS Downtime Detail'!B99=\"\",\"\",'CMS Downtime Detail'!B99)","v":""},{"$f":"IF('CMS Downtime Detail'!C99=\"\",\"\",'CMS Downtime Detail'!C99)","v":""},{"$f":"IF('CMS Downtime Detail'!D99=\"\",\"\",'CMS Downtime Detail'!D99)","v":""},"",{"$f":"IF(COUNTIF(AO$2:AO77,AO77)=1,AM77,\"\")","v":""},"","","",null,{"$f":"+IF(AZ77=\"\",\"\",MAX(AU$1:AU76)+1)","v":""},{"$f":"IF('Process and CMS Information'!B99=\"\",\"\",'Process and CMS Information'!B99)","v":""},{"$f":"IF('Process and CMS Information'!C99=\"\",\"\",'Process and CMS Information'!C99)","v":""},{"$f":"IF('Process and CMS Information'!F99=\"\",\"\",'Process and CMS Information'!F99)","v":""},"",{"$f":"IF(COUNTIF(AY$2:AY77,AY77)=1,AY77,\"\")","v":""},"","","",""]
[null,null,null,null,{"$f":"IF(H78=\"\",\"\",MAX(E$1:E77)+1)","v":""},{"$f":"IF('Process and CMS Information'!C100=\"\",\"\",'Process and CMS Information'!C100)","v":""},"",{"$f":"IF(COUNTIF(F$2:F78,F78)=1,F78,\"\")","v":""},{"$f":"IF(L78=\"\",\"\",MAX(I$1:I77)+1)","v":""},{"$f":"IF('Process and CMS Information'!D99=\"\",\"\",'Process and CMS Information'!D99)","v":""},"",{"$f":"IF(COUNTIF(J$3:J78,J78)=1,J78,\"\")","v":""},{"$f":"IF('Periodic Performance Testing'!C100=\"\",\"\",'Periodic Performance Testing'!C100)","v":""},{"$f":"IF('Sterilization Chambers'!E100=\"\",\"\",'Sterilization Chambers'!E100)","v":""},{"$f":"IF('Sterilization Chambers'!I100=\"\",\"\",'Sterilization Chambers'!I100)","v":""},{"$f":"IF(Rooms!H100=\"\",\"\",Rooms!H100)","v":""},null,null,null,null,null,null,null,null,null,null,{"$f":"+IF(AF78=\"\",\"\",MAX(AA$1:AA77)+1)","v":""},{"$f":"IF('Excess Emissions'!B100=\"\",\"\",'Excess Emissions'!B100)","v":""},{"$f":"IF('Excess Emissions'!C100=\"\",\"\",'Excess Emissions'!C100)","v":""},{"$f":"IF('Excess Emissions'!D100=\"\",\"\",'Excess Emissions'!D100)","v":""},"",{"$f":"IF(COUNTIF(AE$2:AE78,AE78)=1,AC78,\"\")","v":""},"","","",null,{"$f":"+IF(AP78=\"\",\"\",MAX(AK$1:AK77)+1)","v":""},{"$f":"IF('CMS Downtime Detail'!B100=\"\",\"\",'CMS Downtime Detail'!B100)","v":""},{"$f":"IF('CMS Downtime Detail'!C100=\"\",\"\",'CMS Downtime Detail'!C100)","v":""},{"$f":"IF('CMS Downtime Detail'!D100=\"\",\"\",'CMS Downtime Detail'!D100)","v":""},"",{"$f":"IF(COUNTIF(AO$2:AO78,AO78)=1,AM78,\"\")","v":""},"","","",null,{"$f":"+IF(AZ78=\"\",\"\",MAX(AU$1:AU77)+1)","v":""},{"$f":"IF('Process and CMS Information'!B100=\"\",\"\",'Process and CMS Information'!B100)","v":""},{"$f":"IF('Process and CMS Information'!C100=\"\",\"\",'Process and CMS Information'!C100)","v":""},{"$f":"IF('Process and CMS Information'!F100=\"\",\"\",'Process and CMS Information'!F100)","v":""},"",{"$f":"IF(COUNTIF(AY$2:AY78,AY78)=1,AY78,\"\")","v":""},"","","",""]
[null,null,null,null,null,null,null,null,null,null,null,null,null,null,null,null,null,null,null,null,null,null,null,null,null,null,{"$f":"+IF(AF79=\"\",\"\",MAX(AA$1:AA78)+1)","v":""},{"$f":"IF('Excess Emissions'!B101=\"\",\"\",'Excess Emissions'!B101)","v":""},{"$f":"IF('Excess Emissions'!C101=\"\",\"\",'Excess Emissions'!C101)","v":""},{"$f":"IF('Excess Emissions'!D101=\"\",\"\",'Excess Emissions'!D101)","v":""},"",{"$f":"IF(COUNTIF(AE$2:AE79,AE79)=1,AC79,\"\")","v":""},"","","",null,{"$f":"+IF(AP79=\"\",\"\",MAX(AK$1:AK78)+1)","v":""},{"$f":"IF('CMS Downtime Detail'!B101=\"\",\"\",'CMS Downtime Detail'!B101)","v":""},{"$f":"IF('CMS Downtime Detail'!C101=\"\",\"\",'CMS Downtime Detail'!C101)","v":""},{"$f":"IF('CMS Downtime Detail'!D101=\"\",\"\",'CMS Downtime Detail'!D101)","v":""},"",{"$f":"IF(COUNTIF(AO$2:AO79,AO79)=1,AM79,\"\")","v":""},"","","",null,{"$f":"+IF(AZ79=\"\",\"\",MAX(AU$1:AU78)+1)","v":""},{"$f":"IF('Process and CMS Information'!B101=\"\",\"\",'Process and CMS Information'!B101)","v":""},{"$f":"IF('Process and CMS Information'!C101=\"\",\"\",'Process and CMS Information'!C101)","v":""},{"$f":"IF('Process and CMS Information'!F101=\"\",\"\",'Process and CMS Information'!F101)","v":""},"",{"$f":"IF(COUNTIF(AY$2:AY79,AY79)=1,AY79,\"\")","v":""},"","","",""]
[null,null,null,null,null,null,null,null,null,null,null,null,null,null,null,null,null,null,null,null,null,null,null,null,null,null,{"$f":"+IF(AF80=\"\",\"\",MAX(AA$1:AA79)+1)","v":""},{"$f":"IF('Excess Emissions'!B102=\"\",\"\",'Excess Emissions'!B102)","v":""},{"$f":"IF('Excess Emissions'!C102=\"\",\"\",'Excess Emissions'!C102)","v":""},{"$f":"IF('Excess Emissions'!D102=\"\",\"\",'Excess Emissions'!D102)","v":""},"",{"$f":"IF(COUNTIF(AE$2:AE80,AE80)=1,AC80,\"\")","v":""},"","","",null,{"$f":"+IF(AP80=\"\",\"\",MAX(AK$1:AK79)+1)","v":""},{"$f":"IF('CMS Downtime Detail'!B102=\"\",\"\",'CMS Downtime Detail'!B102)","v":""},{"$f":"IF('CMS Downtime Detail'!C102=\"\",\"\",'CMS Downtime Detail'!C102)","v":""},{"$f":"IF('CMS Downtime Detail'!D102=\"\",\"\",'CMS Downtime Detail'!D102)","v":""},"",{"$f":"IF(COUNTIF(AO$2:AO80,AO80)=1,AM80,\"\")","v":""},"","","",null,{"$f":"+IF(AZ80=\"\",\"\",MAX(AU$1:AU79)+1)","v":""},{"$f":"IF('Process and CMS Information'!B102=\"\",\"\",'Process and CMS Information'!B102)","v":""},{"$f":"IF('Process and CMS Information'!C102=\"\",\"\",'Process and CMS Information'!C102)","v":""},{"$f":"IF('Process and CMS Information'!F102=\"\",\"\",'Process and CMS Information'!F102)","v":""},"",{"$f":"IF(COUNTIF(AY$2:AY80,AY80)=1,AY80,\"\")","v":""},"","","",""]
[null,null,null,null,null,null,null,null,null,null,null,null,null,null,null,null,null,null,null,null,null,null,null,null,null,null,{"$f":"+IF(AF81=\"\",\"\",MAX(AA$1:AA80)+1)","v":""},{"$f":"IF('Excess Emissions'!B103=\"\",\"\",'Excess Emissions'!B103)","v":""},{"$f":"IF('Excess Emissions'!C103=\"\",\"\",'Excess Emissions'!C103)","v":""},{"$f":"IF('Excess Emissions'!D103=\"\",\"\",'Excess Emissions'!D103)","v":""},"",{"$f":"IF(COUNTIF(AE$2:AE81,AE81)=1,AC81,\"\")","v":""},"","","",null,{"$f":"+IF(AP81=\"\",\"\",MAX(AK$1:AK80)+1)","v":""},{"$f":"IF('CMS Downtime Detail'!B103=\"\",\"\",'CMS Downtime Detail'!B103)","v":""},{"$f":"IF('CMS Downtime Detail'!C103=\"\",\"\",'CMS Downtime Detail'!C103)","v":""},{"$f":"IF('CMS Downtime Detail'!D103=\"\",\"\",'CMS Downtime Detail'!D103)","v":""},"",{"$f":"IF(COUNTIF(AO$2:AO81,AO81)=1,AM81,\"\")","v":""},"","","",null,{"$f":"+IF(AZ81=\"\",\"\",MAX(AU$1:AU80)+1)","v":""},{"$f":"IF('Process and CMS Information'!B103=\"\",\"\",'Process and CMS Information'!B103)","v":""},{"$f":"IF('Process and CMS Information'!C103=\"\",\"\",'Process and CMS Information'!C103)","v":""},{"$f":"IF('Process and CMS Information'!F103=\"\",\"\",'Process and CMS Information'!F103)","v":""},"",{"$f":"IF(COUNTIF(AY$2:AY81,AY81)=1,AY81,\"\")","v":""},"","","",""]
[null,null,null,null,null,null,null,null,null,null,null,null,null,null,null,null,null,null,null,null,null,null,null,null,null,null,{"$f":"+IF(AF82=\"\",\"\",MAX(AA$1:AA81)+1)","v":""},{"$f":"IF('Excess Emissions'!B104=\"\",\"\",'Excess Emissions'!B104)","v":""},{"$f":"IF('Excess Emissions'!C104=\"\",\"\",'Excess Emissions'!C104)","v":""},{"$f":"IF('Excess Emissions'!D104=\"\",\"\",'Excess Emissions'!D104)","v":""},"",{"$f":"IF(COUNTIF(AE$2:AE82,AE82)=1,AC82,\"\")","v":""},"","","",null,{"$f":"+IF(AP82=\"\",\"\",MAX(AK$1:AK81)+1)","v":""},{"$f":"IF('CMS Downtime Detail'!B104=\"\",\"\",'CMS Downtime Detail'!B104)","v":""},{"$f":"IF('CMS Downtime Detail'!C104=\"\",\"\",'CMS Downtime Detail'!C104)","v":""},{"$f":"IF('CMS Downtime Detail'!D104=\"\",\"\",'CMS Downtime Detail'!D104)","v":""},"",{"$f":"IF(COUNTIF(AO$2:AO82,AO82)=1,AM82,\"\")","v":""},"","","",null,{"$f":"+IF(AZ82=\"\",\"\",MAX(AU$1:AU81)+1)","v":""},{"$f":"IF('Process and CMS Information'!B104=\"\",\"\",'Process and CMS Information'!B104)","v":""},{"$f":"IF('Process and CMS Information'!C104=\"\",\"\",'Process and CMS Information'!C104)","v":""},{"$f":"IF('Process and CMS Information'!F104=\"\",\"\",'Process and CMS Information'!F104)","v":""},"",{"$f":"IF(COUNTIF(AY$2:AY82,AY82)=1,AY82,\"\")","v":""},"","","",""]
[null,null,null,null,null,null,null,null,null,null,null,null,null,null,null,null,null,null,null,null,null,null,null,null,null,null,{"$f":"+IF(AF83=\"\",\"\",MAX(AA$1:AA82)+1)","v":""},{"$f":"IF('Excess Emissions'!B105=\"\",\"\",'Excess Emissions'!B105)","v":""},{"$f":"IF('Excess Emissions'!C105=\"\",\"\",'Excess Emissions'!C105)","v":""},{"$f":"IF('Excess Emissions'!D105=\"\",\"\",'Excess Emissions'!D105)","v":""},"",{"$f":"IF(COUNTIF(AE$2:AE83,AE83)=1,AC83,\"\")","v":""},"","","",null,{"$f":"+IF(AP83=\"\",\"\",MAX(AK$1:AK82)+1)","v":""},{"$f":"IF('CMS Downtime Detail'!B105=\"\",\"\",'CMS Downtime Detail'!B105)","v":""},{"$f":"IF('CMS Downtime Detail'!C105=\"\",\"\",'CMS Downtime Detail'!C105)","v":""},{"$f":"IF('CMS Downtime Detail'!D105=\"\",\"\",'CMS Downtime Detail'!D105)","v":""},"",{"$f":"IF(COUNTIF(AO$2:AO83,AO83)=1,AM83,\"\")","v":""},"","","",null,{"$f":"+IF(AZ83=\"\",\"\",MAX(AU$1:AU82)+1)","v":""},{"$f":"IF('Process and CMS Information'!B105=\"\",\"\",'Process and CMS Information'!B105)","v":""},{"$f":"IF('Process and CMS Information'!C105=\"\",\"\",'Process and CMS Information'!C105)","v":""},{"$f":"IF('Process and CMS Information'!F105=\"\",\"\",'Process and CMS Information'!F105)","v":""},"",{"$f":"IF(COUNTIF(AY$2:AY83,AY83)=1,AY83,\"\")","v":""},"","","",""]
[null,null,null,null,null,null,null,null,null,null,null,null,null,null,null,null,null,null,null,null,null,null,null,null,null,null,{"$f":"+IF(AF84=\"\",\"\",MAX(AA$1:AA83)+1)","v":""},{"$f":"IF('Excess Emissions'!B106=\"\",\"\",'Excess Emissions'!B106)","v":""},{"$f":"IF('Excess Emissions'!C106=\"\",\"\",'Excess Emissions'!C106)","v":""},{"$f":"IF('Excess Emissions'!D106=\"\",\"\",'Excess Emissions'!D106)","v":""},"",{"$f":"IF(COUNTIF(AE$2:AE84,AE84)=1,AC84,\"\")","v":""},"","","",null,{"$f":"+IF(AP84=\"\",\"\",MAX(AK$1:AK83)+1)","v":""},{"$f":"IF('CMS Downtime Detail'!B106=\"\",\"\",'CMS Downtime Detail'!B106)","v":""},{"$f":"IF('CMS Downtime Detail'!C106=\"\",\"\",'CMS Downtime Detail'!C106)","v":""},{"$f":"IF('CMS Downtime Detail'!D106=\"\",\"\",'CMS Downtime Detail'!D106)","v":""},"",{"$f":"IF(COUNTIF(AO$2:AO84,AO84)=1,AM84,\"\")","v":""},"","","",null,{"$f":"+IF(AZ84=\"\",\"\",MAX(AU$1:AU83)+1)","v":""},{"$f":"IF('Process and CMS Information'!B106=\"\",\"\",'Process and CMS Information'!B106)","v":""},{"$f":"IF('Process and CMS Information'!C106=\"\",\"\",'Process and CMS Information'!C106)","v":""},{"$f":"IF('Process and CMS Information'!F106=\"\",\"\",'Process and CMS Information'!F106)","v":""},"",{"$f":"IF(COUNTIF(AY$2:AY84,AY84)=1,AY84,\"\")","v":""},"","","",""]
[null,null,null,null,null,null,null,null,null,null,null,null,null,null,null,null,null,null,null,null,null,null,null,null,null,null,{"$f":"+IF(AF85=\"\",\"\",MAX(AA$1:AA84)+1)","v":""},{"$f":"IF('Excess Emissions'!B107=\"\",\"\",'Excess Emissions'!B107)","v":""},{"$f":"IF('Excess Emissions'!C107=\"\",\"\",'Excess Emissions'!C107)","v":""},{"$f":"IF('Excess Emissions'!D107=\"\",\"\",'Excess Emissions'!D107)","v":""},"",{"$f":"IF(COUNTIF(AE$2:AE85,AE85)=1,AC85,\"\")","v":""},"","","",null,{"$f":"+IF(AP85=\"\",\"\",MAX(AK$1:AK84)+1)","v":""},{"$f":"IF('CMS Downtime Detail'!B107=\"\",\"\",'CMS Downtime Detail'!B107)","v":""},{"$f":"IF('CMS Downtime Detail'!C107=\"\",\"\",'CMS Downtime Detail'!C107)","v":""},{"$f":"IF('CMS Downtime Detail'!D107=\"\",\"\",'CMS Downtime Detail'!D107)","v":""},"",{"$f":"IF(COUNTIF(AO$2:AO85,AO85)=1,AM85,\"\")","v":""},"","","",null,{"$f":"+IF(AZ85=\"\",\"\",MAX(AU$1:AU84)+1)","v":""},{"$f":"IF('Process and CMS Information'!B107=\"\",\"\",'Process and CMS Information'!B107)","v":""},{"$f":"IF('Process and CMS Information'!C107=\"\",\"\",'Process and CMS Information'!C107)","v":""},{"$f":"IF('Process and CMS Information'!F107=\"\",\"\",'Process and CMS Information'!F107)","v":""},"",{"$f":"IF(COUNTIF(AY$2:AY85,AY85)=1,AY85,\"\")","v":""},"","","",""]
[null,null,null,null,null,null,null,null,null,null,null,null,null,null,null,null,null,null,null,null,null,null,null,null,null,null,{"$f":"+IF(AF86=\"\",\"\",MAX(AA$1:AA85)+1)","v":""},{"$f":"IF('Excess Emissions'!B108=\"\",\"\",'Excess Emissions'!B108)","v":""},{"$f":"IF('Excess Emissions'!C108=\"\",\"\",'Excess Emissions'!C108)","v":""},{"$f":"IF('Excess Emissions'!D108=\"\",\"\",'Excess Emissions'!D108)","v":""},"",{"$f":"IF(COUNTIF(AE$2:AE86,AE86)=1,AC86,\"\")","v":""},"","","",null,{"$f":"+IF(AP86=\"\",\"\",MAX(AK$1:AK85)+1)","v":""},{"$f":"IF('CMS Downtime Detail'!B108=\"\",\"\",'CMS Downtime Detail'!B108)","v":""},{"$f":"IF('CMS Downtime Detail'!C108=\"\",\"\",'CMS Downtime Detail'!C108)","v":""},{"$f":"IF('CMS Downtime Detail'!D108=\"\",\"\",'CMS Downtime Detail'!D108)","v":""},"",{"$f":"IF(COUNTIF(AO$2:AO86,AO86)=1,AM86,\"\")","v":""},"","","",null,{"$f":"+IF(AZ86=\"\",\"\",MAX(AU$1:AU85)+1)","v":""},{"$f":"IF('Process and CMS Information'!B108=\"\",\"\",'Process and CMS Information'!B108)","v":""},{"$f":"IF('Process and CMS Information'!C108=\"\",\"\",'Process and CMS Information'!C108)","v":""},{"$f":"IF('Process and CMS Information'!F108=\"\",\"\",'Process and CMS Information'!F108)","v":""},"",{"$f":"IF(COUNTIF(AY$2:AY86,AY86)=1,AY86,\"\")","v":""},"","","",""]
[null,null,null,null,null,null,null,null,null,null,null,null,null,null,null,null,null,null,null,null,null,null,null,null,null,null,{"$f":"+IF(AF87=\"\",\"\",MAX(AA$1:AA86)+1)","v":""},{"$f":"IF('Excess Emissions'!B109=\"\",\"\",'Excess Emissions'!B109)","v":""},{"$f":"IF('Excess Emissions'!C109=\"\",\"\",'Excess Emissions'!C109)","v":""},{"$f":"IF('Excess Emissions'!D109=\"\",\"\",'Excess Emissions'!D109)","v":""},"",{"$f":"IF(COUNTIF(AE$2:AE87,AE87)=1,AC87,\"\")","v":""},"","","",null,{"$f":"+IF(AP87=\"\",\"\",MAX(AK$1:AK86)+1)","v":""},{"$f":"IF('CMS Downtime Detail'!B109=\"\",\"\",'CMS Downtime Detail'!B109)","v":""},{"$f":"IF('CMS Downtime Detail'!C109=\"\",\"\",'CMS Downtime Detail'!C109)","v":""},{"$f":"IF('CMS Downtime Detail'!D109=\"\",\"\",'CMS Downtime Detail'!D109)","v":""},"",{"$f":"IF(COUNTIF(AO$2:AO87,AO87)=1,AM87,\"\")","v":""},"","","",null,{"$f":"+IF(AZ87=\"\",\"\",MAX(AU$1:AU86)+1)","v":""},{"$f":"IF('Process and CMS Information'!B109=\"\",\"\",'Process and CMS Information'!B109)","v":""},{"$f":"IF('Process and CMS Information'!C109=\"\",\"\",'Process and CMS Information'!C109)","v":""},{"$f":"IF('Process and CMS Information'!F109=\"\",\"\",'Process and CMS Information'!F109)","v":""},"",{"$f":"IF(COUNTIF(AY$2:AY87,AY87)=1,AY87,\"\")","v":""},"","","",""]
[null,null,null,null,null,null,null,null,null,null,null,null,null,null,null,null,null,null,null,null,null,null,null,null,null,null,{"$f":"+IF(AF88=\"\",\"\",MAX(AA$1:AA87)+1)","v":""},{"$f":"IF('Excess Emissions'!B110=\"\",\"\",'Excess Emissions'!B110)","v":""},{"$f":"IF('Excess Emissions'!C110=\"\",\"\",'Excess Emissions'!C110)","v":""},{"$f":"IF('Excess Emissions'!D110=\"\",\"\",'Excess Emissions'!D110)","v":""},"",{"$f":"IF(COUNTIF(AE$2:AE88,AE88)=1,AC88,\"\")","v":""},"","","",null,{"$f":"+IF(AP88=\"\",\"\",MAX(AK$1:AK87)+1)","v":""},{"$f":"IF('CMS Downtime Detail'!B110=\"\",\"\",'CMS Downtime Detail'!B110)","v":""},{"$f":"IF('CMS Downtime Detail'!C110=\"\",\"\",'CMS Downtime Detail'!C110)","v":""},{"$f":"IF('CMS Downtime Detail'!D110=\"\",\"\",'CMS Downtime Detail'!D110)","v":""},"",{"$f":"IF(COUNTIF(AO$2:AO88,AO88)=1,AM88,\"\")","v":""},"","","",null,{"$f":"+IF(AZ88=\"\",\"\",MAX(AU$1:AU87)+1)","v":""},{"$f":"IF('Process and CMS Information'!B110=\"\",\"\",'Process and CMS Information'!B110)","v":""},{"$f":"IF('Process and CMS Information'!C110=\"\",\"\",'Process and CMS Information'!C110)","v":""},{"$f":"IF('Process and CMS Information'!F110=\"\",\"\",'Process and CMS Information'!F110)","v":""},"",{"$f":"IF(COUNTIF(AY$2:AY88,AY88)=1,AY88,\"\")","v":""},"","","",""]
[null,null,null,null,null,null,null,null,null,null,null,null,null,null,null,null,null,null,null,null,null,null,null,null,null,null,{"$f":"+IF(AF89=\"\",\"\",MAX(AA$1:AA88)+1)","v":""},{"$f":"IF('Excess Emissions'!B111=\"\",\"\",'Excess Emissions'!B111)","v":""},{"$f":"IF('Excess Emissions'!C111=\"\",\"\",'Excess Emissions'!C111)","v":""},{"$f":"IF('Excess Emissions'!D111=\"\",\"\",'Excess Emissions'!D111)","v":""},"",{"$f":"IF(COUNTIF(AE$2:AE89,AE89)=1,AC89,\"\")","v":""},"","","",null,{"$f":"+IF(AP89=\"\",\"\",MAX(AK$1:AK88)+1)","v":""},{"$f":"IF('CMS Downtime Detail'!B111=\"\",\"\",'CMS Downtime Detail'!B111)","v":""},{"$f":"IF('CMS Downtime Detail'!C111=\"\",\"\",'CMS Downtime Detail'!C111)","v":""},{"$f":"IF('CMS Downtime Detail'!D111=\"\",\"\",'CMS Downtime Detail'!D111)","v":""},"",{"$f":"IF(COUNTIF(AO$2:AO89,AO89)=1,AM89,\"\")","v":""},"","","",null,{"$f":"+IF(AZ89=\"\",\"\",MAX(AU$1:AU88)+1)","v":""},{"$f":"IF('Process and CMS Information'!B111=\"\",\"\",'Process and CMS Information'!B111)","v":""},{"$f":"IF('Process and CMS Information'!C111=\"\",\"\",'Process and CMS Information'!C111)","v":""},{"$f":"IF('Process and CMS Information'!F111=\"\",\"\",'Process and CMS Information'!F111)","v":""},"",{"$f":"IF(COUNTIF(AY$2:AY89,AY89)=1,AY89,\"\")","v":""},"","","",""]
[null,null,null,null,null,null,null,null,null,null,null,null,null,null,null,null,null,null,null,null,null,null,null,null,null,null,{"$f":"+IF(AF90=\"\",\"\",MAX(AA$1:AA89)+1)","v":""},{"$f":"IF('Excess Emissions'!B112=\"\",\"\",'Excess Emissions'!B112)","v":""},{"$f":"IF('Excess Emissions'!C112=\"\",\"\",'Excess Emissions'!C112)","v":""},{"$f":"IF('Excess Emissions'!D112=\"\",\"\",'Excess Emissions'!D112)","v":""},"",{"$f":"IF(COUNTIF(AE$2:AE90,AE90)=1,AC90,\"\")","v":""},"","","",null,{"$f":"+IF(AP90=\"\",\"\",MAX(AK$1:AK89)+1)","v":""},{"$f":"IF('CMS Downtime Detail'!B112=\"\",\"\",'CMS Downtime Detail'!B112)","v":""},{"$f":"IF('CMS Downtime Detail'!C112=\"\",\"\",'CMS Downtime Detail'!C112)","v":""},{"$f":"IF('CMS Downtime Detail'!D112=\"\",\"\",'CMS Downtime Detail'!D112)","v":""},"",{"$f":"IF(COUNTIF(AO$2:AO90,AO90)=1,AM90,\"\")","v":""},"","","",null,{"$f":"+IF(AZ90=\"\",\"\",MAX(AU$1:AU89)+1)","v":""},{"$f":"IF('Process and CMS Information'!B112=\"\",\"\",'Process and CMS Information'!B112)","v":""},{"$f":"IF('Process and CMS Information'!C112=\"\",\"\",'Process and CMS Information'!C112)","v":""},{"$f":"IF('Process and CMS Information'!F112=\"\",\"\",'Process and CMS Information'!F112)","v":""},"",{"$f":"IF(COUNTIF(AY$2:AY90,AY90)=1,AY90,\"\")","v":""},"","","",""]
[null,null,null,null,null,null,null,null,null,null,null,null,null,null,null,null,null,null,null,null,null,null,null,null,null,null,{"$f":"+IF(AF91=\"\",\"\",MAX(AA$1:AA90)+1)","v":""},{"$f":"IF('Excess Emissions'!B113=\"\",\"\",'Excess Emissions'!B113)","v":""},{"$f":"IF('Excess Emissions'!C113=\"\",\"\",'Excess Emissions'!C113)","v":""},{"$f":"IF('Excess Emissions'!D113=\"\",\"\",'Excess Emissions'!D113)","v":""},"",{"$f":"IF(COUNTIF(AE$2:AE91,AE91)=1,AC91,\"\")","v":""},"","","",null,{"$f":"+IF(AP91=\"\",\"\",MAX(AK$1:AK90)+1)","v":""},{"$f":"IF('CMS Downtime Detail'!B113=\"\",\"\",'CMS Downtime Detail'!B113)","v":""},{"$f":"IF('CMS Downtime Detail'!C113=\"\",\"\",'CMS Downtime Detail'!C113)","v":""},{"$f":"IF('CMS Downtime Detail'!D113=\"\",\"\",'CMS Downtime Detail'!D113)","v":""},"",{"$f":"IF(COUNTIF(AO$2:AO91,AO91)=1,AM91,\"\")","v":""},"","","",null,{"$f":"+IF(AZ91=\"\",\"\",MAX(AU$1:AU90)+1)","v":""},{"$f":"IF('Process and CMS Information'!B113=\"\",\"\",'Process and CMS Information'!B113)","v":""},{"$f":"IF('Process and CMS Information'!C113=\"\",\"\",'Process and CMS Information'!C113)","v":""},{"$f":"IF('Process and CMS Information'!F113=\"\",\"\",'Process and CMS Information'!F113)","v":""},"",{"$f":"IF(COUNTIF(AY$2:AY91,AY91)=1,AY91,\"\")","v":""},"","","",""]
[null,null,null,null,null,null,null,null,null,null,null,null,null,null,null,null,null,null,null,null,null,null,null,null,null,null,{"$f":"+IF(AF92=\"\",\"\",MAX(AA$1:AA91)+1)","v":""},{"$f":"IF('Excess Emissions'!B114=\"\",\"\",'Excess Emissions'!B114)","v":""},{"$f":"IF('Excess Emissions'!C114=\"\",\"\",'Excess Emissions'!C114)","v":""},{"$f":"IF('Excess Emissions'!D114=\"\",\"\",'Excess Emissions'!D114)","v":""},"",{"$f":"IF(COUNTIF(AE$2:AE92,AE92)=1,AC92,\"\")","v":""},"","","",null,{"$f":"+IF(AP92=\"\",\"\",MAX(AK$1:AK91)+1)","v":""},{"$f":"IF('CMS Downtime Detail'!B114=\"\",\"\",'CMS Downtime Detail'!B114)","v":""},{"$f":"IF('CMS Downtime Detail'!C114=\"\",\"\",'CMS Downtime Detail'!C114)","v":""},{"$f":"IF('CMS Downtime Detail'!D114=\"\",\"\",'CMS Downtime Detail'!D114)","v":""},"",{"$f":"IF(COUNTIF(AO$2:AO92,AO92)=1,AM92,\"\")","v":""},"","","",null,{"$f":"+IF(AZ92=\"\",\"\",MAX(AU$1:AU91)+1)","v":""},{"$f":"IF('Process and CMS Information'!B114=\"\",\"\",'Process and CMS Information'!B114)","v":""},{"$f":"IF('Process and CMS Information'!C114=\"\",\"\",'Process and CMS Information'!C114)","v":""},{"$f":"IF('Process and CMS Information'!F114=\"\",\"\",'Process and CMS Information'!F114)","v":""},"",{"$f":"IF(COUNTIF(AY$2:AY92,AY92)=1,AY92,\"\")","v":""},"","","",""]
[null,null,null,null,null,null,null,null,null,null,null,null,null,null,null,null,null,null,null,null,null,null,null,null,null,null,{"$f":"+IF(AF93=\"\",\"\",MAX(AA$1:AA92)+1)","v":""},{"$f":"IF('Excess Emissions'!B115=\"\",\"\",'Excess Emissions'!B115)","v":""},{"$f":"IF('Excess Emissions'!C115=\"\",\"\",'Excess Emissions'!C115)","v":""},{"$f":"IF('Excess Emissions'!D115=\"\",\"\",'Excess Emissions'!D115)","v":""},"",{"$f":"IF(COUNTIF(AE$2:AE93,AE93)=1,AC93,\"\")","v":""},"","","",null,{"$f":"+IF(AP93=\"\",\"\",MAX(AK$1:AK92)+1)","v":""},{"$f":"IF('CMS Downtime Detail'!B115=\"\",\"\",'CMS Downtime Detail'!B115)","v":""},{"$f":"IF('CMS Downtime Detail'!C115=\"\",\"\",'CMS Downtime Detail'!C115)","v":""},{"$f":"IF('CMS Downtime Detail'!D115=\"\",\"\",'CMS Downtime Detail'!D115)","v":""},"",{"$f":"IF(COUNTIF(AO$2:AO93,AO93)=1,AM93,\"\")","v":""},"","","",null,{"$f":"+IF(AZ93=\"\",\"\",MAX(AU$1:AU92)+1)","v":""},{"$f":"IF('Process and CMS Information'!B115=\"\",\"\",'Process and CMS Information'!B115)","v":""},{"$f":"IF('Process and CMS Information'!C115=\"\",\"\",'Process and CMS Information'!C115)","v":""},{"$f":"IF('Process and CMS Information'!F115=\"\",\"\",'Process and CMS Information'!F115)","v":""},"",{"$f":"IF(COUNTIF(AY$2:AY93,AY93)=1,AY93,\"\")","v":""},"","","",""]
[null,null,null,null,null,null,null,null,null,null,null,null,null,null,null,null,null,null,null,null,null,null,null,null,null,null,{"$f":"+IF(AF94=\"\",\"\",MAX(AA$1:AA93)+1)","v":""},{"$f":"IF('Excess Emissions'!B116=\"\",\"\",'Excess Emissions'!B116)","v":""},{"$f":"IF('Excess Emissions'!C116=\"\",\"\",'Excess Emissions'!C116)","v":""},{"$f":"IF('Excess Emissions'!D116=\"\",\"\",'Excess Emissions'!D116)","v":""},"",{"$f":"IF(COUNTIF(AE$2:AE94,AE94)=1,AC94,\"\")","v":""},"","","",null,{"$f":"+IF(AP94=\"\",\"\",MAX(AK$1:AK93)+1)","v":""},{"$f":"IF('CMS Downtime Detail'!B116=\"\",\"\",'CMS Downtime Detail'!B116)","v":""},{"$f":"IF('CMS Downtime Detail'!C116=\"\",\"\",'CMS Downtime Detail'!C116)","v":""},{"$f":"IF('CMS Downtime Detail'!D116=\"\",\"\",'CMS Downtime Detail'!D116)","v":""},"",{"$f":"IF(COUNTIF(AO$2:AO94,AO94)=1,AM94,\"\")","v":""},"","","",null,{"$f":"+IF(AZ94=\"\",\"\",MAX(AU$1:AU93)+1)","v":""},{"$f":"IF('Process and CMS Information'!B116=\"\",\"\",'Process and CMS Information'!B116)","v":""},{"$f":"IF('Process and CMS Information'!C116=\"\",\"\",'Process and CMS Information'!C116)","v":""},{"$f":"IF('Process and CMS Information'!F116=\"\",\"\",'Process and CMS Information'!F116)","v":""},"",{"$f":"IF(COUNTIF(AY$2:AY94,AY94)=1,AY94,\"\")","v":""},"","","",""]
[null,null,null,null,null,null,null,null,null,null,null,null,null,null,null,null,null,null,null,null,null,null,null,null,null,null,{"$f":"+IF(AF95=\"\",\"\",MAX(AA$1:AA94)+1)","v":""},{"$f":"IF('Excess Emissions'!B117=\"\",\"\",'Excess Emissions'!B117)","v":""},{"$f":"IF('Excess Emissions'!C117=\"\",\"\",'Excess Emissions'!C117)","v":""},{"$f":"IF('Excess Emissions'!D117=\"\",\"\",'Excess Emissions'!D117)","v":""},"",{"$f":"IF(COUNTIF(AE$2:AE95,AE95)=1,AC95,\"\")","v":""},"","","",null,{"$f":"+IF(AP95=\"\",\"\",MAX(AK$1:AK94)+1)","v":""},{"$f":"IF('CMS Downtime Detail'!B117=\"\",\"\",'CMS Downtime Detail'!B117)","v":""},{"$f":"IF('CMS Downtime Detail'!C117=\"\",\"\",'CMS Downtime Detail'!C117)","v":""},{"$f":"IF('CMS Downtime Detail'!D117=\"\",\"\",'CMS Downtime Detail'!D117)","v":""},"",{"$f":"IF(COUNTIF(AO$2:AO95,AO95)=1,AM95,\"\")","v":""},"","","",null,{"$f":"+IF(AZ95=\"\",\"\",MAX(AU$1:AU94)+1)","v":""},{"$f":"IF('Process and CMS Information'!B117=\"\",\"\",'Process and CMS Information'!B117)","v":""},{"$f":"IF('Process and CMS Information'!C117=\"\",\"\",'Process and CMS Information'!C117)","v":""},{"$f":"IF('Process and CMS Information'!F117=\"\",\"\",'Process and CMS Information'!F117)","v":""},"",{"$f":"IF(COUNTIF(AY$2:AY95,AY95)=1,AY95,\"\")","v":""},"","","",""]
[null,null,null,null,null,null,null,null,null,null,null,null,null,null,null,null,null,null,null,null,null,null,null,null,null,null,{"$f":"+IF(AF96=\"\",\"\",MAX(AA$1:AA95)+1)","v":""},{"$f":"IF('Excess Emissions'!B118=\"\",\"\",'Excess Emissions'!B118)","v":""},{"$f":"IF('Excess Emissions'!C118=\"\",\"\",'Excess Emissions'!C118)","v":""},{"$f":"IF('Excess Emissions'!D118=\"\",\"\",'Excess Emissions'!D118)","v":""},"",{"$f":"IF(COUNTIF(AE$2:AE96,AE96)=1,AC96,\"\")","v":""},"","","",null,{"$f":"+IF(AP96=\"\",\"\",MAX(AK$1:AK95)+1)","v":""},{"$f":"IF('CMS Downtime Detail'!B118=\"\",\"\",'CMS Downtime Detail'!B118)","v":""},{"$f":"IF('CMS Downtime Detail'!C118=\"\",\"\",'CMS Downtime Detail'!C118)","v":""},{"$f":"IF('CMS Downtime Detail'!D118=\"\",\"\",'CMS Downtime Detail'!D118)","v":""},"",{"$f":"IF(COUNTIF(AO$2:AO96,AO96)=1,AM96,\"\")","v":""},"","","",null,{"$f":"+IF(AZ96=\"\",\"\",MAX(AU$1:AU95)+1)","v":""},{"$f":"IF('Process and CMS Information'!B118=\"\",\"\",'Process and CMS Information'!B118)","v":""},{"$f":"IF('Process and CMS Information'!C118=\"\",\"\",'Process and CMS Information'!C118)","v":""},{"$f":"IF('Process and CMS Information'!F118=\"\",\"\",'Process and CMS Information'!F118)","v":""},"",{"$f":"IF(COUNTIF(AY$2:AY96,AY96)=1,AY96,\"\")","v":""},"","","",""]
[null,null,null,null,null,null,null,null,null,null,null,null,null,null,null,null,null,null,null,null,null,null,null,null,null,null,{"$f":"+IF(AF97=\"\",\"\",MAX(AA$1:AA96)+1)","v":""},{"$f":"IF('Excess Emissions'!B119=\"\",\"\",'Excess Emissions'!B119)","v":""},{"$f":"IF('Excess Emissions'!C119=\"\",\"\",'Excess Emissions'!C119)","v":""},{"$f":"IF('Excess Emissions'!D119=\"\",\"\",'Excess Emissions'!D119)","v":""},"",{"$f":"IF(COUNTIF(AE$2:AE97,AE97)=1,AC97,\"\")","v":""},"","","",null,{"$f":"+IF(AP97=\"\",\"\",MAX(AK$1:AK96)+1)","v":""},{"$f":"IF('CMS Downtime Detail'!B119=\"\",\"\",'CMS Downtime Detail'!B119)","v":""},{"$f":"IF('CMS Downtime Detail'!C119=\"\",\"\",'CMS Downtime Detail'!C119)","v":""},{"$f":"IF('CMS Downtime Detail'!D119=\"\",\"\",'CMS Downtime Detail'!D119)","v":""},"",{"$f":"IF(COUNTIF(AO$2:AO97,AO97)=1,AM97,\"\")","v":""},"","","",null,{"$f":"+IF(AZ97=\"\",\"\",MAX(AU$1:AU96)+1)","v":""},{"$f":"IF('Process and CMS Information'!B119=\"\",\"\",'Process and CMS Information'!B119)","v":""},{"$f":"IF('Process and CMS Information'!C119=\"\",\"\",'Process and CMS Information'!C119)","v":""},{"$f":"IF('Process and CMS Information'!F119=\"\",\"\",'Process and CMS Information'!F119)","v":""},"",{"$f":"IF(COUNTIF(AY$2:AY97,AY97)=1,AY97,\"\")","v":""},"","","",""]
[null,null,null,null,null,null,null,null,null,null,null,null,null,null,null,null,null,null,null,null,null,null,null,null,null,null,{"$f":"+IF(AF98=\"\",\"\",MAX(AA$1:AA97)+1)","v":""},{"$f":"IF('Excess Emissions'!B120=\"\",\"\",'Excess Emissions'!B120)","v":""},{"$f":"IF('Excess Emissions'!C120=\"\",\"\",'Excess Emissions'!C120)","v":""},{"$f":"IF('Excess Emissions'!D120=\"\",\"\",'Excess Emissions'!D120)","v":""},"",{"$f":"IF(COUNTIF(AE$2:AE98,AE98)=1,AC98,\"\")","v":""},"","","",null,{"$f":"+IF(AP98=\"\",\"\",MAX(AK$1:AK97)+1)","v":""},{"$f":"IF('CMS Downtime Detail'!B120=\"\",\"\",'CMS Downtime Detail'!B120)","v":""},{"$f":"IF('CMS Downtime Detail'!C120=\"\",\"\",'CMS Downtime Detail'!C120)","v":""},{"$f":"IF('CMS Downtime Detail'!D120=\"\",\"\",'CMS Downtime Detail'!D120)","v":""},"",{"$f":"IF(COUNTIF(AO$2:AO98,AO98)=1,AM98,\"\")","v":""},"","","",null,{"$f":"+IF(AZ98=\"\",\"\",MAX(AU$1:AU97)+1)","v":""},{"$f":"IF('Process and CMS Information'!B120=\"\",\"\",'Process and CMS Information'!B120)","v":""},{"$f":"IF('Process and CMS Information'!C120=\"\",\"\",'Process and CMS Information'!C120)","v":""},{"$f":"IF('Process and CMS Information'!F120=\"\",\"\",'Process and CMS Information'!F120)","v":""},"",{"$f":"IF(COUNTIF(AY$2:AY98,AY98)=1,AY98,\"\")","v":""},"","","",""]
[null,null,null,null,null,null,null,null,null,null,null,null,null,null,null,null,null,null,null,null,null,null,null,null,null,null,{"$f":"+IF(AF99=\"\",\"\",MAX(AA$1:AA98)+1)","v":""},{"$f":"IF('Excess Emissions'!B121=\"\",\"\",'Excess Emissions'!B121)","v":""},{"$f":"IF('Excess Emissions'!C121=\"\",\"\",'Excess Emissions'!C121)","v":""},{"$f":"IF('Excess Emissions'!D121=\"\",\"\",'Excess Emissions'!D121)","v":""},"",{"$f":"IF(COUNTIF(AE$2:AE99,AE99)=1,AC99,\"\")","v":""},"","","",null,{"$f":"+IF(AP99=\"\",\"\",MAX(AK$1:AK98)+1)","v":""},{"$f":"IF('CMS Downtime Detail'!B121=\"\",\"\",'CMS Downtime Detail'!B121)","v":""},{"$f":"IF('CMS Downtime Detail'!C121=\"\",\"\",'CMS Downtime Detail'!C121)","v":""},{"$f":"IF('CMS Downtime Detail'!D121=\"\",\"\",'CMS Downtime Detail'!D121)","v":""},"",{"$f":"IF(COUNTIF(AO$2:AO99,AO99)=1,AM99,\"\")","v":""},"","","",null,{"$f":"+IF(AZ99=\"\",\"\",MAX(AU$1:AU98)+1)","v":""},{"$f":"IF('Process and CMS Information'!B121=\"\",\"\",'Process and CMS Information'!B121)","v":""},{"$f":"IF('Process and CMS Information'!C121=\"\",\"\",'Process and CMS Information'!C121)","v":""},{"$f":"IF('Process and CMS Information'!F121=\"\",\"\",'Process and CMS Information'!F121)","v":""},"",{"$f":"IF(COUNTIF(AY$2:AY99,AY99)=1,AY99,\"\")","v":""},"","","",""]
[null,null,null,null,null,null,null,null,null,null,null,null,null,null,null,null,null,null,null,null,null,null,null,null,null,null,{"$f":"+IF(AF100=\"\",\"\",MAX(AA$1:AA99)+1)","v":""},{"$f":"IF('Excess Emissions'!B122=\"\",\"\",'Excess Emissions'!B122)","v":""},{"$f":"IF('Excess Emissions'!C122=\"\",\"\",'Excess Emissions'!C122)","v":""},{"$f":"IF('Excess Emissions'!D122=\"\",\"\",'Excess Emissions'!D122)","v":""},"",{"$f":"IF(COUNTIF(AE$2:AE100,AE100)=1,AC100,\"\")","v":""},"","","",null,{"$f":"+IF(AP100=\"\",\"\",MAX(AK$1:AK99)+1)","v":""},{"$f":"IF('CMS Downtime Detail'!B122=\"\",\"\",'CMS Downtime Detail'!B122)","v":""},{"$f":"IF('CMS Downtime Detail'!C122=\"\",\"\",'CMS Downtime Detail'!C122)","v":""},{"$f":"IF('CMS Downtime Detail'!D122=\"\",\"\",'CMS Downtime Detail'!D122)","v":""},"",{"$f":"IF(COUNTIF(AO$2:AO100,AO100)=1,AM100,\"\")","v":""},"","","",null,{"$f":"+IF(AZ100=\"\",\"\",MAX(AU$1:AU99)+1)","v":""},{"$f":"IF('Process and CMS Information'!B122=\"\",\"\",'Process and CMS Information'!B122)","v":""},{"$f":"IF('Process and CMS Information'!C122=\"\",\"\",'Process and CMS Information'!C122)","v":""},{"$f":"IF('Process and CMS Information'!F122=\"\",\"\",'Process and CMS Information'!F122)","v":""},"",{"$f":"IF(COUNTIF(AY$2:AY100,AY100)=1,AY100,\"\")","v":""},"","","",""]
[null,null,null,null,null,null,null,null,null,null,null,null,null,null,null,null,null,null,null,null,null,null,null,null,null,null,{"$f":"+IF(AF101=\"\",\"\",MAX(AA$1:AA100)+1)","v":""},{"$f":"IF('Excess Emissions'!B123=\"\",\"\",'Excess Emissions'!B123)","v":""},{"$f":"IF('Excess Emissions'!C123=\"\",\"\",'Excess Emissions'!C123)","v":""},{"$f":"IF('Excess Emissions'!D123=\"\",\"\",'Excess Emissions'!D123)","v":""},"",{"$f":"IF(COUNTIF(AE$2:AE101,AE101)=1,AC101,\"\")","v":""},"","","",null,{"$f":"+IF(AP101=\"\",\"\",MAX(AK$1:AK100)+1)","v":""},{"$f":"IF('CMS Downtime Detail'!B123=\"\",\"\",'CMS Downtime Detail'!B123)","v":""},{"$f":"IF('CMS Downtime Detail'!C123=\"\",\"\",'CMS Downtime Detail'!C123)","v":""},{"$f":"IF('CMS Downtime Detail'!D123=\"\",\"\",'CMS Downtime Detail'!D123)","v":""},"",{"$f":"IF(COUNTIF(AO$2:AO101,AO101)=1,AM101,\"\")","v":""},"","","",null,{"$f":"+IF(AZ101=\"\",\"\",MAX(AU$1:AU100)+1)","v":""},{"$f":"IF('Process and CMS Information'!B123=\"\",\"\",'Process and CMS Information'!B123)","v":""},{"$f":"IF('Process and CMS Information'!C123=\"\",\"\",'Process and CMS Information'!C123)","v":""},{"$f":"IF('Process and CMS Information'!F123=\"\",\"\",'Process and CMS Information'!F123)","v":""},"",{"$f":"IF(COUNTIF(AY$2:AY101,AY101)=1,AY101,\"\")","v":""},"","","",""]
[null,null,null,null,null,null,null,null,null,null,null,null,null,null,null,null,null,null,null,null,null,null,null,null,null,null,{"$f":"+IF(AF102=\"\",\"\",MAX(AA$1:AA101)+1)","v":""},{"$f":"IF('Excess Emissions'!B124=\"\",\"\",'Excess Emissions'!B124)","v":""},{"$f":"IF('Excess Emissions'!C124=\"\",\"\",'Excess Emissions'!C124)","v":""},{"$f":"IF('Excess Emissions'!D124=\"\",\"\",'Excess Emissions'!D124)","v":""},"",{"$f":"IF(COUNTIF(AE$2:AE102,AE102)=1,AC102,\"\")","v":""},"","","",null,{"$f":"+IF(AP102=\"\",\"\",MAX(AK$1:AK101)+1)","v":""},{"$f":"IF('CMS Downtime Detail'!B124=\"\",\"\",'CMS Downtime Detail'!B124)","v":""},{"$f":"IF('CMS Downtime Detail'!C124=\"\",\"\",'CMS Downtime Detail'!C124)","v":""},{"$f":"IF('CMS Downtime Detail'!D124=\"\",\"\",'CMS Downtime Detail'!D124)","v":""},"",{"$f":"IF(COUNTIF(AO$2:AO102,AO102)=1,AM102,\"\")","v":""},"","","",null,{"$f":"+IF(AZ102=\"\",\"\",MAX(AU$1:AU101)+1)","v":""},{"$f":"IF('Process and CMS Information'!B124=\"\",\"\",'Process and CMS Information'!B124)","v":""},{"$f":"IF('Process and CMS Information'!C124=\"\",\"\",'Process and CMS Information'!C124)","v":""},{"$f":"IF('Process and CMS Information'!F124=\"\",\"\",'Process and CMS Information'!F124)","v":""},"",{"$f":"IF(COUNTIF(AY$2:AY102,AY102)=1,AY102,\"\")","v":""},"","","",""]
[null,null,null,null,null,null,null,null,null,null,null,null,null,null,null,null,null,null,null,null,null,null,null,null,null,null,{"$f":"+IF(AF103=\"\",\"\",MAX(AA$1:AA102)+1)","v":""},{"$f":"IF('Excess Emissions'!B125=\"\",\"\",'Excess Emissions'!B125)","v":""},{"$f":"IF('Excess Emissions'!C125=\"\",\"\",'Excess Emissions'!C125)","v":""},{"$f":"IF('Excess Emissions'!D125=\"\",\"\",'Excess Emissions'!D125)","v":""},"",{"$f":"IF(COUNTIF(AE$2:AE103,AE103)=1,AC103,\"\")","v":""},"","","",null,{"$f":"+IF(AP103=\"\",\"\",MAX(AK$1:AK102)+1)","v":""},{"$f":"IF('CMS Downtime Detail'!B125=\"\",\"\",'CMS Downtime Detail'!B125)","v":""},{"$f":"IF('CMS Downtime Detail'!C125=\"\",\"\",'CMS Downtime Detail'!C125)","v":""},{"$f":"IF('CMS Downtime Detail'!D125=\"\",\"\",'CMS Downtime Detail'!D125)","v":""},"",{"$f":"IF(COUNTIF(AO$2:AO103,AO103)=1,AM103,\"\")","v":""},"","","",null,{"$f":"+IF(AZ103=\"\",\"\",MAX(AU$1:AU102)+1)","v":""},{"$f":"IF('Process and CMS Information'!B125=\"\",\"\",'Process and CMS Information'!B125)","v":""},{"$f":"IF('Process and CMS Information'!C125=\"\",\"\",'Process and CMS Information'!C125)","v":""},{"$f":"IF('Process and CMS Information'!F125=\"\",\"\",'Process and CMS Information'!F125)","v":""},"",{"$f":"IF(COUNTIF(AY$2:AY103,AY103)=1,AY103,\"\")","v":""},"","","",""]
[null,null,null,null,null,null,null,null,null,null,null,null,null,null,null,null,null,null,null,null,null,null,null,null,null,null,{"$f":"+IF(AF104=\"\",\"\",MAX(AA$1:AA103)+1)","v":""},{"$f":"IF('Excess Emissions'!B126=\"\",\"\",'Excess Emissions'!B126)","v":""},{"$f":"IF('Excess Emissions'!C126=\"\",\"\",'Excess Emissions'!C126)","v":""},{"$f":"IF('Excess Emissions'!D126=\"\",\"\",'Excess Emissions'!D126)","v":""},"",{"$f":"IF(COUNTIF(AE$2:AE104,AE104)=1,AC104,\"\")","v":""},"","","",null,{"$f":"+IF(AP104=\"\",\"\",MAX(AK$1:AK103)+1)","v":""},{"$f":"IF('CMS Downtime Detail'!B126=\"\",\"\",'CMS Downtime Detail'!B126)","v":""},{"$f":"IF('CMS Downtime Detail'!C126=\"\",\"\",'CMS Downtime Detail'!C126)","v":""},{"$f":"IF('CMS Downtime Detail'!D126=\"\",\"\",'CMS Downtime Detail'!D126)","v":""},"",{"$f":"IF(COUNTIF(AO$2:AO104,AO104)=1,AM104,\"\")","v":""},"","","",null,{"$f":"+IF(AZ104=\"\",\"\",MAX(AU$1:AU103)+1)","v":""},{"$f":"IF('Process and CMS Information'!B126=\"\",\"\",'Process and CMS Information'!B126)","v":""},{"$f":"IF('Process and CMS Information'!C126=\"\",\"\",'Process and CMS Information'!C126)","v":""},{"$f":"IF('Process and CMS Information'!F126=\"\",\"\",'Process and CMS Information'!F126)","v":""},"",{"$f":"IF(COUNTIF(AY$2:AY104,AY104)=1,AY104,\"\")","v":""},"","","",""]
[null,null,null,null,null,null,null,null,null,null,null,null,null,null,null,null,null,null,null,null,null,null,null,null,null,null,{"$f":"+IF(AF105=\"\",\"\",MAX(AA$1:AA104)+1)","v":""},{"$f":"IF('Excess Emissions'!B127=\"\",\"\",'Excess Emissions'!B127)","v":""},{"$f":"IF('Excess Emissions'!C127=\"\",\"\",'Excess Emissions'!C127)","v":""},{"$f":"IF('Excess Emissions'!D127=\"\",\"\",'Excess Emissions'!D127)","v":""},"",{"$f":"IF(COUNTIF(AE$2:AE105,AE105)=1,AC105,\"\")","v":""},"","","",null,{"$f":"+IF(AP105=\"\",\"\",MAX(AK$1:AK104)+1)","v":""},{"$f":"IF('CMS Downtime Detail'!B127=\"\",\"\",'CMS Downtime Detail'!B127)","v":""},{"$f":"IF('CMS Downtime Detail'!C127=\"\",\"\",'CMS Downtime Detail'!C127)","v":""},{"$f":"IF('CMS Downtime Detail'!D127=\"\",\"\",'CMS Downtime Detail'!D127)","v":""},"",{"$f":"IF(COUNTIF(AO$2:AO105,AO105)=1,AM105,\"\")","v":""},"","","",null,{"$f":"+IF(AZ105=\"\",\"\",MAX(AU$1:AU104)+1)","v":""},{"$f":"IF('Process and CMS Information'!B127=\"\",\"\",'Process and CMS Information'!B127)","v":""},{"$f":"IF('Process and CMS Information'!C127=\"\",\"\",'Process and CMS Information'!C127)","v":""},{"$f":"IF('Process and CMS Information'!F127=\"\",\"\",'Process and CMS Information'!F127)","v":""},"",{"$f":"IF(COUNTIF(AY$2:AY105,AY105)=1,AY105,\"\")","v":""},"","","",""]
[null,null,null,null,null,null,null,null,null,null,null,null,null,null,null,null,null,null,null,null,null,null,null,null,null,null,{"$f":"+IF(AF106=\"\",\"\",MAX(AA$1:AA105)+1)","v":""},{"$f":"IF('Excess Emissions'!B128=\"\",\"\",'Excess Emissions'!B128)","v":""},{"$f":"IF('Excess Emissions'!C128=\"\",\"\",'Excess Emissions'!C128)","v":""},{"$f":"IF('Excess Emissions'!D128=\"\",\"\",'Excess Emissions'!D128)","v":""},"",{"$f":"IF(COUNTIF(AE$2:AE106,AE106)=1,AC106,\"\")","v":""},"","","",null,{"$f":"+IF(AP106=\"\",\"\",MAX(AK$1:AK105)+1)","v":""},{"$f":"IF('CMS Downtime Detail'!B128=\"\",\"\",'CMS Downtime Detail'!B128)","v":""},{"$f":"IF('CMS Downtime Detail'!C128=\"\",\"\",'CMS Downtime Detail'!C128)","v":""},{"$f":"IF('CMS Downtime Detail'!D128=\"\",\"\",'CMS Downtime Detail'!D128)","v":""},"",{"$f":"IF(COUNTIF(AO$2:AO106,AO106)=1,AM106,\"\")","v":""},"","","",null,{"$f":"+IF(AZ106=\"\",\"\",MAX(AU$1:AU105)+1)","v":""},{"$f":"IF('Process and CMS Information'!B128=\"\",\"\",'Process and CMS Information'!B128)","v":""},{"$f":"IF('Process and CMS Information'!C128=\"\",\"\",'Process and CMS Information'!C128)","v":""},{"$f":"IF('Process and CMS Information'!F128=\"\",\"\",'Process and CMS Information'!F128)","v":""},"",{"$f":"IF(COUNTIF(AY$2:AY106,AY106)=1,AY106,\"\")","v":""},"","","",""]
[null,null,null,null,null,null,null,null,null,null,null,null,null,null,null,null,null,null,null,null,null,null,null,null,null,null,{"$f":"+IF(AF107=\"\",\"\",MAX(AA$1:AA106)+1)","v":""},{"$f":"IF('Excess Emissions'!B129=\"\",\"\",'Excess Emissions'!B129)","v":""},{"$f":"IF('Excess Emissions'!C129=\"\",\"\",'Excess Emissions'!C129)","v":""},{"$f":"IF('Excess Emissions'!D129=\"\",\"\",'Excess Emissions'!D129)","v":""},"",{"$f":"IF(COUNTIF(AE$2:AE107,AE107)=1,AC107,\"\")","v":""},"","","",null,{"$f":"+IF(AP107=\"\",\"\",MAX(AK$1:AK106)+1)","v":""},{"$f":"IF('CMS Downtime Detail'!B129=\"\",\"\",'CMS Downtime Detail'!B129)","v":""},{"$f":"IF('CMS Downtime Detail'!C129=\"\",\"\",'CMS Downtime Detail'!C129)","v":""},{"$f":"IF('CMS Downtime Detail'!D129=\"\",\"\",'CMS Downtime Detail'!D129)","v":""},"",{"$f":"IF(COUNTIF(AO$2:AO107,AO107)=1,AM107,\"\")","v":""},"","","",null,{"$f":"+IF(AZ107=\"\",\"\",MAX(AU$1:AU106)+1)","v":""},{"$f":"IF('Process and CMS Information'!B129=\"\",\"\",'Process and CMS Information'!B129)","v":""},{"$f":"IF('Process and CMS Information'!C129=\"\",\"\",'Process and CMS Information'!C129)","v":""},{"$f":"IF('Process and CMS Information'!F129=\"\",\"\",'Process and CMS Information'!F129)","v":""},"",{"$f":"IF(COUNTIF(AY$2:AY107,AY107)=1,AY107,\"\")","v":""},"","","",""]
[null,null,null,null,null,null,null,null,null,null,null,null,null,null,null,null,null,null,null,null,null,null,null,null,null,null,{"$f":"+IF(AF108=\"\",\"\",MAX(AA$1:AA107)+1)","v":""},{"$f":"IF('Excess Emissions'!B130=\"\",\"\",'Excess Emissions'!B130)","v":""},{"$f":"IF('Excess Emissions'!C130=\"\",\"\",'Excess Emissions'!C130)","v":""},{"$f":"IF('Excess Emissions'!D130=\"\",\"\",'Excess Emissions'!D130)","v":""},"",{"$f":"IF(COUNTIF(AE$2:AE108,AE108)=1,AC108,\"\")","v":""},"","","",null,{"$f":"+IF(AP108=\"\",\"\",MAX(AK$1:AK107)+1)","v":""},{"$f":"IF('CMS Downtime Detail'!B130=\"\",\"\",'CMS Downtime Detail'!B130)","v":""},{"$f":"IF('CMS Downtime Detail'!C130=\"\",\"\",'CMS Downtime Detail'!C130)","v":""},{"$f":"IF('CMS Downtime Detail'!D130=\"\",\"\",'CMS Downtime Detail'!D130)","v":""},"",{"$f":"IF(COUNTIF(AO$2:AO108,AO108)=1,AM108,\"\")","v":""},"","","",null,{"$f":"+IF(AZ108=\"\",\"\",MAX(AU$1:AU107)+1)","v":""},{"$f":"IF('Process and CMS Information'!B130=\"\",\"\",'Process and CMS Information'!B130)","v":""},{"$f":"IF('Process and CMS Information'!C130=\"\",\"\",'Process and CMS Information'!C130)","v":""},{"$f":"IF('Process and CMS Information'!F130=\"\",\"\",'Process and CMS Information'!F130)","v":""},"",{"$f":"IF(COUNTIF(AY$2:AY108,AY108)=1,AY108,\"\")","v":""},"","","",""]
[null,null,null,null,null,null,null,null,null,null,null,null,null,null,null,null,null,null,null,null,null,null,null,null,null,null,{"$f":"+IF(AF109=\"\",\"\",MAX(AA$1:AA108)+1)","v":""},{"$f":"IF('Excess Emissions'!B131=\"\",\"\",'Excess Emissions'!B131)","v":""},{"$f":"IF('Excess Emissions'!C131=\"\",\"\",'Excess Emissions'!C131)","v":""},{"$f":"IF('Excess Emissions'!D131=\"\",\"\",'Excess Emissions'!D131)","v":""},"",{"$f":"IF(COUNTIF(AE$2:AE109,AE109)=1,AC109,\"\")","v":""},"","","",null,{"$f":"+IF(AP109=\"\",\"\",MAX(AK$1:AK108)+1)","v":""},{"$f":"IF('CMS Downtime Detail'!B131=\"\",\"\",'CMS Downtime Detail'!B131)","v":""},{"$f":"IF('CMS Downtime Detail'!C131=\"\",\"\",'CMS Downtime Detail'!C131)","v":""},{"$f":"IF('CMS Downtime Detail'!D131=\"\",\"\",'CMS Downtime Detail'!D131)","v":""},"",{"$f":"IF(COUNTIF(AO$2:AO109,AO109)=1,AM109,\"\")","v":""},"","","",null,{"$f":"+IF(AZ109=\"\",\"\",MAX(AU$1:AU108)+1)","v":""},{"$f":"IF('Process and CMS Information'!B131=\"\",\"\",'Process and CMS Information'!B131)","v":""},{"$f":"IF('Process and CMS Information'!C131=\"\",\"\",'Process and CMS Information'!C131)","v":""},{"$f":"IF('Process and CMS Information'!F131=\"\",\"\",'Process and CMS Information'!F131)","v":""},"",{"$f":"IF(COUNTIF(AY$2:AY109,AY109)=1,AY109,\"\")","v":""},"","","",""]
[null,null,null,null,null,null,null,null,null,null,null,null,null,null,null,null,null,null,null,null,null,null,null,null,null,null,{"$f":"+IF(AF110=\"\",\"\",MAX(AA$1:AA109)+1)","v":""},{"$f":"IF('Excess Emissions'!B132=\"\",\"\",'Excess Emissions'!B132)","v":""},{"$f":"IF('Excess Emissions'!C132=\"\",\"\",'Excess Emissions'!C132)","v":""},{"$f":"IF('Excess Emissions'!D132=\"\",\"\",'Excess Emissions'!D132)","v":""},"",{"$f":"IF(COUNTIF(AE$2:AE110,AE110)=1,AC110,\"\")","v":""},"","","",null,{"$f":"+IF(AP110=\"\",\"\",MAX(AK$1:AK109)+1)","v":""},{"$f":"IF('CMS Downtime Detail'!B132=\"\",\"\",'CMS Downtime Detail'!B132)","v":""},{"$f":"IF('CMS Downtime Detail'!C132=\"\",\"\",'CMS Downtime Detail'!C132)","v":""},{"$f":"IF('CMS Downtime Detail'!D132=\"\",\"\",'CMS Downtime Detail'!D132)","v":""},"",{"$f":"IF(COUNTIF(AO$2:AO110,AO110)=1,AM110,\"\")","v":""},"","","",null,{"$f":"+IF(AZ110=\"\",\"\",MAX(AU$1:AU109)+1)","v":""},{"$f":"IF('Process and CMS Information'!B132=\"\",\"\",'Process and CMS Information'!B132)","v":""},{"$f":"IF('Process and CMS Information'!C132=\"\",\"\",'Process and CMS Information'!C132)","v":""},{"$f":"IF('Process and CMS Information'!F132=\"\",\"\",'Process and CMS Information'!F132)","v":""},"",{"$f":"IF(COUNTIF(AY$2:AY110,AY110)=1,AY110,\"\")","v":""},"","","",""]
[null,null,null,null,null,null,null,null,null,null,null,null,null,null,null,null,null,null,null,null,null,null,null,null,null,null,{"$f":"+IF(AF111=\"\",\"\",MAX(AA$1:AA110)+1)","v":""},{"$f":"IF('Excess Emissions'!B133=\"\",\"\",'Excess Emissions'!B133)","v":""},{"$f":"IF('Excess Emissions'!C133=\"\",\"\",'Excess Emissions'!C133)","v":""},{"$f":"IF('Excess Emissions'!D133=\"\",\"\",'Excess Emissions'!D133)","v":""},"",{"$f":"IF(COUNTIF(AE$2:AE111,AE111)=1,AC111,\"\")","v":""},"","","",null,{"$f":"+IF(AP111=\"\",\"\",MAX(AK$1:AK110)+1)","v":""},{"$f":"IF('CMS Downtime Detail'!B133=\"\",\"\",'CMS Downtime Detail'!B133)","v":""},{"$f":"IF('CMS Downtime Detail'!C133=\"\",\"\",'CMS Downtime Detail'!C133)","v":""},{"$f":"IF('CMS Downtime Detail'!D133=\"\",\"\",'CMS Downtime Detail'!D133)","v":""},"",{"$f":"IF(COUNTIF(AO$2:AO111,AO111)=1,AM111,\"\")","v":""},"","","",null,{"$f":"+IF(AZ111=\"\",\"\",MAX(AU$1:AU110)+1)","v":""},{"$f":"IF('Process and CMS Information'!B133=\"\",\"\",'Process and CMS Information'!B133)","v":""},{"$f":"IF('Process and CMS Information'!C133=\"\",\"\",'Process and CMS Information'!C133)","v":""},{"$f":"IF('Process and CMS Information'!F133=\"\",\"\",'Process and CMS Information'!F133)","v":""},"",{"$f":"IF(COUNTIF(AY$2:AY111,AY111)=1,AY111,\"\")","v":""},"","","",""]
[null,null,null,null,null,null,null,null,null,null,null,null,null,null,null,null,null,null,null,null,null,null,null,null,null,null,{"$f":"+IF(AF112=\"\",\"\",MAX(AA$1:AA111)+1)","v":""},{"$f":"IF('Excess Emissions'!B134=\"\",\"\",'Excess Emissions'!B134)","v":""},{"$f":"IF('Excess Emissions'!C134=\"\",\"\",'Excess Emissions'!C134)","v":""},{"$f":"IF('Excess Emissions'!D134=\"\",\"\",'Excess Emissions'!D134)","v":""},"",{"$f":"IF(COUNTIF(AE$2:AE112,AE112)=1,AC112,\"\")","v":""},"","","",null,{"$f":"+IF(AP112=\"\",\"\",MAX(AK$1:AK111)+1)","v":""},{"$f":"IF('CMS Downtime Detail'!B134=\"\",\"\",'CMS Downtime Detail'!B134)","v":""},{"$f":"IF('CMS Downtime Detail'!C134=\"\",\"\",'CMS Downtime Detail'!C134)","v":""},{"$f":"IF('CMS Downtime Detail'!D134=\"\",\"\",'CMS Downtime Detail'!D134)","v":""},"",{"$f":"IF(COUNTIF(AO$2:AO112,AO112)=1,AM112,\"\")","v":""},"","","",null,{"$f":"+IF(AZ112=\"\",\"\",MAX(AU$1:AU111)+1)","v":""},{"$f":"IF('Process and CMS Information'!B134=\"\",\"\",'Process and CMS Information'!B134)","v":""},{"$f":"IF('Process and CMS Information'!C134=\"\",\"\",'Process and CMS Information'!C134)","v":""},{"$f":"IF('Process and CMS Information'!F134=\"\",\"\",'Process and CMS Information'!F134)","v":""},"",{"$f":"IF(COUNTIF(AY$2:AY112,AY112)=1,AY112,\"\")","v":""},"","","",""]
[null,null,null,null,null,null,null,null,null,null,null,null,null,null,null,null,null,null,null,null,null,null,null,null,null,null,{"$f":"+IF(AF113=\"\",\"\",MAX(AA$1:AA112)+1)","v":""},{"$f":"IF('Excess Emissions'!B135=\"\",\"\",'Excess Emissions'!B135)","v":""},{"$f":"IF('Excess Emissions'!C135=\"\",\"\",'Excess Emissions'!C135)","v":""},{"$f":"IF('Excess Emissions'!D135=\"\",\"\",'Excess Emissions'!D135)","v":""},"",{"$f":"IF(COUNTIF(AE$2:AE113,AE113)=1,AC113,\"\")","v":""},"","","",null,{"$f":"+IF(AP113=\"\",\"\",MAX(AK$1:AK112)+1)","v":""},{"$f":"IF('CMS Downtime Detail'!B135=\"\",\"\",'CMS Downtime Detail'!B135)","v":""},{"$f":"IF('CMS Downtime Detail'!C135=\"\",\"\",'CMS Downtime Detail'!C135)","v":""},{"$f":"IF('CMS Downtime Detail'!D135=\"\",\"\",'CMS Downtime Detail'!D135)","v":""},"",{"$f":"IF(COUNTIF(AO$2:AO113,AO113)=1,AM113,\"\")","v":""},"","","",null,{"$f":"+IF(AZ113=\"\",\"\",MAX(AU$1:AU112)+1)","v":""},{"$f":"IF('Process and CMS Information'!B135=\"\",\"\",'Process and CMS Information'!B135)","v":""},{"$f":"IF('Process and CMS Information'!C135=\"\",\"\",'Process and CMS Information'!C135)","v":""},{"$f":"IF('Process and CMS Information'!F135=\"\",\"\",'Process and CMS Information'!F135)","v":""},"",{"$f":"IF(COUNTIF(AY$2:AY113,AY113)=1,AY113,\"\")","v":""},"","","",""]
[null,null,null,null,null,null,null,null,null,null,null,null,null,null,null,null,null,null,null,null,null,null,null,null,null,null,{"$f":"+IF(AF114=\"\",\"\",MAX(AA$1:AA113)+1)","v":""},{"$f":"IF('Excess Emissions'!B136=\"\",\"\",'Excess Emissions'!B136)","v":""},{"$f":"IF('Excess Emissions'!C136=\"\",\"\",'Excess Emissions'!C136)","v":""},{"$f":"IF('Excess Emissions'!D136=\"\",\"\",'Excess Emissions'!D136)","v":""},"",{"$f":"IF(COUNTIF(AE$2:AE114,AE114)=1,AC114,\"\")","v":""},"","","",null,{"$f":"+IF(AP114=\"\",\"\",MAX(AK$1:AK113)+1)","v":""},{"$f":"IF('CMS Downtime Detail'!B136=\"\",\"\",'CMS Downtime Detail'!B136)","v":""},{"$f":"IF('CMS Downtime Detail'!C136=\"\",\"\",'CMS Downtime Detail'!C136)","v":""},{"$f":"IF('CMS Downtime Detail'!D136=\"\",\"\",'CMS Downtime Detail'!D136)","v":""},"",{"$f":"IF(COUNTIF(AO$2:AO114,AO114)=1,AM114,\"\")","v":""},"","","",null,{"$f":"+IF(AZ114=\"\",\"\",MAX(AU$1:AU113)+1)","v":""},{"$f":"IF('Process and CMS Information'!B136=\"\",\"\",'Process and CMS Information'!B136)","v":""},{"$f":"IF('Process and CMS Information'!C136=\"\",\"\",'Process and CMS Information'!C136)","v":""},{"$f":"IF('Process and CMS Information'!F136=\"\",\"\",'Process and CMS Information'!F136)","v":""},"",{"$f":"IF(COUNTIF(AY$2:AY114,AY114)=1,AY114,\"\")","v":""},"","","",""]
[null,null,null,null,null,null,null,null,null,null,null,null,null,null,null,null,null,null,null,null,null,null,null,null,null,null,{"$f":"+IF(AF115=\"\",\"\",MAX(AA$1:AA114)+1)","v":""},{"$f":"IF('Excess Emissions'!B137=\"\",\"\",'Excess Emissions'!B137)","v":""},{"$f":"IF('Excess Emissions'!C137=\"\",\"\",'Excess Emissions'!C137)","v":""},{"$f":"IF('Excess Emissions'!D137=\"\",\"\",'Excess Emissions'!D137)","v":""},"",{"$f":"IF(COUNTIF(AE$2:AE115,AE115)=1,AC115,\"\")","v":""},"","","",null,{"$f":"+IF(AP115=\"\",\"\",MAX(AK$1:AK114)+1)","v":""},{"$f":"IF('CMS Downtime Detail'!B137=\"\",\"\",'CMS Downtime Detail'!B137)","v":""},{"$f":"IF('CMS Downtime Detail'!C137=\"\",\"\",'CMS Downtime Detail'!C137)","v":""},{"$f":"IF('CMS Downtime Detail'!D137=\"\",\"\",'CMS Downtime Detail'!D137)","v":""},"",{"$f":"IF(COUNTIF(AO$2:AO115,AO115)=1,AM115,\"\")","v":""},"","","",null,{"$f":"+IF(AZ115=\"\",\"\",MAX(AU$1:AU114)+1)","v":""},{"$f":"IF('Process and CMS Information'!B137=\"\",\"\",'Process and CMS Information'!B137)","v":""},{"$f":"IF('Process and CMS Information'!C137=\"\",\"\",'Process and CMS Information'!C137)","v":""},{"$f":"IF('Process and CMS Information'!F137=\"\",\"\",'Process and CMS Information'!F137)","v":""},"",{"$f":"IF(COUNTIF(AY$2:AY115,AY115)=1,AY115,\"\")","v":""},"","","",""]
[null,null,null,null,null,null,null,null,null,null,null,null,null,null,null,null,null,null,null,null,null,null,null,null,null,null,{"$f":"+IF(AF116=\"\",\"\",MAX(AA$1:AA115)+1)","v":""},{"$f":"IF('Excess Emissions'!B138=\"\",\"\",'Excess Emissions'!B138)","v":""},{"$f":"IF('Excess Emissions'!C138=\"\",\"\",'Excess Emissions'!C138)","v":""},{"$f":"IF('Excess Emissions'!D138=\"\",\"\",'Excess Emissions'!D138)","v":""},"",{"$f":"IF(COUNTIF(AE$2:AE116,AE116)=1,AC116,\"\")","v":""},"","","",null,{"$f":"+IF(AP116=\"\",\"\",MAX(AK$1:AK115)+1)","v":""},{"$f":"IF('CMS Downtime Detail'!B138=\"\",\"\",'CMS Downtime Detail'!B138)","v":""},{"$f":"IF('CMS Downtime Detail'!C138=\"\",\"\",'CMS Downtime Detail'!C138)","v":""},{"$f":"IF('CMS Downtime Detail'!D138=\"\",\"\",'CMS Downtime Detail'!D138)","v":""},"",{"$f":"IF(COUNTIF(AO$2:AO116,AO116)=1,AM116,\"\")","v":""},"","","",null,{"$f":"+IF(AZ116=\"\",\"\",MAX(AU$1:AU115)+1)","v":""},{"$f":"IF('Process and CMS Information'!B138=\"\",\"\",'Process and CMS Information'!B138)","v":""},{"$f":"IF('Process and CMS Information'!C138=\"\",\"\",'Process and CMS Information'!C138)","v":""},{"$f":"IF('Process and CMS Information'!F138=\"\",\"\",'Process and CMS Information'!F138)","v":""},"",{"$f":"IF(COUNTIF(AY$2:AY116,AY116)=1,AY116,\"\")","v":""},"","","",""]
[null,null,null,null,null,null,null,null,null,null,null,null,null,null,null,null,null,null,null,null,null,null,null,null,null,null,{"$f":"+IF(AF117=\"\",\"\",MAX(AA$1:AA116)+1)","v":""},{"$f":"IF('Excess Emissions'!B139=\"\",\"\",'Excess Emissions'!B139)","v":""},{"$f":"IF('Excess Emissions'!C139=\"\",\"\",'Excess Emissions'!C139)","v":""},{"$f":"IF('Excess Emissions'!D139=\"\",\"\",'Excess Emissions'!D139)","v":""},"",{"$f":"IF(COUNTIF(AE$2:AE117,AE117)=1,AC117,\"\")","v":""},"","","",null,{"$f":"+IF(AP117=\"\",\"\",MAX(AK$1:AK116)+1)","v":""},{"$f":"IF('CMS Downtime Detail'!B139=\"\",\"\",'CMS Downtime Detail'!B139)","v":""},{"$f":"IF('CMS Downtime Detail'!C139=\"\",\"\",'CMS Downtime Detail'!C139)","v":""},{"$f":"IF('CMS Downtime Detail'!D139=\"\",\"\",'CMS Downtime Detail'!D139)","v":""},"",{"$f":"IF(COUNTIF(AO$2:AO117,AO117)=1,AM117,\"\")","v":""},"","","",null,{"$f":"+IF(AZ117=\"\",\"\",MAX(AU$1:AU116)+1)","v":""},{"$f":"IF('Process and CMS Information'!B139=\"\",\"\",'Process and CMS Information'!B139)","v":""},{"$f":"IF('Process and CMS Information'!C139=\"\",\"\",'Process and CMS Information'!C139)","v":""},{"$f":"IF('Process and CMS Information'!F139=\"\",\"\",'Process and CMS Information'!F139)","v":""},"",{"$f":"IF(COUNTIF(AY$2:AY117,AY117)=1,AY117,\"\")","v":""},"","","",""]
[null,null,null,null,null,null,null,null,null,null,null,null,null,null,null,null,null,null,null,null,null,null,null,null,null,null,{"$f":"+IF(AF118=\"\",\"\",MAX(AA$1:AA117)+1)","v":""},{"$f":"IF('Excess Emissions'!B140=\"\",\"\",'Excess Emissions'!B140)","v":""},{"$f":"IF('Excess Emissions'!C140=\"\",\"\",'Excess Emissions'!C140)","v":""},{"$f":"IF('Excess Emissions'!D140=\"\",\"\",'Excess Emissions'!D140)","v":""},"",{"$f":"IF(COUNTIF(AE$2:AE118,AE118)=1,AC118,\"\")","v":""},"","","",null,{"$f":"+IF(AP118=\"\",\"\",MAX(AK$1:AK117)+1)","v":""},{"$f":"IF('CMS Downtime Detail'!B140=\"\",\"\",'CMS Downtime Detail'!B140)","v":""},{"$f":"IF('CMS Downtime Detail'!C140=\"\",\"\",'CMS Downtime Detail'!C140)","v":""},{"$f":"IF('CMS Downtime Detail'!D140=\"\",\"\",'CMS Downtime Detail'!D140)","v":""},"",{"$f":"IF(COUNTIF(AO$2:AO118,AO118)=1,AM118,\"\")","v":""},"","","",null,{"$f":"+IF(AZ118=\"\",\"\",MAX(AU$1:AU117)+1)","v":""},{"$f":"IF('Process and CMS Information'!B140=\"\",\"\",'Process and CMS Information'!B140)","v":""},{"$f":"IF('Process and CMS Information'!C140=\"\",\"\",'Process and CMS Information'!C140)","v":""},{"$f":"IF('Process and CMS Information'!F140=\"\",\"\",'Process and CMS Information'!F140)","v":""},"",{"$f":"IF(COUNTIF(AY$2:AY118,AY118)=1,AY118,\"\")","v":""},"","","",""]
[null,null,null,null,null,null,null,null,null,null,null,null,null,null,null,null,null,null,null,null,null,null,null,null,null,null,{"$f":"+IF(AF119=\"\",\"\",MAX(AA$1:AA118)+1)","v":""},{"$f":"IF('Excess Emissions'!B141=\"\",\"\",'Excess Emissions'!B141)","v":""},{"$f":"IF('Excess Emissions'!C141=\"\",\"\",'Excess Emissions'!C141)","v":""},{"$f":"IF('Excess Emissions'!D141=\"\",\"\",'Excess Emissions'!D141)","v":""},"",{"$f":"IF(COUNTIF(AE$2:AE119,AE119)=1,AC119,\"\")","v":""},"","","",null,{"$f":"+IF(AP119=\"\",\"\",MAX(AK$1:AK118)+1)","v":""},{"$f":"IF('CMS Downtime Detail'!B141=\"\",\"\",'CMS Downtime Detail'!B141)","v":""},{"$f":"IF('CMS Downtime Detail'!C141=\"\",\"\",'CMS Downtime Detail'!C141)","v":""},{"$f":"IF('CMS Downtime Detail'!D141=\"\",\"\",'CMS Downtime Detail'!D141)","v":""},"",{"$f":"IF(COUNTIF(AO$2:AO119,AO119)=1,AM119,\"\")","v":""},"","","",null,{"$f":"+IF(AZ119=\"\",\"\",MAX(AU$1:AU118)+1)","v":""},{"$f":"IF('Process and CMS Information'!B141=\"\",\"\",'Process and CMS Information'!B141)","v":""},{"$f":"IF('Process and CMS Information'!C141=\"\",\"\",'Process and CMS Information'!C141)","v":""},{"$f":"IF('Process and CMS Information'!F141=\"\",\"\",'Process and CMS Information'!F141)","v":""},"",{"$f":"IF(COUNTIF(AY$2:AY119,AY119)=1,AY119,\"\")","v":""},"","","",""]
[null,null,null,null,null,null,null,null,null,null,null,null,null,null,null,null,null,null,null,null,null,null,null,null,null,null,{"$f":"+IF(AF120=\"\",\"\",MAX(AA$1:AA119)+1)","v":""},{"$f":"IF('Excess Emissions'!B142=\"\",\"\",'Excess Emissions'!B142)","v":""},{"$f":"IF('Excess Emissions'!C142=\"\",\"\",'Excess Emissions'!C142)","v":""},{"$f":"IF('Excess Emissions'!D142=\"\",\"\",'Excess Emissions'!D142)","v":""},"",{"$f":"IF(COUNTIF(AE$2:AE120,AE120)=1,AC120,\"\")","v":""},"","","",null,{"$f":"+IF(AP120=\"\",\"\",MAX(AK$1:AK119)+1)","v":""},{"$f":"IF('CMS Downtime Detail'!B142=\"\",\"\",'CMS Downtime Detail'!B142)","v":""},{"$f":"IF('CMS Downtime Detail'!C142=\"\",\"\",'CMS Downtime Detail'!C142)","v":""},{"$f":"IF('CMS Downtime Detail'!D142=\"\",\"\",'CMS Downtime Detail'!D142)","v":""},"",{"$f":"IF(COUNTIF(AO$2:AO120,AO120)=1,AM120,\"\")","v":""},"","","",null,{"$f":"+IF(AZ120=\"\",\"\",MAX(AU$1:AU119)+1)","v":""},{"$f":"IF('Process and CMS Information'!B142=\"\",\"\",'Process and CMS Information'!B142)","v":""},{"$f":"IF('Process and CMS Information'!C142=\"\",\"\",'Process and CMS Information'!C142)","v":""},{"$f":"IF('Process and CMS Information'!F142=\"\",\"\",'Process and CMS Information'!F142)","v":""},"",{"$f":"IF(COUNTIF(AY$2:AY120,AY120)=1,AY120,\"\")","v":""},"","","",""]
[null,null,null,null,null,null,null,null,null,null,null,null,null,null,null,null,null,null,null,null,null,null,null,null,null,null,{"$f":"+IF(AF121=\"\",\"\",MAX(AA$1:AA120)+1)","v":""},{"$f":"IF('Excess Emissions'!B143=\"\",\"\",'Excess Emissions'!B143)","v":""},{"$f":"IF('Excess Emissions'!C143=\"\",\"\",'Excess Emissions'!C143)","v":""},{"$f":"IF('Excess Emissions'!D143=\"\",\"\",'Excess Emissions'!D143)","v":""},"",{"$f":"IF(COUNTIF(AE$2:AE121,AE121)=1,AC121,\"\")","v":""},"","","",null,{"$f":"+IF(AP121=\"\",\"\",MAX(AK$1:AK120)+1)","v":""},{"$f":"IF('CMS Downtime Detail'!B143=\"\",\"\",'CMS Downtime Detail'!B143)","v":""},{"$f":"IF('CMS Downtime Detail'!C143=\"\",\"\",'CMS Downtime Detail'!C143)","v":""},{"$f":"IF('CMS Downtime Detail'!D143=\"\",\"\",'CMS Downtime Detail'!D143)","v":""},"",{"$f":"IF(COUNTIF(AO$2:AO121,AO121)=1,AM121,\"\")","v":""},"","","",null,{"$f":"+IF(AZ121=\"\",\"\",MAX(AU$1:AU120)+1)","v":""},{"$f":"IF('Process and CMS Information'!B143=\"\",\"\",'Process and CMS Information'!B143)","v":""},{"$f":"IF('Process and CMS Information'!C143=\"\",\"\",'Process and CMS Information'!C143)","v":""},{"$f":"IF('Process and CMS Information'!F143=\"\",\"\",'Process and CMS Information'!F143)","v":""},"",{"$f":"IF(COUNTIF(AY$2:AY121,AY121)=1,AY121,\"\")","v":""},"","","",""]
[null,null,null,null,null,null,null,null,null,null,null,null,null,null,null,null,null,null,null,null,null,null,null,null,null,null,{"$f":"+IF(AF122=\"\",\"\",MAX(AA$1:AA121)+1)","v":""},{"$f":"IF('Excess Emissions'!B144=\"\",\"\",'Excess Emissions'!B144)","v":""},{"$f":"IF('Excess Emissions'!C144=\"\",\"\",'Excess Emissions'!C144)","v":""},{"$f":"IF('Excess Emissions'!D144=\"\",\"\",'Excess Emissions'!D144)","v":""},"",{"$f":"IF(COUNTIF(AE$2:AE122,AE122)=1,AC122,\"\")","v":""},"","","",null,{"$f":"+IF(AP122=\"\",\"\",MAX(AK$1:AK121)+1)","v":""},{"$f":"IF('CMS Downtime Detail'!B144=\"\",\"\",'CMS Downtime Detail'!B144)","v":""},{"$f":"IF('CMS Downtime Detail'!C144=\"\",\"\",'CMS Downtime Detail'!C144)","v":""},{"$f":"IF('CMS Downtime Detail'!D144=\"\",\"\",'CMS Downtime Detail'!D144)","v":""},"",{"$f":"IF(COUNTIF(AO$2:AO122,AO122)=1,AM122,\"\")","v":""},"","","",null,{"$f":"+IF(AZ122=\"\",\"\",MAX(AU$1:AU121)+1)","v":""},{"$f":"IF('Process and CMS Information'!B144=\"\",\"\",'Process and CMS Information'!B144)","v":""},{"$f":"IF('Process and CMS Information'!C144=\"\",\"\",'Process and CMS Information'!C144)","v":""},{"$f":"IF('Process and CMS Information'!F144=\"\",\"\",'Process and CMS Information'!F144)","v":""},"",{"$f":"IF(COUNTIF(AY$2:AY122,AY122)=1,AY122,\"\")","v":""},"","","",""]
[null,null,null,null,null,null,null,null,null,null,null,null,null,null,null,null,null,null,null,null,null,null,null,null,null,null,{"$f":"+IF(AF123=\"\",\"\",MAX(AA$1:AA122)+1)","v":""},{"$f":"IF('Excess Emissions'!B145=\"\",\"\",'Excess Emissions'!B145)","v":""},{"$f":"IF('Excess Emissions'!C145=\"\",\"\",'Excess Emissions'!C145)","v":""},{"$f":"IF('Excess Emissions'!D145=\"\",\"\",'Excess Emissions'!D145)","v":""},"",{"$f":"IF(COUNTIF(AE$2:AE123,AE123)=1,AC123,\"\")","v":""},"","","",null,{"$f":"+IF(AP123=\"\",\"\",MAX(AK$1:AK122)+1)","v":""},{"$f":"IF('CMS Downtime Detail'!B145=\"\",\"\",'CMS Downtime Detail'!B145)","v":""},{"$f":"IF('CMS Downtime Detail'!C145=\"\",\"\",'CMS Downtime Detail'!C145)","v":""},{"$f":"IF('CMS Downtime Detail'!D145=\"\",\"\",'CMS Downtime Detail'!D145)","v":""},"",{"$f":"IF(COUNTIF(AO$2:AO123,AO123)=1,AM123,\"\")","v":""},"","","",null,{"$f":"+IF(AZ123=\"\",\"\",MAX(AU$1:AU122)+1)","v":""},{"$f":"IF('Process and CMS Information'!B145=\"\",\"\",'Process and CMS Information'!B145)","v":""},{"$f":"IF('Process and CMS Information'!C145=\"\",\"\",'Process and CMS Information'!C145)","v":""},{"$f":"IF('Process and CMS Information'!F145=\"\",\"\",'Process and CMS Information'!F145)","v":""},"",{"$f":"IF(COUNTIF(AY$2:AY123,AY123)=1,AY123,\"\")","v":""},"","","",""]
[null,null,null,null,null,null,null,null,null,null,null,null,null,null,null,null,null,null,null,null,null,null,null,null,null,null,{"$f":"+IF(AF124=\"\",\"\",MAX(AA$1:AA123)+1)","v":""},{"$f":"IF('Excess Emissions'!B146=\"\",\"\",'Excess Emissions'!B146)","v":""},{"$f":"IF('Excess Emissions'!C146=\"\",\"\",'Excess Emissions'!C146)","v":""},{"$f":"IF('Excess Emissions'!D146=\"\",\"\",'Excess Emissions'!D146)","v":""},"",{"$f":"IF(COUNTIF(AE$2:AE124,AE124)=1,AC124,\"\")","v":""},"","","",null,{"$f":"+IF(AP124=\"\",\"\",MAX(AK$1:AK123)+1)","v":""},{"$f":"IF('CMS Downtime Detail'!B146=\"\",\"\",'CMS Downtime Detail'!B146)","v":""},{"$f":"IF('CMS Downtime Detail'!C146=\"\",\"\",'CMS Downtime Detail'!C146)","v":""},{"$f":"IF('CMS Downtime Detail'!D146=\"\",\"\",'CMS Downtime Detail'!D146)","v":""},"",{"$f":"IF(COUNTIF(AO$2:AO124,AO124)=1,AM124,\"\")","v":""},"","","",null,{"$f":"+IF(AZ124=\"\",\"\",MAX(AU$1:AU123)+1)","v":""},{"$f":"IF('Process and CMS Information'!B146=\"\",\"\",'Process and CMS Information'!B146)","v":""},{"$f":"IF('Process and CMS Information'!C146=\"\",\"\",'Process and CMS Information'!C146)","v":""},{"$f":"IF('Process and CMS Information'!F146=\"\",\"\",'Process and CMS Information'!F146)","v":""},"",{"$f":"IF(COUNTIF(AY$2:AY124,AY124)=1,AY124,\"\")","v":""},"","","",""]
[null,null,null,null,null,null,null,null,null,null,null,null,null,null,null,null,null,null,null,null,null,null,null,null,null,null,{"$f":"+IF(AF125=\"\",\"\",MAX(AA$1:AA124)+1)","v":""},{"$f":"IF('Excess Emissions'!B147=\"\",\"\",'Excess Emissions'!B147)","v":""},{"$f":"IF('Excess Emissions'!C147=\"\",\"\",'Excess Emissions'!C147)","v":""},{"$f":"IF('Excess Emissions'!D147=\"\",\"\",'Excess Emissions'!D147)","v":""},"",{"$f":"IF(COUNTIF(AE$2:AE125,AE125)=1,AC125,\"\")","v":""},"","","",null,{"$f":"+IF(AP125=\"\",\"\",MAX(AK$1:AK124)+1)","v":""},{"$f":"IF('CMS Downtime Detail'!B147=\"\",\"\",'CMS Downtime Detail'!B147)","v":""},{"$f":"IF('CMS Downtime Detail'!C147=\"\",\"\",'CMS Downtime Detail'!C147)","v":""},{"$f":"IF('CMS Downtime Detail'!D147=\"\",\"\",'CMS Downtime Detail'!D147)","v":""},"",{"$f":"IF(COUNTIF(AO$2:AO125,AO125)=1,AM125,\"\")","v":""},"","","",null,{"$f":"+IF(AZ125=\"\",\"\",MAX(AU$1:AU124)+1)","v":""},{"$f":"IF('Process and CMS Information'!B147=\"\",\"\",'Process and CMS Information'!B147)","v":""},{"$f":"IF('Process and CMS Information'!C147=\"\",\"\",'Process and CMS Information'!C147)","v":""},{"$f":"IF('Process and CMS Information'!F147=\"\",\"\",'Process and CMS Information'!F147)","v":""},"",{"$f":"IF(COUNTIF(AY$2:AY125,AY125)=1,AY125,\"\")","v":""},"","","",""]
[null,null,null,null,null,null,null,null,null,null,null,null,null,null,null,null,null,null,null,null,null,null,null,null,null,null,{"$f":"+IF(AF126=\"\",\"\",MAX(AA$1:AA125)+1)","v":""},{"$f":"IF('Excess Emissions'!B148=\"\",\"\",'Excess Emissions'!B148)","v":""},{"$f":"IF('Excess Emissions'!C148=\"\",\"\",'Excess Emissions'!C148)","v":""},{"$f":"IF('Excess Emissions'!D148=\"\",\"\",'Excess Emissions'!D148)","v":""},"",{"$f":"IF(COUNTIF(AE$2:AE126,AE126)=1,AC126,\"\")","v":""},"","","",null,{"$f":"+IF(AP126=\"\",\"\",MAX(AK$1:AK125)+1)","v":""},{"$f":"IF('CMS Downtime Detail'!B148=\"\",\"\",'CMS Downtime Detail'!B148)","v":""},{"$f":"IF('CMS Downtime Detail'!C148=\"\",\"\",'CMS Downtime Detail'!C148)","v":""},{"$f":"IF('CMS Downtime Detail'!D148=\"\",\"\",'CMS Downtime Detail'!D148)","v":""},"",{"$f":"IF(COUNTIF(AO$2:AO126,AO126)=1,AM126,\"\")","v":""},"","","",null,{"$f":"+IF(AZ126=\"\",\"\",MAX(AU$1:AU125)+1)","v":""},{"$f":"IF('Process and CMS Information'!B148=\"\",\"\",'Process and CMS Information'!B148)","v":""},{"$f":"IF('Process and CMS Information'!C148=\"\",\"\",'Process and CMS Information'!C148)","v":""},{"$f":"IF('Process and CMS Information'!F148=\"\",\"\",'Process and CMS Information'!F148)","v":""},"",{"$f":"IF(COUNTIF(AY$2:AY126,AY126)=1,AY126,\"\")","v":""},"","","",""]
[null,null,null,null,null,null,null,null,null,null,null,null,null,null,null,null,null,null,null,null,null,null,null,null,null,null,{"$f":"+IF(AF127=\"\",\"\",MAX(AA$1:AA126)+1)","v":""},{"$f":"IF('Excess Emissions'!B149=\"\",\"\",'Excess Emissions'!B149)","v":""},{"$f":"IF('Excess Emissions'!C149=\"\",\"\",'Excess Emissions'!C149)","v":""},{"$f":"IF('Excess Emissions'!D149=\"\",\"\",'Excess Emissions'!D149)","v":""},"",{"$f":"IF(COUNTIF(AE$2:AE127,AE127)=1,AC127,\"\")","v":""},"","","",null,{"$f":"+IF(AP127=\"\",\"\",MAX(AK$1:AK126)+1)","v":""},{"$f":"IF('CMS Downtime Detail'!B149=\"\",\"\",'CMS Downtime Detail'!B149)","v":""},{"$f":"IF('CMS Downtime Detail'!C149=\"\",\"\",'CMS Downtime Detail'!C149)","v":""},{"$f":"IF('CMS Downtime Detail'!D149=\"\",\"\",'CMS Downtime Detail'!D149)","v":""},"",{"$f":"IF(COUNTIF(AO$2:AO127,AO127)=1,AM127,\"\")","v":""},"","","",null,{"$f":"+IF(AZ127=\"\",\"\",MAX(AU$1:AU126)+1)","v":""},{"$f":"IF('Process and CMS Information'!B149=\"\",\"\",'Process and CMS Information'!B149)","v":""},{"$f":"IF('Process and CMS Information'!C149=\"\",\"\",'Process and CMS Information'!C149)","v":""},{"$f":"IF('Process and CMS Information'!F149=\"\",\"\",'Process and CMS Information'!F149)","v":""},"",{"$f":"IF(COUNTIF(AY$2:AY127,AY127)=1,AY127,\"\")","v":""},"","","",""]
[null,null,null,null,null,null,null,null,null,null,null,null,null,null,null,null,null,null,null,null,null,null,null,null,null,null,{"$f":"+IF(AF128=\"\",\"\",MAX(AA$1:AA127)+1)","v":""},{"$f":"IF('Excess Emissions'!B150=\"\",\"\",'Excess Emissions'!B150)","v":""},{"$f":"IF('Excess Emissions'!C150=\"\",\"\",'Excess Emissions'!C150)","v":""},{"$f":"IF('Excess Emissions'!D150=\"\",\"\",'Excess Emissions'!D150)","v":""},"",{"$f":"IF(COUNTIF(AE$2:AE128,AE128)=1,AC128,\"\")","v":""},"","","",null,{"$f":"+IF(AP128=\"\",\"\",MAX(AK$1:AK127)+1)","v":""},{"$f":"IF('CMS Downtime Detail'!B150=\"\",\"\",'CMS Downtime Detail'!B150)","v":""},{"$f":"IF('CMS Downtime Detail'!C150=\"\",\"\",'CMS Downtime Detail'!C150)","v":""},{"$f":"IF('CMS Downtime Detail'!D150=\"\",\"\",'CMS Downtime Detail'!D150)","v":""},"",{"$f":"IF(COUNTIF(AO$2:AO128,AO128)=1,AM128,\"\")","v":""},"","","",null,{"$f":"+IF(AZ128=\"\",\"\",MAX(AU$1:AU127)+1)","v":""},{"$f":"IF('Process and CMS Information'!B150=\"\",\"\",'Process and CMS Information'!B150)","v":""},{"$f":"IF('Process and CMS Information'!C150=\"\",\"\",'Process and CMS Information'!C150)","v":""},{"$f":"IF('Process and CMS Information'!F150=\"\",\"\",'Process and CMS Information'!F150)","v":""},"",{"$f":"IF(COUNTIF(AY$2:AY128,AY128)=1,AY128,\"\")","v":""},"","","",""]
[null,null,null,null,null,null,null,null,null,null,null,null,null,null,null,null,null,null,null,null,null,null,null,null,null,null,{"$f":"+IF(AF129=\"\",\"\",MAX(AA$1:AA128)+1)","v":""},{"$f":"IF('Excess Emissions'!B151=\"\",\"\",'Excess Emissions'!B151)","v":""},{"$f":"IF('Excess Emissions'!C151=\"\",\"\",'Excess Emissions'!C151)","v":""},{"$f":"IF('Excess Emissions'!D151=\"\",\"\",'Excess Emissions'!D151)","v":""},"",{"$f":"IF(COUNTIF(AE$2:AE129,AE129)=1,AC129,\"\")","v":""},"","","",null,{"$f":"+IF(AP129=\"\",\"\",MAX(AK$1:AK128)+1)","v":""},{"$f":"IF('CMS Downtime Detail'!B151=\"\",\"\",'CMS Downtime Detail'!B151)","v":""},{"$f":"IF('CMS Downtime Detail'!C151=\"\",\"\",'CMS Downtime Detail'!C151)","v":""},{"$f":"IF('CMS Downtime Detail'!D151=\"\",\"\",'CMS Downtime Detail'!D151)","v":""},"",{"$f":"IF(COUNTIF(AO$2:AO129,AO129)=1,AM129,\"\")","v":""},"","","",null,{"$f":"+IF(AZ129=\"\",\"\",MAX(AU$1:AU128)+1)","v":""},{"$f":"IF('Process and CMS Information'!B151=\"\",\"\",'Process and CMS Information'!B151)","v":""},{"$f":"IF('Process and CMS Information'!C151=\"\",\"\",'Process and CMS Information'!C151)","v":""},{"$f":"IF('Process and CMS Information'!F151=\"\",\"\",'Process and CMS Information'!F151)","v":""},"",{"$f":"IF(COUNTIF(AY$2:AY129,AY129)=1,AY129,\"\")","v":""},"","","",""]
[null,null,null,null,null,null,null,null,null,null,null,null,null,null,null,null,null,null,null,null,null,null,null,null,null,null,{"$f":"+IF(AF130=\"\",\"\",MAX(AA$1:AA129)+1)","v":""},{"$f":"IF('Excess Emissions'!B152=\"\",\"\",'Excess Emissions'!B152)","v":""},{"$f":"IF('Excess Emissions'!C152=\"\",\"\",'Excess Emissions'!C152)","v":""},{"$f":"IF('Excess Emissions'!D152=\"\",\"\",'Excess Emissions'!D152)","v":""},"",{"$f":"IF(COUNTIF(AE$2:AE130,AE130)=1,AC130,\"\")","v":""},"","","",null,{"$f":"+IF(AP130=\"\",\"\",MAX(AK$1:AK129)+1)","v":""},{"$f":"IF('CMS Downtime Detail'!B152=\"\",\"\",'CMS Downtime Detail'!B152)","v":""},{"$f":"IF('CMS Downtime Detail'!C152=\"\",\"\",'CMS Downtime Detail'!C152)","v":""},{"$f":"IF('CMS Downtime Detail'!D152=\"\",\"\",'CMS Downtime Detail'!D152)","v":""},"",{"$f":"IF(COUNTIF(AO$2:AO130,AO130)=1,AM130,\"\")","v":""},"","","",null,{"$f":"+IF(AZ130=\"\",\"\",MAX(AU$1:AU129)+1)","v":""},{"$f":"IF('Process and CMS Information'!B152=\"\",\"\",'Process and CMS Information'!B152)","v":""},{"$f":"IF('Process and CMS Information'!C152=\"\",\"\",'Process and CMS Information'!C152)","v":""},{"$f":"IF('Process and CMS Information'!F152=\"\",\"\",'Process and CMS Information'!F152)","v":""},"",{"$f":"IF(COUNTIF(AY$2:AY130,AY130)=1,AY130,\"\")","v":""},"","","",""]
[null,null,null,null,null,null,null,null,null,null,null,null,null,null,null,null,null,null,null,null,null,null,null,null,null,null,{"$f":"+IF(AF131=\"\",\"\",MAX(AA$1:AA130)+1)","v":""},{"$f":"IF('Excess Emissions'!B153=\"\",\"\",'Excess Emissions'!B153)","v":""},{"$f":"IF('Excess Emissions'!C153=\"\",\"\",'Excess Emissions'!C153)","v":""},{"$f":"IF('Excess Emissions'!D153=\"\",\"\",'Excess Emissions'!D153)","v":""},{"$f":"AB131&AC131&AD131","v":""},{"$f":"IF(COUNTIF(AE$2:AE131,AE131)=1,AC131,\"\")","v":""},{"$f":"+IFERROR(INDEX(AB$2:AB$500,MATCH(ROW()-ROW($AF$1),$AA$2:$AA$500,0)),\"\")","v":""},{"$f":"+IFERROR(INDEX(AC$2:AC$500,MATCH(ROW()-ROW($AF$1),$AA$2:$AA$500,0)),\"\")","v":""},{"$f":"+IFERROR(INDEX(AD$2:AD$500,MATCH(ROW()-ROW($AF$1),$AA$2:$AA$500,0)),\"\")","v":""},null,{"$f":"+IF(AP131=\"\",\"\",MAX(AK$1:AK130)+1)","v":""},{"$f":"IF('CMS Downtime Detail'!B153=\"\",\"\",'CMS Downtime Detail'!B153)","v":""},{"$f":"IF('CMS Downtime Detail'!C153=\"\",\"\",'CMS Downtime Detail'!C153)","v":""},{"$f":"IF('CMS Downtime Detail'!D153=\"\",\"\",'CMS Downtime Detail'!D153)","v":""},{"$f":"AL131&AM131&AN131","v":""},{"$f":"IF(COUNTIF(AO$2:AO131,AO131)=1,AM131,\"\")","v":""},{"$f":"+IFERROR(INDEX(AL$2:AL$500,MATCH(ROW()-ROW($AP$1),$AK$2:$AK$500,0)),\"\")","v":""},{"$f":"+IFERROR(INDEX(AM$2:AM$500,MATCH(ROW()-ROW($AP$1),$AK$2:$AK$500,0)),\"\")","v":""},{"$f":"+IFERROR(INDEX(AN$2:AN$500,MATCH(ROW()-ROW($AP$1),$AK$2:$AK$500,0)),\"\")","v":""},null,{"$f":"+IF(AZ131=\"\",\"\",MAX(AU$1:AU130)+1)","v":""},{"$f":"IF('Process and CMS Information'!B153=\"\",\"\",'Process and CMS Information'!B153)","v":""},{"$f":"IF('Process and CMS Information'!C153=\"\",\"\",'Process and CMS Information'!C153)","v":""},{"$f":"IF('Process and CMS Information'!F153=\"\",\"\",'Process and CMS Information'!F153)","v":""},{"$f":"AV131&AW131","v":""},{"$f":"IF(COUNTIF(AY$2:AY131,AY131)=1,AY131,\"\")","v":""},{"$f":"+IFERROR(INDEX(AY$2:AY$500,MATCH(ROW()-ROW($AZ$1),$AU$2:$AU$500,0)),\"\")","v":""},{"$f":"+IFERROR(INDEX(AV$2:AV$500,MATCH(ROW()-ROW($AZ$1),$AU$2:$AU$500,0)),\"\")","v":""},{"$f":"+IFERROR(INDEX(AW$2:AW$500,MATCH(ROW()-ROW($AZ$1),$AU$2:$AU$500,0)),\"\")","v":""},{"$f":"+IFERROR(INDEX(AX$2:AX$500,MATCH(ROW()-ROW($AZ$1),$AU$2:$AU$500,0)),\"\")","v":""}]
[null,null,null,null,null,null,null,null,null,null,null,null,null,null,null,null,null,null,null,null,null,null,null,null,null,null,{"$f":"+IF(AF132=\"\",\"\",MAX(AA$1:AA131)+1)","v":""},{"$f":"IF('Excess Emissions'!B154=\"\",\"\",'Excess Emissions'!B154)","v":""},{"$f":"IF('Excess Emissions'!C154=\"\",\"\",'Excess Emissions'!C154)","v":""},{"$f":"IF('Excess Emissions'!D154=\"\",\"\",'Excess Emissions'!D154)","v":""},"",{"$f":"IF(COUNTIF(AE$2:AE132,AE132)=1,AC132,\"\")","v":""},"","","",null,{"$f":"+IF(AP132=\"\",\"\",MAX(AK$1:AK131)+1)","v":""},{"$f":"IF('CMS Downtime Detail'!B154=\"\",\"\",'CMS Downtime Detail'!B154)","v":""},{"$f":"IF('CMS Downtime Detail'!C154=\"\",\"\",'CMS Downtime Detail'!C154)","v":""},{"$f":"IF('CMS Downtime Detail'!D154=\"\",\"\",'CMS Downtime Detail'!D154)","v":""},"",{"$f":"IF(COUNTIF(AO$2:AO132,AO132)=1,AM132,\"\")","v":""},"","","",null,{"$f":"+IF(AZ132=\"\",\"\",MAX(AU$1:AU131)+1)","v":""},{"$f":"IF('Process and CMS Information'!B154=\"\",\"\",'Process and CMS Information'!B154)","v":""},{"$f":"IF('Process and CMS Information'!C154=\"\",\"\",'Process and CMS Information'!C154)","v":""},{"$f":"IF('Process and CMS Information'!F154=\"\",\"\",'Process and CMS Information'!F154)","v":""},"",{"$f":"IF(COUNTIF(AY$2:AY132,AY132)=1,AY132,\"\")","v":""},"","","",""]
[null,null,null,null,null,null,null,null,null,null,null,null,null,null,null,null,null,null,null,null,null,null,null,null,null,null,{"$f":"+IF(AF133=\"\",\"\",MAX(AA$1:AA132)+1)","v":""},{"$f":"IF('Excess Emissions'!B155=\"\",\"\",'Excess Emissions'!B155)","v":""},{"$f":"IF('Excess Emissions'!C155=\"\",\"\",'Excess Emissions'!C155)","v":""},{"$f":"IF('Excess Emissions'!D155=\"\",\"\",'Excess Emissions'!D155)","v":""},"",{"$f":"IF(COUNTIF(AE$2:AE133,AE133)=1,AC133,\"\")","v":""},"","","",null,{"$f":"+IF(AP133=\"\",\"\",MAX(AK$1:AK132)+1)","v":""},{"$f":"IF('CMS Downtime Detail'!B155=\"\",\"\",'CMS Downtime Detail'!B155)","v":""},{"$f":"IF('CMS Downtime Detail'!C155=\"\",\"\",'CMS Downtime Detail'!C155)","v":""},{"$f":"IF('CMS Downtime Detail'!D155=\"\",\"\",'CMS Downtime Detail'!D155)","v":""},"",{"$f":"IF(COUNTIF(AO$2:AO133,AO133)=1,AM133,\"\")","v":""},"","","",null,{"$f":"+IF(AZ133=\"\",\"\",MAX(AU$1:AU132)+1)","v":""},{"$f":"IF('Process and CMS Information'!B155=\"\",\"\",'Process and CMS Information'!B155)","v":""},{"$f":"IF('Process and CMS Information'!C155=\"\",\"\",'Process and CMS Information'!C155)","v":""},{"$f":"IF('Process and CMS Information'!F155=\"\",\"\",'Process and CMS Information'!F155)","v":""},"",{"$f":"IF(COUNTIF(AY$2:AY133,AY133)=1,AY133,\"\")","v":""},"","","",""]
[null,null,null,null,null,null,null,null,null,null,null,null,null,null,null,null,null,null,null,null,null,null,null,null,null,null,{"$f":"+IF(AF134=\"\",\"\",MAX(AA$1:AA133)+1)","v":""},{"$f":"IF('Excess Emissions'!B156=\"\",\"\",'Excess Emissions'!B156)","v":""},{"$f":"IF('Excess Emissions'!C156=\"\",\"\",'Excess Emissions'!C156)","v":""},{"$f":"IF('Excess Emissions'!D156=\"\",\"\",'Excess Emissions'!D156)","v":""},"",{"$f":"IF(COUNTIF(AE$2:AE134,AE134)=1,AC134,\"\")","v":""},"","","",null,{"$f":"+IF(AP134=\"\",\"\",MAX(AK$1:AK133)+1)","v":""},{"$f":"IF('CMS Downtime Detail'!B156=\"\",\"\",'CMS Downtime Detail'!B156)","v":""},{"$f":"IF('CMS Downtime Detail'!C156=\"\",\"\",'CMS Downtime Detail'!C156)","v":""},{"$f":"IF('CMS Downtime Detail'!D156=\"\",\"\",'CMS Downtime Detail'!D156)","v":""},"",{"$f":"IF(COUNTIF(AO$2:AO134,AO134)=1,AM134,\"\")","v":""},"","","",null,{"$f":"+IF(AZ134=\"\",\"\",MAX(AU$1:AU133)+1)","v":""},{"$f":"IF('Process and CMS Information'!B156=\"\",\"\",'Process and CMS Information'!B156)","v":""},{"$f":"IF('Process and CMS Information'!C156=\"\",\"\",'Process and CMS Information'!C156)","v":""},{"$f":"IF('Process and CMS Information'!F156=\"\",\"\",'Process and CMS Information'!F156)","v":""},"",{"$f":"IF(COUNTIF(AY$2:AY134,AY134)=1,AY134,\"\")","v":""},"","","",""]
[null,null,null,null,null,null,null,null,null,null,null,null,null,null,null,null,null,null,null,null,null,null,null,null,null,null,{"$f":"+IF(AF135=\"\",\"\",MAX(AA$1:AA134)+1)","v":""},{"$f":"IF('Excess Emissions'!B157=\"\",\"\",'Excess Emissions'!B157)","v":""},{"$f":"IF('Excess Emissions'!C157=\"\",\"\",'Excess Emissions'!C157)","v":""},{"$f":"IF('Excess Emissions'!D157=\"\",\"\",'Excess Emissions'!D157)","v":""},"",{"$f":"IF(COUNTIF(AE$2:AE135,AE135)=1,AC135,\"\")","v":""},"","","",null,{"$f":"+IF(AP135=\"\",\"\",MAX(AK$1:AK134)+1)","v":""},{"$f":"IF('CMS Downtime Detail'!B157=\"\",\"\",'CMS Downtime Detail'!B157)","v":""},{"$f":"IF('CMS Downtime Detail'!C157=\"\",\"\",'CMS Downtime Detail'!C157)","v":""},{"$f":"IF('CMS Downtime Detail'!D157=\"\",\"\",'CMS Downtime Detail'!D157)","v":""},"",{"$f":"IF(COUNTIF(AO$2:AO135,AO135)=1,AM135,\"\")","v":""},"","","",null,{"$f":"+IF(AZ135=\"\",\"\",MAX(AU$1:AU134)+1)","v":""},{"$f":"IF('Process and CMS Information'!B157=\"\",\"\",'Process and CMS Information'!B157)","v":""},{"$f":"IF('Process and CMS Information'!C157=\"\",\"\",'Process and CMS Information'!C157)","v":""},{"$f":"IF('Process and CMS Information'!F157=\"\",\"\",'Process and CMS Information'!F157)","v":""},"",{"$f":"IF(COUNTIF(AY$2:AY135,AY135)=1,AY135,\"\")","v":""},"","","",""]
[null,null,null,null,null,null,null,null,null,null,null,null,null,null,null,null,null,null,null,null,null,null,null,null,null,null,{"$f":"+IF(AF136=\"\",\"\",MAX(AA$1:AA135)+1)","v":""},{"$f":"IF('Excess Emissions'!B158=\"\",\"\",'Excess Emissions'!B158)","v":""},{"$f":"IF('Excess Emissions'!C158=\"\",\"\",'Excess Emissions'!C158)","v":""},{"$f":"IF('Excess Emissions'!D158=\"\",\"\",'Excess Emissions'!D158)","v":""},"",{"$f":"IF(COUNTIF(AE$2:AE136,AE136)=1,AC136,\"\")","v":""},"","","",null,{"$f":"+IF(AP136=\"\",\"\",MAX(AK$1:AK135)+1)","v":""},{"$f":"IF('CMS Downtime Detail'!B158=\"\",\"\",'CMS Downtime Detail'!B158)","v":""},{"$f":"IF('CMS Downtime Detail'!C158=\"\",\"\",'CMS Downtime Detail'!C158)","v":""},{"$f":"IF('CMS Downtime Detail'!D158=\"\",\"\",'CMS Downtime Detail'!D158)","v":""},"",{"$f":"IF(COUNTIF(AO$2:AO136,AO136)=1,AM136,\"\")","v":""},"","","",null,{"$f":"+IF(AZ136=\"\",\"\",MAX(AU$1:AU135)+1)","v":""},{"$f":"IF('Process and CMS Information'!B158=\"\",\"\",'Process and CMS Information'!B158)","v":""},{"$f":"IF('Process and CMS Information'!C158=\"\",\"\",'Process and CMS Information'!C158)","v":""},{"$f":"IF('Process and CMS Information'!F158=\"\",\"\",'Process and CMS Information'!F158)","v":""},"",{"$f":"IF(COUNTIF(AY$2:AY136,AY136)=1,AY136,\"\")","v":""},"","","",""]
[null,null,null,null,null,null,null,null,null,null,null,null,null,null,null,null,null,null,null,null,null,null,null,null,null,null,{"$f":"+IF(AF137=\"\",\"\",MAX(AA$1:AA136)+1)","v":""},{"$f":"IF('Excess Emissions'!B159=\"\",\"\",'Excess Emissions'!B159)","v":""},{"$f":"IF('Excess Emissions'!C159=\"\",\"\",'Excess Emissions'!C159)","v":""},{"$f":"IF('Excess Emissions'!D159=\"\",\"\",'Excess Emissions'!D159)","v":""},"",{"$f":"IF(COUNTIF(AE$2:AE137,AE137)=1,AC137,\"\")","v":""},"","","",null,{"$f":"+IF(AP137=\"\",\"\",MAX(AK$1:AK136)+1)","v":""},{"$f":"IF('CMS Downtime Detail'!B159=\"\",\"\",'CMS Downtime Detail'!B159)","v":""},{"$f":"IF('CMS Downtime Detail'!C159=\"\",\"\",'CMS Downtime Detail'!C159)","v":""},{"$f":"IF('CMS Downtime Detail'!D159=\"\",\"\",'CMS Downtime Detail'!D159)","v":""},"",{"$f":"IF(COUNTIF(AO$2:AO137,AO137)=1,AM137,\"\")","v":""},"","","",null,{"$f":"+IF(AZ137=\"\",\"\",MAX(AU$1:AU136)+1)","v":""},{"$f":"IF('Process and CMS Information'!B159=\"\",\"\",'Process and CMS Information'!B159)","v":""},{"$f":"IF('Process and CMS Information'!C159=\"\",\"\",'Process and CMS Information'!C159)","v":""},{"$f":"IF('Process and CMS Information'!F159=\"\",\"\",'Process and CMS Information'!F159)","v":""},"",{"$f":"IF(COUNTIF(AY$2:AY137,AY137)=1,AY137,\"\")","v":""},"","","",""]
[null,null,null,null,null,null,null,null,null,null,null,null,null,null,null,null,null,null,null,null,null,null,null,null,null,null,{"$f":"+IF(AF138=\"\",\"\",MAX(AA$1:AA137)+1)","v":""},{"$f":"IF('Excess Emissions'!B160=\"\",\"\",'Excess Emissions'!B160)","v":""},{"$f":"IF('Excess Emissions'!C160=\"\",\"\",'Excess Emissions'!C160)","v":""},{"$f":"IF('Excess Emissions'!D160=\"\",\"\",'Excess Emissions'!D160)","v":""},"",{"$f":"IF(COUNTIF(AE$2:AE138,AE138)=1,AC138,\"\")","v":""},"","","",null,{"$f":"+IF(AP138=\"\",\"\",MAX(AK$1:AK137)+1)","v":""},{"$f":"IF('CMS Downtime Detail'!B160=\"\",\"\",'CMS Downtime Detail'!B160)","v":""},{"$f":"IF('CMS Downtime Detail'!C160=\"\",\"\",'CMS Downtime Detail'!C160)","v":""},{"$f":"IF('CMS Downtime Detail'!D160=\"\",\"\",'CMS Downtime Detail'!D160)","v":""},"",{"$f":"IF(COUNTIF(AO$2:AO138,AO138)=1,AM138,\"\")","v":""},"","","",null,{"$f":"+IF(AZ138=\"\",\"\",MAX(AU$1:AU137)+1)","v":""},{"$f":"IF('Process and CMS Information'!B160=\"\",\"\",'Process and CMS Information'!B160)","v":""},{"$f":"IF('Process and CMS Information'!C160=\"\",\"\",'Process and CMS Information'!C160)","v":""},{"$f":"IF('Process and CMS Information'!F160=\"\",\"\",'Process and CMS Information'!F160)","v":""},"",{"$f":"IF(COUNTIF(AY$2:AY138,AY138)=1,AY138,\"\")","v":""},"","","",""]
[null,null,null,null,null,null,null,null,null,null,null,null,null,null,null,null,null,null,null,null,null,null,null,null,null,null,{"$f":"+IF(AF139=\"\",\"\",MAX(AA$1:AA138)+1)","v":""},{"$f":"IF('Excess Emissions'!B161=\"\",\"\",'Excess Emissions'!B161)","v":""},{"$f":"IF('Excess Emissions'!C161=\"\",\"\",'Excess Emissions'!C161)","v":""},{"$f":"IF('Excess Emissions'!D161=\"\",\"\",'Excess Emissions'!D161)","v":""},"",{"$f":"IF(COUNTIF(AE$2:AE139,AE139)=1,AC139,\"\")","v":""},"","","",null,{"$f":"+IF(AP139=\"\",\"\",MAX(AK$1:AK138)+1)","v":""},{"$f":"IF('CMS Downtime Detail'!B161=\"\",\"\",'CMS Downtime Detail'!B161)","v":""},{"$f":"IF('CMS Downtime Detail'!C161=\"\",\"\",'CMS Downtime Detail'!C161)","v":""},{"$f":"IF('CMS Downtime Detail'!D161=\"\",\"\",'CMS Downtime Detail'!D161)","v":""},"",{"$f":"IF(COUNTIF(AO$2:AO139,AO139)=1,AM139,\"\")","v":""},"","","",null,{"$f":"+IF(AZ139=\"\",\"\",MAX(AU$1:AU138)+1)","v":""},{"$f":"IF('Process and CMS Information'!B161=\"\",\"\",'Process and CMS Information'!B161)","v":""},{"$f":"IF('Process and CMS Information'!C161=\"\",\"\",'Process and CMS Information'!C161)","v":""},{"$f":"IF('Process and CMS Information'!F161=\"\",\"\",'Process and CMS Information'!F161)","v":""},"",{"$f":"IF(COUNTIF(AY$2:AY139,AY139)=1,AY139,\"\")","v":""},"","","",""]
[null,null,null,null,null,null,null,null,null,null,null,null,null,null,null,null,null,null,null,null,null,null,null,null,null,null,{"$f":"+IF(AF140=\"\",\"\",MAX(AA$1:AA139)+1)","v":""},{"$f":"IF('Excess Emissions'!B162=\"\",\"\",'Excess Emissions'!B162)","v":""},{"$f":"IF('Excess Emissions'!C162=\"\",\"\",'Excess Emissions'!C162)","v":""},{"$f":"IF('Excess Emissions'!D162=\"\",\"\",'Excess Emissions'!D162)","v":""},"",{"$f":"IF(COUNTIF(AE$2:AE140,AE140)=1,AC140,\"\")","v":""},"","","",null,{"$f":"+IF(AP140=\"\",\"\",MAX(AK$1:AK139)+1)","v":""},{"$f":"IF('CMS Downtime Detail'!B162=\"\",\"\",'CMS Downtime Detail'!B162)","v":""},{"$f":"IF('CMS Downtime Detail'!C162=\"\",\"\",'CMS Downtime Detail'!C162)","v":""},{"$f":"IF('CMS Downtime Detail'!D162=\"\",\"\",'CMS Downtime Detail'!D162)","v":""},"",{"$f":"IF(COUNTIF(AO$2:AO140,AO140)=1,AM140,\"\")","v":""},"","","",null,{"$f":"+IF(AZ140=\"\",\"\",MAX(AU$1:AU139)+1)","v":""},{"$f":"IF('Process and CMS Information'!B162=\"\",\"\",'Process and CMS Information'!B162)","v":""},{"$f":"IF('Process and CMS Information'!C162=\"\",\"\",'Process and CMS Information'!C162)","v":""},{"$f":"IF('Process and CMS Information'!F162=\"\",\"\",'Process and CMS Information'!F162)","v":""},"",{"$f":"IF(COUNTIF(AY$2:AY140,AY140)=1,AY140,\"\")","v":""},"","","",""]
[null,null,null,null,null,null,null,null,null,null,null,null,null,null,null,null,null,null,null,null,null,null,null,null,null,null,{"$f":"+IF(AF141=\"\",\"\",MAX(AA$1:AA140)+1)","v":""},{"$f":"IF('Excess Emissions'!B163=\"\",\"\",'Excess Emissions'!B163)","v":""},{"$f":"IF('Excess Emissions'!C163=\"\",\"\",'Excess Emissions'!C163)","v":""},{"$f":"IF('Excess Emissions'!D163=\"\",\"\",'Excess Emissions'!D163)","v":""},"",{"$f":"IF(COUNTIF(AE$2:AE141,AE141)=1,AC141,\"\")","v":""},"","","",null,{"$f":"+IF(AP141=\"\",\"\",MAX(AK$1:AK140)+1)","v":""},{"$f":"IF('CMS Downtime Detail'!B163=\"\",\"\",'CMS Downtime Detail'!B163)","v":""},{"$f":"IF('CMS Downtime Detail'!C163=\"\",\"\",'CMS Downtime Detail'!C163)","v":""},{"$f":"IF('CMS Downtime Detail'!D163=\"\",\"\",'CMS Downtime Detail'!D163)","v":""},"",{"$f":"IF(COUNTIF(AO$2:AO141,AO141)=1,AM141,\"\")","v":""},"","","",null,{"$f":"+IF(AZ141=\"\",\"\",MAX(AU$1:AU140)+1)","v":""},{"$f":"IF('Process and CMS Information'!B163=\"\",\"\",'Process and CMS Information'!B163)","v":""},{"$f":"IF('Process and CMS Information'!C163=\"\",\"\",'Process and CMS Information'!C163)","v":""},{"$f":"IF('Process and CMS Information'!F163=\"\",\"\",'Process and CMS Information'!F163)","v":""},"",{"$f":"IF(COUNTIF(AY$2:AY141,AY141)=1,AY141,\"\")","v":""},"","","",""]
[null,null,null,null,null,null,null,null,null,null,null,null,null,null,null,null,null,null,null,null,null,null,null,null,null,null,{"$f":"+IF(AF142=\"\",\"\",MAX(AA$1:AA141)+1)","v":""},{"$f":"IF('Excess Emissions'!B164=\"\",\"\",'Excess Emissions'!B164)","v":""},{"$f":"IF('Excess Emissions'!C164=\"\",\"\",'Excess Emissions'!C164)","v":""},{"$f":"IF('Excess Emissions'!D164=\"\",\"\",'Excess Emissions'!D164)","v":""},"",{"$f":"IF(COUNTIF(AE$2:AE142,AE142)=1,AC142,\"\")","v":""},"","","",null,{"$f":"+IF(AP142=\"\",\"\",MAX(AK$1:AK141)+1)","v":""},{"$f":"IF('CMS Downtime Detail'!B164=\"\",\"\",'CMS Downtime Detail'!B164)","v":""},{"$f":"IF('CMS Downtime Detail'!C164=\"\",\"\",'CMS Downtime Detail'!C164)","v":""},{"$f":"IF('CMS Downtime Detail'!D164=\"\",\"\",'CMS Downtime Detail'!D164)","v":""},"",{"$f":"IF(COUNTIF(AO$2:AO142,AO142)=1,AM142,\"\")","v":""},"","","",null,{"$f":"+IF(AZ142=\"\",\"\",MAX(AU$1:AU141)+1)","v":""},{"$f":"IF('Process and CMS Information'!B164=\"\",\"\",'Process and CMS Information'!B164)","v":""},{"$f":"IF('Process and CMS Information'!C164=\"\",\"\",'Process and CMS Information'!C164)","v":""},{"$f":"IF('Process and CMS Information'!F164=\"\",\"\",'Process and CMS Information'!F164)","v":""},"",{"$f":"IF(COUNTIF(AY$2:AY142,AY142)=1,AY142,\"\")","v":""},"","","",""]
[null,null,null,null,null,null,null,null,null,null,null,null,null,null,null,null,null,null,null,null,null,null,null,null,null,null,{"$f":"+IF(AF143=\"\",\"\",MAX(AA$1:AA142)+1)","v":""},{"$f":"IF('Excess Emissions'!B165=\"\",\"\",'Excess Emissions'!B165)","v":""},{"$f":"IF('Excess Emissions'!C165=\"\",\"\",'Excess Emissions'!C165)","v":""},{"$f":"IF('Excess Emissions'!D165=\"\",\"\",'Excess Emissions'!D165)","v":""},"",{"$f":"IF(COUNTIF(AE$2:AE143,AE143)=1,AC143,\"\")","v":""},"","","",null,{"$f":"+IF(AP143=\"\",\"\",MAX(AK$1:AK142)+1)","v":""},{"$f":"IF('CMS Downtime Detail'!B165=\"\",\"\",'CMS Downtime Detail'!B165)","v":""},{"$f":"IF('CMS Downtime Detail'!C165=\"\",\"\",'CMS Downtime Detail'!C165)","v":""},{"$f":"IF('CMS Downtime Detail'!D165=\"\",\"\",'CMS Downtime Detail'!D165)","v":""},"",{"$f":"IF(COUNTIF(AO$2:AO143,AO143)=1,AM143,\"\")","v":""},"","","",null,{"$f":"+IF(AZ143=\"\",\"\",MAX(AU$1:AU142)+1)","v":""},{"$f":"IF('Process and CMS Information'!B165=\"\",\"\",'Process and CMS Information'!B165)","v":""},{"$f":"IF('Process and CMS Information'!C165=\"\",\"\",'Process and CMS Information'!C165)","v":""},{"$f":"IF('Process and CMS Information'!F165=\"\",\"\",'Process and CMS Information'!F165)","v":""},"",{"$f":"IF(COUNTIF(AY$2:AY143,AY143)=1,AY143,\"\")","v":""},"","","",""]
[null,null,null,null,null,null,null,null,null,null,null,null,null,null,null,null,null,null,null,null,null,null,null,null,null,null,{"$f":"+IF(AF144=\"\",\"\",MAX(AA$1:AA143)+1)","v":""},{"$f":"IF('Excess Emissions'!B166=\"\",\"\",'Excess Emissions'!B166)","v":""},{"$f":"IF('Excess Emissions'!C166=\"\",\"\",'Excess Emissions'!C166)","v":""},{"$f":"IF('Excess Emissions'!D166=\"\",\"\",'Excess Emissions'!D166)","v":""},"",{"$f":"IF(COUNTIF(AE$2:AE144,AE144)=1,AC144,\"\")","v":""},"","","",null,{"$f":"+IF(AP144=\"\",\"\",MAX(AK$1:AK143)+1)","v":""},{"$f":"IF('CMS Downtime Detail'!B166=\"\",\"\",'CMS Downtime Detail'!B166)","v":""},{"$f":"IF('CMS Downtime Detail'!C166=\"\",\"\",'CMS Downtime Detail'!C166)","v":""},{"$f":"IF('CMS Downtime Detail'!D166=\"\",\"\",'CMS Downtime Detail'!D166)","v":""},"",{"$f":"IF(COUNTIF(AO$2:AO144,AO144)=1,AM144,\"\")","v":""},"","","",null,{"$f":"+IF(AZ144=\"\",\"\",MAX(AU$1:AU143)+1)","v":""},{"$f":"IF('Process and CMS Information'!B166=\"\",\"\",'Process and CMS Information'!B166)","v":""},{"$f":"IF('Process and CMS Information'!C166=\"\",\"\",'Process and CMS Information'!C166)","v":""},{"$f":"IF('Process and CMS Information'!F166=\"\",\"\",'Process and CMS Information'!F166)","v":""},"",{"$f":"IF(COUNTIF(AY$2:AY144,AY144)=1,AY144,\"\")","v":""},"","","",""]
[null,null,null,null,null,null,null,null,null,null,null,null,null,null,null,null,null,null,null,null,null,null,null,null,null,null,{"$f":"+IF(AF145=\"\",\"\",MAX(AA$1:AA144)+1)","v":""},{"$f":"IF('Excess Emissions'!B167=\"\",\"\",'Excess Emissions'!B167)","v":""},{"$f":"IF('Excess Emissions'!C167=\"\",\"\",'Excess Emissions'!C167)","v":""},{"$f":"IF('Excess Emissions'!D167=\"\",\"\",'Excess Emissions'!D167)","v":""},"",{"$f":"IF(COUNTIF(AE$2:AE145,AE145)=1,AC145,\"\")","v":""},"","","",null,{"$f":"+IF(AP145=\"\",\"\",MAX(AK$1:AK144)+1)","v":""},{"$f":"IF('CMS Downtime Detail'!B167=\"\",\"\",'CMS Downtime Detail'!B167)","v":""},{"$f":"IF('CMS Downtime Detail'!C167=\"\",\"\",'CMS Downtime Detail'!C167)","v":""},{"$f":"IF('CMS Downtime Detail'!D167=\"\",\"\",'CMS Downtime Detail'!D167)","v":""},"",{"$f":"IF(COUNTIF(AO$2:AO145,AO145)=1,AM145,\"\")","v":""},"","","",null,{"$f":"+IF(AZ145=\"\",\"\",MAX(AU$1:AU144)+1)","v":""},{"$f":"IF('Process and CMS Information'!B167=\"\",\"\",'Process and CMS Information'!B167)","v":""},{"$f":"IF('Process and CMS Information'!C167=\"\",\"\",'Process and CMS Information'!C167)","v":""},{"$f":"IF('Process and CMS Information'!F167=\"\",\"\",'Process and CMS Information'!F167)","v":""},"",{"$f":"IF(COUNTIF(AY$2:AY145,AY145)=1,AY145,\"\")","v":""},"","","",""]
[null,null,null,null,null,null,null,null,null,null,null,null,null,null,null,null,null,null,null,null,null,null,null,null,null,null,{"$f":"+IF(AF146=\"\",\"\",MAX(AA$1:AA145)+1)","v":""},{"$f":"IF('Excess Emissions'!B168=\"\",\"\",'Excess Emissions'!B168)","v":""},{"$f":"IF('Excess Emissions'!C168=\"\",\"\",'Excess Emissions'!C168)","v":""},{"$f":"IF('Excess Emissions'!D168=\"\",\"\",'Excess Emissions'!D168)","v":""},"",{"$f":"IF(COUNTIF(AE$2:AE146,AE146)=1,AC146,\"\")","v":""},"","","",null,{"$f":"+IF(AP146=\"\",\"\",MAX(AK$1:AK145)+1)","v":""},{"$f":"IF('CMS Downtime Detail'!B168=\"\",\"\",'CMS Downtime Detail'!B168)","v":""},{"$f":"IF('CMS Downtime Detail'!C168=\"\",\"\",'CMS Downtime Detail'!C168)","v":""},{"$f":"IF('CMS Downtime Detail'!D168=\"\",\"\",'CMS Downtime Detail'!D168)","v":""},"",{"$f":"IF(COUNTIF(AO$2:AO146,AO146)=1,AM146,\"\")","v":""},"","","",null,{"$f":"+IF(AZ146=\"\",\"\",MAX(AU$1:AU145)+1)","v":""},{"$f":"IF('Process and CMS Information'!B168=\"\",\"\",'Process and CMS Information'!B168)","v":""},{"$f":"IF('Process and CMS Information'!C168=\"\",\"\",'Process and CMS Information'!C168)","v":""},{"$f":"IF('Process and CMS Information'!F168=\"\",\"\",'Process and CMS Information'!F168)","v":""},"",{"$f":"IF(COUNTIF(AY$2:AY146,AY146)=1,AY146,\"\")","v":""},"","","",""]
[null,null,null,null,null,null,null,null,null,null,null,null,null,null,null,null,null,null,null,null,null,null,null,null,null,null,{"$f":"+IF(AF147=\"\",\"\",MAX(AA$1:AA146)+1)","v":""},{"$f":"IF('Excess Emissions'!B169=\"\",\"\",'Excess Emissions'!B169)","v":""},{"$f":"IF('Excess Emissions'!C169=\"\",\"\",'Excess Emissions'!C169)","v":""},{"$f":"IF('Excess Emissions'!D169=\"\",\"\",'Excess Emissions'!D169)","v":""},"",{"$f":"IF(COUNTIF(AE$2:AE147,AE147)=1,AC147,\"\")","v":""},"","","",null,{"$f":"+IF(AP147=\"\",\"\",MAX(AK$1:AK146)+1)","v":""},{"$f":"IF('CMS Downtime Detail'!B169=\"\",\"\",'CMS Downtime Detail'!B169)","v":""},{"$f":"IF('CMS Downtime Detail'!C169=\"\",\"\",'CMS Downtime Detail'!C169)","v":""},{"$f":"IF('CMS Downtime Detail'!D169=\"\",\"\",'CMS Downtime Detail'!D169)","v":""},"",{"$f":"IF(COUNTIF(AO$2:AO147,AO147)=1,AM147,\"\")","v":""},"","","",null,{"$f":"+IF(AZ147=\"\",\"\",MAX(AU$1:AU146)+1)","v":""},{"$f":"IF('Process and CMS Information'!B169=\"\",\"\",'Process and CMS Information'!B169)","v":""},{"$f":"IF('Process and CMS Information'!C169=\"\",\"\",'Process and CMS Information'!C169)","v":""},{"$f":"IF('Process and CMS Information'!F169=\"\",\"\",'Process and CMS Information'!F169)","v":""},"",{"$f":"IF(COUNTIF(AY$2:AY147,AY147)=1,AY147,\"\")","v":""},"","","",""]
[null,null,null,null,null,null,null,null,null,null,null,null,null,null,null,null,null,null,null,null,null,null,null,null,null,null,{"$f":"+IF(AF148=\"\",\"\",MAX(AA$1:AA147)+1)","v":""},{"$f":"IF('Excess Emissions'!B170=\"\",\"\",'Excess Emissions'!B170)","v":""},{"$f":"IF('Excess Emissions'!C170=\"\",\"\",'Excess Emissions'!C170)","v":""},{"$f":"IF('Excess Emissions'!D170=\"\",\"\",'Excess Emissions'!D170)","v":""},"",{"$f":"IF(COUNTIF(AE$2:AE148,AE148)=1,AC148,\"\")","v":""},"","","",null,{"$f":"+IF(AP148=\"\",\"\",MAX(AK$1:AK147)+1)","v":""},{"$f":"IF('CMS Downtime Detail'!B170=\"\",\"\",'CMS Downtime Detail'!B170)","v":""},{"$f":"IF('CMS Downtime Detail'!C170=\"\",\"\",'CMS Downtime Detail'!C170)","v":""},{"$f":"IF('CMS Downtime Detail'!D170=\"\",\"\",'CMS Downtime Detail'!D170)","v":""},"",{"$f":"IF(COUNTIF(AO$2:AO148,AO148)=1,AM148,\"\")","v":""},"","","",null,{"$f":"+IF(AZ148=\"\",\"\",MAX(AU$1:AU147)+1)","v":""},{"$f":"IF('Process and CMS Information'!B170=\"\",\"\",'Process and CMS Information'!B170)","v":""},{"$f":"IF('Process and CMS Information'!C170=\"\",\"\",'Process and CMS Information'!C170)","v":""},{"$f":"IF('Process and CMS Information'!F170=\"\",\"\",'Process and CMS Information'!F170)","v":""},"",{"$f":"IF(COUNTIF(AY$2:AY148,AY148)=1,AY148,\"\")","v":""},"","","",""]
[null,null,null,null,null,null,null,null,null,null,null,null,null,null,null,null,null,null,null,null,null,null,null,null,null,null,{"$f":"+IF(AF149=\"\",\"\",MAX(AA$1:AA148)+1)","v":""},{"$f":"IF('Excess Emissions'!B171=\"\",\"\",'Excess Emissions'!B171)","v":""},{"$f":"IF('Excess Emissions'!C171=\"\",\"\",'Excess Emissions'!C171)","v":""},{"$f":"IF('Excess Emissions'!D171=\"\",\"\",'Excess Emissions'!D171)","v":""},"",{"$f":"IF(COUNTIF(AE$2:AE149,AE149)=1,AC149,\"\")","v":""},"","","",null,{"$f":"+IF(AP149=\"\",\"\",MAX(AK$1:AK148)+1)","v":""},{"$f":"IF('CMS Downtime Detail'!B171=\"\",\"\",'CMS Downtime Detail'!B171)","v":""},{"$f":"IF('CMS Downtime Detail'!C171=\"\",\"\",'CMS Downtime Detail'!C171)","v":""},{"$f":"IF('CMS Downtime Detail'!D171=\"\",\"\",'CMS Downtime Detail'!D171)","v":""},"",{"$f":"IF(COUNTIF(AO$2:AO149,AO149)=1,AM149,\"\")","v":""},"","","",null,{"$f":"+IF(AZ149=\"\",\"\",MAX(AU$1:AU148)+1)","v":""},{"$f":"IF('Process and CMS Information'!B171=\"\",\"\",'Process and CMS Information'!B171)","v":""},{"$f":"IF('Process and CMS Information'!C171=\"\",\"\",'Process and CMS Information'!C171)","v":""},{"$f":"IF('Process and CMS Information'!F171=\"\",\"\",'Process and CMS Information'!F171)","v":""},"",{"$f":"IF(COUNTIF(AY$2:AY149,AY149)=1,AY149,\"\")","v":""},"","","",""]
[null,null,null,null,null,null,null,null,null,null,null,null,null,null,null,null,null,null,null,null,null,null,null,null,null,null,{"$f":"+IF(AF150=\"\",\"\",MAX(AA$1:AA149)+1)","v":""},{"$f":"IF('Excess Emissions'!B172=\"\",\"\",'Excess Emissions'!B172)","v":""},{"$f":"IF('Excess Emissions'!C172=\"\",\"\",'Excess Emissions'!C172)","v":""},{"$f":"IF('Excess Emissions'!D172=\"\",\"\",'Excess Emissions'!D172)","v":""},"",{"$f":"IF(COUNTIF(AE$2:AE150,AE150)=1,AC150,\"\")","v":""},"","","",null,{"$f":"+IF(AP150=\"\",\"\",MAX(AK$1:AK149)+1)","v":""},{"$f":"IF('CMS Downtime Detail'!B172=\"\",\"\",'CMS Downtime Detail'!B172)","v":""},{"$f":"IF('CMS Downtime Detail'!C172=\"\",\"\",'CMS Downtime Detail'!C172)","v":""},{"$f":"IF('CMS Downtime Detail'!D172=\"\",\"\",'CMS Downtime Detail'!D172)","v":""},"",{"$f":"IF(COUNTIF(AO$2:AO150,AO150)=1,AM150,\"\")","v":""},"","","",null,{"$f":"+IF(AZ150=\"\",\"\",MAX(AU$1:AU149)+1)","v":""},{"$f":"IF('Process and CMS Information'!B172=\"\",\"\",'Process and CMS Information'!B172)","v":""},{"$f":"IF('Process and CMS Information'!C172=\"\",\"\",'Process and CMS Information'!C172)","v":""},{"$f":"IF('Process and CMS Information'!F172=\"\",\"\",'Process and CMS Information'!F172)","v":""},"",{"$f":"IF(COUNTIF(AY$2:AY150,AY150)=1,AY150,\"\")","v":""},"","","",""]
[null,null,null,null,null,null,null,null,null,null,null,null,null,null,null,null,null,null,null,null,null,null,null,null,null,null,{"$f":"+IF(AF151=\"\",\"\",MAX(AA$1:AA150)+1)","v":""},{"$f":"IF('Excess Emissions'!B173=\"\",\"\",'Excess Emissions'!B173)","v":""},{"$f":"IF('Excess Emissions'!C173=\"\",\"\",'Excess Emissions'!C173)","v":""},{"$f":"IF('Excess Emissions'!D173=\"\",\"\",'Excess Emissions'!D173)","v":""},"",{"$f":"IF(COUNTIF(AE$2:AE151,AE151)=1,AC151,\"\")","v":""},"","","",null,{"$f":"+IF(AP151=\"\",\"\",MAX(AK$1:AK150)+1)","v":""},{"$f":"IF('CMS Downtime Detail'!B173=\"\",\"\",'CMS Downtime Detail'!B173)","v":""},{"$f":"IF('CMS Downtime Detail'!C173=\"\",\"\",'CMS Downtime Detail'!C173)","v":""},{"$f":"IF('CMS Downtime Detail'!D173=\"\",\"\",'CMS Downtime Detail'!D173)","v":""},"",{"$f":"IF(COUNTIF(AO$2:AO151,AO151)=1,AM151,\"\")","v":""},"","","",null,{"$f":"+IF(AZ151=\"\",\"\",MAX(AU$1:AU150)+1)","v":""},{"$f":"IF('Process and CMS Information'!B173=\"\",\"\",'Process and CMS Information'!B173)","v":""},{"$f":"IF('Process and CMS Information'!C173=\"\",\"\",'Process and CMS Information'!C173)","v":""},{"$f":"IF('Process and CMS Information'!F173=\"\",\"\",'Process and CMS Information'!F173)","v":""},"",{"$f":"IF(COUNTIF(AY$2:AY151,AY151)=1,AY151,\"\")","v":""},"","","",""]
[null,null,null,null,null,null,null,null,null,null,null,null,null,null,null,null,null,null,null,null,null,null,null,null,null,null,{"$f":"+IF(AF152=\"\",\"\",MAX(AA$1:AA151)+1)","v":""},{"$f":"IF('Excess Emissions'!B174=\"\",\"\",'Excess Emissions'!B174)","v":""},{"$f":"IF('Excess Emissions'!C174=\"\",\"\",'Excess Emissions'!C174)","v":""},{"$f":"IF('Excess Emissions'!D174=\"\",\"\",'Excess Emissions'!D174)","v":""},"",{"$f":"IF(COUNTIF(AE$2:AE152,AE152)=1,AC152,\"\")","v":""},"","","",null,{"$f":"+IF(AP152=\"\",\"\",MAX(AK$1:AK151)+1)","v":""},{"$f":"IF('CMS Downtime Detail'!B174=\"\",\"\",'CMS Downtime Detail'!B174)","v":""},{"$f":"IF('CMS Downtime Detail'!C174=\"\",\"\",'CMS Downtime Detail'!C174)","v":""},{"$f":"IF('CMS Downtime Detail'!D174=\"\",\"\",'CMS Downtime Detail'!D174)","v":""},"",{"$f":"IF(COUNTIF(AO$2:AO152,AO152)=1,AM152,\"\")","v":""},"","","",null,{"$f":"+IF(AZ152=\"\",\"\",MAX(AU$1:AU151)+1)","v":""},{"$f":"IF('Process and CMS Information'!B174=\"\",\"\",'Process and CMS Information'!B174)","v":""},{"$f":"IF('Process and CMS Information'!C174=\"\",\"\",'Process and CMS Information'!C174)","v":""},{"$f":"IF('Process and CMS Information'!F174=\"\",\"\",'Process and CMS Information'!F174)","v":""},"",{"$f":"IF(COUNTIF(AY$2:AY152,AY152)=1,AY152,\"\")","v":""},"","","",""]
[null,null,null,null,null,null,null,null,null,null,null,null,null,null,null,null,null,null,null,null,null,null,null,null,null,null,{"$f":"+IF(AF153=\"\",\"\",MAX(AA$1:AA152)+1)","v":""},{"$f":"IF('Excess Emissions'!B175=\"\",\"\",'Excess Emissions'!B175)","v":""},{"$f":"IF('Excess Emissions'!C175=\"\",\"\",'Excess Emissions'!C175)","v":""},{"$f":"IF('Excess Emissions'!D175=\"\",\"\",'Excess Emissions'!D175)","v":""},"",{"$f":"IF(COUNTIF(AE$2:AE153,AE153)=1,AC153,\"\")","v":""},"","","",null,{"$f":"+IF(AP153=\"\",\"\",MAX(AK$1:AK152)+1)","v":""},{"$f":"IF('CMS Downtime Detail'!B175=\"\",\"\",'CMS Downtime Detail'!B175)","v":""},{"$f":"IF('CMS Downtime Detail'!C175=\"\",\"\",'CMS Downtime Detail'!C175)","v":""},{"$f":"IF('CMS Downtime Detail'!D175=\"\",\"\",'CMS Downtime Detail'!D175)","v":""},"",{"$f":"IF(COUNTIF(AO$2:AO153,AO153)=1,AM153,\"\")","v":""},"","","",null,{"$f":"+IF(AZ153=\"\",\"\",MAX(AU$1:AU152)+1)","v":""},{"$f":"IF('Process and CMS Information'!B175=\"\",\"\",'Process and CMS Information'!B175)","v":""},{"$f":"IF('Process and CMS Information'!C175=\"\",\"\",'Process and CMS Information'!C175)","v":""},{"$f":"IF('Process and CMS Information'!F175=\"\",\"\",'Process and CMS Information'!F175)","v":""},"",{"$f":"IF(COUNTIF(AY$2:AY153,AY153)=1,AY153,\"\")","v":""},"","","",""]
[null,null,null,null,null,null,null,null,null,null,null,null,null,null,null,null,null,null,null,null,null,null,null,null,null,null,{"$f":"+IF(AF154=\"\",\"\",MAX(AA$1:AA153)+1)","v":""},{"$f":"IF('Excess Emissions'!B176=\"\",\"\",'Excess Emissions'!B176)","v":""},{"$f":"IF('Excess Emissions'!C176=\"\",\"\",'Excess Emissions'!C176)","v":""},{"$f":"IF('Excess Emissions'!D176=\"\",\"\",'Excess Emissions'!D176)","v":""},"",{"$f":"IF(COUNTIF(AE$2:AE154,AE154)=1,AC154,\"\")","v":""},"","","",null,{"$f":"+IF(AP154=\"\",\"\",MAX(AK$1:AK153)+1)","v":""},{"$f":"IF('CMS Downtime Detail'!B176=\"\",\"\",'CMS Downtime Detail'!B176)","v":""},{"$f":"IF('CMS Downtime Detail'!C176=\"\",\"\",'CMS Downtime Detail'!C176)","v":""},{"$f":"IF('CMS Downtime Detail'!D176=\"\",\"\",'CMS Downtime Detail'!D176)","v":""},"",{"$f":"IF(COUNTIF(AO$2:AO154,AO154)=1,AM154,\"\")","v":""},"","","",null,{"$f":"+IF(AZ154=\"\",\"\",MAX(AU$1:AU153)+1)","v":""},{"$f":"IF('Process and CMS Information'!B176=\"\",\"\",'Process and CMS Information'!B176)","v":""},{"$f":"IF('Process and CMS Information'!C176=\"\",\"\",'Process and CMS Information'!C176)","v":""},{"$f":"IF('Process and CMS Information'!F176=\"\",\"\",'Process and CMS Information'!F176)","v":""},"",{"$f":"IF(COUNTIF(AY$2:AY154,AY154)=1,AY154,\"\")","v":""},"","","",""]
[null,null,null,null,null,null,null,null,null,null,null,null,null,null,null,null,null,null,null,null,null,null,null,null,null,null,{"$f":"+IF(AF155=\"\",\"\",MAX(AA$1:AA154)+1)","v":""},{"$f":"IF('Excess Emissions'!B177=\"\",\"\",'Excess Emissions'!B177)","v":""},{"$f":"IF('Excess Emissions'!C177=\"\",\"\",'Excess Emissions'!C177)","v":""},{"$f":"IF('Excess Emissions'!D177=\"\",\"\",'Excess Emissions'!D177)","v":""},"",{"$f":"IF(COUNTIF(AE$2:AE155,AE155)=1,AC155,\"\")","v":""},"","","",null,{"$f":"+IF(AP155=\"\",\"\",MAX(AK$1:AK154)+1)","v":""},{"$f":"IF('CMS Downtime Detail'!B177=\"\",\"\",'CMS Downtime Detail'!B177)","v":""},{"$f":"IF('CMS Downtime Detail'!C177=\"\",\"\",'CMS Downtime Detail'!C177)","v":""},{"$f":"IF('CMS Downtime Detail'!D177=\"\",\"\",'CMS Downtime Detail'!D177)","v":""},"",{"$f":"IF(COUNTIF(AO$2:AO155,AO155)=1,AM155,\"\")","v":""},"","","",null,{"$f":"+IF(AZ155=\"\",\"\",MAX(AU$1:AU154)+1)","v":""},{"$f":"IF('Process and CMS Information'!B177=\"\",\"\",'Process and CMS Information'!B177)","v":""},{"$f":"IF('Process and CMS Information'!C177=\"\",\"\",'Process and CMS Information'!C177)","v":""},{"$f":"IF('Process and CMS Information'!F177=\"\",\"\",'Process and CMS Information'!F177)","v":""},"",{"$f":"IF(COUNTIF(AY$2:AY155,AY155)=1,AY155,\"\")","v":""},"","","",""]
[null,null,null,null,null,null,null,null,null,null,null,null,null,null,null,null,null,null,null,null,null,null,null,null,null,null,{"$f":"+IF(AF156=\"\",\"\",MAX(AA$1:AA155)+1)","v":""},{"$f":"IF('Excess Emissions'!B178=\"\",\"\",'Excess Emissions'!B178)","v":""},{"$f":"IF('Excess Emissions'!C178=\"\",\"\",'Excess Emissions'!C178)","v":""},{"$f":"IF('Excess Emissions'!D178=\"\",\"\",'Excess Emissions'!D178)","v":""},"",{"$f":"IF(COUNTIF(AE$2:AE156,AE156)=1,AC156,\"\")","v":""},"","","",null,{"$f":"+IF(AP156=\"\",\"\",MAX(AK$1:AK155)+1)","v":""},{"$f":"IF('CMS Downtime Detail'!B178=\"\",\"\",'CMS Downtime Detail'!B178)","v":""},{"$f":"IF('CMS Downtime Detail'!C178=\"\",\"\",'CMS Downtime Detail'!C178)","v":""},{"$f":"IF('CMS Downtime Detail'!D178=\"\",\"\",'CMS Downtime Detail'!D178)","v":""},"",{"$f":"IF(COUNTIF(AO$2:AO156,AO156)=1,AM156,\"\")","v":""},"","","",null,{"$f":"+IF(AZ156=\"\",\"\",MAX(AU$1:AU155)+1)","v":""},{"$f":"IF('Process and CMS Information'!B178=\"\",\"\",'Process and CMS Information'!B178)","v":""},{"$f":"IF('Process and CMS Information'!C178=\"\",\"\",'Process and CMS Information'!C178)","v":""},{"$f":"IF('Process and CMS Information'!F178=\"\",\"\",'Process and CMS Information'!F178)","v":""},"",{"$f":"IF(COUNTIF(AY$2:AY156,AY156)=1,AY156,\"\")","v":""},"","","",""]
[null,null,null,null,null,null,null,null,null,null,null,null,null,null,null,null,null,null,null,null,null,null,null,null,null,null,{"$f":"+IF(AF157=\"\",\"\",MAX(AA$1:AA156)+1)","v":""},{"$f":"IF('Excess Emissions'!B179=\"\",\"\",'Excess Emissions'!B179)","v":""},{"$f":"IF('Excess Emissions'!C179=\"\",\"\",'Excess Emissions'!C179)","v":""},{"$f":"IF('Excess Emissions'!D179=\"\",\"\",'Excess Emissions'!D179)","v":""},"",{"$f":"IF(COUNTIF(AE$2:AE157,AE157)=1,AC157,\"\")","v":""},"","","",null,{"$f":"+IF(AP157=\"\",\"\",MAX(AK$1:AK156)+1)","v":""},{"$f":"IF('CMS Downtime Detail'!B179=\"\",\"\",'CMS Downtime Detail'!B179)","v":""},{"$f":"IF('CMS Downtime Detail'!C179=\"\",\"\",'CMS Downtime Detail'!C179)","v":""},{"$f":"IF('CMS Downtime Detail'!D179=\"\",\"\",'CMS Downtime Detail'!D179)","v":""},"",{"$f":"IF(COUNTIF(AO$2:AO157,AO157)=1,AM157,\"\")","v":""},"","","",null,{"$f":"+IF(AZ157=\"\",\"\",MAX(AU$1:AU156)+1)","v":""},{"$f":"IF('Process and CMS Information'!B179=\"\",\"\",'Process and CMS Information'!B179)","v":""},{"$f":"IF('Process and CMS Information'!C179=\"\",\"\",'Process and CMS Information'!C179)","v":""},{"$f":"IF('Process and CMS Information'!F179=\"\",\"\",'Process and CMS Information'!F179)","v":""},"",{"$f":"IF(COUNTIF(AY$2:AY157,AY157)=1,AY157,\"\")","v":""},"","","",""]
[null,null,null,null,null,null,null,null,null,null,null,null,null,null,null,null,null,null,null,null,null,null,null,null,null,null,{"$f":"+IF(AF158=\"\",\"\",MAX(AA$1:AA157)+1)","v":""},{"$f":"IF('Excess Emissions'!B180=\"\",\"\",'Excess Emissions'!B180)","v":""},{"$f":"IF('Excess Emissions'!C180=\"\",\"\",'Excess Emissions'!C180)","v":""},{"$f":"IF('Excess Emissions'!D180=\"\",\"\",'Excess Emissions'!D180)","v":""},"",{"$f":"IF(COUNTIF(AE$2:AE158,AE158)=1,AC158,\"\")","v":""},"","","",null,{"$f":"+IF(AP158=\"\",\"\",MAX(AK$1:AK157)+1)","v":""},{"$f":"IF('CMS Downtime Detail'!B180=\"\",\"\",'CMS Downtime Detail'!B180)","v":""},{"$f":"IF('CMS Downtime Detail'!C180=\"\",\"\",'CMS Downtime Detail'!C180)","v":""},{"$f":"IF('CMS Downtime Detail'!D180=\"\",\"\",'CMS Downtime Detail'!D180)","v":""},"",{"$f":"IF(COUNTIF(AO$2:AO158,AO158)=1,AM158,\"\")","v":""},"","","",null,{"$f":"+IF(AZ158=\"\",\"\",MAX(AU$1:AU157)+1)","v":""},{"$f":"IF('Process and CMS Information'!B180=\"\",\"\",'Process and CMS Information'!B180)","v":""},{"$f":"IF('Process and CMS Information'!C180=\"\",\"\",'Process and CMS Information'!C180)","v":""},{"$f":"IF('Process and CMS Information'!F180=\"\",\"\",'Process and CMS Information'!F180)","v":""},"",{"$f":"IF(COUNTIF(AY$2:AY158,AY158)=1,AY158,\"\")","v":""},"","","",""]
[null,null,null,null,null,null,null,null,null,null,null,null,null,null,null,null,null,null,null,null,null,null,null,null,null,null,{"$f":"+IF(AF159=\"\",\"\",MAX(AA$1:AA158)+1)","v":""},{"$f":"IF('Excess Emissions'!B181=\"\",\"\",'Excess Emissions'!B181)","v":""},{"$f":"IF('Excess Emissions'!C181=\"\",\"\",'Excess Emissions'!C181)","v":""},{"$f":"IF('Excess Emissions'!D181=\"\",\"\",'Excess Emissions'!D181)","v":""},"",{"$f":"IF(COUNTIF(AE$2:AE159,AE159)=1,AC159,\"\")","v":""},"","","",null,{"$f":"+IF(AP159=\"\",\"\",MAX(AK$1:AK158)+1)","v":""},{"$f":"IF('CMS Downtime Detail'!B181=\"\",\"\",'CMS Downtime Detail'!B181)","v":""},{"$f":"IF('CMS Downtime Detail'!C181=\"\",\"\",'CMS Downtime Detail'!C181)","v":""},{"$f":"IF('CMS Downtime Detail'!D181=\"\",\"\",'CMS Downtime Detail'!D181)","v":""},"",{"$f":"IF(COUNTIF(AO$2:AO159,AO159)=1,AM159,\"\")","v":""},"","","",null,{"$f":"+IF(AZ159=\"\",\"\",MAX(AU$1:AU158)+1)","v":""},{"$f":"IF('Process and CMS Information'!B181=\"\",\"\",'Process and CMS Information'!B181)","v":""},{"$f":"IF('Process and CMS Information'!C181=\"\",\"\",'Process and CMS Information'!C181)","v":""},{"$f":"IF('Process and CMS Information'!F181=\"\",\"\",'Process and CMS Information'!F181)","v":""},"",{"$f":"IF(COUNTIF(AY$2:AY159,AY159)=1,AY159,\"\")","v":""},"","","",""]
[null,null,null,null,null,null,null,null,null,null,null,null,null,null,null,null,null,null,null,null,null,null,null,null,null,null,{"$f":"+IF(AF160=\"\",\"\",MAX(AA$1:AA159)+1)","v":""},{"$f":"IF('Excess Emissions'!B182=\"\",\"\",'Excess Emissions'!B182)","v":""},{"$f":"IF('Excess Emissions'!C182=\"\",\"\",'Excess Emissions'!C182)","v":""},{"$f":"IF('Excess Emissions'!D182=\"\",\"\",'Excess Emissions'!D182)","v":""},"",{"$f":"IF(COUNTIF(AE$2:AE160,AE160)=1,AC160,\"\")","v":""},"","","",null,{"$f":"+IF(AP160=\"\",\"\",MAX(AK$1:AK159)+1)","v":""},{"$f":"IF('CMS Downtime Detail'!B182=\"\",\"\",'CMS Downtime Detail'!B182)","v":""},{"$f":"IF('CMS Downtime Detail'!C182=\"\",\"\",'CMS Downtime Detail'!C182)","v":""},{"$f":"IF('CMS Downtime Detail'!D182=\"\",\"\",'CMS Downtime Detail'!D182)","v":""},"",{"$f":"IF(COUNTIF(AO$2:AO160,AO160)=1,AM160,\"\")","v":""},"","","",null,{"$f":"+IF(AZ160=\"\",\"\",MAX(AU$1:AU159)+1)","v":""},{"$f":"IF('Process and CMS Information'!B182=\"\",\"\",'Process and CMS Information'!B182)","v":""},{"$f":"IF('Process and CMS Information'!C182=\"\",\"\",'Process and CMS Information'!C182)","v":""},{"$f":"IF('Process and CMS Information'!F182=\"\",\"\",'Process and CMS Information'!F182)","v":""},"",{"$f":"IF(COUNTIF(AY$2:AY160,AY160)=1,AY160,\"\")","v":""},"","","",""]
[null,null,null,null,null,null,null,null,null,null,null,null,null,null,null,null,null,null,null,null,null,null,null,null,null,null,{"$f":"+IF(AF161=\"\",\"\",MAX(AA$1:AA160)+1)","v":""},{"$f":"IF('Excess Emissions'!B183=\"\",\"\",'Excess Emissions'!B183)","v":""},{"$f":"IF('Excess Emissions'!C183=\"\",\"\",'Excess Emissions'!C183)","v":""},{"$f":"IF('Excess Emissions'!D183=\"\",\"\",'Excess Emissions'!D183)","v":""},"",{"$f":"IF(COUNTIF(AE$2:AE161,AE161)=1,AC161,\"\")","v":""},"","","",null,{"$f":"+IF(AP161=\"\",\"\",MAX(AK$1:AK160)+1)","v":""},{"$f":"IF('CMS Downtime Detail'!B183=\"\",\"\",'CMS Downtime Detail'!B183)","v":""},{"$f":"IF('CMS Downtime Detail'!C183=\"\",\"\",'CMS Downtime Detail'!C183)","v":""},{"$f":"IF('CMS Downtime Detail'!D183=\"\",\"\",'CMS Downtime Detail'!D183)","v":""},"",{"$f":"IF(COUNTIF(AO$2:AO161,AO161)=1,AM161,\"\")","v":""},"","","",null,{"$f":"+IF(AZ161=\"\",\"\",MAX(AU$1:AU160)+1)","v":""},{"$f":"IF('Process and CMS Information'!B183=\"\",\"\",'Process and CMS Information'!B183)","v":""},{"$f":"IF('Process and CMS Information'!C183=\"\",\"\",'Process and CMS Information'!C183)","v":""},{"$f":"IF('Process and CMS Information'!F183=\"\",\"\",'Process and CMS Information'!F183)","v":""},"",{"$f":"IF(COUNTIF(AY$2:AY161,AY161)=1,AY161,\"\")","v":""},"","","",""]
[null,null,null,null,null,null,null,null,null,null,null,null,null,null,null,null,null,null,null,null,null,null,null,null,null,null,{"$f":"+IF(AF162=\"\",\"\",MAX(AA$1:AA161)+1)","v":""},{"$f":"IF('Excess Emissions'!B184=\"\",\"\",'Excess Emissions'!B184)","v":""},{"$f":"IF('Excess Emissions'!C184=\"\",\"\",'Excess Emissions'!C184)","v":""},{"$f":"IF('Excess Emissions'!D184=\"\",\"\",'Excess Emissions'!D184)","v":""},"",{"$f":"IF(COUNTIF(AE$2:AE162,AE162)=1,AC162,\"\")","v":""},"","","",null,{"$f":"+IF(AP162=\"\",\"\",MAX(AK$1:AK161)+1)","v":""},{"$f":"IF('CMS Downtime Detail'!B184=\"\",\"\",'CMS Downtime Detail'!B184)","v":""},{"$f":"IF('CMS Downtime Detail'!C184=\"\",\"\",'CMS Downtime Detail'!C184)","v":""},{"$f":"IF('CMS Downtime Detail'!D184=\"\",\"\",'CMS Downtime Detail'!D184)","v":""},"",{"$f":"IF(COUNTIF(AO$2:AO162,AO162)=1,AM162,\"\")","v":""},"","","",null,{"$f":"+IF(AZ162=\"\",\"\",MAX(AU$1:AU161)+1)","v":""},{"$f":"IF('Process and CMS Information'!B184=\"\",\"\",'Process and CMS Information'!B184)","v":""},{"$f":"IF('Process and CMS Information'!C184=\"\",\"\",'Process and CMS Information'!C184)","v":""},{"$f":"IF('Process and CMS Information'!F184=\"\",\"\",'Process and CMS Information'!F184)","v":""},"",{"$f":"IF(COUNTIF(AY$2:AY162,AY162)=1,AY162,\"\")","v":""},"","","",""]
[null,null,null,null,null,null,null,null,null,null,null,null,null,null,null,null,null,null,null,null,null,null,null,null,null,null,{"$f":"+IF(AF163=\"\",\"\",MAX(AA$1:AA162)+1)","v":""},{"$f":"IF('Excess Emissions'!B185=\"\",\"\",'Excess Emissions'!B185)","v":""},{"$f":"IF('Excess Emissions'!C185=\"\",\"\",'Excess Emissions'!C185)","v":""},{"$f":"IF('Excess Emissions'!D185=\"\",\"\",'Excess Emissions'!D185)","v":""},"",{"$f":"IF(COUNTIF(AE$2:AE163,AE163)=1,AC163,\"\")","v":""},"","","",null,{"$f":"+IF(AP163=\"\",\"\",MAX(AK$1:AK162)+1)","v":""},{"$f":"IF('CMS Downtime Detail'!B185=\"\",\"\",'CMS Downtime Detail'!B185)","v":""},{"$f":"IF('CMS Downtime Detail'!C185=\"\",\"\",'CMS Downtime Detail'!C185)","v":""},{"$f":"IF('CMS Downtime Detail'!D185=\"\",\"\",'CMS Downtime Detail'!D185)","v":""},"",{"$f":"IF(COUNTIF(AO$2:AO163,AO163)=1,AM163,\"\")","v":""},"","","",null,{"$f":"+IF(AZ163=\"\",\"\",MAX(AU$1:AU162)+1)","v":""},{"$f":"IF('Process and CMS Information'!B185=\"\",\"\",'Process and CMS Information'!B185)","v":""},{"$f":"IF('Process and CMS Information'!C185=\"\",\"\",'Process and CMS Information'!C185)","v":""},{"$f":"IF('Process and CMS Information'!F185=\"\",\"\",'Process and CMS Information'!F185)","v":""},"",{"$f":"IF(COUNTIF(AY$2:AY163,AY163)=1,AY163,\"\")","v":""},"","","",""]
[null,null,null,null,null,null,null,null,null,null,null,null,null,null,null,null,null,null,null,null,null,null,null,null,null,null,{"$f":"+IF(AF164=\"\",\"\",MAX(AA$1:AA163)+1)","v":""},{"$f":"IF('Excess Emissions'!B186=\"\",\"\",'Excess Emissions'!B186)","v":""},{"$f":"IF('Excess Emissions'!C186=\"\",\"\",'Excess Emissions'!C186)","v":""},{"$f":"IF('Excess Emissions'!D186=\"\",\"\",'Excess Emissions'!D186)","v":""},"",{"$f":"IF(COUNTIF(AE$2:AE164,AE164)=1,AC164,\"\")","v":""},"","","",null,{"$f":"+IF(AP164=\"\",\"\",MAX(AK$1:AK163)+1)","v":""},{"$f":"IF('CMS Downtime Detail'!B186=\"\",\"\",'CMS Downtime Detail'!B186)","v":""},{"$f":"IF('CMS Downtime Detail'!C186=\"\",\"\",'CMS Downtime Detail'!C186)","v":""},{"$f":"IF('CMS Downtime Detail'!D186=\"\",\"\",'CMS Downtime Detail'!D186)","v":""},"",{"$f":"IF(COUNTIF(AO$2:AO164,AO164)=1,AM164,\"\")","v":""},"","","",null,{"$f":"+IF(AZ164=\"\",\"\",MAX(AU$1:AU163)+1)","v":""},{"$f":"IF('Process and CMS Information'!B186=\"\",\"\",'Process and CMS Information'!B186)","v":""},{"$f":"IF('Process and CMS Information'!C186=\"\",\"\",'Process and CMS Information'!C186)","v":""},{"$f":"IF('Process and CMS Information'!F186=\"\",\"\",'Process and CMS Information'!F186)","v":""},"",{"$f":"IF(COUNTIF(AY$2:AY164,AY164)=1,AY164,\"\")","v":""},"","","",""]
[null,null,null,null,null,null,null,null,null,null,null,null,null,null,null,null,null,null,null,null,null,null,null,null,null,null,{"$f":"+IF(AF165=\"\",\"\",MAX(AA$1:AA164)+1)","v":""},{"$f":"IF('Excess Emissions'!B187=\"\",\"\",'Excess Emissions'!B187)","v":""},{"$f":"IF('Excess Emissions'!C187=\"\",\"\",'Excess Emissions'!C187)","v":""},{"$f":"IF('Excess Emissions'!D187=\"\",\"\",'Excess Emissions'!D187)","v":""},"",{"$f":"IF(COUNTIF(AE$2:AE165,AE165)=1,AC165,\"\")","v":""},"","","",null,{"$f":"+IF(AP165=\"\",\"\",MAX(AK$1:AK164)+1)","v":""},{"$f":"IF('CMS Downtime Detail'!B187=\"\",\"\",'CMS Downtime Detail'!B187)","v":""},{"$f":"IF('CMS Downtime Detail'!C187=\"\",\"\",'CMS Downtime Detail'!C187)","v":""},{"$f":"IF('CMS Downtime Detail'!D187=\"\",\"\",'CMS Downtime Detail'!D187)","v":""},"",{"$f":"IF(COUNTIF(AO$2:AO165,AO165)=1,AM165,\"\")","v":""},"","","",null,{"$f":"+IF(AZ165=\"\",\"\",MAX(AU$1:AU164)+1)","v":""},{"$f":"IF('Process and CMS Information'!B187=\"\",\"\",'Process and CMS Information'!B187)","v":""},{"$f":"IF('Process and CMS Information'!C187=\"\",\"\",'Process and CMS Information'!C187)","v":""},{"$f":"IF('Process and CMS Information'!F187=\"\",\"\",'Process and CMS Information'!F187)","v":""},"",{"$f":"IF(COUNTIF(AY$2:AY165,AY165)=1,AY165,\"\")","v":""},"","","",""]
[null,null,null,null,null,null,null,null,null,null,null,null,null,null,null,null,null,null,null,null,null,null,null,null,null,null,{"$f":"+IF(AF166=\"\",\"\",MAX(AA$1:AA165)+1)","v":""},{"$f":"IF('Excess Emissions'!B188=\"\",\"\",'Excess Emissions'!B188)","v":""},{"$f":"IF('Excess Emissions'!C188=\"\",\"\",'Excess Emissions'!C188)","v":""},{"$f":"IF('Excess Emissions'!D188=\"\",\"\",'Excess Emissions'!D188)","v":""},"",{"$f":"IF(COUNTIF(AE$2:AE166,AE166)=1,AC166,\"\")","v":""},"","","",null,{"$f":"+IF(AP166=\"\",\"\",MAX(AK$1:AK165)+1)","v":""},{"$f":"IF('CMS Downtime Detail'!B188=\"\",\"\",'CMS Downtime Detail'!B188)","v":""},{"$f":"IF('CMS Downtime Detail'!C188=\"\",\"\",'CMS Downtime Detail'!C188)","v":""},{"$f":"IF('CMS Downtime Detail'!D188=\"\",\"\",'CMS Downtime Detail'!D188)","v":""},"",{"$f":"IF(COUNTIF(AO$2:AO166,AO166)=1,AM166,\"\")","v":""},"","","",null,{"$f":"+IF(AZ166=\"\",\"\",MAX(AU$1:AU165)+1)","v":""},{"$f":"IF('Process and CMS Information'!B188=\"\",\"\",'Process and CMS Information'!B188)","v":""},{"$f":"IF('Process and CMS Information'!C188=\"\",\"\",'Process and CMS Information'!C188)","v":""},{"$f":"IF('Process and CMS Information'!F188=\"\",\"\",'Process and CMS Information'!F188)","v":""},"",{"$f":"IF(COUNTIF(AY$2:AY166,AY166)=1,AY166,\"\")","v":""},"","","",""]
[null,null,null,null,null,null,null,null,null,null,null,null,null,null,null,null,null,null,null,null,null,null,null,null,null,null,{"$f":"+IF(AF167=\"\",\"\",MAX(AA$1:AA166)+1)","v":""},{"$f":"IF('Excess Emissions'!B189=\"\",\"\",'Excess Emissions'!B189)","v":""},{"$f":"IF('Excess Emissions'!C189=\"\",\"\",'Excess Emissions'!C189)","v":""},{"$f":"IF('Excess Emissions'!D189=\"\",\"\",'Excess Emissions'!D189)","v":""},"",{"$f":"IF(COUNTIF(AE$2:AE167,AE167)=1,AC167,\"\")","v":""},"","","",null,{"$f":"+IF(AP167=\"\",\"\",MAX(AK$1:AK166)+1)","v":""},{"$f":"IF('CMS Downtime Detail'!B189=\"\",\"\",'CMS Downtime Detail'!B189)","v":""},{"$f":"IF('CMS Downtime Detail'!C189=\"\",\"\",'CMS Downtime Detail'!C189)","v":""},{"$f":"IF('CMS Downtime Detail'!D189=\"\",\"\",'CMS Downtime Detail'!D189)","v":""},"",{"$f":"IF(COUNTIF(AO$2:AO167,AO167)=1,AM167,\"\")","v":""},"","","",null,{"$f":"+IF(AZ167=\"\",\"\",MAX(AU$1:AU166)+1)","v":""},{"$f":"IF('Process and CMS Information'!B189=\"\",\"\",'Process and CMS Information'!B189)","v":""},{"$f":"IF('Process and CMS Information'!C189=\"\",\"\",'Process and CMS Information'!C189)","v":""},{"$f":"IF('Process and CMS Information'!F189=\"\",\"\",'Process and CMS Information'!F189)","v":""},"",{"$f":"IF(COUNTIF(AY$2:AY167,AY167)=1,AY167,\"\")","v":""},"","","",""]
[null,null,null,null,null,null,null,null,null,null,null,null,null,null,null,null,null,null,null,null,null,null,null,null,null,null,{"$f":"+IF(AF168=\"\",\"\",MAX(AA$1:AA167)+1)","v":""},{"$f":"IF('Excess Emissions'!B190=\"\",\"\",'Excess Emissions'!B190)","v":""},{"$f":"IF('Excess Emissions'!C190=\"\",\"\",'Excess Emissions'!C190)","v":""},{"$f":"IF('Excess Emissions'!D190=\"\",\"\",'Excess Emissions'!D190)","v":""},"",{"$f":"IF(COUNTIF(AE$2:AE168,AE168)=1,AC168,\"\")","v":""},"","","",null,{"$f":"+IF(AP168=\"\",\"\",MAX(AK$1:AK167)+1)","v":""},{"$f":"IF('CMS Downtime Detail'!B190=\"\",\"\",'CMS Downtime Detail'!B190)","v":""},{"$f":"IF('CMS Downtime Detail'!C190=\"\",\"\",'CMS Downtime Detail'!C190)","v":""},{"$f":"IF('CMS Downtime Detail'!D190=\"\",\"\",'CMS Downtime Detail'!D190)","v":""},"",{"$f":"IF(COUNTIF(AO$2:AO168,AO168)=1,AM168,\"\")","v":""},"","","",null,{"$f":"+IF(AZ168=\"\",\"\",MAX(AU$1:AU167)+1)","v":""},{"$f":"IF('Process and CMS Information'!B190=\"\",\"\",'Process and CMS Information'!B190)","v":""},{"$f":"IF('Process and CMS Information'!C190=\"\",\"\",'Process and CMS Information'!C190)","v":""},{"$f":"IF('Process and CMS Information'!F190=\"\",\"\",'Process and CMS Information'!F190)","v":""},"",{"$f":"IF(COUNTIF(AY$2:AY168,AY168)=1,AY168,\"\")","v":""},"","","",""]
[null,null,null,null,null,null,null,null,null,null,null,null,null,null,null,null,null,null,null,null,null,null,null,null,null,null,{"$f":"+IF(AF169=\"\",\"\",MAX(AA$1:AA168)+1)","v":""},{"$f":"IF('Excess Emissions'!B191=\"\",\"\",'Excess Emissions'!B191)","v":""},{"$f":"IF('Excess Emissions'!C191=\"\",\"\",'Excess Emissions'!C191)","v":""},{"$f":"IF('Excess Emissions'!D191=\"\",\"\",'Excess Emissions'!D191)","v":""},"",{"$f":"IF(COUNTIF(AE$2:AE169,AE169)=1,AC169,\"\")","v":""},"","","",null,{"$f":"+IF(AP169=\"\",\"\",MAX(AK$1:AK168)+1)","v":""},{"$f":"IF('CMS Downtime Detail'!B191=\"\",\"\",'CMS Downtime Detail'!B191)","v":""},{"$f":"IF('CMS Downtime Detail'!C191=\"\",\"\",'CMS Downtime Detail'!C191)","v":""},{"$f":"IF('CMS Downtime Detail'!D191=\"\",\"\",'CMS Downtime Detail'!D191)","v":""},"",{"$f":"IF(COUNTIF(AO$2:AO169,AO169)=1,AM169,\"\")","v":""},"","","",null,{"$f":"+IF(AZ169=\"\",\"\",MAX(AU$1:AU168)+1)","v":""},{"$f":"IF('Process and CMS Information'!B191=\"\",\"\",'Process and CMS Information'!B191)","v":""},{"$f":"IF('Process and CMS Information'!C191=\"\",\"\",'Process and CMS Information'!C191)","v":""},{"$f":"IF('Process and CMS Information'!F191=\"\",\"\",'Process and CMS Information'!F191)","v":""},"",{"$f":"IF(COUNTIF(AY$2:AY169,AY169)=1,AY169,\"\")","v":""},"","","",""]
[null,null,null,null,null,null,null,null,null,null,null,null,null,null,null,null,null,null,null,null,null,null,null,null,null,null,{"$f":"+IF(AF170=\"\",\"\",MAX(AA$1:AA169)+1)","v":""},{"$f":"IF('Excess Emissions'!B192=\"\",\"\",'Excess Emissions'!B192)","v":""},{"$f":"IF('Excess Emissions'!C192=\"\",\"\",'Excess Emissions'!C192)","v":""},{"$f":"IF('Excess Emissions'!D192=\"\",\"\",'Excess Emissions'!D192)","v":""},"",{"$f":"IF(COUNTIF(AE$2:AE170,AE170)=1,AC170,\"\")","v":""},"","","",null,{"$f":"+IF(AP170=\"\",\"\",MAX(AK$1:AK169)+1)","v":""},{"$f":"IF('CMS Downtime Detail'!B192=\"\",\"\",'CMS Downtime Detail'!B192)","v":""},{"$f":"IF('CMS Downtime Detail'!C192=\"\",\"\",'CMS Downtime Detail'!C192)","v":""},{"$f":"IF('CMS Downtime Detail'!D192=\"\",\"\",'CMS Downtime Detail'!D192)","v":""},"",{"$f":"IF(COUNTIF(AO$2:AO170,AO170)=1,AM170,\"\")","v":""},"","","",null,{"$f":"+IF(AZ170=\"\",\"\",MAX(AU$1:AU169)+1)","v":""},{"$f":"IF('Process and CMS Information'!B192=\"\",\"\",'Process and CMS Information'!B192)","v":""},{"$f":"IF('Process and CMS Information'!C192=\"\",\"\",'Process and CMS Information'!C192)","v":""},{"$f":"IF('Process and CMS Information'!F192=\"\",\"\",'Process and CMS Information'!F192)","v":""},"",{"$f":"IF(COUNTIF(AY$2:AY170,AY170)=1,AY170,\"\")","v":""},"","","",""]
[null,null,null,null,null,null,null,null,null,null,null,null,null,null,null,null,null,null,null,null,null,null,null,null,null,null,{"$f":"+IF(AF171=\"\",\"\",MAX(AA$1:AA170)+1)","v":""},{"$f":"IF('Excess Emissions'!B193=\"\",\"\",'Excess Emissions'!B193)","v":""},{"$f":"IF('Excess Emissions'!C193=\"\",\"\",'Excess Emissions'!C193)","v":""},{"$f":"IF('Excess Emissions'!D193=\"\",\"\",'Excess Emissions'!D193)","v":""},"",{"$f":"IF(COUNTIF(AE$2:AE171,AE171)=1,AC171,\"\")","v":""},"","","",null,{"$f":"+IF(AP171=\"\",\"\",MAX(AK$1:AK170)+1)","v":""},{"$f":"IF('CMS Downtime Detail'!B193=\"\",\"\",'CMS Downtime Detail'!B193)","v":""},{"$f":"IF('CMS Downtime Detail'!C193=\"\",\"\",'CMS Downtime Detail'!C193)","v":""},{"$f":"IF('CMS Downtime Detail'!D193=\"\",\"\",'CMS Downtime Detail'!D193)","v":""},"",{"$f":"IF(COUNTIF(AO$2:AO171,AO171)=1,AM171,\"\")","v":""},"","","",null,{"$f":"+IF(AZ171=\"\",\"\",MAX(AU$1:AU170)+1)","v":""},{"$f":"IF('Process and CMS Information'!B193=\"\",\"\",'Process and CMS Information'!B193)","v":""},{"$f":"IF('Process and CMS Information'!C193=\"\",\"\",'Process and CMS Information'!C193)","v":""},{"$f":"IF('Process and CMS Information'!F193=\"\",\"\",'Process and CMS Information'!F193)","v":""},"",{"$f":"IF(COUNTIF(AY$2:AY171,AY171)=1,AY171,\"\")","v":""},"","","",""]
[null,null,null,null,null,null,null,null,null,null,null,null,null,null,null,null,null,null,null,null,null,null,null,null,null,null,{"$f":"+IF(AF172=\"\",\"\",MAX(AA$1:AA171)+1)","v":""},{"$f":"IF('Excess Emissions'!B194=\"\",\"\",'Excess Emissions'!B194)","v":""},{"$f":"IF('Excess Emissions'!C194=\"\",\"\",'Excess Emissions'!C194)","v":""},{"$f":"IF('Excess Emissions'!D194=\"\",\"\",'Excess Emissions'!D194)","v":""},"",{"$f":"IF(COUNTIF(AE$2:AE172,AE172)=1,AC172,\"\")","v":""},"","","",null,{"$f":"+IF(AP172=\"\",\"\",MAX(AK$1:AK171)+1)","v":""},{"$f":"IF('CMS Downtime Detail'!B194=\"\",\"\",'CMS Downtime Detail'!B194)","v":""},{"$f":"IF('CMS Downtime Detail'!C194=\"\",\"\",'CMS Downtime Detail'!C194)","v":""},{"$f":"IF('CMS Downtime Detail'!D194=\"\",\"\",'CMS Downtime Detail'!D194)","v":""},"",{"$f":"IF(COUNTIF(AO$2:AO172,AO172)=1,AM172,\"\")","v":""},"","","",null,{"$f":"+IF(AZ172=\"\",\"\",MAX(AU$1:AU171)+1)","v":""},{"$f":"IF('Process and CMS Information'!B194=\"\",\"\",'Process and CMS Information'!B194)","v":""},{"$f":"IF('Process and CMS Information'!C194=\"\",\"\",'Process and CMS Information'!C194)","v":""},{"$f":"IF('Process and CMS Information'!F194=\"\",\"\",'Process and CMS Information'!F194)","v":""},"",{"$f":"IF(COUNTIF(AY$2:AY172,AY172)=1,AY172,\"\")","v":""},"","","",""]
[null,null,null,null,null,null,null,null,null,null,null,null,null,null,null,null,null,null,null,null,null,null,null,null,null,null,{"$f":"+IF(AF173=\"\",\"\",MAX(AA$1:AA172)+1)","v":""},{"$f":"IF('Excess Emissions'!B195=\"\",\"\",'Excess Emissions'!B195)","v":""},{"$f":"IF('Excess Emissions'!C195=\"\",\"\",'Excess Emissions'!C195)","v":""},{"$f":"IF('Excess Emissions'!D195=\"\",\"\",'Excess Emissions'!D195)","v":""},"",{"$f":"IF(COUNTIF(AE$2:AE173,AE173)=1,AC173,\"\")","v":""},"","","",null,{"$f":"+IF(AP173=\"\",\"\",MAX(AK$1:AK172)+1)","v":""},{"$f":"IF('CMS Downtime Detail'!B195=\"\",\"\",'CMS Downtime Detail'!B195)","v":""},{"$f":"IF('CMS Downtime Detail'!C195=\"\",\"\",'CMS Downtime Detail'!C195)","v":""},{"$f":"IF('CMS Downtime Detail'!D195=\"\",\"\",'CMS Downtime Detail'!D195)","v":""},"",{"$f":"IF(COUNTIF(AO$2:AO173,AO173)=1,AM173,\"\")","v":""},"","","",null,{"$f":"+IF(AZ173=\"\",\"\",MAX(AU$1:AU172)+1)","v":""},{"$f":"IF('Process and CMS Information'!B195=\"\",\"\",'Process and CMS Information'!B195)","v":""},{"$f":"IF('Process and CMS Information'!C195=\"\",\"\",'Process and CMS Information'!C195)","v":""},{"$f":"IF('Process and CMS Information'!F195=\"\",\"\",'Process and CMS Information'!F195)","v":""},"",{"$f":"IF(COUNTIF(AY$2:AY173,AY173)=1,AY173,\"\")","v":""},"","","",""]
[null,null,null,null,null,null,null,null,null,null,null,null,null,null,null,null,null,null,null,null,null,null,null,null,null,null,{"$f":"+IF(AF174=\"\",\"\",MAX(AA$1:AA173)+1)","v":""},{"$f":"IF('Excess Emissions'!B196=\"\",\"\",'Excess Emissions'!B196)","v":""},{"$f":"IF('Excess Emissions'!C196=\"\",\"\",'Excess Emissions'!C196)","v":""},{"$f":"IF('Excess Emissions'!D196=\"\",\"\",'Excess Emissions'!D196)","v":""},"",{"$f":"IF(COUNTIF(AE$2:AE174,AE174)=1,AC174,\"\")","v":""},"","","",null,{"$f":"+IF(AP174=\"\",\"\",MAX(AK$1:AK173)+1)","v":""},{"$f":"IF('CMS Downtime Detail'!B196=\"\",\"\",'CMS Downtime Detail'!B196)","v":""},{"$f":"IF('CMS Downtime Detail'!C196=\"\",\"\",'CMS Downtime Detail'!C196)","v":""},{"$f":"IF('CMS Downtime Detail'!D196=\"\",\"\",'CMS Downtime Detail'!D196)","v":""},"",{"$f":"IF(COUNTIF(AO$2:AO174,AO174)=1,AM174,\"\")","v":""},"","","",null,{"$f":"+IF(AZ174=\"\",\"\",MAX(AU$1:AU173)+1)","v":""},{"$f":"IF('Process and CMS Information'!B196=\"\",\"\",'Process and CMS Information'!B196)","v":""},{"$f":"IF('Process and CMS Information'!C196=\"\",\"\",'Process and CMS Information'!C196)","v":""},{"$f":"IF('Process and CMS Information'!F196=\"\",\"\",'Process and CMS Information'!F196)","v":""},"",{"$f":"IF(COUNTIF(AY$2:AY174,AY174)=1,AY174,\"\")","v":""},"","","",""]
[null,null,null,null,null,null,null,null,null,null,null,null,null,null,null,null,null,null,null,null,null,null,null,null,null,null,{"$f":"+IF(AF175=\"\",\"\",MAX(AA$1:AA174)+1)","v":""},{"$f":"IF('Excess Emissions'!B197=\"\",\"\",'Excess Emissions'!B197)","v":""},{"$f":"IF('Excess Emissions'!C197=\"\",\"\",'Excess Emissions'!C197)","v":""},{"$f":"IF('Excess Emissions'!D197=\"\",\"\",'Excess Emissions'!D197)","v":""},"",{"$f":"IF(COUNTIF(AE$2:AE175,AE175)=1,AC175,\"\")","v":""},"","","",null,{"$f":"+IF(AP175=\"\",\"\",MAX(AK$1:AK174)+1)","v":""},{"$f":"IF('CMS Downtime Detail'!B197=\"\",\"\",'CMS Downtime Detail'!B197)","v":""},{"$f":"IF('CMS Downtime Detail'!C197=\"\",\"\",'CMS Downtime Detail'!C197)","v":""},{"$f":"IF('CMS Downtime Detail'!D197=\"\",\"\",'CMS Downtime Detail'!D197)","v":""},"",{"$f":"IF(COUNTIF(AO$2:AO175,AO175)=1,AM175,\"\")","v":""},"","","",null,{"$f":"+IF(AZ175=\"\",\"\",MAX(AU$1:AU174)+1)","v":""},{"$f":"IF('Process and CMS Information'!B197=\"\",\"\",'Process and CMS Information'!B197)","v":""},{"$f":"IF('Process and CMS Information'!C197=\"\",\"\",'Process and CMS Information'!C197)","v":""},{"$f":"IF('Process and CMS Information'!F197=\"\",\"\",'Process and CMS Information'!F197)","v":""},"",{"$f":"IF(COUNTIF(AY$2:AY175,AY175)=1,AY175,\"\")","v":""},"","","",""]
[null,null,null,null,null,null,null,null,null,null,null,null,null,null,null,null,null,null,null,null,null,null,null,null,null,null,{"$f":"+IF(AF176=\"\",\"\",MAX(AA$1:AA175)+1)","v":""},{"$f":"IF('Excess Emissions'!B198=\"\",\"\",'Excess Emissions'!B198)","v":""},{"$f":"IF('Excess Emissions'!C198=\"\",\"\",'Excess Emissions'!C198)","v":""},{"$f":"IF('Excess Emissions'!D198=\"\",\"\",'Excess Emissions'!D198)","v":""},"",{"$f":"IF(COUNTIF(AE$2:AE176,AE176)=1,AC176,\"\")","v":""},"","","",null,{"$f":"+IF(AP176=\"\",\"\",MAX(AK$1:AK175)+1)","v":""},{"$f":"IF('CMS Downtime Detail'!B198=\"\",\"\",'CMS Downtime Detail'!B198)","v":""},{"$f":"IF('CMS Downtime Detail'!C198=\"\",\"\",'CMS Downtime Detail'!C198)","v":""},{"$f":"IF('CMS Downtime Detail'!D198=\"\",\"\",'CMS Downtime Detail'!D198)","v":""},"",{"$f":"IF(COUNTIF(AO$2:AO176,AO176)=1,AM176,\"\")","v":""},"","","",null,{"$f":"+IF(AZ176=\"\",\"\",MAX(AU$1:AU175)+1)","v":""},{"$f":"IF('Process and CMS Information'!B198=\"\",\"\",'Process and CMS Information'!B198)","v":""},{"$f":"IF('Process and CMS Information'!C198=\"\",\"\",'Process and CMS Information'!C198)","v":""},{"$f":"IF('Process and CMS Information'!F198=\"\",\"\",'Process and CMS Information'!F198)","v":""},"",{"$f":"IF(COUNTIF(AY$2:AY176,AY176)=1,AY176,\"\")","v":""},"","","",""]
[null,null,null,null,null,null,null,null,null,null,null,null,null,null,null,null,null,null,null,null,null,null,null,null,null,null,{"$f":"+IF(AF177=\"\",\"\",MAX(AA$1:AA176)+1)","v":""},{"$f":"IF('Excess Emissions'!B199=\"\",\"\",'Excess Emissions'!B199)","v":""},{"$f":"IF('Excess Emissions'!C199=\"\",\"\",'Excess Emissions'!C199)","v":""},{"$f":"IF('Excess Emissions'!D199=\"\",\"\",'Excess Emissions'!D199)","v":""},"",{"$f":"IF(COUNTIF(AE$2:AE177,AE177)=1,AC177,\"\")","v":""},"","","",null,{"$f":"+IF(AP177=\"\",\"\",MAX(AK$1:AK176)+1)","v":""},{"$f":"IF('CMS Downtime Detail'!B199=\"\",\"\",'CMS Downtime Detail'!B199)","v":""},{"$f":"IF('CMS Downtime Detail'!C199=\"\",\"\",'CMS Downtime Detail'!C199)","v":""},{"$f":"IF('CMS Downtime Detail'!D199=\"\",\"\",'CMS Downtime Detail'!D199)","v":""},"",{"$f":"IF(COUNTIF(AO$2:AO177,AO177)=1,AM177,\"\")","v":""},"","","",null,{"$f":"+IF(AZ177=\"\",\"\",MAX(AU$1:AU176)+1)","v":""},{"$f":"IF('Process and CMS Information'!B199=\"\",\"\",'Process and CMS Information'!B199)","v":""},{"$f":"IF('Process and CMS Information'!C199=\"\",\"\",'Process and CMS Information'!C199)","v":""},{"$f":"IF('Process and CMS Information'!F199=\"\",\"\",'Process and CMS Information'!F199)","v":""},"",{"$f":"IF(COUNTIF(AY$2:AY177,AY177)=1,AY177,\"\")","v":""},"","","",""]
[null,null,null,null,null,null,null,null,null,null,null,null,null,null,null,null,null,null,null,null,null,null,null,null,null,null,{"$f":"+IF(AF178=\"\",\"\",MAX(AA$1:AA177)+1)","v":""},{"$f":"IF('Excess Emissions'!B200=\"\",\"\",'Excess Emissions'!B200)","v":""},{"$f":"IF('Excess Emissions'!C200=\"\",\"\",'Excess Emissions'!C200)","v":""},{"$f":"IF('Excess Emissions'!D200=\"\",\"\",'Excess Emissions'!D200)","v":""},"",{"$f":"IF(COUNTIF(AE$2:AE178,AE178)=1,AC178,\"\")","v":""},"","","",null,{"$f":"+IF(AP178=\"\",\"\",MAX(AK$1:AK177)+1)","v":""},{"$f":"IF('CMS Downtime Detail'!B200=\"\",\"\",'CMS Downtime Detail'!B200)","v":""},{"$f":"IF('CMS Downtime Detail'!C200=\"\",\"\",'CMS Downtime Detail'!C200)","v":""},{"$f":"IF('CMS Downtime Detail'!D200=\"\",\"\",'CMS Downtime Detail'!D200)","v":""},"",{"$f":"IF(COUNTIF(AO$2:AO178,AO178)=1,AM178,\"\")","v":""},"","","",null,{"$f":"+IF(AZ178=\"\",\"\",MAX(AU$1:AU177)+1)","v":""},{"$f":"IF('Process and CMS Information'!B200=\"\",\"\",'Process and CMS Information'!B200)","v":""},{"$f":"IF('Process and CMS Information'!C200=\"\",\"\",'Process and CMS Information'!C200)","v":""},{"$f":"IF('Process and CMS Information'!F200=\"\",\"\",'Process and CMS Information'!F200)","v":""},"",{"$f":"IF(COUNTIF(AY$2:AY178,AY178)=1,AY178,\"\")","v":""},"","","",""]
[null,null,null,null,null,null,null,null,null,null,null,null,null,null,null,null,null,null,null,null,null,null,null,null,null,null,{"$f":"+IF(AF179=\"\",\"\",MAX(AA$1:AA178)+1)","v":""},{"$f":"IF('Excess Emissions'!B201=\"\",\"\",'Excess Emissions'!B201)","v":""},{"$f":"IF('Excess Emissions'!C201=\"\",\"\",'Excess Emissions'!C201)","v":""},{"$f":"IF('Excess Emissions'!D201=\"\",\"\",'Excess Emissions'!D201)","v":""},"",{"$f":"IF(COUNTIF(AE$2:AE179,AE179)=1,AC179,\"\")","v":""},"","","",null,{"$f":"+IF(AP179=\"\",\"\",MAX(AK$1:AK178)+1)","v":""},{"$f":"IF('CMS Downtime Detail'!B201=\"\",\"\",'CMS Downtime Detail'!B201)","v":""},{"$f":"IF('CMS Downtime Detail'!C201=\"\",\"\",'CMS Downtime Detail'!C201)","v":""},{"$f":"IF('CMS Downtime Detail'!D201=\"\",\"\",'CMS Downtime Detail'!D201)","v":""},"",{"$f":"IF(COUNTIF(AO$2:AO179,AO179)=1,AM179,\"\")","v":""},"","","",null,{"$f":"+IF(AZ179=\"\",\"\",MAX(AU$1:AU178)+1)","v":""},{"$f":"IF('Process and CMS Information'!B201=\"\",\"\",'Process and CMS Information'!B201)","v":""},{"$f":"IF('Process and CMS Information'!C201=\"\",\"\",'Process and CMS Information'!C201)","v":""},{"$f":"IF('Process and CMS Information'!F201=\"\",\"\",'Process and CMS Information'!F201)","v":""},"",{"$f":"IF(COUNTIF(AY$2:AY179,AY179)=1,AY179,\"\")","v":""},"","","",""]
[null,null,null,null,null,null,null,null,null,null,null,null,null,null,null,null,null,null,null,null,null,null,null,null,null,null,{"$f":"+IF(AF180=\"\",\"\",MAX(AA$1:AA179)+1)","v":""},{"$f":"IF('Excess Emissions'!B202=\"\",\"\",'Excess Emissions'!B202)","v":""},{"$f":"IF('Excess Emissions'!C202=\"\",\"\",'Excess Emissions'!C202)","v":""},{"$f":"IF('Excess Emissions'!D202=\"\",\"\",'Excess Emissions'!D202)","v":""},"",{"$f":"IF(COUNTIF(AE$2:AE180,AE180)=1,AC180,\"\")","v":""},"","","",null,{"$f":"+IF(AP180=\"\",\"\",MAX(AK$1:AK179)+1)","v":""},{"$f":"IF('CMS Downtime Detail'!B202=\"\",\"\",'CMS Downtime Detail'!B202)","v":""},{"$f":"IF('CMS Downtime Detail'!C202=\"\",\"\",'CMS Downtime Detail'!C202)","v":""},{"$f":"IF('CMS Downtime Detail'!D202=\"\",\"\",'CMS Downtime Detail'!D202)","v":""},"",{"$f":"IF(COUNTIF(AO$2:AO180,AO180)=1,AM180,\"\")","v":""},"","","",null,{"$f":"+IF(AZ180=\"\",\"\",MAX(AU$1:AU179)+1)","v":""},{"$f":"IF('Process and CMS Information'!B202=\"\",\"\",'Process and CMS Information'!B202)","v":""},{"$f":"IF('Process and CMS Information'!C202=\"\",\"\",'Process and CMS Information'!C202)","v":""},{"$f":"IF('Process and CMS Information'!F202=\"\",\"\",'Process and CMS Information'!F202)","v":""},"",{"$f":"IF(COUNTIF(AY$2:AY180,AY180)=1,AY180,\"\")","v":""},"","","",""]
[null,null,null,null,null,null,null,null,null,null,null,null,null,null,null,null,null,null,null,null,null,null,null,null,null,null,{"$f":"+IF(AF181=\"\",\"\",MAX(AA$1:AA180)+1)","v":""},{"$f":"IF('Excess Emissions'!B203=\"\",\"\",'Excess Emissions'!B203)","v":""},{"$f":"IF('Excess Emissions'!C203=\"\",\"\",'Excess Emissions'!C203)","v":""},{"$f":"IF('Excess Emissions'!D203=\"\",\"\",'Excess Emissions'!D203)","v":""},"",{"$f":"IF(COUNTIF(AE$2:AE181,AE181)=1,AC181,\"\")","v":""},"","","",null,{"$f":"+IF(AP181=\"\",\"\",MAX(AK$1:AK180)+1)","v":""},{"$f":"IF('CMS Downtime Detail'!B203=\"\",\"\",'CMS Downtime Detail'!B203)","v":""},{"$f":"IF('CMS Downtime Detail'!C203=\"\",\"\",'CMS Downtime Detail'!C203)","v":""},{"$f":"IF('CMS Downtime Detail'!D203=\"\",\"\",'CMS Downtime Detail'!D203)","v":""},"",{"$f":"IF(COUNTIF(AO$2:AO181,AO181)=1,AM181,\"\")","v":""},"","","",null,{"$f":"+IF(AZ181=\"\",\"\",MAX(AU$1:AU180)+1)","v":""},{"$f":"IF('Process and CMS Information'!B203=\"\",\"\",'Process and CMS Information'!B203)","v":""},{"$f":"IF('Process and CMS Information'!C203=\"\",\"\",'Process and CMS Information'!C203)","v":""},{"$f":"IF('Process and CMS Information'!F203=\"\",\"\",'Process and CMS Information'!F203)","v":""},"",{"$f":"IF(COUNTIF(AY$2:AY181,AY181)=1,AY181,\"\")","v":""},"","","",""]
[null,null,null,null,null,null,null,null,null,null,null,null,null,null,null,null,null,null,null,null,null,null,null,null,null,null,{"$f":"+IF(AF182=\"\",\"\",MAX(AA$1:AA181)+1)","v":""},{"$f":"IF('Excess Emissions'!B204=\"\",\"\",'Excess Emissions'!B204)","v":""},{"$f":"IF('Excess Emissions'!C204=\"\",\"\",'Excess Emissions'!C204)","v":""},{"$f":"IF('Excess Emissions'!D204=\"\",\"\",'Excess Emissions'!D204)","v":""},"",{"$f":"IF(COUNTIF(AE$2:AE182,AE182)=1,AC182,\"\")","v":""},"","","",null,{"$f":"+IF(AP182=\"\",\"\",MAX(AK$1:AK181)+1)","v":""},{"$f":"IF('CMS Downtime Detail'!B204=\"\",\"\",'CMS Downtime Detail'!B204)","v":""},{"$f":"IF('CMS Downtime Detail'!C204=\"\",\"\",'CMS Downtime Detail'!C204)","v":""},{"$f":"IF('CMS Downtime Detail'!D204=\"\",\"\",'CMS Downtime Detail'!D204)","v":""},"",{"$f":"IF(COUNTIF(AO$2:AO182,AO182)=1,AM182,\"\")","v":""},"","","",null,{"$f":"+IF(AZ182=\"\",\"\",MAX(AU$1:AU181)+1)","v":""},{"$f":"IF('Process and CMS Information'!B204=\"\",\"\",'Process and CMS Information'!B204)","v":""},{"$f":"IF('Process and CMS Information'!C204=\"\",\"\",'Process and CMS Information'!C204)","v":""},{"$f":"IF('Process and CMS Information'!F204=\"\",\"\",'Process and CMS Information'!F204)","v":""},"",{"$f":"IF(COUNTIF(AY$2:AY182,AY182)=1,AY182,\"\")","v":""},"","","",""]
[null,null,null,null,null,null,null,null,null,null,null,null,null,null,null,null,null,null,null,null,null,null,null,null,null,null,{"$f":"+IF(AF183=\"\",\"\",MAX(AA$1:AA182)+1)","v":""},{"$f":"IF('Excess Emissions'!B205=\"\",\"\",'Excess Emissions'!B205)","v":""},{"$f":"IF('Excess Emissions'!C205=\"\",\"\",'Excess Emissions'!C205)","v":""},{"$f":"IF('Excess Emissions'!D205=\"\",\"\",'Excess Emissions'!D205)","v":""},"",{"$f":"IF(COUNTIF(AE$2:AE183,AE183)=1,AC183,\"\")","v":""},"","","",null,{"$f":"+IF(AP183=\"\",\"\",MAX(AK$1:AK182)+1)","v":""},{"$f":"IF('CMS Downtime Detail'!B205=\"\",\"\",'CMS Downtime Detail'!B205)","v":""},{"$f":"IF('CMS Downtime Detail'!C205=\"\",\"\",'CMS Downtime Detail'!C205)","v":""},{"$f":"IF('CMS Downtime Detail'!D205=\"\",\"\",'CMS Downtime Detail'!D205)","v":""},"",{"$f":"IF(COUNTIF(AO$2:AO183,AO183)=1,AM183,\"\")","v":""},"","","",null,{"$f":"+IF(AZ183=\"\",\"\",MAX(AU$1:AU182)+1)","v":""},{"$f":"IF('Process and CMS Information'!B205=\"\",\"\",'Process and CMS Information'!B205)","v":""},{"$f":"IF('Process and CMS Information'!C205=\"\",\"\",'Process and CMS Information'!C205)","v":""},{"$f":"IF('Process and CMS Information'!F205=\"\",\"\",'Process and CMS Information'!F205)","v":""},"",{"$f":"IF(COUNTIF(AY$2:AY183,AY183)=1,AY183,\"\")","v":""},"","","",""]
[null,null,null,null,null,null,null,null,null,null,null,null,null,null,null,null,null,null,null,null,null,null,null,null,null,null,{"$f":"+IF(AF184=\"\",\"\",MAX(AA$1:AA183)+1)","v":""},{"$f":"IF('Excess Emissions'!B206=\"\",\"\",'Excess Emissions'!B206)","v":""},{"$f":"IF('Excess Emissions'!C206=\"\",\"\",'Excess Emissions'!C206)","v":""},{"$f":"IF('Excess Emissions'!D206=\"\",\"\",'Excess Emissions'!D206)","v":""},"",{"$f":"IF(COUNTIF(AE$2:AE184,AE184)=1,AC184,\"\")","v":""},"","","",null,{"$f":"+IF(AP184=\"\",\"\",MAX(AK$1:AK183)+1)","v":""},{"$f":"IF('CMS Downtime Detail'!B206=\"\",\"\",'CMS Downtime Detail'!B206)","v":""},{"$f":"IF('CMS Downtime Detail'!C206=\"\",\"\",'CMS Downtime Detail'!C206)","v":""},{"$f":"IF('CMS Downtime Detail'!D206=\"\",\"\",'CMS Downtime Detail'!D206)","v":""},"",{"$f":"IF(COUNTIF(AO$2:AO184,AO184)=1,AM184,\"\")","v":""},"","","",null,{"$f":"+IF(AZ184=\"\",\"\",MAX(AU$1:AU183)+1)","v":""},{"$f":"IF('Process and CMS Information'!B206=\"\",\"\",'Process and CMS Information'!B206)","v":""},{"$f":"IF('Process and CMS Information'!C206=\"\",\"\",'Process and CMS Information'!C206)","v":""},{"$f":"IF('Process and CMS Information'!F206=\"\",\"\",'Process and CMS Information'!F206)","v":""},"",{"$f":"IF(COUNTIF(AY$2:AY184,AY184)=1,AY184,\"\")","v":""},"","","",""]
[null,null,null,null,null,null,null,null,null,null,null,null,null,null,null,null,null,null,null,null,null,null,null,null,null,null,{"$f":"+IF(AF185=\"\",\"\",MAX(AA$1:AA184)+1)","v":""},{"$f":"IF('Excess Emissions'!B207=\"\",\"\",'Excess Emissions'!B207)","v":""},{"$f":"IF('Excess Emissions'!C207=\"\",\"\",'Excess Emissions'!C207)","v":""},{"$f":"IF('Excess Emissions'!D207=\"\",\"\",'Excess Emissions'!D207)","v":""},"",{"$f":"IF(COUNTIF(AE$2:AE185,AE185)=1,AC185,\"\")","v":""},"","","",null,{"$f":"+IF(AP185=\"\",\"\",MAX(AK$1:AK184)+1)","v":""},{"$f":"IF('CMS Downtime Detail'!B207=\"\",\"\",'CMS Downtime Detail'!B207)","v":""},{"$f":"IF('CMS Downtime Detail'!C207=\"\",\"\",'CMS Downtime Detail'!C207)","v":""},{"$f":"IF('CMS Downtime Detail'!D207=\"\",\"\",'CMS Downtime Detail'!D207)","v":""},"",{"$f":"IF(COUNTIF(AO$2:AO185,AO185)=1,AM185,\"\")","v":""},"","","",null,{"$f":"+IF(AZ185=\"\",\"\",MAX(AU$1:AU184)+1)","v":""},{"$f":"IF('Process and CMS Information'!B207=\"\",\"\",'Process and CMS Information'!B207)","v":""},{"$f":"IF('Process and CMS Information'!C207=\"\",\"\",'Process and CMS Information'!C207)","v":""},{"$f":"IF('Process and CMS Information'!F207=\"\",\"\",'Process and CMS Information'!F207)","v":""},"",{"$f":"IF(COUNTIF(AY$2:AY185,AY185)=1,AY185,\"\")","v":""},"","","",""]
[null,null,null,null,null,null,null,null,null,null,null,null,null,null,null,null,null,null,null,null,null,null,null,null,null,null,{"$f":"+IF(AF186=\"\",\"\",MAX(AA$1:AA185)+1)","v":""},{"$f":"IF('Excess Emissions'!B208=\"\",\"\",'Excess Emissions'!B208)","v":""},{"$f":"IF('Excess Emissions'!C208=\"\",\"\",'Excess Emissions'!C208)","v":""},{"$f":"IF('Excess Emissions'!D208=\"\",\"\",'Excess Emissions'!D208)","v":""},"",{"$f":"IF(COUNTIF(AE$2:AE186,AE186)=1,AC186,\"\")","v":""},"","","",null,{"$f":"+IF(AP186=\"\",\"\",MAX(AK$1:AK185)+1)","v":""},{"$f":"IF('CMS Downtime Detail'!B208=\"\",\"\",'CMS Downtime Detail'!B208)","v":""},{"$f":"IF('CMS Downtime Detail'!C208=\"\",\"\",'CMS Downtime Detail'!C208)","v":""},{"$f":"IF('CMS Downtime Detail'!D208=\"\",\"\",'CMS Downtime Detail'!D208)","v":""},"",{"$f":"IF(COUNTIF(AO$2:AO186,AO186)=1,AM186,\"\")","v":""},"","","",null,{"$f":"+IF(AZ186=\"\",\"\",MAX(AU$1:AU185)+1)","v":""},{"$f":"IF('Process and CMS Information'!B208=\"\",\"\",'Process and CMS Information'!B208)","v":""},{"$f":"IF('Process and CMS Information'!C208=\"\",\"\",'Process and CMS Information'!C208)","v":""},{"$f":"IF('Process and CMS Information'!F208=\"\",\"\",'Process and CMS Information'!F208)","v":""},"",{"$f":"IF(COUNTIF(AY$2:AY186,AY186)=1,AY186,\"\")","v":""},"","","",""]
[null,null,null,null,null,null,null,null,null,null,null,null,null,null,null,null,null,null,null,null,null,null,null,null,null,null,{"$f":"+IF(AF187=\"\",\"\",MAX(AA$1:AA186)+1)","v":""},{"$f":"IF('Excess Emissions'!B209=\"\",\"\",'Excess Emissions'!B209)","v":""},{"$f":"IF('Excess Emissions'!C209=\"\",\"\",'Excess Emissions'!C209)","v":""},{"$f":"IF('Excess Emissions'!D209=\"\",\"\",'Excess Emissions'!D209)","v":""},"",{"$f":"IF(COUNTIF(AE$2:AE187,AE187)=1,AC187,\"\")","v":""},"","","",null,{"$f":"+IF(AP187=\"\",\"\",MAX(AK$1:AK186)+1)","v":""},{"$f":"IF('CMS Downtime Detail'!B209=\"\",\"\",'CMS Downtime Detail'!B209)","v":""},{"$f":"IF('CMS Downtime Detail'!C209=\"\",\"\",'CMS Downtime Detail'!C209)","v":""},{"$f":"IF('CMS Downtime Detail'!D209=\"\",\"\",'CMS Downtime Detail'!D209)","v":""},"",{"$f":"IF(COUNTIF(AO$2:AO187,AO187)=1,AM187,\"\")","v":""},"","","",null,{"$f":"+IF(AZ187=\"\",\"\",MAX(AU$1:AU186)+1)","v":""},{"$f":"IF('Process and CMS Information'!B209=\"\",\"\",'Process and CMS Information'!B209)","v":""},{"$f":"IF('Process and CMS Information'!C209=\"\",\"\",'Process and CMS Information'!C209)","v":""},{"$f":"IF('Process and CMS Information'!F209=\"\",\"\",'Process and CMS Information'!F209)","v":""},"",{"$f":"IF(COUNTIF(AY$2:AY187,AY187)=1,AY187,\"\")","v":""},"","","",""]
[null,null,null,null,null,null,null,null,null,null,null,null,null,null,null,null,null,null,null,null,null,null,null,null,null,null,{"$f":"+IF(AF188=\"\",\"\",MAX(AA$1:AA187)+1)","v":""},{"$f":"IF('Excess Emissions'!B210=\"\",\"\",'Excess Emissions'!B210)","v":""},{"$f":"IF('Excess Emissions'!C210=\"\",\"\",'Excess Emissions'!C210)","v":""},{"$f":"IF('Excess Emissions'!D210=\"\",\"\",'Excess Emissions'!D210)","v":""},"",{"$f":"IF(COUNTIF(AE$2:AE188,AE188)=1,AC188,\"\")","v":""},"","","",null,{"$f":"+IF(AP188=\"\",\"\",MAX(AK$1:AK187)+1)","v":""},{"$f":"IF('CMS Downtime Detail'!B210=\"\",\"\",'CMS Downtime Detail'!B210)","v":""},{"$f":"IF('CMS Downtime Detail'!C210=\"\",\"\",'CMS Downtime Detail'!C210)","v":""},{"$f":"IF('CMS Downtime Detail'!D210=\"\",\"\",'CMS Downtime Detail'!D210)","v":""},"",{"$f":"IF(COUNTIF(AO$2:AO188,AO188)=1,AM188,\"\")","v":""},"","","",null,{"$f":"+IF(AZ188=\"\",\"\",MAX(AU$1:AU187)+1)","v":""},{"$f":"IF('Process and CMS Information'!B210=\"\",\"\",'Process and CMS Information'!B210)","v":""},{"$f":"IF('Process and CMS Information'!C210=\"\",\"\",'Process and CMS Information'!C210)","v":""},{"$f":"IF('Process and CMS Information'!F210=\"\",\"\",'Process and CMS Information'!F210)","v":""},"",{"$f":"IF(COUNTIF(AY$2:AY188,AY188)=1,AY188,\"\")","v":""},"","","",""]
[null,null,null,null,null,null,null,null,null,null,null,null,null,null,null,null,null,null,null,null,null,null,null,null,null,null,{"$f":"+IF(AF189=\"\",\"\",MAX(AA$1:AA188)+1)","v":""},{"$f":"IF('Excess Emissions'!B211=\"\",\"\",'Excess Emissions'!B211)","v":""},{"$f":"IF('Excess Emissions'!C211=\"\",\"\",'Excess Emissions'!C211)","v":""},{"$f":"IF('Excess Emissions'!D211=\"\",\"\",'Excess Emissions'!D211)","v":""},"",{"$f":"IF(COUNTIF(AE$2:AE189,AE189)=1,AC189,\"\")","v":""},"","","",null,{"$f":"+IF(AP189=\"\",\"\",MAX(AK$1:AK188)+1)","v":""},{"$f":"IF('CMS Downtime Detail'!B211=\"\",\"\",'CMS Downtime Detail'!B211)","v":""},{"$f":"IF('CMS Downtime Detail'!C211=\"\",\"\",'CMS Downtime Detail'!C211)","v":""},{"$f":"IF('CMS Downtime Detail'!D211=\"\",\"\",'CMS Downtime Detail'!D211)","v":""},"",{"$f":"IF(COUNTIF(AO$2:AO189,AO189)=1,AM189,\"\")","v":""},"","","",null,{"$f":"+IF(AZ189=\"\",\"\",MAX(AU$1:AU188)+1)","v":""},{"$f":"IF('Process and CMS Information'!B211=\"\",\"\",'Process and CMS Information'!B211)","v":""},{"$f":"IF('Process and CMS Information'!C211=\"\",\"\",'Process and CMS Information'!C211)","v":""},{"$f":"IF('Process and CMS Information'!F211=\"\",\"\",'Process and CMS Information'!F211)","v":""},"",{"$f":"IF(COUNTIF(AY$2:AY189,AY189)=1,AY189,\"\")","v":""},"","","",""]
[null,null,null,null,null,null,null,null,null,null,null,null,null,null,null,null,null,null,null,null,null,null,null,null,null,null,{"$f":"+IF(AF190=\"\",\"\",MAX(AA$1:AA189)+1)","v":""},{"$f":"IF('Excess Emissions'!B212=\"\",\"\",'Excess Emissions'!B212)","v":""},{"$f":"IF('Excess Emissions'!C212=\"\",\"\",'Excess Emissions'!C212)","v":""},{"$f":"IF('Excess Emissions'!D212=\"\",\"\",'Excess Emissions'!D212)","v":""},"",{"$f":"IF(COUNTIF(AE$2:AE190,AE190)=1,AC190,\"\")","v":""},"","","",null,{"$f":"+IF(AP190=\"\",\"\",MAX(AK$1:AK189)+1)","v":""},{"$f":"IF('CMS Downtime Detail'!B212=\"\",\"\",'CMS Downtime Detail'!B212)","v":""},{"$f":"IF('CMS Downtime Detail'!C212=\"\",\"\",'CMS Downtime Detail'!C212)","v":""},{"$f":"IF('CMS Downtime Detail'!D212=\"\",\"\",'CMS Downtime Detail'!D212)","v":""},"",{"$f":"IF(COUNTIF(AO$2:AO190,AO190)=1,AM190,\"\")","v":""},"","","",null,{"$f":"+IF(AZ190=\"\",\"\",MAX(AU$1:AU189)+1)","v":""},{"$f":"IF('Process and CMS Information'!B212=\"\",\"\",'Process and CMS Information'!B212)","v":""},{"$f":"IF('Process and CMS Information'!C212=\"\",\"\",'Process and CMS Information'!C212)","v":""},{"$f":"IF('Process and CMS Information'!F212=\"\",\"\",'Process and CMS Information'!F212)","v":""},"",{"$f":"IF(COUNTIF(AY$2:AY190,AY190)=1,AY190,\"\")","v":""},"","","",""]
[null,null,null,null,null,null,null,null,null,null,null,null,null,null,null,null,null,null,null,null,null,null,null,null,null,null,{"$f":"+IF(AF191=\"\",\"\",MAX(AA$1:AA190)+1)","v":""},{"$f":"IF('Excess Emissions'!B213=\"\",\"\",'Excess Emissions'!B213)","v":""},{"$f":"IF('Excess Emissions'!C213=\"\",\"\",'Excess Emissions'!C213)","v":""},{"$f":"IF('Excess Emissions'!D213=\"\",\"\",'Excess Emissions'!D213)","v":""},"",{"$f":"IF(COUNTIF(AE$2:AE191,AE191)=1,AC191,\"\")","v":""},"","","",null,{"$f":"+IF(AP191=\"\",\"\",MAX(AK$1:AK190)+1)","v":""},{"$f":"IF('CMS Downtime Detail'!B213=\"\",\"\",'CMS Downtime Detail'!B213)","v":""},{"$f":"IF('CMS Downtime Detail'!C213=\"\",\"\",'CMS Downtime Detail'!C213)","v":""},{"$f":"IF('CMS Downtime Detail'!D213=\"\",\"\",'CMS Downtime Detail'!D213)","v":""},"",{"$f":"IF(COUNTIF(AO$2:AO191,AO191)=1,AM191,\"\")","v":""},"","","",null,{"$f":"+IF(AZ191=\"\",\"\",MAX(AU$1:AU190)+1)","v":""},{"$f":"IF('Process and CMS Information'!B213=\"\",\"\",'Process and CMS Information'!B213)","v":""},{"$f":"IF('Process and CMS Information'!C213=\"\",\"\",'Process and CMS Information'!C213)","v":""},{"$f":"IF('Process and CMS Information'!F213=\"\",\"\",'Process and CMS Information'!F213)","v":""},"",{"$f":"IF(COUNTIF(AY$2:AY191,AY191)=1,AY191,\"\")","v":""},"","","",""]
[null,null,null,null,null,null,null,null,null,null,null,null,null,null,null,null,null,null,null,null,null,null,null,null,null,null,{"$f":"+IF(AF192=\"\",\"\",MAX(AA$1:AA191)+1)","v":""},{"$f":"IF('Excess Emissions'!B214=\"\",\"\",'Excess Emissions'!B214)","v":""},{"$f":"IF('Excess Emissions'!C214=\"\",\"\",'Excess Emissions'!C214)","v":""},{"$f":"IF('Excess Emissions'!D214=\"\",\"\",'Excess Emissions'!D214)","v":""},"",{"$f":"IF(COUNTIF(AE$2:AE192,AE192)=1,AC192,\"\")","v":""},"","","",null,{"$f":"+IF(AP192=\"\",\"\",MAX(AK$1:AK191)+1)","v":""},{"$f":"IF('CMS Downtime Detail'!B214=\"\",\"\",'CMS Downtime Detail'!B214)","v":""},{"$f":"IF('CMS Downtime Detail'!C214=\"\",\"\",'CMS Downtime Detail'!C214)","v":""},{"$f":"IF('CMS Downtime Detail'!D214=\"\",\"\",'CMS Downtime Detail'!D214)","v":""},"",{"$f":"IF(COUNTIF(AO$2:AO192,AO192)=1,AM192,\"\")","v":""},"","","",null,{"$f":"+IF(AZ192=\"\",\"\",MAX(AU$1:AU191)+1)","v":""},{"$f":"IF('Process and CMS Information'!B214=\"\",\"\",'Process and CMS Information'!B214)","v":""},{"$f":"IF('Process and CMS Information'!C214=\"\",\"\",'Process and CMS Information'!C214)","v":""},{"$f":"IF('Process and CMS Information'!F214=\"\",\"\",'Process and CMS Information'!F214)","v":""},"",{"$f":"IF(COUNTIF(AY$2:AY192,AY192)=1,AY192,\"\")","v":""},"","","",""]
[null,null,null,null,null,null,null,null,null,null,null,null,null,null,null,null,null,null,null,null,null,null,null,null,null,null,{"$f":"+IF(AF193=\"\",\"\",MAX(AA$1:AA192)+1)","v":""},{"$f":"IF('Excess Emissions'!B215=\"\",\"\",'Excess Emissions'!B215)","v":""},{"$f":"IF('Excess Emissions'!C215=\"\",\"\",'Excess Emissions'!C215)","v":""},{"$f":"IF('Excess Emissions'!D215=\"\",\"\",'Excess Emissions'!D215)","v":""},"",{"$f":"IF(COUNTIF(AE$2:AE193,AE193)=1,AC193,\"\")","v":""},"","","",null,{"$f":"+IF(AP193=\"\",\"\",MAX(AK$1:AK192)+1)","v":""},{"$f":"IF('CMS Downtime Detail'!B215=\"\",\"\",'CMS Downtime Detail'!B215)","v":""},{"$f":"IF('CMS Downtime Detail'!C215=\"\",\"\",'CMS Downtime Detail'!C215)","v":""},{"$f":"IF('CMS Downtime Detail'!D215=\"\",\"\",'CMS Downtime Detail'!D215)","v":""},"",{"$f":"IF(COUNTIF(AO$2:AO193,AO193)=1,AM193,\"\")","v":""},"","","",null,{"$f":"+IF(AZ193=\"\",\"\",MAX(AU$1:AU192)+1)","v":""},{"$f":"IF('Process and CMS Information'!B215=\"\",\"\",'Process and CMS Information'!B215)","v":""},{"$f":"IF('Process and CMS Information'!C215=\"\",\"\",'Process and CMS Information'!C215)","v":""},{"$f":"IF('Process and CMS Information'!F215=\"\",\"\",'Process and CMS Information'!F215)","v":""},"",{"$f":"IF(COUNTIF(AY$2:AY193,AY193)=1,AY193,\"\")","v":""},"","","",""]
[null,null,null,null,null,null,null,null,null,null,null,null,null,null,null,null,null,null,null,null,null,null,null,null,null,null,{"$f":"+IF(AF194=\"\",\"\",MAX(AA$1:AA193)+1)","v":""},{"$f":"IF('Excess Emissions'!B216=\"\",\"\",'Excess Emissions'!B216)","v":""},{"$f":"IF('Excess Emissions'!C216=\"\",\"\",'Excess Emissions'!C216)","v":""},{"$f":"IF('Excess Emissions'!D216=\"\",\"\",'Excess Emissions'!D216)","v":""},"",{"$f":"IF(COUNTIF(AE$2:AE194,AE194)=1,AC194,\"\")","v":""},"","","",null,{"$f":"+IF(AP194=\"\",\"\",MAX(AK$1:AK193)+1)","v":""},{"$f":"IF('CMS Downtime Detail'!B216=\"\",\"\",'CMS Downtime Detail'!B216)","v":""},{"$f":"IF('CMS Downtime Detail'!C216=\"\",\"\",'CMS Downtime Detail'!C216)","v":""},{"$f":"IF('CMS Downtime Detail'!D216=\"\",\"\",'CMS Downtime Detail'!D216)","v":""},"",{"$f":"IF(COUNTIF(AO$2:AO194,AO194)=1,AM194,\"\")","v":""},"","","",null,{"$f":"+IF(AZ194=\"\",\"\",MAX(AU$1:AU193)+1)","v":""},{"$f":"IF('Process and CMS Information'!B216=\"\",\"\",'Process and CMS Information'!B216)","v":""},{"$f":"IF('Process and CMS Information'!C216=\"\",\"\",'Process and CMS Information'!C216)","v":""},{"$f":"IF('Process and CMS Information'!F216=\"\",\"\",'Process and CMS Information'!F216)","v":""},"",{"$f":"IF(COUNTIF(AY$2:AY194,AY194)=1,AY194,\"\")","v":""},"","","",""]
[null,null,null,null,null,null,null,null,null,null,null,null,null,null,null,null,null,null,null,null,null,null,null,null,null,null,{"$f":"+IF(AF195=\"\",\"\",MAX(AA$1:AA194)+1)","v":""},{"$f":"IF('Excess Emissions'!B217=\"\",\"\",'Excess Emissions'!B217)","v":""},{"$f":"IF('Excess Emissions'!C217=\"\",\"\",'Excess Emissions'!C217)","v":""},{"$f":"IF('Excess Emissions'!D217=\"\",\"\",'Excess Emissions'!D217)","v":""},{"$f":"AB195&AC195&AD195","v":""},{"$f":"IF(COUNTIF(AE$2:AE195,AE195)=1,AC195,\"\")","v":""},{"$f":"+IFERROR(INDEX(AB$2:AB$500,MATCH(ROW()-ROW($AF$1),$AA$2:$AA$500,0)),\"\")","v":""},{"$f":"+IFERROR(INDEX(AC$2:AC$500,MATCH(ROW()-ROW($AF$1),$AA$2:$AA$500,0)),\"\")","v":""},{"$f":"+IFERROR(INDEX(AD$2:AD$500,MATCH(ROW()-ROW($AF$1),$AA$2:$AA$500,0)),\"\")","v":""},null,{"$f":"+IF(AP195=\"\",\"\",MAX(AK$1:AK194)+1)","v":""},{"$f":"IF('CMS Downtime Detail'!B217=\"\",\"\",'CMS Downtime Detail'!B217)","v":""},{"$f":"IF('CMS Downtime Detail'!C217=\"\",\"\",'CMS Downtime Detail'!C217)","v":""},{"$f":"IF('CMS Downtime Detail'!D217=\"\",\"\",'CMS Downtime Detail'!D217)","v":""},{"$f":"AL195&AM195&AN195","v":""},{"$f":"IF(COUNTIF(AO$2:AO195,AO195)=1,AM195,\"\")","v":""},{"$f":"+IFERROR(INDEX(AL$2:AL$500,MATCH(ROW()-ROW($AP$1),$AK$2:$AK$500,0)),\"\")","v":""},{"$f":"+IFERROR(INDEX(AM$2:AM$500,MATCH(ROW()-ROW($AP$1),$AK$2:$AK$500,0)),\"\")","v":""},{"$f":"+IFERROR(INDEX(AN$2:AN$500,MATCH(ROW()-ROW($AP$1),$AK$2:$AK$500,0)),\"\")","v":""},null,{"$f":"+IF(AZ195=\"\",\"\",MAX(AU$1:AU194)+1)","v":""},{"$f":"IF('Process and CMS Information'!B217=\"\",\"\",'Process and CMS Information'!B217)","v":""},{"$f":"IF('Process and CMS Information'!C217=\"\",\"\",'Process and CMS Information'!C217)","v":""},{"$f":"IF('Process and CMS Information'!F217=\"\",\"\",'Process and CMS Information'!F217)","v":""},{"$f":"AV195&AW195","v":""},{"$f":"IF(COUNTIF(AY$2:AY195,AY195)=1,AY195,\"\")","v":""},{"$f":"+IFERROR(INDEX(AY$2:AY$500,MATCH(ROW()-ROW($AZ$1),$AU$2:$AU$500,0)),\"\")","v":""},{"$f":"+IFERROR(INDEX(AV$2:AV$500,MATCH(ROW()-ROW($AZ$1),$AU$2:$AU$500,0)),\"\")","v":""},{"$f":"+IFERROR(INDEX(AW$2:AW$500,MATCH(ROW()-ROW($AZ$1),$AU$2:$AU$500,0)),\"\")","v":""},{"$f":"+IFERROR(INDEX(AX$2:AX$500,MATCH(ROW()-ROW($AZ$1),$AU$2:$AU$500,0)),\"\")","v":""}]
[null,null,null,null,null,null,null,null,null,null,null,null,null,null,null,null,null,null,null,null,null,null,null,null,null,null,{"$f":"+IF(AF196=\"\",\"\",MAX(AA$1:AA195)+1)","v":""},{"$f":"IF('Excess Emissions'!B218=\"\",\"\",'Excess Emissions'!B218)","v":""},{"$f":"IF('Excess Emissions'!C218=\"\",\"\",'Excess Emissions'!C218)","v":""},{"$f":"IF('Excess Emissions'!D218=\"\",\"\",'Excess Emissions'!D218)","v":""},"",{"$f":"IF(COUNTIF(AE$2:AE196,AE196)=1,AC196,\"\")","v":""},"","","",null,{"$f":"+IF(AP196=\"\",\"\",MAX(AK$1:AK195)+1)","v":""},{"$f":"IF('CMS Downtime Detail'!B218=\"\",\"\",'CMS Downtime Detail'!B218)","v":""},{"$f":"IF('CMS Downtime Detail'!C218=\"\",\"\",'CMS Downtime Detail'!C218)","v":""},{"$f":"IF('CMS Downtime Detail'!D218=\"\",\"\",'CMS Downtime Detail'!D218)","v":""},"",{"$f":"IF(COUNTIF(AO$2:AO196,AO196)=1,AM196,\"\")","v":""},"","","",null,{"$f":"+IF(AZ196=\"\",\"\",MAX(AU$1:AU195)+1)","v":""},{"$f":"IF('Process and CMS Information'!B218=\"\",\"\",'Process and CMS Information'!B218)","v":""},{"$f":"IF('Process and CMS Information'!C218=\"\",\"\",'Process and CMS Information'!C218)","v":""},{"$f":"IF('Process and CMS Information'!F218=\"\",\"\",'Process and CMS Information'!F218)","v":""},"",{"$f":"IF(COUNTIF(AY$2:AY196,AY196)=1,AY196,\"\")","v":""},"","","",""]
[null,null,null,null,null,null,null,null,null,null,null,null,null,null,null,null,null,null,null,null,null,null,null,null,null,null,{"$f":"+IF(AF197=\"\",\"\",MAX(AA$1:AA196)+1)","v":""},{"$f":"IF('Excess Emissions'!B219=\"\",\"\",'Excess Emissions'!B219)","v":""},{"$f":"IF('Excess Emissions'!C219=\"\",\"\",'Excess Emissions'!C219)","v":""},{"$f":"IF('Excess Emissions'!D219=\"\",\"\",'Excess Emissions'!D219)","v":""},"",{"$f":"IF(COUNTIF(AE$2:AE197,AE197)=1,AC197,\"\")","v":""},"","","",null,{"$f":"+IF(AP197=\"\",\"\",MAX(AK$1:AK196)+1)","v":""},{"$f":"IF('CMS Downtime Detail'!B219=\"\",\"\",'CMS Downtime Detail'!B219)","v":""},{"$f":"IF('CMS Downtime Detail'!C219=\"\",\"\",'CMS Downtime Detail'!C219)","v":""},{"$f":"IF('CMS Downtime Detail'!D219=\"\",\"\",'CMS Downtime Detail'!D219)","v":""},"",{"$f":"IF(COUNTIF(AO$2:AO197,AO197)=1,AM197,\"\")","v":""},"","","",null,{"$f":"+IF(AZ197=\"\",\"\",MAX(AU$1:AU196)+1)","v":""},{"$f":"IF('Process and CMS Information'!B219=\"\",\"\",'Process and CMS Information'!B219)","v":""},{"$f":"IF('Process and CMS Information'!C219=\"\",\"\",'Process and CMS Information'!C219)","v":""},{"$f":"IF('Process and CMS Information'!F219=\"\",\"\",'Process and CMS Information'!F219)","v":""},"",{"$f":"IF(COUNTIF(AY$2:AY197,AY197)=1,AY197,\"\")","v":""},"","","",""]
[null,null,null,null,null,null,null,null,null,null,null,null,null,null,null,null,null,null,null,null,null,null,null,null,null,null,{"$f":"+IF(AF198=\"\",\"\",MAX(AA$1:AA197)+1)","v":""},{"$f":"IF('Excess Emissions'!B220=\"\",\"\",'Excess Emissions'!B220)","v":""},{"$f":"IF('Excess Emissions'!C220=\"\",\"\",'Excess Emissions'!C220)","v":""},{"$f":"IF('Excess Emissions'!D220=\"\",\"\",'Excess Emissions'!D220)","v":""},"",{"$f":"IF(COUNTIF(AE$2:AE198,AE198)=1,AC198,\"\")","v":""},"","","",null,{"$f":"+IF(AP198=\"\",\"\",MAX(AK$1:AK197)+1)","v":""},{"$f":"IF('CMS Downtime Detail'!B220=\"\",\"\",'CMS Downtime Detail'!B220)","v":""},{"$f":"IF('CMS Downtime Detail'!C220=\"\",\"\",'CMS Downtime Detail'!C220)","v":""},{"$f":"IF('CMS Downtime Detail'!D220=\"\",\"\",'CMS Downtime Detail'!D220)","v":""},"",{"$f":"IF(COUNTIF(AO$2:AO198,AO198)=1,AM198,\"\")","v":""},"","","",null,{"$f":"+IF(AZ198=\"\",\"\",MAX(AU$1:AU197)+1)","v":""},{"$f":"IF('Process and CMS Information'!B220=\"\",\"\",'Process and CMS Information'!B220)","v":""},{"$f":"IF('Process and CMS Information'!C220=\"\",\"\",'Process and CMS Information'!C220)","v":""},{"$f":"IF('Process and CMS Information'!F220=\"\",\"\",'Process and CMS Information'!F220)","v":""},"",{"$f":"IF(COUNTIF(AY$2:AY198,AY198)=1,AY198,\"\")","v":""},"","","",""]
[null,null,null,null,null,null,null,null,null,null,null,null,null,null,null,null,null,null,null,null,null,null,null,null,null,null,{"$f":"+IF(AF199=\"\",\"\",MAX(AA$1:AA198)+1)","v":""},{"$f":"IF('Excess Emissions'!B221=\"\",\"\",'Excess Emissions'!B221)","v":""},{"$f":"IF('Excess Emissions'!C221=\"\",\"\",'Excess Emissions'!C221)","v":""},{"$f":"IF('Excess Emissions'!D221=\"\",\"\",'Excess Emissions'!D221)","v":""},"",{"$f":"IF(COUNTIF(AE$2:AE199,AE199)=1,AC199,\"\")","v":""},"","","",null,{"$f":"+IF(AP199=\"\",\"\",MAX(AK$1:AK198)+1)","v":""},{"$f":"IF('CMS Downtime Detail'!B221=\"\",\"\",'CMS Downtime Detail'!B221)","v":""},{"$f":"IF('CMS Downtime Detail'!C221=\"\",\"\",'CMS Downtime Detail'!C221)","v":""},{"$f":"IF('CMS Downtime Detail'!D221=\"\",\"\",'CMS Downtime Detail'!D221)","v":""},"",{"$f":"IF(COUNTIF(AO$2:AO199,AO199)=1,AM199,\"\")","v":""},"","","",null,{"$f":"+IF(AZ199=\"\",\"\",MAX(AU$1:AU198)+1)","v":""},{"$f":"IF('Process and CMS Information'!B221=\"\",\"\",'Process and CMS Information'!B221)","v":""},{"$f":"IF('Process and CMS Information'!C221=\"\",\"\",'Process and CMS Information'!C221)","v":""},{"$f":"IF('Process and CMS Information'!F221=\"\",\"\",'Process and CMS Information'!F221)","v":""},"",{"$f":"IF(COUNTIF(AY$2:AY199,AY199)=1,AY199,\"\")","v":""},"","","",""]
[null,null,null,null,null,null,null,null,null,null,null,null,null,null,null,null,null,null,null,null,null,null,null,null,null,null,{"$f":"+IF(AF200=\"\",\"\",MAX(AA$1:AA199)+1)","v":""},{"$f":"IF('Excess Emissions'!B222=\"\",\"\",'Excess Emissions'!B222)","v":""},{"$f":"IF('Excess Emissions'!C222=\"\",\"\",'Excess Emissions'!C222)","v":""},{"$f":"IF('Excess Emissions'!D222=\"\",\"\",'Excess Emissions'!D222)","v":""},"",{"$f":"IF(COUNTIF(AE$2:AE200,AE200)=1,AC200,\"\")","v":""},"","","",null,{"$f":"+IF(AP200=\"\",\"\",MAX(AK$1:AK199)+1)","v":""},{"$f":"IF('CMS Downtime Detail'!B222=\"\",\"\",'CMS Downtime Detail'!B222)","v":""},{"$f":"IF('CMS Downtime Detail'!C222=\"\",\"\",'CMS Downtime Detail'!C222)","v":""},{"$f":"IF('CMS Downtime Detail'!D222=\"\",\"\",'CMS Downtime Detail'!D222)","v":""},"",{"$f":"IF(COUNTIF(AO$2:AO200,AO200)=1,AM200,\"\")","v":""},"","","",null,{"$f":"+IF(AZ200=\"\",\"\",MAX(AU$1:AU199)+1)","v":""},{"$f":"IF('Process and CMS Information'!B222=\"\",\"\",'Process and CMS Information'!B222)","v":""},{"$f":"IF('Process and CMS Information'!C222=\"\",\"\",'Process and CMS Information'!C222)","v":""},{"$f":"IF('Process and CMS Information'!F222=\"\",\"\",'Process and CMS Information'!F222)","v":""},"",{"$f":"IF(COUNTIF(AY$2:AY200,AY200)=1,AY200,\"\")","v":""},"","","",""]
[null,null,null,null,null,null,null,null,null,null,null,null,null,null,null,null,null,null,null,null,null,null,null,null,null,null,{"$f":"+IF(AF201=\"\",\"\",MAX(AA$1:AA200)+1)","v":""},{"$f":"IF('Excess Emissions'!B223=\"\",\"\",'Excess Emissions'!B223)","v":""},{"$f":"IF('Excess Emissions'!C223=\"\",\"\",'Excess Emissions'!C223)","v":""},{"$f":"IF('Excess Emissions'!D223=\"\",\"\",'Excess Emissions'!D223)","v":""},"",{"$f":"IF(COUNTIF(AE$2:AE201,AE201)=1,AC201,\"\")","v":""},"","","",null,{"$f":"+IF(AP201=\"\",\"\",MAX(AK$1:AK200)+1)","v":""},{"$f":"IF('CMS Downtime Detail'!B223=\"\",\"\",'CMS Downtime Detail'!B223)","v":""},{"$f":"IF('CMS Downtime Detail'!C223=\"\",\"\",'CMS Downtime Detail'!C223)","v":""},{"$f":"IF('CMS Downtime Detail'!D223=\"\",\"\",'CMS Downtime Detail'!D223)","v":""},"",{"$f":"IF(COUNTIF(AO$2:AO201,AO201)=1,AM201,\"\")","v":""},"","","",null,{"$f":"+IF(AZ201=\"\",\"\",MAX(AU$1:AU200)+1)","v":""},{"$f":"IF('Process and CMS Information'!B223=\"\",\"\",'Process and CMS Information'!B223)","v":""},{"$f":"IF('Process and CMS Information'!C223=\"\",\"\",'Process and CMS Information'!C223)","v":""},{"$f":"IF('Process and CMS Information'!F223=\"\",\"\",'Process and CMS Information'!F223)","v":""},"",{"$f":"IF(COUNTIF(AY$2:AY201,AY201)=1,AY201,\"\")","v":""},"","","",""]
[null,null,null,null,null,null,null,null,null,null,null,null,null,null,null,null,null,null,null,null,null,null,null,null,null,null,{"$f":"+IF(AF202=\"\",\"\",MAX(AA$1:AA201)+1)","v":""},{"$f":"IF('Excess Emissions'!B224=\"\",\"\",'Excess Emissions'!B224)","v":""},{"$f":"IF('Excess Emissions'!C224=\"\",\"\",'Excess Emissions'!C224)","v":""},{"$f":"IF('Excess Emissions'!D224=\"\",\"\",'Excess Emissions'!D224)","v":""},"",{"$f":"IF(COUNTIF(AE$2:AE202,AE202)=1,AC202,\"\")","v":""},"","","",null,{"$f":"+IF(AP202=\"\",\"\",MAX(AK$1:AK201)+1)","v":""},{"$f":"IF('CMS Downtime Detail'!B224=\"\",\"\",'CMS Downtime Detail'!B224)","v":""},{"$f":"IF('CMS Downtime Detail'!C224=\"\",\"\",'CMS Downtime Detail'!C224)","v":""},{"$f":"IF('CMS Downtime Detail'!D224=\"\",\"\",'CMS Downtime Detail'!D224)","v":""},"",{"$f":"IF(COUNTIF(AO$2:AO202,AO202)=1,AM202,\"\")","v":""},"","","",null,{"$f":"+IF(AZ202=\"\",\"\",MAX(AU$1:AU201)+1)","v":""},{"$f":"IF('Process and CMS Information'!B224=\"\",\"\",'Process and CMS Information'!B224)","v":""},{"$f":"IF('Process and CMS Information'!C224=\"\",\"\",'Process and CMS Information'!C224)","v":""},{"$f":"IF('Process and CMS Information'!F224=\"\",\"\",'Process and CMS Information'!F224)","v":""},"",{"$f":"IF(COUNTIF(AY$2:AY202,AY202)=1,AY202,\"\")","v":""},"","","",""]
[null,null,null,null,null,null,null,null,null,null,null,null,null,null,null,null,null,null,null,null,null,null,null,null,null,null,{"$f":"+IF(AF203=\"\",\"\",MAX(AA$1:AA202)+1)","v":""},{"$f":"IF('Excess Emissions'!B225=\"\",\"\",'Excess Emissions'!B225)","v":""},{"$f":"IF('Excess Emissions'!C225=\"\",\"\",'Excess Emissions'!C225)","v":""},{"$f":"IF('Excess Emissions'!D225=\"\",\"\",'Excess Emissions'!D225)","v":""},"",{"$f":"IF(COUNTIF(AE$2:AE203,AE203)=1,AC203,\"\")","v":""},"","","",null,{"$f":"+IF(AP203=\"\",\"\",MAX(AK$1:AK202)+1)","v":""},{"$f":"IF('CMS Downtime Detail'!B225=\"\",\"\",'CMS Downtime Detail'!B225)","v":""},{"$f":"IF('CMS Downtime Detail'!C225=\"\",\"\",'CMS Downtime Detail'!C225)","v":""},{"$f":"IF('CMS Downtime Detail'!D225=\"\",\"\",'CMS Downtime Detail'!D225)","v":""},"",{"$f":"IF(COUNTIF(AO$2:AO203,AO203)=1,AM203,\"\")","v":""},"","","",null,{"$f":"+IF(AZ203=\"\",\"\",MAX(AU$1:AU202)+1)","v":""},{"$f":"IF('Process and CMS Information'!B225=\"\",\"\",'Process and CMS Information'!B225)","v":""},{"$f":"IF('Process and CMS Information'!C225=\"\",\"\",'Process and CMS Information'!C225)","v":""},{"$f":"IF('Process and CMS Information'!F225=\"\",\"\",'Process and CMS Information'!F225)","v":""},"",{"$f":"IF(COUNTIF(AY$2:AY203,AY203)=1,AY203,\"\")","v":""},"","","",""]
[null,null,null,null,null,null,null,null,null,null,null,null,null,null,null,null,null,null,null,null,null,null,null,null,null,null,{"$f":"+IF(AF204=\"\",\"\",MAX(AA$1:AA203)+1)","v":""},{"$f":"IF('Excess Emissions'!B226=\"\",\"\",'Excess Emissions'!B226)","v":""},{"$f":"IF('Excess Emissions'!C226=\"\",\"\",'Excess Emissions'!C226)","v":""},{"$f":"IF('Excess Emissions'!D226=\"\",\"\",'Excess Emissions'!D226)","v":""},"",{"$f":"IF(COUNTIF(AE$2:AE204,AE204)=1,AC204,\"\")","v":""},"","","",null,{"$f":"+IF(AP204=\"\",\"\",MAX(AK$1:AK203)+1)","v":""},{"$f":"IF('CMS Downtime Detail'!B226=\"\",\"\",'CMS Downtime Detail'!B226)","v":""},{"$f":"IF('CMS Downtime Detail'!C226=\"\",\"\",'CMS Downtime Detail'!C226)","v":""},{"$f":"IF('CMS Downtime Detail'!D226=\"\",\"\",'CMS Downtime Detail'!D226)","v":""},"",{"$f":"IF(COUNTIF(AO$2:AO204,AO204)=1,AM204,\"\")","v":""},"","","",null,{"$f":"+IF(AZ204=\"\",\"\",MAX(AU$1:AU203)+1)","v":""},{"$f":"IF('Process and CMS Information'!B226=\"\",\"\",'Process and CMS Information'!B226)","v":""},{"$f":"IF('Process and CMS Information'!C226=\"\",\"\",'Process and CMS Information'!C226)","v":""},{"$f":"IF('Process and CMS Information'!F226=\"\",\"\",'Process and CMS Information'!F226)","v":""},"",{"$f":"IF(COUNTIF(AY$2:AY204,AY204)=1,AY204,\"\")","v":""},"","","",""]
[null,null,null,null,null,null,null,null,null,null,null,null,null,null,null,null,null,null,null,null,null,null,null,null,null,null,{"$f":"+IF(AF205=\"\",\"\",MAX(AA$1:AA204)+1)","v":""},{"$f":"IF('Excess Emissions'!B227=\"\",\"\",'Excess Emissions'!B227)","v":""},{"$f":"IF('Excess Emissions'!C227=\"\",\"\",'Excess Emissions'!C227)","v":""},{"$f":"IF('Excess Emissions'!D227=\"\",\"\",'Excess Emissions'!D227)","v":""},"",{"$f":"IF(COUNTIF(AE$2:AE205,AE205)=1,AC205,\"\")","v":""},"","","",null,{"$f":"+IF(AP205=\"\",\"\",MAX(AK$1:AK204)+1)","v":""},{"$f":"IF('CMS Downtime Detail'!B227=\"\",\"\",'CMS Downtime Detail'!B227)","v":""},{"$f":"IF('CMS Downtime Detail'!C227=\"\",\"\",'CMS Downtime Detail'!C227)","v":""},{"$f":"IF('CMS Downtime Detail'!D227=\"\",\"\",'CMS Downtime Detail'!D227)","v":""},"",{"$f":"IF(COUNTIF(AO$2:AO205,AO205)=1,AM205,\"\")","v":""},"","","",null,{"$f":"+IF(AZ205=\"\",\"\",MAX(AU$1:AU204)+1)","v":""},{"$f":"IF('Process and CMS Information'!B227=\"\",\"\",'Process and CMS Information'!B227)","v":""},{"$f":"IF('Process and CMS Information'!C227=\"\",\"\",'Process and CMS Information'!C227)","v":""},{"$f":"IF('Process and CMS Information'!F227=\"\",\"\",'Process and CMS Information'!F227)","v":""},"",{"$f":"IF(COUNTIF(AY$2:AY205,AY205)=1,AY205,\"\")","v":""},"","","",""]
[null,null,null,null,null,null,null,null,null,null,null,null,null,null,null,null,null,null,null,null,null,null,null,null,null,null,{"$f":"+IF(AF206=\"\",\"\",MAX(AA$1:AA205)+1)","v":""},{"$f":"IF('Excess Emissions'!B228=\"\",\"\",'Excess Emissions'!B228)","v":""},{"$f":"IF('Excess Emissions'!C228=\"\",\"\",'Excess Emissions'!C228)","v":""},{"$f":"IF('Excess Emissions'!D228=\"\",\"\",'Excess Emissions'!D228)","v":""},"",{"$f":"IF(COUNTIF(AE$2:AE206,AE206)=1,AC206,\"\")","v":""},"","","",null,{"$f":"+IF(AP206=\"\",\"\",MAX(AK$1:AK205)+1)","v":""},{"$f":"IF('CMS Downtime Detail'!B228=\"\",\"\",'CMS Downtime Detail'!B228)","v":""},{"$f":"IF('CMS Downtime Detail'!C228=\"\",\"\",'CMS Downtime Detail'!C228)","v":""},{"$f":"IF('CMS Downtime Detail'!D228=\"\",\"\",'CMS Downtime Detail'!D228)","v":""},"",{"$f":"IF(COUNTIF(AO$2:AO206,AO206)=1,AM206,\"\")","v":""},"","","",null,{"$f":"+IF(AZ206=\"\",\"\",MAX(AU$1:AU205)+1)","v":""},{"$f":"IF('Process and CMS Information'!B228=\"\",\"\",'Process and CMS Information'!B228)","v":""},{"$f":"IF('Process and CMS Information'!C228=\"\",\"\",'Process and CMS Information'!C228)","v":""},{"$f":"IF('Process and CMS Information'!F228=\"\",\"\",'Process and CMS Information'!F228)","v":""},"",{"$f":"IF(COUNTIF(AY$2:AY206,AY206)=1,AY206,\"\")","v":""},"","","",""]
[null,null,null,null,null,null,null,null,null,null,null,null,null,null,null,null,null,null,null,null,null,null,null,null,null,null,{"$f":"+IF(AF207=\"\",\"\",MAX(AA$1:AA206)+1)","v":""},{"$f":"IF('Excess Emissions'!B229=\"\",\"\",'Excess Emissions'!B229)","v":""},{"$f":"IF('Excess Emissions'!C229=\"\",\"\",'Excess Emissions'!C229)","v":""},{"$f":"IF('Excess Emissions'!D229=\"\",\"\",'Excess Emissions'!D229)","v":""},"",{"$f":"IF(COUNTIF(AE$2:AE207,AE207)=1,AC207,\"\")","v":""},"","","",null,{"$f":"+IF(AP207=\"\",\"\",MAX(AK$1:AK206)+1)","v":""},{"$f":"IF('CMS Downtime Detail'!B229=\"\",\"\",'CMS Downtime Detail'!B229)","v":""},{"$f":"IF('CMS Downtime Detail'!C229=\"\",\"\",'CMS Downtime Detail'!C229)","v":""},{"$f":"IF('CMS Downtime Detail'!D229=\"\",\"\",'CMS Downtime Detail'!D229)","v":""},"",{"$f":"IF(COUNTIF(AO$2:AO207,AO207)=1,AM207,\"\")","v":""},"","","",null,{"$f":"+IF(AZ207=\"\",\"\",MAX(AU$1:AU206)+1)","v":""},{"$f":"IF('Process and CMS Information'!B229=\"\",\"\",'Process and CMS Information'!B229)","v":""},{"$f":"IF('Process and CMS Information'!C229=\"\",\"\",'Process and CMS Information'!C229)","v":""},{"$f":"IF('Process and CMS Information'!F229=\"\",\"\",'Process and CMS Information'!F229)","v":""},"",{"$f":"IF(COUNTIF(AY$2:AY207,AY207)=1,AY207,\"\")","v":""},"","","",""]
[null,null,null,null,null,null,null,null,null,null,null,null,null,null,null,null,null,null,null,null,null,null,null,null,null,null,{"$f":"+IF(AF208=\"\",\"\",MAX(AA$1:AA207)+1)","v":""},{"$f":"IF('Excess Emissions'!B230=\"\",\"\",'Excess Emissions'!B230)","v":""},{"$f":"IF('Excess Emissions'!C230=\"\",\"\",'Excess Emissions'!C230)","v":""},{"$f":"IF('Excess Emissions'!D230=\"\",\"\",'Excess Emissions'!D230)","v":""},"",{"$f":"IF(COUNTIF(AE$2:AE208,AE208)=1,AC208,\"\")","v":""},"","","",null,{"$f":"+IF(AP208=\"\",\"\",MAX(AK$1:AK207)+1)","v":""},{"$f":"IF('CMS Downtime Detail'!B230=\"\",\"\",'CMS Downtime Detail'!B230)","v":""},{"$f":"IF('CMS Downtime Detail'!C230=\"\",\"\",'CMS Downtime Detail'!C230)","v":""},{"$f":"IF('CMS Downtime Detail'!D230=\"\",\"\",'CMS Downtime Detail'!D230)","v":""},"",{"$f":"IF(COUNTIF(AO$2:AO208,AO208)=1,AM208,\"\")","v":""},"","","",null,{"$f":"+IF(AZ208=\"\",\"\",MAX(AU$1:AU207)+1)","v":""},{"$f":"IF('Process and CMS Information'!B230=\"\",\"\",'Process and CMS Information'!B230)","v":""},{"$f":"IF('Process and CMS Information'!C230=\"\",\"\",'Process and CMS Information'!C230)","v":""},{"$f":"IF('Process and CMS Information'!F230=\"\",\"\",'Process and CMS Information'!F230)","v":""},"",{"$f":"IF(COUNTIF(AY$2:AY208,AY208)=1,AY208,\"\")","v":""},"","","",""]
[null,null,null,null,null,null,null,null,null,null,null,null,null,null,null,null,null,null,null,null,null,null,null,null,null,null,{"$f":"+IF(AF209=\"\",\"\",MAX(AA$1:AA208)+1)","v":""},{"$f":"IF('Excess Emissions'!B231=\"\",\"\",'Excess Emissions'!B231)","v":""},{"$f":"IF('Excess Emissions'!C231=\"\",\"\",'Excess Emissions'!C231)","v":""},{"$f":"IF('Excess Emissions'!D231=\"\",\"\",'Excess Emissions'!D231)","v":""},"",{"$f":"IF(COUNTIF(AE$2:AE209,AE209)=1,AC209,\"\")","v":""},"","","",null,{"$f":"+IF(AP209=\"\",\"\",MAX(AK$1:AK208)+1)","v":""},{"$f":"IF('CMS Downtime Detail'!B231=\"\",\"\",'CMS Downtime Detail'!B231)","v":""},{"$f":"IF('CMS Downtime Detail'!C231=\"\",\"\",'CMS Downtime Detail'!C231)","v":""},{"$f":"IF('CMS Downtime Detail'!D231=\"\",\"\",'CMS Downtime Detail'!D231)","v":""},"",{"$f":"IF(COUNTIF(AO$2:AO209,AO209)=1,AM209,\"\")","v":""},"","","",null,{"$f":"+IF(AZ209=\"\",\"\",MAX(AU$1:AU208)+1)","v":""},{"$f":"IF('Process and CMS Information'!B231=\"\",\"\",'Process and CMS Information'!B231)","v":""},{"$f":"IF('Process and CMS Information'!C231=\"\",\"\",'Process and CMS Information'!C231)","v":""},{"$f":"IF('Process and CMS Information'!F231=\"\",\"\",'Process and CMS Information'!F231)","v":""},"",{"$f":"IF(COUNTIF(AY$2:AY209,AY209)=1,AY209,\"\")","v":""},"","","",""]
[null,null,null,null,null,null,null,null,null,null,null,null,null,null,null,null,null,null,null,null,null,null,null,null,null,null,{"$f":"+IF(AF210=\"\",\"\",MAX(AA$1:AA209)+1)","v":""},{"$f":"IF('Excess Emissions'!B232=\"\",\"\",'Excess Emissions'!B232)","v":""},{"$f":"IF('Excess Emissions'!C232=\"\",\"\",'Excess Emissions'!C232)","v":""},{"$f":"IF('Excess Emissions'!D232=\"\",\"\",'Excess Emissions'!D232)","v":""},"",{"$f":"IF(COUNTIF(AE$2:AE210,AE210)=1,AC210,\"\")","v":""},"","","",null,{"$f":"+IF(AP210=\"\",\"\",MAX(AK$1:AK209)+1)","v":""},{"$f":"IF('CMS Downtime Detail'!B232=\"\",\"\",'CMS Downtime Detail'!B232)","v":""},{"$f":"IF('CMS Downtime Detail'!C232=\"\",\"\",'CMS Downtime Detail'!C232)","v":""},{"$f":"IF('CMS Downtime Detail'!D232=\"\",\"\",'CMS Downtime Detail'!D232)","v":""},"",{"$f":"IF(COUNTIF(AO$2:AO210,AO210)=1,AM210,\"\")","v":""},"","","",null,{"$f":"+IF(AZ210=\"\",\"\",MAX(AU$1:AU209)+1)","v":""},{"$f":"IF('Process and CMS Information'!B232=\"\",\"\",'Process and CMS Information'!B232)","v":""},{"$f":"IF('Process and CMS Information'!C232=\"\",\"\",'Process and CMS Information'!C232)","v":""},{"$f":"IF('Process and CMS Information'!F232=\"\",\"\",'Process and CMS Information'!F232)","v":""},"",{"$f":"IF(COUNTIF(AY$2:AY210,AY210)=1,AY210,\"\")","v":""},"","","",""]
[null,null,null,null,null,null,null,null,null,null,null,null,null,null,null,null,null,null,null,null,null,null,null,null,null,null,{"$f":"+IF(AF211=\"\",\"\",MAX(AA$1:AA210)+1)","v":""},{"$f":"IF('Excess Emissions'!B233=\"\",\"\",'Excess Emissions'!B233)","v":""},{"$f":"IF('Excess Emissions'!C233=\"\",\"\",'Excess Emissions'!C233)","v":""},{"$f":"IF('Excess Emissions'!D233=\"\",\"\",'Excess Emissions'!D233)","v":""},"",{"$f":"IF(COUNTIF(AE$2:AE211,AE211)=1,AC211,\"\")","v":""},"","","",null,{"$f":"+IF(AP211=\"\",\"\",MAX(AK$1:AK210)+1)","v":""},{"$f":"IF('CMS Downtime Detail'!B233=\"\",\"\",'CMS Downtime Detail'!B233)","v":""},{"$f":"IF('CMS Downtime Detail'!C233=\"\",\"\",'CMS Downtime Detail'!C233)","v":""},{"$f":"IF('CMS Downtime Detail'!D233=\"\",\"\",'CMS Downtime Detail'!D233)","v":""},"",{"$f":"IF(COUNTIF(AO$2:AO211,AO211)=1,AM211,\"\")","v":""},"","","",null,{"$f":"+IF(AZ211=\"\",\"\",MAX(AU$1:AU210)+1)","v":""},{"$f":"IF('Process and CMS Information'!B233=\"\",\"\",'Process and CMS Information'!B233)","v":""},{"$f":"IF('Process and CMS Information'!C233=\"\",\"\",'Process and CMS Information'!C233)","v":""},{"$f":"IF('Process and CMS Information'!F233=\"\",\"\",'Process and CMS Information'!F233)","v":""},"",{"$f":"IF(COUNTIF(AY$2:AY211,AY211)=1,AY211,\"\")","v":""},"","","",""]
[null,null,null,null,null,null,null,null,null,null,null,null,null,null,null,null,null,null,null,null,null,null,null,null,null,null,{"$f":"+IF(AF212=\"\",\"\",MAX(AA$1:AA211)+1)","v":""},{"$f":"IF('Excess Emissions'!B234=\"\",\"\",'Excess Emissions'!B234)","v":""},{"$f":"IF('Excess Emissions'!C234=\"\",\"\",'Excess Emissions'!C234)","v":""},{"$f":"IF('Excess Emissions'!D234=\"\",\"\",'Excess Emissions'!D234)","v":""},"",{"$f":"IF(COUNTIF(AE$2:AE212,AE212)=1,AC212,\"\")","v":""},"","","",null,{"$f":"+IF(AP212=\"\",\"\",MAX(AK$1:AK211)+1)","v":""},{"$f":"IF('CMS Downtime Detail'!B234=\"\",\"\",'CMS Downtime Detail'!B234)","v":""},{"$f":"IF('CMS Downtime Detail'!C234=\"\",\"\",'CMS Downtime Detail'!C234)","v":""},{"$f":"IF('CMS Downtime Detail'!D234=\"\",\"\",'CMS Downtime Detail'!D234)","v":""},"",{"$f":"IF(COUNTIF(AO$2:AO212,AO212)=1,AM212,\"\")","v":""},"","","",null,{"$f":"+IF(AZ212=\"\",\"\",MAX(AU$1:AU211)+1)","v":""},{"$f":"IF('Process and CMS Information'!B234=\"\",\"\",'Process and CMS Information'!B234)","v":""},{"$f":"IF('Process and CMS Information'!C234=\"\",\"\",'Process and CMS Information'!C234)","v":""},{"$f":"IF('Process and CMS Information'!F234=\"\",\"\",'Process and CMS Information'!F234)","v":""},"",{"$f":"IF(COUNTIF(AY$2:AY212,AY212)=1,AY212,\"\")","v":""},"","","",""]
[null,null,null,null,null,null,null,null,null,null,null,null,null,null,null,null,null,null,null,null,null,null,null,null,null,null,{"$f":"+IF(AF213=\"\",\"\",MAX(AA$1:AA212)+1)","v":""},{"$f":"IF('Excess Emissions'!B235=\"\",\"\",'Excess Emissions'!B235)","v":""},{"$f":"IF('Excess Emissions'!C235=\"\",\"\",'Excess Emissions'!C235)","v":""},{"$f":"IF('Excess Emissions'!D235=\"\",\"\",'Excess Emissions'!D235)","v":""},"",{"$f":"IF(COUNTIF(AE$2:AE213,AE213)=1,AC213,\"\")","v":""},"","","",null,{"$f":"+IF(AP213=\"\",\"\",MAX(AK$1:AK212)+1)","v":""},{"$f":"IF('CMS Downtime Detail'!B235=\"\",\"\",'CMS Downtime Detail'!B235)","v":""},{"$f":"IF('CMS Downtime Detail'!C235=\"\",\"\",'CMS Downtime Detail'!C235)","v":""},{"$f":"IF('CMS Downtime Detail'!D235=\"\",\"\",'CMS Downtime Detail'!D235)","v":""},"",{"$f":"IF(COUNTIF(AO$2:AO213,AO213)=1,AM213,\"\")","v":""},"","","",null,{"$f":"+IF(AZ213=\"\",\"\",MAX(AU$1:AU212)+1)","v":""},{"$f":"IF('Process and CMS Information'!B235=\"\",\"\",'Process and CMS Information'!B235)","v":""},{"$f":"IF('Process and CMS Information'!C235=\"\",\"\",'Process and CMS Information'!C235)","v":""},{"$f":"IF('Process and CMS Information'!F235=\"\",\"\",'Process and CMS Information'!F235)","v":""},"",{"$f":"IF(COUNTIF(AY$2:AY213,AY213)=1,AY213,\"\")","v":""},"","","",""]
[null,null,null,null,null,null,null,null,null,null,null,null,null,null,null,null,null,null,null,null,null,null,null,null,null,null,{"$f":"+IF(AF214=\"\",\"\",MAX(AA$1:AA213)+1)","v":""},{"$f":"IF('Excess Emissions'!B236=\"\",\"\",'Excess Emissions'!B236)","v":""},{"$f":"IF('Excess Emissions'!C236=\"\",\"\",'Excess Emissions'!C236)","v":""},{"$f":"IF('Excess Emissions'!D236=\"\",\"\",'Excess Emissions'!D236)","v":""},"",{"$f":"IF(COUNTIF(AE$2:AE214,AE214)=1,AC214,\"\")","v":""},"","","",null,{"$f":"+IF(AP214=\"\",\"\",MAX(AK$1:AK213)+1)","v":""},{"$f":"IF('CMS Downtime Detail'!B236=\"\",\"\",'CMS Downtime Detail'!B236)","v":""},{"$f":"IF('CMS Downtime Detail'!C236=\"\",\"\",'CMS Downtime Detail'!C236)","v":""},{"$f":"IF('CMS Downtime Detail'!D236=\"\",\"\",'CMS Downtime Detail'!D236)","v":""},"",{"$f":"IF(COUNTIF(AO$2:AO214,AO214)=1,AM214,\"\")","v":""},"","","",null,{"$f":"+IF(AZ214=\"\",\"\",MAX(AU$1:AU213)+1)","v":""},{"$f":"IF('Process and CMS Information'!B236=\"\",\"\",'Process and CMS Information'!B236)","v":""},{"$f":"IF('Process and CMS Information'!C236=\"\",\"\",'Process and CMS Information'!C236)","v":""},{"$f":"IF('Process and CMS Information'!F236=\"\",\"\",'Process and CMS Information'!F236)","v":""},"",{"$f":"IF(COUNTIF(AY$2:AY214,AY214)=1,AY214,\"\")","v":""},"","","",""]
[null,null,null,null,null,null,null,null,null,null,null,null,null,null,null,null,null,null,null,null,null,null,null,null,null,null,{"$f":"+IF(AF215=\"\",\"\",MAX(AA$1:AA214)+1)","v":""},{"$f":"IF('Excess Emissions'!B237=\"\",\"\",'Excess Emissions'!B237)","v":""},{"$f":"IF('Excess Emissions'!C237=\"\",\"\",'Excess Emissions'!C237)","v":""},{"$f":"IF('Excess Emissions'!D237=\"\",\"\",'Excess Emissions'!D237)","v":""},"",{"$f":"IF(COUNTIF(AE$2:AE215,AE215)=1,AC215,\"\")","v":""},"","","",null,{"$f":"+IF(AP215=\"\",\"\",MAX(AK$1:AK214)+1)","v":""},{"$f":"IF('CMS Downtime Detail'!B237=\"\",\"\",'CMS Downtime Detail'!B237)","v":""},{"$f":"IF('CMS Downtime Detail'!C237=\"\",\"\",'CMS Downtime Detail'!C237)","v":""},{"$f":"IF('CMS Downtime Detail'!D237=\"\",\"\",'CMS Downtime Detail'!D237)","v":""},"",{"$f":"IF(COUNTIF(AO$2:AO215,AO215)=1,AM215,\"\")","v":""},"","","",null,{"$f":"+IF(AZ215=\"\",\"\",MAX(AU$1:AU214)+1)","v":""},{"$f":"IF('Process and CMS Information'!B237=\"\",\"\",'Process and CMS Information'!B237)","v":""},{"$f":"IF('Process and CMS Information'!C237=\"\",\"\",'Process and CMS Information'!C237)","v":""},{"$f":"IF('Process and CMS Information'!F237=\"\",\"\",'Process and CMS Information'!F237)","v":""},"",{"$f":"IF(COUNTIF(AY$2:AY215,AY215)=1,AY215,\"\")","v":""},"","","",""]
[null,null,null,null,null,null,null,null,null,null,null,null,null,null,null,null,null,null,null,null,null,null,null,null,null,null,{"$f":"+IF(AF216=\"\",\"\",MAX(AA$1:AA215)+1)","v":""},{"$f":"IF('Excess Emissions'!B238=\"\",\"\",'Excess Emissions'!B238)","v":""},{"$f":"IF('Excess Emissions'!C238=\"\",\"\",'Excess Emissions'!C238)","v":""},{"$f":"IF('Excess Emissions'!D238=\"\",\"\",'Excess Emissions'!D238)","v":""},"",{"$f":"IF(COUNTIF(AE$2:AE216,AE216)=1,AC216,\"\")","v":""},"","","",null,{"$f":"+IF(AP216=\"\",\"\",MAX(AK$1:AK215)+1)","v":""},{"$f":"IF('CMS Downtime Detail'!B238=\"\",\"\",'CMS Downtime Detail'!B238)","v":""},{"$f":"IF('CMS Downtime Detail'!C238=\"\",\"\",'CMS Downtime Detail'!C238)","v":""},{"$f":"IF('CMS Downtime Detail'!D238=\"\",\"\",'CMS Downtime Detail'!D238)","v":""},"",{"$f":"IF(COUNTIF(AO$2:AO216,AO216)=1,AM216,\"\")","v":""},"","","",null,{"$f":"+IF(AZ216=\"\",\"\",MAX(AU$1:AU215)+1)","v":""},{"$f":"IF('Process and CMS Information'!B238=\"\",\"\",'Process and CMS Information'!B238)","v":""},{"$f":"IF('Process and CMS Information'!C238=\"\",\"\",'Process and CMS Information'!C238)","v":""},{"$f":"IF('Process and CMS Information'!F238=\"\",\"\",'Process and CMS Information'!F238)","v":""},"",{"$f":"IF(COUNTIF(AY$2:AY216,AY216)=1,AY216,\"\")","v":""},"","","",""]
[null,null,null,null,null,null,null,null,null,null,null,null,null,null,null,null,null,null,null,null,null,null,null,null,null,null,{"$f":"+IF(AF217=\"\",\"\",MAX(AA$1:AA216)+1)","v":""},{"$f":"IF('Excess Emissions'!B239=\"\",\"\",'Excess Emissions'!B239)","v":""},{"$f":"IF('Excess Emissions'!C239=\"\",\"\",'Excess Emissions'!C239)","v":""},{"$f":"IF('Excess Emissions'!D239=\"\",\"\",'Excess Emissions'!D239)","v":""},"",{"$f":"IF(COUNTIF(AE$2:AE217,AE217)=1,AC217,\"\")","v":""},"","","",null,{"$f":"+IF(AP217=\"\",\"\",MAX(AK$1:AK216)+1)","v":""},{"$f":"IF('CMS Downtime Detail'!B239=\"\",\"\",'CMS Downtime Detail'!B239)","v":""},{"$f":"IF('CMS Downtime Detail'!C239=\"\",\"\",'CMS Downtime Detail'!C239)","v":""},{"$f":"IF('CMS Downtime Detail'!D239=\"\",\"\",'CMS Downtime Detail'!D239)","v":""},"",{"$f":"IF(COUNTIF(AO$2:AO217,AO217)=1,AM217,\"\")","v":""},"","","",null,{"$f":"+IF(AZ217=\"\",\"\",MAX(AU$1:AU216)+1)","v":""},{"$f":"IF('Process and CMS Information'!B239=\"\",\"\",'Process and CMS Information'!B239)","v":""},{"$f":"IF('Process and CMS Information'!C239=\"\",\"\",'Process and CMS Information'!C239)","v":""},{"$f":"IF('Process and CMS Information'!F239=\"\",\"\",'Process and CMS Information'!F239)","v":""},"",{"$f":"IF(COUNTIF(AY$2:AY217,AY217)=1,AY217,\"\")","v":""},"","","",""]
[null,null,null,null,null,null,null,null,null,null,null,null,null,null,null,null,null,null,null,null,null,null,null,null,null,null,{"$f":"+IF(AF218=\"\",\"\",MAX(AA$1:AA217)+1)","v":""},{"$f":"IF('Excess Emissions'!B240=\"\",\"\",'Excess Emissions'!B240)","v":""},{"$f":"IF('Excess Emissions'!C240=\"\",\"\",'Excess Emissions'!C240)","v":""},{"$f":"IF('Excess Emissions'!D240=\"\",\"\",'Excess Emissions'!D240)","v":""},"",{"$f":"IF(COUNTIF(AE$2:AE218,AE218)=1,AC218,\"\")","v":""},"","","",null,{"$f":"+IF(AP218=\"\",\"\",MAX(AK$1:AK217)+1)","v":""},{"$f":"IF('CMS Downtime Detail'!B240=\"\",\"\",'CMS Downtime Detail'!B240)","v":""},{"$f":"IF('CMS Downtime Detail'!C240=\"\",\"\",'CMS Downtime Detail'!C240)","v":""},{"$f":"IF('CMS Downtime Detail'!D240=\"\",\"\",'CMS Downtime Detail'!D240)","v":""},"",{"$f":"IF(COUNTIF(AO$2:AO218,AO218)=1,AM218,\"\")","v":""},"","","",null,{"$f":"+IF(AZ218=\"\",\"\",MAX(AU$1:AU217)+1)","v":""},{"$f":"IF('Process and CMS Information'!B240=\"\",\"\",'Process and CMS Information'!B240)","v":""},{"$f":"IF('Process and CMS Information'!C240=\"\",\"\",'Process and CMS Information'!C240)","v":""},{"$f":"IF('Process and CMS Information'!F240=\"\",\"\",'Process and CMS Information'!F240)","v":""},"",{"$f":"IF(COUNTIF(AY$2:AY218,AY218)=1,AY218,\"\")","v":""},"","","",""]
[null,null,null,null,null,null,null,null,null,null,null,null,null,null,null,null,null,null,null,null,null,null,null,null,null,null,{"$f":"+IF(AF219=\"\",\"\",MAX(AA$1:AA218)+1)","v":""},{"$f":"IF('Excess Emissions'!B241=\"\",\"\",'Excess Emissions'!B241)","v":""},{"$f":"IF('Excess Emissions'!C241=\"\",\"\",'Excess Emissions'!C241)","v":""},{"$f":"IF('Excess Emissions'!D241=\"\",\"\",'Excess Emissions'!D241)","v":""},"",{"$f":"IF(COUNTIF(AE$2:AE219,AE219)=1,AC219,\"\")","v":""},"","","",null,{"$f":"+IF(AP219=\"\",\"\",MAX(AK$1:AK218)+1)","v":""},{"$f":"IF('CMS Downtime Detail'!B241=\"\",\"\",'CMS Downtime Detail'!B241)","v":""},{"$f":"IF('CMS Downtime Detail'!C241=\"\",\"\",'CMS Downtime Detail'!C241)","v":""},{"$f":"IF('CMS Downtime Detail'!D241=\"\",\"\",'CMS Downtime Detail'!D241)","v":""},"",{"$f":"IF(COUNTIF(AO$2:AO219,AO219)=1,AM219,\"\")","v":""},"","","",null,{"$f":"+IF(AZ219=\"\",\"\",MAX(AU$1:AU218)+1)","v":""},{"$f":"IF('Process and CMS Information'!B241=\"\",\"\",'Process and CMS Information'!B241)","v":""},{"$f":"IF('Process and CMS Information'!C241=\"\",\"\",'Process and CMS Information'!C241)","v":""},{"$f":"IF('Process and CMS Information'!F241=\"\",\"\",'Process and CMS Information'!F241)","v":""},"",{"$f":"IF(COUNTIF(AY$2:AY219,AY219)=1,AY219,\"\")","v":""},"","","",""]
[null,null,null,null,null,null,null,null,null,null,null,null,null,null,null,null,null,null,null,null,null,null,null,null,null,null,{"$f":"+IF(AF220=\"\",\"\",MAX(AA$1:AA219)+1)","v":""},{"$f":"IF('Excess Emissions'!B242=\"\",\"\",'Excess Emissions'!B242)","v":""},{"$f":"IF('Excess Emissions'!C242=\"\",\"\",'Excess Emissions'!C242)","v":""},{"$f":"IF('Excess Emissions'!D242=\"\",\"\",'Excess Emissions'!D242)","v":""},"",{"$f":"IF(COUNTIF(AE$2:AE220,AE220)=1,AC220,\"\")","v":""},"","","",null,{"$f":"+IF(AP220=\"\",\"\",MAX(AK$1:AK219)+1)","v":""},{"$f":"IF('CMS Downtime Detail'!B242=\"\",\"\",'CMS Downtime Detail'!B242)","v":""},{"$f":"IF('CMS Downtime Detail'!C242=\"\",\"\",'CMS Downtime Detail'!C242)","v":""},{"$f":"IF('CMS Downtime Detail'!D242=\"\",\"\",'CMS Downtime Detail'!D242)","v":""},"",{"$f":"IF(COUNTIF(AO$2:AO220,AO220)=1,AM220,\"\")","v":""},"","","",null,{"$f":"+IF(AZ220=\"\",\"\",MAX(AU$1:AU219)+1)","v":""},{"$f":"IF('Process and CMS Information'!B242=\"\",\"\",'Process and CMS Information'!B242)","v":""},{"$f":"IF('Process and CMS Information'!C242=\"\",\"\",'Process and CMS Information'!C242)","v":""},{"$f":"IF('Process and CMS Information'!F242=\"\",\"\",'Process and CMS Information'!F242)","v":""},"",{"$f":"IF(COUNTIF(AY$2:AY220,AY220)=1,AY220,\"\")","v":""},"","","",""]
[null,null,null,null,null,null,null,null,null,null,null,null,null,null,null,null,null,null,null,null,null,null,null,null,null,null,{"$f":"+IF(AF221=\"\",\"\",MAX(AA$1:AA220)+1)","v":""},{"$f":"IF('Excess Emissions'!B243=\"\",\"\",'Excess Emissions'!B243)","v":""},{"$f":"IF('Excess Emissions'!C243=\"\",\"\",'Excess Emissions'!C243)","v":""},{"$f":"IF('Excess Emissions'!D243=\"\",\"\",'Excess Emissions'!D243)","v":""},"",{"$f":"IF(COUNTIF(AE$2:AE221,AE221)=1,AC221,\"\")","v":""},"","","",null,{"$f":"+IF(AP221=\"\",\"\",MAX(AK$1:AK220)+1)","v":""},{"$f":"IF('CMS Downtime Detail'!B243=\"\",\"\",'CMS Downtime Detail'!B243)","v":""},{"$f":"IF('CMS Downtime Detail'!C243=\"\",\"\",'CMS Downtime Detail'!C243)","v":""},{"$f":"IF('CMS Downtime Detail'!D243=\"\",\"\",'CMS Downtime Detail'!D243)","v":""},"",{"$f":"IF(COUNTIF(AO$2:AO221,AO221)=1,AM221,\"\")","v":""},"","","",null,{"$f":"+IF(AZ221=\"\",\"\",MAX(AU$1:AU220)+1)","v":""},{"$f":"IF('Process and CMS Information'!B243=\"\",\"\",'Process and CMS Information'!B243)","v":""},{"$f":"IF('Process and CMS Information'!C243=\"\",\"\",'Process and CMS Information'!C243)","v":""},{"$f":"IF('Process and CMS Information'!F243=\"\",\"\",'Process and CMS Information'!F243)","v":""},"",{"$f":"IF(COUNTIF(AY$2:AY221,AY221)=1,AY221,\"\")","v":""},"","","",""]
[null,null,null,null,null,null,null,null,null,null,null,null,null,null,null,null,null,null,null,null,null,null,null,null,null,null,{"$f":"+IF(AF222=\"\",\"\",MAX(AA$1:AA221)+1)","v":""},{"$f":"IF('Excess Emissions'!B244=\"\",\"\",'Excess Emissions'!B244)","v":""},{"$f":"IF('Excess Emissions'!C244=\"\",\"\",'Excess Emissions'!C244)","v":""},{"$f":"IF('Excess Emissions'!D244=\"\",\"\",'Excess Emissions'!D244)","v":""},"",{"$f":"IF(COUNTIF(AE$2:AE222,AE222)=1,AC222,\"\")","v":""},"","","",null,{"$f":"+IF(AP222=\"\",\"\",MAX(AK$1:AK221)+1)","v":""},{"$f":"IF('CMS Downtime Detail'!B244=\"\",\"\",'CMS Downtime Detail'!B244)","v":""},{"$f":"IF('CMS Downtime Detail'!C244=\"\",\"\",'CMS Downtime Detail'!C244)","v":""},{"$f":"IF('CMS Downtime Detail'!D244=\"\",\"\",'CMS Downtime Detail'!D244)","v":""},"",{"$f":"IF(COUNTIF(AO$2:AO222,AO222)=1,AM222,\"\")","v":""},"","","",null,{"$f":"+IF(AZ222=\"\",\"\",MAX(AU$1:AU221)+1)","v":""},{"$f":"IF('Process and CMS Information'!B244=\"\",\"\",'Process and CMS Information'!B244)","v":""},{"$f":"IF('Process and CMS Information'!C244=\"\",\"\",'Process and CMS Information'!C244)","v":""},{"$f":"IF('Process and CMS Information'!F244=\"\",\"\",'Process and CMS Information'!F244)","v":""},"",{"$f":"IF(COUNTIF(AY$2:AY222,AY222)=1,AY222,\"\")","v":""},"","","",""]
[null,null,null,null,null,null,null,null,null,null,null,null,null,null,null,null,null,null,null,null,null,null,null,null,null,null,{"$f":"+IF(AF223=\"\",\"\",MAX(AA$1:AA222)+1)","v":""},{"$f":"IF('Excess Emissions'!B245=\"\",\"\",'Excess Emissions'!B245)","v":""},{"$f":"IF('Excess Emissions'!C245=\"\",\"\",'Excess Emissions'!C245)","v":""},{"$f":"IF('Excess Emissions'!D245=\"\",\"\",'Excess Emissions'!D245)","v":""},"",{"$f":"IF(COUNTIF(AE$2:AE223,AE223)=1,AC223,\"\")","v":""},"","","",null,{"$f":"+IF(AP223=\"\",\"\",MAX(AK$1:AK222)+1)","v":""},{"$f":"IF('CMS Downtime Detail'!B245=\"\",\"\",'CMS Downtime Detail'!B245)","v":""},{"$f":"IF('CMS Downtime Detail'!C245=\"\",\"\",'CMS Downtime Detail'!C245)","v":""},{"$f":"IF('CMS Downtime Detail'!D245=\"\",\"\",'CMS Downtime Detail'!D245)","v":""},"",{"$f":"IF(COUNTIF(AO$2:AO223,AO223)=1,AM223,\"\")","v":""},"","","",null,{"$f":"+IF(AZ223=\"\",\"\",MAX(AU$1:AU222)+1)","v":""},{"$f":"IF('Process and CMS Information'!B245=\"\",\"\",'Process and CMS Information'!B245)","v":""},{"$f":"IF('Process and CMS Information'!C245=\"\",\"\",'Process and CMS Information'!C245)","v":""},{"$f":"IF('Process and CMS Information'!F245=\"\",\"\",'Process and CMS Information'!F245)","v":""},"",{"$f":"IF(COUNTIF(AY$2:AY223,AY223)=1,AY223,\"\")","v":""},"","","",""]
[null,null,null,null,null,null,null,null,null,null,null,null,null,null,null,null,null,null,null,null,null,null,null,null,null,null,{"$f":"+IF(AF224=\"\",\"\",MAX(AA$1:AA223)+1)","v":""},{"$f":"IF('Excess Emissions'!B246=\"\",\"\",'Excess Emissions'!B246)","v":""},{"$f":"IF('Excess Emissions'!C246=\"\",\"\",'Excess Emissions'!C246)","v":""},{"$f":"IF('Excess Emissions'!D246=\"\",\"\",'Excess Emissions'!D246)","v":""},"",{"$f":"IF(COUNTIF(AE$2:AE224,AE224)=1,AC224,\"\")","v":""},"","","",null,{"$f":"+IF(AP224=\"\",\"\",MAX(AK$1:AK223)+1)","v":""},{"$f":"IF('CMS Downtime Detail'!B246=\"\",\"\",'CMS Downtime Detail'!B246)","v":""},{"$f":"IF('CMS Downtime Detail'!C246=\"\",\"\",'CMS Downtime Detail'!C246)","v":""},{"$f":"IF('CMS Downtime Detail'!D246=\"\",\"\",'CMS Downtime Detail'!D246)","v":""},"",{"$f":"IF(COUNTIF(AO$2:AO224,AO224)=1,AM224,\"\")","v":""},"","","",null,{"$f":"+IF(AZ224=\"\",\"\",MAX(AU$1:AU223)+1)","v":""},{"$f":"IF('Process and CMS Information'!B246=\"\",\"\",'Process and CMS Information'!B246)","v":""},{"$f":"IF('Process and CMS Information'!C246=\"\",\"\",'Process and CMS Information'!C246)","v":""},{"$f":"IF('Process and CMS Information'!F246=\"\",\"\",'Process and CMS Information'!F246)","v":""},"",{"$f":"IF(COUNTIF(AY$2:AY224,AY224)=1,AY224,\"\")","v":""},"","","",""]
[null,null,null,null,null,null,null,null,null,null,null,null,null,null,null,null,null,null,null,null,null,null,null,null,null,null,{"$f":"+IF(AF225=\"\",\"\",MAX(AA$1:AA224)+1)","v":""},{"$f":"IF('Excess Emissions'!B247=\"\",\"\",'Excess Emissions'!B247)","v":""},{"$f":"IF('Excess Emissions'!C247=\"\",\"\",'Excess Emissions'!C247)","v":""},{"$f":"IF('Excess Emissions'!D247=\"\",\"\",'Excess Emissions'!D247)","v":""},"",{"$f":"IF(COUNTIF(AE$2:AE225,AE225)=1,AC225,\"\")","v":""},"","","",null,{"$f":"+IF(AP225=\"\",\"\",MAX(AK$1:AK224)+1)","v":""},{"$f":"IF('CMS Downtime Detail'!B247=\"\",\"\",'CMS Downtime Detail'!B247)","v":""},{"$f":"IF('CMS Downtime Detail'!C247=\"\",\"\",'CMS Downtime Detail'!C247)","v":""},{"$f":"IF('CMS Downtime Detail'!D247=\"\",\"\",'CMS Downtime Detail'!D247)","v":""},"",{"$f":"IF(COUNTIF(AO$2:AO225,AO225)=1,AM225,\"\")","v":""},"","","",null,{"$f":"+IF(AZ225=\"\",\"\",MAX(AU$1:AU224)+1)","v":""},{"$f":"IF('Process and CMS Information'!B247=\"\",\"\",'Process and CMS Information'!B247)","v":""},{"$f":"IF('Process and CMS Information'!C247=\"\",\"\",'Process and CMS Information'!C247)","v":""},{"$f":"IF('Process and CMS Information'!F247=\"\",\"\",'Process and CMS Information'!F247)","v":""},"",{"$f":"IF(COUNTIF(AY$2:AY225,AY225)=1,AY225,\"\")","v":""},"","","",""]
[null,null,null,null,null,null,null,null,null,null,null,null,null,null,null,null,null,null,null,null,null,null,null,null,null,null,{"$f":"+IF(AF226=\"\",\"\",MAX(AA$1:AA225)+1)","v":""},{"$f":"IF('Excess Emissions'!B248=\"\",\"\",'Excess Emissions'!B248)","v":""},{"$f":"IF('Excess Emissions'!C248=\"\",\"\",'Excess Emissions'!C248)","v":""},{"$f":"IF('Excess Emissions'!D248=\"\",\"\",'Excess Emissions'!D248)","v":""},"",{"$f":"IF(COUNTIF(AE$2:AE226,AE226)=1,AC226,\"\")","v":""},"","","",null,{"$f":"+IF(AP226=\"\",\"\",MAX(AK$1:AK225)+1)","v":""},{"$f":"IF('CMS Downtime Detail'!B248=\"\",\"\",'CMS Downtime Detail'!B248)","v":""},{"$f":"IF('CMS Downtime Detail'!C248=\"\",\"\",'CMS Downtime Detail'!C248)","v":""},{"$f":"IF('CMS Downtime Detail'!D248=\"\",\"\",'CMS Downtime Detail'!D248)","v":""},"",{"$f":"IF(COUNTIF(AO$2:AO226,AO226)=1,AM226,\"\")","v":""},"","","",null,{"$f":"+IF(AZ226=\"\",\"\",MAX(AU$1:AU225)+1)","v":""},{"$f":"IF('Process and CMS Information'!B248=\"\",\"\",'Process and CMS Information'!B248)","v":""},{"$f":"IF('Process and CMS Information'!C248=\"\",\"\",'Process and CMS Information'!C248)","v":""},{"$f":"IF('Process and CMS Information'!F248=\"\",\"\",'Process and CMS Information'!F248)","v":""},"",{"$f":"IF(COUNTIF(AY$2:AY226,AY226)=1,AY226,\"\")","v":""},"","","",""]
[null,null,null,null,null,null,null,null,null,null,null,null,null,null,null,null,null,null,null,null,null,null,null,null,null,null,{"$f":"+IF(AF227=\"\",\"\",MAX(AA$1:AA226)+1)","v":""},{"$f":"IF('Excess Emissions'!B249=\"\",\"\",'Excess Emissions'!B249)","v":""},{"$f":"IF('Excess Emissions'!C249=\"\",\"\",'Excess Emissions'!C249)","v":""},{"$f":"IF('Excess Emissions'!D249=\"\",\"\",'Excess Emissions'!D249)","v":""},"",{"$f":"IF(COUNTIF(AE$2:AE227,AE227)=1,AC227,\"\")","v":""},"","","",null,{"$f":"+IF(AP227=\"\",\"\",MAX(AK$1:AK226)+1)","v":""},{"$f":"IF('CMS Downtime Detail'!B249=\"\",\"\",'CMS Downtime Detail'!B249)","v":""},{"$f":"IF('CMS Downtime Detail'!C249=\"\",\"\",'CMS Downtime Detail'!C249)","v":""},{"$f":"IF('CMS Downtime Detail'!D249=\"\",\"\",'CMS Downtime Detail'!D249)","v":""},"",{"$f":"IF(COUNTIF(AO$2:AO227,AO227)=1,AM227,\"\")","v":""},"","","",null,{"$f":"+IF(AZ227=\"\",\"\",MAX(AU$1:AU226)+1)","v":""},{"$f":"IF('Process and CMS Information'!B249=\"\",\"\",'Process and CMS Information'!B249)","v":""},{"$f":"IF('Process and CMS Information'!C249=\"\",\"\",'Process and CMS Information'!C249)","v":""},{"$f":"IF('Process and CMS Information'!F249=\"\",\"\",'Process and CMS Information'!F249)","v":""},"",{"$f":"IF(COUNTIF(AY$2:AY227,AY227)=1,AY227,\"\")","v":""},"","","",""]
[null,null,null,null,null,null,null,null,null,null,null,null,null,null,null,null,null,null,null,null,null,null,null,null,null,null,{"$f":"+IF(AF228=\"\",\"\",MAX(AA$1:AA227)+1)","v":""},{"$f":"IF('Excess Emissions'!B250=\"\",\"\",'Excess Emissions'!B250)","v":""},{"$f":"IF('Excess Emissions'!C250=\"\",\"\",'Excess Emissions'!C250)","v":""},{"$f":"IF('Excess Emissions'!D250=\"\",\"\",'Excess Emissions'!D250)","v":""},"",{"$f":"IF(COUNTIF(AE$2:AE228,AE228)=1,AC228,\"\")","v":""},"","","",null,{"$f":"+IF(AP228=\"\",\"\",MAX(AK$1:AK227)+1)","v":""},{"$f":"IF('CMS Downtime Detail'!B250=\"\",\"\",'CMS Downtime Detail'!B250)","v":""},{"$f":"IF('CMS Downtime Detail'!C250=\"\",\"\",'CMS Downtime Detail'!C250)","v":""},{"$f":"IF('CMS Downtime Detail'!D250=\"\",\"\",'CMS Downtime Detail'!D250)","v":""},"",{"$f":"IF(COUNTIF(AO$2:AO228,AO228)=1,AM228,\"\")","v":""},"","","",null,{"$f":"+IF(AZ228=\"\",\"\",MAX(AU$1:AU227)+1)","v":""},{"$f":"IF('Process and CMS Information'!B250=\"\",\"\",'Process and CMS Information'!B250)","v":""},{"$f":"IF('Process and CMS Information'!C250=\"\",\"\",'Process and CMS Information'!C250)","v":""},{"$f":"IF('Process and CMS Information'!F250=\"\",\"\",'Process and CMS Information'!F250)","v":""},"",{"$f":"IF(COUNTIF(AY$2:AY228,AY228)=1,AY228,\"\")","v":""},"","","",""]
[null,null,null,null,null,null,null,null,null,null,null,null,null,null,null,null,null,null,null,null,null,null,null,null,null,null,{"$f":"+IF(AF229=\"\",\"\",MAX(AA$1:AA228)+1)","v":""},{"$f":"IF('Excess Emissions'!B251=\"\",\"\",'Excess Emissions'!B251)","v":""},{"$f":"IF('Excess Emissions'!C251=\"\",\"\",'Excess Emissions'!C251)","v":""},{"$f":"IF('Excess Emissions'!D251=\"\",\"\",'Excess Emissions'!D251)","v":""},"",{"$f":"IF(COUNTIF(AE$2:AE229,AE229)=1,AC229,\"\")","v":""},"","","",null,{"$f":"+IF(AP229=\"\",\"\",MAX(AK$1:AK228)+1)","v":""},{"$f":"IF('CMS Downtime Detail'!B251=\"\",\"\",'CMS Downtime Detail'!B251)","v":""},{"$f":"IF('CMS Downtime Detail'!C251=\"\",\"\",'CMS Downtime Detail'!C251)","v":""},{"$f":"IF('CMS Downtime Detail'!D251=\"\",\"\",'CMS Downtime Detail'!D251)","v":""},"",{"$f":"IF(COUNTIF(AO$2:AO229,AO229)=1,AM229,\"\")","v":""},"","","",null,{"$f":"+IF(AZ229=\"\",\"\",MAX(AU$1:AU228)+1)","v":""},{"$f":"IF('Process and CMS Information'!B251=\"\",\"\",'Process and CMS Information'!B251)","v":""},{"$f":"IF('Process and CMS Information'!C251=\"\",\"\",'Process and CMS Information'!C251)","v":""},{"$f":"IF('Process and CMS Information'!F251=\"\",\"\",'Process and CMS Information'!F251)","v":""},"",{"$f":"IF(COUNTIF(AY$2:AY229,AY229)=1,AY229,\"\")","v":""},"","","",""]
[null,null,null,null,null,null,null,null,null,null,null,null,null,null,null,null,null,null,null,null,null,null,null,null,null,null,{"$f":"+IF(AF230=\"\",\"\",MAX(AA$1:AA229)+1)","v":""},{"$f":"IF('Excess Emissions'!B252=\"\",\"\",'Excess Emissions'!B252)","v":""},{"$f":"IF('Excess Emissions'!C252=\"\",\"\",'Excess Emissions'!C252)","v":""},{"$f":"IF('Excess Emissions'!D252=\"\",\"\",'Excess Emissions'!D252)","v":""},"",{"$f":"IF(COUNTIF(AE$2:AE230,AE230)=1,AC230,\"\")","v":""},"","","",null,{"$f":"+IF(AP230=\"\",\"\",MAX(AK$1:AK229)+1)","v":""},{"$f":"IF('CMS Downtime Detail'!B252=\"\",\"\",'CMS Downtime Detail'!B252)","v":""},{"$f":"IF('CMS Downtime Detail'!C252=\"\",\"\",'CMS Downtime Detail'!C252)","v":""},{"$f":"IF('CMS Downtime Detail'!D252=\"\",\"\",'CMS Downtime Detail'!D252)","v":""},"",{"$f":"IF(COUNTIF(AO$2:AO230,AO230)=1,AM230,\"\")","v":""},"","","",null,{"$f":"+IF(AZ230=\"\",\"\",MAX(AU$1:AU229)+1)","v":""},{"$f":"IF('Process and CMS Information'!B252=\"\",\"\",'Process and CMS Information'!B252)","v":""},{"$f":"IF('Process and CMS Information'!C252=\"\",\"\",'Process and CMS Information'!C252)","v":""},{"$f":"IF('Process and CMS Information'!F252=\"\",\"\",'Process and CMS Information'!F252)","v":""},"",{"$f":"IF(COUNTIF(AY$2:AY230,AY230)=1,AY230,\"\")","v":""},"","","",""]
[null,null,null,null,null,null,null,null,null,null,null,null,null,null,null,null,null,null,null,null,null,null,null,null,null,null,{"$f":"+IF(AF231=\"\",\"\",MAX(AA$1:AA230)+1)","v":""},{"$f":"IF('Excess Emissions'!B253=\"\",\"\",'Excess Emissions'!B253)","v":""},{"$f":"IF('Excess Emissions'!C253=\"\",\"\",'Excess Emissions'!C253)","v":""},{"$f":"IF('Excess Emissions'!D253=\"\",\"\",'Excess Emissions'!D253)","v":""},"",{"$f":"IF(COUNTIF(AE$2:AE231,AE231)=1,AC231,\"\")","v":""},"","","",null,{"$f":"+IF(AP231=\"\",\"\",MAX(AK$1:AK230)+1)","v":""},{"$f":"IF('CMS Downtime Detail'!B253=\"\",\"\",'CMS Downtime Detail'!B253)","v":""},{"$f":"IF('CMS Downtime Detail'!C253=\"\",\"\",'CMS Downtime Detail'!C253)","v":""},{"$f":"IF('CMS Downtime Detail'!D253=\"\",\"\",'CMS Downtime Detail'!D253)","v":""},"",{"$f":"IF(COUNTIF(AO$2:AO231,AO231)=1,AM231,\"\")","v":""},"","","",null,{"$f":"+IF(AZ231=\"\",\"\",MAX(AU$1:AU230)+1)","v":""},{"$f":"IF('Process and CMS Information'!B253=\"\",\"\",'Process and CMS Information'!B253)","v":""},{"$f":"IF('Process and CMS Information'!C253=\"\",\"\",'Process and CMS Information'!C253)","v":""},{"$f":"IF('Process and CMS Information'!F253=\"\",\"\",'Process and CMS Information'!F253)","v":""},"",{"$f":"IF(COUNTIF(AY$2:AY231,AY231)=1,AY231,\"\")","v":""},"","","",""]
[null,null,null,null,null,null,null,null,null,null,null,null,null,null,null,null,null,null,null,null,null,null,null,null,null,null,{"$f":"+IF(AF232=\"\",\"\",MAX(AA$1:AA231)+1)","v":""},{"$f":"IF('Excess Emissions'!B254=\"\",\"\",'Excess Emissions'!B254)","v":""},{"$f":"IF('Excess Emissions'!C254=\"\",\"\",'Excess Emissions'!C254)","v":""},{"$f":"IF('Excess Emissions'!D254=\"\",\"\",'Excess Emissions'!D254)","v":""},"",{"$f":"IF(COUNTIF(AE$2:AE232,AE232)=1,AC232,\"\")","v":""},"","","",null,{"$f":"+IF(AP232=\"\",\"\",MAX(AK$1:AK231)+1)","v":""},{"$f":"IF('CMS Downtime Detail'!B254=\"\",\"\",'CMS Downtime Detail'!B254)","v":""},{"$f":"IF('CMS Downtime Detail'!C254=\"\",\"\",'CMS Downtime Detail'!C254)","v":""},{"$f":"IF('CMS Downtime Detail'!D254=\"\",\"\",'CMS Downtime Detail'!D254)","v":""},"",{"$f":"IF(COUNTIF(AO$2:AO232,AO232)=1,AM232,\"\")","v":""},"","","",null,{"$f":"+IF(AZ232=\"\",\"\",MAX(AU$1:AU231)+1)","v":""},{"$f":"IF('Process and CMS Information'!B254=\"\",\"\",'Process and CMS Information'!B254)","v":""},{"$f":"IF('Process and CMS Information'!C254=\"\",\"\",'Process and CMS Information'!C254)","v":""},{"$f":"IF('Process and CMS Information'!F254=\"\",\"\",'Process and CMS Information'!F254)","v":""},"",{"$f":"IF(COUNTIF(AY$2:AY232,AY232)=1,AY232,\"\")","v":""},"","","",""]
[null,null,null,null,null,null,null,null,null,null,null,null,null,null,null,null,null,null,null,null,null,null,null,null,null,null,{"$f":"+IF(AF233=\"\",\"\",MAX(AA$1:AA232)+1)","v":""},{"$f":"IF('Excess Emissions'!B255=\"\",\"\",'Excess Emissions'!B255)","v":""},{"$f":"IF('Excess Emissions'!C255=\"\",\"\",'Excess Emissions'!C255)","v":""},{"$f":"IF('Excess Emissions'!D255=\"\",\"\",'Excess Emissions'!D255)","v":""},"",{"$f":"IF(COUNTIF(AE$2:AE233,AE233)=1,AC233,\"\")","v":""},"","","",null,{"$f":"+IF(AP233=\"\",\"\",MAX(AK$1:AK232)+1)","v":""},{"$f":"IF('CMS Downtime Detail'!B255=\"\",\"\",'CMS Downtime Detail'!B255)","v":""},{"$f":"IF('CMS Downtime Detail'!C255=\"\",\"\",'CMS Downtime Detail'!C255)","v":""},{"$f":"IF('CMS Downtime Detail'!D255=\"\",\"\",'CMS Downtime Detail'!D255)","v":""},"",{"$f":"IF(COUNTIF(AO$2:AO233,AO233)=1,AM233,\"\")","v":""},"","","",null,{"$f":"+IF(AZ233=\"\",\"\",MAX(AU$1:AU232)+1)","v":""},{"$f":"IF('Process and CMS Information'!B255=\"\",\"\",'Process and CMS Information'!B255)","v":""},{"$f":"IF('Process and CMS Information'!C255=\"\",\"\",'Process and CMS Information'!C255)","v":""},{"$f":"IF('Process and CMS Information'!F255=\"\",\"\",'Process and CMS Information'!F255)","v":""},"",{"$f":"IF(COUNTIF(AY$2:AY233,AY233)=1,AY233,\"\")","v":""},"","","",""]
[null,null,null,null,null,null,null,null,null,null,null,null,null,null,null,null,null,null,null,null,null,null,null,null,null,null,{"$f":"+IF(AF234=\"\",\"\",MAX(AA$1:AA233)+1)","v":""},{"$f":"IF('Excess Emissions'!B256=\"\",\"\",'Excess Emissions'!B256)","v":""},{"$f":"IF('Excess Emissions'!C256=\"\",\"\",'Excess Emissions'!C256)","v":""},{"$f":"IF('Excess Emissions'!D256=\"\",\"\",'Excess Emissions'!D256)","v":""},"",{"$f":"IF(COUNTIF(AE$2:AE234,AE234)=1,AC234,\"\")","v":""},"","","",null,{"$f":"+IF(AP234=\"\",\"\",MAX(AK$1:AK233)+1)","v":""},{"$f":"IF('CMS Downtime Detail'!B256=\"\",\"\",'CMS Downtime Detail'!B256)","v":""},{"$f":"IF('CMS Downtime Detail'!C256=\"\",\"\",'CMS Downtime Detail'!C256)","v":""},{"$f":"IF('CMS Downtime Detail'!D256=\"\",\"\",'CMS Downtime Detail'!D256)","v":""},"",{"$f":"IF(COUNTIF(AO$2:AO234,AO234)=1,AM234,\"\")","v":""},"","","",null,{"$f":"+IF(AZ234=\"\",\"\",MAX(AU$1:AU233)+1)","v":""},{"$f":"IF('Process and CMS Information'!B256=\"\",\"\",'Process and CMS Information'!B256)","v":""},{"$f":"IF('Process and CMS Information'!C256=\"\",\"\",'Process and CMS Information'!C256)","v":""},{"$f":"IF('Process and CMS Information'!F256=\"\",\"\",'Process and CMS Information'!F256)","v":""},"",{"$f":"IF(COUNTIF(AY$2:AY234,AY234)=1,AY234,\"\")","v":""},"","","",""]
[null,null,null,null,null,null,null,null,null,null,null,null,null,null,null,null,null,null,null,null,null,null,null,null,null,null,{"$f":"+IF(AF235=\"\",\"\",MAX(AA$1:AA234)+1)","v":""},{"$f":"IF('Excess Emissions'!B257=\"\",\"\",'Excess Emissions'!B257)","v":""},{"$f":"IF('Excess Emissions'!C257=\"\",\"\",'Excess Emissions'!C257)","v":""},{"$f":"IF('Excess Emissions'!D257=\"\",\"\",'Excess Emissions'!D257)","v":""},"",{"$f":"IF(COUNTIF(AE$2:AE235,AE235)=1,AC235,\"\")","v":""},"","","",null,{"$f":"+IF(AP235=\"\",\"\",MAX(AK$1:AK234)+1)","v":""},{"$f":"IF('CMS Downtime Detail'!B257=\"\",\"\",'CMS Downtime Detail'!B257)","v":""},{"$f":"IF('CMS Downtime Detail'!C257=\"\",\"\",'CMS Downtime Detail'!C257)","v":""},{"$f":"IF('CMS Downtime Detail'!D257=\"\",\"\",'CMS Downtime Detail'!D257)","v":""},"",{"$f":"IF(COUNTIF(AO$2:AO235,AO235)=1,AM235,\"\")","v":""},"","","",null,{"$f":"+IF(AZ235=\"\",\"\",MAX(AU$1:AU234)+1)","v":""},{"$f":"IF('Process and CMS Information'!B257=\"\",\"\",'Process and CMS Information'!B257)","v":""},{"$f":"IF('Process and CMS Information'!C257=\"\",\"\",'Process and CMS Information'!C257)","v":""},{"$f":"IF('Process and CMS Information'!F257=\"\",\"\",'Process and CMS Information'!F257)","v":""},"",{"$f":"IF(COUNTIF(AY$2:AY235,AY235)=1,AY235,\"\")","v":""},"","","",""]
[null,null,null,null,null,null,null,null,null,null,null,null,null,null,null,null,null,null,null,null,null,null,null,null,null,null,{"$f":"+IF(AF236=\"\",\"\",MAX(AA$1:AA235)+1)","v":""},{"$f":"IF('Excess Emissions'!B258=\"\",\"\",'Excess Emissions'!B258)","v":""},{"$f":"IF('Excess Emissions'!C258=\"\",\"\",'Excess Emissions'!C258)","v":""},{"$f":"IF('Excess Emissions'!D258=\"\",\"\",'Excess Emissions'!D258)","v":""},"",{"$f":"IF(COUNTIF(AE$2:AE236,AE236)=1,AC236,\"\")","v":""},"","","",null,{"$f":"+IF(AP236=\"\",\"\",MAX(AK$1:AK235)+1)","v":""},{"$f":"IF('CMS Downtime Detail'!B258=\"\",\"\",'CMS Downtime Detail'!B258)","v":""},{"$f":"IF('CMS Downtime Detail'!C258=\"\",\"\",'CMS Downtime Detail'!C258)","v":""},{"$f":"IF('CMS Downtime Detail'!D258=\"\",\"\",'CMS Downtime Detail'!D258)","v":""},"",{"$f":"IF(COUNTIF(AO$2:AO236,AO236)=1,AM236,\"\")","v":""},"","","",null,{"$f":"+IF(AZ236=\"\",\"\",MAX(AU$1:AU235)+1)","v":""},{"$f":"IF('Process and CMS Information'!B258=\"\",\"\",'Process and CMS Information'!B258)","v":""},{"$f":"IF('Process and CMS Information'!C258=\"\",\"\",'Process and CMS Information'!C258)","v":""},{"$f":"IF('Process and CMS Information'!F258=\"\",\"\",'Process and CMS Information'!F258)","v":""},"",{"$f":"IF(COUNTIF(AY$2:AY236,AY236)=1,AY236,\"\")","v":""},"","","",""]
[null,null,null,null,null,null,null,null,null,null,null,null,null,null,null,null,null,null,null,null,null,null,null,null,null,null,{"$f":"+IF(AF237=\"\",\"\",MAX(AA$1:AA236)+1)","v":""},{"$f":"IF('Excess Emissions'!B259=\"\",\"\",'Excess Emissions'!B259)","v":""},{"$f":"IF('Excess Emissions'!C259=\"\",\"\",'Excess Emissions'!C259)","v":""},{"$f":"IF('Excess Emissions'!D259=\"\",\"\",'Excess Emissions'!D259)","v":""},"",{"$f":"IF(COUNTIF(AE$2:AE237,AE237)=1,AC237,\"\")","v":""},"","","",null,{"$f":"+IF(AP237=\"\",\"\",MAX(AK$1:AK236)+1)","v":""},{"$f":"IF('CMS Downtime Detail'!B259=\"\",\"\",'CMS Downtime Detail'!B259)","v":""},{"$f":"IF('CMS Downtime Detail'!C259=\"\",\"\",'CMS Downtime Detail'!C259)","v":""},{"$f":"IF('CMS Downtime Detail'!D259=\"\",\"\",'CMS Downtime Detail'!D259)","v":""},"",{"$f":"IF(COUNTIF(AO$2:AO237,AO237)=1,AM237,\"\")","v":""},"","","",null,{"$f":"+IF(AZ237=\"\",\"\",MAX(AU$1:AU236)+1)","v":""},{"$f":"IF('Process and CMS Information'!B259=\"\",\"\",'Process and CMS Information'!B259)","v":""},{"$f":"IF('Process and CMS Information'!C259=\"\",\"\",'Process and CMS Information'!C259)","v":""},{"$f":"IF('Process and CMS Information'!F259=\"\",\"\",'Process and CMS Information'!F259)","v":""},"",{"$f":"IF(COUNTIF(AY$2:AY237,AY237)=1,AY237,\"\")","v":""},"","","",""]
[null,null,null,null,null,null,null,null,null,null,null,null,null,null,null,null,null,null,null,null,null,null,null,null,null,null,{"$f":"+IF(AF238=\"\",\"\",MAX(AA$1:AA237)+1)","v":""},{"$f":"IF('Excess Emissions'!B260=\"\",\"\",'Excess Emissions'!B260)","v":""},{"$f":"IF('Excess Emissions'!C260=\"\",\"\",'Excess Emissions'!C260)","v":""},{"$f":"IF('Excess Emissions'!D260=\"\",\"\",'Excess Emissions'!D260)","v":""},"",{"$f":"IF(COUNTIF(AE$2:AE238,AE238)=1,AC238,\"\")","v":""},"","","",null,{"$f":"+IF(AP238=\"\",\"\",MAX(AK$1:AK237)+1)","v":""},{"$f":"IF('CMS Downtime Detail'!B260=\"\",\"\",'CMS Downtime Detail'!B260)","v":""},{"$f":"IF('CMS Downtime Detail'!C260=\"\",\"\",'CMS Downtime Detail'!C260)","v":""},{"$f":"IF('CMS Downtime Detail'!D260=\"\",\"\",'CMS Downtime Detail'!D260)","v":""},"",{"$f":"IF(COUNTIF(AO$2:AO238,AO238)=1,AM238,\"\")","v":""},"","","",null,{"$f":"+IF(AZ238=\"\",\"\",MAX(AU$1:AU237)+1)","v":""},{"$f":"IF('Process and CMS Information'!B260=\"\",\"\",'Process and CMS Information'!B260)","v":""},{"$f":"IF('Process and CMS Information'!C260=\"\",\"\",'Process and CMS Information'!C260)","v":""},{"$f":"IF('Process and CMS Information'!F260=\"\",\"\",'Process and CMS Information'!F260)","v":""},"",{"$f":"IF(COUNTIF(AY$2:AY238,AY238)=1,AY238,\"\")","v":""},"","","",""]
[null,null,null,null,null,null,null,null,null,null,null,null,null,null,null,null,null,null,null,null,null,null,null,null,null,null,{"$f":"+IF(AF239=\"\",\"\",MAX(AA$1:AA238)+1)","v":""},{"$f":"IF('Excess Emissions'!B261=\"\",\"\",'Excess Emissions'!B261)","v":""},{"$f":"IF('Excess Emissions'!C261=\"\",\"\",'Excess Emissions'!C261)","v":""},{"$f":"IF('Excess Emissions'!D261=\"\",\"\",'Excess Emissions'!D261)","v":""},"",{"$f":"IF(COUNTIF(AE$2:AE239,AE239)=1,AC239,\"\")","v":""},"","","",null,{"$f":"+IF(AP239=\"\",\"\",MAX(AK$1:AK238)+1)","v":""},{"$f":"IF('CMS Downtime Detail'!B261=\"\",\"\",'CMS Downtime Detail'!B261)","v":""},{"$f":"IF('CMS Downtime Detail'!C261=\"\",\"\",'CMS Downtime Detail'!C261)","v":""},{"$f":"IF('CMS Downtime Detail'!D261=\"\",\"\",'CMS Downtime Detail'!D261)","v":""},"",{"$f":"IF(COUNTIF(AO$2:AO239,AO239)=1,AM239,\"\")","v":""},"","","",null,{"$f":"+IF(AZ239=\"\",\"\",MAX(AU$1:AU238)+1)","v":""},{"$f":"IF('Process and CMS Information'!B261=\"\",\"\",'Process and CMS Information'!B261)","v":""},{"$f":"IF('Process and CMS Information'!C261=\"\",\"\",'Process and CMS Information'!C261)","v":""},{"$f":"IF('Process and CMS Information'!F261=\"\",\"\",'Process and CMS Information'!F261)","v":""},"",{"$f":"IF(COUNTIF(AY$2:AY239,AY239)=1,AY239,\"\")","v":""},"","","",""]
[null,null,null,null,null,null,null,null,null,null,null,null,null,null,null,null,null,null,null,null,null,null,null,null,null,null,{"$f":"+IF(AF240=\"\",\"\",MAX(AA$1:AA239)+1)","v":""},{"$f":"IF('Excess Emissions'!B262=\"\",\"\",'Excess Emissions'!B262)","v":""},{"$f":"IF('Excess Emissions'!C262=\"\",\"\",'Excess Emissions'!C262)","v":""},{"$f":"IF('Excess Emissions'!D262=\"\",\"\",'Excess Emissions'!D262)","v":""},"",{"$f":"IF(COUNTIF(AE$2:AE240,AE240)=1,AC240,\"\")","v":""},"","","",null,{"$f":"+IF(AP240=\"\",\"\",MAX(AK$1:AK239)+1)","v":""},{"$f":"IF('CMS Downtime Detail'!B262=\"\",\"\",'CMS Downtime Detail'!B262)","v":""},{"$f":"IF('CMS Downtime Detail'!C262=\"\",\"\",'CMS Downtime Detail'!C262)","v":""},{"$f":"IF('CMS Downtime Detail'!D262=\"\",\"\",'CMS Downtime Detail'!D262)","v":""},"",{"$f":"IF(COUNTIF(AO$2:AO240,AO240)=1,AM240,\"\")","v":""},"","","",null,{"$f":"+IF(AZ240=\"\",\"\",MAX(AU$1:AU239)+1)","v":""},{"$f":"IF('Process and CMS Information'!B262=\"\",\"\",'Process and CMS Information'!B262)","v":""},{"$f":"IF('Process and CMS Information'!C262=\"\",\"\",'Process and CMS Information'!C262)","v":""},{"$f":"IF('Process and CMS Information'!F262=\"\",\"\",'Process and CMS Information'!F262)","v":""},"",{"$f":"IF(COUNTIF(AY$2:AY240,AY240)=1,AY240,\"\")","v":""},"","","",""]
[null,null,null,null,null,null,null,null,null,null,null,null,null,null,null,null,null,null,null,null,null,null,null,null,null,null,{"$f":"+IF(AF241=\"\",\"\",MAX(AA$1:AA240)+1)","v":""},{"$f":"IF('Excess Emissions'!B263=\"\",\"\",'Excess Emissions'!B263)","v":""},{"$f":"IF('Excess Emissions'!C263=\"\",\"\",'Excess Emissions'!C263)","v":""},{"$f":"IF('Excess Emissions'!D263=\"\",\"\",'Excess Emissions'!D263)","v":""},"",{"$f":"IF(COUNTIF(AE$2:AE241,AE241)=1,AC241,\"\")","v":""},"","","",null,{"$f":"+IF(AP241=\"\",\"\",MAX(AK$1:AK240)+1)","v":""},{"$f":"IF('CMS Downtime Detail'!B263=\"\",\"\",'CMS Downtime Detail'!B263)","v":""},{"$f":"IF('CMS Downtime Detail'!C263=\"\",\"\",'CMS Downtime Detail'!C263)","v":""},{"$f":"IF('CMS Downtime Detail'!D263=\"\",\"\",'CMS Downtime Detail'!D263)","v":""},"",{"$f":"IF(COUNTIF(AO$2:AO241,AO241)=1,AM241,\"\")","v":""},"","","",null,{"$f":"+IF(AZ241=\"\",\"\",MAX(AU$1:AU240)+1)","v":""},{"$f":"IF('Process and CMS Information'!B263=\"\",\"\",'Process and CMS Information'!B263)","v":""},{"$f":"IF('Process and CMS Information'!C263=\"\",\"\",'Process and CMS Information'!C263)","v":""},{"$f":"IF('Process and CMS Information'!F263=\"\",\"\",'Process and CMS Information'!F263)","v":""},"",{"$f":"IF(COUNTIF(AY$2:AY241,AY241)=1,AY241,\"\")","v":""},"","","",""]
[null,null,null,null,null,null,null,null,null,null,null,null,null,null,null,null,null,null,null,null,null,null,null,null,null,null,{"$f":"+IF(AF242=\"\",\"\",MAX(AA$1:AA241)+1)","v":""},{"$f":"IF('Excess Emissions'!B264=\"\",\"\",'Excess Emissions'!B264)","v":""},{"$f":"IF('Excess Emissions'!C264=\"\",\"\",'Excess Emissions'!C264)","v":""},{"$f":"IF('Excess Emissions'!D264=\"\",\"\",'Excess Emissions'!D264)","v":""},"",{"$f":"IF(COUNTIF(AE$2:AE242,AE242)=1,AC242,\"\")","v":""},"","","",null,{"$f":"+IF(AP242=\"\",\"\",MAX(AK$1:AK241)+1)","v":""},{"$f":"IF('CMS Downtime Detail'!B264=\"\",\"\",'CMS Downtime Detail'!B264)","v":""},{"$f":"IF('CMS Downtime Detail'!C264=\"\",\"\",'CMS Downtime Detail'!C264)","v":""},{"$f":"IF('CMS Downtime Detail'!D264=\"\",\"\",'CMS Downtime Detail'!D264)","v":""},"",{"$f":"IF(COUNTIF(AO$2:AO242,AO242)=1,AM242,\"\")","v":""},"","","",null,{"$f":"+IF(AZ242=\"\",\"\",MAX(AU$1:AU241)+1)","v":""},{"$f":"IF('Process and CMS Information'!B264=\"\",\"\",'Process and CMS Information'!B264)","v":""},{"$f":"IF('Process and CMS Information'!C264=\"\",\"\",'Process and CMS Information'!C264)","v":""},{"$f":"IF('Process and CMS Information'!F264=\"\",\"\",'Process and CMS Information'!F264)","v":""},"",{"$f":"IF(COUNTIF(AY$2:AY242,AY242)=1,AY242,\"\")","v":""},"","","",""]
[null,null,null,null,null,null,null,null,null,null,null,null,null,null,null,null,null,null,null,null,null,null,null,null,null,null,{"$f":"+IF(AF243=\"\",\"\",MAX(AA$1:AA242)+1)","v":""},{"$f":"IF('Excess Emissions'!B265=\"\",\"\",'Excess Emissions'!B265)","v":""},{"$f":"IF('Excess Emissions'!C265=\"\",\"\",'Excess Emissions'!C265)","v":""},{"$f":"IF('Excess Emissions'!D265=\"\",\"\",'Excess Emissions'!D265)","v":""},"",{"$f":"IF(COUNTIF(AE$2:AE243,AE243)=1,AC243,\"\")","v":""},"","","",null,{"$f":"+IF(AP243=\"\",\"\",MAX(AK$1:AK242)+1)","v":""},{"$f":"IF('CMS Downtime Detail'!B265=\"\",\"\",'CMS Downtime Detail'!B265)","v":""},{"$f":"IF('CMS Downtime Detail'!C265=\"\",\"\",'CMS Downtime Detail'!C265)","v":""},{"$f":"IF('CMS Downtime Detail'!D265=\"\",\"\",'CMS Downtime Detail'!D265)","v":""},"",{"$f":"IF(COUNTIF(AO$2:AO243,AO243)=1,AM243,\"\")","v":""},"","","",null,{"$f":"+IF(AZ243=\"\",\"\",MAX(AU$1:AU242)+1)","v":""},{"$f":"IF('Process and CMS Information'!B265=\"\",\"\",'Process and CMS Information'!B265)","v":""},{"$f":"IF('Process and CMS Information'!C265=\"\",\"\",'Process and CMS Information'!C265)","v":""},{"$f":"IF('Process and CMS Information'!F265=\"\",\"\",'Process and CMS Information'!F265)","v":""},"",{"$f":"IF(COUNTIF(AY$2:AY243,AY243)=1,AY243,\"\")","v":""},"","","",""]
[null,null,null,null,null,null,null,null,null,null,null,null,null,null,null,null,null,null,null,null,null,null,null,null,null,null,{"$f":"+IF(AF244=\"\",\"\",MAX(AA$1:AA243)+1)","v":""},{"$f":"IF('Excess Emissions'!B266=\"\",\"\",'Excess Emissions'!B266)","v":""},{"$f":"IF('Excess Emissions'!C266=\"\",\"\",'Excess Emissions'!C266)","v":""},{"$f":"IF('Excess Emissions'!D266=\"\",\"\",'Excess Emissions'!D266)","v":""},"",{"$f":"IF(COUNTIF(AE$2:AE244,AE244)=1,AC244,\"\")","v":""},"","","",null,{"$f":"+IF(AP244=\"\",\"\",MAX(AK$1:AK243)+1)","v":""},{"$f":"IF('CMS Downtime Detail'!B266=\"\",\"\",'CMS Downtime Detail'!B266)","v":""},{"$f":"IF('CMS Downtime Detail'!C266=\"\",\"\",'CMS Downtime Detail'!C266)","v":""},{"$f":"IF('CMS Downtime Detail'!D266=\"\",\"\",'CMS Downtime Detail'!D266)","v":""},"",{"$f":"IF(COUNTIF(AO$2:AO244,AO244)=1,AM244,\"\")","v":""},"","","",null,{"$f":"+IF(AZ244=\"\",\"\",MAX(AU$1:AU243)+1)","v":""},{"$f":"IF('Process and CMS Information'!B266=\"\",\"\",'Process and CMS Information'!B266)","v":""},{"$f":"IF('Process and CMS Information'!C266=\"\",\"\",'Process and CMS Information'!C266)","v":""},{"$f":"IF('Process and CMS Information'!F266=\"\",\"\",'Process and CMS Information'!F266)","v":""},"",{"$f":"IF(COUNTIF(AY$2:AY244,AY244)=1,AY244,\"\")","v":""},"","","",""]
[null,null,null,null,null,null,null,null,null,null,null,null,null,null,null,null,null,null,null,null,null,null,null,null,null,null,{"$f":"+IF(AF245=\"\",\"\",MAX(AA$1:AA244)+1)","v":""},{"$f":"IF('Excess Emissions'!B267=\"\",\"\",'Excess Emissions'!B267)","v":""},{"$f":"IF('Excess Emissions'!C267=\"\",\"\",'Excess Emissions'!C267)","v":""},{"$f":"IF('Excess Emissions'!D267=\"\",\"\",'Excess Emissions'!D267)","v":""},"",{"$f":"IF(COUNTIF(AE$2:AE245,AE245)=1,AC245,\"\")","v":""},"","","",null,{"$f":"+IF(AP245=\"\",\"\",MAX(AK$1:AK244)+1)","v":""},{"$f":"IF('CMS Downtime Detail'!B267=\"\",\"\",'CMS Downtime Detail'!B267)","v":""},{"$f":"IF('CMS Downtime Detail'!C267=\"\",\"\",'CMS Downtime Detail'!C267)","v":""},{"$f":"IF('CMS Downtime Detail'!D267=\"\",\"\",'CMS Downtime Detail'!D267)","v":""},"",{"$f":"IF(COUNTIF(AO$2:AO245,AO245)=1,AM245,\"\")","v":""},"","","",null,{"$f":"+IF(AZ245=\"\",\"\",MAX(AU$1:AU244)+1)","v":""},{"$f":"IF('Process and CMS Information'!B267=\"\",\"\",'Process and CMS Information'!B267)","v":""},{"$f":"IF('Process and CMS Information'!C267=\"\",\"\",'Process and CMS Information'!C267)","v":""},{"$f":"IF('Process and CMS Information'!F267=\"\",\"\",'Process and CMS Information'!F267)","v":""},"",{"$f":"IF(COUNTIF(AY$2:AY245,AY245)=1,AY245,\"\")","v":""},"","","",""]
[null,null,null,null,null,null,null,null,null,null,null,null,null,null,null,null,null,null,null,null,null,null,null,null,null,null,{"$f":"+IF(AF246=\"\",\"\",MAX(AA$1:AA245)+1)","v":""},{"$f":"IF('Excess Emissions'!B268=\"\",\"\",'Excess Emissions'!B268)","v":""},{"$f":"IF('Excess Emissions'!C268=\"\",\"\",'Excess Emissions'!C268)","v":""},{"$f":"IF('Excess Emissions'!D268=\"\",\"\",'Excess Emissions'!D268)","v":""},"",{"$f":"IF(COUNTIF(AE$2:AE246,AE246)=1,AC246,\"\")","v":""},"","","",null,{"$f":"+IF(AP246=\"\",\"\",MAX(AK$1:AK245)+1)","v":""},{"$f":"IF('CMS Downtime Detail'!B268=\"\",\"\",'CMS Downtime Detail'!B268)","v":""},{"$f":"IF('CMS Downtime Detail'!C268=\"\",\"\",'CMS Downtime Detail'!C268)","v":""},{"$f":"IF('CMS Downtime Detail'!D268=\"\",\"\",'CMS Downtime Detail'!D268)","v":""},"",{"$f":"IF(COUNTIF(AO$2:AO246,AO246)=1,AM246,\"\")","v":""},"","","",null,{"$f":"+IF(AZ246=\"\",\"\",MAX(AU$1:AU245)+1)","v":""},{"$f":"IF('Process and CMS Information'!B268=\"\",\"\",'Process and CMS Information'!B268)","v":""},{"$f":"IF('Process and CMS Information'!C268=\"\",\"\",'Process and CMS Information'!C268)","v":""},{"$f":"IF('Process and CMS Information'!F268=\"\",\"\",'Process and CMS Information'!F268)","v":""},"",{"$f":"IF(COUNTIF(AY$2:AY246,AY246)=1,AY246,\"\")","v":""},"","","",""]
[null,null,null,null,null,null,null,null,null,null,null,null,null,null,null,null,null,null,null,null,null,null,null,null,null,null,{"$f":"+IF(AF247=\"\",\"\",MAX(AA$1:AA246)+1)","v":""},{"$f":"IF('Excess Emissions'!B269=\"\",\"\",'Excess Emissions'!B269)","v":""},{"$f":"IF('Excess Emissions'!C269=\"\",\"\",'Excess Emissions'!C269)","v":""},{"$f":"IF('Excess Emissions'!D269=\"\",\"\",'Excess Emissions'!D269)","v":""},"",{"$f":"IF(COUNTIF(AE$2:AE247,AE247)=1,AC247,\"\")","v":""},"","","",null,{"$f":"+IF(AP247=\"\",\"\",MAX(AK$1:AK246)+1)","v":""},{"$f":"IF('CMS Downtime Detail'!B269=\"\",\"\",'CMS Downtime Detail'!B269)","v":""},{"$f":"IF('CMS Downtime Detail'!C269=\"\",\"\",'CMS Downtime Detail'!C269)","v":""},{"$f":"IF('CMS Downtime Detail'!D269=\"\",\"\",'CMS Downtime Detail'!D269)","v":""},"",{"$f":"IF(COUNTIF(AO$2:AO247,AO247)=1,AM247,\"\")","v":""},"","","",null,{"$f":"+IF(AZ247=\"\",\"\",MAX(AU$1:AU246)+1)","v":""},{"$f":"IF('Process and CMS Information'!B269=\"\",\"\",'Process and CMS Information'!B269)","v":""},{"$f":"IF('Process and CMS Information'!C269=\"\",\"\",'Process and CMS Information'!C269)","v":""},{"$f":"IF('Process and CMS Information'!F269=\"\",\"\",'Process and CMS Information'!F269)","v":""},"",{"$f":"IF(COUNTIF(AY$2:AY247,AY247)=1,AY247,\"\")","v":""},"","","",""]
[null,null,null,null,null,null,null,null,null,null,null,null,null,null,null,null,null,null,null,null,null,null,null,null,null,null,{"$f":"+IF(AF248=\"\",\"\",MAX(AA$1:AA247)+1)","v":""},{"$f":"IF('Excess Emissions'!B270=\"\",\"\",'Excess Emissions'!B270)","v":""},{"$f":"IF('Excess Emissions'!C270=\"\",\"\",'Excess Emissions'!C270)","v":""},{"$f":"IF('Excess Emissions'!D270=\"\",\"\",'Excess Emissions'!D270)","v":""},"",{"$f":"IF(COUNTIF(AE$2:AE248,AE248)=1,AC248,\"\")","v":""},"","","",null,{"$f":"+IF(AP248=\"\",\"\",MAX(AK$1:AK247)+1)","v":""},{"$f":"IF('CMS Downtime Detail'!B270=\"\",\"\",'CMS Downtime Detail'!B270)","v":""},{"$f":"IF('CMS Downtime Detail'!C270=\"\",\"\",'CMS Downtime Detail'!C270)","v":""},{"$f":"IF('CMS Downtime Detail'!D270=\"\",\"\",'CMS Downtime Detail'!D270)","v":""},"",{"$f":"IF(COUNTIF(AO$2:AO248,AO248)=1,AM248,\"\")","v":""},"","","",null,{"$f":"+IF(AZ248=\"\",\"\",MAX(AU$1:AU247)+1)","v":""},{"$f":"IF('Process and CMS Information'!B270=\"\",\"\",'Process and CMS Information'!B270)","v":""},{"$f":"IF('Process and CMS Information'!C270=\"\",\"\",'Process and CMS Information'!C270)","v":""},{"$f":"IF('Process and CMS Information'!F270=\"\",\"\",'Process and CMS Information'!F270)","v":""},"",{"$f":"IF(COUNTIF(AY$2:AY248,AY248)=1,AY248,\"\")","v":""},"","","",""]
[null,null,null,null,null,null,null,null,null,null,null,null,null,null,null,null,null,null,null,null,null,null,null,null,null,null,{"$f":"+IF(AF249=\"\",\"\",MAX(AA$1:AA248)+1)","v":""},{"$f":"IF('Excess Emissions'!B271=\"\",\"\",'Excess Emissions'!B271)","v":""},{"$f":"IF('Excess Emissions'!C271=\"\",\"\",'Excess Emissions'!C271)","v":""},{"$f":"IF('Excess Emissions'!D271=\"\",\"\",'Excess Emissions'!D271)","v":""},"",{"$f":"IF(COUNTIF(AE$2:AE249,AE249)=1,AC249,\"\")","v":""},"","","",null,{"$f":"+IF(AP249=\"\",\"\",MAX(AK$1:AK248)+1)","v":""},{"$f":"IF('CMS Downtime Detail'!B271=\"\",\"\",'CMS Downtime Detail'!B271)","v":""},{"$f":"IF('CMS Downtime Detail'!C271=\"\",\"\",'CMS Downtime Detail'!C271)","v":""},{"$f":"IF('CMS Downtime Detail'!D271=\"\",\"\",'CMS Downtime Detail'!D271)","v":""},"",{"$f":"IF(COUNTIF(AO$2:AO249,AO249)=1,AM249,\"\")","v":""},"","","",null,{"$f":"+IF(AZ249=\"\",\"\",MAX(AU$1:AU248)+1)","v":""},{"$f":"IF('Process and CMS Information'!B271=\"\",\"\",'Process and CMS Information'!B271)","v":""},{"$f":"IF('Process and CMS Information'!C271=\"\",\"\",'Process and CMS Information'!C271)","v":""},{"$f":"IF('Process and CMS Information'!F271=\"\",\"\",'Process and CMS Information'!F271)","v":""},"",{"$f":"IF(COUNTIF(AY$2:AY249,AY249)=1,AY249,\"\")","v":""},"","","",""]
[null,null,null,null,null,null,null,null,null,null,null,null,null,null,null,null,null,null,null,null,null,null,null,null,null,null,{"$f":"+IF(AF250=\"\",\"\",MAX(AA$1:AA249)+1)","v":""},{"$f":"IF('Excess Emissions'!B272=\"\",\"\",'Excess Emissions'!B272)","v":""},{"$f":"IF('Excess Emissions'!C272=\"\",\"\",'Excess Emissions'!C272)","v":""},{"$f":"IF('Excess Emissions'!D272=\"\",\"\",'Excess Emissions'!D272)","v":""},"",{"$f":"IF(COUNTIF(AE$2:AE250,AE250)=1,AC250,\"\")","v":""},"","","",null,{"$f":"+IF(AP250=\"\",\"\",MAX(AK$1:AK249)+1)","v":""},{"$f":"IF('CMS Downtime Detail'!B272=\"\",\"\",'CMS Downtime Detail'!B272)","v":""},{"$f":"IF('CMS Downtime Detail'!C272=\"\",\"\",'CMS Downtime Detail'!C272)","v":""},{"$f":"IF('CMS Downtime Detail'!D272=\"\",\"\",'CMS Downtime Detail'!D272)","v":""},"",{"$f":"IF(COUNTIF(AO$2:AO250,AO250)=1,AM250,\"\")","v":""},"","","",null,{"$f":"+IF(AZ250=\"\",\"\",MAX(AU$1:AU249)+1)","v":""},{"$f":"IF('Process and CMS Information'!B272=\"\",\"\",'Process and CMS Information'!B272)","v":""},{"$f":"IF('Process and CMS Information'!C272=\"\",\"\",'Process and CMS Information'!C272)","v":""},{"$f":"IF('Process and CMS Information'!F272=\"\",\"\",'Process and CMS Information'!F272)","v":""},"",{"$f":"IF(COUNTIF(AY$2:AY250,AY250)=1,AY250,\"\")","v":""},"","","",""]
[null,null,null,null,null,null,null,null,null,null,null,null,null,null,null,null,null,null,null,null,null,null,null,null,null,null,{"$f":"+IF(AF251=\"\",\"\",MAX(AA$1:AA250)+1)","v":""},{"$f":"IF('Excess Emissions'!B273=\"\",\"\",'Excess Emissions'!B273)","v":""},{"$f":"IF('Excess Emissions'!C273=\"\",\"\",'Excess Emissions'!C273)","v":""},{"$f":"IF('Excess Emissions'!D273=\"\",\"\",'Excess Emissions'!D273)","v":""},"",{"$f":"IF(COUNTIF(AE$2:AE251,AE251)=1,AC251,\"\")","v":""},"","","",null,{"$f":"+IF(AP251=\"\",\"\",MAX(AK$1:AK250)+1)","v":""},{"$f":"IF('CMS Downtime Detail'!B273=\"\",\"\",'CMS Downtime Detail'!B273)","v":""},{"$f":"IF('CMS Downtime Detail'!C273=\"\",\"\",'CMS Downtime Detail'!C273)","v":""},{"$f":"IF('CMS Downtime Detail'!D273=\"\",\"\",'CMS Downtime Detail'!D273)","v":""},"",{"$f":"IF(COUNTIF(AO$2:AO251,AO251)=1,AM251,\"\")","v":""},"","","",null,{"$f":"+IF(AZ251=\"\",\"\",MAX(AU$1:AU250)+1)","v":""},{"$f":"IF('Process and CMS Information'!B273=\"\",\"\",'Process and CMS Information'!B273)","v":""},{"$f":"IF('Process and CMS Information'!C273=\"\",\"\",'Process and CMS Information'!C273)","v":""},{"$f":"IF('Process and CMS Information'!F273=\"\",\"\",'Process and CMS Information'!F273)","v":""},"",{"$f":"IF(COUNTIF(AY$2:AY251,AY251)=1,AY251,\"\")","v":""},"","","",""]
[null,null,null,null,null,null,null,null,null,null,null,null,null,null,null,null,null,null,null,null,null,null,null,null,null,null,{"$f":"+IF(AF252=\"\",\"\",MAX(AA$1:AA251)+1)","v":""},{"$f":"IF('Excess Emissions'!B274=\"\",\"\",'Excess Emissions'!B274)","v":""},{"$f":"IF('Excess Emissions'!C274=\"\",\"\",'Excess Emissions'!C274)","v":""},{"$f":"IF('Excess Emissions'!D274=\"\",\"\",'Excess Emissions'!D274)","v":""},"",{"$f":"IF(COUNTIF(AE$2:AE252,AE252)=1,AC252,\"\")","v":""},"","","",null,{"$f":"+IF(AP252=\"\",\"\",MAX(AK$1:AK251)+1)","v":""},{"$f":"IF('CMS Downtime Detail'!B274=\"\",\"\",'CMS Downtime Detail'!B274)","v":""},{"$f":"IF('CMS Downtime Detail'!C274=\"\",\"\",'CMS Downtime Detail'!C274)","v":""},{"$f":"IF('CMS Downtime Detail'!D274=\"\",\"\",'CMS Downtime Detail'!D274)","v":""},"",{"$f":"IF(COUNTIF(AO$2:AO252,AO252)=1,AM252,\"\")","v":""},"","","",null,{"$f":"+IF(AZ252=\"\",\"\",MAX(AU$1:AU251)+1)","v":""},{"$f":"IF('Process and CMS Information'!B274=\"\",\"\",'Process and CMS Information'!B274)","v":""},{"$f":"IF('Process and CMS Information'!C274=\"\",\"\",'Process and CMS Information'!C274)","v":""},{"$f":"IF('Process and CMS Information'!F274=\"\",\"\",'Process and CMS Information'!F274)","v":""},"",{"$f":"IF(COUNTIF(AY$2:AY252,AY252)=1,AY252,\"\")","v":""},"","","",""]
[null,null,null,null,null,null,null,null,null,null,null,null,null,null,null,null,null,null,null,null,null,null,null,null,null,null,{"$f":"+IF(AF253=\"\",\"\",MAX(AA$1:AA252)+1)","v":""},{"$f":"IF('Excess Emissions'!B275=\"\",\"\",'Excess Emissions'!B275)","v":""},{"$f":"IF('Excess Emissions'!C275=\"\",\"\",'Excess Emissions'!C275)","v":""},{"$f":"IF('Excess Emissions'!D275=\"\",\"\",'Excess Emissions'!D275)","v":""},"",{"$f":"IF(COUNTIF(AE$2:AE253,AE253)=1,AC253,\"\")","v":""},"","","",null,{"$f":"+IF(AP253=\"\",\"\",MAX(AK$1:AK252)+1)","v":""},{"$f":"IF('CMS Downtime Detail'!B275=\"\",\"\",'CMS Downtime Detail'!B275)","v":""},{"$f":"IF('CMS Downtime Detail'!C275=\"\",\"\",'CMS Downtime Detail'!C275)","v":""},{"$f":"IF('CMS Downtime Detail'!D275=\"\",\"\",'CMS Downtime Detail'!D275)","v":""},"",{"$f":"IF(COUNTIF(AO$2:AO253,AO253)=1,AM253,\"\")","v":""},"","","",null,{"$f":"+IF(AZ253=\"\",\"\",MAX(AU$1:AU252)+1)","v":""},{"$f":"IF('Process and CMS Information'!B275=\"\",\"\",'Process and CMS Information'!B275)","v":""},{"$f":"IF('Process and CMS Information'!C275=\"\",\"\",'Process and CMS Information'!C275)","v":""},{"$f":"IF('Process and CMS Information'!F275=\"\",\"\",'Process and CMS Information'!F275)","v":""},"",{"$f":"IF(COUNTIF(AY$2:AY253,AY253)=1,AY253,\"\")","v":""},"","","",""]
[null,null,null,null,null,null,null,null,null,null,null,null,null,null,null,null,null,null,null,null,null,null,null,null,null,null,{"$f":"+IF(AF254=\"\",\"\",MAX(AA$1:AA253)+1)","v":""},{"$f":"IF('Excess Emissions'!B276=\"\",\"\",'Excess Emissions'!B276)","v":""},{"$f":"IF('Excess Emissions'!C276=\"\",\"\",'Excess Emissions'!C276)","v":""},{"$f":"IF('Excess Emissions'!D276=\"\",\"\",'Excess Emissions'!D276)","v":""},"",{"$f":"IF(COUNTIF(AE$2:AE254,AE254)=1,AC254,\"\")","v":""},"","","",null,{"$f":"+IF(AP254=\"\",\"\",MAX(AK$1:AK253)+1)","v":""},{"$f":"IF('CMS Downtime Detail'!B276=\"\",\"\",'CMS Downtime Detail'!B276)","v":""},{"$f":"IF('CMS Downtime Detail'!C276=\"\",\"\",'CMS Downtime Detail'!C276)","v":""},{"$f":"IF('CMS Downtime Detail'!D276=\"\",\"\",'CMS Downtime Detail'!D276)","v":""},"",{"$f":"IF(COUNTIF(AO$2:AO254,AO254)=1,AM254,\"\")","v":""},"","","",null,{"$f":"+IF(AZ254=\"\",\"\",MAX(AU$1:AU253)+1)","v":""},{"$f":"IF('Process and CMS Information'!B276=\"\",\"\",'Process and CMS Information'!B276)","v":""},{"$f":"IF('Process and CMS Information'!C276=\"\",\"\",'Process and CMS Information'!C276)","v":""},{"$f":"IF('Process and CMS Information'!F276=\"\",\"\",'Process and CMS Information'!F276)","v":""},"",{"$f":"IF(COUNTIF(AY$2:AY254,AY254)=1,AY254,\"\")","v":""},"","","",""]
[null,null,null,null,null,null,null,null,null,null,null,null,null,null,null,null,null,null,null,null,null,null,null,null,null,null,{"$f":"+IF(AF255=\"\",\"\",MAX(AA$1:AA254)+1)","v":""},{"$f":"IF('Excess Emissions'!B277=\"\",\"\",'Excess Emissions'!B277)","v":""},{"$f":"IF('Excess Emissions'!C277=\"\",\"\",'Excess Emissions'!C277)","v":""},{"$f":"IF('Excess Emissions'!D277=\"\",\"\",'Excess Emissions'!D277)","v":""},"",{"$f":"IF(COUNTIF(AE$2:AE255,AE255)=1,AC255,\"\")","v":""},"","","",null,{"$f":"+IF(AP255=\"\",\"\",MAX(AK$1:AK254)+1)","v":""},{"$f":"IF('CMS Downtime Detail'!B277=\"\",\"\",'CMS Downtime Detail'!B277)","v":""},{"$f":"IF('CMS Downtime Detail'!C277=\"\",\"\",'CMS Downtime Detail'!C277)","v":""},{"$f":"IF('CMS Downtime Detail'!D277=\"\",\"\",'CMS Downtime Detail'!D277)","v":""},"",{"$f":"IF(COUNTIF(AO$2:AO255,AO255)=1,AM255,\"\")","v":""},"","","",null,{"$f":"+IF(AZ255=\"\",\"\",MAX(AU$1:AU254)+1)","v":""},{"$f":"IF('Process and CMS Information'!B277=\"\",\"\",'Process and CMS Information'!B277)","v":""},{"$f":"IF('Process and CMS Information'!C277=\"\",\"\",'Process and CMS Information'!C277)","v":""},{"$f":"IF('Process and CMS Information'!F277=\"\",\"\",'Process and CMS Information'!F277)","v":""},"",{"$f":"IF(COUNTIF(AY$2:AY255,AY255)=1,AY255,\"\")","v":""},"","","",""]
[null,null,null,null,null,null,null,null,null,null,null,null,null,null,null,null,null,null,null,null,null,null,null,null,null,null,{"$f":"+IF(AF256=\"\",\"\",MAX(AA$1:AA255)+1)","v":""},{"$f":"IF('Excess Emissions'!B278=\"\",\"\",'Excess Emissions'!B278)","v":""},{"$f":"IF('Excess Emissions'!C278=\"\",\"\",'Excess Emissions'!C278)","v":""},{"$f":"IF('Excess Emissions'!D278=\"\",\"\",'Excess Emissions'!D278)","v":""},"",{"$f":"IF(COUNTIF(AE$2:AE256,AE256)=1,AC256,\"\")","v":""},"","","",null,{"$f":"+IF(AP256=\"\",\"\",MAX(AK$1:AK255)+1)","v":""},{"$f":"IF('CMS Downtime Detail'!B278=\"\",\"\",'CMS Downtime Detail'!B278)","v":""},{"$f":"IF('CMS Downtime Detail'!C278=\"\",\"\",'CMS Downtime Detail'!C278)","v":""},{"$f":"IF('CMS Downtime Detail'!D278=\"\",\"\",'CMS Downtime Detail'!D278)","v":""},"",{"$f":"IF(COUNTIF(AO$2:AO256,AO256)=1,AM256,\"\")","v":""},"","","",null,{"$f":"+IF(AZ256=\"\",\"\",MAX(AU$1:AU255)+1)","v":""},{"$f":"IF('Process and CMS Information'!B278=\"\",\"\",'Process and CMS Information'!B278)","v":""},{"$f":"IF('Process and CMS Information'!C278=\"\",\"\",'Process and CMS Information'!C278)","v":""},{"$f":"IF('Process and CMS Information'!F278=\"\",\"\",'Process and CMS Information'!F278)","v":""},"",{"$f":"IF(COUNTIF(AY$2:AY256,AY256)=1,AY256,\"\")","v":""},"","","",""]
[null,null,null,null,null,null,null,null,null,null,null,null,null,null,null,null,null,null,null,null,null,null,null,null,null,null,{"$f":"+IF(AF257=\"\",\"\",MAX(AA$1:AA256)+1)","v":""},{"$f":"IF('Excess Emissions'!B279=\"\",\"\",'Excess Emissions'!B279)","v":""},{"$f":"IF('Excess Emissions'!C279=\"\",\"\",'Excess Emissions'!C279)","v":""},{"$f":"IF('Excess Emissions'!D279=\"\",\"\",'Excess Emissions'!D279)","v":""},"",{"$f":"IF(COUNTIF(AE$2:AE257,AE257)=1,AC257,\"\")","v":""},"","","",null,{"$f":"+IF(AP257=\"\",\"\",MAX(AK$1:AK256)+1)","v":""},{"$f":"IF('CMS Downtime Detail'!B279=\"\",\"\",'CMS Downtime Detail'!B279)","v":""},{"$f":"IF('CMS Downtime Detail'!C279=\"\",\"\",'CMS Downtime Detail'!C279)","v":""},{"$f":"IF('CMS Downtime Detail'!D279=\"\",\"\",'CMS Downtime Detail'!D279)","v":""},"",{"$f":"IF(COUNTIF(AO$2:AO257,AO257)=1,AM257,\"\")","v":""},"","","",null,{"$f":"+IF(AZ257=\"\",\"\",MAX(AU$1:AU256)+1)","v":""},{"$f":"IF('Process and CMS Information'!B279=\"\",\"\",'Process and CMS Information'!B279)","v":""},{"$f":"IF('Process and CMS Information'!C279=\"\",\"\",'Process and CMS Information'!C279)","v":""},{"$f":"IF('Process and CMS Information'!F279=\"\",\"\",'Process and CMS Information'!F279)","v":""},"",{"$f":"IF(COUNTIF(AY$2:AY257,AY257)=1,AY257,\"\")","v":""},"","","",""]
[null,null,null,null,null,null,null,null,null,null,null,null,null,null,null,null,null,null,null,null,null,null,null,null,null,null,{"$f":"+IF(AF258=\"\",\"\",MAX(AA$1:AA257)+1)","v":""},{"$f":"IF('Excess Emissions'!B280=\"\",\"\",'Excess Emissions'!B280)","v":""},{"$f":"IF('Excess Emissions'!C280=\"\",\"\",'Excess Emissions'!C280)","v":""},{"$f":"IF('Excess Emissions'!D280=\"\",\"\",'Excess Emissions'!D280)","v":""},"",{"$f":"IF(COUNTIF(AE$2:AE258,AE258)=1,AC258,\"\")","v":""},"","","",null,{"$f":"+IF(AP258=\"\",\"\",MAX(AK$1:AK257)+1)","v":""},{"$f":"IF('CMS Downtime Detail'!B280=\"\",\"\",'CMS Downtime Detail'!B280)","v":""},{"$f":"IF('CMS Downtime Detail'!C280=\"\",\"\",'CMS Downtime Detail'!C280)","v":""},{"$f":"IF('CMS Downtime Detail'!D280=\"\",\"\",'CMS Downtime Detail'!D280)","v":""},"",{"$f":"IF(COUNTIF(AO$2:AO258,AO258)=1,AM258,\"\")","v":""},"","","",null,{"$f":"+IF(AZ258=\"\",\"\",MAX(AU$1:AU257)+1)","v":""},{"$f":"IF('Process and CMS Information'!B280=\"\",\"\",'Process and CMS Information'!B280)","v":""},{"$f":"IF('Process and CMS Information'!C280=\"\",\"\",'Process and CMS Information'!C280)","v":""},{"$f":"IF('Process and CMS Information'!F280=\"\",\"\",'Process and CMS Information'!F280)","v":""},"",{"$f":"IF(COUNTIF(AY$2:AY258,AY258)=1,AY258,\"\")","v":""},"","","",""]
[null,null,null,null,null,null,null,null,null,null,null,null,null,null,null,null,null,null,null,null,null,null,null,null,null,null,{"$f":"+IF(AF259=\"\",\"\",MAX(AA$1:AA258)+1)","v":""},{"$f":"IF('Excess Emissions'!B281=\"\",\"\",'Excess Emissions'!B281)","v":""},{"$f":"IF('Excess Emissions'!C281=\"\",\"\",'Excess Emissions'!C281)","v":""},{"$f":"IF('Excess Emissions'!D281=\"\",\"\",'Excess Emissions'!D281)","v":""},{"$f":"AB259&AC259&AD259","v":""},{"$f":"IF(COUNTIF(AE$2:AE259,AE259)=1,AC259,\"\")","v":""},{"$f":"+IFERROR(INDEX(AB$2:AB$500,MATCH(ROW()-ROW($AF$1),$AA$2:$AA$500,0)),\"\")","v":""},{"$f":"+IFERROR(INDEX(AC$2:AC$500,MATCH(ROW()-ROW($AF$1),$AA$2:$AA$500,0)),\"\")","v":""},{"$f":"+IFERROR(INDEX(AD$2:AD$500,MATCH(ROW()-ROW($AF$1),$AA$2:$AA$500,0)),\"\")","v":""},null,{"$f":"+IF(AP259=\"\",\"\",MAX(AK$1:AK258)+1)","v":""},{"$f":"IF('CMS Downtime Detail'!B281=\"\",\"\",'CMS Downtime Detail'!B281)","v":""},{"$f":"IF('CMS Downtime Detail'!C281=\"\",\"\",'CMS Downtime Detail'!C281)","v":""},{"$f":"IF('CMS Downtime Detail'!D281=\"\",\"\",'CMS Downtime Detail'!D281)","v":""},{"$f":"AL259&AM259&AN259","v":""},{"$f":"IF(COUNTIF(AO$2:AO259,AO259)=1,AM259,\"\")","v":""},{"$f":"+IFERROR(INDEX(AL$2:AL$500,MATCH(ROW()-ROW($AP$1),$AK$2:$AK$500,0)),\"\")","v":""},{"$f":"+IFERROR(INDEX(AM$2:AM$500,MATCH(ROW()-ROW($AP$1),$AK$2:$AK$500,0)),\"\")","v":""},{"$f":"+IFERROR(INDEX(AN$2:AN$500,MATCH(ROW()-ROW($AP$1),$AK$2:$AK$500,0)),\"\")","v":""},null,{"$f":"+IF(AZ259=\"\",\"\",MAX(AU$1:AU258)+1)","v":""},{"$f":"IF('Process and CMS Information'!B281=\"\",\"\",'Process and CMS Information'!B281)","v":""},{"$f":"IF('Process and CMS Information'!C281=\"\",\"\",'Process and CMS Information'!C281)","v":""},{"$f":"IF('Process and CMS Information'!F281=\"\",\"\",'Process and CMS Information'!F281)","v":""},{"$f":"AV259&AW259","v":""},{"$f":"IF(COUNTIF(AY$2:AY259,AY259)=1,AY259,\"\")","v":""},{"$f":"+IFERROR(INDEX(AY$2:AY$500,MATCH(ROW()-ROW($AZ$1),$AU$2:$AU$500,0)),\"\")","v":""},{"$f":"+IFERROR(INDEX(AV$2:AV$500,MATCH(ROW()-ROW($AZ$1),$AU$2:$AU$500,0)),\"\")","v":""},{"$f":"+IFERROR(INDEX(AW$2:AW$500,MATCH(ROW()-ROW($AZ$1),$AU$2:$AU$500,0)),\"\")","v":""},{"$f":"+IFERROR(INDEX(AX$2:AX$500,MATCH(ROW()-ROW($AZ$1),$AU$2:$AU$500,0)),\"\")","v":""}]
[null,null,null,null,null,null,null,null,null,null,null,null,null,null,null,null,null,null,null,null,null,null,null,null,null,null,{"$f":"+IF(AF260=\"\",\"\",MAX(AA$1:AA259)+1)","v":""},{"$f":"IF('Excess Emissions'!B282=\"\",\"\",'Excess Emissions'!B282)","v":""},{"$f":"IF('Excess Emissions'!C282=\"\",\"\",'Excess Emissions'!C282)","v":""},{"$f":"IF('Excess Emissions'!D282=\"\",\"\",'Excess Emissions'!D282)","v":""},"",{"$f":"IF(COUNTIF(AE$2:AE260,AE260)=1,AC260,\"\")","v":""},"","","",null,{"$f":"+IF(AP260=\"\",\"\",MAX(AK$1:AK259)+1)","v":""},{"$f":"IF('CMS Downtime Detail'!B282=\"\",\"\",'CMS Downtime Detail'!B282)","v":""},{"$f":"IF('CMS Downtime Detail'!C282=\"\",\"\",'CMS Downtime Detail'!C282)","v":""},{"$f":"IF('CMS Downtime Detail'!D282=\"\",\"\",'CMS Downtime Detail'!D282)","v":""},"",{"$f":"IF(COUNTIF(AO$2:AO260,AO260)=1,AM260,\"\")","v":""},"","","",null,{"$f":"+IF(AZ260=\"\",\"\",MAX(AU$1:AU259)+1)","v":""},{"$f":"IF('Process and CMS Information'!B282=\"\",\"\",'Process and CMS Information'!B282)","v":""},{"$f":"IF('Process and CMS Information'!C282=\"\",\"\",'Process and CMS Information'!C282)","v":""},{"$f":"IF('Process and CMS Information'!F282=\"\",\"\",'Process and CMS Information'!F282)","v":""},"",{"$f":"IF(COUNTIF(AY$2:AY260,AY260)=1,AY260,\"\")","v":""},"","","",""]
[null,null,null,null,null,null,null,null,null,null,null,null,null,null,null,null,null,null,null,null,null,null,null,null,null,null,{"$f":"+IF(AF261=\"\",\"\",MAX(AA$1:AA260)+1)","v":""},{"$f":"IF('Excess Emissions'!B283=\"\",\"\",'Excess Emissions'!B283)","v":""},{"$f":"IF('Excess Emissions'!C283=\"\",\"\",'Excess Emissions'!C283)","v":""},{"$f":"IF('Excess Emissions'!D283=\"\",\"\",'Excess Emissions'!D283)","v":""},"",{"$f":"IF(COUNTIF(AE$2:AE261,AE261)=1,AC261,\"\")","v":""},"","","",null,{"$f":"+IF(AP261=\"\",\"\",MAX(AK$1:AK260)+1)","v":""},{"$f":"IF('CMS Downtime Detail'!B283=\"\",\"\",'CMS Downtime Detail'!B283)","v":""},{"$f":"IF('CMS Downtime Detail'!C283=\"\",\"\",'CMS Downtime Detail'!C283)","v":""},{"$f":"IF('CMS Downtime Detail'!D283=\"\",\"\",'CMS Downtime Detail'!D283)","v":""},"",{"$f":"IF(COUNTIF(AO$2:AO261,AO261)=1,AM261,\"\")","v":""},"","","",null,{"$f":"+IF(AZ261=\"\",\"\",MAX(AU$1:AU260)+1)","v":""},{"$f":"IF('Process and CMS Information'!B283=\"\",\"\",'Process and CMS Information'!B283)","v":""},{"$f":"IF('Process and CMS Information'!C283=\"\",\"\",'Process and CMS Information'!C283)","v":""},{"$f":"IF('Process and CMS Information'!F283=\"\",\"\",'Process and CMS Information'!F283)","v":""},"",{"$f":"IF(COUNTIF(AY$2:AY261,AY261)=1,AY261,\"\")","v":""},"","","",""]
[null,null,null,null,null,null,null,null,null,null,null,null,null,null,null,null,null,null,null,null,null,null,null,null,null,null,{"$f":"+IF(AF262=\"\",\"\",MAX(AA$1:AA261)+1)","v":""},{"$f":"IF('Excess Emissions'!B284=\"\",\"\",'Excess Emissions'!B284)","v":""},{"$f":"IF('Excess Emissions'!C284=\"\",\"\",'Excess Emissions'!C284)","v":""},{"$f":"IF('Excess Emissions'!D284=\"\",\"\",'Excess Emissions'!D284)","v":""},"",{"$f":"IF(COUNTIF(AE$2:AE262,AE262)=1,AC262,\"\")","v":""},"","","",null,{"$f":"+IF(AP262=\"\",\"\",MAX(AK$1:AK261)+1)","v":""},{"$f":"IF('CMS Downtime Detail'!B284=\"\",\"\",'CMS Downtime Detail'!B284)","v":""},{"$f":"IF('CMS Downtime Detail'!C284=\"\",\"\",'CMS Downtime Detail'!C284)","v":""},{"$f":"IF('CMS Downtime Detail'!D284=\"\",\"\",'CMS Downtime Detail'!D284)","v":""},"",{"$f":"IF(COUNTIF(AO$2:AO262,AO262)=1,AM262,\"\")","v":""},"","","",null,{"$f":"+IF(AZ262=\"\",\"\",MAX(AU$1:AU261)+1)","v":""},{"$f":"IF('Process and CMS Information'!B284=\"\",\"\",'Process and CMS Information'!B284)","v":""},{"$f":"IF('Process and CMS Information'!C284=\"\",\"\",'Process and CMS Information'!C284)","v":""},{"$f":"IF('Process and CMS Information'!F284=\"\",\"\",'Process and CMS Information'!F284)","v":""},"",{"$f":"IF(COUNTIF(AY$2:AY262,AY262)=1,AY262,\"\")","v":""},"","","",""]
[null,null,null,null,null,null,null,null,null,null,null,null,null,null,null,null,null,null,null,null,null,null,null,null,null,null,{"$f":"+IF(AF263=\"\",\"\",MAX(AA$1:AA262)+1)","v":""},{"$f":"IF('Excess Emissions'!B285=\"\",\"\",'Excess Emissions'!B285)","v":""},{"$f":"IF('Excess Emissions'!C285=\"\",\"\",'Excess Emissions'!C285)","v":""},{"$f":"IF('Excess Emissions'!D285=\"\",\"\",'Excess Emissions'!D285)","v":""},"",{"$f":"IF(COUNTIF(AE$2:AE263,AE263)=1,AC263,\"\")","v":""},"","","",null,{"$f":"+IF(AP263=\"\",\"\",MAX(AK$1:AK262)+1)","v":""},{"$f":"IF('CMS Downtime Detail'!B285=\"\",\"\",'CMS Downtime Detail'!B285)","v":""},{"$f":"IF('CMS Downtime Detail'!C285=\"\",\"\",'CMS Downtime Detail'!C285)","v":""},{"$f":"IF('CMS Downtime Detail'!D285=\"\",\"\",'CMS Downtime Detail'!D285)","v":""},"",{"$f":"IF(COUNTIF(AO$2:AO263,AO263)=1,AM263,\"\")","v":""},"","","",null,{"$f":"+IF(AZ263=\"\",\"\",MAX(AU$1:AU262)+1)","v":""},{"$f":"IF('Process and CMS Information'!B285=\"\",\"\",'Process and CMS Information'!B285)","v":""},{"$f":"IF('Process and CMS Information'!C285=\"\",\"\",'Process and CMS Information'!C285)","v":""},{"$f":"IF('Process and CMS Information'!F285=\"\",\"\",'Process and CMS Information'!F285)","v":""},"",{"$f":"IF(COUNTIF(AY$2:AY263,AY263)=1,AY263,\"\")","v":""},"","","",""]
[null,null,null,null,null,null,null,null,null,null,null,null,null,null,null,null,null,null,null,null,null,null,null,null,null,null,{"$f":"+IF(AF264=\"\",\"\",MAX(AA$1:AA263)+1)","v":""},{"$f":"IF('Excess Emissions'!B286=\"\",\"\",'Excess Emissions'!B286)","v":""},{"$f":"IF('Excess Emissions'!C286=\"\",\"\",'Excess Emissions'!C286)","v":""},{"$f":"IF('Excess Emissions'!D286=\"\",\"\",'Excess Emissions'!D286)","v":""},"",{"$f":"IF(COUNTIF(AE$2:AE264,AE264)=1,AC264,\"\")","v":""},"","","",null,{"$f":"+IF(AP264=\"\",\"\",MAX(AK$1:AK263)+1)","v":""},{"$f":"IF('CMS Downtime Detail'!B286=\"\",\"\",'CMS Downtime Detail'!B286)","v":""},{"$f":"IF('CMS Downtime Detail'!C286=\"\",\"\",'CMS Downtime Detail'!C286)","v":""},{"$f":"IF('CMS Downtime Detail'!D286=\"\",\"\",'CMS Downtime Detail'!D286)","v":""},"",{"$f":"IF(COUNTIF(AO$2:AO264,AO264)=1,AM264,\"\")","v":""},"","","",null,{"$f":"+IF(AZ264=\"\",\"\",MAX(AU$1:AU263)+1)","v":""},{"$f":"IF('Process and CMS Information'!B286=\"\",\"\",'Process and CMS Information'!B286)","v":""},{"$f":"IF('Process and CMS Information'!C286=\"\",\"\",'Process and CMS Information'!C286)","v":""},{"$f":"IF('Process and CMS Information'!F286=\"\",\"\",'Process and CMS Information'!F286)","v":""},"",{"$f":"IF(COUNTIF(AY$2:AY264,AY264)=1,AY264,\"\")","v":""},"","","",""]
[null,null,null,null,null,null,null,null,null,null,null,null,null,null,null,null,null,null,null,null,null,null,null,null,null,null,{"$f":"+IF(AF265=\"\",\"\",MAX(AA$1:AA264)+1)","v":""},{"$f":"IF('Excess Emissions'!B287=\"\",\"\",'Excess Emissions'!B287)","v":""},{"$f":"IF('Excess Emissions'!C287=\"\",\"\",'Excess Emissions'!C287)","v":""},{"$f":"IF('Excess Emissions'!D287=\"\",\"\",'Excess Emissions'!D287)","v":""},"",{"$f":"IF(COUNTIF(AE$2:AE265,AE265)=1,AC265,\"\")","v":""},"","","",null,{"$f":"+IF(AP265=\"\",\"\",MAX(AK$1:AK264)+1)","v":""},{"$f":"IF('CMS Downtime Detail'!B287=\"\",\"\",'CMS Downtime Detail'!B287)","v":""},{"$f":"IF('CMS Downtime Detail'!C287=\"\",\"\",'CMS Downtime Detail'!C287)","v":""},{"$f":"IF('CMS Downtime Detail'!D287=\"\",\"\",'CMS Downtime Detail'!D287)","v":""},"",{"$f":"IF(COUNTIF(AO$2:AO265,AO265)=1,AM265,\"\")","v":""},"","","",null,{"$f":"+IF(AZ265=\"\",\"\",MAX(AU$1:AU264)+1)","v":""},{"$f":"IF('Process and CMS Information'!B287=\"\",\"\",'Process and CMS Information'!B287)","v":""},{"$f":"IF('Process and CMS Information'!C287=\"\",\"\",'Process and CMS Information'!C287)","v":""},{"$f":"IF('Process and CMS Information'!F287=\"\",\"\",'Process and CMS Information'!F287)","v":""},"",{"$f":"IF(COUNTIF(AY$2:AY265,AY265)=1,AY265,\"\")","v":""},"","","",""]
[null,null,null,null,null,null,null,null,null,null,null,null,null,null,null,null,null,null,null,null,null,null,null,null,null,null,{"$f":"+IF(AF266=\"\",\"\",MAX(AA$1:AA265)+1)","v":""},{"$f":"IF('Excess Emissions'!B288=\"\",\"\",'Excess Emissions'!B288)","v":""},{"$f":"IF('Excess Emissions'!C288=\"\",\"\",'Excess Emissions'!C288)","v":""},{"$f":"IF('Excess Emissions'!D288=\"\",\"\",'Excess Emissions'!D288)","v":""},"",{"$f":"IF(COUNTIF(AE$2:AE266,AE266)=1,AC266,\"\")","v":""},"","","",null,{"$f":"+IF(AP266=\"\",\"\",MAX(AK$1:AK265)+1)","v":""},{"$f":"IF('CMS Downtime Detail'!B288=\"\",\"\",'CMS Downtime Detail'!B288)","v":""},{"$f":"IF('CMS Downtime Detail'!C288=\"\",\"\",'CMS Downtime Detail'!C288)","v":""},{"$f":"IF('CMS Downtime Detail'!D288=\"\",\"\",'CMS Downtime Detail'!D288)","v":""},"",{"$f":"IF(COUNTIF(AO$2:AO266,AO266)=1,AM266,\"\")","v":""},"","","",null,{"$f":"+IF(AZ266=\"\",\"\",MAX(AU$1:AU265)+1)","v":""},{"$f":"IF('Process and CMS Information'!B288=\"\",\"\",'Process and CMS Information'!B288)","v":""},{"$f":"IF('Process and CMS Information'!C288=\"\",\"\",'Process and CMS Information'!C288)","v":""},{"$f":"IF('Process and CMS Information'!F288=\"\",\"\",'Process and CMS Information'!F288)","v":""},"",{"$f":"IF(COUNTIF(AY$2:AY266,AY266)=1,AY266,\"\")","v":""},"","","",""]
[null,null,null,null,null,null,null,null,null,null,null,null,null,null,null,null,null,null,null,null,null,null,null,null,null,null,{"$f":"+IF(AF267=\"\",\"\",MAX(AA$1:AA266)+1)","v":""},{"$f":"IF('Excess Emissions'!B289=\"\",\"\",'Excess Emissions'!B289)","v":""},{"$f":"IF('Excess Emissions'!C289=\"\",\"\",'Excess Emissions'!C289)","v":""},{"$f":"IF('Excess Emissions'!D289=\"\",\"\",'Excess Emissions'!D289)","v":""},"",{"$f":"IF(COUNTIF(AE$2:AE267,AE267)=1,AC267,\"\")","v":""},"","","",null,{"$f":"+IF(AP267=\"\",\"\",MAX(AK$1:AK266)+1)","v":""},{"$f":"IF('CMS Downtime Detail'!B289=\"\",\"\",'CMS Downtime Detail'!B289)","v":""},{"$f":"IF('CMS Downtime Detail'!C289=\"\",\"\",'CMS Downtime Detail'!C289)","v":""},{"$f":"IF('CMS Downtime Detail'!D289=\"\",\"\",'CMS Downtime Detail'!D289)","v":""},"",{"$f":"IF(COUNTIF(AO$2:AO267,AO267)=1,AM267,\"\")","v":""},"","","",null,{"$f":"+IF(AZ267=\"\",\"\",MAX(AU$1:AU266)+1)","v":""},{"$f":"IF('Process and CMS Information'!B289=\"\",\"\",'Process and CMS Information'!B289)","v":""},{"$f":"IF('Process and CMS Information'!C289=\"\",\"\",'Process and CMS Information'!C289)","v":""},{"$f":"IF('Process and CMS Information'!F289=\"\",\"\",'Process and CMS Information'!F289)","v":""},"",{"$f":"IF(COUNTIF(AY$2:AY267,AY267)=1,AY267,\"\")","v":""},"","","",""]
[null,null,null,null,null,null,null,null,null,null,null,null,null,null,null,null,null,null,null,null,null,null,null,null,null,null,{"$f":"+IF(AF268=\"\",\"\",MAX(AA$1:AA267)+1)","v":""},{"$f":"IF('Excess Emissions'!B290=\"\",\"\",'Excess Emissions'!B290)","v":""},{"$f":"IF('Excess Emissions'!C290=\"\",\"\",'Excess Emissions'!C290)","v":""},{"$f":"IF('Excess Emissions'!D290=\"\",\"\",'Excess Emissions'!D290)","v":""},"",{"$f":"IF(COUNTIF(AE$2:AE268,AE268)=1,AC268,\"\")","v":""},"","","",null,{"$f":"+IF(AP268=\"\",\"\",MAX(AK$1:AK267)+1)","v":""},{"$f":"IF('CMS Downtime Detail'!B290=\"\",\"\",'CMS Downtime Detail'!B290)","v":""},{"$f":"IF('CMS Downtime Detail'!C290=\"\",\"\",'CMS Downtime Detail'!C290)","v":""},{"$f":"IF('CMS Downtime Detail'!D290=\"\",\"\",'CMS Downtime Detail'!D290)","v":""},"",{"$f":"IF(COUNTIF(AO$2:AO268,AO268)=1,AM268,\"\")","v":""},"","","",null,{"$f":"+IF(AZ268=\"\",\"\",MAX(AU$1:AU267)+1)","v":""},{"$f":"IF('Process and CMS Information'!B290=\"\",\"\",'Process and CMS Information'!B290)","v":""},{"$f":"IF('Process and CMS Information'!C290=\"\",\"\",'Process and CMS Information'!C290)","v":""},{"$f":"IF('Process and CMS Information'!F290=\"\",\"\",'Process and CMS Information'!F290)","v":""},"",{"$f":"IF(COUNTIF(AY$2:AY268,AY268)=1,AY268,\"\")","v":""},"","","",""]
[null,null,null,null,null,null,null,null,null,null,null,null,null,null,null,null,null,null,null,null,null,null,null,null,null,null,{"$f":"+IF(AF269=\"\",\"\",MAX(AA$1:AA268)+1)","v":""},{"$f":"IF('Excess Emissions'!B291=\"\",\"\",'Excess Emissions'!B291)","v":""},{"$f":"IF('Excess Emissions'!C291=\"\",\"\",'Excess Emissions'!C291)","v":""},{"$f":"IF('Excess Emissions'!D291=\"\",\"\",'Excess Emissions'!D291)","v":""},"",{"$f":"IF(COUNTIF(AE$2:AE269,AE269)=1,AC269,\"\")","v":""},"","","",null,{"$f":"+IF(AP269=\"\",\"\",MAX(AK$1:AK268)+1)","v":""},{"$f":"IF('CMS Downtime Detail'!B291=\"\",\"\",'CMS Downtime Detail'!B291)","v":""},{"$f":"IF('CMS Downtime Detail'!C291=\"\",\"\",'CMS Downtime Detail'!C291)","v":""},{"$f":"IF('CMS Downtime Detail'!D291=\"\",\"\",'CMS Downtime Detail'!D291)","v":""},"",{"$f":"IF(COUNTIF(AO$2:AO269,AO269)=1,AM269,\"\")","v":""},"","","",null,{"$f":"+IF(AZ269=\"\",\"\",MAX(AU$1:AU268)+1)","v":""},{"$f":"IF('Process and CMS Information'!B291=\"\",\"\",'Process and CMS Information'!B291)","v":""},{"$f":"IF('Process and CMS Information'!C291=\"\",\"\",'Process and CMS Information'!C291)","v":""},{"$f":"IF('Process and CMS Information'!F291=\"\",\"\",'Process and CMS Information'!F291)","v":""},"",{"$f":"IF(COUNTIF(AY$2:AY269,AY269)=1,AY269,\"\")","v":""},"","","",""]
[null,null,null,null,null,null,null,null,null,null,null,null,null,null,null,null,null,null,null,null,null,null,null,null,null,null,{"$f":"+IF(AF270=\"\",\"\",MAX(AA$1:AA269)+1)","v":""},{"$f":"IF('Excess Emissions'!B292=\"\",\"\",'Excess Emissions'!B292)","v":""},{"$f":"IF('Excess Emissions'!C292=\"\",\"\",'Excess Emissions'!C292)","v":""},{"$f":"IF('Excess Emissions'!D292=\"\",\"\",'Excess Emissions'!D292)","v":""},"",{"$f":"IF(COUNTIF(AE$2:AE270,AE270)=1,AC270,\"\")","v":""},"","","",null,{"$f":"+IF(AP270=\"\",\"\",MAX(AK$1:AK269)+1)","v":""},{"$f":"IF('CMS Downtime Detail'!B292=\"\",\"\",'CMS Downtime Detail'!B292)","v":""},{"$f":"IF('CMS Downtime Detail'!C292=\"\",\"\",'CMS Downtime Detail'!C292)","v":""},{"$f":"IF('CMS Downtime Detail'!D292=\"\",\"\",'CMS Downtime Detail'!D292)","v":""},"",{"$f":"IF(COUNTIF(AO$2:AO270,AO270)=1,AM270,\"\")","v":""},"","","",null,{"$f":"+IF(AZ270=\"\",\"\",MAX(AU$1:AU269)+1)","v":""},{"$f":"IF('Process and CMS Information'!B292=\"\",\"\",'Process and CMS Information'!B292)","v":""},{"$f":"IF('Process and CMS Information'!C292=\"\",\"\",'Process and CMS Information'!C292)","v":""},{"$f":"IF('Process and CMS Information'!F292=\"\",\"\",'Process and CMS Information'!F292)","v":""},"",{"$f":"IF(COUNTIF(AY$2:AY270,AY270)=1,AY270,\"\")","v":""},"","","",""]
[null,null,null,null,null,null,null,null,null,null,null,null,null,null,null,null,null,null,null,null,null,null,null,null,null,null,{"$f":"+IF(AF271=\"\",\"\",MAX(AA$1:AA270)+1)","v":""},{"$f":"IF('Excess Emissions'!B293=\"\",\"\",'Excess Emissions'!B293)","v":""},{"$f":"IF('Excess Emissions'!C293=\"\",\"\",'Excess Emissions'!C293)","v":""},{"$f":"IF('Excess Emissions'!D293=\"\",\"\",'Excess Emissions'!D293)","v":""},"",{"$f":"IF(COUNTIF(AE$2:AE271,AE271)=1,AC271,\"\")","v":""},"","","",null,{"$f":"+IF(AP271=\"\",\"\",MAX(AK$1:AK270)+1)","v":""},{"$f":"IF('CMS Downtime Detail'!B293=\"\",\"\",'CMS Downtime Detail'!B293)","v":""},{"$f":"IF('CMS Downtime Detail'!C293=\"\",\"\",'CMS Downtime Detail'!C293)","v":""},{"$f":"IF('CMS Downtime Detail'!D293=\"\",\"\",'CMS Downtime Detail'!D293)","v":""},"",{"$f":"IF(COUNTIF(AO$2:AO271,AO271)=1,AM271,\"\")","v":""},"","","",null,{"$f":"+IF(AZ271=\"\",\"\",MAX(AU$1:AU270)+1)","v":""},{"$f":"IF('Process and CMS Information'!B293=\"\",\"\",'Process and CMS Information'!B293)","v":""},{"$f":"IF('Process and CMS Information'!C293=\"\",\"\",'Process and CMS Information'!C293)","v":""},{"$f":"IF('Process and CMS Information'!F293=\"\",\"\",'Process and CMS Information'!F293)","v":""},"",{"$f":"IF(COUNTIF(AY$2:AY271,AY271)=1,AY271,\"\")","v":""},"","","",""]
[null,null,null,null,null,null,null,null,null,null,null,null,null,null,null,null,null,null,null,null,null,null,null,null,null,null,{"$f":"+IF(AF272=\"\",\"\",MAX(AA$1:AA271)+1)","v":""},{"$f":"IF('Excess Emissions'!B294=\"\",\"\",'Excess Emissions'!B294)","v":""},{"$f":"IF('Excess Emissions'!C294=\"\",\"\",'Excess Emissions'!C294)","v":""},{"$f":"IF('Excess Emissions'!D294=\"\",\"\",'Excess Emissions'!D294)","v":""},"",{"$f":"IF(COUNTIF(AE$2:AE272,AE272)=1,AC272,\"\")","v":""},"","","",null,{"$f":"+IF(AP272=\"\",\"\",MAX(AK$1:AK271)+1)","v":""},{"$f":"IF('CMS Downtime Detail'!B294=\"\",\"\",'CMS Downtime Detail'!B294)","v":""},{"$f":"IF('CMS Downtime Detail'!C294=\"\",\"\",'CMS Downtime Detail'!C294)","v":""},{"$f":"IF('CMS Downtime Detail'!D294=\"\",\"\",'CMS Downtime Detail'!D294)","v":""},"",{"$f":"IF(COUNTIF(AO$2:AO272,AO272)=1,AM272,\"\")","v":""},"","","",null,{"$f":"+IF(AZ272=\"\",\"\",MAX(AU$1:AU271)+1)","v":""},{"$f":"IF('Process and CMS Information'!B294=\"\",\"\",'Process and CMS Information'!B294)","v":""},{"$f":"IF('Process and CMS Information'!C294=\"\",\"\",'Process and CMS Information'!C294)","v":""},{"$f":"IF('Process and CMS Information'!F294=\"\",\"\",'Process and CMS Information'!F294)","v":""},"",{"$f":"IF(COUNTIF(AY$2:AY272,AY272)=1,AY272,\"\")","v":""},"","","",""]
[null,null,null,null,null,null,null,null,null,null,null,null,null,null,null,null,null,null,null,null,null,null,null,null,null,null,{"$f":"+IF(AF273=\"\",\"\",MAX(AA$1:AA272)+1)","v":""},{"$f":"IF('Excess Emissions'!B295=\"\",\"\",'Excess Emissions'!B295)","v":""},{"$f":"IF('Excess Emissions'!C295=\"\",\"\",'Excess Emissions'!C295)","v":""},{"$f":"IF('Excess Emissions'!D295=\"\",\"\",'Excess Emissions'!D295)","v":""},"",{"$f":"IF(COUNTIF(AE$2:AE273,AE273)=1,AC273,\"\")","v":""},"","","",null,{"$f":"+IF(AP273=\"\",\"\",MAX(AK$1:AK272)+1)","v":""},{"$f":"IF('CMS Downtime Detail'!B295=\"\",\"\",'CMS Downtime Detail'!B295)","v":""},{"$f":"IF('CMS Downtime Detail'!C295=\"\",\"\",'CMS Downtime Detail'!C295)","v":""},{"$f":"IF('CMS Downtime Detail'!D295=\"\",\"\",'CMS Downtime Detail'!D295)","v":""},"",{"$f":"IF(COUNTIF(AO$2:AO273,AO273)=1,AM273,\"\")","v":""},"","","",null,{"$f":"+IF(AZ273=\"\",\"\",MAX(AU$1:AU272)+1)","v":""},{"$f":"IF('Process and CMS Information'!B295=\"\",\"\",'Process and CMS Information'!B295)","v":""},{"$f":"IF('Process and CMS Information'!C295=\"\",\"\",'Process and CMS Information'!C295)","v":""},{"$f":"IF('Process and CMS Information'!F295=\"\",\"\",'Process and CMS Information'!F295)","v":""},"",{"$f":"IF(COUNTIF(AY$2:AY273,AY273)=1,AY273,\"\")","v":""},"","","",""]
[null,null,null,null,null,null,null,null,null,null,null,null,null,null,null,null,null,null,null,null,null,null,null,null,null,null,{"$f":"+IF(AF274=\"\",\"\",MAX(AA$1:AA273)+1)","v":""},{"$f":"IF('Excess Emissions'!B296=\"\",\"\",'Excess Emissions'!B296)","v":""},{"$f":"IF('Excess Emissions'!C296=\"\",\"\",'Excess Emissions'!C296)","v":""},{"$f":"IF('Excess Emissions'!D296=\"\",\"\",'Excess Emissions'!D296)","v":""},"",{"$f":"IF(COUNTIF(AE$2:AE274,AE274)=1,AC274,\"\")","v":""},"","","",null,{"$f":"+IF(AP274=\"\",\"\",MAX(AK$1:AK273)+1)","v":""},{"$f":"IF('CMS Downtime Detail'!B296=\"\",\"\",'CMS Downtime Detail'!B296)","v":""},{"$f":"IF('CMS Downtime Detail'!C296=\"\",\"\",'CMS Downtime Detail'!C296)","v":""},{"$f":"IF('CMS Downtime Detail'!D296=\"\",\"\",'CMS Downtime Detail'!D296)","v":""},"",{"$f":"IF(COUNTIF(AO$2:AO274,AO274)=1,AM274,\"\")","v":""},"","","",null,{"$f":"+IF(AZ274=\"\",\"\",MAX(AU$1:AU273)+1)","v":""},{"$f":"IF('Process and CMS Information'!B296=\"\",\"\",'Process and CMS Information'!B296)","v":""},{"$f":"IF('Process and CMS Information'!C296=\"\",\"\",'Process and CMS Information'!C296)","v":""},{"$f":"IF('Process and CMS Information'!F296=\"\",\"\",'Process and CMS Information'!F296)","v":""},"",{"$f":"IF(COUNTIF(AY$2:AY274,AY274)=1,AY274,\"\")","v":""},"","","",""]
[null,null,null,null,null,null,null,null,null,null,null,null,null,null,null,null,null,null,null,null,null,null,null,null,null,null,{"$f":"+IF(AF275=\"\",\"\",MAX(AA$1:AA274)+1)","v":""},{"$f":"IF('Excess Emissions'!B297=\"\",\"\",'Excess Emissions'!B297)","v":""},{"$f":"IF('Excess Emissions'!C297=\"\",\"\",'Excess Emissions'!C297)","v":""},{"$f":"IF('Excess Emissions'!D297=\"\",\"\",'Excess Emissions'!D297)","v":""},"",{"$f":"IF(COUNTIF(AE$2:AE275,AE275)=1,AC275,\"\")","v":""},"","","",null,{"$f":"+IF(AP275=\"\",\"\",MAX(AK$1:AK274)+1)","v":""},{"$f":"IF('CMS Downtime Detail'!B297=\"\",\"\",'CMS Downtime Detail'!B297)","v":""},{"$f":"IF('CMS Downtime Detail'!C297=\"\",\"\",'CMS Downtime Detail'!C297)","v":""},{"$f":"IF('CMS Downtime Detail'!D297=\"\",\"\",'CMS Downtime Detail'!D297)","v":""},"",{"$f":"IF(COUNTIF(AO$2:AO275,AO275)=1,AM275,\"\")","v":""},"","","",null,{"$f":"+IF(AZ275=\"\",\"\",MAX(AU$1:AU274)+1)","v":""},{"$f":"IF('Process and CMS Information'!B297=\"\",\"\",'Process and CMS Information'!B297)","v":""},{"$f":"IF('Process and CMS Information'!C297=\"\",\"\",'Process and CMS Information'!C297)","v":""},{"$f":"IF('Process and CMS Information'!F297=\"\",\"\",'Process and CMS Information'!F297)","v":""},"",{"$f":"IF(COUNTIF(AY$2:AY275,AY275)=1,AY275,\"\")","v":""},"","","",""]
[null,null,null,null,null,null,null,null,null,null,null,null,null,null,null,null,null,null,null,null,null,null,null,null,null,null,{"$f":"+IF(AF276=\"\",\"\",MAX(AA$1:AA275)+1)","v":""},{"$f":"IF('Excess Emissions'!B298=\"\",\"\",'Excess Emissions'!B298)","v":""},{"$f":"IF('Excess Emissions'!C298=\"\",\"\",'Excess Emissions'!C298)","v":""},{"$f":"IF('Excess Emissions'!D298=\"\",\"\",'Excess Emissions'!D298)","v":""},"",{"$f":"IF(COUNTIF(AE$2:AE276,AE276)=1,AC276,\"\")","v":""},"","","",null,{"$f":"+IF(AP276=\"\",\"\",MAX(AK$1:AK275)+1)","v":""},{"$f":"IF('CMS Downtime Detail'!B298=\"\",\"\",'CMS Downtime Detail'!B298)","v":""},{"$f":"IF('CMS Downtime Detail'!C298=\"\",\"\",'CMS Downtime Detail'!C298)","v":""},{"$f":"IF('CMS Downtime Detail'!D298=\"\",\"\",'CMS Downtime Detail'!D298)","v":""},"",{"$f":"IF(COUNTIF(AO$2:AO276,AO276)=1,AM276,\"\")","v":""},"","","",null,{"$f":"+IF(AZ276=\"\",\"\",MAX(AU$1:AU275)+1)","v":""},{"$f":"IF('Process and CMS Information'!B298=\"\",\"\",'Process and CMS Information'!B298)","v":""},{"$f":"IF('Process and CMS Information'!C298=\"\",\"\",'Process and CMS Information'!C298)","v":""},{"$f":"IF('Process and CMS Information'!F298=\"\",\"\",'Process and CMS Information'!F298)","v":""},"",{"$f":"IF(COUNTIF(AY$2:AY276,AY276)=1,AY276,\"\")","v":""},"","","",""]
[null,null,null,null,null,null,null,null,null,null,null,null,null,null,null,null,null,null,null,null,null,null,null,null,null,null,{"$f":"+IF(AF277=\"\",\"\",MAX(AA$1:AA276)+1)","v":""},{"$f":"IF('Excess Emissions'!B299=\"\",\"\",'Excess Emissions'!B299)","v":""},{"$f":"IF('Excess Emissions'!C299=\"\",\"\",'Excess Emissions'!C299)","v":""},{"$f":"IF('Excess Emissions'!D299=\"\",\"\",'Excess Emissions'!D299)","v":""},"",{"$f":"IF(COUNTIF(AE$2:AE277,AE277)=1,AC277,\"\")","v":""},"","","",null,{"$f":"+IF(AP277=\"\",\"\",MAX(AK$1:AK276)+1)","v":""},{"$f":"IF('CMS Downtime Detail'!B299=\"\",\"\",'CMS Downtime Detail'!B299)","v":""},{"$f":"IF('CMS Downtime Detail'!C299=\"\",\"\",'CMS Downtime Detail'!C299)","v":""},{"$f":"IF('CMS Downtime Detail'!D299=\"\",\"\",'CMS Downtime Detail'!D299)","v":""},"",{"$f":"IF(COUNTIF(AO$2:AO277,AO277)=1,AM277,\"\")","v":""},"","","",null,{"$f":"+IF(AZ277=\"\",\"\",MAX(AU$1:AU276)+1)","v":""},{"$f":"IF('Process and CMS Information'!B299=\"\",\"\",'Process and CMS Information'!B299)","v":""},{"$f":"IF('Process and CMS Information'!C299=\"\",\"\",'Process and CMS Information'!C299)","v":""},{"$f":"IF('Process and CMS Information'!F299=\"\",\"\",'Process and CMS Information'!F299)","v":""},"",{"$f":"IF(COUNTIF(AY$2:AY277,AY277)=1,AY277,\"\")","v":""},"","","",""]
[null,null,null,null,null,null,null,null,null,null,null,null,null,null,null,null,null,null,null,null,null,null,null,null,null,null,{"$f":"+IF(AF278=\"\",\"\",MAX(AA$1:AA277)+1)","v":""},{"$f":"IF('Excess Emissions'!B300=\"\",\"\",'Excess Emissions'!B300)","v":""},{"$f":"IF('Excess Emissions'!C300=\"\",\"\",'Excess Emissions'!C300)","v":""},{"$f":"IF('Excess Emissions'!D300=\"\",\"\",'Excess Emissions'!D300)","v":""},"",{"$f":"IF(COUNTIF(AE$2:AE278,AE278)=1,AC278,\"\")","v":""},"","","",null,{"$f":"+IF(AP278=\"\",\"\",MAX(AK$1:AK277)+1)","v":""},{"$f":"IF('CMS Downtime Detail'!B300=\"\",\"\",'CMS Downtime Detail'!B300)","v":""},{"$f":"IF('CMS Downtime Detail'!C300=\"\",\"\",'CMS Downtime Detail'!C300)","v":""},{"$f":"IF('CMS Downtime Detail'!D300=\"\",\"\",'CMS Downtime Detail'!D300)","v":""},"",{"$f":"IF(COUNTIF(AO$2:AO278,AO278)=1,AM278,\"\")","v":""},"","","",null,{"$f":"+IF(AZ278=\"\",\"\",MAX(AU$1:AU277)+1)","v":""},{"$f":"IF('Process and CMS Information'!B300=\"\",\"\",'Process and CMS Information'!B300)","v":""},{"$f":"IF('Process and CMS Information'!C300=\"\",\"\",'Process and CMS Information'!C300)","v":""},{"$f":"IF('Process and CMS Information'!F300=\"\",\"\",'Process and CMS Information'!F300)","v":""},"",{"$f":"IF(COUNTIF(AY$2:AY278,AY278)=1,AY278,\"\")","v":""},"","","",""]
[null,null,null,null,null,null,null,null,null,null,null,null,null,null,null,null,null,null,null,null,null,null,null,null,null,null,{"$f":"+IF(AF279=\"\",\"\",MAX(AA$1:AA278)+1)","v":""},{"$f":"IF('Excess Emissions'!B301=\"\",\"\",'Excess Emissions'!B301)","v":""},{"$f":"IF('Excess Emissions'!C301=\"\",\"\",'Excess Emissions'!C301)","v":""},{"$f":"IF('Excess Emissions'!D301=\"\",\"\",'Excess Emissions'!D301)","v":""},"",{"$f":"IF(COUNTIF(AE$2:AE279,AE279)=1,AC279,\"\")","v":""},"","","",null,{"$f":"+IF(AP279=\"\",\"\",MAX(AK$1:AK278)+1)","v":""},{"$f":"IF('CMS Downtime Detail'!B301=\"\",\"\",'CMS Downtime Detail'!B301)","v":""},{"$f":"IF('CMS Downtime Detail'!C301=\"\",\"\",'CMS Downtime Detail'!C301)","v":""},{"$f":"IF('CMS Downtime Detail'!D301=\"\",\"\",'CMS Downtime Detail'!D301)","v":""},"",{"$f":"IF(COUNTIF(AO$2:AO279,AO279)=1,AM279,\"\")","v":""},"","","",null,{"$f":"+IF(AZ279=\"\",\"\",MAX(AU$1:AU278)+1)","v":""},{"$f":"IF('Process and CMS Information'!B301=\"\",\"\",'Process and CMS Information'!B301)","v":""},{"$f":"IF('Process and CMS Information'!C301=\"\",\"\",'Process and CMS Information'!C301)","v":""},{"$f":"IF('Process and CMS Information'!F301=\"\",\"\",'Process and CMS Information'!F301)","v":""},"",{"$f":"IF(COUNTIF(AY$2:AY279,AY279)=1,AY279,\"\")","v":""},"","","",""]
[null,null,null,null,null,null,null,null,null,null,null,null,null,null,null,null,null,null,null,null,null,null,null,null,null,null,{"$f":"+IF(AF280=\"\",\"\",MAX(AA$1:AA279)+1)","v":""},{"$f":"IF('Excess Emissions'!B302=\"\",\"\",'Excess Emissions'!B302)","v":""},{"$f":"IF('Excess Emissions'!C302=\"\",\"\",'Excess Emissions'!C302)","v":""},{"$f":"IF('Excess Emissions'!D302=\"\",\"\",'Excess Emissions'!D302)","v":""},"",{"$f":"IF(COUNTIF(AE$2:AE280,AE280)=1,AC280,\"\")","v":""},"","","",null,{"$f":"+IF(AP280=\"\",\"\",MAX(AK$1:AK279)+1)","v":""},{"$f":"IF('CMS Downtime Detail'!B302=\"\",\"\",'CMS Downtime Detail'!B302)","v":""},{"$f":"IF('CMS Downtime Detail'!C302=\"\",\"\",'CMS Downtime Detail'!C302)","v":""},{"$f":"IF('CMS Downtime Detail'!D302=\"\",\"\",'CMS Downtime Detail'!D302)","v":""},"",{"$f":"IF(COUNTIF(AO$2:AO280,AO280)=1,AM280,\"\")","v":""},"","","",null,{"$f":"+IF(AZ280=\"\",\"\",MAX(AU$1:AU279)+1)","v":""},{"$f":"IF('Process and CMS Information'!B302=\"\",\"\",'Process and CMS Information'!B302)","v":""},{"$f":"IF('Process and CMS Information'!C302=\"\",\"\",'Process and CMS Information'!C302)","v":""},{"$f":"IF('Process and CMS Information'!F302=\"\",\"\",'Process and CMS Information'!F302)","v":""},"",{"$f":"IF(COUNTIF(AY$2:AY280,AY280)=1,AY280,\"\")","v":""},"","","",""]
[null,null,null,null,null,null,null,null,null,null,null,null,null,null,null,null,null,null,null,null,null,null,null,null,null,null,{"$f":"+IF(AF281=\"\",\"\",MAX(AA$1:AA280)+1)","v":""},{"$f":"IF('Excess Emissions'!B303=\"\",\"\",'Excess Emissions'!B303)","v":""},{"$f":"IF('Excess Emissions'!C303=\"\",\"\",'Excess Emissions'!C303)","v":""},{"$f":"IF('Excess Emissions'!D303=\"\",\"\",'Excess Emissions'!D303)","v":""},"",{"$f":"IF(COUNTIF(AE$2:AE281,AE281)=1,AC281,\"\")","v":""},"","","",null,{"$f":"+IF(AP281=\"\",\"\",MAX(AK$1:AK280)+1)","v":""},{"$f":"IF('CMS Downtime Detail'!B303=\"\",\"\",'CMS Downtime Detail'!B303)","v":""},{"$f":"IF('CMS Downtime Detail'!C303=\"\",\"\",'CMS Downtime Detail'!C303)","v":""},{"$f":"IF('CMS Downtime Detail'!D303=\"\",\"\",'CMS Downtime Detail'!D303)","v":""},"",{"$f":"IF(COUNTIF(AO$2:AO281,AO281)=1,AM281,\"\")","v":""},"","","",null,{"$f":"+IF(AZ281=\"\",\"\",MAX(AU$1:AU280)+1)","v":""},{"$f":"IF('Process and CMS Information'!B303=\"\",\"\",'Process and CMS Information'!B303)","v":""},{"$f":"IF('Process and CMS Information'!C303=\"\",\"\",'Process and CMS Information'!C303)","v":""},{"$f":"IF('Process and CMS Information'!F303=\"\",\"\",'Process and CMS Information'!F303)","v":""},"",{"$f":"IF(COUNTIF(AY$2:AY281,AY281)=1,AY281,\"\")","v":""},"","","",""]
[null,null,null,null,null,null,null,null,null,null,null,null,null,null,null,null,null,null,null,null,null,null,null,null,null,null,{"$f":"+IF(AF282=\"\",\"\",MAX(AA$1:AA281)+1)","v":""},{"$f":"IF('Excess Emissions'!B304=\"\",\"\",'Excess Emissions'!B304)","v":""},{"$f":"IF('Excess Emissions'!C304=\"\",\"\",'Excess Emissions'!C304)","v":""},{"$f":"IF('Excess Emissions'!D304=\"\",\"\",'Excess Emissions'!D304)","v":""},"",{"$f":"IF(COUNTIF(AE$2:AE282,AE282)=1,AC282,\"\")","v":""},"","","",null,{"$f":"+IF(AP282=\"\",\"\",MAX(AK$1:AK281)+1)","v":""},{"$f":"IF('CMS Downtime Detail'!B304=\"\",\"\",'CMS Downtime Detail'!B304)","v":""},{"$f":"IF('CMS Downtime Detail'!C304=\"\",\"\",'CMS Downtime Detail'!C304)","v":""},{"$f":"IF('CMS Downtime Detail'!D304=\"\",\"\",'CMS Downtime Detail'!D304)","v":""},"",{"$f":"IF(COUNTIF(AO$2:AO282,AO282)=1,AM282,\"\")","v":""},"","","",null,{"$f":"+IF(AZ282=\"\",\"\",MAX(AU$1:AU281)+1)","v":""},{"$f":"IF('Process and CMS Information'!B304=\"\",\"\",'Process and CMS Information'!B304)","v":""},{"$f":"IF('Process and CMS Information'!C304=\"\",\"\",'Process and CMS Information'!C304)","v":""},{"$f":"IF('Process and CMS Information'!F304=\"\",\"\",'Process and CMS Information'!F304)","v":""},"",{"$f":"IF(COUNTIF(AY$2:AY282,AY282)=1,AY282,\"\")","v":""},"","","",""]
[null,null,null,null,null,null,null,null,null,null,null,null,null,null,null,null,null,null,null,null,null,null,null,null,null,null,{"$f":"+IF(AF283=\"\",\"\",MAX(AA$1:AA282)+1)","v":""},{"$f":"IF('Excess Emissions'!B305=\"\",\"\",'Excess Emissions'!B305)","v":""},{"$f":"IF('Excess Emissions'!C305=\"\",\"\",'Excess Emissions'!C305)","v":""},{"$f":"IF('Excess Emissions'!D305=\"\",\"\",'Excess Emissions'!D305)","v":""},"",{"$f":"IF(COUNTIF(AE$2:AE283,AE283)=1,AC283,\"\")","v":""},"","","",null,{"$f":"+IF(AP283=\"\",\"\",MAX(AK$1:AK282)+1)","v":""},{"$f":"IF('CMS Downtime Detail'!B305=\"\",\"\",'CMS Downtime Detail'!B305)","v":""},{"$f":"IF('CMS Downtime Detail'!C305=\"\",\"\",'CMS Downtime Detail'!C305)","v":""},{"$f":"IF('CMS Downtime Detail'!D305=\"\",\"\",'CMS Downtime Detail'!D305)","v":""},"",{"$f":"IF(COUNTIF(AO$2:AO283,AO283)=1,AM283,\"\")","v":""},"","","",null,{"$f":"+IF(AZ283=\"\",\"\",MAX(AU$1:AU282)+1)","v":""},{"$f":"IF('Process and CMS Information'!B305=\"\",\"\",'Process and CMS Information'!B305)","v":""},{"$f":"IF('Process and CMS Information'!C305=\"\",\"\",'Process and CMS Information'!C305)","v":""},{"$f":"IF('Process and CMS Information'!F305=\"\",\"\",'Process and CMS Information'!F305)","v":""},"",{"$f":"IF(COUNTIF(AY$2:AY283,AY283)=1,AY283,\"\")","v":""},"","","",""]
[null,null,null,null,null,null,null,null,null,null,null,null,null,null,null,null,null,null,null,null,null,null,null,null,null,null,{"$f":"+IF(AF284=\"\",\"\",MAX(AA$1:AA283)+1)","v":""},{"$f":"IF('Excess Emissions'!B306=\"\",\"\",'Excess Emissions'!B306)","v":""},{"$f":"IF('Excess Emissions'!C306=\"\",\"\",'Excess Emissions'!C306)","v":""},{"$f":"IF('Excess Emissions'!D306=\"\",\"\",'Excess Emissions'!D306)","v":""},"",{"$f":"IF(COUNTIF(AE$2:AE284,AE284)=1,AC284,\"\")","v":""},"","","",null,{"$f":"+IF(AP284=\"\",\"\",MAX(AK$1:AK283)+1)","v":""},{"$f":"IF('CMS Downtime Detail'!B306=\"\",\"\",'CMS Downtime Detail'!B306)","v":""},{"$f":"IF('CMS Downtime Detail'!C306=\"\",\"\",'CMS Downtime Detail'!C306)","v":""},{"$f":"IF('CMS Downtime Detail'!D306=\"\",\"\",'CMS Downtime Detail'!D306)","v":""},"",{"$f":"IF(COUNTIF(AO$2:AO284,AO284)=1,AM284,\"\")","v":""},"","","",null,{"$f":"+IF(AZ284=\"\",\"\",MAX(AU$1:AU283)+1)","v":""},{"$f":"IF('Process and CMS Information'!B306=\"\",\"\",'Process and CMS Information'!B306)","v":""},{"$f":"IF('Process and CMS Information'!C306=\"\",\"\",'Process and CMS Information'!C306)","v":""},{"$f":"IF('Process and CMS Information'!F306=\"\",\"\",'Process and CMS Information'!F306)","v":""},"",{"$f":"IF(COUNTIF(AY$2:AY284,AY284)=1,AY284,\"\")","v":""},"","","",""]
[null,null,null,null,null,null,null,null,null,null,null,null,null,null,null,null,null,null,null,null,null,null,null,null,null,null,{"$f":"+IF(AF285=\"\",\"\",MAX(AA$1:AA284)+1)","v":""},{"$f":"IF('Excess Emissions'!B307=\"\",\"\",'Excess Emissions'!B307)","v":""},{"$f":"IF('Excess Emissions'!C307=\"\",\"\",'Excess Emissions'!C307)","v":""},{"$f":"IF('Excess Emissions'!D307=\"\",\"\",'Excess Emissions'!D307)","v":""},"",{"$f":"IF(COUNTIF(AE$2:AE285,AE285)=1,AC285,\"\")","v":""},"","","",null,{"$f":"+IF(AP285=\"\",\"\",MAX(AK$1:AK284)+1)","v":""},{"$f":"IF('CMS Downtime Detail'!B307=\"\",\"\",'CMS Downtime Detail'!B307)","v":""},{"$f":"IF('CMS Downtime Detail'!C307=\"\",\"\",'CMS Downtime Detail'!C307)","v":""},{"$f":"IF('CMS Downtime Detail'!D307=\"\",\"\",'CMS Downtime Detail'!D307)","v":""},"",{"$f":"IF(COUNTIF(AO$2:AO285,AO285)=1,AM285,\"\")","v":""},"","","",null,{"$f":"+IF(AZ285=\"\",\"\",MAX(AU$1:AU284)+1)","v":""},{"$f":"IF('Process and CMS Information'!B307=\"\",\"\",'Process and CMS Information'!B307)","v":""},{"$f":"IF('Process and CMS Information'!C307=\"\",\"\",'Process and CMS Information'!C307)","v":""},{"$f":"IF('Process and CMS Information'!F307=\"\",\"\",'Process and CMS Information'!F307)","v":""},"",{"$f":"IF(COUNTIF(AY$2:AY285,AY285)=1,AY285,\"\")","v":""},"","","",""]
[null,null,null,null,null,null,null,null,null,null,null,null,null,null,null,null,null,null,null,null,null,null,null,null,null,null,{"$f":"+IF(AF286=\"\",\"\",MAX(AA$1:AA285)+1)","v":""},{"$f":"IF('Excess Emissions'!B308=\"\",\"\",'Excess Emissions'!B308)","v":""},{"$f":"IF('Excess Emissions'!C308=\"\",\"\",'Excess Emissions'!C308)","v":""},{"$f":"IF('Excess Emissions'!D308=\"\",\"\",'Excess Emissions'!D308)","v":""},"",{"$f":"IF(COUNTIF(AE$2:AE286,AE286)=1,AC286,\"\")","v":""},"","","",null,{"$f":"+IF(AP286=\"\",\"\",MAX(AK$1:AK285)+1)","v":""},{"$f":"IF('CMS Downtime Detail'!B308=\"\",\"\",'CMS Downtime Detail'!B308)","v":""},{"$f":"IF('CMS Downtime Detail'!C308=\"\",\"\",'CMS Downtime Detail'!C308)","v":""},{"$f":"IF('CMS Downtime Detail'!D308=\"\",\"\",'CMS Downtime Detail'!D308)","v":""},"",{"$f":"IF(COUNTIF(AO$2:AO286,AO286)=1,AM286,\"\")","v":""},"","","",null,{"$f":"+IF(AZ286=\"\",\"\",MAX(AU$1:AU285)+1)","v":""},{"$f":"IF('Process and CMS Information'!B308=\"\",\"\",'Process and CMS Information'!B308)","v":""},{"$f":"IF('Process and CMS Information'!C308=\"\",\"\",'Process and CMS Information'!C308)","v":""},{"$f":"IF('Process and CMS Information'!F308=\"\",\"\",'Process and CMS Information'!F308)","v":""},"",{"$f":"IF(COUNTIF(AY$2:AY286,AY286)=1,AY286,\"\")","v":""},"","","",""]
[null,null,null,null,null,null,null,null,null,null,null,null,null,null,null,null,null,null,null,null,null,null,null,null,null,null,{"$f":"+IF(AF287=\"\",\"\",MAX(AA$1:AA286)+1)","v":""},{"$f":"IF('Excess Emissions'!B309=\"\",\"\",'Excess Emissions'!B309)","v":""},{"$f":"IF('Excess Emissions'!C309=\"\",\"\",'Excess Emissions'!C309)","v":""},{"$f":"IF('Excess Emissions'!D309=\"\",\"\",'Excess Emissions'!D309)","v":""},"",{"$f":"IF(COUNTIF(AE$2:AE287,AE287)=1,AC287,\"\")","v":""},"","","",null,{"$f":"+IF(AP287=\"\",\"\",MAX(AK$1:AK286)+1)","v":""},{"$f":"IF('CMS Downtime Detail'!B309=\"\",\"\",'CMS Downtime Detail'!B309)","v":""},{"$f":"IF('CMS Downtime Detail'!C309=\"\",\"\",'CMS Downtime Detail'!C309)","v":""},{"$f":"IF('CMS Downtime Detail'!D309=\"\",\"\",'CMS Downtime Detail'!D309)","v":""},"",{"$f":"IF(COUNTIF(AO$2:AO287,AO287)=1,AM287,\"\")","v":""},"","","",null,{"$f":"+IF(AZ287=\"\",\"\",MAX(AU$1:AU286)+1)","v":""},{"$f":"IF('Process and CMS Information'!B309=\"\",\"\",'Process and CMS Information'!B309)","v":""},{"$f":"IF('Process and CMS Information'!C309=\"\",\"\",'Process and CMS Information'!C309)","v":""},{"$f":"IF('Process and CMS Information'!F309=\"\",\"\",'Process and CMS Information'!F309)","v":""},"",{"$f":"IF(COUNTIF(AY$2:AY287,AY287)=1,AY287,\"\")","v":""},"","","",""]
[null,null,null,null,null,null,null,null,null,null,null,null,null,null,null,null,null,null,null,null,null,null,null,null,null,null,{"$f":"+IF(AF288=\"\",\"\",MAX(AA$1:AA287)+1)","v":""},{"$f":"IF('Excess Emissions'!B310=\"\",\"\",'Excess Emissions'!B310)","v":""},{"$f":"IF('Excess Emissions'!C310=\"\",\"\",'Excess Emissions'!C310)","v":""},{"$f":"IF('Excess Emissions'!D310=\"\",\"\",'Excess Emissions'!D310)","v":""},"",{"$f":"IF(COUNTIF(AE$2:AE288,AE288)=1,AC288,\"\")","v":""},"","","",null,{"$f":"+IF(AP288=\"\",\"\",MAX(AK$1:AK287)+1)","v":""},{"$f":"IF('CMS Downtime Detail'!B310=\"\",\"\",'CMS Downtime Detail'!B310)","v":""},{"$f":"IF('CMS Downtime Detail'!C310=\"\",\"\",'CMS Downtime Detail'!C310)","v":""},{"$f":"IF('CMS Downtime Detail'!D310=\"\",\"\",'CMS Downtime Detail'!D310)","v":""},"",{"$f":"IF(COUNTIF(AO$2:AO288,AO288)=1,AM288,\"\")","v":""},"","","",null,{"$f":"+IF(AZ288=\"\",\"\",MAX(AU$1:AU287)+1)","v":""},{"$f":"IF('Process and CMS Information'!B310=\"\",\"\",'Process and CMS Information'!B310)","v":""},{"$f":"IF('Process and CMS Information'!C310=\"\",\"\",'Process and CMS Information'!C310)","v":""},{"$f":"IF('Process and CMS Information'!F310=\"\",\"\",'Process and CMS Information'!F310)","v":""},"",{"$f":"IF(COUNTIF(AY$2:AY288,AY288)=1,AY288,\"\")","v":""},"","","",""]
[null,null,null,null,null,null,null,null,null,null,null,null,null,null,null,null,null,null,null,null,null,null,null,null,null,null,{"$f":"+IF(AF289=\"\",\"\",MAX(AA$1:AA288)+1)","v":""},{"$f":"IF('Excess Emissions'!B311=\"\",\"\",'Excess Emissions'!B311)","v":""},{"$f":"IF('Excess Emissions'!C311=\"\",\"\",'Excess Emissions'!C311)","v":""},{"$f":"IF('Excess Emissions'!D311=\"\",\"\",'Excess Emissions'!D311)","v":""},"",{"$f":"IF(COUNTIF(AE$2:AE289,AE289)=1,AC289,\"\")","v":""},"","","",null,{"$f":"+IF(AP289=\"\",\"\",MAX(AK$1:AK288)+1)","v":""},{"$f":"IF('CMS Downtime Detail'!B311=\"\",\"\",'CMS Downtime Detail'!B311)","v":""},{"$f":"IF('CMS Downtime Detail'!C311=\"\",\"\",'CMS Downtime Detail'!C311)","v":""},{"$f":"IF('CMS Downtime Detail'!D311=\"\",\"\",'CMS Downtime Detail'!D311)","v":""},"",{"$f":"IF(COUNTIF(AO$2:AO289,AO289)=1,AM289,\"\")","v":""},"","","",null,{"$f":"+IF(AZ289=\"\",\"\",MAX(AU$1:AU288)+1)","v":""},{"$f":"IF('Process and CMS Information'!B311=\"\",\"\",'Process and CMS Information'!B311)","v":""},{"$f":"IF('Process and CMS Information'!C311=\"\",\"\",'Process and CMS Information'!C311)","v":""},{"$f":"IF('Process and CMS Information'!F311=\"\",\"\",'Process and CMS Information'!F311)","v":""},"",{"$f":"IF(COUNTIF(AY$2:AY289,AY289)=1,AY289,\"\")","v":""},"","","",""]
[null,null,null,null,null,null,null,null,null,null,null,null,null,null,null,null,null,null,null,null,null,null,null,null,null,null,{"$f":"+IF(AF290=\"\",\"\",MAX(AA$1:AA289)+1)","v":""},{"$f":"IF('Excess Emissions'!B312=\"\",\"\",'Excess Emissions'!B312)","v":""},{"$f":"IF('Excess Emissions'!C312=\"\",\"\",'Excess Emissions'!C312)","v":""},{"$f":"IF('Excess Emissions'!D312=\"\",\"\",'Excess Emissions'!D312)","v":""},"",{"$f":"IF(COUNTIF(AE$2:AE290,AE290)=1,AC290,\"\")","v":""},"","","",null,{"$f":"+IF(AP290=\"\",\"\",MAX(AK$1:AK289)+1)","v":""},{"$f":"IF('CMS Downtime Detail'!B312=\"\",\"\",'CMS Downtime Detail'!B312)","v":""},{"$f":"IF('CMS Downtime Detail'!C312=\"\",\"\",'CMS Downtime Detail'!C312)","v":""},{"$f":"IF('CMS Downtime Detail'!D312=\"\",\"\",'CMS Downtime Detail'!D312)","v":""},"",{"$f":"IF(COUNTIF(AO$2:AO290,AO290)=1,AM290,\"\")","v":""},"","","",null,{"$f":"+IF(AZ290=\"\",\"\",MAX(AU$1:AU289)+1)","v":""},{"$f":"IF('Process and CMS Information'!B312=\"\",\"\",'Process and CMS Information'!B312)","v":""},{"$f":"IF('Process and CMS Information'!C312=\"\",\"\",'Process and CMS Information'!C312)","v":""},{"$f":"IF('Process and CMS Information'!F312=\"\",\"\",'Process and CMS Information'!F312)","v":""},"",{"$f":"IF(COUNTIF(AY$2:AY290,AY290)=1,AY290,\"\")","v":""},"","","",""]
[null,null,null,null,null,null,null,null,null,null,null,null,null,null,null,null,null,null,null,null,null,null,null,null,null,null,{"$f":"+IF(AF291=\"\",\"\",MAX(AA$1:AA290)+1)","v":""},{"$f":"IF('Excess Emissions'!B313=\"\",\"\",'Excess Emissions'!B313)","v":""},{"$f":"IF('Excess Emissions'!C313=\"\",\"\",'Excess Emissions'!C313)","v":""},{"$f":"IF('Excess Emissions'!D313=\"\",\"\",'Excess Emissions'!D313)","v":""},"",{"$f":"IF(COUNTIF(AE$2:AE291,AE291)=1,AC291,\"\")","v":""},"","","",null,{"$f":"+IF(AP291=\"\",\"\",MAX(AK$1:AK290)+1)","v":""},{"$f":"IF('CMS Downtime Detail'!B313=\"\",\"\",'CMS Downtime Detail'!B313)","v":""},{"$f":"IF('CMS Downtime Detail'!C313=\"\",\"\",'CMS Downtime Detail'!C313)","v":""},{"$f":"IF('CMS Downtime Detail'!D313=\"\",\"\",'CMS Downtime Detail'!D313)","v":""},"",{"$f":"IF(COUNTIF(AO$2:AO291,AO291)=1,AM291,\"\")","v":""},"","","",null,{"$f":"+IF(AZ291=\"\",\"\",MAX(AU$1:AU290)+1)","v":""},{"$f":"IF('Process and CMS Information'!B313=\"\",\"\",'Process and CMS Information'!B313)","v":""},{"$f":"IF('Process and CMS Information'!C313=\"\",\"\",'Process and CMS Information'!C313)","v":""},{"$f":"IF('Process and CMS Information'!F313=\"\",\"\",'Process and CMS Information'!F313)","v":""},"",{"$f":"IF(COUNTIF(AY$2:AY291,AY291)=1,AY291,\"\")","v":""},"","","",""]
[null,null,null,null,null,null,null,null,null,null,null,null,null,null,null,null,null,null,null,null,null,null,null,null,null,null,{"$f":"+IF(AF292=\"\",\"\",MAX(AA$1:AA291)+1)","v":""},{"$f":"IF('Excess Emissions'!B314=\"\",\"\",'Excess Emissions'!B314)","v":""},{"$f":"IF('Excess Emissions'!C314=\"\",\"\",'Excess Emissions'!C314)","v":""},{"$f":"IF('Excess Emissions'!D314=\"\",\"\",'Excess Emissions'!D314)","v":""},"",{"$f":"IF(COUNTIF(AE$2:AE292,AE292)=1,AC292,\"\")","v":""},"","","",null,{"$f":"+IF(AP292=\"\",\"\",MAX(AK$1:AK291)+1)","v":""},{"$f":"IF('CMS Downtime Detail'!B314=\"\",\"\",'CMS Downtime Detail'!B314)","v":""},{"$f":"IF('CMS Downtime Detail'!C314=\"\",\"\",'CMS Downtime Detail'!C314)","v":""},{"$f":"IF('CMS Downtime Detail'!D314=\"\",\"\",'CMS Downtime Detail'!D314)","v":""},"",{"$f":"IF(COUNTIF(AO$2:AO292,AO292)=1,AM292,\"\")","v":""},"","","",null,{"$f":"+IF(AZ292=\"\",\"\",MAX(AU$1:AU291)+1)","v":""},{"$f":"IF('Process and CMS Information'!B314=\"\",\"\",'Process and CMS Information'!B314)","v":""},{"$f":"IF('Process and CMS Information'!C314=\"\",\"\",'Process and CMS Information'!C314)","v":""},{"$f":"IF('Process and CMS Information'!F314=\"\",\"\",'Process and CMS Information'!F314)","v":""},"",{"$f":"IF(COUNTIF(AY$2:AY292,AY292)=1,AY292,\"\")","v":""},"","","",""]
[null,null,null,null,null,null,null,null,null,null,null,null,null,null,null,null,null,null,null,null,null,null,null,null,null,null,{"$f":"+IF(AF293=\"\",\"\",MAX(AA$1:AA292)+1)","v":""},{"$f":"IF('Excess Emissions'!B315=\"\",\"\",'Excess Emissions'!B315)","v":""},{"$f":"IF('Excess Emissions'!C315=\"\",\"\",'Excess Emissions'!C315)","v":""},{"$f":"IF('Excess Emissions'!D315=\"\",\"\",'Excess Emissions'!D315)","v":""},"",{"$f":"IF(COUNTIF(AE$2:AE293,AE293)=1,AC293,\"\")","v":""},"","","",null,{"$f":"+IF(AP293=\"\",\"\",MAX(AK$1:AK292)+1)","v":""},{"$f":"IF('CMS Downtime Detail'!B315=\"\",\"\",'CMS Downtime Detail'!B315)","v":""},{"$f":"IF('CMS Downtime Detail'!C315=\"\",\"\",'CMS Downtime Detail'!C315)","v":""},{"$f":"IF('CMS Downtime Detail'!D315=\"\",\"\",'CMS Downtime Detail'!D315)","v":""},"",{"$f":"IF(COUNTIF(AO$2:AO293,AO293)=1,AM293,\"\")","v":""},"","","",null,{"$f":"+IF(AZ293=\"\",\"\",MAX(AU$1:AU292)+1)","v":""},{"$f":"IF('Process and CMS Information'!B315=\"\",\"\",'Process and CMS Information'!B315)","v":""},{"$f":"IF('Process and CMS Information'!C315=\"\",\"\",'Process and CMS Information'!C315)","v":""},{"$f":"IF('Process and CMS Information'!F315=\"\",\"\",'Process and CMS Information'!F315)","v":""},"",{"$f":"IF(COUNTIF(AY$2:AY293,AY293)=1,AY293,\"\")","v":""},"","","",""]
[null,null,null,null,null,null,null,null,null,null,null,null,null,null,null,null,null,null,null,null,null,null,null,null,null,null,{"$f":"+IF(AF294=\"\",\"\",MAX(AA$1:AA293)+1)","v":""},{"$f":"IF('Excess Emissions'!B316=\"\",\"\",'Excess Emissions'!B316)","v":""},{"$f":"IF('Excess Emissions'!C316=\"\",\"\",'Excess Emissions'!C316)","v":""},{"$f":"IF('Excess Emissions'!D316=\"\",\"\",'Excess Emissions'!D316)","v":""},"",{"$f":"IF(COUNTIF(AE$2:AE294,AE294)=1,AC294,\"\")","v":""},"","","",null,{"$f":"+IF(AP294=\"\",\"\",MAX(AK$1:AK293)+1)","v":""},{"$f":"IF('CMS Downtime Detail'!B316=\"\",\"\",'CMS Downtime Detail'!B316)","v":""},{"$f":"IF('CMS Downtime Detail'!C316=\"\",\"\",'CMS Downtime Detail'!C316)","v":""},{"$f":"IF('CMS Downtime Detail'!D316=\"\",\"\",'CMS Downtime Detail'!D316)","v":""},"",{"$f":"IF(COUNTIF(AO$2:AO294,AO294)=1,AM294,\"\")","v":""},"","","",null,{"$f":"+IF(AZ294=\"\",\"\",MAX(AU$1:AU293)+1)","v":""},{"$f":"IF('Process and CMS Information'!B316=\"\",\"\",'Process and CMS Information'!B316)","v":""},{"$f":"IF('Process and CMS Information'!C316=\"\",\"\",'Process and CMS Information'!C316)","v":""},{"$f":"IF('Process and CMS Information'!F316=\"\",\"\",'Process and CMS Information'!F316)","v":""},"",{"$f":"IF(COUNTIF(AY$2:AY294,AY294)=1,AY294,\"\")","v":""},"","","",""]
[null,null,null,null,null,null,null,null,null,null,null,null,null,null,null,null,null,null,null,null,null,null,null,null,null,null,{"$f":"+IF(AF295=\"\",\"\",MAX(AA$1:AA294)+1)","v":""},{"$f":"IF('Excess Emissions'!B317=\"\",\"\",'Excess Emissions'!B317)","v":""},{"$f":"IF('Excess Emissions'!C317=\"\",\"\",'Excess Emissions'!C317)","v":""},{"$f":"IF('Excess Emissions'!D317=\"\",\"\",'Excess Emissions'!D317)","v":""},"",{"$f":"IF(COUNTIF(AE$2:AE295,AE295)=1,AC295,\"\")","v":""},"","","",null,{"$f":"+IF(AP295=\"\",\"\",MAX(AK$1:AK294)+1)","v":""},{"$f":"IF('CMS Downtime Detail'!B317=\"\",\"\",'CMS Downtime Detail'!B317)","v":""},{"$f":"IF('CMS Downtime Detail'!C317=\"\",\"\",'CMS Downtime Detail'!C317)","v":""},{"$f":"IF('CMS Downtime Detail'!D317=\"\",\"\",'CMS Downtime Detail'!D317)","v":""},"",{"$f":"IF(COUNTIF(AO$2:AO295,AO295)=1,AM295,\"\")","v":""},"","","",null,{"$f":"+IF(AZ295=\"\",\"\",MAX(AU$1:AU294)+1)","v":""},{"$f":"IF('Process and CMS Information'!B317=\"\",\"\",'Process and CMS Information'!B317)","v":""},{"$f":"IF('Process and CMS Information'!C317=\"\",\"\",'Process and CMS Information'!C317)","v":""},{"$f":"IF('Process and CMS Information'!F317=\"\",\"\",'Process and CMS Information'!F317)","v":""},"",{"$f":"IF(COUNTIF(AY$2:AY295,AY295)=1,AY295,\"\")","v":""},"","","",""]
[null,null,null,null,null,null,null,null,null,null,null,null,null,null,null,null,null,null,null,null,null,null,null,null,null,null,{"$f":"+IF(AF296=\"\",\"\",MAX(AA$1:AA295)+1)","v":""},{"$f":"IF('Excess Emissions'!B318=\"\",\"\",'Excess Emissions'!B318)","v":""},{"$f":"IF('Excess Emissions'!C318=\"\",\"\",'Excess Emissions'!C318)","v":""},{"$f":"IF('Excess Emissions'!D318=\"\",\"\",'Excess Emissions'!D318)","v":""},"",{"$f":"IF(COUNTIF(AE$2:AE296,AE296)=1,AC296,\"\")","v":""},"","","",null,{"$f":"+IF(AP296=\"\",\"\",MAX(AK$1:AK295)+1)","v":""},{"$f":"IF('CMS Downtime Detail'!B318=\"\",\"\",'CMS Downtime Detail'!B318)","v":""},{"$f":"IF('CMS Downtime Detail'!C318=\"\",\"\",'CMS Downtime Detail'!C318)","v":""},{"$f":"IF('CMS Downtime Detail'!D318=\"\",\"\",'CMS Downtime Detail'!D318)","v":""},"",{"$f":"IF(COUNTIF(AO$2:AO296,AO296)=1,AM296,\"\")","v":""},"","","",null,{"$f":"+IF(AZ296=\"\",\"\",MAX(AU$1:AU295)+1)","v":""},{"$f":"IF('Process and CMS Information'!B318=\"\",\"\",'Process and CMS Information'!B318)","v":""},{"$f":"IF('Process and CMS Information'!C318=\"\",\"\",'Process and CMS Information'!C318)","v":""},{"$f":"IF('Process and CMS Information'!F318=\"\",\"\",'Process and CMS Information'!F318)","v":""},"",{"$f":"IF(COUNTIF(AY$2:AY296,AY296)=1,AY296,\"\")","v":""},"","","",""]
[null,null,null,null,null,null,null,null,null,null,null,null,null,null,null,null,null,null,null,null,null,null,null,null,null,null,{"$f":"+IF(AF297=\"\",\"\",MAX(AA$1:AA296)+1)","v":""},{"$f":"IF('Excess Emissions'!B319=\"\",\"\",'Excess Emissions'!B319)","v":""},{"$f":"IF('Excess Emissions'!C319=\"\",\"\",'Excess Emissions'!C319)","v":""},{"$f":"IF('Excess Emissions'!D319=\"\",\"\",'Excess Emissions'!D319)","v":""},"",{"$f":"IF(COUNTIF(AE$2:AE297,AE297)=1,AC297,\"\")","v":""},"","","",null,{"$f":"+IF(AP297=\"\",\"\",MAX(AK$1:AK296)+1)","v":""},{"$f":"IF('CMS Downtime Detail'!B319=\"\",\"\",'CMS Downtime Detail'!B319)","v":""},{"$f":"IF('CMS Downtime Detail'!C319=\"\",\"\",'CMS Downtime Detail'!C319)","v":""},{"$f":"IF('CMS Downtime Detail'!D319=\"\",\"\",'CMS Downtime Detail'!D319)","v":""},"",{"$f":"IF(COUNTIF(AO$2:AO297,AO297)=1,AM297,\"\")","v":""},"","","",null,{"$f":"+IF(AZ297=\"\",\"\",MAX(AU$1:AU296)+1)","v":""},{"$f":"IF('Process and CMS Information'!B319=\"\",\"\",'Process and CMS Information'!B319)","v":""},{"$f":"IF('Process and CMS Information'!C319=\"\",\"\",'Process and CMS Information'!C319)","v":""},{"$f":"IF('Process and CMS Information'!F319=\"\",\"\",'Process and CMS Information'!F319)","v":""},"",{"$f":"IF(COUNTIF(AY$2:AY297,AY297)=1,AY297,\"\")","v":""},"","","",""]
[null,null,null,null,null,null,null,null,null,null,null,null,null,null,null,null,null,null,null,null,null,null,null,null,null,null,{"$f":"+IF(AF298=\"\",\"\",MAX(AA$1:AA297)+1)","v":""},{"$f":"IF('Excess Emissions'!B320=\"\",\"\",'Excess Emissions'!B320)","v":""},{"$f":"IF('Excess Emissions'!C320=\"\",\"\",'Excess Emissions'!C320)","v":""},{"$f":"IF('Excess Emissions'!D320=\"\",\"\",'Excess Emissions'!D320)","v":""},"",{"$f":"IF(COUNTIF(AE$2:AE298,AE298)=1,AC298,\"\")","v":""},"","","",null,{"$f":"+IF(AP298=\"\",\"\",MAX(AK$1:AK297)+1)","v":""},{"$f":"IF('CMS Downtime Detail'!B320=\"\",\"\",'CMS Downtime Detail'!B320)","v":""},{"$f":"IF('CMS Downtime Detail'!C320=\"\",\"\",'CMS Downtime Detail'!C320)","v":""},{"$f":"IF('CMS Downtime Detail'!D320=\"\",\"\",'CMS Downtime Detail'!D320)","v":""},"",{"$f":"IF(COUNTIF(AO$2:AO298,AO298)=1,AM298,\"\")","v":""},"","","",null,{"$f":"+IF(AZ298=\"\",\"\",MAX(AU$1:AU297)+1)","v":""},{"$f":"IF('Process and CMS Information'!B320=\"\",\"\",'Process and CMS Information'!B320)","v":""},{"$f":"IF('Process and CMS Information'!C320=\"\",\"\",'Process and CMS Information'!C320)","v":""},{"$f":"IF('Process and CMS Information'!F320=\"\",\"\",'Process and CMS Information'!F320)","v":""},"",{"$f":"IF(COUNTIF(AY$2:AY298,AY298)=1,AY298,\"\")","v":""},"","","",""]
[null,null,null,null,null,null,null,null,null,null,null,null,null,null,null,null,null,null,null,null,null,null,null,null,null,null,{"$f":"+IF(AF299=\"\",\"\",MAX(AA$1:AA298)+1)","v":""},{"$f":"IF('Excess Emissions'!B321=\"\",\"\",'Excess Emissions'!B321)","v":""},{"$f":"IF('Excess Emissions'!C321=\"\",\"\",'Excess Emissions'!C321)","v":""},{"$f":"IF('Excess Emissions'!D321=\"\",\"\",'Excess Emissions'!D321)","v":""},"",{"$f":"IF(COUNTIF(AE$2:AE299,AE299)=1,AC299,\"\")","v":""},"","","",null,{"$f":"+IF(AP299=\"\",\"\",MAX(AK$1:AK298)+1)","v":""},{"$f":"IF('CMS Downtime Detail'!B321=\"\",\"\",'CMS Downtime Detail'!B321)","v":""},{"$f":"IF('CMS Downtime Detail'!C321=\"\",\"\",'CMS Downtime Detail'!C321)","v":""},{"$f":"IF('CMS Downtime Detail'!D321=\"\",\"\",'CMS Downtime Detail'!D321)","v":""},"",{"$f":"IF(COUNTIF(AO$2:AO299,AO299)=1,AM299,\"\")","v":""},"","","",null,{"$f":"+IF(AZ299=\"\",\"\",MAX(AU$1:AU298)+1)","v":""},{"$f":"IF('Process and CMS Information'!B321=\"\",\"\",'Process and CMS Information'!B321)","v":""},{"$f":"IF('Process and CMS Information'!C321=\"\",\"\",'Process and CMS Information'!C321)","v":""},{"$f":"IF('Process and CMS Information'!F321=\"\",\"\",'Process and CMS Information'!F321)","v":""},"",{"$f":"IF(COUNTIF(AY$2:AY299,AY299)=1,AY299,\"\")","v":""},"","","",""]
[null,null,null,null,null,null,null,null,null,null,null,null,null,null,null,null,null,null,null,null,null,null,null,null,null,null,{"$f":"+IF(AF300=\"\",\"\",MAX(AA$1:AA299)+1)","v":""},{"$f":"IF('Excess Emissions'!B322=\"\",\"\",'Excess Emissions'!B322)","v":""},{"$f":"IF('Excess Emissions'!C322=\"\",\"\",'Excess Emissions'!C322)","v":""},{"$f":"IF('Excess Emissions'!D322=\"\",\"\",'Excess Emissions'!D322)","v":""},"",{"$f":"IF(COUNTIF(AE$2:AE300,AE300)=1,AC300,\"\")","v":""},"","","",null,{"$f":"+IF(AP300=\"\",\"\",MAX(AK$1:AK299)+1)","v":""},{"$f":"IF('CMS Downtime Detail'!B322=\"\",\"\",'CMS Downtime Detail'!B322)","v":""},{"$f":"IF('CMS Downtime Detail'!C322=\"\",\"\",'CMS Downtime Detail'!C322)","v":""},{"$f":"IF('CMS Downtime Detail'!D322=\"\",\"\",'CMS Downtime Detail'!D322)","v":""},"",{"$f":"IF(COUNTIF(AO$2:AO300,AO300)=1,AM300,\"\")","v":""},"","","",null,{"$f":"+IF(AZ300=\"\",\"\",MAX(AU$1:AU299)+1)","v":""},{"$f":"IF('Process and CMS Information'!B322=\"\",\"\",'Process and CMS Information'!B322)","v":""},{"$f":"IF('Process and CMS Information'!C322=\"\",\"\",'Process and CMS Information'!C322)","v":""},{"$f":"IF('Process and CMS Information'!F322=\"\",\"\",'Process and CMS Information'!F322)","v":""},"",{"$f":"IF(COUNTIF(AY$2:AY300,AY300)=1,AY300,\"\")","v":""},"","","",""]
[null,null,null,null,null,null,null,null,null,null,null,null,null,null,null,null,null,null,null,null,null,null,null,null,null,null,{"$f":"+IF(AF301=\"\",\"\",MAX(AA$1:AA300)+1)","v":""},{"$f":"IF('Excess Emissions'!B323=\"\",\"\",'Excess Emissions'!B323)","v":""},{"$f":"IF('Excess Emissions'!C323=\"\",\"\",'Excess Emissions'!C323)","v":""},{"$f":"IF('Excess Emissions'!D323=\"\",\"\",'Excess Emissions'!D323)","v":""},"",{"$f":"IF(COUNTIF(AE$2:AE301,AE301)=1,AC301,\"\")","v":""},"","","",null,{"$f":"+IF(AP301=\"\",\"\",MAX(AK$1:AK300)+1)","v":""},{"$f":"IF('CMS Downtime Detail'!B323=\"\",\"\",'CMS Downtime Detail'!B323)","v":""},{"$f":"IF('CMS Downtime Detail'!C323=\"\",\"\",'CMS Downtime Detail'!C323)","v":""},{"$f":"IF('CMS Downtime Detail'!D323=\"\",\"\",'CMS Downtime Detail'!D323)","v":""},"",{"$f":"IF(COUNTIF(AO$2:AO301,AO301)=1,AM301,\"\")","v":""},"","","",null,{"$f":"+IF(AZ301=\"\",\"\",MAX(AU$1:AU300)+1)","v":""},{"$f":"IF('Process and CMS Information'!B323=\"\",\"\",'Process and CMS Information'!B323)","v":""},{"$f":"IF('Process and CMS Information'!C323=\"\",\"\",'Process and CMS Information'!C323)","v":""},{"$f":"IF('Process and CMS Information'!F323=\"\",\"\",'Process and CMS Information'!F323)","v":""},"",{"$f":"IF(COUNTIF(AY$2:AY301,AY301)=1,AY301,\"\")","v":""},"","","",""]
[null,null,null,null,null,null,null,null,null,null,null,null,null,null,null,null,null,null,null,null,null,null,null,null,null,null,{"$f":"+IF(AF302=\"\",\"\",MAX(AA$1:AA301)+1)","v":""},{"$f":"IF('Excess Emissions'!B324=\"\",\"\",'Excess Emissions'!B324)","v":""},{"$f":"IF('Excess Emissions'!C324=\"\",\"\",'Excess Emissions'!C324)","v":""},{"$f":"IF('Excess Emissions'!D324=\"\",\"\",'Excess Emissions'!D324)","v":""},"",{"$f":"IF(COUNTIF(AE$2:AE302,AE302)=1,AC302,\"\")","v":""},"","","",null,{"$f":"+IF(AP302=\"\",\"\",MAX(AK$1:AK301)+1)","v":""},{"$f":"IF('CMS Downtime Detail'!B324=\"\",\"\",'CMS Downtime Detail'!B324)","v":""},{"$f":"IF('CMS Downtime Detail'!C324=\"\",\"\",'CMS Downtime Detail'!C324)","v":""},{"$f":"IF('CMS Downtime Detail'!D324=\"\",\"\",'CMS Downtime Detail'!D324)","v":""},"",{"$f":"IF(COUNTIF(AO$2:AO302,AO302)=1,AM302,\"\")","v":""},"","","",null,{"$f":"+IF(AZ302=\"\",\"\",MAX(AU$1:AU301)+1)","v":""},{"$f":"IF('Process and CMS Information'!B324=\"\",\"\",'Process and CMS Information'!B324)","v":""},{"$f":"IF('Process and CMS Information'!C324=\"\",\"\",'Process and CMS Information'!C324)","v":""},{"$f":"IF('Process and CMS Information'!F324=\"\",\"\",'Process and CMS Information'!F324)","v":""},"",{"$f":"IF(COUNTIF(AY$2:AY302,AY302)=1,AY302,\"\")","v":""},"","","",""]
[null,null,null,null,null,null,null,null,null,null,null,null,null,null,null,null,null,null,null,null,null,null,null,null,null,null,{"$f":"+IF(AF303=\"\",\"\",MAX(AA$1:AA302)+1)","v":""},{"$f":"IF('Excess Emissions'!B325=\"\",\"\",'Excess Emissions'!B325)","v":""},{"$f":"IF('Excess Emissions'!C325=\"\",\"\",'Excess Emissions'!C325)","v":""},{"$f":"IF('Excess Emissions'!D325=\"\",\"\",'Excess Emissions'!D325)","v":""},"",{"$f":"IF(COUNTIF(AE$2:AE303,AE303)=1,AC303,\"\")","v":""},"","","",null,{"$f":"+IF(AP303=\"\",\"\",MAX(AK$1:AK302)+1)","v":""},{"$f":"IF('CMS Downtime Detail'!B325=\"\",\"\",'CMS Downtime Detail'!B325)","v":""},{"$f":"IF('CMS Downtime Detail'!C325=\"\",\"\",'CMS Downtime Detail'!C325)","v":""},{"$f":"IF('CMS Downtime Detail'!D325=\"\",\"\",'CMS Downtime Detail'!D325)","v":""},"",{"$f":"IF(COUNTIF(AO$2:AO303,AO303)=1,AM303,\"\")","v":""},"","","",null,{"$f":"+IF(AZ303=\"\",\"\",MAX(AU$1:AU302)+1)","v":""},{"$f":"IF('Process and CMS Information'!B325=\"\",\"\",'Process and CMS Information'!B325)","v":""},{"$f":"IF('Process and CMS Information'!C325=\"\",\"\",'Process and CMS Information'!C325)","v":""},{"$f":"IF('Process and CMS Information'!F325=\"\",\"\",'Process and CMS Information'!F325)","v":""},"",{"$f":"IF(COUNTIF(AY$2:AY303,AY303)=1,AY303,\"\")","v":""},"","","",""]
[null,null,null,null,null,null,null,null,null,null,null,null,null,null,null,null,null,null,null,null,null,null,null,null,null,null,{"$f":"+IF(AF304=\"\",\"\",MAX(AA$1:AA303)+1)","v":""},{"$f":"IF('Excess Emissions'!B326=\"\",\"\",'Excess Emissions'!B326)","v":""},{"$f":"IF('Excess Emissions'!C326=\"\",\"\",'Excess Emissions'!C326)","v":""},{"$f":"IF('Excess Emissions'!D326=\"\",\"\",'Excess Emissions'!D326)","v":""},"",{"$f":"IF(COUNTIF(AE$2:AE304,AE304)=1,AC304,\"\")","v":""},"","","",null,{"$f":"+IF(AP304=\"\",\"\",MAX(AK$1:AK303)+1)","v":""},{"$f":"IF('CMS Downtime Detail'!B326=\"\",\"\",'CMS Downtime Detail'!B326)","v":""},{"$f":"IF('CMS Downtime Detail'!C326=\"\",\"\",'CMS Downtime Detail'!C326)","v":""},{"$f":"IF('CMS Downtime Detail'!D326=\"\",\"\",'CMS Downtime Detail'!D326)","v":""},"",{"$f":"IF(COUNTIF(AO$2:AO304,AO304)=1,AM304,\"\")","v":""},"","","",null,{"$f":"+IF(AZ304=\"\",\"\",MAX(AU$1:AU303)+1)","v":""},{"$f":"IF('Process and CMS Information'!B326=\"\",\"\",'Process and CMS Information'!B326)","v":""},{"$f":"IF('Process and CMS Information'!C326=\"\",\"\",'Process and CMS Information'!C326)","v":""},{"$f":"IF('Process and CMS Information'!F326=\"\",\"\",'Process and CMS Information'!F326)","v":""},"",{"$f":"IF(COUNTIF(AY$2:AY304,AY304)=1,AY304,\"\")","v":""},"","","",""]
[null,null,null,null,null,null,null,null,null,null,null,null,null,null,null,null,null,null,null,null,null,null,null,null,null,null,{"$f":"+IF(AF305=\"\",\"\",MAX(AA$1:AA304)+1)","v":""},{"$f":"IF('Excess Emissions'!B327=\"\",\"\",'Excess Emissions'!B327)","v":""},{"$f":"IF('Excess Emissions'!C327=\"\",\"\",'Excess Emissions'!C327)","v":""},{"$f":"IF('Excess Emissions'!D327=\"\",\"\",'Excess Emissions'!D327)","v":""},"",{"$f":"IF(COUNTIF(AE$2:AE305,AE305)=1,AC305,\"\")","v":""},"","","",null,{"$f":"+IF(AP305=\"\",\"\",MAX(AK$1:AK304)+1)","v":""},{"$f":"IF('CMS Downtime Detail'!B327=\"\",\"\",'CMS Downtime Detail'!B327)","v":""},{"$f":"IF('CMS Downtime Detail'!C327=\"\",\"\",'CMS Downtime Detail'!C327)","v":""},{"$f":"IF('CMS Downtime Detail'!D327=\"\",\"\",'CMS Downtime Detail'!D327)","v":""},"",{"$f":"IF(COUNTIF(AO$2:AO305,AO305)=1,AM305,\"\")","v":""},"","","",null,{"$f":"+IF(AZ305=\"\",\"\",MAX(AU$1:AU304)+1)","v":""},{"$f":"IF('Process and CMS Information'!B327=\"\",\"\",'Process and CMS Information'!B327)","v":""},{"$f":"IF('Process and CMS Information'!C327=\"\",\"\",'Process and CMS Information'!C327)","v":""},{"$f":"IF('Process and CMS Information'!F327=\"\",\"\",'Process and CMS Information'!F327)","v":""},"",{"$f":"IF(COUNTIF(AY$2:AY305,AY305)=1,AY305,\"\")","v":""},"","","",""]
[null,null,null,null,null,null,null,null,null,null,null,null,null,null,null,null,null,null,null,null,null,null,null,null,null,null,{"$f":"+IF(AF306=\"\",\"\",MAX(AA$1:AA305)+1)","v":""},{"$f":"IF('Excess Emissions'!B328=\"\",\"\",'Excess Emissions'!B328)","v":""},{"$f":"IF('Excess Emissions'!C328=\"\",\"\",'Excess Emissions'!C328)","v":""},{"$f":"IF('Excess Emissions'!D328=\"\",\"\",'Excess Emissions'!D328)","v":""},"",{"$f":"IF(COUNTIF(AE$2:AE306,AE306)=1,AC306,\"\")","v":""},"","","",null,{"$f":"+IF(AP306=\"\",\"\",MAX(AK$1:AK305)+1)","v":""},{"$f":"IF('CMS Downtime Detail'!B328=\"\",\"\",'CMS Downtime Detail'!B328)","v":""},{"$f":"IF('CMS Downtime Detail'!C328=\"\",\"\",'CMS Downtime Detail'!C328)","v":""},{"$f":"IF('CMS Downtime Detail'!D328=\"\",\"\",'CMS Downtime Detail'!D328)","v":""},"",{"$f":"IF(COUNTIF(AO$2:AO306,AO306)=1,AM306,\"\")","v":""},"","","",null,{"$f":"+IF(AZ306=\"\",\"\",MAX(AU$1:AU305)+1)","v":""},{"$f":"IF('Process and CMS Information'!B328=\"\",\"\",'Process and CMS Information'!B328)","v":""},{"$f":"IF('Process and CMS Information'!C328=\"\",\"\",'Process and CMS Information'!C328)","v":""},{"$f":"IF('Process and CMS Information'!F328=\"\",\"\",'Process and CMS Information'!F328)","v":""},"",{"$f":"IF(COUNTIF(AY$2:AY306,AY306)=1,AY306,\"\")","v":""},"","","",""]
[null,null,null,null,null,null,null,null,null,null,null,null,null,null,null,null,null,null,null,null,null,null,null,null,null,null,{"$f":"+IF(AF307=\"\",\"\",MAX(AA$1:AA306)+1)","v":""},{"$f":"IF('Excess Emissions'!B329=\"\",\"\",'Excess Emissions'!B329)","v":""},{"$f":"IF('Excess Emissions'!C329=\"\",\"\",'Excess Emissions'!C329)","v":""},{"$f":"IF('Excess Emissions'!D329=\"\",\"\",'Excess Emissions'!D329)","v":""},"",{"$f":"IF(COUNTIF(AE$2:AE307,AE307)=1,AC307,\"\")","v":""},"","","",null,{"$f":"+IF(AP307=\"\",\"\",MAX(AK$1:AK306)+1)","v":""},{"$f":"IF('CMS Downtime Detail'!B329=\"\",\"\",'CMS Downtime Detail'!B329)","v":""},{"$f":"IF('CMS Downtime Detail'!C329=\"\",\"\",'CMS Downtime Detail'!C329)","v":""},{"$f":"IF('CMS Downtime Detail'!D329=\"\",\"\",'CMS Downtime Detail'!D329)","v":""},"",{"$f":"IF(COUNTIF(AO$2:AO307,AO307)=1,AM307,\"\")","v":""},"","","",null,{"$f":"+IF(AZ307=\"\",\"\",MAX(AU$1:AU306)+1)","v":""},{"$f":"IF('Process and CMS Information'!B329=\"\",\"\",'Process and CMS Information'!B329)","v":""},{"$f":"IF('Process and CMS Information'!C329=\"\",\"\",'Process and CMS Information'!C329)","v":""},{"$f":"IF('Process and CMS Information'!F329=\"\",\"\",'Process and CMS Information'!F329)","v":""},"",{"$f":"IF(COUNTIF(AY$2:AY307,AY307)=1,AY307,\"\")","v":""},"","","",""]
[null,null,null,null,null,null,null,null,null,null,null,null,null,null,null,null,null,null,null,null,null,null,null,null,null,null,{"$f":"+IF(AF308=\"\",\"\",MAX(AA$1:AA307)+1)","v":""},{"$f":"IF('Excess Emissions'!B330=\"\",\"\",'Excess Emissions'!B330)","v":""},{"$f":"IF('Excess Emissions'!C330=\"\",\"\",'Excess Emissions'!C330)","v":""},{"$f":"IF('Excess Emissions'!D330=\"\",\"\",'Excess Emissions'!D330)","v":""},"",{"$f":"IF(COUNTIF(AE$2:AE308,AE308)=1,AC308,\"\")","v":""},"","","",null,{"$f":"+IF(AP308=\"\",\"\",MAX(AK$1:AK307)+1)","v":""},{"$f":"IF('CMS Downtime Detail'!B330=\"\",\"\",'CMS Downtime Detail'!B330)","v":""},{"$f":"IF('CMS Downtime Detail'!C330=\"\",\"\",'CMS Downtime Detail'!C330)","v":""},{"$f":"IF('CMS Downtime Detail'!D330=\"\",\"\",'CMS Downtime Detail'!D330)","v":""},"",{"$f":"IF(COUNTIF(AO$2:AO308,AO308)=1,AM308,\"\")","v":""},"","","",null,{"$f":"+IF(AZ308=\"\",\"\",MAX(AU$1:AU307)+1)","v":""},{"$f":"IF('Process and CMS Information'!B330=\"\",\"\",'Process and CMS Information'!B330)","v":""},{"$f":"IF('Process and CMS Information'!C330=\"\",\"\",'Process and CMS Information'!C330)","v":""},{"$f":"IF('Process and CMS Information'!F330=\"\",\"\",'Process and CMS Information'!F330)","v":""},"",{"$f":"IF(COUNTIF(AY$2:AY308,AY308)=1,AY308,\"\")","v":""},"","","",""]
[null,null,null,null,null,null,null,null,null,null,null,null,null,null,null,null,null,null,null,null,null,null,null,null,null,null,{"$f":"+IF(AF309=\"\",\"\",MAX(AA$1:AA308)+1)","v":""},{"$f":"IF('Excess Emissions'!B331=\"\",\"\",'Excess Emissions'!B331)","v":""},{"$f":"IF('Excess Emissions'!C331=\"\",\"\",'Excess Emissions'!C331)","v":""},{"$f":"IF('Excess Emissions'!D331=\"\",\"\",'Excess Emissions'!D331)","v":""},"",{"$f":"IF(COUNTIF(AE$2:AE309,AE309)=1,AC309,\"\")","v":""},"","","",null,{"$f":"+IF(AP309=\"\",\"\",MAX(AK$1:AK308)+1)","v":""},{"$f":"IF('CMS Downtime Detail'!B331=\"\",\"\",'CMS Downtime Detail'!B331)","v":""},{"$f":"IF('CMS Downtime Detail'!C331=\"\",\"\",'CMS Downtime Detail'!C331)","v":""},{"$f":"IF('CMS Downtime Detail'!D331=\"\",\"\",'CMS Downtime Detail'!D331)","v":""},"",{"$f":"IF(COUNTIF(AO$2:AO309,AO309)=1,AM309,\"\")","v":""},"","","",null,{"$f":"+IF(AZ309=\"\",\"\",MAX(AU$1:AU308)+1)","v":""},{"$f":"IF('Process and CMS Information'!B331=\"\",\"\",'Process and CMS Information'!B331)","v":""},{"$f":"IF('Process and CMS Information'!C331=\"\",\"\",'Process and CMS Information'!C331)","v":""},{"$f":"IF('Process and CMS Information'!F331=\"\",\"\",'Process and CMS Information'!F331)","v":""},"",{"$f":"IF(COUNTIF(AY$2:AY309,AY309)=1,AY309,\"\")","v":""},"","","",""]
[null,null,null,null,null,null,null,null,null,null,null,null,null,null,null,null,null,null,null,null,null,null,null,null,null,null,{"$f":"+IF(AF310=\"\",\"\",MAX(AA$1:AA309)+1)","v":""},{"$f":"IF('Excess Emissions'!B332=\"\",\"\",'Excess Emissions'!B332)","v":""},{"$f":"IF('Excess Emissions'!C332=\"\",\"\",'Excess Emissions'!C332)","v":""},{"$f":"IF('Excess Emissions'!D332=\"\",\"\",'Excess Emissions'!D332)","v":""},"",{"$f":"IF(COUNTIF(AE$2:AE310,AE310)=1,AC310,\"\")","v":""},"","","",null,{"$f":"+IF(AP310=\"\",\"\",MAX(AK$1:AK309)+1)","v":""},{"$f":"IF('CMS Downtime Detail'!B332=\"\",\"\",'CMS Downtime Detail'!B332)","v":""},{"$f":"IF('CMS Downtime Detail'!C332=\"\",\"\",'CMS Downtime Detail'!C332)","v":""},{"$f":"IF('CMS Downtime Detail'!D332=\"\",\"\",'CMS Downtime Detail'!D332)","v":""},"",{"$f":"IF(COUNTIF(AO$2:AO310,AO310)=1,AM310,\"\")","v":""},"","","",null,{"$f":"+IF(AZ310=\"\",\"\",MAX(AU$1:AU309)+1)","v":""},{"$f":"IF('Process and CMS Information'!B332=\"\",\"\",'Process and CMS Information'!B332)","v":""},{"$f":"IF('Process and CMS Information'!C332=\"\",\"\",'Process and CMS Information'!C332)","v":""},{"$f":"IF('Process and CMS Information'!F332=\"\",\"\",'Process and CMS Information'!F332)","v":""},"",{"$f":"IF(COUNTIF(AY$2:AY310,AY310)=1,AY310,\"\")","v":""},"","","",""]
[null,null,null,null,null,null,null,null,null,null,null,null,null,null,null,null,null,null,null,null,null,null,null,null,null,null,{"$f":"+IF(AF311=\"\",\"\",MAX(AA$1:AA310)+1)","v":""},{"$f":"IF('Excess Emissions'!B333=\"\",\"\",'Excess Emissions'!B333)","v":""},{"$f":"IF('Excess Emissions'!C333=\"\",\"\",'Excess Emissions'!C333)","v":""},{"$f":"IF('Excess Emissions'!D333=\"\",\"\",'Excess Emissions'!D333)","v":""},"",{"$f":"IF(COUNTIF(AE$2:AE311,AE311)=1,AC311,\"\")","v":""},"","","",null,{"$f":"+IF(AP311=\"\",\"\",MAX(AK$1:AK310)+1)","v":""},{"$f":"IF('CMS Downtime Detail'!B333=\"\",\"\",'CMS Downtime Detail'!B333)","v":""},{"$f":"IF('CMS Downtime Detail'!C333=\"\",\"\",'CMS Downtime Detail'!C333)","v":""},{"$f":"IF('CMS Downtime Detail'!D333=\"\",\"\",'CMS Downtime Detail'!D333)","v":""},"",{"$f":"IF(COUNTIF(AO$2:AO311,AO311)=1,AM311,\"\")","v":""},"","","",null,{"$f":"+IF(AZ311=\"\",\"\",MAX(AU$1:AU310)+1)","v":""},{"$f":"IF('Process and CMS Information'!B333=\"\",\"\",'Process and CMS Information'!B333)","v":""},{"$f":"IF('Process and CMS Information'!C333=\"\",\"\",'Process and CMS Information'!C333)","v":""},{"$f":"IF('Process and CMS Information'!F333=\"\",\"\",'Process and CMS Information'!F333)","v":""},"",{"$f":"IF(COUNTIF(AY$2:AY311,AY311)=1,AY311,\"\")","v":""},"","","",""]
[null,null,null,null,null,null,null,null,null,null,null,null,null,null,null,null,null,null,null,null,null,null,null,null,null,null,{"$f":"+IF(AF312=\"\",\"\",MAX(AA$1:AA311)+1)","v":""},{"$f":"IF('Excess Emissions'!B334=\"\",\"\",'Excess Emissions'!B334)","v":""},{"$f":"IF('Excess Emissions'!C334=\"\",\"\",'Excess Emissions'!C334)","v":""},{"$f":"IF('Excess Emissions'!D334=\"\",\"\",'Excess Emissions'!D334)","v":""},"",{"$f":"IF(COUNTIF(AE$2:AE312,AE312)=1,AC312,\"\")","v":""},"","","",null,{"$f":"+IF(AP312=\"\",\"\",MAX(AK$1:AK311)+1)","v":""},{"$f":"IF('CMS Downtime Detail'!B334=\"\",\"\",'CMS Downtime Detail'!B334)","v":""},{"$f":"IF('CMS Downtime Detail'!C334=\"\",\"\",'CMS Downtime Detail'!C334)","v":""},{"$f":"IF('CMS Downtime Detail'!D334=\"\",\"\",'CMS Downtime Detail'!D334)","v":""},"",{"$f":"IF(COUNTIF(AO$2:AO312,AO312)=1,AM312,\"\")","v":""},"","","",null,{"$f":"+IF(AZ312=\"\",\"\",MAX(AU$1:AU311)+1)","v":""},{"$f":"IF('Process and CMS Information'!B334=\"\",\"\",'Process and CMS Information'!B334)","v":""},{"$f":"IF('Process and CMS Information'!C334=\"\",\"\",'Process and CMS Information'!C334)","v":""},{"$f":"IF('Process and CMS Information'!F334=\"\",\"\",'Process and CMS Information'!F334)","v":""},"",{"$f":"IF(COUNTIF(AY$2:AY312,AY312)=1,AY312,\"\")","v":""},"","","",""]
[null,null,null,null,null,null,null,null,null,null,null,null,null,null,null,null,null,null,null,null,null,null,null,null,null,null,{"$f":"+IF(AF313=\"\",\"\",MAX(AA$1:AA312)+1)","v":""},{"$f":"IF('Excess Emissions'!B335=\"\",\"\",'Excess Emissions'!B335)","v":""},{"$f":"IF('Excess Emissions'!C335=\"\",\"\",'Excess Emissions'!C335)","v":""},{"$f":"IF('Excess Emissions'!D335=\"\",\"\",'Excess Emissions'!D335)","v":""},"",{"$f":"IF(COUNTIF(AE$2:AE313,AE313)=1,AC313,\"\")","v":""},"","","",null,{"$f":"+IF(AP313=\"\",\"\",MAX(AK$1:AK312)+1)","v":""},{"$f":"IF('CMS Downtime Detail'!B335=\"\",\"\",'CMS Downtime Detail'!B335)","v":""},{"$f":"IF('CMS Downtime Detail'!C335=\"\",\"\",'CMS Downtime Detail'!C335)","v":""},{"$f":"IF('CMS Downtime Detail'!D335=\"\",\"\",'CMS Downtime Detail'!D335)","v":""},"",{"$f":"IF(COUNTIF(AO$2:AO313,AO313)=1,AM313,\"\")","v":""},"","","",null,{"$f":"+IF(AZ313=\"\",\"\",MAX(AU$1:AU312)+1)","v":""},{"$f":"IF('Process and CMS Information'!B335=\"\",\"\",'Process and CMS Information'!B335)","v":""},{"$f":"IF('Process and CMS Information'!C335=\"\",\"\",'Process and CMS Information'!C335)","v":""},{"$f":"IF('Process and CMS Information'!F335=\"\",\"\",'Process and CMS Information'!F335)","v":""},"",{"$f":"IF(COUNTIF(AY$2:AY313,AY313)=1,AY313,\"\")","v":""},"","","",""]
[null,null,null,null,null,null,null,null,null,null,null,null,null,null,null,null,null,null,null,null,null,null,null,null,null,null,{"$f":"+IF(AF314=\"\",\"\",MAX(AA$1:AA313)+1)","v":""},{"$f":"IF('Excess Emissions'!B336=\"\",\"\",'Excess Emissions'!B336)","v":""},{"$f":"IF('Excess Emissions'!C336=\"\",\"\",'Excess Emissions'!C336)","v":""},{"$f":"IF('Excess Emissions'!D336=\"\",\"\",'Excess Emissions'!D336)","v":""},"",{"$f":"IF(COUNTIF(AE$2:AE314,AE314)=1,AC314,\"\")","v":""},"","","",null,{"$f":"+IF(AP314=\"\",\"\",MAX(AK$1:AK313)+1)","v":""},{"$f":"IF('CMS Downtime Detail'!B336=\"\",\"\",'CMS Downtime Detail'!B336)","v":""},{"$f":"IF('CMS Downtime Detail'!C336=\"\",\"\",'CMS Downtime Detail'!C336)","v":""},{"$f":"IF('CMS Downtime Detail'!D336=\"\",\"\",'CMS Downtime Detail'!D336)","v":""},"",{"$f":"IF(COUNTIF(AO$2:AO314,AO314)=1,AM314,\"\")","v":""},"","","",null,{"$f":"+IF(AZ314=\"\",\"\",MAX(AU$1:AU313)+1)","v":""},{"$f":"IF('Process and CMS Information'!B336=\"\",\"\",'Process and CMS Information'!B336)","v":""},{"$f":"IF('Process and CMS Information'!C336=\"\",\"\",'Process and CMS Information'!C336)","v":""},{"$f":"IF('Process and CMS Information'!F336=\"\",\"\",'Process and CMS Information'!F336)","v":""},"",{"$f":"IF(COUNTIF(AY$2:AY314,AY314)=1,AY314,\"\")","v":""},"","","",""]
[null,null,null,null,null,null,null,null,null,null,null,null,null,null,null,null,null,null,null,null,null,null,null,null,null,null,{"$f":"+IF(AF315=\"\",\"\",MAX(AA$1:AA314)+1)","v":""},{"$f":"IF('Excess Emissions'!B337=\"\",\"\",'Excess Emissions'!B337)","v":""},{"$f":"IF('Excess Emissions'!C337=\"\",\"\",'Excess Emissions'!C337)","v":""},{"$f":"IF('Excess Emissions'!D337=\"\",\"\",'Excess Emissions'!D337)","v":""},"",{"$f":"IF(COUNTIF(AE$2:AE315,AE315)=1,AC315,\"\")","v":""},"","","",null,{"$f":"+IF(AP315=\"\",\"\",MAX(AK$1:AK314)+1)","v":""},{"$f":"IF('CMS Downtime Detail'!B337=\"\",\"\",'CMS Downtime Detail'!B337)","v":""},{"$f":"IF('CMS Downtime Detail'!C337=\"\",\"\",'CMS Downtime Detail'!C337)","v":""},{"$f":"IF('CMS Downtime Detail'!D337=\"\",\"\",'CMS Downtime Detail'!D337)","v":""},"",{"$f":"IF(COUNTIF(AO$2:AO315,AO315)=1,AM315,\"\")","v":""},"","","",null,{"$f":"+IF(AZ315=\"\",\"\",MAX(AU$1:AU314)+1)","v":""},{"$f":"IF('Process and CMS Information'!B337=\"\",\"\",'Process and CMS Information'!B337)","v":""},{"$f":"IF('Process and CMS Information'!C337=\"\",\"\",'Process and CMS Information'!C337)","v":""},{"$f":"IF('Process and CMS Information'!F337=\"\",\"\",'Process and CMS Information'!F337)","v":""},"",{"$f":"IF(COUNTIF(AY$2:AY315,AY315)=1,AY315,\"\")","v":""},"","","",""]
[null,null,null,null,null,null,null,null,null,null,null,null,null,null,null,null,null,null,null,null,null,null,null,null,null,null,{"$f":"+IF(AF316=\"\",\"\",MAX(AA$1:AA315)+1)","v":""},{"$f":"IF('Excess Emissions'!B338=\"\",\"\",'Excess Emissions'!B338)","v":""},{"$f":"IF('Excess Emissions'!C338=\"\",\"\",'Excess Emissions'!C338)","v":""},{"$f":"IF('Excess Emissions'!D338=\"\",\"\",'Excess Emissions'!D338)","v":""},"",{"$f":"IF(COUNTIF(AE$2:AE316,AE316)=1,AC316,\"\")","v":""},"","","",null,{"$f":"+IF(AP316=\"\",\"\",MAX(AK$1:AK315)+1)","v":""},{"$f":"IF('CMS Downtime Detail'!B338=\"\",\"\",'CMS Downtime Detail'!B338)","v":""},{"$f":"IF('CMS Downtime Detail'!C338=\"\",\"\",'CMS Downtime Detail'!C338)","v":""},{"$f":"IF('CMS Downtime Detail'!D338=\"\",\"\",'CMS Downtime Detail'!D338)","v":""},"",{"$f":"IF(COUNTIF(AO$2:AO316,AO316)=1,AM316,\"\")","v":""},"","","",null,{"$f":"+IF(AZ316=\"\",\"\",MAX(AU$1:AU315)+1)","v":""},{"$f":"IF('Process and CMS Information'!B338=\"\",\"\",'Process and CMS Information'!B338)","v":""},{"$f":"IF('Process and CMS Information'!C338=\"\",\"\",'Process and CMS Information'!C338)","v":""},{"$f":"IF('Process and CMS Information'!F338=\"\",\"\",'Process and CMS Information'!F338)","v":""},"",{"$f":"IF(COUNTIF(AY$2:AY316,AY316)=1,AY316,\"\")","v":""},"","","",""]
[null,null,null,null,null,null,null,null,null,null,null,null,null,null,null,null,null,null,null,null,null,null,null,null,null,null,{"$f":"+IF(AF317=\"\",\"\",MAX(AA$1:AA316)+1)","v":""},{"$f":"IF('Excess Emissions'!B339=\"\",\"\",'Excess Emissions'!B339)","v":""},{"$f":"IF('Excess Emissions'!C339=\"\",\"\",'Excess Emissions'!C339)","v":""},{"$f":"IF('Excess Emissions'!D339=\"\",\"\",'Excess Emissions'!D339)","v":""},"",{"$f":"IF(COUNTIF(AE$2:AE317,AE317)=1,AC317,\"\")","v":""},"","","",null,{"$f":"+IF(AP317=\"\",\"\",MAX(AK$1:AK316)+1)","v":""},{"$f":"IF('CMS Downtime Detail'!B339=\"\",\"\",'CMS Downtime Detail'!B339)","v":""},{"$f":"IF('CMS Downtime Detail'!C339=\"\",\"\",'CMS Downtime Detail'!C339)","v":""},{"$f":"IF('CMS Downtime Detail'!D339=\"\",\"\",'CMS Downtime Detail'!D339)","v":""},"",{"$f":"IF(COUNTIF(AO$2:AO317,AO317)=1,AM317,\"\")","v":""},"","","",null,{"$f":"+IF(AZ317=\"\",\"\",MAX(AU$1:AU316)+1)","v":""},{"$f":"IF('Process and CMS Information'!B339=\"\",\"\",'Process and CMS Information'!B339)","v":""},{"$f":"IF('Process and CMS Information'!C339=\"\",\"\",'Process and CMS Information'!C339)","v":""},{"$f":"IF('Process and CMS Information'!F339=\"\",\"\",'Process and CMS Information'!F339)","v":""},"",{"$f":"IF(COUNTIF(AY$2:AY317,AY317)=1,AY317,\"\")","v":""},"","","",""]
[null,null,null,null,null,null,null,null,null,null,null,null,null,null,null,null,null,null,null,null,null,null,null,null,null,null,{"$f":"+IF(AF318=\"\",\"\",MAX(AA$1:AA317)+1)","v":""},{"$f":"IF('Excess Emissions'!B340=\"\",\"\",'Excess Emissions'!B340)","v":""},{"$f":"IF('Excess Emissions'!C340=\"\",\"\",'Excess Emissions'!C340)","v":""},{"$f":"IF('Excess Emissions'!D340=\"\",\"\",'Excess Emissions'!D340)","v":""},"",{"$f":"IF(COUNTIF(AE$2:AE318,AE318)=1,AC318,\"\")","v":""},"","","",null,{"$f":"+IF(AP318=\"\",\"\",MAX(AK$1:AK317)+1)","v":""},{"$f":"IF('CMS Downtime Detail'!B340=\"\",\"\",'CMS Downtime Detail'!B340)","v":""},{"$f":"IF('CMS Downtime Detail'!C340=\"\",\"\",'CMS Downtime Detail'!C340)","v":""},{"$f":"IF('CMS Downtime Detail'!D340=\"\",\"\",'CMS Downtime Detail'!D340)","v":""},"",{"$f":"IF(COUNTIF(AO$2:AO318,AO318)=1,AM318,\"\")","v":""},"","","",null,{"$f":"+IF(AZ318=\"\",\"\",MAX(AU$1:AU317)+1)","v":""},{"$f":"IF('Process and CMS Information'!B340=\"\",\"\",'Process and CMS Information'!B340)","v":""},{"$f":"IF('Process and CMS Information'!C340=\"\",\"\",'Process and CMS Information'!C340)","v":""},{"$f":"IF('Process and CMS Information'!F340=\"\",\"\",'Process and CMS Information'!F340)","v":""},"",{"$f":"IF(COUNTIF(AY$2:AY318,AY318)=1,AY318,\"\")","v":""},"","","",""]
[null,null,null,null,null,null,null,null,null,null,null,null,null,null,null,null,null,null,null,null,null,null,null,null,null,null,{"$f":"+IF(AF319=\"\",\"\",MAX(AA$1:AA318)+1)","v":""},{"$f":"IF('Excess Emissions'!B341=\"\",\"\",'Excess Emissions'!B341)","v":""},{"$f":"IF('Excess Emissions'!C341=\"\",\"\",'Excess Emissions'!C341)","v":""},{"$f":"IF('Excess Emissions'!D341=\"\",\"\",'Excess Emissions'!D341)","v":""},"",{"$f":"IF(COUNTIF(AE$2:AE319,AE319)=1,AC319,\"\")","v":""},"","","",null,{"$f":"+IF(AP319=\"\",\"\",MAX(AK$1:AK318)+1)","v":""},{"$f":"IF('CMS Downtime Detail'!B341=\"\",\"\",'CMS Downtime Detail'!B341)","v":""},{"$f":"IF('CMS Downtime Detail'!C341=\"\",\"\",'CMS Downtime Detail'!C341)","v":""},{"$f":"IF('CMS Downtime Detail'!D341=\"\",\"\",'CMS Downtime Detail'!D341)","v":""},"",{"$f":"IF(COUNTIF(AO$2:AO319,AO319)=1,AM319,\"\")","v":""},"","","",null,{"$f":"+IF(AZ319=\"\",\"\",MAX(AU$1:AU318)+1)","v":""},{"$f":"IF('Process and CMS Information'!B341=\"\",\"\",'Process and CMS Information'!B341)","v":""},{"$f":"IF('Process and CMS Information'!C341=\"\",\"\",'Process and CMS Information'!C341)","v":""},{"$f":"IF('Process and CMS Information'!F341=\"\",\"\",'Process and CMS Information'!F341)","v":""},"",{"$f":"IF(COUNTIF(AY$2:AY319,AY319)=1,AY319,\"\")","v":""},"","","",""]
[null,null,null,null,null,null,null,null,null,null,null,null,null,null,null,null,null,null,null,null,null,null,null,null,null,null,{"$f":"+IF(AF320=\"\",\"\",MAX(AA$1:AA319)+1)","v":""},{"$f":"IF('Excess Emissions'!B342=\"\",\"\",'Excess Emissions'!B342)","v":""},{"$f":"IF('Excess Emissions'!C342=\"\",\"\",'Excess Emissions'!C342)","v":""},{"$f":"IF('Excess Emissions'!D342=\"\",\"\",'Excess Emissions'!D342)","v":""},"",{"$f":"IF(COUNTIF(AE$2:AE320,AE320)=1,AC320,\"\")","v":""},"","","",null,{"$f":"+IF(AP320=\"\",\"\",MAX(AK$1:AK319)+1)","v":""},{"$f":"IF('CMS Downtime Detail'!B342=\"\",\"\",'CMS Downtime Detail'!B342)","v":""},{"$f":"IF('CMS Downtime Detail'!C342=\"\",\"\",'CMS Downtime Detail'!C342)","v":""},{"$f":"IF('CMS Downtime Detail'!D342=\"\",\"\",'CMS Downtime Detail'!D342)","v":""},"",{"$f":"IF(COUNTIF(AO$2:AO320,AO320)=1,AM320,\"\")","v":""},"","","",null,{"$f":"+IF(AZ320=\"\",\"\",MAX(AU$1:AU319)+1)","v":""},{"$f":"IF('Process and CMS Information'!B342=\"\",\"\",'Process and CMS Information'!B342)","v":""},{"$f":"IF('Process and CMS Information'!C342=\"\",\"\",'Process and CMS Information'!C342)","v":""},{"$f":"IF('Process and CMS Information'!F342=\"\",\"\",'Process and CMS Information'!F342)","v":""},"",{"$f":"IF(COUNTIF(AY$2:AY320,AY320)=1,AY320,\"\")","v":""},"","","",""]
[null,null,null,null,null,null,null,null,null,null,null,null,null,null,null,null,null,null,null,null,null,null,null,null,null,null,{"$f":"+IF(AF321=\"\",\"\",MAX(AA$1:AA320)+1)","v":""},{"$f":"IF('Excess Emissions'!B343=\"\",\"\",'Excess Emissions'!B343)","v":""},{"$f":"IF('Excess Emissions'!C343=\"\",\"\",'Excess Emissions'!C343)","v":""},{"$f":"IF('Excess Emissions'!D343=\"\",\"\",'Excess Emissions'!D343)","v":""},"",{"$f":"IF(COUNTIF(AE$2:AE321,AE321)=1,AC321,\"\")","v":""},"","","",null,{"$f":"+IF(AP321=\"\",\"\",MAX(AK$1:AK320)+1)","v":""},{"$f":"IF('CMS Downtime Detail'!B343=\"\",\"\",'CMS Downtime Detail'!B343)","v":""},{"$f":"IF('CMS Downtime Detail'!C343=\"\",\"\",'CMS Downtime Detail'!C343)","v":""},{"$f":"IF('CMS Downtime Detail'!D343=\"\",\"\",'CMS Downtime Detail'!D343)","v":""},"",{"$f":"IF(COUNTIF(AO$2:AO321,AO321)=1,AM321,\"\")","v":""},"","","",null,{"$f":"+IF(AZ321=\"\",\"\",MAX(AU$1:AU320)+1)","v":""},{"$f":"IF('Process and CMS Information'!B343=\"\",\"\",'Process and CMS Information'!B343)","v":""},{"$f":"IF('Process and CMS Information'!C343=\"\",\"\",'Process and CMS Information'!C343)","v":""},{"$f":"IF('Process and CMS Information'!F343=\"\",\"\",'Process and CMS Information'!F343)","v":""},"",{"$f":"IF(COUNTIF(AY$2:AY321,AY321)=1,AY321,\"\")","v":""},"","","",""]
[null,null,null,null,null,null,null,null,null,null,null,null,null,null,null,null,null,null,null,null,null,null,null,null,null,null,{"$f":"+IF(AF322=\"\",\"\",MAX(AA$1:AA321)+1)","v":""},{"$f":"IF('Excess Emissions'!B344=\"\",\"\",'Excess Emissions'!B344)","v":""},{"$f":"IF('Excess Emissions'!C344=\"\",\"\",'Excess Emissions'!C344)","v":""},{"$f":"IF('Excess Emissions'!D344=\"\",\"\",'Excess Emissions'!D344)","v":""},"",{"$f":"IF(COUNTIF(AE$2:AE322,AE322)=1,AC322,\"\")","v":""},"","","",null,{"$f":"+IF(AP322=\"\",\"\",MAX(AK$1:AK321)+1)","v":""},{"$f":"IF('CMS Downtime Detail'!B344=\"\",\"\",'CMS Downtime Detail'!B344)","v":""},{"$f":"IF('CMS Downtime Detail'!C344=\"\",\"\",'CMS Downtime Detail'!C344)","v":""},{"$f":"IF('CMS Downtime Detail'!D344=\"\",\"\",'CMS Downtime Detail'!D344)","v":""},"",{"$f":"IF(COUNTIF(AO$2:AO322,AO322)=1,AM322,\"\")","v":""},"","","",null,{"$f":"+IF(AZ322=\"\",\"\",MAX(AU$1:AU321)+1)","v":""},{"$f":"IF('Process and CMS Information'!B344=\"\",\"\",'Process and CMS Information'!B344)","v":""},{"$f":"IF('Process and CMS Information'!C344=\"\",\"\",'Process and CMS Information'!C344)","v":""},{"$f":"IF('Process and CMS Information'!F344=\"\",\"\",'Process and CMS Information'!F344)","v":""},"",{"$f":"IF(COUNTIF(AY$2:AY322,AY322)=1,AY322,\"\")","v":""},"","","",""]
[null,null,null,null,null,null,null,null,null,null,null,null,null,null,null,null,null,null,null,null,null,null,null,null,null,null,{"$f":"+IF(AF323=\"\",\"\",MAX(AA$1:AA322)+1)","v":""},{"$f":"IF('Excess Emissions'!B345=\"\",\"\",'Excess Emissions'!B345)","v":""},{"$f":"IF('Excess Emissions'!C345=\"\",\"\",'Excess Emissions'!C345)","v":""},{"$f":"IF('Excess Emissions'!D345=\"\",\"\",'Excess Emissions'!D345)","v":""},{"$f":"AB323&AC323&AD323","v":""},{"$f":"IF(COUNTIF(AE$2:AE323,AE323)=1,AC323,\"\")","v":""},{"$f":"+IFERROR(INDEX(AB$2:AB$500,MATCH(ROW()-ROW($AF$1),$AA$2:$AA$500,0)),\"\")","v":""},{"$f":"+IFERROR(INDEX(AC$2:AC$500,MATCH(ROW()-ROW($AF$1),$AA$2:$AA$500,0)),\"\")","v":""},{"$f":"+IFERROR(INDEX(AD$2:AD$500,MATCH(ROW()-ROW($AF$1),$AA$2:$AA$500,0)),\"\")","v":""},null,{"$f":"+IF(AP323=\"\",\"\",MAX(AK$1:AK322)+1)","v":""},{"$f":"IF('CMS Downtime Detail'!B345=\"\",\"\",'CMS Downtime Detail'!B345)","v":""},{"$f":"IF('CMS Downtime Detail'!C345=\"\",\"\",'CMS Downtime Detail'!C345)","v":""},{"$f":"IF('CMS Downtime Detail'!D345=\"\",\"\",'CMS Downtime Detail'!D345)","v":""},{"$f":"AL323&AM323&AN323","v":""},{"$f":"IF(COUNTIF(AO$2:AO323,AO323)=1,AM323,\"\")","v":""},{"$f":"+IFERROR(INDEX(AL$2:AL$500,MATCH(ROW()-ROW($AP$1),$AK$2:$AK$500,0)),\"\")","v":""},{"$f":"+IFERROR(INDEX(AM$2:AM$500,MATCH(ROW()-ROW($AP$1),$AK$2:$AK$500,0)),\"\")","v":""},{"$f":"+IFERROR(INDEX(AN$2:AN$500,MATCH(ROW()-ROW($AP$1),$AK$2:$AK$500,0)),\"\")","v":""},null,{"$f":"+IF(AZ323=\"\",\"\",MAX(AU$1:AU322)+1)","v":""},{"$f":"IF('Process and CMS Information'!B345=\"\",\"\",'Process and CMS Information'!B345)","v":""},{"$f":"IF('Process and CMS Information'!C345=\"\",\"\",'Process and CMS Information'!C345)","v":""},{"$f":"IF('Process and CMS Information'!F345=\"\",\"\",'Process and CMS Information'!F345)","v":""},{"$f":"AV323&AW323","v":""},{"$f":"IF(COUNTIF(AY$2:AY323,AY323)=1,AY323,\"\")","v":""},{"$f":"+IFERROR(INDEX(AY$2:AY$500,MATCH(ROW()-ROW($AZ$1),$AU$2:$AU$500,0)),\"\")","v":""},{"$f":"+IFERROR(INDEX(AV$2:AV$500,MATCH(ROW()-ROW($AZ$1),$AU$2:$AU$500,0)),\"\")","v":""},{"$f":"+IFERROR(INDEX(AW$2:AW$500,MATCH(ROW()-ROW($AZ$1),$AU$2:$AU$500,0)),\"\")","v":""},{"$f":"+IFERROR(INDEX(AX$2:AX$500,MATCH(ROW()-ROW($AZ$1),$AU$2:$AU$500,0)),\"\")","v":""}]
[null,null,null,null,null,null,null,null,null,null,null,null,null,null,null,null,null,null,null,null,null,null,null,null,null,null,{"$f":"+IF(AF324=\"\",\"\",MAX(AA$1:AA323)+1)","v":""},{"$f":"IF('Excess Emissions'!B346=\"\",\"\",'Excess Emissions'!B346)","v":""},{"$f":"IF('Excess Emissions'!C346=\"\",\"\",'Excess Emissions'!C346)","v":""},{"$f":"IF('Excess Emissions'!D346=\"\",\"\",'Excess Emissions'!D346)","v":""},"",{"$f":"IF(COUNTIF(AE$2:AE324,AE324)=1,AC324,\"\")","v":""},"","","",null,{"$f":"+IF(AP324=\"\",\"\",MAX(AK$1:AK323)+1)","v":""},{"$f":"IF('CMS Downtime Detail'!B346=\"\",\"\",'CMS Downtime Detail'!B346)","v":""},{"$f":"IF('CMS Downtime Detail'!C346=\"\",\"\",'CMS Downtime Detail'!C346)","v":""},{"$f":"IF('CMS Downtime Detail'!D346=\"\",\"\",'CMS Downtime Detail'!D346)","v":""},"",{"$f":"IF(COUNTIF(AO$2:AO324,AO324)=1,AM324,\"\")","v":""},"","","",null,{"$f":"+IF(AZ324=\"\",\"\",MAX(AU$1:AU323)+1)","v":""},{"$f":"IF('Process and CMS Information'!B346=\"\",\"\",'Process and CMS Information'!B346)","v":""},{"$f":"IF('Process and CMS Information'!C346=\"\",\"\",'Process and CMS Information'!C346)","v":""},{"$f":"IF('Process and CMS Information'!F346=\"\",\"\",'Process and CMS Information'!F346)","v":""},"",{"$f":"IF(COUNTIF(AY$2:AY324,AY324)=1,AY324,\"\")","v":""},"","","",""]
[null,null,null,null,null,null,null,null,null,null,null,null,null,null,null,null,null,null,null,null,null,null,null,null,null,null,{"$f":"+IF(AF325=\"\",\"\",MAX(AA$1:AA324)+1)","v":""},{"$f":"IF('Excess Emissions'!B347=\"\",\"\",'Excess Emissions'!B347)","v":""},{"$f":"IF('Excess Emissions'!C347=\"\",\"\",'Excess Emissions'!C347)","v":""},{"$f":"IF('Excess Emissions'!D347=\"\",\"\",'Excess Emissions'!D347)","v":""},"",{"$f":"IF(COUNTIF(AE$2:AE325,AE325)=1,AC325,\"\")","v":""},"","","",null,{"$f":"+IF(AP325=\"\",\"\",MAX(AK$1:AK324)+1)","v":""},{"$f":"IF('CMS Downtime Detail'!B347=\"\",\"\",'CMS Downtime Detail'!B347)","v":""},{"$f":"IF('CMS Downtime Detail'!C347=\"\",\"\",'CMS Downtime Detail'!C347)","v":""},{"$f":"IF('CMS Downtime Detail'!D347=\"\",\"\",'CMS Downtime Detail'!D347)","v":""},"",{"$f":"IF(COUNTIF(AO$2:AO325,AO325)=1,AM325,\"\")","v":""},"","","",null,{"$f":"+IF(AZ325=\"\",\"\",MAX(AU$1:AU324)+1)","v":""},{"$f":"IF('Process and CMS Information'!B347=\"\",\"\",'Process and CMS Information'!B347)","v":""},{"$f":"IF('Process and CMS Information'!C347=\"\",\"\",'Process and CMS Information'!C347)","v":""},{"$f":"IF('Process and CMS Information'!F347=\"\",\"\",'Process and CMS Information'!F347)","v":""},"",{"$f":"IF(COUNTIF(AY$2:AY325,AY325)=1,AY325,\"\")","v":""},"","","",""]
[null,null,null,null,null,null,null,null,null,null,null,null,null,null,null,null,null,null,null,null,null,null,null,null,null,null,{"$f":"+IF(AF326=\"\",\"\",MAX(AA$1:AA325)+1)","v":""},{"$f":"IF('Excess Emissions'!B348=\"\",\"\",'Excess Emissions'!B348)","v":""},{"$f":"IF('Excess Emissions'!C348=\"\",\"\",'Excess Emissions'!C348)","v":""},{"$f":"IF('Excess Emissions'!D348=\"\",\"\",'Excess Emissions'!D348)","v":""},"",{"$f":"IF(COUNTIF(AE$2:AE326,AE326)=1,AC326,\"\")","v":""},"","","",null,{"$f":"+IF(AP326=\"\",\"\",MAX(AK$1:AK325)+1)","v":""},{"$f":"IF('CMS Downtime Detail'!B348=\"\",\"\",'CMS Downtime Detail'!B348)","v":""},{"$f":"IF('CMS Downtime Detail'!C348=\"\",\"\",'CMS Downtime Detail'!C348)","v":""},{"$f":"IF('CMS Downtime Detail'!D348=\"\",\"\",'CMS Downtime Detail'!D348)","v":""},"",{"$f":"IF(COUNTIF(AO$2:AO326,AO326)=1,AM326,\"\")","v":""},"","","",null,{"$f":"+IF(AZ326=\"\",\"\",MAX(AU$1:AU325)+1)","v":""},{"$f":"IF('Process and CMS Information'!B348=\"\",\"\",'Process and CMS Information'!B348)","v":""},{"$f":"IF('Process and CMS Information'!C348=\"\",\"\",'Process and CMS Information'!C348)","v":""},{"$f":"IF('Process and CMS Information'!F348=\"\",\"\",'Process and CMS Information'!F348)","v":""},"",{"$f":"IF(COUNTIF(AY$2:AY326,AY326)=1,AY326,\"\")","v":""},"","","",""]
[null,null,null,null,null,null,null,null,null,null,null,null,null,null,null,null,null,null,null,null,null,null,null,null,null,null,{"$f":"+IF(AF327=\"\",\"\",MAX(AA$1:AA326)+1)","v":""},{"$f":"IF('Excess Emissions'!B349=\"\",\"\",'Excess Emissions'!B349)","v":""},{"$f":"IF('Excess Emissions'!C349=\"\",\"\",'Excess Emissions'!C349)","v":""},{"$f":"IF('Excess Emissions'!D349=\"\",\"\",'Excess Emissions'!D349)","v":""},"",{"$f":"IF(COUNTIF(AE$2:AE327,AE327)=1,AC327,\"\")","v":""},"","","",null,{"$f":"+IF(AP327=\"\",\"\",MAX(AK$1:AK326)+1)","v":""},{"$f":"IF('CMS Downtime Detail'!B349=\"\",\"\",'CMS Downtime Detail'!B349)","v":""},{"$f":"IF('CMS Downtime Detail'!C349=\"\",\"\",'CMS Downtime Detail'!C349)","v":""},{"$f":"IF('CMS Downtime Detail'!D349=\"\",\"\",'CMS Downtime Detail'!D349)","v":""},"",{"$f":"IF(COUNTIF(AO$2:AO327,AO327)=1,AM327,\"\")","v":""},"","","",null,{"$f":"+IF(AZ327=\"\",\"\",MAX(AU$1:AU326)+1)","v":""},{"$f":"IF('Process and CMS Information'!B349=\"\",\"\",'Process and CMS Information'!B349)","v":""},{"$f":"IF('Process and CMS Information'!C349=\"\",\"\",'Process and CMS Information'!C349)","v":""},{"$f":"IF('Process and CMS Information'!F349=\"\",\"\",'Process and CMS Information'!F349)","v":""},"",{"$f":"IF(COUNTIF(AY$2:AY327,AY327)=1,AY327,\"\")","v":""},"","","",""]
[null,null,null,null,null,null,null,null,null,null,null,null,null,null,null,null,null,null,null,null,null,null,null,null,null,null,{"$f":"+IF(AF328=\"\",\"\",MAX(AA$1:AA327)+1)","v":""},{"$f":"IF('Excess Emissions'!B350=\"\",\"\",'Excess Emissions'!B350)","v":""},{"$f":"IF('Excess Emissions'!C350=\"\",\"\",'Excess Emissions'!C350)","v":""},{"$f":"IF('Excess Emissions'!D350=\"\",\"\",'Excess Emissions'!D350)","v":""},"",{"$f":"IF(COUNTIF(AE$2:AE328,AE328)=1,AC328,\"\")","v":""},"","","",null,{"$f":"+IF(AP328=\"\",\"\",MAX(AK$1:AK327)+1)","v":""},{"$f":"IF('CMS Downtime Detail'!B350=\"\",\"\",'CMS Downtime Detail'!B350)","v":""},{"$f":"IF('CMS Downtime Detail'!C350=\"\",\"\",'CMS Downtime Detail'!C350)","v":""},{"$f":"IF('CMS Downtime Detail'!D350=\"\",\"\",'CMS Downtime Detail'!D350)","v":""},"",{"$f":"IF(COUNTIF(AO$2:AO328,AO328)=1,AM328,\"\")","v":""},"","","",null,{"$f":"+IF(AZ328=\"\",\"\",MAX(AU$1:AU327)+1)","v":""},{"$f":"IF('Process and CMS Information'!B350=\"\",\"\",'Process and CMS Information'!B350)","v":""},{"$f":"IF('Process and CMS Information'!C350=\"\",\"\",'Process and CMS Information'!C350)","v":""},{"$f":"IF('Process and CMS Information'!F350=\"\",\"\",'Process and CMS Information'!F350)","v":""},"",{"$f":"IF(COUNTIF(AY$2:AY328,AY328)=1,AY328,\"\")","v":""},"","","",""]
[null,null,null,null,null,null,null,null,null,null,null,null,null,null,null,null,null,null,null,null,null,null,null,null,null,null,{"$f":"+IF(AF329=\"\",\"\",MAX(AA$1:AA328)+1)","v":""},{"$f":"IF('Excess Emissions'!B351=\"\",\"\",'Excess Emissions'!B351)","v":""},{"$f":"IF('Excess Emissions'!C351=\"\",\"\",'Excess Emissions'!C351)","v":""},{"$f":"IF('Excess Emissions'!D351=\"\",\"\",'Excess Emissions'!D351)","v":""},"",{"$f":"IF(COUNTIF(AE$2:AE329,AE329)=1,AC329,\"\")","v":""},"","","",null,{"$f":"+IF(AP329=\"\",\"\",MAX(AK$1:AK328)+1)","v":""},{"$f":"IF('CMS Downtime Detail'!B351=\"\",\"\",'CMS Downtime Detail'!B351)","v":""},{"$f":"IF('CMS Downtime Detail'!C351=\"\",\"\",'CMS Downtime Detail'!C351)","v":""},{"$f":"IF('CMS Downtime Detail'!D351=\"\",\"\",'CMS Downtime Detail'!D351)","v":""},"",{"$f":"IF(COUNTIF(AO$2:AO329,AO329)=1,AM329,\"\")","v":""},"","","",null,{"$f":"+IF(AZ329=\"\",\"\",MAX(AU$1:AU328)+1)","v":""},{"$f":"IF('Process and CMS Information'!B351=\"\",\"\",'Process and CMS Information'!B351)","v":""},{"$f":"IF('Process and CMS Information'!C351=\"\",\"\",'Process and CMS Information'!C351)","v":""},{"$f":"IF('Process and CMS Information'!F351=\"\",\"\",'Process and CMS Information'!F351)","v":""},"",{"$f":"IF(COUNTIF(AY$2:AY329,AY329)=1,AY329,\"\")","v":""},"","","",""]
[null,null,null,null,null,null,null,null,null,null,null,null,null,null,null,null,null,null,null,null,null,null,null,null,null,null,{"$f":"+IF(AF330=\"\",\"\",MAX(AA$1:AA329)+1)","v":""},{"$f":"IF('Excess Emissions'!B352=\"\",\"\",'Excess Emissions'!B352)","v":""},{"$f":"IF('Excess Emissions'!C352=\"\",\"\",'Excess Emissions'!C352)","v":""},{"$f":"IF('Excess Emissions'!D352=\"\",\"\",'Excess Emissions'!D352)","v":""},"",{"$f":"IF(COUNTIF(AE$2:AE330,AE330)=1,AC330,\"\")","v":""},"","","",null,{"$f":"+IF(AP330=\"\",\"\",MAX(AK$1:AK329)+1)","v":""},{"$f":"IF('CMS Downtime Detail'!B352=\"\",\"\",'CMS Downtime Detail'!B352)","v":""},{"$f":"IF('CMS Downtime Detail'!C352=\"\",\"\",'CMS Downtime Detail'!C352)","v":""},{"$f":"IF('CMS Downtime Detail'!D352=\"\",\"\",'CMS Downtime Detail'!D352)","v":""},"",{"$f":"IF(COUNTIF(AO$2:AO330,AO330)=1,AM330,\"\")","v":""},"","","",null,{"$f":"+IF(AZ330=\"\",\"\",MAX(AU$1:AU329)+1)","v":""},{"$f":"IF('Process and CMS Information'!B352=\"\",\"\",'Process and CMS Information'!B352)","v":""},{"$f":"IF('Process and CMS Information'!C352=\"\",\"\",'Process and CMS Information'!C352)","v":""},{"$f":"IF('Process and CMS Information'!F352=\"\",\"\",'Process and CMS Information'!F352)","v":""},"",{"$f":"IF(COUNTIF(AY$2:AY330,AY330)=1,AY330,\"\")","v":""},"","","",""]
[null,null,null,null,null,null,null,null,null,null,null,null,null,null,null,null,null,null,null,null,null,null,null,null,null,null,{"$f":"+IF(AF331=\"\",\"\",MAX(AA$1:AA330)+1)","v":""},{"$f":"IF('Excess Emissions'!B353=\"\",\"\",'Excess Emissions'!B353)","v":""},{"$f":"IF('Excess Emissions'!C353=\"\",\"\",'Excess Emissions'!C353)","v":""},{"$f":"IF('Excess Emissions'!D353=\"\",\"\",'Excess Emissions'!D353)","v":""},"",{"$f":"IF(COUNTIF(AE$2:AE331,AE331)=1,AC331,\"\")","v":""},"","","",null,{"$f":"+IF(AP331=\"\",\"\",MAX(AK$1:AK330)+1)","v":""},{"$f":"IF('CMS Downtime Detail'!B353=\"\",\"\",'CMS Downtime Detail'!B353)","v":""},{"$f":"IF('CMS Downtime Detail'!C353=\"\",\"\",'CMS Downtime Detail'!C353)","v":""},{"$f":"IF('CMS Downtime Detail'!D353=\"\",\"\",'CMS Downtime Detail'!D353)","v":""},"",{"$f":"IF(COUNTIF(AO$2:AO331,AO331)=1,AM331,\"\")","v":""},"","","",null,{"$f":"+IF(AZ331=\"\",\"\",MAX(AU$1:AU330)+1)","v":""},{"$f":"IF('Process and CMS Information'!B353=\"\",\"\",'Process and CMS Information'!B353)","v":""},{"$f":"IF('Process and CMS Information'!C353=\"\",\"\",'Process and CMS Information'!C353)","v":""},{"$f":"IF('Process and CMS Information'!F353=\"\",\"\",'Process and CMS Information'!F353)","v":""},"",{"$f":"IF(COUNTIF(AY$2:AY331,AY331)=1,AY331,\"\")","v":""},"","","",""]
[null,null,null,null,null,null,null,null,null,null,null,null,null,null,null,null,null,null,null,null,null,null,null,null,null,null,{"$f":"+IF(AF332=\"\",\"\",MAX(AA$1:AA331)+1)","v":""},{"$f":"IF('Excess Emissions'!B354=\"\",\"\",'Excess Emissions'!B354)","v":""},{"$f":"IF('Excess Emissions'!C354=\"\",\"\",'Excess Emissions'!C354)","v":""},{"$f":"IF('Excess Emissions'!D354=\"\",\"\",'Excess Emissions'!D354)","v":""},"",{"$f":"IF(COUNTIF(AE$2:AE332,AE332)=1,AC332,\"\")","v":""},"","","",null,{"$f":"+IF(AP332=\"\",\"\",MAX(AK$1:AK331)+1)","v":""},{"$f":"IF('CMS Downtime Detail'!B354=\"\",\"\",'CMS Downtime Detail'!B354)","v":""},{"$f":"IF('CMS Downtime Detail'!C354=\"\",\"\",'CMS Downtime Detail'!C354)","v":""},{"$f":"IF('CMS Downtime Detail'!D354=\"\",\"\",'CMS Downtime Detail'!D354)","v":""},"",{"$f":"IF(COUNTIF(AO$2:AO332,AO332)=1,AM332,\"\")","v":""},"","","",null,{"$f":"+IF(AZ332=\"\",\"\",MAX(AU$1:AU331)+1)","v":""},{"$f":"IF('Process and CMS Information'!B354=\"\",\"\",'Process and CMS Information'!B354)","v":""},{"$f":"IF('Process and CMS Information'!C354=\"\",\"\",'Process and CMS Information'!C354)","v":""},{"$f":"IF('Process and CMS Information'!F354=\"\",\"\",'Process and CMS Information'!F354)","v":""},"",{"$f":"IF(COUNTIF(AY$2:AY332,AY332)=1,AY332,\"\")","v":""},"","","",""]
[null,null,null,null,null,null,null,null,null,null,null,null,null,null,null,null,null,null,null,null,null,null,null,null,null,null,{"$f":"+IF(AF333=\"\",\"\",MAX(AA$1:AA332)+1)","v":""},{"$f":"IF('Excess Emissions'!B355=\"\",\"\",'Excess Emissions'!B355)","v":""},{"$f":"IF('Excess Emissions'!C355=\"\",\"\",'Excess Emissions'!C355)","v":""},{"$f":"IF('Excess Emissions'!D355=\"\",\"\",'Excess Emissions'!D355)","v":""},"",{"$f":"IF(COUNTIF(AE$2:AE333,AE333)=1,AC333,\"\")","v":""},"","","",null,{"$f":"+IF(AP333=\"\",\"\",MAX(AK$1:AK332)+1)","v":""},{"$f":"IF('CMS Downtime Detail'!B355=\"\",\"\",'CMS Downtime Detail'!B355)","v":""},{"$f":"IF('CMS Downtime Detail'!C355=\"\",\"\",'CMS Downtime Detail'!C355)","v":""},{"$f":"IF('CMS Downtime Detail'!D355=\"\",\"\",'CMS Downtime Detail'!D355)","v":""},"",{"$f":"IF(COUNTIF(AO$2:AO333,AO333)=1,AM333,\"\")","v":""},"","","",null,{"$f":"+IF(AZ333=\"\",\"\",MAX(AU$1:AU332)+1)","v":""},{"$f":"IF('Process and CMS Information'!B355=\"\",\"\",'Process and CMS Information'!B355)","v":""},{"$f":"IF('Process and CMS Information'!C355=\"\",\"\",'Process and CMS Information'!C355)","v":""},{"$f":"IF('Process and CMS Information'!F355=\"\",\"\",'Process and CMS Information'!F355)","v":""},"",{"$f":"IF(COUNTIF(AY$2:AY333,AY333)=1,AY333,\"\")","v":""},"","","",""]
[null,null,null,null,null,null,null,null,null,null,null,null,null,null,null,null,null,null,null,null,null,null,null,null,null,null,{"$f":"+IF(AF334=\"\",\"\",MAX(AA$1:AA333)+1)","v":""},{"$f":"IF('Excess Emissions'!B356=\"\",\"\",'Excess Emissions'!B356)","v":""},{"$f":"IF('Excess Emissions'!C356=\"\",\"\",'Excess Emissions'!C356)","v":""},{"$f":"IF('Excess Emissions'!D356=\"\",\"\",'Excess Emissions'!D356)","v":""},"",{"$f":"IF(COUNTIF(AE$2:AE334,AE334)=1,AC334,\"\")","v":""},"","","",null,{"$f":"+IF(AP334=\"\",\"\",MAX(AK$1:AK333)+1)","v":""},{"$f":"IF('CMS Downtime Detail'!B356=\"\",\"\",'CMS Downtime Detail'!B356)","v":""},{"$f":"IF('CMS Downtime Detail'!C356=\"\",\"\",'CMS Downtime Detail'!C356)","v":""},{"$f":"IF('CMS Downtime Detail'!D356=\"\",\"\",'CMS Downtime Detail'!D356)","v":""},"",{"$f":"IF(COUNTIF(AO$2:AO334,AO334)=1,AM334,\"\")","v":""},"","","",null,{"$f":"+IF(AZ334=\"\",\"\",MAX(AU$1:AU333)+1)","v":""},{"$f":"IF('Process and CMS Information'!B356=\"\",\"\",'Process and CMS Information'!B356)","v":""},{"$f":"IF('Process and CMS Information'!C356=\"\",\"\",'Process and CMS Information'!C356)","v":""},{"$f":"IF('Process and CMS Information'!F356=\"\",\"\",'Process and CMS Information'!F356)","v":""},"",{"$f":"IF(COUNTIF(AY$2:AY334,AY334)=1,AY334,\"\")","v":""},"","","",""]
[null,null,null,null,null,null,null,null,null,null,null,null,null,null,null,null,null,null,null,null,null,null,null,null,null,null,{"$f":"+IF(AF335=\"\",\"\",MAX(AA$1:AA334)+1)","v":""},{"$f":"IF('Excess Emissions'!B357=\"\",\"\",'Excess Emissions'!B357)","v":""},{"$f":"IF('Excess Emissions'!C357=\"\",\"\",'Excess Emissions'!C357)","v":""},{"$f":"IF('Excess Emissions'!D357=\"\",\"\",'Excess Emissions'!D357)","v":""},"",{"$f":"IF(COUNTIF(AE$2:AE335,AE335)=1,AC335,\"\")","v":""},"","","",null,{"$f":"+IF(AP335=\"\",\"\",MAX(AK$1:AK334)+1)","v":""},{"$f":"IF('CMS Downtime Detail'!B357=\"\",\"\",'CMS Downtime Detail'!B357)","v":""},{"$f":"IF('CMS Downtime Detail'!C357=\"\",\"\",'CMS Downtime Detail'!C357)","v":""},{"$f":"IF('CMS Downtime Detail'!D357=\"\",\"\",'CMS Downtime Detail'!D357)","v":""},"",{"$f":"IF(COUNTIF(AO$2:AO335,AO335)=1,AM335,\"\")","v":""},"","","",null,{"$f":"+IF(AZ335=\"\",\"\",MAX(AU$1:AU334)+1)","v":""},{"$f":"IF('Process and CMS Information'!B357=\"\",\"\",'Process and CMS Information'!B357)","v":""},{"$f":"IF('Process and CMS Information'!C357=\"\",\"\",'Process and CMS Information'!C357)","v":""},{"$f":"IF('Process and CMS Information'!F357=\"\",\"\",'Process and CMS Information'!F357)","v":""},"",{"$f":"IF(COUNTIF(AY$2:AY335,AY335)=1,AY335,\"\")","v":""},"","","",""]
[null,null,null,null,null,null,null,null,null,null,null,null,null,null,null,null,null,null,null,null,null,null,null,null,null,null,{"$f":"+IF(AF336=\"\",\"\",MAX(AA$1:AA335)+1)","v":""},{"$f":"IF('Excess Emissions'!B358=\"\",\"\",'Excess Emissions'!B358)","v":""},{"$f":"IF('Excess Emissions'!C358=\"\",\"\",'Excess Emissions'!C358)","v":""},{"$f":"IF('Excess Emissions'!D358=\"\",\"\",'Excess Emissions'!D358)","v":""},"",{"$f":"IF(COUNTIF(AE$2:AE336,AE336)=1,AC336,\"\")","v":""},"","","",null,{"$f":"+IF(AP336=\"\",\"\",MAX(AK$1:AK335)+1)","v":""},{"$f":"IF('CMS Downtime Detail'!B358=\"\",\"\",'CMS Downtime Detail'!B358)","v":""},{"$f":"IF('CMS Downtime Detail'!C358=\"\",\"\",'CMS Downtime Detail'!C358)","v":""},{"$f":"IF('CMS Downtime Detail'!D358=\"\",\"\",'CMS Downtime Detail'!D358)","v":""},"",{"$f":"IF(COUNTIF(AO$2:AO336,AO336)=1,AM336,\"\")","v":""},"","","",null,{"$f":"+IF(AZ336=\"\",\"\",MAX(AU$1:AU335)+1)","v":""},{"$f":"IF('Process and CMS Information'!B358=\"\",\"\",'Process and CMS Information'!B358)","v":""},{"$f":"IF('Process and CMS Information'!C358=\"\",\"\",'Process and CMS Information'!C358)","v":""},{"$f":"IF('Process and CMS Information'!F358=\"\",\"\",'Process and CMS Information'!F358)","v":""},"",{"$f":"IF(COUNTIF(AY$2:AY336,AY336)=1,AY336,\"\")","v":""},"","","",""]
[null,null,null,null,null,null,null,null,null,null,null,null,null,null,null,null,null,null,null,null,null,null,null,null,null,null,{"$f":"+IF(AF337=\"\",\"\",MAX(AA$1:AA336)+1)","v":""},{"$f":"IF('Excess Emissions'!B359=\"\",\"\",'Excess Emissions'!B359)","v":""},{"$f":"IF('Excess Emissions'!C359=\"\",\"\",'Excess Emissions'!C359)","v":""},{"$f":"IF('Excess Emissions'!D359=\"\",\"\",'Excess Emissions'!D359)","v":""},"",{"$f":"IF(COUNTIF(AE$2:AE337,AE337)=1,AC337,\"\")","v":""},"","","",null,{"$f":"+IF(AP337=\"\",\"\",MAX(AK$1:AK336)+1)","v":""},{"$f":"IF('CMS Downtime Detail'!B359=\"\",\"\",'CMS Downtime Detail'!B359)","v":""},{"$f":"IF('CMS Downtime Detail'!C359=\"\",\"\",'CMS Downtime Detail'!C359)","v":""},{"$f":"IF('CMS Downtime Detail'!D359=\"\",\"\",'CMS Downtime Detail'!D359)","v":""},"",{"$f":"IF(COUNTIF(AO$2:AO337,AO337)=1,AM337,\"\")","v":""},"","","",null,{"$f":"+IF(AZ337=\"\",\"\",MAX(AU$1:AU336)+1)","v":""},{"$f":"IF('Process and CMS Information'!B359=\"\",\"\",'Process and CMS Information'!B359)","v":""},{"$f":"IF('Process and CMS Information'!C359=\"\",\"\",'Process and CMS Information'!C359)","v":""},{"$f":"IF('Process and CMS Information'!F359=\"\",\"\",'Process and CMS Information'!F359)","v":""},"",{"$f":"IF(COUNTIF(AY$2:AY337,AY337)=1,AY337,\"\")","v":""},"","","",""]
[null,null,null,null,null,null,null,null,null,null,null,null,null,null,null,null,null,null,null,null,null,null,null,null,null,null,{"$f":"+IF(AF338=\"\",\"\",MAX(AA$1:AA337)+1)","v":""},{"$f":"IF('Excess Emissions'!B360=\"\",\"\",'Excess Emissions'!B360)","v":""},{"$f":"IF('Excess Emissions'!C360=\"\",\"\",'Excess Emissions'!C360)","v":""},{"$f":"IF('Excess Emissions'!D360=\"\",\"\",'Excess Emissions'!D360)","v":""},"",{"$f":"IF(COUNTIF(AE$2:AE338,AE338)=1,AC338,\"\")","v":""},"","","",null,{"$f":"+IF(AP338=\"\",\"\",MAX(AK$1:AK337)+1)","v":""},{"$f":"IF('CMS Downtime Detail'!B360=\"\",\"\",'CMS Downtime Detail'!B360)","v":""},{"$f":"IF('CMS Downtime Detail'!C360=\"\",\"\",'CMS Downtime Detail'!C360)","v":""},{"$f":"IF('CMS Downtime Detail'!D360=\"\",\"\",'CMS Downtime Detail'!D360)","v":""},"",{"$f":"IF(COUNTIF(AO$2:AO338,AO338)=1,AM338,\"\")","v":""},"","","",null,{"$f":"+IF(AZ338=\"\",\"\",MAX(AU$1:AU337)+1)","v":""},{"$f":"IF('Process and CMS Information'!B360=\"\",\"\",'Process and CMS Information'!B360)","v":""},{"$f":"IF('Process and CMS Information'!C360=\"\",\"\",'Process and CMS Information'!C360)","v":""},{"$f":"IF('Process and CMS Information'!F360=\"\",\"\",'Process and CMS Information'!F360)","v":""},"",{"$f":"IF(COUNTIF(AY$2:AY338,AY338)=1,AY338,\"\")","v":""},"","","",""]
[null,null,null,null,null,null,null,null,null,null,null,null,null,null,null,null,null,null,null,null,null,null,null,null,null,null,{"$f":"+IF(AF339=\"\",\"\",MAX(AA$1:AA338)+1)","v":""},{"$f":"IF('Excess Emissions'!B361=\"\",\"\",'Excess Emissions'!B361)","v":""},{"$f":"IF('Excess Emissions'!C361=\"\",\"\",'Excess Emissions'!C361)","v":""},{"$f":"IF('Excess Emissions'!D361=\"\",\"\",'Excess Emissions'!D361)","v":""},"",{"$f":"IF(COUNTIF(AE$2:AE339,AE339)=1,AC339,\"\")","v":""},"","","",null,{"$f":"+IF(AP339=\"\",\"\",MAX(AK$1:AK338)+1)","v":""},{"$f":"IF('CMS Downtime Detail'!B361=\"\",\"\",'CMS Downtime Detail'!B361)","v":""},{"$f":"IF('CMS Downtime Detail'!C361=\"\",\"\",'CMS Downtime Detail'!C361)","v":""},{"$f":"IF('CMS Downtime Detail'!D361=\"\",\"\",'CMS Downtime Detail'!D361)","v":""},"",{"$f":"IF(COUNTIF(AO$2:AO339,AO339)=1,AM339,\"\")","v":""},"","","",null,{"$f":"+IF(AZ339=\"\",\"\",MAX(AU$1:AU338)+1)","v":""},{"$f":"IF('Process and CMS Information'!B361=\"\",\"\",'Process and CMS Information'!B361)","v":""},{"$f":"IF('Process and CMS Information'!C361=\"\",\"\",'Process and CMS Information'!C361)","v":""},{"$f":"IF('Process and CMS Information'!F361=\"\",\"\",'Process and CMS Information'!F361)","v":""},"",{"$f":"IF(COUNTIF(AY$2:AY339,AY339)=1,AY339,\"\")","v":""},"","","",""]
[null,null,null,null,null,null,null,null,null,null,null,null,null,null,null,null,null,null,null,null,null,null,null,null,null,null,{"$f":"+IF(AF340=\"\",\"\",MAX(AA$1:AA339)+1)","v":""},{"$f":"IF('Excess Emissions'!B362=\"\",\"\",'Excess Emissions'!B362)","v":""},{"$f":"IF('Excess Emissions'!C362=\"\",\"\",'Excess Emissions'!C362)","v":""},{"$f":"IF('Excess Emissions'!D362=\"\",\"\",'Excess Emissions'!D362)","v":""},"",{"$f":"IF(COUNTIF(AE$2:AE340,AE340)=1,AC340,\"\")","v":""},"","","",null,{"$f":"+IF(AP340=\"\",\"\",MAX(AK$1:AK339)+1)","v":""},{"$f":"IF('CMS Downtime Detail'!B362=\"\",\"\",'CMS Downtime Detail'!B362)","v":""},{"$f":"IF('CMS Downtime Detail'!C362=\"\",\"\",'CMS Downtime Detail'!C362)","v":""},{"$f":"IF('CMS Downtime Detail'!D362=\"\",\"\",'CMS Downtime Detail'!D362)","v":""},"",{"$f":"IF(COUNTIF(AO$2:AO340,AO340)=1,AM340,\"\")","v":""},"","","",null,{"$f":"+IF(AZ340=\"\",\"\",MAX(AU$1:AU339)+1)","v":""},{"$f":"IF('Process and CMS Information'!B362=\"\",\"\",'Process and CMS Information'!B362)","v":""},{"$f":"IF('Process and CMS Information'!C362=\"\",\"\",'Process and CMS Information'!C362)","v":""},{"$f":"IF('Process and CMS Information'!F362=\"\",\"\",'Process and CMS Information'!F362)","v":""},"",{"$f":"IF(COUNTIF(AY$2:AY340,AY340)=1,AY340,\"\")","v":""},"","","",""]
[null,null,null,null,null,null,null,null,null,null,null,null,null,null,null,null,null,null,null,null,null,null,null,null,null,null,{"$f":"+IF(AF341=\"\",\"\",MAX(AA$1:AA340)+1)","v":""},{"$f":"IF('Excess Emissions'!B363=\"\",\"\",'Excess Emissions'!B363)","v":""},{"$f":"IF('Excess Emissions'!C363=\"\",\"\",'Excess Emissions'!C363)","v":""},{"$f":"IF('Excess Emissions'!D363=\"\",\"\",'Excess Emissions'!D363)","v":""},"",{"$f":"IF(COUNTIF(AE$2:AE341,AE341)=1,AC341,\"\")","v":""},"","","",null,{"$f":"+IF(AP341=\"\",\"\",MAX(AK$1:AK340)+1)","v":""},{"$f":"IF('CMS Downtime Detail'!B363=\"\",\"\",'CMS Downtime Detail'!B363)","v":""},{"$f":"IF('CMS Downtime Detail'!C363=\"\",\"\",'CMS Downtime Detail'!C363)","v":""},{"$f":"IF('CMS Downtime Detail'!D363=\"\",\"\",'CMS Downtime Detail'!D363)","v":""},"",{"$f":"IF(COUNTIF(AO$2:AO341,AO341)=1,AM341,\"\")","v":""},"","","",null,{"$f":"+IF(AZ341=\"\",\"\",MAX(AU$1:AU340)+1)","v":""},{"$f":"IF('Process and CMS Information'!B363=\"\",\"\",'Process and CMS Information'!B363)","v":""},{"$f":"IF('Process and CMS Information'!C363=\"\",\"\",'Process and CMS Information'!C363)","v":""},{"$f":"IF('Process and CMS Information'!F363=\"\",\"\",'Process and CMS Information'!F363)","v":""},"",{"$f":"IF(COUNTIF(AY$2:AY341,AY341)=1,AY341,\"\")","v":""},"","","",""]
[null,null,null,null,null,null,null,null,null,null,null,null,null,null,null,null,null,null,null,null,null,null,null,null,null,null,{"$f":"+IF(AF342=\"\",\"\",MAX(AA$1:AA341)+1)","v":""},{"$f":"IF('Excess Emissions'!B364=\"\",\"\",'Excess Emissions'!B364)","v":""},{"$f":"IF('Excess Emissions'!C364=\"\",\"\",'Excess Emissions'!C364)","v":""},{"$f":"IF('Excess Emissions'!D364=\"\",\"\",'Excess Emissions'!D364)","v":""},"",{"$f":"IF(COUNTIF(AE$2:AE342,AE342)=1,AC342,\"\")","v":""},"","","",null,{"$f":"+IF(AP342=\"\",\"\",MAX(AK$1:AK341)+1)","v":""},{"$f":"IF('CMS Downtime Detail'!B364=\"\",\"\",'CMS Downtime Detail'!B364)","v":""},{"$f":"IF('CMS Downtime Detail'!C364=\"\",\"\",'CMS Downtime Detail'!C364)","v":""},{"$f":"IF('CMS Downtime Detail'!D364=\"\",\"\",'CMS Downtime Detail'!D364)","v":""},"",{"$f":"IF(COUNTIF(AO$2:AO342,AO342)=1,AM342,\"\")","v":""},"","","",null,{"$f":"+IF(AZ342=\"\",\"\",MAX(AU$1:AU341)+1)","v":""},{"$f":"IF('Process and CMS Information'!B364=\"\",\"\",'Process and CMS Information'!B364)","v":""},{"$f":"IF('Process and CMS Information'!C364=\"\",\"\",'Process and CMS Information'!C364)","v":""},{"$f":"IF('Process and CMS Information'!F364=\"\",\"\",'Process and CMS Information'!F364)","v":""},"",{"$f":"IF(COUNTIF(AY$2:AY342,AY342)=1,AY342,\"\")","v":""},"","","",""]
[null,null,null,null,null,null,null,null,null,null,null,null,null,null,null,null,null,null,null,null,null,null,null,null,null,null,{"$f":"+IF(AF343=\"\",\"\",MAX(AA$1:AA342)+1)","v":""},{"$f":"IF('Excess Emissions'!B365=\"\",\"\",'Excess Emissions'!B365)","v":""},{"$f":"IF('Excess Emissions'!C365=\"\",\"\",'Excess Emissions'!C365)","v":""},{"$f":"IF('Excess Emissions'!D365=\"\",\"\",'Excess Emissions'!D365)","v":""},"",{"$f":"IF(COUNTIF(AE$2:AE343,AE343)=1,AC343,\"\")","v":""},"","","",null,{"$f":"+IF(AP343=\"\",\"\",MAX(AK$1:AK342)+1)","v":""},{"$f":"IF('CMS Downtime Detail'!B365=\"\",\"\",'CMS Downtime Detail'!B365)","v":""},{"$f":"IF('CMS Downtime Detail'!C365=\"\",\"\",'CMS Downtime Detail'!C365)","v":""},{"$f":"IF('CMS Downtime Detail'!D365=\"\",\"\",'CMS Downtime Detail'!D365)","v":""},"",{"$f":"IF(COUNTIF(AO$2:AO343,AO343)=1,AM343,\"\")","v":""},"","","",null,{"$f":"+IF(AZ343=\"\",\"\",MAX(AU$1:AU342)+1)","v":""},{"$f":"IF('Process and CMS Information'!B365=\"\",\"\",'Process and CMS Information'!B365)","v":""},{"$f":"IF('Process and CMS Information'!C365=\"\",\"\",'Process and CMS Information'!C365)","v":""},{"$f":"IF('Process and CMS Information'!F365=\"\",\"\",'Process and CMS Information'!F365)","v":""},"",{"$f":"IF(COUNTIF(AY$2:AY343,AY343)=1,AY343,\"\")","v":""},"","","",""]
[null,null,null,null,null,null,null,null,null,null,null,null,null,null,null,null,null,null,null,null,null,null,null,null,null,null,{"$f":"+IF(AF344=\"\",\"\",MAX(AA$1:AA343)+1)","v":""},{"$f":"IF('Excess Emissions'!B366=\"\",\"\",'Excess Emissions'!B366)","v":""},{"$f":"IF('Excess Emissions'!C366=\"\",\"\",'Excess Emissions'!C366)","v":""},{"$f":"IF('Excess Emissions'!D366=\"\",\"\",'Excess Emissions'!D366)","v":""},"",{"$f":"IF(COUNTIF(AE$2:AE344,AE344)=1,AC344,\"\")","v":""},"","","",null,{"$f":"+IF(AP344=\"\",\"\",MAX(AK$1:AK343)+1)","v":""},{"$f":"IF('CMS Downtime Detail'!B366=\"\",\"\",'CMS Downtime Detail'!B366)","v":""},{"$f":"IF('CMS Downtime Detail'!C366=\"\",\"\",'CMS Downtime Detail'!C366)","v":""},{"$f":"IF('CMS Downtime Detail'!D366=\"\",\"\",'CMS Downtime Detail'!D366)","v":""},"",{"$f":"IF(COUNTIF(AO$2:AO344,AO344)=1,AM344,\"\")","v":""},"","","",null,{"$f":"+IF(AZ344=\"\",\"\",MAX(AU$1:AU343)+1)","v":""},{"$f":"IF('Process and CMS Information'!B366=\"\",\"\",'Process and CMS Information'!B366)","v":""},{"$f":"IF('Process and CMS Information'!C366=\"\",\"\",'Process and CMS Information'!C366)","v":""},{"$f":"IF('Process and CMS Information'!F366=\"\",\"\",'Process and CMS Information'!F366)","v":""},"",{"$f":"IF(COUNTIF(AY$2:AY344,AY344)=1,AY344,\"\")","v":""},"","","",""]
[null,null,null,null,null,null,null,null,null,null,null,null,null,null,null,null,null,null,null,null,null,null,null,null,null,null,{"$f":"+IF(AF345=\"\",\"\",MAX(AA$1:AA344)+1)","v":""},{"$f":"IF('Excess Emissions'!B367=\"\",\"\",'Excess Emissions'!B367)","v":""},{"$f":"IF('Excess Emissions'!C367=\"\",\"\",'Excess Emissions'!C367)","v":""},{"$f":"IF('Excess Emissions'!D367=\"\",\"\",'Excess Emissions'!D367)","v":""},"",{"$f":"IF(COUNTIF(AE$2:AE345,AE345)=1,AC345,\"\")","v":""},"","","",null,{"$f":"+IF(AP345=\"\",\"\",MAX(AK$1:AK344)+1)","v":""},{"$f":"IF('CMS Downtime Detail'!B367=\"\",\"\",'CMS Downtime Detail'!B367)","v":""},{"$f":"IF('CMS Downtime Detail'!C367=\"\",\"\",'CMS Downtime Detail'!C367)","v":""},{"$f":"IF('CMS Downtime Detail'!D367=\"\",\"\",'CMS Downtime Detail'!D367)","v":""},"",{"$f":"IF(COUNTIF(AO$2:AO345,AO345)=1,AM345,\"\")","v":""},"","","",null,{"$f":"+IF(AZ345=\"\",\"\",MAX(AU$1:AU344)+1)","v":""},{"$f":"IF('Process and CMS Information'!B367=\"\",\"\",'Process and CMS Information'!B367)","v":""},{"$f":"IF('Process and CMS Information'!C367=\"\",\"\",'Process and CMS Information'!C367)","v":""},{"$f":"IF('Process and CMS Information'!F367=\"\",\"\",'Process and CMS Information'!F367)","v":""},"",{"$f":"IF(COUNTIF(AY$2:AY345,AY345)=1,AY345,\"\")","v":""},"","","",""]
[null,null,null,null,null,null,null,null,null,null,null,null,null,null,null,null,null,null,null,null,null,null,null,null,null,null,{"$f":"+IF(AF346=\"\",\"\",MAX(AA$1:AA345)+1)","v":""},{"$f":"IF('Excess Emissions'!B368=\"\",\"\",'Excess Emissions'!B368)","v":""},{"$f":"IF('Excess Emissions'!C368=\"\",\"\",'Excess Emissions'!C368)","v":""},{"$f":"IF('Excess Emissions'!D368=\"\",\"\",'Excess Emissions'!D368)","v":""},"",{"$f":"IF(COUNTIF(AE$2:AE346,AE346)=1,AC346,\"\")","v":""},"","","",null,{"$f":"+IF(AP346=\"\",\"\",MAX(AK$1:AK345)+1)","v":""},{"$f":"IF('CMS Downtime Detail'!B368=\"\",\"\",'CMS Downtime Detail'!B368)","v":""},{"$f":"IF('CMS Downtime Detail'!C368=\"\",\"\",'CMS Downtime Detail'!C368)","v":""},{"$f":"IF('CMS Downtime Detail'!D368=\"\",\"\",'CMS Downtime Detail'!D368)","v":""},"",{"$f":"IF(COUNTIF(AO$2:AO346,AO346)=1,AM346,\"\")","v":""},"","","",null,{"$f":"+IF(AZ346=\"\",\"\",MAX(AU$1:AU345)+1)","v":""},{"$f":"IF('Process and CMS Information'!B368=\"\",\"\",'Process and CMS Information'!B368)","v":""},{"$f":"IF('Process and CMS Information'!C368=\"\",\"\",'Process and CMS Information'!C368)","v":""},{"$f":"IF('Process and CMS Information'!F368=\"\",\"\",'Process and CMS Information'!F368)","v":""},"",{"$f":"IF(COUNTIF(AY$2:AY346,AY346)=1,AY346,\"\")","v":""},"","","",""]
[null,null,null,null,null,null,null,null,null,null,null,null,null,null,null,null,null,null,null,null,null,null,null,null,null,null,{"$f":"+IF(AF347=\"\",\"\",MAX(AA$1:AA346)+1)","v":""},{"$f":"IF('Excess Emissions'!B369=\"\",\"\",'Excess Emissions'!B369)","v":""},{"$f":"IF('Excess Emissions'!C369=\"\",\"\",'Excess Emissions'!C369)","v":""},{"$f":"IF('Excess Emissions'!D369=\"\",\"\",'Excess Emissions'!D369)","v":""},"",{"$f":"IF(COUNTIF(AE$2:AE347,AE347)=1,AC347,\"\")","v":""},"","","",null,{"$f":"+IF(AP347=\"\",\"\",MAX(AK$1:AK346)+1)","v":""},{"$f":"IF('CMS Downtime Detail'!B369=\"\",\"\",'CMS Downtime Detail'!B369)","v":""},{"$f":"IF('CMS Downtime Detail'!C369=\"\",\"\",'CMS Downtime Detail'!C369)","v":""},{"$f":"IF('CMS Downtime Detail'!D369=\"\",\"\",'CMS Downtime Detail'!D369)","v":""},"",{"$f":"IF(COUNTIF(AO$2:AO347,AO347)=1,AM347,\"\")","v":""},"","","",null,{"$f":"+IF(AZ347=\"\",\"\",MAX(AU$1:AU346)+1)","v":""},{"$f":"IF('Process and CMS Information'!B369=\"\",\"\",'Process and CMS Information'!B369)","v":""},{"$f":"IF('Process and CMS Information'!C369=\"\",\"\",'Process and CMS Information'!C369)","v":""},{"$f":"IF('Process and CMS Information'!F369=\"\",\"\",'Process and CMS Information'!F369)","v":""},"",{"$f":"IF(COUNTIF(AY$2:AY347,AY347)=1,AY347,\"\")","v":""},"","","",""]
[null,null,null,null,null,null,null,null,null,null,null,null,null,null,null,null,null,null,null,null,null,null,null,null,null,null,{"$f":"+IF(AF348=\"\",\"\",MAX(AA$1:AA347)+1)","v":""},{"$f":"IF('Excess Emissions'!B370=\"\",\"\",'Excess Emissions'!B370)","v":""},{"$f":"IF('Excess Emissions'!C370=\"\",\"\",'Excess Emissions'!C370)","v":""},{"$f":"IF('Excess Emissions'!D370=\"\",\"\",'Excess Emissions'!D370)","v":""},"",{"$f":"IF(COUNTIF(AE$2:AE348,AE348)=1,AC348,\"\")","v":""},"","","",null,{"$f":"+IF(AP348=\"\",\"\",MAX(AK$1:AK347)+1)","v":""},{"$f":"IF('CMS Downtime Detail'!B370=\"\",\"\",'CMS Downtime Detail'!B370)","v":""},{"$f":"IF('CMS Downtime Detail'!C370=\"\",\"\",'CMS Downtime Detail'!C370)","v":""},{"$f":"IF('CMS Downtime Detail'!D370=\"\",\"\",'CMS Downtime Detail'!D370)","v":""},"",{"$f":"IF(COUNTIF(AO$2:AO348,AO348)=1,AM348,\"\")","v":""},"","","",null,{"$f":"+IF(AZ348=\"\",\"\",MAX(AU$1:AU347)+1)","v":""},{"$f":"IF('Process and CMS Information'!B370=\"\",\"\",'Process and CMS Information'!B370)","v":""},{"$f":"IF('Process and CMS Information'!C370=\"\",\"\",'Process and CMS Information'!C370)","v":""},{"$f":"IF('Process and CMS Information'!F370=\"\",\"\",'Process and CMS Information'!F370)","v":""},"",{"$f":"IF(COUNTIF(AY$2:AY348,AY348)=1,AY348,\"\")","v":""},"","","",""]
[null,null,null,null,null,null,null,null,null,null,null,null,null,null,null,null,null,null,null,null,null,null,null,null,null,null,{"$f":"+IF(AF349=\"\",\"\",MAX(AA$1:AA348)+1)","v":""},{"$f":"IF('Excess Emissions'!B371=\"\",\"\",'Excess Emissions'!B371)","v":""},{"$f":"IF('Excess Emissions'!C371=\"\",\"\",'Excess Emissions'!C371)","v":""},{"$f":"IF('Excess Emissions'!D371=\"\",\"\",'Excess Emissions'!D371)","v":""},"",{"$f":"IF(COUNTIF(AE$2:AE349,AE349)=1,AC349,\"\")","v":""},"","","",null,{"$f":"+IF(AP349=\"\",\"\",MAX(AK$1:AK348)+1)","v":""},{"$f":"IF('CMS Downtime Detail'!B371=\"\",\"\",'CMS Downtime Detail'!B371)","v":""},{"$f":"IF('CMS Downtime Detail'!C371=\"\",\"\",'CMS Downtime Detail'!C371)","v":""},{"$f":"IF('CMS Downtime Detail'!D371=\"\",\"\",'CMS Downtime Detail'!D371)","v":""},"",{"$f":"IF(COUNTIF(AO$2:AO349,AO349)=1,AM349,\"\")","v":""},"","","",null,{"$f":"+IF(AZ349=\"\",\"\",MAX(AU$1:AU348)+1)","v":""},{"$f":"IF('Process and CMS Information'!B371=\"\",\"\",'Process and CMS Information'!B371)","v":""},{"$f":"IF('Process and CMS Information'!C371=\"\",\"\",'Process and CMS Information'!C371)","v":""},{"$f":"IF('Process and CMS Information'!F371=\"\",\"\",'Process and CMS Information'!F371)","v":""},"",{"$f":"IF(COUNTIF(AY$2:AY349,AY349)=1,AY349,\"\")","v":""},"","","",""]
[null,null,null,null,null,null,null,null,null,null,null,null,null,null,null,null,null,null,null,null,null,null,null,null,null,null,{"$f":"+IF(AF350=\"\",\"\",MAX(AA$1:AA349)+1)","v":""},{"$f":"IF('Excess Emissions'!B372=\"\",\"\",'Excess Emissions'!B372)","v":""},{"$f":"IF('Excess Emissions'!C372=\"\",\"\",'Excess Emissions'!C372)","v":""},{"$f":"IF('Excess Emissions'!D372=\"\",\"\",'Excess Emissions'!D372)","v":""},"",{"$f":"IF(COUNTIF(AE$2:AE350,AE350)=1,AC350,\"\")","v":""},"","","",null,{"$f":"+IF(AP350=\"\",\"\",MAX(AK$1:AK349)+1)","v":""},{"$f":"IF('CMS Downtime Detail'!B372=\"\",\"\",'CMS Downtime Detail'!B372)","v":""},{"$f":"IF('CMS Downtime Detail'!C372=\"\",\"\",'CMS Downtime Detail'!C372)","v":""},{"$f":"IF('CMS Downtime Detail'!D372=\"\",\"\",'CMS Downtime Detail'!D372)","v":""},"",{"$f":"IF(COUNTIF(AO$2:AO350,AO350)=1,AM350,\"\")","v":""},"","","",null,{"$f":"+IF(AZ350=\"\",\"\",MAX(AU$1:AU349)+1)","v":""},{"$f":"IF('Process and CMS Information'!B372=\"\",\"\",'Process and CMS Information'!B372)","v":""},{"$f":"IF('Process and CMS Information'!C372=\"\",\"\",'Process and CMS Information'!C372)","v":""},{"$f":"IF('Process and CMS Information'!F372=\"\",\"\",'Process and CMS Information'!F372)","v":""},"",{"$f":"IF(COUNTIF(AY$2:AY350,AY350)=1,AY350,\"\")","v":""},"","","",""]
[null,null,null,null,null,null,null,null,null,null,null,null,null,null,null,null,null,null,null,null,null,null,null,null,null,null,{"$f":"+IF(AF351=\"\",\"\",MAX(AA$1:AA350)+1)","v":""},{"$f":"IF('Excess Emissions'!B373=\"\",\"\",'Excess Emissions'!B373)","v":""},{"$f":"IF('Excess Emissions'!C373=\"\",\"\",'Excess Emissions'!C373)","v":""},{"$f":"IF('Excess Emissions'!D373=\"\",\"\",'Excess Emissions'!D373)","v":""},"",{"$f":"IF(COUNTIF(AE$2:AE351,AE351)=1,AC351,\"\")","v":""},"","","",null,{"$f":"+IF(AP351=\"\",\"\",MAX(AK$1:AK350)+1)","v":""},{"$f":"IF('CMS Downtime Detail'!B373=\"\",\"\",'CMS Downtime Detail'!B373)","v":""},{"$f":"IF('CMS Downtime Detail'!C373=\"\",\"\",'CMS Downtime Detail'!C373)","v":""},{"$f":"IF('CMS Downtime Detail'!D373=\"\",\"\",'CMS Downtime Detail'!D373)","v":""},"",{"$f":"IF(COUNTIF(AO$2:AO351,AO351)=1,AM351,\"\")","v":""},"","","",null,{"$f":"+IF(AZ351=\"\",\"\",MAX(AU$1:AU350)+1)","v":""},{"$f":"IF('Process and CMS Information'!B373=\"\",\"\",'Process and CMS Information'!B373)","v":""},{"$f":"IF('Process and CMS Information'!C373=\"\",\"\",'Process and CMS Information'!C373)","v":""},{"$f":"IF('Process and CMS Information'!F373=\"\",\"\",'Process and CMS Information'!F373)","v":""},"",{"$f":"IF(COUNTIF(AY$2:AY351,AY351)=1,AY351,\"\")","v":""},"","","",""]
[null,null,null,null,null,null,null,null,null,null,null,null,null,null,null,null,null,null,null,null,null,null,null,null,null,null,{"$f":"+IF(AF352=\"\",\"\",MAX(AA$1:AA351)+1)","v":""},{"$f":"IF('Excess Emissions'!B374=\"\",\"\",'Excess Emissions'!B374)","v":""},{"$f":"IF('Excess Emissions'!C374=\"\",\"\",'Excess Emissions'!C374)","v":""},{"$f":"IF('Excess Emissions'!D374=\"\",\"\",'Excess Emissions'!D374)","v":""},"",{"$f":"IF(COUNTIF(AE$2:AE352,AE352)=1,AC352,\"\")","v":""},"","","",null,{"$f":"+IF(AP352=\"\",\"\",MAX(AK$1:AK351)+1)","v":""},{"$f":"IF('CMS Downtime Detail'!B374=\"\",\"\",'CMS Downtime Detail'!B374)","v":""},{"$f":"IF('CMS Downtime Detail'!C374=\"\",\"\",'CMS Downtime Detail'!C374)","v":""},{"$f":"IF('CMS Downtime Detail'!D374=\"\",\"\",'CMS Downtime Detail'!D374)","v":""},"",{"$f":"IF(COUNTIF(AO$2:AO352,AO352)=1,AM352,\"\")","v":""},"","","",null,{"$f":"+IF(AZ352=\"\",\"\",MAX(AU$1:AU351)+1)","v":""},{"$f":"IF('Process and CMS Information'!B374=\"\",\"\",'Process and CMS Information'!B374)","v":""},{"$f":"IF('Process and CMS Information'!C374=\"\",\"\",'Process and CMS Information'!C374)","v":""},{"$f":"IF('Process and CMS Information'!F374=\"\",\"\",'Process and CMS Information'!F374)","v":""},"",{"$f":"IF(COUNTIF(AY$2:AY352,AY352)=1,AY352,\"\")","v":""},"","","",""]
[null,null,null,null,null,null,null,null,null,null,null,null,null,null,null,null,null,null,null,null,null,null,null,null,null,null,{"$f":"+IF(AF353=\"\",\"\",MAX(AA$1:AA352)+1)","v":""},{"$f":"IF('Excess Emissions'!B375=\"\",\"\",'Excess Emissions'!B375)","v":""},{"$f":"IF('Excess Emissions'!C375=\"\",\"\",'Excess Emissions'!C375)","v":""},{"$f":"IF('Excess Emissions'!D375=\"\",\"\",'Excess Emissions'!D375)","v":""},"",{"$f":"IF(COUNTIF(AE$2:AE353,AE353)=1,AC353,\"\")","v":""},"","","",null,{"$f":"+IF(AP353=\"\",\"\",MAX(AK$1:AK352)+1)","v":""},{"$f":"IF('CMS Downtime Detail'!B375=\"\",\"\",'CMS Downtime Detail'!B375)","v":""},{"$f":"IF('CMS Downtime Detail'!C375=\"\",\"\",'CMS Downtime Detail'!C375)","v":""},{"$f":"IF('CMS Downtime Detail'!D375=\"\",\"\",'CMS Downtime Detail'!D375)","v":""},"",{"$f":"IF(COUNTIF(AO$2:AO353,AO353)=1,AM353,\"\")","v":""},"","","",null,{"$f":"+IF(AZ353=\"\",\"\",MAX(AU$1:AU352)+1)","v":""},{"$f":"IF('Process and CMS Information'!B375=\"\",\"\",'Process and CMS Information'!B375)","v":""},{"$f":"IF('Process and CMS Information'!C375=\"\",\"\",'Process and CMS Information'!C375)","v":""},{"$f":"IF('Process and CMS Information'!F375=\"\",\"\",'Process and CMS Information'!F375)","v":""},"",{"$f":"IF(COUNTIF(AY$2:AY353,AY353)=1,AY353,\"\")","v":""},"","","",""]
[null,null,null,null,null,null,null,null,null,null,null,null,null,null,null,null,null,null,null,null,null,null,null,null,null,null,{"$f":"+IF(AF354=\"\",\"\",MAX(AA$1:AA353)+1)","v":""},{"$f":"IF('Excess Emissions'!B376=\"\",\"\",'Excess Emissions'!B376)","v":""},{"$f":"IF('Excess Emissions'!C376=\"\",\"\",'Excess Emissions'!C376)","v":""},{"$f":"IF('Excess Emissions'!D376=\"\",\"\",'Excess Emissions'!D376)","v":""},"",{"$f":"IF(COUNTIF(AE$2:AE354,AE354)=1,AC354,\"\")","v":""},"","","",null,{"$f":"+IF(AP354=\"\",\"\",MAX(AK$1:AK353)+1)","v":""},{"$f":"IF('CMS Downtime Detail'!B376=\"\",\"\",'CMS Downtime Detail'!B376)","v":""},{"$f":"IF('CMS Downtime Detail'!C376=\"\",\"\",'CMS Downtime Detail'!C376)","v":""},{"$f":"IF('CMS Downtime Detail'!D376=\"\",\"\",'CMS Downtime Detail'!D376)","v":""},"",{"$f":"IF(COUNTIF(AO$2:AO354,AO354)=1,AM354,\"\")","v":""},"","","",null,{"$f":"+IF(AZ354=\"\",\"\",MAX(AU$1:AU353)+1)","v":""},{"$f":"IF('Process and CMS Information'!B376=\"\",\"\",'Process and CMS Information'!B376)","v":""},{"$f":"IF('Process and CMS Information'!C376=\"\",\"\",'Process and CMS Information'!C376)","v":""},{"$f":"IF('Process and CMS Information'!F376=\"\",\"\",'Process and CMS Information'!F376)","v":""},"",{"$f":"IF(COUNTIF(AY$2:AY354,AY354)=1,AY354,\"\")","v":""},"","","",""]
[null,null,null,null,null,null,null,null,null,null,null,null,null,null,null,null,null,null,null,null,null,null,null,null,null,null,{"$f":"+IF(AF355=\"\",\"\",MAX(AA$1:AA354)+1)","v":""},{"$f":"IF('Excess Emissions'!B377=\"\",\"\",'Excess Emissions'!B377)","v":""},{"$f":"IF('Excess Emissions'!C377=\"\",\"\",'Excess Emissions'!C377)","v":""},{"$f":"IF('Excess Emissions'!D377=\"\",\"\",'Excess Emissions'!D377)","v":""},"",{"$f":"IF(COUNTIF(AE$2:AE355,AE355)=1,AC355,\"\")","v":""},"","","",null,{"$f":"+IF(AP355=\"\",\"\",MAX(AK$1:AK354)+1)","v":""},{"$f":"IF('CMS Downtime Detail'!B377=\"\",\"\",'CMS Downtime Detail'!B377)","v":""},{"$f":"IF('CMS Downtime Detail'!C377=\"\",\"\",'CMS Downtime Detail'!C377)","v":""},{"$f":"IF('CMS Downtime Detail'!D377=\"\",\"\",'CMS Downtime Detail'!D377)","v":""},"",{"$f":"IF(COUNTIF(AO$2:AO355,AO355)=1,AM355,\"\")","v":""},"","","",null,{"$f":"+IF(AZ355=\"\",\"\",MAX(AU$1:AU354)+1)","v":""},{"$f":"IF('Process and CMS Information'!B377=\"\",\"\",'Process and CMS Information'!B377)","v":""},{"$f":"IF('Process and CMS Information'!C377=\"\",\"\",'Process and CMS Information'!C377)","v":""},{"$f":"IF('Process and CMS Information'!F377=\"\",\"\",'Process and CMS Information'!F377)","v":""},"",{"$f":"IF(COUNTIF(AY$2:AY355,AY355)=1,AY355,\"\")","v":""},"","","",""]
[null,null,null,null,null,null,null,null,null,null,null,null,null,null,null,null,null,null,null,null,null,null,null,null,null,null,{"$f":"+IF(AF356=\"\",\"\",MAX(AA$1:AA355)+1)","v":""},{"$f":"IF('Excess Emissions'!B378=\"\",\"\",'Excess Emissions'!B378)","v":""},{"$f":"IF('Excess Emissions'!C378=\"\",\"\",'Excess Emissions'!C378)","v":""},{"$f":"IF('Excess Emissions'!D378=\"\",\"\",'Excess Emissions'!D378)","v":""},"",{"$f":"IF(COUNTIF(AE$2:AE356,AE356)=1,AC356,\"\")","v":""},"","","",null,{"$f":"+IF(AP356=\"\",\"\",MAX(AK$1:AK355)+1)","v":""},{"$f":"IF('CMS Downtime Detail'!B378=\"\",\"\",'CMS Downtime Detail'!B378)","v":""},{"$f":"IF('CMS Downtime Detail'!C378=\"\",\"\",'CMS Downtime Detail'!C378)","v":""},{"$f":"IF('CMS Downtime Detail'!D378=\"\",\"\",'CMS Downtime Detail'!D378)","v":""},"",{"$f":"IF(COUNTIF(AO$2:AO356,AO356)=1,AM356,\"\")","v":""},"","","",null,{"$f":"+IF(AZ356=\"\",\"\",MAX(AU$1:AU355)+1)","v":""},{"$f":"IF('Process and CMS Information'!B378=\"\",\"\",'Process and CMS Information'!B378)","v":""},{"$f":"IF('Process and CMS Information'!C378=\"\",\"\",'Process and CMS Information'!C378)","v":""},{"$f":"IF('Process and CMS Information'!F378=\"\",\"\",'Process and CMS Information'!F378)","v":""},"",{"$f":"IF(COUNTIF(AY$2:AY356,AY356)=1,AY356,\"\")","v":""},"","","",""]
[null,null,null,null,null,null,null,null,null,null,null,null,null,null,null,null,null,null,null,null,null,null,null,null,null,null,{"$f":"+IF(AF357=\"\",\"\",MAX(AA$1:AA356)+1)","v":""},{"$f":"IF('Excess Emissions'!B379=\"\",\"\",'Excess Emissions'!B379)","v":""},{"$f":"IF('Excess Emissions'!C379=\"\",\"\",'Excess Emissions'!C379)","v":""},{"$f":"IF('Excess Emissions'!D379=\"\",\"\",'Excess Emissions'!D379)","v":""},"",{"$f":"IF(COUNTIF(AE$2:AE357,AE357)=1,AC357,\"\")","v":""},"","","",null,{"$f":"+IF(AP357=\"\",\"\",MAX(AK$1:AK356)+1)","v":""},{"$f":"IF('CMS Downtime Detail'!B379=\"\",\"\",'CMS Downtime Detail'!B379)","v":""},{"$f":"IF('CMS Downtime Detail'!C379=\"\",\"\",'CMS Downtime Detail'!C379)","v":""},{"$f":"IF('CMS Downtime Detail'!D379=\"\",\"\",'CMS Downtime Detail'!D379)","v":""},"",{"$f":"IF(COUNTIF(AO$2:AO357,AO357)=1,AM357,\"\")","v":""},"","","",null,{"$f":"+IF(AZ357=\"\",\"\",MAX(AU$1:AU356)+1)","v":""},{"$f":"IF('Process and CMS Information'!B379=\"\",\"\",'Process and CMS Information'!B379)","v":""},{"$f":"IF('Process and CMS Information'!C379=\"\",\"\",'Process and CMS Information'!C379)","v":""},{"$f":"IF('Process and CMS Information'!F379=\"\",\"\",'Process and CMS Information'!F379)","v":""},"",{"$f":"IF(COUNTIF(AY$2:AY357,AY357)=1,AY357,\"\")","v":""},"","","",""]
[null,null,null,null,null,null,null,null,null,null,null,null,null,null,null,null,null,null,null,null,null,null,null,null,null,null,{"$f":"+IF(AF358=\"\",\"\",MAX(AA$1:AA357)+1)","v":""},{"$f":"IF('Excess Emissions'!B380=\"\",\"\",'Excess Emissions'!B380)","v":""},{"$f":"IF('Excess Emissions'!C380=\"\",\"\",'Excess Emissions'!C380)","v":""},{"$f":"IF('Excess Emissions'!D380=\"\",\"\",'Excess Emissions'!D380)","v":""},"",{"$f":"IF(COUNTIF(AE$2:AE358,AE358)=1,AC358,\"\")","v":""},"","","",null,{"$f":"+IF(AP358=\"\",\"\",MAX(AK$1:AK357)+1)","v":""},{"$f":"IF('CMS Downtime Detail'!B380=\"\",\"\",'CMS Downtime Detail'!B380)","v":""},{"$f":"IF('CMS Downtime Detail'!C380=\"\",\"\",'CMS Downtime Detail'!C380)","v":""},{"$f":"IF('CMS Downtime Detail'!D380=\"\",\"\",'CMS Downtime Detail'!D380)","v":""},"",{"$f":"IF(COUNTIF(AO$2:AO358,AO358)=1,AM358,\"\")","v":""},"","","",null,{"$f":"+IF(AZ358=\"\",\"\",MAX(AU$1:AU357)+1)","v":""},{"$f":"IF('Process and CMS Information'!B380=\"\",\"\",'Process and CMS Information'!B380)","v":""},{"$f":"IF('Process and CMS Information'!C380=\"\",\"\",'Process and CMS Information'!C380)","v":""},{"$f":"IF('Process and CMS Information'!F380=\"\",\"\",'Process and CMS Information'!F380)","v":""},"",{"$f":"IF(COUNTIF(AY$2:AY358,AY358)=1,AY358,\"\")","v":""},"","","",""]
[null,null,null,null,null,null,null,null,null,null,null,null,null,null,null,null,null,null,null,null,null,null,null,null,null,null,{"$f":"+IF(AF359=\"\",\"\",MAX(AA$1:AA358)+1)","v":""},{"$f":"IF('Excess Emissions'!B381=\"\",\"\",'Excess Emissions'!B381)","v":""},{"$f":"IF('Excess Emissions'!C381=\"\",\"\",'Excess Emissions'!C381)","v":""},{"$f":"IF('Excess Emissions'!D381=\"\",\"\",'Excess Emissions'!D381)","v":""},"",{"$f":"IF(COUNTIF(AE$2:AE359,AE359)=1,AC359,\"\")","v":""},"","","",null,{"$f":"+IF(AP359=\"\",\"\",MAX(AK$1:AK358)+1)","v":""},{"$f":"IF('CMS Downtime Detail'!B381=\"\",\"\",'CMS Downtime Detail'!B381)","v":""},{"$f":"IF('CMS Downtime Detail'!C381=\"\",\"\",'CMS Downtime Detail'!C381)","v":""},{"$f":"IF('CMS Downtime Detail'!D381=\"\",\"\",'CMS Downtime Detail'!D381)","v":""},"",{"$f":"IF(COUNTIF(AO$2:AO359,AO359)=1,AM359,\"\")","v":""},"","","",null,{"$f":"+IF(AZ359=\"\",\"\",MAX(AU$1:AU358)+1)","v":""},{"$f":"IF('Process and CMS Information'!B381=\"\",\"\",'Process and CMS Information'!B381)","v":""},{"$f":"IF('Process and CMS Information'!C381=\"\",\"\",'Process and CMS Information'!C381)","v":""},{"$f":"IF('Process and CMS Information'!F381=\"\",\"\",'Process and CMS Information'!F381)","v":""},"",{"$f":"IF(COUNTIF(AY$2:AY359,AY359)=1,AY359,\"\")","v":""},"","","",""]
[null,null,null,null,null,null,null,null,null,null,null,null,null,null,null,null,null,null,null,null,null,null,null,null,null,null,{"$f":"+IF(AF360=\"\",\"\",MAX(AA$1:AA359)+1)","v":""},{"$f":"IF('Excess Emissions'!B382=\"\",\"\",'Excess Emissions'!B382)","v":""},{"$f":"IF('Excess Emissions'!C382=\"\",\"\",'Excess Emissions'!C382)","v":""},{"$f":"IF('Excess Emissions'!D382=\"\",\"\",'Excess Emissions'!D382)","v":""},"",{"$f":"IF(COUNTIF(AE$2:AE360,AE360)=1,AC360,\"\")","v":""},"","","",null,{"$f":"+IF(AP360=\"\",\"\",MAX(AK$1:AK359)+1)","v":""},{"$f":"IF('CMS Downtime Detail'!B382=\"\",\"\",'CMS Downtime Detail'!B382)","v":""},{"$f":"IF('CMS Downtime Detail'!C382=\"\",\"\",'CMS Downtime Detail'!C382)","v":""},{"$f":"IF('CMS Downtime Detail'!D382=\"\",\"\",'CMS Downtime Detail'!D382)","v":""},"",{"$f":"IF(COUNTIF(AO$2:AO360,AO360)=1,AM360,\"\")","v":""},"","","",null,{"$f":"+IF(AZ360=\"\",\"\",MAX(AU$1:AU359)+1)","v":""},{"$f":"IF('Process and CMS Information'!B382=\"\",\"\",'Process and CMS Information'!B382)","v":""},{"$f":"IF('Process and CMS Information'!C382=\"\",\"\",'Process and CMS Information'!C382)","v":""},{"$f":"IF('Process and CMS Information'!F382=\"\",\"\",'Process and CMS Information'!F382)","v":""},"",{"$f":"IF(COUNTIF(AY$2:AY360,AY360)=1,AY360,\"\")","v":""},"","","",""]
[null,null,null,null,null,null,null,null,null,null,null,null,null,null,null,null,null,null,null,null,null,null,null,null,null,null,{"$f":"+IF(AF361=\"\",\"\",MAX(AA$1:AA360)+1)","v":""},{"$f":"IF('Excess Emissions'!B383=\"\",\"\",'Excess Emissions'!B383)","v":""},{"$f":"IF('Excess Emissions'!C383=\"\",\"\",'Excess Emissions'!C383)","v":""},{"$f":"IF('Excess Emissions'!D383=\"\",\"\",'Excess Emissions'!D383)","v":""},"",{"$f":"IF(COUNTIF(AE$2:AE361,AE361)=1,AC361,\"\")","v":""},"","","",null,{"$f":"+IF(AP361=\"\",\"\",MAX(AK$1:AK360)+1)","v":""},{"$f":"IF('CMS Downtime Detail'!B383=\"\",\"\",'CMS Downtime Detail'!B383)","v":""},{"$f":"IF('CMS Downtime Detail'!C383=\"\",\"\",'CMS Downtime Detail'!C383)","v":""},{"$f":"IF('CMS Downtime Detail'!D383=\"\",\"\",'CMS Downtime Detail'!D383)","v":""},"",{"$f":"IF(COUNTIF(AO$2:AO361,AO361)=1,AM361,\"\")","v":""},"","","",null,{"$f":"+IF(AZ361=\"\",\"\",MAX(AU$1:AU360)+1)","v":""},{"$f":"IF('Process and CMS Information'!B383=\"\",\"\",'Process and CMS Information'!B383)","v":""},{"$f":"IF('Process and CMS Information'!C383=\"\",\"\",'Process and CMS Information'!C383)","v":""},{"$f":"IF('Process and CMS Information'!F383=\"\",\"\",'Process and CMS Information'!F383)","v":""},"",{"$f":"IF(COUNTIF(AY$2:AY361,AY361)=1,AY361,\"\")","v":""},"","","",""]
[null,null,null,null,null,null,null,null,null,null,null,null,null,null,null,null,null,null,null,null,null,null,null,null,null,null,{"$f":"+IF(AF362=\"\",\"\",MAX(AA$1:AA361)+1)","v":""},{"$f":"IF('Excess Emissions'!B384=\"\",\"\",'Excess Emissions'!B384)","v":""},{"$f":"IF('Excess Emissions'!C384=\"\",\"\",'Excess Emissions'!C384)","v":""},{"$f":"IF('Excess Emissions'!D384=\"\",\"\",'Excess Emissions'!D384)","v":""},"",{"$f":"IF(COUNTIF(AE$2:AE362,AE362)=1,AC362,\"\")","v":""},"","","",null,{"$f":"+IF(AP362=\"\",\"\",MAX(AK$1:AK361)+1)","v":""},{"$f":"IF('CMS Downtime Detail'!B384=\"\",\"\",'CMS Downtime Detail'!B384)","v":""},{"$f":"IF('CMS Downtime Detail'!C384=\"\",\"\",'CMS Downtime Detail'!C384)","v":""},{"$f":"IF('CMS Downtime Detail'!D384=\"\",\"\",'CMS Downtime Detail'!D384)","v":""},"",{"$f":"IF(COUNTIF(AO$2:AO362,AO362)=1,AM362,\"\")","v":""},"","","",null,{"$f":"+IF(AZ362=\"\",\"\",MAX(AU$1:AU361)+1)","v":""},{"$f":"IF('Process and CMS Information'!B384=\"\",\"\",'Process and CMS Information'!B384)","v":""},{"$f":"IF('Process and CMS Information'!C384=\"\",\"\",'Process and CMS Information'!C384)","v":""},{"$f":"IF('Process and CMS Information'!F384=\"\",\"\",'Process and CMS Information'!F384)","v":""},"",{"$f":"IF(COUNTIF(AY$2:AY362,AY362)=1,AY362,\"\")","v":""},"","","",""]
[null,null,null,null,null,null,null,null,null,null,null,null,null,null,null,null,null,null,null,null,null,null,null,null,null,null,{"$f":"+IF(AF363=\"\",\"\",MAX(AA$1:AA362)+1)","v":""},{"$f":"IF('Excess Emissions'!B385=\"\",\"\",'Excess Emissions'!B385)","v":""},{"$f":"IF('Excess Emissions'!C385=\"\",\"\",'Excess Emissions'!C385)","v":""},{"$f":"IF('Excess Emissions'!D385=\"\",\"\",'Excess Emissions'!D385)","v":""},"",{"$f":"IF(COUNTIF(AE$2:AE363,AE363)=1,AC363,\"\")","v":""},"","","",null,{"$f":"+IF(AP363=\"\",\"\",MAX(AK$1:AK362)+1)","v":""},{"$f":"IF('CMS Downtime Detail'!B385=\"\",\"\",'CMS Downtime Detail'!B385)","v":""},{"$f":"IF('CMS Downtime Detail'!C385=\"\",\"\",'CMS Downtime Detail'!C385)","v":""},{"$f":"IF('CMS Downtime Detail'!D385=\"\",\"\",'CMS Downtime Detail'!D385)","v":""},"",{"$f":"IF(COUNTIF(AO$2:AO363,AO363)=1,AM363,\"\")","v":""},"","","",null,{"$f":"+IF(AZ363=\"\",\"\",MAX(AU$1:AU362)+1)","v":""},{"$f":"IF('Process and CMS Information'!B385=\"\",\"\",'Process and CMS Information'!B385)","v":""},{"$f":"IF('Process and CMS Information'!C385=\"\",\"\",'Process and CMS Information'!C385)","v":""},{"$f":"IF('Process and CMS Information'!F385=\"\",\"\",'Process and CMS Information'!F385)","v":""},"",{"$f":"IF(COUNTIF(AY$2:AY363,AY363)=1,AY363,\"\")","v":""},"","","",""]
[null,null,null,null,null,null,null,null,null,null,null,null,null,null,null,null,null,null,null,null,null,null,null,null,null,null,{"$f":"+IF(AF364=\"\",\"\",MAX(AA$1:AA363)+1)","v":""},{"$f":"IF('Excess Emissions'!B386=\"\",\"\",'Excess Emissions'!B386)","v":""},{"$f":"IF('Excess Emissions'!C386=\"\",\"\",'Excess Emissions'!C386)","v":""},{"$f":"IF('Excess Emissions'!D386=\"\",\"\",'Excess Emissions'!D386)","v":""},"",{"$f":"IF(COUNTIF(AE$2:AE364,AE364)=1,AC364,\"\")","v":""},"","","",null,{"$f":"+IF(AP364=\"\",\"\",MAX(AK$1:AK363)+1)","v":""},{"$f":"IF('CMS Downtime Detail'!B386=\"\",\"\",'CMS Downtime Detail'!B386)","v":""},{"$f":"IF('CMS Downtime Detail'!C386=\"\",\"\",'CMS Downtime Detail'!C386)","v":""},{"$f":"IF('CMS Downtime Detail'!D386=\"\",\"\",'CMS Downtime Detail'!D386)","v":""},"",{"$f":"IF(COUNTIF(AO$2:AO364,AO364)=1,AM364,\"\")","v":""},"","","",null,{"$f":"+IF(AZ364=\"\",\"\",MAX(AU$1:AU363)+1)","v":""},{"$f":"IF('Process and CMS Information'!B386=\"\",\"\",'Process and CMS Information'!B386)","v":""},{"$f":"IF('Process and CMS Information'!C386=\"\",\"\",'Process and CMS Information'!C386)","v":""},{"$f":"IF('Process and CMS Information'!F386=\"\",\"\",'Process and CMS Information'!F386)","v":""},"",{"$f":"IF(COUNTIF(AY$2:AY364,AY364)=1,AY364,\"\")","v":""},"","","",""]
[null,null,null,null,null,null,null,null,null,null,null,null,null,null,null,null,null,null,null,null,null,null,null,null,null,null,{"$f":"+IF(AF365=\"\",\"\",MAX(AA$1:AA364)+1)","v":""},{"$f":"IF('Excess Emissions'!B387=\"\",\"\",'Excess Emissions'!B387)","v":""},{"$f":"IF('Excess Emissions'!C387=\"\",\"\",'Excess Emissions'!C387)","v":""},{"$f":"IF('Excess Emissions'!D387=\"\",\"\",'Excess Emissions'!D387)","v":""},"",{"$f":"IF(COUNTIF(AE$2:AE365,AE365)=1,AC365,\"\")","v":""},"","","",null,{"$f":"+IF(AP365=\"\",\"\",MAX(AK$1:AK364)+1)","v":""},{"$f":"IF('CMS Downtime Detail'!B387=\"\",\"\",'CMS Downtime Detail'!B387)","v":""},{"$f":"IF('CMS Downtime Detail'!C387=\"\",\"\",'CMS Downtime Detail'!C387)","v":""},{"$f":"IF('CMS Downtime Detail'!D387=\"\",\"\",'CMS Downtime Detail'!D387)","v":""},"",{"$f":"IF(COUNTIF(AO$2:AO365,AO365)=1,AM365,\"\")","v":""},"","","",null,{"$f":"+IF(AZ365=\"\",\"\",MAX(AU$1:AU364)+1)","v":""},{"$f":"IF('Process and CMS Information'!B387=\"\",\"\",'Process and CMS Information'!B387)","v":""},{"$f":"IF('Process and CMS Information'!C387=\"\",\"\",'Process and CMS Information'!C387)","v":""},{"$f":"IF('Process and CMS Information'!F387=\"\",\"\",'Process and CMS Information'!F387)","v":""},"",{"$f":"IF(COUNTIF(AY$2:AY365,AY365)=1,AY365,\"\")","v":""},"","","",""]
[null,null,null,null,null,null,null,null,null,null,null,null,null,null,null,null,null,null,null,null,null,null,null,null,null,null,{"$f":"+IF(AF366=\"\",\"\",MAX(AA$1:AA365)+1)","v":""},{"$f":"IF('Excess Emissions'!B388=\"\",\"\",'Excess Emissions'!B388)","v":""},{"$f":"IF('Excess Emissions'!C388=\"\",\"\",'Excess Emissions'!C388)","v":""},{"$f":"IF('Excess Emissions'!D388=\"\",\"\",'Excess Emissions'!D388)","v":""},"",{"$f":"IF(COUNTIF(AE$2:AE366,AE366)=1,AC366,\"\")","v":""},"","","",null,{"$f":"+IF(AP366=\"\",\"\",MAX(AK$1:AK365)+1)","v":""},{"$f":"IF('CMS Downtime Detail'!B388=\"\",\"\",'CMS Downtime Detail'!B388)","v":""},{"$f":"IF('CMS Downtime Detail'!C388=\"\",\"\",'CMS Downtime Detail'!C388)","v":""},{"$f":"IF('CMS Downtime Detail'!D388=\"\",\"\",'CMS Downtime Detail'!D388)","v":""},"",{"$f":"IF(COUNTIF(AO$2:AO366,AO366)=1,AM366,\"\")","v":""},"","","",null,{"$f":"+IF(AZ366=\"\",\"\",MAX(AU$1:AU365)+1)","v":""},{"$f":"IF('Process and CMS Information'!B388=\"\",\"\",'Process and CMS Information'!B388)","v":""},{"$f":"IF('Process and CMS Information'!C388=\"\",\"\",'Process and CMS Information'!C388)","v":""},{"$f":"IF('Process and CMS Information'!F388=\"\",\"\",'Process and CMS Information'!F388)","v":""},"",{"$f":"IF(COUNTIF(AY$2:AY366,AY366)=1,AY366,\"\")","v":""},"","","",""]
[null,null,null,null,null,null,null,null,null,null,null,null,null,null,null,null,null,null,null,null,null,null,null,null,null,null,{"$f":"+IF(AF367=\"\",\"\",MAX(AA$1:AA366)+1)","v":""},{"$f":"IF('Excess Emissions'!B389=\"\",\"\",'Excess Emissions'!B389)","v":""},{"$f":"IF('Excess Emissions'!C389=\"\",\"\",'Excess Emissions'!C389)","v":""},{"$f":"IF('Excess Emissions'!D389=\"\",\"\",'Excess Emissions'!D389)","v":""},"",{"$f":"IF(COUNTIF(AE$2:AE367,AE367)=1,AC367,\"\")","v":""},"","","",null,{"$f":"+IF(AP367=\"\",\"\",MAX(AK$1:AK366)+1)","v":""},{"$f":"IF('CMS Downtime Detail'!B389=\"\",\"\",'CMS Downtime Detail'!B389)","v":""},{"$f":"IF('CMS Downtime Detail'!C389=\"\",\"\",'CMS Downtime Detail'!C389)","v":""},{"$f":"IF('CMS Downtime Detail'!D389=\"\",\"\",'CMS Downtime Detail'!D389)","v":""},"",{"$f":"IF(COUNTIF(AO$2:AO367,AO367)=1,AM367,\"\")","v":""},"","","",null,{"$f":"+IF(AZ367=\"\",\"\",MAX(AU$1:AU366)+1)","v":""},{"$f":"IF('Process and CMS Information'!B389=\"\",\"\",'Process and CMS Information'!B389)","v":""},{"$f":"IF('Process and CMS Information'!C389=\"\",\"\",'Process and CMS Information'!C389)","v":""},{"$f":"IF('Process and CMS Information'!F389=\"\",\"\",'Process and CMS Information'!F389)","v":""},"",{"$f":"IF(COUNTIF(AY$2:AY367,AY367)=1,AY367,\"\")","v":""},"","","",""]
[null,null,null,null,null,null,null,null,null,null,null,null,null,null,null,null,null,null,null,null,null,null,null,null,null,null,{"$f":"+IF(AF368=\"\",\"\",MAX(AA$1:AA367)+1)","v":""},{"$f":"IF('Excess Emissions'!B390=\"\",\"\",'Excess Emissions'!B390)","v":""},{"$f":"IF('Excess Emissions'!C390=\"\",\"\",'Excess Emissions'!C390)","v":""},{"$f":"IF('Excess Emissions'!D390=\"\",\"\",'Excess Emissions'!D390)","v":""},"",{"$f":"IF(COUNTIF(AE$2:AE368,AE368)=1,AC368,\"\")","v":""},"","","",null,{"$f":"+IF(AP368=\"\",\"\",MAX(AK$1:AK367)+1)","v":""},{"$f":"IF('CMS Downtime Detail'!B390=\"\",\"\",'CMS Downtime Detail'!B390)","v":""},{"$f":"IF('CMS Downtime Detail'!C390=\"\",\"\",'CMS Downtime Detail'!C390)","v":""},{"$f":"IF('CMS Downtime Detail'!D390=\"\",\"\",'CMS Downtime Detail'!D390)","v":""},"",{"$f":"IF(COUNTIF(AO$2:AO368,AO368)=1,AM368,\"\")","v":""},"","","",null,{"$f":"+IF(AZ368=\"\",\"\",MAX(AU$1:AU367)+1)","v":""},{"$f":"IF('Process and CMS Information'!B390=\"\",\"\",'Process and CMS Information'!B390)","v":""},{"$f":"IF('Process and CMS Information'!C390=\"\",\"\",'Process and CMS Information'!C390)","v":""},{"$f":"IF('Process and CMS Information'!F390=\"\",\"\",'Process and CMS Information'!F390)","v":""},"",{"$f":"IF(COUNTIF(AY$2:AY368,AY368)=1,AY368,\"\")","v":""},"","","",""]
[null,null,null,null,null,null,null,null,null,null,null,null,null,null,null,null,null,null,null,null,null,null,null,null,null,null,{"$f":"+IF(AF369=\"\",\"\",MAX(AA$1:AA368)+1)","v":""},{"$f":"IF('Excess Emissions'!B391=\"\",\"\",'Excess Emissions'!B391)","v":""},{"$f":"IF('Excess Emissions'!C391=\"\",\"\",'Excess Emissions'!C391)","v":""},{"$f":"IF('Excess Emissions'!D391=\"\",\"\",'Excess Emissions'!D391)","v":""},"",{"$f":"IF(COUNTIF(AE$2:AE369,AE369)=1,AC369,\"\")","v":""},"","","",null,{"$f":"+IF(AP369=\"\",\"\",MAX(AK$1:AK368)+1)","v":""},{"$f":"IF('CMS Downtime Detail'!B391=\"\",\"\",'CMS Downtime Detail'!B391)","v":""},{"$f":"IF('CMS Downtime Detail'!C391=\"\",\"\",'CMS Downtime Detail'!C391)","v":""},{"$f":"IF('CMS Downtime Detail'!D391=\"\",\"\",'CMS Downtime Detail'!D391)","v":""},"",{"$f":"IF(COUNTIF(AO$2:AO369,AO369)=1,AM369,\"\")","v":""},"","","",null,{"$f":"+IF(AZ369=\"\",\"\",MAX(AU$1:AU368)+1)","v":""},{"$f":"IF('Process and CMS Information'!B391=\"\",\"\",'Process and CMS Information'!B391)","v":""},{"$f":"IF('Process and CMS Information'!C391=\"\",\"\",'Process and CMS Information'!C391)","v":""},{"$f":"IF('Process and CMS Information'!F391=\"\",\"\",'Process and CMS Information'!F391)","v":""},"",{"$f":"IF(COUNTIF(AY$2:AY369,AY369)=1,AY369,\"\")","v":""},"","","",""]
[null,null,null,null,null,null,null,null,null,null,null,null,null,null,null,null,null,null,null,null,null,null,null,null,null,null,{"$f":"+IF(AF370=\"\",\"\",MAX(AA$1:AA369)+1)","v":""},{"$f":"IF('Excess Emissions'!B392=\"\",\"\",'Excess Emissions'!B392)","v":""},{"$f":"IF('Excess Emissions'!C392=\"\",\"\",'Excess Emissions'!C392)","v":""},{"$f":"IF('Excess Emissions'!D392=\"\",\"\",'Excess Emissions'!D392)","v":""},"",{"$f":"IF(COUNTIF(AE$2:AE370,AE370)=1,AC370,\"\")","v":""},"","","",null,{"$f":"+IF(AP370=\"\",\"\",MAX(AK$1:AK369)+1)","v":""},{"$f":"IF('CMS Downtime Detail'!B392=\"\",\"\",'CMS Downtime Detail'!B392)","v":""},{"$f":"IF('CMS Downtime Detail'!C392=\"\",\"\",'CMS Downtime Detail'!C392)","v":""},{"$f":"IF('CMS Downtime Detail'!D392=\"\",\"\",'CMS Downtime Detail'!D392)","v":""},"",{"$f":"IF(COUNTIF(AO$2:AO370,AO370)=1,AM370,\"\")","v":""},"","","",null,{"$f":"+IF(AZ370=\"\",\"\",MAX(AU$1:AU369)+1)","v":""},{"$f":"IF('Process and CMS Information'!B392=\"\",\"\",'Process and CMS Information'!B392)","v":""},{"$f":"IF('Process and CMS Information'!C392=\"\",\"\",'Process and CMS Information'!C392)","v":""},{"$f":"IF('Process and CMS Information'!F392=\"\",\"\",'Process and CMS Information'!F392)","v":""},"",{"$f":"IF(COUNTIF(AY$2:AY370,AY370)=1,AY370,\"\")","v":""},"","","",""]
[null,null,null,null,null,null,null,null,null,null,null,null,null,null,null,null,null,null,null,null,null,null,null,null,null,null,{"$f":"+IF(AF371=\"\",\"\",MAX(AA$1:AA370)+1)","v":""},{"$f":"IF('Excess Emissions'!B393=\"\",\"\",'Excess Emissions'!B393)","v":""},{"$f":"IF('Excess Emissions'!C393=\"\",\"\",'Excess Emissions'!C393)","v":""},{"$f":"IF('Excess Emissions'!D393=\"\",\"\",'Excess Emissions'!D393)","v":""},"",{"$f":"IF(COUNTIF(AE$2:AE371,AE371)=1,AC371,\"\")","v":""},"","","",null,{"$f":"+IF(AP371=\"\",\"\",MAX(AK$1:AK370)+1)","v":""},{"$f":"IF('CMS Downtime Detail'!B393=\"\",\"\",'CMS Downtime Detail'!B393)","v":""},{"$f":"IF('CMS Downtime Detail'!C393=\"\",\"\",'CMS Downtime Detail'!C393)","v":""},{"$f":"IF('CMS Downtime Detail'!D393=\"\",\"\",'CMS Downtime Detail'!D393)","v":""},"",{"$f":"IF(COUNTIF(AO$2:AO371,AO371)=1,AM371,\"\")","v":""},"","","",null,{"$f":"+IF(AZ371=\"\",\"\",MAX(AU$1:AU370)+1)","v":""},{"$f":"IF('Process and CMS Information'!B393=\"\",\"\",'Process and CMS Information'!B393)","v":""},{"$f":"IF('Process and CMS Information'!C393=\"\",\"\",'Process and CMS Information'!C393)","v":""},{"$f":"IF('Process and CMS Information'!F393=\"\",\"\",'Process and CMS Information'!F393)","v":""},"",{"$f":"IF(COUNTIF(AY$2:AY371,AY371)=1,AY371,\"\")","v":""},"","","",""]
[null,null,null,null,null,null,null,null,null,null,null,null,null,null,null,null,null,null,null,null,null,null,null,null,null,null,{"$f":"+IF(AF372=\"\",\"\",MAX(AA$1:AA371)+1)","v":""},{"$f":"IF('Excess Emissions'!B394=\"\",\"\",'Excess Emissions'!B394)","v":""},{"$f":"IF('Excess Emissions'!C394=\"\",\"\",'Excess Emissions'!C394)","v":""},{"$f":"IF('Excess Emissions'!D394=\"\",\"\",'Excess Emissions'!D394)","v":""},"",{"$f":"IF(COUNTIF(AE$2:AE372,AE372)=1,AC372,\"\")","v":""},"","","",null,{"$f":"+IF(AP372=\"\",\"\",MAX(AK$1:AK371)+1)","v":""},{"$f":"IF('CMS Downtime Detail'!B394=\"\",\"\",'CMS Downtime Detail'!B394)","v":""},{"$f":"IF('CMS Downtime Detail'!C394=\"\",\"\",'CMS Downtime Detail'!C394)","v":""},{"$f":"IF('CMS Downtime Detail'!D394=\"\",\"\",'CMS Downtime Detail'!D394)","v":""},"",{"$f":"IF(COUNTIF(AO$2:AO372,AO372)=1,AM372,\"\")","v":""},"","","",null,{"$f":"+IF(AZ372=\"\",\"\",MAX(AU$1:AU371)+1)","v":""},{"$f":"IF('Process and CMS Information'!B394=\"\",\"\",'Process and CMS Information'!B394)","v":""},{"$f":"IF('Process and CMS Information'!C394=\"\",\"\",'Process and CMS Information'!C394)","v":""},{"$f":"IF('Process and CMS Information'!F394=\"\",\"\",'Process and CMS Information'!F394)","v":""},"",{"$f":"IF(COUNTIF(AY$2:AY372,AY372)=1,AY372,\"\")","v":""},"","","",""]
[null,null,null,null,null,null,null,null,null,null,null,null,null,null,null,null,null,null,null,null,null,null,null,null,null,null,{"$f":"+IF(AF373=\"\",\"\",MAX(AA$1:AA372)+1)","v":""},{"$f":"IF('Excess Emissions'!B395=\"\",\"\",'Excess Emissions'!B395)","v":""},{"$f":"IF('Excess Emissions'!C395=\"\",\"\",'Excess Emissions'!C395)","v":""},{"$f":"IF('Excess Emissions'!D395=\"\",\"\",'Excess Emissions'!D395)","v":""},"",{"$f":"IF(COUNTIF(AE$2:AE373,AE373)=1,AC373,\"\")","v":""},"","","",null,{"$f":"+IF(AP373=\"\",\"\",MAX(AK$1:AK372)+1)","v":""},{"$f":"IF('CMS Downtime Detail'!B395=\"\",\"\",'CMS Downtime Detail'!B395)","v":""},{"$f":"IF('CMS Downtime Detail'!C395=\"\",\"\",'CMS Downtime Detail'!C395)","v":""},{"$f":"IF('CMS Downtime Detail'!D395=\"\",\"\",'CMS Downtime Detail'!D395)","v":""},"",{"$f":"IF(COUNTIF(AO$2:AO373,AO373)=1,AM373,\"\")","v":""},"","","",null,{"$f":"+IF(AZ373=\"\",\"\",MAX(AU$1:AU372)+1)","v":""},{"$f":"IF('Process and CMS Information'!B395=\"\",\"\",'Process and CMS Information'!B395)","v":""},{"$f":"IF('Process and CMS Information'!C395=\"\",\"\",'Process and CMS Information'!C395)","v":""},{"$f":"IF('Process and CMS Information'!F395=\"\",\"\",'Process and CMS Information'!F395)","v":""},"",{"$f":"IF(COUNTIF(AY$2:AY373,AY373)=1,AY373,\"\")","v":""},"","","",""]
[null,null,null,null,null,null,null,null,null,null,null,null,null,null,null,null,null,null,null,null,null,null,null,null,null,null,{"$f":"+IF(AF374=\"\",\"\",MAX(AA$1:AA373)+1)","v":""},{"$f":"IF('Excess Emissions'!B396=\"\",\"\",'Excess Emissions'!B396)","v":""},{"$f":"IF('Excess Emissions'!C396=\"\",\"\",'Excess Emissions'!C396)","v":""},{"$f":"IF('Excess Emissions'!D396=\"\",\"\",'Excess Emissions'!D396)","v":""},"",{"$f":"IF(COUNTIF(AE$2:AE374,AE374)=1,AC374,\"\")","v":""},"","","",null,{"$f":"+IF(AP374=\"\",\"\",MAX(AK$1:AK373)+1)","v":""},{"$f":"IF('CMS Downtime Detail'!B396=\"\",\"\",'CMS Downtime Detail'!B396)","v":""},{"$f":"IF('CMS Downtime Detail'!C396=\"\",\"\",'CMS Downtime Detail'!C396)","v":""},{"$f":"IF('CMS Downtime Detail'!D396=\"\",\"\",'CMS Downtime Detail'!D396)","v":""},"",{"$f":"IF(COUNTIF(AO$2:AO374,AO374)=1,AM374,\"\")","v":""},"","","",null,{"$f":"+IF(AZ374=\"\",\"\",MAX(AU$1:AU373)+1)","v":""},{"$f":"IF('Process and CMS Information'!B396=\"\",\"\",'Process and CMS Information'!B396)","v":""},{"$f":"IF('Process and CMS Information'!C396=\"\",\"\",'Process and CMS Information'!C396)","v":""},{"$f":"IF('Process and CMS Information'!F396=\"\",\"\",'Process and CMS Information'!F396)","v":""},"",{"$f":"IF(COUNTIF(AY$2:AY374,AY374)=1,AY374,\"\")","v":""},"","","",""]
[null,null,null,null,null,null,null,null,null,null,null,null,null,null,null,null,null,null,null,null,null,null,null,null,null,null,{"$f":"+IF(AF375=\"\",\"\",MAX(AA$1:AA374)+1)","v":""},{"$f":"IF('Excess Emissions'!B397=\"\",\"\",'Excess Emissions'!B397)","v":""},{"$f":"IF('Excess Emissions'!C397=\"\",\"\",'Excess Emissions'!C397)","v":""},{"$f":"IF('Excess Emissions'!D397=\"\",\"\",'Excess Emissions'!D397)","v":""},"",{"$f":"IF(COUNTIF(AE$2:AE375,AE375)=1,AC375,\"\")","v":""},"","","",null,{"$f":"+IF(AP375=\"\",\"\",MAX(AK$1:AK374)+1)","v":""},{"$f":"IF('CMS Downtime Detail'!B397=\"\",\"\",'CMS Downtime Detail'!B397)","v":""},{"$f":"IF('CMS Downtime Detail'!C397=\"\",\"\",'CMS Downtime Detail'!C397)","v":""},{"$f":"IF('CMS Downtime Detail'!D397=\"\",\"\",'CMS Downtime Detail'!D397)","v":""},"",{"$f":"IF(COUNTIF(AO$2:AO375,AO375)=1,AM375,\"\")","v":""},"","","",null,{"$f":"+IF(AZ375=\"\",\"\",MAX(AU$1:AU374)+1)","v":""},{"$f":"IF('Process and CMS Information'!B397=\"\",\"\",'Process and CMS Information'!B397)","v":""},{"$f":"IF('Process and CMS Information'!C397=\"\",\"\",'Process and CMS Information'!C397)","v":""},{"$f":"IF('Process and CMS Information'!F397=\"\",\"\",'Process and CMS Information'!F397)","v":""},"",{"$f":"IF(COUNTIF(AY$2:AY375,AY375)=1,AY375,\"\")","v":""},"","","",""]
[null,null,null,null,null,null,null,null,null,null,null,null,null,null,null,null,null,null,null,null,null,null,null,null,null,null,{"$f":"+IF(AF376=\"\",\"\",MAX(AA$1:AA375)+1)","v":""},{"$f":"IF('Excess Emissions'!B398=\"\",\"\",'Excess Emissions'!B398)","v":""},{"$f":"IF('Excess Emissions'!C398=\"\",\"\",'Excess Emissions'!C398)","v":""},{"$f":"IF('Excess Emissions'!D398=\"\",\"\",'Excess Emissions'!D398)","v":""},"",{"$f":"IF(COUNTIF(AE$2:AE376,AE376)=1,AC376,\"\")","v":""},"","","",null,{"$f":"+IF(AP376=\"\",\"\",MAX(AK$1:AK375)+1)","v":""},{"$f":"IF('CMS Downtime Detail'!B398=\"\",\"\",'CMS Downtime Detail'!B398)","v":""},{"$f":"IF('CMS Downtime Detail'!C398=\"\",\"\",'CMS Downtime Detail'!C398)","v":""},{"$f":"IF('CMS Downtime Detail'!D398=\"\",\"\",'CMS Downtime Detail'!D398)","v":""},"",{"$f":"IF(COUNTIF(AO$2:AO376,AO376)=1,AM376,\"\")","v":""},"","","",null,{"$f":"+IF(AZ376=\"\",\"\",MAX(AU$1:AU375)+1)","v":""},{"$f":"IF('Process and CMS Information'!B398=\"\",\"\",'Process and CMS Information'!B398)","v":""},{"$f":"IF('Process and CMS Information'!C398=\"\",\"\",'Process and CMS Information'!C398)","v":""},{"$f":"IF('Process and CMS Information'!F398=\"\",\"\",'Process and CMS Information'!F398)","v":""},"",{"$f":"IF(COUNTIF(AY$2:AY376,AY376)=1,AY376,\"\")","v":""},"","","",""]
[null,null,null,null,null,null,null,null,null,null,null,null,null,null,null,null,null,null,null,null,null,null,null,null,null,null,{"$f":"+IF(AF377=\"\",\"\",MAX(AA$1:AA376)+1)","v":""},{"$f":"IF('Excess Emissions'!B399=\"\",\"\",'Excess Emissions'!B399)","v":""},{"$f":"IF('Excess Emissions'!C399=\"\",\"\",'Excess Emissions'!C399)","v":""},{"$f":"IF('Excess Emissions'!D399=\"\",\"\",'Excess Emissions'!D399)","v":""},"",{"$f":"IF(COUNTIF(AE$2:AE377,AE377)=1,AC377,\"\")","v":""},"","","",null,{"$f":"+IF(AP377=\"\",\"\",MAX(AK$1:AK376)+1)","v":""},{"$f":"IF('CMS Downtime Detail'!B399=\"\",\"\",'CMS Downtime Detail'!B399)","v":""},{"$f":"IF('CMS Downtime Detail'!C399=\"\",\"\",'CMS Downtime Detail'!C399)","v":""},{"$f":"IF('CMS Downtime Detail'!D399=\"\",\"\",'CMS Downtime Detail'!D399)","v":""},"",{"$f":"IF(COUNTIF(AO$2:AO377,AO377)=1,AM377,\"\")","v":""},"","","",null,{"$f":"+IF(AZ377=\"\",\"\",MAX(AU$1:AU376)+1)","v":""},{"$f":"IF('Process and CMS Information'!B399=\"\",\"\",'Process and CMS Information'!B399)","v":""},{"$f":"IF('Process and CMS Information'!C399=\"\",\"\",'Process and CMS Information'!C399)","v":""},{"$f":"IF('Process and CMS Information'!F399=\"\",\"\",'Process and CMS Information'!F399)","v":""},"",{"$f":"IF(COUNTIF(AY$2:AY377,AY377)=1,AY377,\"\")","v":""},"","","",""]
[null,null,null,null,null,null,null,null,null,null,null,null,null,null,null,null,null,null,null,null,null,null,null,null,null,null,{"$f":"+IF(AF378=\"\",\"\",MAX(AA$1:AA377)+1)","v":""},{"$f":"IF('Excess Emissions'!B400=\"\",\"\",'Excess Emissions'!B400)","v":""},{"$f":"IF('Excess Emissions'!C400=\"\",\"\",'Excess Emissions'!C400)","v":""},{"$f":"IF('Excess Emissions'!D400=\"\",\"\",'Excess Emissions'!D400)","v":""},"",{"$f":"IF(COUNTIF(AE$2:AE378,AE378)=1,AC378,\"\")","v":""},"","","",null,{"$f":"+IF(AP378=\"\",\"\",MAX(AK$1:AK377)+1)","v":""},{"$f":"IF('CMS Downtime Detail'!B400=\"\",\"\",'CMS Downtime Detail'!B400)","v":""},{"$f":"IF('CMS Downtime Detail'!C400=\"\",\"\",'CMS Downtime Detail'!C400)","v":""},{"$f":"IF('CMS Downtime Detail'!D400=\"\",\"\",'CMS Downtime Detail'!D400)","v":""},"",{"$f":"IF(COUNTIF(AO$2:AO378,AO378)=1,AM378,\"\")","v":""},"","","",null,{"$f":"+IF(AZ378=\"\",\"\",MAX(AU$1:AU377)+1)","v":""},{"$f":"IF('Process and CMS Information'!B400=\"\",\"\",'Process and CMS Information'!B400)","v":""},{"$f":"IF('Process and CMS Information'!C400=\"\",\"\",'Process and CMS Information'!C400)","v":""},{"$f":"IF('Process and CMS Information'!F400=\"\",\"\",'Process and CMS Information'!F400)","v":""},"",{"$f":"IF(COUNTIF(AY$2:AY378,AY378)=1,AY378,\"\")","v":""},"","","",""]
[null,null,null,null,null,null,null,null,null,null,null,null,null,null,null,null,null,null,null,null,null,null,null,null,null,null,{"$f":"+IF(AF379=\"\",\"\",MAX(AA$1:AA378)+1)","v":""},{"$f":"IF('Excess Emissions'!B401=\"\",\"\",'Excess Emissions'!B401)","v":""},{"$f":"IF('Excess Emissions'!C401=\"\",\"\",'Excess Emissions'!C401)","v":""},{"$f":"IF('Excess Emissions'!D401=\"\",\"\",'Excess Emissions'!D401)","v":""},"",{"$f":"IF(COUNTIF(AE$2:AE379,AE379)=1,AC379,\"\")","v":""},"","","",null,{"$f":"+IF(AP379=\"\",\"\",MAX(AK$1:AK378)+1)","v":""},{"$f":"IF('CMS Downtime Detail'!B401=\"\",\"\",'CMS Downtime Detail'!B401)","v":""},{"$f":"IF('CMS Downtime Detail'!C401=\"\",\"\",'CMS Downtime Detail'!C401)","v":""},{"$f":"IF('CMS Downtime Detail'!D401=\"\",\"\",'CMS Downtime Detail'!D401)","v":""},"",{"$f":"IF(COUNTIF(AO$2:AO379,AO379)=1,AM379,\"\")","v":""},"","","",null,{"$f":"+IF(AZ379=\"\",\"\",MAX(AU$1:AU378)+1)","v":""},{"$f":"IF('Process and CMS Information'!B401=\"\",\"\",'Process and CMS Information'!B401)","v":""},{"$f":"IF('Process and CMS Information'!C401=\"\",\"\",'Process and CMS Information'!C401)","v":""},{"$f":"IF('Process and CMS Information'!F401=\"\",\"\",'Process and CMS Information'!F401)","v":""},"",{"$f":"IF(COUNTIF(AY$2:AY379,AY379)=1,AY379,\"\")","v":""},"","","",""]
[null,null,null,null,null,null,null,null,null,null,null,null,null,null,null,null,null,null,null,null,null,null,null,null,null,null,{"$f":"+IF(AF380=\"\",\"\",MAX(AA$1:AA379)+1)","v":""},{"$f":"IF('Excess Emissions'!B402=\"\",\"\",'Excess Emissions'!B402)","v":""},{"$f":"IF('Excess Emissions'!C402=\"\",\"\",'Excess Emissions'!C402)","v":""},{"$f":"IF('Excess Emissions'!D402=\"\",\"\",'Excess Emissions'!D402)","v":""},"",{"$f":"IF(COUNTIF(AE$2:AE380,AE380)=1,AC380,\"\")","v":""},"","","",null,{"$f":"+IF(AP380=\"\",\"\",MAX(AK$1:AK379)+1)","v":""},{"$f":"IF('CMS Downtime Detail'!B402=\"\",\"\",'CMS Downtime Detail'!B402)","v":""},{"$f":"IF('CMS Downtime Detail'!C402=\"\",\"\",'CMS Downtime Detail'!C402)","v":""},{"$f":"IF('CMS Downtime Detail'!D402=\"\",\"\",'CMS Downtime Detail'!D402)","v":""},"",{"$f":"IF(COUNTIF(AO$2:AO380,AO380)=1,AM380,\"\")","v":""},"","","",null,{"$f":"+IF(AZ380=\"\",\"\",MAX(AU$1:AU379)+1)","v":""},{"$f":"IF('Process and CMS Information'!B402=\"\",\"\",'Process and CMS Information'!B402)","v":""},{"$f":"IF('Process and CMS Information'!C402=\"\",\"\",'Process and CMS Information'!C402)","v":""},{"$f":"IF('Process and CMS Information'!F402=\"\",\"\",'Process and CMS Information'!F402)","v":""},"",{"$f":"IF(COUNTIF(AY$2:AY380,AY380)=1,AY380,\"\")","v":""},"","","",""]
[null,null,null,null,null,null,null,null,null,null,null,null,null,null,null,null,null,null,null,null,null,null,null,null,null,null,{"$f":"+IF(AF381=\"\",\"\",MAX(AA$1:AA380)+1)","v":""},{"$f":"IF('Excess Emissions'!B403=\"\",\"\",'Excess Emissions'!B403)","v":""},{"$f":"IF('Excess Emissions'!C403=\"\",\"\",'Excess Emissions'!C403)","v":""},{"$f":"IF('Excess Emissions'!D403=\"\",\"\",'Excess Emissions'!D403)","v":""},"",{"$f":"IF(COUNTIF(AE$2:AE381,AE381)=1,AC381,\"\")","v":""},"","","",null,{"$f":"+IF(AP381=\"\",\"\",MAX(AK$1:AK380)+1)","v":""},{"$f":"IF('CMS Downtime Detail'!B403=\"\",\"\",'CMS Downtime Detail'!B403)","v":""},{"$f":"IF('CMS Downtime Detail'!C403=\"\",\"\",'CMS Downtime Detail'!C403)","v":""},{"$f":"IF('CMS Downtime Detail'!D403=\"\",\"\",'CMS Downtime Detail'!D403)","v":""},"",{"$f":"IF(COUNTIF(AO$2:AO381,AO381)=1,AM381,\"\")","v":""},"","","",null,{"$f":"+IF(AZ381=\"\",\"\",MAX(AU$1:AU380)+1)","v":""},{"$f":"IF('Process and CMS Information'!B403=\"\",\"\",'Process and CMS Information'!B403)","v":""},{"$f":"IF('Process and CMS Information'!C403=\"\",\"\",'Process and CMS Information'!C403)","v":""},{"$f":"IF('Process and CMS Information'!F403=\"\",\"\",'Process and CMS Information'!F403)","v":""},"",{"$f":"IF(COUNTIF(AY$2:AY381,AY381)=1,AY381,\"\")","v":""},"","","",""]
[null,null,null,null,null,null,null,null,null,null,null,null,null,null,null,null,null,null,null,null,null,null,null,null,null,null,{"$f":"+IF(AF382=\"\",\"\",MAX(AA$1:AA381)+1)","v":""},{"$f":"IF('Excess Emissions'!B404=\"\",\"\",'Excess Emissions'!B404)","v":""},{"$f":"IF('Excess Emissions'!C404=\"\",\"\",'Excess Emissions'!C404)","v":""},{"$f":"IF('Excess Emissions'!D404=\"\",\"\",'Excess Emissions'!D404)","v":""},"",{"$f":"IF(COUNTIF(AE$2:AE382,AE382)=1,AC382,\"\")","v":""},"","","",null,{"$f":"+IF(AP382=\"\",\"\",MAX(AK$1:AK381)+1)","v":""},{"$f":"IF('CMS Downtime Detail'!B404=\"\",\"\",'CMS Downtime Detail'!B404)","v":""},{"$f":"IF('CMS Downtime Detail'!C404=\"\",\"\",'CMS Downtime Detail'!C404)","v":""},{"$f":"IF('CMS Downtime Detail'!D404=\"\",\"\",'CMS Downtime Detail'!D404)","v":""},"",{"$f":"IF(COUNTIF(AO$2:AO382,AO382)=1,AM382,\"\")","v":""},"","","",null,{"$f":"+IF(AZ382=\"\",\"\",MAX(AU$1:AU381)+1)","v":""},{"$f":"IF('Process and CMS Information'!B404=\"\",\"\",'Process and CMS Information'!B404)","v":""},{"$f":"IF('Process and CMS Information'!C404=\"\",\"\",'Process and CMS Information'!C404)","v":""},{"$f":"IF('Process and CMS Information'!F404=\"\",\"\",'Process and CMS Information'!F404)","v":""},"",{"$f":"IF(COUNTIF(AY$2:AY382,AY382)=1,AY382,\"\")","v":""},"","","",""]
[null,null,null,null,null,null,null,null,null,null,null,null,null,null,null,null,null,null,null,null,null,null,null,null,null,null,{"$f":"+IF(AF383=\"\",\"\",MAX(AA$1:AA382)+1)","v":""},{"$f":"IF('Excess Emissions'!B405=\"\",\"\",'Excess Emissions'!B405)","v":""},{"$f":"IF('Excess Emissions'!C405=\"\",\"\",'Excess Emissions'!C405)","v":""},{"$f":"IF('Excess Emissions'!D405=\"\",\"\",'Excess Emissions'!D405)","v":""},"",{"$f":"IF(COUNTIF(AE$2:AE383,AE383)=1,AC383,\"\")","v":""},"","","",null,{"$f":"+IF(AP383=\"\",\"\",MAX(AK$1:AK382)+1)","v":""},{"$f":"IF('CMS Downtime Detail'!B405=\"\",\"\",'CMS Downtime Detail'!B405)","v":""},{"$f":"IF('CMS Downtime Detail'!C405=\"\",\"\",'CMS Downtime Detail'!C405)","v":""},{"$f":"IF('CMS Downtime Detail'!D405=\"\",\"\",'CMS Downtime Detail'!D405)","v":""},"",{"$f":"IF(COUNTIF(AO$2:AO383,AO383)=1,AM383,\"\")","v":""},"","","",null,{"$f":"+IF(AZ383=\"\",\"\",MAX(AU$1:AU382)+1)","v":""},{"$f":"IF('Process and CMS Information'!B405=\"\",\"\",'Process and CMS Information'!B405)","v":""},{"$f":"IF('Process and CMS Information'!C405=\"\",\"\",'Process and CMS Information'!C405)","v":""},{"$f":"IF('Process and CMS Information'!F405=\"\",\"\",'Process and CMS Information'!F405)","v":""},"",{"$f":"IF(COUNTIF(AY$2:AY383,AY383)=1,AY383,\"\")","v":""},"","","",""]
[null,null,null,null,null,null,null,null,null,null,null,null,null,null,null,null,null,null,null,null,null,null,null,null,null,null,{"$f":"+IF(AF384=\"\",\"\",MAX(AA$1:AA383)+1)","v":""},{"$f":"IF('Excess Emissions'!B406=\"\",\"\",'Excess Emissions'!B406)","v":""},{"$f":"IF('Excess Emissions'!C406=\"\",\"\",'Excess Emissions'!C406)","v":""},{"$f":"IF('Excess Emissions'!D406=\"\",\"\",'Excess Emissions'!D406)","v":""},"",{"$f":"IF(COUNTIF(AE$2:AE384,AE384)=1,AC384,\"\")","v":""},"","","",null,{"$f":"+IF(AP384=\"\",\"\",MAX(AK$1:AK383)+1)","v":""},{"$f":"IF('CMS Downtime Detail'!B406=\"\",\"\",'CMS Downtime Detail'!B406)","v":""},{"$f":"IF('CMS Downtime Detail'!C406=\"\",\"\",'CMS Downtime Detail'!C406)","v":""},{"$f":"IF('CMS Downtime Detail'!D406=\"\",\"\",'CMS Downtime Detail'!D406)","v":""},"",{"$f":"IF(COUNTIF(AO$2:AO384,AO384)=1,AM384,\"\")","v":""},"","","",null,{"$f":"+IF(AZ384=\"\",\"\",MAX(AU$1:AU383)+1)","v":""},{"$f":"IF('Process and CMS Information'!B406=\"\",\"\",'Process and CMS Information'!B406)","v":""},{"$f":"IF('Process and CMS Information'!C406=\"\",\"\",'Process and CMS Information'!C406)","v":""},{"$f":"IF('Process and CMS Information'!F406=\"\",\"\",'Process and CMS Information'!F406)","v":""},"",{"$f":"IF(COUNTIF(AY$2:AY384,AY384)=1,AY384,\"\")","v":""},"","","",""]
[null,null,null,null,null,null,null,null,null,null,null,null,null,null,null,null,null,null,null,null,null,null,null,null,null,null,{"$f":"+IF(AF385=\"\",\"\",MAX(AA$1:AA384)+1)","v":""},{"$f":"IF('Excess Emissions'!B407=\"\",\"\",'Excess Emissions'!B407)","v":""},{"$f":"IF('Excess Emissions'!C407=\"\",\"\",'Excess Emissions'!C407)","v":""},{"$f":"IF('Excess Emissions'!D407=\"\",\"\",'Excess Emissions'!D407)","v":""},"",{"$f":"IF(COUNTIF(AE$2:AE385,AE385)=1,AC385,\"\")","v":""},"","","",null,{"$f":"+IF(AP385=\"\",\"\",MAX(AK$1:AK384)+1)","v":""},{"$f":"IF('CMS Downtime Detail'!B407=\"\",\"\",'CMS Downtime Detail'!B407)","v":""},{"$f":"IF('CMS Downtime Detail'!C407=\"\",\"\",'CMS Downtime Detail'!C407)","v":""},{"$f":"IF('CMS Downtime Detail'!D407=\"\",\"\",'CMS Downtime Detail'!D407)","v":""},"",{"$f":"IF(COUNTIF(AO$2:AO385,AO385)=1,AM385,\"\")","v":""},"","","",null,{"$f":"+IF(AZ385=\"\",\"\",MAX(AU$1:AU384)+1)","v":""},{"$f":"IF('Process and CMS Information'!B407=\"\",\"\",'Process and CMS Information'!B407)","v":""},{"$f":"IF('Process and CMS Information'!C407=\"\",\"\",'Process and CMS Information'!C407)","v":""},{"$f":"IF('Process and CMS Information'!F407=\"\",\"\",'Process and CMS Information'!F407)","v":""},"",{"$f":"IF(COUNTIF(AY$2:AY385,AY385)=1,AY385,\"\")","v":""},"","","",""]
[null,null,null,null,null,null,null,null,null,null,null,null,null,null,null,null,null,null,null,null,null,null,null,null,null,null,{"$f":"+IF(AF386=\"\",\"\",MAX(AA$1:AA385)+1)","v":""},{"$f":"IF('Excess Emissions'!B408=\"\",\"\",'Excess Emissions'!B408)","v":""},{"$f":"IF('Excess Emissions'!C408=\"\",\"\",'Excess Emissions'!C408)","v":""},{"$f":"IF('Excess Emissions'!D408=\"\",\"\",'Excess Emissions'!D408)","v":""},"",{"$f":"IF(COUNTIF(AE$2:AE386,AE386)=1,AC386,\"\")","v":""},"","","",null,{"$f":"+IF(AP386=\"\",\"\",MAX(AK$1:AK385)+1)","v":""},{"$f":"IF('CMS Downtime Detail'!B408=\"\",\"\",'CMS Downtime Detail'!B408)","v":""},{"$f":"IF('CMS Downtime Detail'!C408=\"\",\"\",'CMS Downtime Detail'!C408)","v":""},{"$f":"IF('CMS Downtime Detail'!D408=\"\",\"\",'CMS Downtime Detail'!D408)","v":""},"",{"$f":"IF(COUNTIF(AO$2:AO386,AO386)=1,AM386,\"\")","v":""},"","","",null,{"$f":"+IF(AZ386=\"\",\"\",MAX(AU$1:AU385)+1)","v":""},{"$f":"IF('Process and CMS Information'!B408=\"\",\"\",'Process and CMS Information'!B408)","v":""},{"$f":"IF('Process and CMS Information'!C408=\"\",\"\",'Process and CMS Information'!C408)","v":""},{"$f":"IF('Process and CMS Information'!F408=\"\",\"\",'Process and CMS Information'!F408)","v":""},"",{"$f":"IF(COUNTIF(AY$2:AY386,AY386)=1,AY386,\"\")","v":""},"","","",""]
[null,null,null,null,null,null,null,null,null,null,null,null,null,null,null,null,null,null,null,null,null,null,null,null,null,null,{"$f":"+IF(AF387=\"\",\"\",MAX(AA$1:AA386)+1)","v":""},{"$f":"IF('Excess Emissions'!B409=\"\",\"\",'Excess Emissions'!B409)","v":""},{"$f":"IF('Excess Emissions'!C409=\"\",\"\",'Excess Emissions'!C409)","v":""},{"$f":"IF('Excess Emissions'!D409=\"\",\"\",'Excess Emissions'!D409)","v":""},{"$f":"AB387&AC387&AD387","v":""},{"$f":"IF(COUNTIF(AE$2:AE387,AE387)=1,AC387,\"\")","v":""},{"$f":"+IFERROR(INDEX(AB$2:AB$500,MATCH(ROW()-ROW($AF$1),$AA$2:$AA$500,0)),\"\")","v":""},{"$f":"+IFERROR(INDEX(AC$2:AC$500,MATCH(ROW()-ROW($AF$1),$AA$2:$AA$500,0)),\"\")","v":""},{"$f":"+IFERROR(INDEX(AD$2:AD$500,MATCH(ROW()-ROW($AF$1),$AA$2:$AA$500,0)),\"\")","v":""},null,{"$f":"+IF(AP387=\"\",\"\",MAX(AK$1:AK386)+1)","v":""},{"$f":"IF('CMS Downtime Detail'!B409=\"\",\"\",'CMS Downtime Detail'!B409)","v":""},{"$f":"IF('CMS Downtime Detail'!C409=\"\",\"\",'CMS Downtime Detail'!C409)","v":""},{"$f":"IF('CMS Downtime Detail'!D409=\"\",\"\",'CMS Downtime Detail'!D409)","v":""},{"$f":"AL387&AM387&AN387","v":""},{"$f":"IF(COUNTIF(AO$2:AO387,AO387)=1,AM387,\"\")","v":""},{"$f":"+IFERROR(INDEX(AL$2:AL$500,MATCH(ROW()-ROW($AP$1),$AK$2:$AK$500,0)),\"\")","v":""},{"$f":"+IFERROR(INDEX(AM$2:AM$500,MATCH(ROW()-ROW($AP$1),$AK$2:$AK$500,0)),\"\")","v":""},{"$f":"+IFERROR(INDEX(AN$2:AN$500,MATCH(ROW()-ROW($AP$1),$AK$2:$AK$500,0)),\"\")","v":""},null,{"$f":"+IF(AZ387=\"\",\"\",MAX(AU$1:AU386)+1)","v":""},{"$f":"IF('Process and CMS Information'!B409=\"\",\"\",'Process and CMS Information'!B409)","v":""},{"$f":"IF('Process and CMS Information'!C409=\"\",\"\",'Process and CMS Information'!C409)","v":""},{"$f":"IF('Process and CMS Information'!F409=\"\",\"\",'Process and CMS Information'!F409)","v":""},{"$f":"AV387&AW387","v":""},{"$f":"IF(COUNTIF(AY$2:AY387,AY387)=1,AY387,\"\")","v":""},{"$f":"+IFERROR(INDEX(AY$2:AY$500,MATCH(ROW()-ROW($AZ$1),$AU$2:$AU$500,0)),\"\")","v":""},{"$f":"+IFERROR(INDEX(AV$2:AV$500,MATCH(ROW()-ROW($AZ$1),$AU$2:$AU$500,0)),\"\")","v":""},{"$f":"+IFERROR(INDEX(AW$2:AW$500,MATCH(ROW()-ROW($AZ$1),$AU$2:$AU$500,0)),\"\")","v":""},{"$f":"+IFERROR(INDEX(AX$2:AX$500,MATCH(ROW()-ROW($AZ$1),$AU$2:$AU$500,0)),\"\")","v":""}]
[null,null,null,null,null,null,null,null,null,null,null,null,null,null,null,null,null,null,null,null,null,null,null,null,null,null,{"$f":"+IF(AF388=\"\",\"\",MAX(AA$1:AA387)+1)","v":""},{"$f":"IF('Excess Emissions'!B410=\"\",\"\",'Excess Emissions'!B410)","v":""},{"$f":"IF('Excess Emissions'!C410=\"\",\"\",'Excess Emissions'!C410)","v":""},{"$f":"IF('Excess Emissions'!D410=\"\",\"\",'Excess Emissions'!D410)","v":""},"",{"$f":"IF(COUNTIF(AE$2:AE388,AE388)=1,AC388,\"\")","v":""},"","","",null,{"$f":"+IF(AP388=\"\",\"\",MAX(AK$1:AK387)+1)","v":""},{"$f":"IF('CMS Downtime Detail'!B410=\"\",\"\",'CMS Downtime Detail'!B410)","v":""},{"$f":"IF('CMS Downtime Detail'!C410=\"\",\"\",'CMS Downtime Detail'!C410)","v":""},{"$f":"IF('CMS Downtime Detail'!D410=\"\",\"\",'CMS Downtime Detail'!D410)","v":""},"",{"$f":"IF(COUNTIF(AO$2:AO388,AO388)=1,AM388,\"\")","v":""},"","","",null,{"$f":"+IF(AZ388=\"\",\"\",MAX(AU$1:AU387)+1)","v":""},{"$f":"IF('Process and CMS Information'!B410=\"\",\"\",'Process and CMS Information'!B410)","v":""},{"$f":"IF('Process and CMS Information'!C410=\"\",\"\",'Process and CMS Information'!C410)","v":""},{"$f":"IF('Process and CMS Information'!F410=\"\",\"\",'Process and CMS Information'!F410)","v":""},"",{"$f":"IF(COUNTIF(AY$2:AY388,AY388)=1,AY388,\"\")","v":""},"","","",""]
[null,null,null,null,null,null,null,null,null,null,null,null,null,null,null,null,null,null,null,null,null,null,null,null,null,null,{"$f":"+IF(AF389=\"\",\"\",MAX(AA$1:AA388)+1)","v":""},{"$f":"IF('Excess Emissions'!B411=\"\",\"\",'Excess Emissions'!B411)","v":""},{"$f":"IF('Excess Emissions'!C411=\"\",\"\",'Excess Emissions'!C411)","v":""},{"$f":"IF('Excess Emissions'!D411=\"\",\"\",'Excess Emissions'!D411)","v":""},"",{"$f":"IF(COUNTIF(AE$2:AE389,AE389)=1,AC389,\"\")","v":""},"","","",null,{"$f":"+IF(AP389=\"\",\"\",MAX(AK$1:AK388)+1)","v":""},{"$f":"IF('CMS Downtime Detail'!B411=\"\",\"\",'CMS Downtime Detail'!B411)","v":""},{"$f":"IF('CMS Downtime Detail'!C411=\"\",\"\",'CMS Downtime Detail'!C411)","v":""},{"$f":"IF('CMS Downtime Detail'!D411=\"\",\"\",'CMS Downtime Detail'!D411)","v":""},"",{"$f":"IF(COUNTIF(AO$2:AO389,AO389)=1,AM389,\"\")","v":""},"","","",null,{"$f":"+IF(AZ389=\"\",\"\",MAX(AU$1:AU388)+1)","v":""},{"$f":"IF('Process and CMS Information'!B411=\"\",\"\",'Process and CMS Information'!B411)","v":""},{"$f":"IF('Process and CMS Information'!C411=\"\",\"\",'Process and CMS Information'!C411)","v":""},{"$f":"IF('Process and CMS Information'!F411=\"\",\"\",'Process and CMS Information'!F411)","v":""},"",{"$f":"IF(COUNTIF(AY$2:AY389,AY389)=1,AY389,\"\")","v":""},"","","",""]
[null,null,null,null,null,null,null,null,null,null,null,null,null,null,null,null,null,null,null,null,null,null,null,null,null,null,{"$f":"+IF(AF390=\"\",\"\",MAX(AA$1:AA389)+1)","v":""},{"$f":"IF('Excess Emissions'!B412=\"\",\"\",'Excess Emissions'!B412)","v":""},{"$f":"IF('Excess Emissions'!C412=\"\",\"\",'Excess Emissions'!C412)","v":""},{"$f":"IF('Excess Emissions'!D412=\"\",\"\",'Excess Emissions'!D412)","v":""},"",{"$f":"IF(COUNTIF(AE$2:AE390,AE390)=1,AC390,\"\")","v":""},"","","",null,{"$f":"+IF(AP390=\"\",\"\",MAX(AK$1:AK389)+1)","v":""},{"$f":"IF('CMS Downtime Detail'!B412=\"\",\"\",'CMS Downtime Detail'!B412)","v":""},{"$f":"IF('CMS Downtime Detail'!C412=\"\",\"\",'CMS Downtime Detail'!C412)","v":""},{"$f":"IF('CMS Downtime Detail'!D412=\"\",\"\",'CMS Downtime Detail'!D412)","v":""},"",{"$f":"IF(COUNTIF(AO$2:AO390,AO390)=1,AM390,\"\")","v":""},"","","",null,{"$f":"+IF(AZ390=\"\",\"\",MAX(AU$1:AU389)+1)","v":""},{"$f":"IF('Process and CMS Information'!B412=\"\",\"\",'Process and CMS Information'!B412)","v":""},{"$f":"IF('Process and CMS Information'!C412=\"\",\"\",'Process and CMS Information'!C412)","v":""},{"$f":"IF('Process and CMS Information'!F412=\"\",\"\",'Process and CMS Information'!F412)","v":""},"",{"$f":"IF(COUNTIF(AY$2:AY390,AY390)=1,AY390,\"\")","v":""},"","","",""]
[null,null,null,null,null,null,null,null,null,null,null,null,null,null,null,null,null,null,null,null,null,null,null,null,null,null,{"$f":"+IF(AF391=\"\",\"\",MAX(AA$1:AA390)+1)","v":""},{"$f":"IF('Excess Emissions'!B413=\"\",\"\",'Excess Emissions'!B413)","v":""},{"$f":"IF('Excess Emissions'!C413=\"\",\"\",'Excess Emissions'!C413)","v":""},{"$f":"IF('Excess Emissions'!D413=\"\",\"\",'Excess Emissions'!D413)","v":""},"",{"$f":"IF(COUNTIF(AE$2:AE391,AE391)=1,AC391,\"\")","v":""},"","","",null,{"$f":"+IF(AP391=\"\",\"\",MAX(AK$1:AK390)+1)","v":""},{"$f":"IF('CMS Downtime Detail'!B413=\"\",\"\",'CMS Downtime Detail'!B413)","v":""},{"$f":"IF('CMS Downtime Detail'!C413=\"\",\"\",'CMS Downtime Detail'!C413)","v":""},{"$f":"IF('CMS Downtime Detail'!D413=\"\",\"\",'CMS Downtime Detail'!D413)","v":""},"",{"$f":"IF(COUNTIF(AO$2:AO391,AO391)=1,AM391,\"\")","v":""},"","","",null,{"$f":"+IF(AZ391=\"\",\"\",MAX(AU$1:AU390)+1)","v":""},{"$f":"IF('Process and CMS Information'!B413=\"\",\"\",'Process and CMS Information'!B413)","v":""},{"$f":"IF('Process and CMS Information'!C413=\"\",\"\",'Process and CMS Information'!C413)","v":""},{"$f":"IF('Process and CMS Information'!F413=\"\",\"\",'Process and CMS Information'!F413)","v":""},"",{"$f":"IF(COUNTIF(AY$2:AY391,AY391)=1,AY391,\"\")","v":""},"","","",""]
[null,null,null,null,null,null,null,null,null,null,null,null,null,null,null,null,null,null,null,null,null,null,null,null,null,null,{"$f":"+IF(AF392=\"\",\"\",MAX(AA$1:AA391)+1)","v":""},{"$f":"IF('Excess Emissions'!B414=\"\",\"\",'Excess Emissions'!B414)","v":""},{"$f":"IF('Excess Emissions'!C414=\"\",\"\",'Excess Emissions'!C414)","v":""},{"$f":"IF('Excess Emissions'!D414=\"\",\"\",'Excess Emissions'!D414)","v":""},"",{"$f":"IF(COUNTIF(AE$2:AE392,AE392)=1,AC392,\"\")","v":""},"","","",null,{"$f":"+IF(AP392=\"\",\"\",MAX(AK$1:AK391)+1)","v":""},{"$f":"IF('CMS Downtime Detail'!B414=\"\",\"\",'CMS Downtime Detail'!B414)","v":""},{"$f":"IF('CMS Downtime Detail'!C414=\"\",\"\",'CMS Downtime Detail'!C414)","v":""},{"$f":"IF('CMS Downtime Detail'!D414=\"\",\"\",'CMS Downtime Detail'!D414)","v":""},"",{"$f":"IF(COUNTIF(AO$2:AO392,AO392)=1,AM392,\"\")","v":""},"","","",null,{"$f":"+IF(AZ392=\"\",\"\",MAX(AU$1:AU391)+1)","v":""},{"$f":"IF('Process and CMS Information'!B414=\"\",\"\",'Process and CMS Information'!B414)","v":""},{"$f":"IF('Process and CMS Information'!C414=\"\",\"\",'Process and CMS Information'!C414)","v":""},{"$f":"IF('Process and CMS Information'!F414=\"\",\"\",'Process and CMS Information'!F414)","v":""},"",{"$f":"IF(COUNTIF(AY$2:AY392,AY392)=1,AY392,\"\")","v":""},"","","",""]
[null,null,null,null,null,null,null,null,null,null,null,null,null,null,null,null,null,null,null,null,null,null,null,null,null,null,{"$f":"+IF(AF393=\"\",\"\",MAX(AA$1:AA392)+1)","v":""},{"$f":"IF('Excess Emissions'!B415=\"\",\"\",'Excess Emissions'!B415)","v":""},{"$f":"IF('Excess Emissions'!C415=\"\",\"\",'Excess Emissions'!C415)","v":""},{"$f":"IF('Excess Emissions'!D415=\"\",\"\",'Excess Emissions'!D415)","v":""},"",{"$f":"IF(COUNTIF(AE$2:AE393,AE393)=1,AC393,\"\")","v":""},"","","",null,{"$f":"+IF(AP393=\"\",\"\",MAX(AK$1:AK392)+1)","v":""},{"$f":"IF('CMS Downtime Detail'!B415=\"\",\"\",'CMS Downtime Detail'!B415)","v":""},{"$f":"IF('CMS Downtime Detail'!C415=\"\",\"\",'CMS Downtime Detail'!C415)","v":""},{"$f":"IF('CMS Downtime Detail'!D415=\"\",\"\",'CMS Downtime Detail'!D415)","v":""},"",{"$f":"IF(COUNTIF(AO$2:AO393,AO393)=1,AM393,\"\")","v":""},"","","",null,{"$f":"+IF(AZ393=\"\",\"\",MAX(AU$1:AU392)+1)","v":""},{"$f":"IF('Process and CMS Information'!B415=\"\",\"\",'Process and CMS Information'!B415)","v":""},{"$f":"IF('Process and CMS Information'!C415=\"\",\"\",'Process and CMS Information'!C415)","v":""},{"$f":"IF('Process and CMS Information'!F415=\"\",\"\",'Process and CMS Information'!F415)","v":""},"",{"$f":"IF(COUNTIF(AY$2:AY393,AY393)=1,AY393,\"\")","v":""},"","","",""]
[null,null,null,null,null,null,null,null,null,null,null,null,null,null,null,null,null,null,null,null,null,null,null,null,null,null,{"$f":"+IF(AF394=\"\",\"\",MAX(AA$1:AA393)+1)","v":""},{"$f":"IF('Excess Emissions'!B416=\"\",\"\",'Excess Emissions'!B416)","v":""},{"$f":"IF('Excess Emissions'!C416=\"\",\"\",'Excess Emissions'!C416)","v":""},{"$f":"IF('Excess Emissions'!D416=\"\",\"\",'Excess Emissions'!D416)","v":""},"",{"$f":"IF(COUNTIF(AE$2:AE394,AE394)=1,AC394,\"\")","v":""},"","","",null,{"$f":"+IF(AP394=\"\",\"\",MAX(AK$1:AK393)+1)","v":""},{"$f":"IF('CMS Downtime Detail'!B416=\"\",\"\",'CMS Downtime Detail'!B416)","v":""},{"$f":"IF('CMS Downtime Detail'!C416=\"\",\"\",'CMS Downtime Detail'!C416)","v":""},{"$f":"IF('CMS Downtime Detail'!D416=\"\",\"\",'CMS Downtime Detail'!D416)","v":""},"",{"$f":"IF(COUNTIF(AO$2:AO394,AO394)=1,AM394,\"\")","v":""},"","","",null,{"$f":"+IF(AZ394=\"\",\"\",MAX(AU$1:AU393)+1)","v":""},{"$f":"IF('Process and CMS Information'!B416=\"\",\"\",'Process and CMS Information'!B416)","v":""},{"$f":"IF('Process and CMS Information'!C416=\"\",\"\",'Process and CMS Information'!C416)","v":""},{"$f":"IF('Process and CMS Information'!F416=\"\",\"\",'Process and CMS Information'!F416)","v":""},"",{"$f":"IF(COUNTIF(AY$2:AY394,AY394)=1,AY394,\"\")","v":""},"","","",""]
[null,null,null,null,null,null,null,null,null,null,null,null,null,null,null,null,null,null,null,null,null,null,null,null,null,null,{"$f":"+IF(AF395=\"\",\"\",MAX(AA$1:AA394)+1)","v":""},{"$f":"IF('Excess Emissions'!B417=\"\",\"\",'Excess Emissions'!B417)","v":""},{"$f":"IF('Excess Emissions'!C417=\"\",\"\",'Excess Emissions'!C417)","v":""},{"$f":"IF('Excess Emissions'!D417=\"\",\"\",'Excess Emissions'!D417)","v":""},"",{"$f":"IF(COUNTIF(AE$2:AE395,AE395)=1,AC395,\"\")","v":""},"","","",null,{"$f":"+IF(AP395=\"\",\"\",MAX(AK$1:AK394)+1)","v":""},{"$f":"IF('CMS Downtime Detail'!B417=\"\",\"\",'CMS Downtime Detail'!B417)","v":""},{"$f":"IF('CMS Downtime Detail'!C417=\"\",\"\",'CMS Downtime Detail'!C417)","v":""},{"$f":"IF('CMS Downtime Detail'!D417=\"\",\"\",'CMS Downtime Detail'!D417)","v":""},"",{"$f":"IF(COUNTIF(AO$2:AO395,AO395)=1,AM395,\"\")","v":""},"","","",null,{"$f":"+IF(AZ395=\"\",\"\",MAX(AU$1:AU394)+1)","v":""},{"$f":"IF('Process and CMS Information'!B417=\"\",\"\",'Process and CMS Information'!B417)","v":""},{"$f":"IF('Process and CMS Information'!C417=\"\",\"\",'Process and CMS Information'!C417)","v":""},{"$f":"IF('Process and CMS Information'!F417=\"\",\"\",'Process and CMS Information'!F417)","v":""},"",{"$f":"IF(COUNTIF(AY$2:AY395,AY395)=1,AY395,\"\")","v":""},"","","",""]
[null,null,null,null,null,null,null,null,null,null,null,null,null,null,null,null,null,null,null,null,null,null,null,null,null,null,{"$f":"+IF(AF396=\"\",\"\",MAX(AA$1:AA395)+1)","v":""},{"$f":"IF('Excess Emissions'!B418=\"\",\"\",'Excess Emissions'!B418)","v":""},{"$f":"IF('Excess Emissions'!C418=\"\",\"\",'Excess Emissions'!C418)","v":""},{"$f":"IF('Excess Emissions'!D418=\"\",\"\",'Excess Emissions'!D418)","v":""},"",{"$f":"IF(COUNTIF(AE$2:AE396,AE396)=1,AC396,\"\")","v":""},"","","",null,{"$f":"+IF(AP396=\"\",\"\",MAX(AK$1:AK395)+1)","v":""},{"$f":"IF('CMS Downtime Detail'!B418=\"\",\"\",'CMS Downtime Detail'!B418)","v":""},{"$f":"IF('CMS Downtime Detail'!C418=\"\",\"\",'CMS Downtime Detail'!C418)","v":""},{"$f":"IF('CMS Downtime Detail'!D418=\"\",\"\",'CMS Downtime Detail'!D418)","v":""},"",{"$f":"IF(COUNTIF(AO$2:AO396,AO396)=1,AM396,\"\")","v":""},"","","",null,{"$f":"+IF(AZ396=\"\",\"\",MAX(AU$1:AU395)+1)","v":""},{"$f":"IF('Process and CMS Information'!B418=\"\",\"\",'Process and CMS Information'!B418)","v":""},{"$f":"IF('Process and CMS Information'!C418=\"\",\"\",'Process and CMS Information'!C418)","v":""},{"$f":"IF('Process and CMS Information'!F418=\"\",\"\",'Process and CMS Information'!F418)","v":""},"",{"$f":"IF(COUNTIF(AY$2:AY396,AY396)=1,AY396,\"\")","v":""},"","","",""]
[null,null,null,null,null,null,null,null,null,null,null,null,null,null,null,null,null,null,null,null,null,null,null,null,null,null,{"$f":"+IF(AF397=\"\",\"\",MAX(AA$1:AA396)+1)","v":""},{"$f":"IF('Excess Emissions'!B419=\"\",\"\",'Excess Emissions'!B419)","v":""},{"$f":"IF('Excess Emissions'!C419=\"\",\"\",'Excess Emissions'!C419)","v":""},{"$f":"IF('Excess Emissions'!D419=\"\",\"\",'Excess Emissions'!D419)","v":""},"",{"$f":"IF(COUNTIF(AE$2:AE397,AE397)=1,AC397,\"\")","v":""},"","","",null,{"$f":"+IF(AP397=\"\",\"\",MAX(AK$1:AK396)+1)","v":""},{"$f":"IF('CMS Downtime Detail'!B419=\"\",\"\",'CMS Downtime Detail'!B419)","v":""},{"$f":"IF('CMS Downtime Detail'!C419=\"\",\"\",'CMS Downtime Detail'!C419)","v":""},{"$f":"IF('CMS Downtime Detail'!D419=\"\",\"\",'CMS Downtime Detail'!D419)","v":""},"",{"$f":"IF(COUNTIF(AO$2:AO397,AO397)=1,AM397,\"\")","v":""},"","","",null,{"$f":"+IF(AZ397=\"\",\"\",MAX(AU$1:AU396)+1)","v":""},{"$f":"IF('Process and CMS Information'!B419=\"\",\"\",'Process and CMS Information'!B419)","v":""},{"$f":"IF('Process and CMS Information'!C419=\"\",\"\",'Process and CMS Information'!C419)","v":""},{"$f":"IF('Process and CMS Information'!F419=\"\",\"\",'Process and CMS Information'!F419)","v":""},"",{"$f":"IF(COUNTIF(AY$2:AY397,AY397)=1,AY397,\"\")","v":""},"","","",""]
[null,null,null,null,null,null,null,null,null,null,null,null,null,null,null,null,null,null,null,null,null,null,null,null,null,null,{"$f":"+IF(AF398=\"\",\"\",MAX(AA$1:AA397)+1)","v":""},{"$f":"IF('Excess Emissions'!B420=\"\",\"\",'Excess Emissions'!B420)","v":""},{"$f":"IF('Excess Emissions'!C420=\"\",\"\",'Excess Emissions'!C420)","v":""},{"$f":"IF('Excess Emissions'!D420=\"\",\"\",'Excess Emissions'!D420)","v":""},"",{"$f":"IF(COUNTIF(AE$2:AE398,AE398)=1,AC398,\"\")","v":""},"","","",null,{"$f":"+IF(AP398=\"\",\"\",MAX(AK$1:AK397)+1)","v":""},{"$f":"IF('CMS Downtime Detail'!B420=\"\",\"\",'CMS Downtime Detail'!B420)","v":""},{"$f":"IF('CMS Downtime Detail'!C420=\"\",\"\",'CMS Downtime Detail'!C420)","v":""},{"$f":"IF('CMS Downtime Detail'!D420=\"\",\"\",'CMS Downtime Detail'!D420)","v":""},"",{"$f":"IF(COUNTIF(AO$2:AO398,AO398)=1,AM398,\"\")","v":""},"","","",null,{"$f":"+IF(AZ398=\"\",\"\",MAX(AU$1:AU397)+1)","v":""},{"$f":"IF('Process and CMS Information'!B420=\"\",\"\",'Process and CMS Information'!B420)","v":""},{"$f":"IF('Process and CMS Information'!C420=\"\",\"\",'Process and CMS Information'!C420)","v":""},{"$f":"IF('Process and CMS Information'!F420=\"\",\"\",'Process and CMS Information'!F420)","v":""},"",{"$f":"IF(COUNTIF(AY$2:AY398,AY398)=1,AY398,\"\")","v":""},"","","",""]
[null,null,null,null,null,null,null,null,null,null,null,null,null,null,null,null,null,null,null,null,null,null,null,null,null,null,{"$f":"+IF(AF399=\"\",\"\",MAX(AA$1:AA398)+1)","v":""},{"$f":"IF('Excess Emissions'!B421=\"\",\"\",'Excess Emissions'!B421)","v":""},{"$f":"IF('Excess Emissions'!C421=\"\",\"\",'Excess Emissions'!C421)","v":""},{"$f":"IF('Excess Emissions'!D421=\"\",\"\",'Excess Emissions'!D421)","v":""},"",{"$f":"IF(COUNTIF(AE$2:AE399,AE399)=1,AC399,\"\")","v":""},"","","",null,{"$f":"+IF(AP399=\"\",\"\",MAX(AK$1:AK398)+1)","v":""},{"$f":"IF('CMS Downtime Detail'!B421=\"\",\"\",'CMS Downtime Detail'!B421)","v":""},{"$f":"IF('CMS Downtime Detail'!C421=\"\",\"\",'CMS Downtime Detail'!C421)","v":""},{"$f":"IF('CMS Downtime Detail'!D421=\"\",\"\",'CMS Downtime Detail'!D421)","v":""},"",{"$f":"IF(COUNTIF(AO$2:AO399,AO399)=1,AM399,\"\")","v":""},"","","",null,{"$f":"+IF(AZ399=\"\",\"\",MAX(AU$1:AU398)+1)","v":""},{"$f":"IF('Process and CMS Information'!B421=\"\",\"\",'Process and CMS Information'!B421)","v":""},{"$f":"IF('Process and CMS Information'!C421=\"\",\"\",'Process and CMS Information'!C421)","v":""},{"$f":"IF('Process and CMS Information'!F421=\"\",\"\",'Process and CMS Information'!F421)","v":""},"",{"$f":"IF(COUNTIF(AY$2:AY399,AY399)=1,AY399,\"\")","v":""},"","","",""]
[null,null,null,null,null,null,null,null,null,null,null,null,null,null,null,null,null,null,null,null,null,null,null,null,null,null,{"$f":"+IF(AF400=\"\",\"\",MAX(AA$1:AA399)+1)","v":""},{"$f":"IF('Excess Emissions'!B422=\"\",\"\",'Excess Emissions'!B422)","v":""},{"$f":"IF('Excess Emissions'!C422=\"\",\"\",'Excess Emissions'!C422)","v":""},{"$f":"IF('Excess Emissions'!D422=\"\",\"\",'Excess Emissions'!D422)","v":""},"",{"$f":"IF(COUNTIF(AE$2:AE400,AE400)=1,AC400,\"\")","v":""},"","","",null,{"$f":"+IF(AP400=\"\",\"\",MAX(AK$1:AK399)+1)","v":""},{"$f":"IF('CMS Downtime Detail'!B422=\"\",\"\",'CMS Downtime Detail'!B422)","v":""},{"$f":"IF('CMS Downtime Detail'!C422=\"\",\"\",'CMS Downtime Detail'!C422)","v":""},{"$f":"IF('CMS Downtime Detail'!D422=\"\",\"\",'CMS Downtime Detail'!D422)","v":""},"",{"$f":"IF(COUNTIF(AO$2:AO400,AO400)=1,AM400,\"\")","v":""},"","","",null,{"$f":"+IF(AZ400=\"\",\"\",MAX(AU$1:AU399)+1)","v":""},{"$f":"IF('Process and CMS Information'!B422=\"\",\"\",'Process and CMS Information'!B422)","v":""},{"$f":"IF('Process and CMS Information'!C422=\"\",\"\",'Process and CMS Information'!C422)","v":""},{"$f":"IF('Process and CMS Information'!F422=\"\",\"\",'Process and CMS Information'!F422)","v":""},"",{"$f":"IF(COUNTIF(AY$2:AY400,AY400)=1,AY400,\"\")","v":""},"","","",""]
[null,null,null,null,null,null,null,null,null,null,null,null,null,null,null,null,null,null,null,null,null,null,null,null,null,null,{"$f":"+IF(AF401=\"\",\"\",MAX(AA$1:AA400)+1)","v":""},{"$f":"IF('Excess Emissions'!B423=\"\",\"\",'Excess Emissions'!B423)","v":""},{"$f":"IF('Excess Emissions'!C423=\"\",\"\",'Excess Emissions'!C423)","v":""},{"$f":"IF('Excess Emissions'!D423=\"\",\"\",'Excess Emissions'!D423)","v":""},"",{"$f":"IF(COUNTIF(AE$2:AE401,AE401)=1,AC401,\"\")","v":""},"","","",null,{"$f":"+IF(AP401=\"\",\"\",MAX(AK$1:AK400)+1)","v":""},{"$f":"IF('CMS Downtime Detail'!B423=\"\",\"\",'CMS Downtime Detail'!B423)","v":""},{"$f":"IF('CMS Downtime Detail'!C423=\"\",\"\",'CMS Downtime Detail'!C423)","v":""},{"$f":"IF('CMS Downtime Detail'!D423=\"\",\"\",'CMS Downtime Detail'!D423)","v":""},"",{"$f":"IF(COUNTIF(AO$2:AO401,AO401)=1,AM401,\"\")","v":""},"","","",null,{"$f":"+IF(AZ401=\"\",\"\",MAX(AU$1:AU400)+1)","v":""},{"$f":"IF('Process and CMS Information'!B423=\"\",\"\",'Process and CMS Information'!B423)","v":""},{"$f":"IF('Process and CMS Information'!C423=\"\",\"\",'Process and CMS Information'!C423)","v":""},{"$f":"IF('Process and CMS Information'!F423=\"\",\"\",'Process and CMS Information'!F423)","v":""},"",{"$f":"IF(COUNTIF(AY$2:AY401,AY401)=1,AY401,\"\")","v":""},"","","",""]
[null,null,null,null,null,null,null,null,null,null,null,null,null,null,null,null,null,null,null,null,null,null,null,null,null,null,{"$f":"+IF(AF402=\"\",\"\",MAX(AA$1:AA401)+1)","v":""},{"$f":"IF('Excess Emissions'!B424=\"\",\"\",'Excess Emissions'!B424)","v":""},{"$f":"IF('Excess Emissions'!C424=\"\",\"\",'Excess Emissions'!C424)","v":""},{"$f":"IF('Excess Emissions'!D424=\"\",\"\",'Excess Emissions'!D424)","v":""},"",{"$f":"IF(COUNTIF(AE$2:AE402,AE402)=1,AC402,\"\")","v":""},"","","",null,{"$f":"+IF(AP402=\"\",\"\",MAX(AK$1:AK401)+1)","v":""},{"$f":"IF('CMS Downtime Detail'!B424=\"\",\"\",'CMS Downtime Detail'!B424)","v":""},{"$f":"IF('CMS Downtime Detail'!C424=\"\",\"\",'CMS Downtime Detail'!C424)","v":""},{"$f":"IF('CMS Downtime Detail'!D424=\"\",\"\",'CMS Downtime Detail'!D424)","v":""},"",{"$f":"IF(COUNTIF(AO$2:AO402,AO402)=1,AM402,\"\")","v":""},"","","",null,{"$f":"+IF(AZ402=\"\",\"\",MAX(AU$1:AU401)+1)","v":""},{"$f":"IF('Process and CMS Information'!B424=\"\",\"\",'Process and CMS Information'!B424)","v":""},{"$f":"IF('Process and CMS Information'!C424=\"\",\"\",'Process and CMS Information'!C424)","v":""},{"$f":"IF('Process and CMS Information'!F424=\"\",\"\",'Process and CMS Information'!F424)","v":""},"",{"$f":"IF(COUNTIF(AY$2:AY402,AY402)=1,AY402,\"\")","v":""},"","","",""]
[null,null,null,null,null,null,null,null,null,null,null,null,null,null,null,null,null,null,null,null,null,null,null,null,null,null,{"$f":"+IF(AF403=\"\",\"\",MAX(AA$1:AA402)+1)","v":""},{"$f":"IF('Excess Emissions'!B425=\"\",\"\",'Excess Emissions'!B425)","v":""},{"$f":"IF('Excess Emissions'!C425=\"\",\"\",'Excess Emissions'!C425)","v":""},{"$f":"IF('Excess Emissions'!D425=\"\",\"\",'Excess Emissions'!D425)","v":""},"",{"$f":"IF(COUNTIF(AE$2:AE403,AE403)=1,AC403,\"\")","v":""},"","","",null,{"$f":"+IF(AP403=\"\",\"\",MAX(AK$1:AK402)+1)","v":""},{"$f":"IF('CMS Downtime Detail'!B425=\"\",\"\",'CMS Downtime Detail'!B425)","v":""},{"$f":"IF('CMS Downtime Detail'!C425=\"\",\"\",'CMS Downtime Detail'!C425)","v":""},{"$f":"IF('CMS Downtime Detail'!D425=\"\",\"\",'CMS Downtime Detail'!D425)","v":""},"",{"$f":"IF(COUNTIF(AO$2:AO403,AO403)=1,AM403,\"\")","v":""},"","","",null,{"$f":"+IF(AZ403=\"\",\"\",MAX(AU$1:AU402)+1)","v":""},{"$f":"IF('Process and CMS Information'!B425=\"\",\"\",'Process and CMS Information'!B425)","v":""},{"$f":"IF('Process and CMS Information'!C425=\"\",\"\",'Process and CMS Information'!C425)","v":""},{"$f":"IF('Process and CMS Information'!F425=\"\",\"\",'Process and CMS Information'!F425)","v":""},"",{"$f":"IF(COUNTIF(AY$2:AY403,AY403)=1,AY403,\"\")","v":""},"","","",""]
[null,null,null,null,null,null,null,null,null,null,null,null,null,null,null,null,null,null,null,null,null,null,null,null,null,null,{"$f":"+IF(AF404=\"\",\"\",MAX(AA$1:AA403)+1)","v":""},{"$f":"IF('Excess Emissions'!B426=\"\",\"\",'Excess Emissions'!B426)","v":""},{"$f":"IF('Excess Emissions'!C426=\"\",\"\",'Excess Emissions'!C426)","v":""},{"$f":"IF('Excess Emissions'!D426=\"\",\"\",'Excess Emissions'!D426)","v":""},"",{"$f":"IF(COUNTIF(AE$2:AE404,AE404)=1,AC404,\"\")","v":""},"","","",null,{"$f":"+IF(AP404=\"\",\"\",MAX(AK$1:AK403)+1)","v":""},{"$f":"IF('CMS Downtime Detail'!B426=\"\",\"\",'CMS Downtime Detail'!B426)","v":""},{"$f":"IF('CMS Downtime Detail'!C426=\"\",\"\",'CMS Downtime Detail'!C426)","v":""},{"$f":"IF('CMS Downtime Detail'!D426=\"\",\"\",'CMS Downtime Detail'!D426)","v":""},"",{"$f":"IF(COUNTIF(AO$2:AO404,AO404)=1,AM404,\"\")","v":""},"","","",null,{"$f":"+IF(AZ404=\"\",\"\",MAX(AU$1:AU403)+1)","v":""},{"$f":"IF('Process and CMS Information'!B426=\"\",\"\",'Process and CMS Information'!B426)","v":""},{"$f":"IF('Process and CMS Information'!C426=\"\",\"\",'Process and CMS Information'!C426)","v":""},{"$f":"IF('Process and CMS Information'!F426=\"\",\"\",'Process and CMS Information'!F426)","v":""},"",{"$f":"IF(COUNTIF(AY$2:AY404,AY404)=1,AY404,\"\")","v":""},"","","",""]
[null,null,null,null,null,null,null,null,null,null,null,null,null,null,null,null,null,null,null,null,null,null,null,null,null,null,{"$f":"+IF(AF405=\"\",\"\",MAX(AA$1:AA404)+1)","v":""},{"$f":"IF('Excess Emissions'!B427=\"\",\"\",'Excess Emissions'!B427)","v":""},{"$f":"IF('Excess Emissions'!C427=\"\",\"\",'Excess Emissions'!C427)","v":""},{"$f":"IF('Excess Emissions'!D427=\"\",\"\",'Excess Emissions'!D427)","v":""},"",{"$f":"IF(COUNTIF(AE$2:AE405,AE405)=1,AC405,\"\")","v":""},"","","",null,{"$f":"+IF(AP405=\"\",\"\",MAX(AK$1:AK404)+1)","v":""},{"$f":"IF('CMS Downtime Detail'!B427=\"\",\"\",'CMS Downtime Detail'!B427)","v":""},{"$f":"IF('CMS Downtime Detail'!C427=\"\",\"\",'CMS Downtime Detail'!C427)","v":""},{"$f":"IF('CMS Downtime Detail'!D427=\"\",\"\",'CMS Downtime Detail'!D427)","v":""},"",{"$f":"IF(COUNTIF(AO$2:AO405,AO405)=1,AM405,\"\")","v":""},"","","",null,{"$f":"+IF(AZ405=\"\",\"\",MAX(AU$1:AU404)+1)","v":""},{"$f":"IF('Process and CMS Information'!B427=\"\",\"\",'Process and CMS Information'!B427)","v":""},{"$f":"IF('Process and CMS Information'!C427=\"\",\"\",'Process and CMS Information'!C427)","v":""},{"$f":"IF('Process and CMS Information'!F427=\"\",\"\",'Process and CMS Information'!F427)","v":""},"",{"$f":"IF(COUNTIF(AY$2:AY405,AY405)=1,AY405,\"\")","v":""},"","","",""]
[null,null,null,null,null,null,null,null,null,null,null,null,null,null,null,null,null,null,null,null,null,null,null,null,null,null,{"$f":"+IF(AF406=\"\",\"\",MAX(AA$1:AA405)+1)","v":""},{"$f":"IF('Excess Emissions'!B428=\"\",\"\",'Excess Emissions'!B428)","v":""},{"$f":"IF('Excess Emissions'!C428=\"\",\"\",'Excess Emissions'!C428)","v":""},{"$f":"IF('Excess Emissions'!D428=\"\",\"\",'Excess Emissions'!D428)","v":""},"",{"$f":"IF(COUNTIF(AE$2:AE406,AE406)=1,AC406,\"\")","v":""},"","","",null,{"$f":"+IF(AP406=\"\",\"\",MAX(AK$1:AK405)+1)","v":""},{"$f":"IF('CMS Downtime Detail'!B428=\"\",\"\",'CMS Downtime Detail'!B428)","v":""},{"$f":"IF('CMS Downtime Detail'!C428=\"\",\"\",'CMS Downtime Detail'!C428)","v":""},{"$f":"IF('CMS Downtime Detail'!D428=\"\",\"\",'CMS Downtime Detail'!D428)","v":""},"",{"$f":"IF(COUNTIF(AO$2:AO406,AO406)=1,AM406,\"\")","v":""},"","","",null,{"$f":"+IF(AZ406=\"\",\"\",MAX(AU$1:AU405)+1)","v":""},{"$f":"IF('Process and CMS Information'!B428=\"\",\"\",'Process and CMS Information'!B428)","v":""},{"$f":"IF('Process and CMS Information'!C428=\"\",\"\",'Process and CMS Information'!C428)","v":""},{"$f":"IF('Process and CMS Information'!F428=\"\",\"\",'Process and CMS Information'!F428)","v":""},"",{"$f":"IF(COUNTIF(AY$2:AY406,AY406)=1,AY406,\"\")","v":""},"","","",""]
[null,null,null,null,null,null,null,null,null,null,null,null,null,null,null,null,null,null,null,null,null,null,null,null,null,null,{"$f":"+IF(AF407=\"\",\"\",MAX(AA$1:AA406)+1)","v":""},{"$f":"IF('Excess Emissions'!B429=\"\",\"\",'Excess Emissions'!B429)","v":""},{"$f":"IF('Excess Emissions'!C429=\"\",\"\",'Excess Emissions'!C429)","v":""},{"$f":"IF('Excess Emissions'!D429=\"\",\"\",'Excess Emissions'!D429)","v":""},"",{"$f":"IF(COUNTIF(AE$2:AE407,AE407)=1,AC407,\"\")","v":""},"","","",null,{"$f":"+IF(AP407=\"\",\"\",MAX(AK$1:AK406)+1)","v":""},{"$f":"IF('CMS Downtime Detail'!B429=\"\",\"\",'CMS Downtime Detail'!B429)","v":""},{"$f":"IF('CMS Downtime Detail'!C429=\"\",\"\",'CMS Downtime Detail'!C429)","v":""},{"$f":"IF('CMS Downtime Detail'!D429=\"\",\"\",'CMS Downtime Detail'!D429)","v":""},"",{"$f":"IF(COUNTIF(AO$2:AO407,AO407)=1,AM407,\"\")","v":""},"","","",null,{"$f":"+IF(AZ407=\"\",\"\",MAX(AU$1:AU406)+1)","v":""},{"$f":"IF('Process and CMS Information'!B429=\"\",\"\",'Process and CMS Information'!B429)","v":""},{"$f":"IF('Process and CMS Information'!C429=\"\",\"\",'Process and CMS Information'!C429)","v":""},{"$f":"IF('Process and CMS Information'!F429=\"\",\"\",'Process and CMS Information'!F429)","v":""},"",{"$f":"IF(COUNTIF(AY$2:AY407,AY407)=1,AY407,\"\")","v":""},"","","",""]
[null,null,null,null,null,null,null,null,null,null,null,null,null,null,null,null,null,null,null,null,null,null,null,null,null,null,{"$f":"+IF(AF408=\"\",\"\",MAX(AA$1:AA407)+1)","v":""},{"$f":"IF('Excess Emissions'!B430=\"\",\"\",'Excess Emissions'!B430)","v":""},{"$f":"IF('Excess Emissions'!C430=\"\",\"\",'Excess Emissions'!C430)","v":""},{"$f":"IF('Excess Emissions'!D430=\"\",\"\",'Excess Emissions'!D430)","v":""},"",{"$f":"IF(COUNTIF(AE$2:AE408,AE408)=1,AC408,\"\")","v":""},"","","",null,{"$f":"+IF(AP408=\"\",\"\",MAX(AK$1:AK407)+1)","v":""},{"$f":"IF('CMS Downtime Detail'!B430=\"\",\"\",'CMS Downtime Detail'!B430)","v":""},{"$f":"IF('CMS Downtime Detail'!C430=\"\",\"\",'CMS Downtime Detail'!C430)","v":""},{"$f":"IF('CMS Downtime Detail'!D430=\"\",\"\",'CMS Downtime Detail'!D430)","v":""},"",{"$f":"IF(COUNTIF(AO$2:AO408,AO408)=1,AM408,\"\")","v":""},"","","",null,{"$f":"+IF(AZ408=\"\",\"\",MAX(AU$1:AU407)+1)","v":""},{"$f":"IF('Process and CMS Information'!B430=\"\",\"\",'Process and CMS Information'!B430)","v":""},{"$f":"IF('Process and CMS Information'!C430=\"\",\"\",'Process and CMS Information'!C430)","v":""},{"$f":"IF('Process and CMS Information'!F430=\"\",\"\",'Process and CMS Information'!F430)","v":""},"",{"$f":"IF(COUNTIF(AY$2:AY408,AY408)=1,AY408,\"\")","v":""},"","","",""]
[null,null,null,null,null,null,null,null,null,null,null,null,null,null,null,null,null,null,null,null,null,null,null,null,null,null,{"$f":"+IF(AF409=\"\",\"\",MAX(AA$1:AA408)+1)","v":""},{"$f":"IF('Excess Emissions'!B431=\"\",\"\",'Excess Emissions'!B431)","v":""},{"$f":"IF('Excess Emissions'!C431=\"\",\"\",'Excess Emissions'!C431)","v":""},{"$f":"IF('Excess Emissions'!D431=\"\",\"\",'Excess Emissions'!D431)","v":""},"",{"$f":"IF(COUNTIF(AE$2:AE409,AE409)=1,AC409,\"\")","v":""},"","","",null,{"$f":"+IF(AP409=\"\",\"\",MAX(AK$1:AK408)+1)","v":""},{"$f":"IF('CMS Downtime Detail'!B431=\"\",\"\",'CMS Downtime Detail'!B431)","v":""},{"$f":"IF('CMS Downtime Detail'!C431=\"\",\"\",'CMS Downtime Detail'!C431)","v":""},{"$f":"IF('CMS Downtime Detail'!D431=\"\",\"\",'CMS Downtime Detail'!D431)","v":""},"",{"$f":"IF(COUNTIF(AO$2:AO409,AO409)=1,AM409,\"\")","v":""},"","","",null,{"$f":"+IF(AZ409=\"\",\"\",MAX(AU$1:AU408)+1)","v":""},{"$f":"IF('Process and CMS Information'!B431=\"\",\"\",'Process and CMS Information'!B431)","v":""},{"$f":"IF('Process and CMS Information'!C431=\"\",\"\",'Process and CMS Information'!C431)","v":""},{"$f":"IF('Process and CMS Information'!F431=\"\",\"\",'Process and CMS Information'!F431)","v":""},"",{"$f":"IF(COUNTIF(AY$2:AY409,AY409)=1,AY409,\"\")","v":""},"","","",""]
[null,null,null,null,null,null,null,null,null,null,null,null,null,null,null,null,null,null,null,null,null,null,null,null,null,null,{"$f":"+IF(AF410=\"\",\"\",MAX(AA$1:AA409)+1)","v":""},{"$f":"IF('Excess Emissions'!B432=\"\",\"\",'Excess Emissions'!B432)","v":""},{"$f":"IF('Excess Emissions'!C432=\"\",\"\",'Excess Emissions'!C432)","v":""},{"$f":"IF('Excess Emissions'!D432=\"\",\"\",'Excess Emissions'!D432)","v":""},"",{"$f":"IF(COUNTIF(AE$2:AE410,AE410)=1,AC410,\"\")","v":""},"","","",null,{"$f":"+IF(AP410=\"\",\"\",MAX(AK$1:AK409)+1)","v":""},{"$f":"IF('CMS Downtime Detail'!B432=\"\",\"\",'CMS Downtime Detail'!B432)","v":""},{"$f":"IF('CMS Downtime Detail'!C432=\"\",\"\",'CMS Downtime Detail'!C432)","v":""},{"$f":"IF('CMS Downtime Detail'!D432=\"\",\"\",'CMS Downtime Detail'!D432)","v":""},"",{"$f":"IF(COUNTIF(AO$2:AO410,AO410)=1,AM410,\"\")","v":""},"","","",null,{"$f":"+IF(AZ410=\"\",\"\",MAX(AU$1:AU409)+1)","v":""},{"$f":"IF('Process and CMS Information'!B432=\"\",\"\",'Process and CMS Information'!B432)","v":""},{"$f":"IF('Process and CMS Information'!C432=\"\",\"\",'Process and CMS Information'!C432)","v":""},{"$f":"IF('Process and CMS Information'!F432=\"\",\"\",'Process and CMS Information'!F432)","v":""},"",{"$f":"IF(COUNTIF(AY$2:AY410,AY410)=1,AY410,\"\")","v":""},"","","",""]
[null,null,null,null,null,null,null,null,null,null,null,null,null,null,null,null,null,null,null,null,null,null,null,null,null,null,{"$f":"+IF(AF411=\"\",\"\",MAX(AA$1:AA410)+1)","v":""},{"$f":"IF('Excess Emissions'!B433=\"\",\"\",'Excess Emissions'!B433)","v":""},{"$f":"IF('Excess Emissions'!C433=\"\",\"\",'Excess Emissions'!C433)","v":""},{"$f":"IF('Excess Emissions'!D433=\"\",\"\",'Excess Emissions'!D433)","v":""},"",{"$f":"IF(COUNTIF(AE$2:AE411,AE411)=1,AC411,\"\")","v":""},"","","",null,{"$f":"+IF(AP411=\"\",\"\",MAX(AK$1:AK410)+1)","v":""},{"$f":"IF('CMS Downtime Detail'!B433=\"\",\"\",'CMS Downtime Detail'!B433)","v":""},{"$f":"IF('CMS Downtime Detail'!C433=\"\",\"\",'CMS Downtime Detail'!C433)","v":""},{"$f":"IF('CMS Downtime Detail'!D433=\"\",\"\",'CMS Downtime Detail'!D433)","v":""},"",{"$f":"IF(COUNTIF(AO$2:AO411,AO411)=1,AM411,\"\")","v":""},"","","",null,{"$f":"+IF(AZ411=\"\",\"\",MAX(AU$1:AU410)+1)","v":""},{"$f":"IF('Process and CMS Information'!B433=\"\",\"\",'Process and CMS Information'!B433)","v":""},{"$f":"IF('Process and CMS Information'!C433=\"\",\"\",'Process and CMS Information'!C433)","v":""},{"$f":"IF('Process and CMS Information'!F433=\"\",\"\",'Process and CMS Information'!F433)","v":""},"",{"$f":"IF(COUNTIF(AY$2:AY411,AY411)=1,AY411,\"\")","v":""},"","","",""]
[null,null,null,null,null,null,null,null,null,null,null,null,null,null,null,null,null,null,null,null,null,null,null,null,null,null,{"$f":"+IF(AF412=\"\",\"\",MAX(AA$1:AA411)+1)","v":""},{"$f":"IF('Excess Emissions'!B434=\"\",\"\",'Excess Emissions'!B434)","v":""},{"$f":"IF('Excess Emissions'!C434=\"\",\"\",'Excess Emissions'!C434)","v":""},{"$f":"IF('Excess Emissions'!D434=\"\",\"\",'Excess Emissions'!D434)","v":""},"",{"$f":"IF(COUNTIF(AE$2:AE412,AE412)=1,AC412,\"\")","v":""},"","","",null,{"$f":"+IF(AP412=\"\",\"\",MAX(AK$1:AK411)+1)","v":""},{"$f":"IF('CMS Downtime Detail'!B434=\"\",\"\",'CMS Downtime Detail'!B434)","v":""},{"$f":"IF('CMS Downtime Detail'!C434=\"\",\"\",'CMS Downtime Detail'!C434)","v":""},{"$f":"IF('CMS Downtime Detail'!D434=\"\",\"\",'CMS Downtime Detail'!D434)","v":""},"",{"$f":"IF(COUNTIF(AO$2:AO412,AO412)=1,AM412,\"\")","v":""},"","","",null,{"$f":"+IF(AZ412=\"\",\"\",MAX(AU$1:AU411)+1)","v":""},{"$f":"IF('Process and CMS Information'!B434=\"\",\"\",'Process and CMS Information'!B434)","v":""},{"$f":"IF('Process and CMS Information'!C434=\"\",\"\",'Process and CMS Information'!C434)","v":""},{"$f":"IF('Process and CMS Information'!F434=\"\",\"\",'Process and CMS Information'!F434)","v":""},"",{"$f":"IF(COUNTIF(AY$2:AY412,AY412)=1,AY412,\"\")","v":""},"","","",""]
[null,null,null,null,null,null,null,null,null,null,null,null,null,null,null,null,null,null,null,null,null,null,null,null,null,null,{"$f":"+IF(AF413=\"\",\"\",MAX(AA$1:AA412)+1)","v":""},{"$f":"IF('Excess Emissions'!B435=\"\",\"\",'Excess Emissions'!B435)","v":""},{"$f":"IF('Excess Emissions'!C435=\"\",\"\",'Excess Emissions'!C435)","v":""},{"$f":"IF('Excess Emissions'!D435=\"\",\"\",'Excess Emissions'!D435)","v":""},"",{"$f":"IF(COUNTIF(AE$2:AE413,AE413)=1,AC413,\"\")","v":""},"","","",null,{"$f":"+IF(AP413=\"\",\"\",MAX(AK$1:AK412)+1)","v":""},{"$f":"IF('CMS Downtime Detail'!B435=\"\",\"\",'CMS Downtime Detail'!B435)","v":""},{"$f":"IF('CMS Downtime Detail'!C435=\"\",\"\",'CMS Downtime Detail'!C435)","v":""},{"$f":"IF('CMS Downtime Detail'!D435=\"\",\"\",'CMS Downtime Detail'!D435)","v":""},"",{"$f":"IF(COUNTIF(AO$2:AO413,AO413)=1,AM413,\"\")","v":""},"","","",null,{"$f":"+IF(AZ413=\"\",\"\",MAX(AU$1:AU412)+1)","v":""},{"$f":"IF('Process and CMS Information'!B435=\"\",\"\",'Process and CMS Information'!B435)","v":""},{"$f":"IF('Process and CMS Information'!C435=\"\",\"\",'Process and CMS Information'!C435)","v":""},{"$f":"IF('Process and CMS Information'!F435=\"\",\"\",'Process and CMS Information'!F435)","v":""},"",{"$f":"IF(COUNTIF(AY$2:AY413,AY413)=1,AY413,\"\")","v":""},"","","",""]
[null,null,null,null,null,null,null,null,null,null,null,null,null,null,null,null,null,null,null,null,null,null,null,null,null,null,{"$f":"+IF(AF414=\"\",\"\",MAX(AA$1:AA413)+1)","v":""},{"$f":"IF('Excess Emissions'!B436=\"\",\"\",'Excess Emissions'!B436)","v":""},{"$f":"IF('Excess Emissions'!C436=\"\",\"\",'Excess Emissions'!C436)","v":""},{"$f":"IF('Excess Emissions'!D436=\"\",\"\",'Excess Emissions'!D436)","v":""},"",{"$f":"IF(COUNTIF(AE$2:AE414,AE414)=1,AC414,\"\")","v":""},"","","",null,{"$f":"+IF(AP414=\"\",\"\",MAX(AK$1:AK413)+1)","v":""},{"$f":"IF('CMS Downtime Detail'!B436=\"\",\"\",'CMS Downtime Detail'!B436)","v":""},{"$f":"IF('CMS Downtime Detail'!C436=\"\",\"\",'CMS Downtime Detail'!C436)","v":""},{"$f":"IF('CMS Downtime Detail'!D436=\"\",\"\",'CMS Downtime Detail'!D436)","v":""},"",{"$f":"IF(COUNTIF(AO$2:AO414,AO414)=1,AM414,\"\")","v":""},"","","",null,{"$f":"+IF(AZ414=\"\",\"\",MAX(AU$1:AU413)+1)","v":""},{"$f":"IF('Process and CMS Information'!B436=\"\",\"\",'Process and CMS Information'!B436)","v":""},{"$f":"IF('Process and CMS Information'!C436=\"\",\"\",'Process and CMS Information'!C436)","v":""},{"$f":"IF('Process and CMS Information'!F436=\"\",\"\",'Process and CMS Information'!F436)","v":""},"",{"$f":"IF(COUNTIF(AY$2:AY414,AY414)=1,AY414,\"\")","v":""},"","","",""]
[null,null,null,null,null,null,null,null,null,null,null,null,null,null,null,null,null,null,null,null,null,null,null,null,null,null,{"$f":"+IF(AF415=\"\",\"\",MAX(AA$1:AA414)+1)","v":""},{"$f":"IF('Excess Emissions'!B437=\"\",\"\",'Excess Emissions'!B437)","v":""},{"$f":"IF('Excess Emissions'!C437=\"\",\"\",'Excess Emissions'!C437)","v":""},{"$f":"IF('Excess Emissions'!D437=\"\",\"\",'Excess Emissions'!D437)","v":""},"",{"$f":"IF(COUNTIF(AE$2:AE415,AE415)=1,AC415,\"\")","v":""},"","","",null,{"$f":"+IF(AP415=\"\",\"\",MAX(AK$1:AK414)+1)","v":""},{"$f":"IF('CMS Downtime Detail'!B437=\"\",\"\",'CMS Downtime Detail'!B437)","v":""},{"$f":"IF('CMS Downtime Detail'!C437=\"\",\"\",'CMS Downtime Detail'!C437)","v":""},{"$f":"IF('CMS Downtime Detail'!D437=\"\",\"\",'CMS Downtime Detail'!D437)","v":""},"",{"$f":"IF(COUNTIF(AO$2:AO415,AO415)=1,AM415,\"\")","v":""},"","","",null,{"$f":"+IF(AZ415=\"\",\"\",MAX(AU$1:AU414)+1)","v":""},{"$f":"IF('Process and CMS Information'!B437=\"\",\"\",'Process and CMS Information'!B437)","v":""},{"$f":"IF('Process and CMS Information'!C437=\"\",\"\",'Process and CMS Information'!C437)","v":""},{"$f":"IF('Process and CMS Information'!F437=\"\",\"\",'Process and CMS Information'!F437)","v":""},"",{"$f":"IF(COUNTIF(AY$2:AY415,AY415)=1,AY415,\"\")","v":""},"","","",""]
[null,null,null,null,null,null,null,null,null,null,null,null,null,null,null,null,null,null,null,null,null,null,null,null,null,null,{"$f":"+IF(AF416=\"\",\"\",MAX(AA$1:AA415)+1)","v":""},{"$f":"IF('Excess Emissions'!B438=\"\",\"\",'Excess Emissions'!B438)","v":""},{"$f":"IF('Excess Emissions'!C438=\"\",\"\",'Excess Emissions'!C438)","v":""},{"$f":"IF('Excess Emissions'!D438=\"\",\"\",'Excess Emissions'!D438)","v":""},"",{"$f":"IF(COUNTIF(AE$2:AE416,AE416)=1,AC416,\"\")","v":""},"","","",null,{"$f":"+IF(AP416=\"\",\"\",MAX(AK$1:AK415)+1)","v":""},{"$f":"IF('CMS Downtime Detail'!B438=\"\",\"\",'CMS Downtime Detail'!B438)","v":""},{"$f":"IF('CMS Downtime Detail'!C438=\"\",\"\",'CMS Downtime Detail'!C438)","v":""},{"$f":"IF('CMS Downtime Detail'!D438=\"\",\"\",'CMS Downtime Detail'!D438)","v":""},"",{"$f":"IF(COUNTIF(AO$2:AO416,AO416)=1,AM416,\"\")","v":""},"","","",null,{"$f":"+IF(AZ416=\"\",\"\",MAX(AU$1:AU415)+1)","v":""},{"$f":"IF('Process and CMS Information'!B438=\"\",\"\",'Process and CMS Information'!B438)","v":""},{"$f":"IF('Process and CMS Information'!C438=\"\",\"\",'Process and CMS Information'!C438)","v":""},{"$f":"IF('Process and CMS Information'!F438=\"\",\"\",'Process and CMS Information'!F438)","v":""},"",{"$f":"IF(COUNTIF(AY$2:AY416,AY416)=1,AY416,\"\")","v":""},"","","",""]
[null,null,null,null,null,null,null,null,null,null,null,null,null,null,null,null,null,null,null,null,null,null,null,null,null,null,{"$f":"+IF(AF417=\"\",\"\",MAX(AA$1:AA416)+1)","v":""},{"$f":"IF('Excess Emissions'!B439=\"\",\"\",'Excess Emissions'!B439)","v":""},{"$f":"IF('Excess Emissions'!C439=\"\",\"\",'Excess Emissions'!C439)","v":""},{"$f":"IF('Excess Emissions'!D439=\"\",\"\",'Excess Emissions'!D439)","v":""},"",{"$f":"IF(COUNTIF(AE$2:AE417,AE417)=1,AC417,\"\")","v":""},"","","",null,{"$f":"+IF(AP417=\"\",\"\",MAX(AK$1:AK416)+1)","v":""},{"$f":"IF('CMS Downtime Detail'!B439=\"\",\"\",'CMS Downtime Detail'!B439)","v":""},{"$f":"IF('CMS Downtime Detail'!C439=\"\",\"\",'CMS Downtime Detail'!C439)","v":""},{"$f":"IF('CMS Downtime Detail'!D439=\"\",\"\",'CMS Downtime Detail'!D439)","v":""},"",{"$f":"IF(COUNTIF(AO$2:AO417,AO417)=1,AM417,\"\")","v":""},"","","",null,{"$f":"+IF(AZ417=\"\",\"\",MAX(AU$1:AU416)+1)","v":""},{"$f":"IF('Process and CMS Information'!B439=\"\",\"\",'Process and CMS Information'!B439)","v":""},{"$f":"IF('Process and CMS Information'!C439=\"\",\"\",'Process and CMS Information'!C439)","v":""},{"$f":"IF('Process and CMS Information'!F439=\"\",\"\",'Process and CMS Information'!F439)","v":""},"",{"$f":"IF(COUNTIF(AY$2:AY417,AY417)=1,AY417,\"\")","v":""},"","","",""]
[null,null,null,null,null,null,null,null,null,null,null,null,null,null,null,null,null,null,null,null,null,null,null,null,null,null,{"$f":"+IF(AF418=\"\",\"\",MAX(AA$1:AA417)+1)","v":""},{"$f":"IF('Excess Emissions'!B440=\"\",\"\",'Excess Emissions'!B440)","v":""},{"$f":"IF('Excess Emissions'!C440=\"\",\"\",'Excess Emissions'!C440)","v":""},{"$f":"IF('Excess Emissions'!D440=\"\",\"\",'Excess Emissions'!D440)","v":""},"",{"$f":"IF(COUNTIF(AE$2:AE418,AE418)=1,AC418,\"\")","v":""},"","","",null,{"$f":"+IF(AP418=\"\",\"\",MAX(AK$1:AK417)+1)","v":""},{"$f":"IF('CMS Downtime Detail'!B440=\"\",\"\",'CMS Downtime Detail'!B440)","v":""},{"$f":"IF('CMS Downtime Detail'!C440=\"\",\"\",'CMS Downtime Detail'!C440)","v":""},{"$f":"IF('CMS Downtime Detail'!D440=\"\",\"\",'CMS Downtime Detail'!D440)","v":""},"",{"$f":"IF(COUNTIF(AO$2:AO418,AO418)=1,AM418,\"\")","v":""},"","","",null,{"$f":"+IF(AZ418=\"\",\"\",MAX(AU$1:AU417)+1)","v":""},{"$f":"IF('Process and CMS Information'!B440=\"\",\"\",'Process and CMS Information'!B440)","v":""},{"$f":"IF('Process and CMS Information'!C440=\"\",\"\",'Process and CMS Information'!C440)","v":""},{"$f":"IF('Process and CMS Information'!F440=\"\",\"\",'Process and CMS Information'!F440)","v":""},"",{"$f":"IF(COUNTIF(AY$2:AY418,AY418)=1,AY418,\"\")","v":""},"","","",""]
[null,null,null,null,null,null,null,null,null,null,null,null,null,null,null,null,null,null,null,null,null,null,null,null,null,null,{"$f":"+IF(AF419=\"\",\"\",MAX(AA$1:AA418)+1)","v":""},{"$f":"IF('Excess Emissions'!B441=\"\",\"\",'Excess Emissions'!B441)","v":""},{"$f":"IF('Excess Emissions'!C441=\"\",\"\",'Excess Emissions'!C441)","v":""},{"$f":"IF('Excess Emissions'!D441=\"\",\"\",'Excess Emissions'!D441)","v":""},"",{"$f":"IF(COUNTIF(AE$2:AE419,AE419)=1,AC419,\"\")","v":""},"","","",null,{"$f":"+IF(AP419=\"\",\"\",MAX(AK$1:AK418)+1)","v":""},{"$f":"IF('CMS Downtime Detail'!B441=\"\",\"\",'CMS Downtime Detail'!B441)","v":""},{"$f":"IF('CMS Downtime Detail'!C441=\"\",\"\",'CMS Downtime Detail'!C441)","v":""},{"$f":"IF('CMS Downtime Detail'!D441=\"\",\"\",'CMS Downtime Detail'!D441)","v":""},"",{"$f":"IF(COUNTIF(AO$2:AO419,AO419)=1,AM419,\"\")","v":""},"","","",null,{"$f":"+IF(AZ419=\"\",\"\",MAX(AU$1:AU418)+1)","v":""},{"$f":"IF('Process and CMS Information'!B441=\"\",\"\",'Process and CMS Information'!B441)","v":""},{"$f":"IF('Process and CMS Information'!C441=\"\",\"\",'Process and CMS Information'!C441)","v":""},{"$f":"IF('Process and CMS Information'!F441=\"\",\"\",'Process and CMS Information'!F441)","v":""},"",{"$f":"IF(COUNTIF(AY$2:AY419,AY419)=1,AY419,\"\")","v":""},"","","",""]
[null,null,null,null,null,null,null,null,null,null,null,null,null,null,null,null,null,null,null,null,null,null,null,null,null,null,{"$f":"+IF(AF420=\"\",\"\",MAX(AA$1:AA419)+1)","v":""},{"$f":"IF('Excess Emissions'!B442=\"\",\"\",'Excess Emissions'!B442)","v":""},{"$f":"IF('Excess Emissions'!C442=\"\",\"\",'Excess Emissions'!C442)","v":""},{"$f":"IF('Excess Emissions'!D442=\"\",\"\",'Excess Emissions'!D442)","v":""},"",{"$f":"IF(COUNTIF(AE$2:AE420,AE420)=1,AC420,\"\")","v":""},"","","",null,{"$f":"+IF(AP420=\"\",\"\",MAX(AK$1:AK419)+1)","v":""},{"$f":"IF('CMS Downtime Detail'!B442=\"\",\"\",'CMS Downtime Detail'!B442)","v":""},{"$f":"IF('CMS Downtime Detail'!C442=\"\",\"\",'CMS Downtime Detail'!C442)","v":""},{"$f":"IF('CMS Downtime Detail'!D442=\"\",\"\",'CMS Downtime Detail'!D442)","v":""},"",{"$f":"IF(COUNTIF(AO$2:AO420,AO420)=1,AM420,\"\")","v":""},"","","",null,{"$f":"+IF(AZ420=\"\",\"\",MAX(AU$1:AU419)+1)","v":""},{"$f":"IF('Process and CMS Information'!B442=\"\",\"\",'Process and CMS Information'!B442)","v":""},{"$f":"IF('Process and CMS Information'!C442=\"\",\"\",'Process and CMS Information'!C442)","v":""},{"$f":"IF('Process and CMS Information'!F442=\"\",\"\",'Process and CMS Information'!F442)","v":""},"",{"$f":"IF(COUNTIF(AY$2:AY420,AY420)=1,AY420,\"\")","v":""},"","","",""]
[null,null,null,null,null,null,null,null,null,null,null,null,null,null,null,null,null,null,null,null,null,null,null,null,null,null,{"$f":"+IF(AF421=\"\",\"\",MAX(AA$1:AA420)+1)","v":""},{"$f":"IF('Excess Emissions'!B443=\"\",\"\",'Excess Emissions'!B443)","v":""},{"$f":"IF('Excess Emissions'!C443=\"\",\"\",'Excess Emissions'!C443)","v":""},{"$f":"IF('Excess Emissions'!D443=\"\",\"\",'Excess Emissions'!D443)","v":""},"",{"$f":"IF(COUNTIF(AE$2:AE421,AE421)=1,AC421,\"\")","v":""},"","","",null,{"$f":"+IF(AP421=\"\",\"\",MAX(AK$1:AK420)+1)","v":""},{"$f":"IF('CMS Downtime Detail'!B443=\"\",\"\",'CMS Downtime Detail'!B443)","v":""},{"$f":"IF('CMS Downtime Detail'!C443=\"\",\"\",'CMS Downtime Detail'!C443)","v":""},{"$f":"IF('CMS Downtime Detail'!D443=\"\",\"\",'CMS Downtime Detail'!D443)","v":""},"",{"$f":"IF(COUNTIF(AO$2:AO421,AO421)=1,AM421,\"\")","v":""},"","","",null,{"$f":"+IF(AZ421=\"\",\"\",MAX(AU$1:AU420)+1)","v":""},{"$f":"IF('Process and CMS Information'!B443=\"\",\"\",'Process and CMS Information'!B443)","v":""},{"$f":"IF('Process and CMS Information'!C443=\"\",\"\",'Process and CMS Information'!C443)","v":""},{"$f":"IF('Process and CMS Information'!F443=\"\",\"\",'Process and CMS Information'!F443)","v":""},"",{"$f":"IF(COUNTIF(AY$2:AY421,AY421)=1,AY421,\"\")","v":""},"","","",""]
[null,null,null,null,null,null,null,null,null,null,null,null,null,null,null,null,null,null,null,null,null,null,null,null,null,null,{"$f":"+IF(AF422=\"\",\"\",MAX(AA$1:AA421)+1)","v":""},{"$f":"IF('Excess Emissions'!B444=\"\",\"\",'Excess Emissions'!B444)","v":""},{"$f":"IF('Excess Emissions'!C444=\"\",\"\",'Excess Emissions'!C444)","v":""},{"$f":"IF('Excess Emissions'!D444=\"\",\"\",'Excess Emissions'!D444)","v":""},"",{"$f":"IF(COUNTIF(AE$2:AE422,AE422)=1,AC422,\"\")","v":""},"","","",null,{"$f":"+IF(AP422=\"\",\"\",MAX(AK$1:AK421)+1)","v":""},{"$f":"IF('CMS Downtime Detail'!B444=\"\",\"\",'CMS Downtime Detail'!B444)","v":""},{"$f":"IF('CMS Downtime Detail'!C444=\"\",\"\",'CMS Downtime Detail'!C444)","v":""},{"$f":"IF('CMS Downtime Detail'!D444=\"\",\"\",'CMS Downtime Detail'!D444)","v":""},"",{"$f":"IF(COUNTIF(AO$2:AO422,AO422)=1,AM422,\"\")","v":""},"","","",null,{"$f":"+IF(AZ422=\"\",\"\",MAX(AU$1:AU421)+1)","v":""},{"$f":"IF('Process and CMS Information'!B444=\"\",\"\",'Process and CMS Information'!B444)","v":""},{"$f":"IF('Process and CMS Information'!C444=\"\",\"\",'Process and CMS Information'!C444)","v":""},{"$f":"IF('Process and CMS Information'!F444=\"\",\"\",'Process and CMS Information'!F444)","v":""},"",{"$f":"IF(COUNTIF(AY$2:AY422,AY422)=1,AY422,\"\")","v":""},"","","",""]
[null,null,null,null,null,null,null,null,null,null,null,null,null,null,null,null,null,null,null,null,null,null,null,null,null,null,{"$f":"+IF(AF423=\"\",\"\",MAX(AA$1:AA422)+1)","v":""},{"$f":"IF('Excess Emissions'!B445=\"\",\"\",'Excess Emissions'!B445)","v":""},{"$f":"IF('Excess Emissions'!C445=\"\",\"\",'Excess Emissions'!C445)","v":""},{"$f":"IF('Excess Emissions'!D445=\"\",\"\",'Excess Emissions'!D445)","v":""},"",{"$f":"IF(COUNTIF(AE$2:AE423,AE423)=1,AC423,\"\")","v":""},"","","",null,{"$f":"+IF(AP423=\"\",\"\",MAX(AK$1:AK422)+1)","v":""},{"$f":"IF('CMS Downtime Detail'!B445=\"\",\"\",'CMS Downtime Detail'!B445)","v":""},{"$f":"IF('CMS Downtime Detail'!C445=\"\",\"\",'CMS Downtime Detail'!C445)","v":""},{"$f":"IF('CMS Downtime Detail'!D445=\"\",\"\",'CMS Downtime Detail'!D445)","v":""},"",{"$f":"IF(COUNTIF(AO$2:AO423,AO423)=1,AM423,\"\")","v":""},"","","",null,{"$f":"+IF(AZ423=\"\",\"\",MAX(AU$1:AU422)+1)","v":""},{"$f":"IF('Process and CMS Information'!B445=\"\",\"\",'Process and CMS Information'!B445)","v":""},{"$f":"IF('Process and CMS Information'!C445=\"\",\"\",'Process and CMS Information'!C445)","v":""},{"$f":"IF('Process and CMS Information'!F445=\"\",\"\",'Process and CMS Information'!F445)","v":""},"",{"$f":"IF(COUNTIF(AY$2:AY423,AY423)=1,AY423,\"\")","v":""},"","","",""]
[null,null,null,null,null,null,null,null,null,null,null,null,null,null,null,null,null,null,null,null,null,null,null,null,null,null,{"$f":"+IF(AF424=\"\",\"\",MAX(AA$1:AA423)+1)","v":""},{"$f":"IF('Excess Emissions'!B446=\"\",\"\",'Excess Emissions'!B446)","v":""},{"$f":"IF('Excess Emissions'!C446=\"\",\"\",'Excess Emissions'!C446)","v":""},{"$f":"IF('Excess Emissions'!D446=\"\",\"\",'Excess Emissions'!D446)","v":""},"",{"$f":"IF(COUNTIF(AE$2:AE424,AE424)=1,AC424,\"\")","v":""},"","","",null,{"$f":"+IF(AP424=\"\",\"\",MAX(AK$1:AK423)+1)","v":""},{"$f":"IF('CMS Downtime Detail'!B446=\"\",\"\",'CMS Downtime Detail'!B446)","v":""},{"$f":"IF('CMS Downtime Detail'!C446=\"\",\"\",'CMS Downtime Detail'!C446)","v":""},{"$f":"IF('CMS Downtime Detail'!D446=\"\",\"\",'CMS Downtime Detail'!D446)","v":""},"",{"$f":"IF(COUNTIF(AO$2:AO424,AO424)=1,AM424,\"\")","v":""},"","","",null,{"$f":"+IF(AZ424=\"\",\"\",MAX(AU$1:AU423)+1)","v":""},{"$f":"IF('Process and CMS Information'!B446=\"\",\"\",'Process and CMS Information'!B446)","v":""},{"$f":"IF('Process and CMS Information'!C446=\"\",\"\",'Process and CMS Information'!C446)","v":""},{"$f":"IF('Process and CMS Information'!F446=\"\",\"\",'Process and CMS Information'!F446)","v":""},"",{"$f":"IF(COUNTIF(AY$2:AY424,AY424)=1,AY424,\"\")","v":""},"","","",""]
[null,null,null,null,null,null,null,null,null,null,null,null,null,null,null,null,null,null,null,null,null,null,null,null,null,null,{"$f":"+IF(AF425=\"\",\"\",MAX(AA$1:AA424)+1)","v":""},{"$f":"IF('Excess Emissions'!B447=\"\",\"\",'Excess Emissions'!B447)","v":""},{"$f":"IF('Excess Emissions'!C447=\"\",\"\",'Excess Emissions'!C447)","v":""},{"$f":"IF('Excess Emissions'!D447=\"\",\"\",'Excess Emissions'!D447)","v":""},"",{"$f":"IF(COUNTIF(AE$2:AE425,AE425)=1,AC425,\"\")","v":""},"","","",null,{"$f":"+IF(AP425=\"\",\"\",MAX(AK$1:AK424)+1)","v":""},{"$f":"IF('CMS Downtime Detail'!B447=\"\",\"\",'CMS Downtime Detail'!B447)","v":""},{"$f":"IF('CMS Downtime Detail'!C447=\"\",\"\",'CMS Downtime Detail'!C447)","v":""},{"$f":"IF('CMS Downtime Detail'!D447=\"\",\"\",'CMS Downtime Detail'!D447)","v":""},"",{"$f":"IF(COUNTIF(AO$2:AO425,AO425)=1,AM425,\"\")","v":""},"","","",null,{"$f":"+IF(AZ425=\"\",\"\",MAX(AU$1:AU424)+1)","v":""},{"$f":"IF('Process and CMS Information'!B447=\"\",\"\",'Process and CMS Information'!B447)","v":""},{"$f":"IF('Process and CMS Information'!C447=\"\",\"\",'Process and CMS Information'!C447)","v":""},{"$f":"IF('Process and CMS Information'!F447=\"\",\"\",'Process and CMS Information'!F447)","v":""},"",{"$f":"IF(COUNTIF(AY$2:AY425,AY425)=1,AY425,\"\")","v":""},"","","",""]
[null,null,null,null,null,null,null,null,null,null,null,null,null,null,null,null,null,null,null,null,null,null,null,null,null,null,{"$f":"+IF(AF426=\"\",\"\",MAX(AA$1:AA425)+1)","v":""},{"$f":"IF('Excess Emissions'!B448=\"\",\"\",'Excess Emissions'!B448)","v":""},{"$f":"IF('Excess Emissions'!C448=\"\",\"\",'Excess Emissions'!C448)","v":""},{"$f":"IF('Excess Emissions'!D448=\"\",\"\",'Excess Emissions'!D448)","v":""},"",{"$f":"IF(COUNTIF(AE$2:AE426,AE426)=1,AC426,\"\")","v":""},"","","",null,{"$f":"+IF(AP426=\"\",\"\",MAX(AK$1:AK425)+1)","v":""},{"$f":"IF('CMS Downtime Detail'!B448=\"\",\"\",'CMS Downtime Detail'!B448)","v":""},{"$f":"IF('CMS Downtime Detail'!C448=\"\",\"\",'CMS Downtime Detail'!C448)","v":""},{"$f":"IF('CMS Downtime Detail'!D448=\"\",\"\",'CMS Downtime Detail'!D448)","v":""},"",{"$f":"IF(COUNTIF(AO$2:AO426,AO426)=1,AM426,\"\")","v":""},"","","",null,{"$f":"+IF(AZ426=\"\",\"\",MAX(AU$1:AU425)+1)","v":""},{"$f":"IF('Process and CMS Information'!B448=\"\",\"\",'Process and CMS Information'!B448)","v":""},{"$f":"IF('Process and CMS Information'!C448=\"\",\"\",'Process and CMS Information'!C448)","v":""},{"$f":"IF('Process and CMS Information'!F448=\"\",\"\",'Process and CMS Information'!F448)","v":""},"",{"$f":"IF(COUNTIF(AY$2:AY426,AY426)=1,AY426,\"\")","v":""},"","","",""]
[null,null,null,null,null,null,null,null,null,null,null,null,null,null,null,null,null,null,null,null,null,null,null,null,null,null,{"$f":"+IF(AF427=\"\",\"\",MAX(AA$1:AA426)+1)","v":""},{"$f":"IF('Excess Emissions'!B449=\"\",\"\",'Excess Emissions'!B449)","v":""},{"$f":"IF('Excess Emissions'!C449=\"\",\"\",'Excess Emissions'!C449)","v":""},{"$f":"IF('Excess Emissions'!D449=\"\",\"\",'Excess Emissions'!D449)","v":""},"",{"$f":"IF(COUNTIF(AE$2:AE427,AE427)=1,AC427,\"\")","v":""},"","","",null,{"$f":"+IF(AP427=\"\",\"\",MAX(AK$1:AK426)+1)","v":""},{"$f":"IF('CMS Downtime Detail'!B449=\"\",\"\",'CMS Downtime Detail'!B449)","v":""},{"$f":"IF('CMS Downtime Detail'!C449=\"\",\"\",'CMS Downtime Detail'!C449)","v":""},{"$f":"IF('CMS Downtime Detail'!D449=\"\",\"\",'CMS Downtime Detail'!D449)","v":""},"",{"$f":"IF(COUNTIF(AO$2:AO427,AO427)=1,AM427,\"\")","v":""},"","","",null,{"$f":"+IF(AZ427=\"\",\"\",MAX(AU$1:AU426)+1)","v":""},{"$f":"IF('Process and CMS Information'!B449=\"\",\"\",'Process and CMS Information'!B449)","v":""},{"$f":"IF('Process and CMS Information'!C449=\"\",\"\",'Process and CMS Information'!C449)","v":""},{"$f":"IF('Process and CMS Information'!F449=\"\",\"\",'Process and CMS Information'!F449)","v":""},"",{"$f":"IF(COUNTIF(AY$2:AY427,AY427)=1,AY427,\"\")","v":""},"","","",""]
[null,null,null,null,null,null,null,null,null,null,null,null,null,null,null,null,null,null,null,null,null,null,null,null,null,null,{"$f":"+IF(AF428=\"\",\"\",MAX(AA$1:AA427)+1)","v":""},{"$f":"IF('Excess Emissions'!B450=\"\",\"\",'Excess Emissions'!B450)","v":""},{"$f":"IF('Excess Emissions'!C450=\"\",\"\",'Excess Emissions'!C450)","v":""},{"$f":"IF('Excess Emissions'!D450=\"\",\"\",'Excess Emissions'!D450)","v":""},"",{"$f":"IF(COUNTIF(AE$2:AE428,AE428)=1,AC428,\"\")","v":""},"","","",null,{"$f":"+IF(AP428=\"\",\"\",MAX(AK$1:AK427)+1)","v":""},{"$f":"IF('CMS Downtime Detail'!B450=\"\",\"\",'CMS Downtime Detail'!B450)","v":""},{"$f":"IF('CMS Downtime Detail'!C450=\"\",\"\",'CMS Downtime Detail'!C450)","v":""},{"$f":"IF('CMS Downtime Detail'!D450=\"\",\"\",'CMS Downtime Detail'!D450)","v":""},"",{"$f":"IF(COUNTIF(AO$2:AO428,AO428)=1,AM428,\"\")","v":""},"","","",null,{"$f":"+IF(AZ428=\"\",\"\",MAX(AU$1:AU427)+1)","v":""},{"$f":"IF('Process and CMS Information'!B450=\"\",\"\",'Process and CMS Information'!B450)","v":""},{"$f":"IF('Process and CMS Information'!C450=\"\",\"\",'Process and CMS Information'!C450)","v":""},{"$f":"IF('Process and CMS Information'!F450=\"\",\"\",'Process and CMS Information'!F450)","v":""},"",{"$f":"IF(COUNTIF(AY$2:AY428,AY428)=1,AY428,\"\")","v":""},"","","",""]
[null,null,null,null,null,null,null,null,null,null,null,null,null,null,null,null,null,null,null,null,null,null,null,null,null,null,{"$f":"+IF(AF429=\"\",\"\",MAX(AA$1:AA428)+1)","v":""},{"$f":"IF('Excess Emissions'!B451=\"\",\"\",'Excess Emissions'!B451)","v":""},{"$f":"IF('Excess Emissions'!C451=\"\",\"\",'Excess Emissions'!C451)","v":""},{"$f":"IF('Excess Emissions'!D451=\"\",\"\",'Excess Emissions'!D451)","v":""},"",{"$f":"IF(COUNTIF(AE$2:AE429,AE429)=1,AC429,\"\")","v":""},"","","",null,{"$f":"+IF(AP429=\"\",\"\",MAX(AK$1:AK428)+1)","v":""},{"$f":"IF('CMS Downtime Detail'!B451=\"\",\"\",'CMS Downtime Detail'!B451)","v":""},{"$f":"IF('CMS Downtime Detail'!C451=\"\",\"\",'CMS Downtime Detail'!C451)","v":""},{"$f":"IF('CMS Downtime Detail'!D451=\"\",\"\",'CMS Downtime Detail'!D451)","v":""},"",{"$f":"IF(COUNTIF(AO$2:AO429,AO429)=1,AM429,\"\")","v":""},"","","",null,{"$f":"+IF(AZ429=\"\",\"\",MAX(AU$1:AU428)+1)","v":""},{"$f":"IF('Process and CMS Information'!B451=\"\",\"\",'Process and CMS Information'!B451)","v":""},{"$f":"IF('Process and CMS Information'!C451=\"\",\"\",'Process and CMS Information'!C451)","v":""},{"$f":"IF('Process and CMS Information'!F451=\"\",\"\",'Process and CMS Information'!F451)","v":""},"",{"$f":"IF(COUNTIF(AY$2:AY429,AY429)=1,AY429,\"\")","v":""},"","","",""]
[null,null,null,null,null,null,null,null,null,null,null,null,null,null,null,null,null,null,null,null,null,null,null,null,null,null,{"$f":"+IF(AF430=\"\",\"\",MAX(AA$1:AA429)+1)","v":""},{"$f":"IF('Excess Emissions'!B452=\"\",\"\",'Excess Emissions'!B452)","v":""},{"$f":"IF('Excess Emissions'!C452=\"\",\"\",'Excess Emissions'!C452)","v":""},{"$f":"IF('Excess Emissions'!D452=\"\",\"\",'Excess Emissions'!D452)","v":""},"",{"$f":"IF(COUNTIF(AE$2:AE430,AE430)=1,AC430,\"\")","v":""},"","","",null,{"$f":"+IF(AP430=\"\",\"\",MAX(AK$1:AK429)+1)","v":""},{"$f":"IF('CMS Downtime Detail'!B452=\"\",\"\",'CMS Downtime Detail'!B452)","v":""},{"$f":"IF('CMS Downtime Detail'!C452=\"\",\"\",'CMS Downtime Detail'!C452)","v":""},{"$f":"IF('CMS Downtime Detail'!D452=\"\",\"\",'CMS Downtime Detail'!D452)","v":""},"",{"$f":"IF(COUNTIF(AO$2:AO430,AO430)=1,AM430,\"\")","v":""},"","","",null,{"$f":"+IF(AZ430=\"\",\"\",MAX(AU$1:AU429)+1)","v":""},{"$f":"IF('Process and CMS Information'!B452=\"\",\"\",'Process and CMS Information'!B452)","v":""},{"$f":"IF('Process and CMS Information'!C452=\"\",\"\",'Process and CMS Information'!C452)","v":""},{"$f":"IF('Process and CMS Information'!F452=\"\",\"\",'Process and CMS Information'!F452)","v":""},"",{"$f":"IF(COUNTIF(AY$2:AY430,AY430)=1,AY430,\"\")","v":""},"","","",""]
[null,null,null,null,null,null,null,null,null,null,null,null,null,null,null,null,null,null,null,null,null,null,null,null,null,null,{"$f":"+IF(AF431=\"\",\"\",MAX(AA$1:AA430)+1)","v":""},{"$f":"IF('Excess Emissions'!B453=\"\",\"\",'Excess Emissions'!B453)","v":""},{"$f":"IF('Excess Emissions'!C453=\"\",\"\",'Excess Emissions'!C453)","v":""},{"$f":"IF('Excess Emissions'!D453=\"\",\"\",'Excess Emissions'!D453)","v":""},"",{"$f":"IF(COUNTIF(AE$2:AE431,AE431)=1,AC431,\"\")","v":""},"","","",null,{"$f":"+IF(AP431=\"\",\"\",MAX(AK$1:AK430)+1)","v":""},{"$f":"IF('CMS Downtime Detail'!B453=\"\",\"\",'CMS Downtime Detail'!B453)","v":""},{"$f":"IF('CMS Downtime Detail'!C453=\"\",\"\",'CMS Downtime Detail'!C453)","v":""},{"$f":"IF('CMS Downtime Detail'!D453=\"\",\"\",'CMS Downtime Detail'!D453)","v":""},"",{"$f":"IF(COUNTIF(AO$2:AO431,AO431)=1,AM431,\"\")","v":""},"","","",null,{"$f":"+IF(AZ431=\"\",\"\",MAX(AU$1:AU430)+1)","v":""},{"$f":"IF('Process and CMS Information'!B453=\"\",\"\",'Process and CMS Information'!B453)","v":""},{"$f":"IF('Process and CMS Information'!C453=\"\",\"\",'Process and CMS Information'!C453)","v":""},{"$f":"IF('Process and CMS Information'!F453=\"\",\"\",'Process and CMS Information'!F453)","v":""},"",{"$f":"IF(COUNTIF(AY$2:AY431,AY431)=1,AY431,\"\")","v":""},"","","",""]
[null,null,null,null,null,null,null,null,null,null,null,null,null,null,null,null,null,null,null,null,null,null,null,null,null,null,{"$f":"+IF(AF432=\"\",\"\",MAX(AA$1:AA431)+1)","v":""},{"$f":"IF('Excess Emissions'!B454=\"\",\"\",'Excess Emissions'!B454)","v":""},{"$f":"IF('Excess Emissions'!C454=\"\",\"\",'Excess Emissions'!C454)","v":""},{"$f":"IF('Excess Emissions'!D454=\"\",\"\",'Excess Emissions'!D454)","v":""},"",{"$f":"IF(COUNTIF(AE$2:AE432,AE432)=1,AC432,\"\")","v":""},"","","",null,{"$f":"+IF(AP432=\"\",\"\",MAX(AK$1:AK431)+1)","v":""},{"$f":"IF('CMS Downtime Detail'!B454=\"\",\"\",'CMS Downtime Detail'!B454)","v":""},{"$f":"IF('CMS Downtime Detail'!C454=\"\",\"\",'CMS Downtime Detail'!C454)","v":""},{"$f":"IF('CMS Downtime Detail'!D454=\"\",\"\",'CMS Downtime Detail'!D454)","v":""},"",{"$f":"IF(COUNTIF(AO$2:AO432,AO432)=1,AM432,\"\")","v":""},"","","",null,{"$f":"+IF(AZ432=\"\",\"\",MAX(AU$1:AU431)+1)","v":""},{"$f":"IF('Process and CMS Information'!B454=\"\",\"\",'Process and CMS Information'!B454)","v":""},{"$f":"IF('Process and CMS Information'!C454=\"\",\"\",'Process and CMS Information'!C454)","v":""},{"$f":"IF('Process and CMS Information'!F454=\"\",\"\",'Process and CMS Information'!F454)","v":""},"",{"$f":"IF(COUNTIF(AY$2:AY432,AY432)=1,AY432,\"\")","v":""},"","","",""]
[null,null,null,null,null,null,null,null,null,null,null,null,null,null,null,null,null,null,null,null,null,null,null,null,null,null,{"$f":"+IF(AF433=\"\",\"\",MAX(AA$1:AA432)+1)","v":""},{"$f":"IF('Excess Emissions'!B455=\"\",\"\",'Excess Emissions'!B455)","v":""},{"$f":"IF('Excess Emissions'!C455=\"\",\"\",'Excess Emissions'!C455)","v":""},{"$f":"IF('Excess Emissions'!D455=\"\",\"\",'Excess Emissions'!D455)","v":""},"",{"$f":"IF(COUNTIF(AE$2:AE433,AE433)=1,AC433,\"\")","v":""},"","","",null,{"$f":"+IF(AP433=\"\",\"\",MAX(AK$1:AK432)+1)","v":""},{"$f":"IF('CMS Downtime Detail'!B455=\"\",\"\",'CMS Downtime Detail'!B455)","v":""},{"$f":"IF('CMS Downtime Detail'!C455=\"\",\"\",'CMS Downtime Detail'!C455)","v":""},{"$f":"IF('CMS Downtime Detail'!D455=\"\",\"\",'CMS Downtime Detail'!D455)","v":""},"",{"$f":"IF(COUNTIF(AO$2:AO433,AO433)=1,AM433,\"\")","v":""},"","","",null,{"$f":"+IF(AZ433=\"\",\"\",MAX(AU$1:AU432)+1)","v":""},{"$f":"IF('Process and CMS Information'!B455=\"\",\"\",'Process and CMS Information'!B455)","v":""},{"$f":"IF('Process and CMS Information'!C455=\"\",\"\",'Process and CMS Information'!C455)","v":""},{"$f":"IF('Process and CMS Information'!F455=\"\",\"\",'Process and CMS Information'!F455)","v":""},"",{"$f":"IF(COUNTIF(AY$2:AY433,AY433)=1,AY433,\"\")","v":""},"","","",""]
[null,null,null,null,null,null,null,null,null,null,null,null,null,null,null,null,null,null,null,null,null,null,null,null,null,null,{"$f":"+IF(AF434=\"\",\"\",MAX(AA$1:AA433)+1)","v":""},{"$f":"IF('Excess Emissions'!B456=\"\",\"\",'Excess Emissions'!B456)","v":""},{"$f":"IF('Excess Emissions'!C456=\"\",\"\",'Excess Emissions'!C456)","v":""},{"$f":"IF('Excess Emissions'!D456=\"\",\"\",'Excess Emissions'!D456)","v":""},"",{"$f":"IF(COUNTIF(AE$2:AE434,AE434)=1,AC434,\"\")","v":""},"","","",null,{"$f":"+IF(AP434=\"\",\"\",MAX(AK$1:AK433)+1)","v":""},{"$f":"IF('CMS Downtime Detail'!B456=\"\",\"\",'CMS Downtime Detail'!B456)","v":""},{"$f":"IF('CMS Downtime Detail'!C456=\"\",\"\",'CMS Downtime Detail'!C456)","v":""},{"$f":"IF('CMS Downtime Detail'!D456=\"\",\"\",'CMS Downtime Detail'!D456)","v":""},"",{"$f":"IF(COUNTIF(AO$2:AO434,AO434)=1,AM434,\"\")","v":""},"","","",null,{"$f":"+IF(AZ434=\"\",\"\",MAX(AU$1:AU433)+1)","v":""},{"$f":"IF('Process and CMS Information'!B456=\"\",\"\",'Process and CMS Information'!B456)","v":""},{"$f":"IF('Process and CMS Information'!C456=\"\",\"\",'Process and CMS Information'!C456)","v":""},{"$f":"IF('Process and CMS Information'!F456=\"\",\"\",'Process and CMS Information'!F456)","v":""},"",{"$f":"IF(COUNTIF(AY$2:AY434,AY434)=1,AY434,\"\")","v":""},"","","",""]
[null,null,null,null,null,null,null,null,null,null,null,null,null,null,null,null,null,null,null,null,null,null,null,null,null,null,{"$f":"+IF(AF435=\"\",\"\",MAX(AA$1:AA434)+1)","v":""},{"$f":"IF('Excess Emissions'!B457=\"\",\"\",'Excess Emissions'!B457)","v":""},{"$f":"IF('Excess Emissions'!C457=\"\",\"\",'Excess Emissions'!C457)","v":""},{"$f":"IF('Excess Emissions'!D457=\"\",\"\",'Excess Emissions'!D457)","v":""},"",{"$f":"IF(COUNTIF(AE$2:AE435,AE435)=1,AC435,\"\")","v":""},"","","",null,{"$f":"+IF(AP435=\"\",\"\",MAX(AK$1:AK434)+1)","v":""},{"$f":"IF('CMS Downtime Detail'!B457=\"\",\"\",'CMS Downtime Detail'!B457)","v":""},{"$f":"IF('CMS Downtime Detail'!C457=\"\",\"\",'CMS Downtime Detail'!C457)","v":""},{"$f":"IF('CMS Downtime Detail'!D457=\"\",\"\",'CMS Downtime Detail'!D457)","v":""},"",{"$f":"IF(COUNTIF(AO$2:AO435,AO435)=1,AM435,\"\")","v":""},"","","",null,{"$f":"+IF(AZ435=\"\",\"\",MAX(AU$1:AU434)+1)","v":""},{"$f":"IF('Process and CMS Information'!B457=\"\",\"\",'Process and CMS Information'!B457)","v":""},{"$f":"IF('Process and CMS Information'!C457=\"\",\"\",'Process and CMS Information'!C457)","v":""},{"$f":"IF('Process and CMS Information'!F457=\"\",\"\",'Process and CMS Information'!F457)","v":""},"",{"$f":"IF(COUNTIF(AY$2:AY435,AY435)=1,AY435,\"\")","v":""},"","","",""]
[null,null,null,null,null,null,null,null,null,null,null,null,null,null,null,null,null,null,null,null,null,null,null,null,null,null,{"$f":"+IF(AF436=\"\",\"\",MAX(AA$1:AA435)+1)","v":""},{"$f":"IF('Excess Emissions'!B458=\"\",\"\",'Excess Emissions'!B458)","v":""},{"$f":"IF('Excess Emissions'!C458=\"\",\"\",'Excess Emissions'!C458)","v":""},{"$f":"IF('Excess Emissions'!D458=\"\",\"\",'Excess Emissions'!D458)","v":""},"",{"$f":"IF(COUNTIF(AE$2:AE436,AE436)=1,AC436,\"\")","v":""},"","","",null,{"$f":"+IF(AP436=\"\",\"\",MAX(AK$1:AK435)+1)","v":""},{"$f":"IF('CMS Downtime Detail'!B458=\"\",\"\",'CMS Downtime Detail'!B458)","v":""},{"$f":"IF('CMS Downtime Detail'!C458=\"\",\"\",'CMS Downtime Detail'!C458)","v":""},{"$f":"IF('CMS Downtime Detail'!D458=\"\",\"\",'CMS Downtime Detail'!D458)","v":""},"",{"$f":"IF(COUNTIF(AO$2:AO436,AO436)=1,AM436,\"\")","v":""},"","","",null,{"$f":"+IF(AZ436=\"\",\"\",MAX(AU$1:AU435)+1)","v":""},{"$f":"IF('Process and CMS Information'!B458=\"\",\"\",'Process and CMS Information'!B458)","v":""},{"$f":"IF('Process and CMS Information'!C458=\"\",\"\",'Process and CMS Information'!C458)","v":""},{"$f":"IF('Process and CMS Information'!F458=\"\",\"\",'Process and CMS Information'!F458)","v":""},"",{"$f":"IF(COUNTIF(AY$2:AY436,AY436)=1,AY436,\"\")","v":""},"","","",""]
[null,null,null,null,null,null,null,null,null,null,null,null,null,null,null,null,null,null,null,null,null,null,null,null,null,null,{"$f":"+IF(AF437=\"\",\"\",MAX(AA$1:AA436)+1)","v":""},{"$f":"IF('Excess Emissions'!B459=\"\",\"\",'Excess Emissions'!B459)","v":""},{"$f":"IF('Excess Emissions'!C459=\"\",\"\",'Excess Emissions'!C459)","v":""},{"$f":"IF('Excess Emissions'!D459=\"\",\"\",'Excess Emissions'!D459)","v":""},"",{"$f":"IF(COUNTIF(AE$2:AE437,AE437)=1,AC437,\"\")","v":""},"","","",null,{"$f":"+IF(AP437=\"\",\"\",MAX(AK$1:AK436)+1)","v":""},{"$f":"IF('CMS Downtime Detail'!B459=\"\",\"\",'CMS Downtime Detail'!B459)","v":""},{"$f":"IF('CMS Downtime Detail'!C459=\"\",\"\",'CMS Downtime Detail'!C459)","v":""},{"$f":"IF('CMS Downtime Detail'!D459=\"\",\"\",'CMS Downtime Detail'!D459)","v":""},"",{"$f":"IF(COUNTIF(AO$2:AO437,AO437)=1,AM437,\"\")","v":""},"","","",null,{"$f":"+IF(AZ437=\"\",\"\",MAX(AU$1:AU436)+1)","v":""},{"$f":"IF('Process and CMS Information'!B459=\"\",\"\",'Process and CMS Information'!B459)","v":""},{"$f":"IF('Process and CMS Information'!C459=\"\",\"\",'Process and CMS Information'!C459)","v":""},{"$f":"IF('Process and CMS Information'!F459=\"\",\"\",'Process and CMS Information'!F459)","v":""},"",{"$f":"IF(COUNTIF(AY$2:AY437,AY437)=1,AY437,\"\")","v":""},"","","",""]
[null,null,null,null,null,null,null,null,null,null,null,null,null,null,null,null,null,null,null,null,null,null,null,null,null,null,{"$f":"+IF(AF438=\"\",\"\",MAX(AA$1:AA437)+1)","v":""},{"$f":"IF('Excess Emissions'!B460=\"\",\"\",'Excess Emissions'!B460)","v":""},{"$f":"IF('Excess Emissions'!C460=\"\",\"\",'Excess Emissions'!C460)","v":""},{"$f":"IF('Excess Emissions'!D460=\"\",\"\",'Excess Emissions'!D460)","v":""},"",{"$f":"IF(COUNTIF(AE$2:AE438,AE438)=1,AC438,\"\")","v":""},"","","",null,{"$f":"+IF(AP438=\"\",\"\",MAX(AK$1:AK437)+1)","v":""},{"$f":"IF('CMS Downtime Detail'!B460=\"\",\"\",'CMS Downtime Detail'!B460)","v":""},{"$f":"IF('CMS Downtime Detail'!C460=\"\",\"\",'CMS Downtime Detail'!C460)","v":""},{"$f":"IF('CMS Downtime Detail'!D460=\"\",\"\",'CMS Downtime Detail'!D460)","v":""},"",{"$f":"IF(COUNTIF(AO$2:AO438,AO438)=1,AM438,\"\")","v":""},"","","",null,{"$f":"+IF(AZ438=\"\",\"\",MAX(AU$1:AU437)+1)","v":""},{"$f":"IF('Process and CMS Information'!B460=\"\",\"\",'Process and CMS Information'!B460)","v":""},{"$f":"IF('Process and CMS Information'!C460=\"\",\"\",'Process and CMS Information'!C460)","v":""},{"$f":"IF('Process and CMS Information'!F460=\"\",\"\",'Process and CMS Information'!F460)","v":""},"",{"$f":"IF(COUNTIF(AY$2:AY438,AY438)=1,AY438,\"\")","v":""},"","","",""]
[null,null,null,null,null,null,null,null,null,null,null,null,null,null,null,null,null,null,null,null,null,null,null,null,null,null,{"$f":"+IF(AF439=\"\",\"\",MAX(AA$1:AA438)+1)","v":""},{"$f":"IF('Excess Emissions'!B461=\"\",\"\",'Excess Emissions'!B461)","v":""},{"$f":"IF('Excess Emissions'!C461=\"\",\"\",'Excess Emissions'!C461)","v":""},{"$f":"IF('Excess Emissions'!D461=\"\",\"\",'Excess Emissions'!D461)","v":""},"",{"$f":"IF(COUNTIF(AE$2:AE439,AE439)=1,AC439,\"\")","v":""},"","","",null,{"$f":"+IF(AP439=\"\",\"\",MAX(AK$1:AK438)+1)","v":""},{"$f":"IF('CMS Downtime Detail'!B461=\"\",\"\",'CMS Downtime Detail'!B461)","v":""},{"$f":"IF('CMS Downtime Detail'!C461=\"\",\"\",'CMS Downtime Detail'!C461)","v":""},{"$f":"IF('CMS Downtime Detail'!D461=\"\",\"\",'CMS Downtime Detail'!D461)","v":""},"",{"$f":"IF(COUNTIF(AO$2:AO439,AO439)=1,AM439,\"\")","v":""},"","","",null,{"$f":"+IF(AZ439=\"\",\"\",MAX(AU$1:AU438)+1)","v":""},{"$f":"IF('Process and CMS Information'!B461=\"\",\"\",'Process and CMS Information'!B461)","v":""},{"$f":"IF('Process and CMS Information'!C461=\"\",\"\",'Process and CMS Information'!C461)","v":""},{"$f":"IF('Process and CMS Information'!F461=\"\",\"\",'Process and CMS Information'!F461)","v":""},"",{"$f":"IF(COUNTIF(AY$2:AY439,AY439)=1,AY439,\"\")","v":""},"","","",""]
[null,null,null,null,null,null,null,null,null,null,null,null,null,null,null,null,null,null,null,null,null,null,null,null,null,null,{"$f":"+IF(AF440=\"\",\"\",MAX(AA$1:AA439)+1)","v":""},{"$f":"IF('Excess Emissions'!B462=\"\",\"\",'Excess Emissions'!B462)","v":""},{"$f":"IF('Excess Emissions'!C462=\"\",\"\",'Excess Emissions'!C462)","v":""},{"$f":"IF('Excess Emissions'!D462=\"\",\"\",'Excess Emissions'!D462)","v":""},"",{"$f":"IF(COUNTIF(AE$2:AE440,AE440)=1,AC440,\"\")","v":""},"","","",null,{"$f":"+IF(AP440=\"\",\"\",MAX(AK$1:AK439)+1)","v":""},{"$f":"IF('CMS Downtime Detail'!B462=\"\",\"\",'CMS Downtime Detail'!B462)","v":""},{"$f":"IF('CMS Downtime Detail'!C462=\"\",\"\",'CMS Downtime Detail'!C462)","v":""},{"$f":"IF('CMS Downtime Detail'!D462=\"\",\"\",'CMS Downtime Detail'!D462)","v":""},"",{"$f":"IF(COUNTIF(AO$2:AO440,AO440)=1,AM440,\"\")","v":""},"","","",null,{"$f":"+IF(AZ440=\"\",\"\",MAX(AU$1:AU439)+1)","v":""},{"$f":"IF('Process and CMS Information'!B462=\"\",\"\",'Process and CMS Information'!B462)","v":""},{"$f":"IF('Process and CMS Information'!C462=\"\",\"\",'Process and CMS Information'!C462)","v":""},{"$f":"IF('Process and CMS Information'!F462=\"\",\"\",'Process and CMS Information'!F462)","v":""},"",{"$f":"IF(COUNTIF(AY$2:AY440,AY440)=1,AY440,\"\")","v":""},"","","",""]
[null,null,null,null,null,null,null,null,null,null,null,null,null,null,null,null,null,null,null,null,null,null,null,null,null,null,{"$f":"+IF(AF441=\"\",\"\",MAX(AA$1:AA440)+1)","v":""},{"$f":"IF('Excess Emissions'!B463=\"\",\"\",'Excess Emissions'!B463)","v":""},{"$f":"IF('Excess Emissions'!C463=\"\",\"\",'Excess Emissions'!C463)","v":""},{"$f":"IF('Excess Emissions'!D463=\"\",\"\",'Excess Emissions'!D463)","v":""},"",{"$f":"IF(COUNTIF(AE$2:AE441,AE441)=1,AC441,\"\")","v":""},"","","",null,{"$f":"+IF(AP441=\"\",\"\",MAX(AK$1:AK440)+1)","v":""},{"$f":"IF('CMS Downtime Detail'!B463=\"\",\"\",'CMS Downtime Detail'!B463)","v":""},{"$f":"IF('CMS Downtime Detail'!C463=\"\",\"\",'CMS Downtime Detail'!C463)","v":""},{"$f":"IF('CMS Downtime Detail'!D463=\"\",\"\",'CMS Downtime Detail'!D463)","v":""},"",{"$f":"IF(COUNTIF(AO$2:AO441,AO441)=1,AM441,\"\")","v":""},"","","",null,{"$f":"+IF(AZ441=\"\",\"\",MAX(AU$1:AU440)+1)","v":""},{"$f":"IF('Process and CMS Information'!B463=\"\",\"\",'Process and CMS Information'!B463)","v":""},{"$f":"IF('Process and CMS Information'!C463=\"\",\"\",'Process and CMS Information'!C463)","v":""},{"$f":"IF('Process and CMS Information'!F463=\"\",\"\",'Process and CMS Information'!F463)","v":""},"",{"$f":"IF(COUNTIF(AY$2:AY441,AY441)=1,AY441,\"\")","v":""},"","","",""]
[null,null,null,null,null,null,null,null,null,null,null,null,null,null,null,null,null,null,null,null,null,null,null,null,null,null,{"$f":"+IF(AF442=\"\",\"\",MAX(AA$1:AA441)+1)","v":""},{"$f":"IF('Excess Emissions'!B464=\"\",\"\",'Excess Emissions'!B464)","v":""},{"$f":"IF('Excess Emissions'!C464=\"\",\"\",'Excess Emissions'!C464)","v":""},{"$f":"IF('Excess Emissions'!D464=\"\",\"\",'Excess Emissions'!D464)","v":""},"",{"$f":"IF(COUNTIF(AE$2:AE442,AE442)=1,AC442,\"\")","v":""},"","","",null,{"$f":"+IF(AP442=\"\",\"\",MAX(AK$1:AK441)+1)","v":""},{"$f":"IF('CMS Downtime Detail'!B464=\"\",\"\",'CMS Downtime Detail'!B464)","v":""},{"$f":"IF('CMS Downtime Detail'!C464=\"\",\"\",'CMS Downtime Detail'!C464)","v":""},{"$f":"IF('CMS Downtime Detail'!D464=\"\",\"\",'CMS Downtime Detail'!D464)","v":""},"",{"$f":"IF(COUNTIF(AO$2:AO442,AO442)=1,AM442,\"\")","v":""},"","","",null,{"$f":"+IF(AZ442=\"\",\"\",MAX(AU$1:AU441)+1)","v":""},{"$f":"IF('Process and CMS Information'!B464=\"\",\"\",'Process and CMS Information'!B464)","v":""},{"$f":"IF('Process and CMS Information'!C464=\"\",\"\",'Process and CMS Information'!C464)","v":""},{"$f":"IF('Process and CMS Information'!F464=\"\",\"\",'Process and CMS Information'!F464)","v":""},"",{"$f":"IF(COUNTIF(AY$2:AY442,AY442)=1,AY442,\"\")","v":""},"","","",""]
[null,null,null,null,null,null,null,null,null,null,null,null,null,null,null,null,null,null,null,null,null,null,null,null,null,null,{"$f":"+IF(AF443=\"\",\"\",MAX(AA$1:AA442)+1)","v":""},{"$f":"IF('Excess Emissions'!B465=\"\",\"\",'Excess Emissions'!B465)","v":""},{"$f":"IF('Excess Emissions'!C465=\"\",\"\",'Excess Emissions'!C465)","v":""},{"$f":"IF('Excess Emissions'!D465=\"\",\"\",'Excess Emissions'!D465)","v":""},"",{"$f":"IF(COUNTIF(AE$2:AE443,AE443)=1,AC443,\"\")","v":""},"","","",null,{"$f":"+IF(AP443=\"\",\"\",MAX(AK$1:AK442)+1)","v":""},{"$f":"IF('CMS Downtime Detail'!B465=\"\",\"\",'CMS Downtime Detail'!B465)","v":""},{"$f":"IF('CMS Downtime Detail'!C465=\"\",\"\",'CMS Downtime Detail'!C465)","v":""},{"$f":"IF('CMS Downtime Detail'!D465=\"\",\"\",'CMS Downtime Detail'!D465)","v":""},"",{"$f":"IF(COUNTIF(AO$2:AO443,AO443)=1,AM443,\"\")","v":""},"","","",null,{"$f":"+IF(AZ443=\"\",\"\",MAX(AU$1:AU442)+1)","v":""},{"$f":"IF('Process and CMS Information'!B465=\"\",\"\",'Process and CMS Information'!B465)","v":""},{"$f":"IF('Process and CMS Information'!C465=\"\",\"\",'Process and CMS Information'!C465)","v":""},{"$f":"IF('Process and CMS Information'!F465=\"\",\"\",'Process and CMS Information'!F465)","v":""},"",{"$f":"IF(COUNTIF(AY$2:AY443,AY443)=1,AY443,\"\")","v":""},"","","",""]
[null,null,null,null,null,null,null,null,null,null,null,null,null,null,null,null,null,null,null,null,null,null,null,null,null,null,{"$f":"+IF(AF444=\"\",\"\",MAX(AA$1:AA443)+1)","v":""},{"$f":"IF('Excess Emissions'!B466=\"\",\"\",'Excess Emissions'!B466)","v":""},{"$f":"IF('Excess Emissions'!C466=\"\",\"\",'Excess Emissions'!C466)","v":""},{"$f":"IF('Excess Emissions'!D466=\"\",\"\",'Excess Emissions'!D466)","v":""},"",{"$f":"IF(COUNTIF(AE$2:AE444,AE444)=1,AC444,\"\")","v":""},"","","",null,{"$f":"+IF(AP444=\"\",\"\",MAX(AK$1:AK443)+1)","v":""},{"$f":"IF('CMS Downtime Detail'!B466=\"\",\"\",'CMS Downtime Detail'!B466)","v":""},{"$f":"IF('CMS Downtime Detail'!C466=\"\",\"\",'CMS Downtime Detail'!C466)","v":""},{"$f":"IF('CMS Downtime Detail'!D466=\"\",\"\",'CMS Downtime Detail'!D466)","v":""},"",{"$f":"IF(COUNTIF(AO$2:AO444,AO444)=1,AM444,\"\")","v":""},"","","",null,{"$f":"+IF(AZ444=\"\",\"\",MAX(AU$1:AU443)+1)","v":""},{"$f":"IF('Process and CMS Information'!B466=\"\",\"\",'Process and CMS Information'!B466)","v":""},{"$f":"IF('Process and CMS Information'!C466=\"\",\"\",'Process and CMS Information'!C466)","v":""},{"$f":"IF('Process and CMS Information'!F466=\"\",\"\",'Process and CMS Information'!F466)","v":""},"",{"$f":"IF(COUNTIF(AY$2:AY444,AY444)=1,AY444,\"\")","v":""},"","","",""]
[null,null,null,null,null,null,null,null,null,null,null,null,null,null,null,null,null,null,null,null,null,null,null,null,null,null,{"$f":"+IF(AF445=\"\",\"\",MAX(AA$1:AA444)+1)","v":""},{"$f":"IF('Excess Emissions'!B467=\"\",\"\",'Excess Emissions'!B467)","v":""},{"$f":"IF('Excess Emissions'!C467=\"\",\"\",'Excess Emissions'!C467)","v":""},{"$f":"IF('Excess Emissions'!D467=\"\",\"\",'Excess Emissions'!D467)","v":""},"",{"$f":"IF(COUNTIF(AE$2:AE445,AE445)=1,AC445,\"\")","v":""},"","","",null,{"$f":"+IF(AP445=\"\",\"\",MAX(AK$1:AK444)+1)","v":""},{"$f":"IF('CMS Downtime Detail'!B467=\"\",\"\",'CMS Downtime Detail'!B467)","v":""},{"$f":"IF('CMS Downtime Detail'!C467=\"\",\"\",'CMS Downtime Detail'!C467)","v":""},{"$f":"IF('CMS Downtime Detail'!D467=\"\",\"\",'CMS Downtime Detail'!D467)","v":""},"",{"$f":"IF(COUNTIF(AO$2:AO445,AO445)=1,AM445,\"\")","v":""},"","","",null,{"$f":"+IF(AZ445=\"\",\"\",MAX(AU$1:AU444)+1)","v":""},{"$f":"IF('Process and CMS Information'!B467=\"\",\"\",'Process and CMS Information'!B467)","v":""},{"$f":"IF('Process and CMS Information'!C467=\"\",\"\",'Process and CMS Information'!C467)","v":""},{"$f":"IF('Process and CMS Information'!F467=\"\",\"\",'Process and CMS Information'!F467)","v":""},"",{"$f":"IF(COUNTIF(AY$2:AY445,AY445)=1,AY445,\"\")","v":""},"","","",""]
[null,null,null,null,null,null,null,null,null,null,null,null,null,null,null,null,null,null,null,null,null,null,null,null,null,null,{"$f":"+IF(AF446=\"\",\"\",MAX(AA$1:AA445)+1)","v":""},{"$f":"IF('Excess Emissions'!B468=\"\",\"\",'Excess Emissions'!B468)","v":""},{"$f":"IF('Excess Emissions'!C468=\"\",\"\",'Excess Emissions'!C468)","v":""},{"$f":"IF('Excess Emissions'!D468=\"\",\"\",'Excess Emissions'!D468)","v":""},"",{"$f":"IF(COUNTIF(AE$2:AE446,AE446)=1,AC446,\"\")","v":""},"","","",null,{"$f":"+IF(AP446=\"\",\"\",MAX(AK$1:AK445)+1)","v":""},{"$f":"IF('CMS Downtime Detail'!B468=\"\",\"\",'CMS Downtime Detail'!B468)","v":""},{"$f":"IF('CMS Downtime Detail'!C468=\"\",\"\",'CMS Downtime Detail'!C468)","v":""},{"$f":"IF('CMS Downtime Detail'!D468=\"\",\"\",'CMS Downtime Detail'!D468)","v":""},"",{"$f":"IF(COUNTIF(AO$2:AO446,AO446)=1,AM446,\"\")","v":""},"","","",null,{"$f":"+IF(AZ446=\"\",\"\",MAX(AU$1:AU445)+1)","v":""},{"$f":"IF('Process and CMS Information'!B468=\"\",\"\",'Process and CMS Information'!B468)","v":""},{"$f":"IF('Process and CMS Information'!C468=\"\",\"\",'Process and CMS Information'!C468)","v":""},{"$f":"IF('Process and CMS Information'!F468=\"\",\"\",'Process and CMS Information'!F468)","v":""},"",{"$f":"IF(COUNTIF(AY$2:AY446,AY446)=1,AY446,\"\")","v":""},"","","",""]
[null,null,null,null,null,null,null,null,null,null,null,null,null,null,null,null,null,null,null,null,null,null,null,null,null,null,{"$f":"+IF(AF447=\"\",\"\",MAX(AA$1:AA446)+1)","v":""},{"$f":"IF('Excess Emissions'!B469=\"\",\"\",'Excess Emissions'!B469)","v":""},{"$f":"IF('Excess Emissions'!C469=\"\",\"\",'Excess Emissions'!C469)","v":""},{"$f":"IF('Excess Emissions'!D469=\"\",\"\",'Excess Emissions'!D469)","v":""},"",{"$f":"IF(COUNTIF(AE$2:AE447,AE447)=1,AC447,\"\")","v":""},"","","",null,{"$f":"+IF(AP447=\"\",\"\",MAX(AK$1:AK446)+1)","v":""},{"$f":"IF('CMS Downtime Detail'!B469=\"\",\"\",'CMS Downtime Detail'!B469)","v":""},{"$f":"IF('CMS Downtime Detail'!C469=\"\",\"\",'CMS Downtime Detail'!C469)","v":""},{"$f":"IF('CMS Downtime Detail'!D469=\"\",\"\",'CMS Downtime Detail'!D469)","v":""},"",{"$f":"IF(COUNTIF(AO$2:AO447,AO447)=1,AM447,\"\")","v":""},"","","",null,{"$f":"+IF(AZ447=\"\",\"\",MAX(AU$1:AU446)+1)","v":""},{"$f":"IF('Process and CMS Information'!B469=\"\",\"\",'Process and CMS Information'!B469)","v":""},{"$f":"IF('Process and CMS Information'!C469=\"\",\"\",'Process and CMS Information'!C469)","v":""},{"$f":"IF('Process and CMS Information'!F469=\"\",\"\",'Process and CMS Information'!F469)","v":""},"",{"$f":"IF(COUNTIF(AY$2:AY447,AY447)=1,AY447,\"\")","v":""},"","","",""]
[null,null,null,null,null,null,null,null,null,null,null,null,null,null,null,null,null,null,null,null,null,null,null,null,null,null,{"$f":"+IF(AF448=\"\",\"\",MAX(AA$1:AA447)+1)","v":""},{"$f":"IF('Excess Emissions'!B470=\"\",\"\",'Excess Emissions'!B470)","v":""},{"$f":"IF('Excess Emissions'!C470=\"\",\"\",'Excess Emissions'!C470)","v":""},{"$f":"IF('Excess Emissions'!D470=\"\",\"\",'Excess Emissions'!D470)","v":""},"",{"$f":"IF(COUNTIF(AE$2:AE448,AE448)=1,AC448,\"\")","v":""},"","","",null,{"$f":"+IF(AP448=\"\",\"\",MAX(AK$1:AK447)+1)","v":""},{"$f":"IF('CMS Downtime Detail'!B470=\"\",\"\",'CMS Downtime Detail'!B470)","v":""},{"$f":"IF('CMS Downtime Detail'!C470=\"\",\"\",'CMS Downtime Detail'!C470)","v":""},{"$f":"IF('CMS Downtime Detail'!D470=\"\",\"\",'CMS Downtime Detail'!D470)","v":""},"",{"$f":"IF(COUNTIF(AO$2:AO448,AO448)=1,AM448,\"\")","v":""},"","","",null,{"$f":"+IF(AZ448=\"\",\"\",MAX(AU$1:AU447)+1)","v":""},{"$f":"IF('Process and CMS Information'!B470=\"\",\"\",'Process and CMS Information'!B470)","v":""},{"$f":"IF('Process and CMS Information'!C470=\"\",\"\",'Process and CMS Information'!C470)","v":""},{"$f":"IF('Process and CMS Information'!F470=\"\",\"\",'Process and CMS Information'!F470)","v":""},"",{"$f":"IF(COUNTIF(AY$2:AY448,AY448)=1,AY448,\"\")","v":""},"","","",""]
[null,null,null,null,null,null,null,null,null,null,null,null,null,null,null,null,null,null,null,null,null,null,null,null,null,null,{"$f":"+IF(AF449=\"\",\"\",MAX(AA$1:AA448)+1)","v":""},{"$f":"IF('Excess Emissions'!B471=\"\",\"\",'Excess Emissions'!B471)","v":""},{"$f":"IF('Excess Emissions'!C471=\"\",\"\",'Excess Emissions'!C471)","v":""},{"$f":"IF('Excess Emissions'!D471=\"\",\"\",'Excess Emissions'!D471)","v":""},"",{"$f":"IF(COUNTIF(AE$2:AE449,AE449)=1,AC449,\"\")","v":""},"","","",null,{"$f":"+IF(AP449=\"\",\"\",MAX(AK$1:AK448)+1)","v":""},{"$f":"IF('CMS Downtime Detail'!B471=\"\",\"\",'CMS Downtime Detail'!B471)","v":""},{"$f":"IF('CMS Downtime Detail'!C471=\"\",\"\",'CMS Downtime Detail'!C471)","v":""},{"$f":"IF('CMS Downtime Detail'!D471=\"\",\"\",'CMS Downtime Detail'!D471)","v":""},"",{"$f":"IF(COUNTIF(AO$2:AO449,AO449)=1,AM449,\"\")","v":""},"","","",null,{"$f":"+IF(AZ449=\"\",\"\",MAX(AU$1:AU448)+1)","v":""},{"$f":"IF('Process and CMS Information'!B471=\"\",\"\",'Process and CMS Information'!B471)","v":""},{"$f":"IF('Process and CMS Information'!C471=\"\",\"\",'Process and CMS Information'!C471)","v":""},{"$f":"IF('Process and CMS Information'!F471=\"\",\"\",'Process and CMS Information'!F471)","v":""},"",{"$f":"IF(COUNTIF(AY$2:AY449,AY449)=1,AY449,\"\")","v":""},"","","",""]
[null,null,null,null,null,null,null,null,null,null,null,null,null,null,null,null,null,null,null,null,null,null,null,null,null,null,{"$f":"+IF(AF450=\"\",\"\",MAX(AA$1:AA449)+1)","v":""},{"$f":"IF('Excess Emissions'!B472=\"\",\"\",'Excess Emissions'!B472)","v":""},{"$f":"IF('Excess Emissions'!C472=\"\",\"\",'Excess Emissions'!C472)","v":""},{"$f":"IF('Excess Emissions'!D472=\"\",\"\",'Excess Emissions'!D472)","v":""},"",{"$f":"IF(COUNTIF(AE$2:AE450,AE450)=1,AC450,\"\")","v":""},"","","",null,{"$f":"+IF(AP450=\"\",\"\",MAX(AK$1:AK449)+1)","v":""},{"$f":"IF('CMS Downtime Detail'!B472=\"\",\"\",'CMS Downtime Detail'!B472)","v":""},{"$f":"IF('CMS Downtime Detail'!C472=\"\",\"\",'CMS Downtime Detail'!C472)","v":""},{"$f":"IF('CMS Downtime Detail'!D472=\"\",\"\",'CMS Downtime Detail'!D472)","v":""},"",{"$f":"IF(COUNTIF(AO$2:AO450,AO450)=1,AM450,\"\")","v":""},"","","",null,{"$f":"+IF(AZ450=\"\",\"\",MAX(AU$1:AU449)+1)","v":""},{"$f":"IF('Process and CMS Information'!B472=\"\",\"\",'Process and CMS Information'!B472)","v":""},{"$f":"IF('Process and CMS Information'!C472=\"\",\"\",'Process and CMS Information'!C472)","v":""},{"$f":"IF('Process and CMS Information'!F472=\"\",\"\",'Process and CMS Information'!F472)","v":""},"",{"$f":"IF(COUNTIF(AY$2:AY450,AY450)=1,AY450,\"\")","v":""},"","","",""]
[null,null,null,null,null,null,null,null,null,null,null,null,null,null,null,null,null,null,null,null,null,null,null,null,null,null,{"$f":"+IF(AF451=\"\",\"\",MAX(AA$1:AA450)+1)","v":""},{"$f":"IF('Excess Emissions'!B473=\"\",\"\",'Excess Emissions'!B473)","v":""},{"$f":"IF('Excess Emissions'!C473=\"\",\"\",'Excess Emissions'!C473)","v":""},{"$f":"IF('Excess Emissions'!D473=\"\",\"\",'Excess Emissions'!D473)","v":""},{"$f":"AB451&AC451&AD451","v":""},{"$f":"IF(COUNTIF(AE$2:AE451,AE451)=1,AC451,\"\")","v":""},{"$f":"+IFERROR(INDEX(AB$2:AB$500,MATCH(ROW()-ROW($AF$1),$AA$2:$AA$500,0)),\"\")","v":""},{"$f":"+IFERROR(INDEX(AC$2:AC$500,MATCH(ROW()-ROW($AF$1),$AA$2:$AA$500,0)),\"\")","v":""},{"$f":"+IFERROR(INDEX(AD$2:AD$500,MATCH(ROW()-ROW($AF$1),$AA$2:$AA$500,0)),\"\")","v":""},null,{"$f":"+IF(AP451=\"\",\"\",MAX(AK$1:AK450)+1)","v":""},{"$f":"IF('CMS Downtime Detail'!B473=\"\",\"\",'CMS Downtime Detail'!B473)","v":""},{"$f":"IF('CMS Downtime Detail'!C473=\"\",\"\",'CMS Downtime Detail'!C473)","v":""},{"$f":"IF('CMS Downtime Detail'!D473=\"\",\"\",'CMS Downtime Detail'!D473)","v":""},{"$f":"AL451&AM451&AN451","v":""},{"$f":"IF(COUNTIF(AO$2:AO451,AO451)=1,AM451,\"\")","v":""},{"$f":"+IFERROR(INDEX(AL$2:AL$500,MATCH(ROW()-ROW($AP$1),$AK$2:$AK$500,0)),\"\")","v":""},{"$f":"+IFERROR(INDEX(AM$2:AM$500,MATCH(ROW()-ROW($AP$1),$AK$2:$AK$500,0)),\"\")","v":""},{"$f":"+IFERROR(INDEX(AN$2:AN$500,MATCH(ROW()-ROW($AP$1),$AK$2:$AK$500,0)),\"\")","v":""},null,{"$f":"+IF(AZ451=\"\",\"\",MAX(AU$1:AU450)+1)","v":""},{"$f":"IF('Process and CMS Information'!B473=\"\",\"\",'Process and CMS Information'!B473)","v":""},{"$f":"IF('Process and CMS Information'!C473=\"\",\"\",'Process and CMS Information'!C473)","v":""},{"$f":"IF('Process and CMS Information'!F473=\"\",\"\",'Process and CMS Information'!F473)","v":""},{"$f":"AV451&AW451","v":""},{"$f":"IF(COUNTIF(AY$2:AY451,AY451)=1,AY451,\"\")","v":""},{"$f":"+IFERROR(INDEX(AY$2:AY$500,MATCH(ROW()-ROW($AZ$1),$AU$2:$AU$500,0)),\"\")","v":""},{"$f":"+IFERROR(INDEX(AV$2:AV$500,MATCH(ROW()-ROW($AZ$1),$AU$2:$AU$500,0)),\"\")","v":""},{"$f":"+IFERROR(INDEX(AW$2:AW$500,MATCH(ROW()-ROW($AZ$1),$AU$2:$AU$500,0)),\"\")","v":""},{"$f":"+IFERROR(INDEX(AX$2:AX$500,MATCH(ROW()-ROW($AZ$1),$AU$2:$AU$500,0)),\"\")","v":""}]
[null,null,null,null,null,null,null,null,null,null,null,null,null,null,null,null,null,null,null,null,null,null,null,null,null,null,{"$f":"+IF(AF452=\"\",\"\",MAX(AA$1:AA451)+1)","v":""},{"$f":"IF('Excess Emissions'!B474=\"\",\"\",'Excess Emissions'!B474)","v":""},{"$f":"IF('Excess Emissions'!C474=\"\",\"\",'Excess Emissions'!C474)","v":""},{"$f":"IF('Excess Emissions'!D474=\"\",\"\",'Excess Emissions'!D474)","v":""},"",{"$f":"IF(COUNTIF(AE$2:AE452,AE452)=1,AC452,\"\")","v":""},"","","",null,{"$f":"+IF(AP452=\"\",\"\",MAX(AK$1:AK451)+1)","v":""},{"$f":"IF('CMS Downtime Detail'!B474=\"\",\"\",'CMS Downtime Detail'!B474)","v":""},{"$f":"IF('CMS Downtime Detail'!C474=\"\",\"\",'CMS Downtime Detail'!C474)","v":""},{"$f":"IF('CMS Downtime Detail'!D474=\"\",\"\",'CMS Downtime Detail'!D474)","v":""},"",{"$f":"IF(COUNTIF(AO$2:AO452,AO452)=1,AM452,\"\")","v":""},"","","",null,{"$f":"+IF(AZ452=\"\",\"\",MAX(AU$1:AU451)+1)","v":""},{"$f":"IF('Process and CMS Information'!B474=\"\",\"\",'Process and CMS Information'!B474)","v":""},{"$f":"IF('Process and CMS Information'!C474=\"\",\"\",'Process and CMS Information'!C474)","v":""},{"$f":"IF('Process and CMS Information'!F474=\"\",\"\",'Process and CMS Information'!F474)","v":""},"",{"$f":"IF(COUNTIF(AY$2:AY452,AY452)=1,AY452,\"\")","v":""},"","","",""]
[null,null,null,null,null,null,null,null,null,null,null,null,null,null,null,null,null,null,null,null,null,null,null,null,null,null,{"$f":"+IF(AF453=\"\",\"\",MAX(AA$1:AA452)+1)","v":""},{"$f":"IF('Excess Emissions'!B475=\"\",\"\",'Excess Emissions'!B475)","v":""},{"$f":"IF('Excess Emissions'!C475=\"\",\"\",'Excess Emissions'!C475)","v":""},{"$f":"IF('Excess Emissions'!D475=\"\",\"\",'Excess Emissions'!D475)","v":""},"",{"$f":"IF(COUNTIF(AE$2:AE453,AE453)=1,AC453,\"\")","v":""},"","","",null,{"$f":"+IF(AP453=\"\",\"\",MAX(AK$1:AK452)+1)","v":""},{"$f":"IF('CMS Downtime Detail'!B475=\"\",\"\",'CMS Downtime Detail'!B475)","v":""},{"$f":"IF('CMS Downtime Detail'!C475=\"\",\"\",'CMS Downtime Detail'!C475)","v":""},{"$f":"IF('CMS Downtime Detail'!D475=\"\",\"\",'CMS Downtime Detail'!D475)","v":""},"",{"$f":"IF(COUNTIF(AO$2:AO453,AO453)=1,AM453,\"\")","v":""},"","","",null,{"$f":"+IF(AZ453=\"\",\"\",MAX(AU$1:AU452)+1)","v":""},{"$f":"IF('Process and CMS Information'!B475=\"\",\"\",'Process and CMS Information'!B475)","v":""},{"$f":"IF('Process and CMS Information'!C475=\"\",\"\",'Process and CMS Information'!C475)","v":""},{"$f":"IF('Process and CMS Information'!F475=\"\",\"\",'Process and CMS Information'!F475)","v":""},"",{"$f":"IF(COUNTIF(AY$2:AY453,AY453)=1,AY453,\"\")","v":""},"","","",""]
[null,null,null,null,null,null,null,null,null,null,null,null,null,null,null,null,null,null,null,null,null,null,null,null,null,null,{"$f":"+IF(AF454=\"\",\"\",MAX(AA$1:AA453)+1)","v":""},{"$f":"IF('Excess Emissions'!B476=\"\",\"\",'Excess Emissions'!B476)","v":""},{"$f":"IF('Excess Emissions'!C476=\"\",\"\",'Excess Emissions'!C476)","v":""},{"$f":"IF('Excess Emissions'!D476=\"\",\"\",'Excess Emissions'!D476)","v":""},"",{"$f":"IF(COUNTIF(AE$2:AE454,AE454)=1,AC454,\"\")","v":""},"","","",null,{"$f":"+IF(AP454=\"\",\"\",MAX(AK$1:AK453)+1)","v":""},{"$f":"IF('CMS Downtime Detail'!B476=\"\",\"\",'CMS Downtime Detail'!B476)","v":""},{"$f":"IF('CMS Downtime Detail'!C476=\"\",\"\",'CMS Downtime Detail'!C476)","v":""},{"$f":"IF('CMS Downtime Detail'!D476=\"\",\"\",'CMS Downtime Detail'!D476)","v":""},"",{"$f":"IF(COUNTIF(AO$2:AO454,AO454)=1,AM454,\"\")","v":""},"","","",null,{"$f":"+IF(AZ454=\"\",\"\",MAX(AU$1:AU453)+1)","v":""},{"$f":"IF('Process and CMS Information'!B476=\"\",\"\",'Process and CMS Information'!B476)","v":""},{"$f":"IF('Process and CMS Information'!C476=\"\",\"\",'Process and CMS Information'!C476)","v":""},{"$f":"IF('Process and CMS Information'!F476=\"\",\"\",'Process and CMS Information'!F476)","v":""},"",{"$f":"IF(COUNTIF(AY$2:AY454,AY454)=1,AY454,\"\")","v":""},"","","",""]
[null,null,null,null,null,null,null,null,null,null,null,null,null,null,null,null,null,null,null,null,null,null,null,null,null,null,{"$f":"+IF(AF455=\"\",\"\",MAX(AA$1:AA454)+1)","v":""},{"$f":"IF('Excess Emissions'!B477=\"\",\"\",'Excess Emissions'!B477)","v":""},{"$f":"IF('Excess Emissions'!C477=\"\",\"\",'Excess Emissions'!C477)","v":""},{"$f":"IF('Excess Emissions'!D477=\"\",\"\",'Excess Emissions'!D477)","v":""},"",{"$f":"IF(COUNTIF(AE$2:AE455,AE455)=1,AC455,\"\")","v":""},"","","",null,{"$f":"+IF(AP455=\"\",\"\",MAX(AK$1:AK454)+1)","v":""},{"$f":"IF('CMS Downtime Detail'!B477=\"\",\"\",'CMS Downtime Detail'!B477)","v":""},{"$f":"IF('CMS Downtime Detail'!C477=\"\",\"\",'CMS Downtime Detail'!C477)","v":""},{"$f":"IF('CMS Downtime Detail'!D477=\"\",\"\",'CMS Downtime Detail'!D477)","v":""},"",{"$f":"IF(COUNTIF(AO$2:AO455,AO455)=1,AM455,\"\")","v":""},"","","",null,{"$f":"+IF(AZ455=\"\",\"\",MAX(AU$1:AU454)+1)","v":""},{"$f":"IF('Process and CMS Information'!B477=\"\",\"\",'Process and CMS Information'!B477)","v":""},{"$f":"IF('Process and CMS Information'!C477=\"\",\"\",'Process and CMS Information'!C477)","v":""},{"$f":"IF('Process and CMS Information'!F477=\"\",\"\",'Process and CMS Information'!F477)","v":""},"",{"$f":"IF(COUNTIF(AY$2:AY455,AY455)=1,AY455,\"\")","v":""},"","","",""]
[null,null,null,null,null,null,null,null,null,null,null,null,null,null,null,null,null,null,null,null,null,null,null,null,null,null,{"$f":"+IF(AF456=\"\",\"\",MAX(AA$1:AA455)+1)","v":""},{"$f":"IF('Excess Emissions'!B478=\"\",\"\",'Excess Emissions'!B478)","v":""},{"$f":"IF('Excess Emissions'!C478=\"\",\"\",'Excess Emissions'!C478)","v":""},{"$f":"IF('Excess Emissions'!D478=\"\",\"\",'Excess Emissions'!D478)","v":""},"",{"$f":"IF(COUNTIF(AE$2:AE456,AE456)=1,AC456,\"\")","v":""},"","","",null,{"$f":"+IF(AP456=\"\",\"\",MAX(AK$1:AK455)+1)","v":""},{"$f":"IF('CMS Downtime Detail'!B478=\"\",\"\",'CMS Downtime Detail'!B478)","v":""},{"$f":"IF('CMS Downtime Detail'!C478=\"\",\"\",'CMS Downtime Detail'!C478)","v":""},{"$f":"IF('CMS Downtime Detail'!D478=\"\",\"\",'CMS Downtime Detail'!D478)","v":""},"",{"$f":"IF(COUNTIF(AO$2:AO456,AO456)=1,AM456,\"\")","v":""},"","","",null,{"$f":"+IF(AZ456=\"\",\"\",MAX(AU$1:AU455)+1)","v":""},{"$f":"IF('Process and CMS Information'!B478=\"\",\"\",'Process and CMS Information'!B478)","v":""},{"$f":"IF('Process and CMS Information'!C478=\"\",\"\",'Process and CMS Information'!C478)","v":""},{"$f":"IF('Process and CMS Information'!F478=\"\",\"\",'Process and CMS Information'!F478)","v":""},"",{"$f":"IF(COUNTIF(AY$2:AY456,AY456)=1,AY456,\"\")","v":""},"","","",""]
[null,null,null,null,null,null,null,null,null,null,null,null,null,null,null,null,null,null,null,null,null,null,null,null,null,null,{"$f":"+IF(AF457=\"\",\"\",MAX(AA$1:AA456)+1)","v":""},{"$f":"IF('Excess Emissions'!B479=\"\",\"\",'Excess Emissions'!B479)","v":""},{"$f":"IF('Excess Emissions'!C479=\"\",\"\",'Excess Emissions'!C479)","v":""},{"$f":"IF('Excess Emissions'!D479=\"\",\"\",'Excess Emissions'!D479)","v":""},"",{"$f":"IF(COUNTIF(AE$2:AE457,AE457)=1,AC457,\"\")","v":""},"","","",null,{"$f":"+IF(AP457=\"\",\"\",MAX(AK$1:AK456)+1)","v":""},{"$f":"IF('CMS Downtime Detail'!B479=\"\",\"\",'CMS Downtime Detail'!B479)","v":""},{"$f":"IF('CMS Downtime Detail'!C479=\"\",\"\",'CMS Downtime Detail'!C479)","v":""},{"$f":"IF('CMS Downtime Detail'!D479=\"\",\"\",'CMS Downtime Detail'!D479)","v":""},"",{"$f":"IF(COUNTIF(AO$2:AO457,AO457)=1,AM457,\"\")","v":""},"","","",null,{"$f":"+IF(AZ457=\"\",\"\",MAX(AU$1:AU456)+1)","v":""},{"$f":"IF('Process and CMS Information'!B479=\"\",\"\",'Process and CMS Information'!B479)","v":""},{"$f":"IF('Process and CMS Information'!C479=\"\",\"\",'Process and CMS Information'!C479)","v":""},{"$f":"IF('Process and CMS Information'!F479=\"\",\"\",'Process and CMS Information'!F479)","v":""},"",{"$f":"IF(COUNTIF(AY$2:AY457,AY457)=1,AY457,\"\")","v":""},"","","",""]
[null,null,null,null,null,null,null,null,null,null,null,null,null,null,null,null,null,null,null,null,null,null,null,null,null,null,{"$f":"+IF(AF458=\"\",\"\",MAX(AA$1:AA457)+1)","v":""},{"$f":"IF('Excess Emissions'!B480=\"\",\"\",'Excess Emissions'!B480)","v":""},{"$f":"IF('Excess Emissions'!C480=\"\",\"\",'Excess Emissions'!C480)","v":""},{"$f":"IF('Excess Emissions'!D480=\"\",\"\",'Excess Emissions'!D480)","v":""},"",{"$f":"IF(COUNTIF(AE$2:AE458,AE458)=1,AC458,\"\")","v":""},"","","",null,{"$f":"+IF(AP458=\"\",\"\",MAX(AK$1:AK457)+1)","v":""},{"$f":"IF('CMS Downtime Detail'!B480=\"\",\"\",'CMS Downtime Detail'!B480)","v":""},{"$f":"IF('CMS Downtime Detail'!C480=\"\",\"\",'CMS Downtime Detail'!C480)","v":""},{"$f":"IF('CMS Downtime Detail'!D480=\"\",\"\",'CMS Downtime Detail'!D480)","v":""},"",{"$f":"IF(COUNTIF(AO$2:AO458,AO458)=1,AM458,\"\")","v":""},"","","",null,{"$f":"+IF(AZ458=\"\",\"\",MAX(AU$1:AU457)+1)","v":""},{"$f":"IF('Process and CMS Information'!B480=\"\",\"\",'Process and CMS Information'!B480)","v":""},{"$f":"IF('Process and CMS Information'!C480=\"\",\"\",'Process and CMS Information'!C480)","v":""},{"$f":"IF('Process and CMS Information'!F480=\"\",\"\",'Process and CMS Information'!F480)","v":""},"",{"$f":"IF(COUNTIF(AY$2:AY458,AY458)=1,AY458,\"\")","v":""},"","","",""]
[null,null,null,null,null,null,null,null,null,null,null,null,null,null,null,null,null,null,null,null,null,null,null,null,null,null,{"$f":"+IF(AF459=\"\",\"\",MAX(AA$1:AA458)+1)","v":""},{"$f":"IF('Excess Emissions'!B481=\"\",\"\",'Excess Emissions'!B481)","v":""},{"$f":"IF('Excess Emissions'!C481=\"\",\"\",'Excess Emissions'!C481)","v":""},{"$f":"IF('Excess Emissions'!D481=\"\",\"\",'Excess Emissions'!D481)","v":""},"",{"$f":"IF(COUNTIF(AE$2:AE459,AE459)=1,AC459,\"\")","v":""},"","","",null,{"$f":"+IF(AP459=\"\",\"\",MAX(AK$1:AK458)+1)","v":""},{"$f":"IF('CMS Downtime Detail'!B481=\"\",\"\",'CMS Downtime Detail'!B481)","v":""},{"$f":"IF('CMS Downtime Detail'!C481=\"\",\"\",'CMS Downtime Detail'!C481)","v":""},{"$f":"IF('CMS Downtime Detail'!D481=\"\",\"\",'CMS Downtime Detail'!D481)","v":""},"",{"$f":"IF(COUNTIF(AO$2:AO459,AO459)=1,AM459,\"\")","v":""},"","","",null,{"$f":"+IF(AZ459=\"\",\"\",MAX(AU$1:AU458)+1)","v":""},{"$f":"IF('Process and CMS Information'!B481=\"\",\"\",'Process and CMS Information'!B481)","v":""},{"$f":"IF('Process and CMS Information'!C481=\"\",\"\",'Process and CMS Information'!C481)","v":""},{"$f":"IF('Process and CMS Information'!F481=\"\",\"\",'Process and CMS Information'!F481)","v":""},"",{"$f":"IF(COUNTIF(AY$2:AY459,AY459)=1,AY459,\"\")","v":""},"","","",""]
[null,null,null,null,null,null,null,null,null,null,null,null,null,null,null,null,null,null,null,null,null,null,null,null,null,null,{"$f":"+IF(AF460=\"\",\"\",MAX(AA$1:AA459)+1)","v":""},{"$f":"IF('Excess Emissions'!B482=\"\",\"\",'Excess Emissions'!B482)","v":""},{"$f":"IF('Excess Emissions'!C482=\"\",\"\",'Excess Emissions'!C482)","v":""},{"$f":"IF('Excess Emissions'!D482=\"\",\"\",'Excess Emissions'!D482)","v":""},"",{"$f":"IF(COUNTIF(AE$2:AE460,AE460)=1,AC460,\"\")","v":""},"","","",null,{"$f":"+IF(AP460=\"\",\"\",MAX(AK$1:AK459)+1)","v":""},{"$f":"IF('CMS Downtime Detail'!B482=\"\",\"\",'CMS Downtime Detail'!B482)","v":""},{"$f":"IF('CMS Downtime Detail'!C482=\"\",\"\",'CMS Downtime Detail'!C482)","v":""},{"$f":"IF('CMS Downtime Detail'!D482=\"\",\"\",'CMS Downtime Detail'!D482)","v":""},"",{"$f":"IF(COUNTIF(AO$2:AO460,AO460)=1,AM460,\"\")","v":""},"","","",null,{"$f":"+IF(AZ460=\"\",\"\",MAX(AU$1:AU459)+1)","v":""},{"$f":"IF('Process and CMS Information'!B482=\"\",\"\",'Process and CMS Information'!B482)","v":""},{"$f":"IF('Process and CMS Information'!C482=\"\",\"\",'Process and CMS Information'!C482)","v":""},{"$f":"IF('Process and CMS Information'!F482=\"\",\"\",'Process and CMS Information'!F482)","v":""},"",{"$f":"IF(COUNTIF(AY$2:AY460,AY460)=1,AY460,\"\")","v":""},"","","",""]
[null,null,null,null,null,null,null,null,null,null,null,null,null,null,null,null,null,null,null,null,null,null,null,null,null,null,{"$f":"+IF(AF461=\"\",\"\",MAX(AA$1:AA460)+1)","v":""},{"$f":"IF('Excess Emissions'!B483=\"\",\"\",'Excess Emissions'!B483)","v":""},{"$f":"IF('Excess Emissions'!C483=\"\",\"\",'Excess Emissions'!C483)","v":""},{"$f":"IF('Excess Emissions'!D483=\"\",\"\",'Excess Emissions'!D483)","v":""},"",{"$f":"IF(COUNTIF(AE$2:AE461,AE461)=1,AC461,\"\")","v":""},"","","",null,{"$f":"+IF(AP461=\"\",\"\",MAX(AK$1:AK460)+1)","v":""},{"$f":"IF('CMS Downtime Detail'!B483=\"\",\"\",'CMS Downtime Detail'!B483)","v":""},{"$f":"IF('CMS Downtime Detail'!C483=\"\",\"\",'CMS Downtime Detail'!C483)","v":""},{"$f":"IF('CMS Downtime Detail'!D483=\"\",\"\",'CMS Downtime Detail'!D483)","v":""},"",{"$f":"IF(COUNTIF(AO$2:AO461,AO461)=1,AM461,\"\")","v":""},"","","",null,{"$f":"+IF(AZ461=\"\",\"\",MAX(AU$1:AU460)+1)","v":""},{"$f":"IF('Process and CMS Information'!B483=\"\",\"\",'Process and CMS Information'!B483)","v":""},{"$f":"IF('Process and CMS Information'!C483=\"\",\"\",'Process and CMS Information'!C483)","v":""},{"$f":"IF('Process and CMS Information'!F483=\"\",\"\",'Process and CMS Information'!F483)","v":""},"",{"$f":"IF(COUNTIF(AY$2:AY461,AY461)=1,AY461,\"\")","v":""},"","","",""]
[null,null,null,null,null,null,null,null,null,null,null,null,null,null,null,null,null,null,null,null,null,null,null,null,null,null,{"$f":"+IF(AF462=\"\",\"\",MAX(AA$1:AA461)+1)","v":""},{"$f":"IF('Excess Emissions'!B484=\"\",\"\",'Excess Emissions'!B484)","v":""},{"$f":"IF('Excess Emissions'!C484=\"\",\"\",'Excess Emissions'!C484)","v":""},{"$f":"IF('Excess Emissions'!D484=\"\",\"\",'Excess Emissions'!D484)","v":""},"",{"$f":"IF(COUNTIF(AE$2:AE462,AE462)=1,AC462,\"\")","v":""},"","","",null,{"$f":"+IF(AP462=\"\",\"\",MAX(AK$1:AK461)+1)","v":""},{"$f":"IF('CMS Downtime Detail'!B484=\"\",\"\",'CMS Downtime Detail'!B484)","v":""},{"$f":"IF('CMS Downtime Detail'!C484=\"\",\"\",'CMS Downtime Detail'!C484)","v":""},{"$f":"IF('CMS Downtime Detail'!D484=\"\",\"\",'CMS Downtime Detail'!D484)","v":""},"",{"$f":"IF(COUNTIF(AO$2:AO462,AO462)=1,AM462,\"\")","v":""},"","","",null,{"$f":"+IF(AZ462=\"\",\"\",MAX(AU$1:AU461)+1)","v":""},{"$f":"IF('Process and CMS Information'!B484=\"\",\"\",'Process and CMS Information'!B484)","v":""},{"$f":"IF('Process and CMS Information'!C484=\"\",\"\",'Process and CMS Information'!C484)","v":""},{"$f":"IF('Process and CMS Information'!F484=\"\",\"\",'Process and CMS Information'!F484)","v":""},"",{"$f":"IF(COUNTIF(AY$2:AY462,AY462)=1,AY462,\"\")","v":""},"","","",""]
[null,null,null,null,null,null,null,null,null,null,null,null,null,null,null,null,null,null,null,null,null,null,null,null,null,null,{"$f":"+IF(AF463=\"\",\"\",MAX(AA$1:AA462)+1)","v":""},{"$f":"IF('Excess Emissions'!B485=\"\",\"\",'Excess Emissions'!B485)","v":""},{"$f":"IF('Excess Emissions'!C485=\"\",\"\",'Excess Emissions'!C485)","v":""},{"$f":"IF('Excess Emissions'!D485=\"\",\"\",'Excess Emissions'!D485)","v":""},"",{"$f":"IF(COUNTIF(AE$2:AE463,AE463)=1,AC463,\"\")","v":""},"","","",null,{"$f":"+IF(AP463=\"\",\"\",MAX(AK$1:AK462)+1)","v":""},{"$f":"IF('CMS Downtime Detail'!B485=\"\",\"\",'CMS Downtime Detail'!B485)","v":""},{"$f":"IF('CMS Downtime Detail'!C485=\"\",\"\",'CMS Downtime Detail'!C485)","v":""},{"$f":"IF('CMS Downtime Detail'!D485=\"\",\"\",'CMS Downtime Detail'!D485)","v":""},"",{"$f":"IF(COUNTIF(AO$2:AO463,AO463)=1,AM463,\"\")","v":""},"","","",null,{"$f":"+IF(AZ463=\"\",\"\",MAX(AU$1:AU462)+1)","v":""},{"$f":"IF('Process and CMS Information'!B485=\"\",\"\",'Process and CMS Information'!B485)","v":""},{"$f":"IF('Process and CMS Information'!C485=\"\",\"\",'Process and CMS Information'!C485)","v":""},{"$f":"IF('Process and CMS Information'!F485=\"\",\"\",'Process and CMS Information'!F485)","v":""},"",{"$f":"IF(COUNTIF(AY$2:AY463,AY463)=1,AY463,\"\")","v":""},"","","",""]
[null,null,null,null,null,null,null,null,null,null,null,null,null,null,null,null,null,null,null,null,null,null,null,null,null,null,{"$f":"+IF(AF464=\"\",\"\",MAX(AA$1:AA463)+1)","v":""},{"$f":"IF('Excess Emissions'!B486=\"\",\"\",'Excess Emissions'!B486)","v":""},{"$f":"IF('Excess Emissions'!C486=\"\",\"\",'Excess Emissions'!C486)","v":""},{"$f":"IF('Excess Emissions'!D486=\"\",\"\",'Excess Emissions'!D486)","v":""},"",{"$f":"IF(COUNTIF(AE$2:AE464,AE464)=1,AC464,\"\")","v":""},"","","",null,{"$f":"+IF(AP464=\"\",\"\",MAX(AK$1:AK463)+1)","v":""},{"$f":"IF('CMS Downtime Detail'!B486=\"\",\"\",'CMS Downtime Detail'!B486)","v":""},{"$f":"IF('CMS Downtime Detail'!C486=\"\",\"\",'CMS Downtime Detail'!C486)","v":""},{"$f":"IF('CMS Downtime Detail'!D486=\"\",\"\",'CMS Downtime Detail'!D486)","v":""},"",{"$f":"IF(COUNTIF(AO$2:AO464,AO464)=1,AM464,\"\")","v":""},"","","",null,{"$f":"+IF(AZ464=\"\",\"\",MAX(AU$1:AU463)+1)","v":""},{"$f":"IF('Process and CMS Information'!B486=\"\",\"\",'Process and CMS Information'!B486)","v":""},{"$f":"IF('Process and CMS Information'!C486=\"\",\"\",'Process and CMS Information'!C486)","v":""},{"$f":"IF('Process and CMS Information'!F486=\"\",\"\",'Process and CMS Information'!F486)","v":""},"",{"$f":"IF(COUNTIF(AY$2:AY464,AY464)=1,AY464,\"\")","v":""},"","","",""]
[null,null,null,null,null,null,null,null,null,null,null,null,null,null,null,null,null,null,null,null,null,null,null,null,null,null,{"$f":"+IF(AF465=\"\",\"\",MAX(AA$1:AA464)+1)","v":""},{"$f":"IF('Excess Emissions'!B487=\"\",\"\",'Excess Emissions'!B487)","v":""},{"$f":"IF('Excess Emissions'!C487=\"\",\"\",'Excess Emissions'!C487)","v":""},{"$f":"IF('Excess Emissions'!D487=\"\",\"\",'Excess Emissions'!D487)","v":""},"",{"$f":"IF(COUNTIF(AE$2:AE465,AE465)=1,AC465,\"\")","v":""},"","","",null,{"$f":"+IF(AP465=\"\",\"\",MAX(AK$1:AK464)+1)","v":""},{"$f":"IF('CMS Downtime Detail'!B487=\"\",\"\",'CMS Downtime Detail'!B487)","v":""},{"$f":"IF('CMS Downtime Detail'!C487=\"\",\"\",'CMS Downtime Detail'!C487)","v":""},{"$f":"IF('CMS Downtime Detail'!D487=\"\",\"\",'CMS Downtime Detail'!D487)","v":""},"",{"$f":"IF(COUNTIF(AO$2:AO465,AO465)=1,AM465,\"\")","v":""},"","","",null,{"$f":"+IF(AZ465=\"\",\"\",MAX(AU$1:AU464)+1)","v":""},{"$f":"IF('Process and CMS Information'!B487=\"\",\"\",'Process and CMS Information'!B487)","v":""},{"$f":"IF('Process and CMS Information'!C487=\"\",\"\",'Process and CMS Information'!C487)","v":""},{"$f":"IF('Process and CMS Information'!F487=\"\",\"\",'Process and CMS Information'!F487)","v":""},"",{"$f":"IF(COUNTIF(AY$2:AY465,AY465)=1,AY465,\"\")","v":""},"","","",""]
[null,null,null,null,null,null,null,null,null,null,null,null,null,null,null,null,null,null,null,null,null,null,null,null,null,null,{"$f":"+IF(AF466=\"\",\"\",MAX(AA$1:AA465)+1)","v":""},{"$f":"IF('Excess Emissions'!B488=\"\",\"\",'Excess Emissions'!B488)","v":""},{"$f":"IF('Excess Emissions'!C488=\"\",\"\",'Excess Emissions'!C488)","v":""},{"$f":"IF('Excess Emissions'!D488=\"\",\"\",'Excess Emissions'!D488)","v":""},"",{"$f":"IF(COUNTIF(AE$2:AE466,AE466)=1,AC466,\"\")","v":""},"","","",null,{"$f":"+IF(AP466=\"\",\"\",MAX(AK$1:AK465)+1)","v":""},{"$f":"IF('CMS Downtime Detail'!B488=\"\",\"\",'CMS Downtime Detail'!B488)","v":""},{"$f":"IF('CMS Downtime Detail'!C488=\"\",\"\",'CMS Downtime Detail'!C488)","v":""},{"$f":"IF('CMS Downtime Detail'!D488=\"\",\"\",'CMS Downtime Detail'!D488)","v":""},"",{"$f":"IF(COUNTIF(AO$2:AO466,AO466)=1,AM466,\"\")","v":""},"","","",null,{"$f":"+IF(AZ466=\"\",\"\",MAX(AU$1:AU465)+1)","v":""},{"$f":"IF('Process and CMS Information'!B488=\"\",\"\",'Process and CMS Information'!B488)","v":""},{"$f":"IF('Process and CMS Information'!C488=\"\",\"\",'Process and CMS Information'!C488)","v":""},{"$f":"IF('Process and CMS Information'!F488=\"\",\"\",'Process and CMS Information'!F488)","v":""},"",{"$f":"IF(COUNTIF(AY$2:AY466,AY466)=1,AY466,\"\")","v":""},"","","",""]
[null,null,null,null,null,null,null,null,null,null,null,null,null,null,null,null,null,null,null,null,null,null,null,null,null,null,{"$f":"+IF(AF467=\"\",\"\",MAX(AA$1:AA466)+1)","v":""},{"$f":"IF('Excess Emissions'!B489=\"\",\"\",'Excess Emissions'!B489)","v":""},{"$f":"IF('Excess Emissions'!C489=\"\",\"\",'Excess Emissions'!C489)","v":""},{"$f":"IF('Excess Emissions'!D489=\"\",\"\",'Excess Emissions'!D489)","v":""},"",{"$f":"IF(COUNTIF(AE$2:AE467,AE467)=1,AC467,\"\")","v":""},"","","",null,{"$f":"+IF(AP467=\"\",\"\",MAX(AK$1:AK466)+1)","v":""},{"$f":"IF('CMS Downtime Detail'!B489=\"\",\"\",'CMS Downtime Detail'!B489)","v":""},{"$f":"IF('CMS Downtime Detail'!C489=\"\",\"\",'CMS Downtime Detail'!C489)","v":""},{"$f":"IF('CMS Downtime Detail'!D489=\"\",\"\",'CMS Downtime Detail'!D489)","v":""},"",{"$f":"IF(COUNTIF(AO$2:AO467,AO467)=1,AM467,\"\")","v":""},"","","",null,{"$f":"+IF(AZ467=\"\",\"\",MAX(AU$1:AU466)+1)","v":""},{"$f":"IF('Process and CMS Information'!B489=\"\",\"\",'Process and CMS Information'!B489)","v":""},{"$f":"IF('Process and CMS Information'!C489=\"\",\"\",'Process and CMS Information'!C489)","v":""},{"$f":"IF('Process and CMS Information'!F489=\"\",\"\",'Process and CMS Information'!F489)","v":""},"",{"$f":"IF(COUNTIF(AY$2:AY467,AY467)=1,AY467,\"\")","v":""},"","","",""]
[null,null,null,null,null,null,null,null,null,null,null,null,null,null,null,null,null,null,null,null,null,null,null,null,null,null,{"$f":"+IF(AF468=\"\",\"\",MAX(AA$1:AA467)+1)","v":""},{"$f":"IF('Excess Emissions'!B490=\"\",\"\",'Excess Emissions'!B490)","v":""},{"$f":"IF('Excess Emissions'!C490=\"\",\"\",'Excess Emissions'!C490)","v":""},{"$f":"IF('Excess Emissions'!D490=\"\",\"\",'Excess Emissions'!D490)","v":""},"",{"$f":"IF(COUNTIF(AE$2:AE468,AE468)=1,AC468,\"\")","v":""},"","","",null,{"$f":"+IF(AP468=\"\",\"\",MAX(AK$1:AK467)+1)","v":""},{"$f":"IF('CMS Downtime Detail'!B490=\"\",\"\",'CMS Downtime Detail'!B490)","v":""},{"$f":"IF('CMS Downtime Detail'!C490=\"\",\"\",'CMS Downtime Detail'!C490)","v":""},{"$f":"IF('CMS Downtime Detail'!D490=\"\",\"\",'CMS Downtime Detail'!D490)","v":""},"",{"$f":"IF(COUNTIF(AO$2:AO468,AO468)=1,AM468,\"\")","v":""},"","","",null,{"$f":"+IF(AZ468=\"\",\"\",MAX(AU$1:AU467)+1)","v":""},{"$f":"IF('Process and CMS Information'!B490=\"\",\"\",'Process and CMS Information'!B490)","v":""},{"$f":"IF('Process and CMS Information'!C490=\"\",\"\",'Process and CMS Information'!C490)","v":""},{"$f":"IF('Process and CMS Information'!F490=\"\",\"\",'Process and CMS Information'!F490)","v":""},"",{"$f":"IF(COUNTIF(AY$2:AY468,AY468)=1,AY468,\"\")","v":""},"","","",""]
[null,null,null,null,null,null,null,null,null,null,null,null,null,null,null,null,null,null,null,null,null,null,null,null,null,null,{"$f":"+IF(AF469=\"\",\"\",MAX(AA$1:AA468)+1)","v":""},{"$f":"IF('Excess Emissions'!B491=\"\",\"\",'Excess Emissions'!B491)","v":""},{"$f":"IF('Excess Emissions'!C491=\"\",\"\",'Excess Emissions'!C491)","v":""},{"$f":"IF('Excess Emissions'!D491=\"\",\"\",'Excess Emissions'!D491)","v":""},"",{"$f":"IF(COUNTIF(AE$2:AE469,AE469)=1,AC469,\"\")","v":""},"","","",null,{"$f":"+IF(AP469=\"\",\"\",MAX(AK$1:AK468)+1)","v":""},{"$f":"IF('CMS Downtime Detail'!B491=\"\",\"\",'CMS Downtime Detail'!B491)","v":""},{"$f":"IF('CMS Downtime Detail'!C491=\"\",\"\",'CMS Downtime Detail'!C491)","v":""},{"$f":"IF('CMS Downtime Detail'!D491=\"\",\"\",'CMS Downtime Detail'!D491)","v":""},"",{"$f":"IF(COUNTIF(AO$2:AO469,AO469)=1,AM469,\"\")","v":""},"","","",null,{"$f":"+IF(AZ469=\"\",\"\",MAX(AU$1:AU468)+1)","v":""},{"$f":"IF('Process and CMS Information'!B491=\"\",\"\",'Process and CMS Information'!B491)","v":""},{"$f":"IF('Process and CMS Information'!C491=\"\",\"\",'Process and CMS Information'!C491)","v":""},{"$f":"IF('Process and CMS Information'!F491=\"\",\"\",'Process and CMS Information'!F491)","v":""},"",{"$f":"IF(COUNTIF(AY$2:AY469,AY469)=1,AY469,\"\")","v":""},"","","",""]
[null,null,null,null,null,null,null,null,null,null,null,null,null,null,null,null,null,null,null,null,null,null,null,null,null,null,{"$f":"+IF(AF470=\"\",\"\",MAX(AA$1:AA469)+1)","v":""},{"$f":"IF('Excess Emissions'!B492=\"\",\"\",'Excess Emissions'!B492)","v":""},{"$f":"IF('Excess Emissions'!C492=\"\",\"\",'Excess Emissions'!C492)","v":""},{"$f":"IF('Excess Emissions'!D492=\"\",\"\",'Excess Emissions'!D492)","v":""},"",{"$f":"IF(COUNTIF(AE$2:AE470,AE470)=1,AC470,\"\")","v":""},"","","",null,{"$f":"+IF(AP470=\"\",\"\",MAX(AK$1:AK469)+1)","v":""},{"$f":"IF('CMS Downtime Detail'!B492=\"\",\"\",'CMS Downtime Detail'!B492)","v":""},{"$f":"IF('CMS Downtime Detail'!C492=\"\",\"\",'CMS Downtime Detail'!C492)","v":""},{"$f":"IF('CMS Downtime Detail'!D492=\"\",\"\",'CMS Downtime Detail'!D492)","v":""},"",{"$f":"IF(COUNTIF(AO$2:AO470,AO470)=1,AM470,\"\")","v":""},"","","",null,{"$f":"+IF(AZ470=\"\",\"\",MAX(AU$1:AU469)+1)","v":""},{"$f":"IF('Process and CMS Information'!B492=\"\",\"\",'Process and CMS Information'!B492)","v":""},{"$f":"IF('Process and CMS Information'!C492=\"\",\"\",'Process and CMS Information'!C492)","v":""},{"$f":"IF('Process and CMS Information'!F492=\"\",\"\",'Process and CMS Information'!F492)","v":""},"",{"$f":"IF(COUNTIF(AY$2:AY470,AY470)=1,AY470,\"\")","v":""},"","","",""]
[null,null,null,null,null,null,null,null,null,null,null,null,null,null,null,null,null,null,null,null,null,null,null,null,null,null,{"$f":"+IF(AF471=\"\",\"\",MAX(AA$1:AA470)+1)","v":""},{"$f":"IF('Excess Emissions'!B493=\"\",\"\",'Excess Emissions'!B493)","v":""},{"$f":"IF('Excess Emissions'!C493=\"\",\"\",'Excess Emissions'!C493)","v":""},{"$f":"IF('Excess Emissions'!D493=\"\",\"\",'Excess Emissions'!D493)","v":""},"",{"$f":"IF(COUNTIF(AE$2:AE471,AE471)=1,AC471,\"\")","v":""},"","","",null,{"$f":"+IF(AP471=\"\",\"\",MAX(AK$1:AK470)+1)","v":""},{"$f":"IF('CMS Downtime Detail'!B493=\"\",\"\",'CMS Downtime Detail'!B493)","v":""},{"$f":"IF('CMS Downtime Detail'!C493=\"\",\"\",'CMS Downtime Detail'!C493)","v":""},{"$f":"IF('CMS Downtime Detail'!D493=\"\",\"\",'CMS Downtime Detail'!D493)","v":""},"",{"$f":"IF(COUNTIF(AO$2:AO471,AO471)=1,AM471,\"\")","v":""},"","","",null,{"$f":"+IF(AZ471=\"\",\"\",MAX(AU$1:AU470)+1)","v":""},{"$f":"IF('Process and CMS Information'!B493=\"\",\"\",'Process and CMS Information'!B493)","v":""},{"$f":"IF('Process and CMS Information'!C493=\"\",\"\",'Process and CMS Information'!C493)","v":""},{"$f":"IF('Process and CMS Information'!F493=\"\",\"\",'Process and CMS Information'!F493)","v":""},"",{"$f":"IF(COUNTIF(AY$2:AY471,AY471)=1,AY471,\"\")","v":""},"","","",""]
[null,null,null,null,null,null,null,null,null,null,null,null,null,null,null,null,null,null,null,null,null,null,null,null,null,null,{"$f":"+IF(AF472=\"\",\"\",MAX(AA$1:AA471)+1)","v":""},{"$f":"IF('Excess Emissions'!B494=\"\",\"\",'Excess Emissions'!B494)","v":""},{"$f":"IF('Excess Emissions'!C494=\"\",\"\",'Excess Emissions'!C494)","v":""},{"$f":"IF('Excess Emissions'!D494=\"\",\"\",'Excess Emissions'!D494)","v":""},"",{"$f":"IF(COUNTIF(AE$2:AE472,AE472)=1,AC472,\"\")","v":""},"","","",null,{"$f":"+IF(AP472=\"\",\"\",MAX(AK$1:AK471)+1)","v":""},{"$f":"IF('CMS Downtime Detail'!B494=\"\",\"\",'CMS Downtime Detail'!B494)","v":""},{"$f":"IF('CMS Downtime Detail'!C494=\"\",\"\",'CMS Downtime Detail'!C494)","v":""},{"$f":"IF('CMS Downtime Detail'!D494=\"\",\"\",'CMS Downtime Detail'!D494)","v":""},"",{"$f":"IF(COUNTIF(AO$2:AO472,AO472)=1,AM472,\"\")","v":""},"","","",null,{"$f":"+IF(AZ472=\"\",\"\",MAX(AU$1:AU471)+1)","v":""},{"$f":"IF('Process and CMS Information'!B494=\"\",\"\",'Process and CMS Information'!B494)","v":""},{"$f":"IF('Process and CMS Information'!C494=\"\",\"\",'Process and CMS Information'!C494)","v":""},{"$f":"IF('Process and CMS Information'!F494=\"\",\"\",'Process and CMS Information'!F494)","v":""},"",{"$f":"IF(COUNTIF(AY$2:AY472,AY472)=1,AY472,\"\")","v":""},"","","",""]
[null,null,null,null,null,null,null,null,null,null,null,null,null,null,null,null,null,null,null,null,null,null,null,null,null,null,{"$f":"+IF(AF473=\"\",\"\",MAX(AA$1:AA472)+1)","v":""},{"$f":"IF('Excess Emissions'!B495=\"\",\"\",'Excess Emissions'!B495)","v":""},{"$f":"IF('Excess Emissions'!C495=\"\",\"\",'Excess Emissions'!C495)","v":""},{"$f":"IF('Excess Emissions'!D495=\"\",\"\",'Excess Emissions'!D495)","v":""},"",{"$f":"IF(COUNTIF(AE$2:AE473,AE473)=1,AC473,\"\")","v":""},"","","",null,{"$f":"+IF(AP473=\"\",\"\",MAX(AK$1:AK472)+1)","v":""},{"$f":"IF('CMS Downtime Detail'!B495=\"\",\"\",'CMS Downtime Detail'!B495)","v":""},{"$f":"IF('CMS Downtime Detail'!C495=\"\",\"\",'CMS Downtime Detail'!C495)","v":""},{"$f":"IF('CMS Downtime Detail'!D495=\"\",\"\",'CMS Downtime Detail'!D495)","v":""},"",{"$f":"IF(COUNTIF(AO$2:AO473,AO473)=1,AM473,\"\")","v":""},"","","",null,{"$f":"+IF(AZ473=\"\",\"\",MAX(AU$1:AU472)+1)","v":""},{"$f":"IF('Process and CMS Information'!B495=\"\",\"\",'Process and CMS Information'!B495)","v":""},{"$f":"IF('Process and CMS Information'!C495=\"\",\"\",'Process and CMS Information'!C495)","v":""},{"$f":"IF('Process and CMS Information'!F495=\"\",\"\",'Process and CMS Information'!F495)","v":""},"",{"$f":"IF(COUNTIF(AY$2:AY473,AY473)=1,AY473,\"\")","v":""},"","","",""]
[null,null,null,null,null,null,null,null,null,null,null,null,null,null,null,null,null,null,null,null,null,null,null,null,null,null,{"$f":"+IF(AF474=\"\",\"\",MAX(AA$1:AA473)+1)","v":""},{"$f":"IF('Excess Emissions'!B496=\"\",\"\",'Excess Emissions'!B496)","v":""},{"$f":"IF('Excess Emissions'!C496=\"\",\"\",'Excess Emissions'!C496)","v":""},{"$f":"IF('Excess Emissions'!D496=\"\",\"\",'Excess Emissions'!D496)","v":""},"",{"$f":"IF(COUNTIF(AE$2:AE474,AE474)=1,AC474,\"\")","v":""},"","","",null,{"$f":"+IF(AP474=\"\",\"\",MAX(AK$1:AK473)+1)","v":""},{"$f":"IF('CMS Downtime Detail'!B496=\"\",\"\",'CMS Downtime Detail'!B496)","v":""},{"$f":"IF('CMS Downtime Detail'!C496=\"\",\"\",'CMS Downtime Detail'!C496)","v":""},{"$f":"IF('CMS Downtime Detail'!D496=\"\",\"\",'CMS Downtime Detail'!D496)","v":""},"",{"$f":"IF(COUNTIF(AO$2:AO474,AO474)=1,AM474,\"\")","v":""},"","","",null,{"$f":"+IF(AZ474=\"\",\"\",MAX(AU$1:AU473)+1)","v":""},{"$f":"IF('Process and CMS Information'!B496=\"\",\"\",'Process and CMS Information'!B496)","v":""},{"$f":"IF('Process and CMS Information'!C496=\"\",\"\",'Process and CMS Information'!C496)","v":""},{"$f":"IF('Process and CMS Information'!F496=\"\",\"\",'Process and CMS Information'!F496)","v":""},"",{"$f":"IF(COUNTIF(AY$2:AY474,AY474)=1,AY474,\"\")","v":""},"","","",""]
[null,null,null,null,null,null,null,null,null,null,null,null,null,null,null,null,null,null,null,null,null,null,null,null,null,null,{"$f":"+IF(AF475=\"\",\"\",MAX(AA$1:AA474)+1)","v":""},{"$f":"IF('Excess Emissions'!B497=\"\",\"\",'Excess Emissions'!B497)","v":""},{"$f":"IF('Excess Emissions'!C497=\"\",\"\",'Excess Emissions'!C497)","v":""},{"$f":"IF('Excess Emissions'!D497=\"\",\"\",'Excess Emissions'!D497)","v":""},"",{"$f":"IF(COUNTIF(AE$2:AE475,AE475)=1,AC475,\"\")","v":""},"","","",null,{"$f":"+IF(AP475=\"\",\"\",MAX(AK$1:AK474)+1)","v":""},{"$f":"IF('CMS Downtime Detail'!B497=\"\",\"\",'CMS Downtime Detail'!B497)","v":""},{"$f":"IF('CMS Downtime Detail'!C497=\"\",\"\",'CMS Downtime Detail'!C497)","v":""},{"$f":"IF('CMS Downtime Detail'!D497=\"\",\"\",'CMS Downtime Detail'!D497)","v":""},"",{"$f":"IF(COUNTIF(AO$2:AO475,AO475)=1,AM475,\"\")","v":""},"","","",null,{"$f":"+IF(AZ475=\"\",\"\",MAX(AU$1:AU474)+1)","v":""},{"$f":"IF('Process and CMS Information'!B497=\"\",\"\",'Process and CMS Information'!B497)","v":""},{"$f":"IF('Process and CMS Information'!C497=\"\",\"\",'Process and CMS Information'!C497)","v":""},{"$f":"IF('Process and CMS Information'!F497=\"\",\"\",'Process and CMS Information'!F497)","v":""},"",{"$f":"IF(COUNTIF(AY$2:AY475,AY475)=1,AY475,\"\")","v":""},"","","",""]
[null,null,null,null,null,null,null,null,null,null,null,null,null,null,null,null,null,null,null,null,null,null,null,null,null,null,{"$f":"+IF(AF476=\"\",\"\",MAX(AA$1:AA475)+1)","v":""},{"$f":"IF('Excess Emissions'!B498=\"\",\"\",'Excess Emissions'!B498)","v":""},{"$f":"IF('Excess Emissions'!C498=\"\",\"\",'Excess Emissions'!C498)","v":""},{"$f":"IF('Excess Emissions'!D498=\"\",\"\",'Excess Emissions'!D498)","v":""},"",{"$f":"IF(COUNTIF(AE$2:AE476,AE476)=1,AC476,\"\")","v":""},"","","",null,{"$f":"+IF(AP476=\"\",\"\",MAX(AK$1:AK475)+1)","v":""},{"$f":"IF('CMS Downtime Detail'!B498=\"\",\"\",'CMS Downtime Detail'!B498)","v":""},{"$f":"IF('CMS Downtime Detail'!C498=\"\",\"\",'CMS Downtime Detail'!C498)","v":""},{"$f":"IF('CMS Downtime Detail'!D498=\"\",\"\",'CMS Downtime Detail'!D498)","v":""},"",{"$f":"IF(COUNTIF(AO$2:AO476,AO476)=1,AM476,\"\")","v":""},"","","",null,{"$f":"+IF(AZ476=\"\",\"\",MAX(AU$1:AU475)+1)","v":""},{"$f":"IF('Process and CMS Information'!B498=\"\",\"\",'Process and CMS Information'!B498)","v":""},{"$f":"IF('Process and CMS Information'!C498=\"\",\"\",'Process and CMS Information'!C498)","v":""},{"$f":"IF('Process and CMS Information'!F498=\"\",\"\",'Process and CMS Information'!F498)","v":""},"",{"$f":"IF(COUNTIF(AY$2:AY476,AY476)=1,AY476,\"\")","v":""},"","","",""]
[null,null,null,null,null,null,null,null,null,null,null,null,null,null,null,null,null,null,null,null,null,null,null,null,null,null,{"$f":"+IF(AF477=\"\",\"\",MAX(AA$1:AA476)+1)","v":""},{"$f":"IF('Excess Emissions'!B499=\"\",\"\",'Excess Emissions'!B499)","v":""},{"$f":"IF('Excess Emissions'!C499=\"\",\"\",'Excess Emissions'!C499)","v":""},{"$f":"IF('Excess Emissions'!D499=\"\",\"\",'Excess Emissions'!D499)","v":""},"",{"$f":"IF(COUNTIF(AE$2:AE477,AE477)=1,AC477,\"\")","v":""},"","","",null,{"$f":"+IF(AP477=\"\",\"\",MAX(AK$1:AK476)+1)","v":""},{"$f":"IF('CMS Downtime Detail'!B499=\"\",\"\",'CMS Downtime Detail'!B499)","v":""},{"$f":"IF('CMS Downtime Detail'!C499=\"\",\"\",'CMS Downtime Detail'!C499)","v":""},{"$f":"IF('CMS Downtime Detail'!D499=\"\",\"\",'CMS Downtime Detail'!D499)","v":""},"",{"$f":"IF(COUNTIF(AO$2:AO477,AO477)=1,AM477,\"\")","v":""},"","","",null,{"$f":"+IF(AZ477=\"\",\"\",MAX(AU$1:AU476)+1)","v":""},{"$f":"IF('Process and CMS Information'!B499=\"\",\"\",'Process and CMS Information'!B499)","v":""},{"$f":"IF('Process and CMS Information'!C499=\"\",\"\",'Process and CMS Information'!C499)","v":""},{"$f":"IF('Process and CMS Information'!F499=\"\",\"\",'Process and CMS Information'!F499)","v":""},"",{"$f":"IF(COUNTIF(AY$2:AY477,AY477)=1,AY477,\"\")","v":""},"","","",""]
[null,null,null,null,null,null,null,null,null,null,null,null,null,null,null,null,null,null,null,null,null,null,null,null,null,null,{"$f":"+IF(AF478=\"\",\"\",MAX(AA$1:AA477)+1)","v":""},{"$f":"IF('Excess Emissions'!B500=\"\",\"\",'Excess Emissions'!B500)","v":""},{"$f":"IF('Excess Emissions'!C500=\"\",\"\",'Excess Emissions'!C500)","v":""},{"$f":"IF('Excess Emissions'!D500=\"\",\"\",'Excess Emissions'!D500)","v":""},"",{"$f":"IF(COUNTIF(AE$2:AE478,AE478)=1,AC478,\"\")","v":""},"","","",null,{"$f":"+IF(AP478=\"\",\"\",MAX(AK$1:AK477)+1)","v":""},{"$f":"IF('CMS Downtime Detail'!B500=\"\",\"\",'CMS Downtime Detail'!B500)","v":""},{"$f":"IF('CMS Downtime Detail'!C500=\"\",\"\",'CMS Downtime Detail'!C500)","v":""},{"$f":"IF('CMS Downtime Detail'!D500=\"\",\"\",'CMS Downtime Detail'!D500)","v":""},"",{"$f":"IF(COUNTIF(AO$2:AO478,AO478)=1,AM478,\"\")","v":""},"","","",null,{"$f":"+IF(AZ478=\"\",\"\",MAX(AU$1:AU477)+1)","v":""},{"$f":"IF('Process and CMS Information'!B500=\"\",\"\",'Process and CMS Information'!B500)","v":""},{"$f":"IF('Process and CMS Information'!C500=\"\",\"\",'Process and CMS Information'!C500)","v":""},{"$f":"IF('Process and CMS Information'!F500=\"\",\"\",'Process and CMS Information'!F500)","v":""},"",{"$f":"IF(COUNTIF(AY$2:AY478,AY478)=1,AY478,\"\")","v":""},"","","",""]
[null,null,null,null,null,null,null,null,null,null,null,null,null,null,null,null,null,null,null,null,null,null,null,null,null,null,null,null,null,null,null,null,null,null,null,null,null,null,null,null,null,null,null,null,null,null,{"$f":"+IF(AZ479=\"\",\"\",MAX(AU$1:AU478)+1)","v":""},{"$f":"IF('Process and CMS Information'!B501=\"\",\"\",'Process and CMS Information'!B501)","v":""},{"$f":"IF('Process and CMS Information'!C501=\"\",\"\",'Process and CMS Information'!C501)","v":""},{"$f":"IF('Process and CMS Information'!F501=\"\",\"\",'Process and CMS Information'!F501)","v":""},"",{"$f":"IF(COUNTIF(AY$2:AY479,AY479)=1,AY479,\"\")","v":""},"","","",""]
[null,null,null,null,null,null,null,null,null,null,null,null,null,null,null,null,null,null,null,null,null,null,null,null,null,null,null,null,null,null,null,null,null,null,null,null,null,null,null,null,null,null,null,null,null,null,{"$f":"+IF(AZ480=\"\",\"\",MAX(AU$1:AU479)+1)","v":""},{"$f":"IF('Process and CMS Information'!B502=\"\",\"\",'Process and CMS Information'!B502)","v":""},{"$f":"IF('Process and CMS Information'!C502=\"\",\"\",'Process and CMS Information'!C502)","v":""},{"$f":"IF('Process and CMS Information'!F502=\"\",\"\",'Process and CMS Information'!F502)","v":""},"",{"$f":"IF(COUNTIF(AY$2:AY480,AY480)=1,AY480,\"\")","v":""},"","","",""]
[null,null,null,null,null,null,null,null,null,null,null,null,null,null,null,null,null,null,null,null,null,null,null,null,null,null,null,null,null,null,null,null,null,null,null,null,null,null,null,null,null,null,null,null,null,null,{"$f":"+IF(AZ481=\"\",\"\",MAX(AU$1:AU480)+1)","v":""},{"$f":"IF('Process and CMS Information'!B503=\"\",\"\",'Process and CMS Information'!B503)","v":""},{"$f":"IF('Process and CMS Information'!C503=\"\",\"\",'Process and CMS Information'!C503)","v":""},{"$f":"IF('Process and CMS Information'!F503=\"\",\"\",'Process and CMS Information'!F503)","v":""},"",{"$f":"IF(COUNTIF(AY$2:AY481,AY481)=1,AY481,\"\")","v":""},"","","",""]
[null,null,null,null,null,null,null,null,null,null,null,null,null,null,null,null,null,null,null,null,null,null,null,null,null,null,null,null,null,null,null,null,null,null,null,null,null,null,null,null,null,null,null,null,null,null,{"$f":"+IF(AZ482=\"\",\"\",MAX(AU$1:AU481)+1)","v":""},{"$f":"IF('Process and CMS Information'!B504=\"\",\"\",'Process and CMS Information'!B504)","v":""},{"$f":"IF('Process and CMS Information'!C504=\"\",\"\",'Process and CMS Information'!C504)","v":""},{"$f":"IF('Process and CMS Information'!F504=\"\",\"\",'Process and CMS Information'!F504)","v":""},"",{"$f":"IF(COUNTIF(AY$2:AY482,AY482)=1,AY482,\"\")","v":""},"","","",""]
[null,null,null,null,null,null,null,null,null,null,null,null,null,null,null,null,null,null,null,null,null,null,null,null,null,null,null,null,null,null,null,null,null,null,null,null,null,null,null,null,null,null,null,null,null,null,{"$f":"+IF(AZ483=\"\",\"\",MAX(AU$1:AU482)+1)","v":""},{"$f":"IF('Process and CMS Information'!B505=\"\",\"\",'Process and CMS Information'!B505)","v":""},{"$f":"IF('Process and CMS Information'!C505=\"\",\"\",'Process and CMS Information'!C505)","v":""},{"$f":"IF('Process and CMS Information'!F505=\"\",\"\",'Process and CMS Information'!F505)","v":""},"",{"$f":"IF(COUNTIF(AY$2:AY483,AY483)=1,AY483,\"\")","v":""},"","","",""]
[null,null,null,null,null,null,null,null,null,null,null,null,null,null,null,null,null,null,null,null,null,null,null,null,null,null,null,null,null,null,null,null,null,null,null,null,null,null,null,null,null,null,null,null,null,null,{"$f":"+IF(AZ484=\"\",\"\",MAX(AU$1:AU483)+1)","v":""},{"$f":"IF('Process and CMS Information'!B506=\"\",\"\",'Process and CMS Information'!B506)","v":""},{"$f":"IF('Process and CMS Information'!C506=\"\",\"\",'Process and CMS Information'!C506)","v":""},{"$f":"IF('Process and CMS Information'!F506=\"\",\"\",'Process and CMS Information'!F506)","v":""},"",{"$f":"IF(COUNTIF(AY$2:AY484,AY484)=1,AY484,\"\")","v":""},"","","",""]
[null,null,null,null,null,null,null,null,null,null,null,null,null,null,null,null,null,null,null,null,null,null,null,null,null,null,null,null,null,null,null,null,null,null,null,null,null,null,null,null,null,null,null,null,null,null,{"$f":"+IF(AZ485=\"\",\"\",MAX(AU$1:AU484)+1)","v":""},{"$f":"IF('Process and CMS Information'!B507=\"\",\"\",'Process and CMS Information'!B507)","v":""},{"$f":"IF('Process and CMS Information'!C507=\"\",\"\",'Process and CMS Information'!C507)","v":""},{"$f":"IF('Process and CMS Information'!F507=\"\",\"\",'Process and CMS Information'!F507)","v":""},"",{"$f":"IF(COUNTIF(AY$2:AY485,AY485)=1,AY485,\"\")","v":""},"","","",""]
[null,null,null,null,null,null,null,null,null,null,null,null,null,null,null,null,null,null,null,null,null,null,null,null,null,null,null,null,null,null,null,null,null,null,null,null,null,null,null,null,null,null,null,null,null,null,{"$f":"+IF(AZ486=\"\",\"\",MAX(AU$1:AU485)+1)","v":""},{"$f":"IF('Process and CMS Information'!B508=\"\",\"\",'Process and CMS Information'!B508)","v":""},{"$f":"IF('Process and CMS Information'!C508=\"\",\"\",'Process and CMS Information'!C508)","v":""},{"$f":"IF('Process and CMS Information'!F508=\"\",\"\",'Process and CMS Information'!F508)","v":""},"",{"$f":"IF(COUNTIF(AY$2:AY486,AY486)=1,AY486,\"\")","v":""},"","","",""]
[null,null,null,null,null,null,null,null,null,null,null,null,null,null,null,null,null,null,null,null,null,null,null,null,null,null,null,null,null,null,null,null,null,null,null,null,null,null,null,null,null,null,null,null,null,null,{"$f":"+IF(AZ487=\"\",\"\",MAX(AU$1:AU486)+1)","v":""},{"$f":"IF('Process and CMS Information'!B509=\"\",\"\",'Process and CMS Information'!B509)","v":""},{"$f":"IF('Process and CMS Information'!C509=\"\",\"\",'Process and CMS Information'!C509)","v":""},{"$f":"IF('Process and CMS Information'!F509=\"\",\"\",'Process and CMS Information'!F509)","v":""},"",{"$f":"IF(COUNTIF(AY$2:AY487,AY487)=1,AY487,\"\")","v":""},"","","",""]
[null,null,null,null,null,null,null,null,null,null,null,null,null,null,null,null,null,null,null,null,null,null,null,null,null,null,null,null,null,null,null,null,null,null,null,null,null,null,null,null,null,null,null,null,null,null,{"$f":"+IF(AZ488=\"\",\"\",MAX(AU$1:AU487)+1)","v":""},{"$f":"IF('Process and CMS Information'!B510=\"\",\"\",'Process and CMS Information'!B510)","v":""},{"$f":"IF('Process and CMS Information'!C510=\"\",\"\",'Process and CMS Information'!C510)","v":""},{"$f":"IF('Process and CMS Information'!F510=\"\",\"\",'Process and CMS Information'!F510)","v":""},"",{"$f":"IF(COUNTIF(AY$2:AY488,AY488)=1,AY488,\"\")","v":""},"","","",""]
[null,null,null,null,null,null,null,null,null,null,null,null,null,null,null,null,null,null,null,null,null,null,null,null,null,null,null,null,null,null,null,null,null,null,null,null,null,null,null,null,null,null,null,null,null,null,{"$f":"+IF(AZ489=\"\",\"\",MAX(AU$1:AU488)+1)","v":""},{"$f":"IF('Process and CMS Information'!B511=\"\",\"\",'Process and CMS Information'!B511)","v":""},{"$f":"IF('Process and CMS Information'!C511=\"\",\"\",'Process and CMS Information'!C511)","v":""},{"$f":"IF('Process and CMS Information'!F511=\"\",\"\",'Process and CMS Information'!F511)","v":""},"",{"$f":"IF(COUNTIF(AY$2:AY489,AY489)=1,AY489,\"\")","v":""},"","","",""]
[null,null,null,null,null,null,null,null,null,null,null,null,null,null,null,null,null,null,null,null,null,null,null,null,null,null,null,null,null,null,null,null,null,null,null,null,null,null,null,null,null,null,null,null,null,null,{"$f":"+IF(AZ490=\"\",\"\",MAX(AU$1:AU489)+1)","v":""},{"$f":"IF('Process and CMS Information'!B512=\"\",\"\",'Process and CMS Information'!B512)","v":""},{"$f":"IF('Process and CMS Information'!C512=\"\",\"\",'Process and CMS Information'!C512)","v":""},{"$f":"IF('Process and CMS Information'!F512=\"\",\"\",'Process and CMS Information'!F512)","v":""},"",{"$f":"IF(COUNTIF(AY$2:AY490,AY490)=1,AY490,\"\")","v":""},"","","",""]
[null,null,null,null,null,null,null,null,null,null,null,null,null,null,null,null,null,null,null,null,null,null,null,null,null,null,null,null,null,null,null,null,null,null,null,null,null,null,null,null,null,null,null,null,null,null,{"$f":"+IF(AZ491=\"\",\"\",MAX(AU$1:AU490)+1)","v":""},{"$f":"IF('Process and CMS Information'!B513=\"\",\"\",'Process and CMS Information'!B513)","v":""},{"$f":"IF('Process and CMS Information'!C513=\"\",\"\",'Process and CMS Information'!C513)","v":""},{"$f":"IF('Process and CMS Information'!F513=\"\",\"\",'Process and CMS Information'!F513)","v":""},"",{"$f":"IF(COUNTIF(AY$2:AY491,AY491)=1,AY491,\"\")","v":""},"","","",""]
[null,null,null,null,null,null,null,null,null,null,null,null,null,null,null,null,null,null,null,null,null,null,null,null,null,null,null,null,null,null,null,null,null,null,null,null,null,null,null,null,null,null,null,null,null,null,{"$f":"+IF(AZ492=\"\",\"\",MAX(AU$1:AU491)+1)","v":""},{"$f":"IF('Process and CMS Information'!B514=\"\",\"\",'Process and CMS Information'!B514)","v":""},{"$f":"IF('Process and CMS Information'!C514=\"\",\"\",'Process and CMS Information'!C514)","v":""},{"$f":"IF('Process and CMS Information'!F514=\"\",\"\",'Process and CMS Information'!F514)","v":""},"",{"$f":"IF(COUNTIF(AY$2:AY492,AY492)=1,AY492,\"\")","v":""},"","","",""]
[null,null,null,null,null,null,null,null,null,null,null,null,null,null,null,null,null,null,null,null,null,null,null,null,null,null,null,null,null,null,null,null,null,null,null,null,null,null,null,null,null,null,null,null,null,null,{"$f":"+IF(AZ493=\"\",\"\",MAX(AU$1:AU492)+1)","v":""},{"$f":"IF('Process and CMS Information'!B515=\"\",\"\",'Process and CMS Information'!B515)","v":""},{"$f":"IF('Process and CMS Information'!C515=\"\",\"\",'Process and CMS Information'!C515)","v":""},{"$f":"IF('Process and CMS Information'!F515=\"\",\"\",'Process and CMS Information'!F515)","v":""},"",{"$f":"IF(COUNTIF(AY$2:AY493,AY493)=1,AY493,\"\")","v":""},"","","",""]
[null,null,null,null,null,null,null,null,null,null,null,null,null,null,null,null,null,null,null,null,null,null,null,null,null,null,null,null,null,null,null,null,null,null,null,null,null,null,null,null,null,null,null,null,null,null,{"$f":"+IF(AZ494=\"\",\"\",MAX(AU$1:AU493)+1)","v":""},{"$f":"IF('Process and CMS Information'!B516=\"\",\"\",'Process and CMS Information'!B516)","v":""},{"$f":"IF('Process and CMS Information'!C516=\"\",\"\",'Process and CMS Information'!C516)","v":""},{"$f":"IF('Process and CMS Information'!F516=\"\",\"\",'Process and CMS Information'!F516)","v":""},"",{"$f":"IF(COUNTIF(AY$2:AY494,AY494)=1,AY494,\"\")","v":""},"","","",""]
[null,null,null,null,null,null,null,null,null,null,null,null,null,null,null,null,null,null,null,null,null,null,null,null,null,null,null,null,null,null,null,null,null,null,null,null,null,null,null,null,null,null,null,null,null,null,{"$f":"+IF(AZ495=\"\",\"\",MAX(AU$1:AU494)+1)","v":""},{"$f":"IF('Process and CMS Information'!B517=\"\",\"\",'Process and CMS Information'!B517)","v":""},{"$f":"IF('Process and CMS Information'!C517=\"\",\"\",'Process and CMS Information'!C517)","v":""},{"$f":"IF('Process and CMS Information'!F517=\"\",\"\",'Process and CMS Information'!F517)","v":""},"",{"$f":"IF(COUNTIF(AY$2:AY495,AY495)=1,AY495,\"\")","v":""},"","","",""]
[null,null,null,null,null,null,null,null,null,null,null,null,null,null,null,null,null,null,null,null,null,null,null,null,null,null,null,null,null,null,null,null,null,null,null,null,null,null,null,null,null,null,null,null,null,null,{"$f":"+IF(AZ496=\"\",\"\",MAX(AU$1:AU495)+1)","v":""},{"$f":"IF('Process and CMS Information'!B518=\"\",\"\",'Process and CMS Information'!B518)","v":""},{"$f":"IF('Process and CMS Information'!C518=\"\",\"\",'Process and CMS Information'!C518)","v":""},{"$f":"IF('Process and CMS Information'!F518=\"\",\"\",'Process and CMS Information'!F518)","v":""},"",{"$f":"IF(COUNTIF(AY$2:AY496,AY496)=1,AY496,\"\")","v":""},"","","",""]
[null,null,null,null,null,null,null,null,null,null,null,null,null,null,null,null,null,null,null,null,null,null,null,null,null,null,null,null,null,null,null,null,null,null,null,null,null,null,null,null,null,null,null,null,null,null,{"$f":"+IF(AZ497=\"\",\"\",MAX(AU$1:AU496)+1)","v":""},{"$f":"IF('Process and CMS Information'!B519=\"\",\"\",'Process and CMS Information'!B519)","v":""},{"$f":"IF('Process and CMS Information'!C519=\"\",\"\",'Process and CMS Information'!C519)","v":""},{"$f":"IF('Process and CMS Information'!F519=\"\",\"\",'Process and CMS Information'!F519)","v":""},"",{"$f":"IF(COUNTIF(AY$2:AY497,AY497)=1,AY497,\"\")","v":""},"","","",""]
[null,null,null,null,null,null,null,null,null,null,null,null,null,null,null,null,null,null,null,null,null,null,null,null,null,null,null,null,null,null,null,null,null,null,null,null,null,null,null,null,null,null,null,null,null,null,{"$f":"+IF(AZ498=\"\",\"\",MAX(AU$1:AU497)+1)","v":""},{"$f":"IF('Process and CMS Information'!B520=\"\",\"\",'Process and CMS Information'!B520)","v":""},{"$f":"IF('Process and CMS Information'!C520=\"\",\"\",'Process and CMS Information'!C520)","v":""},{"$f":"IF('Process and CMS Information'!F520=\"\",\"\",'Process and CMS Information'!F520)","v":""},"",{"$f":"IF(COUNTIF(AY$2:AY498,AY498)=1,AY498,\"\")","v":""},"","","",""]
[null,null,null,null,null,null,null,null,null,null,null,null,null,null,null,null,null,null,null,null,null,null,null,null,null,null,null,null,null,null,null,null,null,null,null,null,null,null,null,null,null,null,null,null,null,null,{"$f":"+IF(AZ499=\"\",\"\",MAX(AU$1:AU498)+1)","v":""},{"$f":"IF('Process and CMS Information'!B521=\"\",\"\",'Process and CMS Information'!B521)","v":""},{"$f":"IF('Process and CMS Information'!C521=\"\",\"\",'Process and CMS Information'!C521)","v":""},{"$f":"IF('Process and CMS Information'!F521=\"\",\"\",'Process and CMS Information'!F521)","v":""},"",{"$f":"IF(COUNTIF(AY$2:AY499,AY499)=1,AY499,\"\")","v":""},"","","",""]
[null,null,null,null,null,null,null,null,null,null,null,null,null,null,null,null,null,null,null,null,null,null,null,null,null,null,null,null,null,null,null,null,null,null,null,null,null,null,null,null,null,null,null,null,null,null,{"$f":"+IF(AZ500=\"\",\"\",MAX(AU$1:AU499)+1)","v":""},{"$f":"IF('Process and CMS Information'!B522=\"\",\"\",'Process and CMS Information'!B522)","v":""},{"$f":"IF('Process and CMS Information'!C522=\"\",\"\",'Process and CMS Information'!C522)","v":""},{"$f":"IF('Process and CMS Information'!F522=\"\",\"\",'Process and CMS Information'!F522)","v":""},"",{"$f":"IF(COUNTIF(AY$2:AY500,AY500)=1,AY500,\"\")","v":""},"","","",""]

{"sheet":"Worksheet Map","index":20,"n_rows":17,"n_cols":5,"rows_kept":17,"cut":false,"hidden":true,"merged":[]}
["Worksheet Name","Parent","JSON Key","Parent Primary Key","Child Foreign Key"]
["Company Information",null,"records"]
["Certifications","records","Certifications","RecordId","RecordId"]
["Process and CMS Information","records","ProcessandCMSInformation","RecordId","RecordId"]
["Periodic Performance Testing","records","PeriodicPerformanceTesting","RecordId","RecordId"]
["Sterilization Chambers","records","SterilizationChambers","RecordId","RecordId"]
["Rooms","records","Rooms","RecordId","RecordId"]
["EtO CEMS Averages","records","EtOCEMSAverages","RecordId","RecordId"]
["PTE","records","PTE","RecordId","RecordId"]
["NDO Inspection","records","NDOInspection","RecordId","RecordId"]
["Emissions Summary","records","EmissionsSummary","RecordId","RecordId"]
["Excess Emissions","records","ExcessEmissions","RecordId","RecordId"]
["Excess Emissions Summary","records","ExcessEmissionsSummary","RecordId","RecordId"]
["CMS Downtime Detail","records","CMSDowntimeDetail","RecordId","RecordId"]
["CMS Downtime Summary","records","CMSDowntimeSummary ","RecordId","RecordId"]
["CMS Downtime Summary Only","records","CMSDowntimeSummaryOnly","RecordId","RecordId"]
["Description of Changes","records","DescriptionofChanges","RecordId","RecordId"]